{"text_format":"1","workbook":"xlsx","n_sheets":32,"sheets":["Sample Report","Summary","Start","!M830810.101","!M831850.101","!M901740.101","!M902850.101","!M903820.101","!M904830.101","!M905830.101","!M906820.101","!M907900.101","!M908820.101","!M909850.101","!M910820.101","!M911820.101","!M912920.101","!M913750.101","!M914930.101","!M915800.101","!M916920.101","!M917800.101","!M919910.101","!M920910.101","!M921840.101","!M922820.101","!M923920.101","!M924850.101","!M925640.101","!M926650.101","!M927750.101","!M928850.101"],"not_rendered":{"charts":0,"images":0,"macros":1,"external_links":0,"defined_names":0,"comments":0,"pivot_tables":0},"unopened":[],"bounds":{"document_bytes":16777216,"sheet_cells":100000,"rows_first":2000,"rows_last":500,"rows_between":2000,"halvings":0,"cell_chars":16384,"cell_head_chars":4096},"cells_cut":0,"cells_raw":0,"read":"whole","date_system":"1900"}

{"sheet":"Sample Report","index":0,"n_rows":12,"n_cols":11,"rows_kept":12,"cut":false,"hidden":true,"merged":[[7,0,7,6]]}
[]
["Date"]
["Hen"]
["Program"]
["Start at 999999"]
["Sequence component 1","Time 1","Seqeunce Component 2","Time 2","Seqeunce Component 3","Time 3","Correct   0 = No 1=Yes",null,null,"Seqeunce","Time"]
[12,7,12,42,13,18,"if 77 new line,                                  if 31 or 41 = yes new line on 77, ",null,null,"=string of Seqeunce compponent 1, 2 & 3","=time 3"]
["This continues until ther is a 1 on its own to indicate start of summary data"]
[null,null,null,null,null,null,null,null,null,"10-19 =1"]
["Summary Data ",null,null,null,null,null,null,null,null,"20-29 =2"]
["Correct","Incorrect","Rft","total","Av Correct","Av Incorrect","Percent correct","Time",null,"in this example the seqeunce would be 111"]
[40,33,40,73,23.95,15,54,806]

{"sheet":"Summary","index":1,"n_rows":32,"n_cols":24,"rows_kept":32,"cut":false,"hidden":false,"merged":[]}
[]
["Day","Date","Average Response Rate","Target %","RF for non correct sequence","U Value",null,null,null,null,"Block 1","Block 2","Block 3","Block 4","Block 5","Block 6"]
[1,{"$f":"'!M830810.101'!B2:C2","v":"<date>"},{"$f":"('!M830810.101'!F191/60)/'!M830810.101'!Q3","v":2.1595495495495496},{"$f":"'!M830810.101'!N20/'!M830810.101'!Q3","v":0},{"$f":"SUM('!M830810.101'!L20:Q20)/'!M830810.101'!Q3","v":0.99459459459459465},{"$f":"'!M830810.101'!Q16","v":0.10044990513942789},null,null,null,"Average Response Rate",{"$f":"AVERAGE(C3:C7)","v":2.1732968869293021},{"$f":"AVERAGE(C8:C12)","v":2.2646402568902451},{"$f":"AVERAGE(C13:C17)","v":2.3742058280390341},{"$f":"AVERAGE(C18:C22)","v":2.2236086932065642},{"$f":"AVERAGE(C23:C27)","v":2.1474053598579106},{"$f":"AVERAGE(C28:C32)","v":2.1646625463120306}]
[2,{"$f":"'!M831850.101'!B2:C2","v":"<date>"},{"$f":"('!M831850.101'!F198/60)/'!M831850.101'!Q3","v":2.0814236111111111},{"$f":"'!M831850.101'!N20/'!M831850.101'!Q3","v":0},{"$f":"SUM('!M831850.101'!L20:Q20)/'!M831850.101'!Q3","v":1.4895833333333333},{"$f":"'!M831850.101'!Q16","v":0.13370429018878341},null,null,null,"Target %",{"$f":"AVERAGE(D3:D7)","v":0},{"$f":"AVERAGE(D8:D12)","v":0},{"$f":"AVERAGE(D13:D17)","v":0},{"$f":"AVERAGE(D18:D22)","v":0},{"$f":"AVERAGE(D23:D27)","v":2.2598870056497176E-3},{"$f":"AVERAGE(D28:D32)","v":0}]
[3,{"$f":"'!M901740.101'!B2:C2","v":"<date>"},{"$f":"('!M901740.101'!F186/60)/'!M901740.101'!Q3","v":2.2200000000000002},{"$f":"'!M901740.101'!N20/'!M901740.101'!Q3","v":0},{"$f":"SUM('!M901740.101'!L20:Q20)/'!M901740.101'!Q3","v":1.0111111111111111},{"$f":"'!M901740.101'!Q16","v":0.13450487865470531},null,null,null,"CCRF",{"$f":"AVERAGE(E3:E7)","v":1.2154908510205122},{"$f":"AVERAGE(E8:E12)","v":1.3711118816622609},{"$f":"AVERAGE(E13:E17)","v":1.2883659933069005},{"$f":"AVERAGE(E18:E22)","v":1.4611610656672751},{"$f":"AVERAGE(E23:E27)","v":1.4271319167791021},{"$f":"AVERAGE(E28:E32)","v":1.5389845549639365}]
[4,{"$f":"'!M902850.101'!B2:C2","v":"<date>"},{"$f":"('!M902850.101'!F183/60)/'!M902850.101'!Q3","v":2.252448210922787},{"$f":"'!M902850.101'!N20/'!M902850.101'!Q3","v":0},{"$f":"SUM('!M902850.101'!L20:Q20)/'!M902850.101'!Q3","v":1.5875706214689265},{"$f":"'!M902850.101'!Q16","v":0.13957214526755393},null,null,null,"U Value",{"$f":"AVERAGE(F3:F7)","v":0.13149374949875109},{"$f":"AVERAGE(F8:F12)","v":0.12845523784476207},{"$f":"AVERAGE(F13:F17)","v":0.15876140329689822},{"$f":"AVERAGE(F18:F22)","v":9.5543735691707016E-2},{"$f":"AVERAGE(F23:F27)","v":2.5462275707238784E-2},{"$f":"AVERAGE(F28:F32)","v":1.303434795989384E-2}]
[5,{"$f":"'!M903820.101'!B2:C2","v":"<date>"},{"$f":"('!M903820.101'!F191/60)/'!M903820.101'!Q3","v":2.1530630630630632},{"$f":"'!M903820.101'!N20/'!M903820.101'!Q3","v":0},{"$f":"SUM('!M903820.101'!L20:Q20)/'!M903820.101'!Q3","v":0.99459459459459465},{"$f":"'!M903820.101'!Q16","v":0.14923752824328496}]
[6,{"$f":"'!M904830.101'!B2:C2","v":"<date>"},{"$f":"('!M904830.101'!F187/60)/'!M904830.101'!Q3","v":2.2084714548802946},{"$f":"'!M904830.101'!N20/'!M904830.101'!Q3","v":0},{"$f":"SUM('!M904830.101'!L20:Q20)/'!M904830.101'!Q3","v":1.0055248618784531},{"$f":"'!M904830.101'!Q16","v":0.14665887130591068}]
[7,{"$f":"'!M905830.101'!B2:C2","v":"<date>"},{"$f":"('!M905830.101'!F185/60)/'!M905830.101'!Q3","v":2.2132407407407406},{"$f":"'!M905830.101'!N20/'!M905830.101'!Q3","v":0},{"$f":"SUM('!M905830.101'!L20:Q20)/'!M905830.101'!Q3","v":1.0111111111111111},{"$f":"'!M905830.101'!Q16","v":0.14034564780391021},{"$f":"K3","v":2.1732968869293021},2.2646402568902451,2.3742058280390341,2.2236086932065642,2.1474053598579106,2.1646625463120306,{"$f":"K4","v":0},0,0,0,2.2598870056497176E-3,0,{"$f":"K6","v":0.13149374949875109},0.12845523784476207,0.15876140329689822,9.5543735691707016E-2,2.5462275707238784E-2,1.303434795989384E-2]
[8,{"$f":"'!M906820.101'!B2:C2","v":"<date>"},{"$f":"('!M906820.101'!F183/60)/'!M906820.101'!Q3","v":2.2514124293785311},{"$f":"'!M906820.101'!N20/'!M906820.101'!Q3","v":0},{"$f":"SUM('!M906820.101'!L20:Q20)/'!M906820.101'!Q3","v":1.5875706214689265},{"$f":"'!M906820.101'!Q16","v":0.13676684902796715}]
[9,{"$f":"'!M907900.101'!B2:C2","v":"<date>"},{"$f":"('!M907900.101'!F182/60)/'!M907900.101'!Q3","v":2.2713068181818183},{"$f":"'!M907900.101'!N20/'!M907900.101'!Q3","v":0},{"$f":"SUM('!M907900.101'!L20:Q20)/'!M907900.101'!Q3","v":1.5965909090909092},{"$f":"'!M907900.101'!Q16","v":0.10875870521182399}]
[10,{"$f":"'!M908820.101'!B2:C2","v":"<date>"},{"$f":"('!M908820.101'!F174/60)/'!M908820.101'!Q3","v":2.378769841269841},{"$f":"'!M908820.101'!N20/'!M908820.101'!Q3","v":0},{"$f":"SUM('!M908820.101'!L20:Q20)/'!M908820.101'!Q3","v":1.6547619047619047},{"$f":"'!M908820.101'!Q16","v":0.10974611587419832}]
[11,{"$f":"'!M909850.101'!B2:C2","v":"<date>"},{"$f":"('!M909850.101'!F148/60)/'!M909850.101'!Q3","v":2.7822843822843821},{"$f":"'!M909850.101'!N20/'!M909850.101'!Q3","v":0},{"$f":"SUM('!M909850.101'!L20:Q20)/'!M909850.101'!Q3","v":1.1888111888111887},{"$f":"'!M909850.101'!Q16","v":0.1624352974690948}]
[12,{"$f":"'!M910820.101'!B2:C2","v":"<date>"},{"$f":"('!M910820.101'!F186/60)/'!M910820.101'!Q3","v":2.2202777777777776},{"$f":"'!M910820.101'!N20/'!M910820.101'!Q3","v":0},{"$f":"SUM('!M910820.101'!L20:Q20)/'!M910820.101'!Q3","v":1.0111111111111111},{"$f":"'!M910820.101'!Q16","v":0.17901710045633731}]
[13,{"$f":"'!M911820.101'!B2:C2","v":"<date>"},{"$f":"('!M911820.101'!F174/60)/'!M911820.101'!Q3","v":2.3763888888888891},{"$f":"'!M911820.101'!N20/'!M911820.101'!Q3","v":0},{"$f":"SUM('!M911820.101'!L20:Q20)/'!M911820.101'!Q3","v":1.6547619047619047},{"$f":"'!M911820.101'!Q16","v":0.1539993297652803}]
[14,{"$f":"'!M912920.101'!B2:C2","v":"<date>"},{"$f":"('!M912920.101'!F177/60)/'!M912920.101'!Q3","v":2.3136627906976743},{"$f":"'!M912920.101'!N20/'!M912920.101'!Q3","v":0},{"$f":"SUM('!M912920.101'!L20:Q20)/'!M912920.101'!Q3","v":1.0406976744186047},{"$f":"'!M912920.101'!Q16","v":0.15457793492931424}]
[15,{"$f":"'!M913750.101'!B2:C2","v":"<date>"},{"$f":"('!M913750.101'!F189/60)/'!M913750.101'!Q3","v":2.1784153005464479},{"$f":"'!M913750.101'!N20/'!M913750.101'!Q3","v":0},{"$f":"SUM('!M913750.101'!L20:Q20)/'!M913750.101'!Q3","v":1.5464480874316939},{"$f":"'!M913750.101'!Q16","v":0.14377735386446444}]
[16,{"$f":"'!M914930.101'!B2:C2","v":"<date>"},{"$f":"('!M914930.101'!F184/60)/'!M914930.101'!Q3","v":2.2397003745318353},{"$f":"'!M914930.101'!N20/'!M914930.101'!Q3","v":0},{"$f":"SUM('!M914930.101'!L20:Q20)/'!M914930.101'!Q3","v":1.5786516853932584},{"$f":"'!M914930.101'!Q16","v":0.14384407164796797}]
[17,{"$f":"'!M915800.101'!B2:C2","v":"<date>"},{"$f":"('!M915800.101'!F177/60)/'!M915800.101'!Q3","v":2.3355750487329434},{"$f":"'!M915800.101'!N20/'!M915800.101'!Q3","v":0},{"$f":"SUM('!M915800.101'!L20:Q20)/'!M915800.101'!Q3","v":1.631578947368421},{"$f":"'!M915800.101'!Q16","v":0.12150528680729143}]
[18,{"$f":"'!M916920.101'!B2:C2","v":"<date>"},{"$f":"('!M916920.101'!F188/60)/'!M916920.101'!Q3","v":2.1945970695970698},{"$f":"'!M916920.101'!N20/'!M916920.101'!Q3","v":0},{"$f":"SUM('!M916920.101'!L20:Q20)/'!M916920.101'!Q3","v":1.554945054945055},{"$f":"'!M916920.101'!Q16","v":9.5568763865463771E-2}]
[19,{"$f":"'!M917800.101'!B2:C2","v":"<date>"},{"$f":"('!M917800.101'!F191/60)/'!M917800.101'!Q3","v":2.1554054054054053},{"$f":"'!M917800.101'!N20/'!M917800.101'!Q3","v":0},{"$f":"SUM('!M917800.101'!L20:Q20)/'!M917800.101'!Q3","v":1.5351351351351352},{"$f":"'!M917800.101'!Q16","v":8.2150518887881316E-2}]
[20,{"$f":"'!M919910.101'!B2:C2","v":"<date>"},{"$f":"('!M919910.101'!F188/60)/'!M919910.101'!Q3","v":2.1927655677655675},{"$f":"'!M919910.101'!N20/'!M919910.101'!Q3","v":0},{"$f":"SUM('!M919910.101'!L20:Q20)/'!M919910.101'!Q3","v":1.0054945054945055},{"$f":"'!M919910.101'!Q16","v":3.4650037249930619E-2}]
[21,{"$f":"'!M920910.101'!B2:C2","v":"<date>"},{"$f":"('!M920910.101'!F198/60)/'!M920910.101'!Q3","v":2.0765625000000001},{"$f":"'!M920910.101'!N20/'!M920910.101'!Q3","v":0},{"$f":"SUM('!M920910.101'!L20:Q20)/'!M920910.101'!Q3","v":1.4895833333333333},{"$f":"'!M920910.101'!Q16","v":6.1963981795504584E-3}]
[22,{"$f":"'!M921840.101'!B2:C2","v":"<date>"},{"$f":"('!M921840.101'!F198/60)/'!M921840.101'!Q3","v":2.0822916666666669},{"$f":"'!M921840.101'!N20/'!M921840.101'!Q3","v":0},{"$f":"SUM('!M921840.101'!L20:Q20)/'!M921840.101'!Q3","v":0.96875},{"$f":"'!M921840.101'!Q16","v":3.2944433516899706E-2}]
[23,{"$f":"'!M922820.101'!B2:C2","v":"<date>"},{"$f":"('!M922820.101'!F198/60)/'!M922820.101'!Q3","v":2.0613989637305701},{"$f":"'!M922820.101'!N20/'!M922820.101'!Q3","v":0},{"$f":"SUM('!M922820.101'!L20:Q20)/'!M922820.101'!Q3","v":1.4818652849740932},{"$f":"'!M922820.101'!Q16","v":2.6450008723660805E-2}]
[24,{"$f":"'!M923920.101'!B2:C2","v":"<date>"},{"$f":"('!M923920.101'!F183/60)/'!M923920.101'!Q3","v":2.2478342749529192},{"$f":"'!M923920.101'!N20/'!M923920.101'!Q3","v":1.1299435028248588E-2},{"$f":"SUM('!M923920.101'!L20:Q20)/'!M923920.101'!Q3","v":1.5988700564971752},{"$f":"'!M923920.101'!Q16","v":3.6738784358946577E-2}]
[25,{"$f":"'!M924850.101'!B2:C2","v":"<date>"},{"$f":"('!M924850.101'!F182/60)/'!M924850.101'!Q3","v":2.268939393939394},{"$f":"'!M924850.101'!N20/'!M924850.101'!Q3","v":0},{"$f":"SUM('!M924850.101'!L20:Q20)/'!M924850.101'!Q3","v":1.5965909090909092},{"$f":"'!M924850.101'!Q16","v":2.498175375713638E-2}]
[26,{"$f":"'!M925640.101'!B2:C2","v":"<date>"},{"$f":"('!M925640.101'!F186/60)/'!M925640.101'!Q3","v":2.2174074074074075},{"$f":"'!M925640.101'!N20/'!M925640.101'!Q3","v":0},{"$f":"SUM('!M925640.101'!L20:Q20)/'!M925640.101'!Q3","v":1.5666666666666667},{"$f":"'!M925640.101'!Q16","v":2.8142877016879262E-2}]
[27,{"$f":"'!M926650.101'!B2:C2","v":"<date>"},{"$f":"('!M926650.101'!F188/60)/'!M926650.101'!Q3","v":2.1931318681318679},{"$f":"'!M926650.101'!N20/'!M926650.101'!Q3","v":0},{"$f":"SUM('!M926650.101'!L20:Q20)/'!M926650.101'!Q3","v":1.554945054945055},{"$f":"'!M926650.101'!Q16","v":6.5474217004839446E-3}]
[28,{"$f":"'!M927750.101'!B2:C2","v":"<date>"},{"$f":"('!M927750.101'!F188/60)/'!M927750.101'!Q3","v":2.1902930402930401},{"$f":"'!M927750.101'!N20/'!M927750.101'!Q3","v":0},{"$f":"SUM('!M927750.101'!L20:Q20)/'!M927750.101'!Q3","v":1.554945054945055},{"$f":"'!M927750.101'!Q16","v":6.5474217004839446E-3}]
[29,{"$f":"'!M928850.101'!B2:C2","v":"<date>"},{"$f":"('!M928850.101'!F200/60)/'!M928850.101'!Q3","v":2.0578178694158074},{"$f":"'!M928850.101'!N20/'!M928850.101'!Q3","v":0},{"$f":"SUM('!M928850.101'!L20:Q20)/'!M928850.101'!Q3","v":1.4793814432989691},{"$f":"'!M928850.101'!Q16","v":1.0899671421728204E-2}]
[30]

{"sheet":"Start","index":2,"n_rows":35,"n_cols":10,"rows_kept":35,"cut":false,"hidden":false,"merged":[]}
[null,null,null,null,null,"Use Folder 51",null,"Auto Clean Up",null,"Correct sequence"]
[null,null,null,null,null,false,null,true,null,211]
[]
["Working with Folder",null,null,null,null,null,"Process All/Or Pick A number: ALL or an integer"]
["E:\\Hen Data\\Raw Data\\101_181\\phase 1 any\\",null,null,null,null,null,"ALL"]
["Filenames:"]
["!M921840.101",null,null,null,null,null,"Paint Cells"]
["!M920910.101",null,null,null,null,null,false]
["!M919910.101"]
["!M917800.101"]
["!M916920.101"]
["!M915800.101"]
["!M914930.101"]
["!M913750.101"]
["!M912920.101"]
["!M911820.101"]
["!M910820.101"]
["!M909850.101"]
["!M908820.101"]
["!M907900.101"]
["!M906820.101"]
["!M905830.101"]
["!M904830.101"]
["!M903820.101"]
["!M902850.101"]
["!M901740.101"]
["!M831850.101"]
["!M830810.101"]
["!M927750.101"]
["!M926650.101"]
["!M925640.101"]
["!M924850.101"]
["!M923920.101"]
["!M922820.101"]
["!M928850.101"]

{"sheet":"!M830810.101","index":3,"n_rows":191,"n_cols":48,"rows_kept":191,"cut":false,"hidden":false,"merged":[[4,39,4,42],[5,39,5,40],[4,44,4,47],[5,44,5,45],[4,24,4,27],[5,24,5,25],[4,29,4,32],[5,29,5,30],[4,34,4,37],[5,34,5,35],[1,1,1,2],[5,13,5,14],[18,13,18,14],[19,13,19,14],[4,19,4,22],[5,19,5,20]]}
["Report for:!M830810.101"]
["Date:","<date>"]
["Hen:","<hen>",null,null,null,"Correct Sequence",{"$f":"Start!J2","v":211},null,null,null,null,null,null,null,null,"Total Sequences in Data",{"$f":"4994-COUNTBLANK(L7:L5000)","v":185},null,null,null,null,"Total Sequences in Block Data",{"$f":"COUNTA(L7:L37)","v":31},null,null,null,"Total Sequences in Block Data",{"$f":"COUNTA(L38:L68)","v":31},null,null,null,"Total Sequences in Block Data",{"$f":"COUNTA(L69:L98)","v":30},null,null,null,"Total Sequences in Block Data",{"$f":"COUNTA(L99:L129)","v":31},null,null,null,"Total Sequences in Block Data",{"$f":"COUNTA(L130:L160)","v":31},null,null,null,"Total Sequences in Block Data",{"$f":"COUNTA(L161:L191)","v":31}]
[null,null,null,null,null,null,null,null,null,null,null,null,null,null,null,"Total Sequences in Summary",{"$f":"SUM(O7:O14)","v":185},null,null,null,null,"Total Sequences in Block Summary",{"$f":"SUM(U7:U14)","v":31},null,null,null,"Total Sequences in Block Summary",{"$f":"SUM(Z7:Z14)","v":31},null,null,null,"Total Sequences in Block Summary",{"$f":"SUM(AE7:AE14)","v":30},null,null,null,"Total Sequences in Block Summary",{"$f":"SUM(AJ7:AJ14)","v":31},null,null,null,"Total Sequences in Block Summary",{"$f":"SUM(AO7:AO14)","v":31},null,null,null,"Total Sequences in Block Summary",{"$f":"SUM(AT7:AT14)","v":31}]
[null,null,null,null,null,null,null,null,null,null,null,null,null,null,null,null,null,null,null,"Block 1",null,null,null,null,"Block 2",null,null,null,null,"Block 3",null,null,null,null,"Block 4",null,null,null,null,"Block 5",null,null,null,null,"Block 6"]
["Sequence\nComponent\n1","Time\n1","Sequence\nComponent\n2","Time\n2","Sequence\nComponent\n3","Time\n3","Sequence\nComponent\n4","Time\n4","Sequence\nComponent\n5","Time\n5","Correct?\n0=No 1=Yes","Sequence",null,"Frequency",null,"Relative Frequency","Variability",null,null,"Frequency",null,"Relative Frequency","Variability",null,"Frequency",null,"Relative Frequency","Variability",null,"Frequency",null,"Relative Frequency","Variability",null,"Frequency",null,"Relative Frequency","Variability",null,"Frequency",null,"Relative Frequency","Variability",null,"Frequency",null,"Relative Frequency","Variability"]
[21,19,22,25,24,31,null,null,null,null,0,222,null,111,{"$f":"COUNTIF($L$7:$L$500,N7)","v":0},{"$f":"O7/$Q$4","v":0},{"$f":"IF(P7=0,0,(P7*((LOG(P7))/LOG(2))))","v":0},null,null,{"$f":"N7","v":111},{"$f":"COUNTIF(L7:L37,T7)","v":0},{"$f":"U7/(W4-U11)","v":0},{"$f":"IF(V7=0,0,(V7*((LOG(V7))/LOG(2))))","v":0},null,{"$f":"N7","v":111},{"$f":"COUNTIF(L38:L68,Y7)","v":0},{"$f":"Z7/(AB4-Z11)","v":0},{"$f":"IF(AA7=0,0,(AA7*((LOG(AA7))/LOG(2))))","v":0},null,{"$f":"N7","v":111},{"$f":"COUNTIF(L69:L98,AD7)","v":0},{"$f":"AE7/(AG4-AE11)","v":0},{"$f":"IF(AF7=0,0,(AF7*((LOG(AF7))/LOG(2))))","v":0},null,{"$f":"N7","v":111},{"$f":"COUNTIF(L99:L129,AI7)","v":0},{"$f":"AJ7/(AL4-AJ11)","v":0},{"$f":"IF(AK7=0,0,(AK7*((LOG(AK7))/LOG(2))))","v":0},null,{"$f":"N7","v":111},{"$f":"COUNTIF(L130:L160,AN7)","v":0},{"$f":"AO7/(AQ4-AO11)","v":0},{"$f":"IF(AP7=0,0,(AP7*((LOG(AP7))/LOG(2))))","v":0},null,{"$f":"N7","v":111},{"$f":"COUNTIF(L161:L191,AS7)","v":0},{"$f":"AT7/(AV4-AT11)","v":0},{"$f":"IF(AU7=0,0,(AU7*((LOG(AU7))/LOG(2))))","v":0}]
[21,141,22,148,24,156,null,null,null,null,0,222,null,112,{"$f":"COUNTIF($L$7:$L$500,N8)","v":6},{"$f":"O8/$Q$4","v":3.2432432432432434E-2},{"$f":"IF(P8=0,0,(P8*((LOG(P8))/LOG(2))))","v":-0.16042439869605912},null,null,{"$f":"N8","v":112},{"$f":"COUNTIF(L7:L37,T8)","v":0},{"$f":"U8/(W4-U11)","v":0},{"$f":"IF(V8=0,0,(V8*((LOG(V8))/LOG(2))))","v":0},null,{"$f":"N8","v":112},{"$f":"COUNTIF(L38:L68,Y8)","v":1},{"$f":"Z8/(AB4-Z11)","v":3.2258064516129031E-2},{"$f":"IF(AA8=0,0,(AA8*((LOG(AA8))/LOG(2))))","v":-0.15981278420602821},null,{"$f":"N8","v":112},{"$f":"COUNTIF(L69:L98,AD8)","v":3},{"$f":"AE8/(AG4-AE11)","v":0.1},{"$f":"IF(AF8=0,0,(AF8*((LOG(AF8))/LOG(2))))","v":-0.33219280948873625},null,{"$f":"N8","v":112},{"$f":"COUNTIF(L99:L129,AI8)","v":2},{"$f":"AJ8/(AL4-AJ11)","v":6.4516129032258063E-2},{"$f":"IF(AK8=0,0,(AK8*((LOG(AK8))/LOG(2))))","v":-0.25510943937979835},null,{"$f":"N8","v":112},{"$f":"COUNTIF(L130:L160,AN8)","v":0},{"$f":"AO8/(AQ4-AO11)","v":0},{"$f":"IF(AP8=0,0,(AP8*((LOG(AP8))/LOG(2))))","v":0},null,{"$f":"N8","v":112},{"$f":"COUNTIF(L161:L191,AS8)","v":0},{"$f":"AT8/(AV4-AT11)","v":0},{"$f":"IF(AU8=0,0,(AU8*((LOG(AU8))/LOG(2))))","v":0}]
[21,269,22,274,24,282,null,null,null,null,0,222,null,121,{"$f":"COUNTIF($L$7:$L$500,N9)","v":0},{"$f":"O9/$Q$4","v":0},{"$f":"IF(P9=0,0,(P9*((LOG(P9))/LOG(2))))","v":0},null,null,{"$f":"N9","v":121},{"$f":"COUNTIF(L7:L37,T9)","v":0},{"$f":"U9/(W4-U11)","v":0},{"$f":"IF(V9=0,0,(V9*((LOG(V9))/LOG(2))))","v":0},null,{"$f":"N9","v":121},{"$f":"COUNTIF(L38:L68,Y9)","v":0},{"$f":"Z9/(AB4-Z11)","v":0},{"$f":"IF(AA9=0,0,(AA9*((LOG(AA9))/LOG(2))))","v":0},null,{"$f":"N9","v":121},{"$f":"COUNTIF(L69:L98,AD9)","v":0},{"$f":"AE9/(AG4-AE11)","v":0},{"$f":"IF(AF9=0,0,(AF9*((LOG(AF9))/LOG(2))))","v":0},null,{"$f":"N9","v":121},{"$f":"COUNTIF(L99:L129,AI9)","v":0},{"$f":"AJ9/(AL4-AJ11)","v":0},{"$f":"IF(AK9=0,0,(AK9*((LOG(AK9))/LOG(2))))","v":0},null,{"$f":"N9","v":121},{"$f":"COUNTIF(L130:L160,AN9)","v":0},{"$f":"AO9/(AQ4-AO11)","v":0},{"$f":"IF(AP9=0,0,(AP9*((LOG(AP9))/LOG(2))))","v":0},null,{"$f":"N9","v":121},{"$f":"COUNTIF(L161:L191,AS9)","v":0},{"$f":"AT9/(AV4-AT11)","v":0},{"$f":"IF(AU9=0,0,(AU9*((LOG(AU9))/LOG(2))))","v":0}]
[21,386,22,391,24,403,null,null,null,null,0,222,null,122,{"$f":"COUNTIF($L$7:$L$500,N10)","v":155},{"$f":"O10/$Q$4","v":0.83783783783783783},{"$f":"IF(P10=0,0,(P10*((LOG(P10))/LOG(2))))","v":-0.21386401925687332},null,null,{"$f":"N10","v":122},{"$f":"COUNTIF(L7:L37,T10)","v":18},{"$f":"U10/(W4-U11)","v":0.58064516129032262},{"$f":"IF(V10=0,0,(V10*((LOG(V10))/LOG(2))))","v":-0.45538334067748809},null,{"$f":"N10","v":122},{"$f":"COUNTIF(L38:L68,Y10)","v":27},{"$f":"Z10/(AB4-Z11)","v":0.87096774193548387},{"$f":"IF(AA10=0,0,(AA10*((LOG(AA10))/LOG(2))))","v":-0.17359154264619289},null,{"$f":"N10","v":122},{"$f":"COUNTIF(L69:L98,AD10)","v":25},{"$f":"AE10/(AG4-AE11)","v":0.83333333333333337},{"$f":"IF(AF10=0,0,(AF10*((LOG(AF10))/LOG(2))))","v":-0.21919533819482812},null,{"$f":"N10","v":122},{"$f":"COUNTIF(L99:L129,AI10)","v":27},{"$f":"AJ10/(AL4-AJ11)","v":0.87096774193548387},{"$f":"IF(AK10=0,0,(AK10*((LOG(AK10))/LOG(2))))","v":-0.17359154264619289},null,{"$f":"N10","v":122},{"$f":"COUNTIF(L130:L160,AN10)","v":27},{"$f":"AO10/(AQ4-AO11)","v":0.87096774193548387},{"$f":"IF(AP10=0,0,(AP10*((LOG(AP10))/LOG(2))))","v":-0.17359154264619289},null,{"$f":"N10","v":122},{"$f":"COUNTIF(L161:L191,AS10)","v":31},{"$f":"AT10/(AV4-AT11)","v":1},{"$f":"IF(AU10=0,0,(AU10*((LOG(AU10))/LOG(2))))","v":0}]
[21,540,22,552,24,561,null,null,null,null,0,222,null,211,{"$f":"COUNTIF($L$7:$L$500,N11)","v":0},{"$f":"O11/$Q$4","v":0},{"$f":"IF(P11=0,0,(P11*((LOG(P11))/LOG(2))))","v":0},null,null,{"$f":"N11","v":211},{"$f":"COUNTIF(L7:L37,T11)","v":0},null,null,null,{"$f":"N11","v":211},{"$f":"COUNTIF(L38:L68,Y11)","v":0},null,null,null,{"$f":"N11","v":211},{"$f":"COUNTIF(L69:L98,AD11)","v":0},null,null,null,{"$f":"N11","v":211},{"$f":"COUNTIF(L99:L129,AI11)","v":0},null,null,null,{"$f":"N11","v":211},{"$f":"COUNTIF(L130:L160,AN11)","v":0},null,null,null,{"$f":"N11","v":211},{"$f":"COUNTIF(L161:L191,AS11)","v":0}]
[21,670,22,693,24,710,null,null,null,null,0,222,null,212,{"$f":"COUNTIF($L$7:$L$500,N12)","v":0},{"$f":"O12/$Q$4","v":0},{"$f":"IF(P12=0,0,(P12*((LOG(P12))/LOG(2))))","v":0},null,null,{"$f":"N12","v":212},{"$f":"COUNTIF(L7:L37,T12)","v":0},{"$f":"U12/(W4-U11)","v":0},{"$f":"IF(V12=0,0,(V12*((LOG(V12))/LOG(2))))","v":0},null,{"$f":"N12","v":212},{"$f":"COUNTIF(L38:L68,Y12)","v":0},{"$f":"Z12/(AB4-Z11)","v":0},{"$f":"IF(AA12=0,0,(AA12*((LOG(AA12))/LOG(2))))","v":0},null,{"$f":"N12","v":212},{"$f":"COUNTIF(L69:L98,AD12)","v":0},{"$f":"AE12/(AG4-AE11)","v":0},{"$f":"IF(AF12=0,0,(AF12*((LOG(AF12))/LOG(2))))","v":0},null,{"$f":"N12","v":212},{"$f":"COUNTIF(L99:L129,AI12)","v":0},{"$f":"AJ12/(AL4-AJ11)","v":0},{"$f":"IF(AK12=0,0,(AK12*((LOG(AK12))/LOG(2))))","v":0},null,{"$f":"N12","v":212},{"$f":"COUNTIF(L130:L160,AN12)","v":0},{"$f":"AO12/(AQ4-AO11)","v":0},{"$f":"IF(AP12=0,0,(AP12*((LOG(AP12))/LOG(2))))","v":0},null,{"$f":"N12","v":212},{"$f":"COUNTIF(L161:L191,AS12)","v":0},{"$f":"AT12/(AV4-AT11)","v":0},{"$f":"IF(AU12=0,0,(AU12*((LOG(AU12))/LOG(2))))","v":0}]
[21,813,22,824,24,833,null,null,null,null,0,222,null,221,{"$f":"COUNTIF($L$7:$L$500,N13)","v":0},{"$f":"O13/$Q$4","v":0},{"$f":"IF(P13=0,0,(P13*((LOG(P13))/LOG(2))))","v":0},null,null,{"$f":"N13","v":221},{"$f":"COUNTIF(L7:L37,T13)","v":0},{"$f":"U13/(W4-U11)","v":0},{"$f":"IF(V13=0,0,(V13*((LOG(V13))/LOG(2))))","v":0},null,{"$f":"N13","v":221},{"$f":"COUNTIF(L38:L68,Y13)","v":0},{"$f":"Z13/(AB4-Z11)","v":0},{"$f":"IF(AA13=0,0,(AA13*((LOG(AA13))/LOG(2))))","v":0},null,{"$f":"N13","v":221},{"$f":"COUNTIF(L69:L98,AD13)","v":0},{"$f":"AE13/(AG4-AE11)","v":0},{"$f":"IF(AF13=0,0,(AF13*((LOG(AF13))/LOG(2))))","v":0},null,{"$f":"N13","v":221},{"$f":"COUNTIF(L99:L129,AI13)","v":0},{"$f":"AJ13/(AL4-AJ11)","v":0},{"$f":"IF(AK13=0,0,(AK13*((LOG(AK13))/LOG(2))))","v":0},null,{"$f":"N13","v":221},{"$f":"COUNTIF(L130:L160,AN13)","v":0},{"$f":"AO13/(AQ4-AO11)","v":0},{"$f":"IF(AP13=0,0,(AP13*((LOG(AP13))/LOG(2))))","v":0},null,{"$f":"N13","v":221},{"$f":"COUNTIF(L161:L191,AS13)","v":0},{"$f":"AT13/(AV4-AT11)","v":0},{"$f":"IF(AU13=0,0,(AU13*((LOG(AU13))/LOG(2))))","v":0}]
[12,930,24,942,24,959,null,null,null,null,0,122,null,222,{"$f":"COUNTIF($L$7:$L$500,N14)","v":24},{"$f":"O14/$Q$4","v":0.12972972972972974},{"$f":"IF(P14=0,0,(P14*((LOG(P14))/LOG(2))))","v":-0.38223813532477696},null,null,{"$f":"N14","v":222},{"$f":"COUNTIF(L7:L37,T14)","v":13},{"$f":"U14/(W4-U11)","v":0.41935483870967744},{"$f":"IF(V14=0,0,(V14*((LOG(V14))/LOG(2))))","v":-0.52576889352242517},null,{"$f":"N14","v":222},{"$f":"COUNTIF(L38:L68,Y14)","v":3},{"$f":"Z14/(AB4-Z11)","v":9.6774193548387094E-2},{"$f":"IF(AA14=0,0,(AA14*((LOG(AA14))/LOG(2))))","v":-0.32605488480635986},null,{"$f":"N14","v":222},{"$f":"COUNTIF(L69:L98,AD14)","v":2},{"$f":"AE14/(AG4-AE11)","v":6.6666666666666666E-2},{"$f":"IF(AF14=0,0,(AF14*((LOG(AF14))/LOG(2))))","v":-0.26045937304056793},null,{"$f":"N14","v":222},{"$f":"COUNTIF(L99:L129,AI14)","v":2},{"$f":"AJ14/(AL4-AJ11)","v":6.4516129032258063E-2},{"$f":"IF(AK14=0,0,(AK14*((LOG(AK14))/LOG(2))))","v":-0.25510943937979835},null,{"$f":"N14","v":222},{"$f":"COUNTIF(L130:L160,AN14)","v":4},{"$f":"AO14/(AQ4-AO11)","v":0.12903225806451613},{"$f":"IF(AP14=0,0,(AP14*((LOG(AP14))/LOG(2))))","v":-0.38118662069508069},null,{"$f":"N14","v":222},{"$f":"COUNTIF(L161:L191,AS14)","v":0},{"$f":"AT14/(AV4-AT11)","v":0},{"$f":"IF(AU14=0,0,(AU14*((LOG(AU14))/LOG(2))))","v":0}]
[12,1060,24,1072,24,1086,null,null,null,null,0,122,null,null,null,{"$f":"SUM(P7:P14)","v":1},{"$f":"-SUM(Q7:Q14)","v":0.75652655327770946},null,null,null,null,{"$f":"SUM(V7:V14)","v":1},{"$f":"-SUM(W7:W14)","v":0.98115223419991326},null,null,null,{"$f":"SUM(AA7:AA14)","v":1},{"$f":"-SUM(AB7:AB14)","v":0.6594592116585809},null,null,null,{"$f":"SUM(AF7:AF14)","v":1},{"$f":"-SUM(AG7:AG14)","v":0.81184752072413224},null,null,null,{"$f":"SUM(AK7:AK14)","v":1},{"$f":"-SUM(AL7:AL14)","v":0.68381042140578963},null,null,null,{"$f":"SUM(AP7:AP14)","v":1},{"$f":"-SUM(AQ7:AQ14)","v":0.55477816334127361},null,null,null,{"$f":"SUM(AU7:AU14)","v":1},{"$f":"-SUM(AV7:AV14)","v":0}]
[21,1198,22,1204,24,1209,null,null,null,null,0,222,null,null,null,"U=",{"$f":"Q15/(LOG(Q4)/LOG(2))","v":0.10044990513942789},null,null,null,null,"U1=",{"$f":"W15/(LOG(W4)/LOG(2))","v":0.198044682271239},null,null,null,"U2=",{"$f":"AB15/(LOG(AB4)/LOG(2))","v":0.13311123951143622},null,null,null,"U3=",{"$f":"AG15/(LOG(AG4)/LOG(2))","v":0.16545050371628522},null,null,null,"U4=",{"$f":"AL15/(LOG(AL4)/LOG(2))","v":0.13802650895607943},null,null,null,"U5=",{"$f":"AQ15/(LOG(AQ4)/LOG(2))","v":0.11198146552613107},null,null,null,"U6=",{"$f":"AV15/(LOG(AV4)/LOG(2))","v":0}]
[21,1316,22,1348,24,1356,null,null,null,null,0,222]
[12,1455,24,1468,24,1483,null,null,null,null,0,122]
[12,1580,24,1594,24,1602,null,null,null,null,0,122,null,"Total Target Seq"]
[12,1701,24,1714,24,1720,null,null,null,null,0,122,null,{"$f":"COUNTIF(L7:L191,G3)","v":0},null,31,31,30,31,31,31]
[21,1826,22,1831,24,1847,null,null,null,null,0,222,null,null,null,"% of reinforcement given in 6 equal intervals based on number of trials "]
[12,1945,24,1960,24,1966,null,null,null,null,0,122,null,null,null,"%_1","%_2","%_3","%_4","%_5","%_6"]
[12,2062,24,2073,24,2095,null,null,null,null,0,122,null,null,"target sequence",{"$f":"$G$3","v":211},{"$f":"$G$3","v":211},{"$f":"$G$3","v":211},{"$f":"$G$3","v":211},{"$f":"$G$3","v":211},{"$f":"$G$3","v":211}]
[12,2187,24,2206,24,2212,null,null,null,null,0,122,null,null,"total reinforcement",{"$f":"U11","v":0},{"$f":"Z11","v":0},{"$f":"AE11","v":0},{"$f":"AJ11","v":0},{"$f":"AO11","v":0},{"$f":"AT11","v":0}]
[12,2317,24,2330,24,2341,null,null,null,null,0,122,null,null,"% target"]
[12,2444,24,2456,24,2465,null,null,null,null,0,122,null,null,"CCRF"]
[12,2562,24,2575,24,2586,null,null,null,null,0,122,null,null,"% CCRf"]
[12,2681,24,2718,24,2729,null,null,null,null,0,122,null,null,"average response rate",{"$f":"F37/P20","v":125.83870967741936},{"$f":"(F68-F37)/Q20","v":128.87096774193549},{"$f":"(F98-F68)/R20","v":134.36666666666667},{"$f":"(F129-F98)/S20","v":129.74193548387098},{"$f":"(F160-F129)/T20","v":128.03225806451613},{"$f":"(F191-F160)/U20","v":130.74193548387098}]
[12,2825,24,2843,24,2848,null,null,null,null,0,122]
[12,2947,24,2960,24,2968,null,null,null,null,0,122]
[12,3063,24,3076,24,3085,null,null,null,null,0,122]
[12,3188,24,3206,24,3228,null,null,null,null,0,122]
[21,3367,22,3379,24,3391,null,null,null,null,0,222]
[21,3501,22,3508,24,3517,null,null,null,null,0,222]
[12,3617,24,3641,24,3648,null,null,null,null,0,122]
[12,3748,24,3761,24,3774,null,null,null,null,0,122]
[21,3877,22,3891,24,3901,null,null,null,null,0,222]
[12,4001,24,4014,24,4021,null,null,null,null,0,122]
[12,4117,24,4130,24,4135,null,null,null,null,0,122]
[12,4234,24,4252,24,4260,null,null,null,null,0,122]
[12,4358,24,4370,24,4377,null,null,null,null,0,122]
[12,4471,24,4488,24,4496,null,null,null,null,0,122]
[12,4591,24,4604,24,4612,null,null,null,null,0,122]
[12,4711,24,4728,24,4738,null,null,null,null,0,122]
[12,4837,24,4855,24,4867,null,null,null,null,0,122]
[12,4968,24,4984,24,4990,null,null,null,null,0,122]
[21,5095,22,5111,24,5119,null,null,null,null,0,222]
[12,5219,24,5247,24,5259,null,null,null,null,0,122]
[12,5356,24,5375,24,5384,null,null,null,null,0,122]
[12,5485,24,5498,24,5504,null,null,null,null,0,122]
[12,5604,24,5617,24,5651,null,null,null,null,0,122]
[12,5744,24,5778,24,5788,null,null,null,null,0,122]
[12,5892,24,5916,24,5947,null,null,null,null,0,122]
[12,6045,24,6062,24,6070,null,null,null,null,0,122]
[12,6166,24,6184,24,6204,null,null,null,null,0,122]
[12,6304,24,6316,24,6324,null,null,null,null,0,122]
[12,6423,24,6443,24,6451,null,null,null,null,0,122]
[12,6553,24,6577,24,6587,null,null,null,null,0,122]
[12,6689,24,6701,24,6708,null,null,null,null,0,122]
[12,6801,24,6819,24,6827,null,null,null,null,0,122]
[12,6928,24,6959,24,6969,null,null,null,null,0,122]
[12,7065,24,7083,24,7110,null,null,null,null,0,122]
[21,7237,22,7245,24,7253,null,null,null,null,0,222]
[12,7352,24,7365,24,7371,null,null,null,null,0,122]
[12,7464,13,7469,24,7488,null,null,null,null,0,112]
[12,7589,24,7608,24,7620,null,null,null,null,0,122]
[12,7720,24,7743,24,7762,null,null,null,null,0,122]
[21,7877,22,7889,24,7896,null,null,null,null,0,222]
[12,7995,13,8003,24,8016,null,null,null,null,0,112]
[12,8122,24,8134,24,8147,null,null,null,null,0,122]
[21,8264,22,8282,24,8290,null,null,null,null,0,222]
[12,8393,24,8412,24,8425,null,null,null,null,0,122]
[12,8527,24,8605,24,8620,null,null,null,null,0,122]
[12,8719,24,8736,24,8740,null,null,null,null,0,122]
[12,8843,24,8867,24,8877,null,null,null,null,0,122]
[12,8985,24,9008,24,9020,null,null,null,null,0,122]
[21,9137,22,9159,24,9166,null,null,null,null,0,222]
[12,9259,24,9284,24,9298,null,null,null,null,0,122]
[12,9400,24,9413,24,9436,null,null,null,null,0,122]
[12,9534,24,9558,24,9570,null,null,null,null,0,122]
[12,9671,24,9681,24,9688,null,null,null,null,0,122]
[12,9787,24,9806,24,9826,null,null,null,null,0,122]
[12,9926,24,9955,24,9972,null,null,null,null,0,122]
[12,10073,24,10085,24,10102,null,null,null,null,0,122]
[12,10212,24,10256,24,10277,null,null,null,null,0,122]
[12,10377,24,10402,24,10410,null,null,null,null,0,122]
[12,10509,24,10523,24,10529,null,null,null,null,0,122]
[12,10629,13,10636,24,10653,null,null,null,null,0,112]
[12,10747,13,10753,24,10771,null,null,null,null,0,112]
[12,10871,24,10888,24,10893,null,null,null,null,0,122]
[12,10993,24,11010,24,11018,null,null,null,null,0,122]
[12,11124,24,11157,24,11166,null,null,null,null,0,122]
[12,11267,24,11277,24,11283,null,null,null,null,0,122]
[12,11385,24,11404,24,11422,null,null,null,null,0,122]
[12,11516,24,11534,24,11541,null,null,null,null,0,122]
[12,11645,24,11662,24,11672,null,null,null,null,0,122]
[12,11771,24,11789,24,11796,null,null,null,null,0,122]
[12,11896,24,11919,24,11927,null,null,null,null,0,122]
[12,12028,24,12046,24,12054,null,null,null,null,0,122]
[12,12151,24,12177,24,12201,null,null,null,null,0,122]
[21,12314,22,12325,24,12333,null,null,null,null,0,222]
[12,12428,24,12446,24,12455,null,null,null,null,0,122]
[12,12553,24,12603,24,12621,null,null,null,null,0,122]
[12,12719,13,12728,24,12748,null,null,null,null,0,112]
[12,12845,24,12877,24,12886,null,null,null,null,0,122]
[12,12995,24,13007,24,13017,null,null,null,null,0,122]
[12,13115,24,13134,24,13142,null,null,null,null,0,122]
[12,13235,13,13256,24,13292,null,null,null,null,0,112]
[12,13387,24,13412,24,13428,null,null,null,null,0,122]
[12,13527,24,13540,24,13545,null,null,null,null,0,122]
[12,13645,24,13671,24,13699,null,null,null,null,0,122]
[12,13798,24,13808,24,13818,null,null,null,null,0,122]
[12,13911,24,13928,24,13936,null,null,null,null,0,122]
[12,14038,24,14051,24,14058,null,null,null,null,0,122]
[12,14156,24,14178,24,14186,null,null,null,null,0,122]
[12,14281,24,14301,24,14307,null,null,null,null,0,122]
[12,14406,24,14419,24,14427,null,null,null,null,0,122]
[12,14524,24,14534,24,14540,null,null,null,null,0,122]
[12,14640,24,14693,24,14731,null,null,null,null,0,122]
[12,14833,24,14851,24,14859,null,null,null,null,0,122]
[12,14957,24,14975,24,14989,null,null,null,null,0,122]
[12,15088,24,15100,24,15121,null,null,null,null,0,122]
[12,15217,24,15228,24,15241,null,null,null,null,0,122]
[12,15339,24,15351,24,15358,null,null,null,null,0,122]
[12,15461,24,15475,24,15482,null,null,null,null,0,122]
[12,15582,24,15594,24,15599,null,null,null,null,0,122]
[12,15699,24,15711,24,15716,null,null,null,null,0,122]
[12,15817,24,15829,24,15835,null,null,null,null,0,122]
[21,15936,22,15941,24,15949,null,null,null,null,0,222]
[12,16047,24,16077,24,16092,null,null,null,null,0,122]
[12,16192,24,16209,24,16218,null,null,null,null,0,122]
[21,16330,22,16339,24,16352,null,null,null,null,0,222]
[12,16445,24,16458,24,16464,null,null,null,null,0,122]
[12,16564,24,16577,24,16585,null,null,null,null,0,122]
[12,16683,24,16695,24,16703,null,null,null,null,0,122]
[12,16808,24,16818,24,16823,null,null,null,null,0,122]
[12,16921,24,16934,24,16941,null,null,null,null,0,122]
[12,17036,24,17054,24,17069,null,null,null,null,0,122]
[12,17166,24,17185,24,17198,null,null,null,null,0,122]
[12,17300,24,17324,24,17364,null,null,null,null,0,122]
[12,17462,24,17474,24,17479,null,null,null,null,0,122]
[12,17575,24,17594,24,17601,null,null,null,null,0,122]
[12,17703,24,17715,24,17731,null,null,null,null,0,122]
[21,17840,22,17847,24,17860,null,null,null,null,0,222]
[12,17962,24,17996,24,18058,null,null,null,null,0,122]
[12,18158,24,18169,24,18175,null,null,null,null,0,122]
[12,18274,24,18287,24,18295,null,null,null,null,0,122]
[12,18391,24,18409,24,18420,null,null,null,null,0,122]
[12,18513,24,18522,24,18533,null,null,null,null,0,122]
[12,18633,24,18657,24,18665,null,null,null,null,0,122]
[12,18758,24,18786,24,18803,null,null,null,null,0,122]
[12,18902,24,18915,24,18934,null,null,null,null,0,122]
[21,19041,22,19047,24,19053,null,null,null,null,0,222]
[12,19153,24,19170,24,19186,null,null,null,null,0,122]
[12,19285,24,19299,24,19305,null,null,null,null,0,122]
[12,19395,24,19408,24,19415,null,null,null,null,0,122]
[12,19516,24,19528,24,19537,null,null,null,null,0,122]
[12,19637,24,19653,24,19675,null,null,null,null,0,122]
[21,19784,22,19791,24,19799,null,null,null,null,0,222]
[12,19898,24,19910,24,19918,null,null,null,null,0,122]
[12,20021,24,20034,24,20040,null,null,null,null,0,122]
[12,20135,24,20162,24,20180,null,null,null,null,0,122]
[12,20278,24,20291,24,20297,null,null,null,null,0,122]
[12,20397,24,20408,24,20417,null,null,null,null,0,122]
[12,20514,24,20534,24,20543,null,null,null,null,0,122]
[12,20640,24,20653,24,20663,null,null,null,null,0,122]
[12,20763,24,20781,24,20788,null,null,null,null,0,122]
[12,20883,24,20907,24,20916,null,null,null,null,0,122]
[12,21015,24,21034,24,21041,null,null,null,null,0,122]
[12,21143,24,21167,24,21180,null,null,null,null,0,122]
[12,21282,24,21300,24,21313,null,null,null,null,0,122]
[12,21411,24,21422,24,21428,null,null,null,null,0,122]
[12,21529,24,21542,24,21600,null,null,null,null,0,122]
[12,21694,24,21704,24,21719,null,null,null,null,0,122]
[12,21813,24,21829,24,21835,null,null,null,null,0,122]
[12,21936,24,21948,24,21953,null,null,null,null,0,122]
[12,22052,24,22064,24,22117,null,null,null,null,0,122]
[12,22221,24,22241,24,22248,null,null,null,null,0,122]
[12,22347,24,22372,24,22382,null,null,null,null,0,122]
[12,22482,24,22521,24,22546,null,null,null,null,0,122]
[12,22645,24,22658,24,22666,null,null,null,null,0,122]
[12,22761,24,22774,24,22781,null,null,null,null,0,122]
[12,22874,24,22887,24,22892,null,null,null,null,0,122]
[12,22994,24,23006,24,23018,null,null,null,null,0,122]
[12,23118,24,23129,24,23136,null,null,null,null,0,122]
[12,23237,24,23251,24,23266,null,null,null,null,0,122]
[12,23367,24,23380,24,23387,null,null,null,null,0,122]
[12,23480,24,23505,24,23515,null,null,null,null,0,122]
[12,23615,24,23640,24,23680,null,null,null,null,0,122]
[12,23777,24,23802,24,23812,null,null,null,null,0,122]
[12,23909,24,23956,24,23971,null,null,null,null,1,122]

{"sheet":"!M831850.101","index":4,"n_rows":198,"n_cols":48,"rows_kept":198,"cut":false,"hidden":false,"merged":[[4,39,4,42],[5,39,5,40],[4,44,4,47],[5,44,5,45],[4,24,4,27],[5,24,5,25],[4,29,4,32],[5,29,5,30],[4,34,4,37],[5,34,5,35],[1,1,1,2],[5,13,5,14],[18,13,18,14],[19,13,19,14],[4,19,4,22],[5,19,5,20]]}
["Report for:!M831850.101"]
["Date:","<date>"]
["Hen:","<hen>",null,null,null,"Correct Sequence",{"$f":"Start!J2","v":211},null,null,null,null,null,null,null,null,"Total Sequences in Data",{"$f":"4994-COUNTBLANK(L7:L5000)","v":192},null,null,null,null,"Total Sequences in Block Data",{"$f":"COUNTA(L7:L38)","v":32},null,null,null,"Total Sequences in Block Data",{"$f":"COUNTA(L39:L70)","v":32},null,null,null,"Total Sequences in Block Data",{"$f":"COUNTA(L71:L102)","v":32},null,null,null,"Total Sequences in Block Data",{"$f":"COUNTA(L103:L134)","v":32},null,null,null,"Total Sequences in Block Data",{"$f":"COUNTA(L135:L166)","v":32},null,null,null,"Total Sequences in Block Data",{"$f":"COUNTA(L167:L198)","v":32}]
[null,null,null,null,null,null,null,null,null,null,null,null,null,null,null,"Total Sequences in Summary",{"$f":"SUM(O7:O14)","v":192},null,null,null,null,"Total Sequences in Block Summary",{"$f":"SUM(U7:U14)","v":32},null,null,null,"Total Sequences in Block Summary",{"$f":"SUM(Z7:Z14)","v":32},null,null,null,"Total Sequences in Block Summary",{"$f":"SUM(AE7:AE14)","v":32},null,null,null,"Total Sequences in Block Summary",{"$f":"SUM(AJ7:AJ14)","v":32},null,null,null,"Total Sequences in Block Summary",{"$f":"SUM(AO7:AO14)","v":32},null,null,null,"Total Sequences in Block Summary",{"$f":"SUM(AT7:AT14)","v":32}]
[null,null,null,null,null,null,null,null,null,null,null,null,null,null,null,null,null,null,null,"Block 1",null,null,null,null,"Block 2",null,null,null,null,"Block 3",null,null,null,null,"Block 4",null,null,null,null,"Block 5",null,null,null,null,"Block 6"]
["Sequence\nComponent\n1","Time\n1","Sequence\nComponent\n2","Time\n2","Sequence\nComponent\n3","Time\n3","Sequence\nComponent\n4","Time\n4","Sequence\nComponent\n5","Time\n5","Correct?\n0=No 1=Yes","Sequence",null,"Frequency",null,"Relative Frequency","Variability",null,null,"Frequency",null,"Relative Frequency","Variability",null,"Frequency",null,"Relative Frequency","Variability",null,"Frequency",null,"Relative Frequency","Variability",null,"Frequency",null,"Relative Frequency","Variability",null,"Frequency",null,"Relative Frequency","Variability",null,"Frequency",null,"Relative Frequency","Variability"]
[12,14,24,28,24,33,null,null,null,null,0,122,null,111,{"$f":"COUNTIF($L$7:$L$500,N7)","v":0},{"$f":"O7/$Q$4","v":0},{"$f":"IF(P7=0,0,(P7*((LOG(P7))/LOG(2))))","v":0},null,null,{"$f":"N7","v":111},{"$f":"COUNTIF(L7:L38,T7)","v":0},{"$f":"U7/(W4-U11)","v":0},{"$f":"IF(V7=0,0,(V7*((LOG(V7))/LOG(2))))","v":0},null,{"$f":"N7","v":111},{"$f":"COUNTIF(L39:L70,Y7)","v":0},{"$f":"Z7/(AB4-Z11)","v":0},{"$f":"IF(AA7=0,0,(AA7*((LOG(AA7))/LOG(2))))","v":0},null,{"$f":"N7","v":111},{"$f":"COUNTIF(L71:L102,AD7)","v":0},{"$f":"AE7/(AG4-AE11)","v":0},{"$f":"IF(AF7=0,0,(AF7*((LOG(AF7))/LOG(2))))","v":0},null,{"$f":"N7","v":111},{"$f":"COUNTIF(L103:L134,AI7)","v":0},{"$f":"AJ7/(AL4-AJ11)","v":0},{"$f":"IF(AK7=0,0,(AK7*((LOG(AK7))/LOG(2))))","v":0},null,{"$f":"N7","v":111},{"$f":"COUNTIF(L135:L166,AN7)","v":0},{"$f":"AO7/(AQ4-AO11)","v":0},{"$f":"IF(AP7=0,0,(AP7*((LOG(AP7))/LOG(2))))","v":0},null,{"$f":"N7","v":111},{"$f":"COUNTIF(L167:L198,AS7)","v":0},{"$f":"AT7/(AV4-AT11)","v":0},{"$f":"IF(AU7=0,0,(AU7*((LOG(AU7))/LOG(2))))","v":0}]
[12,128,24,141,24,150,null,null,null,null,0,122,null,112,{"$f":"COUNTIF($L$7:$L$500,N8)","v":6},{"$f":"O8/$Q$4","v":3.125E-2},{"$f":"IF(P8=0,0,(P8*((LOG(P8))/LOG(2))))","v":-0.15625},null,null,{"$f":"N8","v":112},{"$f":"COUNTIF(L7:L38,T8)","v":2},{"$f":"U8/(W4-U11)","v":6.25E-2},{"$f":"IF(V8=0,0,(V8*((LOG(V8))/LOG(2))))","v":-0.25},null,{"$f":"N8","v":112},{"$f":"COUNTIF(L39:L70,Y8)","v":0},{"$f":"Z8/(AB4-Z11)","v":0},{"$f":"IF(AA8=0,0,(AA8*((LOG(AA8))/LOG(2))))","v":0},null,{"$f":"N8","v":112},{"$f":"COUNTIF(L71:L102,AD8)","v":1},{"$f":"AE8/(AG4-AE11)","v":3.125E-2},{"$f":"IF(AF8=0,0,(AF8*((LOG(AF8))/LOG(2))))","v":-0.15625},null,{"$f":"N8","v":112},{"$f":"COUNTIF(L103:L134,AI8)","v":1},{"$f":"AJ8/(AL4-AJ11)","v":3.125E-2},{"$f":"IF(AK8=0,0,(AK8*((LOG(AK8))/LOG(2))))","v":-0.15625},null,{"$f":"N8","v":112},{"$f":"COUNTIF(L135:L166,AN8)","v":1},{"$f":"AO8/(AQ4-AO11)","v":3.125E-2},{"$f":"IF(AP8=0,0,(AP8*((LOG(AP8))/LOG(2))))","v":-0.15625},null,{"$f":"N8","v":112},{"$f":"COUNTIF(L167:L198,AS8)","v":1},{"$f":"AT8/(AV4-AT11)","v":3.125E-2},{"$f":"IF(AU8=0,0,(AU8*((LOG(AU8))/LOG(2))))","v":-0.15625}]
[21,263,22,273,24,286,null,null,null,null,0,222,null,121,{"$f":"COUNTIF($L$7:$L$500,N9)","v":0},{"$f":"O9/$Q$4","v":0},{"$f":"IF(P9=0,0,(P9*((LOG(P9))/LOG(2))))","v":0},null,null,{"$f":"N9","v":121},{"$f":"COUNTIF(L7:L38,T9)","v":0},{"$f":"U9/(W4-U11)","v":0},{"$f":"IF(V9=0,0,(V9*((LOG(V9))/LOG(2))))","v":0},null,{"$f":"N9","v":121},{"$f":"COUNTIF(L39:L70,Y9)","v":0},{"$f":"Z9/(AB4-Z11)","v":0},{"$f":"IF(AA9=0,0,(AA9*((LOG(AA9))/LOG(2))))","v":0},null,{"$f":"N9","v":121},{"$f":"COUNTIF(L71:L102,AD9)","v":0},{"$f":"AE9/(AG4-AE11)","v":0},{"$f":"IF(AF9=0,0,(AF9*((LOG(AF9))/LOG(2))))","v":0},null,{"$f":"N9","v":121},{"$f":"COUNTIF(L103:L134,AI9)","v":0},{"$f":"AJ9/(AL4-AJ11)","v":0},{"$f":"IF(AK9=0,0,(AK9*((LOG(AK9))/LOG(2))))","v":0},null,{"$f":"N9","v":121},{"$f":"COUNTIF(L135:L166,AN9)","v":0},{"$f":"AO9/(AQ4-AO11)","v":0},{"$f":"IF(AP9=0,0,(AP9*((LOG(AP9))/LOG(2))))","v":0},null,{"$f":"N9","v":121},{"$f":"COUNTIF(L167:L198,AS9)","v":0},{"$f":"AT9/(AV4-AT11)","v":0},{"$f":"IF(AU9=0,0,(AU9*((LOG(AU9))/LOG(2))))","v":0}]
[21,392,22,399,24,404,null,null,null,null,0,222,null,122,{"$f":"COUNTIF($L$7:$L$500,N10)","v":136},{"$f":"O10/$Q$4","v":0.70833333333333337},{"$f":"IF(P10=0,0,(P10*((LOG(P10))/LOG(2))))","v":-0.35239559212516181},null,null,{"$f":"N10","v":122},{"$f":"COUNTIF(L7:L38,T10)","v":22},{"$f":"U10/(W4-U11)","v":0.6875},{"$f":"IF(V10=0,0,(V10*((LOG(V10))/LOG(2))))","v":-0.3716407621868581},null,{"$f":"N10","v":122},{"$f":"COUNTIF(L39:L70,Y10)","v":25},{"$f":"Z10/(AB4-Z11)","v":0.78125},{"$f":"IF(AA10=0,0,(AA10*((LOG(AA10))/LOG(2))))","v":-0.27823735173849634},null,{"$f":"N10","v":122},{"$f":"COUNTIF(L71:L102,AD10)","v":22},{"$f":"AE10/(AG4-AE11)","v":0.6875},{"$f":"IF(AF10=0,0,(AF10*((LOG(AF10))/LOG(2))))","v":-0.3716407621868581},null,{"$f":"N10","v":122},{"$f":"COUNTIF(L103:L134,AI10)","v":21},{"$f":"AJ10/(AL4-AJ11)","v":0.65625},{"$f":"IF(AK10=0,0,(AK10*((LOG(AK10))/LOG(2))))","v":-0.3987916913014386},null,{"$f":"N10","v":122},{"$f":"COUNTIF(L135:L166,AN10)","v":26},{"$f":"AO10/(AQ4-AO11)","v":0.8125},{"$f":"IF(AP10=0,0,(AP10*((LOG(AP10))/LOG(2))))","v":-0.24339272901036266},null,{"$f":"N10","v":122},{"$f":"COUNTIF(L167:L198,AS10)","v":20},{"$f":"AT10/(AV4-AT11)","v":0.625},{"$f":"IF(AU10=0,0,(AU10*((LOG(AU10))/LOG(2))))","v":-0.42379494069539858}]
[12,500,24,512,24,518,null,null,null,null,0,122,null,211,{"$f":"COUNTIF($L$7:$L$500,N11)","v":0},{"$f":"O11/$Q$4","v":0},{"$f":"IF(P11=0,0,(P11*((LOG(P11))/LOG(2))))","v":0},null,null,{"$f":"N11","v":211},{"$f":"COUNTIF(L7:L38,T11)","v":0},null,null,null,{"$f":"N11","v":211},{"$f":"COUNTIF(L39:L70,Y11)","v":0},null,null,null,{"$f":"N11","v":211},{"$f":"COUNTIF(L71:L102,AD11)","v":0},null,null,null,{"$f":"N11","v":211},{"$f":"COUNTIF(L103:L134,AI11)","v":0},null,null,null,{"$f":"N11","v":211},{"$f":"COUNTIF(L135:L166,AN11)","v":0},null,null,null,{"$f":"N11","v":211},{"$f":"COUNTIF(L167:L198,AS11)","v":0}]
[12,611,24,629,24,638,null,null,null,null,0,122,null,212,{"$f":"COUNTIF($L$7:$L$500,N12)","v":0},{"$f":"O12/$Q$4","v":0},{"$f":"IF(P12=0,0,(P12*((LOG(P12))/LOG(2))))","v":0},null,null,{"$f":"N12","v":212},{"$f":"COUNTIF(L7:L38,T12)","v":0},{"$f":"U12/(W4-U11)","v":0},{"$f":"IF(V12=0,0,(V12*((LOG(V12))/LOG(2))))","v":0},null,{"$f":"N12","v":212},{"$f":"COUNTIF(L39:L70,Y12)","v":0},{"$f":"Z12/(AB4-Z11)","v":0},{"$f":"IF(AA12=0,0,(AA12*((LOG(AA12))/LOG(2))))","v":0},null,{"$f":"N12","v":212},{"$f":"COUNTIF(L71:L102,AD12)","v":0},{"$f":"AE12/(AG4-AE11)","v":0},{"$f":"IF(AF12=0,0,(AF12*((LOG(AF12))/LOG(2))))","v":0},null,{"$f":"N12","v":212},{"$f":"COUNTIF(L103:L134,AI12)","v":0},{"$f":"AJ12/(AL4-AJ11)","v":0},{"$f":"IF(AK12=0,0,(AK12*((LOG(AK12))/LOG(2))))","v":0},null,{"$f":"N12","v":212},{"$f":"COUNTIF(L135:L166,AN12)","v":0},{"$f":"AO12/(AQ4-AO11)","v":0},{"$f":"IF(AP12=0,0,(AP12*((LOG(AP12))/LOG(2))))","v":0},null,{"$f":"N12","v":212},{"$f":"COUNTIF(L167:L198,AS12)","v":0},{"$f":"AT12/(AV4-AT11)","v":0},{"$f":"IF(AU12=0,0,(AU12*((LOG(AU12))/LOG(2))))","v":0}]
[12,734,24,749,24,756,null,null,null,null,0,122,null,221,{"$f":"COUNTIF($L$7:$L$500,N13)","v":0},{"$f":"O13/$Q$4","v":0},{"$f":"IF(P13=0,0,(P13*((LOG(P13))/LOG(2))))","v":0},null,null,{"$f":"N13","v":221},{"$f":"COUNTIF(L7:L38,T13)","v":0},{"$f":"U13/(W4-U11)","v":0},{"$f":"IF(V13=0,0,(V13*((LOG(V13))/LOG(2))))","v":0},null,{"$f":"N13","v":221},{"$f":"COUNTIF(L39:L70,Y13)","v":0},{"$f":"Z13/(AB4-Z11)","v":0},{"$f":"IF(AA13=0,0,(AA13*((LOG(AA13))/LOG(2))))","v":0},null,{"$f":"N13","v":221},{"$f":"COUNTIF(L71:L102,AD13)","v":0},{"$f":"AE13/(AG4-AE11)","v":0},{"$f":"IF(AF13=0,0,(AF13*((LOG(AF13))/LOG(2))))","v":0},null,{"$f":"N13","v":221},{"$f":"COUNTIF(L103:L134,AI13)","v":0},{"$f":"AJ13/(AL4-AJ11)","v":0},{"$f":"IF(AK13=0,0,(AK13*((LOG(AK13))/LOG(2))))","v":0},null,{"$f":"N13","v":221},{"$f":"COUNTIF(L135:L166,AN13)","v":0},{"$f":"AO13/(AQ4-AO11)","v":0},{"$f":"IF(AP13=0,0,(AP13*((LOG(AP13))/LOG(2))))","v":0},null,{"$f":"N13","v":221},{"$f":"COUNTIF(L167:L198,AS13)","v":0},{"$f":"AT13/(AV4-AT11)","v":0},{"$f":"IF(AU13=0,0,(AU13*((LOG(AU13))/LOG(2))))","v":0}]
[12,867,24,882,24,889,null,null,null,null,0,122,null,222,{"$f":"COUNTIF($L$7:$L$500,N14)","v":50},{"$f":"O14/$Q$4","v":0.26041666666666669},{"$f":"IF(P14=0,0,(P14*((LOG(P14))/LOG(2))))","v":-0.50549643514229992},null,null,{"$f":"N14","v":222},{"$f":"COUNTIF(L7:L38,T14)","v":8},{"$f":"U14/(W4-U11)","v":0.25},{"$f":"IF(V14=0,0,(V14*((LOG(V14))/LOG(2))))","v":-0.5},null,{"$f":"N14","v":222},{"$f":"COUNTIF(L39:L70,Y14)","v":7},{"$f":"Z14/(AB4-Z11)","v":0.21875},{"$f":"IF(AA14=0,0,(AA14*((LOG(AA14))/LOG(2))))","v":-0.47964111079989907},null,{"$f":"N14","v":222},{"$f":"COUNTIF(L71:L102,AD14)","v":9},{"$f":"AE14/(AG4-AE11)","v":0.28125},{"$f":"IF(AF14=0,0,(AF14*((LOG(AF14))/LOG(2))))","v":-0.5147085933443496},null,{"$f":"N14","v":222},{"$f":"COUNTIF(L103:L134,AI14)","v":10},{"$f":"AJ14/(AL4-AJ11)","v":0.3125},{"$f":"IF(AK14=0,0,(AK14*((LOG(AK14))/LOG(2))))","v":-0.52439747034769923},null,{"$f":"N14","v":222},{"$f":"COUNTIF(L135:L166,AN14)","v":5},{"$f":"AO14/(AQ4-AO11)","v":0.15625},{"$f":"IF(AP14=0,0,(AP14*((LOG(AP14))/LOG(2))))","v":-0.41844873517384967},null,{"$f":"N14","v":222},{"$f":"COUNTIF(L167:L198,AS14)","v":11},{"$f":"AT14/(AV4-AT11)","v":0.34375},{"$f":"IF(AU14=0,0,(AU14*((LOG(AU14))/LOG(2))))","v":-0.52957038109342913}]
[12,987,24,1003,24,1012,null,null,null,null,0,122,null,null,null,{"$f":"SUM(P7:P14)","v":1},{"$f":"-SUM(Q7:Q14)","v":1.0141420272674617},null,null,null,null,{"$f":"SUM(V7:V14)","v":1},{"$f":"-SUM(W7:W14)","v":1.121640762186858},null,null,null,{"$f":"SUM(AA7:AA14)","v":1},{"$f":"-SUM(AB7:AB14)","v":0.75787846253839541},null,null,null,{"$f":"SUM(AF7:AF14)","v":1},{"$f":"-SUM(AG7:AG14)","v":1.0425993555312076},null,null,null,{"$f":"SUM(AK7:AK14)","v":1},{"$f":"-SUM(AL7:AL14)","v":1.0794391616491379},null,null,null,{"$f":"SUM(AP7:AP14)","v":1},{"$f":"-SUM(AQ7:AQ14)","v":0.8180914641842123},null,null,null,{"$f":"SUM(AU7:AU14)","v":1},{"$f":"-SUM(AV7:AV14)","v":1.1096153217888278}]
[12,1108,24,1120,24,1142,null,null,null,null,0,122,null,null,null,"U=",{"$f":"Q15/(LOG(Q4)/LOG(2))","v":0.13370429018878341},null,null,null,null,"U1=",{"$f":"W15/(LOG(W4)/LOG(2))","v":0.22432815243737161},null,null,null,"U2=",{"$f":"AB15/(LOG(AB4)/LOG(2))","v":0.15157569250767908},null,null,null,"U3=",{"$f":"AG15/(LOG(AG4)/LOG(2))","v":0.20851987110624154},null,null,null,"U4=",{"$f":"AL15/(LOG(AL4)/LOG(2))","v":0.21588783232982758},null,null,null,"U5=",{"$f":"AQ15/(LOG(AQ4)/LOG(2))","v":0.16361829283684245},null,null,null,"U6=",{"$f":"AV15/(LOG(AV4)/LOG(2))","v":0.22192306435776557}]
[12,1234,13,1244,24,1262,null,null,null,null,0,112]
[21,1373,22,1378,24,1386,null,null,null,null,0,222]
[12,1482,24,1498,24,1503,null,null,null,null,0,122,null,"Total Target Seq"]
[21,1624,22,1628,24,1636,null,null,null,null,0,222,null,{"$f":"COUNTIF(L7:L198,G3)","v":0},null,32,32,32,32,32,32]
[21,1751,22,1758,24,1767,null,null,null,null,0,222,null,null,null,"% of reinforcement given in 6 equal intervals based on number of trials "]
[12,1864,24,1881,24,1894,null,null,null,null,0,122,null,null,null,"%_1","%_2","%_3","%_4","%_5","%_6"]
[12,1993,24,2006,24,2012,null,null,null,null,0,122,null,null,"target sequence",{"$f":"$G$3","v":211},{"$f":"$G$3","v":211},{"$f":"$G$3","v":211},{"$f":"$G$3","v":211},{"$f":"$G$3","v":211},{"$f":"$G$3","v":211}]
[21,2125,22,2133,24,2141,null,null,null,null,0,222,null,null,"total reinforcement",{"$f":"U11","v":0},{"$f":"Z11","v":0},{"$f":"AE11","v":0},{"$f":"AJ11","v":0},{"$f":"AO11","v":0},{"$f":"AT11","v":0}]
[12,2239,24,2257,24,2264,null,null,null,null,0,122,null,null,"% target"]
[12,2363,24,2381,24,2389,null,null,null,null,0,122,null,null,"CCRF"]
[12,2481,24,2500,24,2516,null,null,null,null,0,122,null,null,"% CCRf"]
[12,2612,24,2634,24,2640,null,null,null,null,0,122,null,null,"average response rate",{"$f":"F38/P20","v":122.875},{"$f":"(F70-F38)/Q20","v":123.78125},{"$f":"(F102-F70)/R20","v":129.9375},{"$f":"(F134-F102)/S20","v":123.28125},{"$f":"(F166-F134)/T20","v":124.15625},{"$f":"(F198-F166)/U20","v":125.28125}]
[12,2739,24,2748,24,2759,null,null,null,null,0,122]
[12,2863,24,2880,24,2933,null,null,null,null,0,122]
[12,3031,24,3043,24,3049,null,null,null,null,0,122]
[12,3147,13,3153,24,3190,null,null,null,null,0,112]
[21,3290,22,3300,24,3308,null,null,null,null,0,222]
[12,3405,24,3417,24,3422,null,null,null,null,0,122]
[12,3520,24,3537,24,3549,null,null,null,null,0,122]
[12,3655,24,3667,24,3675,null,null,null,null,0,122]
[12,3775,24,3792,24,3805,null,null,null,null,0,122]
[21,3918,22,3927,24,3932,null,null,null,null,0,222]
[21,4042,22,4050,24,4058,null,null,null,null,0,222]
[21,4174,22,4182,24,4191,null,null,null,null,0,222]
[21,4317,22,4325,24,4333,null,null,null,null,0,222]
[12,4429,24,4453,24,4461,null,null,null,null,0,122]
[12,4565,24,4578,24,4583,null,null,null,null,0,122]
[12,4682,24,4691,24,4696,null,null,null,null,0,122]
[12,4792,24,4804,24,4811,null,null,null,null,0,122]
[21,4926,22,4935,24,4940,null,null,null,null,0,222]
[21,5074,22,5082,24,5095,null,null,null,null,0,222]
[12,5196,24,5208,24,5228,null,null,null,null,0,122]
[12,5325,24,5341,24,5348,null,null,null,null,0,122]
[12,5444,24,5461,24,5476,null,null,null,null,0,122]
[12,5573,24,5588,24,5593,null,null,null,null,0,122]
[12,5702,24,5715,24,5720,null,null,null,null,0,122]
[12,5818,24,5831,24,5836,null,null,null,null,0,122]
[12,5931,24,5942,24,5949,null,null,null,null,0,122]
[12,6044,24,6062,24,6071,null,null,null,null,0,122]
[12,6168,24,6185,24,6197,null,null,null,null,0,122]
[21,6307,22,6312,24,6328,null,null,null,null,0,222]
[12,6424,24,6437,24,6444,null,null,null,null,0,122]
[21,6558,22,6566,24,6583,null,null,null,null,0,222]
[12,6680,24,6694,24,6701,null,null,null,null,0,122]
[12,6796,24,6813,24,6820,null,null,null,null,0,122]
[12,6920,24,6930,24,6943,null,null,null,null,0,122]
[12,7040,24,7053,24,7058,null,null,null,null,0,122]
[12,7154,24,7171,24,7176,null,null,null,null,0,122]
[12,7271,24,7283,24,7288,null,null,null,null,0,122]
[12,7378,24,7390,24,7396,null,null,null,null,0,122]
[12,7494,24,7506,24,7512,null,null,null,null,0,122]
[12,7609,24,7618,24,7624,null,null,null,null,0,122]
[12,7722,24,7738,24,7767,null,null,null,null,0,122]
[12,7865,24,7882,24,7893,null,null,null,null,0,122]
[12,7988,24,8010,24,8019,null,null,null,null,0,122]
[12,8119,24,8129,24,8134,null,null,null,null,0,122]
[12,8235,13,8244,24,8262,null,null,null,null,0,112]
[21,8369,22,8383,24,8391,null,null,null,null,0,222]
[21,8523,22,8531,24,8540,null,null,null,null,0,222]
[12,8638,24,8651,24,8658,null,null,null,null,0,122]
[12,8756,24,8768,24,8776,null,null,null,null,0,122]
[12,8889,24,8907,24,8915,null,null,null,null,0,122]
[12,9013,24,9031,24,9073,null,null,null,null,0,122]
[21,9184,22,9190,24,9198,null,null,null,null,0,222]
[12,9304,24,9322,24,9327,null,null,null,null,0,122]
[12,9423,24,9435,24,9447,null,null,null,null,0,122]
[12,9542,24,9559,24,9572,null,null,null,null,0,122]
[12,9663,24,9688,24,9709,null,null,null,null,0,122]
[12,9808,24,9826,24,9834,null,null,null,null,0,122]
[12,9931,24,9943,24,9966,null,null,null,null,0,122]
[21,10071,22,10076,24,10084,null,null,null,null,0,222]
[12,10179,24,10217,24,10228,null,null,null,null,0,122]
[21,10352,22,10371,24,10402,null,null,null,null,0,222]
[21,10520,22,10534,24,10554,null,null,null,null,0,222]
[21,10663,22,10669,24,10678,null,null,null,null,0,222]
[12,10772,24,10799,24,10806,null,null,null,null,0,122]
[12,10907,24,10920,24,10925,null,null,null,null,0,122]
[12,11025,24,11037,24,11044,null,null,null,null,0,122]
[12,11142,24,11154,24,11161,null,null,null,null,0,122]
[12,11263,24,11275,24,11290,null,null,null,null,0,122]
[12,11386,24,11409,24,11424,null,null,null,null,0,122]
[12,11520,24,11538,24,11547,null,null,null,null,0,122]
[12,11645,24,11664,24,11668,null,null,null,null,0,122]
[12,11765,24,11778,24,11785,null,null,null,null,0,122]
[21,11896,22,11902,24,11909,null,null,null,null,0,222]
[21,12029,22,12044,24,12051,null,null,null,null,0,222]
[12,12145,24,12162,24,12169,null,null,null,null,0,122]
[12,12271,24,12284,24,12290,null,null,null,null,0,122]
[12,12388,13,12393,24,12412,null,null,null,null,0,112]
[12,12512,24,12525,24,12530,null,null,null,null,0,122]
[12,12629,24,12648,24,12655,null,null,null,null,0,122]
[12,12753,24,12766,24,12775,null,null,null,null,0,122]
[12,12870,24,12888,24,12897,null,null,null,null,0,122]
[21,13008,22,13022,24,13032,null,null,null,null,0,222]
[21,13141,22,13147,24,13155,null,null,null,null,0,222]
[21,13262,22,13268,24,13275,null,null,null,null,0,222]
[12,13374,24,13386,24,13392,null,null,null,null,0,122]
[12,13502,24,13513,24,13519,null,null,null,null,0,122]
[12,13617,24,13629,24,13635,null,null,null,null,0,122]
[12,13727,24,13746,24,13753,null,null,null,null,0,122]
[12,13846,24,13858,24,13864,null,null,null,null,0,122]
[12,13957,24,13973,24,13978,null,null,null,null,0,122]
[12,14074,24,14086,24,14092,null,null,null,null,0,122]
[21,14222,22,14231,24,14239,null,null,null,null,0,222]
[21,14350,22,14356,24,14367,null,null,null,null,0,222]
[21,14480,22,14496,24,14508,null,null,null,null,0,222]
[12,14599,24,14611,24,14622,null,null,null,null,0,122]
[12,14722,24,14734,24,14743,null,null,null,null,0,122]
[12,14838,24,14855,24,14863,null,null,null,null,0,122]
[21,14966,22,14975,24,14983,null,null,null,null,0,222]
[21,15097,22,15104,24,15113,null,null,null,null,0,222]
[12,15213,24,15225,24,15233,null,null,null,null,0,122]
[12,15336,24,15348,24,15354,null,null,null,null,0,122]
[12,15456,24,15475,24,15479,null,null,null,null,0,122]
[12,15580,24,15599,24,15614,null,null,null,null,0,122]
[12,15714,24,15727,24,15738,null,null,null,null,0,122]
[21,15858,22,15866,24,15875,null,null,null,null,0,222]
[21,15980,22,15989,24,15996,null,null,null,null,0,222]
[21,16115,22,16127,24,16154,null,null,null,null,0,222]
[21,16264,22,16269,24,16277,null,null,null,null,0,222]
[21,16408,22,16424,24,16432,null,null,null,null,0,222]
[12,16532,24,16551,24,16559,null,null,null,null,0,122]
[12,16658,24,16667,24,16673,null,null,null,null,0,122]
[12,16771,24,16796,24,16805,null,null,null,null,0,122]
[12,16909,24,16931,24,16939,null,null,null,null,0,122]
[12,17036,24,17050,24,17056,null,null,null,null,0,122]
[12,17153,24,17176,24,17183,null,null,null,null,0,122]
[12,17283,24,17303,24,17316,null,null,null,null,0,122]
[12,17427,24,17440,24,17448,null,null,null,null,0,122]
[12,17547,24,17567,24,17575,null,null,null,null,0,122]
[12,17665,24,17677,24,17685,null,null,null,null,0,122]
[21,17794,22,17800,24,17808,null,null,null,null,0,222]
[12,17908,24,17919,24,17930,null,null,null,null,0,122]
[12,18023,13,18034,24,18047,null,null,null,null,0,112]
[12,18146,24,18162,24,18173,null,null,null,null,0,122]
[12,18265,24,18277,24,18283,null,null,null,null,0,122]
[12,18381,24,18393,24,18400,null,null,null,null,0,122]
[12,18499,24,18510,24,18517,null,null,null,null,0,122]
[12,18617,24,18628,24,18633,null,null,null,null,0,122]
[12,18731,24,18747,24,18752,null,null,null,null,0,122]
[12,18854,24,18869,24,18874,null,null,null,null,0,122]
[12,18969,24,18981,24,18990,null,null,null,null,0,122]
[21,19102,22,19109,24,19117,null,null,null,null,0,222]
[12,19210,24,19227,24,19234,null,null,null,null,0,122]
[12,19332,24,19343,24,19350,null,null,null,null,0,122]
[12,19447,24,19458,24,19464,null,null,null,null,0,122]
[12,19560,24,19578,24,19585,null,null,null,null,0,122]
[12,19690,24,19714,24,19733,null,null,null,null,0,122]
[12,19831,24,19844,24,19850,null,null,null,null,0,122]
[12,19951,24,19964,24,19969,null,null,null,null,0,122]
[21,20077,22,20082,24,20093,null,null,null,null,0,222]
[12,20189,24,20205,24,20210,null,null,null,null,0,122]
[12,20305,24,20321,24,20335,null,null,null,null,0,122]
[12,20433,24,20451,24,20498,null,null,null,null,0,122]
[12,20590,24,20609,24,20617,null,null,null,null,0,122]
[12,20715,24,20727,24,20733,null,null,null,null,0,122]
[12,20834,24,20846,24,20852,null,null,null,null,0,122]
[12,20952,24,20969,24,20977,null,null,null,null,0,122]
[12,21079,24,21091,24,21099,null,null,null,null,0,122]
[21,21209,22,21215,24,21231,null,null,null,null,0,222]
[21,21342,22,21349,24,21359,null,null,null,null,0,222]
[21,21468,22,21484,24,21491,null,null,null,null,0,222]
[12,21592,24,21603,24,21611,null,null,null,null,0,122]
[12,21703,24,21720,24,21730,null,null,null,null,0,122]
[12,21830,24,21841,24,21849,null,null,null,null,0,122]
[12,21945,24,21971,24,21980,null,null,null,null,0,122]
[12,22079,24,22091,24,22103,null,null,null,null,0,122]
[21,22206,22,22213,24,22220,null,null,null,null,0,222]
[21,22333,22,22338,24,22351,null,null,null,null,0,222]
[12,22449,24,22462,24,22469,null,null,null,null,0,122]
[21,22578,22,22587,24,22596,null,null,null,null,0,222]
[12,22691,24,22708,24,22716,null,null,null,null,0,122]
[12,22810,13,22819,24,22838,null,null,null,null,0,112]
[21,22950,22,22955,24,22966,null,null,null,null,0,222]
[21,23083,22,23100,24,23112,null,null,null,null,0,222]
[21,23228,22,23236,24,23243,null,null,null,null,0,222]
[12,23340,24,23352,24,23359,null,null,null,null,0,122]
[12,23461,24,23470,24,23479,null,null,null,null,0,122]
[12,23588,24,23600,24,23610,null,null,null,null,0,122]
[12,23706,24,23718,24,23724,null,null,null,null,0,122]
[12,23821,24,23846,24,23856,null,null,null,null,0,122]
[21,23961,22,23971,24,23978,null,null,null,null,null,222]

{"sheet":"!M901740.101","index":5,"n_rows":186,"n_cols":48,"rows_kept":186,"cut":false,"hidden":false,"merged":[[4,39,4,42],[5,39,5,40],[4,44,4,47],[5,44,5,45],[4,24,4,27],[5,24,5,25],[4,29,4,32],[5,29,5,30],[4,34,4,37],[5,34,5,35],[1,1,1,2],[5,13,5,14],[18,13,18,14],[19,13,19,14],[4,19,4,22],[5,19,5,20]]}
["Report for:!M901740.101"]
["Date:","<date>"]
["Hen:","<hen>",null,null,null,"Correct Sequence",{"$f":"Start!J2","v":211},null,null,null,null,null,null,null,null,"Total Sequences in Data",{"$f":"4994-COUNTBLANK(L7:L5000)","v":180},null,null,null,null,"Total Sequences in Block Data",{"$f":"COUNTA(L7:L36)","v":30},null,null,null,"Total Sequences in Block Data",{"$f":"COUNTA(L37:L66)","v":30},null,null,null,"Total Sequences in Block Data",{"$f":"COUNTA(L67:L96)","v":30},null,null,null,"Total Sequences in Block Data",{"$f":"COUNTA(L97:L126)","v":30},null,null,null,"Total Sequences in Block Data",{"$f":"COUNTA(L127:L156)","v":30},null,null,null,"Total Sequences in Block Data",{"$f":"COUNTA(L157:L186)","v":30}]
[null,null,null,null,null,null,null,null,null,null,null,null,null,null,null,"Total Sequences in Summary",{"$f":"SUM(O7:O14)","v":180},null,null,null,null,"Total Sequences in Block Summary",{"$f":"SUM(U7:U14)","v":30},null,null,null,"Total Sequences in Block Summary",{"$f":"SUM(Z7:Z14)","v":30},null,null,null,"Total Sequences in Block Summary",{"$f":"SUM(AE7:AE14)","v":30},null,null,null,"Total Sequences in Block Summary",{"$f":"SUM(AJ7:AJ14)","v":30},null,null,null,"Total Sequences in Block Summary",{"$f":"SUM(AO7:AO14)","v":30},null,null,null,"Total Sequences in Block Summary",{"$f":"SUM(AT7:AT14)","v":30}]
[null,null,null,null,null,null,null,null,null,null,null,null,null,null,null,null,null,null,null,"Block 1",null,null,null,null,"Block 2",null,null,null,null,"Block 3",null,null,null,null,"Block 4",null,null,null,null,"Block 5",null,null,null,null,"Block 6"]
["Sequence\nComponent\n1","Time\n1","Sequence\nComponent\n2","Time\n2","Sequence\nComponent\n3","Time\n3","Sequence\nComponent\n4","Time\n4","Sequence\nComponent\n5","Time\n5","Correct?\n0=No 1=Yes","Sequence",null,"Frequency",null,"Relative Frequency","Variability",null,null,"Frequency",null,"Relative Frequency","Variability",null,"Frequency",null,"Relative Frequency","Variability",null,"Frequency",null,"Relative Frequency","Variability",null,"Frequency",null,"Relative Frequency","Variability",null,"Frequency",null,"Relative Frequency","Variability",null,"Frequency",null,"Relative Frequency","Variability"]
[12,12,24,31,24,40,null,null,null,null,0,122,null,111,{"$f":"COUNTIF($L$7:$L$500,N7)","v":0},{"$f":"O7/$Q$4","v":0},{"$f":"IF(P7=0,0,(P7*((LOG(P7))/LOG(2))))","v":0},null,null,{"$f":"N7","v":111},{"$f":"COUNTIF(L7:L36,T7)","v":0},{"$f":"U7/(W4-U11)","v":0},{"$f":"IF(V7=0,0,(V7*((LOG(V7))/LOG(2))))","v":0},null,{"$f":"N7","v":111},{"$f":"COUNTIF(L37:L66,Y7)","v":0},{"$f":"Z7/(AB4-Z11)","v":0},{"$f":"IF(AA7=0,0,(AA7*((LOG(AA7))/LOG(2))))","v":0},null,{"$f":"N7","v":111},{"$f":"COUNTIF(L67:L96,AD7)","v":0},{"$f":"AE7/(AG4-AE11)","v":0},{"$f":"IF(AF7=0,0,(AF7*((LOG(AF7))/LOG(2))))","v":0},null,{"$f":"N7","v":111},{"$f":"COUNTIF(L97:L126,AI7)","v":0},{"$f":"AJ7/(AL4-AJ11)","v":0},{"$f":"IF(AK7=0,0,(AK7*((LOG(AK7))/LOG(2))))","v":0},null,{"$f":"N7","v":111},{"$f":"COUNTIF(L127:L156,AN7)","v":0},{"$f":"AO7/(AQ4-AO11)","v":0},{"$f":"IF(AP7=0,0,(AP7*((LOG(AP7))/LOG(2))))","v":0},null,{"$f":"N7","v":111},{"$f":"COUNTIF(L157:L186,AS7)","v":0},{"$f":"AT7/(AV4-AT11)","v":0},{"$f":"IF(AU7=0,0,(AU7*((LOG(AU7))/LOG(2))))","v":0}]
[12,147,24,161,24,166,null,null,null,null,0,122,null,112,{"$f":"COUNTIF($L$7:$L$500,N8)","v":3},{"$f":"O8/$Q$4","v":1.6666666666666666E-2},{"$f":"IF(P8=0,0,(P8*((LOG(P8))/LOG(2))))","v":-9.8448176593475309E-2},null,null,{"$f":"N8","v":112},{"$f":"COUNTIF(L7:L36,T8)","v":0},{"$f":"U8/(W4-U11)","v":0},{"$f":"IF(V8=0,0,(V8*((LOG(V8))/LOG(2))))","v":0},null,{"$f":"N8","v":112},{"$f":"COUNTIF(L37:L66,Y8)","v":2},{"$f":"Z8/(AB4-Z11)","v":6.6666666666666666E-2},{"$f":"IF(AA8=0,0,(AA8*((LOG(AA8))/LOG(2))))","v":-0.26045937304056793},null,{"$f":"N8","v":112},{"$f":"COUNTIF(L67:L96,AD8)","v":0},{"$f":"AE8/(AG4-AE11)","v":0},{"$f":"IF(AF8=0,0,(AF8*((LOG(AF8))/LOG(2))))","v":0},null,{"$f":"N8","v":112},{"$f":"COUNTIF(L97:L126,AI8)","v":0},{"$f":"AJ8/(AL4-AJ11)","v":0},{"$f":"IF(AK8=0,0,(AK8*((LOG(AK8))/LOG(2))))","v":0},null,{"$f":"N8","v":112},{"$f":"COUNTIF(L127:L156,AN8)","v":1},{"$f":"AO8/(AQ4-AO11)","v":3.3333333333333333E-2},{"$f":"IF(AP8=0,0,(AP8*((LOG(AP8))/LOG(2))))","v":-0.16356301985361729},null,{"$f":"N8","v":112},{"$f":"COUNTIF(L157:L186,AS8)","v":0},{"$f":"AT8/(AV4-AT11)","v":0},{"$f":"IF(AU8=0,0,(AU8*((LOG(AU8))/LOG(2))))","v":0}]
[12,267,24,279,24,285,null,null,null,null,0,122,null,121,{"$f":"COUNTIF($L$7:$L$500,N9)","v":0},{"$f":"O9/$Q$4","v":0},{"$f":"IF(P9=0,0,(P9*((LOG(P9))/LOG(2))))","v":0},null,null,{"$f":"N9","v":121},{"$f":"COUNTIF(L7:L36,T9)","v":0},{"$f":"U9/(W4-U11)","v":0},{"$f":"IF(V9=0,0,(V9*((LOG(V9))/LOG(2))))","v":0},null,{"$f":"N9","v":121},{"$f":"COUNTIF(L37:L66,Y9)","v":0},{"$f":"Z9/(AB4-Z11)","v":0},{"$f":"IF(AA9=0,0,(AA9*((LOG(AA9))/LOG(2))))","v":0},null,{"$f":"N9","v":121},{"$f":"COUNTIF(L67:L96,AD9)","v":0},{"$f":"AE9/(AG4-AE11)","v":0},{"$f":"IF(AF9=0,0,(AF9*((LOG(AF9))/LOG(2))))","v":0},null,{"$f":"N9","v":121},{"$f":"COUNTIF(L97:L126,AI9)","v":0},{"$f":"AJ9/(AL4-AJ11)","v":0},{"$f":"IF(AK9=0,0,(AK9*((LOG(AK9))/LOG(2))))","v":0},null,{"$f":"N9","v":121},{"$f":"COUNTIF(L127:L156,AN9)","v":0},{"$f":"AO9/(AQ4-AO11)","v":0},{"$f":"IF(AP9=0,0,(AP9*((LOG(AP9))/LOG(2))))","v":0},null,{"$f":"N9","v":121},{"$f":"COUNTIF(L157:L186,AS9)","v":0},{"$f":"AT9/(AV4-AT11)","v":0},{"$f":"IF(AU9=0,0,(AU9*((LOG(AU9))/LOG(2))))","v":0}]
[12,383,24,396,24,402,null,null,null,null,0,122,null,122,{"$f":"COUNTIF($L$7:$L$500,N10)","v":121},{"$f":"O10/$Q$4","v":0.67222222222222228},{"$f":"IF(P10=0,0,(P10*((LOG(P10))/LOG(2))))","v":-0.38517651636480382},null,null,{"$f":"N10","v":122},{"$f":"COUNTIF(L7:L36,T10)","v":27},{"$f":"U10/(W4-U11)","v":0.9},{"$f":"IF(V10=0,0,(V10*((LOG(V10))/LOG(2))))","v":-0.13680278410054494},null,{"$f":"N10","v":122},{"$f":"COUNTIF(L37:L66,Y10)","v":22},{"$f":"Z10/(AB4-Z11)","v":0.73333333333333328},{"$f":"IF(AA10=0,0,(AA10*((LOG(AA10))/LOG(2))))","v":-0.32813658311222899},null,{"$f":"N10","v":122},{"$f":"COUNTIF(L67:L96,AD10)","v":18},{"$f":"AE10/(AG4-AE11)","v":0.6},{"$f":"IF(AF10=0,0,(AF10*((LOG(AF10))/LOG(2))))","v":-0.44217935649972373},null,{"$f":"N10","v":122},{"$f":"COUNTIF(L97:L126,AI10)","v":22},{"$f":"AJ10/(AL4-AJ11)","v":0.73333333333333328},{"$f":"IF(AK10=0,0,(AK10*((LOG(AK10))/LOG(2))))","v":-0.32813658311222899},null,{"$f":"N10","v":122},{"$f":"COUNTIF(L127:L156,AN10)","v":16},{"$f":"AO10/(AQ4-AO11)","v":0.53333333333333333},{"$f":"IF(AP10=0,0,(AP10*((LOG(AP10))/LOG(2))))","v":-0.4836749843245432},null,{"$f":"N10","v":122},{"$f":"COUNTIF(L157:L186,AS10)","v":16},{"$f":"AT10/(AV4-AT11)","v":0.53333333333333333},{"$f":"IF(AU10=0,0,(AU10*((LOG(AU10))/LOG(2))))","v":-0.4836749843245432}]
[12,503,24,516,24,521,null,null,null,null,0,122,null,211,{"$f":"COUNTIF($L$7:$L$500,N11)","v":0},{"$f":"O11/$Q$4","v":0},{"$f":"IF(P11=0,0,(P11*((LOG(P11))/LOG(2))))","v":0},null,null,{"$f":"N11","v":211},{"$f":"COUNTIF(L7:L36,T11)","v":0},null,null,null,{"$f":"N11","v":211},{"$f":"COUNTIF(L37:L66,Y11)","v":0},null,null,null,{"$f":"N11","v":211},{"$f":"COUNTIF(L67:L96,AD11)","v":0},null,null,null,{"$f":"N11","v":211},{"$f":"COUNTIF(L97:L126,AI11)","v":0},null,null,null,{"$f":"N11","v":211},{"$f":"COUNTIF(L127:L156,AN11)","v":0},null,null,null,{"$f":"N11","v":211},{"$f":"COUNTIF(L157:L186,AS11)","v":0}]
[12,622,24,635,24,641,null,null,null,null,0,122,null,212,{"$f":"COUNTIF($L$7:$L$500,N12)","v":0},{"$f":"O12/$Q$4","v":0},{"$f":"IF(P12=0,0,(P12*((LOG(P12))/LOG(2))))","v":0},null,null,{"$f":"N12","v":212},{"$f":"COUNTIF(L7:L36,T12)","v":0},{"$f":"U12/(W4-U11)","v":0},{"$f":"IF(V12=0,0,(V12*((LOG(V12))/LOG(2))))","v":0},null,{"$f":"N12","v":212},{"$f":"COUNTIF(L37:L66,Y12)","v":0},{"$f":"Z12/(AB4-Z11)","v":0},{"$f":"IF(AA12=0,0,(AA12*((LOG(AA12))/LOG(2))))","v":0},null,{"$f":"N12","v":212},{"$f":"COUNTIF(L67:L96,AD12)","v":0},{"$f":"AE12/(AG4-AE11)","v":0},{"$f":"IF(AF12=0,0,(AF12*((LOG(AF12))/LOG(2))))","v":0},null,{"$f":"N12","v":212},{"$f":"COUNTIF(L97:L126,AI12)","v":0},{"$f":"AJ12/(AL4-AJ11)","v":0},{"$f":"IF(AK12=0,0,(AK12*((LOG(AK12))/LOG(2))))","v":0},null,{"$f":"N12","v":212},{"$f":"COUNTIF(L127:L156,AN12)","v":0},{"$f":"AO12/(AQ4-AO11)","v":0},{"$f":"IF(AP12=0,0,(AP12*((LOG(AP12))/LOG(2))))","v":0},null,{"$f":"N12","v":212},{"$f":"COUNTIF(L157:L186,AS12)","v":0},{"$f":"AT12/(AV4-AT11)","v":0},{"$f":"IF(AU12=0,0,(AU12*((LOG(AU12))/LOG(2))))","v":0}]
[21,745,22,751,24,758,null,null,null,null,0,222,null,221,{"$f":"COUNTIF($L$7:$L$500,N13)","v":0},{"$f":"O13/$Q$4","v":0},{"$f":"IF(P13=0,0,(P13*((LOG(P13))/LOG(2))))","v":0},null,null,{"$f":"N13","v":221},{"$f":"COUNTIF(L7:L36,T13)","v":0},{"$f":"U13/(W4-U11)","v":0},{"$f":"IF(V13=0,0,(V13*((LOG(V13))/LOG(2))))","v":0},null,{"$f":"N13","v":221},{"$f":"COUNTIF(L37:L66,Y13)","v":0},{"$f":"Z13/(AB4-Z11)","v":0},{"$f":"IF(AA13=0,0,(AA13*((LOG(AA13))/LOG(2))))","v":0},null,{"$f":"N13","v":221},{"$f":"COUNTIF(L67:L96,AD13)","v":0},{"$f":"AE13/(AG4-AE11)","v":0},{"$f":"IF(AF13=0,0,(AF13*((LOG(AF13))/LOG(2))))","v":0},null,{"$f":"N13","v":221},{"$f":"COUNTIF(L97:L126,AI13)","v":0},{"$f":"AJ13/(AL4-AJ11)","v":0},{"$f":"IF(AK13=0,0,(AK13*((LOG(AK13))/LOG(2))))","v":0},null,{"$f":"N13","v":221},{"$f":"COUNTIF(L127:L156,AN13)","v":0},{"$f":"AO13/(AQ4-AO11)","v":0},{"$f":"IF(AP13=0,0,(AP13*((LOG(AP13))/LOG(2))))","v":0},null,{"$f":"N13","v":221},{"$f":"COUNTIF(L157:L186,AS13)","v":0},{"$f":"AT13/(AV4-AT11)","v":0},{"$f":"IF(AU13=0,0,(AU13*((LOG(AU13))/LOG(2))))","v":0}]
[12,856,24,867,24,873,null,null,null,null,0,122,null,222,{"$f":"COUNTIF($L$7:$L$500,N14)","v":56},{"$f":"O14/$Q$4","v":0.31111111111111112},{"$f":"IF(P14=0,0,(P14*((LOG(P14))/LOG(2))))","v":-0.52406609866242193},null,null,{"$f":"N14","v":222},{"$f":"COUNTIF(L7:L36,T14)","v":3},{"$f":"U14/(W4-U11)","v":0.1},{"$f":"IF(V14=0,0,(V14*((LOG(V14))/LOG(2))))","v":-0.33219280948873625},null,{"$f":"N14","v":222},{"$f":"COUNTIF(L37:L66,Y14)","v":6},{"$f":"Z14/(AB4-Z11)","v":0.2},{"$f":"IF(AA14=0,0,(AA14*((LOG(AA14))/LOG(2))))","v":-0.46438561897747244},null,{"$f":"N14","v":222},{"$f":"COUNTIF(L67:L96,AD14)","v":12},{"$f":"AE14/(AG4-AE11)","v":0.4},{"$f":"IF(AF14=0,0,(AF14*((LOG(AF14))/LOG(2))))","v":-0.52877123795494496},null,{"$f":"N14","v":222},{"$f":"COUNTIF(L97:L126,AI14)","v":8},{"$f":"AJ14/(AL4-AJ11)","v":0.26666666666666666},{"$f":"IF(AK14=0,0,(AK14*((LOG(AK14))/LOG(2))))","v":-0.50850415882893829},null,{"$f":"N14","v":222},{"$f":"COUNTIF(L127:L156,AN14)","v":13},{"$f":"AO14/(AQ4-AO11)","v":0.43333333333333335},{"$f":"IF(AP14=0,0,(AP14*((LOG(AP14))/LOG(2))))","v":-0.52279538023588479},null,{"$f":"N14","v":222},{"$f":"COUNTIF(L157:L186,AS14)","v":14},{"$f":"AT14/(AV4-AT11)","v":0.46666666666666667},{"$f":"IF(AU14=0,0,(AU14*((LOG(AU14))/LOG(2))))","v":-0.51311664765709342}]
[12,974,24,987,24,993,null,null,null,null,0,122,null,null,null,{"$f":"SUM(P7:P14)","v":1},{"$f":"-SUM(Q7:Q14)","v":1.0076907916207012},null,null,null,null,{"$f":"SUM(V7:V14)","v":1},{"$f":"-SUM(W7:W14)","v":0.46899559358928122},null,null,null,{"$f":"SUM(AA7:AA14)","v":1},{"$f":"-SUM(AB7:AB14)","v":1.0529815751302694},null,null,null,{"$f":"SUM(AF7:AF14)","v":1},{"$f":"-SUM(AG7:AG14)","v":0.97095059445466869},null,null,null,{"$f":"SUM(AK7:AK14)","v":1},{"$f":"-SUM(AL7:AL14)","v":0.83664074194116722},null,null,null,{"$f":"SUM(AP7:AP14)","v":1},{"$f":"-SUM(AQ7:AQ14)","v":1.1700333844140451},null,null,null,{"$f":"SUM(AU7:AU14)","v":1},{"$f":"-SUM(AV7:AV14)","v":0.99679163198163656}]
[21,1096,22,1102,24,1111,null,null,null,null,0,222,null,null,null,"U=",{"$f":"Q15/(LOG(Q4)/LOG(2))","v":0.13450487865470531},null,null,null,null,"U1=",{"$f":"W15/(LOG(W4)/LOG(2))","v":9.5578979080767471E-2},null,null,null,"U2=",{"$f":"AB15/(LOG(AB4)/LOG(2))","v":0.2145924296891086},null,null,null,"U3=",{"$f":"AG15/(LOG(AG4)/LOG(2))","v":0.19787492211944419},null,null,null,"U4=",{"$f":"AL15/(LOG(AL4)/LOG(2))","v":0.1705032394017362},null,null,null,"U5=",{"$f":"AQ15/(LOG(AQ4)/LOG(2))","v":0.23844700867412466},null,null,null,"U6=",{"$f":"AV15/(LOG(AV4)/LOG(2))","v":0.20314119757912014}]
[12,1210,24,1222,24,1228,null,null,null,null,0,122]
[12,1325,24,1342,24,1374,null,null,null,null,0,122]
[12,1474,24,1506,24,1514,null,null,null,null,0,122,null,"Total Target Seq"]
[12,1620,24,1633,24,1638,null,null,null,null,0,122,null,{"$f":"COUNTIF(L7:L186,G3)","v":0},null,30,30,30,30,30,30]
[12,1739,24,1749,24,1755,null,null,null,null,0,122,null,null,null,"% of reinforcement given in 6 equal intervals based on number of trials "]
[12,1855,24,1880,24,1895,null,null,null,null,0,122,null,null,null,"%_1","%_2","%_3","%_4","%_5","%_6"]
[12,1997,24,2015,24,2029,null,null,null,null,0,122,null,null,"target sequence",{"$f":"$G$3","v":211},{"$f":"$G$3","v":211},{"$f":"$G$3","v":211},{"$f":"$G$3","v":211},{"$f":"$G$3","v":211},{"$f":"$G$3","v":211}]
[12,2127,24,2145,24,2150,null,null,null,null,0,122,null,null,"total reinforcement",{"$f":"U11","v":0},{"$f":"Z11","v":0},{"$f":"AE11","v":0},{"$f":"AJ11","v":0},{"$f":"AO11","v":0},{"$f":"AT11","v":0}]
[12,2245,24,2265,24,2272,null,null,null,null,0,122,null,null,"% target"]
[12,2365,24,2378,24,2394,null,null,null,null,0,122,null,null,"CCRF"]
[12,2492,24,2502,24,2508,null,null,null,null,0,122,null,null,"% CCRf"]
[12,2614,24,2627,24,2641,null,null,null,null,0,122,null,null,"average response rate",{"$f":"F36/P20","v":122.43333333333334},{"$f":"(F66-F36)/Q20","v":126.5},{"$f":"(F96-F66)/R20","v":136.53333333333333},{"$f":"(F126-F96)/S20","v":145.5},{"$f":"(F156-F126)/T20","v":133.16666666666666},{"$f":"(F186-F156)/U20","v":135.06666666666666}]
[21,2761,22,2769,24,2821,null,null,null,null,0,222]
[12,2920,24,2934,24,2950,null,null,null,null,0,122]
[12,3045,24,3068,24,3086,null,null,null,null,0,122]
[12,3181,24,3198,24,3204,null,null,null,null,0,122]
[12,3303,24,3315,24,3321,null,null,null,null,0,122]
[12,3420,24,3429,24,3435,null,null,null,null,0,122]
[12,3533,24,3546,24,3551,null,null,null,null,0,122]
[12,3651,24,3661,24,3673,null,null,null,null,0,122]
[12,3770,24,3787,24,3795,null,null,null,null,0,122]
[12,3894,24,3912,24,3927,null,null,null,null,0,122]
[12,4023,24,4036,24,4041,null,null,null,null,0,122]
[12,4138,24,4162,24,4170,null,null,null,null,0,122]
[12,4267,24,4283,24,4290,null,null,null,null,0,122]
[12,4390,24,4406,24,4411,null,null,null,null,0,122]
[12,4506,24,4524,24,4544,null,null,null,null,0,122]
[21,4663,22,4681,24,4697,null,null,null,null,0,222]
[21,4842,22,4848,24,4856,null,null,null,null,0,222]
[12,4956,24,4980,24,4990,null,null,null,null,0,122]
[12,5093,13,5099,24,5111,null,null,null,null,0,112]
[12,5208,24,5222,24,5234,null,null,null,null,0,122]
[12,5327,24,5339,24,5345,null,null,null,null,0,122]
[12,5440,24,5453,24,5459,null,null,null,null,0,122]
[12,5564,24,5576,24,5582,null,null,null,null,0,122]
[12,5679,24,5697,24,5716,null,null,null,null,0,122]
[12,5819,24,5829,24,5841,null,null,null,null,0,122]
[12,5937,24,5948,24,5954,null,null,null,null,0,122]
[12,6053,24,6071,24,6076,null,null,null,null,0,122]
[12,6173,24,6186,24,6192,null,null,null,null,0,122]
[12,6292,24,6309,24,6317,null,null,null,null,0,122]
[21,6435,22,6439,24,6452,null,null,null,null,0,222]
[21,6571,22,6593,24,6615,null,null,null,null,0,222]
[21,6728,22,6737,24,6749,null,null,null,null,0,222]
[21,6857,22,6862,24,6867,null,null,null,null,0,222]
[12,6964,13,6968,24,6986,null,null,null,null,0,112]
[12,7082,24,7096,24,7101,null,null,null,null,0,122]
[12,7202,24,7212,24,7218,null,null,null,null,0,122]
[12,7317,24,7335,24,7342,null,null,null,null,0,122]
[12,7445,24,7463,24,7468,null,null,null,null,0,122]
[12,7563,24,7576,24,7582,null,null,null,null,0,122]
[12,7683,24,7699,24,7707,null,null,null,null,0,122]
[21,7829,22,7837,24,7853,null,null,null,null,0,222]
[21,7981,22,7986,24,7994,null,null,null,null,0,222]
[12,8094,24,8107,24,8113,null,null,null,null,0,122]
[12,8205,24,8225,24,8230,null,null,null,null,0,122]
[12,8329,24,8346,24,8357,null,null,null,null,0,122]
[12,8457,24,8476,24,8492,null,null,null,null,0,122]
[21,8611,22,8616,24,8622,null,null,null,null,0,222]
[12,8720,24,8739,24,8747,null,null,null,null,0,122]
[12,8849,24,8873,24,8882,null,null,null,null,0,122]
[12,8977,24,8989,24,8995,null,null,null,null,0,122]
[12,9094,24,9117,24,9125,null,null,null,null,0,122]
[12,9215,24,9234,24,9256,null,null,null,null,0,122]
[21,9385,22,9392,24,9424,null,null,null,null,0,222]
[12,9525,24,9538,24,9550,null,null,null,null,0,122]
[12,9649,24,9666,24,9677,null,null,null,null,0,122]
[12,9776,24,9814,24,9823,null,null,null,null,0,122]
[12,9920,24,9940,24,9946,null,null,null,null,0,122]
[21,10060,22,10081,24,10089,null,null,null,null,0,222]
[12,10184,24,10207,24,10221,null,null,null,null,0,122]
[21,10335,22,10343,24,10350,null,null,null,null,0,222]
[21,10484,22,10494,24,10502,null,null,null,null,0,222]
[12,10606,24,10625,24,10631,null,null,null,null,0,122]
[21,10746,22,10760,24,10796,null,null,null,null,0,222]
[21,10922,22,10938,24,10952,null,null,null,null,0,222]
[12,11054,24,11094,24,11111,null,null,null,null,0,122]
[21,11264,22,11274,24,11284,null,null,null,null,0,222]
[21,11394,22,11421,24,11430,null,null,null,null,0,222]
[21,11547,22,11558,24,11564,null,null,null,null,0,222]
[12,11662,24,11680,24,11686,null,null,null,null,0,122]
[21,11817,22,11825,24,11887,null,null,null,null,0,222]
[12,11987,24,12012,24,12021,null,null,null,null,0,122]
[21,12165,22,12173,24,12208,null,null,null,null,0,222]
[12,12308,24,12356,24,12382,null,null,null,null,0,122]
[21,12497,22,12524,24,12533,null,null,null,null,0,222]
[12,12632,24,12666,24,12680,null,null,null,null,0,122]
[12,12776,24,12801,24,12831,null,null,null,null,0,122]
[21,12943,22,12960,24,12970,null,null,null,null,0,222]
[12,13067,24,13091,24,13099,null,null,null,null,0,122]
[12,13199,24,13224,24,13233,null,null,null,null,0,122]
[21,13338,22,13349,24,13356,null,null,null,null,0,222]
[12,13457,24,13473,24,13480,null,null,null,null,0,122]
[12,13578,24,13601,24,13616,null,null,null,null,0,122]
[12,13716,24,13733,24,13784,null,null,null,null,0,122]
[12,13884,24,13903,24,13924,null,null,null,null,0,122]
[12,14019,24,14036,24,14061,null,null,null,null,0,122]
[12,14164,24,14179,24,14193,null,null,null,null,0,122]
[12,14294,24,14311,24,14317,null,null,null,null,0,122]
[12,14416,24,14429,24,14446,null,null,null,null,0,122]
[12,14546,24,14579,24,14612,null,null,null,null,0,122]
[12,14710,24,14728,24,14748,null,null,null,null,0,122]
[21,14863,22,14893,24,14915,null,null,null,null,0,222]
[12,15010,24,15041,24,15068,null,null,null,null,0,122]
[21,15189,22,15194,24,15202,null,null,null,null,0,222]
[12,15301,24,15319,24,15332,null,null,null,null,0,122]
[12,15432,24,15445,24,15465,null,null,null,null,0,122]
[12,15562,24,15603,24,15618,null,null,null,null,0,122]
[12,15713,24,15768,24,15789,null,null,null,null,0,122]
[21,15903,22,15914,24,15929,null,null,null,null,0,222]
[12,16025,24,16042,24,16054,null,null,null,null,0,122]
[21,16165,22,16170,24,16185,null,null,null,null,0,222]
[21,16295,22,16325,24,16333,null,null,null,null,0,222]
[12,16430,24,16454,24,16472,null,null,null,null,0,122]
[12,16573,13,16583,24,16596,null,null,null,null,0,112]
[21,16717,22,16722,24,16731,null,null,null,null,0,222]
[21,16855,22,16870,24,16879,null,null,null,null,0,222]
[12,16978,24,16999,24,17013,null,null,null,null,0,122]
[21,17126,22,17133,24,17138,null,null,null,null,0,222]
[12,17233,24,17250,24,17263,null,null,null,null,0,122]
[12,17362,24,17372,24,17405,null,null,null,null,0,122]
[21,17513,22,17520,24,17528,null,null,null,null,0,222]
[21,17643,22,17650,24,17657,null,null,null,null,0,222]
[21,17769,22,17787,24,17795,null,null,null,null,0,222]
[12,17899,24,17931,24,17943,null,null,null,null,0,122]
[21,18051,22,18066,24,18073,null,null,null,null,0,222]
[12,18177,24,18191,24,18199,null,null,null,null,0,122]
[21,18317,22,18326,24,18333,null,null,null,null,0,222]
[12,18433,24,18450,24,18458,null,null,null,null,0,122]
[21,18567,22,18574,24,18582,null,null,null,null,0,222]
[12,18683,24,18706,24,18717,null,null,null,null,0,122]
[12,18817,24,18830,24,18844,null,null,null,null,0,122]
[12,18942,24,18967,24,18979,null,null,null,null,0,122]
[21,19106,22,19114,24,19133,null,null,null,null,0,222]
[12,19233,24,19271,24,19280,null,null,null,null,0,122]
[12,19377,24,19392,24,19407,null,null,null,null,0,122]
[12,19506,24,19520,24,19530,null,null,null,null,0,122]
[12,19629,24,19672,24,19685,null,null,null,null,0,122]
[12,19780,24,19794,24,19806,null,null,null,null,0,122]
[21,19911,22,19916,24,19924,null,null,null,null,0,222]
[12,20034,24,20054,24,20060,null,null,null,null,0,122]
[12,20160,24,20183,24,20193,null,null,null,null,0,122]
[12,20293,24,20315,24,20320,null,null,null,null,0,122]
[12,20420,24,20432,24,20446,null,null,null,null,0,122]
[12,20554,24,20580,24,20588,null,null,null,null,0,122]
[21,20699,22,20715,24,20739,null,null,null,null,0,222]
[12,20842,24,20859,24,20873,null,null,null,null,0,122]
[12,20969,24,20986,24,21000,null,null,null,null,0,122]
[21,21113,22,21119,24,21134,null,null,null,null,0,222]
[12,21230,24,21243,24,21255,null,null,null,null,0,122]
[12,21353,24,21377,24,21400,null,null,null,null,0,122]
[21,21508,22,21514,24,21521,null,null,null,null,0,222]
[12,21625,24,21638,24,21655,null,null,null,null,0,122]
[12,21753,24,21798,24,21818,null,null,null,null,0,122]
[21,21936,22,21941,24,21963,null,null,null,null,0,222]
[21,22096,22,22108,24,22117,null,null,null,null,0,222]
[21,22224,22,22232,24,22240,null,null,null,null,0,222]
[21,22349,22,22370,24,22380,null,null,null,null,0,222]
[12,22478,24,22491,24,22504,null,null,null,null,0,122]
[21,22610,22,22615,24,22624,null,null,null,null,0,222]
[21,22760,22,22769,24,22794,null,null,null,null,0,222]
[21,22904,22,22916,24,22924,null,null,null,null,0,222]
[21,23029,22,23037,24,23045,null,null,null,null,0,222]
[21,23175,22,23195,24,23232,null,null,null,null,0,222]
[12,23334,24,23351,24,23359,null,null,null,null,0,122]
[12,23457,24,23471,24,23478,null,null,null,null,0,122]
[21,23585,22,23598,24,23603,null,null,null,null,0,222]
[21,23721,22,23726,24,23738,null,null,null,null,0,222]
[12,23841,24,23858,24,23863,null,null,null,null,0,122]
[12,23958,24,23970,24,23976,null,null,null,null,null,122]

{"sheet":"!M902850.101","index":6,"n_rows":183,"n_cols":48,"rows_kept":183,"cut":false,"hidden":false,"merged":[[4,39,4,42],[5,39,5,40],[4,44,4,47],[5,44,5,45],[4,24,4,27],[5,24,5,25],[4,29,4,32],[5,29,5,30],[4,34,4,37],[5,34,5,35],[1,1,1,2],[5,13,5,14],[18,13,18,14],[19,13,19,14],[4,19,4,22],[5,19,5,20]]}
["Report for:!M902850.101"]
["Date:","<date>"]
["Hen:","<hen>",null,null,null,"Correct Sequence",{"$f":"Start!J2","v":211},null,null,null,null,null,null,null,null,"Total Sequences in Data",{"$f":"4994-COUNTBLANK(L7:L5000)","v":177},null,null,null,null,"Total Sequences in Block Data",{"$f":"COUNTA(L7:L36)","v":30},null,null,null,"Total Sequences in Block Data",{"$f":"COUNTA(L37:L65)","v":29},null,null,null,"Total Sequences in Block Data",{"$f":"COUNTA(L66:L95)","v":30},null,null,null,"Total Sequences in Block Data",{"$f":"COUNTA(L96:L124)","v":29},null,null,null,"Total Sequences in Block Data",{"$f":"COUNTA(L125:L154)","v":30},null,null,null,"Total Sequences in Block Data",{"$f":"COUNTA(L155:L183)","v":29}]
[null,null,null,null,null,null,null,null,null,null,null,null,null,null,null,"Total Sequences in Summary",{"$f":"SUM(O7:O14)","v":177},null,null,null,null,"Total Sequences in Block Summary",{"$f":"SUM(U7:U14)","v":30},null,null,null,"Total Sequences in Block Summary",{"$f":"SUM(Z7:Z14)","v":29},null,null,null,"Total Sequences in Block Summary",{"$f":"SUM(AE7:AE14)","v":30},null,null,null,"Total Sequences in Block Summary",{"$f":"SUM(AJ7:AJ14)","v":29},null,null,null,"Total Sequences in Block Summary",{"$f":"SUM(AO7:AO14)","v":30},null,null,null,"Total Sequences in Block Summary",{"$f":"SUM(AT7:AT14)","v":29}]
[null,null,null,null,null,null,null,null,null,null,null,null,null,null,null,null,null,null,null,"Block 1",null,null,null,null,"Block 2",null,null,null,null,"Block 3",null,null,null,null,"Block 4",null,null,null,null,"Block 5",null,null,null,null,"Block 6"]
["Sequence\nComponent\n1","Time\n1","Sequence\nComponent\n2","Time\n2","Sequence\nComponent\n3","Time\n3","Sequence\nComponent\n4","Time\n4","Sequence\nComponent\n5","Time\n5","Correct?\n0=No 1=Yes","Sequence",null,"Frequency",null,"Relative Frequency","Variability",null,null,"Frequency",null,"Relative Frequency","Variability",null,"Frequency",null,"Relative Frequency","Variability",null,"Frequency",null,"Relative Frequency","Variability",null,"Frequency",null,"Relative Frequency","Variability",null,"Frequency",null,"Relative Frequency","Variability",null,"Frequency",null,"Relative Frequency","Variability"]
[12,8,24,24,24,35,null,null,null,null,0,122,null,111,{"$f":"COUNTIF($L$7:$L$500,N7)","v":0},{"$f":"O7/$Q$4","v":0},{"$f":"IF(P7=0,0,(P7*((LOG(P7))/LOG(2))))","v":0},null,null,{"$f":"N7","v":111},{"$f":"COUNTIF(L7:L36,T7)","v":0},{"$f":"U7/(W4-U11)","v":0},{"$f":"IF(V7=0,0,(V7*((LOG(V7))/LOG(2))))","v":0},null,{"$f":"N7","v":111},{"$f":"COUNTIF(L37:L65,Y7)","v":0},{"$f":"Z7/(AB4-Z11)","v":0},{"$f":"IF(AA7=0,0,(AA7*((LOG(AA7))/LOG(2))))","v":0},null,{"$f":"N7","v":111},{"$f":"COUNTIF(L66:L95,AD7)","v":0},{"$f":"AE7/(AG4-AE11)","v":0},{"$f":"IF(AF7=0,0,(AF7*((LOG(AF7))/LOG(2))))","v":0},null,{"$f":"N7","v":111},{"$f":"COUNTIF(L96:L124,AI7)","v":0},{"$f":"AJ7/(AL4-AJ11)","v":0},{"$f":"IF(AK7=0,0,(AK7*((LOG(AK7))/LOG(2))))","v":0},null,{"$f":"N7","v":111},{"$f":"COUNTIF(L125:L154,AN7)","v":0},{"$f":"AO7/(AQ4-AO11)","v":0},{"$f":"IF(AP7=0,0,(AP7*((LOG(AP7))/LOG(2))))","v":0},null,{"$f":"N7","v":111},{"$f":"COUNTIF(L155:L183,AS7)","v":0},{"$f":"AT7/(AV4-AT11)","v":0},{"$f":"IF(AU7=0,0,(AU7*((LOG(AU7))/LOG(2))))","v":0}]
[12,136,24,153,24,158,null,null,null,null,0,122,null,112,{"$f":"COUNTIF($L$7:$L$500,N8)","v":2},{"$f":"O8/$Q$4","v":1.1299435028248588E-2},{"$f":"IF(P8=0,0,(P8*((LOG(P8))/LOG(2))))","v":-7.3080288701502794E-2},null,null,{"$f":"N8","v":112},{"$f":"COUNTIF(L7:L36,T8)","v":0},{"$f":"U8/(W4-U11)","v":0},{"$f":"IF(V8=0,0,(V8*((LOG(V8))/LOG(2))))","v":0},null,{"$f":"N8","v":112},{"$f":"COUNTIF(L37:L65,Y8)","v":1},{"$f":"Z8/(AB4-Z11)","v":3.4482758620689655E-2},{"$f":"IF(AA8=0,0,(AA8*((LOG(AA8))/LOG(2))))","v":-0.16751658603888178},null,{"$f":"N8","v":112},{"$f":"COUNTIF(L66:L95,AD8)","v":1},{"$f":"AE8/(AG4-AE11)","v":3.3333333333333333E-2},{"$f":"IF(AF8=0,0,(AF8*((LOG(AF8))/LOG(2))))","v":-0.16356301985361729},null,{"$f":"N8","v":112},{"$f":"COUNTIF(L96:L124,AI8)","v":0},{"$f":"AJ8/(AL4-AJ11)","v":0},{"$f":"IF(AK8=0,0,(AK8*((LOG(AK8))/LOG(2))))","v":0},null,{"$f":"N8","v":112},{"$f":"COUNTIF(L125:L154,AN8)","v":0},{"$f":"AO8/(AQ4-AO11)","v":0},{"$f":"IF(AP8=0,0,(AP8*((LOG(AP8))/LOG(2))))","v":0},null,{"$f":"N8","v":112},{"$f":"COUNTIF(L155:L183,AS8)","v":0},{"$f":"AT8/(AV4-AT11)","v":0},{"$f":"IF(AU8=0,0,(AU8*((LOG(AU8))/LOG(2))))","v":0}]
[12,260,24,272,24,278,null,null,null,null,0,122,null,121,{"$f":"COUNTIF($L$7:$L$500,N9)","v":0},{"$f":"O9/$Q$4","v":0},{"$f":"IF(P9=0,0,(P9*((LOG(P9))/LOG(2))))","v":0},null,null,{"$f":"N9","v":121},{"$f":"COUNTIF(L7:L36,T9)","v":0},{"$f":"U9/(W4-U11)","v":0},{"$f":"IF(V9=0,0,(V9*((LOG(V9))/LOG(2))))","v":0},null,{"$f":"N9","v":121},{"$f":"COUNTIF(L37:L65,Y9)","v":0},{"$f":"Z9/(AB4-Z11)","v":0},{"$f":"IF(AA9=0,0,(AA9*((LOG(AA9))/LOG(2))))","v":0},null,{"$f":"N9","v":121},{"$f":"COUNTIF(L66:L95,AD9)","v":0},{"$f":"AE9/(AG4-AE11)","v":0},{"$f":"IF(AF9=0,0,(AF9*((LOG(AF9))/LOG(2))))","v":0},null,{"$f":"N9","v":121},{"$f":"COUNTIF(L96:L124,AI9)","v":0},{"$f":"AJ9/(AL4-AJ11)","v":0},{"$f":"IF(AK9=0,0,(AK9*((LOG(AK9))/LOG(2))))","v":0},null,{"$f":"N9","v":121},{"$f":"COUNTIF(L125:L154,AN9)","v":0},{"$f":"AO9/(AQ4-AO11)","v":0},{"$f":"IF(AP9=0,0,(AP9*((LOG(AP9))/LOG(2))))","v":0},null,{"$f":"N9","v":121},{"$f":"COUNTIF(L155:L183,AS9)","v":0},{"$f":"AT9/(AV4-AT11)","v":0},{"$f":"IF(AU9=0,0,(AU9*((LOG(AU9))/LOG(2))))","v":0}]
[21,383,22,388,24,402,null,null,null,null,0,222,null,122,{"$f":"COUNTIF($L$7:$L$500,N10)","v":107},{"$f":"O10/$Q$4","v":0.60451977401129942},{"$f":"IF(P10=0,0,(P10*((LOG(P10))/LOG(2))))","v":-0.4389651204178418},null,null,{"$f":"N10","v":122},{"$f":"COUNTIF(L7:L36,T10)","v":16},{"$f":"U10/(W4-U11)","v":0.53333333333333333},{"$f":"IF(V10=0,0,(V10*((LOG(V10))/LOG(2))))","v":-0.4836749843245432},null,{"$f":"N10","v":122},{"$f":"COUNTIF(L37:L65,Y10)","v":14},{"$f":"Z10/(AB4-Z11)","v":0.48275862068965519},{"$f":"IF(AA10=0,0,(AA10*((LOG(AA10))/LOG(2))))","v":-0.50719879389584666},null,{"$f":"N10","v":122},{"$f":"COUNTIF(L66:L95,AD10)","v":22},{"$f":"AE10/(AG4-AE11)","v":0.73333333333333328},{"$f":"IF(AF10=0,0,(AF10*((LOG(AF10))/LOG(2))))","v":-0.32813658311222899},null,{"$f":"N10","v":122},{"$f":"COUNTIF(L96:L124,AI10)","v":16},{"$f":"AJ10/(AL4-AJ11)","v":0.55172413793103448},{"$f":"IF(AK10=0,0,(AK10*((LOG(AK10))/LOG(2))))","v":-0.47336882489797077},null,{"$f":"N10","v":122},{"$f":"COUNTIF(L125:L154,AN10)","v":17},{"$f":"AO10/(AQ4-AO11)","v":0.56666666666666665},{"$f":"IF(AP10=0,0,(AP10*((LOG(AP10))/LOG(2))))","v":-0.46434239413630152},null,{"$f":"N10","v":122},{"$f":"COUNTIF(L155:L183,AS10)","v":22},{"$f":"AT10/(AV4-AT11)","v":0.75862068965517238},{"$f":"IF(AU10=0,0,(AU10*((LOG(AU10))/LOG(2))))","v":-0.30234780285469132}]
[12,501,24,524,24,533,null,null,null,null,0,122,null,211,{"$f":"COUNTIF($L$7:$L$500,N11)","v":0},{"$f":"O11/$Q$4","v":0},{"$f":"IF(P11=0,0,(P11*((LOG(P11))/LOG(2))))","v":0},null,null,{"$f":"N11","v":211},{"$f":"COUNTIF(L7:L36,T11)","v":0},null,null,null,{"$f":"N11","v":211},{"$f":"COUNTIF(L37:L65,Y11)","v":0},null,null,null,{"$f":"N11","v":211},{"$f":"COUNTIF(L66:L95,AD11)","v":0},null,null,null,{"$f":"N11","v":211},{"$f":"COUNTIF(L96:L124,AI11)","v":0},null,null,null,{"$f":"N11","v":211},{"$f":"COUNTIF(L125:L154,AN11)","v":0},null,null,null,{"$f":"N11","v":211},{"$f":"COUNTIF(L155:L183,AS11)","v":0}]
[12,632,24,647,24,654,null,null,null,null,0,122,null,212,{"$f":"COUNTIF($L$7:$L$500,N12)","v":0},{"$f":"O12/$Q$4","v":0},{"$f":"IF(P12=0,0,(P12*((LOG(P12))/LOG(2))))","v":0},null,null,{"$f":"N12","v":212},{"$f":"COUNTIF(L7:L36,T12)","v":0},{"$f":"U12/(W4-U11)","v":0},{"$f":"IF(V12=0,0,(V12*((LOG(V12))/LOG(2))))","v":0},null,{"$f":"N12","v":212},{"$f":"COUNTIF(L37:L65,Y12)","v":0},{"$f":"Z12/(AB4-Z11)","v":0},{"$f":"IF(AA12=0,0,(AA12*((LOG(AA12))/LOG(2))))","v":0},null,{"$f":"N12","v":212},{"$f":"COUNTIF(L66:L95,AD12)","v":0},{"$f":"AE12/(AG4-AE11)","v":0},{"$f":"IF(AF12=0,0,(AF12*((LOG(AF12))/LOG(2))))","v":0},null,{"$f":"N12","v":212},{"$f":"COUNTIF(L96:L124,AI12)","v":0},{"$f":"AJ12/(AL4-AJ11)","v":0},{"$f":"IF(AK12=0,0,(AK12*((LOG(AK12))/LOG(2))))","v":0},null,{"$f":"N12","v":212},{"$f":"COUNTIF(L125:L154,AN12)","v":0},{"$f":"AO12/(AQ4-AO11)","v":0},{"$f":"IF(AP12=0,0,(AP12*((LOG(AP12))/LOG(2))))","v":0},null,{"$f":"N12","v":212},{"$f":"COUNTIF(L155:L183,AS12)","v":0},{"$f":"AT12/(AV4-AT11)","v":0},{"$f":"IF(AU12=0,0,(AU12*((LOG(AU12))/LOG(2))))","v":0}]
[12,757,24,767,24,779,null,null,null,null,0,122,null,221,{"$f":"COUNTIF($L$7:$L$500,N13)","v":0},{"$f":"O13/$Q$4","v":0},{"$f":"IF(P13=0,0,(P13*((LOG(P13))/LOG(2))))","v":0},null,null,{"$f":"N13","v":221},{"$f":"COUNTIF(L7:L36,T13)","v":0},{"$f":"U13/(W4-U11)","v":0},{"$f":"IF(V13=0,0,(V13*((LOG(V13))/LOG(2))))","v":0},null,{"$f":"N13","v":221},{"$f":"COUNTIF(L37:L65,Y13)","v":0},{"$f":"Z13/(AB4-Z11)","v":0},{"$f":"IF(AA13=0,0,(AA13*((LOG(AA13))/LOG(2))))","v":0},null,{"$f":"N13","v":221},{"$f":"COUNTIF(L66:L95,AD13)","v":0},{"$f":"AE13/(AG4-AE11)","v":0},{"$f":"IF(AF13=0,0,(AF13*((LOG(AF13))/LOG(2))))","v":0},null,{"$f":"N13","v":221},{"$f":"COUNTIF(L96:L124,AI13)","v":0},{"$f":"AJ13/(AL4-AJ11)","v":0},{"$f":"IF(AK13=0,0,(AK13*((LOG(AK13))/LOG(2))))","v":0},null,{"$f":"N13","v":221},{"$f":"COUNTIF(L125:L154,AN13)","v":0},{"$f":"AO13/(AQ4-AO11)","v":0},{"$f":"IF(AP13=0,0,(AP13*((LOG(AP13))/LOG(2))))","v":0},null,{"$f":"N13","v":221},{"$f":"COUNTIF(L155:L183,AS13)","v":0},{"$f":"AT13/(AV4-AT11)","v":0},{"$f":"IF(AU13=0,0,(AU13*((LOG(AU13))/LOG(2))))","v":0}]
[12,878,24,895,24,902,null,null,null,null,0,122,null,222,{"$f":"COUNTIF($L$7:$L$500,N14)","v":68},{"$f":"O14/$Q$4","v":0.38418079096045199},{"$f":"IF(P14=0,0,(P14*((LOG(P14))/LOG(2))))","v":-0.53022431751763133},null,null,{"$f":"N14","v":222},{"$f":"COUNTIF(L7:L36,T14)","v":14},{"$f":"U14/(W4-U11)","v":0.46666666666666667},{"$f":"IF(V14=0,0,(V14*((LOG(V14))/LOG(2))))","v":-0.51311664765709342},null,{"$f":"N14","v":222},{"$f":"COUNTIF(L37:L65,Y14)","v":14},{"$f":"Z14/(AB4-Z11)","v":0.48275862068965519},{"$f":"IF(AA14=0,0,(AA14*((LOG(AA14))/LOG(2))))","v":-0.50719879389584666},null,{"$f":"N14","v":222},{"$f":"COUNTIF(L66:L95,AD14)","v":7},{"$f":"AE14/(AG4-AE11)","v":0.23333333333333334},{"$f":"IF(AF14=0,0,(AF14*((LOG(AF14))/LOG(2))))","v":-0.48989165716187993},null,{"$f":"N14","v":222},{"$f":"COUNTIF(L96:L124,AI14)","v":13},{"$f":"AJ14/(AL4-AJ11)","v":0.44827586206896552},{"$f":"IF(AK14=0,0,(AK14*((LOG(AK14))/LOG(2))))","v":-0.51889781382152544},null,{"$f":"N14","v":222},{"$f":"COUNTIF(L125:L154,AN14)","v":13},{"$f":"AO14/(AQ4-AO11)","v":0.43333333333333335},{"$f":"IF(AP14=0,0,(AP14*((LOG(AP14))/LOG(2))))","v":-0.52279538023588479},null,{"$f":"N14","v":222},{"$f":"COUNTIF(L155:L183,AS14)","v":7},{"$f":"AT14/(AV4-AT11)","v":0.2413793103448276},{"$f":"IF(AU14=0,0,(AU14*((LOG(AU14))/LOG(2))))","v":-0.49497870729275095}]
[12,999,24,1011,24,1016,null,null,null,null,0,122,null,null,null,{"$f":"SUM(P7:P14)","v":1},{"$f":"-SUM(Q7:Q14)","v":1.042269726636976},null,null,null,null,{"$f":"SUM(V7:V14)","v":1},{"$f":"-SUM(W7:W14)","v":0.99679163198163656},null,null,null,{"$f":"SUM(AA7:AA14)","v":1},{"$f":"-SUM(AB7:AB14)","v":1.1819141738305752},null,null,null,{"$f":"SUM(AF7:AF14)","v":1},{"$f":"-SUM(AG7:AG14)","v":0.98159126012772613},null,null,null,{"$f":"SUM(AK7:AK14)","v":1},{"$f":"-SUM(AL7:AL14)","v":0.99226663871949627},null,null,null,{"$f":"SUM(AP7:AP14)","v":1},{"$f":"-SUM(AQ7:AQ14)","v":0.98713777437218631},null,null,null,{"$f":"SUM(AU7:AU14)","v":1},{"$f":"-SUM(AV7:AV14)","v":0.79732651014744227}]
[12,1114,24,1126,24,1132,null,null,null,null,0,122,null,null,null,"U=",{"$f":"Q15/(LOG(Q4)/LOG(2))","v":0.13957214526755393},null,null,null,null,"U1=",{"$f":"W15/(LOG(W4)/LOG(2))","v":0.20314119757912014},null,null,null,"U2=",{"$f":"AB15/(LOG(AB4)/LOG(2))","v":0.24329328892311522},null,null,null,"U3=",{"$f":"AG15/(LOG(AG4)/LOG(2))","v":0.20004343708135924},null,null,null,"U4=",{"$f":"AL15/(LOG(AL4)/LOG(2))","v":0.20425494453657062},null,null,null,"U5=",{"$f":"AQ15/(LOG(AQ4)/LOG(2))","v":0.20117378921299717},null,null,null,"U6=",{"$f":"AV15/(LOG(AV4)/LOG(2))","v":0.16412713655058345}]
[12,1238,24,1257,24,1264,null,null,null,null,0,122]
[12,1366,24,1376,24,1381,null,null,null,null,0,122]
[21,1502,22,1523,24,1537,null,null,null,null,0,222,null,"Total Target Seq"]
[21,1653,22,1663,24,1684,null,null,null,null,0,222,null,{"$f":"COUNTIF(L7:L183,G3)","v":0},null,30,29,30,29,30,29]
[21,1805,22,1810,24,1819,null,null,null,null,0,222,null,null,null,"% of reinforcement given in 6 equal intervals based on number of trials "]
[21,1939,22,1947,24,1955,null,null,null,null,0,222,null,null,null,"%_1","%_2","%_3","%_4","%_5","%_6"]
[21,2070,22,2075,24,2079,null,null,null,null,0,222,null,null,"target sequence",{"$f":"$G$3","v":211},{"$f":"$G$3","v":211},{"$f":"$G$3","v":211},{"$f":"$G$3","v":211},{"$f":"$G$3","v":211},{"$f":"$G$3","v":211}]
[12,2177,24,2194,24,2199,null,null,null,null,0,122,null,null,"total reinforcement",{"$f":"U11","v":0},{"$f":"Z11","v":0},{"$f":"AE11","v":0},{"$f":"AJ11","v":0},{"$f":"AO11","v":0},{"$f":"AT11","v":0}]
[12,2300,24,2317,24,2322,null,null,null,null,0,122,null,null,"% target"]
[12,2422,24,2441,24,2446,null,null,null,null,0,122,null,null,"CCRF"]
[21,2560,22,2565,24,2570,null,null,null,null,0,222,null,null,"% CCRf"]
[21,2686,22,2691,24,2706,null,null,null,null,0,222,null,null,"average response rate",{"$f":"F36/P20","v":125.76666666666667},{"$f":"(F65-F36)/Q20","v":142.37931034482759},{"$f":"(F95-F65)/R20","v":139.33333333333334},{"$f":"(F124-F95)/S20","v":139.65517241379311},{"$f":"(F154-F124)/T20","v":128.63333333333333},{"$f":"(F183-F154)/U20","v":135.51724137931035}]
[21,2819,22,2826,24,2840,null,null,null,null,0,222]
[21,2958,22,2968,24,2976,null,null,null,null,0,222]
[21,3090,22,3103,24,3112,null,null,null,null,0,222]
[21,3235,22,3244,24,3252,null,null,null,null,0,222]
[21,3359,22,3365,24,3371,null,null,null,null,0,222]
[21,3490,22,3499,24,3508,null,null,null,null,0,222]
[12,3602,24,3624,24,3643,null,null,null,null,0,122]
[12,3743,24,3767,24,3773,null,null,null,null,0,122]
[21,3894,22,3899,24,3908,null,null,null,null,0,222]
[12,4010,24,4027,24,4033,null,null,null,null,0,122]
[12,4126,24,4147,24,4154,null,null,null,null,0,122]
[12,4250,24,4283,24,4293,null,null,null,null,0,122]
[21,4411,22,4417,24,4427,null,null,null,null,0,222]
[12,4525,24,4549,24,4562,null,null,null,null,0,122]
[12,4661,24,4697,24,4702,null,null,null,null,0,122]
[21,4823,22,4829,24,4837,null,null,null,null,0,222]
[21,4948,22,4953,24,4965,null,null,null,null,0,222]
[21,5090,22,5106,24,5121,null,null,null,null,0,222]
[12,5221,24,5234,24,5240,null,null,null,null,0,122]
[21,5350,22,5356,24,5379,null,null,null,null,0,222]
[21,5488,22,5500,24,5508,null,null,null,null,0,222]
[12,5605,24,5630,24,5639,null,null,null,null,0,122]
[21,5750,22,5762,24,5789,null,null,null,null,0,222]
[12,5891,24,5903,24,5914,null,null,null,null,0,122]
[21,6049,22,6095,24,6120,null,null,null,null,0,222]
[12,6220,24,6233,24,6283,null,null,null,null,0,122]
[21,6406,22,6424,24,6432,null,null,null,null,0,222]
[21,6558,22,6587,24,6630,null,null,null,null,0,222]
[12,6730,24,6752,24,6841,null,null,null,null,0,122]
[12,6936,24,6956,24,6965,null,null,null,null,0,122]
[12,7068,13,7069,24,7085,null,null,null,null,0,112]
[12,7183,24,7219,24,7226,null,null,null,null,0,122]
[21,7341,22,7346,24,7357,null,null,null,null,0,222]
[12,7443,24,7473,24,7479,null,null,null,null,0,122]
[21,7603,22,7612,24,7653,null,null,null,null,0,222]
[12,7753,24,7775,24,7787,null,null,null,null,0,122]
[21,7889,22,7894,24,7902,null,null,null,null,0,222]
[12,7997,24,8009,24,8032,null,null,null,null,0,122]
[12,8129,24,8147,24,8154,null,null,null,null,0,122]
[12,8251,24,8281,24,8326,null,null,null,null,0,122]
[21,8439,22,8451,24,8456,null,null,null,null,0,222]
[12,8554,24,8572,24,8578,null,null,null,null,0,122]
[21,8693,22,8700,24,8707,null,null,null,null,0,222]
[21,8835,22,8844,24,8854,null,null,null,null,0,222]
[21,8987,22,8995,24,9003,null,null,null,null,0,222]
[12,9102,24,9153,24,9191,null,null,null,null,0,122]
[12,9286,24,9298,24,9308,null,null,null,null,0,122]
[12,9404,24,9417,24,9423,null,null,null,null,0,122]
[12,9524,24,9553,24,9578,null,null,null,null,0,122]
[12,9679,24,9691,24,9703,null,null,null,null,0,122]
[12,9801,24,9833,24,9856,null,null,null,null,0,122]
[12,9955,24,9973,24,9988,null,null,null,null,0,122]
[12,10082,24,10099,24,10112,null,null,null,null,0,122]
[12,10210,24,10232,24,10245,null,null,null,null,0,122]
[12,10355,24,10385,24,10393,null,null,null,null,0,122]
[21,10502,22,10544,24,10619,null,null,null,null,0,222]
[12,10717,13,10724,24,10741,null,null,null,null,0,112]
[12,10836,24,10853,24,10872,null,null,null,null,0,122]
[21,10994,22,11012,24,11019,null,null,null,null,0,222]
[12,11118,24,11154,24,11171,null,null,null,null,0,122]
[12,11270,24,11283,24,11288,null,null,null,null,0,122]
[12,11384,24,11412,24,11418,null,null,null,null,0,122]
[12,11513,24,11531,24,11540,null,null,null,null,0,122]
[12,11638,24,11651,24,11670,null,null,null,null,0,122]
[21,11780,22,11809,24,11815,null,null,null,null,0,222]
[12,11916,24,11934,24,11940,null,null,null,null,0,122]
[12,12041,24,12063,24,12082,null,null,null,null,0,122]
[12,12182,24,12211,24,12224,null,null,null,null,0,122]
[12,12324,24,12346,24,12353,null,null,null,null,0,122]
[21,12468,22,12476,24,12485,null,null,null,null,0,222]
[12,12585,24,12598,24,12627,null,null,null,null,0,122]
[21,12735,22,12741,24,12749,null,null,null,null,0,222]
[21,12861,22,12868,24,12875,null,null,null,null,0,222]
[12,12970,24,12987,24,12992,null,null,null,null,0,122]
[21,13126,22,13134,24,13205,null,null,null,null,0,222]
[12,13306,24,13316,24,13373,null,null,null,null,0,122]
[12,13471,24,13488,24,13503,null,null,null,null,0,122]
[12,13609,24,13636,24,13651,null,null,null,null,0,122]
[12,13748,24,13766,24,13803,null,null,null,null,0,122]
[21,13924,22,13932,24,13939,null,null,null,null,0,222]
[12,14035,24,14061,24,14076,null,null,null,null,0,122]
[21,14196,22,14203,24,14217,null,null,null,null,0,222]
[21,14323,22,14330,24,14337,null,null,null,null,0,222]
[21,14449,22,14454,24,14459,null,null,null,null,0,222]
[12,14561,24,14590,24,14599,null,null,null,null,0,122]
[12,14700,24,14722,24,14748,null,null,null,null,0,122]
[12,14848,24,14872,24,14880,null,null,null,null,0,122]
[12,14975,24,15003,24,15019,null,null,null,null,0,122]
[21,15148,22,15170,24,15196,null,null,null,null,0,222]
[21,15307,22,15312,24,15324,null,null,null,null,0,222]
[12,15415,24,15437,24,15443,null,null,null,null,0,122]
[21,15583,22,15604,24,15624,null,null,null,null,0,222]
[12,15722,24,15734,24,15740,null,null,null,null,0,122]
[12,15839,24,15856,24,15863,null,null,null,null,0,122]
[21,15974,22,15985,24,15992,null,null,null,null,0,222]
[21,16109,22,16120,24,16132,null,null,null,null,0,222]
[21,16248,22,16258,24,16265,null,null,null,null,0,222]
[12,16360,24,16379,24,16384,null,null,null,null,0,122]
[12,16482,24,16496,24,16501,null,null,null,null,0,122]
[12,16597,24,16609,24,16624,null,null,null,null,0,122]
[21,16742,22,16748,24,16760,null,null,null,null,0,222]
[21,16868,22,16873,24,16880,null,null,null,null,0,222]
[21,16995,22,17002,24,17009,null,null,null,null,0,222]
[12,17109,24,17124,24,17139,null,null,null,null,0,122]
[21,17248,22,17255,24,17261,null,null,null,null,0,222]
[12,17360,24,17378,24,17384,null,null,null,null,0,122]
[12,17484,24,17498,24,17515,null,null,null,null,0,122]
[21,17630,22,17637,24,17646,null,null,null,null,0,222]
[21,17757,22,17762,24,17768,null,null,null,null,0,222]
[12,17888,24,17901,24,17908,null,null,null,null,0,122]
[12,18006,24,18019,24,18026,null,null,null,null,0,122]
[12,18124,24,18138,24,18149,null,null,null,null,0,122]
[12,18249,24,18268,24,18276,null,null,null,null,0,122]
[21,18428,22,18437,24,18458,null,null,null,null,0,222]
[12,18557,24,18570,24,18576,null,null,null,null,0,122]
[12,18671,24,18690,24,18696,null,null,null,null,0,122]
[21,18808,22,18820,24,18830,null,null,null,null,0,222]
[12,18931,24,18943,24,18949,null,null,null,null,0,122]
[12,19049,24,19063,24,19070,null,null,null,null,0,122]
[21,19176,22,19188,24,19197,null,null,null,null,0,222]
[12,19298,24,19310,24,19317,null,null,null,null,0,122]
[12,19442,24,19462,24,19471,null,null,null,null,0,122]
[21,19573,22,19579,24,19596,null,null,null,null,0,222]
[12,19695,24,19708,24,19714,null,null,null,null,0,122]
[21,19834,22,19839,24,19855,null,null,null,null,0,222]
[21,19972,22,19981,24,19991,null,null,null,null,0,222]
[21,20115,22,20127,24,20135,null,null,null,null,0,222]
[12,20228,24,20246,24,20254,null,null,null,null,0,122]
[12,20351,24,20365,24,20376,null,null,null,null,0,122]
[12,20477,24,20495,24,20503,null,null,null,null,0,122]
[12,20604,24,20622,24,20645,null,null,null,null,0,122]
[12,20743,24,20767,24,20787,null,null,null,null,0,122]
[12,20883,24,20944,24,20956,null,null,null,null,0,122]
[21,21063,22,21078,24,21085,null,null,null,null,0,222]
[12,21181,24,21201,24,21208,null,null,null,null,0,122]
[21,21321,22,21328,24,21391,null,null,null,null,0,222]
[12,21491,24,21504,24,21514,null,null,null,null,0,122]
[12,21612,24,21634,24,21665,null,null,null,null,0,122]
[12,21765,24,21783,24,21789,null,null,null,null,0,122]
[12,21888,24,21919,24,21934,null,null,null,null,0,122]
[21,22046,22,22057,24,22067,null,null,null,null,0,222]
[12,22164,24,22177,24,22182,null,null,null,null,0,122]
[12,22277,24,22290,24,22296,null,null,null,null,0,122]
[12,22395,24,22419,24,22436,null,null,null,null,0,122]
[12,22537,24,22560,24,22580,null,null,null,null,0,122]
[21,22691,22,22699,24,22705,null,null,null,null,0,222]
[12,22800,24,22813,24,22878,null,null,null,null,0,122]
[12,22975,24,22989,24,22994,null,null,null,null,0,122]
[12,23096,24,23109,24,23115,null,null,null,null,0,122]
[12,23212,24,23225,24,23233,null,null,null,null,0,122]
[12,23330,24,23344,24,23351,null,null,null,null,0,122]
[12,23450,24,23469,24,23482,null,null,null,null,0,122]
[12,23579,24,23603,24,23612,null,null,null,null,0,122]
[21,23786,22,23795,24,23804,null,null,null,null,0,222]
[21,23909,22,23916,24,23921,null,null,null,null,null,222]

{"sheet":"!M903820.101","index":7,"n_rows":191,"n_cols":48,"rows_kept":191,"cut":false,"hidden":false,"merged":[[4,39,4,42],[5,39,5,40],[4,44,4,47],[5,44,5,45],[4,24,4,27],[5,24,5,25],[4,29,4,32],[5,29,5,30],[4,34,4,37],[5,34,5,35],[1,1,1,2],[5,13,5,14],[18,13,18,14],[19,13,19,14],[4,19,4,22],[5,19,5,20]]}
["Report for:!M903820.101"]
["Date:","<date>"]
["Hen:","<hen>",null,null,null,"Correct Sequence",{"$f":"Start!J2","v":211},null,null,null,null,null,null,null,null,"Total Sequences in Data",{"$f":"4994-COUNTBLANK(L7:L5000)","v":185},null,null,null,null,"Total Sequences in Block Data",{"$f":"COUNTA(L7:L37)","v":31},null,null,null,"Total Sequences in Block Data",{"$f":"COUNTA(L38:L68)","v":31},null,null,null,"Total Sequences in Block Data",{"$f":"COUNTA(L69:L98)","v":30},null,null,null,"Total Sequences in Block Data",{"$f":"COUNTA(L99:L129)","v":31},null,null,null,"Total Sequences in Block Data",{"$f":"COUNTA(L130:L160)","v":31},null,null,null,"Total Sequences in Block Data",{"$f":"COUNTA(L161:L191)","v":31}]
[null,null,null,null,null,null,null,null,null,null,null,null,null,null,null,"Total Sequences in Summary",{"$f":"SUM(O7:O14)","v":185},null,null,null,null,"Total Sequences in Block Summary",{"$f":"SUM(U7:U14)","v":31},null,null,null,"Total Sequences in Block Summary",{"$f":"SUM(Z7:Z14)","v":31},null,null,null,"Total Sequences in Block Summary",{"$f":"SUM(AE7:AE14)","v":30},null,null,null,"Total Sequences in Block Summary",{"$f":"SUM(AJ7:AJ14)","v":31},null,null,null,"Total Sequences in Block Summary",{"$f":"SUM(AO7:AO14)","v":31},null,null,null,"Total Sequences in Block Summary",{"$f":"SUM(AT7:AT14)","v":31}]
[null,null,null,null,null,null,null,null,null,null,null,null,null,null,null,null,null,null,null,"Block 1",null,null,null,null,"Block 2",null,null,null,null,"Block 3",null,null,null,null,"Block 4",null,null,null,null,"Block 5",null,null,null,null,"Block 6"]
["Sequence\nComponent\n1","Time\n1","Sequence\nComponent\n2","Time\n2","Sequence\nComponent\n3","Time\n3","Sequence\nComponent\n4","Time\n4","Sequence\nComponent\n5","Time\n5","Correct?\n0=No 1=Yes","Sequence",null,"Frequency",null,"Relative Frequency","Variability",null,null,"Frequency",null,"Relative Frequency","Variability",null,"Frequency",null,"Relative Frequency","Variability",null,"Frequency",null,"Relative Frequency","Variability",null,"Frequency",null,"Relative Frequency","Variability",null,"Frequency",null,"Relative Frequency","Variability",null,"Frequency",null,"Relative Frequency","Variability"]
[12,11,24,24,24,30,null,null,null,null,0,122,null,111,{"$f":"COUNTIF($L$7:$L$500,N7)","v":0},{"$f":"O7/$Q$4","v":0},{"$f":"IF(P7=0,0,(P7*((LOG(P7))/LOG(2))))","v":0},null,null,{"$f":"N7","v":111},{"$f":"COUNTIF(L7:L37,T7)","v":0},{"$f":"U7/(W4-U11)","v":0},{"$f":"IF(V7=0,0,(V7*((LOG(V7))/LOG(2))))","v":0},null,{"$f":"N7","v":111},{"$f":"COUNTIF(L38:L68,Y7)","v":0},{"$f":"Z7/(AB4-Z11)","v":0},{"$f":"IF(AA7=0,0,(AA7*((LOG(AA7))/LOG(2))))","v":0},null,{"$f":"N7","v":111},{"$f":"COUNTIF(L69:L98,AD7)","v":0},{"$f":"AE7/(AG4-AE11)","v":0},{"$f":"IF(AF7=0,0,(AF7*((LOG(AF7))/LOG(2))))","v":0},null,{"$f":"N7","v":111},{"$f":"COUNTIF(L99:L129,AI7)","v":0},{"$f":"AJ7/(AL4-AJ11)","v":0},{"$f":"IF(AK7=0,0,(AK7*((LOG(AK7))/LOG(2))))","v":0},null,{"$f":"N7","v":111},{"$f":"COUNTIF(L130:L160,AN7)","v":0},{"$f":"AO7/(AQ4-AO11)","v":0},{"$f":"IF(AP7=0,0,(AP7*((LOG(AP7))/LOG(2))))","v":0},null,{"$f":"N7","v":111},{"$f":"COUNTIF(L161:L191,AS7)","v":0},{"$f":"AT7/(AV4-AT11)","v":0},{"$f":"IF(AU7=0,0,(AU7*((LOG(AU7))/LOG(2))))","v":0}]
[12,130,24,143,24,148,null,null,null,null,0,122,null,112,{"$f":"COUNTIF($L$7:$L$500,N8)","v":5},{"$f":"O8/$Q$4","v":2.7027027027027029E-2},{"$f":"IF(P8=0,0,(P8*((LOG(P8))/LOG(2))))","v":-0.14079603690889056},null,null,{"$f":"N8","v":112},{"$f":"COUNTIF(L7:L37,T8)","v":0},{"$f":"U8/(W4-U11)","v":0},{"$f":"IF(V8=0,0,(V8*((LOG(V8))/LOG(2))))","v":0},null,{"$f":"N8","v":112},{"$f":"COUNTIF(L38:L68,Y8)","v":0},{"$f":"Z8/(AB4-Z11)","v":0},{"$f":"IF(AA8=0,0,(AA8*((LOG(AA8))/LOG(2))))","v":0},null,{"$f":"N8","v":112},{"$f":"COUNTIF(L69:L98,AD8)","v":2},{"$f":"AE8/(AG4-AE11)","v":6.6666666666666666E-2},{"$f":"IF(AF8=0,0,(AF8*((LOG(AF8))/LOG(2))))","v":-0.26045937304056793},null,{"$f":"N8","v":112},{"$f":"COUNTIF(L99:L129,AI8)","v":1},{"$f":"AJ8/(AL4-AJ11)","v":3.2258064516129031E-2},{"$f":"IF(AK8=0,0,(AK8*((LOG(AK8))/LOG(2))))","v":-0.15981278420602821},null,{"$f":"N8","v":112},{"$f":"COUNTIF(L130:L160,AN8)","v":1},{"$f":"AO8/(AQ4-AO11)","v":3.2258064516129031E-2},{"$f":"IF(AP8=0,0,(AP8*((LOG(AP8))/LOG(2))))","v":-0.15981278420602821},null,{"$f":"N8","v":112},{"$f":"COUNTIF(L161:L191,AS8)","v":1},{"$f":"AT8/(AV4-AT11)","v":3.2258064516129031E-2},{"$f":"IF(AU8=0,0,(AU8*((LOG(AU8))/LOG(2))))","v":-0.15981278420602821}]
[12,243,24,256,24,261,null,null,null,null,0,122,null,121,{"$f":"COUNTIF($L$7:$L$500,N9)","v":0},{"$f":"O9/$Q$4","v":0},{"$f":"IF(P9=0,0,(P9*((LOG(P9))/LOG(2))))","v":0},null,null,{"$f":"N9","v":121},{"$f":"COUNTIF(L7:L37,T9)","v":0},{"$f":"U9/(W4-U11)","v":0},{"$f":"IF(V9=0,0,(V9*((LOG(V9))/LOG(2))))","v":0},null,{"$f":"N9","v":121},{"$f":"COUNTIF(L38:L68,Y9)","v":0},{"$f":"Z9/(AB4-Z11)","v":0},{"$f":"IF(AA9=0,0,(AA9*((LOG(AA9))/LOG(2))))","v":0},null,{"$f":"N9","v":121},{"$f":"COUNTIF(L69:L98,AD9)","v":0},{"$f":"AE9/(AG4-AE11)","v":0},{"$f":"IF(AF9=0,0,(AF9*((LOG(AF9))/LOG(2))))","v":0},null,{"$f":"N9","v":121},{"$f":"COUNTIF(L99:L129,AI9)","v":0},{"$f":"AJ9/(AL4-AJ11)","v":0},{"$f":"IF(AK9=0,0,(AK9*((LOG(AK9))/LOG(2))))","v":0},null,{"$f":"N9","v":121},{"$f":"COUNTIF(L130:L160,AN9)","v":0},{"$f":"AO9/(AQ4-AO11)","v":0},{"$f":"IF(AP9=0,0,(AP9*((LOG(AP9))/LOG(2))))","v":0},null,{"$f":"N9","v":121},{"$f":"COUNTIF(L161:L191,AS9)","v":0},{"$f":"AT9/(AV4-AT11)","v":0},{"$f":"IF(AU9=0,0,(AU9*((LOG(AU9))/LOG(2))))","v":0}]
[12,361,24,379,24,387,null,null,null,null,0,122,null,122,{"$f":"COUNTIF($L$7:$L$500,N10)","v":108},{"$f":"O10/$Q$4","v":0.58378378378378382},{"$f":"IF(P10=0,0,(P10*((LOG(P10))/LOG(2))))","v":-0.45330458109247085},null,null,{"$f":"N10","v":122},{"$f":"COUNTIF(L7:L37,T10)","v":22},{"$f":"U10/(W4-U11)","v":0.70967741935483875},{"$f":"IF(V10=0,0,(V10*((LOG(V10))/LOG(2))))","v":-0.35112332962873266},null,{"$f":"N10","v":122},{"$f":"COUNTIF(L38:L68,Y10)","v":18},{"$f":"Z10/(AB4-Z11)","v":0.58064516129032262},{"$f":"IF(AA10=0,0,(AA10*((LOG(AA10))/LOG(2))))","v":-0.45538334067748809},null,{"$f":"N10","v":122},{"$f":"COUNTIF(L69:L98,AD10)","v":22},{"$f":"AE10/(AG4-AE11)","v":0.73333333333333328},{"$f":"IF(AF10=0,0,(AF10*((LOG(AF10))/LOG(2))))","v":-0.32813658311222899},null,{"$f":"N10","v":122},{"$f":"COUNTIF(L99:L129,AI10)","v":12},{"$f":"AJ10/(AL4-AJ11)","v":0.38709677419354838},{"$f":"IF(AK10=0,0,(AK10*((LOG(AK10))/LOG(2))))","v":-0.5300259908383429},null,{"$f":"N10","v":122},{"$f":"COUNTIF(L130:L160,AN10)","v":20},{"$f":"AO10/(AQ4-AO11)","v":0.64516129032258063},{"$f":"IF(AP10=0,0,(AP10*((LOG(AP10))/LOG(2))))","v":-0.40791497774162117},null,{"$f":"N10","v":122},{"$f":"COUNTIF(L161:L191,AS10)","v":14},{"$f":"AT10/(AV4-AT11)","v":0.45161290322580644},{"$f":"IF(AU10=0,0,(AU10*((LOG(AU10))/LOG(2))))","v":-0.51792836892289662}]
[12,486,24,510,24,521,null,null,null,null,0,122,null,211,{"$f":"COUNTIF($L$7:$L$500,N11)","v":0},{"$f":"O11/$Q$4","v":0},{"$f":"IF(P11=0,0,(P11*((LOG(P11))/LOG(2))))","v":0},null,null,{"$f":"N11","v":211},{"$f":"COUNTIF(L7:L37,T11)","v":0},null,null,null,{"$f":"N11","v":211},{"$f":"COUNTIF(L38:L68,Y11)","v":0},null,null,null,{"$f":"N11","v":211},{"$f":"COUNTIF(L69:L98,AD11)","v":0},null,null,null,{"$f":"N11","v":211},{"$f":"COUNTIF(L99:L129,AI11)","v":0},null,null,null,{"$f":"N11","v":211},{"$f":"COUNTIF(L130:L160,AN11)","v":0},null,null,null,{"$f":"N11","v":211},{"$f":"COUNTIF(L161:L191,AS11)","v":0}]
[12,622,24,634,24,645,null,null,null,null,0,122,null,212,{"$f":"COUNTIF($L$7:$L$500,N12)","v":0},{"$f":"O12/$Q$4","v":0},{"$f":"IF(P12=0,0,(P12*((LOG(P12))/LOG(2))))","v":0},null,null,{"$f":"N12","v":212},{"$f":"COUNTIF(L7:L37,T12)","v":0},{"$f":"U12/(W4-U11)","v":0},{"$f":"IF(V12=0,0,(V12*((LOG(V12))/LOG(2))))","v":0},null,{"$f":"N12","v":212},{"$f":"COUNTIF(L38:L68,Y12)","v":0},{"$f":"Z12/(AB4-Z11)","v":0},{"$f":"IF(AA12=0,0,(AA12*((LOG(AA12))/LOG(2))))","v":0},null,{"$f":"N12","v":212},{"$f":"COUNTIF(L69:L98,AD12)","v":0},{"$f":"AE12/(AG4-AE11)","v":0},{"$f":"IF(AF12=0,0,(AF12*((LOG(AF12))/LOG(2))))","v":0},null,{"$f":"N12","v":212},{"$f":"COUNTIF(L99:L129,AI12)","v":0},{"$f":"AJ12/(AL4-AJ11)","v":0},{"$f":"IF(AK12=0,0,(AK12*((LOG(AK12))/LOG(2))))","v":0},null,{"$f":"N12","v":212},{"$f":"COUNTIF(L130:L160,AN12)","v":0},{"$f":"AO12/(AQ4-AO11)","v":0},{"$f":"IF(AP12=0,0,(AP12*((LOG(AP12))/LOG(2))))","v":0},null,{"$f":"N12","v":212},{"$f":"COUNTIF(L161:L191,AS12)","v":0},{"$f":"AT12/(AV4-AT11)","v":0},{"$f":"IF(AU12=0,0,(AU12*((LOG(AU12))/LOG(2))))","v":0}]
[12,741,24,755,24,761,null,null,null,null,0,122,null,221,{"$f":"COUNTIF($L$7:$L$500,N13)","v":0},{"$f":"O13/$Q$4","v":0},{"$f":"IF(P13=0,0,(P13*((LOG(P13))/LOG(2))))","v":0},null,null,{"$f":"N13","v":221},{"$f":"COUNTIF(L7:L37,T13)","v":0},{"$f":"U13/(W4-U11)","v":0},{"$f":"IF(V13=0,0,(V13*((LOG(V13))/LOG(2))))","v":0},null,{"$f":"N13","v":221},{"$f":"COUNTIF(L38:L68,Y13)","v":0},{"$f":"Z13/(AB4-Z11)","v":0},{"$f":"IF(AA13=0,0,(AA13*((LOG(AA13))/LOG(2))))","v":0},null,{"$f":"N13","v":221},{"$f":"COUNTIF(L69:L98,AD13)","v":0},{"$f":"AE13/(AG4-AE11)","v":0},{"$f":"IF(AF13=0,0,(AF13*((LOG(AF13))/LOG(2))))","v":0},null,{"$f":"N13","v":221},{"$f":"COUNTIF(L99:L129,AI13)","v":0},{"$f":"AJ13/(AL4-AJ11)","v":0},{"$f":"IF(AK13=0,0,(AK13*((LOG(AK13))/LOG(2))))","v":0},null,{"$f":"N13","v":221},{"$f":"COUNTIF(L130:L160,AN13)","v":0},{"$f":"AO13/(AQ4-AO11)","v":0},{"$f":"IF(AP13=0,0,(AP13*((LOG(AP13))/LOG(2))))","v":0},null,{"$f":"N13","v":221},{"$f":"COUNTIF(L161:L191,AS13)","v":0},{"$f":"AT13/(AV4-AT11)","v":0},{"$f":"IF(AU13=0,0,(AU13*((LOG(AU13))/LOG(2))))","v":0}]
[21,873,22,880,24,887,null,null,null,null,0,222,null,222,{"$f":"COUNTIF($L$7:$L$500,N14)","v":72},{"$f":"O14/$Q$4","v":0.38918918918918921},{"$f":"IF(P14=0,0,(P14*((LOG(P14))/LOG(2))))","v":-0.5298641354233945},null,null,{"$f":"N14","v":222},{"$f":"COUNTIF(L7:L37,T14)","v":9},{"$f":"U14/(W4-U11)","v":0.29032258064516131},{"$f":"IF(V14=0,0,(V14*((LOG(V14))/LOG(2))))","v":-0.5180142509839053},null,{"$f":"N14","v":222},{"$f":"COUNTIF(L38:L68,Y14)","v":13},{"$f":"Z14/(AB4-Z11)","v":0.41935483870967744},{"$f":"IF(AA14=0,0,(AA14*((LOG(AA14))/LOG(2))))","v":-0.52576889352242517},null,{"$f":"N14","v":222},{"$f":"COUNTIF(L69:L98,AD14)","v":6},{"$f":"AE14/(AG4-AE11)","v":0.2},{"$f":"IF(AF14=0,0,(AF14*((LOG(AF14))/LOG(2))))","v":-0.46438561897747244},null,{"$f":"N14","v":222},{"$f":"COUNTIF(L99:L129,AI14)","v":18},{"$f":"AJ14/(AL4-AJ11)","v":0.58064516129032262},{"$f":"IF(AK14=0,0,(AK14*((LOG(AK14))/LOG(2))))","v":-0.45538334067748809},null,{"$f":"N14","v":222},{"$f":"COUNTIF(L130:L160,AN14)","v":10},{"$f":"AO14/(AQ4-AO11)","v":0.32258064516129031},{"$f":"IF(AP14=0,0,(AP14*((LOG(AP14))/LOG(2))))","v":-0.52653813403210092},null,{"$f":"N14","v":222},{"$f":"COUNTIF(L161:L191,AS14)","v":16},{"$f":"AT14/(AV4-AT11)","v":0.5161290322580645},{"$f":"IF(AU14=0,0,(AU14*((LOG(AU14))/LOG(2))))","v":-0.49248841826419365}]
[21,1005,22,1019,24,1039,null,null,null,null,0,222,null,null,null,{"$f":"SUM(P7:P14)","v":1},{"$f":"-SUM(Q7:Q14)","v":1.1239647534247559},null,null,null,null,{"$f":"SUM(V7:V14)","v":1},{"$f":"-SUM(W7:W14)","v":0.86913758061263802},null,null,null,{"$f":"SUM(AA7:AA14)","v":1},{"$f":"-SUM(AB7:AB14)","v":0.98115223419991326},null,null,null,{"$f":"SUM(AF7:AF14)","v":1},{"$f":"-SUM(AG7:AG14)","v":1.0529815751302694},null,null,null,{"$f":"SUM(AK7:AK14)","v":1},{"$f":"-SUM(AL7:AL14)","v":1.1452221157218592},null,null,null,{"$f":"SUM(AP7:AP14)","v":1},{"$f":"-SUM(AQ7:AQ14)","v":1.0942658959797504},null,null,null,{"$f":"SUM(AU7:AU14)","v":1},{"$f":"-SUM(AV7:AV14)","v":1.1702295713931186}]
[12,1136,24,1149,24,1154,null,null,null,null,0,122,null,null,null,"U=",{"$f":"Q15/(LOG(Q4)/LOG(2))","v":0.14923752824328496},null,null,null,null,"U1=",{"$f":"W15/(LOG(W4)/LOG(2))","v":0.17543462676083718},null,null,null,"U2=",{"$f":"AB15/(LOG(AB4)/LOG(2))","v":0.198044682271239},null,null,null,"U3=",{"$f":"AG15/(LOG(AG4)/LOG(2))","v":0.2145924296891086},null,null,null,"U4=",{"$f":"AL15/(LOG(AL4)/LOG(2))","v":0.23116203799207713},null,null,null,"U5=",{"$f":"AQ15/(LOG(AQ4)/LOG(2))","v":0.22087657158145574},null,null,null,"U6=",{"$f":"AV15/(LOG(AV4)/LOG(2))","v":0.2362097700770632}]
[21,1265,22,1271,24,1275,null,null,null,null,0,222]
[12,1378,24,1388,24,1394,null,null,null,null,0,122]
[12,1489,24,1506,24,1530,null,null,null,null,0,122,null,"Total Target Seq"]
[12,1627,24,1641,24,1647,null,null,null,null,0,122,null,{"$f":"COUNTIF(L7:L191,G3)","v":0},null,31,31,30,31,31,31]
[21,1757,22,1767,24,1775,null,null,null,null,0,222,null,null,null,"% of reinforcement given in 6 equal intervals based on number of trials "]
[21,1891,22,1901,24,1910,null,null,null,null,0,222,null,null,null,"%_1","%_2","%_3","%_4","%_5","%_6"]
[21,2024,22,2029,24,2042,null,null,null,null,0,222,null,null,"target sequence",{"$f":"$G$3","v":211},{"$f":"$G$3","v":211},{"$f":"$G$3","v":211},{"$f":"$G$3","v":211},{"$f":"$G$3","v":211},{"$f":"$G$3","v":211}]
[12,2138,24,2158,24,2177,null,null,null,null,0,122,null,null,"total reinforcement",{"$f":"U11","v":0},{"$f":"Z11","v":0},{"$f":"AE11","v":0},{"$f":"AJ11","v":0},{"$f":"AO11","v":0},{"$f":"AT11","v":0}]
[21,2286,22,2292,24,2299,null,null,null,null,0,222,null,null,"% target"]
[12,2394,24,2407,24,2412,null,null,null,null,0,122,null,null,"CCRF"]
[21,2521,22,2527,24,2536,null,null,null,null,0,222,null,null,"% CCRf"]
[12,2638,24,2666,24,2674,null,null,null,null,0,122,null,null,"average response rate",{"$f":"F37/P20","v":123.48387096774194},{"$f":"(F68-F37)/Q20","v":140.32258064516128},{"$f":"(F98-F68)/R20","v":130.23333333333332},{"$f":"(F129-F98)/S20","v":129.16129032258064},{"$f":"(F160-F129)/T20","v":126.12903225806451},{"$f":"(F191-F160)/U20","v":125.80645161290323}]
[12,2775,24,2794,24,2800,null,null,null,null,0,122]
[12,2901,24,2912,24,2917,null,null,null,null,0,122]
[12,3009,24,3032,24,3055,null,null,null,null,0,122]
[12,3153,24,3170,24,3177,null,null,null,null,0,122]
[12,3274,24,3293,24,3307,null,null,null,null,0,122]
[12,3415,24,3437,24,3455,null,null,null,null,0,122]
[21,3557,22,3564,24,3568,null,null,null,null,0,222]
[12,3670,24,3679,24,3700,null,null,null,null,0,122]
[12,3798,24,3820,24,3828,null,null,null,null,0,122]
[12,3927,24,3937,24,3957,null,null,null,null,0,122]
[12,4053,24,4067,24,4072,null,null,null,null,0,122]
[21,4185,22,4195,24,4206,null,null,null,null,0,222]
[12,4306,24,4319,24,4325,null,null,null,null,0,122]
[12,4421,24,4448,24,4456,null,null,null,null,0,122]
[12,4554,24,4594,24,4602,null,null,null,null,0,122]
[12,4698,24,4724,24,4731,null,null,null,null,0,122]
[12,4826,24,4842,24,4852,null,null,null,null,0,122]
[12,4974,24,4993,24,5013,null,null,null,null,0,122]
[21,5115,22,5126,24,5160,null,null,null,null,0,222]
[12,5264,24,5276,24,5283,null,null,null,null,0,122]
[21,5409,22,5429,24,5437,null,null,null,null,0,222]
[12,5535,24,5548,24,5555,null,null,null,null,0,122]
[12,5655,24,5670,24,5677,null,null,null,null,0,122]
[12,5777,24,5791,24,5802,null,null,null,null,0,122]
[12,5899,24,5921,24,5926,null,null,null,null,0,122]
[21,6050,22,6058,24,6074,null,null,null,null,0,222]
[12,6175,24,6195,24,6202,null,null,null,null,0,122]
[12,6302,24,6320,24,6332,null,null,null,null,0,122]
[21,6457,22,6534,24,6545,null,null,null,null,0,222]
[12,6640,24,6660,24,6668,null,null,null,null,0,122]
[21,6785,22,6823,24,6903,null,null,null,null,0,222]
[21,7012,22,7018,24,7028,null,null,null,null,0,222]
[21,7152,22,7182,24,7191,null,null,null,null,0,222]
[12,7291,24,7313,24,7324,null,null,null,null,0,122]
[21,7460,22,7469,24,7482,null,null,null,null,0,222]
[21,7592,22,7608,24,7616,null,null,null,null,0,222]
[21,7739,22,7752,24,7784,null,null,null,null,0,222]
[12,7902,24,7924,24,7933,null,null,null,null,0,122]
[21,8051,22,8055,24,8062,null,null,null,null,0,222]
[21,8168,22,8173,24,8178,null,null,null,null,0,222]
[12,8273,24,8291,24,8300,null,null,null,null,0,122]
[12,8398,24,8410,24,8416,null,null,null,null,0,122]
[12,8520,24,8540,24,8555,null,null,null,null,0,122]
[12,8652,24,8665,24,8672,null,null,null,null,0,122]
[21,8789,22,8797,24,8806,null,null,null,null,0,222]
[21,8916,22,8921,24,8928,null,null,null,null,0,222]
[12,9026,24,9040,24,9046,null,null,null,null,0,122]
[12,9143,24,9165,24,9169,null,null,null,null,0,122]
[12,9267,24,9282,24,9293,null,null,null,null,0,122]
[12,9393,24,9406,24,9416,null,null,null,null,0,122]
[12,9514,24,9526,24,9533,null,null,null,null,0,122]
[12,9629,24,9642,24,9653,null,null,null,null,0,122]
[12,9749,24,9762,24,9777,null,null,null,null,0,122]
[12,9877,24,9890,24,9911,null,null,null,null,0,122]
[12,10012,24,10031,24,10036,null,null,null,null,0,122]
[12,10133,13,10140,24,10164,null,null,null,null,0,112]
[21,10297,22,10306,24,10315,null,null,null,null,0,222]
[21,10443,22,10458,24,10465,null,null,null,null,0,222]
[12,10566,24,10587,24,10594,null,null,null,null,0,122]
[21,10716,22,10721,24,10753,null,null,null,null,0,222]
[12,10851,24,10868,24,10879,null,null,null,null,0,122]
[12,10999,24,11019,24,11045,null,null,null,null,0,122]
[21,11159,22,11169,24,11177,null,null,null,null,0,222]
[12,11278,24,11291,24,11302,null,null,null,null,0,122]
[12,11404,24,11430,24,11451,null,null,null,null,0,122]
[12,11546,24,11560,24,11569,null,null,null,null,0,122]
[12,11686,13,11691,24,11708,null,null,null,null,0,112]
[12,11811,24,11825,24,11831,null,null,null,null,0,122]
[12,11934,24,11955,24,11964,null,null,null,null,0,122]
[12,12062,24,12078,24,12085,null,null,null,null,0,122]
[21,12194,22,12202,24,12208,null,null,null,null,0,222]
[21,12325,22,12333,24,12342,null,null,null,null,0,222]
[21,12468,22,12484,24,12498,null,null,null,null,0,222]
[21,12607,22,12616,24,12629,null,null,null,null,0,222]
[21,12739,22,12749,24,12757,null,null,null,null,0,222]
[12,12855,24,12869,24,12879,null,null,null,null,0,122]
[12,12977,24,12992,24,13002,null,null,null,null,0,122]
[12,13100,24,13112,24,13118,null,null,null,null,0,122]
[12,13211,24,13224,24,13231,null,null,null,null,0,122]
[21,13346,22,13351,24,13360,null,null,null,null,0,222]
[21,13474,22,13484,24,13492,null,null,null,null,0,222]
[12,13590,24,13614,24,13622,null,null,null,null,0,122]
[21,13743,22,13752,24,13760,null,null,null,null,0,222]
[12,13857,13,13859,24,13879,null,null,null,null,0,112]
[21,13983,22,13993,24,14003,null,null,null,null,0,222]
[12,14099,24,14114,24,14123,null,null,null,null,0,122]
[12,14224,24,14248,24,14256,null,null,null,null,0,122]
[21,14370,22,14377,24,14393,null,null,null,null,0,222]
[12,14491,24,14503,24,14513,null,null,null,null,0,122]
[21,14639,22,14647,24,14654,null,null,null,null,0,222]
[12,14760,24,14779,24,14787,null,null,null,null,0,122]
[21,14895,22,14904,24,14933,null,null,null,null,0,222]
[21,15058,22,15066,24,15073,null,null,null,null,0,222]
[21,15183,22,15189,24,15196,null,null,null,null,0,222]
[21,15304,22,15311,24,15316,null,null,null,null,0,222]
[21,15431,22,15439,24,15451,null,null,null,null,0,222]
[12,15550,24,15564,24,15572,null,null,null,null,0,122]
[21,15678,22,15690,24,15698,null,null,null,null,0,222]
[21,15802,22,15814,24,15829,null,null,null,null,0,222]
[12,15928,24,15954,24,15963,null,null,null,null,0,122]
[12,16064,24,16082,24,16089,null,null,null,null,0,122]
[12,16188,24,16220,24,16231,null,null,null,null,0,122]
[12,16336,24,16351,24,16358,null,null,null,null,0,122]
[21,16467,22,16473,24,16501,null,null,null,null,0,222]
[12,16598,24,16623,24,16633,null,null,null,null,0,122]
[12,16734,24,16751,24,16756,null,null,null,null,0,122]
[12,16854,24,16866,24,16874,null,null,null,null,0,122]
[21,16985,22,17022,24,17031,null,null,null,null,0,222]
[12,17128,24,17142,24,17154,null,null,null,null,0,122]
[21,17262,22,17273,24,17280,null,null,null,null,0,222]
[12,17377,24,17394,24,17401,null,null,null,null,0,122]
[21,17522,22,17530,24,17539,null,null,null,null,0,222]
[12,17638,24,17652,24,17664,null,null,null,null,0,122]
[12,17761,24,17771,24,17785,null,null,null,null,0,122]
[21,17901,22,17907,24,17914,null,null,null,null,0,222]
[12,18015,13,18017,24,18033,null,null,null,null,0,112]
[12,18130,24,18143,24,18162,null,null,null,null,0,122]
[12,18260,24,18273,24,18279,null,null,null,null,0,122]
[21,18389,22,18396,24,18404,null,null,null,null,0,222]
[12,18505,24,18529,24,18538,null,null,null,null,0,122]
[12,18634,24,18647,24,18652,null,null,null,null,0,122]
[21,18764,22,18770,24,18777,null,null,null,null,0,222]
[12,18877,24,18894,24,18900,null,null,null,null,0,122]
[21,19012,22,19019,24,19027,null,null,null,null,0,222]
[21,19133,22,19141,24,19154,null,null,null,null,0,222]
[21,19265,22,19271,24,19275,null,null,null,null,0,222]
[12,19373,24,19387,24,19397,null,null,null,null,0,122]
[12,19492,24,19505,24,19513,null,null,null,null,0,122]
[12,19612,24,19627,24,19634,null,null,null,null,0,122]
[12,19735,24,19749,24,19756,null,null,null,null,0,122]
[12,19856,24,19871,24,19876,null,null,null,null,0,122]
[12,19976,24,19989,24,19999,null,null,null,null,0,122]
[12,20096,24,20110,24,20117,null,null,null,null,0,122]
[21,20227,22,20233,24,20240,null,null,null,null,0,222]
[12,20332,13,20342,24,20355,null,null,null,null,0,112]
[12,20451,24,20465,24,20473,null,null,null,null,0,122]
[12,20574,24,20584,24,20591,null,null,null,null,0,122]
[12,20686,24,20700,24,20717,null,null,null,null,0,122]
[21,20831,22,20845,24,20885,null,null,null,null,0,222]
[21,20999,22,21007,24,21023,null,null,null,null,0,222]
[12,21122,24,21141,24,21149,null,null,null,null,0,122]
[12,21249,24,21263,24,21269,null,null,null,null,0,122]
[21,21379,22,21389,24,21396,null,null,null,null,0,222]
[21,21502,22,21510,24,21519,null,null,null,null,0,222]
[12,21614,24,21626,24,21633,null,null,null,null,0,122]
[21,21743,22,21749,24,21757,null,null,null,null,0,222]
[21,21863,22,21870,24,21885,null,null,null,null,0,222]
[21,21996,22,22003,24,22010,null,null,null,null,0,222]
[21,22124,22,22132,24,22141,null,null,null,null,0,222]
[21,22252,22,22259,24,22266,null,null,null,null,0,222]
[12,22367,24,22381,24,22392,null,null,null,null,0,122]
[21,22499,22,22504,24,22511,null,null,null,null,0,222]
[12,22611,24,22626,24,22633,null,null,null,null,0,122]
[21,22743,22,22749,24,22756,null,null,null,null,0,222]
[21,22863,22,22876,24,22884,null,null,null,null,0,222]
[12,22986,24,22999,24,23007,null,null,null,null,0,122]
[12,23107,24,23120,24,23128,null,null,null,null,0,122]
[21,23235,22,23242,24,23250,null,null,null,null,0,222]
[21,23365,22,23370,24,23378,null,null,null,null,0,222]
[12,23480,24,23499,24,23507,null,null,null,null,0,122]
[12,23603,24,23616,24,23623,null,null,null,null,0,122]
[21,23741,22,23749,24,23762,null,null,null,null,0,222]
[12,23866,24,23892,24,23899,null,null,null,null,0,122]

{"sheet":"!M904830.101","index":8,"n_rows":187,"n_cols":48,"rows_kept":187,"cut":false,"hidden":false,"merged":[[4,39,4,42],[5,39,5,40],[4,44,4,47],[5,44,5,45],[4,24,4,27],[5,24,5,25],[4,29,4,32],[5,29,5,30],[4,34,4,37],[5,34,5,35],[1,1,1,2],[5,13,5,14],[18,13,18,14],[19,13,19,14],[4,19,4,22],[5,19,5,20]]}
["Report for:!M904830.101"]
["Date:","<date>"]
["Hen:","<hen>",null,null,null,"Correct Sequence",{"$f":"Start!J2","v":211},null,null,null,null,null,null,null,null,"Total Sequences in Data",{"$f":"4994-COUNTBLANK(L7:L5000)","v":181},null,null,null,null,"Total Sequences in Block Data",{"$f":"COUNTA(L7:L36)","v":30},null,null,null,"Total Sequences in Block Data",{"$f":"COUNTA(L37:L66)","v":30},null,null,null,"Total Sequences in Block Data",{"$f":"COUNTA(L67:L97)","v":31},null,null,null,"Total Sequences in Block Data",{"$f":"COUNTA(L98:L127)","v":30},null,null,null,"Total Sequences in Block Data",{"$f":"COUNTA(L128:L157)","v":30},null,null,null,"Total Sequences in Block Data",{"$f":"COUNTA(L158:L187)","v":30}]
[null,null,null,null,null,null,null,null,null,null,null,null,null,null,null,"Total Sequences in Summary",{"$f":"SUM(O7:O14)","v":181},null,null,null,null,"Total Sequences in Block Summary",{"$f":"SUM(U7:U14)","v":30},null,null,null,"Total Sequences in Block Summary",{"$f":"SUM(Z7:Z14)","v":30},null,null,null,"Total Sequences in Block Summary",{"$f":"SUM(AE7:AE14)","v":31},null,null,null,"Total Sequences in Block Summary",{"$f":"SUM(AJ7:AJ14)","v":30},null,null,null,"Total Sequences in Block Summary",{"$f":"SUM(AO7:AO14)","v":30},null,null,null,"Total Sequences in Block Summary",{"$f":"SUM(AT7:AT14)","v":30}]
[null,null,null,null,null,null,null,null,null,null,null,null,null,null,null,null,null,null,null,"Block 1",null,null,null,null,"Block 2",null,null,null,null,"Block 3",null,null,null,null,"Block 4",null,null,null,null,"Block 5",null,null,null,null,"Block 6"]
["Sequence\nComponent\n1","Time\n1","Sequence\nComponent\n2","Time\n2","Sequence\nComponent\n3","Time\n3","Sequence\nComponent\n4","Time\n4","Sequence\nComponent\n5","Time\n5","Correct?\n0=No 1=Yes","Sequence",null,"Frequency",null,"Relative Frequency","Variability",null,null,"Frequency",null,"Relative Frequency","Variability",null,"Frequency",null,"Relative Frequency","Variability",null,"Frequency",null,"Relative Frequency","Variability",null,"Frequency",null,"Relative Frequency","Variability",null,"Frequency",null,"Relative Frequency","Variability",null,"Frequency",null,"Relative Frequency","Variability"]
[12,11,24,24,24,39,null,null,null,null,0,122,null,111,{"$f":"COUNTIF($L$7:$L$500,N7)","v":0},{"$f":"O7/$Q$4","v":0},{"$f":"IF(P7=0,0,(P7*((LOG(P7))/LOG(2))))","v":0},null,null,{"$f":"N7","v":111},{"$f":"COUNTIF(L7:L36,T7)","v":0},{"$f":"U7/(W4-U11)","v":0},{"$f":"IF(V7=0,0,(V7*((LOG(V7))/LOG(2))))","v":0},null,{"$f":"N7","v":111},{"$f":"COUNTIF(L37:L66,Y7)","v":0},{"$f":"Z7/(AB4-Z11)","v":0},{"$f":"IF(AA7=0,0,(AA7*((LOG(AA7))/LOG(2))))","v":0},null,{"$f":"N7","v":111},{"$f":"COUNTIF(L67:L97,AD7)","v":0},{"$f":"AE7/(AG4-AE11)","v":0},{"$f":"IF(AF7=0,0,(AF7*((LOG(AF7))/LOG(2))))","v":0},null,{"$f":"N7","v":111},{"$f":"COUNTIF(L98:L127,AI7)","v":0},{"$f":"AJ7/(AL4-AJ11)","v":0},{"$f":"IF(AK7=0,0,(AK7*((LOG(AK7))/LOG(2))))","v":0},null,{"$f":"N7","v":111},{"$f":"COUNTIF(L128:L157,AN7)","v":0},{"$f":"AO7/(AQ4-AO11)","v":0},{"$f":"IF(AP7=0,0,(AP7*((LOG(AP7))/LOG(2))))","v":0},null,{"$f":"N7","v":111},{"$f":"COUNTIF(L158:L187,AS7)","v":0},{"$f":"AT7/(AV4-AT11)","v":0},{"$f":"IF(AU7=0,0,(AU7*((LOG(AU7))/LOG(2))))","v":0}]
[12,138,24,151,24,157,null,null,null,null,0,122,null,112,{"$f":"COUNTIF($L$7:$L$500,N8)","v":4},{"$f":"O8/$Q$4","v":2.2099447513812154E-2},{"$f":"IF(P8=0,0,(P8*((LOG(P8))/LOG(2))))","v":-0.12154355551565092},null,null,{"$f":"N8","v":112},{"$f":"COUNTIF(L7:L36,T8)","v":0},{"$f":"U8/(W4-U11)","v":0},{"$f":"IF(V8=0,0,(V8*((LOG(V8))/LOG(2))))","v":0},null,{"$f":"N8","v":112},{"$f":"COUNTIF(L37:L66,Y8)","v":0},{"$f":"Z8/(AB4-Z11)","v":0},{"$f":"IF(AA8=0,0,(AA8*((LOG(AA8))/LOG(2))))","v":0},null,{"$f":"N8","v":112},{"$f":"COUNTIF(L67:L97,AD8)","v":0},{"$f":"AE8/(AG4-AE11)","v":0},{"$f":"IF(AF8=0,0,(AF8*((LOG(AF8))/LOG(2))))","v":0},null,{"$f":"N8","v":112},{"$f":"COUNTIF(L98:L127,AI8)","v":3},{"$f":"AJ8/(AL4-AJ11)","v":0.1},{"$f":"IF(AK8=0,0,(AK8*((LOG(AK8))/LOG(2))))","v":-0.33219280948873625},null,{"$f":"N8","v":112},{"$f":"COUNTIF(L128:L157,AN8)","v":0},{"$f":"AO8/(AQ4-AO11)","v":0},{"$f":"IF(AP8=0,0,(AP8*((LOG(AP8))/LOG(2))))","v":0},null,{"$f":"N8","v":112},{"$f":"COUNTIF(L158:L187,AS8)","v":1},{"$f":"AT8/(AV4-AT11)","v":3.3333333333333333E-2},{"$f":"IF(AU8=0,0,(AU8*((LOG(AU8))/LOG(2))))","v":-0.16356301985361729}]
[21,273,22,279,24,287,null,null,null,null,0,222,null,121,{"$f":"COUNTIF($L$7:$L$500,N9)","v":0},{"$f":"O9/$Q$4","v":0},{"$f":"IF(P9=0,0,(P9*((LOG(P9))/LOG(2))))","v":0},null,null,{"$f":"N9","v":121},{"$f":"COUNTIF(L7:L36,T9)","v":0},{"$f":"U9/(W4-U11)","v":0},{"$f":"IF(V9=0,0,(V9*((LOG(V9))/LOG(2))))","v":0},null,{"$f":"N9","v":121},{"$f":"COUNTIF(L37:L66,Y9)","v":0},{"$f":"Z9/(AB4-Z11)","v":0},{"$f":"IF(AA9=0,0,(AA9*((LOG(AA9))/LOG(2))))","v":0},null,{"$f":"N9","v":121},{"$f":"COUNTIF(L67:L97,AD9)","v":0},{"$f":"AE9/(AG4-AE11)","v":0},{"$f":"IF(AF9=0,0,(AF9*((LOG(AF9))/LOG(2))))","v":0},null,{"$f":"N9","v":121},{"$f":"COUNTIF(L98:L127,AI9)","v":0},{"$f":"AJ9/(AL4-AJ11)","v":0},{"$f":"IF(AK9=0,0,(AK9*((LOG(AK9))/LOG(2))))","v":0},null,{"$f":"N9","v":121},{"$f":"COUNTIF(L128:L157,AN9)","v":0},{"$f":"AO9/(AQ4-AO11)","v":0},{"$f":"IF(AP9=0,0,(AP9*((LOG(AP9))/LOG(2))))","v":0},null,{"$f":"N9","v":121},{"$f":"COUNTIF(L158:L187,AS9)","v":0},{"$f":"AT9/(AV4-AT11)","v":0},{"$f":"IF(AU9=0,0,(AU9*((LOG(AU9))/LOG(2))))","v":0}]
[12,394,24,408,24,423,null,null,null,null,0,122,null,122,{"$f":"COUNTIF($L$7:$L$500,N10)","v":70},{"$f":"O10/$Q$4","v":0.38674033149171272},{"$f":"IF(P10=0,0,(P10*((LOG(P10))/LOG(2))))","v":-0.53005193872749568},null,null,{"$f":"N10","v":122},{"$f":"COUNTIF(L7:L36,T10)","v":9},{"$f":"U10/(W4-U11)","v":0.3},{"$f":"IF(V10=0,0,(V10*((LOG(V10))/LOG(2))))","v":-0.52108967824986185},null,{"$f":"N10","v":122},{"$f":"COUNTIF(L37:L66,Y10)","v":15},{"$f":"Z10/(AB4-Z11)","v":0.5},{"$f":"IF(AA10=0,0,(AA10*((LOG(AA10))/LOG(2))))","v":-0.5},null,{"$f":"N10","v":122},{"$f":"COUNTIF(L67:L97,AD10)","v":14},{"$f":"AE10/(AG4-AE11)","v":0.45161290322580644},{"$f":"IF(AF10=0,0,(AF10*((LOG(AF10))/LOG(2))))","v":-0.51792836892289662},null,{"$f":"N10","v":122},{"$f":"COUNTIF(L98:L127,AI10)","v":8},{"$f":"AJ10/(AL4-AJ11)","v":0.26666666666666666},{"$f":"IF(AK10=0,0,(AK10*((LOG(AK10))/LOG(2))))","v":-0.50850415882893829},null,{"$f":"N10","v":122},{"$f":"COUNTIF(L128:L157,AN10)","v":11},{"$f":"AO10/(AQ4-AO11)","v":0.36666666666666664},{"$f":"IF(AP10=0,0,(AP10*((LOG(AP10))/LOG(2))))","v":-0.53073495822278116},null,{"$f":"N10","v":122},{"$f":"COUNTIF(L158:L187,AS10)","v":13},{"$f":"AT10/(AV4-AT11)","v":0.43333333333333335},{"$f":"IF(AU10=0,0,(AU10*((LOG(AU10))/LOG(2))))","v":-0.52279538023588479}]
[21,528,22,538,24,550,null,null,null,null,0,222,null,211,{"$f":"COUNTIF($L$7:$L$500,N11)","v":0},{"$f":"O11/$Q$4","v":0},{"$f":"IF(P11=0,0,(P11*((LOG(P11))/LOG(2))))","v":0},null,null,{"$f":"N11","v":211},{"$f":"COUNTIF(L7:L36,T11)","v":0},null,null,null,{"$f":"N11","v":211},{"$f":"COUNTIF(L37:L66,Y11)","v":0},null,null,null,{"$f":"N11","v":211},{"$f":"COUNTIF(L67:L97,AD11)","v":0},null,null,null,{"$f":"N11","v":211},{"$f":"COUNTIF(L98:L127,AI11)","v":0},null,null,null,{"$f":"N11","v":211},{"$f":"COUNTIF(L128:L157,AN11)","v":0},null,null,null,{"$f":"N11","v":211},{"$f":"COUNTIF(L158:L187,AS11)","v":0}]
[21,667,22,672,24,678,null,null,null,null,0,222,null,212,{"$f":"COUNTIF($L$7:$L$500,N12)","v":0},{"$f":"O12/$Q$4","v":0},{"$f":"IF(P12=0,0,(P12*((LOG(P12))/LOG(2))))","v":0},null,null,{"$f":"N12","v":212},{"$f":"COUNTIF(L7:L36,T12)","v":0},{"$f":"U12/(W4-U11)","v":0},{"$f":"IF(V12=0,0,(V12*((LOG(V12))/LOG(2))))","v":0},null,{"$f":"N12","v":212},{"$f":"COUNTIF(L37:L66,Y12)","v":0},{"$f":"Z12/(AB4-Z11)","v":0},{"$f":"IF(AA12=0,0,(AA12*((LOG(AA12))/LOG(2))))","v":0},null,{"$f":"N12","v":212},{"$f":"COUNTIF(L67:L97,AD12)","v":0},{"$f":"AE12/(AG4-AE11)","v":0},{"$f":"IF(AF12=0,0,(AF12*((LOG(AF12))/LOG(2))))","v":0},null,{"$f":"N12","v":212},{"$f":"COUNTIF(L98:L127,AI12)","v":0},{"$f":"AJ12/(AL4-AJ11)","v":0},{"$f":"IF(AK12=0,0,(AK12*((LOG(AK12))/LOG(2))))","v":0},null,{"$f":"N12","v":212},{"$f":"COUNTIF(L128:L157,AN12)","v":0},{"$f":"AO12/(AQ4-AO11)","v":0},{"$f":"IF(AP12=0,0,(AP12*((LOG(AP12))/LOG(2))))","v":0},null,{"$f":"N12","v":212},{"$f":"COUNTIF(L158:L187,AS12)","v":0},{"$f":"AT12/(AV4-AT11)","v":0},{"$f":"IF(AU12=0,0,(AU12*((LOG(AU12))/LOG(2))))","v":0}]
[21,783,22,788,24,793,null,null,null,null,0,222,null,221,{"$f":"COUNTIF($L$7:$L$500,N13)","v":0},{"$f":"O13/$Q$4","v":0},{"$f":"IF(P13=0,0,(P13*((LOG(P13))/LOG(2))))","v":0},null,null,{"$f":"N13","v":221},{"$f":"COUNTIF(L7:L36,T13)","v":0},{"$f":"U13/(W4-U11)","v":0},{"$f":"IF(V13=0,0,(V13*((LOG(V13))/LOG(2))))","v":0},null,{"$f":"N13","v":221},{"$f":"COUNTIF(L37:L66,Y13)","v":0},{"$f":"Z13/(AB4-Z11)","v":0},{"$f":"IF(AA13=0,0,(AA13*((LOG(AA13))/LOG(2))))","v":0},null,{"$f":"N13","v":221},{"$f":"COUNTIF(L67:L97,AD13)","v":0},{"$f":"AE13/(AG4-AE11)","v":0},{"$f":"IF(AF13=0,0,(AF13*((LOG(AF13))/LOG(2))))","v":0},null,{"$f":"N13","v":221},{"$f":"COUNTIF(L98:L127,AI13)","v":0},{"$f":"AJ13/(AL4-AJ11)","v":0},{"$f":"IF(AK13=0,0,(AK13*((LOG(AK13))/LOG(2))))","v":0},null,{"$f":"N13","v":221},{"$f":"COUNTIF(L128:L157,AN13)","v":0},{"$f":"AO13/(AQ4-AO11)","v":0},{"$f":"IF(AP13=0,0,(AP13*((LOG(AP13))/LOG(2))))","v":0},null,{"$f":"N13","v":221},{"$f":"COUNTIF(L158:L187,AS13)","v":0},{"$f":"AT13/(AV4-AT11)","v":0},{"$f":"IF(AU13=0,0,(AU13*((LOG(AU13))/LOG(2))))","v":0}]
[21,905,22,914,24,920,null,null,null,null,0,222,null,222,{"$f":"COUNTIF($L$7:$L$500,N14)","v":107},{"$f":"O14/$Q$4","v":0.59116022099447518},{"$f":"IF(P14=0,0,(P14*((LOG(P14))/LOG(2))))","v":-0.4483234385247527},null,null,{"$f":"N14","v":222},{"$f":"COUNTIF(L7:L36,T14)","v":21},{"$f":"U14/(W4-U11)","v":0.7},{"$f":"IF(V14=0,0,(V14*((LOG(V14))/LOG(2))))","v":-0.36020122098083079},null,{"$f":"N14","v":222},{"$f":"COUNTIF(L37:L66,Y14)","v":15},{"$f":"Z14/(AB4-Z11)","v":0.5},{"$f":"IF(AA14=0,0,(AA14*((LOG(AA14))/LOG(2))))","v":-0.5},null,{"$f":"N14","v":222},{"$f":"COUNTIF(L67:L97,AD14)","v":17},{"$f":"AE14/(AG4-AE11)","v":0.54838709677419351},{"$f":"IF(AF14=0,0,(AF14*((LOG(AF14))/LOG(2))))","v":-0.47530545081681003},null,{"$f":"N14","v":222},{"$f":"COUNTIF(L98:L127,AI14)","v":19},{"$f":"AJ14/(AL4-AJ11)","v":0.6333333333333333},{"$f":"IF(AK14=0,0,(AK14*((LOG(AK14))/LOG(2))))","v":-0.41734328537112425},null,{"$f":"N14","v":222},{"$f":"COUNTIF(L128:L157,AN14)","v":19},{"$f":"AO14/(AQ4-AO11)","v":0.6333333333333333},{"$f":"IF(AP14=0,0,(AP14*((LOG(AP14))/LOG(2))))","v":-0.41734328537112425},null,{"$f":"N14","v":222},{"$f":"COUNTIF(L158:L187,AS14)","v":16},{"$f":"AT14/(AV4-AT11)","v":0.53333333333333333},{"$f":"IF(AU14=0,0,(AU14*((LOG(AU14))/LOG(2))))","v":-0.4836749843245432}]
[12,1016,24,1028,24,1038,null,null,null,null,0,122,null,null,null,{"$f":"SUM(P7:P14)","v":1},{"$f":"-SUM(Q7:Q14)","v":1.0999189327678993},null,null,null,null,{"$f":"SUM(V7:V14)","v":1},{"$f":"-SUM(W7:W14)","v":0.8812908992306927},null,null,null,{"$f":"SUM(AA7:AA14)","v":1},{"$f":"-SUM(AB7:AB14)","v":1},null,null,null,{"$f":"SUM(AF7:AF14)","v":1},{"$f":"-SUM(AG7:AG14)","v":0.99323381973970659},null,null,null,{"$f":"SUM(AK7:AK14)","v":1},{"$f":"-SUM(AL7:AL14)","v":1.2580402536887989},null,null,null,{"$f":"SUM(AP7:AP14)","v":1},{"$f":"-SUM(AQ7:AQ14)","v":0.94807824359390547},null,null,null,{"$f":"SUM(AU7:AU14)","v":1},{"$f":"-SUM(AV7:AV14)","v":1.1700333844140454}]
[21,1139,22,1144,24,1149,null,null,null,null,0,222,null,null,null,"U=",{"$f":"Q15/(LOG(Q4)/LOG(2))","v":0.14665887130591068},null,null,null,null,"U1=",{"$f":"W15/(LOG(W4)/LOG(2))","v":0.17960272030915356},null,null,null,"U2=",{"$f":"AB15/(LOG(AB4)/LOG(2))","v":0.20379504709050619},null,null,null,"U3=",{"$f":"AG15/(LOG(AG4)/LOG(2))","v":0.20048333927690981},null,null,null,"U4=",{"$f":"AL15/(LOG(AL4)/LOG(2))","v":0.25638237274226111},null,null,null,"U5=",{"$f":"AQ15/(LOG(AQ4)/LOG(2))","v":0.19321365029870435},null,null,null,"U6=",{"$f":"AV15/(LOG(AV4)/LOG(2))","v":0.23844700867412469}]
[21,1263,22,1268,24,1276,null,null,null,null,0,222]
[12,1374,24,1386,24,1392,null,null,null,null,0,122]
[21,1503,22,1511,24,1524,null,null,null,null,0,222,null,"Total Target Seq"]
[12,1620,24,1635,24,1640,null,null,null,null,0,122,null,{"$f":"COUNTIF(L7:L187,G3)","v":0},null,30,30,31,30,30,30]
[21,1744,22,1759,24,1764,null,null,null,null,0,222,null,null,null,"% of reinforcement given in 6 equal intervals based on number of trials "]
[21,1873,22,1879,24,1883,null,null,null,null,0,222,null,null,null,"%_1","%_2","%_3","%_4","%_5","%_6"]
[21,2007,22,2020,24,2030,null,null,null,null,0,222,null,null,"target sequence",{"$f":"$G$3","v":211},{"$f":"$G$3","v":211},{"$f":"$G$3","v":211},{"$f":"$G$3","v":211},{"$f":"$G$3","v":211},{"$f":"$G$3","v":211}]
[21,2141,22,2146,24,2153,null,null,null,null,0,222,null,null,"total reinforcement",{"$f":"U11","v":0},{"$f":"Z11","v":0},{"$f":"AE11","v":0},{"$f":"AJ11","v":0},{"$f":"AO11","v":0},{"$f":"AT11","v":0}]
[21,2265,22,2270,24,2279,null,null,null,null,0,222,null,null,"% target"]
[21,2391,22,2396,24,2403,null,null,null,null,0,222,null,null,"CCRF"]
[12,2501,24,2511,24,2517,null,null,null,null,0,122,null,null,"% CCRf"]
[12,2615,24,2634,24,2639,null,null,null,null,0,122,null,null,"average response rate",{"$f":"F36/P20","v":121.8},{"$f":"(F66-F36)/Q20","v":131.5},{"$f":"(F97-F66)/R20","v":146.03225806451613},{"$f":"(F127-F97)/S20","v":134.5},{"$f":"(F157-F127)/T20","v":129.5},{"$f":"(F187-F157)/U20","v":131.26666666666668}]
[21,2749,22,2755,24,2768,null,null,null,null,0,222]
[21,2881,22,2888,24,2892,null,null,null,null,0,222]
[12,3000,24,3013,24,3019,null,null,null,null,0,122]
[21,3126,22,3131,24,3139,null,null,null,null,0,222]
[21,3250,22,3255,24,3265,null,null,null,null,0,222]
[21,3370,22,3379,24,3386,null,null,null,null,0,222]
[21,3504,22,3511,24,3525,null,null,null,null,0,222]
[21,3638,22,3645,24,3654,null,null,null,null,0,222]
[21,3775,22,3789,24,3797,null,null,null,null,0,222]
[21,3914,22,3930,24,3943,null,null,null,null,0,222]
[12,4050,24,4066,24,4074,null,null,null,null,0,122]
[12,4172,24,4184,24,4189,null,null,null,null,0,122]
[12,4295,24,4311,24,4317,null,null,null,null,0,122]
[12,4424,24,4443,24,4450,null,null,null,null,0,122]
[12,4547,24,4564,24,4570,null,null,null,null,0,122]
[21,4680,22,4691,24,4700,null,null,null,null,0,222]
[12,4805,24,4818,24,4823,null,null,null,null,0,122]
[21,4935,22,4940,24,4954,null,null,null,null,0,222]
[12,5058,24,5077,24,5086,null,null,null,null,0,122]
[21,5200,22,5206,24,5234,null,null,null,null,0,222]
[21,5349,22,5360,24,5374,null,null,null,null,0,222]
[21,5496,22,5501,24,5510,null,null,null,null,0,222]
[21,5618,22,5628,24,5634,null,null,null,null,0,222]
[21,5749,22,5755,24,5763,null,null,null,null,0,222]
[21,5870,22,5880,24,5885,null,null,null,null,0,222]
[12,5985,24,6002,24,6020,null,null,null,null,0,122]
[12,6146,24,6159,24,6167,null,null,null,null,0,122]
[21,6278,22,6286,24,6296,null,null,null,null,0,222]
[21,6408,22,6415,24,6434,null,null,null,null,0,222]
[21,6547,22,6554,24,6563,null,null,null,null,0,222]
[12,6662,24,6676,24,6682,null,null,null,null,0,122]
[21,6790,22,6798,24,6813,null,null,null,null,0,222]
[12,6915,24,6934,24,6941,null,null,null,null,0,122]
[12,7034,24,7073,24,7095,null,null,null,null,0,122]
[12,7194,24,7210,24,7215,null,null,null,null,0,122]
[12,7314,24,7331,24,7337,null,null,null,null,0,122]
[12,7437,24,7449,24,7456,null,null,null,null,0,122]
[21,7574,22,7582,24,7599,null,null,null,null,0,222]
[21,7715,22,7720,24,7727,null,null,null,null,0,222]
[12,7823,24,7847,24,7879,null,null,null,null,0,122]
[12,7976,24,7988,24,8001,null,null,null,null,0,122]
[12,8100,24,8114,24,8129,null,null,null,null,0,122]
[12,8228,24,8241,24,8248,null,null,null,null,0,122]
[21,8369,22,8390,24,8397,null,null,null,null,0,222]
[21,8514,22,8520,24,8557,null,null,null,null,0,222]
[12,8660,24,8683,24,8691,null,null,null,null,0,122]
[21,8812,22,8826,24,8846,null,null,null,null,0,222]
[12,8953,24,8966,24,8971,null,null,null,null,0,122]
[12,9072,24,9091,24,9105,null,null,null,null,0,122]
[21,9221,22,9228,24,9237,null,null,null,null,0,222]
[21,9367,22,9410,24,9433,null,null,null,null,0,222]
[21,9545,22,9552,24,9559,null,null,null,null,0,222]
[12,9659,24,9675,24,9681,null,null,null,null,0,122]
[21,9794,22,9807,24,9816,null,null,null,null,0,222]
[21,9950,22,9954,24,9963,null,null,null,null,0,222]
[12,10061,24,10088,24,10095,null,null,null,null,0,122]
[12,10203,24,10218,24,10226,null,null,null,null,0,122]
[21,10334,22,10370,24,10379,null,null,null,null,0,222]
[12,10481,24,10583,24,10591,null,null,null,null,0,122]
[12,10687,24,10709,24,10714,null,null,null,null,0,122]
[21,10824,22,10852,24,10875,null,null,null,null,0,222]
[21,10992,22,10996,24,11009,null,null,null,null,0,222]
[21,11158,22,11207,24,11227,null,null,null,null,0,222]
[21,11345,22,11357,24,11366,null,null,null,null,0,222]
[12,11466,24,11519,24,11527,null,null,null,null,0,122]
[21,11682,22,11688,24,11712,null,null,null,null,0,222]
[21,11818,22,11842,24,11849,null,null,null,null,0,222]
[21,11965,22,11986,24,11997,null,null,null,null,0,222]
[12,12097,24,12116,24,12126,null,null,null,null,0,122]
[12,12232,13,12241,24,12276,null,null,null,null,0,112]
[12,12382,24,12395,24,12410,null,null,null,null,0,122]
[12,12516,24,12529,24,12536,null,null,null,null,0,122]
[12,12636,13,12638,24,12651,null,null,null,null,0,112]
[12,12749,24,12770,24,12788,null,null,null,null,0,122]
[12,12887,24,12899,24,12906,null,null,null,null,0,122]
[21,13025,22,13046,24,13061,null,null,null,null,0,222]
[12,13208,24,13222,24,13228,null,null,null,null,0,122]
[12,13325,24,13336,24,13341,null,null,null,null,0,122]
[21,13454,22,13461,24,13467,null,null,null,null,0,222]
[21,13582,22,13589,24,13604,null,null,null,null,0,222]
[21,13720,22,13733,24,13742,null,null,null,null,0,222]
[12,13848,24,13862,24,13867,null,null,null,null,0,122]
[21,13978,22,13985,24,13992,null,null,null,null,0,222]
[12,14092,24,14112,24,14120,null,null,null,null,0,122]
[21,14231,22,14249,24,14258,null,null,null,null,0,222]
[21,14383,22,14391,24,14400,null,null,null,null,0,222]
[21,14513,22,14521,24,14530,null,null,null,null,0,222]
[21,14648,22,14660,24,14680,null,null,null,null,0,222]
[21,14794,22,14801,24,14810,null,null,null,null,0,222]
[21,14943,22,14957,24,14965,null,null,null,null,0,222]
[21,15080,22,15085,24,15100,null,null,null,null,0,222]
[21,15206,22,15211,24,15217,null,null,null,null,0,222]
[21,15332,22,15339,24,15363,null,null,null,null,0,222]
[21,15473,22,15481,24,15494,null,null,null,null,0,222]
[21,15604,22,15631,24,15639,null,null,null,null,0,222]
[21,15748,22,15761,24,15768,null,null,null,null,0,222]
[12,15866,13,15868,24,15884,null,null,null,null,0,112]
[21,16002,22,16011,24,16023,null,null,null,null,0,222]
[21,16145,22,16153,24,16161,null,null,null,null,0,222]
[21,16290,22,16296,24,16312,null,null,null,null,0,222]
[12,16414,24,16428,24,16435,null,null,null,null,0,122]
[21,16554,22,16562,24,16570,null,null,null,null,0,222]
[21,16685,22,16692,24,16699,null,null,null,null,0,222]
[21,16823,22,16831,24,16840,null,null,null,null,0,222]
[21,16950,22,16957,24,16963,null,null,null,null,0,222]
[21,17080,22,17087,24,17095,null,null,null,null,0,222]
[21,17205,22,17210,24,17217,null,null,null,null,0,222]
[21,17329,22,17338,24,17351,null,null,null,null,0,222]
[12,17455,24,17468,24,17474,null,null,null,null,0,122]
[21,17585,22,17606,24,17613,null,null,null,null,0,222]
[21,17742,22,17750,24,17770,null,null,null,null,0,222]
[21,17887,22,17905,24,17921,null,null,null,null,0,222]
[12,18020,24,18034,24,18041,null,null,null,null,0,122]
[12,18138,24,18152,24,18157,null,null,null,null,0,122]
[21,18270,22,18278,24,18286,null,null,null,null,0,222]
[12,18388,24,18398,24,18404,null,null,null,null,0,122]
[21,18509,22,18515,24,18532,null,null,null,null,0,222]
[12,18629,24,18642,24,18648,null,null,null,null,0,122]
[12,18744,24,18769,24,18778,null,null,null,null,0,122]
[21,18890,22,18896,24,18903,null,null,null,null,0,222]
[12,18998,24,19011,24,19017,null,null,null,null,0,122]
[21,19121,22,19127,24,19140,null,null,null,null,0,222]
[21,19259,22,19273,24,19295,null,null,null,null,0,222]
[12,19394,24,19407,24,19413,null,null,null,null,0,122]
[21,19523,22,19530,24,19539,null,null,null,null,0,222]
[21,19656,22,19663,24,19670,null,null,null,null,0,222]
[12,19786,24,19799,24,19804,null,null,null,null,0,122]
[21,19917,22,19922,24,19929,null,null,null,null,0,222]
[12,20027,24,20039,24,20046,null,null,null,null,0,122]
[12,20144,24,20158,24,20164,null,null,null,null,0,122]
[21,20276,22,20290,24,20298,null,null,null,null,0,222]
[21,20411,22,20426,24,20436,null,null,null,null,0,222]
[21,20545,22,20553,24,20561,null,null,null,null,0,222]
[21,20673,22,20679,24,20694,null,null,null,null,0,222]
[21,20804,22,20816,24,20825,null,null,null,null,0,222]
[21,20931,22,20942,24,20962,null,null,null,null,0,222]
[12,21061,24,21074,24,21081,null,null,null,null,0,122]
[12,21179,24,21192,24,21198,null,null,null,null,0,122]
[12,21299,24,21312,24,21319,null,null,null,null,0,122]
[12,21417,24,21431,24,21438,null,null,null,null,0,122]
[21,21540,22,21556,24,21565,null,null,null,null,0,222]
[21,21681,22,21694,24,21702,null,null,null,null,0,222]
[12,21795,24,21808,24,21813,null,null,null,null,0,122]
[21,21935,22,21940,24,21966,null,null,null,null,0,222]
[21,22077,22,22082,24,22097,null,null,null,null,0,222]
[12,22195,24,22209,24,22220,null,null,null,null,0,122]
[12,22321,24,22334,24,22341,null,null,null,null,0,122]
[12,22442,24,22462,24,22467,null,null,null,null,0,122]
[12,22571,24,22585,24,22592,null,null,null,null,0,122]
[21,22704,22,22712,24,22739,null,null,null,null,0,222]
[21,22877,22,22883,24,22901,null,null,null,null,0,222]
[12,22993,24,23007,24,23015,null,null,null,null,0,122]
[12,23116,24,23136,24,23141,null,null,null,null,0,122]
[21,23252,22,23260,24,23269,null,null,null,null,0,222]
[21,23384,22,23398,24,23407,null,null,null,null,0,222]
[21,23515,22,23550,24,23557,null,null,null,null,0,222]
[12,23657,24,23675,24,23682,null,null,null,null,0,122]
[12,23775,13,23783,24,23796,null,null,null,null,0,112]
[21,23913,22,23919,24,23984,null,null,null,null,null,222]

{"sheet":"!M905830.101","index":9,"n_rows":186,"n_cols":48,"rows_kept":186,"cut":false,"hidden":false,"merged":[[4,39,4,42],[5,39,5,40],[4,44,4,47],[5,44,5,45],[4,24,4,27],[5,24,5,25],[4,29,4,32],[5,29,5,30],[4,34,4,37],[5,34,5,35],[1,1,1,2],[5,13,5,14],[18,13,18,14],[19,13,19,14],[4,19,4,22],[5,19,5,20]]}
["Report for:!M905830.101"]
["Date:","<date>"]
["Hen:","<hen>",null,null,null,"Correct Sequence",{"$f":"Start!J2","v":211},null,null,null,null,null,null,null,null,"Total Sequences in Data",{"$f":"4994-COUNTBLANK(L7:L5000)","v":180},null,null,null,null,"Total Sequences in Block Data",{"$f":"COUNTA(L7:L36)","v":30},null,null,null,"Total Sequences in Block Data",{"$f":"COUNTA(L37:L66)","v":30},null,null,null,"Total Sequences in Block Data",{"$f":"COUNTA(L67:L96)","v":30},null,null,null,"Total Sequences in Block Data",{"$f":"COUNTA(L97:L126)","v":30},null,null,null,"Total Sequences in Block Data",{"$f":"COUNTA(L127:L156)","v":30},null,null,null,"Total Sequences in Block Data",{"$f":"COUNTA(L157:L186)","v":30}]
[null,null,null,null,null,null,null,null,null,null,null,null,null,null,null,"Total Sequences in Summary",{"$f":"SUM(O7:O14)","v":179},null,null,null,null,"Total Sequences in Block Summary",{"$f":"SUM(U7:U14)","v":30},null,null,null,"Total Sequences in Block Summary",{"$f":"SUM(Z7:Z14)","v":30},null,null,null,"Total Sequences in Block Summary",{"$f":"SUM(AE7:AE14)","v":30},null,null,null,"Total Sequences in Block Summary",{"$f":"SUM(AJ7:AJ14)","v":30},null,null,null,"Total Sequences in Block Summary",{"$f":"SUM(AO7:AO14)","v":30},null,null,null,"Total Sequences in Block Summary",{"$f":"SUM(AT7:AT14)","v":29}]
[null,null,null,null,null,null,null,null,null,null,null,null,null,null,null,null,null,null,null,"Block 1",null,null,null,null,"Block 2",null,null,null,null,"Block 3",null,null,null,null,"Block 4",null,null,null,null,"Block 5",null,null,null,null,"Block 6"]
["Sequence\nComponent\n1","Time\n1","Sequence\nComponent\n2","Time\n2","Sequence\nComponent\n3","Time\n3","Sequence\nComponent\n4","Time\n4","Sequence\nComponent\n5","Time\n5","Correct?\n0=No 1=Yes","Sequence",null,"Frequency",null,"Relative Frequency","Variability",null,null,"Frequency",null,"Relative Frequency","Variability",null,"Frequency",null,"Relative Frequency","Variability",null,"Frequency",null,"Relative Frequency","Variability",null,"Frequency",null,"Relative Frequency","Variability",null,"Frequency",null,"Relative Frequency","Variability",null,"Frequency",null,"Relative Frequency","Variability"]
[21,17,22,26,24,39,null,null,null,null,0,222,null,111,{"$f":"COUNTIF($L$7:$L$500,N7)","v":0},{"$f":"O7/$Q$4","v":0},{"$f":"IF(P7=0,0,(P7*((LOG(P7))/LOG(2))))","v":0},null,null,{"$f":"N7","v":111},{"$f":"COUNTIF(L7:L36,T7)","v":0},{"$f":"U7/(W4-U11)","v":0},{"$f":"IF(V7=0,0,(V7*((LOG(V7))/LOG(2))))","v":0},null,{"$f":"N7","v":111},{"$f":"COUNTIF(L37:L66,Y7)","v":0},{"$f":"Z7/(AB4-Z11)","v":0},{"$f":"IF(AA7=0,0,(AA7*((LOG(AA7))/LOG(2))))","v":0},null,{"$f":"N7","v":111},{"$f":"COUNTIF(L67:L96,AD7)","v":0},{"$f":"AE7/(AG4-AE11)","v":0},{"$f":"IF(AF7=0,0,(AF7*((LOG(AF7))/LOG(2))))","v":0},null,{"$f":"N7","v":111},{"$f":"COUNTIF(L97:L126,AI7)","v":0},{"$f":"AJ7/(AL4-AJ11)","v":0},{"$f":"IF(AK7=0,0,(AK7*((LOG(AK7))/LOG(2))))","v":0},null,{"$f":"N7","v":111},{"$f":"COUNTIF(L127:L156,AN7)","v":0},{"$f":"AO7/(AQ4-AO11)","v":0},{"$f":"IF(AP7=0,0,(AP7*((LOG(AP7))/LOG(2))))","v":0},null,{"$f":"N7","v":111},{"$f":"COUNTIF(L157:L186,AS7)","v":0},{"$f":"AT7/(AV4-AT11)","v":0},{"$f":"IF(AU7=0,0,(AU7*((LOG(AU7))/LOG(2))))","v":0}]
[12,143,24,156,24,163,null,null,null,null,0,122,null,112,{"$f":"COUNTIF($L$7:$L$500,N8)","v":4},{"$f":"O8/$Q$4","v":2.23463687150838E-2},{"$f":"IF(P8=0,0,(P8*((LOG(P8))/LOG(2))))","v":-0.12254336932434093},null,null,{"$f":"N8","v":112},{"$f":"COUNTIF(L7:L36,T8)","v":1},{"$f":"U8/(W4-U11)","v":3.3333333333333333E-2},{"$f":"IF(V8=0,0,(V8*((LOG(V8))/LOG(2))))","v":-0.16356301985361729},null,{"$f":"N8","v":112},{"$f":"COUNTIF(L37:L66,Y8)","v":2},{"$f":"Z8/(AB4-Z11)","v":6.6666666666666666E-2},{"$f":"IF(AA8=0,0,(AA8*((LOG(AA8))/LOG(2))))","v":-0.26045937304056793},null,{"$f":"N8","v":112},{"$f":"COUNTIF(L67:L96,AD8)","v":1},{"$f":"AE8/(AG4-AE11)","v":3.3333333333333333E-2},{"$f":"IF(AF8=0,0,(AF8*((LOG(AF8))/LOG(2))))","v":-0.16356301985361729},null,{"$f":"N8","v":112},{"$f":"COUNTIF(L97:L126,AI8)","v":0},{"$f":"AJ8/(AL4-AJ11)","v":0},{"$f":"IF(AK8=0,0,(AK8*((LOG(AK8))/LOG(2))))","v":0},null,{"$f":"N8","v":112},{"$f":"COUNTIF(L127:L156,AN8)","v":0},{"$f":"AO8/(AQ4-AO11)","v":0},{"$f":"IF(AP8=0,0,(AP8*((LOG(AP8))/LOG(2))))","v":0},null,{"$f":"N8","v":112},{"$f":"COUNTIF(L157:L186,AS8)","v":0},{"$f":"AT8/(AV4-AT11)","v":0},{"$f":"IF(AU8=0,0,(AU8*((LOG(AU8))/LOG(2))))","v":0}]
[12,265,24,278,24,283,null,null,null,null,0,122,null,121,{"$f":"COUNTIF($L$7:$L$500,N9)","v":0},{"$f":"O9/$Q$4","v":0},{"$f":"IF(P9=0,0,(P9*((LOG(P9))/LOG(2))))","v":0},null,null,{"$f":"N9","v":121},{"$f":"COUNTIF(L7:L36,T9)","v":0},{"$f":"U9/(W4-U11)","v":0},{"$f":"IF(V9=0,0,(V9*((LOG(V9))/LOG(2))))","v":0},null,{"$f":"N9","v":121},{"$f":"COUNTIF(L37:L66,Y9)","v":0},{"$f":"Z9/(AB4-Z11)","v":0},{"$f":"IF(AA9=0,0,(AA9*((LOG(AA9))/LOG(2))))","v":0},null,{"$f":"N9","v":121},{"$f":"COUNTIF(L67:L96,AD9)","v":0},{"$f":"AE9/(AG4-AE11)","v":0},{"$f":"IF(AF9=0,0,(AF9*((LOG(AF9))/LOG(2))))","v":0},null,{"$f":"N9","v":121},{"$f":"COUNTIF(L97:L126,AI9)","v":0},{"$f":"AJ9/(AL4-AJ11)","v":0},{"$f":"IF(AK9=0,0,(AK9*((LOG(AK9))/LOG(2))))","v":0},null,{"$f":"N9","v":121},{"$f":"COUNTIF(L127:L156,AN9)","v":0},{"$f":"AO9/(AQ4-AO11)","v":0},{"$f":"IF(AP9=0,0,(AP9*((LOG(AP9))/LOG(2))))","v":0},null,{"$f":"N9","v":121},{"$f":"COUNTIF(L157:L186,AS9)","v":0},{"$f":"AT9/(AV4-AT11)","v":0},{"$f":"IF(AU9=0,0,(AU9*((LOG(AU9))/LOG(2))))","v":0}]
[12,383,24,397,24,418,null,null,null,null,0,122,null,122,{"$f":"COUNTIF($L$7:$L$500,N10)","v":58},{"$f":"O10/$Q$4","v":0.32402234636871508},{"$f":"IF(P10=0,0,(P10*((LOG(P10))/LOG(2))))","v":-0.52680680091579712},null,null,{"$f":"N10","v":122},{"$f":"COUNTIF(L7:L36,T10)","v":17},{"$f":"U10/(W4-U11)","v":0.56666666666666665},{"$f":"IF(V10=0,0,(V10*((LOG(V10))/LOG(2))))","v":-0.46434239413630152},null,{"$f":"N10","v":122},{"$f":"COUNTIF(L37:L66,Y10)","v":15},{"$f":"Z10/(AB4-Z11)","v":0.5},{"$f":"IF(AA10=0,0,(AA10*((LOG(AA10))/LOG(2))))","v":-0.5},null,{"$f":"N10","v":122},{"$f":"COUNTIF(L67:L96,AD10)","v":11},{"$f":"AE10/(AG4-AE11)","v":0.36666666666666664},{"$f":"IF(AF10=0,0,(AF10*((LOG(AF10))/LOG(2))))","v":-0.53073495822278116},null,{"$f":"N10","v":122},{"$f":"COUNTIF(L97:L126,AI10)","v":2},{"$f":"AJ10/(AL4-AJ11)","v":6.6666666666666666E-2},{"$f":"IF(AK10=0,0,(AK10*((LOG(AK10))/LOG(2))))","v":-0.26045937304056793},null,{"$f":"N10","v":122},{"$f":"COUNTIF(L127:L156,AN10)","v":8},{"$f":"AO10/(AQ4-AO11)","v":0.26666666666666666},{"$f":"IF(AP10=0,0,(AP10*((LOG(AP10))/LOG(2))))","v":-0.50850415882893829},null,{"$f":"N10","v":122},{"$f":"COUNTIF(L157:L186,AS10)","v":5},{"$f":"AT10/(AV4-AT11)","v":0.17241379310344829},{"$f":"IF(AU10=0,0,(AU10*((LOG(AU10))/LOG(2))))","v":-0.43725050004141547}]
[21,537,22,545,24,559,null,null,null,null,0,222,null,211,{"$f":"COUNTIF($L$7:$L$500,N11)","v":0},{"$f":"O11/$Q$4","v":0},{"$f":"IF(P11=0,0,(P11*((LOG(P11))/LOG(2))))","v":0},null,null,{"$f":"N11","v":211},{"$f":"COUNTIF(L7:L36,T11)","v":0},null,null,null,{"$f":"N11","v":211},{"$f":"COUNTIF(L37:L66,Y11)","v":0},null,null,null,{"$f":"N11","v":211},{"$f":"COUNTIF(L67:L96,AD11)","v":0},null,null,null,{"$f":"N11","v":211},{"$f":"COUNTIF(L97:L126,AI11)","v":0},null,null,null,{"$f":"N11","v":211},{"$f":"COUNTIF(L127:L156,AN11)","v":0},null,null,null,{"$f":"N11","v":211},{"$f":"COUNTIF(L157:L186,AS11)","v":0}]
[12,660,24,670,24,675,null,null,null,null,0,122,null,212,{"$f":"COUNTIF($L$7:$L$500,N12)","v":0},{"$f":"O12/$Q$4","v":0},{"$f":"IF(P12=0,0,(P12*((LOG(P12))/LOG(2))))","v":0},null,null,{"$f":"N12","v":212},{"$f":"COUNTIF(L7:L36,T12)","v":0},{"$f":"U12/(W4-U11)","v":0},{"$f":"IF(V12=0,0,(V12*((LOG(V12))/LOG(2))))","v":0},null,{"$f":"N12","v":212},{"$f":"COUNTIF(L37:L66,Y12)","v":0},{"$f":"Z12/(AB4-Z11)","v":0},{"$f":"IF(AA12=0,0,(AA12*((LOG(AA12))/LOG(2))))","v":0},null,{"$f":"N12","v":212},{"$f":"COUNTIF(L67:L96,AD12)","v":0},{"$f":"AE12/(AG4-AE11)","v":0},{"$f":"IF(AF12=0,0,(AF12*((LOG(AF12))/LOG(2))))","v":0},null,{"$f":"N12","v":212},{"$f":"COUNTIF(L97:L126,AI12)","v":0},{"$f":"AJ12/(AL4-AJ11)","v":0},{"$f":"IF(AK12=0,0,(AK12*((LOG(AK12))/LOG(2))))","v":0},null,{"$f":"N12","v":212},{"$f":"COUNTIF(L127:L156,AN12)","v":0},{"$f":"AO12/(AQ4-AO11)","v":0},{"$f":"IF(AP12=0,0,(AP12*((LOG(AP12))/LOG(2))))","v":0},null,{"$f":"N12","v":212},{"$f":"COUNTIF(L157:L186,AS12)","v":0},{"$f":"AT12/(AV4-AT11)","v":0},{"$f":"IF(AU12=0,0,(AU12*((LOG(AU12))/LOG(2))))","v":0}]
[21,781,22,788,24,797,null,null,null,null,0,222,null,221,{"$f":"COUNTIF($L$7:$L$500,N13)","v":0},{"$f":"O13/$Q$4","v":0},{"$f":"IF(P13=0,0,(P13*((LOG(P13))/LOG(2))))","v":0},null,null,{"$f":"N13","v":221},{"$f":"COUNTIF(L7:L36,T13)","v":0},{"$f":"U13/(W4-U11)","v":0},{"$f":"IF(V13=0,0,(V13*((LOG(V13))/LOG(2))))","v":0},null,{"$f":"N13","v":221},{"$f":"COUNTIF(L37:L66,Y13)","v":0},{"$f":"Z13/(AB4-Z11)","v":0},{"$f":"IF(AA13=0,0,(AA13*((LOG(AA13))/LOG(2))))","v":0},null,{"$f":"N13","v":221},{"$f":"COUNTIF(L67:L96,AD13)","v":0},{"$f":"AE13/(AG4-AE11)","v":0},{"$f":"IF(AF13=0,0,(AF13*((LOG(AF13))/LOG(2))))","v":0},null,{"$f":"N13","v":221},{"$f":"COUNTIF(L97:L126,AI13)","v":0},{"$f":"AJ13/(AL4-AJ11)","v":0},{"$f":"IF(AK13=0,0,(AK13*((LOG(AK13))/LOG(2))))","v":0},null,{"$f":"N13","v":221},{"$f":"COUNTIF(L127:L156,AN13)","v":0},{"$f":"AO13/(AQ4-AO11)","v":0},{"$f":"IF(AP13=0,0,(AP13*((LOG(AP13))/LOG(2))))","v":0},null,{"$f":"N13","v":221},{"$f":"COUNTIF(L157:L186,AS13)","v":0},{"$f":"AT13/(AV4-AT11)","v":0},{"$f":"IF(AU13=0,0,(AU13*((LOG(AU13))/LOG(2))))","v":0}]
[21,904,22,909,24,914,null,null,null,null,0,222,null,222,{"$f":"COUNTIF($L$7:$L$500,N14)","v":117},{"$f":"O14/$Q$4","v":0.65363128491620115},{"$f":"IF(P14=0,0,(P14*((LOG(P14))/LOG(2))))","v":-0.40097080306513783},null,null,{"$f":"N14","v":222},{"$f":"COUNTIF(L7:L36,T14)","v":12},{"$f":"U14/(W4-U11)","v":0.4},{"$f":"IF(V14=0,0,(V14*((LOG(V14))/LOG(2))))","v":-0.52877123795494496},null,{"$f":"N14","v":222},{"$f":"COUNTIF(L37:L66,Y14)","v":13},{"$f":"Z14/(AB4-Z11)","v":0.43333333333333335},{"$f":"IF(AA14=0,0,(AA14*((LOG(AA14))/LOG(2))))","v":-0.52279538023588479},null,{"$f":"N14","v":222},{"$f":"COUNTIF(L67:L96,AD14)","v":18},{"$f":"AE14/(AG4-AE11)","v":0.6},{"$f":"IF(AF14=0,0,(AF14*((LOG(AF14))/LOG(2))))","v":-0.44217935649972373},null,{"$f":"N14","v":222},{"$f":"COUNTIF(L97:L126,AI14)","v":28},{"$f":"AJ14/(AL4-AJ11)","v":0.93333333333333335},{"$f":"IF(AK14=0,0,(AK14*((LOG(AK14))/LOG(2))))","v":-9.2899961980853443E-2},null,{"$f":"N14","v":222},{"$f":"COUNTIF(L127:L156,AN14)","v":22},{"$f":"AO14/(AQ4-AO11)","v":0.73333333333333328},{"$f":"IF(AP14=0,0,(AP14*((LOG(AP14))/LOG(2))))","v":-0.32813658311222899},null,{"$f":"N14","v":222},{"$f":"COUNTIF(L157:L186,AS14)","v":24},{"$f":"AT14/(AV4-AT11)","v":0.82758620689655171},{"$f":"IF(AU14=0,0,(AU14*((LOG(AU14))/LOG(2))))","v":-0.2259463401984132}]
[12,1013,24,1026,24,1032,null,null,null,null,0,122,null,null,null,{"$f":"SUM(P7:P14)","v":1},{"$f":"-SUM(Q7:Q14)","v":1.0503209733052759},null,null,null,null,{"$f":"SUM(V7:V14)","v":1},{"$f":"-SUM(W7:W14)","v":1.1566766519448639},null,null,null,{"$f":"SUM(AA7:AA14)","v":1},{"$f":"-SUM(AB7:AB14)","v":1.2832547532764527},null,null,null,{"$f":"SUM(AF7:AF14)","v":1},{"$f":"-SUM(AG7:AG14)","v":1.1364773345761221},null,null,null,{"$f":"SUM(AK7:AK14)","v":1},{"$f":"-SUM(AL7:AL14)","v":0.35335933502142136},null,null,null,{"$f":"SUM(AP7:AP14)","v":1},{"$f":"-SUM(AQ7:AQ14)","v":0.83664074194116722},null,null,null,{"$f":"SUM(AU7:AU14)","v":1},{"$f":"-SUM(AV7:AV14)","v":0.66319684023982872}]
[12,1151,13,1154,24,1170,null,null,null,null,0,112,null,null,null,"U=",{"$f":"Q15/(LOG(Q4)/LOG(2))","v":0.14034564780391021},null,null,null,null,"U1=",{"$f":"W15/(LOG(W4)/LOG(2))","v":0.23572497275159257},null,null,null,"U2=",{"$f":"AB15/(LOG(AB4)/LOG(2))","v":0.26152096287309057},null,null,null,"U3=",{"$f":"AG15/(LOG(AG4)/LOG(2))","v":0.23160845191723375},null,null,null,"U4=",{"$f":"AL15/(LOG(AL4)/LOG(2))","v":7.2012882320560523E-2},null,null,null,"U5=",{"$f":"AQ15/(LOG(AQ4)/LOG(2))","v":0.1705032394017362},null,null,null,"U6=",{"$f":"AV15/(LOG(AV4)/LOG(2))","v":0.13651696886113754}]
[12,1269,24,1288,24,1295,null,null,null,null,0,122]
[21,1406,22,1411,24,1425,null,null,null,null,0,222]
[21,1530,22,1537,24,1542,null,null,null,null,0,222,null,"Total Target Seq"]
[12,1650,24,1667,24,1675,null,null,null,null,0,122,null,{"$f":"COUNTIF(L7:L186,G3)","v":0},null,30,30,30,30,30,30]
[21,1796,22,1813,24,1827,null,null,null,null,0,222,null,null,null,"% of reinforcement given in 6 equal intervals based on number of trials "]
[12,1927,24,1944,24,1949,null,null,null,null,0,122,null,null,null,"%_1","%_2","%_3","%_4","%_5","%_6"]
[12,2048,24,2058,24,2065,null,null,null,null,0,122,null,null,"target sequence",{"$f":"$G$3","v":211},{"$f":"$G$3","v":211},{"$f":"$G$3","v":211},{"$f":"$G$3","v":211},{"$f":"$G$3","v":211},{"$f":"$G$3","v":211}]
[21,2179,22,2188,24,2195,null,null,null,null,0,222,null,null,"total reinforcement",{"$f":"U11","v":0},{"$f":"Z11","v":0},{"$f":"AE11","v":0},{"$f":"AJ11","v":0},{"$f":"AO11","v":0},{"$f":"AT11","v":0}]
[12,2307,24,2326,24,2331,null,null,null,null,0,122,null,null,"% target"]
[12,2434,24,2447,24,2459,null,null,null,null,0,122,null,null,"CCRF"]
[12,2557,24,2585,24,2605,null,null,null,null,0,122,null,null,"% CCRf"]
[12,2707,24,2720,24,2725,null,null,null,null,0,122,null,null,"average response rate",{"$f":"F36/P20","v":125.66666666666667},{"$f":"(F66-F36)/Q20","v":129.69999999999999},{"$f":"(F96-F66)/R20","v":136.4},{"$f":"(F126-F96)/S20","v":139.23333333333332},{"$f":"(F156-F126)/T20","v":134.93333333333334},{"$f":"(F186-F156)/U20","v":-665.93333333333328}]
[12,2834,24,2847,24,2855,null,null,null,null,0,122]
[21,2967,22,2973,24,2982,null,null,null,null,0,222]
[12,3088,24,3106,24,3119,null,null,null,null,0,122]
[12,3218,24,3231,24,3240,null,null,null,null,0,122]
[12,3343,24,3357,24,3364,null,null,null,null,0,122]
[21,3475,22,3482,24,3495,null,null,null,null,0,222]
[21,3608,22,3620,24,3633,null,null,null,null,0,222]
[21,3746,22,3752,24,3770,null,null,null,null,0,222]
[21,3898,22,3910,24,3923,null,null,null,null,0,222]
[12,4022,13,4036,24,4059,null,null,null,null,0,112]
[21,4174,22,4182,24,4190,null,null,null,null,0,222]
[12,4293,24,4313,24,4319,null,null,null,null,0,122]
[21,4429,22,4468,24,4486,null,null,null,null,0,222]
[21,4605,22,4611,24,4617,null,null,null,null,0,222]
[12,4716,24,4734,24,4740,null,null,null,null,0,122]
[21,4853,22,4861,24,4868,null,null,null,null,0,222]
[12,4966,24,4982,24,4989,null,null,null,null,0,122]
[21,5101,22,5109,24,5116,null,null,null,null,0,222]
[12,5211,24,5224,24,5232,null,null,null,null,0,122]
[12,5331,24,5355,24,5367,null,null,null,null,0,122]
[12,5468,13,5469,24,5487,null,null,null,null,0,112]
[12,5586,24,5601,24,5608,null,null,null,null,0,122]
[12,5716,24,5734,24,5756,null,null,null,null,0,122]
[12,5855,24,5876,24,5883,null,null,null,null,0,122]
[12,5974,24,5989,24,5998,null,null,null,null,0,122]
[12,6095,24,6107,24,6115,null,null,null,null,0,122]
[21,6225,22,6230,24,6238,null,null,null,null,0,222]
[21,6350,22,6360,24,6367,null,null,null,null,0,222]
[21,6478,22,6488,24,6495,null,null,null,null,0,222]
[21,6605,22,6612,24,6620,null,null,null,null,0,222]
[12,6719,24,6732,24,6738,null,null,null,null,0,122]
[12,6845,24,6865,24,6872,null,null,null,null,0,122]
[12,6969,24,6982,24,6988,null,null,null,null,0,122]
[21,7110,22,7120,24,7142,null,null,null,null,0,222]
[12,7241,24,7264,24,7271,null,null,null,null,0,122]
[21,7410,22,7420,24,7431,null,null,null,null,0,222]
[12,7530,24,7543,24,7550,null,null,null,null,0,122]
[21,7650,22,7655,24,7661,null,null,null,null,0,222]
[21,7771,22,7776,24,7783,null,null,null,null,0,222]
[21,7905,22,7912,24,7931,null,null,null,null,0,222]
[21,8044,22,8049,24,8058,null,null,null,null,0,222]
[21,8172,22,8178,24,8186,null,null,null,null,0,222]
[12,8282,24,8308,24,8317,null,null,null,null,0,122]
[12,8416,24,8439,24,8454,null,null,null,null,0,122]
[12,8553,24,8579,24,8588,null,null,null,null,0,122]
[21,8705,22,8713,24,8722,null,null,null,null,0,222]
[12,8840,24,8862,24,8872,null,null,null,null,0,122]
[12,8972,24,8988,24,8996,null,null,null,null,0,122]
[12,9107,24,9127,24,9134,null,null,null,null,0,122]
[12,9225,24,9241,24,9258,null,null,null,null,0,122]
[21,9377,22,9387,24,9402,null,null,null,null,0,222]
[21,9523,22,9537,24,9545,null,null,null,null,0,222]
[12,9647,24,9670,24,9684,null,null,null,null,0,122]
[12,9787,24,9800,24,9809,null,null,null,null,0,122]
[21,9932,22,9960,24,9967,null,null,null,null,0,222]
[21,10087,22,10102,24,10128,null,null,null,null,0,222]
[12,10226,24,10252,24,10266,null,null,null,null,0,122]
[21,10380,22,10388,24,10397,null,null,null,null,0,222]
[21,10507,22,10513,24,10518,null,null,null,null,0,222]
[21,10635,22,10651,24,10666,null,null,null,null,0,222]
[21,10774,22,10782,24,10802,null,null,null,null,0,222]
[21,10915,22,10926,24,10938,null,null,null,null,0,222]
[21,11054,22,11061,24,11080,null,null,null,null,0,222]
[12,11175,24,11192,24,11200,null,null,null,null,0,122]
[21,11312,22,11323,24,11332,null,null,null,null,0,222]
[12,11433,13,11466,24,11479,null,null,null,null,0,112]
[21,11592,22,11606,24,11624,null,null,null,null,0,222]
[21,11739,22,11746,24,11753,null,null,null,null,0,222]
[21,11868,22,11873,24,11886,null,null,null,null,0,222]
[21,12016,22,12022,24,12050,null,null,null,null,0,222]
[21,12218,22,12253,24,12269,null,null,null,null,0,222]
[21,12377,22,12392,24,12406,null,null,null,null,0,222]
[21,12512,22,12520,24,12525,null,null,null,null,0,222]
[21,12648,22,12662,24,12685,null,null,null,null,0,222]
[21,12797,22,12804,24,12817,null,null,null,null,0,222]
[12,12908,24,12930,24,12961,null,null,null,null,0,122]
[21,13067,22,13073,24,13093,null,null,null,null,0,222]
[21,13199,22,13205,24,13216,null,null,null,null,0,222]
[21,13332,22,13337,24,13360,null,null,null,null,0,222]
[21,13465,22,13482,24,13496,null,null,null,null,0,222]
[12,13599,24,13614,24,13620,null,null,null,null,0,122]
[21,13731,22,13743,24,13748,null,null,null,null,0,222]
[21,13891,22,13905,24,13914,null,null,null,null,0,222]
[21,14025,22,14033,24,14040,null,null,null,null,0,222]
[21,14143,22,14170,24,14186,null,null,null,null,0,222]
[21,14295,22,14300,24,14306,null,null,null,null,0,222]
[21,14415,22,14420,24,14428,null,null,null,null,0,222]
[21,14534,22,14545,24,14551,null,null,null,null,0,222]
[21,14655,22,14662,24,14669,null,null,null,null,0,222]
[21,14793,22,14801,24,14807,null,null,null,null,0,222]
[21,14921,22,14926,24,14933,null,null,null,null,0,222]
[21,15043,22,15052,24,15059,null,null,null,null,0,222]
[21,15167,22,15174,24,15192,null,null,null,null,0,222]
[21,15319,22,15324,24,15340,null,null,null,null,0,222]
[21,15447,22,15480,24,15488,null,null,null,null,0,222]
[21,15607,22,15618,24,15626,null,null,null,null,0,222]
[21,15753,22,15774,24,15782,null,null,null,null,0,222]
[21,15896,22,15909,24,15930,null,null,null,null,0,222]
[12,16029,24,16039,24,16045,null,null,null,null,0,122]
[21,16158,22,16165,24,16179,null,null,null,null,0,222]
[21,16300,22,16316,24,16348,null,null,null,null,0,222]
[21,16473,22,16484,24,16493,null,null,null,null,0,222]
[21,16602,22,16609,24,16640,null,null,null,null,0,222]
[21,16775,22,16784,24,16797,null,null,null,null,0,222]
[21,16909,22,16916,24,16947,null,null,null,null,0,222]
[21,17062,22,17075,24,17093,null,null,null,null,0,222]
[21,17201,22,17211,24,17231,null,null,null,null,0,222]
[12,17326,24,17339,24,17346,null,null,null,null,0,122]
[12,17443,24,17461,24,17469,null,null,null,null,0,122]
[12,17568,24,17587,24,17596,null,null,null,null,0,122]
[21,17715,22,17724,24,17737,null,null,null,null,0,222]
[12,17838,24,17856,24,17862,null,null,null,null,0,122]
[12,17961,24,17978,24,17991,null,null,null,null,0,122]
[21,18100,22,18112,24,18120,null,null,null,null,0,222]
[12,18215,24,18228,24,18243,null,null,null,null,0,122]
[21,18352,22,18362,24,18367,null,null,null,null,0,222]
[21,18480,22,18486,24,18493,null,null,null,null,0,222]
[21,18617,22,18623,24,18632,null,null,null,null,0,222]
[21,18742,22,18748,24,18760,null,null,null,null,0,222]
[21,18918,22,18926,24,18946,null,null,null,null,0,222]
[21,19062,22,19067,24,19075,null,null,null,null,0,222]
[21,19185,22,19190,24,19197,null,null,null,null,0,222]
[21,19301,22,19312,24,19318,null,null,null,null,0,222]
[21,19428,22,19435,24,19448,null,null,null,null,0,222]
[21,19559,22,19569,24,19574,null,null,null,null,0,222]
[12,19678,24,19702,24,19712,null,null,null,null,0,122]
[21,19830,22,19838,24,19844,null,null,null,null,0,222]
[21,19963,22,19969,24,19978,null,null,null,null,0,222]
[21,20090,22,20098,24,20106,null,null,null,null,0,222]
[21,20245,22,20252,24,20261,null,null,null,null,0,222]
[21,20374,22,20380,24,20387,null,null,null,null,0,222]
[21,20500,22,20514,24,20530,null,null,null,null,0,222]
[21,20638,22,20645,24,20655,null,null,null,null,0,222]
[21,20788,22,20795,24,20803,null,null,null,null,0,222]
[21,20912,22,20923,24,20939,null,null,null,null,0,222]
[12,21045,24,21058,24,21072,null,null,null,null,0,122]
[12,21193,24,21206,24,21215,null,null,null,null,0,122]
[12,21317,24,21330,24,21338,null,null,null,null,0,122]
[21,21471,22,21483,24,21492,null,null,null,null,0,222]
[21,21602,22,21610,24,21617,null,null,null,null,0,222]
[21,21728,22,21735,24,21743,null,null,null,null,0,222]
[21,21856,22,21863,24,21870,null,null,null,null,0,222]
[21,21983,22,21994,24,22002,null,null,null,null,0,222]
[21,22120,22,22129,24,22137,null,null,null,null,0,222]
[12,22249,24,22262,24,22274,null,null,null,null,0,122]
[12,22367,24,22386,24,22393,null,null,null,null,0,122]
[21,22506,22,22512,24,22526,null,null,null,null,0,222]
[21,22632,22,22640,24,22646,null,null,null,null,0,222]
[21,22765,22,22782,24,22801,null,null,null,null,0,222]
[21,22916,22,22935,24,22944,null,null,null,null,0,222]
[21,23052,22,23059,24,23067,null,null,null,null,0,222]
[21,23177,22,23190,24,23200,null,null,null,null,0,222]
[21,23318,22,23327,24,23342,null,null,null,null,0,222]
[21,23465,22,23473,24,23497,null,null,null,null,0,222]
[21,23610,22,23616,24,23623,null,null,null,null,0,222]
[21,23736,22,23742,24,23757,null,null,null,null,0,222]
[21,23877,22,23894,24,23903,null,null,null,null,0,222]
[12,23999,null,null,null,null,null,null,null,null,null,1]

{"sheet":"!M906820.101","index":10,"n_rows":183,"n_cols":48,"rows_kept":183,"cut":false,"hidden":false,"merged":[[4,39,4,42],[5,39,5,40],[4,44,4,47],[5,44,5,45],[4,24,4,27],[5,24,5,25],[4,29,4,32],[5,29,5,30],[4,34,4,37],[5,34,5,35],[1,1,1,2],[5,13,5,14],[18,13,18,14],[19,13,19,14],[4,19,4,22],[5,19,5,20]]}
["Report for:!M906820.101"]
["Date:","<date>"]
["Hen:","<hen>",null,null,null,"Correct Sequence",{"$f":"Start!J2","v":211},null,null,null,null,null,null,null,null,"Total Sequences in Data",{"$f":"4994-COUNTBLANK(L7:L5000)","v":177},null,null,null,null,"Total Sequences in Block Data",{"$f":"COUNTA(L7:L36)","v":30},null,null,null,"Total Sequences in Block Data",{"$f":"COUNTA(L37:L65)","v":29},null,null,null,"Total Sequences in Block Data",{"$f":"COUNTA(L66:L95)","v":30},null,null,null,"Total Sequences in Block Data",{"$f":"COUNTA(L96:L124)","v":29},null,null,null,"Total Sequences in Block Data",{"$f":"COUNTA(L125:L154)","v":30},null,null,null,"Total Sequences in Block Data",{"$f":"COUNTA(L155:L183)","v":29}]
[null,null,null,null,null,null,null,null,null,null,null,null,null,null,null,"Total Sequences in Summary",{"$f":"SUM(O7:O14)","v":177},null,null,null,null,"Total Sequences in Block Summary",{"$f":"SUM(U7:U14)","v":30},null,null,null,"Total Sequences in Block Summary",{"$f":"SUM(Z7:Z14)","v":29},null,null,null,"Total Sequences in Block Summary",{"$f":"SUM(AE7:AE14)","v":30},null,null,null,"Total Sequences in Block Summary",{"$f":"SUM(AJ7:AJ14)","v":29},null,null,null,"Total Sequences in Block Summary",{"$f":"SUM(AO7:AO14)","v":30},null,null,null,"Total Sequences in Block Summary",{"$f":"SUM(AT7:AT14)","v":29}]
[null,null,null,null,null,null,null,null,null,null,null,null,null,null,null,null,null,null,null,"Block 1",null,null,null,null,"Block 2",null,null,null,null,"Block 3",null,null,null,null,"Block 4",null,null,null,null,"Block 5",null,null,null,null,"Block 6"]
["Sequence\nComponent\n1","Time\n1","Sequence\nComponent\n2","Time\n2","Sequence\nComponent\n3","Time\n3","Sequence\nComponent\n4","Time\n4","Sequence\nComponent\n5","Time\n5","Correct?\n0=No 1=Yes","Sequence",null,"Frequency",null,"Relative Frequency","Variability",null,null,"Frequency",null,"Relative Frequency","Variability",null,"Frequency",null,"Relative Frequency","Variability",null,"Frequency",null,"Relative Frequency","Variability",null,"Frequency",null,"Relative Frequency","Variability",null,"Frequency",null,"Relative Frequency","Variability",null,"Frequency",null,"Relative Frequency","Variability"]
[12,9,13,30,24,45,null,null,null,null,0,112,null,111,{"$f":"COUNTIF($L$7:$L$500,N7)","v":0},{"$f":"O7/$Q$4","v":0},{"$f":"IF(P7=0,0,(P7*((LOG(P7))/LOG(2))))","v":0},null,null,{"$f":"N7","v":111},{"$f":"COUNTIF(L7:L36,T7)","v":0},{"$f":"U7/(W4-U11)","v":0},{"$f":"IF(V7=0,0,(V7*((LOG(V7))/LOG(2))))","v":0},null,{"$f":"N7","v":111},{"$f":"COUNTIF(L37:L65,Y7)","v":0},{"$f":"Z7/(AB4-Z11)","v":0},{"$f":"IF(AA7=0,0,(AA7*((LOG(AA7))/LOG(2))))","v":0},null,{"$f":"N7","v":111},{"$f":"COUNTIF(L66:L95,AD7)","v":0},{"$f":"AE7/(AG4-AE11)","v":0},{"$f":"IF(AF7=0,0,(AF7*((LOG(AF7))/LOG(2))))","v":0},null,{"$f":"N7","v":111},{"$f":"COUNTIF(L96:L124,AI7)","v":0},{"$f":"AJ7/(AL4-AJ11)","v":0},{"$f":"IF(AK7=0,0,(AK7*((LOG(AK7))/LOG(2))))","v":0},null,{"$f":"N7","v":111},{"$f":"COUNTIF(L125:L154,AN7)","v":0},{"$f":"AO7/(AQ4-AO11)","v":0},{"$f":"IF(AP7=0,0,(AP7*((LOG(AP7))/LOG(2))))","v":0},null,{"$f":"N7","v":111},{"$f":"COUNTIF(L155:L183,AS7)","v":0},{"$f":"AT7/(AV4-AT11)","v":0},{"$f":"IF(AU7=0,0,(AU7*((LOG(AU7))/LOG(2))))","v":0}]
[12,151,24,165,24,171,null,null,null,null,0,122,null,112,{"$f":"COUNTIF($L$7:$L$500,N8)","v":2},{"$f":"O8/$Q$4","v":1.1299435028248588E-2},{"$f":"IF(P8=0,0,(P8*((LOG(P8))/LOG(2))))","v":-7.3080288701502794E-2},null,null,{"$f":"N8","v":112},{"$f":"COUNTIF(L7:L36,T8)","v":1},{"$f":"U8/(W4-U11)","v":3.3333333333333333E-2},{"$f":"IF(V8=0,0,(V8*((LOG(V8))/LOG(2))))","v":-0.16356301985361729},null,{"$f":"N8","v":112},{"$f":"COUNTIF(L37:L65,Y8)","v":1},{"$f":"Z8/(AB4-Z11)","v":3.4482758620689655E-2},{"$f":"IF(AA8=0,0,(AA8*((LOG(AA8))/LOG(2))))","v":-0.16751658603888178},null,{"$f":"N8","v":112},{"$f":"COUNTIF(L66:L95,AD8)","v":0},{"$f":"AE8/(AG4-AE11)","v":0},{"$f":"IF(AF8=0,0,(AF8*((LOG(AF8))/LOG(2))))","v":0},null,{"$f":"N8","v":112},{"$f":"COUNTIF(L96:L124,AI8)","v":0},{"$f":"AJ8/(AL4-AJ11)","v":0},{"$f":"IF(AK8=0,0,(AK8*((LOG(AK8))/LOG(2))))","v":0},null,{"$f":"N8","v":112},{"$f":"COUNTIF(L125:L154,AN8)","v":0},{"$f":"AO8/(AQ4-AO11)","v":0},{"$f":"IF(AP8=0,0,(AP8*((LOG(AP8))/LOG(2))))","v":0},null,{"$f":"N8","v":112},{"$f":"COUNTIF(L155:L183,AS8)","v":0},{"$f":"AT8/(AV4-AT11)","v":0},{"$f":"IF(AU8=0,0,(AU8*((LOG(AU8))/LOG(2))))","v":0}]
[12,273,24,285,24,291,null,null,null,null,0,122,null,121,{"$f":"COUNTIF($L$7:$L$500,N9)","v":0},{"$f":"O9/$Q$4","v":0},{"$f":"IF(P9=0,0,(P9*((LOG(P9))/LOG(2))))","v":0},null,null,{"$f":"N9","v":121},{"$f":"COUNTIF(L7:L36,T9)","v":0},{"$f":"U9/(W4-U11)","v":0},{"$f":"IF(V9=0,0,(V9*((LOG(V9))/LOG(2))))","v":0},null,{"$f":"N9","v":121},{"$f":"COUNTIF(L37:L65,Y9)","v":0},{"$f":"Z9/(AB4-Z11)","v":0},{"$f":"IF(AA9=0,0,(AA9*((LOG(AA9))/LOG(2))))","v":0},null,{"$f":"N9","v":121},{"$f":"COUNTIF(L66:L95,AD9)","v":0},{"$f":"AE9/(AG4-AE11)","v":0},{"$f":"IF(AF9=0,0,(AF9*((LOG(AF9))/LOG(2))))","v":0},null,{"$f":"N9","v":121},{"$f":"COUNTIF(L96:L124,AI9)","v":0},{"$f":"AJ9/(AL4-AJ11)","v":0},{"$f":"IF(AK9=0,0,(AK9*((LOG(AK9))/LOG(2))))","v":0},null,{"$f":"N9","v":121},{"$f":"COUNTIF(L125:L154,AN9)","v":0},{"$f":"AO9/(AQ4-AO11)","v":0},{"$f":"IF(AP9=0,0,(AP9*((LOG(AP9))/LOG(2))))","v":0},null,{"$f":"N9","v":121},{"$f":"COUNTIF(L155:L183,AS9)","v":0},{"$f":"AT9/(AV4-AT11)","v":0},{"$f":"IF(AU9=0,0,(AU9*((LOG(AU9))/LOG(2))))","v":0}]
[21,402,22,408,24,418,null,null,null,null,0,222,null,122,{"$f":"COUNTIF($L$7:$L$500,N10)","v":63},{"$f":"O10/$Q$4","v":0.3559322033898305},{"$f":"IF(P10=0,0,(P10*((LOG(P10))/LOG(2))))","v":-0.53045488403804575},null,null,{"$f":"N10","v":122},{"$f":"COUNTIF(L7:L36,T10)","v":18},{"$f":"U10/(W4-U11)","v":0.6},{"$f":"IF(V10=0,0,(V10*((LOG(V10))/LOG(2))))","v":-0.44217935649972373},null,{"$f":"N10","v":122},{"$f":"COUNTIF(L37:L65,Y10)","v":13},{"$f":"Z10/(AB4-Z11)","v":0.44827586206896552},{"$f":"IF(AA10=0,0,(AA10*((LOG(AA10))/LOG(2))))","v":-0.51889781382152544},null,{"$f":"N10","v":122},{"$f":"COUNTIF(L66:L95,AD10)","v":10},{"$f":"AE10/(AG4-AE11)","v":0.33333333333333331},{"$f":"IF(AF10=0,0,(AF10*((LOG(AF10))/LOG(2))))","v":-0.52832083357371862},null,{"$f":"N10","v":122},{"$f":"COUNTIF(L96:L124,AI10)","v":8},{"$f":"AJ10/(AL4-AJ11)","v":0.27586206896551724},{"$f":"IF(AK10=0,0,(AK10*((LOG(AK10))/LOG(2))))","v":-0.51254648141450265},null,{"$f":"N10","v":122},{"$f":"COUNTIF(L125:L154,AN10)","v":7},{"$f":"AO10/(AQ4-AO11)","v":0.23333333333333334},{"$f":"IF(AP10=0,0,(AP10*((LOG(AP10))/LOG(2))))","v":-0.48989165716187993},null,{"$f":"N10","v":122},{"$f":"COUNTIF(L155:L183,AS10)","v":7},{"$f":"AT10/(AV4-AT11)","v":0.2413793103448276},{"$f":"IF(AU10=0,0,(AU10*((LOG(AU10))/LOG(2))))","v":-0.49497870729275095}]
[12,519,24,542,24,552,null,null,null,null,0,122,null,211,{"$f":"COUNTIF($L$7:$L$500,N11)","v":0},{"$f":"O11/$Q$4","v":0},{"$f":"IF(P11=0,0,(P11*((LOG(P11))/LOG(2))))","v":0},null,null,{"$f":"N11","v":211},{"$f":"COUNTIF(L7:L36,T11)","v":0},null,null,null,{"$f":"N11","v":211},{"$f":"COUNTIF(L37:L65,Y11)","v":0},null,null,null,{"$f":"N11","v":211},{"$f":"COUNTIF(L66:L95,AD11)","v":0},null,null,null,{"$f":"N11","v":211},{"$f":"COUNTIF(L96:L124,AI11)","v":0},null,null,null,{"$f":"N11","v":211},{"$f":"COUNTIF(L125:L154,AN11)","v":0},null,null,null,{"$f":"N11","v":211},{"$f":"COUNTIF(L155:L183,AS11)","v":0}]
[12,649,24,668,24,676,null,null,null,null,0,122,null,212,{"$f":"COUNTIF($L$7:$L$500,N12)","v":0},{"$f":"O12/$Q$4","v":0},{"$f":"IF(P12=0,0,(P12*((LOG(P12))/LOG(2))))","v":0},null,null,{"$f":"N12","v":212},{"$f":"COUNTIF(L7:L36,T12)","v":0},{"$f":"U12/(W4-U11)","v":0},{"$f":"IF(V12=0,0,(V12*((LOG(V12))/LOG(2))))","v":0},null,{"$f":"N12","v":212},{"$f":"COUNTIF(L37:L65,Y12)","v":0},{"$f":"Z12/(AB4-Z11)","v":0},{"$f":"IF(AA12=0,0,(AA12*((LOG(AA12))/LOG(2))))","v":0},null,{"$f":"N12","v":212},{"$f":"COUNTIF(L66:L95,AD12)","v":0},{"$f":"AE12/(AG4-AE11)","v":0},{"$f":"IF(AF12=0,0,(AF12*((LOG(AF12))/LOG(2))))","v":0},null,{"$f":"N12","v":212},{"$f":"COUNTIF(L96:L124,AI12)","v":0},{"$f":"AJ12/(AL4-AJ11)","v":0},{"$f":"IF(AK12=0,0,(AK12*((LOG(AK12))/LOG(2))))","v":0},null,{"$f":"N12","v":212},{"$f":"COUNTIF(L125:L154,AN12)","v":0},{"$f":"AO12/(AQ4-AO11)","v":0},{"$f":"IF(AP12=0,0,(AP12*((LOG(AP12))/LOG(2))))","v":0},null,{"$f":"N12","v":212},{"$f":"COUNTIF(L155:L183,AS12)","v":0},{"$f":"AT12/(AV4-AT11)","v":0},{"$f":"IF(AU12=0,0,(AU12*((LOG(AU12))/LOG(2))))","v":0}]
[12,776,24,791,24,797,null,null,null,null,0,122,null,221,{"$f":"COUNTIF($L$7:$L$500,N13)","v":0},{"$f":"O13/$Q$4","v":0},{"$f":"IF(P13=0,0,(P13*((LOG(P13))/LOG(2))))","v":0},null,null,{"$f":"N13","v":221},{"$f":"COUNTIF(L7:L36,T13)","v":0},{"$f":"U13/(W4-U11)","v":0},{"$f":"IF(V13=0,0,(V13*((LOG(V13))/LOG(2))))","v":0},null,{"$f":"N13","v":221},{"$f":"COUNTIF(L37:L65,Y13)","v":0},{"$f":"Z13/(AB4-Z11)","v":0},{"$f":"IF(AA13=0,0,(AA13*((LOG(AA13))/LOG(2))))","v":0},null,{"$f":"N13","v":221},{"$f":"COUNTIF(L66:L95,AD13)","v":0},{"$f":"AE13/(AG4-AE11)","v":0},{"$f":"IF(AF13=0,0,(AF13*((LOG(AF13))/LOG(2))))","v":0},null,{"$f":"N13","v":221},{"$f":"COUNTIF(L96:L124,AI13)","v":0},{"$f":"AJ13/(AL4-AJ11)","v":0},{"$f":"IF(AK13=0,0,(AK13*((LOG(AK13))/LOG(2))))","v":0},null,{"$f":"N13","v":221},{"$f":"COUNTIF(L125:L154,AN13)","v":0},{"$f":"AO13/(AQ4-AO11)","v":0},{"$f":"IF(AP13=0,0,(AP13*((LOG(AP13))/LOG(2))))","v":0},null,{"$f":"N13","v":221},{"$f":"COUNTIF(L155:L183,AS13)","v":0},{"$f":"AT13/(AV4-AT11)","v":0},{"$f":"IF(AU13=0,0,(AU13*((LOG(AU13))/LOG(2))))","v":0}]
[12,905,24,917,24,933,null,null,null,null,0,122,null,222,{"$f":"COUNTIF($L$7:$L$500,N14)","v":112},{"$f":"O14/$Q$4","v":0.63276836158192096},{"$f":"IF(P14=0,0,(P14*((LOG(P14))/LOG(2))))","v":-0.41778570812906241},null,null,{"$f":"N14","v":222},{"$f":"COUNTIF(L7:L36,T14)","v":11},{"$f":"U14/(W4-U11)","v":0.36666666666666664},{"$f":"IF(V14=0,0,(V14*((LOG(V14))/LOG(2))))","v":-0.53073495822278116},null,{"$f":"N14","v":222},{"$f":"COUNTIF(L37:L65,Y14)","v":15},{"$f":"Z14/(AB4-Z11)","v":0.51724137931034486},{"$f":"IF(AA14=0,0,(AA14*((LOG(AA14))/LOG(2))))","v":-0.49194331009606224},null,{"$f":"N14","v":222},{"$f":"COUNTIF(L66:L95,AD14)","v":20},{"$f":"AE14/(AG4-AE11)","v":0.66666666666666663},{"$f":"IF(AF14=0,0,(AF14*((LOG(AF14))/LOG(2))))","v":-0.38997500048077083},null,{"$f":"N14","v":222},{"$f":"COUNTIF(L96:L124,AI14)","v":21},{"$f":"AJ14/(AL4-AJ11)","v":0.72413793103448276},{"$f":"IF(AK14=0,0,(AK14*((LOG(AK14))/LOG(2))))","v":-0.33720465583879472},null,{"$f":"N14","v":222},{"$f":"COUNTIF(L125:L154,AN14)","v":23},{"$f":"AO14/(AQ4-AO11)","v":0.76666666666666672},{"$f":"IF(AP14=0,0,(AP14*((LOG(AP14))/LOG(2))))","v":-0.2938852903228209},null,{"$f":"N14","v":222},{"$f":"COUNTIF(L155:L183,AS14)","v":22},{"$f":"AT14/(AV4-AT11)","v":0.75862068965517238},{"$f":"IF(AU14=0,0,(AU14*((LOG(AU14))/LOG(2))))","v":-0.30234780285469132}]
[12,1029,24,1047,24,1052,null,null,null,null,0,122,null,null,null,{"$f":"SUM(P7:P14)","v":1},{"$f":"-SUM(Q7:Q14)","v":1.0213208808686109},null,null,null,null,{"$f":"SUM(V7:V14)","v":1},{"$f":"-SUM(W7:W14)","v":1.1364773345761221},null,null,null,{"$f":"SUM(AA7:AA14)","v":1},{"$f":"-SUM(AB7:AB14)","v":1.1783577099564695},null,null,null,{"$f":"SUM(AF7:AF14)","v":1},{"$f":"-SUM(AG7:AG14)","v":0.91829583405448945},null,null,null,{"$f":"SUM(AK7:AK14)","v":1},{"$f":"-SUM(AL7:AL14)","v":0.84975113725329732},null,null,null,{"$f":"SUM(AP7:AP14)","v":1},{"$f":"-SUM(AQ7:AQ14)","v":0.78377694748470084},null,null,null,{"$f":"SUM(AU7:AU14)","v":1},{"$f":"-SUM(AV7:AV14)","v":0.79732651014744227}]
[12,1168,24,1185,24,1194,null,null,null,null,0,122,null,null,null,"U=",{"$f":"Q15/(LOG(Q4)/LOG(2))","v":0.13676684902796715},null,null,null,null,"U1=",{"$f":"W15/(LOG(W4)/LOG(2))","v":0.23160845191723375},null,null,null,"U2=",{"$f":"AB15/(LOG(AB4)/LOG(2))","v":0.24256120209987062},null,null,null,"U3=",{"$f":"AG15/(LOG(AG4)/LOG(2))","v":0.18714414274415034},null,null,null,"U4=",{"$f":"AL15/(LOG(AL4)/LOG(2))","v":0.17491857998324314},null,null,null,"U5=",{"$f":"AQ15/(LOG(AQ4)/LOG(2))","v":0.15972985992109781},null,null,null,"U6=",{"$f":"AV15/(LOG(AV4)/LOG(2))","v":0.16412713655058345}]
[21,1313,22,1323,24,1330,null,null,null,null,0,222]
[12,1444,24,1462,24,1467,null,null,null,null,0,122]
[21,1589,22,1597,24,1606,null,null,null,null,0,222,null,"Total Target Seq"]
[21,1717,22,1724,24,1729,null,null,null,null,0,222,null,{"$f":"COUNTIF(L7:L183,G3)","v":0},null,30,29,30,29,30,29]
[21,1837,22,1845,24,1853,null,null,null,null,0,222,null,null,null,"% of reinforcement given in 6 equal intervals based on number of trials "]
[12,1954,24,1987,24,1996,null,null,null,null,0,122,null,null,null,"%_1","%_2","%_3","%_4","%_5","%_6"]
[12,2104,24,2141,24,2150,null,null,null,null,0,122,null,null,"target sequence",{"$f":"$G$3","v":211},{"$f":"$G$3","v":211},{"$f":"$G$3","v":211},{"$f":"$G$3","v":211},{"$f":"$G$3","v":211},{"$f":"$G$3","v":211}]
[21,2272,22,2288,24,2337,null,null,null,null,0,222,null,null,"total reinforcement",{"$f":"U11","v":0},{"$f":"Z11","v":0},{"$f":"AE11","v":0},{"$f":"AJ11","v":0},{"$f":"AO11","v":0},{"$f":"AT11","v":0}]
[21,2440,22,2445,24,2450,null,null,null,null,0,222,null,null,"% target"]
[21,2565,22,2570,24,2583,null,null,null,null,0,222,null,null,"CCRF"]
[12,2684,24,2701,24,2707,null,null,null,null,0,122,null,null,"% CCRf"]
[12,2810,24,2833,24,2841,null,null,null,null,0,122,null,null,"average response rate",{"$f":"F36/P20","v":128.6},{"$f":"(F65-F36)/Q20","v":137.10344827586206},{"$f":"(F95-F65)/R20","v":139.76666666666668},{"$f":"(F124-F95)/S20","v":134.55172413793105},{"$f":"(F154-F124)/T20","v":133.46666666666667},{"$f":"(F183-F154)/U20","v":137.13793103448276}]
[21,2951,22,2956,24,2961,null,null,null,null,0,222]
[12,3060,24,3073,24,3082,null,null,null,null,0,122]
[12,3178,24,3197,24,3204,null,null,null,null,0,122]
[12,3310,24,3336,24,3345,null,null,null,null,0,122]
[21,3466,22,3472,24,3492,null,null,null,null,0,222]
[12,3587,24,3605,24,3611,null,null,null,null,0,122]
[21,3725,22,3734,24,3741,null,null,null,null,0,222]
[12,3834,24,3852,24,3858,null,null,null,null,0,122]
[21,3968,22,3973,24,3987,null,null,null,null,0,222]
[12,4098,24,4127,24,4135,null,null,null,null,0,122]
[12,4242,24,4261,24,4268,null,null,null,null,0,122]
[21,4386,22,4409,24,4424,null,null,null,null,0,222]
[12,4522,24,4544,24,4557,null,null,null,null,0,122]
[12,4676,24,4694,24,4703,null,null,null,null,0,122]
[21,4832,22,4855,24,4874,null,null,null,null,0,222]
[12,4975,24,4998,24,5005,null,null,null,null,0,122]
[12,5109,24,5127,24,5132,null,null,null,null,0,122]
[12,5231,24,5251,24,5257,null,null,null,null,0,122]
[12,5355,24,5376,24,5385,null,null,null,null,0,122]
[12,5485,13,5487,24,5500,null,null,null,null,0,112]
[21,5611,22,5619,24,5627,null,null,null,null,0,222]
[21,5755,22,5764,24,5773,null,null,null,null,0,222]
[12,5870,24,5886,24,5892,null,null,null,null,0,122]
[21,6005,22,6013,24,6024,null,null,null,null,0,222]
[21,6142,22,6150,24,6157,null,null,null,null,0,222]
[21,6261,22,6266,24,6273,null,null,null,null,0,222]
[21,6422,22,6428,24,6438,null,null,null,null,0,222]
[21,6552,22,6565,24,6574,null,null,null,null,0,222]
[12,6674,24,6688,24,6697,null,null,null,null,0,122]
[12,6794,24,6817,24,6826,null,null,null,null,0,122]
[21,6950,22,6960,24,6986,null,null,null,null,0,222]
[21,7102,22,7108,24,7113,null,null,null,null,0,222]
[12,7231,24,7245,24,7260,null,null,null,null,0,122]
[21,7368,22,7375,24,7396,null,null,null,null,0,222]
[21,7526,22,7532,24,7540,null,null,null,null,0,222]
[21,7656,22,7662,24,7669,null,null,null,null,0,222]
[12,7787,24,7818,24,7834,null,null,null,null,0,122]
[12,7935,24,7953,24,7967,null,null,null,null,0,122]
[21,8085,22,8090,24,8097,null,null,null,null,0,222]
[21,8208,22,8214,24,8219,null,null,null,null,0,222]
[12,8319,24,8347,24,8393,null,null,null,null,0,122]
[21,8516,22,8541,24,8579,null,null,null,null,0,222]
[21,8701,22,8708,24,8719,null,null,null,null,0,222]
[21,8838,22,8851,24,8866,null,null,null,null,0,222]
[12,8967,24,8977,24,8988,null,null,null,null,0,122]
[12,9088,24,9108,24,9121,null,null,null,null,0,122]
[21,9245,22,9251,24,9261,null,null,null,null,0,222]
[12,9368,24,9382,24,9389,null,null,null,null,0,122]
[21,9500,22,9509,24,9516,null,null,null,null,0,222]
[21,9630,22,9636,24,9650,null,null,null,null,0,222]
[21,9765,22,9784,24,9792,null,null,null,null,0,222]
[21,9912,22,9923,24,9932,null,null,null,null,0,222]
[21,10051,22,10064,24,10077,null,null,null,null,0,222]
[21,10218,22,10225,24,10238,null,null,null,null,0,222]
[12,10337,24,10351,24,10358,null,null,null,null,0,122]
[12,10466,24,10478,24,10489,null,null,null,null,0,122]
[12,10589,24,10602,24,10617,null,null,null,null,0,122]
[21,10732,22,10738,24,10745,null,null,null,null,0,222]
[12,10851,24,10872,24,10878,null,null,null,null,0,122]
[21,10994,22,11000,24,11006,null,null,null,null,0,222]
[21,11129,22,11138,24,11147,null,null,null,null,0,222]
[21,11261,22,11277,24,11282,null,null,null,null,0,222]
[21,11400,22,11406,24,11414,null,null,null,null,0,222]
[12,11510,24,11522,24,11529,null,null,null,null,0,122]
[21,11668,22,11683,24,11692,null,null,null,null,0,222]
[21,11852,22,11867,24,11881,null,null,null,null,0,222]
[21,12004,22,12012,24,12027,null,null,null,null,0,222]
[21,12162,22,12173,24,12185,null,null,null,null,0,222]
[21,12306,22,12320,24,12336,null,null,null,null,0,222]
[21,12456,22,12462,24,12470,null,null,null,null,0,222]
[12,12565,24,12586,24,12594,null,null,null,null,0,122]
[12,12713,24,12733,24,12740,null,null,null,null,0,122]
[21,12861,22,12868,24,12879,null,null,null,null,0,222]
[12,12988,24,13022,24,13029,null,null,null,null,0,122]
[21,13147,22,13152,24,13159,null,null,null,null,0,222]
[21,13288,22,13301,24,13317,null,null,null,null,0,222]
[21,13430,22,13438,24,13450,null,null,null,null,0,222]
[21,13570,22,13582,24,13590,null,null,null,null,0,222]
[12,13695,24,13708,24,13713,null,null,null,null,0,122]
[12,13818,24,13831,24,13838,null,null,null,null,0,122]
[21,13945,22,13950,24,13958,null,null,null,null,0,222]
[21,14081,22,14093,24,14102,null,null,null,null,0,222]
[21,14212,22,14219,24,14232,null,null,null,null,0,222]
[12,14333,24,14347,24,14353,null,null,null,null,0,122]
[21,14471,22,14477,24,14485,null,null,null,null,0,222]
[21,14600,22,14606,24,14612,null,null,null,null,0,222]
[21,14720,22,14726,24,14732,null,null,null,null,0,222]
[21,14841,22,14847,24,14859,null,null,null,null,0,222]
[21,14971,22,14976,24,14985,null,null,null,null,0,222]
[21,15132,22,15141,24,15148,null,null,null,null,0,222]
[12,15278,24,15290,24,15296,null,null,null,null,0,122]
[21,15428,22,15435,24,15450,null,null,null,null,0,222]
[12,15547,24,15558,24,15564,null,null,null,null,0,122]
[21,15674,22,15680,24,15685,null,null,null,null,0,222]
[21,15793,22,15798,24,15804,null,null,null,null,0,222]
[21,15911,22,15916,24,15929,null,null,null,null,0,222]
[21,16066,22,16075,24,16082,null,null,null,null,0,222]
[21,16190,22,16196,24,16204,null,null,null,null,0,222]
[12,16304,24,16318,24,16334,null,null,null,null,0,122]
[21,16451,22,16457,24,16465,null,null,null,null,0,222]
[21,16573,22,16585,24,16590,null,null,null,null,0,222]
[21,16708,22,16714,24,16729,null,null,null,null,0,222]
[21,16850,22,16856,24,16874,null,null,null,null,0,222]
[21,16994,22,16999,24,17007,null,null,null,null,0,222]
[21,17118,22,17125,24,17132,null,null,null,null,0,222]
[21,17247,22,17255,24,17262,null,null,null,null,0,222]
[12,17366,24,17378,24,17396,null,null,null,null,0,122]
[21,17509,22,17515,24,17524,null,null,null,null,0,222]
[12,17622,24,17634,24,17640,null,null,null,null,0,122]
[21,17755,22,17763,24,17778,null,null,null,null,0,222]
[21,17897,22,17907,24,17915,null,null,null,null,0,222]
[21,18032,22,18040,24,18059,null,null,null,null,0,222]
[21,18186,22,18201,24,18210,null,null,null,null,0,222]
[21,18332,22,18337,24,18345,null,null,null,null,0,222]
[21,18459,22,18471,24,18480,null,null,null,null,0,222]
[21,18602,22,18608,24,18616,null,null,null,null,0,222]
[12,18715,24,18728,24,18734,null,null,null,null,0,122]
[21,18852,22,18861,24,18877,null,null,null,null,0,222]
[21,18991,22,18996,24,19001,null,null,null,null,0,222]
[21,19127,22,19134,24,19148,null,null,null,null,0,222]
[12,19260,24,19272,24,19280,null,null,null,null,0,122]
[21,19398,22,19404,24,19413,null,null,null,null,0,222]
[12,19513,24,19525,24,19533,null,null,null,null,0,122]
[21,19646,22,19652,24,19658,null,null,null,null,0,222]
[12,19772,24,19784,24,19797,null,null,null,null,0,122]
[21,19916,22,19928,24,19933,null,null,null,null,0,222]
[12,20031,24,20043,24,20053,null,null,null,null,0,122]
[21,20174,22,20180,24,20189,null,null,null,null,0,222]
[21,20302,22,20310,24,20319,null,null,null,null,0,222]
[21,20457,22,20464,24,20473,null,null,null,null,0,222]
[21,20583,22,20590,24,20601,null,null,null,null,0,222]
[21,20764,22,20775,24,20781,null,null,null,null,0,222]
[12,20886,24,20899,24,20919,null,null,null,null,0,122]
[21,21028,22,21036,24,21043,null,null,null,null,0,222]
[12,21141,24,21154,24,21166,null,null,null,null,0,122]
[21,21278,22,21297,24,21316,null,null,null,null,0,222]
[21,21428,22,21434,24,21441,null,null,null,null,0,222]
[21,21551,22,21559,24,21566,null,null,null,null,0,222]
[21,21698,22,21710,24,21718,null,null,null,null,0,222]
[21,21861,22,21871,24,21890,null,null,null,null,0,222]
[21,22006,22,22018,24,22033,null,null,null,null,0,222]
[21,22140,22,22151,24,22163,null,null,null,null,0,222]
[12,22281,24,22293,24,22300,null,null,null,null,0,122]
[21,22431,22,22440,24,22457,null,null,null,null,0,222]
[21,22573,22,22586,24,22602,null,null,null,null,0,222]
[12,22701,24,22714,24,22719,null,null,null,null,0,122]
[21,22830,22,22835,24,22843,null,null,null,null,0,222]
[21,22948,22,22954,24,22961,null,null,null,null,0,222]
[12,23074,24,23087,24,23096,null,null,null,null,0,122]
[21,23217,22,23223,24,23240,null,null,null,null,0,222]
[21,23377,22,23386,24,23393,null,null,null,null,0,222]
[12,23494,24,23505,24,23517,null,null,null,null,0,122]
[21,23627,22,23635,24,23644,null,null,null,null,0,222]
[21,23772,22,23780,24,23789,null,null,null,null,0,222]
[21,23899,22,23905,24,23910,null,null,null,null,0,222]

{"sheet":"!M907900.101","index":11,"n_rows":182,"n_cols":48,"rows_kept":182,"cut":false,"hidden":false,"merged":[[4,39,4,42],[5,39,5,40],[4,44,4,47],[5,44,5,45],[4,24,4,27],[5,24,5,25],[4,29,4,32],[5,29,5,30],[4,34,4,37],[5,34,5,35],[1,1,1,2],[5,13,5,14],[18,13,18,14],[19,13,19,14],[4,19,4,22],[5,19,5,20]]}
["Report for:!M907900.101"]
["Date:","<date>"]
["Hen:","<hen>",null,null,null,"Correct Sequence",{"$f":"Start!J2","v":211},null,null,null,null,null,null,null,null,"Total Sequences in Data",{"$f":"4994-COUNTBLANK(L7:L5000)","v":176},null,null,null,null,"Total Sequences in Block Data",{"$f":"COUNTA(L7:L35)","v":29},null,null,null,"Total Sequences in Block Data",{"$f":"COUNTA(L36:L65)","v":30},null,null,null,"Total Sequences in Block Data",{"$f":"COUNTA(L66:L94)","v":29},null,null,null,"Total Sequences in Block Data",{"$f":"COUNTA(L95:L123)","v":29},null,null,null,"Total Sequences in Block Data",{"$f":"COUNTA(L124:L153)","v":30},null,null,null,"Total Sequences in Block Data",{"$f":"COUNTA(L154:L182)","v":29}]
[null,null,null,null,null,null,null,null,null,null,null,null,null,null,null,"Total Sequences in Summary",{"$f":"SUM(O7:O14)","v":176},null,null,null,null,"Total Sequences in Block Summary",{"$f":"SUM(U7:U14)","v":29},null,null,null,"Total Sequences in Block Summary",{"$f":"SUM(Z7:Z14)","v":30},null,null,null,"Total Sequences in Block Summary",{"$f":"SUM(AE7:AE14)","v":29},null,null,null,"Total Sequences in Block Summary",{"$f":"SUM(AJ7:AJ14)","v":29},null,null,null,"Total Sequences in Block Summary",{"$f":"SUM(AO7:AO14)","v":30},null,null,null,"Total Sequences in Block Summary",{"$f":"SUM(AT7:AT14)","v":29}]
[null,null,null,null,null,null,null,null,null,null,null,null,null,null,null,null,null,null,null,"Block 1",null,null,null,null,"Block 2",null,null,null,null,"Block 3",null,null,null,null,"Block 4",null,null,null,null,"Block 5",null,null,null,null,"Block 6"]
["Sequence\nComponent\n1","Time\n1","Sequence\nComponent\n2","Time\n2","Sequence\nComponent\n3","Time\n3","Sequence\nComponent\n4","Time\n4","Sequence\nComponent\n5","Time\n5","Correct?\n0=No 1=Yes","Sequence",null,"Frequency",null,"Relative Frequency","Variability",null,null,"Frequency",null,"Relative Frequency","Variability",null,"Frequency",null,"Relative Frequency","Variability",null,"Frequency",null,"Relative Frequency","Variability",null,"Frequency",null,"Relative Frequency","Variability",null,"Frequency",null,"Relative Frequency","Variability",null,"Frequency",null,"Relative Frequency","Variability"]
[12,24,24,41,24,49,null,null,null,null,0,122,null,111,{"$f":"COUNTIF($L$7:$L$500,N7)","v":0},{"$f":"O7/$Q$4","v":0},{"$f":"IF(P7=0,0,(P7*((LOG(P7))/LOG(2))))","v":0},null,null,{"$f":"N7","v":111},{"$f":"COUNTIF(L7:L35,T7)","v":0},{"$f":"U7/(W4-U11)","v":0},{"$f":"IF(V7=0,0,(V7*((LOG(V7))/LOG(2))))","v":0},null,{"$f":"N7","v":111},{"$f":"COUNTIF(L36:L65,Y7)","v":0},{"$f":"Z7/(AB4-Z11)","v":0},{"$f":"IF(AA7=0,0,(AA7*((LOG(AA7))/LOG(2))))","v":0},null,{"$f":"N7","v":111},{"$f":"COUNTIF(L66:L94,AD7)","v":0},{"$f":"AE7/(AG4-AE11)","v":0},{"$f":"IF(AF7=0,0,(AF7*((LOG(AF7))/LOG(2))))","v":0},null,{"$f":"N7","v":111},{"$f":"COUNTIF(L95:L123,AI7)","v":0},{"$f":"AJ7/(AL4-AJ11)","v":0},{"$f":"IF(AK7=0,0,(AK7*((LOG(AK7))/LOG(2))))","v":0},null,{"$f":"N7","v":111},{"$f":"COUNTIF(L124:L153,AN7)","v":0},{"$f":"AO7/(AQ4-AO11)","v":0},{"$f":"IF(AP7=0,0,(AP7*((LOG(AP7))/LOG(2))))","v":0},null,{"$f":"N7","v":111},{"$f":"COUNTIF(L154:L182,AS7)","v":0},{"$f":"AT7/(AV4-AT11)","v":0},{"$f":"IF(AU7=0,0,(AU7*((LOG(AU7))/LOG(2))))","v":0}]
[12,148,24,160,24,165,null,null,null,null,0,122,null,112,{"$f":"COUNTIF($L$7:$L$500,N8)","v":0},{"$f":"O8/$Q$4","v":0},{"$f":"IF(P8=0,0,(P8*((LOG(P8))/LOG(2))))","v":0},null,null,{"$f":"N8","v":112},{"$f":"COUNTIF(L7:L35,T8)","v":0},{"$f":"U8/(W4-U11)","v":0},{"$f":"IF(V8=0,0,(V8*((LOG(V8))/LOG(2))))","v":0},null,{"$f":"N8","v":112},{"$f":"COUNTIF(L36:L65,Y8)","v":0},{"$f":"Z8/(AB4-Z11)","v":0},{"$f":"IF(AA8=0,0,(AA8*((LOG(AA8))/LOG(2))))","v":0},null,{"$f":"N8","v":112},{"$f":"COUNTIF(L66:L94,AD8)","v":0},{"$f":"AE8/(AG4-AE11)","v":0},{"$f":"IF(AF8=0,0,(AF8*((LOG(AF8))/LOG(2))))","v":0},null,{"$f":"N8","v":112},{"$f":"COUNTIF(L95:L123,AI8)","v":0},{"$f":"AJ8/(AL4-AJ11)","v":0},{"$f":"IF(AK8=0,0,(AK8*((LOG(AK8))/LOG(2))))","v":0},null,{"$f":"N8","v":112},{"$f":"COUNTIF(L124:L153,AN8)","v":0},{"$f":"AO8/(AQ4-AO11)","v":0},{"$f":"IF(AP8=0,0,(AP8*((LOG(AP8))/LOG(2))))","v":0},null,{"$f":"N8","v":112},{"$f":"COUNTIF(L154:L182,AS8)","v":0},{"$f":"AT8/(AV4-AT11)","v":0},{"$f":"IF(AU8=0,0,(AU8*((LOG(AU8))/LOG(2))))","v":0}]
[12,270,24,279,24,284,null,null,null,null,0,122,null,121,{"$f":"COUNTIF($L$7:$L$500,N9)","v":0},{"$f":"O9/$Q$4","v":0},{"$f":"IF(P9=0,0,(P9*((LOG(P9))/LOG(2))))","v":0},null,null,{"$f":"N9","v":121},{"$f":"COUNTIF(L7:L35,T9)","v":0},{"$f":"U9/(W4-U11)","v":0},{"$f":"IF(V9=0,0,(V9*((LOG(V9))/LOG(2))))","v":0},null,{"$f":"N9","v":121},{"$f":"COUNTIF(L36:L65,Y9)","v":0},{"$f":"Z9/(AB4-Z11)","v":0},{"$f":"IF(AA9=0,0,(AA9*((LOG(AA9))/LOG(2))))","v":0},null,{"$f":"N9","v":121},{"$f":"COUNTIF(L66:L94,AD9)","v":0},{"$f":"AE9/(AG4-AE11)","v":0},{"$f":"IF(AF9=0,0,(AF9*((LOG(AF9))/LOG(2))))","v":0},null,{"$f":"N9","v":121},{"$f":"COUNTIF(L95:L123,AI9)","v":0},{"$f":"AJ9/(AL4-AJ11)","v":0},{"$f":"IF(AK9=0,0,(AK9*((LOG(AK9))/LOG(2))))","v":0},null,{"$f":"N9","v":121},{"$f":"COUNTIF(L124:L153,AN9)","v":0},{"$f":"AO9/(AQ4-AO11)","v":0},{"$f":"IF(AP9=0,0,(AP9*((LOG(AP9))/LOG(2))))","v":0},null,{"$f":"N9","v":121},{"$f":"COUNTIF(L154:L182,AS9)","v":0},{"$f":"AT9/(AV4-AT11)","v":0},{"$f":"IF(AU9=0,0,(AU9*((LOG(AU9))/LOG(2))))","v":0}]
[12,389,24,402,24,412,null,null,null,null,0,122,null,122,{"$f":"COUNTIF($L$7:$L$500,N10)","v":44},{"$f":"O10/$Q$4","v":0.25},{"$f":"IF(P10=0,0,(P10*((LOG(P10))/LOG(2))))","v":-0.5},null,null,{"$f":"N10","v":122},{"$f":"COUNTIF(L7:L35,T10)","v":13},{"$f":"U10/(W4-U11)","v":0.44827586206896552},{"$f":"IF(V10=0,0,(V10*((LOG(V10))/LOG(2))))","v":-0.51889781382152544},null,{"$f":"N10","v":122},{"$f":"COUNTIF(L36:L65,Y10)","v":3},{"$f":"Z10/(AB4-Z11)","v":0.1},{"$f":"IF(AA10=0,0,(AA10*((LOG(AA10))/LOG(2))))","v":-0.33219280948873625},null,{"$f":"N10","v":122},{"$f":"COUNTIF(L66:L94,AD10)","v":6},{"$f":"AE10/(AG4-AE11)","v":0.20689655172413793},{"$f":"IF(AF10=0,0,(AF10*((LOG(AF10))/LOG(2))))","v":-0.4702796884978791},null,{"$f":"N10","v":122},{"$f":"COUNTIF(L95:L123,AI10)","v":7},{"$f":"AJ10/(AL4-AJ11)","v":0.2413793103448276},{"$f":"IF(AK10=0,0,(AK10*((LOG(AK10))/LOG(2))))","v":-0.49497870729275095},null,{"$f":"N10","v":122},{"$f":"COUNTIF(L124:L153,AN10)","v":7},{"$f":"AO10/(AQ4-AO11)","v":0.23333333333333334},{"$f":"IF(AP10=0,0,(AP10*((LOG(AP10))/LOG(2))))","v":-0.48989165716187993},null,{"$f":"N10","v":122},{"$f":"COUNTIF(L154:L182,AS10)","v":8},{"$f":"AT10/(AV4-AT11)","v":0.27586206896551724},{"$f":"IF(AU10=0,0,(AU10*((LOG(AU10))/LOG(2))))","v":-0.51254648141450265}]
[12,519,24,529,24,535,null,null,null,null,0,122,null,211,{"$f":"COUNTIF($L$7:$L$500,N11)","v":0},{"$f":"O11/$Q$4","v":0},{"$f":"IF(P11=0,0,(P11*((LOG(P11))/LOG(2))))","v":0},null,null,{"$f":"N11","v":211},{"$f":"COUNTIF(L7:L35,T11)","v":0},null,null,null,{"$f":"N11","v":211},{"$f":"COUNTIF(L36:L65,Y11)","v":0},null,null,null,{"$f":"N11","v":211},{"$f":"COUNTIF(L66:L94,AD11)","v":0},null,null,null,{"$f":"N11","v":211},{"$f":"COUNTIF(L95:L123,AI11)","v":0},null,null,null,{"$f":"N11","v":211},{"$f":"COUNTIF(L124:L153,AN11)","v":0},null,null,null,{"$f":"N11","v":211},{"$f":"COUNTIF(L154:L182,AS11)","v":0}]
[21,652,22,657,24,662,null,null,null,null,0,222,null,212,{"$f":"COUNTIF($L$7:$L$500,N12)","v":0},{"$f":"O12/$Q$4","v":0},{"$f":"IF(P12=0,0,(P12*((LOG(P12))/LOG(2))))","v":0},null,null,{"$f":"N12","v":212},{"$f":"COUNTIF(L7:L35,T12)","v":0},{"$f":"U12/(W4-U11)","v":0},{"$f":"IF(V12=0,0,(V12*((LOG(V12))/LOG(2))))","v":0},null,{"$f":"N12","v":212},{"$f":"COUNTIF(L36:L65,Y12)","v":0},{"$f":"Z12/(AB4-Z11)","v":0},{"$f":"IF(AA12=0,0,(AA12*((LOG(AA12))/LOG(2))))","v":0},null,{"$f":"N12","v":212},{"$f":"COUNTIF(L66:L94,AD12)","v":0},{"$f":"AE12/(AG4-AE11)","v":0},{"$f":"IF(AF12=0,0,(AF12*((LOG(AF12))/LOG(2))))","v":0},null,{"$f":"N12","v":212},{"$f":"COUNTIF(L95:L123,AI12)","v":0},{"$f":"AJ12/(AL4-AJ11)","v":0},{"$f":"IF(AK12=0,0,(AK12*((LOG(AK12))/LOG(2))))","v":0},null,{"$f":"N12","v":212},{"$f":"COUNTIF(L124:L153,AN12)","v":0},{"$f":"AO12/(AQ4-AO11)","v":0},{"$f":"IF(AP12=0,0,(AP12*((LOG(AP12))/LOG(2))))","v":0},null,{"$f":"N12","v":212},{"$f":"COUNTIF(L154:L182,AS12)","v":0},{"$f":"AT12/(AV4-AT11)","v":0},{"$f":"IF(AU12=0,0,(AU12*((LOG(AU12))/LOG(2))))","v":0}]
[21,783,22,790,24,799,null,null,null,null,0,222,null,221,{"$f":"COUNTIF($L$7:$L$500,N13)","v":0},{"$f":"O13/$Q$4","v":0},{"$f":"IF(P13=0,0,(P13*((LOG(P13))/LOG(2))))","v":0},null,null,{"$f":"N13","v":221},{"$f":"COUNTIF(L7:L35,T13)","v":0},{"$f":"U13/(W4-U11)","v":0},{"$f":"IF(V13=0,0,(V13*((LOG(V13))/LOG(2))))","v":0},null,{"$f":"N13","v":221},{"$f":"COUNTIF(L36:L65,Y13)","v":0},{"$f":"Z13/(AB4-Z11)","v":0},{"$f":"IF(AA13=0,0,(AA13*((LOG(AA13))/LOG(2))))","v":0},null,{"$f":"N13","v":221},{"$f":"COUNTIF(L66:L94,AD13)","v":0},{"$f":"AE13/(AG4-AE11)","v":0},{"$f":"IF(AF13=0,0,(AF13*((LOG(AF13))/LOG(2))))","v":0},null,{"$f":"N13","v":221},{"$f":"COUNTIF(L95:L123,AI13)","v":0},{"$f":"AJ13/(AL4-AJ11)","v":0},{"$f":"IF(AK13=0,0,(AK13*((LOG(AK13))/LOG(2))))","v":0},null,{"$f":"N13","v":221},{"$f":"COUNTIF(L124:L153,AN13)","v":0},{"$f":"AO13/(AQ4-AO11)","v":0},{"$f":"IF(AP13=0,0,(AP13*((LOG(AP13))/LOG(2))))","v":0},null,{"$f":"N13","v":221},{"$f":"COUNTIF(L154:L182,AS13)","v":0},{"$f":"AT13/(AV4-AT11)","v":0},{"$f":"IF(AU13=0,0,(AU13*((LOG(AU13))/LOG(2))))","v":0}]
[21,936,22,941,24,960,null,null,null,null,0,222,null,222,{"$f":"COUNTIF($L$7:$L$500,N14)","v":132},{"$f":"O14/$Q$4","v":0.75},{"$f":"IF(P14=0,0,(P14*((LOG(P14))/LOG(2))))","v":-0.31127812445913283},null,null,{"$f":"N14","v":222},{"$f":"COUNTIF(L7:L35,T14)","v":16},{"$f":"U14/(W4-U11)","v":0.55172413793103448},{"$f":"IF(V14=0,0,(V14*((LOG(V14))/LOG(2))))","v":-0.47336882489797077},null,{"$f":"N14","v":222},{"$f":"COUNTIF(L36:L65,Y14)","v":27},{"$f":"Z14/(AB4-Z11)","v":0.9},{"$f":"IF(AA14=0,0,(AA14*((LOG(AA14))/LOG(2))))","v":-0.13680278410054494},null,{"$f":"N14","v":222},{"$f":"COUNTIF(L66:L94,AD14)","v":23},{"$f":"AE14/(AG4-AE11)","v":0.7931034482758621},{"$f":"IF(AF14=0,0,(AF14*((LOG(AF14))/LOG(2))))","v":-0.2652288930559607},null,{"$f":"N14","v":222},{"$f":"COUNTIF(L95:L123,AI14)","v":22},{"$f":"AJ14/(AL4-AJ11)","v":0.75862068965517238},{"$f":"IF(AK14=0,0,(AK14*((LOG(AK14))/LOG(2))))","v":-0.30234780285469132},null,{"$f":"N14","v":222},{"$f":"COUNTIF(L124:L153,AN14)","v":23},{"$f":"AO14/(AQ4-AO11)","v":0.76666666666666672},{"$f":"IF(AP14=0,0,(AP14*((LOG(AP14))/LOG(2))))","v":-0.2938852903228209},null,{"$f":"N14","v":222},{"$f":"COUNTIF(L154:L182,AS14)","v":21},{"$f":"AT14/(AV4-AT11)","v":0.72413793103448276},{"$f":"IF(AU14=0,0,(AU14*((LOG(AU14))/LOG(2))))","v":-0.33720465583879472}]
[21,1082,22,1087,24,1094,null,null,null,null,0,222,null,null,null,{"$f":"SUM(P7:P14)","v":1},{"$f":"-SUM(Q7:Q14)","v":0.81127812445913283},null,null,null,null,{"$f":"SUM(V7:V14)","v":1},{"$f":"-SUM(W7:W14)","v":0.99226663871949627},null,null,null,{"$f":"SUM(AA7:AA14)","v":1},{"$f":"-SUM(AB7:AB14)","v":0.46899559358928122},null,null,null,{"$f":"SUM(AF7:AF14)","v":1},{"$f":"-SUM(AG7:AG14)","v":0.7355085815538398},null,null,null,{"$f":"SUM(AK7:AK14)","v":1},{"$f":"-SUM(AL7:AL14)","v":0.79732651014744227},null,null,null,{"$f":"SUM(AP7:AP14)","v":1},{"$f":"-SUM(AQ7:AQ14)","v":0.78377694748470084},null,null,null,{"$f":"SUM(AU7:AU14)","v":1},{"$f":"-SUM(AV7:AV14)","v":0.84975113725329732}]
[12,1197,24,1211,24,1218,null,null,null,null,0,122,null,null,null,"U=",{"$f":"Q15/(LOG(Q4)/LOG(2))","v":0.10875870521182399},null,null,null,null,"U1=",{"$f":"W15/(LOG(W4)/LOG(2))","v":0.20425494453657062},null,null,null,"U2=",{"$f":"AB15/(LOG(AB4)/LOG(2))","v":9.5578979080767471E-2},null,null,null,"U3=",{"$f":"AG15/(LOG(AG4)/LOG(2))","v":0.15140211176032506},null,null,null,"U4=",{"$f":"AL15/(LOG(AL4)/LOG(2))","v":0.16412713655058345},null,null,null,"U5=",{"$f":"AQ15/(LOG(AQ4)/LOG(2))","v":0.15972985992109781},null,null,null,"U6=",{"$f":"AV15/(LOG(AV4)/LOG(2))","v":0.17491857998324314}]
[21,1366,22,1371,24,1384,null,null,null,null,0,222]
[12,1484,24,1494,24,1499,null,null,null,null,0,122]
[12,1600,24,1615,24,1623,null,null,null,null,0,122,null,"Total Target Seq"]
[21,1729,22,1734,24,1741,null,null,null,null,0,222,null,{"$f":"COUNTIF(L7:L182,G3)","v":0},null,29,30,29,29,30,29]
[21,1859,22,1864,24,1869,null,null,null,null,0,222,null,null,null,"% of reinforcement given in 6 equal intervals based on number of trials "]
[21,1985,22,1990,24,1995,null,null,null,null,0,222,null,null,null,"%_1","%_2","%_3","%_4","%_5","%_6"]
[21,2104,22,2109,24,2117,null,null,null,null,0,222,null,null,"target sequence",{"$f":"$G$3","v":211},{"$f":"$G$3","v":211},{"$f":"$G$3","v":211},{"$f":"$G$3","v":211},{"$f":"$G$3","v":211},{"$f":"$G$3","v":211}]
[12,2228,24,2237,24,2245,null,null,null,null,0,122,null,null,"total reinforcement",{"$f":"U11","v":0},{"$f":"Z11","v":0},{"$f":"AE11","v":0},{"$f":"AJ11","v":0},{"$f":"AO11","v":0},{"$f":"AT11","v":0}]
[21,2354,22,2363,24,2368,null,null,null,null,0,222,null,null,"% target"]
[21,2505,22,2511,24,2525,null,null,null,null,0,222,null,null,"CCRF"]
[21,2629,22,2634,24,2640,null,null,null,null,0,222,null,null,"% CCRf"]
[21,2779,22,2783,24,2791,null,null,null,null,0,222,null,null,"average response rate",{"$f":"F35/P20","v":131},{"$f":"(F65-F35)/Q20","v":140.6},{"$f":"(F94-F65)/R20","v":138.62068965517241},{"$f":"(F123-F94)/S20","v":137.06896551724137},{"$f":"(F153-F123)/T20","v":139.16666666666666},{"$f":"(F182-F153)/U20","v":130.9655172413793}]
[21,2905,22,2909,24,2919,null,null,null,null,0,222]
[21,3057,22,3063,24,3069,null,null,null,null,0,222]
[12,3176,24,3188,24,3204,null,null,null,null,0,122]
[21,3339,22,3344,24,3359,null,null,null,null,0,222]
[12,3486,24,3498,24,3514,null,null,null,null,0,122]
[12,3629,24,3641,24,3650,null,null,null,null,0,122]
[12,3760,24,3777,24,3799,null,null,null,null,0,122]
[21,3924,22,3932,24,3940,null,null,null,null,0,222]
[12,4043,24,4069,24,4073,null,null,null,null,0,122]
[21,4188,22,4194,24,4204,null,null,null,null,0,222]
[21,4340,22,4349,24,4356,null,null,null,null,0,222]
[21,4475,22,4487,24,4500,null,null,null,null,0,222]
[21,4623,22,4628,24,4633,null,null,null,null,0,222]
[12,4744,24,4756,24,4761,null,null,null,null,0,122]
[12,4892,24,4905,24,4911,null,null,null,null,0,122]
[21,5027,22,5033,24,5039,null,null,null,null,0,222]
[21,5158,22,5164,24,5196,null,null,null,null,0,222]
[21,5346,22,5354,24,5361,null,null,null,null,0,222]
[21,5504,22,5517,24,5533,null,null,null,null,0,222]
[21,5656,22,5660,24,5665,null,null,null,null,0,222]
[21,5779,22,5788,24,5807,null,null,null,null,0,222]
[21,5931,22,5938,24,5945,null,null,null,null,0,222]
[21,6083,22,6091,24,6096,null,null,null,null,0,222]
[21,6206,22,6212,24,6229,null,null,null,null,0,222]
[21,6356,22,6363,24,6371,null,null,null,null,0,222]
[21,6487,22,6494,24,6515,null,null,null,null,0,222]
[21,6627,22,6637,24,6646,null,null,null,null,0,222]
[21,6757,22,6767,24,6777,null,null,null,null,0,222]
[21,6884,22,6893,24,6903,null,null,null,null,0,222]
[21,7021,22,7031,24,7045,null,null,null,null,0,222]
[21,7180,22,7184,24,7196,null,null,null,null,0,222]
[21,7308,22,7313,24,7317,null,null,null,null,0,222]
[21,7434,22,7444,24,7450,null,null,null,null,0,222]
[21,7563,22,7577,24,7584,null,null,null,null,0,222]
[21,7696,22,7708,24,7715,null,null,null,null,0,222]
[21,7834,22,7852,24,7861,null,null,null,null,0,222]
[21,7995,22,8004,24,8017,null,null,null,null,0,222]
[21,8138,22,8143,24,8151,null,null,null,null,0,222]
[21,8268,22,8276,24,8285,null,null,null,null,0,222]
[21,8423,22,8434,24,8448,null,null,null,null,0,222]
[21,8567,22,8573,24,8584,null,null,null,null,0,222]
[21,8694,22,8703,24,8709,null,null,null,null,0,222]
[21,8836,22,8841,24,8848,null,null,null,null,0,222]
[21,8996,22,9002,24,9011,null,null,null,null,0,222]
[21,9150,22,9166,24,9173,null,null,null,null,0,222]
[21,9281,22,9292,24,9299,null,null,null,null,0,222]
[21,9409,22,9418,24,9434,null,null,null,null,0,222]
[12,9535,24,9552,24,9557,null,null,null,null,0,122]
[21,9673,22,9679,24,9686,null,null,null,null,0,222]
[21,9810,22,9818,24,9831,null,null,null,null,0,222]
[21,9964,22,9999,24,10006,null,null,null,null,0,222]
[12,10113,24,10128,24,10134,null,null,null,null,0,122]
[21,10258,22,10267,24,10274,null,null,null,null,0,222]
[21,10389,22,10395,24,10400,null,null,null,null,0,222]
[21,10512,22,10517,24,10525,null,null,null,null,0,222]
[21,10639,22,10648,24,10661,null,null,null,null,0,222]
[21,10782,22,10791,24,10797,null,null,null,null,0,222]
[12,10901,24,10913,24,10918,null,null,null,null,0,122]
[21,11030,22,11034,24,11042,null,null,null,null,0,222]
[21,11157,22,11166,24,11185,null,null,null,null,0,222]
[21,11333,22,11338,24,11355,null,null,null,null,0,222]
[21,11478,22,11487,24,11492,null,null,null,null,0,222]
[12,11588,24,11605,24,11621,null,null,null,null,0,122]
[12,11745,24,11756,24,11761,null,null,null,null,0,122]
[12,11869,24,11891,24,11899,null,null,null,null,0,122]
[21,12023,22,12030,24,12037,null,null,null,null,0,222]
[21,12159,22,12166,24,12184,null,null,null,null,0,222]
[12,12301,24,12315,24,12322,null,null,null,null,0,122]
[21,12439,22,12448,24,12454,null,null,null,null,0,222]
[21,12567,22,12575,24,12581,null,null,null,null,0,222]
[21,12702,22,12708,24,12713,null,null,null,null,0,222]
[21,12826,22,12836,24,12843,null,null,null,null,0,222]
[21,12969,22,12974,24,12987,null,null,null,null,0,222]
[21,13114,22,13123,24,13131,null,null,null,null,0,222]
[12,13236,24,13247,24,13252,null,null,null,null,0,122]
[12,13355,24,13367,24,13376,null,null,null,null,0,122]
[21,13526,22,13532,24,13552,null,null,null,null,0,222]
[21,13668,22,13675,24,13681,null,null,null,null,0,222]
[21,13800,22,13807,24,13814,null,null,null,null,0,222]
[12,13930,24,13938,24,13943,null,null,null,null,0,122]
[21,14058,22,14066,24,14075,null,null,null,null,0,222]
[12,14174,24,14191,24,14196,null,null,null,null,0,122]
[12,14296,24,14308,24,14318,null,null,null,null,0,122]
[21,14449,22,14457,24,14463,null,null,null,null,0,222]
[21,14580,22,14588,24,14595,null,null,null,null,0,222]
[21,14725,22,14731,24,14737,null,null,null,null,0,222]
[21,14864,22,14874,24,14880,null,null,null,null,0,222]
[21,14999,22,15009,24,15016,null,null,null,null,0,222]
[21,15150,22,15156,24,15164,null,null,null,null,0,222]
[21,15277,22,15284,24,15310,null,null,null,null,0,222]
[21,15420,22,15428,24,15433,null,null,null,null,0,222]
[21,15554,22,15559,24,15576,null,null,null,null,0,222]
[21,15718,22,15725,24,15747,null,null,null,null,0,222]
[21,15867,22,15880,24,15896,null,null,null,null,0,222]
[12,15991,24,16007,24,16012,null,null,null,null,0,122]
[12,16124,24,16135,24,16140,null,null,null,null,0,122]
[21,16266,22,16279,24,16287,null,null,null,null,0,222]
[12,16390,24,16411,24,16422,null,null,null,null,0,122]
[21,16531,22,16535,24,16543,null,null,null,null,0,222]
[21,16663,22,16673,24,16678,null,null,null,null,0,222]
[21,16855,22,16867,24,16880,null,null,null,null,0,222]
[21,17003,22,17019,24,17034,null,null,null,null,0,222]
[21,17155,22,17167,24,17174,null,null,null,null,0,222]
[21,17289,22,17326,24,17334,null,null,null,null,0,222]
[12,17432,24,17442,24,17447,null,null,null,null,0,122]
[12,17546,24,17563,24,17570,null,null,null,null,0,122]
[21,17686,22,17717,24,17736,null,null,null,null,0,222]
[21,17844,22,17852,24,17859,null,null,null,null,0,222]
[21,17972,22,17977,24,17984,null,null,null,null,0,222]
[21,18103,22,18113,24,18121,null,null,null,null,0,222]
[21,18229,22,18257,24,18276,null,null,null,null,0,222]
[12,18382,24,18394,24,18401,null,null,null,null,0,122]
[21,18518,22,18527,24,18541,null,null,null,null,0,222]
[21,18653,22,18660,24,18678,null,null,null,null,0,222]
[21,18793,22,18800,24,18816,null,null,null,null,0,222]
[21,18933,22,18940,24,18948,null,null,null,null,0,222]
[21,19057,22,19067,24,19074,null,null,null,null,0,222]
[21,19191,22,19200,24,19208,null,null,null,null,0,222]
[21,19322,22,19337,24,19358,null,null,null,null,0,222]
[12,19474,24,19484,24,19498,null,null,null,null,0,122]
[12,19604,24,19622,24,19629,null,null,null,null,0,122]
[21,19738,22,19749,24,19771,null,null,null,null,0,222]
[21,19900,22,19909,24,19923,null,null,null,null,0,222]
[21,20036,22,20045,24,20051,null,null,null,null,0,222]
[21,20166,22,20175,24,20187,null,null,null,null,0,222]
[21,20308,22,20314,24,20327,null,null,null,null,0,222]
[21,20435,22,20446,24,20459,null,null,null,null,0,222]
[21,20567,22,20573,24,20582,null,null,null,null,0,222]
[21,20692,22,20698,24,20715,null,null,null,null,0,222]
[21,20850,22,20856,24,20865,null,null,null,null,0,222]
[21,20985,22,20992,24,21000,null,null,null,null,0,222]
[12,21109,24,21121,24,21129,null,null,null,null,0,122]
[12,21230,24,21241,24,21251,null,null,null,null,0,122]
[12,21346,24,21365,24,21375,null,null,null,null,0,122]
[21,21491,22,21500,24,21506,null,null,null,null,0,222]
[21,21621,22,21625,24,21632,null,null,null,null,0,222]
[21,21749,22,21758,24,21771,null,null,null,null,0,222]
[21,21882,22,21891,24,21899,null,null,null,null,0,222]
[21,22006,22,22014,24,22019,null,null,null,null,0,222]
[21,22144,22,22154,24,22161,null,null,null,null,0,222]
[21,22272,22,22282,24,22288,null,null,null,null,0,222]
[12,22389,24,22400,24,22428,null,null,null,null,0,122]
[21,22536,22,22543,24,22551,null,null,null,null,0,222]
[12,22661,24,22692,24,22700,null,null,null,null,0,122]
[21,22813,22,22818,24,22828,null,null,null,null,0,222]
[21,22946,22,22954,24,22961,null,null,null,null,0,222]
[21,23084,22,23091,24,23099,null,null,null,null,0,222]
[12,23204,24,23215,24,23224,null,null,null,null,0,122]
[21,23336,22,23344,24,23351,null,null,null,null,0,222]
[12,23453,24,23466,24,23471,null,null,null,null,0,122]
[21,23583,22,23592,24,23600,null,null,null,null,0,222]
[21,23716,22,23721,24,23727,null,null,null,null,0,222]
[12,23834,24,23846,24,23857,null,null,null,null,0,122]
[21,23974,22,23978,24,23985,null,null,null,null,null,222]

{"sheet":"!M908820.101","index":12,"n_rows":174,"n_cols":48,"rows_kept":174,"cut":false,"hidden":false,"merged":[[4,39,4,42],[5,39,5,40],[4,44,4,47],[5,44,5,45],[4,24,4,27],[5,24,5,25],[4,29,4,32],[5,29,5,30],[4,34,4,37],[5,34,5,35],[1,1,1,2],[5,13,5,14],[18,13,18,14],[19,13,19,14],[4,19,4,22],[5,19,5,20]]}
["Report for:!M908820.101"]
["Date:","<date>"]
["Hen:","<hen>",null,null,null,"Correct Sequence",{"$f":"Start!J2","v":211},null,null,null,null,null,null,null,null,"Total Sequences in Data",{"$f":"4994-COUNTBLANK(L7:L5000)","v":168},null,null,null,null,"Total Sequences in Block Data",{"$f":"COUNTA(L7:L34)","v":28},null,null,null,"Total Sequences in Block Data",{"$f":"COUNTA(L35:L62)","v":28},null,null,null,"Total Sequences in Block Data",{"$f":"COUNTA(L63:L90)","v":28},null,null,null,"Total Sequences in Block Data",{"$f":"COUNTA(L91:L118)","v":28},null,null,null,"Total Sequences in Block Data",{"$f":"COUNTA(L119:L146)","v":28},null,null,null,"Total Sequences in Block Data",{"$f":"COUNTA(L147:L174)","v":28}]
[null,null,null,null,null,null,null,null,null,null,null,null,null,null,null,"Total Sequences in Summary",{"$f":"SUM(O7:O14)","v":168},null,null,null,null,"Total Sequences in Block Summary",{"$f":"SUM(U7:U14)","v":28},null,null,null,"Total Sequences in Block Summary",{"$f":"SUM(Z7:Z14)","v":28},null,null,null,"Total Sequences in Block Summary",{"$f":"SUM(AE7:AE14)","v":28},null,null,null,"Total Sequences in Block Summary",{"$f":"SUM(AJ7:AJ14)","v":28},null,null,null,"Total Sequences in Block Summary",{"$f":"SUM(AO7:AO14)","v":28},null,null,null,"Total Sequences in Block Summary",{"$f":"SUM(AT7:AT14)","v":28}]
[null,null,null,null,null,null,null,null,null,null,null,null,null,null,null,null,null,null,null,"Block 1",null,null,null,null,"Block 2",null,null,null,null,"Block 3",null,null,null,null,"Block 4",null,null,null,null,"Block 5",null,null,null,null,"Block 6"]
["Sequence\nComponent\n1","Time\n1","Sequence\nComponent\n2","Time\n2","Sequence\nComponent\n3","Time\n3","Sequence\nComponent\n4","Time\n4","Sequence\nComponent\n5","Time\n5","Correct?\n0=No 1=Yes","Sequence",null,"Frequency",null,"Relative Frequency","Variability",null,null,"Frequency",null,"Relative Frequency","Variability",null,"Frequency",null,"Relative Frequency","Variability",null,"Frequency",null,"Relative Frequency","Variability",null,"Frequency",null,"Relative Frequency","Variability",null,"Frequency",null,"Relative Frequency","Variability",null,"Frequency",null,"Relative Frequency","Variability"]
[12,14,24,32,24,39,null,null,null,null,0,122,null,111,{"$f":"COUNTIF($L$7:$L$500,N7)","v":0},{"$f":"O7/$Q$4","v":0},{"$f":"IF(P7=0,0,(P7*((LOG(P7))/LOG(2))))","v":0},null,null,{"$f":"N7","v":111},{"$f":"COUNTIF(L7:L34,T7)","v":0},{"$f":"U7/(W4-U11)","v":0},{"$f":"IF(V7=0,0,(V7*((LOG(V7))/LOG(2))))","v":0},null,{"$f":"N7","v":111},{"$f":"COUNTIF(L35:L62,Y7)","v":0},{"$f":"Z7/(AB4-Z11)","v":0},{"$f":"IF(AA7=0,0,(AA7*((LOG(AA7))/LOG(2))))","v":0},null,{"$f":"N7","v":111},{"$f":"COUNTIF(L63:L90,AD7)","v":0},{"$f":"AE7/(AG4-AE11)","v":0},{"$f":"IF(AF7=0,0,(AF7*((LOG(AF7))/LOG(2))))","v":0},null,{"$f":"N7","v":111},{"$f":"COUNTIF(L91:L118,AI7)","v":0},{"$f":"AJ7/(AL4-AJ11)","v":0},{"$f":"IF(AK7=0,0,(AK7*((LOG(AK7))/LOG(2))))","v":0},null,{"$f":"N7","v":111},{"$f":"COUNTIF(L119:L146,AN7)","v":0},{"$f":"AO7/(AQ4-AO11)","v":0},{"$f":"IF(AP7=0,0,(AP7*((LOG(AP7))/LOG(2))))","v":0},null,{"$f":"N7","v":111},{"$f":"COUNTIF(L147:L174,AS7)","v":0},{"$f":"AT7/(AV4-AT11)","v":0},{"$f":"IF(AU7=0,0,(AU7*((LOG(AU7))/LOG(2))))","v":0}]
[21,158,22,163,24,176,null,null,null,null,0,222,null,112,{"$f":"COUNTIF($L$7:$L$500,N8)","v":0},{"$f":"O8/$Q$4","v":0},{"$f":"IF(P8=0,0,(P8*((LOG(P8))/LOG(2))))","v":0},null,null,{"$f":"N8","v":112},{"$f":"COUNTIF(L7:L34,T8)","v":0},{"$f":"U8/(W4-U11)","v":0},{"$f":"IF(V8=0,0,(V8*((LOG(V8))/LOG(2))))","v":0},null,{"$f":"N8","v":112},{"$f":"COUNTIF(L35:L62,Y8)","v":0},{"$f":"Z8/(AB4-Z11)","v":0},{"$f":"IF(AA8=0,0,(AA8*((LOG(AA8))/LOG(2))))","v":0},null,{"$f":"N8","v":112},{"$f":"COUNTIF(L63:L90,AD8)","v":0},{"$f":"AE8/(AG4-AE11)","v":0},{"$f":"IF(AF8=0,0,(AF8*((LOG(AF8))/LOG(2))))","v":0},null,{"$f":"N8","v":112},{"$f":"COUNTIF(L91:L118,AI8)","v":0},{"$f":"AJ8/(AL4-AJ11)","v":0},{"$f":"IF(AK8=0,0,(AK8*((LOG(AK8))/LOG(2))))","v":0},null,{"$f":"N8","v":112},{"$f":"COUNTIF(L119:L146,AN8)","v":0},{"$f":"AO8/(AQ4-AO11)","v":0},{"$f":"IF(AP8=0,0,(AP8*((LOG(AP8))/LOG(2))))","v":0},null,{"$f":"N8","v":112},{"$f":"COUNTIF(L147:L174,AS8)","v":0},{"$f":"AT8/(AV4-AT11)","v":0},{"$f":"IF(AU8=0,0,(AU8*((LOG(AU8))/LOG(2))))","v":0}]
[12,280,24,297,24,305,null,null,null,null,0,122,null,121,{"$f":"COUNTIF($L$7:$L$500,N9)","v":0},{"$f":"O9/$Q$4","v":0},{"$f":"IF(P9=0,0,(P9*((LOG(P9))/LOG(2))))","v":0},null,null,{"$f":"N9","v":121},{"$f":"COUNTIF(L7:L34,T9)","v":0},{"$f":"U9/(W4-U11)","v":0},{"$f":"IF(V9=0,0,(V9*((LOG(V9))/LOG(2))))","v":0},null,{"$f":"N9","v":121},{"$f":"COUNTIF(L35:L62,Y9)","v":0},{"$f":"Z9/(AB4-Z11)","v":0},{"$f":"IF(AA9=0,0,(AA9*((LOG(AA9))/LOG(2))))","v":0},null,{"$f":"N9","v":121},{"$f":"COUNTIF(L63:L90,AD9)","v":0},{"$f":"AE9/(AG4-AE11)","v":0},{"$f":"IF(AF9=0,0,(AF9*((LOG(AF9))/LOG(2))))","v":0},null,{"$f":"N9","v":121},{"$f":"COUNTIF(L91:L118,AI9)","v":0},{"$f":"AJ9/(AL4-AJ11)","v":0},{"$f":"IF(AK9=0,0,(AK9*((LOG(AK9))/LOG(2))))","v":0},null,{"$f":"N9","v":121},{"$f":"COUNTIF(L119:L146,AN9)","v":0},{"$f":"AO9/(AQ4-AO11)","v":0},{"$f":"IF(AP9=0,0,(AP9*((LOG(AP9))/LOG(2))))","v":0},null,{"$f":"N9","v":121},{"$f":"COUNTIF(L147:L174,AS9)","v":0},{"$f":"AT9/(AV4-AT11)","v":0},{"$f":"IF(AU9=0,0,(AU9*((LOG(AU9))/LOG(2))))","v":0}]
[21,424,22,429,24,447,null,null,null,null,0,222,null,122,{"$f":"COUNTIF($L$7:$L$500,N10)","v":42},{"$f":"O10/$Q$4","v":0.25},{"$f":"IF(P10=0,0,(P10*((LOG(P10))/LOG(2))))","v":-0.5},null,null,{"$f":"N10","v":122},{"$f":"COUNTIF(L7:L34,T10)","v":9},{"$f":"U10/(W4-U11)","v":0.32142857142857145},{"$f":"IF(V10=0,0,(V10*((LOG(V10))/LOG(2))))","v":-0.5263167601977724},null,{"$f":"N10","v":122},{"$f":"COUNTIF(L35:L62,Y10)","v":8},{"$f":"Z10/(AB4-Z11)","v":0.2857142857142857},{"$f":"IF(AA10=0,0,(AA10*((LOG(AA10))/LOG(2))))","v":-0.51638712058788683},null,{"$f":"N10","v":122},{"$f":"COUNTIF(L63:L90,AD10)","v":8},{"$f":"AE10/(AG4-AE11)","v":0.2857142857142857},{"$f":"IF(AF10=0,0,(AF10*((LOG(AF10))/LOG(2))))","v":-0.51638712058788683},null,{"$f":"N10","v":122},{"$f":"COUNTIF(L91:L118,AI10)","v":6},{"$f":"AJ10/(AL4-AJ11)","v":0.21428571428571427},{"$f":"IF(AK10=0,0,(AK10*((LOG(AK10))/LOG(2))))","v":-0.47622694742923877},null,{"$f":"N10","v":122},{"$f":"COUNTIF(L119:L146,AN10)","v":6},{"$f":"AO10/(AQ4-AO11)","v":0.21428571428571427},{"$f":"IF(AP10=0,0,(AP10*((LOG(AP10))/LOG(2))))","v":-0.47622694742923877},null,{"$f":"N10","v":122},{"$f":"COUNTIF(L147:L174,AS10)","v":5},{"$f":"AT10/(AV4-AT11)","v":0.17857142857142858},{"$f":"IF(AU10=0,0,(AU10*((LOG(AU10))/LOG(2))))","v":-0.44382621913754317}]
[21,559,22,565,24,571,null,null,null,null,0,222,null,211,{"$f":"COUNTIF($L$7:$L$500,N11)","v":0},{"$f":"O11/$Q$4","v":0},{"$f":"IF(P11=0,0,(P11*((LOG(P11))/LOG(2))))","v":0},null,null,{"$f":"N11","v":211},{"$f":"COUNTIF(L7:L34,T11)","v":0},null,null,null,{"$f":"N11","v":211},{"$f":"COUNTIF(L35:L62,Y11)","v":0},null,null,null,{"$f":"N11","v":211},{"$f":"COUNTIF(L63:L90,AD11)","v":0},null,null,null,{"$f":"N11","v":211},{"$f":"COUNTIF(L91:L118,AI11)","v":0},null,null,null,{"$f":"N11","v":211},{"$f":"COUNTIF(L119:L146,AN11)","v":0},null,null,null,{"$f":"N11","v":211},{"$f":"COUNTIF(L147:L174,AS11)","v":0}]
[12,673,24,684,24,690,null,null,null,null,0,122,null,212,{"$f":"COUNTIF($L$7:$L$500,N12)","v":0},{"$f":"O12/$Q$4","v":0},{"$f":"IF(P12=0,0,(P12*((LOG(P12))/LOG(2))))","v":0},null,null,{"$f":"N12","v":212},{"$f":"COUNTIF(L7:L34,T12)","v":0},{"$f":"U12/(W4-U11)","v":0},{"$f":"IF(V12=0,0,(V12*((LOG(V12))/LOG(2))))","v":0},null,{"$f":"N12","v":212},{"$f":"COUNTIF(L35:L62,Y12)","v":0},{"$f":"Z12/(AB4-Z11)","v":0},{"$f":"IF(AA12=0,0,(AA12*((LOG(AA12))/LOG(2))))","v":0},null,{"$f":"N12","v":212},{"$f":"COUNTIF(L63:L90,AD12)","v":0},{"$f":"AE12/(AG4-AE11)","v":0},{"$f":"IF(AF12=0,0,(AF12*((LOG(AF12))/LOG(2))))","v":0},null,{"$f":"N12","v":212},{"$f":"COUNTIF(L91:L118,AI12)","v":0},{"$f":"AJ12/(AL4-AJ11)","v":0},{"$f":"IF(AK12=0,0,(AK12*((LOG(AK12))/LOG(2))))","v":0},null,{"$f":"N12","v":212},{"$f":"COUNTIF(L119:L146,AN12)","v":0},{"$f":"AO12/(AQ4-AO11)","v":0},{"$f":"IF(AP12=0,0,(AP12*((LOG(AP12))/LOG(2))))","v":0},null,{"$f":"N12","v":212},{"$f":"COUNTIF(L147:L174,AS12)","v":0},{"$f":"AT12/(AV4-AT11)","v":0},{"$f":"IF(AU12=0,0,(AU12*((LOG(AU12))/LOG(2))))","v":0}]
[21,802,22,807,24,813,null,null,null,null,0,222,null,221,{"$f":"COUNTIF($L$7:$L$500,N13)","v":0},{"$f":"O13/$Q$4","v":0},{"$f":"IF(P13=0,0,(P13*((LOG(P13))/LOG(2))))","v":0},null,null,{"$f":"N13","v":221},{"$f":"COUNTIF(L7:L34,T13)","v":0},{"$f":"U13/(W4-U11)","v":0},{"$f":"IF(V13=0,0,(V13*((LOG(V13))/LOG(2))))","v":0},null,{"$f":"N13","v":221},{"$f":"COUNTIF(L35:L62,Y13)","v":0},{"$f":"Z13/(AB4-Z11)","v":0},{"$f":"IF(AA13=0,0,(AA13*((LOG(AA13))/LOG(2))))","v":0},null,{"$f":"N13","v":221},{"$f":"COUNTIF(L63:L90,AD13)","v":0},{"$f":"AE13/(AG4-AE11)","v":0},{"$f":"IF(AF13=0,0,(AF13*((LOG(AF13))/LOG(2))))","v":0},null,{"$f":"N13","v":221},{"$f":"COUNTIF(L91:L118,AI13)","v":0},{"$f":"AJ13/(AL4-AJ11)","v":0},{"$f":"IF(AK13=0,0,(AK13*((LOG(AK13))/LOG(2))))","v":0},null,{"$f":"N13","v":221},{"$f":"COUNTIF(L119:L146,AN13)","v":0},{"$f":"AO13/(AQ4-AO11)","v":0},{"$f":"IF(AP13=0,0,(AP13*((LOG(AP13))/LOG(2))))","v":0},null,{"$f":"N13","v":221},{"$f":"COUNTIF(L147:L174,AS13)","v":0},{"$f":"AT13/(AV4-AT11)","v":0},{"$f":"IF(AU13=0,0,(AU13*((LOG(AU13))/LOG(2))))","v":0}]
[12,938,24,946,24,953,null,null,null,null,0,122,null,222,{"$f":"COUNTIF($L$7:$L$500,N14)","v":126},{"$f":"O14/$Q$4","v":0.75},{"$f":"IF(P14=0,0,(P14*((LOG(P14))/LOG(2))))","v":-0.31127812445913283},null,null,{"$f":"N14","v":222},{"$f":"COUNTIF(L7:L34,T14)","v":19},{"$f":"U14/(W4-U11)","v":0.6785714285714286},{"$f":"IF(V14=0,0,(V14*((LOG(V14))/LOG(2))))","v":-0.37961145584522688},null,{"$f":"N14","v":222},{"$f":"COUNTIF(L35:L62,Y14)","v":20},{"$f":"Z14/(AB4-Z11)","v":0.7142857142857143},{"$f":"IF(AA14=0,0,(AA14*((LOG(AA14))/LOG(2))))","v":-0.34673344797874411},null,{"$f":"N14","v":222},{"$f":"COUNTIF(L63:L90,AD14)","v":20},{"$f":"AE14/(AG4-AE11)","v":0.7142857142857143},{"$f":"IF(AF14=0,0,(AF14*((LOG(AF14))/LOG(2))))","v":-0.34673344797874411},null,{"$f":"N14","v":222},{"$f":"COUNTIF(L91:L118,AI14)","v":22},{"$f":"AJ14/(AL4-AJ11)","v":0.7857142857142857},{"$f":"IF(AK14=0,0,(AK14*((LOG(AK14))/LOG(2))))","v":-0.27336830983024107},null,{"$f":"N14","v":222},{"$f":"COUNTIF(L119:L146,AN14)","v":22},{"$f":"AO14/(AQ4-AO11)","v":0.7857142857142857},{"$f":"IF(AP14=0,0,(AP14*((LOG(AP14))/LOG(2))))","v":-0.27336830983024107},null,{"$f":"N14","v":222},{"$f":"COUNTIF(L147:L174,AS14)","v":23},{"$f":"AT14/(AV4-AT11)","v":0.8214285714285714},{"$f":"IF(AU14=0,0,(AU14*((LOG(AU14))/LOG(2))))","v":-0.23311565064334283}]
[12,1055,24,1065,24,1076,null,null,null,null,0,122,null,null,null,{"$f":"SUM(P7:P14)","v":1},{"$f":"-SUM(Q7:Q14)","v":0.81127812445913283},null,null,null,null,{"$f":"SUM(V7:V14)","v":1},{"$f":"-SUM(W7:W14)","v":0.90592821604299933},null,null,null,{"$f":"SUM(AA7:AA14)","v":1},{"$f":"-SUM(AB7:AB14)","v":0.863120568566631},null,null,null,{"$f":"SUM(AF7:AF14)","v":1},{"$f":"-SUM(AG7:AG14)","v":0.863120568566631},null,null,null,{"$f":"SUM(AK7:AK14)","v":1},{"$f":"-SUM(AL7:AL14)","v":0.74959525725947984},null,null,null,{"$f":"SUM(AP7:AP14)","v":1},{"$f":"-SUM(AQ7:AQ14)","v":0.74959525725947984},null,null,null,{"$f":"SUM(AU7:AU14)","v":1},{"$f":"-SUM(AV7:AV14)","v":0.676941869780886}]
[12,1178,24,1189,24,1200,null,null,null,null,0,122,null,null,null,"U=",{"$f":"Q15/(LOG(Q4)/LOG(2))","v":0.10974611587419832},null,null,null,null,"U1=",{"$f":"W15/(LOG(W4)/LOG(2))","v":0.18844629338398247},null,null,null,"U2=",{"$f":"AB15/(LOG(AB4)/LOG(2))","v":0.17954167781670785},null,null,null,"U3=",{"$f":"AG15/(LOG(AG4)/LOG(2))","v":0.17954167781670785},null,null,null,"U4=",{"$f":"AL15/(LOG(AL4)/LOG(2))","v":0.1559267558590503},null,null,null,"U5=",{"$f":"AQ15/(LOG(AQ4)/LOG(2))","v":0.1559267558590503},null,null,null,"U6=",{"$f":"AV15/(LOG(AV4)/LOG(2))","v":0.14081379069285507}]
[21,1319,22,1327,24,1335,null,null,null,null,0,222]
[12,1445,24,1463,24,1471,null,null,null,null,0,122]
[12,1577,24,1586,24,1596,null,null,null,null,0,122,null,"Total Target Seq"]
[21,1707,22,1712,24,1719,null,null,null,null,0,222,null,{"$f":"COUNTIF(L7:L174,G3)","v":0},null,28,28,28,28,28,28]
[21,1831,22,1836,24,1842,null,null,null,null,0,222,null,null,null,"% of reinforcement given in 6 equal intervals based on number of trials "]
[21,1957,22,1962,24,1976,null,null,null,null,0,222,null,null,null,"%_1","%_2","%_3","%_4","%_5","%_6"]
[21,2111,22,2117,24,2131,null,null,null,null,0,222,null,null,"target sequence",{"$f":"$G$3","v":211},{"$f":"$G$3","v":211},{"$f":"$G$3","v":211},{"$f":"$G$3","v":211},{"$f":"$G$3","v":211},{"$f":"$G$3","v":211}]
[21,2244,22,2255,24,2263,null,null,null,null,0,222,null,null,"total reinforcement",{"$f":"U11","v":0},{"$f":"Z11","v":0},{"$f":"AE11","v":0},{"$f":"AJ11","v":0},{"$f":"AO11","v":0},{"$f":"AT11","v":0}]
[21,2377,22,2385,24,2404,null,null,null,null,0,222,null,null,"% target"]
[21,2512,22,2517,24,2530,null,null,null,null,0,222,null,null,"CCRF"]
[12,2631,24,2643,24,2654,null,null,null,null,0,122,null,null,"% CCRf"]
[21,2764,22,2775,24,2792,null,null,null,null,0,222,null,null,"average response rate",{"$f":"F34/P20","v":127.14285714285714},{"$f":"(F62-F34)/Q20","v":135.14285714285714},{"$f":"(F90-F62)/R20","v":131},{"$f":"(F118-F90)/S20","v":154.75},{"$f":"(F146-F118)/T20","v":147.82142857142858},{"$f":"(F174-F146)/U20","v":160.5}]
[21,2906,22,2911,24,2924,null,null,null,null,0,222]
[21,3026,22,3031,24,3037,null,null,null,null,0,222]
[21,3146,22,3151,24,3157,null,null,null,null,0,222]
[21,3281,22,3289,24,3298,null,null,null,null,0,222]
[21,3424,22,3429,24,3437,null,null,null,null,0,222]
[21,3549,22,3555,24,3560,null,null,null,null,0,222]
[21,3691,22,3697,24,3703,null,null,null,null,0,222]
[21,3824,22,3835,24,3856,null,null,null,null,0,222]
[21,3987,22,3992,24,4007,null,null,null,null,0,222]
[21,4127,22,4132,24,4140,null,null,null,null,0,222]
[12,4238,24,4251,24,4263,null,null,null,null,0,122]
[21,4376,22,4384,24,4397,null,null,null,null,0,222]
[21,4506,22,4512,24,4530,null,null,null,null,0,222]
[21,4641,22,4656,24,4689,null,null,null,null,0,222]
[12,4810,24,4832,24,4850,null,null,null,null,0,122]
[21,4984,22,4991,24,5004,null,null,null,null,0,222]
[12,5104,24,5113,24,5119,null,null,null,null,0,122]
[21,5227,22,5232,24,5239,null,null,null,null,0,222]
[21,5341,22,5346,24,5351,null,null,null,null,0,222]
[21,5463,22,5468,24,5474,null,null,null,null,0,222]
[21,5583,22,5593,24,5602,null,null,null,null,0,222]
[21,5712,22,5724,24,5739,null,null,null,null,0,222]
[21,5849,22,5861,24,5876,null,null,null,null,0,222]
[21,5990,22,5994,24,6007,null,null,null,null,0,222]
[21,6115,22,6126,24,6138,null,null,null,null,0,222]
[21,6261,22,6317,24,6328,null,null,null,null,0,222]
[12,6429,24,6438,24,6443,null,null,null,null,0,122]
[21,6567,22,6578,24,6592,null,null,null,null,0,222]
[12,6705,24,6714,24,6720,null,null,null,null,0,122]
[12,6816,24,6827,24,6832,null,null,null,null,0,122]
[21,6939,22,6950,24,6959,null,null,null,null,0,222]
[12,7071,24,7082,24,7093,null,null,null,null,0,122]
[21,7203,22,7210,24,7219,null,null,null,null,0,222]
[12,7327,24,7339,24,7344,null,null,null,null,0,122]
[21,7447,22,7452,24,7460,null,null,null,null,0,222]
[21,7580,22,7588,24,7594,null,null,null,null,0,222]
[21,7706,22,7710,24,7723,null,null,null,null,0,222]
[12,7823,24,7832,24,7843,null,null,null,null,0,122]
[21,7952,22,7958,24,7964,null,null,null,null,0,222]
[21,8075,22,8086,24,8108,null,null,null,null,0,222]
[21,8211,22,8217,24,8222,null,null,null,null,0,222]
[12,8322,24,8333,24,8338,null,null,null,null,0,122]
[21,8448,22,8456,24,8463,null,null,null,null,0,222]
[21,8582,22,8598,24,8612,null,null,null,null,0,222]
[12,8712,24,8722,24,8733,null,null,null,null,0,122]
[12,8840,24,8850,24,8861,null,null,null,null,0,122]
[21,8980,22,8988,24,9000,null,null,null,null,0,222]
[21,9119,22,9126,24,9137,null,null,null,null,0,222]
[12,9236,24,9246,24,9259,null,null,null,null,0,122]
[12,9358,24,9372,24,9384,null,null,null,null,0,122]
[21,9537,22,9552,24,9559,null,null,null,null,0,222]
[21,9697,22,9705,24,9719,null,null,null,null,0,222]
[21,9825,22,9830,24,9842,null,null,null,null,0,222]
[21,9949,22,9960,24,9974,null,null,null,null,0,222]
[21,10087,22,10092,24,10102,null,null,null,null,0,222]
[12,10196,24,10205,24,10212,null,null,null,null,0,122]
[21,10317,22,10323,24,10330,null,null,null,null,0,222]
[21,10439,22,10460,24,10481,null,null,null,null,0,222]
[12,10588,24,10600,24,10605,null,null,null,null,0,122]
[21,10714,22,10727,24,10740,null,null,null,null,0,222]
[21,10858,22,10863,24,10876,null,null,null,null,0,222]
[21,10989,22,11007,24,11012,null,null,null,null,0,222]
[21,11128,22,11139,24,11157,null,null,null,null,0,222]
[12,11261,24,11274,24,11286,null,null,null,null,0,122]
[21,11406,22,11413,24,11453,null,null,null,null,0,222]
[21,11574,22,11579,24,11591,null,null,null,null,0,222]
[21,11744,22,11753,24,11771,null,null,null,null,0,222]
[21,11907,22,11935,24,11957,null,null,null,null,0,222]
[21,12076,22,12089,24,12103,null,null,null,null,0,222]
[21,12235,22,12256,24,12334,null,null,null,null,0,222]
[21,12446,22,12452,24,12464,null,null,null,null,0,222]
[21,12594,22,12606,24,12622,null,null,null,null,0,222]
[21,12740,22,12766,24,12778,null,null,null,null,0,222]
[21,12917,22,12929,24,12945,null,null,null,null,0,222]
[21,13071,22,13076,24,13085,null,null,null,null,0,222]
[21,13223,22,13234,24,13250,null,null,null,null,0,222]
[21,13364,22,13376,24,13420,null,null,null,null,0,222]
[12,13526,24,13539,24,13568,null,null,null,null,0,122]
[21,13683,22,13696,24,13716,null,null,null,null,0,222]
[12,13821,24,13833,24,13851,null,null,null,null,0,122]
[12,13952,24,13961,24,13968,null,null,null,null,0,122]
[12,14075,24,14088,24,14094,null,null,null,null,0,122]
[21,14218,22,14231,24,14257,null,null,null,null,0,222]
[21,14372,22,14383,24,14388,null,null,null,null,0,222]
[21,14512,22,14520,24,14557,null,null,null,null,0,222]
[21,14692,22,14722,24,14734,null,null,null,null,0,222]
[21,14856,22,14867,24,14899,null,null,null,null,0,222]
[12,15005,24,15018,24,15024,null,null,null,null,0,122]
[21,15157,22,15165,24,15178,null,null,null,null,0,222]
[21,15310,22,15338,24,15345,null,null,null,null,0,222]
[21,15450,22,15464,24,15476,null,null,null,null,0,222]
[21,15585,22,15590,24,15596,null,null,null,null,0,222]
[21,15709,22,15715,24,15727,null,null,null,null,0,222]
[21,15840,22,15853,24,15861,null,null,null,null,0,222]
[21,15974,22,15989,24,16003,null,null,null,null,0,222]
[21,16109,22,16115,24,16130,null,null,null,null,0,222]
[21,16241,22,16248,24,16270,null,null,null,null,0,222]
[21,16389,22,16440,24,16475,null,null,null,null,0,222]
[21,16587,22,16592,24,16605,null,null,null,null,0,222]
[21,16722,22,16751,24,16769,null,null,null,null,0,222]
[21,16907,22,16929,24,16937,null,null,null,null,0,222]
[21,17081,22,17091,24,17110,null,null,null,null,0,222]
[21,17236,22,17253,24,17290,null,null,null,null,0,222]
[12,17401,24,17433,24,17447,null,null,null,null,0,122]
[21,17603,22,17620,24,17687,null,null,null,null,0,222]
[21,17803,22,17811,24,17820,null,null,null,null,0,222]
[12,17933,24,17955,24,17969,null,null,null,null,0,122]
[21,18078,22,18090,24,18102,null,null,null,null,0,222]
[21,18219,22,18239,24,18247,null,null,null,null,0,222]
[21,18404,22,18417,24,18429,null,null,null,null,0,222]
[12,18532,24,18542,24,18549,null,null,null,null,0,122]
[21,18660,22,18672,24,18686,null,null,null,null,0,222]
[12,18792,24,18809,24,18815,null,null,null,null,0,122]
[21,18941,22,18948,24,18956,null,null,null,null,0,222]
[21,19084,22,19089,24,19097,null,null,null,null,0,222]
[21,19210,22,19218,24,19227,null,null,null,null,0,222]
[12,19334,24,19346,24,19352,null,null,null,null,0,122]
[12,19456,24,19472,24,19484,null,null,null,null,0,122]
[21,19596,22,19603,24,19611,null,null,null,null,0,222]
[12,19714,24,19726,24,19777,null,null,null,null,0,122]
[21,19895,22,19908,24,19915,null,null,null,null,0,222]
[12,20013,24,20038,24,20043,null,null,null,null,0,122]
[21,20155,22,20166,24,20198,null,null,null,null,0,222]
[21,20359,22,20368,24,20388,null,null,null,null,0,222]
[21,20501,22,20506,24,20534,null,null,null,null,0,222]
[21,20647,22,20667,24,20683,null,null,null,null,0,222]
[21,20823,22,20840,24,20882,null,null,null,null,0,222]
[21,20999,22,21011,24,21024,null,null,null,null,0,222]
[21,21157,22,21180,24,21204,null,null,null,null,0,222]
[21,21335,22,21341,24,21375,null,null,null,null,0,222]
[21,21481,22,21497,24,21502,null,null,null,null,0,222]
[21,21694,22,21706,24,21727,null,null,null,null,0,222]
[12,21825,24,21835,24,21846,null,null,null,null,0,122]
[21,22027,22,22060,24,22079,null,null,null,null,0,222]
[12,22180,24,22218,24,22232,null,null,null,null,0,122]
[21,22357,22,22386,24,22414,null,null,null,null,0,222]
[21,22532,22,22542,24,22556,null,null,null,null,0,222]
[21,22666,22,22679,24,22688,null,null,null,null,0,222]
[21,22812,22,22834,24,22841,null,null,null,null,0,222]
[21,22958,22,22964,24,22979,null,null,null,null,0,222]
[21,23158,22,23170,24,23190,null,null,null,null,0,222]
[21,23320,22,23324,24,23335,null,null,null,null,0,222]
[21,23453,22,23468,24,23493,null,null,null,null,0,222]
[12,23602,24,23619,24,23625,null,null,null,null,0,122]
[21,23744,22,23784,24,23791,null,null,null,null,0,222]
[21,23945,22,23959,24,23978,null,null,null,null,null,222]

{"sheet":"!M909850.101","index":13,"n_rows":149,"n_cols":48,"rows_kept":149,"cut":false,"hidden":false,"merged":[[4,39,4,42],[5,39,5,40],[4,44,4,47],[5,44,5,45],[4,24,4,27],[5,24,5,25],[4,29,4,32],[5,29,5,30],[4,34,4,37],[5,34,5,35],[1,1,1,2],[5,13,5,14],[18,13,18,14],[19,13,19,14],[4,19,4,22],[5,19,5,20]]}
["Report for:!M909850.101"]
["Date:","<date>"]
["Hen:","<hen>",null,null,null,"Correct Sequence",{"$f":"Start!J2","v":211},null,null,null,null,null,null,null,null,"Total Sequences in Data",{"$f":"4994-COUNTBLANK(L7:L5000)","v":143},null,null,null,null,"Total Sequences in Block Data",{"$f":"COUNTA(L7:L30)","v":24},null,null,null,"Total Sequences in Block Data",{"$f":"COUNTA(L31:L54)","v":24},null,null,null,"Total Sequences in Block Data",{"$f":"COUNTA(L55:L77)","v":23},null,null,null,"Total Sequences in Block Data",{"$f":"COUNTA(L78:L101)","v":24},null,null,null,"Total Sequences in Block Data",{"$f":"COUNTA(L102:L125)","v":24},null,null,null,"Total Sequences in Block Data",{"$f":"COUNTA(L126:L149)","v":24}]
[null,null,null,null,null,null,null,null,null,null,null,null,null,null,null,"Total Sequences in Summary",{"$f":"SUM(O7:O14)","v":142},null,null,null,null,"Total Sequences in Block Summary",{"$f":"SUM(U7:U14)","v":24},null,null,null,"Total Sequences in Block Summary",{"$f":"SUM(Z7:Z14)","v":24},null,null,null,"Total Sequences in Block Summary",{"$f":"SUM(AE7:AE14)","v":23},null,null,null,"Total Sequences in Block Summary",{"$f":"SUM(AJ7:AJ14)","v":24},null,null,null,"Total Sequences in Block Summary",{"$f":"SUM(AO7:AO14)","v":24},null,null,null,"Total Sequences in Block Summary",{"$f":"SUM(AT7:AT14)","v":23}]
[null,null,null,null,null,null,null,null,null,null,null,null,null,null,null,null,null,null,null,"Block 1",null,null,null,null,"Block 2",null,null,null,null,"Block 3",null,null,null,null,"Block 4",null,null,null,null,"Block 5",null,null,null,null,"Block 6"]
["Sequence\nComponent\n1","Time\n1","Sequence\nComponent\n2","Time\n2","Sequence\nComponent\n3","Time\n3","Sequence\nComponent\n4","Time\n4","Sequence\nComponent\n5","Time\n5","Correct?\n0=No 1=Yes","Sequence",null,"Frequency",null,"Relative Frequency","Variability",null,null,"Frequency",null,"Relative Frequency","Variability",null,"Frequency",null,"Relative Frequency","Variability",null,"Frequency",null,"Relative Frequency","Variability",null,"Frequency",null,"Relative Frequency","Variability",null,"Frequency",null,"Relative Frequency","Variability",null,"Frequency",null,"Relative Frequency","Variability"]
[12,9,13,18,24,32,null,null,null,null,0,112,null,111,{"$f":"COUNTIF($L$7:$L$500,N7)","v":0},{"$f":"O7/$Q$4","v":0},{"$f":"IF(P7=0,0,(P7*((LOG(P7))/LOG(2))))","v":0},null,null,{"$f":"N7","v":111},{"$f":"COUNTIF(L7:L30,T7)","v":0},{"$f":"U7/(W4-U11)","v":0},{"$f":"IF(V7=0,0,(V7*((LOG(V7))/LOG(2))))","v":0},null,{"$f":"N7","v":111},{"$f":"COUNTIF(L31:L54,Y7)","v":0},{"$f":"Z7/(AB4-Z11)","v":0},{"$f":"IF(AA7=0,0,(AA7*((LOG(AA7))/LOG(2))))","v":0},null,{"$f":"N7","v":111},{"$f":"COUNTIF(L55:L77,AD7)","v":0},{"$f":"AE7/(AG4-AE11)","v":0},{"$f":"IF(AF7=0,0,(AF7*((LOG(AF7))/LOG(2))))","v":0},null,{"$f":"N7","v":111},{"$f":"COUNTIF(L78:L101,AI7)","v":0},{"$f":"AJ7/(AL4-AJ11)","v":0},{"$f":"IF(AK7=0,0,(AK7*((LOG(AK7))/LOG(2))))","v":0},null,{"$f":"N7","v":111},{"$f":"COUNTIF(L102:L125,AN7)","v":0},{"$f":"AO7/(AQ4-AO11)","v":0},{"$f":"IF(AP7=0,0,(AP7*((LOG(AP7))/LOG(2))))","v":0},null,{"$f":"N7","v":111},{"$f":"COUNTIF(L126:L149,AS7)","v":0},{"$f":"AT7/(AV4-AT11)","v":0},{"$f":"IF(AU7=0,0,(AU7*((LOG(AU7))/LOG(2))))","v":0}]
[12,145,24,161,24,169,null,null,null,null,0,122,null,112,{"$f":"COUNTIF($L$7:$L$500,N8)","v":5},{"$f":"O8/$Q$4","v":3.5211267605633804E-2},{"$f":"IF(P8=0,0,(P8*((LOG(P8))/LOG(2))))","v":-0.16999362762737041},null,null,{"$f":"N8","v":112},{"$f":"COUNTIF(L7:L30,T8)","v":1},{"$f":"U8/(W4-U11)","v":4.1666666666666664E-2},{"$f":"IF(V8=0,0,(V8*((LOG(V8))/LOG(2))))","v":-0.19104010419671485},null,{"$f":"N8","v":112},{"$f":"COUNTIF(L31:L54,Y8)","v":1},{"$f":"Z8/(AB4-Z11)","v":4.1666666666666664E-2},{"$f":"IF(AA8=0,0,(AA8*((LOG(AA8))/LOG(2))))","v":-0.19104010419671485},null,{"$f":"N8","v":112},{"$f":"COUNTIF(L55:L77,AD8)","v":1},{"$f":"AE8/(AG4-AE11)","v":4.3478260869565216E-2},{"$f":"IF(AF8=0,0,(AF8*((LOG(AF8))/LOG(2))))","v":-0.19667660678508753},null,{"$f":"N8","v":112},{"$f":"COUNTIF(L78:L101,AI8)","v":1},{"$f":"AJ8/(AL4-AJ11)","v":4.1666666666666664E-2},{"$f":"IF(AK8=0,0,(AK8*((LOG(AK8))/LOG(2))))","v":-0.19104010419671485},null,{"$f":"N8","v":112},{"$f":"COUNTIF(L102:L125,AN8)","v":0},{"$f":"AO8/(AQ4-AO11)","v":0},{"$f":"IF(AP8=0,0,(AP8*((LOG(AP8))/LOG(2))))","v":0},null,{"$f":"N8","v":112},{"$f":"COUNTIF(L126:L149,AS8)","v":1},{"$f":"AT8/(AV4-AT11)","v":4.3478260869565216E-2},{"$f":"IF(AU8=0,0,(AU8*((LOG(AU8))/LOG(2))))","v":-0.19667660678508753}]
[12,273,24,288,24,299,null,null,null,null,0,122,null,121,{"$f":"COUNTIF($L$7:$L$500,N9)","v":0},{"$f":"O9/$Q$4","v":0},{"$f":"IF(P9=0,0,(P9*((LOG(P9))/LOG(2))))","v":0},null,null,{"$f":"N9","v":121},{"$f":"COUNTIF(L7:L30,T9)","v":0},{"$f":"U9/(W4-U11)","v":0},{"$f":"IF(V9=0,0,(V9*((LOG(V9))/LOG(2))))","v":0},null,{"$f":"N9","v":121},{"$f":"COUNTIF(L31:L54,Y9)","v":0},{"$f":"Z9/(AB4-Z11)","v":0},{"$f":"IF(AA9=0,0,(AA9*((LOG(AA9))/LOG(2))))","v":0},null,{"$f":"N9","v":121},{"$f":"COUNTIF(L55:L77,AD9)","v":0},{"$f":"AE9/(AG4-AE11)","v":0},{"$f":"IF(AF9=0,0,(AF9*((LOG(AF9))/LOG(2))))","v":0},null,{"$f":"N9","v":121},{"$f":"COUNTIF(L78:L101,AI9)","v":0},{"$f":"AJ9/(AL4-AJ11)","v":0},{"$f":"IF(AK9=0,0,(AK9*((LOG(AK9))/LOG(2))))","v":0},null,{"$f":"N9","v":121},{"$f":"COUNTIF(L102:L125,AN9)","v":0},{"$f":"AO9/(AQ4-AO11)","v":0},{"$f":"IF(AP9=0,0,(AP9*((LOG(AP9))/LOG(2))))","v":0},null,{"$f":"N9","v":121},{"$f":"COUNTIF(L126:L149,AS9)","v":0},{"$f":"AT9/(AV4-AT11)","v":0},{"$f":"IF(AU9=0,0,(AU9*((LOG(AU9))/LOG(2))))","v":0}]
[12,400,24,413,24,419,null,null,null,null,0,122,null,122,{"$f":"COUNTIF($L$7:$L$500,N10)","v":56},{"$f":"O10/$Q$4","v":0.39436619718309857},{"$f":"IF(P10=0,0,(P10*((LOG(P10))/LOG(2))))","v":-0.52939410603546733},null,null,{"$f":"N10","v":122},{"$f":"COUNTIF(L7:L30,T10)","v":14},{"$f":"U10/(W4-U11)","v":0.58333333333333337},{"$f":"IF(V10=0,0,(V10*((LOG(V10))/LOG(2))))","v":-0.45360442088707198},null,{"$f":"N10","v":122},{"$f":"COUNTIF(L31:L54,Y10)","v":8},{"$f":"Z10/(AB4-Z11)","v":0.33333333333333331},{"$f":"IF(AA10=0,0,(AA10*((LOG(AA10))/LOG(2))))","v":-0.52832083357371862},null,{"$f":"N10","v":122},{"$f":"COUNTIF(L55:L77,AD10)","v":8},{"$f":"AE10/(AG4-AE11)","v":0.34782608695652173},{"$f":"IF(AF10=0,0,(AF10*((LOG(AF10))/LOG(2))))","v":-0.52993459341113491},null,{"$f":"N10","v":122},{"$f":"COUNTIF(L78:L101,AI10)","v":8},{"$f":"AJ10/(AL4-AJ11)","v":0.33333333333333331},{"$f":"IF(AK10=0,0,(AK10*((LOG(AK10))/LOG(2))))","v":-0.52832083357371862},null,{"$f":"N10","v":122},{"$f":"COUNTIF(L102:L125,AN10)","v":5},{"$f":"AO10/(AQ4-AO11)","v":0.20833333333333334},{"$f":"IF(AP10=0,0,(AP10*((LOG(AP10))/LOG(2))))","v":-0.47146550121537367},null,{"$f":"N10","v":122},{"$f":"COUNTIF(L126:L149,AS10)","v":13},{"$f":"AT10/(AV4-AT11)","v":0.56521739130434778},{"$f":"IF(AU10=0,0,(AU10*((LOG(AU10))/LOG(2))))","v":-0.46524300403943353}]
[12,515,24,529,24,542,null,null,null,null,0,122,null,211,{"$f":"COUNTIF($L$7:$L$500,N11)","v":0},{"$f":"O11/$Q$4","v":0},{"$f":"IF(P11=0,0,(P11*((LOG(P11))/LOG(2))))","v":0},null,null,{"$f":"N11","v":211},{"$f":"COUNTIF(L7:L30,T11)","v":0},null,null,null,{"$f":"N11","v":211},{"$f":"COUNTIF(L31:L54,Y11)","v":0},null,null,null,{"$f":"N11","v":211},{"$f":"COUNTIF(L55:L77,AD11)","v":0},null,null,null,{"$f":"N11","v":211},{"$f":"COUNTIF(L78:L101,AI11)","v":0},null,null,null,{"$f":"N11","v":211},{"$f":"COUNTIF(L102:L125,AN11)","v":0},null,null,null,{"$f":"N11","v":211},{"$f":"COUNTIF(L126:L149,AS11)","v":0}]
[12,641,24,657,24,662,null,null,null,null,0,122,null,212,{"$f":"COUNTIF($L$7:$L$500,N12)","v":0},{"$f":"O12/$Q$4","v":0},{"$f":"IF(P12=0,0,(P12*((LOG(P12))/LOG(2))))","v":0},null,null,{"$f":"N12","v":212},{"$f":"COUNTIF(L7:L30,T12)","v":0},{"$f":"U12/(W4-U11)","v":0},{"$f":"IF(V12=0,0,(V12*((LOG(V12))/LOG(2))))","v":0},null,{"$f":"N12","v":212},{"$f":"COUNTIF(L31:L54,Y12)","v":0},{"$f":"Z12/(AB4-Z11)","v":0},{"$f":"IF(AA12=0,0,(AA12*((LOG(AA12))/LOG(2))))","v":0},null,{"$f":"N12","v":212},{"$f":"COUNTIF(L55:L77,AD12)","v":0},{"$f":"AE12/(AG4-AE11)","v":0},{"$f":"IF(AF12=0,0,(AF12*((LOG(AF12))/LOG(2))))","v":0},null,{"$f":"N12","v":212},{"$f":"COUNTIF(L78:L101,AI12)","v":0},{"$f":"AJ12/(AL4-AJ11)","v":0},{"$f":"IF(AK12=0,0,(AK12*((LOG(AK12))/LOG(2))))","v":0},null,{"$f":"N12","v":212},{"$f":"COUNTIF(L102:L125,AN12)","v":0},{"$f":"AO12/(AQ4-AO11)","v":0},{"$f":"IF(AP12=0,0,(AP12*((LOG(AP12))/LOG(2))))","v":0},null,{"$f":"N12","v":212},{"$f":"COUNTIF(L126:L149,AS12)","v":0},{"$f":"AT12/(AV4-AT11)","v":0},{"$f":"IF(AU12=0,0,(AU12*((LOG(AU12))/LOG(2))))","v":0}]
[21,770,22,775,24,782,null,null,null,null,0,222,null,221,{"$f":"COUNTIF($L$7:$L$500,N13)","v":0},{"$f":"O13/$Q$4","v":0},{"$f":"IF(P13=0,0,(P13*((LOG(P13))/LOG(2))))","v":0},null,null,{"$f":"N13","v":221},{"$f":"COUNTIF(L7:L30,T13)","v":0},{"$f":"U13/(W4-U11)","v":0},{"$f":"IF(V13=0,0,(V13*((LOG(V13))/LOG(2))))","v":0},null,{"$f":"N13","v":221},{"$f":"COUNTIF(L31:L54,Y13)","v":0},{"$f":"Z13/(AB4-Z11)","v":0},{"$f":"IF(AA13=0,0,(AA13*((LOG(AA13))/LOG(2))))","v":0},null,{"$f":"N13","v":221},{"$f":"COUNTIF(L55:L77,AD13)","v":0},{"$f":"AE13/(AG4-AE11)","v":0},{"$f":"IF(AF13=0,0,(AF13*((LOG(AF13))/LOG(2))))","v":0},null,{"$f":"N13","v":221},{"$f":"COUNTIF(L78:L101,AI13)","v":0},{"$f":"AJ13/(AL4-AJ11)","v":0},{"$f":"IF(AK13=0,0,(AK13*((LOG(AK13))/LOG(2))))","v":0},null,{"$f":"N13","v":221},{"$f":"COUNTIF(L102:L125,AN13)","v":0},{"$f":"AO13/(AQ4-AO11)","v":0},{"$f":"IF(AP13=0,0,(AP13*((LOG(AP13))/LOG(2))))","v":0},null,{"$f":"N13","v":221},{"$f":"COUNTIF(L126:L149,AS13)","v":0},{"$f":"AT13/(AV4-AT11)","v":0},{"$f":"IF(AU13=0,0,(AU13*((LOG(AU13))/LOG(2))))","v":0}]
[21,904,22,909,24,916,null,null,null,null,0,222,null,222,{"$f":"COUNTIF($L$7:$L$500,N14)","v":81},{"$f":"O14/$Q$4","v":0.57042253521126762},{"$f":"IF(P14=0,0,(P14*((LOG(P14))/LOG(2))))","v":-0.46198356652270872},null,null,{"$f":"N14","v":222},{"$f":"COUNTIF(L7:L30,T14)","v":9},{"$f":"U14/(W4-U11)","v":0.375},{"$f":"IF(V14=0,0,(V14*((LOG(V14))/LOG(2))))","v":-0.53063906222956647},null,{"$f":"N14","v":222},{"$f":"COUNTIF(L31:L54,Y14)","v":15},{"$f":"Z14/(AB4-Z11)","v":0.625},{"$f":"IF(AA14=0,0,(AA14*((LOG(AA14))/LOG(2))))","v":-0.42379494069539858},null,{"$f":"N14","v":222},{"$f":"COUNTIF(L55:L77,AD14)","v":14},{"$f":"AE14/(AG4-AE11)","v":0.60869565217391308},{"$f":"IF(AF14=0,0,(AF14*((LOG(AF14))/LOG(2))))","v":-0.43595210765181397},null,{"$f":"N14","v":222},{"$f":"COUNTIF(L78:L101,AI14)","v":15},{"$f":"AJ14/(AL4-AJ11)","v":0.625},{"$f":"IF(AK14=0,0,(AK14*((LOG(AK14))/LOG(2))))","v":-0.42379494069539858},null,{"$f":"N14","v":222},{"$f":"COUNTIF(L102:L125,AN14)","v":19},{"$f":"AO14/(AQ4-AO11)","v":0.79166666666666663},{"$f":"IF(AP14=0,0,(AP14*((LOG(AP14))/LOG(2))))","v":-0.26681936492807684},null,{"$f":"N14","v":222},{"$f":"COUNTIF(L126:L149,AS14)","v":9},{"$f":"AT14/(AV4-AT11)","v":0.39130434782608697},{"$f":"IF(AU14=0,0,(AU14*((LOG(AU14))/LOG(2))))","v":-0.5296840257187958}]
[21,1030,22,1034,24,1041,null,null,null,null,0,222,null,null,null,{"$f":"SUM(P7:P14)","v":1},{"$f":"-SUM(Q7:Q14)","v":1.1613713001855466},null,null,null,null,{"$f":"SUM(V7:V14)","v":1},{"$f":"-SUM(W7:W14)","v":1.1752835873133534},null,null,null,{"$f":"SUM(AA7:AA14)","v":1},{"$f":"-SUM(AB7:AB14)","v":1.1431558784658322},null,null,null,{"$f":"SUM(AF7:AF14)","v":1},{"$f":"-SUM(AG7:AG14)","v":1.1625633078480364},null,null,null,{"$f":"SUM(AK7:AK14)","v":1},{"$f":"-SUM(AL7:AL14)","v":1.1431558784658322},null,null,null,{"$f":"SUM(AP7:AP14)","v":1},{"$f":"-SUM(AQ7:AQ14)","v":0.73828486614345046},null,null,null,{"$f":"SUM(AU7:AU14)","v":1},{"$f":"-SUM(AV7:AV14)","v":1.1916036365433169}]
[12,1164,24,1172,24,1183,null,null,null,null,0,122,null,null,null,"U=",{"$f":"Q15/(LOG(Q4)/LOG(2))","v":0.1624352974690948},null,null,null,null,"U1=",{"$f":"W15/(LOG(W4)/LOG(2))","v":0.25633439469319458},null,null,null,"U2=",{"$f":"AB15/(LOG(AB4)/LOG(2))","v":0.24932720350188869},null,null,null,"U3=",{"$f":"AG15/(LOG(AG4)/LOG(2))","v":0.25700174312664681},null,null,null,"U4=",{"$f":"AL15/(LOG(AL4)/LOG(2))","v":0.24932720350188869},null,null,null,"U5=",{"$f":"AQ15/(LOG(AQ4)/LOG(2))","v":0.1610230980138502},null,null,null,"U6=",{"$f":"AV15/(LOG(AV4)/LOG(2))","v":0.26342153553302594}]
[12,1312,24,1331,24,1339,null,null,null,null,0,122]
[21,1447,22,1452,24,1460,null,null,null,null,0,222]
[12,1567,24,1582,24,1589,null,null,null,null,0,122,null,"Total Target Seq"]
[12,1693,24,1709,24,1714,null,null,null,null,0,122,null,{"$f":"COUNTIF(L7:L149,G3)","v":0},null,24,24,23,24,24,24]
[21,1816,22,1821,24,1826,null,null,null,null,0,222,null,null,null,"% of reinforcement given in 6 equal intervals based on number of trials "]
[12,1922,24,1931,24,1941,null,null,null,null,0,122,null,null,null,"%_1","%_2","%_3","%_4","%_5","%_6"]
[12,2041,24,2055,24,2062,null,null,null,null,0,122,null,null,"target sequence",{"$f":"$G$3","v":211},{"$f":"$G$3","v":211},{"$f":"$G$3","v":211},{"$f":"$G$3","v":211},{"$f":"$G$3","v":211},{"$f":"$G$3","v":211}]
[21,2168,22,2179,24,2186,null,null,null,null,0,222,null,null,"total reinforcement",{"$f":"U11","v":0},{"$f":"Z11","v":0},{"$f":"AE11","v":0},{"$f":"AJ11","v":0},{"$f":"AO11","v":0},{"$f":"AT11","v":0}]
[21,2299,22,2311,24,2332,null,null,null,null,0,222,null,null,"% target"]
[12,2428,24,2437,24,2448,null,null,null,null,0,122,null,null,"CCRF"]
[21,2558,22,2565,24,2572,null,null,null,null,0,222,null,null,"% CCRf"]
[12,2673,24,2681,24,2699,null,null,null,null,0,122,null,null,"average response rate",{"$f":"F30/P20","v":124.16666666666667},{"$f":"(F54-F30)/Q20","v":167.58333333333334},{"$f":"(F77-F54)/R20","v":190.39130434782609},{"$f":"(F101-F77)/S20","v":166.25},{"$f":"(F125-F101)/T20","v":186.58333333333334},{"$f":"(F149-F125)/U20","v":-827.04166666666663}]
[21,2816,22,2829,24,2866,null,null,null,null,0,222]
[12,2967,24,2976,24,2980,null,null,null,null,0,122]
[21,3095,22,3102,24,3118,null,null,null,null,0,222]
[21,3252,22,3273,24,3287,null,null,null,null,0,222]
[12,3412,24,3422,24,3427,null,null,null,null,0,122]
[21,3537,22,3542,24,3555,null,null,null,null,0,222]
[21,3677,22,3682,24,3694,null,null,null,null,0,222]
[21,3818,22,3847,24,3860,null,null,null,null,0,222]
[21,3975,22,3987,24,3995,null,null,null,null,0,222]
[12,4101,24,4117,24,4122,null,null,null,null,0,122]
[12,4247,24,4257,24,4264,null,null,null,null,0,122]
[12,4364,24,4374,24,4380,null,null,null,null,0,122]
[12,4509,24,4525,24,4529,null,null,null,null,0,122]
[12,4645,24,4660,24,4665,null,null,null,null,0,122]
[21,4806,22,4816,24,4912,null,null,null,null,0,222]
[12,5008,13,5018,24,5039,null,null,null,null,0,112]
[12,5149,24,5182,24,5191,null,null,null,null,0,122]
[21,5308,22,5331,24,5402,null,null,null,null,0,222]
[12,5518,24,5539,24,5562,null,null,null,null,0,122]
[21,5705,22,5713,24,5762,null,null,null,null,0,222]
[21,5895,22,5912,24,5933,null,null,null,null,0,222]
[21,6106,22,6126,24,6280,null,null,null,null,0,222]
[21,6410,22,6418,24,6436,null,null,null,null,0,222]
[21,6561,22,6565,24,6575,null,null,null,null,0,222]
[21,6688,22,6693,24,6753,null,null,null,null,0,222]
[21,6946,22,6990,24,7002,null,null,null,null,0,222]
[12,7116,24,7147,24,7172,null,null,null,null,0,122]
[21,7301,22,7306,24,7342,null,null,null,null,0,222]
[21,7483,22,7521,24,7601,null,null,null,null,0,222]
[21,7784,22,7799,24,7886,null,null,null,null,0,222]
[21,8030,22,8038,24,8051,null,null,null,null,0,222]
[21,8193,22,8198,24,8211,null,null,null,null,0,222]
[12,8359,24,8376,24,8446,null,null,null,null,0,122]
[21,8600,22,8621,24,8670,null,null,null,null,0,222]
[21,8853,22,8873,24,8893,null,null,null,null,0,222]
[21,9113,22,9133,24,9148,null,null,null,null,0,222]
[12,9259,24,9291,24,9308,null,null,null,null,0,122]
[21,9439,22,9451,24,9463,null,null,null,null,0,222]
[21,9621,22,9626,24,9635,null,null,null,null,0,222]
[21,9782,22,9799,24,9845,null,null,null,null,0,222]
[21,9986,22,10010,24,10019,null,null,null,null,0,222]
[21,10161,22,10174,24,10200,null,null,null,null,0,222]
[21,10332,22,10350,24,10379,null,null,null,null,0,222]
[12,10494,24,10525,24,10577,null,null,null,null,0,122]
[12,10720,24,10766,24,10830,null,null,null,null,0,122]
[12,10938,24,10954,24,10972,null,null,null,null,0,122]
[12,11070,13,11079,24,11091,null,null,null,null,0,112]
[12,11212,24,11234,24,11244,null,null,null,null,0,122]
[12,11353,24,11369,24,11381,null,null,null,null,0,122]
[12,11489,24,11499,24,11507,null,null,null,null,0,122]
[21,11625,22,11631,24,11682,null,null,null,null,0,222]
[21,11835,22,11850,24,11867,null,null,null,null,0,222]
[12,11972,13,11984,24,11998,null,null,null,null,0,112]
[12,12102,24,12182,24,12193,null,null,null,null,0,122]
[21,12350,22,12357,24,12372,null,null,null,null,0,222]
[21,12511,22,12522,24,12560,null,null,null,null,0,222]
[12,12670,24,12735,24,12752,null,null,null,null,0,122]
[21,12917,22,12922,24,12929,null,null,null,null,0,222]
[12,13039,24,13052,24,13068,null,null,null,null,0,122]
[12,13177,24,13190,24,13197,null,null,null,null,0,122]
[21,13328,22,13391,24,13403,null,null,null,null,0,222]
[12,13502,24,13515,24,13526,null,null,null,null,0,122]
[21,13665,22,13673,24,13680,null,null,null,null,0,222]
[21,13828,22,13836,24,13844,null,null,null,null,0,222]
[12,13966,24,14000,24,14019,null,null,null,null,0,122]
[21,14145,22,14153,24,14160,null,null,null,null,0,222]
[21,14275,22,14279,24,14315,null,null,null,null,0,222]
[21,14453,22,14490,24,14522,null,null,null,null,0,222]
[21,14625,22,14634,24,14658,null,null,null,null,0,222]
[21,14769,22,14819,24,14830,null,null,null,null,0,222]
[12,14926,24,14936,24,14943,null,null,null,null,0,122]
[21,15065,22,15078,24,15219,null,null,null,null,0,222]
[21,15349,22,15358,24,15371,null,null,null,null,0,222]
[21,15522,22,15570,24,15598,null,null,null,null,0,222]
[21,15728,22,15746,24,15768,null,null,null,null,0,222]
[21,15899,22,15919,24,15926,null,null,null,null,0,222]
[21,16040,22,16054,24,16069,null,null,null,null,0,222]
[21,16195,22,16201,24,16242,null,null,null,null,0,222]
[21,16363,22,16385,24,16407,null,null,null,null,0,222]
[21,16587,22,16617,24,16631,null,null,null,null,0,222]
[21,16809,22,16826,24,16894,null,null,null,null,0,222]
[21,17040,22,17046,24,17059,null,null,null,null,0,222]
[12,17175,24,17186,24,17204,null,null,null,null,0,122]
[12,17315,24,17347,24,17380,null,null,null,null,0,122]
[21,17523,22,17556,24,17573,null,null,null,null,0,222]
[21,17712,22,17745,24,17759,null,null,null,null,0,222]
[21,17913,22,17925,24,17952,null,null,null,null,0,222]
[21,18143,22,18156,24,18178,null,null,null,null,0,222]
[21,18360,22,18373,24,18385,null,null,null,null,0,222]
[21,18520,22,18567,24,18583,null,null,null,null,0,222]
[21,18711,22,18744,24,18763,null,null,null,null,0,222]
[12,18875,24,18914,24,18923,null,null,null,null,0,122]
[21,19042,22,19050,24,19069,null,null,null,null,0,222]
[12,19208,24,19236,24,19244,null,null,null,null,0,122]
[21,19395,22,19440,24,19456,null,null,null,null,0,222]
[21,19624,22,19638,24,19716,null,null,null,null,0,222]
[12,19822,24,19835,24,19849,null,null,null,null,0,122]
[21,19984,22,19992,24,20006,null,null,null,null,0,222]
[21,20153,22,20172,24,20191,null,null,null,null,0,222]
[21,20324,22,20376,24,20384,null,null,null,null,0,222]
[12,20499,24,20545,24,20613,null,null,null,null,0,122]
[21,20757,22,20775,24,20801,null,null,null,null,0,222]
[21,20965,22,20977,24,20985,null,null,null,null,0,222]
[12,21110,24,21129,24,21145,null,null,null,null,0,122]
[12,21307,24,21325,24,21336,null,null,null,null,0,122]
[12,21445,24,21476,24,21510,null,null,null,null,0,122]
[21,21630,22,21669,24,21691,null,null,null,null,0,222]
[12,21802,24,21835,24,21843,null,null,null,null,0,122]
[12,21947,24,21965,24,21984,null,null,null,null,0,122]
[21,22118,22,22147,24,22189,null,null,null,null,0,222]
[12,22294,24,22322,24,22341,null,null,null,null,0,122]
[21,22495,22,22510,24,22524,null,null,null,null,0,222]
[12,22625,24,22646,24,22660,null,null,null,null,0,122]
[12,22824,24,22839,24,22855,null,null,null,null,0,122]
[12,22967,13,22977,24,22999,null,null,null,null,0,112]
[12,23137,24,23154,24,23192,null,null,null,null,0,122]
[12,23293,24,23310,24,23333,null,null,null,null,0,122]
[12,23449,24,23493,24,23514,null,null,null,null,0,122]
[21,23654,22,23691,24,23716,null,null,null,null,0,222]
[12,23847,24,23862,24,23872,null,null,null,null,0,122]
[12,23986,null,null,null,null,null,null,null,null,null,1]

{"sheet":"!M910820.101","index":14,"n_rows":186,"n_cols":48,"rows_kept":186,"cut":false,"hidden":false,"merged":[[4,39,4,42],[5,39,5,40],[4,44,4,47],[5,44,5,45],[4,24,4,27],[5,24,5,25],[4,29,4,32],[5,29,5,30],[4,34,4,37],[5,34,5,35],[1,1,1,2],[5,13,5,14],[18,13,18,14],[19,13,19,14],[4,19,4,22],[5,19,5,20]]}
["Report for:!M910820.101"]
["Date:","<date>"]
["Hen:","<hen>",null,null,null,"Correct Sequence",{"$f":"Start!J2","v":211},null,null,null,null,null,null,null,null,"Total Sequences in Data",{"$f":"4994-COUNTBLANK(L7:L5000)","v":180},null,null,null,null,"Total Sequences in Block Data",{"$f":"COUNTA(L7:L36)","v":30},null,null,null,"Total Sequences in Block Data",{"$f":"COUNTA(L37:L66)","v":30},null,null,null,"Total Sequences in Block Data",{"$f":"COUNTA(L67:L96)","v":30},null,null,null,"Total Sequences in Block Data",{"$f":"COUNTA(L97:L126)","v":30},null,null,null,"Total Sequences in Block Data",{"$f":"COUNTA(L127:L156)","v":30},null,null,null,"Total Sequences in Block Data",{"$f":"COUNTA(L157:L186)","v":30}]
[null,null,null,null,null,null,null,null,null,null,null,null,null,null,null,"Total Sequences in Summary",{"$f":"SUM(O7:O14)","v":180},null,null,null,null,"Total Sequences in Block Summary",{"$f":"SUM(U7:U14)","v":30},null,null,null,"Total Sequences in Block Summary",{"$f":"SUM(Z7:Z14)","v":30},null,null,null,"Total Sequences in Block Summary",{"$f":"SUM(AE7:AE14)","v":30},null,null,null,"Total Sequences in Block Summary",{"$f":"SUM(AJ7:AJ14)","v":30},null,null,null,"Total Sequences in Block Summary",{"$f":"SUM(AO7:AO14)","v":30},null,null,null,"Total Sequences in Block Summary",{"$f":"SUM(AT7:AT14)","v":30}]
[null,null,null,null,null,null,null,null,null,null,null,null,null,null,null,null,null,null,null,"Block 1",null,null,null,null,"Block 2",null,null,null,null,"Block 3",null,null,null,null,"Block 4",null,null,null,null,"Block 5",null,null,null,null,"Block 6"]
["Sequence\nComponent\n1","Time\n1","Sequence\nComponent\n2","Time\n2","Sequence\nComponent\n3","Time\n3","Sequence\nComponent\n4","Time\n4","Sequence\nComponent\n5","Time\n5","Correct?\n0=No 1=Yes","Sequence",null,"Frequency",null,"Relative Frequency","Variability",null,null,"Frequency",null,"Relative Frequency","Variability",null,"Frequency",null,"Relative Frequency","Variability",null,"Frequency",null,"Relative Frequency","Variability",null,"Frequency",null,"Relative Frequency","Variability",null,"Frequency",null,"Relative Frequency","Variability",null,"Frequency",null,"Relative Frequency","Variability"]
[12,15,24,32,24,41,null,null,null,null,0,122,null,111,{"$f":"COUNTIF($L$7:$L$500,N7)","v":1},{"$f":"O7/$Q$4","v":5.5555555555555558E-3},{"$f":"IF(P7=0,0,(P7*((LOG(P7))/LOG(2))))","v":-4.1621406090720417E-2},null,null,{"$f":"N7","v":111},{"$f":"COUNTIF(L7:L36,T7)","v":0},{"$f":"U7/(W4-U11)","v":0},{"$f":"IF(V7=0,0,(V7*((LOG(V7))/LOG(2))))","v":0},null,{"$f":"N7","v":111},{"$f":"COUNTIF(L37:L66,Y7)","v":1},{"$f":"Z7/(AB4-Z11)","v":3.3333333333333333E-2},{"$f":"IF(AA7=0,0,(AA7*((LOG(AA7))/LOG(2))))","v":-0.16356301985361729},null,{"$f":"N7","v":111},{"$f":"COUNTIF(L67:L96,AD7)","v":0},{"$f":"AE7/(AG4-AE11)","v":0},{"$f":"IF(AF7=0,0,(AF7*((LOG(AF7))/LOG(2))))","v":0},null,{"$f":"N7","v":111},{"$f":"COUNTIF(L97:L126,AI7)","v":0},{"$f":"AJ7/(AL4-AJ11)","v":0},{"$f":"IF(AK7=0,0,(AK7*((LOG(AK7))/LOG(2))))","v":0},null,{"$f":"N7","v":111},{"$f":"COUNTIF(L127:L156,AN7)","v":0},{"$f":"AO7/(AQ4-AO11)","v":0},{"$f":"IF(AP7=0,0,(AP7*((LOG(AP7))/LOG(2))))","v":0},null,{"$f":"N7","v":111},{"$f":"COUNTIF(L157:L186,AS7)","v":0},{"$f":"AT7/(AV4-AT11)","v":0},{"$f":"IF(AU7=0,0,(AU7*((LOG(AU7))/LOG(2))))","v":0}]
[12,147,24,161,24,167,null,null,null,null,0,122,null,112,{"$f":"COUNTIF($L$7:$L$500,N8)","v":16},{"$f":"O8/$Q$4","v":8.8888888888888892E-2},{"$f":"IF(P8=0,0,(P8*((LOG(P8))/LOG(2))))","v":-0.31038694189597105},null,null,{"$f":"N8","v":112},{"$f":"COUNTIF(L7:L36,T8)","v":2},{"$f":"U8/(W4-U11)","v":6.6666666666666666E-2},{"$f":"IF(V8=0,0,(V8*((LOG(V8))/LOG(2))))","v":-0.26045937304056793},null,{"$f":"N8","v":112},{"$f":"COUNTIF(L37:L66,Y8)","v":6},{"$f":"Z8/(AB4-Z11)","v":0.2},{"$f":"IF(AA8=0,0,(AA8*((LOG(AA8))/LOG(2))))","v":-0.46438561897747244},null,{"$f":"N8","v":112},{"$f":"COUNTIF(L67:L96,AD8)","v":5},{"$f":"AE8/(AG4-AE11)","v":0.16666666666666666},{"$f":"IF(AF8=0,0,(AF8*((LOG(AF8))/LOG(2))))","v":-0.43082708345352599},null,{"$f":"N8","v":112},{"$f":"COUNTIF(L97:L126,AI8)","v":2},{"$f":"AJ8/(AL4-AJ11)","v":6.6666666666666666E-2},{"$f":"IF(AK8=0,0,(AK8*((LOG(AK8))/LOG(2))))","v":-0.26045937304056793},null,{"$f":"N8","v":112},{"$f":"COUNTIF(L127:L156,AN8)","v":1},{"$f":"AO8/(AQ4-AO11)","v":3.3333333333333333E-2},{"$f":"IF(AP8=0,0,(AP8*((LOG(AP8))/LOG(2))))","v":-0.16356301985361729},null,{"$f":"N8","v":112},{"$f":"COUNTIF(L157:L186,AS8)","v":0},{"$f":"AT8/(AV4-AT11)","v":0},{"$f":"IF(AU8=0,0,(AU8*((LOG(AU8))/LOG(2))))","v":0}]
[12,269,24,282,24,287,null,null,null,null,0,122,null,121,{"$f":"COUNTIF($L$7:$L$500,N9)","v":0},{"$f":"O9/$Q$4","v":0},{"$f":"IF(P9=0,0,(P9*((LOG(P9))/LOG(2))))","v":0},null,null,{"$f":"N9","v":121},{"$f":"COUNTIF(L7:L36,T9)","v":0},{"$f":"U9/(W4-U11)","v":0},{"$f":"IF(V9=0,0,(V9*((LOG(V9))/LOG(2))))","v":0},null,{"$f":"N9","v":121},{"$f":"COUNTIF(L37:L66,Y9)","v":0},{"$f":"Z9/(AB4-Z11)","v":0},{"$f":"IF(AA9=0,0,(AA9*((LOG(AA9))/LOG(2))))","v":0},null,{"$f":"N9","v":121},{"$f":"COUNTIF(L67:L96,AD9)","v":0},{"$f":"AE9/(AG4-AE11)","v":0},{"$f":"IF(AF9=0,0,(AF9*((LOG(AF9))/LOG(2))))","v":0},null,{"$f":"N9","v":121},{"$f":"COUNTIF(L97:L126,AI9)","v":0},{"$f":"AJ9/(AL4-AJ11)","v":0},{"$f":"IF(AK9=0,0,(AK9*((LOG(AK9))/LOG(2))))","v":0},null,{"$f":"N9","v":121},{"$f":"COUNTIF(L127:L156,AN9)","v":0},{"$f":"AO9/(AQ4-AO11)","v":0},{"$f":"IF(AP9=0,0,(AP9*((LOG(AP9))/LOG(2))))","v":0},null,{"$f":"N9","v":121},{"$f":"COUNTIF(L157:L186,AS9)","v":0},{"$f":"AT9/(AV4-AT11)","v":0},{"$f":"IF(AU9=0,0,(AU9*((LOG(AU9))/LOG(2))))","v":0}]
[12,389,13,401,24,410,null,null,null,null,0,112,null,122,{"$f":"COUNTIF($L$7:$L$500,N10)","v":103},{"$f":"O10/$Q$4","v":0.57222222222222219},{"$f":"IF(P10=0,0,(P10*((LOG(P10))/LOG(2))))","v":-0.4608406367893611},null,null,{"$f":"N10","v":122},{"$f":"COUNTIF(L7:L36,T10)","v":23},{"$f":"U10/(W4-U11)","v":0.76666666666666672},{"$f":"IF(V10=0,0,(V10*((LOG(V10))/LOG(2))))","v":-0.2938852903228209},null,{"$f":"N10","v":122},{"$f":"COUNTIF(L37:L66,Y10)","v":17},{"$f":"Z10/(AB4-Z11)","v":0.56666666666666665},{"$f":"IF(AA10=0,0,(AA10*((LOG(AA10))/LOG(2))))","v":-0.46434239413630152},null,{"$f":"N10","v":122},{"$f":"COUNTIF(L67:L96,AD10)","v":18},{"$f":"AE10/(AG4-AE11)","v":0.6},{"$f":"IF(AF10=0,0,(AF10*((LOG(AF10))/LOG(2))))","v":-0.44217935649972373},null,{"$f":"N10","v":122},{"$f":"COUNTIF(L97:L126,AI10)","v":17},{"$f":"AJ10/(AL4-AJ11)","v":0.56666666666666665},{"$f":"IF(AK10=0,0,(AK10*((LOG(AK10))/LOG(2))))","v":-0.46434239413630152},null,{"$f":"N10","v":122},{"$f":"COUNTIF(L127:L156,AN10)","v":7},{"$f":"AO10/(AQ4-AO11)","v":0.23333333333333334},{"$f":"IF(AP10=0,0,(AP10*((LOG(AP10))/LOG(2))))","v":-0.48989165716187993},null,{"$f":"N10","v":122},{"$f":"COUNTIF(L157:L186,AS10)","v":21},{"$f":"AT10/(AV4-AT11)","v":0.7},{"$f":"IF(AU10=0,0,(AU10*((LOG(AU10))/LOG(2))))","v":-0.36020122098083079}]
[12,509,24,526,24,533,null,null,null,null,0,122,null,211,{"$f":"COUNTIF($L$7:$L$500,N11)","v":0},{"$f":"O11/$Q$4","v":0},{"$f":"IF(P11=0,0,(P11*((LOG(P11))/LOG(2))))","v":0},null,null,{"$f":"N11","v":211},{"$f":"COUNTIF(L7:L36,T11)","v":0},null,null,null,{"$f":"N11","v":211},{"$f":"COUNTIF(L37:L66,Y11)","v":0},null,null,null,{"$f":"N11","v":211},{"$f":"COUNTIF(L67:L96,AD11)","v":0},null,null,null,{"$f":"N11","v":211},{"$f":"COUNTIF(L97:L126,AI11)","v":0},null,null,null,{"$f":"N11","v":211},{"$f":"COUNTIF(L127:L156,AN11)","v":0},null,null,null,{"$f":"N11","v":211},{"$f":"COUNTIF(L157:L186,AS11)","v":0}]
[12,643,24,655,24,661,null,null,null,null,0,122,null,212,{"$f":"COUNTIF($L$7:$L$500,N12)","v":0},{"$f":"O12/$Q$4","v":0},{"$f":"IF(P12=0,0,(P12*((LOG(P12))/LOG(2))))","v":0},null,null,{"$f":"N12","v":212},{"$f":"COUNTIF(L7:L36,T12)","v":0},{"$f":"U12/(W4-U11)","v":0},{"$f":"IF(V12=0,0,(V12*((LOG(V12))/LOG(2))))","v":0},null,{"$f":"N12","v":212},{"$f":"COUNTIF(L37:L66,Y12)","v":0},{"$f":"Z12/(AB4-Z11)","v":0},{"$f":"IF(AA12=0,0,(AA12*((LOG(AA12))/LOG(2))))","v":0},null,{"$f":"N12","v":212},{"$f":"COUNTIF(L67:L96,AD12)","v":0},{"$f":"AE12/(AG4-AE11)","v":0},{"$f":"IF(AF12=0,0,(AF12*((LOG(AF12))/LOG(2))))","v":0},null,{"$f":"N12","v":212},{"$f":"COUNTIF(L97:L126,AI12)","v":0},{"$f":"AJ12/(AL4-AJ11)","v":0},{"$f":"IF(AK12=0,0,(AK12*((LOG(AK12))/LOG(2))))","v":0},null,{"$f":"N12","v":212},{"$f":"COUNTIF(L127:L156,AN12)","v":0},{"$f":"AO12/(AQ4-AO11)","v":0},{"$f":"IF(AP12=0,0,(AP12*((LOG(AP12))/LOG(2))))","v":0},null,{"$f":"N12","v":212},{"$f":"COUNTIF(L157:L186,AS12)","v":0},{"$f":"AT12/(AV4-AT11)","v":0},{"$f":"IF(AU12=0,0,(AU12*((LOG(AU12))/LOG(2))))","v":0}]
[12,758,24,774,24,783,null,null,null,null,0,122,null,221,{"$f":"COUNTIF($L$7:$L$500,N13)","v":0},{"$f":"O13/$Q$4","v":0},{"$f":"IF(P13=0,0,(P13*((LOG(P13))/LOG(2))))","v":0},null,null,{"$f":"N13","v":221},{"$f":"COUNTIF(L7:L36,T13)","v":0},{"$f":"U13/(W4-U11)","v":0},{"$f":"IF(V13=0,0,(V13*((LOG(V13))/LOG(2))))","v":0},null,{"$f":"N13","v":221},{"$f":"COUNTIF(L37:L66,Y13)","v":0},{"$f":"Z13/(AB4-Z11)","v":0},{"$f":"IF(AA13=0,0,(AA13*((LOG(AA13))/LOG(2))))","v":0},null,{"$f":"N13","v":221},{"$f":"COUNTIF(L67:L96,AD13)","v":0},{"$f":"AE13/(AG4-AE11)","v":0},{"$f":"IF(AF13=0,0,(AF13*((LOG(AF13))/LOG(2))))","v":0},null,{"$f":"N13","v":221},{"$f":"COUNTIF(L97:L126,AI13)","v":0},{"$f":"AJ13/(AL4-AJ11)","v":0},{"$f":"IF(AK13=0,0,(AK13*((LOG(AK13))/LOG(2))))","v":0},null,{"$f":"N13","v":221},{"$f":"COUNTIF(L127:L156,AN13)","v":0},{"$f":"AO13/(AQ4-AO11)","v":0},{"$f":"IF(AP13=0,0,(AP13*((LOG(AP13))/LOG(2))))","v":0},null,{"$f":"N13","v":221},{"$f":"COUNTIF(L157:L186,AS13)","v":0},{"$f":"AT13/(AV4-AT11)","v":0},{"$f":"IF(AU13=0,0,(AU13*((LOG(AU13))/LOG(2))))","v":0}]
[12,893,24,907,24,918,null,null,null,null,0,122,null,222,{"$f":"COUNTIF($L$7:$L$500,N14)","v":60},{"$f":"O14/$Q$4","v":0.33333333333333331},{"$f":"IF(P14=0,0,(P14*((LOG(P14))/LOG(2))))","v":-0.52832083357371862},null,null,{"$f":"N14","v":222},{"$f":"COUNTIF(L7:L36,T14)","v":5},{"$f":"U14/(W4-U11)","v":0.16666666666666666},{"$f":"IF(V14=0,0,(V14*((LOG(V14))/LOG(2))))","v":-0.43082708345352599},null,{"$f":"N14","v":222},{"$f":"COUNTIF(L37:L66,Y14)","v":6},{"$f":"Z14/(AB4-Z11)","v":0.2},{"$f":"IF(AA14=0,0,(AA14*((LOG(AA14))/LOG(2))))","v":-0.46438561897747244},null,{"$f":"N14","v":222},{"$f":"COUNTIF(L67:L96,AD14)","v":7},{"$f":"AE14/(AG4-AE11)","v":0.23333333333333334},{"$f":"IF(AF14=0,0,(AF14*((LOG(AF14))/LOG(2))))","v":-0.48989165716187993},null,{"$f":"N14","v":222},{"$f":"COUNTIF(L97:L126,AI14)","v":11},{"$f":"AJ14/(AL4-AJ11)","v":0.36666666666666664},{"$f":"IF(AK14=0,0,(AK14*((LOG(AK14))/LOG(2))))","v":-0.53073495822278116},null,{"$f":"N14","v":222},{"$f":"COUNTIF(L127:L156,AN14)","v":22},{"$f":"AO14/(AQ4-AO11)","v":0.73333333333333328},{"$f":"IF(AP14=0,0,(AP14*((LOG(AP14))/LOG(2))))","v":-0.32813658311222899},null,{"$f":"N14","v":222},{"$f":"COUNTIF(L157:L186,AS14)","v":9},{"$f":"AT14/(AV4-AT11)","v":0.3},{"$f":"IF(AU14=0,0,(AU14*((LOG(AU14))/LOG(2))))","v":-0.52108967824986185}]
[12,1036,24,1047,24,1053,null,null,null,null,0,122,null,null,null,{"$f":"SUM(P7:P14)","v":1},{"$f":"-SUM(Q7:Q14)","v":1.3411698183497711},null,null,null,null,{"$f":"SUM(V7:V14)","v":1},{"$f":"-SUM(W7:W14)","v":0.98517174681691477},null,null,null,{"$f":"SUM(AA7:AA14)","v":1},{"$f":"-SUM(AB7:AB14)","v":1.5566766519448638},null,null,null,{"$f":"SUM(AF7:AF14)","v":1},{"$f":"-SUM(AG7:AG14)","v":1.3628980971151297},null,null,null,{"$f":"SUM(AK7:AK14)","v":1},{"$f":"-SUM(AL7:AL14)","v":1.2555367253996506},null,null,null,{"$f":"SUM(AP7:AP14)","v":1},{"$f":"-SUM(AQ7:AQ14)","v":0.98159126012772613},null,null,null,{"$f":"SUM(AU7:AU14)","v":1},{"$f":"-SUM(AV7:AV14)","v":0.8812908992306927}]
[12,1152,24,1162,24,1168,null,null,null,null,0,122,null,null,null,"U=",{"$f":"Q15/(LOG(Q4)/LOG(2))","v":0.17901710045633731},null,null,null,null,"U1=",{"$f":"W15/(LOG(W4)/LOG(2))","v":0.20077312253478938},null,null,null,"U2=",{"$f":"AB15/(LOG(AB4)/LOG(2))","v":0.31724299158779501},null,null,null,"U3=",{"$f":"AG15/(LOG(AG4)/LOG(2))","v":0.27775188188113914},null,null,null,"U4=",{"$f":"AL15/(LOG(AL4)/LOG(2))","v":0.25587216607668173},null,null,null,"U5=",{"$f":"AQ15/(LOG(AQ4)/LOG(2))","v":0.20004343708135924},null,null,null,"U6=",{"$f":"AV15/(LOG(AV4)/LOG(2))","v":0.17960272030915356}]
[12,1278,24,1305,24,1314,null,null,null,null,0,122]
[12,1420,24,1438,24,1446,null,null,null,null,0,122]
[21,1561,22,1569,24,1582,null,null,null,null,0,222,null,"Total Target Seq"]
[12,1688,24,1703,24,1709,null,null,null,null,0,122,null,{"$f":"COUNTIF(L7:L186,G3)","v":0},null,30,30,30,30,30,30]
[12,1815,24,1828,24,1833,null,null,null,null,0,122,null,null,null,"% of reinforcement given in 6 equal intervals based on number of trials "]
[12,1954,24,1968,24,1976,null,null,null,null,0,122,null,null,null,"%_1","%_2","%_3","%_4","%_5","%_6"]
[21,2093,22,2098,24,2112,null,null,null,null,0,222,null,null,"target sequence",{"$f":"$G$3","v":211},{"$f":"$G$3","v":211},{"$f":"$G$3","v":211},{"$f":"$G$3","v":211},{"$f":"$G$3","v":211},{"$f":"$G$3","v":211}]
[12,2221,24,2241,24,2246,null,null,null,null,0,122,null,null,"total reinforcement",{"$f":"U11","v":0},{"$f":"Z11","v":0},{"$f":"AE11","v":0},{"$f":"AJ11","v":0},{"$f":"AO11","v":0},{"$f":"AT11","v":0}]
[21,2358,22,2362,24,2376,null,null,null,null,0,222,null,null,"% target"]
[12,2504,24,2518,24,2524,null,null,null,null,0,122,null,null,"CCRF"]
[21,2641,22,2646,24,2654,null,null,null,null,0,222,null,null,"% CCRf"]
[12,2758,24,2769,24,2774,null,null,null,null,0,122,null,null,"average response rate",{"$f":"F36/P20","v":126.13333333333334},{"$f":"(F66-F36)/Q20","v":129.93333333333334},{"$f":"(F96-F66)/R20","v":131.4},{"$f":"(F126-F96)/S20","v":138.9},{"$f":"(F156-F126)/T20","v":138.30000000000001},{"$f":"(F186-F156)/U20","v":134.63333333333333}]
[12,2875,24,2887,24,2892,null,null,null,null,0,122]
[12,3019,13,3035,24,3046,null,null,null,null,0,112]
[12,3142,24,3156,24,3163,null,null,null,null,0,122]
[21,3274,22,3282,24,3295,null,null,null,null,0,222]
[12,3396,24,3413,24,3421,null,null,null,null,0,122]
[12,3516,24,3529,24,3534,null,null,null,null,0,122]
[12,3630,24,3643,24,3649,null,null,null,null,0,122]
[12,3764,24,3776,24,3784,null,null,null,null,0,122]
[12,3885,24,3902,24,3910,null,null,null,null,0,122]
[12,4030,24,4047,24,4053,null,null,null,null,0,122]
[12,4157,24,4169,24,4175,null,null,null,null,0,122]
[12,4285,24,4298,24,4303,null,null,null,null,0,122]
[12,4403,13,4416,24,4433,null,null,null,null,0,112]
[12,4534,13,4544,24,4556,null,null,null,null,0,112]
[12,4655,13,4665,24,4687,null,null,null,null,0,112]
[12,4787,13,4792,13,4809,null,null,null,null,0,111]
[12,4909,13,4917,24,4934,null,null,null,null,0,112]
[21,5052,22,5060,24,5072,null,null,null,null,0,222]
[12,5173,24,5202,24,5210,null,null,null,null,0,122]
[12,5311,13,5319,24,5331,null,null,null,null,0,112]
[12,5431,24,5443,24,5451,null,null,null,null,0,122]
[12,5547,24,5565,24,5573,null,null,null,null,0,122]
[12,5680,13,5689,24,5711,null,null,null,null,0,112]
[21,5835,22,5861,24,5873,null,null,null,null,0,222]
[12,5974,24,6002,24,6011,null,null,null,null,0,122]
[12,6110,24,6128,24,6137,null,null,null,null,0,122]
[21,6248,22,6257,24,6280,null,null,null,null,0,222]
[12,6382,24,6394,24,6402,null,null,null,null,0,122]
[21,6522,22,6530,24,6544,null,null,null,null,0,222]
[12,6643,24,6655,24,6661,null,null,null,null,0,122]
[12,6765,24,6776,24,6783,null,null,null,null,0,122]
[21,6889,22,6895,24,6910,null,null,null,null,0,222]
[12,7008,24,7023,24,7027,null,null,null,null,0,122]
[12,7129,24,7145,24,7151,null,null,null,null,0,122]
[21,7264,22,7281,24,7295,null,null,null,null,0,222]
[12,7398,24,7416,24,7430,null,null,null,null,0,122]
[12,7530,24,7546,24,7552,null,null,null,null,0,122]
[12,7656,24,7674,24,7682,null,null,null,null,0,122]
[12,7779,13,7786,24,7800,null,null,null,null,0,112]
[12,7901,24,7914,24,7921,null,null,null,null,0,122]
[21,8038,22,8046,24,8072,null,null,null,null,0,222]
[12,8170,24,8180,24,8190,null,null,null,null,0,122]
[12,8290,24,8304,24,8309,null,null,null,null,0,122]
[12,8407,24,8420,24,8426,null,null,null,null,0,122]
[12,8527,13,8537,24,8578,null,null,null,null,0,112]
[12,8679,24,8689,24,8694,null,null,null,null,0,122]
[12,8796,24,8808,24,8827,null,null,null,null,0,122]
[12,8928,24,8938,24,8948,null,null,null,null,0,122]
[12,9045,24,9059,24,9064,null,null,null,null,0,122]
[12,9171,24,9182,24,9200,null,null,null,null,0,122]
[21,9329,22,9336,24,9346,null,null,null,null,0,222]
[12,9449,13,9457,24,9466,null,null,null,null,0,112]
[12,9572,24,9582,24,9604,null,null,null,null,0,122]
[12,9703,13,9713,24,9725,null,null,null,null,0,112]
[21,9837,22,9843,24,9850,null,null,null,null,0,222]
[12,9951,24,9969,24,9974,null,null,null,null,0,122]
[12,10075,24,10098,24,10104,null,null,null,null,0,122]
[12,10207,24,10220,24,10225,null,null,null,null,0,122]
[21,10349,22,10356,24,10375,null,null,null,null,0,222]
[12,10494,24,10505,24,10511,null,null,null,null,0,122]
[12,10623,24,10639,24,10644,null,null,null,null,0,122]
[21,10751,22,10756,24,10778,null,null,null,null,0,222]
[21,10891,22,10896,24,10904,null,null,null,null,0,222]
[12,11014,24,11027,24,11034,null,null,null,null,0,122]
[12,11144,24,11161,24,11173,null,null,null,null,0,122]
[12,11276,13,11285,24,11298,null,null,null,null,0,112]
[21,11432,22,11485,24,11496,null,null,null,null,0,222]
[12,11600,24,11617,24,11624,null,null,null,null,0,122]
[21,11733,22,11740,24,11758,null,null,null,null,0,222]
[21,11860,22,11866,24,11883,null,null,null,null,0,222]
[12,11983,24,11994,24,12006,null,null,null,null,0,122]
[21,12129,22,12136,24,12149,null,null,null,null,0,222]
[21,12306,22,12326,24,12341,null,null,null,null,0,222]
[12,12441,24,12467,24,12475,null,null,null,null,0,122]
[12,12577,13,12586,24,12600,null,null,null,null,0,112]
[12,12722,24,12735,24,12748,null,null,null,null,0,122]
[12,12847,24,12868,24,12874,null,null,null,null,0,122]
[12,12976,24,12986,24,12995,null,null,null,null,0,122]
[12,13107,24,13117,24,13122,null,null,null,null,0,122]
[12,13258,24,13271,24,13276,null,null,null,null,0,122]
[12,13380,24,13392,24,13398,null,null,null,null,0,122]
[12,13512,24,13525,24,13530,null,null,null,null,0,122]
[21,13655,22,13662,24,13671,null,null,null,null,0,222]
[12,13774,24,13792,24,13799,null,null,null,null,0,122]
[12,13900,13,13906,24,13920,null,null,null,null,0,112]
[12,14019,24,14032,24,14046,null,null,null,null,0,122]
[12,14168,24,14182,24,14190,null,null,null,null,0,122]
[21,14317,22,14322,24,14342,null,null,null,null,0,222]
[21,14477,22,14486,24,14493,null,null,null,null,0,222]
[12,14594,24,14611,24,14620,null,null,null,null,0,122]
[21,14756,22,14764,24,14773,null,null,null,null,0,222]
[12,14890,24,14903,24,14911,null,null,null,null,0,122]
[12,15009,24,15021,24,15029,null,null,null,null,0,122]
[21,15156,22,15164,24,15220,null,null,null,null,0,222]
[12,15319,24,15338,24,15343,null,null,null,null,0,122]
[21,15460,22,15467,24,15477,null,null,null,null,0,222]
[12,15595,24,15618,24,15632,null,null,null,null,0,122]
[21,15747,22,15759,24,15791,null,null,null,null,0,222]
[21,15905,22,15917,24,15931,null,null,null,null,0,222]
[21,16044,22,16054,24,16060,null,null,null,null,0,222]
[21,16171,22,16177,24,16189,null,null,null,null,0,222]
[21,16308,22,16313,24,16327,null,null,null,null,0,222]
[12,16451,24,16474,24,16500,null,null,null,null,0,122]
[21,16625,22,16637,24,16677,null,null,null,null,0,222]
[21,16783,22,16800,24,16818,null,null,null,null,0,222]
[12,16917,13,16927,24,16937,null,null,null,null,0,112]
[21,17047,22,17052,24,17060,null,null,null,null,0,222]
[21,17169,22,17175,24,17184,null,null,null,null,0,222]
[21,17292,22,17297,24,17316,null,null,null,null,0,222]
[12,17422,24,17442,24,17449,null,null,null,null,0,122]
[21,17573,22,17578,24,17591,null,null,null,null,0,222]
[21,17706,22,17716,24,17729,null,null,null,null,0,222]
[12,17839,24,17857,24,17863,null,null,null,null,0,122]
[21,17979,22,17996,24,18004,null,null,null,null,0,222]
[12,18107,24,18120,24,18129,null,null,null,null,0,122]
[21,18242,22,18250,24,18291,null,null,null,null,0,222]
[21,18403,22,18411,24,18424,null,null,null,null,0,222]
[21,18540,22,18545,24,18553,null,null,null,null,0,222]
[12,18662,24,18672,24,18687,null,null,null,null,0,122]
[21,18812,22,18820,24,18837,null,null,null,null,0,222]
[21,18947,22,18953,24,18972,null,null,null,null,0,222]
[12,19071,24,19097,24,19106,null,null,null,null,0,122]
[21,19227,22,19242,24,19253,null,null,null,null,0,222]
[21,19386,22,19393,24,19407,null,null,null,null,0,222]
[21,19526,22,19531,24,19540,null,null,null,null,0,222]
[21,19659,22,19668,24,19682,null,null,null,null,0,222]
[21,19802,22,19809,24,19817,null,null,null,null,0,222]
[12,19920,24,19932,24,19940,null,null,null,null,0,122]
[12,20051,24,20073,24,20082,null,null,null,null,0,122]
[12,20186,24,20209,24,20224,null,null,null,null,0,122]
[21,20340,22,20357,24,20373,null,null,null,null,0,222]
[12,20482,24,20496,24,20507,null,null,null,null,0,122]
[12,20610,24,20627,24,20639,null,null,null,null,0,122]
[21,20756,22,20775,24,20793,null,null,null,null,0,222]
[12,20898,24,20908,24,20913,null,null,null,null,0,122]
[21,21025,22,21037,24,21046,null,null,null,null,0,222]
[21,21164,22,21170,24,21184,null,null,null,null,0,222]
[12,21285,24,21299,24,21310,null,null,null,null,0,122]
[21,21422,22,21429,24,21436,null,null,null,null,0,222]
[12,21535,24,21548,24,21561,null,null,null,null,0,122]
[21,21676,22,21693,24,21699,null,null,null,null,0,222]
[12,21806,24,21820,24,21831,null,null,null,null,0,122]
[12,21935,24,21945,24,21950,null,null,null,null,0,122]
[12,22051,24,22063,24,22068,null,null,null,null,0,122]
[21,22181,22,22198,24,22207,null,null,null,null,0,222]
[12,22310,24,22338,24,22373,null,null,null,null,0,122]
[21,22482,22,22489,24,22497,null,null,null,null,0,222]
[21,22612,22,22626,24,22633,null,null,null,null,0,222]
[12,22736,24,22749,24,22761,null,null,null,null,0,122]
[12,22861,24,22878,24,22886,null,null,null,null,0,122]
[12,22994,24,23007,24,23024,null,null,null,null,0,122]
[12,23138,24,23151,24,23160,null,null,null,null,0,122]
[12,23280,24,23293,24,23306,null,null,null,null,0,122]
[12,23406,24,23422,24,23442,null,null,null,null,0,122]
[12,23561,24,23577,24,23585,null,null,null,null,0,122]
[12,23704,24,23722,24,23729,null,null,null,null,0,122]
[12,23835,24,23848,24,23855,null,null,null,null,0,122]
[12,23954,24,23966,24,23979,null,null,null,null,null,122]

{"sheet":"!M911820.101","index":15,"n_rows":174,"n_cols":48,"rows_kept":174,"cut":false,"hidden":false,"merged":[[4,39,4,42],[5,39,5,40],[4,44,4,47],[5,44,5,45],[4,24,4,27],[5,24,5,25],[4,29,4,32],[5,29,5,30],[4,34,4,37],[5,34,5,35],[1,1,1,2],[5,13,5,14],[18,13,18,14],[19,13,19,14],[4,19,4,22],[5,19,5,20]]}
["Report for:!M911820.101"]
["Date:","<date>"]
["Hen:","<hen>",null,null,null,"Correct Sequence",{"$f":"Start!J2","v":211},null,null,null,null,null,null,null,null,"Total Sequences in Data",{"$f":"4994-COUNTBLANK(L7:L5000)","v":168},null,null,null,null,"Total Sequences in Block Data",{"$f":"COUNTA(L7:L34)","v":28},null,null,null,"Total Sequences in Block Data",{"$f":"COUNTA(L35:L62)","v":28},null,null,null,"Total Sequences in Block Data",{"$f":"COUNTA(L63:L90)","v":28},null,null,null,"Total Sequences in Block Data",{"$f":"COUNTA(L91:L118)","v":28},null,null,null,"Total Sequences in Block Data",{"$f":"COUNTA(L119:L146)","v":28},null,null,null,"Total Sequences in Block Data",{"$f":"COUNTA(L147:L174)","v":28}]
[null,null,null,null,null,null,null,null,null,null,null,null,null,null,null,"Total Sequences in Summary",{"$f":"SUM(O7:O14)","v":168},null,null,null,null,"Total Sequences in Block Summary",{"$f":"SUM(U7:U14)","v":28},null,null,null,"Total Sequences in Block Summary",{"$f":"SUM(Z7:Z14)","v":28},null,null,null,"Total Sequences in Block Summary",{"$f":"SUM(AE7:AE14)","v":28},null,null,null,"Total Sequences in Block Summary",{"$f":"SUM(AJ7:AJ14)","v":28},null,null,null,"Total Sequences in Block Summary",{"$f":"SUM(AO7:AO14)","v":28},null,null,null,"Total Sequences in Block Summary",{"$f":"SUM(AT7:AT14)","v":28}]
[null,null,null,null,null,null,null,null,null,null,null,null,null,null,null,null,null,null,null,"Block 1",null,null,null,null,"Block 2",null,null,null,null,"Block 3",null,null,null,null,"Block 4",null,null,null,null,"Block 5",null,null,null,null,"Block 6"]
["Sequence\nComponent\n1","Time\n1","Sequence\nComponent\n2","Time\n2","Sequence\nComponent\n3","Time\n3","Sequence\nComponent\n4","Time\n4","Sequence\nComponent\n5","Time\n5","Correct?\n0=No 1=Yes","Sequence",null,"Frequency",null,"Relative Frequency","Variability",null,null,"Frequency",null,"Relative Frequency","Variability",null,"Frequency",null,"Relative Frequency","Variability",null,"Frequency",null,"Relative Frequency","Variability",null,"Frequency",null,"Relative Frequency","Variability",null,"Frequency",null,"Relative Frequency","Variability",null,"Frequency",null,"Relative Frequency","Variability"]
[12,10,24,25,24,32,null,null,null,null,0,122,null,111,{"$f":"COUNTIF($L$7:$L$500,N7)","v":0},{"$f":"O7/$Q$4","v":0},{"$f":"IF(P7=0,0,(P7*((LOG(P7))/LOG(2))))","v":0},null,null,{"$f":"N7","v":111},{"$f":"COUNTIF(L7:L34,T7)","v":0},{"$f":"U7/(W4-U11)","v":0},{"$f":"IF(V7=0,0,(V7*((LOG(V7))/LOG(2))))","v":0},null,{"$f":"N7","v":111},{"$f":"COUNTIF(L35:L62,Y7)","v":0},{"$f":"Z7/(AB4-Z11)","v":0},{"$f":"IF(AA7=0,0,(AA7*((LOG(AA7))/LOG(2))))","v":0},null,{"$f":"N7","v":111},{"$f":"COUNTIF(L63:L90,AD7)","v":0},{"$f":"AE7/(AG4-AE11)","v":0},{"$f":"IF(AF7=0,0,(AF7*((LOG(AF7))/LOG(2))))","v":0},null,{"$f":"N7","v":111},{"$f":"COUNTIF(L91:L118,AI7)","v":0},{"$f":"AJ7/(AL4-AJ11)","v":0},{"$f":"IF(AK7=0,0,(AK7*((LOG(AK7))/LOG(2))))","v":0},null,{"$f":"N7","v":111},{"$f":"COUNTIF(L119:L146,AN7)","v":0},{"$f":"AO7/(AQ4-AO11)","v":0},{"$f":"IF(AP7=0,0,(AP7*((LOG(AP7))/LOG(2))))","v":0},null,{"$f":"N7","v":111},{"$f":"COUNTIF(L147:L174,AS7)","v":0},{"$f":"AT7/(AV4-AT11)","v":0},{"$f":"IF(AU7=0,0,(AU7*((LOG(AU7))/LOG(2))))","v":0}]
[12,135,24,153,24,161,null,null,null,null,0,122,null,112,{"$f":"COUNTIF($L$7:$L$500,N8)","v":4},{"$f":"O8/$Q$4","v":2.3809523809523808E-2},{"$f":"IF(P8=0,0,(P8*((LOG(P8))/LOG(2))))","v":-0.12838851006616095},null,null,{"$f":"N8","v":112},{"$f":"COUNTIF(L7:L34,T8)","v":2},{"$f":"U8/(W4-U11)","v":7.1428571428571425E-2},{"$f":"IF(V8=0,0,(V8*((LOG(V8))/LOG(2))))","v":-0.27195392300411453},null,{"$f":"N8","v":112},{"$f":"COUNTIF(L35:L62,Y8)","v":1},{"$f":"Z8/(AB4-Z11)","v":3.5714285714285712E-2},{"$f":"IF(AA8=0,0,(AA8*((LOG(AA8))/LOG(2))))","v":-0.17169124721634299},null,{"$f":"N8","v":112},{"$f":"COUNTIF(L63:L90,AD8)","v":0},{"$f":"AE8/(AG4-AE11)","v":0},{"$f":"IF(AF8=0,0,(AF8*((LOG(AF8))/LOG(2))))","v":0},null,{"$f":"N8","v":112},{"$f":"COUNTIF(L91:L118,AI8)","v":1},{"$f":"AJ8/(AL4-AJ11)","v":3.5714285714285712E-2},{"$f":"IF(AK8=0,0,(AK8*((LOG(AK8))/LOG(2))))","v":-0.17169124721634299},null,{"$f":"N8","v":112},{"$f":"COUNTIF(L119:L146,AN8)","v":0},{"$f":"AO8/(AQ4-AO11)","v":0},{"$f":"IF(AP8=0,0,(AP8*((LOG(AP8))/LOG(2))))","v":0},null,{"$f":"N8","v":112},{"$f":"COUNTIF(L147:L174,AS8)","v":0},{"$f":"AT8/(AV4-AT11)","v":0},{"$f":"IF(AU8=0,0,(AU8*((LOG(AU8))/LOG(2))))","v":0}]
[12,261,24,272,24,278,null,null,null,null,0,122,null,121,{"$f":"COUNTIF($L$7:$L$500,N9)","v":0},{"$f":"O9/$Q$4","v":0},{"$f":"IF(P9=0,0,(P9*((LOG(P9))/LOG(2))))","v":0},null,null,{"$f":"N9","v":121},{"$f":"COUNTIF(L7:L34,T9)","v":0},{"$f":"U9/(W4-U11)","v":0},{"$f":"IF(V9=0,0,(V9*((LOG(V9))/LOG(2))))","v":0},null,{"$f":"N9","v":121},{"$f":"COUNTIF(L35:L62,Y9)","v":0},{"$f":"Z9/(AB4-Z11)","v":0},{"$f":"IF(AA9=0,0,(AA9*((LOG(AA9))/LOG(2))))","v":0},null,{"$f":"N9","v":121},{"$f":"COUNTIF(L63:L90,AD9)","v":0},{"$f":"AE9/(AG4-AE11)","v":0},{"$f":"IF(AF9=0,0,(AF9*((LOG(AF9))/LOG(2))))","v":0},null,{"$f":"N9","v":121},{"$f":"COUNTIF(L91:L118,AI9)","v":0},{"$f":"AJ9/(AL4-AJ11)","v":0},{"$f":"IF(AK9=0,0,(AK9*((LOG(AK9))/LOG(2))))","v":0},null,{"$f":"N9","v":121},{"$f":"COUNTIF(L119:L146,AN9)","v":0},{"$f":"AO9/(AQ4-AO11)","v":0},{"$f":"IF(AP9=0,0,(AP9*((LOG(AP9))/LOG(2))))","v":0},null,{"$f":"N9","v":121},{"$f":"COUNTIF(L147:L174,AS9)","v":0},{"$f":"AT9/(AV4-AT11)","v":0},{"$f":"IF(AU9=0,0,(AU9*((LOG(AU9))/LOG(2))))","v":0}]
[12,375,13,383,24,396,null,null,null,null,0,112,null,122,{"$f":"COUNTIF($L$7:$L$500,N10)","v":83},{"$f":"O10/$Q$4","v":0.49404761904761907},{"$f":"IF(P10=0,0,(P10*((LOG(P10))/LOG(2))))","v":-0.50258376957644257},null,null,{"$f":"N10","v":122},{"$f":"COUNTIF(L7:L34,T10)","v":16},{"$f":"U10/(W4-U11)","v":0.5714285714285714},{"$f":"IF(V10=0,0,(V10*((LOG(V10))/LOG(2))))","v":-0.46134566974720237},null,{"$f":"N10","v":122},{"$f":"COUNTIF(L35:L62,Y10)","v":15},{"$f":"Z10/(AB4-Z11)","v":0.5357142857142857},{"$f":"IF(AA10=0,0,(AA10*((LOG(AA10))/LOG(2))))","v":-0.48239160345486726},null,{"$f":"N10","v":122},{"$f":"COUNTIF(L63:L90,AD10)","v":17},{"$f":"AE10/(AG4-AE11)","v":0.6071428571428571},{"$f":"IF(AF10=0,0,(AF10*((LOG(AF10))/LOG(2))))","v":-0.43707733477583927},null,{"$f":"N10","v":122},{"$f":"COUNTIF(L91:L118,AI10)","v":13},{"$f":"AJ10/(AL4-AJ11)","v":0.4642857142857143},{"$f":"IF(AK10=0,0,(AK10*((LOG(AK10))/LOG(2))))","v":-0.51392491610409474},null,{"$f":"N10","v":122},{"$f":"COUNTIF(L119:L146,AN10)","v":12},{"$f":"AO10/(AQ4-AO11)","v":0.42857142857142855},{"$f":"IF(AP10=0,0,(AP10*((LOG(AP10))/LOG(2))))","v":-0.52388246628704915},null,{"$f":"N10","v":122},{"$f":"COUNTIF(L147:L174,AS10)","v":10},{"$f":"AT10/(AV4-AT11)","v":0.35714285714285715},{"$f":"IF(AU10=0,0,(AU10*((LOG(AU10))/LOG(2))))","v":-0.53050958113222924}]
[12,493,24,512,24,519,null,null,null,null,0,122,null,211,{"$f":"COUNTIF($L$7:$L$500,N11)","v":0},{"$f":"O11/$Q$4","v":0},{"$f":"IF(P11=0,0,(P11*((LOG(P11))/LOG(2))))","v":0},null,null,{"$f":"N11","v":211},{"$f":"COUNTIF(L7:L34,T11)","v":0},null,null,null,{"$f":"N11","v":211},{"$f":"COUNTIF(L35:L62,Y11)","v":0},null,null,null,{"$f":"N11","v":211},{"$f":"COUNTIF(L63:L90,AD11)","v":0},null,null,null,{"$f":"N11","v":211},{"$f":"COUNTIF(L91:L118,AI11)","v":0},null,null,null,{"$f":"N11","v":211},{"$f":"COUNTIF(L119:L146,AN11)","v":0},null,null,null,{"$f":"N11","v":211},{"$f":"COUNTIF(L147:L174,AS11)","v":0}]
[12,621,24,645,24,661,null,null,null,null,0,122,null,212,{"$f":"COUNTIF($L$7:$L$500,N12)","v":0},{"$f":"O12/$Q$4","v":0},{"$f":"IF(P12=0,0,(P12*((LOG(P12))/LOG(2))))","v":0},null,null,{"$f":"N12","v":212},{"$f":"COUNTIF(L7:L34,T12)","v":0},{"$f":"U12/(W4-U11)","v":0},{"$f":"IF(V12=0,0,(V12*((LOG(V12))/LOG(2))))","v":0},null,{"$f":"N12","v":212},{"$f":"COUNTIF(L35:L62,Y12)","v":0},{"$f":"Z12/(AB4-Z11)","v":0},{"$f":"IF(AA12=0,0,(AA12*((LOG(AA12))/LOG(2))))","v":0},null,{"$f":"N12","v":212},{"$f":"COUNTIF(L63:L90,AD12)","v":0},{"$f":"AE12/(AG4-AE11)","v":0},{"$f":"IF(AF12=0,0,(AF12*((LOG(AF12))/LOG(2))))","v":0},null,{"$f":"N12","v":212},{"$f":"COUNTIF(L91:L118,AI12)","v":0},{"$f":"AJ12/(AL4-AJ11)","v":0},{"$f":"IF(AK12=0,0,(AK12*((LOG(AK12))/LOG(2))))","v":0},null,{"$f":"N12","v":212},{"$f":"COUNTIF(L119:L146,AN12)","v":0},{"$f":"AO12/(AQ4-AO11)","v":0},{"$f":"IF(AP12=0,0,(AP12*((LOG(AP12))/LOG(2))))","v":0},null,{"$f":"N12","v":212},{"$f":"COUNTIF(L147:L174,AS12)","v":0},{"$f":"AT12/(AV4-AT11)","v":0},{"$f":"IF(AU12=0,0,(AU12*((LOG(AU12))/LOG(2))))","v":0}]
[12,762,13,781,24,794,null,null,null,null,0,112,null,221,{"$f":"COUNTIF($L$7:$L$500,N13)","v":0},{"$f":"O13/$Q$4","v":0},{"$f":"IF(P13=0,0,(P13*((LOG(P13))/LOG(2))))","v":0},null,null,{"$f":"N13","v":221},{"$f":"COUNTIF(L7:L34,T13)","v":0},{"$f":"U13/(W4-U11)","v":0},{"$f":"IF(V13=0,0,(V13*((LOG(V13))/LOG(2))))","v":0},null,{"$f":"N13","v":221},{"$f":"COUNTIF(L35:L62,Y13)","v":0},{"$f":"Z13/(AB4-Z11)","v":0},{"$f":"IF(AA13=0,0,(AA13*((LOG(AA13))/LOG(2))))","v":0},null,{"$f":"N13","v":221},{"$f":"COUNTIF(L63:L90,AD13)","v":0},{"$f":"AE13/(AG4-AE11)","v":0},{"$f":"IF(AF13=0,0,(AF13*((LOG(AF13))/LOG(2))))","v":0},null,{"$f":"N13","v":221},{"$f":"COUNTIF(L91:L118,AI13)","v":0},{"$f":"AJ13/(AL4-AJ11)","v":0},{"$f":"IF(AK13=0,0,(AK13*((LOG(AK13))/LOG(2))))","v":0},null,{"$f":"N13","v":221},{"$f":"COUNTIF(L119:L146,AN13)","v":0},{"$f":"AO13/(AQ4-AO11)","v":0},{"$f":"IF(AP13=0,0,(AP13*((LOG(AP13))/LOG(2))))","v":0},null,{"$f":"N13","v":221},{"$f":"COUNTIF(L147:L174,AS13)","v":0},{"$f":"AT13/(AV4-AT11)","v":0},{"$f":"IF(AU13=0,0,(AU13*((LOG(AU13))/LOG(2))))","v":0}]
[12,924,24,936,24,942,null,null,null,null,0,122,null,222,{"$f":"COUNTIF($L$7:$L$500,N14)","v":81},{"$f":"O14/$Q$4","v":0.48214285714285715},{"$f":"IF(P14=0,0,(P14*((LOG(P14))/LOG(2))))","v":-0.50743964887752968},null,null,{"$f":"N14","v":222},{"$f":"COUNTIF(L7:L34,T14)","v":10},{"$f":"U14/(W4-U11)","v":0.35714285714285715},{"$f":"IF(V14=0,0,(V14*((LOG(V14))/LOG(2))))","v":-0.53050958113222924},null,{"$f":"N14","v":222},{"$f":"COUNTIF(L35:L62,Y14)","v":12},{"$f":"Z14/(AB4-Z11)","v":0.42857142857142855},{"$f":"IF(AA14=0,0,(AA14*((LOG(AA14))/LOG(2))))","v":-0.52388246628704915},null,{"$f":"N14","v":222},{"$f":"COUNTIF(L63:L90,AD14)","v":11},{"$f":"AE14/(AG4-AE11)","v":0.39285714285714285},{"$f":"IF(AF14=0,0,(AF14*((LOG(AF14))/LOG(2))))","v":-0.52954129777226344},null,{"$f":"N14","v":222},{"$f":"COUNTIF(L91:L118,AI14)","v":14},{"$f":"AJ14/(AL4-AJ11)","v":0.5},{"$f":"IF(AK14=0,0,(AK14*((LOG(AK14))/LOG(2))))","v":-0.5},null,{"$f":"N14","v":222},{"$f":"COUNTIF(L119:L146,AN14)","v":16},{"$f":"AO14/(AQ4-AO11)","v":0.5714285714285714},{"$f":"IF(AP14=0,0,(AP14*((LOG(AP14))/LOG(2))))","v":-0.46134566974720237},null,{"$f":"N14","v":222},{"$f":"COUNTIF(L147:L174,AS14)","v":18},{"$f":"AT14/(AV4-AT11)","v":0.6428571428571429},{"$f":"IF(AU14=0,0,(AU14*((LOG(AU14))/LOG(2))))","v":-0.40977637753840174}]
[12,1042,24,1051,24,1057,null,null,null,null,0,122,null,null,null,{"$f":"SUM(P7:P14)","v":1},{"$f":"-SUM(Q7:Q14)","v":1.1384119285201333},null,null,null,null,{"$f":"SUM(V7:V14)","v":1},{"$f":"-SUM(W7:W14)","v":1.263809173883546},null,null,null,{"$f":"SUM(AA7:AA14)","v":1},{"$f":"-SUM(AB7:AB14)","v":1.1779653169582593},null,null,null,{"$f":"SUM(AF7:AF14)","v":1},{"$f":"-SUM(AG7:AG14)","v":0.96661863254810276},null,null,null,{"$f":"SUM(AK7:AK14)","v":1},{"$f":"-SUM(AL7:AL14)","v":1.1856161633204376},null,null,null,{"$f":"SUM(AP7:AP14)","v":1},{"$f":"-SUM(AQ7:AQ14)","v":0.98522813603425152},null,null,null,{"$f":"SUM(AU7:AU14)","v":1},{"$f":"-SUM(AV7:AV14)","v":0.94028595867063092}]
[12,1164,24,1177,24,1184,null,null,null,null,0,122,null,null,null,"U=",{"$f":"Q15/(LOG(Q4)/LOG(2))","v":0.1539993297652803},null,null,null,null,"U1=",{"$f":"W15/(LOG(W4)/LOG(2))","v":0.26289075684526764},null,null,null,"U2=",{"$f":"AB15/(LOG(AB4)/LOG(2))","v":0.24503398148395428},null,null,null,"U3=",{"$f":"AG15/(LOG(AG4)/LOG(2))","v":0.20107078595611133},null,null,null,"U4=",{"$f":"AL15/(LOG(AL4)/LOG(2))","v":0.24662546921186759},null,null,null,"U5=",{"$f":"AQ15/(LOG(AQ4)/LOG(2))","v":0.20494183433674218},null,null,null,"U6=",{"$f":"AV15/(LOG(AV4)/LOG(2))","v":0.19559320539374231}]
[12,1283,24,1300,24,1310,null,null,null,null,0,122]
[21,1425,22,1430,24,1437,null,null,null,null,0,222]
[12,1572,24,1592,24,1597,null,null,null,null,0,122,null,"Total Target Seq"]
[21,1727,22,1735,24,1751,null,null,null,null,0,222,null,{"$f":"COUNTIF(L7:L174,G3)","v":0},null,28,28,28,28,28,28]
[21,1862,22,1868,24,1876,null,null,null,null,0,222,null,null,null,"% of reinforcement given in 6 equal intervals based on number of trials "]
[12,1980,24,1990,24,1995,null,null,null,null,0,122,null,null,null,"%_1","%_2","%_3","%_4","%_5","%_6"]
[21,2106,22,2112,24,2125,null,null,null,null,0,222,null,null,"target sequence",{"$f":"$G$3","v":211},{"$f":"$G$3","v":211},{"$f":"$G$3","v":211},{"$f":"$G$3","v":211},{"$f":"$G$3","v":211},{"$f":"$G$3","v":211}]
[21,2246,22,2255,24,2265,null,null,null,null,0,222,null,null,"total reinforcement",{"$f":"U11","v":0},{"$f":"Z11","v":0},{"$f":"AE11","v":0},{"$f":"AJ11","v":0},{"$f":"AO11","v":0},{"$f":"AT11","v":0}]
[21,2383,22,2390,24,2416,null,null,null,null,0,222,null,null,"% target"]
[21,2530,22,2536,24,2550,null,null,null,null,0,222,null,null,"CCRF"]
[12,2650,24,2664,24,2679,null,null,null,null,0,122,null,null,"% CCRf"]
[21,2801,22,2806,24,2814,null,null,null,null,0,222,null,null,"average response rate",{"$f":"F34/P20","v":129.42857142857142},{"$f":"(F62-F34)/Q20","v":140.96428571428572},{"$f":"(F90-F62)/R20","v":139.25},{"$f":"(F118-F90)/S20","v":149.64285714285714},{"$f":"(F146-F118)/T20","v":140.85714285714286},{"$f":"(F174-F146)/U20","v":155.35714285714286}]
[12,2915,24,2937,24,2946,null,null,null,null,0,122]
[21,3056,22,3061,24,3069,null,null,null,null,0,222]
[12,3177,24,3190,24,3195,null,null,null,null,0,122]
[21,3312,22,3318,24,3340,null,null,null,null,0,222]
[12,3454,24,3468,24,3473,null,null,null,null,0,122]
[12,3601,24,3619,24,3624,null,null,null,null,0,122]
[12,3726,24,3743,24,3748,null,null,null,null,0,122]
[12,3844,24,3869,24,3875,null,null,null,null,0,122]
[12,3976,24,3991,24,3999,null,null,null,null,0,122]
[12,4100,24,4113,24,4119,null,null,null,null,0,122]
[21,4250,22,4257,24,4270,null,null,null,null,0,222]
[12,4366,24,4376,24,4381,null,null,null,null,0,122]
[21,4499,22,4504,24,4516,null,null,null,null,0,222]
[21,4638,22,4646,24,4654,null,null,null,null,0,222]
[12,4754,24,4764,24,4769,null,null,null,null,0,122]
[12,4874,24,4885,24,4891,null,null,null,null,0,122]
[21,5004,22,5008,24,5055,null,null,null,null,0,222]
[21,5173,22,5191,24,5232,null,null,null,null,0,222]
[12,5332,24,5342,24,5347,null,null,null,null,0,122]
[12,5455,13,5461,24,5478,null,null,null,null,0,112]
[21,5588,22,5605,24,5626,null,null,null,null,0,222]
[12,5726,24,5736,24,5758,null,null,null,null,0,122]
[21,5871,22,5879,24,5887,null,null,null,null,0,222]
[21,6003,22,6009,24,6013,null,null,null,null,0,222]
[21,6153,22,6164,24,6180,null,null,null,null,0,222]
[21,6296,22,6325,24,6343,null,null,null,null,0,222]
[12,6443,24,6457,24,6463,null,null,null,null,0,122]
[12,6562,24,6580,24,6605,null,null,null,null,0,122]
[12,6707,24,6749,24,6764,null,null,null,null,0,122]
[21,6892,22,6938,24,6953,null,null,null,null,0,222]
[12,7053,24,7106,24,7139,null,null,null,null,0,122]
[12,7235,24,7253,24,7261,null,null,null,null,0,122]
[21,7402,22,7414,24,7447,null,null,null,null,0,222]
[12,7547,24,7559,24,7571,null,null,null,null,0,122]
[12,7671,24,7684,24,7689,null,null,null,null,0,122]
[12,7795,24,7813,24,7821,null,null,null,null,0,122]
[21,7940,22,7952,24,7965,null,null,null,null,0,222]
[12,8088,24,8098,24,8111,null,null,null,null,0,122]
[12,8208,24,8219,24,8224,null,null,null,null,0,122]
[21,8337,22,8349,24,8393,null,null,null,null,0,222]
[12,8512,24,8531,24,8536,null,null,null,null,0,122]
[21,8647,22,8656,24,8689,null,null,null,null,0,222]
[12,8793,24,8814,24,8830,null,null,null,null,0,122]
[12,8933,24,8980,24,8992,null,null,null,null,0,122]
[21,9124,22,9145,24,9153,null,null,null,null,0,222]
[12,9249,24,9267,24,9273,null,null,null,null,0,122]
[21,9387,22,9393,24,9402,null,null,null,null,0,222]
[12,9501,24,9513,24,9521,null,null,null,null,0,122]
[12,9622,24,9641,24,9658,null,null,null,null,0,122]
[12,9756,24,9776,24,9780,null,null,null,null,0,122]
[12,9882,24,9896,24,9905,null,null,null,null,0,122]
[21,10020,22,10050,24,10076,null,null,null,null,0,222]
[21,10191,22,10197,24,10210,null,null,null,null,0,222]
[12,10309,24,10329,24,10354,null,null,null,null,0,122]
[12,10464,24,10490,24,10511,null,null,null,null,0,122]
[12,10624,24,10640,24,10646,null,null,null,null,0,122]
[12,10742,24,10761,24,10765,null,null,null,null,0,122]
[21,10882,22,10893,24,10900,null,null,null,null,0,222]
[21,11008,22,11014,24,11022,null,null,null,null,0,222]
[12,11122,24,11138,24,11143,null,null,null,null,0,122]
[21,11252,22,11257,24,11262,null,null,null,null,0,222]
[21,11406,22,11418,24,11470,null,null,null,null,0,222]
[12,11573,24,11590,24,11612,null,null,null,null,0,122]
[21,11738,22,11751,24,11757,null,null,null,null,0,222]
[12,11876,24,11892,24,11902,null,null,null,null,0,122]
[21,12021,22,12028,24,12058,null,null,null,null,0,222]
[21,12179,22,12184,24,12189,null,null,null,null,0,222]
[21,12333,22,12346,24,12358,null,null,null,null,0,222]
[21,12501,22,12520,24,12544,null,null,null,null,0,222]
[12,12659,13,12669,24,12691,null,null,null,null,0,112]
[12,12787,24,12799,24,12804,null,null,null,null,0,122]
[21,12918,22,12942,24,12982,null,null,null,null,0,222]
[21,13123,22,13140,24,13159,null,null,null,null,0,222]
[21,13282,22,13288,24,13296,null,null,null,null,0,222]
[12,13423,24,13436,24,13442,null,null,null,null,0,122]
[21,13575,22,13583,24,13604,null,null,null,null,0,222]
[12,13719,24,13733,24,13741,null,null,null,null,0,122]
[12,13869,24,13886,24,13901,null,null,null,null,0,122]
[21,14064,22,14070,24,14089,null,null,null,null,0,222]
[12,14201,24,14210,24,14219,null,null,null,null,0,122]
[12,14321,24,14335,24,14351,null,null,null,null,0,122]
[21,14465,22,14474,24,14481,null,null,null,null,0,222]
[21,14649,22,14659,24,14697,null,null,null,null,0,222]
[12,14795,24,14812,24,14817,null,null,null,null,0,122]
[21,14954,22,14970,24,14983,null,null,null,null,0,222]
[21,15096,22,15101,24,15108,null,null,null,null,0,222]
[12,15220,24,15245,24,15258,null,null,null,null,0,122]
[12,15383,24,15395,24,15402,null,null,null,null,0,122]
[12,15503,24,15522,24,15541,null,null,null,null,0,122]
[12,15644,24,15655,24,15660,null,null,null,null,0,122]
[21,15772,22,15796,24,15813,null,null,null,null,0,222]
[21,15937,22,15945,24,15964,null,null,null,null,0,222]
[21,16082,22,16091,24,16117,null,null,null,null,0,222]
[12,16221,24,16235,24,16240,null,null,null,null,0,122]
[21,16346,22,16353,24,16361,null,null,null,null,0,222]
[12,16463,24,16476,24,16482,null,null,null,null,0,122]
[21,16606,22,16612,24,16622,null,null,null,null,0,222]
[21,16726,22,16731,24,16745,null,null,null,null,0,222]
[12,16845,24,16878,24,16895,null,null,null,null,0,122]
[21,17001,22,17012,24,17026,null,null,null,null,0,222]
[12,17129,24,17142,24,17147,null,null,null,null,0,122]
[21,17265,22,17273,24,17314,null,null,null,null,0,222]
[12,17409,24,17444,24,17458,null,null,null,null,0,122]
[12,17576,24,17589,24,17594,null,null,null,null,0,122]
[12,17706,24,17723,24,17732,null,null,null,null,0,122]
[21,17843,22,17854,24,17878,null,null,null,null,0,222]
[12,17977,24,17989,24,17996,null,null,null,null,0,122]
[12,18112,24,18126,24,18177,null,null,null,null,0,122]
[12,18291,24,18301,24,18309,null,null,null,null,0,122]
[21,18424,22,18434,24,18442,null,null,null,null,0,222]
[12,18543,24,18556,24,18563,null,null,null,null,0,122]
[21,18673,22,18683,24,18688,null,null,null,null,0,222]
[12,18784,24,18798,24,18804,null,null,null,null,0,122]
[21,18935,22,18964,24,18976,null,null,null,null,0,222]
[21,19093,22,19100,24,19121,null,null,null,null,0,222]
[21,19247,22,19260,24,19282,null,null,null,null,0,222]
[21,19396,22,19402,24,19441,null,null,null,null,0,222]
[21,19565,22,19594,24,19604,null,null,null,null,0,222]
[21,19730,22,19745,24,19754,null,null,null,null,0,222]
[12,19857,24,19874,24,19937,null,null,null,null,0,122]
[21,20078,22,20091,24,20100,null,null,null,null,0,222]
[12,20214,24,20229,24,20240,null,null,null,null,0,122]
[21,20368,22,20377,24,20389,null,null,null,null,0,222]
[12,20505,24,20543,24,20562,null,null,null,null,0,122]
[21,20702,22,20724,24,20737,null,null,null,null,0,222]
[12,20852,24,20871,24,20877,null,null,null,null,0,122]
[21,20997,22,21002,24,21011,null,null,null,null,0,222]
[12,21124,24,21200,24,21222,null,null,null,null,0,122]
[21,21387,22,21401,24,21434,null,null,null,null,0,222]
[21,21554,22,21561,24,21568,null,null,null,null,0,222]
[21,21690,22,21702,24,21714,null,null,null,null,0,222]
[12,21819,24,21836,24,21846,null,null,null,null,0,122]
[12,21951,24,21969,24,21991,null,null,null,null,0,122]
[21,22121,22,22140,24,22156,null,null,null,null,0,222]
[12,22255,24,22267,24,22275,null,null,null,null,0,122]
[21,22395,22,22407,24,22421,null,null,null,null,0,222]
[12,22523,24,22538,24,22545,null,null,null,null,0,122]
[12,22648,24,22664,24,22678,null,null,null,null,0,122]
[21,22796,22,22801,24,22808,null,null,null,null,0,222]
[21,22932,22,22994,24,23013,null,null,null,null,0,222]
[21,23135,22,23144,24,23158,null,null,null,null,0,222]
[21,23305,22,23327,24,23345,null,null,null,null,0,222]
[21,23473,22,23485,24,23499,null,null,null,null,0,222]
[21,23613,22,23618,24,23636,null,null,null,null,0,222]
[21,23744,22,23761,24,23770,null,null,null,null,0,222]
[21,23930,22,23945,24,23954,null,null,null,null,null,222]

{"sheet":"!M912920.101","index":16,"n_rows":178,"n_cols":48,"rows_kept":178,"cut":false,"hidden":false,"merged":[[4,39,4,42],[5,39,5,40],[4,44,4,47],[5,44,5,45],[4,24,4,27],[5,24,5,25],[4,29,4,32],[5,29,5,30],[4,34,4,37],[5,34,5,35],[1,1,1,2],[5,13,5,14],[18,13,18,14],[19,13,19,14],[4,19,4,22],[5,19,5,20]]}
["Report for:!M912920.101"]
["Date:","<date>"]
["Hen:","<hen>",null,null,null,"Correct Sequence",{"$f":"Start!J2","v":211},null,null,null,null,null,null,null,null,"Total Sequences in Data",{"$f":"4994-COUNTBLANK(L7:L5000)","v":172},null,null,null,null,"Total Sequences in Block Data",{"$f":"COUNTA(L7:L35)","v":29},null,null,null,"Total Sequences in Block Data",{"$f":"COUNTA(L36:L63)","v":28},null,null,null,"Total Sequences in Block Data",{"$f":"COUNTA(L64:L92)","v":29},null,null,null,"Total Sequences in Block Data",{"$f":"COUNTA(L93:L121)","v":29},null,null,null,"Total Sequences in Block Data",{"$f":"COUNTA(L122:L149)","v":28},null,null,null,"Total Sequences in Block Data",{"$f":"COUNTA(L150:L178)","v":29}]
[null,null,null,null,null,null,null,null,null,null,null,null,null,null,null,"Total Sequences in Summary",{"$f":"SUM(O7:O14)","v":171},null,null,null,null,"Total Sequences in Block Summary",{"$f":"SUM(U7:U14)","v":29},null,null,null,"Total Sequences in Block Summary",{"$f":"SUM(Z7:Z14)","v":28},null,null,null,"Total Sequences in Block Summary",{"$f":"SUM(AE7:AE14)","v":29},null,null,null,"Total Sequences in Block Summary",{"$f":"SUM(AJ7:AJ14)","v":29},null,null,null,"Total Sequences in Block Summary",{"$f":"SUM(AO7:AO14)","v":28},null,null,null,"Total Sequences in Block Summary",{"$f":"SUM(AT7:AT14)","v":28}]
[null,null,null,null,null,null,null,null,null,null,null,null,null,null,null,null,null,null,null,"Block 1",null,null,null,null,"Block 2",null,null,null,null,"Block 3",null,null,null,null,"Block 4",null,null,null,null,"Block 5",null,null,null,null,"Block 6"]
["Sequence\nComponent\n1","Time\n1","Sequence\nComponent\n2","Time\n2","Sequence\nComponent\n3","Time\n3","Sequence\nComponent\n4","Time\n4","Sequence\nComponent\n5","Time\n5","Correct?\n0=No 1=Yes","Sequence",null,"Frequency",null,"Relative Frequency","Variability",null,null,"Frequency",null,"Relative Frequency","Variability",null,"Frequency",null,"Relative Frequency","Variability",null,"Frequency",null,"Relative Frequency","Variability",null,"Frequency",null,"Relative Frequency","Variability",null,"Frequency",null,"Relative Frequency","Variability",null,"Frequency",null,"Relative Frequency","Variability"]
[12,15,13,27,24,41,null,null,null,null,0,112,null,111,{"$f":"COUNTIF($L$7:$L$500,N7)","v":0},{"$f":"O7/$Q$4","v":0},{"$f":"IF(P7=0,0,(P7*((LOG(P7))/LOG(2))))","v":0},null,null,{"$f":"N7","v":111},{"$f":"COUNTIF(L7:L35,T7)","v":0},{"$f":"U7/(W4-U11)","v":0},{"$f":"IF(V7=0,0,(V7*((LOG(V7))/LOG(2))))","v":0},null,{"$f":"N7","v":111},{"$f":"COUNTIF(L36:L63,Y7)","v":0},{"$f":"Z7/(AB4-Z11)","v":0},{"$f":"IF(AA7=0,0,(AA7*((LOG(AA7))/LOG(2))))","v":0},null,{"$f":"N7","v":111},{"$f":"COUNTIF(L64:L92,AD7)","v":0},{"$f":"AE7/(AG4-AE11)","v":0},{"$f":"IF(AF7=0,0,(AF7*((LOG(AF7))/LOG(2))))","v":0},null,{"$f":"N7","v":111},{"$f":"COUNTIF(L93:L121,AI7)","v":0},{"$f":"AJ7/(AL4-AJ11)","v":0},{"$f":"IF(AK7=0,0,(AK7*((LOG(AK7))/LOG(2))))","v":0},null,{"$f":"N7","v":111},{"$f":"COUNTIF(L122:L149,AN7)","v":0},{"$f":"AO7/(AQ4-AO11)","v":0},{"$f":"IF(AP7=0,0,(AP7*((LOG(AP7))/LOG(2))))","v":0},null,{"$f":"N7","v":111},{"$f":"COUNTIF(L150:L178,AS7)","v":0},{"$f":"AT7/(AV4-AT11)","v":0},{"$f":"IF(AU7=0,0,(AU7*((LOG(AU7))/LOG(2))))","v":0}]
[12,141,24,157,24,163,null,null,null,null,0,122,null,112,{"$f":"COUNTIF($L$7:$L$500,N8)","v":5},{"$f":"O8/$Q$4","v":2.9239766081871343E-2},{"$f":"IF(P8=0,0,(P8*((LOG(P8))/LOG(2))))","v":-0.14900363801165309},null,null,{"$f":"N8","v":112},{"$f":"COUNTIF(L7:L35,T8)","v":2},{"$f":"U8/(W4-U11)","v":6.8965517241379309E-2},{"$f":"IF(V8=0,0,(V8*((LOG(V8))/LOG(2))))","v":-0.26606765483638428},null,{"$f":"N8","v":112},{"$f":"COUNTIF(L36:L63,Y8)","v":1},{"$f":"Z8/(AB4-Z11)","v":3.5714285714285712E-2},{"$f":"IF(AA8=0,0,(AA8*((LOG(AA8))/LOG(2))))","v":-0.17169124721634299},null,{"$f":"N8","v":112},{"$f":"COUNTIF(L64:L92,AD8)","v":2},{"$f":"AE8/(AG4-AE11)","v":6.8965517241379309E-2},{"$f":"IF(AF8=0,0,(AF8*((LOG(AF8))/LOG(2))))","v":-0.26606765483638428},null,{"$f":"N8","v":112},{"$f":"COUNTIF(L93:L121,AI8)","v":0},{"$f":"AJ8/(AL4-AJ11)","v":0},{"$f":"IF(AK8=0,0,(AK8*((LOG(AK8))/LOG(2))))","v":0},null,{"$f":"N8","v":112},{"$f":"COUNTIF(L122:L149,AN8)","v":0},{"$f":"AO8/(AQ4-AO11)","v":0},{"$f":"IF(AP8=0,0,(AP8*((LOG(AP8))/LOG(2))))","v":0},null,{"$f":"N8","v":112},{"$f":"COUNTIF(L150:L178,AS8)","v":0},{"$f":"AT8/(AV4-AT11)","v":0},{"$f":"IF(AU8=0,0,(AU8*((LOG(AU8))/LOG(2))))","v":0}]
[12,274,24,286,24,292,null,null,null,null,0,122,null,121,{"$f":"COUNTIF($L$7:$L$500,N9)","v":0},{"$f":"O9/$Q$4","v":0},{"$f":"IF(P9=0,0,(P9*((LOG(P9))/LOG(2))))","v":0},null,null,{"$f":"N9","v":121},{"$f":"COUNTIF(L7:L35,T9)","v":0},{"$f":"U9/(W4-U11)","v":0},{"$f":"IF(V9=0,0,(V9*((LOG(V9))/LOG(2))))","v":0},null,{"$f":"N9","v":121},{"$f":"COUNTIF(L36:L63,Y9)","v":0},{"$f":"Z9/(AB4-Z11)","v":0},{"$f":"IF(AA9=0,0,(AA9*((LOG(AA9))/LOG(2))))","v":0},null,{"$f":"N9","v":121},{"$f":"COUNTIF(L64:L92,AD9)","v":0},{"$f":"AE9/(AG4-AE11)","v":0},{"$f":"IF(AF9=0,0,(AF9*((LOG(AF9))/LOG(2))))","v":0},null,{"$f":"N9","v":121},{"$f":"COUNTIF(L93:L121,AI9)","v":0},{"$f":"AJ9/(AL4-AJ11)","v":0},{"$f":"IF(AK9=0,0,(AK9*((LOG(AK9))/LOG(2))))","v":0},null,{"$f":"N9","v":121},{"$f":"COUNTIF(L122:L149,AN9)","v":0},{"$f":"AO9/(AQ4-AO11)","v":0},{"$f":"IF(AP9=0,0,(AP9*((LOG(AP9))/LOG(2))))","v":0},null,{"$f":"N9","v":121},{"$f":"COUNTIF(L150:L178,AS9)","v":0},{"$f":"AT9/(AV4-AT11)","v":0},{"$f":"IF(AU9=0,0,(AU9*((LOG(AU9))/LOG(2))))","v":0}]
[12,392,13,405,24,414,null,null,null,null,0,112,null,122,{"$f":"COUNTIF($L$7:$L$500,N10)","v":71},{"$f":"O10/$Q$4","v":0.41520467836257308},{"$f":"IF(P10=0,0,(P10*((LOG(P10))/LOG(2))))","v":-0.52652329281910137},null,null,{"$f":"N10","v":122},{"$f":"COUNTIF(L7:L35,T10)","v":15},{"$f":"U10/(W4-U11)","v":0.51724137931034486},{"$f":"IF(V10=0,0,(V10*((LOG(V10))/LOG(2))))","v":-0.49194331009606224},null,{"$f":"N10","v":122},{"$f":"COUNTIF(L36:L63,Y10)","v":7},{"$f":"Z10/(AB4-Z11)","v":0.25},{"$f":"IF(AA10=0,0,(AA10*((LOG(AA10))/LOG(2))))","v":-0.5},null,{"$f":"N10","v":122},{"$f":"COUNTIF(L64:L92,AD10)","v":12},{"$f":"AE10/(AG4-AE11)","v":0.41379310344827586},{"$f":"IF(AF10=0,0,(AF10*((LOG(AF10))/LOG(2))))","v":-0.5267662735474824},null,{"$f":"N10","v":122},{"$f":"COUNTIF(L93:L121,AI10)","v":14},{"$f":"AJ10/(AL4-AJ11)","v":0.48275862068965519},{"$f":"IF(AK10=0,0,(AK10*((LOG(AK10))/LOG(2))))","v":-0.50719879389584666},null,{"$f":"N10","v":122},{"$f":"COUNTIF(L122:L149,AN10)","v":12},{"$f":"AO10/(AQ4-AO11)","v":0.42857142857142855},{"$f":"IF(AP10=0,0,(AP10*((LOG(AP10))/LOG(2))))","v":-0.52388246628704915},null,{"$f":"N10","v":122},{"$f":"COUNTIF(L150:L178,AS10)","v":11},{"$f":"AT10/(AV4-AT11)","v":0.39285714285714285},{"$f":"IF(AU10=0,0,(AU10*((LOG(AU10))/LOG(2))))","v":-0.52954129777226344}]
[21,524,22,529,24,538,null,null,null,null,0,222,null,211,{"$f":"COUNTIF($L$7:$L$500,N11)","v":0},{"$f":"O11/$Q$4","v":0},{"$f":"IF(P11=0,0,(P11*((LOG(P11))/LOG(2))))","v":0},null,null,{"$f":"N11","v":211},{"$f":"COUNTIF(L7:L35,T11)","v":0},null,null,null,{"$f":"N11","v":211},{"$f":"COUNTIF(L36:L63,Y11)","v":0},null,null,null,{"$f":"N11","v":211},{"$f":"COUNTIF(L64:L92,AD11)","v":0},null,null,null,{"$f":"N11","v":211},{"$f":"COUNTIF(L93:L121,AI11)","v":0},null,null,null,{"$f":"N11","v":211},{"$f":"COUNTIF(L122:L149,AN11)","v":0},null,null,null,{"$f":"N11","v":211},{"$f":"COUNTIF(L150:L178,AS11)","v":0}]
[12,650,24,668,24,677,null,null,null,null,0,122,null,212,{"$f":"COUNTIF($L$7:$L$500,N12)","v":0},{"$f":"O12/$Q$4","v":0},{"$f":"IF(P12=0,0,(P12*((LOG(P12))/LOG(2))))","v":0},null,null,{"$f":"N12","v":212},{"$f":"COUNTIF(L7:L35,T12)","v":0},{"$f":"U12/(W4-U11)","v":0},{"$f":"IF(V12=0,0,(V12*((LOG(V12))/LOG(2))))","v":0},null,{"$f":"N12","v":212},{"$f":"COUNTIF(L36:L63,Y12)","v":0},{"$f":"Z12/(AB4-Z11)","v":0},{"$f":"IF(AA12=0,0,(AA12*((LOG(AA12))/LOG(2))))","v":0},null,{"$f":"N12","v":212},{"$f":"COUNTIF(L64:L92,AD12)","v":0},{"$f":"AE12/(AG4-AE11)","v":0},{"$f":"IF(AF12=0,0,(AF12*((LOG(AF12))/LOG(2))))","v":0},null,{"$f":"N12","v":212},{"$f":"COUNTIF(L93:L121,AI12)","v":0},{"$f":"AJ12/(AL4-AJ11)","v":0},{"$f":"IF(AK12=0,0,(AK12*((LOG(AK12))/LOG(2))))","v":0},null,{"$f":"N12","v":212},{"$f":"COUNTIF(L122:L149,AN12)","v":0},{"$f":"AO12/(AQ4-AO11)","v":0},{"$f":"IF(AP12=0,0,(AP12*((LOG(AP12))/LOG(2))))","v":0},null,{"$f":"N12","v":212},{"$f":"COUNTIF(L150:L178,AS12)","v":0},{"$f":"AT12/(AV4-AT11)","v":0},{"$f":"IF(AU12=0,0,(AU12*((LOG(AU12))/LOG(2))))","v":0}]
[12,773,24,786,24,792,null,null,null,null,0,122,null,221,{"$f":"COUNTIF($L$7:$L$500,N13)","v":0},{"$f":"O13/$Q$4","v":0},{"$f":"IF(P13=0,0,(P13*((LOG(P13))/LOG(2))))","v":0},null,null,{"$f":"N13","v":221},{"$f":"COUNTIF(L7:L35,T13)","v":0},{"$f":"U13/(W4-U11)","v":0},{"$f":"IF(V13=0,0,(V13*((LOG(V13))/LOG(2))))","v":0},null,{"$f":"N13","v":221},{"$f":"COUNTIF(L36:L63,Y13)","v":0},{"$f":"Z13/(AB4-Z11)","v":0},{"$f":"IF(AA13=0,0,(AA13*((LOG(AA13))/LOG(2))))","v":0},null,{"$f":"N13","v":221},{"$f":"COUNTIF(L64:L92,AD13)","v":0},{"$f":"AE13/(AG4-AE11)","v":0},{"$f":"IF(AF13=0,0,(AF13*((LOG(AF13))/LOG(2))))","v":0},null,{"$f":"N13","v":221},{"$f":"COUNTIF(L93:L121,AI13)","v":0},{"$f":"AJ13/(AL4-AJ11)","v":0},{"$f":"IF(AK13=0,0,(AK13*((LOG(AK13))/LOG(2))))","v":0},null,{"$f":"N13","v":221},{"$f":"COUNTIF(L122:L149,AN13)","v":0},{"$f":"AO13/(AQ4-AO11)","v":0},{"$f":"IF(AP13=0,0,(AP13*((LOG(AP13))/LOG(2))))","v":0},null,{"$f":"N13","v":221},{"$f":"COUNTIF(L150:L178,AS13)","v":0},{"$f":"AT13/(AV4-AT11)","v":0},{"$f":"IF(AU13=0,0,(AU13*((LOG(AU13))/LOG(2))))","v":0}]
[21,907,22,914,24,926,null,null,null,null,0,222,null,222,{"$f":"COUNTIF($L$7:$L$500,N14)","v":95},{"$f":"O14/$Q$4","v":0.55555555555555558},{"$f":"IF(P14=0,0,(P14*((LOG(P14))/LOG(2))))","v":-0.4711093925305278},null,null,{"$f":"N14","v":222},{"$f":"COUNTIF(L7:L35,T14)","v":12},{"$f":"U14/(W4-U11)","v":0.41379310344827586},{"$f":"IF(V14=0,0,(V14*((LOG(V14))/LOG(2))))","v":-0.5267662735474824},null,{"$f":"N14","v":222},{"$f":"COUNTIF(L36:L63,Y14)","v":20},{"$f":"Z14/(AB4-Z11)","v":0.7142857142857143},{"$f":"IF(AA14=0,0,(AA14*((LOG(AA14))/LOG(2))))","v":-0.34673344797874411},null,{"$f":"N14","v":222},{"$f":"COUNTIF(L64:L92,AD14)","v":15},{"$f":"AE14/(AG4-AE11)","v":0.51724137931034486},{"$f":"IF(AF14=0,0,(AF14*((LOG(AF14))/LOG(2))))","v":-0.49194331009606224},null,{"$f":"N14","v":222},{"$f":"COUNTIF(L93:L121,AI14)","v":15},{"$f":"AJ14/(AL4-AJ11)","v":0.51724137931034486},{"$f":"IF(AK14=0,0,(AK14*((LOG(AK14))/LOG(2))))","v":-0.49194331009606224},null,{"$f":"N14","v":222},{"$f":"COUNTIF(L122:L149,AN14)","v":16},{"$f":"AO14/(AQ4-AO11)","v":0.5714285714285714},{"$f":"IF(AP14=0,0,(AP14*((LOG(AP14))/LOG(2))))","v":-0.46134566974720237},null,{"$f":"N14","v":222},{"$f":"COUNTIF(L150:L178,AS14)","v":17},{"$f":"AT14/(AV4-AT11)","v":0.6071428571428571},{"$f":"IF(AU14=0,0,(AU14*((LOG(AU14))/LOG(2))))","v":-0.43707733477583927}]
[12,1026,24,1036,24,1042,null,null,null,null,0,122,null,null,null,{"$f":"SUM(P7:P14)","v":1},{"$f":"-SUM(Q7:Q14)","v":1.1466363233612822},null,null,null,null,{"$f":"SUM(V7:V14)","v":1},{"$f":"-SUM(W7:W14)","v":1.2847772384799288},null,null,null,{"$f":"SUM(AA7:AA14)","v":1},{"$f":"-SUM(AB7:AB14)","v":1.018424695195087},null,null,null,{"$f":"SUM(AF7:AF14)","v":1},{"$f":"-SUM(AG7:AG14)","v":1.284777238479929},null,null,null,{"$f":"SUM(AK7:AK14)","v":1},{"$f":"-SUM(AL7:AL14)","v":0.99914210399190884},null,null,null,{"$f":"SUM(AP7:AP14)","v":1},{"$f":"-SUM(AQ7:AQ14)","v":0.98522813603425152},null,null,null,{"$f":"SUM(AU7:AU14)","v":1},{"$f":"-SUM(AV7:AV14)","v":0.96661863254810276}]
[21,1167,22,1172,24,1182,null,null,null,null,0,222,null,null,null,"U=",{"$f":"Q15/(LOG(Q4)/LOG(2))","v":0.15457793492931424},null,null,null,null,"U1=",{"$f":"W15/(LOG(W4)/LOG(2))","v":0.26446732495835756},null,null,null,"U2=",{"$f":"AB15/(LOG(AB4)/LOG(2))","v":0.21184720323482784},null,null,null,"U3=",{"$f":"AG15/(LOG(AG4)/LOG(2))","v":0.26446732495835762},null,null,null,"U4=",{"$f":"AL15/(LOG(AL4)/LOG(2))","v":0.20567023728458844},null,null,null,"U5=",{"$f":"AQ15/(LOG(AQ4)/LOG(2))","v":0.20494183433674218},null,null,null,"U6=",{"$f":"AV15/(LOG(AV4)/LOG(2))","v":0.20107078595611133}]
[12,1284,24,1295,24,1300,null,null,null,null,0,122]
[12,1401,24,1415,24,1423,null,null,null,null,0,122]
[21,1535,22,1548,24,1557,null,null,null,null,0,222,null,"Total Target Seq"]
[12,1657,24,1669,24,1691,null,null,null,null,0,122,null,{"$f":"COUNTIF(L7:L178,G3)","v":0},null,29,28,29,29,28,29]
[12,1800,24,1812,24,1817,null,null,null,null,0,122,null,null,null,"% of reinforcement given in 6 equal intervals based on number of trials "]
[12,1925,24,1941,24,1955,null,null,null,null,0,122,null,null,null,"%_1","%_2","%_3","%_4","%_5","%_6"]
[21,2080,22,2111,24,2146,null,null,null,null,0,222,null,null,"target sequence",{"$f":"$G$3","v":211},{"$f":"$G$3","v":211},{"$f":"$G$3","v":211},{"$f":"$G$3","v":211},{"$f":"$G$3","v":211},{"$f":"$G$3","v":211}]
[21,2279,22,2284,24,2297,null,null,null,null,0,222,null,null,"total reinforcement",{"$f":"U11","v":0},{"$f":"Z11","v":0},{"$f":"AE11","v":0},{"$f":"AJ11","v":0},{"$f":"AO11","v":0},{"$f":"AT11","v":0}]
[21,2419,22,2424,24,2443,null,null,null,null,0,222,null,null,"% target"]
[12,2539,24,2553,24,2559,null,null,null,null,0,122,null,null,"CCRF"]
[21,2671,22,2676,24,2691,null,null,null,null,0,222,null,null,"% CCRf"]
[12,2822,24,2834,24,2842,null,null,null,null,0,122,null,null,"average response rate",{"$f":"F35/P20","v":132.55172413793105},{"$f":"(F63-F35)/Q20","v":148.21428571428572},{"$f":"(F92-F63)/R20","v":139.10344827586206},{"$f":"(F121-F92)/S20","v":136.27586206896552},{"$f":"(F149-F121)/T20","v":133.35714285714286},{"$f":"(F178-F149)/U20","v":-679.79310344827582}]
[21,2950,22,2955,24,2963,null,null,null,null,0,222]
[21,3086,22,3111,24,3134,null,null,null,null,0,222]
[12,3245,24,3258,24,3264,null,null,null,null,0,122]
[12,3365,24,3380,24,3389,null,null,null,null,0,122]
[21,3521,22,3548,24,3564,null,null,null,null,0,222]
[21,3679,22,3686,24,3694,null,null,null,null,0,222]
[12,3797,24,3826,24,3844,null,null,null,null,0,122]
[12,3945,24,3958,24,3979,null,null,null,null,0,122]
[21,4098,22,4115,24,4176,null,null,null,null,0,222]
[12,4278,24,4296,24,4304,null,null,null,null,0,122]
[21,4427,22,4434,24,4441,null,null,null,null,0,222]
[21,4558,22,4564,24,4582,null,null,null,null,0,222]
[21,4702,22,4721,24,4733,null,null,null,null,0,222]
[12,4847,24,4869,24,4877,null,null,null,null,0,122]
[21,5029,22,5119,24,5128,null,null,null,null,0,222]
[21,5259,22,5264,24,5272,null,null,null,null,0,222]
[21,5400,22,5417,24,5426,null,null,null,null,0,222]
[21,5562,22,5573,24,5591,null,null,null,null,0,222]
[21,5703,22,5708,24,5715,null,null,null,null,0,222]
[21,5845,22,5859,24,5872,null,null,null,null,0,222]
[21,5979,22,5994,24,6008,null,null,null,null,0,222]
[21,6120,22,6138,24,6147,null,null,null,null,0,222]
[21,6299,22,6308,24,6322,null,null,null,null,0,222]
[12,6422,24,6439,24,6461,null,null,null,null,0,122]
[21,6569,22,6585,24,6602,null,null,null,null,0,222]
[21,6722,22,6730,24,6743,null,null,null,null,0,222]
[21,6848,22,6853,24,6866,null,null,null,null,0,222]
[21,6990,22,6995,24,7021,null,null,null,null,0,222]
[12,7135,24,7144,24,7152,null,null,null,null,0,122]
[12,7254,24,7268,24,7272,null,null,null,null,0,122]
[21,7403,22,7424,24,7463,null,null,null,null,0,222]
[12,7558,13,7574,24,7586,null,null,null,null,0,112]
[12,7683,24,7694,24,7711,null,null,null,null,0,122]
[21,7839,22,7852,24,7861,null,null,null,null,0,222]
[21,7976,22,7983,24,7994,null,null,null,null,0,222]
[21,8123,22,8131,24,8139,null,null,null,null,0,222]
[21,8259,22,8263,24,8270,null,null,null,null,0,222]
[21,8405,22,8412,24,8424,null,null,null,null,0,222]
[12,8524,24,8556,24,8565,null,null,null,null,0,122]
[12,8667,24,8680,24,8693,null,null,null,null,0,122]
[21,8804,22,8808,24,8813,null,null,null,null,0,222]
[12,8915,24,8927,24,8932,null,null,null,null,0,122]
[12,9046,13,9051,24,9068,null,null,null,null,0,112]
[12,9191,24,9204,24,9214,null,null,null,null,0,122]
[12,9313,13,9329,24,9342,null,null,null,null,0,112]
[21,9466,22,9489,24,9515,null,null,null,null,0,222]
[21,9637,22,9646,24,9676,null,null,null,null,0,222]
[12,9788,24,9811,24,9820,null,null,null,null,0,122]
[21,9979,22,9985,24,9994,null,null,null,null,0,222]
[12,10100,24,10114,24,10120,null,null,null,null,0,122]
[21,10256,22,10269,24,10302,null,null,null,null,0,222]
[12,10395,24,10408,24,10416,null,null,null,null,0,122]
[21,10518,22,10530,24,10542,null,null,null,null,0,222]
[21,10658,22,10664,24,10677,null,null,null,null,0,222]
[21,10793,22,10798,24,10821,null,null,null,null,0,222]
[21,10946,22,10959,24,10992,null,null,null,null,0,222]
[21,11108,22,11115,24,11127,null,null,null,null,0,222]
[21,11261,22,11268,24,11276,null,null,null,null,0,222]
[12,11382,24,11394,24,11401,null,null,null,null,0,122]
[12,11500,24,11513,24,11524,null,null,null,null,0,122]
[12,11617,24,11639,24,11652,null,null,null,null,0,122]
[21,11772,22,11780,24,11790,null,null,null,null,0,222]
[12,11891,24,11906,24,11911,null,null,null,null,0,122]
[12,12010,24,12023,24,12028,null,null,null,null,0,122]
[21,12162,22,12185,24,12199,null,null,null,null,0,222]
[21,12306,22,12312,24,12317,null,null,null,null,0,222]
[21,12442,22,12450,24,12475,null,null,null,null,0,222]
[12,12575,24,12589,24,12609,null,null,null,null,0,122]
[12,12710,24,12722,24,12728,null,null,null,null,0,122]
[21,12844,22,12851,24,12859,null,null,null,null,0,222]
[21,12960,22,12965,24,12970,null,null,null,null,0,222]
[12,13065,24,13077,24,13088,null,null,null,null,0,122]
[12,13186,24,13200,24,13211,null,null,null,null,0,122]
[12,13312,24,13324,24,13335,null,null,null,null,0,122]
[21,13443,22,13448,24,13455,null,null,null,null,0,222]
[12,13554,24,13572,24,13584,null,null,null,null,0,122]
[21,13696,22,13706,24,13716,null,null,null,null,0,222]
[21,13878,22,13892,24,13906,null,null,null,null,0,222]
[12,14006,24,14015,24,14021,null,null,null,null,0,122]
[21,14132,22,14141,24,14150,null,null,null,null,0,222]
[12,14249,24,14261,24,14266,null,null,null,null,0,122]
[12,14368,24,14381,24,14386,null,null,null,null,0,122]
[21,14496,22,14503,24,14510,null,null,null,null,0,222]
[21,14633,22,14640,24,14654,null,null,null,null,0,222]
[21,14778,22,14784,24,14805,null,null,null,null,0,222]
[12,14920,24,14933,24,14940,null,null,null,null,0,122]
[12,15058,24,15069,24,15082,null,null,null,null,0,122]
[21,15191,22,15197,24,15231,null,null,null,null,0,222]
[21,15336,22,15342,24,15349,null,null,null,null,0,222]
[12,15448,24,15470,24,15481,null,null,null,null,0,122]
[12,15595,24,15619,24,15627,null,null,null,null,0,122]
[12,15779,24,15799,24,15819,null,null,null,null,0,122]
[21,15963,22,15972,24,15980,null,null,null,null,0,222]
[12,16081,24,16092,24,16104,null,null,null,null,0,122]
[12,16216,24,16238,24,16247,null,null,null,null,0,122]
[12,16347,24,16369,24,16377,null,null,null,null,0,122]
[21,16482,22,16499,24,16506,null,null,null,null,0,222]
[21,16619,22,16631,24,16642,null,null,null,null,0,222]
[12,16745,24,16758,24,16763,null,null,null,null,0,122]
[21,16892,22,16897,24,16905,null,null,null,null,0,222]
[21,17017,22,17023,24,17036,null,null,null,null,0,222]
[21,17147,22,17151,24,17161,null,null,null,null,0,222]
[21,17286,22,17297,24,17309,null,null,null,null,0,222]
[21,17428,22,17433,24,17441,null,null,null,null,0,222]
[21,17551,22,17556,24,17580,null,null,null,null,0,222]
[12,17681,24,17695,24,17700,null,null,null,null,0,122]
[12,17798,24,17814,24,17823,null,null,null,null,0,122]
[21,17936,22,17942,24,17951,null,null,null,null,0,222]
[21,18125,22,18134,24,18139,null,null,null,null,0,222]
[12,18237,24,18249,24,18271,null,null,null,null,0,122]
[21,18407,22,18420,24,18428,null,null,null,null,0,222]
[21,18542,22,18549,24,18562,null,null,null,null,0,222]
[21,18673,22,18678,24,18684,null,null,null,null,0,222]
[21,18792,22,18797,24,18828,null,null,null,null,0,222]
[21,18939,22,18945,24,18954,null,null,null,null,0,222]
[12,19053,24,19066,24,19071,null,null,null,null,0,122]
[12,19180,24,19197,24,19211,null,null,null,null,0,122]
[21,19324,22,19329,24,19337,null,null,null,null,0,222]
[12,19438,24,19456,24,19463,null,null,null,null,0,122]
[12,19567,24,19585,24,19593,null,null,null,null,0,122]
[12,19691,24,19708,24,19714,null,null,null,null,0,122]
[21,19825,22,19836,24,19849,null,null,null,null,0,222]
[21,19958,22,19969,24,19983,null,null,null,null,0,222]
[21,20107,22,20117,24,20146,null,null,null,null,0,222]
[21,20268,22,20276,24,20289,null,null,null,null,0,222]
[12,20388,24,20407,24,20416,null,null,null,null,0,122]
[21,20521,22,20536,24,20545,null,null,null,null,0,222]
[21,20651,22,20695,24,20708,null,null,null,null,0,222]
[12,20830,24,20842,24,20859,null,null,null,null,0,122]
[21,20997,22,21029,24,21043,null,null,null,null,0,222]
[21,21152,22,21158,24,21171,null,null,null,null,0,222]
[21,21300,22,21305,24,21318,null,null,null,null,0,222]
[12,21435,24,21458,24,21472,null,null,null,null,0,122]
[21,21580,22,21591,24,21602,null,null,null,null,0,222]
[21,21724,22,21744,24,21834,null,null,null,null,0,222]
[12,21930,24,21974,24,21989,null,null,null,null,0,122]
[21,22115,22,22124,24,22132,null,null,null,null,0,222]
[12,22233,24,22242,24,22251,null,null,null,null,0,122]
[12,22353,24,22366,24,22371,null,null,null,null,0,122]
[21,22493,22,22522,24,22562,null,null,null,null,0,222]
[12,22669,24,22682,24,22688,null,null,null,null,0,122]
[12,22788,24,22815,24,22828,null,null,null,null,0,122]
[12,22927,24,22938,24,22948,null,null,null,null,0,122]
[21,23074,22,23084,24,23096,null,null,null,null,0,222]
[21,23216,22,23233,24,23243,null,null,null,null,0,222]
[12,23358,24,23379,24,23393,null,null,null,null,0,122]
[21,23516,22,23534,24,23568,null,null,null,null,0,222]
[12,23671,24,23684,24,23689,null,null,null,null,0,122]
[21,23800,22,23831,24,23877,null,null,null,null,0,222]
[21,23985,22,24000,null,null,null,null,null,null,null,22]

{"sheet":"!M913750.101","index":17,"n_rows":189,"n_cols":48,"rows_kept":189,"cut":false,"hidden":false,"merged":[[4,39,4,42],[5,39,5,40],[4,44,4,47],[5,44,5,45],[4,24,4,27],[5,24,5,25],[4,29,4,32],[5,29,5,30],[4,34,4,37],[5,34,5,35],[1,1,1,2],[5,13,5,14],[18,13,18,14],[19,13,19,14],[4,19,4,22],[5,19,5,20]]}
["Report for:!M913750.101"]
["Date:","<date>"]
["Hen:","<hen>",null,null,null,"Correct Sequence",{"$f":"Start!J2","v":211},null,null,null,null,null,null,null,null,"Total Sequences in Data",{"$f":"4994-COUNTBLANK(L7:L5000)","v":183},null,null,null,null,"Total Sequences in Block Data",{"$f":"COUNTA(L7:L37)","v":31},null,null,null,"Total Sequences in Block Data",{"$f":"COUNTA(L38:L67)","v":30},null,null,null,"Total Sequences in Block Data",{"$f":"COUNTA(L68:L98)","v":31},null,null,null,"Total Sequences in Block Data",{"$f":"COUNTA(L99:L128)","v":30},null,null,null,"Total Sequences in Block Data",{"$f":"COUNTA(L129:L159)","v":31},null,null,null,"Total Sequences in Block Data",{"$f":"COUNTA(L160:L189)","v":30}]
[null,null,null,null,null,null,null,null,null,null,null,null,null,null,null,"Total Sequences in Summary",{"$f":"SUM(O7:O14)","v":183},null,null,null,null,"Total Sequences in Block Summary",{"$f":"SUM(U7:U14)","v":31},null,null,null,"Total Sequences in Block Summary",{"$f":"SUM(Z7:Z14)","v":30},null,null,null,"Total Sequences in Block Summary",{"$f":"SUM(AE7:AE14)","v":31},null,null,null,"Total Sequences in Block Summary",{"$f":"SUM(AJ7:AJ14)","v":30},null,null,null,"Total Sequences in Block Summary",{"$f":"SUM(AO7:AO14)","v":31},null,null,null,"Total Sequences in Block Summary",{"$f":"SUM(AT7:AT14)","v":30}]
[null,null,null,null,null,null,null,null,null,null,null,null,null,null,null,null,null,null,null,"Block 1",null,null,null,null,"Block 2",null,null,null,null,"Block 3",null,null,null,null,"Block 4",null,null,null,null,"Block 5",null,null,null,null,"Block 6"]
["Sequence\nComponent\n1","Time\n1","Sequence\nComponent\n2","Time\n2","Sequence\nComponent\n3","Time\n3","Sequence\nComponent\n4","Time\n4","Sequence\nComponent\n5","Time\n5","Correct?\n0=No 1=Yes","Sequence",null,"Frequency",null,"Relative Frequency","Variability",null,null,"Frequency",null,"Relative Frequency","Variability",null,"Frequency",null,"Relative Frequency","Variability",null,"Frequency",null,"Relative Frequency","Variability",null,"Frequency",null,"Relative Frequency","Variability",null,"Frequency",null,"Relative Frequency","Variability",null,"Frequency",null,"Relative Frequency","Variability"]
[21,23,22,39,24,55,null,null,null,null,0,222,null,111,{"$f":"COUNTIF($L$7:$L$500,N7)","v":0},{"$f":"O7/$Q$4","v":0},{"$f":"IF(P7=0,0,(P7*((LOG(P7))/LOG(2))))","v":0},null,null,{"$f":"N7","v":111},{"$f":"COUNTIF(L7:L37,T7)","v":0},{"$f":"U7/(W4-U11)","v":0},{"$f":"IF(V7=0,0,(V7*((LOG(V7))/LOG(2))))","v":0},null,{"$f":"N7","v":111},{"$f":"COUNTIF(L38:L67,Y7)","v":0},{"$f":"Z7/(AB4-Z11)","v":0},{"$f":"IF(AA7=0,0,(AA7*((LOG(AA7))/LOG(2))))","v":0},null,{"$f":"N7","v":111},{"$f":"COUNTIF(L68:L98,AD7)","v":0},{"$f":"AE7/(AG4-AE11)","v":0},{"$f":"IF(AF7=0,0,(AF7*((LOG(AF7))/LOG(2))))","v":0},null,{"$f":"N7","v":111},{"$f":"COUNTIF(L99:L128,AI7)","v":0},{"$f":"AJ7/(AL4-AJ11)","v":0},{"$f":"IF(AK7=0,0,(AK7*((LOG(AK7))/LOG(2))))","v":0},null,{"$f":"N7","v":111},{"$f":"COUNTIF(L129:L159,AN7)","v":0},{"$f":"AO7/(AQ4-AO11)","v":0},{"$f":"IF(AP7=0,0,(AP7*((LOG(AP7))/LOG(2))))","v":0},null,{"$f":"N7","v":111},{"$f":"COUNTIF(L160:L189,AS7)","v":0},{"$f":"AT7/(AV4-AT11)","v":0},{"$f":"IF(AU7=0,0,(AU7*((LOG(AU7))/LOG(2))))","v":0}]
[12,165,24,180,24,186,null,null,null,null,0,122,null,112,{"$f":"COUNTIF($L$7:$L$500,N8)","v":1},{"$f":"O8/$Q$4","v":5.4644808743169399E-3},{"$f":"IF(P8=0,0,(P8*((LOG(P8))/LOG(2))))","v":-4.1069398023410066E-2},null,null,{"$f":"N8","v":112},{"$f":"COUNTIF(L7:L37,T8)","v":0},{"$f":"U8/(W4-U11)","v":0},{"$f":"IF(V8=0,0,(V8*((LOG(V8))/LOG(2))))","v":0},null,{"$f":"N8","v":112},{"$f":"COUNTIF(L38:L67,Y8)","v":0},{"$f":"Z8/(AB4-Z11)","v":0},{"$f":"IF(AA8=0,0,(AA8*((LOG(AA8))/LOG(2))))","v":0},null,{"$f":"N8","v":112},{"$f":"COUNTIF(L68:L98,AD8)","v":0},{"$f":"AE8/(AG4-AE11)","v":0},{"$f":"IF(AF8=0,0,(AF8*((LOG(AF8))/LOG(2))))","v":0},null,{"$f":"N8","v":112},{"$f":"COUNTIF(L99:L128,AI8)","v":0},{"$f":"AJ8/(AL4-AJ11)","v":0},{"$f":"IF(AK8=0,0,(AK8*((LOG(AK8))/LOG(2))))","v":0},null,{"$f":"N8","v":112},{"$f":"COUNTIF(L129:L159,AN8)","v":1},{"$f":"AO8/(AQ4-AO11)","v":3.2258064516129031E-2},{"$f":"IF(AP8=0,0,(AP8*((LOG(AP8))/LOG(2))))","v":-0.15981278420602821},null,{"$f":"N8","v":112},{"$f":"COUNTIF(L160:L189,AS8)","v":0},{"$f":"AT8/(AV4-AT11)","v":0},{"$f":"IF(AU8=0,0,(AU8*((LOG(AU8))/LOG(2))))","v":0}]
[12,293,24,307,24,316,null,null,null,null,0,122,null,121,{"$f":"COUNTIF($L$7:$L$500,N9)","v":0},{"$f":"O9/$Q$4","v":0},{"$f":"IF(P9=0,0,(P9*((LOG(P9))/LOG(2))))","v":0},null,null,{"$f":"N9","v":121},{"$f":"COUNTIF(L7:L37,T9)","v":0},{"$f":"U9/(W4-U11)","v":0},{"$f":"IF(V9=0,0,(V9*((LOG(V9))/LOG(2))))","v":0},null,{"$f":"N9","v":121},{"$f":"COUNTIF(L38:L67,Y9)","v":0},{"$f":"Z9/(AB4-Z11)","v":0},{"$f":"IF(AA9=0,0,(AA9*((LOG(AA9))/LOG(2))))","v":0},null,{"$f":"N9","v":121},{"$f":"COUNTIF(L68:L98,AD9)","v":0},{"$f":"AE9/(AG4-AE11)","v":0},{"$f":"IF(AF9=0,0,(AF9*((LOG(AF9))/LOG(2))))","v":0},null,{"$f":"N9","v":121},{"$f":"COUNTIF(L99:L128,AI9)","v":0},{"$f":"AJ9/(AL4-AJ11)","v":0},{"$f":"IF(AK9=0,0,(AK9*((LOG(AK9))/LOG(2))))","v":0},null,{"$f":"N9","v":121},{"$f":"COUNTIF(L129:L159,AN9)","v":0},{"$f":"AO9/(AQ4-AO11)","v":0},{"$f":"IF(AP9=0,0,(AP9*((LOG(AP9))/LOG(2))))","v":0},null,{"$f":"N9","v":121},{"$f":"COUNTIF(L160:L189,AS9)","v":0},{"$f":"AT9/(AV4-AT11)","v":0},{"$f":"IF(AU9=0,0,(AU9*((LOG(AU9))/LOG(2))))","v":0}]
[12,416,24,430,24,435,null,null,null,null,0,122,null,122,{"$f":"COUNTIF($L$7:$L$500,N10)","v":82},{"$f":"O10/$Q$4","v":0.44808743169398907},{"$f":"IF(P10=0,0,(P10*((LOG(P10))/LOG(2))))","v":-0.51895148830933668},null,null,{"$f":"N10","v":122},{"$f":"COUNTIF(L7:L37,T10)","v":20},{"$f":"U10/(W4-U11)","v":0.64516129032258063},{"$f":"IF(V10=0,0,(V10*((LOG(V10))/LOG(2))))","v":-0.40791497774162117},null,{"$f":"N10","v":122},{"$f":"COUNTIF(L38:L67,Y10)","v":13},{"$f":"Z10/(AB4-Z11)","v":0.43333333333333335},{"$f":"IF(AA10=0,0,(AA10*((LOG(AA10))/LOG(2))))","v":-0.52279538023588479},null,{"$f":"N10","v":122},{"$f":"COUNTIF(L68:L98,AD10)","v":17},{"$f":"AE10/(AG4-AE11)","v":0.54838709677419351},{"$f":"IF(AF10=0,0,(AF10*((LOG(AF10))/LOG(2))))","v":-0.47530545081681003},null,{"$f":"N10","v":122},{"$f":"COUNTIF(L99:L128,AI10)","v":14},{"$f":"AJ10/(AL4-AJ11)","v":0.46666666666666667},{"$f":"IF(AK10=0,0,(AK10*((LOG(AK10))/LOG(2))))","v":-0.51311664765709342},null,{"$f":"N10","v":122},{"$f":"COUNTIF(L129:L159,AN10)","v":11},{"$f":"AO10/(AQ4-AO11)","v":0.35483870967741937},{"$f":"IF(AP10=0,0,(AP10*((LOG(AP10))/LOG(2))))","v":-0.53040037449178568},null,{"$f":"N10","v":122},{"$f":"COUNTIF(L160:L189,AS10)","v":7},{"$f":"AT10/(AV4-AT11)","v":0.23333333333333334},{"$f":"IF(AU10=0,0,(AU10*((LOG(AU10))/LOG(2))))","v":-0.48989165716187993}]
[12,534,24,548,24,555,null,null,null,null,0,122,null,211,{"$f":"COUNTIF($L$7:$L$500,N11)","v":0},{"$f":"O11/$Q$4","v":0},{"$f":"IF(P11=0,0,(P11*((LOG(P11))/LOG(2))))","v":0},null,null,{"$f":"N11","v":211},{"$f":"COUNTIF(L7:L37,T11)","v":0},null,null,null,{"$f":"N11","v":211},{"$f":"COUNTIF(L38:L67,Y11)","v":0},null,null,null,{"$f":"N11","v":211},{"$f":"COUNTIF(L68:L98,AD11)","v":0},null,null,null,{"$f":"N11","v":211},{"$f":"COUNTIF(L99:L128,AI11)","v":0},null,null,null,{"$f":"N11","v":211},{"$f":"COUNTIF(L129:L159,AN11)","v":0},null,null,null,{"$f":"N11","v":211},{"$f":"COUNTIF(L160:L189,AS11)","v":0}]
[12,675,24,696,24,701,null,null,null,null,0,122,null,212,{"$f":"COUNTIF($L$7:$L$500,N12)","v":0},{"$f":"O12/$Q$4","v":0},{"$f":"IF(P12=0,0,(P12*((LOG(P12))/LOG(2))))","v":0},null,null,{"$f":"N12","v":212},{"$f":"COUNTIF(L7:L37,T12)","v":0},{"$f":"U12/(W4-U11)","v":0},{"$f":"IF(V12=0,0,(V12*((LOG(V12))/LOG(2))))","v":0},null,{"$f":"N12","v":212},{"$f":"COUNTIF(L38:L67,Y12)","v":0},{"$f":"Z12/(AB4-Z11)","v":0},{"$f":"IF(AA12=0,0,(AA12*((LOG(AA12))/LOG(2))))","v":0},null,{"$f":"N12","v":212},{"$f":"COUNTIF(L68:L98,AD12)","v":0},{"$f":"AE12/(AG4-AE11)","v":0},{"$f":"IF(AF12=0,0,(AF12*((LOG(AF12))/LOG(2))))","v":0},null,{"$f":"N12","v":212},{"$f":"COUNTIF(L99:L128,AI12)","v":0},{"$f":"AJ12/(AL4-AJ11)","v":0},{"$f":"IF(AK12=0,0,(AK12*((LOG(AK12))/LOG(2))))","v":0},null,{"$f":"N12","v":212},{"$f":"COUNTIF(L129:L159,AN12)","v":0},{"$f":"AO12/(AQ4-AO11)","v":0},{"$f":"IF(AP12=0,0,(AP12*((LOG(AP12))/LOG(2))))","v":0},null,{"$f":"N12","v":212},{"$f":"COUNTIF(L160:L189,AS12)","v":0},{"$f":"AT12/(AV4-AT11)","v":0},{"$f":"IF(AU12=0,0,(AU12*((LOG(AU12))/LOG(2))))","v":0}]
[12,799,24,813,24,818,null,null,null,null,0,122,null,221,{"$f":"COUNTIF($L$7:$L$500,N13)","v":1},{"$f":"O13/$Q$4","v":5.4644808743169399E-3},{"$f":"IF(P13=0,0,(P13*((LOG(P13))/LOG(2))))","v":-4.1069398023410066E-2},null,null,{"$f":"N13","v":221},{"$f":"COUNTIF(L7:L37,T13)","v":1},{"$f":"U13/(W4-U11)","v":3.2258064516129031E-2},{"$f":"IF(V13=0,0,(V13*((LOG(V13))/LOG(2))))","v":-0.15981278420602821},null,{"$f":"N13","v":221},{"$f":"COUNTIF(L38:L67,Y13)","v":0},{"$f":"Z13/(AB4-Z11)","v":0},{"$f":"IF(AA13=0,0,(AA13*((LOG(AA13))/LOG(2))))","v":0},null,{"$f":"N13","v":221},{"$f":"COUNTIF(L68:L98,AD13)","v":0},{"$f":"AE13/(AG4-AE11)","v":0},{"$f":"IF(AF13=0,0,(AF13*((LOG(AF13))/LOG(2))))","v":0},null,{"$f":"N13","v":221},{"$f":"COUNTIF(L99:L128,AI13)","v":0},{"$f":"AJ13/(AL4-AJ11)","v":0},{"$f":"IF(AK13=0,0,(AK13*((LOG(AK13))/LOG(2))))","v":0},null,{"$f":"N13","v":221},{"$f":"COUNTIF(L129:L159,AN13)","v":0},{"$f":"AO13/(AQ4-AO11)","v":0},{"$f":"IF(AP13=0,0,(AP13*((LOG(AP13))/LOG(2))))","v":0},null,{"$f":"N13","v":221},{"$f":"COUNTIF(L160:L189,AS13)","v":0},{"$f":"AT13/(AV4-AT11)","v":0},{"$f":"IF(AU13=0,0,(AU13*((LOG(AU13))/LOG(2))))","v":0}]
[12,916,24,930,24,935,null,null,null,null,0,122,null,222,{"$f":"COUNTIF($L$7:$L$500,N14)","v":99},{"$f":"O14/$Q$4","v":0.54098360655737709},{"$f":"IF(P14=0,0,(P14*((LOG(P14))/LOG(2))))","v":-0.47949715083190619},null,null,{"$f":"N14","v":222},{"$f":"COUNTIF(L7:L37,T14)","v":10},{"$f":"U14/(W4-U11)","v":0.32258064516129031},{"$f":"IF(V14=0,0,(V14*((LOG(V14))/LOG(2))))","v":-0.52653813403210092},null,{"$f":"N14","v":222},{"$f":"COUNTIF(L38:L67,Y14)","v":17},{"$f":"Z14/(AB4-Z11)","v":0.56666666666666665},{"$f":"IF(AA14=0,0,(AA14*((LOG(AA14))/LOG(2))))","v":-0.46434239413630152},null,{"$f":"N14","v":222},{"$f":"COUNTIF(L68:L98,AD14)","v":14},{"$f":"AE14/(AG4-AE11)","v":0.45161290322580644},{"$f":"IF(AF14=0,0,(AF14*((LOG(AF14))/LOG(2))))","v":-0.51792836892289662},null,{"$f":"N14","v":222},{"$f":"COUNTIF(L99:L128,AI14)","v":16},{"$f":"AJ14/(AL4-AJ11)","v":0.53333333333333333},{"$f":"IF(AK14=0,0,(AK14*((LOG(AK14))/LOG(2))))","v":-0.4836749843245432},null,{"$f":"N14","v":222},{"$f":"COUNTIF(L129:L159,AN14)","v":19},{"$f":"AO14/(AQ4-AO11)","v":0.61290322580645162},{"$f":"IF(AP14=0,0,(AP14*((LOG(AP14))/LOG(2))))","v":-0.43287442393298403},null,{"$f":"N14","v":222},{"$f":"COUNTIF(L160:L189,AS14)","v":23},{"$f":"AT14/(AV4-AT11)","v":0.76666666666666672},{"$f":"IF(AU14=0,0,(AU14*((LOG(AU14))/LOG(2))))","v":-0.2938852903228209}]
[12,1043,24,1058,24,1069,null,null,null,null,0,122,null,null,null,{"$f":"SUM(P7:P14)","v":1},{"$f":"-SUM(Q7:Q14)","v":1.0805874351880629},null,null,null,null,{"$f":"SUM(V7:V14)","v":1},{"$f":"-SUM(W7:W14)","v":1.0942658959797504},null,null,null,{"$f":"SUM(AA7:AA14)","v":1},{"$f":"-SUM(AB7:AB14)","v":0.98713777437218631},null,null,null,{"$f":"SUM(AF7:AF14)","v":1},{"$f":"-SUM(AG7:AG14)","v":0.99323381973970659},null,null,null,{"$f":"SUM(AK7:AK14)","v":1},{"$f":"-SUM(AL7:AL14)","v":0.99679163198163656},null,null,null,{"$f":"SUM(AP7:AP14)","v":1},{"$f":"-SUM(AQ7:AQ14)","v":1.1230875826307978},null,null,null,{"$f":"SUM(AU7:AU14)","v":1},{"$f":"-SUM(AV7:AV14)","v":0.78377694748470084}]
[12,1170,24,1182,24,1189,null,null,null,null,0,122,null,null,null,"U=",{"$f":"Q15/(LOG(Q4)/LOG(2))","v":0.14377735386446444},null,null,null,null,"U1=",{"$f":"W15/(LOG(W4)/LOG(2))","v":0.22087657158145574},null,null,null,"U2=",{"$f":"AB15/(LOG(AB4)/LOG(2))","v":0.20117378921299717},null,null,null,"U3=",{"$f":"AG15/(LOG(AG4)/LOG(2))","v":0.20048333927690981},null,null,null,"U4=",{"$f":"AL15/(LOG(AL4)/LOG(2))","v":0.20314119757912014},null,null,null,"U5=",{"$f":"AQ15/(LOG(AQ4)/LOG(2))","v":0.22669420270572513},null,null,null,"U6=",{"$f":"AV15/(LOG(AV4)/LOG(2))","v":0.15972985992109781}]
[21,1396,22,1402,24,1411,null,null,null,null,0,222]
[21,1526,22,1534,24,1540,null,null,null,null,0,222]
[12,1653,24,1668,24,1673,null,null,null,null,0,122,null,"Total Target Seq"]
[21,1791,22,1799,24,1808,null,null,null,null,0,222,null,{"$f":"COUNTIF(L7:L189,G3)","v":0},null,31,30,31,30,31,30]
[21,1928,22,1933,24,1941,null,null,null,null,0,222,null,null,null,"% of reinforcement given in 6 equal intervals based on number of trials "]
[21,2053,22,2059,24,2065,null,null,null,null,0,222,null,null,null,"%_1","%_2","%_3","%_4","%_5","%_6"]
[12,2175,24,2187,24,2192,null,null,null,null,0,122,null,null,"target sequence",{"$f":"$G$3","v":211},{"$f":"$G$3","v":211},{"$f":"$G$3","v":211},{"$f":"$G$3","v":211},{"$f":"$G$3","v":211},{"$f":"$G$3","v":211}]
[12,2302,24,2315,24,2321,null,null,null,null,0,122,null,null,"total reinforcement",{"$f":"U11","v":0},{"$f":"Z11","v":0},{"$f":"AE11","v":0},{"$f":"AJ11","v":0},{"$f":"AO11","v":0},{"$f":"AT11","v":0}]
[21,2435,22,2443,13,2476,null,null,null,null,0,221,null,null,"% target"]
[12,2574,24,2593,24,2607,null,null,null,null,0,122,null,null,"CCRF"]
[12,2706,24,2719,24,2725,null,null,null,null,0,122,null,null,"% CCRf"]
[12,2829,24,2842,24,2849,null,null,null,null,0,122,null,null,"average response rate",{"$f":"F37/P20","v":129.25806451612902},{"$f":"(F67-F37)/Q20","v":135.66666666666666},{"$f":"(F98-F67)/R20","v":130.2258064516129},{"$f":"(F128-F98)/S20","v":130.76666666666668},{"$f":"(F159-F128)/T20","v":127.58064516129032},{"$f":"(F189-F159)/U20","v":130.9}]
[21,2961,22,2968,24,2978,null,null,null,null,0,222]
[12,3089,24,3101,24,3108,null,null,null,null,0,122]
[12,3211,24,3224,24,3235,null,null,null,null,0,122]
[12,3332,24,3349,24,3358,null,null,null,null,0,122]
[21,3468,22,3476,24,3485,null,null,null,null,0,222]
[12,3595,24,3624,24,3633,null,null,null,null,0,122]
[12,3734,24,3747,24,3753,null,null,null,null,0,122]
[21,3865,22,3871,24,3879,null,null,null,null,0,222]
[21,3995,22,4002,24,4007,null,null,null,null,0,222]
[21,4126,22,4132,24,4143,null,null,null,null,0,222]
[12,4257,24,4270,24,4275,null,null,null,null,0,122]
[21,4393,22,4405,24,4410,null,null,null,null,0,222]
[12,4507,24,4519,24,4524,null,null,null,null,0,122]
[12,4634,24,4651,24,4660,null,null,null,null,0,122]
[21,4771,22,4776,24,4785,null,null,null,null,0,222]
[12,4886,24,4910,24,4919,null,null,null,null,0,122]
[21,5047,22,5053,24,5060,null,null,null,null,0,222]
[21,5187,22,5197,24,5204,null,null,null,null,0,222]
[12,5306,24,5328,24,5335,null,null,null,null,0,122]
[12,5452,24,5464,24,5472,null,null,null,null,0,122]
[21,5592,22,5597,24,5602,null,null,null,null,0,222]
[21,5713,22,5725,24,5739,null,null,null,null,0,222]
[21,5851,22,5859,24,5867,null,null,null,null,0,222]
[12,5985,24,6038,24,6056,null,null,null,null,0,122]
[12,6155,24,6168,24,6183,null,null,null,null,0,122]
[21,6308,22,6315,24,6338,null,null,null,null,0,222]
[21,6451,22,6457,24,6477,null,null,null,null,0,222]
[21,6596,22,6610,24,6639,null,null,null,null,0,222]
[12,6757,24,6770,24,6780,null,null,null,null,0,122]
[12,6884,24,6910,24,6925,null,null,null,null,0,122]
[12,7025,24,7037,24,7042,null,null,null,null,0,122]
[21,7159,22,7168,24,7175,null,null,null,null,0,222]
[12,7280,24,7293,24,7301,null,null,null,null,0,122]
[21,7413,22,7418,24,7423,null,null,null,null,0,222]
[21,7536,22,7544,24,7568,null,null,null,null,0,222]
[21,7687,22,7692,24,7700,null,null,null,null,0,222]
[12,7811,24,7824,24,7829,null,null,null,null,0,122]
[21,7939,22,7944,24,7952,null,null,null,null,0,222]
[21,8064,22,8069,24,8077,null,null,null,null,0,222]
[21,8186,22,8193,24,8200,null,null,null,null,0,222]
[12,8307,24,8321,24,8332,null,null,null,null,0,122]
[12,8428,24,8440,24,8447,null,null,null,null,0,122]
[12,8548,24,8565,24,8573,null,null,null,null,0,122]
[12,8674,24,8693,24,8719,null,null,null,null,0,122]
[21,8829,22,8835,24,8843,null,null,null,null,0,222]
[21,8956,22,8961,24,8969,null,null,null,null,0,222]
[21,9074,22,9083,24,9091,null,null,null,null,0,222]
[12,9214,24,9227,24,9233,null,null,null,null,0,122]
[12,9343,24,9358,24,9369,null,null,null,null,0,122]
[21,9492,22,9505,24,9526,null,null,null,null,0,222]
[12,9637,24,9652,24,9660,null,null,null,null,0,122]
[12,9771,24,9786,24,9797,null,null,null,null,0,122]
[21,9910,22,9923,24,9937,null,null,null,null,0,222]
[12,10053,24,10066,24,10073,null,null,null,null,0,122]
[21,10183,22,10188,24,10195,null,null,null,null,0,222]
[21,10300,22,10305,24,10314,null,null,null,null,0,222]
[12,10431,24,10445,24,10452,null,null,null,null,0,122]
[21,10569,22,10574,24,10586,null,null,null,null,0,222]
[12,10686,24,10702,24,10713,null,null,null,null,0,122]
[21,10835,22,10848,24,10861,null,null,null,null,0,222]
[21,10984,22,10992,24,10997,null,null,null,null,0,222]
[21,11106,22,11111,24,11128,null,null,null,null,0,222]
[12,11231,24,11245,24,11250,null,null,null,null,0,122]
[12,11350,24,11364,24,11369,null,null,null,null,0,122]
[12,11467,24,11483,24,11488,null,null,null,null,0,122]
[12,11591,24,11605,24,11613,null,null,null,null,0,122]
[12,11714,24,11726,24,11732,null,null,null,null,0,122]
[12,11831,24,11844,24,11851,null,null,null,null,0,122]
[21,11964,22,11970,24,11984,null,null,null,null,0,222]
[21,12096,22,12104,24,12114,null,null,null,null,0,222]
[12,12207,24,12217,24,12233,null,null,null,null,0,122]
[12,12342,24,12360,24,12368,null,null,null,null,0,122]
[12,12466,24,12488,24,12501,null,null,null,null,0,122]
[21,12637,22,12645,24,12649,null,null,null,null,0,222]
[21,12766,22,12771,24,12776,null,null,null,null,0,222]
[12,12874,24,12892,24,12904,null,null,null,null,0,122]
[21,13017,22,13024,24,13043,null,null,null,null,0,222]
[12,13147,24,13157,24,13162,null,null,null,null,0,122]
[12,13260,24,13280,24,13293,null,null,null,null,0,122]
[21,13397,22,13402,24,13415,null,null,null,null,0,222]
[12,13519,24,13543,24,13549,null,null,null,null,0,122]
[12,13644,24,13656,24,13663,null,null,null,null,0,122]
[12,13763,24,13773,24,13787,null,null,null,null,0,122]
[21,13899,22,13905,24,13913,null,null,null,null,0,222]
[21,14023,22,14028,24,14041,null,null,null,null,0,222]
[21,14154,22,14162,24,14174,null,null,null,null,0,222]
[21,14288,22,14295,24,14300,null,null,null,null,0,222]
[12,14398,24,14423,24,14436,null,null,null,null,0,122]
[21,14548,22,14554,24,14568,null,null,null,null,0,222]
[21,14679,22,14699,24,14712,null,null,null,null,0,222]
[12,14829,24,14842,24,14850,null,null,null,null,0,122]
[12,14948,24,14958,24,14974,null,null,null,null,0,122]
[21,15084,22,15090,24,15098,null,null,null,null,0,222]
[21,15214,22,15226,24,15236,null,null,null,null,0,222]
[21,15340,22,15351,24,15356,null,null,null,null,0,222]
[21,15469,22,15482,24,15511,null,null,null,null,0,222]
[21,15621,22,15627,24,15634,null,null,null,null,0,222]
[12,15733,24,15745,24,15750,null,null,null,null,0,122]
[21,15864,22,15874,24,15888,null,null,null,null,0,222]
[12,16018,24,16031,24,16037,null,null,null,null,0,122]
[21,16147,22,16157,24,16164,null,null,null,null,0,222]
[21,16277,22,16281,24,16295,null,null,null,null,0,222]
[21,16400,22,16405,24,16412,null,null,null,null,0,222]
[12,16515,24,16533,24,16540,null,null,null,null,0,122]
[21,16654,22,16659,24,16666,null,null,null,null,0,222]
[21,16779,22,16791,24,16797,null,null,null,null,0,222]
[12,16897,24,16908,24,16916,null,null,null,null,0,122]
[12,17023,24,17036,24,17042,null,null,null,null,0,122]
[12,17141,24,17154,24,17161,null,null,null,null,0,122]
[21,17268,22,17273,24,17285,null,null,null,null,0,222]
[21,17399,22,17405,24,17413,null,null,null,null,0,222]
[21,17535,22,17543,24,17550,null,null,null,null,0,222]
[12,17642,13,17650,24,17659,null,null,null,null,0,112]
[21,17769,22,17777,24,17782,null,null,null,null,0,222]
[21,17906,22,17913,24,17921,null,null,null,null,0,222]
[12,18020,24,18031,24,18036,null,null,null,null,0,122]
[12,18152,24,18177,24,18186,null,null,null,null,0,122]
[12,18286,24,18295,24,18301,null,null,null,null,0,122]
[12,18399,24,18411,24,18416,null,null,null,null,0,122]
[21,18527,22,18533,24,18541,null,null,null,null,0,222]
[21,18648,22,18655,24,18664,null,null,null,null,0,222]
[12,18763,24,18772,24,18787,null,null,null,null,0,122]
[12,18888,24,18900,24,18907,null,null,null,null,0,122]
[21,19023,22,19028,24,19043,null,null,null,null,0,222]
[21,19162,22,19170,24,19182,null,null,null,null,0,222]
[21,19293,22,19298,24,19311,null,null,null,null,0,222]
[21,19426,22,19431,24,19439,null,null,null,null,0,222]
[21,19559,22,19567,24,19585,null,null,null,null,0,222]
[21,19695,22,19709,24,19720,null,null,null,null,0,222]
[21,19836,22,19841,24,19854,null,null,null,null,0,222]
[12,19969,24,19982,24,19992,null,null,null,null,0,122]
[21,20099,22,20105,24,20112,null,null,null,null,0,222]
[21,20244,22,20249,24,20258,null,null,null,null,0,222]
[21,20369,22,20382,24,20397,null,null,null,null,0,222]
[21,20499,22,20512,24,20518,null,null,null,null,0,222]
[21,20628,22,20638,24,20643,null,null,null,null,0,222]
[12,20743,24,20756,24,20764,null,null,null,null,0,122]
[21,20869,22,20880,24,20887,null,null,null,null,0,222]
[21,21001,22,21016,24,21021,null,null,null,null,0,222]
[21,21131,22,21140,24,21144,null,null,null,null,0,222]
[21,21262,22,21271,24,21279,null,null,null,null,0,222]
[12,21379,24,21392,24,21403,null,null,null,null,0,122]
[21,21512,22,21531,24,21543,null,null,null,null,0,222]
[21,21675,22,21682,24,21689,null,null,null,null,0,222]
[21,21813,22,21823,24,21832,null,null,null,null,0,222]
[21,21943,22,21957,24,21962,null,null,null,null,0,222]
[21,22067,22,22075,24,22084,null,null,null,null,0,222]
[21,22189,22,22202,24,22217,null,null,null,null,0,222]
[21,22319,22,22334,24,22346,null,null,null,null,0,222]
[12,22455,24,22467,24,22474,null,null,null,null,0,122]
[21,22582,22,22592,24,22607,null,null,null,null,0,222]
[21,22712,22,22736,24,22744,null,null,null,null,0,222]
[21,22859,22,22866,24,22871,null,null,null,null,0,222]
[12,22971,24,22982,24,22995,null,null,null,null,0,122]
[21,23113,22,23126,24,23154,null,null,null,null,0,222]
[21,23263,22,23275,24,23283,null,null,null,null,0,222]
[21,23386,22,23392,24,23404,null,null,null,null,0,222]
[12,23512,24,23525,24,23533,null,null,null,null,0,122]
[21,23640,22,23647,24,23665,null,null,null,null,0,222]
[12,23772,24,23786,24,23798,null,null,null,null,0,122]
[12,23897,24,23912,24,23919,null,null,null,null,null,122]

{"sheet":"!M914930.101","index":18,"n_rows":184,"n_cols":48,"rows_kept":184,"cut":false,"hidden":false,"merged":[[4,39,4,42],[5,39,5,40],[4,44,4,47],[5,44,5,45],[4,24,4,27],[5,24,5,25],[4,29,4,32],[5,29,5,30],[4,34,4,37],[5,34,5,35],[1,1,1,2],[5,13,5,14],[18,13,18,14],[19,13,19,14],[4,19,4,22],[5,19,5,20]]}
["Report for:!M914930.101"]
["Date:","<date>"]
["Hen:","<hen>",null,null,null,"Correct Sequence",{"$f":"Start!J2","v":211},null,null,null,null,null,null,null,null,"Total Sequences in Data",{"$f":"4994-COUNTBLANK(L7:L5000)","v":178},null,null,null,null,"Total Sequences in Block Data",{"$f":"COUNTA(L7:L36)","v":30},null,null,null,"Total Sequences in Block Data",{"$f":"COUNTA(L37:L65)","v":29},null,null,null,"Total Sequences in Block Data",{"$f":"COUNTA(L66:L95)","v":30},null,null,null,"Total Sequences in Block Data",{"$f":"COUNTA(L96:L125)","v":30},null,null,null,"Total Sequences in Block Data",{"$f":"COUNTA(L126:L154)","v":29},null,null,null,"Total Sequences in Block Data",{"$f":"COUNTA(L155:L184)","v":30}]
[null,null,null,null,null,null,null,null,null,null,null,null,null,null,null,"Total Sequences in Summary",{"$f":"SUM(O7:O14)","v":178},null,null,null,null,"Total Sequences in Block Summary",{"$f":"SUM(U7:U14)","v":30},null,null,null,"Total Sequences in Block Summary",{"$f":"SUM(Z7:Z14)","v":29},null,null,null,"Total Sequences in Block Summary",{"$f":"SUM(AE7:AE14)","v":30},null,null,null,"Total Sequences in Block Summary",{"$f":"SUM(AJ7:AJ14)","v":30},null,null,null,"Total Sequences in Block Summary",{"$f":"SUM(AO7:AO14)","v":29},null,null,null,"Total Sequences in Block Summary",{"$f":"SUM(AT7:AT14)","v":30}]
[null,null,null,null,null,null,null,null,null,null,null,null,null,null,null,null,null,null,null,"Block 1",null,null,null,null,"Block 2",null,null,null,null,"Block 3",null,null,null,null,"Block 4",null,null,null,null,"Block 5",null,null,null,null,"Block 6"]
["Sequence\nComponent\n1","Time\n1","Sequence\nComponent\n2","Time\n2","Sequence\nComponent\n3","Time\n3","Sequence\nComponent\n4","Time\n4","Sequence\nComponent\n5","Time\n5","Correct?\n0=No 1=Yes","Sequence",null,"Frequency",null,"Relative Frequency","Variability",null,null,"Frequency",null,"Relative Frequency","Variability",null,"Frequency",null,"Relative Frequency","Variability",null,"Frequency",null,"Relative Frequency","Variability",null,"Frequency",null,"Relative Frequency","Variability",null,"Frequency",null,"Relative Frequency","Variability",null,"Frequency",null,"Relative Frequency","Variability"]
[12,15,24,31,24,39,null,null,null,null,0,122,null,111,{"$f":"COUNTIF($L$7:$L$500,N7)","v":0},{"$f":"O7/$Q$4","v":0},{"$f":"IF(P7=0,0,(P7*((LOG(P7))/LOG(2))))","v":0},null,null,{"$f":"N7","v":111},{"$f":"COUNTIF(L7:L36,T7)","v":0},{"$f":"U7/(W4-U11)","v":0},{"$f":"IF(V7=0,0,(V7*((LOG(V7))/LOG(2))))","v":0},null,{"$f":"N7","v":111},{"$f":"COUNTIF(L37:L65,Y7)","v":0},{"$f":"Z7/(AB4-Z11)","v":0},{"$f":"IF(AA7=0,0,(AA7*((LOG(AA7))/LOG(2))))","v":0},null,{"$f":"N7","v":111},{"$f":"COUNTIF(L66:L95,AD7)","v":0},{"$f":"AE7/(AG4-AE11)","v":0},{"$f":"IF(AF7=0,0,(AF7*((LOG(AF7))/LOG(2))))","v":0},null,{"$f":"N7","v":111},{"$f":"COUNTIF(L96:L125,AI7)","v":0},{"$f":"AJ7/(AL4-AJ11)","v":0},{"$f":"IF(AK7=0,0,(AK7*((LOG(AK7))/LOG(2))))","v":0},null,{"$f":"N7","v":111},{"$f":"COUNTIF(L126:L154,AN7)","v":0},{"$f":"AO7/(AQ4-AO11)","v":0},{"$f":"IF(AP7=0,0,(AP7*((LOG(AP7))/LOG(2))))","v":0},null,{"$f":"N7","v":111},{"$f":"COUNTIF(L155:L184,AS7)","v":0},{"$f":"AT7/(AV4-AT11)","v":0},{"$f":"IF(AU7=0,0,(AU7*((LOG(AU7))/LOG(2))))","v":0}]
[12,149,24,162,24,168,null,null,null,null,0,122,null,112,{"$f":"COUNTIF($L$7:$L$500,N8)","v":2},{"$f":"O8/$Q$4","v":1.1235955056179775E-2},{"$f":"IF(P8=0,0,(P8*((LOG(P8))/LOG(2))))","v":-7.2761049786139301E-2},null,null,{"$f":"N8","v":112},{"$f":"COUNTIF(L7:L36,T8)","v":1},{"$f":"U8/(W4-U11)","v":3.3333333333333333E-2},{"$f":"IF(V8=0,0,(V8*((LOG(V8))/LOG(2))))","v":-0.16356301985361729},null,{"$f":"N8","v":112},{"$f":"COUNTIF(L37:L65,Y8)","v":0},{"$f":"Z8/(AB4-Z11)","v":0},{"$f":"IF(AA8=0,0,(AA8*((LOG(AA8))/LOG(2))))","v":0},null,{"$f":"N8","v":112},{"$f":"COUNTIF(L66:L95,AD8)","v":1},{"$f":"AE8/(AG4-AE11)","v":3.3333333333333333E-2},{"$f":"IF(AF8=0,0,(AF8*((LOG(AF8))/LOG(2))))","v":-0.16356301985361729},null,{"$f":"N8","v":112},{"$f":"COUNTIF(L96:L125,AI8)","v":0},{"$f":"AJ8/(AL4-AJ11)","v":0},{"$f":"IF(AK8=0,0,(AK8*((LOG(AK8))/LOG(2))))","v":0},null,{"$f":"N8","v":112},{"$f":"COUNTIF(L126:L154,AN8)","v":0},{"$f":"AO8/(AQ4-AO11)","v":0},{"$f":"IF(AP8=0,0,(AP8*((LOG(AP8))/LOG(2))))","v":0},null,{"$f":"N8","v":112},{"$f":"COUNTIF(L155:L184,AS8)","v":0},{"$f":"AT8/(AV4-AT11)","v":0},{"$f":"IF(AU8=0,0,(AU8*((LOG(AU8))/LOG(2))))","v":0}]
[12,272,24,281,24,287,null,null,null,null,0,122,null,121,{"$f":"COUNTIF($L$7:$L$500,N9)","v":0},{"$f":"O9/$Q$4","v":0},{"$f":"IF(P9=0,0,(P9*((LOG(P9))/LOG(2))))","v":0},null,null,{"$f":"N9","v":121},{"$f":"COUNTIF(L7:L36,T9)","v":0},{"$f":"U9/(W4-U11)","v":0},{"$f":"IF(V9=0,0,(V9*((LOG(V9))/LOG(2))))","v":0},null,{"$f":"N9","v":121},{"$f":"COUNTIF(L37:L65,Y9)","v":0},{"$f":"Z9/(AB4-Z11)","v":0},{"$f":"IF(AA9=0,0,(AA9*((LOG(AA9))/LOG(2))))","v":0},null,{"$f":"N9","v":121},{"$f":"COUNTIF(L66:L95,AD9)","v":0},{"$f":"AE9/(AG4-AE11)","v":0},{"$f":"IF(AF9=0,0,(AF9*((LOG(AF9))/LOG(2))))","v":0},null,{"$f":"N9","v":121},{"$f":"COUNTIF(L96:L125,AI9)","v":0},{"$f":"AJ9/(AL4-AJ11)","v":0},{"$f":"IF(AK9=0,0,(AK9*((LOG(AK9))/LOG(2))))","v":0},null,{"$f":"N9","v":121},{"$f":"COUNTIF(L126:L154,AN9)","v":0},{"$f":"AO9/(AQ4-AO11)","v":0},{"$f":"IF(AP9=0,0,(AP9*((LOG(AP9))/LOG(2))))","v":0},null,{"$f":"N9","v":121},{"$f":"COUNTIF(L155:L184,AS9)","v":0},{"$f":"AT9/(AV4-AT11)","v":0},{"$f":"IF(AU9=0,0,(AU9*((LOG(AU9))/LOG(2))))","v":0}]
[12,390,24,402,24,407,null,null,null,null,0,122,null,122,{"$f":"COUNTIF($L$7:$L$500,N10)","v":83},{"$f":"O10/$Q$4","v":0.46629213483146065},{"$f":"IF(P10=0,0,(P10*((LOG(P10))/LOG(2))))","v":-0.513244954878743},null,null,{"$f":"N10","v":122},{"$f":"COUNTIF(L7:L36,T10)","v":16},{"$f":"U10/(W4-U11)","v":0.53333333333333333},{"$f":"IF(V10=0,0,(V10*((LOG(V10))/LOG(2))))","v":-0.4836749843245432},null,{"$f":"N10","v":122},{"$f":"COUNTIF(L37:L65,Y10)","v":14},{"$f":"Z10/(AB4-Z11)","v":0.48275862068965519},{"$f":"IF(AA10=0,0,(AA10*((LOG(AA10))/LOG(2))))","v":-0.50719879389584666},null,{"$f":"N10","v":122},{"$f":"COUNTIF(L66:L95,AD10)","v":14},{"$f":"AE10/(AG4-AE11)","v":0.46666666666666667},{"$f":"IF(AF10=0,0,(AF10*((LOG(AF10))/LOG(2))))","v":-0.51311664765709342},null,{"$f":"N10","v":122},{"$f":"COUNTIF(L96:L125,AI10)","v":11},{"$f":"AJ10/(AL4-AJ11)","v":0.36666666666666664},{"$f":"IF(AK10=0,0,(AK10*((LOG(AK10))/LOG(2))))","v":-0.53073495822278116},null,{"$f":"N10","v":122},{"$f":"COUNTIF(L126:L154,AN10)","v":12},{"$f":"AO10/(AQ4-AO11)","v":0.41379310344827586},{"$f":"IF(AP10=0,0,(AP10*((LOG(AP10))/LOG(2))))","v":-0.5267662735474824},null,{"$f":"N10","v":122},{"$f":"COUNTIF(L155:L184,AS10)","v":16},{"$f":"AT10/(AV4-AT11)","v":0.53333333333333333},{"$f":"IF(AU10=0,0,(AU10*((LOG(AU10))/LOG(2))))","v":-0.4836749843245432}]
[12,506,24,521,24,530,null,null,null,null,0,122,null,211,{"$f":"COUNTIF($L$7:$L$500,N11)","v":0},{"$f":"O11/$Q$4","v":0},{"$f":"IF(P11=0,0,(P11*((LOG(P11))/LOG(2))))","v":0},null,null,{"$f":"N11","v":211},{"$f":"COUNTIF(L7:L36,T11)","v":0},null,null,null,{"$f":"N11","v":211},{"$f":"COUNTIF(L37:L65,Y11)","v":0},null,null,null,{"$f":"N11","v":211},{"$f":"COUNTIF(L66:L95,AD11)","v":0},null,null,null,{"$f":"N11","v":211},{"$f":"COUNTIF(L96:L125,AI11)","v":0},null,null,null,{"$f":"N11","v":211},{"$f":"COUNTIF(L126:L154,AN11)","v":0},null,null,null,{"$f":"N11","v":211},{"$f":"COUNTIF(L155:L184,AS11)","v":0}]
[21,660,22,669,24,687,null,null,null,null,0,222,null,212,{"$f":"COUNTIF($L$7:$L$500,N12)","v":0},{"$f":"O12/$Q$4","v":0},{"$f":"IF(P12=0,0,(P12*((LOG(P12))/LOG(2))))","v":0},null,null,{"$f":"N12","v":212},{"$f":"COUNTIF(L7:L36,T12)","v":0},{"$f":"U12/(W4-U11)","v":0},{"$f":"IF(V12=0,0,(V12*((LOG(V12))/LOG(2))))","v":0},null,{"$f":"N12","v":212},{"$f":"COUNTIF(L37:L65,Y12)","v":0},{"$f":"Z12/(AB4-Z11)","v":0},{"$f":"IF(AA12=0,0,(AA12*((LOG(AA12))/LOG(2))))","v":0},null,{"$f":"N12","v":212},{"$f":"COUNTIF(L66:L95,AD12)","v":0},{"$f":"AE12/(AG4-AE11)","v":0},{"$f":"IF(AF12=0,0,(AF12*((LOG(AF12))/LOG(2))))","v":0},null,{"$f":"N12","v":212},{"$f":"COUNTIF(L96:L125,AI12)","v":0},{"$f":"AJ12/(AL4-AJ11)","v":0},{"$f":"IF(AK12=0,0,(AK12*((LOG(AK12))/LOG(2))))","v":0},null,{"$f":"N12","v":212},{"$f":"COUNTIF(L126:L154,AN12)","v":0},{"$f":"AO12/(AQ4-AO11)","v":0},{"$f":"IF(AP12=0,0,(AP12*((LOG(AP12))/LOG(2))))","v":0},null,{"$f":"N12","v":212},{"$f":"COUNTIF(L155:L184,AS12)","v":0},{"$f":"AT12/(AV4-AT11)","v":0},{"$f":"IF(AU12=0,0,(AU12*((LOG(AU12))/LOG(2))))","v":0}]
[21,819,22,824,24,845,null,null,null,null,0,222,null,221,{"$f":"COUNTIF($L$7:$L$500,N13)","v":0},{"$f":"O13/$Q$4","v":0},{"$f":"IF(P13=0,0,(P13*((LOG(P13))/LOG(2))))","v":0},null,null,{"$f":"N13","v":221},{"$f":"COUNTIF(L7:L36,T13)","v":0},{"$f":"U13/(W4-U11)","v":0},{"$f":"IF(V13=0,0,(V13*((LOG(V13))/LOG(2))))","v":0},null,{"$f":"N13","v":221},{"$f":"COUNTIF(L37:L65,Y13)","v":0},{"$f":"Z13/(AB4-Z11)","v":0},{"$f":"IF(AA13=0,0,(AA13*((LOG(AA13))/LOG(2))))","v":0},null,{"$f":"N13","v":221},{"$f":"COUNTIF(L66:L95,AD13)","v":0},{"$f":"AE13/(AG4-AE11)","v":0},{"$f":"IF(AF13=0,0,(AF13*((LOG(AF13))/LOG(2))))","v":0},null,{"$f":"N13","v":221},{"$f":"COUNTIF(L96:L125,AI13)","v":0},{"$f":"AJ13/(AL4-AJ11)","v":0},{"$f":"IF(AK13=0,0,(AK13*((LOG(AK13))/LOG(2))))","v":0},null,{"$f":"N13","v":221},{"$f":"COUNTIF(L126:L154,AN13)","v":0},{"$f":"AO13/(AQ4-AO11)","v":0},{"$f":"IF(AP13=0,0,(AP13*((LOG(AP13))/LOG(2))))","v":0},null,{"$f":"N13","v":221},{"$f":"COUNTIF(L155:L184,AS13)","v":0},{"$f":"AT13/(AV4-AT11)","v":0},{"$f":"IF(AU13=0,0,(AU13*((LOG(AU13))/LOG(2))))","v":0}]
[12,969,13,985,24,996,null,null,null,null,0,112,null,222,{"$f":"COUNTIF($L$7:$L$500,N14)","v":93},{"$f":"O14/$Q$4","v":0.52247191011235961},{"$f":"IF(P14=0,0,(P14*((LOG(P14))/LOG(2))))","v":-0.48933393060015767},null,null,{"$f":"N14","v":222},{"$f":"COUNTIF(L7:L36,T14)","v":13},{"$f":"U14/(W4-U11)","v":0.43333333333333335},{"$f":"IF(V14=0,0,(V14*((LOG(V14))/LOG(2))))","v":-0.52279538023588479},null,{"$f":"N14","v":222},{"$f":"COUNTIF(L37:L65,Y14)","v":15},{"$f":"Z14/(AB4-Z11)","v":0.51724137931034486},{"$f":"IF(AA14=0,0,(AA14*((LOG(AA14))/LOG(2))))","v":-0.49194331009606224},null,{"$f":"N14","v":222},{"$f":"COUNTIF(L66:L95,AD14)","v":15},{"$f":"AE14/(AG4-AE11)","v":0.5},{"$f":"IF(AF14=0,0,(AF14*((LOG(AF14))/LOG(2))))","v":-0.5},null,{"$f":"N14","v":222},{"$f":"COUNTIF(L96:L125,AI14)","v":19},{"$f":"AJ14/(AL4-AJ11)","v":0.6333333333333333},{"$f":"IF(AK14=0,0,(AK14*((LOG(AK14))/LOG(2))))","v":-0.41734328537112425},null,{"$f":"N14","v":222},{"$f":"COUNTIF(L126:L154,AN14)","v":17},{"$f":"AO14/(AQ4-AO11)","v":0.58620689655172409},{"$f":"IF(AP14=0,0,(AP14*((LOG(AP14))/LOG(2))))","v":-0.45168305572113648},null,{"$f":"N14","v":222},{"$f":"COUNTIF(L155:L184,AS14)","v":14},{"$f":"AT14/(AV4-AT11)","v":0.46666666666666667},{"$f":"IF(AU14=0,0,(AU14*((LOG(AU14))/LOG(2))))","v":-0.51311664765709342}]
[21,1109,22,1114,24,1122,null,null,null,null,0,222,null,null,null,{"$f":"SUM(P7:P14)","v":1},{"$f":"-SUM(Q7:Q14)","v":1.0753399352650399},null,null,null,null,{"$f":"SUM(V7:V14)","v":1},{"$f":"-SUM(W7:W14)","v":1.1700333844140451},null,null,null,{"$f":"SUM(AA7:AA14)","v":1},{"$f":"-SUM(AB7:AB14)","v":0.99914210399190884},null,null,null,{"$f":"SUM(AF7:AF14)","v":1},{"$f":"-SUM(AG7:AG14)","v":1.1766796675107107},null,null,null,{"$f":"SUM(AK7:AK14)","v":1},{"$f":"-SUM(AL7:AL14)","v":0.94807824359390547},null,null,null,{"$f":"SUM(AP7:AP14)","v":1},{"$f":"-SUM(AQ7:AQ14)","v":0.97844932926861894},null,null,null,{"$f":"SUM(AU7:AU14)","v":1},{"$f":"-SUM(AV7:AV14)","v":0.99679163198163656}]
[12,1221,24,1233,24,1238,null,null,null,null,0,122,null,null,null,"U=",{"$f":"Q15/(LOG(Q4)/LOG(2))","v":0.14384407164796797},null,null,null,null,"U1=",{"$f":"W15/(LOG(W4)/LOG(2))","v":0.23844700867412466},null,null,null,"U2=",{"$f":"AB15/(LOG(AB4)/LOG(2))","v":0.20567023728458844},null,null,null,"U3=",{"$f":"AG15/(LOG(AG4)/LOG(2))","v":0.23980148825078645},null,null,null,"U4=",{"$f":"AL15/(LOG(AL4)/LOG(2))","v":0.19321365029870435},null,null,null,"U5=",{"$f":"AQ15/(LOG(AQ4)/LOG(2))","v":0.20141069515298188},null,null,null,"U6=",{"$f":"AV15/(LOG(AV4)/LOG(2))","v":0.20314119757912014}]
[21,1353,22,1364,24,1372,null,null,null,null,0,222]
[12,1499,24,1516,24,1524,null,null,null,null,0,122]
[21,1658,22,1669,24,1678,null,null,null,null,0,222,null,"Total Target Seq"]
[21,1791,22,1805,24,1813,null,null,null,null,0,222,null,{"$f":"COUNTIF(L7:L184,G3)","v":0},null,30,29,30,30,29,30]
[12,1913,24,1924,24,1929,null,null,null,null,0,122,null,null,null,"% of reinforcement given in 6 equal intervals based on number of trials "]
[12,2031,24,2042,24,2047,null,null,null,null,0,122,null,null,null,"%_1","%_2","%_3","%_4","%_5","%_6"]
[21,2176,22,2191,24,2196,null,null,null,null,0,222,null,null,"target sequence",{"$f":"$G$3","v":211},{"$f":"$G$3","v":211},{"$f":"$G$3","v":211},{"$f":"$G$3","v":211},{"$f":"$G$3","v":211},{"$f":"$G$3","v":211}]
[12,2308,24,2320,24,2335,null,null,null,null,0,122,null,null,"total reinforcement",{"$f":"U11","v":0},{"$f":"Z11","v":0},{"$f":"AE11","v":0},{"$f":"AJ11","v":0},{"$f":"AO11","v":0},{"$f":"AT11","v":0}]
[12,2443,24,2456,24,2470,null,null,null,null,0,122,null,null,"% target"]
[12,2570,24,2586,24,2600,null,null,null,null,0,122,null,null,"CCRF"]
[21,2711,22,2716,24,2728,null,null,null,null,0,222,null,null,"% CCRf"]
[12,2829,24,2846,24,2854,null,null,null,null,0,122,null,null,"average response rate",{"$f":"F36/P20","v":130.69999999999999},{"$f":"(F65-F36)/Q20","v":133.20689655172413},{"$f":"(F95-F65)/R20","v":133.33333333333334},{"$f":"(F125-F95)/S20","v":133.13333333333333},{"$f":"(F154-F125)/T20","v":137.27586206896552},{"$f":"(F184-F154)/U20","v":138.69999999999999}]
[21,2974,22,2979,24,2992,null,null,null,null,0,222]
[12,3100,24,3115,24,3122,null,null,null,null,0,122]
[12,3222,24,3238,24,3251,null,null,null,null,0,122]
[21,3373,22,3385,24,3397,null,null,null,null,0,222]
[12,3518,24,3531,24,3537,null,null,null,null,0,122]
[21,3650,22,3655,24,3664,null,null,null,null,0,222]
[21,3775,22,3783,24,3791,null,null,null,null,0,222]
[21,3897,22,3903,24,3921,null,null,null,null,0,222]
[21,4049,22,4056,24,4064,null,null,null,null,0,222]
[21,4208,22,4214,24,4232,null,null,null,null,0,222]
[12,4352,24,4365,24,4370,null,null,null,null,0,122]
[12,4470,24,4480,24,4485,null,null,null,null,0,122]
[12,4585,24,4600,24,4613,null,null,null,null,0,122]
[21,4741,22,4752,24,4766,null,null,null,null,0,222]
[21,4876,22,4881,24,4888,null,null,null,null,0,222]
[21,5003,22,5007,24,5014,null,null,null,null,0,222]
[12,5114,24,5133,24,5145,null,null,null,null,0,122]
[21,5257,22,5290,24,5303,null,null,null,null,0,222]
[12,5403,24,5419,24,5431,null,null,null,null,0,122]
[12,5554,24,5567,24,5574,null,null,null,null,0,122]
[12,5675,24,5689,24,5699,null,null,null,null,0,122]
[21,5809,22,5820,24,5829,null,null,null,null,0,222]
[21,5940,22,5946,24,5951,null,null,null,null,0,222]
[21,6077,22,6084,24,6092,null,null,null,null,0,222]
[21,6207,22,6215,24,6226,null,null,null,null,0,222]
[21,6339,22,6344,24,6356,null,null,null,null,0,222]
[12,6454,24,6464,24,6470,null,null,null,null,0,122]
[12,6579,24,6591,24,6598,null,null,null,null,0,122]
[21,6708,22,6715,24,6726,null,null,null,null,0,222]
[12,6827,24,6842,24,6847,null,null,null,null,0,122]
[12,6948,24,6961,24,6967,null,null,null,null,0,122]
[21,7083,22,7090,24,7097,null,null,null,null,0,222]
[12,7198,24,7220,24,7243,null,null,null,null,0,122]
[21,7367,22,7372,24,7380,null,null,null,null,0,222]
[21,7494,22,7522,24,7532,null,null,null,null,0,222]
[12,7646,24,7659,24,7667,null,null,null,null,0,122]
[12,7766,24,7777,24,7784,null,null,null,null,0,122]
[21,7895,22,7900,24,7910,null,null,null,null,0,222]
[12,8032,24,8042,24,8053,null,null,null,null,0,122]
[12,8182,24,8199,24,8207,null,null,null,null,0,122]
[21,8321,22,8327,24,8335,null,null,null,null,0,222]
[21,8454,22,8463,24,8477,null,null,null,null,0,222]
[12,8577,24,8590,24,8596,null,null,null,null,0,122]
[12,8693,24,8706,24,8713,null,null,null,null,0,122]
[12,8812,24,8826,24,8831,null,null,null,null,0,122]
[12,8929,24,8941,24,8953,null,null,null,null,0,122]
[12,9086,24,9099,24,9105,null,null,null,null,0,122]
[21,9216,22,9229,24,9239,null,null,null,null,0,222]
[12,9337,24,9349,24,9355,null,null,null,null,0,122]
[12,9452,24,9471,24,9477,null,null,null,null,0,122]
[21,9583,22,9610,24,9633,null,null,null,null,0,222]
[21,9744,22,9752,24,9760,null,null,null,null,0,222]
[12,9860,24,9875,24,9887,null,null,null,null,0,122]
[12,9985,24,9997,24,10002,null,null,null,null,0,122]
[21,10112,22,10166,24,10184,null,null,null,null,0,222]
[21,10306,22,10313,24,10321,null,null,null,null,0,222]
[21,10433,22,10446,24,10451,null,null,null,null,0,222]
[12,10547,24,10564,24,10569,null,null,null,null,0,122]
[12,10670,24,10679,24,10695,null,null,null,null,0,122]
[21,10807,22,10817,24,10822,null,null,null,null,0,222]
[12,10908,13,10917,24,10927,null,null,null,null,0,112]
[21,11044,22,11056,24,11064,null,null,null,null,0,222]
[21,11186,22,11209,24,11221,null,null,null,null,0,222]
[21,11340,22,11346,24,11363,null,null,null,null,0,222]
[12,11461,24,11473,24,11480,null,null,null,null,0,122]
[21,11615,22,11633,24,11642,null,null,null,null,0,222]
[21,11755,22,11770,24,11784,null,null,null,null,0,222]
[21,11893,22,11901,24,11917,null,null,null,null,0,222]
[12,12011,24,12023,24,12030,null,null,null,null,0,122]
[21,12152,22,12161,24,12175,null,null,null,null,0,222]
[12,12275,24,12288,24,12295,null,null,null,null,0,122]
[12,12396,24,12412,24,12417,null,null,null,null,0,122]
[21,12527,22,12544,24,12553,null,null,null,null,0,222]
[21,12676,22,12694,24,12708,null,null,null,null,0,222]
[12,12812,24,12835,24,12848,null,null,null,null,0,122]
[21,12955,22,12962,24,12976,null,null,null,null,0,222]
[12,13077,24,13087,24,13092,null,null,null,null,0,122]
[21,13197,22,13215,24,13252,null,null,null,null,0,222]
[21,13366,22,13374,24,13381,null,null,null,null,0,222]
[21,13494,22,13505,24,13518,null,null,null,null,0,222]
[21,13641,22,13671,24,13680,null,null,null,null,0,222]
[12,13780,24,13810,24,13822,null,null,null,null,0,122]
[12,13922,24,13934,24,13941,null,null,null,null,0,122]
[12,14036,24,14050,24,14057,null,null,null,null,0,122]
[12,14159,24,14171,24,14177,null,null,null,null,0,122]
[21,14294,22,14305,24,14323,null,null,null,null,0,222]
[21,14435,22,14442,24,14451,null,null,null,null,0,222]
[21,14556,22,14571,24,14584,null,null,null,null,0,222]
[21,14692,22,14710,24,14720,null,null,null,null,0,222]
[21,14845,22,14850,24,14860,null,null,null,null,0,222]
[21,14973,22,14986,24,14992,null,null,null,null,0,222]
[21,15101,22,15111,24,15125,null,null,null,null,0,222]
[12,15227,24,15244,24,15255,null,null,null,null,0,122]
[21,15365,22,15375,24,15382,null,null,null,null,0,222]
[21,15491,22,15509,24,15521,null,null,null,null,0,222]
[12,15623,24,15636,24,15657,null,null,null,null,0,122]
[21,15766,22,15772,24,15778,null,null,null,null,0,222]
[21,15920,22,15931,24,15944,null,null,null,null,0,222]
[21,16069,22,16083,24,16099,null,null,null,null,0,222]
[21,16215,22,16223,24,16270,null,null,null,null,0,222]
[21,16385,22,16390,24,16401,null,null,null,null,0,222]
[21,16512,22,16526,24,16533,null,null,null,null,0,222]
[21,16648,22,16656,24,16666,null,null,null,null,0,222]
[21,16777,22,16782,24,16793,null,null,null,null,0,222]
[12,16893,24,16923,24,16930,null,null,null,null,0,122]
[21,17036,22,17041,24,17048,null,null,null,null,0,222]
[12,17143,24,17169,24,17177,null,null,null,null,0,122]
[21,17286,22,17305,24,17325,null,null,null,null,0,222]
[21,17440,22,17447,24,17456,null,null,null,null,0,222]
[21,17578,22,17596,24,17610,null,null,null,null,0,222]
[12,17726,24,17742,24,17749,null,null,null,null,0,122]
[21,17855,22,17871,24,17880,null,null,null,null,0,222]
[21,17988,22,18002,24,18014,null,null,null,null,0,222]
[12,18114,24,18131,24,18142,null,null,null,null,0,122]
[21,18249,22,18258,24,18266,null,null,null,null,0,222]
[12,18362,24,18388,24,18396,null,null,null,null,0,122]
[21,18504,22,18510,24,18522,null,null,null,null,0,222]
[12,18633,24,18667,24,18686,null,null,null,null,0,122]
[12,18781,24,18796,24,18808,null,null,null,null,0,122]
[12,18918,24,18927,24,18941,null,null,null,null,0,122]
[12,19040,24,19053,24,19058,null,null,null,null,0,122]
[21,19181,22,19199,24,19213,null,null,null,null,0,222]
[12,19312,24,19328,24,19345,null,null,null,null,0,122]
[21,19451,22,19463,24,19515,null,null,null,null,0,222]
[12,19618,24,19630,24,19643,null,null,null,null,0,122]
[12,19739,24,19751,24,19759,null,null,null,null,0,122]
[21,19858,22,19866,24,19925,null,null,null,null,0,222]
[12,20022,24,20034,24,20072,null,null,null,null,0,122]
[12,20176,24,20188,24,20195,null,null,null,null,0,122]
[21,20310,22,20326,24,20338,null,null,null,null,0,222]
[12,20440,24,20452,24,20459,null,null,null,null,0,122]
[12,20560,24,20582,24,20595,null,null,null,null,0,122]
[21,20710,22,20721,24,20728,null,null,null,null,0,222]
[12,20835,24,20853,24,20864,null,null,null,null,0,122]
[12,20961,24,20992,24,21017,null,null,null,null,0,122]
[21,21128,22,21143,24,21151,null,null,null,null,0,222]
[21,21274,22,21282,24,21301,null,null,null,null,0,222]
[12,21394,24,21406,24,21416,null,null,null,null,0,122]
[21,21528,22,21533,24,21548,null,null,null,null,0,222]
[21,21655,22,21674,24,21692,null,null,null,null,0,222]
[12,21792,24,21836,24,21864,null,null,null,null,0,122]
[21,21977,22,21982,24,21999,null,null,null,null,0,222]
[12,22096,24,22109,24,22115,null,null,null,null,0,122]
[12,22213,24,22226,24,22233,null,null,null,null,0,122]
[12,22328,24,22353,24,22369,null,null,null,null,0,122]
[21,22495,22,22515,24,22549,null,null,null,null,0,222]
[12,22647,24,22656,24,22674,null,null,null,null,0,122]
[12,22770,24,22780,24,22788,null,null,null,null,0,122]
[12,22885,24,22899,24,22910,null,null,null,null,0,122]
[12,23008,24,23021,24,23025,null,null,null,null,0,122]
[21,23159,22,23169,24,23177,null,null,null,null,0,222]
[12,23279,24,23309,24,23317,null,null,null,null,0,122]
[21,23441,22,23456,24,23472,null,null,null,null,0,222]
[21,23606,22,23617,24,23631,null,null,null,null,0,222]
[21,23742,22,23754,24,23760,null,null,null,null,0,222]
[21,23867,22,23901,24,23920,null,null,null,null,null,222]

{"sheet":"!M915800.101","index":19,"n_rows":177,"n_cols":48,"rows_kept":177,"cut":false,"hidden":false,"merged":[[4,39,4,42],[5,39,5,40],[4,44,4,47],[5,44,5,45],[4,24,4,27],[5,24,5,25],[4,29,4,32],[5,29,5,30],[4,34,4,37],[5,34,5,35],[1,1,1,2],[5,13,5,14],[18,13,18,14],[19,13,19,14],[4,19,4,22],[5,19,5,20]]}
["Report for:!M915800.101"]
["Date:","<date>"]
["Hen:","<hen>",null,null,null,"Correct Sequence",{"$f":"Start!J2","v":211},null,null,null,null,null,null,null,null,"Total Sequences in Data",{"$f":"4994-COUNTBLANK(L7:L5000)","v":171},null,null,null,null,"Total Sequences in Block Data",{"$f":"COUNTA(L7:L35)","v":29},null,null,null,"Total Sequences in Block Data",{"$f":"COUNTA(L36:L63)","v":28},null,null,null,"Total Sequences in Block Data",{"$f":"COUNTA(L64:L92)","v":29},null,null,null,"Total Sequences in Block Data",{"$f":"COUNTA(L93:L120)","v":28},null,null,null,"Total Sequences in Block Data",{"$f":"COUNTA(L121:L149)","v":29},null,null,null,"Total Sequences in Block Data",{"$f":"COUNTA(L150:L177)","v":28}]
[null,null,null,null,null,null,null,null,null,null,null,null,null,null,null,"Total Sequences in Summary",{"$f":"SUM(O7:O14)","v":171},null,null,null,null,"Total Sequences in Block Summary",{"$f":"SUM(U7:U14)","v":29},null,null,null,"Total Sequences in Block Summary",{"$f":"SUM(Z7:Z14)","v":28},null,null,null,"Total Sequences in Block Summary",{"$f":"SUM(AE7:AE14)","v":29},null,null,null,"Total Sequences in Block Summary",{"$f":"SUM(AJ7:AJ14)","v":28},null,null,null,"Total Sequences in Block Summary",{"$f":"SUM(AO7:AO14)","v":29},null,null,null,"Total Sequences in Block Summary",{"$f":"SUM(AT7:AT14)","v":28}]
[null,null,null,null,null,null,null,null,null,null,null,null,null,null,null,null,null,null,null,"Block 1",null,null,null,null,"Block 2",null,null,null,null,"Block 3",null,null,null,null,"Block 4",null,null,null,null,"Block 5",null,null,null,null,"Block 6"]
["Sequence\nComponent\n1","Time\n1","Sequence\nComponent\n2","Time\n2","Sequence\nComponent\n3","Time\n3","Sequence\nComponent\n4","Time\n4","Sequence\nComponent\n5","Time\n5","Correct?\n0=No 1=Yes","Sequence",null,"Frequency",null,"Relative Frequency","Variability",null,null,"Frequency",null,"Relative Frequency","Variability",null,"Frequency",null,"Relative Frequency","Variability",null,"Frequency",null,"Relative Frequency","Variability",null,"Frequency",null,"Relative Frequency","Variability",null,"Frequency",null,"Relative Frequency","Variability",null,"Frequency",null,"Relative Frequency","Variability"]
[12,10,13,20,13,29,null,null,null,null,0,111,null,111,{"$f":"COUNTIF($L$7:$L$500,N7)","v":1},{"$f":"O7/$Q$4","v":5.8479532163742687E-3},{"$f":"IF(P7=0,0,(P7*((LOG(P7))/LOG(2))))","v":-4.3379254473016944E-2},null,null,{"$f":"N7","v":111},{"$f":"COUNTIF(L7:L35,T7)","v":1},{"$f":"U7/(W4-U11)","v":3.4482758620689655E-2},{"$f":"IF(V7=0,0,(V7*((LOG(V7))/LOG(2))))","v":-0.16751658603888178},null,{"$f":"N7","v":111},{"$f":"COUNTIF(L36:L63,Y7)","v":0},{"$f":"Z7/(AB4-Z11)","v":0},{"$f":"IF(AA7=0,0,(AA7*((LOG(AA7))/LOG(2))))","v":0},null,{"$f":"N7","v":111},{"$f":"COUNTIF(L64:L92,AD7)","v":0},{"$f":"AE7/(AG4-AE11)","v":0},{"$f":"IF(AF7=0,0,(AF7*((LOG(AF7))/LOG(2))))","v":0},null,{"$f":"N7","v":111},{"$f":"COUNTIF(L93:L120,AI7)","v":0},{"$f":"AJ7/(AL4-AJ11)","v":0},{"$f":"IF(AK7=0,0,(AK7*((LOG(AK7))/LOG(2))))","v":0},null,{"$f":"N7","v":111},{"$f":"COUNTIF(L121:L149,AN7)","v":0},{"$f":"AO7/(AQ4-AO11)","v":0},{"$f":"IF(AP7=0,0,(AP7*((LOG(AP7))/LOG(2))))","v":0},null,{"$f":"N7","v":111},{"$f":"COUNTIF(L150:L177,AS7)","v":0},{"$f":"AT7/(AV4-AT11)","v":0},{"$f":"IF(AU7=0,0,(AU7*((LOG(AU7))/LOG(2))))","v":0}]
[12,133,13,148,24,161,null,null,null,null,0,112,null,112,{"$f":"COUNTIF($L$7:$L$500,N8)","v":2},{"$f":"O8/$Q$4","v":1.1695906432748537E-2},{"$f":"IF(P8=0,0,(P8*((LOG(P8))/LOG(2))))","v":-7.5062602513285351E-2},null,null,{"$f":"N8","v":112},{"$f":"COUNTIF(L7:L35,T8)","v":1},{"$f":"U8/(W4-U11)","v":3.4482758620689655E-2},{"$f":"IF(V8=0,0,(V8*((LOG(V8))/LOG(2))))","v":-0.16751658603888178},null,{"$f":"N8","v":112},{"$f":"COUNTIF(L36:L63,Y8)","v":0},{"$f":"Z8/(AB4-Z11)","v":0},{"$f":"IF(AA8=0,0,(AA8*((LOG(AA8))/LOG(2))))","v":0},null,{"$f":"N8","v":112},{"$f":"COUNTIF(L64:L92,AD8)","v":0},{"$f":"AE8/(AG4-AE11)","v":0},{"$f":"IF(AF8=0,0,(AF8*((LOG(AF8))/LOG(2))))","v":0},null,{"$f":"N8","v":112},{"$f":"COUNTIF(L93:L120,AI8)","v":0},{"$f":"AJ8/(AL4-AJ11)","v":0},{"$f":"IF(AK8=0,0,(AK8*((LOG(AK8))/LOG(2))))","v":0},null,{"$f":"N8","v":112},{"$f":"COUNTIF(L121:L149,AN8)","v":1},{"$f":"AO8/(AQ4-AO11)","v":3.4482758620689655E-2},{"$f":"IF(AP8=0,0,(AP8*((LOG(AP8))/LOG(2))))","v":-0.16751658603888178},null,{"$f":"N8","v":112},{"$f":"COUNTIF(L150:L177,AS8)","v":0},{"$f":"AT8/(AV4-AT11)","v":0},{"$f":"IF(AU8=0,0,(AU8*((LOG(AU8))/LOG(2))))","v":0}]
[21,275,22,280,24,288,null,null,null,null,0,222,null,121,{"$f":"COUNTIF($L$7:$L$500,N9)","v":0},{"$f":"O9/$Q$4","v":0},{"$f":"IF(P9=0,0,(P9*((LOG(P9))/LOG(2))))","v":0},null,null,{"$f":"N9","v":121},{"$f":"COUNTIF(L7:L35,T9)","v":0},{"$f":"U9/(W4-U11)","v":0},{"$f":"IF(V9=0,0,(V9*((LOG(V9))/LOG(2))))","v":0},null,{"$f":"N9","v":121},{"$f":"COUNTIF(L36:L63,Y9)","v":0},{"$f":"Z9/(AB4-Z11)","v":0},{"$f":"IF(AA9=0,0,(AA9*((LOG(AA9))/LOG(2))))","v":0},null,{"$f":"N9","v":121},{"$f":"COUNTIF(L64:L92,AD9)","v":0},{"$f":"AE9/(AG4-AE11)","v":0},{"$f":"IF(AF9=0,0,(AF9*((LOG(AF9))/LOG(2))))","v":0},null,{"$f":"N9","v":121},{"$f":"COUNTIF(L93:L120,AI9)","v":0},{"$f":"AJ9/(AL4-AJ11)","v":0},{"$f":"IF(AK9=0,0,(AK9*((LOG(AK9))/LOG(2))))","v":0},null,{"$f":"N9","v":121},{"$f":"COUNTIF(L121:L149,AN9)","v":0},{"$f":"AO9/(AQ4-AO11)","v":0},{"$f":"IF(AP9=0,0,(AP9*((LOG(AP9))/LOG(2))))","v":0},null,{"$f":"N9","v":121},{"$f":"COUNTIF(L150:L177,AS9)","v":0},{"$f":"AT9/(AV4-AT11)","v":0},{"$f":"IF(AU9=0,0,(AU9*((LOG(AU9))/LOG(2))))","v":0}]
[21,410,22,420,24,440,null,null,null,null,0,222,null,122,{"$f":"COUNTIF($L$7:$L$500,N10)","v":38},{"$f":"O10/$Q$4","v":0.22222222222222221},{"$f":"IF(P10=0,0,(P10*((LOG(P10))/LOG(2))))","v":-0.48220555587606945},null,null,{"$f":"N10","v":122},{"$f":"COUNTIF(L7:L35,T10)","v":4},{"$f":"U10/(W4-U11)","v":0.13793103448275862},{"$f":"IF(V10=0,0,(V10*((LOG(V10))/LOG(2))))","v":-0.39420427519000989},null,{"$f":"N10","v":122},{"$f":"COUNTIF(L36:L63,Y10)","v":7},{"$f":"Z10/(AB4-Z11)","v":0.25},{"$f":"IF(AA10=0,0,(AA10*((LOG(AA10))/LOG(2))))","v":-0.5},null,{"$f":"N10","v":122},{"$f":"COUNTIF(L64:L92,AD10)","v":8},{"$f":"AE10/(AG4-AE11)","v":0.27586206896551724},{"$f":"IF(AF10=0,0,(AF10*((LOG(AF10))/LOG(2))))","v":-0.51254648141450265},null,{"$f":"N10","v":122},{"$f":"COUNTIF(L93:L120,AI10)","v":10},{"$f":"AJ10/(AL4-AJ11)","v":0.35714285714285715},{"$f":"IF(AK10=0,0,(AK10*((LOG(AK10))/LOG(2))))","v":-0.53050958113222924},null,{"$f":"N10","v":122},{"$f":"COUNTIF(L121:L149,AN10)","v":5},{"$f":"AO10/(AQ4-AO11)","v":0.17241379310344829},{"$f":"IF(AP10=0,0,(AP10*((LOG(AP10))/LOG(2))))","v":-0.43725050004141547},null,{"$f":"N10","v":122},{"$f":"COUNTIF(L150:L177,AS10)","v":4},{"$f":"AT10/(AV4-AT11)","v":0.14285714285714285},{"$f":"IF(AU10=0,0,(AU10*((LOG(AU10))/LOG(2))))","v":-0.40105070315108626}]
[21,580,22,586,24,594,null,null,null,null,0,222,null,211,{"$f":"COUNTIF($L$7:$L$500,N11)","v":0},{"$f":"O11/$Q$4","v":0},{"$f":"IF(P11=0,0,(P11*((LOG(P11))/LOG(2))))","v":0},null,null,{"$f":"N11","v":211},{"$f":"COUNTIF(L7:L35,T11)","v":0},null,null,null,{"$f":"N11","v":211},{"$f":"COUNTIF(L36:L63,Y11)","v":0},null,null,null,{"$f":"N11","v":211},{"$f":"COUNTIF(L64:L92,AD11)","v":0},null,null,null,{"$f":"N11","v":211},{"$f":"COUNTIF(L93:L120,AI11)","v":0},null,null,null,{"$f":"N11","v":211},{"$f":"COUNTIF(L121:L149,AN11)","v":0},null,null,null,{"$f":"N11","v":211},{"$f":"COUNTIF(L150:L177,AS11)","v":0}]
[12,694,24,705,24,710,null,null,null,null,0,122,null,212,{"$f":"COUNTIF($L$7:$L$500,N12)","v":0},{"$f":"O12/$Q$4","v":0},{"$f":"IF(P12=0,0,(P12*((LOG(P12))/LOG(2))))","v":0},null,null,{"$f":"N12","v":212},{"$f":"COUNTIF(L7:L35,T12)","v":0},{"$f":"U12/(W4-U11)","v":0},{"$f":"IF(V12=0,0,(V12*((LOG(V12))/LOG(2))))","v":0},null,{"$f":"N12","v":212},{"$f":"COUNTIF(L36:L63,Y12)","v":0},{"$f":"Z12/(AB4-Z11)","v":0},{"$f":"IF(AA12=0,0,(AA12*((LOG(AA12))/LOG(2))))","v":0},null,{"$f":"N12","v":212},{"$f":"COUNTIF(L64:L92,AD12)","v":0},{"$f":"AE12/(AG4-AE11)","v":0},{"$f":"IF(AF12=0,0,(AF12*((LOG(AF12))/LOG(2))))","v":0},null,{"$f":"N12","v":212},{"$f":"COUNTIF(L93:L120,AI12)","v":0},{"$f":"AJ12/(AL4-AJ11)","v":0},{"$f":"IF(AK12=0,0,(AK12*((LOG(AK12))/LOG(2))))","v":0},null,{"$f":"N12","v":212},{"$f":"COUNTIF(L121:L149,AN12)","v":0},{"$f":"AO12/(AQ4-AO11)","v":0},{"$f":"IF(AP12=0,0,(AP12*((LOG(AP12))/LOG(2))))","v":0},null,{"$f":"N12","v":212},{"$f":"COUNTIF(L150:L177,AS12)","v":0},{"$f":"AT12/(AV4-AT11)","v":0},{"$f":"IF(AU12=0,0,(AU12*((LOG(AU12))/LOG(2))))","v":0}]
[21,826,22,831,24,844,null,null,null,null,0,222,null,221,{"$f":"COUNTIF($L$7:$L$500,N13)","v":0},{"$f":"O13/$Q$4","v":0},{"$f":"IF(P13=0,0,(P13*((LOG(P13))/LOG(2))))","v":0},null,null,{"$f":"N13","v":221},{"$f":"COUNTIF(L7:L35,T13)","v":0},{"$f":"U13/(W4-U11)","v":0},{"$f":"IF(V13=0,0,(V13*((LOG(V13))/LOG(2))))","v":0},null,{"$f":"N13","v":221},{"$f":"COUNTIF(L36:L63,Y13)","v":0},{"$f":"Z13/(AB4-Z11)","v":0},{"$f":"IF(AA13=0,0,(AA13*((LOG(AA13))/LOG(2))))","v":0},null,{"$f":"N13","v":221},{"$f":"COUNTIF(L64:L92,AD13)","v":0},{"$f":"AE13/(AG4-AE11)","v":0},{"$f":"IF(AF13=0,0,(AF13*((LOG(AF13))/LOG(2))))","v":0},null,{"$f":"N13","v":221},{"$f":"COUNTIF(L93:L120,AI13)","v":0},{"$f":"AJ13/(AL4-AJ11)","v":0},{"$f":"IF(AK13=0,0,(AK13*((LOG(AK13))/LOG(2))))","v":0},null,{"$f":"N13","v":221},{"$f":"COUNTIF(L121:L149,AN13)","v":0},{"$f":"AO13/(AQ4-AO11)","v":0},{"$f":"IF(AP13=0,0,(AP13*((LOG(AP13))/LOG(2))))","v":0},null,{"$f":"N13","v":221},{"$f":"COUNTIF(L150:L177,AS13)","v":0},{"$f":"AT13/(AV4-AT11)","v":0},{"$f":"IF(AU13=0,0,(AU13*((LOG(AU13))/LOG(2))))","v":0}]
[21,955,22,961,24,967,null,null,null,null,0,222,null,222,{"$f":"COUNTIF($L$7:$L$500,N14)","v":130},{"$f":"O14/$Q$4","v":0.76023391812865493},{"$f":"IF(P14=0,0,(P14*((LOG(P14))/LOG(2))))","v":-0.30066088445302719},null,null,{"$f":"N14","v":222},{"$f":"COUNTIF(L7:L35,T14)","v":23},{"$f":"U14/(W4-U11)","v":0.7931034482758621},{"$f":"IF(V14=0,0,(V14*((LOG(V14))/LOG(2))))","v":-0.2652288930559607},null,{"$f":"N14","v":222},{"$f":"COUNTIF(L36:L63,Y14)","v":21},{"$f":"Z14/(AB4-Z11)","v":0.75},{"$f":"IF(AA14=0,0,(AA14*((LOG(AA14))/LOG(2))))","v":-0.31127812445913283},null,{"$f":"N14","v":222},{"$f":"COUNTIF(L64:L92,AD14)","v":21},{"$f":"AE14/(AG4-AE11)","v":0.72413793103448276},{"$f":"IF(AF14=0,0,(AF14*((LOG(AF14))/LOG(2))))","v":-0.33720465583879472},null,{"$f":"N14","v":222},{"$f":"COUNTIF(L93:L120,AI14)","v":18},{"$f":"AJ14/(AL4-AJ11)","v":0.6428571428571429},{"$f":"IF(AK14=0,0,(AK14*((LOG(AK14))/LOG(2))))","v":-0.40977637753840174},null,{"$f":"N14","v":222},{"$f":"COUNTIF(L121:L149,AN14)","v":23},{"$f":"AO14/(AQ4-AO11)","v":0.7931034482758621},{"$f":"IF(AP14=0,0,(AP14*((LOG(AP14))/LOG(2))))","v":-0.2652288930559607},null,{"$f":"N14","v":222},{"$f":"COUNTIF(L150:L177,AS14)","v":24},{"$f":"AT14/(AV4-AT11)","v":0.8571428571428571},{"$f":"IF(AU14=0,0,(AU14*((LOG(AU14))/LOG(2))))","v":-0.19062207543124113}]
[21,1083,22,1088,24,1096,null,null,null,null,0,222,null,null,null,{"$f":"SUM(P7:P14)","v":1},{"$f":"-SUM(Q7:Q14)","v":0.90130829731539897},null,null,null,null,{"$f":"SUM(V7:V14)","v":1},{"$f":"-SUM(W7:W14)","v":0.99446634032373415},null,null,null,{"$f":"SUM(AA7:AA14)","v":1},{"$f":"-SUM(AB7:AB14)","v":0.81127812445913283},null,null,null,{"$f":"SUM(AF7:AF14)","v":1},{"$f":"-SUM(AG7:AG14)","v":0.84975113725329732},null,null,null,{"$f":"SUM(AK7:AK14)","v":1},{"$f":"-SUM(AL7:AL14)","v":0.94028595867063092},null,null,null,{"$f":"SUM(AP7:AP14)","v":1},{"$f":"-SUM(AQ7:AQ14)","v":0.86999597913625792},null,null,null,{"$f":"SUM(AU7:AU14)","v":1},{"$f":"-SUM(AV7:AV14)","v":0.59167277858232736}]
[21,1227,22,1233,24,1242,null,null,null,null,0,222,null,null,null,"U=",{"$f":"Q15/(LOG(Q4)/LOG(2))","v":0.12150528680729143},null,null,null,null,"U1=",{"$f":"W15/(LOG(W4)/LOG(2))","v":0.20470774614416112},null,null,null,"U2=",{"$f":"AB15/(LOG(AB4)/LOG(2))","v":0.16875769266311968},null,null,null,"U3=",{"$f":"AG15/(LOG(AG4)/LOG(2))","v":0.17491857998324314},null,null,null,"U4=",{"$f":"AL15/(LOG(AL4)/LOG(2))","v":0.19559320539374231},null,null,null,"U5=",{"$f":"AQ15/(LOG(AQ4)/LOG(2))","v":0.17908591655851291},null,null,null,"U6=",{"$f":"AV15/(LOG(AV4)/LOG(2))","v":0.1230765749929453}]
[21,1356,22,1362,24,1375,null,null,null,null,0,222]
[21,1485,22,1491,24,1505,null,null,null,null,0,222]
[12,1601,24,1611,24,1627,null,null,null,null,0,122,null,"Total Target Seq"]
[21,1762,22,1771,24,1776,null,null,null,null,0,222,null,{"$f":"COUNTIF(L7:L177,G3)","v":0},null,29,28,29,28,29,28]
[21,1898,22,1904,24,1909,null,null,null,null,0,222,null,null,null,"% of reinforcement given in 6 equal intervals based on number of trials "]
[21,2054,22,2058,24,2063,null,null,null,null,0,222,null,null,null,"%_1","%_2","%_3","%_4","%_5","%_6"]
[12,2165,24,2180,24,2185,null,null,null,null,0,122,null,null,"target sequence",{"$f":"$G$3","v":211},{"$f":"$G$3","v":211},{"$f":"$G$3","v":211},{"$f":"$G$3","v":211},{"$f":"$G$3","v":211},{"$f":"$G$3","v":211}]
[21,2307,22,2311,24,2316,null,null,null,null,0,222,null,null,"total reinforcement",{"$f":"U11","v":0},{"$f":"Z11","v":0},{"$f":"AE11","v":0},{"$f":"AJ11","v":0},{"$f":"AO11","v":0},{"$f":"AT11","v":0}]
[21,2430,22,2435,24,2440,null,null,null,null,0,222,null,null,"% target"]
[21,2558,22,2566,24,2571,null,null,null,null,0,222,null,null,"CCRF"]
[21,2692,22,2697,24,2713,null,null,null,null,0,222,null,null,"% CCRf"]
[21,2857,22,2862,24,2870,null,null,null,null,0,222,null,null,"average response rate",{"$f":"F35/P20","v":133.72413793103448},{"$f":"(F63-F35)/Q20","v":142.60714285714286},{"$f":"(F92-F63)/R20","v":137.9655172413793},{"$f":"(F120-F92)/S20","v":150.60714285714286},{"$f":"(F149-F120)/T20","v":137.31034482758622},{"$f":"(F177-F149)/U20","v":139}]
[21,3003,22,3011,24,3018,null,null,null,null,0,222]
[21,3128,22,3149,24,3162,null,null,null,null,0,222]
[21,3280,22,3286,24,3298,null,null,null,null,0,222]
[21,3432,22,3438,24,3443,null,null,null,null,0,222]
[21,3576,22,3582,24,3589,null,null,null,null,0,222]
[12,3700,24,3716,24,3728,null,null,null,null,0,122]
[21,3855,22,3863,24,3878,null,null,null,null,0,222]
[21,3999,22,4010,24,4014,null,null,null,null,0,222]
[21,4158,22,4163,24,4169,null,null,null,null,0,222]
[12,4291,24,4304,24,4309,null,null,null,null,0,122]
[21,4423,22,4429,24,4433,null,null,null,null,0,222]
[21,4569,22,4583,24,4588,null,null,null,null,0,222]
[21,4721,22,4725,24,4730,null,null,null,null,0,222]
[21,4848,22,4859,24,4871,null,null,null,null,0,222]
[21,4980,22,4998,24,5012,null,null,null,null,0,222]
[21,5130,22,5154,24,5163,null,null,null,null,0,222]
[12,5267,24,5282,24,5286,null,null,null,null,0,122]
[21,5400,22,5405,24,5410,null,null,null,null,0,222]
[21,5554,22,5567,24,5585,null,null,null,null,0,222]
[12,5684,24,5723,24,5733,null,null,null,null,0,122]
[21,5848,22,5855,24,5871,null,null,null,null,0,222]
[12,5971,24,5989,24,5993,null,null,null,null,0,122]
[12,6090,24,6110,24,6117,null,null,null,null,0,122]
[12,6224,24,6236,24,6262,null,null,null,null,0,122]
[21,6377,22,6390,24,6398,null,null,null,null,0,222]
[21,6504,22,6511,24,6531,null,null,null,null,0,222]
[21,6656,22,6668,24,6686,null,null,null,null,0,222]
[21,6794,22,6804,24,6811,null,null,null,null,0,222]
[21,6928,22,6939,24,6945,null,null,null,null,0,222]
[12,7045,24,7058,24,7065,null,null,null,null,0,122]
[21,7213,22,7224,24,7235,null,null,null,null,0,222]
[21,7360,22,7365,24,7377,null,null,null,null,0,222]
[21,7485,22,7494,24,7518,null,null,null,null,0,222]
[21,7666,22,7707,24,7730,null,null,null,null,0,222]
[21,7843,22,7857,24,7871,null,null,null,null,0,222]
[21,7985,22,7995,24,8001,null,null,null,null,0,222]
[21,8120,22,8132,24,8138,null,null,null,null,0,222]
[21,8260,22,8272,24,8283,null,null,null,null,0,222]
[12,8381,24,8391,24,8396,null,null,null,null,0,122]
[21,8518,22,8550,24,8559,null,null,null,null,0,222]
[12,8656,24,8665,24,8671,null,null,null,null,0,122]
[21,8780,22,8796,24,8803,null,null,null,null,0,222]
[12,8896,24,8908,24,8914,null,null,null,null,0,122]
[21,9025,22,9043,24,9066,null,null,null,null,0,222]
[21,9171,22,9187,24,9196,null,null,null,null,0,222]
[12,9298,24,9322,24,9338,null,null,null,null,0,122]
[12,9434,24,9443,24,9455,null,null,null,null,0,122]
[21,9570,22,9576,24,9582,null,null,null,null,0,222]
[12,9679,24,9701,24,9710,null,null,null,null,0,122]
[21,9838,22,9843,24,9854,null,null,null,null,0,222]
[21,9968,22,9985,24,10008,null,null,null,null,0,222]
[12,10107,24,10126,24,10131,null,null,null,null,0,122]
[21,10243,22,10249,24,10262,null,null,null,null,0,222]
[21,10410,22,10428,24,10435,null,null,null,null,0,222]
[21,10560,22,10565,24,10571,null,null,null,null,0,222]
[21,10684,22,10690,24,10705,null,null,null,null,0,222]
[21,10818,22,10828,24,10836,null,null,null,null,0,222]
[21,10944,22,10950,24,10983,null,null,null,null,0,222]
[21,11092,22,11100,24,11113,null,null,null,null,0,222]
[21,11235,22,11247,24,11275,null,null,null,null,0,222]
[21,11408,22,11421,24,11440,null,null,null,null,0,222]
[12,11542,24,11558,24,11573,null,null,null,null,0,122]
[21,11695,22,11729,24,11743,null,null,null,null,0,222]
[21,11858,22,11864,24,11872,null,null,null,null,0,222]
[21,11997,22,12009,24,12028,null,null,null,null,0,222]
[21,12165,22,12171,24,12176,null,null,null,null,0,222]
[12,12278,24,12295,24,12302,null,null,null,null,0,122]
[21,12434,22,12441,24,12481,null,null,null,null,0,222]
[12,12578,24,12605,24,12635,null,null,null,null,0,122]
[21,12743,22,12775,24,12787,null,null,null,null,0,222]
[12,12882,24,12892,24,12908,null,null,null,null,0,122]
[21,13084,22,13097,24,13113,null,null,null,null,0,222]
[12,13212,24,13222,24,13228,null,null,null,null,0,122]
[12,13327,24,13340,24,13344,null,null,null,null,0,122]
[21,13475,22,13506,24,13515,null,null,null,null,0,222]
[21,13632,22,13638,24,13644,null,null,null,null,0,222]
[12,13742,24,13755,24,13769,null,null,null,null,0,122]
[21,13874,22,13949,24,13963,null,null,null,null,0,222]
[12,14073,24,14085,24,14093,null,null,null,null,0,122]
[21,14244,22,14250,24,14261,null,null,null,null,0,222]
[21,14380,22,14394,24,14407,null,null,null,null,0,222]
[21,14585,22,14599,24,14609,null,null,null,null,0,222]
[12,14713,24,14741,24,14752,null,null,null,null,0,122]
[12,14853,24,14862,24,14877,null,null,null,null,0,122]
[21,14999,22,15006,24,15018,null,null,null,null,0,222]
[21,15126,22,15141,24,15163,null,null,null,null,0,222]
[21,15297,22,15308,24,15320,null,null,null,null,0,222]
[21,15429,22,15435,24,15442,null,null,null,null,0,222]
[12,15537,24,15559,24,15626,null,null,null,null,0,122]
[21,15743,22,15750,24,15769,null,null,null,null,0,222]
[21,15893,22,15913,24,15933,null,null,null,null,0,222]
[21,16046,22,16082,24,16089,null,null,null,null,0,222]
[21,16200,22,16205,24,16216,null,null,null,null,0,222]
[21,16328,22,16337,24,16347,null,null,null,null,0,222]
[21,16461,22,16467,24,16476,null,null,null,null,0,222]
[12,16577,24,16595,24,16606,null,null,null,null,0,122]
[21,16721,22,16739,24,16746,null,null,null,null,0,222]
[12,16843,24,16856,24,16862,null,null,null,null,0,122]
[21,16984,22,16997,24,17007,null,null,null,null,0,222]
[21,17111,22,17122,24,17134,null,null,null,null,0,222]
[21,17243,22,17254,24,17260,null,null,null,null,0,222]
[21,17376,22,17390,24,17404,null,null,null,null,0,222]
[21,17529,22,17541,24,17551,null,null,null,null,0,222]
[21,17662,22,17668,24,17681,null,null,null,null,0,222]
[21,17779,22,17786,24,17797,null,null,null,null,0,222]
[21,17909,22,17924,24,17936,null,null,null,null,0,222]
[12,18038,13,18060,24,18072,null,null,null,null,0,112]
[21,18186,22,18217,24,18268,null,null,null,null,0,222]
[21,18396,22,18402,24,18411,null,null,null,null,0,222]
[21,18548,22,18559,24,18576,null,null,null,null,0,222]
[21,18685,22,18697,24,18708,null,null,null,null,0,222]
[21,18813,22,18820,24,18853,null,null,null,null,0,222]
[12,18954,24,18972,24,18978,null,null,null,null,0,122]
[21,19083,22,19091,24,19099,null,null,null,null,0,222]
[21,19207,22,19216,24,19225,null,null,null,null,0,222]
[21,19329,22,19360,24,19385,null,null,null,null,0,222]
[21,19508,22,19525,24,19538,null,null,null,null,0,222]
[12,19641,24,19650,24,19661,null,null,null,null,0,122]
[21,19766,22,19779,24,19787,null,null,null,null,0,222]
[21,19893,22,19911,24,19924,null,null,null,null,0,222]
[12,20053,24,20065,24,20071,null,null,null,null,0,122]
[21,20182,22,20194,24,20221,null,null,null,null,0,222]
[21,20333,22,20371,24,20378,null,null,null,null,0,222]
[21,20487,22,20494,24,20514,null,null,null,null,0,222]
[21,20618,22,20626,24,20637,null,null,null,null,0,222]
[21,20754,22,20762,24,20769,null,null,null,null,0,222]
[21,20876,22,20890,24,20903,null,null,null,null,0,222]
[12,21014,24,21037,24,21056,null,null,null,null,0,122]
[12,21156,24,21173,24,21185,null,null,null,null,0,122]
[21,21305,22,21331,24,21339,null,null,null,null,0,222]
[21,21443,22,21463,24,21480,null,null,null,null,0,222]
[21,21597,22,21605,24,21618,null,null,null,null,0,222]
[12,21712,24,21726,24,21736,null,null,null,null,0,122]
[21,21844,22,21853,24,21862,null,null,null,null,0,222]
[21,21966,22,21973,24,21984,null,null,null,null,0,222]
[21,22089,22,22099,24,22112,null,null,null,null,0,222]
[21,22212,22,22219,24,22227,null,null,null,null,0,222]
[21,22339,22,22369,24,22374,null,null,null,null,0,222]
[21,22483,22,22489,24,22496,null,null,null,null,0,222]
[21,22625,22,22632,24,22644,null,null,null,null,0,222]
[21,22762,22,22770,24,22778,null,null,null,null,0,222]
[21,22898,22,22903,24,22926,null,null,null,null,0,222]
[21,23042,22,23054,24,23065,null,null,null,null,0,222]
[21,23185,22,23196,24,23209,null,null,null,null,0,222]
[21,23345,22,23369,24,23383,null,null,null,null,0,222]
[21,23492,22,23499,24,23536,null,null,null,null,0,222]
[21,23653,22,23661,24,23674,null,null,null,null,0,222]
[21,23782,22,23791,24,23801,null,null,null,null,0,222]
[12,23905,24,23919,24,23963,null,null,null,null,null,122]

{"sheet":"!M916920.101","index":20,"n_rows":188,"n_cols":48,"rows_kept":188,"cut":false,"hidden":false,"merged":[[4,39,4,42],[5,39,5,40],[4,44,4,47],[5,44,5,45],[4,24,4,27],[5,24,5,25],[4,29,4,32],[5,29,5,30],[4,34,4,37],[5,34,5,35],[1,1,1,2],[5,13,5,14],[18,13,18,14],[19,13,19,14],[4,19,4,22],[5,19,5,20]]}
["Report for:!M916920.101"]
["Date:","<date>"]
["Hen:","<hen>",null,null,null,"Correct Sequence",{"$f":"Start!J2","v":211},null,null,null,null,null,null,null,null,"Total Sequences in Data",{"$f":"4994-COUNTBLANK(L7:L5000)","v":182},null,null,null,null,"Total Sequences in Block Data",{"$f":"COUNTA(L7:L36)","v":30},null,null,null,"Total Sequences in Block Data",{"$f":"COUNTA(L37:L67)","v":31},null,null,null,"Total Sequences in Block Data",{"$f":"COUNTA(L68:L97)","v":30},null,null,null,"Total Sequences in Block Data",{"$f":"COUNTA(L98:L127)","v":30},null,null,null,"Total Sequences in Block Data",{"$f":"COUNTA(L128:L158)","v":31},null,null,null,"Total Sequences in Block Data",{"$f":"COUNTA(L159:L188)","v":30}]
[null,null,null,null,null,null,null,null,null,null,null,null,null,null,null,"Total Sequences in Summary",{"$f":"SUM(O7:O14)","v":182},null,null,null,null,"Total Sequences in Block Summary",{"$f":"SUM(U7:U14)","v":30},null,null,null,"Total Sequences in Block Summary",{"$f":"SUM(Z7:Z14)","v":31},null,null,null,"Total Sequences in Block Summary",{"$f":"SUM(AE7:AE14)","v":30},null,null,null,"Total Sequences in Block Summary",{"$f":"SUM(AJ7:AJ14)","v":30},null,null,null,"Total Sequences in Block Summary",{"$f":"SUM(AO7:AO14)","v":31},null,null,null,"Total Sequences in Block Summary",{"$f":"SUM(AT7:AT14)","v":30}]
[null,null,null,null,null,null,null,null,null,null,null,null,null,null,null,null,null,null,null,"Block 1",null,null,null,null,"Block 2",null,null,null,null,"Block 3",null,null,null,null,"Block 4",null,null,null,null,"Block 5",null,null,null,null,"Block 6"]
["Sequence\nComponent\n1","Time\n1","Sequence\nComponent\n2","Time\n2","Sequence\nComponent\n3","Time\n3","Sequence\nComponent\n4","Time\n4","Sequence\nComponent\n5","Time\n5","Correct?\n0=No 1=Yes","Sequence",null,"Frequency",null,"Relative Frequency","Variability",null,null,"Frequency",null,"Relative Frequency","Variability",null,"Frequency",null,"Relative Frequency","Variability",null,"Frequency",null,"Relative Frequency","Variability",null,"Frequency",null,"Relative Frequency","Variability",null,"Frequency",null,"Relative Frequency","Variability",null,"Frequency",null,"Relative Frequency","Variability"]
[12,17,24,29,24,34,null,null,null,null,0,122,null,111,{"$f":"COUNTIF($L$7:$L$500,N7)","v":0},{"$f":"O7/$Q$4","v":0},{"$f":"IF(P7=0,0,(P7*((LOG(P7))/LOG(2))))","v":0},null,null,{"$f":"N7","v":111},{"$f":"COUNTIF(L7:L36,T7)","v":0},{"$f":"U7/(W4-U11)","v":0},{"$f":"IF(V7=0,0,(V7*((LOG(V7))/LOG(2))))","v":0},null,{"$f":"N7","v":111},{"$f":"COUNTIF(L37:L67,Y7)","v":0},{"$f":"Z7/(AB4-Z11)","v":0},{"$f":"IF(AA7=0,0,(AA7*((LOG(AA7))/LOG(2))))","v":0},null,{"$f":"N7","v":111},{"$f":"COUNTIF(L68:L97,AD7)","v":0},{"$f":"AE7/(AG4-AE11)","v":0},{"$f":"IF(AF7=0,0,(AF7*((LOG(AF7))/LOG(2))))","v":0},null,{"$f":"N7","v":111},{"$f":"COUNTIF(L98:L127,AI7)","v":0},{"$f":"AJ7/(AL4-AJ11)","v":0},{"$f":"IF(AK7=0,0,(AK7*((LOG(AK7))/LOG(2))))","v":0},null,{"$f":"N7","v":111},{"$f":"COUNTIF(L128:L158,AN7)","v":0},{"$f":"AO7/(AQ4-AO11)","v":0},{"$f":"IF(AP7=0,0,(AP7*((LOG(AP7))/LOG(2))))","v":0},null,{"$f":"N7","v":111},{"$f":"COUNTIF(L159:L188,AS7)","v":0},{"$f":"AT7/(AV4-AT11)","v":0},{"$f":"IF(AU7=0,0,(AU7*((LOG(AU7))/LOG(2))))","v":0}]
[12,135,24,145,24,151,null,null,null,null,0,122,null,112,{"$f":"COUNTIF($L$7:$L$500,N8)","v":0},{"$f":"O8/$Q$4","v":0},{"$f":"IF(P8=0,0,(P8*((LOG(P8))/LOG(2))))","v":0},null,null,{"$f":"N8","v":112},{"$f":"COUNTIF(L7:L36,T8)","v":0},{"$f":"U8/(W4-U11)","v":0},{"$f":"IF(V8=0,0,(V8*((LOG(V8))/LOG(2))))","v":0},null,{"$f":"N8","v":112},{"$f":"COUNTIF(L37:L67,Y8)","v":0},{"$f":"Z8/(AB4-Z11)","v":0},{"$f":"IF(AA8=0,0,(AA8*((LOG(AA8))/LOG(2))))","v":0},null,{"$f":"N8","v":112},{"$f":"COUNTIF(L68:L97,AD8)","v":0},{"$f":"AE8/(AG4-AE11)","v":0},{"$f":"IF(AF8=0,0,(AF8*((LOG(AF8))/LOG(2))))","v":0},null,{"$f":"N8","v":112},{"$f":"COUNTIF(L98:L127,AI8)","v":0},{"$f":"AJ8/(AL4-AJ11)","v":0},{"$f":"IF(AK8=0,0,(AK8*((LOG(AK8))/LOG(2))))","v":0},null,{"$f":"N8","v":112},{"$f":"COUNTIF(L128:L158,AN8)","v":0},{"$f":"AO8/(AQ4-AO11)","v":0},{"$f":"IF(AP8=0,0,(AP8*((LOG(AP8))/LOG(2))))","v":0},null,{"$f":"N8","v":112},{"$f":"COUNTIF(L159:L188,AS8)","v":0},{"$f":"AT8/(AV4-AT11)","v":0},{"$f":"IF(AU8=0,0,(AU8*((LOG(AU8))/LOG(2))))","v":0}]
[21,262,22,267,24,272,null,null,null,null,0,222,null,121,{"$f":"COUNTIF($L$7:$L$500,N9)","v":0},{"$f":"O9/$Q$4","v":0},{"$f":"IF(P9=0,0,(P9*((LOG(P9))/LOG(2))))","v":0},null,null,{"$f":"N9","v":121},{"$f":"COUNTIF(L7:L36,T9)","v":0},{"$f":"U9/(W4-U11)","v":0},{"$f":"IF(V9=0,0,(V9*((LOG(V9))/LOG(2))))","v":0},null,{"$f":"N9","v":121},{"$f":"COUNTIF(L37:L67,Y9)","v":0},{"$f":"Z9/(AB4-Z11)","v":0},{"$f":"IF(AA9=0,0,(AA9*((LOG(AA9))/LOG(2))))","v":0},null,{"$f":"N9","v":121},{"$f":"COUNTIF(L68:L97,AD9)","v":0},{"$f":"AE9/(AG4-AE11)","v":0},{"$f":"IF(AF9=0,0,(AF9*((LOG(AF9))/LOG(2))))","v":0},null,{"$f":"N9","v":121},{"$f":"COUNTIF(L98:L127,AI9)","v":0},{"$f":"AJ9/(AL4-AJ11)","v":0},{"$f":"IF(AK9=0,0,(AK9*((LOG(AK9))/LOG(2))))","v":0},null,{"$f":"N9","v":121},{"$f":"COUNTIF(L128:L158,AN9)","v":0},{"$f":"AO9/(AQ4-AO11)","v":0},{"$f":"IF(AP9=0,0,(AP9*((LOG(AP9))/LOG(2))))","v":0},null,{"$f":"N9","v":121},{"$f":"COUNTIF(L159:L188,AS9)","v":0},{"$f":"AT9/(AV4-AT11)","v":0},{"$f":"IF(AU9=0,0,(AU9*((LOG(AU9))/LOG(2))))","v":0}]
[12,371,24,381,24,386,null,null,null,null,0,122,null,122,{"$f":"COUNTIF($L$7:$L$500,N10)","v":36},{"$f":"O10/$Q$4","v":0.19780219780219779},{"$f":"IF(P10=0,0,(P10*((LOG(P10))/LOG(2))))","v":-0.46243575272104293},null,null,{"$f":"N10","v":122},{"$f":"COUNTIF(L7:L36,T10)","v":12},{"$f":"U10/(W4-U11)","v":0.4},{"$f":"IF(V10=0,0,(V10*((LOG(V10))/LOG(2))))","v":-0.52877123795494496},null,{"$f":"N10","v":122},{"$f":"COUNTIF(L37:L67,Y10)","v":2},{"$f":"Z10/(AB4-Z11)","v":6.4516129032258063E-2},{"$f":"IF(AA10=0,0,(AA10*((LOG(AA10))/LOG(2))))","v":-0.25510943937979835},null,{"$f":"N10","v":122},{"$f":"COUNTIF(L68:L97,AD10)","v":6},{"$f":"AE10/(AG4-AE11)","v":0.2},{"$f":"IF(AF10=0,0,(AF10*((LOG(AF10))/LOG(2))))","v":-0.46438561897747244},null,{"$f":"N10","v":122},{"$f":"COUNTIF(L98:L127,AI10)","v":4},{"$f":"AJ10/(AL4-AJ11)","v":0.13333333333333333},{"$f":"IF(AK10=0,0,(AK10*((LOG(AK10))/LOG(2))))","v":-0.3875854127478025},null,{"$f":"N10","v":122},{"$f":"COUNTIF(L128:L158,AN10)","v":8},{"$f":"AO10/(AQ4-AO11)","v":0.25806451612903225},{"$f":"IF(AP10=0,0,(AP10*((LOG(AP10))/LOG(2))))","v":-0.50430872526112902},null,{"$f":"N10","v":122},{"$f":"COUNTIF(L159:L188,AS10)","v":4},{"$f":"AT10/(AV4-AT11)","v":0.13333333333333333},{"$f":"IF(AU10=0,0,(AU10*((LOG(AU10))/LOG(2))))","v":-0.3875854127478025}]
[21,493,22,501,24,508,null,null,null,null,0,222,null,211,{"$f":"COUNTIF($L$7:$L$500,N11)","v":0},{"$f":"O11/$Q$4","v":0},{"$f":"IF(P11=0,0,(P11*((LOG(P11))/LOG(2))))","v":0},null,null,{"$f":"N11","v":211},{"$f":"COUNTIF(L7:L36,T11)","v":0},null,null,null,{"$f":"N11","v":211},{"$f":"COUNTIF(L37:L67,Y11)","v":0},null,null,null,{"$f":"N11","v":211},{"$f":"COUNTIF(L68:L97,AD11)","v":0},null,null,null,{"$f":"N11","v":211},{"$f":"COUNTIF(L98:L127,AI11)","v":0},null,null,null,{"$f":"N11","v":211},{"$f":"COUNTIF(L128:L158,AN11)","v":0},null,null,null,{"$f":"N11","v":211},{"$f":"COUNTIF(L159:L188,AS11)","v":0}]
[12,614,24,629,24,635,null,null,null,null,0,122,null,212,{"$f":"COUNTIF($L$7:$L$500,N12)","v":0},{"$f":"O12/$Q$4","v":0},{"$f":"IF(P12=0,0,(P12*((LOG(P12))/LOG(2))))","v":0},null,null,{"$f":"N12","v":212},{"$f":"COUNTIF(L7:L36,T12)","v":0},{"$f":"U12/(W4-U11)","v":0},{"$f":"IF(V12=0,0,(V12*((LOG(V12))/LOG(2))))","v":0},null,{"$f":"N12","v":212},{"$f":"COUNTIF(L37:L67,Y12)","v":0},{"$f":"Z12/(AB4-Z11)","v":0},{"$f":"IF(AA12=0,0,(AA12*((LOG(AA12))/LOG(2))))","v":0},null,{"$f":"N12","v":212},{"$f":"COUNTIF(L68:L97,AD12)","v":0},{"$f":"AE12/(AG4-AE11)","v":0},{"$f":"IF(AF12=0,0,(AF12*((LOG(AF12))/LOG(2))))","v":0},null,{"$f":"N12","v":212},{"$f":"COUNTIF(L98:L127,AI12)","v":0},{"$f":"AJ12/(AL4-AJ11)","v":0},{"$f":"IF(AK12=0,0,(AK12*((LOG(AK12))/LOG(2))))","v":0},null,{"$f":"N12","v":212},{"$f":"COUNTIF(L128:L158,AN12)","v":0},{"$f":"AO12/(AQ4-AO11)","v":0},{"$f":"IF(AP12=0,0,(AP12*((LOG(AP12))/LOG(2))))","v":0},null,{"$f":"N12","v":212},{"$f":"COUNTIF(L159:L188,AS12)","v":0},{"$f":"AT12/(AV4-AT11)","v":0},{"$f":"IF(AU12=0,0,(AU12*((LOG(AU12))/LOG(2))))","v":0}]
[12,760,24,775,24,784,null,null,null,null,0,122,null,221,{"$f":"COUNTIF($L$7:$L$500,N13)","v":0},{"$f":"O13/$Q$4","v":0},{"$f":"IF(P13=0,0,(P13*((LOG(P13))/LOG(2))))","v":0},null,null,{"$f":"N13","v":221},{"$f":"COUNTIF(L7:L36,T13)","v":0},{"$f":"U13/(W4-U11)","v":0},{"$f":"IF(V13=0,0,(V13*((LOG(V13))/LOG(2))))","v":0},null,{"$f":"N13","v":221},{"$f":"COUNTIF(L37:L67,Y13)","v":0},{"$f":"Z13/(AB4-Z11)","v":0},{"$f":"IF(AA13=0,0,(AA13*((LOG(AA13))/LOG(2))))","v":0},null,{"$f":"N13","v":221},{"$f":"COUNTIF(L68:L97,AD13)","v":0},{"$f":"AE13/(AG4-AE11)","v":0},{"$f":"IF(AF13=0,0,(AF13*((LOG(AF13))/LOG(2))))","v":0},null,{"$f":"N13","v":221},{"$f":"COUNTIF(L98:L127,AI13)","v":0},{"$f":"AJ13/(AL4-AJ11)","v":0},{"$f":"IF(AK13=0,0,(AK13*((LOG(AK13))/LOG(2))))","v":0},null,{"$f":"N13","v":221},{"$f":"COUNTIF(L128:L158,AN13)","v":0},{"$f":"AO13/(AQ4-AO11)","v":0},{"$f":"IF(AP13=0,0,(AP13*((LOG(AP13))/LOG(2))))","v":0},null,{"$f":"N13","v":221},{"$f":"COUNTIF(L159:L188,AS13)","v":0},{"$f":"AT13/(AV4-AT11)","v":0},{"$f":"IF(AU13=0,0,(AU13*((LOG(AU13))/LOG(2))))","v":0}]
[12,882,24,892,24,898,null,null,null,null,0,122,null,222,{"$f":"COUNTIF($L$7:$L$500,N14)","v":146},{"$f":"O14/$Q$4","v":0.80219780219780223},{"$f":"IF(P14=0,0,(P14*((LOG(P14))/LOG(2))))","v":-0.25507490039850073},null,null,{"$f":"N14","v":222},{"$f":"COUNTIF(L7:L36,T14)","v":18},{"$f":"U14/(W4-U11)","v":0.6},{"$f":"IF(V14=0,0,(V14*((LOG(V14))/LOG(2))))","v":-0.44217935649972373},null,{"$f":"N14","v":222},{"$f":"COUNTIF(L37:L67,Y14)","v":29},{"$f":"Z14/(AB4-Z11)","v":0.93548387096774188},{"$f":"IF(AA14=0,0,(AA14*((LOG(AA14))/LOG(2))))","v":-9.0007875565154577E-2},null,{"$f":"N14","v":222},{"$f":"COUNTIF(L68:L97,AD14)","v":24},{"$f":"AE14/(AG4-AE11)","v":0.8},{"$f":"IF(AF14=0,0,(AF14*((LOG(AF14))/LOG(2))))","v":-0.25754247590988982},null,{"$f":"N14","v":222},{"$f":"COUNTIF(L98:L127,AI14)","v":26},{"$f":"AJ14/(AL4-AJ11)","v":0.8666666666666667},{"$f":"IF(AK14=0,0,(AK14*((LOG(AK14))/LOG(2))))","v":-0.17892409380510282},null,{"$f":"N14","v":222},{"$f":"COUNTIF(L128:L158,AN14)","v":23},{"$f":"AO14/(AQ4-AO11)","v":0.74193548387096775},{"$f":"IF(AP14=0,0,(AP14*((LOG(AP14))/LOG(2))))","v":-0.31950290805118814},null,{"$f":"N14","v":222},{"$f":"COUNTIF(L159:L188,AS14)","v":26},{"$f":"AT14/(AV4-AT11)","v":0.8666666666666667},{"$f":"IF(AU14=0,0,(AU14*((LOG(AU14))/LOG(2))))","v":-0.17892409380510282}]
[12,999,24,1017,24,1025,null,null,null,null,0,122,null,null,null,{"$f":"SUM(P7:P14)","v":1},{"$f":"-SUM(Q7:Q14)","v":0.71751065311954365},null,null,null,null,{"$f":"SUM(V7:V14)","v":1},{"$f":"-SUM(W7:W14)","v":0.97095059445466869},null,null,null,{"$f":"SUM(AA7:AA14)","v":1},{"$f":"-SUM(AB7:AB14)","v":0.3451173149449529},null,null,null,{"$f":"SUM(AF7:AF14)","v":1},{"$f":"-SUM(AG7:AG14)","v":0.72192809488736231},null,null,null,{"$f":"SUM(AK7:AK14)","v":1},{"$f":"-SUM(AL7:AL14)","v":0.56650950655290533},null,null,null,{"$f":"SUM(AP7:AP14)","v":1},{"$f":"-SUM(AQ7:AQ14)","v":0.8238116333123171},null,null,null,{"$f":"SUM(AU7:AU14)","v":1},{"$f":"-SUM(AV7:AV14)","v":0.56650950655290533}]
[21,1147,22,1154,24,1159,null,null,null,null,0,222,null,null,null,"U=",{"$f":"Q15/(LOG(Q4)/LOG(2))","v":9.5568763865463771E-2},null,null,null,null,"U1=",{"$f":"W15/(LOG(W4)/LOG(2))","v":0.19787492211944419},null,null,null,"U2=",{"$f":"AB15/(LOG(AB4)/LOG(2))","v":6.9661614785305623E-2},null,null,null,"U3=",{"$f":"AG15/(LOG(AG4)/LOG(2))","v":0.14712537009352941},null,null,null,"U4=",{"$f":"AL15/(LOG(AL4)/LOG(2))","v":0.11545183156516876},null,null,null,"U5=",{"$f":"AQ15/(LOG(AQ4)/LOG(2))","v":0.16628562569979899},null,null,null,"U6=",{"$f":"AV15/(LOG(AV4)/LOG(2))","v":0.11545183156516876}]
[21,1275,22,1280,24,1285,null,null,null,null,0,222]
[21,1421,22,1429,24,1442,null,null,null,null,0,222]
[12,1537,24,1549,24,1556,null,null,null,null,0,122,null,"Total Target Seq"]
[21,1683,22,1687,24,1700,null,null,null,null,0,222,null,{"$f":"COUNTIF(L7:L188,G3)","v":0},null,30,31,30,30,31,30]
[21,1812,22,1818,24,1823,null,null,null,null,0,222,null,null,null,"% of reinforcement given in 6 equal intervals based on number of trials "]
[21,1926,22,1931,24,1949,null,null,null,null,0,222,null,null,null,"%_1","%_2","%_3","%_4","%_5","%_6"]
[12,2047,24,2058,24,2070,null,null,null,null,0,122,null,null,"target sequence",{"$f":"$G$3","v":211},{"$f":"$G$3","v":211},{"$f":"$G$3","v":211},{"$f":"$G$3","v":211},{"$f":"$G$3","v":211},{"$f":"$G$3","v":211}]
[21,2190,22,2197,24,2214,null,null,null,null,0,222,null,null,"total reinforcement",{"$f":"U11","v":0},{"$f":"Z11","v":0},{"$f":"AE11","v":0},{"$f":"AJ11","v":0},{"$f":"AO11","v":0},{"$f":"AT11","v":0}]
[12,2311,24,2321,24,2331,null,null,null,null,0,122,null,null,"% target"]
[12,2429,24,2445,24,2450,null,null,null,null,0,122,null,null,"CCRF"]
[21,2561,22,2565,24,2570,null,null,null,null,0,222,null,null,"% CCRf"]
[21,2682,22,2698,24,2703,null,null,null,null,0,222,null,null,"average response rate",{"$f":"F36/P20","v":126.5},{"$f":"(F67-F36)/Q20","v":140.54838709677421},{"$f":"(F97-F67)/R20","v":136.46666666666667},{"$f":"(F127-F97)/S20","v":131.36666666666667},{"$f":"(F158-F127)/T20","v":127.12903225806451},{"$f":"(F188-F158)/U20","v":127.9}]
[21,2812,22,2825,24,2838,null,null,null,null,0,222]
[21,2960,22,2972,24,3018,null,null,null,null,0,222]
[21,3125,22,3130,24,3139,null,null,null,null,0,222]
[21,3259,22,3269,24,3289,null,null,null,null,0,222]
[21,3397,22,3411,24,3420,null,null,null,null,0,222]
[21,3526,22,3536,24,3543,null,null,null,null,0,222]
[12,3644,24,3662,24,3672,null,null,null,null,0,122]
[21,3783,22,3787,24,3795,null,null,null,null,0,222]
[21,3909,22,3926,24,3993,null,null,null,null,0,222]
[21,4097,22,4108,24,4131,null,null,null,null,0,222]
[21,4248,22,4253,24,4291,null,null,null,null,0,222]
[21,4400,22,4407,24,4414,null,null,null,null,0,222]
[21,4532,22,4538,24,4556,null,null,null,null,0,222]
[21,4660,22,4673,24,4691,null,null,null,null,0,222]
[21,4833,22,4847,24,4870,null,null,null,null,0,222]
[21,4997,22,5006,24,5025,null,null,null,null,0,222]
[21,5134,22,5178,24,5187,null,null,null,null,0,222]
[21,5291,22,5296,24,5302,null,null,null,null,0,222]
[21,5410,22,5420,24,5436,null,null,null,null,0,222]
[21,5547,22,5559,24,5566,null,null,null,null,0,222]
[21,5678,22,5692,24,5708,null,null,null,null,0,222]
[21,5816,22,5822,24,5833,null,null,null,null,0,222]
[21,5937,22,5983,24,5998,null,null,null,null,0,222]
[21,6116,22,6121,24,6129,null,null,null,null,0,222]
[21,6241,22,6249,24,6266,null,null,null,null,0,222]
[12,6368,24,6377,24,6399,null,null,null,null,0,122]
[21,6506,22,6515,24,6523,null,null,null,null,0,222]
[12,6619,24,6645,24,6653,null,null,null,null,0,122]
[21,6768,22,6788,24,6798,null,null,null,null,0,222]
[21,6912,22,6919,24,6930,null,null,null,null,0,222]
[21,7037,22,7043,24,7050,null,null,null,null,0,222]
[21,7161,22,7185,24,7193,null,null,null,null,0,222]
[21,7315,22,7321,24,7333,null,null,null,null,0,222]
[21,7446,22,7455,24,7459,null,null,null,null,0,222]
[21,7573,22,7579,24,7587,null,null,null,null,0,222]
[21,7730,22,7751,24,7767,null,null,null,null,0,222]
[21,7869,22,7877,24,7894,null,null,null,null,0,222]
[21,8003,22,8019,24,8037,null,null,null,null,0,222]
[21,8137,22,8148,24,8152,null,null,null,null,0,222]
[21,8263,22,8299,24,8312,null,null,null,null,0,222]
[21,8413,22,8424,24,8432,null,null,null,null,0,222]
[21,8542,22,8558,24,8581,null,null,null,null,0,222]
[21,8684,22,8695,24,8717,null,null,null,null,0,222]
[21,8839,22,8861,24,8874,null,null,null,null,0,222]
[21,8979,22,8986,24,9000,null,null,null,null,0,222]
[21,9110,22,9126,24,9137,null,null,null,null,0,222]
[12,9241,24,9269,24,9291,null,null,null,null,0,122]
[21,9415,22,9423,24,9441,null,null,null,null,0,222]
[21,9549,22,9560,24,9567,null,null,null,null,0,222]
[21,9675,22,9685,24,9700,null,null,null,null,0,222]
[21,9805,22,9810,24,9816,null,null,null,null,0,222]
[21,9919,22,9923,24,9929,null,null,null,null,0,222]
[12,10029,24,10038,24,10045,null,null,null,null,0,122]
[21,10167,22,10173,24,10202,null,null,null,null,0,222]
[21,10328,22,10337,24,10369,null,null,null,null,0,222]
[21,10491,22,10498,24,10502,null,null,null,null,0,222]
[12,10602,24,10615,24,10619,null,null,null,null,0,122]
[12,10719,24,10731,24,10741,null,null,null,null,0,122]
[21,10845,22,10850,24,10861,null,null,null,null,0,222]
[12,10959,24,10975,24,10982,null,null,null,null,0,122]
[21,11090,22,11096,24,11105,null,null,null,null,0,222]
[21,11214,22,11221,24,11229,null,null,null,null,0,222]
[21,11349,22,11367,24,11403,null,null,null,null,0,222]
[21,11500,22,11505,24,11511,null,null,null,null,0,222]
[12,11610,24,11623,24,11637,null,null,null,null,0,122]
[21,11768,22,11780,24,11826,null,null,null,null,0,222]
[21,11935,22,11941,24,11954,null,null,null,null,0,222]
[21,12064,22,12094,24,12108,null,null,null,null,0,222]
[21,12221,22,12233,24,12246,null,null,null,null,0,222]
[21,12349,22,12362,24,12368,null,null,null,null,0,222]
[12,12472,24,12485,24,12492,null,null,null,null,0,122]
[21,12600,22,12616,24,12624,null,null,null,null,0,222]
[12,12719,24,12728,24,12735,null,null,null,null,0,122]
[21,12838,22,12843,24,12850,null,null,null,null,0,222]
[21,12970,22,12977,24,12996,null,null,null,null,0,222]
[21,13110,22,13163,24,13185,null,null,null,null,0,222]
[21,13296,22,13302,24,13308,null,null,null,null,0,222]
[12,13410,24,13424,24,13431,null,null,null,null,0,122]
[21,13540,22,13547,24,13559,null,null,null,null,0,222]
[21,13672,22,13681,24,13694,null,null,null,null,0,222]
[21,13802,22,13815,24,13826,null,null,null,null,0,222]
[21,13936,22,13943,24,13957,null,null,null,null,0,222]
[21,14068,22,14072,24,14089,null,null,null,null,0,222]
[21,14193,22,14202,24,14238,null,null,null,null,0,222]
[21,14345,22,14350,24,14366,null,null,null,null,0,222]
[21,14485,22,14497,24,14510,null,null,null,null,0,222]
[21,14615,22,14620,24,14625,null,null,null,null,0,222]
[21,14732,22,14737,24,14745,null,null,null,null,0,222]
[12,14841,24,14854,24,14866,null,null,null,null,0,122]
[21,14985,22,14999,24,15022,null,null,null,null,0,222]
[21,15131,22,15141,24,15158,null,null,null,null,0,222]
[21,15276,22,15283,24,15291,null,null,null,null,0,222]
[21,15394,22,15402,24,15409,null,null,null,null,0,222]
[21,15513,22,15518,24,15531,null,null,null,null,0,222]
[21,15634,22,15640,24,15653,null,null,null,null,0,222]
[21,15768,22,15773,24,15806,null,null,null,null,0,222]
[21,15917,22,15924,24,15939,null,null,null,null,0,222]
[21,16052,22,16057,24,16065,null,null,null,null,0,222]
[21,16167,22,16175,24,16187,null,null,null,null,0,222]
[21,16298,22,16310,24,16328,null,null,null,null,0,222]
[21,16431,22,16436,24,16453,null,null,null,null,0,222]
[12,16547,24,16561,24,16571,null,null,null,null,0,122]
[21,16676,22,16687,24,16692,null,null,null,null,0,222]
[21,16789,22,16794,24,16799,null,null,null,null,0,222]
[12,16891,24,16903,24,16908,null,null,null,null,0,122]
[12,17001,24,17025,24,17033,null,null,null,null,0,122]
[21,17143,22,17158,24,17166,null,null,null,null,0,222]
[21,17280,22,17291,24,17300,null,null,null,null,0,222]
[21,17404,22,17411,24,17426,null,null,null,null,0,222]
[21,17525,22,17532,24,17543,null,null,null,null,0,222]
[12,17642,24,17651,24,17665,null,null,null,null,0,122]
[21,17790,22,17797,24,17811,null,null,null,null,0,222]
[21,17912,22,17920,24,17926,null,null,null,null,0,222]
[21,18051,22,18081,24,18093,null,null,null,null,0,222]
[21,18195,22,18201,24,18208,null,null,null,null,0,222]
[12,18305,24,18314,24,18321,null,null,null,null,0,122]
[12,18428,24,18439,24,18450,null,null,null,null,0,122]
[12,18560,24,18569,24,18575,null,null,null,null,0,122]
[21,18683,22,18690,24,18701,null,null,null,null,0,222]
[12,18818,24,18830,24,18837,null,null,null,null,0,122]
[21,18940,22,18946,24,18960,null,null,null,null,0,222]
[21,19077,22,19096,24,19112,null,null,null,null,0,222]
[21,19214,22,19218,24,19230,null,null,null,null,0,222]
[21,19336,22,19342,24,19350,null,null,null,null,0,222]
[21,19448,22,19456,24,19469,null,null,null,null,0,222]
[21,19571,22,19585,24,19596,null,null,null,null,0,222]
[21,19700,22,19705,24,19728,null,null,null,null,0,222]
[21,19830,22,19837,24,19854,null,null,null,null,0,222]
[21,19980,22,19993,24,20008,null,null,null,null,0,222]
[21,20113,22,20118,24,20128,null,null,null,null,0,222]
[12,20229,24,20246,24,20279,null,null,null,null,0,122]
[21,20382,22,20387,24,20399,null,null,null,null,0,222]
[21,20501,22,20507,24,20515,null,null,null,null,0,222]
[21,20615,22,20620,24,20625,null,null,null,null,0,222]
[21,20739,22,20746,24,20760,null,null,null,null,0,222]
[21,20864,22,20883,24,20892,null,null,null,null,0,222]
[21,21000,22,21006,24,21018,null,null,null,null,0,222]
[21,21127,22,21135,24,21141,null,null,null,null,0,222]
[21,21246,22,21252,24,21259,null,null,null,null,0,222]
[21,21377,22,21382,24,21399,null,null,null,null,0,222]
[12,21491,24,21505,24,21511,null,null,null,null,0,122]
[21,21619,22,21632,24,21673,null,null,null,null,0,222]
[12,21772,24,21786,24,21791,null,null,null,null,0,122]
[21,21898,22,21906,24,21919,null,null,null,null,0,222]
[21,22021,22,22026,24,22033,null,null,null,null,0,222]
[21,22144,22,22168,24,22180,null,null,null,null,0,222]
[21,22286,22,22301,24,22314,null,null,null,null,0,222]
[21,22423,22,22433,24,22444,null,null,null,null,0,222]
[21,22549,22,22557,24,22568,null,null,null,null,0,222]
[21,22674,22,22679,24,22687,null,null,null,null,0,222]
[12,22782,24,22796,24,22810,null,null,null,null,0,122]
[21,22917,22,22933,24,22941,null,null,null,null,0,222]
[21,23051,22,23057,24,23064,null,null,null,null,0,222]
[21,23176,22,23181,24,23194,null,null,null,null,0,222]
[21,23303,22,23322,24,23335,null,null,null,null,0,222]
[21,23439,22,23445,24,23452,null,null,null,null,0,222]
[21,23556,22,23561,24,23577,null,null,null,null,0,222]
[21,23684,22,23702,24,23715,null,null,null,null,0,222]
[21,23823,22,23831,24,23843,null,null,null,null,0,222]
[21,23949,22,23957,24,23965,null,null,null,null,null,222]

{"sheet":"!M917800.101","index":21,"n_rows":191,"n_cols":48,"rows_kept":191,"cut":false,"hidden":false,"merged":[[4,39,4,42],[5,39,5,40],[4,44,4,47],[5,44,5,45],[4,24,4,27],[5,24,5,25],[4,29,4,32],[5,29,5,30],[4,34,4,37],[5,34,5,35],[1,1,1,2],[5,13,5,14],[18,13,18,14],[19,13,19,14],[4,19,4,22],[5,19,5,20]]}
["Report for:!M917800.101"]
["Date:","<date>"]
["Hen:","<hen>",null,null,null,"Correct Sequence",{"$f":"Start!J2","v":211},null,null,null,null,null,null,null,null,"Total Sequences in Data",{"$f":"4994-COUNTBLANK(L7:L5000)","v":185},null,null,null,null,"Total Sequences in Block Data",{"$f":"COUNTA(L7:L37)","v":31},null,null,null,"Total Sequences in Block Data",{"$f":"COUNTA(L38:L68)","v":31},null,null,null,"Total Sequences in Block Data",{"$f":"COUNTA(L69:L98)","v":30},null,null,null,"Total Sequences in Block Data",{"$f":"COUNTA(L99:L129)","v":31},null,null,null,"Total Sequences in Block Data",{"$f":"COUNTA(L130:L160)","v":31},null,null,null,"Total Sequences in Block Data",{"$f":"COUNTA(L161:L191)","v":31}]
[null,null,null,null,null,null,null,null,null,null,null,null,null,null,null,"Total Sequences in Summary",{"$f":"SUM(O7:O14)","v":185},null,null,null,null,"Total Sequences in Block Summary",{"$f":"SUM(U7:U14)","v":31},null,null,null,"Total Sequences in Block Summary",{"$f":"SUM(Z7:Z14)","v":31},null,null,null,"Total Sequences in Block Summary",{"$f":"SUM(AE7:AE14)","v":30},null,null,null,"Total Sequences in Block Summary",{"$f":"SUM(AJ7:AJ14)","v":31},null,null,null,"Total Sequences in Block Summary",{"$f":"SUM(AO7:AO14)","v":31},null,null,null,"Total Sequences in Block Summary",{"$f":"SUM(AT7:AT14)","v":31}]
[null,null,null,null,null,null,null,null,null,null,null,null,null,null,null,null,null,null,null,"Block 1",null,null,null,null,"Block 2",null,null,null,null,"Block 3",null,null,null,null,"Block 4",null,null,null,null,"Block 5",null,null,null,null,"Block 6"]
["Sequence\nComponent\n1","Time\n1","Sequence\nComponent\n2","Time\n2","Sequence\nComponent\n3","Time\n3","Sequence\nComponent\n4","Time\n4","Sequence\nComponent\n5","Time\n5","Correct?\n0=No 1=Yes","Sequence",null,"Frequency",null,"Relative Frequency","Variability",null,null,"Frequency",null,"Relative Frequency","Variability",null,"Frequency",null,"Relative Frequency","Variability",null,"Frequency",null,"Relative Frequency","Variability",null,"Frequency",null,"Relative Frequency","Variability",null,"Frequency",null,"Relative Frequency","Variability",null,"Frequency",null,"Relative Frequency","Variability"]
[12,11,13,22,24,35,null,null,null,null,0,112,null,111,{"$f":"COUNTIF($L$7:$L$500,N7)","v":0},{"$f":"O7/$Q$4","v":0},{"$f":"IF(P7=0,0,(P7*((LOG(P7))/LOG(2))))","v":0},null,null,{"$f":"N7","v":111},{"$f":"COUNTIF(L7:L37,T7)","v":0},{"$f":"U7/(W4-U11)","v":0},{"$f":"IF(V7=0,0,(V7*((LOG(V7))/LOG(2))))","v":0},null,{"$f":"N7","v":111},{"$f":"COUNTIF(L38:L68,Y7)","v":0},{"$f":"Z7/(AB4-Z11)","v":0},{"$f":"IF(AA7=0,0,(AA7*((LOG(AA7))/LOG(2))))","v":0},null,{"$f":"N7","v":111},{"$f":"COUNTIF(L69:L98,AD7)","v":0},{"$f":"AE7/(AG4-AE11)","v":0},{"$f":"IF(AF7=0,0,(AF7*((LOG(AF7))/LOG(2))))","v":0},null,{"$f":"N7","v":111},{"$f":"COUNTIF(L99:L129,AI7)","v":0},{"$f":"AJ7/(AL4-AJ11)","v":0},{"$f":"IF(AK7=0,0,(AK7*((LOG(AK7))/LOG(2))))","v":0},null,{"$f":"N7","v":111},{"$f":"COUNTIF(L130:L160,AN7)","v":0},{"$f":"AO7/(AQ4-AO11)","v":0},{"$f":"IF(AP7=0,0,(AP7*((LOG(AP7))/LOG(2))))","v":0},null,{"$f":"N7","v":111},{"$f":"COUNTIF(L161:L191,AS7)","v":0},{"$f":"AT7/(AV4-AT11)","v":0},{"$f":"IF(AU7=0,0,(AU7*((LOG(AU7))/LOG(2))))","v":0}]
[12,139,24,158,24,163,null,null,null,null,0,122,null,112,{"$f":"COUNTIF($L$7:$L$500,N8)","v":1},{"$f":"O8/$Q$4","v":5.4054054054054057E-3},{"$f":"IF(P8=0,0,(P8*((LOG(P8))/LOG(2))))","v":-4.0710170056844928E-2},null,null,{"$f":"N8","v":112},{"$f":"COUNTIF(L7:L37,T8)","v":1},{"$f":"U8/(W4-U11)","v":3.2258064516129031E-2},{"$f":"IF(V8=0,0,(V8*((LOG(V8))/LOG(2))))","v":-0.15981278420602821},null,{"$f":"N8","v":112},{"$f":"COUNTIF(L38:L68,Y8)","v":0},{"$f":"Z8/(AB4-Z11)","v":0},{"$f":"IF(AA8=0,0,(AA8*((LOG(AA8))/LOG(2))))","v":0},null,{"$f":"N8","v":112},{"$f":"COUNTIF(L69:L98,AD8)","v":0},{"$f":"AE8/(AG4-AE11)","v":0},{"$f":"IF(AF8=0,0,(AF8*((LOG(AF8))/LOG(2))))","v":0},null,{"$f":"N8","v":112},{"$f":"COUNTIF(L99:L129,AI8)","v":0},{"$f":"AJ8/(AL4-AJ11)","v":0},{"$f":"IF(AK8=0,0,(AK8*((LOG(AK8))/LOG(2))))","v":0},null,{"$f":"N8","v":112},{"$f":"COUNTIF(L130:L160,AN8)","v":0},{"$f":"AO8/(AQ4-AO11)","v":0},{"$f":"IF(AP8=0,0,(AP8*((LOG(AP8))/LOG(2))))","v":0},null,{"$f":"N8","v":112},{"$f":"COUNTIF(L161:L191,AS8)","v":0},{"$f":"AT8/(AV4-AT11)","v":0},{"$f":"IF(AU8=0,0,(AU8*((LOG(AU8))/LOG(2))))","v":0}]
[21,275,22,282,24,289,null,null,null,null,0,222,null,121,{"$f":"COUNTIF($L$7:$L$500,N9)","v":0},{"$f":"O9/$Q$4","v":0},{"$f":"IF(P9=0,0,(P9*((LOG(P9))/LOG(2))))","v":0},null,null,{"$f":"N9","v":121},{"$f":"COUNTIF(L7:L37,T9)","v":0},{"$f":"U9/(W4-U11)","v":0},{"$f":"IF(V9=0,0,(V9*((LOG(V9))/LOG(2))))","v":0},null,{"$f":"N9","v":121},{"$f":"COUNTIF(L38:L68,Y9)","v":0},{"$f":"Z9/(AB4-Z11)","v":0},{"$f":"IF(AA9=0,0,(AA9*((LOG(AA9))/LOG(2))))","v":0},null,{"$f":"N9","v":121},{"$f":"COUNTIF(L69:L98,AD9)","v":0},{"$f":"AE9/(AG4-AE11)","v":0},{"$f":"IF(AF9=0,0,(AF9*((LOG(AF9))/LOG(2))))","v":0},null,{"$f":"N9","v":121},{"$f":"COUNTIF(L99:L129,AI9)","v":0},{"$f":"AJ9/(AL4-AJ11)","v":0},{"$f":"IF(AK9=0,0,(AK9*((LOG(AK9))/LOG(2))))","v":0},null,{"$f":"N9","v":121},{"$f":"COUNTIF(L130:L160,AN9)","v":0},{"$f":"AO9/(AQ4-AO11)","v":0},{"$f":"IF(AP9=0,0,(AP9*((LOG(AP9))/LOG(2))))","v":0},null,{"$f":"N9","v":121},{"$f":"COUNTIF(L161:L191,AS9)","v":0},{"$f":"AT9/(AV4-AT11)","v":0},{"$f":"IF(AU9=0,0,(AU9*((LOG(AU9))/LOG(2))))","v":0}]
[12,390,24,405,24,413,null,null,null,null,0,122,null,122,{"$f":"COUNTIF($L$7:$L$500,N10)","v":25},{"$f":"O10/$Q$4","v":0.13513513513513514},{"$f":"IF(P10=0,0,(P10*((LOG(P10))/LOG(2))))","v":-0.39020611766778207},null,null,{"$f":"N10","v":122},{"$f":"COUNTIF(L7:L37,T10)","v":9},{"$f":"U10/(W4-U11)","v":0.29032258064516131},{"$f":"IF(V10=0,0,(V10*((LOG(V10))/LOG(2))))","v":-0.5180142509839053},null,{"$f":"N10","v":122},{"$f":"COUNTIF(L38:L68,Y10)","v":3},{"$f":"Z10/(AB4-Z11)","v":9.6774193548387094E-2},{"$f":"IF(AA10=0,0,(AA10*((LOG(AA10))/LOG(2))))","v":-0.32605488480635986},null,{"$f":"N10","v":122},{"$f":"COUNTIF(L69:L98,AD10)","v":2},{"$f":"AE10/(AG4-AE11)","v":6.6666666666666666E-2},{"$f":"IF(AF10=0,0,(AF10*((LOG(AF10))/LOG(2))))","v":-0.26045937304056793},null,{"$f":"N10","v":122},{"$f":"COUNTIF(L99:L129,AI10)","v":4},{"$f":"AJ10/(AL4-AJ11)","v":0.12903225806451613},{"$f":"IF(AK10=0,0,(AK10*((LOG(AK10))/LOG(2))))","v":-0.38118662069508069},null,{"$f":"N10","v":122},{"$f":"COUNTIF(L130:L160,AN10)","v":3},{"$f":"AO10/(AQ4-AO11)","v":9.6774193548387094E-2},{"$f":"IF(AP10=0,0,(AP10*((LOG(AP10))/LOG(2))))","v":-0.32605488480635986},null,{"$f":"N10","v":122},{"$f":"COUNTIF(L161:L191,AS10)","v":4},{"$f":"AT10/(AV4-AT11)","v":0.12903225806451613},{"$f":"IF(AU10=0,0,(AU10*((LOG(AU10))/LOG(2))))","v":-0.38118662069508069}]
[21,526,22,532,24,541,null,null,null,null,0,222,null,211,{"$f":"COUNTIF($L$7:$L$500,N11)","v":0},{"$f":"O11/$Q$4","v":0},{"$f":"IF(P11=0,0,(P11*((LOG(P11))/LOG(2))))","v":0},null,null,{"$f":"N11","v":211},{"$f":"COUNTIF(L7:L37,T11)","v":0},null,null,null,{"$f":"N11","v":211},{"$f":"COUNTIF(L38:L68,Y11)","v":0},null,null,null,{"$f":"N11","v":211},{"$f":"COUNTIF(L69:L98,AD11)","v":0},null,null,null,{"$f":"N11","v":211},{"$f":"COUNTIF(L99:L129,AI11)","v":0},null,null,null,{"$f":"N11","v":211},{"$f":"COUNTIF(L130:L160,AN11)","v":0},null,null,null,{"$f":"N11","v":211},{"$f":"COUNTIF(L161:L191,AS11)","v":0}]
[12,638,24,650,24,655,null,null,null,null,0,122,null,212,{"$f":"COUNTIF($L$7:$L$500,N12)","v":0},{"$f":"O12/$Q$4","v":0},{"$f":"IF(P12=0,0,(P12*((LOG(P12))/LOG(2))))","v":0},null,null,{"$f":"N12","v":212},{"$f":"COUNTIF(L7:L37,T12)","v":0},{"$f":"U12/(W4-U11)","v":0},{"$f":"IF(V12=0,0,(V12*((LOG(V12))/LOG(2))))","v":0},null,{"$f":"N12","v":212},{"$f":"COUNTIF(L38:L68,Y12)","v":0},{"$f":"Z12/(AB4-Z11)","v":0},{"$f":"IF(AA12=0,0,(AA12*((LOG(AA12))/LOG(2))))","v":0},null,{"$f":"N12","v":212},{"$f":"COUNTIF(L69:L98,AD12)","v":0},{"$f":"AE12/(AG4-AE11)","v":0},{"$f":"IF(AF12=0,0,(AF12*((LOG(AF12))/LOG(2))))","v":0},null,{"$f":"N12","v":212},{"$f":"COUNTIF(L99:L129,AI12)","v":0},{"$f":"AJ12/(AL4-AJ11)","v":0},{"$f":"IF(AK12=0,0,(AK12*((LOG(AK12))/LOG(2))))","v":0},null,{"$f":"N12","v":212},{"$f":"COUNTIF(L130:L160,AN12)","v":0},{"$f":"AO12/(AQ4-AO11)","v":0},{"$f":"IF(AP12=0,0,(AP12*((LOG(AP12))/LOG(2))))","v":0},null,{"$f":"N12","v":212},{"$f":"COUNTIF(L161:L191,AS12)","v":0},{"$f":"AT12/(AV4-AT11)","v":0},{"$f":"IF(AU12=0,0,(AU12*((LOG(AU12))/LOG(2))))","v":0}]
[12,765,24,776,24,781,null,null,null,null,0,122,null,221,{"$f":"COUNTIF($L$7:$L$500,N13)","v":0},{"$f":"O13/$Q$4","v":0},{"$f":"IF(P13=0,0,(P13*((LOG(P13))/LOG(2))))","v":0},null,null,{"$f":"N13","v":221},{"$f":"COUNTIF(L7:L37,T13)","v":0},{"$f":"U13/(W4-U11)","v":0},{"$f":"IF(V13=0,0,(V13*((LOG(V13))/LOG(2))))","v":0},null,{"$f":"N13","v":221},{"$f":"COUNTIF(L38:L68,Y13)","v":0},{"$f":"Z13/(AB4-Z11)","v":0},{"$f":"IF(AA13=0,0,(AA13*((LOG(AA13))/LOG(2))))","v":0},null,{"$f":"N13","v":221},{"$f":"COUNTIF(L69:L98,AD13)","v":0},{"$f":"AE13/(AG4-AE11)","v":0},{"$f":"IF(AF13=0,0,(AF13*((LOG(AF13))/LOG(2))))","v":0},null,{"$f":"N13","v":221},{"$f":"COUNTIF(L99:L129,AI13)","v":0},{"$f":"AJ13/(AL4-AJ11)","v":0},{"$f":"IF(AK13=0,0,(AK13*((LOG(AK13))/LOG(2))))","v":0},null,{"$f":"N13","v":221},{"$f":"COUNTIF(L130:L160,AN13)","v":0},{"$f":"AO13/(AQ4-AO11)","v":0},{"$f":"IF(AP13=0,0,(AP13*((LOG(AP13))/LOG(2))))","v":0},null,{"$f":"N13","v":221},{"$f":"COUNTIF(L161:L191,AS13)","v":0},{"$f":"AT13/(AV4-AT11)","v":0},{"$f":"IF(AU13=0,0,(AU13*((LOG(AU13))/LOG(2))))","v":0}]
[21,896,22,908,24,913,null,null,null,null,0,222,null,222,{"$f":"COUNTIF($L$7:$L$500,N14)","v":159},{"$f":"O14/$Q$4","v":0.85945945945945945},{"$f":"IF(P14=0,0,(P14*((LOG(P14))/LOG(2))))","v":-0.18779060719935745},null,null,{"$f":"N14","v":222},{"$f":"COUNTIF(L7:L37,T14)","v":21},{"$f":"U14/(W4-U11)","v":0.67741935483870963},{"$f":"IF(V14=0,0,(V14*((LOG(V14))/LOG(2))))","v":-0.38062763354098111},null,{"$f":"N14","v":222},{"$f":"COUNTIF(L38:L68,Y14)","v":28},{"$f":"Z14/(AB4-Z11)","v":0.90322580645161288},{"$f":"IF(AA14=0,0,(AA14*((LOG(AA14))/LOG(2))))","v":-0.13263093139418039},null,{"$f":"N14","v":222},{"$f":"COUNTIF(L69:L98,AD14)","v":28},{"$f":"AE14/(AG4-AE11)","v":0.93333333333333335},{"$f":"IF(AF14=0,0,(AF14*((LOG(AF14))/LOG(2))))","v":-9.2899961980853443E-2},null,{"$f":"N14","v":222},{"$f":"COUNTIF(L99:L129,AI14)","v":27},{"$f":"AJ14/(AL4-AJ11)","v":0.87096774193548387},{"$f":"IF(AK14=0,0,(AK14*((LOG(AK14))/LOG(2))))","v":-0.17359154264619289},null,{"$f":"N14","v":222},{"$f":"COUNTIF(L130:L160,AN14)","v":28},{"$f":"AO14/(AQ4-AO11)","v":0.90322580645161288},{"$f":"IF(AP14=0,0,(AP14*((LOG(AP14))/LOG(2))))","v":-0.13263093139418039},null,{"$f":"N14","v":222},{"$f":"COUNTIF(L161:L191,AS14)","v":27},{"$f":"AT14/(AV4-AT11)","v":0.87096774193548387},{"$f":"IF(AU14=0,0,(AU14*((LOG(AU14))/LOG(2))))","v":-0.17359154264619289}]
[12,1010,24,1021,24,1026,null,null,null,null,0,122,null,null,null,{"$f":"SUM(P7:P14)","v":1},{"$f":"-SUM(Q7:Q14)","v":0.61870689492398445},null,null,null,null,{"$f":"SUM(V7:V14)","v":1},{"$f":"-SUM(W7:W14)","v":1.0584546687309146},null,null,null,{"$f":"SUM(AA7:AA14)","v":1},{"$f":"-SUM(AB7:AB14)","v":0.45868581620054028},null,null,null,{"$f":"SUM(AF7:AF14)","v":1},{"$f":"-SUM(AG7:AG14)","v":0.35335933502142136},null,null,null,{"$f":"SUM(AK7:AK14)","v":1},{"$f":"-SUM(AL7:AL14)","v":0.55477816334127361},null,null,null,{"$f":"SUM(AP7:AP14)","v":1},{"$f":"-SUM(AQ7:AQ14)","v":0.45868581620054028},null,null,null,{"$f":"SUM(AU7:AU14)","v":1},{"$f":"-SUM(AV7:AV14)","v":0.55477816334127361}]
[21,1158,22,1163,24,1172,null,null,null,null,0,222,null,null,null,"U=",{"$f":"Q15/(LOG(Q4)/LOG(2))","v":8.2150518887881316E-2},null,null,null,null,"U1=",{"$f":"W15/(LOG(W4)/LOG(2))","v":0.21364810807189422},null,null,null,"U2=",{"$f":"AB15/(LOG(AB4)/LOG(2))","v":9.2585313028243993E-2},null,null,null,"U3=",{"$f":"AG15/(LOG(AG4)/LOG(2))","v":7.2012882320560523E-2},null,null,null,"U4=",{"$f":"AL15/(LOG(AL4)/LOG(2))","v":0.11198146552613107},null,null,null,"U5=",{"$f":"AQ15/(LOG(AQ4)/LOG(2))","v":9.2585313028243993E-2},null,null,null,"U6=",{"$f":"AV15/(LOG(AV4)/LOG(2))","v":0.11198146552613107}]
[12,1272,24,1282,24,1294,null,null,null,null,0,122]
[12,1391,24,1406,24,1416,null,null,null,null,0,122]
[21,1542,22,1547,24,1552,null,null,null,null,0,222,null,"Total Target Seq"]
[21,1658,22,1678,24,1686,null,null,null,null,0,222,null,{"$f":"COUNTIF(L7:L191,G3)","v":0},null,31,31,30,31,31,31]
[21,1800,22,1806,24,1810,null,null,null,null,0,222,null,null,null,"% of reinforcement given in 6 equal intervals based on number of trials "]
[21,1927,22,1939,24,1944,null,null,null,null,0,222,null,null,null,"%_1","%_2","%_3","%_4","%_5","%_6"]
[21,2045,22,2051,24,2064,null,null,null,null,0,222,null,null,"target sequence",{"$f":"$G$3","v":211},{"$f":"$G$3","v":211},{"$f":"$G$3","v":211},{"$f":"$G$3","v":211},{"$f":"$G$3","v":211},{"$f":"$G$3","v":211}]
[21,2181,22,2186,24,2191,null,null,null,null,0,222,null,null,"total reinforcement",{"$f":"U11","v":0},{"$f":"Z11","v":0},{"$f":"AE11","v":0},{"$f":"AJ11","v":0},{"$f":"AO11","v":0},{"$f":"AT11","v":0}]
[21,2300,22,2311,24,2324,null,null,null,null,0,222,null,null,"% target"]
[12,2422,24,2435,24,2440,null,null,null,null,0,122,null,null,"CCRF"]
[21,2551,22,2558,24,2579,null,null,null,null,0,222,null,null,"% CCRf"]
[21,2696,22,2714,24,2745,null,null,null,null,0,222,null,null,"average response rate",{"$f":"F37/P20","v":126.19354838709677},{"$f":"(F68-F37)/Q20","v":130.06451612903226},{"$f":"(F98-F68)/R20","v":127.26666666666667},{"$f":"(F129-F98)/S20","v":131.19354838709677},{"$f":"(F160-F129)/T20","v":129.48387096774192},{"$f":"(F191-F160)/U20","v":131.67741935483872}]
[21,2867,22,2874,24,2888,null,null,null,null,0,222]
[21,2997,22,3002,24,3012,null,null,null,null,0,222]
[21,3121,22,3127,24,3140,null,null,null,null,0,222]
[21,3245,22,3251,24,3266,null,null,null,null,0,222]
[21,3392,22,3398,24,3407,null,null,null,null,0,222]
[21,3526,22,3531,24,3545,null,null,null,null,0,222]
[12,3646,24,3655,24,3665,null,null,null,null,0,122]
[21,3775,22,3781,24,3789,null,null,null,null,0,222]
[21,3890,22,3896,24,3912,null,null,null,null,0,222]
[21,4020,22,4025,24,4037,null,null,null,null,0,222]
[21,4145,22,4150,24,4162,null,null,null,null,0,222]
[21,4265,22,4275,24,4287,null,null,null,null,0,222]
[21,4391,22,4398,24,4404,null,null,null,null,0,222]
[21,4520,22,4525,24,4529,null,null,null,null,0,222]
[21,4677,22,4691,24,4739,null,null,null,null,0,222]
[21,4861,22,4866,24,4877,null,null,null,null,0,222]
[21,4984,22,4990,24,4994,null,null,null,null,0,222]
[21,5107,22,5119,24,5123,null,null,null,null,0,222]
[21,5247,22,5255,24,5262,null,null,null,null,0,222]
[21,5371,22,5382,24,5390,null,null,null,null,0,222]
[21,5503,22,5515,24,5533,null,null,null,null,0,222]
[21,5648,22,5659,24,5666,null,null,null,null,0,222]
[21,5776,22,5784,24,5798,null,null,null,null,0,222]
[21,5909,22,5914,24,5920,null,null,null,null,0,222]
[21,6023,22,6029,24,6037,null,null,null,null,0,222]
[21,6156,22,6161,24,6170,null,null,null,null,0,222]
[12,6274,24,6293,24,6301,null,null,null,null,0,122]
[21,6420,22,6430,24,6450,null,null,null,null,0,222]
[21,6556,22,6561,24,6567,null,null,null,null,0,222]
[12,6663,24,6677,24,6689,null,null,null,null,0,122]
[21,6792,22,6796,24,6806,null,null,null,null,0,222]
[21,6915,22,6921,24,6935,null,null,null,null,0,222]
[21,7059,22,7066,24,7078,null,null,null,null,0,222]
[21,7180,22,7201,24,7222,null,null,null,null,0,222]
[21,7331,22,7336,24,7341,null,null,null,null,0,222]
[12,7436,24,7453,24,7468,null,null,null,null,0,122]
[21,7572,22,7577,24,7588,null,null,null,null,0,222]
[21,7695,22,7700,24,7704,null,null,null,null,0,222]
[21,7807,22,7812,24,7825,null,null,null,null,0,222]
[21,7928,22,7932,24,7944,null,null,null,null,0,222]
[21,8053,22,8061,24,8078,null,null,null,null,0,222]
[21,8192,22,8202,24,8228,null,null,null,null,0,222]
[21,8341,22,8346,24,8358,null,null,null,null,0,222]
[21,8467,22,8472,24,8482,null,null,null,null,0,222]
[21,8584,22,8594,24,8606,null,null,null,null,0,222]
[21,8714,22,8719,24,8743,null,null,null,null,0,222]
[21,8851,22,8863,24,8875,null,null,null,null,0,222]
[21,8979,22,8983,24,8990,null,null,null,null,0,222]
[21,9098,22,9103,24,9111,null,null,null,null,0,222]
[12,9203,24,9216,24,9220,null,null,null,null,0,122]
[21,9323,22,9329,24,9335,null,null,null,null,0,222]
[21,9441,22,9447,24,9458,null,null,null,null,0,222]
[21,9560,22,9566,24,9572,null,null,null,null,0,222]
[21,9680,22,9690,24,9698,null,null,null,null,0,222]
[21,9801,22,9806,24,9812,null,null,null,null,0,222]
[21,9914,22,9923,24,9935,null,null,null,null,0,222]
[21,10048,22,10053,24,10060,null,null,null,null,0,222]
[21,10162,22,10169,24,10180,null,null,null,null,0,222]
[21,10286,22,10291,24,10296,null,null,null,null,0,222]
[21,10405,22,10436,24,10446,null,null,null,null,0,222]
[21,10559,22,10564,24,10580,null,null,null,null,0,222]
[21,10699,22,10708,24,10719,null,null,null,null,0,222]
[21,10832,22,10847,24,10860,null,null,null,null,0,222]
[21,10982,22,10987,24,10994,null,null,null,null,0,222]
[21,11111,22,11118,24,11134,null,null,null,null,0,222]
[21,11242,22,11249,24,11255,null,null,null,null,0,222]
[21,11360,22,11373,24,11385,null,null,null,null,0,222]
[21,11489,22,11501,24,11509,null,null,null,null,0,222]
[12,11607,24,11619,24,11639,null,null,null,null,0,122]
[21,11747,22,11754,24,11762,null,null,null,null,0,222]
[21,11870,22,11878,24,11883,null,null,null,null,0,222]
[21,11990,22,11997,24,12003,null,null,null,null,0,222]
[21,12118,22,12130,24,12148,null,null,null,null,0,222]
[21,12261,22,12268,24,12286,null,null,null,null,0,222]
[21,12418,22,12436,24,12449,null,null,null,null,0,222]
[21,12566,22,12576,24,12584,null,null,null,null,0,222]
[21,12696,22,12701,24,12723,null,null,null,null,0,222]
[21,12829,22,12835,24,12842,null,null,null,null,0,222]
[12,12935,24,12947,24,12952,null,null,null,null,0,122]
[21,13076,22,13081,24,13086,null,null,null,null,0,222]
[12,13183,24,13195,24,13221,null,null,null,null,0,122]
[21,13333,22,13349,24,13357,null,null,null,null,0,222]
[21,13462,22,13467,24,13474,null,null,null,null,0,222]
[21,13583,22,13589,24,13597,null,null,null,null,0,222]
[21,13701,22,13714,24,13726,null,null,null,null,0,222]
[21,13833,22,13844,24,13856,null,null,null,null,0,222]
[12,13955,24,13965,24,13979,null,null,null,null,0,122]
[21,14092,22,14100,24,14124,null,null,null,null,0,222]
[21,14226,22,14232,24,14240,null,null,null,null,0,222]
[21,14355,22,14373,24,14390,null,null,null,null,0,222]
[21,14494,22,14499,24,14506,null,null,null,null,0,222]
[21,14615,22,14628,24,14641,null,null,null,null,0,222]
[21,14754,22,14761,24,14782,null,null,null,null,0,222]
[12,14884,24,14897,24,14901,null,null,null,null,0,122]
[21,15013,22,15029,24,15047,null,null,null,null,0,222]
[21,15151,22,15157,24,15174,null,null,null,null,0,222]
[21,15290,22,15301,24,15313,null,null,null,null,0,222]
[21,15426,22,15436,24,15443,null,null,null,null,0,222]
[21,15563,22,15570,24,15593,null,null,null,null,0,222]
[21,15703,22,15708,24,15713,null,null,null,null,0,222]
[21,15816,22,15821,24,15829,null,null,null,null,0,222]
[21,15935,22,15946,24,15958,null,null,null,null,0,222]
[21,16071,22,16083,24,16095,null,null,null,null,0,222]
[21,16210,22,16216,24,16224,null,null,null,null,0,222]
[21,16329,22,16343,24,16350,null,null,null,null,0,222]
[21,16455,22,16462,24,16469,null,null,null,null,0,222]
[21,16591,22,16597,24,16603,null,null,null,null,0,222]
[12,16703,24,16715,24,16721,null,null,null,null,0,122]
[21,16833,22,16841,24,16850,null,null,null,null,0,222]
[21,16969,22,16984,24,16991,null,null,null,null,0,222]
[21,17128,22,17133,24,17151,null,null,null,null,0,222]
[12,17246,24,17255,24,17260,null,null,null,null,0,122]
[21,17368,22,17378,24,17387,null,null,null,null,0,222]
[21,17506,22,17512,24,17521,null,null,null,null,0,222]
[21,17639,22,17650,24,17663,null,null,null,null,0,222]
[21,17767,22,17776,24,17780,null,null,null,null,0,222]
[21,17895,22,17901,24,17913,null,null,null,null,0,222]
[12,18011,24,18021,24,18027,null,null,null,null,0,122]
[21,18132,22,18144,24,18151,null,null,null,null,0,222]
[21,18257,22,18263,24,18274,null,null,null,null,0,222]
[21,18383,22,18391,24,18398,null,null,null,null,0,222]
[21,18507,22,18517,24,18535,null,null,null,null,0,222]
[21,18641,22,18647,24,18660,null,null,null,null,0,222]
[21,18763,22,18768,24,18781,null,null,null,null,0,222]
[21,18883,22,18891,24,18901,null,null,null,null,0,222]
[21,19010,22,19015,24,19027,null,null,null,null,0,222]
[21,19148,22,19160,24,19173,null,null,null,null,0,222]
[21,19288,22,19299,24,19306,null,null,null,null,0,222]
[21,19413,22,19418,24,19424,null,null,null,null,0,222]
[21,19531,22,19537,24,19550,null,null,null,null,0,222]
[21,19657,22,19682,24,19709,null,null,null,null,0,222]
[21,19828,22,19838,24,19843,null,null,null,null,0,222]
[12,19942,24,19953,24,19962,null,null,null,null,0,122]
[12,20061,24,20071,24,20076,null,null,null,null,0,122]
[21,20195,22,20200,24,20214,null,null,null,null,0,222]
[21,20329,22,20337,24,20368,null,null,null,null,0,222]
[21,20483,22,20495,24,20503,null,null,null,null,0,222]
[21,20609,22,20613,24,20619,null,null,null,null,0,222]
[21,20727,22,20738,24,20746,null,null,null,null,0,222]
[21,20849,22,20861,24,20869,null,null,null,null,0,222]
[21,20990,22,20998,24,21006,null,null,null,null,0,222]
[21,21110,22,21117,24,21122,null,null,null,null,0,222]
[21,21232,22,21246,24,21259,null,null,null,null,0,222]
[21,21368,22,21392,24,21426,null,null,null,null,0,222]
[21,21532,22,21538,24,21546,null,null,null,null,0,222]
[21,21655,22,21664,24,21672,null,null,null,null,0,222]
[21,21788,22,21795,24,21806,null,null,null,null,0,222]
[21,21915,22,21920,24,21933,null,null,null,null,0,222]
[12,22030,24,22043,24,22048,null,null,null,null,0,122]
[21,22174,22,22182,24,22186,null,null,null,null,0,222]
[21,22289,22,22299,24,22312,null,null,null,null,0,222]
[21,22415,22,22420,24,22426,null,null,null,null,0,222]
[21,22537,22,22543,24,22551,null,null,null,null,0,222]
[21,22662,22,22670,24,22683,null,null,null,null,0,222]
[21,22795,22,22803,24,22810,null,null,null,null,0,222]
[21,22925,22,22933,24,22957,null,null,null,null,0,222]
[21,23113,22,23123,24,23146,null,null,null,null,0,222]
[21,23257,22,23261,24,23268,null,null,null,null,0,222]
[21,23373,22,23379,24,23383,null,null,null,null,0,222]
[12,23486,24,23509,24,23516,null,null,null,null,0,122]
[21,23624,22,23630,24,23651,null,null,null,null,0,222]
[21,23756,22,23762,24,23781,null,null,null,null,0,222]
[21,23905,22,23912,24,23925,null,null,null,null,null,222]

{"sheet":"!M919910.101","index":22,"n_rows":188,"n_cols":48,"rows_kept":188,"cut":false,"hidden":false,"merged":[[4,39,4,42],[5,39,5,40],[4,44,4,47],[5,44,5,45],[4,24,4,27],[5,24,5,25],[4,29,4,32],[5,29,5,30],[4,34,4,37],[5,34,5,35],[1,1,1,2],[5,13,5,14],[18,13,18,14],[19,13,19,14],[4,19,4,22],[5,19,5,20]]}
["Report for:!M919910.101"]
["Date:","<date>"]
["Hen:","<hen>",null,null,null,"Correct Sequence",{"$f":"Start!J2","v":211},null,null,null,null,null,null,null,null,"Total Sequences in Data",{"$f":"4994-COUNTBLANK(L7:L5000)","v":182},null,null,null,null,"Total Sequences in Block Data",{"$f":"COUNTA(L7:L36)","v":30},null,null,null,"Total Sequences in Block Data",{"$f":"COUNTA(L37:L67)","v":31},null,null,null,"Total Sequences in Block Data",{"$f":"COUNTA(L68:L97)","v":30},null,null,null,"Total Sequences in Block Data",{"$f":"COUNTA(L98:L127)","v":30},null,null,null,"Total Sequences in Block Data",{"$f":"COUNTA(L128:L158)","v":31},null,null,null,"Total Sequences in Block Data",{"$f":"COUNTA(L159:L188)","v":30}]
[null,null,null,null,null,null,null,null,null,null,null,null,null,null,null,"Total Sequences in Summary",{"$f":"SUM(O7:O14)","v":182},null,null,null,null,"Total Sequences in Block Summary",{"$f":"SUM(U7:U14)","v":30},null,null,null,"Total Sequences in Block Summary",{"$f":"SUM(Z7:Z14)","v":31},null,null,null,"Total Sequences in Block Summary",{"$f":"SUM(AE7:AE14)","v":30},null,null,null,"Total Sequences in Block Summary",{"$f":"SUM(AJ7:AJ14)","v":30},null,null,null,"Total Sequences in Block Summary",{"$f":"SUM(AO7:AO14)","v":31},null,null,null,"Total Sequences in Block Summary",{"$f":"SUM(AT7:AT14)","v":30}]
[null,null,null,null,null,null,null,null,null,null,null,null,null,null,null,null,null,null,null,"Block 1",null,null,null,null,"Block 2",null,null,null,null,"Block 3",null,null,null,null,"Block 4",null,null,null,null,"Block 5",null,null,null,null,"Block 6"]
["Sequence\nComponent\n1","Time\n1","Sequence\nComponent\n2","Time\n2","Sequence\nComponent\n3","Time\n3","Sequence\nComponent\n4","Time\n4","Sequence\nComponent\n5","Time\n5","Correct?\n0=No 1=Yes","Sequence",null,"Frequency",null,"Relative Frequency","Variability",null,null,"Frequency",null,"Relative Frequency","Variability",null,"Frequency",null,"Relative Frequency","Variability",null,"Frequency",null,"Relative Frequency","Variability",null,"Frequency",null,"Relative Frequency","Variability",null,"Frequency",null,"Relative Frequency","Variability",null,"Frequency",null,"Relative Frequency","Variability"]
[21,25,22,36,24,49,null,null,null,null,0,222,null,111,{"$f":"COUNTIF($L$7:$L$500,N7)","v":0},{"$f":"O7/$Q$4","v":0},{"$f":"IF(P7=0,0,(P7*((LOG(P7))/LOG(2))))","v":0},null,null,{"$f":"N7","v":111},{"$f":"COUNTIF(L7:L36,T7)","v":0},{"$f":"U7/(W4-U11)","v":0},{"$f":"IF(V7=0,0,(V7*((LOG(V7))/LOG(2))))","v":0},null,{"$f":"N7","v":111},{"$f":"COUNTIF(L37:L67,Y7)","v":0},{"$f":"Z7/(AB4-Z11)","v":0},{"$f":"IF(AA7=0,0,(AA7*((LOG(AA7))/LOG(2))))","v":0},null,{"$f":"N7","v":111},{"$f":"COUNTIF(L68:L97,AD7)","v":0},{"$f":"AE7/(AG4-AE11)","v":0},{"$f":"IF(AF7=0,0,(AF7*((LOG(AF7))/LOG(2))))","v":0},null,{"$f":"N7","v":111},{"$f":"COUNTIF(L98:L127,AI7)","v":0},{"$f":"AJ7/(AL4-AJ11)","v":0},{"$f":"IF(AK7=0,0,(AK7*((LOG(AK7))/LOG(2))))","v":0},null,{"$f":"N7","v":111},{"$f":"COUNTIF(L128:L158,AN7)","v":0},{"$f":"AO7/(AQ4-AO11)","v":0},{"$f":"IF(AP7=0,0,(AP7*((LOG(AP7))/LOG(2))))","v":0},null,{"$f":"N7","v":111},{"$f":"COUNTIF(L159:L188,AS7)","v":0},{"$f":"AT7/(AV4-AT11)","v":0},{"$f":"IF(AU7=0,0,(AU7*((LOG(AU7))/LOG(2))))","v":0}]
[21,173,22,178,24,188,null,null,null,null,0,222,null,112,{"$f":"COUNTIF($L$7:$L$500,N8)","v":0},{"$f":"O8/$Q$4","v":0},{"$f":"IF(P8=0,0,(P8*((LOG(P8))/LOG(2))))","v":0},null,null,{"$f":"N8","v":112},{"$f":"COUNTIF(L7:L36,T8)","v":0},{"$f":"U8/(W4-U11)","v":0},{"$f":"IF(V8=0,0,(V8*((LOG(V8))/LOG(2))))","v":0},null,{"$f":"N8","v":112},{"$f":"COUNTIF(L37:L67,Y8)","v":0},{"$f":"Z8/(AB4-Z11)","v":0},{"$f":"IF(AA8=0,0,(AA8*((LOG(AA8))/LOG(2))))","v":0},null,{"$f":"N8","v":112},{"$f":"COUNTIF(L68:L97,AD8)","v":0},{"$f":"AE8/(AG4-AE11)","v":0},{"$f":"IF(AF8=0,0,(AF8*((LOG(AF8))/LOG(2))))","v":0},null,{"$f":"N8","v":112},{"$f":"COUNTIF(L98:L127,AI8)","v":0},{"$f":"AJ8/(AL4-AJ11)","v":0},{"$f":"IF(AK8=0,0,(AK8*((LOG(AK8))/LOG(2))))","v":0},null,{"$f":"N8","v":112},{"$f":"COUNTIF(L128:L158,AN8)","v":0},{"$f":"AO8/(AQ4-AO11)","v":0},{"$f":"IF(AP8=0,0,(AP8*((LOG(AP8))/LOG(2))))","v":0},null,{"$f":"N8","v":112},{"$f":"COUNTIF(L159:L188,AS8)","v":0},{"$f":"AT8/(AV4-AT11)","v":0},{"$f":"IF(AU8=0,0,(AU8*((LOG(AU8))/LOG(2))))","v":0}]
[21,293,22,298,24,303,null,null,null,null,0,222,null,121,{"$f":"COUNTIF($L$7:$L$500,N9)","v":0},{"$f":"O9/$Q$4","v":0},{"$f":"IF(P9=0,0,(P9*((LOG(P9))/LOG(2))))","v":0},null,null,{"$f":"N9","v":121},{"$f":"COUNTIF(L7:L36,T9)","v":0},{"$f":"U9/(W4-U11)","v":0},{"$f":"IF(V9=0,0,(V9*((LOG(V9))/LOG(2))))","v":0},null,{"$f":"N9","v":121},{"$f":"COUNTIF(L37:L67,Y9)","v":0},{"$f":"Z9/(AB4-Z11)","v":0},{"$f":"IF(AA9=0,0,(AA9*((LOG(AA9))/LOG(2))))","v":0},null,{"$f":"N9","v":121},{"$f":"COUNTIF(L68:L97,AD9)","v":0},{"$f":"AE9/(AG4-AE11)","v":0},{"$f":"IF(AF9=0,0,(AF9*((LOG(AF9))/LOG(2))))","v":0},null,{"$f":"N9","v":121},{"$f":"COUNTIF(L98:L127,AI9)","v":0},{"$f":"AJ9/(AL4-AJ11)","v":0},{"$f":"IF(AK9=0,0,(AK9*((LOG(AK9))/LOG(2))))","v":0},null,{"$f":"N9","v":121},{"$f":"COUNTIF(L128:L158,AN9)","v":0},{"$f":"AO9/(AQ4-AO11)","v":0},{"$f":"IF(AP9=0,0,(AP9*((LOG(AP9))/LOG(2))))","v":0},null,{"$f":"N9","v":121},{"$f":"COUNTIF(L159:L188,AS9)","v":0},{"$f":"AT9/(AV4-AT11)","v":0},{"$f":"IF(AU9=0,0,(AU9*((LOG(AU9))/LOG(2))))","v":0}]
[21,408,22,412,24,426,null,null,null,null,0,222,null,122,{"$f":"COUNTIF($L$7:$L$500,N10)","v":8},{"$f":"O10/$Q$4","v":4.3956043956043959E-2},{"$f":"IF(P10=0,0,(P10*((LOG(P10))/LOG(2))))","v":-0.19814481934939326},null,null,{"$f":"N10","v":122},{"$f":"COUNTIF(L7:L36,T10)","v":4},{"$f":"U10/(W4-U11)","v":0.13333333333333333},{"$f":"IF(V10=0,0,(V10*((LOG(V10))/LOG(2))))","v":-0.3875854127478025},null,{"$f":"N10","v":122},{"$f":"COUNTIF(L37:L67,Y10)","v":1},{"$f":"Z10/(AB4-Z11)","v":3.2258064516129031E-2},{"$f":"IF(AA10=0,0,(AA10*((LOG(AA10))/LOG(2))))","v":-0.15981278420602821},null,{"$f":"N10","v":122},{"$f":"COUNTIF(L68:L97,AD10)","v":2},{"$f":"AE10/(AG4-AE11)","v":6.6666666666666666E-2},{"$f":"IF(AF10=0,0,(AF10*((LOG(AF10))/LOG(2))))","v":-0.26045937304056793},null,{"$f":"N10","v":122},{"$f":"COUNTIF(L98:L127,AI10)","v":0},{"$f":"AJ10/(AL4-AJ11)","v":0},{"$f":"IF(AK10=0,0,(AK10*((LOG(AK10))/LOG(2))))","v":0},null,{"$f":"N10","v":122},{"$f":"COUNTIF(L128:L158,AN10)","v":1},{"$f":"AO10/(AQ4-AO11)","v":3.2258064516129031E-2},{"$f":"IF(AP10=0,0,(AP10*((LOG(AP10))/LOG(2))))","v":-0.15981278420602821},null,{"$f":"N10","v":122},{"$f":"COUNTIF(L159:L188,AS10)","v":0},{"$f":"AT10/(AV4-AT11)","v":0},{"$f":"IF(AU10=0,0,(AU10*((LOG(AU10))/LOG(2))))","v":0}]
[12,525,24,536,24,541,null,null,null,null,0,122,null,211,{"$f":"COUNTIF($L$7:$L$500,N11)","v":0},{"$f":"O11/$Q$4","v":0},{"$f":"IF(P11=0,0,(P11*((LOG(P11))/LOG(2))))","v":0},null,null,{"$f":"N11","v":211},{"$f":"COUNTIF(L7:L36,T11)","v":0},null,null,null,{"$f":"N11","v":211},{"$f":"COUNTIF(L37:L67,Y11)","v":0},null,null,null,{"$f":"N11","v":211},{"$f":"COUNTIF(L68:L97,AD11)","v":0},null,null,null,{"$f":"N11","v":211},{"$f":"COUNTIF(L98:L127,AI11)","v":0},null,null,null,{"$f":"N11","v":211},{"$f":"COUNTIF(L128:L158,AN11)","v":0},null,null,null,{"$f":"N11","v":211},{"$f":"COUNTIF(L159:L188,AS11)","v":0}]
[21,650,22,656,24,663,null,null,null,null,0,222,null,212,{"$f":"COUNTIF($L$7:$L$500,N12)","v":0},{"$f":"O12/$Q$4","v":0},{"$f":"IF(P12=0,0,(P12*((LOG(P12))/LOG(2))))","v":0},null,null,{"$f":"N12","v":212},{"$f":"COUNTIF(L7:L36,T12)","v":0},{"$f":"U12/(W4-U11)","v":0},{"$f":"IF(V12=0,0,(V12*((LOG(V12))/LOG(2))))","v":0},null,{"$f":"N12","v":212},{"$f":"COUNTIF(L37:L67,Y12)","v":0},{"$f":"Z12/(AB4-Z11)","v":0},{"$f":"IF(AA12=0,0,(AA12*((LOG(AA12))/LOG(2))))","v":0},null,{"$f":"N12","v":212},{"$f":"COUNTIF(L68:L97,AD12)","v":0},{"$f":"AE12/(AG4-AE11)","v":0},{"$f":"IF(AF12=0,0,(AF12*((LOG(AF12))/LOG(2))))","v":0},null,{"$f":"N12","v":212},{"$f":"COUNTIF(L98:L127,AI12)","v":0},{"$f":"AJ12/(AL4-AJ11)","v":0},{"$f":"IF(AK12=0,0,(AK12*((LOG(AK12))/LOG(2))))","v":0},null,{"$f":"N12","v":212},{"$f":"COUNTIF(L128:L158,AN12)","v":0},{"$f":"AO12/(AQ4-AO11)","v":0},{"$f":"IF(AP12=0,0,(AP12*((LOG(AP12))/LOG(2))))","v":0},null,{"$f":"N12","v":212},{"$f":"COUNTIF(L159:L188,AS12)","v":0},{"$f":"AT12/(AV4-AT11)","v":0},{"$f":"IF(AU12=0,0,(AU12*((LOG(AU12))/LOG(2))))","v":0}]
[21,770,22,781,24,786,null,null,null,null,0,222,null,221,{"$f":"COUNTIF($L$7:$L$500,N13)","v":0},{"$f":"O13/$Q$4","v":0},{"$f":"IF(P13=0,0,(P13*((LOG(P13))/LOG(2))))","v":0},null,null,{"$f":"N13","v":221},{"$f":"COUNTIF(L7:L36,T13)","v":0},{"$f":"U13/(W4-U11)","v":0},{"$f":"IF(V13=0,0,(V13*((LOG(V13))/LOG(2))))","v":0},null,{"$f":"N13","v":221},{"$f":"COUNTIF(L37:L67,Y13)","v":0},{"$f":"Z13/(AB4-Z11)","v":0},{"$f":"IF(AA13=0,0,(AA13*((LOG(AA13))/LOG(2))))","v":0},null,{"$f":"N13","v":221},{"$f":"COUNTIF(L68:L97,AD13)","v":0},{"$f":"AE13/(AG4-AE11)","v":0},{"$f":"IF(AF13=0,0,(AF13*((LOG(AF13))/LOG(2))))","v":0},null,{"$f":"N13","v":221},{"$f":"COUNTIF(L98:L127,AI13)","v":0},{"$f":"AJ13/(AL4-AJ11)","v":0},{"$f":"IF(AK13=0,0,(AK13*((LOG(AK13))/LOG(2))))","v":0},null,{"$f":"N13","v":221},{"$f":"COUNTIF(L128:L158,AN13)","v":0},{"$f":"AO13/(AQ4-AO11)","v":0},{"$f":"IF(AP13=0,0,(AP13*((LOG(AP13))/LOG(2))))","v":0},null,{"$f":"N13","v":221},{"$f":"COUNTIF(L159:L188,AS13)","v":0},{"$f":"AT13/(AV4-AT11)","v":0},{"$f":"IF(AU13=0,0,(AU13*((LOG(AU13))/LOG(2))))","v":0}]
[12,884,24,893,24,907,null,null,null,null,0,122,null,222,{"$f":"COUNTIF($L$7:$L$500,N14)","v":174},{"$f":"O14/$Q$4","v":0.95604395604395609},{"$f":"IF(P14=0,0,(P14*((LOG(P14))/LOG(2))))","v":-6.2000544598320967E-2},null,null,{"$f":"N14","v":222},{"$f":"COUNTIF(L7:L36,T14)","v":26},{"$f":"U14/(W4-U11)","v":0.8666666666666667},{"$f":"IF(V14=0,0,(V14*((LOG(V14))/LOG(2))))","v":-0.17892409380510282},null,{"$f":"N14","v":222},{"$f":"COUNTIF(L37:L67,Y14)","v":30},{"$f":"Z14/(AB4-Z11)","v":0.967741935483871},{"$f":"IF(AA14=0,0,(AA14*((LOG(AA14))/LOG(2))))","v":-4.5779723979054811E-2},null,{"$f":"N14","v":222},{"$f":"COUNTIF(L68:L97,AD14)","v":28},{"$f":"AE14/(AG4-AE11)","v":0.93333333333333335},{"$f":"IF(AF14=0,0,(AF14*((LOG(AF14))/LOG(2))))","v":-9.2899961980853443E-2},null,{"$f":"N14","v":222},{"$f":"COUNTIF(L98:L127,AI14)","v":30},{"$f":"AJ14/(AL4-AJ11)","v":1},{"$f":"IF(AK14=0,0,(AK14*((LOG(AK14))/LOG(2))))","v":0},null,{"$f":"N14","v":222},{"$f":"COUNTIF(L128:L158,AN14)","v":30},{"$f":"AO14/(AQ4-AO11)","v":0.967741935483871},{"$f":"IF(AP14=0,0,(AP14*((LOG(AP14))/LOG(2))))","v":-4.5779723979054811E-2},null,{"$f":"N14","v":222},{"$f":"COUNTIF(L159:L188,AS14)","v":30},{"$f":"AT14/(AV4-AT11)","v":1},{"$f":"IF(AU14=0,0,(AU14*((LOG(AU14))/LOG(2))))","v":0}]
[21,1018,22,1023,24,1038,null,null,null,null,0,222,null,null,null,{"$f":"SUM(P7:P14)","v":1},{"$f":"-SUM(Q7:Q14)","v":0.26014536394771426},null,null,null,null,{"$f":"SUM(V7:V14)","v":1},{"$f":"-SUM(W7:W14)","v":0.56650950655290533},null,null,null,{"$f":"SUM(AA7:AA14)","v":1},{"$f":"-SUM(AB7:AB14)","v":0.20559250818508301},null,null,null,{"$f":"SUM(AF7:AF14)","v":1},{"$f":"-SUM(AG7:AG14)","v":0.35335933502142136},null,null,null,{"$f":"SUM(AK7:AK14)","v":1},{"$f":"-SUM(AL7:AL14)","v":0},null,null,null,{"$f":"SUM(AP7:AP14)","v":1},{"$f":"-SUM(AQ7:AQ14)","v":0.20559250818508301},null,null,null,{"$f":"SUM(AU7:AU14)","v":1},{"$f":"-SUM(AV7:AV14)","v":0}]
[21,1140,22,1145,24,1153,null,null,null,null,0,222,null,null,null,"U=",{"$f":"Q15/(LOG(Q4)/LOG(2))","v":3.4650037249930619E-2},null,null,null,null,"U1=",{"$f":"W15/(LOG(W4)/LOG(2))","v":0.11545183156516876},null,null,null,"U2=",{"$f":"AB15/(LOG(AB4)/LOG(2))","v":4.1498659985281898E-2},null,null,null,"U3=",{"$f":"AG15/(LOG(AG4)/LOG(2))","v":7.2012882320560523E-2},null,null,null,"U4=",{"$f":"AL15/(LOG(AL4)/LOG(2))","v":0},null,null,null,"U5=",{"$f":"AQ15/(LOG(AQ4)/LOG(2))","v":4.1498659985281898E-2},null,null,null,"U6=",{"$f":"AV15/(LOG(AV4)/LOG(2))","v":0}]
[21,1263,22,1269,24,1275,null,null,null,null,0,222]
[21,1381,22,1387,24,1403,null,null,null,null,0,222]
[21,1541,22,1556,24,1564,null,null,null,null,0,222,null,"Total Target Seq"]
[12,1667,24,1676,24,1681,null,null,null,null,0,122,null,{"$f":"COUNTIF(L7:L188,G3)","v":0},null,30,31,30,30,31,30]
[21,1791,22,1796,24,1801,null,null,null,null,0,222,null,null,null,"% of reinforcement given in 6 equal intervals based on number of trials "]
[21,1911,22,1931,24,1944,null,null,null,null,0,222,null,null,null,"%_1","%_2","%_3","%_4","%_5","%_6"]
[21,2051,22,2056,24,2061,null,null,null,null,0,222,null,null,"target sequence",{"$f":"$G$3","v":211},{"$f":"$G$3","v":211},{"$f":"$G$3","v":211},{"$f":"$G$3","v":211},{"$f":"$G$3","v":211},{"$f":"$G$3","v":211}]
[21,2165,22,2172,24,2185,null,null,null,null,0,222,null,null,"total reinforcement",{"$f":"U11","v":0},{"$f":"Z11","v":0},{"$f":"AE11","v":0},{"$f":"AJ11","v":0},{"$f":"AO11","v":0},{"$f":"AT11","v":0}]
[21,2297,22,2302,24,2309,null,null,null,null,0,222,null,null,"% target"]
[21,2412,22,2417,24,2431,null,null,null,null,0,222,null,null,"CCRF"]
[21,2541,22,2548,24,2560,null,null,null,null,0,222,null,null,"% CCRf"]
[21,2691,22,2696,24,2702,null,null,null,null,0,222,null,null,"average response rate",{"$f":"F36/P20","v":125.16666666666667},{"$f":"(F67-F36)/Q20","v":135.06451612903226},{"$f":"(F97-F67)/R20","v":135.69999999999999},{"$f":"(F127-F97)/S20","v":129.43333333333334},{"$f":"(F158-F127)/T20","v":135.93548387096774},{"$f":"(F188-F158)/U20","v":127.83333333333333}]
[21,2830,22,2839,24,2847,null,null,null,null,0,222]
[21,2960,22,2978,24,3007,null,null,null,null,0,222]
[21,3115,22,3120,24,3130,null,null,null,null,0,222]
[21,3240,22,3245,24,3257,null,null,null,null,0,222]
[12,3359,24,3370,24,3387,null,null,null,null,0,122]
[21,3496,22,3502,24,3510,null,null,null,null,0,222]
[21,3613,22,3618,24,3629,null,null,null,null,0,222]
[21,3729,22,3748,24,3755,null,null,null,null,0,222]
[21,3864,22,3869,24,3874,null,null,null,null,0,222]
[21,3977,22,3989,24,4000,null,null,null,null,0,222]
[21,4112,22,4118,24,4125,null,null,null,null,0,222]
[21,4237,22,4243,24,4256,null,null,null,null,0,222]
[21,4358,22,4377,24,4398,null,null,null,null,0,222]
[21,4518,22,4532,24,4537,null,null,null,null,0,222]
[21,4640,22,4669,24,4696,null,null,null,null,0,222]
[21,4820,22,4829,24,4840,null,null,null,null,0,222]
[21,4948,22,4978,24,4986,null,null,null,null,0,222]
[21,5096,22,5101,24,5122,null,null,null,null,0,222]
[21,5231,22,5238,24,5245,null,null,null,null,0,222]
[21,5359,22,5371,24,5380,null,null,null,null,0,222]
[21,5504,22,5516,24,5526,null,null,null,null,0,222]
[21,5634,22,5638,24,5649,null,null,null,null,0,222]
[21,5764,22,5775,24,5782,null,null,null,null,0,222]
[21,5892,22,5904,24,5945,null,null,null,null,0,222]
[21,6047,22,6058,24,6065,null,null,null,null,0,222]
[21,6170,22,6203,24,6224,null,null,null,null,0,222]
[21,6334,22,6349,24,6362,null,null,null,null,0,222]
[21,6468,22,6475,24,6495,null,null,null,null,0,222]
[21,6607,22,6615,24,6636,null,null,null,null,0,222]
[21,6747,22,6760,24,6772,null,null,null,null,0,222]
[21,6878,22,6883,24,6892,null,null,null,null,0,222]
[21,7008,22,7013,24,7021,null,null,null,null,0,222]
[21,7123,22,7130,24,7137,null,null,null,null,0,222]
[12,7238,24,7253,24,7260,null,null,null,null,0,122]
[21,7384,22,7388,24,7401,null,null,null,null,0,222]
[21,7508,22,7514,24,7520,null,null,null,null,0,222]
[21,7626,22,7631,24,7638,null,null,null,null,0,222]
[21,7773,22,7809,24,7826,null,null,null,null,0,222]
[21,7932,22,7937,24,7942,null,null,null,null,0,222]
[21,8048,22,8058,24,8065,null,null,null,null,0,222]
[21,8175,22,8184,24,8191,null,null,null,null,0,222]
[21,8306,22,8313,24,8318,null,null,null,null,0,222]
[21,8436,22,8449,24,8459,null,null,null,null,0,222]
[21,8561,22,8567,24,8584,null,null,null,null,0,222]
[21,8700,22,8711,24,8725,null,null,null,null,0,222]
[21,8844,22,8879,24,8888,null,null,null,null,0,222]
[21,9007,22,9018,24,9026,null,null,null,null,0,222]
[21,9137,22,9146,24,9154,null,null,null,null,0,222]
[21,9334,22,9364,24,9390,null,null,null,null,0,222]
[21,9526,22,9537,24,9543,null,null,null,null,0,222]
[21,9649,22,9654,24,9660,null,null,null,null,0,222]
[21,9776,22,9785,24,9790,null,null,null,null,0,222]
[12,9882,24,9893,24,9937,null,null,null,null,0,122]
[21,10042,22,10049,24,10054,null,null,null,null,0,222]
[21,10153,22,10164,24,10171,null,null,null,null,0,222]
[21,10274,22,10287,24,10300,null,null,null,null,0,222]
[21,10403,22,10409,24,10420,null,null,null,null,0,222]
[21,10532,22,10538,24,10552,null,null,null,null,0,222]
[21,10658,22,10664,24,10678,null,null,null,null,0,222]
[21,10779,22,10796,24,10814,null,null,null,null,0,222]
[21,10932,22,10938,24,10957,null,null,null,null,0,222]
[21,11059,22,11065,24,11084,null,null,null,null,0,222]
[21,11185,22,11243,24,11265,null,null,null,null,0,222]
[21,11388,22,11394,24,11404,null,null,null,null,0,222]
[21,11512,22,11517,24,11522,null,null,null,null,0,222]
[21,11625,22,11630,24,11635,null,null,null,null,0,222]
[21,11744,22,11748,24,11755,null,null,null,null,0,222]
[12,11851,24,11864,24,11872,null,null,null,null,0,122]
[21,11987,22,11992,24,12013,null,null,null,null,0,222]
[21,12116,22,12122,24,12129,null,null,null,null,0,222]
[21,12236,22,12243,24,12249,null,null,null,null,0,222]
[21,12359,22,12363,24,12368,null,null,null,null,0,222]
[21,12473,22,12478,24,12483,null,null,null,null,0,222]
[21,12598,22,12605,24,12616,null,null,null,null,0,222]
[21,12721,22,12726,24,12741,null,null,null,null,0,222]
[21,12852,22,12857,24,12863,null,null,null,null,0,222]
[21,12966,22,12972,24,12978,null,null,null,null,0,222]
[21,13083,22,13088,24,13101,null,null,null,null,0,222]
[21,13209,22,13227,24,13241,null,null,null,null,0,222]
[21,13358,22,13365,24,13378,null,null,null,null,0,222]
[21,13480,22,13497,24,13509,null,null,null,null,0,222]
[21,13620,22,13628,24,13635,null,null,null,null,0,222]
[21,13790,22,13798,24,13808,null,null,null,null,0,222]
[21,13934,22,13950,24,13958,null,null,null,null,0,222]
[21,14060,22,14064,24,14071,null,null,null,null,0,222]
[21,14177,22,14201,24,14209,null,null,null,null,0,222]
[21,14317,22,14321,24,14333,null,null,null,null,0,222]
[21,14436,22,14455,24,14466,null,null,null,null,0,222]
[21,14590,22,14601,24,14627,null,null,null,null,0,222]
[21,14739,22,14748,24,14756,null,null,null,null,0,222]
[21,14857,22,14869,24,14889,null,null,null,null,0,222]
[21,14991,22,15007,24,15013,null,null,null,null,0,222]
[21,15112,22,15117,24,15122,null,null,null,null,0,222]
[21,15225,22,15235,24,15258,null,null,null,null,0,222]
[21,15359,22,15363,24,15370,null,null,null,null,0,222]
[21,15472,22,15478,24,15488,null,null,null,null,0,222]
[21,15598,22,15603,24,15634,null,null,null,null,0,222]
[21,15737,22,15743,24,15759,null,null,null,null,0,222]
[21,15864,22,15883,24,15896,null,null,null,null,0,222]
[21,16001,22,16019,24,16033,null,null,null,null,0,222]
[21,16155,22,16161,24,16167,null,null,null,null,0,222]
[21,16281,22,16287,24,16294,null,null,null,null,0,222]
[21,16406,22,16418,24,16427,null,null,null,null,0,222]
[21,16529,22,16551,24,16563,null,null,null,null,0,222]
[21,16667,22,16674,24,16682,null,null,null,null,0,222]
[21,16783,22,16790,24,16814,null,null,null,null,0,222]
[21,16924,22,16929,24,16941,null,null,null,null,0,222]
[21,17044,22,17050,24,17071,null,null,null,null,0,222]
[21,17182,22,17195,24,17202,null,null,null,null,0,222]
[21,17317,22,17349,24,17376,null,null,null,null,0,222]
[21,17492,22,17497,24,17505,null,null,null,null,0,222]
[21,17618,22,17623,24,17634,null,null,null,null,0,222]
[21,17756,22,17776,24,17796,null,null,null,null,0,222]
[21,17923,22,17928,24,17939,null,null,null,null,0,222]
[12,18035,24,18050,24,18068,null,null,null,null,0,122]
[21,18201,22,18207,24,18214,null,null,null,null,0,222]
[21,18325,22,18330,24,18346,null,null,null,null,0,222]
[21,18475,22,18509,24,18519,null,null,null,null,0,222]
[21,18632,22,18643,24,18650,null,null,null,null,0,222]
[21,18762,22,18796,24,18803,null,null,null,null,0,222]
[21,18912,22,18916,24,18923,null,null,null,null,0,222]
[21,19036,22,19047,24,19059,null,null,null,null,0,222]
[21,19163,22,19167,24,19177,null,null,null,null,0,222]
[21,19278,22,19283,24,19295,null,null,null,null,0,222]
[21,19414,22,19421,24,19429,null,null,null,null,0,222]
[21,19557,22,19569,24,19584,null,null,null,null,0,222]
[21,19688,22,19695,24,19703,null,null,null,null,0,222]
[21,19823,22,19828,24,19838,null,null,null,null,0,222]
[21,19945,22,19952,24,19987,null,null,null,null,0,222]
[21,20098,22,20104,24,20110,null,null,null,null,0,222]
[21,20233,22,20237,24,20250,null,null,null,null,0,222]
[21,20356,22,20362,24,20368,null,null,null,null,0,222]
[21,20472,22,20476,24,20488,null,null,null,null,0,222]
[21,20599,22,20607,24,20613,null,null,null,null,0,222]
[21,20720,22,20726,24,20739,null,null,null,null,0,222]
[21,20845,22,20859,24,20868,null,null,null,null,0,222]
[21,20981,22,20986,24,20991,null,null,null,null,0,222]
[21,21103,22,21108,24,21119,null,null,null,null,0,222]
[21,21223,22,21228,24,21234,null,null,null,null,0,222]
[21,21337,22,21342,24,21355,null,null,null,null,0,222]
[21,21456,22,21462,24,21470,null,null,null,null,0,222]
[21,21581,22,21587,24,21621,null,null,null,null,0,222]
[21,21722,22,21728,24,21735,null,null,null,null,0,222]
[21,21843,22,21852,24,21874,null,null,null,null,0,222]
[21,21977,22,21982,24,21991,null,null,null,null,0,222]
[21,22093,22,22098,24,22104,null,null,null,null,0,222]
[21,22212,22,22230,24,22240,null,null,null,null,0,222]
[21,22345,22,22350,24,22362,null,null,null,null,0,222]
[21,22472,22,22490,24,22510,null,null,null,null,0,222]
[21,22625,22,22631,24,22642,null,null,null,null,0,222]
[21,22744,22,22748,24,22759,null,null,null,null,0,222]
[21,22868,22,22874,24,22909,null,null,null,null,0,222]
[21,23013,22,23029,24,23041,null,null,null,null,0,222]
[21,23143,22,23167,24,23174,null,null,null,null,0,222]
[21,23278,22,23285,24,23292,null,null,null,null,0,222]
[21,23397,22,23407,24,23437,null,null,null,null,0,222]
[21,23538,22,23542,24,23546,null,null,null,null,0,222]
[21,23654,22,23659,24,23669,null,null,null,null,0,222]
[21,23777,22,23787,24,23805,null,null,null,null,0,222]
[21,23932,22,23940,24,23945,null,null,null,null,null,222]

{"sheet":"!M920910.101","index":23,"n_rows":198,"n_cols":48,"rows_kept":198,"cut":false,"hidden":false,"merged":[[4,39,4,42],[5,39,5,40],[4,44,4,47],[5,44,5,45],[4,24,4,27],[5,24,5,25],[4,29,4,32],[5,29,5,30],[4,34,4,37],[5,34,5,35],[1,1,1,2],[5,13,5,14],[18,13,18,14],[19,13,19,14],[4,19,4,22],[5,19,5,20]]}
["Report for:!M920910.101"]
["Date:","<date>"]
["Hen:","<hen>",null,null,null,"Correct Sequence",{"$f":"Start!J2","v":211},null,null,null,null,null,null,null,null,"Total Sequences in Data",{"$f":"4994-COUNTBLANK(L7:L5000)","v":192},null,null,null,null,"Total Sequences in Block Data",{"$f":"COUNTA(L7:L38)","v":32},null,null,null,"Total Sequences in Block Data",{"$f":"COUNTA(L39:L70)","v":32},null,null,null,"Total Sequences in Block Data",{"$f":"COUNTA(L71:L102)","v":32},null,null,null,"Total Sequences in Block Data",{"$f":"COUNTA(L103:L134)","v":32},null,null,null,"Total Sequences in Block Data",{"$f":"COUNTA(L135:L166)","v":32},null,null,null,"Total Sequences in Block Data",{"$f":"COUNTA(L167:L198)","v":32}]
[null,null,null,null,null,null,null,null,null,null,null,null,null,null,null,"Total Sequences in Summary",{"$f":"SUM(O7:O14)","v":192},null,null,null,null,"Total Sequences in Block Summary",{"$f":"SUM(U7:U14)","v":32},null,null,null,"Total Sequences in Block Summary",{"$f":"SUM(Z7:Z14)","v":32},null,null,null,"Total Sequences in Block Summary",{"$f":"SUM(AE7:AE14)","v":32},null,null,null,"Total Sequences in Block Summary",{"$f":"SUM(AJ7:AJ14)","v":32},null,null,null,"Total Sequences in Block Summary",{"$f":"SUM(AO7:AO14)","v":32},null,null,null,"Total Sequences in Block Summary",{"$f":"SUM(AT7:AT14)","v":32}]
[null,null,null,null,null,null,null,null,null,null,null,null,null,null,null,null,null,null,null,"Block 1",null,null,null,null,"Block 2",null,null,null,null,"Block 3",null,null,null,null,"Block 4",null,null,null,null,"Block 5",null,null,null,null,"Block 6"]
["Sequence\nComponent\n1","Time\n1","Sequence\nComponent\n2","Time\n2","Sequence\nComponent\n3","Time\n3","Sequence\nComponent\n4","Time\n4","Sequence\nComponent\n5","Time\n5","Correct?\n0=No 1=Yes","Sequence",null,"Frequency",null,"Relative Frequency","Variability",null,null,"Frequency",null,"Relative Frequency","Variability",null,"Frequency",null,"Relative Frequency","Variability",null,"Frequency",null,"Relative Frequency","Variability",null,"Frequency",null,"Relative Frequency","Variability",null,"Frequency",null,"Relative Frequency","Variability",null,"Frequency",null,"Relative Frequency","Variability"]
[21,17,22,23,24,37,null,null,null,null,0,222,null,111,{"$f":"COUNTIF($L$7:$L$500,N7)","v":0},{"$f":"O7/$Q$4","v":0},{"$f":"IF(P7=0,0,(P7*((LOG(P7))/LOG(2))))","v":0},null,null,{"$f":"N7","v":111},{"$f":"COUNTIF(L7:L38,T7)","v":0},{"$f":"U7/(W4-U11)","v":0},{"$f":"IF(V7=0,0,(V7*((LOG(V7))/LOG(2))))","v":0},null,{"$f":"N7","v":111},{"$f":"COUNTIF(L39:L70,Y7)","v":0},{"$f":"Z7/(AB4-Z11)","v":0},{"$f":"IF(AA7=0,0,(AA7*((LOG(AA7))/LOG(2))))","v":0},null,{"$f":"N7","v":111},{"$f":"COUNTIF(L71:L102,AD7)","v":0},{"$f":"AE7/(AG4-AE11)","v":0},{"$f":"IF(AF7=0,0,(AF7*((LOG(AF7))/LOG(2))))","v":0},null,{"$f":"N7","v":111},{"$f":"COUNTIF(L103:L134,AI7)","v":0},{"$f":"AJ7/(AL4-AJ11)","v":0},{"$f":"IF(AK7=0,0,(AK7*((LOG(AK7))/LOG(2))))","v":0},null,{"$f":"N7","v":111},{"$f":"COUNTIF(L135:L166,AN7)","v":0},{"$f":"AO7/(AQ4-AO11)","v":0},{"$f":"IF(AP7=0,0,(AP7*((LOG(AP7))/LOG(2))))","v":0},null,{"$f":"N7","v":111},{"$f":"COUNTIF(L167:L198,AS7)","v":0},{"$f":"AT7/(AV4-AT11)","v":0},{"$f":"IF(AU7=0,0,(AU7*((LOG(AU7))/LOG(2))))","v":0}]
[21,153,22,158,24,166,null,null,null,null,0,222,null,112,{"$f":"COUNTIF($L$7:$L$500,N8)","v":0},{"$f":"O8/$Q$4","v":0},{"$f":"IF(P8=0,0,(P8*((LOG(P8))/LOG(2))))","v":0},null,null,{"$f":"N8","v":112},{"$f":"COUNTIF(L7:L38,T8)","v":0},{"$f":"U8/(W4-U11)","v":0},{"$f":"IF(V8=0,0,(V8*((LOG(V8))/LOG(2))))","v":0},null,{"$f":"N8","v":112},{"$f":"COUNTIF(L39:L70,Y8)","v":0},{"$f":"Z8/(AB4-Z11)","v":0},{"$f":"IF(AA8=0,0,(AA8*((LOG(AA8))/LOG(2))))","v":0},null,{"$f":"N8","v":112},{"$f":"COUNTIF(L71:L102,AD8)","v":0},{"$f":"AE8/(AG4-AE11)","v":0},{"$f":"IF(AF8=0,0,(AF8*((LOG(AF8))/LOG(2))))","v":0},null,{"$f":"N8","v":112},{"$f":"COUNTIF(L103:L134,AI8)","v":0},{"$f":"AJ8/(AL4-AJ11)","v":0},{"$f":"IF(AK8=0,0,(AK8*((LOG(AK8))/LOG(2))))","v":0},null,{"$f":"N8","v":112},{"$f":"COUNTIF(L135:L166,AN8)","v":0},{"$f":"AO8/(AQ4-AO11)","v":0},{"$f":"IF(AP8=0,0,(AP8*((LOG(AP8))/LOG(2))))","v":0},null,{"$f":"N8","v":112},{"$f":"COUNTIF(L167:L198,AS8)","v":0},{"$f":"AT8/(AV4-AT11)","v":0},{"$f":"IF(AU8=0,0,(AU8*((LOG(AU8))/LOG(2))))","v":0}]
[21,275,22,280,24,291,null,null,null,null,0,222,null,121,{"$f":"COUNTIF($L$7:$L$500,N9)","v":0},{"$f":"O9/$Q$4","v":0},{"$f":"IF(P9=0,0,(P9*((LOG(P9))/LOG(2))))","v":0},null,null,{"$f":"N9","v":121},{"$f":"COUNTIF(L7:L38,T9)","v":0},{"$f":"U9/(W4-U11)","v":0},{"$f":"IF(V9=0,0,(V9*((LOG(V9))/LOG(2))))","v":0},null,{"$f":"N9","v":121},{"$f":"COUNTIF(L39:L70,Y9)","v":0},{"$f":"Z9/(AB4-Z11)","v":0},{"$f":"IF(AA9=0,0,(AA9*((LOG(AA9))/LOG(2))))","v":0},null,{"$f":"N9","v":121},{"$f":"COUNTIF(L71:L102,AD9)","v":0},{"$f":"AE9/(AG4-AE11)","v":0},{"$f":"IF(AF9=0,0,(AF9*((LOG(AF9))/LOG(2))))","v":0},null,{"$f":"N9","v":121},{"$f":"COUNTIF(L103:L134,AI9)","v":0},{"$f":"AJ9/(AL4-AJ11)","v":0},{"$f":"IF(AK9=0,0,(AK9*((LOG(AK9))/LOG(2))))","v":0},null,{"$f":"N9","v":121},{"$f":"COUNTIF(L135:L166,AN9)","v":0},{"$f":"AO9/(AQ4-AO11)","v":0},{"$f":"IF(AP9=0,0,(AP9*((LOG(AP9))/LOG(2))))","v":0},null,{"$f":"N9","v":121},{"$f":"COUNTIF(L167:L198,AS9)","v":0},{"$f":"AT9/(AV4-AT11)","v":0},{"$f":"IF(AU9=0,0,(AU9*((LOG(AU9))/LOG(2))))","v":0}]
[21,403,22,414,24,422,null,null,null,null,0,222,null,122,{"$f":"COUNTIF($L$7:$L$500,N10)","v":1},{"$f":"O10/$Q$4","v":5.208333333333333E-3},{"$f":"IF(P10=0,0,(P10*((LOG(P10))/LOG(2))))","v":-3.950501302458935E-2},null,null,{"$f":"N10","v":122},{"$f":"COUNTIF(L7:L38,T10)","v":1},{"$f":"U10/(W4-U11)","v":3.125E-2},{"$f":"IF(V10=0,0,(V10*((LOG(V10))/LOG(2))))","v":-0.15625},null,{"$f":"N10","v":122},{"$f":"COUNTIF(L39:L70,Y10)","v":0},{"$f":"Z10/(AB4-Z11)","v":0},{"$f":"IF(AA10=0,0,(AA10*((LOG(AA10))/LOG(2))))","v":0},null,{"$f":"N10","v":122},{"$f":"COUNTIF(L71:L102,AD10)","v":0},{"$f":"AE10/(AG4-AE11)","v":0},{"$f":"IF(AF10=0,0,(AF10*((LOG(AF10))/LOG(2))))","v":0},null,{"$f":"N10","v":122},{"$f":"COUNTIF(L103:L134,AI10)","v":0},{"$f":"AJ10/(AL4-AJ11)","v":0},{"$f":"IF(AK10=0,0,(AK10*((LOG(AK10))/LOG(2))))","v":0},null,{"$f":"N10","v":122},{"$f":"COUNTIF(L135:L166,AN10)","v":0},{"$f":"AO10/(AQ4-AO11)","v":0},{"$f":"IF(AP10=0,0,(AP10*((LOG(AP10))/LOG(2))))","v":0},null,{"$f":"N10","v":122},{"$f":"COUNTIF(L167:L198,AS10)","v":0},{"$f":"AT10/(AV4-AT11)","v":0},{"$f":"IF(AU10=0,0,(AU10*((LOG(AU10))/LOG(2))))","v":0}]
[21,534,22,539,24,551,null,null,null,null,0,222,null,211,{"$f":"COUNTIF($L$7:$L$500,N11)","v":0},{"$f":"O11/$Q$4","v":0},{"$f":"IF(P11=0,0,(P11*((LOG(P11))/LOG(2))))","v":0},null,null,{"$f":"N11","v":211},{"$f":"COUNTIF(L7:L38,T11)","v":0},null,null,null,{"$f":"N11","v":211},{"$f":"COUNTIF(L39:L70,Y11)","v":0},null,null,null,{"$f":"N11","v":211},{"$f":"COUNTIF(L71:L102,AD11)","v":0},null,null,null,{"$f":"N11","v":211},{"$f":"COUNTIF(L103:L134,AI11)","v":0},null,null,null,{"$f":"N11","v":211},{"$f":"COUNTIF(L135:L166,AN11)","v":0},null,null,null,{"$f":"N11","v":211},{"$f":"COUNTIF(L167:L198,AS11)","v":0}]
[21,654,22,659,24,667,null,null,null,null,0,222,null,212,{"$f":"COUNTIF($L$7:$L$500,N12)","v":0},{"$f":"O12/$Q$4","v":0},{"$f":"IF(P12=0,0,(P12*((LOG(P12))/LOG(2))))","v":0},null,null,{"$f":"N12","v":212},{"$f":"COUNTIF(L7:L38,T12)","v":0},{"$f":"U12/(W4-U11)","v":0},{"$f":"IF(V12=0,0,(V12*((LOG(V12))/LOG(2))))","v":0},null,{"$f":"N12","v":212},{"$f":"COUNTIF(L39:L70,Y12)","v":0},{"$f":"Z12/(AB4-Z11)","v":0},{"$f":"IF(AA12=0,0,(AA12*((LOG(AA12))/LOG(2))))","v":0},null,{"$f":"N12","v":212},{"$f":"COUNTIF(L71:L102,AD12)","v":0},{"$f":"AE12/(AG4-AE11)","v":0},{"$f":"IF(AF12=0,0,(AF12*((LOG(AF12))/LOG(2))))","v":0},null,{"$f":"N12","v":212},{"$f":"COUNTIF(L103:L134,AI12)","v":0},{"$f":"AJ12/(AL4-AJ11)","v":0},{"$f":"IF(AK12=0,0,(AK12*((LOG(AK12))/LOG(2))))","v":0},null,{"$f":"N12","v":212},{"$f":"COUNTIF(L135:L166,AN12)","v":0},{"$f":"AO12/(AQ4-AO11)","v":0},{"$f":"IF(AP12=0,0,(AP12*((LOG(AP12))/LOG(2))))","v":0},null,{"$f":"N12","v":212},{"$f":"COUNTIF(L167:L198,AS12)","v":0},{"$f":"AT12/(AV4-AT11)","v":0},{"$f":"IF(AU12=0,0,(AU12*((LOG(AU12))/LOG(2))))","v":0}]
[21,788,22,793,24,801,null,null,null,null,0,222,null,221,{"$f":"COUNTIF($L$7:$L$500,N13)","v":0},{"$f":"O13/$Q$4","v":0},{"$f":"IF(P13=0,0,(P13*((LOG(P13))/LOG(2))))","v":0},null,null,{"$f":"N13","v":221},{"$f":"COUNTIF(L7:L38,T13)","v":0},{"$f":"U13/(W4-U11)","v":0},{"$f":"IF(V13=0,0,(V13*((LOG(V13))/LOG(2))))","v":0},null,{"$f":"N13","v":221},{"$f":"COUNTIF(L39:L70,Y13)","v":0},{"$f":"Z13/(AB4-Z11)","v":0},{"$f":"IF(AA13=0,0,(AA13*((LOG(AA13))/LOG(2))))","v":0},null,{"$f":"N13","v":221},{"$f":"COUNTIF(L71:L102,AD13)","v":0},{"$f":"AE13/(AG4-AE11)","v":0},{"$f":"IF(AF13=0,0,(AF13*((LOG(AF13))/LOG(2))))","v":0},null,{"$f":"N13","v":221},{"$f":"COUNTIF(L103:L134,AI13)","v":0},{"$f":"AJ13/(AL4-AJ11)","v":0},{"$f":"IF(AK13=0,0,(AK13*((LOG(AK13))/LOG(2))))","v":0},null,{"$f":"N13","v":221},{"$f":"COUNTIF(L135:L166,AN13)","v":0},{"$f":"AO13/(AQ4-AO11)","v":0},{"$f":"IF(AP13=0,0,(AP13*((LOG(AP13))/LOG(2))))","v":0},null,{"$f":"N13","v":221},{"$f":"COUNTIF(L167:L198,AS13)","v":0},{"$f":"AT13/(AV4-AT11)","v":0},{"$f":"IF(AU13=0,0,(AU13*((LOG(AU13))/LOG(2))))","v":0}]
[21,905,22,915,24,923,null,null,null,null,0,222,null,222,{"$f":"COUNTIF($L$7:$L$500,N14)","v":191},{"$f":"O14/$Q$4","v":0.99479166666666663},{"$f":"IF(P14=0,0,(P14*((LOG(P14))/LOG(2))))","v":-7.4944348068377142E-3},null,null,{"$f":"N14","v":222},{"$f":"COUNTIF(L7:L38,T14)","v":31},{"$f":"U14/(W4-U11)","v":0.96875},{"$f":"IF(V14=0,0,(V14*((LOG(V14))/LOG(2))))","v":-4.4372324312714644E-2},null,{"$f":"N14","v":222},{"$f":"COUNTIF(L39:L70,Y14)","v":32},{"$f":"Z14/(AB4-Z11)","v":1},{"$f":"IF(AA14=0,0,(AA14*((LOG(AA14))/LOG(2))))","v":0},null,{"$f":"N14","v":222},{"$f":"COUNTIF(L71:L102,AD14)","v":32},{"$f":"AE14/(AG4-AE11)","v":1},{"$f":"IF(AF14=0,0,(AF14*((LOG(AF14))/LOG(2))))","v":0},null,{"$f":"N14","v":222},{"$f":"COUNTIF(L103:L134,AI14)","v":32},{"$f":"AJ14/(AL4-AJ11)","v":1},{"$f":"IF(AK14=0,0,(AK14*((LOG(AK14))/LOG(2))))","v":0},null,{"$f":"N14","v":222},{"$f":"COUNTIF(L135:L166,AN14)","v":32},{"$f":"AO14/(AQ4-AO11)","v":1},{"$f":"IF(AP14=0,0,(AP14*((LOG(AP14))/LOG(2))))","v":0},null,{"$f":"N14","v":222},{"$f":"COUNTIF(L167:L198,AS14)","v":32},{"$f":"AT14/(AV4-AT11)","v":1},{"$f":"IF(AU14=0,0,(AU14*((LOG(AU14))/LOG(2))))","v":0}]
[21,1025,22,1031,24,1036,null,null,null,null,0,222,null,null,null,{"$f":"SUM(P7:P14)","v":1},{"$f":"-SUM(Q7:Q14)","v":4.6999447831427066E-2},null,null,null,null,{"$f":"SUM(V7:V14)","v":1},{"$f":"-SUM(W7:W14)","v":0.20062232431271465},null,null,null,{"$f":"SUM(AA7:AA14)","v":1},{"$f":"-SUM(AB7:AB14)","v":0},null,null,null,{"$f":"SUM(AF7:AF14)","v":1},{"$f":"-SUM(AG7:AG14)","v":0},null,null,null,{"$f":"SUM(AK7:AK14)","v":1},{"$f":"-SUM(AL7:AL14)","v":0},null,null,null,{"$f":"SUM(AP7:AP14)","v":1},{"$f":"-SUM(AQ7:AQ14)","v":0},null,null,null,{"$f":"SUM(AU7:AU14)","v":1},{"$f":"-SUM(AV7:AV14)","v":0}]
[21,1146,22,1151,24,1156,null,null,null,null,0,222,null,null,null,"U=",{"$f":"Q15/(LOG(Q4)/LOG(2))","v":6.1963981795504584E-3},null,null,null,null,"U1=",{"$f":"W15/(LOG(W4)/LOG(2))","v":4.0124464862542931E-2},null,null,null,"U2=",{"$f":"AB15/(LOG(AB4)/LOG(2))","v":0},null,null,null,"U3=",{"$f":"AG15/(LOG(AG4)/LOG(2))","v":0},null,null,null,"U4=",{"$f":"AL15/(LOG(AL4)/LOG(2))","v":0},null,null,null,"U5=",{"$f":"AQ15/(LOG(AQ4)/LOG(2))","v":0},null,null,null,"U6=",{"$f":"AV15/(LOG(AV4)/LOG(2))","v":0}]
[21,1257,22,1262,24,1269,null,null,null,null,0,222]
[21,1398,22,1407,24,1416,null,null,null,null,0,222]
[21,1527,22,1532,24,1541,null,null,null,null,0,222,null,"Total Target Seq"]
[21,1645,22,1657,24,1666,null,null,null,null,0,222,null,{"$f":"COUNTIF(L7:L198,G3)","v":0},null,32,32,32,32,32,32]
[21,1780,22,1784,24,1789,null,null,null,null,0,222,null,null,null,"% of reinforcement given in 6 equal intervals based on number of trials "]
[21,1901,22,1906,24,1912,null,null,null,null,0,222,null,null,null,"%_1","%_2","%_3","%_4","%_5","%_6"]
[12,2008,24,2020,24,2025,null,null,null,null,0,122,null,null,"target sequence",{"$f":"$G$3","v":211},{"$f":"$G$3","v":211},{"$f":"$G$3","v":211},{"$f":"$G$3","v":211},{"$f":"$G$3","v":211},{"$f":"$G$3","v":211}]
[21,2130,22,2136,24,2141,null,null,null,null,0,222,null,null,"total reinforcement",{"$f":"U11","v":0},{"$f":"Z11","v":0},{"$f":"AE11","v":0},{"$f":"AJ11","v":0},{"$f":"AO11","v":0},{"$f":"AT11","v":0}]
[21,2250,22,2259,24,2265,null,null,null,null,0,222,null,null,"% target"]
[21,2381,22,2398,24,2410,null,null,null,null,0,222,null,null,"CCRF"]
[21,2519,22,2525,24,2531,null,null,null,null,0,222,null,null,"% CCRf"]
[21,2632,22,2643,24,2647,null,null,null,null,0,222,null,null,"average response rate",{"$f":"F38/P20","v":120.5625},{"$f":"(F70-F38)/Q20","v":124.0625},{"$f":"(F102-F70)/R20","v":123.28125},{"$f":"(F134-F102)/S20","v":125.15625},{"$f":"(F166-F134)/T20","v":128.84375},{"$f":"(F198-F166)/U20","v":125.65625}]
[21,2756,22,2762,24,2776,null,null,null,null,0,222]
[21,2884,22,2889,24,2895,null,null,null,null,0,222]
[21,3012,22,3026,24,3035,null,null,null,null,0,222]
[21,3140,22,3146,24,3151,null,null,null,null,0,222]
[21,3253,22,3258,24,3263,null,null,null,null,0,222]
[21,3373,22,3380,24,3384,null,null,null,null,0,222]
[21,3483,22,3488,24,3493,null,null,null,null,0,222]
[21,3604,22,3610,24,3615,null,null,null,null,0,222]
[21,3721,22,3725,24,3730,null,null,null,null,0,222]
[21,3831,22,3846,24,3858,null,null,null,null,0,222]
[21,3968,22,3973,24,3986,null,null,null,null,0,222]
[21,4104,22,4109,24,4124,null,null,null,null,0,222]
[21,4225,22,4232,24,4247,null,null,null,null,0,222]
[21,4351,22,4355,24,4360,null,null,null,null,0,222]
[21,4463,22,4470,24,4479,null,null,null,null,0,222]
[21,4589,22,4593,24,4598,null,null,null,null,0,222]
[21,4705,22,4710,24,4721,null,null,null,null,0,222]
[21,4828,22,4835,24,4844,null,null,null,null,0,222]
[21,4943,22,4948,24,4967,null,null,null,null,0,222]
[21,5072,22,5077,24,5088,null,null,null,null,0,222]
[21,5200,22,5205,24,5213,null,null,null,null,0,222]
[21,5319,22,5326,24,5330,null,null,null,null,0,222]
[21,5444,22,5448,24,5462,null,null,null,null,0,222]
[21,5571,22,5576,24,5580,null,null,null,null,0,222]
[21,5690,22,5695,24,5700,null,null,null,null,0,222]
[21,5804,22,5809,24,5814,null,null,null,null,0,222]
[21,5928,22,5933,24,5938,null,null,null,null,0,222]
[21,6040,22,6044,24,6051,null,null,null,null,0,222]
[21,6159,22,6170,24,6179,null,null,null,null,0,222]
[21,6283,22,6297,24,6306,null,null,null,null,0,222]
[21,6409,22,6424,24,6436,null,null,null,null,0,222]
[21,6548,22,6553,24,6564,null,null,null,null,0,222]
[21,6665,22,6683,24,6687,null,null,null,null,0,222]
[21,6793,22,6798,24,6814,null,null,null,null,0,222]
[21,6923,22,6932,24,6937,null,null,null,null,0,222]
[21,7042,22,7053,24,7059,null,null,null,null,0,222]
[21,7165,22,7176,24,7184,null,null,null,null,0,222]
[21,7316,22,7330,24,7339,null,null,null,null,0,222]
[21,7452,22,7457,24,7464,null,null,null,null,0,222]
[21,7572,22,7576,24,7585,null,null,null,null,0,222]
[21,7689,22,7693,24,7713,null,null,null,null,0,222]
[21,7816,22,7821,24,7828,null,null,null,null,0,222]
[21,7943,22,7952,24,7982,null,null,null,null,0,222]
[21,8086,22,8090,24,8101,null,null,null,null,0,222]
[21,8204,22,8210,24,8216,null,null,null,null,0,222]
[21,8317,22,8326,24,8334,null,null,null,null,0,222]
[21,8440,22,8447,24,8470,null,null,null,null,0,222]
[21,8584,22,8594,24,8601,null,null,null,null,0,222]
[21,8714,22,8719,24,8734,null,null,null,null,0,222]
[21,8835,22,8846,24,8851,null,null,null,null,0,222]
[21,8958,22,8963,24,8973,null,null,null,null,0,222]
[21,9076,22,9081,24,9085,null,null,null,null,0,222]
[21,9193,22,9197,24,9202,null,null,null,null,0,222]
[21,9307,22,9313,24,9317,null,null,null,null,0,222]
[21,9428,22,9432,24,9442,null,null,null,null,0,222]
[21,9539,22,9546,24,9551,null,null,null,null,0,222]
[21,9652,22,9657,24,9663,null,null,null,null,0,222]
[21,9764,22,9768,24,9773,null,null,null,null,0,222]
[21,9888,22,9901,24,9915,null,null,null,null,0,222]
[21,10017,22,10023,24,10030,null,null,null,null,0,222]
[21,10140,22,10152,24,10167,null,null,null,null,0,222]
[21,10274,22,10283,24,10293,null,null,null,null,0,222]
[21,10398,22,10402,24,10407,null,null,null,null,0,222]
[21,10516,22,10521,24,10529,null,null,null,null,0,222]
[21,10643,22,10649,24,10662,null,null,null,null,0,222]
[21,10764,22,10769,24,10776,null,null,null,null,0,222]
[21,10881,22,10891,24,10899,null,null,null,null,0,222]
[21,10996,22,11005,24,11018,null,null,null,null,0,222]
[21,11122,22,11127,24,11138,null,null,null,null,0,222]
[21,11240,22,11250,24,11263,null,null,null,null,0,222]
[21,11377,22,11382,24,11399,null,null,null,null,0,222]
[21,11501,22,11506,24,11512,null,null,null,null,0,222]
[21,11620,22,11625,24,11646,null,null,null,null,0,222]
[21,11753,22,11760,24,11773,null,null,null,null,0,222]
[21,11882,22,11889,24,11902,null,null,null,null,0,222]
[21,12013,22,12026,24,12033,null,null,null,null,0,222]
[21,12139,22,12173,24,12194,null,null,null,null,0,222]
[21,12296,22,12300,24,12308,null,null,null,null,0,222]
[21,12417,22,12439,24,12452,null,null,null,null,0,222]
[21,12555,22,12570,24,12575,null,null,null,null,0,222]
[21,12677,22,12688,24,12694,null,null,null,null,0,222]
[21,12802,22,12807,24,12825,null,null,null,null,0,222]
[21,12931,22,12938,24,12946,null,null,null,null,0,222]
[21,13047,22,13051,24,13058,null,null,null,null,0,222]
[21,13163,22,13170,24,13177,null,null,null,null,0,222]
[21,13297,22,13303,24,13310,null,null,null,null,0,222]
[21,13417,22,13422,24,13434,null,null,null,null,0,222]
[21,13553,22,13560,24,13568,null,null,null,null,0,222]
[21,13680,22,13688,24,13698,null,null,null,null,0,222]
[21,13799,22,13803,24,13811,null,null,null,null,0,222]
[21,13908,22,13913,24,13917,null,null,null,null,0,222]
[21,14022,22,14027,24,14042,null,null,null,null,0,222]
[21,14148,22,14161,24,14175,null,null,null,null,0,222]
[21,14277,22,14284,24,14300,null,null,null,null,0,222]
[21,14410,22,14414,24,14422,null,null,null,null,0,222]
[21,14534,22,14539,24,14546,null,null,null,null,0,222]
[21,14646,22,14652,24,14657,null,null,null,null,0,222]
[21,14762,22,14776,24,14782,null,null,null,null,0,222]
[21,14885,22,14891,24,14896,null,null,null,null,0,222]
[21,14998,22,15005,24,15012,null,null,null,null,0,222]
[21,15122,22,15127,24,15144,null,null,null,null,0,222]
[21,15249,22,15269,24,15276,null,null,null,null,0,222]
[21,15382,22,15396,24,15404,null,null,null,null,0,222]
[21,15515,22,15520,24,15526,null,null,null,null,0,222]
[21,15631,22,15635,24,15655,null,null,null,null,0,222]
[21,15761,22,15773,24,15778,null,null,null,null,0,222]
[21,15895,22,15901,24,15914,null,null,null,null,0,222]
[21,16031,22,16037,24,16052,null,null,null,null,0,222]
[21,16154,22,16161,24,16167,null,null,null,null,0,222]
[21,16264,22,16270,24,16277,null,null,null,null,0,222]
[21,16396,22,16415,24,16427,null,null,null,null,0,222]
[21,16538,22,16548,24,16561,null,null,null,null,0,222]
[21,16677,22,16683,24,16705,null,null,null,null,0,222]
[21,16828,22,16841,24,16850,null,null,null,null,0,222]
[21,16954,22,16960,24,16968,null,null,null,null,0,222]
[21,17072,22,17077,24,17083,null,null,null,null,0,222]
[21,17187,22,17192,24,17211,null,null,null,null,0,222]
[21,17314,22,17318,24,17328,null,null,null,null,0,222]
[21,17438,22,17449,24,17456,null,null,null,null,0,222]
[21,17572,22,17579,24,17588,null,null,null,null,0,222]
[21,17686,22,17692,24,17703,null,null,null,null,0,222]
[21,17814,22,17821,24,17832,null,null,null,null,0,222]
[21,17940,22,17950,24,17970,null,null,null,null,0,222]
[21,18078,22,18083,24,18092,null,null,null,null,0,222]
[21,18206,22,18227,24,18236,null,null,null,null,0,222]
[21,18345,22,18351,24,18359,null,null,null,null,0,222]
[21,18461,22,18474,24,18486,null,null,null,null,0,222]
[21,18599,22,18609,24,18615,null,null,null,null,0,222]
[21,18714,22,18731,24,18755,null,null,null,null,0,222]
[21,18859,22,18864,24,18872,null,null,null,null,0,222]
[21,18974,22,18980,24,18984,null,null,null,null,0,222]
[21,19087,22,19109,24,19129,null,null,null,null,0,222]
[21,19233,22,19240,24,19248,null,null,null,null,0,222]
[21,19356,22,19379,24,19394,null,null,null,null,0,222]
[21,19497,22,19504,24,19517,null,null,null,null,0,222]
[21,19622,22,19627,24,19634,null,null,null,null,0,222]
[21,19739,22,19744,24,19750,null,null,null,null,0,222]
[21,19862,22,19879,24,19901,null,null,null,null,0,222]
[21,20011,22,20016,24,20028,null,null,null,null,0,222]
[21,20131,22,20147,24,20163,null,null,null,null,0,222]
[21,20281,22,20289,24,20298,null,null,null,null,0,222]
[21,20400,22,20406,24,20412,null,null,null,null,0,222]
[21,20524,22,20529,24,20535,null,null,null,null,0,222]
[21,20637,22,20651,24,20657,null,null,null,null,0,222]
[21,20765,22,20770,24,20784,null,null,null,null,0,222]
[21,20887,22,20892,24,20901,null,null,null,null,0,222]
[21,21002,22,21009,24,21019,null,null,null,null,0,222]
[21,21126,22,21131,24,21140,null,null,null,null,0,222]
[21,21246,22,21251,24,21256,null,null,null,null,0,222]
[21,21360,22,21371,24,21376,null,null,null,null,0,222]
[21,21481,22,21488,24,21495,null,null,null,null,0,222]
[21,21595,22,21606,24,21613,null,null,null,null,0,222]
[21,21720,22,21738,24,21748,null,null,null,null,0,222]
[21,21849,22,21856,24,21863,null,null,null,null,0,222]
[21,21969,22,21984,24,22003,null,null,null,null,0,222]
[21,22106,22,22143,24,22158,null,null,null,null,0,222]
[21,22256,22,22265,24,22270,null,null,null,null,0,222]
[21,22367,22,22381,24,22387,null,null,null,null,0,222]
[21,22492,22,22520,24,22541,null,null,null,null,0,222]
[21,22643,22,22652,24,22659,null,null,null,null,0,222]
[21,22780,22,22787,24,22796,null,null,null,null,0,222]
[21,22896,22,22901,24,22917,null,null,null,null,0,222]
[21,23022,22,23026,24,23032,null,null,null,null,0,222]
[21,23130,22,23137,24,23153,null,null,null,null,0,222]
[21,23259,22,23265,24,23277,null,null,null,null,0,222]
[21,23380,22,23387,24,23397,null,null,null,null,0,222]
[21,23508,22,23514,24,23535,null,null,null,null,0,222]
[21,23636,22,23648,24,23660,null,null,null,null,0,222]
[21,23768,22,23775,24,23779,null,null,null,null,0,222]
[21,23892,22,23910,24,23922,null,null,null,null,null,222]

{"sheet":"!M921840.101","index":24,"n_rows":198,"n_cols":48,"rows_kept":198,"cut":false,"hidden":false,"merged":[[4,39,4,42],[5,39,5,40],[4,44,4,47],[5,44,5,45],[4,24,4,27],[5,24,5,25],[4,29,4,32],[5,29,5,30],[4,34,4,37],[5,34,5,35],[1,1,1,2],[5,13,5,14],[18,13,18,14],[19,13,19,14],[4,19,4,22],[5,19,5,20]]}
["Report for:!M921840.101"]
["Date:","<date>"]
["Hen:","<hen>",null,null,null,"Correct Sequence",{"$f":"Start!J2","v":211},null,null,null,null,null,null,null,null,"Total Sequences in Data",{"$f":"4994-COUNTBLANK(L7:L5000)","v":192},null,null,null,null,"Total Sequences in Block Data",{"$f":"COUNTA(L7:L38)","v":32},null,null,null,"Total Sequences in Block Data",{"$f":"COUNTA(L39:L70)","v":32},null,null,null,"Total Sequences in Block Data",{"$f":"COUNTA(L71:L102)","v":32},null,null,null,"Total Sequences in Block Data",{"$f":"COUNTA(L103:L134)","v":32},null,null,null,"Total Sequences in Block Data",{"$f":"COUNTA(L135:L166)","v":32},null,null,null,"Total Sequences in Block Data",{"$f":"COUNTA(L167:L198)","v":32}]
[null,null,null,null,null,null,null,null,null,null,null,null,null,null,null,"Total Sequences in Summary",{"$f":"SUM(O7:O14)","v":192},null,null,null,null,"Total Sequences in Block Summary",{"$f":"SUM(U7:U14)","v":32},null,null,null,"Total Sequences in Block Summary",{"$f":"SUM(Z7:Z14)","v":32},null,null,null,"Total Sequences in Block Summary",{"$f":"SUM(AE7:AE14)","v":32},null,null,null,"Total Sequences in Block Summary",{"$f":"SUM(AJ7:AJ14)","v":32},null,null,null,"Total Sequences in Block Summary",{"$f":"SUM(AO7:AO14)","v":32},null,null,null,"Total Sequences in Block Summary",{"$f":"SUM(AT7:AT14)","v":32}]
[null,null,null,null,null,null,null,null,null,null,null,null,null,null,null,null,null,null,null,"Block 1",null,null,null,null,"Block 2",null,null,null,null,"Block 3",null,null,null,null,"Block 4",null,null,null,null,"Block 5",null,null,null,null,"Block 6"]
["Sequence\nComponent\n1","Time\n1","Sequence\nComponent\n2","Time\n2","Sequence\nComponent\n3","Time\n3","Sequence\nComponent\n4","Time\n4","Sequence\nComponent\n5","Time\n5","Correct?\n0=No 1=Yes","Sequence",null,"Frequency",null,"Relative Frequency","Variability",null,null,"Frequency",null,"Relative Frequency","Variability",null,"Frequency",null,"Relative Frequency","Variability",null,"Frequency",null,"Relative Frequency","Variability",null,"Frequency",null,"Relative Frequency","Variability",null,"Frequency",null,"Relative Frequency","Variability",null,"Frequency",null,"Relative Frequency","Variability"]
[12,10,24,23,24,30,null,null,null,null,0,122,null,111,{"$f":"COUNTIF($L$7:$L$500,N7)","v":0},{"$f":"O7/$Q$4","v":0},{"$f":"IF(P7=0,0,(P7*((LOG(P7))/LOG(2))))","v":0},null,null,{"$f":"N7","v":111},{"$f":"COUNTIF(L7:L38,T7)","v":0},{"$f":"U7/(W4-U11)","v":0},{"$f":"IF(V7=0,0,(V7*((LOG(V7))/LOG(2))))","v":0},null,{"$f":"N7","v":111},{"$f":"COUNTIF(L39:L70,Y7)","v":0},{"$f":"Z7/(AB4-Z11)","v":0},{"$f":"IF(AA7=0,0,(AA7*((LOG(AA7))/LOG(2))))","v":0},null,{"$f":"N7","v":111},{"$f":"COUNTIF(L71:L102,AD7)","v":0},{"$f":"AE7/(AG4-AE11)","v":0},{"$f":"IF(AF7=0,0,(AF7*((LOG(AF7))/LOG(2))))","v":0},null,{"$f":"N7","v":111},{"$f":"COUNTIF(L103:L134,AI7)","v":0},{"$f":"AJ7/(AL4-AJ11)","v":0},{"$f":"IF(AK7=0,0,(AK7*((LOG(AK7))/LOG(2))))","v":0},null,{"$f":"N7","v":111},{"$f":"COUNTIF(L135:L166,AN7)","v":0},{"$f":"AO7/(AQ4-AO11)","v":0},{"$f":"IF(AP7=0,0,(AP7*((LOG(AP7))/LOG(2))))","v":0},null,{"$f":"N7","v":111},{"$f":"COUNTIF(L167:L198,AS7)","v":0},{"$f":"AT7/(AV4-AT11)","v":0},{"$f":"IF(AU7=0,0,(AU7*((LOG(AU7))/LOG(2))))","v":0}]
[21,139,22,154,24,169,null,null,null,null,0,222,null,112,{"$f":"COUNTIF($L$7:$L$500,N8)","v":0},{"$f":"O8/$Q$4","v":0},{"$f":"IF(P8=0,0,(P8*((LOG(P8))/LOG(2))))","v":0},null,null,{"$f":"N8","v":112},{"$f":"COUNTIF(L7:L38,T8)","v":0},{"$f":"U8/(W4-U11)","v":0},{"$f":"IF(V8=0,0,(V8*((LOG(V8))/LOG(2))))","v":0},null,{"$f":"N8","v":112},{"$f":"COUNTIF(L39:L70,Y8)","v":0},{"$f":"Z8/(AB4-Z11)","v":0},{"$f":"IF(AA8=0,0,(AA8*((LOG(AA8))/LOG(2))))","v":0},null,{"$f":"N8","v":112},{"$f":"COUNTIF(L71:L102,AD8)","v":0},{"$f":"AE8/(AG4-AE11)","v":0},{"$f":"IF(AF8=0,0,(AF8*((LOG(AF8))/LOG(2))))","v":0},null,{"$f":"N8","v":112},{"$f":"COUNTIF(L103:L134,AI8)","v":0},{"$f":"AJ8/(AL4-AJ11)","v":0},{"$f":"IF(AK8=0,0,(AK8*((LOG(AK8))/LOG(2))))","v":0},null,{"$f":"N8","v":112},{"$f":"COUNTIF(L135:L166,AN8)","v":0},{"$f":"AO8/(AQ4-AO11)","v":0},{"$f":"IF(AP8=0,0,(AP8*((LOG(AP8))/LOG(2))))","v":0},null,{"$f":"N8","v":112},{"$f":"COUNTIF(L167:L198,AS8)","v":0},{"$f":"AT8/(AV4-AT11)","v":0},{"$f":"IF(AU8=0,0,(AU8*((LOG(AU8))/LOG(2))))","v":0}]
[12,269,24,279,24,284,null,null,null,null,0,122,null,121,{"$f":"COUNTIF($L$7:$L$500,N9)","v":0},{"$f":"O9/$Q$4","v":0},{"$f":"IF(P9=0,0,(P9*((LOG(P9))/LOG(2))))","v":0},null,null,{"$f":"N9","v":121},{"$f":"COUNTIF(L7:L38,T9)","v":0},{"$f":"U9/(W4-U11)","v":0},{"$f":"IF(V9=0,0,(V9*((LOG(V9))/LOG(2))))","v":0},null,{"$f":"N9","v":121},{"$f":"COUNTIF(L39:L70,Y9)","v":0},{"$f":"Z9/(AB4-Z11)","v":0},{"$f":"IF(AA9=0,0,(AA9*((LOG(AA9))/LOG(2))))","v":0},null,{"$f":"N9","v":121},{"$f":"COUNTIF(L71:L102,AD9)","v":0},{"$f":"AE9/(AG4-AE11)","v":0},{"$f":"IF(AF9=0,0,(AF9*((LOG(AF9))/LOG(2))))","v":0},null,{"$f":"N9","v":121},{"$f":"COUNTIF(L103:L134,AI9)","v":0},{"$f":"AJ9/(AL4-AJ11)","v":0},{"$f":"IF(AK9=0,0,(AK9*((LOG(AK9))/LOG(2))))","v":0},null,{"$f":"N9","v":121},{"$f":"COUNTIF(L135:L166,AN9)","v":0},{"$f":"AO9/(AQ4-AO11)","v":0},{"$f":"IF(AP9=0,0,(AP9*((LOG(AP9))/LOG(2))))","v":0},null,{"$f":"N9","v":121},{"$f":"COUNTIF(L167:L198,AS9)","v":0},{"$f":"AT9/(AV4-AT11)","v":0},{"$f":"IF(AU9=0,0,(AU9*((LOG(AU9))/LOG(2))))","v":0}]
[21,399,22,407,24,419,null,null,null,null,0,222,null,122,{"$f":"COUNTIF($L$7:$L$500,N10)","v":8},{"$f":"O10/$Q$4","v":4.1666666666666664E-2},{"$f":"IF(P10=0,0,(P10*((LOG(P10))/LOG(2))))","v":-0.19104010419671485},null,null,{"$f":"N10","v":122},{"$f":"COUNTIF(L7:L38,T10)","v":4},{"$f":"U10/(W4-U11)","v":0.125},{"$f":"IF(V10=0,0,(V10*((LOG(V10))/LOG(2))))","v":-0.375},null,{"$f":"N10","v":122},{"$f":"COUNTIF(L39:L70,Y10)","v":1},{"$f":"Z10/(AB4-Z11)","v":3.125E-2},{"$f":"IF(AA10=0,0,(AA10*((LOG(AA10))/LOG(2))))","v":-0.15625},null,{"$f":"N10","v":122},{"$f":"COUNTIF(L71:L102,AD10)","v":0},{"$f":"AE10/(AG4-AE11)","v":0},{"$f":"IF(AF10=0,0,(AF10*((LOG(AF10))/LOG(2))))","v":0},null,{"$f":"N10","v":122},{"$f":"COUNTIF(L103:L134,AI10)","v":1},{"$f":"AJ10/(AL4-AJ11)","v":3.125E-2},{"$f":"IF(AK10=0,0,(AK10*((LOG(AK10))/LOG(2))))","v":-0.15625},null,{"$f":"N10","v":122},{"$f":"COUNTIF(L135:L166,AN10)","v":1},{"$f":"AO10/(AQ4-AO11)","v":3.125E-2},{"$f":"IF(AP10=0,0,(AP10*((LOG(AP10))/LOG(2))))","v":-0.15625},null,{"$f":"N10","v":122},{"$f":"COUNTIF(L167:L198,AS10)","v":1},{"$f":"AT10/(AV4-AT11)","v":3.125E-2},{"$f":"IF(AU10=0,0,(AU10*((LOG(AU10))/LOG(2))))","v":-0.15625}]
[21,529,22,534,24,552,null,null,null,null,0,222,null,211,{"$f":"COUNTIF($L$7:$L$500,N11)","v":0},{"$f":"O11/$Q$4","v":0},{"$f":"IF(P11=0,0,(P11*((LOG(P11))/LOG(2))))","v":0},null,null,{"$f":"N11","v":211},{"$f":"COUNTIF(L7:L38,T11)","v":0},null,null,null,{"$f":"N11","v":211},{"$f":"COUNTIF(L39:L70,Y11)","v":0},null,null,null,{"$f":"N11","v":211},{"$f":"COUNTIF(L71:L102,AD11)","v":0},null,null,null,{"$f":"N11","v":211},{"$f":"COUNTIF(L103:L134,AI11)","v":0},null,null,null,{"$f":"N11","v":211},{"$f":"COUNTIF(L135:L166,AN11)","v":0},null,null,null,{"$f":"N11","v":211},{"$f":"COUNTIF(L167:L198,AS11)","v":0}]
[21,667,22,677,24,686,null,null,null,null,0,222,null,212,{"$f":"COUNTIF($L$7:$L$500,N12)","v":0},{"$f":"O12/$Q$4","v":0},{"$f":"IF(P12=0,0,(P12*((LOG(P12))/LOG(2))))","v":0},null,null,{"$f":"N12","v":212},{"$f":"COUNTIF(L7:L38,T12)","v":0},{"$f":"U12/(W4-U11)","v":0},{"$f":"IF(V12=0,0,(V12*((LOG(V12))/LOG(2))))","v":0},null,{"$f":"N12","v":212},{"$f":"COUNTIF(L39:L70,Y12)","v":0},{"$f":"Z12/(AB4-Z11)","v":0},{"$f":"IF(AA12=0,0,(AA12*((LOG(AA12))/LOG(2))))","v":0},null,{"$f":"N12","v":212},{"$f":"COUNTIF(L71:L102,AD12)","v":0},{"$f":"AE12/(AG4-AE11)","v":0},{"$f":"IF(AF12=0,0,(AF12*((LOG(AF12))/LOG(2))))","v":0},null,{"$f":"N12","v":212},{"$f":"COUNTIF(L103:L134,AI12)","v":0},{"$f":"AJ12/(AL4-AJ11)","v":0},{"$f":"IF(AK12=0,0,(AK12*((LOG(AK12))/LOG(2))))","v":0},null,{"$f":"N12","v":212},{"$f":"COUNTIF(L135:L166,AN12)","v":0},{"$f":"AO12/(AQ4-AO11)","v":0},{"$f":"IF(AP12=0,0,(AP12*((LOG(AP12))/LOG(2))))","v":0},null,{"$f":"N12","v":212},{"$f":"COUNTIF(L167:L198,AS12)","v":0},{"$f":"AT12/(AV4-AT11)","v":0},{"$f":"IF(AU12=0,0,(AU12*((LOG(AU12))/LOG(2))))","v":0}]
[21,789,22,794,24,800,null,null,null,null,0,222,null,221,{"$f":"COUNTIF($L$7:$L$500,N13)","v":0},{"$f":"O13/$Q$4","v":0},{"$f":"IF(P13=0,0,(P13*((LOG(P13))/LOG(2))))","v":0},null,null,{"$f":"N13","v":221},{"$f":"COUNTIF(L7:L38,T13)","v":0},{"$f":"U13/(W4-U11)","v":0},{"$f":"IF(V13=0,0,(V13*((LOG(V13))/LOG(2))))","v":0},null,{"$f":"N13","v":221},{"$f":"COUNTIF(L39:L70,Y13)","v":0},{"$f":"Z13/(AB4-Z11)","v":0},{"$f":"IF(AA13=0,0,(AA13*((LOG(AA13))/LOG(2))))","v":0},null,{"$f":"N13","v":221},{"$f":"COUNTIF(L71:L102,AD13)","v":0},{"$f":"AE13/(AG4-AE11)","v":0},{"$f":"IF(AF13=0,0,(AF13*((LOG(AF13))/LOG(2))))","v":0},null,{"$f":"N13","v":221},{"$f":"COUNTIF(L103:L134,AI13)","v":0},{"$f":"AJ13/(AL4-AJ11)","v":0},{"$f":"IF(AK13=0,0,(AK13*((LOG(AK13))/LOG(2))))","v":0},null,{"$f":"N13","v":221},{"$f":"COUNTIF(L135:L166,AN13)","v":0},{"$f":"AO13/(AQ4-AO11)","v":0},{"$f":"IF(AP13=0,0,(AP13*((LOG(AP13))/LOG(2))))","v":0},null,{"$f":"N13","v":221},{"$f":"COUNTIF(L167:L198,AS13)","v":0},{"$f":"AT13/(AV4-AT11)","v":0},{"$f":"IF(AU13=0,0,(AU13*((LOG(AU13))/LOG(2))))","v":0}]
[21,907,22,916,24,925,null,null,null,null,0,222,null,222,{"$f":"COUNTIF($L$7:$L$500,N14)","v":184},{"$f":"O14/$Q$4","v":0.95833333333333337},{"$f":"IF(P14=0,0,(P14*((LOG(P14))/LOG(2))))","v":-5.8842188636470616E-2},null,null,{"$f":"N14","v":222},{"$f":"COUNTIF(L7:L38,T14)","v":28},{"$f":"U14/(W4-U11)","v":0.875},{"$f":"IF(V14=0,0,(V14*((LOG(V14))/LOG(2))))","v":-0.1685644431995964},null,{"$f":"N14","v":222},{"$f":"COUNTIF(L39:L70,Y14)","v":31},{"$f":"Z14/(AB4-Z11)","v":0.96875},{"$f":"IF(AA14=0,0,(AA14*((LOG(AA14))/LOG(2))))","v":-4.4372324312714644E-2},null,{"$f":"N14","v":222},{"$f":"COUNTIF(L71:L102,AD14)","v":32},{"$f":"AE14/(AG4-AE11)","v":1},{"$f":"IF(AF14=0,0,(AF14*((LOG(AF14))/LOG(2))))","v":0},null,{"$f":"N14","v":222},{"$f":"COUNTIF(L103:L134,AI14)","v":31},{"$f":"AJ14/(AL4-AJ11)","v":0.96875},{"$f":"IF(AK14=0,0,(AK14*((LOG(AK14))/LOG(2))))","v":-4.4372324312714644E-2},null,{"$f":"N14","v":222},{"$f":"COUNTIF(L135:L166,AN14)","v":31},{"$f":"AO14/(AQ4-AO11)","v":0.96875},{"$f":"IF(AP14=0,0,(AP14*((LOG(AP14))/LOG(2))))","v":-4.4372324312714644E-2},null,{"$f":"N14","v":222},{"$f":"COUNTIF(L167:L198,AS14)","v":31},{"$f":"AT14/(AV4-AT11)","v":0.96875},{"$f":"IF(AU14=0,0,(AU14*((LOG(AU14))/LOG(2))))","v":-4.4372324312714644E-2}]
[21,1035,22,1041,24,1047,null,null,null,null,0,222,null,null,null,{"$f":"SUM(P7:P14)","v":1},{"$f":"-SUM(Q7:Q14)","v":0.24988229283318547},null,null,null,null,{"$f":"SUM(V7:V14)","v":1},{"$f":"-SUM(W7:W14)","v":0.5435644431995964},null,null,null,{"$f":"SUM(AA7:AA14)","v":1},{"$f":"-SUM(AB7:AB14)","v":0.20062232431271465},null,null,null,{"$f":"SUM(AF7:AF14)","v":1},{"$f":"-SUM(AG7:AG14)","v":0},null,null,null,{"$f":"SUM(AK7:AK14)","v":1},{"$f":"-SUM(AL7:AL14)","v":0.20062232431271465},null,null,null,{"$f":"SUM(AP7:AP14)","v":1},{"$f":"-SUM(AQ7:AQ14)","v":0.20062232431271465},null,null,null,{"$f":"SUM(AU7:AU14)","v":1},{"$f":"-SUM(AV7:AV14)","v":0.20062232431271465}]
[21,1178,22,1188,24,1201,null,null,null,null,0,222,null,null,null,"U=",{"$f":"Q15/(LOG(Q4)/LOG(2))","v":3.2944433516899706E-2},null,null,null,null,"U1=",{"$f":"W15/(LOG(W4)/LOG(2))","v":0.10871288863991928},null,null,null,"U2=",{"$f":"AB15/(LOG(AB4)/LOG(2))","v":4.0124464862542931E-2},null,null,null,"U3=",{"$f":"AG15/(LOG(AG4)/LOG(2))","v":0},null,null,null,"U4=",{"$f":"AL15/(LOG(AL4)/LOG(2))","v":4.0124464862542931E-2},null,null,null,"U5=",{"$f":"AQ15/(LOG(AQ4)/LOG(2))","v":4.0124464862542931E-2},null,null,null,"U6=",{"$f":"AV15/(LOG(AV4)/LOG(2))","v":4.0124464862542931E-2}]
[21,1309,22,1314,24,1319,null,null,null,null,0,222]
[21,1443,22,1452,24,1461,null,null,null,null,0,222]
[21,1573,22,1578,24,1598,null,null,null,null,0,222,null,"Total Target Seq"]
[12,1695,24,1709,24,1714,null,null,null,null,0,122,null,{"$f":"COUNTIF(L7:L198,G3)","v":0},null,32,32,32,32,32,32]
[21,1829,22,1841,24,1849,null,null,null,null,0,222,null,null,null,"% of reinforcement given in 6 equal intervals based on number of trials "]
[21,1958,22,1963,24,1968,null,null,null,null,0,222,null,null,null,"%_1","%_2","%_3","%_4","%_5","%_6"]
[21,2087,22,2094,24,2107,null,null,null,null,0,222,null,null,"target sequence",{"$f":"$G$3","v":211},{"$f":"$G$3","v":211},{"$f":"$G$3","v":211},{"$f":"$G$3","v":211},{"$f":"$G$3","v":211},{"$f":"$G$3","v":211}]
[21,2226,22,2237,24,2241,null,null,null,null,0,222,null,null,"total reinforcement",{"$f":"U11","v":0},{"$f":"Z11","v":0},{"$f":"AE11","v":0},{"$f":"AJ11","v":0},{"$f":"AO11","v":0},{"$f":"AT11","v":0}]
[21,2361,22,2367,24,2375,null,null,null,null,0,222,null,null,"% target"]
[21,2481,22,2509,24,2516,null,null,null,null,0,222,null,null,"CCRF"]
[12,2606,24,2627,24,2634,null,null,null,null,0,122,null,null,"% CCRf"]
[21,2744,22,2749,24,2762,null,null,null,null,0,222,null,null,"average response rate",{"$f":"F38/P20","v":126.8125},{"$f":"(F70-F38)/Q20","v":127.53125},{"$f":"(F102-F70)/R20","v":125.28125},{"$f":"(F134-F102)/S20","v":121.65625},{"$f":"(F166-F134)/T20","v":124.34375},{"$f":"(F198-F166)/U20","v":124}]
[21,2868,22,2882,24,2893,null,null,null,null,0,222]
[21,2994,22,3000,24,3007,null,null,null,null,0,222]
[21,3128,22,3135,24,3149,null,null,null,null,0,222]
[21,3254,22,3260,24,3268,null,null,null,null,0,222]
[21,3380,22,3385,24,3399,null,null,null,null,0,222]
[21,3512,22,3519,24,3532,null,null,null,null,0,222]
[21,3646,22,3651,24,3658,null,null,null,null,0,222]
[21,3772,22,3791,24,3804,null,null,null,null,0,222]
[21,3915,22,3924,24,3929,null,null,null,null,0,222]
[21,4040,22,4052,24,4058,null,null,null,null,0,222]
[21,4167,22,4178,24,4192,null,null,null,null,0,222]
[21,4291,22,4296,24,4303,null,null,null,null,0,222]
[21,4407,22,4412,24,4421,null,null,null,null,0,222]
[21,4527,22,4532,24,4538,null,null,null,null,0,222]
[21,4646,22,4651,24,4668,null,null,null,null,0,222]
[21,4769,22,4775,24,4781,null,null,null,null,0,222]
[21,4887,22,4892,24,4903,null,null,null,null,0,222]
[21,5004,22,5010,24,5015,null,null,null,null,0,222]
[21,5124,22,5129,24,5137,null,null,null,null,0,222]
[21,5252,22,5260,24,5274,null,null,null,null,0,222]
[21,5404,22,5411,24,5426,null,null,null,null,0,222]
[12,5521,24,5530,24,5535,null,null,null,null,0,122]
[21,5644,22,5661,24,5675,null,null,null,null,0,222]
[21,5785,22,5792,24,5799,null,null,null,null,0,222]
[21,5904,22,5909,24,5914,null,null,null,null,0,222]
[21,6019,22,6030,24,6041,null,null,null,null,0,222]
[21,6160,22,6171,24,6181,null,null,null,null,0,222]
[21,6287,22,6302,24,6307,null,null,null,null,0,222]
[21,6432,22,6443,24,6454,null,null,null,null,0,222]
[21,6556,22,6561,24,6584,null,null,null,null,0,222]
[21,6688,22,6692,24,6705,null,null,null,null,0,222]
[21,6814,22,6824,24,6831,null,null,null,null,0,222]
[21,6948,22,6959,24,6981,null,null,null,null,0,222]
[21,7091,22,7096,24,7102,null,null,null,null,0,222]
[21,7208,22,7222,24,7230,null,null,null,null,0,222]
[21,7337,22,7343,24,7348,null,null,null,null,0,222]
[21,7456,22,7470,24,7493,null,null,null,null,0,222]
[21,7610,22,7619,24,7626,null,null,null,null,0,222]
[21,7733,22,7739,24,7744,null,null,null,null,0,222]
[21,7856,22,7866,24,7886,null,null,null,null,0,222]
[21,7994,22,7998,24,8009,null,null,null,null,0,222]
[21,8112,22,8125,24,8139,null,null,null,null,0,222]
[21,8253,22,8258,24,8264,null,null,null,null,0,222]
[21,8380,22,8385,24,8394,null,null,null,null,0,222]
[21,8498,22,8504,24,8511,null,null,null,null,0,222]
[21,8616,22,8621,24,8628,null,null,null,null,0,222]
[21,8743,22,8766,24,8781,null,null,null,null,0,222]
[21,8883,22,8889,24,8894,null,null,null,null,0,222]
[21,9002,22,9007,24,9014,null,null,null,null,0,222]
[21,9135,22,9150,24,9162,null,null,null,null,0,222]
[21,9299,22,9307,24,9315,null,null,null,null,0,222]
[21,9423,22,9428,24,9439,null,null,null,null,0,222]
[21,9542,22,9547,24,9558,null,null,null,null,0,222]
[21,9669,22,9676,24,9685,null,null,null,null,0,222]
[21,9789,22,9794,24,9798,null,null,null,null,0,222]
[21,9912,22,9917,24,9922,null,null,null,null,0,222]
[21,10031,22,10036,24,10042,null,null,null,null,0,222]
[21,10143,22,10147,24,10152,null,null,null,null,0,222]
[21,10263,22,10270,24,10303,null,null,null,null,0,222]
[21,10406,22,10411,24,10422,null,null,null,null,0,222]
[21,10529,22,10534,24,10551,null,null,null,null,0,222]
[21,10659,22,10664,24,10680,null,null,null,null,0,222]
[21,10787,22,10797,24,10802,null,null,null,null,0,222]
[21,10912,22,10917,24,10924,null,null,null,null,0,222]
[21,11025,22,11040,24,11047,null,null,null,null,0,222]
[21,11145,22,11150,24,11155,null,null,null,null,0,222]
[21,11262,22,11267,24,11276,null,null,null,null,0,222]
[21,11381,22,11396,24,11404,null,null,null,null,0,222]
[21,11519,22,11527,24,11538,null,null,null,null,0,222]
[21,11652,22,11666,24,11675,null,null,null,null,0,222]
[21,11783,22,11792,24,11805,null,null,null,null,0,222]
[21,11906,22,11913,24,11918,null,null,null,null,0,222]
[21,12015,22,12021,24,12027,null,null,null,null,0,222]
[21,12138,22,12142,24,12148,null,null,null,null,0,222]
[21,12258,22,12262,24,12267,null,null,null,null,0,222]
[21,12378,22,12384,24,12399,null,null,null,null,0,222]
[21,12505,22,12510,24,12521,null,null,null,null,0,222]
[21,12623,22,12629,24,12646,null,null,null,null,0,222]
[21,12751,22,12762,24,12767,null,null,null,null,0,222]
[21,12884,22,12890,24,12894,null,null,null,null,0,222]
[21,13011,22,13016,24,13029,null,null,null,null,0,222]
[21,13132,22,13137,24,13142,null,null,null,null,0,222]
[12,13244,24,13255,24,13260,null,null,null,null,0,122]
[21,13366,22,13374,24,13379,null,null,null,null,0,222]
[21,13480,22,13487,24,13500,null,null,null,null,0,222]
[21,13614,22,13621,24,13638,null,null,null,null,0,222]
[21,13741,22,13749,24,13758,null,null,null,null,0,222]
[21,13861,22,13873,24,13877,null,null,null,null,0,222]
[21,13981,22,13986,24,13991,null,null,null,null,0,222]
[21,14095,22,14107,24,14117,null,null,null,null,0,222]
[21,14219,22,14224,24,14232,null,null,null,null,0,222]
[21,14333,22,14339,24,14346,null,null,null,null,0,222]
[21,14454,22,14460,24,14471,null,null,null,null,0,222]
[21,14572,22,14577,24,14588,null,null,null,null,0,222]
[21,14686,22,14694,24,14700,null,null,null,null,0,222]
[21,14813,22,14818,24,14834,null,null,null,null,0,222]
[21,14936,22,14941,24,14946,null,null,null,null,0,222]
[21,15059,22,15066,24,15073,null,null,null,null,0,222]
[21,15179,22,15186,24,15192,null,null,null,null,0,222]
[21,15294,22,15305,24,15318,null,null,null,null,0,222]
[21,15431,22,15436,24,15443,null,null,null,null,0,222]
[21,15551,22,15556,24,15566,null,null,null,null,0,222]
[21,15668,22,15674,24,15681,null,null,null,null,0,222]
[21,15784,22,15789,24,15794,null,null,null,null,0,222]
[21,15904,22,15909,24,15917,null,null,null,null,0,222]
[21,16023,22,16030,24,16041,null,null,null,null,0,222]
[21,16146,22,16157,24,16164,null,null,null,null,0,222]
[21,16267,22,16277,24,16282,null,null,null,null,0,222]
[21,16383,22,16394,24,16420,null,null,null,null,0,222]
[21,16528,22,16533,24,16539,null,null,null,null,0,222]
[21,16661,22,16672,24,16687,null,null,null,null,0,222]
[21,16795,22,16801,24,16820,null,null,null,null,0,222]
[21,16922,22,16928,24,16935,null,null,null,null,0,222]
[21,17043,22,17047,24,17053,null,null,null,null,0,222]
[21,17152,22,17159,24,17163,null,null,null,null,0,222]
[21,17265,22,17270,24,17277,null,null,null,null,0,222]
[21,17378,22,17383,24,17389,null,null,null,null,0,222]
[21,17490,22,17497,24,17506,null,null,null,null,0,222]
[21,17615,22,17622,24,17634,null,null,null,null,0,222]
[21,17738,22,17747,24,17751,null,null,null,null,0,222]
[21,17853,22,17862,24,17867,null,null,null,null,0,222]
[21,17976,22,17987,24,18001,null,null,null,null,0,222]
[21,18103,22,18109,24,18117,null,null,null,null,0,222]
[21,18218,22,18225,24,18231,null,null,null,null,0,222]
[21,18345,22,18358,24,18370,null,null,null,null,0,222]
[21,18476,22,18488,24,18495,null,null,null,null,0,222]
[21,18596,22,18601,24,18607,null,null,null,null,0,222]
[12,18723,24,18737,24,18755,null,null,null,null,0,122]
[21,18860,22,18866,24,18882,null,null,null,null,0,222]
[21,18992,22,18997,24,19007,null,null,null,null,0,222]
[21,19111,22,19118,24,19124,null,null,null,null,0,222]
[21,19230,22,19238,24,19256,null,null,null,null,0,222]
[21,19371,22,19376,24,19384,null,null,null,null,0,222]
[21,19492,22,19500,24,19509,null,null,null,null,0,222]
[21,19647,22,19657,24,19662,null,null,null,null,0,222]
[21,19767,22,19779,24,19786,null,null,null,null,0,222]
[21,19887,22,19892,24,19905,null,null,null,null,0,222]
[21,20007,22,20012,24,20020,null,null,null,null,0,222]
[21,20133,22,20145,24,20159,null,null,null,null,0,222]
[21,20262,22,20268,24,20275,null,null,null,null,0,222]
[21,20392,22,20402,24,20411,null,null,null,null,0,222]
[12,20502,24,20515,24,20522,null,null,null,null,0,122]
[21,20634,22,20641,24,20648,null,null,null,null,0,222]
[21,20750,22,20755,24,20763,null,null,null,null,0,222]
[21,20866,22,20872,24,20878,null,null,null,null,0,222]
[21,20984,22,20990,24,20997,null,null,null,null,0,222]
[21,21109,22,21117,24,21152,null,null,null,null,0,222]
[21,21257,22,21268,24,21278,null,null,null,null,0,222]
[21,21381,22,21386,24,21393,null,null,null,null,0,222]
[21,21502,22,21509,24,21525,null,null,null,null,0,222]
[21,21629,22,21633,24,21638,null,null,null,null,0,222]
[21,21739,22,21744,24,21750,null,null,null,null,0,222]
[21,21851,22,21859,24,21871,null,null,null,null,0,222]
[21,21989,22,21995,24,22012,null,null,null,null,0,222]
[21,22124,22,22148,24,22178,null,null,null,null,0,222]
[21,22280,22,22285,24,22297,null,null,null,null,0,222]
[21,22399,22,22407,24,22420,null,null,null,null,0,222]
[21,22519,22,22526,24,22531,null,null,null,null,0,222]
[21,22630,22,22636,24,22642,null,null,null,null,0,222]
[21,22743,22,22749,24,22757,null,null,null,null,0,222]
[21,22861,22,22866,24,22873,null,null,null,null,0,222]
[21,22978,22,22984,24,22990,null,null,null,null,0,222]
[21,23092,22,23099,24,23108,null,null,null,null,0,222]
[21,23216,22,23221,24,23225,null,null,null,null,0,222]
[21,23331,22,23335,24,23344,null,null,null,null,0,222]
[21,23454,22,23466,24,23480,null,null,null,null,0,222]
[21,23583,22,23588,24,23595,null,null,null,null,0,222]
[21,23699,22,23704,24,23712,null,null,null,null,0,222]
[21,23833,22,23853,24,23866,null,null,null,null,0,222]
[21,23973,22,23978,24,23988,null,null,null,null,1,222]

{"sheet":"!M922820.101","index":25,"n_rows":199,"n_cols":48,"rows_kept":199,"cut":false,"hidden":false,"merged":[[4,39,4,42],[5,39,5,40],[4,44,4,47],[5,44,5,45],[4,24,4,27],[5,24,5,25],[4,29,4,32],[5,29,5,30],[4,34,4,37],[5,34,5,35],[1,1,1,2],[5,13,5,14],[18,13,18,14],[19,13,19,14],[4,19,4,22],[5,19,5,20]]}
["Report for:!M922820.101"]
["Date:","<date>"]
["Hen:","<hen>",null,null,null,"Correct Sequence",{"$f":"Start!J2","v":211},null,null,null,null,null,null,null,null,"Total Sequences in Data",{"$f":"4994-COUNTBLANK(L7:L5000)","v":193},null,null,null,null,"Total Sequences in Block Data",{"$f":"COUNTA(L7:L38)","v":32},null,null,null,"Total Sequences in Block Data",{"$f":"COUNTA(L39:L70)","v":32},null,null,null,"Total Sequences in Block Data",{"$f":"COUNTA(L71:L103)","v":33},null,null,null,"Total Sequences in Block Data",{"$f":"COUNTA(L104:L135)","v":32},null,null,null,"Total Sequences in Block Data",{"$f":"COUNTA(L136:L167)","v":32},null,null,null,"Total Sequences in Block Data",{"$f":"COUNTA(L168:L199)","v":32}]
[null,null,null,null,null,null,null,null,null,null,null,null,null,null,null,"Total Sequences in Summary",{"$f":"SUM(O7:O14)","v":192},null,null,null,null,"Total Sequences in Block Summary",{"$f":"SUM(U7:U14)","v":32},null,null,null,"Total Sequences in Block Summary",{"$f":"SUM(Z7:Z14)","v":32},null,null,null,"Total Sequences in Block Summary",{"$f":"SUM(AE7:AE14)","v":33},null,null,null,"Total Sequences in Block Summary",{"$f":"SUM(AJ7:AJ14)","v":32},null,null,null,"Total Sequences in Block Summary",{"$f":"SUM(AO7:AO14)","v":32},null,null,null,"Total Sequences in Block Summary",{"$f":"SUM(AT7:AT14)","v":31}]
[null,null,null,null,null,null,null,null,null,null,null,null,null,null,null,null,null,null,null,"Block 1",null,null,null,null,"Block 2",null,null,null,null,"Block 3",null,null,null,null,"Block 4",null,null,null,null,"Block 5",null,null,null,null,"Block 6"]
["Sequence\nComponent\n1","Time\n1","Sequence\nComponent\n2","Time\n2","Sequence\nComponent\n3","Time\n3","Sequence\nComponent\n4","Time\n4","Sequence\nComponent\n5","Time\n5","Correct?\n0=No 1=Yes","Sequence",null,"Frequency",null,"Relative Frequency","Variability",null,null,"Frequency",null,"Relative Frequency","Variability",null,"Frequency",null,"Relative Frequency","Variability",null,"Frequency",null,"Relative Frequency","Variability",null,"Frequency",null,"Relative Frequency","Variability",null,"Frequency",null,"Relative Frequency","Variability",null,"Frequency",null,"Relative Frequency","Variability"]
[21,20,22,26,24,34,null,null,null,null,0,222,null,111,{"$f":"COUNTIF($L$7:$L$500,N7)","v":0},{"$f":"O7/$Q$4","v":0},{"$f":"IF(P7=0,0,(P7*((LOG(P7))/LOG(2))))","v":0},null,null,{"$f":"N7","v":111},{"$f":"COUNTIF(L7:L38,T7)","v":0},{"$f":"U7/(W4-U11)","v":0},{"$f":"IF(V7=0,0,(V7*((LOG(V7))/LOG(2))))","v":0},null,{"$f":"N7","v":111},{"$f":"COUNTIF(L39:L70,Y7)","v":0},{"$f":"Z7/(AB4-Z11)","v":0},{"$f":"IF(AA7=0,0,(AA7*((LOG(AA7))/LOG(2))))","v":0},null,{"$f":"N7","v":111},{"$f":"COUNTIF(L71:L103,AD7)","v":0},{"$f":"AE7/(AG4-AE11)","v":0},{"$f":"IF(AF7=0,0,(AF7*((LOG(AF7))/LOG(2))))","v":0},null,{"$f":"N7","v":111},{"$f":"COUNTIF(L104:L135,AI7)","v":0},{"$f":"AJ7/(AL4-AJ11)","v":0},{"$f":"IF(AK7=0,0,(AK7*((LOG(AK7))/LOG(2))))","v":0},null,{"$f":"N7","v":111},{"$f":"COUNTIF(L136:L167,AN7)","v":0},{"$f":"AO7/(AQ4-AO11)","v":0},{"$f":"IF(AP7=0,0,(AP7*((LOG(AP7))/LOG(2))))","v":0},null,{"$f":"N7","v":111},{"$f":"COUNTIF(L168:L199,AS7)","v":0},{"$f":"AT7/(AV4-AT11)","v":0},{"$f":"IF(AU7=0,0,(AU7*((LOG(AU7))/LOG(2))))","v":0}]
[21,139,22,150,24,164,null,null,null,null,0,222,null,112,{"$f":"COUNTIF($L$7:$L$500,N8)","v":0},{"$f":"O8/$Q$4","v":0},{"$f":"IF(P8=0,0,(P8*((LOG(P8))/LOG(2))))","v":0},null,null,{"$f":"N8","v":112},{"$f":"COUNTIF(L7:L38,T8)","v":0},{"$f":"U8/(W4-U11)","v":0},{"$f":"IF(V8=0,0,(V8*((LOG(V8))/LOG(2))))","v":0},null,{"$f":"N8","v":112},{"$f":"COUNTIF(L39:L70,Y8)","v":0},{"$f":"Z8/(AB4-Z11)","v":0},{"$f":"IF(AA8=0,0,(AA8*((LOG(AA8))/LOG(2))))","v":0},null,{"$f":"N8","v":112},{"$f":"COUNTIF(L71:L103,AD8)","v":0},{"$f":"AE8/(AG4-AE11)","v":0},{"$f":"IF(AF8=0,0,(AF8*((LOG(AF8))/LOG(2))))","v":0},null,{"$f":"N8","v":112},{"$f":"COUNTIF(L104:L135,AI8)","v":0},{"$f":"AJ8/(AL4-AJ11)","v":0},{"$f":"IF(AK8=0,0,(AK8*((LOG(AK8))/LOG(2))))","v":0},null,{"$f":"N8","v":112},{"$f":"COUNTIF(L136:L167,AN8)","v":0},{"$f":"AO8/(AQ4-AO11)","v":0},{"$f":"IF(AP8=0,0,(AP8*((LOG(AP8))/LOG(2))))","v":0},null,{"$f":"N8","v":112},{"$f":"COUNTIF(L168:L199,AS8)","v":0},{"$f":"AT8/(AV4-AT11)","v":0},{"$f":"IF(AU8=0,0,(AU8*((LOG(AU8))/LOG(2))))","v":0}]
[21,267,22,273,24,279,null,null,null,null,0,222,null,121,{"$f":"COUNTIF($L$7:$L$500,N9)","v":0},{"$f":"O9/$Q$4","v":0},{"$f":"IF(P9=0,0,(P9*((LOG(P9))/LOG(2))))","v":0},null,null,{"$f":"N9","v":121},{"$f":"COUNTIF(L7:L38,T9)","v":0},{"$f":"U9/(W4-U11)","v":0},{"$f":"IF(V9=0,0,(V9*((LOG(V9))/LOG(2))))","v":0},null,{"$f":"N9","v":121},{"$f":"COUNTIF(L39:L70,Y9)","v":0},{"$f":"Z9/(AB4-Z11)","v":0},{"$f":"IF(AA9=0,0,(AA9*((LOG(AA9))/LOG(2))))","v":0},null,{"$f":"N9","v":121},{"$f":"COUNTIF(L71:L103,AD9)","v":0},{"$f":"AE9/(AG4-AE11)","v":0},{"$f":"IF(AF9=0,0,(AF9*((LOG(AF9))/LOG(2))))","v":0},null,{"$f":"N9","v":121},{"$f":"COUNTIF(L104:L135,AI9)","v":0},{"$f":"AJ9/(AL4-AJ11)","v":0},{"$f":"IF(AK9=0,0,(AK9*((LOG(AK9))/LOG(2))))","v":0},null,{"$f":"N9","v":121},{"$f":"COUNTIF(L136:L167,AN9)","v":0},{"$f":"AO9/(AQ4-AO11)","v":0},{"$f":"IF(AP9=0,0,(AP9*((LOG(AP9))/LOG(2))))","v":0},null,{"$f":"N9","v":121},{"$f":"COUNTIF(L168:L199,AS9)","v":0},{"$f":"AT9/(AV4-AT11)","v":0},{"$f":"IF(AU9=0,0,(AU9*((LOG(AU9))/LOG(2))))","v":0}]
[21,387,22,392,24,397,null,null,null,null,0,222,null,122,{"$f":"COUNTIF($L$7:$L$500,N10)","v":6},{"$f":"O10/$Q$4","v":3.125E-2},{"$f":"IF(P10=0,0,(P10*((LOG(P10))/LOG(2))))","v":-0.15625},null,null,{"$f":"N10","v":122},{"$f":"COUNTIF(L7:L38,T10)","v":2},{"$f":"U10/(W4-U11)","v":6.25E-2},{"$f":"IF(V10=0,0,(V10*((LOG(V10))/LOG(2))))","v":-0.25},null,{"$f":"N10","v":122},{"$f":"COUNTIF(L39:L70,Y10)","v":1},{"$f":"Z10/(AB4-Z11)","v":3.125E-2},{"$f":"IF(AA10=0,0,(AA10*((LOG(AA10))/LOG(2))))","v":-0.15625},null,{"$f":"N10","v":122},{"$f":"COUNTIF(L71:L103,AD10)","v":0},{"$f":"AE10/(AG4-AE11)","v":0},{"$f":"IF(AF10=0,0,(AF10*((LOG(AF10))/LOG(2))))","v":0},null,{"$f":"N10","v":122},{"$f":"COUNTIF(L104:L135,AI10)","v":1},{"$f":"AJ10/(AL4-AJ11)","v":3.125E-2},{"$f":"IF(AK10=0,0,(AK10*((LOG(AK10))/LOG(2))))","v":-0.15625},null,{"$f":"N10","v":122},{"$f":"COUNTIF(L136:L167,AN10)","v":1},{"$f":"AO10/(AQ4-AO11)","v":3.125E-2},{"$f":"IF(AP10=0,0,(AP10*((LOG(AP10))/LOG(2))))","v":-0.15625},null,{"$f":"N10","v":122},{"$f":"COUNTIF(L168:L199,AS10)","v":1},{"$f":"AT10/(AV4-AT11)","v":3.2258064516129031E-2},{"$f":"IF(AU10=0,0,(AU10*((LOG(AU10))/LOG(2))))","v":-0.15981278420602821}]
[21,507,22,519,24,536,null,null,null,null,0,222,null,211,{"$f":"COUNTIF($L$7:$L$500,N11)","v":0},{"$f":"O11/$Q$4","v":0},{"$f":"IF(P11=0,0,(P11*((LOG(P11))/LOG(2))))","v":0},null,null,{"$f":"N11","v":211},{"$f":"COUNTIF(L7:L38,T11)","v":0},null,null,null,{"$f":"N11","v":211},{"$f":"COUNTIF(L39:L70,Y11)","v":0},null,null,null,{"$f":"N11","v":211},{"$f":"COUNTIF(L71:L103,AD11)","v":0},null,null,null,{"$f":"N11","v":211},{"$f":"COUNTIF(L104:L135,AI11)","v":0},null,null,null,{"$f":"N11","v":211},{"$f":"COUNTIF(L136:L167,AN11)","v":0},null,null,null,{"$f":"N11","v":211},{"$f":"COUNTIF(L168:L199,AS11)","v":0}]
[21,647,22,657,24,666,null,null,null,null,0,222,null,212,{"$f":"COUNTIF($L$7:$L$500,N12)","v":0},{"$f":"O12/$Q$4","v":0},{"$f":"IF(P12=0,0,(P12*((LOG(P12))/LOG(2))))","v":0},null,null,{"$f":"N12","v":212},{"$f":"COUNTIF(L7:L38,T12)","v":0},{"$f":"U12/(W4-U11)","v":0},{"$f":"IF(V12=0,0,(V12*((LOG(V12))/LOG(2))))","v":0},null,{"$f":"N12","v":212},{"$f":"COUNTIF(L39:L70,Y12)","v":0},{"$f":"Z12/(AB4-Z11)","v":0},{"$f":"IF(AA12=0,0,(AA12*((LOG(AA12))/LOG(2))))","v":0},null,{"$f":"N12","v":212},{"$f":"COUNTIF(L71:L103,AD12)","v":0},{"$f":"AE12/(AG4-AE11)","v":0},{"$f":"IF(AF12=0,0,(AF12*((LOG(AF12))/LOG(2))))","v":0},null,{"$f":"N12","v":212},{"$f":"COUNTIF(L104:L135,AI12)","v":0},{"$f":"AJ12/(AL4-AJ11)","v":0},{"$f":"IF(AK12=0,0,(AK12*((LOG(AK12))/LOG(2))))","v":0},null,{"$f":"N12","v":212},{"$f":"COUNTIF(L136:L167,AN12)","v":0},{"$f":"AO12/(AQ4-AO11)","v":0},{"$f":"IF(AP12=0,0,(AP12*((LOG(AP12))/LOG(2))))","v":0},null,{"$f":"N12","v":212},{"$f":"COUNTIF(L168:L199,AS12)","v":0},{"$f":"AT12/(AV4-AT11)","v":0},{"$f":"IF(AU12=0,0,(AU12*((LOG(AU12))/LOG(2))))","v":0}]
[21,772,22,778,24,787,null,null,null,null,0,222,null,221,{"$f":"COUNTIF($L$7:$L$500,N13)","v":0},{"$f":"O13/$Q$4","v":0},{"$f":"IF(P13=0,0,(P13*((LOG(P13))/LOG(2))))","v":0},null,null,{"$f":"N13","v":221},{"$f":"COUNTIF(L7:L38,T13)","v":0},{"$f":"U13/(W4-U11)","v":0},{"$f":"IF(V13=0,0,(V13*((LOG(V13))/LOG(2))))","v":0},null,{"$f":"N13","v":221},{"$f":"COUNTIF(L39:L70,Y13)","v":0},{"$f":"Z13/(AB4-Z11)","v":0},{"$f":"IF(AA13=0,0,(AA13*((LOG(AA13))/LOG(2))))","v":0},null,{"$f":"N13","v":221},{"$f":"COUNTIF(L71:L103,AD13)","v":0},{"$f":"AE13/(AG4-AE11)","v":0},{"$f":"IF(AF13=0,0,(AF13*((LOG(AF13))/LOG(2))))","v":0},null,{"$f":"N13","v":221},{"$f":"COUNTIF(L104:L135,AI13)","v":0},{"$f":"AJ13/(AL4-AJ11)","v":0},{"$f":"IF(AK13=0,0,(AK13*((LOG(AK13))/LOG(2))))","v":0},null,{"$f":"N13","v":221},{"$f":"COUNTIF(L136:L167,AN13)","v":0},{"$f":"AO13/(AQ4-AO11)","v":0},{"$f":"IF(AP13=0,0,(AP13*((LOG(AP13))/LOG(2))))","v":0},null,{"$f":"N13","v":221},{"$f":"COUNTIF(L168:L199,AS13)","v":0},{"$f":"AT13/(AV4-AT11)","v":0},{"$f":"IF(AU13=0,0,(AU13*((LOG(AU13))/LOG(2))))","v":0}]
[21,894,22,904,24,914,null,null,null,null,0,222,null,222,{"$f":"COUNTIF($L$7:$L$500,N14)","v":186},{"$f":"O14/$Q$4","v":0.96875},{"$f":"IF(P14=0,0,(P14*((LOG(P14))/LOG(2))))","v":-4.4372324312714644E-2},null,null,{"$f":"N14","v":222},{"$f":"COUNTIF(L7:L38,T14)","v":30},{"$f":"U14/(W4-U11)","v":0.9375},{"$f":"IF(V14=0,0,(V14*((LOG(V14))/LOG(2))))","v":-8.729006661701387E-2},null,{"$f":"N14","v":222},{"$f":"COUNTIF(L39:L70,Y14)","v":31},{"$f":"Z14/(AB4-Z11)","v":0.96875},{"$f":"IF(AA14=0,0,(AA14*((LOG(AA14))/LOG(2))))","v":-4.4372324312714644E-2},null,{"$f":"N14","v":222},{"$f":"COUNTIF(L71:L103,AD14)","v":33},{"$f":"AE14/(AG4-AE11)","v":1},{"$f":"IF(AF14=0,0,(AF14*((LOG(AF14))/LOG(2))))","v":0},null,{"$f":"N14","v":222},{"$f":"COUNTIF(L104:L135,AI14)","v":31},{"$f":"AJ14/(AL4-AJ11)","v":0.96875},{"$f":"IF(AK14=0,0,(AK14*((LOG(AK14))/LOG(2))))","v":-4.4372324312714644E-2},null,{"$f":"N14","v":222},{"$f":"COUNTIF(L136:L167,AN14)","v":31},{"$f":"AO14/(AQ4-AO11)","v":0.96875},{"$f":"IF(AP14=0,0,(AP14*((LOG(AP14))/LOG(2))))","v":-4.4372324312714644E-2},null,{"$f":"N14","v":222},{"$f":"COUNTIF(L168:L199,AS14)","v":30},{"$f":"AT14/(AV4-AT11)","v":0.967741935483871},{"$f":"IF(AU14=0,0,(AU14*((LOG(AU14))/LOG(2))))","v":-4.5779723979054811E-2}]
[21,1033,22,1042,24,1056,null,null,null,null,0,222,null,null,null,{"$f":"SUM(P7:P14)","v":1},{"$f":"-SUM(Q7:Q14)","v":0.20062232431271465},null,null,null,null,{"$f":"SUM(V7:V14)","v":1},{"$f":"-SUM(W7:W14)","v":0.33729006661701388},null,null,null,{"$f":"SUM(AA7:AA14)","v":1},{"$f":"-SUM(AB7:AB14)","v":0.20062232431271465},null,null,null,{"$f":"SUM(AF7:AF14)","v":1},{"$f":"-SUM(AG7:AG14)","v":0},null,null,null,{"$f":"SUM(AK7:AK14)","v":1},{"$f":"-SUM(AL7:AL14)","v":0.20062232431271465},null,null,null,{"$f":"SUM(AP7:AP14)","v":1},{"$f":"-SUM(AQ7:AQ14)","v":0.20062232431271465},null,null,null,{"$f":"SUM(AU7:AU14)","v":1},{"$f":"-SUM(AV7:AV14)","v":0.20559250818508301}]
[21,1161,22,1166,24,1170,null,null,null,null,0,222,null,null,null,"U=",{"$f":"Q15/(LOG(Q4)/LOG(2))","v":2.6450008723660805E-2},null,null,null,null,"U1=",{"$f":"W15/(LOG(W4)/LOG(2))","v":6.7458013323402774E-2},null,null,null,"U2=",{"$f":"AB15/(LOG(AB4)/LOG(2))","v":4.0124464862542931E-2},null,null,null,"U3=",{"$f":"AG15/(LOG(AG4)/LOG(2))","v":0},null,null,null,"U4=",{"$f":"AL15/(LOG(AL4)/LOG(2))","v":4.0124464862542931E-2},null,null,null,"U5=",{"$f":"AQ15/(LOG(AQ4)/LOG(2))","v":4.0124464862542931E-2},null,null,null,"U6=",{"$f":"AV15/(LOG(AV4)/LOG(2))","v":4.1498659985281898E-2}]
[12,1263,24,1280,24,1286,null,null,null,null,0,122]
[21,1397,22,1403,24,1409,null,null,null,null,0,222]
[21,1521,22,1527,24,1533,null,null,null,null,0,222,null,"Total Target Seq"]
[21,1639,22,1645,24,1653,null,null,null,null,0,222,null,{"$f":"COUNTIF(L7:L199,G3)","v":0},null,32,32,33,32,32,32]
[21,1770,22,1785,24,1797,null,null,null,null,0,222,null,null,null,"% of reinforcement given in 6 equal intervals based on number of trials "]
[21,1896,22,1902,24,1907,null,null,null,null,0,222,null,null,null,"%_1","%_2","%_3","%_4","%_5","%_6"]
[12,1999,24,2011,24,2016,null,null,null,null,0,122,null,null,"target sequence",{"$f":"$G$3","v":211},{"$f":"$G$3","v":211},{"$f":"$G$3","v":211},{"$f":"$G$3","v":211},{"$f":"$G$3","v":211},{"$f":"$G$3","v":211}]
[21,2120,22,2126,24,2131,null,null,null,null,0,222,null,null,"total reinforcement",{"$f":"U11","v":0},{"$f":"Z11","v":0},{"$f":"AE11","v":0},{"$f":"AJ11","v":0},{"$f":"AO11","v":0},{"$f":"AT11","v":0}]
[21,2233,22,2238,24,2246,null,null,null,null,0,222,null,null,"% target"]
[21,2348,22,2359,24,2377,null,null,null,null,0,222,null,null,"CCRF"]
[21,2479,22,2484,24,2489,null,null,null,null,0,222,null,null,"% CCRf"]
[21,2602,22,2608,24,2614,null,null,null,null,0,222,null,null,"average response rate",{"$f":"F38/P20","v":119.65625},{"$f":"(F70-F38)/Q20","v":124},{"$f":"(F103-F70)/R20","v":125.45454545454545},{"$f":"(F135-F103)/S20","v":124.84375},{"$f":"(F167-F135)/T20","v":123.90625},{"$f":"(F199-F167)/U20","v":-621.78125}]
[21,2714,22,2721,24,2726,null,null,null,null,0,222]
[21,2840,22,2846,24,2855,null,null,null,null,0,222]
[21,2956,22,2962,24,2967,null,null,null,null,0,222]
[21,3080,22,3086,24,3093,null,null,null,null,0,222]
[21,3200,22,3205,24,3213,null,null,null,null,0,222]
[21,3311,22,3320,24,3326,null,null,null,null,0,222]
[21,3436,22,3450,24,3471,null,null,null,null,0,222]
[21,3582,22,3587,24,3596,null,null,null,null,0,222]
[21,3696,22,3702,24,3708,null,null,null,null,0,222]
[21,3815,22,3824,24,3829,null,null,null,null,0,222]
[21,3931,22,3961,24,3969,null,null,null,null,0,222]
[21,4087,22,4092,24,4104,null,null,null,null,0,222]
[21,4214,22,4219,24,4227,null,null,null,null,0,222]
[12,4322,24,4334,24,4343,null,null,null,null,0,122]
[21,4464,22,4475,24,4491,null,null,null,null,0,222]
[21,4603,22,4608,24,4616,null,null,null,null,0,222]
[21,4729,22,4737,24,4743,null,null,null,null,0,222]
[21,4851,22,4856,24,4865,null,null,null,null,0,222]
[21,4964,22,4972,24,4978,null,null,null,null,0,222]
[21,5094,22,5104,24,5117,null,null,null,null,0,222]
[21,5225,22,5230,24,5239,null,null,null,null,0,222]
[21,5337,22,5343,24,5348,null,null,null,null,0,222]
[21,5451,22,5456,24,5462,null,null,null,null,0,222]
[21,5565,22,5577,24,5581,null,null,null,null,0,222]
[21,5699,22,5704,24,5711,null,null,null,null,0,222]
[21,5819,22,5824,24,5833,null,null,null,null,0,222]
[21,5944,22,5949,24,5957,null,null,null,null,0,222]
[21,6062,22,6069,24,6075,null,null,null,null,0,222]
[21,6179,22,6183,24,6188,null,null,null,null,0,222]
[21,6295,22,6309,24,6321,null,null,null,null,0,222]
[21,6426,22,6439,24,6448,null,null,null,null,0,222]
[21,6552,22,6556,24,6565,null,null,null,null,0,222]
[21,6671,22,6686,24,6701,null,null,null,null,0,222]
[21,6802,22,6808,24,6812,null,null,null,null,0,222]
[21,6924,22,6929,24,6940,null,null,null,null,0,222]
[21,7043,22,7049,24,7061,null,null,null,null,0,222]
[21,7164,22,7173,24,7178,null,null,null,null,0,222]
[21,7289,22,7293,24,7301,null,null,null,null,0,222]
[21,7416,22,7421,24,7433,null,null,null,null,0,222]
[21,7538,22,7543,24,7554,null,null,null,null,0,222]
[21,7659,22,7664,24,7669,null,null,null,null,0,222]
[21,7777,22,7784,24,7797,null,null,null,null,0,222]
[21,7899,22,7904,24,7911,null,null,null,null,0,222]
[21,8026,22,8031,24,8038,null,null,null,null,0,222]
[21,8141,22,8146,24,8152,null,null,null,null,0,222]
[21,8255,22,8260,24,8272,null,null,null,null,0,222]
[21,8384,22,8388,24,8393,null,null,null,null,0,222]
[21,8496,22,8501,24,8510,null,null,null,null,0,222]
[21,8620,22,8628,24,8637,null,null,null,null,0,222]
[21,8743,22,8757,24,8766,null,null,null,null,0,222]
[21,8873,22,8878,24,8883,null,null,null,null,0,222]
[21,8987,22,8991,24,8996,null,null,null,null,0,222]
[21,9104,22,9109,24,9114,null,null,null,null,0,222]
[21,9225,22,9230,24,9242,null,null,null,null,0,222]
[21,9345,22,9351,24,9358,null,null,null,null,0,222]
[21,9465,22,9473,24,9483,null,null,null,null,0,222]
[21,9588,22,9593,24,9599,null,null,null,null,0,222]
[21,9699,22,9704,24,9710,null,null,null,null,0,222]
[21,9817,22,9828,24,9841,null,null,null,null,0,222]
[21,9954,22,9967,24,9981,null,null,null,null,0,222]
[21,10080,22,10087,24,10095,null,null,null,null,0,222]
[21,10212,22,10234,24,10243,null,null,null,null,0,222]
[21,10352,22,10358,24,10367,null,null,null,null,0,222]
[21,10483,22,10489,24,10494,null,null,null,null,0,222]
[21,10612,22,10617,24,10635,null,null,null,null,0,222]
[21,10738,22,10743,24,10757,null,null,null,null,0,222]
[21,10868,22,10877,24,10883,null,null,null,null,0,222]
[21,10988,22,10994,24,11001,null,null,null,null,0,222]
[21,11106,22,11116,24,11120,null,null,null,null,0,222]
[21,11230,22,11241,24,11248,null,null,null,null,0,222]
[21,11355,22,11365,24,11374,null,null,null,null,0,222]
[21,11499,22,11506,24,11524,null,null,null,null,0,222]
[21,11639,22,11650,24,11665,null,null,null,null,0,222]
[21,11767,22,11782,24,11822,null,null,null,null,0,222]
[21,11926,22,11931,24,11937,null,null,null,null,0,222]
[12,12029,24,12040,24,12045,null,null,null,null,0,122]
[21,12150,22,12163,24,12176,null,null,null,null,0,222]
[21,12274,22,12285,24,12293,null,null,null,null,0,222]
[21,12404,22,12409,24,12417,null,null,null,null,0,222]
[21,12524,22,12530,24,12535,null,null,null,null,0,222]
[21,12636,22,12642,24,12653,null,null,null,null,0,222]
[21,12758,22,12774,24,12789,null,null,null,null,0,222]
[21,12895,22,12901,24,12909,null,null,null,null,0,222]
[21,13011,22,13017,24,13023,null,null,null,null,0,222]
[21,13125,22,13133,24,13144,null,null,null,null,0,222]
[21,13245,22,13251,24,13258,null,null,null,null,0,222]
[21,13363,22,13378,24,13388,null,null,null,null,0,222]
[21,13494,22,13500,24,13510,null,null,null,null,0,222]
[21,13621,22,13627,24,13639,null,null,null,null,0,222]
[21,13755,22,13760,24,13770,null,null,null,null,0,222]
[21,13870,22,13881,24,13913,null,null,null,null,0,222]
[21,14014,22,14029,24,14040,null,null,null,null,0,222]
[21,14147,22,14152,24,14169,null,null,null,null,0,222]
[21,14285,22,14291,24,14303,null,null,null,null,0,222]
[21,14406,22,14414,24,14421,null,null,null,null,0,222]
[21,14523,22,14529,24,14535,null,null,null,null,0,222]
[21,14641,22,14666,24,14680,null,null,null,null,0,222]
[21,14782,22,14793,24,14801,null,null,null,null,0,222]
[21,14903,22,14911,24,14923,null,null,null,null,0,222]
[21,15026,22,15034,24,15057,null,null,null,null,0,222]
[21,15164,22,15169,24,15174,null,null,null,null,0,222]
[21,15275,22,15280,24,15295,null,null,null,null,0,222]
[21,15391,22,15402,24,15406,null,null,null,null,0,222]
[21,15522,22,15532,24,15541,null,null,null,null,0,222]
[21,15649,22,15655,24,15667,null,null,null,null,0,222]
[21,15780,22,15785,24,15795,null,null,null,null,0,222]
[21,15901,22,15923,24,15932,null,null,null,null,0,222]
[21,16035,22,16049,24,16061,null,null,null,null,0,222]
[21,16166,22,16172,24,16180,null,null,null,null,0,222]
[21,16282,22,16296,24,16319,null,null,null,null,0,222]
[21,16421,22,16435,24,16441,null,null,null,null,0,222]
[21,16547,22,16553,24,16571,null,null,null,null,0,222]
[21,16680,22,16687,24,16704,null,null,null,null,0,222]
[21,16814,22,16819,24,16826,null,null,null,null,0,222]
[21,16937,22,16944,24,16952,null,null,null,null,0,222]
[21,17059,22,17064,24,17071,null,null,null,null,0,222]
[21,17175,22,17185,24,17195,null,null,null,null,0,222]
[21,17301,22,17312,24,17325,null,null,null,null,0,222]
[21,17432,22,17438,24,17451,null,null,null,null,0,222]
[21,17560,22,17567,24,17582,null,null,null,null,0,222]
[21,17683,22,17690,24,17697,null,null,null,null,0,222]
[21,17803,22,17808,24,17812,null,null,null,null,0,222]
[21,17917,22,17922,24,17927,null,null,null,null,0,222]
[21,18028,22,18033,24,18040,null,null,null,null,0,222]
[12,18150,24,18164,24,18169,null,null,null,null,0,122]
[21,18268,22,18275,24,18282,null,null,null,null,0,222]
[21,18386,22,18396,24,18404,null,null,null,null,0,222]
[21,18510,22,18515,24,18521,null,null,null,null,0,222]
[21,18623,22,18640,24,18649,null,null,null,null,0,222]
[21,18765,22,18771,24,18788,null,null,null,null,0,222]
[21,18894,22,18901,24,18909,null,null,null,null,0,222]
[21,19024,22,19029,24,19034,null,null,null,null,0,222]
[21,19136,22,19143,24,19154,null,null,null,null,0,222]
[21,19256,22,19265,24,19271,null,null,null,null,0,222]
[21,19385,22,19391,24,19400,null,null,null,null,0,222]
[21,19524,22,19539,24,19550,null,null,null,null,0,222]
[21,19654,22,19661,24,19668,null,null,null,null,0,222]
[21,19769,22,19774,24,19779,null,null,null,null,0,222]
[21,19886,22,19891,24,19897,null,null,null,null,0,222]
[21,20005,22,20011,24,20020,null,null,null,null,0,222]
[21,20137,22,20142,24,20158,null,null,null,null,0,222]
[21,20260,22,20274,24,20283,null,null,null,null,0,222]
[21,20384,22,20399,24,20411,null,null,null,null,0,222]
[21,20515,22,20519,24,20525,null,null,null,null,0,222]
[21,20628,22,20634,24,20640,null,null,null,null,0,222]
[21,20748,22,20754,24,20759,null,null,null,null,0,222]
[21,20868,22,20874,24,20881,null,null,null,null,0,222]
[21,20982,22,20997,24,21034,null,null,null,null,0,222]
[12,21137,24,21150,24,21156,null,null,null,null,0,122]
[21,21258,22,21264,24,21270,null,null,null,null,0,222]
[21,21403,22,21412,24,21420,null,null,null,null,0,222]
[21,21524,22,21529,24,21547,null,null,null,null,0,222]
[21,21655,22,21672,24,21681,null,null,null,null,0,222]
[21,21783,22,21794,24,21801,null,null,null,null,0,222]
[21,21903,22,21909,24,21929,null,null,null,null,0,222]
[21,22035,22,22061,24,22070,null,null,null,null,0,222]
[21,22174,22,22181,24,22194,null,null,null,null,0,222]
[21,22305,22,22313,24,22324,null,null,null,null,0,222]
[21,22427,22,22433,24,22447,null,null,null,null,0,222]
[21,22548,22,22554,24,22564,null,null,null,null,0,222]
[21,22662,22,22668,24,22675,null,null,null,null,0,222]
[21,22784,22,22808,24,22817,null,null,null,null,0,222]
[21,22940,22,22953,24,22962,null,null,null,null,0,222]
[21,23065,22,23072,24,23079,null,null,null,null,0,222]
[21,23191,22,23197,24,23204,null,null,null,null,0,222]
[21,23312,22,23321,24,23325,null,null,null,null,0,222]
[21,23444,22,23462,24,23477,null,null,null,null,0,222]
[21,23584,22,23591,24,23605,null,null,null,null,0,222]
[21,23715,22,23739,24,23753,null,null,null,null,0,222]
[21,23856,22,23861,24,23871,null,null,null,null,0,222]
[21,23984,22,23991,null,null,null,null,null,null,null,22]

{"sheet":"!M923920.101","index":26,"n_rows":183,"n_cols":48,"rows_kept":183,"cut":false,"hidden":false,"merged":[[4,39,4,42],[5,39,5,40],[4,44,4,47],[5,44,5,45],[4,24,4,27],[5,24,5,25],[4,29,4,32],[5,29,5,30],[4,34,4,37],[5,34,5,35],[1,1,1,2],[5,13,5,14],[18,13,18,14],[19,13,19,14],[4,19,4,22],[5,19,5,20]]}
["Report for:!M923920.101"]
["Date:","<date>"]
["Hen:","<hen>",null,null,null,"Correct Sequence",{"$f":"Start!J2","v":211},null,null,null,null,null,null,null,null,"Total Sequences in Data",{"$f":"4994-COUNTBLANK(L7:L5000)","v":177},null,null,null,null,"Total Sequences in Block Data",{"$f":"COUNTA(L7:L36)","v":30},null,null,null,"Total Sequences in Block Data",{"$f":"COUNTA(L37:L65)","v":29},null,null,null,"Total Sequences in Block Data",{"$f":"COUNTA(L66:L95)","v":30},null,null,null,"Total Sequences in Block Data",{"$f":"COUNTA(L96:L124)","v":29},null,null,null,"Total Sequences in Block Data",{"$f":"COUNTA(L125:L154)","v":30},null,null,null,"Total Sequences in Block Data",{"$f":"COUNTA(L155:L183)","v":29}]
[null,null,null,null,null,null,null,null,null,null,null,null,null,null,null,"Total Sequences in Summary",{"$f":"SUM(O7:O14)","v":177},null,null,null,null,"Total Sequences in Block Summary",{"$f":"SUM(U7:U14)","v":30},null,null,null,"Total Sequences in Block Summary",{"$f":"SUM(Z7:Z14)","v":29},null,null,null,"Total Sequences in Block Summary",{"$f":"SUM(AE7:AE14)","v":30},null,null,null,"Total Sequences in Block Summary",{"$f":"SUM(AJ7:AJ14)","v":29},null,null,null,"Total Sequences in Block Summary",{"$f":"SUM(AO7:AO14)","v":30},null,null,null,"Total Sequences in Block Summary",{"$f":"SUM(AT7:AT14)","v":29}]
[null,null,null,null,null,null,null,null,null,null,null,null,null,null,null,null,null,null,null,"Block 1",null,null,null,null,"Block 2",null,null,null,null,"Block 3",null,null,null,null,"Block 4",null,null,null,null,"Block 5",null,null,null,null,"Block 6"]
["Sequence\nComponent\n1","Time\n1","Sequence\nComponent\n2","Time\n2","Sequence\nComponent\n3","Time\n3","Sequence\nComponent\n4","Time\n4","Sequence\nComponent\n5","Time\n5","Correct?\n0=No 1=Yes","Sequence",null,"Frequency",null,"Relative Frequency","Variability",null,null,"Frequency",null,"Relative Frequency","Variability",null,"Frequency",null,"Relative Frequency","Variability",null,"Frequency",null,"Relative Frequency","Variability",null,"Frequency",null,"Relative Frequency","Variability",null,"Frequency",null,"Relative Frequency","Variability",null,"Frequency",null,"Relative Frequency","Variability"]
[12,13,24,25,24,34,null,null,null,null,0,122,null,111,{"$f":"COUNTIF($L$7:$L$500,N7)","v":0},{"$f":"O7/$Q$4","v":0},{"$f":"IF(P7=0,0,(P7*((LOG(P7))/LOG(2))))","v":0},null,null,{"$f":"N7","v":111},{"$f":"COUNTIF(L7:L36,T7)","v":0},{"$f":"U7/(W4-U11)","v":0},{"$f":"IF(V7=0,0,(V7*((LOG(V7))/LOG(2))))","v":0},null,{"$f":"N7","v":111},{"$f":"COUNTIF(L37:L65,Y7)","v":0},{"$f":"Z7/(AB4-Z11)","v":0},{"$f":"IF(AA7=0,0,(AA7*((LOG(AA7))/LOG(2))))","v":0},null,{"$f":"N7","v":111},{"$f":"COUNTIF(L66:L95,AD7)","v":0},{"$f":"AE7/(AG4-AE11)","v":0},{"$f":"IF(AF7=0,0,(AF7*((LOG(AF7))/LOG(2))))","v":0},null,{"$f":"N7","v":111},{"$f":"COUNTIF(L96:L124,AI7)","v":0},{"$f":"AJ7/(AL4-AJ11)","v":0},{"$f":"IF(AK7=0,0,(AK7*((LOG(AK7))/LOG(2))))","v":0},null,{"$f":"N7","v":111},{"$f":"COUNTIF(L125:L154,AN7)","v":0},{"$f":"AO7/(AQ4-AO11)","v":0},{"$f":"IF(AP7=0,0,(AP7*((LOG(AP7))/LOG(2))))","v":0},null,{"$f":"N7","v":111},{"$f":"COUNTIF(L155:L183,AS7)","v":0},{"$f":"AT7/(AV4-AT11)","v":0},{"$f":"IF(AU7=0,0,(AU7*((LOG(AU7))/LOG(2))))","v":0}]
[12,133,24,146,24,151,null,null,null,null,0,122,null,112,{"$f":"COUNTIF($L$7:$L$500,N8)","v":0},{"$f":"O8/$Q$4","v":0},{"$f":"IF(P8=0,0,(P8*((LOG(P8))/LOG(2))))","v":0},null,null,{"$f":"N8","v":112},{"$f":"COUNTIF(L7:L36,T8)","v":0},{"$f":"U8/(W4-U11)","v":0},{"$f":"IF(V8=0,0,(V8*((LOG(V8))/LOG(2))))","v":0},null,{"$f":"N8","v":112},{"$f":"COUNTIF(L37:L65,Y8)","v":0},{"$f":"Z8/(AB4-Z11)","v":0},{"$f":"IF(AA8=0,0,(AA8*((LOG(AA8))/LOG(2))))","v":0},null,{"$f":"N8","v":112},{"$f":"COUNTIF(L66:L95,AD8)","v":0},{"$f":"AE8/(AG4-AE11)","v":0},{"$f":"IF(AF8=0,0,(AF8*((LOG(AF8))/LOG(2))))","v":0},null,{"$f":"N8","v":112},{"$f":"COUNTIF(L96:L124,AI8)","v":0},{"$f":"AJ8/(AL4-AJ11)","v":0},{"$f":"IF(AK8=0,0,(AK8*((LOG(AK8))/LOG(2))))","v":0},null,{"$f":"N8","v":112},{"$f":"COUNTIF(L125:L154,AN8)","v":0},{"$f":"AO8/(AQ4-AO11)","v":0},{"$f":"IF(AP8=0,0,(AP8*((LOG(AP8))/LOG(2))))","v":0},null,{"$f":"N8","v":112},{"$f":"COUNTIF(L155:L183,AS8)","v":0},{"$f":"AT8/(AV4-AT11)","v":0},{"$f":"IF(AU8=0,0,(AU8*((LOG(AU8))/LOG(2))))","v":0}]
[21,256,22,261,24,270,null,null,null,null,0,222,null,121,{"$f":"COUNTIF($L$7:$L$500,N9)","v":0},{"$f":"O9/$Q$4","v":0},{"$f":"IF(P9=0,0,(P9*((LOG(P9))/LOG(2))))","v":0},null,null,{"$f":"N9","v":121},{"$f":"COUNTIF(L7:L36,T9)","v":0},{"$f":"U9/(W4-U11)","v":0},{"$f":"IF(V9=0,0,(V9*((LOG(V9))/LOG(2))))","v":0},null,{"$f":"N9","v":121},{"$f":"COUNTIF(L37:L65,Y9)","v":0},{"$f":"Z9/(AB4-Z11)","v":0},{"$f":"IF(AA9=0,0,(AA9*((LOG(AA9))/LOG(2))))","v":0},null,{"$f":"N9","v":121},{"$f":"COUNTIF(L66:L95,AD9)","v":0},{"$f":"AE9/(AG4-AE11)","v":0},{"$f":"IF(AF9=0,0,(AF9*((LOG(AF9))/LOG(2))))","v":0},null,{"$f":"N9","v":121},{"$f":"COUNTIF(L96:L124,AI9)","v":0},{"$f":"AJ9/(AL4-AJ11)","v":0},{"$f":"IF(AK9=0,0,(AK9*((LOG(AK9))/LOG(2))))","v":0},null,{"$f":"N9","v":121},{"$f":"COUNTIF(L125:L154,AN9)","v":0},{"$f":"AO9/(AQ4-AO11)","v":0},{"$f":"IF(AP9=0,0,(AP9*((LOG(AP9))/LOG(2))))","v":0},null,{"$f":"N9","v":121},{"$f":"COUNTIF(L155:L183,AS9)","v":0},{"$f":"AT9/(AV4-AT11)","v":0},{"$f":"IF(AU9=0,0,(AU9*((LOG(AU9))/LOG(2))))","v":0}]
[12,374,24,385,24,395,null,null,null,null,0,122,null,122,{"$f":"COUNTIF($L$7:$L$500,N10)","v":5},{"$f":"O10/$Q$4","v":2.8248587570621469E-2},{"$f":"IF(P10=0,0,(P10*((LOG(P10))/LOG(2))))","v":-0.14535812020326652},null,null,{"$f":"N10","v":122},{"$f":"COUNTIF(L7:L36,T10)","v":4},{"$f":"U10/(W4-U11)","v":0.13333333333333333},{"$f":"IF(V10=0,0,(V10*((LOG(V10))/LOG(2))))","v":-0.3875854127478025},null,{"$f":"N10","v":122},{"$f":"COUNTIF(L37:L65,Y10)","v":0},{"$f":"Z10/(AB4-Z11)","v":0},{"$f":"IF(AA10=0,0,(AA10*((LOG(AA10))/LOG(2))))","v":0},null,{"$f":"N10","v":122},{"$f":"COUNTIF(L66:L95,AD10)","v":0},{"$f":"AE10/(AG4-AE11)","v":0},{"$f":"IF(AF10=0,0,(AF10*((LOG(AF10))/LOG(2))))","v":0},null,{"$f":"N10","v":122},{"$f":"COUNTIF(L96:L124,AI10)","v":1},{"$f":"AJ10/(AL4-AJ11)","v":3.4482758620689655E-2},{"$f":"IF(AK10=0,0,(AK10*((LOG(AK10))/LOG(2))))","v":-0.16751658603888178},null,{"$f":"N10","v":122},{"$f":"COUNTIF(L125:L154,AN10)","v":0},{"$f":"AO10/(AQ4-AO11)","v":0},{"$f":"IF(AP10=0,0,(AP10*((LOG(AP10))/LOG(2))))","v":0},null,{"$f":"N10","v":122},{"$f":"COUNTIF(L155:L183,AS10)","v":0},{"$f":"AT10/(AV4-AT11)","v":0},{"$f":"IF(AU10=0,0,(AU10*((LOG(AU10))/LOG(2))))","v":0}]
[21,508,22,521,24,532,null,null,null,null,0,222,null,211,{"$f":"COUNTIF($L$7:$L$500,N11)","v":2},{"$f":"O11/$Q$4","v":1.1299435028248588E-2},{"$f":"IF(P11=0,0,(P11*((LOG(P11))/LOG(2))))","v":-7.3080288701502794E-2},null,null,{"$f":"N11","v":211},{"$f":"COUNTIF(L7:L36,T11)","v":0},null,null,null,{"$f":"N11","v":211},{"$f":"COUNTIF(L37:L65,Y11)","v":0},null,null,null,{"$f":"N11","v":211},{"$f":"COUNTIF(L66:L95,AD11)","v":0},null,null,null,{"$f":"N11","v":211},{"$f":"COUNTIF(L96:L124,AI11)","v":0},null,null,null,{"$f":"N11","v":211},{"$f":"COUNTIF(L125:L154,AN11)","v":0},null,null,null,{"$f":"N11","v":211},{"$f":"COUNTIF(L155:L183,AS11)","v":2}]
[21,642,22,648,24,655,null,null,null,null,0,222,null,212,{"$f":"COUNTIF($L$7:$L$500,N12)","v":0},{"$f":"O12/$Q$4","v":0},{"$f":"IF(P12=0,0,(P12*((LOG(P12))/LOG(2))))","v":0},null,null,{"$f":"N12","v":212},{"$f":"COUNTIF(L7:L36,T12)","v":0},{"$f":"U12/(W4-U11)","v":0},{"$f":"IF(V12=0,0,(V12*((LOG(V12))/LOG(2))))","v":0},null,{"$f":"N12","v":212},{"$f":"COUNTIF(L37:L65,Y12)","v":0},{"$f":"Z12/(AB4-Z11)","v":0},{"$f":"IF(AA12=0,0,(AA12*((LOG(AA12))/LOG(2))))","v":0},null,{"$f":"N12","v":212},{"$f":"COUNTIF(L66:L95,AD12)","v":0},{"$f":"AE12/(AG4-AE11)","v":0},{"$f":"IF(AF12=0,0,(AF12*((LOG(AF12))/LOG(2))))","v":0},null,{"$f":"N12","v":212},{"$f":"COUNTIF(L96:L124,AI12)","v":0},{"$f":"AJ12/(AL4-AJ11)","v":0},{"$f":"IF(AK12=0,0,(AK12*((LOG(AK12))/LOG(2))))","v":0},null,{"$f":"N12","v":212},{"$f":"COUNTIF(L125:L154,AN12)","v":0},{"$f":"AO12/(AQ4-AO11)","v":0},{"$f":"IF(AP12=0,0,(AP12*((LOG(AP12))/LOG(2))))","v":0},null,{"$f":"N12","v":212},{"$f":"COUNTIF(L155:L183,AS12)","v":0},{"$f":"AT12/(AV4-AT11)","v":0},{"$f":"IF(AU12=0,0,(AU12*((LOG(AU12))/LOG(2))))","v":0}]
[21,778,22,783,24,788,null,null,null,null,0,222,null,221,{"$f":"COUNTIF($L$7:$L$500,N13)","v":0},{"$f":"O13/$Q$4","v":0},{"$f":"IF(P13=0,0,(P13*((LOG(P13))/LOG(2))))","v":0},null,null,{"$f":"N13","v":221},{"$f":"COUNTIF(L7:L36,T13)","v":0},{"$f":"U13/(W4-U11)","v":0},{"$f":"IF(V13=0,0,(V13*((LOG(V13))/LOG(2))))","v":0},null,{"$f":"N13","v":221},{"$f":"COUNTIF(L37:L65,Y13)","v":0},{"$f":"Z13/(AB4-Z11)","v":0},{"$f":"IF(AA13=0,0,(AA13*((LOG(AA13))/LOG(2))))","v":0},null,{"$f":"N13","v":221},{"$f":"COUNTIF(L66:L95,AD13)","v":0},{"$f":"AE13/(AG4-AE11)","v":0},{"$f":"IF(AF13=0,0,(AF13*((LOG(AF13))/LOG(2))))","v":0},null,{"$f":"N13","v":221},{"$f":"COUNTIF(L96:L124,AI13)","v":0},{"$f":"AJ13/(AL4-AJ11)","v":0},{"$f":"IF(AK13=0,0,(AK13*((LOG(AK13))/LOG(2))))","v":0},null,{"$f":"N13","v":221},{"$f":"COUNTIF(L125:L154,AN13)","v":0},{"$f":"AO13/(AQ4-AO11)","v":0},{"$f":"IF(AP13=0,0,(AP13*((LOG(AP13))/LOG(2))))","v":0},null,{"$f":"N13","v":221},{"$f":"COUNTIF(L155:L183,AS13)","v":0},{"$f":"AT13/(AV4-AT11)","v":0},{"$f":"IF(AU13=0,0,(AU13*((LOG(AU13))/LOG(2))))","v":0}]
[12,880,24,897,24,902,null,null,null,null,0,122,null,222,{"$f":"COUNTIF($L$7:$L$500,N14)","v":170},{"$f":"O14/$Q$4","v":0.96045197740112997},{"$f":"IF(P14=0,0,(P14*((LOG(P14))/LOG(2))))","v":-5.5912341077402589E-2},null,null,{"$f":"N14","v":222},{"$f":"COUNTIF(L7:L36,T14)","v":26},{"$f":"U14/(W4-U11)","v":0.8666666666666667},{"$f":"IF(V14=0,0,(V14*((LOG(V14))/LOG(2))))","v":-0.17892409380510282},null,{"$f":"N14","v":222},{"$f":"COUNTIF(L37:L65,Y14)","v":29},{"$f":"Z14/(AB4-Z11)","v":1},{"$f":"IF(AA14=0,0,(AA14*((LOG(AA14))/LOG(2))))","v":0},null,{"$f":"N14","v":222},{"$f":"COUNTIF(L66:L95,AD14)","v":30},{"$f":"AE14/(AG4-AE11)","v":1},{"$f":"IF(AF14=0,0,(AF14*((LOG(AF14))/LOG(2))))","v":0},null,{"$f":"N14","v":222},{"$f":"COUNTIF(L96:L124,AI14)","v":28},{"$f":"AJ14/(AL4-AJ11)","v":0.96551724137931039},{"$f":"IF(AK14=0,0,(AK14*((LOG(AK14))/LOG(2))))","v":-4.8880346412382848E-2},null,{"$f":"N14","v":222},{"$f":"COUNTIF(L125:L154,AN14)","v":30},{"$f":"AO14/(AQ4-AO11)","v":1},{"$f":"IF(AP14=0,0,(AP14*((LOG(AP14))/LOG(2))))","v":0},null,{"$f":"N14","v":222},{"$f":"COUNTIF(L155:L183,AS14)","v":27},{"$f":"AT14/(AV4-AT11)","v":1},{"$f":"IF(AU14=0,0,(AU14*((LOG(AU14))/LOG(2))))","v":0}]
[21,1009,22,1014,24,1023,null,null,null,null,0,222,null,null,null,{"$f":"SUM(P7:P14)","v":1},{"$f":"-SUM(Q7:Q14)","v":0.2743507499821719},null,null,null,null,{"$f":"SUM(V7:V14)","v":1},{"$f":"-SUM(W7:W14)","v":0.56650950655290533},null,null,null,{"$f":"SUM(AA7:AA14)","v":1},{"$f":"-SUM(AB7:AB14)","v":0},null,null,null,{"$f":"SUM(AF7:AF14)","v":1},{"$f":"-SUM(AG7:AG14)","v":0},null,null,null,{"$f":"SUM(AK7:AK14)","v":1},{"$f":"-SUM(AL7:AL14)","v":0.21639693245126462},null,null,null,{"$f":"SUM(AP7:AP14)","v":1},{"$f":"-SUM(AQ7:AQ14)","v":0},null,null,null,{"$f":"SUM(AU7:AU14)","v":1},{"$f":"-SUM(AV7:AV14)","v":0}]
[21,1128,22,1133,24,1140,null,null,null,null,0,222,null,null,null,"U=",{"$f":"Q15/(LOG(Q4)/LOG(2))","v":3.6738784358946577E-2},null,null,null,null,"U1=",{"$f":"W15/(LOG(W4)/LOG(2))","v":0.11545183156516876},null,null,null,"U2=",{"$f":"AB15/(LOG(AB4)/LOG(2))","v":0},null,null,null,"U3=",{"$f":"AG15/(LOG(AG4)/LOG(2))","v":0},null,null,null,"U4=",{"$f":"AL15/(LOG(AL4)/LOG(2))","v":4.4544623099247421E-2},null,null,null,"U5=",{"$f":"AQ15/(LOG(AQ4)/LOG(2))","v":0},null,null,null,"U6=",{"$f":"AV15/(LOG(AV4)/LOG(2))","v":0}]
[21,1244,22,1253,24,1261,null,null,null,null,0,222]
[21,1368,22,1372,24,1377,null,null,null,null,0,222]
[21,1493,22,1498,24,1503,null,null,null,null,0,222,null,"Total Target Seq"]
[21,1605,22,1609,24,1614,null,null,null,null,0,222,null,{"$f":"COUNTIF(L7:L183,G3)","v":2},null,30,29,30,29,30,29]
[21,1726,22,1733,24,1747,null,null,null,null,0,222,null,null,null,"% of reinforcement given in 6 equal intervals based on number of trials "]
[21,1851,22,1857,24,1862,null,null,null,null,0,222,null,null,null,"%_1","%_2","%_3","%_4","%_5","%_6"]
[21,1970,22,1980,24,1993,null,null,null,null,0,222,null,null,"target sequence",{"$f":"$G$3","v":211},{"$f":"$G$3","v":211},{"$f":"$G$3","v":211},{"$f":"$G$3","v":211},{"$f":"$G$3","v":211},{"$f":"$G$3","v":211}]
[21,2101,22,2106,24,2137,null,null,null,null,0,222,null,null,"total reinforcement",{"$f":"U11","v":0},{"$f":"Z11","v":0},{"$f":"AE11","v":0},{"$f":"AJ11","v":0},{"$f":"AO11","v":0},{"$f":"AT11","v":2}]
[21,2235,22,2241,24,2247,null,null,null,null,0,222,null,null,"% target"]
[21,2363,22,2373,24,2379,null,null,null,null,0,222,null,null,"CCRF"]
[21,2492,22,2502,24,2517,null,null,null,null,0,222,null,null,"% CCRf"]
[21,2624,22,2630,24,2635,null,null,null,null,0,222,null,null,"average response rate",{"$f":"F36/P20","v":122.43333333333334},{"$f":"(F65-F36)/Q20","v":138.86206896551724},{"$f":"(F95-F65)/R20","v":136.96666666666667},{"$f":"(F124-F95)/S20","v":137.62068965517241},{"$f":"(F154-F124)/T20","v":134.33333333333334},{"$f":"(F183-F154)/U20","v":139.37931034482759}]
[21,2739,22,2744,24,2753,null,null,null,null,0,222]
[21,2868,22,2876,24,2889,null,null,null,null,0,222]
[21,3003,22,3013,24,3027,null,null,null,null,0,222]
[21,3137,22,3142,24,3147,null,null,null,null,0,222]
[21,3257,22,3265,24,3275,null,null,null,null,0,222]
[21,3377,22,3382,24,3387,null,null,null,null,0,222]
[21,3506,22,3525,24,3548,null,null,null,null,0,222]
[21,3660,22,3667,24,3673,null,null,null,null,0,222]
[21,3801,22,3815,24,3851,null,null,null,null,0,222]
[21,3972,22,3982,24,4016,null,null,null,null,0,222]
[21,4131,22,4136,24,4165,null,null,null,null,0,222]
[21,4280,22,4286,24,4296,null,null,null,null,0,222]
[21,4404,22,4418,24,4429,null,null,null,null,0,222]
[21,4553,22,4560,24,4565,null,null,null,null,0,222]
[21,4680,22,4686,24,4691,null,null,null,null,0,222]
[21,4795,22,4800,24,4807,null,null,null,null,0,222]
[21,4913,22,4918,24,4931,null,null,null,null,0,222]
[21,5034,22,5038,24,5048,null,null,null,null,0,222]
[21,5174,22,5184,24,5191,null,null,null,null,0,222]
[21,5357,22,5363,24,5368,null,null,null,null,0,222]
[21,5465,22,5470,24,5476,null,null,null,null,0,222]
[21,5614,22,5620,24,5632,null,null,null,null,0,222]
[21,5741,22,5747,24,5764,null,null,null,null,0,222]
[21,5883,22,5892,24,5900,null,null,null,null,0,222]
[21,6023,22,6034,24,6054,null,null,null,null,0,222]
[21,6157,22,6162,24,6174,null,null,null,null,0,222]
[21,6280,22,6288,24,6298,null,null,null,null,0,222]
[21,6406,22,6411,24,6417,null,null,null,null,0,222]
[21,6524,22,6537,24,6556,null,null,null,null,0,222]
[21,6665,22,6710,24,6719,null,null,null,null,0,222]
[21,6828,22,6836,24,6841,null,null,null,null,0,222]
[21,6978,22,6991,24,7009,null,null,null,null,0,222]
[21,7132,22,7155,24,7172,null,null,null,null,0,222]
[21,7278,22,7292,24,7309,null,null,null,null,0,222]
[21,7409,22,7422,24,7427,null,null,null,null,0,222]
[21,7551,22,7566,24,7578,null,null,null,null,0,222]
[21,7684,22,7695,24,7700,null,null,null,null,0,222]
[21,7808,22,7823,24,7834,null,null,null,null,0,222]
[21,7944,22,7954,24,7961,null,null,null,null,0,222]
[21,8069,22,8078,24,8085,null,null,null,null,0,222]
[21,8217,22,8236,24,8258,null,null,null,null,0,222]
[21,8363,22,8368,24,8383,null,null,null,null,0,222]
[21,8491,22,8497,24,8508,null,null,null,null,0,222]
[21,8610,22,8615,24,8621,null,null,null,null,0,222]
[21,8738,22,8753,24,8761,null,null,null,null,0,222]
[21,8871,22,8879,24,8891,null,null,null,null,0,222]
[21,9020,22,9027,24,9041,null,null,null,null,0,222]
[21,9156,22,9169,24,9177,null,null,null,null,0,222]
[21,9299,22,9306,24,9328,null,null,null,null,0,222]
[21,9449,22,9456,24,9487,null,null,null,null,0,222]
[21,9617,22,9622,24,9629,null,null,null,null,0,222]
[21,9758,22,9784,24,9793,null,null,null,null,0,222]
[21,9894,22,9906,24,9914,null,null,null,null,0,222]
[21,10042,22,10053,24,10070,null,null,null,null,0,222]
[21,10173,22,10178,24,10194,null,null,null,null,0,222]
[21,10300,22,10305,24,10330,null,null,null,null,0,222]
[21,10434,22,10442,24,10449,null,null,null,null,0,222]
[21,10549,22,10604,24,10624,null,null,null,null,0,222]
[21,10728,22,10744,24,10757,null,null,null,null,0,222]
[21,10869,22,10881,24,10893,null,null,null,null,0,222]
[21,11004,22,11011,24,11033,null,null,null,null,0,222]
[21,11138,22,11144,24,11149,null,null,null,null,0,222]
[21,11252,22,11259,24,11265,null,null,null,null,0,222]
[21,11378,22,11386,24,11393,null,null,null,null,0,222]
[21,11513,22,11521,24,11534,null,null,null,null,0,222]
[21,11637,22,11654,24,11662,null,null,null,null,0,222]
[21,11766,22,11791,24,11809,null,null,null,null,0,222]
[21,11926,22,11933,24,11975,null,null,null,null,0,222]
[21,12094,22,12101,24,12111,null,null,null,null,0,222]
[21,12241,22,12248,24,12255,null,null,null,null,0,222]
[21,12357,22,12364,24,12385,null,null,null,null,0,222]
[21,12496,22,12503,24,12511,null,null,null,null,0,222]
[21,12617,22,12623,24,12630,null,null,null,null,0,222]
[21,12744,22,12750,24,12762,null,null,null,null,0,222]
[21,12871,22,12899,24,12907,null,null,null,null,0,222]
[21,13029,22,13041,24,13053,null,null,null,null,0,222]
[21,13165,22,13182,24,13191,null,null,null,null,0,222]
[21,13297,22,13313,24,13323,null,null,null,null,0,222]
[21,13431,22,13436,24,13447,null,null,null,null,0,222]
[21,13559,22,13565,24,13572,null,null,null,null,0,222]
[21,13678,22,13685,24,13703,null,null,null,null,0,222]
[21,13847,22,13868,24,13909,null,null,null,null,0,222]
[21,14010,22,14016,24,14022,null,null,null,null,0,222]
[21,14145,22,14151,24,14160,null,null,null,null,0,222]
[12,14264,24,14280,24,14293,null,null,null,null,0,122]
[21,14400,22,14414,24,14421,null,null,null,null,0,222]
[21,14535,22,14542,24,14550,null,null,null,null,0,222]
[21,14667,22,14681,24,14698,null,null,null,null,0,222]
[21,14804,22,14810,24,14821,null,null,null,null,0,222]
[21,14937,22,14943,24,14959,null,null,null,null,0,222]
[21,15068,22,15073,24,15101,null,null,null,null,0,222]
[21,15221,22,15226,24,15239,null,null,null,null,0,222]
[21,15368,22,15374,24,15394,null,null,null,null,0,222]
[21,15512,22,15519,24,15525,null,null,null,null,0,222]
[21,15654,22,15661,24,15679,null,null,null,null,0,222]
[21,15785,22,15795,24,15800,null,null,null,null,0,222]
[21,15902,22,15911,24,15924,null,null,null,null,0,222]
[21,16038,22,16043,24,16056,null,null,null,null,0,222]
[21,16160,22,16164,24,16176,null,null,null,null,0,222]
[21,16296,22,16303,24,16317,null,null,null,null,0,222]
[21,16418,22,16430,24,16435,null,null,null,null,0,222]
[21,16538,22,16543,24,16549,null,null,null,null,0,222]
[21,16656,22,16669,24,16682,null,null,null,null,0,222]
[21,16785,22,16791,24,16795,null,null,null,null,0,222]
[21,16914,22,16919,24,16930,null,null,null,null,0,222]
[21,17031,22,17037,24,17050,null,null,null,null,0,222]
[21,17153,22,17160,24,17166,null,null,null,null,0,222]
[21,17275,22,17286,24,17300,null,null,null,null,0,222]
[21,17407,22,17418,24,17438,null,null,null,null,0,222]
[21,17540,22,17559,24,17578,null,null,null,null,0,222]
[21,17683,22,17692,24,17709,null,null,null,null,0,222]
[21,17835,22,17842,24,17869,null,null,null,null,0,222]
[21,17975,22,17991,24,18003,null,null,null,null,0,222]
[21,18106,22,18130,24,18161,null,null,null,null,0,222]
[21,18306,22,18332,24,18342,null,null,null,null,0,222]
[21,18452,22,18457,24,18475,null,null,null,null,0,222]
[21,18584,22,18592,24,18599,null,null,null,null,0,222]
[21,18726,22,18741,24,18756,null,null,null,null,0,222]
[21,18856,22,18869,24,18877,null,null,null,null,0,222]
[21,18982,22,19007,24,19027,null,null,null,null,0,222]
[21,19134,22,19139,24,19144,null,null,null,null,0,222]
[21,19278,22,19293,24,19301,null,null,null,null,0,222]
[21,19403,22,19410,24,19419,null,null,null,null,0,222]
[21,19524,22,19530,24,19543,null,null,null,null,0,222]
[21,19661,22,19669,24,19684,null,null,null,null,0,222]
[21,19802,22,19815,24,19830,null,null,null,null,0,222]
[21,19937,22,19941,24,19981,null,null,null,null,0,222]
[21,20102,22,20120,24,20144,null,null,null,null,0,222]
[21,20255,22,20263,24,20271,null,null,null,null,0,222]
[21,20411,22,20458,24,20478,null,null,null,null,0,222]
[21,20586,22,20609,24,20622,null,null,null,null,0,222]
[21,20725,22,20731,24,20748,null,null,null,null,0,222]
[21,20853,22,20858,24,20889,null,null,null,null,0,222]
[21,20994,22,21004,24,21036,null,null,null,null,0,222]
[21,21135,22,21142,24,21157,null,null,null,null,0,222]
[21,21261,22,21267,24,21273,null,null,null,null,0,222]
[21,21373,22,21379,24,21386,null,null,null,null,0,222]
[21,21494,22,21507,24,21519,null,null,null,null,0,222]
[21,21639,22,21649,24,21689,null,null,null,null,0,222]
[21,21809,22,21817,24,21836,null,null,null,null,0,222]
[21,21940,22,21947,24,21953,null,null,null,null,0,222]
[21,22055,22,22063,24,22070,null,null,null,null,0,222]
[21,22184,22,22210,24,22230,null,null,null,null,0,222]
[21,22333,22,22345,24,22353,null,null,null,null,0,222]
[21,22460,22,22472,24,22481,null,null,null,null,0,222]
[21,22605,22,22610,24,22635,null,null,null,null,0,222]
[21,22742,22,22748,24,22755,null,null,null,null,0,222]
[21,22860,22,22865,24,22873,null,null,null,null,0,222]
[21,23000,22,23034,24,23046,null,null,null,null,0,222]
[21,23152,22,23160,24,23173,null,null,null,null,0,222]
[21,23293,22,23329,24,23338,null,null,null,null,0,222]
[21,23452,22,23459,24,23493,null,null,null,null,0,222]
[21,23593,11,23598,11,23601,null,null,null,null,0,211]
[21,23725,11,23744,11,23747,null,null,null,null,0,211]
[21,23852,22,23859,24,23872,null,null,null,null,0,222]

{"sheet":"!M924850.101","index":27,"n_rows":182,"n_cols":48,"rows_kept":182,"cut":false,"hidden":false,"merged":[[4,39,4,42],[5,39,5,40],[4,44,4,47],[5,44,5,45],[4,24,4,27],[5,24,5,25],[4,29,4,32],[5,29,5,30],[4,34,4,37],[5,34,5,35],[1,1,1,2],[5,13,5,14],[18,13,18,14],[19,13,19,14],[4,19,4,22],[5,19,5,20]]}
["Report for:!M924850.101"]
["Date:","<date>"]
["Hen:","<hen>",null,null,null,"Correct Sequence",{"$f":"Start!J2","v":211},null,null,null,null,null,null,null,null,"Total Sequences in Data",{"$f":"4994-COUNTBLANK(L7:L5000)","v":176},null,null,null,null,"Total Sequences in Block Data",{"$f":"COUNTA(L7:L35)","v":29},null,null,null,"Total Sequences in Block Data",{"$f":"COUNTA(L36:L65)","v":30},null,null,null,"Total Sequences in Block Data",{"$f":"COUNTA(L66:L94)","v":29},null,null,null,"Total Sequences in Block Data",{"$f":"COUNTA(L95:L123)","v":29},null,null,null,"Total Sequences in Block Data",{"$f":"COUNTA(L124:L153)","v":30},null,null,null,"Total Sequences in Block Data",{"$f":"COUNTA(L154:L182)","v":29}]
[null,null,null,null,null,null,null,null,null,null,null,null,null,null,null,"Total Sequences in Summary",{"$f":"SUM(O7:O14)","v":176},null,null,null,null,"Total Sequences in Block Summary",{"$f":"SUM(U7:U14)","v":29},null,null,null,"Total Sequences in Block Summary",{"$f":"SUM(Z7:Z14)","v":30},null,null,null,"Total Sequences in Block Summary",{"$f":"SUM(AE7:AE14)","v":29},null,null,null,"Total Sequences in Block Summary",{"$f":"SUM(AJ7:AJ14)","v":29},null,null,null,"Total Sequences in Block Summary",{"$f":"SUM(AO7:AO14)","v":30},null,null,null,"Total Sequences in Block Summary",{"$f":"SUM(AT7:AT14)","v":29}]
[null,null,null,null,null,null,null,null,null,null,null,null,null,null,null,null,null,null,null,"Block 1",null,null,null,null,"Block 2",null,null,null,null,"Block 3",null,null,null,null,"Block 4",null,null,null,null,"Block 5",null,null,null,null,"Block 6"]
["Sequence\nComponent\n1","Time\n1","Sequence\nComponent\n2","Time\n2","Sequence\nComponent\n3","Time\n3","Sequence\nComponent\n4","Time\n4","Sequence\nComponent\n5","Time\n5","Correct?\n0=No 1=Yes","Sequence",null,"Frequency",null,"Relative Frequency","Variability",null,null,"Frequency",null,"Relative Frequency","Variability",null,"Frequency",null,"Relative Frequency","Variability",null,"Frequency",null,"Relative Frequency","Variability",null,"Frequency",null,"Relative Frequency","Variability",null,"Frequency",null,"Relative Frequency","Variability",null,"Frequency",null,"Relative Frequency","Variability"]
[12,9,24,24,24,31,null,null,null,null,0,122,null,111,{"$f":"COUNTIF($L$7:$L$500,N7)","v":0},{"$f":"O7/$Q$4","v":0},{"$f":"IF(P7=0,0,(P7*((LOG(P7))/LOG(2))))","v":0},null,null,{"$f":"N7","v":111},{"$f":"COUNTIF(L7:L35,T7)","v":0},{"$f":"U7/(W4-U11)","v":0},{"$f":"IF(V7=0,0,(V7*((LOG(V7))/LOG(2))))","v":0},null,{"$f":"N7","v":111},{"$f":"COUNTIF(L36:L65,Y7)","v":0},{"$f":"Z7/(AB4-Z11)","v":0},{"$f":"IF(AA7=0,0,(AA7*((LOG(AA7))/LOG(2))))","v":0},null,{"$f":"N7","v":111},{"$f":"COUNTIF(L66:L94,AD7)","v":0},{"$f":"AE7/(AG4-AE11)","v":0},{"$f":"IF(AF7=0,0,(AF7*((LOG(AF7))/LOG(2))))","v":0},null,{"$f":"N7","v":111},{"$f":"COUNTIF(L95:L123,AI7)","v":0},{"$f":"AJ7/(AL4-AJ11)","v":0},{"$f":"IF(AK7=0,0,(AK7*((LOG(AK7))/LOG(2))))","v":0},null,{"$f":"N7","v":111},{"$f":"COUNTIF(L124:L153,AN7)","v":0},{"$f":"AO7/(AQ4-AO11)","v":0},{"$f":"IF(AP7=0,0,(AP7*((LOG(AP7))/LOG(2))))","v":0},null,{"$f":"N7","v":111},{"$f":"COUNTIF(L154:L182,AS7)","v":0},{"$f":"AT7/(AV4-AT11)","v":0},{"$f":"IF(AU7=0,0,(AU7*((LOG(AU7))/LOG(2))))","v":0}]
[21,137,22,142,24,148,null,null,null,null,0,222,null,112,{"$f":"COUNTIF($L$7:$L$500,N8)","v":0},{"$f":"O8/$Q$4","v":0},{"$f":"IF(P8=0,0,(P8*((LOG(P8))/LOG(2))))","v":0},null,null,{"$f":"N8","v":112},{"$f":"COUNTIF(L7:L35,T8)","v":0},{"$f":"U8/(W4-U11)","v":0},{"$f":"IF(V8=0,0,(V8*((LOG(V8))/LOG(2))))","v":0},null,{"$f":"N8","v":112},{"$f":"COUNTIF(L36:L65,Y8)","v":0},{"$f":"Z8/(AB4-Z11)","v":0},{"$f":"IF(AA8=0,0,(AA8*((LOG(AA8))/LOG(2))))","v":0},null,{"$f":"N8","v":112},{"$f":"COUNTIF(L66:L94,AD8)","v":0},{"$f":"AE8/(AG4-AE11)","v":0},{"$f":"IF(AF8=0,0,(AF8*((LOG(AF8))/LOG(2))))","v":0},null,{"$f":"N8","v":112},{"$f":"COUNTIF(L95:L123,AI8)","v":0},{"$f":"AJ8/(AL4-AJ11)","v":0},{"$f":"IF(AK8=0,0,(AK8*((LOG(AK8))/LOG(2))))","v":0},null,{"$f":"N8","v":112},{"$f":"COUNTIF(L124:L153,AN8)","v":0},{"$f":"AO8/(AQ4-AO11)","v":0},{"$f":"IF(AP8=0,0,(AP8*((LOG(AP8))/LOG(2))))","v":0},null,{"$f":"N8","v":112},{"$f":"COUNTIF(L154:L182,AS8)","v":0},{"$f":"AT8/(AV4-AT11)","v":0},{"$f":"IF(AU8=0,0,(AU8*((LOG(AU8))/LOG(2))))","v":0}]
[21,254,22,259,24,266,null,null,null,null,0,222,null,121,{"$f":"COUNTIF($L$7:$L$500,N9)","v":0},{"$f":"O9/$Q$4","v":0},{"$f":"IF(P9=0,0,(P9*((LOG(P9))/LOG(2))))","v":0},null,null,{"$f":"N9","v":121},{"$f":"COUNTIF(L7:L35,T9)","v":0},{"$f":"U9/(W4-U11)","v":0},{"$f":"IF(V9=0,0,(V9*((LOG(V9))/LOG(2))))","v":0},null,{"$f":"N9","v":121},{"$f":"COUNTIF(L36:L65,Y9)","v":0},{"$f":"Z9/(AB4-Z11)","v":0},{"$f":"IF(AA9=0,0,(AA9*((LOG(AA9))/LOG(2))))","v":0},null,{"$f":"N9","v":121},{"$f":"COUNTIF(L66:L94,AD9)","v":0},{"$f":"AE9/(AG4-AE11)","v":0},{"$f":"IF(AF9=0,0,(AF9*((LOG(AF9))/LOG(2))))","v":0},null,{"$f":"N9","v":121},{"$f":"COUNTIF(L95:L123,AI9)","v":0},{"$f":"AJ9/(AL4-AJ11)","v":0},{"$f":"IF(AK9=0,0,(AK9*((LOG(AK9))/LOG(2))))","v":0},null,{"$f":"N9","v":121},{"$f":"COUNTIF(L124:L153,AN9)","v":0},{"$f":"AO9/(AQ4-AO11)","v":0},{"$f":"IF(AP9=0,0,(AP9*((LOG(AP9))/LOG(2))))","v":0},null,{"$f":"N9","v":121},{"$f":"COUNTIF(L154:L182,AS9)","v":0},{"$f":"AT9/(AV4-AT11)","v":0},{"$f":"IF(AU9=0,0,(AU9*((LOG(AU9))/LOG(2))))","v":0}]
[21,370,22,380,24,443,null,null,null,null,0,222,null,122,{"$f":"COUNTIF($L$7:$L$500,N10)","v":5},{"$f":"O10/$Q$4","v":2.8409090909090908E-2},{"$f":"IF(P10=0,0,(P10*((LOG(P10))/LOG(2))))","v":-0.14595180465198679},null,null,{"$f":"N10","v":122},{"$f":"COUNTIF(L7:L35,T10)","v":3},{"$f":"U10/(W4-U11)","v":0.10344827586206896},{"$f":"IF(V10=0,0,(V10*((LOG(V10))/LOG(2))))","v":-0.33858812011100858},null,{"$f":"N10","v":122},{"$f":"COUNTIF(L36:L65,Y10)","v":0},{"$f":"Z10/(AB4-Z11)","v":0},{"$f":"IF(AA10=0,0,(AA10*((LOG(AA10))/LOG(2))))","v":0},null,{"$f":"N10","v":122},{"$f":"COUNTIF(L66:L94,AD10)","v":1},{"$f":"AE10/(AG4-AE11)","v":3.4482758620689655E-2},{"$f":"IF(AF10=0,0,(AF10*((LOG(AF10))/LOG(2))))","v":-0.16751658603888178},null,{"$f":"N10","v":122},{"$f":"COUNTIF(L95:L123,AI10)","v":0},{"$f":"AJ10/(AL4-AJ11)","v":0},{"$f":"IF(AK10=0,0,(AK10*((LOG(AK10))/LOG(2))))","v":0},null,{"$f":"N10","v":122},{"$f":"COUNTIF(L124:L153,AN10)","v":1},{"$f":"AO10/(AQ4-AO11)","v":3.3333333333333333E-2},{"$f":"IF(AP10=0,0,(AP10*((LOG(AP10))/LOG(2))))","v":-0.16356301985361729},null,{"$f":"N10","v":122},{"$f":"COUNTIF(L154:L182,AS10)","v":0},{"$f":"AT10/(AV4-AT11)","v":0},{"$f":"IF(AU10=0,0,(AU10*((LOG(AU10))/LOG(2))))","v":0}]
[21,548,22,554,24,564,null,null,null,null,0,222,null,211,{"$f":"COUNTIF($L$7:$L$500,N11)","v":0},{"$f":"O11/$Q$4","v":0},{"$f":"IF(P11=0,0,(P11*((LOG(P11))/LOG(2))))","v":0},null,null,{"$f":"N11","v":211},{"$f":"COUNTIF(L7:L35,T11)","v":0},null,null,null,{"$f":"N11","v":211},{"$f":"COUNTIF(L36:L65,Y11)","v":0},null,null,null,{"$f":"N11","v":211},{"$f":"COUNTIF(L66:L94,AD11)","v":0},null,null,null,{"$f":"N11","v":211},{"$f":"COUNTIF(L95:L123,AI11)","v":0},null,null,null,{"$f":"N11","v":211},{"$f":"COUNTIF(L124:L153,AN11)","v":0},null,null,null,{"$f":"N11","v":211},{"$f":"COUNTIF(L154:L182,AS11)","v":0}]
[21,684,22,689,24,699,null,null,null,null,0,222,null,212,{"$f":"COUNTIF($L$7:$L$500,N12)","v":0},{"$f":"O12/$Q$4","v":0},{"$f":"IF(P12=0,0,(P12*((LOG(P12))/LOG(2))))","v":0},null,null,{"$f":"N12","v":212},{"$f":"COUNTIF(L7:L35,T12)","v":0},{"$f":"U12/(W4-U11)","v":0},{"$f":"IF(V12=0,0,(V12*((LOG(V12))/LOG(2))))","v":0},null,{"$f":"N12","v":212},{"$f":"COUNTIF(L36:L65,Y12)","v":0},{"$f":"Z12/(AB4-Z11)","v":0},{"$f":"IF(AA12=0,0,(AA12*((LOG(AA12))/LOG(2))))","v":0},null,{"$f":"N12","v":212},{"$f":"COUNTIF(L66:L94,AD12)","v":0},{"$f":"AE12/(AG4-AE11)","v":0},{"$f":"IF(AF12=0,0,(AF12*((LOG(AF12))/LOG(2))))","v":0},null,{"$f":"N12","v":212},{"$f":"COUNTIF(L95:L123,AI12)","v":0},{"$f":"AJ12/(AL4-AJ11)","v":0},{"$f":"IF(AK12=0,0,(AK12*((LOG(AK12))/LOG(2))))","v":0},null,{"$f":"N12","v":212},{"$f":"COUNTIF(L124:L153,AN12)","v":0},{"$f":"AO12/(AQ4-AO11)","v":0},{"$f":"IF(AP12=0,0,(AP12*((LOG(AP12))/LOG(2))))","v":0},null,{"$f":"N12","v":212},{"$f":"COUNTIF(L154:L182,AS12)","v":0},{"$f":"AT12/(AV4-AT11)","v":0},{"$f":"IF(AU12=0,0,(AU12*((LOG(AU12))/LOG(2))))","v":0}]
[21,804,22,810,24,814,null,null,null,null,0,222,null,221,{"$f":"COUNTIF($L$7:$L$500,N13)","v":0},{"$f":"O13/$Q$4","v":0},{"$f":"IF(P13=0,0,(P13*((LOG(P13))/LOG(2))))","v":0},null,null,{"$f":"N13","v":221},{"$f":"COUNTIF(L7:L35,T13)","v":0},{"$f":"U13/(W4-U11)","v":0},{"$f":"IF(V13=0,0,(V13*((LOG(V13))/LOG(2))))","v":0},null,{"$f":"N13","v":221},{"$f":"COUNTIF(L36:L65,Y13)","v":0},{"$f":"Z13/(AB4-Z11)","v":0},{"$f":"IF(AA13=0,0,(AA13*((LOG(AA13))/LOG(2))))","v":0},null,{"$f":"N13","v":221},{"$f":"COUNTIF(L66:L94,AD13)","v":0},{"$f":"AE13/(AG4-AE11)","v":0},{"$f":"IF(AF13=0,0,(AF13*((LOG(AF13))/LOG(2))))","v":0},null,{"$f":"N13","v":221},{"$f":"COUNTIF(L95:L123,AI13)","v":0},{"$f":"AJ13/(AL4-AJ11)","v":0},{"$f":"IF(AK13=0,0,(AK13*((LOG(AK13))/LOG(2))))","v":0},null,{"$f":"N13","v":221},{"$f":"COUNTIF(L124:L153,AN13)","v":0},{"$f":"AO13/(AQ4-AO11)","v":0},{"$f":"IF(AP13=0,0,(AP13*((LOG(AP13))/LOG(2))))","v":0},null,{"$f":"N13","v":221},{"$f":"COUNTIF(L154:L182,AS13)","v":0},{"$f":"AT13/(AV4-AT11)","v":0},{"$f":"IF(AU13=0,0,(AU13*((LOG(AU13))/LOG(2))))","v":0}]
[21,921,22,926,24,931,null,null,null,null,0,222,null,222,{"$f":"COUNTIF($L$7:$L$500,N14)","v":171},{"$f":"O14/$Q$4","v":0.97159090909090906},{"$f":"IF(P14=0,0,(P14*((LOG(P14))/LOG(2))))","v":-4.0397879213007408E-2},null,null,{"$f":"N14","v":222},{"$f":"COUNTIF(L7:L35,T14)","v":26},{"$f":"U14/(W4-U11)","v":0.89655172413793105},{"$f":"IF(V14=0,0,(V14*((LOG(V14))/LOG(2))))","v":-0.14124390350511995},null,{"$f":"N14","v":222},{"$f":"COUNTIF(L36:L65,Y14)","v":30},{"$f":"Z14/(AB4-Z11)","v":1},{"$f":"IF(AA14=0,0,(AA14*((LOG(AA14))/LOG(2))))","v":0},null,{"$f":"N14","v":222},{"$f":"COUNTIF(L66:L94,AD14)","v":28},{"$f":"AE14/(AG4-AE11)","v":0.96551724137931039},{"$f":"IF(AF14=0,0,(AF14*((LOG(AF14))/LOG(2))))","v":-4.8880346412382848E-2},null,{"$f":"N14","v":222},{"$f":"COUNTIF(L95:L123,AI14)","v":29},{"$f":"AJ14/(AL4-AJ11)","v":1},{"$f":"IF(AK14=0,0,(AK14*((LOG(AK14))/LOG(2))))","v":0},null,{"$f":"N14","v":222},{"$f":"COUNTIF(L124:L153,AN14)","v":29},{"$f":"AO14/(AQ4-AO11)","v":0.96666666666666667},{"$f":"IF(AP14=0,0,(AP14*((LOG(AP14))/LOG(2))))","v":-4.727928046491485E-2},null,{"$f":"N14","v":222},{"$f":"COUNTIF(L154:L182,AS14)","v":29},{"$f":"AT14/(AV4-AT11)","v":1},{"$f":"IF(AU14=0,0,(AU14*((LOG(AU14))/LOG(2))))","v":0}]
[21,1039,22,1048,24,1057,null,null,null,null,0,222,null,null,null,{"$f":"SUM(P7:P14)","v":1},{"$f":"-SUM(Q7:Q14)","v":0.1863496838649942},null,null,null,null,{"$f":"SUM(V7:V14)","v":1},{"$f":"-SUM(W7:W14)","v":0.47983202361612853},null,null,null,{"$f":"SUM(AA7:AA14)","v":1},{"$f":"-SUM(AB7:AB14)","v":0},null,null,null,{"$f":"SUM(AF7:AF14)","v":1},{"$f":"-SUM(AG7:AG14)","v":0.21639693245126462},null,null,null,{"$f":"SUM(AK7:AK14)","v":1},{"$f":"-SUM(AL7:AL14)","v":0},null,null,null,{"$f":"SUM(AP7:AP14)","v":1},{"$f":"-SUM(AQ7:AQ14)","v":0.21084230031853213},null,null,null,{"$f":"SUM(AU7:AU14)","v":1},{"$f":"-SUM(AV7:AV14)","v":0}]
[21,1169,22,1180,24,1187,null,null,null,null,0,222,null,null,null,"U=",{"$f":"Q15/(LOG(Q4)/LOG(2))","v":2.498175375713638E-2},null,null,null,null,"U1=",{"$f":"W15/(LOG(W4)/LOG(2))","v":9.8771902174460441E-2},null,null,null,"U2=",{"$f":"AB15/(LOG(AB4)/LOG(2))","v":0},null,null,null,"U3=",{"$f":"AG15/(LOG(AG4)/LOG(2))","v":4.4544623099247421E-2},null,null,null,"U4=",{"$f":"AL15/(LOG(AL4)/LOG(2))","v":0},null,null,null,"U5=",{"$f":"AQ15/(LOG(AQ4)/LOG(2))","v":4.2968616522085903E-2},null,null,null,"U6=",{"$f":"AV15/(LOG(AV4)/LOG(2))","v":0}]
[21,1292,22,1297,24,1308,null,null,null,null,0,222]
[21,1412,22,1421,24,1426,null,null,null,null,0,222]
[12,1523,24,1535,24,1541,null,null,null,null,0,122,null,"Total Target Seq"]
[21,1647,22,1653,24,1658,null,null,null,null,0,222,null,{"$f":"COUNTIF(L7:L182,G3)","v":0},null,29,30,29,29,30,29]
[21,1761,22,1770,24,1778,null,null,null,null,0,222,null,null,null,"% of reinforcement given in 6 equal intervals based on number of trials "]
[21,1887,22,1892,24,1903,null,null,null,null,0,222,null,null,null,"%_1","%_2","%_3","%_4","%_5","%_6"]
[21,2004,22,2010,24,2015,null,null,null,null,0,222,null,null,"target sequence",{"$f":"$G$3","v":211},{"$f":"$G$3","v":211},{"$f":"$G$3","v":211},{"$f":"$G$3","v":211},{"$f":"$G$3","v":211},{"$f":"$G$3","v":211}]
[21,2123,22,2157,24,2173,null,null,null,null,0,222,null,null,"total reinforcement",{"$f":"U11","v":0},{"$f":"Z11","v":0},{"$f":"AE11","v":0},{"$f":"AJ11","v":0},{"$f":"AO11","v":0},{"$f":"AT11","v":0}]
[12,2268,24,2282,24,2288,null,null,null,null,0,122,null,null,"% target"]
[21,2394,22,2402,24,2410,null,null,null,null,0,222,null,null,"CCRF"]
[21,2550,22,2567,24,2589,null,null,null,null,0,222,null,null,"% CCRf"]
[21,2707,22,2712,24,2731,null,null,null,null,0,222,null,null,"average response rate",{"$f":"F35/P20","v":125.24137931034483},{"$f":"(F65-F35)/Q20","v":139.46666666666667},{"$f":"(F94-F65)/R20","v":135.86206896551724},{"$f":"(F123-F94)/S20","v":134.17241379310346},{"$f":"(F153-F123)/T20","v":136.53333333333333},{"$f":"(F182-F153)/U20","v":145.41379310344828}]
[21,2836,22,2845,24,2853,null,null,null,null,0,222]
[21,2954,22,2959,24,2963,null,null,null,null,0,222]
[21,3069,22,3074,24,3080,null,null,null,null,0,222]
[21,3191,22,3202,24,3209,null,null,null,null,0,222]
[21,3344,22,3356,24,3375,null,null,null,null,0,222]
[21,3475,22,3480,24,3489,null,null,null,null,0,222]
[21,3609,22,3624,24,3632,null,null,null,null,0,222]
[21,3744,22,3761,24,3785,null,null,null,null,0,222]
[21,3899,22,3915,24,3923,null,null,null,null,0,222]
[21,4034,22,4058,24,4066,null,null,null,null,0,222]
[21,4174,22,4179,24,4185,null,null,null,null,0,222]
[21,4312,22,4326,24,4339,null,null,null,null,0,222]
[21,4448,22,4454,24,4499,null,null,null,null,0,222]
[21,4615,22,4620,24,4628,null,null,null,null,0,222]
[21,4724,22,4730,24,4737,null,null,null,null,0,222]
[21,4849,22,4864,24,4888,null,null,null,null,0,222]
[21,5007,22,5018,24,5031,null,null,null,null,0,222]
[21,5144,22,5149,24,5170,null,null,null,null,0,222]
[21,5298,22,5306,24,5314,null,null,null,null,0,222]
[21,5423,22,5429,24,5434,null,null,null,null,0,222]
[21,5532,22,5542,24,5563,null,null,null,null,0,222]
[21,5677,22,5684,24,5714,null,null,null,null,0,222]
[21,5853,22,5862,24,5873,null,null,null,null,0,222]
[21,5990,22,5996,24,6003,null,null,null,null,0,222]
[21,6121,22,6138,24,6166,null,null,null,null,0,222]
[21,6274,22,6280,24,6285,null,null,null,null,0,222]
[21,6389,22,6395,24,6408,null,null,null,null,0,222]
[21,6513,22,6518,24,6523,null,null,null,null,0,222]
[21,6640,22,6686,24,6704,null,null,null,null,0,222]
[21,6826,22,6831,24,6890,null,null,null,null,0,222]
[21,6999,22,7010,24,7015,null,null,null,null,0,222]
[21,7127,22,7134,24,7151,null,null,null,null,0,222]
[21,7250,22,7264,24,7276,null,null,null,null,0,222]
[21,7399,22,7406,24,7420,null,null,null,null,0,222]
[21,7525,22,7531,24,7536,null,null,null,null,0,222]
[21,7639,22,7645,24,7661,null,null,null,null,0,222]
[21,7787,22,7803,24,7816,null,null,null,null,0,222]
[21,7925,22,7931,24,7950,null,null,null,null,0,222]
[21,8070,22,8085,24,8095,null,null,null,null,0,222]
[21,8207,22,8221,24,8258,null,null,null,null,0,222]
[21,8381,22,8391,24,8406,null,null,null,null,0,222]
[21,8521,22,8526,24,8547,null,null,null,null,0,222]
[21,8657,22,8664,24,8684,null,null,null,null,0,222]
[21,8812,22,8820,24,8832,null,null,null,null,0,222]
[21,8930,22,8945,24,8958,null,null,null,null,0,222]
[21,9066,22,9079,24,9093,null,null,null,null,0,222]
[21,9213,22,9233,24,9242,null,null,null,null,0,222]
[21,9352,22,9359,24,9370,null,null,null,null,0,222]
[21,9480,22,9486,24,9493,null,null,null,null,0,222]
[21,9612,22,9624,24,9637,null,null,null,null,0,222]
[21,9751,22,9778,24,9791,null,null,null,null,0,222]
[21,9906,22,9912,24,9917,null,null,null,null,0,222]
[12,10004,24,10014,24,10020,null,null,null,null,0,122]
[21,10135,22,10148,24,10154,null,null,null,null,0,222]
[21,10273,22,10278,24,10282,null,null,null,null,0,222]
[21,10401,22,10405,24,10412,null,null,null,null,0,222]
[21,10534,22,10539,24,10544,null,null,null,null,0,222]
[21,10658,22,10664,24,10671,null,null,null,null,0,222]
[21,10796,22,10821,24,10847,null,null,null,null,0,222]
[21,10969,22,10981,24,10993,null,null,null,null,0,222]
[21,11094,22,11100,24,11106,null,null,null,null,0,222]
[21,11214,22,11221,24,11232,null,null,null,null,0,222]
[21,11351,22,11364,24,11383,null,null,null,null,0,222]
[21,11485,22,11492,24,11498,null,null,null,null,0,222]
[21,11602,22,11607,24,11619,null,null,null,null,0,222]
[21,11736,22,11748,24,11756,null,null,null,null,0,222]
[21,11873,22,11880,24,11894,null,null,null,null,0,222]
[21,11998,22,12003,24,12012,null,null,null,null,0,222]
[21,12113,22,12120,24,12142,null,null,null,null,0,222]
[21,12284,22,12302,24,12316,null,null,null,null,0,222]
[21,12431,22,12442,24,12450,null,null,null,null,0,222]
[21,12559,22,12569,24,12576,null,null,null,null,0,222]
[21,12679,22,12684,24,12696,null,null,null,null,0,222]
[21,12819,22,12825,24,12830,null,null,null,null,0,222]
[21,12935,22,12941,24,12945,null,null,null,null,0,222]
[21,13054,22,13059,24,13081,null,null,null,null,0,222]
[21,13191,22,13202,24,13214,null,null,null,null,0,222]
[21,13320,22,13337,24,13345,null,null,null,null,0,222]
[21,13504,22,13513,24,13547,null,null,null,null,0,222]
[21,13655,22,13665,24,13674,null,null,null,null,0,222]
[21,13785,22,13798,24,13816,null,null,null,null,0,222]
[21,13918,22,13925,24,13936,null,null,null,null,0,222]
[21,14047,22,14052,24,14059,null,null,null,null,0,222]
[21,14193,22,14200,24,14221,null,null,null,null,0,222]
[21,14327,22,14333,24,14344,null,null,null,null,0,222]
[21,14463,22,14468,24,14480,null,null,null,null,0,222]
[21,14601,22,14608,24,14626,null,null,null,null,0,222]
[21,14723,22,14729,24,14744,null,null,null,null,0,222]
[21,14847,22,14853,24,14860,null,null,null,null,0,222]
[21,14970,22,14988,24,15000,null,null,null,null,0,222]
[21,15105,22,15117,24,15129,null,null,null,null,0,222]
[21,15248,22,15257,24,15262,null,null,null,null,0,222]
[21,15359,22,15364,24,15379,null,null,null,null,0,222]
[21,15490,22,15503,24,15530,null,null,null,null,0,222]
[21,15635,22,15640,24,15647,null,null,null,null,0,222]
[21,15757,22,15762,24,15778,null,null,null,null,0,222]
[21,15880,22,15890,24,15895,null,null,null,null,0,222]
[21,15998,22,16028,24,16037,null,null,null,null,0,222]
[21,16148,22,16154,24,16160,null,null,null,null,0,222]
[21,16298,22,16322,24,16331,null,null,null,null,0,222]
[21,16437,22,16443,24,16453,null,null,null,null,0,222]
[21,16593,22,16601,24,16621,null,null,null,null,0,222]
[21,16754,22,16772,24,16781,null,null,null,null,0,222]
[21,16886,22,16892,24,16907,null,null,null,null,0,222]
[21,17010,22,17033,24,17049,null,null,null,null,0,222]
[21,17154,22,17159,24,17164,null,null,null,null,0,222]
[21,17268,22,17292,24,17304,null,null,null,null,0,222]
[21,17403,22,17408,24,17415,null,null,null,null,0,222]
[21,17533,22,17538,24,17546,null,null,null,null,0,222]
[21,17663,22,17670,24,17681,null,null,null,null,0,222]
[21,17787,22,17793,24,17799,null,null,null,null,0,222]
[21,17921,22,17939,24,17947,null,null,null,null,0,222]
[21,18069,22,18075,24,18082,null,null,null,null,0,222]
[21,18191,22,18197,24,18224,null,null,null,null,0,222]
[21,18331,22,18338,24,18358,null,null,null,null,0,222]
[21,18464,22,18475,24,18482,null,null,null,null,0,222]
[21,18583,22,18590,24,18601,null,null,null,null,0,222]
[21,18707,22,18721,24,18740,null,null,null,null,0,222]
[21,18842,22,18848,24,18868,null,null,null,null,0,222]
[21,18986,22,18998,24,19021,null,null,null,null,0,222]
[21,19160,22,19194,24,19209,null,null,null,null,0,222]
[21,19330,22,19337,24,19358,null,null,null,null,0,222]
[21,19463,22,19468,24,19481,null,null,null,null,0,222]
[12,19579,24,19592,24,19605,null,null,null,null,0,122]
[21,19718,22,19723,24,19743,null,null,null,null,0,222]
[21,19850,22,19855,24,19881,null,null,null,null,0,222]
[21,19985,22,20012,24,20033,null,null,null,null,0,222]
[21,20153,22,20167,24,20192,null,null,null,null,0,222]
[21,20293,22,20298,24,20303,null,null,null,null,0,222]
[21,20410,22,20415,24,20421,null,null,null,null,0,222]
[21,20551,22,20594,24,20608,null,null,null,null,0,222]
[21,20747,22,20756,24,20791,null,null,null,null,0,222]
[21,20897,22,20904,24,20917,null,null,null,null,0,222]
[21,21022,22,21028,24,21043,null,null,null,null,0,222]
[21,21189,22,21196,24,21205,null,null,null,null,0,222]
[21,21328,22,21339,24,21348,null,null,null,null,0,222]
[21,21455,22,21462,24,21470,null,null,null,null,0,222]
[21,21576,22,21581,24,21609,null,null,null,null,0,222]
[21,21716,22,21721,24,21727,null,null,null,null,0,222]
[21,21832,22,21837,24,21843,null,null,null,null,0,222]
[21,21950,22,21956,24,21965,null,null,null,null,0,222]
[21,22063,22,22068,24,22105,null,null,null,null,0,222]
[21,22215,22,22223,24,22235,null,null,null,null,0,222]
[21,22349,22,22354,24,22450,null,null,null,null,0,222]
[21,22565,22,22577,24,22589,null,null,null,null,0,222]
[21,22724,22,22751,24,22776,null,null,null,null,0,222]
[21,22886,22,22897,24,22912,null,null,null,null,0,222]
[21,23031,22,23037,24,23066,null,null,null,null,0,222]
[21,23182,22,23201,24,23210,null,null,null,null,0,222]
[21,23318,22,23328,24,23342,null,null,null,null,0,222]
[21,23468,22,23479,24,23495,null,null,null,null,0,222]
[21,23628,22,23647,24,23657,null,null,null,null,0,222]
[21,23770,22,23776,24,23806,null,null,null,null,0,222]
[21,23914,22,23918,24,23960,null,null,null,null,1,222]

{"sheet":"!M925640.101","index":28,"n_rows":186,"n_cols":48,"rows_kept":186,"cut":false,"hidden":false,"merged":[[4,39,4,42],[5,39,5,40],[4,44,4,47],[5,44,5,45],[4,24,4,27],[5,24,5,25],[4,29,4,32],[5,29,5,30],[4,34,4,37],[5,34,5,35],[1,1,1,2],[5,13,5,14],[18,13,18,14],[19,13,19,14],[4,19,4,22],[5,19,5,20]]}
["Report for:!M925640.101"]
["Date:","<date>"]
["Hen:","<hen>",null,null,null,"Correct Sequence",{"$f":"Start!J2","v":211},null,null,null,null,null,null,null,null,"Total Sequences in Data",{"$f":"4994-COUNTBLANK(L7:L5000)","v":180},null,null,null,null,"Total Sequences in Block Data",{"$f":"COUNTA(L7:L36)","v":30},null,null,null,"Total Sequences in Block Data",{"$f":"COUNTA(L37:L66)","v":30},null,null,null,"Total Sequences in Block Data",{"$f":"COUNTA(L67:L96)","v":30},null,null,null,"Total Sequences in Block Data",{"$f":"COUNTA(L97:L126)","v":30},null,null,null,"Total Sequences in Block Data",{"$f":"COUNTA(L127:L156)","v":30},null,null,null,"Total Sequences in Block Data",{"$f":"COUNTA(L157:L186)","v":30}]
[null,null,null,null,null,null,null,null,null,null,null,null,null,null,null,"Total Sequences in Summary",{"$f":"SUM(O7:O14)","v":180},null,null,null,null,"Total Sequences in Block Summary",{"$f":"SUM(U7:U14)","v":30},null,null,null,"Total Sequences in Block Summary",{"$f":"SUM(Z7:Z14)","v":30},null,null,null,"Total Sequences in Block Summary",{"$f":"SUM(AE7:AE14)","v":30},null,null,null,"Total Sequences in Block Summary",{"$f":"SUM(AJ7:AJ14)","v":30},null,null,null,"Total Sequences in Block Summary",{"$f":"SUM(AO7:AO14)","v":30},null,null,null,"Total Sequences in Block Summary",{"$f":"SUM(AT7:AT14)","v":30}]
[null,null,null,null,null,null,null,null,null,null,null,null,null,null,null,null,null,null,null,"Block 1",null,null,null,null,"Block 2",null,null,null,null,"Block 3",null,null,null,null,"Block 4",null,null,null,null,"Block 5",null,null,null,null,"Block 6"]
["Sequence\nComponent\n1","Time\n1","Sequence\nComponent\n2","Time\n2","Sequence\nComponent\n3","Time\n3","Sequence\nComponent\n4","Time\n4","Sequence\nComponent\n5","Time\n5","Correct?\n0=No 1=Yes","Sequence",null,"Frequency",null,"Relative Frequency","Variability",null,null,"Frequency",null,"Relative Frequency","Variability",null,"Frequency",null,"Relative Frequency","Variability",null,"Frequency",null,"Relative Frequency","Variability",null,"Frequency",null,"Relative Frequency","Variability",null,"Frequency",null,"Relative Frequency","Variability",null,"Frequency",null,"Relative Frequency","Variability"]
[12,15,24,27,24,33,null,null,null,null,0,122,null,111,{"$f":"COUNTIF($L$7:$L$500,N7)","v":0},{"$f":"O7/$Q$4","v":0},{"$f":"IF(P7=0,0,(P7*((LOG(P7))/LOG(2))))","v":0},null,null,{"$f":"N7","v":111},{"$f":"COUNTIF(L7:L36,T7)","v":0},{"$f":"U7/(W4-U11)","v":0},{"$f":"IF(V7=0,0,(V7*((LOG(V7))/LOG(2))))","v":0},null,{"$f":"N7","v":111},{"$f":"COUNTIF(L37:L66,Y7)","v":0},{"$f":"Z7/(AB4-Z11)","v":0},{"$f":"IF(AA7=0,0,(AA7*((LOG(AA7))/LOG(2))))","v":0},null,{"$f":"N7","v":111},{"$f":"COUNTIF(L67:L96,AD7)","v":0},{"$f":"AE7/(AG4-AE11)","v":0},{"$f":"IF(AF7=0,0,(AF7*((LOG(AF7))/LOG(2))))","v":0},null,{"$f":"N7","v":111},{"$f":"COUNTIF(L97:L126,AI7)","v":0},{"$f":"AJ7/(AL4-AJ11)","v":0},{"$f":"IF(AK7=0,0,(AK7*((LOG(AK7))/LOG(2))))","v":0},null,{"$f":"N7","v":111},{"$f":"COUNTIF(L127:L156,AN7)","v":0},{"$f":"AO7/(AQ4-AO11)","v":0},{"$f":"IF(AP7=0,0,(AP7*((LOG(AP7))/LOG(2))))","v":0},null,{"$f":"N7","v":111},{"$f":"COUNTIF(L157:L186,AS7)","v":0},{"$f":"AT7/(AV4-AT11)","v":0},{"$f":"IF(AU7=0,0,(AU7*((LOG(AU7))/LOG(2))))","v":0}]
[12,133,24,144,24,155,null,null,null,null,0,122,null,112,{"$f":"COUNTIF($L$7:$L$500,N8)","v":0},{"$f":"O8/$Q$4","v":0},{"$f":"IF(P8=0,0,(P8*((LOG(P8))/LOG(2))))","v":0},null,null,{"$f":"N8","v":112},{"$f":"COUNTIF(L7:L36,T8)","v":0},{"$f":"U8/(W4-U11)","v":0},{"$f":"IF(V8=0,0,(V8*((LOG(V8))/LOG(2))))","v":0},null,{"$f":"N8","v":112},{"$f":"COUNTIF(L37:L66,Y8)","v":0},{"$f":"Z8/(AB4-Z11)","v":0},{"$f":"IF(AA8=0,0,(AA8*((LOG(AA8))/LOG(2))))","v":0},null,{"$f":"N8","v":112},{"$f":"COUNTIF(L67:L96,AD8)","v":0},{"$f":"AE8/(AG4-AE11)","v":0},{"$f":"IF(AF8=0,0,(AF8*((LOG(AF8))/LOG(2))))","v":0},null,{"$f":"N8","v":112},{"$f":"COUNTIF(L97:L126,AI8)","v":0},{"$f":"AJ8/(AL4-AJ11)","v":0},{"$f":"IF(AK8=0,0,(AK8*((LOG(AK8))/LOG(2))))","v":0},null,{"$f":"N8","v":112},{"$f":"COUNTIF(L127:L156,AN8)","v":0},{"$f":"AO8/(AQ4-AO11)","v":0},{"$f":"IF(AP8=0,0,(AP8*((LOG(AP8))/LOG(2))))","v":0},null,{"$f":"N8","v":112},{"$f":"COUNTIF(L157:L186,AS8)","v":0},{"$f":"AT8/(AV4-AT11)","v":0},{"$f":"IF(AU8=0,0,(AU8*((LOG(AU8))/LOG(2))))","v":0}]
[21,262,22,268,24,275,null,null,null,null,0,222,null,121,{"$f":"COUNTIF($L$7:$L$500,N9)","v":0},{"$f":"O9/$Q$4","v":0},{"$f":"IF(P9=0,0,(P9*((LOG(P9))/LOG(2))))","v":0},null,null,{"$f":"N9","v":121},{"$f":"COUNTIF(L7:L36,T9)","v":0},{"$f":"U9/(W4-U11)","v":0},{"$f":"IF(V9=0,0,(V9*((LOG(V9))/LOG(2))))","v":0},null,{"$f":"N9","v":121},{"$f":"COUNTIF(L37:L66,Y9)","v":0},{"$f":"Z9/(AB4-Z11)","v":0},{"$f":"IF(AA9=0,0,(AA9*((LOG(AA9))/LOG(2))))","v":0},null,{"$f":"N9","v":121},{"$f":"COUNTIF(L67:L96,AD9)","v":0},{"$f":"AE9/(AG4-AE11)","v":0},{"$f":"IF(AF9=0,0,(AF9*((LOG(AF9))/LOG(2))))","v":0},null,{"$f":"N9","v":121},{"$f":"COUNTIF(L97:L126,AI9)","v":0},{"$f":"AJ9/(AL4-AJ11)","v":0},{"$f":"IF(AK9=0,0,(AK9*((LOG(AK9))/LOG(2))))","v":0},null,{"$f":"N9","v":121},{"$f":"COUNTIF(L127:L156,AN9)","v":0},{"$f":"AO9/(AQ4-AO11)","v":0},{"$f":"IF(AP9=0,0,(AP9*((LOG(AP9))/LOG(2))))","v":0},null,{"$f":"N9","v":121},{"$f":"COUNTIF(L157:L186,AS9)","v":0},{"$f":"AT9/(AV4-AT11)","v":0},{"$f":"IF(AU9=0,0,(AU9*((LOG(AU9))/LOG(2))))","v":0}]
[21,392,22,399,24,406,null,null,null,null,0,222,null,122,{"$f":"COUNTIF($L$7:$L$500,N10)","v":6},{"$f":"O10/$Q$4","v":3.3333333333333333E-2},{"$f":"IF(P10=0,0,(P10*((LOG(P10))/LOG(2))))","v":-0.16356301985361729},null,null,{"$f":"N10","v":122},{"$f":"COUNTIF(L7:L36,T10)","v":2},{"$f":"U10/(W4-U11)","v":6.6666666666666666E-2},{"$f":"IF(V10=0,0,(V10*((LOG(V10))/LOG(2))))","v":-0.26045937304056793},null,{"$f":"N10","v":122},{"$f":"COUNTIF(L37:L66,Y10)","v":0},{"$f":"Z10/(AB4-Z11)","v":0},{"$f":"IF(AA10=0,0,(AA10*((LOG(AA10))/LOG(2))))","v":0},null,{"$f":"N10","v":122},{"$f":"COUNTIF(L67:L96,AD10)","v":0},{"$f":"AE10/(AG4-AE11)","v":0},{"$f":"IF(AF10=0,0,(AF10*((LOG(AF10))/LOG(2))))","v":0},null,{"$f":"N10","v":122},{"$f":"COUNTIF(L97:L126,AI10)","v":2},{"$f":"AJ10/(AL4-AJ11)","v":6.6666666666666666E-2},{"$f":"IF(AK10=0,0,(AK10*((LOG(AK10))/LOG(2))))","v":-0.26045937304056793},null,{"$f":"N10","v":122},{"$f":"COUNTIF(L127:L156,AN10)","v":1},{"$f":"AO10/(AQ4-AO11)","v":3.3333333333333333E-2},{"$f":"IF(AP10=0,0,(AP10*((LOG(AP10))/LOG(2))))","v":-0.16356301985361729},null,{"$f":"N10","v":122},{"$f":"COUNTIF(L157:L186,AS10)","v":1},{"$f":"AT10/(AV4-AT11)","v":3.3333333333333333E-2},{"$f":"IF(AU10=0,0,(AU10*((LOG(AU10))/LOG(2))))","v":-0.16356301985361729}]
[21,510,22,516,24,533,null,null,null,null,0,222,null,211,{"$f":"COUNTIF($L$7:$L$500,N11)","v":0},{"$f":"O11/$Q$4","v":0},{"$f":"IF(P11=0,0,(P11*((LOG(P11))/LOG(2))))","v":0},null,null,{"$f":"N11","v":211},{"$f":"COUNTIF(L7:L36,T11)","v":0},null,null,null,{"$f":"N11","v":211},{"$f":"COUNTIF(L37:L66,Y11)","v":0},null,null,null,{"$f":"N11","v":211},{"$f":"COUNTIF(L67:L96,AD11)","v":0},null,null,null,{"$f":"N11","v":211},{"$f":"COUNTIF(L97:L126,AI11)","v":0},null,null,null,{"$f":"N11","v":211},{"$f":"COUNTIF(L127:L156,AN11)","v":0},null,null,null,{"$f":"N11","v":211},{"$f":"COUNTIF(L157:L186,AS11)","v":0}]
[21,642,22,648,24,657,null,null,null,null,0,222,null,212,{"$f":"COUNTIF($L$7:$L$500,N12)","v":0},{"$f":"O12/$Q$4","v":0},{"$f":"IF(P12=0,0,(P12*((LOG(P12))/LOG(2))))","v":0},null,null,{"$f":"N12","v":212},{"$f":"COUNTIF(L7:L36,T12)","v":0},{"$f":"U12/(W4-U11)","v":0},{"$f":"IF(V12=0,0,(V12*((LOG(V12))/LOG(2))))","v":0},null,{"$f":"N12","v":212},{"$f":"COUNTIF(L37:L66,Y12)","v":0},{"$f":"Z12/(AB4-Z11)","v":0},{"$f":"IF(AA12=0,0,(AA12*((LOG(AA12))/LOG(2))))","v":0},null,{"$f":"N12","v":212},{"$f":"COUNTIF(L67:L96,AD12)","v":0},{"$f":"AE12/(AG4-AE11)","v":0},{"$f":"IF(AF12=0,0,(AF12*((LOG(AF12))/LOG(2))))","v":0},null,{"$f":"N12","v":212},{"$f":"COUNTIF(L97:L126,AI12)","v":0},{"$f":"AJ12/(AL4-AJ11)","v":0},{"$f":"IF(AK12=0,0,(AK12*((LOG(AK12))/LOG(2))))","v":0},null,{"$f":"N12","v":212},{"$f":"COUNTIF(L127:L156,AN12)","v":0},{"$f":"AO12/(AQ4-AO11)","v":0},{"$f":"IF(AP12=0,0,(AP12*((LOG(AP12))/LOG(2))))","v":0},null,{"$f":"N12","v":212},{"$f":"COUNTIF(L157:L186,AS12)","v":0},{"$f":"AT12/(AV4-AT11)","v":0},{"$f":"IF(AU12=0,0,(AU12*((LOG(AU12))/LOG(2))))","v":0}]
[21,763,22,773,24,779,null,null,null,null,0,222,null,221,{"$f":"COUNTIF($L$7:$L$500,N13)","v":0},{"$f":"O13/$Q$4","v":0},{"$f":"IF(P13=0,0,(P13*((LOG(P13))/LOG(2))))","v":0},null,null,{"$f":"N13","v":221},{"$f":"COUNTIF(L7:L36,T13)","v":0},{"$f":"U13/(W4-U11)","v":0},{"$f":"IF(V13=0,0,(V13*((LOG(V13))/LOG(2))))","v":0},null,{"$f":"N13","v":221},{"$f":"COUNTIF(L37:L66,Y13)","v":0},{"$f":"Z13/(AB4-Z11)","v":0},{"$f":"IF(AA13=0,0,(AA13*((LOG(AA13))/LOG(2))))","v":0},null,{"$f":"N13","v":221},{"$f":"COUNTIF(L67:L96,AD13)","v":0},{"$f":"AE13/(AG4-AE11)","v":0},{"$f":"IF(AF13=0,0,(AF13*((LOG(AF13))/LOG(2))))","v":0},null,{"$f":"N13","v":221},{"$f":"COUNTIF(L97:L126,AI13)","v":0},{"$f":"AJ13/(AL4-AJ11)","v":0},{"$f":"IF(AK13=0,0,(AK13*((LOG(AK13))/LOG(2))))","v":0},null,{"$f":"N13","v":221},{"$f":"COUNTIF(L127:L156,AN13)","v":0},{"$f":"AO13/(AQ4-AO11)","v":0},{"$f":"IF(AP13=0,0,(AP13*((LOG(AP13))/LOG(2))))","v":0},null,{"$f":"N13","v":221},{"$f":"COUNTIF(L157:L186,AS13)","v":0},{"$f":"AT13/(AV4-AT11)","v":0},{"$f":"IF(AU13=0,0,(AU13*((LOG(AU13))/LOG(2))))","v":0}]
[21,912,22,933,24,948,null,null,null,null,0,222,null,222,{"$f":"COUNTIF($L$7:$L$500,N14)","v":174},{"$f":"O14/$Q$4","v":0.96666666666666667},{"$f":"IF(P14=0,0,(P14*((LOG(P14))/LOG(2))))","v":-4.727928046491485E-2},null,null,{"$f":"N14","v":222},{"$f":"COUNTIF(L7:L36,T14)","v":28},{"$f":"U14/(W4-U11)","v":0.93333333333333335},{"$f":"IF(V14=0,0,(V14*((LOG(V14))/LOG(2))))","v":-9.2899961980853443E-2},null,{"$f":"N14","v":222},{"$f":"COUNTIF(L37:L66,Y14)","v":30},{"$f":"Z14/(AB4-Z11)","v":1},{"$f":"IF(AA14=0,0,(AA14*((LOG(AA14))/LOG(2))))","v":0},null,{"$f":"N14","v":222},{"$f":"COUNTIF(L67:L96,AD14)","v":30},{"$f":"AE14/(AG4-AE11)","v":1},{"$f":"IF(AF14=0,0,(AF14*((LOG(AF14))/LOG(2))))","v":0},null,{"$f":"N14","v":222},{"$f":"COUNTIF(L97:L126,AI14)","v":28},{"$f":"AJ14/(AL4-AJ11)","v":0.93333333333333335},{"$f":"IF(AK14=0,0,(AK14*((LOG(AK14))/LOG(2))))","v":-9.2899961980853443E-2},null,{"$f":"N14","v":222},{"$f":"COUNTIF(L127:L156,AN14)","v":29},{"$f":"AO14/(AQ4-AO11)","v":0.96666666666666667},{"$f":"IF(AP14=0,0,(AP14*((LOG(AP14))/LOG(2))))","v":-4.727928046491485E-2},null,{"$f":"N14","v":222},{"$f":"COUNTIF(L157:L186,AS14)","v":29},{"$f":"AT14/(AV4-AT11)","v":0.96666666666666667},{"$f":"IF(AU14=0,0,(AU14*((LOG(AU14))/LOG(2))))","v":-4.727928046491485E-2}]
[21,1066,22,1080,24,1094,null,null,null,null,0,222,null,null,null,{"$f":"SUM(P7:P14)","v":1},{"$f":"-SUM(Q7:Q14)","v":0.21084230031853213},null,null,null,null,{"$f":"SUM(V7:V14)","v":1},{"$f":"-SUM(W7:W14)","v":0.35335933502142136},null,null,null,{"$f":"SUM(AA7:AA14)","v":1},{"$f":"-SUM(AB7:AB14)","v":0},null,null,null,{"$f":"SUM(AF7:AF14)","v":1},{"$f":"-SUM(AG7:AG14)","v":0},null,null,null,{"$f":"SUM(AK7:AK14)","v":1},{"$f":"-SUM(AL7:AL14)","v":0.35335933502142136},null,null,null,{"$f":"SUM(AP7:AP14)","v":1},{"$f":"-SUM(AQ7:AQ14)","v":0.21084230031853213},null,null,null,{"$f":"SUM(AU7:AU14)","v":1},{"$f":"-SUM(AV7:AV14)","v":0.21084230031853213}]
[21,1203,22,1215,24,1222,null,null,null,null,0,222,null,null,null,"U=",{"$f":"Q15/(LOG(Q4)/LOG(2))","v":2.8142877016879262E-2},null,null,null,null,"U1=",{"$f":"W15/(LOG(W4)/LOG(2))","v":7.2012882320560523E-2},null,null,null,"U2=",{"$f":"AB15/(LOG(AB4)/LOG(2))","v":0},null,null,null,"U3=",{"$f":"AG15/(LOG(AG4)/LOG(2))","v":0},null,null,null,"U4=",{"$f":"AL15/(LOG(AL4)/LOG(2))","v":7.2012882320560523E-2},null,null,null,"U5=",{"$f":"AQ15/(LOG(AQ4)/LOG(2))","v":4.2968616522085903E-2},null,null,null,"U6=",{"$f":"AV15/(LOG(AV4)/LOG(2))","v":4.2968616522085903E-2}]
[21,1344,22,1353,24,1361,null,null,null,null,0,222]
[21,1467,22,1473,24,1495,null,null,null,null,0,222]
[21,1609,22,1614,24,1626,null,null,null,null,0,222,null,"Total Target Seq"]
[21,1731,22,1737,24,1744,null,null,null,null,0,222,null,{"$f":"COUNTIF(L7:L186,G3)","v":0},null,30,30,30,30,30,30]
[21,1881,22,1888,24,1898,null,null,null,null,0,222,null,null,null,"% of reinforcement given in 6 equal intervals based on number of trials "]
[21,2010,22,2015,24,2021,null,null,null,null,0,222,null,null,null,"%_1","%_2","%_3","%_4","%_5","%_6"]
[21,2124,22,2154,24,2166,null,null,null,null,0,222,null,null,"target sequence",{"$f":"$G$3","v":211},{"$f":"$G$3","v":211},{"$f":"$G$3","v":211},{"$f":"$G$3","v":211},{"$f":"$G$3","v":211},{"$f":"$G$3","v":211}]
[21,2295,22,2314,24,2324,null,null,null,null,0,222,null,null,"total reinforcement",{"$f":"U11","v":0},{"$f":"Z11","v":0},{"$f":"AE11","v":0},{"$f":"AJ11","v":0},{"$f":"AO11","v":0},{"$f":"AT11","v":0}]
[21,2439,22,2448,24,2455,null,null,null,null,0,222,null,null,"% target"]
[21,2568,22,2573,24,2579,null,null,null,null,0,222,null,null,"CCRF"]
[21,2687,22,2697,24,2703,null,null,null,null,0,222,null,null,"% CCRf"]
[21,2810,22,2827,24,2840,null,null,null,null,0,222,null,null,"average response rate",{"$f":"F36/P20","v":132.53333333333333},{"$f":"(F66-F36)/Q20","v":137.26666666666668},{"$f":"(F96-F66)/R20","v":133.56666666666666},{"$f":"(F126-F96)/S20","v":132.66666666666666},{"$f":"(F156-F126)/T20","v":132.56666666666666},{"$f":"(F186-F156)/U20","v":129.66666666666666}]
[21,3005,22,3018,24,3025,null,null,null,null,0,222]
[21,3135,22,3146,24,3151,null,null,null,null,0,222]
[21,3256,22,3267,24,3283,null,null,null,null,0,222]
[21,3417,22,3428,24,3438,null,null,null,null,0,222]
[21,3561,22,3567,24,3572,null,null,null,null,0,222]
[21,3700,22,3711,24,3726,null,null,null,null,0,222]
[21,3832,22,3839,24,3849,null,null,null,null,0,222]
[21,3960,22,3964,24,3976,null,null,null,null,0,222]
[21,4079,22,4095,24,4102,null,null,null,null,0,222]
[21,4202,22,4208,24,4218,null,null,null,null,0,222]
[21,4358,22,4363,24,4368,null,null,null,null,0,222]
[21,4498,22,4512,24,4524,null,null,null,null,0,222]
[21,4637,22,4649,24,4658,null,null,null,null,0,222]
[21,4785,22,4792,24,4816,null,null,null,null,0,222]
[21,4941,22,4950,24,4956,null,null,null,null,0,222]
[21,5074,22,5080,24,5085,null,null,null,null,0,222]
[21,5192,22,5197,24,5213,null,null,null,null,0,222]
[21,5313,22,5329,24,5337,null,null,null,null,0,222]
[21,5457,22,5462,24,5485,null,null,null,null,0,222]
[21,5592,22,5618,24,5626,null,null,null,null,0,222]
[21,5740,22,5763,24,5771,null,null,null,null,0,222]
[21,5881,22,5891,24,5897,null,null,null,null,0,222]
[21,5999,22,6005,24,6010,null,null,null,null,0,222]
[21,6118,22,6128,24,6144,null,null,null,null,0,222]
[21,6249,22,6267,24,6274,null,null,null,null,0,222]
[21,6394,22,6399,24,6412,null,null,null,null,0,222]
[21,6554,22,6591,24,6608,null,null,null,null,0,222]
[21,6710,22,6716,24,6723,null,null,null,null,0,222]
[21,6825,22,6830,24,6836,null,null,null,null,0,222]
[21,6990,22,7000,24,7009,null,null,null,null,0,222]
[21,7129,22,7146,24,7161,null,null,null,null,0,222]
[21,7276,22,7282,24,7289,null,null,null,null,0,222]
[21,7405,22,7411,24,7416,null,null,null,null,0,222]
[21,7526,22,7535,24,7556,null,null,null,null,0,222]
[21,7662,22,7677,24,7690,null,null,null,null,0,222]
[21,7811,22,7816,24,7823,null,null,null,null,0,222]
[21,7930,22,7940,24,7963,null,null,null,null,0,222]
[21,8070,22,8086,24,8094,null,null,null,null,0,222]
[21,8198,22,8203,24,8207,null,null,null,null,0,222]
[21,8323,22,8329,24,8340,null,null,null,null,0,222]
[21,8473,22,8479,24,8509,null,null,null,null,0,222]
[21,8614,22,8619,24,8627,null,null,null,null,0,222]
[21,8736,22,8745,24,8769,null,null,null,null,0,222]
[21,8874,22,8887,24,8893,null,null,null,null,0,222]
[21,8998,22,9023,24,9052,null,null,null,null,0,222]
[21,9191,22,9218,24,9234,null,null,null,null,0,222]
[21,9340,22,9346,24,9352,null,null,null,null,0,222]
[21,9461,22,9472,24,9477,null,null,null,null,0,222]
[21,9580,22,9586,24,9593,null,null,null,null,0,222]
[21,9717,22,9722,24,9734,null,null,null,null,0,222]
[21,9837,22,9842,24,9852,null,null,null,null,0,222]
[21,9956,22,9963,24,9971,null,null,null,null,0,222]
[21,10074,22,10092,24,10117,null,null,null,null,0,222]
[21,10216,22,10221,24,10231,null,null,null,null,0,222]
[21,10335,22,10341,24,10347,null,null,null,null,0,222]
[21,10472,22,10480,24,10487,null,null,null,null,0,222]
[21,10588,22,10599,24,10608,null,null,null,null,0,222]
[21,10720,22,10736,24,10743,null,null,null,null,0,222]
[21,10858,22,10864,24,10869,null,null,null,null,0,222]
[21,10974,22,10985,24,10992,null,null,null,null,0,222]
[21,11113,22,11118,24,11126,null,null,null,null,0,222]
[21,11232,22,11290,24,11326,null,null,null,null,0,222]
[21,11447,22,11460,24,11465,null,null,null,null,0,222]
[21,11567,22,11573,24,11579,null,null,null,null,0,222]
[21,11695,22,11702,24,11708,null,null,null,null,0,222]
[21,11809,22,11823,24,11838,null,null,null,null,0,222]
[21,11942,22,11947,24,11973,null,null,null,null,0,222]
[21,12078,22,12084,24,12101,null,null,null,null,0,222]
[21,12215,22,12221,24,12227,null,null,null,null,0,222]
[21,12338,22,12344,24,12350,null,null,null,null,0,222]
[21,12452,22,12473,24,12486,null,null,null,null,0,222]
[21,12585,22,12592,24,12608,null,null,null,null,0,222]
[21,12718,22,12724,24,12729,null,null,null,null,0,222]
[21,12834,22,12839,24,12851,null,null,null,null,0,222]
[21,12970,22,12980,24,12997,null,null,null,null,0,222]
[21,13110,22,13115,24,13128,null,null,null,null,0,222]
[21,13260,22,13276,24,13286,null,null,null,null,0,222]
[21,13396,22,13410,24,13423,null,null,null,null,0,222]
[21,13529,22,13540,24,13553,null,null,null,null,0,222]
[21,13658,22,13664,24,13669,null,null,null,null,0,222]
[21,13771,22,13782,24,13789,null,null,null,null,0,222]
[21,13888,22,13894,24,13900,null,null,null,null,0,222]
[21,14008,22,14014,24,14025,null,null,null,null,0,222]
[21,14131,22,14137,24,14142,null,null,null,null,0,222]
[21,14306,22,14355,24,14375,null,null,null,null,0,222]
[21,14479,22,14489,24,14495,null,null,null,null,0,222]
[21,14598,22,14609,24,14630,null,null,null,null,0,222]
[21,14737,22,14753,24,14762,null,null,null,null,0,222]
[21,14869,22,14901,24,14925,null,null,null,null,0,222]
[21,15027,22,15038,24,15045,null,null,null,null,0,222]
[12,15145,24,15170,24,15177,null,null,null,null,0,122]
[21,15296,22,15326,24,15343,null,null,null,null,0,222]
[21,15447,22,15453,24,15460,null,null,null,null,0,222]
[21,15570,22,15574,24,15579,null,null,null,null,0,222]
[21,15703,22,15709,24,15716,null,null,null,null,0,222]
[12,15817,24,15841,24,15846,null,null,null,null,0,122]
[21,15950,22,15965,24,15971,null,null,null,null,0,222]
[21,16069,22,16075,24,16081,null,null,null,null,0,222]
[21,16191,22,16197,24,16203,null,null,null,null,0,222]
[21,16320,22,16332,24,16353,null,null,null,null,0,222]
[21,16517,22,16527,24,16544,null,null,null,null,0,222]
[21,16661,22,16666,24,16675,null,null,null,null,0,222]
[21,16787,22,16802,24,16808,null,null,null,null,0,222]
[21,16918,22,16923,24,16931,null,null,null,null,0,222]
[21,17032,22,17038,24,17056,null,null,null,null,0,222]
[21,17156,22,17162,24,17169,null,null,null,null,0,222]
[21,17271,22,17277,24,17290,null,null,null,null,0,222]
[12,17384,24,17399,24,17410,null,null,null,null,0,122]
[21,17534,22,17547,24,17556,null,null,null,null,0,222]
[21,17660,22,17671,24,17680,null,null,null,null,0,222]
[21,17823,22,17833,24,17859,null,null,null,null,0,222]
[21,17984,22,17990,24,17997,null,null,null,null,0,222]
[21,18115,22,18122,24,18128,null,null,null,null,0,222]
[21,18228,22,18234,24,18242,null,null,null,null,0,222]
[21,18353,22,18363,24,18375,null,null,null,null,0,222]
[21,18482,22,18493,24,18500,null,null,null,null,0,222]
[21,18602,22,18609,24,18619,null,null,null,null,0,222]
[21,18732,22,18737,24,18749,null,null,null,null,0,222]
[21,18853,22,18864,24,18871,null,null,null,null,0,222]
[21,18975,22,18981,24,18989,null,null,null,null,0,222]
[21,19105,22,19111,24,19124,null,null,null,null,0,222]
[21,19225,22,19237,24,19247,null,null,null,null,0,222]
[21,19357,22,19362,24,19370,null,null,null,null,0,222]
[21,19490,22,19497,24,19507,null,null,null,null,0,222]
[21,19620,22,19639,24,19655,null,null,null,null,0,222]
[21,19758,22,19769,24,19781,null,null,null,null,0,222]
[21,19891,22,19915,24,19923,null,null,null,null,0,222]
[21,20037,22,20052,24,20058,null,null,null,null,0,222]
[21,20162,22,20168,24,20175,null,null,null,null,0,222]
[21,20273,22,20281,24,20291,null,null,null,null,0,222]
[21,20397,22,20402,24,20422,null,null,null,null,0,222]
[21,20527,22,20533,24,20543,null,null,null,null,0,222]
[21,20647,22,20657,24,20663,null,null,null,null,0,222]
[21,20770,22,20776,24,20782,null,null,null,null,0,222]
[21,20888,22,20903,24,20907,null,null,null,null,0,222]
[21,21004,22,21010,24,21016,null,null,null,null,0,222]
[21,21122,22,21128,24,21140,null,null,null,null,0,222]
[21,21242,22,21257,24,21273,null,null,null,null,0,222]
[21,21386,22,21393,24,21405,null,null,null,null,0,222]
[21,21545,22,21553,24,21561,null,null,null,null,0,222]
[21,21675,22,21693,24,21704,null,null,null,null,0,222]
[21,21808,22,21814,24,21821,null,null,null,null,0,222]
[21,21944,22,21950,24,21961,null,null,null,null,0,222]
[21,22063,22,22070,24,22081,null,null,null,null,0,222]
[21,22188,22,22195,24,22207,null,null,null,null,0,222]
[21,22310,22,22315,24,22327,null,null,null,null,0,222]
[21,22428,22,22433,24,22449,null,null,null,null,0,222]
[21,22572,22,22585,24,22614,null,null,null,null,0,222]
[21,22739,22,22751,24,22760,null,null,null,null,0,222]
[21,22863,22,22874,24,22881,null,null,null,null,0,222]
[21,22982,22,22993,24,23000,null,null,null,null,0,222]
[21,23107,22,23113,24,23125,null,null,null,null,0,222]
[21,23235,22,23255,24,23260,null,null,null,null,0,222]
[21,23385,22,23391,24,23405,null,null,null,null,0,222]
[21,23544,22,23549,24,23558,null,null,null,null,0,222]
[21,23684,22,23690,24,23708,null,null,null,null,0,222]
[21,23812,22,23817,24,23831,null,null,null,null,0,222]
[12,23926,24,23942,24,23948,null,null,null,null,null,122]

{"sheet":"!M926650.101","index":29,"n_rows":188,"n_cols":48,"rows_kept":188,"cut":false,"hidden":false,"merged":[[4,39,4,42],[5,39,5,40],[4,44,4,47],[5,44,5,45],[4,24,4,27],[5,24,5,25],[4,29,4,32],[5,29,5,30],[4,34,4,37],[5,34,5,35],[1,1,1,2],[5,13,5,14],[18,13,18,14],[19,13,19,14],[4,19,4,22],[5,19,5,20]]}
["Report for:!M926650.101"]
["Date:","<date>"]
["Hen:","<hen>",null,null,null,"Correct Sequence",{"$f":"Start!J2","v":211},null,null,null,null,null,null,null,null,"Total Sequences in Data",{"$f":"4994-COUNTBLANK(L7:L5000)","v":182},null,null,null,null,"Total Sequences in Block Data",{"$f":"COUNTA(L7:L36)","v":30},null,null,null,"Total Sequences in Block Data",{"$f":"COUNTA(L37:L67)","v":31},null,null,null,"Total Sequences in Block Data",{"$f":"COUNTA(L68:L97)","v":30},null,null,null,"Total Sequences in Block Data",{"$f":"COUNTA(L98:L127)","v":30},null,null,null,"Total Sequences in Block Data",{"$f":"COUNTA(L128:L158)","v":31},null,null,null,"Total Sequences in Block Data",{"$f":"COUNTA(L159:L188)","v":30}]
[null,null,null,null,null,null,null,null,null,null,null,null,null,null,null,"Total Sequences in Summary",{"$f":"SUM(O7:O14)","v":182},null,null,null,null,"Total Sequences in Block Summary",{"$f":"SUM(U7:U14)","v":30},null,null,null,"Total Sequences in Block Summary",{"$f":"SUM(Z7:Z14)","v":31},null,null,null,"Total Sequences in Block Summary",{"$f":"SUM(AE7:AE14)","v":30},null,null,null,"Total Sequences in Block Summary",{"$f":"SUM(AJ7:AJ14)","v":30},null,null,null,"Total Sequences in Block Summary",{"$f":"SUM(AO7:AO14)","v":31},null,null,null,"Total Sequences in Block Summary",{"$f":"SUM(AT7:AT14)","v":30}]
[null,null,null,null,null,null,null,null,null,null,null,null,null,null,null,null,null,null,null,"Block 1",null,null,null,null,"Block 2",null,null,null,null,"Block 3",null,null,null,null,"Block 4",null,null,null,null,"Block 5",null,null,null,null,"Block 6"]
["Sequence\nComponent\n1","Time\n1","Sequence\nComponent\n2","Time\n2","Sequence\nComponent\n3","Time\n3","Sequence\nComponent\n4","Time\n4","Sequence\nComponent\n5","Time\n5","Correct?\n0=No 1=Yes","Sequence",null,"Frequency",null,"Relative Frequency","Variability",null,null,"Frequency",null,"Relative Frequency","Variability",null,"Frequency",null,"Relative Frequency","Variability",null,"Frequency",null,"Relative Frequency","Variability",null,"Frequency",null,"Relative Frequency","Variability",null,"Frequency",null,"Relative Frequency","Variability",null,"Frequency",null,"Relative Frequency","Variability"]
[21,22,22,28,24,42,null,null,null,null,0,222,null,111,{"$f":"COUNTIF($L$7:$L$500,N7)","v":0},{"$f":"O7/$Q$4","v":0},{"$f":"IF(P7=0,0,(P7*((LOG(P7))/LOG(2))))","v":0},null,null,{"$f":"N7","v":111},{"$f":"COUNTIF(L7:L36,T7)","v":0},{"$f":"U7/(W4-U11)","v":0},{"$f":"IF(V7=0,0,(V7*((LOG(V7))/LOG(2))))","v":0},null,{"$f":"N7","v":111},{"$f":"COUNTIF(L37:L67,Y7)","v":0},{"$f":"Z7/(AB4-Z11)","v":0},{"$f":"IF(AA7=0,0,(AA7*((LOG(AA7))/LOG(2))))","v":0},null,{"$f":"N7","v":111},{"$f":"COUNTIF(L68:L97,AD7)","v":0},{"$f":"AE7/(AG4-AE11)","v":0},{"$f":"IF(AF7=0,0,(AF7*((LOG(AF7))/LOG(2))))","v":0},null,{"$f":"N7","v":111},{"$f":"COUNTIF(L98:L127,AI7)","v":0},{"$f":"AJ7/(AL4-AJ11)","v":0},{"$f":"IF(AK7=0,0,(AK7*((LOG(AK7))/LOG(2))))","v":0},null,{"$f":"N7","v":111},{"$f":"COUNTIF(L128:L158,AN7)","v":0},{"$f":"AO7/(AQ4-AO11)","v":0},{"$f":"IF(AP7=0,0,(AP7*((LOG(AP7))/LOG(2))))","v":0},null,{"$f":"N7","v":111},{"$f":"COUNTIF(L159:L188,AS7)","v":0},{"$f":"AT7/(AV4-AT11)","v":0},{"$f":"IF(AU7=0,0,(AU7*((LOG(AU7))/LOG(2))))","v":0}]
[21,147,22,153,24,165,null,null,null,null,0,222,null,112,{"$f":"COUNTIF($L$7:$L$500,N8)","v":0},{"$f":"O8/$Q$4","v":0},{"$f":"IF(P8=0,0,(P8*((LOG(P8))/LOG(2))))","v":0},null,null,{"$f":"N8","v":112},{"$f":"COUNTIF(L7:L36,T8)","v":0},{"$f":"U8/(W4-U11)","v":0},{"$f":"IF(V8=0,0,(V8*((LOG(V8))/LOG(2))))","v":0},null,{"$f":"N8","v":112},{"$f":"COUNTIF(L37:L67,Y8)","v":0},{"$f":"Z8/(AB4-Z11)","v":0},{"$f":"IF(AA8=0,0,(AA8*((LOG(AA8))/LOG(2))))","v":0},null,{"$f":"N8","v":112},{"$f":"COUNTIF(L68:L97,AD8)","v":0},{"$f":"AE8/(AG4-AE11)","v":0},{"$f":"IF(AF8=0,0,(AF8*((LOG(AF8))/LOG(2))))","v":0},null,{"$f":"N8","v":112},{"$f":"COUNTIF(L98:L127,AI8)","v":0},{"$f":"AJ8/(AL4-AJ11)","v":0},{"$f":"IF(AK8=0,0,(AK8*((LOG(AK8))/LOG(2))))","v":0},null,{"$f":"N8","v":112},{"$f":"COUNTIF(L128:L158,AN8)","v":0},{"$f":"AO8/(AQ4-AO11)","v":0},{"$f":"IF(AP8=0,0,(AP8*((LOG(AP8))/LOG(2))))","v":0},null,{"$f":"N8","v":112},{"$f":"COUNTIF(L159:L188,AS8)","v":0},{"$f":"AT8/(AV4-AT11)","v":0},{"$f":"IF(AU8=0,0,(AU8*((LOG(AU8))/LOG(2))))","v":0}]
[21,272,22,281,24,292,null,null,null,null,0,222,null,121,{"$f":"COUNTIF($L$7:$L$500,N9)","v":0},{"$f":"O9/$Q$4","v":0},{"$f":"IF(P9=0,0,(P9*((LOG(P9))/LOG(2))))","v":0},null,null,{"$f":"N9","v":121},{"$f":"COUNTIF(L7:L36,T9)","v":0},{"$f":"U9/(W4-U11)","v":0},{"$f":"IF(V9=0,0,(V9*((LOG(V9))/LOG(2))))","v":0},null,{"$f":"N9","v":121},{"$f":"COUNTIF(L37:L67,Y9)","v":0},{"$f":"Z9/(AB4-Z11)","v":0},{"$f":"IF(AA9=0,0,(AA9*((LOG(AA9))/LOG(2))))","v":0},null,{"$f":"N9","v":121},{"$f":"COUNTIF(L68:L97,AD9)","v":0},{"$f":"AE9/(AG4-AE11)","v":0},{"$f":"IF(AF9=0,0,(AF9*((LOG(AF9))/LOG(2))))","v":0},null,{"$f":"N9","v":121},{"$f":"COUNTIF(L98:L127,AI9)","v":0},{"$f":"AJ9/(AL4-AJ11)","v":0},{"$f":"IF(AK9=0,0,(AK9*((LOG(AK9))/LOG(2))))","v":0},null,{"$f":"N9","v":121},{"$f":"COUNTIF(L128:L158,AN9)","v":0},{"$f":"AO9/(AQ4-AO11)","v":0},{"$f":"IF(AP9=0,0,(AP9*((LOG(AP9))/LOG(2))))","v":0},null,{"$f":"N9","v":121},{"$f":"COUNTIF(L159:L188,AS9)","v":0},{"$f":"AT9/(AV4-AT11)","v":0},{"$f":"IF(AU9=0,0,(AU9*((LOG(AU9))/LOG(2))))","v":0}]
[21,449,22,457,24,466,null,null,null,null,0,222,null,122,{"$f":"COUNTIF($L$7:$L$500,N10)","v":1},{"$f":"O10/$Q$4","v":5.4945054945054949E-3},{"$f":"IF(P10=0,0,(P10*((LOG(P10))/LOG(2))))","v":-4.1251618902190638E-2},null,null,{"$f":"N10","v":122},{"$f":"COUNTIF(L7:L36,T10)","v":0},{"$f":"U10/(W4-U11)","v":0},{"$f":"IF(V10=0,0,(V10*((LOG(V10))/LOG(2))))","v":0},null,{"$f":"N10","v":122},{"$f":"COUNTIF(L37:L67,Y10)","v":1},{"$f":"Z10/(AB4-Z11)","v":3.2258064516129031E-2},{"$f":"IF(AA10=0,0,(AA10*((LOG(AA10))/LOG(2))))","v":-0.15981278420602821},null,{"$f":"N10","v":122},{"$f":"COUNTIF(L68:L97,AD10)","v":0},{"$f":"AE10/(AG4-AE11)","v":0},{"$f":"IF(AF10=0,0,(AF10*((LOG(AF10))/LOG(2))))","v":0},null,{"$f":"N10","v":122},{"$f":"COUNTIF(L98:L127,AI10)","v":0},{"$f":"AJ10/(AL4-AJ11)","v":0},{"$f":"IF(AK10=0,0,(AK10*((LOG(AK10))/LOG(2))))","v":0},null,{"$f":"N10","v":122},{"$f":"COUNTIF(L128:L158,AN10)","v":0},{"$f":"AO10/(AQ4-AO11)","v":0},{"$f":"IF(AP10=0,0,(AP10*((LOG(AP10))/LOG(2))))","v":0},null,{"$f":"N10","v":122},{"$f":"COUNTIF(L159:L188,AS10)","v":0},{"$f":"AT10/(AV4-AT11)","v":0},{"$f":"IF(AU10=0,0,(AU10*((LOG(AU10))/LOG(2))))","v":0}]
[21,571,22,578,24,584,null,null,null,null,0,222,null,211,{"$f":"COUNTIF($L$7:$L$500,N11)","v":0},{"$f":"O11/$Q$4","v":0},{"$f":"IF(P11=0,0,(P11*((LOG(P11))/LOG(2))))","v":0},null,null,{"$f":"N11","v":211},{"$f":"COUNTIF(L7:L36,T11)","v":0},null,null,null,{"$f":"N11","v":211},{"$f":"COUNTIF(L37:L67,Y11)","v":0},null,null,null,{"$f":"N11","v":211},{"$f":"COUNTIF(L68:L97,AD11)","v":0},null,null,null,{"$f":"N11","v":211},{"$f":"COUNTIF(L98:L127,AI11)","v":0},null,null,null,{"$f":"N11","v":211},{"$f":"COUNTIF(L128:L158,AN11)","v":0},null,null,null,{"$f":"N11","v":211},{"$f":"COUNTIF(L159:L188,AS11)","v":0}]
[21,693,22,699,24,710,null,null,null,null,0,222,null,212,{"$f":"COUNTIF($L$7:$L$500,N12)","v":0},{"$f":"O12/$Q$4","v":0},{"$f":"IF(P12=0,0,(P12*((LOG(P12))/LOG(2))))","v":0},null,null,{"$f":"N12","v":212},{"$f":"COUNTIF(L7:L36,T12)","v":0},{"$f":"U12/(W4-U11)","v":0},{"$f":"IF(V12=0,0,(V12*((LOG(V12))/LOG(2))))","v":0},null,{"$f":"N12","v":212},{"$f":"COUNTIF(L37:L67,Y12)","v":0},{"$f":"Z12/(AB4-Z11)","v":0},{"$f":"IF(AA12=0,0,(AA12*((LOG(AA12))/LOG(2))))","v":0},null,{"$f":"N12","v":212},{"$f":"COUNTIF(L68:L97,AD12)","v":0},{"$f":"AE12/(AG4-AE11)","v":0},{"$f":"IF(AF12=0,0,(AF12*((LOG(AF12))/LOG(2))))","v":0},null,{"$f":"N12","v":212},{"$f":"COUNTIF(L98:L127,AI12)","v":0},{"$f":"AJ12/(AL4-AJ11)","v":0},{"$f":"IF(AK12=0,0,(AK12*((LOG(AK12))/LOG(2))))","v":0},null,{"$f":"N12","v":212},{"$f":"COUNTIF(L128:L158,AN12)","v":0},{"$f":"AO12/(AQ4-AO11)","v":0},{"$f":"IF(AP12=0,0,(AP12*((LOG(AP12))/LOG(2))))","v":0},null,{"$f":"N12","v":212},{"$f":"COUNTIF(L159:L188,AS12)","v":0},{"$f":"AT12/(AV4-AT11)","v":0},{"$f":"IF(AU12=0,0,(AU12*((LOG(AU12))/LOG(2))))","v":0}]
[21,837,22,843,24,849,null,null,null,null,0,222,null,221,{"$f":"COUNTIF($L$7:$L$500,N13)","v":0},{"$f":"O13/$Q$4","v":0},{"$f":"IF(P13=0,0,(P13*((LOG(P13))/LOG(2))))","v":0},null,null,{"$f":"N13","v":221},{"$f":"COUNTIF(L7:L36,T13)","v":0},{"$f":"U13/(W4-U11)","v":0},{"$f":"IF(V13=0,0,(V13*((LOG(V13))/LOG(2))))","v":0},null,{"$f":"N13","v":221},{"$f":"COUNTIF(L37:L67,Y13)","v":0},{"$f":"Z13/(AB4-Z11)","v":0},{"$f":"IF(AA13=0,0,(AA13*((LOG(AA13))/LOG(2))))","v":0},null,{"$f":"N13","v":221},{"$f":"COUNTIF(L68:L97,AD13)","v":0},{"$f":"AE13/(AG4-AE11)","v":0},{"$f":"IF(AF13=0,0,(AF13*((LOG(AF13))/LOG(2))))","v":0},null,{"$f":"N13","v":221},{"$f":"COUNTIF(L98:L127,AI13)","v":0},{"$f":"AJ13/(AL4-AJ11)","v":0},{"$f":"IF(AK13=0,0,(AK13*((LOG(AK13))/LOG(2))))","v":0},null,{"$f":"N13","v":221},{"$f":"COUNTIF(L128:L158,AN13)","v":0},{"$f":"AO13/(AQ4-AO11)","v":0},{"$f":"IF(AP13=0,0,(AP13*((LOG(AP13))/LOG(2))))","v":0},null,{"$f":"N13","v":221},{"$f":"COUNTIF(L159:L188,AS13)","v":0},{"$f":"AT13/(AV4-AT11)","v":0},{"$f":"IF(AU13=0,0,(AU13*((LOG(AU13))/LOG(2))))","v":0}]
[21,956,22,961,24,975,null,null,null,null,0,222,null,222,{"$f":"COUNTIF($L$7:$L$500,N14)","v":181},{"$f":"O14/$Q$4","v":0.99450549450549453},{"$f":"IF(P14=0,0,(P14*((LOG(P14))/LOG(2))))","v":-7.9050786478233465E-3},null,null,{"$f":"N14","v":222},{"$f":"COUNTIF(L7:L36,T14)","v":30},{"$f":"U14/(W4-U11)","v":1},{"$f":"IF(V14=0,0,(V14*((LOG(V14))/LOG(2))))","v":0},null,{"$f":"N14","v":222},{"$f":"COUNTIF(L37:L67,Y14)","v":30},{"$f":"Z14/(AB4-Z11)","v":0.967741935483871},{"$f":"IF(AA14=0,0,(AA14*((LOG(AA14))/LOG(2))))","v":-4.5779723979054811E-2},null,{"$f":"N14","v":222},{"$f":"COUNTIF(L68:L97,AD14)","v":30},{"$f":"AE14/(AG4-AE11)","v":1},{"$f":"IF(AF14=0,0,(AF14*((LOG(AF14))/LOG(2))))","v":0},null,{"$f":"N14","v":222},{"$f":"COUNTIF(L98:L127,AI14)","v":30},{"$f":"AJ14/(AL4-AJ11)","v":1},{"$f":"IF(AK14=0,0,(AK14*((LOG(AK14))/LOG(2))))","v":0},null,{"$f":"N14","v":222},{"$f":"COUNTIF(L128:L158,AN14)","v":31},{"$f":"AO14/(AQ4-AO11)","v":1},{"$f":"IF(AP14=0,0,(AP14*((LOG(AP14))/LOG(2))))","v":0},null,{"$f":"N14","v":222},{"$f":"COUNTIF(L159:L188,AS14)","v":30},{"$f":"AT14/(AV4-AT11)","v":1},{"$f":"IF(AU14=0,0,(AU14*((LOG(AU14))/LOG(2))))","v":0}]
[21,1091,22,1096,24,1104,null,null,null,null,0,222,null,null,null,{"$f":"SUM(P7:P14)","v":1},{"$f":"-SUM(Q7:Q14)","v":4.9156697550013985E-2},null,null,null,null,{"$f":"SUM(V7:V14)","v":1},{"$f":"-SUM(W7:W14)","v":0},null,null,null,{"$f":"SUM(AA7:AA14)","v":1},{"$f":"-SUM(AB7:AB14)","v":0.20559250818508301},null,null,null,{"$f":"SUM(AF7:AF14)","v":1},{"$f":"-SUM(AG7:AG14)","v":0},null,null,null,{"$f":"SUM(AK7:AK14)","v":1},{"$f":"-SUM(AL7:AL14)","v":0},null,null,null,{"$f":"SUM(AP7:AP14)","v":1},{"$f":"-SUM(AQ7:AQ14)","v":0},null,null,null,{"$f":"SUM(AU7:AU14)","v":1},{"$f":"-SUM(AV7:AV14)","v":0}]
[21,1210,22,1216,24,1228,null,null,null,null,0,222,null,null,null,"U=",{"$f":"Q15/(LOG(Q4)/LOG(2))","v":6.5474217004839446E-3},null,null,null,null,"U1=",{"$f":"W15/(LOG(W4)/LOG(2))","v":0},null,null,null,"U2=",{"$f":"AB15/(LOG(AB4)/LOG(2))","v":4.1498659985281898E-2},null,null,null,"U3=",{"$f":"AG15/(LOG(AG4)/LOG(2))","v":0},null,null,null,"U4=",{"$f":"AL15/(LOG(AL4)/LOG(2))","v":0},null,null,null,"U5=",{"$f":"AQ15/(LOG(AQ4)/LOG(2))","v":0},null,null,null,"U6=",{"$f":"AV15/(LOG(AV4)/LOG(2))","v":0}]
[21,1334,22,1340,24,1346,null,null,null,null,0,222]
[21,1476,22,1484,24,1496,null,null,null,null,0,222]
[21,1595,22,1600,24,1606,null,null,null,null,0,222,null,"Total Target Seq"]
[21,1711,22,1716,24,1728,null,null,null,null,0,222,null,{"$f":"COUNTIF(L7:L188,G3)","v":0},null,30,31,30,30,31,30]
[21,1834,22,1840,24,1848,null,null,null,null,0,222,null,null,null,"% of reinforcement given in 6 equal intervals based on number of trials "]
[21,1962,22,1968,24,1973,null,null,null,null,0,222,null,null,null,"%_1","%_2","%_3","%_4","%_5","%_6"]
[21,2114,22,2120,24,2139,null,null,null,null,0,222,null,null,"target sequence",{"$f":"$G$3","v":211},{"$f":"$G$3","v":211},{"$f":"$G$3","v":211},{"$f":"$G$3","v":211},{"$f":"$G$3","v":211},{"$f":"$G$3","v":211}]
[21,2263,22,2279,24,2289,null,null,null,null,0,222,null,null,"total reinforcement",{"$f":"U11","v":0},{"$f":"Z11","v":0},{"$f":"AE11","v":0},{"$f":"AJ11","v":0},{"$f":"AO11","v":0},{"$f":"AT11","v":0}]
[21,2386,22,2392,24,2407,null,null,null,null,0,222,null,null,"% target"]
[21,2524,22,2529,24,2541,null,null,null,null,0,222,null,null,"CCRF"]
[21,2659,22,2674,24,2707,null,null,null,null,0,222,null,null,"% CCRf"]
[21,2815,22,2823,24,2833,null,null,null,null,0,222,null,null,"average response rate",{"$f":"F36/P20","v":127.93333333333334},{"$f":"(F67-F36)/Q20","v":135.12903225806451},{"$f":"(F97-F67)/R20","v":136.26666666666668},{"$f":"(F127-F97)/S20","v":130.6},{"$f":"(F158-F127)/T20","v":128.48387096774192},{"$f":"(F188-F158)/U20","v":131.1}]
[21,2940,22,2946,24,2955,null,null,null,null,0,222]
[21,3060,22,3065,24,3072,null,null,null,null,0,222]
[21,3177,22,3187,24,3202,null,null,null,null,0,222]
[21,3312,22,3328,24,3343,null,null,null,null,0,222]
[21,3455,22,3466,24,3473,null,null,null,null,0,222]
[21,3573,22,3578,24,3584,null,null,null,null,0,222]
[21,3693,22,3698,24,3704,null,null,null,null,0,222]
[21,3819,22,3826,24,3838,null,null,null,null,0,222]
[21,3945,22,3955,24,3965,null,null,null,null,0,222]
[21,4075,22,4081,24,4104,null,null,null,null,0,222]
[21,4208,22,4217,24,4222,null,null,null,null,0,222]
[21,4320,22,4326,24,4335,null,null,null,null,0,222]
[21,4471,22,4482,24,4496,null,null,null,null,0,222]
[21,4599,22,4609,24,4614,null,null,null,null,0,222]
[21,4728,22,4738,24,4764,null,null,null,null,0,222]
[21,4871,22,4895,24,4903,null,null,null,null,0,222]
[12,5013,24,5025,24,5031,null,null,null,null,0,122]
[21,5160,22,5172,24,5188,null,null,null,null,0,222]
[21,5302,22,5328,24,5346,null,null,null,null,0,222]
[21,5449,22,5470,24,5483,null,null,null,null,0,222]
[21,5593,22,5605,24,5620,null,null,null,null,0,222]
[21,5728,22,5742,24,5754,null,null,null,null,0,222]
[21,5860,22,5866,24,5885,null,null,null,null,0,222]
[21,5987,22,5993,24,6009,null,null,null,null,0,222]
[21,6134,22,6146,24,6170,null,null,null,null,0,222]
[21,6284,22,6289,24,6303,null,null,null,null,0,222]
[21,6423,22,6431,24,6447,null,null,null,null,0,222]
[21,6548,22,6554,24,6571,null,null,null,null,0,222]
[21,6691,22,6705,24,6714,null,null,null,null,0,222]
[21,6827,22,6832,24,6839,null,null,null,null,0,222]
[21,6948,22,6954,24,6962,null,null,null,null,0,222]
[21,7076,22,7097,24,7121,null,null,null,null,0,222]
[21,7240,22,7263,24,7276,null,null,null,null,0,222]
[21,7381,22,7386,24,7400,null,null,null,null,0,222]
[21,7513,22,7528,24,7540,null,null,null,null,0,222]
[21,7645,22,7650,24,7660,null,null,null,null,0,222]
[21,7763,22,7781,24,7793,null,null,null,null,0,222]
[21,7902,22,7907,24,7914,null,null,null,null,0,222]
[21,8016,22,8022,24,8027,null,null,null,null,0,222]
[21,8125,22,8135,24,8146,null,null,null,null,0,222]
[21,8252,22,8257,24,8270,null,null,null,null,0,222]
[21,8387,22,8404,24,8438,null,null,null,null,0,222]
[21,8544,22,8550,24,8561,null,null,null,null,0,222]
[21,8662,22,8667,24,8678,null,null,null,null,0,222]
[21,8808,22,8813,24,8834,null,null,null,null,0,222]
[21,8938,22,8950,24,8972,null,null,null,null,0,222]
[21,9097,22,9112,24,9119,null,null,null,null,0,222]
[21,9269,22,9291,24,9321,null,null,null,null,0,222]
[21,9432,22,9438,24,9453,null,null,null,null,0,222]
[21,9561,22,9568,24,9579,null,null,null,null,0,222]
[21,9692,22,9703,24,9720,null,null,null,null,0,222]
[21,9827,22,9832,24,9843,null,null,null,null,0,222]
[21,9947,22,9952,24,9964,null,null,null,null,0,222]
[21,10080,22,10092,24,10109,null,null,null,null,0,222]
[21,10218,22,10223,24,10228,null,null,null,null,0,222]
[21,10339,22,10346,24,10360,null,null,null,null,0,222]
[21,10468,22,10474,24,10479,null,null,null,null,0,222]
[21,10594,22,10600,24,10611,null,null,null,null,0,222]
[21,10716,22,10731,24,10757,null,null,null,null,0,222]
[21,10880,22,10902,24,10919,null,null,null,null,0,222]
[21,11030,22,11038,24,11048,null,null,null,null,0,222]
[21,11156,22,11168,24,11184,null,null,null,null,0,222]
[21,11281,22,11294,24,11301,null,null,null,null,0,222]
[21,11417,22,11437,24,11455,null,null,null,null,0,222]
[21,11563,22,11568,24,11577,null,null,null,null,0,222]
[21,11684,22,11700,24,11717,null,null,null,null,0,222]
[21,11820,22,11827,24,11842,null,null,null,null,0,222]
[21,11952,22,11957,24,11972,null,null,null,null,0,222]
[21,12082,22,12088,24,12115,null,null,null,null,0,222]
[21,12221,22,12234,24,12247,null,null,null,null,0,222]
[21,12359,22,12369,24,12386,null,null,null,null,0,222]
[21,12497,22,12501,24,12509,null,null,null,null,0,222]
[21,12625,22,12641,24,12657,null,null,null,null,0,222]
[21,12758,22,12763,24,12770,null,null,null,null,0,222]
[21,12873,22,12885,24,12892,null,null,null,null,0,222]
[21,12996,22,13001,24,13007,null,null,null,null,0,222]
[21,13120,22,13138,24,13150,null,null,null,null,0,222]
[21,13254,22,13265,24,13282,null,null,null,null,0,222]
[21,13384,22,13393,24,13418,null,null,null,null,0,222]
[21,13531,22,13542,24,13564,null,null,null,null,0,222]
[21,13673,22,13678,24,13687,null,null,null,null,0,222]
[21,13794,22,13805,24,13811,null,null,null,null,0,222]
[21,13915,22,13926,24,13943,null,null,null,null,0,222]
[21,14043,22,14047,24,14053,null,null,null,null,0,222]
[21,14151,22,14156,24,14171,null,null,null,null,0,222]
[21,14277,22,14293,24,14301,null,null,null,null,0,222]
[21,14419,22,14435,24,14449,null,null,null,null,0,222]
[21,14551,22,14557,24,14565,null,null,null,null,0,222]
[21,14667,22,14680,24,14688,null,null,null,null,0,222]
[21,14792,22,14798,24,14809,null,null,null,null,0,222]
[21,14918,22,14925,24,15003,null,null,null,null,0,222]
[21,15114,22,15125,24,15134,null,null,null,null,0,222]
[21,15230,22,15235,24,15241,null,null,null,null,0,222]
[21,15352,22,15358,24,15364,null,null,null,null,0,222]
[21,15478,22,15492,24,15500,null,null,null,null,0,222]
[21,15612,22,15631,24,15641,null,null,null,null,0,222]
[21,15752,22,15758,24,15769,null,null,null,null,0,222]
[21,15879,22,15891,24,15898,null,null,null,null,0,222]
[21,16009,22,16019,24,16033,null,null,null,null,0,222]
[21,16130,22,16136,24,16144,null,null,null,null,0,222]
[21,16254,22,16270,24,16285,null,null,null,null,0,222]
[21,16387,22,16393,24,16409,null,null,null,null,0,222]
[21,16516,22,16521,24,16537,null,null,null,null,0,222]
[21,16641,22,16645,24,16656,null,null,null,null,0,222]
[21,16769,22,16780,24,16786,null,null,null,null,0,222]
[21,16884,22,16899,24,16927,null,null,null,null,0,222]
[21,17031,22,17037,24,17044,null,null,null,null,0,222]
[21,17150,22,17160,24,17168,null,null,null,null,0,222]
[21,17266,22,17273,24,17282,null,null,null,null,0,222]
[21,17383,22,17388,24,17399,null,null,null,null,0,222]
[21,17529,22,17567,24,17580,null,null,null,null,0,222]
[21,17687,22,17692,24,17717,null,null,null,null,0,222]
[21,17822,22,17833,24,17839,null,null,null,null,0,222]
[21,17949,22,17958,24,17970,null,null,null,null,0,222]
[21,18079,22,18085,24,18097,null,null,null,null,0,222]
[21,18199,22,18206,24,18218,null,null,null,null,0,222]
[21,18322,22,18327,24,18343,null,null,null,null,0,222]
[21,18448,22,18452,24,18459,null,null,null,null,0,222]
[21,18562,22,18568,24,18573,null,null,null,null,0,222]
[21,18678,22,18684,24,18692,null,null,null,null,0,222]
[21,18797,22,18811,24,18825,null,null,null,null,0,222]
[21,18928,22,18934,24,18940,null,null,null,null,0,222]
[21,19044,22,19050,24,19062,null,null,null,null,0,222]
[21,19195,22,19208,24,19219,null,null,null,null,0,222]
[21,19318,22,19324,24,19335,null,null,null,null,0,222]
[21,19440,22,19452,24,19459,null,null,null,null,0,222]
[21,19570,22,19581,24,19593,null,null,null,null,0,222]
[21,19706,22,19711,24,19723,null,null,null,null,0,222]
[21,19839,22,19874,24,19887,null,null,null,null,0,222]
[21,19991,22,20002,24,20016,null,null,null,null,0,222]
[21,20126,22,20132,24,20143,null,null,null,null,0,222]
[21,20262,22,20268,24,20276,null,null,null,null,0,222]
[21,20381,22,20393,24,20398,null,null,null,null,0,222]
[21,20522,22,20529,24,20545,null,null,null,null,0,222]
[21,20664,22,20677,24,20696,null,null,null,null,0,222]
[21,20802,22,20808,24,20829,null,null,null,null,0,222]
[21,20934,22,20949,24,20955,null,null,null,null,0,222]
[21,21064,22,21074,24,21091,null,null,null,null,0,222]
[21,21193,22,21198,24,21211,null,null,null,null,0,222]
[21,21318,22,21327,24,21333,null,null,null,null,0,222]
[21,21447,22,21455,24,21473,null,null,null,null,0,222]
[21,21577,22,21583,24,21594,null,null,null,null,0,222]
[21,21697,22,21708,24,21724,null,null,null,null,0,222]
[21,21828,22,21839,24,21847,null,null,null,null,0,222]
[21,21949,22,21955,24,21963,null,null,null,null,0,222]
[21,22081,22,22105,24,22114,null,null,null,null,0,222]
[21,22211,22,22220,24,22232,null,null,null,null,0,222]
[21,22338,22,22343,24,22355,null,null,null,null,0,222]
[21,22468,22,22474,24,22480,null,null,null,null,0,222]
[21,22585,22,22598,24,22606,null,null,null,null,0,222]
[21,22708,22,22714,24,22731,null,null,null,null,0,222]
[21,22838,22,22854,24,22861,null,null,null,null,0,222]
[21,22972,22,23003,24,23026,null,null,null,null,0,222]
[21,23136,22,23140,24,23160,null,null,null,null,0,222]
[21,23256,22,23262,24,23269,null,null,null,null,0,222]
[21,23374,22,23383,24,23393,null,null,null,null,0,222]
[21,23510,22,23523,24,23550,null,null,null,null,0,222]
[21,23666,22,23683,24,23697,null,null,null,null,0,222]
[21,23801,22,23806,24,23814,null,null,null,null,0,222]
[21,23925,22,23936,24,23949,null,null,null,null,null,222]

{"sheet":"!M927750.101","index":30,"n_rows":188,"n_cols":48,"rows_kept":188,"cut":false,"hidden":false,"merged":[[4,39,4,42],[5,39,5,40],[4,44,4,47],[5,44,5,45],[4,24,4,27],[5,24,5,25],[4,29,4,32],[5,29,5,30],[4,34,4,37],[5,34,5,35],[1,1,1,2],[5,13,5,14],[18,13,18,14],[19,13,19,14],[4,19,4,22],[5,19,5,20]]}
["Report for:!M927750.101"]
["Date:","<date>"]
["Hen:","<hen>",null,null,null,"Correct Sequence",{"$f":"Start!J2","v":211},null,null,null,null,null,null,null,null,"Total Sequences in Data",{"$f":"4994-COUNTBLANK(L7:L5000)","v":182},null,null,null,null,"Total Sequences in Block Data",{"$f":"COUNTA(L7:L36)","v":30},null,null,null,"Total Sequences in Block Data",{"$f":"COUNTA(L37:L67)","v":31},null,null,null,"Total Sequences in Block Data",{"$f":"COUNTA(L68:L97)","v":30},null,null,null,"Total Sequences in Block Data",{"$f":"COUNTA(L98:L127)","v":30},null,null,null,"Total Sequences in Block Data",{"$f":"COUNTA(L128:L158)","v":31},null,null,null,"Total Sequences in Block Data",{"$f":"COUNTA(L159:L188)","v":30}]
[null,null,null,null,null,null,null,null,null,null,null,null,null,null,null,"Total Sequences in Summary",{"$f":"SUM(O7:O14)","v":182},null,null,null,null,"Total Sequences in Block Summary",{"$f":"SUM(U7:U14)","v":30},null,null,null,"Total Sequences in Block Summary",{"$f":"SUM(Z7:Z14)","v":31},null,null,null,"Total Sequences in Block Summary",{"$f":"SUM(AE7:AE14)","v":30},null,null,null,"Total Sequences in Block Summary",{"$f":"SUM(AJ7:AJ14)","v":30},null,null,null,"Total Sequences in Block Summary",{"$f":"SUM(AO7:AO14)","v":31},null,null,null,"Total Sequences in Block Summary",{"$f":"SUM(AT7:AT14)","v":30}]
[null,null,null,null,null,null,null,null,null,null,null,null,null,null,null,null,null,null,null,"Block 1",null,null,null,null,"Block 2",null,null,null,null,"Block 3",null,null,null,null,"Block 4",null,null,null,null,"Block 5",null,null,null,null,"Block 6"]
["Sequence\nComponent\n1","Time\n1","Sequence\nComponent\n2","Time\n2","Sequence\nComponent\n3","Time\n3","Sequence\nComponent\n4","Time\n4","Sequence\nComponent\n5","Time\n5","Correct?\n0=No 1=Yes","Sequence",null,"Frequency",null,"Relative Frequency","Variability",null,null,"Frequency",null,"Relative Frequency","Variability",null,"Frequency",null,"Relative Frequency","Variability",null,"Frequency",null,"Relative Frequency","Variability",null,"Frequency",null,"Relative Frequency","Variability",null,"Frequency",null,"Relative Frequency","Variability",null,"Frequency",null,"Relative Frequency","Variability"]
[21,17,22,22,24,30,null,null,null,null,0,222,null,111,{"$f":"COUNTIF($L$7:$L$500,N7)","v":0},{"$f":"O7/$Q$4","v":0},{"$f":"IF(P7=0,0,(P7*((LOG(P7))/LOG(2))))","v":0},null,null,{"$f":"N7","v":111},{"$f":"COUNTIF(L7:L36,T7)","v":0},{"$f":"U7/(W4-U11)","v":0},{"$f":"IF(V7=0,0,(V7*((LOG(V7))/LOG(2))))","v":0},null,{"$f":"N7","v":111},{"$f":"COUNTIF(L37:L67,Y7)","v":0},{"$f":"Z7/(AB4-Z11)","v":0},{"$f":"IF(AA7=0,0,(AA7*((LOG(AA7))/LOG(2))))","v":0},null,{"$f":"N7","v":111},{"$f":"COUNTIF(L68:L97,AD7)","v":0},{"$f":"AE7/(AG4-AE11)","v":0},{"$f":"IF(AF7=0,0,(AF7*((LOG(AF7))/LOG(2))))","v":0},null,{"$f":"N7","v":111},{"$f":"COUNTIF(L98:L127,AI7)","v":0},{"$f":"AJ7/(AL4-AJ11)","v":0},{"$f":"IF(AK7=0,0,(AK7*((LOG(AK7))/LOG(2))))","v":0},null,{"$f":"N7","v":111},{"$f":"COUNTIF(L128:L158,AN7)","v":0},{"$f":"AO7/(AQ4-AO11)","v":0},{"$f":"IF(AP7=0,0,(AP7*((LOG(AP7))/LOG(2))))","v":0},null,{"$f":"N7","v":111},{"$f":"COUNTIF(L159:L188,AS7)","v":0},{"$f":"AT7/(AV4-AT11)","v":0},{"$f":"IF(AU7=0,0,(AU7*((LOG(AU7))/LOG(2))))","v":0}]
[21,135,22,141,24,150,null,null,null,null,0,222,null,112,{"$f":"COUNTIF($L$7:$L$500,N8)","v":0},{"$f":"O8/$Q$4","v":0},{"$f":"IF(P8=0,0,(P8*((LOG(P8))/LOG(2))))","v":0},null,null,{"$f":"N8","v":112},{"$f":"COUNTIF(L7:L36,T8)","v":0},{"$f":"U8/(W4-U11)","v":0},{"$f":"IF(V8=0,0,(V8*((LOG(V8))/LOG(2))))","v":0},null,{"$f":"N8","v":112},{"$f":"COUNTIF(L37:L67,Y8)","v":0},{"$f":"Z8/(AB4-Z11)","v":0},{"$f":"IF(AA8=0,0,(AA8*((LOG(AA8))/LOG(2))))","v":0},null,{"$f":"N8","v":112},{"$f":"COUNTIF(L68:L97,AD8)","v":0},{"$f":"AE8/(AG4-AE11)","v":0},{"$f":"IF(AF8=0,0,(AF8*((LOG(AF8))/LOG(2))))","v":0},null,{"$f":"N8","v":112},{"$f":"COUNTIF(L98:L127,AI8)","v":0},{"$f":"AJ8/(AL4-AJ11)","v":0},{"$f":"IF(AK8=0,0,(AK8*((LOG(AK8))/LOG(2))))","v":0},null,{"$f":"N8","v":112},{"$f":"COUNTIF(L128:L158,AN8)","v":0},{"$f":"AO8/(AQ4-AO11)","v":0},{"$f":"IF(AP8=0,0,(AP8*((LOG(AP8))/LOG(2))))","v":0},null,{"$f":"N8","v":112},{"$f":"COUNTIF(L159:L188,AS8)","v":0},{"$f":"AT8/(AV4-AT11)","v":0},{"$f":"IF(AU8=0,0,(AU8*((LOG(AU8))/LOG(2))))","v":0}]
[21,253,22,260,24,272,null,null,null,null,0,222,null,121,{"$f":"COUNTIF($L$7:$L$500,N9)","v":0},{"$f":"O9/$Q$4","v":0},{"$f":"IF(P9=0,0,(P9*((LOG(P9))/LOG(2))))","v":0},null,null,{"$f":"N9","v":121},{"$f":"COUNTIF(L7:L36,T9)","v":0},{"$f":"U9/(W4-U11)","v":0},{"$f":"IF(V9=0,0,(V9*((LOG(V9))/LOG(2))))","v":0},null,{"$f":"N9","v":121},{"$f":"COUNTIF(L37:L67,Y9)","v":0},{"$f":"Z9/(AB4-Z11)","v":0},{"$f":"IF(AA9=0,0,(AA9*((LOG(AA9))/LOG(2))))","v":0},null,{"$f":"N9","v":121},{"$f":"COUNTIF(L68:L97,AD9)","v":0},{"$f":"AE9/(AG4-AE11)","v":0},{"$f":"IF(AF9=0,0,(AF9*((LOG(AF9))/LOG(2))))","v":0},null,{"$f":"N9","v":121},{"$f":"COUNTIF(L98:L127,AI9)","v":0},{"$f":"AJ9/(AL4-AJ11)","v":0},{"$f":"IF(AK9=0,0,(AK9*((LOG(AK9))/LOG(2))))","v":0},null,{"$f":"N9","v":121},{"$f":"COUNTIF(L128:L158,AN9)","v":0},{"$f":"AO9/(AQ4-AO11)","v":0},{"$f":"IF(AP9=0,0,(AP9*((LOG(AP9))/LOG(2))))","v":0},null,{"$f":"N9","v":121},{"$f":"COUNTIF(L159:L188,AS9)","v":0},{"$f":"AT9/(AV4-AT11)","v":0},{"$f":"IF(AU9=0,0,(AU9*((LOG(AU9))/LOG(2))))","v":0}]
[21,379,22,385,24,392,null,null,null,null,0,222,null,122,{"$f":"COUNTIF($L$7:$L$500,N10)","v":1},{"$f":"O10/$Q$4","v":5.4945054945054949E-3},{"$f":"IF(P10=0,0,(P10*((LOG(P10))/LOG(2))))","v":-4.1251618902190638E-2},null,null,{"$f":"N10","v":122},{"$f":"COUNTIF(L7:L36,T10)","v":0},{"$f":"U10/(W4-U11)","v":0},{"$f":"IF(V10=0,0,(V10*((LOG(V10))/LOG(2))))","v":0},null,{"$f":"N10","v":122},{"$f":"COUNTIF(L37:L67,Y10)","v":1},{"$f":"Z10/(AB4-Z11)","v":3.2258064516129031E-2},{"$f":"IF(AA10=0,0,(AA10*((LOG(AA10))/LOG(2))))","v":-0.15981278420602821},null,{"$f":"N10","v":122},{"$f":"COUNTIF(L68:L97,AD10)","v":0},{"$f":"AE10/(AG4-AE11)","v":0},{"$f":"IF(AF10=0,0,(AF10*((LOG(AF10))/LOG(2))))","v":0},null,{"$f":"N10","v":122},{"$f":"COUNTIF(L98:L127,AI10)","v":0},{"$f":"AJ10/(AL4-AJ11)","v":0},{"$f":"IF(AK10=0,0,(AK10*((LOG(AK10))/LOG(2))))","v":0},null,{"$f":"N10","v":122},{"$f":"COUNTIF(L128:L158,AN10)","v":0},{"$f":"AO10/(AQ4-AO11)","v":0},{"$f":"IF(AP10=0,0,(AP10*((LOG(AP10))/LOG(2))))","v":0},null,{"$f":"N10","v":122},{"$f":"COUNTIF(L159:L188,AS10)","v":0},{"$f":"AT10/(AV4-AT11)","v":0},{"$f":"IF(AU10=0,0,(AU10*((LOG(AU10))/LOG(2))))","v":0}]
[21,501,22,512,24,518,null,null,null,null,0,222,null,211,{"$f":"COUNTIF($L$7:$L$500,N11)","v":0},{"$f":"O11/$Q$4","v":0},{"$f":"IF(P11=0,0,(P11*((LOG(P11))/LOG(2))))","v":0},null,null,{"$f":"N11","v":211},{"$f":"COUNTIF(L7:L36,T11)","v":0},null,null,null,{"$f":"N11","v":211},{"$f":"COUNTIF(L37:L67,Y11)","v":0},null,null,null,{"$f":"N11","v":211},{"$f":"COUNTIF(L68:L97,AD11)","v":0},null,null,null,{"$f":"N11","v":211},{"$f":"COUNTIF(L98:L127,AI11)","v":0},null,null,null,{"$f":"N11","v":211},{"$f":"COUNTIF(L128:L158,AN11)","v":0},null,null,null,{"$f":"N11","v":211},{"$f":"COUNTIF(L159:L188,AS11)","v":0}]
[21,624,22,628,24,634,null,null,null,null,0,222,null,212,{"$f":"COUNTIF($L$7:$L$500,N12)","v":0},{"$f":"O12/$Q$4","v":0},{"$f":"IF(P12=0,0,(P12*((LOG(P12))/LOG(2))))","v":0},null,null,{"$f":"N12","v":212},{"$f":"COUNTIF(L7:L36,T12)","v":0},{"$f":"U12/(W4-U11)","v":0},{"$f":"IF(V12=0,0,(V12*((LOG(V12))/LOG(2))))","v":0},null,{"$f":"N12","v":212},{"$f":"COUNTIF(L37:L67,Y12)","v":0},{"$f":"Z12/(AB4-Z11)","v":0},{"$f":"IF(AA12=0,0,(AA12*((LOG(AA12))/LOG(2))))","v":0},null,{"$f":"N12","v":212},{"$f":"COUNTIF(L68:L97,AD12)","v":0},{"$f":"AE12/(AG4-AE11)","v":0},{"$f":"IF(AF12=0,0,(AF12*((LOG(AF12))/LOG(2))))","v":0},null,{"$f":"N12","v":212},{"$f":"COUNTIF(L98:L127,AI12)","v":0},{"$f":"AJ12/(AL4-AJ11)","v":0},{"$f":"IF(AK12=0,0,(AK12*((LOG(AK12))/LOG(2))))","v":0},null,{"$f":"N12","v":212},{"$f":"COUNTIF(L128:L158,AN12)","v":0},{"$f":"AO12/(AQ4-AO11)","v":0},{"$f":"IF(AP12=0,0,(AP12*((LOG(AP12))/LOG(2))))","v":0},null,{"$f":"N12","v":212},{"$f":"COUNTIF(L159:L188,AS12)","v":0},{"$f":"AT12/(AV4-AT11)","v":0},{"$f":"IF(AU12=0,0,(AU12*((LOG(AU12))/LOG(2))))","v":0}]
[21,739,22,753,24,767,null,null,null,null,0,222,null,221,{"$f":"COUNTIF($L$7:$L$500,N13)","v":0},{"$f":"O13/$Q$4","v":0},{"$f":"IF(P13=0,0,(P13*((LOG(P13))/LOG(2))))","v":0},null,null,{"$f":"N13","v":221},{"$f":"COUNTIF(L7:L36,T13)","v":0},{"$f":"U13/(W4-U11)","v":0},{"$f":"IF(V13=0,0,(V13*((LOG(V13))/LOG(2))))","v":0},null,{"$f":"N13","v":221},{"$f":"COUNTIF(L37:L67,Y13)","v":0},{"$f":"Z13/(AB4-Z11)","v":0},{"$f":"IF(AA13=0,0,(AA13*((LOG(AA13))/LOG(2))))","v":0},null,{"$f":"N13","v":221},{"$f":"COUNTIF(L68:L97,AD13)","v":0},{"$f":"AE13/(AG4-AE11)","v":0},{"$f":"IF(AF13=0,0,(AF13*((LOG(AF13))/LOG(2))))","v":0},null,{"$f":"N13","v":221},{"$f":"COUNTIF(L98:L127,AI13)","v":0},{"$f":"AJ13/(AL4-AJ11)","v":0},{"$f":"IF(AK13=0,0,(AK13*((LOG(AK13))/LOG(2))))","v":0},null,{"$f":"N13","v":221},{"$f":"COUNTIF(L128:L158,AN13)","v":0},{"$f":"AO13/(AQ4-AO11)","v":0},{"$f":"IF(AP13=0,0,(AP13*((LOG(AP13))/LOG(2))))","v":0},null,{"$f":"N13","v":221},{"$f":"COUNTIF(L159:L188,AS13)","v":0},{"$f":"AT13/(AV4-AT11)","v":0},{"$f":"IF(AU13=0,0,(AU13*((LOG(AU13))/LOG(2))))","v":0}]
[21,888,22,898,24,910,null,null,null,null,0,222,null,222,{"$f":"COUNTIF($L$7:$L$500,N14)","v":181},{"$f":"O14/$Q$4","v":0.99450549450549453},{"$f":"IF(P14=0,0,(P14*((LOG(P14))/LOG(2))))","v":-7.9050786478233465E-3},null,null,{"$f":"N14","v":222},{"$f":"COUNTIF(L7:L36,T14)","v":30},{"$f":"U14/(W4-U11)","v":1},{"$f":"IF(V14=0,0,(V14*((LOG(V14))/LOG(2))))","v":0},null,{"$f":"N14","v":222},{"$f":"COUNTIF(L37:L67,Y14)","v":30},{"$f":"Z14/(AB4-Z11)","v":0.967741935483871},{"$f":"IF(AA14=0,0,(AA14*((LOG(AA14))/LOG(2))))","v":-4.5779723979054811E-2},null,{"$f":"N14","v":222},{"$f":"COUNTIF(L68:L97,AD14)","v":30},{"$f":"AE14/(AG4-AE11)","v":1},{"$f":"IF(AF14=0,0,(AF14*((LOG(AF14))/LOG(2))))","v":0},null,{"$f":"N14","v":222},{"$f":"COUNTIF(L98:L127,AI14)","v":30},{"$f":"AJ14/(AL4-AJ11)","v":1},{"$f":"IF(AK14=0,0,(AK14*((LOG(AK14))/LOG(2))))","v":0},null,{"$f":"N14","v":222},{"$f":"COUNTIF(L128:L158,AN14)","v":31},{"$f":"AO14/(AQ4-AO11)","v":1},{"$f":"IF(AP14=0,0,(AP14*((LOG(AP14))/LOG(2))))","v":0},null,{"$f":"N14","v":222},{"$f":"COUNTIF(L159:L188,AS14)","v":30},{"$f":"AT14/(AV4-AT11)","v":1},{"$f":"IF(AU14=0,0,(AU14*((LOG(AU14))/LOG(2))))","v":0}]
[21,1010,22,1016,24,1046,null,null,null,null,0,222,null,null,null,{"$f":"SUM(P7:P14)","v":1},{"$f":"-SUM(Q7:Q14)","v":4.9156697550013985E-2},null,null,null,null,{"$f":"SUM(V7:V14)","v":1},{"$f":"-SUM(W7:W14)","v":0},null,null,null,{"$f":"SUM(AA7:AA14)","v":1},{"$f":"-SUM(AB7:AB14)","v":0.20559250818508301},null,null,null,{"$f":"SUM(AF7:AF14)","v":1},{"$f":"-SUM(AG7:AG14)","v":0},null,null,null,{"$f":"SUM(AK7:AK14)","v":1},{"$f":"-SUM(AL7:AL14)","v":0},null,null,null,{"$f":"SUM(AP7:AP14)","v":1},{"$f":"-SUM(AQ7:AQ14)","v":0},null,null,null,{"$f":"SUM(AU7:AU14)","v":1},{"$f":"-SUM(AV7:AV14)","v":0}]
[21,1163,22,1170,24,1177,null,null,null,null,0,222,null,null,null,"U=",{"$f":"Q15/(LOG(Q4)/LOG(2))","v":6.5474217004839446E-3},null,null,null,null,"U1=",{"$f":"W15/(LOG(W4)/LOG(2))","v":0},null,null,null,"U2=",{"$f":"AB15/(LOG(AB4)/LOG(2))","v":4.1498659985281898E-2},null,null,null,"U3=",{"$f":"AG15/(LOG(AG4)/LOG(2))","v":0},null,null,null,"U4=",{"$f":"AL15/(LOG(AL4)/LOG(2))","v":0},null,null,null,"U5=",{"$f":"AQ15/(LOG(AQ4)/LOG(2))","v":0},null,null,null,"U6=",{"$f":"AV15/(LOG(AV4)/LOG(2))","v":0}]
[21,1291,22,1296,24,1309,null,null,null,null,0,222]
[21,1420,22,1426,24,1443,null,null,null,null,0,222]
[21,1547,22,1552,24,1557,null,null,null,null,0,222,null,"Total Target Seq"]
[21,1671,22,1676,24,1700,null,null,null,null,0,222,null,{"$f":"COUNTIF(L7:L188,G3)","v":0},null,30,31,30,30,31,30]
[21,1807,22,1812,24,1819,null,null,null,null,0,222,null,null,null,"% of reinforcement given in 6 equal intervals based on number of trials "]
[21,1925,22,1936,24,1948,null,null,null,null,0,222,null,null,null,"%_1","%_2","%_3","%_4","%_5","%_6"]
[21,2069,22,2084,24,2108,null,null,null,null,0,222,null,null,"target sequence",{"$f":"$G$3","v":211},{"$f":"$G$3","v":211},{"$f":"$G$3","v":211},{"$f":"$G$3","v":211},{"$f":"$G$3","v":211},{"$f":"$G$3","v":211}]
[21,2219,22,2229,24,2236,null,null,null,null,0,222,null,null,"total reinforcement",{"$f":"U11","v":0},{"$f":"Z11","v":0},{"$f":"AE11","v":0},{"$f":"AJ11","v":0},{"$f":"AO11","v":0},{"$f":"AT11","v":0}]
[21,2342,22,2346,24,2361,null,null,null,null,0,222,null,null,"% target"]
[21,2467,22,2472,24,2479,null,null,null,null,0,222,null,null,"CCRF"]
[21,2600,22,2609,24,2617,null,null,null,null,0,222,null,null,"% CCRf"]
[21,2729,22,2783,24,2811,null,null,null,null,0,222,null,null,"average response rate",{"$f":"F36/P20","v":130.4},{"$f":"(F67-F36)/Q20","v":133.48387096774192},{"$f":"(F97-F67)/R20","v":135.69999999999999},{"$f":"(F127-F97)/S20","v":127.03333333333333},{"$f":"(F158-F127)/T20","v":128.45161290322579},{"$f":"(F188-F158)/U20","v":133.46666666666667}]
[21,2917,22,2922,24,2934,null,null,null,null,0,222]
[21,3043,22,3071,24,3087,null,null,null,null,0,222]
[21,3192,22,3200,24,3206,null,null,null,null,0,222]
[21,3311,22,3316,24,3322,null,null,null,null,0,222]
[21,3440,22,3446,24,3459,null,null,null,null,0,222]
[21,3577,22,3588,24,3669,null,null,null,null,0,222]
[21,3774,22,3779,24,3789,null,null,null,null,0,222]
[21,3894,22,3903,24,3912,null,null,null,null,0,222]
[21,4015,22,4020,24,4029,null,null,null,null,0,222]
[21,4157,22,4162,24,4176,null,null,null,null,0,222]
[21,4293,22,4300,24,4315,null,null,null,null,0,222]
[21,4420,22,4426,24,4438,null,null,null,null,0,222]
[21,4543,22,4548,24,4566,null,null,null,null,0,222]
[21,4677,22,4690,24,4699,null,null,null,null,0,222]
[21,4806,22,4812,24,4832,null,null,null,null,0,222]
[21,4945,22,4958,24,4964,null,null,null,null,0,222]
[21,5079,22,5085,24,5110,null,null,null,null,0,222]
[21,5218,22,5223,24,5232,null,null,null,null,0,222]
[21,5333,22,5347,24,5357,null,null,null,null,0,222]
[21,5460,22,5465,24,5474,null,null,null,null,0,222]
[21,5590,22,5600,24,5614,null,null,null,null,0,222]
[21,5721,22,5726,24,5732,null,null,null,null,0,222]
[21,5835,22,5846,24,5854,null,null,null,null,0,222]
[21,5956,22,5979,24,5997,null,null,null,null,0,222]
[21,6096,22,6101,24,6112,null,null,null,null,0,222]
[21,6223,22,6234,24,6246,null,null,null,null,0,222]
[21,6369,22,6380,24,6393,null,null,null,null,0,222]
[21,6501,22,6506,24,6512,null,null,null,null,0,222]
[21,6635,22,6648,24,6658,null,null,null,null,0,222]
[21,6771,22,6778,24,6810,null,null,null,null,0,222]
[21,6912,22,6917,24,6930,null,null,null,null,0,222]
[21,7051,22,7079,24,7119,null,null,null,null,0,222]
[21,7237,22,7242,24,7257,null,null,null,null,0,222]
[21,7364,22,7374,24,7386,null,null,null,null,0,222]
[21,7499,22,7505,24,7512,null,null,null,null,0,222]
[12,7608,24,7618,24,7668,null,null,null,null,0,122]
[21,7771,22,7777,24,7783,null,null,null,null,0,222]
[21,7882,22,7891,24,7897,null,null,null,null,0,222]
[21,8012,22,8023,24,8050,null,null,null,null,0,222]
[21,8155,22,8165,24,8193,null,null,null,null,0,222]
[21,8312,22,8322,24,8337,null,null,null,null,0,222]
[21,8457,22,8465,24,8500,null,null,null,null,0,222]
[21,8614,22,8620,24,8643,null,null,null,null,0,222]
[21,8754,22,8787,24,8800,null,null,null,null,0,222]
[21,8910,22,8930,24,8959,null,null,null,null,0,222]
[21,9096,22,9106,24,9120,null,null,null,null,0,222]
[21,9224,22,9230,24,9235,null,null,null,null,0,222]
[21,9347,22,9354,24,9360,null,null,null,null,0,222]
[21,9493,22,9508,24,9520,null,null,null,null,0,222]
[21,9634,22,9639,24,9650,null,null,null,null,0,222]
[21,9754,22,9760,24,9769,null,null,null,null,0,222]
[21,9883,22,9898,24,9916,null,null,null,null,0,222]
[21,10014,22,10019,24,10025,null,null,null,null,0,222]
[21,10138,22,10174,24,10186,null,null,null,null,0,222]
[21,10295,22,10301,24,10308,null,null,null,null,0,222]
[21,10416,22,10431,24,10443,null,null,null,null,0,222]
[21,10540,22,10547,24,10563,null,null,null,null,0,222]
[21,10677,22,10682,24,10694,null,null,null,null,0,222]
[21,10802,22,10814,24,10879,null,null,null,null,0,222]
[21,10991,22,11002,24,11015,null,null,null,null,0,222]
[21,11112,22,11117,24,11127,null,null,null,null,0,222]
[21,11226,22,11231,24,11239,null,null,null,null,0,222]
[21,11348,22,11357,24,11370,null,null,null,null,0,222]
[21,11474,22,11480,24,11526,null,null,null,null,0,222]
[21,11625,22,11631,24,11642,null,null,null,null,0,222]
[21,11745,22,11750,24,11755,null,null,null,null,0,222]
[21,11864,22,11870,24,11879,null,null,null,null,0,222]
[21,11983,22,11994,24,12007,null,null,null,null,0,222]
[21,12107,22,12113,24,12121,null,null,null,null,0,222]
[21,12225,22,12231,24,12241,null,null,null,null,0,222]
[21,12364,22,12383,24,12396,null,null,null,null,0,222]
[21,12506,22,12511,24,12516,null,null,null,null,0,222]
[21,12630,22,12636,24,12654,null,null,null,null,0,222]
[21,12759,22,12768,24,12783,null,null,null,null,0,222]
[21,12886,22,12891,24,12896,null,null,null,null,0,222]
[21,13004,22,13017,24,13022,null,null,null,null,0,222]
[21,13124,22,13129,24,13134,null,null,null,null,0,222]
[21,13239,22,13245,24,13261,null,null,null,null,0,222]
[21,13363,22,13373,24,13380,null,null,null,null,0,222]
[21,13482,22,13488,24,13504,null,null,null,null,0,222]
[21,13618,22,13626,24,13639,null,null,null,null,0,222]
[21,13741,22,13748,24,13753,null,null,null,null,0,222]
[21,13868,22,13873,24,13879,null,null,null,null,0,222]
[21,13990,22,13995,24,14018,null,null,null,null,0,222]
[21,14121,22,14132,24,14141,null,null,null,null,0,222]
[21,14243,22,14257,24,14279,null,null,null,null,0,222]
[21,14382,22,14394,24,14413,null,null,null,null,0,222]
[21,14535,22,14550,24,14558,null,null,null,null,0,222]
[21,14661,22,14666,24,14671,null,null,null,null,0,222]
[21,14772,22,14804,24,14813,null,null,null,null,0,222]
[21,14929,22,14946,24,14956,null,null,null,null,0,222]
[21,15053,22,15067,24,15079,null,null,null,null,0,222]
[21,15187,22,15193,24,15205,null,null,null,null,0,222]
[21,15302,22,15307,24,15313,null,null,null,null,0,222]
[21,15416,22,15421,24,15428,null,null,null,null,0,222]
[21,15529,22,15549,24,15557,null,null,null,null,0,222]
[21,15661,22,15666,24,15672,null,null,null,null,0,222]
[21,15776,22,15794,24,15808,null,null,null,null,0,222]
[21,15909,22,15914,24,15932,null,null,null,null,0,222]
[21,16044,22,16051,24,16063,null,null,null,null,0,222]
[21,16173,22,16180,24,16194,null,null,null,null,0,222]
[21,16318,22,16324,24,16338,null,null,null,null,0,222]
[21,16440,22,16445,24,16455,null,null,null,null,0,222]
[21,16558,22,16576,24,16587,null,null,null,null,0,222]
[21,16690,22,16696,24,16700,null,null,null,null,0,222]
[21,16805,22,16811,24,16826,null,null,null,null,0,222]
[21,16929,22,16934,24,16944,null,null,null,null,0,222]
[21,17052,22,17057,24,17070,null,null,null,null,0,222]
[21,17183,22,17189,24,17196,null,null,null,null,0,222]
[21,17303,22,17314,24,17334,null,null,null,null,0,222]
[21,17432,22,17467,24,17476,null,null,null,null,0,222]
[21,17578,22,17584,24,17606,null,null,null,null,0,222]
[21,17712,22,17718,24,17729,null,null,null,null,0,222]
[21,17836,22,17848,24,17864,null,null,null,null,0,222]
[21,17984,22,17996,24,18016,null,null,null,null,0,222]
[21,18126,22,18133,24,18147,null,null,null,null,0,222]
[21,18249,22,18255,24,18272,null,null,null,null,0,222]
[21,18382,22,18391,24,18398,null,null,null,null,0,222]
[21,18503,22,18509,24,18515,null,null,null,null,0,222]
[21,18617,22,18626,24,18631,null,null,null,null,0,222]
[21,18746,22,18751,24,18759,null,null,null,null,0,222]
[21,18860,22,18866,24,18877,null,null,null,null,0,222]
[21,18981,22,18989,24,19000,null,null,null,null,0,222]
[21,19111,22,19117,24,19124,null,null,null,null,0,222]
[21,19233,22,19238,24,19261,null,null,null,null,0,222]
[21,19362,22,19373,24,19387,null,null,null,null,0,222]
[21,19498,22,19514,24,19522,null,null,null,null,0,222]
[21,19631,22,19641,24,19657,null,null,null,null,0,222]
[21,19770,22,19778,24,19791,null,null,null,null,0,222]
[21,19892,22,19901,24,19914,null,null,null,null,0,222]
[21,20024,22,20034,24,20048,null,null,null,null,0,222]
[21,20149,22,20155,24,20161,null,null,null,null,0,222]
[21,20262,22,20268,24,20303,null,null,null,null,0,222]
[21,20409,22,20414,24,20424,null,null,null,null,0,222]
[21,20534,22,20540,24,20555,null,null,null,null,0,222]
[21,20651,22,20657,24,20701,null,null,null,null,0,222]
[21,20811,22,20822,24,20828,null,null,null,null,0,222]
[21,20940,22,20946,24,20966,null,null,null,null,0,222]
[21,21068,22,21074,24,21090,null,null,null,null,0,222]
[21,21198,22,21210,24,21226,null,null,null,null,0,222]
[21,21329,22,21335,24,21367,null,null,null,null,0,222]
[21,21479,22,21490,24,21506,null,null,null,null,0,222]
[21,21611,22,21621,24,21635,null,null,null,null,0,222]
[21,21743,22,21754,24,21763,null,null,null,null,0,222]
[21,21882,22,21888,24,21893,null,null,null,null,0,222]
[21,22001,22,22009,24,22020,null,null,null,null,0,222]
[21,22120,22,22131,24,22138,null,null,null,null,0,222]
[21,22243,22,22254,24,22270,null,null,null,null,0,222]
[21,22379,22,22404,24,22414,null,null,null,null,0,222]
[21,22527,22,22533,24,22546,null,null,null,null,0,222]
[21,22658,22,22695,24,22707,null,null,null,null,0,222]
[21,22812,22,22823,24,22832,null,null,null,null,0,222]
[21,22944,22,22956,24,22971,null,null,null,null,0,222]
[21,23091,22,23110,24,23124,null,null,null,null,0,222]
[21,23242,22,23262,24,23273,null,null,null,null,0,222]
[21,23378,22,23390,24,23403,null,null,null,null,0,222]
[21,23509,22,23521,24,23528,null,null,null,null,0,222]
[21,23637,22,23651,24,23660,null,null,null,null,0,222]
[21,23773,22,23779,24,23790,null,null,null,null,0,222]
[21,23898,22,23910,24,23918,null,null,null,null,null,222]

{"sheet":"!M928850.101","index":31,"n_rows":200,"n_cols":48,"rows_kept":200,"cut":false,"hidden":false,"merged":[[4,39,4,42],[5,39,5,40],[4,44,4,47],[5,44,5,45],[4,24,4,27],[5,24,5,25],[4,29,4,32],[5,29,5,30],[4,34,4,37],[5,34,5,35],[1,1,1,2],[5,13,5,14],[18,13,18,14],[19,13,19,14],[4,19,4,22],[5,19,5,20]]}
["Report for:!M928850.101"]
["Date:","<date>"]
["Hen:","<hen>",null,null,null,"Correct Sequence",{"$f":"Start!J2","v":211},null,null,null,null,null,null,null,null,"Total Sequences in Data",{"$f":"4994-COUNTBLANK(L7:L5000)","v":194},null,null,null,null,"Total Sequences in Block Data",{"$f":"COUNTA(L7:L38)","v":32},null,null,null,"Total Sequences in Block Data",{"$f":"COUNTA(L39:L71)","v":33},null,null,null,"Total Sequences in Block Data",{"$f":"COUNTA(L72:L103)","v":32},null,null,null,"Total Sequences in Block Data",{"$f":"COUNTA(L104:L135)","v":32},null,null,null,"Total Sequences in Block Data",{"$f":"COUNTA(L136:L168)","v":33},null,null,null,"Total Sequences in Block Data",{"$f":"COUNTA(L169:L200)","v":32}]
[null,null,null,null,null,null,null,null,null,null,null,null,null,null,null,"Total Sequences in Summary",{"$f":"SUM(O7:O14)","v":194},null,null,null,null,"Total Sequences in Block Summary",{"$f":"SUM(U7:U14)","v":32},null,null,null,"Total Sequences in Block Summary",{"$f":"SUM(Z7:Z14)","v":33},null,null,null,"Total Sequences in Block Summary",{"$f":"SUM(AE7:AE14)","v":32},null,null,null,"Total Sequences in Block Summary",{"$f":"SUM(AJ7:AJ14)","v":32},null,null,null,"Total Sequences in Block Summary",{"$f":"SUM(AO7:AO14)","v":33},null,null,null,"Total Sequences in Block Summary",{"$f":"SUM(AT7:AT14)","v":32}]
[null,null,null,null,null,null,null,null,null,null,null,null,null,null,null,null,null,null,null,"Block 1",null,null,null,null,"Block 2",null,null,null,null,"Block 3",null,null,null,null,"Block 4",null,null,null,null,"Block 5",null,null,null,null,"Block 6"]
["Sequence\nComponent\n1","Time\n1","Sequence\nComponent\n2","Time\n2","Sequence\nComponent\n3","Time\n3","Sequence\nComponent\n4","Time\n4","Sequence\nComponent\n5","Time\n5","Correct?\n0=No 1=Yes","Sequence",null,"Frequency",null,"Relative Frequency","Variability",null,null,"Frequency",null,"Relative Frequency","Variability",null,"Frequency",null,"Relative Frequency","Variability",null,"Frequency",null,"Relative Frequency","Variability",null,"Frequency",null,"Relative Frequency","Variability",null,"Frequency",null,"Relative Frequency","Variability",null,"Frequency",null,"Relative Frequency","Variability"]
[21,25,22,30,24,37,null,null,null,null,0,222,null,111,{"$f":"COUNTIF($L$7:$L$500,N7)","v":0},{"$f":"O7/$Q$4","v":0},{"$f":"IF(P7=0,0,(P7*((LOG(P7))/LOG(2))))","v":0},null,null,{"$f":"N7","v":111},{"$f":"COUNTIF(L7:L38,T7)","v":0},{"$f":"U7/(W4-U11)","v":0},{"$f":"IF(V7=0,0,(V7*((LOG(V7))/LOG(2))))","v":0},null,{"$f":"N7","v":111},{"$f":"COUNTIF(L39:L71,Y7)","v":0},{"$f":"Z7/(AB4-Z11)","v":0},{"$f":"IF(AA7=0,0,(AA7*((LOG(AA7))/LOG(2))))","v":0},null,{"$f":"N7","v":111},{"$f":"COUNTIF(L72:L103,AD7)","v":0},{"$f":"AE7/(AG4-AE11)","v":0},{"$f":"IF(AF7=0,0,(AF7*((LOG(AF7))/LOG(2))))","v":0},null,{"$f":"N7","v":111},{"$f":"COUNTIF(L104:L135,AI7)","v":0},{"$f":"AJ7/(AL4-AJ11)","v":0},{"$f":"IF(AK7=0,0,(AK7*((LOG(AK7))/LOG(2))))","v":0},null,{"$f":"N7","v":111},{"$f":"COUNTIF(L136:L168,AN7)","v":0},{"$f":"AO7/(AQ4-AO11)","v":0},{"$f":"IF(AP7=0,0,(AP7*((LOG(AP7))/LOG(2))))","v":0},null,{"$f":"N7","v":111},{"$f":"COUNTIF(L169:L200,AS7)","v":0},{"$f":"AT7/(AV4-AT11)","v":0},{"$f":"IF(AU7=0,0,(AU7*((LOG(AU7))/LOG(2))))","v":0}]
[21,156,22,170,24,182,null,null,null,null,0,222,null,112,{"$f":"COUNTIF($L$7:$L$500,N8)","v":0},{"$f":"O8/$Q$4","v":0},{"$f":"IF(P8=0,0,(P8*((LOG(P8))/LOG(2))))","v":0},null,null,{"$f":"N8","v":112},{"$f":"COUNTIF(L7:L38,T8)","v":0},{"$f":"U8/(W4-U11)","v":0},{"$f":"IF(V8=0,0,(V8*((LOG(V8))/LOG(2))))","v":0},null,{"$f":"N8","v":112},{"$f":"COUNTIF(L39:L71,Y8)","v":0},{"$f":"Z8/(AB4-Z11)","v":0},{"$f":"IF(AA8=0,0,(AA8*((LOG(AA8))/LOG(2))))","v":0},null,{"$f":"N8","v":112},{"$f":"COUNTIF(L72:L103,AD8)","v":0},{"$f":"AE8/(AG4-AE11)","v":0},{"$f":"IF(AF8=0,0,(AF8*((LOG(AF8))/LOG(2))))","v":0},null,{"$f":"N8","v":112},{"$f":"COUNTIF(L104:L135,AI8)","v":0},{"$f":"AJ8/(AL4-AJ11)","v":0},{"$f":"IF(AK8=0,0,(AK8*((LOG(AK8))/LOG(2))))","v":0},null,{"$f":"N8","v":112},{"$f":"COUNTIF(L136:L168,AN8)","v":0},{"$f":"AO8/(AQ4-AO11)","v":0},{"$f":"IF(AP8=0,0,(AP8*((LOG(AP8))/LOG(2))))","v":0},null,{"$f":"N8","v":112},{"$f":"COUNTIF(L169:L200,AS8)","v":0},{"$f":"AT8/(AV4-AT11)","v":0},{"$f":"IF(AU8=0,0,(AU8*((LOG(AU8))/LOG(2))))","v":0}]
[21,286,22,292,24,299,null,null,null,null,0,222,null,121,{"$f":"COUNTIF($L$7:$L$500,N9)","v":0},{"$f":"O9/$Q$4","v":0},{"$f":"IF(P9=0,0,(P9*((LOG(P9))/LOG(2))))","v":0},null,null,{"$f":"N9","v":121},{"$f":"COUNTIF(L7:L38,T9)","v":0},{"$f":"U9/(W4-U11)","v":0},{"$f":"IF(V9=0,0,(V9*((LOG(V9))/LOG(2))))","v":0},null,{"$f":"N9","v":121},{"$f":"COUNTIF(L39:L71,Y9)","v":0},{"$f":"Z9/(AB4-Z11)","v":0},{"$f":"IF(AA9=0,0,(AA9*((LOG(AA9))/LOG(2))))","v":0},null,{"$f":"N9","v":121},{"$f":"COUNTIF(L72:L103,AD9)","v":0},{"$f":"AE9/(AG4-AE11)","v":0},{"$f":"IF(AF9=0,0,(AF9*((LOG(AF9))/LOG(2))))","v":0},null,{"$f":"N9","v":121},{"$f":"COUNTIF(L104:L135,AI9)","v":0},{"$f":"AJ9/(AL4-AJ11)","v":0},{"$f":"IF(AK9=0,0,(AK9*((LOG(AK9))/LOG(2))))","v":0},null,{"$f":"N9","v":121},{"$f":"COUNTIF(L136:L168,AN9)","v":0},{"$f":"AO9/(AQ4-AO11)","v":0},{"$f":"IF(AP9=0,0,(AP9*((LOG(AP9))/LOG(2))))","v":0},null,{"$f":"N9","v":121},{"$f":"COUNTIF(L169:L200,AS9)","v":0},{"$f":"AT9/(AV4-AT11)","v":0},{"$f":"IF(AU9=0,0,(AU9*((LOG(AU9))/LOG(2))))","v":0}]
[21,401,22,407,24,412,null,null,null,null,0,222,null,122,{"$f":"COUNTIF($L$7:$L$500,N10)","v":2},{"$f":"O10/$Q$4","v":1.0309278350515464E-2},{"$f":"IF(P10=0,0,(P10*((LOG(P10))/LOG(2))))","v":-6.8040338579248724E-2},null,null,{"$f":"N10","v":122},{"$f":"COUNTIF(L7:L38,T10)","v":1},{"$f":"U10/(W4-U11)","v":3.125E-2},{"$f":"IF(V10=0,0,(V10*((LOG(V10))/LOG(2))))","v":-0.15625},null,{"$f":"N10","v":122},{"$f":"COUNTIF(L39:L71,Y10)","v":0},{"$f":"Z10/(AB4-Z11)","v":0},{"$f":"IF(AA10=0,0,(AA10*((LOG(AA10))/LOG(2))))","v":0},null,{"$f":"N10","v":122},{"$f":"COUNTIF(L72:L103,AD10)","v":0},{"$f":"AE10/(AG4-AE11)","v":0},{"$f":"IF(AF10=0,0,(AF10*((LOG(AF10))/LOG(2))))","v":0},null,{"$f":"N10","v":122},{"$f":"COUNTIF(L104:L135,AI10)","v":0},{"$f":"AJ10/(AL4-AJ11)","v":0},{"$f":"IF(AK10=0,0,(AK10*((LOG(AK10))/LOG(2))))","v":0},null,{"$f":"N10","v":122},{"$f":"COUNTIF(L136:L168,AN10)","v":1},{"$f":"AO10/(AQ4-AO11)","v":3.0303030303030304E-2},{"$f":"IF(AP10=0,0,(AP10*((LOG(AP10))/LOG(2))))","v":-0.15286042785934709},null,{"$f":"N10","v":122},{"$f":"COUNTIF(L169:L200,AS10)","v":0},{"$f":"AT10/(AV4-AT11)","v":0},{"$f":"IF(AU10=0,0,(AU10*((LOG(AU10))/LOG(2))))","v":0}]
[21,519,22,525,24,529,null,null,null,null,0,222,null,211,{"$f":"COUNTIF($L$7:$L$500,N11)","v":0},{"$f":"O11/$Q$4","v":0},{"$f":"IF(P11=0,0,(P11*((LOG(P11))/LOG(2))))","v":0},null,null,{"$f":"N11","v":211},{"$f":"COUNTIF(L7:L38,T11)","v":0},null,null,null,{"$f":"N11","v":211},{"$f":"COUNTIF(L39:L71,Y11)","v":0},null,null,null,{"$f":"N11","v":211},{"$f":"COUNTIF(L72:L103,AD11)","v":0},null,null,null,{"$f":"N11","v":211},{"$f":"COUNTIF(L104:L135,AI11)","v":0},null,null,null,{"$f":"N11","v":211},{"$f":"COUNTIF(L136:L168,AN11)","v":0},null,null,null,{"$f":"N11","v":211},{"$f":"COUNTIF(L169:L200,AS11)","v":0}]
[12,635,24,647,24,652,null,null,null,null,0,122,null,212,{"$f":"COUNTIF($L$7:$L$500,N12)","v":0},{"$f":"O12/$Q$4","v":0},{"$f":"IF(P12=0,0,(P12*((LOG(P12))/LOG(2))))","v":0},null,null,{"$f":"N12","v":212},{"$f":"COUNTIF(L7:L38,T12)","v":0},{"$f":"U12/(W4-U11)","v":0},{"$f":"IF(V12=0,0,(V12*((LOG(V12))/LOG(2))))","v":0},null,{"$f":"N12","v":212},{"$f":"COUNTIF(L39:L71,Y12)","v":0},{"$f":"Z12/(AB4-Z11)","v":0},{"$f":"IF(AA12=0,0,(AA12*((LOG(AA12))/LOG(2))))","v":0},null,{"$f":"N12","v":212},{"$f":"COUNTIF(L72:L103,AD12)","v":0},{"$f":"AE12/(AG4-AE11)","v":0},{"$f":"IF(AF12=0,0,(AF12*((LOG(AF12))/LOG(2))))","v":0},null,{"$f":"N12","v":212},{"$f":"COUNTIF(L104:L135,AI12)","v":0},{"$f":"AJ12/(AL4-AJ11)","v":0},{"$f":"IF(AK12=0,0,(AK12*((LOG(AK12))/LOG(2))))","v":0},null,{"$f":"N12","v":212},{"$f":"COUNTIF(L136:L168,AN12)","v":0},{"$f":"AO12/(AQ4-AO11)","v":0},{"$f":"IF(AP12=0,0,(AP12*((LOG(AP12))/LOG(2))))","v":0},null,{"$f":"N12","v":212},{"$f":"COUNTIF(L169:L200,AS12)","v":0},{"$f":"AT12/(AV4-AT11)","v":0},{"$f":"IF(AU12=0,0,(AU12*((LOG(AU12))/LOG(2))))","v":0}]
[21,758,22,767,24,777,null,null,null,null,0,222,null,221,{"$f":"COUNTIF($L$7:$L$500,N13)","v":0},{"$f":"O13/$Q$4","v":0},{"$f":"IF(P13=0,0,(P13*((LOG(P13))/LOG(2))))","v":0},null,null,{"$f":"N13","v":221},{"$f":"COUNTIF(L7:L38,T13)","v":0},{"$f":"U13/(W4-U11)","v":0},{"$f":"IF(V13=0,0,(V13*((LOG(V13))/LOG(2))))","v":0},null,{"$f":"N13","v":221},{"$f":"COUNTIF(L39:L71,Y13)","v":0},{"$f":"Z13/(AB4-Z11)","v":0},{"$f":"IF(AA13=0,0,(AA13*((LOG(AA13))/LOG(2))))","v":0},null,{"$f":"N13","v":221},{"$f":"COUNTIF(L72:L103,AD13)","v":0},{"$f":"AE13/(AG4-AE11)","v":0},{"$f":"IF(AF13=0,0,(AF13*((LOG(AF13))/LOG(2))))","v":0},null,{"$f":"N13","v":221},{"$f":"COUNTIF(L104:L135,AI13)","v":0},{"$f":"AJ13/(AL4-AJ11)","v":0},{"$f":"IF(AK13=0,0,(AK13*((LOG(AK13))/LOG(2))))","v":0},null,{"$f":"N13","v":221},{"$f":"COUNTIF(L136:L168,AN13)","v":0},{"$f":"AO13/(AQ4-AO11)","v":0},{"$f":"IF(AP13=0,0,(AP13*((LOG(AP13))/LOG(2))))","v":0},null,{"$f":"N13","v":221},{"$f":"COUNTIF(L169:L200,AS13)","v":0},{"$f":"AT13/(AV4-AT11)","v":0},{"$f":"IF(AU13=0,0,(AU13*((LOG(AU13))/LOG(2))))","v":0}]
[21,884,22,893,24,900,null,null,null,null,0,222,null,222,{"$f":"COUNTIF($L$7:$L$500,N14)","v":192},{"$f":"O14/$Q$4","v":0.98969072164948457},{"$f":"IF(P14=0,0,(P14*((LOG(P14))/LOG(2))))","v":-1.4796214234363492E-2},null,null,{"$f":"N14","v":222},{"$f":"COUNTIF(L7:L38,T14)","v":31},{"$f":"U14/(W4-U11)","v":0.96875},{"$f":"IF(V14=0,0,(V14*((LOG(V14))/LOG(2))))","v":-4.4372324312714644E-2},null,{"$f":"N14","v":222},{"$f":"COUNTIF(L39:L71,Y14)","v":33},{"$f":"Z14/(AB4-Z11)","v":1},{"$f":"IF(AA14=0,0,(AA14*((LOG(AA14))/LOG(2))))","v":0},null,{"$f":"N14","v":222},{"$f":"COUNTIF(L72:L103,AD14)","v":32},{"$f":"AE14/(AG4-AE11)","v":1},{"$f":"IF(AF14=0,0,(AF14*((LOG(AF14))/LOG(2))))","v":0},null,{"$f":"N14","v":222},{"$f":"COUNTIF(L104:L135,AI14)","v":32},{"$f":"AJ14/(AL4-AJ11)","v":1},{"$f":"IF(AK14=0,0,(AK14*((LOG(AK14))/LOG(2))))","v":0},null,{"$f":"N14","v":222},{"$f":"COUNTIF(L136:L168,AN14)","v":32},{"$f":"AO14/(AQ4-AO11)","v":0.96969696969696972},{"$f":"IF(AP14=0,0,(AP14*((LOG(AP14))/LOG(2))))","v":-4.3048843014257841E-2},null,{"$f":"N14","v":222},{"$f":"COUNTIF(L169:L200,AS14)","v":32},{"$f":"AT14/(AV4-AT11)","v":1},{"$f":"IF(AU14=0,0,(AU14*((LOG(AU14))/LOG(2))))","v":0}]
[21,1003,22,1009,24,1019,null,null,null,null,0,222,null,null,null,{"$f":"SUM(P7:P14)","v":1},{"$f":"-SUM(Q7:Q14)","v":8.2836552813612213E-2},null,null,null,null,{"$f":"SUM(V7:V14)","v":1},{"$f":"-SUM(W7:W14)","v":0.20062232431271465},null,null,null,{"$f":"SUM(AA7:AA14)","v":1},{"$f":"-SUM(AB7:AB14)","v":0},null,null,null,{"$f":"SUM(AF7:AF14)","v":1},{"$f":"-SUM(AG7:AG14)","v":0},null,null,null,{"$f":"SUM(AK7:AK14)","v":1},{"$f":"-SUM(AL7:AL14)","v":0},null,null,null,{"$f":"SUM(AP7:AP14)","v":1},{"$f":"-SUM(AQ7:AQ14)","v":0.19590927087360493},null,null,null,{"$f":"SUM(AU7:AU14)","v":1},{"$f":"-SUM(AV7:AV14)","v":0}]
[21,1140,22,1145,24,1150,null,null,null,null,0,222,null,null,null,"U=",{"$f":"Q15/(LOG(Q4)/LOG(2))","v":1.0899671421728204E-2},null,null,null,null,"U1=",{"$f":"W15/(LOG(W4)/LOG(2))","v":4.0124464862542931E-2},null,null,null,"U2=",{"$f":"AB15/(LOG(AB4)/LOG(2))","v":0},null,null,null,"U3=",{"$f":"AG15/(LOG(AG4)/LOG(2))","v":0},null,null,null,"U4=",{"$f":"AL15/(LOG(AL4)/LOG(2))","v":0},null,null,null,"U5=",{"$f":"AQ15/(LOG(AQ4)/LOG(2))","v":3.8837027051827726E-2},null,null,null,"U6=",{"$f":"AV15/(LOG(AV4)/LOG(2))","v":0}]
[21,1254,22,1260,24,1264,null,null,null,null,0,222]
[21,1377,22,1382,24,1386,null,null,null,null,0,222]
[21,1485,22,1490,24,1498,null,null,null,null,0,222,null,"Total Target Seq"]
[21,1600,22,1612,24,1617,null,null,null,null,0,222,null,{"$f":"COUNTIF(L7:L200,G3)","v":0},null,32,33,32,32,33,32]
[21,1727,22,1733,24,1740,null,null,null,null,0,222,null,null,null,"% of reinforcement given in 6 equal intervals based on number of trials "]
[21,1846,22,1857,24,1865,null,null,null,null,0,222,null,null,null,"%_1","%_2","%_3","%_4","%_5","%_6"]
[21,1964,22,1971,24,1975,null,null,null,null,0,222,null,null,"target sequence",{"$f":"$G$3","v":211},{"$f":"$G$3","v":211},{"$f":"$G$3","v":211},{"$f":"$G$3","v":211},{"$f":"$G$3","v":211},{"$f":"$G$3","v":211}]
[21,2084,22,2097,24,2107,null,null,null,null,0,222,null,null,"total reinforcement",{"$f":"U11","v":0},{"$f":"Z11","v":0},{"$f":"AE11","v":0},{"$f":"AJ11","v":0},{"$f":"AO11","v":0},{"$f":"AT11","v":0}]
[21,2210,22,2215,24,2226,null,null,null,null,0,222,null,null,"% target"]
[21,2333,22,2339,24,2347,null,null,null,null,0,222,null,null,"CCRF"]
[21,2449,22,2454,24,2463,null,null,null,null,0,222,null,null,"% CCRf"]
[21,2570,22,2579,24,2589,null,null,null,null,0,222,null,null,"average response rate",{"$f":"F38/P20","v":120.96875},{"$f":"(F71-F38)/Q20","v":122.42424242424242},{"$f":"(F103-F71)/R20","v":124.5625},{"$f":"(F135-F103)/S20","v":120.5625},{"$f":"(F168-F135)/T20","v":125.57575757575758},{"$f":"(F200-F168)/U20","v":126.6875}]
[21,2695,22,2705,24,2712,null,null,null,null,0,222]
[21,2816,22,2822,24,2828,null,null,null,null,0,222]
[21,2945,22,2951,24,2957,null,null,null,null,0,222]
[21,3095,22,3105,24,3109,null,null,null,null,0,222]
[21,3217,22,3222,24,3228,null,null,null,null,0,222]
[21,3331,22,3337,24,3342,null,null,null,null,0,222]
[21,3444,22,3454,24,3464,null,null,null,null,0,222]
[21,3583,22,3588,24,3601,null,null,null,null,0,222]
[21,3709,22,3716,24,3734,null,null,null,null,0,222]
[21,3849,22,3862,24,3871,null,null,null,null,0,222]
[21,3976,22,3984,24,3989,null,null,null,null,0,222]
[21,4114,22,4120,24,4132,null,null,null,null,0,222]
[21,4258,22,4264,24,4270,null,null,null,null,0,222]
[21,4374,22,4380,24,4388,null,null,null,null,0,222]
[21,4495,22,4500,24,4505,null,null,null,null,0,222]
[21,4619,22,4629,24,4639,null,null,null,null,0,222]
[21,4741,22,4747,24,4751,null,null,null,null,0,222]
[21,4861,22,4888,24,4897,null,null,null,null,0,222]
[21,5001,22,5006,24,5012,null,null,null,null,0,222]
[21,5114,22,5120,24,5126,null,null,null,null,0,222]
[21,5237,22,5241,24,5251,null,null,null,null,0,222]
[21,5356,22,5362,24,5368,null,null,null,null,0,222]
[21,5473,22,5478,24,5483,null,null,null,null,0,222]
[21,5587,22,5593,24,5608,null,null,null,null,0,222]
[21,5710,22,5717,24,5725,null,null,null,null,0,222]
[21,5852,22,5863,24,5868,null,null,null,null,0,222]
[21,5973,22,5979,24,5990,null,null,null,null,0,222]
[21,6091,22,6096,24,6100,null,null,null,null,0,222]
[21,6207,22,6212,24,6217,null,null,null,null,0,222]
[21,6315,22,6320,24,6326,null,null,null,null,0,222]
[21,6425,22,6430,24,6435,null,null,null,null,0,222]
[21,6541,22,6550,24,6562,null,null,null,null,0,222]
[21,6672,22,6685,24,6693,null,null,null,null,0,222]
[21,6800,22,6806,24,6814,null,null,null,null,0,222]
[21,6934,22,6940,24,6949,null,null,null,null,0,222]
[21,7045,22,7051,24,7056,null,null,null,null,0,222]
[21,7162,22,7175,24,7180,null,null,null,null,0,222]
[21,7285,22,7291,24,7298,null,null,null,null,0,222]
[21,7405,22,7412,24,7417,null,null,null,null,0,222]
[21,7521,22,7527,24,7532,null,null,null,null,0,222]
[21,7641,22,7646,24,7654,null,null,null,null,0,222]
[21,7756,22,7763,24,7786,null,null,null,null,0,222]
[21,7889,22,7900,24,7911,null,null,null,null,0,222]
[21,8018,22,8024,24,8039,null,null,null,null,0,222]
[21,8140,22,8150,24,8162,null,null,null,null,0,222]
[21,8278,22,8289,24,8305,null,null,null,null,0,222]
[21,8409,22,8417,24,8422,null,null,null,null,0,222]
[21,8524,22,8530,24,8540,null,null,null,null,0,222]
[21,8643,22,8649,24,8662,null,null,null,null,0,222]
[21,8765,22,8779,24,8786,null,null,null,null,0,222]
[21,8887,22,8892,24,8899,null,null,null,null,0,222]
[21,9006,22,9013,24,9026,null,null,null,null,0,222]
[21,9127,22,9133,24,9138,null,null,null,null,0,222]
[21,9234,22,9240,24,9245,null,null,null,null,0,222]
[21,9350,22,9360,24,9375,null,null,null,null,0,222]
[21,9478,22,9485,24,9503,null,null,null,null,0,222]
[21,9628,22,9639,24,9654,null,null,null,null,0,222]
[21,9758,22,9764,24,9770,null,null,null,null,0,222]
[21,9887,22,9893,24,9898,null,null,null,null,0,222]
[21,9994,22,10005,24,10013,null,null,null,null,0,222]
[21,10120,22,10127,24,10135,null,null,null,null,0,222]
[21,10244,22,10252,24,10259,null,null,null,null,0,222]
[21,10362,22,10367,24,10373,null,null,null,null,0,222]
[21,10477,22,10482,24,10488,null,null,null,null,0,222]
[21,10605,22,10612,24,10623,null,null,null,null,0,222]
[21,10725,22,10732,24,10737,null,null,null,null,0,222]
[21,10846,22,10853,24,10860,null,null,null,null,0,222]
[21,10957,22,10963,24,10974,null,null,null,null,0,222]
[21,11077,22,11095,24,11105,null,null,null,null,0,222]
[21,11212,22,11226,24,11236,null,null,null,null,0,222]
[21,11338,22,11344,24,11355,null,null,null,null,0,222]
[21,11469,22,11476,24,11490,null,null,null,null,0,222]
[21,11594,22,11600,24,11606,null,null,null,null,0,222]
[21,11717,22,11728,24,11739,null,null,null,null,0,222]
[21,11872,22,11885,24,11897,null,null,null,null,0,222]
[21,11994,22,12000,24,12012,null,null,null,null,0,222]
[21,12118,22,12126,24,12138,null,null,null,null,0,222]
[21,12253,22,12259,24,12268,null,null,null,null,0,222]
[21,12373,22,12385,24,12392,null,null,null,null,0,222]
[21,12498,22,12505,24,12510,null,null,null,null,0,222]
[21,12618,22,12622,24,12628,null,null,null,null,0,222]
[21,12730,22,12736,24,12745,null,null,null,null,0,222]
[21,12866,22,12873,24,12879,null,null,null,null,0,222]
[21,12984,22,12990,24,12996,null,null,null,null,0,222]
[21,13102,22,13108,24,13112,null,null,null,null,0,222]
[21,13217,22,13232,24,13244,null,null,null,null,0,222]
[21,13348,22,13354,24,13361,null,null,null,null,0,222]
[21,13477,22,13482,24,13491,null,null,null,null,0,222]
[21,13590,22,13595,24,13606,null,null,null,null,0,222]
[21,13706,22,13717,24,13721,null,null,null,null,0,222]
[21,13832,22,13837,24,13842,null,null,null,null,0,222]
[21,13936,22,13942,24,13947,null,null,null,null,0,222]
[21,14056,22,14061,24,14065,null,null,null,null,0,222]
[21,14180,22,14187,24,14200,null,null,null,null,0,222]
[21,14296,22,14302,24,14307,null,null,null,null,0,222]
[21,14409,22,14413,24,14418,null,null,null,null,0,222]
[21,14518,22,14525,24,14531,null,null,null,null,0,222]
[21,14628,22,14634,24,14644,null,null,null,null,0,222]
[21,14746,22,14752,24,14759,null,null,null,null,0,222]
[21,14860,22,14874,24,14889,null,null,null,null,0,222]
[21,14992,22,14999,24,15005,null,null,null,null,0,222]
[21,15119,22,15132,24,15146,null,null,null,null,0,222]
[21,15254,22,15265,24,15271,null,null,null,null,0,222]
[21,15379,22,15386,24,15391,null,null,null,null,0,222]
[21,15495,22,15501,24,15507,null,null,null,null,0,222]
[21,15618,22,15623,24,15638,null,null,null,null,0,222]
[21,15744,22,15749,24,15755,null,null,null,null,0,222]
[21,15860,22,15866,24,15873,null,null,null,null,0,222]
[21,15984,22,15992,24,16012,null,null,null,null,0,222]
[21,16108,22,16114,24,16121,null,null,null,null,0,222]
[21,16234,22,16241,24,16253,null,null,null,null,0,222]
[21,16356,22,16361,24,16373,null,null,null,null,0,222]
[21,16475,22,16481,24,16501,null,null,null,null,0,222]
[21,16603,22,16608,24,16620,null,null,null,null,0,222]
[21,16717,22,16722,24,16735,null,null,null,null,0,222]
[21,16848,22,16854,24,16865,null,null,null,null,0,222]
[21,16969,22,16975,24,16980,null,null,null,null,0,222]
[21,17083,22,17093,24,17106,null,null,null,null,0,222]
[21,17209,22,17215,24,17220,null,null,null,null,0,222]
[21,17325,22,17332,24,17338,null,null,null,null,0,222]
[21,17443,22,17449,24,17457,null,null,null,null,0,222]
[21,17567,22,17573,24,17583,null,null,null,null,0,222]
[21,17681,22,17687,24,17701,null,null,null,null,0,222]
[21,17804,22,17809,24,17822,null,null,null,null,0,222]
[21,17927,22,17935,24,17941,null,null,null,null,0,222]
[21,18043,22,18050,24,18116,null,null,null,null,0,222]
[12,18214,24,18236,24,18260,null,null,null,null,0,122]
[21,18372,22,18378,24,18389,null,null,null,null,0,222]
[21,18485,22,18491,24,18496,null,null,null,null,0,222]
[21,18597,22,18602,24,18607,null,null,null,null,0,222]
[21,18724,22,18734,24,18740,null,null,null,null,0,222]
[21,18854,22,18867,24,18881,null,null,null,null,0,222]
[21,18986,22,18993,24,18998,null,null,null,null,0,222]
[21,19106,22,19113,24,19126,null,null,null,null,0,222]
[21,19228,22,19249,24,19268,null,null,null,null,0,222]
[21,19368,22,19375,24,19383,null,null,null,null,0,222]
[21,19486,22,19493,24,19499,null,null,null,null,0,222]
[21,19634,22,19645,24,19657,null,null,null,null,0,222]
[21,19773,22,19779,24,19787,null,null,null,null,0,222]
[21,19889,22,19894,24,19899,null,null,null,null,0,222]
[21,20011,22,20026,24,20036,null,null,null,null,0,222]
[21,20142,22,20148,24,20154,null,null,null,null,0,222]
[21,20265,22,20270,24,20287,null,null,null,null,0,222]
[21,20407,22,20411,24,20428,null,null,null,null,0,222]
[21,20535,22,20542,24,20558,null,null,null,null,0,222]
[21,20664,22,20671,24,20682,null,null,null,null,0,222]
[21,20785,22,20794,24,20807,null,null,null,null,0,222]
[21,20917,22,20925,24,20945,null,null,null,null,0,222]
[21,21045,22,21049,24,21054,null,null,null,null,0,222]
[21,21164,22,21169,24,21174,null,null,null,null,0,222]
[21,21277,22,21282,24,21297,null,null,null,null,0,222]
[21,21419,22,21427,24,21443,null,null,null,null,0,222]
[21,21544,22,21549,24,21554,null,null,null,null,0,222]
[21,21661,22,21666,24,21674,null,null,null,null,0,222]
[21,21784,22,21796,24,21804,null,null,null,null,0,222]
[21,21912,22,21923,24,21937,null,null,null,null,0,222]
[21,22043,22,22049,24,22057,null,null,null,null,0,222]
[21,22157,22,22166,24,22180,null,null,null,null,0,222]
[21,22283,22,22288,24,22303,null,null,null,null,0,222]
[21,22430,22,22435,24,22451,null,null,null,null,0,222]
[21,22557,22,22562,24,22570,null,null,null,null,0,222]
[21,22687,22,22693,24,22699,null,null,null,null,0,222]
[21,22814,22,22820,24,22829,null,null,null,null,0,222]
[21,22939,22,22945,24,22957,null,null,null,null,0,222]
[21,23065,22,23071,24,23077,null,null,null,null,0,222]
[21,23185,22,23190,24,23204,null,null,null,null,0,222]
[21,23309,22,23318,24,23329,null,null,null,null,0,222]
[21,23452,22,23463,24,23473,null,null,null,null,0,222]
[21,23578,22,23584,24,23589,null,null,null,null,0,222]
[21,23698,22,23704,24,23715,null,null,null,null,0,222]
[21,23816,22,23821,24,23828,null,null,null,null,0,222]
[21,23938,22,23944,24,23953,null,null,null,null,null,222]