{"text_format":"1","workbook":"xlsx","n_sheets":33,"sheets":["Sample Report","Summary","Start","!MA13C50.096","!MA14D10.096","!MA15C40.096","!MA16B50.096","!MA17F00.096","!MA18C30.096","!MA19C00.096","!MA20B30.096","!MA21B50.096","!MA22840.096","!MA23920.096","!MA24B40.096","!MA25B30.096","!MA26910.096","!MA27850.096","!MA30A20.096","!MA31D10.096","!MB02B50.096","!MB04B10.096","!MB05B00.096","!MB08A30.096","!MB09C20.096","!MB13B50.096","!MB16B20.096","!MB17C00.096","!MB18B40.096","!MB19B10.096","!MB20C50.096","!MB21950.096","!MB24A50.096"],"not_rendered":{"charts":0,"images":0,"macros":1,"external_links":0,"defined_names":0,"comments":0,"pivot_tables":0},"unopened":[],"bounds":{"document_bytes":16777216,"sheet_cells":100000,"rows_first":2000,"rows_last":500,"rows_between":2000,"halvings":0,"cell_chars":16384,"cell_head_chars":4096},"cells_cut":0,"cells_raw":0,"read":"whole","date_system":"1900"}

{"sheet":"Sample Report","index":0,"n_rows":12,"n_cols":11,"rows_kept":12,"cut":false,"hidden":true,"merged":[[7,0,7,6]]}
[]
["Date"]
["Hen"]
["Program"]
["Start at 999999"]
["Sequence component 1","Time 1","Seqeunce Component 2","Time 2","Seqeunce Component 3","Time 3","Correct   0 = No 1=Yes",null,null,"Seqeunce","Time"]
[12,7,12,42,13,18,"if 77 new line,                                  if 31 or 41 = yes new line on 77, ",null,null,"=string of Seqeunce compponent 1, 2 & 3","=time 3"]
["This continues until ther is a 1 on its own to indicate start of summary data"]
[null,null,null,null,null,null,null,null,null,"10-19 =1"]
["Summary Data ",null,null,null,null,null,null,null,null,"20-29 =2"]
["Correct","Incorrect","Rft","total","Av Correct","Av Incorrect","Percent correct","Time",null,"in this example the seqeunce would be 111"]
[40,33,40,73,23.95,15,54,806]

{"sheet":"Summary","index":1,"n_rows":32,"n_cols":24,"rows_kept":32,"cut":false,"hidden":false,"merged":[]}
[]
["Day","Date","Average Response Rate","Target %","RF for non correct sequence","U Value",null,null,null,null,"Block 1","Block 2","Block 3","Block 4","Block 5","Block 6"]
[1,{"$f":"'!MA13C50.096'!B2:C2","v":"<date>"},{"$f":"('!MA13C50.096'!H156/60)/'!MA13C50.096'!Q3","v":2.6594444444444445},{"$f":"'!MA13C50.096'!N28/'!MA13C50.096'!Q3","v":0},{"$f":"SUM('!MA13C50.096'!L28:Q28)/'!MA13C50.096'!Q3","v":7.74},{"$f":"'!MA13C50.096'!Q24","v":0.25916284424868813},null,null,null,"Average Response Rate",{"$f":"AVERAGE(C3:C7)","v":3.1630373789173793},{"$f":"AVERAGE(C8:C12)","v":5.5150278254088194},{"$f":"AVERAGE(C13:C17)","v":2.7110487509643764},{"$f":"AVERAGE(C18:C22)","v":2.2852747656797092},{"$f":"AVERAGE(C23:C27)","v":2.1349862943297611},{"$f":"AVERAGE(C28:C32)","v":2.1494356250659266}]
[2,{"$f":"'!MA14D10.096'!B2:C2","v":"<date>"},{"$f":"('!MA14D10.096'!H131/60)/'!MA14D10.096'!Q3","v":3.1889333333333334},{"$f":"'!MA14D10.096'!N28/'!MA14D10.096'!Q3","v":0},{"$f":"SUM('!MA14D10.096'!L28:Q28)/'!MA14D10.096'!Q3","v":9.2319999999999993},{"$f":"'!MA14D10.096'!Q24","v":0.33187748788182847},null,null,null,"Target %",{"$f":"AVERAGE(D3:D7)","v":3.3699633699633705E-2},{"$f":"AVERAGE(D8:D12)","v":6.4987715289825262E-2},{"$f":"AVERAGE(D13:D17)","v":0.13934971680467645},{"$f":"AVERAGE(D18:D22)","v":0.28607533063799301},{"$f":"AVERAGE(D23:D27)","v":0.31539826109726005},{"$f":"AVERAGE(D28:D32)","v":0.3602508053149317}]
[3,{"$f":"'!MA15C40.096'!B2:C2","v":"<date>"},{"$f":"('!MA15C40.096'!H132/60)/'!MA15C40.096'!Q3","v":3.161111111111111},{"$f":"'!MA15C40.096'!N28/'!MA15C40.096'!Q3","v":3.1746031746031744E-2},{"$f":"SUM('!MA15C40.096'!L28:Q28)/'!MA15C40.096'!Q3","v":10.063492063492063},{"$f":"'!MA15C40.096'!Q24","v":0.44697138035232592},null,null,null,"CCRF",{"$f":"AVERAGE(E3:E7)","v":11.075474481074483},{"$f":"AVERAGE(E8:E12)","v":22.300346486952947},{"$f":"AVERAGE(E13:E17)","v":13.295261458135281},{"$f":"AVERAGE(E18:E22)","v":13.877726542615168},{"$f":"AVERAGE(E23:E27)","v":16.344295559688458},{"$f":"AVERAGE(E28:E32)","v":17.159534287045865}]
[4,{"$f":"'!MA16B50.096'!B2:C2","v":"<date>"},{"$f":"('!MA16B50.096'!H123/60)/'!MA16B50.096'!Q3","v":3.4074074074074074},{"$f":"'!MA16B50.096'!N28/'!MA16B50.096'!Q3","v":5.9829059829059832E-2},{"$f":"SUM('!MA16B50.096'!L28:Q28)/'!MA16B50.096'!Q3","v":9.8888888888888893},{"$f":"'!MA16B50.096'!Q24","v":0.53893974658814314},null,null,null,"U Value",{"$f":"AVERAGE(F3:F7)","v":0.4212993072140413},{"$f":"AVERAGE(F8:F12)","v":0.57731540630282507},{"$f":"AVERAGE(F13:F17)","v":0.44795945152324179},{"$f":"AVERAGE(F18:F22)","v":0.4090943736001697},{"$f":"AVERAGE(F23:F27)","v":0.37573651144904974},{"$f":"AVERAGE(F28:F32)","v":0.35697324808268455}]
[5,{"$f":"'!MA17F00.096'!B2:C2","v":"<date>"},{"$f":"('!MA17F00.096'!H123/60)/'!MA17F00.096'!Q3","v":3.3982905982905987},{"$f":"'!MA17F00.096'!N28/'!MA17F00.096'!Q3","v":7.6923076923076927E-2},{"$f":"SUM('!MA17F00.096'!L28:Q28)/'!MA17F00.096'!Q3","v":18.452991452991451},{"$f":"'!MA17F00.096'!Q24","v":0.5295450769992206}]
[6,{"$f":"'!MA18C30.096'!B2:C2","v":"<date>"},{"$f":"('!MA18C30.096'!H90/60)/'!MA18C30.096'!Q3","v":4.3611764705882354},{"$f":"'!MA18C30.096'!N28/'!MA18C30.096'!Q3","v":3.5294117647058823E-2},{"$f":"SUM('!MA18C30.096'!L28:Q28)/'!MA18C30.096'!Q3","v":13.435294117647059},{"$f":"'!MA18C30.096'!Q24","v":0.56551735772817213}]
[7,{"$f":"'!MA19C00.096'!B2:C2","v":"<date>"},{"$f":"('!MA19C00.096'!H74/60)/'!MA19C00.096'!Q3","v":4.9152173913043473},{"$f":"'!MA19C00.096'!N28/'!MA19C00.096'!Q3","v":8.6956521739130432E-2},{"$f":"SUM('!MA19C00.096'!L28:Q28)/'!MA19C00.096'!Q3","v":32.478260869565219},{"$f":"'!MA19C00.096'!Q24","v":0.58401949744371717},{"$f":"K3","v":3.1630373789173793},5.5150278254088194,2.7110487509643764,2.2852747656797092,2.1349862943297611,2.1494356250659266,{"$f":"K4","v":3.3699633699633705E-2},6.4987715289825262E-2,0.13934971680467645,0.28607533063799301,0.31539826109726005,0.3602508053149317,{"$f":"K6","v":0.4212993072140413},0.57731540630282507,0.44795945152324179,0.4090943736001697,0.37573651144904974,0.35697324808268455]
[8,{"$f":"'!MA20B30.096'!B2:C2","v":"<date>"},{"$f":"('!MA20B30.096'!H57/60)/'!MA20B30.096'!Q3","v":7.5791666666666666},{"$f":"'!MA20B30.096'!N28/'!MA20B30.096'!Q3","v":9.6153846153846159E-2},{"$f":"SUM('!MA20B30.096'!L28:Q28)/'!MA20B30.096'!Q3","v":21.78846153846154},{"$f":"'!MA20B30.096'!Q24","v":0.62557159804974727}]
[9,{"$f":"'!MA21B50.096'!B2:C2","v":"<date>"},{"$f":"('!MA21B50.096'!H69/60)/'!MA21B50.096'!Q3","v":6.18359375},{"$f":"'!MA21B50.096'!N28/'!MA21B50.096'!Q3","v":1.5625E-2},{"$f":"SUM('!MA21B50.096'!L28:Q28)/'!MA21B50.096'!Q3","v":19.265625},{"$f":"'!MA21B50.096'!Q24","v":0.56858495206046522}]
[10,{"$f":"'!MA22840.096'!B2:C2","v":"<date>"},{"$f":"('!MA22840.096'!H94/60)/'!MA22840.096'!Q3","v":4.5359848484848486},{"$f":"'!MA22840.096'!N28/'!MA22840.096'!Q3","v":9.0909090909090912E-2},{"$f":"SUM('!MA22840.096'!L28:Q28)/'!MA22840.096'!Q3","v":24.53409090909091},{"$f":"'!MA22840.096'!Q24","v":0.54288362623202358}]
[11,{"$f":"'!MA23920.096'!B2:C2","v":"<date>"},{"$f":"('!MA23920.096'!H137/60)/'!MA23920.096'!Q3","v":3.0380407124681934},{"$f":"'!MA23920.096'!N28/'!MA23920.096'!Q3","v":8.3969465648854963E-2},{"$f":"SUM('!MA23920.096'!L28:Q28)/'!MA23920.096'!Q3","v":16.541984732824428},{"$f":"'!MA23920.096'!Q24","v":0.52458615980800238}]
[12,{"$f":"'!MA24B40.096'!B2:C2","v":"<date>"},{"$f":"('!MA24B40.096'!H110/60)/'!MA24B40.096'!Q3","v":3.7708333333333335},{"$f":"'!MA24B40.096'!N28/'!MA24B40.096'!Q3","v":0.15384615384615385},{"$f":"SUM('!MA24B40.096'!L28:Q28)/'!MA24B40.096'!Q3","v":21.75},{"$f":"'!MA24B40.096'!Q24","v":0.45638161934044635}]
[13,{"$f":"'!MA25B30.096'!B2:C2","v":"<date>"},{"$f":"('!MA25B30.096'!H170/60)/'!MA25B30.096'!Q3","v":2.4324186991869921},{"$f":"'!MA25B30.096'!N28/'!MA25B30.096'!Q3","v":7.3170731707317069E-2},{"$f":"SUM('!MA25B30.096'!L28:Q28)/'!MA25B30.096'!Q3","v":7.25},{"$f":"'!MA25B30.096'!Q24","v":0.46376248583963164}]
[14,{"$f":"'!MA26910.096'!B2:C2","v":"<date>"},{"$f":"('!MA26910.096'!H191/60)/'!MA26910.096'!Q3","v":2.1609009009009008},{"$f":"'!MA26910.096'!N28/'!MA26910.096'!Q3","v":0.12432432432432433},{"$f":"SUM('!MA26910.096'!L28:Q28)/'!MA26910.096'!Q3","v":6.4702702702702704},{"$f":"'!MA26910.096'!Q24","v":0.45683424334050871}]
[15,{"$f":"'!MA27850.096'!B2:C2","v":"<date>"},{"$f":"('!MA27850.096'!H159/60)/'!MA27850.096'!Q3","v":2.1530501089324621},{"$f":"'!MA27850.096'!N28/'!MA27850.096'!Q3","v":0.26143790849673204},{"$f":"SUM('!MA27850.096'!L28:Q28)/'!MA27850.096'!Q3","v":14.464052287581699},{"$f":"'!MA27850.096'!Q24","v":0.33823274928762004}]
[16,{"$f":"'!MA30A20.096'!B2:C2","v":"<date>"},{"$f":"('!MA30A20.096'!H143/60)/'!MA30A20.096'!Q3","v":2.1476885644768857},{"$f":"'!MA30A20.096'!N28/'!MA30A20.096'!Q3","v":0.29197080291970801},{"$f":"SUM('!MA30A20.096'!L28:Q28)/'!MA30A20.096'!Q3","v":9.547445255474452},{"$f":"'!MA30A20.096'!Q24","v":0.40215159935488598}]
[17,{"$f":"'!MA31D10.096'!B2:C2","v":"<date>"},{"$f":"('!MA31D10.096'!H176/60)/'!MA31D10.096'!Q3","v":2.3270955165692007},{"$f":"'!MA31D10.096'!N28/'!MA31D10.096'!Q3","v":0.22222222222222221},{"$f":"SUM('!MA31D10.096'!L28:Q28)/'!MA31D10.096'!Q3","v":7.7017543859649127},{"$f":"'!MA31D10.096'!Q24","v":0.41992226400206528}]
[18,{"$f":"'!MB02B50.096'!B2:C2","v":"<date>"},{"$f":"('!MB02B50.096'!H132/60)/'!MB02B50.096'!Q3","v":2.31984126984127},{"$f":"'!MB02B50.096'!N28/'!MB02B50.096'!Q3","v":0.31746031746031744},{"$f":"SUM('!MB02B50.096'!L28:Q28)/'!MB02B50.096'!Q3","v":18.277777777777779},{"$f":"'!MB02B50.096'!Q24","v":0.42198286831671539}]
[19,{"$f":"'!MB04B10.096'!B2:C2","v":"<date>"},{"$f":"('!MB04B10.096'!H124/60)/'!MB04B10.096'!Q3","v":2.3265536723163844},{"$f":"'!MB04B10.096'!N28/'!MB04B10.096'!Q3","v":0.33898305084745761},{"$f":"SUM('!MB04B10.096'!L28:Q28)/'!MB04B10.096'!Q3","v":19.491525423728813},{"$f":"'!MB04B10.096'!Q24","v":0.38977379361886116}]
[20,{"$f":"'!MB05B00.096'!B2:C2","v":"<date>"},{"$f":"('!MB05B00.096'!H160/60)/'!MB05B00.096'!Q3","v":2.3051948051948052},{"$f":"'!MB05B00.096'!N28/'!MB05B00.096'!Q3","v":0.25974025974025972},{"$f":"SUM('!MB05B00.096'!L28:Q28)/'!MB05B00.096'!Q3","v":14.370129870129871},{"$f":"'!MB05B00.096'!Q24","v":0.41164134270832076}]
[21,{"$f":"'!MB08A30.096'!B2:C2","v":"<date>"},{"$f":"('!MB08A30.096'!H148/60)/'!MB08A30.096'!Q3","v":2.0967136150234742},{"$f":"'!MB08A30.096'!N28/'!MB08A30.096'!Q3","v":0.28169014084507044},{"$f":"SUM('!MB08A30.096'!L28:Q28)/'!MB08A30.096'!Q3","v":15.556338028169014},{"$f":"'!MB08A30.096'!Q24","v":0.34962124391122495}]
[22,{"$f":"'!MB09C20.096'!B2:C2","v":"<date>"},{"$f":"('!MB09C20.096'!H139/60)/'!MB09C20.096'!Q3","v":2.0785714285714283},{"$f":"'!MB09C20.096'!N28/'!MB09C20.096'!Q3","v":0.3007518796992481},{"$f":"SUM('!MB09C20.096'!L28:Q28)/'!MB09C20.096'!Q3","v":17.263157894736842},{"$f":"'!MB09C20.096'!Q24","v":0.40102275603444981}]
[23,{"$f":"'!MB13B50.096'!B2:C2","v":"<date>"},{"$f":"('!MB13B50.096'!H136/60)/'!MB13B50.096'!Q3","v":2.1766666666666663},{"$f":"'!MB13B50.096'!N28/'!MB13B50.096'!Q3","v":0.30769230769230771},{"$f":"SUM('!MB13B50.096'!L28:Q28)/'!MB13B50.096'!Q3","v":16.96153846153846},{"$f":"'!MB13B50.096'!Q24","v":0.39147148255225744}]
[24,{"$f":"'!MB16B20.096'!B2:C2","v":"<date>"},{"$f":"('!MB16B20.096'!H109/60)/'!MB16B20.096'!Q3","v":2.1595469255663429},{"$f":"'!MB16B20.096'!N28/'!MB16B20.096'!Q3","v":0.38834951456310679},{"$f":"SUM('!MB16B20.096'!L28:Q28)/'!MB16B20.096'!Q3","v":22.194174757281555},{"$f":"'!MB16B20.096'!Q24","v":0.37225820046063723}]
[25,{"$f":"'!MB17C00.096'!B2:C2","v":"<date>"},{"$f":"('!MB17C00.096'!H140/60)/'!MB17C00.096'!Q3","v":2.1634328358208954},{"$f":"'!MB17C00.096'!N28/'!MB17C00.096'!Q3","v":0.29850746268656714},{"$f":"SUM('!MB17C00.096'!L28:Q28)/'!MB17C00.096'!Q3","v":9.7462686567164187},{"$f":"'!MB17C00.096'!Q24","v":0.36430887428667935}]
[26,{"$f":"'!MB18B40.096'!B2:C2","v":"<date>"},{"$f":"('!MB18B40.096'!H98/60)/'!MB18B40.096'!Q3","v":2.1739130434782608},{"$f":"'!MB18B40.096'!N28/'!MB18B40.096'!Q3","v":0.43478260869565216},{"$f":"SUM('!MB18B40.096'!L28:Q28)/'!MB18B40.096'!Q3","v":24.923913043478262},{"$f":"'!MB18B40.096'!Q24","v":0.34194396829784218}]
[27,{"$f":"'!MB19B10.096'!B2:C2","v":"<date>"},{"$f":"('!MB19B10.096'!H116/60)/'!MB19B10.096'!Q3","v":2.1807575757575757},{"$f":"'!MB19B10.096'!N28/'!MB19B10.096'!Q3","v":0.36363636363636365},{"$f":"SUM('!MB19B10.096'!L28:Q28)/'!MB19B10.096'!Q3","v":11.809090909090909},{"$f":"'!MB19B10.096'!Q24","v":0.32959820945446128}]
[28,{"$f":"'!MB20C50.096'!B2:C2","v":"<date>"},{"$f":"('!MB20C50.096'!H123/60)/'!MB20C50.096'!Q3","v":2.1495726495726495},{"$f":"'!MB20C50.096'!N28/'!MB20C50.096'!Q3","v":0.34188034188034189},{"$f":"SUM('!MB20C50.096'!L28:Q28)/'!MB20C50.096'!Q3","v":19.666666666666668},{"$f":"'!MB20C50.096'!Q24","v":0.35767589129844346}]
[29,{"$f":"'!MB21950.096'!B2:C2","v":"<date>"},{"$f":"('!MB21950.096'!H120/60)/'!MB21950.096'!Q3","v":2.1625730994152046},{"$f":"'!MB21950.096'!N28/'!MB21950.096'!Q3","v":0.35087719298245612},{"$f":"SUM('!MB21950.096'!L28:Q28)/'!MB21950.096'!Q3","v":19.289473684210527},{"$f":"'!MB21950.096'!Q24","v":0.37940801758168463}]
[30,{"$f":"'!MB24A50.096'!B2:C2","v":"<date>"},{"$f":"('!MB24A50.096'!H135/60)/'!MB24A50.096'!Q3","v":2.0803617571059432},{"$f":"'!MB24A50.096'!N28/'!MB24A50.096'!Q3","v":0.31007751937984496},{"$f":"SUM('!MB24A50.096'!L28:Q28)/'!MB24A50.096'!Q3","v":10.108527131782946},{"$f":"'!MB24A50.096'!Q24","v":0.3762401537809914}]

{"sheet":"Start","index":2,"n_rows":36,"n_cols":10,"rows_kept":36,"cut":false,"hidden":false,"merged":[]}
[null,null,null,null,null,"Use Folder 51",null,"Auto Clean Up",null,"Correct sequence"]
[null,null,null,null,null,false,null,true,null,2212]
[]
["Working with Folder",null,null,null,null,null,"Process All/Or Pick A number: ALL or an integer"]
["E:\\Hen Data\\Raw Data\\96_176\\phase 3 var\\",null,null,null,null,null,"ALL"]
["Filenames:"]
["!MA13C50.096",null,null,null,null,null,"Paint Cells"]
["!MA14D10.096",null,null,null,null,null,false]
["!MA15C40.096"]
["!MB08A30.096"]
["!MB09C20.096"]
["!MB13B50.096"]
["!MB16B20.096"]
["!MB17C00.096"]
["!MB18B40.096"]
["!MB19B10.096"]
["!MB20C50.096"]
["!MB24A50.096"]
["!MA16B50.096"]
["!MA17F00.096"]
["!MA18C30.096"]
["!MA19C00.096"]
["!MA20B30.096"]
["!MA21B50.096"]
["!MA24B40.096"]
["!MA25B30.096"]
["!MA30A20.096"]
["!MA31D10.096"]
["!MA22840.096"]
["!MA23920.096"]
["!MA26910.096"]
["!MA27850.096"]
["!MB02B50.096"]
["!MB04B10.096"]
["!MB05B00.096"]
["!MB21950.096"]

{"sheet":"!MA13C50.096","index":3,"n_rows":156,"n_cols":48,"rows_kept":156,"cut":false,"hidden":false,"merged":[[4,39,4,42],[5,39,5,40],[4,44,4,47],[5,44,5,45],[4,24,4,27],[5,24,5,25],[4,29,4,32],[5,29,5,30],[4,34,4,37],[5,34,5,35],[1,1,1,2],[5,13,5,14],[26,13,26,14],[27,13,27,14],[4,19,4,22],[5,19,5,20]]}
["Report for:!MA13C50.096"]
["Date:","<date>"]
["Hen:","<hen>",null,null,null,"Correct Sequence",{"$f":"Start!J2","v":2212},null,null,null,null,null,null,null,null,"Total Sequences in Data",{"$f":"4994-COUNTBLANK(L7:L5000)","v":150},null,null,null,null,"Total Sequences in Block Data",{"$f":"COUNTA(L7:L31)","v":25},null,null,null,"Total Sequences in Block Data",{"$f":"COUNTA(L32:L56)","v":25},null,null,null,"Total Sequences in Block Data",{"$f":"COUNTA(L57:L81)","v":25},null,null,null,"Total Sequences in Block Data",{"$f":"COUNTA(L82:L106)","v":25},null,null,null,"Total Sequences in Block Data",{"$f":"COUNTA(L107:L131)","v":25},null,null,null,"Total Sequences in Block Data",{"$f":"COUNTA(L132:L156)","v":25}]
[null,null,null,null,null,null,null,null,null,null,null,null,null,null,null,"Total Sequences in Summary",{"$f":"SUM(O7:O22)","v":150},null,null,null,null,"Total Sequences in Block Summary",{"$f":"SUM(U7:U22)","v":25},null,null,null,"Total Sequences in Block Summary",{"$f":"SUM(Z7:Z22)","v":25},null,null,null,"Total Sequences in Block Summary",{"$f":"SUM(AE7:AE22)","v":25},null,null,null,"Total Sequences in Block Summary",{"$f":"SUM(AJ7:AJ22)","v":25},null,null,null,"Total Sequences in Block Summary",{"$f":"SUM(AO7:AO22)","v":25},null,null,null,"Total Sequences in Block Summary",{"$f":"SUM(AT7:AT22)","v":25}]
[null,null,null,null,null,null,null,null,null,null,null,null,null,null,null,null,null,null,null,"Block 1",null,null,null,null,"Block 2",null,null,null,null,"Block 3",null,null,null,null,"Block 4",null,null,null,null,"Block 5",null,null,null,null,"Block 6"]
["Sequence\nComponent\n1","Time\n1","Sequence\nComponent\n2","Time\n2","Sequence\nComponent\n3","Time\n3","Sequence\nComponent\n4","Time\n4","Sequence\nComponent\n5","Time\n5","Correct?\n0=No 1=Yes","Sequence",null,"Frequency",null,"Relative Frequency","Variability",null,null,"Frequency",null,"Relative Frequency","Variability",null,"Frequency",null,"Relative Frequency","Variability",null,"Frequency",null,"Relative Frequency","Variability",null,"Frequency",null,"Relative Frequency","Variability",null,"Frequency",null,"Relative Frequency","Variability",null,"Frequency",null,"Relative Frequency","Variability"]
[12,22,23,37,24,54,14,74,null,null,0,1221,null,1111,{"$f":"COUNTIF($L$7:$L$500,N7)","v":102},{"$f":"O7/$Q$4","v":0.68},{"$f":"IF(P7=0,0,(P7*((LOG(P7))/LOG(2))))","v":-0.378347476996582},null,null,{"$f":"N7","v":1111},{"$f":"COUNTIF(L7:L31,T7)","v":13},{"$f":"U7/(W4-U20)","v":0.52},{"$f":"IF(V7=0,0,(V7*((LOG(V7))/LOG(2))))","v":-0.49057656524948895},null,{"$f":"N7","v":1111},{"$f":"COUNTIF(L32:L56,Y7)","v":25},{"$f":"Z7/(AB4-Z20)","v":1},{"$f":"IF(AA7=0,0,(AA7*((LOG(AA7))/LOG(2))))","v":0},null,{"$f":"N7","v":1111},{"$f":"COUNTIF(L57:L81,AD7)","v":21},{"$f":"AE7/(AG4-AE20)","v":0.84},{"$f":"IF(AF7=0,0,(AF7*((LOG(AF7))/LOG(2))))","v":-0.21129256427661014},null,{"$f":"N7","v":1111},{"$f":"COUNTIF(L82:L106,AI7)","v":18},{"$f":"AJ7/(AL4-AJ20)","v":0.72},{"$f":"IF(AK7=0,0,(AK7*((LOG(AK7))/LOG(2))))","v":-0.3412304555993369},null,{"$f":"N7","v":1111},{"$f":"COUNTIF(L107:L131,AN7)","v":12},{"$f":"AO7/(AQ4-AO20)","v":0.48},{"$f":"IF(AP7=0,0,(AP7*((LOG(AP7))/LOG(2))))","v":-0.50826897074571287},null,{"$f":"N7","v":1111},{"$f":"COUNTIF(L132:L156,AS7)","v":13},{"$f":"AT7/(AV4-AT20)","v":0.52},{"$f":"IF(AU7=0,0,(AU7*((LOG(AU7))/LOG(2))))","v":-0.49057656524948895}]
[21,170,12,180,13,185,23,196,null,null,0,2112,null,1112,{"$f":"COUNTIF($L$7:$L$500,N8)","v":10},{"$f":"O8/$Q$4","v":6.6666666666666666E-2},{"$f":"IF(P8=0,0,(P8*((LOG(P8))/LOG(2))))","v":-0.26045937304056793},null,null,{"$f":"N8","v":1112},{"$f":"COUNTIF(L7:L31,T8)","v":6},{"$f":"U8/(W4-U20)","v":0.24},{"$f":"IF(V8=0,0,(V8*((LOG(V8))/LOG(2))))","v":-0.49413448537285637},null,{"$f":"N8","v":1112},{"$f":"COUNTIF(L32:L56,Y8)","v":0},{"$f":"Z8/(AB4-Z20)","v":0},{"$f":"IF(AA8=0,0,(AA8*((LOG(AA8))/LOG(2))))","v":0},null,{"$f":"N8","v":1112},{"$f":"COUNTIF(L57:L81,AD8)","v":0},{"$f":"AE8/(AG4-AE20)","v":0},{"$f":"IF(AF8=0,0,(AF8*((LOG(AF8))/LOG(2))))","v":0},null,{"$f":"N8","v":1112},{"$f":"COUNTIF(L82:L106,AI8)","v":0},{"$f":"AJ8/(AL4-AJ20)","v":0},{"$f":"IF(AK8=0,0,(AK8*((LOG(AK8))/LOG(2))))","v":0},null,{"$f":"N8","v":1112},{"$f":"COUNTIF(L107:L131,AN8)","v":3},{"$f":"AO8/(AQ4-AO20)","v":0.12},{"$f":"IF(AP8=0,0,(AP8*((LOG(AP8))/LOG(2))))","v":-0.36706724268642821},null,{"$f":"N8","v":1112},{"$f":"COUNTIF(L132:L156,AS8)","v":1},{"$f":"AT8/(AV4-AT20)","v":0.04},{"$f":"IF(AU8=0,0,(AU8*((LOG(AU8))/LOG(2))))","v":-0.18575424759098899}]
[12,297,14,302,13,309,14,323,null,null,0,1111,null,1121,{"$f":"COUNTIF($L$7:$L$500,N9)","v":6},{"$f":"O9/$Q$4","v":0.04},{"$f":"IF(P9=0,0,(P9*((LOG(P9))/LOG(2))))","v":-0.18575424759098899},null,null,{"$f":"N9","v":1121},{"$f":"COUNTIF(L7:L31,T9)","v":1},{"$f":"U9/(W4-U20)","v":0.04},{"$f":"IF(V9=0,0,(V9*((LOG(V9))/LOG(2))))","v":-0.18575424759098899},null,{"$f":"N9","v":1121},{"$f":"COUNTIF(L32:L56,Y9)","v":0},{"$f":"Z9/(AB4-Z20)","v":0},{"$f":"IF(AA9=0,0,(AA9*((LOG(AA9))/LOG(2))))","v":0},null,{"$f":"N9","v":1121},{"$f":"COUNTIF(L57:L81,AD9)","v":1},{"$f":"AE9/(AG4-AE20)","v":0.04},{"$f":"IF(AF9=0,0,(AF9*((LOG(AF9))/LOG(2))))","v":-0.18575424759098899},null,{"$f":"N9","v":1121},{"$f":"COUNTIF(L82:L106,AI9)","v":2},{"$f":"AJ9/(AL4-AJ20)","v":0.08},{"$f":"IF(AK9=0,0,(AK9*((LOG(AK9))/LOG(2))))","v":-0.29150849518197797},null,{"$f":"N9","v":1121},{"$f":"COUNTIF(L107:L131,AN9)","v":0},{"$f":"AO9/(AQ4-AO20)","v":0},{"$f":"IF(AP9=0,0,(AP9*((LOG(AP9))/LOG(2))))","v":0},null,{"$f":"N9","v":1121},{"$f":"COUNTIF(L132:L156,AS9)","v":2},{"$f":"AT9/(AV4-AT20)","v":0.08},{"$f":"IF(AU9=0,0,(AU9*((LOG(AU9))/LOG(2))))","v":-0.29150849518197797}]
[12,427,14,432,24,444,23,455,null,null,0,1122,null,1122,{"$f":"COUNTIF($L$7:$L$500,N10)","v":3},{"$f":"O10/$Q$4","v":0.02},{"$f":"IF(P10=0,0,(P10*((LOG(P10))/LOG(2))))","v":-0.11287712379549449},null,null,{"$f":"N10","v":1122},{"$f":"COUNTIF(L7:L31,T10)","v":3},{"$f":"U10/(W4-U20)","v":0.12},{"$f":"IF(V10=0,0,(V10*((LOG(V10))/LOG(2))))","v":-0.36706724268642821},null,{"$f":"N10","v":1122},{"$f":"COUNTIF(L32:L56,Y10)","v":0},{"$f":"Z10/(AB4-Z20)","v":0},{"$f":"IF(AA10=0,0,(AA10*((LOG(AA10))/LOG(2))))","v":0},null,{"$f":"N10","v":1122},{"$f":"COUNTIF(L57:L81,AD10)","v":0},{"$f":"AE10/(AG4-AE20)","v":0},{"$f":"IF(AF10=0,0,(AF10*((LOG(AF10))/LOG(2))))","v":0},null,{"$f":"N10","v":1122},{"$f":"COUNTIF(L82:L106,AI10)","v":0},{"$f":"AJ10/(AL4-AJ20)","v":0},{"$f":"IF(AK10=0,0,(AK10*((LOG(AK10))/LOG(2))))","v":0},null,{"$f":"N10","v":1122},{"$f":"COUNTIF(L107:L131,AN10)","v":0},{"$f":"AO10/(AQ4-AO20)","v":0},{"$f":"IF(AP10=0,0,(AP10*((LOG(AP10))/LOG(2))))","v":0},null,{"$f":"N10","v":1122},{"$f":"COUNTIF(L132:L156,AS10)","v":0},{"$f":"AT10/(AV4-AT20)","v":0},{"$f":"IF(AU10=0,0,(AU10*((LOG(AU10))/LOG(2))))","v":0}]
[12,553,14,562,13,567,14,574,null,null,0,1111,null,1211,{"$f":"COUNTIF($L$7:$L$500,N11)","v":5},{"$f":"O11/$Q$4","v":3.3333333333333333E-2},{"$f":"IF(P11=0,0,(P11*((LOG(P11))/LOG(2))))","v":-0.16356301985361729},null,null,{"$f":"N11","v":1211},{"$f":"COUNTIF(L7:L31,T11)","v":0},{"$f":"U11/(W4-U20)","v":0},{"$f":"IF(V11=0,0,(V11*((LOG(V11))/LOG(2))))","v":0},null,{"$f":"N11","v":1211},{"$f":"COUNTIF(L32:L56,Y11)","v":0},{"$f":"Z11/(AB4-Z20)","v":0},{"$f":"IF(AA11=0,0,(AA11*((LOG(AA11))/LOG(2))))","v":0},null,{"$f":"N11","v":1211},{"$f":"COUNTIF(L57:L81,AD11)","v":1},{"$f":"AE11/(AG4-AE20)","v":0.04},{"$f":"IF(AF11=0,0,(AF11*((LOG(AF11))/LOG(2))))","v":-0.18575424759098899},null,{"$f":"N11","v":1211},{"$f":"COUNTIF(L82:L106,AI11)","v":1},{"$f":"AJ11/(AL4-AJ20)","v":0.04},{"$f":"IF(AK11=0,0,(AK11*((LOG(AK11))/LOG(2))))","v":-0.18575424759098899},null,{"$f":"N11","v":1211},{"$f":"COUNTIF(L107:L131,AN11)","v":3},{"$f":"AO11/(AQ4-AO20)","v":0.12},{"$f":"IF(AP11=0,0,(AP11*((LOG(AP11))/LOG(2))))","v":-0.36706724268642821},null,{"$f":"N11","v":1211},{"$f":"COUNTIF(L132:L156,AS11)","v":0},{"$f":"AT11/(AV4-AT20)","v":0},{"$f":"IF(AU11=0,0,(AU11*((LOG(AU11))/LOG(2))))","v":0}]
[12,673,14,678,24,691,23,702,null,null,0,1122,null,1212,{"$f":"COUNTIF($L$7:$L$500,N12)","v":0},{"$f":"O12/$Q$4","v":0},{"$f":"IF(P12=0,0,(P12*((LOG(P12))/LOG(2))))","v":0},null,null,{"$f":"N12","v":1212},{"$f":"COUNTIF(L7:L31,T12)","v":0},{"$f":"U12/(W4-U20)","v":0},{"$f":"IF(V12=0,0,(V12*((LOG(V12))/LOG(2))))","v":0},null,{"$f":"N12","v":1212},{"$f":"COUNTIF(L32:L56,Y12)","v":0},{"$f":"Z12/(AB4-Z20)","v":0},{"$f":"IF(AA12=0,0,(AA12*((LOG(AA12))/LOG(2))))","v":0},null,{"$f":"N12","v":1212},{"$f":"COUNTIF(L57:L81,AD12)","v":0},{"$f":"AE12/(AG4-AE20)","v":0},{"$f":"IF(AF12=0,0,(AF12*((LOG(AF12))/LOG(2))))","v":0},null,{"$f":"N12","v":1212},{"$f":"COUNTIF(L82:L106,AI12)","v":0},{"$f":"AJ12/(AL4-AJ20)","v":0},{"$f":"IF(AK12=0,0,(AK12*((LOG(AK12))/LOG(2))))","v":0},null,{"$f":"N12","v":1212},{"$f":"COUNTIF(L107:L131,AN12)","v":0},{"$f":"AO12/(AQ4-AO20)","v":0},{"$f":"IF(AP12=0,0,(AP12*((LOG(AP12))/LOG(2))))","v":0},null,{"$f":"N12","v":1212},{"$f":"COUNTIF(L132:L156,AS12)","v":0},{"$f":"AT12/(AV4-AT20)","v":0},{"$f":"IF(AU12=0,0,(AU12*((LOG(AU12))/LOG(2))))","v":0}]
[12,800,14,805,13,810,14,815,null,null,0,1111,null,1221,{"$f":"COUNTIF($L$7:$L$500,N13)","v":1},{"$f":"O13/$Q$4","v":6.6666666666666671E-3},{"$f":"IF(P13=0,0,(P13*((LOG(P13))/LOG(2))))","v":-4.819212460330588E-2},null,null,{"$f":"N13","v":1221},{"$f":"COUNTIF(L7:L31,T13)","v":1},{"$f":"U13/(W4-U20)","v":0.04},{"$f":"IF(V13=0,0,(V13*((LOG(V13))/LOG(2))))","v":-0.18575424759098899},null,{"$f":"N13","v":1221},{"$f":"COUNTIF(L32:L56,Y13)","v":0},{"$f":"Z13/(AB4-Z20)","v":0},{"$f":"IF(AA13=0,0,(AA13*((LOG(AA13))/LOG(2))))","v":0},null,{"$f":"N13","v":1221},{"$f":"COUNTIF(L57:L81,AD13)","v":0},{"$f":"AE13/(AG4-AE20)","v":0},{"$f":"IF(AF13=0,0,(AF13*((LOG(AF13))/LOG(2))))","v":0},null,{"$f":"N13","v":1221},{"$f":"COUNTIF(L82:L106,AI13)","v":0},{"$f":"AJ13/(AL4-AJ20)","v":0},{"$f":"IF(AK13=0,0,(AK13*((LOG(AK13))/LOG(2))))","v":0},null,{"$f":"N13","v":1221},{"$f":"COUNTIF(L107:L131,AN13)","v":0},{"$f":"AO13/(AQ4-AO20)","v":0},{"$f":"IF(AP13=0,0,(AP13*((LOG(AP13))/LOG(2))))","v":0},null,{"$f":"N13","v":1221},{"$f":"COUNTIF(L132:L156,AS13)","v":0},{"$f":"AT13/(AV4-AT20)","v":0},{"$f":"IF(AU13=0,0,(AU13*((LOG(AU13))/LOG(2))))","v":0}]
[12,911,14,916,13,920,23,933,null,null,0,1112,null,1222,{"$f":"COUNTIF($L$7:$L$500,N14)","v":0},{"$f":"O14/$Q$4","v":0},{"$f":"IF(P14=0,0,(P14*((LOG(P14))/LOG(2))))","v":0},null,null,{"$f":"N14","v":1222},{"$f":"COUNTIF(L7:L31,T14)","v":0},{"$f":"U14/(W4-U20)","v":0},{"$f":"IF(V14=0,0,(V14*((LOG(V14))/LOG(2))))","v":0},null,{"$f":"N14","v":1222},{"$f":"COUNTIF(L32:L56,Y14)","v":0},{"$f":"Z14/(AB4-Z20)","v":0},{"$f":"IF(AA14=0,0,(AA14*((LOG(AA14))/LOG(2))))","v":0},null,{"$f":"N14","v":1222},{"$f":"COUNTIF(L57:L81,AD14)","v":0},{"$f":"AE14/(AG4-AE20)","v":0},{"$f":"IF(AF14=0,0,(AF14*((LOG(AF14))/LOG(2))))","v":0},null,{"$f":"N14","v":1222},{"$f":"COUNTIF(L82:L106,AI14)","v":0},{"$f":"AJ14/(AL4-AJ20)","v":0},{"$f":"IF(AK14=0,0,(AK14*((LOG(AK14))/LOG(2))))","v":0},null,{"$f":"N14","v":1222},{"$f":"COUNTIF(L107:L131,AN14)","v":0},{"$f":"AO14/(AQ4-AO20)","v":0},{"$f":"IF(AP14=0,0,(AP14*((LOG(AP14))/LOG(2))))","v":0},null,{"$f":"N14","v":1222},{"$f":"COUNTIF(L132:L156,AS14)","v":0},{"$f":"AT14/(AV4-AT20)","v":0},{"$f":"IF(AU14=0,0,(AU14*((LOG(AU14))/LOG(2))))","v":0}]
[12,1035,14,1043,13,1048,14,1060,null,null,0,1111,null,2111,{"$f":"COUNTIF($L$7:$L$500,N15)","v":10},{"$f":"O15/$Q$4","v":6.6666666666666666E-2},{"$f":"IF(P15=0,0,(P15*((LOG(P15))/LOG(2))))","v":-0.26045937304056793},null,null,{"$f":"N15","v":2111},{"$f":"COUNTIF(L7:L31,T15)","v":0},{"$f":"U15/(W4-U20)","v":0},{"$f":"IF(V15=0,0,(V15*((LOG(V15))/LOG(2))))","v":0},null,{"$f":"N15","v":2111},{"$f":"COUNTIF(L32:L56,Y15)","v":0},{"$f":"Z15/(AB4-Z20)","v":0},{"$f":"IF(AA15=0,0,(AA15*((LOG(AA15))/LOG(2))))","v":0},null,{"$f":"N15","v":2111},{"$f":"COUNTIF(L57:L81,AD15)","v":2},{"$f":"AE15/(AG4-AE20)","v":0.08},{"$f":"IF(AF15=0,0,(AF15*((LOG(AF15))/LOG(2))))","v":-0.29150849518197797},null,{"$f":"N15","v":2111},{"$f":"COUNTIF(L82:L106,AI15)","v":2},{"$f":"AJ15/(AL4-AJ20)","v":0.08},{"$f":"IF(AK15=0,0,(AK15*((LOG(AK15))/LOG(2))))","v":-0.29150849518197797},null,{"$f":"N15","v":2111},{"$f":"COUNTIF(L107:L131,AN15)","v":1},{"$f":"AO15/(AQ4-AO20)","v":0.04},{"$f":"IF(AP15=0,0,(AP15*((LOG(AP15))/LOG(2))))","v":-0.18575424759098899},null,{"$f":"N15","v":2111},{"$f":"COUNTIF(L132:L156,AS15)","v":5},{"$f":"AT15/(AV4-AT20)","v":0.2},{"$f":"IF(AU15=0,0,(AU15*((LOG(AU15))/LOG(2))))","v":-0.46438561897747244}]
[12,1162,14,1166,24,1178,23,1214,null,null,0,1122,null,2112,{"$f":"COUNTIF($L$7:$L$500,N16)","v":3},{"$f":"O16/$Q$4","v":0.02},{"$f":"IF(P16=0,0,(P16*((LOG(P16))/LOG(2))))","v":-0.11287712379549449},null,null,{"$f":"N16","v":2112},{"$f":"COUNTIF(L7:L31,T16)","v":1},{"$f":"U16/(W4-U20)","v":0.04},{"$f":"IF(V16=0,0,(V16*((LOG(V16))/LOG(2))))","v":-0.18575424759098899},null,{"$f":"N16","v":2112},{"$f":"COUNTIF(L32:L56,Y16)","v":0},{"$f":"Z16/(AB4-Z20)","v":0},{"$f":"IF(AA16=0,0,(AA16*((LOG(AA16))/LOG(2))))","v":0},null,{"$f":"N16","v":2112},{"$f":"COUNTIF(L57:L81,AD16)","v":0},{"$f":"AE16/(AG4-AE20)","v":0},{"$f":"IF(AF16=0,0,(AF16*((LOG(AF16))/LOG(2))))","v":0},null,{"$f":"N16","v":2112},{"$f":"COUNTIF(L82:L106,AI16)","v":0},{"$f":"AJ16/(AL4-AJ20)","v":0},{"$f":"IF(AK16=0,0,(AK16*((LOG(AK16))/LOG(2))))","v":0},null,{"$f":"N16","v":2112},{"$f":"COUNTIF(L107:L131,AN16)","v":0},{"$f":"AO16/(AQ4-AO20)","v":0},{"$f":"IF(AP16=0,0,(AP16*((LOG(AP16))/LOG(2))))","v":0},null,{"$f":"N16","v":2112},{"$f":"COUNTIF(L132:L156,AS16)","v":2},{"$f":"AT16/(AV4-AT20)","v":0.08},{"$f":"IF(AU16=0,0,(AU16*((LOG(AU16))/LOG(2))))","v":-0.29150849518197797}]
[12,1313,14,1317,13,1322,23,1334,null,null,0,1112,null,2121,{"$f":"COUNTIF($L$7:$L$500,N17)","v":1},{"$f":"O17/$Q$4","v":6.6666666666666671E-3},{"$f":"IF(P17=0,0,(P17*((LOG(P17))/LOG(2))))","v":-4.819212460330588E-2},null,null,{"$f":"N17","v":2121},{"$f":"COUNTIF(L7:L31,T17)","v":0},{"$f":"U17/(W4-U20)","v":0},{"$f":"IF(V17=0,0,(V17*((LOG(V17))/LOG(2))))","v":0},null,{"$f":"N17","v":2121},{"$f":"COUNTIF(L32:L56,Y17)","v":0},{"$f":"Z17/(AB4-Z20)","v":0},{"$f":"IF(AA17=0,0,(AA17*((LOG(AA17))/LOG(2))))","v":0},null,{"$f":"N17","v":2121},{"$f":"COUNTIF(L57:L81,AD17)","v":0},{"$f":"AE17/(AG4-AE20)","v":0},{"$f":"IF(AF17=0,0,(AF17*((LOG(AF17))/LOG(2))))","v":0},null,{"$f":"N17","v":2121},{"$f":"COUNTIF(L82:L106,AI17)","v":0},{"$f":"AJ17/(AL4-AJ20)","v":0},{"$f":"IF(AK17=0,0,(AK17*((LOG(AK17))/LOG(2))))","v":0},null,{"$f":"N17","v":2121},{"$f":"COUNTIF(L107:L131,AN17)","v":0},{"$f":"AO17/(AQ4-AO20)","v":0},{"$f":"IF(AP17=0,0,(AP17*((LOG(AP17))/LOG(2))))","v":0},null,{"$f":"N17","v":2121},{"$f":"COUNTIF(L132:L156,AS17)","v":1},{"$f":"AT17/(AV4-AT20)","v":0.04},{"$f":"IF(AU17=0,0,(AU17*((LOG(AU17))/LOG(2))))","v":-0.18575424759098899}]
[12,1433,14,1438,13,1445,14,1451,null,null,0,1111,null,2122,{"$f":"COUNTIF($L$7:$L$500,N18)","v":1},{"$f":"O18/$Q$4","v":6.6666666666666671E-3},{"$f":"IF(P18=0,0,(P18*((LOG(P18))/LOG(2))))","v":-4.819212460330588E-2},null,null,{"$f":"N18","v":2122},{"$f":"COUNTIF(L7:L31,T18)","v":0},{"$f":"U18/(W4-U20)","v":0},{"$f":"IF(V18=0,0,(V18*((LOG(V18))/LOG(2))))","v":0},null,{"$f":"N18","v":2122},{"$f":"COUNTIF(L32:L56,Y18)","v":0},{"$f":"Z18/(AB4-Z20)","v":0},{"$f":"IF(AA18=0,0,(AA18*((LOG(AA18))/LOG(2))))","v":0},null,{"$f":"N18","v":2122},{"$f":"COUNTIF(L57:L81,AD18)","v":0},{"$f":"AE18/(AG4-AE20)","v":0},{"$f":"IF(AF18=0,0,(AF18*((LOG(AF18))/LOG(2))))","v":0},null,{"$f":"N18","v":2122},{"$f":"COUNTIF(L82:L106,AI18)","v":1},{"$f":"AJ18/(AL4-AJ20)","v":0.04},{"$f":"IF(AK18=0,0,(AK18*((LOG(AK18))/LOG(2))))","v":-0.18575424759098899},null,{"$f":"N18","v":2122},{"$f":"COUNTIF(L107:L131,AN18)","v":0},{"$f":"AO18/(AQ4-AO20)","v":0},{"$f":"IF(AP18=0,0,(AP18*((LOG(AP18))/LOG(2))))","v":0},null,{"$f":"N18","v":2122},{"$f":"COUNTIF(L132:L156,AS18)","v":0},{"$f":"AT18/(AV4-AT20)","v":0},{"$f":"IF(AU18=0,0,(AU18*((LOG(AU18))/LOG(2))))","v":0}]
[12,1548,14,1553,13,1557,23,1569,null,null,0,1112,null,2211,{"$f":"COUNTIF($L$7:$L$500,N19)","v":7},{"$f":"O19/$Q$4","v":4.6666666666666669E-2},{"$f":"IF(P19=0,0,(P19*((LOG(P19))/LOG(2))))","v":-0.20633497586045293},null,null,{"$f":"N19","v":2211},{"$f":"COUNTIF(L7:L31,T19)","v":0},{"$f":"U19/(W4-U20)","v":0},{"$f":"IF(V19=0,0,(V19*((LOG(V19))/LOG(2))))","v":0},null,{"$f":"N19","v":2211},{"$f":"COUNTIF(L32:L56,Y19)","v":0},{"$f":"Z19/(AB4-Z20)","v":0},{"$f":"IF(AA19=0,0,(AA19*((LOG(AA19))/LOG(2))))","v":0},null,{"$f":"N19","v":2211},{"$f":"COUNTIF(L57:L81,AD19)","v":0},{"$f":"AE19/(AG4-AE20)","v":0},{"$f":"IF(AF19=0,0,(AF19*((LOG(AF19))/LOG(2))))","v":0},null,{"$f":"N19","v":2211},{"$f":"COUNTIF(L82:L106,AI19)","v":1},{"$f":"AJ19/(AL4-AJ20)","v":0.04},{"$f":"IF(AK19=0,0,(AK19*((LOG(AK19))/LOG(2))))","v":-0.18575424759098899},null,{"$f":"N19","v":2211},{"$f":"COUNTIF(L107:L131,AN19)","v":5},{"$f":"AO19/(AQ4-AO20)","v":0.2},{"$f":"IF(AP19=0,0,(AP19*((LOG(AP19))/LOG(2))))","v":-0.46438561897747244},null,{"$f":"N19","v":2211},{"$f":"COUNTIF(L132:L156,AS19)","v":1},{"$f":"AT19/(AV4-AT20)","v":0.04},{"$f":"IF(AU19=0,0,(AU19*((LOG(AU19))/LOG(2))))","v":-0.18575424759098899}]
[12,1678,14,1684,13,1695,14,1701,null,null,0,1111,null,2212,{"$f":"COUNTIF($L$7:$L$500,N20)","v":0},{"$f":"O20/$Q$4","v":0},{"$f":"IF(P20=0,0,(P20*((LOG(P20))/LOG(2))))","v":0},null,null,{"$f":"N20","v":2212},{"$f":"COUNTIF(L7:L31,T20)","v":0},null,null,null,{"$f":"N20","v":2212},{"$f":"COUNTIF(L32:L56,Y20)","v":0},null,null,null,{"$f":"N20","v":2212},{"$f":"COUNTIF(L57:L81,AD20)","v":0},null,null,null,{"$f":"N20","v":2212},{"$f":"COUNTIF(L82:L106,AI20)","v":0},null,null,null,{"$f":"N20","v":2212},{"$f":"COUNTIF(L107:L131,AN20)","v":0},null,null,null,{"$f":"N20","v":2212},{"$f":"COUNTIF(L132:L156,AS20)","v":0}]
[12,1799,14,1807,24,1819,14,1848,null,null,0,1121,null,2221,{"$f":"COUNTIF($L$7:$L$500,N21)","v":0},{"$f":"O21/$Q$4","v":0},{"$f":"IF(P21=0,0,(P21*((LOG(P21))/LOG(2))))","v":0},null,null,{"$f":"N21","v":2221},{"$f":"COUNTIF(L7:L31,T21)","v":0},{"$f":"U21/(W4-U20)","v":0},{"$f":"IF(V21=0,0,(V21*((LOG(V21))/LOG(2))))","v":0},null,{"$f":"N21","v":2221},{"$f":"COUNTIF(L32:L56,Y21)","v":0},{"$f":"Z21/(AB4-Z20)","v":0},{"$f":"IF(AA21=0,0,(AA21*((LOG(AA21))/LOG(2))))","v":0},null,{"$f":"N21","v":2221},{"$f":"COUNTIF(L57:L81,AD21)","v":0},{"$f":"AE21/(AG4-AE20)","v":0},{"$f":"IF(AF21=0,0,(AF21*((LOG(AF21))/LOG(2))))","v":0},null,{"$f":"N21","v":2221},{"$f":"COUNTIF(L82:L106,AI21)","v":0},{"$f":"AJ21/(AL4-AJ20)","v":0},{"$f":"IF(AK21=0,0,(AK21*((LOG(AK21))/LOG(2))))","v":0},null,{"$f":"N21","v":2221},{"$f":"COUNTIF(L107:L131,AN21)","v":0},{"$f":"AO21/(AQ4-AO20)","v":0},{"$f":"IF(AP21=0,0,(AP21*((LOG(AP21))/LOG(2))))","v":0},null,{"$f":"N21","v":2221},{"$f":"COUNTIF(L132:L156,AS21)","v":0},{"$f":"AT21/(AV4-AT20)","v":0},{"$f":"IF(AU21=0,0,(AU21*((LOG(AU21))/LOG(2))))","v":0}]
[12,1946,14,1957,13,1962,23,1974,null,null,0,1112,null,2222,{"$f":"COUNTIF($L$7:$L$500,N22)","v":1},{"$f":"O22/$Q$4","v":6.6666666666666671E-3},{"$f":"IF(P22=0,0,(P22*((LOG(P22))/LOG(2))))","v":-4.819212460330588E-2},null,null,{"$f":"N22","v":2222},{"$f":"COUNTIF(L7:L31,T22)","v":0},{"$f":"U22/(W4-U20)","v":0},{"$f":"IF(V22=0,0,(V22*((LOG(V22))/LOG(2))))","v":0},null,{"$f":"N22","v":2222},{"$f":"COUNTIF(L32:L56,Y22)","v":0},{"$f":"Z22/(AB4-Z20)","v":0},{"$f":"IF(AA22=0,0,(AA22*((LOG(AA22))/LOG(2))))","v":0},null,{"$f":"N22","v":2222},{"$f":"COUNTIF(L57:L81,AD22)","v":0},{"$f":"AE22/(AG4-AE20)","v":0},{"$f":"IF(AF22=0,0,(AF22*((LOG(AF22))/LOG(2))))","v":0},null,{"$f":"N22","v":2222},{"$f":"COUNTIF(L82:L106,AI22)","v":0},{"$f":"AJ22/(AL4-AJ20)","v":0},{"$f":"IF(AK22=0,0,(AK22*((LOG(AK22))/LOG(2))))","v":0},null,{"$f":"N22","v":2222},{"$f":"COUNTIF(L107:L131,AN22)","v":1},{"$f":"AO22/(AQ4-AO20)","v":0.04},{"$f":"IF(AP22=0,0,(AP22*((LOG(AP22))/LOG(2))))","v":-0.18575424759098899},null,{"$f":"N22","v":2222},{"$f":"COUNTIF(L132:L156,AS22)","v":0},{"$f":"AT22/(AV4-AT20)","v":0},{"$f":"IF(AU22=0,0,(AU22*((LOG(AU22))/LOG(2))))","v":0}]
[12,2071,14,2076,13,2081,23,2093,null,null,0,1112,null,null,null,{"$f":"SUM(P7:P22)","v":1.0000000000000002},{"$f":"-SUM(Q7:Q22)","v":1.8734412123869897},null,null,null,null,{"$f":"SUM(V7:V22)","v":1},{"$f":"-SUM(W7:W22)","v":1.9090410360817405},null,null,null,{"$f":"SUM(AA7:AA22)","v":1},{"$f":"-SUM(AB7:AB22)","v":0},null,null,null,{"$f":"SUM(AF7:AF22)","v":1},{"$f":"-SUM(AG7:AG22)","v":0.87430955464056614},null,null,null,{"$f":"SUM(AK7:AK22)","v":1},{"$f":"-SUM(AL7:AL22)","v":1.4815101887362598},null,null,null,{"$f":"SUM(AP7:AP22)","v":1},{"$f":"-SUM(AQ7:AQ22)","v":2.0782975702780195},null,null,null,{"$f":"SUM(AU7:AU22)","v":1},{"$f":"-SUM(AV7:AV22)","v":2.0952419173638841}]
[12,2191,14,2195,13,2199,14,2204,null,null,0,1111,null,null,null,"U=",{"$f":"Q23/(LOG(Q4)/LOG(2))","v":0.25916284424868813},null,null,null,null,"U1=",{"$f":"W23/(LOG(W4)/LOG(2))","v":0.411089611320274},null,null,null,"U2=",{"$f":"AB23/(LOG(AB4)/LOG(2))","v":0},null,null,null,"U3=",{"$f":"AG23/(LOG(AG4)/LOG(2))","v":0.18827231484164009},null,null,null,"U4=",{"$f":"AL23/(LOG(AL4)/LOG(2))","v":0.31902585441779763},null,null,null,"U5=",{"$f":"AQ23/(LOG(AQ4)/LOG(2))","v":0.44753702210981655},null,null,null,"U6=",{"$f":"AV23/(LOG(AV4)/LOG(2))","v":0.45118578865068704}]
[12,2301,14,2306,13,2311,23,2323,null,null,0,1112]
[12,2423,14,2428,13,2447,14,2453,null,null,0,1111]
[12,2558,14,2563,13,2577,14,2583,null,null,0,1111,null,"Total Target Seq"]
[12,2683,14,2687,13,2695,14,2701,null,null,0,1111,null,{"$f":"COUNTIF(L7:L156,G3)","v":0},null,25,25,25,25,25,25]
[12,2798,14,2805,13,2810,14,2815,null,null,0,1111,null,null,null,"% of reinforcement given in 6 equal intervals based on number of trials "]
[12,2914,14,2930,13,2937,14,2945,null,null,0,1111,null,null,null,"%_1","%_2","%_3","%_4","%_5","%_6"]
[12,3043,14,3047,13,3052,14,3059,null,null,0,1111,null,null,"target sequence",{"$f":"$G$3","v":2212},{"$f":"$G$3","v":2212},{"$f":"$G$3","v":2212},{"$f":"$G$3","v":2212},{"$f":"$G$3","v":2212},{"$f":"$G$3","v":2212}]
[12,3161,14,3193,13,3199,14,3205,null,null,0,1111,null,null,"total reinforcement",{"$f":"U20","v":0},{"$f":"Z20","v":0},{"$f":"AE20","v":0},{"$f":"AJ20","v":0},{"$f":"AO20","v":0},{"$f":"AT20","v":0}]
[12,3306,14,3315,13,3325,14,3330,null,null,0,1111,null,null,"% target"]
[12,3432,14,3444,13,3449,14,3456,null,null,0,1111,null,null,"CCRF"]
[12,3556,14,3560,13,3565,14,3569,null,null,0,1111,null,null,"% CCRf"]
[12,3698,14,3705,13,3711,14,3717,null,null,0,1111,null,null,"average response rate",{"$f":"H31/P28","v":122.36},{"$f":"(H56-H31)/Q28","v":123.36},{"$f":"(H81-H56)/R28","v":168.92},{"$f":"(H106-H81)/S28","v":161.32},{"$f":"(H131-H106)/T28","v":191.28},{"$f":"(H156-H131)/U28","v":190.16}]
[12,3835,14,3840,13,3845,14,3850,null,null,0,1111]
[12,3957,14,3963,13,3968,14,3973,null,null,0,1111]
[12,4071,14,4082,13,4095,14,4099,null,null,0,1111]
[12,4205,14,4209,13,4214,14,4220,null,null,0,1111]
[12,4329,14,4333,13,4337,14,4350,null,null,0,1111]
[12,4448,14,4453,13,4461,14,4465,null,null,0,1111]
[12,4564,14,4568,13,4573,14,4591,null,null,0,1111]
[12,4692,14,4700,13,4705,14,4712,null,null,0,1111]
[12,4811,14,4815,13,4820,14,4824,null,null,0,1111]
[12,4925,14,4929,13,4938,14,4944,null,null,0,1111]
[12,5044,14,5047,13,5056,14,5061,null,null,0,1111]
[12,5158,14,5163,13,5167,14,5181,null,null,0,1111]
[12,5280,14,5284,13,5288,14,5296,null,null,0,1111]
[12,5392,14,5396,13,5400,14,5404,null,null,0,1111]
[12,5503,14,5510,13,5514,14,5522,null,null,0,1111]
[12,5618,14,5623,13,5633,14,5640,null,null,0,1111]
[12,5740,14,5749,13,5753,14,5766,null,null,0,1111]
[12,5867,14,5877,13,5882,14,5887,null,null,0,1111]
[12,6000,14,6005,13,6010,14,6028,null,null,0,1111]
[12,6125,14,6130,13,6139,14,6143,null,null,0,1111]
[12,6240,14,6254,13,6258,14,6263,null,null,0,1111]
[12,6363,14,6367,13,6371,14,6376,null,null,0,1111]
[12,6482,14,6486,13,6491,14,6496,null,null,0,1111]
[12,6594,14,6602,13,6606,14,6619,null,null,0,1111]
[12,6844,14,6854,13,6872,14,6878,null,null,0,1111]
[12,7014,14,7019,13,7024,14,7029,null,null,0,1111]
[12,7210,14,7218,13,7222,14,7227,null,null,0,1111]
[12,7381,14,7393,13,7398,14,7404,null,null,0,1111]
[12,7510,14,7521,13,7525,14,7531,null,null,0,1111]
[12,7690,14,7695,13,7699,14,7704,null,null,0,1111]
[21,8102,12,8113,13,8118,14,8123,null,null,0,2111]
[12,8276,14,8310,13,8315,14,8320,null,null,0,1111]
[21,8447,12,8463,13,8467,14,8475,null,null,0,2111]
[12,8579,14,8583,24,8594,14,8608,null,null,0,1121]
[12,8710,14,8719,13,8728,14,8733,null,null,0,1111]
[12,8890,14,8894,13,8899,14,8903,null,null,0,1111]
[12,9011,14,9027,13,9032,14,9036,null,null,0,1111]
[12,9155,14,9159,13,9163,14,9169,null,null,0,1111]
[12,9273,14,9292,13,9296,14,9313,null,null,0,1111]
[12,9412,14,9428,13,9445,14,9452,null,null,0,1111]
[12,9560,14,9573,13,9586,14,9590,null,null,0,1111]
[12,9836,14,9841,13,9846,14,9851,null,null,0,1111]
[12,10018,23,10036,13,10047,14,10052,null,null,0,1211]
[12,10199,14,10206,13,10218,14,10226,null,null,0,1111]
[12,10331,14,10347,13,10351,14,10366,null,null,0,1111]
[12,10483,14,10503,13,10508,14,10512,null,null,0,1111]
[12,10625,14,10633,13,10652,14,10657,null,null,0,1111]
[12,10758,14,10770,13,10780,14,10785,null,null,0,1111]
[12,10887,14,10896,13,10906,14,10915,null,null,0,1111]
[12,11021,14,11042,13,11046,14,11050,null,null,0,1111]
[12,11168,14,11172,13,11177,14,11185,null,null,0,1111]
[12,11314,14,11318,13,11322,14,11327,null,null,0,1111]
[12,11436,14,11455,13,11459,14,11463,null,null,0,1111]
[12,11571,14,11579,13,11583,14,11588,null,null,0,1111]
[12,11722,14,11726,13,11739,14,11743,null,null,0,1111]
[12,11853,14,11857,13,11877,14,11881,null,null,0,1111]
[12,11995,14,11998,24,12013,14,12022,null,null,0,1121]
[12,12129,14,12133,13,12142,14,12146,null,null,0,1111]
[12,12257,14,12261,13,12265,14,12269,null,null,0,1111]
[12,12409,14,12413,13,12418,14,12423,null,null,0,1111]
[12,12528,14,12532,13,12543,14,12548,null,null,0,1111]
[12,12651,14,12667,13,12671,14,12689,null,null,0,1111]
[12,12834,14,12839,13,12843,14,12848,null,null,0,1111]
[21,13001,12,13032,13,13039,14,13044,null,null,0,2111]
[21,13251,12,13263,13,13269,14,13274,null,null,0,2111]
[21,13381,21,13416,11,13426,12,13430,null,null,0,2211]
[12,13552,14,13560,24,13579,14,13591,null,null,0,1121]
[12,13764,23,13773,13,13783,14,13787,null,null,0,1211]
[21,14174,12,14185,24,14199,23,14217,null,null,0,2122]
[12,14380,14,14390,13,14394,14,14399,null,null,0,1111]
[12,14527,23,14542,13,14551,14,14555,null,null,0,1211]
[12,14715,14,14722,13,14727,14,14732,null,null,0,1111]
[12,14952,14,14956,13,14960,14,14964,null,null,0,1111]
[21,15149,21,15157,22,15178,23,15205,null,null,0,2222]
[12,15325,14,15329,13,15344,14,15348,null,null,0,1111]
[12,15513,23,15522,13,15533,14,15537,null,null,0,1211]
[12,15663,14,15671,13,15679,14,15688,null,null,0,1111]
[12,15805,14,15826,13,15830,14,15835,null,null,0,1111]
[12,15969,14,15976,13,15980,23,16009,null,null,0,1112]
[12,16133,14,16144,13,16148,23,16169,null,null,0,1112]
[12,16368,14,16390,13,16398,14,16404,null,null,0,1111]
[21,16644,12,16654,13,16658,14,16662,null,null,0,2111]
[21,16822,21,16843,11,16854,12,16859,null,null,0,2211]
[12,16984,14,16988,13,16996,14,17001,null,null,0,1111]
[12,17157,14,17169,13,17174,14,17178,null,null,0,1111]
[21,17302,21,17311,11,17322,12,17329,null,null,0,2211]
[12,17520,23,17540,13,17551,14,17556,null,null,0,1211]
[21,17687,21,17696,11,17706,12,17711,null,null,0,2211]
[12,17844,14,17848,13,17856,14,17860,null,null,0,1111]
[21,18038,21,18047,11,18059,12,18064,null,null,0,2211]
[12,18266,14,18271,13,18275,23,18287,null,null,0,1112]
[12,18442,14,18467,13,18474,14,18479,null,null,0,1111]
[12,18796,14,18804,13,18809,14,18815,null,null,0,1111]
[12,18984,14,18988,13,18992,14,18999,null,null,0,1111]
[21,19154,21,19167,11,19177,12,19181,null,null,0,2211]
[12,19319,14,19323,13,19327,23,19375,null,null,0,1112]
[12,19698,14,19719,13,19724,14,19729,null,null,0,1111]
[21,19875,12,19996,13,20000,23,20012,null,null,0,2112]
[21,20184,12,20197,24,20230,14,20240,null,null,0,2121]
[21,20442,12,20452,13,20457,14,20462,null,null,0,2111]
[21,20619,12,20629,13,20633,14,20637,null,null,0,2111]
[21,21104,12,21120,13,21124,14,21129,null,null,0,2111]
[21,21362,12,21372,13,21377,14,21381,null,null,0,2111]
[21,21513,12,21524,13,21529,14,21535,null,null,0,2111]
[12,21739,14,21744,13,21749,14,21757,null,null,0,1111]
[21,21932,21,21953,11,21963,12,21967,null,null,0,2211]
[21,22095,12,22106,13,22118,23,22131,null,null,0,2112]
[12,22300,14,22309,24,22325,14,22336,null,null,0,1121]
[12,22448,14,22460,13,22465,14,22470,null,null,0,1111]
[12,22568,14,22572,13,22576,14,22580,null,null,0,1111]
[12,22682,14,22697,13,22702,14,22707,null,null,0,1111]
[12,22809,14,22813,13,22822,14,22826,null,null,0,1111]
[12,22926,14,22942,13,22947,14,22957,null,null,0,1111]
[12,23069,14,23073,13,23085,14,23090,null,null,0,1111]
[12,23187,14,23196,13,23209,14,23214,null,null,0,1111]
[12,23314,14,23318,13,23326,14,23350,null,null,0,1111]
[12,23450,14,23461,24,23493,14,23505,null,null,0,1121]
[12,23613,14,23637,13,23641,14,23645,null,null,0,1111]
[12,23766,14,23770,13,23774,14,23793,null,null,0,1111]
[12,23907,14,23923,13,23928,14,23935,null,null,null,1111]

{"sheet":"!MA14D10.096","index":4,"n_rows":131,"n_cols":48,"rows_kept":131,"cut":false,"hidden":false,"merged":[[4,39,4,42],[5,39,5,40],[4,44,4,47],[5,44,5,45],[4,24,4,27],[5,24,5,25],[4,29,4,32],[5,29,5,30],[4,34,4,37],[5,34,5,35],[1,1,1,2],[5,13,5,14],[26,13,26,14],[27,13,27,14],[4,19,4,22],[5,19,5,20]]}
["Report for:!MA14D10.096"]
["Date:","<date>"]
["Hen:","<hen>",null,null,null,"Correct Sequence",{"$f":"Start!J2","v":2212},null,null,null,null,null,null,null,null,"Total Sequences in Data",{"$f":"4994-COUNTBLANK(L7:L5000)","v":125},null,null,null,null,"Total Sequences in Block Data",{"$f":"COUNTA(L7:L27)","v":21},null,null,null,"Total Sequences in Block Data",{"$f":"COUNTA(L28:L48)","v":21},null,null,null,"Total Sequences in Block Data",{"$f":"COUNTA(L49:L68)","v":20},null,null,null,"Total Sequences in Block Data",{"$f":"COUNTA(L69:L89)","v":21},null,null,null,"Total Sequences in Block Data",{"$f":"COUNTA(L90:L110)","v":21},null,null,null,"Total Sequences in Block Data",{"$f":"COUNTA(L111:L131)","v":21}]
[null,null,null,null,null,null,null,null,null,null,null,null,null,null,null,"Total Sequences in Summary",{"$f":"SUM(O7:O22)","v":125},null,null,null,null,"Total Sequences in Block Summary",{"$f":"SUM(U7:U22)","v":21},null,null,null,"Total Sequences in Block Summary",{"$f":"SUM(Z7:Z22)","v":21},null,null,null,"Total Sequences in Block Summary",{"$f":"SUM(AE7:AE22)","v":20},null,null,null,"Total Sequences in Block Summary",{"$f":"SUM(AJ7:AJ22)","v":21},null,null,null,"Total Sequences in Block Summary",{"$f":"SUM(AO7:AO22)","v":21},null,null,null,"Total Sequences in Block Summary",{"$f":"SUM(AT7:AT22)","v":21}]
[null,null,null,null,null,null,null,null,null,null,null,null,null,null,null,null,null,null,null,"Block 1",null,null,null,null,"Block 2",null,null,null,null,"Block 3",null,null,null,null,"Block 4",null,null,null,null,"Block 5",null,null,null,null,"Block 6"]
["Sequence\nComponent\n1","Time\n1","Sequence\nComponent\n2","Time\n2","Sequence\nComponent\n3","Time\n3","Sequence\nComponent\n4","Time\n4","Sequence\nComponent\n5","Time\n5","Correct?\n0=No 1=Yes","Sequence",null,"Frequency",null,"Relative Frequency","Variability",null,null,"Frequency",null,"Relative Frequency","Variability",null,"Frequency",null,"Relative Frequency","Variability",null,"Frequency",null,"Relative Frequency","Variability",null,"Frequency",null,"Relative Frequency","Variability",null,"Frequency",null,"Relative Frequency","Variability",null,"Frequency",null,"Relative Frequency","Variability"]
[21,15,12,56,24,82,14,92,null,null,0,2121,null,1111,{"$f":"COUNTIF($L$7:$L$500,N7)","v":68},{"$f":"O7/$Q$4","v":0.54400000000000004},{"$f":"IF(P7=0,0,(P7*((LOG(P7))/LOG(2))))","v":-0.47780686521599069},null,null,{"$f":"N7","v":1111},{"$f":"COUNTIF(L7:L27,T7)","v":10},{"$f":"U7/(W4-U20)","v":0.47619047619047616},{"$f":"IF(V7=0,0,(V7*((LOG(V7))/LOG(2))))","v":-0.50970920375780859},null,{"$f":"N7","v":1111},{"$f":"COUNTIF(L28:L48,Y7)","v":11},{"$f":"Z7/(AB4-Z20)","v":0.52380952380952384},{"$f":"IF(AA7=0,0,(AA7*((LOG(AA7))/LOG(2))))","v":-0.4886544688360045},null,{"$f":"N7","v":1111},{"$f":"COUNTIF(L49:L68,AD7)","v":15},{"$f":"AE7/(AG4-AE20)","v":0.75},{"$f":"IF(AF7=0,0,(AF7*((LOG(AF7))/LOG(2))))","v":-0.31127812445913283},null,{"$f":"N7","v":1111},{"$f":"COUNTIF(L69:L89,AI7)","v":12},{"$f":"AJ7/(AL4-AJ20)","v":0.5714285714285714},{"$f":"IF(AK7=0,0,(AK7*((LOG(AK7))/LOG(2))))","v":-0.46134566974720237},null,{"$f":"N7","v":1111},{"$f":"COUNTIF(L90:L110,AN7)","v":14},{"$f":"AO7/(AQ4-AO20)","v":0.66666666666666663},{"$f":"IF(AP7=0,0,(AP7*((LOG(AP7))/LOG(2))))","v":-0.38997500048077083},null,{"$f":"N7","v":1111},{"$f":"COUNTIF(L111:L131,AS7)","v":6},{"$f":"AT7/(AV4-AT20)","v":0.2857142857142857},{"$f":"IF(AU7=0,0,(AU7*((LOG(AU7))/LOG(2))))","v":-0.51638712058788683}]
[12,192,14,196,13,200,23,212,null,null,0,1112,null,1112,{"$f":"COUNTIF($L$7:$L$500,N8)","v":11},{"$f":"O8/$Q$4","v":8.7999999999999995E-2},{"$f":"IF(P8=0,0,(P8*((LOG(P8))/LOG(2))))","v":-0.30855903461018147},null,null,{"$f":"N8","v":1112},{"$f":"COUNTIF(L7:L27,T8)","v":4},{"$f":"U8/(W4-U20)","v":0.19047619047619047},{"$f":"IF(V8=0,0,(V8*((LOG(V8))/LOG(2))))","v":-0.4556795091007162},null,{"$f":"N8","v":1112},{"$f":"COUNTIF(L28:L48,Y8)","v":5},{"$f":"Z8/(AB4-Z20)","v":0.23809523809523808},{"$f":"IF(AA8=0,0,(AA8*((LOG(AA8))/LOG(2))))","v":-0.49294983997414238},null,{"$f":"N8","v":1112},{"$f":"COUNTIF(L49:L68,AD8)","v":1},{"$f":"AE8/(AG4-AE20)","v":0.05},{"$f":"IF(AF8=0,0,(AF8*((LOG(AF8))/LOG(2))))","v":-0.21609640474436814},null,{"$f":"N8","v":1112},{"$f":"COUNTIF(L69:L89,AI8)","v":0},{"$f":"AJ8/(AL4-AJ20)","v":0},{"$f":"IF(AK8=0,0,(AK8*((LOG(AK8))/LOG(2))))","v":0},null,{"$f":"N8","v":1112},{"$f":"COUNTIF(L90:L110,AN8)","v":1},{"$f":"AO8/(AQ4-AO20)","v":4.7619047619047616E-2},{"$f":"IF(AP8=0,0,(AP8*((LOG(AP8))/LOG(2))))","v":-0.20915797251327431},null,{"$f":"N8","v":1112},{"$f":"COUNTIF(L111:L131,AS8)","v":0},{"$f":"AT8/(AV4-AT20)","v":0},{"$f":"IF(AU8=0,0,(AU8*((LOG(AU8))/LOG(2))))","v":0}]
[12,308,14,317,24,327,14,339,null,null,0,1121,null,1121,{"$f":"COUNTIF($L$7:$L$500,N9)","v":9},{"$f":"O9/$Q$4","v":7.1999999999999995E-2},{"$f":"IF(P9=0,0,(P9*((LOG(P9))/LOG(2))))","v":-0.27330186839182374},null,null,{"$f":"N9","v":1121},{"$f":"COUNTIF(L7:L27,T9)","v":3},{"$f":"U9/(W4-U20)","v":0.14285714285714285},{"$f":"IF(V9=0,0,(V9*((LOG(V9))/LOG(2))))","v":-0.40105070315108626},null,{"$f":"N9","v":1121},{"$f":"COUNTIF(L28:L48,Y9)","v":2},{"$f":"Z9/(AB4-Z20)","v":9.5238095238095233E-2},{"$f":"IF(AA9=0,0,(AA9*((LOG(AA9))/LOG(2))))","v":-0.32307784978845333},null,{"$f":"N9","v":1121},{"$f":"COUNTIF(L49:L68,AD9)","v":1},{"$f":"AE9/(AG4-AE20)","v":0.05},{"$f":"IF(AF9=0,0,(AF9*((LOG(AF9))/LOG(2))))","v":-0.21609640474436814},null,{"$f":"N9","v":1121},{"$f":"COUNTIF(L69:L89,AI9)","v":1},{"$f":"AJ9/(AL4-AJ20)","v":4.7619047619047616E-2},{"$f":"IF(AK9=0,0,(AK9*((LOG(AK9))/LOG(2))))","v":-0.20915797251327431},null,{"$f":"N9","v":1121},{"$f":"COUNTIF(L90:L110,AN9)","v":1},{"$f":"AO9/(AQ4-AO20)","v":4.7619047619047616E-2},{"$f":"IF(AP9=0,0,(AP9*((LOG(AP9))/LOG(2))))","v":-0.20915797251327431},null,{"$f":"N9","v":1121},{"$f":"COUNTIF(L111:L131,AS9)","v":1},{"$f":"AT9/(AV4-AT20)","v":4.7619047619047616E-2},{"$f":"IF(AU9=0,0,(AU9*((LOG(AU9))/LOG(2))))","v":-0.20915797251327431}]
[12,439,14,456,13,460,14,465,null,null,0,1111,null,1122,{"$f":"COUNTIF($L$7:$L$500,N10)","v":0},{"$f":"O10/$Q$4","v":0},{"$f":"IF(P10=0,0,(P10*((LOG(P10))/LOG(2))))","v":0},null,null,{"$f":"N10","v":1122},{"$f":"COUNTIF(L7:L27,T10)","v":0},{"$f":"U10/(W4-U20)","v":0},{"$f":"IF(V10=0,0,(V10*((LOG(V10))/LOG(2))))","v":0},null,{"$f":"N10","v":1122},{"$f":"COUNTIF(L28:L48,Y10)","v":0},{"$f":"Z10/(AB4-Z20)","v":0},{"$f":"IF(AA10=0,0,(AA10*((LOG(AA10))/LOG(2))))","v":0},null,{"$f":"N10","v":1122},{"$f":"COUNTIF(L49:L68,AD10)","v":0},{"$f":"AE10/(AG4-AE20)","v":0},{"$f":"IF(AF10=0,0,(AF10*((LOG(AF10))/LOG(2))))","v":0},null,{"$f":"N10","v":1122},{"$f":"COUNTIF(L69:L89,AI10)","v":0},{"$f":"AJ10/(AL4-AJ20)","v":0},{"$f":"IF(AK10=0,0,(AK10*((LOG(AK10))/LOG(2))))","v":0},null,{"$f":"N10","v":1122},{"$f":"COUNTIF(L90:L110,AN10)","v":0},{"$f":"AO10/(AQ4-AO20)","v":0},{"$f":"IF(AP10=0,0,(AP10*((LOG(AP10))/LOG(2))))","v":0},null,{"$f":"N10","v":1122},{"$f":"COUNTIF(L111:L131,AS10)","v":0},{"$f":"AT10/(AV4-AT20)","v":0},{"$f":"IF(AU10=0,0,(AU10*((LOG(AU10))/LOG(2))))","v":0}]
[12,563,14,567,13,577,14,582,null,null,0,1111,null,1211,{"$f":"COUNTIF($L$7:$L$500,N11)","v":7},{"$f":"O11/$Q$4","v":5.6000000000000001E-2},{"$f":"IF(P11=0,0,(P11*((LOG(P11))/LOG(2))))","v":-0.23287204430585101},null,null,{"$f":"N11","v":1211},{"$f":"COUNTIF(L7:L27,T11)","v":2},{"$f":"U11/(W4-U20)","v":9.5238095238095233E-2},{"$f":"IF(V11=0,0,(V11*((LOG(V11))/LOG(2))))","v":-0.32307784978845333},null,{"$f":"N11","v":1211},{"$f":"COUNTIF(L28:L48,Y11)","v":1},{"$f":"Z11/(AB4-Z20)","v":4.7619047619047616E-2},{"$f":"IF(AA11=0,0,(AA11*((LOG(AA11))/LOG(2))))","v":-0.20915797251327431},null,{"$f":"N11","v":1211},{"$f":"COUNTIF(L49:L68,AD11)","v":0},{"$f":"AE11/(AG4-AE20)","v":0},{"$f":"IF(AF11=0,0,(AF11*((LOG(AF11))/LOG(2))))","v":0},null,{"$f":"N11","v":1211},{"$f":"COUNTIF(L69:L89,AI11)","v":1},{"$f":"AJ11/(AL4-AJ20)","v":4.7619047619047616E-2},{"$f":"IF(AK11=0,0,(AK11*((LOG(AK11))/LOG(2))))","v":-0.20915797251327431},null,{"$f":"N11","v":1211},{"$f":"COUNTIF(L90:L110,AN11)","v":0},{"$f":"AO11/(AQ4-AO20)","v":0},{"$f":"IF(AP11=0,0,(AP11*((LOG(AP11))/LOG(2))))","v":0},null,{"$f":"N11","v":1211},{"$f":"COUNTIF(L111:L131,AS11)","v":3},{"$f":"AT11/(AV4-AT20)","v":0.14285714285714285},{"$f":"IF(AU11=0,0,(AU11*((LOG(AU11))/LOG(2))))","v":-0.40105070315108626}]
[12,681,14,685,13,692,14,696,null,null,0,1111,null,1212,{"$f":"COUNTIF($L$7:$L$500,N12)","v":0},{"$f":"O12/$Q$4","v":0},{"$f":"IF(P12=0,0,(P12*((LOG(P12))/LOG(2))))","v":0},null,null,{"$f":"N12","v":1212},{"$f":"COUNTIF(L7:L27,T12)","v":0},{"$f":"U12/(W4-U20)","v":0},{"$f":"IF(V12=0,0,(V12*((LOG(V12))/LOG(2))))","v":0},null,{"$f":"N12","v":1212},{"$f":"COUNTIF(L28:L48,Y12)","v":0},{"$f":"Z12/(AB4-Z20)","v":0},{"$f":"IF(AA12=0,0,(AA12*((LOG(AA12))/LOG(2))))","v":0},null,{"$f":"N12","v":1212},{"$f":"COUNTIF(L49:L68,AD12)","v":0},{"$f":"AE12/(AG4-AE20)","v":0},{"$f":"IF(AF12=0,0,(AF12*((LOG(AF12))/LOG(2))))","v":0},null,{"$f":"N12","v":1212},{"$f":"COUNTIF(L69:L89,AI12)","v":0},{"$f":"AJ12/(AL4-AJ20)","v":0},{"$f":"IF(AK12=0,0,(AK12*((LOG(AK12))/LOG(2))))","v":0},null,{"$f":"N12","v":1212},{"$f":"COUNTIF(L90:L110,AN12)","v":0},{"$f":"AO12/(AQ4-AO20)","v":0},{"$f":"IF(AP12=0,0,(AP12*((LOG(AP12))/LOG(2))))","v":0},null,{"$f":"N12","v":1212},{"$f":"COUNTIF(L111:L131,AS12)","v":0},{"$f":"AT12/(AV4-AT20)","v":0},{"$f":"IF(AU12=0,0,(AU12*((LOG(AU12))/LOG(2))))","v":0}]
[12,796,14,803,13,808,23,821,null,null,0,1112,null,1221,{"$f":"COUNTIF($L$7:$L$500,N13)","v":0},{"$f":"O13/$Q$4","v":0},{"$f":"IF(P13=0,0,(P13*((LOG(P13))/LOG(2))))","v":0},null,null,{"$f":"N13","v":1221},{"$f":"COUNTIF(L7:L27,T13)","v":0},{"$f":"U13/(W4-U20)","v":0},{"$f":"IF(V13=0,0,(V13*((LOG(V13))/LOG(2))))","v":0},null,{"$f":"N13","v":1221},{"$f":"COUNTIF(L28:L48,Y13)","v":0},{"$f":"Z13/(AB4-Z20)","v":0},{"$f":"IF(AA13=0,0,(AA13*((LOG(AA13))/LOG(2))))","v":0},null,{"$f":"N13","v":1221},{"$f":"COUNTIF(L49:L68,AD13)","v":0},{"$f":"AE13/(AG4-AE20)","v":0},{"$f":"IF(AF13=0,0,(AF13*((LOG(AF13))/LOG(2))))","v":0},null,{"$f":"N13","v":1221},{"$f":"COUNTIF(L69:L89,AI13)","v":0},{"$f":"AJ13/(AL4-AJ20)","v":0},{"$f":"IF(AK13=0,0,(AK13*((LOG(AK13))/LOG(2))))","v":0},null,{"$f":"N13","v":1221},{"$f":"COUNTIF(L90:L110,AN13)","v":0},{"$f":"AO13/(AQ4-AO20)","v":0},{"$f":"IF(AP13=0,0,(AP13*((LOG(AP13))/LOG(2))))","v":0},null,{"$f":"N13","v":1221},{"$f":"COUNTIF(L111:L131,AS13)","v":0},{"$f":"AT13/(AV4-AT20)","v":0},{"$f":"IF(AU13=0,0,(AU13*((LOG(AU13))/LOG(2))))","v":0}]
[12,923,14,930,13,951,14,960,null,null,0,1111,null,1222,{"$f":"COUNTIF($L$7:$L$500,N14)","v":0},{"$f":"O14/$Q$4","v":0},{"$f":"IF(P14=0,0,(P14*((LOG(P14))/LOG(2))))","v":0},null,null,{"$f":"N14","v":1222},{"$f":"COUNTIF(L7:L27,T14)","v":0},{"$f":"U14/(W4-U20)","v":0},{"$f":"IF(V14=0,0,(V14*((LOG(V14))/LOG(2))))","v":0},null,{"$f":"N14","v":1222},{"$f":"COUNTIF(L28:L48,Y14)","v":0},{"$f":"Z14/(AB4-Z20)","v":0},{"$f":"IF(AA14=0,0,(AA14*((LOG(AA14))/LOG(2))))","v":0},null,{"$f":"N14","v":1222},{"$f":"COUNTIF(L49:L68,AD14)","v":0},{"$f":"AE14/(AG4-AE20)","v":0},{"$f":"IF(AF14=0,0,(AF14*((LOG(AF14))/LOG(2))))","v":0},null,{"$f":"N14","v":1222},{"$f":"COUNTIF(L69:L89,AI14)","v":0},{"$f":"AJ14/(AL4-AJ20)","v":0},{"$f":"IF(AK14=0,0,(AK14*((LOG(AK14))/LOG(2))))","v":0},null,{"$f":"N14","v":1222},{"$f":"COUNTIF(L90:L110,AN14)","v":0},{"$f":"AO14/(AQ4-AO20)","v":0},{"$f":"IF(AP14=0,0,(AP14*((LOG(AP14))/LOG(2))))","v":0},null,{"$f":"N14","v":1222},{"$f":"COUNTIF(L111:L131,AS14)","v":0},{"$f":"AT14/(AV4-AT20)","v":0},{"$f":"IF(AU14=0,0,(AU14*((LOG(AU14))/LOG(2))))","v":0}]
[12,1060,14,1068,13,1076,14,1080,null,null,0,1111,null,2111,{"$f":"COUNTIF($L$7:$L$500,N15)","v":14},{"$f":"O15/$Q$4","v":0.112},{"$f":"IF(P15=0,0,(P15*((LOG(P15))/LOG(2))))","v":-0.35374408861170209},null,null,{"$f":"N15","v":2111},{"$f":"COUNTIF(L7:L27,T15)","v":1},{"$f":"U15/(W4-U20)","v":4.7619047619047616E-2},{"$f":"IF(V15=0,0,(V15*((LOG(V15))/LOG(2))))","v":-0.20915797251327431},null,{"$f":"N15","v":2111},{"$f":"COUNTIF(L28:L48,Y15)","v":0},{"$f":"Z15/(AB4-Z20)","v":0},{"$f":"IF(AA15=0,0,(AA15*((LOG(AA15))/LOG(2))))","v":0},null,{"$f":"N15","v":2111},{"$f":"COUNTIF(L49:L68,AD15)","v":2},{"$f":"AE15/(AG4-AE20)","v":0.1},{"$f":"IF(AF15=0,0,(AF15*((LOG(AF15))/LOG(2))))","v":-0.33219280948873625},null,{"$f":"N15","v":2111},{"$f":"COUNTIF(L69:L89,AI15)","v":4},{"$f":"AJ15/(AL4-AJ20)","v":0.19047619047619047},{"$f":"IF(AK15=0,0,(AK15*((LOG(AK15))/LOG(2))))","v":-0.4556795091007162},null,{"$f":"N15","v":2111},{"$f":"COUNTIF(L90:L110,AN15)","v":2},{"$f":"AO15/(AQ4-AO20)","v":9.5238095238095233E-2},{"$f":"IF(AP15=0,0,(AP15*((LOG(AP15))/LOG(2))))","v":-0.32307784978845333},null,{"$f":"N15","v":2111},{"$f":"COUNTIF(L111:L131,AS15)","v":5},{"$f":"AT15/(AV4-AT20)","v":0.23809523809523808},{"$f":"IF(AU15=0,0,(AU15*((LOG(AU15))/LOG(2))))","v":-0.49294983997414238}]
[12,1181,14,1199,13,1204,14,1221,null,null,0,1111,null,2112,{"$f":"COUNTIF($L$7:$L$500,N16)","v":4},{"$f":"O16/$Q$4","v":3.2000000000000001E-2},{"$f":"IF(P16=0,0,(P16*((LOG(P16))/LOG(2))))","v":-0.15890509710918679},null,null,{"$f":"N16","v":2112},{"$f":"COUNTIF(L7:L27,T16)","v":0},{"$f":"U16/(W4-U20)","v":0},{"$f":"IF(V16=0,0,(V16*((LOG(V16))/LOG(2))))","v":0},null,{"$f":"N16","v":2112},{"$f":"COUNTIF(L28:L48,Y16)","v":2},{"$f":"Z16/(AB4-Z20)","v":9.5238095238095233E-2},{"$f":"IF(AA16=0,0,(AA16*((LOG(AA16))/LOG(2))))","v":-0.32307784978845333},null,{"$f":"N16","v":2112},{"$f":"COUNTIF(L49:L68,AD16)","v":0},{"$f":"AE16/(AG4-AE20)","v":0},{"$f":"IF(AF16=0,0,(AF16*((LOG(AF16))/LOG(2))))","v":0},null,{"$f":"N16","v":2112},{"$f":"COUNTIF(L69:L89,AI16)","v":1},{"$f":"AJ16/(AL4-AJ20)","v":4.7619047619047616E-2},{"$f":"IF(AK16=0,0,(AK16*((LOG(AK16))/LOG(2))))","v":-0.20915797251327431},null,{"$f":"N16","v":2112},{"$f":"COUNTIF(L90:L110,AN16)","v":1},{"$f":"AO16/(AQ4-AO20)","v":4.7619047619047616E-2},{"$f":"IF(AP16=0,0,(AP16*((LOG(AP16))/LOG(2))))","v":-0.20915797251327431},null,{"$f":"N16","v":2112},{"$f":"COUNTIF(L111:L131,AS16)","v":0},{"$f":"AT16/(AV4-AT20)","v":0},{"$f":"IF(AU16=0,0,(AU16*((LOG(AU16))/LOG(2))))","v":0}]
[12,1322,14,1333,13,1337,14,1356,null,null,0,1111,null,2121,{"$f":"COUNTIF($L$7:$L$500,N17)","v":1},{"$f":"O17/$Q$4","v":8.0000000000000002E-3},{"$f":"IF(P17=0,0,(P17*((LOG(P17))/LOG(2))))","v":-5.5726274277296692E-2},null,null,{"$f":"N17","v":2121},{"$f":"COUNTIF(L7:L27,T17)","v":1},{"$f":"U17/(W4-U20)","v":4.7619047619047616E-2},{"$f":"IF(V17=0,0,(V17*((LOG(V17))/LOG(2))))","v":-0.20915797251327431},null,{"$f":"N17","v":2121},{"$f":"COUNTIF(L28:L48,Y17)","v":0},{"$f":"Z17/(AB4-Z20)","v":0},{"$f":"IF(AA17=0,0,(AA17*((LOG(AA17))/LOG(2))))","v":0},null,{"$f":"N17","v":2121},{"$f":"COUNTIF(L49:L68,AD17)","v":0},{"$f":"AE17/(AG4-AE20)","v":0},{"$f":"IF(AF17=0,0,(AF17*((LOG(AF17))/LOG(2))))","v":0},null,{"$f":"N17","v":2121},{"$f":"COUNTIF(L69:L89,AI17)","v":0},{"$f":"AJ17/(AL4-AJ20)","v":0},{"$f":"IF(AK17=0,0,(AK17*((LOG(AK17))/LOG(2))))","v":0},null,{"$f":"N17","v":2121},{"$f":"COUNTIF(L90:L110,AN17)","v":0},{"$f":"AO17/(AQ4-AO20)","v":0},{"$f":"IF(AP17=0,0,(AP17*((LOG(AP17))/LOG(2))))","v":0},null,{"$f":"N17","v":2121},{"$f":"COUNTIF(L111:L131,AS17)","v":0},{"$f":"AT17/(AV4-AT20)","v":0},{"$f":"IF(AU17=0,0,(AU17*((LOG(AU17))/LOG(2))))","v":0}]
[21,1463,12,1476,13,1484,14,1488,null,null,0,2111,null,2122,{"$f":"COUNTIF($L$7:$L$500,N18)","v":1},{"$f":"O18/$Q$4","v":8.0000000000000002E-3},{"$f":"IF(P18=0,0,(P18*((LOG(P18))/LOG(2))))","v":-5.5726274277296692E-2},null,null,{"$f":"N18","v":2122},{"$f":"COUNTIF(L7:L27,T18)","v":0},{"$f":"U18/(W4-U20)","v":0},{"$f":"IF(V18=0,0,(V18*((LOG(V18))/LOG(2))))","v":0},null,{"$f":"N18","v":2122},{"$f":"COUNTIF(L28:L48,Y18)","v":0},{"$f":"Z18/(AB4-Z20)","v":0},{"$f":"IF(AA18=0,0,(AA18*((LOG(AA18))/LOG(2))))","v":0},null,{"$f":"N18","v":2122},{"$f":"COUNTIF(L49:L68,AD18)","v":0},{"$f":"AE18/(AG4-AE20)","v":0},{"$f":"IF(AF18=0,0,(AF18*((LOG(AF18))/LOG(2))))","v":0},null,{"$f":"N18","v":2122},{"$f":"COUNTIF(L69:L89,AI18)","v":0},{"$f":"AJ18/(AL4-AJ20)","v":0},{"$f":"IF(AK18=0,0,(AK18*((LOG(AK18))/LOG(2))))","v":0},null,{"$f":"N18","v":2122},{"$f":"COUNTIF(L90:L110,AN18)","v":0},{"$f":"AO18/(AQ4-AO20)","v":0},{"$f":"IF(AP18=0,0,(AP18*((LOG(AP18))/LOG(2))))","v":0},null,{"$f":"N18","v":2122},{"$f":"COUNTIF(L111:L131,AS18)","v":1},{"$f":"AT18/(AV4-AT20)","v":4.7619047619047616E-2},{"$f":"IF(AU18=0,0,(AU18*((LOG(AU18))/LOG(2))))","v":-0.20915797251327431}]
[12,1581,14,1602,13,1610,23,1619,null,null,0,1112,null,2211,{"$f":"COUNTIF($L$7:$L$500,N19)","v":6},{"$f":"O19/$Q$4","v":4.8000000000000001E-2},{"$f":"IF(P19=0,0,(P19*((LOG(P19))/LOG(2))))","v":-0.2102794456291647},null,null,{"$f":"N19","v":2211},{"$f":"COUNTIF(L7:L27,T19)","v":0},{"$f":"U19/(W4-U20)","v":0},{"$f":"IF(V19=0,0,(V19*((LOG(V19))/LOG(2))))","v":0},null,{"$f":"N19","v":2211},{"$f":"COUNTIF(L28:L48,Y19)","v":0},{"$f":"Z19/(AB4-Z20)","v":0},{"$f":"IF(AA19=0,0,(AA19*((LOG(AA19))/LOG(2))))","v":0},null,{"$f":"N19","v":2211},{"$f":"COUNTIF(L49:L68,AD19)","v":0},{"$f":"AE19/(AG4-AE20)","v":0},{"$f":"IF(AF19=0,0,(AF19*((LOG(AF19))/LOG(2))))","v":0},null,{"$f":"N19","v":2211},{"$f":"COUNTIF(L69:L89,AI19)","v":2},{"$f":"AJ19/(AL4-AJ20)","v":9.5238095238095233E-2},{"$f":"IF(AK19=0,0,(AK19*((LOG(AK19))/LOG(2))))","v":-0.32307784978845333},null,{"$f":"N19","v":2211},{"$f":"COUNTIF(L90:L110,AN19)","v":1},{"$f":"AO19/(AQ4-AO20)","v":4.7619047619047616E-2},{"$f":"IF(AP19=0,0,(AP19*((LOG(AP19))/LOG(2))))","v":-0.20915797251327431},null,{"$f":"N19","v":2211},{"$f":"COUNTIF(L111:L131,AS19)","v":3},{"$f":"AT19/(AV4-AT20)","v":0.14285714285714285},{"$f":"IF(AU19=0,0,(AU19*((LOG(AU19))/LOG(2))))","v":-0.40105070315108626}]
[12,1717,14,1734,13,1738,23,1758,null,null,0,1112,null,2212,{"$f":"COUNTIF($L$7:$L$500,N20)","v":0},{"$f":"O20/$Q$4","v":0},{"$f":"IF(P20=0,0,(P20*((LOG(P20))/LOG(2))))","v":0},null,null,{"$f":"N20","v":2212},{"$f":"COUNTIF(L7:L27,T20)","v":0},null,null,null,{"$f":"N20","v":2212},{"$f":"COUNTIF(L28:L48,Y20)","v":0},null,null,null,{"$f":"N20","v":2212},{"$f":"COUNTIF(L49:L68,AD20)","v":0},null,null,null,{"$f":"N20","v":2212},{"$f":"COUNTIF(L69:L89,AI20)","v":0},null,null,null,{"$f":"N20","v":2212},{"$f":"COUNTIF(L90:L110,AN20)","v":0},null,null,null,{"$f":"N20","v":2212},{"$f":"COUNTIF(L111:L131,AS20)","v":0}]
[12,1870,23,1881,13,1895,14,1899,null,null,0,1211,null,2221,{"$f":"COUNTIF($L$7:$L$500,N21)","v":1},{"$f":"O21/$Q$4","v":8.0000000000000002E-3},{"$f":"IF(P21=0,0,(P21*((LOG(P21))/LOG(2))))","v":-5.5726274277296692E-2},null,null,{"$f":"N21","v":2221},{"$f":"COUNTIF(L7:L27,T21)","v":0},{"$f":"U21/(W4-U20)","v":0},{"$f":"IF(V21=0,0,(V21*((LOG(V21))/LOG(2))))","v":0},null,{"$f":"N21","v":2221},{"$f":"COUNTIF(L28:L48,Y21)","v":0},{"$f":"Z21/(AB4-Z20)","v":0},{"$f":"IF(AA21=0,0,(AA21*((LOG(AA21))/LOG(2))))","v":0},null,{"$f":"N21","v":2221},{"$f":"COUNTIF(L49:L68,AD21)","v":0},{"$f":"AE21/(AG4-AE20)","v":0},{"$f":"IF(AF21=0,0,(AF21*((LOG(AF21))/LOG(2))))","v":0},null,{"$f":"N21","v":2221},{"$f":"COUNTIF(L69:L89,AI21)","v":0},{"$f":"AJ21/(AL4-AJ20)","v":0},{"$f":"IF(AK21=0,0,(AK21*((LOG(AK21))/LOG(2))))","v":0},null,{"$f":"N21","v":2221},{"$f":"COUNTIF(L90:L110,AN21)","v":0},{"$f":"AO21/(AQ4-AO20)","v":0},{"$f":"IF(AP21=0,0,(AP21*((LOG(AP21))/LOG(2))))","v":0},null,{"$f":"N21","v":2221},{"$f":"COUNTIF(L111:L131,AS21)","v":1},{"$f":"AT21/(AV4-AT20)","v":4.7619047619047616E-2},{"$f":"IF(AU21=0,0,(AU21*((LOG(AU21))/LOG(2))))","v":-0.20915797251327431}]
[12,1989,14,1993,24,2006,14,2017,null,null,0,1121,null,2222,{"$f":"COUNTIF($L$7:$L$500,N22)","v":3},{"$f":"O22/$Q$4","v":2.4E-2},{"$f":"IF(P22=0,0,(P22*((LOG(P22))/LOG(2))))","v":-0.12913972281458233},null,null,{"$f":"N22","v":2222},{"$f":"COUNTIF(L7:L27,T22)","v":0},{"$f":"U22/(W4-U20)","v":0},{"$f":"IF(V22=0,0,(V22*((LOG(V22))/LOG(2))))","v":0},null,{"$f":"N22","v":2222},{"$f":"COUNTIF(L28:L48,Y22)","v":0},{"$f":"Z22/(AB4-Z20)","v":0},{"$f":"IF(AA22=0,0,(AA22*((LOG(AA22))/LOG(2))))","v":0},null,{"$f":"N22","v":2222},{"$f":"COUNTIF(L49:L68,AD22)","v":1},{"$f":"AE22/(AG4-AE20)","v":0.05},{"$f":"IF(AF22=0,0,(AF22*((LOG(AF22))/LOG(2))))","v":-0.21609640474436814},null,{"$f":"N22","v":2222},{"$f":"COUNTIF(L69:L89,AI22)","v":0},{"$f":"AJ22/(AL4-AJ20)","v":0},{"$f":"IF(AK22=0,0,(AK22*((LOG(AK22))/LOG(2))))","v":0},null,{"$f":"N22","v":2222},{"$f":"COUNTIF(L90:L110,AN22)","v":1},{"$f":"AO22/(AQ4-AO20)","v":4.7619047619047616E-2},{"$f":"IF(AP22=0,0,(AP22*((LOG(AP22))/LOG(2))))","v":-0.20915797251327431},null,{"$f":"N22","v":2222},{"$f":"COUNTIF(L111:L131,AS22)","v":1},{"$f":"AT22/(AV4-AT20)","v":4.7619047619047616E-2},{"$f":"IF(AU22=0,0,(AU22*((LOG(AU22))/LOG(2))))","v":-0.20915797251327431}]
[12,2118,14,2123,13,2127,14,2132,null,null,0,1111,null,null,null,{"$f":"SUM(P7:P22)","v":1},{"$f":"-SUM(Q7:Q22)","v":2.3117869895203729},null,null,null,null,{"$f":"SUM(V7:V22)","v":1},{"$f":"-SUM(W7:W22)","v":2.1078332108246132},null,null,null,{"$f":"SUM(AA7:AA22)","v":0.99999999999999989},{"$f":"-SUM(AB7:AB22)","v":1.8369179809003278},null,null,null,{"$f":"SUM(AF7:AF22)","v":1},{"$f":"-SUM(AG7:AG22)","v":1.2917601481809735},null,null,null,{"$f":"SUM(AK7:AK22)","v":1},{"$f":"-SUM(AL7:AL22)","v":1.8675769461761949},null,null,null,{"$f":"SUM(AP7:AP22)","v":1},{"$f":"-SUM(AQ7:AQ22)","v":1.7588427128355959},null,null,null,{"$f":"SUM(AU7:AU22)","v":1},{"$f":"-SUM(AV7:AV22)","v":2.6480702569172987}]
[12,2232,14,2236,13,2245,14,2249,null,null,0,1111,null,null,null,"U=",{"$f":"Q23/(LOG(Q4)/LOG(2))","v":0.33187748788182847},null,null,null,null,"U1=",{"$f":"W23/(LOG(W4)/LOG(2))","v":0.47989091132013662},null,null,null,"U2=",{"$f":"AB23/(LOG(AB4)/LOG(2))","v":0.41821157354748234},null,null,null,"U3=",{"$f":"AG23/(LOG(AG4)/LOG(2))","v":0.29888515491709938},null,null,null,"U4=",{"$f":"AL23/(LOG(AL4)/LOG(2))","v":0.42519170779663024},null,null,null,"U5=",{"$f":"AQ23/(LOG(AQ4)/LOG(2))","v":0.40043615785010356},null,null,null,"U6=",{"$f":"AV23/(LOG(AV4)/LOG(2))","v":0.60288681395936561}]
[12,2346,14,2350,13,2354,14,2371,null,null,0,1111]
[12,2472,14,2479,24,2493,14,2503,null,null,0,1121]
[12,2599,23,2623,13,2634,14,2644,null,null,0,1211,null,"Total Target Seq"]
[12,2750,14,2758,13,2762,23,2775,null,null,0,1112,null,{"$f":"COUNTIF(L7:L131,G3)","v":0},null,21,21,20,21,21,21]
[12,2880,14,2883,13,2897,14,2901,null,null,0,1111,null,null,null,"% of reinforcement given in 6 equal intervals based on number of trials "]
[12,3004,14,3014,13,3019,14,3038,null,null,0,1111,null,null,null,"%_1","%_2","%_3","%_4","%_5","%_6"]
[12,3135,14,3138,13,3142,23,3160,null,null,0,1112,null,null,"target sequence",{"$f":"$G$3","v":2212},{"$f":"$G$3","v":2212},{"$f":"$G$3","v":2212},{"$f":"$G$3","v":2212},{"$f":"$G$3","v":2212},{"$f":"$G$3","v":2212}]
[12,3260,14,3272,13,3295,14,3299,null,null,0,1111,null,null,"total reinforcement",{"$f":"U20","v":0},{"$f":"Z20","v":0},{"$f":"AE20","v":0},{"$f":"AJ20","v":0},{"$f":"AO20","v":0},{"$f":"AT20","v":0}]
[12,3396,14,3415,24,3426,14,3437,null,null,0,1121,null,null,"% target"]
[12,3554,14,3559,13,3563,23,3576,null,null,0,1112,null,null,"CCRF"]
[12,3702,14,3706,24,3722,14,3737,null,null,0,1121,null,null,"% CCRf"]
[12,3845,14,3857,13,3867,14,3871,null,null,0,1111,null,null,"average response rate",{"$f":"H27/P28","v":125.9047619047619},{"$f":"(H48-H27)/Q28","v":167.8095238095238},{"$f":"(H68-H48)/R28","v":231.35},{"$f":"(H89-H68)/S28","v":228.95238095238096},{"$f":"(H110-H89)/T28","v":161.1904761904762},{"$f":"(H131-H110)/U28","v":234.71428571428572}]
[12,3971,14,3978,13,3986,14,4003,null,null,0,1111]
[12,4173,14,4177,13,4182,14,4190,null,null,0,1111]
[21,4343,12,4354,13,4358,23,4369,null,null,0,2112]
[21,4554,12,4565,13,4570,23,4623,null,null,0,2112]
[12,4811,23,4825,13,4835,14,4841,null,null,0,1211]
[12,4950,14,4954,13,4962,14,4966,null,null,0,1111]
[12,5152,14,5162,13,5172,23,5186,null,null,0,1112]
[12,5505,14,5509,13,5520,23,5532,null,null,0,1112]
[12,5690,14,5694,13,5717,14,5724,null,null,0,1111]
[12,5844,14,5848,13,5870,14,5877,null,null,0,1111]
[12,5993,14,6005,13,6010,14,6018,null,null,0,1111]
[12,6151,14,6155,13,6163,14,6168,null,null,0,1111]
[12,6300,14,6309,13,6313,14,6319,null,null,0,1111]
[21,6486,12,6497,13,6503,14,6540,null,null,0,2111]
[21,6712,12,6723,13,6727,14,6731,null,null,0,2111]
[21,6843,21,6859,22,6868,23,6890,null,null,0,2222]
[12,7008,14,7015,13,7027,14,7032,null,null,0,1111]
[12,7251,14,7262,24,7309,14,7320,null,null,0,1121]
[12,7784,14,7792,13,7796,14,7812,null,null,0,1111]
[12,8124,14,8131,13,8150,14,8154,null,null,0,1111]
[12,8291,14,8309,13,8320,14,8333,null,null,0,1111]
[12,8446,14,8451,13,8459,14,8466,null,null,0,1111]
[12,8566,14,8580,13,8584,14,8589,null,null,0,1111]
[12,8693,14,8704,13,8712,14,8717,null,null,0,1111]
[12,8824,14,8828,13,8845,14,8850,null,null,0,1111]
[12,8998,14,9004,13,9020,14,9025,null,null,0,1111]
[12,9325,14,9336,13,9341,23,9350,null,null,0,1112]
[12,9519,14,9526,13,9536,14,9541,null,null,0,1111]
[12,9693,14,9697,13,9710,14,9715,null,null,0,1111]
[12,10134,14,10143,13,10148,14,10156,null,null,0,1111]
[12,10552,14,10556,13,10564,14,10569,null,null,0,1111]
[12,10782,14,10786,13,10790,14,10795,null,null,0,1111]
[12,11058,14,11076,13,11082,14,11089,null,null,0,1111]
[12,11227,14,11231,13,11239,14,11243,null,null,0,1111]
[12,11635,14,11639,13,11647,14,11653,null,null,0,1111]
[12,11879,14,11893,13,11897,14,11904,null,null,0,1111]
[21,12323,12,12334,13,12338,14,12343,null,null,0,2111]
[12,12662,23,12675,13,12689,14,12693,null,null,0,1211]
[21,12849,12,12862,13,12867,14,12876,null,null,0,2111]
[21,13193,12,13204,13,13217,23,13230,null,null,0,2112]
[21,13422,21,13474,11,13509,12,13514,null,null,0,2211]
[12,13655,14,13666,13,13675,14,13679,null,null,0,1111]
[12,13782,14,13790,24,13802,14,13812,null,null,0,1121]
[21,14072,21,14121,11,14139,12,14144,null,null,0,2211]
[12,14272,14,14276,13,14287,14,14292,null,null,0,1111]
[12,14396,14,14408,13,14414,14,14421,null,null,0,1111]
[12,14541,14,14545,13,14551,14,14556,null,null,0,1111]
[12,14654,14,14662,13,14675,14,14680,null,null,0,1111]
[12,14784,14,14791,13,14803,14,14807,null,null,0,1111]
[21,15094,12,15117,13,15122,14,15127,null,null,0,2111]
[12,15260,14,15264,13,15268,14,15273,null,null,0,1111]
[21,15397,12,15433,13,15438,14,15445,null,null,0,2111]
[12,15581,14,15589,13,15598,14,15603,null,null,0,1111]
[12,15701,14,15721,13,15726,14,15730,null,null,0,1111]
[12,15898,14,15906,13,15913,14,15918,null,null,0,1111]
[12,16023,14,16040,13,16048,14,16055,null,null,0,1111]
[12,16169,14,16187,13,16194,14,16201,null,null,0,1111]
[12,16302,14,16315,13,16320,14,16324,null,null,0,1111]
[21,16462,12,16472,13,16477,14,16481,null,null,0,2111]
[12,16601,14,16613,24,16628,14,16638,null,null,0,1121]
[21,16976,21,16995,11,17006,12,17011,null,null,0,2211]
[12,17117,14,17130,13,17136,14,17146,null,null,0,1111]
[12,17256,14,17260,13,17278,14,17282,null,null,0,1111]
[21,17389,12,17401,13,17420,14,17424,null,null,0,2111]
[21,17521,12,17553,13,17557,23,17581,null,null,0,2112]
[12,17700,14,17723,13,17730,14,17737,null,null,0,1111]
[12,17840,14,17847,13,17851,14,17857,null,null,0,1111]
[12,17962,14,17966,13,17975,14,17979,null,null,0,1111]
[21,18130,21,18137,22,18152,23,18271,null,null,0,2222]
[12,18370,14,18376,13,18394,23,18409,null,null,0,1112]
[12,18524,14,18535,13,18543,14,18558,null,null,0,1111]
[12,18665,14,18671,13,18676,14,18691,null,null,0,1111]
[12,18801,14,18822,13,18829,14,18836,null,null,0,1111]
[12,18938,14,18954,13,18983,14,18988,null,null,0,1111]
[21,19107,12,19121,13,19145,14,19149,null,null,0,2111]
[12,19308,14,19312,13,19316,14,19321,null,null,0,1111]
[12,19545,14,19555,13,19579,14,19587,null,null,0,1111]
[12,19707,14,19723,13,19730,14,19735,null,null,0,1111]
[12,19844,14,19849,13,19854,14,19876,null,null,0,1111]
[21,20059,21,20082,22,20104,23,20118,null,null,0,2222]
[21,20251,12,20268,13,20288,14,20301,null,null,0,2111]
[21,20481,12,20505,13,20519,14,20524,null,null,0,2111]
[21,20804,21,20832,11,20843,12,20848,null,null,0,2211]
[21,21152,12,21163,13,21168,14,21172,null,null,0,2111]
[12,21316,14,21320,24,21333,14,21345,null,null,0,1121]
[21,21602,12,21613,24,21623,23,21653,null,null,0,2122]
[12,21964,14,21982,13,21986,14,21999,null,null,0,1111]
[12,22116,14,22121,13,22143,14,22158,null,null,0,1111]
[21,22293,21,22335,11,22349,12,22354,null,null,0,2211]
[12,22487,23,22506,13,22516,14,22521,null,null,0,1211]
[12,22658,23,22671,13,22707,14,22712,null,null,0,1211]
[21,22923,21,22939,11,22949,12,22966,null,null,0,2211]
[21,23262,12,23276,13,23280,14,23285,null,null,0,2111]
[12,23442,23,23467,13,23477,14,23482,null,null,0,1211]
[21,23851,21,23890,22,23907,14,23917,null,null,null,2221]

{"sheet":"!MA15C40.096","index":5,"n_rows":132,"n_cols":48,"rows_kept":132,"cut":false,"hidden":false,"merged":[[4,39,4,42],[5,39,5,40],[4,44,4,47],[5,44,5,45],[4,24,4,27],[5,24,5,25],[4,29,4,32],[5,29,5,30],[4,34,4,37],[5,34,5,35],[1,1,1,2],[5,13,5,14],[26,13,26,14],[27,13,27,14],[4,19,4,22],[5,19,5,20]]}
["Report for:!MA15C40.096"]
["Date:","<date>"]
["Hen:","<hen>",null,null,null,"Correct Sequence",{"$f":"Start!J2","v":2212},null,null,null,null,null,null,null,null,"Total Sequences in Data",{"$f":"4994-COUNTBLANK(L7:L5000)","v":126},null,null,null,null,"Total Sequences in Block Data",{"$f":"COUNTA(L7:L27)","v":21},null,null,null,"Total Sequences in Block Data",{"$f":"COUNTA(L28:L48)","v":21},null,null,null,"Total Sequences in Block Data",{"$f":"COUNTA(L49:L69)","v":21},null,null,null,"Total Sequences in Block Data",{"$f":"COUNTA(L70:L90)","v":21},null,null,null,"Total Sequences in Block Data",{"$f":"COUNTA(L91:L111)","v":21},null,null,null,"Total Sequences in Block Data",{"$f":"COUNTA(L112:L132)","v":21}]
[null,null,null,null,null,null,null,null,null,null,null,null,null,null,null,"Total Sequences in Summary",{"$f":"SUM(O7:O22)","v":126},null,null,null,null,"Total Sequences in Block Summary",{"$f":"SUM(U7:U22)","v":21},null,null,null,"Total Sequences in Block Summary",{"$f":"SUM(Z7:Z22)","v":21},null,null,null,"Total Sequences in Block Summary",{"$f":"SUM(AE7:AE22)","v":21},null,null,null,"Total Sequences in Block Summary",{"$f":"SUM(AJ7:AJ22)","v":21},null,null,null,"Total Sequences in Block Summary",{"$f":"SUM(AO7:AO22)","v":21},null,null,null,"Total Sequences in Block Summary",{"$f":"SUM(AT7:AT22)","v":21}]
[null,null,null,null,null,null,null,null,null,null,null,null,null,null,null,null,null,null,null,"Block 1",null,null,null,null,"Block 2",null,null,null,null,"Block 3",null,null,null,null,"Block 4",null,null,null,null,"Block 5",null,null,null,null,"Block 6"]
["Sequence\nComponent\n1","Time\n1","Sequence\nComponent\n2","Time\n2","Sequence\nComponent\n3","Time\n3","Sequence\nComponent\n4","Time\n4","Sequence\nComponent\n5","Time\n5","Correct?\n0=No 1=Yes","Sequence",null,"Frequency",null,"Relative Frequency","Variability",null,null,"Frequency",null,"Relative Frequency","Variability",null,"Frequency",null,"Relative Frequency","Variability",null,"Frequency",null,"Relative Frequency","Variability",null,"Frequency",null,"Relative Frequency","Variability",null,"Frequency",null,"Relative Frequency","Variability",null,"Frequency",null,"Relative Frequency","Variability"]
[12,13,14,18,13,28,14,34,null,null,0,1111,null,1111,{"$f":"COUNTIF($L$7:$L$500,N7)","v":45},{"$f":"O7/$Q$4","v":0.35714285714285715},{"$f":"IF(P7=0,0,(P7*((LOG(P7))/LOG(2))))","v":-0.53050958113222924},null,null,{"$f":"N7","v":1111},{"$f":"COUNTIF(L7:L27,T7)","v":6},{"$f":"U7/(W4-U20)","v":0.3},{"$f":"IF(V7=0,0,(V7*((LOG(V7))/LOG(2))))","v":-0.52108967824986185},null,{"$f":"N7","v":1111},{"$f":"COUNTIF(L28:L48,Y7)","v":13},{"$f":"Z7/(AB4-Z20)","v":0.61904761904761907},{"$f":"IF(AA7=0,0,(AA7*((LOG(AA7))/LOG(2))))","v":-0.42830524572808026},null,{"$f":"N7","v":1111},{"$f":"COUNTIF(L49:L69,AD7)","v":3},{"$f":"AE7/(AG4-AE20)","v":0.14285714285714285},{"$f":"IF(AF7=0,0,(AF7*((LOG(AF7))/LOG(2))))","v":-0.40105070315108626},null,{"$f":"N7","v":1111},{"$f":"COUNTIF(L70:L90,AI7)","v":10},{"$f":"AJ7/(AL4-AJ20)","v":0.5},{"$f":"IF(AK7=0,0,(AK7*((LOG(AK7))/LOG(2))))","v":-0.5},null,{"$f":"N7","v":1111},{"$f":"COUNTIF(L91:L111,AN7)","v":7},{"$f":"AO7/(AQ4-AO20)","v":0.35},{"$f":"IF(AP7=0,0,(AP7*((LOG(AP7))/LOG(2))))","v":-0.53010061049041535},null,{"$f":"N7","v":1111},{"$f":"COUNTIF(L112:L132,AS7)","v":6},{"$f":"AT7/(AV4-AT20)","v":0.3},{"$f":"IF(AU7=0,0,(AU7*((LOG(AU7))/LOG(2))))","v":-0.52108967824986185}]
[12,135,14,142,13,161,14,168,null,null,0,1111,null,1112,{"$f":"COUNTIF($L$7:$L$500,N8)","v":13},{"$f":"O8/$Q$4","v":0.10317460317460317},{"$f":"IF(P8=0,0,(P8*((LOG(P8))/LOG(2))))","v":-0.33808668785448182},null,null,{"$f":"N8","v":1112},{"$f":"COUNTIF(L7:L27,T8)","v":2},{"$f":"U8/(W4-U20)","v":0.1},{"$f":"IF(V8=0,0,(V8*((LOG(V8))/LOG(2))))","v":-0.33219280948873625},null,{"$f":"N8","v":1112},{"$f":"COUNTIF(L28:L48,Y8)","v":2},{"$f":"Z8/(AB4-Z20)","v":9.5238095238095233E-2},{"$f":"IF(AA8=0,0,(AA8*((LOG(AA8))/LOG(2))))","v":-0.32307784978845333},null,{"$f":"N8","v":1112},{"$f":"COUNTIF(L49:L69,AD8)","v":2},{"$f":"AE8/(AG4-AE20)","v":9.5238095238095233E-2},{"$f":"IF(AF8=0,0,(AF8*((LOG(AF8))/LOG(2))))","v":-0.32307784978845333},null,{"$f":"N8","v":1112},{"$f":"COUNTIF(L70:L90,AI8)","v":3},{"$f":"AJ8/(AL4-AJ20)","v":0.15},{"$f":"IF(AK8=0,0,(AK8*((LOG(AK8))/LOG(2))))","v":-0.41054483912493089},null,{"$f":"N8","v":1112},{"$f":"COUNTIF(L91:L111,AN8)","v":0},{"$f":"AO8/(AQ4-AO20)","v":0},{"$f":"IF(AP8=0,0,(AP8*((LOG(AP8))/LOG(2))))","v":0},null,{"$f":"N8","v":1112},{"$f":"COUNTIF(L112:L132,AS8)","v":4},{"$f":"AT8/(AV4-AT20)","v":0.2},{"$f":"IF(AU8=0,0,(AU8*((LOG(AU8))/LOG(2))))","v":-0.46438561897747244}]
[12,266,14,274,13,278,14,301,null,null,0,1111,null,1121,{"$f":"COUNTIF($L$7:$L$500,N9)","v":18},{"$f":"O9/$Q$4","v":0.14285714285714285},{"$f":"IF(P9=0,0,(P9*((LOG(P9))/LOG(2))))","v":-0.40105070315108626},null,null,{"$f":"N9","v":1121},{"$f":"COUNTIF(L7:L27,T9)","v":1},{"$f":"U9/(W4-U20)","v":0.05},{"$f":"IF(V9=0,0,(V9*((LOG(V9))/LOG(2))))","v":-0.21609640474436814},null,{"$f":"N9","v":1121},{"$f":"COUNTIF(L28:L48,Y9)","v":2},{"$f":"Z9/(AB4-Z20)","v":9.5238095238095233E-2},{"$f":"IF(AA9=0,0,(AA9*((LOG(AA9))/LOG(2))))","v":-0.32307784978845333},null,{"$f":"N9","v":1121},{"$f":"COUNTIF(L49:L69,AD9)","v":5},{"$f":"AE9/(AG4-AE20)","v":0.23809523809523808},{"$f":"IF(AF9=0,0,(AF9*((LOG(AF9))/LOG(2))))","v":-0.49294983997414238},null,{"$f":"N9","v":1121},{"$f":"COUNTIF(L70:L90,AI9)","v":3},{"$f":"AJ9/(AL4-AJ20)","v":0.15},{"$f":"IF(AK9=0,0,(AK9*((LOG(AK9))/LOG(2))))","v":-0.41054483912493089},null,{"$f":"N9","v":1121},{"$f":"COUNTIF(L91:L111,AN9)","v":4},{"$f":"AO9/(AQ4-AO20)","v":0.2},{"$f":"IF(AP9=0,0,(AP9*((LOG(AP9))/LOG(2))))","v":-0.46438561897747244},null,{"$f":"N9","v":1121},{"$f":"COUNTIF(L112:L132,AS9)","v":3},{"$f":"AT9/(AV4-AT20)","v":0.15},{"$f":"IF(AU9=0,0,(AU9*((LOG(AU9))/LOG(2))))","v":-0.41054483912493089}]
[12,436,14,453,13,460,14,468,null,null,0,1111,null,1122,{"$f":"COUNTIF($L$7:$L$500,N10)","v":0},{"$f":"O10/$Q$4","v":0},{"$f":"IF(P10=0,0,(P10*((LOG(P10))/LOG(2))))","v":0},null,null,{"$f":"N10","v":1122},{"$f":"COUNTIF(L7:L27,T10)","v":0},{"$f":"U10/(W4-U20)","v":0},{"$f":"IF(V10=0,0,(V10*((LOG(V10))/LOG(2))))","v":0},null,{"$f":"N10","v":1122},{"$f":"COUNTIF(L28:L48,Y10)","v":0},{"$f":"Z10/(AB4-Z20)","v":0},{"$f":"IF(AA10=0,0,(AA10*((LOG(AA10))/LOG(2))))","v":0},null,{"$f":"N10","v":1122},{"$f":"COUNTIF(L49:L69,AD10)","v":0},{"$f":"AE10/(AG4-AE20)","v":0},{"$f":"IF(AF10=0,0,(AF10*((LOG(AF10))/LOG(2))))","v":0},null,{"$f":"N10","v":1122},{"$f":"COUNTIF(L70:L90,AI10)","v":0},{"$f":"AJ10/(AL4-AJ20)","v":0},{"$f":"IF(AK10=0,0,(AK10*((LOG(AK10))/LOG(2))))","v":0},null,{"$f":"N10","v":1122},{"$f":"COUNTIF(L91:L111,AN10)","v":0},{"$f":"AO10/(AQ4-AO20)","v":0},{"$f":"IF(AP10=0,0,(AP10*((LOG(AP10))/LOG(2))))","v":0},null,{"$f":"N10","v":1122},{"$f":"COUNTIF(L112:L132,AS10)","v":0},{"$f":"AT10/(AV4-AT20)","v":0},{"$f":"IF(AU10=0,0,(AU10*((LOG(AU10))/LOG(2))))","v":0}]
[12,590,14,594,13,600,23,613,null,null,0,1112,null,1211,{"$f":"COUNTIF($L$7:$L$500,N11)","v":8},{"$f":"O11/$Q$4","v":6.3492063492063489E-2},{"$f":"IF(P11=0,0,(P11*((LOG(P11))/LOG(2))))","v":-0.25252570942856611},null,null,{"$f":"N11","v":1211},{"$f":"COUNTIF(L7:L27,T11)","v":1},{"$f":"U11/(W4-U20)","v":0.05},{"$f":"IF(V11=0,0,(V11*((LOG(V11))/LOG(2))))","v":-0.21609640474436814},null,{"$f":"N11","v":1211},{"$f":"COUNTIF(L28:L48,Y11)","v":1},{"$f":"Z11/(AB4-Z20)","v":4.7619047619047616E-2},{"$f":"IF(AA11=0,0,(AA11*((LOG(AA11))/LOG(2))))","v":-0.20915797251327431},null,{"$f":"N11","v":1211},{"$f":"COUNTIF(L49:L69,AD11)","v":1},{"$f":"AE11/(AG4-AE20)","v":4.7619047619047616E-2},{"$f":"IF(AF11=0,0,(AF11*((LOG(AF11))/LOG(2))))","v":-0.20915797251327431},null,{"$f":"N11","v":1211},{"$f":"COUNTIF(L70:L90,AI11)","v":1},{"$f":"AJ11/(AL4-AJ20)","v":0.05},{"$f":"IF(AK11=0,0,(AK11*((LOG(AK11))/LOG(2))))","v":-0.21609640474436814},null,{"$f":"N11","v":1211},{"$f":"COUNTIF(L91:L111,AN11)","v":2},{"$f":"AO11/(AQ4-AO20)","v":0.1},{"$f":"IF(AP11=0,0,(AP11*((LOG(AP11))/LOG(2))))","v":-0.33219280948873625},null,{"$f":"N11","v":1211},{"$f":"COUNTIF(L112:L132,AS11)","v":2},{"$f":"AT11/(AV4-AT20)","v":0.1},{"$f":"IF(AU11=0,0,(AU11*((LOG(AU11))/LOG(2))))","v":-0.33219280948873625}]
[12,723,14,749,13,754,14,775,null,null,0,1111,null,1212,{"$f":"COUNTIF($L$7:$L$500,N12)","v":2},{"$f":"O12/$Q$4","v":1.5873015873015872E-2},{"$f":"IF(P12=0,0,(P12*((LOG(P12))/LOG(2))))","v":-9.4877459103173273E-2},null,null,{"$f":"N12","v":1212},{"$f":"COUNTIF(L7:L27,T12)","v":0},{"$f":"U12/(W4-U20)","v":0},{"$f":"IF(V12=0,0,(V12*((LOG(V12))/LOG(2))))","v":0},null,{"$f":"N12","v":1212},{"$f":"COUNTIF(L28:L48,Y12)","v":0},{"$f":"Z12/(AB4-Z20)","v":0},{"$f":"IF(AA12=0,0,(AA12*((LOG(AA12))/LOG(2))))","v":0},null,{"$f":"N12","v":1212},{"$f":"COUNTIF(L49:L69,AD12)","v":0},{"$f":"AE12/(AG4-AE20)","v":0},{"$f":"IF(AF12=0,0,(AF12*((LOG(AF12))/LOG(2))))","v":0},null,{"$f":"N12","v":1212},{"$f":"COUNTIF(L70:L90,AI12)","v":0},{"$f":"AJ12/(AL4-AJ20)","v":0},{"$f":"IF(AK12=0,0,(AK12*((LOG(AK12))/LOG(2))))","v":0},null,{"$f":"N12","v":1212},{"$f":"COUNTIF(L91:L111,AN12)","v":1},{"$f":"AO12/(AQ4-AO20)","v":0.05},{"$f":"IF(AP12=0,0,(AP12*((LOG(AP12))/LOG(2))))","v":-0.21609640474436814},null,{"$f":"N12","v":1212},{"$f":"COUNTIF(L112:L132,AS12)","v":1},{"$f":"AT12/(AV4-AT20)","v":0.05},{"$f":"IF(AU12=0,0,(AU12*((LOG(AU12))/LOG(2))))","v":-0.21609640474436814}]
[12,930,23,938,24,951,14,963,null,null,0,1221,null,1221,{"$f":"COUNTIF($L$7:$L$500,N13)","v":1},{"$f":"O13/$Q$4","v":7.9365079365079361E-3},{"$f":"IF(P13=0,0,(P13*((LOG(P13))/LOG(2))))","v":-5.5375237488094572E-2},null,null,{"$f":"N13","v":1221},{"$f":"COUNTIF(L7:L27,T13)","v":1},{"$f":"U13/(W4-U20)","v":0.05},{"$f":"IF(V13=0,0,(V13*((LOG(V13))/LOG(2))))","v":-0.21609640474436814},null,{"$f":"N13","v":1221},{"$f":"COUNTIF(L28:L48,Y13)","v":0},{"$f":"Z13/(AB4-Z20)","v":0},{"$f":"IF(AA13=0,0,(AA13*((LOG(AA13))/LOG(2))))","v":0},null,{"$f":"N13","v":1221},{"$f":"COUNTIF(L49:L69,AD13)","v":0},{"$f":"AE13/(AG4-AE20)","v":0},{"$f":"IF(AF13=0,0,(AF13*((LOG(AF13))/LOG(2))))","v":0},null,{"$f":"N13","v":1221},{"$f":"COUNTIF(L70:L90,AI13)","v":0},{"$f":"AJ13/(AL4-AJ20)","v":0},{"$f":"IF(AK13=0,0,(AK13*((LOG(AK13))/LOG(2))))","v":0},null,{"$f":"N13","v":1221},{"$f":"COUNTIF(L91:L111,AN13)","v":0},{"$f":"AO13/(AQ4-AO20)","v":0},{"$f":"IF(AP13=0,0,(AP13*((LOG(AP13))/LOG(2))))","v":0},null,{"$f":"N13","v":1221},{"$f":"COUNTIF(L112:L132,AS13)","v":0},{"$f":"AT13/(AV4-AT20)","v":0},{"$f":"IF(AU13=0,0,(AU13*((LOG(AU13))/LOG(2))))","v":0}]
[21,1127,12,1138,13,1143,14,1150,null,null,0,2111,null,1222,{"$f":"COUNTIF($L$7:$L$500,N14)","v":1},{"$f":"O14/$Q$4","v":7.9365079365079361E-3},{"$f":"IF(P14=0,0,(P14*((LOG(P14))/LOG(2))))","v":-5.5375237488094572E-2},null,null,{"$f":"N14","v":1222},{"$f":"COUNTIF(L7:L27,T14)","v":0},{"$f":"U14/(W4-U20)","v":0},{"$f":"IF(V14=0,0,(V14*((LOG(V14))/LOG(2))))","v":0},null,{"$f":"N14","v":1222},{"$f":"COUNTIF(L28:L48,Y14)","v":1},{"$f":"Z14/(AB4-Z20)","v":4.7619047619047616E-2},{"$f":"IF(AA14=0,0,(AA14*((LOG(AA14))/LOG(2))))","v":-0.20915797251327431},null,{"$f":"N14","v":1222},{"$f":"COUNTIF(L49:L69,AD14)","v":0},{"$f":"AE14/(AG4-AE20)","v":0},{"$f":"IF(AF14=0,0,(AF14*((LOG(AF14))/LOG(2))))","v":0},null,{"$f":"N14","v":1222},{"$f":"COUNTIF(L70:L90,AI14)","v":0},{"$f":"AJ14/(AL4-AJ20)","v":0},{"$f":"IF(AK14=0,0,(AK14*((LOG(AK14))/LOG(2))))","v":0},null,{"$f":"N14","v":1222},{"$f":"COUNTIF(L91:L111,AN14)","v":0},{"$f":"AO14/(AQ4-AO20)","v":0},{"$f":"IF(AP14=0,0,(AP14*((LOG(AP14))/LOG(2))))","v":0},null,{"$f":"N14","v":1222},{"$f":"COUNTIF(L112:L132,AS14)","v":0},{"$f":"AT14/(AV4-AT20)","v":0},{"$f":"IF(AU14=0,0,(AU14*((LOG(AU14))/LOG(2))))","v":0}]
[21,1269,21,1288,11,1299,12,1303,null,null,0,2211,null,2111,{"$f":"COUNTIF($L$7:$L$500,N15)","v":7},{"$f":"O15/$Q$4","v":5.5555555555555552E-2},{"$f":"IF(P15=0,0,(P15*((LOG(P15))/LOG(2))))","v":-0.23166250008012845},null,null,{"$f":"N15","v":2111},{"$f":"COUNTIF(L7:L27,T15)","v":2},{"$f":"U15/(W4-U20)","v":0.1},{"$f":"IF(V15=0,0,(V15*((LOG(V15))/LOG(2))))","v":-0.33219280948873625},null,{"$f":"N15","v":2111},{"$f":"COUNTIF(L28:L48,Y15)","v":1},{"$f":"Z15/(AB4-Z20)","v":4.7619047619047616E-2},{"$f":"IF(AA15=0,0,(AA15*((LOG(AA15))/LOG(2))))","v":-0.20915797251327431},null,{"$f":"N15","v":2111},{"$f":"COUNTIF(L49:L69,AD15)","v":2},{"$f":"AE15/(AG4-AE20)","v":9.5238095238095233E-2},{"$f":"IF(AF15=0,0,(AF15*((LOG(AF15))/LOG(2))))","v":-0.32307784978845333},null,{"$f":"N15","v":2111},{"$f":"COUNTIF(L70:L90,AI15)","v":0},{"$f":"AJ15/(AL4-AJ20)","v":0},{"$f":"IF(AK15=0,0,(AK15*((LOG(AK15))/LOG(2))))","v":0},null,{"$f":"N15","v":2111},{"$f":"COUNTIF(L91:L111,AN15)","v":0},{"$f":"AO15/(AQ4-AO20)","v":0},{"$f":"IF(AP15=0,0,(AP15*((LOG(AP15))/LOG(2))))","v":0},null,{"$f":"N15","v":2111},{"$f":"COUNTIF(L112:L132,AS15)","v":2},{"$f":"AT15/(AV4-AT20)","v":0.1},{"$f":"IF(AU15=0,0,(AU15*((LOG(AU15))/LOG(2))))","v":-0.33219280948873625}]
[21,1413,21,1430,22,1458,23,1481,null,null,0,2222,null,2112,{"$f":"COUNTIF($L$7:$L$500,N16)","v":5},{"$f":"O16/$Q$4","v":3.968253968253968E-2},{"$f":"IF(P16=0,0,(P16*((LOG(P16))/LOG(2))))","v":-0.18473618367510133},null,null,{"$f":"N16","v":2112},{"$f":"COUNTIF(L7:L27,T16)","v":1},{"$f":"U16/(W4-U20)","v":0.05},{"$f":"IF(V16=0,0,(V16*((LOG(V16))/LOG(2))))","v":-0.21609640474436814},null,{"$f":"N16","v":2112},{"$f":"COUNTIF(L28:L48,Y16)","v":1},{"$f":"Z16/(AB4-Z20)","v":4.7619047619047616E-2},{"$f":"IF(AA16=0,0,(AA16*((LOG(AA16))/LOG(2))))","v":-0.20915797251327431},null,{"$f":"N16","v":2112},{"$f":"COUNTIF(L49:L69,AD16)","v":0},{"$f":"AE16/(AG4-AE20)","v":0},{"$f":"IF(AF16=0,0,(AF16*((LOG(AF16))/LOG(2))))","v":0},null,{"$f":"N16","v":2112},{"$f":"COUNTIF(L70:L90,AI16)","v":1},{"$f":"AJ16/(AL4-AJ20)","v":0.05},{"$f":"IF(AK16=0,0,(AK16*((LOG(AK16))/LOG(2))))","v":-0.21609640474436814},null,{"$f":"N16","v":2112},{"$f":"COUNTIF(L91:L111,AN16)","v":0},{"$f":"AO16/(AQ4-AO20)","v":0},{"$f":"IF(AP16=0,0,(AP16*((LOG(AP16))/LOG(2))))","v":0},null,{"$f":"N16","v":2112},{"$f":"COUNTIF(L112:L132,AS16)","v":2},{"$f":"AT16/(AV4-AT20)","v":0.1},{"$f":"IF(AU16=0,0,(AU16*((LOG(AU16))/LOG(2))))","v":-0.33219280948873625}]
[21,1646,21,1657,11,1675,21,1699,null,null,0,2212,null,2121,{"$f":"COUNTIF($L$7:$L$500,N17)","v":4},{"$f":"O17/$Q$4","v":3.1746031746031744E-2},{"$f":"IF(P17=0,0,(P17*((LOG(P17))/LOG(2))))","v":-0.15800888646031477},null,null,{"$f":"N17","v":2121},{"$f":"COUNTIF(L7:L27,T17)","v":0},{"$f":"U17/(W4-U20)","v":0},{"$f":"IF(V17=0,0,(V17*((LOG(V17))/LOG(2))))","v":0},null,{"$f":"N17","v":2121},{"$f":"COUNTIF(L28:L48,Y17)","v":0},{"$f":"Z17/(AB4-Z20)","v":0},{"$f":"IF(AA17=0,0,(AA17*((LOG(AA17))/LOG(2))))","v":0},null,{"$f":"N17","v":2121},{"$f":"COUNTIF(L49:L69,AD17)","v":1},{"$f":"AE17/(AG4-AE20)","v":4.7619047619047616E-2},{"$f":"IF(AF17=0,0,(AF17*((LOG(AF17))/LOG(2))))","v":-0.20915797251327431},null,{"$f":"N17","v":2121},{"$f":"COUNTIF(L70:L90,AI17)","v":1},{"$f":"AJ17/(AL4-AJ20)","v":0.05},{"$f":"IF(AK17=0,0,(AK17*((LOG(AK17))/LOG(2))))","v":-0.21609640474436814},null,{"$f":"N17","v":2121},{"$f":"COUNTIF(L91:L111,AN17)","v":2},{"$f":"AO17/(AQ4-AO20)","v":0.1},{"$f":"IF(AP17=0,0,(AP17*((LOG(AP17))/LOG(2))))","v":-0.33219280948873625},null,{"$f":"N17","v":2121},{"$f":"COUNTIF(L112:L132,AS17)","v":0},{"$f":"AT17/(AV4-AT20)","v":0},{"$f":"IF(AU17=0,0,(AU17*((LOG(AU17))/LOG(2))))","v":0}]
[21,1834,21,1881,11,1905,12,1910,null,null,0,2211,null,2122,{"$f":"COUNTIF($L$7:$L$500,N18)","v":1},{"$f":"O18/$Q$4","v":7.9365079365079361E-3},{"$f":"IF(P18=0,0,(P18*((LOG(P18))/LOG(2))))","v":-5.5375237488094572E-2},null,null,{"$f":"N18","v":2122},{"$f":"COUNTIF(L7:L27,T18)","v":0},{"$f":"U18/(W4-U20)","v":0},{"$f":"IF(V18=0,0,(V18*((LOG(V18))/LOG(2))))","v":0},null,{"$f":"N18","v":2122},{"$f":"COUNTIF(L28:L48,Y18)","v":0},{"$f":"Z18/(AB4-Z20)","v":0},{"$f":"IF(AA18=0,0,(AA18*((LOG(AA18))/LOG(2))))","v":0},null,{"$f":"N18","v":2122},{"$f":"COUNTIF(L49:L69,AD18)","v":0},{"$f":"AE18/(AG4-AE20)","v":0},{"$f":"IF(AF18=0,0,(AF18*((LOG(AF18))/LOG(2))))","v":0},null,{"$f":"N18","v":2122},{"$f":"COUNTIF(L70:L90,AI18)","v":1},{"$f":"AJ18/(AL4-AJ20)","v":0.05},{"$f":"IF(AK18=0,0,(AK18*((LOG(AK18))/LOG(2))))","v":-0.21609640474436814},null,{"$f":"N18","v":2122},{"$f":"COUNTIF(L91:L111,AN18)","v":0},{"$f":"AO18/(AQ4-AO20)","v":0},{"$f":"IF(AP18=0,0,(AP18*((LOG(AP18))/LOG(2))))","v":0},null,{"$f":"N18","v":2122},{"$f":"COUNTIF(L112:L132,AS18)","v":0},{"$f":"AT18/(AV4-AT20)","v":0},{"$f":"IF(AU18=0,0,(AU18*((LOG(AU18))/LOG(2))))","v":0}]
[12,2009,14,2016,24,2029,14,2046,null,null,0,1121,null,2211,{"$f":"COUNTIF($L$7:$L$500,N19)","v":5},{"$f":"O19/$Q$4","v":3.968253968253968E-2},{"$f":"IF(P19=0,0,(P19*((LOG(P19))/LOG(2))))","v":-0.18473618367510133},null,null,{"$f":"N19","v":2211},{"$f":"COUNTIF(L7:L27,T19)","v":3},{"$f":"U19/(W4-U20)","v":0.15},{"$f":"IF(V19=0,0,(V19*((LOG(V19))/LOG(2))))","v":-0.41054483912493089},null,{"$f":"N19","v":2211},{"$f":"COUNTIF(L28:L48,Y19)","v":0},{"$f":"Z19/(AB4-Z20)","v":0},{"$f":"IF(AA19=0,0,(AA19*((LOG(AA19))/LOG(2))))","v":0},null,{"$f":"N19","v":2211},{"$f":"COUNTIF(L49:L69,AD19)","v":2},{"$f":"AE19/(AG4-AE20)","v":9.5238095238095233E-2},{"$f":"IF(AF19=0,0,(AF19*((LOG(AF19))/LOG(2))))","v":-0.32307784978845333},null,{"$f":"N19","v":2211},{"$f":"COUNTIF(L70:L90,AI19)","v":0},{"$f":"AJ19/(AL4-AJ20)","v":0},{"$f":"IF(AK19=0,0,(AK19*((LOG(AK19))/LOG(2))))","v":0},null,{"$f":"N19","v":2211},{"$f":"COUNTIF(L91:L111,AN19)","v":0},{"$f":"AO19/(AQ4-AO20)","v":0},{"$f":"IF(AP19=0,0,(AP19*((LOG(AP19))/LOG(2))))","v":0},null,{"$f":"N19","v":2211},{"$f":"COUNTIF(L112:L132,AS19)","v":0},{"$f":"AT19/(AV4-AT20)","v":0},{"$f":"IF(AU19=0,0,(AU19*((LOG(AU19))/LOG(2))))","v":0}]
[21,2183,12,2192,13,2201,23,2212,null,null,0,2112,null,2212,{"$f":"COUNTIF($L$7:$L$500,N20)","v":4},{"$f":"O20/$Q$4","v":3.1746031746031744E-2},{"$f":"IF(P20=0,0,(P20*((LOG(P20))/LOG(2))))","v":-0.15800888646031477},null,null,{"$f":"N20","v":2212},{"$f":"COUNTIF(L7:L27,T20)","v":1},null,null,null,{"$f":"N20","v":2212},{"$f":"COUNTIF(L28:L48,Y20)","v":0},null,null,null,{"$f":"N20","v":2212},{"$f":"COUNTIF(L49:L69,AD20)","v":0},null,null,null,{"$f":"N20","v":2212},{"$f":"COUNTIF(L70:L90,AI20)","v":1},null,null,null,{"$f":"N20","v":2212},{"$f":"COUNTIF(L91:L111,AN20)","v":1},null,null,null,{"$f":"N20","v":2212},{"$f":"COUNTIF(L112:L132,AS20)","v":1}]
[21,2354,21,2363,22,2372,23,2381,null,null,0,2222,null,2221,{"$f":"COUNTIF($L$7:$L$500,N21)","v":6},{"$f":"O21/$Q$4","v":4.7619047619047616E-2},{"$f":"IF(P21=0,0,(P21*((LOG(P21))/LOG(2))))","v":-0.20915797251327431},null,null,{"$f":"N21","v":2221},{"$f":"COUNTIF(L7:L27,T21)","v":0},{"$f":"U21/(W4-U20)","v":0},{"$f":"IF(V21=0,0,(V21*((LOG(V21))/LOG(2))))","v":0},null,{"$f":"N21","v":2221},{"$f":"COUNTIF(L28:L48,Y21)","v":0},{"$f":"Z21/(AB4-Z20)","v":0},{"$f":"IF(AA21=0,0,(AA21*((LOG(AA21))/LOG(2))))","v":0},null,{"$f":"N21","v":2221},{"$f":"COUNTIF(L49:L69,AD21)","v":3},{"$f":"AE21/(AG4-AE20)","v":0.14285714285714285},{"$f":"IF(AF21=0,0,(AF21*((LOG(AF21))/LOG(2))))","v":-0.40105070315108626},null,{"$f":"N21","v":2221},{"$f":"COUNTIF(L70:L90,AI21)","v":0},{"$f":"AJ21/(AL4-AJ20)","v":0},{"$f":"IF(AK21=0,0,(AK21*((LOG(AK21))/LOG(2))))","v":0},null,{"$f":"N21","v":2221},{"$f":"COUNTIF(L91:L111,AN21)","v":3},{"$f":"AO21/(AQ4-AO20)","v":0.15},{"$f":"IF(AP21=0,0,(AP21*((LOG(AP21))/LOG(2))))","v":-0.41054483912493089},null,{"$f":"N21","v":2221},{"$f":"COUNTIF(L112:L132,AS21)","v":0},{"$f":"AT21/(AV4-AT20)","v":0},{"$f":"IF(AU21=0,0,(AU21*((LOG(AU21))/LOG(2))))","v":0}]
[21,2508,21,2515,11,2575,12,2583,null,null,0,2211,null,2222,{"$f":"COUNTIF($L$7:$L$500,N22)","v":6},{"$f":"O22/$Q$4","v":4.7619047619047616E-2},{"$f":"IF(P22=0,0,(P22*((LOG(P22))/LOG(2))))","v":-0.20915797251327431},null,null,{"$f":"N22","v":2222},{"$f":"COUNTIF(L7:L27,T22)","v":3},{"$f":"U22/(W4-U20)","v":0.15},{"$f":"IF(V22=0,0,(V22*((LOG(V22))/LOG(2))))","v":-0.41054483912493089},null,{"$f":"N22","v":2222},{"$f":"COUNTIF(L28:L48,Y22)","v":0},{"$f":"Z22/(AB4-Z20)","v":0},{"$f":"IF(AA22=0,0,(AA22*((LOG(AA22))/LOG(2))))","v":0},null,{"$f":"N22","v":2222},{"$f":"COUNTIF(L49:L69,AD22)","v":2},{"$f":"AE22/(AG4-AE20)","v":9.5238095238095233E-2},{"$f":"IF(AF22=0,0,(AF22*((LOG(AF22))/LOG(2))))","v":-0.32307784978845333},null,{"$f":"N22","v":2222},{"$f":"COUNTIF(L70:L90,AI22)","v":0},{"$f":"AJ22/(AL4-AJ20)","v":0},{"$f":"IF(AK22=0,0,(AK22*((LOG(AK22))/LOG(2))))","v":0},null,{"$f":"N22","v":2222},{"$f":"COUNTIF(L91:L111,AN22)","v":1},{"$f":"AO22/(AQ4-AO20)","v":0.05},{"$f":"IF(AP22=0,0,(AP22*((LOG(AP22))/LOG(2))))","v":-0.21609640474436814},null,{"$f":"N22","v":2222},{"$f":"COUNTIF(L112:L132,AS22)","v":0},{"$f":"AT22/(AV4-AT20)","v":0},{"$f":"IF(AU22=0,0,(AU22*((LOG(AU22))/LOG(2))))","v":0}]
[21,2727,21,2736,22,2743,23,2753,null,null,0,2222,null,null,null,{"$f":"SUM(P7:P22)","v":1},{"$f":"-SUM(Q7:Q22)","v":3.1186444385113288},null,null,null,null,{"$f":"SUM(V7:V22)","v":1},{"$f":"-SUM(W7:W22)","v":2.8709505944546692},null,null,null,{"$f":"SUM(AA7:AA22)","v":1.0000000000000002},{"$f":"-SUM(AB7:AB22)","v":1.9110928353580845},null,null,null,{"$f":"SUM(AF7:AF22)","v":0.99999999999999989},{"$f":"-SUM(AG7:AG22)","v":3.005678590456677},null,null,null,{"$f":"SUM(AK7:AK22)","v":1.0000000000000002},{"$f":"-SUM(AL7:AL22)","v":2.1854752972273341},null,null,null,{"$f":"SUM(AP7:AP22)","v":1},{"$f":"-SUM(AQ7:AQ22)","v":2.5016094970590275},null,null,null,{"$f":"SUM(AU7:AU22)","v":1},{"$f":"-SUM(AV7:AV22)","v":2.6086949695628419}]
[12,2874,14,2892,13,2897,23,2908,null,null,0,1112,null,null,null,"U=",{"$f":"Q23/(LOG(Q4)/LOG(2))","v":0.44697138035232592},null,null,null,null,"U1=",{"$f":"W23/(LOG(W4)/LOG(2))","v":0.65363003583615953},null,null,null,"U2=",{"$f":"AB23/(LOG(AB4)/LOG(2))","v":0.43509898110894013},null,null,null,"U3=",{"$f":"AG23/(LOG(AG4)/LOG(2))","v":0.68430359219237868},null,null,null,"U4=",{"$f":"AL23/(LOG(AL4)/LOG(2))","v":0.4975677044407944},null,null,null,"U5=",{"$f":"AQ23/(LOG(AQ4)/LOG(2))","v":0.56954205633808819},null,null,null,"U6=",{"$f":"AV23/(LOG(AV4)/LOG(2))","v":0.59392223249486242}]
[12,3042,14,3058,13,3063,14,3095,null,null,0,1111]
[21,3275,12,3289,13,3294,14,3298,null,null,0,2111]
[12,3433,23,3447,13,3458,14,3465,null,null,0,1211,null,"Total Target Seq"]
[12,3592,23,3615,24,3623,23,3634,null,null,0,1222,null,{"$f":"COUNTIF(L7:L132,G3)","v":4},null,21,21,21,21,21,21]
[12,3734,14,3751,13,3756,23,3767,null,null,0,1112,null,null,null,"% of reinforcement given in 6 equal intervals based on number of trials "]
[12,3875,14,3882,13,3886,23,3899,null,null,0,1112,null,null,null,"%_1","%_2","%_3","%_4","%_5","%_6"]
[21,4030,12,4048,13,4053,23,4065,null,null,0,2112,null,null,"target sequence",{"$f":"$G$3","v":2212},{"$f":"$G$3","v":2212},{"$f":"$G$3","v":2212},{"$f":"$G$3","v":2212},{"$f":"$G$3","v":2212},{"$f":"$G$3","v":2212}]
[12,4165,14,4169,13,4180,14,4185,null,null,0,1111,null,null,"total reinforcement",{"$f":"U20","v":1},{"$f":"Z20","v":0},{"$f":"AE20","v":0},{"$f":"AJ20","v":1},{"$f":"AO20","v":1},{"$f":"AT20","v":1}]
[12,4285,14,4289,13,4302,14,4306,null,null,0,1111,null,null,"% target"]
[12,4445,14,4464,13,4472,14,4482,null,null,0,1111,null,null,"CCRF"]
[12,4597,14,4617,13,4625,14,4632,null,null,0,1111,null,null,"% CCRf"]
[12,4730,14,4734,13,4745,14,4749,null,null,0,1111,null,null,"average response rate",{"$f":"H27/P28","v":165},{"$f":"(H48-H27)/Q28","v":145.42857142857142},{"$f":"(H69-H48)/R28","v":251.57142857142858},{"$f":"(H90-H69)/S28","v":201.38095238095238},{"$f":"(H111-H90)/T28","v":189.57142857142858},{"$f":"(H132-H111)/U28","v":185.04761904761904}]
[12,4851,14,4864,13,4872,14,4884,null,null,0,1111]
[12,4987,14,5001,24,5016,14,5027,null,null,0,1121]
[12,5127,14,5131,13,5139,14,5144,null,null,0,1111]
[12,5240,14,5244,13,5261,14,5265,null,null,0,1111]
[12,5371,14,5380,13,5395,14,5400,null,null,0,1111]
[12,5499,14,5504,13,5516,14,5521,null,null,0,1111]
[12,5627,14,5637,13,5660,14,5668,null,null,0,1111]
[12,5817,14,5838,13,5845,14,5874,null,null,0,1111]
[12,5973,14,5986,24,5998,14,6011,null,null,0,1121]
[12,6153,23,6169,13,6180,14,6184,null,null,0,1211]
[12,6281,14,6305,13,6309,14,6327,null,null,0,1111]
[21,6485,12,6495,13,6500,14,6519,null,null,0,2111]
[12,6667,14,6672,13,6688,14,6694,null,null,0,1111]
[21,6837,12,6848,13,6860,14,6870,null,null,0,2111]
[12,7027,14,7055,24,7067,14,7087,null,null,0,1121]
[12,7213,23,7241,13,7251,14,7256,null,null,0,1211]
[12,7451,14,7486,13,7490,23,7505,null,null,0,1112]
[21,7803,12,7831,13,7857,14,7862,null,null,0,2111]
[21,8026,21,8061,22,8076,14,8087,null,null,0,2221]
[12,8302,14,8408,13,8423,14,8435,null,null,0,1111]
[21,8598,21,8607,22,8638,14,8650,null,null,0,2221]
[21,8897,21,8916,11,8928,12,8933,null,null,0,2211]
[21,9079,21,9095,22,9200,14,9210,null,null,0,2221]
[12,9321,14,9326,24,9340,14,9356,null,null,0,1121]
[12,9505,14,9510,24,9523,14,9536,null,null,0,1121]
[21,9699,21,9712,11,9729,12,9736,null,null,0,2211]
[21,10164,12,10177,24,10194,14,10206,null,null,0,2121]
[12,10391,14,10396,24,10407,14,10422,null,null,0,1121]
[21,10564,21,10585,22,10605,23,10648,null,null,0,2222]
[12,10835,14,10863,13,10867,23,10895,null,null,0,1112]
[12,11007,14,11032,13,11036,14,11041,null,null,0,1111]
[21,11187,21,11201,22,11278,23,11301,null,null,0,2222]
[12,11754,14,11759,24,11788,14,11802,null,null,0,1121]
[12,11931,14,11938,13,11999,14,12004,null,null,0,1111]
[12,12114,14,12118,13,12131,14,12149,null,null,0,1111]
[12,12294,14,12299,24,12318,14,12328,null,null,0,1121]
[12,12536,14,12553,13,12563,14,12583,null,null,0,1111]
[12,12870,14,12882,13,12888,14,12906,null,null,0,1111]
[12,13093,14,13116,13,13121,14,13125,null,null,0,1111]
[21,13664,21,13681,11,13692,21,13709,null,null,0,2212]
[12,13871,23,13888,13,13899,14,13908,null,null,0,1211]
[21,14044,12,14054,13,14062,23,14075,null,null,0,2112]
[12,14174,14,14196,13,14200,23,14213,null,null,0,1112]
[12,14323,14,14339,13,14343,23,14367,null,null,0,1112]
[12,14475,14,14486,13,14505,14,14509,null,null,0,1111]
[12,14625,14,14651,13,14655,23,14687,null,null,0,1112]
[21,14792,12,14816,24,14827,14,14837,null,null,0,2121]
[12,14961,14,14966,13,14980,14,14988,null,null,0,1111]
[12,15106,14,15123,13,15127,14,15133,null,null,0,1111]
[12,15254,14,15279,13,15284,14,15289,null,null,0,1111]
[12,15395,14,15404,13,15422,14,15431,null,null,0,1111]
[12,15542,14,15570,24,15583,14,15594,null,null,0,1121]
[21,15761,12,15779,24,15846,23,15866,null,null,0,2122]
[12,15967,14,15983,24,16001,14,16031,null,null,0,1121]
[12,16145,14,16180,13,16202,14,16215,null,null,0,1111]
[21,16374,21,16388,22,16422,14,16439,null,null,0,2221]
[12,16555,23,16586,13,16596,14,16603,null,null,0,1211]
[21,16741,12,16755,24,16775,14,16797,null,null,0,2121]
[21,16942,12,16954,24,16965,14,16981,null,null,0,2121]
[12,17111,14,17138,24,17155,14,17166,null,null,0,1121]
[12,17299,14,17351,13,17358,14,17365,null,null,0,1111]
[21,17517,21,17526,22,17561,14,17571,null,null,0,2221]
[12,17709,14,17732,13,17736,14,17760,null,null,0,1111]
[12,17882,14,17887,24,17904,14,17914,null,null,0,1121]
[12,18022,14,18030,24,18051,14,18064,null,null,0,1121]
[21,18205,21,18223,22,18233,14,18273,null,null,0,2221]
[12,18453,23,18465,13,18504,23,18525,null,null,0,1212]
[12,18679,23,18716,13,18726,14,18731,null,null,0,1211]
[21,18945,21,18974,22,18982,23,19008,null,null,0,2222]
[21,19175,21,19191,11,19218,21,19236,null,null,0,2212]
[12,19367,14,19379,13,19384,14,19390,null,null,0,1111]
[12,19497,14,19509,13,19539,14,19544,null,null,0,1111]
[12,19652,14,19673,13,19682,14,19705,null,null,0,1111]
[12,19811,14,19832,24,19852,14,19862,null,null,0,1121]
[12,19983,14,20002,13,20007,14,20012,null,null,0,1111]
[12,20160,14,20177,13,20182,14,20189,null,null,0,1111]
[12,20287,14,20347,13,20351,14,20374,null,null,0,1111]
[21,20518,12,20528,13,20540,14,20544,null,null,0,2111]
[12,20647,14,20659,24,20677,14,20689,null,null,0,1121]
[21,20851,12,20863,13,20868,14,20873,null,null,0,2111]
[21,21016,12,21052,13,21058,23,21072,null,null,0,2112]
[12,21204,14,21222,13,21227,14,21250,null,null,0,1111]
[21,21413,21,21425,11,21437,21,21457,null,null,0,2212]
[12,21569,14,21603,13,21617,14,21634,null,null,0,1111]
[12,21764,14,21791,13,21803,23,21819,null,null,0,1112]
[12,21982,14,21987,24,22005,14,22017,null,null,0,1121]
[12,22130,14,22166,13,22170,23,22182,null,null,0,1112]
[12,22301,23,22325,13,22335,14,22345,null,null,0,1211]
[21,22476,12,22515,13,22525,23,22545,null,null,0,2112]
[12,22658,14,22663,13,22682,14,22689,null,null,0,1111]
[12,22866,14,22871,24,22889,14,22900,null,null,0,1121]
[12,23087,14,23093,13,23098,23,23110,null,null,0,1112]
[12,23246,23,23271,13,23281,14,23290,null,null,0,1211]
[12,23437,14,23469,13,23487,14,23519,null,null,0,1111]
[12,23650,14,23655,13,23673,23,23691,null,null,0,1112]
[12,23833,23,23867,13,23883,23,23898,null,null,0,1212]

{"sheet":"!MA16B50.096","index":6,"n_rows":123,"n_cols":48,"rows_kept":123,"cut":false,"hidden":false,"merged":[[4,39,4,42],[5,39,5,40],[4,44,4,47],[5,44,5,45],[4,24,4,27],[5,24,5,25],[4,29,4,32],[5,29,5,30],[4,34,4,37],[5,34,5,35],[1,1,1,2],[5,13,5,14],[26,13,26,14],[27,13,27,14],[4,19,4,22],[5,19,5,20]]}
["Report for:!MA16B50.096"]
["Date:","<date>"]
["Hen:","<hen>",null,null,null,"Correct Sequence",{"$f":"Start!J2","v":2212},null,null,null,null,null,null,null,null,"Total Sequences in Data",{"$f":"4994-COUNTBLANK(L7:L5000)","v":117},null,null,null,null,"Total Sequences in Block Data",{"$f":"COUNTA(L7:L26)","v":20},null,null,null,"Total Sequences in Block Data",{"$f":"COUNTA(L27:L45)","v":19},null,null,null,"Total Sequences in Block Data",{"$f":"COUNTA(L46:L65)","v":20},null,null,null,"Total Sequences in Block Data",{"$f":"COUNTA(L66:L84)","v":19},null,null,null,"Total Sequences in Block Data",{"$f":"COUNTA(L85:L104)","v":20},null,null,null,"Total Sequences in Block Data",{"$f":"COUNTA(L105:L123)","v":19}]
[null,null,null,null,null,null,null,null,null,null,null,null,null,null,null,"Total Sequences in Summary",{"$f":"SUM(O7:O22)","v":117},null,null,null,null,"Total Sequences in Block Summary",{"$f":"SUM(U7:U22)","v":20},null,null,null,"Total Sequences in Block Summary",{"$f":"SUM(Z7:Z22)","v":19},null,null,null,"Total Sequences in Block Summary",{"$f":"SUM(AE7:AE22)","v":20},null,null,null,"Total Sequences in Block Summary",{"$f":"SUM(AJ7:AJ22)","v":19},null,null,null,"Total Sequences in Block Summary",{"$f":"SUM(AO7:AO22)","v":20},null,null,null,"Total Sequences in Block Summary",{"$f":"SUM(AT7:AT22)","v":19}]
[null,null,null,null,null,null,null,null,null,null,null,null,null,null,null,null,null,null,null,"Block 1",null,null,null,null,"Block 2",null,null,null,null,"Block 3",null,null,null,null,"Block 4",null,null,null,null,"Block 5",null,null,null,null,"Block 6"]
["Sequence\nComponent\n1","Time\n1","Sequence\nComponent\n2","Time\n2","Sequence\nComponent\n3","Time\n3","Sequence\nComponent\n4","Time\n4","Sequence\nComponent\n5","Time\n5","Correct?\n0=No 1=Yes","Sequence",null,"Frequency",null,"Relative Frequency","Variability",null,null,"Frequency",null,"Relative Frequency","Variability",null,"Frequency",null,"Relative Frequency","Variability",null,"Frequency",null,"Relative Frequency","Variability",null,"Frequency",null,"Relative Frequency","Variability",null,"Frequency",null,"Relative Frequency","Variability",null,"Frequency",null,"Relative Frequency","Variability"]
[12,10,14,15,24,26,14,40,null,null,0,1121,null,1111,{"$f":"COUNTIF($L$7:$L$500,N7)","v":12},{"$f":"O7/$Q$4","v":0.10256410256410256},{"$f":"IF(P7=0,0,(P7*((LOG(P7))/LOG(2))))","v":-0.33696433013971777},null,null,{"$f":"N7","v":1111},{"$f":"COUNTIF(L7:L26,T7)","v":6},{"$f":"U7/(W4-U20)","v":0.3},{"$f":"IF(V7=0,0,(V7*((LOG(V7))/LOG(2))))","v":-0.52108967824986185},null,{"$f":"N7","v":1111},{"$f":"COUNTIF(L27:L45,Y7)","v":1},{"$f":"Z7/(AB4-Z20)","v":5.5555555555555552E-2},{"$f":"IF(AA7=0,0,(AA7*((LOG(AA7))/LOG(2))))","v":-0.23166250008012845},null,{"$f":"N7","v":1111},{"$f":"COUNTIF(L46:L65,AD7)","v":1},{"$f":"AE7/(AG4-AE20)","v":5.8823529411764705E-2},{"$f":"IF(AF7=0,0,(AF7*((LOG(AF7))/LOG(2))))","v":-0.24043899066178465},null,{"$f":"N7","v":1111},{"$f":"COUNTIF(L66:L84,AI7)","v":2},{"$f":"AJ7/(AL4-AJ20)","v":0.1111111111111111},{"$f":"IF(AK7=0,0,(AK7*((LOG(AK7))/LOG(2))))","v":-0.3522138890491458},null,{"$f":"N7","v":1111},{"$f":"COUNTIF(L85:L104,AN7)","v":1},{"$f":"AO7/(AQ4-AO20)","v":5.2631578947368418E-2},{"$f":"IF(AP7=0,0,(AP7*((LOG(AP7))/LOG(2))))","v":-0.22357513228650452},null,{"$f":"N7","v":1111},{"$f":"COUNTIF(L105:L123,AS7)","v":1},{"$f":"AT7/(AV4-AT20)","v":5.5555555555555552E-2},{"$f":"IF(AU7=0,0,(AU7*((LOG(AU7))/LOG(2))))","v":-0.23166250008012845}]
[12,140,14,146,24,160,14,173,null,null,0,1121,null,1112,{"$f":"COUNTIF($L$7:$L$500,N8)","v":7},{"$f":"O8/$Q$4","v":5.9829059829059832E-2},{"$f":"IF(P8=0,0,(P8*((LOG(P8))/LOG(2))))","v":-0.24308605626222737},null,null,{"$f":"N8","v":1112},{"$f":"COUNTIF(L7:L26,T8)","v":2},{"$f":"U8/(W4-U20)","v":0.1},{"$f":"IF(V8=0,0,(V8*((LOG(V8))/LOG(2))))","v":-0.33219280948873625},null,{"$f":"N8","v":1112},{"$f":"COUNTIF(L27:L45,Y8)","v":0},{"$f":"Z8/(AB4-Z20)","v":0},{"$f":"IF(AA8=0,0,(AA8*((LOG(AA8))/LOG(2))))","v":0},null,{"$f":"N8","v":1112},{"$f":"COUNTIF(L46:L65,AD8)","v":0},{"$f":"AE8/(AG4-AE20)","v":0},{"$f":"IF(AF8=0,0,(AF8*((LOG(AF8))/LOG(2))))","v":0},null,{"$f":"N8","v":1112},{"$f":"COUNTIF(L66:L84,AI8)","v":1},{"$f":"AJ8/(AL4-AJ20)","v":5.5555555555555552E-2},{"$f":"IF(AK8=0,0,(AK8*((LOG(AK8))/LOG(2))))","v":-0.23166250008012845},null,{"$f":"N8","v":1112},{"$f":"COUNTIF(L85:L104,AN8)","v":3},{"$f":"AO8/(AQ4-AO20)","v":0.15789473684210525},{"$f":"IF(AP8=0,0,(AP8*((LOG(AP8))/LOG(2))))","v":-0.42046815990354147},null,{"$f":"N8","v":1112},{"$f":"COUNTIF(L105:L123,AS8)","v":1},{"$f":"AT8/(AV4-AT20)","v":5.5555555555555552E-2},{"$f":"IF(AU8=0,0,(AU8*((LOG(AU8))/LOG(2))))","v":-0.23166250008012845}]
[12,286,14,294,13,302,14,331,null,null,0,1111,null,1121,{"$f":"COUNTIF($L$7:$L$500,N9)","v":18},{"$f":"O9/$Q$4","v":0.15384615384615385},{"$f":"IF(P9=0,0,(P9*((LOG(P9))/LOG(2))))","v":-0.4154522643293988},null,null,{"$f":"N9","v":1121},{"$f":"COUNTIF(L7:L26,T9)","v":6},{"$f":"U9/(W4-U20)","v":0.3},{"$f":"IF(V9=0,0,(V9*((LOG(V9))/LOG(2))))","v":-0.52108967824986185},null,{"$f":"N9","v":1121},{"$f":"COUNTIF(L27:L45,Y9)","v":3},{"$f":"Z9/(AB4-Z20)","v":0.16666666666666666},{"$f":"IF(AA9=0,0,(AA9*((LOG(AA9))/LOG(2))))","v":-0.43082708345352599},null,{"$f":"N9","v":1121},{"$f":"COUNTIF(L46:L65,AD9)","v":1},{"$f":"AE9/(AG4-AE20)","v":5.8823529411764705E-2},{"$f":"IF(AF9=0,0,(AF9*((LOG(AF9))/LOG(2))))","v":-0.24043899066178465},null,{"$f":"N9","v":1121},{"$f":"COUNTIF(L66:L84,AI9)","v":3},{"$f":"AJ9/(AL4-AJ20)","v":0.16666666666666666},{"$f":"IF(AK9=0,0,(AK9*((LOG(AK9))/LOG(2))))","v":-0.43082708345352599},null,{"$f":"N9","v":1121},{"$f":"COUNTIF(L85:L104,AN9)","v":3},{"$f":"AO9/(AQ4-AO20)","v":0.15789473684210525},{"$f":"IF(AP9=0,0,(AP9*((LOG(AP9))/LOG(2))))","v":-0.42046815990354147},null,{"$f":"N9","v":1121},{"$f":"COUNTIF(L105:L123,AS9)","v":2},{"$f":"AT9/(AV4-AT20)","v":0.1111111111111111},{"$f":"IF(AU9=0,0,(AU9*((LOG(AU9))/LOG(2))))","v":-0.3522138890491458}]
[12,426,14,444,13,448,14,453,null,null,0,1111,null,1122,{"$f":"COUNTIF($L$7:$L$500,N10)","v":4},{"$f":"O10/$Q$4","v":3.4188034188034191E-2},{"$f":"IF(P10=0,0,(P10*((LOG(P10))/LOG(2))))","v":-0.16650819554131296},null,null,{"$f":"N10","v":1122},{"$f":"COUNTIF(L7:L26,T10)","v":0},{"$f":"U10/(W4-U20)","v":0},{"$f":"IF(V10=0,0,(V10*((LOG(V10))/LOG(2))))","v":0},null,{"$f":"N10","v":1122},{"$f":"COUNTIF(L27:L45,Y10)","v":1},{"$f":"Z10/(AB4-Z20)","v":5.5555555555555552E-2},{"$f":"IF(AA10=0,0,(AA10*((LOG(AA10))/LOG(2))))","v":-0.23166250008012845},null,{"$f":"N10","v":1122},{"$f":"COUNTIF(L46:L65,AD10)","v":1},{"$f":"AE10/(AG4-AE20)","v":5.8823529411764705E-2},{"$f":"IF(AF10=0,0,(AF10*((LOG(AF10))/LOG(2))))","v":-0.24043899066178465},null,{"$f":"N10","v":1122},{"$f":"COUNTIF(L66:L84,AI10)","v":0},{"$f":"AJ10/(AL4-AJ20)","v":0},{"$f":"IF(AK10=0,0,(AK10*((LOG(AK10))/LOG(2))))","v":0},null,{"$f":"N10","v":1122},{"$f":"COUNTIF(L85:L104,AN10)","v":2},{"$f":"AO10/(AQ4-AO20)","v":0.10526315789473684},{"$f":"IF(AP10=0,0,(AP10*((LOG(AP10))/LOG(2))))","v":-0.34188710667827216},null,{"$f":"N10","v":1122},{"$f":"COUNTIF(L105:L123,AS10)","v":0},{"$f":"AT10/(AV4-AT20)","v":0},{"$f":"IF(AU10=0,0,(AU10*((LOG(AU10))/LOG(2))))","v":0}]
[12,554,23,574,13,584,14,589,null,null,0,1211,null,1211,{"$f":"COUNTIF($L$7:$L$500,N11)","v":11},{"$f":"O11/$Q$4","v":9.4017094017094016E-2},{"$f":"IF(P11=0,0,(P11*((LOG(P11))/LOG(2))))","v":-0.32068601803766816},null,null,{"$f":"N11","v":1211},{"$f":"COUNTIF(L7:L26,T11)","v":6},{"$f":"U11/(W4-U20)","v":0.3},{"$f":"IF(V11=0,0,(V11*((LOG(V11))/LOG(2))))","v":-0.52108967824986185},null,{"$f":"N11","v":1211},{"$f":"COUNTIF(L27:L45,Y11)","v":1},{"$f":"Z11/(AB4-Z20)","v":5.5555555555555552E-2},{"$f":"IF(AA11=0,0,(AA11*((LOG(AA11))/LOG(2))))","v":-0.23166250008012845},null,{"$f":"N11","v":1211},{"$f":"COUNTIF(L46:L65,AD11)","v":0},{"$f":"AE11/(AG4-AE20)","v":0},{"$f":"IF(AF11=0,0,(AF11*((LOG(AF11))/LOG(2))))","v":0},null,{"$f":"N11","v":1211},{"$f":"COUNTIF(L66:L84,AI11)","v":1},{"$f":"AJ11/(AL4-AJ20)","v":5.5555555555555552E-2},{"$f":"IF(AK11=0,0,(AK11*((LOG(AK11))/LOG(2))))","v":-0.23166250008012845},null,{"$f":"N11","v":1211},{"$f":"COUNTIF(L85:L104,AN11)","v":1},{"$f":"AO11/(AQ4-AO20)","v":5.2631578947368418E-2},{"$f":"IF(AP11=0,0,(AP11*((LOG(AP11))/LOG(2))))","v":-0.22357513228650452},null,{"$f":"N11","v":1211},{"$f":"COUNTIF(L105:L123,AS11)","v":2},{"$f":"AT11/(AV4-AT20)","v":0.1111111111111111},{"$f":"IF(AU11=0,0,(AU11*((LOG(AU11))/LOG(2))))","v":-0.3522138890491458}]
[12,711,23,724,13,735,14,740,null,null,0,1211,null,1212,{"$f":"COUNTIF($L$7:$L$500,N12)","v":5},{"$f":"O12/$Q$4","v":4.2735042735042736E-2},{"$f":"IF(P12=0,0,(P12*((LOG(P12))/LOG(2))))","v":-0.19437763353401891},null,null,{"$f":"N12","v":1212},{"$f":"COUNTIF(L7:L26,T12)","v":0},{"$f":"U12/(W4-U20)","v":0},{"$f":"IF(V12=0,0,(V12*((LOG(V12))/LOG(2))))","v":0},null,{"$f":"N12","v":1212},{"$f":"COUNTIF(L27:L45,Y12)","v":0},{"$f":"Z12/(AB4-Z20)","v":0},{"$f":"IF(AA12=0,0,(AA12*((LOG(AA12))/LOG(2))))","v":0},null,{"$f":"N12","v":1212},{"$f":"COUNTIF(L46:L65,AD12)","v":1},{"$f":"AE12/(AG4-AE20)","v":5.8823529411764705E-2},{"$f":"IF(AF12=0,0,(AF12*((LOG(AF12))/LOG(2))))","v":-0.24043899066178465},null,{"$f":"N12","v":1212},{"$f":"COUNTIF(L66:L84,AI12)","v":1},{"$f":"AJ12/(AL4-AJ20)","v":5.5555555555555552E-2},{"$f":"IF(AK12=0,0,(AK12*((LOG(AK12))/LOG(2))))","v":-0.23166250008012845},null,{"$f":"N12","v":1212},{"$f":"COUNTIF(L85:L104,AN12)","v":2},{"$f":"AO12/(AQ4-AO20)","v":0.10526315789473684},{"$f":"IF(AP12=0,0,(AP12*((LOG(AP12))/LOG(2))))","v":-0.34188710667827216},null,{"$f":"N12","v":1212},{"$f":"COUNTIF(L105:L123,AS12)","v":1},{"$f":"AT12/(AV4-AT20)","v":5.5555555555555552E-2},{"$f":"IF(AU12=0,0,(AU12*((LOG(AU12))/LOG(2))))","v":-0.23166250008012845}]
[12,862,23,875,13,891,14,896,null,null,0,1211,null,1221,{"$f":"COUNTIF($L$7:$L$500,N13)","v":7},{"$f":"O13/$Q$4","v":5.9829059829059832E-2},{"$f":"IF(P13=0,0,(P13*((LOG(P13))/LOG(2))))","v":-0.24308605626222737},null,null,{"$f":"N13","v":1221},{"$f":"COUNTIF(L7:L26,T13)","v":0},{"$f":"U13/(W4-U20)","v":0},{"$f":"IF(V13=0,0,(V13*((LOG(V13))/LOG(2))))","v":0},null,{"$f":"N13","v":1221},{"$f":"COUNTIF(L27:L45,Y13)","v":1},{"$f":"Z13/(AB4-Z20)","v":5.5555555555555552E-2},{"$f":"IF(AA13=0,0,(AA13*((LOG(AA13))/LOG(2))))","v":-0.23166250008012845},null,{"$f":"N13","v":1221},{"$f":"COUNTIF(L46:L65,AD13)","v":3},{"$f":"AE13/(AG4-AE20)","v":0.17647058823529413},{"$f":"IF(AF13=0,0,(AF13*((LOG(AF13))/LOG(2))))","v":-0.44161770715220888},null,{"$f":"N13","v":1221},{"$f":"COUNTIF(L66:L84,AI13)","v":1},{"$f":"AJ13/(AL4-AJ20)","v":5.5555555555555552E-2},{"$f":"IF(AK13=0,0,(AK13*((LOG(AK13))/LOG(2))))","v":-0.23166250008012845},null,{"$f":"N13","v":1221},{"$f":"COUNTIF(L85:L104,AN13)","v":1},{"$f":"AO13/(AQ4-AO20)","v":5.2631578947368418E-2},{"$f":"IF(AP13=0,0,(AP13*((LOG(AP13))/LOG(2))))","v":-0.22357513228650452},null,{"$f":"N13","v":1221},{"$f":"COUNTIF(L105:L123,AS13)","v":1},{"$f":"AT13/(AV4-AT20)","v":5.5555555555555552E-2},{"$f":"IF(AU13=0,0,(AU13*((LOG(AU13))/LOG(2))))","v":-0.23166250008012845}]
[12,999,14,1008,13,1028,23,1040,null,null,0,1112,null,1222,{"$f":"COUNTIF($L$7:$L$500,N14)","v":2},{"$f":"O14/$Q$4","v":1.7094017094017096E-2},{"$f":"IF(P14=0,0,(P14*((LOG(P14))/LOG(2))))","v":-0.1003481148646736},null,null,{"$f":"N14","v":1222},{"$f":"COUNTIF(L7:L26,T14)","v":0},{"$f":"U14/(W4-U20)","v":0},{"$f":"IF(V14=0,0,(V14*((LOG(V14))/LOG(2))))","v":0},null,{"$f":"N14","v":1222},{"$f":"COUNTIF(L27:L45,Y14)","v":0},{"$f":"Z14/(AB4-Z20)","v":0},{"$f":"IF(AA14=0,0,(AA14*((LOG(AA14))/LOG(2))))","v":0},null,{"$f":"N14","v":1222},{"$f":"COUNTIF(L46:L65,AD14)","v":0},{"$f":"AE14/(AG4-AE20)","v":0},{"$f":"IF(AF14=0,0,(AF14*((LOG(AF14))/LOG(2))))","v":0},null,{"$f":"N14","v":1222},{"$f":"COUNTIF(L66:L84,AI14)","v":2},{"$f":"AJ14/(AL4-AJ20)","v":0.1111111111111111},{"$f":"IF(AK14=0,0,(AK14*((LOG(AK14))/LOG(2))))","v":-0.3522138890491458},null,{"$f":"N14","v":1222},{"$f":"COUNTIF(L85:L104,AN14)","v":0},{"$f":"AO14/(AQ4-AO20)","v":0},{"$f":"IF(AP14=0,0,(AP14*((LOG(AP14))/LOG(2))))","v":0},null,{"$f":"N14","v":1222},{"$f":"COUNTIF(L105:L123,AS14)","v":0},{"$f":"AT14/(AV4-AT20)","v":0},{"$f":"IF(AU14=0,0,(AU14*((LOG(AU14))/LOG(2))))","v":0}]
[12,1137,14,1151,13,1156,23,1164,null,null,0,1112,null,2111,{"$f":"COUNTIF($L$7:$L$500,N15)","v":3},{"$f":"O15/$Q$4","v":2.564102564102564E-2},{"$f":"IF(P15=0,0,(P15*((LOG(P15))/LOG(2))))","v":-0.13552313381698072},null,null,{"$f":"N15","v":2111},{"$f":"COUNTIF(L7:L26,T15)","v":0},{"$f":"U15/(W4-U20)","v":0},{"$f":"IF(V15=0,0,(V15*((LOG(V15))/LOG(2))))","v":0},null,{"$f":"N15","v":2111},{"$f":"COUNTIF(L27:L45,Y15)","v":0},{"$f":"Z15/(AB4-Z20)","v":0},{"$f":"IF(AA15=0,0,(AA15*((LOG(AA15))/LOG(2))))","v":0},null,{"$f":"N15","v":2111},{"$f":"COUNTIF(L46:L65,AD15)","v":0},{"$f":"AE15/(AG4-AE20)","v":0},{"$f":"IF(AF15=0,0,(AF15*((LOG(AF15))/LOG(2))))","v":0},null,{"$f":"N15","v":2111},{"$f":"COUNTIF(L66:L84,AI15)","v":1},{"$f":"AJ15/(AL4-AJ20)","v":5.5555555555555552E-2},{"$f":"IF(AK15=0,0,(AK15*((LOG(AK15))/LOG(2))))","v":-0.23166250008012845},null,{"$f":"N15","v":2111},{"$f":"COUNTIF(L85:L104,AN15)","v":0},{"$f":"AO15/(AQ4-AO20)","v":0},{"$f":"IF(AP15=0,0,(AP15*((LOG(AP15))/LOG(2))))","v":0},null,{"$f":"N15","v":2111},{"$f":"COUNTIF(L105:L123,AS15)","v":2},{"$f":"AT15/(AV4-AT20)","v":0.1111111111111111},{"$f":"IF(AU15=0,0,(AU15*((LOG(AU15))/LOG(2))))","v":-0.3522138890491458}]
[12,1263,14,1267,24,1277,14,1289,null,null,0,1121,null,2112,{"$f":"COUNTIF($L$7:$L$500,N16)","v":3},{"$f":"O16/$Q$4","v":2.564102564102564E-2},{"$f":"IF(P16=0,0,(P16*((LOG(P16))/LOG(2))))","v":-0.13552313381698072},null,null,{"$f":"N16","v":2112},{"$f":"COUNTIF(L7:L26,T16)","v":0},{"$f":"U16/(W4-U20)","v":0},{"$f":"IF(V16=0,0,(V16*((LOG(V16))/LOG(2))))","v":0},null,{"$f":"N16","v":2112},{"$f":"COUNTIF(L27:L45,Y16)","v":1},{"$f":"Z16/(AB4-Z20)","v":5.5555555555555552E-2},{"$f":"IF(AA16=0,0,(AA16*((LOG(AA16))/LOG(2))))","v":-0.23166250008012845},null,{"$f":"N16","v":2112},{"$f":"COUNTIF(L46:L65,AD16)","v":0},{"$f":"AE16/(AG4-AE20)","v":0},{"$f":"IF(AF16=0,0,(AF16*((LOG(AF16))/LOG(2))))","v":0},null,{"$f":"N16","v":2112},{"$f":"COUNTIF(L66:L84,AI16)","v":1},{"$f":"AJ16/(AL4-AJ20)","v":5.5555555555555552E-2},{"$f":"IF(AK16=0,0,(AK16*((LOG(AK16))/LOG(2))))","v":-0.23166250008012845},null,{"$f":"N16","v":2112},{"$f":"COUNTIF(L85:L104,AN16)","v":1},{"$f":"AO16/(AQ4-AO20)","v":5.2631578947368418E-2},{"$f":"IF(AP16=0,0,(AP16*((LOG(AP16))/LOG(2))))","v":-0.22357513228650452},null,{"$f":"N16","v":2112},{"$f":"COUNTIF(L105:L123,AS16)","v":0},{"$f":"AT16/(AV4-AT20)","v":0},{"$f":"IF(AU16=0,0,(AU16*((LOG(AU16))/LOG(2))))","v":0}]
[12,1406,23,1421,13,1433,14,1442,null,null,0,1211,null,2121,{"$f":"COUNTIF($L$7:$L$500,N17)","v":3},{"$f":"O17/$Q$4","v":2.564102564102564E-2},{"$f":"IF(P17=0,0,(P17*((LOG(P17))/LOG(2))))","v":-0.13552313381698072},null,null,{"$f":"N17","v":2121},{"$f":"COUNTIF(L7:L26,T17)","v":0},{"$f":"U17/(W4-U20)","v":0},{"$f":"IF(V17=0,0,(V17*((LOG(V17))/LOG(2))))","v":0},null,{"$f":"N17","v":2121},{"$f":"COUNTIF(L27:L45,Y17)","v":1},{"$f":"Z17/(AB4-Z20)","v":5.5555555555555552E-2},{"$f":"IF(AA17=0,0,(AA17*((LOG(AA17))/LOG(2))))","v":-0.23166250008012845},null,{"$f":"N17","v":2121},{"$f":"COUNTIF(L46:L65,AD17)","v":0},{"$f":"AE17/(AG4-AE20)","v":0},{"$f":"IF(AF17=0,0,(AF17*((LOG(AF17))/LOG(2))))","v":0},null,{"$f":"N17","v":2121},{"$f":"COUNTIF(L66:L84,AI17)","v":0},{"$f":"AJ17/(AL4-AJ20)","v":0},{"$f":"IF(AK17=0,0,(AK17*((LOG(AK17))/LOG(2))))","v":0},null,{"$f":"N17","v":2121},{"$f":"COUNTIF(L85:L104,AN17)","v":0},{"$f":"AO17/(AQ4-AO20)","v":0},{"$f":"IF(AP17=0,0,(AP17*((LOG(AP17))/LOG(2))))","v":0},null,{"$f":"N17","v":2121},{"$f":"COUNTIF(L105:L123,AS17)","v":2},{"$f":"AT17/(AV4-AT20)","v":0.1111111111111111},{"$f":"IF(AU17=0,0,(AU17*((LOG(AU17))/LOG(2))))","v":-0.3522138890491458}]
[12,1542,14,1555,13,1575,14,1580,null,null,0,1111,null,2122,{"$f":"COUNTIF($L$7:$L$500,N18)","v":1},{"$f":"O18/$Q$4","v":8.5470085470085479E-3},{"$f":"IF(P18=0,0,(P18*((LOG(P18))/LOG(2))))","v":-5.8721065979345344E-2},null,null,{"$f":"N18","v":2122},{"$f":"COUNTIF(L7:L26,T18)","v":0},{"$f":"U18/(W4-U20)","v":0},{"$f":"IF(V18=0,0,(V18*((LOG(V18))/LOG(2))))","v":0},null,{"$f":"N18","v":2122},{"$f":"COUNTIF(L27:L45,Y18)","v":0},{"$f":"Z18/(AB4-Z20)","v":0},{"$f":"IF(AA18=0,0,(AA18*((LOG(AA18))/LOG(2))))","v":0},null,{"$f":"N18","v":2122},{"$f":"COUNTIF(L46:L65,AD18)","v":0},{"$f":"AE18/(AG4-AE20)","v":0},{"$f":"IF(AF18=0,0,(AF18*((LOG(AF18))/LOG(2))))","v":0},null,{"$f":"N18","v":2122},{"$f":"COUNTIF(L66:L84,AI18)","v":0},{"$f":"AJ18/(AL4-AJ20)","v":0},{"$f":"IF(AK18=0,0,(AK18*((LOG(AK18))/LOG(2))))","v":0},null,{"$f":"N18","v":2122},{"$f":"COUNTIF(L85:L104,AN18)","v":1},{"$f":"AO18/(AQ4-AO20)","v":5.2631578947368418E-2},{"$f":"IF(AP18=0,0,(AP18*((LOG(AP18))/LOG(2))))","v":-0.22357513228650452},null,{"$f":"N18","v":2122},{"$f":"COUNTIF(L105:L123,AS18)","v":0},{"$f":"AT18/(AV4-AT20)","v":0},{"$f":"IF(AU18=0,0,(AU18*((LOG(AU18))/LOG(2))))","v":0}]
[12,1678,14,1688,13,1692,14,1715,null,null,0,1111,null,2211,{"$f":"COUNTIF($L$7:$L$500,N19)","v":9},{"$f":"O19/$Q$4","v":7.6923076923076927E-2},{"$f":"IF(P19=0,0,(P19*((LOG(P19))/LOG(2))))","v":-0.28464920908777636},null,null,{"$f":"N19","v":2211},{"$f":"COUNTIF(L7:L26,T19)","v":0},{"$f":"U19/(W4-U20)","v":0},{"$f":"IF(V19=0,0,(V19*((LOG(V19))/LOG(2))))","v":0},null,{"$f":"N19","v":2211},{"$f":"COUNTIF(L27:L45,Y19)","v":6},{"$f":"Z19/(AB4-Z20)","v":0.33333333333333331},{"$f":"IF(AA19=0,0,(AA19*((LOG(AA19))/LOG(2))))","v":-0.52832083357371862},null,{"$f":"N19","v":2211},{"$f":"COUNTIF(L46:L65,AD19)","v":2},{"$f":"AE19/(AG4-AE20)","v":0.11764705882352941},{"$f":"IF(AF19=0,0,(AF19*((LOG(AF19))/LOG(2))))","v":-0.36323092250003997},null,{"$f":"N19","v":2211},{"$f":"COUNTIF(L66:L84,AI19)","v":0},{"$f":"AJ19/(AL4-AJ20)","v":0},{"$f":"IF(AK19=0,0,(AK19*((LOG(AK19))/LOG(2))))","v":0},null,{"$f":"N19","v":2211},{"$f":"COUNTIF(L85:L104,AN19)","v":0},{"$f":"AO19/(AQ4-AO20)","v":0},{"$f":"IF(AP19=0,0,(AP19*((LOG(AP19))/LOG(2))))","v":0},null,{"$f":"N19","v":2211},{"$f":"COUNTIF(L105:L123,AS19)","v":1},{"$f":"AT19/(AV4-AT20)","v":5.5555555555555552E-2},{"$f":"IF(AU19=0,0,(AU19*((LOG(AU19))/LOG(2))))","v":-0.23166250008012845}]
[12,1828,14,1832,13,1852,14,1860,null,null,0,1111,null,2212,{"$f":"COUNTIF($L$7:$L$500,N20)","v":7},{"$f":"O20/$Q$4","v":5.9829059829059832E-2},{"$f":"IF(P20=0,0,(P20*((LOG(P20))/LOG(2))))","v":-0.24308605626222737},null,null,{"$f":"N20","v":2212},{"$f":"COUNTIF(L7:L26,T20)","v":0},null,null,null,{"$f":"N20","v":2212},{"$f":"COUNTIF(L27:L45,Y20)","v":1},null,null,null,{"$f":"N20","v":2212},{"$f":"COUNTIF(L46:L65,AD20)","v":3},null,null,null,{"$f":"N20","v":2212},{"$f":"COUNTIF(L66:L84,AI20)","v":1},null,null,null,{"$f":"N20","v":2212},{"$f":"COUNTIF(L85:L104,AN20)","v":1},null,null,null,{"$f":"N20","v":2212},{"$f":"COUNTIF(L105:L123,AS20)","v":1}]
[12,1994,14,1999,24,2011,14,2026,null,null,0,1121,null,2221,{"$f":"COUNTIF($L$7:$L$500,N21)","v":13},{"$f":"O21/$Q$4","v":0.1111111111111111},{"$f":"IF(P21=0,0,(P21*((LOG(P21))/LOG(2))))","v":-0.3522138890491458},null,null,{"$f":"N21","v":2221},{"$f":"COUNTIF(L7:L26,T21)","v":0},{"$f":"U21/(W4-U20)","v":0},{"$f":"IF(V21=0,0,(V21*((LOG(V21))/LOG(2))))","v":0},null,{"$f":"N21","v":2221},{"$f":"COUNTIF(L27:L45,Y21)","v":2},{"$f":"Z21/(AB4-Z20)","v":0.1111111111111111},{"$f":"IF(AA21=0,0,(AA21*((LOG(AA21))/LOG(2))))","v":-0.3522138890491458},null,{"$f":"N21","v":2221},{"$f":"COUNTIF(L46:L65,AD21)","v":3},{"$f":"AE21/(AG4-AE20)","v":0.17647058823529413},{"$f":"IF(AF21=0,0,(AF21*((LOG(AF21))/LOG(2))))","v":-0.44161770715220888},null,{"$f":"N21","v":2221},{"$f":"COUNTIF(L66:L84,AI21)","v":2},{"$f":"AJ21/(AL4-AJ20)","v":0.1111111111111111},{"$f":"IF(AK21=0,0,(AK21*((LOG(AK21))/LOG(2))))","v":-0.3522138890491458},null,{"$f":"N21","v":2221},{"$f":"COUNTIF(L85:L104,AN21)","v":3},{"$f":"AO21/(AQ4-AO20)","v":0.15789473684210525},{"$f":"IF(AP21=0,0,(AP21*((LOG(AP21))/LOG(2))))","v":-0.42046815990354147},null,{"$f":"N21","v":2221},{"$f":"COUNTIF(L105:L123,AS21)","v":3},{"$f":"AT21/(AV4-AT20)","v":0.16666666666666666},{"$f":"IF(AU21=0,0,(AU21*((LOG(AU21))/LOG(2))))","v":-0.43082708345352599}]
[12,2142,14,2149,13,2169,14,2178,null,null,0,1111,null,2222,{"$f":"COUNTIF($L$7:$L$500,N22)","v":12},{"$f":"O22/$Q$4","v":0.10256410256410256},{"$f":"IF(P22=0,0,(P22*((LOG(P22))/LOG(2))))","v":-0.33696433013971777},null,null,{"$f":"N22","v":2222},{"$f":"COUNTIF(L7:L26,T22)","v":0},{"$f":"U22/(W4-U20)","v":0},{"$f":"IF(V22=0,0,(V22*((LOG(V22))/LOG(2))))","v":0},null,{"$f":"N22","v":2222},{"$f":"COUNTIF(L27:L45,Y22)","v":1},{"$f":"Z22/(AB4-Z20)","v":5.5555555555555552E-2},{"$f":"IF(AA22=0,0,(AA22*((LOG(AA22))/LOG(2))))","v":-0.23166250008012845},null,{"$f":"N22","v":2222},{"$f":"COUNTIF(L46:L65,AD22)","v":5},{"$f":"AE22/(AG4-AE20)","v":0.29411764705882354},{"$f":"IF(AF22=0,0,(AF22*((LOG(AF22))/LOG(2))))","v":-0.51927492540087561},null,{"$f":"N22","v":2222},{"$f":"COUNTIF(L66:L84,AI22)","v":3},{"$f":"AJ22/(AL4-AJ20)","v":0.16666666666666666},{"$f":"IF(AK22=0,0,(AK22*((LOG(AK22))/LOG(2))))","v":-0.43082708345352599},null,{"$f":"N22","v":2222},{"$f":"COUNTIF(L85:L104,AN22)","v":1},{"$f":"AO22/(AQ4-AO20)","v":5.2631578947368418E-2},{"$f":"IF(AP22=0,0,(AP22*((LOG(AP22))/LOG(2))))","v":-0.22357513228650452},null,{"$f":"N22","v":2222},{"$f":"COUNTIF(L105:L123,AS22)","v":2},{"$f":"AT22/(AV4-AT20)","v":0.1111111111111111},{"$f":"IF(AU22=0,0,(AU22*((LOG(AU22))/LOG(2))))","v":-0.3522138890491458}]
[12,2281,14,2289,24,2301,14,2312,null,null,0,1121,null,null,null,{"$f":"SUM(P7:P22)","v":1.0000000000000002},{"$f":"-SUM(Q7:Q22)","v":3.7027126209403995},null,null,null,null,{"$f":"SUM(V7:V22)","v":1},{"$f":"-SUM(W7:W22)","v":1.895461844238322},null,null,null,{"$f":"SUM(AA7:AA22)","v":1.0000000000000002},{"$f":"-SUM(AB7:AB22)","v":2.9329993066372895},null,null,null,{"$f":"SUM(AF7:AF22)","v":1},{"$f":"-SUM(AG7:AG22)","v":2.7274972248524718},null,null,null,{"$f":"SUM(AK7:AK22)","v":1.0000000000000002},{"$f":"-SUM(AL7:AL22)","v":3.3082708345352603},null,null,null,{"$f":"SUM(AP7:AP22)","v":0.99999999999999978},{"$f":"-SUM(AQ7:AQ22)","v":3.2866294867861967},null,null,null,{"$f":"SUM(AU7:AU22)","v":1},{"$f":"-SUM(AV7:AV22)","v":3.3502090290998972}]
[12,2429,23,2438,13,2449,14,2459,null,null,0,1211,null,null,null,"U=",{"$f":"Q23/(LOG(Q4)/LOG(2))","v":0.53893974658814314},null,null,null,null,"U1=",{"$f":"W23/(LOG(W4)/LOG(2))","v":0.43856857463236465},null,null,null,"U2=",{"$f":"AB23/(LOG(AB4)/LOG(2))","v":0.69045417968058775},null,null,null,"U3=",{"$f":"AG23/(LOG(AG4)/LOG(2))","v":0.63108343428456681},null,null,null,"U4=",{"$f":"AL23/(LOG(AL4)/LOG(2))","v":0.77879644228048717},null,null,null,"U5=",{"$f":"AQ23/(LOG(AQ4)/LOG(2))","v":0.7604544579707665},null,null,null,"U6=",{"$f":"AV23/(LOG(AV4)/LOG(2))","v":0.78866906709150697}]
[12,2571,14,2588,24,2601,14,2616,null,null,0,1121]
[12,2724,23,2741,13,2756,14,2761,null,null,0,1211]
[12,2895,23,2910,13,2922,14,2929,null,null,0,1211,null,"Total Target Seq"]
[12,3034,14,3049,13,3075,14,3080,null,null,0,1111,null,{"$f":"COUNTIF(L7:L123,G3)","v":7},null,20,19,20,19,20,19]
[12,3196,14,3224,24,3232,14,3243,null,null,0,1121,null,null,null,"% of reinforcement given in 6 equal intervals based on number of trials "]
[12,3443,14,3448,24,3461,14,3471,null,null,0,1121,null,null,null,"%_1","%_2","%_3","%_4","%_5","%_6"]
[21,3591,21,3610,11,3621,12,3630,null,null,0,2211,null,null,"target sequence",{"$f":"$G$3","v":2212},{"$f":"$G$3","v":2212},{"$f":"$G$3","v":2212},{"$f":"$G$3","v":2212},{"$f":"$G$3","v":2212},{"$f":"$G$3","v":2212}]
[21,3733,21,3748,11,3761,21,3780,null,null,0,2212,null,null,"total reinforcement",{"$f":"U20","v":0},{"$f":"Z20","v":1},{"$f":"AE20","v":3},{"$f":"AJ20","v":1},{"$f":"AO20","v":1},{"$f":"AT20","v":1}]
[21,3890,21,3915,22,3932,14,3958,null,null,0,2221,null,null,"% target"]
[21,4106,21,4124,11,4135,12,4140,null,null,0,2211,null,null,"CCRF"]
[21,4272,12,4283,24,4294,14,4305,null,null,0,2121,null,null,"% CCRf"]
[21,4448,21,4460,11,4470,12,4475,null,null,0,2211,null,null,"average response rate",{"$f":"H26/P28","v":138.05000000000001},{"$f":"(H45-H26)/Q28","v":180.36842105263159},{"$f":"(H65-H45)/R28","v":194.5},{"$f":"(H84-H65)/S28","v":224.89473684210526},{"$f":"(H104-H84)/T28","v":269.55},{"$f":"(H123-H104)/U28","v":219.89473684210526}]
[21,4596,21,4616,11,4629,12,4633,null,null,0,2211]
[12,4748,23,4757,24,4766,14,4776,null,null,0,1221]
[21,4947,12,4961,13,4965,23,4980,null,null,0,2112]
[12,5124,14,5128,24,5143,23,5159,null,null,0,1122]
[21,5280,21,5289,11,5304,12,5309,null,null,0,2211]
[21,5591,21,5610,11,5626,12,5631,null,null,0,2211]
[12,5760,14,5765,24,5775,14,5794,null,null,0,1121]
[21,5971,21,5983,22,5993,14,6005,null,null,0,2221]
[21,6135,21,6143,22,6165,23,6188,null,null,0,2222]
[12,6320,23,6337,24,6361,14,6376,null,null,0,1221]
[21,6581,21,6594,22,6601,23,6645,null,null,0,2222]
[21,6829,21,6840,22,6876,14,6889,null,null,0,2221]
[21,7056,21,7084,11,7096,21,7114,null,null,0,2212]
[12,7271,14,7277,24,7288,14,7302,null,null,0,1121]
[12,7408,23,7436,13,7448,23,7460,null,null,0,1212]
[21,7642,21,7653,22,7677,14,7702,null,null,0,2221]
[21,7836,21,7852,11,7865,21,7876,null,null,0,2212]
[21,8002,21,8025,22,8056,23,8077,null,null,0,2222]
[12,8174,14,8212,13,8219,14,8227,null,null,0,1111]
[12,8373,23,8382,24,8399,14,8409,null,null,0,1221]
[21,8534,21,8557,22,8565,23,8573,null,null,0,2222]
[21,8710,21,8723,11,8750,12,8755,null,null,0,2211]
[21,8878,21,8917,11,8942,12,8949,null,null,0,2211]
[21,9090,21,9105,11,9119,21,9140,null,null,0,2212]
[12,9264,23,9274,24,9282,14,9298,null,null,0,1221]
[12,9417,14,9442,24,9451,23,9462,null,null,0,1122]
[21,9608,21,9624,22,9638,14,9671,null,null,0,2221]
[21,9839,21,9847,22,9864,23,9888,null,null,0,2222]
[21,10029,21,10050,22,10070,23,10078,null,null,0,2222]
[21,10226,21,10241,22,10249,14,10274,null,null,0,2221]
[21,10460,21,10476,22,10496,23,10513,null,null,0,2222]
[21,10666,21,10683,22,10701,23,10729,null,null,0,2222]
[12,10884,23,10896,24,10907,23,10930,null,null,0,1222]
[12,11045,23,11077,24,11095,23,11108,null,null,0,1222]
[12,11299,23,11326,13,11341,14,11347,null,null,0,1211]
[12,11508,23,11521,24,11546,14,11562,null,null,0,1221]
[12,11703,14,11708,24,11722,14,11733,null,null,0,1121]
[12,11910,23,11952,13,11965,23,11983,null,null,0,1212]
[12,12121,14,12147,24,12156,14,12178,null,null,0,1121]
[21,12468,21,12492,22,12505,23,12527,null,null,0,2222]
[21,12648,21,12719,22,12776,14,12787,null,null,0,2221]
[21,12956,12,12971,13,13010,23,13021,null,null,0,2112]
[12,13248,14,13257,13,13360,14,13364,null,null,0,1111]
[21,13494,12,13511,13,13539,14,13544,null,null,0,2111]
[21,13676,21,13753,11,13802,21,13810,null,null,0,2212]
[12,13901,14,13927,13,13932,14,13960,null,null,0,1111]
[12,14059,14,14081,13,14085,23,14094,null,null,0,1112]
[12,14324,14,14329,24,14337,14,14351,null,null,0,1121]
[12,14521,14,14526,24,14549,14,14563,null,null,0,1121]
[12,14772,23,14781,24,14809,14,14820,null,null,0,1221]
[12,15047,14,15064,13,15072,23,15082,null,null,0,1112]
[21,15277,21,15296,22,15331,14,15351,null,null,0,2221]
[12,15525,23,15539,13,15565,14,15568,null,null,0,1211]
[12,15709,14,15720,13,15725,14,15758,null,null,0,1111]
[12,16050,14,16060,13,16065,23,16075,null,null,0,1112]
[21,16273,21,16314,22,16331,14,16346,null,null,0,2221]
[12,16722,14,16735,24,16747,23,16765,null,null,0,1122]
[12,16947,14,16957,24,16966,23,16977,null,null,0,1122]
[21,17118,12,17233,13,17241,23,17250,null,null,0,2112]
[12,17507,23,17519,13,17536,23,17552,null,null,0,1212]
[12,17660,14,17673,24,17685,14,17716,null,null,0,1121]
[21,17995,12,18047,24,18085,23,18100,null,null,0,2122]
[12,18273,14,18286,13,18300,23,18312,null,null,0,1112]
[21,18731,21,18759,22,18769,23,18791,null,null,0,2222]
[21,18998,21,19015,22,19028,14,19075,null,null,0,2221]
[12,19282,14,19294,24,19303,14,19322,null,null,0,1121]
[21,19512,21,19563,11,19575,21,19583,null,null,0,2212]
[12,19696,23,19714,13,19725,23,19742,null,null,0,1212]
[12,19870,14,19882,13,19905,14,19910,null,null,0,1111]
[21,20048,21,20069,11,20087,21,20100,null,null,0,2212]
[12,20223,23,20238,13,20264,14,20269,null,null,0,1211]
[21,20448,12,20460,24,20468,14,20483,null,null,0,2121]
[21,20597,12,20739,13,20744,14,20780,null,null,0,2111]
[12,20951,14,20956,24,20965,14,20987,null,null,0,1121]
[12,21209,23,21217,13,21270,23,21307,null,null,0,1212]
[12,21486,14,21497,13,21500,23,21509,null,null,0,1112]
[21,21641,21,21672,11,21689,12,21721,null,null,0,2211]
[12,21913,23,21928,13,21957,14,21969,null,null,0,1211]
[12,22110,14,22125,24,22143,14,22155,null,null,0,1121]
[21,22338,12,22351,13,22355,14,22366,null,null,0,2111]
[21,22544,21,22575,22,22594,14,22607,null,null,0,2221]
[21,22717,21,22769,22,22781,14,22794,null,null,0,2221]
[21,22924,12,22950,24,22959,14,22979,null,null,0,2121]
[21,23161,21,23177,22,23189,14,23201,null,null,0,2221]
[21,23368,21,23390,22,23404,23,23468,null,null,0,2222]
[21,23639,21,23648,22,23680,23,23729,null,null,0,2222]
[12,23878,23,23891,24,23899,14,23920,null,null,null,1221]

{"sheet":"!MA17F00.096","index":7,"n_rows":123,"n_cols":48,"rows_kept":123,"cut":false,"hidden":false,"merged":[[4,39,4,42],[5,39,5,40],[4,44,4,47],[5,44,5,45],[4,24,4,27],[5,24,5,25],[4,29,4,32],[5,29,5,30],[4,34,4,37],[5,34,5,35],[1,1,1,2],[5,13,5,14],[26,13,26,14],[27,13,27,14],[4,19,4,22],[5,19,5,20]]}
["Report for:!MA17F00.096"]
["Date:","<date>"]
["Hen:","<hen>",null,null,null,"Correct Sequence",{"$f":"Start!J2","v":2212},null,null,null,null,null,null,null,null,"Total Sequences in Data",{"$f":"4994-COUNTBLANK(L7:L5000)","v":117},null,null,null,null,"Total Sequences in Block Data",{"$f":"COUNTA(L7:L26)","v":20},null,null,null,"Total Sequences in Block Data",{"$f":"COUNTA(L27:L45)","v":19},null,null,null,"Total Sequences in Block Data",{"$f":"COUNTA(L46:L65)","v":20},null,null,null,"Total Sequences in Block Data",{"$f":"COUNTA(L66:L84)","v":19},null,null,null,"Total Sequences in Block Data",{"$f":"COUNTA(L85:L104)","v":20},null,null,null,"Total Sequences in Block Data",{"$f":"COUNTA(L105:L123)","v":19}]
[null,null,null,null,null,null,null,null,null,null,null,null,null,null,null,"Total Sequences in Summary",{"$f":"SUM(O7:O22)","v":117},null,null,null,null,"Total Sequences in Block Summary",{"$f":"SUM(U7:U22)","v":20},null,null,null,"Total Sequences in Block Summary",{"$f":"SUM(Z7:Z22)","v":19},null,null,null,"Total Sequences in Block Summary",{"$f":"SUM(AE7:AE22)","v":20},null,null,null,"Total Sequences in Block Summary",{"$f":"SUM(AJ7:AJ22)","v":19},null,null,null,"Total Sequences in Block Summary",{"$f":"SUM(AO7:AO22)","v":20},null,null,null,"Total Sequences in Block Summary",{"$f":"SUM(AT7:AT22)","v":19}]
[null,null,null,null,null,null,null,null,null,null,null,null,null,null,null,null,null,null,null,"Block 1",null,null,null,null,"Block 2",null,null,null,null,"Block 3",null,null,null,null,"Block 4",null,null,null,null,"Block 5",null,null,null,null,"Block 6"]
["Sequence\nComponent\n1","Time\n1","Sequence\nComponent\n2","Time\n2","Sequence\nComponent\n3","Time\n3","Sequence\nComponent\n4","Time\n4","Sequence\nComponent\n5","Time\n5","Correct?\n0=No 1=Yes","Sequence",null,"Frequency",null,"Relative Frequency","Variability",null,null,"Frequency",null,"Relative Frequency","Variability",null,"Frequency",null,"Relative Frequency","Variability",null,"Frequency",null,"Relative Frequency","Variability",null,"Frequency",null,"Relative Frequency","Variability",null,"Frequency",null,"Relative Frequency","Variability",null,"Frequency",null,"Relative Frequency","Variability"]
[12,11,14,16,24,27,23,66,null,null,0,1122,null,1111,{"$f":"COUNTIF($L$7:$L$500,N7)","v":17},{"$f":"O7/$Q$4","v":0.14529914529914531},{"$f":"IF(P7=0,0,(P7*((LOG(P7))/LOG(2))))","v":-0.40435326437318048},null,null,{"$f":"N7","v":1111},{"$f":"COUNTIF(L7:L26,T7)","v":3},{"$f":"U7/(W4-U20)","v":0.15},{"$f":"IF(V7=0,0,(V7*((LOG(V7))/LOG(2))))","v":-0.41054483912493089},null,{"$f":"N7","v":1111},{"$f":"COUNTIF(L27:L45,Y7)","v":4},{"$f":"Z7/(AB4-Z20)","v":0.21052631578947367},{"$f":"IF(AA7=0,0,(AA7*((LOG(AA7))/LOG(2))))","v":-0.47324789756707064},null,{"$f":"N7","v":1111},{"$f":"COUNTIF(L46:L65,AD7)","v":3},{"$f":"AE7/(AG4-AE20)","v":0.15789473684210525},{"$f":"IF(AF7=0,0,(AF7*((LOG(AF7))/LOG(2))))","v":-0.42046815990354147},null,{"$f":"N7","v":1111},{"$f":"COUNTIF(L66:L84,AI7)","v":3},{"$f":"AJ7/(AL4-AJ20)","v":0.16666666666666666},{"$f":"IF(AK7=0,0,(AK7*((LOG(AK7))/LOG(2))))","v":-0.43082708345352599},null,{"$f":"N7","v":1111},{"$f":"COUNTIF(L85:L104,AN7)","v":2},{"$f":"AO7/(AQ4-AO20)","v":0.11764705882352941},{"$f":"IF(AP7=0,0,(AP7*((LOG(AP7))/LOG(2))))","v":-0.36323092250003997},null,{"$f":"N7","v":1111},{"$f":"COUNTIF(L105:L123,AS7)","v":2},{"$f":"AT7/(AV4-AT20)","v":0.13333333333333333},{"$f":"IF(AU7=0,0,(AU7*((LOG(AU7))/LOG(2))))","v":-0.3875854127478025}]
[12,173,14,178,24,186,23,197,null,null,0,1122,null,1112,{"$f":"COUNTIF($L$7:$L$500,N8)","v":13},{"$f":"O8/$Q$4","v":0.1111111111111111},{"$f":"IF(P8=0,0,(P8*((LOG(P8))/LOG(2))))","v":-0.3522138890491458},null,null,{"$f":"N8","v":1112},{"$f":"COUNTIF(L7:L26,T8)","v":6},{"$f":"U8/(W4-U20)","v":0.3},{"$f":"IF(V8=0,0,(V8*((LOG(V8))/LOG(2))))","v":-0.52108967824986185},null,{"$f":"N8","v":1112},{"$f":"COUNTIF(L27:L45,Y8)","v":1},{"$f":"Z8/(AB4-Z20)","v":5.2631578947368418E-2},{"$f":"IF(AA8=0,0,(AA8*((LOG(AA8))/LOG(2))))","v":-0.22357513228650452},null,{"$f":"N8","v":1112},{"$f":"COUNTIF(L46:L65,AD8)","v":2},{"$f":"AE8/(AG4-AE20)","v":0.10526315789473684},{"$f":"IF(AF8=0,0,(AF8*((LOG(AF8))/LOG(2))))","v":-0.34188710667827216},null,{"$f":"N8","v":1112},{"$f":"COUNTIF(L66:L84,AI8)","v":2},{"$f":"AJ8/(AL4-AJ20)","v":0.1111111111111111},{"$f":"IF(AK8=0,0,(AK8*((LOG(AK8))/LOG(2))))","v":-0.3522138890491458},null,{"$f":"N8","v":1112},{"$f":"COUNTIF(L85:L104,AN8)","v":1},{"$f":"AO8/(AQ4-AO20)","v":5.8823529411764705E-2},{"$f":"IF(AP8=0,0,(AP8*((LOG(AP8))/LOG(2))))","v":-0.24043899066178465},null,{"$f":"N8","v":1112},{"$f":"COUNTIF(L105:L123,AS8)","v":1},{"$f":"AT8/(AV4-AT20)","v":6.6666666666666666E-2},{"$f":"IF(AU8=0,0,(AU8*((LOG(AU8))/LOG(2))))","v":-0.26045937304056793}]
[12,295,23,311,13,336,14,344,null,null,0,1211,null,1121,{"$f":"COUNTIF($L$7:$L$500,N9)","v":21},{"$f":"O9/$Q$4","v":0.17948717948717949},{"$f":"IF(P9=0,0,(P9*((LOG(P9))/LOG(2))))","v":-0.4447777199392951},null,null,{"$f":"N9","v":1121},{"$f":"COUNTIF(L7:L26,T9)","v":6},{"$f":"U9/(W4-U20)","v":0.3},{"$f":"IF(V9=0,0,(V9*((LOG(V9))/LOG(2))))","v":-0.52108967824986185},null,{"$f":"N9","v":1121},{"$f":"COUNTIF(L27:L45,Y9)","v":3},{"$f":"Z9/(AB4-Z20)","v":0.15789473684210525},{"$f":"IF(AA9=0,0,(AA9*((LOG(AA9))/LOG(2))))","v":-0.42046815990354147},null,{"$f":"N9","v":1121},{"$f":"COUNTIF(L46:L65,AD9)","v":3},{"$f":"AE9/(AG4-AE20)","v":0.15789473684210525},{"$f":"IF(AF9=0,0,(AF9*((LOG(AF9))/LOG(2))))","v":-0.42046815990354147},null,{"$f":"N9","v":1121},{"$f":"COUNTIF(L66:L84,AI9)","v":3},{"$f":"AJ9/(AL4-AJ20)","v":0.16666666666666666},{"$f":"IF(AK9=0,0,(AK9*((LOG(AK9))/LOG(2))))","v":-0.43082708345352599},null,{"$f":"N9","v":1121},{"$f":"COUNTIF(L85:L104,AN9)","v":1},{"$f":"AO9/(AQ4-AO20)","v":5.8823529411764705E-2},{"$f":"IF(AP9=0,0,(AP9*((LOG(AP9))/LOG(2))))","v":-0.24043899066178465},null,{"$f":"N9","v":1121},{"$f":"COUNTIF(L105:L123,AS9)","v":5},{"$f":"AT9/(AV4-AT20)","v":0.33333333333333331},{"$f":"IF(AU9=0,0,(AU9*((LOG(AU9))/LOG(2))))","v":-0.52832083357371862}]
[12,446,14,454,13,459,23,470,null,null,0,1112,null,1122,{"$f":"COUNTIF($L$7:$L$500,N10)","v":5},{"$f":"O10/$Q$4","v":4.2735042735042736E-2},{"$f":"IF(P10=0,0,(P10*((LOG(P10))/LOG(2))))","v":-0.19437763353401891},null,null,{"$f":"N10","v":1122},{"$f":"COUNTIF(L7:L26,T10)","v":3},{"$f":"U10/(W4-U20)","v":0.15},{"$f":"IF(V10=0,0,(V10*((LOG(V10))/LOG(2))))","v":-0.41054483912493089},null,{"$f":"N10","v":1122},{"$f":"COUNTIF(L27:L45,Y10)","v":1},{"$f":"Z10/(AB4-Z20)","v":5.2631578947368418E-2},{"$f":"IF(AA10=0,0,(AA10*((LOG(AA10))/LOG(2))))","v":-0.22357513228650452},null,{"$f":"N10","v":1122},{"$f":"COUNTIF(L46:L65,AD10)","v":1},{"$f":"AE10/(AG4-AE20)","v":5.2631578947368418E-2},{"$f":"IF(AF10=0,0,(AF10*((LOG(AF10))/LOG(2))))","v":-0.22357513228650452},null,{"$f":"N10","v":1122},{"$f":"COUNTIF(L66:L84,AI10)","v":0},{"$f":"AJ10/(AL4-AJ20)","v":0},{"$f":"IF(AK10=0,0,(AK10*((LOG(AK10))/LOG(2))))","v":0},null,{"$f":"N10","v":1122},{"$f":"COUNTIF(L85:L104,AN10)","v":0},{"$f":"AO10/(AQ4-AO20)","v":0},{"$f":"IF(AP10=0,0,(AP10*((LOG(AP10))/LOG(2))))","v":0},null,{"$f":"N10","v":1122},{"$f":"COUNTIF(L105:L123,AS10)","v":0},{"$f":"AT10/(AV4-AT20)","v":0},{"$f":"IF(AU10=0,0,(AU10*((LOG(AU10))/LOG(2))))","v":0}]
[12,566,14,571,13,576,23,587,null,null,0,1112,null,1211,{"$f":"COUNTIF($L$7:$L$500,N11)","v":7},{"$f":"O11/$Q$4","v":5.9829059829059832E-2},{"$f":"IF(P11=0,0,(P11*((LOG(P11))/LOG(2))))","v":-0.24308605626222737},null,null,{"$f":"N11","v":1211},{"$f":"COUNTIF(L7:L26,T11)","v":2},{"$f":"U11/(W4-U20)","v":0.1},{"$f":"IF(V11=0,0,(V11*((LOG(V11))/LOG(2))))","v":-0.33219280948873625},null,{"$f":"N11","v":1211},{"$f":"COUNTIF(L27:L45,Y11)","v":2},{"$f":"Z11/(AB4-Z20)","v":0.10526315789473684},{"$f":"IF(AA11=0,0,(AA11*((LOG(AA11))/LOG(2))))","v":-0.34188710667827216},null,{"$f":"N11","v":1211},{"$f":"COUNTIF(L46:L65,AD11)","v":1},{"$f":"AE11/(AG4-AE20)","v":5.2631578947368418E-2},{"$f":"IF(AF11=0,0,(AF11*((LOG(AF11))/LOG(2))))","v":-0.22357513228650452},null,{"$f":"N11","v":1211},{"$f":"COUNTIF(L66:L84,AI11)","v":0},{"$f":"AJ11/(AL4-AJ20)","v":0},{"$f":"IF(AK11=0,0,(AK11*((LOG(AK11))/LOG(2))))","v":0},null,{"$f":"N11","v":1211},{"$f":"COUNTIF(L85:L104,AN11)","v":2},{"$f":"AO11/(AQ4-AO20)","v":0.11764705882352941},{"$f":"IF(AP11=0,0,(AP11*((LOG(AP11))/LOG(2))))","v":-0.36323092250003997},null,{"$f":"N11","v":1211},{"$f":"COUNTIF(L105:L123,AS11)","v":0},{"$f":"AT11/(AV4-AT20)","v":0},{"$f":"IF(AU11=0,0,(AU11*((LOG(AU11))/LOG(2))))","v":0}]
[12,685,14,689,24,698,14,708,null,null,0,1121,null,1212,{"$f":"COUNTIF($L$7:$L$500,N12)","v":6},{"$f":"O12/$Q$4","v":5.128205128205128E-2},{"$f":"IF(P12=0,0,(P12*((LOG(P12))/LOG(2))))","v":-0.21976421635191018},null,null,{"$f":"N12","v":1212},{"$f":"COUNTIF(L7:L26,T12)","v":0},{"$f":"U12/(W4-U20)","v":0},{"$f":"IF(V12=0,0,(V12*((LOG(V12))/LOG(2))))","v":0},null,{"$f":"N12","v":1212},{"$f":"COUNTIF(L27:L45,Y12)","v":2},{"$f":"Z12/(AB4-Z20)","v":0.10526315789473684},{"$f":"IF(AA12=0,0,(AA12*((LOG(AA12))/LOG(2))))","v":-0.34188710667827216},null,{"$f":"N12","v":1212},{"$f":"COUNTIF(L46:L65,AD12)","v":2},{"$f":"AE12/(AG4-AE20)","v":0.10526315789473684},{"$f":"IF(AF12=0,0,(AF12*((LOG(AF12))/LOG(2))))","v":-0.34188710667827216},null,{"$f":"N12","v":1212},{"$f":"COUNTIF(L66:L84,AI12)","v":1},{"$f":"AJ12/(AL4-AJ20)","v":5.5555555555555552E-2},{"$f":"IF(AK12=0,0,(AK12*((LOG(AK12))/LOG(2))))","v":-0.23166250008012845},null,{"$f":"N12","v":1212},{"$f":"COUNTIF(L85:L104,AN12)","v":1},{"$f":"AO12/(AQ4-AO20)","v":5.8823529411764705E-2},{"$f":"IF(AP12=0,0,(AP12*((LOG(AP12))/LOG(2))))","v":-0.24043899066178465},null,{"$f":"N12","v":1212},{"$f":"COUNTIF(L105:L123,AS12)","v":0},{"$f":"AT12/(AV4-AT20)","v":0},{"$f":"IF(AU12=0,0,(AU12*((LOG(AU12))/LOG(2))))","v":0}]
[12,809,14,813,24,823,14,836,null,null,0,1121,null,1221,{"$f":"COUNTIF($L$7:$L$500,N13)","v":3},{"$f":"O13/$Q$4","v":2.564102564102564E-2},{"$f":"IF(P13=0,0,(P13*((LOG(P13))/LOG(2))))","v":-0.13552313381698072},null,null,{"$f":"N13","v":1221},{"$f":"COUNTIF(L7:L26,T13)","v":0},{"$f":"U13/(W4-U20)","v":0},{"$f":"IF(V13=0,0,(V13*((LOG(V13))/LOG(2))))","v":0},null,{"$f":"N13","v":1221},{"$f":"COUNTIF(L27:L45,Y13)","v":0},{"$f":"Z13/(AB4-Z20)","v":0},{"$f":"IF(AA13=0,0,(AA13*((LOG(AA13))/LOG(2))))","v":0},null,{"$f":"N13","v":1221},{"$f":"COUNTIF(L46:L65,AD13)","v":0},{"$f":"AE13/(AG4-AE20)","v":0},{"$f":"IF(AF13=0,0,(AF13*((LOG(AF13))/LOG(2))))","v":0},null,{"$f":"N13","v":1221},{"$f":"COUNTIF(L66:L84,AI13)","v":2},{"$f":"AJ13/(AL4-AJ20)","v":0.1111111111111111},{"$f":"IF(AK13=0,0,(AK13*((LOG(AK13))/LOG(2))))","v":-0.3522138890491458},null,{"$f":"N13","v":1221},{"$f":"COUNTIF(L85:L104,AN13)","v":0},{"$f":"AO13/(AQ4-AO20)","v":0},{"$f":"IF(AP13=0,0,(AP13*((LOG(AP13))/LOG(2))))","v":0},null,{"$f":"N13","v":1221},{"$f":"COUNTIF(L105:L123,AS13)","v":1},{"$f":"AT13/(AV4-AT20)","v":6.6666666666666666E-2},{"$f":"IF(AU13=0,0,(AU13*((LOG(AU13))/LOG(2))))","v":-0.26045937304056793}]
[12,933,14,952,24,961,14,971,null,null,0,1121,null,1222,{"$f":"COUNTIF($L$7:$L$500,N14)","v":1},{"$f":"O14/$Q$4","v":8.5470085470085479E-3},{"$f":"IF(P14=0,0,(P14*((LOG(P14))/LOG(2))))","v":-5.8721065979345344E-2},null,null,{"$f":"N14","v":1222},{"$f":"COUNTIF(L7:L26,T14)","v":0},{"$f":"U14/(W4-U20)","v":0},{"$f":"IF(V14=0,0,(V14*((LOG(V14))/LOG(2))))","v":0},null,{"$f":"N14","v":1222},{"$f":"COUNTIF(L27:L45,Y14)","v":0},{"$f":"Z14/(AB4-Z20)","v":0},{"$f":"IF(AA14=0,0,(AA14*((LOG(AA14))/LOG(2))))","v":0},null,{"$f":"N14","v":1222},{"$f":"COUNTIF(L46:L65,AD14)","v":0},{"$f":"AE14/(AG4-AE20)","v":0},{"$f":"IF(AF14=0,0,(AF14*((LOG(AF14))/LOG(2))))","v":0},null,{"$f":"N14","v":1222},{"$f":"COUNTIF(L66:L84,AI14)","v":0},{"$f":"AJ14/(AL4-AJ20)","v":0},{"$f":"IF(AK14=0,0,(AK14*((LOG(AK14))/LOG(2))))","v":0},null,{"$f":"N14","v":1222},{"$f":"COUNTIF(L85:L104,AN14)","v":0},{"$f":"AO14/(AQ4-AO20)","v":0},{"$f":"IF(AP14=0,0,(AP14*((LOG(AP14))/LOG(2))))","v":0},null,{"$f":"N14","v":1222},{"$f":"COUNTIF(L105:L123,AS14)","v":1},{"$f":"AT14/(AV4-AT20)","v":6.6666666666666666E-2},{"$f":"IF(AU14=0,0,(AU14*((LOG(AU14))/LOG(2))))","v":-0.26045937304056793}]
[12,1076,14,1086,13,1091,23,1101,null,null,0,1112,null,2111,{"$f":"COUNTIF($L$7:$L$500,N15)","v":2},{"$f":"O15/$Q$4","v":1.7094017094017096E-2},{"$f":"IF(P15=0,0,(P15*((LOG(P15))/LOG(2))))","v":-0.1003481148646736},null,null,{"$f":"N15","v":2111},{"$f":"COUNTIF(L7:L26,T15)","v":0},{"$f":"U15/(W4-U20)","v":0},{"$f":"IF(V15=0,0,(V15*((LOG(V15))/LOG(2))))","v":0},null,{"$f":"N15","v":2111},{"$f":"COUNTIF(L27:L45,Y15)","v":1},{"$f":"Z15/(AB4-Z20)","v":5.2631578947368418E-2},{"$f":"IF(AA15=0,0,(AA15*((LOG(AA15))/LOG(2))))","v":-0.22357513228650452},null,{"$f":"N15","v":2111},{"$f":"COUNTIF(L46:L65,AD15)","v":0},{"$f":"AE15/(AG4-AE20)","v":0},{"$f":"IF(AF15=0,0,(AF15*((LOG(AF15))/LOG(2))))","v":0},null,{"$f":"N15","v":2111},{"$f":"COUNTIF(L66:L84,AI15)","v":1},{"$f":"AJ15/(AL4-AJ20)","v":5.5555555555555552E-2},{"$f":"IF(AK15=0,0,(AK15*((LOG(AK15))/LOG(2))))","v":-0.23166250008012845},null,{"$f":"N15","v":2111},{"$f":"COUNTIF(L85:L104,AN15)","v":0},{"$f":"AO15/(AQ4-AO20)","v":0},{"$f":"IF(AP15=0,0,(AP15*((LOG(AP15))/LOG(2))))","v":0},null,{"$f":"N15","v":2111},{"$f":"COUNTIF(L105:L123,AS15)","v":0},{"$f":"AT15/(AV4-AT20)","v":0},{"$f":"IF(AU15=0,0,(AU15*((LOG(AU15))/LOG(2))))","v":0}]
[12,1202,14,1206,24,1218,14,1228,null,null,0,1121,null,2112,{"$f":"COUNTIF($L$7:$L$500,N16)","v":7},{"$f":"O16/$Q$4","v":5.9829059829059832E-2},{"$f":"IF(P16=0,0,(P16*((LOG(P16))/LOG(2))))","v":-0.24308605626222737},null,null,{"$f":"N16","v":2112},{"$f":"COUNTIF(L7:L26,T16)","v":0},{"$f":"U16/(W4-U20)","v":0},{"$f":"IF(V16=0,0,(V16*((LOG(V16))/LOG(2))))","v":0},null,{"$f":"N16","v":2112},{"$f":"COUNTIF(L27:L45,Y16)","v":3},{"$f":"Z16/(AB4-Z20)","v":0.15789473684210525},{"$f":"IF(AA16=0,0,(AA16*((LOG(AA16))/LOG(2))))","v":-0.42046815990354147},null,{"$f":"N16","v":2112},{"$f":"COUNTIF(L46:L65,AD16)","v":1},{"$f":"AE16/(AG4-AE20)","v":5.2631578947368418E-2},{"$f":"IF(AF16=0,0,(AF16*((LOG(AF16))/LOG(2))))","v":-0.22357513228650452},null,{"$f":"N16","v":2112},{"$f":"COUNTIF(L66:L84,AI16)","v":0},{"$f":"AJ16/(AL4-AJ20)","v":0},{"$f":"IF(AK16=0,0,(AK16*((LOG(AK16))/LOG(2))))","v":0},null,{"$f":"N16","v":2112},{"$f":"COUNTIF(L85:L104,AN16)","v":1},{"$f":"AO16/(AQ4-AO20)","v":5.8823529411764705E-2},{"$f":"IF(AP16=0,0,(AP16*((LOG(AP16))/LOG(2))))","v":-0.24043899066178465},null,{"$f":"N16","v":2112},{"$f":"COUNTIF(L105:L123,AS16)","v":2},{"$f":"AT16/(AV4-AT20)","v":0.13333333333333333},{"$f":"IF(AU16=0,0,(AU16*((LOG(AU16))/LOG(2))))","v":-0.3875854127478025}]
[12,1328,23,1350,13,1360,14,1364,null,null,0,1211,null,2121,{"$f":"COUNTIF($L$7:$L$500,N17)","v":6},{"$f":"O17/$Q$4","v":5.128205128205128E-2},{"$f":"IF(P17=0,0,(P17*((LOG(P17))/LOG(2))))","v":-0.21976421635191018},null,null,{"$f":"N17","v":2121},{"$f":"COUNTIF(L7:L26,T17)","v":0},{"$f":"U17/(W4-U20)","v":0},{"$f":"IF(V17=0,0,(V17*((LOG(V17))/LOG(2))))","v":0},null,{"$f":"N17","v":2121},{"$f":"COUNTIF(L27:L45,Y17)","v":0},{"$f":"Z17/(AB4-Z20)","v":0},{"$f":"IF(AA17=0,0,(AA17*((LOG(AA17))/LOG(2))))","v":0},null,{"$f":"N17","v":2121},{"$f":"COUNTIF(L46:L65,AD17)","v":2},{"$f":"AE17/(AG4-AE20)","v":0.10526315789473684},{"$f":"IF(AF17=0,0,(AF17*((LOG(AF17))/LOG(2))))","v":-0.34188710667827216},null,{"$f":"N17","v":2121},{"$f":"COUNTIF(L66:L84,AI17)","v":1},{"$f":"AJ17/(AL4-AJ20)","v":5.5555555555555552E-2},{"$f":"IF(AK17=0,0,(AK17*((LOG(AK17))/LOG(2))))","v":-0.23166250008012845},null,{"$f":"N17","v":2121},{"$f":"COUNTIF(L85:L104,AN17)","v":1},{"$f":"AO17/(AQ4-AO20)","v":5.8823529411764705E-2},{"$f":"IF(AP17=0,0,(AP17*((LOG(AP17))/LOG(2))))","v":-0.24043899066178465},null,{"$f":"N17","v":2121},{"$f":"COUNTIF(L105:L123,AS17)","v":2},{"$f":"AT17/(AV4-AT20)","v":0.13333333333333333},{"$f":"IF(AU17=0,0,(AU17*((LOG(AU17))/LOG(2))))","v":-0.3875854127478025}]
[12,1467,14,1471,13,1501,23,1508,null,null,0,1112,null,2122,{"$f":"COUNTIF($L$7:$L$500,N18)","v":1},{"$f":"O18/$Q$4","v":8.5470085470085479E-3},{"$f":"IF(P18=0,0,(P18*((LOG(P18))/LOG(2))))","v":-5.8721065979345344E-2},null,null,{"$f":"N18","v":2122},{"$f":"COUNTIF(L7:L26,T18)","v":0},{"$f":"U18/(W4-U20)","v":0},{"$f":"IF(V18=0,0,(V18*((LOG(V18))/LOG(2))))","v":0},null,{"$f":"N18","v":2122},{"$f":"COUNTIF(L27:L45,Y18)","v":0},{"$f":"Z18/(AB4-Z20)","v":0},{"$f":"IF(AA18=0,0,(AA18*((LOG(AA18))/LOG(2))))","v":0},null,{"$f":"N18","v":2122},{"$f":"COUNTIF(L46:L65,AD18)","v":0},{"$f":"AE18/(AG4-AE20)","v":0},{"$f":"IF(AF18=0,0,(AF18*((LOG(AF18))/LOG(2))))","v":0},null,{"$f":"N18","v":2122},{"$f":"COUNTIF(L66:L84,AI18)","v":0},{"$f":"AJ18/(AL4-AJ20)","v":0},{"$f":"IF(AK18=0,0,(AK18*((LOG(AK18))/LOG(2))))","v":0},null,{"$f":"N18","v":2122},{"$f":"COUNTIF(L85:L104,AN18)","v":1},{"$f":"AO18/(AQ4-AO20)","v":5.8823529411764705E-2},{"$f":"IF(AP18=0,0,(AP18*((LOG(AP18))/LOG(2))))","v":-0.24043899066178465},null,{"$f":"N18","v":2122},{"$f":"COUNTIF(L105:L123,AS18)","v":0},{"$f":"AT18/(AV4-AT20)","v":0},{"$f":"IF(AU18=0,0,(AU18*((LOG(AU18))/LOG(2))))","v":0}]
[12,1618,14,1632,13,1647,23,1660,null,null,0,1112,null,2211,{"$f":"COUNTIF($L$7:$L$500,N19)","v":6},{"$f":"O19/$Q$4","v":5.128205128205128E-2},{"$f":"IF(P19=0,0,(P19*((LOG(P19))/LOG(2))))","v":-0.21976421635191018},null,null,{"$f":"N19","v":2211},{"$f":"COUNTIF(L7:L26,T19)","v":0},{"$f":"U19/(W4-U20)","v":0},{"$f":"IF(V19=0,0,(V19*((LOG(V19))/LOG(2))))","v":0},null,{"$f":"N19","v":2211},{"$f":"COUNTIF(L27:L45,Y19)","v":1},{"$f":"Z19/(AB4-Z20)","v":5.2631578947368418E-2},{"$f":"IF(AA19=0,0,(AA19*((LOG(AA19))/LOG(2))))","v":-0.22357513228650452},null,{"$f":"N19","v":2211},{"$f":"COUNTIF(L46:L65,AD19)","v":2},{"$f":"AE19/(AG4-AE20)","v":0.10526315789473684},{"$f":"IF(AF19=0,0,(AF19*((LOG(AF19))/LOG(2))))","v":-0.34188710667827216},null,{"$f":"N19","v":2211},{"$f":"COUNTIF(L66:L84,AI19)","v":0},{"$f":"AJ19/(AL4-AJ20)","v":0},{"$f":"IF(AK19=0,0,(AK19*((LOG(AK19))/LOG(2))))","v":0},null,{"$f":"N19","v":2211},{"$f":"COUNTIF(L85:L104,AN19)","v":2},{"$f":"AO19/(AQ4-AO20)","v":0.11764705882352941},{"$f":"IF(AP19=0,0,(AP19*((LOG(AP19))/LOG(2))))","v":-0.36323092250003997},null,{"$f":"N19","v":2211},{"$f":"COUNTIF(L105:L123,AS19)","v":1},{"$f":"AT19/(AV4-AT20)","v":6.6666666666666666E-2},{"$f":"IF(AU19=0,0,(AU19*((LOG(AU19))/LOG(2))))","v":-0.26045937304056793}]
[12,1759,14,1763,13,1790,23,1798,null,null,0,1112,null,2212,{"$f":"COUNTIF($L$7:$L$500,N20)","v":9},{"$f":"O20/$Q$4","v":7.6923076923076927E-2},{"$f":"IF(P20=0,0,(P20*((LOG(P20))/LOG(2))))","v":-0.28464920908777636},null,null,{"$f":"N20","v":2212},{"$f":"COUNTIF(L7:L26,T20)","v":0},null,null,null,{"$f":"N20","v":2212},{"$f":"COUNTIF(L27:L45,Y20)","v":0},null,null,null,{"$f":"N20","v":2212},{"$f":"COUNTIF(L46:L65,AD20)","v":1},null,null,null,{"$f":"N20","v":2212},{"$f":"COUNTIF(L66:L84,AI20)","v":1},null,null,null,{"$f":"N20","v":2212},{"$f":"COUNTIF(L85:L104,AN20)","v":3},null,null,null,{"$f":"N20","v":2212},{"$f":"COUNTIF(L105:L123,AS20)","v":4}]
[12,1897,14,1901,13,1945,14,1949,null,null,0,1111,null,2221,{"$f":"COUNTIF($L$7:$L$500,N21)","v":5},{"$f":"O21/$Q$4","v":4.2735042735042736E-2},{"$f":"IF(P21=0,0,(P21*((LOG(P21))/LOG(2))))","v":-0.19437763353401891},null,null,{"$f":"N21","v":2221},{"$f":"COUNTIF(L7:L26,T21)","v":0},{"$f":"U21/(W4-U20)","v":0},{"$f":"IF(V21=0,0,(V21*((LOG(V21))/LOG(2))))","v":0},null,{"$f":"N21","v":2221},{"$f":"COUNTIF(L27:L45,Y21)","v":1},{"$f":"Z21/(AB4-Z20)","v":5.2631578947368418E-2},{"$f":"IF(AA21=0,0,(AA21*((LOG(AA21))/LOG(2))))","v":-0.22357513228650452},null,{"$f":"N21","v":2221},{"$f":"COUNTIF(L46:L65,AD21)","v":0},{"$f":"AE21/(AG4-AE20)","v":0},{"$f":"IF(AF21=0,0,(AF21*((LOG(AF21))/LOG(2))))","v":0},null,{"$f":"N21","v":2221},{"$f":"COUNTIF(L66:L84,AI21)","v":2},{"$f":"AJ21/(AL4-AJ20)","v":0.1111111111111111},{"$f":"IF(AK21=0,0,(AK21*((LOG(AK21))/LOG(2))))","v":-0.3522138890491458},null,{"$f":"N21","v":2221},{"$f":"COUNTIF(L85:L104,AN21)","v":2},{"$f":"AO21/(AQ4-AO20)","v":0.11764705882352941},{"$f":"IF(AP21=0,0,(AP21*((LOG(AP21))/LOG(2))))","v":-0.36323092250003997},null,{"$f":"N21","v":2221},{"$f":"COUNTIF(L105:L123,AS21)","v":0},{"$f":"AT21/(AV4-AT20)","v":0},{"$f":"IF(AU21=0,0,(AU21*((LOG(AU21))/LOG(2))))","v":0}]
[12,2048,14,2052,13,2074,14,2078,null,null,0,1111,null,2222,{"$f":"COUNTIF($L$7:$L$500,N22)","v":8},{"$f":"O22/$Q$4","v":6.8376068376068383E-2},{"$f":"IF(P22=0,0,(P22*((LOG(P22))/LOG(2))))","v":-0.26464032270655757},null,null,{"$f":"N22","v":2222},{"$f":"COUNTIF(L7:L26,T22)","v":0},{"$f":"U22/(W4-U20)","v":0},{"$f":"IF(V22=0,0,(V22*((LOG(V22))/LOG(2))))","v":0},null,{"$f":"N22","v":2222},{"$f":"COUNTIF(L27:L45,Y22)","v":0},{"$f":"Z22/(AB4-Z20)","v":0},{"$f":"IF(AA22=0,0,(AA22*((LOG(AA22))/LOG(2))))","v":0},null,{"$f":"N22","v":2222},{"$f":"COUNTIF(L46:L65,AD22)","v":2},{"$f":"AE22/(AG4-AE20)","v":0.10526315789473684},{"$f":"IF(AF22=0,0,(AF22*((LOG(AF22))/LOG(2))))","v":-0.34188710667827216},null,{"$f":"N22","v":2222},{"$f":"COUNTIF(L66:L84,AI22)","v":3},{"$f":"AJ22/(AL4-AJ20)","v":0.16666666666666666},{"$f":"IF(AK22=0,0,(AK22*((LOG(AK22))/LOG(2))))","v":-0.43082708345352599},null,{"$f":"N22","v":2222},{"$f":"COUNTIF(L85:L104,AN22)","v":3},{"$f":"AO22/(AQ4-AO20)","v":0.17647058823529413},{"$f":"IF(AP22=0,0,(AP22*((LOG(AP22))/LOG(2))))","v":-0.44161770715220888},null,{"$f":"N22","v":2222},{"$f":"COUNTIF(L105:L123,AS22)","v":0},{"$f":"AT22/(AV4-AT20)","v":0},{"$f":"IF(AU22=0,0,(AU22*((LOG(AU22))/LOG(2))))","v":0}]
[12,2196,14,2203,24,2214,14,2227,null,null,0,1121,null,null,null,{"$f":"SUM(P7:P22)","v":1.0000000000000002},{"$f":"-SUM(Q7:Q22)","v":3.6381678144445231},null,null,null,null,{"$f":"SUM(V7:V22)","v":1},{"$f":"-SUM(W7:W22)","v":2.1954618442383218},null,null,null,{"$f":"SUM(AA7:AA22)","v":1},{"$f":"-SUM(AB7:AB22)","v":3.115834092163221},null,null,null,{"$f":"SUM(AF7:AF22)","v":0.99999999999999989},{"$f":"-SUM(AG7:AG22)","v":3.2210972500579578},null,null,null,{"$f":"SUM(AK7:AK22)","v":1.0000000000000002},{"$f":"-SUM(AL7:AL22)","v":3.0441104177484011},null,null,null,{"$f":"SUM(AP7:AP22)","v":1},{"$f":"-SUM(AQ7:AQ22)","v":3.3371753411230771},null,null,null,{"$f":"SUM(AU7:AU22)","v":0.99999999999999989},{"$f":"-SUM(AV7:AV22)","v":2.7329145639793979}]
[12,2372,14,2376,13,2403,14,2411,null,null,0,1111,null,null,null,"U=",{"$f":"Q23/(LOG(Q4)/LOG(2))","v":0.5295450769992206},null,null,null,null,"U1=",{"$f":"W23/(LOG(W4)/LOG(2))","v":0.50798203858029234},null,null,null,"U2=",{"$f":"AB23/(LOG(AB4)/LOG(2))","v":0.73349511786686961},null,null,null,"U3=",{"$f":"AG23/(LOG(AG4)/LOG(2))","v":0.74529172613222416},null,null,null,"U4=",{"$f":"AL23/(LOG(AL4)/LOG(2))","v":0.71661072561021433},null,null,null,"U5=",{"$f":"AQ23/(LOG(AQ4)/LOG(2))","v":0.77214966742986735},null,null,null,"U6=",{"$f":"AV23/(LOG(AV4)/LOG(2))","v":0.64335244783025003}]
[12,2577,14,2586,24,2594,23,2605,null,null,0,1122]
[12,2763,14,2767,24,2791,14,2803,null,null,0,1121]
[21,2955,21,2971,22,2982,14,2996,null,null,0,2221,null,"Total Target Seq"]
[21,3134,12,3146,13,3150,14,3154,null,null,0,2111,null,{"$f":"COUNTIF(L7:L123,G3)","v":9},null,20,19,20,19,20,19]
[12,3271,14,3275,24,3288,23,3298,null,null,0,1122,null,null,null,"% of reinforcement given in 6 equal intervals based on number of trials "]
[21,3426,12,3444,13,3448,23,3461,null,null,0,2112,null,null,null,"%_1","%_2","%_3","%_4","%_5","%_6"]
[12,3598,14,3602,13,3621,14,3628,null,null,0,1111,null,null,"target sequence",{"$f":"$G$3","v":2212},{"$f":"$G$3","v":2212},{"$f":"$G$3","v":2212},{"$f":"$G$3","v":2212},{"$f":"$G$3","v":2212},{"$f":"$G$3","v":2212}]
[21,3746,12,3756,13,3760,23,3767,null,null,0,2112,null,null,"total reinforcement",{"$f":"U20","v":0},{"$f":"Z20","v":0},{"$f":"AE20","v":1},{"$f":"AJ20","v":1},{"$f":"AO20","v":3},{"$f":"AT20","v":4}]
[12,3940,14,3947,24,3955,14,3969,null,null,0,1121,null,null,"% target"]
[12,4107,23,4115,13,4125,14,4148,null,null,0,1211,null,null,"CCRF"]
[12,4247,14,4266,13,4270,23,4278,null,null,0,1112,null,null,"% CCRf"]
[12,4411,14,4415,13,4419,14,4441,null,null,0,1111,null,null,"average response rate",{"$f":"H26/P28","v":140.15},{"$f":"(H45-H26)/Q28","v":168.52631578947367},{"$f":"(H65-H45)/R28","v":201.75},{"$f":"(H84-H65)/S28","v":223.89473684210526},{"$f":"(H104-H84)/T28","v":238.6},{"$f":"(H123-H104)/U28","v":252.10526315789474}]
[12,4576,23,4584,13,4595,14,4602,null,null,0,1211]
[12,4730,14,4737,24,4745,14,4755,null,null,0,1121]
[12,4884,14,4888,13,4908,14,4914,null,null,0,1111]
[21,5018,21,5050,11,5060,12,5065,null,null,0,2211]
[12,5166,14,5170,13,5189,14,5195,null,null,0,1111]
[12,5307,14,5310,24,5320,14,5338,null,null,0,1121]
[12,5536,23,5550,13,5565,23,5573,null,null,0,1212]
[21,5748,12,5762,13,5766,23,5796,null,null,0,2112]
[12,5948,23,5960,13,5994,23,6005,null,null,0,1212]
[21,6137,12,6180,24,6188,14,6200,null,null,0,2121]
[12,6318,14,6337,24,6346,14,6357,null,null,0,1121]
[12,6529,23,6557,13,6574,23,6601,null,null,0,1212]
[12,6705,14,6713,13,6716,14,6738,null,null,0,1111]
[12,6868,23,6915,13,6924,14,6928,null,null,0,1211]
[12,7070,14,7074,24,7087,14,7096,null,null,0,1121]
[21,7263,21,7296,22,7314,23,7354,null,null,0,2222]
[21,7490,21,7504,22,7524,23,7549,null,null,0,2222]
[21,7686,21,7708,11,7724,12,7728,null,null,0,2211]
[21,7855,21,7875,11,7890,12,7896,null,null,0,2211]
[12,8138,23,8155,13,8167,23,8178,null,null,0,1212]
[12,8420,14,8430,13,8441,23,8449,null,null,0,1112]
[21,8597,21,8615,11,8628,21,8636,null,null,0,2212]
[12,8762,14,8766,24,8775,23,8793,null,null,0,1122]
[12,8986,14,9022,13,9056,14,9066,null,null,0,1111]
[12,9195,14,9212,13,9217,14,9221,null,null,0,1111]
[21,9456,12,9470,13,9477,23,9489,null,null,0,2112]
[21,9624,12,9661,24,9672,14,9684,null,null,0,2121]
[12,9807,14,9811,13,9839,23,9848,null,null,0,1112]
[12,9999,14,10020,24,10028,14,10040,null,null,0,1121]
[21,10171,21,10197,22,10221,14,10239,null,null,0,2221]
[21,10514,21,10548,22,10575,23,10597,null,null,0,2222]
[21,10720,21,10729,22,10753,23,10765,null,null,0,2222]
[12,10897,23,10921,13,10937,23,10959,null,null,0,1212]
[12,11248,23,11267,24,11304,14,11329,null,null,0,1221]
[21,11541,21,11554,22,11589,14,11601,null,null,0,2221]
[12,11875,14,11906,13,11915,14,11919,null,null,0,1111]
[21,12053,21,12067,22,12075,23,12089,null,null,0,2222]
[12,12223,14,12230,13,12234,23,12244,null,null,0,1112]
[12,12358,23,12394,24,12405,14,12415,null,null,0,1221]
[12,12542,14,12590,13,12597,14,12602,null,null,0,1111]
[12,12713,14,12720,13,12727,23,12737,null,null,0,1112]
[12,12987,14,12994,24,13006,14,13018,null,null,0,1121]
[12,13151,14,13155,13,13174,14,13179,null,null,0,1111]
[21,13315,21,13328,11,13340,21,13351,null,null,0,2212]
[12,13563,14,13589,24,13598,14,13610,null,null,0,1121]
[21,13753,12,13798,13,13805,14,13834,null,null,0,2111]
[21,14092,12,14107,24,14116,14,14129,null,null,0,2121]
[12,14243,14,14273,24,14284,14,14294,null,null,0,1121]
[21,14414,21,14422,22,14432,23,14453,null,null,0,2222]
[21,14587,21,14601,11,14615,12,14619,null,null,0,2211]
[12,14726,14,14736,13,14750,14,14779,null,null,0,1111]
[21,14915,21,14941,11,14956,21,14965,null,null,0,2212]
[21,15110,21,15129,11,15141,21,15149,null,null,0,2212]
[21,15264,12,15285,13,15299,23,15316,null,null,0,2112]
[12,15436,23,15447,13,15464,14,15485,null,null,0,1211]
[12,15664,23,15672,13,15689,23,15718,null,null,0,1212]
[12,15889,14,15893,24,15917,14,15933,null,null,0,1121]
[21,16360,21,16373,11,16395,12,16403,null,null,0,2211]
[21,16513,21,16528,22,16542,23,16573,null,null,0,2222]
[21,16702,12,16735,24,16749,14,16762,null,null,0,2121]
[21,16904,21,16925,22,16932,14,16953,null,null,0,2221]
[12,17389,14,17397,13,17409,14,17413,null,null,0,1111]
[21,17954,12,17967,24,17976,23,17989,null,null,0,2122]
[21,18219,21,18234,22,18247,14,18262,null,null,0,2221]
[21,18437,21,18446,22,18453,23,18464,null,null,0,2222]
[21,18617,21,18677,11,18701,21,18709,null,null,0,2212]
[12,18847,14,18850,13,18877,23,18888,null,null,0,1112]
[12,19040,23,19048,13,19059,14,19066,null,null,0,1211]
[12,19228,23,19236,24,19293,23,19304,null,null,0,1222]
[21,19550,21,19574,11,19621,21,19630,null,null,0,2212]
[12,19753,14,19758,24,19766,14,19779,null,null,0,1121]
[21,19908,12,20002,24,20009,14,20035,null,null,0,2121]
[12,20354,23,20364,24,20390,14,20409,null,null,0,1221]
[21,20619,12,20688,13,20698,23,20706,null,null,0,2112]
[12,20902,14,20918,24,20972,14,20991,null,null,0,1121]
[21,21225,12,21237,24,21244,14,21273,null,null,0,2121]
[21,21465,21,21551,11,21576,21,21596,null,null,0,2212]
[21,21737,21,21776,11,21817,21,21827,null,null,0,2212]
[12,22087,14,22092,13,22145,23,22153,null,null,0,1112]
[12,22301,14,22329,24,22336,14,22349,null,null,0,1121]
[21,22515,12,22561,13,22662,23,22690,null,null,0,2112]
[21,22835,21,22878,11,22917,21,22932,null,null,0,2212]
[12,23037,14,23041,13,23062,14,23079,null,null,0,1111]
[21,23215,21,23226,11,23238,12,23277,null,null,0,2211]
[12,23420,14,23453,24,23470,14,23513,null,null,0,1121]
[12,23626,14,23638,13,23647,14,23701,null,null,0,1111]
[12,23816,14,23821,24,23830,14,23856,null,null,0,1121]

{"sheet":"!MA18C30.096","index":8,"n_rows":91,"n_cols":48,"rows_kept":91,"cut":false,"hidden":false,"merged":[[4,39,4,42],[5,39,5,40],[4,44,4,47],[5,44,5,45],[4,24,4,27],[5,24,5,25],[4,29,4,32],[5,29,5,30],[4,34,4,37],[5,34,5,35],[1,1,1,2],[5,13,5,14],[26,13,26,14],[27,13,27,14],[4,19,4,22],[5,19,5,20]]}
["Report for:!MA18C30.096"]
["Date:","<date>"]
["Hen:","<hen>",null,null,null,"Correct Sequence",{"$f":"Start!J2","v":2212},null,null,null,null,null,null,null,null,"Total Sequences in Data",{"$f":"4994-COUNTBLANK(L7:L5000)","v":85},null,null,null,null,"Total Sequences in Block Data",{"$f":"COUNTA(L7:L20)","v":14},null,null,null,"Total Sequences in Block Data",{"$f":"COUNTA(L21:L34)","v":14},null,null,null,"Total Sequences in Block Data",{"$f":"COUNTA(L35:L49)","v":15},null,null,null,"Total Sequences in Block Data",{"$f":"COUNTA(L50:L63)","v":14},null,null,null,"Total Sequences in Block Data",{"$f":"COUNTA(L64:L77)","v":14},null,null,null,"Total Sequences in Block Data",{"$f":"COUNTA(L78:L91)","v":14}]
[null,null,null,null,null,null,null,null,null,null,null,null,null,null,null,"Total Sequences in Summary",{"$f":"SUM(O7:O22)","v":84},null,null,null,null,"Total Sequences in Block Summary",{"$f":"SUM(U7:U22)","v":14},null,null,null,"Total Sequences in Block Summary",{"$f":"SUM(Z7:Z22)","v":14},null,null,null,"Total Sequences in Block Summary",{"$f":"SUM(AE7:AE22)","v":15},null,null,null,"Total Sequences in Block Summary",{"$f":"SUM(AJ7:AJ22)","v":14},null,null,null,"Total Sequences in Block Summary",{"$f":"SUM(AO7:AO22)","v":14},null,null,null,"Total Sequences in Block Summary",{"$f":"SUM(AT7:AT22)","v":13}]
[null,null,null,null,null,null,null,null,null,null,null,null,null,null,null,null,null,null,null,"Block 1",null,null,null,null,"Block 2",null,null,null,null,"Block 3",null,null,null,null,"Block 4",null,null,null,null,"Block 5",null,null,null,null,"Block 6"]
["Sequence\nComponent\n1","Time\n1","Sequence\nComponent\n2","Time\n2","Sequence\nComponent\n3","Time\n3","Sequence\nComponent\n4","Time\n4","Sequence\nComponent\n5","Time\n5","Correct?\n0=No 1=Yes","Sequence",null,"Frequency",null,"Relative Frequency","Variability",null,null,"Frequency",null,"Relative Frequency","Variability",null,"Frequency",null,"Relative Frequency","Variability",null,"Frequency",null,"Relative Frequency","Variability",null,"Frequency",null,"Relative Frequency","Variability",null,"Frequency",null,"Relative Frequency","Variability",null,"Frequency",null,"Relative Frequency","Variability"]
[12,9,14,14,13,22,14,27,null,null,0,1111,null,1111,{"$f":"COUNTIF($L$7:$L$500,N7)","v":12},{"$f":"O7/$Q$4","v":0.14285714285714285},{"$f":"IF(P7=0,0,(P7*((LOG(P7))/LOG(2))))","v":-0.40105070315108626},null,null,{"$f":"N7","v":1111},{"$f":"COUNTIF(L7:L20,T7)","v":2},{"$f":"U7/(W4-U20)","v":0.14285714285714285},{"$f":"IF(V7=0,0,(V7*((LOG(V7))/LOG(2))))","v":-0.40105070315108626},null,{"$f":"N7","v":1111},{"$f":"COUNTIF(L21:L34,Y7)","v":1},{"$f":"Z7/(AB4-Z20)","v":7.1428571428571425E-2},{"$f":"IF(AA7=0,0,(AA7*((LOG(AA7))/LOG(2))))","v":-0.27195392300411453},null,{"$f":"N7","v":1111},{"$f":"COUNTIF(L35:L49,AD7)","v":4},{"$f":"AE7/(AG4-AE20)","v":0.2857142857142857},{"$f":"IF(AF7=0,0,(AF7*((LOG(AF7))/LOG(2))))","v":-0.51638712058788683},null,{"$f":"N7","v":1111},{"$f":"COUNTIF(L50:L63,AI7)","v":3},{"$f":"AJ7/(AL4-AJ20)","v":0.21428571428571427},{"$f":"IF(AK7=0,0,(AK7*((LOG(AK7))/LOG(2))))","v":-0.47622694742923877},null,{"$f":"N7","v":1111},{"$f":"COUNTIF(L64:L77,AN7)","v":1},{"$f":"AO7/(AQ4-AO20)","v":7.6923076923076927E-2},{"$f":"IF(AP7=0,0,(AP7*((LOG(AP7))/LOG(2))))","v":-0.28464920908777636},null,{"$f":"N7","v":1111},{"$f":"COUNTIF(L78:L91,AS7)","v":1},{"$f":"AT7/(AV4-AT20)","v":8.3333333333333329E-2},{"$f":"IF(AU7=0,0,(AU7*((LOG(AU7))/LOG(2))))","v":-0.29874687506009634}]
[12,126,14,130,24,142,14,161,null,null,0,1121,null,1112,{"$f":"COUNTIF($L$7:$L$500,N8)","v":10},{"$f":"O8/$Q$4","v":0.11904761904761904},{"$f":"IF(P8=0,0,(P8*((LOG(P8))/LOG(2))))","v":-0.36552253903469023},null,null,{"$f":"N8","v":1112},{"$f":"COUNTIF(L7:L20,T8)","v":2},{"$f":"U8/(W4-U20)","v":0.14285714285714285},{"$f":"IF(V8=0,0,(V8*((LOG(V8))/LOG(2))))","v":-0.40105070315108626},null,{"$f":"N8","v":1112},{"$f":"COUNTIF(L21:L34,Y8)","v":3},{"$f":"Z8/(AB4-Z20)","v":0.21428571428571427},{"$f":"IF(AA8=0,0,(AA8*((LOG(AA8))/LOG(2))))","v":-0.47622694742923877},null,{"$f":"N8","v":1112},{"$f":"COUNTIF(L35:L49,AD8)","v":1},{"$f":"AE8/(AG4-AE20)","v":7.1428571428571425E-2},{"$f":"IF(AF8=0,0,(AF8*((LOG(AF8))/LOG(2))))","v":-0.27195392300411453},null,{"$f":"N8","v":1112},{"$f":"COUNTIF(L50:L63,AI8)","v":2},{"$f":"AJ8/(AL4-AJ20)","v":0.14285714285714285},{"$f":"IF(AK8=0,0,(AK8*((LOG(AK8))/LOG(2))))","v":-0.40105070315108626},null,{"$f":"N8","v":1112},{"$f":"COUNTIF(L64:L77,AN8)","v":2},{"$f":"AO8/(AQ4-AO20)","v":0.15384615384615385},{"$f":"IF(AP8=0,0,(AP8*((LOG(AP8))/LOG(2))))","v":-0.4154522643293988},null,{"$f":"N8","v":1112},{"$f":"COUNTIF(L78:L91,AS8)","v":0},{"$f":"AT8/(AV4-AT20)","v":0},{"$f":"IF(AU8=0,0,(AU8*((LOG(AU8))/LOG(2))))","v":0}]
[12,264,14,268,24,280,14,298,null,null,0,1121,null,1121,{"$f":"COUNTIF($L$7:$L$500,N9)","v":16},{"$f":"O9/$Q$4","v":0.19047619047619047},{"$f":"IF(P9=0,0,(P9*((LOG(P9))/LOG(2))))","v":-0.4556795091007162},null,null,{"$f":"N9","v":1121},{"$f":"COUNTIF(L7:L20,T9)","v":8},{"$f":"U9/(W4-U20)","v":0.5714285714285714},{"$f":"IF(V9=0,0,(V9*((LOG(V9))/LOG(2))))","v":-0.46134566974720237},null,{"$f":"N9","v":1121},{"$f":"COUNTIF(L21:L34,Y9)","v":4},{"$f":"Z9/(AB4-Z20)","v":0.2857142857142857},{"$f":"IF(AA9=0,0,(AA9*((LOG(AA9))/LOG(2))))","v":-0.51638712058788683},null,{"$f":"N9","v":1121},{"$f":"COUNTIF(L35:L49,AD9)","v":3},{"$f":"AE9/(AG4-AE20)","v":0.21428571428571427},{"$f":"IF(AF9=0,0,(AF9*((LOG(AF9))/LOG(2))))","v":-0.47622694742923877},null,{"$f":"N9","v":1121},{"$f":"COUNTIF(L50:L63,AI9)","v":1},{"$f":"AJ9/(AL4-AJ20)","v":7.1428571428571425E-2},{"$f":"IF(AK9=0,0,(AK9*((LOG(AK9))/LOG(2))))","v":-0.27195392300411453},null,{"$f":"N9","v":1121},{"$f":"COUNTIF(L64:L77,AN9)","v":0},{"$f":"AO9/(AQ4-AO20)","v":0},{"$f":"IF(AP9=0,0,(AP9*((LOG(AP9))/LOG(2))))","v":0},null,{"$f":"N9","v":1121},{"$f":"COUNTIF(L78:L91,AS9)","v":0},{"$f":"AT9/(AV4-AT20)","v":0},{"$f":"IF(AU9=0,0,(AU9*((LOG(AU9))/LOG(2))))","v":0}]
[12,395,14,410,13,414,23,423,null,null,0,1112,null,1122,{"$f":"COUNTIF($L$7:$L$500,N10)","v":3},{"$f":"O10/$Q$4","v":3.5714285714285712E-2},{"$f":"IF(P10=0,0,(P10*((LOG(P10))/LOG(2))))","v":-0.17169124721634299},null,null,{"$f":"N10","v":1122},{"$f":"COUNTIF(L7:L20,T10)","v":0},{"$f":"U10/(W4-U20)","v":0},{"$f":"IF(V10=0,0,(V10*((LOG(V10))/LOG(2))))","v":0},null,{"$f":"N10","v":1122},{"$f":"COUNTIF(L21:L34,Y10)","v":0},{"$f":"Z10/(AB4-Z20)","v":0},{"$f":"IF(AA10=0,0,(AA10*((LOG(AA10))/LOG(2))))","v":0},null,{"$f":"N10","v":1122},{"$f":"COUNTIF(L35:L49,AD10)","v":1},{"$f":"AE10/(AG4-AE20)","v":7.1428571428571425E-2},{"$f":"IF(AF10=0,0,(AF10*((LOG(AF10))/LOG(2))))","v":-0.27195392300411453},null,{"$f":"N10","v":1122},{"$f":"COUNTIF(L50:L63,AI10)","v":0},{"$f":"AJ10/(AL4-AJ20)","v":0},{"$f":"IF(AK10=0,0,(AK10*((LOG(AK10))/LOG(2))))","v":0},null,{"$f":"N10","v":1122},{"$f":"COUNTIF(L64:L77,AN10)","v":1},{"$f":"AO10/(AQ4-AO20)","v":7.6923076923076927E-2},{"$f":"IF(AP10=0,0,(AP10*((LOG(AP10))/LOG(2))))","v":-0.28464920908777636},null,{"$f":"N10","v":1122},{"$f":"COUNTIF(L78:L91,AS10)","v":1},{"$f":"AT10/(AV4-AT20)","v":8.3333333333333329E-2},{"$f":"IF(AU10=0,0,(AU10*((LOG(AU10))/LOG(2))))","v":-0.29874687506009634}]
[12,526,14,530,24,551,14,563,null,null,0,1121,null,1211,{"$f":"COUNTIF($L$7:$L$500,N11)","v":3},{"$f":"O11/$Q$4","v":3.5714285714285712E-2},{"$f":"IF(P11=0,0,(P11*((LOG(P11))/LOG(2))))","v":-0.17169124721634299},null,null,{"$f":"N11","v":1211},{"$f":"COUNTIF(L7:L20,T11)","v":0},{"$f":"U11/(W4-U20)","v":0},{"$f":"IF(V11=0,0,(V11*((LOG(V11))/LOG(2))))","v":0},null,{"$f":"N11","v":1211},{"$f":"COUNTIF(L21:L34,Y11)","v":0},{"$f":"Z11/(AB4-Z20)","v":0},{"$f":"IF(AA11=0,0,(AA11*((LOG(AA11))/LOG(2))))","v":0},null,{"$f":"N11","v":1211},{"$f":"COUNTIF(L35:L49,AD11)","v":1},{"$f":"AE11/(AG4-AE20)","v":7.1428571428571425E-2},{"$f":"IF(AF11=0,0,(AF11*((LOG(AF11))/LOG(2))))","v":-0.27195392300411453},null,{"$f":"N11","v":1211},{"$f":"COUNTIF(L50:L63,AI11)","v":1},{"$f":"AJ11/(AL4-AJ20)","v":7.1428571428571425E-2},{"$f":"IF(AK11=0,0,(AK11*((LOG(AK11))/LOG(2))))","v":-0.27195392300411453},null,{"$f":"N11","v":1211},{"$f":"COUNTIF(L64:L77,AN11)","v":1},{"$f":"AO11/(AQ4-AO20)","v":7.6923076923076927E-2},{"$f":"IF(AP11=0,0,(AP11*((LOG(AP11))/LOG(2))))","v":-0.28464920908777636},null,{"$f":"N11","v":1211},{"$f":"COUNTIF(L78:L91,AS11)","v":0},{"$f":"AT11/(AV4-AT20)","v":0},{"$f":"IF(AU11=0,0,(AU11*((LOG(AU11))/LOG(2))))","v":0}]
[12,666,14,670,24,684,14,697,null,null,0,1121,null,1212,{"$f":"COUNTIF($L$7:$L$500,N12)","v":6},{"$f":"O12/$Q$4","v":7.1428571428571425E-2},{"$f":"IF(P12=0,0,(P12*((LOG(P12))/LOG(2))))","v":-0.27195392300411453},null,null,{"$f":"N12","v":1212},{"$f":"COUNTIF(L7:L20,T12)","v":1},{"$f":"U12/(W4-U20)","v":7.1428571428571425E-2},{"$f":"IF(V12=0,0,(V12*((LOG(V12))/LOG(2))))","v":-0.27195392300411453},null,{"$f":"N12","v":1212},{"$f":"COUNTIF(L21:L34,Y12)","v":2},{"$f":"Z12/(AB4-Z20)","v":0.14285714285714285},{"$f":"IF(AA12=0,0,(AA12*((LOG(AA12))/LOG(2))))","v":-0.40105070315108626},null,{"$f":"N12","v":1212},{"$f":"COUNTIF(L35:L49,AD12)","v":0},{"$f":"AE12/(AG4-AE20)","v":0},{"$f":"IF(AF12=0,0,(AF12*((LOG(AF12))/LOG(2))))","v":0},null,{"$f":"N12","v":1212},{"$f":"COUNTIF(L50:L63,AI12)","v":0},{"$f":"AJ12/(AL4-AJ20)","v":0},{"$f":"IF(AK12=0,0,(AK12*((LOG(AK12))/LOG(2))))","v":0},null,{"$f":"N12","v":1212},{"$f":"COUNTIF(L64:L77,AN12)","v":1},{"$f":"AO12/(AQ4-AO20)","v":7.6923076923076927E-2},{"$f":"IF(AP12=0,0,(AP12*((LOG(AP12))/LOG(2))))","v":-0.28464920908777636},null,{"$f":"N12","v":1212},{"$f":"COUNTIF(L78:L91,AS12)","v":2},{"$f":"AT12/(AV4-AT20)","v":0.16666666666666666},{"$f":"IF(AU12=0,0,(AU12*((LOG(AU12))/LOG(2))))","v":-0.43082708345352599}]
[12,801,14,811,24,822,14,837,null,null,0,1121,null,1221,{"$f":"COUNTIF($L$7:$L$500,N13)","v":2},{"$f":"O13/$Q$4","v":2.3809523809523808E-2},{"$f":"IF(P13=0,0,(P13*((LOG(P13))/LOG(2))))","v":-0.12838851006616095},null,null,{"$f":"N13","v":1221},{"$f":"COUNTIF(L7:L20,T13)","v":0},{"$f":"U13/(W4-U20)","v":0},{"$f":"IF(V13=0,0,(V13*((LOG(V13))/LOG(2))))","v":0},null,{"$f":"N13","v":1221},{"$f":"COUNTIF(L21:L34,Y13)","v":2},{"$f":"Z13/(AB4-Z20)","v":0.14285714285714285},{"$f":"IF(AA13=0,0,(AA13*((LOG(AA13))/LOG(2))))","v":-0.40105070315108626},null,{"$f":"N13","v":1221},{"$f":"COUNTIF(L35:L49,AD13)","v":0},{"$f":"AE13/(AG4-AE20)","v":0},{"$f":"IF(AF13=0,0,(AF13*((LOG(AF13))/LOG(2))))","v":0},null,{"$f":"N13","v":1221},{"$f":"COUNTIF(L50:L63,AI13)","v":0},{"$f":"AJ13/(AL4-AJ20)","v":0},{"$f":"IF(AK13=0,0,(AK13*((LOG(AK13))/LOG(2))))","v":0},null,{"$f":"N13","v":1221},{"$f":"COUNTIF(L64:L77,AN13)","v":0},{"$f":"AO13/(AQ4-AO20)","v":0},{"$f":"IF(AP13=0,0,(AP13*((LOG(AP13))/LOG(2))))","v":0},null,{"$f":"N13","v":1221},{"$f":"COUNTIF(L78:L91,AS13)","v":0},{"$f":"AT13/(AV4-AT20)","v":0},{"$f":"IF(AU13=0,0,(AU13*((LOG(AU13))/LOG(2))))","v":0}]
[12,936,14,941,13,951,14,956,null,null,0,1111,null,1222,{"$f":"COUNTIF($L$7:$L$500,N14)","v":2},{"$f":"O14/$Q$4","v":2.3809523809523808E-2},{"$f":"IF(P14=0,0,(P14*((LOG(P14))/LOG(2))))","v":-0.12838851006616095},null,null,{"$f":"N14","v":1222},{"$f":"COUNTIF(L7:L20,T14)","v":0},{"$f":"U14/(W4-U20)","v":0},{"$f":"IF(V14=0,0,(V14*((LOG(V14))/LOG(2))))","v":0},null,{"$f":"N14","v":1222},{"$f":"COUNTIF(L21:L34,Y14)","v":0},{"$f":"Z14/(AB4-Z20)","v":0},{"$f":"IF(AA14=0,0,(AA14*((LOG(AA14))/LOG(2))))","v":0},null,{"$f":"N14","v":1222},{"$f":"COUNTIF(L35:L49,AD14)","v":0},{"$f":"AE14/(AG4-AE20)","v":0},{"$f":"IF(AF14=0,0,(AF14*((LOG(AF14))/LOG(2))))","v":0},null,{"$f":"N14","v":1222},{"$f":"COUNTIF(L50:L63,AI14)","v":1},{"$f":"AJ14/(AL4-AJ20)","v":7.1428571428571425E-2},{"$f":"IF(AK14=0,0,(AK14*((LOG(AK14))/LOG(2))))","v":-0.27195392300411453},null,{"$f":"N14","v":1222},{"$f":"COUNTIF(L64:L77,AN14)","v":0},{"$f":"AO14/(AQ4-AO20)","v":0},{"$f":"IF(AP14=0,0,(AP14*((LOG(AP14))/LOG(2))))","v":0},null,{"$f":"N14","v":1222},{"$f":"COUNTIF(L78:L91,AS14)","v":1},{"$f":"AT14/(AV4-AT20)","v":8.3333333333333329E-2},{"$f":"IF(AU14=0,0,(AU14*((LOG(AU14))/LOG(2))))","v":-0.29874687506009634}]
[12,1056,14,1069,24,1082,14,1093,null,null,0,1121,null,2111,{"$f":"COUNTIF($L$7:$L$500,N15)","v":3},{"$f":"O15/$Q$4","v":3.5714285714285712E-2},{"$f":"IF(P15=0,0,(P15*((LOG(P15))/LOG(2))))","v":-0.17169124721634299},null,null,{"$f":"N15","v":2111},{"$f":"COUNTIF(L7:L20,T15)","v":0},{"$f":"U15/(W4-U20)","v":0},{"$f":"IF(V15=0,0,(V15*((LOG(V15))/LOG(2))))","v":0},null,{"$f":"N15","v":2111},{"$f":"COUNTIF(L21:L34,Y15)","v":0},{"$f":"Z15/(AB4-Z20)","v":0},{"$f":"IF(AA15=0,0,(AA15*((LOG(AA15))/LOG(2))))","v":0},null,{"$f":"N15","v":2111},{"$f":"COUNTIF(L35:L49,AD15)","v":1},{"$f":"AE15/(AG4-AE20)","v":7.1428571428571425E-2},{"$f":"IF(AF15=0,0,(AF15*((LOG(AF15))/LOG(2))))","v":-0.27195392300411453},null,{"$f":"N15","v":2111},{"$f":"COUNTIF(L50:L63,AI15)","v":0},{"$f":"AJ15/(AL4-AJ20)","v":0},{"$f":"IF(AK15=0,0,(AK15*((LOG(AK15))/LOG(2))))","v":0},null,{"$f":"N15","v":2111},{"$f":"COUNTIF(L64:L77,AN15)","v":1},{"$f":"AO15/(AQ4-AO20)","v":7.6923076923076927E-2},{"$f":"IF(AP15=0,0,(AP15*((LOG(AP15))/LOG(2))))","v":-0.28464920908777636},null,{"$f":"N15","v":2111},{"$f":"COUNTIF(L78:L91,AS15)","v":1},{"$f":"AT15/(AV4-AT20)","v":8.3333333333333329E-2},{"$f":"IF(AU15=0,0,(AU15*((LOG(AU15))/LOG(2))))","v":-0.29874687506009634}]
[12,1197,14,1201,24,1213,14,1224,null,null,0,1121,null,2112,{"$f":"COUNTIF($L$7:$L$500,N16)","v":9},{"$f":"O16/$Q$4","v":0.10714285714285714},{"$f":"IF(P16=0,0,(P16*((LOG(P16))/LOG(2))))","v":-0.34525633085747659},null,null,{"$f":"N16","v":2112},{"$f":"COUNTIF(L7:L20,T16)","v":1},{"$f":"U16/(W4-U20)","v":7.1428571428571425E-2},{"$f":"IF(V16=0,0,(V16*((LOG(V16))/LOG(2))))","v":-0.27195392300411453},null,{"$f":"N16","v":2112},{"$f":"COUNTIF(L21:L34,Y16)","v":2},{"$f":"Z16/(AB4-Z20)","v":0.14285714285714285},{"$f":"IF(AA16=0,0,(AA16*((LOG(AA16))/LOG(2))))","v":-0.40105070315108626},null,{"$f":"N16","v":2112},{"$f":"COUNTIF(L35:L49,AD16)","v":2},{"$f":"AE16/(AG4-AE20)","v":0.14285714285714285},{"$f":"IF(AF16=0,0,(AF16*((LOG(AF16))/LOG(2))))","v":-0.40105070315108626},null,{"$f":"N16","v":2112},{"$f":"COUNTIF(L50:L63,AI16)","v":2},{"$f":"AJ16/(AL4-AJ20)","v":0.14285714285714285},{"$f":"IF(AK16=0,0,(AK16*((LOG(AK16))/LOG(2))))","v":-0.40105070315108626},null,{"$f":"N16","v":2112},{"$f":"COUNTIF(L64:L77,AN16)","v":1},{"$f":"AO16/(AQ4-AO20)","v":7.6923076923076927E-2},{"$f":"IF(AP16=0,0,(AP16*((LOG(AP16))/LOG(2))))","v":-0.28464920908777636},null,{"$f":"N16","v":2112},{"$f":"COUNTIF(L78:L91,AS16)","v":1},{"$f":"AT16/(AV4-AT20)","v":8.3333333333333329E-2},{"$f":"IF(AU16=0,0,(AU16*((LOG(AU16))/LOG(2))))","v":-0.29874687506009634}]
[12,1335,14,1343,13,1354,23,1366,null,null,0,1112,null,2121,{"$f":"COUNTIF($L$7:$L$500,N17)","v":4},{"$f":"O17/$Q$4","v":4.7619047619047616E-2},{"$f":"IF(P17=0,0,(P17*((LOG(P17))/LOG(2))))","v":-0.20915797251327431},null,null,{"$f":"N17","v":2121},{"$f":"COUNTIF(L7:L20,T17)","v":0},{"$f":"U17/(W4-U20)","v":0},{"$f":"IF(V17=0,0,(V17*((LOG(V17))/LOG(2))))","v":0},null,{"$f":"N17","v":2121},{"$f":"COUNTIF(L21:L34,Y17)","v":0},{"$f":"Z17/(AB4-Z20)","v":0},{"$f":"IF(AA17=0,0,(AA17*((LOG(AA17))/LOG(2))))","v":0},null,{"$f":"N17","v":2121},{"$f":"COUNTIF(L35:L49,AD17)","v":0},{"$f":"AE17/(AG4-AE20)","v":0},{"$f":"IF(AF17=0,0,(AF17*((LOG(AF17))/LOG(2))))","v":0},null,{"$f":"N17","v":2121},{"$f":"COUNTIF(L50:L63,AI17)","v":0},{"$f":"AJ17/(AL4-AJ20)","v":0},{"$f":"IF(AK17=0,0,(AK17*((LOG(AK17))/LOG(2))))","v":0},null,{"$f":"N17","v":2121},{"$f":"COUNTIF(L64:L77,AN17)","v":3},{"$f":"AO17/(AQ4-AO20)","v":0.23076923076923078},{"$f":"IF(AP17=0,0,(AP17*((LOG(AP17))/LOG(2))))","v":-0.48818705017383146},null,{"$f":"N17","v":2121},{"$f":"COUNTIF(L78:L91,AS17)","v":1},{"$f":"AT17/(AV4-AT20)","v":8.3333333333333329E-2},{"$f":"IF(AU17=0,0,(AU17*((LOG(AU17))/LOG(2))))","v":-0.29874687506009634}]
[12,1475,14,1479,24,1494,14,1505,null,null,0,1121,null,2122,{"$f":"COUNTIF($L$7:$L$500,N18)","v":2},{"$f":"O18/$Q$4","v":2.3809523809523808E-2},{"$f":"IF(P18=0,0,(P18*((LOG(P18))/LOG(2))))","v":-0.12838851006616095},null,null,{"$f":"N18","v":2122},{"$f":"COUNTIF(L7:L20,T18)","v":0},{"$f":"U18/(W4-U20)","v":0},{"$f":"IF(V18=0,0,(V18*((LOG(V18))/LOG(2))))","v":0},null,{"$f":"N18","v":2122},{"$f":"COUNTIF(L21:L34,Y18)","v":0},{"$f":"Z18/(AB4-Z20)","v":0},{"$f":"IF(AA18=0,0,(AA18*((LOG(AA18))/LOG(2))))","v":0},null,{"$f":"N18","v":2122},{"$f":"COUNTIF(L35:L49,AD18)","v":0},{"$f":"AE18/(AG4-AE20)","v":0},{"$f":"IF(AF18=0,0,(AF18*((LOG(AF18))/LOG(2))))","v":0},null,{"$f":"N18","v":2122},{"$f":"COUNTIF(L50:L63,AI18)","v":2},{"$f":"AJ18/(AL4-AJ20)","v":0.14285714285714285},{"$f":"IF(AK18=0,0,(AK18*((LOG(AK18))/LOG(2))))","v":-0.40105070315108626},null,{"$f":"N18","v":2122},{"$f":"COUNTIF(L64:L77,AN18)","v":0},{"$f":"AO18/(AQ4-AO20)","v":0},{"$f":"IF(AP18=0,0,(AP18*((LOG(AP18))/LOG(2))))","v":0},null,{"$f":"N18","v":2122},{"$f":"COUNTIF(L78:L91,AS18)","v":0},{"$f":"AT18/(AV4-AT20)","v":0},{"$f":"IF(AU18=0,0,(AU18*((LOG(AU18))/LOG(2))))","v":0}]
[12,1628,23,1640,13,1659,23,1668,null,null,0,1212,null,2211,{"$f":"COUNTIF($L$7:$L$500,N19)","v":4},{"$f":"O19/$Q$4","v":4.7619047619047616E-2},{"$f":"IF(P19=0,0,(P19*((LOG(P19))/LOG(2))))","v":-0.20915797251327431},null,null,{"$f":"N19","v":2211},{"$f":"COUNTIF(L7:L20,T19)","v":0},{"$f":"U19/(W4-U20)","v":0},{"$f":"IF(V19=0,0,(V19*((LOG(V19))/LOG(2))))","v":0},null,{"$f":"N19","v":2211},{"$f":"COUNTIF(L21:L34,Y19)","v":0},{"$f":"Z19/(AB4-Z20)","v":0},{"$f":"IF(AA19=0,0,(AA19*((LOG(AA19))/LOG(2))))","v":0},null,{"$f":"N19","v":2211},{"$f":"COUNTIF(L35:L49,AD19)","v":1},{"$f":"AE19/(AG4-AE20)","v":7.1428571428571425E-2},{"$f":"IF(AF19=0,0,(AF19*((LOG(AF19))/LOG(2))))","v":-0.27195392300411453},null,{"$f":"N19","v":2211},{"$f":"COUNTIF(L50:L63,AI19)","v":1},{"$f":"AJ19/(AL4-AJ20)","v":7.1428571428571425E-2},{"$f":"IF(AK19=0,0,(AK19*((LOG(AK19))/LOG(2))))","v":-0.27195392300411453},null,{"$f":"N19","v":2211},{"$f":"COUNTIF(L64:L77,AN19)","v":2},{"$f":"AO19/(AQ4-AO20)","v":0.15384615384615385},{"$f":"IF(AP19=0,0,(AP19*((LOG(AP19))/LOG(2))))","v":-0.4154522643293988},null,{"$f":"N19","v":2211},{"$f":"COUNTIF(L78:L91,AS19)","v":0},{"$f":"AT19/(AV4-AT20)","v":0},{"$f":"IF(AU19=0,0,(AU19*((LOG(AU19))/LOG(2))))","v":0}]
[21,1800,12,1814,13,1819,23,1829,null,null,0,2112,null,2212,{"$f":"COUNTIF($L$7:$L$500,N20)","v":3},{"$f":"O20/$Q$4","v":3.5714285714285712E-2},{"$f":"IF(P20=0,0,(P20*((LOG(P20))/LOG(2))))","v":-0.17169124721634299},null,null,{"$f":"N20","v":2212},{"$f":"COUNTIF(L7:L20,T20)","v":0},null,null,null,{"$f":"N20","v":2212},{"$f":"COUNTIF(L21:L34,Y20)","v":0},null,null,null,{"$f":"N20","v":2212},{"$f":"COUNTIF(L35:L49,AD20)","v":1},null,null,null,{"$f":"N20","v":2212},{"$f":"COUNTIF(L50:L63,AI20)","v":0},null,null,null,{"$f":"N20","v":2212},{"$f":"COUNTIF(L64:L77,AN20)","v":1},null,null,null,{"$f":"N20","v":2212},{"$f":"COUNTIF(L78:L91,AS20)","v":1}]
[12,1939,14,1946,24,1957,14,1969,null,null,0,1121,null,2221,{"$f":"COUNTIF($L$7:$L$500,N21)","v":1},{"$f":"O21/$Q$4","v":1.1904761904761904E-2},{"$f":"IF(P21=0,0,(P21*((LOG(P21))/LOG(2))))","v":-7.6099016937842379E-2},null,null,{"$f":"N21","v":2221},{"$f":"COUNTIF(L7:L20,T21)","v":0},{"$f":"U21/(W4-U20)","v":0},{"$f":"IF(V21=0,0,(V21*((LOG(V21))/LOG(2))))","v":0},null,{"$f":"N21","v":2221},{"$f":"COUNTIF(L21:L34,Y21)","v":0},{"$f":"Z21/(AB4-Z20)","v":0},{"$f":"IF(AA21=0,0,(AA21*((LOG(AA21))/LOG(2))))","v":0},null,{"$f":"N21","v":2221},{"$f":"COUNTIF(L35:L49,AD21)","v":0},{"$f":"AE21/(AG4-AE20)","v":0},{"$f":"IF(AF21=0,0,(AF21*((LOG(AF21))/LOG(2))))","v":0},null,{"$f":"N21","v":2221},{"$f":"COUNTIF(L50:L63,AI21)","v":1},{"$f":"AJ21/(AL4-AJ20)","v":7.1428571428571425E-2},{"$f":"IF(AK21=0,0,(AK21*((LOG(AK21))/LOG(2))))","v":-0.27195392300411453},null,{"$f":"N21","v":2221},{"$f":"COUNTIF(L64:L77,AN21)","v":0},{"$f":"AO21/(AQ4-AO20)","v":0},{"$f":"IF(AP21=0,0,(AP21*((LOG(AP21))/LOG(2))))","v":0},null,{"$f":"N21","v":2221},{"$f":"COUNTIF(L78:L91,AS21)","v":0},{"$f":"AT21/(AV4-AT20)","v":0},{"$f":"IF(AU21=0,0,(AU21*((LOG(AU21))/LOG(2))))","v":0}]
[12,2081,14,2085,24,2095,14,2112,null,null,0,1121,null,2222,{"$f":"COUNTIF($L$7:$L$500,N22)","v":4},{"$f":"O22/$Q$4","v":4.7619047619047616E-2},{"$f":"IF(P22=0,0,(P22*((LOG(P22))/LOG(2))))","v":-0.20915797251327431},null,null,{"$f":"N22","v":2222},{"$f":"COUNTIF(L7:L20,T22)","v":0},{"$f":"U22/(W4-U20)","v":0},{"$f":"IF(V22=0,0,(V22*((LOG(V22))/LOG(2))))","v":0},null,{"$f":"N22","v":2222},{"$f":"COUNTIF(L21:L34,Y22)","v":0},{"$f":"Z22/(AB4-Z20)","v":0},{"$f":"IF(AA22=0,0,(AA22*((LOG(AA22))/LOG(2))))","v":0},null,{"$f":"N22","v":2222},{"$f":"COUNTIF(L35:L49,AD22)","v":0},{"$f":"AE22/(AG4-AE20)","v":0},{"$f":"IF(AF22=0,0,(AF22*((LOG(AF22))/LOG(2))))","v":0},null,{"$f":"N22","v":2222},{"$f":"COUNTIF(L50:L63,AI22)","v":0},{"$f":"AJ22/(AL4-AJ20)","v":0},{"$f":"IF(AK22=0,0,(AK22*((LOG(AK22))/LOG(2))))","v":0},null,{"$f":"N22","v":2222},{"$f":"COUNTIF(L64:L77,AN22)","v":0},{"$f":"AO22/(AQ4-AO20)","v":0},{"$f":"IF(AP22=0,0,(AP22*((LOG(AP22))/LOG(2))))","v":0},null,{"$f":"N22","v":2222},{"$f":"COUNTIF(L78:L91,AS22)","v":4},{"$f":"AT22/(AV4-AT20)","v":0.33333333333333331},{"$f":"IF(AU22=0,0,(AU22*((LOG(AU22))/LOG(2))))","v":-0.52832083357371862}]
[12,2245,14,2250,24,2259,14,2320,null,null,0,1121,null,null,null,{"$f":"SUM(P7:P22)","v":0.99999999999999978},{"$f":"-SUM(Q7:Q22)","v":3.6149664586896035},null,null,null,null,{"$f":"SUM(V7:V22)","v":0.99999999999999989},{"$f":"-SUM(W7:W22)","v":1.8073549220576042},null,null,null,{"$f":"SUM(AA7:AA22)","v":0.99999999999999978},{"$f":"-SUM(AB7:AB22)","v":2.4677201004744993},null,null,null,{"$f":"SUM(AF7:AF22)","v":0.99999999999999978},{"$f":"-SUM(AG7:AG22)","v":2.7534343861887844},null,null,null,{"$f":"SUM(AK7:AK22)","v":0.99999999999999978},{"$f":"-SUM(AL7:AL22)","v":3.03914867190307},null,null,null,{"$f":"SUM(AP7:AP22)","v":1},{"$f":"-SUM(AQ7:AQ22)","v":3.0269868333592869},null,null,null,{"$f":"SUM(AU7:AU22)","v":1},{"$f":"-SUM(AV7:AV22)","v":2.7516291673878222}]
[12,2421,14,2437,24,2446,14,2462,null,null,0,1121,null,null,null,"U=",{"$f":"Q23/(LOG(Q4)/LOG(2))","v":0.56551735772817213},null,null,null,null,"U1=",{"$f":"W23/(LOG(W4)/LOG(2))","v":0.47470092992561297},null,null,null,"U2=",{"$f":"AB23/(LOG(AB4)/LOG(2))","v":0.64814553699156385},null,null,null,"U3=",{"$f":"AG23/(LOG(AG4)/LOG(2))","v":0.70476362693230798},null,null,null,"U4=",{"$f":"AL23/(LOG(AL4)/LOG(2))","v":0.79823098558424566},null,null,null,"U5=",{"$f":"AQ23/(LOG(AQ4)/LOG(2))","v":0.79503668434552366},null,null,null,"U6=",{"$f":"AV23/(LOG(AV4)/LOG(2))","v":0.7435951878632675}]
[12,2610,23,2619,13,2632,23,2643,null,null,0,1212]
[12,2777,14,2804,13,2831,23,2842,null,null,0,1112]
[21,2966,12,2984,13,2988,23,2997,null,null,0,2112,null,"Total Target Seq"]
[12,3101,14,3107,13,3125,14,3133,null,null,0,1111,null,{"$f":"COUNTIF(L7:L91,G3)","v":3},null,14,14,15,14,14,14]
[12,3312,23,3323,24,3355,14,3372,null,null,0,1221,null,null,null,"% of reinforcement given in 6 equal intervals based on number of trials "]
[12,3472,14,3480,13,3487,23,3500,null,null,0,1112,null,null,null,"%_1","%_2","%_3","%_4","%_5","%_6"]
[21,3636,12,3649,13,3669,23,3677,null,null,0,2112,null,null,"target sequence",{"$f":"$G$3","v":2212},{"$f":"$G$3","v":2212},{"$f":"$G$3","v":2212},{"$f":"$G$3","v":2212},{"$f":"$G$3","v":2212},{"$f":"$G$3","v":2212}]
[12,3848,23,3856,13,3879,23,3911,null,null,0,1212,null,null,"total reinforcement",{"$f":"U20","v":0},{"$f":"Z20","v":0},{"$f":"AE20","v":1},{"$f":"AJ20","v":0},{"$f":"AO20","v":1},{"$f":"AT20","v":1}]
[12,4080,23,4094,24,4102,14,4117,null,null,0,1221,null,null,"% target"]
[12,4256,14,4284,13,4288,23,4298,null,null,0,1112,null,null,"CCRF"]
[21,4534,12,4562,13,4566,23,4579,null,null,0,2112,null,null,"% CCRf"]
[12,4789,14,4816,24,4844,14,4857,null,null,0,1121,null,null,"average response rate",{"$f":"H20/P28","v":130.64285714285714},{"$f":"(H34-H20)/Q28","v":176.35714285714286},{"$f":"(H49-H34)/R28","v":271.93333333333334},{"$f":"(H63-H49)/S28","v":279.85714285714283},{"$f":"(H77-H63)/T28","v":328.92857142857144},{"$f":"(H91-H77)/U28","v":-1207.1428571428571}]
[12,5106,14,5142,24,5156,14,5190,null,null,0,1121]
[12,5312,14,5316,13,5348,14,5381,null,null,0,1111]
[21,5708,21,5747,11,5777,21,5834,null,null,0,2212]
[12,5964,14,5968,13,5980,14,6016,null,null,0,1111]
[12,6203,14,6214,24,6228,23,6256,null,null,0,1122]
[21,6471,12,6532,13,6540,14,6580,null,null,0,2111]
[12,6698,14,6732,13,6794,23,6812,null,null,0,1112]
[21,7051,12,7063,13,7068,23,7094,null,null,0,2112]
[12,7285,14,7338,24,7349,14,7375,null,null,0,1121]
[12,7515,23,7531,13,7542,14,7546,null,null,0,1211]
[12,7760,14,7783,13,7792,14,7809,null,null,0,1111]
[21,8012,21,8037,11,8048,12,8052,null,null,0,2211]
[12,8338,14,8342,13,8371,14,8377,null,null,0,1111]
[21,8544,12,8558,13,8581,23,8611,null,null,0,2112]
[12,8885,23,8897,13,8942,14,8970,null,null,0,1211]
[12,9195,14,9204,13,9247,14,9252,null,null,0,1111]
[12,9393,14,9407,13,9442,14,9447,null,null,0,1111]
[12,9591,23,9608,24,9624,23,9640,null,null,0,1222]
[21,9790,12,9842,24,9877,23,9912,null,null,0,2122]
[12,10456,14,10460,13,10474,23,10483,null,null,0,1112]
[12,10681,14,10685,13,10708,23,10720,null,null,0,1112]
[12,11021,14,11025,24,11038,14,11115,null,null,0,1121]
[21,11397,12,11413,24,11446,23,11476,null,null,0,2122]
[21,11646,21,11698,11,11718,12,11723,null,null,0,2211]
[12,11848,14,11855,13,11878,14,11886,null,null,0,1111]
[21,12019,21,12025,22,12036,14,12054,null,null,0,2221]
[21,12240,12,12254,13,12259,23,12295,null,null,0,2112]
[12,12474,23,12548,13,12584,14,12612,null,null,0,1211]
[21,12783,12,12795,24,12821,14,12832,null,null,0,2121]
[12,13080,14,13124,13,13156,23,13184,null,null,0,1112]
[21,13378,21,13418,11,13431,12,13459,null,null,0,2211]
[21,13674,12,13691,24,13710,14,13738,null,null,0,2121]
[21,13900,12,13915,13,13936,23,13950,null,null,0,2112]
[12,14317,14,14324,13,14342,23,14401,null,null,0,1112]
[12,14676,14,14684,13,14718,14,14745,null,null,0,1111]
[21,14874,12,14943,13,15001,14,15019,null,null,0,2111]
[21,15163,21,15206,11,15227,21,15276,null,null,0,2212]
[12,15446,23,15459,13,15493,23,15505,null,null,0,1212]
[21,15758,12,15771,24,15780,14,15804,null,null,0,2121]
[12,16399,14,16426,24,16439,23,16458,null,null,0,1122]
[21,16770,21,16824,11,16872,12,16900,null,null,0,2211]
[12,17125,23,17142,24,17208,23,17233,null,null,0,1222]
[12,17471,14,17499,24,17531,23,17553,null,null,0,1122]
[12,17709,14,17715,13,17720,14,17740,null,null,0,1111]
[12,18218,23,18226,13,18240,23,18287,null,null,0,1212]
[21,18437,12,18454,13,18487,14,18517,null,null,0,2111]
[12,18831,23,18853,13,18866,23,18885,null,null,0,1212]
[21,19088,21,19116,22,19121,23,19138,null,null,0,2222]
[21,19664,21,19718,22,19733,23,19750,null,null,0,2222]
[21,20222,21,20277,11,20291,21,20298,null,null,0,2212]
[21,21154,12,21171,13,21176,23,21198,null,null,0,2112]
[21,21691,12,21703,24,21712,14,21733,null,null,0,2121]
[21,21865,21,21915,22,21945,23,21959,null,null,0,2222]
[21,22182,21,22208,22,22229,23,22242,null,null,0,2222]
[21,23549,null,null,null,null,null,null,null,null,null,2]

{"sheet":"!MA19C00.096","index":9,"n_rows":75,"n_cols":48,"rows_kept":75,"cut":false,"hidden":false,"merged":[[4,39,4,42],[5,39,5,40],[4,44,4,47],[5,44,5,45],[4,24,4,27],[5,24,5,25],[4,29,4,32],[5,29,5,30],[4,34,4,37],[5,34,5,35],[1,1,1,2],[5,13,5,14],[26,13,26,14],[27,13,27,14],[4,19,4,22],[5,19,5,20]]}
["Report for:!MA19C00.096"]
["Date:","<date>"]
["Hen:","<hen>",null,null,null,"Correct Sequence",{"$f":"Start!J2","v":2212},null,null,null,null,null,null,null,null,"Total Sequences in Data",{"$f":"4994-COUNTBLANK(L7:L5000)","v":69},null,null,null,null,"Total Sequences in Block Data",{"$f":"COUNTA(L7:L18)","v":12},null,null,null,"Total Sequences in Block Data",{"$f":"COUNTA(L19:L29)","v":11},null,null,null,"Total Sequences in Block Data",{"$f":"COUNTA(L30:L41)","v":12},null,null,null,"Total Sequences in Block Data",{"$f":"COUNTA(L42:L52)","v":11},null,null,null,"Total Sequences in Block Data",{"$f":"COUNTA(L53:L64)","v":12},null,null,null,"Total Sequences in Block Data",{"$f":"COUNTA(L65:L75)","v":11}]
[null,null,null,null,null,null,null,null,null,null,null,null,null,null,null,"Total Sequences in Summary",{"$f":"SUM(O7:O22)","v":68},null,null,null,null,"Total Sequences in Block Summary",{"$f":"SUM(U7:U22)","v":12},null,null,null,"Total Sequences in Block Summary",{"$f":"SUM(Z7:Z22)","v":11},null,null,null,"Total Sequences in Block Summary",{"$f":"SUM(AE7:AE22)","v":12},null,null,null,"Total Sequences in Block Summary",{"$f":"SUM(AJ7:AJ22)","v":11},null,null,null,"Total Sequences in Block Summary",{"$f":"SUM(AO7:AO22)","v":12},null,null,null,"Total Sequences in Block Summary",{"$f":"SUM(AT7:AT22)","v":10}]
[null,null,null,null,null,null,null,null,null,null,null,null,null,null,null,null,null,null,null,"Block 1",null,null,null,null,"Block 2",null,null,null,null,"Block 3",null,null,null,null,"Block 4",null,null,null,null,"Block 5",null,null,null,null,"Block 6"]
["Sequence\nComponent\n1","Time\n1","Sequence\nComponent\n2","Time\n2","Sequence\nComponent\n3","Time\n3","Sequence\nComponent\n4","Time\n4","Sequence\nComponent\n5","Time\n5","Correct?\n0=No 1=Yes","Sequence",null,"Frequency",null,"Relative Frequency","Variability",null,null,"Frequency",null,"Relative Frequency","Variability",null,"Frequency",null,"Relative Frequency","Variability",null,"Frequency",null,"Relative Frequency","Variability",null,"Frequency",null,"Relative Frequency","Variability",null,"Frequency",null,"Relative Frequency","Variability",null,"Frequency",null,"Relative Frequency","Variability"]
[12,9,14,23,13,35,14,40,null,null,0,1111,null,1111,{"$f":"COUNTIF($L$7:$L$500,N7)","v":6},{"$f":"O7/$Q$4","v":8.8235294117647065E-2},{"$f":"IF(P7=0,0,(P7*((LOG(P7))/LOG(2))))","v":-0.30904414769375149},null,null,{"$f":"N7","v":1111},{"$f":"COUNTIF(L7:L18,T7)","v":3},{"$f":"U7/(W4-U20)","v":0.25},{"$f":"IF(V7=0,0,(V7*((LOG(V7))/LOG(2))))","v":-0.5},null,{"$f":"N7","v":1111},{"$f":"COUNTIF(L19:L29,Y7)","v":0},{"$f":"Z7/(AB4-Z20)","v":0},{"$f":"IF(AA7=0,0,(AA7*((LOG(AA7))/LOG(2))))","v":0},null,{"$f":"N7","v":1111},{"$f":"COUNTIF(L30:L41,AD7)","v":2},{"$f":"AE7/(AG4-AE20)","v":0.18181818181818182},{"$f":"IF(AF7=0,0,(AF7*((LOG(AF7))/LOG(2))))","v":-0.44716938520678134},null,{"$f":"N7","v":1111},{"$f":"COUNTIF(L42:L52,AI7)","v":0},{"$f":"AJ7/(AL4-AJ20)","v":0},{"$f":"IF(AK7=0,0,(AK7*((LOG(AK7))/LOG(2))))","v":0},null,{"$f":"N7","v":1111},{"$f":"COUNTIF(L53:L64,AN7)","v":1},{"$f":"AO7/(AQ4-AO20)","v":9.0909090909090912E-2},{"$f":"IF(AP7=0,0,(AP7*((LOG(AP7))/LOG(2))))","v":-0.31449378351248153},null,{"$f":"N7","v":1111},{"$f":"COUNTIF(L65:L75,AS7)","v":0},{"$f":"AT7/(AV4-AT20)","v":0},{"$f":"IF(AU7=0,0,(AU7*((LOG(AU7))/LOG(2))))","v":0}]
[12,149,14,160,24,173,14,183,null,null,0,1121,null,1112,{"$f":"COUNTIF($L$7:$L$500,N8)","v":10},{"$f":"O8/$Q$4","v":0.14705882352941177},{"$f":"IF(P8=0,0,(P8*((LOG(P8))/LOG(2))))","v":-0.40669628622984955},null,null,{"$f":"N8","v":1112},{"$f":"COUNTIF(L7:L18,T8)","v":2},{"$f":"U8/(W4-U20)","v":0.16666666666666666},{"$f":"IF(V8=0,0,(V8*((LOG(V8))/LOG(2))))","v":-0.43082708345352599},null,{"$f":"N8","v":1112},{"$f":"COUNTIF(L19:L29,Y8)","v":1},{"$f":"Z8/(AB4-Z20)","v":0.1111111111111111},{"$f":"IF(AA8=0,0,(AA8*((LOG(AA8))/LOG(2))))","v":-0.3522138890491458},null,{"$f":"N8","v":1112},{"$f":"COUNTIF(L30:L41,AD8)","v":0},{"$f":"AE8/(AG4-AE20)","v":0},{"$f":"IF(AF8=0,0,(AF8*((LOG(AF8))/LOG(2))))","v":0},null,{"$f":"N8","v":1112},{"$f":"COUNTIF(L42:L52,AI8)","v":2},{"$f":"AJ8/(AL4-AJ20)","v":0.22222222222222221},{"$f":"IF(AK8=0,0,(AK8*((LOG(AK8))/LOG(2))))","v":-0.48220555587606945},null,{"$f":"N8","v":1112},{"$f":"COUNTIF(L53:L64,AN8)","v":4},{"$f":"AO8/(AQ4-AO20)","v":0.36363636363636365},{"$f":"IF(AP8=0,0,(AP8*((LOG(AP8))/LOG(2))))","v":-0.53070240677719893},null,{"$f":"N8","v":1112},{"$f":"COUNTIF(L65:L75,AS8)","v":1},{"$f":"AT8/(AV4-AT20)","v":0.1},{"$f":"IF(AU8=0,0,(AU8*((LOG(AU8))/LOG(2))))","v":-0.33219280948873625}]
[12,282,14,287,13,309,23,322,null,null,0,1112,null,1121,{"$f":"COUNTIF($L$7:$L$500,N9)","v":9},{"$f":"O9/$Q$4","v":0.13235294117647059},{"$f":"IF(P9=0,0,(P9*((LOG(P9))/LOG(2))))","v":-0.38614471409223888},null,null,{"$f":"N9","v":1121},{"$f":"COUNTIF(L7:L18,T9)","v":3},{"$f":"U9/(W4-U20)","v":0.25},{"$f":"IF(V9=0,0,(V9*((LOG(V9))/LOG(2))))","v":-0.5},null,{"$f":"N9","v":1121},{"$f":"COUNTIF(L19:L29,Y9)","v":2},{"$f":"Z9/(AB4-Z20)","v":0.22222222222222221},{"$f":"IF(AA9=0,0,(AA9*((LOG(AA9))/LOG(2))))","v":-0.48220555587606945},null,{"$f":"N9","v":1121},{"$f":"COUNTIF(L30:L41,AD9)","v":1},{"$f":"AE9/(AG4-AE20)","v":9.0909090909090912E-2},{"$f":"IF(AF9=0,0,(AF9*((LOG(AF9))/LOG(2))))","v":-0.31449378351248153},null,{"$f":"N9","v":1121},{"$f":"COUNTIF(L42:L52,AI9)","v":0},{"$f":"AJ9/(AL4-AJ20)","v":0},{"$f":"IF(AK9=0,0,(AK9*((LOG(AK9))/LOG(2))))","v":0},null,{"$f":"N9","v":1121},{"$f":"COUNTIF(L53:L64,AN9)","v":2},{"$f":"AO9/(AQ4-AO20)","v":0.18181818181818182},{"$f":"IF(AP9=0,0,(AP9*((LOG(AP9))/LOG(2))))","v":-0.44716938520678134},null,{"$f":"N9","v":1121},{"$f":"COUNTIF(L65:L75,AS9)","v":1},{"$f":"AT9/(AV4-AT20)","v":0.1},{"$f":"IF(AU9=0,0,(AU9*((LOG(AU9))/LOG(2))))","v":-0.33219280948873625}]
[12,438,14,465,13,470,14,477,null,null,0,1111,null,1122,{"$f":"COUNTIF($L$7:$L$500,N10)","v":1},{"$f":"O10/$Q$4","v":1.4705882352941176E-2},{"$f":"IF(P10=0,0,(P10*((LOG(P10))/LOG(2))))","v":-8.9521512371328521E-2},null,null,{"$f":"N10","v":1122},{"$f":"COUNTIF(L7:L18,T10)","v":0},{"$f":"U10/(W4-U20)","v":0},{"$f":"IF(V10=0,0,(V10*((LOG(V10))/LOG(2))))","v":0},null,{"$f":"N10","v":1122},{"$f":"COUNTIF(L19:L29,Y10)","v":0},{"$f":"Z10/(AB4-Z20)","v":0},{"$f":"IF(AA10=0,0,(AA10*((LOG(AA10))/LOG(2))))","v":0},null,{"$f":"N10","v":1122},{"$f":"COUNTIF(L30:L41,AD10)","v":1},{"$f":"AE10/(AG4-AE20)","v":9.0909090909090912E-2},{"$f":"IF(AF10=0,0,(AF10*((LOG(AF10))/LOG(2))))","v":-0.31449378351248153},null,{"$f":"N10","v":1122},{"$f":"COUNTIF(L42:L52,AI10)","v":0},{"$f":"AJ10/(AL4-AJ20)","v":0},{"$f":"IF(AK10=0,0,(AK10*((LOG(AK10))/LOG(2))))","v":0},null,{"$f":"N10","v":1122},{"$f":"COUNTIF(L53:L64,AN10)","v":0},{"$f":"AO10/(AQ4-AO20)","v":0},{"$f":"IF(AP10=0,0,(AP10*((LOG(AP10))/LOG(2))))","v":0},null,{"$f":"N10","v":1122},{"$f":"COUNTIF(L65:L75,AS10)","v":0},{"$f":"AT10/(AV4-AT20)","v":0},{"$f":"IF(AU10=0,0,(AU10*((LOG(AU10))/LOG(2))))","v":0}]
[12,588,14,600,24,620,14,639,null,null,0,1121,null,1211,{"$f":"COUNTIF($L$7:$L$500,N11)","v":7},{"$f":"O11/$Q$4","v":0.10294117647058823},{"$f":"IF(P11=0,0,(P11*((LOG(P11))/LOG(2))))","v":-0.33765816815219335},null,null,{"$f":"N11","v":1211},{"$f":"COUNTIF(L7:L18,T11)","v":3},{"$f":"U11/(W4-U20)","v":0.25},{"$f":"IF(V11=0,0,(V11*((LOG(V11))/LOG(2))))","v":-0.5},null,{"$f":"N11","v":1211},{"$f":"COUNTIF(L19:L29,Y11)","v":0},{"$f":"Z11/(AB4-Z20)","v":0},{"$f":"IF(AA11=0,0,(AA11*((LOG(AA11))/LOG(2))))","v":0},null,{"$f":"N11","v":1211},{"$f":"COUNTIF(L30:L41,AD11)","v":3},{"$f":"AE11/(AG4-AE20)","v":0.27272727272727271},{"$f":"IF(AF11=0,0,(AF11*((LOG(AF11))/LOG(2))))","v":-0.51121885034076575},null,{"$f":"N11","v":1211},{"$f":"COUNTIF(L42:L52,AI11)","v":1},{"$f":"AJ11/(AL4-AJ20)","v":0.1111111111111111},{"$f":"IF(AK11=0,0,(AK11*((LOG(AK11))/LOG(2))))","v":-0.3522138890491458},null,{"$f":"N11","v":1211},{"$f":"COUNTIF(L53:L64,AN11)","v":0},{"$f":"AO11/(AQ4-AO20)","v":0},{"$f":"IF(AP11=0,0,(AP11*((LOG(AP11))/LOG(2))))","v":0},null,{"$f":"N11","v":1211},{"$f":"COUNTIF(L65:L75,AS11)","v":0},{"$f":"AT11/(AV4-AT20)","v":0},{"$f":"IF(AU11=0,0,(AU11*((LOG(AU11))/LOG(2))))","v":0}]
[12,749,23,759,13,769,14,774,null,null,0,1211,null,1212,{"$f":"COUNTIF($L$7:$L$500,N12)","v":0},{"$f":"O12/$Q$4","v":0},{"$f":"IF(P12=0,0,(P12*((LOG(P12))/LOG(2))))","v":0},null,null,{"$f":"N12","v":1212},{"$f":"COUNTIF(L7:L18,T12)","v":0},{"$f":"U12/(W4-U20)","v":0},{"$f":"IF(V12=0,0,(V12*((LOG(V12))/LOG(2))))","v":0},null,{"$f":"N12","v":1212},{"$f":"COUNTIF(L19:L29,Y12)","v":0},{"$f":"Z12/(AB4-Z20)","v":0},{"$f":"IF(AA12=0,0,(AA12*((LOG(AA12))/LOG(2))))","v":0},null,{"$f":"N12","v":1212},{"$f":"COUNTIF(L30:L41,AD12)","v":0},{"$f":"AE12/(AG4-AE20)","v":0},{"$f":"IF(AF12=0,0,(AF12*((LOG(AF12))/LOG(2))))","v":0},null,{"$f":"N12","v":1212},{"$f":"COUNTIF(L42:L52,AI12)","v":0},{"$f":"AJ12/(AL4-AJ20)","v":0},{"$f":"IF(AK12=0,0,(AK12*((LOG(AK12))/LOG(2))))","v":0},null,{"$f":"N12","v":1212},{"$f":"COUNTIF(L53:L64,AN12)","v":0},{"$f":"AO12/(AQ4-AO20)","v":0},{"$f":"IF(AP12=0,0,(AP12*((LOG(AP12))/LOG(2))))","v":0},null,{"$f":"N12","v":1212},{"$f":"COUNTIF(L65:L75,AS12)","v":0},{"$f":"AT12/(AV4-AT20)","v":0},{"$f":"IF(AU12=0,0,(AU12*((LOG(AU12))/LOG(2))))","v":0}]
[12,861,14,866,13,888,14,896,null,null,0,1111,null,1221,{"$f":"COUNTIF($L$7:$L$500,N13)","v":2},{"$f":"O13/$Q$4","v":2.9411764705882353E-2},{"$f":"IF(P13=0,0,(P13*((LOG(P13))/LOG(2))))","v":-0.14963126003677468},null,null,{"$f":"N13","v":1221},{"$f":"COUNTIF(L7:L18,T13)","v":0},{"$f":"U13/(W4-U20)","v":0},{"$f":"IF(V13=0,0,(V13*((LOG(V13))/LOG(2))))","v":0},null,{"$f":"N13","v":1221},{"$f":"COUNTIF(L19:L29,Y13)","v":0},{"$f":"Z13/(AB4-Z20)","v":0},{"$f":"IF(AA13=0,0,(AA13*((LOG(AA13))/LOG(2))))","v":0},null,{"$f":"N13","v":1221},{"$f":"COUNTIF(L30:L41,AD13)","v":0},{"$f":"AE13/(AG4-AE20)","v":0},{"$f":"IF(AF13=0,0,(AF13*((LOG(AF13))/LOG(2))))","v":0},null,{"$f":"N13","v":1221},{"$f":"COUNTIF(L42:L52,AI13)","v":0},{"$f":"AJ13/(AL4-AJ20)","v":0},{"$f":"IF(AK13=0,0,(AK13*((LOG(AK13))/LOG(2))))","v":0},null,{"$f":"N13","v":1221},{"$f":"COUNTIF(L53:L64,AN13)","v":2},{"$f":"AO13/(AQ4-AO20)","v":0.18181818181818182},{"$f":"IF(AP13=0,0,(AP13*((LOG(AP13))/LOG(2))))","v":-0.44716938520678134},null,{"$f":"N13","v":1221},{"$f":"COUNTIF(L65:L75,AS13)","v":0},{"$f":"AT13/(AV4-AT20)","v":0},{"$f":"IF(AU13=0,0,(AU13*((LOG(AU13))/LOG(2))))","v":0}]
[12,1007,14,1014,13,1019,23,1039,null,null,0,1112,null,1222,{"$f":"COUNTIF($L$7:$L$500,N14)","v":0},{"$f":"O14/$Q$4","v":0},{"$f":"IF(P14=0,0,(P14*((LOG(P14))/LOG(2))))","v":0},null,null,{"$f":"N14","v":1222},{"$f":"COUNTIF(L7:L18,T14)","v":0},{"$f":"U14/(W4-U20)","v":0},{"$f":"IF(V14=0,0,(V14*((LOG(V14))/LOG(2))))","v":0},null,{"$f":"N14","v":1222},{"$f":"COUNTIF(L19:L29,Y14)","v":0},{"$f":"Z14/(AB4-Z20)","v":0},{"$f":"IF(AA14=0,0,(AA14*((LOG(AA14))/LOG(2))))","v":0},null,{"$f":"N14","v":1222},{"$f":"COUNTIF(L30:L41,AD14)","v":0},{"$f":"AE14/(AG4-AE20)","v":0},{"$f":"IF(AF14=0,0,(AF14*((LOG(AF14))/LOG(2))))","v":0},null,{"$f":"N14","v":1222},{"$f":"COUNTIF(L42:L52,AI14)","v":0},{"$f":"AJ14/(AL4-AJ20)","v":0},{"$f":"IF(AK14=0,0,(AK14*((LOG(AK14))/LOG(2))))","v":0},null,{"$f":"N14","v":1222},{"$f":"COUNTIF(L53:L64,AN14)","v":0},{"$f":"AO14/(AQ4-AO20)","v":0},{"$f":"IF(AP14=0,0,(AP14*((LOG(AP14))/LOG(2))))","v":0},null,{"$f":"N14","v":1222},{"$f":"COUNTIF(L65:L75,AS14)","v":0},{"$f":"AT14/(AV4-AT20)","v":0},{"$f":"IF(AU14=0,0,(AU14*((LOG(AU14))/LOG(2))))","v":0}]
[12,1142,14,1146,24,1162,14,1176,null,null,0,1121,null,2111,{"$f":"COUNTIF($L$7:$L$500,N15)","v":3},{"$f":"O15/$Q$4","v":4.4117647058823532E-2},{"$f":"IF(P15=0,0,(P15*((LOG(P15))/LOG(2))))","v":-0.19863972090569926},null,null,{"$f":"N15","v":2111},{"$f":"COUNTIF(L7:L18,T15)","v":0},{"$f":"U15/(W4-U20)","v":0},{"$f":"IF(V15=0,0,(V15*((LOG(V15))/LOG(2))))","v":0},null,{"$f":"N15","v":2111},{"$f":"COUNTIF(L19:L29,Y15)","v":1},{"$f":"Z15/(AB4-Z20)","v":0.1111111111111111},{"$f":"IF(AA15=0,0,(AA15*((LOG(AA15))/LOG(2))))","v":-0.3522138890491458},null,{"$f":"N15","v":2111},{"$f":"COUNTIF(L30:L41,AD15)","v":0},{"$f":"AE15/(AG4-AE20)","v":0},{"$f":"IF(AF15=0,0,(AF15*((LOG(AF15))/LOG(2))))","v":0},null,{"$f":"N15","v":2111},{"$f":"COUNTIF(L42:L52,AI15)","v":1},{"$f":"AJ15/(AL4-AJ20)","v":0.1111111111111111},{"$f":"IF(AK15=0,0,(AK15*((LOG(AK15))/LOG(2))))","v":-0.3522138890491458},null,{"$f":"N15","v":2111},{"$f":"COUNTIF(L53:L64,AN15)","v":0},{"$f":"AO15/(AQ4-AO20)","v":0},{"$f":"IF(AP15=0,0,(AP15*((LOG(AP15))/LOG(2))))","v":0},null,{"$f":"N15","v":2111},{"$f":"COUNTIF(L65:L75,AS15)","v":1},{"$f":"AT15/(AV4-AT20)","v":0.1},{"$f":"IF(AU15=0,0,(AU15*((LOG(AU15))/LOG(2))))","v":-0.33219280948873625}]
[21,1297,12,1318,24,1330,23,1348,null,null,0,2122,null,2112,{"$f":"COUNTIF($L$7:$L$500,N16)","v":2},{"$f":"O16/$Q$4","v":2.9411764705882353E-2},{"$f":"IF(P16=0,0,(P16*((LOG(P16))/LOG(2))))","v":-0.14963126003677468},null,null,{"$f":"N16","v":2112},{"$f":"COUNTIF(L7:L18,T16)","v":0},{"$f":"U16/(W4-U20)","v":0},{"$f":"IF(V16=0,0,(V16*((LOG(V16))/LOG(2))))","v":0},null,{"$f":"N16","v":2112},{"$f":"COUNTIF(L19:L29,Y16)","v":0},{"$f":"Z16/(AB4-Z20)","v":0},{"$f":"IF(AA16=0,0,(AA16*((LOG(AA16))/LOG(2))))","v":0},null,{"$f":"N16","v":2112},{"$f":"COUNTIF(L30:L41,AD16)","v":0},{"$f":"AE16/(AG4-AE20)","v":0},{"$f":"IF(AF16=0,0,(AF16*((LOG(AF16))/LOG(2))))","v":0},null,{"$f":"N16","v":2112},{"$f":"COUNTIF(L42:L52,AI16)","v":1},{"$f":"AJ16/(AL4-AJ20)","v":0.1111111111111111},{"$f":"IF(AK16=0,0,(AK16*((LOG(AK16))/LOG(2))))","v":-0.3522138890491458},null,{"$f":"N16","v":2112},{"$f":"COUNTIF(L53:L64,AN16)","v":0},{"$f":"AO16/(AQ4-AO20)","v":0},{"$f":"IF(AP16=0,0,(AP16*((LOG(AP16))/LOG(2))))","v":0},null,{"$f":"N16","v":2112},{"$f":"COUNTIF(L65:L75,AS16)","v":1},{"$f":"AT16/(AV4-AT20)","v":0.1},{"$f":"IF(AU16=0,0,(AU16*((LOG(AU16))/LOG(2))))","v":-0.33219280948873625}]
[12,1470,23,1486,13,1497,14,1501,null,null,0,1211,null,2121,{"$f":"COUNTIF($L$7:$L$500,N17)","v":8},{"$f":"O17/$Q$4","v":0.11764705882352941},{"$f":"IF(P17=0,0,(P17*((LOG(P17))/LOG(2))))","v":-0.36323092250003997},null,null,{"$f":"N17","v":2121},{"$f":"COUNTIF(L7:L18,T17)","v":0},{"$f":"U17/(W4-U20)","v":0},{"$f":"IF(V17=0,0,(V17*((LOG(V17))/LOG(2))))","v":0},null,{"$f":"N17","v":2121},{"$f":"COUNTIF(L19:L29,Y17)","v":1},{"$f":"Z17/(AB4-Z20)","v":0.1111111111111111},{"$f":"IF(AA17=0,0,(AA17*((LOG(AA17))/LOG(2))))","v":-0.3522138890491458},null,{"$f":"N17","v":2121},{"$f":"COUNTIF(L30:L41,AD17)","v":1},{"$f":"AE17/(AG4-AE20)","v":9.0909090909090912E-2},{"$f":"IF(AF17=0,0,(AF17*((LOG(AF17))/LOG(2))))","v":-0.31449378351248153},null,{"$f":"N17","v":2121},{"$f":"COUNTIF(L42:L52,AI17)","v":3},{"$f":"AJ17/(AL4-AJ20)","v":0.33333333333333331},{"$f":"IF(AK17=0,0,(AK17*((LOG(AK17))/LOG(2))))","v":-0.52832083357371862},null,{"$f":"N17","v":2121},{"$f":"COUNTIF(L53:L64,AN17)","v":1},{"$f":"AO17/(AQ4-AO20)","v":9.0909090909090912E-2},{"$f":"IF(AP17=0,0,(AP17*((LOG(AP17))/LOG(2))))","v":-0.31449378351248153},null,{"$f":"N17","v":2121},{"$f":"COUNTIF(L65:L75,AS17)","v":2},{"$f":"AT17/(AV4-AT20)","v":0.2},{"$f":"IF(AU17=0,0,(AU17*((LOG(AU17))/LOG(2))))","v":-0.46438561897747244}]
[12,1635,23,1644,13,1655,14,1660,null,null,0,1211,null,2122,{"$f":"COUNTIF($L$7:$L$500,N18)","v":3},{"$f":"O18/$Q$4","v":4.4117647058823532E-2},{"$f":"IF(P18=0,0,(P18*((LOG(P18))/LOG(2))))","v":-0.19863972090569926},null,null,{"$f":"N18","v":2122},{"$f":"COUNTIF(L7:L18,T18)","v":1},{"$f":"U18/(W4-U20)","v":8.3333333333333329E-2},{"$f":"IF(V18=0,0,(V18*((LOG(V18))/LOG(2))))","v":-0.29874687506009634},null,{"$f":"N18","v":2122},{"$f":"COUNTIF(L19:L29,Y18)","v":1},{"$f":"Z18/(AB4-Z20)","v":0.1111111111111111},{"$f":"IF(AA18=0,0,(AA18*((LOG(AA18))/LOG(2))))","v":-0.3522138890491458},null,{"$f":"N18","v":2122},{"$f":"COUNTIF(L30:L41,AD18)","v":0},{"$f":"AE18/(AG4-AE20)","v":0},{"$f":"IF(AF18=0,0,(AF18*((LOG(AF18))/LOG(2))))","v":0},null,{"$f":"N18","v":2122},{"$f":"COUNTIF(L42:L52,AI18)","v":1},{"$f":"AJ18/(AL4-AJ20)","v":0.1111111111111111},{"$f":"IF(AK18=0,0,(AK18*((LOG(AK18))/LOG(2))))","v":-0.3522138890491458},null,{"$f":"N18","v":2122},{"$f":"COUNTIF(L53:L64,AN18)","v":0},{"$f":"AO18/(AQ4-AO20)","v":0},{"$f":"IF(AP18=0,0,(AP18*((LOG(AP18))/LOG(2))))","v":0},null,{"$f":"N18","v":2122},{"$f":"COUNTIF(L65:L75,AS18)","v":0},{"$f":"AT18/(AV4-AT20)","v":0},{"$f":"IF(AU18=0,0,(AU18*((LOG(AU18))/LOG(2))))","v":0}]
[12,1776,14,1780,24,1792,14,1807,null,null,0,1121,null,2211,{"$f":"COUNTIF($L$7:$L$500,N19)","v":3},{"$f":"O19/$Q$4","v":4.4117647058823532E-2},{"$f":"IF(P19=0,0,(P19*((LOG(P19))/LOG(2))))","v":-0.19863972090569926},null,null,{"$f":"N19","v":2211},{"$f":"COUNTIF(L7:L18,T19)","v":0},{"$f":"U19/(W4-U20)","v":0},{"$f":"IF(V19=0,0,(V19*((LOG(V19))/LOG(2))))","v":0},null,{"$f":"N19","v":2211},{"$f":"COUNTIF(L19:L29,Y19)","v":0},{"$f":"Z19/(AB4-Z20)","v":0},{"$f":"IF(AA19=0,0,(AA19*((LOG(AA19))/LOG(2))))","v":0},null,{"$f":"N19","v":2211},{"$f":"COUNTIF(L30:L41,AD19)","v":2},{"$f":"AE19/(AG4-AE20)","v":0.18181818181818182},{"$f":"IF(AF19=0,0,(AF19*((LOG(AF19))/LOG(2))))","v":-0.44716938520678134},null,{"$f":"N19","v":2211},{"$f":"COUNTIF(L42:L52,AI19)","v":0},{"$f":"AJ19/(AL4-AJ20)","v":0},{"$f":"IF(AK19=0,0,(AK19*((LOG(AK19))/LOG(2))))","v":0},null,{"$f":"N19","v":2211},{"$f":"COUNTIF(L53:L64,AN19)","v":0},{"$f":"AO19/(AQ4-AO20)","v":0},{"$f":"IF(AP19=0,0,(AP19*((LOG(AP19))/LOG(2))))","v":0},null,{"$f":"N19","v":2211},{"$f":"COUNTIF(L65:L75,AS19)","v":1},{"$f":"AT19/(AV4-AT20)","v":0.1},{"$f":"IF(AU19=0,0,(AU19*((LOG(AU19))/LOG(2))))","v":-0.33219280948873625}]
[21,1914,12,1927,24,1935,14,1945,null,null,0,2121,null,2212,{"$f":"COUNTIF($L$7:$L$500,N20)","v":6},{"$f":"O20/$Q$4","v":8.8235294117647065E-2},{"$f":"IF(P20=0,0,(P20*((LOG(P20))/LOG(2))))","v":-0.30904414769375149},null,null,{"$f":"N20","v":2212},{"$f":"COUNTIF(L7:L18,T20)","v":0},null,null,null,{"$f":"N20","v":2212},{"$f":"COUNTIF(L19:L29,Y20)","v":2},null,null,null,{"$f":"N20","v":2212},{"$f":"COUNTIF(L30:L41,AD20)","v":1},null,null,null,{"$f":"N20","v":2212},{"$f":"COUNTIF(L42:L52,AI20)","v":2},null,null,null,{"$f":"N20","v":2212},{"$f":"COUNTIF(L53:L64,AN20)","v":1},null,null,null,{"$f":"N20","v":2212},{"$f":"COUNTIF(L65:L75,AS20)","v":0}]
[21,2124,21,2156,22,2179,23,2194,null,null,0,2222,null,2221,{"$f":"COUNTIF($L$7:$L$500,N21)","v":2},{"$f":"O21/$Q$4","v":2.9411764705882353E-2},{"$f":"IF(P21=0,0,(P21*((LOG(P21))/LOG(2))))","v":-0.14963126003677468},null,null,{"$f":"N21","v":2221},{"$f":"COUNTIF(L7:L18,T21)","v":0},{"$f":"U21/(W4-U20)","v":0},{"$f":"IF(V21=0,0,(V21*((LOG(V21))/LOG(2))))","v":0},null,{"$f":"N21","v":2221},{"$f":"COUNTIF(L19:L29,Y21)","v":1},{"$f":"Z21/(AB4-Z20)","v":0.1111111111111111},{"$f":"IF(AA21=0,0,(AA21*((LOG(AA21))/LOG(2))))","v":-0.3522138890491458},null,{"$f":"N21","v":2221},{"$f":"COUNTIF(L30:L41,AD21)","v":0},{"$f":"AE21/(AG4-AE20)","v":0},{"$f":"IF(AF21=0,0,(AF21*((LOG(AF21))/LOG(2))))","v":0},null,{"$f":"N21","v":2221},{"$f":"COUNTIF(L42:L52,AI21)","v":0},{"$f":"AJ21/(AL4-AJ20)","v":0},{"$f":"IF(AK21=0,0,(AK21*((LOG(AK21))/LOG(2))))","v":0},null,{"$f":"N21","v":2221},{"$f":"COUNTIF(L53:L64,AN21)","v":0},{"$f":"AO21/(AQ4-AO20)","v":0},{"$f":"IF(AP21=0,0,(AP21*((LOG(AP21))/LOG(2))))","v":0},null,{"$f":"N21","v":2221},{"$f":"COUNTIF(L65:L75,AS21)","v":1},{"$f":"AT21/(AV4-AT20)","v":0.1},{"$f":"IF(AU21=0,0,(AU21*((LOG(AU21))/LOG(2))))","v":-0.33219280948873625}]
[21,2399,12,2412,13,2476,14,2480,null,null,0,2111,null,2222,{"$f":"COUNTIF($L$7:$L$500,N22)","v":6},{"$f":"O22/$Q$4","v":8.8235294117647065E-2},{"$f":"IF(P22=0,0,(P22*((LOG(P22))/LOG(2))))","v":-0.30904414769375149},null,null,{"$f":"N22","v":2222},{"$f":"COUNTIF(L7:L18,T22)","v":0},{"$f":"U22/(W4-U20)","v":0},{"$f":"IF(V22=0,0,(V22*((LOG(V22))/LOG(2))))","v":0},null,{"$f":"N22","v":2222},{"$f":"COUNTIF(L19:L29,Y22)","v":2},{"$f":"Z22/(AB4-Z20)","v":0.22222222222222221},{"$f":"IF(AA22=0,0,(AA22*((LOG(AA22))/LOG(2))))","v":-0.48220555587606945},null,{"$f":"N22","v":2222},{"$f":"COUNTIF(L30:L41,AD22)","v":1},{"$f":"AE22/(AG4-AE20)","v":9.0909090909090912E-2},{"$f":"IF(AF22=0,0,(AF22*((LOG(AF22))/LOG(2))))","v":-0.31449378351248153},null,{"$f":"N22","v":2222},{"$f":"COUNTIF(L42:L52,AI22)","v":0},{"$f":"AJ22/(AL4-AJ20)","v":0},{"$f":"IF(AK22=0,0,(AK22*((LOG(AK22))/LOG(2))))","v":0},null,{"$f":"N22","v":2222},{"$f":"COUNTIF(L53:L64,AN22)","v":1},{"$f":"AO22/(AQ4-AO20)","v":9.0909090909090912E-2},{"$f":"IF(AP22=0,0,(AP22*((LOG(AP22))/LOG(2))))","v":-0.31449378351248153},null,{"$f":"N22","v":2222},{"$f":"COUNTIF(L65:L75,AS22)","v":2},{"$f":"AT22/(AV4-AT20)","v":0.2},{"$f":"IF(AU22=0,0,(AU22*((LOG(AU22))/LOG(2))))","v":-0.46438561897747244}]
[12,2615,14,2619,13,2679,23,2702,null,null,0,1112,null,null,null,{"$f":"SUM(P7:P22)","v":1},{"$f":"-SUM(Q7:Q22)","v":3.5551969892543265},null,null,null,null,{"$f":"SUM(V7:V22)","v":1},{"$f":"-SUM(W7:W22)","v":2.2295739585136225},null,null,null,{"$f":"SUM(AA7:AA22)","v":1},{"$f":"-SUM(AB7:AB22)","v":2.725480556997868},null,null,null,{"$f":"SUM(AF7:AF22)","v":1},{"$f":"-SUM(AG7:AG22)","v":2.6635327548042547},null,null,null,{"$f":"SUM(AK7:AK22)","v":1},{"$f":"-SUM(AL7:AL22)","v":2.419381945646371},null,null,null,{"$f":"SUM(AP7:AP22)","v":1.0000000000000002},{"$f":"-SUM(AQ7:AQ22)","v":2.3685225277282065},null,null,null,{"$f":"SUM(AU7:AU22)","v":1},{"$f":"-SUM(AV7:AV22)","v":2.9219280948873623}]
[21,2877,21,2902,11,2914,21,2924,null,null,0,2212,null,null,null,"U=",{"$f":"Q23/(LOG(Q4)/LOG(2))","v":0.58401949744371717},null,null,null,null,"U1=",{"$f":"W23/(LOG(W4)/LOG(2))","v":0.62192392753483972},null,null,null,"U2=",{"$f":"AB23/(LOG(AB4)/LOG(2))","v":0.7878405638413688},null,null,null,"U3=",{"$f":"AG23/(LOG(AG4)/LOG(2))","v":0.74297367246336732},null,null,null,"U4=",{"$f":"AL23/(LOG(AL4)/LOG(2))","v":0.69935822191490171},null,null,null,"U5=",{"$f":"AQ23/(LOG(AQ4)/LOG(2))","v":0.66068265072556576},null,null,null,"U6=",{"$f":"AV23/(LOG(AV4)/LOG(2))","v":0.87958800173440754}]
[12,3074,14,3107,24,3119,14,3130,null,null,0,1121]
[21,3256,21,3321,22,3336,14,3347,null,null,0,2221]
[21,3460,12,3471,24,3478,23,3491,null,null,0,2122,null,"Total Target Seq"]
[21,3632,21,3645,11,3671,21,3681,null,null,0,2212,null,{"$f":"COUNTIF(L7:L75,G3)","v":6},null,12,11,12,11,12,11]
[21,3805,21,3815,22,3823,23,3833,null,null,0,2222,null,null,null,"% of reinforcement given in 6 equal intervals based on number of trials "]
[12,3967,14,3975,24,4016,23,4031,null,null,0,1122,null,null,null,"%_1","%_2","%_3","%_4","%_5","%_6"]
[12,4159,23,4201,13,4219,14,4224,null,null,0,1211,null,null,"target sequence",{"$f":"$G$3","v":2212},{"$f":"$G$3","v":2212},{"$f":"$G$3","v":2212},{"$f":"$G$3","v":2212},{"$f":"$G$3","v":2212},{"$f":"$G$3","v":2212}]
[21,4362,21,4368,22,4373,23,4393,null,null,0,2222,null,null,"total reinforcement",{"$f":"U20","v":0},{"$f":"Z20","v":2},{"$f":"AE20","v":1},{"$f":"AJ20","v":2},{"$f":"AO20","v":1},{"$f":"AT20","v":0}]
[12,4567,23,4591,13,4604,14,4611,null,null,0,1211,null,null,"% target"]
[21,4790,21,4808,11,4836,12,4840,null,null,0,2211,null,null,"CCRF"]
[12,4975,14,5021,24,5042,14,5057,null,null,0,1121,null,null,"% CCRf"]
[21,5190,21,5206,11,5224,12,5255,null,null,0,2211,null,null,"average response rate",{"$f":"H18/P28","v":138.33333333333334},{"$f":"(H29-H18)/Q28","v":197.54545454545453},{"$f":"(H41-H29)/R28","v":216.66666666666666},{"$f":"(H52-H41)/S28","v":219.90909090909091},{"$f":"(H64-H52)/T28","v":285.41666666666669},{"$f":"(H75-H64)/U28","v":-1116.090909090909}]
[21,5404,12,5431,24,5452,14,5468,null,null,0,2121]
[21,5751,21,5779,11,5790,21,5799,null,null,0,2212]
[12,5934,14,5942,13,5947,14,5956,null,null,0,1111]
[12,6125,23,6137,13,6148,14,6156,null,null,0,1211]
[12,6381,14,6396,13,6403,14,6433,null,null,0,1111]
[21,6588,12,6607,13,6611,14,6630,null,null,0,2111]
[21,6758,12,6773,13,6778,23,6792,null,null,0,2112]
[21,6972,12,6989,24,6998,14,7013,null,null,0,2121]
[12,7321,14,7325,13,7331,23,7344,null,null,0,1112]
[21,7510,12,7521,24,7533,14,7547,null,null,0,2121]
[21,7760,12,7770,24,7782,14,7793,null,null,0,2121]
[21,7986,21,8003,11,8015,21,8026,null,null,0,2212]
[21,8164,21,8188,11,8200,21,8209,null,null,0,2212]
[12,8343,23,8353,13,8364,14,8368,null,null,0,1211]
[12,8536,14,8541,13,8561,23,8589,null,null,0,1112]
[21,8795,12,8822,24,8831,23,8852,null,null,0,2122]
[12,9018,14,9067,24,9077,14,9088,null,null,0,1121]
[12,9281,23,9306,24,9315,14,9336,null,null,0,1221]
[12,9485,14,9502,13,9531,23,9543,null,null,0,1112]
[12,9762,14,9771,13,9799,23,9816,null,null,0,1112]
[12,10067,14,10074,24,10084,14,10100,null,null,0,1121]
[12,10285,14,10290,13,10295,23,10305,null,null,0,1112]
[12,10487,14,10496,13,10501,23,10520,null,null,0,1112]
[12,10671,14,10676,13,10686,14,10721,null,null,0,1111]
[21,11110,21,11139,22,11150,23,11186,null,null,0,2222]
[21,11655,12,11668,24,11703,14,11714,null,null,0,2121]
[12,11878,23,11888,24,11909,14,11953,null,null,0,1221]
[21,12200,21,12245,11,12262,21,12277,null,null,0,2212]
[12,12422,14,12439,13,12476,23,12484,null,null,0,1112]
[21,12707,21,12730,22,12746,14,12758,null,null,0,2221]
[21,13007,12,13021,13,13028,23,13035,null,null,0,2112]
[21,13311,12,13326,13,13330,14,13358,null,null,0,2111]
[21,13639,21,13657,11,13669,12,13674,null,null,0,2211]
[21,13854,21,13896,22,13908,23,17560,null,null,0,2222]
[21,17944,12,17954,24,17975,14,17990,null,null,0,2121]
[21,18242,21,18252,22,18264,23,18276,null,null,0,2222]
[21,18659,12,18838,24,18865,14,18879,null,null,0,2121]
[12,20258,14,20263,24,20279,14,20349,null,null,0,1121]
[12,20546,null,null,null,null,null,null,null,null,null,1]

{"sheet":"!MA20B30.096","index":10,"n_rows":58,"n_cols":48,"rows_kept":58,"cut":false,"hidden":false,"merged":[[4,39,4,42],[5,39,5,40],[4,44,4,47],[5,44,5,45],[4,24,4,27],[5,24,5,25],[4,29,4,32],[5,29,5,30],[4,34,4,37],[5,34,5,35],[1,1,1,2],[5,13,5,14],[26,13,26,14],[27,13,27,14],[4,19,4,22],[5,19,5,20]]}
["Report for:!MA20B30.096"]
["Date:","<date>"]
["Hen:","<hen>",null,null,null,"Correct Sequence",{"$f":"Start!J2","v":2212},null,null,null,null,null,null,null,null,"Total Sequences in Data",{"$f":"4994-COUNTBLANK(L7:L5000)","v":52},null,null,null,null,"Total Sequences in Block Data",{"$f":"COUNTA(L7:L15)","v":9},null,null,null,"Total Sequences in Block Data",{"$f":"COUNTA(L16:L23)","v":8},null,null,null,"Total Sequences in Block Data",{"$f":"COUNTA(L24:L32)","v":9},null,null,null,"Total Sequences in Block Data",{"$f":"COUNTA(L33:L41)","v":9},null,null,null,"Total Sequences in Block Data",{"$f":"COUNTA(L42:L49)","v":8},null,null,null,"Total Sequences in Block Data",{"$f":"COUNTA(L50:L58)","v":9}]
[null,null,null,null,null,null,null,null,null,null,null,null,null,null,null,"Total Sequences in Summary",{"$f":"SUM(O7:O22)","v":51},null,null,null,null,"Total Sequences in Block Summary",{"$f":"SUM(U7:U22)","v":9},null,null,null,"Total Sequences in Block Summary",{"$f":"SUM(Z7:Z22)","v":8},null,null,null,"Total Sequences in Block Summary",{"$f":"SUM(AE7:AE22)","v":9},null,null,null,"Total Sequences in Block Summary",{"$f":"SUM(AJ7:AJ22)","v":9},null,null,null,"Total Sequences in Block Summary",{"$f":"SUM(AO7:AO22)","v":8},null,null,null,"Total Sequences in Block Summary",{"$f":"SUM(AT7:AT22)","v":8}]
[null,null,null,null,null,null,null,null,null,null,null,null,null,null,null,null,null,null,null,"Block 1",null,null,null,null,"Block 2",null,null,null,null,"Block 3",null,null,null,null,"Block 4",null,null,null,null,"Block 5",null,null,null,null,"Block 6"]
["Sequence\nComponent\n1","Time\n1","Sequence\nComponent\n2","Time\n2","Sequence\nComponent\n3","Time\n3","Sequence\nComponent\n4","Time\n4","Sequence\nComponent\n5","Time\n5","Correct?\n0=No 1=Yes","Sequence",null,"Frequency",null,"Relative Frequency","Variability",null,null,"Frequency",null,"Relative Frequency","Variability",null,"Frequency",null,"Relative Frequency","Variability",null,"Frequency",null,"Relative Frequency","Variability",null,"Frequency",null,"Relative Frequency","Variability",null,"Frequency",null,"Relative Frequency","Variability",null,"Frequency",null,"Relative Frequency","Variability"]
[21,37,12,53,24,78,14,91,null,null,0,2121,null,1111,{"$f":"COUNTIF($L$7:$L$500,N7)","v":9},{"$f":"O7/$Q$4","v":0.17647058823529413},{"$f":"IF(P7=0,0,(P7*((LOG(P7))/LOG(2))))","v":-0.44161770715220888},null,null,{"$f":"N7","v":1111},{"$f":"COUNTIF(L7:L15,T7)","v":5},{"$f":"U7/(W4-U20)","v":0.55555555555555558},{"$f":"IF(V7=0,0,(V7*((LOG(V7))/LOG(2))))","v":-0.4711093925305278},null,{"$f":"N7","v":1111},{"$f":"COUNTIF(L16:L23,Y7)","v":0},{"$f":"Z7/(AB4-Z20)","v":0},{"$f":"IF(AA7=0,0,(AA7*((LOG(AA7))/LOG(2))))","v":0},null,{"$f":"N7","v":1111},{"$f":"COUNTIF(L24:L32,AD7)","v":3},{"$f":"AE7/(AG4-AE20)","v":0.375},{"$f":"IF(AF7=0,0,(AF7*((LOG(AF7))/LOG(2))))","v":-0.53063906222956647},null,{"$f":"N7","v":1111},{"$f":"COUNTIF(L33:L41,AI7)","v":1},{"$f":"AJ7/(AL4-AJ20)","v":0.125},{"$f":"IF(AK7=0,0,(AK7*((LOG(AK7))/LOG(2))))","v":-0.375},null,{"$f":"N7","v":1111},{"$f":"COUNTIF(L42:L49,AN7)","v":0},{"$f":"AO7/(AQ4-AO20)","v":0},{"$f":"IF(AP7=0,0,(AP7*((LOG(AP7))/LOG(2))))","v":0},null,{"$f":"N7","v":1111},{"$f":"COUNTIF(L50:L58,AS7)","v":0},{"$f":"AT7/(AV4-AT20)","v":0},{"$f":"IF(AU7=0,0,(AU7*((LOG(AU7))/LOG(2))))","v":0}]
[12,209,14,214,24,223,14,235,null,null,0,1121,null,1112,{"$f":"COUNTIF($L$7:$L$500,N8)","v":3},{"$f":"O8/$Q$4","v":5.8823529411764705E-2},{"$f":"IF(P8=0,0,(P8*((LOG(P8))/LOG(2))))","v":-0.24043899066178465},null,null,{"$f":"N8","v":1112},{"$f":"COUNTIF(L7:L15,T8)","v":2},{"$f":"U8/(W4-U20)","v":0.22222222222222221},{"$f":"IF(V8=0,0,(V8*((LOG(V8))/LOG(2))))","v":-0.48220555587606945},null,{"$f":"N8","v":1112},{"$f":"COUNTIF(L16:L23,Y8)","v":1},{"$f":"Z8/(AB4-Z20)","v":0.125},{"$f":"IF(AA8=0,0,(AA8*((LOG(AA8))/LOG(2))))","v":-0.375},null,{"$f":"N8","v":1112},{"$f":"COUNTIF(L24:L32,AD8)","v":0},{"$f":"AE8/(AG4-AE20)","v":0},{"$f":"IF(AF8=0,0,(AF8*((LOG(AF8))/LOG(2))))","v":0},null,{"$f":"N8","v":1112},{"$f":"COUNTIF(L33:L41,AI8)","v":0},{"$f":"AJ8/(AL4-AJ20)","v":0},{"$f":"IF(AK8=0,0,(AK8*((LOG(AK8))/LOG(2))))","v":0},null,{"$f":"N8","v":1112},{"$f":"COUNTIF(L42:L49,AN8)","v":0},{"$f":"AO8/(AQ4-AO20)","v":0},{"$f":"IF(AP8=0,0,(AP8*((LOG(AP8))/LOG(2))))","v":0},null,{"$f":"N8","v":1112},{"$f":"COUNTIF(L50:L58,AS8)","v":0},{"$f":"AT8/(AV4-AT20)","v":0},{"$f":"IF(AU8=0,0,(AU8*((LOG(AU8))/LOG(2))))","v":0}]
[12,334,14,342,13,346,14,367,null,null,0,1111,null,1121,{"$f":"COUNTIF($L$7:$L$500,N9)","v":7},{"$f":"O9/$Q$4","v":0.13725490196078433},{"$f":"IF(P9=0,0,(P9*((LOG(P9))/LOG(2))))","v":-0.39324495959602429},null,null,{"$f":"N9","v":1121},{"$f":"COUNTIF(L7:L15,T9)","v":1},{"$f":"U9/(W4-U20)","v":0.1111111111111111},{"$f":"IF(V9=0,0,(V9*((LOG(V9))/LOG(2))))","v":-0.3522138890491458},null,{"$f":"N9","v":1121},{"$f":"COUNTIF(L16:L23,Y9)","v":2},{"$f":"Z9/(AB4-Z20)","v":0.25},{"$f":"IF(AA9=0,0,(AA9*((LOG(AA9))/LOG(2))))","v":-0.5},null,{"$f":"N9","v":1121},{"$f":"COUNTIF(L24:L32,AD9)","v":2},{"$f":"AE9/(AG4-AE20)","v":0.25},{"$f":"IF(AF9=0,0,(AF9*((LOG(AF9))/LOG(2))))","v":-0.5},null,{"$f":"N9","v":1121},{"$f":"COUNTIF(L33:L41,AI9)","v":1},{"$f":"AJ9/(AL4-AJ20)","v":0.125},{"$f":"IF(AK9=0,0,(AK9*((LOG(AK9))/LOG(2))))","v":-0.375},null,{"$f":"N9","v":1121},{"$f":"COUNTIF(L42:L49,AN9)","v":1},{"$f":"AO9/(AQ4-AO20)","v":0.2},{"$f":"IF(AP9=0,0,(AP9*((LOG(AP9))/LOG(2))))","v":-0.46438561897747244},null,{"$f":"N9","v":1121},{"$f":"COUNTIF(L50:L58,AS9)","v":0},{"$f":"AT9/(AV4-AT20)","v":0},{"$f":"IF(AU9=0,0,(AU9*((LOG(AU9))/LOG(2))))","v":0}]
[12,539,14,553,13,561,14,585,null,null,0,1111,null,1122,{"$f":"COUNTIF($L$7:$L$500,N10)","v":2},{"$f":"O10/$Q$4","v":3.9215686274509803E-2},{"$f":"IF(P10=0,0,(P10*((LOG(P10))/LOG(2))))","v":-0.18323236635182338},null,null,{"$f":"N10","v":1122},{"$f":"COUNTIF(L7:L15,T10)","v":0},{"$f":"U10/(W4-U20)","v":0},{"$f":"IF(V10=0,0,(V10*((LOG(V10))/LOG(2))))","v":0},null,{"$f":"N10","v":1122},{"$f":"COUNTIF(L16:L23,Y10)","v":0},{"$f":"Z10/(AB4-Z20)","v":0},{"$f":"IF(AA10=0,0,(AA10*((LOG(AA10))/LOG(2))))","v":0},null,{"$f":"N10","v":1122},{"$f":"COUNTIF(L24:L32,AD10)","v":1},{"$f":"AE10/(AG4-AE20)","v":0.125},{"$f":"IF(AF10=0,0,(AF10*((LOG(AF10))/LOG(2))))","v":-0.375},null,{"$f":"N10","v":1122},{"$f":"COUNTIF(L33:L41,AI10)","v":0},{"$f":"AJ10/(AL4-AJ20)","v":0},{"$f":"IF(AK10=0,0,(AK10*((LOG(AK10))/LOG(2))))","v":0},null,{"$f":"N10","v":1122},{"$f":"COUNTIF(L42:L49,AN10)","v":1},{"$f":"AO10/(AQ4-AO20)","v":0.2},{"$f":"IF(AP10=0,0,(AP10*((LOG(AP10))/LOG(2))))","v":-0.46438561897747244},null,{"$f":"N10","v":1122},{"$f":"COUNTIF(L50:L58,AS10)","v":0},{"$f":"AT10/(AV4-AT20)","v":0},{"$f":"IF(AU10=0,0,(AU10*((LOG(AU10))/LOG(2))))","v":0}]
[12,704,14,729,13,753,14,766,null,null,0,1111,null,1211,{"$f":"COUNTIF($L$7:$L$500,N11)","v":0},{"$f":"O11/$Q$4","v":0},{"$f":"IF(P11=0,0,(P11*((LOG(P11))/LOG(2))))","v":0},null,null,{"$f":"N11","v":1211},{"$f":"COUNTIF(L7:L15,T11)","v":0},{"$f":"U11/(W4-U20)","v":0},{"$f":"IF(V11=0,0,(V11*((LOG(V11))/LOG(2))))","v":0},null,{"$f":"N11","v":1211},{"$f":"COUNTIF(L16:L23,Y11)","v":0},{"$f":"Z11/(AB4-Z20)","v":0},{"$f":"IF(AA11=0,0,(AA11*((LOG(AA11))/LOG(2))))","v":0},null,{"$f":"N11","v":1211},{"$f":"COUNTIF(L24:L32,AD11)","v":0},{"$f":"AE11/(AG4-AE20)","v":0},{"$f":"IF(AF11=0,0,(AF11*((LOG(AF11))/LOG(2))))","v":0},null,{"$f":"N11","v":1211},{"$f":"COUNTIF(L33:L41,AI11)","v":0},{"$f":"AJ11/(AL4-AJ20)","v":0},{"$f":"IF(AK11=0,0,(AK11*((LOG(AK11))/LOG(2))))","v":0},null,{"$f":"N11","v":1211},{"$f":"COUNTIF(L42:L49,AN11)","v":0},{"$f":"AO11/(AQ4-AO20)","v":0},{"$f":"IF(AP11=0,0,(AP11*((LOG(AP11))/LOG(2))))","v":0},null,{"$f":"N11","v":1211},{"$f":"COUNTIF(L50:L58,AS11)","v":0},{"$f":"AT11/(AV4-AT20)","v":0},{"$f":"IF(AU11=0,0,(AU11*((LOG(AU11))/LOG(2))))","v":0}]
[12,881,14,898,13,925,14,961,null,null,0,1111,null,1212,{"$f":"COUNTIF($L$7:$L$500,N12)","v":2},{"$f":"O12/$Q$4","v":3.9215686274509803E-2},{"$f":"IF(P12=0,0,(P12*((LOG(P12))/LOG(2))))","v":-0.18323236635182338},null,null,{"$f":"N12","v":1212},{"$f":"COUNTIF(L7:L15,T12)","v":0},{"$f":"U12/(W4-U20)","v":0},{"$f":"IF(V12=0,0,(V12*((LOG(V12))/LOG(2))))","v":0},null,{"$f":"N12","v":1212},{"$f":"COUNTIF(L16:L23,Y12)","v":1},{"$f":"Z12/(AB4-Z20)","v":0.125},{"$f":"IF(AA12=0,0,(AA12*((LOG(AA12))/LOG(2))))","v":-0.375},null,{"$f":"N12","v":1212},{"$f":"COUNTIF(L24:L32,AD12)","v":1},{"$f":"AE12/(AG4-AE20)","v":0.125},{"$f":"IF(AF12=0,0,(AF12*((LOG(AF12))/LOG(2))))","v":-0.375},null,{"$f":"N12","v":1212},{"$f":"COUNTIF(L33:L41,AI12)","v":0},{"$f":"AJ12/(AL4-AJ20)","v":0},{"$f":"IF(AK12=0,0,(AK12*((LOG(AK12))/LOG(2))))","v":0},null,{"$f":"N12","v":1212},{"$f":"COUNTIF(L42:L49,AN12)","v":0},{"$f":"AO12/(AQ4-AO20)","v":0},{"$f":"IF(AP12=0,0,(AP12*((LOG(AP12))/LOG(2))))","v":0},null,{"$f":"N12","v":1212},{"$f":"COUNTIF(L50:L58,AS12)","v":0},{"$f":"AT12/(AV4-AT20)","v":0},{"$f":"IF(AU12=0,0,(AU12*((LOG(AU12))/LOG(2))))","v":0}]
[12,1067,14,1075,13,1087,23,1095,null,null,0,1112,null,1221,{"$f":"COUNTIF($L$7:$L$500,N13)","v":0},{"$f":"O13/$Q$4","v":0},{"$f":"IF(P13=0,0,(P13*((LOG(P13))/LOG(2))))","v":0},null,null,{"$f":"N13","v":1221},{"$f":"COUNTIF(L7:L15,T13)","v":0},{"$f":"U13/(W4-U20)","v":0},{"$f":"IF(V13=0,0,(V13*((LOG(V13))/LOG(2))))","v":0},null,{"$f":"N13","v":1221},{"$f":"COUNTIF(L16:L23,Y13)","v":0},{"$f":"Z13/(AB4-Z20)","v":0},{"$f":"IF(AA13=0,0,(AA13*((LOG(AA13))/LOG(2))))","v":0},null,{"$f":"N13","v":1221},{"$f":"COUNTIF(L24:L32,AD13)","v":0},{"$f":"AE13/(AG4-AE20)","v":0},{"$f":"IF(AF13=0,0,(AF13*((LOG(AF13))/LOG(2))))","v":0},null,{"$f":"N13","v":1221},{"$f":"COUNTIF(L33:L41,AI13)","v":0},{"$f":"AJ13/(AL4-AJ20)","v":0},{"$f":"IF(AK13=0,0,(AK13*((LOG(AK13))/LOG(2))))","v":0},null,{"$f":"N13","v":1221},{"$f":"COUNTIF(L42:L49,AN13)","v":0},{"$f":"AO13/(AQ4-AO20)","v":0},{"$f":"IF(AP13=0,0,(AP13*((LOG(AP13))/LOG(2))))","v":0},null,{"$f":"N13","v":1221},{"$f":"COUNTIF(L50:L58,AS13)","v":0},{"$f":"AT13/(AV4-AT20)","v":0},{"$f":"IF(AU13=0,0,(AU13*((LOG(AU13))/LOG(2))))","v":0}]
[12,1208,14,1212,13,1248,14,1252,null,null,0,1111,null,1222,{"$f":"COUNTIF($L$7:$L$500,N14)","v":1},{"$f":"O14/$Q$4","v":1.9607843137254902E-2},{"$f":"IF(P14=0,0,(P14*((LOG(P14))/LOG(2))))","v":-0.11122402631316657},null,null,{"$f":"N14","v":1222},{"$f":"COUNTIF(L7:L15,T14)","v":0},{"$f":"U14/(W4-U20)","v":0},{"$f":"IF(V14=0,0,(V14*((LOG(V14))/LOG(2))))","v":0},null,{"$f":"N14","v":1222},{"$f":"COUNTIF(L16:L23,Y14)","v":0},{"$f":"Z14/(AB4-Z20)","v":0},{"$f":"IF(AA14=0,0,(AA14*((LOG(AA14))/LOG(2))))","v":0},null,{"$f":"N14","v":1222},{"$f":"COUNTIF(L24:L32,AD14)","v":0},{"$f":"AE14/(AG4-AE20)","v":0},{"$f":"IF(AF14=0,0,(AF14*((LOG(AF14))/LOG(2))))","v":0},null,{"$f":"N14","v":1222},{"$f":"COUNTIF(L33:L41,AI14)","v":1},{"$f":"AJ14/(AL4-AJ20)","v":0.125},{"$f":"IF(AK14=0,0,(AK14*((LOG(AK14))/LOG(2))))","v":-0.375},null,{"$f":"N14","v":1222},{"$f":"COUNTIF(L42:L49,AN14)","v":0},{"$f":"AO14/(AQ4-AO20)","v":0},{"$f":"IF(AP14=0,0,(AP14*((LOG(AP14))/LOG(2))))","v":0},null,{"$f":"N14","v":1222},{"$f":"COUNTIF(L50:L58,AS14)","v":0},{"$f":"AT14/(AV4-AT20)","v":0},{"$f":"IF(AU14=0,0,(AU14*((LOG(AU14))/LOG(2))))","v":0}]
[12,1365,14,1374,13,1381,23,1389,null,null,0,1112,null,2111,{"$f":"COUNTIF($L$7:$L$500,N15)","v":1},{"$f":"O15/$Q$4","v":1.9607843137254902E-2},{"$f":"IF(P15=0,0,(P15*((LOG(P15))/LOG(2))))","v":-0.11122402631316657},null,null,{"$f":"N15","v":2111},{"$f":"COUNTIF(L7:L15,T15)","v":0},{"$f":"U15/(W4-U20)","v":0},{"$f":"IF(V15=0,0,(V15*((LOG(V15))/LOG(2))))","v":0},null,{"$f":"N15","v":2111},{"$f":"COUNTIF(L16:L23,Y15)","v":1},{"$f":"Z15/(AB4-Z20)","v":0.125},{"$f":"IF(AA15=0,0,(AA15*((LOG(AA15))/LOG(2))))","v":-0.375},null,{"$f":"N15","v":2111},{"$f":"COUNTIF(L24:L32,AD15)","v":0},{"$f":"AE15/(AG4-AE20)","v":0},{"$f":"IF(AF15=0,0,(AF15*((LOG(AF15))/LOG(2))))","v":0},null,{"$f":"N15","v":2111},{"$f":"COUNTIF(L33:L41,AI15)","v":0},{"$f":"AJ15/(AL4-AJ20)","v":0},{"$f":"IF(AK15=0,0,(AK15*((LOG(AK15))/LOG(2))))","v":0},null,{"$f":"N15","v":2111},{"$f":"COUNTIF(L42:L49,AN15)","v":0},{"$f":"AO15/(AQ4-AO20)","v":0},{"$f":"IF(AP15=0,0,(AP15*((LOG(AP15))/LOG(2))))","v":0},null,{"$f":"N15","v":2111},{"$f":"COUNTIF(L50:L58,AS15)","v":0},{"$f":"AT15/(AV4-AT20)","v":0},{"$f":"IF(AU15=0,0,(AU15*((LOG(AU15))/LOG(2))))","v":0}]
[12,1498,14,1508,13,1535,23,1546,null,null,0,1112,null,2112,{"$f":"COUNTIF($L$7:$L$500,N16)","v":2},{"$f":"O16/$Q$4","v":3.9215686274509803E-2},{"$f":"IF(P16=0,0,(P16*((LOG(P16))/LOG(2))))","v":-0.18323236635182338},null,null,{"$f":"N16","v":2112},{"$f":"COUNTIF(L7:L15,T16)","v":0},{"$f":"U16/(W4-U20)","v":0},{"$f":"IF(V16=0,0,(V16*((LOG(V16))/LOG(2))))","v":0},null,{"$f":"N16","v":2112},{"$f":"COUNTIF(L16:L23,Y16)","v":1},{"$f":"Z16/(AB4-Z20)","v":0.125},{"$f":"IF(AA16=0,0,(AA16*((LOG(AA16))/LOG(2))))","v":-0.375},null,{"$f":"N16","v":2112},{"$f":"COUNTIF(L24:L32,AD16)","v":0},{"$f":"AE16/(AG4-AE20)","v":0},{"$f":"IF(AF16=0,0,(AF16*((LOG(AF16))/LOG(2))))","v":0},null,{"$f":"N16","v":2112},{"$f":"COUNTIF(L33:L41,AI16)","v":0},{"$f":"AJ16/(AL4-AJ20)","v":0},{"$f":"IF(AK16=0,0,(AK16*((LOG(AK16))/LOG(2))))","v":0},null,{"$f":"N16","v":2112},{"$f":"COUNTIF(L42:L49,AN16)","v":1},{"$f":"AO16/(AQ4-AO20)","v":0.2},{"$f":"IF(AP16=0,0,(AP16*((LOG(AP16))/LOG(2))))","v":-0.46438561897747244},null,{"$f":"N16","v":2112},{"$f":"COUNTIF(L50:L58,AS16)","v":0},{"$f":"AT16/(AV4-AT20)","v":0},{"$f":"IF(AU16=0,0,(AU16*((LOG(AU16))/LOG(2))))","v":0}]
[21,1747,12,1780,24,1812,23,1833,null,null,0,2122,null,2121,{"$f":"COUNTIF($L$7:$L$500,N17)","v":3},{"$f":"O17/$Q$4","v":5.8823529411764705E-2},{"$f":"IF(P17=0,0,(P17*((LOG(P17))/LOG(2))))","v":-0.24043899066178465},null,null,{"$f":"N17","v":2121},{"$f":"COUNTIF(L7:L15,T17)","v":1},{"$f":"U17/(W4-U20)","v":0.1111111111111111},{"$f":"IF(V17=0,0,(V17*((LOG(V17))/LOG(2))))","v":-0.3522138890491458},null,{"$f":"N17","v":2121},{"$f":"COUNTIF(L16:L23,Y17)","v":0},{"$f":"Z17/(AB4-Z20)","v":0},{"$f":"IF(AA17=0,0,(AA17*((LOG(AA17))/LOG(2))))","v":0},null,{"$f":"N17","v":2121},{"$f":"COUNTIF(L24:L32,AD17)","v":0},{"$f":"AE17/(AG4-AE20)","v":0},{"$f":"IF(AF17=0,0,(AF17*((LOG(AF17))/LOG(2))))","v":0},null,{"$f":"N17","v":2121},{"$f":"COUNTIF(L33:L41,AI17)","v":1},{"$f":"AJ17/(AL4-AJ20)","v":0.125},{"$f":"IF(AK17=0,0,(AK17*((LOG(AK17))/LOG(2))))","v":-0.375},null,{"$f":"N17","v":2121},{"$f":"COUNTIF(L42:L49,AN17)","v":1},{"$f":"AO17/(AQ4-AO20)","v":0.2},{"$f":"IF(AP17=0,0,(AP17*((LOG(AP17))/LOG(2))))","v":-0.46438561897747244},null,{"$f":"N17","v":2121},{"$f":"COUNTIF(L50:L58,AS17)","v":0},{"$f":"AT17/(AV4-AT20)","v":0},{"$f":"IF(AU17=0,0,(AU17*((LOG(AU17))/LOG(2))))","v":0}]
[21,1962,12,1980,13,1986,23,1994,null,null,0,2112,null,2122,{"$f":"COUNTIF($L$7:$L$500,N18)","v":4},{"$f":"O18/$Q$4","v":7.8431372549019607E-2},{"$f":"IF(P18=0,0,(P18*((LOG(P18))/LOG(2))))","v":-0.2880333601546271},null,null,{"$f":"N18","v":2122},{"$f":"COUNTIF(L7:L15,T18)","v":0},{"$f":"U18/(W4-U20)","v":0},{"$f":"IF(V18=0,0,(V18*((LOG(V18))/LOG(2))))","v":0},null,{"$f":"N18","v":2122},{"$f":"COUNTIF(L16:L23,Y18)","v":1},{"$f":"Z18/(AB4-Z20)","v":0.125},{"$f":"IF(AA18=0,0,(AA18*((LOG(AA18))/LOG(2))))","v":-0.375},null,{"$f":"N18","v":2122},{"$f":"COUNTIF(L24:L32,AD18)","v":0},{"$f":"AE18/(AG4-AE20)","v":0},{"$f":"IF(AF18=0,0,(AF18*((LOG(AF18))/LOG(2))))","v":0},null,{"$f":"N18","v":2122},{"$f":"COUNTIF(L33:L41,AI18)","v":1},{"$f":"AJ18/(AL4-AJ20)","v":0.125},{"$f":"IF(AK18=0,0,(AK18*((LOG(AK18))/LOG(2))))","v":-0.375},null,{"$f":"N18","v":2122},{"$f":"COUNTIF(L42:L49,AN18)","v":1},{"$f":"AO18/(AQ4-AO20)","v":0.2},{"$f":"IF(AP18=0,0,(AP18*((LOG(AP18))/LOG(2))))","v":-0.46438561897747244},null,{"$f":"N18","v":2122},{"$f":"COUNTIF(L50:L58,AS18)","v":1},{"$f":"AT18/(AV4-AT20)","v":0.125},{"$f":"IF(AU18=0,0,(AU18*((LOG(AU18))/LOG(2))))","v":-0.375}]
[12,2210,14,2239,24,2284,14,2320,null,null,0,1121,null,2211,{"$f":"COUNTIF($L$7:$L$500,N19)","v":3},{"$f":"O19/$Q$4","v":5.8823529411764705E-2},{"$f":"IF(P19=0,0,(P19*((LOG(P19))/LOG(2))))","v":-0.24043899066178465},null,null,{"$f":"N19","v":2211},{"$f":"COUNTIF(L7:L15,T19)","v":0},{"$f":"U19/(W4-U20)","v":0},{"$f":"IF(V19=0,0,(V19*((LOG(V19))/LOG(2))))","v":0},null,{"$f":"N19","v":2211},{"$f":"COUNTIF(L16:L23,Y19)","v":1},{"$f":"Z19/(AB4-Z20)","v":0.125},{"$f":"IF(AA19=0,0,(AA19*((LOG(AA19))/LOG(2))))","v":-0.375},null,{"$f":"N19","v":2211},{"$f":"COUNTIF(L24:L32,AD19)","v":1},{"$f":"AE19/(AG4-AE20)","v":0.125},{"$f":"IF(AF19=0,0,(AF19*((LOG(AF19))/LOG(2))))","v":-0.375},null,{"$f":"N19","v":2211},{"$f":"COUNTIF(L33:L41,AI19)","v":0},{"$f":"AJ19/(AL4-AJ20)","v":0},{"$f":"IF(AK19=0,0,(AK19*((LOG(AK19))/LOG(2))))","v":0},null,{"$f":"N19","v":2211},{"$f":"COUNTIF(L42:L49,AN19)","v":0},{"$f":"AO19/(AQ4-AO20)","v":0},{"$f":"IF(AP19=0,0,(AP19*((LOG(AP19))/LOG(2))))","v":0},null,{"$f":"N19","v":2211},{"$f":"COUNTIF(L50:L58,AS19)","v":1},{"$f":"AT19/(AV4-AT20)","v":0.125},{"$f":"IF(AU19=0,0,(AU19*((LOG(AU19))/LOG(2))))","v":-0.375}]
[12,2479,23,2500,13,2514,23,2541,null,null,0,1212,null,2212,{"$f":"COUNTIF($L$7:$L$500,N20)","v":5},{"$f":"O20/$Q$4","v":9.8039215686274508E-2},{"$f":"IF(P20=0,0,(P20*((LOG(P20))/LOG(2))))","v":-0.32848012226315026},null,null,{"$f":"N20","v":2212},{"$f":"COUNTIF(L7:L15,T20)","v":0},null,null,null,{"$f":"N20","v":2212},{"$f":"COUNTIF(L16:L23,Y20)","v":0},null,null,null,{"$f":"N20","v":2212},{"$f":"COUNTIF(L24:L32,AD20)","v":1},null,null,null,{"$f":"N20","v":2212},{"$f":"COUNTIF(L33:L41,AI20)","v":1},null,null,null,{"$f":"N20","v":2212},{"$f":"COUNTIF(L42:L49,AN20)","v":3},null,null,null,{"$f":"N20","v":2212},{"$f":"COUNTIF(L50:L58,AS20)","v":0}]
[21,2683,21,2708,11,2733,12,2741,null,null,0,2211,null,2221,{"$f":"COUNTIF($L$7:$L$500,N21)","v":3},{"$f":"O21/$Q$4","v":5.8823529411764705E-2},{"$f":"IF(P21=0,0,(P21*((LOG(P21))/LOG(2))))","v":-0.24043899066178465},null,null,{"$f":"N21","v":2221},{"$f":"COUNTIF(L7:L15,T21)","v":0},{"$f":"U21/(W4-U20)","v":0},{"$f":"IF(V21=0,0,(V21*((LOG(V21))/LOG(2))))","v":0},null,{"$f":"N21","v":2221},{"$f":"COUNTIF(L16:L23,Y21)","v":0},{"$f":"Z21/(AB4-Z20)","v":0},{"$f":"IF(AA21=0,0,(AA21*((LOG(AA21))/LOG(2))))","v":0},null,{"$f":"N21","v":2221},{"$f":"COUNTIF(L24:L32,AD21)","v":0},{"$f":"AE21/(AG4-AE20)","v":0},{"$f":"IF(AF21=0,0,(AF21*((LOG(AF21))/LOG(2))))","v":0},null,{"$f":"N21","v":2221},{"$f":"COUNTIF(L33:L41,AI21)","v":0},{"$f":"AJ21/(AL4-AJ20)","v":0},{"$f":"IF(AK21=0,0,(AK21*((LOG(AK21))/LOG(2))))","v":0},null,{"$f":"N21","v":2221},{"$f":"COUNTIF(L42:L49,AN21)","v":0},{"$f":"AO21/(AQ4-AO20)","v":0},{"$f":"IF(AP21=0,0,(AP21*((LOG(AP21))/LOG(2))))","v":0},null,{"$f":"N21","v":2221},{"$f":"COUNTIF(L50:L58,AS21)","v":3},{"$f":"AT21/(AV4-AT20)","v":0.375},{"$f":"IF(AU21=0,0,(AU21*((LOG(AU21))/LOG(2))))","v":-0.53063906222956647}]
[12,2894,14,2989,24,3034,14,3060,null,null,0,1121,null,2222,{"$f":"COUNTIF($L$7:$L$500,N22)","v":6},{"$f":"O22/$Q$4","v":0.11764705882352941},{"$f":"IF(P22=0,0,(P22*((LOG(P22))/LOG(2))))","v":-0.36323092250003997},null,null,{"$f":"N22","v":2222},{"$f":"COUNTIF(L7:L15,T22)","v":0},{"$f":"U22/(W4-U20)","v":0},{"$f":"IF(V22=0,0,(V22*((LOG(V22))/LOG(2))))","v":0},null,{"$f":"N22","v":2222},{"$f":"COUNTIF(L16:L23,Y22)","v":0},{"$f":"Z22/(AB4-Z20)","v":0},{"$f":"IF(AA22=0,0,(AA22*((LOG(AA22))/LOG(2))))","v":0},null,{"$f":"N22","v":2222},{"$f":"COUNTIF(L24:L32,AD22)","v":0},{"$f":"AE22/(AG4-AE20)","v":0},{"$f":"IF(AF22=0,0,(AF22*((LOG(AF22))/LOG(2))))","v":0},null,{"$f":"N22","v":2222},{"$f":"COUNTIF(L33:L41,AI22)","v":3},{"$f":"AJ22/(AL4-AJ20)","v":0.375},{"$f":"IF(AK22=0,0,(AK22*((LOG(AK22))/LOG(2))))","v":-0.53063906222956647},null,{"$f":"N22","v":2222},{"$f":"COUNTIF(L42:L49,AN22)","v":0},{"$f":"AO22/(AQ4-AO20)","v":0},{"$f":"IF(AP22=0,0,(AP22*((LOG(AP22))/LOG(2))))","v":0},null,{"$f":"N22","v":2222},{"$f":"COUNTIF(L50:L58,AS22)","v":3},{"$f":"AT22/(AV4-AT20)","v":0.375},{"$f":"IF(AU22=0,0,(AU22*((LOG(AU22))/LOG(2))))","v":-0.53063906222956647}]
[21,3236,12,3248,13,3252,14,3307,null,null,0,2111,null,null,null,{"$f":"SUM(P7:P22)","v":0.99999999999999989},{"$f":"-SUM(Q7:Q22)","v":3.5485081859949923},null,null,null,null,{"$f":"SUM(V7:V22)","v":1},{"$f":"-SUM(W7:W22)","v":1.6577427265048887},null,null,null,{"$f":"SUM(AA7:AA22)","v":1},{"$f":"-SUM(AB7:AB22)","v":2.75},null,null,null,{"$f":"SUM(AF7:AF22)","v":1},{"$f":"-SUM(AG7:AG22)","v":2.1556390622295662},null,null,null,{"$f":"SUM(AK7:AK22)","v":1},{"$f":"-SUM(AL7:AL22)","v":2.4056390622295662},null,null,null,{"$f":"SUM(AP7:AP22)","v":1},{"$f":"-SUM(AQ7:AQ22)","v":2.3219280948873622},null,null,null,{"$f":"SUM(AU7:AU22)","v":1},{"$f":"-SUM(AV7:AV22)","v":1.8112781244591329}]
[12,3459,23,3484,13,3497,23,3506,null,null,0,1212,null,null,null,"U=",{"$f":"Q23/(LOG(Q4)/LOG(2))","v":0.62557159804974727},null,null,null,null,"U1=",{"$f":"W23/(LOG(W4)/LOG(2))","v":0.52295960495930272},null,null,null,"U2=",{"$f":"AB23/(LOG(AB4)/LOG(2))","v":0.91666666666666663},null,null,null,"U3=",{"$f":"AG23/(LOG(AG4)/LOG(2))","v":0.68002841116075396},null,null,null,"U4=",{"$f":"AL23/(LOG(AL4)/LOG(2))","v":0.75889463035718618},null,null,null,"U5=",{"$f":"AQ23/(LOG(AQ4)/LOG(2))","v":0.77397603162912076},null,null,null,"U6=",{"$f":"AV23/(LOG(AV4)/LOG(2))","v":0.60375937481971098}]
[12,3612,14,3617,24,3631,14,3643,null,null,0,1121]
[21,3923,21,3960,11,3982,12,4006,null,null,0,2211]
[12,4154,14,4159,13,4163,14,4213,null,null,0,1111,null,"Total Target Seq"]
[12,4349,14,4362,13,4367,14,4391,null,null,0,1111,null,{"$f":"COUNTIF(L7:L58,G3)","v":5},null,9,8,9,9,8,9]
[12,4638,14,4643,13,4668,14,4723,null,null,0,1111,null,null,null,"% of reinforcement given in 6 equal intervals based on number of trials "]
[12,4908,14,4915,24,4939,14,4950,null,null,0,1121,null,null,null,"%_1","%_2","%_3","%_4","%_5","%_6"]
[12,5150,14,5155,24,5166,23,5173,null,null,0,1122,null,null,"target sequence",{"$f":"$G$3","v":2212},{"$f":"$G$3","v":2212},{"$f":"$G$3","v":2212},{"$f":"$G$3","v":2212},{"$f":"$G$3","v":2212},{"$f":"$G$3","v":2212}]
[21,5520,21,5554,11,5567,21,5589,null,null,0,2212,null,null,"total reinforcement",{"$f":"U20","v":0},{"$f":"Z20","v":0},{"$f":"AE20","v":1},{"$f":"AJ20","v":1},{"$f":"AO20","v":3},{"$f":"AT20","v":0}]
[12,6362,23,6371,24,6425,23,6440,null,null,0,1222,null,null,"% target"]
[21,9728,21,9763,22,9784,23,9823,null,null,0,2222,null,null,"CCRF"]
[12,10397,14,10422,13,10438,14,10451,null,null,0,1111,null,null,"% CCRf"]
[21,12934,21,12955,22,13395,23,13414,null,null,0,2222,null,null,"average response rate",{"$f":"H15/P28","v":154.33333333333334},{"$f":"(H23-H15)/Q28","v":239.75},{"$f":"(H32-H23)/R28","v":253.55555555555554},{"$f":"(H41-H32)/S28","v":1421.8888888888889},{"$f":"(H49-H41)/T28","v":306.125},{"$f":"(H58-H49)/U28","v":-2315}]
[21,16724,21,16738,22,16757,23,16775,null,null,0,2222]
[12,17029,14,17034,24,17058,14,17070,null,null,0,1121]
[21,17499,21,17507,11,17524,21,17536,null,null,0,2212]
[21,17758,12,17770,24,17782,14,17798,null,null,0,2121]
[21,18339,12,18355,24,18366,23,18386,null,null,0,2122]
[21,18633,12,18644,13,18672,23,18681,null,null,0,2112]
[21,19103,21,19136,11,19157,21,19171,null,null,0,2212]
[21,19364,12,19383,24,19395,23,19417,null,null,0,2122]
[12,19630,14,19642,24,19680,14,19706,null,null,0,1121]
[12,19903,14,19924,24,19937,23,19951,null,null,0,1122]
[21,20282,21,20317,11,20333,21,20362,null,null,0,2212]
[21,20540,21,20564,11,20577,21,20594,null,null,0,2212]
[21,20793,12,20803,24,20820,14,20835,null,null,0,2121]
[21,21107,21,21145,22,21168,14,21181,null,null,0,2221]
[21,21323,21,21364,22,21382,23,21411,null,null,0,2222]
[21,21545,21,21558,22,21599,23,21645,null,null,0,2222]
[21,21897,12,21911,24,21939,23,21951,null,null,0,2122]
[21,22189,21,22252,22,22264,14,22279,null,null,0,2221]
[21,23091,21,23108,22,23130,14,23145,null,null,0,2221]
[21,23342,21,23365,11,23379,12,23394,null,null,0,2211]
[21,23532,21,23562,22,23591,23,23647,null,null,0,2222]
[21,23987,null,null,null,null,null,null,null,null,null,2]

{"sheet":"!MA21B50.096","index":11,"n_rows":70,"n_cols":48,"rows_kept":70,"cut":false,"hidden":false,"merged":[[4,39,4,42],[5,39,5,40],[4,44,4,47],[5,44,5,45],[4,24,4,27],[5,24,5,25],[4,29,4,32],[5,29,5,30],[4,34,4,37],[5,34,5,35],[1,1,1,2],[5,13,5,14],[26,13,26,14],[27,13,27,14],[4,19,4,22],[5,19,5,20]]}
["Report for:!MA21B50.096"]
["Date:","<date>"]
["Hen:","<hen>",null,null,null,"Correct Sequence",{"$f":"Start!J2","v":2212},null,null,null,null,null,null,null,null,"Total Sequences in Data",{"$f":"4994-COUNTBLANK(L7:L5000)","v":64},null,null,null,null,"Total Sequences in Block Data",{"$f":"COUNTA(L7:L17)","v":11},null,null,null,"Total Sequences in Block Data",{"$f":"COUNTA(L18:L27)","v":10},null,null,null,"Total Sequences in Block Data",{"$f":"COUNTA(L28:L38)","v":11},null,null,null,"Total Sequences in Block Data",{"$f":"COUNTA(L39:L49)","v":11},null,null,null,"Total Sequences in Block Data",{"$f":"COUNTA(L50:L59)","v":10},null,null,null,"Total Sequences in Block Data",{"$f":"COUNTA(L60:L70)","v":11}]
[null,null,null,null,null,null,null,null,null,null,null,null,null,null,null,"Total Sequences in Summary",{"$f":"SUM(O7:O22)","v":63},null,null,null,null,"Total Sequences in Block Summary",{"$f":"SUM(U7:U22)","v":11},null,null,null,"Total Sequences in Block Summary",{"$f":"SUM(Z7:Z22)","v":10},null,null,null,"Total Sequences in Block Summary",{"$f":"SUM(AE7:AE22)","v":11},null,null,null,"Total Sequences in Block Summary",{"$f":"SUM(AJ7:AJ22)","v":11},null,null,null,"Total Sequences in Block Summary",{"$f":"SUM(AO7:AO22)","v":10},null,null,null,"Total Sequences in Block Summary",{"$f":"SUM(AT7:AT22)","v":10}]
[null,null,null,null,null,null,null,null,null,null,null,null,null,null,null,null,null,null,null,"Block 1",null,null,null,null,"Block 2",null,null,null,null,"Block 3",null,null,null,null,"Block 4",null,null,null,null,"Block 5",null,null,null,null,"Block 6"]
["Sequence\nComponent\n1","Time\n1","Sequence\nComponent\n2","Time\n2","Sequence\nComponent\n3","Time\n3","Sequence\nComponent\n4","Time\n4","Sequence\nComponent\n5","Time\n5","Correct?\n0=No 1=Yes","Sequence",null,"Frequency",null,"Relative Frequency","Variability",null,null,"Frequency",null,"Relative Frequency","Variability",null,"Frequency",null,"Relative Frequency","Variability",null,"Frequency",null,"Relative Frequency","Variability",null,"Frequency",null,"Relative Frequency","Variability",null,"Frequency",null,"Relative Frequency","Variability",null,"Frequency",null,"Relative Frequency","Variability"]
[12,15,14,24,13,33,14,38,null,null,0,1111,null,1111,{"$f":"COUNTIF($L$7:$L$500,N7)","v":8},{"$f":"O7/$Q$4","v":0.12698412698412698},{"$f":"IF(P7=0,0,(P7*((LOG(P7))/LOG(2))))","v":-0.37806729187300525},null,null,{"$f":"N7","v":1111},{"$f":"COUNTIF(L7:L17,T7)","v":1},{"$f":"U7/(W4-U20)","v":9.0909090909090912E-2},{"$f":"IF(V7=0,0,(V7*((LOG(V7))/LOG(2))))","v":-0.31449378351248153},null,{"$f":"N7","v":1111},{"$f":"COUNTIF(L18:L27,Y7)","v":3},{"$f":"Z7/(AB4-Z20)","v":0.3},{"$f":"IF(AA7=0,0,(AA7*((LOG(AA7))/LOG(2))))","v":-0.52108967824986185},null,{"$f":"N7","v":1111},{"$f":"COUNTIF(L28:L38,AD7)","v":3},{"$f":"AE7/(AG4-AE20)","v":0.27272727272727271},{"$f":"IF(AF7=0,0,(AF7*((LOG(AF7))/LOG(2))))","v":-0.51121885034076575},null,{"$f":"N7","v":1111},{"$f":"COUNTIF(L39:L49,AI7)","v":1},{"$f":"AJ7/(AL4-AJ20)","v":9.0909090909090912E-2},{"$f":"IF(AK7=0,0,(AK7*((LOG(AK7))/LOG(2))))","v":-0.31449378351248153},null,{"$f":"N7","v":1111},{"$f":"COUNTIF(L50:L59,AN7)","v":0},{"$f":"AO7/(AQ4-AO20)","v":0},{"$f":"IF(AP7=0,0,(AP7*((LOG(AP7))/LOG(2))))","v":0},null,{"$f":"N7","v":1111},{"$f":"COUNTIF(L60:L70,AS7)","v":0},{"$f":"AT7/(AV4-AT20)","v":0},{"$f":"IF(AU7=0,0,(AU7*((LOG(AU7))/LOG(2))))","v":0}]
[21,142,12,161,24,169,23,193,null,null,0,2122,null,1112,{"$f":"COUNTIF($L$7:$L$500,N8)","v":6},{"$f":"O8/$Q$4","v":9.5238095238095233E-2},{"$f":"IF(P8=0,0,(P8*((LOG(P8))/LOG(2))))","v":-0.32307784978845333},null,null,{"$f":"N8","v":1112},{"$f":"COUNTIF(L7:L17,T8)","v":1},{"$f":"U8/(W4-U20)","v":9.0909090909090912E-2},{"$f":"IF(V8=0,0,(V8*((LOG(V8))/LOG(2))))","v":-0.31449378351248153},null,{"$f":"N8","v":1112},{"$f":"COUNTIF(L18:L27,Y8)","v":1},{"$f":"Z8/(AB4-Z20)","v":0.1},{"$f":"IF(AA8=0,0,(AA8*((LOG(AA8))/LOG(2))))","v":-0.33219280948873625},null,{"$f":"N8","v":1112},{"$f":"COUNTIF(L28:L38,AD8)","v":3},{"$f":"AE8/(AG4-AE20)","v":0.27272727272727271},{"$f":"IF(AF8=0,0,(AF8*((LOG(AF8))/LOG(2))))","v":-0.51121885034076575},null,{"$f":"N8","v":1112},{"$f":"COUNTIF(L39:L49,AI8)","v":0},{"$f":"AJ8/(AL4-AJ20)","v":0},{"$f":"IF(AK8=0,0,(AK8*((LOG(AK8))/LOG(2))))","v":0},null,{"$f":"N8","v":1112},{"$f":"COUNTIF(L50:L59,AN8)","v":0},{"$f":"AO8/(AQ4-AO20)","v":0},{"$f":"IF(AP8=0,0,(AP8*((LOG(AP8))/LOG(2))))","v":0},null,{"$f":"N8","v":1112},{"$f":"COUNTIF(L60:L70,AS8)","v":1},{"$f":"AT8/(AV4-AT20)","v":0.1111111111111111},{"$f":"IF(AU8=0,0,(AU8*((LOG(AU8))/LOG(2))))","v":-0.3522138890491458}]
[12,306,23,319,13,334,23,349,null,null,0,1212,null,1121,{"$f":"COUNTIF($L$7:$L$500,N9)","v":5},{"$f":"O9/$Q$4","v":7.9365079365079361E-2},{"$f":"IF(P9=0,0,(P9*((LOG(P9))/LOG(2))))","v":-0.29010728798512331},null,null,{"$f":"N9","v":1121},{"$f":"COUNTIF(L7:L17,T9)","v":1},{"$f":"U9/(W4-U20)","v":9.0909090909090912E-2},{"$f":"IF(V9=0,0,(V9*((LOG(V9))/LOG(2))))","v":-0.31449378351248153},null,{"$f":"N9","v":1121},{"$f":"COUNTIF(L18:L27,Y9)","v":2},{"$f":"Z9/(AB4-Z20)","v":0.2},{"$f":"IF(AA9=0,0,(AA9*((LOG(AA9))/LOG(2))))","v":-0.46438561897747244},null,{"$f":"N9","v":1121},{"$f":"COUNTIF(L28:L38,AD9)","v":0},{"$f":"AE9/(AG4-AE20)","v":0},{"$f":"IF(AF9=0,0,(AF9*((LOG(AF9))/LOG(2))))","v":0},null,{"$f":"N9","v":1121},{"$f":"COUNTIF(L39:L49,AI9)","v":2},{"$f":"AJ9/(AL4-AJ20)","v":0.18181818181818182},{"$f":"IF(AK9=0,0,(AK9*((LOG(AK9))/LOG(2))))","v":-0.44716938520678134},null,{"$f":"N9","v":1121},{"$f":"COUNTIF(L50:L59,AN9)","v":0},{"$f":"AO9/(AQ4-AO20)","v":0},{"$f":"IF(AP9=0,0,(AP9*((LOG(AP9))/LOG(2))))","v":0},null,{"$f":"N9","v":1121},{"$f":"COUNTIF(L60:L70,AS9)","v":0},{"$f":"AT9/(AV4-AT20)","v":0},{"$f":"IF(AU9=0,0,(AU9*((LOG(AU9))/LOG(2))))","v":0}]
[21,481,12,493,13,497,23,511,null,null,0,2112,null,1122,{"$f":"COUNTIF($L$7:$L$500,N10)","v":0},{"$f":"O10/$Q$4","v":0},{"$f":"IF(P10=0,0,(P10*((LOG(P10))/LOG(2))))","v":0},null,null,{"$f":"N10","v":1122},{"$f":"COUNTIF(L7:L17,T10)","v":0},{"$f":"U10/(W4-U20)","v":0},{"$f":"IF(V10=0,0,(V10*((LOG(V10))/LOG(2))))","v":0},null,{"$f":"N10","v":1122},{"$f":"COUNTIF(L18:L27,Y10)","v":0},{"$f":"Z10/(AB4-Z20)","v":0},{"$f":"IF(AA10=0,0,(AA10*((LOG(AA10))/LOG(2))))","v":0},null,{"$f":"N10","v":1122},{"$f":"COUNTIF(L28:L38,AD10)","v":0},{"$f":"AE10/(AG4-AE20)","v":0},{"$f":"IF(AF10=0,0,(AF10*((LOG(AF10))/LOG(2))))","v":0},null,{"$f":"N10","v":1122},{"$f":"COUNTIF(L39:L49,AI10)","v":0},{"$f":"AJ10/(AL4-AJ20)","v":0},{"$f":"IF(AK10=0,0,(AK10*((LOG(AK10))/LOG(2))))","v":0},null,{"$f":"N10","v":1122},{"$f":"COUNTIF(L50:L59,AN10)","v":0},{"$f":"AO10/(AQ4-AO20)","v":0},{"$f":"IF(AP10=0,0,(AP10*((LOG(AP10))/LOG(2))))","v":0},null,{"$f":"N10","v":1122},{"$f":"COUNTIF(L60:L70,AS10)","v":0},{"$f":"AT10/(AV4-AT20)","v":0},{"$f":"IF(AU10=0,0,(AU10*((LOG(AU10))/LOG(2))))","v":0}]
[21,616,12,629,24,640,14,652,null,null,0,2121,null,1211,{"$f":"COUNTIF($L$7:$L$500,N11)","v":2},{"$f":"O11/$Q$4","v":3.1746031746031744E-2},{"$f":"IF(P11=0,0,(P11*((LOG(P11))/LOG(2))))","v":-0.15800888646031477},null,null,{"$f":"N11","v":1211},{"$f":"COUNTIF(L7:L17,T11)","v":0},{"$f":"U11/(W4-U20)","v":0},{"$f":"IF(V11=0,0,(V11*((LOG(V11))/LOG(2))))","v":0},null,{"$f":"N11","v":1211},{"$f":"COUNTIF(L18:L27,Y11)","v":0},{"$f":"Z11/(AB4-Z20)","v":0},{"$f":"IF(AA11=0,0,(AA11*((LOG(AA11))/LOG(2))))","v":0},null,{"$f":"N11","v":1211},{"$f":"COUNTIF(L28:L38,AD11)","v":1},{"$f":"AE11/(AG4-AE20)","v":9.0909090909090912E-2},{"$f":"IF(AF11=0,0,(AF11*((LOG(AF11))/LOG(2))))","v":-0.31449378351248153},null,{"$f":"N11","v":1211},{"$f":"COUNTIF(L39:L49,AI11)","v":1},{"$f":"AJ11/(AL4-AJ20)","v":9.0909090909090912E-2},{"$f":"IF(AK11=0,0,(AK11*((LOG(AK11))/LOG(2))))","v":-0.31449378351248153},null,{"$f":"N11","v":1211},{"$f":"COUNTIF(L50:L59,AN11)","v":0},{"$f":"AO11/(AQ4-AO20)","v":0},{"$f":"IF(AP11=0,0,(AP11*((LOG(AP11))/LOG(2))))","v":0},null,{"$f":"N11","v":1211},{"$f":"COUNTIF(L60:L70,AS11)","v":0},{"$f":"AT11/(AV4-AT20)","v":0},{"$f":"IF(AU11=0,0,(AU11*((LOG(AU11))/LOG(2))))","v":0}]
[21,749,12,770,13,781,23,790,null,null,0,2112,null,1212,{"$f":"COUNTIF($L$7:$L$500,N12)","v":2},{"$f":"O12/$Q$4","v":3.1746031746031744E-2},{"$f":"IF(P12=0,0,(P12*((LOG(P12))/LOG(2))))","v":-0.15800888646031477},null,null,{"$f":"N12","v":1212},{"$f":"COUNTIF(L7:L17,T12)","v":1},{"$f":"U12/(W4-U20)","v":9.0909090909090912E-2},{"$f":"IF(V12=0,0,(V12*((LOG(V12))/LOG(2))))","v":-0.31449378351248153},null,{"$f":"N12","v":1212},{"$f":"COUNTIF(L18:L27,Y12)","v":0},{"$f":"Z12/(AB4-Z20)","v":0},{"$f":"IF(AA12=0,0,(AA12*((LOG(AA12))/LOG(2))))","v":0},null,{"$f":"N12","v":1212},{"$f":"COUNTIF(L28:L38,AD12)","v":1},{"$f":"AE12/(AG4-AE20)","v":9.0909090909090912E-2},{"$f":"IF(AF12=0,0,(AF12*((LOG(AF12))/LOG(2))))","v":-0.31449378351248153},null,{"$f":"N12","v":1212},{"$f":"COUNTIF(L39:L49,AI12)","v":0},{"$f":"AJ12/(AL4-AJ20)","v":0},{"$f":"IF(AK12=0,0,(AK12*((LOG(AK12))/LOG(2))))","v":0},null,{"$f":"N12","v":1212},{"$f":"COUNTIF(L50:L59,AN12)","v":0},{"$f":"AO12/(AQ4-AO20)","v":0},{"$f":"IF(AP12=0,0,(AP12*((LOG(AP12))/LOG(2))))","v":0},null,{"$f":"N12","v":1212},{"$f":"COUNTIF(L60:L70,AS12)","v":0},{"$f":"AT12/(AV4-AT20)","v":0},{"$f":"IF(AU12=0,0,(AU12*((LOG(AU12))/LOG(2))))","v":0}]
[21,891,12,901,13,909,23,918,null,null,0,2112,null,1221,{"$f":"COUNTIF($L$7:$L$500,N13)","v":2},{"$f":"O13/$Q$4","v":3.1746031746031744E-2},{"$f":"IF(P13=0,0,(P13*((LOG(P13))/LOG(2))))","v":-0.15800888646031477},null,null,{"$f":"N13","v":1221},{"$f":"COUNTIF(L7:L17,T13)","v":0},{"$f":"U13/(W4-U20)","v":0},{"$f":"IF(V13=0,0,(V13*((LOG(V13))/LOG(2))))","v":0},null,{"$f":"N13","v":1221},{"$f":"COUNTIF(L18:L27,Y13)","v":1},{"$f":"Z13/(AB4-Z20)","v":0.1},{"$f":"IF(AA13=0,0,(AA13*((LOG(AA13))/LOG(2))))","v":-0.33219280948873625},null,{"$f":"N13","v":1221},{"$f":"COUNTIF(L28:L38,AD13)","v":0},{"$f":"AE13/(AG4-AE20)","v":0},{"$f":"IF(AF13=0,0,(AF13*((LOG(AF13))/LOG(2))))","v":0},null,{"$f":"N13","v":1221},{"$f":"COUNTIF(L39:L49,AI13)","v":0},{"$f":"AJ13/(AL4-AJ20)","v":0},{"$f":"IF(AK13=0,0,(AK13*((LOG(AK13))/LOG(2))))","v":0},null,{"$f":"N13","v":1221},{"$f":"COUNTIF(L50:L59,AN13)","v":0},{"$f":"AO13/(AQ4-AO20)","v":0},{"$f":"IF(AP13=0,0,(AP13*((LOG(AP13))/LOG(2))))","v":0},null,{"$f":"N13","v":1221},{"$f":"COUNTIF(L60:L70,AS13)","v":1},{"$f":"AT13/(AV4-AT20)","v":0.1111111111111111},{"$f":"IF(AU13=0,0,(AU13*((LOG(AU13))/LOG(2))))","v":-0.3522138890491458}]
[12,1046,14,1057,24,1065,14,1089,null,null,0,1121,null,1222,{"$f":"COUNTIF($L$7:$L$500,N14)","v":0},{"$f":"O14/$Q$4","v":0},{"$f":"IF(P14=0,0,(P14*((LOG(P14))/LOG(2))))","v":0},null,null,{"$f":"N14","v":1222},{"$f":"COUNTIF(L7:L17,T14)","v":0},{"$f":"U14/(W4-U20)","v":0},{"$f":"IF(V14=0,0,(V14*((LOG(V14))/LOG(2))))","v":0},null,{"$f":"N14","v":1222},{"$f":"COUNTIF(L18:L27,Y14)","v":0},{"$f":"Z14/(AB4-Z20)","v":0},{"$f":"IF(AA14=0,0,(AA14*((LOG(AA14))/LOG(2))))","v":0},null,{"$f":"N14","v":1222},{"$f":"COUNTIF(L28:L38,AD14)","v":0},{"$f":"AE14/(AG4-AE20)","v":0},{"$f":"IF(AF14=0,0,(AF14*((LOG(AF14))/LOG(2))))","v":0},null,{"$f":"N14","v":1222},{"$f":"COUNTIF(L39:L49,AI14)","v":0},{"$f":"AJ14/(AL4-AJ20)","v":0},{"$f":"IF(AK14=0,0,(AK14*((LOG(AK14))/LOG(2))))","v":0},null,{"$f":"N14","v":1222},{"$f":"COUNTIF(L50:L59,AN14)","v":0},{"$f":"AO14/(AQ4-AO20)","v":0},{"$f":"IF(AP14=0,0,(AP14*((LOG(AP14))/LOG(2))))","v":0},null,{"$f":"N14","v":1222},{"$f":"COUNTIF(L60:L70,AS14)","v":0},{"$f":"AT14/(AV4-AT20)","v":0},{"$f":"IF(AU14=0,0,(AU14*((LOG(AU14))/LOG(2))))","v":0}]
[21,1210,12,1220,13,1227,23,1241,null,null,0,2112,null,2111,{"$f":"COUNTIF($L$7:$L$500,N15)","v":1},{"$f":"O15/$Q$4","v":1.5873015873015872E-2},{"$f":"IF(P15=0,0,(P15*((LOG(P15))/LOG(2))))","v":-9.4877459103173273E-2},null,null,{"$f":"N15","v":2111},{"$f":"COUNTIF(L7:L17,T15)","v":0},{"$f":"U15/(W4-U20)","v":0},{"$f":"IF(V15=0,0,(V15*((LOG(V15))/LOG(2))))","v":0},null,{"$f":"N15","v":2111},{"$f":"COUNTIF(L18:L27,Y15)","v":0},{"$f":"Z15/(AB4-Z20)","v":0},{"$f":"IF(AA15=0,0,(AA15*((LOG(AA15))/LOG(2))))","v":0},null,{"$f":"N15","v":2111},{"$f":"COUNTIF(L28:L38,AD15)","v":0},{"$f":"AE15/(AG4-AE20)","v":0},{"$f":"IF(AF15=0,0,(AF15*((LOG(AF15))/LOG(2))))","v":0},null,{"$f":"N15","v":2111},{"$f":"COUNTIF(L39:L49,AI15)","v":0},{"$f":"AJ15/(AL4-AJ20)","v":0},{"$f":"IF(AK15=0,0,(AK15*((LOG(AK15))/LOG(2))))","v":0},null,{"$f":"N15","v":2111},{"$f":"COUNTIF(L50:L59,AN15)","v":0},{"$f":"AO15/(AQ4-AO20)","v":0},{"$f":"IF(AP15=0,0,(AP15*((LOG(AP15))/LOG(2))))","v":0},null,{"$f":"N15","v":2111},{"$f":"COUNTIF(L60:L70,AS15)","v":1},{"$f":"AT15/(AV4-AT20)","v":0.1111111111111111},{"$f":"IF(AU15=0,0,(AU15*((LOG(AU15))/LOG(2))))","v":-0.3522138890491458}]
[12,1343,14,1348,13,1353,23,1364,null,null,0,1112,null,2112,{"$f":"COUNTIF($L$7:$L$500,N16)","v":11},{"$f":"O16/$Q$4","v":0.17460317460317459},{"$f":"IF(P16=0,0,(P16*((LOG(P16))/LOG(2))))","v":-0.43962430719823503},null,null,{"$f":"N16","v":2112},{"$f":"COUNTIF(L7:L17,T16)","v":4},{"$f":"U16/(W4-U20)","v":0.36363636363636365},{"$f":"IF(V16=0,0,(V16*((LOG(V16))/LOG(2))))","v":-0.53070240677719893},null,{"$f":"N16","v":2112},{"$f":"COUNTIF(L18:L27,Y16)","v":2},{"$f":"Z16/(AB4-Z20)","v":0.2},{"$f":"IF(AA16=0,0,(AA16*((LOG(AA16))/LOG(2))))","v":-0.46438561897747244},null,{"$f":"N16","v":2112},{"$f":"COUNTIF(L28:L38,AD16)","v":2},{"$f":"AE16/(AG4-AE20)","v":0.18181818181818182},{"$f":"IF(AF16=0,0,(AF16*((LOG(AF16))/LOG(2))))","v":-0.44716938520678134},null,{"$f":"N16","v":2112},{"$f":"COUNTIF(L39:L49,AI16)","v":1},{"$f":"AJ16/(AL4-AJ20)","v":9.0909090909090912E-2},{"$f":"IF(AK16=0,0,(AK16*((LOG(AK16))/LOG(2))))","v":-0.31449378351248153},null,{"$f":"N16","v":2112},{"$f":"COUNTIF(L50:L59,AN16)","v":0},{"$f":"AO16/(AQ4-AO20)","v":0},{"$f":"IF(AP16=0,0,(AP16*((LOG(AP16))/LOG(2))))","v":0},null,{"$f":"N16","v":2112},{"$f":"COUNTIF(L60:L70,AS16)","v":2},{"$f":"AT16/(AV4-AT20)","v":0.22222222222222221},{"$f":"IF(AU16=0,0,(AU16*((LOG(AU16))/LOG(2))))","v":-0.48220555587606945}]
[21,1466,21,1486,22,1498,14,1507,null,null,0,2221,null,2121,{"$f":"COUNTIF($L$7:$L$500,N17)","v":3},{"$f":"O17/$Q$4","v":4.7619047619047616E-2},{"$f":"IF(P17=0,0,(P17*((LOG(P17))/LOG(2))))","v":-0.20915797251327431},null,null,{"$f":"N17","v":2121},{"$f":"COUNTIF(L7:L17,T17)","v":1},{"$f":"U17/(W4-U20)","v":9.0909090909090912E-2},{"$f":"IF(V17=0,0,(V17*((LOG(V17))/LOG(2))))","v":-0.31449378351248153},null,{"$f":"N17","v":2121},{"$f":"COUNTIF(L18:L27,Y17)","v":1},{"$f":"Z17/(AB4-Z20)","v":0.1},{"$f":"IF(AA17=0,0,(AA17*((LOG(AA17))/LOG(2))))","v":-0.33219280948873625},null,{"$f":"N17","v":2121},{"$f":"COUNTIF(L28:L38,AD17)","v":0},{"$f":"AE17/(AG4-AE20)","v":0},{"$f":"IF(AF17=0,0,(AF17*((LOG(AF17))/LOG(2))))","v":0},null,{"$f":"N17","v":2121},{"$f":"COUNTIF(L39:L49,AI17)","v":1},{"$f":"AJ17/(AL4-AJ20)","v":9.0909090909090912E-2},{"$f":"IF(AK17=0,0,(AK17*((LOG(AK17))/LOG(2))))","v":-0.31449378351248153},null,{"$f":"N17","v":2121},{"$f":"COUNTIF(L50:L59,AN17)","v":0},{"$f":"AO17/(AQ4-AO20)","v":0},{"$f":"IF(AP17=0,0,(AP17*((LOG(AP17))/LOG(2))))","v":0},null,{"$f":"N17","v":2121},{"$f":"COUNTIF(L60:L70,AS17)","v":0},{"$f":"AT17/(AV4-AT20)","v":0},{"$f":"IF(AU17=0,0,(AU17*((LOG(AU17))/LOG(2))))","v":0}]
[12,1605,14,1619,13,1640,14,1644,null,null,0,1111,null,2122,{"$f":"COUNTIF($L$7:$L$500,N18)","v":2},{"$f":"O18/$Q$4","v":3.1746031746031744E-2},{"$f":"IF(P18=0,0,(P18*((LOG(P18))/LOG(2))))","v":-0.15800888646031477},null,null,{"$f":"N18","v":2122},{"$f":"COUNTIF(L7:L17,T18)","v":1},{"$f":"U18/(W4-U20)","v":9.0909090909090912E-2},{"$f":"IF(V18=0,0,(V18*((LOG(V18))/LOG(2))))","v":-0.31449378351248153},null,{"$f":"N18","v":2122},{"$f":"COUNTIF(L18:L27,Y18)","v":0},{"$f":"Z18/(AB4-Z20)","v":0},{"$f":"IF(AA18=0,0,(AA18*((LOG(AA18))/LOG(2))))","v":0},null,{"$f":"N18","v":2122},{"$f":"COUNTIF(L28:L38,AD18)","v":0},{"$f":"AE18/(AG4-AE20)","v":0},{"$f":"IF(AF18=0,0,(AF18*((LOG(AF18))/LOG(2))))","v":0},null,{"$f":"N18","v":2122},{"$f":"COUNTIF(L39:L49,AI18)","v":1},{"$f":"AJ18/(AL4-AJ20)","v":9.0909090909090912E-2},{"$f":"IF(AK18=0,0,(AK18*((LOG(AK18))/LOG(2))))","v":-0.31449378351248153},null,{"$f":"N18","v":2122},{"$f":"COUNTIF(L50:L59,AN18)","v":0},{"$f":"AO18/(AQ4-AO20)","v":0},{"$f":"IF(AP18=0,0,(AP18*((LOG(AP18))/LOG(2))))","v":0},null,{"$f":"N18","v":2122},{"$f":"COUNTIF(L60:L70,AS18)","v":0},{"$f":"AT18/(AV4-AT20)","v":0},{"$f":"IF(AU18=0,0,(AU18*((LOG(AU18))/LOG(2))))","v":0}]
[12,1803,14,1807,24,1826,14,1842,null,null,0,1121,null,2211,{"$f":"COUNTIF($L$7:$L$500,N19)","v":2},{"$f":"O19/$Q$4","v":3.1746031746031744E-2},{"$f":"IF(P19=0,0,(P19*((LOG(P19))/LOG(2))))","v":-0.15800888646031477},null,null,{"$f":"N19","v":2211},{"$f":"COUNTIF(L7:L17,T19)","v":0},{"$f":"U19/(W4-U20)","v":0},{"$f":"IF(V19=0,0,(V19*((LOG(V19))/LOG(2))))","v":0},null,{"$f":"N19","v":2211},{"$f":"COUNTIF(L18:L27,Y19)","v":0},{"$f":"Z19/(AB4-Z20)","v":0},{"$f":"IF(AA19=0,0,(AA19*((LOG(AA19))/LOG(2))))","v":0},null,{"$f":"N19","v":2211},{"$f":"COUNTIF(L28:L38,AD19)","v":0},{"$f":"AE19/(AG4-AE20)","v":0},{"$f":"IF(AF19=0,0,(AF19*((LOG(AF19))/LOG(2))))","v":0},null,{"$f":"N19","v":2211},{"$f":"COUNTIF(L39:L49,AI19)","v":1},{"$f":"AJ19/(AL4-AJ20)","v":9.0909090909090912E-2},{"$f":"IF(AK19=0,0,(AK19*((LOG(AK19))/LOG(2))))","v":-0.31449378351248153},null,{"$f":"N19","v":2211},{"$f":"COUNTIF(L50:L59,AN19)","v":0},{"$f":"AO19/(AQ4-AO20)","v":0},{"$f":"IF(AP19=0,0,(AP19*((LOG(AP19))/LOG(2))))","v":0},null,{"$f":"N19","v":2211},{"$f":"COUNTIF(L60:L70,AS19)","v":1},{"$f":"AT19/(AV4-AT20)","v":0.1111111111111111},{"$f":"IF(AU19=0,0,(AU19*((LOG(AU19))/LOG(2))))","v":-0.3522138890491458}]
[21,1998,12,2015,13,2023,23,2036,null,null,0,2112,null,2212,{"$f":"COUNTIF($L$7:$L$500,N20)","v":1},{"$f":"O20/$Q$4","v":1.5873015873015872E-2},{"$f":"IF(P20=0,0,(P20*((LOG(P20))/LOG(2))))","v":-9.4877459103173273E-2},null,null,{"$f":"N20","v":2212},{"$f":"COUNTIF(L7:L17,T20)","v":0},null,null,null,{"$f":"N20","v":2212},{"$f":"COUNTIF(L18:L27,Y20)","v":0},null,null,null,{"$f":"N20","v":2212},{"$f":"COUNTIF(L28:L38,AD20)","v":0},null,null,null,{"$f":"N20","v":2212},{"$f":"COUNTIF(L39:L49,AI20)","v":0},null,null,null,{"$f":"N20","v":2212},{"$f":"COUNTIF(L50:L59,AN20)","v":0},null,null,null,{"$f":"N20","v":2212},{"$f":"COUNTIF(L60:L70,AS20)","v":1}]
[12,2154,14,2186,24,2220,14,2231,null,null,0,1121,null,2221,{"$f":"COUNTIF($L$7:$L$500,N21)","v":6},{"$f":"O21/$Q$4","v":9.5238095238095233E-2},{"$f":"IF(P21=0,0,(P21*((LOG(P21))/LOG(2))))","v":-0.32307784978845333},null,null,{"$f":"N21","v":2221},{"$f":"COUNTIF(L7:L17,T21)","v":1},{"$f":"U21/(W4-U20)","v":9.0909090909090912E-2},{"$f":"IF(V21=0,0,(V21*((LOG(V21))/LOG(2))))","v":-0.31449378351248153},null,{"$f":"N21","v":2221},{"$f":"COUNTIF(L18:L27,Y21)","v":0},{"$f":"Z21/(AB4-Z20)","v":0},{"$f":"IF(AA21=0,0,(AA21*((LOG(AA21))/LOG(2))))","v":0},null,{"$f":"N21","v":2221},{"$f":"COUNTIF(L28:L38,AD21)","v":0},{"$f":"AE21/(AG4-AE20)","v":0},{"$f":"IF(AF21=0,0,(AF21*((LOG(AF21))/LOG(2))))","v":0},null,{"$f":"N21","v":2221},{"$f":"COUNTIF(L39:L49,AI21)","v":1},{"$f":"AJ21/(AL4-AJ20)","v":9.0909090909090912E-2},{"$f":"IF(AK21=0,0,(AK21*((LOG(AK21))/LOG(2))))","v":-0.31449378351248153},null,{"$f":"N21","v":2221},{"$f":"COUNTIF(L50:L59,AN21)","v":3},{"$f":"AO21/(AQ4-AO20)","v":0.3},{"$f":"IF(AP21=0,0,(AP21*((LOG(AP21))/LOG(2))))","v":-0.52108967824986185},null,{"$f":"N21","v":2221},{"$f":"COUNTIF(L60:L70,AS21)","v":1},{"$f":"AT21/(AV4-AT20)","v":0.1111111111111111},{"$f":"IF(AU21=0,0,(AU21*((LOG(AU21))/LOG(2))))","v":-0.3522138890491458}]
[21,2430,12,2499,24,2512,14,2537,null,null,0,2121,null,2222,{"$f":"COUNTIF($L$7:$L$500,N22)","v":12},{"$f":"O22/$Q$4","v":0.19047619047619047},{"$f":"IF(P22=0,0,(P22*((LOG(P22))/LOG(2))))","v":-0.4556795091007162},null,null,{"$f":"N22","v":2222},{"$f":"COUNTIF(L7:L17,T22)","v":0},{"$f":"U22/(W4-U20)","v":0},{"$f":"IF(V22=0,0,(V22*((LOG(V22))/LOG(2))))","v":0},null,{"$f":"N22","v":2222},{"$f":"COUNTIF(L18:L27,Y22)","v":0},{"$f":"Z22/(AB4-Z20)","v":0},{"$f":"IF(AA22=0,0,(AA22*((LOG(AA22))/LOG(2))))","v":0},null,{"$f":"N22","v":2222},{"$f":"COUNTIF(L28:L38,AD22)","v":1},{"$f":"AE22/(AG4-AE20)","v":9.0909090909090912E-2},{"$f":"IF(AF22=0,0,(AF22*((LOG(AF22))/LOG(2))))","v":-0.31449378351248153},null,{"$f":"N22","v":2222},{"$f":"COUNTIF(L39:L49,AI22)","v":2},{"$f":"AJ22/(AL4-AJ20)","v":0.18181818181818182},{"$f":"IF(AK22=0,0,(AK22*((LOG(AK22))/LOG(2))))","v":-0.44716938520678134},null,{"$f":"N22","v":2222},{"$f":"COUNTIF(L50:L59,AN22)","v":7},{"$f":"AO22/(AQ4-AO20)","v":0.7},{"$f":"IF(AP22=0,0,(AP22*((LOG(AP22))/LOG(2))))","v":-0.36020122098083079},null,{"$f":"N22","v":2222},{"$f":"COUNTIF(L60:L70,AS22)","v":2},{"$f":"AT22/(AV4-AT20)","v":0.22222222222222221},{"$f":"IF(AU22=0,0,(AU22*((LOG(AU22))/LOG(2))))","v":-0.48220555587606945}]
[12,2689,14,2732,13,2747,14,2751,null,null,0,1111,null,null,null,{"$f":"SUM(P7:P22)","v":0.99999999999999989},{"$f":"-SUM(Q7:Q22)","v":3.3985914187551813},null,null,null,null,{"$f":"SUM(V7:V22)","v":1},{"$f":"-SUM(W7:W22)","v":2.7321588913645702},null,null,null,{"$f":"SUM(AA7:AA22)","v":1.0000000000000002},{"$f":"-SUM(AB7:AB22)","v":2.4464393446710155},null,null,null,{"$f":"SUM(AF7:AF22)","v":1},{"$f":"-SUM(AG7:AG22)","v":2.4130884364257574},null,null,null,{"$f":"SUM(AK7:AK22)","v":1.0000000000000002},{"$f":"-SUM(AL7:AL22)","v":3.0957952550009336},null,null,null,{"$f":"SUM(AP7:AP22)","v":1},{"$f":"-SUM(AQ7:AQ22)","v":0.8812908992306927},null,null,null,{"$f":"SUM(AU7:AU22)","v":1},{"$f":"-SUM(AV7:AV22)","v":2.725480556997868}]
[12,2891,14,2895,13,2899,23,2910,null,null,0,1112,null,null,null,"U=",{"$f":"Q23/(LOG(Q4)/LOG(2))","v":0.56858495206046522},null,null,null,null,"U1=",{"$f":"W23/(LOG(W4)/LOG(2))","v":0.78977103540517246},null,null,null,"U2=",{"$f":"AB23/(LOG(AB4)/LOG(2))","v":0.73645162531850883},null,null,null,"U3=",{"$f":"AG23/(LOG(AG4)/LOG(2))","v":0.69753898976511508},null,null,null,"U4=",{"$f":"AL23/(LOG(AL4)/LOG(2))","v":0.89488551770258606},null,null,null,"U5=",{"$f":"AQ23/(LOG(AQ4)/LOG(2))","v":0.26529499557412151},null,null,null,"U6=",{"$f":"AV23/(LOG(AV4)/LOG(2))","v":0.82045140025533325}]
[21,3038,12,3054,13,3098,23,3126,null,null,0,2112]
[12,3305,14,3309,13,3346,14,3352,null,null,0,1111]
[12,3512,23,3543,24,3553,14,3569,null,null,0,1221,null,"Total Target Seq"]
[12,3737,23,3759,13,3777,14,3781,null,null,0,1211,null,{"$f":"COUNTIF(L7:L70,G3)","v":1},null,11,10,11,11,10,11]
[21,3912,21,3942,22,3952,23,3973,null,null,0,2222,null,null,null,"% of reinforcement given in 6 equal intervals based on number of trials "]
[21,4195,12,4230,13,4234,23,4246,null,null,0,2112,null,null,null,"%_1","%_2","%_3","%_4","%_5","%_6"]
[12,4399,14,4416,13,4434,23,4446,null,null,0,1112,null,null,"target sequence",{"$f":"$G$3","v":2212},{"$f":"$G$3","v":2212},{"$f":"$G$3","v":2212},{"$f":"$G$3","v":2212},{"$f":"$G$3","v":2212},{"$f":"$G$3","v":2212}]
[12,4692,14,4701,13,4737,14,4751,null,null,0,1111,null,null,"total reinforcement",{"$f":"U20","v":0},{"$f":"Z20","v":0},{"$f":"AE20","v":0},{"$f":"AJ20","v":0},{"$f":"AO20","v":0},{"$f":"AT20","v":1}]
[12,4896,14,4904,13,4925,23,4934,null,null,0,1112,null,null,"% target"]
[12,5052,14,5057,13,5066,14,5097,null,null,0,1111,null,null,"CCRF"]
[12,5370,23,5383,13,5406,23,5427,null,null,0,1212,null,null,"% CCRf"]
[21,5573,12,5584,13,5592,23,5611,null,null,0,2112,null,null,"average response rate",{"$f":"H17/P28","v":137},{"$f":"(H27-H17)/Q28","v":206.2},{"$f":"(H38-H27)/R28","v":224.45454545454547},{"$f":"(H49-H38)/S28","v":245.54545454545453},{"$f":"(H59-H49)/T28","v":1084.0999999999999},{"$f":"(H70-H59)/U28","v":-1780}]
[12,5795,14,5835,13,5842,14,5872,null,null,0,1111]
[12,6010,14,6014,13,6024,23,6038,null,null,0,1112]
[12,6349,14,6358,24,6378,14,6393,null,null,0,1121]
[21,6599,12,6627,24,6636,14,6649,null,null,0,2121]
[12,6791,14,6798,24,6834,14,6848,null,null,0,1121]
[21,7009,21,7036,11,7059,12,7064,null,null,0,2211]
[21,7208,12,7219,13,7224,23,7246,null,null,0,2112]
[12,7421,23,7439,13,7454,14,7458,null,null,0,1211]
[21,7594,21,7604,22,7647,23,7665,null,null,0,2222]
[21,7866,12,7881,24,7920,23,7937,null,null,0,2122]
[12,8066,14,8079,13,8084,14,8097,null,null,0,1111]
[21,8366,21,8404,22,8428,14,8443,null,null,0,2221]
[21,8688,21,8721,22,8731,23,8739,null,null,0,2222]
[21,8885,21,8940,22,8960,23,8982,null,null,0,2222]
[21,9239,21,9249,22,9277,23,9371,null,null,0,2222]
[21,12078,21,12101,22,12123,14,12142,null,null,0,2221]
[21,12268,21,12294,22,12314,14,12334,null,null,0,2221]
[21,12483,21,12513,22,12530,14,12577,null,null,0,2221]
[21,13003,21,13023,22,13040,23,13055,null,null,0,2222]
[21,15160,21,15170,22,15197,23,15224,null,null,0,2222]
[21,15408,21,15447,22,15469,23,15504,null,null,0,2222]
[21,18609,21,18622,22,18658,23,18679,null,null,0,2222]
[21,19510,21,19523,22,19540,23,19580,null,null,0,2222]
[21,19718,21,19745,22,19922,23,19934,null,null,0,2222]
[12,20312,23,20321,24,20356,14,20390,null,null,0,1221]
[21,20720,21,20735,22,20787,14,20797,null,null,0,2221]
[21,21083,21,21492,22,21555,23,22145,null,null,0,2222]
[21,22484,21,22500,11,22536,21,22552,null,null,0,2212]
[21,22911,12,22926,13,22931,14,22936,null,null,0,2111]
[21,23069,12,23082,13,23086,23,23096,null,null,0,2112]
[21,23218,12,23231,13,23239,23,23250,null,null,0,2112]
[12,23387,14,23407,13,23449,23,23457,null,null,0,1112]
[21,23650,21,23663,11,23708,12,23745,null,null,0,2211]
[21,23980,null,null,null,null,null,null,null,null,null,2]

{"sheet":"!MA22840.096","index":12,"n_rows":94,"n_cols":48,"rows_kept":94,"cut":false,"hidden":false,"merged":[[4,39,4,42],[5,39,5,40],[4,44,4,47],[5,44,5,45],[4,24,4,27],[5,24,5,25],[4,29,4,32],[5,29,5,30],[4,34,4,37],[5,34,5,35],[1,1,1,2],[5,13,5,14],[26,13,26,14],[27,13,27,14],[4,19,4,22],[5,19,5,20]]}
["Report for:!MA22840.096"]
["Date:","<date>"]
["Hen:","<hen>",null,null,null,"Correct Sequence",{"$f":"Start!J2","v":2212},null,null,null,null,null,null,null,null,"Total Sequences in Data",{"$f":"4994-COUNTBLANK(L7:L5000)","v":88},null,null,null,null,"Total Sequences in Block Data",{"$f":"COUNTA(L7:L21)","v":15},null,null,null,"Total Sequences in Block Data",{"$f":"COUNTA(L22:L35)","v":14},null,null,null,"Total Sequences in Block Data",{"$f":"COUNTA(L36:L50)","v":15},null,null,null,"Total Sequences in Block Data",{"$f":"COUNTA(L51:L65)","v":15},null,null,null,"Total Sequences in Block Data",{"$f":"COUNTA(L66:L79)","v":14},null,null,null,"Total Sequences in Block Data",{"$f":"COUNTA(L80:L94)","v":15}]
[null,null,null,null,null,null,null,null,null,null,null,null,null,null,null,"Total Sequences in Summary",{"$f":"SUM(O7:O22)","v":88},null,null,null,null,"Total Sequences in Block Summary",{"$f":"SUM(U7:U22)","v":15},null,null,null,"Total Sequences in Block Summary",{"$f":"SUM(Z7:Z22)","v":14},null,null,null,"Total Sequences in Block Summary",{"$f":"SUM(AE7:AE22)","v":15},null,null,null,"Total Sequences in Block Summary",{"$f":"SUM(AJ7:AJ22)","v":15},null,null,null,"Total Sequences in Block Summary",{"$f":"SUM(AO7:AO22)","v":14},null,null,null,"Total Sequences in Block Summary",{"$f":"SUM(AT7:AT22)","v":15}]
[null,null,null,null,null,null,null,null,null,null,null,null,null,null,null,null,null,null,null,"Block 1",null,null,null,null,"Block 2",null,null,null,null,"Block 3",null,null,null,null,"Block 4",null,null,null,null,"Block 5",null,null,null,null,"Block 6"]
["Sequence\nComponent\n1","Time\n1","Sequence\nComponent\n2","Time\n2","Sequence\nComponent\n3","Time\n3","Sequence\nComponent\n4","Time\n4","Sequence\nComponent\n5","Time\n5","Correct?\n0=No 1=Yes","Sequence",null,"Frequency",null,"Relative Frequency","Variability",null,null,"Frequency",null,"Relative Frequency","Variability",null,"Frequency",null,"Relative Frequency","Variability",null,"Frequency",null,"Relative Frequency","Variability",null,"Frequency",null,"Relative Frequency","Variability",null,"Frequency",null,"Relative Frequency","Variability",null,"Frequency",null,"Relative Frequency","Variability"]
[21,10,12,27,13,36,14,57,null,null,0,2111,null,1111,{"$f":"COUNTIF($L$7:$L$500,N7)","v":2},{"$f":"O7/$Q$4","v":2.2727272727272728E-2},{"$f":"IF(P7=0,0,(P7*((LOG(P7))/LOG(2))))","v":-0.12407799133266585},null,null,{"$f":"N7","v":1111},{"$f":"COUNTIF(L7:L21,T7)","v":0},{"$f":"U7/(W4-U20)","v":0},{"$f":"IF(V7=0,0,(V7*((LOG(V7))/LOG(2))))","v":0},null,{"$f":"N7","v":1111},{"$f":"COUNTIF(L22:L35,Y7)","v":0},{"$f":"Z7/(AB4-Z20)","v":0},{"$f":"IF(AA7=0,0,(AA7*((LOG(AA7))/LOG(2))))","v":0},null,{"$f":"N7","v":1111},{"$f":"COUNTIF(L36:L50,AD7)","v":0},{"$f":"AE7/(AG4-AE20)","v":0},{"$f":"IF(AF7=0,0,(AF7*((LOG(AF7))/LOG(2))))","v":0},null,{"$f":"N7","v":1111},{"$f":"COUNTIF(L51:L65,AI7)","v":0},{"$f":"AJ7/(AL4-AJ20)","v":0},{"$f":"IF(AK7=0,0,(AK7*((LOG(AK7))/LOG(2))))","v":0},null,{"$f":"N7","v":1111},{"$f":"COUNTIF(L66:L79,AN7)","v":1},{"$f":"AO7/(AQ4-AO20)","v":8.3333333333333329E-2},{"$f":"IF(AP7=0,0,(AP7*((LOG(AP7))/LOG(2))))","v":-0.29874687506009634},null,{"$f":"N7","v":1111},{"$f":"COUNTIF(L80:L94,AS7)","v":1},{"$f":"AT7/(AV4-AT20)","v":7.6923076923076927E-2},{"$f":"IF(AU7=0,0,(AU7*((LOG(AU7))/LOG(2))))","v":-0.28464920908777636}]
[12,158,14,163,24,179,14,196,null,null,0,1121,null,1112,{"$f":"COUNTIF($L$7:$L$500,N8)","v":6},{"$f":"O8/$Q$4","v":6.8181818181818177E-2},{"$f":"IF(P8=0,0,(P8*((LOG(P8))/LOG(2))))","v":-0.26416834894882779},null,null,{"$f":"N8","v":1112},{"$f":"COUNTIF(L7:L21,T8)","v":0},{"$f":"U8/(W4-U20)","v":0},{"$f":"IF(V8=0,0,(V8*((LOG(V8))/LOG(2))))","v":0},null,{"$f":"N8","v":1112},{"$f":"COUNTIF(L22:L35,Y8)","v":0},{"$f":"Z8/(AB4-Z20)","v":0},{"$f":"IF(AA8=0,0,(AA8*((LOG(AA8))/LOG(2))))","v":0},null,{"$f":"N8","v":1112},{"$f":"COUNTIF(L36:L50,AD8)","v":3},{"$f":"AE8/(AG4-AE20)","v":0.21428571428571427},{"$f":"IF(AF8=0,0,(AF8*((LOG(AF8))/LOG(2))))","v":-0.47622694742923877},null,{"$f":"N8","v":1112},{"$f":"COUNTIF(L51:L65,AI8)","v":1},{"$f":"AJ8/(AL4-AJ20)","v":7.1428571428571425E-2},{"$f":"IF(AK8=0,0,(AK8*((LOG(AK8))/LOG(2))))","v":-0.27195392300411453},null,{"$f":"N8","v":1112},{"$f":"COUNTIF(L66:L79,AN8)","v":1},{"$f":"AO8/(AQ4-AO20)","v":8.3333333333333329E-2},{"$f":"IF(AP8=0,0,(AP8*((LOG(AP8))/LOG(2))))","v":-0.29874687506009634},null,{"$f":"N8","v":1112},{"$f":"COUNTIF(L80:L94,AS8)","v":1},{"$f":"AT8/(AV4-AT20)","v":7.6923076923076927E-2},{"$f":"IF(AU8=0,0,(AU8*((LOG(AU8))/LOG(2))))","v":-0.28464920908777636}]
[21,298,21,321,22,386,23,394,null,null,0,2222,null,1121,{"$f":"COUNTIF($L$7:$L$500,N9)","v":3},{"$f":"O9/$Q$4","v":3.4090909090909088E-2},{"$f":"IF(P9=0,0,(P9*((LOG(P9))/LOG(2))))","v":-0.16617508356532298},null,null,{"$f":"N9","v":1121},{"$f":"COUNTIF(L7:L21,T9)","v":2},{"$f":"U9/(W4-U20)","v":0.15384615384615385},{"$f":"IF(V9=0,0,(V9*((LOG(V9))/LOG(2))))","v":-0.4154522643293988},null,{"$f":"N9","v":1121},{"$f":"COUNTIF(L22:L35,Y9)","v":1},{"$f":"Z9/(AB4-Z20)","v":7.1428571428571425E-2},{"$f":"IF(AA9=0,0,(AA9*((LOG(AA9))/LOG(2))))","v":-0.27195392300411453},null,{"$f":"N9","v":1121},{"$f":"COUNTIF(L36:L50,AD9)","v":0},{"$f":"AE9/(AG4-AE20)","v":0},{"$f":"IF(AF9=0,0,(AF9*((LOG(AF9))/LOG(2))))","v":0},null,{"$f":"N9","v":1121},{"$f":"COUNTIF(L51:L65,AI9)","v":0},{"$f":"AJ9/(AL4-AJ20)","v":0},{"$f":"IF(AK9=0,0,(AK9*((LOG(AK9))/LOG(2))))","v":0},null,{"$f":"N9","v":1121},{"$f":"COUNTIF(L66:L79,AN9)","v":0},{"$f":"AO9/(AQ4-AO20)","v":0},{"$f":"IF(AP9=0,0,(AP9*((LOG(AP9))/LOG(2))))","v":0},null,{"$f":"N9","v":1121},{"$f":"COUNTIF(L80:L94,AS9)","v":0},{"$f":"AT9/(AV4-AT20)","v":0},{"$f":"IF(AU9=0,0,(AU9*((LOG(AU9))/LOG(2))))","v":0}]
[21,535,21,602,11,618,21,638,null,null,0,2212,null,1122,{"$f":"COUNTIF($L$7:$L$500,N10)","v":3},{"$f":"O10/$Q$4","v":3.4090909090909088E-2},{"$f":"IF(P10=0,0,(P10*((LOG(P10))/LOG(2))))","v":-0.16617508356532298},null,null,{"$f":"N10","v":1122},{"$f":"COUNTIF(L7:L21,T10)","v":0},{"$f":"U10/(W4-U20)","v":0},{"$f":"IF(V10=0,0,(V10*((LOG(V10))/LOG(2))))","v":0},null,{"$f":"N10","v":1122},{"$f":"COUNTIF(L22:L35,Y10)","v":2},{"$f":"Z10/(AB4-Z20)","v":0.14285714285714285},{"$f":"IF(AA10=0,0,(AA10*((LOG(AA10))/LOG(2))))","v":-0.40105070315108626},null,{"$f":"N10","v":1122},{"$f":"COUNTIF(L36:L50,AD10)","v":0},{"$f":"AE10/(AG4-AE20)","v":0},{"$f":"IF(AF10=0,0,(AF10*((LOG(AF10))/LOG(2))))","v":0},null,{"$f":"N10","v":1122},{"$f":"COUNTIF(L51:L65,AI10)","v":0},{"$f":"AJ10/(AL4-AJ20)","v":0},{"$f":"IF(AK10=0,0,(AK10*((LOG(AK10))/LOG(2))))","v":0},null,{"$f":"N10","v":1122},{"$f":"COUNTIF(L66:L79,AN10)","v":0},{"$f":"AO10/(AQ4-AO20)","v":0},{"$f":"IF(AP10=0,0,(AP10*((LOG(AP10))/LOG(2))))","v":0},null,{"$f":"N10","v":1122},{"$f":"COUNTIF(L80:L94,AS10)","v":1},{"$f":"AT10/(AV4-AT20)","v":7.6923076923076927E-2},{"$f":"IF(AU10=0,0,(AU10*((LOG(AU10))/LOG(2))))","v":-0.28464920908777636}]
[21,759,21,803,22,827,23,857,null,null,0,2222,null,1211,{"$f":"COUNTIF($L$7:$L$500,N11)","v":0},{"$f":"O11/$Q$4","v":0},{"$f":"IF(P11=0,0,(P11*((LOG(P11))/LOG(2))))","v":0},null,null,{"$f":"N11","v":1211},{"$f":"COUNTIF(L7:L21,T11)","v":0},{"$f":"U11/(W4-U20)","v":0},{"$f":"IF(V11=0,0,(V11*((LOG(V11))/LOG(2))))","v":0},null,{"$f":"N11","v":1211},{"$f":"COUNTIF(L22:L35,Y11)","v":0},{"$f":"Z11/(AB4-Z20)","v":0},{"$f":"IF(AA11=0,0,(AA11*((LOG(AA11))/LOG(2))))","v":0},null,{"$f":"N11","v":1211},{"$f":"COUNTIF(L36:L50,AD11)","v":0},{"$f":"AE11/(AG4-AE20)","v":0},{"$f":"IF(AF11=0,0,(AF11*((LOG(AF11))/LOG(2))))","v":0},null,{"$f":"N11","v":1211},{"$f":"COUNTIF(L51:L65,AI11)","v":0},{"$f":"AJ11/(AL4-AJ20)","v":0},{"$f":"IF(AK11=0,0,(AK11*((LOG(AK11))/LOG(2))))","v":0},null,{"$f":"N11","v":1211},{"$f":"COUNTIF(L66:L79,AN11)","v":0},{"$f":"AO11/(AQ4-AO20)","v":0},{"$f":"IF(AP11=0,0,(AP11*((LOG(AP11))/LOG(2))))","v":0},null,{"$f":"N11","v":1211},{"$f":"COUNTIF(L80:L94,AS11)","v":0},{"$f":"AT11/(AV4-AT20)","v":0},{"$f":"IF(AU11=0,0,(AU11*((LOG(AU11))/LOG(2))))","v":0}]
[12,1074,14,1114,24,1127,14,1164,null,null,0,1121,null,1212,{"$f":"COUNTIF($L$7:$L$500,N12)","v":8},{"$f":"O12/$Q$4","v":9.0909090909090912E-2},{"$f":"IF(P12=0,0,(P12*((LOG(P12))/LOG(2))))","v":-0.31449378351248153},null,null,{"$f":"N12","v":1212},{"$f":"COUNTIF(L7:L21,T12)","v":0},{"$f":"U12/(W4-U20)","v":0},{"$f":"IF(V12=0,0,(V12*((LOG(V12))/LOG(2))))","v":0},null,{"$f":"N12","v":1212},{"$f":"COUNTIF(L22:L35,Y12)","v":4},{"$f":"Z12/(AB4-Z20)","v":0.2857142857142857},{"$f":"IF(AA12=0,0,(AA12*((LOG(AA12))/LOG(2))))","v":-0.51638712058788683},null,{"$f":"N12","v":1212},{"$f":"COUNTIF(L36:L50,AD12)","v":1},{"$f":"AE12/(AG4-AE20)","v":7.1428571428571425E-2},{"$f":"IF(AF12=0,0,(AF12*((LOG(AF12))/LOG(2))))","v":-0.27195392300411453},null,{"$f":"N12","v":1212},{"$f":"COUNTIF(L51:L65,AI12)","v":2},{"$f":"AJ12/(AL4-AJ20)","v":0.14285714285714285},{"$f":"IF(AK12=0,0,(AK12*((LOG(AK12))/LOG(2))))","v":-0.40105070315108626},null,{"$f":"N12","v":1212},{"$f":"COUNTIF(L66:L79,AN12)","v":0},{"$f":"AO12/(AQ4-AO20)","v":0},{"$f":"IF(AP12=0,0,(AP12*((LOG(AP12))/LOG(2))))","v":0},null,{"$f":"N12","v":1212},{"$f":"COUNTIF(L80:L94,AS12)","v":1},{"$f":"AT12/(AV4-AT20)","v":7.6923076923076927E-2},{"$f":"IF(AU12=0,0,(AU12*((LOG(AU12))/LOG(2))))","v":-0.28464920908777636}]
[21,1334,21,1354,22,1389,23,1409,null,null,0,2222,null,1221,{"$f":"COUNTIF($L$7:$L$500,N13)","v":10},{"$f":"O13/$Q$4","v":0.11363636363636363},{"$f":"IF(P13=0,0,(P13*((LOG(P13))/LOG(2))))","v":-0.35653449133521992},null,null,{"$f":"N13","v":1221},{"$f":"COUNTIF(L7:L21,T13)","v":0},{"$f":"U13/(W4-U20)","v":0},{"$f":"IF(V13=0,0,(V13*((LOG(V13))/LOG(2))))","v":0},null,{"$f":"N13","v":1221},{"$f":"COUNTIF(L22:L35,Y13)","v":4},{"$f":"Z13/(AB4-Z20)","v":0.2857142857142857},{"$f":"IF(AA13=0,0,(AA13*((LOG(AA13))/LOG(2))))","v":-0.51638712058788683},null,{"$f":"N13","v":1221},{"$f":"COUNTIF(L36:L50,AD13)","v":1},{"$f":"AE13/(AG4-AE20)","v":7.1428571428571425E-2},{"$f":"IF(AF13=0,0,(AF13*((LOG(AF13))/LOG(2))))","v":-0.27195392300411453},null,{"$f":"N13","v":1221},{"$f":"COUNTIF(L51:L65,AI13)","v":3},{"$f":"AJ13/(AL4-AJ20)","v":0.21428571428571427},{"$f":"IF(AK13=0,0,(AK13*((LOG(AK13))/LOG(2))))","v":-0.47622694742923877},null,{"$f":"N13","v":1221},{"$f":"COUNTIF(L66:L79,AN13)","v":1},{"$f":"AO13/(AQ4-AO20)","v":8.3333333333333329E-2},{"$f":"IF(AP13=0,0,(AP13*((LOG(AP13))/LOG(2))))","v":-0.29874687506009634},null,{"$f":"N13","v":1221},{"$f":"COUNTIF(L80:L94,AS13)","v":1},{"$f":"AT13/(AV4-AT20)","v":7.6923076923076927E-2},{"$f":"IF(AU13=0,0,(AU13*((LOG(AU13))/LOG(2))))","v":-0.28464920908777636}]
[21,1580,21,1618,22,1643,23,1662,null,null,0,2222,null,1222,{"$f":"COUNTIF($L$7:$L$500,N14)","v":8},{"$f":"O14/$Q$4","v":9.0909090909090912E-2},{"$f":"IF(P14=0,0,(P14*((LOG(P14))/LOG(2))))","v":-0.31449378351248153},null,null,{"$f":"N14","v":1222},{"$f":"COUNTIF(L7:L21,T14)","v":1},{"$f":"U14/(W4-U20)","v":7.6923076923076927E-2},{"$f":"IF(V14=0,0,(V14*((LOG(V14))/LOG(2))))","v":-0.28464920908777636},null,{"$f":"N14","v":1222},{"$f":"COUNTIF(L22:L35,Y14)","v":1},{"$f":"Z14/(AB4-Z20)","v":7.1428571428571425E-2},{"$f":"IF(AA14=0,0,(AA14*((LOG(AA14))/LOG(2))))","v":-0.27195392300411453},null,{"$f":"N14","v":1222},{"$f":"COUNTIF(L36:L50,AD14)","v":3},{"$f":"AE14/(AG4-AE20)","v":0.21428571428571427},{"$f":"IF(AF14=0,0,(AF14*((LOG(AF14))/LOG(2))))","v":-0.47622694742923877},null,{"$f":"N14","v":1222},{"$f":"COUNTIF(L51:L65,AI14)","v":2},{"$f":"AJ14/(AL4-AJ20)","v":0.14285714285714285},{"$f":"IF(AK14=0,0,(AK14*((LOG(AK14))/LOG(2))))","v":-0.40105070315108626},null,{"$f":"N14","v":1222},{"$f":"COUNTIF(L66:L79,AN14)","v":1},{"$f":"AO14/(AQ4-AO20)","v":8.3333333333333329E-2},{"$f":"IF(AP14=0,0,(AP14*((LOG(AP14))/LOG(2))))","v":-0.29874687506009634},null,{"$f":"N14","v":1222},{"$f":"COUNTIF(L80:L94,AS14)","v":0},{"$f":"AT14/(AV4-AT20)","v":0},{"$f":"IF(AU14=0,0,(AU14*((LOG(AU14))/LOG(2))))","v":0}]
[21,2058,12,2070,24,2081,23,2125,null,null,0,2122,null,2111,{"$f":"COUNTIF($L$7:$L$500,N15)","v":2},{"$f":"O15/$Q$4","v":2.2727272727272728E-2},{"$f":"IF(P15=0,0,(P15*((LOG(P15))/LOG(2))))","v":-0.12407799133266585},null,null,{"$f":"N15","v":2111},{"$f":"COUNTIF(L7:L21,T15)","v":1},{"$f":"U15/(W4-U20)","v":7.6923076923076927E-2},{"$f":"IF(V15=0,0,(V15*((LOG(V15))/LOG(2))))","v":-0.28464920908777636},null,{"$f":"N15","v":2111},{"$f":"COUNTIF(L22:L35,Y15)","v":0},{"$f":"Z15/(AB4-Z20)","v":0},{"$f":"IF(AA15=0,0,(AA15*((LOG(AA15))/LOG(2))))","v":0},null,{"$f":"N15","v":2111},{"$f":"COUNTIF(L36:L50,AD15)","v":0},{"$f":"AE15/(AG4-AE20)","v":0},{"$f":"IF(AF15=0,0,(AF15*((LOG(AF15))/LOG(2))))","v":0},null,{"$f":"N15","v":2111},{"$f":"COUNTIF(L51:L65,AI15)","v":0},{"$f":"AJ15/(AL4-AJ20)","v":0},{"$f":"IF(AK15=0,0,(AK15*((LOG(AK15))/LOG(2))))","v":0},null,{"$f":"N15","v":2111},{"$f":"COUNTIF(L66:L79,AN15)","v":1},{"$f":"AO15/(AQ4-AO20)","v":8.3333333333333329E-2},{"$f":"IF(AP15=0,0,(AP15*((LOG(AP15))/LOG(2))))","v":-0.29874687506009634},null,{"$f":"N15","v":2111},{"$f":"COUNTIF(L80:L94,AS15)","v":0},{"$f":"AT15/(AV4-AT20)","v":0},{"$f":"IF(AU15=0,0,(AU15*((LOG(AU15))/LOG(2))))","v":0}]
[21,2291,21,2306,22,2327,14,2341,null,null,0,2221,null,2112,{"$f":"COUNTIF($L$7:$L$500,N16)","v":2},{"$f":"O16/$Q$4","v":2.2727272727272728E-2},{"$f":"IF(P16=0,0,(P16*((LOG(P16))/LOG(2))))","v":-0.12407799133266585},null,null,{"$f":"N16","v":2112},{"$f":"COUNTIF(L7:L21,T16)","v":0},{"$f":"U16/(W4-U20)","v":0},{"$f":"IF(V16=0,0,(V16*((LOG(V16))/LOG(2))))","v":0},null,{"$f":"N16","v":2112},{"$f":"COUNTIF(L22:L35,Y16)","v":0},{"$f":"Z16/(AB4-Z20)","v":0},{"$f":"IF(AA16=0,0,(AA16*((LOG(AA16))/LOG(2))))","v":0},null,{"$f":"N16","v":2112},{"$f":"COUNTIF(L36:L50,AD16)","v":1},{"$f":"AE16/(AG4-AE20)","v":7.1428571428571425E-2},{"$f":"IF(AF16=0,0,(AF16*((LOG(AF16))/LOG(2))))","v":-0.27195392300411453},null,{"$f":"N16","v":2112},{"$f":"COUNTIF(L51:L65,AI16)","v":1},{"$f":"AJ16/(AL4-AJ20)","v":7.1428571428571425E-2},{"$f":"IF(AK16=0,0,(AK16*((LOG(AK16))/LOG(2))))","v":-0.27195392300411453},null,{"$f":"N16","v":2112},{"$f":"COUNTIF(L66:L79,AN16)","v":0},{"$f":"AO16/(AQ4-AO20)","v":0},{"$f":"IF(AP16=0,0,(AP16*((LOG(AP16))/LOG(2))))","v":0},null,{"$f":"N16","v":2112},{"$f":"COUNTIF(L80:L94,AS16)","v":0},{"$f":"AT16/(AV4-AT20)","v":0},{"$f":"IF(AU16=0,0,(AU16*((LOG(AU16))/LOG(2))))","v":0}]
[12,2533,23,2552,24,2582,23,2613,null,null,0,1222,null,2121,{"$f":"COUNTIF($L$7:$L$500,N17)","v":1},{"$f":"O17/$Q$4","v":1.1363636363636364E-2},{"$f":"IF(P17=0,0,(P17*((LOG(P17))/LOG(2))))","v":-7.3402632029969286E-2},null,null,{"$f":"N17","v":2121},{"$f":"COUNTIF(L7:L21,T17)","v":0},{"$f":"U17/(W4-U20)","v":0},{"$f":"IF(V17=0,0,(V17*((LOG(V17))/LOG(2))))","v":0},null,{"$f":"N17","v":2121},{"$f":"COUNTIF(L22:L35,Y17)","v":0},{"$f":"Z17/(AB4-Z20)","v":0},{"$f":"IF(AA17=0,0,(AA17*((LOG(AA17))/LOG(2))))","v":0},null,{"$f":"N17","v":2121},{"$f":"COUNTIF(L36:L50,AD17)","v":1},{"$f":"AE17/(AG4-AE20)","v":7.1428571428571425E-2},{"$f":"IF(AF17=0,0,(AF17*((LOG(AF17))/LOG(2))))","v":-0.27195392300411453},null,{"$f":"N17","v":2121},{"$f":"COUNTIF(L51:L65,AI17)","v":0},{"$f":"AJ17/(AL4-AJ20)","v":0},{"$f":"IF(AK17=0,0,(AK17*((LOG(AK17))/LOG(2))))","v":0},null,{"$f":"N17","v":2121},{"$f":"COUNTIF(L66:L79,AN17)","v":0},{"$f":"AO17/(AQ4-AO20)","v":0},{"$f":"IF(AP17=0,0,(AP17*((LOG(AP17))/LOG(2))))","v":0},null,{"$f":"N17","v":2121},{"$f":"COUNTIF(L80:L94,AS17)","v":0},{"$f":"AT17/(AV4-AT20)","v":0},{"$f":"IF(AU17=0,0,(AU17*((LOG(AU17))/LOG(2))))","v":0}]
[21,2874,12,2887,24,2935,23,2954,null,null,0,2122,null,2122,{"$f":"COUNTIF($L$7:$L$500,N18)","v":7},{"$f":"O18/$Q$4","v":7.9545454545454544E-2},{"$f":"IF(P18=0,0,(P18*((LOG(P18))/LOG(2))))","v":-0.29050610086429379},null,null,{"$f":"N18","v":2122},{"$f":"COUNTIF(L7:L21,T18)","v":2},{"$f":"U18/(W4-U20)","v":0.15384615384615385},{"$f":"IF(V18=0,0,(V18*((LOG(V18))/LOG(2))))","v":-0.4154522643293988},null,{"$f":"N18","v":2122},{"$f":"COUNTIF(L22:L35,Y18)","v":1},{"$f":"Z18/(AB4-Z20)","v":7.1428571428571425E-2},{"$f":"IF(AA18=0,0,(AA18*((LOG(AA18))/LOG(2))))","v":-0.27195392300411453},null,{"$f":"N18","v":2122},{"$f":"COUNTIF(L36:L50,AD18)","v":1},{"$f":"AE18/(AG4-AE20)","v":7.1428571428571425E-2},{"$f":"IF(AF18=0,0,(AF18*((LOG(AF18))/LOG(2))))","v":-0.27195392300411453},null,{"$f":"N18","v":2122},{"$f":"COUNTIF(L51:L65,AI18)","v":0},{"$f":"AJ18/(AL4-AJ20)","v":0},{"$f":"IF(AK18=0,0,(AK18*((LOG(AK18))/LOG(2))))","v":0},null,{"$f":"N18","v":2122},{"$f":"COUNTIF(L66:L79,AN18)","v":0},{"$f":"AO18/(AQ4-AO20)","v":0},{"$f":"IF(AP18=0,0,(AP18*((LOG(AP18))/LOG(2))))","v":0},null,{"$f":"N18","v":2122},{"$f":"COUNTIF(L80:L94,AS18)","v":3},{"$f":"AT18/(AV4-AT20)","v":0.23076923076923078},{"$f":"IF(AU18=0,0,(AU18*((LOG(AU18))/LOG(2))))","v":-0.48818705017383146}]
[21,3151,21,3184,11,3199,21,3246,null,null,0,2212,null,2211,{"$f":"COUNTIF($L$7:$L$500,N19)","v":2},{"$f":"O19/$Q$4","v":2.2727272727272728E-2},{"$f":"IF(P19=0,0,(P19*((LOG(P19))/LOG(2))))","v":-0.12407799133266585},null,null,{"$f":"N19","v":2211},{"$f":"COUNTIF(L7:L21,T19)","v":1},{"$f":"U19/(W4-U20)","v":7.6923076923076927E-2},{"$f":"IF(V19=0,0,(V19*((LOG(V19))/LOG(2))))","v":-0.28464920908777636},null,{"$f":"N19","v":2211},{"$f":"COUNTIF(L22:L35,Y19)","v":1},{"$f":"Z19/(AB4-Z20)","v":7.1428571428571425E-2},{"$f":"IF(AA19=0,0,(AA19*((LOG(AA19))/LOG(2))))","v":-0.27195392300411453},null,{"$f":"N19","v":2211},{"$f":"COUNTIF(L36:L50,AD19)","v":0},{"$f":"AE19/(AG4-AE20)","v":0},{"$f":"IF(AF19=0,0,(AF19*((LOG(AF19))/LOG(2))))","v":0},null,{"$f":"N19","v":2211},{"$f":"COUNTIF(L51:L65,AI19)","v":0},{"$f":"AJ19/(AL4-AJ20)","v":0},{"$f":"IF(AK19=0,0,(AK19*((LOG(AK19))/LOG(2))))","v":0},null,{"$f":"N19","v":2211},{"$f":"COUNTIF(L66:L79,AN19)","v":0},{"$f":"AO19/(AQ4-AO20)","v":0},{"$f":"IF(AP19=0,0,(AP19*((LOG(AP19))/LOG(2))))","v":0},null,{"$f":"N19","v":2211},{"$f":"COUNTIF(L80:L94,AS19)","v":0},{"$f":"AT19/(AV4-AT20)","v":0},{"$f":"IF(AU19=0,0,(AU19*((LOG(AU19))/LOG(2))))","v":0}]
[21,3421,21,3438,22,3455,23,3509,null,null,0,2222,null,2212,{"$f":"COUNTIF($L$7:$L$500,N20)","v":8},{"$f":"O20/$Q$4","v":9.0909090909090912E-2},{"$f":"IF(P20=0,0,(P20*((LOG(P20))/LOG(2))))","v":-0.31449378351248153},null,null,{"$f":"N20","v":2212},{"$f":"COUNTIF(L7:L21,T20)","v":2},null,null,null,{"$f":"N20","v":2212},{"$f":"COUNTIF(L22:L35,Y20)","v":0},null,null,null,{"$f":"N20","v":2212},{"$f":"COUNTIF(L36:L50,AD20)","v":1},null,null,null,{"$f":"N20","v":2212},{"$f":"COUNTIF(L51:L65,AI20)","v":1},null,null,null,{"$f":"N20","v":2212},{"$f":"COUNTIF(L66:L79,AN20)","v":2},null,null,null,{"$f":"N20","v":2212},{"$f":"COUNTIF(L80:L94,AS20)","v":2}]
[21,3818,21,3834,11,3850,12,3870,null,null,0,2211,null,2221,{"$f":"COUNTIF($L$7:$L$500,N21)","v":6},{"$f":"O21/$Q$4","v":6.8181818181818177E-2},{"$f":"IF(P21=0,0,(P21*((LOG(P21))/LOG(2))))","v":-0.26416834894882779},null,null,{"$f":"N21","v":2221},{"$f":"COUNTIF(L7:L21,T21)","v":1},{"$f":"U21/(W4-U20)","v":7.6923076923076927E-2},{"$f":"IF(V21=0,0,(V21*((LOG(V21))/LOG(2))))","v":-0.28464920908777636},null,{"$f":"N21","v":2221},{"$f":"COUNTIF(L22:L35,Y21)","v":0},{"$f":"Z21/(AB4-Z20)","v":0},{"$f":"IF(AA21=0,0,(AA21*((LOG(AA21))/LOG(2))))","v":0},null,{"$f":"N21","v":2221},{"$f":"COUNTIF(L36:L50,AD21)","v":1},{"$f":"AE21/(AG4-AE20)","v":7.1428571428571425E-2},{"$f":"IF(AF21=0,0,(AF21*((LOG(AF21))/LOG(2))))","v":-0.27195392300411453},null,{"$f":"N21","v":2221},{"$f":"COUNTIF(L51:L65,AI21)","v":2},{"$f":"AJ21/(AL4-AJ20)","v":0.14285714285714285},{"$f":"IF(AK21=0,0,(AK21*((LOG(AK21))/LOG(2))))","v":-0.40105070315108626},null,{"$f":"N21","v":2221},{"$f":"COUNTIF(L66:L79,AN21)","v":2},{"$f":"AO21/(AQ4-AO20)","v":0.16666666666666666},{"$f":"IF(AP21=0,0,(AP21*((LOG(AP21))/LOG(2))))","v":-0.43082708345352599},null,{"$f":"N21","v":2221},{"$f":"COUNTIF(L80:L94,AS21)","v":0},{"$f":"AT21/(AV4-AT20)","v":0},{"$f":"IF(AU21=0,0,(AU21*((LOG(AU21))/LOG(2))))","v":0}]
[12,4058,23,4069,13,4080,23,4102,null,null,0,1212,null,2222,{"$f":"COUNTIF($L$7:$L$500,N22)","v":20},{"$f":"O22/$Q$4","v":0.22727272727272727},{"$f":"IF(P22=0,0,(P22*((LOG(P22))/LOG(2))))","v":-0.48579625539771243},null,null,{"$f":"N22","v":2222},{"$f":"COUNTIF(L7:L21,T22)","v":5},{"$f":"U22/(W4-U20)","v":0.38461538461538464},{"$f":"IF(V22=0,0,(V22*((LOG(V22))/LOG(2))))","v":-0.53019677817451139},null,{"$f":"N22","v":2222},{"$f":"COUNTIF(L22:L35,Y22)","v":0},{"$f":"Z22/(AB4-Z20)","v":0},{"$f":"IF(AA22=0,0,(AA22*((LOG(AA22))/LOG(2))))","v":0},null,{"$f":"N22","v":2222},{"$f":"COUNTIF(L36:L50,AD22)","v":2},{"$f":"AE22/(AG4-AE20)","v":0.14285714285714285},{"$f":"IF(AF22=0,0,(AF22*((LOG(AF22))/LOG(2))))","v":-0.40105070315108626},null,{"$f":"N22","v":2222},{"$f":"COUNTIF(L51:L65,AI22)","v":3},{"$f":"AJ22/(AL4-AJ20)","v":0.21428571428571427},{"$f":"IF(AK22=0,0,(AK22*((LOG(AK22))/LOG(2))))","v":-0.47622694742923877},null,{"$f":"N22","v":2222},{"$f":"COUNTIF(L66:L79,AN22)","v":5},{"$f":"AO22/(AQ4-AO20)","v":0.41666666666666669},{"$f":"IF(AP22=0,0,(AP22*((LOG(AP22))/LOG(2))))","v":-0.52626433576408083},null,{"$f":"N22","v":2222},{"$f":"COUNTIF(L80:L94,AS22)","v":5},{"$f":"AT22/(AV4-AT20)","v":0.38461538461538464},{"$f":"IF(AU22=0,0,(AU22*((LOG(AU22))/LOG(2))))","v":-0.53019677817451139}]
[12,4290,14,4312,24,4323,14,4347,null,null,0,1121,null,null,null,{"$f":"SUM(P7:P22)","v":1},{"$f":"-SUM(Q7:Q22)","v":3.5067196605236055},null,null,null,null,{"$f":"SUM(V7:V22)","v":1},{"$f":"-SUM(W7:W22)","v":2.4996981431844141},null,null,null,{"$f":"SUM(AA7:AA22)","v":0.99999999999999989},{"$f":"-SUM(AB7:AB22)","v":2.5216406363433177},null,null,null,{"$f":"SUM(AF7:AF22)","v":0.99999999999999978},{"$f":"-SUM(AG7:AG22)","v":2.9852281360342507},null,null,null,{"$f":"SUM(AK7:AK22)","v":0.99999999999999989},{"$f":"-SUM(AL7:AL22)","v":2.6995138503199652},null,null,null,{"$f":"SUM(AP7:AP22)","v":1},{"$f":"-SUM(AQ7:AQ22)","v":2.4508257945180887},null,null,null,{"$f":"SUM(AU7:AU22)","v":1},{"$f":"-SUM(AV7:AV22)","v":2.4416298737872246}]
[12,4478,23,4509,24,4527,14,4553,null,null,0,1221,null,null,null,"U=",{"$f":"Q23/(LOG(Q4)/LOG(2))","v":0.54288362623202358},null,null,null,null,"U1=",{"$f":"W23/(LOG(W4)/LOG(2))","v":0.63981779935024596},null,null,null,"U2=",{"$f":"AB23/(LOG(AB4)/LOG(2))","v":0.66230774066646536},null,null,null,"U3=",{"$f":"AG23/(LOG(AG4)/LOG(2))","v":0.76409309730601394},null,null,null,"U4=",{"$f":"AL23/(LOG(AL4)/LOG(2))","v":0.69096223307463811},null,null,null,"U5=",{"$f":"AQ23/(LOG(AQ4)/LOG(2))","v":0.64370825538733656},null,null,null,"U6=",{"$f":"AV23/(LOG(AV4)/LOG(2))","v":0.62495475981121706}]
[12,4696,14,4707,24,4719,23,4742,null,null,0,1122]
[12,4879,23,4946,13,4959,23,4972,null,null,0,1212]
[12,5122,23,5140,24,5162,14,5174,null,null,0,1221,null,"Total Target Seq"]
[21,5360,12,5372,24,5381,23,5409,null,null,0,2122,null,{"$f":"COUNTIF(L7:L94,G3)","v":8},null,15,14,15,15,14,15]
[12,5608,23,5621,13,5637,23,5648,null,null,0,1212,null,null,null,"% of reinforcement given in 6 equal intervals based on number of trials "]
[12,5861,23,5879,24,5928,14,5940,null,null,0,1221,null,null,null,"%_1","%_2","%_3","%_4","%_5","%_6"]
[12,6186,23,6196,24,6220,23,6249,null,null,0,1222,null,null,"target sequence",{"$f":"$G$3","v":2212},{"$f":"$G$3","v":2212},{"$f":"$G$3","v":2212},{"$f":"$G$3","v":2212},{"$f":"$G$3","v":2212},{"$f":"$G$3","v":2212}]
[12,6524,23,6545,13,6560,23,6569,null,null,0,1212,null,null,"total reinforcement",{"$f":"U20","v":2},{"$f":"Z20","v":0},{"$f":"AE20","v":1},{"$f":"AJ20","v":1},{"$f":"AO20","v":2},{"$f":"AT20","v":2}]
[12,6738,14,6757,24,6776,23,6796,null,null,0,1122,null,null,"% target"]
[21,6960,21,6985,11,6998,12,7006,null,null,0,2211,null,null,"CCRF"]
[12,7188,23,7227,24,7253,14,7269,null,null,0,1221,null,null,"% CCRf"]
[21,7455,21,7463,22,7479,14,7500,null,null,0,2221,null,null,"average response rate",{"$f":"H21/P28","v":258},{"$f":"(H35-H21)/Q28","v":242.78571428571428},{"$f":"(H50-H35)/R28","v":285.26666666666665},{"$f":"(H65-H50)/S28","v":298.13333333333333},{"$f":"(H79-H65)/T28","v":231},{"$f":"(H94-H79)/U28","v":313.06666666666666}]
[21,7746,21,7766,22,7799,23,7819,null,null,0,2222]
[21,8000,21,8021,22,8065,23,8090,null,null,0,2222]
[12,8575,23,8585,24,8611,23,8630,null,null,0,1222]
[12,9143,14,9150,13,9159,23,9171,null,null,0,1112]
[21,9423,21,9447,11,9464,21,9475,null,null,0,2212]
[12,9607,14,9621,13,9633,23,9668,null,null,0,1112]
[12,9876,23,9894,24,9919,23,9945,null,null,0,1222]
[12,10147,23,10186,13,10198,23,10209,null,null,0,1212]
[12,10383,23,10396,24,10411,23,10430,null,null,0,1222]
[21,10607,12,10648,13,10654,23,10662,null,null,0,2112]
[12,10801,23,10823,24,10845,14,10857,null,null,0,1221]
[21,11047,12,11090,24,11103,23,11121,null,null,0,2122]
[12,11284,14,11288,13,11314,23,11323,null,null,0,1112]
[21,11485,12,11526,24,11536,14,11548,null,null,0,2121]
[12,11776,14,11787,13,11796,23,11836,null,null,0,1112]
[21,12181,21,12199,22,12220,23,12233,null,null,0,2222]
[21,12449,21,12492,22,12516,14,12539,null,null,0,2221]
[21,12769,21,12790,22,12828,14,12847,null,null,0,2221]
[12,13163,23,13172,24,13194,23,13211,null,null,0,1222]
[12,13556,23,13565,24,13600,14,13613,null,null,0,1221]
[21,13811,12,13824,13,13829,23,13841,null,null,0,2112]
[21,14071,21,14113,22,14131,23,14154,null,null,0,2222]
[12,14459,23,14469,24,14493,23,14510,null,null,0,1222]
[12,14923,23,14935,13,14948,23,14960,null,null,0,1212]
[21,15289,21,15308,11,15323,21,15339,null,null,0,2212]
[12,15448,23,15465,13,15479,23,15492,null,null,0,1212]
[12,15607,23,15615,24,15631,14,15644,null,null,0,1221]
[21,15795,21,15811,22,15824,23,15842,null,null,0,2222]
[12,15946,23,15957,24,16007,14,16020,null,null,0,1221]
[21,16141,21,16164,22,16177,23,16204,null,null,0,2222]
[12,16318,23,16340,24,16374,23,16396,null,null,0,1222]
[21,16545,21,16562,22,16580,14,16592,null,null,0,2221]
[12,16700,23,16771,24,16791,14,16804,null,null,0,1221]
[21,16966,21,17050,11,17062,21,17072,null,null,0,2212]
[12,17199,14,17214,13,17223,14,17227,null,null,0,1111]
[12,17366,14,17374,13,17434,23,17488,null,null,0,1112]
[21,17635,21,17654,22,17666,23,17682,null,null,0,2222]
[21,17809,21,17832,22,17860,14,17872,null,null,0,2221]
[21,18045,21,18067,22,18090,23,18132,null,null,0,2222]
[21,18297,21,18323,11,18346,21,18357,null,null,0,2212]
[21,18545,21,18568,22,18603,23,18626,null,null,0,2222]
[21,18870,12,18920,13,18950,14,18997,null,null,0,2111]
[21,19206,21,19219,22,19230,23,19254,null,null,0,2222]
[12,19468,14,19617,13,19624,23,19633,null,null,0,1112]
[12,19828,14,19882,24,19895,23,19931,null,null,0,1122]
[21,20235,12,20251,24,20272,23,20309,null,null,0,2122]
[21,20694,21,20719,11,20762,21,20813,null,null,0,2212]
[12,20974,14,20986,13,21004,14,21018,null,null,0,1111]
[21,21258,21,21272,22,21285,23,21298,null,null,0,2222]
[21,21578,12,21599,24,21608,23,21625,null,null,0,2122]
[21,21812,21,21839,22,21871,23,21887,null,null,0,2222]
[21,22151,12,22169,24,22179,23,22203,null,null,0,2122]
[21,22437,21,22455,22,22478,23,22516,null,null,0,2222]
[12,22710,23,22737,24,22761,14,22774,null,null,0,1221]
[21,23101,21,23118,11,23136,21,23146,null,null,0,2212]
[21,23284,21,23309,22,23341,23,23367,null,null,0,2222]
[21,23567,21,23575,22,23600,23,23643,null,null,0,2222]
[12,23902,23,23926,13,23942,23,23950,null,null,null,1212]

{"sheet":"!MA23920.096","index":13,"n_rows":137,"n_cols":48,"rows_kept":137,"cut":false,"hidden":false,"merged":[[4,39,4,42],[5,39,5,40],[4,44,4,47],[5,44,5,45],[4,24,4,27],[5,24,5,25],[4,29,4,32],[5,29,5,30],[4,34,4,37],[5,34,5,35],[1,1,1,2],[5,13,5,14],[26,13,26,14],[27,13,27,14],[4,19,4,22],[5,19,5,20]]}
["Report for:!MA23920.096"]
["Date:","<date>"]
["Hen:","<hen>",null,null,null,"Correct Sequence",{"$f":"Start!J2","v":2212},null,null,null,null,null,null,null,null,"Total Sequences in Data",{"$f":"4994-COUNTBLANK(L7:L5000)","v":131},null,null,null,null,"Total Sequences in Block Data",{"$f":"COUNTA(L7:L28)","v":22},null,null,null,"Total Sequences in Block Data",{"$f":"COUNTA(L29:L50)","v":22},null,null,null,"Total Sequences in Block Data",{"$f":"COUNTA(L51:L71)","v":21},null,null,null,"Total Sequences in Block Data",{"$f":"COUNTA(L72:L93)","v":22},null,null,null,"Total Sequences in Block Data",{"$f":"COUNTA(L94:L115)","v":22},null,null,null,"Total Sequences in Block Data",{"$f":"COUNTA(L116:L137)","v":22}]
[null,null,null,null,null,null,null,null,null,null,null,null,null,null,null,"Total Sequences in Summary",{"$f":"SUM(O7:O22)","v":131},null,null,null,null,"Total Sequences in Block Summary",{"$f":"SUM(U7:U22)","v":22},null,null,null,"Total Sequences in Block Summary",{"$f":"SUM(Z7:Z22)","v":22},null,null,null,"Total Sequences in Block Summary",{"$f":"SUM(AE7:AE22)","v":21},null,null,null,"Total Sequences in Block Summary",{"$f":"SUM(AJ7:AJ22)","v":22},null,null,null,"Total Sequences in Block Summary",{"$f":"SUM(AO7:AO22)","v":22},null,null,null,"Total Sequences in Block Summary",{"$f":"SUM(AT7:AT22)","v":22}]
[null,null,null,null,null,null,null,null,null,null,null,null,null,null,null,null,null,null,null,"Block 1",null,null,null,null,"Block 2",null,null,null,null,"Block 3",null,null,null,null,"Block 4",null,null,null,null,"Block 5",null,null,null,null,"Block 6"]
["Sequence\nComponent\n1","Time\n1","Sequence\nComponent\n2","Time\n2","Sequence\nComponent\n3","Time\n3","Sequence\nComponent\n4","Time\n4","Sequence\nComponent\n5","Time\n5","Correct?\n0=No 1=Yes","Sequence",null,"Frequency",null,"Relative Frequency","Variability",null,null,"Frequency",null,"Relative Frequency","Variability",null,"Frequency",null,"Relative Frequency","Variability",null,"Frequency",null,"Relative Frequency","Variability",null,"Frequency",null,"Relative Frequency","Variability",null,"Frequency",null,"Relative Frequency","Variability",null,"Frequency",null,"Relative Frequency","Variability"]
[21,21,21,65,11,77,12,85,null,null,0,2211,null,1111,{"$f":"COUNTIF($L$7:$L$500,N7)","v":11},{"$f":"O7/$Q$4","v":8.3969465648854963E-2},{"$f":"IF(P7=0,0,(P7*((LOG(P7))/LOG(2))))","v":-0.30010614665573809},null,null,{"$f":"N7","v":1111},{"$f":"COUNTIF(L7:L28,T7)","v":5},{"$f":"U7/(W4-U20)","v":0.22727272727272727},{"$f":"IF(V7=0,0,(V7*((LOG(V7))/LOG(2))))","v":-0.48579625539771243},null,{"$f":"N7","v":1111},{"$f":"COUNTIF(L29:L50,Y7)","v":2},{"$f":"Z7/(AB4-Z20)","v":0.10526315789473684},{"$f":"IF(AA7=0,0,(AA7*((LOG(AA7))/LOG(2))))","v":-0.34188710667827216},null,{"$f":"N7","v":1111},{"$f":"COUNTIF(L51:L71,AD7)","v":2},{"$f":"AE7/(AG4-AE20)","v":0.10526315789473684},{"$f":"IF(AF7=0,0,(AF7*((LOG(AF7))/LOG(2))))","v":-0.34188710667827216},null,{"$f":"N7","v":1111},{"$f":"COUNTIF(L72:L93,AI7)","v":0},{"$f":"AJ7/(AL4-AJ20)","v":0},{"$f":"IF(AK7=0,0,(AK7*((LOG(AK7))/LOG(2))))","v":0},null,{"$f":"N7","v":1111},{"$f":"COUNTIF(L94:L115,AN7)","v":2},{"$f":"AO7/(AQ4-AO20)","v":0.1},{"$f":"IF(AP7=0,0,(AP7*((LOG(AP7))/LOG(2))))","v":-0.33219280948873625},null,{"$f":"N7","v":1111},{"$f":"COUNTIF(L116:L137,AS7)","v":0},{"$f":"AT7/(AV4-AT20)","v":0},{"$f":"IF(AU7=0,0,(AU7*((LOG(AU7))/LOG(2))))","v":0}]
[21,220,21,247,22,255,23,288,null,null,0,2222,null,1112,{"$f":"COUNTIF($L$7:$L$500,N8)","v":10},{"$f":"O8/$Q$4","v":7.6335877862595422E-2},{"$f":"IF(P8=0,0,(P8*((LOG(P8))/LOG(2))))","v":-0.2833202218816861},null,null,{"$f":"N8","v":1112},{"$f":"COUNTIF(L7:L28,T8)","v":4},{"$f":"U8/(W4-U20)","v":0.18181818181818182},{"$f":"IF(V8=0,0,(V8*((LOG(V8))/LOG(2))))","v":-0.44716938520678134},null,{"$f":"N8","v":1112},{"$f":"COUNTIF(L29:L50,Y8)","v":1},{"$f":"Z8/(AB4-Z20)","v":5.2631578947368418E-2},{"$f":"IF(AA8=0,0,(AA8*((LOG(AA8))/LOG(2))))","v":-0.22357513228650452},null,{"$f":"N8","v":1112},{"$f":"COUNTIF(L51:L71,AD8)","v":3},{"$f":"AE8/(AG4-AE20)","v":0.15789473684210525},{"$f":"IF(AF8=0,0,(AF8*((LOG(AF8))/LOG(2))))","v":-0.42046815990354147},null,{"$f":"N8","v":1112},{"$f":"COUNTIF(L72:L93,AI8)","v":0},{"$f":"AJ8/(AL4-AJ20)","v":0},{"$f":"IF(AK8=0,0,(AK8*((LOG(AK8))/LOG(2))))","v":0},null,{"$f":"N8","v":1112},{"$f":"COUNTIF(L94:L115,AN8)","v":2},{"$f":"AO8/(AQ4-AO20)","v":0.1},{"$f":"IF(AP8=0,0,(AP8*((LOG(AP8))/LOG(2))))","v":-0.33219280948873625},null,{"$f":"N8","v":1112},{"$f":"COUNTIF(L116:L137,AS8)","v":0},{"$f":"AT8/(AV4-AT20)","v":0},{"$f":"IF(AU8=0,0,(AU8*((LOG(AU8))/LOG(2))))","v":0}]
[12,390,14,398,24,440,14,465,null,null,0,1121,null,1121,{"$f":"COUNTIF($L$7:$L$500,N9)","v":13},{"$f":"O9/$Q$4","v":9.9236641221374045E-2},{"$f":"IF(P9=0,0,(P9*((LOG(P9))/LOG(2))))","v":-0.3307540662912416},null,null,{"$f":"N9","v":1121},{"$f":"COUNTIF(L7:L28,T9)","v":3},{"$f":"U9/(W4-U20)","v":0.13636363636363635},{"$f":"IF(V9=0,0,(V9*((LOG(V9))/LOG(2))))","v":-0.39197306153401923},null,{"$f":"N9","v":1121},{"$f":"COUNTIF(L29:L50,Y9)","v":1},{"$f":"Z9/(AB4-Z20)","v":5.2631578947368418E-2},{"$f":"IF(AA9=0,0,(AA9*((LOG(AA9))/LOG(2))))","v":-0.22357513228650452},null,{"$f":"N9","v":1121},{"$f":"COUNTIF(L51:L71,AD9)","v":3},{"$f":"AE9/(AG4-AE20)","v":0.15789473684210525},{"$f":"IF(AF9=0,0,(AF9*((LOG(AF9))/LOG(2))))","v":-0.42046815990354147},null,{"$f":"N9","v":1121},{"$f":"COUNTIF(L72:L93,AI9)","v":4},{"$f":"AJ9/(AL4-AJ20)","v":0.21052631578947367},{"$f":"IF(AK9=0,0,(AK9*((LOG(AK9))/LOG(2))))","v":-0.47324789756707064},null,{"$f":"N9","v":1121},{"$f":"COUNTIF(L94:L115,AN9)","v":2},{"$f":"AO9/(AQ4-AO20)","v":0.1},{"$f":"IF(AP9=0,0,(AP9*((LOG(AP9))/LOG(2))))","v":-0.33219280948873625},null,{"$f":"N9","v":1121},{"$f":"COUNTIF(L116:L137,AS9)","v":0},{"$f":"AT9/(AV4-AT20)","v":0},{"$f":"IF(AU9=0,0,(AU9*((LOG(AU9))/LOG(2))))","v":0}]
[21,592,12,610,13,640,23,672,null,null,0,2112,null,1122,{"$f":"COUNTIF($L$7:$L$500,N10)","v":3},{"$f":"O10/$Q$4","v":2.2900763358778626E-2},{"$f":"IF(P10=0,0,(P10*((LOG(P10))/LOG(2))))","v":-0.12477390459884644},null,null,{"$f":"N10","v":1122},{"$f":"COUNTIF(L7:L28,T10)","v":1},{"$f":"U10/(W4-U20)","v":4.5454545454545456E-2},{"$f":"IF(V10=0,0,(V10*((LOG(V10))/LOG(2))))","v":-0.20270143721078623},null,{"$f":"N10","v":1122},{"$f":"COUNTIF(L29:L50,Y10)","v":0},{"$f":"Z10/(AB4-Z20)","v":0},{"$f":"IF(AA10=0,0,(AA10*((LOG(AA10))/LOG(2))))","v":0},null,{"$f":"N10","v":1122},{"$f":"COUNTIF(L51:L71,AD10)","v":0},{"$f":"AE10/(AG4-AE20)","v":0},{"$f":"IF(AF10=0,0,(AF10*((LOG(AF10))/LOG(2))))","v":0},null,{"$f":"N10","v":1122},{"$f":"COUNTIF(L72:L93,AI10)","v":1},{"$f":"AJ10/(AL4-AJ20)","v":5.2631578947368418E-2},{"$f":"IF(AK10=0,0,(AK10*((LOG(AK10))/LOG(2))))","v":-0.22357513228650452},null,{"$f":"N10","v":1122},{"$f":"COUNTIF(L94:L115,AN10)","v":0},{"$f":"AO10/(AQ4-AO20)","v":0},{"$f":"IF(AP10=0,0,(AP10*((LOG(AP10))/LOG(2))))","v":0},null,{"$f":"N10","v":1122},{"$f":"COUNTIF(L116:L137,AS10)","v":1},{"$f":"AT10/(AV4-AT20)","v":4.7619047619047616E-2},{"$f":"IF(AU10=0,0,(AU10*((LOG(AU10))/LOG(2))))","v":-0.20915797251327431}]
[12,807,14,811,13,816,23,825,null,null,0,1112,null,1211,{"$f":"COUNTIF($L$7:$L$500,N11)","v":4},{"$f":"O11/$Q$4","v":3.0534351145038167E-2},{"$f":"IF(P11=0,0,(P11*((LOG(P11))/LOG(2))))","v":-0.15369230539045647},null,null,{"$f":"N11","v":1211},{"$f":"COUNTIF(L7:L28,T11)","v":0},{"$f":"U11/(W4-U20)","v":0},{"$f":"IF(V11=0,0,(V11*((LOG(V11))/LOG(2))))","v":0},null,{"$f":"N11","v":1211},{"$f":"COUNTIF(L29:L50,Y11)","v":0},{"$f":"Z11/(AB4-Z20)","v":0},{"$f":"IF(AA11=0,0,(AA11*((LOG(AA11))/LOG(2))))","v":0},null,{"$f":"N11","v":1211},{"$f":"COUNTIF(L51:L71,AD11)","v":3},{"$f":"AE11/(AG4-AE20)","v":0.15789473684210525},{"$f":"IF(AF11=0,0,(AF11*((LOG(AF11))/LOG(2))))","v":-0.42046815990354147},null,{"$f":"N11","v":1211},{"$f":"COUNTIF(L72:L93,AI11)","v":0},{"$f":"AJ11/(AL4-AJ20)","v":0},{"$f":"IF(AK11=0,0,(AK11*((LOG(AK11))/LOG(2))))","v":0},null,{"$f":"N11","v":1211},{"$f":"COUNTIF(L94:L115,AN11)","v":0},{"$f":"AO11/(AQ4-AO20)","v":0},{"$f":"IF(AP11=0,0,(AP11*((LOG(AP11))/LOG(2))))","v":0},null,{"$f":"N11","v":1211},{"$f":"COUNTIF(L116:L137,AS11)","v":1},{"$f":"AT11/(AV4-AT20)","v":4.7619047619047616E-2},{"$f":"IF(AU11=0,0,(AU11*((LOG(AU11))/LOG(2))))","v":-0.20915797251327431}]
[12,926,14,936,13,985,14,992,null,null,0,1111,null,1212,{"$f":"COUNTIF($L$7:$L$500,N12)","v":1},{"$f":"O12/$Q$4","v":7.6335877862595417E-3},{"$f":"IF(P12=0,0,(P12*((LOG(P12))/LOG(2))))","v":-5.3690251920133214E-2},null,null,{"$f":"N12","v":1212},{"$f":"COUNTIF(L7:L28,T12)","v":0},{"$f":"U12/(W4-U20)","v":0},{"$f":"IF(V12=0,0,(V12*((LOG(V12))/LOG(2))))","v":0},null,{"$f":"N12","v":1212},{"$f":"COUNTIF(L29:L50,Y12)","v":0},{"$f":"Z12/(AB4-Z20)","v":0},{"$f":"IF(AA12=0,0,(AA12*((LOG(AA12))/LOG(2))))","v":0},null,{"$f":"N12","v":1212},{"$f":"COUNTIF(L51:L71,AD12)","v":0},{"$f":"AE12/(AG4-AE20)","v":0},{"$f":"IF(AF12=0,0,(AF12*((LOG(AF12))/LOG(2))))","v":0},null,{"$f":"N12","v":1212},{"$f":"COUNTIF(L72:L93,AI12)","v":0},{"$f":"AJ12/(AL4-AJ20)","v":0},{"$f":"IF(AK12=0,0,(AK12*((LOG(AK12))/LOG(2))))","v":0},null,{"$f":"N12","v":1212},{"$f":"COUNTIF(L94:L115,AN12)","v":0},{"$f":"AO12/(AQ4-AO20)","v":0},{"$f":"IF(AP12=0,0,(AP12*((LOG(AP12))/LOG(2))))","v":0},null,{"$f":"N12","v":1212},{"$f":"COUNTIF(L116:L137,AS12)","v":1},{"$f":"AT12/(AV4-AT20)","v":4.7619047619047616E-2},{"$f":"IF(AU12=0,0,(AU12*((LOG(AU12))/LOG(2))))","v":-0.20915797251327431}]
[12,1081,14,1093,13,1118,14,1152,null,null,0,1111,null,1221,{"$f":"COUNTIF($L$7:$L$500,N13)","v":0},{"$f":"O13/$Q$4","v":0},{"$f":"IF(P13=0,0,(P13*((LOG(P13))/LOG(2))))","v":0},null,null,{"$f":"N13","v":1221},{"$f":"COUNTIF(L7:L28,T13)","v":0},{"$f":"U13/(W4-U20)","v":0},{"$f":"IF(V13=0,0,(V13*((LOG(V13))/LOG(2))))","v":0},null,{"$f":"N13","v":1221},{"$f":"COUNTIF(L29:L50,Y13)","v":0},{"$f":"Z13/(AB4-Z20)","v":0},{"$f":"IF(AA13=0,0,(AA13*((LOG(AA13))/LOG(2))))","v":0},null,{"$f":"N13","v":1221},{"$f":"COUNTIF(L51:L71,AD13)","v":0},{"$f":"AE13/(AG4-AE20)","v":0},{"$f":"IF(AF13=0,0,(AF13*((LOG(AF13))/LOG(2))))","v":0},null,{"$f":"N13","v":1221},{"$f":"COUNTIF(L72:L93,AI13)","v":0},{"$f":"AJ13/(AL4-AJ20)","v":0},{"$f":"IF(AK13=0,0,(AK13*((LOG(AK13))/LOG(2))))","v":0},null,{"$f":"N13","v":1221},{"$f":"COUNTIF(L94:L115,AN13)","v":0},{"$f":"AO13/(AQ4-AO20)","v":0},{"$f":"IF(AP13=0,0,(AP13*((LOG(AP13))/LOG(2))))","v":0},null,{"$f":"N13","v":1221},{"$f":"COUNTIF(L116:L137,AS13)","v":0},{"$f":"AT13/(AV4-AT20)","v":0},{"$f":"IF(AU13=0,0,(AU13*((LOG(AU13))/LOG(2))))","v":0}]
[12,1258,14,1270,13,1279,14,1309,null,null,0,1111,null,1222,{"$f":"COUNTIF($L$7:$L$500,N14)","v":3},{"$f":"O14/$Q$4","v":2.2900763358778626E-2},{"$f":"IF(P14=0,0,(P14*((LOG(P14))/LOG(2))))","v":-0.12477390459884644},null,null,{"$f":"N14","v":1222},{"$f":"COUNTIF(L7:L28,T14)","v":0},{"$f":"U14/(W4-U20)","v":0},{"$f":"IF(V14=0,0,(V14*((LOG(V14))/LOG(2))))","v":0},null,{"$f":"N14","v":1222},{"$f":"COUNTIF(L29:L50,Y14)","v":0},{"$f":"Z14/(AB4-Z20)","v":0},{"$f":"IF(AA14=0,0,(AA14*((LOG(AA14))/LOG(2))))","v":0},null,{"$f":"N14","v":1222},{"$f":"COUNTIF(L51:L71,AD14)","v":0},{"$f":"AE14/(AG4-AE20)","v":0},{"$f":"IF(AF14=0,0,(AF14*((LOG(AF14))/LOG(2))))","v":0},null,{"$f":"N14","v":1222},{"$f":"COUNTIF(L72:L93,AI14)","v":0},{"$f":"AJ14/(AL4-AJ20)","v":0},{"$f":"IF(AK14=0,0,(AK14*((LOG(AK14))/LOG(2))))","v":0},null,{"$f":"N14","v":1222},{"$f":"COUNTIF(L94:L115,AN14)","v":0},{"$f":"AO14/(AQ4-AO20)","v":0},{"$f":"IF(AP14=0,0,(AP14*((LOG(AP14))/LOG(2))))","v":0},null,{"$f":"N14","v":1222},{"$f":"COUNTIF(L116:L137,AS14)","v":3},{"$f":"AT14/(AV4-AT20)","v":0.14285714285714285},{"$f":"IF(AU14=0,0,(AU14*((LOG(AU14))/LOG(2))))","v":-0.40105070315108626}]
[12,1409,14,1413,13,1449,14,1475,null,null,0,1111,null,2111,{"$f":"COUNTIF($L$7:$L$500,N15)","v":6},{"$f":"O15/$Q$4","v":4.5801526717557252E-2},{"$f":"IF(P15=0,0,(P15*((LOG(P15))/LOG(2))))","v":-0.2037462824801356},null,null,{"$f":"N15","v":2111},{"$f":"COUNTIF(L7:L28,T15)","v":1},{"$f":"U15/(W4-U20)","v":4.5454545454545456E-2},{"$f":"IF(V15=0,0,(V15*((LOG(V15))/LOG(2))))","v":-0.20270143721078623},null,{"$f":"N15","v":2111},{"$f":"COUNTIF(L29:L50,Y15)","v":2},{"$f":"Z15/(AB4-Z20)","v":0.10526315789473684},{"$f":"IF(AA15=0,0,(AA15*((LOG(AA15))/LOG(2))))","v":-0.34188710667827216},null,{"$f":"N15","v":2111},{"$f":"COUNTIF(L51:L71,AD15)","v":2},{"$f":"AE15/(AG4-AE20)","v":0.10526315789473684},{"$f":"IF(AF15=0,0,(AF15*((LOG(AF15))/LOG(2))))","v":-0.34188710667827216},null,{"$f":"N15","v":2111},{"$f":"COUNTIF(L72:L93,AI15)","v":1},{"$f":"AJ15/(AL4-AJ20)","v":5.2631578947368418E-2},{"$f":"IF(AK15=0,0,(AK15*((LOG(AK15))/LOG(2))))","v":-0.22357513228650452},null,{"$f":"N15","v":2111},{"$f":"COUNTIF(L94:L115,AN15)","v":0},{"$f":"AO15/(AQ4-AO20)","v":0},{"$f":"IF(AP15=0,0,(AP15*((LOG(AP15))/LOG(2))))","v":0},null,{"$f":"N15","v":2111},{"$f":"COUNTIF(L116:L137,AS15)","v":0},{"$f":"AT15/(AV4-AT20)","v":0},{"$f":"IF(AU15=0,0,(AU15*((LOG(AU15))/LOG(2))))","v":0}]
[12,1576,14,1583,13,1590,14,1599,null,null,0,1111,null,2112,{"$f":"COUNTIF($L$7:$L$500,N16)","v":18},{"$f":"O16/$Q$4","v":0.13740458015267176},{"$f":"IF(P16=0,0,(P16*((LOG(P16))/LOG(2))))","v":-0.39345774047108767},null,null,{"$f":"N16","v":2112},{"$f":"COUNTIF(L7:L28,T16)","v":5},{"$f":"U16/(W4-U20)","v":0.22727272727272727},{"$f":"IF(V16=0,0,(V16*((LOG(V16))/LOG(2))))","v":-0.48579625539771243},null,{"$f":"N16","v":2112},{"$f":"COUNTIF(L29:L50,Y16)","v":5},{"$f":"Z16/(AB4-Z20)","v":0.26315789473684209},{"$f":"IF(AA16=0,0,(AA16*((LOG(AA16))/LOG(2))))","v":-0.50684195225163764},null,{"$f":"N16","v":2112},{"$f":"COUNTIF(L51:L71,AD16)","v":2},{"$f":"AE16/(AG4-AE20)","v":0.10526315789473684},{"$f":"IF(AF16=0,0,(AF16*((LOG(AF16))/LOG(2))))","v":-0.34188710667827216},null,{"$f":"N16","v":2112},{"$f":"COUNTIF(L72:L93,AI16)","v":2},{"$f":"AJ16/(AL4-AJ20)","v":0.10526315789473684},{"$f":"IF(AK16=0,0,(AK16*((LOG(AK16))/LOG(2))))","v":-0.34188710667827216},null,{"$f":"N16","v":2112},{"$f":"COUNTIF(L94:L115,AN16)","v":2},{"$f":"AO16/(AQ4-AO20)","v":0.1},{"$f":"IF(AP16=0,0,(AP16*((LOG(AP16))/LOG(2))))","v":-0.33219280948873625},null,{"$f":"N16","v":2112},{"$f":"COUNTIF(L116:L137,AS16)","v":2},{"$f":"AT16/(AV4-AT20)","v":9.5238095238095233E-2},{"$f":"IF(AU16=0,0,(AU16*((LOG(AU16))/LOG(2))))","v":-0.32307784978845333}]
[12,1753,14,1760,13,1765,23,1784,null,null,0,1112,null,2121,{"$f":"COUNTIF($L$7:$L$500,N17)","v":10},{"$f":"O17/$Q$4","v":7.6335877862595422E-2},{"$f":"IF(P17=0,0,(P17*((LOG(P17))/LOG(2))))","v":-0.2833202218816861},null,null,{"$f":"N17","v":2121},{"$f":"COUNTIF(L7:L28,T17)","v":1},{"$f":"U17/(W4-U20)","v":4.5454545454545456E-2},{"$f":"IF(V17=0,0,(V17*((LOG(V17))/LOG(2))))","v":-0.20270143721078623},null,{"$f":"N17","v":2121},{"$f":"COUNTIF(L29:L50,Y17)","v":1},{"$f":"Z17/(AB4-Z20)","v":5.2631578947368418E-2},{"$f":"IF(AA17=0,0,(AA17*((LOG(AA17))/LOG(2))))","v":-0.22357513228650452},null,{"$f":"N17","v":2121},{"$f":"COUNTIF(L51:L71,AD17)","v":1},{"$f":"AE17/(AG4-AE20)","v":5.2631578947368418E-2},{"$f":"IF(AF17=0,0,(AF17*((LOG(AF17))/LOG(2))))","v":-0.22357513228650452},null,{"$f":"N17","v":2121},{"$f":"COUNTIF(L72:L93,AI17)","v":2},{"$f":"AJ17/(AL4-AJ20)","v":0.10526315789473684},{"$f":"IF(AK17=0,0,(AK17*((LOG(AK17))/LOG(2))))","v":-0.34188710667827216},null,{"$f":"N17","v":2121},{"$f":"COUNTIF(L94:L115,AN17)","v":4},{"$f":"AO17/(AQ4-AO20)","v":0.2},{"$f":"IF(AP17=0,0,(AP17*((LOG(AP17))/LOG(2))))","v":-0.46438561897747244},null,{"$f":"N17","v":2121},{"$f":"COUNTIF(L116:L137,AS17)","v":1},{"$f":"AT17/(AV4-AT20)","v":4.7619047619047616E-2},{"$f":"IF(AU17=0,0,(AU17*((LOG(AU17))/LOG(2))))","v":-0.20915797251327431}]
[12,1892,14,1896,13,1901,23,1912,null,null,0,1112,null,2122,{"$f":"COUNTIF($L$7:$L$500,N18)","v":9},{"$f":"O18/$Q$4","v":6.8702290076335881E-2},{"$f":"IF(P18=0,0,(P18*((LOG(P18))/LOG(2))))","v":-0.26543116031187974},null,null,{"$f":"N18","v":2122},{"$f":"COUNTIF(L7:L28,T18)","v":0},{"$f":"U18/(W4-U20)","v":0},{"$f":"IF(V18=0,0,(V18*((LOG(V18))/LOG(2))))","v":0},null,{"$f":"N18","v":2122},{"$f":"COUNTIF(L29:L50,Y18)","v":0},{"$f":"Z18/(AB4-Z20)","v":0},{"$f":"IF(AA18=0,0,(AA18*((LOG(AA18))/LOG(2))))","v":0},null,{"$f":"N18","v":2122},{"$f":"COUNTIF(L51:L71,AD18)","v":0},{"$f":"AE18/(AG4-AE20)","v":0},{"$f":"IF(AF18=0,0,(AF18*((LOG(AF18))/LOG(2))))","v":0},null,{"$f":"N18","v":2122},{"$f":"COUNTIF(L72:L93,AI18)","v":4},{"$f":"AJ18/(AL4-AJ20)","v":0.21052631578947367},{"$f":"IF(AK18=0,0,(AK18*((LOG(AK18))/LOG(2))))","v":-0.47324789756707064},null,{"$f":"N18","v":2122},{"$f":"COUNTIF(L94:L115,AN18)","v":4},{"$f":"AO18/(AQ4-AO20)","v":0.2},{"$f":"IF(AP18=0,0,(AP18*((LOG(AP18))/LOG(2))))","v":-0.46438561897747244},null,{"$f":"N18","v":2122},{"$f":"COUNTIF(L116:L137,AS18)","v":1},{"$f":"AT18/(AV4-AT20)","v":4.7619047619047616E-2},{"$f":"IF(AU18=0,0,(AU18*((LOG(AU18))/LOG(2))))","v":-0.20915797251327431}]
[21,2029,12,2040,13,2048,23,2058,null,null,0,2112,null,2211,{"$f":"COUNTIF($L$7:$L$500,N19)","v":7},{"$f":"O19/$Q$4","v":5.3435114503816793E-2},{"$f":"IF(P19=0,0,(P19*((LOG(P19))/LOG(2))))","v":-0.22582043172793073},null,null,{"$f":"N19","v":2211},{"$f":"COUNTIF(L7:L28,T19)","v":1},{"$f":"U19/(W4-U20)","v":4.5454545454545456E-2},{"$f":"IF(V19=0,0,(V19*((LOG(V19))/LOG(2))))","v":-0.20270143721078623},null,{"$f":"N19","v":2211},{"$f":"COUNTIF(L29:L50,Y19)","v":2},{"$f":"Z19/(AB4-Z20)","v":0.10526315789473684},{"$f":"IF(AA19=0,0,(AA19*((LOG(AA19))/LOG(2))))","v":-0.34188710667827216},null,{"$f":"N19","v":2211},{"$f":"COUNTIF(L51:L71,AD19)","v":1},{"$f":"AE19/(AG4-AE20)","v":5.2631578947368418E-2},{"$f":"IF(AF19=0,0,(AF19*((LOG(AF19))/LOG(2))))","v":-0.22357513228650452},null,{"$f":"N19","v":2211},{"$f":"COUNTIF(L72:L93,AI19)","v":1},{"$f":"AJ19/(AL4-AJ20)","v":5.2631578947368418E-2},{"$f":"IF(AK19=0,0,(AK19*((LOG(AK19))/LOG(2))))","v":-0.22357513228650452},null,{"$f":"N19","v":2211},{"$f":"COUNTIF(L94:L115,AN19)","v":2},{"$f":"AO19/(AQ4-AO20)","v":0.1},{"$f":"IF(AP19=0,0,(AP19*((LOG(AP19))/LOG(2))))","v":-0.33219280948873625},null,{"$f":"N19","v":2211},{"$f":"COUNTIF(L116:L137,AS19)","v":0},{"$f":"AT19/(AV4-AT20)","v":0},{"$f":"IF(AU19=0,0,(AU19*((LOG(AU19))/LOG(2))))","v":0}]
[21,2191,12,2218,13,2226,23,2239,null,null,0,2112,null,2212,{"$f":"COUNTIF($L$7:$L$500,N20)","v":11},{"$f":"O20/$Q$4","v":8.3969465648854963E-2},{"$f":"IF(P20=0,0,(P20*((LOG(P20))/LOG(2))))","v":-0.30010614665573809},null,null,{"$f":"N20","v":2212},{"$f":"COUNTIF(L7:L28,T20)","v":0},null,null,null,{"$f":"N20","v":2212},{"$f":"COUNTIF(L29:L50,Y20)","v":3},null,null,null,{"$f":"N20","v":2212},{"$f":"COUNTIF(L51:L71,AD20)","v":2},null,null,null,{"$f":"N20","v":2212},{"$f":"COUNTIF(L72:L93,AI20)","v":3},null,null,null,{"$f":"N20","v":2212},{"$f":"COUNTIF(L94:L115,AN20)","v":2},null,null,null,{"$f":"N20","v":2212},{"$f":"COUNTIF(L116:L137,AS20)","v":1}]
[12,2337,14,2348,24,2368,23,2390,null,null,0,1122,null,2221,{"$f":"COUNTIF($L$7:$L$500,N21)","v":13},{"$f":"O21/$Q$4","v":9.9236641221374045E-2},{"$f":"IF(P21=0,0,(P21*((LOG(P21))/LOG(2))))","v":-0.3307540662912416},null,null,{"$f":"N21","v":2221},{"$f":"COUNTIF(L7:L28,T21)","v":0},{"$f":"U21/(W4-U20)","v":0},{"$f":"IF(V21=0,0,(V21*((LOG(V21))/LOG(2))))","v":0},null,{"$f":"N21","v":2221},{"$f":"COUNTIF(L29:L50,Y21)","v":3},{"$f":"Z21/(AB4-Z20)","v":0.15789473684210525},{"$f":"IF(AA21=0,0,(AA21*((LOG(AA21))/LOG(2))))","v":-0.42046815990354147},null,{"$f":"N21","v":2221},{"$f":"COUNTIF(L51:L71,AD21)","v":2},{"$f":"AE21/(AG4-AE20)","v":0.10526315789473684},{"$f":"IF(AF21=0,0,(AF21*((LOG(AF21))/LOG(2))))","v":-0.34188710667827216},null,{"$f":"N21","v":2221},{"$f":"COUNTIF(L72:L93,AI21)","v":1},{"$f":"AJ21/(AL4-AJ20)","v":5.2631578947368418E-2},{"$f":"IF(AK21=0,0,(AK21*((LOG(AK21))/LOG(2))))","v":-0.22357513228650452},null,{"$f":"N21","v":2221},{"$f":"COUNTIF(L94:L115,AN21)","v":2},{"$f":"AO21/(AQ4-AO20)","v":0.1},{"$f":"IF(AP21=0,0,(AP21*((LOG(AP21))/LOG(2))))","v":-0.33219280948873625},null,{"$f":"N21","v":2221},{"$f":"COUNTIF(L116:L137,AS21)","v":5},{"$f":"AT21/(AV4-AT20)","v":0.23809523809523808},{"$f":"IF(AU21=0,0,(AU21*((LOG(AU21))/LOG(2))))","v":-0.49294983997414238}]
[12,2592,14,2604,24,2618,14,2632,null,null,0,1121,null,2222,{"$f":"COUNTIF($L$7:$L$500,N22)","v":12},{"$f":"O22/$Q$4","v":9.1603053435114504E-2},{"$f":"IF(P22=0,0,(P22*((LOG(P22))/LOG(2))))","v":-0.31588951152515665},null,null,{"$f":"N22","v":2222},{"$f":"COUNTIF(L7:L28,T22)","v":1},{"$f":"U22/(W4-U20)","v":4.5454545454545456E-2},{"$f":"IF(V22=0,0,(V22*((LOG(V22))/LOG(2))))","v":-0.20270143721078623},null,{"$f":"N22","v":2222},{"$f":"COUNTIF(L29:L50,Y22)","v":2},{"$f":"Z22/(AB4-Z20)","v":0.10526315789473684},{"$f":"IF(AA22=0,0,(AA22*((LOG(AA22))/LOG(2))))","v":-0.34188710667827216},null,{"$f":"N22","v":2222},{"$f":"COUNTIF(L51:L71,AD22)","v":0},{"$f":"AE22/(AG4-AE20)","v":0},{"$f":"IF(AF22=0,0,(AF22*((LOG(AF22))/LOG(2))))","v":0},null,{"$f":"N22","v":2222},{"$f":"COUNTIF(L72:L93,AI22)","v":3},{"$f":"AJ22/(AL4-AJ20)","v":0.15789473684210525},{"$f":"IF(AK22=0,0,(AK22*((LOG(AK22))/LOG(2))))","v":-0.42046815990354147},null,{"$f":"N22","v":2222},{"$f":"COUNTIF(L94:L115,AN22)","v":0},{"$f":"AO22/(AQ4-AO20)","v":0},{"$f":"IF(AP22=0,0,(AP22*((LOG(AP22))/LOG(2))))","v":0},null,{"$f":"N22","v":2222},{"$f":"COUNTIF(L116:L137,AS22)","v":6},{"$f":"AT22/(AV4-AT20)","v":0.2857142857142857},{"$f":"IF(AU22=0,0,(AU22*((LOG(AU22))/LOG(2))))","v":-0.51638712058788683}]
[12,2837,14,2841,13,2845,23,2868,null,null,0,1112,null,null,null,{"$f":"SUM(P7:P22)","v":1},{"$f":"-SUM(Q7:Q22)","v":3.6896363626818052},null,null,null,null,{"$f":"SUM(V7:V22)","v":0.99999999999999978},{"$f":"-SUM(W7:W22)","v":2.8242421435901561},null,null,null,{"$f":"SUM(AA7:AA22)","v":0.99999999999999989},{"$f":"-SUM(AB7:AB22)","v":2.9655839357277816},null,null,null,{"$f":"SUM(AF7:AF22)","v":0.99999999999999989},{"$f":"-SUM(AG7:AG22)","v":3.0761031709967228},null,null,null,{"$f":"SUM(AK7:AK22)","v":1},{"$f":"-SUM(AL7:AL22)","v":2.9450386975402458},null,null,null,{"$f":"SUM(AP7:AP22)","v":1},{"$f":"-SUM(AQ7:AQ22)","v":2.9219280948873623},null,null,null,{"$f":"SUM(AU7:AU22)","v":0.99999999999999989},{"$f":"-SUM(AV7:AV22)","v":2.7792553760679408}]
[21,2998,12,3012,13,3016,23,3028,null,null,0,2112,null,null,null,"U=",{"$f":"Q23/(LOG(Q4)/LOG(2))","v":0.52458615980800238},null,null,null,null,"U1=",{"$f":"W23/(LOG(W4)/LOG(2))","v":0.63331885879509942},null,null,null,"U2=",{"$f":"AB23/(LOG(AB4)/LOG(2))","v":0.6650138827858062},null,null,null,"U3=",{"$f":"AG23/(LOG(AG4)/LOG(2))","v":0.70033717395830952},null,null,null,"U4=",{"$f":"AL23/(LOG(AL4)/LOG(2))","v":0.66040674000517219},null,null,null,"U5=",{"$f":"AQ23/(LOG(AQ4)/LOG(2))","v":0.65522433008631675},null,null,null,"U6=",{"$f":"AV23/(LOG(AV4)/LOG(2))","v":0.62323085400673084}]
[21,3165,12,3178,13,3182,14,3187,null,null,0,2111]
[21,3291,12,3311,24,3334,14,3345,null,null,0,2121]
[12,3487,14,3494,24,3505,14,3521,null,null,0,1121,null,"Total Target Seq"]
[21,3694,12,3708,13,3717,23,3729,null,null,0,2112,null,{"$f":"COUNTIF(L7:L137,G3)","v":11},null,22,22,21,22,22,22]
[12,3854,14,3859,13,3901,14,3907,null,null,0,1111,null,null,null,"% of reinforcement given in 6 equal intervals based on number of trials "]
[21,4056,12,4068,13,4073,14,4081,null,null,0,2111,null,null,null,"%_1","%_2","%_3","%_4","%_5","%_6"]
[21,4196,21,4205,22,4220,14,4246,null,null,0,2221,null,null,"target sequence",{"$f":"$G$3","v":2212},{"$f":"$G$3","v":2212},{"$f":"$G$3","v":2212},{"$f":"$G$3","v":2212},{"$f":"$G$3","v":2212},{"$f":"$G$3","v":2212}]
[21,4373,12,4385,13,4391,23,4404,null,null,0,2112,null,null,"total reinforcement",{"$f":"U20","v":0},{"$f":"Z20","v":3},{"$f":"AE20","v":2},{"$f":"AJ20","v":3},{"$f":"AO20","v":2},{"$f":"AT20","v":1}]
[12,4534,14,4539,13,4572,14,4577,null,null,0,1111,null,null,"% target"]
[21,4712,12,4736,13,4741,23,4754,null,null,0,2112,null,null,"CCRF"]
[12,4950,14,4954,24,4968,14,4979,null,null,0,1121,null,null,"% CCRf"]
[21,5108,12,5162,13,5166,23,5174,null,null,0,2112,null,null,"average response rate",{"$f":"H28/P28","v":169.5},{"$f":"(H50-H28)/Q28","v":185.77272727272728},{"$f":"(H71-H50)/R28","v":153.14285714285714},{"$f":"(H93-H71)/S28","v":182.86363636363637},{"$f":"(H115-H93)/T28","v":169.90909090909091},{"$f":"(H137-H115)/U28","v":231.18181818181819}]
[21,5330,12,5364,13,5369,23,5380,null,null,0,2112]
[21,5523,21,5564,22,5579,14,5590,null,null,0,2221]
[21,5740,12,5751,24,5793,14,5809,null,null,0,2121]
[21,5977,21,6024,11,6042,21,6086,null,null,0,2212]
[21,6194,21,6240,11,6255,21,6275,null,null,0,2212]
[21,6391,12,6407,13,6411,14,6431,null,null,0,2111]
[21,6591,21,6613,22,6618,23,6628,null,null,0,2222]
[12,6746,14,6752,13,6760,23,6786,null,null,0,1112]
[21,6904,12,6916,13,6922,23,6948,null,null,0,2112]
[21,7060,21,7081,11,7092,12,7097,null,null,0,2211]
[21,7201,21,7209,11,7225,21,7234,null,null,0,2212]
[21,7374,21,7400,11,7432,12,7436,null,null,0,2211]
[21,7570,21,7594,22,7601,14,7617,null,null,0,2221]
[21,7741,21,7752,22,7771,23,7816,null,null,0,2222]
[12,7914,14,7934,24,7948,14,7958,null,null,0,1121]
[12,8092,23,8106,13,8121,14,8125,null,null,0,1211]
[21,8235,21,8267,22,8272,14,8291,null,null,0,2221]
[21,8400,21,8424,11,8436,21,8451,null,null,0,2212]
[12,8565,14,8569,24,8589,14,8599,null,null,0,1121]
[12,8697,14,8706,13,8711,23,8719,null,null,0,1112]
[21,8828,12,8840,13,8844,14,8848,null,null,0,2111]
[21,8970,12,8981,13,8986,23,8996,null,null,0,2112]
[21,9105,12,9121,24,9129,14,9139,null,null,0,2121]
[21,9249,12,9259,13,9263,14,9268,null,null,0,2111]
[12,9393,14,9416,13,9423,23,9433,null,null,0,1112]
[12,9548,14,9554,13,9559,23,9568,null,null,0,1112]
[12,9696,14,9700,24,9710,14,9720,null,null,0,1121]
[12,9823,23,9848,13,9859,14,9866,null,null,0,1211]
[21,9976,21,9989,11,10004,12,10009,null,null,0,2211]
[21,10112,21,10134,22,10146,14,10163,null,null,0,2221]
[21,10281,12,10301,13,10306,23,10317,null,null,0,2112]
[12,10420,14,10425,13,10435,14,10468,null,null,0,1111]
[21,10649,21,10665,11,10694,21,10703,null,null,0,2212]
[12,10818,23,10832,13,10851,14,10886,null,null,0,1211]
[12,10987,14,11002,13,11006,14,11032,null,null,0,1111]
[12,11135,14,11139,24,11174,14,11189,null,null,0,1121]
[21,11300,12,11335,13,11339,14,11360,null,null,0,2111]
[21,11509,12,11521,24,11541,14,11553,null,null,0,2121]
[21,11687,21,11713,11,11724,21,11734,null,null,0,2212]
[21,11870,12,11881,24,11890,14,11909,null,null,0,2121]
[21,12018,12,12030,24,12045,23,12050,null,null,0,2122]
[12,12183,14,12195,24,12223,14,12242,null,null,0,1121]
[21,12383,21,12402,11,12413,12,12420,null,null,0,2211]
[12,12556,14,12574,24,12583,23,12599,null,null,0,1122]
[21,12751,12,12761,13,12767,23,12776,null,null,0,2112]
[21,12919,21,12937,11,12952,21,12965,null,null,0,2212]
[21,13089,12,13103,24,13124,23,13142,null,null,0,2122]
[21,13268,21,13289,22,13301,14,13313,null,null,0,2221]
[21,13476,12,13487,13,13493,23,13503,null,null,0,2112]
[21,13643,21,13677,22,13687,23,13708,null,null,0,2222]
[21,13853,12,13868,24,13877,23,13889,null,null,0,2122]
[21,14051,21,14071,22,14085,23,14101,null,null,0,2222]
[21,14263,21,14277,22,14295,23,14310,null,null,0,2222]
[21,14482,12,14497,24,14508,23,14536,null,null,0,2122]
[12,14670,14,14675,24,14687,14,14701,null,null,0,1121]
[12,14862,14,14869,24,14880,14,14892,null,null,0,1121]
[21,15005,21,15024,11,15045,21,15055,null,null,0,2212]
[12,15170,14,15182,24,15193,14,15209,null,null,0,1121]
[21,15330,12,15341,24,15355,23,15361,null,null,0,2122]
[21,15496,12,15506,24,15517,14,15537,null,null,0,2121]
[21,15659,12,15671,24,15680,23,15698,null,null,0,2122]
[21,15830,12,15840,24,15855,14,15873,null,null,0,2121]
[21,15980,12,15992,24,16014,23,16028,null,null,0,2122]
[21,16136,12,16178,13,16183,23,16192,null,null,0,2112]
[21,16310,21,16341,11,16355,21,16366,null,null,0,2212]
[12,16489,14,16496,13,16510,14,16537,null,null,0,1111]
[12,16652,14,16656,13,16681,14,16685,null,null,0,1111]
[21,16812,12,16829,24,16836,14,16849,null,null,0,2121]
[12,16990,14,17031,13,17038,23,17066,null,null,0,1112]
[12,17164,14,17171,13,17176,23,17185,null,null,0,1112]
[21,17331,12,17343,24,17352,23,17381,null,null,0,2122]
[21,17495,21,17510,11,17523,12,17535,null,null,0,2211]
[12,17663,14,17697,24,17708,14,17725,null,null,0,1121]
[21,17849,21,17861,11,17873,21,17885,null,null,0,2212]
[21,18007,12,18020,13,18052,23,18062,null,null,0,2112]
[21,18175,21,18202,22,18218,14,18232,null,null,0,2221]
[21,18361,21,18368,11,18380,12,18411,null,null,0,2211]
[21,18527,21,18582,22,18622,14,18633,null,null,0,2221]
[21,18759,12,18769,24,18778,14,18793,null,null,0,2121]
[12,18924,23,18932,13,18942,14,18948,null,null,0,1211]
[21,19074,12,19094,13,19125,23,19134,null,null,0,2112]
[12,19273,23,19288,24,19318,23,19336,null,null,0,1222]
[21,19494,12,19510,24,19529,14,19546,null,null,0,2121]
[21,19712,21,19720,22,19735,23,19758,null,null,0,2222]
[12,19890,23,19909,24,19938,23,19960,null,null,0,1222]
[21,20149,21,20166,22,20196,14,20210,null,null,0,2221]
[21,20336,21,20356,22,20379,14,20415,null,null,0,2221]
[21,20535,12,20546,24,20582,23,20598,null,null,0,2122]
[12,20779,23,20790,24,20804,23,20822,null,null,0,1222]
[21,21086,21,21102,22,21121,23,21143,null,null,0,2222]
[21,21307,21,21331,22,21352,14,21366,null,null,0,2221]
[12,21501,14,21528,24,21582,23,21602,null,null,0,1122]
[21,21754,21,21779,22,21793,23,21829,null,null,0,2222]
[21,21964,21,21979,22,22003,23,22019,null,null,0,2222]
[12,22167,23,22194,13,22206,23,22216,null,null,0,1212]
[21,22414,21,22452,22,22476,23,22491,null,null,0,2222]
[21,22607,21,22616,22,22658,14,22673,null,null,0,2221]
[21,22800,12,22842,13,22847,23,22855,null,null,0,2112]
[21,22984,21,22997,22,23044,14,23056,null,null,0,2221]
[21,23624,21,23642,22,23657,23,23665,null,null,0,2222]
[21,23839,21,23856,11,23870,21,23879,null,null,0,2212]

{"sheet":"!MA24B40.096","index":14,"n_rows":110,"n_cols":48,"rows_kept":110,"cut":false,"hidden":false,"merged":[[4,39,4,42],[5,39,5,40],[4,44,4,47],[5,44,5,45],[4,24,4,27],[5,24,5,25],[4,29,4,32],[5,29,5,30],[4,34,4,37],[5,34,5,35],[1,1,1,2],[5,13,5,14],[26,13,26,14],[27,13,27,14],[4,19,4,22],[5,19,5,20]]}
["Report for:!MA24B40.096"]
["Date:","<date>"]
["Hen:","<hen>",null,null,null,"Correct Sequence",{"$f":"Start!J2","v":2212},null,null,null,null,null,null,null,null,"Total Sequences in Data",{"$f":"4994-COUNTBLANK(L7:L5000)","v":104},null,null,null,null,"Total Sequences in Block Data",{"$f":"COUNTA(L7:L23)","v":17},null,null,null,"Total Sequences in Block Data",{"$f":"COUNTA(L24:L41)","v":18},null,null,null,"Total Sequences in Block Data",{"$f":"COUNTA(L42:L58)","v":17},null,null,null,"Total Sequences in Block Data",{"$f":"COUNTA(L59:L75)","v":17},null,null,null,"Total Sequences in Block Data",{"$f":"COUNTA(L76:L93)","v":18},null,null,null,"Total Sequences in Block Data",{"$f":"COUNTA(L94:L110)","v":17}]
[null,null,null,null,null,null,null,null,null,null,null,null,null,null,null,"Total Sequences in Summary",{"$f":"SUM(O7:O22)","v":104},null,null,null,null,"Total Sequences in Block Summary",{"$f":"SUM(U7:U22)","v":17},null,null,null,"Total Sequences in Block Summary",{"$f":"SUM(Z7:Z22)","v":18},null,null,null,"Total Sequences in Block Summary",{"$f":"SUM(AE7:AE22)","v":17},null,null,null,"Total Sequences in Block Summary",{"$f":"SUM(AJ7:AJ22)","v":17},null,null,null,"Total Sequences in Block Summary",{"$f":"SUM(AO7:AO22)","v":18},null,null,null,"Total Sequences in Block Summary",{"$f":"SUM(AT7:AT22)","v":17}]
[null,null,null,null,null,null,null,null,null,null,null,null,null,null,null,null,null,null,null,"Block 1",null,null,null,null,"Block 2",null,null,null,null,"Block 3",null,null,null,null,"Block 4",null,null,null,null,"Block 5",null,null,null,null,"Block 6"]
["Sequence\nComponent\n1","Time\n1","Sequence\nComponent\n2","Time\n2","Sequence\nComponent\n3","Time\n3","Sequence\nComponent\n4","Time\n4","Sequence\nComponent\n5","Time\n5","Correct?\n0=No 1=Yes","Sequence",null,"Frequency",null,"Relative Frequency","Variability",null,null,"Frequency",null,"Relative Frequency","Variability",null,"Frequency",null,"Relative Frequency","Variability",null,"Frequency",null,"Relative Frequency","Variability",null,"Frequency",null,"Relative Frequency","Variability",null,"Frequency",null,"Relative Frequency","Variability",null,"Frequency",null,"Relative Frequency","Variability"]
[21,36,21,42,11,53,12,61,null,null,0,2211,null,1111,{"$f":"COUNTIF($L$7:$L$500,N7)","v":3},{"$f":"O7/$Q$4","v":2.8846153846153848E-2},{"$f":"IF(P7=0,0,(P7*((LOG(P7))/LOG(2))))","v":-0.14756184281019047},null,null,{"$f":"N7","v":1111},{"$f":"COUNTIF(L7:L23,T7)","v":2},{"$f":"U7/(W4-U20)","v":0.13333333333333333},{"$f":"IF(V7=0,0,(V7*((LOG(V7))/LOG(2))))","v":-0.3875854127478025},null,{"$f":"N7","v":1111},{"$f":"COUNTIF(L24:L41,Y7)","v":0},{"$f":"Z7/(AB4-Z20)","v":0},{"$f":"IF(AA7=0,0,(AA7*((LOG(AA7))/LOG(2))))","v":0},null,{"$f":"N7","v":1111},{"$f":"COUNTIF(L42:L58,AD7)","v":0},{"$f":"AE7/(AG4-AE20)","v":0},{"$f":"IF(AF7=0,0,(AF7*((LOG(AF7))/LOG(2))))","v":0},null,{"$f":"N7","v":1111},{"$f":"COUNTIF(L59:L75,AI7)","v":1},{"$f":"AJ7/(AL4-AJ20)","v":6.6666666666666666E-2},{"$f":"IF(AK7=0,0,(AK7*((LOG(AK7))/LOG(2))))","v":-0.26045937304056793},null,{"$f":"N7","v":1111},{"$f":"COUNTIF(L76:L93,AN7)","v":0},{"$f":"AO7/(AQ4-AO20)","v":0},{"$f":"IF(AP7=0,0,(AP7*((LOG(AP7))/LOG(2))))","v":0},null,{"$f":"N7","v":1111},{"$f":"COUNTIF(L94:L110,AS7)","v":0},{"$f":"AT7/(AV4-AT20)","v":0},{"$f":"IF(AU7=0,0,(AU7*((LOG(AU7))/LOG(2))))","v":0}]
[12,178,23,188,13,198,14,206,null,null,0,1211,null,1112,{"$f":"COUNTIF($L$7:$L$500,N8)","v":3},{"$f":"O8/$Q$4","v":2.8846153846153848E-2},{"$f":"IF(P8=0,0,(P8*((LOG(P8))/LOG(2))))","v":-0.14756184281019047},null,null,{"$f":"N8","v":1112},{"$f":"COUNTIF(L7:L23,T8)","v":1},{"$f":"U8/(W4-U20)","v":6.6666666666666666E-2},{"$f":"IF(V8=0,0,(V8*((LOG(V8))/LOG(2))))","v":-0.26045937304056793},null,{"$f":"N8","v":1112},{"$f":"COUNTIF(L24:L41,Y8)","v":1},{"$f":"Z8/(AB4-Z20)","v":7.6923076923076927E-2},{"$f":"IF(AA8=0,0,(AA8*((LOG(AA8))/LOG(2))))","v":-0.28464920908777636},null,{"$f":"N8","v":1112},{"$f":"COUNTIF(L42:L58,AD8)","v":0},{"$f":"AE8/(AG4-AE20)","v":0},{"$f":"IF(AF8=0,0,(AF8*((LOG(AF8))/LOG(2))))","v":0},null,{"$f":"N8","v":1112},{"$f":"COUNTIF(L59:L75,AI8)","v":0},{"$f":"AJ8/(AL4-AJ20)","v":0},{"$f":"IF(AK8=0,0,(AK8*((LOG(AK8))/LOG(2))))","v":0},null,{"$f":"N8","v":1112},{"$f":"COUNTIF(L76:L93,AN8)","v":0},{"$f":"AO8/(AQ4-AO20)","v":0},{"$f":"IF(AP8=0,0,(AP8*((LOG(AP8))/LOG(2))))","v":0},null,{"$f":"N8","v":1112},{"$f":"COUNTIF(L94:L110,AS8)","v":1},{"$f":"AT8/(AV4-AT20)","v":7.1428571428571425E-2},{"$f":"IF(AU8=0,0,(AU8*((LOG(AU8))/LOG(2))))","v":-0.27195392300411453}]
[12,296,23,312,24,347,14,361,null,null,0,1221,null,1121,{"$f":"COUNTIF($L$7:$L$500,N9)","v":3},{"$f":"O9/$Q$4","v":2.8846153846153848E-2},{"$f":"IF(P9=0,0,(P9*((LOG(P9))/LOG(2))))","v":-0.14756184281019047},null,null,{"$f":"N9","v":1121},{"$f":"COUNTIF(L7:L23,T9)","v":1},{"$f":"U9/(W4-U20)","v":6.6666666666666666E-2},{"$f":"IF(V9=0,0,(V9*((LOG(V9))/LOG(2))))","v":-0.26045937304056793},null,{"$f":"N9","v":1121},{"$f":"COUNTIF(L24:L41,Y9)","v":0},{"$f":"Z9/(AB4-Z20)","v":0},{"$f":"IF(AA9=0,0,(AA9*((LOG(AA9))/LOG(2))))","v":0},null,{"$f":"N9","v":1121},{"$f":"COUNTIF(L42:L58,AD9)","v":0},{"$f":"AE9/(AG4-AE20)","v":0},{"$f":"IF(AF9=0,0,(AF9*((LOG(AF9))/LOG(2))))","v":0},null,{"$f":"N9","v":1121},{"$f":"COUNTIF(L59:L75,AI9)","v":0},{"$f":"AJ9/(AL4-AJ20)","v":0},{"$f":"IF(AK9=0,0,(AK9*((LOG(AK9))/LOG(2))))","v":0},null,{"$f":"N9","v":1121},{"$f":"COUNTIF(L76:L93,AN9)","v":0},{"$f":"AO9/(AQ4-AO20)","v":0},{"$f":"IF(AP9=0,0,(AP9*((LOG(AP9))/LOG(2))))","v":0},null,{"$f":"N9","v":1121},{"$f":"COUNTIF(L94:L110,AS9)","v":2},{"$f":"AT9/(AV4-AT20)","v":0.14285714285714285},{"$f":"IF(AU9=0,0,(AU9*((LOG(AU9))/LOG(2))))","v":-0.40105070315108626}]
[21,465,12,476,13,481,14,485,null,null,0,2111,null,1122,{"$f":"COUNTIF($L$7:$L$500,N10)","v":1},{"$f":"O10/$Q$4","v":9.6153846153846159E-3},{"$f":"IF(P10=0,0,(P10*((LOG(P10))/LOG(2))))","v":-6.4427304982125885E-2},null,null,{"$f":"N10","v":1122},{"$f":"COUNTIF(L7:L23,T10)","v":0},{"$f":"U10/(W4-U20)","v":0},{"$f":"IF(V10=0,0,(V10*((LOG(V10))/LOG(2))))","v":0},null,{"$f":"N10","v":1122},{"$f":"COUNTIF(L24:L41,Y10)","v":0},{"$f":"Z10/(AB4-Z20)","v":0},{"$f":"IF(AA10=0,0,(AA10*((LOG(AA10))/LOG(2))))","v":0},null,{"$f":"N10","v":1122},{"$f":"COUNTIF(L42:L58,AD10)","v":0},{"$f":"AE10/(AG4-AE20)","v":0},{"$f":"IF(AF10=0,0,(AF10*((LOG(AF10))/LOG(2))))","v":0},null,{"$f":"N10","v":1122},{"$f":"COUNTIF(L59:L75,AI10)","v":0},{"$f":"AJ10/(AL4-AJ20)","v":0},{"$f":"IF(AK10=0,0,(AK10*((LOG(AK10))/LOG(2))))","v":0},null,{"$f":"N10","v":1122},{"$f":"COUNTIF(L76:L93,AN10)","v":1},{"$f":"AO10/(AQ4-AO20)","v":6.25E-2},{"$f":"IF(AP10=0,0,(AP10*((LOG(AP10))/LOG(2))))","v":-0.25},null,{"$f":"N10","v":1122},{"$f":"COUNTIF(L94:L110,AS10)","v":0},{"$f":"AT10/(AV4-AT20)","v":0},{"$f":"IF(AU10=0,0,(AU10*((LOG(AU10))/LOG(2))))","v":0}]
[12,585,14,591,13,596,14,600,null,null,0,1111,null,1211,{"$f":"COUNTIF($L$7:$L$500,N11)","v":2},{"$f":"O11/$Q$4","v":1.9230769230769232E-2},{"$f":"IF(P11=0,0,(P11*((LOG(P11))/LOG(2))))","v":-0.10962384073348255},null,null,{"$f":"N11","v":1211},{"$f":"COUNTIF(L7:L23,T11)","v":2},{"$f":"U11/(W4-U20)","v":0.13333333333333333},{"$f":"IF(V11=0,0,(V11*((LOG(V11))/LOG(2))))","v":-0.3875854127478025},null,{"$f":"N11","v":1211},{"$f":"COUNTIF(L24:L41,Y11)","v":0},{"$f":"Z11/(AB4-Z20)","v":0},{"$f":"IF(AA11=0,0,(AA11*((LOG(AA11))/LOG(2))))","v":0},null,{"$f":"N11","v":1211},{"$f":"COUNTIF(L42:L58,AD11)","v":0},{"$f":"AE11/(AG4-AE20)","v":0},{"$f":"IF(AF11=0,0,(AF11*((LOG(AF11))/LOG(2))))","v":0},null,{"$f":"N11","v":1211},{"$f":"COUNTIF(L59:L75,AI11)","v":0},{"$f":"AJ11/(AL4-AJ20)","v":0},{"$f":"IF(AK11=0,0,(AK11*((LOG(AK11))/LOG(2))))","v":0},null,{"$f":"N11","v":1211},{"$f":"COUNTIF(L76:L93,AN11)","v":0},{"$f":"AO11/(AQ4-AO20)","v":0},{"$f":"IF(AP11=0,0,(AP11*((LOG(AP11))/LOG(2))))","v":0},null,{"$f":"N11","v":1211},{"$f":"COUNTIF(L94:L110,AS11)","v":0},{"$f":"AT11/(AV4-AT20)","v":0},{"$f":"IF(AU11=0,0,(AU11*((LOG(AU11))/LOG(2))))","v":0}]
[12,702,14,706,24,730,14,756,null,null,0,1121,null,1212,{"$f":"COUNTIF($L$7:$L$500,N12)","v":6},{"$f":"O12/$Q$4","v":5.7692307692307696E-2},{"$f":"IF(P12=0,0,(P12*((LOG(P12))/LOG(2))))","v":-0.23743137792807323},null,null,{"$f":"N12","v":1212},{"$f":"COUNTIF(L7:L23,T12)","v":1},{"$f":"U12/(W4-U20)","v":6.6666666666666666E-2},{"$f":"IF(V12=0,0,(V12*((LOG(V12))/LOG(2))))","v":-0.26045937304056793},null,{"$f":"N12","v":1212},{"$f":"COUNTIF(L24:L41,Y12)","v":0},{"$f":"Z12/(AB4-Z20)","v":0},{"$f":"IF(AA12=0,0,(AA12*((LOG(AA12))/LOG(2))))","v":0},null,{"$f":"N12","v":1212},{"$f":"COUNTIF(L42:L58,AD12)","v":1},{"$f":"AE12/(AG4-AE20)","v":6.6666666666666666E-2},{"$f":"IF(AF12=0,0,(AF12*((LOG(AF12))/LOG(2))))","v":-0.26045937304056793},null,{"$f":"N12","v":1212},{"$f":"COUNTIF(L59:L75,AI12)","v":2},{"$f":"AJ12/(AL4-AJ20)","v":0.13333333333333333},{"$f":"IF(AK12=0,0,(AK12*((LOG(AK12))/LOG(2))))","v":-0.3875854127478025},null,{"$f":"N12","v":1212},{"$f":"COUNTIF(L76:L93,AN12)","v":1},{"$f":"AO12/(AQ4-AO20)","v":6.25E-2},{"$f":"IF(AP12=0,0,(AP12*((LOG(AP12))/LOG(2))))","v":-0.25},null,{"$f":"N12","v":1212},{"$f":"COUNTIF(L94:L110,AS12)","v":1},{"$f":"AT12/(AV4-AT20)","v":7.1428571428571425E-2},{"$f":"IF(AU12=0,0,(AU12*((LOG(AU12))/LOG(2))))","v":-0.27195392300411453}]
[21,865,12,874,13,901,23,909,null,null,0,2112,null,1221,{"$f":"COUNTIF($L$7:$L$500,N13)","v":3},{"$f":"O13/$Q$4","v":2.8846153846153848E-2},{"$f":"IF(P13=0,0,(P13*((LOG(P13))/LOG(2))))","v":-0.14756184281019047},null,null,{"$f":"N13","v":1221},{"$f":"COUNTIF(L7:L23,T13)","v":1},{"$f":"U13/(W4-U20)","v":6.6666666666666666E-2},{"$f":"IF(V13=0,0,(V13*((LOG(V13))/LOG(2))))","v":-0.26045937304056793},null,{"$f":"N13","v":1221},{"$f":"COUNTIF(L24:L41,Y13)","v":0},{"$f":"Z13/(AB4-Z20)","v":0},{"$f":"IF(AA13=0,0,(AA13*((LOG(AA13))/LOG(2))))","v":0},null,{"$f":"N13","v":1221},{"$f":"COUNTIF(L42:L58,AD13)","v":1},{"$f":"AE13/(AG4-AE20)","v":6.6666666666666666E-2},{"$f":"IF(AF13=0,0,(AF13*((LOG(AF13))/LOG(2))))","v":-0.26045937304056793},null,{"$f":"N13","v":1221},{"$f":"COUNTIF(L59:L75,AI13)","v":0},{"$f":"AJ13/(AL4-AJ20)","v":0},{"$f":"IF(AK13=0,0,(AK13*((LOG(AK13))/LOG(2))))","v":0},null,{"$f":"N13","v":1221},{"$f":"COUNTIF(L76:L93,AN13)","v":0},{"$f":"AO13/(AQ4-AO20)","v":0},{"$f":"IF(AP13=0,0,(AP13*((LOG(AP13))/LOG(2))))","v":0},null,{"$f":"N13","v":1221},{"$f":"COUNTIF(L94:L110,AS13)","v":1},{"$f":"AT13/(AV4-AT20)","v":7.1428571428571425E-2},{"$f":"IF(AU13=0,0,(AU13*((LOG(AU13))/LOG(2))))","v":-0.27195392300411453}]
[21,1025,21,1033,11,1043,21,1062,null,null,0,2212,null,1222,{"$f":"COUNTIF($L$7:$L$500,N14)","v":0},{"$f":"O14/$Q$4","v":0},{"$f":"IF(P14=0,0,(P14*((LOG(P14))/LOG(2))))","v":0},null,null,{"$f":"N14","v":1222},{"$f":"COUNTIF(L7:L23,T14)","v":0},{"$f":"U14/(W4-U20)","v":0},{"$f":"IF(V14=0,0,(V14*((LOG(V14))/LOG(2))))","v":0},null,{"$f":"N14","v":1222},{"$f":"COUNTIF(L24:L41,Y14)","v":0},{"$f":"Z14/(AB4-Z20)","v":0},{"$f":"IF(AA14=0,0,(AA14*((LOG(AA14))/LOG(2))))","v":0},null,{"$f":"N14","v":1222},{"$f":"COUNTIF(L42:L58,AD14)","v":0},{"$f":"AE14/(AG4-AE20)","v":0},{"$f":"IF(AF14=0,0,(AF14*((LOG(AF14))/LOG(2))))","v":0},null,{"$f":"N14","v":1222},{"$f":"COUNTIF(L59:L75,AI14)","v":0},{"$f":"AJ14/(AL4-AJ20)","v":0},{"$f":"IF(AK14=0,0,(AK14*((LOG(AK14))/LOG(2))))","v":0},null,{"$f":"N14","v":1222},{"$f":"COUNTIF(L76:L93,AN14)","v":0},{"$f":"AO14/(AQ4-AO20)","v":0},{"$f":"IF(AP14=0,0,(AP14*((LOG(AP14))/LOG(2))))","v":0},null,{"$f":"N14","v":1222},{"$f":"COUNTIF(L94:L110,AS14)","v":0},{"$f":"AT14/(AV4-AT20)","v":0},{"$f":"IF(AU14=0,0,(AU14*((LOG(AU14))/LOG(2))))","v":0}]
[21,1155,12,1170,13,1174,23,1191,null,null,0,2112,null,2111,{"$f":"COUNTIF($L$7:$L$500,N15)","v":1},{"$f":"O15/$Q$4","v":9.6153846153846159E-3},{"$f":"IF(P15=0,0,(P15*((LOG(P15))/LOG(2))))","v":-6.4427304982125885E-2},null,null,{"$f":"N15","v":2111},{"$f":"COUNTIF(L7:L23,T15)","v":1},{"$f":"U15/(W4-U20)","v":6.6666666666666666E-2},{"$f":"IF(V15=0,0,(V15*((LOG(V15))/LOG(2))))","v":-0.26045937304056793},null,{"$f":"N15","v":2111},{"$f":"COUNTIF(L24:L41,Y15)","v":0},{"$f":"Z15/(AB4-Z20)","v":0},{"$f":"IF(AA15=0,0,(AA15*((LOG(AA15))/LOG(2))))","v":0},null,{"$f":"N15","v":2111},{"$f":"COUNTIF(L42:L58,AD15)","v":0},{"$f":"AE15/(AG4-AE20)","v":0},{"$f":"IF(AF15=0,0,(AF15*((LOG(AF15))/LOG(2))))","v":0},null,{"$f":"N15","v":2111},{"$f":"COUNTIF(L59:L75,AI15)","v":0},{"$f":"AJ15/(AL4-AJ20)","v":0},{"$f":"IF(AK15=0,0,(AK15*((LOG(AK15))/LOG(2))))","v":0},null,{"$f":"N15","v":2111},{"$f":"COUNTIF(L76:L93,AN15)","v":0},{"$f":"AO15/(AQ4-AO20)","v":0},{"$f":"IF(AP15=0,0,(AP15*((LOG(AP15))/LOG(2))))","v":0},null,{"$f":"N15","v":2111},{"$f":"COUNTIF(L94:L110,AS15)","v":0},{"$f":"AT15/(AV4-AT20)","v":0},{"$f":"IF(AU15=0,0,(AU15*((LOG(AU15))/LOG(2))))","v":0}]
[12,1291,14,1296,13,1317,23,1328,null,null,0,1112,null,2112,{"$f":"COUNTIF($L$7:$L$500,N16)","v":5},{"$f":"O16/$Q$4","v":4.807692307692308E-2},{"$f":"IF(P16=0,0,(P16*((LOG(P16))/LOG(2))))","v":-0.2105053665025832},null,null,{"$f":"N16","v":2112},{"$f":"COUNTIF(L7:L23,T16)","v":3},{"$f":"U16/(W4-U20)","v":0.2},{"$f":"IF(V16=0,0,(V16*((LOG(V16))/LOG(2))))","v":-0.46438561897747244},null,{"$f":"N16","v":2112},{"$f":"COUNTIF(L24:L41,Y16)","v":0},{"$f":"Z16/(AB4-Z20)","v":0},{"$f":"IF(AA16=0,0,(AA16*((LOG(AA16))/LOG(2))))","v":0},null,{"$f":"N16","v":2112},{"$f":"COUNTIF(L42:L58,AD16)","v":0},{"$f":"AE16/(AG4-AE20)","v":0},{"$f":"IF(AF16=0,0,(AF16*((LOG(AF16))/LOG(2))))","v":0},null,{"$f":"N16","v":2112},{"$f":"COUNTIF(L59:L75,AI16)","v":2},{"$f":"AJ16/(AL4-AJ20)","v":0.13333333333333333},{"$f":"IF(AK16=0,0,(AK16*((LOG(AK16))/LOG(2))))","v":-0.3875854127478025},null,{"$f":"N16","v":2112},{"$f":"COUNTIF(L76:L93,AN16)","v":0},{"$f":"AO16/(AQ4-AO20)","v":0},{"$f":"IF(AP16=0,0,(AP16*((LOG(AP16))/LOG(2))))","v":0},null,{"$f":"N16","v":2112},{"$f":"COUNTIF(L94:L110,AS16)","v":0},{"$f":"AT16/(AV4-AT20)","v":0},{"$f":"IF(AU16=0,0,(AU16*((LOG(AU16))/LOG(2))))","v":0}]
[12,1434,14,1441,13,1450,14,1455,null,null,0,1111,null,2121,{"$f":"COUNTIF($L$7:$L$500,N17)","v":4},{"$f":"O17/$Q$4","v":3.8461538461538464E-2},{"$f":"IF(P17=0,0,(P17*((LOG(P17))/LOG(2))))","v":-0.18078614300542661},null,null,{"$f":"N17","v":2121},{"$f":"COUNTIF(L7:L23,T17)","v":0},{"$f":"U17/(W4-U20)","v":0},{"$f":"IF(V17=0,0,(V17*((LOG(V17))/LOG(2))))","v":0},null,{"$f":"N17","v":2121},{"$f":"COUNTIF(L24:L41,Y17)","v":0},{"$f":"Z17/(AB4-Z20)","v":0},{"$f":"IF(AA17=0,0,(AA17*((LOG(AA17))/LOG(2))))","v":0},null,{"$f":"N17","v":2121},{"$f":"COUNTIF(L42:L58,AD17)","v":1},{"$f":"AE17/(AG4-AE20)","v":6.6666666666666666E-2},{"$f":"IF(AF17=0,0,(AF17*((LOG(AF17))/LOG(2))))","v":-0.26045937304056793},null,{"$f":"N17","v":2121},{"$f":"COUNTIF(L59:L75,AI17)","v":2},{"$f":"AJ17/(AL4-AJ20)","v":0.13333333333333333},{"$f":"IF(AK17=0,0,(AK17*((LOG(AK17))/LOG(2))))","v":-0.3875854127478025},null,{"$f":"N17","v":2121},{"$f":"COUNTIF(L76:L93,AN17)","v":0},{"$f":"AO17/(AQ4-AO20)","v":0},{"$f":"IF(AP17=0,0,(AP17*((LOG(AP17))/LOG(2))))","v":0},null,{"$f":"N17","v":2121},{"$f":"COUNTIF(L94:L110,AS17)","v":1},{"$f":"AT17/(AV4-AT20)","v":7.1428571428571425E-2},{"$f":"IF(AU17=0,0,(AU17*((LOG(AU17))/LOG(2))))","v":-0.27195392300411453}]
[12,1575,23,1602,13,1612,23,1625,null,null,0,1212,null,2122,{"$f":"COUNTIF($L$7:$L$500,N18)","v":6},{"$f":"O18/$Q$4","v":5.7692307692307696E-2},{"$f":"IF(P18=0,0,(P18*((LOG(P18))/LOG(2))))","v":-0.23743137792807323},null,null,{"$f":"N18","v":2122},{"$f":"COUNTIF(L7:L23,T18)","v":0},{"$f":"U18/(W4-U20)","v":0},{"$f":"IF(V18=0,0,(V18*((LOG(V18))/LOG(2))))","v":0},null,{"$f":"N18","v":2122},{"$f":"COUNTIF(L24:L41,Y18)","v":0},{"$f":"Z18/(AB4-Z20)","v":0},{"$f":"IF(AA18=0,0,(AA18*((LOG(AA18))/LOG(2))))","v":0},null,{"$f":"N18","v":2122},{"$f":"COUNTIF(L42:L58,AD18)","v":1},{"$f":"AE18/(AG4-AE20)","v":6.6666666666666666E-2},{"$f":"IF(AF18=0,0,(AF18*((LOG(AF18))/LOG(2))))","v":-0.26045937304056793},null,{"$f":"N18","v":2122},{"$f":"COUNTIF(L59:L75,AI18)","v":2},{"$f":"AJ18/(AL4-AJ20)","v":0.13333333333333333},{"$f":"IF(AK18=0,0,(AK18*((LOG(AK18))/LOG(2))))","v":-0.3875854127478025},null,{"$f":"N18","v":2122},{"$f":"COUNTIF(L76:L93,AN18)","v":1},{"$f":"AO18/(AQ4-AO20)","v":6.25E-2},{"$f":"IF(AP18=0,0,(AP18*((LOG(AP18))/LOG(2))))","v":-0.25},null,{"$f":"N18","v":2122},{"$f":"COUNTIF(L94:L110,AS18)","v":2},{"$f":"AT18/(AV4-AT20)","v":0.14285714285714285},{"$f":"IF(AU18=0,0,(AU18*((LOG(AU18))/LOG(2))))","v":-0.40105070315108626}]
[21,1784,12,1795,13,1818,23,1825,null,null,0,2112,null,2211,{"$f":"COUNTIF($L$7:$L$500,N19)","v":6},{"$f":"O19/$Q$4","v":5.7692307692307696E-2},{"$f":"IF(P19=0,0,(P19*((LOG(P19))/LOG(2))))","v":-0.23743137792807323},null,null,{"$f":"N19","v":2211},{"$f":"COUNTIF(L7:L23,T19)","v":2},{"$f":"U19/(W4-U20)","v":0.13333333333333333},{"$f":"IF(V19=0,0,(V19*((LOG(V19))/LOG(2))))","v":-0.3875854127478025},null,{"$f":"N19","v":2211},{"$f":"COUNTIF(L24:L41,Y19)","v":1},{"$f":"Z19/(AB4-Z20)","v":7.6923076923076927E-2},{"$f":"IF(AA19=0,0,(AA19*((LOG(AA19))/LOG(2))))","v":-0.28464920908777636},null,{"$f":"N19","v":2211},{"$f":"COUNTIF(L42:L58,AD19)","v":1},{"$f":"AE19/(AG4-AE20)","v":6.6666666666666666E-2},{"$f":"IF(AF19=0,0,(AF19*((LOG(AF19))/LOG(2))))","v":-0.26045937304056793},null,{"$f":"N19","v":2211},{"$f":"COUNTIF(L59:L75,AI19)","v":0},{"$f":"AJ19/(AL4-AJ20)","v":0},{"$f":"IF(AK19=0,0,(AK19*((LOG(AK19))/LOG(2))))","v":0},null,{"$f":"N19","v":2211},{"$f":"COUNTIF(L76:L93,AN19)","v":1},{"$f":"AO19/(AQ4-AO20)","v":6.25E-2},{"$f":"IF(AP19=0,0,(AP19*((LOG(AP19))/LOG(2))))","v":-0.25},null,{"$f":"N19","v":2211},{"$f":"COUNTIF(L94:L110,AS19)","v":1},{"$f":"AT19/(AV4-AT20)","v":7.1428571428571425E-2},{"$f":"IF(AU19=0,0,(AU19*((LOG(AU19))/LOG(2))))","v":-0.27195392300411453}]
[12,1954,23,1967,13,1977,14,2011,null,null,0,1211,null,2212,{"$f":"COUNTIF($L$7:$L$500,N20)","v":16},{"$f":"O20/$Q$4","v":0.15384615384615385},{"$f":"IF(P20=0,0,(P20*((LOG(P20))/LOG(2))))","v":-0.4154522643293988},null,null,{"$f":"N20","v":2212},{"$f":"COUNTIF(L7:L23,T20)","v":2},null,null,null,{"$f":"N20","v":2212},{"$f":"COUNTIF(L24:L41,Y20)","v":5},null,null,null,{"$f":"N20","v":2212},{"$f":"COUNTIF(L42:L58,AD20)","v":2},null,null,null,{"$f":"N20","v":2212},{"$f":"COUNTIF(L59:L75,AI20)","v":2},null,null,null,{"$f":"N20","v":2212},{"$f":"COUNTIF(L76:L93,AN20)","v":2},null,null,null,{"$f":"N20","v":2212},{"$f":"COUNTIF(L94:L110,AS20)","v":3}]
[21,2120,21,2174,22,2195,23,2205,null,null,0,2222,null,2221,{"$f":"COUNTIF($L$7:$L$500,N21)","v":4},{"$f":"O21/$Q$4","v":3.8461538461538464E-2},{"$f":"IF(P21=0,0,(P21*((LOG(P21))/LOG(2))))","v":-0.18078614300542661},null,null,{"$f":"N21","v":2221},{"$f":"COUNTIF(L7:L23,T21)","v":0},{"$f":"U21/(W4-U20)","v":0},{"$f":"IF(V21=0,0,(V21*((LOG(V21))/LOG(2))))","v":0},null,{"$f":"N21","v":2221},{"$f":"COUNTIF(L24:L41,Y21)","v":0},{"$f":"Z21/(AB4-Z20)","v":0},{"$f":"IF(AA21=0,0,(AA21*((LOG(AA21))/LOG(2))))","v":0},null,{"$f":"N21","v":2221},{"$f":"COUNTIF(L42:L58,AD21)","v":1},{"$f":"AE21/(AG4-AE20)","v":6.6666666666666666E-2},{"$f":"IF(AF21=0,0,(AF21*((LOG(AF21))/LOG(2))))","v":-0.26045937304056793},null,{"$f":"N21","v":2221},{"$f":"COUNTIF(L59:L75,AI21)","v":1},{"$f":"AJ21/(AL4-AJ20)","v":6.6666666666666666E-2},{"$f":"IF(AK21=0,0,(AK21*((LOG(AK21))/LOG(2))))","v":-0.26045937304056793},null,{"$f":"N21","v":2221},{"$f":"COUNTIF(L76:L93,AN21)","v":2},{"$f":"AO21/(AQ4-AO20)","v":0.125},{"$f":"IF(AP21=0,0,(AP21*((LOG(AP21))/LOG(2))))","v":-0.375},null,{"$f":"N21","v":2221},{"$f":"COUNTIF(L94:L110,AS21)","v":0},{"$f":"AT21/(AV4-AT20)","v":0},{"$f":"IF(AU21=0,0,(AU21*((LOG(AU21))/LOG(2))))","v":0}]
[21,2323,21,2332,11,2344,21,2354,null,null,0,2212,null,2222,{"$f":"COUNTIF($L$7:$L$500,N22)","v":41},{"$f":"O22/$Q$4","v":0.39423076923076922},{"$f":"IF(P22=0,0,(P22*((LOG(P22))/LOG(2))))","v":-0.52940765629272446},null,null,{"$f":"N22","v":2222},{"$f":"COUNTIF(L7:L23,T22)","v":1},{"$f":"U22/(W4-U20)","v":6.6666666666666666E-2},{"$f":"IF(V22=0,0,(V22*((LOG(V22))/LOG(2))))","v":-0.26045937304056793},null,{"$f":"N22","v":2222},{"$f":"COUNTIF(L24:L41,Y22)","v":11},{"$f":"Z22/(AB4-Z20)","v":0.84615384615384615},{"$f":"IF(AA22=0,0,(AA22*((LOG(AA22))/LOG(2))))","v":-0.20392993034936494},null,{"$f":"N22","v":2222},{"$f":"COUNTIF(L42:L58,AD22)","v":9},{"$f":"AE22/(AG4-AE20)","v":0.6},{"$f":"IF(AF22=0,0,(AF22*((LOG(AF22))/LOG(2))))","v":-0.44217935649972373},null,{"$f":"N22","v":2222},{"$f":"COUNTIF(L59:L75,AI22)","v":5},{"$f":"AJ22/(AL4-AJ20)","v":0.33333333333333331},{"$f":"IF(AK22=0,0,(AK22*((LOG(AK22))/LOG(2))))","v":-0.52832083357371862},null,{"$f":"N22","v":2222},{"$f":"COUNTIF(L76:L93,AN22)","v":10},{"$f":"AO22/(AQ4-AO20)","v":0.625},{"$f":"IF(AP22=0,0,(AP22*((LOG(AP22))/LOG(2))))","v":-0.42379494069539858},null,{"$f":"N22","v":2222},{"$f":"COUNTIF(L94:L110,AS22)","v":5},{"$f":"AT22/(AV4-AT20)","v":0.35714285714285715},{"$f":"IF(AU22=0,0,(AU22*((LOG(AU22))/LOG(2))))","v":-0.53050958113222924}]
[21,2451,21,2467,11,2477,12,2485,null,null,0,2211,null,null,null,{"$f":"SUM(P7:P22)","v":1},{"$f":"-SUM(Q7:Q22)","v":3.0579575288582754},null,null,null,null,{"$f":"SUM(V7:V22)","v":1},{"$f":"-SUM(W7:W22)","v":3.1898980954642875},null,null,null,{"$f":"SUM(AA7:AA22)","v":1},{"$f":"-SUM(AB7:AB22)","v":0.77322834852491762},null,null,null,{"$f":"SUM(AF7:AF22)","v":1},{"$f":"-SUM(AG7:AG22)","v":2.0049355947431313},null,null,null,{"$f":"SUM(AK7:AK22)","v":1},{"$f":"-SUM(AL7:AL22)","v":2.5995812306460646},null,null,null,{"$f":"SUM(AP7:AP22)","v":1},{"$f":"-SUM(AQ7:AQ22)","v":1.7987949406953985},null,null,null,{"$f":"SUM(AU7:AU22)","v":1},{"$f":"-SUM(AV7:AV22)","v":2.6923806024549743}]
[21,2603,21,2614,22,2649,23,2669,null,null,0,2222,null,null,null,"U=",{"$f":"Q23/(LOG(Q4)/LOG(2))","v":0.45638161934044635},null,null,null,null,"U1=",{"$f":"W23/(LOG(W4)/LOG(2))","v":0.78041029835723474},null,null,null,"U2=",{"$f":"AB23/(LOG(AB4)/LOG(2))","v":0.18542979748016331},null,null,null,"U3=",{"$f":"AG23/(LOG(AG4)/LOG(2))","v":0.49050858016603505},null,null,null,"U4=",{"$f":"AL23/(LOG(AL4)/LOG(2))","v":0.63598895735792493},null,null,null,"U5=",{"$f":"AQ23/(LOG(AQ4)/LOG(2))","v":0.43137345157843926},null,null,null,"U6=",{"$f":"AV23/(LOG(AV4)/LOG(2))","v":0.65869237397920555}]
[21,2775,21,2815,22,2828,23,2846,null,null,0,2222]
[21,2967,21,3009,22,3023,23,3037,null,null,0,2222]
[21,3163,21,3180,11,3193,21,3225,null,null,0,2212,null,"Total Target Seq"]
[21,3317,21,3326,11,3335,12,3339,null,null,0,2211,null,{"$f":"COUNTIF(L7:L110,G3)","v":16},null,17,18,17,17,18,17]
[12,3438,14,3443,13,3451,23,3475,null,null,0,1112,null,null,null,"% of reinforcement given in 6 equal intervals based on number of trials "]
[21,3663,21,3677,11,3687,21,3695,null,null,0,2212,null,null,null,"%_1","%_2","%_3","%_4","%_5","%_6"]
[21,3886,21,3902,22,3913,23,3925,null,null,0,2222,null,null,"target sequence",{"$f":"$G$3","v":2212},{"$f":"$G$3","v":2212},{"$f":"$G$3","v":2212},{"$f":"$G$3","v":2212},{"$f":"$G$3","v":2212},{"$f":"$G$3","v":2212}]
[21,4067,21,4080,11,4090,21,4097,null,null,0,2212,null,null,"total reinforcement",{"$f":"U20","v":2},{"$f":"Z20","v":5},{"$f":"AE20","v":2},{"$f":"AJ20","v":2},{"$f":"AO20","v":2},{"$f":"AT20","v":3}]
[21,4253,21,4259,11,4270,21,4277,null,null,0,2212,null,null,"% target"]
[21,4406,21,4417,11,4428,21,4440,null,null,0,2212,null,null,"CCRF"]
[21,4633,21,4647,22,4663,23,4680,null,null,0,2222,null,null,"% CCRf"]
[21,4830,21,4840,22,4861,23,4872,null,null,0,2222,null,null,"average response rate",{"$f":"H23/P28","v":146.1764705882353},{"$f":"(H41-H23)/Q28","v":197.11111111111111},{"$f":"(H58-H41)/R28","v":207.58823529411765},{"$f":"(H75-H58)/S28","v":286.64705882352939},{"$f":"(H93-H75)/T28","v":301.44444444444446},{"$f":"(H110-H93)/U28","v":215.8235294117647}]
[21,5083,21,5092,22,5141,23,5152,null,null,0,2222]
[21,5373,21,5384,22,5396,23,5420,null,null,0,2222]
[21,5598,21,5607,22,5633,23,5655,null,null,0,2222]
[21,5770,21,5778,22,5795,23,5815,null,null,0,2222]
[21,5974,21,6006,22,6021,23,6033,null,null,0,2222]
[21,6194,21,6227,22,6237,23,6253,null,null,0,2222]
[21,6376,21,6388,11,6400,12,6404,null,null,0,2211]
[21,6530,21,6546,22,6563,23,6573,null,null,0,2222]
[21,6812,21,6838,22,6851,23,6866,null,null,0,2222]
[21,7017,21,7034,22,7046,23,7061,null,null,0,2222]
[21,7206,21,7230,22,7247,23,7286,null,null,0,2222]
[21,7470,21,7488,22,7505,23,7521,null,null,0,2222]
[21,7695,21,7710,11,7720,21,7732,null,null,0,2212]
[21,7839,21,7872,22,7881,23,7893,null,null,0,2222]
[21,8044,21,8089,22,8099,14,8115,null,null,0,2221]
[12,8283,23,8302,13,8312,23,8321,null,null,0,1212]
[21,8439,21,8461,22,8473,23,8487,null,null,0,2222]
[21,8632,12,8642,24,8653,23,8668,null,null,0,2122]
[12,8800,23,8819,24,8837,14,8868,null,null,0,1221]
[21,8987,21,9038,22,9053,23,9069,null,null,0,2222]
[21,9248,21,9266,11,9298,21,9328,null,null,0,2212]
[21,9534,12,9544,24,9552,14,9562,null,null,0,2121]
[21,9740,21,9759,22,9774,23,9790,null,null,0,2222]
[21,9945,12,9983,24,9990,14,10006,null,null,0,2121]
[21,10216,21,10226,22,10234,23,10252,null,null,0,2222]
[21,10751,21,10760,22,10774,23,10787,null,null,0,2222]
[12,10937,23,10953,13,10969,23,10981,null,null,0,1212]
[21,11355,12,11367,13,11371,23,11380,null,null,0,2112]
[21,11517,12,11529,13,11534,23,11544,null,null,0,2112]
[21,11798,12,11810,24,11817,23,11837,null,null,0,2122]
[21,12098,12,12109,24,12116,23,12130,null,null,0,2122]
[12,12302,14,12319,13,12323,14,12328,null,null,0,1111]
[21,12757,21,12770,11,12782,21,12789,null,null,0,2212]
[12,12950,23,12990,13,13002,23,13014,null,null,0,1212]
[21,13422,21,13430,22,13452,23,13473,null,null,0,2222]
[21,13620,21,13640,22,13657,23,13665,null,null,0,2222]
[21,13816,12,13826,24,13835,14,13848,null,null,0,2121]
[21,14199,21,14208,11,14219,21,14230,null,null,0,2212]
[21,14393,21,14403,22,14418,14,14435,null,null,0,2221]
[21,14571,21,14591,22,14608,23,14632,null,null,0,2222]
[21,14766,21,14786,22,14815,23,14830,null,null,0,2222]
[21,15271,21,15300,22,15309,23,15320,null,null,0,2222]
[21,15510,12,15523,24,15534,23,15572,null,null,0,2122]
[21,15692,21,15701,22,15712,23,15726,null,null,0,2222]
[21,16380,21,16389,22,16419,14,16433,null,null,0,2221]
[21,16629,21,16662,22,16700,23,16715,null,null,0,2222]
[21,17078,21,17111,22,17126,23,17160,null,null,0,2222]
[21,17577,21,17597,22,17611,23,17630,null,null,0,2222]
[21,17947,21,17962,22,17970,14,17981,null,null,0,2221]
[21,18247,21,18278,22,18295,23,18336,null,null,0,2222]
[21,18500,21,18511,22,18523,23,18552,null,null,0,2222]
[21,18783,21,18796,22,18813,23,18838,null,null,0,2222]
[21,18992,21,19014,11,19033,21,19043,null,null,0,2212]
[21,19203,21,19218,11,19228,21,19238,null,null,0,2212]
[12,19391,23,19414,13,19436,23,19444,null,null,0,1212]
[12,19604,14,19631,24,19652,23,19668,null,null,0,1122]
[21,19810,21,19821,11,19833,12,19861,null,null,0,2211]
[21,20005,21,20017,22,20033,23,20048,null,null,0,2222]
[21,20205,12,20216,24,20223,23,20243,null,null,0,2122]
[21,20378,21,20387,22,20399,23,20422,null,null,0,2222]
[21,20553,12,20570,24,20582,23,20601,null,null,0,2122]
[21,20720,21,20732,11,20743,21,20751,null,null,0,2212]
[12,20895,14,20901,24,20909,14,20924,null,null,0,1121]
[21,21064,21,21081,22,21098,23,21105,null,null,0,2222]
[21,21282,21,21299,11,21316,21,21326,null,null,0,2212]
[12,21433,14,21437,24,21445,14,21459,null,null,0,1121]
[21,21597,21,21612,22,21639,23,21649,null,null,0,2222]
[21,21779,21,21791,11,21816,12,21824,null,null,0,2211]
[21,21979,12,21991,24,22001,14,22026,null,null,0,2121]
[12,22171,23,22182,24,22197,14,22211,null,null,0,1221]
[21,22342,21,22369,22,22409,23,22554,null,null,0,2222]
[12,22671,23,22701,13,22710,23,22719,null,null,0,1212]
[12,23144,14,23160,13,23168,23,23179,null,null,0,1112]
[21,23487,21,23508,11,23523,21,23530,null,null,0,2212]

{"sheet":"!MA25B30.096","index":15,"n_rows":170,"n_cols":48,"rows_kept":170,"cut":false,"hidden":false,"merged":[[4,39,4,42],[5,39,5,40],[4,44,4,47],[5,44,5,45],[4,24,4,27],[5,24,5,25],[4,29,4,32],[5,29,5,30],[4,34,4,37],[5,34,5,35],[1,1,1,2],[5,13,5,14],[26,13,26,14],[27,13,27,14],[4,19,4,22],[5,19,5,20]]}
["Report for:!MA25B30.096"]
["Date:","<date>"]
["Hen:","<hen>",null,null,null,"Correct Sequence",{"$f":"Start!J2","v":2212},null,null,null,null,null,null,null,null,"Total Sequences in Data",{"$f":"4994-COUNTBLANK(L7:L5000)","v":164},null,null,null,null,"Total Sequences in Block Data",{"$f":"COUNTA(L7:L33)","v":27},null,null,null,"Total Sequences in Block Data",{"$f":"COUNTA(L34:L61)","v":28},null,null,null,"Total Sequences in Block Data",{"$f":"COUNTA(L62:L88)","v":27},null,null,null,"Total Sequences in Block Data",{"$f":"COUNTA(L89:L115)","v":27},null,null,null,"Total Sequences in Block Data",{"$f":"COUNTA(L116:L143)","v":28},null,null,null,"Total Sequences in Block Data",{"$f":"COUNTA(L144:L170)","v":27}]
[null,null,null,null,null,null,null,null,null,null,null,null,null,null,null,"Total Sequences in Summary",{"$f":"SUM(O7:O22)","v":164},null,null,null,null,"Total Sequences in Block Summary",{"$f":"SUM(U7:U22)","v":27},null,null,null,"Total Sequences in Block Summary",{"$f":"SUM(Z7:Z22)","v":28},null,null,null,"Total Sequences in Block Summary",{"$f":"SUM(AE7:AE22)","v":27},null,null,null,"Total Sequences in Block Summary",{"$f":"SUM(AJ7:AJ22)","v":27},null,null,null,"Total Sequences in Block Summary",{"$f":"SUM(AO7:AO22)","v":28},null,null,null,"Total Sequences in Block Summary",{"$f":"SUM(AT7:AT22)","v":27}]
[null,null,null,null,null,null,null,null,null,null,null,null,null,null,null,null,null,null,null,"Block 1",null,null,null,null,"Block 2",null,null,null,null,"Block 3",null,null,null,null,"Block 4",null,null,null,null,"Block 5",null,null,null,null,"Block 6"]
["Sequence\nComponent\n1","Time\n1","Sequence\nComponent\n2","Time\n2","Sequence\nComponent\n3","Time\n3","Sequence\nComponent\n4","Time\n4","Sequence\nComponent\n5","Time\n5","Correct?\n0=No 1=Yes","Sequence",null,"Frequency",null,"Relative Frequency","Variability",null,null,"Frequency",null,"Relative Frequency","Variability",null,"Frequency",null,"Relative Frequency","Variability",null,"Frequency",null,"Relative Frequency","Variability",null,"Frequency",null,"Relative Frequency","Variability",null,"Frequency",null,"Relative Frequency","Variability",null,"Frequency",null,"Relative Frequency","Variability"]
[21,26,12,36,24,52,23,65,null,null,0,2122,null,1111,{"$f":"COUNTIF($L$7:$L$500,N7)","v":29},{"$f":"O7/$Q$4","v":0.17682926829268292},{"$f":"IF(P7=0,0,(P7*((LOG(P7))/LOG(2))))","v":-0.44199731265380993},null,null,{"$f":"N7","v":1111},{"$f":"COUNTIF(L7:L33,T7)","v":4},{"$f":"U7/(W4-U20)","v":0.15384615384615385},{"$f":"IF(V7=0,0,(V7*((LOG(V7))/LOG(2))))","v":-0.4154522643293988},null,{"$f":"N7","v":1111},{"$f":"COUNTIF(L34:L61,Y7)","v":6},{"$f":"Z7/(AB4-Z20)","v":0.23076923076923078},{"$f":"IF(AA7=0,0,(AA7*((LOG(AA7))/LOG(2))))","v":-0.48818705017383146},null,{"$f":"N7","v":1111},{"$f":"COUNTIF(L62:L88,AD7)","v":9},{"$f":"AE7/(AG4-AE20)","v":0.34615384615384615},{"$f":"IF(AF7=0,0,(AF7*((LOG(AF7))/LOG(2))))","v":-0.52979355578034681},null,{"$f":"N7","v":1111},{"$f":"COUNTIF(L89:L115,AI7)","v":2},{"$f":"AJ7/(AL4-AJ20)","v":7.6923076923076927E-2},{"$f":"IF(AK7=0,0,(AK7*((LOG(AK7))/LOG(2))))","v":-0.28464920908777636},null,{"$f":"N7","v":1111},{"$f":"COUNTIF(L116:L143,AN7)","v":7},{"$f":"AO7/(AQ4-AO20)","v":0.29166666666666669},{"$f":"IF(AP7=0,0,(AP7*((LOG(AP7))/LOG(2))))","v":-0.51846887711020273},null,{"$f":"N7","v":1111},{"$f":"COUNTIF(L144:L170,AS7)","v":1},{"$f":"AT7/(AV4-AT20)","v":4.1666666666666664E-2},{"$f":"IF(AU7=0,0,(AU7*((LOG(AU7))/LOG(2))))","v":-0.19104010419671485}]
[12,162,14,166,13,174,14,179,null,null,0,1111,null,1112,{"$f":"COUNTIF($L$7:$L$500,N8)","v":35},{"$f":"O8/$Q$4","v":0.21341463414634146},{"$f":"IF(P8=0,0,(P8*((LOG(P8))/LOG(2))))","v":-0.475545210783897},null,null,{"$f":"N8","v":1112},{"$f":"COUNTIF(L7:L33,T8)","v":7},{"$f":"U8/(W4-U20)","v":0.26923076923076922},{"$f":"IF(V8=0,0,(V8*((LOG(V8))/LOG(2))))","v":-0.50967667586863141},null,{"$f":"N8","v":1112},{"$f":"COUNTIF(L34:L61,Y8)","v":7},{"$f":"Z8/(AB4-Z20)","v":0.26923076923076922},{"$f":"IF(AA8=0,0,(AA8*((LOG(AA8))/LOG(2))))","v":-0.50967667586863141},null,{"$f":"N8","v":1112},{"$f":"COUNTIF(L62:L88,AD8)","v":9},{"$f":"AE8/(AG4-AE20)","v":0.34615384615384615},{"$f":"IF(AF8=0,0,(AF8*((LOG(AF8))/LOG(2))))","v":-0.52979355578034681},null,{"$f":"N8","v":1112},{"$f":"COUNTIF(L89:L115,AI8)","v":1},{"$f":"AJ8/(AL4-AJ20)","v":3.8461538461538464E-2},{"$f":"IF(AK8=0,0,(AK8*((LOG(AK8))/LOG(2))))","v":-0.18078614300542661},null,{"$f":"N8","v":1112},{"$f":"COUNTIF(L116:L143,AN8)","v":5},{"$f":"AO8/(AQ4-AO20)","v":0.20833333333333334},{"$f":"IF(AP8=0,0,(AP8*((LOG(AP8))/LOG(2))))","v":-0.47146550121537367},null,{"$f":"N8","v":1112},{"$f":"COUNTIF(L144:L170,AS8)","v":6},{"$f":"AT8/(AV4-AT20)","v":0.25},{"$f":"IF(AU8=0,0,(AU8*((LOG(AU8))/LOG(2))))","v":-0.5}]
[12,427,23,439,13,450,14,455,null,null,0,1211,null,1121,{"$f":"COUNTIF($L$7:$L$500,N9)","v":18},{"$f":"O9/$Q$4","v":0.10975609756097561},{"$f":"IF(P9=0,0,(P9*((LOG(P9))/LOG(2))))","v":-0.34986150034856023},null,null,{"$f":"N9","v":1121},{"$f":"COUNTIF(L7:L33,T9)","v":2},{"$f":"U9/(W4-U20)","v":7.6923076923076927E-2},{"$f":"IF(V9=0,0,(V9*((LOG(V9))/LOG(2))))","v":-0.28464920908777636},null,{"$f":"N9","v":1121},{"$f":"COUNTIF(L34:L61,Y9)","v":5},{"$f":"Z9/(AB4-Z20)","v":0.19230769230769232},{"$f":"IF(AA9=0,0,(AA9*((LOG(AA9))/LOG(2))))","v":-0.45740608139494804},null,{"$f":"N9","v":1121},{"$f":"COUNTIF(L62:L88,AD9)","v":3},{"$f":"AE9/(AG4-AE20)","v":0.11538461538461539},{"$f":"IF(AF9=0,0,(AF9*((LOG(AF9))/LOG(2))))","v":-0.35947814047153104},null,{"$f":"N9","v":1121},{"$f":"COUNTIF(L89:L115,AI9)","v":0},{"$f":"AJ9/(AL4-AJ20)","v":0},{"$f":"IF(AK9=0,0,(AK9*((LOG(AK9))/LOG(2))))","v":0},null,{"$f":"N9","v":1121},{"$f":"COUNTIF(L116:L143,AN9)","v":4},{"$f":"AO9/(AQ4-AO20)","v":0.16666666666666666},{"$f":"IF(AP9=0,0,(AP9*((LOG(AP9))/LOG(2))))","v":-0.43082708345352599},null,{"$f":"N9","v":1121},{"$f":"COUNTIF(L144:L170,AS9)","v":4},{"$f":"AT9/(AV4-AT20)","v":0.16666666666666666},{"$f":"IF(AU9=0,0,(AU9*((LOG(AU9))/LOG(2))))","v":-0.43082708345352599}]
[12,552,14,556,13,562,23,570,null,null,0,1112,null,1122,{"$f":"COUNTIF($L$7:$L$500,N10)","v":8},{"$f":"O10/$Q$4","v":4.878048780487805E-2},{"$f":"IF(P10=0,0,(P10*((LOG(P10))/LOG(2))))","v":-0.21256351242039428},null,null,{"$f":"N10","v":1122},{"$f":"COUNTIF(L7:L33,T10)","v":3},{"$f":"U10/(W4-U20)","v":0.11538461538461539},{"$f":"IF(V10=0,0,(V10*((LOG(V10))/LOG(2))))","v":-0.35947814047153104},null,{"$f":"N10","v":1122},{"$f":"COUNTIF(L34:L61,Y10)","v":2},{"$f":"Z10/(AB4-Z20)","v":7.6923076923076927E-2},{"$f":"IF(AA10=0,0,(AA10*((LOG(AA10))/LOG(2))))","v":-0.28464920908777636},null,{"$f":"N10","v":1122},{"$f":"COUNTIF(L62:L88,AD10)","v":0},{"$f":"AE10/(AG4-AE20)","v":0},{"$f":"IF(AF10=0,0,(AF10*((LOG(AF10))/LOG(2))))","v":0},null,{"$f":"N10","v":1122},{"$f":"COUNTIF(L89:L115,AI10)","v":0},{"$f":"AJ10/(AL4-AJ20)","v":0},{"$f":"IF(AK10=0,0,(AK10*((LOG(AK10))/LOG(2))))","v":0},null,{"$f":"N10","v":1122},{"$f":"COUNTIF(L116:L143,AN10)","v":2},{"$f":"AO10/(AQ4-AO20)","v":8.3333333333333329E-2},{"$f":"IF(AP10=0,0,(AP10*((LOG(AP10))/LOG(2))))","v":-0.29874687506009634},null,{"$f":"N10","v":1122},{"$f":"COUNTIF(L144:L170,AS10)","v":1},{"$f":"AT10/(AV4-AT20)","v":4.1666666666666664E-2},{"$f":"IF(AU10=0,0,(AU10*((LOG(AU10))/LOG(2))))","v":-0.19104010419671485}]
[12,669,14,673,24,683,14,694,null,null,0,1121,null,1211,{"$f":"COUNTIF($L$7:$L$500,N11)","v":3},{"$f":"O11/$Q$4","v":1.8292682926829267E-2},{"$f":"IF(P11=0,0,(P11*((LOG(P11))/LOG(2))))","v":-0.10559614946152916},null,null,{"$f":"N11","v":1211},{"$f":"COUNTIF(L7:L33,T11)","v":2},{"$f":"U11/(W4-U20)","v":7.6923076923076927E-2},{"$f":"IF(V11=0,0,(V11*((LOG(V11))/LOG(2))))","v":-0.28464920908777636},null,{"$f":"N11","v":1211},{"$f":"COUNTIF(L34:L61,Y11)","v":1},{"$f":"Z11/(AB4-Z20)","v":3.8461538461538464E-2},{"$f":"IF(AA11=0,0,(AA11*((LOG(AA11))/LOG(2))))","v":-0.18078614300542661},null,{"$f":"N11","v":1211},{"$f":"COUNTIF(L62:L88,AD11)","v":0},{"$f":"AE11/(AG4-AE20)","v":0},{"$f":"IF(AF11=0,0,(AF11*((LOG(AF11))/LOG(2))))","v":0},null,{"$f":"N11","v":1211},{"$f":"COUNTIF(L89:L115,AI11)","v":0},{"$f":"AJ11/(AL4-AJ20)","v":0},{"$f":"IF(AK11=0,0,(AK11*((LOG(AK11))/LOG(2))))","v":0},null,{"$f":"N11","v":1211},{"$f":"COUNTIF(L116:L143,AN11)","v":0},{"$f":"AO11/(AQ4-AO20)","v":0},{"$f":"IF(AP11=0,0,(AP11*((LOG(AP11))/LOG(2))))","v":0},null,{"$f":"N11","v":1211},{"$f":"COUNTIF(L144:L170,AS11)","v":0},{"$f":"AT11/(AV4-AT20)","v":0},{"$f":"IF(AU11=0,0,(AU11*((LOG(AU11))/LOG(2))))","v":0}]
[21,800,21,821,22,833,23,845,null,null,0,2222,null,1212,{"$f":"COUNTIF($L$7:$L$500,N12)","v":10},{"$f":"O12/$Q$4","v":6.097560975609756E-2},{"$f":"IF(P12=0,0,(P12*((LOG(P12))/LOG(2))))","v":-0.24607462864211713},null,null,{"$f":"N12","v":1212},{"$f":"COUNTIF(L7:L33,T12)","v":0},{"$f":"U12/(W4-U20)","v":0},{"$f":"IF(V12=0,0,(V12*((LOG(V12))/LOG(2))))","v":0},null,{"$f":"N12","v":1212},{"$f":"COUNTIF(L34:L61,Y12)","v":2},{"$f":"Z12/(AB4-Z20)","v":7.6923076923076927E-2},{"$f":"IF(AA12=0,0,(AA12*((LOG(AA12))/LOG(2))))","v":-0.28464920908777636},null,{"$f":"N12","v":1212},{"$f":"COUNTIF(L62:L88,AD12)","v":1},{"$f":"AE12/(AG4-AE20)","v":3.8461538461538464E-2},{"$f":"IF(AF12=0,0,(AF12*((LOG(AF12))/LOG(2))))","v":-0.18078614300542661},null,{"$f":"N12","v":1212},{"$f":"COUNTIF(L89:L115,AI12)","v":3},{"$f":"AJ12/(AL4-AJ20)","v":0.11538461538461539},{"$f":"IF(AK12=0,0,(AK12*((LOG(AK12))/LOG(2))))","v":-0.35947814047153104},null,{"$f":"N12","v":1212},{"$f":"COUNTIF(L116:L143,AN12)","v":2},{"$f":"AO12/(AQ4-AO20)","v":8.3333333333333329E-2},{"$f":"IF(AP12=0,0,(AP12*((LOG(AP12))/LOG(2))))","v":-0.29874687506009634},null,{"$f":"N12","v":1212},{"$f":"COUNTIF(L144:L170,AS12)","v":2},{"$f":"AT12/(AV4-AT20)","v":8.3333333333333329E-2},{"$f":"IF(AU12=0,0,(AU12*((LOG(AU12))/LOG(2))))","v":-0.29874687506009634}]
[12,949,14,953,24,962,23,976,null,null,0,1122,null,1221,{"$f":"COUNTIF($L$7:$L$500,N13)","v":5},{"$f":"O13/$Q$4","v":3.048780487804878E-2},{"$f":"IF(P13=0,0,(P13*((LOG(P13))/LOG(2))))","v":-0.15352511919910736},null,null,{"$f":"N13","v":1221},{"$f":"COUNTIF(L7:L33,T13)","v":2},{"$f":"U13/(W4-U20)","v":7.6923076923076927E-2},{"$f":"IF(V13=0,0,(V13*((LOG(V13))/LOG(2))))","v":-0.28464920908777636},null,{"$f":"N13","v":1221},{"$f":"COUNTIF(L34:L61,Y13)","v":0},{"$f":"Z13/(AB4-Z20)","v":0},{"$f":"IF(AA13=0,0,(AA13*((LOG(AA13))/LOG(2))))","v":0},null,{"$f":"N13","v":1221},{"$f":"COUNTIF(L62:L88,AD13)","v":0},{"$f":"AE13/(AG4-AE20)","v":0},{"$f":"IF(AF13=0,0,(AF13*((LOG(AF13))/LOG(2))))","v":0},null,{"$f":"N13","v":1221},{"$f":"COUNTIF(L89:L115,AI13)","v":2},{"$f":"AJ13/(AL4-AJ20)","v":7.6923076923076927E-2},{"$f":"IF(AK13=0,0,(AK13*((LOG(AK13))/LOG(2))))","v":-0.28464920908777636},null,{"$f":"N13","v":1221},{"$f":"COUNTIF(L116:L143,AN13)","v":0},{"$f":"AO13/(AQ4-AO20)","v":0},{"$f":"IF(AP13=0,0,(AP13*((LOG(AP13))/LOG(2))))","v":0},null,{"$f":"N13","v":1221},{"$f":"COUNTIF(L144:L170,AS13)","v":1},{"$f":"AT13/(AV4-AT20)","v":4.1666666666666664E-2},{"$f":"IF(AU13=0,0,(AU13*((LOG(AU13))/LOG(2))))","v":-0.19104010419671485}]
[12,1080,14,1085,13,1093,23,1105,null,null,0,1112,null,1222,{"$f":"COUNTIF($L$7:$L$500,N14)","v":0},{"$f":"O14/$Q$4","v":0},{"$f":"IF(P14=0,0,(P14*((LOG(P14))/LOG(2))))","v":0},null,null,{"$f":"N14","v":1222},{"$f":"COUNTIF(L7:L33,T14)","v":0},{"$f":"U14/(W4-U20)","v":0},{"$f":"IF(V14=0,0,(V14*((LOG(V14))/LOG(2))))","v":0},null,{"$f":"N14","v":1222},{"$f":"COUNTIF(L34:L61,Y14)","v":0},{"$f":"Z14/(AB4-Z20)","v":0},{"$f":"IF(AA14=0,0,(AA14*((LOG(AA14))/LOG(2))))","v":0},null,{"$f":"N14","v":1222},{"$f":"COUNTIF(L62:L88,AD14)","v":0},{"$f":"AE14/(AG4-AE20)","v":0},{"$f":"IF(AF14=0,0,(AF14*((LOG(AF14))/LOG(2))))","v":0},null,{"$f":"N14","v":1222},{"$f":"COUNTIF(L89:L115,AI14)","v":0},{"$f":"AJ14/(AL4-AJ20)","v":0},{"$f":"IF(AK14=0,0,(AK14*((LOG(AK14))/LOG(2))))","v":0},null,{"$f":"N14","v":1222},{"$f":"COUNTIF(L116:L143,AN14)","v":0},{"$f":"AO14/(AQ4-AO20)","v":0},{"$f":"IF(AP14=0,0,(AP14*((LOG(AP14))/LOG(2))))","v":0},null,{"$f":"N14","v":1222},{"$f":"COUNTIF(L144:L170,AS14)","v":0},{"$f":"AT14/(AV4-AT20)","v":0},{"$f":"IF(AU14=0,0,(AU14*((LOG(AU14))/LOG(2))))","v":0}]
[21,1209,21,1236,22,1256,23,1267,null,null,0,2222,null,2111,{"$f":"COUNTIF($L$7:$L$500,N15)","v":4},{"$f":"O15/$Q$4","v":2.4390243902439025E-2},{"$f":"IF(P15=0,0,(P15*((LOG(P15))/LOG(2))))","v":-0.13067200011263619},null,null,{"$f":"N15","v":2111},{"$f":"COUNTIF(L7:L33,T15)","v":1},{"$f":"U15/(W4-U20)","v":3.8461538461538464E-2},{"$f":"IF(V15=0,0,(V15*((LOG(V15))/LOG(2))))","v":-0.18078614300542661},null,{"$f":"N15","v":2111},{"$f":"COUNTIF(L34:L61,Y15)","v":1},{"$f":"Z15/(AB4-Z20)","v":3.8461538461538464E-2},{"$f":"IF(AA15=0,0,(AA15*((LOG(AA15))/LOG(2))))","v":-0.18078614300542661},null,{"$f":"N15","v":2111},{"$f":"COUNTIF(L62:L88,AD15)","v":1},{"$f":"AE15/(AG4-AE20)","v":3.8461538461538464E-2},{"$f":"IF(AF15=0,0,(AF15*((LOG(AF15))/LOG(2))))","v":-0.18078614300542661},null,{"$f":"N15","v":2111},{"$f":"COUNTIF(L89:L115,AI15)","v":0},{"$f":"AJ15/(AL4-AJ20)","v":0},{"$f":"IF(AK15=0,0,(AK15*((LOG(AK15))/LOG(2))))","v":0},null,{"$f":"N15","v":2111},{"$f":"COUNTIF(L116:L143,AN15)","v":1},{"$f":"AO15/(AQ4-AO20)","v":4.1666666666666664E-2},{"$f":"IF(AP15=0,0,(AP15*((LOG(AP15))/LOG(2))))","v":-0.19104010419671485},null,{"$f":"N15","v":2111},{"$f":"COUNTIF(L144:L170,AS15)","v":0},{"$f":"AT15/(AV4-AT20)","v":0},{"$f":"IF(AU15=0,0,(AU15*((LOG(AU15))/LOG(2))))","v":0}]
[12,1372,14,1387,24,1413,14,1424,null,null,0,1121,null,2112,{"$f":"COUNTIF($L$7:$L$500,N16)","v":10},{"$f":"O16/$Q$4","v":6.097560975609756E-2},{"$f":"IF(P16=0,0,(P16*((LOG(P16))/LOG(2))))","v":-0.24607462864211713},null,null,{"$f":"N16","v":2112},{"$f":"COUNTIF(L7:L33,T16)","v":0},{"$f":"U16/(W4-U20)","v":0},{"$f":"IF(V16=0,0,(V16*((LOG(V16))/LOG(2))))","v":0},null,{"$f":"N16","v":2112},{"$f":"COUNTIF(L34:L61,Y16)","v":1},{"$f":"Z16/(AB4-Z20)","v":3.8461538461538464E-2},{"$f":"IF(AA16=0,0,(AA16*((LOG(AA16))/LOG(2))))","v":-0.18078614300542661},null,{"$f":"N16","v":2112},{"$f":"COUNTIF(L62:L88,AD16)","v":2},{"$f":"AE16/(AG4-AE20)","v":7.6923076923076927E-2},{"$f":"IF(AF16=0,0,(AF16*((LOG(AF16))/LOG(2))))","v":-0.28464920908777636},null,{"$f":"N16","v":2112},{"$f":"COUNTIF(L89:L115,AI16)","v":4},{"$f":"AJ16/(AL4-AJ20)","v":0.15384615384615385},{"$f":"IF(AK16=0,0,(AK16*((LOG(AK16))/LOG(2))))","v":-0.4154522643293988},null,{"$f":"N16","v":2112},{"$f":"COUNTIF(L116:L143,AN16)","v":1},{"$f":"AO16/(AQ4-AO20)","v":4.1666666666666664E-2},{"$f":"IF(AP16=0,0,(AP16*((LOG(AP16))/LOG(2))))","v":-0.19104010419671485},null,{"$f":"N16","v":2112},{"$f":"COUNTIF(L144:L170,AS16)","v":2},{"$f":"AT16/(AV4-AT20)","v":8.3333333333333329E-2},{"$f":"IF(AU16=0,0,(AU16*((LOG(AU16))/LOG(2))))","v":-0.29874687506009634}]
[12,1540,23,1559,13,1574,14,1585,null,null,0,1211,null,2121,{"$f":"COUNTIF($L$7:$L$500,N17)","v":8},{"$f":"O17/$Q$4","v":4.878048780487805E-2},{"$f":"IF(P17=0,0,(P17*((LOG(P17))/LOG(2))))","v":-0.21256351242039428},null,null,{"$f":"N17","v":2121},{"$f":"COUNTIF(L7:L33,T17)","v":0},{"$f":"U17/(W4-U20)","v":0},{"$f":"IF(V17=0,0,(V17*((LOG(V17))/LOG(2))))","v":0},null,{"$f":"N17","v":2121},{"$f":"COUNTIF(L34:L61,Y17)","v":1},{"$f":"Z17/(AB4-Z20)","v":3.8461538461538464E-2},{"$f":"IF(AA17=0,0,(AA17*((LOG(AA17))/LOG(2))))","v":-0.18078614300542661},null,{"$f":"N17","v":2121},{"$f":"COUNTIF(L62:L88,AD17)","v":0},{"$f":"AE17/(AG4-AE20)","v":0},{"$f":"IF(AF17=0,0,(AF17*((LOG(AF17))/LOG(2))))","v":0},null,{"$f":"N17","v":2121},{"$f":"COUNTIF(L89:L115,AI17)","v":5},{"$f":"AJ17/(AL4-AJ20)","v":0.19230769230769232},{"$f":"IF(AK17=0,0,(AK17*((LOG(AK17))/LOG(2))))","v":-0.45740608139494804},null,{"$f":"N17","v":2121},{"$f":"COUNTIF(L116:L143,AN17)","v":0},{"$f":"AO17/(AQ4-AO20)","v":0},{"$f":"IF(AP17=0,0,(AP17*((LOG(AP17))/LOG(2))))","v":0},null,{"$f":"N17","v":2121},{"$f":"COUNTIF(L144:L170,AS17)","v":2},{"$f":"AT17/(AV4-AT20)","v":8.3333333333333329E-2},{"$f":"IF(AU17=0,0,(AU17*((LOG(AU17))/LOG(2))))","v":-0.29874687506009634}]
[21,1721,21,1750,11,1792,21,1800,null,null,0,2212,null,2122,{"$f":"COUNTIF($L$7:$L$500,N18)","v":13},{"$f":"O18/$Q$4","v":7.926829268292683E-2},{"$f":"IF(P18=0,0,(P18*((LOG(P18))/LOG(2))))","v":-0.28989304709878588},null,null,{"$f":"N18","v":2122},{"$f":"COUNTIF(L7:L33,T18)","v":2},{"$f":"U18/(W4-U20)","v":7.6923076923076927E-2},{"$f":"IF(V18=0,0,(V18*((LOG(V18))/LOG(2))))","v":-0.28464920908777636},null,{"$f":"N18","v":2122},{"$f":"COUNTIF(L34:L61,Y18)","v":0},{"$f":"Z18/(AB4-Z20)","v":0},{"$f":"IF(AA18=0,0,(AA18*((LOG(AA18))/LOG(2))))","v":0},null,{"$f":"N18","v":2122},{"$f":"COUNTIF(L62:L88,AD18)","v":0},{"$f":"AE18/(AG4-AE20)","v":0},{"$f":"IF(AF18=0,0,(AF18*((LOG(AF18))/LOG(2))))","v":0},null,{"$f":"N18","v":2122},{"$f":"COUNTIF(L89:L115,AI18)","v":6},{"$f":"AJ18/(AL4-AJ20)","v":0.23076923076923078},{"$f":"IF(AK18=0,0,(AK18*((LOG(AK18))/LOG(2))))","v":-0.48818705017383146},null,{"$f":"N18","v":2122},{"$f":"COUNTIF(L116:L143,AN18)","v":0},{"$f":"AO18/(AQ4-AO20)","v":0},{"$f":"IF(AP18=0,0,(AP18*((LOG(AP18))/LOG(2))))","v":0},null,{"$f":"N18","v":2122},{"$f":"COUNTIF(L144:L170,AS18)","v":5},{"$f":"AT18/(AV4-AT20)","v":0.20833333333333334},{"$f":"IF(AU18=0,0,(AU18*((LOG(AU18))/LOG(2))))","v":-0.47146550121537367}]
[21,1923,12,1939,13,1984,14,1988,null,null,0,2111,null,2211,{"$f":"COUNTIF($L$7:$L$500,N19)","v":0},{"$f":"O19/$Q$4","v":0},{"$f":"IF(P19=0,0,(P19*((LOG(P19))/LOG(2))))","v":0},null,null,{"$f":"N19","v":2211},{"$f":"COUNTIF(L7:L33,T19)","v":0},{"$f":"U19/(W4-U20)","v":0},{"$f":"IF(V19=0,0,(V19*((LOG(V19))/LOG(2))))","v":0},null,{"$f":"N19","v":2211},{"$f":"COUNTIF(L34:L61,Y19)","v":0},{"$f":"Z19/(AB4-Z20)","v":0},{"$f":"IF(AA19=0,0,(AA19*((LOG(AA19))/LOG(2))))","v":0},null,{"$f":"N19","v":2211},{"$f":"COUNTIF(L62:L88,AD19)","v":0},{"$f":"AE19/(AG4-AE20)","v":0},{"$f":"IF(AF19=0,0,(AF19*((LOG(AF19))/LOG(2))))","v":0},null,{"$f":"N19","v":2211},{"$f":"COUNTIF(L89:L115,AI19)","v":0},{"$f":"AJ19/(AL4-AJ20)","v":0},{"$f":"IF(AK19=0,0,(AK19*((LOG(AK19))/LOG(2))))","v":0},null,{"$f":"N19","v":2211},{"$f":"COUNTIF(L116:L143,AN19)","v":0},{"$f":"AO19/(AQ4-AO20)","v":0},{"$f":"IF(AP19=0,0,(AP19*((LOG(AP19))/LOG(2))))","v":0},null,{"$f":"N19","v":2211},{"$f":"COUNTIF(L144:L170,AS19)","v":0},{"$f":"AT19/(AV4-AT20)","v":0},{"$f":"IF(AU19=0,0,(AU19*((LOG(AU19))/LOG(2))))","v":0}]
[21,2100,12,2111,24,2148,23,2156,null,null,0,2122,null,2212,{"$f":"COUNTIF($L$7:$L$500,N20)","v":12},{"$f":"O20/$Q$4","v":7.3170731707317069E-2},{"$f":"IF(P20=0,0,(P20*((LOG(P20))/LOG(2))))","v":-0.27604313443148248},null,null,{"$f":"N20","v":2212},{"$f":"COUNTIF(L7:L33,T20)","v":1},null,null,null,{"$f":"N20","v":2212},{"$f":"COUNTIF(L34:L61,Y20)","v":2},null,null,null,{"$f":"N20","v":2212},{"$f":"COUNTIF(L62:L88,AD20)","v":1},null,null,null,{"$f":"N20","v":2212},{"$f":"COUNTIF(L89:L115,AI20)","v":1},null,null,null,{"$f":"N20","v":2212},{"$f":"COUNTIF(L116:L143,AN20)","v":4},null,null,null,{"$f":"N20","v":2212},{"$f":"COUNTIF(L144:L170,AS20)","v":3}]
[12,2259,14,2277,13,2285,23,2303,null,null,0,1112,null,2221,{"$f":"COUNTIF($L$7:$L$500,N21)","v":2},{"$f":"O21/$Q$4","v":1.2195121951219513E-2},{"$f":"IF(P21=0,0,(P21*((LOG(P21))/LOG(2))))","v":-7.7531122007537603E-2},null,null,{"$f":"N21","v":2221},{"$f":"COUNTIF(L7:L33,T21)","v":0},{"$f":"U21/(W4-U20)","v":0},{"$f":"IF(V21=0,0,(V21*((LOG(V21))/LOG(2))))","v":0},null,{"$f":"N21","v":2221},{"$f":"COUNTIF(L34:L61,Y21)","v":0},{"$f":"Z21/(AB4-Z20)","v":0},{"$f":"IF(AA21=0,0,(AA21*((LOG(AA21))/LOG(2))))","v":0},null,{"$f":"N21","v":2221},{"$f":"COUNTIF(L62:L88,AD21)","v":0},{"$f":"AE21/(AG4-AE20)","v":0},{"$f":"IF(AF21=0,0,(AF21*((LOG(AF21))/LOG(2))))","v":0},null,{"$f":"N21","v":2221},{"$f":"COUNTIF(L89:L115,AI21)","v":1},{"$f":"AJ21/(AL4-AJ20)","v":3.8461538461538464E-2},{"$f":"IF(AK21=0,0,(AK21*((LOG(AK21))/LOG(2))))","v":-0.18078614300542661},null,{"$f":"N21","v":2221},{"$f":"COUNTIF(L116:L143,AN21)","v":1},{"$f":"AO21/(AQ4-AO20)","v":4.1666666666666664E-2},{"$f":"IF(AP21=0,0,(AP21*((LOG(AP21))/LOG(2))))","v":-0.19104010419671485},null,{"$f":"N21","v":2221},{"$f":"COUNTIF(L144:L170,AS21)","v":0},{"$f":"AT21/(AV4-AT20)","v":0},{"$f":"IF(AU21=0,0,(AU21*((LOG(AU21))/LOG(2))))","v":0}]
[12,2423,23,2448,24,2459,14,2470,null,null,0,1221,null,2222,{"$f":"COUNTIF($L$7:$L$500,N22)","v":7},{"$f":"O22/$Q$4","v":4.2682926829268296E-2},{"$f":"IF(P22=0,0,(P22*((LOG(P22))/LOG(2))))","v":-0.19421572913367902},null,null,{"$f":"N22","v":2222},{"$f":"COUNTIF(L7:L33,T22)","v":3},{"$f":"U22/(W4-U20)","v":0.11538461538461539},{"$f":"IF(V22=0,0,(V22*((LOG(V22))/LOG(2))))","v":-0.35947814047153104},null,{"$f":"N22","v":2222},{"$f":"COUNTIF(L34:L61,Y22)","v":0},{"$f":"Z22/(AB4-Z20)","v":0},{"$f":"IF(AA22=0,0,(AA22*((LOG(AA22))/LOG(2))))","v":0},null,{"$f":"N22","v":2222},{"$f":"COUNTIF(L62:L88,AD22)","v":1},{"$f":"AE22/(AG4-AE20)","v":3.8461538461538464E-2},{"$f":"IF(AF22=0,0,(AF22*((LOG(AF22))/LOG(2))))","v":-0.18078614300542661},null,{"$f":"N22","v":2222},{"$f":"COUNTIF(L89:L115,AI22)","v":2},{"$f":"AJ22/(AL4-AJ20)","v":7.6923076923076927E-2},{"$f":"IF(AK22=0,0,(AK22*((LOG(AK22))/LOG(2))))","v":-0.28464920908777636},null,{"$f":"N22","v":2222},{"$f":"COUNTIF(L116:L143,AN22)","v":1},{"$f":"AO22/(AQ4-AO20)","v":4.1666666666666664E-2},{"$f":"IF(AP22=0,0,(AP22*((LOG(AP22))/LOG(2))))","v":-0.19104010419671485},null,{"$f":"N22","v":2222},{"$f":"COUNTIF(L144:L170,AS22)","v":0},{"$f":"AT22/(AV4-AT20)","v":0},{"$f":"IF(AU22=0,0,(AU22*((LOG(AU22))/LOG(2))))","v":0}]
[12,2572,23,2603,24,2628,14,2641,null,null,0,1221,null,null,null,{"$f":"SUM(P7:P22)","v":1.0000000000000002},{"$f":"-SUM(Q7:Q22)","v":3.4121566073560476},null,null,null,null,{"$f":"SUM(V7:V22)","v":1},{"$f":"-SUM(W7:W22)","v":2.963468200497624},null,null,null,{"$f":"SUM(AA7:AA22)","v":0.99999999999999989},{"$f":"-SUM(AB7:AB22)","v":2.7477127976346698},null,null,null,{"$f":"SUM(AF7:AF22)","v":0.99999999999999989},{"$f":"-SUM(AG7:AG22)","v":2.2460728901362805},null,null,null,{"$f":"SUM(AK7:AK22)","v":1},{"$f":"-SUM(AL7:AL22)","v":2.9360434496438916},null,null,null,{"$f":"SUM(AP7:AP22)","v":0.99999999999999989},{"$f":"-SUM(AQ7:AQ22)","v":2.782415628686155},null,null,null,{"$f":"SUM(AU7:AU22)","v":1},{"$f":"-SUM(AV7:AV22)","v":2.8716535224393338}]
[12,2740,14,2744,13,2750,23,2761,null,null,0,1112,null,null,null,"U=",{"$f":"Q23/(LOG(Q4)/LOG(2))","v":0.46376248583963164},null,null,null,null,"U1=",{"$f":"W23/(LOG(W4)/LOG(2))","v":0.62324675381893879},null,null,null,"U2=",{"$f":"AB23/(LOG(AB4)/LOG(2))","v":0.5715643721305721},null,null,null,"U3=",{"$f":"AG23/(LOG(AG4)/LOG(2))","v":0.47237140502573827},null,null,null,"U4=",{"$f":"AL23/(LOG(AL4)/LOG(2))","v":0.61747905671963754},null,null,null,"U5=",{"$f":"AQ23/(LOG(AQ4)/LOG(2))","v":0.57878306756998266},null,null,null,"U6=",{"$f":"AV23/(LOG(AV4)/LOG(2))","v":0.60393721641841891}]
[12,2864,14,2869,13,2877,23,2887,null,null,0,1112]
[12,2986,14,3003,13,3027,14,3034,null,null,0,1111]
[21,3155,21,3169,22,3177,23,3186,null,null,0,2222,null,"Total Target Seq"]
[12,3288,14,3304,24,3316,23,3329,null,null,0,1122,null,{"$f":"COUNTIF(L7:L170,G3)","v":12},null,27,28,27,27,28,27]
[12,3428,14,3432,13,3437,23,3445,null,null,0,1112,null,null,null,"% of reinforcement given in 6 equal intervals based on number of trials "]
[12,3543,14,3548,13,3561,14,3568,null,null,0,1111,null,null,null,"%_1","%_2","%_3","%_4","%_5","%_6"]
[12,3665,14,3673,13,3682,14,3704,null,null,0,1111,null,null,"target sequence",{"$f":"$G$3","v":2212},{"$f":"$G$3","v":2212},{"$f":"$G$3","v":2212},{"$f":"$G$3","v":2212},{"$f":"$G$3","v":2212},{"$f":"$G$3","v":2212}]
[12,3804,14,3816,24,3833,23,3838,null,null,0,1122,null,null,"total reinforcement",{"$f":"U20","v":1},{"$f":"Z20","v":2},{"$f":"AE20","v":1},{"$f":"AJ20","v":1},{"$f":"AO20","v":4},{"$f":"AT20","v":3}]
[12,3939,14,3943,13,3948,23,3958,null,null,0,1112,null,null,"% target"]
[12,4056,14,4065,24,4077,14,4090,null,null,0,1121,null,null,"CCRF"]
[12,4192,14,4211,24,4251,23,4268,null,null,0,1122,null,null,"% CCRf"]
[12,4384,14,4395,13,4419,23,4431,null,null,0,1112,null,null,"average response rate",{"$f":"H33/P28","v":146.59259259259258},{"$f":"(H61-H33)/Q28","v":145.89285714285714},{"$f":"(H88-H61)/R28","v":140.22222222222223},{"$f":"(H115-H88)/S28","v":176.88888888888889},{"$f":"(H143-H115)/T28","v":136.71428571428572},{"$f":"(H170-H143)/U28","v":129.7037037037037}]
[21,4571,12,4583,13,4610,23,4621,null,null,0,2112]
[12,4719,14,4723,13,4728,14,4740,null,null,0,1111]
[12,4840,14,4846,13,4884,23,4893,null,null,0,1112]
[12,4996,14,5004,24,5013,23,5025,null,null,0,1122]
[12,5129,14,5136,13,5153,23,5169,null,null,0,1112]
[21,5285,12,5313,24,5323,14,5335,null,null,0,2121]
[12,5434,23,5487,13,5498,23,5508,null,null,0,1212]
[21,5629,12,5639,13,5654,14,5662,null,null,0,2111]
[12,5772,14,5776,13,5780,14,5789,null,null,0,1111]
[12,5890,23,5911,13,5923,23,5933,null,null,0,1212]
[12,6031,14,6053,13,6058,23,6072,null,null,0,1112]
[12,6188,14,6196,13,6200,23,6211,null,null,0,1112]
[21,6335,21,6360,11,6378,21,6387,null,null,0,2212]
[12,6476,14,6500,13,6508,14,6515,null,null,0,1111]
[12,6613,14,6628,13,6632,23,6643,null,null,0,1112]
[12,6741,14,6745,13,6750,14,6758,null,null,0,1111]
[12,6865,14,6885,13,6892,14,6899,null,null,0,1111]
[12,7011,14,7015,24,7026,14,7038,null,null,0,1121]
[12,7143,14,7147,13,7151,14,7178,null,null,0,1111]
[21,7313,21,7318,11,7329,21,7364,null,null,0,2212]
[12,7452,14,7469,24,7494,14,7510,null,null,0,1121]
[12,7617,14,7622,24,7640,14,7650,null,null,0,1121]
[12,7748,23,7766,13,7776,14,7781,null,null,0,1211]
[12,7880,14,7885,24,7900,14,7910,null,null,0,1121]
[12,8023,14,8027,13,8032,23,8043,null,null,0,1112]
[12,8145,14,8159,13,8179,14,8186,null,null,0,1111]
[12,8295,14,8300,13,8308,23,8318,null,null,0,1112]
[12,8420,14,8432,13,8442,23,8453,null,null,0,1112]
[12,8551,14,8562,13,8571,14,8576,null,null,0,1111]
[12,8687,14,8691,13,8707,14,8712,null,null,0,1111]
[12,8810,14,8814,13,8834,14,8838,null,null,0,1111]
[12,8936,14,8958,13,8966,14,8979,null,null,0,1111]
[12,9088,14,9092,13,9096,14,9114,null,null,0,1111]
[12,9213,14,9224,13,9232,14,9236,null,null,0,1111]
[12,9350,14,9361,13,9365,23,9377,null,null,0,1112]
[12,9474,14,9499,24,9508,14,9519,null,null,0,1121]
[12,9635,14,9645,24,9660,14,9670,null,null,0,1121]
[12,9772,14,9790,13,9794,23,9805,null,null,0,1112]
[12,9904,14,9913,13,9926,14,9931,null,null,0,1111]
[21,10045,12,10055,13,10064,23,10072,null,null,0,2112]
[12,10200,14,10204,13,10208,23,10217,null,null,0,1112]
[12,10346,23,10370,13,10381,23,10389,null,null,0,1212]
[12,10487,14,10521,13,10528,23,10539,null,null,0,1112]
[12,10640,14,10652,13,10662,23,10673,null,null,0,1112]
[21,10796,12,10806,13,10827,14,10832,null,null,0,2111]
[21,10953,21,10968,11,10982,21,10990,null,null,0,2212]
[12,11083,14,11095,13,11100,14,11117,null,null,0,1111]
[12,11229,14,11233,24,11243,14,11252,null,null,0,1121]
[12,11350,14,11384,13,11390,23,11407,null,null,0,1112]
[21,11506,12,11530,13,11535,23,11544,null,null,0,2112]
[12,11667,14,11675,13,11699,23,11707,null,null,0,1112]
[21,11805,21,11813,22,11818,23,11829,null,null,0,2222]
[21,11959,21,11975,22,11996,23,12005,null,null,0,2222]
[12,12155,23,12163,13,12176,23,12189,null,null,0,1212]
[12,12331,14,12337,13,12367,23,12375,null,null,0,1112]
[12,12504,23,12553,13,12563,23,12595,null,null,0,1212]
[21,12715,12,12726,13,12744,23,12768,null,null,0,2112]
[21,12891,12,12905,24,12941,23,12957,null,null,0,2122]
[21,13080,12,13093,13,13111,23,13122,null,null,0,2112]
[21,13238,12,13249,24,13268,14,13278,null,null,0,2121]
[21,13411,12,13425,24,13434,23,13444,null,null,0,2122]
[21,13574,12,13587,24,13600,14,13614,null,null,0,2121]
[21,13742,12,13755,24,13780,14,13792,null,null,0,2121]
[12,13979,23,13989,24,14006,14,14027,null,null,0,1221]
[21,14142,12,14153,13,14161,23,14168,null,null,0,2112]
[21,14308,12,14319,24,14328,14,14340,null,null,0,2121]
[21,14458,21,14471,22,14481,14,14491,null,null,0,2221]
[21,14619,21,14631,11,14643,21,14653,null,null,0,2212]
[12,14741,14,14760,13,14767,14,14787,null,null,0,1111]
[12,14914,14,14925,13,14938,14,14942,null,null,0,1111]
[21,15072,12,15084,24,15092,14,15112,null,null,0,2121]
[21,15243,12,15256,24,15288,23,15298,null,null,0,2122]
[12,15405,23,15422,13,15432,23,15443,null,null,0,1212]
[12,15556,23,15567,24,15579,14,15590,null,null,0,1221]
[21,15737,21,15751,22,15766,23,15795,null,null,0,2222]
[21,15923,12,15933,24,15943,23,15966,null,null,0,2122]
[21,16084,12,16094,13,16117,23,16125,null,null,0,2112]
[21,16268,12,16294,24,16303,23,16314,null,null,0,2122]
[21,16571,12,16583,24,16593,23,16605,null,null,0,2122]
[21,16741,21,16753,22,16762,23,16786,null,null,0,2222]
[21,16938,21,16955,11,16965,21,16973,null,null,0,2212]
[12,17062,14,17067,24,17075,14,17087,null,null,0,1121]
[12,17202,14,17214,13,17218,23,17226,null,null,0,1112]
[12,17361,23,17369,13,17383,23,17392,null,null,0,1212]
[21,17512,21,17520,11,17532,21,17539,null,null,0,2212]
[12,17645,14,17660,13,17667,23,17675,null,null,0,1112]
[12,17782,14,17802,13,17806,14,17813,null,null,0,1111]
[12,17922,14,17935,13,17939,14,17953,null,null,0,1111]
[21,18064,21,18076,11,18086,21,18096,null,null,0,2212]
[12,18185,14,18189,24,18202,14,18213,null,null,0,1121]
[21,18310,12,18319,13,18325,23,18333,null,null,0,2112]
[12,18457,14,18461,13,18465,23,18477,null,null,0,1112]
[12,18575,14,18580,24,18593,14,18607,null,null,0,1121]
[21,18708,21,18716,11,18726,21,18734,null,null,0,2212]
[12,18822,14,18826,13,18844,23,18851,null,null,0,1112]
[12,18950,14,18954,24,18962,23,18984,null,null,0,1122]
[12,19080,14,19084,13,19093,14,19097,null,null,0,1111]
[12,19198,14,19214,13,19219,14,19225,null,null,0,1111]
[12,19322,14,19331,24,19339,23,19351,null,null,0,1122]
[12,19450,14,19457,13,19465,23,19474,null,null,0,1112]
[12,19574,14,19581,13,19600,14,19627,null,null,0,1111]
[12,19727,14,19732,13,19737,14,19744,null,null,0,1111]
[12,19843,23,19872,13,19882,23,19897,null,null,0,1212]
[12,19994,14,19998,13,20016,14,20025,null,null,0,1111]
[21,20126,21,20136,22,20144,14,20156,null,null,0,2221]
[12,20268,14,20273,24,20290,14,20300,null,null,0,1121]
[21,20406,12,20416,13,20425,14,20433,null,null,0,2111]
[21,20540,12,20551,24,20559,23,20572,null,null,0,2122]
[21,20710,12,20720,24,20729,23,20747,null,null,0,2122]
[12,20846,23,20859,24,20866,14,20876,null,null,0,1221]
[12,21003,23,21010,13,21020,23,21028,null,null,0,1212]
[21,21141,12,21151,13,21159,23,21167,null,null,0,2112]
[21,21270,21,21278,11,21287,21,21294,null,null,0,2212]
[12,21382,23,21403,13,21412,23,21421,null,null,0,1212]
[12,21519,14,21531,13,21538,14,21558,null,null,0,1111]
[21,21655,12,21665,24,21673,23,21686,null,null,0,2122]
[12,21788,14,21810,24,21822,14,21833,null,null,0,1121]
[21,21936,21,21942,11,21951,21,21959,null,null,0,2212]
[12,22047,14,22055,24,22073,23,22078,null,null,0,1122]
[12,22176,14,22195,13,22204,23,22213,null,null,0,1112]
[12,22313,14,22317,24,22325,14,22335,null,null,0,1121]
[21,22432,12,22439,13,22449,23,22459,null,null,0,2112]
[12,22558,14,22566,24,22574,14,22584,null,null,0,1121]
[12,22681,14,22686,13,22692,23,22701,null,null,0,1112]
[21,22798,21,22802,11,22811,21,22818,null,null,0,2212]
[12,22907,14,22924,13,22928,23,22937,null,null,0,1112]
[12,23035,14,23039,13,23044,23,23051,null,null,0,1112]
[21,23149,12,23157,24,23165,23,23176,null,null,0,2122]
[12,23275,14,23279,13,23283,23,23291,null,null,0,1112]
[21,23390,12,23400,24,23430,14,23440,null,null,0,2121]
[21,23542,12,23550,24,23557,23,23567,null,null,0,2122]
[12,23665,14,23671,13,23675,23,23682,null,null,0,1112]
[12,23779,14,23782,24,23804,14,23813,null,null,0,1121]
[21,23911,12,23918,24,23926,14,23935,null,null,null,2121]

{"sheet":"!MA26910.096","index":16,"n_rows":191,"n_cols":48,"rows_kept":191,"cut":false,"hidden":false,"merged":[[4,39,4,42],[5,39,5,40],[4,44,4,47],[5,44,5,45],[4,24,4,27],[5,24,5,25],[4,29,4,32],[5,29,5,30],[4,34,4,37],[5,34,5,35],[1,1,1,2],[5,13,5,14],[26,13,26,14],[27,13,27,14],[4,19,4,22],[5,19,5,20]]}
["Report for:!MA26910.096"]
["Date:","<date>"]
["Hen:","<hen>",null,null,null,"Correct Sequence",{"$f":"Start!J2","v":2212},null,null,null,null,null,null,null,null,"Total Sequences in Data",{"$f":"4994-COUNTBLANK(L7:L5000)","v":185},null,null,null,null,"Total Sequences in Block Data",{"$f":"COUNTA(L7:L37)","v":31},null,null,null,"Total Sequences in Block Data",{"$f":"COUNTA(L38:L68)","v":31},null,null,null,"Total Sequences in Block Data",{"$f":"COUNTA(L69:L98)","v":30},null,null,null,"Total Sequences in Block Data",{"$f":"COUNTA(L99:L129)","v":31},null,null,null,"Total Sequences in Block Data",{"$f":"COUNTA(L130:L160)","v":31},null,null,null,"Total Sequences in Block Data",{"$f":"COUNTA(L161:L191)","v":31}]
[null,null,null,null,null,null,null,null,null,null,null,null,null,null,null,"Total Sequences in Summary",{"$f":"SUM(O7:O22)","v":185},null,null,null,null,"Total Sequences in Block Summary",{"$f":"SUM(U7:U22)","v":31},null,null,null,"Total Sequences in Block Summary",{"$f":"SUM(Z7:Z22)","v":31},null,null,null,"Total Sequences in Block Summary",{"$f":"SUM(AE7:AE22)","v":30},null,null,null,"Total Sequences in Block Summary",{"$f":"SUM(AJ7:AJ22)","v":31},null,null,null,"Total Sequences in Block Summary",{"$f":"SUM(AO7:AO22)","v":31},null,null,null,"Total Sequences in Block Summary",{"$f":"SUM(AT7:AT22)","v":31}]
[null,null,null,null,null,null,null,null,null,null,null,null,null,null,null,null,null,null,null,"Block 1",null,null,null,null,"Block 2",null,null,null,null,"Block 3",null,null,null,null,"Block 4",null,null,null,null,"Block 5",null,null,null,null,"Block 6"]
["Sequence\nComponent\n1","Time\n1","Sequence\nComponent\n2","Time\n2","Sequence\nComponent\n3","Time\n3","Sequence\nComponent\n4","Time\n4","Sequence\nComponent\n5","Time\n5","Correct?\n0=No 1=Yes","Sequence",null,"Frequency",null,"Relative Frequency","Variability",null,null,"Frequency",null,"Relative Frequency","Variability",null,"Frequency",null,"Relative Frequency","Variability",null,"Frequency",null,"Relative Frequency","Variability",null,"Frequency",null,"Relative Frequency","Variability",null,"Frequency",null,"Relative Frequency","Variability",null,"Frequency",null,"Relative Frequency","Variability"]
[12,20,23,38,24,47,14,62,null,null,0,1221,null,1111,{"$f":"COUNTIF($L$7:$L$500,N7)","v":29},{"$f":"O7/$Q$4","v":0.15675675675675677},{"$f":"IF(P7=0,0,(P7*((LOG(P7))/LOG(2))))","v":-0.41907358646634307},null,null,{"$f":"N7","v":1111},{"$f":"COUNTIF(L7:L37,T7)","v":6},{"$f":"U7/(W4-U20)","v":0.19354838709677419},{"$f":"IF(V7=0,0,(V7*((LOG(V7))/LOG(2))))","v":-0.45856138251594558},null,{"$f":"N7","v":1111},{"$f":"COUNTIF(L38:L68,Y7)","v":11},{"$f":"Z7/(AB4-Z20)","v":0.35483870967741937},{"$f":"IF(AA7=0,0,(AA7*((LOG(AA7))/LOG(2))))","v":-0.53040037449178568},null,{"$f":"N7","v":1111},{"$f":"COUNTIF(L69:L98,AD7)","v":3},{"$f":"AE7/(AG4-AE20)","v":0.11538461538461539},{"$f":"IF(AF7=0,0,(AF7*((LOG(AF7))/LOG(2))))","v":-0.35947814047153104},null,{"$f":"N7","v":1111},{"$f":"COUNTIF(L99:L129,AI7)","v":3},{"$f":"AJ7/(AL4-AJ20)","v":0.10714285714285714},{"$f":"IF(AK7=0,0,(AK7*((LOG(AK7))/LOG(2))))","v":-0.34525633085747659},null,{"$f":"N7","v":1111},{"$f":"COUNTIF(L130:L160,AN7)","v":4},{"$f":"AO7/(AQ4-AO20)","v":0.15384615384615385},{"$f":"IF(AP7=0,0,(AP7*((LOG(AP7))/LOG(2))))","v":-0.4154522643293988},null,{"$f":"N7","v":1111},{"$f":"COUNTIF(L161:L191,AS7)","v":2},{"$f":"AT7/(AV4-AT20)","v":0.1},{"$f":"IF(AU7=0,0,(AU7*((LOG(AU7))/LOG(2))))","v":-0.33219280948873625}]
[21,172,21,183,11,193,12,197,null,null,0,2211,null,1112,{"$f":"COUNTIF($L$7:$L$500,N8)","v":23},{"$f":"O8/$Q$4","v":0.12432432432432433},{"$f":"IF(P8=0,0,(P8*((LOG(P8))/LOG(2))))","v":-0.3739451275814264},null,null,{"$f":"N8","v":1112},{"$f":"COUNTIF(L7:L37,T8)","v":6},{"$f":"U8/(W4-U20)","v":0.19354838709677419},{"$f":"IF(V8=0,0,(V8*((LOG(V8))/LOG(2))))","v":-0.45856138251594558},null,{"$f":"N8","v":1112},{"$f":"COUNTIF(L38:L68,Y8)","v":3},{"$f":"Z8/(AB4-Z20)","v":9.6774193548387094E-2},{"$f":"IF(AA8=0,0,(AA8*((LOG(AA8))/LOG(2))))","v":-0.32605488480635986},null,{"$f":"N8","v":1112},{"$f":"COUNTIF(L69:L98,AD8)","v":6},{"$f":"AE8/(AG4-AE20)","v":0.23076923076923078},{"$f":"IF(AF8=0,0,(AF8*((LOG(AF8))/LOG(2))))","v":-0.48818705017383146},null,{"$f":"N8","v":1112},{"$f":"COUNTIF(L99:L129,AI8)","v":4},{"$f":"AJ8/(AL4-AJ20)","v":0.14285714285714285},{"$f":"IF(AK8=0,0,(AK8*((LOG(AK8))/LOG(2))))","v":-0.40105070315108626},null,{"$f":"N8","v":1112},{"$f":"COUNTIF(L130:L160,AN8)","v":4},{"$f":"AO8/(AQ4-AO20)","v":0.15384615384615385},{"$f":"IF(AP8=0,0,(AP8*((LOG(AP8))/LOG(2))))","v":-0.4154522643293988},null,{"$f":"N8","v":1112},{"$f":"COUNTIF(L161:L191,AS8)","v":0},{"$f":"AT8/(AV4-AT20)","v":0},{"$f":"IF(AU8=0,0,(AU8*((LOG(AU8))/LOG(2))))","v":0}]
[21,312,21,322,11,333,12,337,null,null,0,2211,null,1121,{"$f":"COUNTIF($L$7:$L$500,N9)","v":6},{"$f":"O9/$Q$4","v":3.2432432432432434E-2},{"$f":"IF(P9=0,0,(P9*((LOG(P9))/LOG(2))))","v":-0.16042439869605912},null,null,{"$f":"N9","v":1121},{"$f":"COUNTIF(L7:L37,T9)","v":2},{"$f":"U9/(W4-U20)","v":6.4516129032258063E-2},{"$f":"IF(V9=0,0,(V9*((LOG(V9))/LOG(2))))","v":-0.25510943937979835},null,{"$f":"N9","v":1121},{"$f":"COUNTIF(L38:L68,Y9)","v":1},{"$f":"Z9/(AB4-Z20)","v":3.2258064516129031E-2},{"$f":"IF(AA9=0,0,(AA9*((LOG(AA9))/LOG(2))))","v":-0.15981278420602821},null,{"$f":"N9","v":1121},{"$f":"COUNTIF(L69:L98,AD9)","v":2},{"$f":"AE9/(AG4-AE20)","v":7.6923076923076927E-2},{"$f":"IF(AF9=0,0,(AF9*((LOG(AF9))/LOG(2))))","v":-0.28464920908777636},null,{"$f":"N9","v":1121},{"$f":"COUNTIF(L99:L129,AI9)","v":1},{"$f":"AJ9/(AL4-AJ20)","v":3.5714285714285712E-2},{"$f":"IF(AK9=0,0,(AK9*((LOG(AK9))/LOG(2))))","v":-0.17169124721634299},null,{"$f":"N9","v":1121},{"$f":"COUNTIF(L130:L160,AN9)","v":0},{"$f":"AO9/(AQ4-AO20)","v":0},{"$f":"IF(AP9=0,0,(AP9*((LOG(AP9))/LOG(2))))","v":0},null,{"$f":"N9","v":1121},{"$f":"COUNTIF(L161:L191,AS9)","v":0},{"$f":"AT9/(AV4-AT20)","v":0},{"$f":"IF(AU9=0,0,(AU9*((LOG(AU9))/LOG(2))))","v":0}]
[12,443,23,471,24,484,14,510,null,null,0,1221,null,1122,{"$f":"COUNTIF($L$7:$L$500,N10)","v":8},{"$f":"O10/$Q$4","v":4.3243243243243246E-2},{"$f":"IF(P10=0,0,(P10*((LOG(P10))/LOG(2))))","v":-0.19595163072502972},null,null,{"$f":"N10","v":1122},{"$f":"COUNTIF(L7:L37,T10)","v":5},{"$f":"U10/(W4-U20)","v":0.16129032258064516},{"$f":"IF(V10=0,0,(V10*((LOG(V10))/LOG(2))))","v":-0.42455938959669559},null,{"$f":"N10","v":1122},{"$f":"COUNTIF(L38:L68,Y10)","v":1},{"$f":"Z10/(AB4-Z20)","v":3.2258064516129031E-2},{"$f":"IF(AA10=0,0,(AA10*((LOG(AA10))/LOG(2))))","v":-0.15981278420602821},null,{"$f":"N10","v":1122},{"$f":"COUNTIF(L69:L98,AD10)","v":1},{"$f":"AE10/(AG4-AE20)","v":3.8461538461538464E-2},{"$f":"IF(AF10=0,0,(AF10*((LOG(AF10))/LOG(2))))","v":-0.18078614300542661},null,{"$f":"N10","v":1122},{"$f":"COUNTIF(L99:L129,AI10)","v":1},{"$f":"AJ10/(AL4-AJ20)","v":3.5714285714285712E-2},{"$f":"IF(AK10=0,0,(AK10*((LOG(AK10))/LOG(2))))","v":-0.17169124721634299},null,{"$f":"N10","v":1122},{"$f":"COUNTIF(L130:L160,AN10)","v":0},{"$f":"AO10/(AQ4-AO20)","v":0},{"$f":"IF(AP10=0,0,(AP10*((LOG(AP10))/LOG(2))))","v":0},null,{"$f":"N10","v":1122},{"$f":"COUNTIF(L161:L191,AS10)","v":0},{"$f":"AT10/(AV4-AT20)","v":0},{"$f":"IF(AU10=0,0,(AU10*((LOG(AU10))/LOG(2))))","v":0}]
[21,620,12,631,13,635,14,640,null,null,0,2111,null,1211,{"$f":"COUNTIF($L$7:$L$500,N11)","v":4},{"$f":"O11/$Q$4","v":2.1621621621621623E-2},{"$f":"IF(P11=0,0,(P11*((LOG(P11))/LOG(2))))","v":-0.11959743698413648},null,null,{"$f":"N11","v":1211},{"$f":"COUNTIF(L7:L37,T11)","v":1},{"$f":"U11/(W4-U20)","v":3.2258064516129031E-2},{"$f":"IF(V11=0,0,(V11*((LOG(V11))/LOG(2))))","v":-0.15981278420602821},null,{"$f":"N11","v":1211},{"$f":"COUNTIF(L38:L68,Y11)","v":1},{"$f":"Z11/(AB4-Z20)","v":3.2258064516129031E-2},{"$f":"IF(AA11=0,0,(AA11*((LOG(AA11))/LOG(2))))","v":-0.15981278420602821},null,{"$f":"N11","v":1211},{"$f":"COUNTIF(L69:L98,AD11)","v":1},{"$f":"AE11/(AG4-AE20)","v":3.8461538461538464E-2},{"$f":"IF(AF11=0,0,(AF11*((LOG(AF11))/LOG(2))))","v":-0.18078614300542661},null,{"$f":"N11","v":1211},{"$f":"COUNTIF(L99:L129,AI11)","v":0},{"$f":"AJ11/(AL4-AJ20)","v":0},{"$f":"IF(AK11=0,0,(AK11*((LOG(AK11))/LOG(2))))","v":0},null,{"$f":"N11","v":1211},{"$f":"COUNTIF(L130:L160,AN11)","v":1},{"$f":"AO11/(AQ4-AO20)","v":3.8461538461538464E-2},{"$f":"IF(AP11=0,0,(AP11*((LOG(AP11))/LOG(2))))","v":-0.18078614300542661},null,{"$f":"N11","v":1211},{"$f":"COUNTIF(L161:L191,AS11)","v":0},{"$f":"AT11/(AV4-AT20)","v":0},{"$f":"IF(AU11=0,0,(AU11*((LOG(AU11))/LOG(2))))","v":0}]
[21,741,21,753,11,773,12,778,null,null,0,2211,null,1212,{"$f":"COUNTIF($L$7:$L$500,N12)","v":1},{"$f":"O12/$Q$4","v":5.4054054054054057E-3},{"$f":"IF(P12=0,0,(P12*((LOG(P12))/LOG(2))))","v":-4.0710170056844928E-2},null,null,{"$f":"N12","v":1212},{"$f":"COUNTIF(L7:L37,T12)","v":0},{"$f":"U12/(W4-U20)","v":0},{"$f":"IF(V12=0,0,(V12*((LOG(V12))/LOG(2))))","v":0},null,{"$f":"N12","v":1212},{"$f":"COUNTIF(L38:L68,Y12)","v":1},{"$f":"Z12/(AB4-Z20)","v":3.2258064516129031E-2},{"$f":"IF(AA12=0,0,(AA12*((LOG(AA12))/LOG(2))))","v":-0.15981278420602821},null,{"$f":"N12","v":1212},{"$f":"COUNTIF(L69:L98,AD12)","v":0},{"$f":"AE12/(AG4-AE20)","v":0},{"$f":"IF(AF12=0,0,(AF12*((LOG(AF12))/LOG(2))))","v":0},null,{"$f":"N12","v":1212},{"$f":"COUNTIF(L99:L129,AI12)","v":0},{"$f":"AJ12/(AL4-AJ20)","v":0},{"$f":"IF(AK12=0,0,(AK12*((LOG(AK12))/LOG(2))))","v":0},null,{"$f":"N12","v":1212},{"$f":"COUNTIF(L130:L160,AN12)","v":0},{"$f":"AO12/(AQ4-AO20)","v":0},{"$f":"IF(AP12=0,0,(AP12*((LOG(AP12))/LOG(2))))","v":0},null,{"$f":"N12","v":1212},{"$f":"COUNTIF(L161:L191,AS12)","v":0},{"$f":"AT12/(AV4-AT20)","v":0},{"$f":"IF(AU12=0,0,(AU12*((LOG(AU12))/LOG(2))))","v":0}]
[21,908,21,915,22,920,14,931,null,null,0,2221,null,1221,{"$f":"COUNTIF($L$7:$L$500,N13)","v":6},{"$f":"O13/$Q$4","v":3.2432432432432434E-2},{"$f":"IF(P13=0,0,(P13*((LOG(P13))/LOG(2))))","v":-0.16042439869605912},null,null,{"$f":"N13","v":1221},{"$f":"COUNTIF(L7:L37,T13)","v":3},{"$f":"U13/(W4-U20)","v":9.6774193548387094E-2},{"$f":"IF(V13=0,0,(V13*((LOG(V13))/LOG(2))))","v":-0.32605488480635986},null,{"$f":"N13","v":1221},{"$f":"COUNTIF(L38:L68,Y13)","v":1},{"$f":"Z13/(AB4-Z20)","v":3.2258064516129031E-2},{"$f":"IF(AA13=0,0,(AA13*((LOG(AA13))/LOG(2))))","v":-0.15981278420602821},null,{"$f":"N13","v":1221},{"$f":"COUNTIF(L69:L98,AD13)","v":1},{"$f":"AE13/(AG4-AE20)","v":3.8461538461538464E-2},{"$f":"IF(AF13=0,0,(AF13*((LOG(AF13))/LOG(2))))","v":-0.18078614300542661},null,{"$f":"N13","v":1221},{"$f":"COUNTIF(L99:L129,AI13)","v":1},{"$f":"AJ13/(AL4-AJ20)","v":3.5714285714285712E-2},{"$f":"IF(AK13=0,0,(AK13*((LOG(AK13))/LOG(2))))","v":-0.17169124721634299},null,{"$f":"N13","v":1221},{"$f":"COUNTIF(L130:L160,AN13)","v":0},{"$f":"AO13/(AQ4-AO20)","v":0},{"$f":"IF(AP13=0,0,(AP13*((LOG(AP13))/LOG(2))))","v":0},null,{"$f":"N13","v":1221},{"$f":"COUNTIF(L161:L191,AS13)","v":0},{"$f":"AT13/(AV4-AT20)","v":0},{"$f":"IF(AU13=0,0,(AU13*((LOG(AU13))/LOG(2))))","v":0}]
[12,1040,23,1054,24,1062,14,1073,null,null,0,1221,null,1222,{"$f":"COUNTIF($L$7:$L$500,N14)","v":2},{"$f":"O14/$Q$4","v":1.0810810810810811E-2},{"$f":"IF(P14=0,0,(P14*((LOG(P14))/LOG(2))))","v":-7.0609529302879045E-2},null,null,{"$f":"N14","v":1222},{"$f":"COUNTIF(L7:L37,T14)","v":1},{"$f":"U14/(W4-U20)","v":3.2258064516129031E-2},{"$f":"IF(V14=0,0,(V14*((LOG(V14))/LOG(2))))","v":-0.15981278420602821},null,{"$f":"N14","v":1222},{"$f":"COUNTIF(L38:L68,Y14)","v":0},{"$f":"Z14/(AB4-Z20)","v":0},{"$f":"IF(AA14=0,0,(AA14*((LOG(AA14))/LOG(2))))","v":0},null,{"$f":"N14","v":1222},{"$f":"COUNTIF(L69:L98,AD14)","v":1},{"$f":"AE14/(AG4-AE20)","v":3.8461538461538464E-2},{"$f":"IF(AF14=0,0,(AF14*((LOG(AF14))/LOG(2))))","v":-0.18078614300542661},null,{"$f":"N14","v":1222},{"$f":"COUNTIF(L99:L129,AI14)","v":0},{"$f":"AJ14/(AL4-AJ20)","v":0},{"$f":"IF(AK14=0,0,(AK14*((LOG(AK14))/LOG(2))))","v":0},null,{"$f":"N14","v":1222},{"$f":"COUNTIF(L130:L160,AN14)","v":0},{"$f":"AO14/(AQ4-AO20)","v":0},{"$f":"IF(AP14=0,0,(AP14*((LOG(AP14))/LOG(2))))","v":0},null,{"$f":"N14","v":1222},{"$f":"COUNTIF(L161:L191,AS14)","v":0},{"$f":"AT14/(AV4-AT20)","v":0},{"$f":"IF(AU14=0,0,(AU14*((LOG(AU14))/LOG(2))))","v":0}]
[12,1181,14,1185,24,1196,23,1207,null,null,0,1122,null,2111,{"$f":"COUNTIF($L$7:$L$500,N15)","v":11},{"$f":"O15/$Q$4","v":5.9459459459459463E-2},{"$f":"IF(P15=0,0,(P15*((LOG(P15))/LOG(2))))","v":-0.24211593654415769},null,null,{"$f":"N15","v":2111},{"$f":"COUNTIF(L7:L37,T15)","v":1},{"$f":"U15/(W4-U20)","v":3.2258064516129031E-2},{"$f":"IF(V15=0,0,(V15*((LOG(V15))/LOG(2))))","v":-0.15981278420602821},null,{"$f":"N15","v":2111},{"$f":"COUNTIF(L38:L68,Y15)","v":2},{"$f":"Z15/(AB4-Z20)","v":6.4516129032258063E-2},{"$f":"IF(AA15=0,0,(AA15*((LOG(AA15))/LOG(2))))","v":-0.25510943937979835},null,{"$f":"N15","v":2111},{"$f":"COUNTIF(L69:L98,AD15)","v":1},{"$f":"AE15/(AG4-AE20)","v":3.8461538461538464E-2},{"$f":"IF(AF15=0,0,(AF15*((LOG(AF15))/LOG(2))))","v":-0.18078614300542661},null,{"$f":"N15","v":2111},{"$f":"COUNTIF(L99:L129,AI15)","v":4},{"$f":"AJ15/(AL4-AJ20)","v":0.14285714285714285},{"$f":"IF(AK15=0,0,(AK15*((LOG(AK15))/LOG(2))))","v":-0.40105070315108626},null,{"$f":"N15","v":2111},{"$f":"COUNTIF(L130:L160,AN15)","v":2},{"$f":"AO15/(AQ4-AO20)","v":7.6923076923076927E-2},{"$f":"IF(AP15=0,0,(AP15*((LOG(AP15))/LOG(2))))","v":-0.28464920908777636},null,{"$f":"N15","v":2111},{"$f":"COUNTIF(L161:L191,AS15)","v":1},{"$f":"AT15/(AV4-AT20)","v":0.05},{"$f":"IF(AU15=0,0,(AU15*((LOG(AU15))/LOG(2))))","v":-0.21609640474436814}]
[12,1324,23,1333,24,1342,23,1353,null,null,0,1222,null,2112,{"$f":"COUNTIF($L$7:$L$500,N16)","v":6},{"$f":"O16/$Q$4","v":3.2432432432432434E-2},{"$f":"IF(P16=0,0,(P16*((LOG(P16))/LOG(2))))","v":-0.16042439869605912},null,null,{"$f":"N16","v":2112},{"$f":"COUNTIF(L7:L37,T16)","v":1},{"$f":"U16/(W4-U20)","v":3.2258064516129031E-2},{"$f":"IF(V16=0,0,(V16*((LOG(V16))/LOG(2))))","v":-0.15981278420602821},null,{"$f":"N16","v":2112},{"$f":"COUNTIF(L38:L68,Y16)","v":2},{"$f":"Z16/(AB4-Z20)","v":6.4516129032258063E-2},{"$f":"IF(AA16=0,0,(AA16*((LOG(AA16))/LOG(2))))","v":-0.25510943937979835},null,{"$f":"N16","v":2112},{"$f":"COUNTIF(L69:L98,AD16)","v":1},{"$f":"AE16/(AG4-AE20)","v":3.8461538461538464E-2},{"$f":"IF(AF16=0,0,(AF16*((LOG(AF16))/LOG(2))))","v":-0.18078614300542661},null,{"$f":"N16","v":2112},{"$f":"COUNTIF(L99:L129,AI16)","v":1},{"$f":"AJ16/(AL4-AJ20)","v":3.5714285714285712E-2},{"$f":"IF(AK16=0,0,(AK16*((LOG(AK16))/LOG(2))))","v":-0.17169124721634299},null,{"$f":"N16","v":2112},{"$f":"COUNTIF(L130:L160,AN16)","v":0},{"$f":"AO16/(AQ4-AO20)","v":0},{"$f":"IF(AP16=0,0,(AP16*((LOG(AP16))/LOG(2))))","v":0},null,{"$f":"N16","v":2112},{"$f":"COUNTIF(L161:L191,AS16)","v":1},{"$f":"AT16/(AV4-AT20)","v":0.05},{"$f":"IF(AU16=0,0,(AU16*((LOG(AU16))/LOG(2))))","v":-0.21609640474436814}]
[12,1455,14,1460,13,1465,23,1474,null,null,0,1112,null,2121,{"$f":"COUNTIF($L$7:$L$500,N17)","v":13},{"$f":"O17/$Q$4","v":7.0270270270270274E-2},{"$f":"IF(P17=0,0,(P17*((LOG(P17))/LOG(2))))","v":-0.26920131162636679},null,null,{"$f":"N17","v":2121},{"$f":"COUNTIF(L7:L37,T17)","v":0},{"$f":"U17/(W4-U20)","v":0},{"$f":"IF(V17=0,0,(V17*((LOG(V17))/LOG(2))))","v":0},null,{"$f":"N17","v":2121},{"$f":"COUNTIF(L38:L68,Y17)","v":5},{"$f":"Z17/(AB4-Z20)","v":0.16129032258064516},{"$f":"IF(AA17=0,0,(AA17*((LOG(AA17))/LOG(2))))","v":-0.42455938959669559},null,{"$f":"N17","v":2121},{"$f":"COUNTIF(L69:L98,AD17)","v":4},{"$f":"AE17/(AG4-AE20)","v":0.15384615384615385},{"$f":"IF(AF17=0,0,(AF17*((LOG(AF17))/LOG(2))))","v":-0.4154522643293988},null,{"$f":"N17","v":2121},{"$f":"COUNTIF(L99:L129,AI17)","v":1},{"$f":"AJ17/(AL4-AJ20)","v":3.5714285714285712E-2},{"$f":"IF(AK17=0,0,(AK17*((LOG(AK17))/LOG(2))))","v":-0.17169124721634299},null,{"$f":"N17","v":2121},{"$f":"COUNTIF(L130:L160,AN17)","v":1},{"$f":"AO17/(AQ4-AO20)","v":3.8461538461538464E-2},{"$f":"IF(AP17=0,0,(AP17*((LOG(AP17))/LOG(2))))","v":-0.18078614300542661},null,{"$f":"N17","v":2121},{"$f":"COUNTIF(L161:L191,AS17)","v":2},{"$f":"AT17/(AV4-AT20)","v":0.1},{"$f":"IF(AU17=0,0,(AU17*((LOG(AU17))/LOG(2))))","v":-0.33219280948873625}]
[21,1581,21,1604,11,1615,12,1622,null,null,0,2211,null,2122,{"$f":"COUNTIF($L$7:$L$500,N18)","v":40},{"$f":"O18/$Q$4","v":0.21621621621621623},{"$f":"IF(P18=0,0,(P18*((LOG(P18))/LOG(2))))","v":-0.47771964662247562},null,null,{"$f":"N18","v":2122},{"$f":"COUNTIF(L7:L37,T18)","v":0},{"$f":"U18/(W4-U20)","v":0},{"$f":"IF(V18=0,0,(V18*((LOG(V18))/LOG(2))))","v":0},null,{"$f":"N18","v":2122},{"$f":"COUNTIF(L38:L68,Y18)","v":1},{"$f":"Z18/(AB4-Z20)","v":3.2258064516129031E-2},{"$f":"IF(AA18=0,0,(AA18*((LOG(AA18))/LOG(2))))","v":-0.15981278420602821},null,{"$f":"N18","v":2122},{"$f":"COUNTIF(L69:L98,AD18)","v":4},{"$f":"AE18/(AG4-AE20)","v":0.15384615384615385},{"$f":"IF(AF18=0,0,(AF18*((LOG(AF18))/LOG(2))))","v":-0.4154522643293988},null,{"$f":"N18","v":2122},{"$f":"COUNTIF(L99:L129,AI18)","v":12},{"$f":"AJ18/(AL4-AJ20)","v":0.42857142857142855},{"$f":"IF(AK18=0,0,(AK18*((LOG(AK18))/LOG(2))))","v":-0.52388246628704915},null,{"$f":"N18","v":2122},{"$f":"COUNTIF(L130:L160,AN18)","v":11},{"$f":"AO18/(AQ4-AO20)","v":0.42307692307692307},{"$f":"IF(AP18=0,0,(AP18*((LOG(AP18))/LOG(2))))","v":-0.52504188825160547},null,{"$f":"N18","v":2122},{"$f":"COUNTIF(L161:L191,AS18)","v":12},{"$f":"AT18/(AV4-AT20)","v":0.6},{"$f":"IF(AU18=0,0,(AU18*((LOG(AU18))/LOG(2))))","v":-0.44217935649972373}]
[12,1722,14,1726,24,1736,14,1747,null,null,0,1121,null,2211,{"$f":"COUNTIF($L$7:$L$500,N19)","v":6},{"$f":"O19/$Q$4","v":3.2432432432432434E-2},{"$f":"IF(P19=0,0,(P19*((LOG(P19))/LOG(2))))","v":-0.16042439869605912},null,null,{"$f":"N19","v":2211},{"$f":"COUNTIF(L7:L37,T19)","v":4},{"$f":"U19/(W4-U20)","v":0.12903225806451613},{"$f":"IF(V19=0,0,(V19*((LOG(V19))/LOG(2))))","v":-0.38118662069508069},null,{"$f":"N19","v":2211},{"$f":"COUNTIF(L38:L68,Y19)","v":1},{"$f":"Z19/(AB4-Z20)","v":3.2258064516129031E-2},{"$f":"IF(AA19=0,0,(AA19*((LOG(AA19))/LOG(2))))","v":-0.15981278420602821},null,{"$f":"N19","v":2211},{"$f":"COUNTIF(L69:L98,AD19)","v":0},{"$f":"AE19/(AG4-AE20)","v":0},{"$f":"IF(AF19=0,0,(AF19*((LOG(AF19))/LOG(2))))","v":0},null,{"$f":"N19","v":2211},{"$f":"COUNTIF(L99:L129,AI19)","v":0},{"$f":"AJ19/(AL4-AJ20)","v":0},{"$f":"IF(AK19=0,0,(AK19*((LOG(AK19))/LOG(2))))","v":0},null,{"$f":"N19","v":2211},{"$f":"COUNTIF(L130:L160,AN19)","v":1},{"$f":"AO19/(AQ4-AO20)","v":3.8461538461538464E-2},{"$f":"IF(AP19=0,0,(AP19*((LOG(AP19))/LOG(2))))","v":-0.18078614300542661},null,{"$f":"N19","v":2211},{"$f":"COUNTIF(L161:L191,AS19)","v":0},{"$f":"AT19/(AV4-AT20)","v":0},{"$f":"IF(AU19=0,0,(AU19*((LOG(AU19))/LOG(2))))","v":0}]
[21,1852,12,1863,13,1867,23,1874,null,null,0,2112,null,2212,{"$f":"COUNTIF($L$7:$L$500,N20)","v":23},{"$f":"O20/$Q$4","v":0.12432432432432433},{"$f":"IF(P20=0,0,(P20*((LOG(P20))/LOG(2))))","v":-0.3739451275814264},null,null,{"$f":"N20","v":2212},{"$f":"COUNTIF(L7:L37,T20)","v":0},null,null,null,{"$f":"N20","v":2212},{"$f":"COUNTIF(L38:L68,Y20)","v":0},null,null,null,{"$f":"N20","v":2212},{"$f":"COUNTIF(L69:L98,AD20)","v":4},null,null,null,{"$f":"N20","v":2212},{"$f":"COUNTIF(L99:L129,AI20)","v":3},null,null,null,{"$f":"N20","v":2212},{"$f":"COUNTIF(L130:L160,AN20)","v":5},null,null,null,{"$f":"N20","v":2212},{"$f":"COUNTIF(L161:L191,AS20)","v":11}]
[12,1978,14,1982,13,1986,23,1995,null,null,0,1112,null,2221,{"$f":"COUNTIF($L$7:$L$500,N21)","v":3},{"$f":"O21/$Q$4","v":1.6216216216216217E-2},{"$f":"IF(P21=0,0,(P21*((LOG(P21))/LOG(2))))","v":-9.6428415564245779E-2},null,null,{"$f":"N21","v":2221},{"$f":"COUNTIF(L7:L37,T21)","v":1},{"$f":"U21/(W4-U20)","v":3.2258064516129031E-2},{"$f":"IF(V21=0,0,(V21*((LOG(V21))/LOG(2))))","v":-0.15981278420602821},null,{"$f":"N21","v":2221},{"$f":"COUNTIF(L38:L68,Y21)","v":0},{"$f":"Z21/(AB4-Z20)","v":0},{"$f":"IF(AA21=0,0,(AA21*((LOG(AA21))/LOG(2))))","v":0},null,{"$f":"N21","v":2221},{"$f":"COUNTIF(L69:L98,AD21)","v":1},{"$f":"AE21/(AG4-AE20)","v":3.8461538461538464E-2},{"$f":"IF(AF21=0,0,(AF21*((LOG(AF21))/LOG(2))))","v":-0.18078614300542661},null,{"$f":"N21","v":2221},{"$f":"COUNTIF(L99:L129,AI21)","v":0},{"$f":"AJ21/(AL4-AJ20)","v":0},{"$f":"IF(AK21=0,0,(AK21*((LOG(AK21))/LOG(2))))","v":0},null,{"$f":"N21","v":2221},{"$f":"COUNTIF(L130:L160,AN21)","v":0},{"$f":"AO21/(AQ4-AO20)","v":0},{"$f":"IF(AP21=0,0,(AP21*((LOG(AP21))/LOG(2))))","v":0},null,{"$f":"N21","v":2221},{"$f":"COUNTIF(L161:L191,AS21)","v":1},{"$f":"AT21/(AV4-AT20)","v":0.05},{"$f":"IF(AU21=0,0,(AU21*((LOG(AU21))/LOG(2))))","v":-0.21609640474436814}]
[12,2132,14,2136,24,2144,14,2155,null,null,0,1121,null,2222,{"$f":"COUNTIF($L$7:$L$500,N22)","v":4},{"$f":"O22/$Q$4","v":2.1621621621621623E-2},{"$f":"IF(P22=0,0,(P22*((LOG(P22))/LOG(2))))","v":-0.11959743698413648},null,null,{"$f":"N22","v":2222},{"$f":"COUNTIF(L7:L37,T22)","v":0},{"$f":"U22/(W4-U20)","v":0},{"$f":"IF(V22=0,0,(V22*((LOG(V22))/LOG(2))))","v":0},null,{"$f":"N22","v":2222},{"$f":"COUNTIF(L38:L68,Y22)","v":1},{"$f":"Z22/(AB4-Z20)","v":3.2258064516129031E-2},{"$f":"IF(AA22=0,0,(AA22*((LOG(AA22))/LOG(2))))","v":-0.15981278420602821},null,{"$f":"N22","v":2222},{"$f":"COUNTIF(L69:L98,AD22)","v":0},{"$f":"AE22/(AG4-AE20)","v":0},{"$f":"IF(AF22=0,0,(AF22*((LOG(AF22))/LOG(2))))","v":0},null,{"$f":"N22","v":2222},{"$f":"COUNTIF(L99:L129,AI22)","v":0},{"$f":"AJ22/(AL4-AJ20)","v":0},{"$f":"IF(AK22=0,0,(AK22*((LOG(AK22))/LOG(2))))","v":0},null,{"$f":"N22","v":2222},{"$f":"COUNTIF(L130:L160,AN22)","v":2},{"$f":"AO22/(AQ4-AO20)","v":7.6923076923076927E-2},{"$f":"IF(AP22=0,0,(AP22*((LOG(AP22))/LOG(2))))","v":-0.28464920908777636},null,{"$f":"N22","v":2222},{"$f":"COUNTIF(L161:L191,AS22)","v":1},{"$f":"AT22/(AV4-AT20)","v":0.05},{"$f":"IF(AU22=0,0,(AU22*((LOG(AU22))/LOG(2))))","v":-0.21609640474436814}]
[12,2274,14,2279,24,2291,23,2300,null,null,0,1122,null,null,null,{"$f":"SUM(P7:P22)","v":1},{"$f":"-SUM(Q7:Q22)","v":3.4405929508237048},null,null,null,null,{"$f":"SUM(V7:V22)","v":0.99999999999999989},{"$f":"-SUM(W7:W22)","v":3.1030970205399666},null,null,null,{"$f":"SUM(AA7:AA22)","v":0.99999999999999967},{"$f":"-SUM(AB7:AB22)","v":3.0697358013026634},null,null,null,{"$f":"SUM(AF7:AF22)","v":0.99999999999999989},{"$f":"-SUM(AG7:AG22)","v":3.2287219294299225},null,null,null,{"$f":"SUM(AK7:AK22)","v":1},{"$f":"-SUM(AL7:AL22)","v":2.5296964395284132},null,null,null,{"$f":"SUM(AP7:AP22)","v":1},{"$f":"-SUM(AQ7:AQ22)","v":2.4676032641022356},null,null,null,{"$f":"SUM(AU7:AU22)","v":1},{"$f":"-SUM(AV7:AV22)","v":1.9709505944546688}]
[12,2406,14,2410,24,2420,23,2436,null,null,0,1122,null,null,null,"U=",{"$f":"Q23/(LOG(Q4)/LOG(2))","v":0.45683424334050871},null,null,null,null,"U1=",{"$f":"W23/(LOG(W4)/LOG(2))","v":0.62635729917162786},null,null,null,"U2=",{"$f":"AB23/(LOG(AB4)/LOG(2))","v":0.61962336754131297},null,null,null,"U3=",{"$f":"AG23/(LOG(AG4)/LOG(2))","v":0.6579975376503211},null,null,null,"U4=",{"$f":"AL23/(LOG(AL4)/LOG(2))","v":0.51061691564880041},null,null,null,"U5=",{"$f":"AQ23/(LOG(AQ4)/LOG(2))","v":0.49808346490604438},null,null,null,"U6=",{"$f":"AV23/(LOG(AV4)/LOG(2))","v":0.39783457718912163}]
[12,2551,14,2555,13,2562,14,2570,null,null,0,1111]
[12,2693,23,2702,13,2712,14,2717,null,null,0,1211]
[12,2820,14,2825,13,2829,23,2841,null,null,0,1112,null,"Total Target Seq"]
[12,2939,14,2947,13,2951,23,2959,null,null,0,1112,null,{"$f":"COUNTIF(L7:L191,G3)","v":23},null,31,31,30,31,31,31]
[12,3057,14,3062,13,3069,23,3082,null,null,0,1112,null,null,null,"% of reinforcement given in 6 equal intervals based on number of trials "]
[12,3181,14,3185,13,3190,23,3199,null,null,0,1112,null,null,null,"%_1","%_2","%_3","%_4","%_5","%_6"]
[12,3298,14,3303,13,3322,14,3329,null,null,0,1111,null,null,"target sequence",{"$f":"$G$3","v":2212},{"$f":"$G$3","v":2212},{"$f":"$G$3","v":2212},{"$f":"$G$3","v":2212},{"$f":"$G$3","v":2212},{"$f":"$G$3","v":2212}]
[12,3426,14,3431,13,3435,14,3445,null,null,0,1111,null,null,"total reinforcement",{"$f":"U20","v":0},{"$f":"Z20","v":0},{"$f":"AE20","v":4},{"$f":"AJ20","v":3},{"$f":"AO20","v":5},{"$f":"AT20","v":11}]
[12,3549,14,3554,24,3563,23,3570,null,null,0,1122,null,null,"% target"]
[12,3668,14,3672,13,3680,14,3690,null,null,0,1111,null,null,"CCRF"]
[12,3788,14,3804,13,3808,14,3813,null,null,0,1111,null,null,"% CCRf"]
[12,3914,14,3918,13,3922,14,3938,null,null,0,1111,null,null,"average response rate",{"$f":"H37/P28","v":131.93548387096774},{"$f":"(H68-H37)/Q28","v":129.32258064516128},{"$f":"(H98-H68)/R28","v":132.30000000000001},{"$f":"(H129-H98)/S28","v":130.64516129032259},{"$f":"(H160-H129)/T28","v":127},{"$f":"(H191-H160)/U28","v":126.80645161290323}]
[12,4038,14,4062,24,4074,23,4090,null,null,0,1122]
[12,4189,14,4193,13,4198,14,4206,null,null,0,1111]
[12,4312,14,4322,13,4329,14,4337,null,null,0,1111]
[21,4447,12,4464,24,4474,14,4486,null,null,0,2121]
[12,4583,14,4587,13,4592,14,4600,null,null,0,1111]
[21,4702,12,4716,13,4719,14,4724,null,null,0,2111]
[12,4824,14,4832,13,4838,23,4846,null,null,0,1112]
[12,4944,14,4949,13,4960,14,4964,null,null,0,1111]
[12,5073,14,5077,13,5081,23,5093,null,null,0,1112]
[21,5193,21,5202,11,5214,12,5217,null,null,0,2211]
[12,5337,14,5341,13,5346,23,5356,null,null,0,1112]
[12,5463,14,5467,24,5479,23,5488,null,null,0,1122]
[12,5587,14,5602,13,5607,14,5641,null,null,0,1111]
[12,5743,14,5747,13,5759,14,5764,null,null,0,1111]
[21,5864,12,5873,13,5877,23,5884,null,null,0,2112]
[12,5983,14,5986,13,5995,14,6003,null,null,0,1111]
[21,6101,12,6108,13,6112,14,6115,null,null,0,2111]
[12,6223,14,6227,24,6240,14,6249,null,null,0,1121]
[12,6350,14,6357,13,6373,14,6377,null,null,0,1111]
[12,6487,23,6504,13,6513,14,6517,null,null,0,1211]
[12,6616,14,6620,13,6624,14,6628,null,null,0,1111]
[21,6728,12,6737,13,6741,23,6749,null,null,0,2112]
[21,6846,12,6855,24,6864,14,6874,null,null,0,2121]
[12,6973,14,6981,13,6985,14,7017,null,null,0,1111]
[21,7117,12,7129,24,7137,14,7157,null,null,0,2121]
[12,7262,14,7266,13,7271,14,7279,null,null,0,1111]
[12,7391,23,7399,13,7409,23,7419,null,null,0,1212]
[21,7524,12,7534,24,7542,23,7550,null,null,0,2122]
[21,7649,12,7659,24,7668,14,7677,null,null,0,2121]
[21,7776,12,7786,24,7794,14,7803,null,null,0,2121]
[12,7917,23,7926,24,7935,14,7946,null,null,0,1221]
[21,8064,21,8069,22,8091,23,8099,null,null,0,2222]
[12,8199,14,8203,13,8208,23,8217,null,null,0,1112]
[21,8316,12,8332,24,8340,14,8360,null,null,0,2121]
[12,8463,14,8471,24,8480,14,8495,null,null,0,1121]
[21,8608,21,8617,11,8630,21,8639,null,null,0,2212]
[12,8729,14,8751,13,8755,14,8760,null,null,0,1111]
[12,8877,14,8885,24,8896,23,8907,null,null,0,1122]
[21,9004,21,9016,11,9028,21,9036,null,null,0,2212]
[12,9132,14,9145,13,9153,14,9157,null,null,0,1111]
[12,9256,14,9264,13,9279,14,9283,null,null,0,1111]
[12,9390,14,9394,13,9398,23,9409,null,null,0,1112]
[21,9521,12,9530,13,9536,23,9545,null,null,0,2112]
[21,9647,12,9657,24,9665,14,9675,null,null,0,2121]
[12,9775,14,9787,24,9799,14,9809,null,null,0,1121]
[12,9916,14,9922,13,9934,23,9943,null,null,0,1112]
[21,10047,12,10057,24,10065,14,10077,null,null,0,2121]
[21,10178,12,10189,24,10196,23,10212,null,null,0,2122]
[21,10311,21,10330,22,10338,14,10348,null,null,0,2221]
[21,10445,12,10456,24,10464,14,10476,null,null,0,2121]
[12,10587,23,10595,24,10605,14,10615,null,null,0,1221]
[12,10717,14,10725,13,10729,23,10742,null,null,0,1112]
[21,10855,21,10861,11,10871,21,10882,null,null,0,2212]
[21,10977,12,10987,24,10994,23,11020,null,null,0,2122]
[12,11122,14,11126,13,11134,23,11146,null,null,0,1112]
[21,11246,12,11256,24,11263,23,11282,null,null,0,2122]
[21,11379,12,11390,24,11397,23,11405,null,null,0,2122]
[21,11513,12,11521,13,11530,14,11538,null,null,0,2111]
[12,11643,14,11647,13,11651,23,11659,null,null,0,1112]
[12,11765,23,11773,13,11783,14,11789,null,null,0,1211]
[12,11904,23,11912,24,11919,23,11930,null,null,0,1222]
[21,12041,21,12048,11,12059,21,12068,null,null,0,2212]
[12,12166,14,12170,24,12186,14,12196,null,null,0,1121]
[21,12300,12,12309,24,12317,23,12327,null,null,0,2122]
[21,12425,12,12436,24,12444,23,12458,null,null,0,2122]
[21,12559,12,12569,24,12577,23,12586,null,null,0,2122]
[21,12683,12,12692,24,12700,23,12711,null,null,0,2122]
[21,12807,12,12816,24,12824,23,12834,null,null,0,2122]
[21,12944,12,12956,24,12966,23,12977,null,null,0,2122]
[21,13074,21,13085,11,13093,21,13100,null,null,0,2212]
[12,13189,14,13197,13,13205,14,13209,null,null,0,1111]
[21,13306,12,13323,24,13330,23,13337,null,null,0,2122]
[12,13436,14,13440,13,13448,23,13459,null,null,0,1112]
[21,13560,12,13570,24,13579,23,13589,null,null,0,2122]
[12,13692,14,13699,13,13707,14,13711,null,null,0,1111]
[21,13815,12,13824,24,13832,23,13839,null,null,0,2122]
[21,13938,12,13949,13,13964,14,13968,null,null,0,2111]
[21,14066,12,14075,13,14084,14,14091,null,null,0,2111]
[21,14202,12,14223,24,14233,23,14247,null,null,0,2122]
[12,14354,23,14372,24,14385,14,14395,null,null,0,1221]
[12,14499,14,14507,24,14515,23,14532,null,null,0,1122]
[21,14629,12,14636,13,14645,14,14649,null,null,0,2111]
[12,14756,14,14773,13,14777,23,14785,null,null,0,1112]
[12,14890,14,14900,13,14904,23,14915,null,null,0,1112]
[12,15021,14,15028,13,15036,23,15057,null,null,0,1112]
[21,15165,12,15173,24,15182,14,15193,null,null,0,2121]
[21,15299,12,15310,24,15320,23,15329,null,null,0,2122]
[21,15427,12,15438,24,15446,23,15459,null,null,0,2122]
[21,15557,12,15573,13,15577,14,15581,null,null,0,2111]
[21,15700,21,15709,11,15721,21,15730,null,null,0,2212]
[12,15819,14,15823,13,15833,14,15850,null,null,0,1111]
[21,15958,21,15968,11,15978,21,15986,null,null,0,2212]
[21,16078,12,16089,13,16098,23,16118,null,null,0,2112]
[21,16228,12,16237,24,16245,23,16255,null,null,0,2122]
[21,16356,12,16374,24,16382,23,16389,null,null,0,2122]
[12,16490,14,16494,13,16498,14,16513,null,null,0,1111]
[12,16614,14,16627,13,16631,14,16635,null,null,0,1111]
[21,16736,12,16749,24,16757,23,16764,null,null,0,2122]
[21,16861,21,16868,11,16877,21,16884,null,null,0,2212]
[12,16976,14,16980,13,16990,23,17005,null,null,0,1112]
[12,17109,23,17131,13,17141,14,17145,null,null,0,1211]
[12,17243,14,17247,13,17257,14,17261,null,null,0,1111]
[21,17359,12,17368,13,17377,14,17382,null,null,0,2111]
[12,17488,14,17498,13,17505,23,17516,null,null,0,1112]
[21,17619,12,17628,24,17636,23,17645,null,null,0,2122]
[21,17742,12,17749,24,17757,23,17773,null,null,0,2122]
[21,17870,21,17879,11,17892,12,17897,null,null,0,2211]
[21,17994,21,17998,11,18007,21,18016,null,null,0,2212]
[12,18108,14,18112,13,18116,23,18130,null,null,0,1112]
[12,18229,14,18233,13,18245,14,18256,null,null,0,1111]
[21,18357,21,18361,11,18370,21,18379,null,null,0,2212]
[12,18477,14,18481,13,18485,23,18498,null,null,0,1112]
[21,18598,12,18608,24,18615,23,18626,null,null,0,2122]
[21,18732,12,18741,24,18752,23,18759,null,null,0,2122]
[21,18856,12,18866,13,18874,14,18878,null,null,0,2111]
[21,18977,12,18992,24,19000,23,19008,null,null,0,2122]
[21,19104,21,19113,11,19123,21,19130,null,null,0,2212]
[21,19226,12,19237,24,19245,23,19254,null,null,0,2122]
[21,19350,12,19368,24,19383,14,19393,null,null,0,2121]
[21,19490,21,19497,22,19515,23,19523,null,null,0,2222]
[21,19619,21,19630,11,19640,21,19647,null,null,0,2212]
[21,19757,12,19767,24,19787,23,19796,null,null,0,2122]
[21,19903,12,19913,24,19920,23,19928,null,null,0,2122]
[21,20027,21,20035,22,20048,23,20055,null,null,0,2222]
[21,20151,12,20161,24,20169,23,20176,null,null,0,2122]
[21,20274,21,20282,11,20291,21,20298,null,null,0,2212]
[21,20399,12,20408,24,20415,23,20422,null,null,0,2122]
[21,20519,12,20528,24,20536,23,20549,null,null,0,2122]
[21,20645,21,20653,11,20663,21,20670,null,null,0,2212]
[12,20763,14,20768,13,20781,14,20785,null,null,0,1111]
[21,20887,12,20896,24,20909,23,20919,null,null,0,2122]
[21,21020,12,21030,24,21037,23,21043,null,null,0,2122]
[21,21143,12,21151,24,21159,23,21168,null,null,0,2122]
[21,21263,21,21270,11,21281,21,21288,null,null,0,2212]
[21,21392,21,21397,22,21402,23,21410,null,null,0,2222]
[21,21506,12,21517,24,21530,23,21539,null,null,0,2122]
[21,21639,12,21650,24,21663,14,21673,null,null,0,2121]
[21,21769,12,21778,24,21786,23,21800,null,null,0,2122]
[21,21900,12,21909,13,21916,23,21927,null,null,0,2112]
[21,22023,21,22034,11,22044,21,22051,null,null,0,2212]
[21,22162,21,22167,11,22177,21,22185,null,null,0,2212]
[21,22284,12,22296,13,22304,14,22308,null,null,0,2111]
[21,22406,21,22417,11,22427,21,22435,null,null,0,2212]
[21,22529,12,22538,24,22546,23,22555,null,null,0,2122]
[21,22661,12,22671,24,22681,23,22688,null,null,0,2122]
[21,22788,21,22797,11,22807,21,22823,null,null,0,2212]
[21,22910,21,22927,11,22937,21,22948,null,null,0,2212]
[21,23062,21,23066,22,23073,14,23084,null,null,0,2221]
[12,23188,14,23195,13,23199,14,23202,null,null,0,1111]
[21,23302,21,23310,11,23319,21,23338,null,null,0,2212]
[21,23428,12,23438,24,23454,14,23464,null,null,0,2121]
[21,23564,21,23570,11,23581,21,23591,null,null,0,2212]
[21,23679,21,23684,11,23695,21,23710,null,null,0,2212]
[21,23810,12,23819,24,23829,23,23852,null,null,0,2122]
[21,23954,12,23964,24,23976,23,23986,null,null,null,2122]

{"sheet":"!MA27850.096","index":17,"n_rows":159,"n_cols":48,"rows_kept":159,"cut":false,"hidden":false,"merged":[[4,39,4,42],[5,39,5,40],[4,44,4,47],[5,44,5,45],[4,24,4,27],[5,24,5,25],[4,29,4,32],[5,29,5,30],[4,34,4,37],[5,34,5,35],[1,1,1,2],[5,13,5,14],[26,13,26,14],[27,13,27,14],[4,19,4,22],[5,19,5,20]]}
["Report for:!MA27850.096"]
["Date:","<date>"]
["Hen:","<hen>",null,null,null,"Correct Sequence",{"$f":"Start!J2","v":2212},null,null,null,null,null,null,null,null,"Total Sequences in Data",{"$f":"4994-COUNTBLANK(L7:L5000)","v":153},null,null,null,null,"Total Sequences in Block Data",{"$f":"COUNTA(L7:L32)","v":26},null,null,null,"Total Sequences in Block Data",{"$f":"COUNTA(L33:L57)","v":25},null,null,null,"Total Sequences in Block Data",{"$f":"COUNTA(L58:L83)","v":26},null,null,null,"Total Sequences in Block Data",{"$f":"COUNTA(L84:L108)","v":25},null,null,null,"Total Sequences in Block Data",{"$f":"COUNTA(L109:L134)","v":26},null,null,null,"Total Sequences in Block Data",{"$f":"COUNTA(L135:L159)","v":25}]
[null,null,null,null,null,null,null,null,null,null,null,null,null,null,null,"Total Sequences in Summary",{"$f":"SUM(O7:O22)","v":153},null,null,null,null,"Total Sequences in Block Summary",{"$f":"SUM(U7:U22)","v":26},null,null,null,"Total Sequences in Block Summary",{"$f":"SUM(Z7:Z22)","v":25},null,null,null,"Total Sequences in Block Summary",{"$f":"SUM(AE7:AE22)","v":26},null,null,null,"Total Sequences in Block Summary",{"$f":"SUM(AJ7:AJ22)","v":25},null,null,null,"Total Sequences in Block Summary",{"$f":"SUM(AO7:AO22)","v":26},null,null,null,"Total Sequences in Block Summary",{"$f":"SUM(AT7:AT22)","v":25}]
[null,null,null,null,null,null,null,null,null,null,null,null,null,null,null,null,null,null,null,"Block 1",null,null,null,null,"Block 2",null,null,null,null,"Block 3",null,null,null,null,"Block 4",null,null,null,null,"Block 5",null,null,null,null,"Block 6"]
["Sequence\nComponent\n1","Time\n1","Sequence\nComponent\n2","Time\n2","Sequence\nComponent\n3","Time\n3","Sequence\nComponent\n4","Time\n4","Sequence\nComponent\n5","Time\n5","Correct?\n0=No 1=Yes","Sequence",null,"Frequency",null,"Relative Frequency","Variability",null,null,"Frequency",null,"Relative Frequency","Variability",null,"Frequency",null,"Relative Frequency","Variability",null,"Frequency",null,"Relative Frequency","Variability",null,"Frequency",null,"Relative Frequency","Variability",null,"Frequency",null,"Relative Frequency","Variability",null,"Frequency",null,"Relative Frequency","Variability"]
[21,25,21,32,22,42,14,56,null,null,0,2221,null,1111,{"$f":"COUNTIF($L$7:$L$500,N7)","v":2},{"$f":"O7/$Q$4","v":1.3071895424836602E-2},{"$f":"IF(P7=0,0,(P7*((LOG(P7))/LOG(2))))","v":-8.1795919512322249E-2},null,null,{"$f":"N7","v":1111},{"$f":"COUNTIF(L7:L32,T7)","v":2},{"$f":"U7/(W4-U20)","v":8.3333333333333329E-2},{"$f":"IF(V7=0,0,(V7*((LOG(V7))/LOG(2))))","v":-0.29874687506009634},null,{"$f":"N7","v":1111},{"$f":"COUNTIF(L33:L57,Y7)","v":0},{"$f":"Z7/(AB4-Z20)","v":0},{"$f":"IF(AA7=0,0,(AA7*((LOG(AA7))/LOG(2))))","v":0},null,{"$f":"N7","v":1111},{"$f":"COUNTIF(L58:L83,AD7)","v":0},{"$f":"AE7/(AG4-AE20)","v":0},{"$f":"IF(AF7=0,0,(AF7*((LOG(AF7))/LOG(2))))","v":0},null,{"$f":"N7","v":1111},{"$f":"COUNTIF(L84:L108,AI7)","v":0},{"$f":"AJ7/(AL4-AJ20)","v":0},{"$f":"IF(AK7=0,0,(AK7*((LOG(AK7))/LOG(2))))","v":0},null,{"$f":"N7","v":1111},{"$f":"COUNTIF(L109:L134,AN7)","v":0},{"$f":"AO7/(AQ4-AO20)","v":0},{"$f":"IF(AP7=0,0,(AP7*((LOG(AP7))/LOG(2))))","v":0},null,{"$f":"N7","v":1111},{"$f":"COUNTIF(L135:L159,AS7)","v":0},{"$f":"AT7/(AV4-AT20)","v":0},{"$f":"IF(AU7=0,0,(AU7*((LOG(AU7))/LOG(2))))","v":0}]
[12,156,14,161,13,166,23,175,null,null,0,1112,null,1112,{"$f":"COUNTIF($L$7:$L$500,N8)","v":1},{"$f":"O8/$Q$4","v":6.5359477124183009E-3},{"$f":"IF(P8=0,0,(P8*((LOG(P8))/LOG(2))))","v":-4.743390746857943E-2},null,null,{"$f":"N8","v":1112},{"$f":"COUNTIF(L7:L32,T8)","v":1},{"$f":"U8/(W4-U20)","v":4.1666666666666664E-2},{"$f":"IF(V8=0,0,(V8*((LOG(V8))/LOG(2))))","v":-0.19104010419671485},null,{"$f":"N8","v":1112},{"$f":"COUNTIF(L33:L57,Y8)","v":0},{"$f":"Z8/(AB4-Z20)","v":0},{"$f":"IF(AA8=0,0,(AA8*((LOG(AA8))/LOG(2))))","v":0},null,{"$f":"N8","v":1112},{"$f":"COUNTIF(L58:L83,AD8)","v":0},{"$f":"AE8/(AG4-AE20)","v":0},{"$f":"IF(AF8=0,0,(AF8*((LOG(AF8))/LOG(2))))","v":0},null,{"$f":"N8","v":1112},{"$f":"COUNTIF(L84:L108,AI8)","v":0},{"$f":"AJ8/(AL4-AJ20)","v":0},{"$f":"IF(AK8=0,0,(AK8*((LOG(AK8))/LOG(2))))","v":0},null,{"$f":"N8","v":1112},{"$f":"COUNTIF(L109:L134,AN8)","v":0},{"$f":"AO8/(AQ4-AO20)","v":0},{"$f":"IF(AP8=0,0,(AP8*((LOG(AP8))/LOG(2))))","v":0},null,{"$f":"N8","v":1112},{"$f":"COUNTIF(L135:L159,AS8)","v":0},{"$f":"AT8/(AV4-AT20)","v":0},{"$f":"IF(AU8=0,0,(AU8*((LOG(AU8))/LOG(2))))","v":0}]
[21,286,21,292,22,299,23,306,null,null,0,2222,null,1121,{"$f":"COUNTIF($L$7:$L$500,N9)","v":0},{"$f":"O9/$Q$4","v":0},{"$f":"IF(P9=0,0,(P9*((LOG(P9))/LOG(2))))","v":0},null,null,{"$f":"N9","v":1121},{"$f":"COUNTIF(L7:L32,T9)","v":0},{"$f":"U9/(W4-U20)","v":0},{"$f":"IF(V9=0,0,(V9*((LOG(V9))/LOG(2))))","v":0},null,{"$f":"N9","v":1121},{"$f":"COUNTIF(L33:L57,Y9)","v":0},{"$f":"Z9/(AB4-Z20)","v":0},{"$f":"IF(AA9=0,0,(AA9*((LOG(AA9))/LOG(2))))","v":0},null,{"$f":"N9","v":1121},{"$f":"COUNTIF(L58:L83,AD9)","v":0},{"$f":"AE9/(AG4-AE20)","v":0},{"$f":"IF(AF9=0,0,(AF9*((LOG(AF9))/LOG(2))))","v":0},null,{"$f":"N9","v":1121},{"$f":"COUNTIF(L84:L108,AI9)","v":0},{"$f":"AJ9/(AL4-AJ20)","v":0},{"$f":"IF(AK9=0,0,(AK9*((LOG(AK9))/LOG(2))))","v":0},null,{"$f":"N9","v":1121},{"$f":"COUNTIF(L109:L134,AN9)","v":0},{"$f":"AO9/(AQ4-AO20)","v":0},{"$f":"IF(AP9=0,0,(AP9*((LOG(AP9))/LOG(2))))","v":0},null,{"$f":"N9","v":1121},{"$f":"COUNTIF(L135:L159,AS9)","v":0},{"$f":"AT9/(AV4-AT20)","v":0},{"$f":"IF(AU9=0,0,(AU9*((LOG(AU9))/LOG(2))))","v":0}]
[12,420,14,424,24,435,23,451,null,null,0,1122,null,1122,{"$f":"COUNTIF($L$7:$L$500,N10)","v":2},{"$f":"O10/$Q$4","v":1.3071895424836602E-2},{"$f":"IF(P10=0,0,(P10*((LOG(P10))/LOG(2))))","v":-8.1795919512322249E-2},null,null,{"$f":"N10","v":1122},{"$f":"COUNTIF(L7:L32,T10)","v":2},{"$f":"U10/(W4-U20)","v":8.3333333333333329E-2},{"$f":"IF(V10=0,0,(V10*((LOG(V10))/LOG(2))))","v":-0.29874687506009634},null,{"$f":"N10","v":1122},{"$f":"COUNTIF(L33:L57,Y10)","v":0},{"$f":"Z10/(AB4-Z20)","v":0},{"$f":"IF(AA10=0,0,(AA10*((LOG(AA10))/LOG(2))))","v":0},null,{"$f":"N10","v":1122},{"$f":"COUNTIF(L58:L83,AD10)","v":0},{"$f":"AE10/(AG4-AE20)","v":0},{"$f":"IF(AF10=0,0,(AF10*((LOG(AF10))/LOG(2))))","v":0},null,{"$f":"N10","v":1122},{"$f":"COUNTIF(L84:L108,AI10)","v":0},{"$f":"AJ10/(AL4-AJ20)","v":0},{"$f":"IF(AK10=0,0,(AK10*((LOG(AK10))/LOG(2))))","v":0},null,{"$f":"N10","v":1122},{"$f":"COUNTIF(L109:L134,AN10)","v":0},{"$f":"AO10/(AQ4-AO20)","v":0},{"$f":"IF(AP10=0,0,(AP10*((LOG(AP10))/LOG(2))))","v":0},null,{"$f":"N10","v":1122},{"$f":"COUNTIF(L135:L159,AS10)","v":0},{"$f":"AT10/(AV4-AT20)","v":0},{"$f":"IF(AU10=0,0,(AU10*((LOG(AU10))/LOG(2))))","v":0}]
[21,553,12,563,13,568,23,576,null,null,0,2112,null,1211,{"$f":"COUNTIF($L$7:$L$500,N11)","v":1},{"$f":"O11/$Q$4","v":6.5359477124183009E-3},{"$f":"IF(P11=0,0,(P11*((LOG(P11))/LOG(2))))","v":-4.743390746857943E-2},null,null,{"$f":"N11","v":1211},{"$f":"COUNTIF(L7:L32,T11)","v":0},{"$f":"U11/(W4-U20)","v":0},{"$f":"IF(V11=0,0,(V11*((LOG(V11))/LOG(2))))","v":0},null,{"$f":"N11","v":1211},{"$f":"COUNTIF(L33:L57,Y11)","v":0},{"$f":"Z11/(AB4-Z20)","v":0},{"$f":"IF(AA11=0,0,(AA11*((LOG(AA11))/LOG(2))))","v":0},null,{"$f":"N11","v":1211},{"$f":"COUNTIF(L58:L83,AD11)","v":0},{"$f":"AE11/(AG4-AE20)","v":0},{"$f":"IF(AF11=0,0,(AF11*((LOG(AF11))/LOG(2))))","v":0},null,{"$f":"N11","v":1211},{"$f":"COUNTIF(L84:L108,AI11)","v":0},{"$f":"AJ11/(AL4-AJ20)","v":0},{"$f":"IF(AK11=0,0,(AK11*((LOG(AK11))/LOG(2))))","v":0},null,{"$f":"N11","v":1211},{"$f":"COUNTIF(L109:L134,AN11)","v":0},{"$f":"AO11/(AQ4-AO20)","v":0},{"$f":"IF(AP11=0,0,(AP11*((LOG(AP11))/LOG(2))))","v":0},null,{"$f":"N11","v":1211},{"$f":"COUNTIF(L135:L159,AS11)","v":1},{"$f":"AT11/(AV4-AT20)","v":6.25E-2},{"$f":"IF(AU11=0,0,(AU11*((LOG(AU11))/LOG(2))))","v":-0.25}]
[12,675,14,680,13,685,14,689,null,null,0,1111,null,1212,{"$f":"COUNTIF($L$7:$L$500,N12)","v":4},{"$f":"O12/$Q$4","v":2.6143790849673203E-2},{"$f":"IF(P12=0,0,(P12*((LOG(P12))/LOG(2))))","v":-0.13744804817497128},null,null,{"$f":"N12","v":1212},{"$f":"COUNTIF(L7:L32,T12)","v":0},{"$f":"U12/(W4-U20)","v":0},{"$f":"IF(V12=0,0,(V12*((LOG(V12))/LOG(2))))","v":0},null,{"$f":"N12","v":1212},{"$f":"COUNTIF(L33:L57,Y12)","v":1},{"$f":"Z12/(AB4-Z20)","v":4.7619047619047616E-2},{"$f":"IF(AA12=0,0,(AA12*((LOG(AA12))/LOG(2))))","v":-0.20915797251327431},null,{"$f":"N12","v":1212},{"$f":"COUNTIF(L58:L83,AD12)","v":2},{"$f":"AE12/(AG4-AE20)","v":9.5238095238095233E-2},{"$f":"IF(AF12=0,0,(AF12*((LOG(AF12))/LOG(2))))","v":-0.32307784978845333},null,{"$f":"N12","v":1212},{"$f":"COUNTIF(L84:L108,AI12)","v":0},{"$f":"AJ12/(AL4-AJ20)","v":0},{"$f":"IF(AK12=0,0,(AK12*((LOG(AK12))/LOG(2))))","v":0},null,{"$f":"N12","v":1212},{"$f":"COUNTIF(L109:L134,AN12)","v":0},{"$f":"AO12/(AQ4-AO20)","v":0},{"$f":"IF(AP12=0,0,(AP12*((LOG(AP12))/LOG(2))))","v":0},null,{"$f":"N12","v":1212},{"$f":"COUNTIF(L135:L159,AS12)","v":1},{"$f":"AT12/(AV4-AT20)","v":6.25E-2},{"$f":"IF(AU12=0,0,(AU12*((LOG(AU12))/LOG(2))))","v":-0.25}]
[12,803,14,807,24,818,23,829,null,null,0,1122,null,1221,{"$f":"COUNTIF($L$7:$L$500,N13)","v":1},{"$f":"O13/$Q$4","v":6.5359477124183009E-3},{"$f":"IF(P13=0,0,(P13*((LOG(P13))/LOG(2))))","v":-4.743390746857943E-2},null,null,{"$f":"N13","v":1221},{"$f":"COUNTIF(L7:L32,T13)","v":0},{"$f":"U13/(W4-U20)","v":0},{"$f":"IF(V13=0,0,(V13*((LOG(V13))/LOG(2))))","v":0},null,{"$f":"N13","v":1221},{"$f":"COUNTIF(L33:L57,Y13)","v":0},{"$f":"Z13/(AB4-Z20)","v":0},{"$f":"IF(AA13=0,0,(AA13*((LOG(AA13))/LOG(2))))","v":0},null,{"$f":"N13","v":1221},{"$f":"COUNTIF(L58:L83,AD13)","v":0},{"$f":"AE13/(AG4-AE20)","v":0},{"$f":"IF(AF13=0,0,(AF13*((LOG(AF13))/LOG(2))))","v":0},null,{"$f":"N13","v":1221},{"$f":"COUNTIF(L84:L108,AI13)","v":1},{"$f":"AJ13/(AL4-AJ20)","v":6.25E-2},{"$f":"IF(AK13=0,0,(AK13*((LOG(AK13))/LOG(2))))","v":-0.25},null,{"$f":"N13","v":1221},{"$f":"COUNTIF(L109:L134,AN13)","v":0},{"$f":"AO13/(AQ4-AO20)","v":0},{"$f":"IF(AP13=0,0,(AP13*((LOG(AP13))/LOG(2))))","v":0},null,{"$f":"N13","v":1221},{"$f":"COUNTIF(L135:L159,AS13)","v":0},{"$f":"AT13/(AV4-AT20)","v":0},{"$f":"IF(AU13=0,0,(AU13*((LOG(AU13))/LOG(2))))","v":0}]
[21,931,12,941,24,950,23,961,null,null,0,2122,null,1222,{"$f":"COUNTIF($L$7:$L$500,N14)","v":2},{"$f":"O14/$Q$4","v":1.3071895424836602E-2},{"$f":"IF(P14=0,0,(P14*((LOG(P14))/LOG(2))))","v":-8.1795919512322249E-2},null,null,{"$f":"N14","v":1222},{"$f":"COUNTIF(L7:L32,T14)","v":0},{"$f":"U14/(W4-U20)","v":0},{"$f":"IF(V14=0,0,(V14*((LOG(V14))/LOG(2))))","v":0},null,{"$f":"N14","v":1222},{"$f":"COUNTIF(L33:L57,Y14)","v":0},{"$f":"Z14/(AB4-Z20)","v":0},{"$f":"IF(AA14=0,0,(AA14*((LOG(AA14))/LOG(2))))","v":0},null,{"$f":"N14","v":1222},{"$f":"COUNTIF(L58:L83,AD14)","v":1},{"$f":"AE14/(AG4-AE20)","v":4.7619047619047616E-2},{"$f":"IF(AF14=0,0,(AF14*((LOG(AF14))/LOG(2))))","v":-0.20915797251327431},null,{"$f":"N14","v":1222},{"$f":"COUNTIF(L84:L108,AI14)","v":1},{"$f":"AJ14/(AL4-AJ20)","v":6.25E-2},{"$f":"IF(AK14=0,0,(AK14*((LOG(AK14))/LOG(2))))","v":-0.25},null,{"$f":"N14","v":1222},{"$f":"COUNTIF(L109:L134,AN14)","v":0},{"$f":"AO14/(AQ4-AO20)","v":0},{"$f":"IF(AP14=0,0,(AP14*((LOG(AP14))/LOG(2))))","v":0},null,{"$f":"N14","v":1222},{"$f":"COUNTIF(L135:L159,AS14)","v":0},{"$f":"AT14/(AV4-AT20)","v":0},{"$f":"IF(AU14=0,0,(AU14*((LOG(AU14))/LOG(2))))","v":0}]
[21,1059,12,1071,24,1080,23,1089,null,null,0,2122,null,2111,{"$f":"COUNTIF($L$7:$L$500,N15)","v":0},{"$f":"O15/$Q$4","v":0},{"$f":"IF(P15=0,0,(P15*((LOG(P15))/LOG(2))))","v":0},null,null,{"$f":"N15","v":2111},{"$f":"COUNTIF(L7:L32,T15)","v":0},{"$f":"U15/(W4-U20)","v":0},{"$f":"IF(V15=0,0,(V15*((LOG(V15))/LOG(2))))","v":0},null,{"$f":"N15","v":2111},{"$f":"COUNTIF(L33:L57,Y15)","v":0},{"$f":"Z15/(AB4-Z20)","v":0},{"$f":"IF(AA15=0,0,(AA15*((LOG(AA15))/LOG(2))))","v":0},null,{"$f":"N15","v":2111},{"$f":"COUNTIF(L58:L83,AD15)","v":0},{"$f":"AE15/(AG4-AE20)","v":0},{"$f":"IF(AF15=0,0,(AF15*((LOG(AF15))/LOG(2))))","v":0},null,{"$f":"N15","v":2111},{"$f":"COUNTIF(L84:L108,AI15)","v":0},{"$f":"AJ15/(AL4-AJ20)","v":0},{"$f":"IF(AK15=0,0,(AK15*((LOG(AK15))/LOG(2))))","v":0},null,{"$f":"N15","v":2111},{"$f":"COUNTIF(L109:L134,AN15)","v":0},{"$f":"AO15/(AQ4-AO20)","v":0},{"$f":"IF(AP15=0,0,(AP15*((LOG(AP15))/LOG(2))))","v":0},null,{"$f":"N15","v":2111},{"$f":"COUNTIF(L135:L159,AS15)","v":0},{"$f":"AT15/(AV4-AT20)","v":0},{"$f":"IF(AU15=0,0,(AU15*((LOG(AU15))/LOG(2))))","v":0}]
[12,1204,14,1209,13,1215,14,1220,null,null,0,1111,null,2112,{"$f":"COUNTIF($L$7:$L$500,N16)","v":2},{"$f":"O16/$Q$4","v":1.3071895424836602E-2},{"$f":"IF(P16=0,0,(P16*((LOG(P16))/LOG(2))))","v":-8.1795919512322249E-2},null,null,{"$f":"N16","v":2112},{"$f":"COUNTIF(L7:L32,T16)","v":1},{"$f":"U16/(W4-U20)","v":4.1666666666666664E-2},{"$f":"IF(V16=0,0,(V16*((LOG(V16))/LOG(2))))","v":-0.19104010419671485},null,{"$f":"N16","v":2112},{"$f":"COUNTIF(L33:L57,Y16)","v":0},{"$f":"Z16/(AB4-Z20)","v":0},{"$f":"IF(AA16=0,0,(AA16*((LOG(AA16))/LOG(2))))","v":0},null,{"$f":"N16","v":2112},{"$f":"COUNTIF(L58:L83,AD16)","v":0},{"$f":"AE16/(AG4-AE20)","v":0},{"$f":"IF(AF16=0,0,(AF16*((LOG(AF16))/LOG(2))))","v":0},null,{"$f":"N16","v":2112},{"$f":"COUNTIF(L84:L108,AI16)","v":0},{"$f":"AJ16/(AL4-AJ20)","v":0},{"$f":"IF(AK16=0,0,(AK16*((LOG(AK16))/LOG(2))))","v":0},null,{"$f":"N16","v":2112},{"$f":"COUNTIF(L109:L134,AN16)","v":1},{"$f":"AO16/(AQ4-AO20)","v":6.6666666666666666E-2},{"$f":"IF(AP16=0,0,(AP16*((LOG(AP16))/LOG(2))))","v":-0.26045937304056793},null,{"$f":"N16","v":2112},{"$f":"COUNTIF(L135:L159,AS16)","v":0},{"$f":"AT16/(AV4-AT20)","v":0},{"$f":"IF(AU16=0,0,(AU16*((LOG(AU16))/LOG(2))))","v":0}]
[21,1320,12,1329,24,1338,14,1348,null,null,0,2121,null,2121,{"$f":"COUNTIF($L$7:$L$500,N17)","v":22},{"$f":"O17/$Q$4","v":0.1437908496732026},{"$f":"IF(P17=0,0,(P17*((LOG(P17))/LOG(2))))","v":-0.40232050280534504},null,null,{"$f":"N17","v":2121},{"$f":"COUNTIF(L7:L32,T17)","v":5},{"$f":"U17/(W4-U20)","v":0.20833333333333334},{"$f":"IF(V17=0,0,(V17*((LOG(V17))/LOG(2))))","v":-0.47146550121537367},null,{"$f":"N17","v":2121},{"$f":"COUNTIF(L33:L57,Y17)","v":6},{"$f":"Z17/(AB4-Z20)","v":0.2857142857142857},{"$f":"IF(AA17=0,0,(AA17*((LOG(AA17))/LOG(2))))","v":-0.51638712058788683},null,{"$f":"N17","v":2121},{"$f":"COUNTIF(L58:L83,AD17)","v":2},{"$f":"AE17/(AG4-AE20)","v":9.5238095238095233E-2},{"$f":"IF(AF17=0,0,(AF17*((LOG(AF17))/LOG(2))))","v":-0.32307784978845333},null,{"$f":"N17","v":2121},{"$f":"COUNTIF(L84:L108,AI17)","v":4},{"$f":"AJ17/(AL4-AJ20)","v":0.25},{"$f":"IF(AK17=0,0,(AK17*((LOG(AK17))/LOG(2))))","v":-0.5},null,{"$f":"N17","v":2121},{"$f":"COUNTIF(L109:L134,AN17)","v":2},{"$f":"AO17/(AQ4-AO20)","v":0.13333333333333333},{"$f":"IF(AP17=0,0,(AP17*((LOG(AP17))/LOG(2))))","v":-0.3875854127478025},null,{"$f":"N17","v":2121},{"$f":"COUNTIF(L135:L159,AS17)","v":3},{"$f":"AT17/(AV4-AT20)","v":0.1875},{"$f":"IF(AU17=0,0,(AU17*((LOG(AU17))/LOG(2))))","v":-0.45281953111478312}]
[21,1446,12,1457,24,1465,14,1477,null,null,0,2121,null,2122,{"$f":"COUNTIF($L$7:$L$500,N18)","v":61},{"$f":"O18/$Q$4","v":0.39869281045751637},{"$f":"IF(P18=0,0,(P18*((LOG(P18))/LOG(2))))","v":-0.52892601838506981},null,null,{"$f":"N18","v":2122},{"$f":"COUNTIF(L7:L32,T18)","v":9},{"$f":"U18/(W4-U20)","v":0.375},{"$f":"IF(V18=0,0,(V18*((LOG(V18))/LOG(2))))","v":-0.53063906222956647},null,{"$f":"N18","v":2122},{"$f":"COUNTIF(L33:L57,Y18)","v":13},{"$f":"Z18/(AB4-Z20)","v":0.61904761904761907},{"$f":"IF(AA18=0,0,(AA18*((LOG(AA18))/LOG(2))))","v":-0.42830524572808026},null,{"$f":"N18","v":2122},{"$f":"COUNTIF(L58:L83,AD18)","v":15},{"$f":"AE18/(AG4-AE20)","v":0.7142857142857143},{"$f":"IF(AF18=0,0,(AF18*((LOG(AF18))/LOG(2))))","v":-0.34673344797874411},null,{"$f":"N18","v":2122},{"$f":"COUNTIF(L84:L108,AI18)","v":7},{"$f":"AJ18/(AL4-AJ20)","v":0.4375},{"$f":"IF(AK18=0,0,(AK18*((LOG(AK18))/LOG(2))))","v":-0.52178222159979815},null,{"$f":"N18","v":2122},{"$f":"COUNTIF(L109:L134,AN18)","v":10},{"$f":"AO18/(AQ4-AO20)","v":0.66666666666666663},{"$f":"IF(AP18=0,0,(AP18*((LOG(AP18))/LOG(2))))","v":-0.38997500048077083},null,{"$f":"N18","v":2122},{"$f":"COUNTIF(L135:L159,AS18)","v":7},{"$f":"AT18/(AV4-AT20)","v":0.4375},{"$f":"IF(AU18=0,0,(AU18*((LOG(AU18))/LOG(2))))","v":-0.52178222159979815}]
[21,1574,21,1578,22,1589,14,1599,null,null,0,2221,null,2211,{"$f":"COUNTIF($L$7:$L$500,N19)","v":0},{"$f":"O19/$Q$4","v":0},{"$f":"IF(P19=0,0,(P19*((LOG(P19))/LOG(2))))","v":0},null,null,{"$f":"N19","v":2211},{"$f":"COUNTIF(L7:L32,T19)","v":0},{"$f":"U19/(W4-U20)","v":0},{"$f":"IF(V19=0,0,(V19*((LOG(V19))/LOG(2))))","v":0},null,{"$f":"N19","v":2211},{"$f":"COUNTIF(L33:L57,Y19)","v":0},{"$f":"Z19/(AB4-Z20)","v":0},{"$f":"IF(AA19=0,0,(AA19*((LOG(AA19))/LOG(2))))","v":0},null,{"$f":"N19","v":2211},{"$f":"COUNTIF(L58:L83,AD19)","v":0},{"$f":"AE19/(AG4-AE20)","v":0},{"$f":"IF(AF19=0,0,(AF19*((LOG(AF19))/LOG(2))))","v":0},null,{"$f":"N19","v":2211},{"$f":"COUNTIF(L84:L108,AI19)","v":0},{"$f":"AJ19/(AL4-AJ20)","v":0},{"$f":"IF(AK19=0,0,(AK19*((LOG(AK19))/LOG(2))))","v":0},null,{"$f":"N19","v":2211},{"$f":"COUNTIF(L109:L134,AN19)","v":0},{"$f":"AO19/(AQ4-AO20)","v":0},{"$f":"IF(AP19=0,0,(AP19*((LOG(AP19))/LOG(2))))","v":0},null,{"$f":"N19","v":2211},{"$f":"COUNTIF(L135:L159,AS19)","v":0},{"$f":"AT19/(AV4-AT20)","v":0},{"$f":"IF(AU19=0,0,(AU19*((LOG(AU19))/LOG(2))))","v":0}]
[21,1708,12,1718,24,1725,23,1736,null,null,0,2122,null,2212,{"$f":"COUNTIF($L$7:$L$500,N20)","v":40},{"$f":"O20/$Q$4","v":0.26143790849673204},{"$f":"IF(P20=0,0,(P20*((LOG(P20))/LOG(2))))","v":-0.50600254844582726},null,null,{"$f":"N20","v":2212},{"$f":"COUNTIF(L7:L32,T20)","v":2},null,null,null,{"$f":"N20","v":2212},{"$f":"COUNTIF(L33:L57,Y20)","v":4},null,null,null,{"$f":"N20","v":2212},{"$f":"COUNTIF(L58:L83,AD20)","v":5},null,null,null,{"$f":"N20","v":2212},{"$f":"COUNTIF(L84:L108,AI20)","v":9},null,null,null,{"$f":"N20","v":2212},{"$f":"COUNTIF(L109:L134,AN20)","v":11},null,null,null,{"$f":"N20","v":2212},{"$f":"COUNTIF(L135:L159,AS20)","v":9}]
[21,1836,12,1846,24,1854,23,1864,null,null,0,2122,null,2221,{"$f":"COUNTIF($L$7:$L$500,N21)","v":11},{"$f":"O21/$Q$4","v":7.1895424836601302E-2},{"$f":"IF(P21=0,0,(P21*((LOG(P21))/LOG(2))))","v":-0.27305567623927385},null,null,{"$f":"N21","v":2221},{"$f":"COUNTIF(L7:L32,T21)","v":2},{"$f":"U21/(W4-U20)","v":8.3333333333333329E-2},{"$f":"IF(V21=0,0,(V21*((LOG(V21))/LOG(2))))","v":-0.29874687506009634},null,{"$f":"N21","v":2221},{"$f":"COUNTIF(L33:L57,Y21)","v":1},{"$f":"Z21/(AB4-Z20)","v":4.7619047619047616E-2},{"$f":"IF(AA21=0,0,(AA21*((LOG(AA21))/LOG(2))))","v":-0.20915797251327431},null,{"$f":"N21","v":2221},{"$f":"COUNTIF(L58:L83,AD21)","v":1},{"$f":"AE21/(AG4-AE20)","v":4.7619047619047616E-2},{"$f":"IF(AF21=0,0,(AF21*((LOG(AF21))/LOG(2))))","v":-0.20915797251327431},null,{"$f":"N21","v":2221},{"$f":"COUNTIF(L84:L108,AI21)","v":3},{"$f":"AJ21/(AL4-AJ20)","v":0.1875},{"$f":"IF(AK21=0,0,(AK21*((LOG(AK21))/LOG(2))))","v":-0.45281953111478312},null,{"$f":"N21","v":2221},{"$f":"COUNTIF(L109:L134,AN21)","v":0},{"$f":"AO21/(AQ4-AO20)","v":0},{"$f":"IF(AP21=0,0,(AP21*((LOG(AP21))/LOG(2))))","v":0},null,{"$f":"N21","v":2221},{"$f":"COUNTIF(L135:L159,AS21)","v":4},{"$f":"AT21/(AV4-AT20)","v":0.25},{"$f":"IF(AU21=0,0,(AU21*((LOG(AU21))/LOG(2))))","v":-0.5}]
[21,1962,12,1972,24,1981,14,1991,null,null,0,2121,null,2222,{"$f":"COUNTIF($L$7:$L$500,N22)","v":4},{"$f":"O22/$Q$4","v":2.6143790849673203E-2},{"$f":"IF(P22=0,0,(P22*((LOG(P22))/LOG(2))))","v":-0.13744804817497128},null,null,{"$f":"N22","v":2222},{"$f":"COUNTIF(L7:L32,T22)","v":2},{"$f":"U22/(W4-U20)","v":8.3333333333333329E-2},{"$f":"IF(V22=0,0,(V22*((LOG(V22))/LOG(2))))","v":-0.29874687506009634},null,{"$f":"N22","v":2222},{"$f":"COUNTIF(L33:L57,Y22)","v":0},{"$f":"Z22/(AB4-Z20)","v":0},{"$f":"IF(AA22=0,0,(AA22*((LOG(AA22))/LOG(2))))","v":0},null,{"$f":"N22","v":2222},{"$f":"COUNTIF(L58:L83,AD22)","v":0},{"$f":"AE22/(AG4-AE20)","v":0},{"$f":"IF(AF22=0,0,(AF22*((LOG(AF22))/LOG(2))))","v":0},null,{"$f":"N22","v":2222},{"$f":"COUNTIF(L84:L108,AI22)","v":0},{"$f":"AJ22/(AL4-AJ20)","v":0},{"$f":"IF(AK22=0,0,(AK22*((LOG(AK22))/LOG(2))))","v":0},null,{"$f":"N22","v":2222},{"$f":"COUNTIF(L109:L134,AN22)","v":2},{"$f":"AO22/(AQ4-AO20)","v":0.13333333333333333},{"$f":"IF(AP22=0,0,(AP22*((LOG(AP22))/LOG(2))))","v":-0.3875854127478025},null,{"$f":"N22","v":2222},{"$f":"COUNTIF(L135:L159,AS22)","v":0},{"$f":"AT22/(AV4-AT20)","v":0},{"$f":"IF(AU22=0,0,(AU22*((LOG(AU22))/LOG(2))))","v":0}]
[21,2088,21,2096,22,2104,23,2121,null,null,0,2222,null,null,null,{"$f":"SUM(P7:P22)","v":0.99999999999999989},{"$f":"-SUM(Q7:Q22)","v":2.4546862426804856},null,null,null,null,{"$f":"SUM(V7:V22)","v":1},{"$f":"-SUM(W7:W22)","v":2.5791722720787553},null,null,null,{"$f":"SUM(AA7:AA22)","v":1},{"$f":"-SUM(AB7:AB22)","v":1.3630083113425158},null,null,null,{"$f":"SUM(AF7:AF22)","v":1},{"$f":"-SUM(AG7:AG22)","v":1.4112050925821995},null,null,null,{"$f":"SUM(AK7:AK22)","v":1},{"$f":"-SUM(AL7:AL22)","v":1.9746017527145812},null,null,null,{"$f":"SUM(AP7:AP22)","v":1},{"$f":"-SUM(AQ7:AQ22)","v":1.4256051990169436},null,null,null,{"$f":"SUM(AU7:AU22)","v":1},{"$f":"-SUM(AV7:AV22)","v":1.9746017527145812}]
[21,2218,21,2226,11,2236,21,2245,null,null,0,2212,null,null,null,"U=",{"$f":"Q23/(LOG(Q4)/LOG(2))","v":0.33823274928762004},null,null,null,null,"U1=",{"$f":"W23/(LOG(W4)/LOG(2))","v":0.54870872231901624},null,null,null,"U2=",{"$f":"AB23/(LOG(AB4)/LOG(2))","v":0.29350786407721113},null,null,null,"U3=",{"$f":"AG23/(LOG(AG4)/LOG(2))","v":0.30022831420127144},null,null,null,"U4=",{"$f":"AL23/(LOG(AL4)/LOG(2))","v":0.42520734321240244},null,null,null,"U5=",{"$f":"AQ23/(LOG(AQ4)/LOG(2))","v":0.30329188001601165},null,null,null,"U6=",{"$f":"AV23/(LOG(AV4)/LOG(2))","v":0.42520734321240244}]
[21,2339,12,2348,24,2357,23,2369,null,null,0,2122]
[21,2467,12,2476,24,2487,23,2496,null,null,0,2122]
[21,2594,21,2603,11,2612,21,2622,null,null,0,2212,null,"Total Target Seq"]
[21,2717,12,2726,24,2736,23,2752,null,null,0,2122,null,{"$f":"COUNTIF(L7:L159,G3)","v":40},null,26,25,26,25,26,25]
[21,2852,12,2861,24,2868,14,2893,null,null,0,2121,null,null,null,"% of reinforcement given in 6 equal intervals based on number of trials "]
[21,2989,12,2998,24,3006,23,3016,null,null,0,2122,null,null,null,"%_1","%_2","%_3","%_4","%_5","%_6"]
[21,3113,12,3124,24,3132,14,3141,null,null,0,2121,null,null,"target sequence",{"$f":"$G$3","v":2212},{"$f":"$G$3","v":2212},{"$f":"$G$3","v":2212},{"$f":"$G$3","v":2212},{"$f":"$G$3","v":2212},{"$f":"$G$3","v":2212}]
[21,3239,12,3246,24,3254,23,3271,null,null,0,2122,null,null,"total reinforcement",{"$f":"U20","v":2},{"$f":"Z20","v":4},{"$f":"AE20","v":5},{"$f":"AJ20","v":9},{"$f":"AO20","v":11},{"$f":"AT20","v":9}]
[21,3365,21,3376,11,3387,21,3394,null,null,0,2212,null,null,"% target"]
[21,3484,12,3494,24,3502,23,3509,null,null,0,2122,null,null,"CCRF"]
[21,3605,21,3618,11,3626,21,3633,null,null,0,2212,null,null,"% CCRf"]
[21,3727,12,3737,24,3755,23,3761,null,null,0,2122,null,null,"average response rate",{"$f":"H32/P28","v":125.80769230769231},{"$f":"(H57-H32)/Q28","v":127.48},{"$f":"(H83-H57)/R28","v":129.57692307692307},{"$f":"(H108-H83)/S28","v":131.28},{"$f":"(H134-H108)/T28","v":126.65384615384616},{"$f":"(H159-H134)/U28","v":134.52000000000001}]
[21,3857,12,3871,24,3882,23,3892,null,null,0,2122]
[21,3989,21,3993,11,4001,21,4011,null,null,0,2212]
[21,4122,12,4131,24,4141,23,4151,null,null,0,2122]
[21,4249,12,4258,24,4265,23,4273,null,null,0,2122]
[21,4379,12,4387,24,4398,23,4405,null,null,0,2122]
[12,4508,23,4522,13,4531,23,4542,null,null,0,1212]
[21,4641,12,4649,24,4661,23,4670,null,null,0,2122]
[21,4773,12,4784,24,4793,14,4803,null,null,0,2121]
[21,4900,12,4908,24,4916,23,4931,null,null,0,2122]
[21,5026,12,5035,24,5042,14,5052,null,null,0,2121]
[21,5150,12,5158,24,5166,23,5174,null,null,0,2122]
[21,5274,12,5282,24,5290,23,5311,null,null,0,2122]
[21,5411,12,5419,24,5428,23,5436,null,null,0,2122]
[21,5536,12,5542,24,5550,14,5561,null,null,0,2121]
[21,5661,12,5670,24,5677,14,5687,null,null,0,2121]
[21,5798,21,5806,22,5811,14,5822,null,null,0,2221]
[21,5919,12,5928,24,5936,14,5944,null,null,0,2121]
[21,6052,12,6062,24,6070,23,6079,null,null,0,2122]
[21,6179,12,6187,24,6195,14,6212,null,null,0,2121]
[21,6311,21,6327,11,6335,21,6343,null,null,0,2212]
[21,6431,12,6438,24,6450,23,6458,null,null,0,2122]
[21,6554,12,6564,24,6581,23,6588,null,null,0,2122]
[21,6686,12,6704,24,6711,23,6719,null,null,0,2122]
[21,6826,12,6836,24,6844,23,6857,null,null,0,2122]
[21,6953,12,6961,24,6968,23,6977,null,null,0,2122]
[21,7086,12,7093,24,7103,23,7113,null,null,0,2122]
[21,7210,12,7217,24,7224,23,7239,null,null,0,2122]
[21,7352,12,7359,24,7368,23,7377,null,null,0,2122]
[12,7487,23,7497,13,7505,23,7513,null,null,0,1212]
[21,7609,21,7619,11,7631,21,7639,null,null,0,2212]
[21,7730,12,7740,24,7753,23,7761,null,null,0,2122]
[21,7855,21,7863,11,7874,21,7881,null,null,0,2212]
[21,7972,21,7982,22,7986,14,7996,null,null,0,2221]
[21,8095,12,8103,24,8111,23,8121,null,null,0,2122]
[12,8228,23,8235,13,8244,23,8251,null,null,0,1212]
[21,8354,21,8369,11,8381,21,8389,null,null,0,2212]
[21,8496,12,8518,24,8530,23,8537,null,null,0,2122]
[21,8634,12,8652,24,8659,23,8667,null,null,0,2122]
[12,8782,23,8790,24,8795,23,8804,null,null,0,1222]
[21,8900,12,8908,24,8915,14,8925,null,null,0,2121]
[21,9021,21,9028,11,9037,21,9046,null,null,0,2212]
[21,9136,12,9146,24,9161,23,9169,null,null,0,2122]
[21,9266,21,9279,11,9288,21,9296,null,null,0,2212]
[21,9388,12,9404,24,9415,23,9423,null,null,0,2122]
[21,9524,12,9537,24,9548,14,9558,null,null,0,2121]
[21,9655,12,9664,24,9676,23,9684,null,null,0,2122]
[21,9781,12,9797,24,9821,23,9827,null,null,0,2122]
[21,9923,12,9929,24,9943,23,9952,null,null,0,2122]
[21,10051,12,10068,24,10076,23,10082,null,null,0,2122]
[21,10185,12,10193,24,10207,14,10218,null,null,0,2121]
[21,10314,12,10321,24,10333,14,10342,null,null,0,2121]
[21,10438,21,10445,11,10453,21,10461,null,null,0,2212]
[21,10555,12,10564,24,10587,23,10594,null,null,0,2122]
[21,10689,21,10707,11,10714,21,10724,null,null,0,2212]
[12,10836,23,10848,24,10853,14,10863,null,null,0,1221]
[21,10962,12,10969,24,10977,23,10990,null,null,0,2122]
[21,11088,21,11104,11,11113,21,11124,null,null,0,2212]
[21,11218,12,11227,24,11235,23,11243,null,null,0,2122]
[21,11339,21,11354,11,11361,21,11371,null,null,0,2212]
[21,11463,12,11470,24,11484,14,11495,null,null,0,2121]
[21,11598,12,11606,24,11623,23,11643,null,null,0,2122]
[21,11741,21,11751,11,11760,21,11778,null,null,0,2212]
[21,11867,21,11877,11,11885,21,11893,null,null,0,2212]
[21,11981,12,12001,24,12016,23,12023,null,null,0,2122]
[21,12121,12,12132,24,12146,14,12156,null,null,0,2121]
[12,12266,23,12282,24,12293,23,12300,null,null,0,1222]
[21,12401,21,12416,11,12425,21,12446,null,null,0,2212]
[21,12552,21,12563,22,12568,14,12577,null,null,0,2221]
[21,12674,21,12681,22,12688,14,12697,null,null,0,2221]
[21,12796,21,12800,22,12816,14,12823,null,null,0,2221]
[21,12926,21,12943,11,12952,21,12963,null,null,0,2212]
[21,13060,21,13092,11,13101,21,13109,null,null,0,2212]
[21,13203,12,13213,13,13217,23,13228,null,null,0,2112]
[21,13325,21,13333,11,13340,21,13351,null,null,0,2212]
[21,13439,21,13448,11,13457,21,13464,null,null,0,2212]
[21,13562,12,13570,24,13581,23,13609,null,null,0,2122]
[21,13706,12,13714,24,13730,23,13736,null,null,0,2122]
[21,13835,21,13839,11,13848,21,13858,null,null,0,2212]
[21,13947,21,13959,22,13974,23,13984,null,null,0,2222]
[21,14081,21,14088,11,14095,21,14107,null,null,0,2212]
[21,14197,21,14213,11,14231,21,14241,null,null,0,2212]
[21,14332,12,14338,24,14354,23,14361,null,null,0,2122]
[21,14461,21,14475,11,14484,21,14495,null,null,0,2212]
[21,14583,12,14591,24,14607,23,14614,null,null,0,2122]
[21,14714,12,14724,24,14732,23,14740,null,null,0,2122]
[21,14837,12,14850,24,14858,14,14868,null,null,0,2121]
[21,14970,21,14982,22,14989,23,14995,null,null,0,2222]
[21,15094,21,15105,11,15115,21,15124,null,null,0,2212]
[21,15214,12,15224,24,15246,23,15253,null,null,0,2122]
[21,15354,12,15361,24,15380,23,15390,null,null,0,2122]
[21,15487,21,15493,11,15501,21,15513,null,null,0,2212]
[21,15602,12,15609,24,15620,23,15627,null,null,0,2122]
[21,15738,12,15747,24,15773,23,15781,null,null,0,2122]
[21,15880,21,15887,11,15894,21,15904,null,null,0,2212]
[21,15999,21,16009,11,16018,21,16028,null,null,0,2212]
[21,16120,21,16130,11,16138,21,16153,null,null,0,2212]
[21,16243,12,16250,24,16272,23,16280,null,null,0,2122]
[21,16377,12,16385,24,16393,14,16402,null,null,0,2121]
[21,16500,12,16517,24,16536,23,16543,null,null,0,2122]
[21,16640,21,16648,11,16657,21,16668,null,null,0,2212]
[21,16761,12,16771,24,16789,14,16815,null,null,0,2121]
[21,16914,21,16923,11,16931,21,16942,null,null,0,2212]
[21,17032,21,17046,11,17054,21,17066,null,null,0,2212]
[21,17158,12,17166,24,17174,14,17184,null,null,0,2121]
[12,17284,23,17292,13,17299,23,17317,null,null,0,1212]
[21,17415,12,17423,24,17445,14,17453,null,null,0,2121]
[21,17572,12,17581,24,17602,23,17609,null,null,0,2122]
[21,17711,21,17724,11,17733,21,17745,null,null,0,2212]
[21,17844,21,17849,22,17860,14,17869,null,null,0,2221]
[21,17972,12,17981,24,17989,23,17996,null,null,0,2122]
[21,18100,12,18109,24,18120,23,18134,null,null,0,2122]
[21,18231,21,18246,22,18250,14,18259,null,null,0,2221]
[21,18360,21,18367,22,18373,14,18381,null,null,0,2221]
[21,18483,21,18500,11,18509,21,18540,null,null,0,2212]
[21,18638,21,18647,11,18657,21,18685,null,null,0,2212]
[12,18788,23,18800,13,18818,14,18822,null,null,0,1211]
[21,18918,12,18926,24,18938,23,18956,null,null,0,2122]
[21,19057,21,19064,22,19080,14,19090,null,null,0,2221]
[21,19187,21,19193,11,19200,21,19227,null,null,0,2212]
[21,19320,12,19328,24,19348,23,19372,null,null,0,2122]
[21,19470,21,19478,11,19485,21,19505,null,null,0,2212]
[21,19600,12,19609,24,19627,23,19634,null,null,0,2122]
[21,19733,21,19741,11,19750,21,19765,null,null,1,2212]

{"sheet":"!MA30A20.096","index":18,"n_rows":143,"n_cols":48,"rows_kept":143,"cut":false,"hidden":false,"merged":[[4,39,4,42],[5,39,5,40],[4,44,4,47],[5,44,5,45],[4,24,4,27],[5,24,5,25],[4,29,4,32],[5,29,5,30],[4,34,4,37],[5,34,5,35],[1,1,1,2],[5,13,5,14],[26,13,26,14],[27,13,27,14],[4,19,4,22],[5,19,5,20]]}
["Report for:!MA30A20.096"]
["Date:","<date>"]
["Hen:","<hen>",null,null,null,"Correct Sequence",{"$f":"Start!J2","v":2212},null,null,null,null,null,null,null,null,"Total Sequences in Data",{"$f":"4994-COUNTBLANK(L7:L5000)","v":137},null,null,null,null,"Total Sequences in Block Data",{"$f":"COUNTA(L7:L29)","v":23},null,null,null,"Total Sequences in Block Data",{"$f":"COUNTA(L30:L52)","v":23},null,null,null,"Total Sequences in Block Data",{"$f":"COUNTA(L53:L74)","v":22},null,null,null,"Total Sequences in Block Data",{"$f":"COUNTA(L75:L97)","v":23},null,null,null,"Total Sequences in Block Data",{"$f":"COUNTA(L98:L120)","v":23},null,null,null,"Total Sequences in Block Data",{"$f":"COUNTA(L121:L143)","v":23}]
[null,null,null,null,null,null,null,null,null,null,null,null,null,null,null,"Total Sequences in Summary",{"$f":"SUM(O7:O22)","v":137},null,null,null,null,"Total Sequences in Block Summary",{"$f":"SUM(U7:U22)","v":23},null,null,null,"Total Sequences in Block Summary",{"$f":"SUM(Z7:Z22)","v":23},null,null,null,"Total Sequences in Block Summary",{"$f":"SUM(AE7:AE22)","v":22},null,null,null,"Total Sequences in Block Summary",{"$f":"SUM(AJ7:AJ22)","v":23},null,null,null,"Total Sequences in Block Summary",{"$f":"SUM(AO7:AO22)","v":23},null,null,null,"Total Sequences in Block Summary",{"$f":"SUM(AT7:AT22)","v":23}]
[null,null,null,null,null,null,null,null,null,null,null,null,null,null,null,null,null,null,null,"Block 1",null,null,null,null,"Block 2",null,null,null,null,"Block 3",null,null,null,null,"Block 4",null,null,null,null,"Block 5",null,null,null,null,"Block 6"]
["Sequence\nComponent\n1","Time\n1","Sequence\nComponent\n2","Time\n2","Sequence\nComponent\n3","Time\n3","Sequence\nComponent\n4","Time\n4","Sequence\nComponent\n5","Time\n5","Correct?\n0=No 1=Yes","Sequence",null,"Frequency",null,"Relative Frequency","Variability",null,null,"Frequency",null,"Relative Frequency","Variability",null,"Frequency",null,"Relative Frequency","Variability",null,"Frequency",null,"Relative Frequency","Variability",null,"Frequency",null,"Relative Frequency","Variability",null,"Frequency",null,"Relative Frequency","Variability",null,"Frequency",null,"Relative Frequency","Variability"]
[12,6,23,39,13,59,23,74,null,null,0,1212,null,1111,{"$f":"COUNTIF($L$7:$L$500,N7)","v":0},{"$f":"O7/$Q$4","v":0},{"$f":"IF(P7=0,0,(P7*((LOG(P7))/LOG(2))))","v":0},null,null,{"$f":"N7","v":1111},{"$f":"COUNTIF(L7:L29,T7)","v":0},{"$f":"U7/(W4-U20)","v":0},{"$f":"IF(V7=0,0,(V7*((LOG(V7))/LOG(2))))","v":0},null,{"$f":"N7","v":1111},{"$f":"COUNTIF(L30:L52,Y7)","v":0},{"$f":"Z7/(AB4-Z20)","v":0},{"$f":"IF(AA7=0,0,(AA7*((LOG(AA7))/LOG(2))))","v":0},null,{"$f":"N7","v":1111},{"$f":"COUNTIF(L53:L74,AD7)","v":0},{"$f":"AE7/(AG4-AE20)","v":0},{"$f":"IF(AF7=0,0,(AF7*((LOG(AF7))/LOG(2))))","v":0},null,{"$f":"N7","v":1111},{"$f":"COUNTIF(L75:L97,AI7)","v":0},{"$f":"AJ7/(AL4-AJ20)","v":0},{"$f":"IF(AK7=0,0,(AK7*((LOG(AK7))/LOG(2))))","v":0},null,{"$f":"N7","v":1111},{"$f":"COUNTIF(L98:L120,AN7)","v":0},{"$f":"AO7/(AQ4-AO20)","v":0},{"$f":"IF(AP7=0,0,(AP7*((LOG(AP7))/LOG(2))))","v":0},null,{"$f":"N7","v":1111},{"$f":"COUNTIF(L121:L143,AS7)","v":0},{"$f":"AT7/(AV4-AT20)","v":0},{"$f":"IF(AU7=0,0,(AU7*((LOG(AU7))/LOG(2))))","v":0}]
[12,171,14,175,13,185,23,193,null,null,0,1112,null,1112,{"$f":"COUNTIF($L$7:$L$500,N8)","v":7},{"$f":"O8/$Q$4","v":5.1094890510948905E-2},{"$f":"IF(P8=0,0,(P8*((LOG(P8))/LOG(2))))","v":-0.21923167975416394},null,null,{"$f":"N8","v":1112},{"$f":"COUNTIF(L7:L29,T8)","v":5},{"$f":"U8/(W4-U20)","v":0.26315789473684209},{"$f":"IF(V8=0,0,(V8*((LOG(V8))/LOG(2))))","v":-0.50684195225163764},null,{"$f":"N8","v":1112},{"$f":"COUNTIF(L30:L52,Y8)","v":1},{"$f":"Z8/(AB4-Z20)","v":0.05},{"$f":"IF(AA8=0,0,(AA8*((LOG(AA8))/LOG(2))))","v":-0.21609640474436814},null,{"$f":"N8","v":1112},{"$f":"COUNTIF(L53:L74,AD8)","v":0},{"$f":"AE8/(AG4-AE20)","v":0},{"$f":"IF(AF8=0,0,(AF8*((LOG(AF8))/LOG(2))))","v":0},null,{"$f":"N8","v":1112},{"$f":"COUNTIF(L75:L97,AI8)","v":0},{"$f":"AJ8/(AL4-AJ20)","v":0},{"$f":"IF(AK8=0,0,(AK8*((LOG(AK8))/LOG(2))))","v":0},null,{"$f":"N8","v":1112},{"$f":"COUNTIF(L98:L120,AN8)","v":0},{"$f":"AO8/(AQ4-AO20)","v":0},{"$f":"IF(AP8=0,0,(AP8*((LOG(AP8))/LOG(2))))","v":0},null,{"$f":"N8","v":1112},{"$f":"COUNTIF(L121:L143,AS8)","v":1},{"$f":"AT8/(AV4-AT20)","v":7.6923076923076927E-2},{"$f":"IF(AU8=0,0,(AU8*((LOG(AU8))/LOG(2))))","v":-0.28464920908777636}]
[12,297,23,313,24,325,23,342,null,null,0,1222,null,1121,{"$f":"COUNTIF($L$7:$L$500,N9)","v":2},{"$f":"O9/$Q$4","v":1.4598540145985401E-2},{"$f":"IF(P9=0,0,(P9*((LOG(P9))/LOG(2))))","v":-8.9022366174606238E-2},null,null,{"$f":"N9","v":1121},{"$f":"COUNTIF(L7:L29,T9)","v":0},{"$f":"U9/(W4-U20)","v":0},{"$f":"IF(V9=0,0,(V9*((LOG(V9))/LOG(2))))","v":0},null,{"$f":"N9","v":1121},{"$f":"COUNTIF(L30:L52,Y9)","v":0},{"$f":"Z9/(AB4-Z20)","v":0},{"$f":"IF(AA9=0,0,(AA9*((LOG(AA9))/LOG(2))))","v":0},null,{"$f":"N9","v":1121},{"$f":"COUNTIF(L53:L74,AD9)","v":0},{"$f":"AE9/(AG4-AE20)","v":0},{"$f":"IF(AF9=0,0,(AF9*((LOG(AF9))/LOG(2))))","v":0},null,{"$f":"N9","v":1121},{"$f":"COUNTIF(L75:L97,AI9)","v":0},{"$f":"AJ9/(AL4-AJ20)","v":0},{"$f":"IF(AK9=0,0,(AK9*((LOG(AK9))/LOG(2))))","v":0},null,{"$f":"N9","v":1121},{"$f":"COUNTIF(L98:L120,AN9)","v":0},{"$f":"AO9/(AQ4-AO20)","v":0},{"$f":"IF(AP9=0,0,(AP9*((LOG(AP9))/LOG(2))))","v":0},null,{"$f":"N9","v":1121},{"$f":"COUNTIF(L121:L143,AS9)","v":2},{"$f":"AT9/(AV4-AT20)","v":0.15384615384615385},{"$f":"IF(AU9=0,0,(AU9*((LOG(AU9))/LOG(2))))","v":-0.4154522643293988}]
[12,440,14,443,13,448,23,460,null,null,0,1112,null,1122,{"$f":"COUNTIF($L$7:$L$500,N10)","v":3},{"$f":"O10/$Q$4","v":2.1897810218978103E-2},{"$f":"IF(P10=0,0,(P10*((LOG(P10))/LOG(2))))","v":-0.12072415143589862},null,null,{"$f":"N10","v":1122},{"$f":"COUNTIF(L7:L29,T10)","v":1},{"$f":"U10/(W4-U20)","v":5.2631578947368418E-2},{"$f":"IF(V10=0,0,(V10*((LOG(V10))/LOG(2))))","v":-0.22357513228650452},null,{"$f":"N10","v":1122},{"$f":"COUNTIF(L30:L52,Y10)","v":1},{"$f":"Z10/(AB4-Z20)","v":0.05},{"$f":"IF(AA10=0,0,(AA10*((LOG(AA10))/LOG(2))))","v":-0.21609640474436814},null,{"$f":"N10","v":1122},{"$f":"COUNTIF(L53:L74,AD10)","v":0},{"$f":"AE10/(AG4-AE20)","v":0},{"$f":"IF(AF10=0,0,(AF10*((LOG(AF10))/LOG(2))))","v":0},null,{"$f":"N10","v":1122},{"$f":"COUNTIF(L75:L97,AI10)","v":1},{"$f":"AJ10/(AL4-AJ20)","v":6.6666666666666666E-2},{"$f":"IF(AK10=0,0,(AK10*((LOG(AK10))/LOG(2))))","v":-0.26045937304056793},null,{"$f":"N10","v":1122},{"$f":"COUNTIF(L98:L120,AN10)","v":0},{"$f":"AO10/(AQ4-AO20)","v":0},{"$f":"IF(AP10=0,0,(AP10*((LOG(AP10))/LOG(2))))","v":0},null,{"$f":"N10","v":1122},{"$f":"COUNTIF(L121:L143,AS10)","v":0},{"$f":"AT10/(AV4-AT20)","v":0},{"$f":"IF(AU10=0,0,(AU10*((LOG(AU10))/LOG(2))))","v":0}]
[12,556,14,560,13,565,23,582,null,null,0,1112,null,1211,{"$f":"COUNTIF($L$7:$L$500,N11)","v":0},{"$f":"O11/$Q$4","v":0},{"$f":"IF(P11=0,0,(P11*((LOG(P11))/LOG(2))))","v":0},null,null,{"$f":"N11","v":1211},{"$f":"COUNTIF(L7:L29,T11)","v":0},{"$f":"U11/(W4-U20)","v":0},{"$f":"IF(V11=0,0,(V11*((LOG(V11))/LOG(2))))","v":0},null,{"$f":"N11","v":1211},{"$f":"COUNTIF(L30:L52,Y11)","v":0},{"$f":"Z11/(AB4-Z20)","v":0},{"$f":"IF(AA11=0,0,(AA11*((LOG(AA11))/LOG(2))))","v":0},null,{"$f":"N11","v":1211},{"$f":"COUNTIF(L53:L74,AD11)","v":0},{"$f":"AE11/(AG4-AE20)","v":0},{"$f":"IF(AF11=0,0,(AF11*((LOG(AF11))/LOG(2))))","v":0},null,{"$f":"N11","v":1211},{"$f":"COUNTIF(L75:L97,AI11)","v":0},{"$f":"AJ11/(AL4-AJ20)","v":0},{"$f":"IF(AK11=0,0,(AK11*((LOG(AK11))/LOG(2))))","v":0},null,{"$f":"N11","v":1211},{"$f":"COUNTIF(L98:L120,AN11)","v":0},{"$f":"AO11/(AQ4-AO20)","v":0},{"$f":"IF(AP11=0,0,(AP11*((LOG(AP11))/LOG(2))))","v":0},null,{"$f":"N11","v":1211},{"$f":"COUNTIF(L121:L143,AS11)","v":0},{"$f":"AT11/(AV4-AT20)","v":0},{"$f":"IF(AU11=0,0,(AU11*((LOG(AU11))/LOG(2))))","v":0}]
[12,680,14,693,13,697,23,707,null,null,0,1112,null,1212,{"$f":"COUNTIF($L$7:$L$500,N12)","v":5},{"$f":"O12/$Q$4","v":3.6496350364963501E-2},{"$f":"IF(P12=0,0,(P12*((LOG(P12))/LOG(2))))","v":-0.17431036452821766},null,null,{"$f":"N12","v":1212},{"$f":"COUNTIF(L7:L29,T12)","v":2},{"$f":"U12/(W4-U20)","v":0.10526315789473684},{"$f":"IF(V12=0,0,(V12*((LOG(V12))/LOG(2))))","v":-0.34188710667827216},null,{"$f":"N12","v":1212},{"$f":"COUNTIF(L30:L52,Y12)","v":0},{"$f":"Z12/(AB4-Z20)","v":0},{"$f":"IF(AA12=0,0,(AA12*((LOG(AA12))/LOG(2))))","v":0},null,{"$f":"N12","v":1212},{"$f":"COUNTIF(L53:L74,AD12)","v":0},{"$f":"AE12/(AG4-AE20)","v":0},{"$f":"IF(AF12=0,0,(AF12*((LOG(AF12))/LOG(2))))","v":0},null,{"$f":"N12","v":1212},{"$f":"COUNTIF(L75:L97,AI12)","v":0},{"$f":"AJ12/(AL4-AJ20)","v":0},{"$f":"IF(AK12=0,0,(AK12*((LOG(AK12))/LOG(2))))","v":0},null,{"$f":"N12","v":1212},{"$f":"COUNTIF(L98:L120,AN12)","v":1},{"$f":"AO12/(AQ4-AO20)","v":8.3333333333333329E-2},{"$f":"IF(AP12=0,0,(AP12*((LOG(AP12))/LOG(2))))","v":-0.29874687506009634},null,{"$f":"N12","v":1212},{"$f":"COUNTIF(L121:L143,AS12)","v":2},{"$f":"AT12/(AV4-AT20)","v":0.15384615384615385},{"$f":"IF(AU12=0,0,(AU12*((LOG(AU12))/LOG(2))))","v":-0.4154522643293988}]
[21,805,12,814,24,822,23,833,null,null,0,2122,null,1221,{"$f":"COUNTIF($L$7:$L$500,N13)","v":7},{"$f":"O13/$Q$4","v":5.1094890510948905E-2},{"$f":"IF(P13=0,0,(P13*((LOG(P13))/LOG(2))))","v":-0.21923167975416394},null,null,{"$f":"N13","v":1221},{"$f":"COUNTIF(L7:L29,T13)","v":3},{"$f":"U13/(W4-U20)","v":0.15789473684210525},{"$f":"IF(V13=0,0,(V13*((LOG(V13))/LOG(2))))","v":-0.42046815990354147},null,{"$f":"N13","v":1221},{"$f":"COUNTIF(L30:L52,Y13)","v":3},{"$f":"Z13/(AB4-Z20)","v":0.15},{"$f":"IF(AA13=0,0,(AA13*((LOG(AA13))/LOG(2))))","v":-0.41054483912493089},null,{"$f":"N13","v":1221},{"$f":"COUNTIF(L53:L74,AD13)","v":1},{"$f":"AE13/(AG4-AE20)","v":5.5555555555555552E-2},{"$f":"IF(AF13=0,0,(AF13*((LOG(AF13))/LOG(2))))","v":-0.23166250008012845},null,{"$f":"N13","v":1221},{"$f":"COUNTIF(L75:L97,AI13)","v":0},{"$f":"AJ13/(AL4-AJ20)","v":0},{"$f":"IF(AK13=0,0,(AK13*((LOG(AK13))/LOG(2))))","v":0},null,{"$f":"N13","v":1221},{"$f":"COUNTIF(L98:L120,AN13)","v":0},{"$f":"AO13/(AQ4-AO20)","v":0},{"$f":"IF(AP13=0,0,(AP13*((LOG(AP13))/LOG(2))))","v":0},null,{"$f":"N13","v":1221},{"$f":"COUNTIF(L121:L143,AS13)","v":0},{"$f":"AT13/(AV4-AT20)","v":0},{"$f":"IF(AU13=0,0,(AU13*((LOG(AU13))/LOG(2))))","v":0}]
[12,948,23,955,13,966,23,974,null,null,0,1212,null,1222,{"$f":"COUNTIF($L$7:$L$500,N14)","v":7},{"$f":"O14/$Q$4","v":5.1094890510948905E-2},{"$f":"IF(P14=0,0,(P14*((LOG(P14))/LOG(2))))","v":-0.21923167975416394},null,null,{"$f":"N14","v":1222},{"$f":"COUNTIF(L7:L29,T14)","v":3},{"$f":"U14/(W4-U20)","v":0.15789473684210525},{"$f":"IF(V14=0,0,(V14*((LOG(V14))/LOG(2))))","v":-0.42046815990354147},null,{"$f":"N14","v":1222},{"$f":"COUNTIF(L30:L52,Y14)","v":1},{"$f":"Z14/(AB4-Z20)","v":0.05},{"$f":"IF(AA14=0,0,(AA14*((LOG(AA14))/LOG(2))))","v":-0.21609640474436814},null,{"$f":"N14","v":1222},{"$f":"COUNTIF(L53:L74,AD14)","v":1},{"$f":"AE14/(AG4-AE20)","v":5.5555555555555552E-2},{"$f":"IF(AF14=0,0,(AF14*((LOG(AF14))/LOG(2))))","v":-0.23166250008012845},null,{"$f":"N14","v":1222},{"$f":"COUNTIF(L75:L97,AI14)","v":1},{"$f":"AJ14/(AL4-AJ20)","v":6.6666666666666666E-2},{"$f":"IF(AK14=0,0,(AK14*((LOG(AK14))/LOG(2))))","v":-0.26045937304056793},null,{"$f":"N14","v":1222},{"$f":"COUNTIF(L98:L120,AN14)","v":1},{"$f":"AO14/(AQ4-AO20)","v":8.3333333333333329E-2},{"$f":"IF(AP14=0,0,(AP14*((LOG(AP14))/LOG(2))))","v":-0.29874687506009634},null,{"$f":"N14","v":1222},{"$f":"COUNTIF(L121:L143,AS14)","v":0},{"$f":"AT14/(AV4-AT20)","v":0},{"$f":"IF(AU14=0,0,(AU14*((LOG(AU14))/LOG(2))))","v":0}]
[12,1082,23,1090,24,1105,14,1113,null,null,0,1221,null,2111,{"$f":"COUNTIF($L$7:$L$500,N15)","v":0},{"$f":"O15/$Q$4","v":0},{"$f":"IF(P15=0,0,(P15*((LOG(P15))/LOG(2))))","v":0},null,null,{"$f":"N15","v":2111},{"$f":"COUNTIF(L7:L29,T15)","v":0},{"$f":"U15/(W4-U20)","v":0},{"$f":"IF(V15=0,0,(V15*((LOG(V15))/LOG(2))))","v":0},null,{"$f":"N15","v":2111},{"$f":"COUNTIF(L30:L52,Y15)","v":0},{"$f":"Z15/(AB4-Z20)","v":0},{"$f":"IF(AA15=0,0,(AA15*((LOG(AA15))/LOG(2))))","v":0},null,{"$f":"N15","v":2111},{"$f":"COUNTIF(L53:L74,AD15)","v":0},{"$f":"AE15/(AG4-AE20)","v":0},{"$f":"IF(AF15=0,0,(AF15*((LOG(AF15))/LOG(2))))","v":0},null,{"$f":"N15","v":2111},{"$f":"COUNTIF(L75:L97,AI15)","v":0},{"$f":"AJ15/(AL4-AJ20)","v":0},{"$f":"IF(AK15=0,0,(AK15*((LOG(AK15))/LOG(2))))","v":0},null,{"$f":"N15","v":2111},{"$f":"COUNTIF(L98:L120,AN15)","v":0},{"$f":"AO15/(AQ4-AO20)","v":0},{"$f":"IF(AP15=0,0,(AP15*((LOG(AP15))/LOG(2))))","v":0},null,{"$f":"N15","v":2111},{"$f":"COUNTIF(L121:L143,AS15)","v":0},{"$f":"AT15/(AV4-AT20)","v":0},{"$f":"IF(AU15=0,0,(AU15*((LOG(AU15))/LOG(2))))","v":0}]
[12,1222,23,1246,24,1256,14,1266,null,null,0,1221,null,2112,{"$f":"COUNTIF($L$7:$L$500,N16)","v":0},{"$f":"O16/$Q$4","v":0},{"$f":"IF(P16=0,0,(P16*((LOG(P16))/LOG(2))))","v":0},null,null,{"$f":"N16","v":2112},{"$f":"COUNTIF(L7:L29,T16)","v":0},{"$f":"U16/(W4-U20)","v":0},{"$f":"IF(V16=0,0,(V16*((LOG(V16))/LOG(2))))","v":0},null,{"$f":"N16","v":2112},{"$f":"COUNTIF(L30:L52,Y16)","v":0},{"$f":"Z16/(AB4-Z20)","v":0},{"$f":"IF(AA16=0,0,(AA16*((LOG(AA16))/LOG(2))))","v":0},null,{"$f":"N16","v":2112},{"$f":"COUNTIF(L53:L74,AD16)","v":0},{"$f":"AE16/(AG4-AE20)","v":0},{"$f":"IF(AF16=0,0,(AF16*((LOG(AF16))/LOG(2))))","v":0},null,{"$f":"N16","v":2112},{"$f":"COUNTIF(L75:L97,AI16)","v":0},{"$f":"AJ16/(AL4-AJ20)","v":0},{"$f":"IF(AK16=0,0,(AK16*((LOG(AK16))/LOG(2))))","v":0},null,{"$f":"N16","v":2112},{"$f":"COUNTIF(L98:L120,AN16)","v":0},{"$f":"AO16/(AQ4-AO20)","v":0},{"$f":"IF(AP16=0,0,(AP16*((LOG(AP16))/LOG(2))))","v":0},null,{"$f":"N16","v":2112},{"$f":"COUNTIF(L121:L143,AS16)","v":0},{"$f":"AT16/(AV4-AT20)","v":0},{"$f":"IF(AU16=0,0,(AU16*((LOG(AU16))/LOG(2))))","v":0}]
[21,1363,21,1375,11,1382,21,1412,null,null,0,2212,null,2121,{"$f":"COUNTIF($L$7:$L$500,N17)","v":10},{"$f":"O17/$Q$4","v":7.2992700729927001E-2},{"$f":"IF(P17=0,0,(P17*((LOG(P17))/LOG(2))))","v":-0.27562802832650835},null,null,{"$f":"N17","v":2121},{"$f":"COUNTIF(L7:L29,T17)","v":0},{"$f":"U17/(W4-U20)","v":0},{"$f":"IF(V17=0,0,(V17*((LOG(V17))/LOG(2))))","v":0},null,{"$f":"N17","v":2121},{"$f":"COUNTIF(L30:L52,Y17)","v":1},{"$f":"Z17/(AB4-Z20)","v":0.05},{"$f":"IF(AA17=0,0,(AA17*((LOG(AA17))/LOG(2))))","v":-0.21609640474436814},null,{"$f":"N17","v":2121},{"$f":"COUNTIF(L53:L74,AD17)","v":4},{"$f":"AE17/(AG4-AE20)","v":0.22222222222222221},{"$f":"IF(AF17=0,0,(AF17*((LOG(AF17))/LOG(2))))","v":-0.48220555587606945},null,{"$f":"N17","v":2121},{"$f":"COUNTIF(L75:L97,AI17)","v":2},{"$f":"AJ17/(AL4-AJ20)","v":0.13333333333333333},{"$f":"IF(AK17=0,0,(AK17*((LOG(AK17))/LOG(2))))","v":-0.3875854127478025},null,{"$f":"N17","v":2121},{"$f":"COUNTIF(L98:L120,AN17)","v":3},{"$f":"AO17/(AQ4-AO20)","v":0.25},{"$f":"IF(AP17=0,0,(AP17*((LOG(AP17))/LOG(2))))","v":-0.5},null,{"$f":"N17","v":2121},{"$f":"COUNTIF(L121:L143,AS17)","v":0},{"$f":"AT17/(AV4-AT20)","v":0},{"$f":"IF(AU17=0,0,(AU17*((LOG(AU17))/LOG(2))))","v":0}]
[12,1516,14,1524,24,1544,23,1551,null,null,0,1122,null,2122,{"$f":"COUNTIF($L$7:$L$500,N18)","v":38},{"$f":"O18/$Q$4","v":0.27737226277372262},{"$f":"IF(P18=0,0,(P18*((LOG(P18))/LOG(2))))","v":-0.51316769081491798},null,null,{"$f":"N18","v":2122},{"$f":"COUNTIF(L7:L29,T18)","v":4},{"$f":"U18/(W4-U20)","v":0.21052631578947367},{"$f":"IF(V18=0,0,(V18*((LOG(V18))/LOG(2))))","v":-0.47324789756707064},null,{"$f":"N18","v":2122},{"$f":"COUNTIF(L30:L52,Y18)","v":10},{"$f":"Z18/(AB4-Z20)","v":0.5},{"$f":"IF(AA18=0,0,(AA18*((LOG(AA18))/LOG(2))))","v":-0.5},null,{"$f":"N18","v":2122},{"$f":"COUNTIF(L53:L74,AD18)","v":9},{"$f":"AE18/(AG4-AE20)","v":0.5},{"$f":"IF(AF18=0,0,(AF18*((LOG(AF18))/LOG(2))))","v":-0.5},null,{"$f":"N18","v":2122},{"$f":"COUNTIF(L75:L97,AI18)","v":7},{"$f":"AJ18/(AL4-AJ20)","v":0.46666666666666667},{"$f":"IF(AK18=0,0,(AK18*((LOG(AK18))/LOG(2))))","v":-0.51311664765709342},null,{"$f":"N18","v":2122},{"$f":"COUNTIF(L98:L120,AN18)","v":4},{"$f":"AO18/(AQ4-AO20)","v":0.33333333333333331},{"$f":"IF(AP18=0,0,(AP18*((LOG(AP18))/LOG(2))))","v":-0.52832083357371862},null,{"$f":"N18","v":2122},{"$f":"COUNTIF(L121:L143,AS18)","v":4},{"$f":"AT18/(AV4-AT20)","v":0.30769230769230771},{"$f":"IF(AU18=0,0,(AU18*((LOG(AU18))/LOG(2))))","v":-0.52321222096648989}]
[21,1660,12,1668,24,1676,23,1706,null,null,0,2122,null,2211,{"$f":"COUNTIF($L$7:$L$500,N19)","v":0},{"$f":"O19/$Q$4","v":0},{"$f":"IF(P19=0,0,(P19*((LOG(P19))/LOG(2))))","v":0},null,null,{"$f":"N19","v":2211},{"$f":"COUNTIF(L7:L29,T19)","v":0},{"$f":"U19/(W4-U20)","v":0},{"$f":"IF(V19=0,0,(V19*((LOG(V19))/LOG(2))))","v":0},null,{"$f":"N19","v":2211},{"$f":"COUNTIF(L30:L52,Y19)","v":0},{"$f":"Z19/(AB4-Z20)","v":0},{"$f":"IF(AA19=0,0,(AA19*((LOG(AA19))/LOG(2))))","v":0},null,{"$f":"N19","v":2211},{"$f":"COUNTIF(L53:L74,AD19)","v":0},{"$f":"AE19/(AG4-AE20)","v":0},{"$f":"IF(AF19=0,0,(AF19*((LOG(AF19))/LOG(2))))","v":0},null,{"$f":"N19","v":2211},{"$f":"COUNTIF(L75:L97,AI19)","v":0},{"$f":"AJ19/(AL4-AJ20)","v":0},{"$f":"IF(AK19=0,0,(AK19*((LOG(AK19))/LOG(2))))","v":0},null,{"$f":"N19","v":2211},{"$f":"COUNTIF(L98:L120,AN19)","v":0},{"$f":"AO19/(AQ4-AO20)","v":0},{"$f":"IF(AP19=0,0,(AP19*((LOG(AP19))/LOG(2))))","v":0},null,{"$f":"N19","v":2211},{"$f":"COUNTIF(L121:L143,AS19)","v":0},{"$f":"AT19/(AV4-AT20)","v":0},{"$f":"IF(AU19=0,0,(AU19*((LOG(AU19))/LOG(2))))","v":0}]
[12,1818,23,1826,24,1836,14,1844,null,null,0,1221,null,2212,{"$f":"COUNTIF($L$7:$L$500,N20)","v":40},{"$f":"O20/$Q$4","v":0.29197080291970801},{"$f":"IF(P20=0,0,(P20*((LOG(P20))/LOG(2))))","v":-0.51857050746661726},null,null,{"$f":"N20","v":2212},{"$f":"COUNTIF(L7:L29,T20)","v":4},null,null,null,{"$f":"N20","v":2212},{"$f":"COUNTIF(L30:L52,Y20)","v":3},null,null,null,{"$f":"N20","v":2212},{"$f":"COUNTIF(L53:L74,AD20)","v":4},null,null,null,{"$f":"N20","v":2212},{"$f":"COUNTIF(L75:L97,AI20)","v":8},null,null,null,{"$f":"N20","v":2212},{"$f":"COUNTIF(L98:L120,AN20)","v":11},null,null,null,{"$f":"N20","v":2212},{"$f":"COUNTIF(L121:L143,AS20)","v":10}]
[21,1954,21,1958,11,1967,21,1982,null,null,0,2212,null,2221,{"$f":"COUNTIF($L$7:$L$500,N21)","v":12},{"$f":"O21/$Q$4","v":8.7591240875912413E-2},{"$f":"IF(P21=0,0,(P21*((LOG(P21))/LOG(2))))","v":-0.30771412399176973},null,null,{"$f":"N21","v":2221},{"$f":"COUNTIF(L7:L29,T21)","v":1},{"$f":"U21/(W4-U20)","v":5.2631578947368418E-2},{"$f":"IF(V21=0,0,(V21*((LOG(V21))/LOG(2))))","v":-0.22357513228650452},null,{"$f":"N21","v":2221},{"$f":"COUNTIF(L30:L52,Y21)","v":2},{"$f":"Z21/(AB4-Z20)","v":0.1},{"$f":"IF(AA21=0,0,(AA21*((LOG(AA21))/LOG(2))))","v":-0.33219280948873625},null,{"$f":"N21","v":2221},{"$f":"COUNTIF(L53:L74,AD21)","v":3},{"$f":"AE21/(AG4-AE20)","v":0.16666666666666666},{"$f":"IF(AF21=0,0,(AF21*((LOG(AF21))/LOG(2))))","v":-0.43082708345352599},null,{"$f":"N21","v":2221},{"$f":"COUNTIF(L75:L97,AI21)","v":3},{"$f":"AJ21/(AL4-AJ20)","v":0.2},{"$f":"IF(AK21=0,0,(AK21*((LOG(AK21))/LOG(2))))","v":-0.46438561897747244},null,{"$f":"N21","v":2221},{"$f":"COUNTIF(L98:L120,AN21)","v":0},{"$f":"AO21/(AQ4-AO20)","v":0},{"$f":"IF(AP21=0,0,(AP21*((LOG(AP21))/LOG(2))))","v":0},null,{"$f":"N21","v":2221},{"$f":"COUNTIF(L121:L143,AS21)","v":3},{"$f":"AT21/(AV4-AT20)","v":0.23076923076923078},{"$f":"IF(AU21=0,0,(AU21*((LOG(AU21))/LOG(2))))","v":-0.48818705017383146}]
[21,2096,21,2101,22,2114,14,2124,null,null,0,2221,null,2222,{"$f":"COUNTIF($L$7:$L$500,N22)","v":6},{"$f":"O22/$Q$4","v":4.3795620437956206E-2},{"$f":"IF(P22=0,0,(P22*((LOG(P22))/LOG(2))))","v":-0.19765268243384104},null,null,{"$f":"N22","v":2222},{"$f":"COUNTIF(L7:L29,T22)","v":0},{"$f":"U22/(W4-U20)","v":0},{"$f":"IF(V22=0,0,(V22*((LOG(V22))/LOG(2))))","v":0},null,{"$f":"N22","v":2222},{"$f":"COUNTIF(L30:L52,Y22)","v":1},{"$f":"Z22/(AB4-Z20)","v":0.05},{"$f":"IF(AA22=0,0,(AA22*((LOG(AA22))/LOG(2))))","v":-0.21609640474436814},null,{"$f":"N22","v":2222},{"$f":"COUNTIF(L53:L74,AD22)","v":0},{"$f":"AE22/(AG4-AE20)","v":0},{"$f":"IF(AF22=0,0,(AF22*((LOG(AF22))/LOG(2))))","v":0},null,{"$f":"N22","v":2222},{"$f":"COUNTIF(L75:L97,AI22)","v":1},{"$f":"AJ22/(AL4-AJ20)","v":6.6666666666666666E-2},{"$f":"IF(AK22=0,0,(AK22*((LOG(AK22))/LOG(2))))","v":-0.26045937304056793},null,{"$f":"N22","v":2222},{"$f":"COUNTIF(L98:L120,AN22)","v":3},{"$f":"AO22/(AQ4-AO20)","v":0.25},{"$f":"IF(AP22=0,0,(AP22*((LOG(AP22))/LOG(2))))","v":-0.5},null,{"$f":"N22","v":2222},{"$f":"COUNTIF(L121:L143,AS22)","v":1},{"$f":"AT22/(AV4-AT20)","v":7.6923076923076927E-2},{"$f":"IF(AU22=0,0,(AU22*((LOG(AU22))/LOG(2))))","v":-0.28464920908777636}]
[21,2239,12,2248,24,2255,23,2274,null,null,0,2122,null,null,null,{"$f":"SUM(P7:P22)","v":1},{"$f":"-SUM(Q7:Q22)","v":2.8544849544348683},null,null,null,null,{"$f":"SUM(V7:V22)","v":1},{"$f":"-SUM(W7:W22)","v":2.6100635408770727},null,null,null,{"$f":"SUM(AA7:AA22)","v":1},{"$f":"-SUM(AB7:AB22)","v":2.3232196723355076},null,null,null,{"$f":"SUM(AF7:AF22)","v":0.99999999999999989},{"$f":"-SUM(AG7:AG22)","v":1.8763576394898522},null,null,null,{"$f":"SUM(AK7:AK22)","v":1},{"$f":"-SUM(AL7:AL22)","v":2.1464657985040723},null,null,null,{"$f":"SUM(AP7:AP22)","v":1},{"$f":"-SUM(AQ7:AQ22)","v":2.1258145836939111},null,null,null,{"$f":"SUM(AU7:AU22)","v":1},{"$f":"-SUM(AV7:AV22)","v":2.4116022179746714}]
[21,2377,21,2395,11,2404,21,2411,null,null,0,2212,null,null,null,"U=",{"$f":"Q23/(LOG(Q4)/LOG(2))","v":0.40215159935488598},null,null,null,null,"U1=",{"$f":"W23/(LOG(W4)/LOG(2))","v":0.57699299053088438},null,null,null,"U2=",{"$f":"AB23/(LOG(AB4)/LOG(2))","v":0.51358192833519944},null,null,null,"U3=",{"$f":"AG23/(LOG(AG4)/LOG(2))","v":0.4207616126790672},null,null,null,"U4=",{"$f":"AL23/(LOG(AL4)/LOG(2))","v":0.47450788103608749},null,null,null,"U5=",{"$f":"AQ23/(LOG(AQ4)/LOG(2))","v":0.4699426258211104},null,null,null,"U6=",{"$f":"AV23/(LOG(AV4)/LOG(2))","v":0.53312019187568671}]
[21,2503,12,2511,24,2536,23,2548,null,null,0,2122]
[12,2656,23,2669,24,2679,23,2686,null,null,0,1222]
[21,2792,21,2797,11,2807,21,2829,null,null,0,2212,null,"Total Target Seq"]
[12,2937,23,2952,24,2966,23,2970,null,null,0,1222,null,{"$f":"COUNTIF(L7:L143,G3)","v":40},null,23,23,22,23,23,23]
[12,3069,14,3073,13,3077,23,3087,null,null,0,1112,null,null,null,"% of reinforcement given in 6 equal intervals based on number of trials "]
[21,3184,21,3188,11,3195,21,3212,null,null,0,2212,null,null,null,"%_1","%_2","%_3","%_4","%_5","%_6"]
[21,3299,21,3303,22,3307,23,3318,null,null,0,2222,null,null,"target sequence",{"$f":"$G$3","v":2212},{"$f":"$G$3","v":2212},{"$f":"$G$3","v":2212},{"$f":"$G$3","v":2212},{"$f":"$G$3","v":2212},{"$f":"$G$3","v":2212}]
[21,3419,12,3429,24,3437,23,3442,null,null,0,2122,null,null,"total reinforcement",{"$f":"U20","v":4},{"$f":"Z20","v":3},{"$f":"AE20","v":4},{"$f":"AJ20","v":8},{"$f":"AO20","v":11},{"$f":"AT20","v":10}]
[21,3543,12,3550,24,3565,23,3571,null,null,0,2122,null,null,"% target"]
[21,3668,21,3681,11,3689,21,3696,null,null,0,2212,null,null,"CCRF"]
[21,3793,21,3803,22,3823,14,3831,null,null,0,2221,null,null,"% CCRf"]
[21,3944,12,3957,24,3964,23,3972,null,null,0,2122,null,null,"average response rate",{"$f":"H29/P28","v":134.21739130434781},{"$f":"(H52-H29)/Q28","v":128.52173913043478},{"$f":"(H74-H52)/R28","v":126.90909090909091},{"$f":"(H97-H74)/S28","v":123.73913043478261},{"$f":"(H120-H97)/T28","v":128.78260869565219},{"$f":"(H143-H120)/U28","v":130.91304347826087}]
[21,4084,12,4092,24,4107,23,4115,null,null,0,2122]
[12,4214,14,4218,24,4225,23,4229,null,null,0,1122]
[12,4335,23,4354,24,4363,14,4372,null,null,0,1221]
[21,4470,12,4484,24,4492,23,4498,null,null,0,2122]
[21,4600,12,4607,24,4615,23,4630,null,null,0,2122]
[21,4725,21,4732,22,4737,14,4745,null,null,0,2221]
[12,4848,23,4863,24,4870,14,4877,null,null,0,1221]
[12,4982,23,4997,24,5001,23,5010,null,null,0,1222]
[12,5119,23,5127,24,5134,14,5142,null,null,0,1221]
[21,5255,12,5261,24,5269,23,5278,null,null,0,2122]
[21,5372,12,5380,24,5396,14,5403,null,null,0,2121]
[21,5504,12,5512,24,5528,23,5532,null,null,0,2122]
[21,5628,21,5636,11,5645,21,5661,null,null,0,2212]
[12,5751,14,5771,13,5775,23,5789,null,null,0,1112]
[21,5886,12,5904,24,5912,23,5922,null,null,0,2122]
[21,6020,12,6027,24,6035,23,6043,null,null,0,2122]
[12,6152,23,6167,24,6173,23,6178,null,null,0,1222]
[21,6280,12,6287,24,6301,23,6311,null,null,0,2122]
[21,6407,12,6415,24,6427,14,6434,null,null,0,2121]
[21,6531,21,6534,11,6542,21,6554,null,null,0,2212]
[21,6649,21,6656,22,6666,14,6677,null,null,0,2221]
[21,6778,12,6785,24,6797,23,6804,null,null,0,2122]
[21,6909,12,6916,24,6928,14,6941,null,null,0,2121]
[21,7037,21,7048,22,7052,14,7061,null,null,0,2221]
[21,7168,12,7176,24,7185,23,7195,null,null,0,2122]
[21,7292,12,7299,24,7306,14,7313,null,null,0,2121]
[21,7413,21,7417,11,7424,21,7439,null,null,0,2212]
[21,7534,12,7541,24,7555,23,7563,null,null,0,2122]
[21,7659,12,7665,24,7673,23,7680,null,null,0,2122]
[21,7788,21,7808,22,7814,14,7823,null,null,0,2221]
[21,7919,21,7924,11,7930,21,7945,null,null,0,2212]
[21,8039,12,8047,24,8057,23,8077,null,null,0,2122]
[12,8182,23,8193,24,8201,14,8207,null,null,0,1221]
[21,8307,12,8315,24,8323,23,8334,null,null,0,2122]
[21,8434,12,8441,24,8457,23,8467,null,null,0,2122]
[21,8563,12,8570,24,8583,14,8591,null,null,0,2121]
[21,8688,12,8695,24,8707,23,8713,null,null,0,2122]
[21,8809,21,8816,11,8823,21,8835,null,null,0,2212]
[21,8925,21,8929,11,8936,21,8944,null,null,0,2212]
[21,9039,21,9044,22,9048,14,9055,null,null,0,2221]
[21,9155,12,9161,24,9175,23,9182,null,null,0,2122]
[21,9279,21,9285,11,9292,21,9303,null,null,0,2212]
[21,9390,21,9397,22,9401,14,9407,null,null,0,2221]
[21,9508,12,9517,24,9529,23,9550,null,null,0,2122]
[21,9647,21,9654,11,9662,21,9674,null,null,0,2212]
[21,9773,12,9779,24,9790,23,9810,null,null,0,2122]
[12,9921,23,9933,24,9940,23,9950,null,null,0,1222]
[21,10050,12,10057,24,10064,23,10071,null,null,0,2122]
[21,10170,21,10181,11,10188,21,10195,null,null,0,2212]
[21,10283,12,10290,24,10297,14,10306,null,null,0,2121]
[21,10401,21,10408,11,10414,21,10435,null,null,0,2212]
[21,10527,12,10536,24,10543,23,10549,null,null,0,2122]
[21,10650,21,10656,11,10662,21,10669,null,null,0,2212]
[21,10756,21,10772,22,10777,14,10786,null,null,0,2221]
[21,10882,21,10888,11,10896,21,10907,null,null,0,2212]
[21,11012,21,11028,22,11036,23,11043,null,null,0,2222]
[21,11151,12,11158,24,11170,23,11180,null,null,0,2122]
[21,11281,12,11287,24,11294,14,11301,null,null,0,2121]
[21,11405,12,11412,24,11425,23,11440,null,null,0,2122]
[21,11537,21,11551,11,11559,21,11569,null,null,0,2212]
[12,11657,14,11662,24,11670,23,11681,null,null,0,1122]
[21,11778,21,11782,11,11788,21,11811,null,null,0,2212]
[21,11904,12,11911,24,11928,23,11953,null,null,0,2122]
[21,12050,21,12060,11,12066,21,12073,null,null,0,2212]
[21,12176,12,12182,24,12190,23,12201,null,null,0,2122]
[12,12298,23,12312,13,12319,23,12332,null,null,0,1212]
[21,12430,21,12442,11,12449,21,12456,null,null,0,2212]
[21,12547,12,12553,24,12565,23,12578,null,null,0,2122]
[21,12677,12,12683,24,12695,14,12702,null,null,0,2121]
[21,12801,12,12808,24,12819,14,12825,null,null,0,2121]
[21,12925,21,12933,11,12940,21,12956,null,null,0,2212]
[21,13047,21,13050,11,13057,21,13072,null,null,0,2212]
[21,13173,21,13197,22,13206,23,13229,null,null,0,2222]
[21,13328,21,13344,11,13351,21,13358,null,null,0,2212]
[21,13446,21,13466,22,13477,23,13484,null,null,0,2222]
[21,13581,21,13585,22,13592,23,13606,null,null,0,2222]
[21,13702,21,13716,11,13723,21,13731,null,null,0,2212]
[21,13821,21,13830,11,13837,21,13851,null,null,0,2212]
[12,13943,23,13985,24,14008,23,14017,null,null,0,1222]
[21,14115,21,14123,11,14130,21,14154,null,null,0,2212]
[21,14244,12,14250,24,14265,23,14270,null,null,0,2122]
[21,14371,21,14379,11,14386,21,14396,null,null,0,2212]
[21,14487,21,14510,11,14517,21,14524,null,null,0,2212]
[21,14612,12,14619,24,14635,14,14643,null,null,0,2121]
[21,14761,21,14765,11,14772,21,14780,null,null,0,2212]
[12,14868,23,14877,13,14884,23,14913,null,null,0,1212]
[21,15010,21,15020,11,15027,21,15038,null,null,0,2212]
[21,15129,21,15141,11,15147,21,15157,null,null,0,2212]
[21,15249,21,15257,11,15264,21,15275,null,null,0,2212]
[12,15368,14,15380,13,15385,23,15402,null,null,0,1112]
[12,15512,23,15539,13,15548,23,15575,null,null,0,1212]
[21,15672,21,15679,22,15690,14,15697,null,null,0,2221]
[21,15798,12,15805,24,15819,23,15833,null,null,0,2122]
[21,15929,21,15940,11,15947,21,15957,null,null,0,2212]
[12,16045,14,16051,24,16077,14,16086,null,null,0,1121]
[21,16186,12,16196,24,16212,23,16217,null,null,0,2122]
[21,16320,21,16331,11,16338,21,16345,null,null,0,2212]
[21,16432,21,16449,22,16457,14,16464,null,null,0,2221]
[21,16562,21,16566,11,16573,21,16590,null,null,0,2212]
[12,16679,14,16691,24,16698,14,16706,null,null,0,1121]
[21,16802,21,16807,22,16820,23,16826,null,null,0,2222]
[21,16927,21,16935,11,16943,21,16973,null,null,0,2212]
[21,17084,12,17091,24,17102,23,17117,null,null,0,2122]
[21,17214,21,17232,11,17239,21,17246,null,null,0,2212]
[21,17345,12,17352,24,17378,23,17393,null,null,0,2122]
[21,17490,21,17515,22,17521,14,17530,null,null,0,2221]
[21,17626,21,17634,11,17642,21,17654,null,null,1,2212]

{"sheet":"!MA31D10.096","index":19,"n_rows":177,"n_cols":48,"rows_kept":177,"cut":false,"hidden":false,"merged":[[4,39,4,42],[5,39,5,40],[4,44,4,47],[5,44,5,45],[4,24,4,27],[5,24,5,25],[4,29,4,32],[5,29,5,30],[4,34,4,37],[5,34,5,35],[1,1,1,2],[5,13,5,14],[26,13,26,14],[27,13,27,14],[4,19,4,22],[5,19,5,20]]}
["Report for:!MA31D10.096"]
["Date:","<date>"]
["Hen:","<hen>",null,null,null,"Correct Sequence",{"$f":"Start!J2","v":2212},null,null,null,null,null,null,null,null,"Total Sequences in Data",{"$f":"4994-COUNTBLANK(L7:L5000)","v":171},null,null,null,null,"Total Sequences in Block Data",{"$f":"COUNTA(L7:L35)","v":29},null,null,null,"Total Sequences in Block Data",{"$f":"COUNTA(L36:L63)","v":28},null,null,null,"Total Sequences in Block Data",{"$f":"COUNTA(L64:L92)","v":29},null,null,null,"Total Sequences in Block Data",{"$f":"COUNTA(L93:L120)","v":28},null,null,null,"Total Sequences in Block Data",{"$f":"COUNTA(L121:L149)","v":29},null,null,null,"Total Sequences in Block Data",{"$f":"COUNTA(L150:L177)","v":28}]
[null,null,null,null,null,null,null,null,null,null,null,null,null,null,null,"Total Sequences in Summary",{"$f":"SUM(O7:O22)","v":170},null,null,null,null,"Total Sequences in Block Summary",{"$f":"SUM(U7:U22)","v":29},null,null,null,"Total Sequences in Block Summary",{"$f":"SUM(Z7:Z22)","v":28},null,null,null,"Total Sequences in Block Summary",{"$f":"SUM(AE7:AE22)","v":29},null,null,null,"Total Sequences in Block Summary",{"$f":"SUM(AJ7:AJ22)","v":28},null,null,null,"Total Sequences in Block Summary",{"$f":"SUM(AO7:AO22)","v":29},null,null,null,"Total Sequences in Block Summary",{"$f":"SUM(AT7:AT22)","v":27}]
[null,null,null,null,null,null,null,null,null,null,null,null,null,null,null,null,null,null,null,"Block 1",null,null,null,null,"Block 2",null,null,null,null,"Block 3",null,null,null,null,"Block 4",null,null,null,null,"Block 5",null,null,null,null,"Block 6"]
["Sequence\nComponent\n1","Time\n1","Sequence\nComponent\n2","Time\n2","Sequence\nComponent\n3","Time\n3","Sequence\nComponent\n4","Time\n4","Sequence\nComponent\n5","Time\n5","Correct?\n0=No 1=Yes","Sequence",null,"Frequency",null,"Relative Frequency","Variability",null,null,"Frequency",null,"Relative Frequency","Variability",null,"Frequency",null,"Relative Frequency","Variability",null,"Frequency",null,"Relative Frequency","Variability",null,"Frequency",null,"Relative Frequency","Variability",null,"Frequency",null,"Relative Frequency","Variability",null,"Frequency",null,"Relative Frequency","Variability"]
[12,11,14,15,13,20,14,25,null,null,0,1111,null,1111,{"$f":"COUNTIF($L$7:$L$500,N7)","v":4},{"$f":"O7/$Q$4","v":2.3529411764705882E-2},{"$f":"IF(P7=0,0,(P7*((LOG(P7))/LOG(2))))","v":-0.12727978673265181},null,null,{"$f":"N7","v":1111},{"$f":"COUNTIF(L7:L35,T7)","v":1},{"$f":"U7/(W4-U20)","v":3.8461538461538464E-2},{"$f":"IF(V7=0,0,(V7*((LOG(V7))/LOG(2))))","v":-0.18078614300542661},null,{"$f":"N7","v":1111},{"$f":"COUNTIF(L36:L63,Y7)","v":1},{"$f":"Z7/(AB4-Z20)","v":3.8461538461538464E-2},{"$f":"IF(AA7=0,0,(AA7*((LOG(AA7))/LOG(2))))","v":-0.18078614300542661},null,{"$f":"N7","v":1111},{"$f":"COUNTIF(L64:L92,AD7)","v":2},{"$f":"AE7/(AG4-AE20)","v":9.0909090909090912E-2},{"$f":"IF(AF7=0,0,(AF7*((LOG(AF7))/LOG(2))))","v":-0.31449378351248153},null,{"$f":"N7","v":1111},{"$f":"COUNTIF(L93:L120,AI7)","v":0},{"$f":"AJ7/(AL4-AJ20)","v":0},{"$f":"IF(AK7=0,0,(AK7*((LOG(AK7))/LOG(2))))","v":0},null,{"$f":"N7","v":1111},{"$f":"COUNTIF(L121:L149,AN7)","v":0},{"$f":"AO7/(AQ4-AO20)","v":0},{"$f":"IF(AP7=0,0,(AP7*((LOG(AP7))/LOG(2))))","v":0},null,{"$f":"N7","v":1111},{"$f":"COUNTIF(L150:L177,AS7)","v":0},{"$f":"AT7/(AV4-AT20)","v":0},{"$f":"IF(AU7=0,0,(AU7*((LOG(AU7))/LOG(2))))","v":0}]
[21,126,12,140,24,148,23,156,null,null,0,2122,null,1112,{"$f":"COUNTIF($L$7:$L$500,N8)","v":0},{"$f":"O8/$Q$4","v":0},{"$f":"IF(P8=0,0,(P8*((LOG(P8))/LOG(2))))","v":0},null,null,{"$f":"N8","v":1112},{"$f":"COUNTIF(L7:L35,T8)","v":0},{"$f":"U8/(W4-U20)","v":0},{"$f":"IF(V8=0,0,(V8*((LOG(V8))/LOG(2))))","v":0},null,{"$f":"N8","v":1112},{"$f":"COUNTIF(L36:L63,Y8)","v":0},{"$f":"Z8/(AB4-Z20)","v":0},{"$f":"IF(AA8=0,0,(AA8*((LOG(AA8))/LOG(2))))","v":0},null,{"$f":"N8","v":1112},{"$f":"COUNTIF(L64:L92,AD8)","v":0},{"$f":"AE8/(AG4-AE20)","v":0},{"$f":"IF(AF8=0,0,(AF8*((LOG(AF8))/LOG(2))))","v":0},null,{"$f":"N8","v":1112},{"$f":"COUNTIF(L93:L120,AI8)","v":0},{"$f":"AJ8/(AL4-AJ20)","v":0},{"$f":"IF(AK8=0,0,(AK8*((LOG(AK8))/LOG(2))))","v":0},null,{"$f":"N8","v":1112},{"$f":"COUNTIF(L121:L149,AN8)","v":0},{"$f":"AO8/(AQ4-AO20)","v":0},{"$f":"IF(AP8=0,0,(AP8*((LOG(AP8))/LOG(2))))","v":0},null,{"$f":"N8","v":1112},{"$f":"COUNTIF(L150:L177,AS8)","v":0},{"$f":"AT8/(AV4-AT20)","v":0},{"$f":"IF(AU8=0,0,(AU8*((LOG(AU8))/LOG(2))))","v":0}]
[12,260,14,270,24,279,23,289,null,null,0,1122,null,1121,{"$f":"COUNTIF($L$7:$L$500,N9)","v":1},{"$f":"O9/$Q$4","v":5.8823529411764705E-3},{"$f":"IF(P9=0,0,(P9*((LOG(P9))/LOG(2))))","v":-4.35846525655159E-2},null,null,{"$f":"N9","v":1121},{"$f":"COUNTIF(L7:L35,T9)","v":1},{"$f":"U9/(W4-U20)","v":3.8461538461538464E-2},{"$f":"IF(V9=0,0,(V9*((LOG(V9))/LOG(2))))","v":-0.18078614300542661},null,{"$f":"N9","v":1121},{"$f":"COUNTIF(L36:L63,Y9)","v":0},{"$f":"Z9/(AB4-Z20)","v":0},{"$f":"IF(AA9=0,0,(AA9*((LOG(AA9))/LOG(2))))","v":0},null,{"$f":"N9","v":1121},{"$f":"COUNTIF(L64:L92,AD9)","v":0},{"$f":"AE9/(AG4-AE20)","v":0},{"$f":"IF(AF9=0,0,(AF9*((LOG(AF9))/LOG(2))))","v":0},null,{"$f":"N9","v":1121},{"$f":"COUNTIF(L93:L120,AI9)","v":0},{"$f":"AJ9/(AL4-AJ20)","v":0},{"$f":"IF(AK9=0,0,(AK9*((LOG(AK9))/LOG(2))))","v":0},null,{"$f":"N9","v":1121},{"$f":"COUNTIF(L121:L149,AN9)","v":0},{"$f":"AO9/(AQ4-AO20)","v":0},{"$f":"IF(AP9=0,0,(AP9*((LOG(AP9))/LOG(2))))","v":0},null,{"$f":"N9","v":1121},{"$f":"COUNTIF(L150:L177,AS9)","v":0},{"$f":"AT9/(AV4-AT20)","v":0},{"$f":"IF(AU9=0,0,(AU9*((LOG(AU9))/LOG(2))))","v":0}]
[12,392,14,397,24,408,14,417,null,null,0,1121,null,1122,{"$f":"COUNTIF($L$7:$L$500,N10)","v":7},{"$f":"O10/$Q$4","v":4.1176470588235294E-2},{"$f":"IF(P10=0,0,(P10*((LOG(P10))/LOG(2))))","v":-0.18949560057976875},null,null,{"$f":"N10","v":1122},{"$f":"COUNTIF(L7:L35,T10)","v":1},{"$f":"U10/(W4-U20)","v":3.8461538461538464E-2},{"$f":"IF(V10=0,0,(V10*((LOG(V10))/LOG(2))))","v":-0.18078614300542661},null,{"$f":"N10","v":1122},{"$f":"COUNTIF(L36:L63,Y10)","v":2},{"$f":"Z10/(AB4-Z20)","v":7.6923076923076927E-2},{"$f":"IF(AA10=0,0,(AA10*((LOG(AA10))/LOG(2))))","v":-0.28464920908777636},null,{"$f":"N10","v":1122},{"$f":"COUNTIF(L64:L92,AD10)","v":2},{"$f":"AE10/(AG4-AE20)","v":9.0909090909090912E-2},{"$f":"IF(AF10=0,0,(AF10*((LOG(AF10))/LOG(2))))","v":-0.31449378351248153},null,{"$f":"N10","v":1122},{"$f":"COUNTIF(L93:L120,AI10)","v":0},{"$f":"AJ10/(AL4-AJ20)","v":0},{"$f":"IF(AK10=0,0,(AK10*((LOG(AK10))/LOG(2))))","v":0},null,{"$f":"N10","v":1122},{"$f":"COUNTIF(L121:L149,AN10)","v":2},{"$f":"AO10/(AQ4-AO20)","v":8.6956521739130432E-2},{"$f":"IF(AP10=0,0,(AP10*((LOG(AP10))/LOG(2))))","v":-0.30639669183104457},null,{"$f":"N10","v":1122},{"$f":"COUNTIF(L150:L177,AS10)","v":0},{"$f":"AT10/(AV4-AT20)","v":0},{"$f":"IF(AU10=0,0,(AU10*((LOG(AU10))/LOG(2))))","v":0}]
[21,509,21,517,11,532,21,573,null,null,0,2212,null,1211,{"$f":"COUNTIF($L$7:$L$500,N11)","v":0},{"$f":"O11/$Q$4","v":0},{"$f":"IF(P11=0,0,(P11*((LOG(P11))/LOG(2))))","v":0},null,null,{"$f":"N11","v":1211},{"$f":"COUNTIF(L7:L35,T11)","v":0},{"$f":"U11/(W4-U20)","v":0},{"$f":"IF(V11=0,0,(V11*((LOG(V11))/LOG(2))))","v":0},null,{"$f":"N11","v":1211},{"$f":"COUNTIF(L36:L63,Y11)","v":0},{"$f":"Z11/(AB4-Z20)","v":0},{"$f":"IF(AA11=0,0,(AA11*((LOG(AA11))/LOG(2))))","v":0},null,{"$f":"N11","v":1211},{"$f":"COUNTIF(L64:L92,AD11)","v":0},{"$f":"AE11/(AG4-AE20)","v":0},{"$f":"IF(AF11=0,0,(AF11*((LOG(AF11))/LOG(2))))","v":0},null,{"$f":"N11","v":1211},{"$f":"COUNTIF(L93:L120,AI11)","v":0},{"$f":"AJ11/(AL4-AJ20)","v":0},{"$f":"IF(AK11=0,0,(AK11*((LOG(AK11))/LOG(2))))","v":0},null,{"$f":"N11","v":1211},{"$f":"COUNTIF(L121:L149,AN11)","v":0},{"$f":"AO11/(AQ4-AO20)","v":0},{"$f":"IF(AP11=0,0,(AP11*((LOG(AP11))/LOG(2))))","v":0},null,{"$f":"N11","v":1211},{"$f":"COUNTIF(L150:L177,AS11)","v":0},{"$f":"AT11/(AV4-AT20)","v":0},{"$f":"IF(AU11=0,0,(AU11*((LOG(AU11))/LOG(2))))","v":0}]
[21,686,12,710,24,745,23,760,null,null,0,2122,null,1212,{"$f":"COUNTIF($L$7:$L$500,N12)","v":0},{"$f":"O12/$Q$4","v":0},{"$f":"IF(P12=0,0,(P12*((LOG(P12))/LOG(2))))","v":0},null,null,{"$f":"N12","v":1212},{"$f":"COUNTIF(L7:L35,T12)","v":0},{"$f":"U12/(W4-U20)","v":0},{"$f":"IF(V12=0,0,(V12*((LOG(V12))/LOG(2))))","v":0},null,{"$f":"N12","v":1212},{"$f":"COUNTIF(L36:L63,Y12)","v":0},{"$f":"Z12/(AB4-Z20)","v":0},{"$f":"IF(AA12=0,0,(AA12*((LOG(AA12))/LOG(2))))","v":0},null,{"$f":"N12","v":1212},{"$f":"COUNTIF(L64:L92,AD12)","v":0},{"$f":"AE12/(AG4-AE20)","v":0},{"$f":"IF(AF12=0,0,(AF12*((LOG(AF12))/LOG(2))))","v":0},null,{"$f":"N12","v":1212},{"$f":"COUNTIF(L93:L120,AI12)","v":0},{"$f":"AJ12/(AL4-AJ20)","v":0},{"$f":"IF(AK12=0,0,(AK12*((LOG(AK12))/LOG(2))))","v":0},null,{"$f":"N12","v":1212},{"$f":"COUNTIF(L121:L149,AN12)","v":0},{"$f":"AO12/(AQ4-AO20)","v":0},{"$f":"IF(AP12=0,0,(AP12*((LOG(AP12))/LOG(2))))","v":0},null,{"$f":"N12","v":1212},{"$f":"COUNTIF(L150:L177,AS12)","v":0},{"$f":"AT12/(AV4-AT20)","v":0},{"$f":"IF(AU12=0,0,(AU12*((LOG(AU12))/LOG(2))))","v":0}]
[21,863,12,873,24,888,23,906,null,null,0,2122,null,1221,{"$f":"COUNTIF($L$7:$L$500,N13)","v":7},{"$f":"O13/$Q$4","v":4.1176470588235294E-2},{"$f":"IF(P13=0,0,(P13*((LOG(P13))/LOG(2))))","v":-0.18949560057976875},null,null,{"$f":"N13","v":1221},{"$f":"COUNTIF(L7:L35,T13)","v":3},{"$f":"U13/(W4-U20)","v":0.11538461538461539},{"$f":"IF(V13=0,0,(V13*((LOG(V13))/LOG(2))))","v":-0.35947814047153104},null,{"$f":"N13","v":1221},{"$f":"COUNTIF(L36:L63,Y13)","v":1},{"$f":"Z13/(AB4-Z20)","v":3.8461538461538464E-2},{"$f":"IF(AA13=0,0,(AA13*((LOG(AA13))/LOG(2))))","v":-0.18078614300542661},null,{"$f":"N13","v":1221},{"$f":"COUNTIF(L64:L92,AD13)","v":1},{"$f":"AE13/(AG4-AE20)","v":4.5454545454545456E-2},{"$f":"IF(AF13=0,0,(AF13*((LOG(AF13))/LOG(2))))","v":-0.20270143721078623},null,{"$f":"N13","v":1221},{"$f":"COUNTIF(L93:L120,AI13)","v":0},{"$f":"AJ13/(AL4-AJ20)","v":0},{"$f":"IF(AK13=0,0,(AK13*((LOG(AK13))/LOG(2))))","v":0},null,{"$f":"N13","v":1221},{"$f":"COUNTIF(L121:L149,AN13)","v":1},{"$f":"AO13/(AQ4-AO20)","v":4.3478260869565216E-2},{"$f":"IF(AP13=0,0,(AP13*((LOG(AP13))/LOG(2))))","v":-0.19667660678508753},null,{"$f":"N13","v":1221},{"$f":"COUNTIF(L150:L177,AS13)","v":1},{"$f":"AT13/(AV4-AT20)","v":5.8823529411764705E-2},{"$f":"IF(AU13=0,0,(AU13*((LOG(AU13))/LOG(2))))","v":-0.24043899066178465}]
[12,1017,23,1035,24,1051,14,1062,null,null,0,1221,null,1222,{"$f":"COUNTIF($L$7:$L$500,N14)","v":3},{"$f":"O14/$Q$4","v":1.7647058823529412E-2},{"$f":"IF(P14=0,0,(P14*((LOG(P14))/LOG(2))))","v":-0.10278403121323315},null,null,{"$f":"N14","v":1222},{"$f":"COUNTIF(L7:L35,T14)","v":2},{"$f":"U14/(W4-U20)","v":7.6923076923076927E-2},{"$f":"IF(V14=0,0,(V14*((LOG(V14))/LOG(2))))","v":-0.28464920908777636},null,{"$f":"N14","v":1222},{"$f":"COUNTIF(L36:L63,Y14)","v":0},{"$f":"Z14/(AB4-Z20)","v":0},{"$f":"IF(AA14=0,0,(AA14*((LOG(AA14))/LOG(2))))","v":0},null,{"$f":"N14","v":1222},{"$f":"COUNTIF(L64:L92,AD14)","v":0},{"$f":"AE14/(AG4-AE20)","v":0},{"$f":"IF(AF14=0,0,(AF14*((LOG(AF14))/LOG(2))))","v":0},null,{"$f":"N14","v":1222},{"$f":"COUNTIF(L93:L120,AI14)","v":1},{"$f":"AJ14/(AL4-AJ20)","v":5.5555555555555552E-2},{"$f":"IF(AK14=0,0,(AK14*((LOG(AK14))/LOG(2))))","v":-0.23166250008012845},null,{"$f":"N14","v":1222},{"$f":"COUNTIF(L121:L149,AN14)","v":0},{"$f":"AO14/(AQ4-AO20)","v":0},{"$f":"IF(AP14=0,0,(AP14*((LOG(AP14))/LOG(2))))","v":0},null,{"$f":"N14","v":1222},{"$f":"COUNTIF(L150:L177,AS14)","v":0},{"$f":"AT14/(AV4-AT20)","v":0},{"$f":"IF(AU14=0,0,(AU14*((LOG(AU14))/LOG(2))))","v":0}]
[21,1167,12,1176,24,1187,23,1195,null,null,0,2122,null,2111,{"$f":"COUNTIF($L$7:$L$500,N15)","v":5},{"$f":"O15/$Q$4","v":2.9411764705882353E-2},{"$f":"IF(P15=0,0,(P15*((LOG(P15))/LOG(2))))","v":-0.14963126003677468},null,null,{"$f":"N15","v":2111},{"$f":"COUNTIF(L7:L35,T15)","v":0},{"$f":"U15/(W4-U20)","v":0},{"$f":"IF(V15=0,0,(V15*((LOG(V15))/LOG(2))))","v":0},null,{"$f":"N15","v":2111},{"$f":"COUNTIF(L36:L63,Y15)","v":1},{"$f":"Z15/(AB4-Z20)","v":3.8461538461538464E-2},{"$f":"IF(AA15=0,0,(AA15*((LOG(AA15))/LOG(2))))","v":-0.18078614300542661},null,{"$f":"N15","v":2111},{"$f":"COUNTIF(L64:L92,AD15)","v":1},{"$f":"AE15/(AG4-AE20)","v":4.5454545454545456E-2},{"$f":"IF(AF15=0,0,(AF15*((LOG(AF15))/LOG(2))))","v":-0.20270143721078623},null,{"$f":"N15","v":2111},{"$f":"COUNTIF(L93:L120,AI15)","v":2},{"$f":"AJ15/(AL4-AJ20)","v":0.1111111111111111},{"$f":"IF(AK15=0,0,(AK15*((LOG(AK15))/LOG(2))))","v":-0.3522138890491458},null,{"$f":"N15","v":2111},{"$f":"COUNTIF(L121:L149,AN15)","v":1},{"$f":"AO15/(AQ4-AO20)","v":4.3478260869565216E-2},{"$f":"IF(AP15=0,0,(AP15*((LOG(AP15))/LOG(2))))","v":-0.19667660678508753},null,{"$f":"N15","v":2111},{"$f":"COUNTIF(L150:L177,AS15)","v":0},{"$f":"AT15/(AV4-AT20)","v":0},{"$f":"IF(AU15=0,0,(AU15*((LOG(AU15))/LOG(2))))","v":0}]
[12,1311,23,1326,24,1340,23,1357,null,null,0,1222,null,2112,{"$f":"COUNTIF($L$7:$L$500,N16)","v":15},{"$f":"O16/$Q$4","v":8.8235294117647065E-2},{"$f":"IF(P16=0,0,(P16*((LOG(P16))/LOG(2))))","v":-0.30904414769375149},null,null,{"$f":"N16","v":2112},{"$f":"COUNTIF(L7:L35,T16)","v":0},{"$f":"U16/(W4-U20)","v":0},{"$f":"IF(V16=0,0,(V16*((LOG(V16))/LOG(2))))","v":0},null,{"$f":"N16","v":2112},{"$f":"COUNTIF(L36:L63,Y16)","v":5},{"$f":"Z16/(AB4-Z20)","v":0.19230769230769232},{"$f":"IF(AA16=0,0,(AA16*((LOG(AA16))/LOG(2))))","v":-0.45740608139494804},null,{"$f":"N16","v":2112},{"$f":"COUNTIF(L64:L92,AD16)","v":7},{"$f":"AE16/(AG4-AE20)","v":0.31818181818181818},{"$f":"IF(AF16=0,0,(AF16*((LOG(AF16))/LOG(2))))","v":-0.52566076709353871},null,{"$f":"N16","v":2112},{"$f":"COUNTIF(L93:L120,AI16)","v":1},{"$f":"AJ16/(AL4-AJ20)","v":5.5555555555555552E-2},{"$f":"IF(AK16=0,0,(AK16*((LOG(AK16))/LOG(2))))","v":-0.23166250008012845},null,{"$f":"N16","v":2112},{"$f":"COUNTIF(L121:L149,AN16)","v":0},{"$f":"AO16/(AQ4-AO20)","v":0},{"$f":"IF(AP16=0,0,(AP16*((LOG(AP16))/LOG(2))))","v":0},null,{"$f":"N16","v":2112},{"$f":"COUNTIF(L150:L177,AS16)","v":2},{"$f":"AT16/(AV4-AT20)","v":0.11764705882352941},{"$f":"IF(AU16=0,0,(AU16*((LOG(AU16))/LOG(2))))","v":-0.36323092250003997}]
[21,1460,12,1470,24,1487,23,1495,null,null,0,2122,null,2121,{"$f":"COUNTIF($L$7:$L$500,N17)","v":10},{"$f":"O17/$Q$4","v":5.8823529411764705E-2},{"$f":"IF(P17=0,0,(P17*((LOG(P17))/LOG(2))))","v":-0.24043899066178465},null,null,{"$f":"N17","v":2121},{"$f":"COUNTIF(L7:L35,T17)","v":1},{"$f":"U17/(W4-U20)","v":3.8461538461538464E-2},{"$f":"IF(V17=0,0,(V17*((LOG(V17))/LOG(2))))","v":-0.18078614300542661},null,{"$f":"N17","v":2121},{"$f":"COUNTIF(L36:L63,Y17)","v":2},{"$f":"Z17/(AB4-Z20)","v":7.6923076923076927E-2},{"$f":"IF(AA17=0,0,(AA17*((LOG(AA17))/LOG(2))))","v":-0.28464920908777636},null,{"$f":"N17","v":2121},{"$f":"COUNTIF(L64:L92,AD17)","v":2},{"$f":"AE17/(AG4-AE20)","v":9.0909090909090912E-2},{"$f":"IF(AF17=0,0,(AF17*((LOG(AF17))/LOG(2))))","v":-0.31449378351248153},null,{"$f":"N17","v":2121},{"$f":"COUNTIF(L93:L120,AI17)","v":1},{"$f":"AJ17/(AL4-AJ20)","v":5.5555555555555552E-2},{"$f":"IF(AK17=0,0,(AK17*((LOG(AK17))/LOG(2))))","v":-0.23166250008012845},null,{"$f":"N17","v":2121},{"$f":"COUNTIF(L121:L149,AN17)","v":2},{"$f":"AO17/(AQ4-AO20)","v":8.6956521739130432E-2},{"$f":"IF(AP17=0,0,(AP17*((LOG(AP17))/LOG(2))))","v":-0.30639669183104457},null,{"$f":"N17","v":2121},{"$f":"COUNTIF(L150:L177,AS17)","v":2},{"$f":"AT17/(AV4-AT20)","v":0.11764705882352941},{"$f":"IF(AU17=0,0,(AU17*((LOG(AU17))/LOG(2))))","v":-0.36323092250003997}]
[12,1605,23,1615,24,1627,14,1636,null,null,0,1221,null,2122,{"$f":"COUNTIF($L$7:$L$500,N18)","v":41},{"$f":"O18/$Q$4","v":0.2411764705882353},{"$f":"IF(P18=0,0,(P18*((LOG(P18))/LOG(2))))","v":-0.49485527171943727},null,null,{"$f":"N18","v":2122},{"$f":"COUNTIF(L7:L35,T18)","v":16},{"$f":"U18/(W4-U20)","v":0.61538461538461542},{"$f":"IF(V18=0,0,(V18*((LOG(V18))/LOG(2))))","v":-0.43103982654836437},null,{"$f":"N18","v":2122},{"$f":"COUNTIF(L36:L63,Y18)","v":10},{"$f":"Z18/(AB4-Z20)","v":0.38461538461538464},{"$f":"IF(AA18=0,0,(AA18*((LOG(AA18))/LOG(2))))","v":-0.53019677817451139},null,{"$f":"N18","v":2122},{"$f":"COUNTIF(L64:L92,AD18)","v":5},{"$f":"AE18/(AG4-AE20)","v":0.22727272727272727},{"$f":"IF(AF18=0,0,(AF18*((LOG(AF18))/LOG(2))))","v":-0.48579625539771243},null,{"$f":"N18","v":2122},{"$f":"COUNTIF(L93:L120,AI18)","v":8},{"$f":"AJ18/(AL4-AJ20)","v":0.44444444444444442},{"$f":"IF(AK18=0,0,(AK18*((LOG(AK18))/LOG(2))))","v":-0.51996666730769447},null,{"$f":"N18","v":2122},{"$f":"COUNTIF(L121:L149,AN18)","v":1},{"$f":"AO18/(AQ4-AO20)","v":4.3478260869565216E-2},{"$f":"IF(AP18=0,0,(AP18*((LOG(AP18))/LOG(2))))","v":-0.19667660678508753},null,{"$f":"N18","v":2122},{"$f":"COUNTIF(L150:L177,AS18)","v":1},{"$f":"AT18/(AV4-AT20)","v":5.8823529411764705E-2},{"$f":"IF(AU18=0,0,(AU18*((LOG(AU18))/LOG(2))))","v":-0.24043899066178465}]
[21,1731,12,1741,24,1756,14,1766,null,null,0,2121,null,2211,{"$f":"COUNTIF($L$7:$L$500,N19)","v":4},{"$f":"O19/$Q$4","v":2.3529411764705882E-2},{"$f":"IF(P19=0,0,(P19*((LOG(P19))/LOG(2))))","v":-0.12727978673265181},null,null,{"$f":"N19","v":2211},{"$f":"COUNTIF(L7:L35,T19)","v":0},{"$f":"U19/(W4-U20)","v":0},{"$f":"IF(V19=0,0,(V19*((LOG(V19))/LOG(2))))","v":0},null,{"$f":"N19","v":2211},{"$f":"COUNTIF(L36:L63,Y19)","v":0},{"$f":"Z19/(AB4-Z20)","v":0},{"$f":"IF(AA19=0,0,(AA19*((LOG(AA19))/LOG(2))))","v":0},null,{"$f":"N19","v":2211},{"$f":"COUNTIF(L64:L92,AD19)","v":2},{"$f":"AE19/(AG4-AE20)","v":9.0909090909090912E-2},{"$f":"IF(AF19=0,0,(AF19*((LOG(AF19))/LOG(2))))","v":-0.31449378351248153},null,{"$f":"N19","v":2211},{"$f":"COUNTIF(L93:L120,AI19)","v":1},{"$f":"AJ19/(AL4-AJ20)","v":5.5555555555555552E-2},{"$f":"IF(AK19=0,0,(AK19*((LOG(AK19))/LOG(2))))","v":-0.23166250008012845},null,{"$f":"N19","v":2211},{"$f":"COUNTIF(L121:L149,AN19)","v":0},{"$f":"AO19/(AQ4-AO20)","v":0},{"$f":"IF(AP19=0,0,(AP19*((LOG(AP19))/LOG(2))))","v":0},null,{"$f":"N19","v":2211},{"$f":"COUNTIF(L150:L177,AS19)","v":1},{"$f":"AT19/(AV4-AT20)","v":5.8823529411764705E-2},{"$f":"IF(AU19=0,0,(AU19*((LOG(AU19))/LOG(2))))","v":-0.24043899066178465}]
[21,1863,21,1879,22,1883,14,1901,null,null,0,2221,null,2212,{"$f":"COUNTIF($L$7:$L$500,N20)","v":38},{"$f":"O20/$Q$4","v":0.22352941176470589},{"$f":"IF(P20=0,0,(P20*((LOG(P20))/LOG(2))))","v":-0.4831506474257436},null,null,{"$f":"N20","v":2212},{"$f":"COUNTIF(L7:L35,T20)","v":3},null,null,null,{"$f":"N20","v":2212},{"$f":"COUNTIF(L36:L63,Y20)","v":2},null,null,null,{"$f":"N20","v":2212},{"$f":"COUNTIF(L64:L92,AD20)","v":7},null,null,null,{"$f":"N20","v":2212},{"$f":"COUNTIF(L93:L120,AI20)","v":10},null,null,null,{"$f":"N20","v":2212},{"$f":"COUNTIF(L121:L149,AN20)","v":6},null,null,null,{"$f":"N20","v":2212},{"$f":"COUNTIF(L150:L177,AS20)","v":10}]
[21,2000,21,2009,11,2017,21,2035,null,null,0,2212,null,2221,{"$f":"COUNTIF($L$7:$L$500,N21)","v":11},{"$f":"O21/$Q$4","v":6.4705882352941183E-2},{"$f":"IF(P21=0,0,(P21*((LOG(P21))/LOG(2))))","v":-0.25558560289708498},null,null,{"$f":"N21","v":2221},{"$f":"COUNTIF(L7:L35,T21)","v":1},{"$f":"U21/(W4-U20)","v":3.8461538461538464E-2},{"$f":"IF(V21=0,0,(V21*((LOG(V21))/LOG(2))))","v":-0.18078614300542661},null,{"$f":"N21","v":2221},{"$f":"COUNTIF(L36:L63,Y21)","v":0},{"$f":"Z21/(AB4-Z20)","v":0},{"$f":"IF(AA21=0,0,(AA21*((LOG(AA21))/LOG(2))))","v":0},null,{"$f":"N21","v":2221},{"$f":"COUNTIF(L64:L92,AD21)","v":0},{"$f":"AE21/(AG4-AE20)","v":0},{"$f":"IF(AF21=0,0,(AF21*((LOG(AF21))/LOG(2))))","v":0},null,{"$f":"N21","v":2221},{"$f":"COUNTIF(L93:L120,AI21)","v":2},{"$f":"AJ21/(AL4-AJ20)","v":0.1111111111111111},{"$f":"IF(AK21=0,0,(AK21*((LOG(AK21))/LOG(2))))","v":-0.3522138890491458},null,{"$f":"N21","v":2221},{"$f":"COUNTIF(L121:L149,AN21)","v":4},{"$f":"AO21/(AQ4-AO20)","v":0.17391304347826086},{"$f":"IF(AP21=0,0,(AP21*((LOG(AP21))/LOG(2))))","v":-0.43888034018382832},null,{"$f":"N21","v":2221},{"$f":"COUNTIF(L150:L177,AS21)","v":4},{"$f":"AT21/(AV4-AT20)","v":0.23529411764705882},{"$f":"IF(AU21=0,0,(AU21*((LOG(AU21))/LOG(2))))","v":-0.49116772735302094}]
[21,2124,12,2133,24,2145,23,2153,null,null,0,2122,null,2222,{"$f":"COUNTIF($L$7:$L$500,N22)","v":24},{"$f":"O22/$Q$4","v":0.14117647058823529},{"$f":"IF(P22=0,0,(P22*((LOG(P22))/LOG(2))))","v":-0.39874283794115939},null,null,{"$f":"N22","v":2222},{"$f":"COUNTIF(L7:L35,T22)","v":0},{"$f":"U22/(W4-U20)","v":0},{"$f":"IF(V22=0,0,(V22*((LOG(V22))/LOG(2))))","v":0},null,{"$f":"N22","v":2222},{"$f":"COUNTIF(L36:L63,Y22)","v":4},{"$f":"Z22/(AB4-Z20)","v":0.15384615384615385},{"$f":"IF(AA22=0,0,(AA22*((LOG(AA22))/LOG(2))))","v":-0.4154522643293988},null,{"$f":"N22","v":2222},{"$f":"COUNTIF(L64:L92,AD22)","v":0},{"$f":"AE22/(AG4-AE20)","v":0},{"$f":"IF(AF22=0,0,(AF22*((LOG(AF22))/LOG(2))))","v":0},null,{"$f":"N22","v":2222},{"$f":"COUNTIF(L93:L120,AI22)","v":2},{"$f":"AJ22/(AL4-AJ20)","v":0.1111111111111111},{"$f":"IF(AK22=0,0,(AK22*((LOG(AK22))/LOG(2))))","v":-0.3522138890491458},null,{"$f":"N22","v":2222},{"$f":"COUNTIF(L121:L149,AN22)","v":12},{"$f":"AO22/(AQ4-AO20)","v":0.52173913043478259},{"$f":"IF(AP22=0,0,(AP22*((LOG(AP22))/LOG(2))))","v":-0.48970406365349045},null,{"$f":"N22","v":2222},{"$f":"COUNTIF(L150:L177,AS22)","v":6},{"$f":"AT22/(AV4-AT20)","v":0.35294117647058826},{"$f":"IF(AU22=0,0,(AU22*((LOG(AU22))/LOG(2))))","v":-0.53029423783382934}]
[21,2254,12,2261,24,2290,23,2298,null,null,0,2122,null,null,null,{"$f":"SUM(P7:P22)","v":1},{"$f":"-SUM(Q7:Q22)","v":3.1113682167793262},null,null,null,null,{"$f":"SUM(V7:V22)","v":1},{"$f":"-SUM(W7:W22)","v":1.9790978911348049},null,null,null,{"$f":"SUM(AA7:AA22)","v":1},{"$f":"-SUM(AB7:AB22)","v":2.5147119710906911},null,null,null,{"$f":"SUM(AF7:AF22)","v":1},{"$f":"-SUM(AG7:AG22)","v":2.67483503096275},null,null,null,{"$f":"SUM(AK7:AK22)","v":1},{"$f":"-SUM(AL7:AL22)","v":2.5032583347756456},null,null,null,{"$f":"SUM(AP7:AP22)","v":1},{"$f":"-SUM(AQ7:AQ22)","v":2.1314076078546709},null,null,null,{"$f":"SUM(AU7:AU22)","v":1},{"$f":"-SUM(AV7:AV22)","v":2.4692407821722844}]
[21,2399,12,2407,24,2421,23,2436,null,null,0,2122,null,null,null,"U=",{"$f":"Q23/(LOG(Q4)/LOG(2))","v":0.41992226400206528},null,null,null,null,"U1=",{"$f":"W23/(LOG(W4)/LOG(2))","v":0.40739103201922539},null,null,null,"U2=",{"$f":"AB23/(LOG(AB4)/LOG(2))","v":0.52309679893873229},null,null,null,"U3=",{"$f":"AG23/(LOG(AG4)/LOG(2))","v":0.55060631847789021},null,null,null,"U4=",{"$f":"AL23/(LOG(AL4)/LOG(2))","v":0.52071427538872495},null,null,null,"U5=",{"$f":"AQ23/(LOG(AQ4)/LOG(2))","v":0.43874350475895585},null,null,null,"U6=",{"$f":"AV23/(LOG(AV4)/LOG(2))","v":0.5193058260681841}]
[21,2537,12,2551,24,2562,23,2574,null,null,0,2122]
[12,2687,23,2697,24,2712,14,2721,null,null,0,1221]
[21,2823,12,2831,24,2844,23,2874,null,null,0,2122,null,"Total Target Seq"]
[12,2988,23,3014,24,3025,23,3037,null,null,0,1222,null,{"$f":"COUNTIF(L7:L177,G3)","v":38},null,29,28,29,28,29,28]
[21,3148,12,3155,24,3170,23,3175,null,null,0,2122,null,null,null,"% of reinforcement given in 6 equal intervals based on number of trials "]
[21,3282,12,3290,24,3302,23,3321,null,null,0,2122,null,null,null,"%_1","%_2","%_3","%_4","%_5","%_6"]
[21,3425,12,3434,24,3450,23,3460,null,null,0,2122,null,null,"target sequence",{"$f":"$G$3","v":2212},{"$f":"$G$3","v":2212},{"$f":"$G$3","v":2212},{"$f":"$G$3","v":2212},{"$f":"$G$3","v":2212},{"$f":"$G$3","v":2212}]
[21,3560,12,3567,24,3582,23,3593,null,null,0,2122,null,null,"total reinforcement",{"$f":"U20","v":3},{"$f":"Z20","v":2},{"$f":"AE20","v":7},{"$f":"AJ20","v":10},{"$f":"AO20","v":6},{"$f":"AT20","v":10}]
[21,3694,21,3698,11,3707,21,3722,null,null,0,2212,null,null,"% target"]
[21,3812,12,3819,24,3839,23,3846,null,null,0,2122,null,null,"CCRF"]
[21,3946,12,3952,24,3965,23,3982,null,null,0,2122,null,null,"% CCRf"]
[21,4080,12,4095,13,4119,23,4131,null,null,0,2112,null,null,"average response rate",{"$f":"H35/P28","v":137.31034482758622},{"$f":"(H63-H35)/Q28","v":139.28571428571428},{"$f":"(H92-H63)/R28","v":144.20689655172413},{"$f":"(H120-H92)/S28","v":142},{"$f":"(H149-H120)/T28","v":138.93103448275863},{"$f":"(H177-H149)/U28","v":-716.75}]
[21,4235,12,4244,24,4255,23,4262,null,null,0,2122]
[21,4359,21,4366,11,4375,21,4395,null,null,0,2212]
[21,4484,12,4491,24,4507,14,4527,null,null,0,2121]
[21,4622,21,4629,22,4634,23,4639,null,null,0,2222]
[21,4737,12,4746,24,4759,23,4769,null,null,0,2122]
[21,4872,21,4877,22,4885,23,4892,null,null,0,2222]
[21,4993,12,5001,24,5025,23,5037,null,null,0,2122]
[21,5134,21,5142,22,5158,23,5163,null,null,0,2222]
[21,5260,21,5273,22,5278,23,5285,null,null,0,2222]
[21,5390,12,5398,24,5407,23,5422,null,null,0,2122]
[21,5518,12,5534,24,5558,23,5564,null,null,0,2122]
[21,5661,12,5677,24,5692,23,5701,null,null,0,2122]
[21,5800,12,5807,13,5828,23,5843,null,null,0,2112]
[21,5942,12,5950,13,5958,23,5980,null,null,0,2112]
[21,6078,12,6095,24,6139,23,6155,null,null,0,2122]
[21,6254,12,6271,24,6289,23,6294,null,null,0,2122]
[12,6401,14,6409,24,6431,23,6454,null,null,0,1122]
[21,6553,12,6582,24,6597,23,6620,null,null,0,2122]
[21,6719,21,6741,11,6750,21,6759,null,null,0,2212]
[12,6864,23,6881,24,6891,14,6901,null,null,0,1221]
[12,7008,14,7017,13,7025,14,7056,null,null,0,1111]
[21,7153,12,7160,24,7171,14,7181,null,null,0,2121]
[21,7280,12,7286,24,7317,23,7322,null,null,0,2122]
[21,7424,12,7434,13,7442,14,7461,null,null,0,2111]
[21,7549,12,7560,13,7579,23,7594,null,null,0,2112]
[21,7695,12,7704,13,7712,23,7727,null,null,0,2112]
[12,7827,14,7861,24,7869,23,7882,null,null,0,1122]
[21,7988,12,8006,24,8026,23,8042,null,null,0,2122]
[21,8140,12,8155,24,8175,23,8180,null,null,0,2122]
[21,8277,12,8288,13,8296,14,8311,null,null,0,2111]
[21,8408,21,8412,11,8419,21,8454,null,null,0,2212]
[12,8552,14,8569,24,8597,23,8604,null,null,0,1122]
[21,8701,12,8712,13,8720,23,8737,null,null,0,2112]
[21,8833,21,8843,11,8850,12,8881,null,null,0,2211]
[21,8970,12,9006,24,9026,23,9042,null,null,0,2122]
[21,9138,21,9148,11,9155,12,9176,null,null,0,2211]
[21,9273,21,9280,11,9288,21,9307,null,null,0,2212]
[21,9397,12,9404,13,9412,23,9427,null,null,0,2112]
[21,9523,12,9537,13,9545,23,9557,null,null,0,2112]
[21,9654,12,9669,13,9680,23,9697,null,null,0,2112]
[21,9799,12,9806,24,9836,14,9846,null,null,0,2121]
[21,9945,12,9953,13,9961,23,9978,null,null,0,2112]
[21,10074,21,10086,11,10095,21,10123,null,null,0,2212]
[21,10212,12,10225,13,10247,23,10267,null,null,0,2112]
[21,10366,12,10378,24,10393,14,10400,null,null,0,2121]
[12,10501,14,10508,13,10512,14,10523,null,null,0,1111]
[21,10628,12,10637,24,10666,23,10674,null,null,0,2122]
[21,10779,12,10788,24,10810,23,10815,null,null,0,2122]
[21,10916,21,10925,11,10932,21,10948,null,null,0,2212]
[12,11060,14,11075,13,11094,14,11122,null,null,0,1111]
[21,11223,21,11235,11,11242,21,11260,null,null,0,2212]
[21,11349,12,11357,13,11364,23,11377,null,null,0,2112]
[21,11479,21,11486,11,11492,21,11505,null,null,0,2212]
[21,11612,21,11617,11,11624,21,11635,null,null,0,2212]
[12,11741,14,11781,24,11802,23,11809,null,null,0,1122]
[12,11943,23,11957,24,11965,14,12064,null,null,0,1221]
[21,12160,21,12164,22,12187,23,12202,null,null,0,2222]
[21,12299,21,12305,11,12312,21,12352,null,null,0,2212]
[21,12478,12,12485,24,12492,23,12507,null,null,0,2122]
[21,12603,21,12620,11,12626,21,12652,null,null,0,2212]
[21,12742,12,12749,13,12760,14,12797,null,null,0,2111]
[21,12894,12,12912,24,12931,23,12944,null,null,0,2122]
[21,13047,21,13061,11,13069,21,13087,null,null,0,2212]
[21,13175,12,13202,24,13232,23,13260,null,null,0,2122]
[21,13367,12,13375,24,13387,23,13394,null,null,0,2122]
[21,13492,21,13496,11,13503,12,13511,null,null,0,2211]
[21,13614,12,13621,24,13647,23,13657,null,null,0,2122]
[21,13757,12,13763,24,13785,23,13791,null,null,0,2122]
[21,13891,21,13899,11,13905,21,13931,null,null,0,2212]
[21,14020,12,14031,24,14055,14,14064,null,null,0,2121]
[21,14163,21,14170,11,14178,21,14189,null,null,0,2212]
[21,14277,21,14284,11,14291,21,14311,null,null,0,2212]
[12,14452,23,14499,24,14507,23,14513,null,null,0,1222]
[21,14617,21,14629,22,14641,23,14660,null,null,0,2222]
[21,14765,12,14776,13,14796,23,14820,null,null,0,2112]
[21,14917,21,14938,11,14945,21,14981,null,null,0,2212]
[21,15069,12,15077,13,15084,14,15102,null,null,0,2111]
[21,15199,21,15210,22,15214,14,15221,null,null,0,2221]
[21,15321,21,15327,11,15334,21,15349,null,null,0,2212]
[21,15436,12,15467,24,15489,23,15497,null,null,0,2122]
[21,15599,21,15620,11,15627,21,15639,null,null,0,2212]
[21,15727,12,15767,24,15778,23,15796,null,null,0,2122]
[21,15893,21,15896,22,15904,14,15911,null,null,0,2221]
[21,16008,21,16020,11,16027,21,16040,null,null,0,2212]
[21,16131,12,16140,13,16170,14,16188,null,null,0,2111]
[21,16287,21,16298,22,16302,23,16309,null,null,0,2222]
[21,16406,21,16417,11,16426,21,16458,null,null,0,2212]
[12,16572,14,16594,24,16617,23,16630,null,null,0,1122]
[21,16731,21,16746,22,16750,23,16757,null,null,0,2222]
[21,16875,12,16883,24,16897,14,16905,null,null,0,2121]
[21,17002,21,17006,22,17017,23,17024,null,null,0,2222]
[21,17121,21,17143,22,17157,14,17166,null,null,0,2221]
[21,17263,21,17271,11,17281,21,17291,null,null,0,2212]
[12,17468,23,17501,24,17508,14,17517,null,null,0,1221]
[21,17614,21,17633,22,17646,23,17651,null,null,0,2222]
[21,17747,21,17751,22,17787,14,17794,null,null,0,2221]
[21,17897,21,17905,11,17915,21,17937,null,null,0,2212]
[21,18024,21,18032,11,18038,21,18058,null,null,0,2212]
[21,18163,12,18171,24,18190,14,18200,null,null,0,2121]
[21,18302,21,18306,22,18317,14,18326,null,null,0,2221]
[21,18421,21,18425,22,18434,23,18455,null,null,0,2222]
[21,18552,21,18557,22,18562,23,18582,null,null,0,2222]
[21,18677,21,18684,22,18688,23,18699,null,null,0,2222]
[21,18798,21,18808,11,18817,21,18829,null,null,0,2212]
[21,18920,12,18948,24,18975,23,18981,null,null,0,2122]
[21,19078,21,19082,22,19104,23,19118,null,null,0,2222]
[21,19223,21,19227,22,19236,23,19246,null,null,0,2222]
[21,19343,21,19351,22,19360,14,19368,null,null,0,2221]
[21,19465,21,19469,22,19484,23,19491,null,null,0,2222]
[21,19587,21,19602,22,19608,23,19617,null,null,0,2222]
[21,19714,21,19718,22,19723,23,19730,null,null,0,2222]
[21,19826,21,19841,11,19849,21,19887,null,null,0,2212]
[12,19989,14,20011,24,20060,23,20069,null,null,0,1122]
[21,20174,12,20184,24,20204,14,20214,null,null,0,2121]
[21,20312,21,20320,11,20329,21,20368,null,null,0,2212]
[21,20462,21,20475,11,20485,12,20530,null,null,0,2211]
[21,20645,21,20675,22,20699,14,20708,null,null,0,2221]
[21,20810,21,20818,11,20828,21,20861,null,null,0,2212]
[21,20955,12,20964,24,20981,14,20990,null,null,0,2121]
[21,21090,12,21101,13,21111,23,21127,null,null,0,2112]
[21,21225,21,21236,11,21245,21,21282,null,null,0,2212]
[12,21408,23,21423,24,21454,14,21464,null,null,0,1221]
[21,21561,21,21569,22,21597,23,21602,null,null,0,2222]
[21,21699,21,21706,11,21715,21,21727,null,null,0,2212]
[21,21822,12,21834,24,21874,23,21878,null,null,0,2122]
[21,21980,21,21986,11,22000,21,22011,null,null,0,2212]
[21,22099,21,22122,11,22139,21,22173,null,null,0,2212]
[21,22268,21,22282,11,22291,21,22314,null,null,0,2212]
[21,22405,21,22422,22,22438,14,22446,null,null,0,2221]
[21,22544,21,22549,22,22561,23,22577,null,null,0,2222]
[21,22673,21,22677,22,22697,14,22707,null,null,0,2221]
[21,22808,21,22815,11,22822,21,22833,null,null,0,2212]
[21,22920,21,22925,22,22929,14,22938,null,null,0,2221]
[21,23035,21,23039,22,23054,23,23063,null,null,0,2222]
[21,23160,21,23163,22,23184,23,23204,null,null,0,2222]
[21,23301,21,23306,22,23311,23,23333,null,null,0,2222]
[21,23430,21,23447,11,23456,21,23469,null,null,0,2212]
[21,23561,12,23571,13,23580,23,23598,null,null,0,2112]
[21,23694,21,23700,22,23712,23,23724,null,null,0,2222]
[21,23824,21,23840,11,23849,21,23876,null,null,0,2212]
[21,23967,12,23990,null,null,null,null,null,null,null,21]

{"sheet":"!MB02B50.096","index":20,"n_rows":132,"n_cols":48,"rows_kept":132,"cut":false,"hidden":false,"merged":[[4,39,4,42],[5,39,5,40],[4,44,4,47],[5,44,5,45],[4,24,4,27],[5,24,5,25],[4,29,4,32],[5,29,5,30],[4,34,4,37],[5,34,5,35],[1,1,1,2],[5,13,5,14],[26,13,26,14],[27,13,27,14],[4,19,4,22],[5,19,5,20]]}
["Report for:!MB02B50.096"]
["Date:","<date>"]
["Hen:","<hen>",null,null,null,"Correct Sequence",{"$f":"Start!J2","v":2212},null,null,null,null,null,null,null,null,"Total Sequences in Data",{"$f":"4994-COUNTBLANK(L7:L5000)","v":126},null,null,null,null,"Total Sequences in Block Data",{"$f":"COUNTA(L7:L27)","v":21},null,null,null,"Total Sequences in Block Data",{"$f":"COUNTA(L28:L48)","v":21},null,null,null,"Total Sequences in Block Data",{"$f":"COUNTA(L49:L69)","v":21},null,null,null,"Total Sequences in Block Data",{"$f":"COUNTA(L70:L90)","v":21},null,null,null,"Total Sequences in Block Data",{"$f":"COUNTA(L91:L111)","v":21},null,null,null,"Total Sequences in Block Data",{"$f":"COUNTA(L112:L132)","v":21}]
[null,null,null,null,null,null,null,null,null,null,null,null,null,null,null,"Total Sequences in Summary",{"$f":"SUM(O7:O22)","v":126},null,null,null,null,"Total Sequences in Block Summary",{"$f":"SUM(U7:U22)","v":21},null,null,null,"Total Sequences in Block Summary",{"$f":"SUM(Z7:Z22)","v":21},null,null,null,"Total Sequences in Block Summary",{"$f":"SUM(AE7:AE22)","v":21},null,null,null,"Total Sequences in Block Summary",{"$f":"SUM(AJ7:AJ22)","v":21},null,null,null,"Total Sequences in Block Summary",{"$f":"SUM(AO7:AO22)","v":21},null,null,null,"Total Sequences in Block Summary",{"$f":"SUM(AT7:AT22)","v":21}]
[null,null,null,null,null,null,null,null,null,null,null,null,null,null,null,null,null,null,null,"Block 1",null,null,null,null,"Block 2",null,null,null,null,"Block 3",null,null,null,null,"Block 4",null,null,null,null,"Block 5",null,null,null,null,"Block 6"]
["Sequence\nComponent\n1","Time\n1","Sequence\nComponent\n2","Time\n2","Sequence\nComponent\n3","Time\n3","Sequence\nComponent\n4","Time\n4","Sequence\nComponent\n5","Time\n5","Correct?\n0=No 1=Yes","Sequence",null,"Frequency",null,"Relative Frequency","Variability",null,null,"Frequency",null,"Relative Frequency","Variability",null,"Frequency",null,"Relative Frequency","Variability",null,"Frequency",null,"Relative Frequency","Variability",null,"Frequency",null,"Relative Frequency","Variability",null,"Frequency",null,"Relative Frequency","Variability",null,"Frequency",null,"Relative Frequency","Variability"]
[12,6,23,27,24,35,14,45,null,null,0,1221,null,1111,{"$f":"COUNTIF($L$7:$L$500,N7)","v":2},{"$f":"O7/$Q$4","v":1.5873015873015872E-2},{"$f":"IF(P7=0,0,(P7*((LOG(P7))/LOG(2))))","v":-9.4877459103173273E-2},null,null,{"$f":"N7","v":1111},{"$f":"COUNTIF(L7:L27,T7)","v":2},{"$f":"U7/(W4-U20)","v":0.11764705882352941},{"$f":"IF(V7=0,0,(V7*((LOG(V7))/LOG(2))))","v":-0.36323092250003997},null,{"$f":"N7","v":1111},{"$f":"COUNTIF(L28:L48,Y7)","v":0},{"$f":"Z7/(AB4-Z20)","v":0},{"$f":"IF(AA7=0,0,(AA7*((LOG(AA7))/LOG(2))))","v":0},null,{"$f":"N7","v":1111},{"$f":"COUNTIF(L49:L69,AD7)","v":0},{"$f":"AE7/(AG4-AE20)","v":0},{"$f":"IF(AF7=0,0,(AF7*((LOG(AF7))/LOG(2))))","v":0},null,{"$f":"N7","v":1111},{"$f":"COUNTIF(L70:L90,AI7)","v":0},{"$f":"AJ7/(AL4-AJ20)","v":0},{"$f":"IF(AK7=0,0,(AK7*((LOG(AK7))/LOG(2))))","v":0},null,{"$f":"N7","v":1111},{"$f":"COUNTIF(L91:L111,AN7)","v":0},{"$f":"AO7/(AQ4-AO20)","v":0},{"$f":"IF(AP7=0,0,(AP7*((LOG(AP7))/LOG(2))))","v":0},null,{"$f":"N7","v":1111},{"$f":"COUNTIF(L112:L132,AS7)","v":0},{"$f":"AT7/(AV4-AT20)","v":0},{"$f":"IF(AU7=0,0,(AU7*((LOG(AU7))/LOG(2))))","v":0}]
[21,141,12,152,13,172,23,180,null,null,0,2112,null,1112,{"$f":"COUNTIF($L$7:$L$500,N8)","v":1},{"$f":"O8/$Q$4","v":7.9365079365079361E-3},{"$f":"IF(P8=0,0,(P8*((LOG(P8))/LOG(2))))","v":-5.5375237488094572E-2},null,null,{"$f":"N8","v":1112},{"$f":"COUNTIF(L7:L27,T8)","v":1},{"$f":"U8/(W4-U20)","v":5.8823529411764705E-2},{"$f":"IF(V8=0,0,(V8*((LOG(V8))/LOG(2))))","v":-0.24043899066178465},null,{"$f":"N8","v":1112},{"$f":"COUNTIF(L28:L48,Y8)","v":0},{"$f":"Z8/(AB4-Z20)","v":0},{"$f":"IF(AA8=0,0,(AA8*((LOG(AA8))/LOG(2))))","v":0},null,{"$f":"N8","v":1112},{"$f":"COUNTIF(L49:L69,AD8)","v":0},{"$f":"AE8/(AG4-AE20)","v":0},{"$f":"IF(AF8=0,0,(AF8*((LOG(AF8))/LOG(2))))","v":0},null,{"$f":"N8","v":1112},{"$f":"COUNTIF(L70:L90,AI8)","v":0},{"$f":"AJ8/(AL4-AJ20)","v":0},{"$f":"IF(AK8=0,0,(AK8*((LOG(AK8))/LOG(2))))","v":0},null,{"$f":"N8","v":1112},{"$f":"COUNTIF(L91:L111,AN8)","v":0},{"$f":"AO8/(AQ4-AO20)","v":0},{"$f":"IF(AP8=0,0,(AP8*((LOG(AP8))/LOG(2))))","v":0},null,{"$f":"N8","v":1112},{"$f":"COUNTIF(L112:L132,AS8)","v":0},{"$f":"AT8/(AV4-AT20)","v":0},{"$f":"IF(AU8=0,0,(AU8*((LOG(AU8))/LOG(2))))","v":0}]
[12,283,23,295,24,307,14,316,null,null,0,1221,null,1121,{"$f":"COUNTIF($L$7:$L$500,N9)","v":0},{"$f":"O9/$Q$4","v":0},{"$f":"IF(P9=0,0,(P9*((LOG(P9))/LOG(2))))","v":0},null,null,{"$f":"N9","v":1121},{"$f":"COUNTIF(L7:L27,T9)","v":0},{"$f":"U9/(W4-U20)","v":0},{"$f":"IF(V9=0,0,(V9*((LOG(V9))/LOG(2))))","v":0},null,{"$f":"N9","v":1121},{"$f":"COUNTIF(L28:L48,Y9)","v":0},{"$f":"Z9/(AB4-Z20)","v":0},{"$f":"IF(AA9=0,0,(AA9*((LOG(AA9))/LOG(2))))","v":0},null,{"$f":"N9","v":1121},{"$f":"COUNTIF(L49:L69,AD9)","v":0},{"$f":"AE9/(AG4-AE20)","v":0},{"$f":"IF(AF9=0,0,(AF9*((LOG(AF9))/LOG(2))))","v":0},null,{"$f":"N9","v":1121},{"$f":"COUNTIF(L70:L90,AI9)","v":0},{"$f":"AJ9/(AL4-AJ20)","v":0},{"$f":"IF(AK9=0,0,(AK9*((LOG(AK9))/LOG(2))))","v":0},null,{"$f":"N9","v":1121},{"$f":"COUNTIF(L91:L111,AN9)","v":0},{"$f":"AO9/(AQ4-AO20)","v":0},{"$f":"IF(AP9=0,0,(AP9*((LOG(AP9))/LOG(2))))","v":0},null,{"$f":"N9","v":1121},{"$f":"COUNTIF(L112:L132,AS9)","v":0},{"$f":"AT9/(AV4-AT20)","v":0},{"$f":"IF(AU9=0,0,(AU9*((LOG(AU9))/LOG(2))))","v":0}]
[21,419,12,428,24,436,23,487,null,null,0,2122,null,1122,{"$f":"COUNTIF($L$7:$L$500,N10)","v":3},{"$f":"O10/$Q$4","v":2.3809523809523808E-2},{"$f":"IF(P10=0,0,(P10*((LOG(P10))/LOG(2))))","v":-0.12838851006616095},null,null,{"$f":"N10","v":1122},{"$f":"COUNTIF(L7:L27,T10)","v":1},{"$f":"U10/(W4-U20)","v":5.8823529411764705E-2},{"$f":"IF(V10=0,0,(V10*((LOG(V10))/LOG(2))))","v":-0.24043899066178465},null,{"$f":"N10","v":1122},{"$f":"COUNTIF(L28:L48,Y10)","v":0},{"$f":"Z10/(AB4-Z20)","v":0},{"$f":"IF(AA10=0,0,(AA10*((LOG(AA10))/LOG(2))))","v":0},null,{"$f":"N10","v":1122},{"$f":"COUNTIF(L49:L69,AD10)","v":1},{"$f":"AE10/(AG4-AE20)","v":7.6923076923076927E-2},{"$f":"IF(AF10=0,0,(AF10*((LOG(AF10))/LOG(2))))","v":-0.28464920908777636},null,{"$f":"N10","v":1122},{"$f":"COUNTIF(L70:L90,AI10)","v":0},{"$f":"AJ10/(AL4-AJ20)","v":0},{"$f":"IF(AK10=0,0,(AK10*((LOG(AK10))/LOG(2))))","v":0},null,{"$f":"N10","v":1122},{"$f":"COUNTIF(L91:L111,AN10)","v":0},{"$f":"AO10/(AQ4-AO20)","v":0},{"$f":"IF(AP10=0,0,(AP10*((LOG(AP10))/LOG(2))))","v":0},null,{"$f":"N10","v":1122},{"$f":"COUNTIF(L112:L132,AS10)","v":1},{"$f":"AT10/(AV4-AT20)","v":8.3333333333333329E-2},{"$f":"IF(AU10=0,0,(AU10*((LOG(AU10))/LOG(2))))","v":-0.29874687506009634}]
[21,588,21,592,11,601,12,625,null,null,0,2211,null,1211,{"$f":"COUNTIF($L$7:$L$500,N11)","v":0},{"$f":"O11/$Q$4","v":0},{"$f":"IF(P11=0,0,(P11*((LOG(P11))/LOG(2))))","v":0},null,null,{"$f":"N11","v":1211},{"$f":"COUNTIF(L7:L27,T11)","v":0},{"$f":"U11/(W4-U20)","v":0},{"$f":"IF(V11=0,0,(V11*((LOG(V11))/LOG(2))))","v":0},null,{"$f":"N11","v":1211},{"$f":"COUNTIF(L28:L48,Y11)","v":0},{"$f":"Z11/(AB4-Z20)","v":0},{"$f":"IF(AA11=0,0,(AA11*((LOG(AA11))/LOG(2))))","v":0},null,{"$f":"N11","v":1211},{"$f":"COUNTIF(L49:L69,AD11)","v":0},{"$f":"AE11/(AG4-AE20)","v":0},{"$f":"IF(AF11=0,0,(AF11*((LOG(AF11))/LOG(2))))","v":0},null,{"$f":"N11","v":1211},{"$f":"COUNTIF(L70:L90,AI11)","v":0},{"$f":"AJ11/(AL4-AJ20)","v":0},{"$f":"IF(AK11=0,0,(AK11*((LOG(AK11))/LOG(2))))","v":0},null,{"$f":"N11","v":1211},{"$f":"COUNTIF(L91:L111,AN11)","v":0},{"$f":"AO11/(AQ4-AO20)","v":0},{"$f":"IF(AP11=0,0,(AP11*((LOG(AP11))/LOG(2))))","v":0},null,{"$f":"N11","v":1211},{"$f":"COUNTIF(L112:L132,AS11)","v":0},{"$f":"AT11/(AV4-AT20)","v":0},{"$f":"IF(AU11=0,0,(AU11*((LOG(AU11))/LOG(2))))","v":0}]
[12,722,14,727,13,732,14,741,null,null,0,1111,null,1212,{"$f":"COUNTIF($L$7:$L$500,N12)","v":2},{"$f":"O12/$Q$4","v":1.5873015873015872E-2},{"$f":"IF(P12=0,0,(P12*((LOG(P12))/LOG(2))))","v":-9.4877459103173273E-2},null,null,{"$f":"N12","v":1212},{"$f":"COUNTIF(L7:L27,T12)","v":0},{"$f":"U12/(W4-U20)","v":0},{"$f":"IF(V12=0,0,(V12*((LOG(V12))/LOG(2))))","v":0},null,{"$f":"N12","v":1212},{"$f":"COUNTIF(L28:L48,Y12)","v":2},{"$f":"Z12/(AB4-Z20)","v":0.13333333333333333},{"$f":"IF(AA12=0,0,(AA12*((LOG(AA12))/LOG(2))))","v":-0.3875854127478025},null,{"$f":"N12","v":1212},{"$f":"COUNTIF(L49:L69,AD12)","v":0},{"$f":"AE12/(AG4-AE20)","v":0},{"$f":"IF(AF12=0,0,(AF12*((LOG(AF12))/LOG(2))))","v":0},null,{"$f":"N12","v":1212},{"$f":"COUNTIF(L70:L90,AI12)","v":0},{"$f":"AJ12/(AL4-AJ20)","v":0},{"$f":"IF(AK12=0,0,(AK12*((LOG(AK12))/LOG(2))))","v":0},null,{"$f":"N12","v":1212},{"$f":"COUNTIF(L91:L111,AN12)","v":0},{"$f":"AO12/(AQ4-AO20)","v":0},{"$f":"IF(AP12=0,0,(AP12*((LOG(AP12))/LOG(2))))","v":0},null,{"$f":"N12","v":1212},{"$f":"COUNTIF(L112:L132,AS12)","v":0},{"$f":"AT12/(AV4-AT20)","v":0},{"$f":"IF(AU12=0,0,(AU12*((LOG(AU12))/LOG(2))))","v":0}]
[21,836,12,845,24,855,14,873,null,null,0,2121,null,1221,{"$f":"COUNTIF($L$7:$L$500,N13)","v":2},{"$f":"O13/$Q$4","v":1.5873015873015872E-2},{"$f":"IF(P13=0,0,(P13*((LOG(P13))/LOG(2))))","v":-9.4877459103173273E-2},null,null,{"$f":"N13","v":1221},{"$f":"COUNTIF(L7:L27,T13)","v":2},{"$f":"U13/(W4-U20)","v":0.11764705882352941},{"$f":"IF(V13=0,0,(V13*((LOG(V13))/LOG(2))))","v":-0.36323092250003997},null,{"$f":"N13","v":1221},{"$f":"COUNTIF(L28:L48,Y13)","v":0},{"$f":"Z13/(AB4-Z20)","v":0},{"$f":"IF(AA13=0,0,(AA13*((LOG(AA13))/LOG(2))))","v":0},null,{"$f":"N13","v":1221},{"$f":"COUNTIF(L49:L69,AD13)","v":0},{"$f":"AE13/(AG4-AE20)","v":0},{"$f":"IF(AF13=0,0,(AF13*((LOG(AF13))/LOG(2))))","v":0},null,{"$f":"N13","v":1221},{"$f":"COUNTIF(L70:L90,AI13)","v":0},{"$f":"AJ13/(AL4-AJ20)","v":0},{"$f":"IF(AK13=0,0,(AK13*((LOG(AK13))/LOG(2))))","v":0},null,{"$f":"N13","v":1221},{"$f":"COUNTIF(L91:L111,AN13)","v":0},{"$f":"AO13/(AQ4-AO20)","v":0},{"$f":"IF(AP13=0,0,(AP13*((LOG(AP13))/LOG(2))))","v":0},null,{"$f":"N13","v":1221},{"$f":"COUNTIF(L112:L132,AS13)","v":0},{"$f":"AT13/(AV4-AT20)","v":0},{"$f":"IF(AU13=0,0,(AU13*((LOG(AU13))/LOG(2))))","v":0}]
[21,972,21,984,22,996,23,1009,null,null,0,2222,null,1222,{"$f":"COUNTIF($L$7:$L$500,N14)","v":1},{"$f":"O14/$Q$4","v":7.9365079365079361E-3},{"$f":"IF(P14=0,0,(P14*((LOG(P14))/LOG(2))))","v":-5.5375237488094572E-2},null,null,{"$f":"N14","v":1222},{"$f":"COUNTIF(L7:L27,T14)","v":1},{"$f":"U14/(W4-U20)","v":5.8823529411764705E-2},{"$f":"IF(V14=0,0,(V14*((LOG(V14))/LOG(2))))","v":-0.24043899066178465},null,{"$f":"N14","v":1222},{"$f":"COUNTIF(L28:L48,Y14)","v":0},{"$f":"Z14/(AB4-Z20)","v":0},{"$f":"IF(AA14=0,0,(AA14*((LOG(AA14))/LOG(2))))","v":0},null,{"$f":"N14","v":1222},{"$f":"COUNTIF(L49:L69,AD14)","v":0},{"$f":"AE14/(AG4-AE20)","v":0},{"$f":"IF(AF14=0,0,(AF14*((LOG(AF14))/LOG(2))))","v":0},null,{"$f":"N14","v":1222},{"$f":"COUNTIF(L70:L90,AI14)","v":0},{"$f":"AJ14/(AL4-AJ20)","v":0},{"$f":"IF(AK14=0,0,(AK14*((LOG(AK14))/LOG(2))))","v":0},null,{"$f":"N14","v":1222},{"$f":"COUNTIF(L91:L111,AN14)","v":0},{"$f":"AO14/(AQ4-AO20)","v":0},{"$f":"IF(AP14=0,0,(AP14*((LOG(AP14))/LOG(2))))","v":0},null,{"$f":"N14","v":1222},{"$f":"COUNTIF(L112:L132,AS14)","v":0},{"$f":"AT14/(AV4-AT20)","v":0},{"$f":"IF(AU14=0,0,(AU14*((LOG(AU14))/LOG(2))))","v":0}]
[12,1108,14,1125,13,1155,23,1183,null,null,0,1112,null,2111,{"$f":"COUNTIF($L$7:$L$500,N15)","v":1},{"$f":"O15/$Q$4","v":7.9365079365079361E-3},{"$f":"IF(P15=0,0,(P15*((LOG(P15))/LOG(2))))","v":-5.5375237488094572E-2},null,null,{"$f":"N15","v":2111},{"$f":"COUNTIF(L7:L27,T15)","v":1},{"$f":"U15/(W4-U20)","v":5.8823529411764705E-2},{"$f":"IF(V15=0,0,(V15*((LOG(V15))/LOG(2))))","v":-0.24043899066178465},null,{"$f":"N15","v":2111},{"$f":"COUNTIF(L28:L48,Y15)","v":0},{"$f":"Z15/(AB4-Z20)","v":0},{"$f":"IF(AA15=0,0,(AA15*((LOG(AA15))/LOG(2))))","v":0},null,{"$f":"N15","v":2111},{"$f":"COUNTIF(L49:L69,AD15)","v":0},{"$f":"AE15/(AG4-AE20)","v":0},{"$f":"IF(AF15=0,0,(AF15*((LOG(AF15))/LOG(2))))","v":0},null,{"$f":"N15","v":2111},{"$f":"COUNTIF(L70:L90,AI15)","v":0},{"$f":"AJ15/(AL4-AJ20)","v":0},{"$f":"IF(AK15=0,0,(AK15*((LOG(AK15))/LOG(2))))","v":0},null,{"$f":"N15","v":2111},{"$f":"COUNTIF(L91:L111,AN15)","v":0},{"$f":"AO15/(AQ4-AO20)","v":0},{"$f":"IF(AP15=0,0,(AP15*((LOG(AP15))/LOG(2))))","v":0},null,{"$f":"N15","v":2111},{"$f":"COUNTIF(L112:L132,AS15)","v":0},{"$f":"AT15/(AV4-AT20)","v":0},{"$f":"IF(AU15=0,0,(AU15*((LOG(AU15))/LOG(2))))","v":0}]
[21,1288,21,1292,11,1301,21,1310,null,null,0,2212,null,2112,{"$f":"COUNTIF($L$7:$L$500,N16)","v":8},{"$f":"O16/$Q$4","v":6.3492063492063489E-2},{"$f":"IF(P16=0,0,(P16*((LOG(P16))/LOG(2))))","v":-0.25252570942856611},null,null,{"$f":"N16","v":2112},{"$f":"COUNTIF(L7:L27,T16)","v":2},{"$f":"U16/(W4-U20)","v":0.11764705882352941},{"$f":"IF(V16=0,0,(V16*((LOG(V16))/LOG(2))))","v":-0.36323092250003997},null,{"$f":"N16","v":2112},{"$f":"COUNTIF(L28:L48,Y16)","v":1},{"$f":"Z16/(AB4-Z20)","v":6.6666666666666666E-2},{"$f":"IF(AA16=0,0,(AA16*((LOG(AA16))/LOG(2))))","v":-0.26045937304056793},null,{"$f":"N16","v":2112},{"$f":"COUNTIF(L49:L69,AD16)","v":1},{"$f":"AE16/(AG4-AE20)","v":7.6923076923076927E-2},{"$f":"IF(AF16=0,0,(AF16*((LOG(AF16))/LOG(2))))","v":-0.28464920908777636},null,{"$f":"N16","v":2112},{"$f":"COUNTIF(L70:L90,AI16)","v":2},{"$f":"AJ16/(AL4-AJ20)","v":0.13333333333333333},{"$f":"IF(AK16=0,0,(AK16*((LOG(AK16))/LOG(2))))","v":-0.3875854127478025},null,{"$f":"N16","v":2112},{"$f":"COUNTIF(L91:L111,AN16)","v":0},{"$f":"AO16/(AQ4-AO20)","v":0},{"$f":"IF(AP16=0,0,(AP16*((LOG(AP16))/LOG(2))))","v":0},null,{"$f":"N16","v":2112},{"$f":"COUNTIF(L112:L132,AS16)","v":2},{"$f":"AT16/(AV4-AT20)","v":0.16666666666666666},{"$f":"IF(AU16=0,0,(AU16*((LOG(AU16))/LOG(2))))","v":-0.43082708345352599}]
[21,1407,12,1414,24,1435,23,1446,null,null,0,2122,null,2121,{"$f":"COUNTIF($L$7:$L$500,N17)","v":8},{"$f":"O17/$Q$4","v":6.3492063492063489E-2},{"$f":"IF(P17=0,0,(P17*((LOG(P17))/LOG(2))))","v":-0.25252570942856611},null,null,{"$f":"N17","v":2121},{"$f":"COUNTIF(L7:L27,T17)","v":1},{"$f":"U17/(W4-U20)","v":5.8823529411764705E-2},{"$f":"IF(V17=0,0,(V17*((LOG(V17))/LOG(2))))","v":-0.24043899066178465},null,{"$f":"N17","v":2121},{"$f":"COUNTIF(L28:L48,Y17)","v":0},{"$f":"Z17/(AB4-Z20)","v":0},{"$f":"IF(AA17=0,0,(AA17*((LOG(AA17))/LOG(2))))","v":0},null,{"$f":"N17","v":2121},{"$f":"COUNTIF(L49:L69,AD17)","v":3},{"$f":"AE17/(AG4-AE20)","v":0.23076923076923078},{"$f":"IF(AF17=0,0,(AF17*((LOG(AF17))/LOG(2))))","v":-0.48818705017383146},null,{"$f":"N17","v":2121},{"$f":"COUNTIF(L70:L90,AI17)","v":1},{"$f":"AJ17/(AL4-AJ20)","v":6.6666666666666666E-2},{"$f":"IF(AK17=0,0,(AK17*((LOG(AK17))/LOG(2))))","v":-0.26045937304056793},null,{"$f":"N17","v":2121},{"$f":"COUNTIF(L91:L111,AN17)","v":2},{"$f":"AO17/(AQ4-AO20)","v":0.14285714285714285},{"$f":"IF(AP17=0,0,(AP17*((LOG(AP17))/LOG(2))))","v":-0.40105070315108626},null,{"$f":"N17","v":2121},{"$f":"COUNTIF(L112:L132,AS17)","v":1},{"$f":"AT17/(AV4-AT20)","v":8.3333333333333329E-2},{"$f":"IF(AU17=0,0,(AU17*((LOG(AU17))/LOG(2))))","v":-0.29874687506009634}]
[21,1549,12,1560,13,1565,23,1585,null,null,0,2112,null,2122,{"$f":"COUNTIF($L$7:$L$500,N18)","v":22},{"$f":"O18/$Q$4","v":0.17460317460317459},{"$f":"IF(P18=0,0,(P18*((LOG(P18))/LOG(2))))","v":-0.43962430719823503},null,null,{"$f":"N18","v":2122},{"$f":"COUNTIF(L7:L27,T18)","v":3},{"$f":"U18/(W4-U20)","v":0.17647058823529413},{"$f":"IF(V18=0,0,(V18*((LOG(V18))/LOG(2))))","v":-0.44161770715220888},null,{"$f":"N18","v":2122},{"$f":"COUNTIF(L28:L48,Y18)","v":4},{"$f":"Z18/(AB4-Z20)","v":0.26666666666666666},{"$f":"IF(AA18=0,0,(AA18*((LOG(AA18))/LOG(2))))","v":-0.50850415882893829},null,{"$f":"N18","v":2122},{"$f":"COUNTIF(L49:L69,AD18)","v":6},{"$f":"AE18/(AG4-AE20)","v":0.46153846153846156},{"$f":"IF(AF18=0,0,(AF18*((LOG(AF18))/LOG(2))))","v":-0.51483563880920125},null,{"$f":"N18","v":2122},{"$f":"COUNTIF(L70:L90,AI18)","v":4},{"$f":"AJ18/(AL4-AJ20)","v":0.26666666666666666},{"$f":"IF(AK18=0,0,(AK18*((LOG(AK18))/LOG(2))))","v":-0.50850415882893829},null,{"$f":"N18","v":2122},{"$f":"COUNTIF(L91:L111,AN18)","v":2},{"$f":"AO18/(AQ4-AO20)","v":0.14285714285714285},{"$f":"IF(AP18=0,0,(AP18*((LOG(AP18))/LOG(2))))","v":-0.40105070315108626},null,{"$f":"N18","v":2122},{"$f":"COUNTIF(L112:L132,AS18)","v":3},{"$f":"AT18/(AV4-AT20)","v":0.25},{"$f":"IF(AU18=0,0,(AU18*((LOG(AU18))/LOG(2))))","v":-0.5}]
[12,1695,14,1711,24,1728,23,1738,null,null,0,1122,null,2211,{"$f":"COUNTIF($L$7:$L$500,N19)","v":3},{"$f":"O19/$Q$4","v":2.3809523809523808E-2},{"$f":"IF(P19=0,0,(P19*((LOG(P19))/LOG(2))))","v":-0.12838851006616095},null,null,{"$f":"N19","v":2211},{"$f":"COUNTIF(L7:L27,T19)","v":1},{"$f":"U19/(W4-U20)","v":5.8823529411764705E-2},{"$f":"IF(V19=0,0,(V19*((LOG(V19))/LOG(2))))","v":-0.24043899066178465},null,{"$f":"N19","v":2211},{"$f":"COUNTIF(L28:L48,Y19)","v":1},{"$f":"Z19/(AB4-Z20)","v":6.6666666666666666E-2},{"$f":"IF(AA19=0,0,(AA19*((LOG(AA19))/LOG(2))))","v":-0.26045937304056793},null,{"$f":"N19","v":2211},{"$f":"COUNTIF(L49:L69,AD19)","v":0},{"$f":"AE19/(AG4-AE20)","v":0},{"$f":"IF(AF19=0,0,(AF19*((LOG(AF19))/LOG(2))))","v":0},null,{"$f":"N19","v":2211},{"$f":"COUNTIF(L70:L90,AI19)","v":0},{"$f":"AJ19/(AL4-AJ20)","v":0},{"$f":"IF(AK19=0,0,(AK19*((LOG(AK19))/LOG(2))))","v":0},null,{"$f":"N19","v":2211},{"$f":"COUNTIF(L91:L111,AN19)","v":0},{"$f":"AO19/(AQ4-AO20)","v":0},{"$f":"IF(AP19=0,0,(AP19*((LOG(AP19))/LOG(2))))","v":0},null,{"$f":"N19","v":2211},{"$f":"COUNTIF(L112:L132,AS19)","v":1},{"$f":"AT19/(AV4-AT20)","v":8.3333333333333329E-2},{"$f":"IF(AU19=0,0,(AU19*((LOG(AU19))/LOG(2))))","v":-0.29874687506009634}]
[12,1850,14,1860,13,1865,14,1876,null,null,0,1111,null,2212,{"$f":"COUNTIF($L$7:$L$500,N20)","v":40},{"$f":"O20/$Q$4","v":0.31746031746031744},{"$f":"IF(P20=0,0,(P20*((LOG(P20))/LOG(2))))","v":-0.52550851701985846},null,null,{"$f":"N20","v":2212},{"$f":"COUNTIF(L7:L27,T20)","v":4},null,null,null,{"$f":"N20","v":2212},{"$f":"COUNTIF(L28:L48,Y20)","v":6},null,null,null,{"$f":"N20","v":2212},{"$f":"COUNTIF(L49:L69,AD20)","v":8},null,null,null,{"$f":"N20","v":2212},{"$f":"COUNTIF(L70:L90,AI20)","v":6},null,null,null,{"$f":"N20","v":2212},{"$f":"COUNTIF(L91:L111,AN20)","v":7},null,null,null,{"$f":"N20","v":2212},{"$f":"COUNTIF(L112:L132,AS20)","v":9}]
[12,1989,23,1999,24,2008,23,2027,null,null,0,1222,null,2221,{"$f":"COUNTIF($L$7:$L$500,N21)","v":18},{"$f":"O21/$Q$4","v":0.14285714285714285},{"$f":"IF(P21=0,0,(P21*((LOG(P21))/LOG(2))))","v":-0.40105070315108626},null,null,{"$f":"N21","v":2221},{"$f":"COUNTIF(L7:L27,T21)","v":1},{"$f":"U21/(W4-U20)","v":5.8823529411764705E-2},{"$f":"IF(V21=0,0,(V21*((LOG(V21))/LOG(2))))","v":-0.24043899066178465},null,{"$f":"N21","v":2221},{"$f":"COUNTIF(L28:L48,Y21)","v":5},{"$f":"Z21/(AB4-Z20)","v":0.33333333333333331},{"$f":"IF(AA21=0,0,(AA21*((LOG(AA21))/LOG(2))))","v":-0.52832083357371862},null,{"$f":"N21","v":2221},{"$f":"COUNTIF(L49:L69,AD21)","v":0},{"$f":"AE21/(AG4-AE20)","v":0},{"$f":"IF(AF21=0,0,(AF21*((LOG(AF21))/LOG(2))))","v":0},null,{"$f":"N21","v":2221},{"$f":"COUNTIF(L70:L90,AI21)","v":3},{"$f":"AJ21/(AL4-AJ20)","v":0.2},{"$f":"IF(AK21=0,0,(AK21*((LOG(AK21))/LOG(2))))","v":-0.46438561897747244},null,{"$f":"N21","v":2221},{"$f":"COUNTIF(L91:L111,AN21)","v":7},{"$f":"AO21/(AQ4-AO20)","v":0.5},{"$f":"IF(AP21=0,0,(AP21*((LOG(AP21))/LOG(2))))","v":-0.5},null,{"$f":"N21","v":2221},{"$f":"COUNTIF(L112:L132,AS21)","v":2},{"$f":"AT21/(AV4-AT20)","v":0.16666666666666666},{"$f":"IF(AU21=0,0,(AU21*((LOG(AU21))/LOG(2))))","v":-0.43082708345352599}]
[21,2132,12,2144,13,2151,14,2159,null,null,0,2111,null,2222,{"$f":"COUNTIF($L$7:$L$500,N22)","v":15},{"$f":"O22/$Q$4","v":0.11904761904761904},{"$f":"IF(P22=0,0,(P22*((LOG(P22))/LOG(2))))","v":-0.36552253903469023},null,null,{"$f":"N22","v":2222},{"$f":"COUNTIF(L7:L27,T22)","v":1},{"$f":"U22/(W4-U20)","v":5.8823529411764705E-2},{"$f":"IF(V22=0,0,(V22*((LOG(V22))/LOG(2))))","v":-0.24043899066178465},null,{"$f":"N22","v":2222},{"$f":"COUNTIF(L28:L48,Y22)","v":2},{"$f":"Z22/(AB4-Z20)","v":0.13333333333333333},{"$f":"IF(AA22=0,0,(AA22*((LOG(AA22))/LOG(2))))","v":-0.3875854127478025},null,{"$f":"N22","v":2222},{"$f":"COUNTIF(L49:L69,AD22)","v":2},{"$f":"AE22/(AG4-AE20)","v":0.15384615384615385},{"$f":"IF(AF22=0,0,(AF22*((LOG(AF22))/LOG(2))))","v":-0.4154522643293988},null,{"$f":"N22","v":2222},{"$f":"COUNTIF(L70:L90,AI22)","v":5},{"$f":"AJ22/(AL4-AJ20)","v":0.33333333333333331},{"$f":"IF(AK22=0,0,(AK22*((LOG(AK22))/LOG(2))))","v":-0.52832083357371862},null,{"$f":"N22","v":2222},{"$f":"COUNTIF(L91:L111,AN22)","v":3},{"$f":"AO22/(AQ4-AO20)","v":0.21428571428571427},{"$f":"IF(AP22=0,0,(AP22*((LOG(AP22))/LOG(2))))","v":-0.47622694742923877},null,{"$f":"N22","v":2222},{"$f":"COUNTIF(L112:L132,AS22)","v":2},{"$f":"AT22/(AV4-AT20)","v":0.16666666666666666},{"$f":"IF(AU22=0,0,(AU22*((LOG(AU22))/LOG(2))))","v":-0.43082708345352599}]
[21,2259,21,2263,11,2271,21,2301,null,null,0,2212,null,null,null,{"$f":"SUM(P7:P22)","v":1},{"$f":"-SUM(Q7:Q22)","v":2.9442925951671275},null,null,null,null,{"$f":"SUM(V7:V22)","v":1},{"$f":"-SUM(W7:W22)","v":3.4548223999466066},null,null,null,{"$f":"SUM(AA7:AA22)","v":1},{"$f":"-SUM(AB7:AB22)","v":2.332914563979398},null,null,null,{"$f":"SUM(AF7:AF22)","v":1},{"$f":"-SUM(AG7:AG22)","v":1.9877733714879842},null,null,null,{"$f":"SUM(AK7:AK22)","v":1},{"$f":"-SUM(AL7:AL22)","v":2.1492553971685},null,null,null,{"$f":"SUM(AP7:AP22)","v":1},{"$f":"-SUM(AQ7:AQ22)","v":1.7783283537314114},null,null,null,{"$f":"SUM(AU7:AU22)","v":0.99999999999999989},{"$f":"-SUM(AV7:AV22)","v":2.6887218755408671}]
[21,2416,12,2425,24,2450,23,2455,null,null,0,2122,null,null,null,"U=",{"$f":"Q23/(LOG(Q4)/LOG(2))","v":0.42198286831671539},null,null,null,null,"U1=",{"$f":"W23/(LOG(W4)/LOG(2))","v":0.78656027499964787},null,null,null,"U2=",{"$f":"AB23/(LOG(AB4)/LOG(2))","v":0.5311352389699332},null,null,null,"U3=",{"$f":"AG23/(LOG(AG4)/LOG(2))","v":0.45255685783985006},null,null,null,"U4=",{"$f":"AL23/(LOG(AL4)/LOG(2))","v":0.48932151078662084},null,null,null,"U5=",{"$f":"AQ23/(LOG(AQ4)/LOG(2))","v":0.40487245855887338},null,null,null,"U6=",{"$f":"AV23/(LOG(AV4)/LOG(2))","v":0.61214197808132709}]
[21,2561,21,2571,22,2582,14,2591,null,null,0,2221]
[21,2694,21,2711,11,2720,21,2744,null,null,0,2212]
[21,2871,21,2876,11,2884,21,2908,null,null,0,2212,null,"Total Target Seq"]
[21,3039,21,3047,22,3051,14,3060,null,null,0,2221,null,{"$f":"COUNTIF(L7:L132,G3)","v":40},null,21,21,21,21,21,21]
[21,3161,21,3179,22,3186,14,3192,null,null,0,2221,null,null,null,"% of reinforcement given in 6 equal intervals based on number of trials "]
[21,3301,21,3323,11,3330,21,3364,null,null,0,2212,null,null,null,"%_1","%_2","%_3","%_4","%_5","%_6"]
[21,3513,12,3522,24,3545,23,3552,null,null,0,2122,null,null,"target sequence",{"$f":"$G$3","v":2212},{"$f":"$G$3","v":2212},{"$f":"$G$3","v":2212},{"$f":"$G$3","v":2212},{"$f":"$G$3","v":2212},{"$f":"$G$3","v":2212}]
[21,3657,21,3660,22,3667,14,3674,null,null,0,2221,null,null,"total reinforcement",{"$f":"U20","v":4},{"$f":"Z20","v":6},{"$f":"AE20","v":8},{"$f":"AJ20","v":6},{"$f":"AO20","v":7},{"$f":"AT20","v":9}]
[21,3768,21,3773,22,3788,23,3795,null,null,0,2222,null,null,"% target"]
[21,3898,21,3914,11,3921,21,3929,null,null,0,2212,null,null,"CCRF"]
[21,4031,12,4044,13,4051,23,4068,null,null,0,2112,null,null,"% CCRf"]
[21,4168,21,4198,22,4209,14,4218,null,null,0,2221,null,null,"average response rate",{"$f":"H27/P28","v":138.47619047619048},{"$f":"(H48-H27)/Q28","v":142},{"$f":"(H69-H48)/R28","v":139.95238095238096},{"$f":"(H90-H69)/S28","v":137.9047619047619},{"$f":"(H111-H90)/T28","v":132.85714285714286},{"$f":"(H132-H111)/U28","v":143.95238095238096}]
[21,4315,21,4324,11,4331,21,4339,null,null,0,2212]
[21,4430,21,4469,11,4479,21,4520,null,null,0,2212]
[12,4629,23,4645,13,4653,23,4665,null,null,0,1212]
[21,4760,21,4764,22,4789,23,4797,null,null,0,2222]
[21,4894,21,4897,11,4907,12,4916,null,null,0,2211]
[21,5013,21,5020,11,5026,21,5043,null,null,0,2212]
[21,5131,12,5148,24,5160,23,5168,null,null,0,2122]
[21,5278,12,5284,24,5292,23,5309,null,null,0,2122]
[21,5406,21,5425,22,5432,14,5441,null,null,0,2221]
[21,5538,12,5556,24,5575,23,5593,null,null,0,2122]
[21,5696,21,5705,11,5714,21,5722,null,null,0,2212]
[12,5830,23,5846,13,5875,23,5890,null,null,0,1212]
[21,5991,21,5997,11,6004,21,6016,null,null,0,2212]
[21,6111,12,6118,24,6127,14,6134,null,null,0,2121]
[21,6230,21,6247,11,6254,21,6275,null,null,0,2212]
[21,6372,21,6387,11,6404,21,6415,null,null,0,2212]
[12,6534,14,6554,24,6582,23,6590,null,null,0,1122]
[21,6687,12,6705,24,6727,23,6741,null,null,0,2122]
[21,6837,21,6858,22,6865,23,6875,null,null,0,2222]
[21,6972,21,6976,11,6986,21,6998,null,null,0,2212]
[21,7102,12,7109,13,7127,23,7139,null,null,0,2112]
[21,7237,21,7241,11,7249,21,7280,null,null,0,2212]
[21,7372,12,7397,24,7435,14,7453,null,null,0,2121]
[21,7553,21,7565,22,7579,23,7587,null,null,0,2222]
[21,7685,21,7695,11,7702,21,7709,null,null,0,2212]
[21,7798,12,7822,24,7834,14,7841,null,null,0,2121]
[21,7937,21,7941,11,7949,21,7964,null,null,0,2212]
[21,8060,12,8078,24,8122,23,8130,null,null,0,2122]
[21,8227,12,8247,24,8255,23,8272,null,null,0,2122]
[21,8393,12,8400,24,8415,23,8423,null,null,0,2122]
[21,8526,12,8537,24,8545,23,8559,null,null,0,2122]
[21,8656,12,8669,24,8684,23,8692,null,null,0,2122]
[21,8788,21,8792,11,8813,21,8829,null,null,0,2212]
[21,8918,12,8947,13,8986,23,8998,null,null,0,2112]
[21,9095,21,9105,22,9120,23,9127,null,null,0,2222]
[21,9224,21,9233,11,9240,21,9249,null,null,0,2212]
[21,9338,12,9360,24,9396,23,9407,null,null,0,2122]
[21,9503,21,9512,11,9519,21,9538,null,null,0,2212]
[21,9628,21,9658,11,9665,21,9675,null,null,0,2212]
[21,9763,12,9781,13,9802,23,9818,null,null,0,2112]
[21,9920,12,9927,24,9939,23,9945,null,null,0,2122]
[21,10049,21,10063,22,10075,14,10083,null,null,0,2221]
[21,10179,21,10186,22,10209,23,10234,null,null,0,2222]
[21,10332,21,10336,22,10342,14,10349,null,null,0,2221]
[21,10454,21,10469,22,10475,23,10483,null,null,0,2222]
[21,10596,21,10607,11,10616,21,10622,null,null,0,2212]
[21,10710,12,10731,24,10744,23,10767,null,null,0,2122]
[21,10864,21,10871,22,10916,23,10925,null,null,0,2222]
[21,11022,12,11037,24,11049,14,11056,null,null,0,2121]
[21,11152,21,11156,22,11161,14,11169,null,null,0,2221]
[21,11266,21,11270,22,11274,23,11282,null,null,0,2222]
[21,11383,21,11397,11,11404,21,11421,null,null,0,2212]
[21,11513,21,11536,11,11544,21,11585,null,null,0,2212]
[21,11680,12,11698,24,11713,23,11725,null,null,0,2122]
[21,11822,21,11830,11,11836,21,11843,null,null,0,2212]
[21,11931,21,11937,22,11973,23,11990,null,null,0,2222]
[21,12087,21,12093,11,12100,21,12111,null,null,0,2212]
[21,12198,21,12206,22,12226,14,12232,null,null,0,2221]
[21,12337,12,12352,24,12360,23,12363,null,null,0,2122]
[21,12462,21,12466,22,12489,14,12497,null,null,0,2221]
[21,12593,21,12603,11,12609,21,12644,null,null,0,2212]
[21,12740,12,12764,24,12781,14,12801,null,null,0,2121]
[21,12898,21,12902,22,12909,14,12916,null,null,0,2221]
[21,13012,21,13015,22,13022,23,13059,null,null,0,2222]
[21,13155,21,13180,11,13188,21,13207,null,null,0,2212]
[21,13299,12,13321,24,13333,14,13342,null,null,0,2121]
[21,13438,21,13442,22,13447,14,13454,null,null,0,2221]
[21,13552,21,13558,11,13565,21,13572,null,null,0,2212]
[21,13665,21,13703,22,13728,14,13736,null,null,0,2221]
[21,13833,21,13837,22,13856,14,13863,null,null,0,2221]
[21,13963,21,13967,22,13979,23,14002,null,null,0,2222]
[21,14106,21,14110,22,14116,14,14122,null,null,0,2221]
[21,14226,21,14236,11,14245,21,14252,null,null,0,2212]
[21,14345,12,14373,24,14381,23,14397,null,null,0,2122]
[21,14494,21,14502,11,14509,21,14515,null,null,0,2212]
[21,14608,21,14619,11,14625,12,14652,null,null,0,2211]
[21,14748,21,14755,11,14761,21,14807,null,null,0,2212]
[21,14902,12,14923,13,14953,23,14966,null,null,0,2112]
[21,15062,21,15066,22,15088,23,15102,null,null,0,2222]
[21,15204,21,15217,22,15228,14,15235,null,null,0,2221]
[21,15342,12,15348,24,15390,14,15397,null,null,0,2121]
[21,15509,21,15513,22,15592,23,15623,null,null,0,2222]
[21,15741,12,15752,24,15759,23,15767,null,null,0,2122]
[21,15864,21,15872,22,15876,14,15885,null,null,0,2221]
[21,15980,21,15994,11,16001,21,16008,null,null,0,2212]
[21,16115,12,16125,13,16145,23,16165,null,null,0,2112]
[21,16264,21,16272,11,16279,21,16286,null,null,0,2212]
[21,16379,21,16396,11,16414,21,16421,null,null,0,2212]
[21,16515,21,16535,11,16542,21,16549,null,null,0,2212]
[21,16639,21,16650,11,16658,21,16666,null,null,0,2212]
[12,16793,14,16820,24,16848,23,16880,null,null,0,1122]
[21,16977,21,16981,11,17013,21,17023,null,null,0,2212]
[21,17114,12,17132,24,17140,23,17162,null,null,0,2122]
[21,17260,12,17274,24,17281,23,17291,null,null,0,2122]
[21,17388,21,17392,11,17399,21,17411,null,null,0,2212]
[21,17500,21,17515,11,17524,21,17538,null,null,1,2212]

{"sheet":"!MB04B10.096","index":21,"n_rows":124,"n_cols":48,"rows_kept":124,"cut":false,"hidden":false,"merged":[[4,39,4,42],[5,39,5,40],[4,44,4,47],[5,44,5,45],[4,24,4,27],[5,24,5,25],[4,29,4,32],[5,29,5,30],[4,34,4,37],[5,34,5,35],[1,1,1,2],[5,13,5,14],[26,13,26,14],[27,13,27,14],[4,19,4,22],[5,19,5,20]]}
["Report for:!MB04B10.096"]
["Date:","<date>"]
["Hen:","<hen>",null,null,null,"Correct Sequence",{"$f":"Start!J2","v":2212},null,null,null,null,null,null,null,null,"Total Sequences in Data",{"$f":"4994-COUNTBLANK(L7:L5000)","v":118},null,null,null,null,"Total Sequences in Block Data",{"$f":"COUNTA(L7:L26)","v":20},null,null,null,"Total Sequences in Block Data",{"$f":"COUNTA(L27:L45)","v":19},null,null,null,"Total Sequences in Block Data",{"$f":"COUNTA(L46:L65)","v":20},null,null,null,"Total Sequences in Block Data",{"$f":"COUNTA(L66:L85)","v":20},null,null,null,"Total Sequences in Block Data",{"$f":"COUNTA(L86:L104)","v":19},null,null,null,"Total Sequences in Block Data",{"$f":"COUNTA(L105:L124)","v":20}]
[null,null,null,null,null,null,null,null,null,null,null,null,null,null,null,"Total Sequences in Summary",{"$f":"SUM(O7:O22)","v":118},null,null,null,null,"Total Sequences in Block Summary",{"$f":"SUM(U7:U22)","v":20},null,null,null,"Total Sequences in Block Summary",{"$f":"SUM(Z7:Z22)","v":19},null,null,null,"Total Sequences in Block Summary",{"$f":"SUM(AE7:AE22)","v":20},null,null,null,"Total Sequences in Block Summary",{"$f":"SUM(AJ7:AJ22)","v":20},null,null,null,"Total Sequences in Block Summary",{"$f":"SUM(AO7:AO22)","v":19},null,null,null,"Total Sequences in Block Summary",{"$f":"SUM(AT7:AT22)","v":20}]
[null,null,null,null,null,null,null,null,null,null,null,null,null,null,null,null,null,null,null,"Block 1",null,null,null,null,"Block 2",null,null,null,null,"Block 3",null,null,null,null,"Block 4",null,null,null,null,"Block 5",null,null,null,null,"Block 6"]
["Sequence\nComponent\n1","Time\n1","Sequence\nComponent\n2","Time\n2","Sequence\nComponent\n3","Time\n3","Sequence\nComponent\n4","Time\n4","Sequence\nComponent\n5","Time\n5","Correct?\n0=No 1=Yes","Sequence",null,"Frequency",null,"Relative Frequency","Variability",null,null,"Frequency",null,"Relative Frequency","Variability",null,"Frequency",null,"Relative Frequency","Variability",null,"Frequency",null,"Relative Frequency","Variability",null,"Frequency",null,"Relative Frequency","Variability",null,"Frequency",null,"Relative Frequency","Variability",null,"Frequency",null,"Relative Frequency","Variability"]
[21,11,21,19,11,33,21,57,null,null,0,2212,null,1111,{"$f":"COUNTIF($L$7:$L$500,N7)","v":0},{"$f":"O7/$Q$4","v":0},{"$f":"IF(P7=0,0,(P7*((LOG(P7))/LOG(2))))","v":0},null,null,{"$f":"N7","v":1111},{"$f":"COUNTIF(L7:L26,T7)","v":0},{"$f":"U7/(W4-U20)","v":0},{"$f":"IF(V7=0,0,(V7*((LOG(V7))/LOG(2))))","v":0},null,{"$f":"N7","v":1111},{"$f":"COUNTIF(L27:L45,Y7)","v":0},{"$f":"Z7/(AB4-Z20)","v":0},{"$f":"IF(AA7=0,0,(AA7*((LOG(AA7))/LOG(2))))","v":0},null,{"$f":"N7","v":1111},{"$f":"COUNTIF(L46:L65,AD7)","v":0},{"$f":"AE7/(AG4-AE20)","v":0},{"$f":"IF(AF7=0,0,(AF7*((LOG(AF7))/LOG(2))))","v":0},null,{"$f":"N7","v":1111},{"$f":"COUNTIF(L66:L85,AI7)","v":0},{"$f":"AJ7/(AL4-AJ20)","v":0},{"$f":"IF(AK7=0,0,(AK7*((LOG(AK7))/LOG(2))))","v":0},null,{"$f":"N7","v":1111},{"$f":"COUNTIF(L86:L104,AN7)","v":0},{"$f":"AO7/(AQ4-AO20)","v":0},{"$f":"IF(AP7=0,0,(AP7*((LOG(AP7))/LOG(2))))","v":0},null,{"$f":"N7","v":1111},{"$f":"COUNTIF(L105:L124,AS7)","v":0},{"$f":"AT7/(AV4-AT20)","v":0},{"$f":"IF(AU7=0,0,(AU7*((LOG(AU7))/LOG(2))))","v":0}]
[21,148,12,158,24,181,23,192,null,null,0,2122,null,1112,{"$f":"COUNTIF($L$7:$L$500,N8)","v":0},{"$f":"O8/$Q$4","v":0},{"$f":"IF(P8=0,0,(P8*((LOG(P8))/LOG(2))))","v":0},null,null,{"$f":"N8","v":1112},{"$f":"COUNTIF(L7:L26,T8)","v":0},{"$f":"U8/(W4-U20)","v":0},{"$f":"IF(V8=0,0,(V8*((LOG(V8))/LOG(2))))","v":0},null,{"$f":"N8","v":1112},{"$f":"COUNTIF(L27:L45,Y8)","v":0},{"$f":"Z8/(AB4-Z20)","v":0},{"$f":"IF(AA8=0,0,(AA8*((LOG(AA8))/LOG(2))))","v":0},null,{"$f":"N8","v":1112},{"$f":"COUNTIF(L46:L65,AD8)","v":0},{"$f":"AE8/(AG4-AE20)","v":0},{"$f":"IF(AF8=0,0,(AF8*((LOG(AF8))/LOG(2))))","v":0},null,{"$f":"N8","v":1112},{"$f":"COUNTIF(L66:L85,AI8)","v":0},{"$f":"AJ8/(AL4-AJ20)","v":0},{"$f":"IF(AK8=0,0,(AK8*((LOG(AK8))/LOG(2))))","v":0},null,{"$f":"N8","v":1112},{"$f":"COUNTIF(L86:L104,AN8)","v":0},{"$f":"AO8/(AQ4-AO20)","v":0},{"$f":"IF(AP8=0,0,(AP8*((LOG(AP8))/LOG(2))))","v":0},null,{"$f":"N8","v":1112},{"$f":"COUNTIF(L105:L124,AS8)","v":0},{"$f":"AT8/(AV4-AT20)","v":0},{"$f":"IF(AU8=0,0,(AU8*((LOG(AU8))/LOG(2))))","v":0}]
[12,310,14,326,24,333,23,345,null,null,0,1122,null,1121,{"$f":"COUNTIF($L$7:$L$500,N9)","v":0},{"$f":"O9/$Q$4","v":0},{"$f":"IF(P9=0,0,(P9*((LOG(P9))/LOG(2))))","v":0},null,null,{"$f":"N9","v":1121},{"$f":"COUNTIF(L7:L26,T9)","v":0},{"$f":"U9/(W4-U20)","v":0},{"$f":"IF(V9=0,0,(V9*((LOG(V9))/LOG(2))))","v":0},null,{"$f":"N9","v":1121},{"$f":"COUNTIF(L27:L45,Y9)","v":0},{"$f":"Z9/(AB4-Z20)","v":0},{"$f":"IF(AA9=0,0,(AA9*((LOG(AA9))/LOG(2))))","v":0},null,{"$f":"N9","v":1121},{"$f":"COUNTIF(L46:L65,AD9)","v":0},{"$f":"AE9/(AG4-AE20)","v":0},{"$f":"IF(AF9=0,0,(AF9*((LOG(AF9))/LOG(2))))","v":0},null,{"$f":"N9","v":1121},{"$f":"COUNTIF(L66:L85,AI9)","v":0},{"$f":"AJ9/(AL4-AJ20)","v":0},{"$f":"IF(AK9=0,0,(AK9*((LOG(AK9))/LOG(2))))","v":0},null,{"$f":"N9","v":1121},{"$f":"COUNTIF(L86:L104,AN9)","v":0},{"$f":"AO9/(AQ4-AO20)","v":0},{"$f":"IF(AP9=0,0,(AP9*((LOG(AP9))/LOG(2))))","v":0},null,{"$f":"N9","v":1121},{"$f":"COUNTIF(L105:L124,AS9)","v":0},{"$f":"AT9/(AV4-AT20)","v":0},{"$f":"IF(AU9=0,0,(AU9*((LOG(AU9))/LOG(2))))","v":0}]
[21,442,12,471,24,478,23,499,null,null,0,2122,null,1122,{"$f":"COUNTIF($L$7:$L$500,N10)","v":1},{"$f":"O10/$Q$4","v":8.4745762711864406E-3},{"$f":"IF(P10=0,0,(P10*((LOG(P10))/LOG(2))))","v":-5.8327483469168148E-2},null,null,{"$f":"N10","v":1122},{"$f":"COUNTIF(L7:L26,T10)","v":1},{"$f":"U10/(W4-U20)","v":8.3333333333333329E-2},{"$f":"IF(V10=0,0,(V10*((LOG(V10))/LOG(2))))","v":-0.29874687506009634},null,{"$f":"N10","v":1122},{"$f":"COUNTIF(L27:L45,Y10)","v":0},{"$f":"Z10/(AB4-Z20)","v":0},{"$f":"IF(AA10=0,0,(AA10*((LOG(AA10))/LOG(2))))","v":0},null,{"$f":"N10","v":1122},{"$f":"COUNTIF(L46:L65,AD10)","v":0},{"$f":"AE10/(AG4-AE20)","v":0},{"$f":"IF(AF10=0,0,(AF10*((LOG(AF10))/LOG(2))))","v":0},null,{"$f":"N10","v":1122},{"$f":"COUNTIF(L66:L85,AI10)","v":0},{"$f":"AJ10/(AL4-AJ20)","v":0},{"$f":"IF(AK10=0,0,(AK10*((LOG(AK10))/LOG(2))))","v":0},null,{"$f":"N10","v":1122},{"$f":"COUNTIF(L86:L104,AN10)","v":0},{"$f":"AO10/(AQ4-AO20)","v":0},{"$f":"IF(AP10=0,0,(AP10*((LOG(AP10))/LOG(2))))","v":0},null,{"$f":"N10","v":1122},{"$f":"COUNTIF(L105:L124,AS10)","v":0},{"$f":"AT10/(AV4-AT20)","v":0},{"$f":"IF(AU10=0,0,(AU10*((LOG(AU10))/LOG(2))))","v":0}]
[21,597,21,602,11,609,21,632,null,null,0,2212,null,1211,{"$f":"COUNTIF($L$7:$L$500,N11)","v":0},{"$f":"O11/$Q$4","v":0},{"$f":"IF(P11=0,0,(P11*((LOG(P11))/LOG(2))))","v":0},null,null,{"$f":"N11","v":1211},{"$f":"COUNTIF(L7:L26,T11)","v":0},{"$f":"U11/(W4-U20)","v":0},{"$f":"IF(V11=0,0,(V11*((LOG(V11))/LOG(2))))","v":0},null,{"$f":"N11","v":1211},{"$f":"COUNTIF(L27:L45,Y11)","v":0},{"$f":"Z11/(AB4-Z20)","v":0},{"$f":"IF(AA11=0,0,(AA11*((LOG(AA11))/LOG(2))))","v":0},null,{"$f":"N11","v":1211},{"$f":"COUNTIF(L46:L65,AD11)","v":0},{"$f":"AE11/(AG4-AE20)","v":0},{"$f":"IF(AF11=0,0,(AF11*((LOG(AF11))/LOG(2))))","v":0},null,{"$f":"N11","v":1211},{"$f":"COUNTIF(L66:L85,AI11)","v":0},{"$f":"AJ11/(AL4-AJ20)","v":0},{"$f":"IF(AK11=0,0,(AK11*((LOG(AK11))/LOG(2))))","v":0},null,{"$f":"N11","v":1211},{"$f":"COUNTIF(L86:L104,AN11)","v":0},{"$f":"AO11/(AQ4-AO20)","v":0},{"$f":"IF(AP11=0,0,(AP11*((LOG(AP11))/LOG(2))))","v":0},null,{"$f":"N11","v":1211},{"$f":"COUNTIF(L105:L124,AS11)","v":0},{"$f":"AT11/(AV4-AT20)","v":0},{"$f":"IF(AU11=0,0,(AU11*((LOG(AU11))/LOG(2))))","v":0}]
[12,735,23,764,24,792,23,807,null,null,0,1222,null,1212,{"$f":"COUNTIF($L$7:$L$500,N12)","v":3},{"$f":"O12/$Q$4","v":2.5423728813559324E-2},{"$f":"IF(P12=0,0,(P12*((LOG(P12))/LOG(2))))","v":-0.13468679360950894},null,null,{"$f":"N12","v":1212},{"$f":"COUNTIF(L7:L26,T12)","v":0},{"$f":"U12/(W4-U20)","v":0},{"$f":"IF(V12=0,0,(V12*((LOG(V12))/LOG(2))))","v":0},null,{"$f":"N12","v":1212},{"$f":"COUNTIF(L27:L45,Y12)","v":0},{"$f":"Z12/(AB4-Z20)","v":0},{"$f":"IF(AA12=0,0,(AA12*((LOG(AA12))/LOG(2))))","v":0},null,{"$f":"N12","v":1212},{"$f":"COUNTIF(L46:L65,AD12)","v":2},{"$f":"AE12/(AG4-AE20)","v":0.16666666666666666},{"$f":"IF(AF12=0,0,(AF12*((LOG(AF12))/LOG(2))))","v":-0.43082708345352599},null,{"$f":"N12","v":1212},{"$f":"COUNTIF(L66:L85,AI12)","v":0},{"$f":"AJ12/(AL4-AJ20)","v":0},{"$f":"IF(AK12=0,0,(AK12*((LOG(AK12))/LOG(2))))","v":0},null,{"$f":"N12","v":1212},{"$f":"COUNTIF(L86:L104,AN12)","v":1},{"$f":"AO12/(AQ4-AO20)","v":7.6923076923076927E-2},{"$f":"IF(AP12=0,0,(AP12*((LOG(AP12))/LOG(2))))","v":-0.28464920908777636},null,{"$f":"N12","v":1212},{"$f":"COUNTIF(L105:L124,AS12)","v":0},{"$f":"AT12/(AV4-AT20)","v":0},{"$f":"IF(AU12=0,0,(AU12*((LOG(AU12))/LOG(2))))","v":0}]
[21,907,21,916,11,940,21,948,null,null,0,2212,null,1221,{"$f":"COUNTIF($L$7:$L$500,N13)","v":1},{"$f":"O13/$Q$4","v":8.4745762711864406E-3},{"$f":"IF(P13=0,0,(P13*((LOG(P13))/LOG(2))))","v":-5.8327483469168148E-2},null,null,{"$f":"N13","v":1221},{"$f":"COUNTIF(L7:L26,T13)","v":0},{"$f":"U13/(W4-U20)","v":0},{"$f":"IF(V13=0,0,(V13*((LOG(V13))/LOG(2))))","v":0},null,{"$f":"N13","v":1221},{"$f":"COUNTIF(L27:L45,Y13)","v":0},{"$f":"Z13/(AB4-Z20)","v":0},{"$f":"IF(AA13=0,0,(AA13*((LOG(AA13))/LOG(2))))","v":0},null,{"$f":"N13","v":1221},{"$f":"COUNTIF(L46:L65,AD13)","v":0},{"$f":"AE13/(AG4-AE20)","v":0},{"$f":"IF(AF13=0,0,(AF13*((LOG(AF13))/LOG(2))))","v":0},null,{"$f":"N13","v":1221},{"$f":"COUNTIF(L66:L85,AI13)","v":0},{"$f":"AJ13/(AL4-AJ20)","v":0},{"$f":"IF(AK13=0,0,(AK13*((LOG(AK13))/LOG(2))))","v":0},null,{"$f":"N13","v":1221},{"$f":"COUNTIF(L86:L104,AN13)","v":1},{"$f":"AO13/(AQ4-AO20)","v":7.6923076923076927E-2},{"$f":"IF(AP13=0,0,(AP13*((LOG(AP13))/LOG(2))))","v":-0.28464920908777636},null,{"$f":"N13","v":1221},{"$f":"COUNTIF(L105:L124,AS13)","v":0},{"$f":"AT13/(AV4-AT20)","v":0},{"$f":"IF(AU13=0,0,(AU13*((LOG(AU13))/LOG(2))))","v":0}]
[12,1064,23,1086,24,1094,23,1105,null,null,0,1222,null,1222,{"$f":"COUNTIF($L$7:$L$500,N14)","v":6},{"$f":"O14/$Q$4","v":5.0847457627118647E-2},{"$f":"IF(P14=0,0,(P14*((LOG(P14))/LOG(2))))","v":-0.21852612959189924},null,null,{"$f":"N14","v":1222},{"$f":"COUNTIF(L7:L26,T14)","v":3},{"$f":"U14/(W4-U20)","v":0.25},{"$f":"IF(V14=0,0,(V14*((LOG(V14))/LOG(2))))","v":-0.5},null,{"$f":"N14","v":1222},{"$f":"COUNTIF(L27:L45,Y14)","v":0},{"$f":"Z14/(AB4-Z20)","v":0},{"$f":"IF(AA14=0,0,(AA14*((LOG(AA14))/LOG(2))))","v":0},null,{"$f":"N14","v":1222},{"$f":"COUNTIF(L46:L65,AD14)","v":0},{"$f":"AE14/(AG4-AE20)","v":0},{"$f":"IF(AF14=0,0,(AF14*((LOG(AF14))/LOG(2))))","v":0},null,{"$f":"N14","v":1222},{"$f":"COUNTIF(L66:L85,AI14)","v":1},{"$f":"AJ14/(AL4-AJ20)","v":7.1428571428571425E-2},{"$f":"IF(AK14=0,0,(AK14*((LOG(AK14))/LOG(2))))","v":-0.27195392300411453},null,{"$f":"N14","v":1222},{"$f":"COUNTIF(L86:L104,AN14)","v":1},{"$f":"AO14/(AQ4-AO20)","v":7.6923076923076927E-2},{"$f":"IF(AP14=0,0,(AP14*((LOG(AP14))/LOG(2))))","v":-0.28464920908777636},null,{"$f":"N14","v":1222},{"$f":"COUNTIF(L105:L124,AS14)","v":1},{"$f":"AT14/(AV4-AT20)","v":9.0909090909090912E-2},{"$f":"IF(AU14=0,0,(AU14*((LOG(AU14))/LOG(2))))","v":-0.31449378351248153}]
[12,1216,23,1241,24,1268,23,1280,null,null,0,1222,null,2111,{"$f":"COUNTIF($L$7:$L$500,N15)","v":0},{"$f":"O15/$Q$4","v":0},{"$f":"IF(P15=0,0,(P15*((LOG(P15))/LOG(2))))","v":0},null,null,{"$f":"N15","v":2111},{"$f":"COUNTIF(L7:L26,T15)","v":0},{"$f":"U15/(W4-U20)","v":0},{"$f":"IF(V15=0,0,(V15*((LOG(V15))/LOG(2))))","v":0},null,{"$f":"N15","v":2111},{"$f":"COUNTIF(L27:L45,Y15)","v":0},{"$f":"Z15/(AB4-Z20)","v":0},{"$f":"IF(AA15=0,0,(AA15*((LOG(AA15))/LOG(2))))","v":0},null,{"$f":"N15","v":2111},{"$f":"COUNTIF(L46:L65,AD15)","v":0},{"$f":"AE15/(AG4-AE20)","v":0},{"$f":"IF(AF15=0,0,(AF15*((LOG(AF15))/LOG(2))))","v":0},null,{"$f":"N15","v":2111},{"$f":"COUNTIF(L66:L85,AI15)","v":0},{"$f":"AJ15/(AL4-AJ20)","v":0},{"$f":"IF(AK15=0,0,(AK15*((LOG(AK15))/LOG(2))))","v":0},null,{"$f":"N15","v":2111},{"$f":"COUNTIF(L86:L104,AN15)","v":0},{"$f":"AO15/(AQ4-AO20)","v":0},{"$f":"IF(AP15=0,0,(AP15*((LOG(AP15))/LOG(2))))","v":0},null,{"$f":"N15","v":2111},{"$f":"COUNTIF(L105:L124,AS15)","v":0},{"$f":"AT15/(AV4-AT20)","v":0},{"$f":"IF(AU15=0,0,(AU15*((LOG(AU15))/LOG(2))))","v":0}]
[21,1379,12,1388,24,1397,23,1401,null,null,0,2122,null,2112,{"$f":"COUNTIF($L$7:$L$500,N16)","v":7},{"$f":"O16/$Q$4","v":5.9322033898305086E-2},{"$f":"IF(P16=0,0,(P16*((LOG(P16))/LOG(2))))","v":-0.24175438043330219},null,null,{"$f":"N16","v":2112},{"$f":"COUNTIF(L7:L26,T16)","v":3},{"$f":"U16/(W4-U20)","v":0.25},{"$f":"IF(V16=0,0,(V16*((LOG(V16))/LOG(2))))","v":-0.5},null,{"$f":"N16","v":2112},{"$f":"COUNTIF(L27:L45,Y16)","v":1},{"$f":"Z16/(AB4-Z20)","v":6.25E-2},{"$f":"IF(AA16=0,0,(AA16*((LOG(AA16))/LOG(2))))","v":-0.25},null,{"$f":"N16","v":2112},{"$f":"COUNTIF(L46:L65,AD16)","v":1},{"$f":"AE16/(AG4-AE20)","v":8.3333333333333329E-2},{"$f":"IF(AF16=0,0,(AF16*((LOG(AF16))/LOG(2))))","v":-0.29874687506009634},null,{"$f":"N16","v":2112},{"$f":"COUNTIF(L66:L85,AI16)","v":0},{"$f":"AJ16/(AL4-AJ20)","v":0},{"$f":"IF(AK16=0,0,(AK16*((LOG(AK16))/LOG(2))))","v":0},null,{"$f":"N16","v":2112},{"$f":"COUNTIF(L86:L104,AN16)","v":2},{"$f":"AO16/(AQ4-AO20)","v":0.15384615384615385},{"$f":"IF(AP16=0,0,(AP16*((LOG(AP16))/LOG(2))))","v":-0.4154522643293988},null,{"$f":"N16","v":2112},{"$f":"COUNTIF(L105:L124,AS16)","v":0},{"$f":"AT16/(AV4-AT20)","v":0},{"$f":"IF(AU16=0,0,(AU16*((LOG(AU16))/LOG(2))))","v":0}]
[21,1499,12,1510,13,1530,23,1537,null,null,0,2112,null,2121,{"$f":"COUNTIF($L$7:$L$500,N17)","v":10},{"$f":"O17/$Q$4","v":8.4745762711864403E-2},{"$f":"IF(P17=0,0,(P17*((LOG(P17))/LOG(2))))","v":-0.30175550461648132},null,null,{"$f":"N17","v":2121},{"$f":"COUNTIF(L7:L26,T17)","v":0},{"$f":"U17/(W4-U20)","v":0},{"$f":"IF(V17=0,0,(V17*((LOG(V17))/LOG(2))))","v":0},null,{"$f":"N17","v":2121},{"$f":"COUNTIF(L27:L45,Y17)","v":1},{"$f":"Z17/(AB4-Z20)","v":6.25E-2},{"$f":"IF(AA17=0,0,(AA17*((LOG(AA17))/LOG(2))))","v":-0.25},null,{"$f":"N17","v":2121},{"$f":"COUNTIF(L46:L65,AD17)","v":1},{"$f":"AE17/(AG4-AE20)","v":8.3333333333333329E-2},{"$f":"IF(AF17=0,0,(AF17*((LOG(AF17))/LOG(2))))","v":-0.29874687506009634},null,{"$f":"N17","v":2121},{"$f":"COUNTIF(L66:L85,AI17)","v":3},{"$f":"AJ17/(AL4-AJ20)","v":0.21428571428571427},{"$f":"IF(AK17=0,0,(AK17*((LOG(AK17))/LOG(2))))","v":-0.47622694742923877},null,{"$f":"N17","v":2121},{"$f":"COUNTIF(L86:L104,AN17)","v":1},{"$f":"AO17/(AQ4-AO20)","v":7.6923076923076927E-2},{"$f":"IF(AP17=0,0,(AP17*((LOG(AP17))/LOG(2))))","v":-0.28464920908777636},null,{"$f":"N17","v":2121},{"$f":"COUNTIF(L105:L124,AS17)","v":4},{"$f":"AT17/(AV4-AT20)","v":0.36363636363636365},{"$f":"IF(AU17=0,0,(AU17*((LOG(AU17))/LOG(2))))","v":-0.53070240677719893}]
[21,1637,21,1645,11,1652,21,1663,null,null,0,2212,null,2122,{"$f":"COUNTIF($L$7:$L$500,N18)","v":32},{"$f":"O18/$Q$4","v":0.2711864406779661},{"$f":"IF(P18=0,0,(P18*((LOG(P18))/LOG(2))))","v":-0.51054726762355018},null,null,{"$f":"N18","v":2122},{"$f":"COUNTIF(L7:L26,T18)","v":5},{"$f":"U18/(W4-U20)","v":0.41666666666666669},{"$f":"IF(V18=0,0,(V18*((LOG(V18))/LOG(2))))","v":-0.52626433576408083},null,{"$f":"N18","v":2122},{"$f":"COUNTIF(L27:L45,Y18)","v":8},{"$f":"Z18/(AB4-Z20)","v":0.5},{"$f":"IF(AA18=0,0,(AA18*((LOG(AA18))/LOG(2))))","v":-0.5},null,{"$f":"N18","v":2122},{"$f":"COUNTIF(L46:L65,AD18)","v":6},{"$f":"AE18/(AG4-AE20)","v":0.5},{"$f":"IF(AF18=0,0,(AF18*((LOG(AF18))/LOG(2))))","v":-0.5},null,{"$f":"N18","v":2122},{"$f":"COUNTIF(L66:L85,AI18)","v":7},{"$f":"AJ18/(AL4-AJ20)","v":0.5},{"$f":"IF(AK18=0,0,(AK18*((LOG(AK18))/LOG(2))))","v":-0.5},null,{"$f":"N18","v":2122},{"$f":"COUNTIF(L86:L104,AN18)","v":2},{"$f":"AO18/(AQ4-AO20)","v":0.15384615384615385},{"$f":"IF(AP18=0,0,(AP18*((LOG(AP18))/LOG(2))))","v":-0.4154522643293988},null,{"$f":"N18","v":2122},{"$f":"COUNTIF(L105:L124,AS18)","v":4},{"$f":"AT18/(AV4-AT20)","v":0.36363636363636365},{"$f":"IF(AU18=0,0,(AU18*((LOG(AU18))/LOG(2))))","v":-0.53070240677719893}]
[21,1772,12,1779,24,1802,23,1814,null,null,0,2122,null,2211,{"$f":"COUNTIF($L$7:$L$500,N19)","v":5},{"$f":"O19/$Q$4","v":4.2372881355932202E-2},{"$f":"IF(P19=0,0,(P19*((LOG(P19))/LOG(2))))","v":-0.19325063366417283},null,null,{"$f":"N19","v":2211},{"$f":"COUNTIF(L7:L26,T19)","v":0},{"$f":"U19/(W4-U20)","v":0},{"$f":"IF(V19=0,0,(V19*((LOG(V19))/LOG(2))))","v":0},null,{"$f":"N19","v":2211},{"$f":"COUNTIF(L27:L45,Y19)","v":0},{"$f":"Z19/(AB4-Z20)","v":0},{"$f":"IF(AA19=0,0,(AA19*((LOG(AA19))/LOG(2))))","v":0},null,{"$f":"N19","v":2211},{"$f":"COUNTIF(L46:L65,AD19)","v":1},{"$f":"AE19/(AG4-AE20)","v":8.3333333333333329E-2},{"$f":"IF(AF19=0,0,(AF19*((LOG(AF19))/LOG(2))))","v":-0.29874687506009634},null,{"$f":"N19","v":2211},{"$f":"COUNTIF(L66:L85,AI19)","v":2},{"$f":"AJ19/(AL4-AJ20)","v":0.14285714285714285},{"$f":"IF(AK19=0,0,(AK19*((LOG(AK19))/LOG(2))))","v":-0.40105070315108626},null,{"$f":"N19","v":2211},{"$f":"COUNTIF(L86:L104,AN19)","v":1},{"$f":"AO19/(AQ4-AO20)","v":7.6923076923076927E-2},{"$f":"IF(AP19=0,0,(AP19*((LOG(AP19))/LOG(2))))","v":-0.28464920908777636},null,{"$f":"N19","v":2211},{"$f":"COUNTIF(L105:L124,AS19)","v":1},{"$f":"AT19/(AV4-AT20)","v":9.0909090909090912E-2},{"$f":"IF(AU19=0,0,(AU19*((LOG(AU19))/LOG(2))))","v":-0.31449378351248153}]
[21,1914,12,1938,24,1945,23,1964,null,null,0,2122,null,2212,{"$f":"COUNTIF($L$7:$L$500,N20)","v":40},{"$f":"O20/$Q$4","v":0.33898305084745761},{"$f":"IF(P20=0,0,(P20*((LOG(P20))/LOG(2))))","v":-0.52905591677100983},null,null,{"$f":"N20","v":2212},{"$f":"COUNTIF(L7:L26,T20)","v":8},null,null,null,{"$f":"N20","v":2212},{"$f":"COUNTIF(L27:L45,Y20)","v":3},null,null,null,{"$f":"N20","v":2212},{"$f":"COUNTIF(L46:L65,AD20)","v":8},null,null,null,{"$f":"N20","v":2212},{"$f":"COUNTIF(L66:L85,AI20)","v":6},null,null,null,{"$f":"N20","v":2212},{"$f":"COUNTIF(L86:L104,AN20)","v":6},null,null,null,{"$f":"N20","v":2212},{"$f":"COUNTIF(L105:L124,AS20)","v":9}]
[21,2063,12,2074,13,2092,23,2112,null,null,0,2112,null,2221,{"$f":"COUNTIF($L$7:$L$500,N21)","v":10},{"$f":"O21/$Q$4","v":8.4745762711864403E-2},{"$f":"IF(P21=0,0,(P21*((LOG(P21))/LOG(2))))","v":-0.30175550461648132},null,null,{"$f":"N21","v":2221},{"$f":"COUNTIF(L7:L26,T21)","v":0},{"$f":"U21/(W4-U20)","v":0},{"$f":"IF(V21=0,0,(V21*((LOG(V21))/LOG(2))))","v":0},null,{"$f":"N21","v":2221},{"$f":"COUNTIF(L27:L45,Y21)","v":4},{"$f":"Z21/(AB4-Z20)","v":0.25},{"$f":"IF(AA21=0,0,(AA21*((LOG(AA21))/LOG(2))))","v":-0.5},null,{"$f":"N21","v":2221},{"$f":"COUNTIF(L46:L65,AD21)","v":1},{"$f":"AE21/(AG4-AE20)","v":8.3333333333333329E-2},{"$f":"IF(AF21=0,0,(AF21*((LOG(AF21))/LOG(2))))","v":-0.29874687506009634},null,{"$f":"N21","v":2221},{"$f":"COUNTIF(L66:L85,AI21)","v":1},{"$f":"AJ21/(AL4-AJ20)","v":7.1428571428571425E-2},{"$f":"IF(AK21=0,0,(AK21*((LOG(AK21))/LOG(2))))","v":-0.27195392300411453},null,{"$f":"N21","v":2221},{"$f":"COUNTIF(L86:L104,AN21)","v":4},{"$f":"AO21/(AQ4-AO20)","v":0.30769230769230771},{"$f":"IF(AP21=0,0,(AP21*((LOG(AP21))/LOG(2))))","v":-0.52321222096648989},null,{"$f":"N21","v":2221},{"$f":"COUNTIF(L105:L124,AS21)","v":0},{"$f":"AT21/(AV4-AT20)","v":0},{"$f":"IF(AU21=0,0,(AU21*((LOG(AU21))/LOG(2))))","v":0}]
[21,2211,21,2228,11,2234,21,2241,null,null,0,2212,null,2222,{"$f":"COUNTIF($L$7:$L$500,N22)","v":3},{"$f":"O22/$Q$4","v":2.5423728813559324E-2},{"$f":"IF(P22=0,0,(P22*((LOG(P22))/LOG(2))))","v":-0.13468679360950894},null,null,{"$f":"N22","v":2222},{"$f":"COUNTIF(L7:L26,T22)","v":0},{"$f":"U22/(W4-U20)","v":0},{"$f":"IF(V22=0,0,(V22*((LOG(V22))/LOG(2))))","v":0},null,{"$f":"N22","v":2222},{"$f":"COUNTIF(L27:L45,Y22)","v":2},{"$f":"Z22/(AB4-Z20)","v":0.125},{"$f":"IF(AA22=0,0,(AA22*((LOG(AA22))/LOG(2))))","v":-0.375},null,{"$f":"N22","v":2222},{"$f":"COUNTIF(L46:L65,AD22)","v":0},{"$f":"AE22/(AG4-AE20)","v":0},{"$f":"IF(AF22=0,0,(AF22*((LOG(AF22))/LOG(2))))","v":0},null,{"$f":"N22","v":2222},{"$f":"COUNTIF(L66:L85,AI22)","v":0},{"$f":"AJ22/(AL4-AJ20)","v":0},{"$f":"IF(AK22=0,0,(AK22*((LOG(AK22))/LOG(2))))","v":0},null,{"$f":"N22","v":2222},{"$f":"COUNTIF(L86:L104,AN22)","v":0},{"$f":"AO22/(AQ4-AO20)","v":0},{"$f":"IF(AP22=0,0,(AP22*((LOG(AP22))/LOG(2))))","v":0},null,{"$f":"N22","v":2222},{"$f":"COUNTIF(L105:L124,AS22)","v":1},{"$f":"AT22/(AV4-AT20)","v":9.0909090909090912E-2},{"$f":"IF(AU22=0,0,(AU22*((LOG(AU22))/LOG(2))))","v":-0.31449378351248153}]
[21,2328,21,2336,11,2342,21,2361,null,null,0,2212,null,null,null,{"$f":"SUM(P7:P22)","v":1},{"$f":"-SUM(Q7:Q22)","v":2.6826738914742516},null,null,null,null,{"$f":"SUM(V7:V22)","v":1},{"$f":"-SUM(W7:W22)","v":1.8250112108241772},null,null,null,{"$f":"SUM(AA7:AA22)","v":1},{"$f":"-SUM(AB7:AB22)","v":1.875},null,null,null,{"$f":"SUM(AF7:AF22)","v":1},{"$f":"-SUM(AG7:AG22)","v":2.1258145836939111},null,null,null,{"$f":"SUM(AK7:AK22)","v":1},{"$f":"-SUM(AL7:AL22)","v":1.921185496588554},null,null,null,{"$f":"SUM(AP7:AP22)","v":1},{"$f":"-SUM(AQ7:AQ22)","v":2.7773627950641693},null,null,null,{"$f":"SUM(AU7:AU22)","v":1},{"$f":"-SUM(AV7:AV22)","v":2.0048861640918423}]
[21,2458,12,2468,13,2483,23,2513,null,null,0,2112,null,null,null,"U=",{"$f":"Q23/(LOG(Q4)/LOG(2))","v":0.38977379361886116},null,null,null,null,"U1=",{"$f":"W23/(LOG(W4)/LOG(2))","v":0.42226783295702663},null,null,null,"U2=",{"$f":"AB23/(LOG(AB4)/LOG(2))","v":0.44139171256244675},null,null,null,"U3=",{"$f":"AG23/(LOG(AG4)/LOG(2))","v":0.49186717988405443},null,null,null,"U4=",{"$f":"AL23/(LOG(AL4)/LOG(2))","v":0.44452046734910422},null,null,null,"U5=",{"$f":"AQ23/(LOG(AQ4)/LOG(2))","v":0.65381595761098532},null,null,null,"U6=",{"$f":"AV23/(LOG(AV4)/LOG(2))","v":0.46388697823629416}]
[21,2612,21,2620,11,2627,21,2655,null,null,0,2212]
[21,2746,21,2753,11,2762,21,2793,null,null,0,2212]
[21,2889,12,2897,13,2926,23,2980,null,null,0,2112,null,"Total Target Seq"]
[21,3076,21,3082,22,3101,14,3108,null,null,0,2221,null,{"$f":"COUNTIF(L7:L124,G3)","v":40},null,20,19,20,20,19,20]
[21,3206,21,3242,22,3247,23,3254,null,null,0,2222,null,null,null,"% of reinforcement given in 6 equal intervals based on number of trials "]
[21,3355,12,3372,24,3396,14,3404,null,null,0,2121,null,null,null,"%_1","%_2","%_3","%_4","%_5","%_6"]
[21,3500,21,3504,22,3527,23,3535,null,null,0,2222,null,null,"target sequence",{"$f":"$G$3","v":2212},{"$f":"$G$3","v":2212},{"$f":"$G$3","v":2212},{"$f":"$G$3","v":2212},{"$f":"$G$3","v":2212},{"$f":"$G$3","v":2212}]
[21,3644,12,3651,24,3665,23,3676,null,null,0,2122,null,null,"total reinforcement",{"$f":"U20","v":8},{"$f":"Z20","v":3},{"$f":"AE20","v":8},{"$f":"AJ20","v":6},{"$f":"AO20","v":6},{"$f":"AT20","v":9}]
[21,3778,21,3785,22,3789,14,3795,null,null,0,2221,null,null,"% target"]
[21,3893,21,3900,11,3906,21,3925,null,null,0,2212,null,null,"CCRF"]
[21,4022,12,4048,24,4063,23,4077,null,null,0,2122,null,null,"% CCRf"]
[21,4174,21,4180,11,4187,21,4204,null,null,0,2212,null,null,"average response rate",{"$f":"H26/P28","v":139.65},{"$f":"(H45-H26)/Q28","v":144.94736842105263},{"$f":"(H65-H45)/R28","v":139.6},{"$f":"(H85-H65)/S28","v":143.4},{"$f":"(H104-H85)/T28","v":136.63157894736841},{"$f":"(H124-H104)/U28","v":133.44999999999999}]
[21,4292,12,4307,24,4345,23,4370,null,null,0,2122]
[21,4474,12,4481,24,4488,23,4496,null,null,0,2122]
[21,4592,21,4596,22,4602,14,4609,null,null,0,2221]
[21,4731,21,4750,11,4757,21,4771,null,null,0,2212]
[21,4889,12,4906,24,4939,23,4948,null,null,0,2122]
[21,5046,12,5079,24,5100,23,5111,null,null,0,2122]
[21,5211,12,5229,24,5237,23,5256,null,null,0,2122]
[21,5355,21,5359,22,5393,14,5401,null,null,0,2221]
[21,5504,12,5527,24,5534,23,5547,null,null,0,2122]
[21,5644,21,5649,22,5668,14,5676,null,null,0,2221]
[21,5774,21,5782,11,5789,21,5797,null,null,0,2212]
[21,5887,21,5896,11,5919,21,5931,null,null,0,2212]
[12,6031,23,6039,13,6048,23,6059,null,null,0,1212]
[21,6160,21,6172,11,6190,21,6224,null,null,0,2212]
[21,6314,21,6332,11,6338,21,6358,null,null,0,2212]
[21,6448,21,6484,11,6496,21,6515,null,null,0,2212]
[21,6604,12,6627,24,6637,23,6653,null,null,0,2122]
[21,6754,12,6778,24,6785,23,6805,null,null,0,2122]
[12,6912,23,6933,13,6940,23,6947,null,null,0,1212]
[21,7053,12,7065,13,7085,23,7092,null,null,0,2112]
[21,7193,12,7199,24,7207,23,7216,null,null,0,2122]
[21,7314,21,7320,11,7327,21,7334,null,null,0,2212]
[21,7424,12,7431,24,7461,23,7509,null,null,0,2122]
[21,7607,12,7620,24,7628,14,7648,null,null,0,2121]
[21,7742,21,7746,11,7771,21,7778,null,null,0,2212]
[21,7873,21,7880,11,7900,21,7921,null,null,0,2212]
[21,8013,21,8020,11,8030,12,8045,null,null,0,2211]
[21,8138,12,8168,24,8183,23,8199,null,null,0,2122]
[21,8299,12,8321,24,8328,23,8339,null,null,0,2122]
[21,8437,21,8448,11,8460,12,8479,null,null,0,2211]
[21,8588,12,8600,24,8626,23,8632,null,null,0,2122]
[21,8729,21,8733,22,8740,14,8756,null,null,0,2221]
[21,8864,21,8879,11,8885,21,8935,null,null,0,2212]
[21,9038,12,9062,24,9073,14,9096,null,null,0,2121]
[12,9218,23,9226,24,9233,23,9241,null,null,0,1222]
[21,9342,12,9360,24,9372,14,9384,null,null,0,2121]
[21,9482,21,9494,11,9504,12,9534,null,null,0,2211]
[21,9632,21,9643,11,9650,21,9666,null,null,0,2212]
[21,9758,21,9765,11,9773,21,9801,null,null,0,2212]
[21,9896,21,9907,11,9914,21,9952,null,null,0,2212]
[21,10053,12,10061,24,10073,14,10088,null,null,0,2121]
[21,10189,21,10203,11,10219,21,10236,null,null,0,2212]
[21,10341,12,10352,24,10359,23,10371,null,null,0,2122]
[21,10469,12,10491,24,10515,23,10522,null,null,0,2122]
[21,10624,21,10631,11,10637,21,10644,null,null,0,2212]
[21,10733,12,10751,24,10765,23,10779,null,null,0,2122]
[21,10881,12,10887,24,10894,23,10902,null,null,0,2122]
[21,11001,12,11014,24,11029,23,11052,null,null,0,2122]
[21,11150,12,11172,24,11185,23,11207,null,null,0,2122]
[21,11311,12,11325,13,11346,23,11353,null,null,0,2112]
[21,11451,21,11455,22,11490,14,11499,null,null,0,2221]
[21,11597,21,11603,11,11610,21,11629,null,null,0,2212]
[21,11718,21,11724,11,11731,21,11738,null,null,0,2212]
[21,11833,12,11841,13,11857,23,11869,null,null,0,2112]
[21,11970,12,11983,24,11998,14,12005,null,null,0,2121]
[21,12102,21,12106,11,12114,12,12149,null,null,0,2211]
[21,12266,12,12273,24,12289,23,12303,null,null,0,2122]
[21,12401,21,12430,22,12437,14,12446,null,null,0,2221]
[21,12543,21,12549,11,12556,21,12574,null,null,0,2212]
[21,12663,21,12670,11,12676,21,12686,null,null,0,2212]
[12,12784,23,12803,13,12809,23,12819,null,null,0,1212]
[12,12941,23,12952,24,12963,23,12987,null,null,0,1222]
[21,13086,12,13101,24,13130,23,13141,null,null,0,2122]
[21,13237,21,13244,11,13252,21,13259,null,null,0,2212]
[21,13349,21,13363,22,13371,14,13378,null,null,0,2221]
[21,13478,21,13492,22,13505,14,13511,null,null,0,2221]
[12,13625,23,13658,24,13669,14,13679,null,null,0,1221]
[21,13779,21,13785,11,13792,21,13803,null,null,0,2212]
[21,13891,12,13912,24,13920,14,13940,null,null,0,2121]
[21,14045,21,14051,11,14057,21,14064,null,null,0,2212]
[21,14159,12,14170,24,14178,14,14196,null,null,0,2121]
[21,14294,21,14310,11,14317,21,14359,null,null,0,2212]
[21,14458,12,14488,24,14499,14,14523,null,null,0,2121]
[21,14625,12,14647,24,14675,23,14694,null,null,0,2122]
[21,14793,12,14806,24,14814,23,14827,null,null,0,2122]
[12,14935,23,14942,24,14953,23,14960,null,null,0,1222]
[21,15059,12,15077,24,15088,23,15099,null,null,0,2122]
[21,15198,21,15203,11,15210,21,15225,null,null,0,2212]
[21,15313,21,15321,11,15328,21,15347,null,null,0,2212]
[21,15441,21,15453,11,15461,21,15469,null,null,0,2212]
[21,15560,21,15569,11,15576,21,15584,null,null,0,2212]
[21,15677,12,15684,24,15705,14,15731,null,null,0,2121]
[21,15832,21,15843,11,15849,21,15856,null,null,0,2212]
[21,15948,21,15961,11,15968,21,15975,null,null,0,2212]
[21,16067,12,16081,24,16088,23,16100,null,null,0,2122]
[21,16196,21,16201,11,16208,12,16226,null,null,0,2211]
[21,16323,21,16329,22,16342,23,16353,null,null,0,2222]
[21,16451,21,16459,11,16465,21,16472,null,null,1,2212]

{"sheet":"!MB05B00.096","index":22,"n_rows":160,"n_cols":48,"rows_kept":160,"cut":false,"hidden":false,"merged":[[4,39,4,42],[5,39,5,40],[4,44,4,47],[5,44,5,45],[4,24,4,27],[5,24,5,25],[4,29,4,32],[5,29,5,30],[4,34,4,37],[5,34,5,35],[1,1,1,2],[5,13,5,14],[26,13,26,14],[27,13,27,14],[4,19,4,22],[5,19,5,20]]}
["Report for:!MB05B00.096"]
["Date:","<date>"]
["Hen:","<hen>",null,null,null,"Correct Sequence",{"$f":"Start!J2","v":2212},null,null,null,null,null,null,null,null,"Total Sequences in Data",{"$f":"4994-COUNTBLANK(L7:L5000)","v":154},null,null,null,null,"Total Sequences in Block Data",{"$f":"COUNTA(L7:L32)","v":26},null,null,null,"Total Sequences in Block Data",{"$f":"COUNTA(L33:L57)","v":25},null,null,null,"Total Sequences in Block Data",{"$f":"COUNTA(L58:L83)","v":26},null,null,null,"Total Sequences in Block Data",{"$f":"COUNTA(L84:L109)","v":26},null,null,null,"Total Sequences in Block Data",{"$f":"COUNTA(L110:L134)","v":25},null,null,null,"Total Sequences in Block Data",{"$f":"COUNTA(L135:L160)","v":26}]
[null,null,null,null,null,null,null,null,null,null,null,null,null,null,null,"Total Sequences in Summary",{"$f":"SUM(O7:O22)","v":154},null,null,null,null,"Total Sequences in Block Summary",{"$f":"SUM(U7:U22)","v":26},null,null,null,"Total Sequences in Block Summary",{"$f":"SUM(Z7:Z22)","v":25},null,null,null,"Total Sequences in Block Summary",{"$f":"SUM(AE7:AE22)","v":26},null,null,null,"Total Sequences in Block Summary",{"$f":"SUM(AJ7:AJ22)","v":26},null,null,null,"Total Sequences in Block Summary",{"$f":"SUM(AO7:AO22)","v":25},null,null,null,"Total Sequences in Block Summary",{"$f":"SUM(AT7:AT22)","v":26}]
[null,null,null,null,null,null,null,null,null,null,null,null,null,null,null,null,null,null,null,"Block 1",null,null,null,null,"Block 2",null,null,null,null,"Block 3",null,null,null,null,"Block 4",null,null,null,null,"Block 5",null,null,null,null,"Block 6"]
["Sequence\nComponent\n1","Time\n1","Sequence\nComponent\n2","Time\n2","Sequence\nComponent\n3","Time\n3","Sequence\nComponent\n4","Time\n4","Sequence\nComponent\n5","Time\n5","Correct?\n0=No 1=Yes","Sequence",null,"Frequency",null,"Relative Frequency","Variability",null,null,"Frequency",null,"Relative Frequency","Variability",null,"Frequency",null,"Relative Frequency","Variability",null,"Frequency",null,"Relative Frequency","Variability",null,"Frequency",null,"Relative Frequency","Variability",null,"Frequency",null,"Relative Frequency","Variability",null,"Frequency",null,"Relative Frequency","Variability"]
[12,13,14,26,13,31,23,43,null,null,0,1112,null,1111,{"$f":"COUNTIF($L$7:$L$500,N7)","v":0},{"$f":"O7/$Q$4","v":0},{"$f":"IF(P7=0,0,(P7*((LOG(P7))/LOG(2))))","v":0},null,null,{"$f":"N7","v":1111},{"$f":"COUNTIF(L7:L32,T7)","v":0},{"$f":"U7/(W4-U20)","v":0},{"$f":"IF(V7=0,0,(V7*((LOG(V7))/LOG(2))))","v":0},null,{"$f":"N7","v":1111},{"$f":"COUNTIF(L33:L57,Y7)","v":0},{"$f":"Z7/(AB4-Z20)","v":0},{"$f":"IF(AA7=0,0,(AA7*((LOG(AA7))/LOG(2))))","v":0},null,{"$f":"N7","v":1111},{"$f":"COUNTIF(L58:L83,AD7)","v":0},{"$f":"AE7/(AG4-AE20)","v":0},{"$f":"IF(AF7=0,0,(AF7*((LOG(AF7))/LOG(2))))","v":0},null,{"$f":"N7","v":1111},{"$f":"COUNTIF(L84:L109,AI7)","v":0},{"$f":"AJ7/(AL4-AJ20)","v":0},{"$f":"IF(AK7=0,0,(AK7*((LOG(AK7))/LOG(2))))","v":0},null,{"$f":"N7","v":1111},{"$f":"COUNTIF(L110:L134,AN7)","v":0},{"$f":"AO7/(AQ4-AO20)","v":0},{"$f":"IF(AP7=0,0,(AP7*((LOG(AP7))/LOG(2))))","v":0},null,{"$f":"N7","v":1111},{"$f":"COUNTIF(L135:L160,AS7)","v":0},{"$f":"AT7/(AV4-AT20)","v":0},{"$f":"IF(AU7=0,0,(AU7*((LOG(AU7))/LOG(2))))","v":0}]
[21,152,12,161,24,169,23,182,null,null,0,2122,null,1112,{"$f":"COUNTIF($L$7:$L$500,N8)","v":2},{"$f":"O8/$Q$4","v":1.2987012987012988E-2},{"$f":"IF(P8=0,0,(P8*((LOG(P8))/LOG(2))))","v":-8.1386838190842872E-2},null,null,{"$f":"N8","v":1112},{"$f":"COUNTIF(L7:L32,T8)","v":1},{"$f":"U8/(W4-U20)","v":4.3478260869565216E-2},{"$f":"IF(V8=0,0,(V8*((LOG(V8))/LOG(2))))","v":-0.19667660678508753},null,{"$f":"N8","v":1112},{"$f":"COUNTIF(L33:L57,Y8)","v":0},{"$f":"Z8/(AB4-Z20)","v":0},{"$f":"IF(AA8=0,0,(AA8*((LOG(AA8))/LOG(2))))","v":0},null,{"$f":"N8","v":1112},{"$f":"COUNTIF(L58:L83,AD8)","v":0},{"$f":"AE8/(AG4-AE20)","v":0},{"$f":"IF(AF8=0,0,(AF8*((LOG(AF8))/LOG(2))))","v":0},null,{"$f":"N8","v":1112},{"$f":"COUNTIF(L84:L109,AI8)","v":1},{"$f":"AJ8/(AL4-AJ20)","v":5.5555555555555552E-2},{"$f":"IF(AK8=0,0,(AK8*((LOG(AK8))/LOG(2))))","v":-0.23166250008012845},null,{"$f":"N8","v":1112},{"$f":"COUNTIF(L110:L134,AN8)","v":0},{"$f":"AO8/(AQ4-AO20)","v":0},{"$f":"IF(AP8=0,0,(AP8*((LOG(AP8))/LOG(2))))","v":0},null,{"$f":"N8","v":1112},{"$f":"COUNTIF(L135:L160,AS8)","v":0},{"$f":"AT8/(AV4-AT20)","v":0},{"$f":"IF(AU8=0,0,(AU8*((LOG(AU8))/LOG(2))))","v":0}]
[12,293,23,301,24,315,14,325,null,null,0,1221,null,1121,{"$f":"COUNTIF($L$7:$L$500,N9)","v":1},{"$f":"O9/$Q$4","v":6.4935064935064939E-3},{"$f":"IF(P9=0,0,(P9*((LOG(P9))/LOG(2))))","v":-4.7186925588927932E-2},null,null,{"$f":"N9","v":1121},{"$f":"COUNTIF(L7:L32,T9)","v":0},{"$f":"U9/(W4-U20)","v":0},{"$f":"IF(V9=0,0,(V9*((LOG(V9))/LOG(2))))","v":0},null,{"$f":"N9","v":1121},{"$f":"COUNTIF(L33:L57,Y9)","v":0},{"$f":"Z9/(AB4-Z20)","v":0},{"$f":"IF(AA9=0,0,(AA9*((LOG(AA9))/LOG(2))))","v":0},null,{"$f":"N9","v":1121},{"$f":"COUNTIF(L58:L83,AD9)","v":1},{"$f":"AE9/(AG4-AE20)","v":0.05},{"$f":"IF(AF9=0,0,(AF9*((LOG(AF9))/LOG(2))))","v":-0.21609640474436814},null,{"$f":"N9","v":1121},{"$f":"COUNTIF(L84:L109,AI9)","v":0},{"$f":"AJ9/(AL4-AJ20)","v":0},{"$f":"IF(AK9=0,0,(AK9*((LOG(AK9))/LOG(2))))","v":0},null,{"$f":"N9","v":1121},{"$f":"COUNTIF(L110:L134,AN9)","v":0},{"$f":"AO9/(AQ4-AO20)","v":0},{"$f":"IF(AP9=0,0,(AP9*((LOG(AP9))/LOG(2))))","v":0},null,{"$f":"N9","v":1121},{"$f":"COUNTIF(L135:L160,AS9)","v":0},{"$f":"AT9/(AV4-AT20)","v":0},{"$f":"IF(AU9=0,0,(AU9*((LOG(AU9))/LOG(2))))","v":0}]
[21,423,12,433,24,440,23,452,null,null,0,2122,null,1122,{"$f":"COUNTIF($L$7:$L$500,N10)","v":3},{"$f":"O10/$Q$4","v":1.948051948051948E-2},{"$f":"IF(P10=0,0,(P10*((LOG(P10))/LOG(2))))","v":-0.11068488389559245},null,null,{"$f":"N10","v":1122},{"$f":"COUNTIF(L7:L32,T10)","v":0},{"$f":"U10/(W4-U20)","v":0},{"$f":"IF(V10=0,0,(V10*((LOG(V10))/LOG(2))))","v":0},null,{"$f":"N10","v":1122},{"$f":"COUNTIF(L33:L57,Y10)","v":2},{"$f":"Z10/(AB4-Z20)","v":0.1},{"$f":"IF(AA10=0,0,(AA10*((LOG(AA10))/LOG(2))))","v":-0.33219280948873625},null,{"$f":"N10","v":1122},{"$f":"COUNTIF(L58:L83,AD10)","v":0},{"$f":"AE10/(AG4-AE20)","v":0},{"$f":"IF(AF10=0,0,(AF10*((LOG(AF10))/LOG(2))))","v":0},null,{"$f":"N10","v":1122},{"$f":"COUNTIF(L84:L109,AI10)","v":0},{"$f":"AJ10/(AL4-AJ20)","v":0},{"$f":"IF(AK10=0,0,(AK10*((LOG(AK10))/LOG(2))))","v":0},null,{"$f":"N10","v":1122},{"$f":"COUNTIF(L110:L134,AN10)","v":1},{"$f":"AO10/(AQ4-AO20)","v":6.25E-2},{"$f":"IF(AP10=0,0,(AP10*((LOG(AP10))/LOG(2))))","v":-0.25},null,{"$f":"N10","v":1122},{"$f":"COUNTIF(L135:L160,AS10)","v":0},{"$f":"AT10/(AV4-AT20)","v":0},{"$f":"IF(AU10=0,0,(AU10*((LOG(AU10))/LOG(2))))","v":0}]
[12,560,23,567,24,578,14,589,null,null,0,1221,null,1211,{"$f":"COUNTIF($L$7:$L$500,N11)","v":0},{"$f":"O11/$Q$4","v":0},{"$f":"IF(P11=0,0,(P11*((LOG(P11))/LOG(2))))","v":0},null,null,{"$f":"N11","v":1211},{"$f":"COUNTIF(L7:L32,T11)","v":0},{"$f":"U11/(W4-U20)","v":0},{"$f":"IF(V11=0,0,(V11*((LOG(V11))/LOG(2))))","v":0},null,{"$f":"N11","v":1211},{"$f":"COUNTIF(L33:L57,Y11)","v":0},{"$f":"Z11/(AB4-Z20)","v":0},{"$f":"IF(AA11=0,0,(AA11*((LOG(AA11))/LOG(2))))","v":0},null,{"$f":"N11","v":1211},{"$f":"COUNTIF(L58:L83,AD11)","v":0},{"$f":"AE11/(AG4-AE20)","v":0},{"$f":"IF(AF11=0,0,(AF11*((LOG(AF11))/LOG(2))))","v":0},null,{"$f":"N11","v":1211},{"$f":"COUNTIF(L84:L109,AI11)","v":0},{"$f":"AJ11/(AL4-AJ20)","v":0},{"$f":"IF(AK11=0,0,(AK11*((LOG(AK11))/LOG(2))))","v":0},null,{"$f":"N11","v":1211},{"$f":"COUNTIF(L110:L134,AN11)","v":0},{"$f":"AO11/(AQ4-AO20)","v":0},{"$f":"IF(AP11=0,0,(AP11*((LOG(AP11))/LOG(2))))","v":0},null,{"$f":"N11","v":1211},{"$f":"COUNTIF(L135:L160,AS11)","v":0},{"$f":"AT11/(AV4-AT20)","v":0},{"$f":"IF(AU11=0,0,(AU11*((LOG(AU11))/LOG(2))))","v":0}]
[21,690,12,704,24,711,23,721,null,null,0,2122,null,1212,{"$f":"COUNTIF($L$7:$L$500,N12)","v":5},{"$f":"O12/$Q$4","v":3.2467532467532464E-2},{"$f":"IF(P12=0,0,(P12*((LOG(P12))/LOG(2))))","v":-0.1605473521366084},null,null,{"$f":"N12","v":1212},{"$f":"COUNTIF(L7:L32,T12)","v":2},{"$f":"U12/(W4-U20)","v":8.6956521739130432E-2},{"$f":"IF(V12=0,0,(V12*((LOG(V12))/LOG(2))))","v":-0.30639669183104457},null,{"$f":"N12","v":1212},{"$f":"COUNTIF(L33:L57,Y12)","v":2},{"$f":"Z12/(AB4-Z20)","v":0.1},{"$f":"IF(AA12=0,0,(AA12*((LOG(AA12))/LOG(2))))","v":-0.33219280948873625},null,{"$f":"N12","v":1212},{"$f":"COUNTIF(L58:L83,AD12)","v":1},{"$f":"AE12/(AG4-AE20)","v":0.05},{"$f":"IF(AF12=0,0,(AF12*((LOG(AF12))/LOG(2))))","v":-0.21609640474436814},null,{"$f":"N12","v":1212},{"$f":"COUNTIF(L84:L109,AI12)","v":0},{"$f":"AJ12/(AL4-AJ20)","v":0},{"$f":"IF(AK12=0,0,(AK12*((LOG(AK12))/LOG(2))))","v":0},null,{"$f":"N12","v":1212},{"$f":"COUNTIF(L110:L134,AN12)","v":0},{"$f":"AO12/(AQ4-AO20)","v":0},{"$f":"IF(AP12=0,0,(AP12*((LOG(AP12))/LOG(2))))","v":0},null,{"$f":"N12","v":1212},{"$f":"COUNTIF(L135:L160,AS12)","v":0},{"$f":"AT12/(AV4-AT20)","v":0},{"$f":"IF(AU12=0,0,(AU12*((LOG(AU12))/LOG(2))))","v":0}]
[21,823,21,827,11,847,21,854,null,null,0,2212,null,1221,{"$f":"COUNTIF($L$7:$L$500,N13)","v":6},{"$f":"O13/$Q$4","v":3.896103896103896E-2},{"$f":"IF(P13=0,0,(P13*((LOG(P13))/LOG(2))))","v":-0.18240872883014592},null,null,{"$f":"N13","v":1221},{"$f":"COUNTIF(L7:L32,T13)","v":4},{"$f":"U13/(W4-U20)","v":0.17391304347826086},{"$f":"IF(V13=0,0,(V13*((LOG(V13))/LOG(2))))","v":-0.43888034018382832},null,{"$f":"N13","v":1221},{"$f":"COUNTIF(L33:L57,Y13)","v":0},{"$f":"Z13/(AB4-Z20)","v":0},{"$f":"IF(AA13=0,0,(AA13*((LOG(AA13))/LOG(2))))","v":0},null,{"$f":"N13","v":1221},{"$f":"COUNTIF(L58:L83,AD13)","v":1},{"$f":"AE13/(AG4-AE20)","v":0.05},{"$f":"IF(AF13=0,0,(AF13*((LOG(AF13))/LOG(2))))","v":-0.21609640474436814},null,{"$f":"N13","v":1221},{"$f":"COUNTIF(L84:L109,AI13)","v":0},{"$f":"AJ13/(AL4-AJ20)","v":0},{"$f":"IF(AK13=0,0,(AK13*((LOG(AK13))/LOG(2))))","v":0},null,{"$f":"N13","v":1221},{"$f":"COUNTIF(L110:L134,AN13)","v":0},{"$f":"AO13/(AQ4-AO20)","v":0},{"$f":"IF(AP13=0,0,(AP13*((LOG(AP13))/LOG(2))))","v":0},null,{"$f":"N13","v":1221},{"$f":"COUNTIF(L135:L160,AS13)","v":1},{"$f":"AT13/(AV4-AT20)","v":5.8823529411764705E-2},{"$f":"IF(AU13=0,0,(AU13*((LOG(AU13))/LOG(2))))","v":-0.24043899066178465}]
[12,979,23,986,13,1014,23,1021,null,null,0,1212,null,1222,{"$f":"COUNTIF($L$7:$L$500,N14)","v":2},{"$f":"O14/$Q$4","v":1.2987012987012988E-2},{"$f":"IF(P14=0,0,(P14*((LOG(P14))/LOG(2))))","v":-8.1386838190842872E-2},null,null,{"$f":"N14","v":1222},{"$f":"COUNTIF(L7:L32,T14)","v":1},{"$f":"U14/(W4-U20)","v":4.3478260869565216E-2},{"$f":"IF(V14=0,0,(V14*((LOG(V14))/LOG(2))))","v":-0.19667660678508753},null,{"$f":"N14","v":1222},{"$f":"COUNTIF(L33:L57,Y14)","v":1},{"$f":"Z14/(AB4-Z20)","v":0.05},{"$f":"IF(AA14=0,0,(AA14*((LOG(AA14))/LOG(2))))","v":-0.21609640474436814},null,{"$f":"N14","v":1222},{"$f":"COUNTIF(L58:L83,AD14)","v":0},{"$f":"AE14/(AG4-AE20)","v":0},{"$f":"IF(AF14=0,0,(AF14*((LOG(AF14))/LOG(2))))","v":0},null,{"$f":"N14","v":1222},{"$f":"COUNTIF(L84:L109,AI14)","v":0},{"$f":"AJ14/(AL4-AJ20)","v":0},{"$f":"IF(AK14=0,0,(AK14*((LOG(AK14))/LOG(2))))","v":0},null,{"$f":"N14","v":1222},{"$f":"COUNTIF(L110:L134,AN14)","v":0},{"$f":"AO14/(AQ4-AO20)","v":0},{"$f":"IF(AP14=0,0,(AP14*((LOG(AP14))/LOG(2))))","v":0},null,{"$f":"N14","v":1222},{"$f":"COUNTIF(L135:L160,AS14)","v":0},{"$f":"AT14/(AV4-AT20)","v":0},{"$f":"IF(AU14=0,0,(AU14*((LOG(AU14))/LOG(2))))","v":0}]
[21,1119,12,1157,24,1164,23,1185,null,null,0,2122,null,2111,{"$f":"COUNTIF($L$7:$L$500,N15)","v":0},{"$f":"O15/$Q$4","v":0},{"$f":"IF(P15=0,0,(P15*((LOG(P15))/LOG(2))))","v":0},null,null,{"$f":"N15","v":2111},{"$f":"COUNTIF(L7:L32,T15)","v":0},{"$f":"U15/(W4-U20)","v":0},{"$f":"IF(V15=0,0,(V15*((LOG(V15))/LOG(2))))","v":0},null,{"$f":"N15","v":2111},{"$f":"COUNTIF(L33:L57,Y15)","v":0},{"$f":"Z15/(AB4-Z20)","v":0},{"$f":"IF(AA15=0,0,(AA15*((LOG(AA15))/LOG(2))))","v":0},null,{"$f":"N15","v":2111},{"$f":"COUNTIF(L58:L83,AD15)","v":0},{"$f":"AE15/(AG4-AE20)","v":0},{"$f":"IF(AF15=0,0,(AF15*((LOG(AF15))/LOG(2))))","v":0},null,{"$f":"N15","v":2111},{"$f":"COUNTIF(L84:L109,AI15)","v":0},{"$f":"AJ15/(AL4-AJ20)","v":0},{"$f":"IF(AK15=0,0,(AK15*((LOG(AK15))/LOG(2))))","v":0},null,{"$f":"N15","v":2111},{"$f":"COUNTIF(L110:L134,AN15)","v":0},{"$f":"AO15/(AQ4-AO20)","v":0},{"$f":"IF(AP15=0,0,(AP15*((LOG(AP15))/LOG(2))))","v":0},null,{"$f":"N15","v":2111},{"$f":"COUNTIF(L135:L160,AS15)","v":0},{"$f":"AT15/(AV4-AT20)","v":0},{"$f":"IF(AU15=0,0,(AU15*((LOG(AU15))/LOG(2))))","v":0}]
[21,1289,12,1303,24,1310,23,1319,null,null,0,2122,null,2112,{"$f":"COUNTIF($L$7:$L$500,N16)","v":11},{"$f":"O16/$Q$4","v":7.1428571428571425E-2},{"$f":"IF(P16=0,0,(P16*((LOG(P16))/LOG(2))))","v":-0.27195392300411453},null,null,{"$f":"N16","v":2112},{"$f":"COUNTIF(L7:L32,T16)","v":1},{"$f":"U16/(W4-U20)","v":4.3478260869565216E-2},{"$f":"IF(V16=0,0,(V16*((LOG(V16))/LOG(2))))","v":-0.19667660678508753},null,{"$f":"N16","v":2112},{"$f":"COUNTIF(L33:L57,Y16)","v":2},{"$f":"Z16/(AB4-Z20)","v":0.1},{"$f":"IF(AA16=0,0,(AA16*((LOG(AA16))/LOG(2))))","v":-0.33219280948873625},null,{"$f":"N16","v":2112},{"$f":"COUNTIF(L58:L83,AD16)","v":1},{"$f":"AE16/(AG4-AE20)","v":0.05},{"$f":"IF(AF16=0,0,(AF16*((LOG(AF16))/LOG(2))))","v":-0.21609640474436814},null,{"$f":"N16","v":2112},{"$f":"COUNTIF(L84:L109,AI16)","v":4},{"$f":"AJ16/(AL4-AJ20)","v":0.22222222222222221},{"$f":"IF(AK16=0,0,(AK16*((LOG(AK16))/LOG(2))))","v":-0.48220555587606945},null,{"$f":"N16","v":2112},{"$f":"COUNTIF(L110:L134,AN16)","v":2},{"$f":"AO16/(AQ4-AO20)","v":0.125},{"$f":"IF(AP16=0,0,(AP16*((LOG(AP16))/LOG(2))))","v":-0.375},null,{"$f":"N16","v":2112},{"$f":"COUNTIF(L135:L160,AS16)","v":1},{"$f":"AT16/(AV4-AT20)","v":5.8823529411764705E-2},{"$f":"IF(AU16=0,0,(AU16*((LOG(AU16))/LOG(2))))","v":-0.24043899066178465}]
[12,1430,23,1437,24,1445,14,1453,null,null,0,1221,null,2121,{"$f":"COUNTIF($L$7:$L$500,N17)","v":18},{"$f":"O17/$Q$4","v":0.11688311688311688},{"$f":"IF(P17=0,0,(P17*((LOG(P17))/LOG(2))))","v":-0.36197082926328961},null,null,{"$f":"N17","v":2121},{"$f":"COUNTIF(L7:L32,T17)","v":5},{"$f":"U17/(W4-U20)","v":0.21739130434782608},{"$f":"IF(V17=0,0,(V17*((LOG(V17))/LOG(2))))","v":-0.47861605677601093},null,{"$f":"N17","v":2121},{"$f":"COUNTIF(L33:L57,Y17)","v":3},{"$f":"Z17/(AB4-Z20)","v":0.15},{"$f":"IF(AA17=0,0,(AA17*((LOG(AA17))/LOG(2))))","v":-0.41054483912493089},null,{"$f":"N17","v":2121},{"$f":"COUNTIF(L58:L83,AD17)","v":7},{"$f":"AE17/(AG4-AE20)","v":0.35},{"$f":"IF(AF17=0,0,(AF17*((LOG(AF17))/LOG(2))))","v":-0.53010061049041535},null,{"$f":"N17","v":2121},{"$f":"COUNTIF(L84:L109,AI17)","v":2},{"$f":"AJ17/(AL4-AJ20)","v":0.1111111111111111},{"$f":"IF(AK17=0,0,(AK17*((LOG(AK17))/LOG(2))))","v":-0.3522138890491458},null,{"$f":"N17","v":2121},{"$f":"COUNTIF(L110:L134,AN17)","v":1},{"$f":"AO17/(AQ4-AO20)","v":6.25E-2},{"$f":"IF(AP17=0,0,(AP17*((LOG(AP17))/LOG(2))))","v":-0.25},null,{"$f":"N17","v":2121},{"$f":"COUNTIF(L135:L160,AS17)","v":0},{"$f":"AT17/(AV4-AT20)","v":0},{"$f":"IF(AU17=0,0,(AU17*((LOG(AU17))/LOG(2))))","v":0}]
[12,1561,23,1568,24,1576,14,1585,null,null,0,1221,null,2122,{"$f":"COUNTIF($L$7:$L$500,N18)","v":38},{"$f":"O18/$Q$4","v":0.24675324675324675},{"$f":"IF(P18=0,0,(P18*((LOG(P18))/LOG(2))))","v":-0.49816001971136364},null,null,{"$f":"N18","v":2122},{"$f":"COUNTIF(L7:L32,T18)","v":9},{"$f":"U18/(W4-U20)","v":0.39130434782608697},{"$f":"IF(V18=0,0,(V18*((LOG(V18))/LOG(2))))","v":-0.5296840257187958},null,{"$f":"N18","v":2122},{"$f":"COUNTIF(L33:L57,Y18)","v":7},{"$f":"Z18/(AB4-Z20)","v":0.35},{"$f":"IF(AA18=0,0,(AA18*((LOG(AA18))/LOG(2))))","v":-0.53010061049041535},null,{"$f":"N18","v":2122},{"$f":"COUNTIF(L58:L83,AD18)","v":8},{"$f":"AE18/(AG4-AE20)","v":0.4},{"$f":"IF(AF18=0,0,(AF18*((LOG(AF18))/LOG(2))))","v":-0.52877123795494496},null,{"$f":"N18","v":2122},{"$f":"COUNTIF(L84:L109,AI18)","v":7},{"$f":"AJ18/(AL4-AJ20)","v":0.3888888888888889},{"$f":"IF(AK18=0,0,(AK18*((LOG(AK18))/LOG(2))))","v":-0.52988836420516428},null,{"$f":"N18","v":2122},{"$f":"COUNTIF(L110:L134,AN18)","v":5},{"$f":"AO18/(AQ4-AO20)","v":0.3125},{"$f":"IF(AP18=0,0,(AP18*((LOG(AP18))/LOG(2))))","v":-0.52439747034769923},null,{"$f":"N18","v":2122},{"$f":"COUNTIF(L135:L160,AS18)","v":2},{"$f":"AT18/(AV4-AT20)","v":0.11764705882352941},{"$f":"IF(AU18=0,0,(AU18*((LOG(AU18))/LOG(2))))","v":-0.36323092250003997}]
[21,1717,21,1741,11,1757,21,1763,null,null,0,2212,null,2211,{"$f":"COUNTIF($L$7:$L$500,N19)","v":4},{"$f":"O19/$Q$4","v":2.5974025974025976E-2},{"$f":"IF(P19=0,0,(P19*((LOG(P19))/LOG(2))))","v":-0.13679965040765979},null,null,{"$f":"N19","v":2211},{"$f":"COUNTIF(L7:L32,T19)","v":0},{"$f":"U19/(W4-U20)","v":0},{"$f":"IF(V19=0,0,(V19*((LOG(V19))/LOG(2))))","v":0},null,{"$f":"N19","v":2211},{"$f":"COUNTIF(L33:L57,Y19)","v":2},{"$f":"Z19/(AB4-Z20)","v":0.1},{"$f":"IF(AA19=0,0,(AA19*((LOG(AA19))/LOG(2))))","v":-0.33219280948873625},null,{"$f":"N19","v":2211},{"$f":"COUNTIF(L58:L83,AD19)","v":1},{"$f":"AE19/(AG4-AE20)","v":0.05},{"$f":"IF(AF19=0,0,(AF19*((LOG(AF19))/LOG(2))))","v":-0.21609640474436814},null,{"$f":"N19","v":2211},{"$f":"COUNTIF(L84:L109,AI19)","v":0},{"$f":"AJ19/(AL4-AJ20)","v":0},{"$f":"IF(AK19=0,0,(AK19*((LOG(AK19))/LOG(2))))","v":0},null,{"$f":"N19","v":2211},{"$f":"COUNTIF(L110:L134,AN19)","v":0},{"$f":"AO19/(AQ4-AO20)","v":0},{"$f":"IF(AP19=0,0,(AP19*((LOG(AP19))/LOG(2))))","v":0},null,{"$f":"N19","v":2211},{"$f":"COUNTIF(L135:L160,AS19)","v":1},{"$f":"AT19/(AV4-AT20)","v":5.8823529411764705E-2},{"$f":"IF(AU19=0,0,(AU19*((LOG(AU19))/LOG(2))))","v":-0.24043899066178465}]
[21,1873,12,1881,24,1907,23,1921,null,null,0,2122,null,2212,{"$f":"COUNTIF($L$7:$L$500,N20)","v":40},{"$f":"O20/$Q$4","v":0.25974025974025972},{"$f":"IF(P20=0,0,(P20*((LOG(P20))/LOG(2))))","v":-0.50515803787208802},null,null,{"$f":"N20","v":2212},{"$f":"COUNTIF(L7:L32,T20)","v":3},null,null,null,{"$f":"N20","v":2212},{"$f":"COUNTIF(L33:L57,Y20)","v":5},null,null,null,{"$f":"N20","v":2212},{"$f":"COUNTIF(L58:L83,AD20)","v":6},null,null,null,{"$f":"N20","v":2212},{"$f":"COUNTIF(L84:L109,AI20)","v":8},null,null,null,{"$f":"N20","v":2212},{"$f":"COUNTIF(L110:L134,AN20)","v":9},null,null,null,{"$f":"N20","v":2212},{"$f":"COUNTIF(L135:L160,AS20)","v":9}]
[12,2042,23,2049,24,2067,23,2083,null,null,0,1222,null,2221,{"$f":"COUNTIF($L$7:$L$500,N21)","v":17},{"$f":"O21/$Q$4","v":0.11038961038961038},{"$f":"IF(P21=0,0,(P21*((LOG(P21))/LOG(2))))","v":-0.35096430448413996},null,null,{"$f":"N21","v":2221},{"$f":"COUNTIF(L7:L32,T21)","v":0},{"$f":"U21/(W4-U20)","v":0},{"$f":"IF(V21=0,0,(V21*((LOG(V21))/LOG(2))))","v":0},null,{"$f":"N21","v":2221},{"$f":"COUNTIF(L33:L57,Y21)","v":1},{"$f":"Z21/(AB4-Z20)","v":0.05},{"$f":"IF(AA21=0,0,(AA21*((LOG(AA21))/LOG(2))))","v":-0.21609640474436814},null,{"$f":"N21","v":2221},{"$f":"COUNTIF(L58:L83,AD21)","v":0},{"$f":"AE21/(AG4-AE20)","v":0},{"$f":"IF(AF21=0,0,(AF21*((LOG(AF21))/LOG(2))))","v":0},null,{"$f":"N21","v":2221},{"$f":"COUNTIF(L84:L109,AI21)","v":3},{"$f":"AJ21/(AL4-AJ20)","v":0.16666666666666666},{"$f":"IF(AK21=0,0,(AK21*((LOG(AK21))/LOG(2))))","v":-0.43082708345352599},null,{"$f":"N21","v":2221},{"$f":"COUNTIF(L110:L134,AN21)","v":2},{"$f":"AO21/(AQ4-AO20)","v":0.125},{"$f":"IF(AP21=0,0,(AP21*((LOG(AP21))/LOG(2))))","v":-0.375},null,{"$f":"N21","v":2221},{"$f":"COUNTIF(L135:L160,AS21)","v":11},{"$f":"AT21/(AV4-AT20)","v":0.6470588235294118},{"$f":"IF(AU21=0,0,(AU21*((LOG(AU21))/LOG(2))))","v":-0.40637314404373309}]
[21,2189,12,2195,24,2202,14,2222,null,null,0,2121,null,2222,{"$f":"COUNTIF($L$7:$L$500,N22)","v":7},{"$f":"O22/$Q$4","v":4.5454545454545456E-2},{"$f":"IF(P22=0,0,(P22*((LOG(P22))/LOG(2))))","v":-0.20270143721078623},null,null,{"$f":"N22","v":2222},{"$f":"COUNTIF(L7:L32,T22)","v":0},{"$f":"U22/(W4-U20)","v":0},{"$f":"IF(V22=0,0,(V22*((LOG(V22))/LOG(2))))","v":0},null,{"$f":"N22","v":2222},{"$f":"COUNTIF(L33:L57,Y22)","v":0},{"$f":"Z22/(AB4-Z20)","v":0},{"$f":"IF(AA22=0,0,(AA22*((LOG(AA22))/LOG(2))))","v":0},null,{"$f":"N22","v":2222},{"$f":"COUNTIF(L58:L83,AD22)","v":0},{"$f":"AE22/(AG4-AE20)","v":0},{"$f":"IF(AF22=0,0,(AF22*((LOG(AF22))/LOG(2))))","v":0},null,{"$f":"N22","v":2222},{"$f":"COUNTIF(L84:L109,AI22)","v":1},{"$f":"AJ22/(AL4-AJ20)","v":5.5555555555555552E-2},{"$f":"IF(AK22=0,0,(AK22*((LOG(AK22))/LOG(2))))","v":-0.23166250008012845},null,{"$f":"N22","v":2222},{"$f":"COUNTIF(L110:L134,AN22)","v":5},{"$f":"AO22/(AQ4-AO20)","v":0.3125},{"$f":"IF(AP22=0,0,(AP22*((LOG(AP22))/LOG(2))))","v":-0.52439747034769923},null,{"$f":"N22","v":2222},{"$f":"COUNTIF(L135:L160,AS22)","v":1},{"$f":"AT22/(AV4-AT20)","v":5.8823529411764705E-2},{"$f":"IF(AU22=0,0,(AU22*((LOG(AU22))/LOG(2))))","v":-0.24043899066178465}]
[21,2320,12,2329,24,2336,14,2354,null,null,0,2121,null,null,null,{"$f":"SUM(P7:P22)","v":0.99999999999999989},{"$f":"-SUM(Q7:Q22)","v":2.9913097687864023},null,null,null,null,{"$f":"SUM(V7:V22)","v":1},{"$f":"-SUM(W7:W22)","v":2.3436069348649422},null,null,null,{"$f":"SUM(AA7:AA22)","v":1},{"$f":"-SUM(AB7:AB22)","v":2.7016094970590276},null,null,null,{"$f":"SUM(AF7:AF22)","v":1},{"$f":"-SUM(AG7:AG22)","v":2.139353872167201},null,null,null,{"$f":"SUM(AK7:AK22)","v":1},{"$f":"-SUM(AL7:AL22)","v":2.2584598927441624},null,null,null,{"$f":"SUM(AP7:AP22)","v":1},{"$f":"-SUM(AQ7:AQ22)","v":2.2987949406953985},null,null,null,{"$f":"SUM(AU7:AU22)","v":1},{"$f":"-SUM(AV7:AV22)","v":1.7313600291909115}]
[21,2457,12,2466,24,2474,14,2495,null,null,0,2121,null,null,null,"U=",{"$f":"Q23/(LOG(Q4)/LOG(2))","v":0.41164134270832076},null,null,null,null,"U1=",{"$f":"W23/(LOG(W4)/LOG(2))","v":0.49859312647281029},null,null,null,"U2=",{"$f":"AB23/(LOG(AB4)/LOG(2))","v":0.58175993972588613},null,null,null,"U3=",{"$f":"AG23/(LOG(AG4)/LOG(2))","v":0.45513909345767822},null,null,null,"U4=",{"$f":"AL23/(LOG(AL4)/LOG(2))","v":0.48047842928987239},null,null,null,"U5=",{"$f":"AQ23/(LOG(AQ4)/LOG(2))","v":0.49501854638761189},null,null,null,"U6=",{"$f":"AV23/(LOG(AV4)/LOG(2))","v":0.36834001349040207}]
[21,2593,21,2601,11,2609,21,2616,null,null,0,2212]
[21,2727,12,2737,24,2744,14,2768,null,null,0,2121]
[21,2881,12,2890,24,2897,23,2911,null,null,0,2122,null,"Total Target Seq"]
[21,3013,12,3023,24,3037,23,3045,null,null,0,2122,null,{"$f":"COUNTIF(L7:L160,G3)","v":40},null,26,25,26,26,25,26]
[21,3151,12,3159,24,3166,23,3179,null,null,0,2122,null,null,null,"% of reinforcement given in 6 equal intervals based on number of trials "]
[12,3288,23,3295,13,3314,23,3334,null,null,0,1212,null,null,null,"%_1","%_2","%_3","%_4","%_5","%_6"]
[21,3438,12,3450,24,3457,14,3497,null,null,0,2121,null,null,"target sequence",{"$f":"$G$3","v":2212},{"$f":"$G$3","v":2212},{"$f":"$G$3","v":2212},{"$f":"$G$3","v":2212},{"$f":"$G$3","v":2212},{"$f":"$G$3","v":2212}]
[21,3598,12,3611,13,3627,23,3643,null,null,0,2112,null,null,"total reinforcement",{"$f":"U20","v":3},{"$f":"Z20","v":5},{"$f":"AE20","v":6},{"$f":"AJ20","v":8},{"$f":"AO20","v":9},{"$f":"AT20","v":9}]
[21,3741,12,3755,24,3774,14,3787,null,null,0,2121,null,null,"% target"]
[21,3888,21,3892,22,3896,14,3909,null,null,0,2221,null,null,"CCRF"]
[21,4027,12,4034,24,4041,23,4070,null,null,0,2122,null,null,"% CCRf"]
[21,4171,21,4179,11,4187,21,4213,null,null,0,2212,null,null,"average response rate",{"$f":"H32/P28","v":140.11538461538461},{"$f":"(H57-H32)/Q28","v":146.88},{"$f":"(H83-H57)/R28","v":143.30769230769232},{"$f":"(H109-H83)/S28","v":136.84615384615384},{"$f":"(H134-H109)/T28","v":135},{"$f":"(H160-H134)/U28","v":127.92307692307692}]
[12,4326,23,4333,13,4351,23,4380,null,null,0,1212]
[21,4479,12,4492,24,4520,23,4527,null,null,0,2122]
[12,4641,14,4657,24,4673,23,4687,null,null,0,1122]
[21,4794,12,4810,24,4817,14,4838,null,null,0,2121]
[21,4935,12,4950,24,4965,23,4972,null,null,0,2122]
[21,5073,12,5092,24,5107,14,5128,null,null,0,2121]
[12,5244,14,5263,24,5278,23,5294,null,null,0,1122]
[21,5391,21,5404,11,5411,21,5429,null,null,0,2212]
[21,5522,21,5532,11,5540,12,5555,null,null,0,2211]
[21,5670,21,5692,11,5704,12,5726,null,null,0,2211]
[21,5823,21,5835,11,5843,21,5851,null,null,0,2212]
[21,5944,12,5957,13,5973,23,5999,null,null,0,2112]
[21,6104,12,6111,24,6119,23,6130,null,null,0,2122]
[21,6236,12,6244,24,6255,23,6262,null,null,0,2122]
[21,6359,21,6374,11,6380,21,6394,null,null,0,2212]
[12,6515,23,6536,24,6553,23,6568,null,null,0,1222]
[21,6662,21,6671,11,6679,21,6691,null,null,0,2212]
[21,6792,12,6803,13,6823,23,6845,null,null,0,2112]
[12,6967,23,6975,13,6993,23,7040,null,null,0,1212]
[21,7141,12,7160,24,7169,23,7178,null,null,0,2122]
[21,7277,12,7288,24,7304,23,7315,null,null,0,2122]
[21,7424,12,7441,13,7461,23,7472,null,null,0,2112]
[21,7572,21,7579,11,7594,21,7652,null,null,0,2212]
[21,7750,12,7778,24,7802,14,7818,null,null,0,2121]
[21,7923,12,7935,24,7947,14,7961,null,null,0,2121]
[21,8057,21,8062,11,8077,21,8090,null,null,0,2212]
[21,8197,12,8211,24,8218,14,8245,null,null,0,2121]
[21,8345,12,8360,24,8367,14,8386,null,null,0,2121]
[21,8488,21,8504,11,8513,21,8534,null,null,0,2212]
[12,8652,14,8681,24,8716,14,8729,null,null,0,1121]
[21,8827,21,8832,11,8840,12,8851,null,null,0,2211]
[12,8963,23,8976,24,8983,14,8997,null,null,0,1221]
[21,9093,12,9110,24,9117,14,9135,null,null,0,2121]
[21,9232,21,9241,11,9248,21,9264,null,null,0,2212]
[21,9352,21,9363,11,9371,21,9379,null,null,0,2212]
[21,9471,12,9478,24,9494,23,9512,null,null,0,2122]
[21,9611,12,9632,24,9642,23,9652,null,null,0,2122]
[21,9758,12,9768,24,9784,23,9800,null,null,0,2122]
[21,9900,12,9914,24,9925,23,9934,null,null,0,2122]
[21,10034,12,10042,24,10062,23,10072,null,null,0,2122]
[21,10178,12,10186,24,10197,23,10212,null,null,0,2122]
[21,10314,12,10324,24,10340,23,10351,null,null,0,2122]
[21,10448,12,10457,24,10466,14,10472,null,null,0,2121]
[21,10574,12,10583,24,10617,14,10638,null,null,0,2121]
[21,10738,21,10756,11,10763,21,10769,null,null,0,2212]
[12,10879,23,10888,13,10894,23,10914,null,null,0,1212]
[21,11018,12,11024,24,11031,23,11041,null,null,0,2122]
[21,11140,12,11149,13,11176,23,11203,null,null,0,2112]
[21,11304,21,11315,11,11323,21,11335,null,null,0,2212]
[21,11435,12,11444,13,11465,23,11481,null,null,0,2112]
[21,11576,21,11580,22,11586,14,11593,null,null,0,2221]
[12,11694,14,11703,13,11719,23,11731,null,null,0,1112]
[21,11828,12,11841,24,11849,14,11865,null,null,0,2121]
[21,11962,21,11966,11,11973,21,11981,null,null,0,2212]
[21,12072,21,12085,11,12093,21,12101,null,null,0,2212]
[21,12190,12,12211,24,12219,23,12238,null,null,0,2122]
[21,12336,21,12345,11,12353,21,12366,null,null,0,2212]
[21,12456,21,12466,11,12473,21,12483,null,null,0,2212]
[21,12576,12,12591,13,12614,23,12635,null,null,0,2112]
[21,12736,12,12745,24,12762,14,12770,null,null,0,2121]
[21,12865,21,12870,11,12877,21,12892,null,null,0,2212]
[21,12980,12,12999,24,13015,23,13024,null,null,0,2122]
[21,13128,12,13144,24,13159,23,13191,null,null,0,2122]
[21,13285,21,13295,22,13300,23,13310,null,null,0,2222]
[21,13407,21,13410,22,13421,14,13429,null,null,0,2221]
[21,13526,21,13534,11,13542,21,13559,null,null,0,2212]
[21,13649,21,13672,11,13688,21,13724,null,null,0,2212]
[21,13826,12,13837,13,13853,23,13868,null,null,0,2112]
[21,13964,12,13989,24,14005,23,14016,null,null,0,2122]
[21,14125,12,14131,24,14157,23,14170,null,null,0,2122]
[21,14271,12,14279,24,14294,23,14323,null,null,0,2122]
[21,14419,12,14444,24,14459,23,14481,null,null,0,2122]
[21,14576,21,14581,22,14593,14,14599,null,null,0,2221]
[21,14696,21,14700,22,14723,23,14736,null,null,0,2222]
[21,14833,21,14839,22,14855,14,14890,null,null,0,2221]
[21,14986,21,14990,11,14999,21,15015,null,null,0,2212]
[21,15103,21,15107,11,15126,21,15144,null,null,0,2212]
[21,15238,12,15270,24,15290,23,15304,null,null,0,2122]
[21,15400,21,15406,22,15420,23,15443,null,null,0,2222]
[21,15542,21,15545,11,15563,21,15590,null,null,0,2212]
[21,15686,12,15700,24,15724,14,15733,null,null,0,2121]
[21,15834,12,15850,24,15869,23,15888,null,null,0,2122]
[21,15986,21,15992,11,15999,21,16009,null,null,0,2212]
[21,16102,12,16122,24,16160,23,16170,null,null,0,2122]
[21,16269,21,16277,22,16284,14,16290,null,null,0,2221]
[21,16388,21,16392,22,16398,23,16402,null,null,0,2222]
[21,16502,21,16509,11,16517,21,16523,null,null,0,2212]
[21,16622,21,16628,11,16636,21,16646,null,null,0,2212]
[21,16747,12,16755,13,16794,23,16802,null,null,0,2112]
[12,16909,14,16924,24,16942,23,16947,null,null,0,1122]
[21,17044,21,17050,11,17057,21,17064,null,null,0,2212]
[21,17154,12,17171,13,17187,23,17202,null,null,0,2112]
[21,17311,12,17318,24,17325,23,17332,null,null,0,2122]
[21,17441,12,17448,24,17464,23,17476,null,null,0,2122]
[21,17571,21,17580,22,17585,23,17591,null,null,0,2222]
[21,17690,21,17700,11,17706,21,17726,null,null,0,2212]
[21,17817,21,17824,11,17831,21,17842,null,null,0,2212]
[21,17930,21,17961,22,17966,23,17974,null,null,0,2222]
[21,18076,21,18084,11,18090,21,18097,null,null,0,2212]
[21,18185,12,18205,24,18212,23,18220,null,null,0,2122]
[21,18317,21,18323,11,18329,21,18351,null,null,0,2212]
[12,18450,23,18471,24,18497,14,18504,null,null,0,1221]
[21,18600,21,18604,22,18613,14,18620,null,null,0,2221]
[21,18717,21,18721,22,18727,14,18734,null,null,0,2221]
[21,18830,21,18835,22,18847,14,18854,null,null,0,2221]
[21,18956,21,18970,22,18977,14,18986,null,null,0,2221]
[21,19092,21,19096,22,19107,14,19116,null,null,0,2221]
[21,19211,21,19239,11,19246,21,19253,null,null,0,2212]
[21,19348,21,19353,11,19360,21,19400,null,null,0,2212]
[21,19491,21,19504,11,19515,12,19536,null,null,0,2211]
[21,19634,21,19650,11,19656,21,19663,null,null,0,2212]
[21,19756,21,19759,22,19766,14,19773,null,null,0,2221]
[21,19871,21,19875,11,19898,21,19912,null,null,0,2212]
[21,20009,12,20017,13,20035,23,20048,null,null,0,2112]
[21,20148,21,20154,22,20162,14,20171,null,null,0,2221]
[21,20268,21,20273,22,20279,14,20286,null,null,0,2221]
[21,20381,21,20386,22,20390,14,20396,null,null,0,2221]
[21,20494,21,20498,22,20508,14,20515,null,null,0,2221]
[21,20612,21,20616,22,20634,14,20643,null,null,0,2221]
[21,20750,21,20757,11,20764,21,20776,null,null,0,2212]
[21,20880,12,20890,24,20897,23,20914,null,null,0,2122]
[21,21019,21,21023,22,21050,23,21061,null,null,0,2222]
[21,21158,21,21176,11,21185,21,21191,null,null,0,2212]
[21,21280,21,21287,11,21293,21,21300,null,null,1,2212]

{"sheet":"!MB08A30.096","index":23,"n_rows":148,"n_cols":48,"rows_kept":148,"cut":false,"hidden":false,"merged":[[4,39,4,42],[5,39,5,40],[4,44,4,47],[5,44,5,45],[4,24,4,27],[5,24,5,25],[4,29,4,32],[5,29,5,30],[4,34,4,37],[5,34,5,35],[1,1,1,2],[5,13,5,14],[26,13,26,14],[27,13,27,14],[4,19,4,22],[5,19,5,20]]}
["Report for:!MB08A30.096"]
["Date:","<date>"]
["Hen:","<hen>",null,null,null,"Correct Sequence",{"$f":"Start!J2","v":2212},null,null,null,null,null,null,null,null,"Total Sequences in Data",{"$f":"4994-COUNTBLANK(L7:L5000)","v":142},null,null,null,null,"Total Sequences in Block Data",{"$f":"COUNTA(L7:L30)","v":24},null,null,null,"Total Sequences in Block Data",{"$f":"COUNTA(L31:L53)","v":23},null,null,null,"Total Sequences in Block Data",{"$f":"COUNTA(L54:L77)","v":24},null,null,null,"Total Sequences in Block Data",{"$f":"COUNTA(L78:L101)","v":24},null,null,null,"Total Sequences in Block Data",{"$f":"COUNTA(L102:L124)","v":23},null,null,null,"Total Sequences in Block Data",{"$f":"COUNTA(L125:L148)","v":24}]
[null,null,null,null,null,null,null,null,null,null,null,null,null,null,null,"Total Sequences in Summary",{"$f":"SUM(O7:O22)","v":142},null,null,null,null,"Total Sequences in Block Summary",{"$f":"SUM(U7:U22)","v":24},null,null,null,"Total Sequences in Block Summary",{"$f":"SUM(Z7:Z22)","v":23},null,null,null,"Total Sequences in Block Summary",{"$f":"SUM(AE7:AE22)","v":24},null,null,null,"Total Sequences in Block Summary",{"$f":"SUM(AJ7:AJ22)","v":24},null,null,null,"Total Sequences in Block Summary",{"$f":"SUM(AO7:AO22)","v":23},null,null,null,"Total Sequences in Block Summary",{"$f":"SUM(AT7:AT22)","v":24}]
[null,null,null,null,null,null,null,null,null,null,null,null,null,null,null,null,null,null,null,"Block 1",null,null,null,null,"Block 2",null,null,null,null,"Block 3",null,null,null,null,"Block 4",null,null,null,null,"Block 5",null,null,null,null,"Block 6"]
["Sequence\nComponent\n1","Time\n1","Sequence\nComponent\n2","Time\n2","Sequence\nComponent\n3","Time\n3","Sequence\nComponent\n4","Time\n4","Sequence\nComponent\n5","Time\n5","Correct?\n0=No 1=Yes","Sequence",null,"Frequency",null,"Relative Frequency","Variability",null,null,"Frequency",null,"Relative Frequency","Variability",null,"Frequency",null,"Relative Frequency","Variability",null,"Frequency",null,"Relative Frequency","Variability",null,"Frequency",null,"Relative Frequency","Variability",null,"Frequency",null,"Relative Frequency","Variability",null,"Frequency",null,"Relative Frequency","Variability"]
[21,17,12,25,24,32,14,54,null,null,0,2121,null,1111,{"$f":"COUNTIF($L$7:$L$500,N7)","v":0},{"$f":"O7/$Q$4","v":0},{"$f":"IF(P7=0,0,(P7*((LOG(P7))/LOG(2))))","v":0},null,null,{"$f":"N7","v":1111},{"$f":"COUNTIF(L7:L30,T7)","v":0},{"$f":"U7/(W4-U20)","v":0},{"$f":"IF(V7=0,0,(V7*((LOG(V7))/LOG(2))))","v":0},null,{"$f":"N7","v":1111},{"$f":"COUNTIF(L31:L53,Y7)","v":0},{"$f":"Z7/(AB4-Z20)","v":0},{"$f":"IF(AA7=0,0,(AA7*((LOG(AA7))/LOG(2))))","v":0},null,{"$f":"N7","v":1111},{"$f":"COUNTIF(L54:L77,AD7)","v":0},{"$f":"AE7/(AG4-AE20)","v":0},{"$f":"IF(AF7=0,0,(AF7*((LOG(AF7))/LOG(2))))","v":0},null,{"$f":"N7","v":1111},{"$f":"COUNTIF(L78:L101,AI7)","v":0},{"$f":"AJ7/(AL4-AJ20)","v":0},{"$f":"IF(AK7=0,0,(AK7*((LOG(AK7))/LOG(2))))","v":0},null,{"$f":"N7","v":1111},{"$f":"COUNTIF(L102:L124,AN7)","v":0},{"$f":"AO7/(AQ4-AO20)","v":0},{"$f":"IF(AP7=0,0,(AP7*((LOG(AP7))/LOG(2))))","v":0},null,{"$f":"N7","v":1111},{"$f":"COUNTIF(L125:L148,AS7)","v":0},{"$f":"AT7/(AV4-AT20)","v":0},{"$f":"IF(AU7=0,0,(AU7*((LOG(AU7))/LOG(2))))","v":0}]
[12,154,23,163,24,174,14,183,null,null,0,1221,null,1112,{"$f":"COUNTIF($L$7:$L$500,N8)","v":0},{"$f":"O8/$Q$4","v":0},{"$f":"IF(P8=0,0,(P8*((LOG(P8))/LOG(2))))","v":0},null,null,{"$f":"N8","v":1112},{"$f":"COUNTIF(L7:L30,T8)","v":0},{"$f":"U8/(W4-U20)","v":0},{"$f":"IF(V8=0,0,(V8*((LOG(V8))/LOG(2))))","v":0},null,{"$f":"N8","v":1112},{"$f":"COUNTIF(L31:L53,Y8)","v":0},{"$f":"Z8/(AB4-Z20)","v":0},{"$f":"IF(AA8=0,0,(AA8*((LOG(AA8))/LOG(2))))","v":0},null,{"$f":"N8","v":1112},{"$f":"COUNTIF(L54:L77,AD8)","v":0},{"$f":"AE8/(AG4-AE20)","v":0},{"$f":"IF(AF8=0,0,(AF8*((LOG(AF8))/LOG(2))))","v":0},null,{"$f":"N8","v":1112},{"$f":"COUNTIF(L78:L101,AI8)","v":0},{"$f":"AJ8/(AL4-AJ20)","v":0},{"$f":"IF(AK8=0,0,(AK8*((LOG(AK8))/LOG(2))))","v":0},null,{"$f":"N8","v":1112},{"$f":"COUNTIF(L102:L124,AN8)","v":0},{"$f":"AO8/(AQ4-AO20)","v":0},{"$f":"IF(AP8=0,0,(AP8*((LOG(AP8))/LOG(2))))","v":0},null,{"$f":"N8","v":1112},{"$f":"COUNTIF(L125:L148,AS8)","v":0},{"$f":"AT8/(AV4-AT20)","v":0},{"$f":"IF(AU8=0,0,(AU8*((LOG(AU8))/LOG(2))))","v":0}]
[12,290,23,297,24,308,23,316,null,null,0,1222,null,1121,{"$f":"COUNTIF($L$7:$L$500,N9)","v":0},{"$f":"O9/$Q$4","v":0},{"$f":"IF(P9=0,0,(P9*((LOG(P9))/LOG(2))))","v":0},null,null,{"$f":"N9","v":1121},{"$f":"COUNTIF(L7:L30,T9)","v":0},{"$f":"U9/(W4-U20)","v":0},{"$f":"IF(V9=0,0,(V9*((LOG(V9))/LOG(2))))","v":0},null,{"$f":"N9","v":1121},{"$f":"COUNTIF(L31:L53,Y9)","v":0},{"$f":"Z9/(AB4-Z20)","v":0},{"$f":"IF(AA9=0,0,(AA9*((LOG(AA9))/LOG(2))))","v":0},null,{"$f":"N9","v":1121},{"$f":"COUNTIF(L54:L77,AD9)","v":0},{"$f":"AE9/(AG4-AE20)","v":0},{"$f":"IF(AF9=0,0,(AF9*((LOG(AF9))/LOG(2))))","v":0},null,{"$f":"N9","v":1121},{"$f":"COUNTIF(L78:L101,AI9)","v":0},{"$f":"AJ9/(AL4-AJ20)","v":0},{"$f":"IF(AK9=0,0,(AK9*((LOG(AK9))/LOG(2))))","v":0},null,{"$f":"N9","v":1121},{"$f":"COUNTIF(L102:L124,AN9)","v":0},{"$f":"AO9/(AQ4-AO20)","v":0},{"$f":"IF(AP9=0,0,(AP9*((LOG(AP9))/LOG(2))))","v":0},null,{"$f":"N9","v":1121},{"$f":"COUNTIF(L125:L148,AS9)","v":0},{"$f":"AT9/(AV4-AT20)","v":0},{"$f":"IF(AU9=0,0,(AU9*((LOG(AU9))/LOG(2))))","v":0}]
[12,424,23,431,24,442,14,451,null,null,0,1221,null,1122,{"$f":"COUNTIF($L$7:$L$500,N10)","v":1},{"$f":"O10/$Q$4","v":7.0422535211267607E-3},{"$f":"IF(P10=0,0,(P10*((LOG(P10))/LOG(2))))","v":-5.0350331827497756E-2},null,null,{"$f":"N10","v":1122},{"$f":"COUNTIF(L7:L30,T10)","v":0},{"$f":"U10/(W4-U20)","v":0},{"$f":"IF(V10=0,0,(V10*((LOG(V10))/LOG(2))))","v":0},null,{"$f":"N10","v":1122},{"$f":"COUNTIF(L31:L53,Y10)","v":0},{"$f":"Z10/(AB4-Z20)","v":0},{"$f":"IF(AA10=0,0,(AA10*((LOG(AA10))/LOG(2))))","v":0},null,{"$f":"N10","v":1122},{"$f":"COUNTIF(L54:L77,AD10)","v":0},{"$f":"AE10/(AG4-AE20)","v":0},{"$f":"IF(AF10=0,0,(AF10*((LOG(AF10))/LOG(2))))","v":0},null,{"$f":"N10","v":1122},{"$f":"COUNTIF(L78:L101,AI10)","v":1},{"$f":"AJ10/(AL4-AJ20)","v":6.6666666666666666E-2},{"$f":"IF(AK10=0,0,(AK10*((LOG(AK10))/LOG(2))))","v":-0.26045937304056793},null,{"$f":"N10","v":1122},{"$f":"COUNTIF(L102:L124,AN10)","v":0},{"$f":"AO10/(AQ4-AO20)","v":0},{"$f":"IF(AP10=0,0,(AP10*((LOG(AP10))/LOG(2))))","v":0},null,{"$f":"N10","v":1122},{"$f":"COUNTIF(L125:L148,AS10)","v":0},{"$f":"AT10/(AV4-AT20)","v":0},{"$f":"IF(AU10=0,0,(AU10*((LOG(AU10))/LOG(2))))","v":0}]
[21,558,12,567,24,574,23,589,null,null,0,2122,null,1211,{"$f":"COUNTIF($L$7:$L$500,N11)","v":0},{"$f":"O11/$Q$4","v":0},{"$f":"IF(P11=0,0,(P11*((LOG(P11))/LOG(2))))","v":0},null,null,{"$f":"N11","v":1211},{"$f":"COUNTIF(L7:L30,T11)","v":0},{"$f":"U11/(W4-U20)","v":0},{"$f":"IF(V11=0,0,(V11*((LOG(V11))/LOG(2))))","v":0},null,{"$f":"N11","v":1211},{"$f":"COUNTIF(L31:L53,Y11)","v":0},{"$f":"Z11/(AB4-Z20)","v":0},{"$f":"IF(AA11=0,0,(AA11*((LOG(AA11))/LOG(2))))","v":0},null,{"$f":"N11","v":1211},{"$f":"COUNTIF(L54:L77,AD11)","v":0},{"$f":"AE11/(AG4-AE20)","v":0},{"$f":"IF(AF11=0,0,(AF11*((LOG(AF11))/LOG(2))))","v":0},null,{"$f":"N11","v":1211},{"$f":"COUNTIF(L78:L101,AI11)","v":0},{"$f":"AJ11/(AL4-AJ20)","v":0},{"$f":"IF(AK11=0,0,(AK11*((LOG(AK11))/LOG(2))))","v":0},null,{"$f":"N11","v":1211},{"$f":"COUNTIF(L102:L124,AN11)","v":0},{"$f":"AO11/(AQ4-AO20)","v":0},{"$f":"IF(AP11=0,0,(AP11*((LOG(AP11))/LOG(2))))","v":0},null,{"$f":"N11","v":1211},{"$f":"COUNTIF(L125:L148,AS11)","v":0},{"$f":"AT11/(AV4-AT20)","v":0},{"$f":"IF(AU11=0,0,(AU11*((LOG(AU11))/LOG(2))))","v":0}]
[21,688,21,700,22,712,23,719,null,null,0,2222,null,1212,{"$f":"COUNTIF($L$7:$L$500,N12)","v":2},{"$f":"O12/$Q$4","v":1.4084507042253521E-2},{"$f":"IF(P12=0,0,(P12*((LOG(P12))/LOG(2))))","v":-8.661615661274201E-2},null,null,{"$f":"N12","v":1212},{"$f":"COUNTIF(L7:L30,T12)","v":0},{"$f":"U12/(W4-U20)","v":0},{"$f":"IF(V12=0,0,(V12*((LOG(V12))/LOG(2))))","v":0},null,{"$f":"N12","v":1212},{"$f":"COUNTIF(L31:L53,Y12)","v":1},{"$f":"Z12/(AB4-Z20)","v":7.1428571428571425E-2},{"$f":"IF(AA12=0,0,(AA12*((LOG(AA12))/LOG(2))))","v":-0.27195392300411453},null,{"$f":"N12","v":1212},{"$f":"COUNTIF(L54:L77,AD12)","v":1},{"$f":"AE12/(AG4-AE20)","v":5.5555555555555552E-2},{"$f":"IF(AF12=0,0,(AF12*((LOG(AF12))/LOG(2))))","v":-0.23166250008012845},null,{"$f":"N12","v":1212},{"$f":"COUNTIF(L78:L101,AI12)","v":0},{"$f":"AJ12/(AL4-AJ20)","v":0},{"$f":"IF(AK12=0,0,(AK12*((LOG(AK12))/LOG(2))))","v":0},null,{"$f":"N12","v":1212},{"$f":"COUNTIF(L102:L124,AN12)","v":0},{"$f":"AO12/(AQ4-AO20)","v":0},{"$f":"IF(AP12=0,0,(AP12*((LOG(AP12))/LOG(2))))","v":0},null,{"$f":"N12","v":1212},{"$f":"COUNTIF(L125:L148,AS12)","v":0},{"$f":"AT12/(AV4-AT20)","v":0},{"$f":"IF(AU12=0,0,(AU12*((LOG(AU12))/LOG(2))))","v":0}]
[21,819,21,826,11,835,21,843,null,null,0,2212,null,1221,{"$f":"COUNTIF($L$7:$L$500,N13)","v":3},{"$f":"O13/$Q$4","v":2.1126760563380281E-2},{"$f":"IF(P13=0,0,(P13*((LOG(P13))/LOG(2))))","v":-0.11756587222782097},null,null,{"$f":"N13","v":1221},{"$f":"COUNTIF(L7:L30,T13)","v":2},{"$f":"U13/(W4-U20)","v":0.125},{"$f":"IF(V13=0,0,(V13*((LOG(V13))/LOG(2))))","v":-0.375},null,{"$f":"N13","v":1221},{"$f":"COUNTIF(L31:L53,Y13)","v":0},{"$f":"Z13/(AB4-Z20)","v":0},{"$f":"IF(AA13=0,0,(AA13*((LOG(AA13))/LOG(2))))","v":0},null,{"$f":"N13","v":1221},{"$f":"COUNTIF(L54:L77,AD13)","v":1},{"$f":"AE13/(AG4-AE20)","v":5.5555555555555552E-2},{"$f":"IF(AF13=0,0,(AF13*((LOG(AF13))/LOG(2))))","v":-0.23166250008012845},null,{"$f":"N13","v":1221},{"$f":"COUNTIF(L78:L101,AI13)","v":0},{"$f":"AJ13/(AL4-AJ20)","v":0},{"$f":"IF(AK13=0,0,(AK13*((LOG(AK13))/LOG(2))))","v":0},null,{"$f":"N13","v":1221},{"$f":"COUNTIF(L102:L124,AN13)","v":0},{"$f":"AO13/(AQ4-AO20)","v":0},{"$f":"IF(AP13=0,0,(AP13*((LOG(AP13))/LOG(2))))","v":0},null,{"$f":"N13","v":1221},{"$f":"COUNTIF(L125:L148,AS13)","v":0},{"$f":"AT13/(AV4-AT20)","v":0},{"$f":"IF(AU13=0,0,(AU13*((LOG(AU13))/LOG(2))))","v":0}]
[21,935,21,942,22,952,14,962,null,null,0,2221,null,1222,{"$f":"COUNTIF($L$7:$L$500,N14)","v":9},{"$f":"O14/$Q$4","v":6.3380281690140844E-2},{"$f":"IF(P14=0,0,(P14*((LOG(P14))/LOG(2))))","v":-0.25224224691944591},null,null,{"$f":"N14","v":1222},{"$f":"COUNTIF(L7:L30,T14)","v":3},{"$f":"U14/(W4-U20)","v":0.1875},{"$f":"IF(V14=0,0,(V14*((LOG(V14))/LOG(2))))","v":-0.45281953111478312},null,{"$f":"N14","v":1222},{"$f":"COUNTIF(L31:L53,Y14)","v":4},{"$f":"Z14/(AB4-Z20)","v":0.2857142857142857},{"$f":"IF(AA14=0,0,(AA14*((LOG(AA14))/LOG(2))))","v":-0.51638712058788683},null,{"$f":"N14","v":1222},{"$f":"COUNTIF(L54:L77,AD14)","v":1},{"$f":"AE14/(AG4-AE20)","v":5.5555555555555552E-2},{"$f":"IF(AF14=0,0,(AF14*((LOG(AF14))/LOG(2))))","v":-0.23166250008012845},null,{"$f":"N14","v":1222},{"$f":"COUNTIF(L78:L101,AI14)","v":0},{"$f":"AJ14/(AL4-AJ20)","v":0},{"$f":"IF(AK14=0,0,(AK14*((LOG(AK14))/LOG(2))))","v":0},null,{"$f":"N14","v":1222},{"$f":"COUNTIF(L102:L124,AN14)","v":1},{"$f":"AO14/(AQ4-AO20)","v":5.5555555555555552E-2},{"$f":"IF(AP14=0,0,(AP14*((LOG(AP14))/LOG(2))))","v":-0.23166250008012845},null,{"$f":"N14","v":1222},{"$f":"COUNTIF(L125:L148,AS14)","v":0},{"$f":"AT14/(AV4-AT20)","v":0},{"$f":"IF(AU14=0,0,(AU14*((LOG(AU14))/LOG(2))))","v":0}]
[21,1059,21,1075,11,1084,21,1091,null,null,0,2212,null,2111,{"$f":"COUNTIF($L$7:$L$500,N15)","v":0},{"$f":"O15/$Q$4","v":0},{"$f":"IF(P15=0,0,(P15*((LOG(P15))/LOG(2))))","v":0},null,null,{"$f":"N15","v":2111},{"$f":"COUNTIF(L7:L30,T15)","v":0},{"$f":"U15/(W4-U20)","v":0},{"$f":"IF(V15=0,0,(V15*((LOG(V15))/LOG(2))))","v":0},null,{"$f":"N15","v":2111},{"$f":"COUNTIF(L31:L53,Y15)","v":0},{"$f":"Z15/(AB4-Z20)","v":0},{"$f":"IF(AA15=0,0,(AA15*((LOG(AA15))/LOG(2))))","v":0},null,{"$f":"N15","v":2111},{"$f":"COUNTIF(L54:L77,AD15)","v":0},{"$f":"AE15/(AG4-AE20)","v":0},{"$f":"IF(AF15=0,0,(AF15*((LOG(AF15))/LOG(2))))","v":0},null,{"$f":"N15","v":2111},{"$f":"COUNTIF(L78:L101,AI15)","v":0},{"$f":"AJ15/(AL4-AJ20)","v":0},{"$f":"IF(AK15=0,0,(AK15*((LOG(AK15))/LOG(2))))","v":0},null,{"$f":"N15","v":2111},{"$f":"COUNTIF(L102:L124,AN15)","v":0},{"$f":"AO15/(AQ4-AO20)","v":0},{"$f":"IF(AP15=0,0,(AP15*((LOG(AP15))/LOG(2))))","v":0},null,{"$f":"N15","v":2111},{"$f":"COUNTIF(L125:L148,AS15)","v":0},{"$f":"AT15/(AV4-AT20)","v":0},{"$f":"IF(AU15=0,0,(AU15*((LOG(AU15))/LOG(2))))","v":0}]
[21,1178,21,1188,11,1198,21,1205,null,null,0,2212,null,2112,{"$f":"COUNTIF($L$7:$L$500,N16)","v":0},{"$f":"O16/$Q$4","v":0},{"$f":"IF(P16=0,0,(P16*((LOG(P16))/LOG(2))))","v":0},null,null,{"$f":"N16","v":2112},{"$f":"COUNTIF(L7:L30,T16)","v":0},{"$f":"U16/(W4-U20)","v":0},{"$f":"IF(V16=0,0,(V16*((LOG(V16))/LOG(2))))","v":0},null,{"$f":"N16","v":2112},{"$f":"COUNTIF(L31:L53,Y16)","v":0},{"$f":"Z16/(AB4-Z20)","v":0},{"$f":"IF(AA16=0,0,(AA16*((LOG(AA16))/LOG(2))))","v":0},null,{"$f":"N16","v":2112},{"$f":"COUNTIF(L54:L77,AD16)","v":0},{"$f":"AE16/(AG4-AE20)","v":0},{"$f":"IF(AF16=0,0,(AF16*((LOG(AF16))/LOG(2))))","v":0},null,{"$f":"N16","v":2112},{"$f":"COUNTIF(L78:L101,AI16)","v":0},{"$f":"AJ16/(AL4-AJ20)","v":0},{"$f":"IF(AK16=0,0,(AK16*((LOG(AK16))/LOG(2))))","v":0},null,{"$f":"N16","v":2112},{"$f":"COUNTIF(L102:L124,AN16)","v":0},{"$f":"AO16/(AQ4-AO20)","v":0},{"$f":"IF(AP16=0,0,(AP16*((LOG(AP16))/LOG(2))))","v":0},null,{"$f":"N16","v":2112},{"$f":"COUNTIF(L125:L148,AS16)","v":0},{"$f":"AT16/(AV4-AT20)","v":0},{"$f":"IF(AU16=0,0,(AU16*((LOG(AU16))/LOG(2))))","v":0}]
[21,1320,21,1327,22,1346,14,1373,null,null,0,2221,null,2121,{"$f":"COUNTIF($L$7:$L$500,N17)","v":2},{"$f":"O17/$Q$4","v":1.4084507042253521E-2},{"$f":"IF(P17=0,0,(P17*((LOG(P17))/LOG(2))))","v":-8.661615661274201E-2},null,null,{"$f":"N17","v":2121},{"$f":"COUNTIF(L7:L30,T17)","v":1},{"$f":"U17/(W4-U20)","v":6.25E-2},{"$f":"IF(V17=0,0,(V17*((LOG(V17))/LOG(2))))","v":-0.25},null,{"$f":"N17","v":2121},{"$f":"COUNTIF(L31:L53,Y17)","v":0},{"$f":"Z17/(AB4-Z20)","v":0},{"$f":"IF(AA17=0,0,(AA17*((LOG(AA17))/LOG(2))))","v":0},null,{"$f":"N17","v":2121},{"$f":"COUNTIF(L54:L77,AD17)","v":1},{"$f":"AE17/(AG4-AE20)","v":5.5555555555555552E-2},{"$f":"IF(AF17=0,0,(AF17*((LOG(AF17))/LOG(2))))","v":-0.23166250008012845},null,{"$f":"N17","v":2121},{"$f":"COUNTIF(L78:L101,AI17)","v":0},{"$f":"AJ17/(AL4-AJ20)","v":0},{"$f":"IF(AK17=0,0,(AK17*((LOG(AK17))/LOG(2))))","v":0},null,{"$f":"N17","v":2121},{"$f":"COUNTIF(L102:L124,AN17)","v":0},{"$f":"AO17/(AQ4-AO20)","v":0},{"$f":"IF(AP17=0,0,(AP17*((LOG(AP17))/LOG(2))))","v":0},null,{"$f":"N17","v":2121},{"$f":"COUNTIF(L125:L148,AS17)","v":0},{"$f":"AT17/(AV4-AT20)","v":0},{"$f":"IF(AU17=0,0,(AU17*((LOG(AU17))/LOG(2))))","v":0}]
[12,1488,23,1495,24,1514,23,1522,null,null,0,1222,null,2122,{"$f":"COUNTIF($L$7:$L$500,N18)","v":29},{"$f":"O18/$Q$4","v":0.20422535211267606},{"$f":"IF(P18=0,0,(P18*((LOG(P18))/LOG(2))))","v":-0.46803674371081821},null,null,{"$f":"N18","v":2122},{"$f":"COUNTIF(L7:L30,T18)","v":5},{"$f":"U18/(W4-U20)","v":0.3125},{"$f":"IF(V18=0,0,(V18*((LOG(V18))/LOG(2))))","v":-0.52439747034769923},null,{"$f":"N18","v":2122},{"$f":"COUNTIF(L31:L53,Y18)","v":7},{"$f":"Z18/(AB4-Z20)","v":0.5},{"$f":"IF(AA18=0,0,(AA18*((LOG(AA18))/LOG(2))))","v":-0.5},null,{"$f":"N18","v":2122},{"$f":"COUNTIF(L54:L77,AD18)","v":7},{"$f":"AE18/(AG4-AE20)","v":0.3888888888888889},{"$f":"IF(AF18=0,0,(AF18*((LOG(AF18))/LOG(2))))","v":-0.52988836420516428},null,{"$f":"N18","v":2122},{"$f":"COUNTIF(L78:L101,AI18)","v":3},{"$f":"AJ18/(AL4-AJ20)","v":0.2},{"$f":"IF(AK18=0,0,(AK18*((LOG(AK18))/LOG(2))))","v":-0.46438561897747244},null,{"$f":"N18","v":2122},{"$f":"COUNTIF(L102:L124,AN18)","v":3},{"$f":"AO18/(AQ4-AO20)","v":0.16666666666666666},{"$f":"IF(AP18=0,0,(AP18*((LOG(AP18))/LOG(2))))","v":-0.43082708345352599},null,{"$f":"N18","v":2122},{"$f":"COUNTIF(L125:L148,AS18)","v":4},{"$f":"AT18/(AV4-AT20)","v":0.19047619047619047},{"$f":"IF(AU18=0,0,(AU18*((LOG(AU18))/LOG(2))))","v":-0.4556795091007162}]
[21,1620,21,1624,11,1632,21,1639,null,null,0,2212,null,2211,{"$f":"COUNTIF($L$7:$L$500,N19)","v":0},{"$f":"O19/$Q$4","v":0},{"$f":"IF(P19=0,0,(P19*((LOG(P19))/LOG(2))))","v":0},null,null,{"$f":"N19","v":2211},{"$f":"COUNTIF(L7:L30,T19)","v":0},{"$f":"U19/(W4-U20)","v":0},{"$f":"IF(V19=0,0,(V19*((LOG(V19))/LOG(2))))","v":0},null,{"$f":"N19","v":2211},{"$f":"COUNTIF(L31:L53,Y19)","v":0},{"$f":"Z19/(AB4-Z20)","v":0},{"$f":"IF(AA19=0,0,(AA19*((LOG(AA19))/LOG(2))))","v":0},null,{"$f":"N19","v":2211},{"$f":"COUNTIF(L54:L77,AD19)","v":0},{"$f":"AE19/(AG4-AE20)","v":0},{"$f":"IF(AF19=0,0,(AF19*((LOG(AF19))/LOG(2))))","v":0},null,{"$f":"N19","v":2211},{"$f":"COUNTIF(L78:L101,AI19)","v":0},{"$f":"AJ19/(AL4-AJ20)","v":0},{"$f":"IF(AK19=0,0,(AK19*((LOG(AK19))/LOG(2))))","v":0},null,{"$f":"N19","v":2211},{"$f":"COUNTIF(L102:L124,AN19)","v":0},{"$f":"AO19/(AQ4-AO20)","v":0},{"$f":"IF(AP19=0,0,(AP19*((LOG(AP19))/LOG(2))))","v":0},null,{"$f":"N19","v":2211},{"$f":"COUNTIF(L125:L148,AS19)","v":0},{"$f":"AT19/(AV4-AT20)","v":0},{"$f":"IF(AU19=0,0,(AU19*((LOG(AU19))/LOG(2))))","v":0}]
[21,1740,12,1751,24,1757,23,1767,null,null,0,2122,null,2212,{"$f":"COUNTIF($L$7:$L$500,N20)","v":40},{"$f":"O20/$Q$4","v":0.28169014084507044},{"$f":"IF(P20=0,0,(P20*((LOG(P20))/LOG(2))))","v":-0.51487859848375206},null,null,{"$f":"N20","v":2212},{"$f":"COUNTIF(L7:L30,T20)","v":8},null,null,null,{"$f":"N20","v":2212},{"$f":"COUNTIF(L31:L53,Y20)","v":9},null,null,null,{"$f":"N20","v":2212},{"$f":"COUNTIF(L54:L77,AD20)","v":6},null,null,null,{"$f":"N20","v":2212},{"$f":"COUNTIF(L78:L101,AI20)","v":9},null,null,null,{"$f":"N20","v":2212},{"$f":"COUNTIF(L102:L124,AN20)","v":5},null,null,null,{"$f":"N20","v":2212},{"$f":"COUNTIF(L125:L148,AS20)","v":3}]
[21,1875,12,1885,24,1891,23,1902,null,null,0,2122,null,2221,{"$f":"COUNTIF($L$7:$L$500,N21)","v":29},{"$f":"O21/$Q$4","v":0.20422535211267606},{"$f":"IF(P21=0,0,(P21*((LOG(P21))/LOG(2))))","v":-0.46803674371081821},null,null,{"$f":"N21","v":2221},{"$f":"COUNTIF(L7:L30,T21)","v":3},{"$f":"U21/(W4-U20)","v":0.1875},{"$f":"IF(V21=0,0,(V21*((LOG(V21))/LOG(2))))","v":-0.45281953111478312},null,{"$f":"N21","v":2221},{"$f":"COUNTIF(L31:L53,Y21)","v":1},{"$f":"Z21/(AB4-Z20)","v":7.1428571428571425E-2},{"$f":"IF(AA21=0,0,(AA21*((LOG(AA21))/LOG(2))))","v":-0.27195392300411453},null,{"$f":"N21","v":2221},{"$f":"COUNTIF(L54:L77,AD21)","v":2},{"$f":"AE21/(AG4-AE20)","v":0.1111111111111111},{"$f":"IF(AF21=0,0,(AF21*((LOG(AF21))/LOG(2))))","v":-0.3522138890491458},null,{"$f":"N21","v":2221},{"$f":"COUNTIF(L78:L101,AI21)","v":7},{"$f":"AJ21/(AL4-AJ20)","v":0.46666666666666667},{"$f":"IF(AK21=0,0,(AK21*((LOG(AK21))/LOG(2))))","v":-0.51311664765709342},null,{"$f":"N21","v":2221},{"$f":"COUNTIF(L102:L124,AN21)","v":9},{"$f":"AO21/(AQ4-AO20)","v":0.5},{"$f":"IF(AP21=0,0,(AP21*((LOG(AP21))/LOG(2))))","v":-0.5},null,{"$f":"N21","v":2221},{"$f":"COUNTIF(L125:L148,AS21)","v":7},{"$f":"AT21/(AV4-AT20)","v":0.33333333333333331},{"$f":"IF(AU21=0,0,(AU21*((LOG(AU21))/LOG(2))))","v":-0.52832083357371862}]
[21,2004,21,2011,11,2022,21,2028,null,null,0,2212,null,2222,{"$f":"COUNTIF($L$7:$L$500,N22)","v":27},{"$f":"O22/$Q$4","v":0.19014084507042253},{"$f":"IF(P22=0,0,(P22*((LOG(P22))/LOG(2))))","v":-0.45536063146628708},null,null,{"$f":"N22","v":2222},{"$f":"COUNTIF(L7:L30,T22)","v":2},{"$f":"U22/(W4-U20)","v":0.125},{"$f":"IF(V22=0,0,(V22*((LOG(V22))/LOG(2))))","v":-0.375},null,{"$f":"N22","v":2222},{"$f":"COUNTIF(L31:L53,Y22)","v":1},{"$f":"Z22/(AB4-Z20)","v":7.1428571428571425E-2},{"$f":"IF(AA22=0,0,(AA22*((LOG(AA22))/LOG(2))))","v":-0.27195392300411453},null,{"$f":"N22","v":2222},{"$f":"COUNTIF(L54:L77,AD22)","v":5},{"$f":"AE22/(AG4-AE20)","v":0.27777777777777779},{"$f":"IF(AF22=0,0,(AF22*((LOG(AF22))/LOG(2))))","v":-0.51333247404304172},null,{"$f":"N22","v":2222},{"$f":"COUNTIF(L78:L101,AI22)","v":4},{"$f":"AJ22/(AL4-AJ20)","v":0.26666666666666666},{"$f":"IF(AK22=0,0,(AK22*((LOG(AK22))/LOG(2))))","v":-0.50850415882893829},null,{"$f":"N22","v":2222},{"$f":"COUNTIF(L102:L124,AN22)","v":5},{"$f":"AO22/(AQ4-AO20)","v":0.27777777777777779},{"$f":"IF(AP22=0,0,(AP22*((LOG(AP22))/LOG(2))))","v":-0.51333247404304172},null,{"$f":"N22","v":2222},{"$f":"COUNTIF(L125:L148,AS22)","v":10},{"$f":"AT22/(AV4-AT20)","v":0.47619047619047616},{"$f":"IF(AU22=0,0,(AU22*((LOG(AU22))/LOG(2))))","v":-0.50970920375780859}]
[21,2121,21,2136,22,2145,23,2150,null,null,0,2222,null,null,null,{"$f":"SUM(P7:P22)","v":1},{"$f":"-SUM(Q7:Q22)","v":2.4997034815719243},null,null,null,null,{"$f":"SUM(V7:V22)","v":1},{"$f":"-SUM(W7:W22)","v":2.4300365325772653},null,null,null,{"$f":"SUM(AA7:AA22)","v":0.99999999999999989},{"$f":"-SUM(AB7:AB22)","v":1.8322488896002305},null,null,null,{"$f":"SUM(AF7:AF22)","v":1},{"$f":"-SUM(AG7:AG22)","v":2.3220847276178658},null,null,null,{"$f":"SUM(AK7:AK22)","v":1},{"$f":"-SUM(AL7:AL22)","v":1.7464657985040721},null,null,null,{"$f":"SUM(AP7:AP22)","v":1},{"$f":"-SUM(AQ7:AQ22)","v":1.675822057576696},null,null,null,{"$f":"SUM(AU7:AU22)","v":0.99999999999999989},{"$f":"-SUM(AV7:AV22)","v":1.4937095464322434}]
[21,2247,12,2257,24,2264,23,2275,null,null,0,2122,null,null,null,"U=",{"$f":"Q23/(LOG(Q4)/LOG(2))","v":0.34962124391122495},null,null,null,null,"U1=",{"$f":"W23/(LOG(W4)/LOG(2))","v":0.53000139743674057},null,null,null,"U2=",{"$f":"AB23/(LOG(AB4)/LOG(2))","v":0.40504560507828657},null,null,null,"U3=",{"$f":"AG23/(LOG(AG4)/LOG(2))","v":0.50645664544751057},null,null,null,"U4=",{"$f":"AL23/(LOG(AL4)/LOG(2))","v":0.38091168645967666},null,null,null,"U5=",{"$f":"AQ23/(LOG(AQ4)/LOG(2))","v":0.37046514977710954},null,null,null,"U6=",{"$f":"AV23/(LOG(AV4)/LOG(2))","v":0.32578446305663394}]
[12,2395,23,2401,24,2411,23,2416,null,null,0,1222]
[21,2511,21,2523,22,2529,14,2538,null,null,0,2221]
[21,2634,21,2643,11,2651,21,2670,null,null,0,2212,null,"Total Target Seq"]
[21,2765,12,2773,24,2781,23,2791,null,null,0,2122,null,{"$f":"COUNTIF(L7:L148,G3)","v":40},null,24,23,24,24,23,24]
[21,2900,21,2908,11,2916,21,2923,null,null,0,2212,null,null,null,"% of reinforcement given in 6 equal intervals based on number of trials "]
[21,3013,21,3020,11,3030,21,3043,null,null,0,2212,null,null,null,"%_1","%_2","%_3","%_4","%_5","%_6"]
[21,3159,21,3197,22,3205,23,3222,null,null,0,2222,null,null,"target sequence",{"$f":"$G$3","v":2212},{"$f":"$G$3","v":2212},{"$f":"$G$3","v":2212},{"$f":"$G$3","v":2212},{"$f":"$G$3","v":2212},{"$f":"$G$3","v":2212}]
[21,3328,21,3360,22,3368,14,3377,null,null,0,2221,null,null,"total reinforcement",{"$f":"U20","v":8},{"$f":"Z20","v":9},{"$f":"AE20","v":6},{"$f":"AJ20","v":9},{"$f":"AO20","v":5},{"$f":"AT20","v":3}]
[21,3475,12,3491,24,3498,23,3513,null,null,0,2122,null,null,"% target"]
[21,3610,21,3618,11,3638,21,3645,null,null,0,2212,null,null,"CCRF"]
[12,3745,23,3768,24,3789,23,3803,null,null,0,1222,null,null,"% CCRf"]
[21,3903,12,3912,24,3929,23,3937,null,null,0,2122,null,null,"average response rate",{"$f":"H30/P28","v":126.79166666666667},{"$f":"(H53-H30)/Q28","v":134.2608695652174},{"$f":"(H77-H53)/R28","v":126.625},{"$f":"(H101-H77)/S28","v":121.79166666666667},{"$f":"(H124-H101)/T28","v":124.04347826086956},{"$f":"(H148-H124)/U28","v":121.58333333333333}]
[21,4031,21,4039,11,4046,21,4053,null,null,0,2212]
[21,4149,21,4156,11,4173,21,4181,null,null,0,2212]
[12,4283,23,4297,24,4307,23,4321,null,null,0,1222]
[21,4420,21,4442,11,4450,21,4457,null,null,0,2212]
[21,4558,21,4566,11,4576,21,4582,null,null,0,2212]
[12,4687,23,4693,24,4718,23,4737,null,null,0,1222]
[12,4843,23,4848,24,4870,23,4880,null,null,0,1222]
[21,4985,12,4992,24,4999,23,5013,null,null,0,2122]
[21,5109,21,5116,11,5123,21,5130,null,null,0,2212]
[21,5230,12,5244,24,5251,23,5274,null,null,0,2122]
[21,5369,21,5377,11,5383,21,5389,null,null,0,2212]
[12,5496,23,5503,13,5521,23,5527,null,null,0,1212]
[21,5622,21,5629,11,5635,21,5642,null,null,0,2212]
[21,5731,12,5742,24,5749,23,5760,null,null,0,2122]
[21,5857,12,5867,24,5873,23,5884,null,null,0,2122]
[21,5984,12,5992,24,6000,23,6014,null,null,0,2122]
[21,6110,21,6118,11,6125,21,6131,null,null,0,2212]
[21,6218,21,6222,11,6230,21,6238,null,null,0,2212]
[21,6326,12,6335,24,6342,23,6355,null,null,0,2122]
[21,6455,12,6461,24,6468,23,6479,null,null,0,2122]
[12,6587,23,6593,24,6601,14,6609,null,null,0,1221]
[12,6722,23,6729,24,6738,23,6747,null,null,0,1222]
[21,6846,12,6855,24,6874,23,6889,null,null,0,2122]
[21,6986,21,6990,11,7007,21,7014,null,null,0,2212]
[21,7107,12,7114,24,7121,14,7147,null,null,0,2121]
[21,7247,12,7263,24,7270,23,7297,null,null,0,2122]
[12,7394,23,7406,13,7413,23,7420,null,null,0,1212]
[21,7516,21,7524,22,7546,23,7555,null,null,0,2222]
[21,7650,21,7654,11,7670,21,7707,null,null,0,2212]
[21,7795,21,7799,11,7806,21,7815,null,null,0,2212]
[21,7906,12,7912,24,7963,23,7983,null,null,0,2122]
[21,8078,21,8082,22,8088,14,8095,null,null,0,2221]
[21,8189,21,8193,22,8199,23,8203,null,null,0,2222]
[21,8299,21,8303,11,8310,21,8316,null,null,0,2212]
[21,8405,12,8430,24,8436,23,8447,null,null,0,2122]
[21,8542,21,8546,22,8555,23,8567,null,null,0,2222]
[21,8664,21,8668,22,8678,23,8692,null,null,0,2222]
[21,8790,21,8794,22,8798,14,8805,null,null,0,2221]
[21,8903,21,8908,11,8915,21,8922,null,null,0,2212]
[21,9012,12,9031,24,9038,23,9049,null,null,0,2122]
[21,9147,21,9151,22,9159,23,9170,null,null,0,2222]
[21,9267,21,9271,11,9281,21,9288,null,null,0,2212]
[21,9374,21,9381,11,9388,21,9394,null,null,0,2212]
[21,9486,21,9501,22,9521,14,9529,null,null,0,2221]
[12,9627,14,9635,24,9642,23,9646,null,null,0,1122]
[21,9743,21,9748,22,9755,14,9761,null,null,0,2221]
[21,9858,21,9868,11,9877,21,9884,null,null,0,2212]
[21,9970,12,9994,24,10007,23,10022,null,null,0,2122]
[21,10118,21,10122,22,10126,23,10137,null,null,0,2222]
[21,10233,21,10238,22,10254,14,10261,null,null,0,2221]
[21,10359,21,10364,11,10373,21,10380,null,null,0,2212]
[21,10467,21,10472,11,10478,21,10498,null,null,0,2212]
[21,10589,12,10596,24,10604,23,10616,null,null,0,2122]
[21,10710,21,10720,11,10727,21,10735,null,null,0,2212]
[21,10822,21,10845,22,10865,14,10872,null,null,0,2221]
[21,10966,21,10971,22,10977,23,10991,null,null,0,2222]
[21,11087,21,11103,22,11117,23,11125,null,null,0,2222]
[21,11224,21,11234,22,11240,14,11248,null,null,0,2221]
[21,11345,21,11349,22,11356,14,11363,null,null,0,2221]
[21,11460,21,11464,22,11468,23,11475,null,null,0,2222]
[21,11572,21,11576,22,11582,14,11589,null,null,0,2221]
[21,11688,21,11698,11,11707,21,11720,null,null,0,2212]
[21,11808,21,11816,11,11824,21,11862,null,null,0,2212]
[21,11954,12,11961,24,11968,23,11978,null,null,0,2122]
[21,12074,21,12080,11,12086,21,12093,null,null,0,2212]
[21,12179,21,12183,11,12190,21,12197,null,null,0,2212]
[21,12284,21,12291,11,12298,21,12318,null,null,0,2212]
[21,12421,21,12432,11,12441,21,12454,null,null,0,2212]
[21,12543,12,12550,24,12557,23,12566,null,null,0,2122]
[21,12660,21,12664,22,12676,14,12682,null,null,0,2221]
[21,12786,12,12793,24,12799,23,12819,null,null,0,2122]
[21,12918,21,12929,11,12936,21,12953,null,null,0,2212]
[12,13071,23,13078,24,13120,23,13135,null,null,0,1222]
[21,13232,21,13236,22,13261,14,13271,null,null,0,2221]
[21,13367,21,13375,22,13385,14,13392,null,null,0,2221]
[21,13487,21,13491,22,13495,14,13502,null,null,0,2221]
[21,13598,21,13621,22,13627,23,13634,null,null,0,2222]
[21,13730,21,13734,22,13745,23,13772,null,null,0,2222]
[21,13869,21,13873,22,13883,14,13891,null,null,0,2221]
[21,13993,21,13997,22,14003,23,14012,null,null,0,2222]
[21,14108,21,14112,11,14121,21,14127,null,null,0,2212]
[21,14216,21,14221,22,14225,14,14235,null,null,0,2221]
[21,14342,21,14346,22,14352,14,14358,null,null,0,2221]
[21,14454,21,14458,22,14463,14,14471,null,null,0,2221]
[21,14567,21,14571,22,14575,23,14579,null,null,0,2222]
[21,14676,21,14683,22,14690,14,14696,null,null,0,2221]
[21,14793,21,14797,22,14803,23,14808,null,null,0,2222]
[21,14912,12,14920,24,14927,23,14946,null,null,0,2122]
[21,15051,21,15055,11,15063,21,15069,null,null,0,2212]
[21,15171,12,15180,24,15186,23,15208,null,null,0,2122]
[21,15304,21,15307,22,15311,23,15315,null,null,0,2222]
[21,15412,21,15418,22,15425,14,15432,null,null,0,2221]
[21,15528,21,15532,22,15536,23,15542,null,null,0,2222]
[21,15648,12,15656,24,15663,23,15685,null,null,0,2122]
[21,15782,21,15787,22,15803,14,15811,null,null,0,2221]
[21,15908,21,15917,22,15923,14,15930,null,null,0,2221]
[21,16037,21,16042,22,16046,23,16052,null,null,0,2222]
[21,16148,21,16160,11,16167,21,16173,null,null,0,2212]
[21,16270,12,16279,24,16290,23,16297,null,null,0,2122]
[21,16394,21,16400,22,16416,23,16427,null,null,0,2222]
[21,16524,21,16534,22,16543,14,16550,null,null,0,2221]
[21,16648,21,16653,22,16671,23,16678,null,null,0,2222]
[21,16774,21,16778,22,16782,14,16789,null,null,0,2221]
[21,16886,21,16890,22,16893,23,16897,null,null,0,2222]
[21,16994,21,16999,22,17005,14,17011,null,null,0,2221]
[21,17108,21,17114,22,17120,14,17127,null,null,0,2221]
[21,17235,12,17245,24,17251,23,17261,null,null,0,2122]
[21,17361,21,17367,22,17392,23,17398,null,null,0,2222]
[21,17496,21,17501,22,17506,23,17515,null,null,0,2222]
[21,17612,21,17617,22,17621,23,17625,null,null,0,2222]
[21,17723,21,17728,22,17733,23,17738,null,null,0,2222]
[21,17842,21,17850,11,17858,21,17864,null,null,1,2212]

{"sheet":"!MB09C20.096","index":24,"n_rows":139,"n_cols":48,"rows_kept":139,"cut":false,"hidden":false,"merged":[[4,39,4,42],[5,39,5,40],[4,44,4,47],[5,44,5,45],[4,24,4,27],[5,24,5,25],[4,29,4,32],[5,29,5,30],[4,34,4,37],[5,34,5,35],[1,1,1,2],[5,13,5,14],[26,13,26,14],[27,13,27,14],[4,19,4,22],[5,19,5,20]]}
["Report for:!MB09C20.096"]
["Date:","<date>"]
["Hen:","<hen>",null,null,null,"Correct Sequence",{"$f":"Start!J2","v":2212},null,null,null,null,null,null,null,null,"Total Sequences in Data",{"$f":"4994-COUNTBLANK(L7:L5000)","v":133},null,null,null,null,"Total Sequences in Block Data",{"$f":"COUNTA(L7:L28)","v":22},null,null,null,"Total Sequences in Block Data",{"$f":"COUNTA(L29:L50)","v":22},null,null,null,"Total Sequences in Block Data",{"$f":"COUNTA(L51:L73)","v":23},null,null,null,"Total Sequences in Block Data",{"$f":"COUNTA(L74:L95)","v":22},null,null,null,"Total Sequences in Block Data",{"$f":"COUNTA(L96:L117)","v":22},null,null,null,"Total Sequences in Block Data",{"$f":"COUNTA(L118:L139)","v":22}]
[null,null,null,null,null,null,null,null,null,null,null,null,null,null,null,"Total Sequences in Summary",{"$f":"SUM(O7:O22)","v":133},null,null,null,null,"Total Sequences in Block Summary",{"$f":"SUM(U7:U22)","v":22},null,null,null,"Total Sequences in Block Summary",{"$f":"SUM(Z7:Z22)","v":22},null,null,null,"Total Sequences in Block Summary",{"$f":"SUM(AE7:AE22)","v":23},null,null,null,"Total Sequences in Block Summary",{"$f":"SUM(AJ7:AJ22)","v":22},null,null,null,"Total Sequences in Block Summary",{"$f":"SUM(AO7:AO22)","v":22},null,null,null,"Total Sequences in Block Summary",{"$f":"SUM(AT7:AT22)","v":22}]
[null,null,null,null,null,null,null,null,null,null,null,null,null,null,null,null,null,null,null,"Block 1",null,null,null,null,"Block 2",null,null,null,null,"Block 3",null,null,null,null,"Block 4",null,null,null,null,"Block 5",null,null,null,null,"Block 6"]
["Sequence\nComponent\n1","Time\n1","Sequence\nComponent\n2","Time\n2","Sequence\nComponent\n3","Time\n3","Sequence\nComponent\n4","Time\n4","Sequence\nComponent\n5","Time\n5","Correct?\n0=No 1=Yes","Sequence",null,"Frequency",null,"Relative Frequency","Variability",null,null,"Frequency",null,"Relative Frequency","Variability",null,"Frequency",null,"Relative Frequency","Variability",null,"Frequency",null,"Relative Frequency","Variability",null,"Frequency",null,"Relative Frequency","Variability",null,"Frequency",null,"Relative Frequency","Variability",null,"Frequency",null,"Relative Frequency","Variability"]
[12,11,23,20,13,30,23,37,null,null,0,1212,null,1111,{"$f":"COUNTIF($L$7:$L$500,N7)","v":0},{"$f":"O7/$Q$4","v":0},{"$f":"IF(P7=0,0,(P7*((LOG(P7))/LOG(2))))","v":0},null,null,{"$f":"N7","v":1111},{"$f":"COUNTIF(L7:L28,T7)","v":0},{"$f":"U7/(W4-U20)","v":0},{"$f":"IF(V7=0,0,(V7*((LOG(V7))/LOG(2))))","v":0},null,{"$f":"N7","v":1111},{"$f":"COUNTIF(L29:L50,Y7)","v":0},{"$f":"Z7/(AB4-Z20)","v":0},{"$f":"IF(AA7=0,0,(AA7*((LOG(AA7))/LOG(2))))","v":0},null,{"$f":"N7","v":1111},{"$f":"COUNTIF(L51:L73,AD7)","v":0},{"$f":"AE7/(AG4-AE20)","v":0},{"$f":"IF(AF7=0,0,(AF7*((LOG(AF7))/LOG(2))))","v":0},null,{"$f":"N7","v":1111},{"$f":"COUNTIF(L74:L95,AI7)","v":0},{"$f":"AJ7/(AL4-AJ20)","v":0},{"$f":"IF(AK7=0,0,(AK7*((LOG(AK7))/LOG(2))))","v":0},null,{"$f":"N7","v":1111},{"$f":"COUNTIF(L96:L117,AN7)","v":0},{"$f":"AO7/(AQ4-AO20)","v":0},{"$f":"IF(AP7=0,0,(AP7*((LOG(AP7))/LOG(2))))","v":0},null,{"$f":"N7","v":1111},{"$f":"COUNTIF(L118:L139,AS7)","v":0},{"$f":"AT7/(AV4-AT20)","v":0},{"$f":"IF(AU7=0,0,(AU7*((LOG(AU7))/LOG(2))))","v":0}]
[12,134,23,157,13,165,23,173,null,null,0,1212,null,1112,{"$f":"COUNTIF($L$7:$L$500,N8)","v":1},{"$f":"O8/$Q$4","v":7.5187969924812026E-3},{"$f":"IF(P8=0,0,(P8*((LOG(P8))/LOG(2))))","v":-5.3047236357151799E-2},null,null,{"$f":"N8","v":1112},{"$f":"COUNTIF(L7:L28,T8)","v":0},{"$f":"U8/(W4-U20)","v":0},{"$f":"IF(V8=0,0,(V8*((LOG(V8))/LOG(2))))","v":0},null,{"$f":"N8","v":1112},{"$f":"COUNTIF(L29:L50,Y8)","v":0},{"$f":"Z8/(AB4-Z20)","v":0},{"$f":"IF(AA8=0,0,(AA8*((LOG(AA8))/LOG(2))))","v":0},null,{"$f":"N8","v":1112},{"$f":"COUNTIF(L51:L73,AD8)","v":0},{"$f":"AE8/(AG4-AE20)","v":0},{"$f":"IF(AF8=0,0,(AF8*((LOG(AF8))/LOG(2))))","v":0},null,{"$f":"N8","v":1112},{"$f":"COUNTIF(L74:L95,AI8)","v":0},{"$f":"AJ8/(AL4-AJ20)","v":0},{"$f":"IF(AK8=0,0,(AK8*((LOG(AK8))/LOG(2))))","v":0},null,{"$f":"N8","v":1112},{"$f":"COUNTIF(L96:L117,AN8)","v":1},{"$f":"AO8/(AQ4-AO20)","v":7.6923076923076927E-2},{"$f":"IF(AP8=0,0,(AP8*((LOG(AP8))/LOG(2))))","v":-0.28464920908777636},null,{"$f":"N8","v":1112},{"$f":"COUNTIF(L118:L139,AS8)","v":0},{"$f":"AT8/(AV4-AT20)","v":0},{"$f":"IF(AU8=0,0,(AU8*((LOG(AU8))/LOG(2))))","v":0}]
[21,282,12,290,24,297,23,314,null,null,0,2122,null,1121,{"$f":"COUNTIF($L$7:$L$500,N9)","v":4},{"$f":"O9/$Q$4","v":3.007518796992481E-2},{"$f":"IF(P9=0,0,(P9*((LOG(P9))/LOG(2))))","v":-0.15203856948875757},null,null,{"$f":"N9","v":1121},{"$f":"COUNTIF(L7:L28,T9)","v":0},{"$f":"U9/(W4-U20)","v":0},{"$f":"IF(V9=0,0,(V9*((LOG(V9))/LOG(2))))","v":0},null,{"$f":"N9","v":1121},{"$f":"COUNTIF(L29:L50,Y9)","v":0},{"$f":"Z9/(AB4-Z20)","v":0},{"$f":"IF(AA9=0,0,(AA9*((LOG(AA9))/LOG(2))))","v":0},null,{"$f":"N9","v":1121},{"$f":"COUNTIF(L51:L73,AD9)","v":0},{"$f":"AE9/(AG4-AE20)","v":0},{"$f":"IF(AF9=0,0,(AF9*((LOG(AF9))/LOG(2))))","v":0},null,{"$f":"N9","v":1121},{"$f":"COUNTIF(L74:L95,AI9)","v":0},{"$f":"AJ9/(AL4-AJ20)","v":0},{"$f":"IF(AK9=0,0,(AK9*((LOG(AK9))/LOG(2))))","v":0},null,{"$f":"N9","v":1121},{"$f":"COUNTIF(L96:L117,AN9)","v":3},{"$f":"AO9/(AQ4-AO20)","v":0.23076923076923078},{"$f":"IF(AP9=0,0,(AP9*((LOG(AP9))/LOG(2))))","v":-0.48818705017383146},null,{"$f":"N9","v":1121},{"$f":"COUNTIF(L118:L139,AS9)","v":1},{"$f":"AT9/(AV4-AT20)","v":7.6923076923076927E-2},{"$f":"IF(AU9=0,0,(AU9*((LOG(AU9))/LOG(2))))","v":-0.28464920908777636}]
[21,413,21,417,22,421,23,428,null,null,0,2222,null,1122,{"$f":"COUNTIF($L$7:$L$500,N10)","v":4},{"$f":"O10/$Q$4","v":3.007518796992481E-2},{"$f":"IF(P10=0,0,(P10*((LOG(P10))/LOG(2))))","v":-0.15203856948875757},null,null,{"$f":"N10","v":1122},{"$f":"COUNTIF(L7:L28,T10)","v":0},{"$f":"U10/(W4-U20)","v":0},{"$f":"IF(V10=0,0,(V10*((LOG(V10))/LOG(2))))","v":0},null,{"$f":"N10","v":1122},{"$f":"COUNTIF(L29:L50,Y10)","v":0},{"$f":"Z10/(AB4-Z20)","v":0},{"$f":"IF(AA10=0,0,(AA10*((LOG(AA10))/LOG(2))))","v":0},null,{"$f":"N10","v":1122},{"$f":"COUNTIF(L51:L73,AD10)","v":0},{"$f":"AE10/(AG4-AE20)","v":0},{"$f":"IF(AF10=0,0,(AF10*((LOG(AF10))/LOG(2))))","v":0},null,{"$f":"N10","v":1122},{"$f":"COUNTIF(L74:L95,AI10)","v":2},{"$f":"AJ10/(AL4-AJ20)","v":0.11764705882352941},{"$f":"IF(AK10=0,0,(AK10*((LOG(AK10))/LOG(2))))","v":-0.36323092250003997},null,{"$f":"N10","v":1122},{"$f":"COUNTIF(L96:L117,AN10)","v":2},{"$f":"AO10/(AQ4-AO20)","v":0.15384615384615385},{"$f":"IF(AP10=0,0,(AP10*((LOG(AP10))/LOG(2))))","v":-0.4154522643293988},null,{"$f":"N10","v":1122},{"$f":"COUNTIF(L118:L139,AS10)","v":0},{"$f":"AT10/(AV4-AT20)","v":0},{"$f":"IF(AU10=0,0,(AU10*((LOG(AU10))/LOG(2))))","v":0}]
[21,531,21,537,11,546,21,553,null,null,0,2212,null,1211,{"$f":"COUNTIF($L$7:$L$500,N11)","v":0},{"$f":"O11/$Q$4","v":0},{"$f":"IF(P11=0,0,(P11*((LOG(P11))/LOG(2))))","v":0},null,null,{"$f":"N11","v":1211},{"$f":"COUNTIF(L7:L28,T11)","v":0},{"$f":"U11/(W4-U20)","v":0},{"$f":"IF(V11=0,0,(V11*((LOG(V11))/LOG(2))))","v":0},null,{"$f":"N11","v":1211},{"$f":"COUNTIF(L29:L50,Y11)","v":0},{"$f":"Z11/(AB4-Z20)","v":0},{"$f":"IF(AA11=0,0,(AA11*((LOG(AA11))/LOG(2))))","v":0},null,{"$f":"N11","v":1211},{"$f":"COUNTIF(L51:L73,AD11)","v":0},{"$f":"AE11/(AG4-AE20)","v":0},{"$f":"IF(AF11=0,0,(AF11*((LOG(AF11))/LOG(2))))","v":0},null,{"$f":"N11","v":1211},{"$f":"COUNTIF(L74:L95,AI11)","v":0},{"$f":"AJ11/(AL4-AJ20)","v":0},{"$f":"IF(AK11=0,0,(AK11*((LOG(AK11))/LOG(2))))","v":0},null,{"$f":"N11","v":1211},{"$f":"COUNTIF(L96:L117,AN11)","v":0},{"$f":"AO11/(AQ4-AO20)","v":0},{"$f":"IF(AP11=0,0,(AP11*((LOG(AP11))/LOG(2))))","v":0},null,{"$f":"N11","v":1211},{"$f":"COUNTIF(L118:L139,AS11)","v":0},{"$f":"AT11/(AV4-AT20)","v":0},{"$f":"IF(AU11=0,0,(AU11*((LOG(AU11))/LOG(2))))","v":0}]
[21,641,21,647,22,674,23,680,null,null,0,2222,null,1212,{"$f":"COUNTIF($L$7:$L$500,N12)","v":8},{"$f":"O12/$Q$4","v":6.0150375939849621E-2},{"$f":"IF(P12=0,0,(P12*((LOG(P12))/LOG(2))))","v":-0.24392676303766553},null,null,{"$f":"N12","v":1212},{"$f":"COUNTIF(L7:L28,T12)","v":4},{"$f":"U12/(W4-U20)","v":0.23529411764705882},{"$f":"IF(V12=0,0,(V12*((LOG(V12))/LOG(2))))","v":-0.49116772735302094},null,{"$f":"N12","v":1212},{"$f":"COUNTIF(L29:L50,Y12)","v":0},{"$f":"Z12/(AB4-Z20)","v":0},{"$f":"IF(AA12=0,0,(AA12*((LOG(AA12))/LOG(2))))","v":0},null,{"$f":"N12","v":1212},{"$f":"COUNTIF(L51:L73,AD12)","v":2},{"$f":"AE12/(AG4-AE20)","v":0.125},{"$f":"IF(AF12=0,0,(AF12*((LOG(AF12))/LOG(2))))","v":-0.375},null,{"$f":"N12","v":1212},{"$f":"COUNTIF(L74:L95,AI12)","v":1},{"$f":"AJ12/(AL4-AJ20)","v":5.8823529411764705E-2},{"$f":"IF(AK12=0,0,(AK12*((LOG(AK12))/LOG(2))))","v":-0.24043899066178465},null,{"$f":"N12","v":1212},{"$f":"COUNTIF(L96:L117,AN12)","v":0},{"$f":"AO12/(AQ4-AO20)","v":0},{"$f":"IF(AP12=0,0,(AP12*((LOG(AP12))/LOG(2))))","v":0},null,{"$f":"N12","v":1212},{"$f":"COUNTIF(L118:L139,AS12)","v":1},{"$f":"AT12/(AV4-AT20)","v":7.6923076923076927E-2},{"$f":"IF(AU12=0,0,(AU12*((LOG(AU12))/LOG(2))))","v":-0.28464920908777636}]
[21,803,12,810,24,816,23,825,null,null,0,2122,null,1221,{"$f":"COUNTIF($L$7:$L$500,N13)","v":5},{"$f":"O13/$Q$4","v":3.7593984962406013E-2},{"$f":"IF(P13=0,0,(P13*((LOG(P13))/LOG(2))))","v":-0.17794565190277545},null,null,{"$f":"N13","v":1221},{"$f":"COUNTIF(L7:L28,T13)","v":0},{"$f":"U13/(W4-U20)","v":0},{"$f":"IF(V13=0,0,(V13*((LOG(V13))/LOG(2))))","v":0},null,{"$f":"N13","v":1221},{"$f":"COUNTIF(L29:L50,Y13)","v":1},{"$f":"Z13/(AB4-Z20)","v":5.8823529411764705E-2},{"$f":"IF(AA13=0,0,(AA13*((LOG(AA13))/LOG(2))))","v":-0.24043899066178465},null,{"$f":"N13","v":1221},{"$f":"COUNTIF(L51:L73,AD13)","v":2},{"$f":"AE13/(AG4-AE20)","v":0.125},{"$f":"IF(AF13=0,0,(AF13*((LOG(AF13))/LOG(2))))","v":-0.375},null,{"$f":"N13","v":1221},{"$f":"COUNTIF(L74:L95,AI13)","v":2},{"$f":"AJ13/(AL4-AJ20)","v":0.11764705882352941},{"$f":"IF(AK13=0,0,(AK13*((LOG(AK13))/LOG(2))))","v":-0.36323092250003997},null,{"$f":"N13","v":1221},{"$f":"COUNTIF(L96:L117,AN13)","v":0},{"$f":"AO13/(AQ4-AO20)","v":0},{"$f":"IF(AP13=0,0,(AP13*((LOG(AP13))/LOG(2))))","v":0},null,{"$f":"N13","v":1221},{"$f":"COUNTIF(L118:L139,AS13)","v":0},{"$f":"AT13/(AV4-AT20)","v":0},{"$f":"IF(AU13=0,0,(AU13*((LOG(AU13))/LOG(2))))","v":0}]
[21,926,21,930,11,939,21,945,null,null,0,2212,null,1222,{"$f":"COUNTIF($L$7:$L$500,N14)","v":1},{"$f":"O14/$Q$4","v":7.5187969924812026E-3},{"$f":"IF(P14=0,0,(P14*((LOG(P14))/LOG(2))))","v":-5.3047236357151799E-2},null,null,{"$f":"N14","v":1222},{"$f":"COUNTIF(L7:L28,T14)","v":0},{"$f":"U14/(W4-U20)","v":0},{"$f":"IF(V14=0,0,(V14*((LOG(V14))/LOG(2))))","v":0},null,{"$f":"N14","v":1222},{"$f":"COUNTIF(L29:L50,Y14)","v":0},{"$f":"Z14/(AB4-Z20)","v":0},{"$f":"IF(AA14=0,0,(AA14*((LOG(AA14))/LOG(2))))","v":0},null,{"$f":"N14","v":1222},{"$f":"COUNTIF(L51:L73,AD14)","v":1},{"$f":"AE14/(AG4-AE20)","v":6.25E-2},{"$f":"IF(AF14=0,0,(AF14*((LOG(AF14))/LOG(2))))","v":-0.25},null,{"$f":"N14","v":1222},{"$f":"COUNTIF(L74:L95,AI14)","v":0},{"$f":"AJ14/(AL4-AJ20)","v":0},{"$f":"IF(AK14=0,0,(AK14*((LOG(AK14))/LOG(2))))","v":0},null,{"$f":"N14","v":1222},{"$f":"COUNTIF(L96:L117,AN14)","v":0},{"$f":"AO14/(AQ4-AO20)","v":0},{"$f":"IF(AP14=0,0,(AP14*((LOG(AP14))/LOG(2))))","v":0},null,{"$f":"N14","v":1222},{"$f":"COUNTIF(L118:L139,AS14)","v":0},{"$f":"AT14/(AV4-AT20)","v":0},{"$f":"IF(AU14=0,0,(AU14*((LOG(AU14))/LOG(2))))","v":0}]
[21,1038,12,1047,24,1086,23,1094,null,null,0,2122,null,2111,{"$f":"COUNTIF($L$7:$L$500,N15)","v":0},{"$f":"O15/$Q$4","v":0},{"$f":"IF(P15=0,0,(P15*((LOG(P15))/LOG(2))))","v":0},null,null,{"$f":"N15","v":2111},{"$f":"COUNTIF(L7:L28,T15)","v":0},{"$f":"U15/(W4-U20)","v":0},{"$f":"IF(V15=0,0,(V15*((LOG(V15))/LOG(2))))","v":0},null,{"$f":"N15","v":2111},{"$f":"COUNTIF(L29:L50,Y15)","v":0},{"$f":"Z15/(AB4-Z20)","v":0},{"$f":"IF(AA15=0,0,(AA15*((LOG(AA15))/LOG(2))))","v":0},null,{"$f":"N15","v":2111},{"$f":"COUNTIF(L51:L73,AD15)","v":0},{"$f":"AE15/(AG4-AE20)","v":0},{"$f":"IF(AF15=0,0,(AF15*((LOG(AF15))/LOG(2))))","v":0},null,{"$f":"N15","v":2111},{"$f":"COUNTIF(L74:L95,AI15)","v":0},{"$f":"AJ15/(AL4-AJ20)","v":0},{"$f":"IF(AK15=0,0,(AK15*((LOG(AK15))/LOG(2))))","v":0},null,{"$f":"N15","v":2111},{"$f":"COUNTIF(L96:L117,AN15)","v":0},{"$f":"AO15/(AQ4-AO20)","v":0},{"$f":"IF(AP15=0,0,(AP15*((LOG(AP15))/LOG(2))))","v":0},null,{"$f":"N15","v":2111},{"$f":"COUNTIF(L118:L139,AS15)","v":0},{"$f":"AT15/(AV4-AT20)","v":0},{"$f":"IF(AU15=0,0,(AU15*((LOG(AU15))/LOG(2))))","v":0}]
[21,1197,21,1203,22,1206,14,1213,null,null,0,2221,null,2112,{"$f":"COUNTIF($L$7:$L$500,N16)","v":1},{"$f":"O16/$Q$4","v":7.5187969924812026E-3},{"$f":"IF(P16=0,0,(P16*((LOG(P16))/LOG(2))))","v":-5.3047236357151799E-2},null,null,{"$f":"N16","v":2112},{"$f":"COUNTIF(L7:L28,T16)","v":0},{"$f":"U16/(W4-U20)","v":0},{"$f":"IF(V16=0,0,(V16*((LOG(V16))/LOG(2))))","v":0},null,{"$f":"N16","v":2112},{"$f":"COUNTIF(L29:L50,Y16)","v":0},{"$f":"Z16/(AB4-Z20)","v":0},{"$f":"IF(AA16=0,0,(AA16*((LOG(AA16))/LOG(2))))","v":0},null,{"$f":"N16","v":2112},{"$f":"COUNTIF(L51:L73,AD16)","v":0},{"$f":"AE16/(AG4-AE20)","v":0},{"$f":"IF(AF16=0,0,(AF16*((LOG(AF16))/LOG(2))))","v":0},null,{"$f":"N16","v":2112},{"$f":"COUNTIF(L74:L95,AI16)","v":1},{"$f":"AJ16/(AL4-AJ20)","v":5.8823529411764705E-2},{"$f":"IF(AK16=0,0,(AK16*((LOG(AK16))/LOG(2))))","v":-0.24043899066178465},null,{"$f":"N16","v":2112},{"$f":"COUNTIF(L96:L117,AN16)","v":0},{"$f":"AO16/(AQ4-AO20)","v":0},{"$f":"IF(AP16=0,0,(AP16*((LOG(AP16))/LOG(2))))","v":0},null,{"$f":"N16","v":2112},{"$f":"COUNTIF(L118:L139,AS16)","v":0},{"$f":"AT16/(AV4-AT20)","v":0},{"$f":"IF(AU16=0,0,(AU16*((LOG(AU16))/LOG(2))))","v":0}]
[21,1310,21,1315,22,1319,14,1326,null,null,0,2221,null,2121,{"$f":"COUNTIF($L$7:$L$500,N17)","v":4},{"$f":"O17/$Q$4","v":3.007518796992481E-2},{"$f":"IF(P17=0,0,(P17*((LOG(P17))/LOG(2))))","v":-0.15203856948875757},null,null,{"$f":"N17","v":2121},{"$f":"COUNTIF(L7:L28,T17)","v":0},{"$f":"U17/(W4-U20)","v":0},{"$f":"IF(V17=0,0,(V17*((LOG(V17))/LOG(2))))","v":0},null,{"$f":"N17","v":2121},{"$f":"COUNTIF(L29:L50,Y17)","v":3},{"$f":"Z17/(AB4-Z20)","v":0.17647058823529413},{"$f":"IF(AA17=0,0,(AA17*((LOG(AA17))/LOG(2))))","v":-0.44161770715220888},null,{"$f":"N17","v":2121},{"$f":"COUNTIF(L51:L73,AD17)","v":0},{"$f":"AE17/(AG4-AE20)","v":0},{"$f":"IF(AF17=0,0,(AF17*((LOG(AF17))/LOG(2))))","v":0},null,{"$f":"N17","v":2121},{"$f":"COUNTIF(L74:L95,AI17)","v":0},{"$f":"AJ17/(AL4-AJ20)","v":0},{"$f":"IF(AK17=0,0,(AK17*((LOG(AK17))/LOG(2))))","v":0},null,{"$f":"N17","v":2121},{"$f":"COUNTIF(L96:L117,AN17)","v":1},{"$f":"AO17/(AQ4-AO20)","v":7.6923076923076927E-2},{"$f":"IF(AP17=0,0,(AP17*((LOG(AP17))/LOG(2))))","v":-0.28464920908777636},null,{"$f":"N17","v":2121},{"$f":"COUNTIF(L118:L139,AS17)","v":0},{"$f":"AT17/(AV4-AT20)","v":0},{"$f":"IF(AU17=0,0,(AU17*((LOG(AU17))/LOG(2))))","v":0}]
[21,1425,12,1435,24,1442,23,1458,null,null,0,2122,null,2122,{"$f":"COUNTIF($L$7:$L$500,N18)","v":24},{"$f":"O18/$Q$4","v":0.18045112781954886},{"$f":"IF(P18=0,0,(P18*((LOG(P18))/LOG(2))))","v":-0.44577201830617141},null,null,{"$f":"N18","v":2122},{"$f":"COUNTIF(L7:L28,T18)","v":6},{"$f":"U18/(W4-U20)","v":0.35294117647058826},{"$f":"IF(V18=0,0,(V18*((LOG(V18))/LOG(2))))","v":-0.53029423783382934},null,{"$f":"N18","v":2122},{"$f":"COUNTIF(L29:L50,Y18)","v":4},{"$f":"Z18/(AB4-Z20)","v":0.23529411764705882},{"$f":"IF(AA18=0,0,(AA18*((LOG(AA18))/LOG(2))))","v":-0.49116772735302094},null,{"$f":"N18","v":2122},{"$f":"COUNTIF(L51:L73,AD18)","v":4},{"$f":"AE18/(AG4-AE20)","v":0.25},{"$f":"IF(AF18=0,0,(AF18*((LOG(AF18))/LOG(2))))","v":-0.5},null,{"$f":"N18","v":2122},{"$f":"COUNTIF(L74:L95,AI18)","v":5},{"$f":"AJ18/(AL4-AJ20)","v":0.29411764705882354},{"$f":"IF(AK18=0,0,(AK18*((LOG(AK18))/LOG(2))))","v":-0.51927492540087561},null,{"$f":"N18","v":2122},{"$f":"COUNTIF(L96:L117,AN18)","v":2},{"$f":"AO18/(AQ4-AO20)","v":0.15384615384615385},{"$f":"IF(AP18=0,0,(AP18*((LOG(AP18))/LOG(2))))","v":-0.4154522643293988},null,{"$f":"N18","v":2122},{"$f":"COUNTIF(L118:L139,AS18)","v":3},{"$f":"AT18/(AV4-AT20)","v":0.23076923076923078},{"$f":"IF(AU18=0,0,(AU18*((LOG(AU18))/LOG(2))))","v":-0.48818705017383146}]
[12,1556,23,1582,13,1603,23,1610,null,null,0,1212,null,2211,{"$f":"COUNTIF($L$7:$L$500,N19)","v":0},{"$f":"O19/$Q$4","v":0},{"$f":"IF(P19=0,0,(P19*((LOG(P19))/LOG(2))))","v":0},null,null,{"$f":"N19","v":2211},{"$f":"COUNTIF(L7:L28,T19)","v":0},{"$f":"U19/(W4-U20)","v":0},{"$f":"IF(V19=0,0,(V19*((LOG(V19))/LOG(2))))","v":0},null,{"$f":"N19","v":2211},{"$f":"COUNTIF(L29:L50,Y19)","v":0},{"$f":"Z19/(AB4-Z20)","v":0},{"$f":"IF(AA19=0,0,(AA19*((LOG(AA19))/LOG(2))))","v":0},null,{"$f":"N19","v":2211},{"$f":"COUNTIF(L51:L73,AD19)","v":0},{"$f":"AE19/(AG4-AE20)","v":0},{"$f":"IF(AF19=0,0,(AF19*((LOG(AF19))/LOG(2))))","v":0},null,{"$f":"N19","v":2211},{"$f":"COUNTIF(L74:L95,AI19)","v":0},{"$f":"AJ19/(AL4-AJ20)","v":0},{"$f":"IF(AK19=0,0,(AK19*((LOG(AK19))/LOG(2))))","v":0},null,{"$f":"N19","v":2211},{"$f":"COUNTIF(L96:L117,AN19)","v":0},{"$f":"AO19/(AQ4-AO20)","v":0},{"$f":"IF(AP19=0,0,(AP19*((LOG(AP19))/LOG(2))))","v":0},null,{"$f":"N19","v":2211},{"$f":"COUNTIF(L118:L139,AS19)","v":0},{"$f":"AT19/(AV4-AT20)","v":0},{"$f":"IF(AU19=0,0,(AU19*((LOG(AU19))/LOG(2))))","v":0}]
[21,1708,21,1714,22,1717,14,1725,null,null,0,2221,null,2212,{"$f":"COUNTIF($L$7:$L$500,N20)","v":40},{"$f":"O20/$Q$4","v":0.3007518796992481},{"$f":"IF(P20=0,0,(P20*((LOG(P20))/LOG(2))))","v":-0.52130957612445927},null,null,{"$f":"N20","v":2212},{"$f":"COUNTIF(L7:L28,T20)","v":5},null,null,null,{"$f":"N20","v":2212},{"$f":"COUNTIF(L29:L50,Y20)","v":5},null,null,null,{"$f":"N20","v":2212},{"$f":"COUNTIF(L51:L73,AD20)","v":7},null,null,null,{"$f":"N20","v":2212},{"$f":"COUNTIF(L74:L95,AI20)","v":5},null,null,null,{"$f":"N20","v":2212},{"$f":"COUNTIF(L96:L117,AN20)","v":9},null,null,null,{"$f":"N20","v":2212},{"$f":"COUNTIF(L118:L139,AS20)","v":9}]
[21,1831,21,1852,22,1868,23,1875,null,null,0,2222,null,2221,{"$f":"COUNTIF($L$7:$L$500,N21)","v":24},{"$f":"O21/$Q$4","v":0.18045112781954886},{"$f":"IF(P21=0,0,(P21*((LOG(P21))/LOG(2))))","v":-0.44577201830617141},null,null,{"$f":"N21","v":2221},{"$f":"COUNTIF(L7:L28,T21)","v":3},{"$f":"U21/(W4-U20)","v":0.17647058823529413},{"$f":"IF(V21=0,0,(V21*((LOG(V21))/LOG(2))))","v":-0.44161770715220888},null,{"$f":"N21","v":2221},{"$f":"COUNTIF(L29:L50,Y21)","v":5},{"$f":"Z21/(AB4-Z20)","v":0.29411764705882354},{"$f":"IF(AA21=0,0,(AA21*((LOG(AA21))/LOG(2))))","v":-0.51927492540087561},null,{"$f":"N21","v":2221},{"$f":"COUNTIF(L51:L73,AD21)","v":4},{"$f":"AE21/(AG4-AE20)","v":0.25},{"$f":"IF(AF21=0,0,(AF21*((LOG(AF21))/LOG(2))))","v":-0.5},null,{"$f":"N21","v":2221},{"$f":"COUNTIF(L74:L95,AI21)","v":5},{"$f":"AJ21/(AL4-AJ20)","v":0.29411764705882354},{"$f":"IF(AK21=0,0,(AK21*((LOG(AK21))/LOG(2))))","v":-0.51927492540087561},null,{"$f":"N21","v":2221},{"$f":"COUNTIF(L96:L117,AN21)","v":3},{"$f":"AO21/(AQ4-AO20)","v":0.23076923076923078},{"$f":"IF(AP21=0,0,(AP21*((LOG(AP21))/LOG(2))))","v":-0.48818705017383146},null,{"$f":"N21","v":2221},{"$f":"COUNTIF(L118:L139,AS21)","v":4},{"$f":"AT21/(AV4-AT20)","v":0.30769230769230771},{"$f":"IF(AU21=0,0,(AU21*((LOG(AU21))/LOG(2))))","v":-0.52321222096648989}]
[21,1972,21,1976,11,1990,21,1996,null,null,0,2212,null,2222,{"$f":"COUNTIF($L$7:$L$500,N22)","v":17},{"$f":"O22/$Q$4","v":0.12781954887218044},{"$f":"IF(P22=0,0,(P22*((LOG(P22))/LOG(2))))","v":-0.37934536167116129},null,null,{"$f":"N22","v":2222},{"$f":"COUNTIF(L7:L28,T22)","v":4},{"$f":"U22/(W4-U20)","v":0.23529411764705882},{"$f":"IF(V22=0,0,(V22*((LOG(V22))/LOG(2))))","v":-0.49116772735302094},null,{"$f":"N22","v":2222},{"$f":"COUNTIF(L29:L50,Y22)","v":4},{"$f":"Z22/(AB4-Z20)","v":0.23529411764705882},{"$f":"IF(AA22=0,0,(AA22*((LOG(AA22))/LOG(2))))","v":-0.49116772735302094},null,{"$f":"N22","v":2222},{"$f":"COUNTIF(L51:L73,AD22)","v":3},{"$f":"AE22/(AG4-AE20)","v":0.1875},{"$f":"IF(AF22=0,0,(AF22*((LOG(AF22))/LOG(2))))","v":-0.45281953111478312},null,{"$f":"N22","v":2222},{"$f":"COUNTIF(L74:L95,AI22)","v":1},{"$f":"AJ22/(AL4-AJ20)","v":5.8823529411764705E-2},{"$f":"IF(AK22=0,0,(AK22*((LOG(AK22))/LOG(2))))","v":-0.24043899066178465},null,{"$f":"N22","v":2222},{"$f":"COUNTIF(L96:L117,AN22)","v":1},{"$f":"AO22/(AQ4-AO20)","v":7.6923076923076927E-2},{"$f":"IF(AP22=0,0,(AP22*((LOG(AP22))/LOG(2))))","v":-0.28464920908777636},null,{"$f":"N22","v":2222},{"$f":"COUNTIF(L118:L139,AS22)","v":4},{"$f":"AT22/(AV4-AT20)","v":0.30769230769230771},{"$f":"IF(AU22=0,0,(AU22*((LOG(AU22))/LOG(2))))","v":-0.52321222096648989}]
[21,2085,12,2095,24,2103,23,2127,null,null,0,2122,null,null,null,{"$f":"SUM(P7:P22)","v":1},{"$f":"-SUM(Q7:Q22)","v":2.8293288068861324},null,null,null,null,{"$f":"SUM(V7:V22)","v":1},{"$f":"-SUM(W7:W22)","v":1.9542473996920804},null,null,null,{"$f":"SUM(AA7:AA22)","v":1},{"$f":"-SUM(AB7:AB22)","v":2.1836670779209109},null,null,null,{"$f":"SUM(AF7:AF22)","v":1},{"$f":"-SUM(AG7:AG22)","v":2.4528195311147831},null,null,null,{"$f":"SUM(AK7:AK22)","v":1},{"$f":"-SUM(AL7:AL22)","v":2.4863286677871854},null,null,null,{"$f":"SUM(AP7:AP22)","v":1},{"$f":"-SUM(AQ7:AQ22)","v":2.6612262562697895},null,null,null,{"$f":"SUM(AU7:AU22)","v":1},{"$f":"-SUM(AV7:AV22)","v":2.103909910282364}]
[21,2221,21,2229,11,2244,21,2250,null,null,0,2212,null,null,null,"U=",{"$f":"Q23/(LOG(Q4)/LOG(2))","v":0.40102275603444981},null,null,null,null,"U1=",{"$f":"W23/(LOG(W4)/LOG(2))","v":0.43822791037420478},null,null,null,"U2=",{"$f":"AB23/(LOG(AB4)/LOG(2))","v":0.48967385637100336},null,null,null,"U3=",{"$f":"AG23/(LOG(AG4)/LOG(2))","v":0.54223188605397066},null,null,null,"U4=",{"$f":"AL23/(LOG(AL4)/LOG(2))","v":0.55754384872638807},null,null,null,"U5=",{"$f":"AQ23/(LOG(AQ4)/LOG(2))","v":0.59676355281415905},null,null,null,"U6=",{"$f":"AV23/(LOG(AV4)/LOG(2))","v":0.47178880409097335}]
[21,2344,12,2351,24,2359,23,2374,null,null,0,2122]
[21,2470,21,2474,22,2481,23,2495,null,null,0,2222]
[12,2604,23,2611,13,2626,23,2633,null,null,0,1212,null,"Total Target Seq"]
[21,2736,21,2743,11,2752,21,2758,null,null,0,2212,null,{"$f":"COUNTIF(L7:L139,G3)","v":40},null,22,22,23,22,22,22]
[21,2846,12,2856,24,2863,14,2877,null,null,0,2121,null,null,null,"% of reinforcement given in 6 equal intervals based on number of trials "]
[21,2975,12,2983,24,2997,14,3024,null,null,0,2121,null,null,null,"%_1","%_2","%_3","%_4","%_5","%_6"]
[21,3125,21,3132,11,3138,21,3147,null,null,0,2212,null,null,"target sequence",{"$f":"$G$3","v":2212},{"$f":"$G$3","v":2212},{"$f":"$G$3","v":2212},{"$f":"$G$3","v":2212},{"$f":"$G$3","v":2212},{"$f":"$G$3","v":2212}]
[21,3233,21,3238,11,3248,21,3256,null,null,0,2212,null,null,"total reinforcement",{"$f":"U20","v":5},{"$f":"Z20","v":5},{"$f":"AE20","v":7},{"$f":"AJ20","v":5},{"$f":"AO20","v":9},{"$f":"AT20","v":9}]
[21,3346,21,3354,11,3362,21,3382,null,null,0,2212,null,null,"% target"]
[12,3488,23,3506,24,3523,14,3534,null,null,0,1221,null,null,"CCRF"]
[21,3631,21,3635,22,3675,23,3682,null,null,0,2222,null,null,"% CCRf"]
[21,3778,21,3782,22,3787,14,3794,null,null,0,2221,null,null,"average response rate",{"$f":"H28/P28","v":125.36363636363636},{"$f":"(H50-H28)/Q28","v":125.77272727272727},{"$f":"(H73-H50)/R28","v":127.52173913043478},{"$f":"(H95-H73)/S28","v":128.90909090909091},{"$f":"(H117-H95)/T28","v":118.63636363636364},{"$f":"(H139-H117)/U28","v":121.95454545454545}]
[21,3893,21,3896,22,3902,14,3911,null,null,0,2221]
[21,4010,21,4013,22,4019,14,4026,null,null,0,2221]
[21,4129,21,4133,22,4137,23,4141,null,null,0,2222]
[21,4240,12,4248,24,4267,23,4274,null,null,0,2122]
[21,4373,21,4377,22,4386,23,4400,null,null,0,2222]
[21,4499,21,4503,22,4509,23,4515,null,null,0,2222]
[21,4612,21,4616,22,4620,14,4629,null,null,0,2221]
[21,4736,12,4744,24,4751,23,4758,null,null,0,2122]
[21,4862,12,4869,24,4885,23,4893,null,null,0,2122]
[21,5001,12,5008,24,5015,14,5038,null,null,0,2121]
[21,5133,21,5142,11,5149,21,5155,null,null,0,2212]
[21,5256,12,5265,24,5271,23,5284,null,null,0,2122]
[21,5381,21,5385,22,5390,14,5397,null,null,0,2221]
[21,5497,21,5501,11,5511,21,5525,null,null,0,2212]
[21,5618,21,5623,11,5631,21,5638,null,null,0,2212]
[21,5739,12,5745,24,5768,23,5797,null,null,0,2122]
[21,5894,21,5900,11,5906,21,5931,null,null,0,2212]
[12,6030,23,6037,24,6049,23,6062,null,null,0,1222]
[21,6161,21,6177,11,6186,21,6197,null,null,0,2212]
[21,6288,21,6293,22,6303,14,6318,null,null,0,2221]
[21,6414,21,6417,22,6421,23,6425,null,null,0,2222]
[21,6522,21,6547,11,6555,21,6561,null,null,0,2212]
[12,6663,23,6670,24,6682,14,6690,null,null,0,1221]
[21,6789,21,6794,22,6799,23,6805,null,null,0,2222]
[21,6903,12,6913,24,6927,23,6942,null,null,0,2122]
[21,7039,21,7043,22,7048,14,7055,null,null,0,2221]
[21,7151,21,7167,11,7175,21,7181,null,null,0,2212]
[21,7269,12,7283,24,7289,23,7313,null,null,0,2122]
[21,7411,21,7416,11,7423,21,7429,null,null,0,2212]
[21,7516,21,7520,22,7524,14,7533,null,null,0,2221]
[21,7631,21,7635,22,7640,14,7649,null,null,0,2221]
[21,7748,21,7751,11,7758,21,7777,null,null,0,2212]
[21,7870,12,7876,24,7886,23,7913,null,null,0,2122]
[12,8028,23,8035,24,8050,14,8057,null,null,0,1221]
[12,8166,23,8173,13,8185,23,8192,null,null,0,1212]
[12,8293,23,8306,13,8312,23,8338,null,null,0,1212]
[21,8435,21,8439,22,8446,23,8458,null,null,0,2222]
[12,8560,14,8569,24,8584,23,8590,null,null,0,1122]
[21,8686,12,8695,24,8702,23,8718,null,null,0,2122]
[21,8816,12,8826,24,8837,23,8845,null,null,0,2122]
[21,8943,21,8948,22,8952,14,8959,null,null,0,2221]
[12,9061,23,9072,13,9079,23,9098,null,null,0,1212]
[21,9197,21,9222,22,9230,14,9239,null,null,0,2221]
[21,9338,21,9344,11,9351,21,9381,null,null,0,2212]
[12,9480,23,9491,24,9512,14,9531,null,null,0,1221]
[21,9632,21,9639,11,9646,21,9665,null,null,0,2212]
[21,9755,12,9761,24,9769,23,9778,null,null,0,2122]
[12,9885,23,9891,24,9902,14,9910,null,null,0,1221]
[21,10006,21,10010,22,10015,14,10022,null,null,0,2221]
[21,10134,12,10140,24,10146,23,10162,null,null,0,2122]
[21,10262,21,10266,22,10270,14,10278,null,null,0,2221]
[21,10375,21,10389,11,10396,21,10404,null,null,0,2212]
[21,10491,21,10495,22,10501,14,10508,null,null,0,2221]
[12,10606,14,10614,24,10625,23,10640,null,null,0,1122]
[21,10739,21,10743,11,10750,21,10769,null,null,0,2212]
[21,10861,12,10871,13,10892,23,10899,null,null,0,2112]
[21,10995,21,11007,11,11015,21,11029,null,null,0,2212]
[21,11138,12,11147,24,11157,23,11178,null,null,0,2122]
[21,11277,21,11281,22,11285,23,11294,null,null,0,2222]
[21,11390,21,11410,11,11417,21,11423,null,null,0,2212]
[21,11513,12,11528,24,11545,23,11549,null,null,0,2122]
[21,11646,12,11655,24,11666,14,11672,null,null,0,2121]
[21,11768,21,11773,22,11777,23,11783,null,null,0,2222]
[21,11880,21,11885,22,11891,14,11897,null,null,0,2221]
[21,11993,21,11998,11,12005,21,12012,null,null,0,2212]
[12,12099,14,12103,24,12111,14,12118,null,null,0,1121]
[12,12216,14,12224,24,12234,23,12260,null,null,0,1122]
[21,12356,21,12360,11,12367,21,12379,null,null,0,2212]
[21,12478,21,12482,11,12491,21,12498,null,null,0,2212]
[12,12585,14,12592,24,12604,14,12615,null,null,0,1121]
[21,12714,21,12718,22,12724,14,12730,null,null,0,2221]
[21,12827,21,12835,11,12841,21,12848,null,null,0,2212]
[21,12935,12,12942,24,12952,23,12961,null,null,0,2122]
[21,13057,21,13061,22,13068,14,13081,null,null,0,2221]
[21,13176,21,13182,11,13188,21,13195,null,null,0,2212]
[12,13283,14,13289,24,13297,23,13302,null,null,0,1122]
[21,13399,21,13416,11,13425,21,13431,null,null,0,2212]
[12,13517,14,13521,13,13529,23,13537,null,null,0,1112]
[21,13632,21,13643,11,13649,21,13655,null,null,0,2212]
[21,13742,21,13748,11,13754,21,13782,null,null,0,2212]
[12,13875,14,13882,24,13892,14,13904,null,null,0,1121]
[21,14001,21,14007,11,14013,21,14019,null,null,0,2212]
[12,14115,23,14132,13,14140,23,14147,null,null,0,1212]
[21,14245,21,14253,11,14259,21,14266,null,null,0,2212]
[21,14353,21,14358,22,14362,23,14368,null,null,0,2222]
[21,14465,21,14469,22,14475,14,14481,null,null,0,2221]
[21,14578,21,14583,11,14590,21,14598,null,null,0,2212]
[21,14686,12,14705,24,14738,23,14750,null,null,0,2122]
[12,14850,14,14866,24,14873,14,14892,null,null,0,1121]
[21,14990,21,14994,22,14998,23,15004,null,null,0,2222]
[21,15102,21,15106,22,15111,14,15118,null,null,0,2221]
[21,15217,21,15221,22,15226,23,15239,null,null,0,2222]
[21,15335,12,15356,24,15362,23,15381,null,null,0,2122]
[21,15481,21,15485,11,15493,21,15499,null,null,0,2212]
[21,15590,21,15608,11,15617,21,15636,null,null,0,2212]
[21,15726,12,15741,24,15748,23,15764,null,null,0,2122]
[21,15861,21,15865,22,15868,23,15872,null,null,0,2222]
[21,15969,21,15974,22,15980,14,15990,null,null,0,2221]
[21,16089,21,16092,22,16098,14,16105,null,null,0,2221]
[21,16203,21,16207,11,16215,21,16229,null,null,0,2212]
[21,16317,21,16322,11,16330,21,16338,null,null,0,2212]
[21,16426,21,16461,11,16469,21,16476,null,null,0,2212]
[21,16563,21,16568,11,16575,21,16587,null,null,1,2212]

{"sheet":"!MB13B50.096","index":25,"n_rows":136,"n_cols":48,"rows_kept":136,"cut":false,"hidden":false,"merged":[[4,39,4,42],[5,39,5,40],[4,44,4,47],[5,44,5,45],[4,24,4,27],[5,24,5,25],[4,29,4,32],[5,29,5,30],[4,34,4,37],[5,34,5,35],[1,1,1,2],[5,13,5,14],[26,13,26,14],[27,13,27,14],[4,19,4,22],[5,19,5,20]]}
["Report for:!MB13B50.096"]
["Date:","<date>"]
["Hen:","<hen>",null,null,null,"Correct Sequence",{"$f":"Start!J2","v":2212},null,null,null,null,null,null,null,null,"Total Sequences in Data",{"$f":"4994-COUNTBLANK(L7:L5000)","v":130},null,null,null,null,"Total Sequences in Block Data",{"$f":"COUNTA(L7:L28)","v":22},null,null,null,"Total Sequences in Block Data",{"$f":"COUNTA(L29:L49)","v":21},null,null,null,"Total Sequences in Block Data",{"$f":"COUNTA(L50:L71)","v":22},null,null,null,"Total Sequences in Block Data",{"$f":"COUNTA(L72:L93)","v":22},null,null,null,"Total Sequences in Block Data",{"$f":"COUNTA(L94:L114)","v":21},null,null,null,"Total Sequences in Block Data",{"$f":"COUNTA(L115:L136)","v":22}]
[null,null,null,null,null,null,null,null,null,null,null,null,null,null,null,"Total Sequences in Summary",{"$f":"SUM(O7:O22)","v":130},null,null,null,null,"Total Sequences in Block Summary",{"$f":"SUM(U7:U22)","v":22},null,null,null,"Total Sequences in Block Summary",{"$f":"SUM(Z7:Z22)","v":21},null,null,null,"Total Sequences in Block Summary",{"$f":"SUM(AE7:AE22)","v":22},null,null,null,"Total Sequences in Block Summary",{"$f":"SUM(AJ7:AJ22)","v":22},null,null,null,"Total Sequences in Block Summary",{"$f":"SUM(AO7:AO22)","v":21},null,null,null,"Total Sequences in Block Summary",{"$f":"SUM(AT7:AT22)","v":22}]
[null,null,null,null,null,null,null,null,null,null,null,null,null,null,null,null,null,null,null,"Block 1",null,null,null,null,"Block 2",null,null,null,null,"Block 3",null,null,null,null,"Block 4",null,null,null,null,"Block 5",null,null,null,null,"Block 6"]
["Sequence\nComponent\n1","Time\n1","Sequence\nComponent\n2","Time\n2","Sequence\nComponent\n3","Time\n3","Sequence\nComponent\n4","Time\n4","Sequence\nComponent\n5","Time\n5","Correct?\n0=No 1=Yes","Sequence",null,"Frequency",null,"Relative Frequency","Variability",null,null,"Frequency",null,"Relative Frequency","Variability",null,"Frequency",null,"Relative Frequency","Variability",null,"Frequency",null,"Relative Frequency","Variability",null,"Frequency",null,"Relative Frequency","Variability",null,"Frequency",null,"Relative Frequency","Variability",null,"Frequency",null,"Relative Frequency","Variability"]
[12,13,23,21,13,32,23,39,null,null,0,1212,null,1111,{"$f":"COUNTIF($L$7:$L$500,N7)","v":0},{"$f":"O7/$Q$4","v":0},{"$f":"IF(P7=0,0,(P7*((LOG(P7))/LOG(2))))","v":0},null,null,{"$f":"N7","v":1111},{"$f":"COUNTIF(L7:L28,T7)","v":0},{"$f":"U7/(W4-U20)","v":0},{"$f":"IF(V7=0,0,(V7*((LOG(V7))/LOG(2))))","v":0},null,{"$f":"N7","v":1111},{"$f":"COUNTIF(L29:L49,Y7)","v":0},{"$f":"Z7/(AB4-Z20)","v":0},{"$f":"IF(AA7=0,0,(AA7*((LOG(AA7))/LOG(2))))","v":0},null,{"$f":"N7","v":1111},{"$f":"COUNTIF(L50:L71,AD7)","v":0},{"$f":"AE7/(AG4-AE20)","v":0},{"$f":"IF(AF7=0,0,(AF7*((LOG(AF7))/LOG(2))))","v":0},null,{"$f":"N7","v":1111},{"$f":"COUNTIF(L72:L93,AI7)","v":0},{"$f":"AJ7/(AL4-AJ20)","v":0},{"$f":"IF(AK7=0,0,(AK7*((LOG(AK7))/LOG(2))))","v":0},null,{"$f":"N7","v":1111},{"$f":"COUNTIF(L94:L114,AN7)","v":0},{"$f":"AO7/(AQ4-AO20)","v":0},{"$f":"IF(AP7=0,0,(AP7*((LOG(AP7))/LOG(2))))","v":0},null,{"$f":"N7","v":1111},{"$f":"COUNTIF(L115:L136,AS7)","v":0},{"$f":"AT7/(AV4-AT20)","v":0},{"$f":"IF(AU7=0,0,(AU7*((LOG(AU7))/LOG(2))))","v":0}]
[21,138,21,148,11,155,21,161,null,null,0,2212,null,1112,{"$f":"COUNTIF($L$7:$L$500,N8)","v":1},{"$f":"O8/$Q$4","v":7.6923076923076927E-3},{"$f":"IF(P8=0,0,(P8*((LOG(P8))/LOG(2))))","v":-5.4018213946372733E-2},null,null,{"$f":"N8","v":1112},{"$f":"COUNTIF(L7:L28,T8)","v":1},{"$f":"U8/(W4-U20)","v":6.6666666666666666E-2},{"$f":"IF(V8=0,0,(V8*((LOG(V8))/LOG(2))))","v":-0.26045937304056793},null,{"$f":"N8","v":1112},{"$f":"COUNTIF(L29:L49,Y8)","v":0},{"$f":"Z8/(AB4-Z20)","v":0},{"$f":"IF(AA8=0,0,(AA8*((LOG(AA8))/LOG(2))))","v":0},null,{"$f":"N8","v":1112},{"$f":"COUNTIF(L50:L71,AD8)","v":0},{"$f":"AE8/(AG4-AE20)","v":0},{"$f":"IF(AF8=0,0,(AF8*((LOG(AF8))/LOG(2))))","v":0},null,{"$f":"N8","v":1112},{"$f":"COUNTIF(L72:L93,AI8)","v":0},{"$f":"AJ8/(AL4-AJ20)","v":0},{"$f":"IF(AK8=0,0,(AK8*((LOG(AK8))/LOG(2))))","v":0},null,{"$f":"N8","v":1112},{"$f":"COUNTIF(L94:L114,AN8)","v":0},{"$f":"AO8/(AQ4-AO20)","v":0},{"$f":"IF(AP8=0,0,(AP8*((LOG(AP8))/LOG(2))))","v":0},null,{"$f":"N8","v":1112},{"$f":"COUNTIF(L115:L136,AS8)","v":0},{"$f":"AT8/(AV4-AT20)","v":0},{"$f":"IF(AU8=0,0,(AU8*((LOG(AU8))/LOG(2))))","v":0}]
[12,249,23,260,13,268,23,275,null,null,0,1212,null,1121,{"$f":"COUNTIF($L$7:$L$500,N9)","v":2},{"$f":"O9/$Q$4","v":1.5384615384615385E-2},{"$f":"IF(P9=0,0,(P9*((LOG(P9))/LOG(2))))","v":-9.2651812508130066E-2},null,null,{"$f":"N9","v":1121},{"$f":"COUNTIF(L7:L28,T9)","v":0},{"$f":"U9/(W4-U20)","v":0},{"$f":"IF(V9=0,0,(V9*((LOG(V9))/LOG(2))))","v":0},null,{"$f":"N9","v":1121},{"$f":"COUNTIF(L29:L49,Y9)","v":0},{"$f":"Z9/(AB4-Z20)","v":0},{"$f":"IF(AA9=0,0,(AA9*((LOG(AA9))/LOG(2))))","v":0},null,{"$f":"N9","v":1121},{"$f":"COUNTIF(L50:L71,AD9)","v":0},{"$f":"AE9/(AG4-AE20)","v":0},{"$f":"IF(AF9=0,0,(AF9*((LOG(AF9))/LOG(2))))","v":0},null,{"$f":"N9","v":1121},{"$f":"COUNTIF(L72:L93,AI9)","v":0},{"$f":"AJ9/(AL4-AJ20)","v":0},{"$f":"IF(AK9=0,0,(AK9*((LOG(AK9))/LOG(2))))","v":0},null,{"$f":"N9","v":1121},{"$f":"COUNTIF(L94:L114,AN9)","v":1},{"$f":"AO9/(AQ4-AO20)","v":8.3333333333333329E-2},{"$f":"IF(AP9=0,0,(AP9*((LOG(AP9))/LOG(2))))","v":-0.29874687506009634},null,{"$f":"N9","v":1121},{"$f":"COUNTIF(L115:L136,AS9)","v":1},{"$f":"AT9/(AV4-AT20)","v":7.6923076923076927E-2},{"$f":"IF(AU9=0,0,(AU9*((LOG(AU9))/LOG(2))))","v":-0.28464920908777636}]
[12,373,23,381,24,392,14,400,null,null,0,1221,null,1122,{"$f":"COUNTIF($L$7:$L$500,N10)","v":2},{"$f":"O10/$Q$4","v":1.5384615384615385E-2},{"$f":"IF(P10=0,0,(P10*((LOG(P10))/LOG(2))))","v":-9.2651812508130066E-2},null,null,{"$f":"N10","v":1122},{"$f":"COUNTIF(L7:L28,T10)","v":0},{"$f":"U10/(W4-U20)","v":0},{"$f":"IF(V10=0,0,(V10*((LOG(V10))/LOG(2))))","v":0},null,{"$f":"N10","v":1122},{"$f":"COUNTIF(L29:L49,Y10)","v":2},{"$f":"Z10/(AB4-Z20)","v":0.1111111111111111},{"$f":"IF(AA10=0,0,(AA10*((LOG(AA10))/LOG(2))))","v":-0.3522138890491458},null,{"$f":"N10","v":1122},{"$f":"COUNTIF(L50:L71,AD10)","v":0},{"$f":"AE10/(AG4-AE20)","v":0},{"$f":"IF(AF10=0,0,(AF10*((LOG(AF10))/LOG(2))))","v":0},null,{"$f":"N10","v":1122},{"$f":"COUNTIF(L72:L93,AI10)","v":0},{"$f":"AJ10/(AL4-AJ20)","v":0},{"$f":"IF(AK10=0,0,(AK10*((LOG(AK10))/LOG(2))))","v":0},null,{"$f":"N10","v":1122},{"$f":"COUNTIF(L94:L114,AN10)","v":0},{"$f":"AO10/(AQ4-AO20)","v":0},{"$f":"IF(AP10=0,0,(AP10*((LOG(AP10))/LOG(2))))","v":0},null,{"$f":"N10","v":1122},{"$f":"COUNTIF(L115:L136,AS10)","v":0},{"$f":"AT10/(AV4-AT20)","v":0},{"$f":"IF(AU10=0,0,(AU10*((LOG(AU10))/LOG(2))))","v":0}]
[21,500,12,507,24,513,14,543,null,null,0,2121,null,1211,{"$f":"COUNTIF($L$7:$L$500,N11)","v":0},{"$f":"O11/$Q$4","v":0},{"$f":"IF(P11=0,0,(P11*((LOG(P11))/LOG(2))))","v":0},null,null,{"$f":"N11","v":1211},{"$f":"COUNTIF(L7:L28,T11)","v":0},{"$f":"U11/(W4-U20)","v":0},{"$f":"IF(V11=0,0,(V11*((LOG(V11))/LOG(2))))","v":0},null,{"$f":"N11","v":1211},{"$f":"COUNTIF(L29:L49,Y11)","v":0},{"$f":"Z11/(AB4-Z20)","v":0},{"$f":"IF(AA11=0,0,(AA11*((LOG(AA11))/LOG(2))))","v":0},null,{"$f":"N11","v":1211},{"$f":"COUNTIF(L50:L71,AD11)","v":0},{"$f":"AE11/(AG4-AE20)","v":0},{"$f":"IF(AF11=0,0,(AF11*((LOG(AF11))/LOG(2))))","v":0},null,{"$f":"N11","v":1211},{"$f":"COUNTIF(L72:L93,AI11)","v":0},{"$f":"AJ11/(AL4-AJ20)","v":0},{"$f":"IF(AK11=0,0,(AK11*((LOG(AK11))/LOG(2))))","v":0},null,{"$f":"N11","v":1211},{"$f":"COUNTIF(L94:L114,AN11)","v":0},{"$f":"AO11/(AQ4-AO20)","v":0},{"$f":"IF(AP11=0,0,(AP11*((LOG(AP11))/LOG(2))))","v":0},null,{"$f":"N11","v":1211},{"$f":"COUNTIF(L115:L136,AS11)","v":0},{"$f":"AT11/(AV4-AT20)","v":0},{"$f":"IF(AU11=0,0,(AU11*((LOG(AU11))/LOG(2))))","v":0}]
[12,641,14,645,13,652,23,659,null,null,0,1112,null,1212,{"$f":"COUNTIF($L$7:$L$500,N12)","v":7},{"$f":"O12/$Q$4","v":5.3846153846153849E-2},{"$f":"IF(P12=0,0,(P12*((LOG(P12))/LOG(2))))","v":-0.22696223259073811},null,null,{"$f":"N12","v":1212},{"$f":"COUNTIF(L7:L28,T12)","v":3},{"$f":"U12/(W4-U20)","v":0.2},{"$f":"IF(V12=0,0,(V12*((LOG(V12))/LOG(2))))","v":-0.46438561897747244},null,{"$f":"N12","v":1212},{"$f":"COUNTIF(L29:L49,Y12)","v":1},{"$f":"Z12/(AB4-Z20)","v":5.5555555555555552E-2},{"$f":"IF(AA12=0,0,(AA12*((LOG(AA12))/LOG(2))))","v":-0.23166250008012845},null,{"$f":"N12","v":1212},{"$f":"COUNTIF(L50:L71,AD12)","v":2},{"$f":"AE12/(AG4-AE20)","v":0.125},{"$f":"IF(AF12=0,0,(AF12*((LOG(AF12))/LOG(2))))","v":-0.375},null,{"$f":"N12","v":1212},{"$f":"COUNTIF(L72:L93,AI12)","v":0},{"$f":"AJ12/(AL4-AJ20)","v":0},{"$f":"IF(AK12=0,0,(AK12*((LOG(AK12))/LOG(2))))","v":0},null,{"$f":"N12","v":1212},{"$f":"COUNTIF(L94:L114,AN12)","v":1},{"$f":"AO12/(AQ4-AO20)","v":8.3333333333333329E-2},{"$f":"IF(AP12=0,0,(AP12*((LOG(AP12))/LOG(2))))","v":-0.29874687506009634},null,{"$f":"N12","v":1212},{"$f":"COUNTIF(L115:L136,AS12)","v":0},{"$f":"AT12/(AV4-AT20)","v":0},{"$f":"IF(AU12=0,0,(AU12*((LOG(AU12))/LOG(2))))","v":0}]
[12,757,23,771,13,779,23,785,null,null,0,1212,null,1221,{"$f":"COUNTIF($L$7:$L$500,N13)","v":2},{"$f":"O13/$Q$4","v":1.5384615384615385E-2},{"$f":"IF(P13=0,0,(P13*((LOG(P13))/LOG(2))))","v":-9.2651812508130066E-2},null,null,{"$f":"N13","v":1221},{"$f":"COUNTIF(L7:L28,T13)","v":1},{"$f":"U13/(W4-U20)","v":6.6666666666666666E-2},{"$f":"IF(V13=0,0,(V13*((LOG(V13))/LOG(2))))","v":-0.26045937304056793},null,{"$f":"N13","v":1221},{"$f":"COUNTIF(L29:L49,Y13)","v":0},{"$f":"Z13/(AB4-Z20)","v":0},{"$f":"IF(AA13=0,0,(AA13*((LOG(AA13))/LOG(2))))","v":0},null,{"$f":"N13","v":1221},{"$f":"COUNTIF(L50:L71,AD13)","v":0},{"$f":"AE13/(AG4-AE20)","v":0},{"$f":"IF(AF13=0,0,(AF13*((LOG(AF13))/LOG(2))))","v":0},null,{"$f":"N13","v":1221},{"$f":"COUNTIF(L72:L93,AI13)","v":1},{"$f":"AJ13/(AL4-AJ20)","v":6.25E-2},{"$f":"IF(AK13=0,0,(AK13*((LOG(AK13))/LOG(2))))","v":-0.25},null,{"$f":"N13","v":1221},{"$f":"COUNTIF(L94:L114,AN13)","v":0},{"$f":"AO13/(AQ4-AO20)","v":0},{"$f":"IF(AP13=0,0,(AP13*((LOG(AP13))/LOG(2))))","v":0},null,{"$f":"N13","v":1221},{"$f":"COUNTIF(L115:L136,AS13)","v":0},{"$f":"AT13/(AV4-AT20)","v":0},{"$f":"IF(AU13=0,0,(AU13*((LOG(AU13))/LOG(2))))","v":0}]
[21,887,12,895,24,902,23,912,null,null,0,2122,null,1222,{"$f":"COUNTIF($L$7:$L$500,N14)","v":5},{"$f":"O14/$Q$4","v":3.8461538461538464E-2},{"$f":"IF(P14=0,0,(P14*((LOG(P14))/LOG(2))))","v":-0.18078614300542661},null,null,{"$f":"N14","v":1222},{"$f":"COUNTIF(L7:L28,T14)","v":2},{"$f":"U14/(W4-U20)","v":0.13333333333333333},{"$f":"IF(V14=0,0,(V14*((LOG(V14))/LOG(2))))","v":-0.3875854127478025},null,{"$f":"N14","v":1222},{"$f":"COUNTIF(L29:L49,Y14)","v":2},{"$f":"Z14/(AB4-Z20)","v":0.1111111111111111},{"$f":"IF(AA14=0,0,(AA14*((LOG(AA14))/LOG(2))))","v":-0.3522138890491458},null,{"$f":"N14","v":1222},{"$f":"COUNTIF(L50:L71,AD14)","v":0},{"$f":"AE14/(AG4-AE20)","v":0},{"$f":"IF(AF14=0,0,(AF14*((LOG(AF14))/LOG(2))))","v":0},null,{"$f":"N14","v":1222},{"$f":"COUNTIF(L72:L93,AI14)","v":1},{"$f":"AJ14/(AL4-AJ20)","v":6.25E-2},{"$f":"IF(AK14=0,0,(AK14*((LOG(AK14))/LOG(2))))","v":-0.25},null,{"$f":"N14","v":1222},{"$f":"COUNTIF(L94:L114,AN14)","v":0},{"$f":"AO14/(AQ4-AO20)","v":0},{"$f":"IF(AP14=0,0,(AP14*((LOG(AP14))/LOG(2))))","v":0},null,{"$f":"N14","v":1222},{"$f":"COUNTIF(L115:L136,AS14)","v":0},{"$f":"AT14/(AV4-AT20)","v":0},{"$f":"IF(AU14=0,0,(AU14*((LOG(AU14))/LOG(2))))","v":0}]
[21,1007,21,1011,11,1032,21,1053,null,null,0,2212,null,2111,{"$f":"COUNTIF($L$7:$L$500,N15)","v":0},{"$f":"O15/$Q$4","v":0},{"$f":"IF(P15=0,0,(P15*((LOG(P15))/LOG(2))))","v":0},null,null,{"$f":"N15","v":2111},{"$f":"COUNTIF(L7:L28,T15)","v":0},{"$f":"U15/(W4-U20)","v":0},{"$f":"IF(V15=0,0,(V15*((LOG(V15))/LOG(2))))","v":0},null,{"$f":"N15","v":2111},{"$f":"COUNTIF(L29:L49,Y15)","v":0},{"$f":"Z15/(AB4-Z20)","v":0},{"$f":"IF(AA15=0,0,(AA15*((LOG(AA15))/LOG(2))))","v":0},null,{"$f":"N15","v":2111},{"$f":"COUNTIF(L50:L71,AD15)","v":0},{"$f":"AE15/(AG4-AE20)","v":0},{"$f":"IF(AF15=0,0,(AF15*((LOG(AF15))/LOG(2))))","v":0},null,{"$f":"N15","v":2111},{"$f":"COUNTIF(L72:L93,AI15)","v":0},{"$f":"AJ15/(AL4-AJ20)","v":0},{"$f":"IF(AK15=0,0,(AK15*((LOG(AK15))/LOG(2))))","v":0},null,{"$f":"N15","v":2111},{"$f":"COUNTIF(L94:L114,AN15)","v":0},{"$f":"AO15/(AQ4-AO20)","v":0},{"$f":"IF(AP15=0,0,(AP15*((LOG(AP15))/LOG(2))))","v":0},null,{"$f":"N15","v":2111},{"$f":"COUNTIF(L115:L136,AS15)","v":0},{"$f":"AT15/(AV4-AT20)","v":0},{"$f":"IF(AU15=0,0,(AU15*((LOG(AU15))/LOG(2))))","v":0}]
[21,1142,12,1156,24,1186,23,1203,null,null,0,2122,null,2112,{"$f":"COUNTIF($L$7:$L$500,N16)","v":3},{"$f":"O16/$Q$4","v":2.3076923076923078E-2},{"$f":"IF(P16=0,0,(P16*((LOG(P16))/LOG(2))))","v":-0.12547858413016844},null,null,{"$f":"N16","v":2112},{"$f":"COUNTIF(L7:L28,T16)","v":0},{"$f":"U16/(W4-U20)","v":0},{"$f":"IF(V16=0,0,(V16*((LOG(V16))/LOG(2))))","v":0},null,{"$f":"N16","v":2112},{"$f":"COUNTIF(L29:L49,Y16)","v":1},{"$f":"Z16/(AB4-Z20)","v":5.5555555555555552E-2},{"$f":"IF(AA16=0,0,(AA16*((LOG(AA16))/LOG(2))))","v":-0.23166250008012845},null,{"$f":"N16","v":2112},{"$f":"COUNTIF(L50:L71,AD16)","v":0},{"$f":"AE16/(AG4-AE20)","v":0},{"$f":"IF(AF16=0,0,(AF16*((LOG(AF16))/LOG(2))))","v":0},null,{"$f":"N16","v":2112},{"$f":"COUNTIF(L72:L93,AI16)","v":2},{"$f":"AJ16/(AL4-AJ20)","v":0.125},{"$f":"IF(AK16=0,0,(AK16*((LOG(AK16))/LOG(2))))","v":-0.375},null,{"$f":"N16","v":2112},{"$f":"COUNTIF(L94:L114,AN16)","v":0},{"$f":"AO16/(AQ4-AO20)","v":0},{"$f":"IF(AP16=0,0,(AP16*((LOG(AP16))/LOG(2))))","v":0},null,{"$f":"N16","v":2112},{"$f":"COUNTIF(L115:L136,AS16)","v":0},{"$f":"AT16/(AV4-AT20)","v":0},{"$f":"IF(AU16=0,0,(AU16*((LOG(AU16))/LOG(2))))","v":0}]
[21,1301,21,1310,11,1318,21,1356,null,null,0,2212,null,2121,{"$f":"COUNTIF($L$7:$L$500,N17)","v":4},{"$f":"O17/$Q$4","v":3.0769230769230771E-2},{"$f":"IF(P17=0,0,(P17*((LOG(P17))/LOG(2))))","v":-0.15453439424702936},null,null,{"$f":"N17","v":2121},{"$f":"COUNTIF(L7:L28,T17)","v":1},{"$f":"U17/(W4-U20)","v":6.6666666666666666E-2},{"$f":"IF(V17=0,0,(V17*((LOG(V17))/LOG(2))))","v":-0.26045937304056793},null,{"$f":"N17","v":2121},{"$f":"COUNTIF(L29:L49,Y17)","v":0},{"$f":"Z17/(AB4-Z20)","v":0},{"$f":"IF(AA17=0,0,(AA17*((LOG(AA17))/LOG(2))))","v":0},null,{"$f":"N17","v":2121},{"$f":"COUNTIF(L50:L71,AD17)","v":1},{"$f":"AE17/(AG4-AE20)","v":6.25E-2},{"$f":"IF(AF17=0,0,(AF17*((LOG(AF17))/LOG(2))))","v":-0.25},null,{"$f":"N17","v":2121},{"$f":"COUNTIF(L72:L93,AI17)","v":1},{"$f":"AJ17/(AL4-AJ20)","v":6.25E-2},{"$f":"IF(AK17=0,0,(AK17*((LOG(AK17))/LOG(2))))","v":-0.25},null,{"$f":"N17","v":2121},{"$f":"COUNTIF(L94:L114,AN17)","v":1},{"$f":"AO17/(AQ4-AO20)","v":8.3333333333333329E-2},{"$f":"IF(AP17=0,0,(AP17*((LOG(AP17))/LOG(2))))","v":-0.29874687506009634},null,{"$f":"N17","v":2121},{"$f":"COUNTIF(L115:L136,AS17)","v":0},{"$f":"AT17/(AV4-AT20)","v":0},{"$f":"IF(AU17=0,0,(AU17*((LOG(AU17))/LOG(2))))","v":0}]
[21,1469,21,1481,11,1491,21,1522,null,null,0,2212,null,2122,{"$f":"COUNTIF($L$7:$L$500,N18)","v":35},{"$f":"O18/$Q$4","v":0.26923076923076922},{"$f":"IF(P18=0,0,(P18*((LOG(P18))/LOG(2))))","v":-0.50967667586863141},null,null,{"$f":"N18","v":2122},{"$f":"COUNTIF(L7:L28,T18)","v":5},{"$f":"U18/(W4-U20)","v":0.33333333333333331},{"$f":"IF(V18=0,0,(V18*((LOG(V18))/LOG(2))))","v":-0.52832083357371862},null,{"$f":"N18","v":2122},{"$f":"COUNTIF(L29:L49,Y18)","v":7},{"$f":"Z18/(AB4-Z20)","v":0.3888888888888889},{"$f":"IF(AA18=0,0,(AA18*((LOG(AA18))/LOG(2))))","v":-0.52988836420516428},null,{"$f":"N18","v":2122},{"$f":"COUNTIF(L50:L71,AD18)","v":10},{"$f":"AE18/(AG4-AE20)","v":0.625},{"$f":"IF(AF18=0,0,(AF18*((LOG(AF18))/LOG(2))))","v":-0.42379494069539858},null,{"$f":"N18","v":2122},{"$f":"COUNTIF(L72:L93,AI18)","v":4},{"$f":"AJ18/(AL4-AJ20)","v":0.25},{"$f":"IF(AK18=0,0,(AK18*((LOG(AK18))/LOG(2))))","v":-0.5},null,{"$f":"N18","v":2122},{"$f":"COUNTIF(L94:L114,AN18)","v":3},{"$f":"AO18/(AQ4-AO20)","v":0.25},{"$f":"IF(AP18=0,0,(AP18*((LOG(AP18))/LOG(2))))","v":-0.5},null,{"$f":"N18","v":2122},{"$f":"COUNTIF(L115:L136,AS18)","v":6},{"$f":"AT18/(AV4-AT20)","v":0.46153846153846156},{"$f":"IF(AU18=0,0,(AU18*((LOG(AU18))/LOG(2))))","v":-0.51483563880920125}]
[21,1612,21,1619,11,1627,21,1642,null,null,0,2212,null,2211,{"$f":"COUNTIF($L$7:$L$500,N19)","v":0},{"$f":"O19/$Q$4","v":0},{"$f":"IF(P19=0,0,(P19*((LOG(P19))/LOG(2))))","v":0},null,null,{"$f":"N19","v":2211},{"$f":"COUNTIF(L7:L28,T19)","v":0},{"$f":"U19/(W4-U20)","v":0},{"$f":"IF(V19=0,0,(V19*((LOG(V19))/LOG(2))))","v":0},null,{"$f":"N19","v":2211},{"$f":"COUNTIF(L29:L49,Y19)","v":0},{"$f":"Z19/(AB4-Z20)","v":0},{"$f":"IF(AA19=0,0,(AA19*((LOG(AA19))/LOG(2))))","v":0},null,{"$f":"N19","v":2211},{"$f":"COUNTIF(L50:L71,AD19)","v":0},{"$f":"AE19/(AG4-AE20)","v":0},{"$f":"IF(AF19=0,0,(AF19*((LOG(AF19))/LOG(2))))","v":0},null,{"$f":"N19","v":2211},{"$f":"COUNTIF(L72:L93,AI19)","v":0},{"$f":"AJ19/(AL4-AJ20)","v":0},{"$f":"IF(AK19=0,0,(AK19*((LOG(AK19))/LOG(2))))","v":0},null,{"$f":"N19","v":2211},{"$f":"COUNTIF(L94:L114,AN19)","v":0},{"$f":"AO19/(AQ4-AO20)","v":0},{"$f":"IF(AP19=0,0,(AP19*((LOG(AP19))/LOG(2))))","v":0},null,{"$f":"N19","v":2211},{"$f":"COUNTIF(L115:L136,AS19)","v":0},{"$f":"AT19/(AV4-AT20)","v":0},{"$f":"IF(AU19=0,0,(AU19*((LOG(AU19))/LOG(2))))","v":0}]
[12,1745,23,1767,24,1786,23,1797,null,null,0,1222,null,2212,{"$f":"COUNTIF($L$7:$L$500,N20)","v":40},{"$f":"O20/$Q$4","v":0.30769230769230771},{"$f":"IF(P20=0,0,(P20*((LOG(P20))/LOG(2))))","v":-0.52321222096648989},null,null,{"$f":"N20","v":2212},{"$f":"COUNTIF(L7:L28,T20)","v":7},null,null,null,{"$f":"N20","v":2212},{"$f":"COUNTIF(L29:L49,Y20)","v":3},null,null,null,{"$f":"N20","v":2212},{"$f":"COUNTIF(L50:L71,AD20)","v":6},null,null,null,{"$f":"N20","v":2212},{"$f":"COUNTIF(L72:L93,AI20)","v":6},null,null,null,{"$f":"N20","v":2212},{"$f":"COUNTIF(L94:L114,AN20)","v":9},null,null,null,{"$f":"N20","v":2212},{"$f":"COUNTIF(L115:L136,AS20)","v":9}]
[21,1906,12,1913,24,1931,23,1949,null,null,0,2122,null,2221,{"$f":"COUNTIF($L$7:$L$500,N21)","v":18},{"$f":"O21/$Q$4","v":0.13846153846153847},{"$f":"IF(P21=0,0,(P21*((LOG(P21))/LOG(2))))","v":-0.39495362006577356},null,null,{"$f":"N21","v":2221},{"$f":"COUNTIF(L7:L28,T21)","v":1},{"$f":"U21/(W4-U20)","v":6.6666666666666666E-2},{"$f":"IF(V21=0,0,(V21*((LOG(V21))/LOG(2))))","v":-0.26045937304056793},null,{"$f":"N21","v":2221},{"$f":"COUNTIF(L29:L49,Y21)","v":3},{"$f":"Z21/(AB4-Z20)","v":0.16666666666666666},{"$f":"IF(AA21=0,0,(AA21*((LOG(AA21))/LOG(2))))","v":-0.43082708345352599},null,{"$f":"N21","v":2221},{"$f":"COUNTIF(L50:L71,AD21)","v":1},{"$f":"AE21/(AG4-AE20)","v":6.25E-2},{"$f":"IF(AF21=0,0,(AF21*((LOG(AF21))/LOG(2))))","v":-0.25},null,{"$f":"N21","v":2221},{"$f":"COUNTIF(L72:L93,AI21)","v":4},{"$f":"AJ21/(AL4-AJ20)","v":0.25},{"$f":"IF(AK21=0,0,(AK21*((LOG(AK21))/LOG(2))))","v":-0.5},null,{"$f":"N21","v":2221},{"$f":"COUNTIF(L94:L114,AN21)","v":4},{"$f":"AO21/(AQ4-AO20)","v":0.33333333333333331},{"$f":"IF(AP21=0,0,(AP21*((LOG(AP21))/LOG(2))))","v":-0.52832083357371862},null,{"$f":"N21","v":2221},{"$f":"COUNTIF(L115:L136,AS21)","v":5},{"$f":"AT21/(AV4-AT20)","v":0.38461538461538464},{"$f":"IF(AU21=0,0,(AU21*((LOG(AU21))/LOG(2))))","v":-0.53019677817451139}]
[21,2068,21,2077,11,2084,21,2091,null,null,0,2212,null,2222,{"$f":"COUNTIF($L$7:$L$500,N22)","v":11},{"$f":"O22/$Q$4","v":8.461538461538462E-2},{"$f":"IF(P22=0,0,(P22*((LOG(P22))/LOG(2))))","v":-0.30147921644848258},null,null,{"$f":"N22","v":2222},{"$f":"COUNTIF(L7:L28,T22)","v":1},{"$f":"U22/(W4-U20)","v":6.6666666666666666E-2},{"$f":"IF(V22=0,0,(V22*((LOG(V22))/LOG(2))))","v":-0.26045937304056793},null,{"$f":"N22","v":2222},{"$f":"COUNTIF(L29:L49,Y22)","v":2},{"$f":"Z22/(AB4-Z20)","v":0.1111111111111111},{"$f":"IF(AA22=0,0,(AA22*((LOG(AA22))/LOG(2))))","v":-0.3522138890491458},null,{"$f":"N22","v":2222},{"$f":"COUNTIF(L50:L71,AD22)","v":2},{"$f":"AE22/(AG4-AE20)","v":0.125},{"$f":"IF(AF22=0,0,(AF22*((LOG(AF22))/LOG(2))))","v":-0.375},null,{"$f":"N22","v":2222},{"$f":"COUNTIF(L72:L93,AI22)","v":3},{"$f":"AJ22/(AL4-AJ20)","v":0.1875},{"$f":"IF(AK22=0,0,(AK22*((LOG(AK22))/LOG(2))))","v":-0.45281953111478312},null,{"$f":"N22","v":2222},{"$f":"COUNTIF(L94:L114,AN22)","v":2},{"$f":"AO22/(AQ4-AO20)","v":0.16666666666666666},{"$f":"IF(AP22=0,0,(AP22*((LOG(AP22))/LOG(2))))","v":-0.43082708345352599},null,{"$f":"N22","v":2222},{"$f":"COUNTIF(L115:L136,AS22)","v":1},{"$f":"AT22/(AV4-AT20)","v":7.6923076923076927E-2},{"$f":"IF(AU22=0,0,(AU22*((LOG(AU22))/LOG(2))))","v":-0.28464920908777636}]
[12,2192,23,2222,24,2230,23,2238,null,null,0,1222,null,null,null,{"$f":"SUM(P7:P22)","v":1},{"$f":"-SUM(Q7:Q22)","v":2.7490567387935032},null,null,null,null,{"$f":"SUM(V7:V22)","v":1},{"$f":"-SUM(W7:W22)","v":2.6825887305018332},null,null,null,{"$f":"SUM(AA7:AA22)","v":1},{"$f":"-SUM(AB7:AB22)","v":2.4806821149663847},null,null,null,{"$f":"SUM(AF7:AF22)","v":1},{"$f":"-SUM(AG7:AG22)","v":1.6737949406953985},null,null,null,{"$f":"SUM(AK7:AK22)","v":1},{"$f":"-SUM(AL7:AL22)","v":2.5778195311147831},null,null,null,{"$f":"SUM(AP7:AP22)","v":0.99999999999999989},{"$f":"-SUM(AQ7:AQ22)","v":2.3553885422075336},null,null,null,{"$f":"SUM(AU7:AU22)","v":1},{"$f":"-SUM(AV7:AV22)","v":1.6143308351592653}]
[21,2347,12,2354,24,2363,23,2394,null,null,0,2122,null,null,null,"U=",{"$f":"Q23/(LOG(Q4)/LOG(2))","v":0.39147148255225744},null,null,null,null,"U1=",{"$f":"W23/(LOG(W4)/LOG(2))","v":0.60155395573070192},null,null,null,"U2=",{"$f":"AB23/(LOG(AB4)/LOG(2))","v":0.56477751405248011},null,null,null,"U3=",{"$f":"AG23/(LOG(AG4)/LOG(2))","v":0.37533817845756606},null,null,null,"U4=",{"$f":"AL23/(LOG(AL4)/LOG(2))","v":0.57806010979993616},null,null,null,"U5=",{"$f":"AQ23/(LOG(AQ4)/LOG(2))","v":0.53625189518234273},null,null,null,"U6=",{"$f":"AV23/(LOG(AV4)/LOG(2))","v":0.36200372002846604}]
[21,2492,21,2507,11,2514,21,2538,null,null,0,2212]
[21,2629,21,2646,22,2660,23,2683,null,null,0,2222]
[21,2781,21,2794,22,2801,14,2809,null,null,0,2221,null,"Total Target Seq"]
[21,2910,12,2918,24,2925,23,2939,null,null,0,2122,null,{"$f":"COUNTIF(L7:L136,G3)","v":40},null,22,21,22,22,21,22]
[21,3036,21,3040,22,3045,23,3049,null,null,0,2222,null,null,null,"% of reinforcement given in 6 equal intervals based on number of trials "]
[21,3154,12,3160,24,3173,23,3181,null,null,0,2122,null,null,null,"%_1","%_2","%_3","%_4","%_5","%_6"]
[12,3288,23,3299,24,3330,23,3346,null,null,0,1222,null,null,"target sequence",{"$f":"$G$3","v":2212},{"$f":"$G$3","v":2212},{"$f":"$G$3","v":2212},{"$f":"$G$3","v":2212},{"$f":"$G$3","v":2212},{"$f":"$G$3","v":2212}]
[21,3452,12,3460,24,3467,23,3487,null,null,0,2122,null,null,"total reinforcement",{"$f":"U20","v":7},{"$f":"Z20","v":3},{"$f":"AE20","v":6},{"$f":"AJ20","v":6},{"$f":"AO20","v":9},{"$f":"AT20","v":9}]
[21,3592,12,3601,13,3618,23,3658,null,null,0,2112,null,null,"% target"]
[21,3753,21,3759,22,3793,14,3815,null,null,0,2221,null,null,"CCRF"]
[21,3913,21,3917,22,3921,14,3928,null,null,0,2221,null,null,"% CCRf"]
[21,4026,12,4035,24,4051,23,4065,null,null,0,2122,null,null,"average response rate",{"$f":"H28/P28","v":133.59090909090909},{"$f":"(H49-H28)/Q28","v":136.71428571428572},{"$f":"(H71-H49)/R28","v":135.81818181818181},{"$f":"(H93-H71)/S28","v":126.77272727272727},{"$f":"(H114-H93)/T28","v":125.71428571428571},{"$f":"(H136-H114)/U28","v":125.04545454545455}]
[21,4164,12,4171,24,4178,23,4186,null,null,0,2122]
[21,4285,12,4294,24,4301,23,4317,null,null,0,2122]
[21,4414,21,4437,11,4444,21,4462,null,null,0,2212]
[12,4559,23,4570,24,4580,23,4585,null,null,0,1222]
[12,4685,14,4700,24,4707,23,4715,null,null,0,1122]
[21,4814,21,4830,11,4837,21,4892,null,null,0,2212]
[12,4993,14,5009,24,5033,23,5042,null,null,0,1122]
[12,5146,23,5161,13,5168,23,5174,null,null,0,1212]
[21,5276,21,5282,11,5289,21,5308,null,null,0,2212]
[21,5396,12,5406,24,5421,23,5437,null,null,0,2122]
[21,5533,12,5543,24,5550,23,5558,null,null,0,2122]
[21,5658,21,5662,22,5668,14,5675,null,null,0,2221]
[21,5774,21,5785,22,5800,23,5810,null,null,0,2222]
[21,5910,12,5921,24,5928,23,5937,null,null,0,2122]
[21,6034,21,6038,11,6046,21,6060,null,null,0,2212]
[21,6150,12,6158,24,6165,23,6176,null,null,0,2122]
[21,6275,21,6280,11,6287,21,6303,null,null,0,2212]
[21,6390,21,6395,11,6402,21,6410,null,null,0,2212]
[21,6496,21,6503,22,6549,23,6557,null,null,0,2222]
[21,6658,12,6664,24,6712,23,6738,null,null,0,2122]
[21,6834,12,6844,24,6864,23,6869,null,null,0,2122]
[21,6968,12,6976,24,6995,23,7003,null,null,0,2122]
[21,7100,12,7107,24,7139,23,7150,null,null,0,2122]
[21,7246,12,7253,24,7259,14,7265,null,null,0,2121]
[21,7365,12,7373,24,7404,23,7415,null,null,0,2122]
[21,7511,21,7516,22,7549,23,7571,null,null,0,2222]
[21,7670,21,7679,11,7685,21,7696,null,null,0,2212]
[21,7783,21,7787,11,7794,21,7809,null,null,0,2212]
[12,7906,23,7964,13,7975,23,8004,null,null,0,1212]
[21,8104,21,8112,11,8119,21,8127,null,null,0,2212]
[21,8217,12,8231,24,8238,23,8256,null,null,0,2122]
[21,8351,21,8355,22,8365,14,8371,null,null,0,2221]
[21,8465,12,8473,24,8479,23,8490,null,null,0,2122]
[21,8595,12,8602,24,8608,23,8649,null,null,0,2122]
[12,8754,23,8774,13,8780,23,8798,null,null,0,1212]
[21,8895,12,8904,24,8920,23,8928,null,null,0,2122]
[21,9026,21,9030,11,9037,21,9054,null,null,0,2212]
[21,9146,21,9176,22,9182,14,9191,null,null,0,2221]
[21,9291,21,9295,11,9302,21,9326,null,null,0,2212]
[21,9413,12,9421,13,9448,23,9475,null,null,0,2112]
[21,9571,21,9576,11,9583,21,9595,null,null,0,2212]
[21,9684,12,9702,24,9722,23,9738,null,null,0,2122]
[21,9833,21,9837,22,9843,23,9855,null,null,0,2222]
[21,9951,21,9956,11,9963,21,9976,null,null,0,2212]
[21,10065,12,10073,24,10105,23,10125,null,null,0,2122]
[21,10222,21,10226,11,10233,21,10240,null,null,0,2212]
[21,10328,12,10335,24,10343,14,10350,null,null,0,2121]
[21,10446,12,10454,13,10472,23,10479,null,null,0,2112]
[21,10576,21,10581,22,10588,23,10595,null,null,0,2222]
[21,10692,21,10699,22,10711,23,10723,null,null,0,2222]
[21,10819,21,10824,22,10830,14,10836,null,null,0,2221]
[12,10937,23,10954,24,10962,14,10970,null,null,0,1221]
[21,11067,21,11071,22,11079,14,11086,null,null,0,2221]
[21,11182,12,11191,24,11198,23,11209,null,null,0,2122]
[12,11313,23,11329,24,11344,23,11356,null,null,0,1222]
[21,11453,21,11458,22,11463,14,11470,null,null,0,2221]
[21,11568,21,11575,11,11581,21,11587,null,null,0,2212]
[21,11681,12,11689,24,11739,23,11749,null,null,0,2122]
[21,11845,21,11851,11,11859,21,11892,null,null,0,2212]
[21,11982,12,11993,24,12013,23,12029,null,null,0,2122]
[21,12129,21,12135,11,12142,21,12149,null,null,0,2212]
[21,12240,12,12247,24,12266,14,12273,null,null,0,2121]
[21,12369,21,12372,22,12380,14,12386,null,null,0,2221]
[21,12483,21,12486,22,12498,23,12511,null,null,0,2222]
[21,12610,21,12614,11,12622,21,12646,null,null,0,2212]
[21,12737,21,12741,11,12748,21,12755,null,null,0,2212]
[21,12842,21,12846,22,12851,14,12858,null,null,0,2221]
[21,12955,12,12963,24,12971,23,12982,null,null,0,2122]
[21,13079,21,13083,22,13089,14,13095,null,null,0,2221]
[21,13192,21,13196,22,13211,23,13225,null,null,0,2222]
[21,13321,21,13326,11,13334,21,13353,null,null,0,2212]
[21,13442,21,13446,11,13453,21,13491,null,null,0,2212]
[21,13578,21,13582,11,13597,21,13615,null,null,0,2212]
[12,13704,14,13708,24,13717,14,13723,null,null,0,1121]
[21,13820,21,13824,11,13832,21,13846,null,null,0,2212]
[21,13930,21,13935,11,13943,21,13954,null,null,0,2212]
[12,14054,23,14070,13,14091,23,14106,null,null,0,1212]
[21,14204,21,14208,22,14220,14,14227,null,null,0,2221]
[21,14325,21,14329,22,14340,23,14347,null,null,0,2222]
[21,14443,21,14447,22,14453,14,14459,null,null,0,2221]
[21,14557,21,14561,11,14569,21,14594,null,null,0,2212]
[21,14682,12,14691,24,14726,23,14744,null,null,0,2122]
[21,14842,21,14852,11,14860,21,14873,null,null,0,2212]
[21,14960,21,14965,11,14971,21,15003,null,null,0,2212]
[21,15089,21,15093,22,15099,14,15106,null,null,0,2221]
[21,15206,21,15213,11,15219,21,15226,null,null,0,2212]
[21,15313,21,15321,22,15334,14,15341,null,null,0,2221]
[21,15439,21,15443,11,15450,21,15471,null,null,0,2212]
[21,15559,12,15568,24,15580,23,15600,null,null,0,2122]
[21,15696,21,15701,11,15708,21,15730,null,null,0,2212]
[12,15821,14,15828,24,15844,14,15852,null,null,0,1121]
[21,15953,12,15961,24,15972,23,16009,null,null,0,2122]
[21,16109,12,16116,24,16140,23,16149,null,null,0,2122]
[21,16248,12,16255,24,16262,23,16272,null,null,0,2122]
[21,16368,21,16372,22,16378,14,16385,null,null,0,2221]
[21,16483,21,16487,22,16496,14,16503,null,null,0,2221]
[21,16600,21,16607,11,16613,21,16619,null,null,0,2212]
[21,16717,12,16724,24,16730,23,16753,null,null,0,2122]
[21,16849,21,16855,11,16862,21,16869,null,null,0,2212]
[21,16958,21,16964,11,16970,21,16978,null,null,1,2212]

{"sheet":"!MB16B20.096","index":26,"n_rows":109,"n_cols":48,"rows_kept":109,"cut":false,"hidden":false,"merged":[[4,39,4,42],[5,39,5,40],[4,44,4,47],[5,44,5,45],[4,24,4,27],[5,24,5,25],[4,29,4,32],[5,29,5,30],[4,34,4,37],[5,34,5,35],[1,1,1,2],[5,13,5,14],[26,13,26,14],[27,13,27,14],[4,19,4,22],[5,19,5,20]]}
["Report for:!MB16B20.096"]
["Date:","<date>"]
["Hen:","<hen>",null,null,null,"Correct Sequence",{"$f":"Start!J2","v":2212},null,null,null,null,null,null,null,null,"Total Sequences in Data",{"$f":"4994-COUNTBLANK(L7:L5000)","v":103},null,null,null,null,"Total Sequences in Block Data",{"$f":"COUNTA(L7:L23)","v":17},null,null,null,"Total Sequences in Block Data",{"$f":"COUNTA(L24:L40)","v":17},null,null,null,"Total Sequences in Block Data",{"$f":"COUNTA(L41:L58)","v":18},null,null,null,"Total Sequences in Block Data",{"$f":"COUNTA(L59:L75)","v":17},null,null,null,"Total Sequences in Block Data",{"$f":"COUNTA(L76:L92)","v":17},null,null,null,"Total Sequences in Block Data",{"$f":"COUNTA(L93:L109)","v":17}]
[null,null,null,null,null,null,null,null,null,null,null,null,null,null,null,"Total Sequences in Summary",{"$f":"SUM(O7:O22)","v":103},null,null,null,null,"Total Sequences in Block Summary",{"$f":"SUM(U7:U22)","v":17},null,null,null,"Total Sequences in Block Summary",{"$f":"SUM(Z7:Z22)","v":17},null,null,null,"Total Sequences in Block Summary",{"$f":"SUM(AE7:AE22)","v":18},null,null,null,"Total Sequences in Block Summary",{"$f":"SUM(AJ7:AJ22)","v":17},null,null,null,"Total Sequences in Block Summary",{"$f":"SUM(AO7:AO22)","v":17},null,null,null,"Total Sequences in Block Summary",{"$f":"SUM(AT7:AT22)","v":17}]
[null,null,null,null,null,null,null,null,null,null,null,null,null,null,null,null,null,null,null,"Block 1",null,null,null,null,"Block 2",null,null,null,null,"Block 3",null,null,null,null,"Block 4",null,null,null,null,"Block 5",null,null,null,null,"Block 6"]
["Sequence\nComponent\n1","Time\n1","Sequence\nComponent\n2","Time\n2","Sequence\nComponent\n3","Time\n3","Sequence\nComponent\n4","Time\n4","Sequence\nComponent\n5","Time\n5","Correct?\n0=No 1=Yes","Sequence",null,"Frequency",null,"Relative Frequency","Variability",null,null,"Frequency",null,"Relative Frequency","Variability",null,"Frequency",null,"Relative Frequency","Variability",null,"Frequency",null,"Relative Frequency","Variability",null,"Frequency",null,"Relative Frequency","Variability",null,"Frequency",null,"Relative Frequency","Variability",null,"Frequency",null,"Relative Frequency","Variability"]
[12,13,23,24,24,35,14,42,null,null,0,1221,null,1111,{"$f":"COUNTIF($L$7:$L$500,N7)","v":0},{"$f":"O7/$Q$4","v":0},{"$f":"IF(P7=0,0,(P7*((LOG(P7))/LOG(2))))","v":0},null,null,{"$f":"N7","v":1111},{"$f":"COUNTIF(L7:L23,T7)","v":0},{"$f":"U7/(W4-U20)","v":0},{"$f":"IF(V7=0,0,(V7*((LOG(V7))/LOG(2))))","v":0},null,{"$f":"N7","v":1111},{"$f":"COUNTIF(L24:L40,Y7)","v":0},{"$f":"Z7/(AB4-Z20)","v":0},{"$f":"IF(AA7=0,0,(AA7*((LOG(AA7))/LOG(2))))","v":0},null,{"$f":"N7","v":1111},{"$f":"COUNTIF(L41:L58,AD7)","v":0},{"$f":"AE7/(AG4-AE20)","v":0},{"$f":"IF(AF7=0,0,(AF7*((LOG(AF7))/LOG(2))))","v":0},null,{"$f":"N7","v":1111},{"$f":"COUNTIF(L59:L75,AI7)","v":0},{"$f":"AJ7/(AL4-AJ20)","v":0},{"$f":"IF(AK7=0,0,(AK7*((LOG(AK7))/LOG(2))))","v":0},null,{"$f":"N7","v":1111},{"$f":"COUNTIF(L76:L92,AN7)","v":0},{"$f":"AO7/(AQ4-AO20)","v":0},{"$f":"IF(AP7=0,0,(AP7*((LOG(AP7))/LOG(2))))","v":0},null,{"$f":"N7","v":1111},{"$f":"COUNTIF(L93:L109,AS7)","v":0},{"$f":"AT7/(AV4-AT20)","v":0},{"$f":"IF(AU7=0,0,(AU7*((LOG(AU7))/LOG(2))))","v":0}]
[21,147,21,154,11,163,21,169,null,null,0,2212,null,1112,{"$f":"COUNTIF($L$7:$L$500,N8)","v":0},{"$f":"O8/$Q$4","v":0},{"$f":"IF(P8=0,0,(P8*((LOG(P8))/LOG(2))))","v":0},null,null,{"$f":"N8","v":1112},{"$f":"COUNTIF(L7:L23,T8)","v":0},{"$f":"U8/(W4-U20)","v":0},{"$f":"IF(V8=0,0,(V8*((LOG(V8))/LOG(2))))","v":0},null,{"$f":"N8","v":1112},{"$f":"COUNTIF(L24:L40,Y8)","v":0},{"$f":"Z8/(AB4-Z20)","v":0},{"$f":"IF(AA8=0,0,(AA8*((LOG(AA8))/LOG(2))))","v":0},null,{"$f":"N8","v":1112},{"$f":"COUNTIF(L41:L58,AD8)","v":0},{"$f":"AE8/(AG4-AE20)","v":0},{"$f":"IF(AF8=0,0,(AF8*((LOG(AF8))/LOG(2))))","v":0},null,{"$f":"N8","v":1112},{"$f":"COUNTIF(L59:L75,AI8)","v":0},{"$f":"AJ8/(AL4-AJ20)","v":0},{"$f":"IF(AK8=0,0,(AK8*((LOG(AK8))/LOG(2))))","v":0},null,{"$f":"N8","v":1112},{"$f":"COUNTIF(L76:L92,AN8)","v":0},{"$f":"AO8/(AQ4-AO20)","v":0},{"$f":"IF(AP8=0,0,(AP8*((LOG(AP8))/LOG(2))))","v":0},null,{"$f":"N8","v":1112},{"$f":"COUNTIF(L93:L109,AS8)","v":0},{"$f":"AT8/(AV4-AT20)","v":0},{"$f":"IF(AU8=0,0,(AU8*((LOG(AU8))/LOG(2))))","v":0}]
[12,275,23,292,13,312,23,319,null,null,0,1212,null,1121,{"$f":"COUNTIF($L$7:$L$500,N9)","v":2},{"$f":"O9/$Q$4","v":1.9417475728155338E-2},{"$f":"IF(P9=0,0,(P9*((LOG(P9))/LOG(2))))","v":-0.11041748596472269},null,null,{"$f":"N9","v":1121},{"$f":"COUNTIF(L7:L23,T9)","v":0},{"$f":"U9/(W4-U20)","v":0},{"$f":"IF(V9=0,0,(V9*((LOG(V9))/LOG(2))))","v":0},null,{"$f":"N9","v":1121},{"$f":"COUNTIF(L24:L40,Y9)","v":0},{"$f":"Z9/(AB4-Z20)","v":0},{"$f":"IF(AA9=0,0,(AA9*((LOG(AA9))/LOG(2))))","v":0},null,{"$f":"N9","v":1121},{"$f":"COUNTIF(L41:L58,AD9)","v":0},{"$f":"AE9/(AG4-AE20)","v":0},{"$f":"IF(AF9=0,0,(AF9*((LOG(AF9))/LOG(2))))","v":0},null,{"$f":"N9","v":1121},{"$f":"COUNTIF(L59:L75,AI9)","v":0},{"$f":"AJ9/(AL4-AJ20)","v":0},{"$f":"IF(AK9=0,0,(AK9*((LOG(AK9))/LOG(2))))","v":0},null,{"$f":"N9","v":1121},{"$f":"COUNTIF(L76:L92,AN9)","v":2},{"$f":"AO9/(AQ4-AO20)","v":0.18181818181818182},{"$f":"IF(AP9=0,0,(AP9*((LOG(AP9))/LOG(2))))","v":-0.44716938520678134},null,{"$f":"N9","v":1121},{"$f":"COUNTIF(L93:L109,AS9)","v":0},{"$f":"AT9/(AV4-AT20)","v":0},{"$f":"IF(AU9=0,0,(AU9*((LOG(AU9))/LOG(2))))","v":0}]
[21,420,12,429,24,440,23,447,null,null,0,2122,null,1122,{"$f":"COUNTIF($L$7:$L$500,N10)","v":3},{"$f":"O10/$Q$4","v":2.9126213592233011E-2},{"$f":"IF(P10=0,0,(P10*((LOG(P10))/LOG(2))))","v":-0.1485884862076329},null,null,{"$f":"N10","v":1122},{"$f":"COUNTIF(L7:L23,T10)","v":1},{"$f":"U10/(W4-U20)","v":7.6923076923076927E-2},{"$f":"IF(V10=0,0,(V10*((LOG(V10))/LOG(2))))","v":-0.28464920908777636},null,{"$f":"N10","v":1122},{"$f":"COUNTIF(L24:L40,Y10)","v":0},{"$f":"Z10/(AB4-Z20)","v":0},{"$f":"IF(AA10=0,0,(AA10*((LOG(AA10))/LOG(2))))","v":0},null,{"$f":"N10","v":1122},{"$f":"COUNTIF(L41:L58,AD10)","v":0},{"$f":"AE10/(AG4-AE20)","v":0},{"$f":"IF(AF10=0,0,(AF10*((LOG(AF10))/LOG(2))))","v":0},null,{"$f":"N10","v":1122},{"$f":"COUNTIF(L59:L75,AI10)","v":1},{"$f":"AJ10/(AL4-AJ20)","v":0.1},{"$f":"IF(AK10=0,0,(AK10*((LOG(AK10))/LOG(2))))","v":-0.33219280948873625},null,{"$f":"N10","v":1122},{"$f":"COUNTIF(L76:L92,AN10)","v":0},{"$f":"AO10/(AQ4-AO20)","v":0},{"$f":"IF(AP10=0,0,(AP10*((LOG(AP10))/LOG(2))))","v":0},null,{"$f":"N10","v":1122},{"$f":"COUNTIF(L93:L109,AS10)","v":1},{"$f":"AT10/(AV4-AT20)","v":0.14285714285714285},{"$f":"IF(AU10=0,0,(AU10*((LOG(AU10))/LOG(2))))","v":-0.40105070315108626}]
[21,573,12,581,24,588,23,600,null,null,0,2122,null,1211,{"$f":"COUNTIF($L$7:$L$500,N11)","v":0},{"$f":"O11/$Q$4","v":0},{"$f":"IF(P11=0,0,(P11*((LOG(P11))/LOG(2))))","v":0},null,null,{"$f":"N11","v":1211},{"$f":"COUNTIF(L7:L23,T11)","v":0},{"$f":"U11/(W4-U20)","v":0},{"$f":"IF(V11=0,0,(V11*((LOG(V11))/LOG(2))))","v":0},null,{"$f":"N11","v":1211},{"$f":"COUNTIF(L24:L40,Y11)","v":0},{"$f":"Z11/(AB4-Z20)","v":0},{"$f":"IF(AA11=0,0,(AA11*((LOG(AA11))/LOG(2))))","v":0},null,{"$f":"N11","v":1211},{"$f":"COUNTIF(L41:L58,AD11)","v":0},{"$f":"AE11/(AG4-AE20)","v":0},{"$f":"IF(AF11=0,0,(AF11*((LOG(AF11))/LOG(2))))","v":0},null,{"$f":"N11","v":1211},{"$f":"COUNTIF(L59:L75,AI11)","v":0},{"$f":"AJ11/(AL4-AJ20)","v":0},{"$f":"IF(AK11=0,0,(AK11*((LOG(AK11))/LOG(2))))","v":0},null,{"$f":"N11","v":1211},{"$f":"COUNTIF(L76:L92,AN11)","v":0},{"$f":"AO11/(AQ4-AO20)","v":0},{"$f":"IF(AP11=0,0,(AP11*((LOG(AP11))/LOG(2))))","v":0},null,{"$f":"N11","v":1211},{"$f":"COUNTIF(L93:L109,AS11)","v":0},{"$f":"AT11/(AV4-AT20)","v":0},{"$f":"IF(AU11=0,0,(AU11*((LOG(AU11))/LOG(2))))","v":0}]
[21,697,12,706,24,714,23,723,null,null,0,2122,null,1212,{"$f":"COUNTIF($L$7:$L$500,N12)","v":2},{"$f":"O12/$Q$4","v":1.9417475728155338E-2},{"$f":"IF(P12=0,0,(P12*((LOG(P12))/LOG(2))))","v":-0.11041748596472269},null,null,{"$f":"N12","v":1212},{"$f":"COUNTIF(L7:L23,T12)","v":2},{"$f":"U12/(W4-U20)","v":0.15384615384615385},{"$f":"IF(V12=0,0,(V12*((LOG(V12))/LOG(2))))","v":-0.4154522643293988},null,{"$f":"N12","v":1212},{"$f":"COUNTIF(L24:L40,Y12)","v":0},{"$f":"Z12/(AB4-Z20)","v":0},{"$f":"IF(AA12=0,0,(AA12*((LOG(AA12))/LOG(2))))","v":0},null,{"$f":"N12","v":1212},{"$f":"COUNTIF(L41:L58,AD12)","v":0},{"$f":"AE12/(AG4-AE20)","v":0},{"$f":"IF(AF12=0,0,(AF12*((LOG(AF12))/LOG(2))))","v":0},null,{"$f":"N12","v":1212},{"$f":"COUNTIF(L59:L75,AI12)","v":0},{"$f":"AJ12/(AL4-AJ20)","v":0},{"$f":"IF(AK12=0,0,(AK12*((LOG(AK12))/LOG(2))))","v":0},null,{"$f":"N12","v":1212},{"$f":"COUNTIF(L76:L92,AN12)","v":0},{"$f":"AO12/(AQ4-AO20)","v":0},{"$f":"IF(AP12=0,0,(AP12*((LOG(AP12))/LOG(2))))","v":0},null,{"$f":"N12","v":1212},{"$f":"COUNTIF(L93:L109,AS12)","v":0},{"$f":"AT12/(AV4-AT20)","v":0},{"$f":"IF(AU12=0,0,(AU12*((LOG(AU12))/LOG(2))))","v":0}]
[12,829,23,836,13,855,23,873,null,null,0,1212,null,1221,{"$f":"COUNTIF($L$7:$L$500,N13)","v":4},{"$f":"O13/$Q$4","v":3.8834951456310676E-2},{"$f":"IF(P13=0,0,(P13*((LOG(P13))/LOG(2))))","v":-0.18200002047313468},null,null,{"$f":"N13","v":1221},{"$f":"COUNTIF(L7:L23,T13)","v":3},{"$f":"U13/(W4-U20)","v":0.23076923076923078},{"$f":"IF(V13=0,0,(V13*((LOG(V13))/LOG(2))))","v":-0.48818705017383146},null,{"$f":"N13","v":1221},{"$f":"COUNTIF(L24:L40,Y13)","v":1},{"$f":"Z13/(AB4-Z20)","v":9.0909090909090912E-2},{"$f":"IF(AA13=0,0,(AA13*((LOG(AA13))/LOG(2))))","v":-0.31449378351248153},null,{"$f":"N13","v":1221},{"$f":"COUNTIF(L41:L58,AD13)","v":0},{"$f":"AE13/(AG4-AE20)","v":0},{"$f":"IF(AF13=0,0,(AF13*((LOG(AF13))/LOG(2))))","v":0},null,{"$f":"N13","v":1221},{"$f":"COUNTIF(L59:L75,AI13)","v":0},{"$f":"AJ13/(AL4-AJ20)","v":0},{"$f":"IF(AK13=0,0,(AK13*((LOG(AK13))/LOG(2))))","v":0},null,{"$f":"N13","v":1221},{"$f":"COUNTIF(L76:L92,AN13)","v":0},{"$f":"AO13/(AQ4-AO20)","v":0},{"$f":"IF(AP13=0,0,(AP13*((LOG(AP13))/LOG(2))))","v":0},null,{"$f":"N13","v":1221},{"$f":"COUNTIF(L93:L109,AS13)","v":0},{"$f":"AT13/(AV4-AT20)","v":0},{"$f":"IF(AU13=0,0,(AU13*((LOG(AU13))/LOG(2))))","v":0}]
[21,970,21,985,11,998,21,1009,null,null,0,2212,null,1222,{"$f":"COUNTIF($L$7:$L$500,N14)","v":2},{"$f":"O14/$Q$4","v":1.9417475728155338E-2},{"$f":"IF(P14=0,0,(P14*((LOG(P14))/LOG(2))))","v":-0.11041748596472269},null,null,{"$f":"N14","v":1222},{"$f":"COUNTIF(L7:L23,T14)","v":0},{"$f":"U14/(W4-U20)","v":0},{"$f":"IF(V14=0,0,(V14*((LOG(V14))/LOG(2))))","v":0},null,{"$f":"N14","v":1222},{"$f":"COUNTIF(L24:L40,Y14)","v":1},{"$f":"Z14/(AB4-Z20)","v":9.0909090909090912E-2},{"$f":"IF(AA14=0,0,(AA14*((LOG(AA14))/LOG(2))))","v":-0.31449378351248153},null,{"$f":"N14","v":1222},{"$f":"COUNTIF(L41:L58,AD14)","v":0},{"$f":"AE14/(AG4-AE20)","v":0},{"$f":"IF(AF14=0,0,(AF14*((LOG(AF14))/LOG(2))))","v":0},null,{"$f":"N14","v":1222},{"$f":"COUNTIF(L59:L75,AI14)","v":0},{"$f":"AJ14/(AL4-AJ20)","v":0},{"$f":"IF(AK14=0,0,(AK14*((LOG(AK14))/LOG(2))))","v":0},null,{"$f":"N14","v":1222},{"$f":"COUNTIF(L76:L92,AN14)","v":1},{"$f":"AO14/(AQ4-AO20)","v":9.0909090909090912E-2},{"$f":"IF(AP14=0,0,(AP14*((LOG(AP14))/LOG(2))))","v":-0.31449378351248153},null,{"$f":"N14","v":1222},{"$f":"COUNTIF(L93:L109,AS14)","v":0},{"$f":"AT14/(AV4-AT20)","v":0},{"$f":"IF(AU14=0,0,(AU14*((LOG(AU14))/LOG(2))))","v":0}]
[12,1110,23,1118,24,1125,14,1135,null,null,0,1221,null,2111,{"$f":"COUNTIF($L$7:$L$500,N15)","v":0},{"$f":"O15/$Q$4","v":0},{"$f":"IF(P15=0,0,(P15*((LOG(P15))/LOG(2))))","v":0},null,null,{"$f":"N15","v":2111},{"$f":"COUNTIF(L7:L23,T15)","v":0},{"$f":"U15/(W4-U20)","v":0},{"$f":"IF(V15=0,0,(V15*((LOG(V15))/LOG(2))))","v":0},null,{"$f":"N15","v":2111},{"$f":"COUNTIF(L24:L40,Y15)","v":0},{"$f":"Z15/(AB4-Z20)","v":0},{"$f":"IF(AA15=0,0,(AA15*((LOG(AA15))/LOG(2))))","v":0},null,{"$f":"N15","v":2111},{"$f":"COUNTIF(L41:L58,AD15)","v":0},{"$f":"AE15/(AG4-AE20)","v":0},{"$f":"IF(AF15=0,0,(AF15*((LOG(AF15))/LOG(2))))","v":0},null,{"$f":"N15","v":2111},{"$f":"COUNTIF(L59:L75,AI15)","v":0},{"$f":"AJ15/(AL4-AJ20)","v":0},{"$f":"IF(AK15=0,0,(AK15*((LOG(AK15))/LOG(2))))","v":0},null,{"$f":"N15","v":2111},{"$f":"COUNTIF(L76:L92,AN15)","v":0},{"$f":"AO15/(AQ4-AO20)","v":0},{"$f":"IF(AP15=0,0,(AP15*((LOG(AP15))/LOG(2))))","v":0},null,{"$f":"N15","v":2111},{"$f":"COUNTIF(L93:L109,AS15)","v":0},{"$f":"AT15/(AV4-AT20)","v":0},{"$f":"IF(AU15=0,0,(AU15*((LOG(AU15))/LOG(2))))","v":0}]
[12,1241,23,1258,24,1271,14,1291,null,null,0,1221,null,2112,{"$f":"COUNTIF($L$7:$L$500,N16)","v":0},{"$f":"O16/$Q$4","v":0},{"$f":"IF(P16=0,0,(P16*((LOG(P16))/LOG(2))))","v":0},null,null,{"$f":"N16","v":2112},{"$f":"COUNTIF(L7:L23,T16)","v":0},{"$f":"U16/(W4-U20)","v":0},{"$f":"IF(V16=0,0,(V16*((LOG(V16))/LOG(2))))","v":0},null,{"$f":"N16","v":2112},{"$f":"COUNTIF(L24:L40,Y16)","v":0},{"$f":"Z16/(AB4-Z20)","v":0},{"$f":"IF(AA16=0,0,(AA16*((LOG(AA16))/LOG(2))))","v":0},null,{"$f":"N16","v":2112},{"$f":"COUNTIF(L41:L58,AD16)","v":0},{"$f":"AE16/(AG4-AE20)","v":0},{"$f":"IF(AF16=0,0,(AF16*((LOG(AF16))/LOG(2))))","v":0},null,{"$f":"N16","v":2112},{"$f":"COUNTIF(L59:L75,AI16)","v":0},{"$f":"AJ16/(AL4-AJ20)","v":0},{"$f":"IF(AK16=0,0,(AK16*((LOG(AK16))/LOG(2))))","v":0},null,{"$f":"N16","v":2112},{"$f":"COUNTIF(L76:L92,AN16)","v":0},{"$f":"AO16/(AQ4-AO20)","v":0},{"$f":"IF(AP16=0,0,(AP16*((LOG(AP16))/LOG(2))))","v":0},null,{"$f":"N16","v":2112},{"$f":"COUNTIF(L93:L109,AS16)","v":0},{"$f":"AT16/(AV4-AT20)","v":0},{"$f":"IF(AU16=0,0,(AU16*((LOG(AU16))/LOG(2))))","v":0}]
[21,1388,21,1396,11,1402,21,1409,null,null,0,2212,null,2121,{"$f":"COUNTIF($L$7:$L$500,N17)","v":2},{"$f":"O17/$Q$4","v":1.9417475728155338E-2},{"$f":"IF(P17=0,0,(P17*((LOG(P17))/LOG(2))))","v":-0.11041748596472269},null,null,{"$f":"N17","v":2121},{"$f":"COUNTIF(L7:L23,T17)","v":1},{"$f":"U17/(W4-U20)","v":7.6923076923076927E-2},{"$f":"IF(V17=0,0,(V17*((LOG(V17))/LOG(2))))","v":-0.28464920908777636},null,{"$f":"N17","v":2121},{"$f":"COUNTIF(L24:L40,Y17)","v":1},{"$f":"Z17/(AB4-Z20)","v":9.0909090909090912E-2},{"$f":"IF(AA17=0,0,(AA17*((LOG(AA17))/LOG(2))))","v":-0.31449378351248153},null,{"$f":"N17","v":2121},{"$f":"COUNTIF(L41:L58,AD17)","v":0},{"$f":"AE17/(AG4-AE20)","v":0},{"$f":"IF(AF17=0,0,(AF17*((LOG(AF17))/LOG(2))))","v":0},null,{"$f":"N17","v":2121},{"$f":"COUNTIF(L59:L75,AI17)","v":0},{"$f":"AJ17/(AL4-AJ20)","v":0},{"$f":"IF(AK17=0,0,(AK17*((LOG(AK17))/LOG(2))))","v":0},null,{"$f":"N17","v":2121},{"$f":"COUNTIF(L76:L92,AN17)","v":0},{"$f":"AO17/(AQ4-AO20)","v":0},{"$f":"IF(AP17=0,0,(AP17*((LOG(AP17))/LOG(2))))","v":0},null,{"$f":"N17","v":2121},{"$f":"COUNTIF(L93:L109,AS17)","v":0},{"$f":"AT17/(AV4-AT20)","v":0},{"$f":"IF(AU17=0,0,(AU17*((LOG(AU17))/LOG(2))))","v":0}]
[21,1502,12,1512,24,1562,23,1574,null,null,0,2122,null,2122,{"$f":"COUNTIF($L$7:$L$500,N18)","v":25},{"$f":"O18/$Q$4","v":0.24271844660194175},{"$f":"IF(P18=0,0,(P18*((LOG(P18))/LOG(2))))","v":-0.49578746053604217},null,null,{"$f":"N18","v":2122},{"$f":"COUNTIF(L7:L23,T18)","v":4},{"$f":"U18/(W4-U20)","v":0.30769230769230771},{"$f":"IF(V18=0,0,(V18*((LOG(V18))/LOG(2))))","v":-0.52321222096648989},null,{"$f":"N18","v":2122},{"$f":"COUNTIF(L24:L40,Y18)","v":6},{"$f":"Z18/(AB4-Z20)","v":0.54545454545454541},{"$f":"IF(AA18=0,0,(AA18*((LOG(AA18))/LOG(2))))","v":-0.47698315522698609},null,{"$f":"N18","v":2122},{"$f":"COUNTIF(L41:L58,AD18)","v":3},{"$f":"AE18/(AG4-AE20)","v":0.27272727272727271},{"$f":"IF(AF18=0,0,(AF18*((LOG(AF18))/LOG(2))))","v":-0.51121885034076575},null,{"$f":"N18","v":2122},{"$f":"COUNTIF(L59:L75,AI18)","v":5},{"$f":"AJ18/(AL4-AJ20)","v":0.5},{"$f":"IF(AK18=0,0,(AK18*((LOG(AK18))/LOG(2))))","v":-0.5},null,{"$f":"N18","v":2122},{"$f":"COUNTIF(L76:L92,AN18)","v":4},{"$f":"AO18/(AQ4-AO20)","v":0.36363636363636365},{"$f":"IF(AP18=0,0,(AP18*((LOG(AP18))/LOG(2))))","v":-0.53070240677719893},null,{"$f":"N18","v":2122},{"$f":"COUNTIF(L93:L109,AS18)","v":3},{"$f":"AT18/(AV4-AT20)","v":0.42857142857142855},{"$f":"IF(AU18=0,0,(AU18*((LOG(AU18))/LOG(2))))","v":-0.52388246628704915}]
[21,1680,21,1695,22,1705,23,1713,null,null,0,2222,null,2211,{"$f":"COUNTIF($L$7:$L$500,N19)","v":0},{"$f":"O19/$Q$4","v":0},{"$f":"IF(P19=0,0,(P19*((LOG(P19))/LOG(2))))","v":0},null,null,{"$f":"N19","v":2211},{"$f":"COUNTIF(L7:L23,T19)","v":0},{"$f":"U19/(W4-U20)","v":0},{"$f":"IF(V19=0,0,(V19*((LOG(V19))/LOG(2))))","v":0},null,{"$f":"N19","v":2211},{"$f":"COUNTIF(L24:L40,Y19)","v":0},{"$f":"Z19/(AB4-Z20)","v":0},{"$f":"IF(AA19=0,0,(AA19*((LOG(AA19))/LOG(2))))","v":0},null,{"$f":"N19","v":2211},{"$f":"COUNTIF(L41:L58,AD19)","v":0},{"$f":"AE19/(AG4-AE20)","v":0},{"$f":"IF(AF19=0,0,(AF19*((LOG(AF19))/LOG(2))))","v":0},null,{"$f":"N19","v":2211},{"$f":"COUNTIF(L59:L75,AI19)","v":0},{"$f":"AJ19/(AL4-AJ20)","v":0},{"$f":"IF(AK19=0,0,(AK19*((LOG(AK19))/LOG(2))))","v":0},null,{"$f":"N19","v":2211},{"$f":"COUNTIF(L76:L92,AN19)","v":0},{"$f":"AO19/(AQ4-AO20)","v":0},{"$f":"IF(AP19=0,0,(AP19*((LOG(AP19))/LOG(2))))","v":0},null,{"$f":"N19","v":2211},{"$f":"COUNTIF(L93:L109,AS19)","v":0},{"$f":"AT19/(AV4-AT20)","v":0},{"$f":"IF(AU19=0,0,(AU19*((LOG(AU19))/LOG(2))))","v":0}]
[12,1813,14,1838,24,1863,23,1871,null,null,0,1122,null,2212,{"$f":"COUNTIF($L$7:$L$500,N20)","v":40},{"$f":"O20/$Q$4","v":0.38834951456310679},{"$f":"IF(P20=0,0,(P20*((LOG(P20))/LOG(2))))","v":-0.52993104166829363},null,null,{"$f":"N20","v":2212},{"$f":"COUNTIF(L7:L23,T20)","v":4},null,null,null,{"$f":"N20","v":2212},{"$f":"COUNTIF(L24:L40,Y20)","v":6},null,null,null,{"$f":"N20","v":2212},{"$f":"COUNTIF(L41:L58,AD20)","v":7},null,null,null,{"$f":"N20","v":2212},{"$f":"COUNTIF(L59:L75,AI20)","v":7},null,null,null,{"$f":"N20","v":2212},{"$f":"COUNTIF(L76:L92,AN20)","v":6},null,null,null,{"$f":"N20","v":2212},{"$f":"COUNTIF(L93:L109,AS20)","v":10}]
[21,1968,21,1974,11,1986,21,1992,null,null,0,2212,null,2221,{"$f":"COUNTIF($L$7:$L$500,N21)","v":15},{"$f":"O21/$Q$4","v":0.14563106796116504},{"$f":"IF(P21=0,0,(P21*((LOG(P21))/LOG(2))))","v":-0.40479756285068441},null,null,{"$f":"N21","v":2221},{"$f":"COUNTIF(L7:L23,T21)","v":1},{"$f":"U21/(W4-U20)","v":7.6923076923076927E-2},{"$f":"IF(V21=0,0,(V21*((LOG(V21))/LOG(2))))","v":-0.28464920908777636},null,{"$f":"N21","v":2221},{"$f":"COUNTIF(L24:L40,Y21)","v":2},{"$f":"Z21/(AB4-Z20)","v":0.18181818181818182},{"$f":"IF(AA21=0,0,(AA21*((LOG(AA21))/LOG(2))))","v":-0.44716938520678134},null,{"$f":"N21","v":2221},{"$f":"COUNTIF(L41:L58,AD21)","v":6},{"$f":"AE21/(AG4-AE20)","v":0.54545454545454541},{"$f":"IF(AF21=0,0,(AF21*((LOG(AF21))/LOG(2))))","v":-0.47698315522698609},null,{"$f":"N21","v":2221},{"$f":"COUNTIF(L59:L75,AI21)","v":2},{"$f":"AJ21/(AL4-AJ20)","v":0.2},{"$f":"IF(AK21=0,0,(AK21*((LOG(AK21))/LOG(2))))","v":-0.46438561897747244},null,{"$f":"N21","v":2221},{"$f":"COUNTIF(L76:L92,AN21)","v":3},{"$f":"AO21/(AQ4-AO20)","v":0.27272727272727271},{"$f":"IF(AP21=0,0,(AP21*((LOG(AP21))/LOG(2))))","v":-0.51121885034076575},null,{"$f":"N21","v":2221},{"$f":"COUNTIF(L93:L109,AS21)","v":1},{"$f":"AT21/(AV4-AT20)","v":0.14285714285714285},{"$f":"IF(AU21=0,0,(AU21*((LOG(AU21))/LOG(2))))","v":-0.40105070315108626}]
[21,2085,12,2093,24,2107,14,2141,null,null,0,2121,null,2222,{"$f":"COUNTIF($L$7:$L$500,N22)","v":8},{"$f":"O22/$Q$4","v":7.7669902912621352E-2},{"$f":"IF(P22=0,0,(P22*((LOG(P22))/LOG(2))))","v":-0.28633013803364804},null,null,{"$f":"N22","v":2222},{"$f":"COUNTIF(L7:L23,T22)","v":1},{"$f":"U22/(W4-U20)","v":7.6923076923076927E-2},{"$f":"IF(V22=0,0,(V22*((LOG(V22))/LOG(2))))","v":-0.28464920908777636},null,{"$f":"N22","v":2222},{"$f":"COUNTIF(L24:L40,Y22)","v":0},{"$f":"Z22/(AB4-Z20)","v":0},{"$f":"IF(AA22=0,0,(AA22*((LOG(AA22))/LOG(2))))","v":0},null,{"$f":"N22","v":2222},{"$f":"COUNTIF(L41:L58,AD22)","v":2},{"$f":"AE22/(AG4-AE20)","v":0.18181818181818182},{"$f":"IF(AF22=0,0,(AF22*((LOG(AF22))/LOG(2))))","v":-0.44716938520678134},null,{"$f":"N22","v":2222},{"$f":"COUNTIF(L59:L75,AI22)","v":2},{"$f":"AJ22/(AL4-AJ20)","v":0.2},{"$f":"IF(AK22=0,0,(AK22*((LOG(AK22))/LOG(2))))","v":-0.46438561897747244},null,{"$f":"N22","v":2222},{"$f":"COUNTIF(L76:L92,AN22)","v":1},{"$f":"AO22/(AQ4-AO20)","v":9.0909090909090912E-2},{"$f":"IF(AP22=0,0,(AP22*((LOG(AP22))/LOG(2))))","v":-0.31449378351248153},null,{"$f":"N22","v":2222},{"$f":"COUNTIF(L93:L109,AS22)","v":2},{"$f":"AT22/(AV4-AT20)","v":0.2857142857142857},{"$f":"IF(AU22=0,0,(AU22*((LOG(AU22))/LOG(2))))","v":-0.51638712058788683}]
[21,2256,21,2267,22,2275,14,2283,null,null,0,2221,null,null,null,{"$f":"SUM(P7:P22)","v":1},{"$f":"-SUM(Q7:Q22)","v":2.4891046536283268},null,null,null,null,{"$f":"SUM(V7:V22)","v":1},{"$f":"-SUM(W7:W22)","v":2.5654483718208256},null,null,null,{"$f":"SUM(AA7:AA22)","v":1},{"$f":"-SUM(AB7:AB22)","v":1.867633890971212},null,null,null,{"$f":"SUM(AF7:AF22)","v":1},{"$f":"-SUM(AG7:AG22)","v":1.4353713907745331},null,null,null,{"$f":"SUM(AK7:AK22)","v":1},{"$f":"-SUM(AL7:AL22)","v":1.7609640474436812},null,null,null,{"$f":"SUM(AP7:AP22)","v":1},{"$f":"-SUM(AQ7:AQ22)","v":2.1180782093497093},null,null,null,{"$f":"SUM(AU7:AU22)","v":0.99999999999999989},{"$f":"-SUM(AV7:AV22)","v":1.8423709931771084}]
[12,2396,23,2402,24,2414,14,2423,null,null,0,1221,null,null,null,"U=",{"$f":"Q23/(LOG(Q4)/LOG(2))","v":0.37225820046063723},null,null,null,null,"U1=",{"$f":"W23/(LOG(W4)/LOG(2))","v":0.62763833494228538},null,null,null,"U2=",{"$f":"AB23/(LOG(AB4)/LOG(2))","v":0.45691764390447892},null,null,null,"U3=",{"$f":"AG23/(LOG(AG4)/LOG(2))","v":0.34421995366297009},null,null,null,"U4=",{"$f":"AL23/(LOG(AL4)/LOG(2))","v":0.43082080885780216},null,null,null,"U5=",{"$f":"AQ23/(LOG(AQ4)/LOG(2))","v":0.5181889821662079},null,null,null,"U6=",{"$f":"AV23/(LOG(AV4)/LOG(2))","v":0.4507370622636741}]
[21,2519,21,2524,11,2538,21,2545,null,null,0,2212]
[21,2639,21,2661,11,2682,21,2733,null,null,0,2212]
[21,2821,12,2851,24,2859,23,2883,null,null,0,2122,null,"Total Target Seq"]
[21,2983,21,2991,11,2998,21,3018,null,null,0,2212,null,{"$f":"COUNTIF(L7:L109,G3)","v":40},null,17,17,18,17,17,17]
[21,3111,21,3137,22,3150,14,3157,null,null,0,2221,null,null,null,"% of reinforcement given in 6 equal intervals based on number of trials "]
[12,3268,23,3279,24,3289,23,3304,null,null,0,1222,null,null,null,"%_1","%_2","%_3","%_4","%_5","%_6"]
[21,3414,12,3421,24,3427,23,3446,null,null,0,2122,null,null,"target sequence",{"$f":"$G$3","v":2212},{"$f":"$G$3","v":2212},{"$f":"$G$3","v":2212},{"$f":"$G$3","v":2212},{"$f":"$G$3","v":2212},{"$f":"$G$3","v":2212}]
[21,3547,12,3555,24,3562,23,3573,null,null,0,2122,null,null,"total reinforcement",{"$f":"U20","v":4},{"$f":"Z20","v":6},{"$f":"AE20","v":7},{"$f":"AJ20","v":7},{"$f":"AO20","v":6},{"$f":"AT20","v":10}]
[21,3670,12,3678,24,3685,23,3694,null,null,0,2122,null,null,"% target"]
[21,3790,21,3795,11,3802,21,3833,null,null,0,2212,null,null,"CCRF"]
[21,3921,12,3933,24,3948,23,3960,null,null,0,2122,null,null,"% CCRf"]
[21,4056,21,4061,11,4069,21,4076,null,null,0,2212,null,null,"average response rate",{"$f":"H23/P28","v":134.29411764705881},{"$f":"(H40-H23)/Q28","v":134.70588235294119},{"$f":"(H58-H40)/R28","v":126.5},{"$f":"(H75-H58)/S28","v":117.47058823529412},{"$f":"(H92-H75)/T28","v":132.23529411764707},{"$f":"(H109-H92)/U28","v":132.41176470588235}]
[21,4163,21,4166,11,4174,21,4181,null,null,0,2212]
[21,4267,12,4280,24,4287,14,4309,null,null,0,2121]
[21,4412,21,4425,22,4436,14,4445,null,null,0,2221]
[21,4548,12,4555,24,4562,23,4573,null,null,0,2122]
[21,4696,21,4707,22,4721,23,4740,null,null,0,2222]
[21,4836,12,4845,24,4861,23,4877,null,null,0,2122]
[21,4978,21,4982,11,4988,21,5014,null,null,0,2212]
[21,5104,21,5110,11,5116,21,5129,null,null,0,2212]
[21,5235,21,5244,11,5251,21,5270,null,null,0,2212]
[21,5359,21,5375,22,5391,14,5400,null,null,0,2221]
[21,5495,21,5499,22,5506,14,5513,null,null,0,2221]
[21,5607,21,5611,22,5617,23,5626,null,null,0,2222]
[21,5722,21,5726,11,5738,21,5763,null,null,0,2212]
[21,5858,12,5866,24,5888,23,5899,null,null,0,2122]
[21,5993,21,5997,11,6012,21,6020,null,null,0,2212]
[21,6111,21,6115,11,6123,21,6138,null,null,0,2212]
[21,6226,12,6244,24,6268,23,6286,null,null,0,2122]
[21,6383,21,6387,22,6393,14,6400,null,null,0,2221]
[21,6496,21,6503,11,6509,21,6515,null,null,0,2212]
[21,6603,21,6607,22,6614,14,6621,null,null,0,2221]
[21,6720,21,6723,22,6729,14,6736,null,null,0,2221]
[21,6833,21,6838,22,6842,14,6850,null,null,0,2221]
[21,6947,21,6951,22,6955,23,6965,null,null,0,2222]
[21,7062,21,7066,22,7069,23,7075,null,null,0,2222]
[21,7172,21,7179,11,7189,21,7195,null,null,0,2212]
[21,7285,21,7289,11,7297,21,7308,null,null,0,2212]
[21,7400,21,7406,11,7414,21,7425,null,null,0,2212]
[21,7518,12,7525,24,7531,23,7542,null,null,0,2122]
[21,7638,21,7643,11,7651,21,7656,null,null,0,2212]
[21,7743,21,7747,22,7756,14,7763,null,null,0,2221]
[21,7860,12,7867,24,7873,23,7885,null,null,0,2122]
[21,7983,12,7992,24,8003,23,8008,null,null,0,2122]
[21,8105,21,8121,11,8130,21,8136,null,null,0,2212]
[21,8233,12,8240,24,8247,23,8257,null,null,0,2122]
[21,8355,21,8359,11,8366,21,8373,null,null,0,2212]
[12,8461,14,8469,24,8481,23,8489,null,null,0,1122]
[21,8585,21,8593,22,8601,14,8607,null,null,0,2221]
[21,8703,21,8712,11,8720,21,8726,null,null,0,2212]
[21,8820,12,8827,24,8834,23,8847,null,null,0,2122]
[21,8942,21,8952,22,8967,14,8974,null,null,0,2221]
[21,9071,21,9075,22,9082,14,9089,null,null,0,2221]
[21,9186,21,9190,11,9198,21,9205,null,null,0,2212]
[21,9293,21,9299,11,9306,21,9320,null,null,0,2212]
[12,9431,14,9440,24,9469,14,9479,null,null,0,1121]
[21,9573,21,9581,11,9589,21,9624,null,null,0,2212]
[12,9730,23,9741,24,9747,23,9765,null,null,0,1222]
[21,9859,21,9864,11,9871,21,9903,null,null,0,2212]
[21,9992,12,10004,24,10045,23,10063,null,null,0,2122]
[21,10160,12,10167,24,10182,23,10193,null,null,0,2122]
[21,10291,21,10296,22,10300,14,10307,null,null,0,2221]
[21,10404,21,10410,22,10417,23,10427,null,null,0,2222]
[21,10526,21,10533,11,10540,21,10550,null,null,0,2212]
[12,10639,14,10646,24,10667,14,10675,null,null,0,1121]
[21,10781,12,10788,24,10811,23,10826,null,null,0,2122]
[21,10923,12,10931,24,10948,23,10954,null,null,0,2122]
[21,11050,21,11064,11,11070,21,11095,null,null,0,2212]
[21,11184,21,11190,11,11197,21,11236,null,null,0,2212]
[21,11329,21,11337,11,11344,21,11360,null,null,0,2212]
[21,11456,21,11481,22,11498,14,11505,null,null,0,2221]
[21,11601,21,11614,11,11620,21,11626,null,null,0,2212]
[21,11716,21,11728,11,11735,21,11742,null,null,0,2212]
[21,11832,21,11844,11,11851,21,11862,null,null,0,2212]
[21,11948,21,11952,11,11960,21,11967,null,null,0,2212]
[21,12057,21,12064,11,12071,21,12086,null,null,0,2212]
[21,12173,21,12181,22,12217,23,12252,null,null,0,2222]
[21,12348,21,12356,11,12363,21,12369,null,null,0,2212]
[21,12457,21,12464,11,12470,21,12477,null,null,0,2212]
[12,12607,14,12614,24,12630,23,12644,null,null,0,1122]
[21,12740,21,12746,22,12750,23,12756,null,null,0,2222]
[21,12860,12,12871,24,12905,23,12924,null,null,0,2122]
[21,13021,12,13031,24,13069,23,13090,null,null,0,2122]
[21,13188,12,13197,24,13210,23,13220,null,null,0,2122]
[21,13317,21,13332,11,13340,21,13346,null,null,1,2212]

{"sheet":"!MB17C00.096","index":27,"n_rows":140,"n_cols":48,"rows_kept":140,"cut":false,"hidden":false,"merged":[[4,39,4,42],[5,39,5,40],[4,44,4,47],[5,44,5,45],[4,24,4,27],[5,24,5,25],[4,29,4,32],[5,29,5,30],[4,34,4,37],[5,34,5,35],[1,1,1,2],[5,13,5,14],[26,13,26,14],[27,13,27,14],[4,19,4,22],[5,19,5,20]]}
["Report for:!MB17C00.096"]
["Date:","<date>"]
["Hen:","<hen>",null,null,null,"Correct Sequence",{"$f":"Start!J2","v":2212},null,null,null,null,null,null,null,null,"Total Sequences in Data",{"$f":"4994-COUNTBLANK(L7:L5000)","v":134},null,null,null,null,"Total Sequences in Block Data",{"$f":"COUNTA(L7:L28)","v":22},null,null,null,"Total Sequences in Block Data",{"$f":"COUNTA(L29:L51)","v":23},null,null,null,"Total Sequences in Block Data",{"$f":"COUNTA(L52:L73)","v":22},null,null,null,"Total Sequences in Block Data",{"$f":"COUNTA(L74:L95)","v":22},null,null,null,"Total Sequences in Block Data",{"$f":"COUNTA(L96:L118)","v":23},null,null,null,"Total Sequences in Block Data",{"$f":"COUNTA(L119:L140)","v":22}]
[null,null,null,null,null,null,null,null,null,null,null,null,null,null,null,"Total Sequences in Summary",{"$f":"SUM(O7:O22)","v":134},null,null,null,null,"Total Sequences in Block Summary",{"$f":"SUM(U7:U22)","v":22},null,null,null,"Total Sequences in Block Summary",{"$f":"SUM(Z7:Z22)","v":23},null,null,null,"Total Sequences in Block Summary",{"$f":"SUM(AE7:AE22)","v":22},null,null,null,"Total Sequences in Block Summary",{"$f":"SUM(AJ7:AJ22)","v":22},null,null,null,"Total Sequences in Block Summary",{"$f":"SUM(AO7:AO22)","v":23},null,null,null,"Total Sequences in Block Summary",{"$f":"SUM(AT7:AT22)","v":22}]
[null,null,null,null,null,null,null,null,null,null,null,null,null,null,null,null,null,null,null,"Block 1",null,null,null,null,"Block 2",null,null,null,null,"Block 3",null,null,null,null,"Block 4",null,null,null,null,"Block 5",null,null,null,null,"Block 6"]
["Sequence\nComponent\n1","Time\n1","Sequence\nComponent\n2","Time\n2","Sequence\nComponent\n3","Time\n3","Sequence\nComponent\n4","Time\n4","Sequence\nComponent\n5","Time\n5","Correct?\n0=No 1=Yes","Sequence",null,"Frequency",null,"Relative Frequency","Variability",null,null,"Frequency",null,"Relative Frequency","Variability",null,"Frequency",null,"Relative Frequency","Variability",null,"Frequency",null,"Relative Frequency","Variability",null,"Frequency",null,"Relative Frequency","Variability",null,"Frequency",null,"Relative Frequency","Variability",null,"Frequency",null,"Relative Frequency","Variability"]
[12,5,14,9,13,13,23,24,null,null,0,1112,null,1111,{"$f":"COUNTIF($L$7:$L$500,N7)","v":0},{"$f":"O7/$Q$4","v":0},{"$f":"IF(P7=0,0,(P7*((LOG(P7))/LOG(2))))","v":0},null,null,{"$f":"N7","v":1111},{"$f":"COUNTIF(L7:L28,T7)","v":0},{"$f":"U7/(W4-U20)","v":0},{"$f":"IF(V7=0,0,(V7*((LOG(V7))/LOG(2))))","v":0},null,{"$f":"N7","v":1111},{"$f":"COUNTIF(L29:L51,Y7)","v":0},{"$f":"Z7/(AB4-Z20)","v":0},{"$f":"IF(AA7=0,0,(AA7*((LOG(AA7))/LOG(2))))","v":0},null,{"$f":"N7","v":1111},{"$f":"COUNTIF(L52:L73,AD7)","v":0},{"$f":"AE7/(AG4-AE20)","v":0},{"$f":"IF(AF7=0,0,(AF7*((LOG(AF7))/LOG(2))))","v":0},null,{"$f":"N7","v":1111},{"$f":"COUNTIF(L74:L95,AI7)","v":0},{"$f":"AJ7/(AL4-AJ20)","v":0},{"$f":"IF(AK7=0,0,(AK7*((LOG(AK7))/LOG(2))))","v":0},null,{"$f":"N7","v":1111},{"$f":"COUNTIF(L96:L118,AN7)","v":0},{"$f":"AO7/(AQ4-AO20)","v":0},{"$f":"IF(AP7=0,0,(AP7*((LOG(AP7))/LOG(2))))","v":0},null,{"$f":"N7","v":1111},{"$f":"COUNTIF(L119:L140,AS7)","v":0},{"$f":"AT7/(AV4-AT20)","v":0},{"$f":"IF(AU7=0,0,(AU7*((LOG(AU7))/LOG(2))))","v":0}]
[12,124,14,128,24,143,14,154,null,null,0,1121,null,1112,{"$f":"COUNTIF($L$7:$L$500,N8)","v":2},{"$f":"O8/$Q$4","v":1.4925373134328358E-2},{"$f":"IF(P8=0,0,(P8*((LOG(P8))/LOG(2))))","v":-9.0538644633698095E-2},null,null,{"$f":"N8","v":1112},{"$f":"COUNTIF(L7:L28,T8)","v":1},{"$f":"U8/(W4-U20)","v":5.2631578947368418E-2},{"$f":"IF(V8=0,0,(V8*((LOG(V8))/LOG(2))))","v":-0.22357513228650452},null,{"$f":"N8","v":1112},{"$f":"COUNTIF(L29:L51,Y8)","v":0},{"$f":"Z8/(AB4-Z20)","v":0},{"$f":"IF(AA8=0,0,(AA8*((LOG(AA8))/LOG(2))))","v":0},null,{"$f":"N8","v":1112},{"$f":"COUNTIF(L52:L73,AD8)","v":0},{"$f":"AE8/(AG4-AE20)","v":0},{"$f":"IF(AF8=0,0,(AF8*((LOG(AF8))/LOG(2))))","v":0},null,{"$f":"N8","v":1112},{"$f":"COUNTIF(L74:L95,AI8)","v":0},{"$f":"AJ8/(AL4-AJ20)","v":0},{"$f":"IF(AK8=0,0,(AK8*((LOG(AK8))/LOG(2))))","v":0},null,{"$f":"N8","v":1112},{"$f":"COUNTIF(L96:L118,AN8)","v":1},{"$f":"AO8/(AQ4-AO20)","v":6.6666666666666666E-2},{"$f":"IF(AP8=0,0,(AP8*((LOG(AP8))/LOG(2))))","v":-0.26045937304056793},null,{"$f":"N8","v":1112},{"$f":"COUNTIF(L119:L140,AS8)","v":0},{"$f":"AT8/(AV4-AT20)","v":0},{"$f":"IF(AU8=0,0,(AU8*((LOG(AU8))/LOG(2))))","v":0}]
[12,251,23,266,13,276,23,282,null,null,0,1212,null,1121,{"$f":"COUNTIF($L$7:$L$500,N9)","v":1},{"$f":"O9/$Q$4","v":7.462686567164179E-3},{"$f":"IF(P9=0,0,(P9*((LOG(P9))/LOG(2))))","v":-5.2732008884013228E-2},null,null,{"$f":"N9","v":1121},{"$f":"COUNTIF(L7:L28,T9)","v":1},{"$f":"U9/(W4-U20)","v":5.2631578947368418E-2},{"$f":"IF(V9=0,0,(V9*((LOG(V9))/LOG(2))))","v":-0.22357513228650452},null,{"$f":"N9","v":1121},{"$f":"COUNTIF(L29:L51,Y9)","v":0},{"$f":"Z9/(AB4-Z20)","v":0},{"$f":"IF(AA9=0,0,(AA9*((LOG(AA9))/LOG(2))))","v":0},null,{"$f":"N9","v":1121},{"$f":"COUNTIF(L52:L73,AD9)","v":0},{"$f":"AE9/(AG4-AE20)","v":0},{"$f":"IF(AF9=0,0,(AF9*((LOG(AF9))/LOG(2))))","v":0},null,{"$f":"N9","v":1121},{"$f":"COUNTIF(L74:L95,AI9)","v":0},{"$f":"AJ9/(AL4-AJ20)","v":0},{"$f":"IF(AK9=0,0,(AK9*((LOG(AK9))/LOG(2))))","v":0},null,{"$f":"N9","v":1121},{"$f":"COUNTIF(L96:L118,AN9)","v":0},{"$f":"AO9/(AQ4-AO20)","v":0},{"$f":"IF(AP9=0,0,(AP9*((LOG(AP9))/LOG(2))))","v":0},null,{"$f":"N9","v":1121},{"$f":"COUNTIF(L119:L140,AS9)","v":0},{"$f":"AT9/(AV4-AT20)","v":0},{"$f":"IF(AU9=0,0,(AU9*((LOG(AU9))/LOG(2))))","v":0}]
[12,402,23,408,24,423,23,431,null,null,0,1222,null,1122,{"$f":"COUNTIF($L$7:$L$500,N10)","v":0},{"$f":"O10/$Q$4","v":0},{"$f":"IF(P10=0,0,(P10*((LOG(P10))/LOG(2))))","v":0},null,null,{"$f":"N10","v":1122},{"$f":"COUNTIF(L7:L28,T10)","v":0},{"$f":"U10/(W4-U20)","v":0},{"$f":"IF(V10=0,0,(V10*((LOG(V10))/LOG(2))))","v":0},null,{"$f":"N10","v":1122},{"$f":"COUNTIF(L29:L51,Y10)","v":0},{"$f":"Z10/(AB4-Z20)","v":0},{"$f":"IF(AA10=0,0,(AA10*((LOG(AA10))/LOG(2))))","v":0},null,{"$f":"N10","v":1122},{"$f":"COUNTIF(L52:L73,AD10)","v":0},{"$f":"AE10/(AG4-AE20)","v":0},{"$f":"IF(AF10=0,0,(AF10*((LOG(AF10))/LOG(2))))","v":0},null,{"$f":"N10","v":1122},{"$f":"COUNTIF(L74:L95,AI10)","v":0},{"$f":"AJ10/(AL4-AJ20)","v":0},{"$f":"IF(AK10=0,0,(AK10*((LOG(AK10))/LOG(2))))","v":0},null,{"$f":"N10","v":1122},{"$f":"COUNTIF(L96:L118,AN10)","v":0},{"$f":"AO10/(AQ4-AO20)","v":0},{"$f":"IF(AP10=0,0,(AP10*((LOG(AP10))/LOG(2))))","v":0},null,{"$f":"N10","v":1122},{"$f":"COUNTIF(L119:L140,AS10)","v":0},{"$f":"AT10/(AV4-AT20)","v":0},{"$f":"IF(AU10=0,0,(AU10*((LOG(AU10))/LOG(2))))","v":0}]
[21,528,21,538,11,545,21,552,null,null,0,2212,null,1211,{"$f":"COUNTIF($L$7:$L$500,N11)","v":0},{"$f":"O11/$Q$4","v":0},{"$f":"IF(P11=0,0,(P11*((LOG(P11))/LOG(2))))","v":0},null,null,{"$f":"N11","v":1211},{"$f":"COUNTIF(L7:L28,T11)","v":0},{"$f":"U11/(W4-U20)","v":0},{"$f":"IF(V11=0,0,(V11*((LOG(V11))/LOG(2))))","v":0},null,{"$f":"N11","v":1211},{"$f":"COUNTIF(L29:L51,Y11)","v":0},{"$f":"Z11/(AB4-Z20)","v":0},{"$f":"IF(AA11=0,0,(AA11*((LOG(AA11))/LOG(2))))","v":0},null,{"$f":"N11","v":1211},{"$f":"COUNTIF(L52:L73,AD11)","v":0},{"$f":"AE11/(AG4-AE20)","v":0},{"$f":"IF(AF11=0,0,(AF11*((LOG(AF11))/LOG(2))))","v":0},null,{"$f":"N11","v":1211},{"$f":"COUNTIF(L74:L95,AI11)","v":0},{"$f":"AJ11/(AL4-AJ20)","v":0},{"$f":"IF(AK11=0,0,(AK11*((LOG(AK11))/LOG(2))))","v":0},null,{"$f":"N11","v":1211},{"$f":"COUNTIF(L96:L118,AN11)","v":0},{"$f":"AO11/(AQ4-AO20)","v":0},{"$f":"IF(AP11=0,0,(AP11*((LOG(AP11))/LOG(2))))","v":0},null,{"$f":"N11","v":1211},{"$f":"COUNTIF(L119:L140,AS11)","v":0},{"$f":"AT11/(AV4-AT20)","v":0},{"$f":"IF(AU11=0,0,(AU11*((LOG(AU11))/LOG(2))))","v":0}]
[21,639,12,650,13,692,23,699,null,null,0,2112,null,1212,{"$f":"COUNTIF($L$7:$L$500,N12)","v":1},{"$f":"O12/$Q$4","v":7.462686567164179E-3},{"$f":"IF(P12=0,0,(P12*((LOG(P12))/LOG(2))))","v":-5.2732008884013228E-2},null,null,{"$f":"N12","v":1212},{"$f":"COUNTIF(L7:L28,T12)","v":1},{"$f":"U12/(W4-U20)","v":5.2631578947368418E-2},{"$f":"IF(V12=0,0,(V12*((LOG(V12))/LOG(2))))","v":-0.22357513228650452},null,{"$f":"N12","v":1212},{"$f":"COUNTIF(L29:L51,Y12)","v":0},{"$f":"Z12/(AB4-Z20)","v":0},{"$f":"IF(AA12=0,0,(AA12*((LOG(AA12))/LOG(2))))","v":0},null,{"$f":"N12","v":1212},{"$f":"COUNTIF(L52:L73,AD12)","v":0},{"$f":"AE12/(AG4-AE20)","v":0},{"$f":"IF(AF12=0,0,(AF12*((LOG(AF12))/LOG(2))))","v":0},null,{"$f":"N12","v":1212},{"$f":"COUNTIF(L74:L95,AI12)","v":0},{"$f":"AJ12/(AL4-AJ20)","v":0},{"$f":"IF(AK12=0,0,(AK12*((LOG(AK12))/LOG(2))))","v":0},null,{"$f":"N12","v":1212},{"$f":"COUNTIF(L96:L118,AN12)","v":0},{"$f":"AO12/(AQ4-AO20)","v":0},{"$f":"IF(AP12=0,0,(AP12*((LOG(AP12))/LOG(2))))","v":0},null,{"$f":"N12","v":1212},{"$f":"COUNTIF(L119:L140,AS12)","v":0},{"$f":"AT12/(AV4-AT20)","v":0},{"$f":"IF(AU12=0,0,(AU12*((LOG(AU12))/LOG(2))))","v":0}]
[21,811,12,819,24,826,23,851,null,null,0,2122,null,1221,{"$f":"COUNTIF($L$7:$L$500,N13)","v":2},{"$f":"O13/$Q$4","v":1.4925373134328358E-2},{"$f":"IF(P13=0,0,(P13*((LOG(P13))/LOG(2))))","v":-9.0538644633698095E-2},null,null,{"$f":"N13","v":1221},{"$f":"COUNTIF(L7:L28,T13)","v":2},{"$f":"U13/(W4-U20)","v":0.10526315789473684},{"$f":"IF(V13=0,0,(V13*((LOG(V13))/LOG(2))))","v":-0.34188710667827216},null,{"$f":"N13","v":1221},{"$f":"COUNTIF(L29:L51,Y13)","v":0},{"$f":"Z13/(AB4-Z20)","v":0},{"$f":"IF(AA13=0,0,(AA13*((LOG(AA13))/LOG(2))))","v":0},null,{"$f":"N13","v":1221},{"$f":"COUNTIF(L52:L73,AD13)","v":0},{"$f":"AE13/(AG4-AE20)","v":0},{"$f":"IF(AF13=0,0,(AF13*((LOG(AF13))/LOG(2))))","v":0},null,{"$f":"N13","v":1221},{"$f":"COUNTIF(L74:L95,AI13)","v":0},{"$f":"AJ13/(AL4-AJ20)","v":0},{"$f":"IF(AK13=0,0,(AK13*((LOG(AK13))/LOG(2))))","v":0},null,{"$f":"N13","v":1221},{"$f":"COUNTIF(L96:L118,AN13)","v":0},{"$f":"AO13/(AQ4-AO20)","v":0},{"$f":"IF(AP13=0,0,(AP13*((LOG(AP13))/LOG(2))))","v":0},null,{"$f":"N13","v":1221},{"$f":"COUNTIF(L119:L140,AS13)","v":0},{"$f":"AT13/(AV4-AT20)","v":0},{"$f":"IF(AU13=0,0,(AU13*((LOG(AU13))/LOG(2))))","v":0}]
[21,948,12,958,24,963,23,976,null,null,0,2122,null,1222,{"$f":"COUNTIF($L$7:$L$500,N14)","v":3},{"$f":"O14/$Q$4","v":2.2388059701492536E-2},{"$f":"IF(P14=0,0,(P14*((LOG(P14))/LOG(2))))","v":-0.12271179156126753},null,null,{"$f":"N14","v":1222},{"$f":"COUNTIF(L7:L28,T14)","v":1},{"$f":"U14/(W4-U20)","v":5.2631578947368418E-2},{"$f":"IF(V14=0,0,(V14*((LOG(V14))/LOG(2))))","v":-0.22357513228650452},null,{"$f":"N14","v":1222},{"$f":"COUNTIF(L29:L51,Y14)","v":1},{"$f":"Z14/(AB4-Z20)","v":6.25E-2},{"$f":"IF(AA14=0,0,(AA14*((LOG(AA14))/LOG(2))))","v":-0.25},null,{"$f":"N14","v":1222},{"$f":"COUNTIF(L52:L73,AD14)","v":1},{"$f":"AE14/(AG4-AE20)","v":6.25E-2},{"$f":"IF(AF14=0,0,(AF14*((LOG(AF14))/LOG(2))))","v":-0.25},null,{"$f":"N14","v":1222},{"$f":"COUNTIF(L74:L95,AI14)","v":0},{"$f":"AJ14/(AL4-AJ20)","v":0},{"$f":"IF(AK14=0,0,(AK14*((LOG(AK14))/LOG(2))))","v":0},null,{"$f":"N14","v":1222},{"$f":"COUNTIF(L96:L118,AN14)","v":0},{"$f":"AO14/(AQ4-AO20)","v":0},{"$f":"IF(AP14=0,0,(AP14*((LOG(AP14))/LOG(2))))","v":0},null,{"$f":"N14","v":1222},{"$f":"COUNTIF(L119:L140,AS14)","v":0},{"$f":"AT14/(AV4-AT20)","v":0},{"$f":"IF(AU14=0,0,(AU14*((LOG(AU14))/LOG(2))))","v":0}]
[21,1086,12,1093,24,1111,14,1119,null,null,0,2121,null,2111,{"$f":"COUNTIF($L$7:$L$500,N15)","v":0},{"$f":"O15/$Q$4","v":0},{"$f":"IF(P15=0,0,(P15*((LOG(P15))/LOG(2))))","v":0},null,null,{"$f":"N15","v":2111},{"$f":"COUNTIF(L7:L28,T15)","v":0},{"$f":"U15/(W4-U20)","v":0},{"$f":"IF(V15=0,0,(V15*((LOG(V15))/LOG(2))))","v":0},null,{"$f":"N15","v":2111},{"$f":"COUNTIF(L29:L51,Y15)","v":0},{"$f":"Z15/(AB4-Z20)","v":0},{"$f":"IF(AA15=0,0,(AA15*((LOG(AA15))/LOG(2))))","v":0},null,{"$f":"N15","v":2111},{"$f":"COUNTIF(L52:L73,AD15)","v":0},{"$f":"AE15/(AG4-AE20)","v":0},{"$f":"IF(AF15=0,0,(AF15*((LOG(AF15))/LOG(2))))","v":0},null,{"$f":"N15","v":2111},{"$f":"COUNTIF(L74:L95,AI15)","v":0},{"$f":"AJ15/(AL4-AJ20)","v":0},{"$f":"IF(AK15=0,0,(AK15*((LOG(AK15))/LOG(2))))","v":0},null,{"$f":"N15","v":2111},{"$f":"COUNTIF(L96:L118,AN15)","v":0},{"$f":"AO15/(AQ4-AO20)","v":0},{"$f":"IF(AP15=0,0,(AP15*((LOG(AP15))/LOG(2))))","v":0},null,{"$f":"N15","v":2111},{"$f":"COUNTIF(L119:L140,AS15)","v":0},{"$f":"AT15/(AV4-AT20)","v":0},{"$f":"IF(AU15=0,0,(AU15*((LOG(AU15))/LOG(2))))","v":0}]
[21,1220,12,1230,24,1246,23,1254,null,null,0,2122,null,2112,{"$f":"COUNTIF($L$7:$L$500,N16)","v":6},{"$f":"O16/$Q$4","v":4.4776119402985072E-2},{"$f":"IF(P16=0,0,(P16*((LOG(P16))/LOG(2))))","v":-0.20064746371955},null,null,{"$f":"N16","v":2112},{"$f":"COUNTIF(L7:L28,T16)","v":4},{"$f":"U16/(W4-U20)","v":0.21052631578947367},{"$f":"IF(V16=0,0,(V16*((LOG(V16))/LOG(2))))","v":-0.47324789756707064},null,{"$f":"N16","v":2112},{"$f":"COUNTIF(L29:L51,Y16)","v":2},{"$f":"Z16/(AB4-Z20)","v":0.125},{"$f":"IF(AA16=0,0,(AA16*((LOG(AA16))/LOG(2))))","v":-0.375},null,{"$f":"N16","v":2112},{"$f":"COUNTIF(L52:L73,AD16)","v":0},{"$f":"AE16/(AG4-AE20)","v":0},{"$f":"IF(AF16=0,0,(AF16*((LOG(AF16))/LOG(2))))","v":0},null,{"$f":"N16","v":2112},{"$f":"COUNTIF(L74:L95,AI16)","v":0},{"$f":"AJ16/(AL4-AJ20)","v":0},{"$f":"IF(AK16=0,0,(AK16*((LOG(AK16))/LOG(2))))","v":0},null,{"$f":"N16","v":2112},{"$f":"COUNTIF(L96:L118,AN16)","v":0},{"$f":"AO16/(AQ4-AO20)","v":0},{"$f":"IF(AP16=0,0,(AP16*((LOG(AP16))/LOG(2))))","v":0},null,{"$f":"N16","v":2112},{"$f":"COUNTIF(L119:L140,AS16)","v":0},{"$f":"AT16/(AV4-AT20)","v":0},{"$f":"IF(AU16=0,0,(AU16*((LOG(AU16))/LOG(2))))","v":0}]
[21,1352,21,1360,11,1366,21,1373,null,null,0,2212,null,2121,{"$f":"COUNTIF($L$7:$L$500,N17)","v":4},{"$f":"O17/$Q$4","v":2.9850746268656716E-2},{"$f":"IF(P17=0,0,(P17*((LOG(P17))/LOG(2))))","v":-0.15122654299873947},null,null,{"$f":"N17","v":2121},{"$f":"COUNTIF(L7:L28,T17)","v":2},{"$f":"U17/(W4-U20)","v":0.10526315789473684},{"$f":"IF(V17=0,0,(V17*((LOG(V17))/LOG(2))))","v":-0.34188710667827216},null,{"$f":"N17","v":2121},{"$f":"COUNTIF(L29:L51,Y17)","v":1},{"$f":"Z17/(AB4-Z20)","v":6.25E-2},{"$f":"IF(AA17=0,0,(AA17*((LOG(AA17))/LOG(2))))","v":-0.25},null,{"$f":"N17","v":2121},{"$f":"COUNTIF(L52:L73,AD17)","v":0},{"$f":"AE17/(AG4-AE20)","v":0},{"$f":"IF(AF17=0,0,(AF17*((LOG(AF17))/LOG(2))))","v":0},null,{"$f":"N17","v":2121},{"$f":"COUNTIF(L74:L95,AI17)","v":0},{"$f":"AJ17/(AL4-AJ20)","v":0},{"$f":"IF(AK17=0,0,(AK17*((LOG(AK17))/LOG(2))))","v":0},null,{"$f":"N17","v":2121},{"$f":"COUNTIF(L96:L118,AN17)","v":0},{"$f":"AO17/(AQ4-AO20)","v":0},{"$f":"IF(AP17=0,0,(AP17*((LOG(AP17))/LOG(2))))","v":0},null,{"$f":"N17","v":2121},{"$f":"COUNTIF(L119:L140,AS17)","v":1},{"$f":"AT17/(AV4-AT20)","v":7.6923076923076927E-2},{"$f":"IF(AU17=0,0,(AU17*((LOG(AU17))/LOG(2))))","v":-0.28464920908777636}]
[12,1482,23,1488,24,1503,14,1513,null,null,0,1221,null,2122,{"$f":"COUNTIF($L$7:$L$500,N18)","v":38},{"$f":"O18/$Q$4","v":0.28358208955223879},{"$f":"IF(P18=0,0,(P18*((LOG(P18))/LOG(2))))","v":-0.51559808751148584},null,null,{"$f":"N18","v":2122},{"$f":"COUNTIF(L7:L28,T18)","v":7},{"$f":"U18/(W4-U20)","v":0.36842105263157893},{"$f":"IF(V18=0,0,(V18*((LOG(V18))/LOG(2))))","v":-0.53073727051062469},null,{"$f":"N18","v":2122},{"$f":"COUNTIF(L29:L51,Y18)","v":3},{"$f":"Z18/(AB4-Z20)","v":0.1875},{"$f":"IF(AA18=0,0,(AA18*((LOG(AA18))/LOG(2))))","v":-0.45281953111478312},null,{"$f":"N18","v":2122},{"$f":"COUNTIF(L52:L73,AD18)","v":3},{"$f":"AE18/(AG4-AE20)","v":0.1875},{"$f":"IF(AF18=0,0,(AF18*((LOG(AF18))/LOG(2))))","v":-0.45281953111478312},null,{"$f":"N18","v":2122},{"$f":"COUNTIF(L74:L95,AI18)","v":9},{"$f":"AJ18/(AL4-AJ20)","v":0.6},{"$f":"IF(AK18=0,0,(AK18*((LOG(AK18))/LOG(2))))","v":-0.44217935649972373},null,{"$f":"N18","v":2122},{"$f":"COUNTIF(L96:L118,AN18)","v":7},{"$f":"AO18/(AQ4-AO20)","v":0.46666666666666667},{"$f":"IF(AP18=0,0,(AP18*((LOG(AP18))/LOG(2))))","v":-0.51311664765709342},null,{"$f":"N18","v":2122},{"$f":"COUNTIF(L119:L140,AS18)","v":9},{"$f":"AT18/(AV4-AT20)","v":0.69230769230769229},{"$f":"IF(AU18=0,0,(AU18*((LOG(AU18))/LOG(2))))","v":-0.36727941925300139}]
[21,1611,12,1620,24,1627,23,1636,null,null,0,2122,null,2211,{"$f":"COUNTIF($L$7:$L$500,N19)","v":0},{"$f":"O19/$Q$4","v":0},{"$f":"IF(P19=0,0,(P19*((LOG(P19))/LOG(2))))","v":0},null,null,{"$f":"N19","v":2211},{"$f":"COUNTIF(L7:L28,T19)","v":0},{"$f":"U19/(W4-U20)","v":0},{"$f":"IF(V19=0,0,(V19*((LOG(V19))/LOG(2))))","v":0},null,{"$f":"N19","v":2211},{"$f":"COUNTIF(L29:L51,Y19)","v":0},{"$f":"Z19/(AB4-Z20)","v":0},{"$f":"IF(AA19=0,0,(AA19*((LOG(AA19))/LOG(2))))","v":0},null,{"$f":"N19","v":2211},{"$f":"COUNTIF(L52:L73,AD19)","v":0},{"$f":"AE19/(AG4-AE20)","v":0},{"$f":"IF(AF19=0,0,(AF19*((LOG(AF19))/LOG(2))))","v":0},null,{"$f":"N19","v":2211},{"$f":"COUNTIF(L74:L95,AI19)","v":0},{"$f":"AJ19/(AL4-AJ20)","v":0},{"$f":"IF(AK19=0,0,(AK19*((LOG(AK19))/LOG(2))))","v":0},null,{"$f":"N19","v":2211},{"$f":"COUNTIF(L96:L118,AN19)","v":0},{"$f":"AO19/(AQ4-AO20)","v":0},{"$f":"IF(AP19=0,0,(AP19*((LOG(AP19))/LOG(2))))","v":0},null,{"$f":"N19","v":2211},{"$f":"COUNTIF(L119:L140,AS19)","v":0},{"$f":"AT19/(AV4-AT20)","v":0},{"$f":"IF(AU19=0,0,(AU19*((LOG(AU19))/LOG(2))))","v":0}]
[21,1747,12,1754,24,1770,23,1782,null,null,0,2122,null,2212,{"$f":"COUNTIF($L$7:$L$500,N20)","v":40},{"$f":"O20/$Q$4","v":0.29850746268656714},{"$f":"IF(P20=0,0,(P20*((LOG(P20))/LOG(2))))","v":-0.52064510315534629},null,null,{"$f":"N20","v":2212},{"$f":"COUNTIF(L7:L28,T20)","v":3},null,null,null,{"$f":"N20","v":2212},{"$f":"COUNTIF(L29:L51,Y20)","v":7},null,null,null,{"$f":"N20","v":2212},{"$f":"COUNTIF(L52:L73,AD20)","v":6},null,null,null,{"$f":"N20","v":2212},{"$f":"COUNTIF(L74:L95,AI20)","v":7},null,null,null,{"$f":"N20","v":2212},{"$f":"COUNTIF(L96:L118,AN20)","v":8},null,null,null,{"$f":"N20","v":2212},{"$f":"COUNTIF(L119:L140,AS20)","v":9}]
[21,1879,12,1888,24,1895,23,1911,null,null,0,2122,null,2221,{"$f":"COUNTIF($L$7:$L$500,N21)","v":23},{"$f":"O21/$Q$4","v":0.17164179104477612},{"$f":"IF(P21=0,0,(P21*((LOG(P21))/LOG(2))))","v":-0.43640392829266766},null,null,{"$f":"N21","v":2221},{"$f":"COUNTIF(L7:L28,T21)","v":0},{"$f":"U21/(W4-U20)","v":0},{"$f":"IF(V21=0,0,(V21*((LOG(V21))/LOG(2))))","v":0},null,{"$f":"N21","v":2221},{"$f":"COUNTIF(L29:L51,Y21)","v":6},{"$f":"Z21/(AB4-Z20)","v":0.375},{"$f":"IF(AA21=0,0,(AA21*((LOG(AA21))/LOG(2))))","v":-0.53063906222956647},null,{"$f":"N21","v":2221},{"$f":"COUNTIF(L52:L73,AD21)","v":6},{"$f":"AE21/(AG4-AE20)","v":0.375},{"$f":"IF(AF21=0,0,(AF21*((LOG(AF21))/LOG(2))))","v":-0.53063906222956647},null,{"$f":"N21","v":2221},{"$f":"COUNTIF(L74:L95,AI21)","v":3},{"$f":"AJ21/(AL4-AJ20)","v":0.2},{"$f":"IF(AK21=0,0,(AK21*((LOG(AK21))/LOG(2))))","v":-0.46438561897747244},null,{"$f":"N21","v":2221},{"$f":"COUNTIF(L96:L118,AN21)","v":5},{"$f":"AO21/(AQ4-AO20)","v":0.33333333333333331},{"$f":"IF(AP21=0,0,(AP21*((LOG(AP21))/LOG(2))))","v":-0.52832083357371862},null,{"$f":"N21","v":2221},{"$f":"COUNTIF(L119:L140,AS21)","v":3},{"$f":"AT21/(AV4-AT20)","v":0.23076923076923078},{"$f":"IF(AU21=0,0,(AU21*((LOG(AU21))/LOG(2))))","v":-0.48818705017383146}]
[21,2008,12,2018,24,2026,14,2046,null,null,0,2121,null,2222,{"$f":"COUNTIF($L$7:$L$500,N22)","v":14},{"$f":"O22/$Q$4","v":0.1044776119402985},{"$f":"IF(P22=0,0,(P22*((LOG(P22))/LOG(2))))","v":-0.34046477431046535},null,null,{"$f":"N22","v":2222},{"$f":"COUNTIF(L7:L28,T22)","v":0},{"$f":"U22/(W4-U20)","v":0},{"$f":"IF(V22=0,0,(V22*((LOG(V22))/LOG(2))))","v":0},null,{"$f":"N22","v":2222},{"$f":"COUNTIF(L29:L51,Y22)","v":3},{"$f":"Z22/(AB4-Z20)","v":0.1875},{"$f":"IF(AA22=0,0,(AA22*((LOG(AA22))/LOG(2))))","v":-0.45281953111478312},null,{"$f":"N22","v":2222},{"$f":"COUNTIF(L52:L73,AD22)","v":6},{"$f":"AE22/(AG4-AE20)","v":0.375},{"$f":"IF(AF22=0,0,(AF22*((LOG(AF22))/LOG(2))))","v":-0.53063906222956647},null,{"$f":"N22","v":2222},{"$f":"COUNTIF(L74:L95,AI22)","v":3},{"$f":"AJ22/(AL4-AJ20)","v":0.2},{"$f":"IF(AK22=0,0,(AK22*((LOG(AK22))/LOG(2))))","v":-0.46438561897747244},null,{"$f":"N22","v":2222},{"$f":"COUNTIF(L96:L118,AN22)","v":2},{"$f":"AO22/(AQ4-AO20)","v":0.13333333333333333},{"$f":"IF(AP22=0,0,(AP22*((LOG(AP22))/LOG(2))))","v":-0.3875854127478025},null,{"$f":"N22","v":2222},{"$f":"COUNTIF(L119:L140,AS22)","v":0},{"$f":"AT22/(AV4-AT20)","v":0},{"$f":"IF(AU22=0,0,(AU22*((LOG(AU22))/LOG(2))))","v":0}]
[21,2143,21,2148,11,2155,21,2162,null,null,0,2212,null,null,null,{"$f":"SUM(P7:P22)","v":0.99999999999999989},{"$f":"-SUM(Q7:Q22)","v":2.5742389985849448},null,null,null,null,{"$f":"SUM(V7:V22)","v":1},{"$f":"-SUM(W7:W22)","v":2.582059910580258},null,null,null,{"$f":"SUM(AA7:AA22)","v":1},{"$f":"-SUM(AB7:AB22)","v":2.3112781244591325},null,null,null,{"$f":"SUM(AF7:AF22)","v":1},{"$f":"-SUM(AG7:AG22)","v":1.7640976555739161},null,null,null,{"$f":"SUM(AK7:AK22)","v":1},{"$f":"-SUM(AL7:AL22)","v":1.3709505944546687},null,null,null,{"$f":"SUM(AP7:AP22)","v":1},{"$f":"-SUM(AQ7:AQ22)","v":1.6894822670191825},null,null,null,{"$f":"SUM(AU7:AU22)","v":1},{"$f":"-SUM(AV7:AV22)","v":1.1401156785146092}]
[21,2253,12,2261,24,2304,23,2314,null,null,0,2122,null,null,null,"U=",{"$f":"Q23/(LOG(Q4)/LOG(2))","v":0.36430887428667935},null,null,null,null,"U1=",{"$f":"W23/(LOG(W4)/LOG(2))","v":0.57901098870740797},null,null,null,"U2=",{"$f":"AB23/(LOG(AB4)/LOG(2))","v":0.51094207328460473},null,null,null,"U3=",{"$f":"AG23/(LOG(AG4)/LOG(2))","v":0.39558800457915416},null,null,null,"U4=",{"$f":"AL23/(LOG(AL4)/LOG(2))","v":0.30742720411387325},null,null,null,"U5=",{"$f":"AQ23/(LOG(AQ4)/LOG(2))","v":0.37348494028184565},null,null,null,"U6=",{"$f":"AV23/(LOG(AV4)/LOG(2))","v":0.25566389980053178}]
[21,2412,12,2426,13,2446,23,2453,null,null,0,2112]
[21,2551,12,2561,13,2579,23,2585,null,null,0,2112]
[21,2683,12,2693,13,2716,23,2729,null,null,0,2112,null,"Total Target Seq"]
[12,2838,23,2845,24,2852,14,2859,null,null,0,1221,null,{"$f":"COUNTIF(L7:L140,G3)","v":40},null,22,23,22,22,23,22]
[21,2956,21,2962,11,2969,21,2997,null,null,0,2212,null,null,null,"% of reinforcement given in 6 equal intervals based on number of trials "]
[21,3085,12,3097,13,3115,23,3123,null,null,0,2112,null,null,null,"%_1","%_2","%_3","%_4","%_5","%_6"]
[21,3221,12,3229,13,3256,23,3305,null,null,0,2112,null,null,"target sequence",{"$f":"$G$3","v":2212},{"$f":"$G$3","v":2212},{"$f":"$G$3","v":2212},{"$f":"$G$3","v":2212},{"$f":"$G$3","v":2212},{"$f":"$G$3","v":2212}]
[21,3402,12,3415,24,3427,23,3438,null,null,0,2122,null,null,"total reinforcement",{"$f":"U20","v":3},{"$f":"Z20","v":7},{"$f":"AE20","v":6},{"$f":"AJ20","v":7},{"$f":"AO20","v":8},{"$f":"AT20","v":9}]
[21,3536,21,3540,22,3545,14,3551,null,null,0,2221,null,null,"% target"]
[21,3648,21,3653,11,3660,21,3667,null,null,0,2212,null,null,"CCRF"]
[21,3781,12,3793,24,3800,23,3807,null,null,0,2122,null,null,"% CCRf"]
[21,3906,21,3910,22,3936,23,3945,null,null,0,2222,null,null,"average response rate",{"$f":"H28/P28","v":129.95454545454547},{"$f":"(H51-H28)/Q28","v":130.39130434782609},{"$f":"(H73-H51)/R28","v":124.95454545454545},{"$f":"(H95-H73)/S28","v":135.18181818181819},{"$f":"(H118-H95)/T28","v":124.52173913043478},{"$f":"(H140-H118)/U28","v":134.04545454545453}]
[21,4041,21,4045,11,4052,21,4072,null,null,0,2212]
[21,4157,21,4161,22,4171,14,4177,null,null,0,2221]
[21,4275,21,4295,22,4303,14,4312,null,null,0,2221]
[21,4413,21,4417,11,4425,21,4436,null,null,0,2212]
[21,4523,21,4532,11,4539,21,4551,null,null,0,2212]
[21,4638,12,4646,24,4658,23,4714,null,null,0,2122]
[21,4810,21,4814,22,4826,23,4841,null,null,0,2222]
[21,4936,21,4940,22,4948,14,4954,null,null,0,2221]
[21,5051,21,5055,22,5060,23,5099,null,null,0,2222]
[12,5201,23,5213,24,5228,23,5237,null,null,0,1222]
[21,5334,21,5338,11,5346,21,5376,null,null,0,2212]
[21,5466,12,5475,24,5486,14,5496,null,null,0,2121]
[21,5592,21,5596,22,5607,14,5613,null,null,0,2221]
[21,5714,21,5721,22,5732,14,5740,null,null,0,2221]
[21,5838,21,5846,11,5852,21,5858,null,null,0,2212]
[12,5960,23,5979,24,5991,23,5998,null,null,0,1222]
[21,6095,21,6099,22,6109,14,6117,null,null,0,2221]
[21,6213,21,6217,22,6228,23,6238,null,null,0,2222]
[21,6334,21,6338,22,6343,14,6350,null,null,0,2221]
[21,6446,21,6450,22,6455,23,6466,null,null,0,2222]
[21,6567,21,6573,11,6581,21,6587,null,null,0,2212]
[21,6681,21,6685,11,6693,21,6699,null,null,0,2212]
[21,6789,21,6796,11,6803,21,6827,null,null,0,2212]
[21,6915,21,6924,22,6959,23,6967,null,null,0,2222]
[21,7062,21,7067,22,7072,14,7079,null,null,0,2221]
[21,7176,21,7179,22,7189,14,7195,null,null,0,2221]
[21,7293,21,7297,11,7312,21,7319,null,null,0,2212]
[21,7405,21,7409,22,7413,14,7421,null,null,0,2221]
[21,7517,21,7522,22,7545,23,7567,null,null,0,2222]
[21,7664,21,7667,22,7672,14,7679,null,null,0,2221]
[21,7776,21,7782,22,7788,23,7798,null,null,0,2222]
[21,7896,21,7901,11,7909,21,7930,null,null,0,2212]
[21,8016,21,8020,11,8036,21,8077,null,null,0,2212]
[21,8166,12,8194,24,8205,23,8220,null,null,0,2122]
[21,8316,21,8320,22,8334,23,8346,null,null,0,2222]
[21,8443,12,8456,24,8467,23,8478,null,null,0,2122]
[21,8579,12,8586,24,8592,23,8607,null,null,0,2122]
[21,8704,12,8711,24,8722,23,8732,null,null,0,2122]
[21,8832,12,8840,24,8847,23,8857,null,null,0,2122]
[21,8961,21,8967,11,8974,21,8980,null,null,0,2212]
[21,9068,12,9087,24,9112,23,9141,null,null,0,2122]
[21,9256,12,9263,24,9280,23,9289,null,null,0,2122]
[21,9393,21,9429,11,9438,21,9466,null,null,0,2212]
[21,9553,21,9558,11,9565,21,9582,null,null,0,2212]
[21,9673,12,9683,24,9695,23,9709,null,null,0,2122]
[21,9805,21,9809,22,9823,23,9835,null,null,0,2222]
[21,9932,12,9940,24,9973,23,9983,null,null,0,2122]
[21,10082,21,10097,22,10113,14,10123,null,null,0,2221]
[21,10219,21,10224,22,10242,23,10250,null,null,0,2222]
[21,10357,12,10363,24,10378,23,10406,null,null,0,2122]
[21,10505,12,10512,24,10521,23,10532,null,null,0,2122]
[21,10629,12,10637,24,10644,23,10653,null,null,0,2122]
[21,10749,21,10754,11,10760,21,10788,null,null,0,2212]
[21,10875,21,10888,11,10894,21,10918,null,null,0,2212]
[21,11006,21,11024,11,11031,21,11059,null,null,0,2212]
[21,11147,21,11151,22,11161,14,11170,null,null,0,2221]
[21,11272,21,11305,22,11314,14,11326,null,null,0,2221]
[21,11422,21,11427,11,11433,21,11448,null,null,0,2212]
[21,11535,21,11541,22,11574,23,11581,null,null,0,2222]
[21,11680,12,11687,24,11694,23,11702,null,null,0,2122]
[21,11810,12,11817,24,11850,23,11859,null,null,0,2122]
[21,11957,21,11961,22,11981,23,11998,null,null,0,2222]
[21,12095,12,12102,24,12118,23,12136,null,null,0,2122]
[21,12234,12,12242,24,12262,23,12270,null,null,0,2122]
[21,12369,21,12375,11,12381,21,12387,null,null,0,2212]
[21,12473,21,12477,22,12493,14,12499,null,null,0,2221]
[21,12597,12,12615,24,12626,23,12634,null,null,0,2122]
[21,12731,21,12735,11,12742,21,12749,null,null,0,2212]
[21,12836,21,12840,11,12864,21,12892,null,null,0,2212]
[21,12981,21,12985,22,13000,14,13006,null,null,0,2221]
[12,13103,14,13116,13,13124,23,13139,null,null,0,1112]
[21,13236,12,13245,24,13253,23,13267,null,null,0,2122]
[21,13364,12,13372,24,13385,23,13391,null,null,0,2122]
[21,13488,21,13495,22,13503,23,13510,null,null,0,2222]
[21,13606,21,13610,11,13618,21,13624,null,null,0,2212]
[21,13716,21,13726,22,13741,14,13748,null,null,0,2221]
[21,13844,21,13848,11,13855,21,13867,null,null,0,2212]
[21,13959,21,13966,22,13972,14,13979,null,null,0,2221]
[21,14076,21,14080,11,14087,21,14093,null,null,0,2212]
[21,14179,21,14183,22,14189,14,14196,null,null,0,2221]
[21,14298,21,14306,11,14313,21,14319,null,null,0,2212]
[21,14408,21,14422,11,14431,21,14445,null,null,0,2212]
[21,14539,21,14580,11,14605,21,14648,null,null,0,2212]
[21,14739,21,14746,11,14758,21,14772,null,null,0,2212]
[21,14876,12,14883,24,14914,14,14925,null,null,0,2121]
[21,15027,12,15036,24,15044,23,15056,null,null,0,2122]
[21,15151,12,15159,24,15171,23,15185,null,null,0,2122]
[21,15282,12,15290,24,15298,23,15311,null,null,0,2122]
[21,15408,21,15414,11,15420,21,15432,null,null,0,2212]
[21,15518,21,15523,11,15534,21,15546,null,null,0,2212]
[21,15632,21,15653,22,15659,14,15669,null,null,0,2221]
[21,15767,12,15774,24,15795,23,15825,null,null,0,2122]
[21,15922,21,15928,22,15937,14,15945,null,null,0,2221]
[21,16042,12,16049,24,16060,23,16074,null,null,0,2122]
[21,16175,12,16182,24,16188,23,16203,null,null,0,2122]
[21,16299,12,16308,24,16317,23,16324,null,null,0,2122]
[21,16426,21,16431,11,16437,21,16449,null,null,0,2212]
[21,16536,21,16558,11,16567,21,16603,null,null,0,2212]
[21,16690,21,16694,11,16701,21,16710,null,null,0,2212]
[21,16819,12,16826,24,16832,23,16874,null,null,0,2122]
[21,16969,21,16974,22,16992,14,16998,null,null,0,2221]
[21,17097,21,17103,11,17109,21,17122,null,null,0,2212]
[21,17209,12,17223,24,17235,23,17255,null,null,0,2122]
[21,17352,21,17356,11,17363,21,17394,null,null,1,2212]

{"sheet":"!MB18B40.096","index":28,"n_rows":98,"n_cols":48,"rows_kept":98,"cut":false,"hidden":false,"merged":[[4,39,4,42],[5,39,5,40],[4,44,4,47],[5,44,5,45],[4,24,4,27],[5,24,5,25],[4,29,4,32],[5,29,5,30],[4,34,4,37],[5,34,5,35],[1,1,1,2],[5,13,5,14],[26,13,26,14],[27,13,27,14],[4,19,4,22],[5,19,5,20]]}
["Report for:!MB18B40.096"]
["Date:","<date>"]
["Hen:","<hen>",null,null,null,"Correct Sequence",{"$f":"Start!J2","v":2212},null,null,null,null,null,null,null,null,"Total Sequences in Data",{"$f":"4994-COUNTBLANK(L7:L5000)","v":92},null,null,null,null,"Total Sequences in Block Data",{"$f":"COUNTA(L7:L21)","v":15},null,null,null,"Total Sequences in Block Data",{"$f":"COUNTA(L22:L37)","v":16},null,null,null,"Total Sequences in Block Data",{"$f":"COUNTA(L38:L52)","v":15},null,null,null,"Total Sequences in Block Data",{"$f":"COUNTA(L53:L67)","v":15},null,null,null,"Total Sequences in Block Data",{"$f":"COUNTA(L68:L83)","v":16},null,null,null,"Total Sequences in Block Data",{"$f":"COUNTA(L84:L98)","v":15}]
[null,null,null,null,null,null,null,null,null,null,null,null,null,null,null,"Total Sequences in Summary",{"$f":"SUM(O7:O22)","v":92},null,null,null,null,"Total Sequences in Block Summary",{"$f":"SUM(U7:U22)","v":15},null,null,null,"Total Sequences in Block Summary",{"$f":"SUM(Z7:Z22)","v":16},null,null,null,"Total Sequences in Block Summary",{"$f":"SUM(AE7:AE22)","v":15},null,null,null,"Total Sequences in Block Summary",{"$f":"SUM(AJ7:AJ22)","v":15},null,null,null,"Total Sequences in Block Summary",{"$f":"SUM(AO7:AO22)","v":16},null,null,null,"Total Sequences in Block Summary",{"$f":"SUM(AT7:AT22)","v":15}]
[null,null,null,null,null,null,null,null,null,null,null,null,null,null,null,null,null,null,null,"Block 1",null,null,null,null,"Block 2",null,null,null,null,"Block 3",null,null,null,null,"Block 4",null,null,null,null,"Block 5",null,null,null,null,"Block 6"]
["Sequence\nComponent\n1","Time\n1","Sequence\nComponent\n2","Time\n2","Sequence\nComponent\n3","Time\n3","Sequence\nComponent\n4","Time\n4","Sequence\nComponent\n5","Time\n5","Correct?\n0=No 1=Yes","Sequence",null,"Frequency",null,"Relative Frequency","Variability",null,null,"Frequency",null,"Relative Frequency","Variability",null,"Frequency",null,"Relative Frequency","Variability",null,"Frequency",null,"Relative Frequency","Variability",null,"Frequency",null,"Relative Frequency","Variability",null,"Frequency",null,"Relative Frequency","Variability",null,"Frequency",null,"Relative Frequency","Variability"]
[12,12,23,19,24,30,23,35,null,null,0,1222,null,1111,{"$f":"COUNTIF($L$7:$L$500,N7)","v":0},{"$f":"O7/$Q$4","v":0},{"$f":"IF(P7=0,0,(P7*((LOG(P7))/LOG(2))))","v":0},null,null,{"$f":"N7","v":1111},{"$f":"COUNTIF(L7:L21,T7)","v":0},{"$f":"U7/(W4-U20)","v":0},{"$f":"IF(V7=0,0,(V7*((LOG(V7))/LOG(2))))","v":0},null,{"$f":"N7","v":1111},{"$f":"COUNTIF(L22:L37,Y7)","v":0},{"$f":"Z7/(AB4-Z20)","v":0},{"$f":"IF(AA7=0,0,(AA7*((LOG(AA7))/LOG(2))))","v":0},null,{"$f":"N7","v":1111},{"$f":"COUNTIF(L38:L52,AD7)","v":0},{"$f":"AE7/(AG4-AE20)","v":0},{"$f":"IF(AF7=0,0,(AF7*((LOG(AF7))/LOG(2))))","v":0},null,{"$f":"N7","v":1111},{"$f":"COUNTIF(L53:L67,AI7)","v":0},{"$f":"AJ7/(AL4-AJ20)","v":0},{"$f":"IF(AK7=0,0,(AK7*((LOG(AK7))/LOG(2))))","v":0},null,{"$f":"N7","v":1111},{"$f":"COUNTIF(L68:L83,AN7)","v":0},{"$f":"AO7/(AQ4-AO20)","v":0},{"$f":"IF(AP7=0,0,(AP7*((LOG(AP7))/LOG(2))))","v":0},null,{"$f":"N7","v":1111},{"$f":"COUNTIF(L84:L98,AS7)","v":0},{"$f":"AT7/(AV4-AT20)","v":0},{"$f":"IF(AU7=0,0,(AU7*((LOG(AU7))/LOG(2))))","v":0}]
[12,161,23,168,24,180,14,190,null,null,0,1221,null,1112,{"$f":"COUNTIF($L$7:$L$500,N8)","v":0},{"$f":"O8/$Q$4","v":0},{"$f":"IF(P8=0,0,(P8*((LOG(P8))/LOG(2))))","v":0},null,null,{"$f":"N8","v":1112},{"$f":"COUNTIF(L7:L21,T8)","v":0},{"$f":"U8/(W4-U20)","v":0},{"$f":"IF(V8=0,0,(V8*((LOG(V8))/LOG(2))))","v":0},null,{"$f":"N8","v":1112},{"$f":"COUNTIF(L22:L37,Y8)","v":0},{"$f":"Z8/(AB4-Z20)","v":0},{"$f":"IF(AA8=0,0,(AA8*((LOG(AA8))/LOG(2))))","v":0},null,{"$f":"N8","v":1112},{"$f":"COUNTIF(L38:L52,AD8)","v":0},{"$f":"AE8/(AG4-AE20)","v":0},{"$f":"IF(AF8=0,0,(AF8*((LOG(AF8))/LOG(2))))","v":0},null,{"$f":"N8","v":1112},{"$f":"COUNTIF(L53:L67,AI8)","v":0},{"$f":"AJ8/(AL4-AJ20)","v":0},{"$f":"IF(AK8=0,0,(AK8*((LOG(AK8))/LOG(2))))","v":0},null,{"$f":"N8","v":1112},{"$f":"COUNTIF(L68:L83,AN8)","v":0},{"$f":"AO8/(AQ4-AO20)","v":0},{"$f":"IF(AP8=0,0,(AP8*((LOG(AP8))/LOG(2))))","v":0},null,{"$f":"N8","v":1112},{"$f":"COUNTIF(L84:L98,AS8)","v":0},{"$f":"AT8/(AV4-AT20)","v":0},{"$f":"IF(AU8=0,0,(AU8*((LOG(AU8))/LOG(2))))","v":0}]
[21,292,21,297,11,305,21,312,null,null,0,2212,null,1121,{"$f":"COUNTIF($L$7:$L$500,N9)","v":0},{"$f":"O9/$Q$4","v":0},{"$f":"IF(P9=0,0,(P9*((LOG(P9))/LOG(2))))","v":0},null,null,{"$f":"N9","v":1121},{"$f":"COUNTIF(L7:L21,T9)","v":0},{"$f":"U9/(W4-U20)","v":0},{"$f":"IF(V9=0,0,(V9*((LOG(V9))/LOG(2))))","v":0},null,{"$f":"N9","v":1121},{"$f":"COUNTIF(L22:L37,Y9)","v":0},{"$f":"Z9/(AB4-Z20)","v":0},{"$f":"IF(AA9=0,0,(AA9*((LOG(AA9))/LOG(2))))","v":0},null,{"$f":"N9","v":1121},{"$f":"COUNTIF(L38:L52,AD9)","v":0},{"$f":"AE9/(AG4-AE20)","v":0},{"$f":"IF(AF9=0,0,(AF9*((LOG(AF9))/LOG(2))))","v":0},null,{"$f":"N9","v":1121},{"$f":"COUNTIF(L53:L67,AI9)","v":0},{"$f":"AJ9/(AL4-AJ20)","v":0},{"$f":"IF(AK9=0,0,(AK9*((LOG(AK9))/LOG(2))))","v":0},null,{"$f":"N9","v":1121},{"$f":"COUNTIF(L68:L83,AN9)","v":0},{"$f":"AO9/(AQ4-AO20)","v":0},{"$f":"IF(AP9=0,0,(AP9*((LOG(AP9))/LOG(2))))","v":0},null,{"$f":"N9","v":1121},{"$f":"COUNTIF(L84:L98,AS9)","v":0},{"$f":"AT9/(AV4-AT20)","v":0},{"$f":"IF(AU9=0,0,(AU9*((LOG(AU9))/LOG(2))))","v":0}]
[21,405,21,411,11,420,21,427,null,null,0,2212,null,1122,{"$f":"COUNTIF($L$7:$L$500,N10)","v":0},{"$f":"O10/$Q$4","v":0},{"$f":"IF(P10=0,0,(P10*((LOG(P10))/LOG(2))))","v":0},null,null,{"$f":"N10","v":1122},{"$f":"COUNTIF(L7:L21,T10)","v":0},{"$f":"U10/(W4-U20)","v":0},{"$f":"IF(V10=0,0,(V10*((LOG(V10))/LOG(2))))","v":0},null,{"$f":"N10","v":1122},{"$f":"COUNTIF(L22:L37,Y10)","v":0},{"$f":"Z10/(AB4-Z20)","v":0},{"$f":"IF(AA10=0,0,(AA10*((LOG(AA10))/LOG(2))))","v":0},null,{"$f":"N10","v":1122},{"$f":"COUNTIF(L38:L52,AD10)","v":0},{"$f":"AE10/(AG4-AE20)","v":0},{"$f":"IF(AF10=0,0,(AF10*((LOG(AF10))/LOG(2))))","v":0},null,{"$f":"N10","v":1122},{"$f":"COUNTIF(L53:L67,AI10)","v":0},{"$f":"AJ10/(AL4-AJ20)","v":0},{"$f":"IF(AK10=0,0,(AK10*((LOG(AK10))/LOG(2))))","v":0},null,{"$f":"N10","v":1122},{"$f":"COUNTIF(L68:L83,AN10)","v":0},{"$f":"AO10/(AQ4-AO20)","v":0},{"$f":"IF(AP10=0,0,(AP10*((LOG(AP10))/LOG(2))))","v":0},null,{"$f":"N10","v":1122},{"$f":"COUNTIF(L84:L98,AS10)","v":0},{"$f":"AT10/(AV4-AT20)","v":0},{"$f":"IF(AU10=0,0,(AU10*((LOG(AU10))/LOG(2))))","v":0}]
[21,524,12,531,24,548,14,556,null,null,0,2121,null,1211,{"$f":"COUNTIF($L$7:$L$500,N11)","v":0},{"$f":"O11/$Q$4","v":0},{"$f":"IF(P11=0,0,(P11*((LOG(P11))/LOG(2))))","v":0},null,null,{"$f":"N11","v":1211},{"$f":"COUNTIF(L7:L21,T11)","v":0},{"$f":"U11/(W4-U20)","v":0},{"$f":"IF(V11=0,0,(V11*((LOG(V11))/LOG(2))))","v":0},null,{"$f":"N11","v":1211},{"$f":"COUNTIF(L22:L37,Y11)","v":0},{"$f":"Z11/(AB4-Z20)","v":0},{"$f":"IF(AA11=0,0,(AA11*((LOG(AA11))/LOG(2))))","v":0},null,{"$f":"N11","v":1211},{"$f":"COUNTIF(L38:L52,AD11)","v":0},{"$f":"AE11/(AG4-AE20)","v":0},{"$f":"IF(AF11=0,0,(AF11*((LOG(AF11))/LOG(2))))","v":0},null,{"$f":"N11","v":1211},{"$f":"COUNTIF(L53:L67,AI11)","v":0},{"$f":"AJ11/(AL4-AJ20)","v":0},{"$f":"IF(AK11=0,0,(AK11*((LOG(AK11))/LOG(2))))","v":0},null,{"$f":"N11","v":1211},{"$f":"COUNTIF(L68:L83,AN11)","v":0},{"$f":"AO11/(AQ4-AO20)","v":0},{"$f":"IF(AP11=0,0,(AP11*((LOG(AP11))/LOG(2))))","v":0},null,{"$f":"N11","v":1211},{"$f":"COUNTIF(L84:L98,AS11)","v":0},{"$f":"AT11/(AV4-AT20)","v":0},{"$f":"IF(AU11=0,0,(AU11*((LOG(AU11))/LOG(2))))","v":0}]
[21,653,21,657,22,671,23,681,null,null,0,2222,null,1212,{"$f":"COUNTIF($L$7:$L$500,N12)","v":0},{"$f":"O12/$Q$4","v":0},{"$f":"IF(P12=0,0,(P12*((LOG(P12))/LOG(2))))","v":0},null,null,{"$f":"N12","v":1212},{"$f":"COUNTIF(L7:L21,T12)","v":0},{"$f":"U12/(W4-U20)","v":0},{"$f":"IF(V12=0,0,(V12*((LOG(V12))/LOG(2))))","v":0},null,{"$f":"N12","v":1212},{"$f":"COUNTIF(L22:L37,Y12)","v":0},{"$f":"Z12/(AB4-Z20)","v":0},{"$f":"IF(AA12=0,0,(AA12*((LOG(AA12))/LOG(2))))","v":0},null,{"$f":"N12","v":1212},{"$f":"COUNTIF(L38:L52,AD12)","v":0},{"$f":"AE12/(AG4-AE20)","v":0},{"$f":"IF(AF12=0,0,(AF12*((LOG(AF12))/LOG(2))))","v":0},null,{"$f":"N12","v":1212},{"$f":"COUNTIF(L53:L67,AI12)","v":0},{"$f":"AJ12/(AL4-AJ20)","v":0},{"$f":"IF(AK12=0,0,(AK12*((LOG(AK12))/LOG(2))))","v":0},null,{"$f":"N12","v":1212},{"$f":"COUNTIF(L68:L83,AN12)","v":0},{"$f":"AO12/(AQ4-AO20)","v":0},{"$f":"IF(AP12=0,0,(AP12*((LOG(AP12))/LOG(2))))","v":0},null,{"$f":"N12","v":1212},{"$f":"COUNTIF(L84:L98,AS12)","v":0},{"$f":"AT12/(AV4-AT20)","v":0},{"$f":"IF(AU12=0,0,(AU12*((LOG(AU12))/LOG(2))))","v":0}]
[21,776,21,780,22,785,14,792,null,null,0,2221,null,1221,{"$f":"COUNTIF($L$7:$L$500,N13)","v":2},{"$f":"O13/$Q$4","v":2.1739130434782608E-2},{"$f":"IF(P13=0,0,(P13*((LOG(P13))/LOG(2))))","v":-0.12007743382732637},null,null,{"$f":"N13","v":1221},{"$f":"COUNTIF(L7:L21,T13)","v":1},{"$f":"U13/(W4-U20)","v":0.1},{"$f":"IF(V13=0,0,(V13*((LOG(V13))/LOG(2))))","v":-0.33219280948873625},null,{"$f":"N13","v":1221},{"$f":"COUNTIF(L22:L37,Y13)","v":1},{"$f":"Z13/(AB4-Z20)","v":0.1},{"$f":"IF(AA13=0,0,(AA13*((LOG(AA13))/LOG(2))))","v":-0.33219280948873625},null,{"$f":"N13","v":1221},{"$f":"COUNTIF(L38:L52,AD13)","v":0},{"$f":"AE13/(AG4-AE20)","v":0},{"$f":"IF(AF13=0,0,(AF13*((LOG(AF13))/LOG(2))))","v":0},null,{"$f":"N13","v":1221},{"$f":"COUNTIF(L53:L67,AI13)","v":0},{"$f":"AJ13/(AL4-AJ20)","v":0},{"$f":"IF(AK13=0,0,(AK13*((LOG(AK13))/LOG(2))))","v":0},null,{"$f":"N13","v":1221},{"$f":"COUNTIF(L68:L83,AN13)","v":0},{"$f":"AO13/(AQ4-AO20)","v":0},{"$f":"IF(AP13=0,0,(AP13*((LOG(AP13))/LOG(2))))","v":0},null,{"$f":"N13","v":1221},{"$f":"COUNTIF(L84:L98,AS13)","v":0},{"$f":"AT13/(AV4-AT20)","v":0},{"$f":"IF(AU13=0,0,(AU13*((LOG(AU13))/LOG(2))))","v":0}]
[21,889,21,896,22,911,23,918,null,null,0,2222,null,1222,{"$f":"COUNTIF($L$7:$L$500,N14)","v":1},{"$f":"O14/$Q$4","v":1.0869565217391304E-2},{"$f":"IF(P14=0,0,(P14*((LOG(P14))/LOG(2))))","v":-7.090828213105449E-2},null,null,{"$f":"N14","v":1222},{"$f":"COUNTIF(L7:L21,T14)","v":1},{"$f":"U14/(W4-U20)","v":0.1},{"$f":"IF(V14=0,0,(V14*((LOG(V14))/LOG(2))))","v":-0.33219280948873625},null,{"$f":"N14","v":1222},{"$f":"COUNTIF(L22:L37,Y14)","v":0},{"$f":"Z14/(AB4-Z20)","v":0},{"$f":"IF(AA14=0,0,(AA14*((LOG(AA14))/LOG(2))))","v":0},null,{"$f":"N14","v":1222},{"$f":"COUNTIF(L38:L52,AD14)","v":0},{"$f":"AE14/(AG4-AE20)","v":0},{"$f":"IF(AF14=0,0,(AF14*((LOG(AF14))/LOG(2))))","v":0},null,{"$f":"N14","v":1222},{"$f":"COUNTIF(L53:L67,AI14)","v":0},{"$f":"AJ14/(AL4-AJ20)","v":0},{"$f":"IF(AK14=0,0,(AK14*((LOG(AK14))/LOG(2))))","v":0},null,{"$f":"N14","v":1222},{"$f":"COUNTIF(L68:L83,AN14)","v":0},{"$f":"AO14/(AQ4-AO20)","v":0},{"$f":"IF(AP14=0,0,(AP14*((LOG(AP14))/LOG(2))))","v":0},null,{"$f":"N14","v":1222},{"$f":"COUNTIF(L84:L98,AS14)","v":0},{"$f":"AT14/(AV4-AT20)","v":0},{"$f":"IF(AU14=0,0,(AU14*((LOG(AU14))/LOG(2))))","v":0}]
[21,1015,21,1019,11,1028,21,1044,null,null,0,2212,null,2111,{"$f":"COUNTIF($L$7:$L$500,N15)","v":0},{"$f":"O15/$Q$4","v":0},{"$f":"IF(P15=0,0,(P15*((LOG(P15))/LOG(2))))","v":0},null,null,{"$f":"N15","v":2111},{"$f":"COUNTIF(L7:L21,T15)","v":0},{"$f":"U15/(W4-U20)","v":0},{"$f":"IF(V15=0,0,(V15*((LOG(V15))/LOG(2))))","v":0},null,{"$f":"N15","v":2111},{"$f":"COUNTIF(L22:L37,Y15)","v":0},{"$f":"Z15/(AB4-Z20)","v":0},{"$f":"IF(AA15=0,0,(AA15*((LOG(AA15))/LOG(2))))","v":0},null,{"$f":"N15","v":2111},{"$f":"COUNTIF(L38:L52,AD15)","v":0},{"$f":"AE15/(AG4-AE20)","v":0},{"$f":"IF(AF15=0,0,(AF15*((LOG(AF15))/LOG(2))))","v":0},null,{"$f":"N15","v":2111},{"$f":"COUNTIF(L53:L67,AI15)","v":0},{"$f":"AJ15/(AL4-AJ20)","v":0},{"$f":"IF(AK15=0,0,(AK15*((LOG(AK15))/LOG(2))))","v":0},null,{"$f":"N15","v":2111},{"$f":"COUNTIF(L68:L83,AN15)","v":0},{"$f":"AO15/(AQ4-AO20)","v":0},{"$f":"IF(AP15=0,0,(AP15*((LOG(AP15))/LOG(2))))","v":0},null,{"$f":"N15","v":2111},{"$f":"COUNTIF(L84:L98,AS15)","v":0},{"$f":"AT15/(AV4-AT20)","v":0},{"$f":"IF(AU15=0,0,(AU15*((LOG(AU15))/LOG(2))))","v":0}]
[21,1136,21,1145,11,1152,21,1167,null,null,0,2212,null,2112,{"$f":"COUNTIF($L$7:$L$500,N16)","v":2},{"$f":"O16/$Q$4","v":2.1739130434782608E-2},{"$f":"IF(P16=0,0,(P16*((LOG(P16))/LOG(2))))","v":-0.12007743382732637},null,null,{"$f":"N16","v":2112},{"$f":"COUNTIF(L7:L21,T16)","v":0},{"$f":"U16/(W4-U20)","v":0},{"$f":"IF(V16=0,0,(V16*((LOG(V16))/LOG(2))))","v":0},null,{"$f":"N16","v":2112},{"$f":"COUNTIF(L22:L37,Y16)","v":1},{"$f":"Z16/(AB4-Z20)","v":0.1},{"$f":"IF(AA16=0,0,(AA16*((LOG(AA16))/LOG(2))))","v":-0.33219280948873625},null,{"$f":"N16","v":2112},{"$f":"COUNTIF(L38:L52,AD16)","v":1},{"$f":"AE16/(AG4-AE20)","v":0.125},{"$f":"IF(AF16=0,0,(AF16*((LOG(AF16))/LOG(2))))","v":-0.375},null,{"$f":"N16","v":2112},{"$f":"COUNTIF(L53:L67,AI16)","v":0},{"$f":"AJ16/(AL4-AJ20)","v":0},{"$f":"IF(AK16=0,0,(AK16*((LOG(AK16))/LOG(2))))","v":0},null,{"$f":"N16","v":2112},{"$f":"COUNTIF(L68:L83,AN16)","v":0},{"$f":"AO16/(AQ4-AO20)","v":0},{"$f":"IF(AP16=0,0,(AP16*((LOG(AP16))/LOG(2))))","v":0},null,{"$f":"N16","v":2112},{"$f":"COUNTIF(L84:L98,AS16)","v":0},{"$f":"AT16/(AV4-AT20)","v":0},{"$f":"IF(AU16=0,0,(AU16*((LOG(AU16))/LOG(2))))","v":0}]
[21,1256,12,1264,24,1273,23,1287,null,null,0,2122,null,2121,{"$f":"COUNTIF($L$7:$L$500,N17)","v":3},{"$f":"O17/$Q$4","v":3.2608695652173912E-2},{"$f":"IF(P17=0,0,(P17*((LOG(P17))/LOG(2))))","v":-0.16104128658703878},null,null,{"$f":"N17","v":2121},{"$f":"COUNTIF(L7:L21,T17)","v":1},{"$f":"U17/(W4-U20)","v":0.1},{"$f":"IF(V17=0,0,(V17*((LOG(V17))/LOG(2))))","v":-0.33219280948873625},null,{"$f":"N17","v":2121},{"$f":"COUNTIF(L22:L37,Y17)","v":1},{"$f":"Z17/(AB4-Z20)","v":0.1},{"$f":"IF(AA17=0,0,(AA17*((LOG(AA17))/LOG(2))))","v":-0.33219280948873625},null,{"$f":"N17","v":2121},{"$f":"COUNTIF(L38:L52,AD17)","v":1},{"$f":"AE17/(AG4-AE20)","v":0.125},{"$f":"IF(AF17=0,0,(AF17*((LOG(AF17))/LOG(2))))","v":-0.375},null,{"$f":"N17","v":2121},{"$f":"COUNTIF(L53:L67,AI17)","v":0},{"$f":"AJ17/(AL4-AJ20)","v":0},{"$f":"IF(AK17=0,0,(AK17*((LOG(AK17))/LOG(2))))","v":0},null,{"$f":"N17","v":2121},{"$f":"COUNTIF(L68:L83,AN17)","v":0},{"$f":"AO17/(AQ4-AO20)","v":0},{"$f":"IF(AP17=0,0,(AP17*((LOG(AP17))/LOG(2))))","v":0},null,{"$f":"N17","v":2121},{"$f":"COUNTIF(L84:L98,AS17)","v":0},{"$f":"AT17/(AV4-AT20)","v":0},{"$f":"IF(AU17=0,0,(AU17*((LOG(AU17))/LOG(2))))","v":0}]
[21,1384,12,1397,24,1409,23,1420,null,null,0,2122,null,2122,{"$f":"COUNTIF($L$7:$L$500,N18)","v":21},{"$f":"O18/$Q$4","v":0.22826086956521738},{"$f":"IF(P18=0,0,(P18*((LOG(P18))/LOG(2))))","v":-0.48647973042220988},null,null,{"$f":"N18","v":2122},{"$f":"COUNTIF(L7:L21,T18)","v":3},{"$f":"U18/(W4-U20)","v":0.3},{"$f":"IF(V18=0,0,(V18*((LOG(V18))/LOG(2))))","v":-0.52108967824986185},null,{"$f":"N18","v":2122},{"$f":"COUNTIF(L22:L37,Y18)","v":3},{"$f":"Z18/(AB4-Z20)","v":0.3},{"$f":"IF(AA18=0,0,(AA18*((LOG(AA18))/LOG(2))))","v":-0.52108967824986185},null,{"$f":"N18","v":2122},{"$f":"COUNTIF(L38:L52,AD18)","v":2},{"$f":"AE18/(AG4-AE20)","v":0.25},{"$f":"IF(AF18=0,0,(AF18*((LOG(AF18))/LOG(2))))","v":-0.5},null,{"$f":"N18","v":2122},{"$f":"COUNTIF(L53:L67,AI18)","v":8},{"$f":"AJ18/(AL4-AJ20)","v":0.66666666666666663},{"$f":"IF(AK18=0,0,(AK18*((LOG(AK18))/LOG(2))))","v":-0.38997500048077083},null,{"$f":"N18","v":2122},{"$f":"COUNTIF(L68:L83,AN18)","v":5},{"$f":"AO18/(AQ4-AO20)","v":0.7142857142857143},{"$f":"IF(AP18=0,0,(AP18*((LOG(AP18))/LOG(2))))","v":-0.34673344797874411},null,{"$f":"N18","v":2122},{"$f":"COUNTIF(L84:L98,AS18)","v":0},{"$f":"AT18/(AV4-AT20)","v":0},{"$f":"IF(AU18=0,0,(AU18*((LOG(AU18))/LOG(2))))","v":0}]
[21,1519,21,1523,11,1531,21,1547,null,null,0,2212,null,2211,{"$f":"COUNTIF($L$7:$L$500,N19)","v":0},{"$f":"O19/$Q$4","v":0},{"$f":"IF(P19=0,0,(P19*((LOG(P19))/LOG(2))))","v":0},null,null,{"$f":"N19","v":2211},{"$f":"COUNTIF(L7:L21,T19)","v":0},{"$f":"U19/(W4-U20)","v":0},{"$f":"IF(V19=0,0,(V19*((LOG(V19))/LOG(2))))","v":0},null,{"$f":"N19","v":2211},{"$f":"COUNTIF(L22:L37,Y19)","v":0},{"$f":"Z19/(AB4-Z20)","v":0},{"$f":"IF(AA19=0,0,(AA19*((LOG(AA19))/LOG(2))))","v":0},null,{"$f":"N19","v":2211},{"$f":"COUNTIF(L38:L52,AD19)","v":0},{"$f":"AE19/(AG4-AE20)","v":0},{"$f":"IF(AF19=0,0,(AF19*((LOG(AF19))/LOG(2))))","v":0},null,{"$f":"N19","v":2211},{"$f":"COUNTIF(L53:L67,AI19)","v":0},{"$f":"AJ19/(AL4-AJ20)","v":0},{"$f":"IF(AK19=0,0,(AK19*((LOG(AK19))/LOG(2))))","v":0},null,{"$f":"N19","v":2211},{"$f":"COUNTIF(L68:L83,AN19)","v":0},{"$f":"AO19/(AQ4-AO20)","v":0},{"$f":"IF(AP19=0,0,(AP19*((LOG(AP19))/LOG(2))))","v":0},null,{"$f":"N19","v":2211},{"$f":"COUNTIF(L84:L98,AS19)","v":0},{"$f":"AT19/(AV4-AT20)","v":0},{"$f":"IF(AU19=0,0,(AU19*((LOG(AU19))/LOG(2))))","v":0}]
[21,1643,12,1652,24,1677,23,1689,null,null,0,2122,null,2212,{"$f":"COUNTIF($L$7:$L$500,N20)","v":40},{"$f":"O20/$Q$4","v":0.43478260869565216},{"$f":"IF(P20=0,0,(P20*((LOG(P20))/LOG(2))))","v":-0.52244950485636987},null,null,{"$f":"N20","v":2212},{"$f":"COUNTIF(L7:L21,T20)","v":5},null,null,null,{"$f":"N20","v":2212},{"$f":"COUNTIF(L22:L37,Y20)","v":6},null,null,null,{"$f":"N20","v":2212},{"$f":"COUNTIF(L38:L52,AD20)","v":7},null,null,null,{"$f":"N20","v":2212},{"$f":"COUNTIF(L53:L67,AI20)","v":3},null,null,null,{"$f":"N20","v":2212},{"$f":"COUNTIF(L68:L83,AN20)","v":9},null,null,null,{"$f":"N20","v":2212},{"$f":"COUNTIF(L84:L98,AS20)","v":10}]
[21,1787,21,1792,22,1796,14,1802,null,null,0,2221,null,2221,{"$f":"COUNTIF($L$7:$L$500,N21)","v":12},{"$f":"O21/$Q$4","v":0.13043478260869565},{"$f":"IF(P21=0,0,(P21*((LOG(P21))/LOG(2))))","v":-0.3832955811307639},null,null,{"$f":"N21","v":2221},{"$f":"COUNTIF(L7:L21,T21)","v":2},{"$f":"U21/(W4-U20)","v":0.2},{"$f":"IF(V21=0,0,(V21*((LOG(V21))/LOG(2))))","v":-0.46438561897747244},null,{"$f":"N21","v":2221},{"$f":"COUNTIF(L22:L37,Y21)","v":3},{"$f":"Z21/(AB4-Z20)","v":0.3},{"$f":"IF(AA21=0,0,(AA21*((LOG(AA21))/LOG(2))))","v":-0.52108967824986185},null,{"$f":"N21","v":2221},{"$f":"COUNTIF(L38:L52,AD21)","v":3},{"$f":"AE21/(AG4-AE20)","v":0.375},{"$f":"IF(AF21=0,0,(AF21*((LOG(AF21))/LOG(2))))","v":-0.53063906222956647},null,{"$f":"N21","v":2221},{"$f":"COUNTIF(L53:L67,AI21)","v":3},{"$f":"AJ21/(AL4-AJ20)","v":0.25},{"$f":"IF(AK21=0,0,(AK21*((LOG(AK21))/LOG(2))))","v":-0.5},null,{"$f":"N21","v":2221},{"$f":"COUNTIF(L68:L83,AN21)","v":0},{"$f":"AO21/(AQ4-AO20)","v":0},{"$f":"IF(AP21=0,0,(AP21*((LOG(AP21))/LOG(2))))","v":0},null,{"$f":"N21","v":2221},{"$f":"COUNTIF(L84:L98,AS21)","v":1},{"$f":"AT21/(AV4-AT20)","v":0.2},{"$f":"IF(AU21=0,0,(AU21*((LOG(AU21))/LOG(2))))","v":-0.46438561897747244}]
[21,1899,21,1903,11,1910,21,1922,null,null,0,2212,null,2222,{"$f":"COUNTIF($L$7:$L$500,N22)","v":11},{"$f":"O22/$Q$4","v":0.11956521739130435},{"$f":"IF(P22=0,0,(P22*((LOG(P22))/LOG(2))))","v":-0.366363409908879},null,null,{"$f":"N22","v":2222},{"$f":"COUNTIF(L7:L21,T22)","v":2},{"$f":"U22/(W4-U20)","v":0.2},{"$f":"IF(V22=0,0,(V22*((LOG(V22))/LOG(2))))","v":-0.46438561897747244},null,{"$f":"N22","v":2222},{"$f":"COUNTIF(L22:L37,Y22)","v":1},{"$f":"Z22/(AB4-Z20)","v":0.1},{"$f":"IF(AA22=0,0,(AA22*((LOG(AA22))/LOG(2))))","v":-0.33219280948873625},null,{"$f":"N22","v":2222},{"$f":"COUNTIF(L38:L52,AD22)","v":1},{"$f":"AE22/(AG4-AE20)","v":0.125},{"$f":"IF(AF22=0,0,(AF22*((LOG(AF22))/LOG(2))))","v":-0.375},null,{"$f":"N22","v":2222},{"$f":"COUNTIF(L53:L67,AI22)","v":1},{"$f":"AJ22/(AL4-AJ20)","v":8.3333333333333329E-2},{"$f":"IF(AK22=0,0,(AK22*((LOG(AK22))/LOG(2))))","v":-0.29874687506009634},null,{"$f":"N22","v":2222},{"$f":"COUNTIF(L68:L83,AN22)","v":2},{"$f":"AO22/(AQ4-AO20)","v":0.2857142857142857},{"$f":"IF(AP22=0,0,(AP22*((LOG(AP22))/LOG(2))))","v":-0.51638712058788683},null,{"$f":"N22","v":2222},{"$f":"COUNTIF(L84:L98,AS22)","v":4},{"$f":"AT22/(AV4-AT20)","v":0.8},{"$f":"IF(AU22=0,0,(AU22*((LOG(AU22))/LOG(2))))","v":-0.25754247590988982}]
[21,2022,12,2030,24,2051,23,2060,null,null,0,2122,null,null,null,{"$f":"SUM(P7:P22)","v":1},{"$f":"-SUM(Q7:Q22)","v":2.2306926626909687},null,null,null,null,{"$f":"SUM(V7:V22)","v":1},{"$f":"-SUM(W7:W22)","v":2.4464393446710155},null,null,null,{"$f":"SUM(AA7:AA22)","v":1.0000000000000002},{"$f":"-SUM(AB7:AB22)","v":2.3709505944546687},null,null,null,{"$f":"SUM(AF7:AF22)","v":1},{"$f":"-SUM(AG7:AG22)","v":2.1556390622295662},null,null,null,{"$f":"SUM(AK7:AK22)","v":1},{"$f":"-SUM(AL7:AL22)","v":1.1887218755408671},null,null,null,{"$f":"SUM(AP7:AP22)","v":1},{"$f":"-SUM(AQ7:AQ22)","v":0.863120568566631},null,null,null,{"$f":"SUM(AU7:AU22)","v":1},{"$f":"-SUM(AV7:AV22)","v":0.72192809488736231}]
[21,2162,21,2169,11,2176,21,2209,null,null,0,2212,null,null,null,"U=",{"$f":"Q23/(LOG(Q4)/LOG(2))","v":0.34194396829784218},null,null,null,null,"U1=",{"$f":"W23/(LOG(W4)/LOG(2))","v":0.62618578247901246},null,null,null,"U2=",{"$f":"AB23/(LOG(AB4)/LOG(2))","v":0.59273764861366718},null,null,null,"U3=",{"$f":"AG23/(LOG(AG4)/LOG(2))","v":0.55175311657116266},null,null,null,"U4=",{"$f":"AL23/(LOG(AL4)/LOG(2))","v":0.30426290331165962},null,null,null,"U5=",{"$f":"AQ23/(LOG(AQ4)/LOG(2))","v":0.21578014214165775},null,null,null,"U6=",{"$f":"AV23/(LOG(AV4)/LOG(2))","v":0.18478328922208231}]
[21,2299,21,2311,11,2324,21,2357,null,null,0,2212]
[21,2449,12,2460,13,2476,23,2494,null,null,0,2112]
[21,2600,12,2608,24,2634,14,2642,null,null,0,2121,null,"Total Target Seq"]
[21,2738,21,2743,22,2762,23,2774,null,null,0,2222,null,{"$f":"COUNTIF(L7:L98,G3)","v":40},null,15,16,15,15,16,15]
[21,2871,12,2887,24,2893,23,2905,null,null,0,2122,null,null,null,"% of reinforcement given in 6 equal intervals based on number of trials "]
[21,3002,21,3010,22,3021,14,3029,null,null,0,2221,null,null,null,"%_1","%_2","%_3","%_4","%_5","%_6"]
[21,3127,21,3134,11,3141,21,3147,null,null,0,2212,null,null,"target sequence",{"$f":"$G$3","v":2212},{"$f":"$G$3","v":2212},{"$f":"$G$3","v":2212},{"$f":"$G$3","v":2212},{"$f":"$G$3","v":2212},{"$f":"$G$3","v":2212}]
[21,3238,21,3248,11,3255,21,3279,null,null,0,2212,null,null,"total reinforcement",{"$f":"U20","v":5},{"$f":"Z20","v":6},{"$f":"AE20","v":7},{"$f":"AJ20","v":3},{"$f":"AO20","v":9},{"$f":"AT20","v":10}]
[21,3365,21,3369,22,3374,14,3381,null,null,0,2221,null,null,"% target"]
[21,3479,21,3486,11,3494,21,3500,null,null,0,2212,null,null,"CCRF"]
[21,3595,12,3613,24,3642,23,3673,null,null,0,2122,null,null,"% CCRf"]
[12,3784,23,3791,24,3798,14,3806,null,null,0,1221,null,null,"average response rate",{"$f":"H21/P28","v":120.13333333333334},{"$f":"(H37-H21)/Q28","v":132.125},{"$f":"(H52-H37)/R28","v":131.26666666666668},{"$f":"(H67-H52)/S28","v":135.33333333333334},{"$f":"(H83-H67)/T28","v":132.5625},{"$f":"(H98-H83)/U28","v":130.93333333333334}]
[21,3901,21,3905,22,3910,14,3916,null,null,0,2221]
[21,4013,21,4016,11,4023,21,4035,null,null,0,2212]
[21,4126,12,4135,13,4162,23,4184,null,null,0,2112]
[21,4284,21,4294,11,4301,21,4338,null,null,0,2212]
[21,4425,21,4434,11,4444,21,4476,null,null,0,2212]
[21,4564,12,4573,24,4582,14,4589,null,null,0,2121]
[21,4687,21,4693,22,4717,23,4729,null,null,0,2222]
[21,4824,12,4844,24,4851,23,4862,null,null,0,2122]
[21,4967,21,4980,22,4996,14,5005,null,null,0,2221]
[21,5110,12,5121,24,5134,23,5145,null,null,0,2122]
[21,5243,21,5249,11,5256,21,5264,null,null,0,2212]
[21,5351,21,5355,11,5364,21,5384,null,null,0,2212]
[21,5476,21,5487,11,5495,21,5505,null,null,0,2212]
[21,5594,21,5599,22,5606,14,5614,null,null,0,2221]
[21,5711,21,5723,22,5731,14,5737,null,null,0,2221]
[21,5834,21,5838,11,5845,21,5885,null,null,0,2212]
[21,5976,21,5982,22,6015,14,6025,null,null,0,2221]
[21,6124,12,6133,24,6147,23,6154,null,null,0,2122]
[21,6250,21,6256,11,6264,21,6281,null,null,0,2212]
[21,6371,21,6378,22,6398,23,6404,null,null,0,2222]
[21,6501,12,6510,24,6529,23,6537,null,null,0,2122]
[21,6637,21,6656,22,6670,14,6677,null,null,0,2221]
[21,6774,12,6783,24,6810,23,6840,null,null,0,2122]
[21,6939,12,6947,24,6970,23,6983,null,null,0,2122]
[21,7080,21,7091,11,7097,21,7103,null,null,0,2212]
[21,7190,21,7194,11,7203,21,7210,null,null,0,2212]
[21,7301,12,7309,24,7340,23,7355,null,null,0,2122]
[21,7459,12,7464,24,7470,23,7481,null,null,0,2122]
[21,7579,21,7608,22,7620,14,7628,null,null,0,2221]
[21,7725,12,7733,24,7761,23,7772,null,null,0,2122]
[21,7871,12,7879,24,7901,23,7915,null,null,0,2122]
[21,8019,12,8026,24,8062,23,8068,null,null,0,2122]
[21,8168,21,8172,11,8180,21,8185,null,null,0,2212]
[21,8275,21,8292,11,8299,21,8308,null,null,0,2212]
[21,8399,12,8406,24,8425,23,8458,null,null,0,2122]
[21,8555,12,8563,24,8572,23,8584,null,null,0,2122]
[21,8683,21,8688,11,8695,21,8705,null,null,0,2212]
[21,8793,21,8797,11,8804,21,8823,null,null,0,2212]
[21,8909,21,8914,11,8922,21,8953,null,null,0,2212]
[21,9045,21,9062,11,9069,21,9078,null,null,0,2212]
[21,9169,21,9173,22,9180,23,9215,null,null,0,2222]
[21,9317,12,9323,24,9353,23,9360,null,null,0,2122]
[21,9458,21,9472,11,9479,21,9485,null,null,0,2212]
[21,9581,21,9592,22,9611,23,9625,null,null,0,2222]
[21,9723,21,9734,11,9740,21,9747,null,null,0,2212]
[21,9838,12,9855,24,9889,23,9899,null,null,0,2122]
[21,9995,21,10000,11,10010,21,10036,null,null,0,2212]
[21,10123,21,10146,22,10171,23,10181,null,null,0,2222]
[21,10280,21,10289,22,10296,23,10303,null,null,0,2222]
[21,10400,21,10404,11,10412,21,10431,null,null,0,2212]
[21,10519,21,10526,11,10533,21,10577,null,null,0,2212]
[21,10669,21,10676,11,10685,21,10702,null,null,0,2212]
[21,10789,21,10794,11,10811,21,10844,null,null,0,2212]
[21,10932,21,10944,11,10958,21,10982,null,null,0,2212]
[21,11077,21,11085,22,11113,23,11124,null,null,0,2222]
[21,11220,21,11227,11,11235,21,11271,null,null,0,2212]
[21,11364,21,11376,11,11385,21,11401,null,null,0,2212]
[21,11491,21,11501,22,11511,23,11518,null,null,0,2222]
[21,11615,21,11619,22,11627,14,11634,null,null,0,2221]
[21,11731,21,11737,11,11743,21,11750,null,null,0,2212]
[21,11843,21,11848,11,11855,21,11867,null,null,0,2212]
[21,11959,21,11971,11,11978,21,12000,null,null,1,2212]

{"sheet":"!MB19B10.096","index":29,"n_rows":116,"n_cols":48,"rows_kept":116,"cut":false,"hidden":false,"merged":[[4,39,4,42],[5,39,5,40],[4,44,4,47],[5,44,5,45],[4,24,4,27],[5,24,5,25],[4,29,4,32],[5,29,5,30],[4,34,4,37],[5,34,5,35],[1,1,1,2],[5,13,5,14],[26,13,26,14],[27,13,27,14],[4,19,4,22],[5,19,5,20]]}
["Report for:!MB19B10.096"]
["Date:","<date>"]
["Hen:","<hen>",null,null,null,"Correct Sequence",{"$f":"Start!J2","v":2212},null,null,null,null,null,null,null,null,"Total Sequences in Data",{"$f":"4994-COUNTBLANK(L7:L5000)","v":110},null,null,null,null,"Total Sequences in Block Data",{"$f":"COUNTA(L7:L24)","v":18},null,null,null,"Total Sequences in Block Data",{"$f":"COUNTA(L25:L43)","v":19},null,null,null,"Total Sequences in Block Data",{"$f":"COUNTA(L44:L61)","v":18},null,null,null,"Total Sequences in Block Data",{"$f":"COUNTA(L62:L79)","v":18},null,null,null,"Total Sequences in Block Data",{"$f":"COUNTA(L80:L98)","v":19},null,null,null,"Total Sequences in Block Data",{"$f":"COUNTA(L99:L116)","v":18}]
[null,null,null,null,null,null,null,null,null,null,null,null,null,null,null,"Total Sequences in Summary",{"$f":"SUM(O7:O22)","v":110},null,null,null,null,"Total Sequences in Block Summary",{"$f":"SUM(U7:U22)","v":18},null,null,null,"Total Sequences in Block Summary",{"$f":"SUM(Z7:Z22)","v":19},null,null,null,"Total Sequences in Block Summary",{"$f":"SUM(AE7:AE22)","v":18},null,null,null,"Total Sequences in Block Summary",{"$f":"SUM(AJ7:AJ22)","v":18},null,null,null,"Total Sequences in Block Summary",{"$f":"SUM(AO7:AO22)","v":19},null,null,null,"Total Sequences in Block Summary",{"$f":"SUM(AT7:AT22)","v":18}]
[null,null,null,null,null,null,null,null,null,null,null,null,null,null,null,null,null,null,null,"Block 1",null,null,null,null,"Block 2",null,null,null,null,"Block 3",null,null,null,null,"Block 4",null,null,null,null,"Block 5",null,null,null,null,"Block 6"]
["Sequence\nComponent\n1","Time\n1","Sequence\nComponent\n2","Time\n2","Sequence\nComponent\n3","Time\n3","Sequence\nComponent\n4","Time\n4","Sequence\nComponent\n5","Time\n5","Correct?\n0=No 1=Yes","Sequence",null,"Frequency",null,"Relative Frequency","Variability",null,null,"Frequency",null,"Relative Frequency","Variability",null,"Frequency",null,"Relative Frequency","Variability",null,"Frequency",null,"Relative Frequency","Variability",null,"Frequency",null,"Relative Frequency","Variability",null,"Frequency",null,"Relative Frequency","Variability",null,"Frequency",null,"Relative Frequency","Variability"]
[12,14,14,18,24,25,23,31,null,null,0,1122,null,1111,{"$f":"COUNTIF($L$7:$L$500,N7)","v":0},{"$f":"O7/$Q$4","v":0},{"$f":"IF(P7=0,0,(P7*((LOG(P7))/LOG(2))))","v":0},null,null,{"$f":"N7","v":1111},{"$f":"COUNTIF(L7:L24,T7)","v":0},{"$f":"U7/(W4-U20)","v":0},{"$f":"IF(V7=0,0,(V7*((LOG(V7))/LOG(2))))","v":0},null,{"$f":"N7","v":1111},{"$f":"COUNTIF(L25:L43,Y7)","v":0},{"$f":"Z7/(AB4-Z20)","v":0},{"$f":"IF(AA7=0,0,(AA7*((LOG(AA7))/LOG(2))))","v":0},null,{"$f":"N7","v":1111},{"$f":"COUNTIF(L44:L61,AD7)","v":0},{"$f":"AE7/(AG4-AE20)","v":0},{"$f":"IF(AF7=0,0,(AF7*((LOG(AF7))/LOG(2))))","v":0},null,{"$f":"N7","v":1111},{"$f":"COUNTIF(L62:L79,AI7)","v":0},{"$f":"AJ7/(AL4-AJ20)","v":0},{"$f":"IF(AK7=0,0,(AK7*((LOG(AK7))/LOG(2))))","v":0},null,{"$f":"N7","v":1111},{"$f":"COUNTIF(L80:L98,AN7)","v":0},{"$f":"AO7/(AQ4-AO20)","v":0},{"$f":"IF(AP7=0,0,(AP7*((LOG(AP7))/LOG(2))))","v":0},null,{"$f":"N7","v":1111},{"$f":"COUNTIF(L99:L116,AS7)","v":0},{"$f":"AT7/(AV4-AT20)","v":0},{"$f":"IF(AU7=0,0,(AU7*((LOG(AU7))/LOG(2))))","v":0}]
[21,129,21,133,22,137,14,144,null,null,0,2221,null,1112,{"$f":"COUNTIF($L$7:$L$500,N8)","v":0},{"$f":"O8/$Q$4","v":0},{"$f":"IF(P8=0,0,(P8*((LOG(P8))/LOG(2))))","v":0},null,null,{"$f":"N8","v":1112},{"$f":"COUNTIF(L7:L24,T8)","v":0},{"$f":"U8/(W4-U20)","v":0},{"$f":"IF(V8=0,0,(V8*((LOG(V8))/LOG(2))))","v":0},null,{"$f":"N8","v":1112},{"$f":"COUNTIF(L25:L43,Y8)","v":0},{"$f":"Z8/(AB4-Z20)","v":0},{"$f":"IF(AA8=0,0,(AA8*((LOG(AA8))/LOG(2))))","v":0},null,{"$f":"N8","v":1112},{"$f":"COUNTIF(L44:L61,AD8)","v":0},{"$f":"AE8/(AG4-AE20)","v":0},{"$f":"IF(AF8=0,0,(AF8*((LOG(AF8))/LOG(2))))","v":0},null,{"$f":"N8","v":1112},{"$f":"COUNTIF(L62:L79,AI8)","v":0},{"$f":"AJ8/(AL4-AJ20)","v":0},{"$f":"IF(AK8=0,0,(AK8*((LOG(AK8))/LOG(2))))","v":0},null,{"$f":"N8","v":1112},{"$f":"COUNTIF(L80:L98,AN8)","v":0},{"$f":"AO8/(AQ4-AO20)","v":0},{"$f":"IF(AP8=0,0,(AP8*((LOG(AP8))/LOG(2))))","v":0},null,{"$f":"N8","v":1112},{"$f":"COUNTIF(L99:L116,AS8)","v":0},{"$f":"AT8/(AV4-AT20)","v":0},{"$f":"IF(AU8=0,0,(AU8*((LOG(AU8))/LOG(2))))","v":0}]
[21,247,12,254,24,260,23,272,null,null,0,2122,null,1121,{"$f":"COUNTIF($L$7:$L$500,N9)","v":0},{"$f":"O9/$Q$4","v":0},{"$f":"IF(P9=0,0,(P9*((LOG(P9))/LOG(2))))","v":0},null,null,{"$f":"N9","v":1121},{"$f":"COUNTIF(L7:L24,T9)","v":0},{"$f":"U9/(W4-U20)","v":0},{"$f":"IF(V9=0,0,(V9*((LOG(V9))/LOG(2))))","v":0},null,{"$f":"N9","v":1121},{"$f":"COUNTIF(L25:L43,Y9)","v":0},{"$f":"Z9/(AB4-Z20)","v":0},{"$f":"IF(AA9=0,0,(AA9*((LOG(AA9))/LOG(2))))","v":0},null,{"$f":"N9","v":1121},{"$f":"COUNTIF(L44:L61,AD9)","v":0},{"$f":"AE9/(AG4-AE20)","v":0},{"$f":"IF(AF9=0,0,(AF9*((LOG(AF9))/LOG(2))))","v":0},null,{"$f":"N9","v":1121},{"$f":"COUNTIF(L62:L79,AI9)","v":0},{"$f":"AJ9/(AL4-AJ20)","v":0},{"$f":"IF(AK9=0,0,(AK9*((LOG(AK9))/LOG(2))))","v":0},null,{"$f":"N9","v":1121},{"$f":"COUNTIF(L80:L98,AN9)","v":0},{"$f":"AO9/(AQ4-AO20)","v":0},{"$f":"IF(AP9=0,0,(AP9*((LOG(AP9))/LOG(2))))","v":0},null,{"$f":"N9","v":1121},{"$f":"COUNTIF(L99:L116,AS9)","v":0},{"$f":"AT9/(AV4-AT20)","v":0},{"$f":"IF(AU9=0,0,(AU9*((LOG(AU9))/LOG(2))))","v":0}]
[12,378,23,392,24,408,23,416,null,null,0,1222,null,1122,{"$f":"COUNTIF($L$7:$L$500,N10)","v":1},{"$f":"O10/$Q$4","v":9.0909090909090905E-3},{"$f":"IF(P10=0,0,(P10*((LOG(P10))/LOG(2))))","v":-6.1648724668405985E-2},null,null,{"$f":"N10","v":1122},{"$f":"COUNTIF(L7:L24,T10)","v":1},{"$f":"U10/(W4-U20)","v":9.0909090909090912E-2},{"$f":"IF(V10=0,0,(V10*((LOG(V10))/LOG(2))))","v":-0.31449378351248153},null,{"$f":"N10","v":1122},{"$f":"COUNTIF(L25:L43,Y10)","v":0},{"$f":"Z10/(AB4-Z20)","v":0},{"$f":"IF(AA10=0,0,(AA10*((LOG(AA10))/LOG(2))))","v":0},null,{"$f":"N10","v":1122},{"$f":"COUNTIF(L44:L61,AD10)","v":0},{"$f":"AE10/(AG4-AE20)","v":0},{"$f":"IF(AF10=0,0,(AF10*((LOG(AF10))/LOG(2))))","v":0},null,{"$f":"N10","v":1122},{"$f":"COUNTIF(L62:L79,AI10)","v":0},{"$f":"AJ10/(AL4-AJ20)","v":0},{"$f":"IF(AK10=0,0,(AK10*((LOG(AK10))/LOG(2))))","v":0},null,{"$f":"N10","v":1122},{"$f":"COUNTIF(L80:L98,AN10)","v":0},{"$f":"AO10/(AQ4-AO20)","v":0},{"$f":"IF(AP10=0,0,(AP10*((LOG(AP10))/LOG(2))))","v":0},null,{"$f":"N10","v":1122},{"$f":"COUNTIF(L99:L116,AS10)","v":0},{"$f":"AT10/(AV4-AT20)","v":0},{"$f":"IF(AU10=0,0,(AU10*((LOG(AU10))/LOG(2))))","v":0}]
[21,516,21,521,11,529,21,535,null,null,0,2212,null,1211,{"$f":"COUNTIF($L$7:$L$500,N11)","v":0},{"$f":"O11/$Q$4","v":0},{"$f":"IF(P11=0,0,(P11*((LOG(P11))/LOG(2))))","v":0},null,null,{"$f":"N11","v":1211},{"$f":"COUNTIF(L7:L24,T11)","v":0},{"$f":"U11/(W4-U20)","v":0},{"$f":"IF(V11=0,0,(V11*((LOG(V11))/LOG(2))))","v":0},null,{"$f":"N11","v":1211},{"$f":"COUNTIF(L25:L43,Y11)","v":0},{"$f":"Z11/(AB4-Z20)","v":0},{"$f":"IF(AA11=0,0,(AA11*((LOG(AA11))/LOG(2))))","v":0},null,{"$f":"N11","v":1211},{"$f":"COUNTIF(L44:L61,AD11)","v":0},{"$f":"AE11/(AG4-AE20)","v":0},{"$f":"IF(AF11=0,0,(AF11*((LOG(AF11))/LOG(2))))","v":0},null,{"$f":"N11","v":1211},{"$f":"COUNTIF(L62:L79,AI11)","v":0},{"$f":"AJ11/(AL4-AJ20)","v":0},{"$f":"IF(AK11=0,0,(AK11*((LOG(AK11))/LOG(2))))","v":0},null,{"$f":"N11","v":1211},{"$f":"COUNTIF(L80:L98,AN11)","v":0},{"$f":"AO11/(AQ4-AO20)","v":0},{"$f":"IF(AP11=0,0,(AP11*((LOG(AP11))/LOG(2))))","v":0},null,{"$f":"N11","v":1211},{"$f":"COUNTIF(L99:L116,AS11)","v":0},{"$f":"AT11/(AV4-AT20)","v":0},{"$f":"IF(AU11=0,0,(AU11*((LOG(AU11))/LOG(2))))","v":0}]
[21,641,21,645,22,650,23,661,null,null,0,2222,null,1212,{"$f":"COUNTIF($L$7:$L$500,N12)","v":0},{"$f":"O12/$Q$4","v":0},{"$f":"IF(P12=0,0,(P12*((LOG(P12))/LOG(2))))","v":0},null,null,{"$f":"N12","v":1212},{"$f":"COUNTIF(L7:L24,T12)","v":0},{"$f":"U12/(W4-U20)","v":0},{"$f":"IF(V12=0,0,(V12*((LOG(V12))/LOG(2))))","v":0},null,{"$f":"N12","v":1212},{"$f":"COUNTIF(L25:L43,Y12)","v":0},{"$f":"Z12/(AB4-Z20)","v":0},{"$f":"IF(AA12=0,0,(AA12*((LOG(AA12))/LOG(2))))","v":0},null,{"$f":"N12","v":1212},{"$f":"COUNTIF(L44:L61,AD12)","v":0},{"$f":"AE12/(AG4-AE20)","v":0},{"$f":"IF(AF12=0,0,(AF12*((LOG(AF12))/LOG(2))))","v":0},null,{"$f":"N12","v":1212},{"$f":"COUNTIF(L62:L79,AI12)","v":0},{"$f":"AJ12/(AL4-AJ20)","v":0},{"$f":"IF(AK12=0,0,(AK12*((LOG(AK12))/LOG(2))))","v":0},null,{"$f":"N12","v":1212},{"$f":"COUNTIF(L80:L98,AN12)","v":0},{"$f":"AO12/(AQ4-AO20)","v":0},{"$f":"IF(AP12=0,0,(AP12*((LOG(AP12))/LOG(2))))","v":0},null,{"$f":"N12","v":1212},{"$f":"COUNTIF(L99:L116,AS12)","v":0},{"$f":"AT12/(AV4-AT20)","v":0},{"$f":"IF(AU12=0,0,(AU12*((LOG(AU12))/LOG(2))))","v":0}]
[21,765,21,773,22,782,23,798,null,null,0,2222,null,1221,{"$f":"COUNTIF($L$7:$L$500,N13)","v":0},{"$f":"O13/$Q$4","v":0},{"$f":"IF(P13=0,0,(P13*((LOG(P13))/LOG(2))))","v":0},null,null,{"$f":"N13","v":1221},{"$f":"COUNTIF(L7:L24,T13)","v":0},{"$f":"U13/(W4-U20)","v":0},{"$f":"IF(V13=0,0,(V13*((LOG(V13))/LOG(2))))","v":0},null,{"$f":"N13","v":1221},{"$f":"COUNTIF(L25:L43,Y13)","v":0},{"$f":"Z13/(AB4-Z20)","v":0},{"$f":"IF(AA13=0,0,(AA13*((LOG(AA13))/LOG(2))))","v":0},null,{"$f":"N13","v":1221},{"$f":"COUNTIF(L44:L61,AD13)","v":0},{"$f":"AE13/(AG4-AE20)","v":0},{"$f":"IF(AF13=0,0,(AF13*((LOG(AF13))/LOG(2))))","v":0},null,{"$f":"N13","v":1221},{"$f":"COUNTIF(L62:L79,AI13)","v":0},{"$f":"AJ13/(AL4-AJ20)","v":0},{"$f":"IF(AK13=0,0,(AK13*((LOG(AK13))/LOG(2))))","v":0},null,{"$f":"N13","v":1221},{"$f":"COUNTIF(L80:L98,AN13)","v":0},{"$f":"AO13/(AQ4-AO20)","v":0},{"$f":"IF(AP13=0,0,(AP13*((LOG(AP13))/LOG(2))))","v":0},null,{"$f":"N13","v":1221},{"$f":"COUNTIF(L99:L116,AS13)","v":0},{"$f":"AT13/(AV4-AT20)","v":0},{"$f":"IF(AU13=0,0,(AU13*((LOG(AU13))/LOG(2))))","v":0}]
[21,895,21,901,11,907,21,949,null,null,0,2212,null,1222,{"$f":"COUNTIF($L$7:$L$500,N14)","v":6},{"$f":"O14/$Q$4","v":5.4545454545454543E-2},{"$f":"IF(P14=0,0,(P14*((LOG(P14))/LOG(2))))","v":-0.22889439342564566},null,null,{"$f":"N14","v":1222},{"$f":"COUNTIF(L7:L24,T14)","v":1},{"$f":"U14/(W4-U20)","v":9.0909090909090912E-2},{"$f":"IF(V14=0,0,(V14*((LOG(V14))/LOG(2))))","v":-0.31449378351248153},null,{"$f":"N14","v":1222},{"$f":"COUNTIF(L25:L43,Y14)","v":2},{"$f":"Z14/(AB4-Z20)","v":0.13333333333333333},{"$f":"IF(AA14=0,0,(AA14*((LOG(AA14))/LOG(2))))","v":-0.3875854127478025},null,{"$f":"N14","v":1222},{"$f":"COUNTIF(L44:L61,AD14)","v":1},{"$f":"AE14/(AG4-AE20)","v":7.1428571428571425E-2},{"$f":"IF(AF14=0,0,(AF14*((LOG(AF14))/LOG(2))))","v":-0.27195392300411453},null,{"$f":"N14","v":1222},{"$f":"COUNTIF(L62:L79,AI14)","v":0},{"$f":"AJ14/(AL4-AJ20)","v":0},{"$f":"IF(AK14=0,0,(AK14*((LOG(AK14))/LOG(2))))","v":0},null,{"$f":"N14","v":1222},{"$f":"COUNTIF(L80:L98,AN14)","v":0},{"$f":"AO14/(AQ4-AO20)","v":0},{"$f":"IF(AP14=0,0,(AP14*((LOG(AP14))/LOG(2))))","v":0},null,{"$f":"N14","v":1222},{"$f":"COUNTIF(L99:L116,AS14)","v":2},{"$f":"AT14/(AV4-AT20)","v":0.18181818181818182},{"$f":"IF(AU14=0,0,(AU14*((LOG(AU14))/LOG(2))))","v":-0.44716938520678134}]
[21,1036,21,1045,11,1063,21,1095,null,null,0,2212,null,2111,{"$f":"COUNTIF($L$7:$L$500,N15)","v":0},{"$f":"O15/$Q$4","v":0},{"$f":"IF(P15=0,0,(P15*((LOG(P15))/LOG(2))))","v":0},null,null,{"$f":"N15","v":2111},{"$f":"COUNTIF(L7:L24,T15)","v":0},{"$f":"U15/(W4-U20)","v":0},{"$f":"IF(V15=0,0,(V15*((LOG(V15))/LOG(2))))","v":0},null,{"$f":"N15","v":2111},{"$f":"COUNTIF(L25:L43,Y15)","v":0},{"$f":"Z15/(AB4-Z20)","v":0},{"$f":"IF(AA15=0,0,(AA15*((LOG(AA15))/LOG(2))))","v":0},null,{"$f":"N15","v":2111},{"$f":"COUNTIF(L44:L61,AD15)","v":0},{"$f":"AE15/(AG4-AE20)","v":0},{"$f":"IF(AF15=0,0,(AF15*((LOG(AF15))/LOG(2))))","v":0},null,{"$f":"N15","v":2111},{"$f":"COUNTIF(L62:L79,AI15)","v":0},{"$f":"AJ15/(AL4-AJ20)","v":0},{"$f":"IF(AK15=0,0,(AK15*((LOG(AK15))/LOG(2))))","v":0},null,{"$f":"N15","v":2111},{"$f":"COUNTIF(L80:L98,AN15)","v":0},{"$f":"AO15/(AQ4-AO20)","v":0},{"$f":"IF(AP15=0,0,(AP15*((LOG(AP15))/LOG(2))))","v":0},null,{"$f":"N15","v":2111},{"$f":"COUNTIF(L99:L116,AS15)","v":0},{"$f":"AT15/(AV4-AT20)","v":0},{"$f":"IF(AU15=0,0,(AU15*((LOG(AU15))/LOG(2))))","v":0}]
[21,1192,12,1199,24,1208,23,1214,null,null,0,2122,null,2112,{"$f":"COUNTIF($L$7:$L$500,N16)","v":1},{"$f":"O16/$Q$4","v":9.0909090909090905E-3},{"$f":"IF(P16=0,0,(P16*((LOG(P16))/LOG(2))))","v":-6.1648724668405985E-2},null,null,{"$f":"N16","v":2112},{"$f":"COUNTIF(L7:L24,T16)","v":0},{"$f":"U16/(W4-U20)","v":0},{"$f":"IF(V16=0,0,(V16*((LOG(V16))/LOG(2))))","v":0},null,{"$f":"N16","v":2112},{"$f":"COUNTIF(L25:L43,Y16)","v":1},{"$f":"Z16/(AB4-Z20)","v":6.6666666666666666E-2},{"$f":"IF(AA16=0,0,(AA16*((LOG(AA16))/LOG(2))))","v":-0.26045937304056793},null,{"$f":"N16","v":2112},{"$f":"COUNTIF(L44:L61,AD16)","v":0},{"$f":"AE16/(AG4-AE20)","v":0},{"$f":"IF(AF16=0,0,(AF16*((LOG(AF16))/LOG(2))))","v":0},null,{"$f":"N16","v":2112},{"$f":"COUNTIF(L62:L79,AI16)","v":0},{"$f":"AJ16/(AL4-AJ20)","v":0},{"$f":"IF(AK16=0,0,(AK16*((LOG(AK16))/LOG(2))))","v":0},null,{"$f":"N16","v":2112},{"$f":"COUNTIF(L80:L98,AN16)","v":0},{"$f":"AO16/(AQ4-AO20)","v":0},{"$f":"IF(AP16=0,0,(AP16*((LOG(AP16))/LOG(2))))","v":0},null,{"$f":"N16","v":2112},{"$f":"COUNTIF(L99:L116,AS16)","v":0},{"$f":"AT16/(AV4-AT20)","v":0},{"$f":"IF(AU16=0,0,(AU16*((LOG(AU16))/LOG(2))))","v":0}]
[21,1313,21,1317,22,1325,14,1332,null,null,0,2221,null,2121,{"$f":"COUNTIF($L$7:$L$500,N17)","v":1},{"$f":"O17/$Q$4","v":9.0909090909090905E-3},{"$f":"IF(P17=0,0,(P17*((LOG(P17))/LOG(2))))","v":-6.1648724668405985E-2},null,null,{"$f":"N17","v":2121},{"$f":"COUNTIF(L7:L24,T17)","v":0},{"$f":"U17/(W4-U20)","v":0},{"$f":"IF(V17=0,0,(V17*((LOG(V17))/LOG(2))))","v":0},null,{"$f":"N17","v":2121},{"$f":"COUNTIF(L25:L43,Y17)","v":0},{"$f":"Z17/(AB4-Z20)","v":0},{"$f":"IF(AA17=0,0,(AA17*((LOG(AA17))/LOG(2))))","v":0},null,{"$f":"N17","v":2121},{"$f":"COUNTIF(L44:L61,AD17)","v":0},{"$f":"AE17/(AG4-AE20)","v":0},{"$f":"IF(AF17=0,0,(AF17*((LOG(AF17))/LOG(2))))","v":0},null,{"$f":"N17","v":2121},{"$f":"COUNTIF(L62:L79,AI17)","v":0},{"$f":"AJ17/(AL4-AJ20)","v":0},{"$f":"IF(AK17=0,0,(AK17*((LOG(AK17))/LOG(2))))","v":0},null,{"$f":"N17","v":2121},{"$f":"COUNTIF(L80:L98,AN17)","v":1},{"$f":"AO17/(AQ4-AO20)","v":8.3333333333333329E-2},{"$f":"IF(AP17=0,0,(AP17*((LOG(AP17))/LOG(2))))","v":-0.29874687506009634},null,{"$f":"N17","v":2121},{"$f":"COUNTIF(L99:L116,AS17)","v":0},{"$f":"AT17/(AV4-AT20)","v":0},{"$f":"IF(AU17=0,0,(AU17*((LOG(AU17))/LOG(2))))","v":0}]
[21,1431,12,1439,24,1450,23,1460,null,null,0,2122,null,2122,{"$f":"COUNTIF($L$7:$L$500,N18)","v":30},{"$f":"O18/$Q$4","v":0.27272727272727271},{"$f":"IF(P18=0,0,(P18*((LOG(P18))/LOG(2))))","v":-0.51121885034076575},null,null,{"$f":"N18","v":2122},{"$f":"COUNTIF(L7:L24,T18)","v":4},{"$f":"U18/(W4-U20)","v":0.36363636363636365},{"$f":"IF(V18=0,0,(V18*((LOG(V18))/LOG(2))))","v":-0.53070240677719893},null,{"$f":"N18","v":2122},{"$f":"COUNTIF(L25:L43,Y18)","v":6},{"$f":"Z18/(AB4-Z20)","v":0.4},{"$f":"IF(AA18=0,0,(AA18*((LOG(AA18))/LOG(2))))","v":-0.52877123795494496},null,{"$f":"N18","v":2122},{"$f":"COUNTIF(L44:L61,AD18)","v":4},{"$f":"AE18/(AG4-AE20)","v":0.2857142857142857},{"$f":"IF(AF18=0,0,(AF18*((LOG(AF18))/LOG(2))))","v":-0.51638712058788683},null,{"$f":"N18","v":2122},{"$f":"COUNTIF(L62:L79,AI18)","v":2},{"$f":"AJ18/(AL4-AJ20)","v":0.2857142857142857},{"$f":"IF(AK18=0,0,(AK18*((LOG(AK18))/LOG(2))))","v":-0.51638712058788683},null,{"$f":"N18","v":2122},{"$f":"COUNTIF(L80:L98,AN18)","v":9},{"$f":"AO18/(AQ4-AO20)","v":0.75},{"$f":"IF(AP18=0,0,(AP18*((LOG(AP18))/LOG(2))))","v":-0.31127812445913283},null,{"$f":"N18","v":2122},{"$f":"COUNTIF(L99:L116,AS18)","v":5},{"$f":"AT18/(AV4-AT20)","v":0.45454545454545453},{"$f":"IF(AU18=0,0,(AU18*((LOG(AU18))/LOG(2))))","v":-0.51704705624997038}]
[21,1559,21,1565,11,1572,21,1577,null,null,0,2212,null,2211,{"$f":"COUNTIF($L$7:$L$500,N19)","v":0},{"$f":"O19/$Q$4","v":0},{"$f":"IF(P19=0,0,(P19*((LOG(P19))/LOG(2))))","v":0},null,null,{"$f":"N19","v":2211},{"$f":"COUNTIF(L7:L24,T19)","v":0},{"$f":"U19/(W4-U20)","v":0},{"$f":"IF(V19=0,0,(V19*((LOG(V19))/LOG(2))))","v":0},null,{"$f":"N19","v":2211},{"$f":"COUNTIF(L25:L43,Y19)","v":0},{"$f":"Z19/(AB4-Z20)","v":0},{"$f":"IF(AA19=0,0,(AA19*((LOG(AA19))/LOG(2))))","v":0},null,{"$f":"N19","v":2211},{"$f":"COUNTIF(L44:L61,AD19)","v":0},{"$f":"AE19/(AG4-AE20)","v":0},{"$f":"IF(AF19=0,0,(AF19*((LOG(AF19))/LOG(2))))","v":0},null,{"$f":"N19","v":2211},{"$f":"COUNTIF(L62:L79,AI19)","v":0},{"$f":"AJ19/(AL4-AJ20)","v":0},{"$f":"IF(AK19=0,0,(AK19*((LOG(AK19))/LOG(2))))","v":0},null,{"$f":"N19","v":2211},{"$f":"COUNTIF(L80:L98,AN19)","v":0},{"$f":"AO19/(AQ4-AO20)","v":0},{"$f":"IF(AP19=0,0,(AP19*((LOG(AP19))/LOG(2))))","v":0},null,{"$f":"N19","v":2211},{"$f":"COUNTIF(L99:L116,AS19)","v":0},{"$f":"AT19/(AV4-AT20)","v":0},{"$f":"IF(AU19=0,0,(AU19*((LOG(AU19))/LOG(2))))","v":0}]
[21,1673,21,1677,11,1686,21,1720,null,null,0,2212,null,2212,{"$f":"COUNTIF($L$7:$L$500,N20)","v":40},{"$f":"O20/$Q$4","v":0.36363636363636365},{"$f":"IF(P20=0,0,(P20*((LOG(P20))/LOG(2))))","v":-0.53070240677719893},null,null,{"$f":"N20","v":2212},{"$f":"COUNTIF(L7:L24,T20)","v":7},null,null,null,{"$f":"N20","v":2212},{"$f":"COUNTIF(L25:L43,Y20)","v":4},null,null,null,{"$f":"N20","v":2212},{"$f":"COUNTIF(L44:L61,AD20)","v":4},null,null,null,{"$f":"N20","v":2212},{"$f":"COUNTIF(L62:L79,AI20)","v":11},null,null,null,{"$f":"N20","v":2212},{"$f":"COUNTIF(L80:L98,AN20)","v":7},null,null,null,{"$f":"N20","v":2212},{"$f":"COUNTIF(L99:L116,AS20)","v":7}]
[21,1815,21,1820,11,1830,21,1859,null,null,0,2212,null,2221,{"$f":"COUNTIF($L$7:$L$500,N21)","v":11},{"$f":"O21/$Q$4","v":0.1},{"$f":"IF(P21=0,0,(P21*((LOG(P21))/LOG(2))))","v":-0.33219280948873625},null,null,{"$f":"N21","v":2221},{"$f":"COUNTIF(L7:L24,T21)","v":2},{"$f":"U21/(W4-U20)","v":0.18181818181818182},{"$f":"IF(V21=0,0,(V21*((LOG(V21))/LOG(2))))","v":-0.44716938520678134},null,{"$f":"N21","v":2221},{"$f":"COUNTIF(L25:L43,Y21)","v":3},{"$f":"Z21/(AB4-Z20)","v":0.2},{"$f":"IF(AA21=0,0,(AA21*((LOG(AA21))/LOG(2))))","v":-0.46438561897747244},null,{"$f":"N21","v":2221},{"$f":"COUNTIF(L44:L61,AD21)","v":0},{"$f":"AE21/(AG4-AE20)","v":0},{"$f":"IF(AF21=0,0,(AF21*((LOG(AF21))/LOG(2))))","v":0},null,{"$f":"N21","v":2221},{"$f":"COUNTIF(L62:L79,AI21)","v":3},{"$f":"AJ21/(AL4-AJ20)","v":0.42857142857142855},{"$f":"IF(AK21=0,0,(AK21*((LOG(AK21))/LOG(2))))","v":-0.52388246628704915},null,{"$f":"N21","v":2221},{"$f":"COUNTIF(L80:L98,AN21)","v":1},{"$f":"AO21/(AQ4-AO20)","v":8.3333333333333329E-2},{"$f":"IF(AP21=0,0,(AP21*((LOG(AP21))/LOG(2))))","v":-0.29874687506009634},null,{"$f":"N21","v":2221},{"$f":"COUNTIF(L99:L116,AS21)","v":2},{"$f":"AT21/(AV4-AT20)","v":0.18181818181818182},{"$f":"IF(AU21=0,0,(AU21*((LOG(AU21))/LOG(2))))","v":-0.44716938520678134}]
[21,1951,21,1960,22,1990,23,2012,null,null,0,2222,null,2222,{"$f":"COUNTIF($L$7:$L$500,N22)","v":20},{"$f":"O22/$Q$4","v":0.18181818181818182},{"$f":"IF(P22=0,0,(P22*((LOG(P22))/LOG(2))))","v":-0.44716938520678134},null,null,{"$f":"N22","v":2222},{"$f":"COUNTIF(L7:L24,T22)","v":3},{"$f":"U22/(W4-U20)","v":0.27272727272727271},{"$f":"IF(V22=0,0,(V22*((LOG(V22))/LOG(2))))","v":-0.51121885034076575},null,{"$f":"N22","v":2222},{"$f":"COUNTIF(L25:L43,Y22)","v":3},{"$f":"Z22/(AB4-Z20)","v":0.2},{"$f":"IF(AA22=0,0,(AA22*((LOG(AA22))/LOG(2))))","v":-0.46438561897747244},null,{"$f":"N22","v":2222},{"$f":"COUNTIF(L44:L61,AD22)","v":9},{"$f":"AE22/(AG4-AE20)","v":0.6428571428571429},{"$f":"IF(AF22=0,0,(AF22*((LOG(AF22))/LOG(2))))","v":-0.40977637753840174},null,{"$f":"N22","v":2222},{"$f":"COUNTIF(L62:L79,AI22)","v":2},{"$f":"AJ22/(AL4-AJ20)","v":0.2857142857142857},{"$f":"IF(AK22=0,0,(AK22*((LOG(AK22))/LOG(2))))","v":-0.51638712058788683},null,{"$f":"N22","v":2222},{"$f":"COUNTIF(L80:L98,AN22)","v":1},{"$f":"AO22/(AQ4-AO20)","v":8.3333333333333329E-2},{"$f":"IF(AP22=0,0,(AP22*((LOG(AP22))/LOG(2))))","v":-0.29874687506009634},null,{"$f":"N22","v":2222},{"$f":"COUNTIF(L99:L116,AS22)","v":2},{"$f":"AT22/(AV4-AT20)","v":0.18181818181818182},{"$f":"IF(AU22=0,0,(AU22*((LOG(AU22))/LOG(2))))","v":-0.44716938520678134}]
[21,2109,21,2114,11,2121,21,2148,null,null,0,2212,null,null,null,{"$f":"SUM(P7:P22)","v":1},{"$f":"-SUM(Q7:Q22)","v":2.235124019244346},null,null,null,null,{"$f":"SUM(V7:V22)","v":1},{"$f":"-SUM(W7:W22)","v":2.1180782093497088},null,null,null,{"$f":"SUM(AA7:AA22)","v":1},{"$f":"-SUM(AB7:AB22)","v":2.1055872616982603},null,null,null,{"$f":"SUM(AF7:AF22)","v":1},{"$f":"-SUM(AG7:AG22)","v":1.1981174211304031},null,null,null,{"$f":"SUM(AK7:AK22)","v":0.99999999999999989},{"$f":"-SUM(AL7:AL22)","v":1.5566567074628228},null,null,null,{"$f":"SUM(AP7:AP22)","v":1},{"$f":"-SUM(AQ7:AQ22)","v":1.207518749639422},null,null,null,{"$f":"SUM(AU7:AU22)","v":1},{"$f":"-SUM(AV7:AV22)","v":1.8585552118703144}]
[21,2246,12,2259,24,2280,23,2287,null,null,0,2122,null,null,null,"U=",{"$f":"Q23/(LOG(Q4)/LOG(2))","v":0.32959820945446128},null,null,null,null,"U1=",{"$f":"W23/(LOG(W4)/LOG(2))","v":0.50794155976836475},null,null,null,"U2=",{"$f":"AB23/(LOG(AB4)/LOG(2))","v":0.49567400927502281},null,null,null,"U3=",{"$f":"AG23/(LOG(AG4)/LOG(2))","v":0.28732349399953067},null,null,null,"U4=",{"$f":"AL23/(LOG(AL4)/LOG(2))","v":0.37330568461648578},null,null,null,"U5=",{"$f":"AQ23/(LOG(AQ4)/LOG(2))","v":0.28426067672245803},null,null,null,"U6=",{"$f":"AV23/(LOG(AV4)/LOG(2))","v":0.44570470961167624}]
[21,2391,12,2398,24,2410,23,2422,null,null,0,2122]
[21,2525,12,2533,24,2541,23,2548,null,null,0,2122]
[21,2648,12,2656,24,2663,23,2674,null,null,0,2122,null,"Total Target Seq"]
[12,2784,23,2808,24,2816,23,2824,null,null,0,1222,null,{"$f":"COUNTIF(L7:L116,G3)","v":40},null,18,19,18,18,19,18]
[21,2923,12,2938,24,2946,23,2954,null,null,0,2122,null,null,null,"% of reinforcement given in 6 equal intervals based on number of trials "]
[21,3050,21,3055,22,3069,14,3078,null,null,0,2221,null,null,null,"%_1","%_2","%_3","%_4","%_5","%_6"]
[21,3177,21,3185,11,3193,21,3214,null,null,0,2212,null,null,"target sequence",{"$f":"$G$3","v":2212},{"$f":"$G$3","v":2212},{"$f":"$G$3","v":2212},{"$f":"$G$3","v":2212},{"$f":"$G$3","v":2212},{"$f":"$G$3","v":2212}]
[21,3310,21,3317,22,3324,23,3368,null,null,0,2222,null,null,"total reinforcement",{"$f":"U20","v":7},{"$f":"Z20","v":4},{"$f":"AE20","v":4},{"$f":"AJ20","v":11},{"$f":"AO20","v":7},{"$f":"AT20","v":7}]
[12,3480,23,3488,24,3503,23,3520,null,null,0,1222,null,null,"% target"]
[21,3622,21,3636,22,3646,14,3653,null,null,0,2221,null,null,"CCRF"]
[21,3756,21,3762,11,3768,21,3794,null,null,0,2212,null,null,"% CCRf"]
[21,3888,12,3897,24,3902,23,3909,null,null,0,2122,null,null,"average response rate",{"$f":"H24/P28","v":127.05555555555556},{"$f":"(H43-H24)/Q28","v":134.84210526315789},{"$f":"(H61-H43)/R28","v":126.77777777777777},{"$f":"(H79-H61)/S28","v":132.66666666666666},{"$f":"(H98-H79)/T28","v":133.57894736842104},{"$f":"(H116-H98)/U28","v":129.77777777777777}]
[21,4005,21,4009,11,4038,21,4056,null,null,0,2212]
[21,4143,21,4148,22,4163,14,4170,null,null,0,2221]
[21,4271,21,4282,11,4288,21,4297,null,null,0,2212]
[21,4393,12,4401,13,4419,23,4429,null,null,0,2112]
[21,4530,21,4541,22,4548,23,4559,null,null,0,2222]
[21,4656,12,4667,24,4675,23,4686,null,null,0,2122]
[21,4794,21,4810,22,4831,23,4849,null,null,0,2222]
[21,4952,21,4957,22,4967,23,4978,null,null,0,2222]
[21,5075,21,5078,22,5082,23,5105,null,null,0,2222]
[21,5202,21,5209,11,5218,21,5225,null,null,0,2212]
[21,5312,21,5315,22,5322,23,5341,null,null,0,2222]
[21,5439,21,5442,22,5447,23,5463,null,null,0,2222]
[21,5560,21,5564,22,5568,23,5583,null,null,0,2222]
[21,5685,12,5692,24,5707,23,5726,null,null,0,2122]
[21,5832,12,5840,24,5855,23,5860,null,null,0,2122]
[21,5959,12,5968,24,5980,23,5989,null,null,0,2122]
[21,6087,12,6095,24,6103,23,6117,null,null,0,2122]
[21,6215,21,6227,22,6239,23,6265,null,null,0,2222]
[12,6376,23,6398,24,6406,23,6417,null,null,0,1222]
[21,6518,21,6525,11,6531,21,6552,null,null,0,2212]
[21,6640,21,6644,11,6658,21,6673,null,null,0,2212]
[21,6760,21,6764,22,6773,23,6784,null,null,0,2222]
[21,6883,21,6886,11,6896,21,6906,null,null,0,2212]
[21,6997,21,7008,22,7013,23,7020,null,null,0,2222]
[21,7117,21,7121,22,7125,23,7131,null,null,0,2222]
[21,7232,21,7237,11,7244,21,7255,null,null,0,2212]
[21,7361,21,7367,11,7374,21,7398,null,null,0,2212]
[21,7487,21,7491,11,7500,21,7508,null,null,0,2212]
[21,7600,21,7610,11,7620,21,7668,null,null,0,2212]
[21,7757,21,7764,11,7771,21,7779,null,null,0,2212]
[21,7869,21,7873,11,7882,21,7909,null,null,0,2212]
[21,7998,21,8007,22,8015,14,8024,null,null,0,2221]
[21,8131,12,8137,24,8153,23,8166,null,null,0,2122]
[21,8270,12,8278,24,8306,23,8347,null,null,0,2122]
[21,8462,21,8474,11,8492,21,8498,null,null,0,2212]
[21,8591,21,8598,11,8606,21,8620,null,null,0,2212]
[21,8709,21,8714,11,8722,21,8753,null,null,0,2212]
[21,8843,21,8850,22,8867,14,8876,null,null,0,2221]
[21,8974,21,8979,11,8986,21,9020,null,null,0,2212]
[21,9107,21,9114,22,9130,14,9137,null,null,0,2221]
[21,9234,21,9238,11,9245,21,9264,null,null,0,2212]
[21,9351,21,9355,22,9371,23,9386,null,null,0,2222]
[21,9482,21,9488,22,9507,23,9519,null,null,0,2222]
[21,9616,12,9634,24,9648,23,9663,null,null,0,2122]
[21,9768,12,9774,24,9788,23,9800,null,null,0,2122]
[21,9900,12,9907,24,9915,23,9925,null,null,0,2122]
[21,10021,12,10030,24,10054,23,10074,null,null,0,2122]
[21,10175,12,10183,24,10190,23,10202,null,null,0,2122]
[21,10300,21,10305,11,10311,21,10331,null,null,0,2212]
[21,10417,21,10421,11,10429,21,10448,null,null,0,2212]
[21,10539,12,10546,24,10558,14,10568,null,null,0,2121]
[21,10664,21,10668,11,10680,21,10703,null,null,0,2212]
[21,10794,21,10802,11,10808,21,10826,null,null,0,2212]
[21,10917,21,10932,11,10941,21,10979,null,null,0,2212]
[21,11066,21,11073,22,11083,23,11121,null,null,0,2222]
[21,11220,12,11228,24,11238,23,11289,null,null,0,2122]
[21,11386,12,11412,24,11434,23,11441,null,null,0,2122]
[21,11537,21,11541,11,11549,21,11560,null,null,0,2212]
[21,11647,21,11658,11,11665,21,11673,null,null,0,2212]
[21,11762,21,11766,22,11772,14,11780,null,null,0,2221]
[21,11883,12,11890,24,11911,23,11935,null,null,0,2122]
[21,12032,12,12040,24,12049,23,12057,null,null,0,2122]
[21,12157,12,12164,24,12190,23,12223,null,null,0,2122]
[12,12330,23,12339,24,12347,23,12358,null,null,0,1222]
[21,12454,21,12458,11,12465,21,12477,null,null,0,2212]
[21,12565,21,12569,11,12582,21,12616,null,null,0,2212]
[21,12703,21,12707,11,12717,21,12733,null,null,0,2212]
[21,12824,12,12843,24,12878,23,12899,null,null,0,2122]
[21,12995,21,12999,11,13007,21,13019,null,null,0,2212]
[21,13106,21,13110,22,13120,23,13127,null,null,0,2222]
[21,13229,12,13237,24,13269,23,13288,null,null,0,2122]
[21,13385,21,13389,22,13400,23,13411,null,null,0,2222]
[21,13507,21,13511,22,13519,14,13526,null,null,0,2221]
[21,13623,12,13630,24,13641,23,13655,null,null,0,2122]
[21,13752,21,13756,22,13760,14,13767,null,null,0,2221]
[21,13864,21,13870,11,13876,21,13883,null,null,0,2212]
[21,13974,21,13982,11,13989,21,14004,null,null,0,2212]
[12,14109,23,14120,24,14132,23,14140,null,null,0,1222]
[21,14238,12,14244,24,14263,23,14273,null,null,0,2122]
[21,14369,21,14374,11,14381,21,14393,null,null,1,2212]

{"sheet":"!MB20C50.096","index":30,"n_rows":123,"n_cols":48,"rows_kept":123,"cut":false,"hidden":false,"merged":[[4,39,4,42],[5,39,5,40],[4,44,4,47],[5,44,5,45],[4,24,4,27],[5,24,5,25],[4,29,4,32],[5,29,5,30],[4,34,4,37],[5,34,5,35],[1,1,1,2],[5,13,5,14],[26,13,26,14],[27,13,27,14],[4,19,4,22],[5,19,5,20]]}
["Report for:!MB20C50.096"]
["Date:","<date>"]
["Hen:","<hen>",null,null,null,"Correct Sequence",{"$f":"Start!J2","v":2212},null,null,null,null,null,null,null,null,"Total Sequences in Data",{"$f":"4994-COUNTBLANK(L7:L5000)","v":117},null,null,null,null,"Total Sequences in Block Data",{"$f":"COUNTA(L7:L26)","v":20},null,null,null,"Total Sequences in Block Data",{"$f":"COUNTA(L27:L45)","v":19},null,null,null,"Total Sequences in Block Data",{"$f":"COUNTA(L46:L65)","v":20},null,null,null,"Total Sequences in Block Data",{"$f":"COUNTA(L66:L84)","v":19},null,null,null,"Total Sequences in Block Data",{"$f":"COUNTA(L85:L104)","v":20},null,null,null,"Total Sequences in Block Data",{"$f":"COUNTA(L105:L123)","v":19}]
[null,null,null,null,null,null,null,null,null,null,null,null,null,null,null,"Total Sequences in Summary",{"$f":"SUM(O7:O22)","v":117},null,null,null,null,"Total Sequences in Block Summary",{"$f":"SUM(U7:U22)","v":20},null,null,null,"Total Sequences in Block Summary",{"$f":"SUM(Z7:Z22)","v":19},null,null,null,"Total Sequences in Block Summary",{"$f":"SUM(AE7:AE22)","v":20},null,null,null,"Total Sequences in Block Summary",{"$f":"SUM(AJ7:AJ22)","v":19},null,null,null,"Total Sequences in Block Summary",{"$f":"SUM(AO7:AO22)","v":20},null,null,null,"Total Sequences in Block Summary",{"$f":"SUM(AT7:AT22)","v":19}]
[null,null,null,null,null,null,null,null,null,null,null,null,null,null,null,null,null,null,null,"Block 1",null,null,null,null,"Block 2",null,null,null,null,"Block 3",null,null,null,null,"Block 4",null,null,null,null,"Block 5",null,null,null,null,"Block 6"]
["Sequence\nComponent\n1","Time\n1","Sequence\nComponent\n2","Time\n2","Sequence\nComponent\n3","Time\n3","Sequence\nComponent\n4","Time\n4","Sequence\nComponent\n5","Time\n5","Correct?\n0=No 1=Yes","Sequence",null,"Frequency",null,"Relative Frequency","Variability",null,null,"Frequency",null,"Relative Frequency","Variability",null,"Frequency",null,"Relative Frequency","Variability",null,"Frequency",null,"Relative Frequency","Variability",null,"Frequency",null,"Relative Frequency","Variability",null,"Frequency",null,"Relative Frequency","Variability",null,"Frequency",null,"Relative Frequency","Variability"]
[12,9,14,13,24,20,14,34,null,null,0,1121,null,1111,{"$f":"COUNTIF($L$7:$L$500,N7)","v":0},{"$f":"O7/$Q$4","v":0},{"$f":"IF(P7=0,0,(P7*((LOG(P7))/LOG(2))))","v":0},null,null,{"$f":"N7","v":1111},{"$f":"COUNTIF(L7:L26,T7)","v":0},{"$f":"U7/(W4-U20)","v":0},{"$f":"IF(V7=0,0,(V7*((LOG(V7))/LOG(2))))","v":0},null,{"$f":"N7","v":1111},{"$f":"COUNTIF(L27:L45,Y7)","v":0},{"$f":"Z7/(AB4-Z20)","v":0},{"$f":"IF(AA7=0,0,(AA7*((LOG(AA7))/LOG(2))))","v":0},null,{"$f":"N7","v":1111},{"$f":"COUNTIF(L46:L65,AD7)","v":0},{"$f":"AE7/(AG4-AE20)","v":0},{"$f":"IF(AF7=0,0,(AF7*((LOG(AF7))/LOG(2))))","v":0},null,{"$f":"N7","v":1111},{"$f":"COUNTIF(L66:L84,AI7)","v":0},{"$f":"AJ7/(AL4-AJ20)","v":0},{"$f":"IF(AK7=0,0,(AK7*((LOG(AK7))/LOG(2))))","v":0},null,{"$f":"N7","v":1111},{"$f":"COUNTIF(L85:L104,AN7)","v":0},{"$f":"AO7/(AQ4-AO20)","v":0},{"$f":"IF(AP7=0,0,(AP7*((LOG(AP7))/LOG(2))))","v":0},null,{"$f":"N7","v":1111},{"$f":"COUNTIF(L105:L123,AS7)","v":0},{"$f":"AT7/(AV4-AT20)","v":0},{"$f":"IF(AU7=0,0,(AU7*((LOG(AU7))/LOG(2))))","v":0}]
[21,136,12,146,24,153,23,166,null,null,0,2122,null,1112,{"$f":"COUNTIF($L$7:$L$500,N8)","v":0},{"$f":"O8/$Q$4","v":0},{"$f":"IF(P8=0,0,(P8*((LOG(P8))/LOG(2))))","v":0},null,null,{"$f":"N8","v":1112},{"$f":"COUNTIF(L7:L26,T8)","v":0},{"$f":"U8/(W4-U20)","v":0},{"$f":"IF(V8=0,0,(V8*((LOG(V8))/LOG(2))))","v":0},null,{"$f":"N8","v":1112},{"$f":"COUNTIF(L27:L45,Y8)","v":0},{"$f":"Z8/(AB4-Z20)","v":0},{"$f":"IF(AA8=0,0,(AA8*((LOG(AA8))/LOG(2))))","v":0},null,{"$f":"N8","v":1112},{"$f":"COUNTIF(L46:L65,AD8)","v":0},{"$f":"AE8/(AG4-AE20)","v":0},{"$f":"IF(AF8=0,0,(AF8*((LOG(AF8))/LOG(2))))","v":0},null,{"$f":"N8","v":1112},{"$f":"COUNTIF(L66:L84,AI8)","v":0},{"$f":"AJ8/(AL4-AJ20)","v":0},{"$f":"IF(AK8=0,0,(AK8*((LOG(AK8))/LOG(2))))","v":0},null,{"$f":"N8","v":1112},{"$f":"COUNTIF(L85:L104,AN8)","v":0},{"$f":"AO8/(AQ4-AO20)","v":0},{"$f":"IF(AP8=0,0,(AP8*((LOG(AP8))/LOG(2))))","v":0},null,{"$f":"N8","v":1112},{"$f":"COUNTIF(L105:L123,AS8)","v":0},{"$f":"AT8/(AV4-AT20)","v":0},{"$f":"IF(AU8=0,0,(AU8*((LOG(AU8))/LOG(2))))","v":0}]
[21,261,21,265,22,271,14,277,null,null,0,2221,null,1121,{"$f":"COUNTIF($L$7:$L$500,N9)","v":1},{"$f":"O9/$Q$4","v":8.5470085470085479E-3},{"$f":"IF(P9=0,0,(P9*((LOG(P9))/LOG(2))))","v":-5.8721065979345344E-2},null,null,{"$f":"N9","v":1121},{"$f":"COUNTIF(L7:L26,T9)","v":1},{"$f":"U9/(W4-U20)","v":6.6666666666666666E-2},{"$f":"IF(V9=0,0,(V9*((LOG(V9))/LOG(2))))","v":-0.26045937304056793},null,{"$f":"N9","v":1121},{"$f":"COUNTIF(L27:L45,Y9)","v":0},{"$f":"Z9/(AB4-Z20)","v":0},{"$f":"IF(AA9=0,0,(AA9*((LOG(AA9))/LOG(2))))","v":0},null,{"$f":"N9","v":1121},{"$f":"COUNTIF(L46:L65,AD9)","v":0},{"$f":"AE9/(AG4-AE20)","v":0},{"$f":"IF(AF9=0,0,(AF9*((LOG(AF9))/LOG(2))))","v":0},null,{"$f":"N9","v":1121},{"$f":"COUNTIF(L66:L84,AI9)","v":0},{"$f":"AJ9/(AL4-AJ20)","v":0},{"$f":"IF(AK9=0,0,(AK9*((LOG(AK9))/LOG(2))))","v":0},null,{"$f":"N9","v":1121},{"$f":"COUNTIF(L85:L104,AN9)","v":0},{"$f":"AO9/(AQ4-AO20)","v":0},{"$f":"IF(AP9=0,0,(AP9*((LOG(AP9))/LOG(2))))","v":0},null,{"$f":"N9","v":1121},{"$f":"COUNTIF(L105:L123,AS9)","v":0},{"$f":"AT9/(AV4-AT20)","v":0},{"$f":"IF(AU9=0,0,(AU9*((LOG(AU9))/LOG(2))))","v":0}]
[21,375,21,382,11,391,21,397,null,null,0,2212,null,1122,{"$f":"COUNTIF($L$7:$L$500,N10)","v":1},{"$f":"O10/$Q$4","v":8.5470085470085479E-3},{"$f":"IF(P10=0,0,(P10*((LOG(P10))/LOG(2))))","v":-5.8721065979345344E-2},null,null,{"$f":"N10","v":1122},{"$f":"COUNTIF(L7:L26,T10)","v":1},{"$f":"U10/(W4-U20)","v":6.6666666666666666E-2},{"$f":"IF(V10=0,0,(V10*((LOG(V10))/LOG(2))))","v":-0.26045937304056793},null,{"$f":"N10","v":1122},{"$f":"COUNTIF(L27:L45,Y10)","v":0},{"$f":"Z10/(AB4-Z20)","v":0},{"$f":"IF(AA10=0,0,(AA10*((LOG(AA10))/LOG(2))))","v":0},null,{"$f":"N10","v":1122},{"$f":"COUNTIF(L46:L65,AD10)","v":0},{"$f":"AE10/(AG4-AE20)","v":0},{"$f":"IF(AF10=0,0,(AF10*((LOG(AF10))/LOG(2))))","v":0},null,{"$f":"N10","v":1122},{"$f":"COUNTIF(L66:L84,AI10)","v":0},{"$f":"AJ10/(AL4-AJ20)","v":0},{"$f":"IF(AK10=0,0,(AK10*((LOG(AK10))/LOG(2))))","v":0},null,{"$f":"N10","v":1122},{"$f":"COUNTIF(L85:L104,AN10)","v":0},{"$f":"AO10/(AQ4-AO20)","v":0},{"$f":"IF(AP10=0,0,(AP10*((LOG(AP10))/LOG(2))))","v":0},null,{"$f":"N10","v":1122},{"$f":"COUNTIF(L105:L123,AS10)","v":0},{"$f":"AT10/(AV4-AT20)","v":0},{"$f":"IF(AU10=0,0,(AU10*((LOG(AU10))/LOG(2))))","v":0}]
[21,489,12,496,24,516,23,523,null,null,0,2122,null,1211,{"$f":"COUNTIF($L$7:$L$500,N11)","v":0},{"$f":"O11/$Q$4","v":0},{"$f":"IF(P11=0,0,(P11*((LOG(P11))/LOG(2))))","v":0},null,null,{"$f":"N11","v":1211},{"$f":"COUNTIF(L7:L26,T11)","v":0},{"$f":"U11/(W4-U20)","v":0},{"$f":"IF(V11=0,0,(V11*((LOG(V11))/LOG(2))))","v":0},null,{"$f":"N11","v":1211},{"$f":"COUNTIF(L27:L45,Y11)","v":0},{"$f":"Z11/(AB4-Z20)","v":0},{"$f":"IF(AA11=0,0,(AA11*((LOG(AA11))/LOG(2))))","v":0},null,{"$f":"N11","v":1211},{"$f":"COUNTIF(L46:L65,AD11)","v":0},{"$f":"AE11/(AG4-AE20)","v":0},{"$f":"IF(AF11=0,0,(AF11*((LOG(AF11))/LOG(2))))","v":0},null,{"$f":"N11","v":1211},{"$f":"COUNTIF(L66:L84,AI11)","v":0},{"$f":"AJ11/(AL4-AJ20)","v":0},{"$f":"IF(AK11=0,0,(AK11*((LOG(AK11))/LOG(2))))","v":0},null,{"$f":"N11","v":1211},{"$f":"COUNTIF(L85:L104,AN11)","v":0},{"$f":"AO11/(AQ4-AO20)","v":0},{"$f":"IF(AP11=0,0,(AP11*((LOG(AP11))/LOG(2))))","v":0},null,{"$f":"N11","v":1211},{"$f":"COUNTIF(L105:L123,AS11)","v":0},{"$f":"AT11/(AV4-AT20)","v":0},{"$f":"IF(AU11=0,0,(AU11*((LOG(AU11))/LOG(2))))","v":0}]
[21,620,21,624,22,632,14,640,null,null,0,2221,null,1212,{"$f":"COUNTIF($L$7:$L$500,N12)","v":1},{"$f":"O12/$Q$4","v":8.5470085470085479E-3},{"$f":"IF(P12=0,0,(P12*((LOG(P12))/LOG(2))))","v":-5.8721065979345344E-2},null,null,{"$f":"N12","v":1212},{"$f":"COUNTIF(L7:L26,T12)","v":0},{"$f":"U12/(W4-U20)","v":0},{"$f":"IF(V12=0,0,(V12*((LOG(V12))/LOG(2))))","v":0},null,{"$f":"N12","v":1212},{"$f":"COUNTIF(L27:L45,Y12)","v":0},{"$f":"Z12/(AB4-Z20)","v":0},{"$f":"IF(AA12=0,0,(AA12*((LOG(AA12))/LOG(2))))","v":0},null,{"$f":"N12","v":1212},{"$f":"COUNTIF(L46:L65,AD12)","v":0},{"$f":"AE12/(AG4-AE20)","v":0},{"$f":"IF(AF12=0,0,(AF12*((LOG(AF12))/LOG(2))))","v":0},null,{"$f":"N12","v":1212},{"$f":"COUNTIF(L66:L84,AI12)","v":0},{"$f":"AJ12/(AL4-AJ20)","v":0},{"$f":"IF(AK12=0,0,(AK12*((LOG(AK12))/LOG(2))))","v":0},null,{"$f":"N12","v":1212},{"$f":"COUNTIF(L85:L104,AN12)","v":1},{"$f":"AO12/(AQ4-AO20)","v":7.1428571428571425E-2},{"$f":"IF(AP12=0,0,(AP12*((LOG(AP12))/LOG(2))))","v":-0.27195392300411453},null,{"$f":"N12","v":1212},{"$f":"COUNTIF(L105:L123,AS12)","v":0},{"$f":"AT12/(AV4-AT20)","v":0},{"$f":"IF(AU12=0,0,(AU12*((LOG(AU12))/LOG(2))))","v":0}]
[12,745,23,752,24,759,23,772,null,null,0,1222,null,1221,{"$f":"COUNTIF($L$7:$L$500,N13)","v":0},{"$f":"O13/$Q$4","v":0},{"$f":"IF(P13=0,0,(P13*((LOG(P13))/LOG(2))))","v":0},null,null,{"$f":"N13","v":1221},{"$f":"COUNTIF(L7:L26,T13)","v":0},{"$f":"U13/(W4-U20)","v":0},{"$f":"IF(V13=0,0,(V13*((LOG(V13))/LOG(2))))","v":0},null,{"$f":"N13","v":1221},{"$f":"COUNTIF(L27:L45,Y13)","v":0},{"$f":"Z13/(AB4-Z20)","v":0},{"$f":"IF(AA13=0,0,(AA13*((LOG(AA13))/LOG(2))))","v":0},null,{"$f":"N13","v":1221},{"$f":"COUNTIF(L46:L65,AD13)","v":0},{"$f":"AE13/(AG4-AE20)","v":0},{"$f":"IF(AF13=0,0,(AF13*((LOG(AF13))/LOG(2))))","v":0},null,{"$f":"N13","v":1221},{"$f":"COUNTIF(L66:L84,AI13)","v":0},{"$f":"AJ13/(AL4-AJ20)","v":0},{"$f":"IF(AK13=0,0,(AK13*((LOG(AK13))/LOG(2))))","v":0},null,{"$f":"N13","v":1221},{"$f":"COUNTIF(L85:L104,AN13)","v":0},{"$f":"AO13/(AQ4-AO20)","v":0},{"$f":"IF(AP13=0,0,(AP13*((LOG(AP13))/LOG(2))))","v":0},null,{"$f":"N13","v":1221},{"$f":"COUNTIF(L105:L123,AS13)","v":0},{"$f":"AT13/(AV4-AT20)","v":0},{"$f":"IF(AU13=0,0,(AU13*((LOG(AU13))/LOG(2))))","v":0}]
[21,879,12,886,24,892,23,908,null,null,0,2122,null,1222,{"$f":"COUNTIF($L$7:$L$500,N14)","v":3},{"$f":"O14/$Q$4","v":2.564102564102564E-2},{"$f":"IF(P14=0,0,(P14*((LOG(P14))/LOG(2))))","v":-0.13552313381698072},null,null,{"$f":"N14","v":1222},{"$f":"COUNTIF(L7:L26,T14)","v":1},{"$f":"U14/(W4-U20)","v":6.6666666666666666E-2},{"$f":"IF(V14=0,0,(V14*((LOG(V14))/LOG(2))))","v":-0.26045937304056793},null,{"$f":"N14","v":1222},{"$f":"COUNTIF(L27:L45,Y14)","v":0},{"$f":"Z14/(AB4-Z20)","v":0},{"$f":"IF(AA14=0,0,(AA14*((LOG(AA14))/LOG(2))))","v":0},null,{"$f":"N14","v":1222},{"$f":"COUNTIF(L46:L65,AD14)","v":1},{"$f":"AE14/(AG4-AE20)","v":6.6666666666666666E-2},{"$f":"IF(AF14=0,0,(AF14*((LOG(AF14))/LOG(2))))","v":-0.26045937304056793},null,{"$f":"N14","v":1222},{"$f":"COUNTIF(L66:L84,AI14)","v":0},{"$f":"AJ14/(AL4-AJ20)","v":0},{"$f":"IF(AK14=0,0,(AK14*((LOG(AK14))/LOG(2))))","v":0},null,{"$f":"N14","v":1222},{"$f":"COUNTIF(L85:L104,AN14)","v":1},{"$f":"AO14/(AQ4-AO20)","v":7.1428571428571425E-2},{"$f":"IF(AP14=0,0,(AP14*((LOG(AP14))/LOG(2))))","v":-0.27195392300411453},null,{"$f":"N14","v":1222},{"$f":"COUNTIF(L105:L123,AS14)","v":0},{"$f":"AT14/(AV4-AT20)","v":0},{"$f":"IF(AU14=0,0,(AU14*((LOG(AU14))/LOG(2))))","v":0}]
[21,1004,21,1015,11,1021,21,1028,null,null,0,2212,null,2111,{"$f":"COUNTIF($L$7:$L$500,N15)","v":0},{"$f":"O15/$Q$4","v":0},{"$f":"IF(P15=0,0,(P15*((LOG(P15))/LOG(2))))","v":0},null,null,{"$f":"N15","v":2111},{"$f":"COUNTIF(L7:L26,T15)","v":0},{"$f":"U15/(W4-U20)","v":0},{"$f":"IF(V15=0,0,(V15*((LOG(V15))/LOG(2))))","v":0},null,{"$f":"N15","v":2111},{"$f":"COUNTIF(L27:L45,Y15)","v":0},{"$f":"Z15/(AB4-Z20)","v":0},{"$f":"IF(AA15=0,0,(AA15*((LOG(AA15))/LOG(2))))","v":0},null,{"$f":"N15","v":2111},{"$f":"COUNTIF(L46:L65,AD15)","v":0},{"$f":"AE15/(AG4-AE20)","v":0},{"$f":"IF(AF15=0,0,(AF15*((LOG(AF15))/LOG(2))))","v":0},null,{"$f":"N15","v":2111},{"$f":"COUNTIF(L66:L84,AI15)","v":0},{"$f":"AJ15/(AL4-AJ20)","v":0},{"$f":"IF(AK15=0,0,(AK15*((LOG(AK15))/LOG(2))))","v":0},null,{"$f":"N15","v":2111},{"$f":"COUNTIF(L85:L104,AN15)","v":0},{"$f":"AO15/(AQ4-AO20)","v":0},{"$f":"IF(AP15=0,0,(AP15*((LOG(AP15))/LOG(2))))","v":0},null,{"$f":"N15","v":2111},{"$f":"COUNTIF(L105:L123,AS15)","v":0},{"$f":"AT15/(AV4-AT20)","v":0},{"$f":"IF(AU15=0,0,(AU15*((LOG(AU15))/LOG(2))))","v":0}]
[12,1129,14,1162,24,1167,23,1185,null,null,0,1122,null,2112,{"$f":"COUNTIF($L$7:$L$500,N16)","v":2},{"$f":"O16/$Q$4","v":1.7094017094017096E-2},{"$f":"IF(P16=0,0,(P16*((LOG(P16))/LOG(2))))","v":-0.1003481148646736},null,null,{"$f":"N16","v":2112},{"$f":"COUNTIF(L7:L26,T16)","v":0},{"$f":"U16/(W4-U20)","v":0},{"$f":"IF(V16=0,0,(V16*((LOG(V16))/LOG(2))))","v":0},null,{"$f":"N16","v":2112},{"$f":"COUNTIF(L27:L45,Y16)","v":0},{"$f":"Z16/(AB4-Z20)","v":0},{"$f":"IF(AA16=0,0,(AA16*((LOG(AA16))/LOG(2))))","v":0},null,{"$f":"N16","v":2112},{"$f":"COUNTIF(L46:L65,AD16)","v":1},{"$f":"AE16/(AG4-AE20)","v":6.6666666666666666E-2},{"$f":"IF(AF16=0,0,(AF16*((LOG(AF16))/LOG(2))))","v":-0.26045937304056793},null,{"$f":"N16","v":2112},{"$f":"COUNTIF(L66:L84,AI16)","v":0},{"$f":"AJ16/(AL4-AJ20)","v":0},{"$f":"IF(AK16=0,0,(AK16*((LOG(AK16))/LOG(2))))","v":0},null,{"$f":"N16","v":2112},{"$f":"COUNTIF(L85:L104,AN16)","v":0},{"$f":"AO16/(AQ4-AO20)","v":0},{"$f":"IF(AP16=0,0,(AP16*((LOG(AP16))/LOG(2))))","v":0},null,{"$f":"N16","v":2112},{"$f":"COUNTIF(L105:L123,AS16)","v":1},{"$f":"AT16/(AV4-AT20)","v":0.1},{"$f":"IF(AU16=0,0,(AU16*((LOG(AU16))/LOG(2))))","v":-0.33219280948873625}]
[21,1285,12,1292,24,1297,23,1322,null,null,0,2122,null,2121,{"$f":"COUNTIF($L$7:$L$500,N17)","v":5},{"$f":"O17/$Q$4","v":4.2735042735042736E-2},{"$f":"IF(P17=0,0,(P17*((LOG(P17))/LOG(2))))","v":-0.19437763353401891},null,null,{"$f":"N17","v":2121},{"$f":"COUNTIF(L7:L26,T17)","v":0},{"$f":"U17/(W4-U20)","v":0},{"$f":"IF(V17=0,0,(V17*((LOG(V17))/LOG(2))))","v":0},null,{"$f":"N17","v":2121},{"$f":"COUNTIF(L27:L45,Y17)","v":0},{"$f":"Z17/(AB4-Z20)","v":0},{"$f":"IF(AA17=0,0,(AA17*((LOG(AA17))/LOG(2))))","v":0},null,{"$f":"N17","v":2121},{"$f":"COUNTIF(L46:L65,AD17)","v":1},{"$f":"AE17/(AG4-AE20)","v":6.6666666666666666E-2},{"$f":"IF(AF17=0,0,(AF17*((LOG(AF17))/LOG(2))))","v":-0.26045937304056793},null,{"$f":"N17","v":2121},{"$f":"COUNTIF(L66:L84,AI17)","v":1},{"$f":"AJ17/(AL4-AJ20)","v":7.1428571428571425E-2},{"$f":"IF(AK17=0,0,(AK17*((LOG(AK17))/LOG(2))))","v":-0.27195392300411453},null,{"$f":"N17","v":2121},{"$f":"COUNTIF(L85:L104,AN17)","v":2},{"$f":"AO17/(AQ4-AO20)","v":0.14285714285714285},{"$f":"IF(AP17=0,0,(AP17*((LOG(AP17))/LOG(2))))","v":-0.40105070315108626},null,{"$f":"N17","v":2121},{"$f":"COUNTIF(L105:L123,AS17)","v":1},{"$f":"AT17/(AV4-AT20)","v":0.1},{"$f":"IF(AU17=0,0,(AU17*((LOG(AU17))/LOG(2))))","v":-0.33219280948873625}]
[21,1428,12,1436,24,1445,23,1461,null,null,0,2122,null,2122,{"$f":"COUNTIF($L$7:$L$500,N18)","v":34},{"$f":"O18/$Q$4","v":0.29059829059829062},{"$f":"IF(P18=0,0,(P18*((LOG(P18))/LOG(2))))","v":-0.51810823814807017},null,null,{"$f":"N18","v":2122},{"$f":"COUNTIF(L7:L26,T18)","v":6},{"$f":"U18/(W4-U20)","v":0.4},{"$f":"IF(V18=0,0,(V18*((LOG(V18))/LOG(2))))","v":-0.52877123795494496},null,{"$f":"N18","v":2122},{"$f":"COUNTIF(L27:L45,Y18)","v":4},{"$f":"Z18/(AB4-Z20)","v":0.44444444444444442},{"$f":"IF(AA18=0,0,(AA18*((LOG(AA18))/LOG(2))))","v":-0.51996666730769447},null,{"$f":"N18","v":2122},{"$f":"COUNTIF(L46:L65,AD18)","v":3},{"$f":"AE18/(AG4-AE20)","v":0.2},{"$f":"IF(AF18=0,0,(AF18*((LOG(AF18))/LOG(2))))","v":-0.46438561897747244},null,{"$f":"N18","v":2122},{"$f":"COUNTIF(L66:L84,AI18)","v":9},{"$f":"AJ18/(AL4-AJ20)","v":0.6428571428571429},{"$f":"IF(AK18=0,0,(AK18*((LOG(AK18))/LOG(2))))","v":-0.40977637753840174},null,{"$f":"N18","v":2122},{"$f":"COUNTIF(L85:L104,AN18)","v":6},{"$f":"AO18/(AQ4-AO20)","v":0.42857142857142855},{"$f":"IF(AP18=0,0,(AP18*((LOG(AP18))/LOG(2))))","v":-0.52388246628704915},null,{"$f":"N18","v":2122},{"$f":"COUNTIF(L105:L123,AS18)","v":6},{"$f":"AT18/(AV4-AT20)","v":0.6},{"$f":"IF(AU18=0,0,(AU18*((LOG(AU18))/LOG(2))))","v":-0.44217935649972373}]
[21,1564,12,1571,24,1578,23,1591,null,null,0,2122,null,2211,{"$f":"COUNTIF($L$7:$L$500,N19)","v":1},{"$f":"O19/$Q$4","v":8.5470085470085479E-3},{"$f":"IF(P19=0,0,(P19*((LOG(P19))/LOG(2))))","v":-5.8721065979345344E-2},null,null,{"$f":"N19","v":2211},{"$f":"COUNTIF(L7:L26,T19)","v":0},{"$f":"U19/(W4-U20)","v":0},{"$f":"IF(V19=0,0,(V19*((LOG(V19))/LOG(2))))","v":0},null,{"$f":"N19","v":2211},{"$f":"COUNTIF(L27:L45,Y19)","v":0},{"$f":"Z19/(AB4-Z20)","v":0},{"$f":"IF(AA19=0,0,(AA19*((LOG(AA19))/LOG(2))))","v":0},null,{"$f":"N19","v":2211},{"$f":"COUNTIF(L46:L65,AD19)","v":0},{"$f":"AE19/(AG4-AE20)","v":0},{"$f":"IF(AF19=0,0,(AF19*((LOG(AF19))/LOG(2))))","v":0},null,{"$f":"N19","v":2211},{"$f":"COUNTIF(L66:L84,AI19)","v":0},{"$f":"AJ19/(AL4-AJ20)","v":0},{"$f":"IF(AK19=0,0,(AK19*((LOG(AK19))/LOG(2))))","v":0},null,{"$f":"N19","v":2211},{"$f":"COUNTIF(L85:L104,AN19)","v":0},{"$f":"AO19/(AQ4-AO20)","v":0},{"$f":"IF(AP19=0,0,(AP19*((LOG(AP19))/LOG(2))))","v":0},null,{"$f":"N19","v":2211},{"$f":"COUNTIF(L105:L123,AS19)","v":1},{"$f":"AT19/(AV4-AT20)","v":0.1},{"$f":"IF(AU19=0,0,(AU19*((LOG(AU19))/LOG(2))))","v":-0.33219280948873625}]
[21,1698,21,1703,11,1710,21,1718,null,null,0,2212,null,2212,{"$f":"COUNTIF($L$7:$L$500,N20)","v":40},{"$f":"O20/$Q$4","v":0.34188034188034189},{"$f":"IF(P20=0,0,(P20*((LOG(P20))/LOG(2))))","v":-0.52938004263112548},null,null,{"$f":"N20","v":2212},{"$f":"COUNTIF(L7:L26,T20)","v":5},null,null,null,{"$f":"N20","v":2212},{"$f":"COUNTIF(L27:L45,Y20)","v":10},null,null,null,{"$f":"N20","v":2212},{"$f":"COUNTIF(L46:L65,AD20)","v":5},null,null,null,{"$f":"N20","v":2212},{"$f":"COUNTIF(L66:L84,AI20)","v":5},null,null,null,{"$f":"N20","v":2212},{"$f":"COUNTIF(L85:L104,AN20)","v":6},null,null,null,{"$f":"N20","v":2212},{"$f":"COUNTIF(L105:L123,AS20)","v":9}]
[21,1805,21,1809,11,1816,21,1824,null,null,0,2212,null,2221,{"$f":"COUNTIF($L$7:$L$500,N21)","v":13},{"$f":"O21/$Q$4","v":0.1111111111111111},{"$f":"IF(P21=0,0,(P21*((LOG(P21))/LOG(2))))","v":-0.3522138890491458},null,null,{"$f":"N21","v":2221},{"$f":"COUNTIF(L7:L26,T21)","v":5},{"$f":"U21/(W4-U20)","v":0.33333333333333331},{"$f":"IF(V21=0,0,(V21*((LOG(V21))/LOG(2))))","v":-0.52832083357371862},null,{"$f":"N21","v":2221},{"$f":"COUNTIF(L27:L45,Y21)","v":2},{"$f":"Z21/(AB4-Z20)","v":0.22222222222222221},{"$f":"IF(AA21=0,0,(AA21*((LOG(AA21))/LOG(2))))","v":-0.48220555587606945},null,{"$f":"N21","v":2221},{"$f":"COUNTIF(L46:L65,AD21)","v":2},{"$f":"AE21/(AG4-AE20)","v":0.13333333333333333},{"$f":"IF(AF21=0,0,(AF21*((LOG(AF21))/LOG(2))))","v":-0.3875854127478025},null,{"$f":"N21","v":2221},{"$f":"COUNTIF(L66:L84,AI21)","v":0},{"$f":"AJ21/(AL4-AJ20)","v":0},{"$f":"IF(AK21=0,0,(AK21*((LOG(AK21))/LOG(2))))","v":0},null,{"$f":"N21","v":2221},{"$f":"COUNTIF(L85:L104,AN21)","v":4},{"$f":"AO21/(AQ4-AO20)","v":0.2857142857142857},{"$f":"IF(AP21=0,0,(AP21*((LOG(AP21))/LOG(2))))","v":-0.51638712058788683},null,{"$f":"N21","v":2221},{"$f":"COUNTIF(L105:L123,AS21)","v":0},{"$f":"AT21/(AV4-AT20)","v":0},{"$f":"IF(AU21=0,0,(AU21*((LOG(AU21))/LOG(2))))","v":0}]
[21,1921,21,1930,11,1937,21,1943,null,null,0,2212,null,2222,{"$f":"COUNTIF($L$7:$L$500,N22)","v":16},{"$f":"O22/$Q$4","v":0.13675213675213677},{"$f":"IF(P22=0,0,(P22*((LOG(P22))/LOG(2))))","v":-0.39252850866097844},null,null,{"$f":"N22","v":2222},{"$f":"COUNTIF(L7:L26,T22)","v":1},{"$f":"U22/(W4-U20)","v":6.6666666666666666E-2},{"$f":"IF(V22=0,0,(V22*((LOG(V22))/LOG(2))))","v":-0.26045937304056793},null,{"$f":"N22","v":2222},{"$f":"COUNTIF(L27:L45,Y22)","v":3},{"$f":"Z22/(AB4-Z20)","v":0.33333333333333331},{"$f":"IF(AA22=0,0,(AA22*((LOG(AA22))/LOG(2))))","v":-0.52832083357371862},null,{"$f":"N22","v":2222},{"$f":"COUNTIF(L46:L65,AD22)","v":7},{"$f":"AE22/(AG4-AE20)","v":0.46666666666666667},{"$f":"IF(AF22=0,0,(AF22*((LOG(AF22))/LOG(2))))","v":-0.51311664765709342},null,{"$f":"N22","v":2222},{"$f":"COUNTIF(L66:L84,AI22)","v":4},{"$f":"AJ22/(AL4-AJ20)","v":0.2857142857142857},{"$f":"IF(AK22=0,0,(AK22*((LOG(AK22))/LOG(2))))","v":-0.51638712058788683},null,{"$f":"N22","v":2222},{"$f":"COUNTIF(L85:L104,AN22)","v":0},{"$f":"AO22/(AQ4-AO20)","v":0},{"$f":"IF(AP22=0,0,(AP22*((LOG(AP22))/LOG(2))))","v":0},null,{"$f":"N22","v":2222},{"$f":"COUNTIF(L105:L123,AS22)","v":1},{"$f":"AT22/(AV4-AT20)","v":0.1},{"$f":"IF(AU22=0,0,(AU22*((LOG(AU22))/LOG(2))))","v":-0.33219280948873625}]
[21,2033,21,2049,22,2053,14,2060,null,null,0,2221,null,null,null,{"$f":"SUM(P7:P22)","v":1},{"$f":"-SUM(Q7:Q22)","v":2.4573638246223748},null,null,null,null,{"$f":"SUM(V7:V22)","v":1},{"$f":"-SUM(W7:W22)","v":2.0989295636909353},null,null,null,{"$f":"SUM(AA7:AA22)","v":1},{"$f":"-SUM(AB7:AB22)","v":1.5304930567574826},null,null,null,{"$f":"SUM(AF7:AF22)","v":1},{"$f":"-SUM(AG7:AG22)","v":2.1464657985040718},null,null,null,{"$f":"SUM(AK7:AK22)","v":1},{"$f":"-SUM(AL7:AL22)","v":1.1981174211304031},null,null,null,{"$f":"SUM(AP7:AP22)","v":0.99999999999999989},{"$f":"-SUM(AQ7:AQ22)","v":1.9852281360342512},null,null,null,{"$f":"SUM(AU7:AU22)","v":1},{"$f":"-SUM(AV7:AV22)","v":1.7709505944546688}]
[21,2167,21,2180,22,2191,23,2202,null,null,0,2222,null,null,null,"U=",{"$f":"Q23/(LOG(Q4)/LOG(2))","v":0.35767589129844346},null,null,null,null,"U1=",{"$f":"W23/(LOG(W4)/LOG(2))","v":0.4856465719950015},null,null,null,"U2=",{"$f":"AB23/(LOG(AB4)/LOG(2))","v":0.3602917074064636},null,null,null,"U3=",{"$f":"AG23/(LOG(AG4)/LOG(2))","v":0.4966454210664078},null,null,null,"U4=",{"$f":"AL23/(LOG(AL4)/LOG(2))","v":0.28204752019394708},null,null,null,"U5=",{"$f":"AQ23/(LOG(AQ4)/LOG(2))","v":0.4593385388300843},null,null,null,"U6=",{"$f":"AV23/(LOG(AV4)/LOG(2))","v":0.41689755506657566}]
[21,2300,21,2312,22,2320,14,2330,null,null,0,2221]
[21,2430,21,2434,22,2439,14,2447,null,null,0,2221]
[21,2549,12,2557,24,2575,23,2593,null,null,0,2122,null,"Total Target Seq"]
[21,2718,21,2729,22,2765,23,2773,null,null,0,2222,null,{"$f":"COUNTIF(L7:L123,G3)","v":40},null,20,19,20,19,20,19]
[21,2871,21,2878,11,2886,21,2911,null,null,0,2212,null,null,null,"% of reinforcement given in 6 equal intervals based on number of trials "]
[21,3005,21,3017,22,3039,23,3053,null,null,0,2222,null,null,null,"%_1","%_2","%_3","%_4","%_5","%_6"]
[21,3152,21,3168,11,3177,21,3195,null,null,0,2212,null,null,"target sequence",{"$f":"$G$3","v":2212},{"$f":"$G$3","v":2212},{"$f":"$G$3","v":2212},{"$f":"$G$3","v":2212},{"$f":"$G$3","v":2212},{"$f":"$G$3","v":2212}]
[21,3284,21,3295,11,3302,21,3308,null,null,0,2212,null,null,"total reinforcement",{"$f":"U20","v":5},{"$f":"Z20","v":10},{"$f":"AE20","v":5},{"$f":"AJ20","v":5},{"$f":"AO20","v":6},{"$f":"AT20","v":9}]
[21,3396,21,3400,22,3405,23,3435,null,null,0,2222,null,null,"% target"]
[21,3539,12,3547,24,3555,23,3582,null,null,0,2122,null,null,"CCRF"]
[21,3681,21,3686,11,3696,21,3701,null,null,0,2212,null,null,"% CCRf"]
[21,3800,21,3804,11,3811,21,3834,null,null,0,2212,null,null,"average response rate",{"$f":"H26/P28","v":122.35},{"$f":"(H45-H26)/Q28","v":132.78947368421052},{"$f":"(H65-H45)/R28","v":132.80000000000001},{"$f":"(H84-H65)/S28","v":129.36842105263159},{"$f":"(H104-H84)/T28","v":131.5},{"$f":"(H123-H104)/U28","v":125.05263157894737}]
[21,3921,21,3925,22,3949,14,3957,null,null,0,2221]
[21,4056,21,4064,11,4071,21,4088,null,null,0,2212]
[21,4186,12,4195,24,4207,23,4215,null,null,0,2122]
[21,4312,21,4316,11,4323,21,4335,null,null,0,2212]
[21,4425,21,4429,11,4436,21,4443,null,null,0,2212]
[21,4536,12,4543,24,4564,23,4588,null,null,0,2122]
[21,4686,21,4692,22,4711,14,4719,null,null,0,2221]
[21,4818,21,4822,11,4828,21,4839,null,null,0,2212]
[21,4943,21,4954,11,4964,21,4970,null,null,0,2212]
[21,5068,21,5076,11,5101,21,5125,null,null,0,2212]
[21,5219,21,5227,22,5245,23,5254,null,null,0,2222]
[21,5351,21,5355,22,5376,23,5391,null,null,0,2222]
[21,5488,21,5493,22,5507,23,5515,null,null,0,2222]
[21,5611,21,5615,11,5622,21,5636,null,null,0,2212]
[21,5733,21,5737,11,5745,21,5756,null,null,0,2212]
[21,5844,21,5861,11,5868,21,5875,null,null,0,2212]
[12,5978,23,5988,24,6007,23,6028,null,null,0,1222]
[21,6137,12,6143,24,6162,23,6175,null,null,0,2122]
[21,6272,21,6275,22,6294,23,6306,null,null,0,2222]
[21,6402,21,6407,22,6421,23,6432,null,null,0,2222]
[21,6527,21,6545,22,6556,14,6563,null,null,0,2221]
[21,6663,21,6681,22,6688,23,6696,null,null,0,2222]
[21,6803,21,6824,22,6835,23,6841,null,null,0,2222]
[21,6941,12,6948,24,6958,23,6968,null,null,0,2122]
[21,7068,12,7075,24,7090,23,7106,null,null,0,2122]
[21,7207,12,7213,24,7233,14,7250,null,null,0,2121]
[21,7346,12,7354,13,7371,23,7381,null,null,0,2112]
[21,7479,21,7492,22,7503,14,7510,null,null,0,2221]
[21,7606,21,7610,11,7619,21,7626,null,null,0,2212]
[21,7713,21,7717,22,7731,23,7738,null,null,0,2222]
[21,7839,12,7850,24,7861,23,7865,null,null,0,2122]
[21,7964,21,7985,11,7991,21,7997,null,null,0,2212]
[21,8083,21,8088,22,8094,23,8111,null,null,0,2222]
[21,8209,21,8214,11,8221,21,8235,null,null,0,2212]
[21,8329,12,8336,24,8354,23,8367,null,null,0,2122]
[21,8473,12,8479,24,8490,23,8501,null,null,0,2122]
[21,8606,12,8613,24,8622,23,8630,null,null,0,2122]
[21,8732,12,8739,24,8748,23,8758,null,null,0,2122]
[21,8856,21,8861,11,8867,21,8885,null,null,0,2212]
[21,8976,12,8982,24,9011,23,9068,null,null,0,2122]
[21,9165,12,9172,24,9177,14,9185,null,null,0,2121]
[21,9283,21,9290,11,9297,21,9301,null,null,0,2212]
[21,9389,21,9394,11,9400,21,9415,null,null,0,2212]
[21,9507,21,9511,22,9518,23,9533,null,null,0,2222]
[21,9637,12,9644,24,9678,23,9697,null,null,0,2122]
[21,9800,12,9806,24,9817,23,9828,null,null,0,2122]
[21,9929,12,9936,24,9951,23,9959,null,null,0,2122]
[21,10055,21,10059,22,10077,23,10084,null,null,0,2222]
[21,10182,12,10187,24,10194,23,10203,null,null,0,2122]
[21,10300,21,10309,11,10315,21,10320,null,null,0,2212]
[21,10412,12,10420,24,10436,23,10453,null,null,0,2122]
[21,10557,12,10564,24,10581,23,10593,null,null,0,2122]
[12,10697,23,10702,13,10712,23,10719,null,null,0,1212]
[21,10818,21,10823,11,10830,21,10841,null,null,0,2212]
[21,10929,21,10936,22,10952,14,10967,null,null,0,2221]
[21,11070,21,11080,22,11085,14,11097,null,null,0,2221]
[21,11194,21,11198,11,11205,21,11226,null,null,0,2212]
[21,11316,21,11327,11,11337,21,11344,null,null,0,2212]
[21,11435,21,11448,22,11470,14,11491,null,null,0,2221]
[21,11587,21,11591,22,11605,14,11621,null,null,0,2221]
[21,11718,21,11722,11,11729,21,11747,null,null,0,2212]
[21,11835,12,11846,24,11853,14,11868,null,null,0,2121]
[21,11965,21,11969,11,11976,21,11992,null,null,0,2212]
[21,12088,12,12096,24,12121,23,12131,null,null,0,2122]
[21,12234,12,12240,24,12251,14,12259,null,null,0,2121]
[21,12371,12,12378,24,12409,23,12419,null,null,0,2122]
[21,12521,12,12540,24,12546,23,12553,null,null,0,2122]
[12,12669,23,12697,24,12706,23,12714,null,null,0,1222]
[21,12810,12,12818,24,12829,23,12846,null,null,0,2122]
[21,12941,21,12945,11,12952,12,12971,null,null,0,2211]
[21,13065,12,13071,13,13084,23,13094,null,null,0,2112]
[21,13191,21,13195,11,13202,21,13221,null,null,0,2212]
[21,13309,21,13313,11,13320,21,13327,null,null,0,2212]
[21,13421,12,13429,24,13450,23,13461,null,null,0,2122]
[21,13558,21,13578,11,13588,21,13604,null,null,0,2212]
[21,13699,12,13707,24,13716,23,13749,null,null,0,2122]
[21,13847,21,13851,22,13872,23,13886,null,null,0,2222]
[21,13981,21,13985,11,13992,21,14003,null,null,0,2212]
[21,14087,21,14091,11,14098,21,14109,null,null,0,2212]
[21,14197,12,14212,24,14224,23,14235,null,null,0,2122]
[21,14332,21,14339,11,14345,21,14360,null,null,0,2212]
[21,14451,12,14457,24,14468,23,14480,null,null,0,2122]
[21,14576,12,14583,24,14588,14,14597,null,null,0,2121]
[21,14697,12,14704,24,14714,23,14730,null,null,0,2122]
[21,14826,21,14830,11,14838,21,14845,null,null,0,2212]
[21,14939,21,14944,11,14951,21,14980,null,null,0,2212]
[21,15065,21,15070,11,15078,21,15090,null,null,1,2212]

{"sheet":"!MB21950.096","index":31,"n_rows":120,"n_cols":48,"rows_kept":120,"cut":false,"hidden":false,"merged":[[4,39,4,42],[5,39,5,40],[4,44,4,47],[5,44,5,45],[4,24,4,27],[5,24,5,25],[4,29,4,32],[5,29,5,30],[4,34,4,37],[5,34,5,35],[1,1,1,2],[5,13,5,14],[26,13,26,14],[27,13,27,14],[4,19,4,22],[5,19,5,20]]}
["Report for:!MB21950.096"]
["Date:","<date>"]
["Hen:","<hen>",null,null,null,"Correct Sequence",{"$f":"Start!J2","v":2212},null,null,null,null,null,null,null,null,"Total Sequences in Data",{"$f":"4994-COUNTBLANK(L7:L5000)","v":114},null,null,null,null,"Total Sequences in Block Data",{"$f":"COUNTA(L7:L25)","v":19},null,null,null,"Total Sequences in Block Data",{"$f":"COUNTA(L26:L44)","v":19},null,null,null,"Total Sequences in Block Data",{"$f":"COUNTA(L45:L63)","v":19},null,null,null,"Total Sequences in Block Data",{"$f":"COUNTA(L64:L82)","v":19},null,null,null,"Total Sequences in Block Data",{"$f":"COUNTA(L83:L101)","v":19},null,null,null,"Total Sequences in Block Data",{"$f":"COUNTA(L102:L120)","v":19}]
[null,null,null,null,null,null,null,null,null,null,null,null,null,null,null,"Total Sequences in Summary",{"$f":"SUM(O7:O22)","v":114},null,null,null,null,"Total Sequences in Block Summary",{"$f":"SUM(U7:U22)","v":19},null,null,null,"Total Sequences in Block Summary",{"$f":"SUM(Z7:Z22)","v":19},null,null,null,"Total Sequences in Block Summary",{"$f":"SUM(AE7:AE22)","v":19},null,null,null,"Total Sequences in Block Summary",{"$f":"SUM(AJ7:AJ22)","v":19},null,null,null,"Total Sequences in Block Summary",{"$f":"SUM(AO7:AO22)","v":19},null,null,null,"Total Sequences in Block Summary",{"$f":"SUM(AT7:AT22)","v":19}]
[null,null,null,null,null,null,null,null,null,null,null,null,null,null,null,null,null,null,null,"Block 1",null,null,null,null,"Block 2",null,null,null,null,"Block 3",null,null,null,null,"Block 4",null,null,null,null,"Block 5",null,null,null,null,"Block 6"]
["Sequence\nComponent\n1","Time\n1","Sequence\nComponent\n2","Time\n2","Sequence\nComponent\n3","Time\n3","Sequence\nComponent\n4","Time\n4","Sequence\nComponent\n5","Time\n5","Correct?\n0=No 1=Yes","Sequence",null,"Frequency",null,"Relative Frequency","Variability",null,null,"Frequency",null,"Relative Frequency","Variability",null,"Frequency",null,"Relative Frequency","Variability",null,"Frequency",null,"Relative Frequency","Variability",null,"Frequency",null,"Relative Frequency","Variability",null,"Frequency",null,"Relative Frequency","Variability",null,"Frequency",null,"Relative Frequency","Variability"]
[12,22,23,31,24,56,14,66,null,null,0,1221,null,1111,{"$f":"COUNTIF($L$7:$L$500,N7)","v":1},{"$f":"O7/$Q$4","v":8.771929824561403E-3},{"$f":"IF(P7=0,0,(P7*((LOG(P7))/LOG(2))))","v":-5.993763170319949E-2},null,null,{"$f":"N7","v":1111},{"$f":"COUNTIF(L7:L25,T7)","v":0},{"$f":"U7/(W4-U20)","v":0},{"$f":"IF(V7=0,0,(V7*((LOG(V7))/LOG(2))))","v":0},null,{"$f":"N7","v":1111},{"$f":"COUNTIF(L26:L44,Y7)","v":0},{"$f":"Z7/(AB4-Z20)","v":0},{"$f":"IF(AA7=0,0,(AA7*((LOG(AA7))/LOG(2))))","v":0},null,{"$f":"N7","v":1111},{"$f":"COUNTIF(L45:L63,AD7)","v":0},{"$f":"AE7/(AG4-AE20)","v":0},{"$f":"IF(AF7=0,0,(AF7*((LOG(AF7))/LOG(2))))","v":0},null,{"$f":"N7","v":1111},{"$f":"COUNTIF(L64:L82,AI7)","v":0},{"$f":"AJ7/(AL4-AJ20)","v":0},{"$f":"IF(AK7=0,0,(AK7*((LOG(AK7))/LOG(2))))","v":0},null,{"$f":"N7","v":1111},{"$f":"COUNTIF(L83:L101,AN7)","v":0},{"$f":"AO7/(AQ4-AO20)","v":0},{"$f":"IF(AP7=0,0,(AP7*((LOG(AP7))/LOG(2))))","v":0},null,{"$f":"N7","v":1111},{"$f":"COUNTIF(L102:L120,AS7)","v":1},{"$f":"AT7/(AV4-AT20)","v":6.6666666666666666E-2},{"$f":"IF(AU7=0,0,(AU7*((LOG(AU7))/LOG(2))))","v":-0.26045937304056793}]
[21,166,21,173,22,181,14,190,null,null,0,2221,null,1112,{"$f":"COUNTIF($L$7:$L$500,N8)","v":0},{"$f":"O8/$Q$4","v":0},{"$f":"IF(P8=0,0,(P8*((LOG(P8))/LOG(2))))","v":0},null,null,{"$f":"N8","v":1112},{"$f":"COUNTIF(L7:L25,T8)","v":0},{"$f":"U8/(W4-U20)","v":0},{"$f":"IF(V8=0,0,(V8*((LOG(V8))/LOG(2))))","v":0},null,{"$f":"N8","v":1112},{"$f":"COUNTIF(L26:L44,Y8)","v":0},{"$f":"Z8/(AB4-Z20)","v":0},{"$f":"IF(AA8=0,0,(AA8*((LOG(AA8))/LOG(2))))","v":0},null,{"$f":"N8","v":1112},{"$f":"COUNTIF(L45:L63,AD8)","v":0},{"$f":"AE8/(AG4-AE20)","v":0},{"$f":"IF(AF8=0,0,(AF8*((LOG(AF8))/LOG(2))))","v":0},null,{"$f":"N8","v":1112},{"$f":"COUNTIF(L64:L82,AI8)","v":0},{"$f":"AJ8/(AL4-AJ20)","v":0},{"$f":"IF(AK8=0,0,(AK8*((LOG(AK8))/LOG(2))))","v":0},null,{"$f":"N8","v":1112},{"$f":"COUNTIF(L83:L101,AN8)","v":0},{"$f":"AO8/(AQ4-AO20)","v":0},{"$f":"IF(AP8=0,0,(AP8*((LOG(AP8))/LOG(2))))","v":0},null,{"$f":"N8","v":1112},{"$f":"COUNTIF(L102:L120,AS8)","v":0},{"$f":"AT8/(AV4-AT20)","v":0},{"$f":"IF(AU8=0,0,(AU8*((LOG(AU8))/LOG(2))))","v":0}]
[21,290,21,294,22,306,14,315,null,null,0,2221,null,1121,{"$f":"COUNTIF($L$7:$L$500,N9)","v":2},{"$f":"O9/$Q$4","v":1.7543859649122806E-2},{"$f":"IF(P9=0,0,(P9*((LOG(P9))/LOG(2))))","v":-0.10233140375727617},null,null,{"$f":"N9","v":1121},{"$f":"COUNTIF(L7:L25,T9)","v":0},{"$f":"U9/(W4-U20)","v":0},{"$f":"IF(V9=0,0,(V9*((LOG(V9))/LOG(2))))","v":0},null,{"$f":"N9","v":1121},{"$f":"COUNTIF(L26:L44,Y9)","v":0},{"$f":"Z9/(AB4-Z20)","v":0},{"$f":"IF(AA9=0,0,(AA9*((LOG(AA9))/LOG(2))))","v":0},null,{"$f":"N9","v":1121},{"$f":"COUNTIF(L45:L63,AD9)","v":2},{"$f":"AE9/(AG4-AE20)","v":0.16666666666666666},{"$f":"IF(AF9=0,0,(AF9*((LOG(AF9))/LOG(2))))","v":-0.43082708345352599},null,{"$f":"N9","v":1121},{"$f":"COUNTIF(L64:L82,AI9)","v":0},{"$f":"AJ9/(AL4-AJ20)","v":0},{"$f":"IF(AK9=0,0,(AK9*((LOG(AK9))/LOG(2))))","v":0},null,{"$f":"N9","v":1121},{"$f":"COUNTIF(L83:L101,AN9)","v":0},{"$f":"AO9/(AQ4-AO20)","v":0},{"$f":"IF(AP9=0,0,(AP9*((LOG(AP9))/LOG(2))))","v":0},null,{"$f":"N9","v":1121},{"$f":"COUNTIF(L102:L120,AS9)","v":0},{"$f":"AT9/(AV4-AT20)","v":0},{"$f":"IF(AU9=0,0,(AU9*((LOG(AU9))/LOG(2))))","v":0}]
[21,418,21,423,11,432,21,439,null,null,0,2212,null,1122,{"$f":"COUNTIF($L$7:$L$500,N10)","v":0},{"$f":"O10/$Q$4","v":0},{"$f":"IF(P10=0,0,(P10*((LOG(P10))/LOG(2))))","v":0},null,null,{"$f":"N10","v":1122},{"$f":"COUNTIF(L7:L25,T10)","v":0},{"$f":"U10/(W4-U20)","v":0},{"$f":"IF(V10=0,0,(V10*((LOG(V10))/LOG(2))))","v":0},null,{"$f":"N10","v":1122},{"$f":"COUNTIF(L26:L44,Y10)","v":0},{"$f":"Z10/(AB4-Z20)","v":0},{"$f":"IF(AA10=0,0,(AA10*((LOG(AA10))/LOG(2))))","v":0},null,{"$f":"N10","v":1122},{"$f":"COUNTIF(L45:L63,AD10)","v":0},{"$f":"AE10/(AG4-AE20)","v":0},{"$f":"IF(AF10=0,0,(AF10*((LOG(AF10))/LOG(2))))","v":0},null,{"$f":"N10","v":1122},{"$f":"COUNTIF(L64:L82,AI10)","v":0},{"$f":"AJ10/(AL4-AJ20)","v":0},{"$f":"IF(AK10=0,0,(AK10*((LOG(AK10))/LOG(2))))","v":0},null,{"$f":"N10","v":1122},{"$f":"COUNTIF(L83:L101,AN10)","v":0},{"$f":"AO10/(AQ4-AO20)","v":0},{"$f":"IF(AP10=0,0,(AP10*((LOG(AP10))/LOG(2))))","v":0},null,{"$f":"N10","v":1122},{"$f":"COUNTIF(L102:L120,AS10)","v":0},{"$f":"AT10/(AV4-AT20)","v":0},{"$f":"IF(AU10=0,0,(AU10*((LOG(AU10))/LOG(2))))","v":0}]
[21,536,12,546,24,552,14,578,null,null,0,2121,null,1211,{"$f":"COUNTIF($L$7:$L$500,N11)","v":0},{"$f":"O11/$Q$4","v":0},{"$f":"IF(P11=0,0,(P11*((LOG(P11))/LOG(2))))","v":0},null,null,{"$f":"N11","v":1211},{"$f":"COUNTIF(L7:L25,T11)","v":0},{"$f":"U11/(W4-U20)","v":0},{"$f":"IF(V11=0,0,(V11*((LOG(V11))/LOG(2))))","v":0},null,{"$f":"N11","v":1211},{"$f":"COUNTIF(L26:L44,Y11)","v":0},{"$f":"Z11/(AB4-Z20)","v":0},{"$f":"IF(AA11=0,0,(AA11*((LOG(AA11))/LOG(2))))","v":0},null,{"$f":"N11","v":1211},{"$f":"COUNTIF(L45:L63,AD11)","v":0},{"$f":"AE11/(AG4-AE20)","v":0},{"$f":"IF(AF11=0,0,(AF11*((LOG(AF11))/LOG(2))))","v":0},null,{"$f":"N11","v":1211},{"$f":"COUNTIF(L64:L82,AI11)","v":0},{"$f":"AJ11/(AL4-AJ20)","v":0},{"$f":"IF(AK11=0,0,(AK11*((LOG(AK11))/LOG(2))))","v":0},null,{"$f":"N11","v":1211},{"$f":"COUNTIF(L83:L101,AN11)","v":0},{"$f":"AO11/(AQ4-AO20)","v":0},{"$f":"IF(AP11=0,0,(AP11*((LOG(AP11))/LOG(2))))","v":0},null,{"$f":"N11","v":1211},{"$f":"COUNTIF(L102:L120,AS11)","v":0},{"$f":"AT11/(AV4-AT20)","v":0},{"$f":"IF(AU11=0,0,(AU11*((LOG(AU11))/LOG(2))))","v":0}]
[21,680,21,688,22,696,14,705,null,null,0,2221,null,1212,{"$f":"COUNTIF($L$7:$L$500,N12)","v":6},{"$f":"O12/$Q$4","v":5.2631578947368418E-2},{"$f":"IF(P12=0,0,(P12*((LOG(P12))/LOG(2))))","v":-0.22357513228650452},null,null,{"$f":"N12","v":1212},{"$f":"COUNTIF(L7:L25,T12)","v":1},{"$f":"U12/(W4-U20)","v":7.6923076923076927E-2},{"$f":"IF(V12=0,0,(V12*((LOG(V12))/LOG(2))))","v":-0.28464920908777636},null,{"$f":"N12","v":1212},{"$f":"COUNTIF(L26:L44,Y12)","v":0},{"$f":"Z12/(AB4-Z20)","v":0},{"$f":"IF(AA12=0,0,(AA12*((LOG(AA12))/LOG(2))))","v":0},null,{"$f":"N12","v":1212},{"$f":"COUNTIF(L45:L63,AD12)","v":2},{"$f":"AE12/(AG4-AE20)","v":0.16666666666666666},{"$f":"IF(AF12=0,0,(AF12*((LOG(AF12))/LOG(2))))","v":-0.43082708345352599},null,{"$f":"N12","v":1212},{"$f":"COUNTIF(L64:L82,AI12)","v":2},{"$f":"AJ12/(AL4-AJ20)","v":0.18181818181818182},{"$f":"IF(AK12=0,0,(AK12*((LOG(AK12))/LOG(2))))","v":-0.44716938520678134},null,{"$f":"N12","v":1212},{"$f":"COUNTIF(L83:L101,AN12)","v":1},{"$f":"AO12/(AQ4-AO20)","v":8.3333333333333329E-2},{"$f":"IF(AP12=0,0,(AP12*((LOG(AP12))/LOG(2))))","v":-0.29874687506009634},null,{"$f":"N12","v":1212},{"$f":"COUNTIF(L102:L120,AS12)","v":0},{"$f":"AT12/(AV4-AT20)","v":0},{"$f":"IF(AU12=0,0,(AU12*((LOG(AU12))/LOG(2))))","v":0}]
[21,802,21,806,22,839,23,849,null,null,0,2222,null,1221,{"$f":"COUNTIF($L$7:$L$500,N13)","v":3},{"$f":"O13/$Q$4","v":2.6315789473684209E-2},{"$f":"IF(P13=0,0,(P13*((LOG(P13))/LOG(2))))","v":-0.13810335561693646},null,null,{"$f":"N13","v":1221},{"$f":"COUNTIF(L7:L25,T13)","v":1},{"$f":"U13/(W4-U20)","v":7.6923076923076927E-2},{"$f":"IF(V13=0,0,(V13*((LOG(V13))/LOG(2))))","v":-0.28464920908777636},null,{"$f":"N13","v":1221},{"$f":"COUNTIF(L26:L44,Y13)","v":1},{"$f":"Z13/(AB4-Z20)","v":9.0909090909090912E-2},{"$f":"IF(AA13=0,0,(AA13*((LOG(AA13))/LOG(2))))","v":-0.31449378351248153},null,{"$f":"N13","v":1221},{"$f":"COUNTIF(L45:L63,AD13)","v":0},{"$f":"AE13/(AG4-AE20)","v":0},{"$f":"IF(AF13=0,0,(AF13*((LOG(AF13))/LOG(2))))","v":0},null,{"$f":"N13","v":1221},{"$f":"COUNTIF(L64:L82,AI13)","v":1},{"$f":"AJ13/(AL4-AJ20)","v":9.0909090909090912E-2},{"$f":"IF(AK13=0,0,(AK13*((LOG(AK13))/LOG(2))))","v":-0.31449378351248153},null,{"$f":"N13","v":1221},{"$f":"COUNTIF(L83:L101,AN13)","v":0},{"$f":"AO13/(AQ4-AO20)","v":0},{"$f":"IF(AP13=0,0,(AP13*((LOG(AP13))/LOG(2))))","v":0},null,{"$f":"N13","v":1221},{"$f":"COUNTIF(L102:L120,AS13)","v":0},{"$f":"AT13/(AV4-AT20)","v":0},{"$f":"IF(AU13=0,0,(AU13*((LOG(AU13))/LOG(2))))","v":0}]
[21,948,21,953,11,962,21,967,null,null,0,2212,null,1222,{"$f":"COUNTIF($L$7:$L$500,N14)","v":0},{"$f":"O14/$Q$4","v":0},{"$f":"IF(P14=0,0,(P14*((LOG(P14))/LOG(2))))","v":0},null,null,{"$f":"N14","v":1222},{"$f":"COUNTIF(L7:L25,T14)","v":0},{"$f":"U14/(W4-U20)","v":0},{"$f":"IF(V14=0,0,(V14*((LOG(V14))/LOG(2))))","v":0},null,{"$f":"N14","v":1222},{"$f":"COUNTIF(L26:L44,Y14)","v":0},{"$f":"Z14/(AB4-Z20)","v":0},{"$f":"IF(AA14=0,0,(AA14*((LOG(AA14))/LOG(2))))","v":0},null,{"$f":"N14","v":1222},{"$f":"COUNTIF(L45:L63,AD14)","v":0},{"$f":"AE14/(AG4-AE20)","v":0},{"$f":"IF(AF14=0,0,(AF14*((LOG(AF14))/LOG(2))))","v":0},null,{"$f":"N14","v":1222},{"$f":"COUNTIF(L64:L82,AI14)","v":0},{"$f":"AJ14/(AL4-AJ20)","v":0},{"$f":"IF(AK14=0,0,(AK14*((LOG(AK14))/LOG(2))))","v":0},null,{"$f":"N14","v":1222},{"$f":"COUNTIF(L83:L101,AN14)","v":0},{"$f":"AO14/(AQ4-AO20)","v":0},{"$f":"IF(AP14=0,0,(AP14*((LOG(AP14))/LOG(2))))","v":0},null,{"$f":"N14","v":1222},{"$f":"COUNTIF(L102:L120,AS14)","v":0},{"$f":"AT14/(AV4-AT20)","v":0},{"$f":"IF(AU14=0,0,(AU14*((LOG(AU14))/LOG(2))))","v":0}]
[21,1063,12,1071,24,1098,23,1105,null,null,0,2122,null,2111,{"$f":"COUNTIF($L$7:$L$500,N15)","v":0},{"$f":"O15/$Q$4","v":0},{"$f":"IF(P15=0,0,(P15*((LOG(P15))/LOG(2))))","v":0},null,null,{"$f":"N15","v":2111},{"$f":"COUNTIF(L7:L25,T15)","v":0},{"$f":"U15/(W4-U20)","v":0},{"$f":"IF(V15=0,0,(V15*((LOG(V15))/LOG(2))))","v":0},null,{"$f":"N15","v":2111},{"$f":"COUNTIF(L26:L44,Y15)","v":0},{"$f":"Z15/(AB4-Z20)","v":0},{"$f":"IF(AA15=0,0,(AA15*((LOG(AA15))/LOG(2))))","v":0},null,{"$f":"N15","v":2111},{"$f":"COUNTIF(L45:L63,AD15)","v":0},{"$f":"AE15/(AG4-AE20)","v":0},{"$f":"IF(AF15=0,0,(AF15*((LOG(AF15))/LOG(2))))","v":0},null,{"$f":"N15","v":2111},{"$f":"COUNTIF(L64:L82,AI15)","v":0},{"$f":"AJ15/(AL4-AJ20)","v":0},{"$f":"IF(AK15=0,0,(AK15*((LOG(AK15))/LOG(2))))","v":0},null,{"$f":"N15","v":2111},{"$f":"COUNTIF(L83:L101,AN15)","v":0},{"$f":"AO15/(AQ4-AO20)","v":0},{"$f":"IF(AP15=0,0,(AP15*((LOG(AP15))/LOG(2))))","v":0},null,{"$f":"N15","v":2111},{"$f":"COUNTIF(L102:L120,AS15)","v":0},{"$f":"AT15/(AV4-AT20)","v":0},{"$f":"IF(AU15=0,0,(AU15*((LOG(AU15))/LOG(2))))","v":0}]
[21,1203,21,1209,11,1218,21,1225,null,null,0,2212,null,2112,{"$f":"COUNTIF($L$7:$L$500,N16)","v":0},{"$f":"O16/$Q$4","v":0},{"$f":"IF(P16=0,0,(P16*((LOG(P16))/LOG(2))))","v":0},null,null,{"$f":"N16","v":2112},{"$f":"COUNTIF(L7:L25,T16)","v":0},{"$f":"U16/(W4-U20)","v":0},{"$f":"IF(V16=0,0,(V16*((LOG(V16))/LOG(2))))","v":0},null,{"$f":"N16","v":2112},{"$f":"COUNTIF(L26:L44,Y16)","v":0},{"$f":"Z16/(AB4-Z20)","v":0},{"$f":"IF(AA16=0,0,(AA16*((LOG(AA16))/LOG(2))))","v":0},null,{"$f":"N16","v":2112},{"$f":"COUNTIF(L45:L63,AD16)","v":0},{"$f":"AE16/(AG4-AE20)","v":0},{"$f":"IF(AF16=0,0,(AF16*((LOG(AF16))/LOG(2))))","v":0},null,{"$f":"N16","v":2112},{"$f":"COUNTIF(L64:L82,AI16)","v":0},{"$f":"AJ16/(AL4-AJ20)","v":0},{"$f":"IF(AK16=0,0,(AK16*((LOG(AK16))/LOG(2))))","v":0},null,{"$f":"N16","v":2112},{"$f":"COUNTIF(L83:L101,AN16)","v":0},{"$f":"AO16/(AQ4-AO20)","v":0},{"$f":"IF(AP16=0,0,(AP16*((LOG(AP16))/LOG(2))))","v":0},null,{"$f":"N16","v":2112},{"$f":"COUNTIF(L102:L120,AS16)","v":0},{"$f":"AT16/(AV4-AT20)","v":0},{"$f":"IF(AU16=0,0,(AU16*((LOG(AU16))/LOG(2))))","v":0}]
[21,1311,21,1316,22,1324,14,1332,null,null,0,2221,null,2121,{"$f":"COUNTIF($L$7:$L$500,N17)","v":9},{"$f":"O17/$Q$4","v":7.8947368421052627E-2},{"$f":"IF(P17=0,0,(P17*((LOG(P17))/LOG(2))))","v":-0.28918144837282334},null,null,{"$f":"N17","v":2121},{"$f":"COUNTIF(L7:L25,T17)","v":1},{"$f":"U17/(W4-U20)","v":7.6923076923076927E-2},{"$f":"IF(V17=0,0,(V17*((LOG(V17))/LOG(2))))","v":-0.28464920908777636},null,{"$f":"N17","v":2121},{"$f":"COUNTIF(L26:L44,Y17)","v":2},{"$f":"Z17/(AB4-Z20)","v":0.18181818181818182},{"$f":"IF(AA17=0,0,(AA17*((LOG(AA17))/LOG(2))))","v":-0.44716938520678134},null,{"$f":"N17","v":2121},{"$f":"COUNTIF(L45:L63,AD17)","v":1},{"$f":"AE17/(AG4-AE20)","v":8.3333333333333329E-2},{"$f":"IF(AF17=0,0,(AF17*((LOG(AF17))/LOG(2))))","v":-0.29874687506009634},null,{"$f":"N17","v":2121},{"$f":"COUNTIF(L64:L82,AI17)","v":1},{"$f":"AJ17/(AL4-AJ20)","v":9.0909090909090912E-2},{"$f":"IF(AK17=0,0,(AK17*((LOG(AK17))/LOG(2))))","v":-0.31449378351248153},null,{"$f":"N17","v":2121},{"$f":"COUNTIF(L83:L101,AN17)","v":2},{"$f":"AO17/(AQ4-AO20)","v":0.16666666666666666},{"$f":"IF(AP17=0,0,(AP17*((LOG(AP17))/LOG(2))))","v":-0.43082708345352599},null,{"$f":"N17","v":2121},{"$f":"COUNTIF(L102:L120,AS17)","v":2},{"$f":"AT17/(AV4-AT20)","v":0.13333333333333333},{"$f":"IF(AU17=0,0,(AU17*((LOG(AU17))/LOG(2))))","v":-0.3875854127478025}]
[21,1428,21,1439,11,1446,21,1469,null,null,0,2212,null,2122,{"$f":"COUNTIF($L$7:$L$500,N18)","v":27},{"$f":"O18/$Q$4","v":0.23684210526315788},{"$f":"IF(P18=0,0,(P18*((LOG(P18))/LOG(2))))","v":-0.49215848968451215},null,null,{"$f":"N18","v":2122},{"$f":"COUNTIF(L7:L25,T18)","v":3},{"$f":"U18/(W4-U20)","v":0.23076923076923078},{"$f":"IF(V18=0,0,(V18*((LOG(V18))/LOG(2))))","v":-0.48818705017383146},null,{"$f":"N18","v":2122},{"$f":"COUNTIF(L26:L44,Y18)","v":6},{"$f":"Z18/(AB4-Z20)","v":0.54545454545454541},{"$f":"IF(AA18=0,0,(AA18*((LOG(AA18))/LOG(2))))","v":-0.47698315522698609},null,{"$f":"N18","v":2122},{"$f":"COUNTIF(L45:L63,AD18)","v":7},{"$f":"AE18/(AG4-AE20)","v":0.58333333333333337},{"$f":"IF(AF18=0,0,(AF18*((LOG(AF18))/LOG(2))))","v":-0.45360442088707198},null,{"$f":"N18","v":2122},{"$f":"COUNTIF(L64:L82,AI18)","v":4},{"$f":"AJ18/(AL4-AJ20)","v":0.36363636363636365},{"$f":"IF(AK18=0,0,(AK18*((LOG(AK18))/LOG(2))))","v":-0.53070240677719893},null,{"$f":"N18","v":2122},{"$f":"COUNTIF(L83:L101,AN18)","v":3},{"$f":"AO18/(AQ4-AO20)","v":0.25},{"$f":"IF(AP18=0,0,(AP18*((LOG(AP18))/LOG(2))))","v":-0.5},null,{"$f":"N18","v":2122},{"$f":"COUNTIF(L102:L120,AS18)","v":4},{"$f":"AT18/(AV4-AT20)","v":0.26666666666666666},{"$f":"IF(AU18=0,0,(AU18*((LOG(AU18))/LOG(2))))","v":-0.50850415882893829}]
[21,1560,21,1565,11,1573,21,1588,null,null,0,2212,null,2211,{"$f":"COUNTIF($L$7:$L$500,N19)","v":1},{"$f":"O19/$Q$4","v":8.771929824561403E-3},{"$f":"IF(P19=0,0,(P19*((LOG(P19))/LOG(2))))","v":-5.993763170319949E-2},null,null,{"$f":"N19","v":2211},{"$f":"COUNTIF(L7:L25,T19)","v":0},{"$f":"U19/(W4-U20)","v":0},{"$f":"IF(V19=0,0,(V19*((LOG(V19))/LOG(2))))","v":0},null,{"$f":"N19","v":2211},{"$f":"COUNTIF(L26:L44,Y19)","v":0},{"$f":"Z19/(AB4-Z20)","v":0},{"$f":"IF(AA19=0,0,(AA19*((LOG(AA19))/LOG(2))))","v":0},null,{"$f":"N19","v":2211},{"$f":"COUNTIF(L45:L63,AD19)","v":0},{"$f":"AE19/(AG4-AE20)","v":0},{"$f":"IF(AF19=0,0,(AF19*((LOG(AF19))/LOG(2))))","v":0},null,{"$f":"N19","v":2211},{"$f":"COUNTIF(L64:L82,AI19)","v":1},{"$f":"AJ19/(AL4-AJ20)","v":9.0909090909090912E-2},{"$f":"IF(AK19=0,0,(AK19*((LOG(AK19))/LOG(2))))","v":-0.31449378351248153},null,{"$f":"N19","v":2211},{"$f":"COUNTIF(L83:L101,AN19)","v":0},{"$f":"AO19/(AQ4-AO20)","v":0},{"$f":"IF(AP19=0,0,(AP19*((LOG(AP19))/LOG(2))))","v":0},null,{"$f":"N19","v":2211},{"$f":"COUNTIF(L102:L120,AS19)","v":0},{"$f":"AT19/(AV4-AT20)","v":0},{"$f":"IF(AU19=0,0,(AU19*((LOG(AU19))/LOG(2))))","v":0}]
[21,1675,21,1679,22,1691,23,1727,null,null,0,2222,null,2212,{"$f":"COUNTIF($L$7:$L$500,N20)","v":40},{"$f":"O20/$Q$4","v":0.35087719298245612},{"$f":"IF(P20=0,0,(P20*((LOG(P20))/LOG(2))))","v":-0.53016207693943129},null,null,{"$f":"N20","v":2212},{"$f":"COUNTIF(L7:L25,T20)","v":6},null,null,null,{"$f":"N20","v":2212},{"$f":"COUNTIF(L26:L44,Y20)","v":8},null,null,null,{"$f":"N20","v":2212},{"$f":"COUNTIF(L45:L63,AD20)","v":7},null,null,null,{"$f":"N20","v":2212},{"$f":"COUNTIF(L64:L82,AI20)","v":8},null,null,null,{"$f":"N20","v":2212},{"$f":"COUNTIF(L83:L101,AN20)","v":7},null,null,null,{"$f":"N20","v":2212},{"$f":"COUNTIF(L102:L120,AS20)","v":4}]
[21,1824,12,1834,24,1846,23,1855,null,null,0,2122,null,2221,{"$f":"COUNTIF($L$7:$L$500,N21)","v":14},{"$f":"O21/$Q$4","v":0.12280701754385964},{"$f":"IF(P21=0,0,(P21*((LOG(P21))/LOG(2))))","v":-0.37155694113596421},null,null,{"$f":"N21","v":2221},{"$f":"COUNTIF(L7:L25,T21)","v":5},{"$f":"U21/(W4-U20)","v":0.38461538461538464},{"$f":"IF(V21=0,0,(V21*((LOG(V21))/LOG(2))))","v":-0.53019677817451139},null,{"$f":"N21","v":2221},{"$f":"COUNTIF(L26:L44,Y21)","v":1},{"$f":"Z21/(AB4-Z20)","v":9.0909090909090912E-2},{"$f":"IF(AA21=0,0,(AA21*((LOG(AA21))/LOG(2))))","v":-0.31449378351248153},null,{"$f":"N21","v":2221},{"$f":"COUNTIF(L45:L63,AD21)","v":0},{"$f":"AE21/(AG4-AE20)","v":0},{"$f":"IF(AF21=0,0,(AF21*((LOG(AF21))/LOG(2))))","v":0},null,{"$f":"N21","v":2221},{"$f":"COUNTIF(L64:L82,AI21)","v":0},{"$f":"AJ21/(AL4-AJ20)","v":0},{"$f":"IF(AK21=0,0,(AK21*((LOG(AK21))/LOG(2))))","v":0},null,{"$f":"N21","v":2221},{"$f":"COUNTIF(L83:L101,AN21)","v":4},{"$f":"AO21/(AQ4-AO20)","v":0.33333333333333331},{"$f":"IF(AP21=0,0,(AP21*((LOG(AP21))/LOG(2))))","v":-0.52832083357371862},null,{"$f":"N21","v":2221},{"$f":"COUNTIF(L102:L120,AS21)","v":4},{"$f":"AT21/(AV4-AT20)","v":0.26666666666666666},{"$f":"IF(AU21=0,0,(AU21*((LOG(AU21))/LOG(2))))","v":-0.50850415882893829}]
[21,1952,21,1956,22,1963,14,1970,null,null,0,2221,null,2222,{"$f":"COUNTIF($L$7:$L$500,N22)","v":11},{"$f":"O22/$Q$4","v":9.6491228070175433E-2},{"$f":"IF(P22=0,0,(P22*((LOG(P22))/LOG(2))))","v":-0.32550914342808673},null,null,{"$f":"N22","v":2222},{"$f":"COUNTIF(L7:L25,T22)","v":2},{"$f":"U22/(W4-U20)","v":0.15384615384615385},{"$f":"IF(V22=0,0,(V22*((LOG(V22))/LOG(2))))","v":-0.4154522643293988},null,{"$f":"N22","v":2222},{"$f":"COUNTIF(L26:L44,Y22)","v":1},{"$f":"Z22/(AB4-Z20)","v":9.0909090909090912E-2},{"$f":"IF(AA22=0,0,(AA22*((LOG(AA22))/LOG(2))))","v":-0.31449378351248153},null,{"$f":"N22","v":2222},{"$f":"COUNTIF(L45:L63,AD22)","v":0},{"$f":"AE22/(AG4-AE20)","v":0},{"$f":"IF(AF22=0,0,(AF22*((LOG(AF22))/LOG(2))))","v":0},null,{"$f":"N22","v":2222},{"$f":"COUNTIF(L64:L82,AI22)","v":2},{"$f":"AJ22/(AL4-AJ20)","v":0.18181818181818182},{"$f":"IF(AK22=0,0,(AK22*((LOG(AK22))/LOG(2))))","v":-0.44716938520678134},null,{"$f":"N22","v":2222},{"$f":"COUNTIF(L83:L101,AN22)","v":2},{"$f":"AO22/(AQ4-AO20)","v":0.16666666666666666},{"$f":"IF(AP22=0,0,(AP22*((LOG(AP22))/LOG(2))))","v":-0.43082708345352599},null,{"$f":"N22","v":2222},{"$f":"COUNTIF(L102:L120,AS22)","v":4},{"$f":"AT22/(AV4-AT20)","v":0.26666666666666666},{"$f":"IF(AU22=0,0,(AU22*((LOG(AU22))/LOG(2))))","v":-0.50850415882893829}]
[12,2080,23,2086,13,2097,23,2103,null,null,0,1212,null,null,null,{"$f":"SUM(P7:P22)","v":0.99999999999999989},{"$f":"-SUM(Q7:Q22)","v":2.5924532546279337},null,null,null,null,{"$f":"SUM(V7:V22)","v":1},{"$f":"-SUM(W7:W22)","v":2.2877837199410709},null,null,null,{"$f":"SUM(AA7:AA22)","v":1},{"$f":"-SUM(AB7:AB22)","v":1.867633890971212},null,null,null,{"$f":"SUM(AF7:AF22)","v":1},{"$f":"-SUM(AG7:AG22)","v":1.6140054628542202},null,null,null,{"$f":"SUM(AK7:AK22)","v":1},{"$f":"-SUM(AL7:AL22)","v":2.3685225277282065},null,null,null,{"$f":"SUM(AP7:AP22)","v":0.99999999999999989},{"$f":"-SUM(AQ7:AQ22)","v":2.1887218755408671},null,null,null,{"$f":"SUM(AU7:AU22)","v":1},{"$f":"-SUM(AV7:AV22)","v":2.1735572622751853}]
[21,2206,12,2215,24,2221,23,2232,null,null,0,2122,null,null,null,"U=",{"$f":"Q23/(LOG(Q4)/LOG(2))","v":0.37940801758168463},null,null,null,null,"U1=",{"$f":"W23/(LOG(W4)/LOG(2))","v":0.53856467952921294},null,null,null,"U2=",{"$f":"AB23/(LOG(AB4)/LOG(2))","v":0.43965766484023955},null,null,null,"U3=",{"$f":"AG23/(LOG(AG4)/LOG(2))","v":0.37995127217832997},null,null,null,"U4=",{"$f":"AL23/(LOG(AL4)/LOG(2))","v":0.55757131453690045},null,null,null,"U5=",{"$f":"AQ23/(LOG(AQ4)/LOG(2))","v":0.51524463838286594},null,null,null,"U6=",{"$f":"AV23/(LOG(AV4)/LOG(2))","v":0.51167475325236655}]
[21,2329,21,2346,11,2353,21,2359,null,null,0,2212]
[21,2463,21,2496,22,2503,23,2513,null,null,0,2222]
[21,2623,12,2630,24,2639,23,2655,null,null,0,2122,null,"Total Target Seq"]
[21,2755,12,2766,24,2788,14,2818,null,null,0,2121,null,{"$f":"COUNTIF(L7:L120,G3)","v":40},null,19,19,19,19,19,19]
[21,2914,21,2918,11,2925,21,2943,null,null,0,2212,null,null,null,"% of reinforcement given in 6 equal intervals based on number of trials "]
[21,3031,21,3035,11,3042,21,3047,null,null,0,2212,null,null,null,"%_1","%_2","%_3","%_4","%_5","%_6"]
[21,3136,21,3140,11,3148,21,3167,null,null,0,2212,null,null,"target sequence",{"$f":"$G$3","v":2212},{"$f":"$G$3","v":2212},{"$f":"$G$3","v":2212},{"$f":"$G$3","v":2212},{"$f":"$G$3","v":2212},{"$f":"$G$3","v":2212}]
[21,3268,12,3277,24,3288,23,3301,null,null,0,2122,null,null,"total reinforcement",{"$f":"U20","v":6},{"$f":"Z20","v":8},{"$f":"AE20","v":7},{"$f":"AJ20","v":8},{"$f":"AO20","v":7},{"$f":"AT20","v":4}]
[21,3398,21,3405,11,3412,21,3430,null,null,0,2212,null,null,"% target"]
[21,3521,12,3529,24,3550,23,3563,null,null,0,2122,null,null,"CCRF"]
[21,3662,21,3666,22,3681,14,3701,null,null,0,2221,null,null,"% CCRf"]
[21,3798,21,3802,11,3808,21,3815,null,null,0,2212,null,null,"average response rate",{"$f":"H25/P28","v":124.15789473684211},{"$f":"(H44-H25)/Q28","v":132.10526315789474},{"$f":"(H63-H44)/R28","v":131.42105263157896},{"$f":"(H82-H63)/S28","v":131},{"$f":"(H101-H82)/T28","v":131.52631578947367},{"$f":"(H120-H101)/U28","v":128.31578947368422}]
[21,3903,21,3912,11,3919,21,3926,null,null,0,2212]
[21,4013,21,4019,11,4028,21,4039,null,null,0,2212]
[12,4141,23,4160,24,4186,14,4199,null,null,0,1221]
[21,4299,21,4307,11,4313,21,4324,null,null,0,2212]
[21,4412,12,4425,24,4443,23,4455,null,null,0,2122]
[21,4553,12,4561,24,4577,14,4589,null,null,0,2121]
[21,4699,12,4708,24,4723,23,4735,null,null,0,2122]
[21,4834,12,4850,24,4860,23,4869,null,null,0,2122]
[21,4969,21,4980,11,4987,21,5002,null,null,0,2212]
[21,5089,21,5094,11,5101,21,5107,null,null,0,2212]
[21,5201,12,5209,24,5221,23,5238,null,null,0,2122]
[21,5336,12,5346,24,5353,23,5364,null,null,0,2122]
[12,5480,14,5495,24,5526,14,5541,null,null,0,1121]
[21,5637,21,5643,11,5650,21,5657,null,null,0,2212]
[21,5746,12,5764,24,5777,14,5810,null,null,0,2121]
[21,5911,12,5923,24,5941,23,5952,null,null,0,2122]
[12,6054,23,6059,13,6074,23,6080,null,null,0,1212]
[21,6181,12,6188,24,6199,23,6209,null,null,0,2122]
[21,6306,21,6310,11,6316,21,6329,null,null,0,2212]
[21,6415,21,6419,11,6426,21,6433,null,null,0,2212]
[12,6530,14,6546,24,6559,14,6579,null,null,0,1121]
[21,6679,12,6709,24,6715,23,6727,null,null,0,2122]
[21,6824,21,6827,11,6834,21,6847,null,null,0,2212]
[21,6933,21,6937,11,6944,21,6966,null,null,0,2212]
[21,7053,12,7063,24,7075,23,7080,null,null,0,2122]
[21,7178,12,7187,24,7197,23,7205,null,null,0,2122]
[12,7314,23,7338,13,7360,23,7366,null,null,0,1212]
[12,7470,23,7480,13,7486,23,7511,null,null,0,1212]
[21,7607,21,7611,11,7618,21,7629,null,null,0,2212]
[21,7716,21,7720,11,7727,21,7756,null,null,0,2212]
[21,7845,21,7849,11,7856,21,7863,null,null,0,2212]
[21,7951,12,7965,24,7977,23,7994,null,null,0,2122]
[21,8091,12,8107,24,8124,23,8142,null,null,0,2122]
[12,8243,23,8252,13,8258,23,8264,null,null,0,1212]
[21,8359,21,8364,11,8370,21,8385,null,null,0,2212]
[21,8476,12,8483,24,8501,23,8513,null,null,0,2122]
[21,8611,21,8615,11,8622,21,8654,null,null,0,2212]
[12,8753,23,8778,24,8788,14,8799,null,null,0,1221]
[21,8897,21,8904,11,8911,21,8918,null,null,0,2212]
[21,9008,12,9015,24,9037,23,9057,null,null,0,2122]
[21,9156,21,9163,11,9170,21,9177,null,null,0,2212]
[21,9264,12,9274,24,9301,14,9330,null,null,0,2121]
[21,9432,21,9439,22,9465,23,9480,null,null,0,2222]
[21,9580,21,9583,11,9590,12,9610,null,null,0,2211]
[21,9700,21,9704,22,9720,23,9727,null,null,0,2222]
[21,9821,21,9837,11,9844,21,9855,null,null,0,2212]
[21,9942,21,9946,11,9961,21,9967,null,null,0,2212]
[21,10054,21,10058,22,10065,14,10073,null,null,0,2221]
[21,10177,12,10183,24,10210,23,10240,null,null,0,2122]
[21,10337,21,10342,11,10349,21,10356,null,null,0,2212]
[21,10445,12,10453,24,10469,14,10493,null,null,0,2121]
[21,10594,12,10601,24,10615,23,10627,null,null,0,2122]
[21,10723,21,10727,22,10738,23,10760,null,null,0,2222]
[21,10856,21,10860,11,10867,21,10883,null,null,0,2212]
[21,10973,21,10978,22,11028,14,11054,null,null,0,2221]
[21,11152,21,11156,22,11160,23,11177,null,null,0,2222]
[21,11279,21,11283,22,11291,14,11298,null,null,0,2221]
[21,11394,21,11399,22,11407,14,11414,null,null,0,2221]
[21,11511,21,11519,11,11525,21,11536,null,null,0,2212]
[21,11623,21,11627,11,11634,21,11657,null,null,0,2212]
[21,11753,12,11762,24,11768,23,11774,null,null,0,2122]
[21,11878,21,11946,11,11961,21,11977,null,null,0,2212]
[21,12066,12,12082,24,12089,14,12101,null,null,0,2121]
[12,12208,23,12216,13,12223,23,12235,null,null,0,1212]
[21,12335,21,12340,11,12347,21,12354,null,null,0,2212]
[12,12451,14,12459,13,12475,14,12482,null,null,0,1111]
[21,12572,21,12576,22,12582,23,12601,null,null,0,2222]
[21,12697,21,12701,11,12708,21,12715,null,null,0,2212]
[21,12805,12,12812,24,12834,23,12846,null,null,0,2122]
[21,12942,21,12947,22,12962,14,12973,null,null,0,2221]
[21,13072,12,13080,24,13091,23,13098,null,null,0,2122]
[21,13196,21,13200,22,13206,23,13228,null,null,0,2222]
[21,13325,21,13329,22,13337,14,13345,null,null,0,2221]
[21,13442,21,13446,22,13450,14,13457,null,null,0,2221]
[21,13555,21,13559,22,13564,14,13570,null,null,0,2221]
[21,13675,12,13682,24,13697,23,13707,null,null,0,2122]
[21,13804,21,13812,22,13835,23,13842,null,null,0,2222]
[21,13939,12,13962,24,13969,14,13985,null,null,0,2121]
[21,14086,21,14090,11,14114,21,14120,null,null,0,2212]
[21,14234,12,14241,24,14259,23,14294,null,null,0,2122]
[21,14392,21,14396,22,14412,23,14419,null,null,0,2222]
[21,14525,12,14532,24,14538,14,14560,null,null,0,2121]
[21,14658,21,14662,11,14669,21,14675,null,null,0,2212]
[21,14763,21,14767,11,14775,21,14792,null,null,1,2212]

{"sheet":"!MB24A50.096","index":32,"n_rows":135,"n_cols":48,"rows_kept":135,"cut":false,"hidden":false,"merged":[[4,39,4,42],[5,39,5,40],[4,44,4,47],[5,44,5,45],[4,24,4,27],[5,24,5,25],[4,29,4,32],[5,29,5,30],[4,34,4,37],[5,34,5,35],[1,1,1,2],[5,13,5,14],[26,13,26,14],[27,13,27,14],[4,19,4,22],[5,19,5,20]]}
["Report for:!MB24A50.096"]
["Date:","<date>"]
["Hen:","<hen>",null,null,null,"Correct Sequence",{"$f":"Start!J2","v":2212},null,null,null,null,null,null,null,null,"Total Sequences in Data",{"$f":"4994-COUNTBLANK(L7:L5000)","v":129},null,null,null,null,"Total Sequences in Block Data",{"$f":"COUNTA(L7:L28)","v":22},null,null,null,"Total Sequences in Block Data",{"$f":"COUNTA(L29:L49)","v":21},null,null,null,"Total Sequences in Block Data",{"$f":"COUNTA(L50:L71)","v":22},null,null,null,"Total Sequences in Block Data",{"$f":"COUNTA(L72:L92)","v":21},null,null,null,"Total Sequences in Block Data",{"$f":"COUNTA(L93:L114)","v":22},null,null,null,"Total Sequences in Block Data",{"$f":"COUNTA(L115:L135)","v":21}]
[null,null,null,null,null,null,null,null,null,null,null,null,null,null,null,"Total Sequences in Summary",{"$f":"SUM(O7:O22)","v":129},null,null,null,null,"Total Sequences in Block Summary",{"$f":"SUM(U7:U22)","v":22},null,null,null,"Total Sequences in Block Summary",{"$f":"SUM(Z7:Z22)","v":21},null,null,null,"Total Sequences in Block Summary",{"$f":"SUM(AE7:AE22)","v":22},null,null,null,"Total Sequences in Block Summary",{"$f":"SUM(AJ7:AJ22)","v":21},null,null,null,"Total Sequences in Block Summary",{"$f":"SUM(AO7:AO22)","v":22},null,null,null,"Total Sequences in Block Summary",{"$f":"SUM(AT7:AT22)","v":21}]
[null,null,null,null,null,null,null,null,null,null,null,null,null,null,null,null,null,null,null,"Block 1",null,null,null,null,"Block 2",null,null,null,null,"Block 3",null,null,null,null,"Block 4",null,null,null,null,"Block 5",null,null,null,null,"Block 6"]
["Sequence\nComponent\n1","Time\n1","Sequence\nComponent\n2","Time\n2","Sequence\nComponent\n3","Time\n3","Sequence\nComponent\n4","Time\n4","Sequence\nComponent\n5","Time\n5","Correct?\n0=No 1=Yes","Sequence",null,"Frequency",null,"Relative Frequency","Variability",null,null,"Frequency",null,"Relative Frequency","Variability",null,"Frequency",null,"Relative Frequency","Variability",null,"Frequency",null,"Relative Frequency","Variability",null,"Frequency",null,"Relative Frequency","Variability",null,"Frequency",null,"Relative Frequency","Variability",null,"Frequency",null,"Relative Frequency","Variability"]
[21,15,12,23,24,30,23,52,null,null,0,2122,null,1111,{"$f":"COUNTIF($L$7:$L$500,N7)","v":0},{"$f":"O7/$Q$4","v":0},{"$f":"IF(P7=0,0,(P7*((LOG(P7))/LOG(2))))","v":0},null,null,{"$f":"N7","v":1111},{"$f":"COUNTIF(L7:L28,T7)","v":0},{"$f":"U7/(W4-U20)","v":0},{"$f":"IF(V7=0,0,(V7*((LOG(V7))/LOG(2))))","v":0},null,{"$f":"N7","v":1111},{"$f":"COUNTIF(L29:L49,Y7)","v":0},{"$f":"Z7/(AB4-Z20)","v":0},{"$f":"IF(AA7=0,0,(AA7*((LOG(AA7))/LOG(2))))","v":0},null,{"$f":"N7","v":1111},{"$f":"COUNTIF(L50:L71,AD7)","v":0},{"$f":"AE7/(AG4-AE20)","v":0},{"$f":"IF(AF7=0,0,(AF7*((LOG(AF7))/LOG(2))))","v":0},null,{"$f":"N7","v":1111},{"$f":"COUNTIF(L72:L92,AI7)","v":0},{"$f":"AJ7/(AL4-AJ20)","v":0},{"$f":"IF(AK7=0,0,(AK7*((LOG(AK7))/LOG(2))))","v":0},null,{"$f":"N7","v":1111},{"$f":"COUNTIF(L93:L114,AN7)","v":0},{"$f":"AO7/(AQ4-AO20)","v":0},{"$f":"IF(AP7=0,0,(AP7*((LOG(AP7))/LOG(2))))","v":0},null,{"$f":"N7","v":1111},{"$f":"COUNTIF(L115:L135,AS7)","v":0},{"$f":"AT7/(AV4-AT20)","v":0},{"$f":"IF(AU7=0,0,(AU7*((LOG(AU7))/LOG(2))))","v":0}]
[21,155,12,163,24,169,23,185,null,null,0,2122,null,1112,{"$f":"COUNTIF($L$7:$L$500,N8)","v":1},{"$f":"O8/$Q$4","v":7.7519379844961239E-3},{"$f":"IF(P8=0,0,(P8*((LOG(P8))/LOG(2))))","v":-5.435059887925002E-2},null,null,{"$f":"N8","v":1112},{"$f":"COUNTIF(L7:L28,T8)","v":0},{"$f":"U8/(W4-U20)","v":0},{"$f":"IF(V8=0,0,(V8*((LOG(V8))/LOG(2))))","v":0},null,{"$f":"N8","v":1112},{"$f":"COUNTIF(L29:L49,Y8)","v":0},{"$f":"Z8/(AB4-Z20)","v":0},{"$f":"IF(AA8=0,0,(AA8*((LOG(AA8))/LOG(2))))","v":0},null,{"$f":"N8","v":1112},{"$f":"COUNTIF(L50:L71,AD8)","v":0},{"$f":"AE8/(AG4-AE20)","v":0},{"$f":"IF(AF8=0,0,(AF8*((LOG(AF8))/LOG(2))))","v":0},null,{"$f":"N8","v":1112},{"$f":"COUNTIF(L72:L92,AI8)","v":0},{"$f":"AJ8/(AL4-AJ20)","v":0},{"$f":"IF(AK8=0,0,(AK8*((LOG(AK8))/LOG(2))))","v":0},null,{"$f":"N8","v":1112},{"$f":"COUNTIF(L93:L114,AN8)","v":0},{"$f":"AO8/(AQ4-AO20)","v":0},{"$f":"IF(AP8=0,0,(AP8*((LOG(AP8))/LOG(2))))","v":0},null,{"$f":"N8","v":1112},{"$f":"COUNTIF(L115:L135,AS8)","v":1},{"$f":"AT8/(AV4-AT20)","v":8.3333333333333329E-2},{"$f":"IF(AU8=0,0,(AU8*((LOG(AU8))/LOG(2))))","v":-0.29874687506009634}]
[21,285,12,307,24,313,14,334,null,null,0,2121,null,1121,{"$f":"COUNTIF($L$7:$L$500,N9)","v":1},{"$f":"O9/$Q$4","v":7.7519379844961239E-3},{"$f":"IF(P9=0,0,(P9*((LOG(P9))/LOG(2))))","v":-5.435059887925002E-2},null,null,{"$f":"N9","v":1121},{"$f":"COUNTIF(L7:L28,T9)","v":0},{"$f":"U9/(W4-U20)","v":0},{"$f":"IF(V9=0,0,(V9*((LOG(V9))/LOG(2))))","v":0},null,{"$f":"N9","v":1121},{"$f":"COUNTIF(L29:L49,Y9)","v":0},{"$f":"Z9/(AB4-Z20)","v":0},{"$f":"IF(AA9=0,0,(AA9*((LOG(AA9))/LOG(2))))","v":0},null,{"$f":"N9","v":1121},{"$f":"COUNTIF(L50:L71,AD9)","v":0},{"$f":"AE9/(AG4-AE20)","v":0},{"$f":"IF(AF9=0,0,(AF9*((LOG(AF9))/LOG(2))))","v":0},null,{"$f":"N9","v":1121},{"$f":"COUNTIF(L72:L92,AI9)","v":0},{"$f":"AJ9/(AL4-AJ20)","v":0},{"$f":"IF(AK9=0,0,(AK9*((LOG(AK9))/LOG(2))))","v":0},null,{"$f":"N9","v":1121},{"$f":"COUNTIF(L93:L114,AN9)","v":0},{"$f":"AO9/(AQ4-AO20)","v":0},{"$f":"IF(AP9=0,0,(AP9*((LOG(AP9))/LOG(2))))","v":0},null,{"$f":"N9","v":1121},{"$f":"COUNTIF(L115:L135,AS9)","v":1},{"$f":"AT9/(AV4-AT20)","v":8.3333333333333329E-2},{"$f":"IF(AU9=0,0,(AU9*((LOG(AU9))/LOG(2))))","v":-0.29874687506009634}]
[21,431,21,435,22,439,14,446,null,null,0,2221,null,1122,{"$f":"COUNTIF($L$7:$L$500,N10)","v":1},{"$f":"O10/$Q$4","v":7.7519379844961239E-3},{"$f":"IF(P10=0,0,(P10*((LOG(P10))/LOG(2))))","v":-5.435059887925002E-2},null,null,{"$f":"N10","v":1122},{"$f":"COUNTIF(L7:L28,T10)","v":0},{"$f":"U10/(W4-U20)","v":0},{"$f":"IF(V10=0,0,(V10*((LOG(V10))/LOG(2))))","v":0},null,{"$f":"N10","v":1122},{"$f":"COUNTIF(L29:L49,Y10)","v":0},{"$f":"Z10/(AB4-Z20)","v":0},{"$f":"IF(AA10=0,0,(AA10*((LOG(AA10))/LOG(2))))","v":0},null,{"$f":"N10","v":1122},{"$f":"COUNTIF(L50:L71,AD10)","v":0},{"$f":"AE10/(AG4-AE20)","v":0},{"$f":"IF(AF10=0,0,(AF10*((LOG(AF10))/LOG(2))))","v":0},null,{"$f":"N10","v":1122},{"$f":"COUNTIF(L72:L92,AI10)","v":1},{"$f":"AJ10/(AL4-AJ20)","v":6.25E-2},{"$f":"IF(AK10=0,0,(AK10*((LOG(AK10))/LOG(2))))","v":-0.25},null,{"$f":"N10","v":1122},{"$f":"COUNTIF(L93:L114,AN10)","v":0},{"$f":"AO10/(AQ4-AO20)","v":0},{"$f":"IF(AP10=0,0,(AP10*((LOG(AP10))/LOG(2))))","v":0},null,{"$f":"N10","v":1122},{"$f":"COUNTIF(L115:L135,AS10)","v":0},{"$f":"AT10/(AV4-AT20)","v":0},{"$f":"IF(AU10=0,0,(AU10*((LOG(AU10))/LOG(2))))","v":0}]
[21,543,21,547,11,556,21,562,null,null,0,2212,null,1211,{"$f":"COUNTIF($L$7:$L$500,N11)","v":0},{"$f":"O11/$Q$4","v":0},{"$f":"IF(P11=0,0,(P11*((LOG(P11))/LOG(2))))","v":0},null,null,{"$f":"N11","v":1211},{"$f":"COUNTIF(L7:L28,T11)","v":0},{"$f":"U11/(W4-U20)","v":0},{"$f":"IF(V11=0,0,(V11*((LOG(V11))/LOG(2))))","v":0},null,{"$f":"N11","v":1211},{"$f":"COUNTIF(L29:L49,Y11)","v":0},{"$f":"Z11/(AB4-Z20)","v":0},{"$f":"IF(AA11=0,0,(AA11*((LOG(AA11))/LOG(2))))","v":0},null,{"$f":"N11","v":1211},{"$f":"COUNTIF(L50:L71,AD11)","v":0},{"$f":"AE11/(AG4-AE20)","v":0},{"$f":"IF(AF11=0,0,(AF11*((LOG(AF11))/LOG(2))))","v":0},null,{"$f":"N11","v":1211},{"$f":"COUNTIF(L72:L92,AI11)","v":0},{"$f":"AJ11/(AL4-AJ20)","v":0},{"$f":"IF(AK11=0,0,(AK11*((LOG(AK11))/LOG(2))))","v":0},null,{"$f":"N11","v":1211},{"$f":"COUNTIF(L93:L114,AN11)","v":0},{"$f":"AO11/(AQ4-AO20)","v":0},{"$f":"IF(AP11=0,0,(AP11*((LOG(AP11))/LOG(2))))","v":0},null,{"$f":"N11","v":1211},{"$f":"COUNTIF(L115:L135,AS11)","v":0},{"$f":"AT11/(AV4-AT20)","v":0},{"$f":"IF(AU11=0,0,(AU11*((LOG(AU11))/LOG(2))))","v":0}]
[21,655,21,660,22,667,23,677,null,null,0,2222,null,1212,{"$f":"COUNTIF($L$7:$L$500,N12)","v":5},{"$f":"O12/$Q$4","v":3.875968992248062E-2},{"$f":"IF(P12=0,0,(P12*((LOG(P12))/LOG(2))))","v":-0.18175578141611984},null,null,{"$f":"N12","v":1212},{"$f":"COUNTIF(L7:L28,T12)","v":1},{"$f":"U12/(W4-U20)","v":5.5555555555555552E-2},{"$f":"IF(V12=0,0,(V12*((LOG(V12))/LOG(2))))","v":-0.23166250008012845},null,{"$f":"N12","v":1212},{"$f":"COUNTIF(L29:L49,Y12)","v":1},{"$f":"Z12/(AB4-Z20)","v":7.6923076923076927E-2},{"$f":"IF(AA12=0,0,(AA12*((LOG(AA12))/LOG(2))))","v":-0.28464920908777636},null,{"$f":"N12","v":1212},{"$f":"COUNTIF(L50:L71,AD12)","v":1},{"$f":"AE12/(AG4-AE20)","v":6.6666666666666666E-2},{"$f":"IF(AF12=0,0,(AF12*((LOG(AF12))/LOG(2))))","v":-0.26045937304056793},null,{"$f":"N12","v":1212},{"$f":"COUNTIF(L72:L92,AI12)","v":2},{"$f":"AJ12/(AL4-AJ20)","v":0.125},{"$f":"IF(AK12=0,0,(AK12*((LOG(AK12))/LOG(2))))","v":-0.375},null,{"$f":"N12","v":1212},{"$f":"COUNTIF(L93:L114,AN12)","v":0},{"$f":"AO12/(AQ4-AO20)","v":0},{"$f":"IF(AP12=0,0,(AP12*((LOG(AP12))/LOG(2))))","v":0},null,{"$f":"N12","v":1212},{"$f":"COUNTIF(L115:L135,AS12)","v":0},{"$f":"AT12/(AV4-AT20)","v":0},{"$f":"IF(AU12=0,0,(AU12*((LOG(AU12))/LOG(2))))","v":0}]
[21,775,21,779,11,790,21,795,null,null,0,2212,null,1221,{"$f":"COUNTIF($L$7:$L$500,N13)","v":6},{"$f":"O13/$Q$4","v":4.6511627906976744E-2},{"$f":"IF(P13=0,0,(P13*((LOG(P13))/LOG(2))))","v":-0.20587277928846967},null,null,{"$f":"N13","v":1221},{"$f":"COUNTIF(L7:L28,T13)","v":5},{"$f":"U13/(W4-U20)","v":0.27777777777777779},{"$f":"IF(V13=0,0,(V13*((LOG(V13))/LOG(2))))","v":-0.51333247404304172},null,{"$f":"N13","v":1221},{"$f":"COUNTIF(L29:L49,Y13)","v":0},{"$f":"Z13/(AB4-Z20)","v":0},{"$f":"IF(AA13=0,0,(AA13*((LOG(AA13))/LOG(2))))","v":0},null,{"$f":"N13","v":1221},{"$f":"COUNTIF(L50:L71,AD13)","v":1},{"$f":"AE13/(AG4-AE20)","v":6.6666666666666666E-2},{"$f":"IF(AF13=0,0,(AF13*((LOG(AF13))/LOG(2))))","v":-0.26045937304056793},null,{"$f":"N13","v":1221},{"$f":"COUNTIF(L72:L92,AI13)","v":0},{"$f":"AJ13/(AL4-AJ20)","v":0},{"$f":"IF(AK13=0,0,(AK13*((LOG(AK13))/LOG(2))))","v":0},null,{"$f":"N13","v":1221},{"$f":"COUNTIF(L93:L114,AN13)","v":0},{"$f":"AO13/(AQ4-AO20)","v":0},{"$f":"IF(AP13=0,0,(AP13*((LOG(AP13))/LOG(2))))","v":0},null,{"$f":"N13","v":1221},{"$f":"COUNTIF(L115:L135,AS13)","v":0},{"$f":"AT13/(AV4-AT20)","v":0},{"$f":"IF(AU13=0,0,(AU13*((LOG(AU13))/LOG(2))))","v":0}]
[12,896,23,902,24,914,14,923,null,null,0,1221,null,1222,{"$f":"COUNTIF($L$7:$L$500,N14)","v":1},{"$f":"O14/$Q$4","v":7.7519379844961239E-3},{"$f":"IF(P14=0,0,(P14*((LOG(P14))/LOG(2))))","v":-5.435059887925002E-2},null,null,{"$f":"N14","v":1222},{"$f":"COUNTIF(L7:L28,T14)","v":0},{"$f":"U14/(W4-U20)","v":0},{"$f":"IF(V14=0,0,(V14*((LOG(V14))/LOG(2))))","v":0},null,{"$f":"N14","v":1222},{"$f":"COUNTIF(L29:L49,Y14)","v":1},{"$f":"Z14/(AB4-Z20)","v":7.6923076923076927E-2},{"$f":"IF(AA14=0,0,(AA14*((LOG(AA14))/LOG(2))))","v":-0.28464920908777636},null,{"$f":"N14","v":1222},{"$f":"COUNTIF(L50:L71,AD14)","v":0},{"$f":"AE14/(AG4-AE20)","v":0},{"$f":"IF(AF14=0,0,(AF14*((LOG(AF14))/LOG(2))))","v":0},null,{"$f":"N14","v":1222},{"$f":"COUNTIF(L72:L92,AI14)","v":0},{"$f":"AJ14/(AL4-AJ20)","v":0},{"$f":"IF(AK14=0,0,(AK14*((LOG(AK14))/LOG(2))))","v":0},null,{"$f":"N14","v":1222},{"$f":"COUNTIF(L93:L114,AN14)","v":0},{"$f":"AO14/(AQ4-AO20)","v":0},{"$f":"IF(AP14=0,0,(AP14*((LOG(AP14))/LOG(2))))","v":0},null,{"$f":"N14","v":1222},{"$f":"COUNTIF(L115:L135,AS14)","v":0},{"$f":"AT14/(AV4-AT20)","v":0},{"$f":"IF(AU14=0,0,(AU14*((LOG(AU14))/LOG(2))))","v":0}]
[21,1020,21,1024,11,1033,21,1039,null,null,0,2212,null,2111,{"$f":"COUNTIF($L$7:$L$500,N15)","v":0},{"$f":"O15/$Q$4","v":0},{"$f":"IF(P15=0,0,(P15*((LOG(P15))/LOG(2))))","v":0},null,null,{"$f":"N15","v":2111},{"$f":"COUNTIF(L7:L28,T15)","v":0},{"$f":"U15/(W4-U20)","v":0},{"$f":"IF(V15=0,0,(V15*((LOG(V15))/LOG(2))))","v":0},null,{"$f":"N15","v":2111},{"$f":"COUNTIF(L29:L49,Y15)","v":0},{"$f":"Z15/(AB4-Z20)","v":0},{"$f":"IF(AA15=0,0,(AA15*((LOG(AA15))/LOG(2))))","v":0},null,{"$f":"N15","v":2111},{"$f":"COUNTIF(L50:L71,AD15)","v":0},{"$f":"AE15/(AG4-AE20)","v":0},{"$f":"IF(AF15=0,0,(AF15*((LOG(AF15))/LOG(2))))","v":0},null,{"$f":"N15","v":2111},{"$f":"COUNTIF(L72:L92,AI15)","v":0},{"$f":"AJ15/(AL4-AJ20)","v":0},{"$f":"IF(AK15=0,0,(AK15*((LOG(AK15))/LOG(2))))","v":0},null,{"$f":"N15","v":2111},{"$f":"COUNTIF(L93:L114,AN15)","v":0},{"$f":"AO15/(AQ4-AO20)","v":0},{"$f":"IF(AP15=0,0,(AP15*((LOG(AP15))/LOG(2))))","v":0},null,{"$f":"N15","v":2111},{"$f":"COUNTIF(L115:L135,AS15)","v":0},{"$f":"AT15/(AV4-AT20)","v":0},{"$f":"IF(AU15=0,0,(AU15*((LOG(AU15))/LOG(2))))","v":0}]
[21,1127,12,1135,24,1140,23,1152,null,null,0,2122,null,2112,{"$f":"COUNTIF($L$7:$L$500,N16)","v":1},{"$f":"O16/$Q$4","v":7.7519379844961239E-3},{"$f":"IF(P16=0,0,(P16*((LOG(P16))/LOG(2))))","v":-5.435059887925002E-2},null,null,{"$f":"N16","v":2112},{"$f":"COUNTIF(L7:L28,T16)","v":0},{"$f":"U16/(W4-U20)","v":0},{"$f":"IF(V16=0,0,(V16*((LOG(V16))/LOG(2))))","v":0},null,{"$f":"N16","v":2112},{"$f":"COUNTIF(L29:L49,Y16)","v":0},{"$f":"Z16/(AB4-Z20)","v":0},{"$f":"IF(AA16=0,0,(AA16*((LOG(AA16))/LOG(2))))","v":0},null,{"$f":"N16","v":2112},{"$f":"COUNTIF(L50:L71,AD16)","v":0},{"$f":"AE16/(AG4-AE20)","v":0},{"$f":"IF(AF16=0,0,(AF16*((LOG(AF16))/LOG(2))))","v":0},null,{"$f":"N16","v":2112},{"$f":"COUNTIF(L72:L92,AI16)","v":0},{"$f":"AJ16/(AL4-AJ20)","v":0},{"$f":"IF(AK16=0,0,(AK16*((LOG(AK16))/LOG(2))))","v":0},null,{"$f":"N16","v":2112},{"$f":"COUNTIF(L93:L114,AN16)","v":0},{"$f":"AO16/(AQ4-AO20)","v":0},{"$f":"IF(AP16=0,0,(AP16*((LOG(AP16))/LOG(2))))","v":0},null,{"$f":"N16","v":2112},{"$f":"COUNTIF(L115:L135,AS16)","v":1},{"$f":"AT16/(AV4-AT20)","v":8.3333333333333329E-2},{"$f":"IF(AU16=0,0,(AU16*((LOG(AU16))/LOG(2))))","v":-0.29874687506009634}]
[12,1256,23,1263,24,1270,14,1280,null,null,0,1221,null,2121,{"$f":"COUNTIF($L$7:$L$500,N17)","v":13},{"$f":"O17/$Q$4","v":0.10077519379844961},{"$f":"IF(P17=0,0,(P17*((LOG(P17))/LOG(2))))","v":-0.33364525569510156},null,null,{"$f":"N17","v":2121},{"$f":"COUNTIF(L7:L28,T17)","v":1},{"$f":"U17/(W4-U20)","v":5.5555555555555552E-2},{"$f":"IF(V17=0,0,(V17*((LOG(V17))/LOG(2))))","v":-0.23166250008012845},null,{"$f":"N17","v":2121},{"$f":"COUNTIF(L29:L49,Y17)","v":1},{"$f":"Z17/(AB4-Z20)","v":7.6923076923076927E-2},{"$f":"IF(AA17=0,0,(AA17*((LOG(AA17))/LOG(2))))","v":-0.28464920908777636},null,{"$f":"N17","v":2121},{"$f":"COUNTIF(L50:L71,AD17)","v":1},{"$f":"AE17/(AG4-AE20)","v":6.6666666666666666E-2},{"$f":"IF(AF17=0,0,(AF17*((LOG(AF17))/LOG(2))))","v":-0.26045937304056793},null,{"$f":"N17","v":2121},{"$f":"COUNTIF(L72:L92,AI17)","v":2},{"$f":"AJ17/(AL4-AJ20)","v":0.125},{"$f":"IF(AK17=0,0,(AK17*((LOG(AK17))/LOG(2))))","v":-0.375},null,{"$f":"N17","v":2121},{"$f":"COUNTIF(L93:L114,AN17)","v":4},{"$f":"AO17/(AQ4-AO20)","v":0.26666666666666666},{"$f":"IF(AP17=0,0,(AP17*((LOG(AP17))/LOG(2))))","v":-0.50850415882893829},null,{"$f":"N17","v":2121},{"$f":"COUNTIF(L115:L135,AS17)","v":4},{"$f":"AT17/(AV4-AT20)","v":0.33333333333333331},{"$f":"IF(AU17=0,0,(AU17*((LOG(AU17))/LOG(2))))","v":-0.52832083357371862}]
[12,1385,23,1391,13,1408,23,1414,null,null,0,1212,null,2122,{"$f":"COUNTIF($L$7:$L$500,N18)","v":38},{"$f":"O18/$Q$4","v":0.29457364341085274},{"$f":"IF(P18=0,0,(P18*((LOG(P18))/LOG(2))))","v":-0.51942162942036751},null,null,{"$f":"N18","v":2122},{"$f":"COUNTIF(L7:L28,T18)","v":6},{"$f":"U18/(W4-U20)","v":0.33333333333333331},{"$f":"IF(V18=0,0,(V18*((LOG(V18))/LOG(2))))","v":-0.52832083357371862},null,{"$f":"N18","v":2122},{"$f":"COUNTIF(L29:L49,Y18)","v":5},{"$f":"Z18/(AB4-Z20)","v":0.38461538461538464},{"$f":"IF(AA18=0,0,(AA18*((LOG(AA18))/LOG(2))))","v":-0.53019677817451139},null,{"$f":"N18","v":2122},{"$f":"COUNTIF(L50:L71,AD18)","v":9},{"$f":"AE18/(AG4-AE20)","v":0.6},{"$f":"IF(AF18=0,0,(AF18*((LOG(AF18))/LOG(2))))","v":-0.44217935649972373},null,{"$f":"N18","v":2122},{"$f":"COUNTIF(L72:L92,AI18)","v":8},{"$f":"AJ18/(AL4-AJ20)","v":0.5},{"$f":"IF(AK18=0,0,(AK18*((LOG(AK18))/LOG(2))))","v":-0.5},null,{"$f":"N18","v":2122},{"$f":"COUNTIF(L93:L114,AN18)","v":6},{"$f":"AO18/(AQ4-AO20)","v":0.4},{"$f":"IF(AP18=0,0,(AP18*((LOG(AP18))/LOG(2))))","v":-0.52877123795494496},null,{"$f":"N18","v":2122},{"$f":"COUNTIF(L115:L135,AS18)","v":4},{"$f":"AT18/(AV4-AT20)","v":0.33333333333333331},{"$f":"IF(AU18=0,0,(AU18*((LOG(AU18))/LOG(2))))","v":-0.52832083357371862}]
[21,1528,12,1538,24,1559,23,1574,null,null,0,2122,null,2211,{"$f":"COUNTIF($L$7:$L$500,N19)","v":0},{"$f":"O19/$Q$4","v":0},{"$f":"IF(P19=0,0,(P19*((LOG(P19))/LOG(2))))","v":0},null,null,{"$f":"N19","v":2211},{"$f":"COUNTIF(L7:L28,T19)","v":0},{"$f":"U19/(W4-U20)","v":0},{"$f":"IF(V19=0,0,(V19*((LOG(V19))/LOG(2))))","v":0},null,{"$f":"N19","v":2211},{"$f":"COUNTIF(L29:L49,Y19)","v":0},{"$f":"Z19/(AB4-Z20)","v":0},{"$f":"IF(AA19=0,0,(AA19*((LOG(AA19))/LOG(2))))","v":0},null,{"$f":"N19","v":2211},{"$f":"COUNTIF(L50:L71,AD19)","v":0},{"$f":"AE19/(AG4-AE20)","v":0},{"$f":"IF(AF19=0,0,(AF19*((LOG(AF19))/LOG(2))))","v":0},null,{"$f":"N19","v":2211},{"$f":"COUNTIF(L72:L92,AI19)","v":0},{"$f":"AJ19/(AL4-AJ20)","v":0},{"$f":"IF(AK19=0,0,(AK19*((LOG(AK19))/LOG(2))))","v":0},null,{"$f":"N19","v":2211},{"$f":"COUNTIF(L93:L114,AN19)","v":0},{"$f":"AO19/(AQ4-AO20)","v":0},{"$f":"IF(AP19=0,0,(AP19*((LOG(AP19))/LOG(2))))","v":0},null,{"$f":"N19","v":2211},{"$f":"COUNTIF(L115:L135,AS19)","v":0},{"$f":"AT19/(AV4-AT20)","v":0},{"$f":"IF(AU19=0,0,(AU19*((LOG(AU19))/LOG(2))))","v":0}]
[21,1672,12,1683,24,1688,23,1696,null,null,0,2122,null,2212,{"$f":"COUNTIF($L$7:$L$500,N20)","v":40},{"$f":"O20/$Q$4","v":0.31007751937984496},{"$f":"IF(P20=0,0,(P20*((LOG(P20))/LOG(2))))","v":-0.52381369318942383},null,null,{"$f":"N20","v":2212},{"$f":"COUNTIF(L7:L28,T20)","v":4},null,null,null,{"$f":"N20","v":2212},{"$f":"COUNTIF(L29:L49,Y20)","v":8},null,null,null,{"$f":"N20","v":2212},{"$f":"COUNTIF(L50:L71,AD20)","v":7},null,null,null,{"$f":"N20","v":2212},{"$f":"COUNTIF(L72:L92,AI20)","v":5},null,null,null,{"$f":"N20","v":2212},{"$f":"COUNTIF(L93:L114,AN20)","v":7},null,null,null,{"$f":"N20","v":2212},{"$f":"COUNTIF(L115:L135,AS20)","v":9}]
[21,1797,12,1804,24,1812,23,1825,null,null,0,2122,null,2221,{"$f":"COUNTIF($L$7:$L$500,N21)","v":13},{"$f":"O21/$Q$4","v":0.10077519379844961},{"$f":"IF(P21=0,0,(P21*((LOG(P21))/LOG(2))))","v":-0.33364525569510156},null,null,{"$f":"N21","v":2221},{"$f":"COUNTIF(L7:L28,T21)","v":3},{"$f":"U21/(W4-U20)","v":0.16666666666666666},{"$f":"IF(V21=0,0,(V21*((LOG(V21))/LOG(2))))","v":-0.43082708345352599},null,{"$f":"N21","v":2221},{"$f":"COUNTIF(L29:L49,Y21)","v":1},{"$f":"Z21/(AB4-Z20)","v":7.6923076923076927E-2},{"$f":"IF(AA21=0,0,(AA21*((LOG(AA21))/LOG(2))))","v":-0.28464920908777636},null,{"$f":"N21","v":2221},{"$f":"COUNTIF(L50:L71,AD21)","v":2},{"$f":"AE21/(AG4-AE20)","v":0.13333333333333333},{"$f":"IF(AF21=0,0,(AF21*((LOG(AF21))/LOG(2))))","v":-0.3875854127478025},null,{"$f":"N21","v":2221},{"$f":"COUNTIF(L72:L92,AI21)","v":2},{"$f":"AJ21/(AL4-AJ20)","v":0.125},{"$f":"IF(AK21=0,0,(AK21*((LOG(AK21))/LOG(2))))","v":-0.375},null,{"$f":"N21","v":2221},{"$f":"COUNTIF(L93:L114,AN21)","v":4},{"$f":"AO21/(AQ4-AO20)","v":0.26666666666666666},{"$f":"IF(AP21=0,0,(AP21*((LOG(AP21))/LOG(2))))","v":-0.50850415882893829},null,{"$f":"N21","v":2221},{"$f":"COUNTIF(L115:L135,AS21)","v":1},{"$f":"AT21/(AV4-AT20)","v":8.3333333333333329E-2},{"$f":"IF(AU21=0,0,(AU21*((LOG(AU21))/LOG(2))))","v":-0.29874687506009634}]
[12,1932,23,1938,24,1954,14,1961,null,null,0,1221,null,2222,{"$f":"COUNTIF($L$7:$L$500,N22)","v":9},{"$f":"O22/$Q$4","v":6.9767441860465115E-2},{"$f":"IF(P22=0,0,(P22*((LOG(P22))/LOG(2))))","v":-0.26799783167308894},null,null,{"$f":"N22","v":2222},{"$f":"COUNTIF(L7:L28,T22)","v":2},{"$f":"U22/(W4-U20)","v":0.1111111111111111},{"$f":"IF(V22=0,0,(V22*((LOG(V22))/LOG(2))))","v":-0.3522138890491458},null,{"$f":"N22","v":2222},{"$f":"COUNTIF(L29:L49,Y22)","v":4},{"$f":"Z22/(AB4-Z20)","v":0.30769230769230771},{"$f":"IF(AA22=0,0,(AA22*((LOG(AA22))/LOG(2))))","v":-0.52321222096648989},null,{"$f":"N22","v":2222},{"$f":"COUNTIF(L50:L71,AD22)","v":1},{"$f":"AE22/(AG4-AE20)","v":6.6666666666666666E-2},{"$f":"IF(AF22=0,0,(AF22*((LOG(AF22))/LOG(2))))","v":-0.26045937304056793},null,{"$f":"N22","v":2222},{"$f":"COUNTIF(L72:L92,AI22)","v":1},{"$f":"AJ22/(AL4-AJ20)","v":6.25E-2},{"$f":"IF(AK22=0,0,(AK22*((LOG(AK22))/LOG(2))))","v":-0.25},null,{"$f":"N22","v":2222},{"$f":"COUNTIF(L93:L114,AN22)","v":1},{"$f":"AO22/(AQ4-AO20)","v":6.6666666666666666E-2},{"$f":"IF(AP22=0,0,(AP22*((LOG(AP22))/LOG(2))))","v":-0.26045937304056793},null,{"$f":"N22","v":2222},{"$f":"COUNTIF(L115:L135,AS22)","v":0},{"$f":"AT22/(AV4-AT20)","v":0},{"$f":"IF(AU22=0,0,(AU22*((LOG(AU22))/LOG(2))))","v":0}]
[21,2060,21,2075,22,2090,14,2097,null,null,0,2221,null,null,null,{"$f":"SUM(P7:P22)","v":1},{"$f":"-SUM(Q7:Q22)","v":2.6379052207739231},null,null,null,null,{"$f":"SUM(V7:V22)","v":1},{"$f":"-SUM(W7:W22)","v":2.288019280279689},null,null,null,{"$f":"SUM(AA7:AA22)","v":1},{"$f":"-SUM(AB7:AB22)","v":2.1920058354921066},null,null,null,{"$f":"SUM(AF7:AF22)","v":1},{"$f":"-SUM(AG7:AG22)","v":1.871602261409798},null,null,null,{"$f":"SUM(AK7:AK22)","v":1},{"$f":"-SUM(AL7:AL22)","v":2.125},null,null,null,{"$f":"SUM(AP7:AP22)","v":1},{"$f":"-SUM(AQ7:AQ22)","v":1.8062389286533895},null,null,null,{"$f":"SUM(AU7:AU22)","v":0.99999999999999989},{"$f":"-SUM(AV7:AV22)","v":2.2516291673878226}]
[21,2194,21,2201,11,2208,21,2214,null,null,0,2212,null,null,null,"U=",{"$f":"Q23/(LOG(Q4)/LOG(2))","v":0.3762401537809914},null,null,null,null,"U1=",{"$f":"W23/(LOG(W4)/LOG(2))","v":0.51307419329346204},null,null,null,"U2=",{"$f":"AB23/(LOG(AB4)/LOG(2))","v":0.4990545137116601},null,null,null,"U3=",{"$f":"AG23/(LOG(AG4)/LOG(2))","v":0.41969524851279544},null,null,null,"U4=",{"$f":"AL23/(LOG(AL4)/LOG(2))","v":0.48379927848102505},null,null,null,"U5=",{"$f":"AQ23/(LOG(AQ4)/LOG(2))","v":0.40503792481189244},null,null,null,"U6=",{"$f":"AV23/(LOG(AV4)/LOG(2))","v":0.51262897251249873}]
[21,2301,21,2305,22,2326,23,2334,null,null,0,2222]
[12,2440,23,2445,24,2459,14,2468,null,null,0,1221]
[21,2564,21,2568,22,2574,14,2582,null,null,0,2221,null,"Total Target Seq"]
[12,2687,23,2694,24,2706,14,2713,null,null,0,1221,null,{"$f":"COUNTIF(L7:L135,G3)","v":40},null,22,21,22,21,22,21]
[21,2810,21,2815,22,2828,23,2836,null,null,0,2222,null,null,null,"% of reinforcement given in 6 equal intervals based on number of trials "]
[21,2933,21,2937,11,2945,21,2950,null,null,0,2212,null,null,null,"%_1","%_2","%_3","%_4","%_5","%_6"]
[12,3048,23,3056,13,3064,23,3070,null,null,0,1212,null,null,"target sequence",{"$f":"$G$3","v":2212},{"$f":"$G$3","v":2212},{"$f":"$G$3","v":2212},{"$f":"$G$3","v":2212},{"$f":"$G$3","v":2212},{"$f":"$G$3","v":2212}]
[21,3174,21,3185,11,3192,21,3197,null,null,0,2212,null,null,"total reinforcement",{"$f":"U20","v":4},{"$f":"Z20","v":8},{"$f":"AE20","v":7},{"$f":"AJ20","v":5},{"$f":"AO20","v":7},{"$f":"AT20","v":9}]
[21,3301,21,3305,11,3312,21,3319,null,null,0,2212,null,null,"% target"]
[21,3404,21,3408,11,3415,21,3431,null,null,0,2212,null,null,"CCRF"]
[21,3519,21,3523,11,3531,21,3540,null,null,0,2212,null,null,"% CCRf"]
[21,3629,12,3641,24,3659,23,3668,null,null,0,2122,null,null,"average response rate",{"$f":"H28/P28","v":123.31818181818181},{"$f":"(H49-H28)/Q28","v":122.85714285714286},{"$f":"(H71-H49)/R28","v":124.45454545454545},{"$f":"(H92-H71)/S28","v":128.95238095238096},{"$f":"(H114-H92)/T28","v":124.81818181818181},{"$f":"(H135-H114)/U28","v":124.61904761904762}]
[12,3775,23,3793,24,3804,23,3811,null,null,0,1222]
[21,3907,21,3911,11,3918,21,3923,null,null,0,2212]
[21,4012,12,4019,24,4030,14,4047,null,null,0,2121]
[21,4146,21,4153,22,4172,23,4182,null,null,0,2222]
[21,4276,21,4283,22,4299,23,4311,null,null,0,2222]
[21,4406,21,4410,22,4417,14,4428,null,null,0,2221]
[21,4531,12,4538,24,4544,23,4555,null,null,0,2122]
[21,4655,12,4661,24,4671,23,4681,null,null,0,2122]
[21,4780,12,4794,24,4800,23,4815,null,null,0,2122]
[21,4910,21,4914,11,4921,21,4925,null,null,0,2212]
[21,5011,21,5015,11,5026,21,5039,null,null,0,2212]
[21,5123,21,5135,22,5148,23,5158,null,null,0,2222]
[21,5258,12,5265,24,5283,23,5293,null,null,0,2122]
[12,5401,23,5407,24,5415,14,5424,null,null,0,1221]
[21,5522,12,5528,24,5535,23,5546,null,null,0,2122]
[21,5642,21,5647,11,5654,21,5660,null,null,0,2212]
[21,5750,12,5757,24,5763,23,5779,null,null,0,2122]
[21,5876,12,5887,24,5905,23,5915,null,null,0,2122]
[21,6012,12,6020,24,6038,14,6055,null,null,0,2121]
[21,6152,21,6156,11,6163,21,6173,null,null,0,2212]
[21,6260,12,6267,24,6274,23,6286,null,null,0,2122]
[21,6383,21,6387,22,6401,14,6409,null,null,0,2221]
[21,6505,21,6512,11,6519,21,6523,null,null,0,2212]
[21,6610,12,6617,24,6627,23,6647,null,null,0,2122]
[21,6742,21,6754,11,6760,21,6776,null,null,0,2212]
[21,6876,12,6884,24,6893,23,6906,null,null,0,2122]
[21,7002,21,7007,11,7014,21,7023,null,null,0,2212]
[21,7109,21,7114,22,7132,23,7143,null,null,0,2222]
[21,7238,12,7246,24,7251,23,7263,null,null,0,2122]
[21,7360,21,7364,11,7371,21,7388,null,null,0,2212]
[21,7474,12,7483,24,7493,23,7505,null,null,0,2122]
[12,7624,23,7631,13,7647,23,7653,null,null,0,1212]
[21,7750,21,7767,11,7779,21,7785,null,null,0,2212]
[21,7870,21,7891,22,7902,14,7910,null,null,0,2221]
[21,8004,12,8012,24,8023,23,8031,null,null,0,2122]
[21,8128,12,8134,24,8141,23,8157,null,null,0,2122]
[21,8258,21,8272,22,8281,23,8295,null,null,0,2222]
[21,8396,12,8408,24,8412,23,8423,null,null,0,2122]
[21,8519,21,8523,11,8529,21,8542,null,null,0,2212]
[21,8628,12,8638,24,8644,23,8652,null,null,0,2122]
[21,8749,21,8762,22,8778,14,8789,null,null,0,2221]
[21,8886,21,8891,22,8901,14,8912,null,null,0,2221]
[21,9010,21,9022,11,9029,21,9039,null,null,0,2212]
[21,9129,12,9137,24,9148,23,9159,null,null,0,2122]
[21,9260,12,9267,24,9276,23,9287,null,null,0,2122]
[12,9394,14,9416,24,9434,23,9440,null,null,0,1122]
[21,9539,12,9546,24,9555,23,9570,null,null,0,2122]
[21,9665,21,9669,11,9676,21,9690,null,null,0,2212]
[12,9789,23,9796,13,9810,23,9820,null,null,0,1212]
[12,9945,23,9958,13,9975,23,9984,null,null,0,1212]
[21,10080,21,10084,11,10090,21,10100,null,null,0,2212]
[21,10202,12,10209,24,10213,14,10225,null,null,0,2121]
[21,10323,12,10331,24,10341,23,10353,null,null,0,2122]
[21,10449,21,10454,11,10460,21,10475,null,null,0,2212]
[21,10565,12,10572,24,10578,14,10601,null,null,0,2121]
[21,10697,12,10706,24,10723,23,10739,null,null,0,2122]
[21,10836,12,10843,24,10850,23,10861,null,null,0,2122]
[21,10958,12,10964,24,10970,23,10982,null,null,0,2122]
[21,11078,21,11082,11,11088,21,11093,null,null,0,2212]
[21,11181,21,11194,22,11210,14,11218,null,null,0,2221]
[21,11318,21,11342,22,11354,14,11361,null,null,0,2221]
[21,11462,12,11468,24,11483,23,11491,null,null,0,2122]
[21,11587,21,11591,11,11597,21,11612,null,null,0,2212]
[21,11699,21,11703,11,11709,21,11715,null,null,0,2212]
[21,11807,12,11814,24,11824,14,11841,null,null,0,2121]
[21,11941,12,11948,24,11967,23,11983,null,null,0,2122]
[21,12079,21,12083,11,12090,21,12100,null,null,0,2212]
[21,12188,12,12196,24,12208,23,12216,null,null,0,2122]
[21,12312,21,12328,22,12345,14,12356,null,null,0,2221]
[21,12451,12,12466,24,12472,23,12485,null,null,0,2122]
[21,12581,21,12589,22,12602,14,12613,null,null,0,2221]
[21,12712,12,12718,24,12732,14,12739,null,null,0,2121]
[21,12836,21,12846,11,12853,21,12859,null,null,0,2212]
[21,12951,12,12958,24,12968,14,12999,null,null,0,2121]
[21,13095,21,13100,11,13106,21,13124,null,null,0,2212]
[21,13212,12,13224,24,13233,14,13244,null,null,0,2121]
[21,13340,21,13344,22,13358,23,13368,null,null,0,2222]
[21,13464,21,13469,11,13477,21,13485,null,null,0,2212]
[21,13577,12,13585,24,13600,23,13616,null,null,0,2122]
[21,13717,21,13723,11,13729,21,13736,null,null,0,2212]
[12,13847,14,13852,13,13868,23,13881,null,null,0,1112]
[12,13980,14,13994,24,14005,14,14016,null,null,0,1121]
[21,14114,12,14122,24,14129,23,14141,null,null,0,2122]
[21,14237,21,14258,11,14271,21,14295,null,null,0,2212]
[21,14382,12,14389,13,14406,23,14416,null,null,0,2112]
[21,14513,21,14520,11,14526,21,14532,null,null,0,2212]
[21,14616,21,14624,11,14632,21,14645,null,null,0,2212]
[21,14737,12,14744,24,14757,14,14774,null,null,0,2121]
[21,14872,12,14879,24,14886,14,14896,null,null,0,2121]
[21,14992,21,14996,11,15003,21,15010,null,null,0,2212]
[21,15096,12,15109,24,15123,23,15138,null,null,0,2122]
[21,15235,21,15239,11,15246,21,15253,null,null,0,2212]
[21,15339,21,15346,11,15353,21,15364,null,null,0,2212]
[21,15452,12,15459,24,15483,14,15493,null,null,0,2121]
[21,15597,12,15604,24,15614,23,15628,null,null,0,2122]
[21,15724,21,15728,11,15734,21,15749,null,null,0,2212]
[21,15836,21,15841,22,15849,14,15855,null,null,0,2221]
[21,15954,12,15961,24,15967,14,15983,null,null,0,2121]
[21,16081,21,16085,11,16091,21,16102,null,null,1,2212]