{"text_format":"1","workbook":"xlsx","n_sheets":33,"sheets":["Sample Report","Summary","Start","!MC30D20.095","!N102B20.095","!N103950.095","!N104C40.095","!N105A10.095","!N106840.095","!N107930.095","!N108A40.095","!N109930.095","!N110B00.095","!N111C00.095","!N112920.095","!N113A30.095","!N114940.095","!N115950.095","!N116930.095","!N117B20.095","!N118C50.095","!N119900.095","!N120B20.095","!N121B40.095","!N122A10.095","!N123C20.095","!N124B00.095","!N125B30.095","!N127B50.095","!N128A10.095","!N129C00.095","!N130A50.095","!N202B50.095"],"not_rendered":{"charts":0,"images":0,"macros":1,"external_links":0,"defined_names":0,"comments":0,"pivot_tables":0},"unopened":[],"bounds":{"document_bytes":16777216,"sheet_cells":100000,"rows_first":2000,"rows_last":500,"rows_between":2000,"halvings":0,"cell_chars":16384,"cell_head_chars":4096},"cells_cut":0,"cells_raw":0,"read":"whole","date_system":"1900"}

{"sheet":"Sample Report","index":0,"n_rows":12,"n_cols":11,"rows_kept":12,"cut":false,"hidden":true,"merged":[[7,0,7,6]]}
[]
["Date"]
["Hen"]
["Program"]
["Start at 999999"]
["Sequence component 1","Time 1","Seqeunce Component 2","Time 2","Seqeunce Component 3","Time 3","Correct   0 = No 1=Yes",null,null,"Seqeunce","Time"]
[12,7,12,42,13,18,"if 77 new line,                                  if 31 or 41 = yes new line on 77, ",null,null,"=string of Seqeunce compponent 1, 2 & 3","=time 3"]
["This continues until ther is a 1 on its own to indicate start of summary data"]
[null,null,null,null,null,null,null,null,null,"10-19 =1"]
["Summary Data ",null,null,null,null,null,null,null,null,"20-29 =2"]
["Correct","Incorrect","Rft","total","Av Correct","Av Incorrect","Percent correct","Time",null,"in this example the seqeunce would be 111"]
[40,33,40,73,23.95,15,54,806]

{"sheet":"Summary","index":1,"n_rows":32,"n_cols":24,"rows_kept":32,"cut":false,"hidden":false,"merged":[]}
[]
["Day","Date","Average Response Rate","Target %","RF for non correct sequence","U Value",null,null,null,null,"Block 1","Block 2","Block 3","Block 4","Block 5","Block 6"]
[1,{"$f":"'!MC30D20.095'!B2:C2","v":"<date>"},{"$f":"('!MC30D20.095'!H175/60)/'!MC30D20.095'!Q3","v":2.3622287968441813},{"$f":"'!MC30D20.095'!N28/'!MC30D20.095'!Q3","v":0},{"$f":"SUM('!MC30D20.095'!L28:Q28)/'!MC30D20.095'!Q3","v":6.9644970414201186},{"$f":"'!MC30D20.095'!Q24","v":0.20197885439879143},null,null,null,"Average Response Rate",{"$f":"AVERAGE(C3:C7)","v":2.4872923547219532},{"$f":"AVERAGE(C8:C12)","v":2.7121075481034316},{"$f":"AVERAGE(C13:C17)","v":2.5661072282185811},{"$f":"AVERAGE(C18:C22)","v":2.4807424154716382},{"$f":"AVERAGE(C23:C27)","v":3.638342726150845},{"$f":"AVERAGE(C28:C32)","v":15.158810001592609}]
[2,{"$f":"'!N102B20.095'!B2:C2","v":"<date>"},{"$f":"('!N102B20.095'!H167/60)/'!N102B20.095'!Q3","v":2.4845755693581779},{"$f":"'!N102B20.095'!N28/'!N102B20.095'!Q3","v":0},{"$f":"SUM('!N102B20.095'!L28:Q28)/'!N102B20.095'!Q3","v":7.2360248447204967},{"$f":"'!N102B20.095'!Q24","v":0.16278825505328554},null,null,null,"Target %",{"$f":"AVERAGE(D3:D7)","v":2.3865414710485134E-2},{"$f":"AVERAGE(D8:D12)","v":0.11377031145631725},{"$f":"AVERAGE(D13:D17)","v":0.14795456152085135},{"$f":"AVERAGE(D18:D22)","v":0.16430280039562287},{"$f":"AVERAGE(D23:D27)","v":0.22993556987709757},{"$f":"AVERAGE(D28:D32)","v":0.24410978831418095}]
[3,{"$f":"'!N103950.095'!B2:C2","v":"<date>"},{"$f":"('!N103950.095'!H81/60)/'!N103950.095'!Q3","v":4.8148888888888886},{"$f":"'!N103950.095'!N28/'!N103950.095'!Q3","v":0},{"$f":"SUM('!N103950.095'!L28:Q28)/'!N103950.095'!Q3","v":29.813333333333333},{"$f":"'!N103950.095'!Q24","v":0.44879762567829479},null,null,null,"CCRF",{"$f":"AVERAGE(E3:E7)","v":13.610967444520767},{"$f":"AVERAGE(E8:E12)","v":12.552236114544028},{"$f":"AVERAGE(E13:E17)","v":10.990294982901235},{"$f":"AVERAGE(E18:E22)","v":14.30369809179847},{"$f":"AVERAGE(E23:E27)","v":18.410637134731566},{"$f":"AVERAGE(E28:E32)","v":13.522329348523879}]
[4,{"$f":"'!N104C40.095'!B2:C2","v":"<date>"},{"$f":"('!N104C40.095'!H150/60)/'!N104C40.095'!Q3","v":2.7747685185185187},{"$f":"'!N104C40.095'!N28/'!N104C40.095'!Q3","v":2.7777777777777776E-2},{"$f":"SUM('!N104C40.095'!L28:Q28)/'!N104C40.095'!Q3","v":15.090277777777779},{"$f":"'!N104C40.095'!Q24","v":0.33839334714339231},null,null,null,"U Value",{"$f":"AVERAGE(F3:F7)","v":0.33291682182100424},{"$f":"AVERAGE(F8:F12)","v":0.51275113102972381},{"$f":"AVERAGE(F13:F17)","v":0.41847685235807164},{"$f":"AVERAGE(F18:F22)","v":0.41524380504184349},{"$f":"AVERAGE(F23:F27)","v":0.41315484270224401},{"$f":"AVERAGE(F28:F32)","v":0.59606388980400871}]
[5,{"$f":"'!N105A10.095'!B2:C2","v":"<date>"},{"$f":"('!N105A10.095'!H148/60)/'!N105A10.095'!Q3","v":0},{"$f":"'!N105A10.095'!N28/'!N105A10.095'!Q3","v":9.154929577464789E-2},{"$f":"SUM('!N105A10.095'!L28:Q28)/'!N105A10.095'!Q3","v":8.9507042253521121},{"$f":"'!N105A10.095'!Q24","v":0.51262602683125691}]
[6,{"$f":"'!N106840.095'!B2:C2","v":"<date>"},{"$f":"('!N106840.095'!H160/60)/'!N106840.095'!Q3","v":2.5871212121212124},{"$f":"'!N106840.095'!N28/'!N106840.095'!Q3","v":0.11038961038961038},{"$f":"SUM('!N106840.095'!L28:Q28)/'!N106840.095'!Q3","v":7.662337662337662},{"$f":"'!N106840.095'!Q24","v":0.52691721025991922}]
[7,{"$f":"'!N107930.095'!B2:C2","v":"<date>"},{"$f":"('!N107930.095'!H155/60)/'!N107930.095'!Q3","v":2.6778523489932886},{"$f":"'!N107930.095'!N28/'!N107930.095'!Q3","v":0.12080536912751678},{"$f":"SUM('!N107930.095'!L28:Q28)/'!N107930.095'!Q3","v":15.302013422818792},{"$f":"'!N107930.095'!Q24","v":0.51325450527243854},{"$f":"K3","v":2.4872923547219532},{"$f":"L3","v":2.7121075481034316},{"$f":"M3","v":2.5661072282185811},{"$f":"N3","v":2.4807424154716382},{"$f":"O3","v":3.638342726150845},{"$f":"P3","v":15.158810001592609},{"$f":"K4","v":2.3865414710485134E-2},{"$f":"L4","v":0.11377031145631725},{"$f":"M4","v":0.14795456152085135},{"$f":"N4","v":0.16430280039562287},{"$f":"O4","v":0.22993556987709757},{"$f":"P4","v":0.24410978831418095},{"$f":"K6","v":0.33291682182100424},{"$f":"L6","v":0.51275113102972381},{"$f":"M6","v":0.41847685235807164},{"$f":"N6","v":0.41524380504184349},{"$f":"O6","v":0.41315484270224401},{"$f":"P6","v":0.59606388980400871}]
[8,{"$f":"'!N108A40.095'!B2:C2","v":"<date>"},{"$f":"('!N108A40.095'!H147/60)/'!N108A40.095'!Q3","v":2.8352245862884158},{"$f":"'!N108A40.095'!N28/'!N108A40.095'!Q3","v":0.12056737588652482},{"$f":"SUM('!N108A40.095'!L28:Q28)/'!N108A40.095'!Q3","v":15.49645390070922},{"$f":"'!N108A40.095'!Q24","v":0.52159038465094698}]
[9,{"$f":"'!N109930.095'!B2:C2","v":"<date>"},{"$f":"('!N109930.095'!H155/60)/'!N109930.095'!Q3","v":2.6518888888888892},{"$f":"'!N109930.095'!N28/'!N109930.095'!Q3","v":0.14666666666666667},{"$f":"SUM('!N109930.095'!L28:Q28)/'!N109930.095'!Q3","v":15.293333333333333},{"$f":"'!N109930.095'!Q24","v":0.49215612095205302}]
[10,{"$f":"'!N110B00.095'!B2:C2","v":"<date>"},{"$f":"('!N110B00.095'!H148/60)/'!N110B00.095'!Q3","v":2.8084507042253524},{"$f":"'!N110B00.095'!N28/'!N110B00.095'!Q3","v":7.0422535211267609E-2},{"$f":"SUM('!N110B00.095'!L28:Q28)/'!N110B00.095'!Q3","v":9.0070422535211261},{"$f":"'!N110B00.095'!Q24","v":0.50983743401326131}]
[11,{"$f":"'!N111C00.095'!B2:C2","v":"<date>"},{"$f":"('!N111C00.095'!H152/60)/'!N111C00.095'!Q3","v":2.7074829931972788},{"$f":"'!N111C00.095'!N28/'!N111C00.095'!Q3","v":8.1632653061224483E-2},{"$f":"SUM('!N111C00.095'!L28:Q28)/'!N111C00.095'!Q3","v":14.850340136054422},{"$f":"'!N111C00.095'!Q24","v":0.48968963650640235}]
[12,{"$f":"'!N112920.095'!B2:C2","v":"<date>"},{"$f":"('!N112920.095'!H159/60)/'!N112920.095'!Q3","v":2.60599128540305},{"$f":"'!N112920.095'!N28/'!N112920.095'!Q3","v":5.2287581699346407E-2},{"$f":"SUM('!N112920.095'!L28:Q28)/'!N112920.095'!Q3","v":14.254901960784315},{"$f":"'!N112920.095'!Q24","v":0.40189444501627747}]
[13,{"$f":"'!N113A30.095'!B2:C2","v":"<date>"},{"$f":"('!N113A30.095'!H159/60)/'!N113A30.095'!Q3","v":2.6049019607843138},{"$f":"'!N113A30.095'!N28/'!N113A30.095'!Q3","v":0.16993464052287582},{"$f":"SUM('!N113A30.095'!L28:Q28)/'!N113A30.095'!Q3","v":8.4248366013071898},{"$f":"'!N113A30.095'!Q24","v":0.45662585579930304}]
[14,{"$f":"'!N114940.095'!B2:C2","v":"<date>"},{"$f":"('!N114940.095'!H168/60)/'!N114940.095'!Q3","v":2.4649176954732508},{"$f":"'!N114940.095'!N28/'!N114940.095'!Q3","v":0.14814814814814814},{"$f":"SUM('!N114940.095'!L28:Q28)/'!N114940.095'!Q3","v":8.018518518518519},{"$f":"'!N114940.095'!Q24","v":0.34699960814419262}]
[15,{"$f":"'!N115950.095'!B2:C2","v":"<date>"},{"$f":"('!N115950.095'!H145/60)/'!N115950.095'!Q3","v":2.4472422062350123},{"$f":"'!N115950.095'!N28/'!N115950.095'!Q3","v":0.28776978417266186},{"$f":"SUM('!N115950.095'!L28:Q28)/'!N115950.095'!Q3","v":9.4028776978417259},{"$f":"'!N115950.095'!Q24","v":0.39717471632418289}]
[16,{"$f":"'!N116930.095'!B2:C2","v":"<date>"},{"$f":"('!N116930.095'!H132/60)/'!N116930.095'!Q3","v":3.162962962962963},{"$f":"'!N116930.095'!N28/'!N116930.095'!Q3","v":0.15873015873015872},{"$f":"SUM('!N116930.095'!L28:Q28)/'!N116930.095'!Q3","v":17.333333333333332},{"$f":"'!N116930.095'!Q24","v":0.36954429758883861}]
[17,{"$f":"'!N117B20.095'!B2:C2","v":"<date>"},{"$f":"('!N117B20.095'!H142/60)/'!N117B20.095'!Q3","v":2.7069852941176471},{"$f":"'!N117B20.095'!N28/'!N117B20.095'!Q3","v":0.29411764705882354},{"$f":"SUM('!N117B20.095'!L28:Q28)/'!N117B20.095'!Q3","v":16.227941176470587},{"$f":"'!N117B20.095'!Q24","v":0.34957790300790054}]
[18,{"$f":"'!N118C50.095'!B2:C2","v":"<date>"},{"$f":"('!N118C50.095'!H135/60)/'!N118C50.095'!Q3","v":2.8787179487179486},{"$f":"'!N118C50.095'!N28/'!N118C50.095'!Q3","v":0.27692307692307694},{"$f":"SUM('!N118C50.095'!L28:Q28)/'!N118C50.095'!Q3","v":17.692307692307693},{"$f":"'!N118C50.095'!Q24","v":0.42125870142955818}]
[19,{"$f":"'!N119900.095'!B2:C2","v":"<date>"},{"$f":"('!N119900.095'!H14/60)/'!N119900.095'!Q3","v":0},{"$f":"'!N119900.095'!N28/'!N119900.095'!Q3","v":0},{"$f":"SUM('!N119900.095'!L28:Q28)/'!N119900.095'!Q3","v":0.375},{"$f":"'!N119900.095'!Q24","v":0.49113258984568253}]
[20,{"$f":"'!N120B20.095'!B2:C2","v":"<date>"},{"$f":"('!N120B20.095'!H115/60)/'!N120B20.095'!Q3","v":3.6550458715596328},{"$f":"'!N120B20.095'!N28/'!N120B20.095'!Q3","v":9.1743119266055051E-2},{"$f":"SUM('!N120B20.095'!L28:Q28)/'!N120B20.095'!Q3","v":19.889908256880734},{"$f":"'!N120B20.095'!Q24","v":0.44470553333723756}]
[21,{"$f":"'!N121B40.095'!B2:C2","v":"<date>"},{"$f":"('!N121B40.095'!H120/60)/'!N121B40.095'!Q3","v":2.877046783625731},{"$f":"'!N121B40.095'!N28/'!N121B40.095'!Q3","v":0.35087719298245612},{"$f":"SUM('!N121B40.095'!L28:Q28)/'!N121B40.095'!Q3","v":19.298245614035089},{"$f":"'!N121B40.095'!Q24","v":0.38810091561298332}]
[22,{"$f":"'!N122A10.095'!B2:C2","v":"<date>"},{"$f":"('!N122A10.095'!H142/60)/'!N122A10.095'!Q3","v":2.9054744525547447},{"$f":"'!N122A10.095'!N28/'!N122A10.095'!Q3","v":0.19708029197080293},{"$f":"SUM('!N122A10.095'!L28:Q28)/'!N122A10.095'!Q3","v":9.452554744525548},{"$f":"'!N122A10.095'!Q24","v":0.37811765323597341}]
[23,{"$f":"'!N123C20.095'!B2:C2","v":"<date>"},{"$f":"('!N123C20.095'!H132/60)/'!N123C20.095'!Q3","v":3.16494708994709},{"$f":"'!N123C20.095'!N28/'!N123C20.095'!Q3","v":0.1111111111111111},{"$f":"SUM('!N123C20.095'!L28:Q28)/'!N123C20.095'!Q3","v":10.142857142857142},{"$f":"'!N123C20.095'!Q24","v":0.42926556028433099}]
[24,{"$f":"'!N124B00.095'!B2:C2","v":"<date>"},{"$f":"('!N124B00.095'!H65/60)/'!N124B00.095'!Q3","v":6.7799435028248585},{"$f":"'!N124B00.095'!N28/'!N124B00.095'!Q3","v":0.22033898305084745},{"$f":"SUM('!N124B00.095'!L28:Q28)/'!N124B00.095'!Q3","v":38.220338983050844},{"$f":"'!N124B00.095'!Q24","v":0.52249248598698972}]
[25,{"$f":"'!N125B30.095'!B2:C2","v":"<date>"},{"$f":"('!N125B30.095'!H154/60)/'!N125B30.095'!Q3","v":2.4643018018018017},{"$f":"'!N125B30.095'!N28/'!N125B30.095'!Q3","v":0.27027027027027029},{"$f":"SUM('!N125B30.095'!L28:Q28)/'!N125B30.095'!Q3","v":14.939189189189189},{"$f":"'!N125B30.095'!Q24","v":0.3477975983909426}]
[26,{"$f":"'!N127B50.095'!B2:C2","v":"<date>"},{"$f":"('!N127B50.095'!H103/60)/'!N127B50.095'!Q3","v":0},{"$f":"'!N127B50.095'!N28/'!N127B50.095'!Q3","v":0.29896907216494845},{"$f":"SUM('!N127B50.095'!L28:Q28)/'!N127B50.095'!Q3","v":23.52577319587629},{"$f":"'!N127B50.095'!Q24","v":0.39143282559126902}]
[27,{"$f":"'!N128A10.095'!B2:C2","v":"<date>"},{"$f":"('!N128A10.095'!H121/60)/'!N128A10.095'!Q3","v":3.0447826086956518},{"$f":"'!N128A10.095'!N28/'!N128A10.095'!Q3","v":0.26956521739130435},{"$f":"SUM('!N128A10.095'!L28:Q28)/'!N128A10.095'!Q3","v":19.052173913043479},{"$f":"'!N128A10.095'!Q24","v":0.41938347886442384}]
[28,{"$f":"'!N129C00.095'!B2:C2","v":"<date>"},{"$f":"('!N129C00.095'!H10/60)/'!N129C00.095'!Q3","v":68.36666666666666},{"$f":"'!N129C00.095'!N28/'!N129C00.095'!Q3","v":0},{"$f":"SUM('!N129C00.095'!L28:Q28)/'!N129C00.095'!Q3","v":0.4},{"$f":"'!N129C00.095'!Q24","v":1}]
[29,{"$f":"'!N130A50.095'!B2:C2","v":"<date>"},{"$f":"('!N130A50.095'!H15/60)/'!N130A50.095'!Q3","v":0},{"$f":"'!N130A50.095'!N28/'!N130A50.095'!Q3","v":0.33333333333333331},{"$f":"SUM('!N130A50.095'!L28:Q28)/'!N130A50.095'!Q3","v":0.66666666666666663},{"$f":"'!N130A50.095'!Q24","v":0.71854635407652212}]
[30,{"$f":"'!N202B50.095'!B2:C2","v":"<date>"},{"$f":"('!N202B50.095'!H97/60)/'!N202B50.095'!Q3","v":4.3826007326007321},{"$f":"'!N202B50.095'!N28/'!N202B50.095'!Q3","v":0.31868131868131866},{"$f":"SUM('!N202B50.095'!L28:Q28)/'!N202B50.095'!Q3","v":23.967032967032967},{"$f":"'!N202B50.095'!Q24","v":0.45095679048782877}]

{"sheet":"Start","index":2,"n_rows":36,"n_cols":10,"rows_kept":36,"cut":false,"hidden":false,"merged":[]}
[null,null,null,null,null,"Use Folder 51",null,"Auto Clean Up",null,"Correct sequence"]
[null,null,null,null,null,false,null,true,null,2212]
[]
["Working with Folder",null,null,null,null,null,"Process All/Or Pick A number: ALL or an integer"]
["E:\\Hen Data\\Raw Data\\95_175\\PHASE 3 CON\\",null,null,null,null,null,"ALL"]
["Filenames:"]
["!MC30D20.095",null,null,null,null,null,"Paint Cells"]
["!N102B20.095",null,null,null,null,null,false]
["!N103950.095"]
["!N104C40.095"]
["!N105A10.095"]
["!N106840.095"]
["!N107930.095"]
["!N108A40.095"]
["!N109930.095"]
["!N110B00.095"]
["!N111C00.095"]
["!N112920.095"]
["!N113A30.095"]
["!N114940.095"]
["!N115950.095"]
["!N116930.095"]
["!N117B20.095"]
["!N118C50.095"]
["!N119900.095"]
["!N120B20.095"]
["!N121B40.095"]
["!N122A10.095"]
["!N123C20.095"]
["!N124B00.095"]
["!N125B30.095"]
["!N127B50.095"]
["!N128A10.095"]
["!N129C00.095"]
["!N130A50.095"]
["!N202B50.095"]

{"sheet":"!MC30D20.095","index":3,"n_rows":175,"n_cols":48,"rows_kept":175,"cut":false,"hidden":false,"merged":[[4,39,4,42],[5,39,5,40],[4,44,4,47],[5,44,5,45],[4,24,4,27],[5,24,5,25],[4,29,4,32],[5,29,5,30],[4,34,4,37],[5,34,5,35],[1,1,1,2],[5,13,5,14],[26,13,26,14],[27,13,27,14],[4,19,4,22],[5,19,5,20]]}
["Report for:!MC30D20.095"]
["Date:","<date>"]
["Hen:","<hen>",null,null,null,"Correct Sequence",{"$f":"Start!J2","v":2212},null,null,null,null,null,null,null,null,"Total Sequences in Data",{"$f":"4994-COUNTBLANK(L7:L5000)","v":169},null,null,null,null,"Total Sequences in Block Data",{"$f":"COUNTA(L7:L34)","v":28},null,null,null,"Total Sequences in Block Data",{"$f":"COUNTA(L35:L62)","v":28},null,null,null,"Total Sequences in Block Data",{"$f":"COUNTA(L63:L91)","v":29},null,null,null,"Total Sequences in Block Data",{"$f":"COUNTA(L92:L119)","v":28},null,null,null,"Total Sequences in Block Data",{"$f":"COUNTA(L120:L147)","v":28},null,null,null,"Total Sequences in Block Data",{"$f":"COUNTA(L148:L175)","v":28}]
[null,null,null,null,null,null,null,null,null,null,null,null,null,null,null,"Total Sequences in Summary",{"$f":"SUM(O7:O22)","v":169},null,null,null,null,"Total Sequences in Block Summary",{"$f":"SUM(U7:U22)","v":28},null,null,null,"Total Sequences in Block Summary",{"$f":"SUM(Z7:Z22)","v":28},null,null,null,"Total Sequences in Block Summary",{"$f":"SUM(AE7:AE22)","v":29},null,null,null,"Total Sequences in Block Summary",{"$f":"SUM(AJ7:AJ22)","v":28},null,null,null,"Total Sequences in Block Summary",{"$f":"SUM(AO7:AO22)","v":28},null,null,null,"Total Sequences in Block Summary",{"$f":"SUM(AT7:AT22)","v":28}]
[null,null,null,null,null,null,null,null,null,null,null,null,null,null,null,null,null,null,null,"Block 1",null,null,null,null,"Block 2",null,null,null,null,"Block 3",null,null,null,null,"Block 4",null,null,null,null,"Block 5",null,null,null,null,"Block 6"]
["Sequence\nComponent\n1","Time\n1","Sequence\nComponent\n2","Time\n2","Sequence\nComponent\n3","Time\n3","Sequence\nComponent\n4","Time\n4","Sequence\nComponent\n5","Time\n5","Correct?\n0=No 1=Yes","Sequence",null,"Frequency",null,"Relative Frequency","Variability",null,null,"Frequency",null,"Relative Frequency","Variability",null,"Frequency",null,"Relative Frequency","Variability",null,"Frequency",null,"Relative Frequency","Variability",null,"Frequency",null,"Relative Frequency","Variability",null,"Frequency",null,"Relative Frequency","Variability",null,"Frequency",null,"Relative Frequency","Variability"]
[12,54,14,87,24,96,14,117,null,null,0,1121,null,1111,{"$f":"COUNTIF($L$7:$L$500,N7)","v":123},{"$f":"O7/$Q$4","v":0.72781065088757402},{"$f":"IF(P7=0,0,(P7*((LOG(P7))/LOG(2))))","v":-0.33360287873362221},null,null,{"$f":"N7","v":1111},{"$f":"COUNTIF(L7:L34,T7)","v":6},{"$f":"U7/(W4-U20)","v":0.21428571428571427},{"$f":"IF(V7=0,0,(V7*((LOG(V7))/LOG(2))))","v":-0.47622694742923877},null,{"$f":"N7","v":1111},{"$f":"COUNTIF(L35:L62,Y7)","v":22},{"$f":"Z7/(AB4-Z20)","v":0.7857142857142857},{"$f":"IF(AA7=0,0,(AA7*((LOG(AA7))/LOG(2))))","v":-0.27336830983024107},null,{"$f":"N7","v":1111},{"$f":"COUNTIF(L63:L91,AD7)","v":28},{"$f":"AE7/(AG4-AE20)","v":0.96551724137931039},{"$f":"IF(AF7=0,0,(AF7*((LOG(AF7))/LOG(2))))","v":-4.8880346412382848E-2},null,{"$f":"N7","v":1111},{"$f":"COUNTIF(L92:L119,AI7)","v":23},{"$f":"AJ7/(AL4-AJ20)","v":0.8214285714285714},{"$f":"IF(AK7=0,0,(AK7*((LOG(AK7))/LOG(2))))","v":-0.23311565064334283},null,{"$f":"N7","v":1111},{"$f":"COUNTIF(L120:L147,AN7)","v":20},{"$f":"AO7/(AQ4-AO20)","v":0.7142857142857143},{"$f":"IF(AP7=0,0,(AP7*((LOG(AP7))/LOG(2))))","v":-0.34673344797874411},null,{"$f":"N7","v":1111},{"$f":"COUNTIF(L148:L175,AS7)","v":24},{"$f":"AT7/(AV4-AT20)","v":0.8571428571428571},{"$f":"IF(AU7=0,0,(AU7*((LOG(AU7))/LOG(2))))","v":-0.19062207543124113}]
[12,220,23,230,13,254,14,262,null,null,0,1211,null,1112,{"$f":"COUNTIF($L$7:$L$500,N8)","v":19},{"$f":"O8/$Q$4","v":0.11242603550295859},{"$f":"IF(P8=0,0,(P8*((LOG(P8))/LOG(2))))","v":-0.35447388481617381},null,null,{"$f":"N8","v":1112},{"$f":"COUNTIF(L7:L34,T8)","v":6},{"$f":"U8/(W4-U20)","v":0.21428571428571427},{"$f":"IF(V8=0,0,(V8*((LOG(V8))/LOG(2))))","v":-0.47622694742923877},null,{"$f":"N8","v":1112},{"$f":"COUNTIF(L35:L62,Y8)","v":3},{"$f":"Z8/(AB4-Z20)","v":0.10714285714285714},{"$f":"IF(AA8=0,0,(AA8*((LOG(AA8))/LOG(2))))","v":-0.34525633085747659},null,{"$f":"N8","v":1112},{"$f":"COUNTIF(L63:L91,AD8)","v":0},{"$f":"AE8/(AG4-AE20)","v":0},{"$f":"IF(AF8=0,0,(AF8*((LOG(AF8))/LOG(2))))","v":0},null,{"$f":"N8","v":1112},{"$f":"COUNTIF(L92:L119,AI8)","v":3},{"$f":"AJ8/(AL4-AJ20)","v":0.10714285714285714},{"$f":"IF(AK8=0,0,(AK8*((LOG(AK8))/LOG(2))))","v":-0.34525633085747659},null,{"$f":"N8","v":1112},{"$f":"COUNTIF(L120:L147,AN8)","v":4},{"$f":"AO8/(AQ4-AO20)","v":0.14285714285714285},{"$f":"IF(AP8=0,0,(AP8*((LOG(AP8))/LOG(2))))","v":-0.40105070315108626},null,{"$f":"N8","v":1112},{"$f":"COUNTIF(L148:L175,AS8)","v":3},{"$f":"AT8/(AV4-AT20)","v":0.10714285714285714},{"$f":"IF(AU8=0,0,(AU8*((LOG(AU8))/LOG(2))))","v":-0.34525633085747659}]
[12,363,23,371,13,380,14,389,null,null,0,1211,null,1121,{"$f":"COUNTIF($L$7:$L$500,N9)","v":10},{"$f":"O9/$Q$4","v":5.9171597633136092E-2},{"$f":"IF(P9=0,0,(P9*((LOG(P9))/LOG(2))))","v":-0.24135806753815517},null,null,{"$f":"N9","v":1121},{"$f":"COUNTIF(L7:L34,T9)","v":6},{"$f":"U9/(W4-U20)","v":0.21428571428571427},{"$f":"IF(V9=0,0,(V9*((LOG(V9))/LOG(2))))","v":-0.47622694742923877},null,{"$f":"N9","v":1121},{"$f":"COUNTIF(L35:L62,Y9)","v":3},{"$f":"Z9/(AB4-Z20)","v":0.10714285714285714},{"$f":"IF(AA9=0,0,(AA9*((LOG(AA9))/LOG(2))))","v":-0.34525633085747659},null,{"$f":"N9","v":1121},{"$f":"COUNTIF(L63:L91,AD9)","v":0},{"$f":"AE9/(AG4-AE20)","v":0},{"$f":"IF(AF9=0,0,(AF9*((LOG(AF9))/LOG(2))))","v":0},null,{"$f":"N9","v":1121},{"$f":"COUNTIF(L92:L119,AI9)","v":0},{"$f":"AJ9/(AL4-AJ20)","v":0},{"$f":"IF(AK9=0,0,(AK9*((LOG(AK9))/LOG(2))))","v":0},null,{"$f":"N9","v":1121},{"$f":"COUNTIF(L120:L147,AN9)","v":1},{"$f":"AO9/(AQ4-AO20)","v":3.5714285714285712E-2},{"$f":"IF(AP9=0,0,(AP9*((LOG(AP9))/LOG(2))))","v":-0.17169124721634299},null,{"$f":"N9","v":1121},{"$f":"COUNTIF(L148:L175,AS9)","v":0},{"$f":"AT9/(AV4-AT20)","v":0},{"$f":"IF(AU9=0,0,(AU9*((LOG(AU9))/LOG(2))))","v":0}]
[12,496,23,509,13,518,23,532,null,null,0,1212,null,1122,{"$f":"COUNTIF($L$7:$L$500,N10)","v":4},{"$f":"O10/$Q$4","v":2.3668639053254437E-2},{"$f":"IF(P10=0,0,(P10*((LOG(P10))/LOG(2))))","v":-0.12783146594750733},null,null,{"$f":"N10","v":1122},{"$f":"COUNTIF(L7:L34,T10)","v":3},{"$f":"U10/(W4-U20)","v":0.10714285714285714},{"$f":"IF(V10=0,0,(V10*((LOG(V10))/LOG(2))))","v":-0.34525633085747659},null,{"$f":"N10","v":1122},{"$f":"COUNTIF(L35:L62,Y10)","v":0},{"$f":"Z10/(AB4-Z20)","v":0},{"$f":"IF(AA10=0,0,(AA10*((LOG(AA10))/LOG(2))))","v":0},null,{"$f":"N10","v":1122},{"$f":"COUNTIF(L63:L91,AD10)","v":0},{"$f":"AE10/(AG4-AE20)","v":0},{"$f":"IF(AF10=0,0,(AF10*((LOG(AF10))/LOG(2))))","v":0},null,{"$f":"N10","v":1122},{"$f":"COUNTIF(L92:L119,AI10)","v":1},{"$f":"AJ10/(AL4-AJ20)","v":3.5714285714285712E-2},{"$f":"IF(AK10=0,0,(AK10*((LOG(AK10))/LOG(2))))","v":-0.17169124721634299},null,{"$f":"N10","v":1122},{"$f":"COUNTIF(L120:L147,AN10)","v":0},{"$f":"AO10/(AQ4-AO20)","v":0},{"$f":"IF(AP10=0,0,(AP10*((LOG(AP10))/LOG(2))))","v":0},null,{"$f":"N10","v":1122},{"$f":"COUNTIF(L148:L175,AS10)","v":0},{"$f":"AT10/(AV4-AT20)","v":0},{"$f":"IF(AU10=0,0,(AU10*((LOG(AU10))/LOG(2))))","v":0}]
[12,641,23,650,24,660,14,669,null,null,0,1221,null,1211,{"$f":"COUNTIF($L$7:$L$500,N11)","v":3},{"$f":"O11/$Q$4","v":1.7751479289940829E-2},{"$f":"IF(P11=0,0,(P11*((LOG(P11))/LOG(2))))","v":-0.10324112903362773},null,null,{"$f":"N11","v":1211},{"$f":"COUNTIF(L7:L34,T11)","v":3},{"$f":"U11/(W4-U20)","v":0.10714285714285714},{"$f":"IF(V11=0,0,(V11*((LOG(V11))/LOG(2))))","v":-0.34525633085747659},null,{"$f":"N11","v":1211},{"$f":"COUNTIF(L35:L62,Y11)","v":0},{"$f":"Z11/(AB4-Z20)","v":0},{"$f":"IF(AA11=0,0,(AA11*((LOG(AA11))/LOG(2))))","v":0},null,{"$f":"N11","v":1211},{"$f":"COUNTIF(L63:L91,AD11)","v":0},{"$f":"AE11/(AG4-AE20)","v":0},{"$f":"IF(AF11=0,0,(AF11*((LOG(AF11))/LOG(2))))","v":0},null,{"$f":"N11","v":1211},{"$f":"COUNTIF(L92:L119,AI11)","v":0},{"$f":"AJ11/(AL4-AJ20)","v":0},{"$f":"IF(AK11=0,0,(AK11*((LOG(AK11))/LOG(2))))","v":0},null,{"$f":"N11","v":1211},{"$f":"COUNTIF(L120:L147,AN11)","v":0},{"$f":"AO11/(AQ4-AO20)","v":0},{"$f":"IF(AP11=0,0,(AP11*((LOG(AP11))/LOG(2))))","v":0},null,{"$f":"N11","v":1211},{"$f":"COUNTIF(L148:L175,AS11)","v":0},{"$f":"AT11/(AV4-AT20)","v":0},{"$f":"IF(AU11=0,0,(AU11*((LOG(AU11))/LOG(2))))","v":0}]
[12,774,14,792,24,826,14,837,null,null,0,1121,null,1212,{"$f":"COUNTIF($L$7:$L$500,N12)","v":1},{"$f":"O12/$Q$4","v":5.9171597633136093E-3},{"$f":"IF(P12=0,0,(P12*((LOG(P12))/LOG(2))))","v":-4.3792186013504049E-2},null,null,{"$f":"N12","v":1212},{"$f":"COUNTIF(L7:L34,T12)","v":1},{"$f":"U12/(W4-U20)","v":3.5714285714285712E-2},{"$f":"IF(V12=0,0,(V12*((LOG(V12))/LOG(2))))","v":-0.17169124721634299},null,{"$f":"N12","v":1212},{"$f":"COUNTIF(L35:L62,Y12)","v":0},{"$f":"Z12/(AB4-Z20)","v":0},{"$f":"IF(AA12=0,0,(AA12*((LOG(AA12))/LOG(2))))","v":0},null,{"$f":"N12","v":1212},{"$f":"COUNTIF(L63:L91,AD12)","v":0},{"$f":"AE12/(AG4-AE20)","v":0},{"$f":"IF(AF12=0,0,(AF12*((LOG(AF12))/LOG(2))))","v":0},null,{"$f":"N12","v":1212},{"$f":"COUNTIF(L92:L119,AI12)","v":0},{"$f":"AJ12/(AL4-AJ20)","v":0},{"$f":"IF(AK12=0,0,(AK12*((LOG(AK12))/LOG(2))))","v":0},null,{"$f":"N12","v":1212},{"$f":"COUNTIF(L120:L147,AN12)","v":0},{"$f":"AO12/(AQ4-AO20)","v":0},{"$f":"IF(AP12=0,0,(AP12*((LOG(AP12))/LOG(2))))","v":0},null,{"$f":"N12","v":1212},{"$f":"COUNTIF(L148:L175,AS12)","v":0},{"$f":"AT12/(AV4-AT20)","v":0},{"$f":"IF(AU12=0,0,(AU12*((LOG(AU12))/LOG(2))))","v":0}]
[12,941,23,951,13,960,14,990,null,null,0,1211,null,1221,{"$f":"COUNTIF($L$7:$L$500,N13)","v":1},{"$f":"O13/$Q$4","v":5.9171597633136093E-3},{"$f":"IF(P13=0,0,(P13*((LOG(P13))/LOG(2))))","v":-4.3792186013504049E-2},null,null,{"$f":"N13","v":1221},{"$f":"COUNTIF(L7:L34,T13)","v":1},{"$f":"U13/(W4-U20)","v":3.5714285714285712E-2},{"$f":"IF(V13=0,0,(V13*((LOG(V13))/LOG(2))))","v":-0.17169124721634299},null,{"$f":"N13","v":1221},{"$f":"COUNTIF(L35:L62,Y13)","v":0},{"$f":"Z13/(AB4-Z20)","v":0},{"$f":"IF(AA13=0,0,(AA13*((LOG(AA13))/LOG(2))))","v":0},null,{"$f":"N13","v":1221},{"$f":"COUNTIF(L63:L91,AD13)","v":0},{"$f":"AE13/(AG4-AE20)","v":0},{"$f":"IF(AF13=0,0,(AF13*((LOG(AF13))/LOG(2))))","v":0},null,{"$f":"N13","v":1221},{"$f":"COUNTIF(L92:L119,AI13)","v":0},{"$f":"AJ13/(AL4-AJ20)","v":0},{"$f":"IF(AK13=0,0,(AK13*((LOG(AK13))/LOG(2))))","v":0},null,{"$f":"N13","v":1221},{"$f":"COUNTIF(L120:L147,AN13)","v":0},{"$f":"AO13/(AQ4-AO20)","v":0},{"$f":"IF(AP13=0,0,(AP13*((LOG(AP13))/LOG(2))))","v":0},null,{"$f":"N13","v":1221},{"$f":"COUNTIF(L148:L175,AS13)","v":0},{"$f":"AT13/(AV4-AT20)","v":0},{"$f":"IF(AU13=0,0,(AU13*((LOG(AU13))/LOG(2))))","v":0}]
[21,1100,12,1108,13,1115,23,1151,null,null,0,2112,null,1222,{"$f":"COUNTIF($L$7:$L$500,N14)","v":0},{"$f":"O14/$Q$4","v":0},{"$f":"IF(P14=0,0,(P14*((LOG(P14))/LOG(2))))","v":0},null,null,{"$f":"N14","v":1222},{"$f":"COUNTIF(L7:L34,T14)","v":0},{"$f":"U14/(W4-U20)","v":0},{"$f":"IF(V14=0,0,(V14*((LOG(V14))/LOG(2))))","v":0},null,{"$f":"N14","v":1222},{"$f":"COUNTIF(L35:L62,Y14)","v":0},{"$f":"Z14/(AB4-Z20)","v":0},{"$f":"IF(AA14=0,0,(AA14*((LOG(AA14))/LOG(2))))","v":0},null,{"$f":"N14","v":1222},{"$f":"COUNTIF(L63:L91,AD14)","v":0},{"$f":"AE14/(AG4-AE20)","v":0},{"$f":"IF(AF14=0,0,(AF14*((LOG(AF14))/LOG(2))))","v":0},null,{"$f":"N14","v":1222},{"$f":"COUNTIF(L92:L119,AI14)","v":0},{"$f":"AJ14/(AL4-AJ20)","v":0},{"$f":"IF(AK14=0,0,(AK14*((LOG(AK14))/LOG(2))))","v":0},null,{"$f":"N14","v":1222},{"$f":"COUNTIF(L120:L147,AN14)","v":0},{"$f":"AO14/(AQ4-AO20)","v":0},{"$f":"IF(AP14=0,0,(AP14*((LOG(AP14))/LOG(2))))","v":0},null,{"$f":"N14","v":1222},{"$f":"COUNTIF(L148:L175,AS14)","v":0},{"$f":"AT14/(AV4-AT20)","v":0},{"$f":"IF(AU14=0,0,(AU14*((LOG(AU14))/LOG(2))))","v":0}]
[12,1258,14,1263,13,1282,14,1315,null,null,0,1111,null,2111,{"$f":"COUNTIF($L$7:$L$500,N15)","v":6},{"$f":"O15/$Q$4","v":3.5502958579881658E-2},{"$f":"IF(P15=0,0,(P15*((LOG(P15))/LOG(2))))","v":-0.17097929948737375},null,null,{"$f":"N15","v":2111},{"$f":"COUNTIF(L7:L34,T15)","v":1},{"$f":"U15/(W4-U20)","v":3.5714285714285712E-2},{"$f":"IF(V15=0,0,(V15*((LOG(V15))/LOG(2))))","v":-0.17169124721634299},null,{"$f":"N15","v":2111},{"$f":"COUNTIF(L35:L62,Y15)","v":0},{"$f":"Z15/(AB4-Z20)","v":0},{"$f":"IF(AA15=0,0,(AA15*((LOG(AA15))/LOG(2))))","v":0},null,{"$f":"N15","v":2111},{"$f":"COUNTIF(L63:L91,AD15)","v":1},{"$f":"AE15/(AG4-AE20)","v":3.4482758620689655E-2},{"$f":"IF(AF15=0,0,(AF15*((LOG(AF15))/LOG(2))))","v":-0.16751658603888178},null,{"$f":"N15","v":2111},{"$f":"COUNTIF(L92:L119,AI15)","v":1},{"$f":"AJ15/(AL4-AJ20)","v":3.5714285714285712E-2},{"$f":"IF(AK15=0,0,(AK15*((LOG(AK15))/LOG(2))))","v":-0.17169124721634299},null,{"$f":"N15","v":2111},{"$f":"COUNTIF(L120:L147,AN15)","v":2},{"$f":"AO15/(AQ4-AO20)","v":7.1428571428571425E-2},{"$f":"IF(AP15=0,0,(AP15*((LOG(AP15))/LOG(2))))","v":-0.27195392300411453},null,{"$f":"N15","v":2111},{"$f":"COUNTIF(L148:L175,AS15)","v":1},{"$f":"AT15/(AV4-AT20)","v":3.5714285714285712E-2},{"$f":"IF(AU15=0,0,(AU15*((LOG(AU15))/LOG(2))))","v":-0.17169124721634299}]
[12,1426,14,1453,13,1465,23,1476,null,null,0,1112,null,2112,{"$f":"COUNTIF($L$7:$L$500,N16)","v":2},{"$f":"O16/$Q$4","v":1.1834319526627219E-2},{"$f":"IF(P16=0,0,(P16*((LOG(P16))/LOG(2))))","v":-7.5750052500380874E-2},null,null,{"$f":"N16","v":2112},{"$f":"COUNTIF(L7:L34,T16)","v":1},{"$f":"U16/(W4-U20)","v":3.5714285714285712E-2},{"$f":"IF(V16=0,0,(V16*((LOG(V16))/LOG(2))))","v":-0.17169124721634299},null,{"$f":"N16","v":2112},{"$f":"COUNTIF(L35:L62,Y16)","v":0},{"$f":"Z16/(AB4-Z20)","v":0},{"$f":"IF(AA16=0,0,(AA16*((LOG(AA16))/LOG(2))))","v":0},null,{"$f":"N16","v":2112},{"$f":"COUNTIF(L63:L91,AD16)","v":0},{"$f":"AE16/(AG4-AE20)","v":0},{"$f":"IF(AF16=0,0,(AF16*((LOG(AF16))/LOG(2))))","v":0},null,{"$f":"N16","v":2112},{"$f":"COUNTIF(L92:L119,AI16)","v":0},{"$f":"AJ16/(AL4-AJ20)","v":0},{"$f":"IF(AK16=0,0,(AK16*((LOG(AK16))/LOG(2))))","v":0},null,{"$f":"N16","v":2112},{"$f":"COUNTIF(L120:L147,AN16)","v":1},{"$f":"AO16/(AQ4-AO20)","v":3.5714285714285712E-2},{"$f":"IF(AP16=0,0,(AP16*((LOG(AP16))/LOG(2))))","v":-0.17169124721634299},null,{"$f":"N16","v":2112},{"$f":"COUNTIF(L148:L175,AS16)","v":0},{"$f":"AT16/(AV4-AT20)","v":0},{"$f":"IF(AU16=0,0,(AU16*((LOG(AU16))/LOG(2))))","v":0}]
[12,1579,14,1590,13,1598,23,1607,null,null,0,1112,null,2121,{"$f":"COUNTIF($L$7:$L$500,N17)","v":0},{"$f":"O17/$Q$4","v":0},{"$f":"IF(P17=0,0,(P17*((LOG(P17))/LOG(2))))","v":0},null,null,{"$f":"N17","v":2121},{"$f":"COUNTIF(L7:L34,T17)","v":0},{"$f":"U17/(W4-U20)","v":0},{"$f":"IF(V17=0,0,(V17*((LOG(V17))/LOG(2))))","v":0},null,{"$f":"N17","v":2121},{"$f":"COUNTIF(L35:L62,Y17)","v":0},{"$f":"Z17/(AB4-Z20)","v":0},{"$f":"IF(AA17=0,0,(AA17*((LOG(AA17))/LOG(2))))","v":0},null,{"$f":"N17","v":2121},{"$f":"COUNTIF(L63:L91,AD17)","v":0},{"$f":"AE17/(AG4-AE20)","v":0},{"$f":"IF(AF17=0,0,(AF17*((LOG(AF17))/LOG(2))))","v":0},null,{"$f":"N17","v":2121},{"$f":"COUNTIF(L92:L119,AI17)","v":0},{"$f":"AJ17/(AL4-AJ20)","v":0},{"$f":"IF(AK17=0,0,(AK17*((LOG(AK17))/LOG(2))))","v":0},null,{"$f":"N17","v":2121},{"$f":"COUNTIF(L120:L147,AN17)","v":0},{"$f":"AO17/(AQ4-AO20)","v":0},{"$f":"IF(AP17=0,0,(AP17*((LOG(AP17))/LOG(2))))","v":0},null,{"$f":"N17","v":2121},{"$f":"COUNTIF(L148:L175,AS17)","v":0},{"$f":"AT17/(AV4-AT20)","v":0},{"$f":"IF(AU17=0,0,(AU17*((LOG(AU17))/LOG(2))))","v":0}]
[12,1711,14,1716,24,1725,23,1748,null,null,0,1122,null,2122,{"$f":"COUNTIF($L$7:$L$500,N18)","v":0},{"$f":"O18/$Q$4","v":0},{"$f":"IF(P18=0,0,(P18*((LOG(P18))/LOG(2))))","v":0},null,null,{"$f":"N18","v":2122},{"$f":"COUNTIF(L7:L34,T18)","v":0},{"$f":"U18/(W4-U20)","v":0},{"$f":"IF(V18=0,0,(V18*((LOG(V18))/LOG(2))))","v":0},null,{"$f":"N18","v":2122},{"$f":"COUNTIF(L35:L62,Y18)","v":0},{"$f":"Z18/(AB4-Z20)","v":0},{"$f":"IF(AA18=0,0,(AA18*((LOG(AA18))/LOG(2))))","v":0},null,{"$f":"N18","v":2122},{"$f":"COUNTIF(L63:L91,AD18)","v":0},{"$f":"AE18/(AG4-AE20)","v":0},{"$f":"IF(AF18=0,0,(AF18*((LOG(AF18))/LOG(2))))","v":0},null,{"$f":"N18","v":2122},{"$f":"COUNTIF(L92:L119,AI18)","v":0},{"$f":"AJ18/(AL4-AJ20)","v":0},{"$f":"IF(AK18=0,0,(AK18*((LOG(AK18))/LOG(2))))","v":0},null,{"$f":"N18","v":2122},{"$f":"COUNTIF(L120:L147,AN18)","v":0},{"$f":"AO18/(AQ4-AO20)","v":0},{"$f":"IF(AP18=0,0,(AP18*((LOG(AP18))/LOG(2))))","v":0},null,{"$f":"N18","v":2122},{"$f":"COUNTIF(L148:L175,AS18)","v":0},{"$f":"AT18/(AV4-AT20)","v":0},{"$f":"IF(AU18=0,0,(AU18*((LOG(AU18))/LOG(2))))","v":0}]
[21,1845,12,1854,13,1862,14,1887,null,null,0,2111,null,2211,{"$f":"COUNTIF($L$7:$L$500,N19)","v":0},{"$f":"O19/$Q$4","v":0},{"$f":"IF(P19=0,0,(P19*((LOG(P19))/LOG(2))))","v":0},null,null,{"$f":"N19","v":2211},{"$f":"COUNTIF(L7:L34,T19)","v":0},{"$f":"U19/(W4-U20)","v":0},{"$f":"IF(V19=0,0,(V19*((LOG(V19))/LOG(2))))","v":0},null,{"$f":"N19","v":2211},{"$f":"COUNTIF(L35:L62,Y19)","v":0},{"$f":"Z19/(AB4-Z20)","v":0},{"$f":"IF(AA19=0,0,(AA19*((LOG(AA19))/LOG(2))))","v":0},null,{"$f":"N19","v":2211},{"$f":"COUNTIF(L63:L91,AD19)","v":0},{"$f":"AE19/(AG4-AE20)","v":0},{"$f":"IF(AF19=0,0,(AF19*((LOG(AF19))/LOG(2))))","v":0},null,{"$f":"N19","v":2211},{"$f":"COUNTIF(L92:L119,AI19)","v":0},{"$f":"AJ19/(AL4-AJ20)","v":0},{"$f":"IF(AK19=0,0,(AK19*((LOG(AK19))/LOG(2))))","v":0},null,{"$f":"N19","v":2211},{"$f":"COUNTIF(L120:L147,AN19)","v":0},{"$f":"AO19/(AQ4-AO20)","v":0},{"$f":"IF(AP19=0,0,(AP19*((LOG(AP19))/LOG(2))))","v":0},null,{"$f":"N19","v":2211},{"$f":"COUNTIF(L148:L175,AS19)","v":0},{"$f":"AT19/(AV4-AT20)","v":0},{"$f":"IF(AU19=0,0,(AU19*((LOG(AU19))/LOG(2))))","v":0}]
[12,1992,14,2012,24,2027,23,2035,null,null,0,1122,null,2212,{"$f":"COUNTIF($L$7:$L$500,N20)","v":0},{"$f":"O20/$Q$4","v":0},{"$f":"IF(P20=0,0,(P20*((LOG(P20))/LOG(2))))","v":0},null,null,{"$f":"N20","v":2212},{"$f":"COUNTIF(L7:L34,T20)","v":0},null,null,null,{"$f":"N20","v":2212},{"$f":"COUNTIF(L35:L62,Y20)","v":0},null,null,null,{"$f":"N20","v":2212},{"$f":"COUNTIF(L63:L91,AD20)","v":0},null,null,null,{"$f":"N20","v":2212},{"$f":"COUNTIF(L92:L119,AI20)","v":0},null,null,null,{"$f":"N20","v":2212},{"$f":"COUNTIF(L120:L147,AN20)","v":0},null,null,null,{"$f":"N20","v":2212},{"$f":"COUNTIF(L148:L175,AS20)","v":0}]
[12,2141,14,2159,24,2183,14,2194,null,null,0,1121,null,2221,{"$f":"COUNTIF($L$7:$L$500,N21)","v":0},{"$f":"O21/$Q$4","v":0},{"$f":"IF(P21=0,0,(P21*((LOG(P21))/LOG(2))))","v":0},null,null,{"$f":"N21","v":2221},{"$f":"COUNTIF(L7:L34,T21)","v":0},{"$f":"U21/(W4-U20)","v":0},{"$f":"IF(V21=0,0,(V21*((LOG(V21))/LOG(2))))","v":0},null,{"$f":"N21","v":2221},{"$f":"COUNTIF(L35:L62,Y21)","v":0},{"$f":"Z21/(AB4-Z20)","v":0},{"$f":"IF(AA21=0,0,(AA21*((LOG(AA21))/LOG(2))))","v":0},null,{"$f":"N21","v":2221},{"$f":"COUNTIF(L63:L91,AD21)","v":0},{"$f":"AE21/(AG4-AE20)","v":0},{"$f":"IF(AF21=0,0,(AF21*((LOG(AF21))/LOG(2))))","v":0},null,{"$f":"N21","v":2221},{"$f":"COUNTIF(L92:L119,AI21)","v":0},{"$f":"AJ21/(AL4-AJ20)","v":0},{"$f":"IF(AK21=0,0,(AK21*((LOG(AK21))/LOG(2))))","v":0},null,{"$f":"N21","v":2221},{"$f":"COUNTIF(L120:L147,AN21)","v":0},{"$f":"AO21/(AQ4-AO20)","v":0},{"$f":"IF(AP21=0,0,(AP21*((LOG(AP21))/LOG(2))))","v":0},null,{"$f":"N21","v":2221},{"$f":"COUNTIF(L148:L175,AS21)","v":0},{"$f":"AT21/(AV4-AT20)","v":0},{"$f":"IF(AU21=0,0,(AU21*((LOG(AU21))/LOG(2))))","v":0}]
[12,2297,14,2303,13,2324,14,2332,null,null,0,1111,null,2222,{"$f":"COUNTIF($L$7:$L$500,N22)","v":0},{"$f":"O22/$Q$4","v":0},{"$f":"IF(P22=0,0,(P22*((LOG(P22))/LOG(2))))","v":0},null,null,{"$f":"N22","v":2222},{"$f":"COUNTIF(L7:L34,T22)","v":0},{"$f":"U22/(W4-U20)","v":0},{"$f":"IF(V22=0,0,(V22*((LOG(V22))/LOG(2))))","v":0},null,{"$f":"N22","v":2222},{"$f":"COUNTIF(L35:L62,Y22)","v":0},{"$f":"Z22/(AB4-Z20)","v":0},{"$f":"IF(AA22=0,0,(AA22*((LOG(AA22))/LOG(2))))","v":0},null,{"$f":"N22","v":2222},{"$f":"COUNTIF(L63:L91,AD22)","v":0},{"$f":"AE22/(AG4-AE20)","v":0},{"$f":"IF(AF22=0,0,(AF22*((LOG(AF22))/LOG(2))))","v":0},null,{"$f":"N22","v":2222},{"$f":"COUNTIF(L92:L119,AI22)","v":0},{"$f":"AJ22/(AL4-AJ20)","v":0},{"$f":"IF(AK22=0,0,(AK22*((LOG(AK22))/LOG(2))))","v":0},null,{"$f":"N22","v":2222},{"$f":"COUNTIF(L120:L147,AN22)","v":0},{"$f":"AO22/(AQ4-AO20)","v":0},{"$f":"IF(AP22=0,0,(AP22*((LOG(AP22))/LOG(2))))","v":0},null,{"$f":"N22","v":2222},{"$f":"COUNTIF(L148:L175,AS22)","v":0},{"$f":"AT22/(AV4-AT20)","v":0},{"$f":"IF(AU22=0,0,(AU22*((LOG(AU22))/LOG(2))))","v":0}]
[12,2436,14,2457,13,2496,23,2514,null,null,0,1112,null,null,null,{"$f":"SUM(P7:P22)","v":1},{"$f":"-SUM(Q7:Q22)","v":1.4948211500838489},null,null,null,null,{"$f":"SUM(V7:V22)","v":0.99999999999999978},{"$f":"-SUM(W7:W22)","v":2.8059584928680414},null,null,null,{"$f":"SUM(AA7:AA22)","v":0.99999999999999989},{"$f":"-SUM(AB7:AB22)","v":0.96388097154519414},null,null,null,{"$f":"SUM(AF7:AF22)","v":1},{"$f":"-SUM(AG7:AG22)","v":0.21639693245126462},null,null,null,{"$f":"SUM(AK7:AK22)","v":0.99999999999999989},{"$f":"-SUM(AL7:AL22)","v":0.92175447593350546},null,null,null,{"$f":"SUM(AP7:AP22)","v":1},{"$f":"-SUM(AQ7:AQ22)","v":1.363120568566631},null,null,null,{"$f":"SUM(AU7:AU22)","v":0.99999999999999989},{"$f":"-SUM(AV7:AV22)","v":0.70756965350506074}]
[12,2634,14,2651,13,2682,14,2717,null,null,0,1111,null,null,null,"U=",{"$f":"Q23/(LOG(Q4)/LOG(2))","v":0.20197885439879143},null,null,null,null,"U1=",{"$f":"W23/(LOG(W4)/LOG(2))","v":0.58368032699093053},null,null,null,"U2=",{"$f":"AB23/(LOG(AB4)/LOG(2))","v":0.20050131250401665},null,null,null,"U3=",{"$f":"AG23/(LOG(AG4)/LOG(2))","v":4.4544623099247421E-2},null,null,null,"U4=",{"$f":"AL23/(LOG(AL4)/LOG(2))","v":0.19173838646782998},null,null,null,"U5=",{"$f":"AQ23/(LOG(AQ4)/LOG(2))","v":0.28354897665496259},null,null,null,"U6=",{"$f":"AV23/(LOG(AV4)/LOG(2))","v":0.14718481680196241}]
[12,2819,14,2834,13,2839,14,2860,null,null,0,1111]
[12,2965,14,2977,13,2985,14,2989,null,null,0,1111]
[12,3098,14,3106,13,3126,14,3150,null,null,0,1111,null,"Total Target Seq"]
[12,3256,14,3260,24,3271,14,3279,null,null,0,1121,null,{"$f":"COUNTIF(L7:L175,G3)","v":0},null,28,28,29,28,28,28]
[12,3395,14,3409,24,3421,14,3431,null,null,0,1121,null,null,null,"% of reinforcement given in 6 equal intervals based on number of trials "]
[12,3550,14,3567,13,3591,23,3610,null,null,0,1112,null,null,null,"%_1","%_2","%_3","%_4","%_5","%_6"]
[12,3729,14,3752,13,3784,23,3804,null,null,0,1112,null,null,"target sequence",{"$f":"$G$3","v":2212},{"$f":"$G$3","v":2212},{"$f":"$G$3","v":2212},{"$f":"$G$3","v":2212},{"$f":"$G$3","v":2212},{"$f":"$G$3","v":2212}]
[12,3916,14,3923,13,3941,23,3953,null,null,0,1112,null,null,"total reinforcement",{"$f":"U20","v":0},{"$f":"Z20","v":0},{"$f":"AE20","v":0},{"$f":"AJ20","v":0},{"$f":"AO20","v":0},{"$f":"AT20","v":0}]
[12,4064,14,4076,24,4088,23,4095,null,null,0,1122,null,null,"% target"]
[12,4198,14,4205,24,4214,14,4222,null,null,0,1121,null,null,"CCRF"]
[12,4327,14,4331,13,4344,14,4364,null,null,0,1111,null,null,"% CCRf"]
[12,4472,14,4480,13,4502,14,4537,null,null,0,1111,null,null,"average response rate",{"$f":"H34/P28","v":150.78571428571428},{"$f":"(H62-H34)/Q28","v":137.89285714285714},{"$f":"(H91-H62)/R28","v":135.27586206896552},{"$f":"(H119-H91)/S28","v":137},{"$f":"(H147-H119)/T28","v":146.85714285714286},{"$f":"(H175-H147)/U28","v":142.82142857142858}]
[12,4648,14,4655,24,4668,14,4675,null,null,0,1121]
[12,4777,14,4782,13,4792,14,4809,null,null,0,1111]
[12,4918,14,4930,13,4953,23,4970,null,null,0,1112]
[12,5074,14,5079,13,5085,14,5103,null,null,0,1111]
[12,5205,14,5211,13,5232,14,5263,null,null,0,1111]
[12,5365,14,5371,13,5383,14,5405,null,null,0,1111]
[12,5510,14,5514,13,5523,14,5535,null,null,0,1111]
[12,5640,14,5645,13,5652,14,5661,null,null,0,1111]
[12,5767,14,5777,24,5788,14,5804,null,null,0,1121]
[12,5906,14,5911,13,5918,14,5925,null,null,0,1111]
[12,6031,14,6037,13,6045,14,6069,null,null,0,1111]
[12,6174,14,6179,13,6187,23,6200,null,null,0,1112]
[12,6309,14,6313,13,6320,14,6332,null,null,0,1111]
[12,6440,14,6448,13,6468,14,6499,null,null,0,1111]
[12,6603,14,6609,13,6616,14,6622,null,null,0,1111]
[12,6735,14,6740,13,6749,14,6760,null,null,0,1111]
[12,6869,14,6873,13,6882,14,6903,null,null,0,1111]
[12,7005,14,7009,13,7016,14,7034,null,null,0,1111]
[12,7136,14,7143,13,7147,14,7154,null,null,0,1111]
[12,7259,14,7263,13,7268,14,7275,null,null,0,1111]
[12,7379,14,7386,13,7398,23,7411,null,null,0,1112]
[12,7519,14,7527,13,7533,14,7554,null,null,0,1111]
[12,7658,14,7664,13,7673,14,7691,null,null,0,1111]
[12,7796,14,7802,13,7807,14,7817,null,null,0,1111]
[12,7918,14,7922,13,7942,14,7953,null,null,0,1111]
[12,8056,14,8063,24,8075,14,8083,null,null,0,1121]
[12,8184,14,8188,13,8201,14,8222,null,null,0,1111]
[12,8332,14,8337,13,8344,14,8368,null,null,0,1111]
[12,8470,14,8474,13,8497,14,8525,null,null,0,1111]
[12,8627,14,8631,13,8640,14,8659,null,null,0,1111]
[12,8759,14,8763,13,8771,14,8799,null,null,0,1111]
[12,8907,14,8913,13,8921,14,8933,null,null,0,1111]
[12,9037,14,9042,13,9049,14,9069,null,null,0,1111]
[12,9173,14,9177,13,9198,14,9208,null,null,0,1111]
[12,9329,14,9333,13,9339,14,9350,null,null,0,1111]
[12,9454,14,9458,13,9465,14,9472,null,null,0,1111]
[12,9573,14,9578,13,9585,14,9595,null,null,0,1111]
[12,9712,14,9719,13,9729,14,9740,null,null,0,1111]
[12,9846,14,9850,13,9857,14,9877,null,null,0,1111]
[12,9991,14,9995,13,10002,14,10012,null,null,0,1111]
[12,10129,14,10133,13,10141,14,10166,null,null,0,1111]
[12,10267,14,10274,13,10282,14,10305,null,null,0,1111]
[12,10408,14,10413,13,10420,14,10431,null,null,0,1111]
[12,10531,14,10535,13,10543,14,10549,null,null,0,1111]
[12,10654,14,10658,13,10663,14,10670,null,null,0,1111]
[12,10779,14,10784,13,10793,14,10813,null,null,0,1111]
[21,10915,12,10922,13,10929,14,10937,null,null,0,2111]
[12,11040,14,11045,13,11052,14,11072,null,null,0,1111]
[12,11177,14,11183,13,11191,14,11211,null,null,0,1111]
[12,11312,14,11317,13,11321,14,11333,null,null,0,1111]
[12,11440,14,11445,13,11449,14,11475,null,null,0,1111]
[12,11578,14,11583,13,11591,14,11612,null,null,0,1111]
[12,11718,14,11722,13,11726,14,11733,null,null,0,1111]
[12,11837,14,11841,13,11849,14,11868,null,null,0,1111]
[12,11976,14,11980,13,11987,14,12006,null,null,0,1111]
[12,12116,14,12120,13,12128,14,12147,null,null,0,1111]
[12,12253,14,12257,13,12265,14,12286,null,null,0,1111]
[12,12413,14,12418,13,12428,14,12439,null,null,0,1111]
[12,12542,14,12548,13,12556,14,12576,null,null,0,1111]
[12,12705,14,12710,24,12722,23,12734,null,null,0,1122]
[12,12839,14,12843,13,12850,14,12857,null,null,0,1111]
[12,12955,14,12959,13,12966,14,12975,null,null,0,1111]
[12,13092,14,13097,13,13104,14,13123,null,null,0,1111]
[12,13228,14,13233,13,13240,14,13252,null,null,0,1111]
[12,13364,14,13368,13,13375,23,13386,null,null,0,1112]
[12,13493,14,13498,13,13505,14,13512,null,null,0,1111]
[12,13615,14,13620,13,13627,14,13638,null,null,0,1111]
[12,13740,14,13744,13,13749,14,13756,null,null,0,1111]
[12,13859,14,13864,13,13868,14,13875,null,null,0,1111]
[12,13989,14,13994,13,14001,14,14015,null,null,0,1111]
[12,14114,14,14118,13,14125,14,14147,null,null,0,1111]
[12,14247,14,14251,13,14255,14,14269,null,null,0,1111]
[12,14384,14,14391,13,14419,23,14433,null,null,0,1112]
[12,14537,14,14541,13,14546,23,14558,null,null,0,1112]
[12,14682,14,14690,13,14711,14,14721,null,null,0,1111]
[21,14833,12,14840,13,14848,14,14856,null,null,0,2111]
[12,14960,14,14965,13,14971,14,14992,null,null,0,1111]
[12,15092,14,15096,13,15102,14,15109,null,null,0,1111]
[12,15214,14,15219,13,15238,14,15265,null,null,0,1111]
[12,15371,14,15376,13,15380,14,15388,null,null,0,1111]
[12,15531,14,15538,13,15548,14,15559,null,null,0,1111]
[12,15669,14,15673,13,15681,14,15700,null,null,0,1111]
[12,15815,14,15821,13,15830,14,15842,null,null,0,1111]
[12,15970,14,15977,13,15988,14,16011,null,null,0,1111]
[12,16123,14,16129,13,16134,14,16154,null,null,0,1111]
[12,16255,14,16260,13,16264,14,16272,null,null,0,1111]
[12,16380,14,16387,13,16394,14,16405,null,null,0,1111]
[12,16519,14,16524,13,16531,14,16539,null,null,0,1111]
[21,16655,12,16662,13,16669,14,16680,null,null,0,2111]
[12,16786,14,16790,13,16796,14,16803,null,null,0,1111]
[12,16919,14,16926,13,16945,14,16953,null,null,0,1111]
[12,17067,14,17072,13,17079,14,17102,null,null,0,1111]
[12,17227,14,17234,13,17254,23,17267,null,null,0,1112]
[12,17376,14,17383,13,17390,14,17411,null,null,0,1111]
[12,17527,14,17531,13,17536,14,17544,null,null,0,1111]
[12,17684,14,17689,13,17696,14,17707,null,null,0,1111]
[12,17878,14,17885,13,17896,23,17909,null,null,0,1112]
[12,18013,14,18017,13,18022,14,18049,null,null,0,1111]
[12,18197,14,18204,13,18227,23,18240,null,null,0,1112]
[12,18355,14,18360,24,18372,14,18380,null,null,0,1121]
[21,18484,12,18493,13,18497,14,18504,null,null,0,2111]
[12,18618,14,18622,13,18629,14,18650,null,null,0,1111]
[12,18754,14,18759,13,18763,23,18775,null,null,0,1112]
[21,18909,12,18917,13,18924,23,18937,null,null,0,2112]
[12,19052,14,19057,13,19065,14,19090,null,null,0,1111]
[12,19198,14,19202,13,19207,14,19225,null,null,0,1111]
[12,19366,14,19373,13,19395,14,19415,null,null,0,1111]
[12,19515,14,19519,13,19523,14,19532,null,null,0,1111]
[12,19641,14,19646,13,19653,14,19672,null,null,0,1111]
[12,19788,14,19793,13,19797,14,19820,null,null,0,1111]
[12,19924,14,19929,13,19935,14,19954,null,null,0,1111]
[12,20076,14,20080,13,20087,14,20107,null,null,0,1111]
[12,20212,14,20217,13,20223,14,20243,null,null,0,1111]
[12,20348,14,20352,13,20357,14,20364,null,null,0,1111]
[12,20482,14,20486,13,20490,14,20509,null,null,0,1111]
[12,20633,14,20638,13,20645,23,20658,null,null,0,1112]
[12,20764,14,20768,13,20776,14,20793,null,null,0,1111]
[12,20910,14,20914,13,20930,23,20942,null,null,0,1112]
[12,21054,14,21059,13,21066,14,21080,null,null,0,1111]
[12,21188,14,21192,13,21200,14,21219,null,null,0,1111]
[12,21330,14,21334,13,21340,14,21360,null,null,0,1111]
[12,21488,14,21492,13,21499,14,21510,null,null,0,1111]
[12,21619,14,21624,13,21628,14,21635,null,null,0,1111]
[12,21741,14,21745,13,21752,14,21771,null,null,0,1111]
[12,21902,14,21907,13,21913,14,21932,null,null,0,1111]
[12,22057,14,22061,13,22065,14,22084,null,null,0,1111]
[12,22195,14,22200,13,22204,14,22213,null,null,0,1111]
[12,22347,14,22352,13,22359,14,22381,null,null,0,1111]
[12,22488,14,22492,13,22499,14,22520,null,null,0,1111]
[12,22625,14,22629,13,22637,14,22658,null,null,0,1111]
[12,22786,14,22790,13,22799,14,22809,null,null,0,1111]
[12,22919,14,22923,13,22930,14,22951,null,null,0,1111]
[12,23067,14,23071,13,23078,14,23096,null,null,0,1111]
[12,23225,14,23229,13,23233,14,23239,null,null,0,1111]
[12,23368,14,23372,13,23390,14,23410,null,null,0,1111]
[12,23511,14,23515,13,23519,14,23527,null,null,0,1111]
[12,23649,14,23654,13,23658,23,23669,null,null,0,1112]
[12,23790,14,23794,13,23798,14,23806,null,null,0,1111]
[21,23933,12,23941,13,23946,14,23953,null,null,null,2111]

{"sheet":"!N102B20.095","index":4,"n_rows":167,"n_cols":48,"rows_kept":167,"cut":false,"hidden":false,"merged":[[4,39,4,42],[5,39,5,40],[4,44,4,47],[5,44,5,45],[4,24,4,27],[5,24,5,25],[4,29,4,32],[5,29,5,30],[4,34,4,37],[5,34,5,35],[1,1,1,2],[5,13,5,14],[26,13,26,14],[27,13,27,14],[4,19,4,22],[5,19,5,20]]}
["Report for:!N102B20.095"]
["Date:","<date>"]
["Hen:","<hen>",null,null,null,"Correct Sequence",{"$f":"Start!J2","v":2212},null,null,null,null,null,null,null,null,"Total Sequences in Data",{"$f":"4994-COUNTBLANK(L7:L5000)","v":161},null,null,null,null,"Total Sequences in Block Data",{"$f":"COUNTA(L7:L33)","v":27},null,null,null,"Total Sequences in Block Data",{"$f":"COUNTA(L34:L60)","v":27},null,null,null,"Total Sequences in Block Data",{"$f":"COUNTA(L61:L86)","v":26},null,null,null,"Total Sequences in Block Data",{"$f":"COUNTA(L87:L113)","v":27},null,null,null,"Total Sequences in Block Data",{"$f":"COUNTA(L114:L140)","v":27},null,null,null,"Total Sequences in Block Data",{"$f":"COUNTA(L141:L167)","v":27}]
[null,null,null,null,null,null,null,null,null,null,null,null,null,null,null,"Total Sequences in Summary",{"$f":"SUM(O7:O22)","v":161},null,null,null,null,"Total Sequences in Block Summary",{"$f":"SUM(U7:U22)","v":27},null,null,null,"Total Sequences in Block Summary",{"$f":"SUM(Z7:Z22)","v":27},null,null,null,"Total Sequences in Block Summary",{"$f":"SUM(AE7:AE22)","v":26},null,null,null,"Total Sequences in Block Summary",{"$f":"SUM(AJ7:AJ22)","v":27},null,null,null,"Total Sequences in Block Summary",{"$f":"SUM(AO7:AO22)","v":27},null,null,null,"Total Sequences in Block Summary",{"$f":"SUM(AT7:AT22)","v":27}]
[null,null,null,null,null,null,null,null,null,null,null,null,null,null,null,null,null,null,null,"Block 1",null,null,null,null,"Block 2",null,null,null,null,"Block 3",null,null,null,null,"Block 4",null,null,null,null,"Block 5",null,null,null,null,"Block 6"]
["Sequence\nComponent\n1","Time\n1","Sequence\nComponent\n2","Time\n2","Sequence\nComponent\n3","Time\n3","Sequence\nComponent\n4","Time\n4","Sequence\nComponent\n5","Time\n5","Correct?\n0=No 1=Yes","Sequence",null,"Frequency",null,"Relative Frequency","Variability",null,null,"Frequency",null,"Relative Frequency","Variability",null,"Frequency",null,"Relative Frequency","Variability",null,"Frequency",null,"Relative Frequency","Variability",null,"Frequency",null,"Relative Frequency","Variability",null,"Frequency",null,"Relative Frequency","Variability",null,"Frequency",null,"Relative Frequency","Variability"]
[12,18,14,22,13,32,23,40,null,null,0,1112,null,1111,{"$f":"COUNTIF($L$7:$L$500,N7)","v":123},{"$f":"O7/$Q$4","v":0.7639751552795031},{"$f":"IF(P7=0,0,(P7*((LOG(P7))/LOG(2))))","v":-0.29672976305199616},null,null,{"$f":"N7","v":1111},{"$f":"COUNTIF(L7:L33,T7)","v":22},{"$f":"U7/(W4-U20)","v":0.81481481481481477},{"$f":"IF(V7=0,0,(V7*((LOG(V7))/LOG(2))))","v":-0.24074183102132479},null,{"$f":"N7","v":1111},{"$f":"COUNTIF(L34:L60,Y7)","v":19},{"$f":"Z7/(AB4-Z20)","v":0.70370370370370372},{"$f":"IF(AA7=0,0,(AA7*((LOG(AA7))/LOG(2))))","v":-0.35674962169176955},null,{"$f":"N7","v":1111},{"$f":"COUNTIF(L61:L86,AD7)","v":16},{"$f":"AE7/(AG4-AE20)","v":0.61538461538461542},{"$f":"IF(AF7=0,0,(AF7*((LOG(AF7))/LOG(2))))","v":-0.43103982654836437},null,{"$f":"N7","v":1111},{"$f":"COUNTIF(L87:L113,AI7)","v":24},{"$f":"AJ7/(AL4-AJ20)","v":0.88888888888888884},{"$f":"IF(AK7=0,0,(AK7*((LOG(AK7))/LOG(2))))","v":-0.15104444572649992},null,{"$f":"N7","v":1111},{"$f":"COUNTIF(L114:L140,AN7)","v":23},{"$f":"AO7/(AQ4-AO20)","v":0.85185185185185186},{"$f":"IF(AP7=0,0,(AP7*((LOG(AP7))/LOG(2))))","v":-0.19705509483142519},null,{"$f":"N7","v":1111},{"$f":"COUNTIF(L141:L167,AS7)","v":19},{"$f":"AT7/(AV4-AT20)","v":0.70370370370370372},{"$f":"IF(AU7=0,0,(AU7*((LOG(AU7))/LOG(2))))","v":-0.35674962169176955}]
[12,146,23,156,13,176,14,202,null,null,0,1211,null,1112,{"$f":"COUNTIF($L$7:$L$500,N8)","v":15},{"$f":"O8/$Q$4","v":9.3167701863354033E-2},{"$f":"IF(P8=0,0,(P8*((LOG(P8))/LOG(2))))","v":-0.31900865986081656},null,null,{"$f":"N8","v":1112},{"$f":"COUNTIF(L7:L33,T8)","v":3},{"$f":"U8/(W4-U20)","v":0.1111111111111111},{"$f":"IF(V8=0,0,(V8*((LOG(V8))/LOG(2))))","v":-0.3522138890491458},null,{"$f":"N8","v":1112},{"$f":"COUNTIF(L34:L60,Y8)","v":1},{"$f":"Z8/(AB4-Z20)","v":3.7037037037037035E-2},{"$f":"IF(AA8=0,0,(AA8*((LOG(AA8))/LOG(2))))","v":-0.1761069445245729},null,{"$f":"N8","v":1112},{"$f":"COUNTIF(L61:L86,AD8)","v":4},{"$f":"AE8/(AG4-AE20)","v":0.15384615384615385},{"$f":"IF(AF8=0,0,(AF8*((LOG(AF8))/LOG(2))))","v":-0.4154522643293988},null,{"$f":"N8","v":1112},{"$f":"COUNTIF(L87:L113,AI8)","v":2},{"$f":"AJ8/(AL4-AJ20)","v":7.407407407407407E-2},{"$f":"IF(AK8=0,0,(AK8*((LOG(AK8))/LOG(2))))","v":-0.27813981497507173},null,{"$f":"N8","v":1112},{"$f":"COUNTIF(L114:L140,AN8)","v":2},{"$f":"AO8/(AQ4-AO20)","v":7.407407407407407E-2},{"$f":"IF(AP8=0,0,(AP8*((LOG(AP8))/LOG(2))))","v":-0.27813981497507173},null,{"$f":"N8","v":1112},{"$f":"COUNTIF(L141:L167,AS8)","v":3},{"$f":"AT8/(AV4-AT20)","v":0.1111111111111111},{"$f":"IF(AU8=0,0,(AU8*((LOG(AU8))/LOG(2))))","v":-0.3522138890491458}]
[12,320,14,336,13,361,14,381,null,null,0,1111,null,1121,{"$f":"COUNTIF($L$7:$L$500,N9)","v":5},{"$f":"O9/$Q$4","v":3.1055900621118012E-2},{"$f":"IF(P9=0,0,(P9*((LOG(P9))/LOG(2))))","v":-0.15555865786420048},null,null,{"$f":"N9","v":1121},{"$f":"COUNTIF(L7:L33,T9)","v":0},{"$f":"U9/(W4-U20)","v":0},{"$f":"IF(V9=0,0,(V9*((LOG(V9))/LOG(2))))","v":0},null,{"$f":"N9","v":1121},{"$f":"COUNTIF(L34:L60,Y9)","v":1},{"$f":"Z9/(AB4-Z20)","v":3.7037037037037035E-2},{"$f":"IF(AA9=0,0,(AA9*((LOG(AA9))/LOG(2))))","v":-0.1761069445245729},null,{"$f":"N9","v":1121},{"$f":"COUNTIF(L61:L86,AD9)","v":3},{"$f":"AE9/(AG4-AE20)","v":0.11538461538461539},{"$f":"IF(AF9=0,0,(AF9*((LOG(AF9))/LOG(2))))","v":-0.35947814047153104},null,{"$f":"N9","v":1121},{"$f":"COUNTIF(L87:L113,AI9)","v":0},{"$f":"AJ9/(AL4-AJ20)","v":0},{"$f":"IF(AK9=0,0,(AK9*((LOG(AK9))/LOG(2))))","v":0},null,{"$f":"N9","v":1121},{"$f":"COUNTIF(L114:L140,AN9)","v":1},{"$f":"AO9/(AQ4-AO20)","v":3.7037037037037035E-2},{"$f":"IF(AP9=0,0,(AP9*((LOG(AP9))/LOG(2))))","v":-0.1761069445245729},null,{"$f":"N9","v":1121},{"$f":"COUNTIF(L141:L167,AS9)","v":0},{"$f":"AT9/(AV4-AT20)","v":0},{"$f":"IF(AU9=0,0,(AU9*((LOG(AU9))/LOG(2))))","v":0}]
[12,487,14,492,13,499,23,508,null,null,0,1112,null,1122,{"$f":"COUNTIF($L$7:$L$500,N10)","v":0},{"$f":"O10/$Q$4","v":0},{"$f":"IF(P10=0,0,(P10*((LOG(P10))/LOG(2))))","v":0},null,null,{"$f":"N10","v":1122},{"$f":"COUNTIF(L7:L33,T10)","v":0},{"$f":"U10/(W4-U20)","v":0},{"$f":"IF(V10=0,0,(V10*((LOG(V10))/LOG(2))))","v":0},null,{"$f":"N10","v":1122},{"$f":"COUNTIF(L34:L60,Y10)","v":0},{"$f":"Z10/(AB4-Z20)","v":0},{"$f":"IF(AA10=0,0,(AA10*((LOG(AA10))/LOG(2))))","v":0},null,{"$f":"N10","v":1122},{"$f":"COUNTIF(L61:L86,AD10)","v":0},{"$f":"AE10/(AG4-AE20)","v":0},{"$f":"IF(AF10=0,0,(AF10*((LOG(AF10))/LOG(2))))","v":0},null,{"$f":"N10","v":1122},{"$f":"COUNTIF(L87:L113,AI10)","v":0},{"$f":"AJ10/(AL4-AJ20)","v":0},{"$f":"IF(AK10=0,0,(AK10*((LOG(AK10))/LOG(2))))","v":0},null,{"$f":"N10","v":1122},{"$f":"COUNTIF(L114:L140,AN10)","v":0},{"$f":"AO10/(AQ4-AO20)","v":0},{"$f":"IF(AP10=0,0,(AP10*((LOG(AP10))/LOG(2))))","v":0},null,{"$f":"N10","v":1122},{"$f":"COUNTIF(L141:L167,AS10)","v":0},{"$f":"AT10/(AV4-AT20)","v":0},{"$f":"IF(AU10=0,0,(AU10*((LOG(AU10))/LOG(2))))","v":0}]
[12,622,14,634,13,642,14,654,null,null,0,1111,null,1211,{"$f":"COUNTIF($L$7:$L$500,N11)","v":1},{"$f":"O11/$Q$4","v":6.2111801242236021E-3},{"$f":"IF(P11=0,0,(P11*((LOG(P11))/LOG(2))))","v":-4.5533645205680845E-2},null,null,{"$f":"N11","v":1211},{"$f":"COUNTIF(L7:L33,T11)","v":1},{"$f":"U11/(W4-U20)","v":3.7037037037037035E-2},{"$f":"IF(V11=0,0,(V11*((LOG(V11))/LOG(2))))","v":-0.1761069445245729},null,{"$f":"N11","v":1211},{"$f":"COUNTIF(L34:L60,Y11)","v":0},{"$f":"Z11/(AB4-Z20)","v":0},{"$f":"IF(AA11=0,0,(AA11*((LOG(AA11))/LOG(2))))","v":0},null,{"$f":"N11","v":1211},{"$f":"COUNTIF(L61:L86,AD11)","v":0},{"$f":"AE11/(AG4-AE20)","v":0},{"$f":"IF(AF11=0,0,(AF11*((LOG(AF11))/LOG(2))))","v":0},null,{"$f":"N11","v":1211},{"$f":"COUNTIF(L87:L113,AI11)","v":0},{"$f":"AJ11/(AL4-AJ20)","v":0},{"$f":"IF(AK11=0,0,(AK11*((LOG(AK11))/LOG(2))))","v":0},null,{"$f":"N11","v":1211},{"$f":"COUNTIF(L114:L140,AN11)","v":0},{"$f":"AO11/(AQ4-AO20)","v":0},{"$f":"IF(AP11=0,0,(AP11*((LOG(AP11))/LOG(2))))","v":0},null,{"$f":"N11","v":1211},{"$f":"COUNTIF(L141:L167,AS11)","v":0},{"$f":"AT11/(AV4-AT20)","v":0},{"$f":"IF(AU11=0,0,(AU11*((LOG(AU11))/LOG(2))))","v":0}]
[21,759,12,767,13,771,14,780,null,null,0,2111,null,1212,{"$f":"COUNTIF($L$7:$L$500,N12)","v":0},{"$f":"O12/$Q$4","v":0},{"$f":"IF(P12=0,0,(P12*((LOG(P12))/LOG(2))))","v":0},null,null,{"$f":"N12","v":1212},{"$f":"COUNTIF(L7:L33,T12)","v":0},{"$f":"U12/(W4-U20)","v":0},{"$f":"IF(V12=0,0,(V12*((LOG(V12))/LOG(2))))","v":0},null,{"$f":"N12","v":1212},{"$f":"COUNTIF(L34:L60,Y12)","v":0},{"$f":"Z12/(AB4-Z20)","v":0},{"$f":"IF(AA12=0,0,(AA12*((LOG(AA12))/LOG(2))))","v":0},null,{"$f":"N12","v":1212},{"$f":"COUNTIF(L61:L86,AD12)","v":0},{"$f":"AE12/(AG4-AE20)","v":0},{"$f":"IF(AF12=0,0,(AF12*((LOG(AF12))/LOG(2))))","v":0},null,{"$f":"N12","v":1212},{"$f":"COUNTIF(L87:L113,AI12)","v":0},{"$f":"AJ12/(AL4-AJ20)","v":0},{"$f":"IF(AK12=0,0,(AK12*((LOG(AK12))/LOG(2))))","v":0},null,{"$f":"N12","v":1212},{"$f":"COUNTIF(L114:L140,AN12)","v":0},{"$f":"AO12/(AQ4-AO20)","v":0},{"$f":"IF(AP12=0,0,(AP12*((LOG(AP12))/LOG(2))))","v":0},null,{"$f":"N12","v":1212},{"$f":"COUNTIF(L141:L167,AS12)","v":0},{"$f":"AT12/(AV4-AT20)","v":0},{"$f":"IF(AU12=0,0,(AU12*((LOG(AU12))/LOG(2))))","v":0}]
[12,886,14,891,13,896,14,904,null,null,0,1111,null,1221,{"$f":"COUNTIF($L$7:$L$500,N13)","v":0},{"$f":"O13/$Q$4","v":0},{"$f":"IF(P13=0,0,(P13*((LOG(P13))/LOG(2))))","v":0},null,null,{"$f":"N13","v":1221},{"$f":"COUNTIF(L7:L33,T13)","v":0},{"$f":"U13/(W4-U20)","v":0},{"$f":"IF(V13=0,0,(V13*((LOG(V13))/LOG(2))))","v":0},null,{"$f":"N13","v":1221},{"$f":"COUNTIF(L34:L60,Y13)","v":0},{"$f":"Z13/(AB4-Z20)","v":0},{"$f":"IF(AA13=0,0,(AA13*((LOG(AA13))/LOG(2))))","v":0},null,{"$f":"N13","v":1221},{"$f":"COUNTIF(L61:L86,AD13)","v":0},{"$f":"AE13/(AG4-AE20)","v":0},{"$f":"IF(AF13=0,0,(AF13*((LOG(AF13))/LOG(2))))","v":0},null,{"$f":"N13","v":1221},{"$f":"COUNTIF(L87:L113,AI13)","v":0},{"$f":"AJ13/(AL4-AJ20)","v":0},{"$f":"IF(AK13=0,0,(AK13*((LOG(AK13))/LOG(2))))","v":0},null,{"$f":"N13","v":1221},{"$f":"COUNTIF(L114:L140,AN13)","v":0},{"$f":"AO13/(AQ4-AO20)","v":0},{"$f":"IF(AP13=0,0,(AP13*((LOG(AP13))/LOG(2))))","v":0},null,{"$f":"N13","v":1221},{"$f":"COUNTIF(L141:L167,AS13)","v":0},{"$f":"AT13/(AV4-AT20)","v":0},{"$f":"IF(AU13=0,0,(AU13*((LOG(AU13))/LOG(2))))","v":0}]
[12,1016,14,1021,13,1025,14,1032,null,null,0,1111,null,1222,{"$f":"COUNTIF($L$7:$L$500,N14)","v":0},{"$f":"O14/$Q$4","v":0},{"$f":"IF(P14=0,0,(P14*((LOG(P14))/LOG(2))))","v":0},null,null,{"$f":"N14","v":1222},{"$f":"COUNTIF(L7:L33,T14)","v":0},{"$f":"U14/(W4-U20)","v":0},{"$f":"IF(V14=0,0,(V14*((LOG(V14))/LOG(2))))","v":0},null,{"$f":"N14","v":1222},{"$f":"COUNTIF(L34:L60,Y14)","v":0},{"$f":"Z14/(AB4-Z20)","v":0},{"$f":"IF(AA14=0,0,(AA14*((LOG(AA14))/LOG(2))))","v":0},null,{"$f":"N14","v":1222},{"$f":"COUNTIF(L61:L86,AD14)","v":0},{"$f":"AE14/(AG4-AE20)","v":0},{"$f":"IF(AF14=0,0,(AF14*((LOG(AF14))/LOG(2))))","v":0},null,{"$f":"N14","v":1222},{"$f":"COUNTIF(L87:L113,AI14)","v":0},{"$f":"AJ14/(AL4-AJ20)","v":0},{"$f":"IF(AK14=0,0,(AK14*((LOG(AK14))/LOG(2))))","v":0},null,{"$f":"N14","v":1222},{"$f":"COUNTIF(L114:L140,AN14)","v":0},{"$f":"AO14/(AQ4-AO20)","v":0},{"$f":"IF(AP14=0,0,(AP14*((LOG(AP14))/LOG(2))))","v":0},null,{"$f":"N14","v":1222},{"$f":"COUNTIF(L141:L167,AS14)","v":0},{"$f":"AT14/(AV4-AT20)","v":0},{"$f":"IF(AU14=0,0,(AU14*((LOG(AU14))/LOG(2))))","v":0}]
[12,1138,14,1144,13,1151,14,1159,null,null,0,1111,null,2111,{"$f":"COUNTIF($L$7:$L$500,N15)","v":16},{"$f":"O15/$Q$4","v":9.9378881987577633E-2},{"$f":"IF(P15=0,0,(P15*((LOG(P15))/LOG(2))))","v":-0.33102279534058304},null,null,{"$f":"N15","v":2111},{"$f":"COUNTIF(L7:L33,T15)","v":1},{"$f":"U15/(W4-U20)","v":3.7037037037037035E-2},{"$f":"IF(V15=0,0,(V15*((LOG(V15))/LOG(2))))","v":-0.1761069445245729},null,{"$f":"N15","v":2111},{"$f":"COUNTIF(L34:L60,Y15)","v":5},{"$f":"Z15/(AB4-Z20)","v":0.18518518518518517},{"$f":"IF(AA15=0,0,(AA15*((LOG(AA15))/LOG(2))))","v":-0.45054803838446406},null,{"$f":"N15","v":2111},{"$f":"COUNTIF(L61:L86,AD15)","v":3},{"$f":"AE15/(AG4-AE20)","v":0.11538461538461539},{"$f":"IF(AF15=0,0,(AF15*((LOG(AF15))/LOG(2))))","v":-0.35947814047153104},null,{"$f":"N15","v":2111},{"$f":"COUNTIF(L87:L113,AI15)","v":1},{"$f":"AJ15/(AL4-AJ20)","v":3.7037037037037035E-2},{"$f":"IF(AK15=0,0,(AK15*((LOG(AK15))/LOG(2))))","v":-0.1761069445245729},null,{"$f":"N15","v":2111},{"$f":"COUNTIF(L114:L140,AN15)","v":1},{"$f":"AO15/(AQ4-AO20)","v":3.7037037037037035E-2},{"$f":"IF(AP15=0,0,(AP15*((LOG(AP15))/LOG(2))))","v":-0.1761069445245729},null,{"$f":"N15","v":2111},{"$f":"COUNTIF(L141:L167,AS15)","v":5},{"$f":"AT15/(AV4-AT20)","v":0.18518518518518517},{"$f":"IF(AU15=0,0,(AU15*((LOG(AU15))/LOG(2))))","v":-0.45054803838446406}]
[12,1269,14,1273,13,1278,14,1285,null,null,0,1111,null,2112,{"$f":"COUNTIF($L$7:$L$500,N16)","v":0},{"$f":"O16/$Q$4","v":0},{"$f":"IF(P16=0,0,(P16*((LOG(P16))/LOG(2))))","v":0},null,null,{"$f":"N16","v":2112},{"$f":"COUNTIF(L7:L33,T16)","v":0},{"$f":"U16/(W4-U20)","v":0},{"$f":"IF(V16=0,0,(V16*((LOG(V16))/LOG(2))))","v":0},null,{"$f":"N16","v":2112},{"$f":"COUNTIF(L34:L60,Y16)","v":0},{"$f":"Z16/(AB4-Z20)","v":0},{"$f":"IF(AA16=0,0,(AA16*((LOG(AA16))/LOG(2))))","v":0},null,{"$f":"N16","v":2112},{"$f":"COUNTIF(L61:L86,AD16)","v":0},{"$f":"AE16/(AG4-AE20)","v":0},{"$f":"IF(AF16=0,0,(AF16*((LOG(AF16))/LOG(2))))","v":0},null,{"$f":"N16","v":2112},{"$f":"COUNTIF(L87:L113,AI16)","v":0},{"$f":"AJ16/(AL4-AJ20)","v":0},{"$f":"IF(AK16=0,0,(AK16*((LOG(AK16))/LOG(2))))","v":0},null,{"$f":"N16","v":2112},{"$f":"COUNTIF(L114:L140,AN16)","v":0},{"$f":"AO16/(AQ4-AO20)","v":0},{"$f":"IF(AP16=0,0,(AP16*((LOG(AP16))/LOG(2))))","v":0},null,{"$f":"N16","v":2112},{"$f":"COUNTIF(L141:L167,AS16)","v":0},{"$f":"AT16/(AV4-AT20)","v":0},{"$f":"IF(AU16=0,0,(AU16*((LOG(AU16))/LOG(2))))","v":0}]
[12,1395,14,1404,13,1425,14,1438,null,null,0,1111,null,2121,{"$f":"COUNTIF($L$7:$L$500,N17)","v":0},{"$f":"O17/$Q$4","v":0},{"$f":"IF(P17=0,0,(P17*((LOG(P17))/LOG(2))))","v":0},null,null,{"$f":"N17","v":2121},{"$f":"COUNTIF(L7:L33,T17)","v":0},{"$f":"U17/(W4-U20)","v":0},{"$f":"IF(V17=0,0,(V17*((LOG(V17))/LOG(2))))","v":0},null,{"$f":"N17","v":2121},{"$f":"COUNTIF(L34:L60,Y17)","v":0},{"$f":"Z17/(AB4-Z20)","v":0},{"$f":"IF(AA17=0,0,(AA17*((LOG(AA17))/LOG(2))))","v":0},null,{"$f":"N17","v":2121},{"$f":"COUNTIF(L61:L86,AD17)","v":0},{"$f":"AE17/(AG4-AE20)","v":0},{"$f":"IF(AF17=0,0,(AF17*((LOG(AF17))/LOG(2))))","v":0},null,{"$f":"N17","v":2121},{"$f":"COUNTIF(L87:L113,AI17)","v":0},{"$f":"AJ17/(AL4-AJ20)","v":0},{"$f":"IF(AK17=0,0,(AK17*((LOG(AK17))/LOG(2))))","v":0},null,{"$f":"N17","v":2121},{"$f":"COUNTIF(L114:L140,AN17)","v":0},{"$f":"AO17/(AQ4-AO20)","v":0},{"$f":"IF(AP17=0,0,(AP17*((LOG(AP17))/LOG(2))))","v":0},null,{"$f":"N17","v":2121},{"$f":"COUNTIF(L141:L167,AS17)","v":0},{"$f":"AT17/(AV4-AT20)","v":0},{"$f":"IF(AU17=0,0,(AU17*((LOG(AU17))/LOG(2))))","v":0}]
[12,1550,14,1554,13,1560,14,1576,null,null,0,1111,null,2122,{"$f":"COUNTIF($L$7:$L$500,N18)","v":0},{"$f":"O18/$Q$4","v":0},{"$f":"IF(P18=0,0,(P18*((LOG(P18))/LOG(2))))","v":0},null,null,{"$f":"N18","v":2122},{"$f":"COUNTIF(L7:L33,T18)","v":0},{"$f":"U18/(W4-U20)","v":0},{"$f":"IF(V18=0,0,(V18*((LOG(V18))/LOG(2))))","v":0},null,{"$f":"N18","v":2122},{"$f":"COUNTIF(L34:L60,Y18)","v":0},{"$f":"Z18/(AB4-Z20)","v":0},{"$f":"IF(AA18=0,0,(AA18*((LOG(AA18))/LOG(2))))","v":0},null,{"$f":"N18","v":2122},{"$f":"COUNTIF(L61:L86,AD18)","v":0},{"$f":"AE18/(AG4-AE20)","v":0},{"$f":"IF(AF18=0,0,(AF18*((LOG(AF18))/LOG(2))))","v":0},null,{"$f":"N18","v":2122},{"$f":"COUNTIF(L87:L113,AI18)","v":0},{"$f":"AJ18/(AL4-AJ20)","v":0},{"$f":"IF(AK18=0,0,(AK18*((LOG(AK18))/LOG(2))))","v":0},null,{"$f":"N18","v":2122},{"$f":"COUNTIF(L114:L140,AN18)","v":0},{"$f":"AO18/(AQ4-AO20)","v":0},{"$f":"IF(AP18=0,0,(AP18*((LOG(AP18))/LOG(2))))","v":0},null,{"$f":"N18","v":2122},{"$f":"COUNTIF(L141:L167,AS18)","v":0},{"$f":"AT18/(AV4-AT20)","v":0},{"$f":"IF(AU18=0,0,(AU18*((LOG(AU18))/LOG(2))))","v":0}]
[12,1714,14,1722,13,1734,14,1749,null,null,0,1111,null,2211,{"$f":"COUNTIF($L$7:$L$500,N19)","v":1},{"$f":"O19/$Q$4","v":6.2111801242236021E-3},{"$f":"IF(P19=0,0,(P19*((LOG(P19))/LOG(2))))","v":-4.5533645205680845E-2},null,null,{"$f":"N19","v":2211},{"$f":"COUNTIF(L7:L33,T19)","v":0},{"$f":"U19/(W4-U20)","v":0},{"$f":"IF(V19=0,0,(V19*((LOG(V19))/LOG(2))))","v":0},null,{"$f":"N19","v":2211},{"$f":"COUNTIF(L34:L60,Y19)","v":1},{"$f":"Z19/(AB4-Z20)","v":3.7037037037037035E-2},{"$f":"IF(AA19=0,0,(AA19*((LOG(AA19))/LOG(2))))","v":-0.1761069445245729},null,{"$f":"N19","v":2211},{"$f":"COUNTIF(L61:L86,AD19)","v":0},{"$f":"AE19/(AG4-AE20)","v":0},{"$f":"IF(AF19=0,0,(AF19*((LOG(AF19))/LOG(2))))","v":0},null,{"$f":"N19","v":2211},{"$f":"COUNTIF(L87:L113,AI19)","v":0},{"$f":"AJ19/(AL4-AJ20)","v":0},{"$f":"IF(AK19=0,0,(AK19*((LOG(AK19))/LOG(2))))","v":0},null,{"$f":"N19","v":2211},{"$f":"COUNTIF(L114:L140,AN19)","v":0},{"$f":"AO19/(AQ4-AO20)","v":0},{"$f":"IF(AP19=0,0,(AP19*((LOG(AP19))/LOG(2))))","v":0},null,{"$f":"N19","v":2211},{"$f":"COUNTIF(L141:L167,AS19)","v":0},{"$f":"AT19/(AV4-AT20)","v":0},{"$f":"IF(AU19=0,0,(AU19*((LOG(AU19))/LOG(2))))","v":0}]
[12,1865,14,1869,13,1876,14,1884,null,null,0,1111,null,2212,{"$f":"COUNTIF($L$7:$L$500,N20)","v":0},{"$f":"O20/$Q$4","v":0},{"$f":"IF(P20=0,0,(P20*((LOG(P20))/LOG(2))))","v":0},null,null,{"$f":"N20","v":2212},{"$f":"COUNTIF(L7:L33,T20)","v":0},null,null,null,{"$f":"N20","v":2212},{"$f":"COUNTIF(L34:L60,Y20)","v":0},null,null,null,{"$f":"N20","v":2212},{"$f":"COUNTIF(L61:L86,AD20)","v":0},null,null,null,{"$f":"N20","v":2212},{"$f":"COUNTIF(L87:L113,AI20)","v":0},null,null,null,{"$f":"N20","v":2212},{"$f":"COUNTIF(L114:L140,AN20)","v":0},null,null,null,{"$f":"N20","v":2212},{"$f":"COUNTIF(L141:L167,AS20)","v":0}]
[12,2014,14,2020,13,2027,14,2040,null,null,0,1111,null,2221,{"$f":"COUNTIF($L$7:$L$500,N21)","v":0},{"$f":"O21/$Q$4","v":0},{"$f":"IF(P21=0,0,(P21*((LOG(P21))/LOG(2))))","v":0},null,null,{"$f":"N21","v":2221},{"$f":"COUNTIF(L7:L33,T21)","v":0},{"$f":"U21/(W4-U20)","v":0},{"$f":"IF(V21=0,0,(V21*((LOG(V21))/LOG(2))))","v":0},null,{"$f":"N21","v":2221},{"$f":"COUNTIF(L34:L60,Y21)","v":0},{"$f":"Z21/(AB4-Z20)","v":0},{"$f":"IF(AA21=0,0,(AA21*((LOG(AA21))/LOG(2))))","v":0},null,{"$f":"N21","v":2221},{"$f":"COUNTIF(L61:L86,AD21)","v":0},{"$f":"AE21/(AG4-AE20)","v":0},{"$f":"IF(AF21=0,0,(AF21*((LOG(AF21))/LOG(2))))","v":0},null,{"$f":"N21","v":2221},{"$f":"COUNTIF(L87:L113,AI21)","v":0},{"$f":"AJ21/(AL4-AJ20)","v":0},{"$f":"IF(AK21=0,0,(AK21*((LOG(AK21))/LOG(2))))","v":0},null,{"$f":"N21","v":2221},{"$f":"COUNTIF(L114:L140,AN21)","v":0},{"$f":"AO21/(AQ4-AO20)","v":0},{"$f":"IF(AP21=0,0,(AP21*((LOG(AP21))/LOG(2))))","v":0},null,{"$f":"N21","v":2221},{"$f":"COUNTIF(L141:L167,AS21)","v":0},{"$f":"AT21/(AV4-AT20)","v":0},{"$f":"IF(AU21=0,0,(AU21*((LOG(AU21))/LOG(2))))","v":0}]
[12,2151,14,2155,13,2162,14,2169,null,null,0,1111,null,2222,{"$f":"COUNTIF($L$7:$L$500,N22)","v":0},{"$f":"O22/$Q$4","v":0},{"$f":"IF(P22=0,0,(P22*((LOG(P22))/LOG(2))))","v":0},null,null,{"$f":"N22","v":2222},{"$f":"COUNTIF(L7:L33,T22)","v":0},{"$f":"U22/(W4-U20)","v":0},{"$f":"IF(V22=0,0,(V22*((LOG(V22))/LOG(2))))","v":0},null,{"$f":"N22","v":2222},{"$f":"COUNTIF(L34:L60,Y22)","v":0},{"$f":"Z22/(AB4-Z20)","v":0},{"$f":"IF(AA22=0,0,(AA22*((LOG(AA22))/LOG(2))))","v":0},null,{"$f":"N22","v":2222},{"$f":"COUNTIF(L61:L86,AD22)","v":0},{"$f":"AE22/(AG4-AE20)","v":0},{"$f":"IF(AF22=0,0,(AF22*((LOG(AF22))/LOG(2))))","v":0},null,{"$f":"N22","v":2222},{"$f":"COUNTIF(L87:L113,AI22)","v":0},{"$f":"AJ22/(AL4-AJ20)","v":0},{"$f":"IF(AK22=0,0,(AK22*((LOG(AK22))/LOG(2))))","v":0},null,{"$f":"N22","v":2222},{"$f":"COUNTIF(L114:L140,AN22)","v":0},{"$f":"AO22/(AQ4-AO20)","v":0},{"$f":"IF(AP22=0,0,(AP22*((LOG(AP22))/LOG(2))))","v":0},null,{"$f":"N22","v":2222},{"$f":"COUNTIF(L141:L167,AS22)","v":0},{"$f":"AT22/(AV4-AT20)","v":0},{"$f":"IF(AU22=0,0,(AU22*((LOG(AU22))/LOG(2))))","v":0}]
[12,2283,14,2287,13,2294,14,2305,null,null,0,1111,null,null,null,{"$f":"SUM(P7:P22)","v":0.99999999999999989},{"$f":"-SUM(Q7:Q22)","v":1.1933871665289579},null,null,null,null,{"$f":"SUM(V7:V22)","v":0.99999999999999978},{"$f":"-SUM(W7:W22)","v":0.94516960911961634},null,null,null,{"$f":"SUM(AA7:AA22)","v":0.99999999999999978},{"$f":"-SUM(AB7:AB22)","v":1.3356184936499522},null,null,null,{"$f":"SUM(AF7:AF22)","v":1},{"$f":"-SUM(AG7:AG22)","v":1.5654483718208252},null,null,null,{"$f":"SUM(AK7:AK22)","v":1},{"$f":"-SUM(AL7:AL22)","v":0.60529120522614455},null,null,null,{"$f":"SUM(AP7:AP22)","v":1},{"$f":"-SUM(AQ7:AQ22)","v":0.82740879885564267},null,null,null,{"$f":"SUM(AU7:AU22)","v":1},{"$f":"-SUM(AV7:AV22)","v":1.1595115491253793}]
[12,2446,14,2466,13,2490,14,2505,null,null,0,1111,null,null,null,"U=",{"$f":"Q23/(LOG(Q4)/LOG(2))","v":0.16278825505328554},null,null,null,null,"U1=",{"$f":"W23/(LOG(W4)/LOG(2))","v":0.19877854285502344},null,null,null,"U2=",{"$f":"AB23/(LOG(AB4)/LOG(2))","v":0.28089381568801519},null,null,null,"U3=",{"$f":"AG23/(LOG(AG4)/LOG(2))","v":0.33304296314641846},null,null,null,"U4=",{"$f":"AL23/(LOG(AL4)/LOG(2))","v":0.12729874365076729},null,null,null,"U5=",{"$f":"AQ23/(LOG(AQ4)/LOG(2))","v":0.17401227652161541},null,null,null,"U6=",{"$f":"AV23/(LOG(AV4)/LOG(2))","v":0.24385677865097816}]
[12,2618,14,2623,13,2630,14,2641,null,null,0,1111]
[12,2764,14,2771,13,2778,14,2785,null,null,0,1111]
[12,2901,14,2908,13,2926,23,2941,null,null,0,1112,null,"Total Target Seq"]
[12,3057,14,3062,13,3070,14,3093,null,null,0,1111,null,{"$f":"COUNTIF(L7:L167,G3)","v":0},null,27,27,26,27,27,27]
[12,3210,14,3214,13,3221,14,3228,null,null,0,1111,null,null,null,"% of reinforcement given in 6 equal intervals based on number of trials "]
[12,3345,14,3351,13,3359,14,3366,null,null,0,1111,null,null,null,"%_1","%_2","%_3","%_4","%_5","%_6"]
[12,3471,14,3475,13,3480,14,3486,null,null,0,1111,null,null,"target sequence",{"$f":"$G$3","v":2212},{"$f":"$G$3","v":2212},{"$f":"$G$3","v":2212},{"$f":"$G$3","v":2212},{"$f":"$G$3","v":2212},{"$f":"$G$3","v":2212}]
[12,3610,14,3616,13,3635,14,3657,null,null,0,1111,null,null,"total reinforcement",{"$f":"U20","v":0},{"$f":"Z20","v":0},{"$f":"AE20","v":0},{"$f":"AJ20","v":0},{"$f":"AO20","v":0},{"$f":"AT20","v":0}]
[12,3764,14,3768,13,3775,14,3790,null,null,0,1111,null,null,"% target"]
[12,3897,14,3902,13,3909,14,3926,null,null,0,1111,null,null,"CCRF"]
[12,4045,14,4050,13,4057,14,4081,null,null,0,1111,null,null,"% CCRf"]
[12,4202,14,4207,13,4214,14,4222,null,null,0,1111,null,null,"average response rate",{"$f":"H33/P28","v":140.37037037037038},{"$f":"(H60-H33)/Q28","v":152.25925925925927},{"$f":"(H86-H60)/R28","v":153.15384615384616},{"$f":"(H113-H86)/S28","v":130.88888888888889},{"$f":"(H140-H113)/T28","v":139.7037037037037},{"$f":"(H167-H140)/U28","v":178.22222222222223}]
[12,4345,14,4350,13,4355,14,4362,null,null,0,1111]
[12,4476,14,4481,13,4488,14,4497,null,null,0,1111]
[12,4614,14,4619,13,4626,14,4638,null,null,0,1111]
[12,4798,14,4802,13,4810,14,4830,null,null,0,1111]
[12,4939,14,4948,13,4953,14,4960,null,null,0,1111]
[12,5086,14,5094,24,5103,14,5111,null,null,0,1121]
[12,5223,14,5227,13,5233,14,5242,null,null,0,1111]
[12,5473,14,5480,13,5487,14,5505,null,null,0,1111]
[12,5626,14,5631,13,5638,14,5658,null,null,0,1111]
[21,5789,12,5798,13,5822,14,5832,null,null,0,2111]
[21,5942,21,5959,11,5969,12,5986,null,null,0,2211]
[12,6100,14,6105,13,6112,14,6129,null,null,0,1111]
[21,6234,12,6244,13,6249,14,6255,null,null,0,2111]
[12,6377,14,6384,13,6405,14,6416,null,null,0,1111]
[12,6538,14,6543,13,6550,14,6568,null,null,0,1111]
[12,6686,14,6691,13,6696,14,6704,null,null,0,1111]
[12,6860,14,6882,13,6903,23,6915,null,null,0,1112]
[21,7016,12,7034,13,7039,14,7046,null,null,0,2111]
[21,7150,12,7158,13,7161,14,7168,null,null,0,2111]
[12,7302,14,7307,13,7314,14,7336,null,null,0,1111]
[12,7452,14,7457,13,7463,14,7482,null,null,0,1111]
[21,7604,12,7611,13,7619,14,7631,null,null,0,2111]
[12,7739,14,7743,13,7747,14,7764,null,null,0,1111]
[12,7872,14,7876,13,7883,14,7901,null,null,0,1111]
[12,8013,14,8018,13,8026,14,8048,null,null,0,1111]
[12,8165,14,8169,13,8175,14,8182,null,null,0,1111]
[12,8340,14,8346,13,8354,14,8376,null,null,0,1111]
[12,8497,14,8502,13,8510,23,8523,null,null,0,1112]
[21,8651,12,8659,13,8666,14,8685,null,null,0,2111]
[12,8829,14,8833,13,8840,23,8850,null,null,0,1112]
[12,9013,14,9018,13,9038,23,9047,null,null,0,1112]
[12,9158,14,9163,13,9170,14,9193,null,null,0,1111]
[12,9302,14,9308,24,9318,14,9327,null,null,0,1121]
[12,9435,14,9439,13,9444,14,9450,null,null,0,1111]
[21,9574,12,9582,13,9588,14,9593,null,null,0,2111]
[12,9708,14,9713,13,9726,14,9735,null,null,0,1111]
[21,9849,12,9857,13,9862,14,9869,null,null,0,2111]
[12,9977,14,9982,13,9986,14,10000,null,null,0,1111]
[12,10111,14,10116,13,10120,14,10127,null,null,0,1111]
[12,10240,14,10245,13,10251,14,10259,null,null,0,1111]
[12,10373,14,10377,13,10383,14,10404,null,null,0,1111]
[12,10521,14,10525,13,10530,14,10537,null,null,0,1111]
[12,10661,14,10668,24,10676,14,10685,null,null,0,1121]
[12,10796,14,10802,13,10809,14,10816,null,null,0,1111]
[12,10988,14,10994,24,11003,14,11010,null,null,0,1121]
[12,11240,14,11262,13,11283,14,11305,null,null,0,1111]
[12,11428,14,11433,13,11440,23,11460,null,null,0,1112]
[12,11566,14,11570,13,11575,14,11582,null,null,0,1111]
[12,11691,14,11695,13,11702,14,11721,null,null,0,1111]
[12,11854,14,11858,13,11863,14,11883,null,null,0,1111]
[12,11994,14,11999,13,12003,14,12025,null,null,0,1111]
[21,12127,12,12135,13,12140,14,12147,null,null,0,2111]
[12,12259,14,12263,13,12267,14,12273,null,null,0,1111]
[12,12378,14,12383,13,12387,14,12393,null,null,0,1111]
[12,12509,14,12513,13,12520,14,12539,null,null,0,1111]
[12,12640,14,12646,13,12653,23,12665,null,null,0,1112]
[12,12771,14,12775,13,12780,14,12784,null,null,0,1111]
[12,12891,14,12896,13,12900,14,12906,null,null,0,1111]
[12,13022,14,13026,13,13033,14,13050,null,null,0,1111]
[12,13155,14,13159,13,13165,14,13171,null,null,0,1111]
[12,13277,14,13281,13,13287,23,13300,null,null,0,1112]
[12,13411,14,13415,13,13421,14,13428,null,null,0,1111]
[12,13577,14,13584,13,13590,14,13598,null,null,0,1111]
[12,13745,14,13749,13,13754,14,13762,null,null,0,1111]
[12,13869,14,13873,13,13880,14,13888,null,null,0,1111]
[12,13991,14,13996,13,14000,14,14008,null,null,0,1111]
[12,14117,14,14121,13,14126,14,14132,null,null,0,1111]
[12,14244,14,14248,13,14253,14,14258,null,null,0,1111]
[12,14378,14,14383,13,14388,14,14393,null,null,0,1111]
[12,14495,14,14499,13,14503,14,14512,null,null,0,1111]
[12,14622,14,14626,13,14630,14,14637,null,null,0,1111]
[12,14741,14,14746,13,14750,14,14757,null,null,0,1111]
[12,14871,14,14876,13,14882,14,14889,null,null,0,1111]
[12,14991,14,14996,13,15001,14,15007,null,null,0,1111]
[12,15111,14,15116,13,15120,14,15127,null,null,0,1111]
[12,15230,14,15237,13,15243,14,15250,null,null,0,1111]
[12,15383,14,15388,13,15395,14,15417,null,null,0,1111]
[12,15523,14,15528,13,15534,14,15541,null,null,0,1111]
[12,15646,14,15650,13,15655,14,15661,null,null,0,1111]
[12,15797,14,15802,13,15808,23,15819,null,null,0,1112]
[12,15926,14,15930,13,15934,14,15940,null,null,0,1111]
[12,16048,14,16052,13,16056,14,16062,null,null,0,1111]
[12,16174,14,16179,13,16183,14,16190,null,null,0,1111]
[12,16328,14,16333,13,16344,14,16360,null,null,0,1111]
[12,16466,14,16471,13,16475,14,16481,null,null,0,1111]
[12,16610,14,16613,13,16619,14,16630,null,null,0,1111]
[12,16743,14,16747,13,16754,23,16763,null,null,0,1112]
[12,16869,14,16873,13,16877,14,16883,null,null,0,1111]
[21,16993,12,17000,13,17004,14,17011,null,null,0,2111]
[12,17127,14,17133,13,17139,14,17146,null,null,0,1111]
[12,17294,14,17300,24,17311,14,17323,null,null,0,1121]
[12,17448,14,17452,13,17457,14,17464,null,null,0,1111]
[12,17590,14,17594,13,17601,14,17621,null,null,0,1111]
[12,17732,14,17736,13,17742,14,17749,null,null,0,1111]
[12,17855,14,17859,13,17866,14,17874,null,null,0,1111]
[12,17995,14,18000,13,18004,14,18011,null,null,0,1111]
[12,18139,14,18143,13,18149,14,18160,null,null,0,1111]
[12,18273,14,18277,13,18282,14,18288,null,null,0,1111]
[12,18426,14,18431,13,18438,14,18448,null,null,0,1111]
[12,18577,14,18582,13,18589,14,18600,null,null,0,1111]
[12,18720,14,18725,13,18732,14,18750,null,null,0,1111]
[12,18899,14,18903,13,18909,14,18919,null,null,0,1111]
[12,19038,14,19042,13,19046,14,19050,null,null,0,1111]
[12,19168,14,19173,13,19180,14,19189,null,null,0,1111]
[12,19342,14,19348,13,19359,14,19371,null,null,0,1111]
[12,19555,14,19559,13,19566,14,19587,null,null,0,1111]
[12,19830,14,19834,13,19842,14,19850,null,null,0,1111]
[12,20058,14,20064,13,20071,14,20083,null,null,0,1111]
[12,20227,14,20231,13,20237,14,20247,null,null,0,1111]
[12,20386,14,20391,13,20397,14,20408,null,null,0,1111]
[12,20543,14,20547,13,20552,14,20559,null,null,0,1111]
[21,20689,12,20699,13,20703,14,20711,null,null,0,2111]
[12,20819,14,20825,13,20831,23,20844,null,null,0,1112]
[12,20969,14,20974,13,20978,14,20985,null,null,0,1111]
[12,21126,14,21131,13,21135,14,21141,null,null,0,1111]
[12,21255,14,21260,13,21264,14,21271,null,null,0,1111]
[12,21495,14,21499,13,21506,23,21516,null,null,0,1112]
[21,21660,12,21667,13,21674,14,21701,null,null,0,2111]
[12,21821,14,21827,13,21832,14,21840,null,null,0,1111]
[21,21974,12,21981,13,21985,14,21992,null,null,0,2111]
[12,22194,14,22198,13,22203,14,22209,null,null,0,1111]
[12,22404,14,22409,13,22413,14,22417,null,null,0,1111]
[12,22771,14,22777,13,22801,23,22810,null,null,0,1112]
[12,22987,14,22991,13,22998,14,23005,null,null,0,1111]
[12,23143,14,23147,13,23151,14,23156,null,null,0,1111]
[21,23318,12,23328,13,23332,14,23338,null,null,0,2111]
[21,23454,12,23464,13,23469,14,23473,null,null,0,2111]
[12,23566,14,23578,13,23582,14,23587,null,null,0,1111]
[12,23710,14,23715,13,23719,14,23727,null,null,0,1111]
[12,23838,14,23842,13,23847,14,23854,null,null,0,1111]
[12,23979,14,23984,13,23990,14,24001,null,null,null,1111]

{"sheet":"!N103950.095","index":5,"n_rows":81,"n_cols":48,"rows_kept":81,"cut":false,"hidden":false,"merged":[[4,39,4,42],[5,39,5,40],[4,44,4,47],[5,44,5,45],[4,24,4,27],[5,24,5,25],[4,29,4,32],[5,29,5,30],[4,34,4,37],[5,34,5,35],[1,1,1,2],[5,13,5,14],[26,13,26,14],[27,13,27,14],[4,19,4,22],[5,19,5,20]]}
["Report for:!N103950.095"]
["Date:","<date>"]
["Hen:","<hen>",null,null,null,"Correct Sequence",{"$f":"Start!J2","v":2212},null,null,null,null,null,null,null,null,"Total Sequences in Data",{"$f":"4994-COUNTBLANK(L7:L5000)","v":75},null,null,null,null,"Total Sequences in Block Data",{"$f":"COUNTA(L7:L19)","v":13},null,null,null,"Total Sequences in Block Data",{"$f":"COUNTA(L20:L31)","v":12},null,null,null,"Total Sequences in Block Data",{"$f":"COUNTA(L32:L44)","v":13},null,null,null,"Total Sequences in Block Data",{"$f":"COUNTA(L45:L56)","v":12},null,null,null,"Total Sequences in Block Data",{"$f":"COUNTA(L57:L69)","v":13},null,null,null,"Total Sequences in Block Data",{"$f":"COUNTA(L70:L81)","v":12}]
[null,null,null,null,null,null,null,null,null,null,null,null,null,null,null,"Total Sequences in Summary",{"$f":"SUM(O7:O22)","v":75},null,null,null,null,"Total Sequences in Block Summary",{"$f":"SUM(U7:U22)","v":13},null,null,null,"Total Sequences in Block Summary",{"$f":"SUM(Z7:Z22)","v":12},null,null,null,"Total Sequences in Block Summary",{"$f":"SUM(AE7:AE22)","v":13},null,null,null,"Total Sequences in Block Summary",{"$f":"SUM(AJ7:AJ22)","v":12},null,null,null,"Total Sequences in Block Summary",{"$f":"SUM(AO7:AO22)","v":13},null,null,null,"Total Sequences in Block Summary",{"$f":"SUM(AT7:AT22)","v":12}]
[null,null,null,null,null,null,null,null,null,null,null,null,null,null,null,null,null,null,null,"Block 1",null,null,null,null,"Block 2",null,null,null,null,"Block 3",null,null,null,null,"Block 4",null,null,null,null,"Block 5",null,null,null,null,"Block 6"]
["Sequence\nComponent\n1","Time\n1","Sequence\nComponent\n2","Time\n2","Sequence\nComponent\n3","Time\n3","Sequence\nComponent\n4","Time\n4","Sequence\nComponent\n5","Time\n5","Correct?\n0=No 1=Yes","Sequence",null,"Frequency",null,"Relative Frequency","Variability",null,null,"Frequency",null,"Relative Frequency","Variability",null,"Frequency",null,"Relative Frequency","Variability",null,"Frequency",null,"Relative Frequency","Variability",null,"Frequency",null,"Relative Frequency","Variability",null,"Frequency",null,"Relative Frequency","Variability",null,"Frequency",null,"Relative Frequency","Variability"]
[21,24,12,35,13,59,14,82,null,null,0,2111,null,1111,{"$f":"COUNTIF($L$7:$L$500,N7)","v":26},{"$f":"O7/$Q$4","v":0.34666666666666668},{"$f":"IF(P7=0,0,(P7*((LOG(P7))/LOG(2))))","v":-0.52983804374966015},null,null,{"$f":"N7","v":1111},{"$f":"COUNTIF(L7:L19,T7)","v":5},{"$f":"U7/(W4-U20)","v":0.38461538461538464},{"$f":"IF(V7=0,0,(V7*((LOG(V7))/LOG(2))))","v":-0.53019677817451139},null,{"$f":"N7","v":1111},{"$f":"COUNTIF(L20:L31,Y7)","v":4},{"$f":"Z7/(AB4-Z20)","v":0.33333333333333331},{"$f":"IF(AA7=0,0,(AA7*((LOG(AA7))/LOG(2))))","v":-0.52832083357371862},null,{"$f":"N7","v":1111},{"$f":"COUNTIF(L32:L44,AD7)","v":1},{"$f":"AE7/(AG4-AE20)","v":7.6923076923076927E-2},{"$f":"IF(AF7=0,0,(AF7*((LOG(AF7))/LOG(2))))","v":-0.28464920908777636},null,{"$f":"N7","v":1111},{"$f":"COUNTIF(L45:L56,AI7)","v":4},{"$f":"AJ7/(AL4-AJ20)","v":0.33333333333333331},{"$f":"IF(AK7=0,0,(AK7*((LOG(AK7))/LOG(2))))","v":-0.52832083357371862},null,{"$f":"N7","v":1111},{"$f":"COUNTIF(L57:L69,AN7)","v":6},{"$f":"AO7/(AQ4-AO20)","v":0.46153846153846156},{"$f":"IF(AP7=0,0,(AP7*((LOG(AP7))/LOG(2))))","v":-0.51483563880920125},null,{"$f":"N7","v":1111},{"$f":"COUNTIF(L70:L81,AS7)","v":6},{"$f":"AT7/(AV4-AT20)","v":0.5},{"$f":"IF(AU7=0,0,(AU7*((LOG(AU7))/LOG(2))))","v":-0.5}]
[12,188,14,194,13,202,14,213,null,null,0,1111,null,1112,{"$f":"COUNTIF($L$7:$L$500,N8)","v":10},{"$f":"O8/$Q$4","v":0.13333333333333333},{"$f":"IF(P8=0,0,(P8*((LOG(P8))/LOG(2))))","v":-0.3875854127478025},null,null,{"$f":"N8","v":1112},{"$f":"COUNTIF(L7:L19,T8)","v":1},{"$f":"U8/(W4-U20)","v":7.6923076923076927E-2},{"$f":"IF(V8=0,0,(V8*((LOG(V8))/LOG(2))))","v":-0.28464920908777636},null,{"$f":"N8","v":1112},{"$f":"COUNTIF(L20:L31,Y8)","v":3},{"$f":"Z8/(AB4-Z20)","v":0.25},{"$f":"IF(AA8=0,0,(AA8*((LOG(AA8))/LOG(2))))","v":-0.5},null,{"$f":"N8","v":1112},{"$f":"COUNTIF(L32:L44,AD8)","v":2},{"$f":"AE8/(AG4-AE20)","v":0.15384615384615385},{"$f":"IF(AF8=0,0,(AF8*((LOG(AF8))/LOG(2))))","v":-0.4154522643293988},null,{"$f":"N8","v":1112},{"$f":"COUNTIF(L45:L56,AI8)","v":0},{"$f":"AJ8/(AL4-AJ20)","v":0},{"$f":"IF(AK8=0,0,(AK8*((LOG(AK8))/LOG(2))))","v":0},null,{"$f":"N8","v":1112},{"$f":"COUNTIF(L57:L69,AN8)","v":1},{"$f":"AO8/(AQ4-AO20)","v":7.6923076923076927E-2},{"$f":"IF(AP8=0,0,(AP8*((LOG(AP8))/LOG(2))))","v":-0.28464920908777636},null,{"$f":"N8","v":1112},{"$f":"COUNTIF(L70:L81,AS8)","v":3},{"$f":"AT8/(AV4-AT20)","v":0.25},{"$f":"IF(AU8=0,0,(AU8*((LOG(AU8))/LOG(2))))","v":-0.5}]
[21,322,12,330,13,339,14,346,null,null,0,2111,null,1121,{"$f":"COUNTIF($L$7:$L$500,N9)","v":8},{"$f":"O9/$Q$4","v":0.10666666666666667},{"$f":"IF(P9=0,0,(P9*((LOG(P9))/LOG(2))))","v":-0.34440732698622734},null,null,{"$f":"N9","v":1121},{"$f":"COUNTIF(L7:L19,T9)","v":1},{"$f":"U9/(W4-U20)","v":7.6923076923076927E-2},{"$f":"IF(V9=0,0,(V9*((LOG(V9))/LOG(2))))","v":-0.28464920908777636},null,{"$f":"N9","v":1121},{"$f":"COUNTIF(L20:L31,Y9)","v":2},{"$f":"Z9/(AB4-Z20)","v":0.16666666666666666},{"$f":"IF(AA9=0,0,(AA9*((LOG(AA9))/LOG(2))))","v":-0.43082708345352599},null,{"$f":"N9","v":1121},{"$f":"COUNTIF(L32:L44,AD9)","v":1},{"$f":"AE9/(AG4-AE20)","v":7.6923076923076927E-2},{"$f":"IF(AF9=0,0,(AF9*((LOG(AF9))/LOG(2))))","v":-0.28464920908777636},null,{"$f":"N9","v":1121},{"$f":"COUNTIF(L45:L56,AI9)","v":1},{"$f":"AJ9/(AL4-AJ20)","v":8.3333333333333329E-2},{"$f":"IF(AK9=0,0,(AK9*((LOG(AK9))/LOG(2))))","v":-0.29874687506009634},null,{"$f":"N9","v":1121},{"$f":"COUNTIF(L57:L69,AN9)","v":2},{"$f":"AO9/(AQ4-AO20)","v":0.15384615384615385},{"$f":"IF(AP9=0,0,(AP9*((LOG(AP9))/LOG(2))))","v":-0.4154522643293988},null,{"$f":"N9","v":1121},{"$f":"COUNTIF(L70:L81,AS9)","v":1},{"$f":"AT9/(AV4-AT20)","v":8.3333333333333329E-2},{"$f":"IF(AU9=0,0,(AU9*((LOG(AU9))/LOG(2))))","v":-0.29874687506009634}]
[21,461,12,480,13,487,14,495,null,null,0,2111,null,1122,{"$f":"COUNTIF($L$7:$L$500,N10)","v":0},{"$f":"O10/$Q$4","v":0},{"$f":"IF(P10=0,0,(P10*((LOG(P10))/LOG(2))))","v":0},null,null,{"$f":"N10","v":1122},{"$f":"COUNTIF(L7:L19,T10)","v":0},{"$f":"U10/(W4-U20)","v":0},{"$f":"IF(V10=0,0,(V10*((LOG(V10))/LOG(2))))","v":0},null,{"$f":"N10","v":1122},{"$f":"COUNTIF(L20:L31,Y10)","v":0},{"$f":"Z10/(AB4-Z20)","v":0},{"$f":"IF(AA10=0,0,(AA10*((LOG(AA10))/LOG(2))))","v":0},null,{"$f":"N10","v":1122},{"$f":"COUNTIF(L32:L44,AD10)","v":0},{"$f":"AE10/(AG4-AE20)","v":0},{"$f":"IF(AF10=0,0,(AF10*((LOG(AF10))/LOG(2))))","v":0},null,{"$f":"N10","v":1122},{"$f":"COUNTIF(L45:L56,AI10)","v":0},{"$f":"AJ10/(AL4-AJ20)","v":0},{"$f":"IF(AK10=0,0,(AK10*((LOG(AK10))/LOG(2))))","v":0},null,{"$f":"N10","v":1122},{"$f":"COUNTIF(L57:L69,AN10)","v":0},{"$f":"AO10/(AQ4-AO20)","v":0},{"$f":"IF(AP10=0,0,(AP10*((LOG(AP10))/LOG(2))))","v":0},null,{"$f":"N10","v":1122},{"$f":"COUNTIF(L70:L81,AS10)","v":0},{"$f":"AT10/(AV4-AT20)","v":0},{"$f":"IF(AU10=0,0,(AU10*((LOG(AU10))/LOG(2))))","v":0}]
[12,630,14,637,13,645,14,672,null,null,0,1111,null,1211,{"$f":"COUNTIF($L$7:$L$500,N11)","v":7},{"$f":"O11/$Q$4","v":9.3333333333333338E-2},{"$f":"IF(P11=0,0,(P11*((LOG(P11))/LOG(2))))","v":-0.31933661838757249},null,null,{"$f":"N11","v":1211},{"$f":"COUNTIF(L7:L19,T11)","v":0},{"$f":"U11/(W4-U20)","v":0},{"$f":"IF(V11=0,0,(V11*((LOG(V11))/LOG(2))))","v":0},null,{"$f":"N11","v":1211},{"$f":"COUNTIF(L20:L31,Y11)","v":1},{"$f":"Z11/(AB4-Z20)","v":8.3333333333333329E-2},{"$f":"IF(AA11=0,0,(AA11*((LOG(AA11))/LOG(2))))","v":-0.29874687506009634},null,{"$f":"N11","v":1211},{"$f":"COUNTIF(L32:L44,AD11)","v":1},{"$f":"AE11/(AG4-AE20)","v":7.6923076923076927E-2},{"$f":"IF(AF11=0,0,(AF11*((LOG(AF11))/LOG(2))))","v":-0.28464920908777636},null,{"$f":"N11","v":1211},{"$f":"COUNTIF(L45:L56,AI11)","v":3},{"$f":"AJ11/(AL4-AJ20)","v":0.25},{"$f":"IF(AK11=0,0,(AK11*((LOG(AK11))/LOG(2))))","v":-0.5},null,{"$f":"N11","v":1211},{"$f":"COUNTIF(L57:L69,AN11)","v":1},{"$f":"AO11/(AQ4-AO20)","v":7.6923076923076927E-2},{"$f":"IF(AP11=0,0,(AP11*((LOG(AP11))/LOG(2))))","v":-0.28464920908777636},null,{"$f":"N11","v":1211},{"$f":"COUNTIF(L70:L81,AS11)","v":1},{"$f":"AT11/(AV4-AT20)","v":8.3333333333333329E-2},{"$f":"IF(AU11=0,0,(AU11*((LOG(AU11))/LOG(2))))","v":-0.29874687506009634}]
[12,833,14,840,13,847,14,854,null,null,0,1111,null,1212,{"$f":"COUNTIF($L$7:$L$500,N12)","v":2},{"$f":"O12/$Q$4","v":2.6666666666666668E-2},{"$f":"IF(P12=0,0,(P12*((LOG(P12))/LOG(2))))","v":-0.13943516507989015},null,null,{"$f":"N12","v":1212},{"$f":"COUNTIF(L7:L19,T12)","v":0},{"$f":"U12/(W4-U20)","v":0},{"$f":"IF(V12=0,0,(V12*((LOG(V12))/LOG(2))))","v":0},null,{"$f":"N12","v":1212},{"$f":"COUNTIF(L20:L31,Y12)","v":0},{"$f":"Z12/(AB4-Z20)","v":0},{"$f":"IF(AA12=0,0,(AA12*((LOG(AA12))/LOG(2))))","v":0},null,{"$f":"N12","v":1212},{"$f":"COUNTIF(L32:L44,AD12)","v":1},{"$f":"AE12/(AG4-AE20)","v":7.6923076923076927E-2},{"$f":"IF(AF12=0,0,(AF12*((LOG(AF12))/LOG(2))))","v":-0.28464920908777636},null,{"$f":"N12","v":1212},{"$f":"COUNTIF(L45:L56,AI12)","v":0},{"$f":"AJ12/(AL4-AJ20)","v":0},{"$f":"IF(AK12=0,0,(AK12*((LOG(AK12))/LOG(2))))","v":0},null,{"$f":"N12","v":1212},{"$f":"COUNTIF(L57:L69,AN12)","v":0},{"$f":"AO12/(AQ4-AO20)","v":0},{"$f":"IF(AP12=0,0,(AP12*((LOG(AP12))/LOG(2))))","v":0},null,{"$f":"N12","v":1212},{"$f":"COUNTIF(L70:L81,AS12)","v":1},{"$f":"AT12/(AV4-AT20)","v":8.3333333333333329E-2},{"$f":"IF(AU12=0,0,(AU12*((LOG(AU12))/LOG(2))))","v":-0.29874687506009634}]
[21,974,12,984,13,991,14,998,null,null,0,2111,null,1221,{"$f":"COUNTIF($L$7:$L$500,N13)","v":0},{"$f":"O13/$Q$4","v":0},{"$f":"IF(P13=0,0,(P13*((LOG(P13))/LOG(2))))","v":0},null,null,{"$f":"N13","v":1221},{"$f":"COUNTIF(L7:L19,T13)","v":0},{"$f":"U13/(W4-U20)","v":0},{"$f":"IF(V13=0,0,(V13*((LOG(V13))/LOG(2))))","v":0},null,{"$f":"N13","v":1221},{"$f":"COUNTIF(L20:L31,Y13)","v":0},{"$f":"Z13/(AB4-Z20)","v":0},{"$f":"IF(AA13=0,0,(AA13*((LOG(AA13))/LOG(2))))","v":0},null,{"$f":"N13","v":1221},{"$f":"COUNTIF(L32:L44,AD13)","v":0},{"$f":"AE13/(AG4-AE20)","v":0},{"$f":"IF(AF13=0,0,(AF13*((LOG(AF13))/LOG(2))))","v":0},null,{"$f":"N13","v":1221},{"$f":"COUNTIF(L45:L56,AI13)","v":0},{"$f":"AJ13/(AL4-AJ20)","v":0},{"$f":"IF(AK13=0,0,(AK13*((LOG(AK13))/LOG(2))))","v":0},null,{"$f":"N13","v":1221},{"$f":"COUNTIF(L57:L69,AN13)","v":0},{"$f":"AO13/(AQ4-AO20)","v":0},{"$f":"IF(AP13=0,0,(AP13*((LOG(AP13))/LOG(2))))","v":0},null,{"$f":"N13","v":1221},{"$f":"COUNTIF(L70:L81,AS13)","v":0},{"$f":"AT13/(AV4-AT20)","v":0},{"$f":"IF(AU13=0,0,(AU13*((LOG(AU13))/LOG(2))))","v":0}]
[21,1113,12,1124,13,1131,14,1138,null,null,0,2111,null,1222,{"$f":"COUNTIF($L$7:$L$500,N14)","v":0},{"$f":"O14/$Q$4","v":0},{"$f":"IF(P14=0,0,(P14*((LOG(P14))/LOG(2))))","v":0},null,null,{"$f":"N14","v":1222},{"$f":"COUNTIF(L7:L19,T14)","v":0},{"$f":"U14/(W4-U20)","v":0},{"$f":"IF(V14=0,0,(V14*((LOG(V14))/LOG(2))))","v":0},null,{"$f":"N14","v":1222},{"$f":"COUNTIF(L20:L31,Y14)","v":0},{"$f":"Z14/(AB4-Z20)","v":0},{"$f":"IF(AA14=0,0,(AA14*((LOG(AA14))/LOG(2))))","v":0},null,{"$f":"N14","v":1222},{"$f":"COUNTIF(L32:L44,AD14)","v":0},{"$f":"AE14/(AG4-AE20)","v":0},{"$f":"IF(AF14=0,0,(AF14*((LOG(AF14))/LOG(2))))","v":0},null,{"$f":"N14","v":1222},{"$f":"COUNTIF(L45:L56,AI14)","v":0},{"$f":"AJ14/(AL4-AJ20)","v":0},{"$f":"IF(AK14=0,0,(AK14*((LOG(AK14))/LOG(2))))","v":0},null,{"$f":"N14","v":1222},{"$f":"COUNTIF(L57:L69,AN14)","v":0},{"$f":"AO14/(AQ4-AO20)","v":0},{"$f":"IF(AP14=0,0,(AP14*((LOG(AP14))/LOG(2))))","v":0},null,{"$f":"N14","v":1222},{"$f":"COUNTIF(L70:L81,AS14)","v":0},{"$f":"AT14/(AV4-AT20)","v":0},{"$f":"IF(AU14=0,0,(AU14*((LOG(AU14))/LOG(2))))","v":0}]
[12,1289,14,1297,13,1324,23,1336,null,null,0,1112,null,2111,{"$f":"COUNTIF($L$7:$L$500,N15)","v":11},{"$f":"O15/$Q$4","v":0.14666666666666667},{"$f":"IF(P15=0,0,(P15*((LOG(P15))/LOG(2))))","v":-0.40617677053925894},null,null,{"$f":"N15","v":2111},{"$f":"COUNTIF(L7:L19,T15)","v":5},{"$f":"U15/(W4-U20)","v":0.38461538461538464},{"$f":"IF(V15=0,0,(V15*((LOG(V15))/LOG(2))))","v":-0.53019677817451139},null,{"$f":"N15","v":2111},{"$f":"COUNTIF(L20:L31,Y15)","v":1},{"$f":"Z15/(AB4-Z20)","v":8.3333333333333329E-2},{"$f":"IF(AA15=0,0,(AA15*((LOG(AA15))/LOG(2))))","v":-0.29874687506009634},null,{"$f":"N15","v":2111},{"$f":"COUNTIF(L32:L44,AD15)","v":4},{"$f":"AE15/(AG4-AE20)","v":0.30769230769230771},{"$f":"IF(AF15=0,0,(AF15*((LOG(AF15))/LOG(2))))","v":-0.52321222096648989},null,{"$f":"N15","v":2111},{"$f":"COUNTIF(L45:L56,AI15)","v":0},{"$f":"AJ15/(AL4-AJ20)","v":0},{"$f":"IF(AK15=0,0,(AK15*((LOG(AK15))/LOG(2))))","v":0},null,{"$f":"N15","v":2111},{"$f":"COUNTIF(L57:L69,AN15)","v":1},{"$f":"AO15/(AQ4-AO20)","v":7.6923076923076927E-2},{"$f":"IF(AP15=0,0,(AP15*((LOG(AP15))/LOG(2))))","v":-0.28464920908777636},null,{"$f":"N15","v":2111},{"$f":"COUNTIF(L70:L81,AS15)","v":0},{"$f":"AT15/(AV4-AT20)","v":0},{"$f":"IF(AU15=0,0,(AU15*((LOG(AU15))/LOG(2))))","v":0}]
[12,1461,14,1466,13,1486,14,1491,null,null,0,1111,null,2112,{"$f":"COUNTIF($L$7:$L$500,N16)","v":5},{"$f":"O16/$Q$4","v":6.6666666666666666E-2},{"$f":"IF(P16=0,0,(P16*((LOG(P16))/LOG(2))))","v":-0.26045937304056793},null,null,{"$f":"N16","v":2112},{"$f":"COUNTIF(L7:L19,T16)","v":0},{"$f":"U16/(W4-U20)","v":0},{"$f":"IF(V16=0,0,(V16*((LOG(V16))/LOG(2))))","v":0},null,{"$f":"N16","v":2112},{"$f":"COUNTIF(L20:L31,Y16)","v":0},{"$f":"Z16/(AB4-Z20)","v":0},{"$f":"IF(AA16=0,0,(AA16*((LOG(AA16))/LOG(2))))","v":0},null,{"$f":"N16","v":2112},{"$f":"COUNTIF(L32:L44,AD16)","v":1},{"$f":"AE16/(AG4-AE20)","v":7.6923076923076927E-2},{"$f":"IF(AF16=0,0,(AF16*((LOG(AF16))/LOG(2))))","v":-0.28464920908777636},null,{"$f":"N16","v":2112},{"$f":"COUNTIF(L45:L56,AI16)","v":2},{"$f":"AJ16/(AL4-AJ20)","v":0.16666666666666666},{"$f":"IF(AK16=0,0,(AK16*((LOG(AK16))/LOG(2))))","v":-0.43082708345352599},null,{"$f":"N16","v":2112},{"$f":"COUNTIF(L57:L69,AN16)","v":2},{"$f":"AO16/(AQ4-AO20)","v":0.15384615384615385},{"$f":"IF(AP16=0,0,(AP16*((LOG(AP16))/LOG(2))))","v":-0.4154522643293988},null,{"$f":"N16","v":2112},{"$f":"COUNTIF(L70:L81,AS16)","v":0},{"$f":"AT16/(AV4-AT20)","v":0},{"$f":"IF(AU16=0,0,(AU16*((LOG(AU16))/LOG(2))))","v":0}]
[21,1623,21,1640,11,1649,12,1655,null,null,0,2211,null,2121,{"$f":"COUNTIF($L$7:$L$500,N17)","v":3},{"$f":"O17/$Q$4","v":0.04},{"$f":"IF(P17=0,0,(P17*((LOG(P17))/LOG(2))))","v":-0.18575424759098899},null,null,{"$f":"N17","v":2121},{"$f":"COUNTIF(L7:L19,T17)","v":0},{"$f":"U17/(W4-U20)","v":0},{"$f":"IF(V17=0,0,(V17*((LOG(V17))/LOG(2))))","v":0},null,{"$f":"N17","v":2121},{"$f":"COUNTIF(L20:L31,Y17)","v":0},{"$f":"Z17/(AB4-Z20)","v":0},{"$f":"IF(AA17=0,0,(AA17*((LOG(AA17))/LOG(2))))","v":0},null,{"$f":"N17","v":2121},{"$f":"COUNTIF(L32:L44,AD17)","v":1},{"$f":"AE17/(AG4-AE20)","v":7.6923076923076927E-2},{"$f":"IF(AF17=0,0,(AF17*((LOG(AF17))/LOG(2))))","v":-0.28464920908777636},null,{"$f":"N17","v":2121},{"$f":"COUNTIF(L45:L56,AI17)","v":2},{"$f":"AJ17/(AL4-AJ20)","v":0.16666666666666666},{"$f":"IF(AK17=0,0,(AK17*((LOG(AK17))/LOG(2))))","v":-0.43082708345352599},null,{"$f":"N17","v":2121},{"$f":"COUNTIF(L57:L69,AN17)","v":0},{"$f":"AO17/(AQ4-AO20)","v":0},{"$f":"IF(AP17=0,0,(AP17*((LOG(AP17))/LOG(2))))","v":0},null,{"$f":"N17","v":2121},{"$f":"COUNTIF(L70:L81,AS17)","v":0},{"$f":"AT17/(AV4-AT20)","v":0},{"$f":"IF(AU17=0,0,(AU17*((LOG(AU17))/LOG(2))))","v":0}]
[12,1894,14,1899,24,1912,14,1923,null,null,0,1121,null,2122,{"$f":"COUNTIF($L$7:$L$500,N18)","v":0},{"$f":"O18/$Q$4","v":0},{"$f":"IF(P18=0,0,(P18*((LOG(P18))/LOG(2))))","v":0},null,null,{"$f":"N18","v":2122},{"$f":"COUNTIF(L7:L19,T18)","v":0},{"$f":"U18/(W4-U20)","v":0},{"$f":"IF(V18=0,0,(V18*((LOG(V18))/LOG(2))))","v":0},null,{"$f":"N18","v":2122},{"$f":"COUNTIF(L20:L31,Y18)","v":0},{"$f":"Z18/(AB4-Z20)","v":0},{"$f":"IF(AA18=0,0,(AA18*((LOG(AA18))/LOG(2))))","v":0},null,{"$f":"N18","v":2122},{"$f":"COUNTIF(L32:L44,AD18)","v":0},{"$f":"AE18/(AG4-AE20)","v":0},{"$f":"IF(AF18=0,0,(AF18*((LOG(AF18))/LOG(2))))","v":0},null,{"$f":"N18","v":2122},{"$f":"COUNTIF(L45:L56,AI18)","v":0},{"$f":"AJ18/(AL4-AJ20)","v":0},{"$f":"IF(AK18=0,0,(AK18*((LOG(AK18))/LOG(2))))","v":0},null,{"$f":"N18","v":2122},{"$f":"COUNTIF(L57:L69,AN18)","v":0},{"$f":"AO18/(AQ4-AO20)","v":0},{"$f":"IF(AP18=0,0,(AP18*((LOG(AP18))/LOG(2))))","v":0},null,{"$f":"N18","v":2122},{"$f":"COUNTIF(L70:L81,AS18)","v":0},{"$f":"AT18/(AV4-AT20)","v":0},{"$f":"IF(AU18=0,0,(AU18*((LOG(AU18))/LOG(2))))","v":0}]
[12,2083,14,2087,13,2095,14,2107,null,null,0,1111,null,2211,{"$f":"COUNTIF($L$7:$L$500,N19)","v":2},{"$f":"O19/$Q$4","v":2.6666666666666668E-2},{"$f":"IF(P19=0,0,(P19*((LOG(P19))/LOG(2))))","v":-0.13943516507989015},null,null,{"$f":"N19","v":2211},{"$f":"COUNTIF(L7:L19,T19)","v":1},{"$f":"U19/(W4-U20)","v":7.6923076923076927E-2},{"$f":"IF(V19=0,0,(V19*((LOG(V19))/LOG(2))))","v":-0.28464920908777636},null,{"$f":"N19","v":2211},{"$f":"COUNTIF(L20:L31,Y19)","v":1},{"$f":"Z19/(AB4-Z20)","v":8.3333333333333329E-2},{"$f":"IF(AA19=0,0,(AA19*((LOG(AA19))/LOG(2))))","v":-0.29874687506009634},null,{"$f":"N19","v":2211},{"$f":"COUNTIF(L32:L44,AD19)","v":0},{"$f":"AE19/(AG4-AE20)","v":0},{"$f":"IF(AF19=0,0,(AF19*((LOG(AF19))/LOG(2))))","v":0},null,{"$f":"N19","v":2211},{"$f":"COUNTIF(L45:L56,AI19)","v":0},{"$f":"AJ19/(AL4-AJ20)","v":0},{"$f":"IF(AK19=0,0,(AK19*((LOG(AK19))/LOG(2))))","v":0},null,{"$f":"N19","v":2211},{"$f":"COUNTIF(L57:L69,AN19)","v":0},{"$f":"AO19/(AQ4-AO20)","v":0},{"$f":"IF(AP19=0,0,(AP19*((LOG(AP19))/LOG(2))))","v":0},null,{"$f":"N19","v":2211},{"$f":"COUNTIF(L70:L81,AS19)","v":0},{"$f":"AT19/(AV4-AT20)","v":0},{"$f":"IF(AU19=0,0,(AU19*((LOG(AU19))/LOG(2))))","v":0}]
[12,2257,14,2262,13,2269,23,2283,null,null,0,1112,null,2212,{"$f":"COUNTIF($L$7:$L$500,N20)","v":0},{"$f":"O20/$Q$4","v":0},{"$f":"IF(P20=0,0,(P20*((LOG(P20))/LOG(2))))","v":0},null,null,{"$f":"N20","v":2212},{"$f":"COUNTIF(L7:L19,T20)","v":0},null,null,null,{"$f":"N20","v":2212},{"$f":"COUNTIF(L20:L31,Y20)","v":0},null,null,null,{"$f":"N20","v":2212},{"$f":"COUNTIF(L32:L44,AD20)","v":0},null,null,null,{"$f":"N20","v":2212},{"$f":"COUNTIF(L45:L56,AI20)","v":0},null,null,null,{"$f":"N20","v":2212},{"$f":"COUNTIF(L57:L69,AN20)","v":0},null,null,null,{"$f":"N20","v":2212},{"$f":"COUNTIF(L70:L81,AS20)","v":0}]
[12,2446,23,2461,13,2473,14,2486,null,null,0,1211,null,2221,{"$f":"COUNTIF($L$7:$L$500,N21)","v":1},{"$f":"O21/$Q$4","v":1.3333333333333334E-2},{"$f":"IF(P21=0,0,(P21*((LOG(P21))/LOG(2))))","v":-8.3050915873278425E-2},null,null,{"$f":"N21","v":2221},{"$f":"COUNTIF(L7:L19,T21)","v":0},{"$f":"U21/(W4-U20)","v":0},{"$f":"IF(V21=0,0,(V21*((LOG(V21))/LOG(2))))","v":0},null,{"$f":"N21","v":2221},{"$f":"COUNTIF(L20:L31,Y21)","v":0},{"$f":"Z21/(AB4-Z20)","v":0},{"$f":"IF(AA21=0,0,(AA21*((LOG(AA21))/LOG(2))))","v":0},null,{"$f":"N21","v":2221},{"$f":"COUNTIF(L32:L44,AD21)","v":1},{"$f":"AE21/(AG4-AE20)","v":7.6923076923076927E-2},{"$f":"IF(AF21=0,0,(AF21*((LOG(AF21))/LOG(2))))","v":-0.28464920908777636},null,{"$f":"N21","v":2221},{"$f":"COUNTIF(L45:L56,AI21)","v":0},{"$f":"AJ21/(AL4-AJ20)","v":0},{"$f":"IF(AK21=0,0,(AK21*((LOG(AK21))/LOG(2))))","v":0},null,{"$f":"N21","v":2221},{"$f":"COUNTIF(L57:L69,AN21)","v":0},{"$f":"AO21/(AQ4-AO20)","v":0},{"$f":"IF(AP21=0,0,(AP21*((LOG(AP21))/LOG(2))))","v":0},null,{"$f":"N21","v":2221},{"$f":"COUNTIF(L70:L81,AS21)","v":0},{"$f":"AT21/(AV4-AT20)","v":0},{"$f":"IF(AU21=0,0,(AU21*((LOG(AU21))/LOG(2))))","v":0}]
[12,2660,14,2667,13,2690,23,2702,null,null,0,1112,null,2222,{"$f":"COUNTIF($L$7:$L$500,N22)","v":0},{"$f":"O22/$Q$4","v":0},{"$f":"IF(P22=0,0,(P22*((LOG(P22))/LOG(2))))","v":0},null,null,{"$f":"N22","v":2222},{"$f":"COUNTIF(L7:L19,T22)","v":0},{"$f":"U22/(W4-U20)","v":0},{"$f":"IF(V22=0,0,(V22*((LOG(V22))/LOG(2))))","v":0},null,{"$f":"N22","v":2222},{"$f":"COUNTIF(L20:L31,Y22)","v":0},{"$f":"Z22/(AB4-Z20)","v":0},{"$f":"IF(AA22=0,0,(AA22*((LOG(AA22))/LOG(2))))","v":0},null,{"$f":"N22","v":2222},{"$f":"COUNTIF(L32:L44,AD22)","v":0},{"$f":"AE22/(AG4-AE20)","v":0},{"$f":"IF(AF22=0,0,(AF22*((LOG(AF22))/LOG(2))))","v":0},null,{"$f":"N22","v":2222},{"$f":"COUNTIF(L45:L56,AI22)","v":0},{"$f":"AJ22/(AL4-AJ20)","v":0},{"$f":"IF(AK22=0,0,(AK22*((LOG(AK22))/LOG(2))))","v":0},null,{"$f":"N22","v":2222},{"$f":"COUNTIF(L57:L69,AN22)","v":0},{"$f":"AO22/(AQ4-AO20)","v":0},{"$f":"IF(AP22=0,0,(AP22*((LOG(AP22))/LOG(2))))","v":0},null,{"$f":"N22","v":2222},{"$f":"COUNTIF(L70:L81,AS22)","v":0},{"$f":"AT22/(AV4-AT20)","v":0},{"$f":"IF(AU22=0,0,(AU22*((LOG(AU22))/LOG(2))))","v":0}]
[12,2856,14,2863,13,2884,14,2909,null,null,0,1111,null,null,null,{"$f":"SUM(P7:P22)","v":0.99999999999999989},{"$f":"-SUM(Q7:Q22)","v":2.7954790390751367},null,null,null,null,{"$f":"SUM(V7:V22)","v":1},{"$f":"-SUM(W7:W22)","v":1.9143411836123518},null,null,null,{"$f":"SUM(AA7:AA22)","v":1},{"$f":"-SUM(AB7:AB22)","v":2.3553885422075336},null,null,null,{"$f":"SUM(AF7:AF22)","v":1},{"$f":"-SUM(AG7:AG22)","v":2.931208948910323},null,null,null,{"$f":"SUM(AK7:AK22)","v":0.99999999999999989},{"$f":"-SUM(AL7:AL22)","v":2.1887218755408671},null,null,null,{"$f":"SUM(AP7:AP22)","v":1},{"$f":"-SUM(AQ7:AQ22)","v":2.1996877947313278},null,null,null,{"$f":"SUM(AU7:AU22)","v":1},{"$f":"-SUM(AV7:AV22)","v":1.896240625180289}]
[12,3063,14,3071,13,3097,23,3106,null,null,0,1112,null,null,null,"U=",{"$f":"Q23/(LOG(Q4)/LOG(2))","v":0.44879762567829479},null,null,null,null,"U1=",{"$f":"W23/(LOG(W4)/LOG(2))","v":0.51732802840361281},null,null,null,"U2=",{"$f":"AB23/(LOG(AB4)/LOG(2))","v":0.65701901811628993},null,null,null,"U3=",{"$f":"AG23/(LOG(AG4)/LOG(2))","v":0.79212449659436945},null,null,null,"U4=",{"$f":"AL23/(LOG(AL4)/LOG(2))","v":0.61052852717443495},null,null,null,"U5=",{"$f":"AQ23/(LOG(AQ4)/LOG(2))","v":0.59443956996449498},null,null,null,"U6=",{"$f":"AV23/(LOG(AV4)/LOG(2))","v":0.52894294565112976}]
[12,3237,14,3244,24,3258,14,3267,null,null,0,1121]
[12,3401,14,3407,24,3421,14,3432,null,null,0,1121]
[12,3685,14,3696,13,3707,14,3733,null,null,0,1111,null,"Total Target Seq"]
[21,3842,21,3855,11,3868,12,3874,null,null,0,2211,null,{"$f":"COUNTIF(L7:L81,G3)","v":0},null,13,12,13,12,13,12]
[12,4039,14,4043,13,4051,14,4073,null,null,0,1111,null,null,null,"% of reinforcement given in 6 equal intervals based on number of trials "]
[21,4205,12,4215,13,4219,14,4244,null,null,0,2111,null,null,null,"%_1","%_2","%_3","%_4","%_5","%_6"]
[12,4422,14,4429,13,4449,14,4469,null,null,0,1111,null,null,"target sequence",{"$f":"$G$3","v":2212},{"$f":"$G$3","v":2212},{"$f":"$G$3","v":2212},{"$f":"$G$3","v":2212},{"$f":"$G$3","v":2212},{"$f":"$G$3","v":2212}]
[12,4648,14,4654,13,4658,23,4669,null,null,0,1112,null,null,"total reinforcement",{"$f":"U20","v":0},{"$f":"Z20","v":0},{"$f":"AE20","v":0},{"$f":"AJ20","v":0},{"$f":"AO20","v":0},{"$f":"AT20","v":0}]
[21,4796,12,4808,13,4813,14,4820,null,null,0,2111,null,null,"% target"]
[12,4971,23,4980,13,4992,23,5003,null,null,0,1212,null,null,"CCRF"]
[12,5268,23,5281,13,5294,14,5319,null,null,0,1211,null,null,"% CCRf"]
[12,5474,14,5479,24,5492,14,5503,null,null,0,1121,null,null,"average response rate",{"$f":"H19/P28","v":162.07692307692307},{"$f":"(H31-H19)/Q28","v":196.83333333333334},{"$f":"(H44-H31)/R28","v":201.61538461538461},{"$f":"(H56-H44)/S28","v":264.5},{"$f":"(H69-H56)/T28","v":251.15384615384616},{"$f":"(H81-H69)/U28","v":678.16666666666663}]
[21,5623,21,5631,22,5644,14,5654,null,null,0,2221]
[21,5782,12,5791,13,5799,14,5821,null,null,0,2111]
[21,5964,12,5973,24,5982,14,5994,null,null,0,2121]
[21,6141,12,6155,13,6178,14,6190,null,null,0,2111]
[21,6438,12,6449,13,6471,23,6488,null,null,0,2112]
[21,6632,12,6645,13,6665,14,6687,null,null,0,2111]
[12,6856,14,6863,13,6871,23,6886,null,null,0,1112]
[12,7035,14,7042,13,7063,14,7090,null,null,0,1111]
[21,7214,12,7244,24,7256,14,7268,null,null,0,2121]
[21,7393,12,7436,13,7444,23,7456,null,null,0,2112]
[12,7620,14,7627,13,7648,14,7673,null,null,0,1111]
[12,7834,23,7843,13,7876,14,7910,null,null,0,1211]
[21,8379,12,8389,24,8398,14,8410,null,null,0,2121]
[12,8550,23,8564,13,8577,14,8601,null,null,0,1211]
[21,8979,12,8992,13,9019,23,9033,null,null,0,2112]
[12,9274,14,9284,13,9321,14,9351,null,null,0,1111]
[12,9550,14,9588,13,9614,14,9626,null,null,0,1111]
[12,9857,23,9870,13,9882,14,9892,null,null,0,1211]
[12,10051,14,10056,13,10063,14,10086,null,null,0,1111]
[12,10227,14,10234,24,10252,14,10264,null,null,0,1121]
[12,10375,14,10381,24,10391,14,10408,null,null,0,1121]
[12,10552,14,10559,24,10568,14,10594,null,null,0,1121]
[21,10719,12,10742,13,10752,23,10766,null,null,0,2112]
[12,10929,14,10935,13,10962,14,10995,null,null,0,1111]
[12,11182,14,11202,13,11222,14,11247,null,null,0,1111]
[21,11411,12,11439,13,11445,23,11468,null,null,0,2112]
[12,11759,14,11767,13,11791,14,11803,null,null,0,1111]
[12,11962,23,11971,13,11984,14,12004,null,null,0,1211]
[21,12342,12,12351,13,12372,14,12400,null,null,0,2111]
[12,12693,14,12759,13,12764,14,12769,null,null,0,1111]
[12,12951,14,12957,13,12976,14,12996,null,null,0,1111]
[12,13253,14,13262,13,13285,23,13294,null,null,0,1112]
[12,13488,14,13493,13,13502,14,13529,null,null,0,1111]
[12,13739,23,13748,13,13760,23,13770,null,null,0,1212]
[12,14169,14,14179,13,14205,23,14239,null,null,0,1112]
[12,16457,14,16466,24,16484,14,16499,null,null,0,1121]
[12,16789,14,16811,13,16845,14,16852,null,null,0,1111]
[12,16996,14,17003,13,17012,14,17021,null,null,0,1111]
[12,17393,14,17400,13,17409,14,17431,null,null,0,1111]
[12,17565,14,17599,13,17608,14,17646,null,null,0,1111]
[12,18521,14,18550,13,18594,14,18603,null,null,0,1111]
[12,18762,14,18769,13,18777,23,18797,null,null,0,1112]
[12,20480,23,20494,13,20508,14,20536,null,null,0,1211]
[12,20731,14,20739,13,20775,23,20787,null,null,0,1112]
[12,21591,14,21597,13,21605,14,21667,null,null,0,1111]

{"sheet":"!N104C40.095","index":6,"n_rows":150,"n_cols":48,"rows_kept":150,"cut":false,"hidden":false,"merged":[[4,39,4,42],[5,39,5,40],[4,44,4,47],[5,44,5,45],[4,24,4,27],[5,24,5,25],[4,29,4,32],[5,29,5,30],[4,34,4,37],[5,34,5,35],[1,1,1,2],[5,13,5,14],[26,13,26,14],[27,13,27,14],[4,19,4,22],[5,19,5,20]]}
["Report for:!N104C40.095"]
["Date:","<date>"]
["Hen:","<hen>",null,null,null,"Correct Sequence",{"$f":"Start!J2","v":2212},null,null,null,null,null,null,null,null,"Total Sequences in Data",{"$f":"4994-COUNTBLANK(L7:L5000)","v":144},null,null,null,null,"Total Sequences in Block Data",{"$f":"COUNTA(L7:L30)","v":24},null,null,null,"Total Sequences in Block Data",{"$f":"COUNTA(L31:L54)","v":24},null,null,null,"Total Sequences in Block Data",{"$f":"COUNTA(L55:L78)","v":24},null,null,null,"Total Sequences in Block Data",{"$f":"COUNTA(L79:L102)","v":24},null,null,null,"Total Sequences in Block Data",{"$f":"COUNTA(L103:L126)","v":24},null,null,null,"Total Sequences in Block Data",{"$f":"COUNTA(L127:L150)","v":24}]
[null,null,null,null,null,null,null,null,null,null,null,null,null,null,null,"Total Sequences in Summary",{"$f":"SUM(O7:O22)","v":144},null,null,null,null,"Total Sequences in Block Summary",{"$f":"SUM(U7:U22)","v":24},null,null,null,"Total Sequences in Block Summary",{"$f":"SUM(Z7:Z22)","v":24},null,null,null,"Total Sequences in Block Summary",{"$f":"SUM(AE7:AE22)","v":24},null,null,null,"Total Sequences in Block Summary",{"$f":"SUM(AJ7:AJ22)","v":24},null,null,null,"Total Sequences in Block Summary",{"$f":"SUM(AO7:AO22)","v":24},null,null,null,"Total Sequences in Block Summary",{"$f":"SUM(AT7:AT22)","v":24}]
[null,null,null,null,null,null,null,null,null,null,null,null,null,null,null,null,null,null,null,"Block 1",null,null,null,null,"Block 2",null,null,null,null,"Block 3",null,null,null,null,"Block 4",null,null,null,null,"Block 5",null,null,null,null,"Block 6"]
["Sequence\nComponent\n1","Time\n1","Sequence\nComponent\n2","Time\n2","Sequence\nComponent\n3","Time\n3","Sequence\nComponent\n4","Time\n4","Sequence\nComponent\n5","Time\n5","Correct?\n0=No 1=Yes","Sequence",null,"Frequency",null,"Relative Frequency","Variability",null,null,"Frequency",null,"Relative Frequency","Variability",null,"Frequency",null,"Relative Frequency","Variability",null,"Frequency",null,"Relative Frequency","Variability",null,"Frequency",null,"Relative Frequency","Variability",null,"Frequency",null,"Relative Frequency","Variability",null,"Frequency",null,"Relative Frequency","Variability"]
[12,20,23,54,13,66,23,75,null,null,0,1212,null,1111,{"$f":"COUNTIF($L$7:$L$500,N7)","v":72},{"$f":"O7/$Q$4","v":0.5},{"$f":"IF(P7=0,0,(P7*((LOG(P7))/LOG(2))))","v":-0.5},null,null,{"$f":"N7","v":1111},{"$f":"COUNTIF(L7:L30,T7)","v":11},{"$f":"U7/(W4-U20)","v":0.45833333333333331},{"$f":"IF(V7=0,0,(V7*((LOG(V7))/LOG(2))))","v":-0.51586832095510204},null,{"$f":"N7","v":1111},{"$f":"COUNTIF(L31:L54,Y7)","v":13},{"$f":"Z7/(AB4-Z20)","v":0.54166666666666663},{"$f":"IF(AA7=0,0,(AA7*((LOG(AA7))/LOG(2))))","v":-0.47911650723086807},null,{"$f":"N7","v":1111},{"$f":"COUNTIF(L55:L78,AD7)","v":19},{"$f":"AE7/(AG4-AE20)","v":0.82608695652173914},{"$f":"IF(AF7=0,0,(AF7*((LOG(AF7))/LOG(2))))","v":-0.22769801781109217},null,{"$f":"N7","v":1111},{"$f":"COUNTIF(L79:L102,AI7)","v":12},{"$f":"AJ7/(AL4-AJ20)","v":0.52173913043478259},{"$f":"IF(AK7=0,0,(AK7*((LOG(AK7))/LOG(2))))","v":-0.48970406365349045},null,{"$f":"N7","v":1111},{"$f":"COUNTIF(L103:L126,AN7)","v":11},{"$f":"AO7/(AQ4-AO20)","v":0.47826086956521741},{"$f":"IF(AP7=0,0,(AP7*((LOG(AP7))/LOG(2))))","v":-0.5089319005050813},null,{"$f":"N7","v":1111},{"$f":"COUNTIF(L127:L150,AS7)","v":6},{"$f":"AT7/(AV4-AT20)","v":0.2608695652173913},{"$f":"IF(AU7=0,0,(AU7*((LOG(AU7))/LOG(2))))","v":-0.50572159704413644}]
[21,237,12,267,13,273,23,282,null,null,0,2112,null,1112,{"$f":"COUNTIF($L$7:$L$500,N8)","v":9},{"$f":"O8/$Q$4","v":6.25E-2},{"$f":"IF(P8=0,0,(P8*((LOG(P8))/LOG(2))))","v":-0.25},null,null,{"$f":"N8","v":1112},{"$f":"COUNTIF(L7:L30,T8)","v":1},{"$f":"U8/(W4-U20)","v":4.1666666666666664E-2},{"$f":"IF(V8=0,0,(V8*((LOG(V8))/LOG(2))))","v":-0.19104010419671485},null,{"$f":"N8","v":1112},{"$f":"COUNTIF(L31:L54,Y8)","v":2},{"$f":"Z8/(AB4-Z20)","v":8.3333333333333329E-2},{"$f":"IF(AA8=0,0,(AA8*((LOG(AA8))/LOG(2))))","v":-0.29874687506009634},null,{"$f":"N8","v":1112},{"$f":"COUNTIF(L55:L78,AD8)","v":0},{"$f":"AE8/(AG4-AE20)","v":0},{"$f":"IF(AF8=0,0,(AF8*((LOG(AF8))/LOG(2))))","v":0},null,{"$f":"N8","v":1112},{"$f":"COUNTIF(L79:L102,AI8)","v":2},{"$f":"AJ8/(AL4-AJ20)","v":8.6956521739130432E-2},{"$f":"IF(AK8=0,0,(AK8*((LOG(AK8))/LOG(2))))","v":-0.30639669183104457},null,{"$f":"N8","v":1112},{"$f":"COUNTIF(L103:L126,AN8)","v":2},{"$f":"AO8/(AQ4-AO20)","v":8.6956521739130432E-2},{"$f":"IF(AP8=0,0,(AP8*((LOG(AP8))/LOG(2))))","v":-0.30639669183104457},null,{"$f":"N8","v":1112},{"$f":"COUNTIF(L127:L150,AS8)","v":2},{"$f":"AT8/(AV4-AT20)","v":8.6956521739130432E-2},{"$f":"IF(AU8=0,0,(AU8*((LOG(AU8))/LOG(2))))","v":-0.30639669183104457}]
[12,411,14,417,24,429,14,440,null,null,0,1121,null,1121,{"$f":"COUNTIF($L$7:$L$500,N9)","v":9},{"$f":"O9/$Q$4","v":6.25E-2},{"$f":"IF(P9=0,0,(P9*((LOG(P9))/LOG(2))))","v":-0.25},null,null,{"$f":"N9","v":1121},{"$f":"COUNTIF(L7:L30,T9)","v":3},{"$f":"U9/(W4-U20)","v":0.125},{"$f":"IF(V9=0,0,(V9*((LOG(V9))/LOG(2))))","v":-0.375},null,{"$f":"N9","v":1121},{"$f":"COUNTIF(L31:L54,Y9)","v":1},{"$f":"Z9/(AB4-Z20)","v":4.1666666666666664E-2},{"$f":"IF(AA9=0,0,(AA9*((LOG(AA9))/LOG(2))))","v":-0.19104010419671485},null,{"$f":"N9","v":1121},{"$f":"COUNTIF(L55:L78,AD9)","v":0},{"$f":"AE9/(AG4-AE20)","v":0},{"$f":"IF(AF9=0,0,(AF9*((LOG(AF9))/LOG(2))))","v":0},null,{"$f":"N9","v":1121},{"$f":"COUNTIF(L79:L102,AI9)","v":2},{"$f":"AJ9/(AL4-AJ20)","v":8.6956521739130432E-2},{"$f":"IF(AK9=0,0,(AK9*((LOG(AK9))/LOG(2))))","v":-0.30639669183104457},null,{"$f":"N9","v":1121},{"$f":"COUNTIF(L103:L126,AN9)","v":2},{"$f":"AO9/(AQ4-AO20)","v":8.6956521739130432E-2},{"$f":"IF(AP9=0,0,(AP9*((LOG(AP9))/LOG(2))))","v":-0.30639669183104457},null,{"$f":"N9","v":1121},{"$f":"COUNTIF(L127:L150,AS9)","v":1},{"$f":"AT9/(AV4-AT20)","v":4.3478260869565216E-2},{"$f":"IF(AU9=0,0,(AU9*((LOG(AU9))/LOG(2))))","v":-0.19667660678508753}]
[21,541,12,560,13,565,14,572,null,null,0,2111,null,1122,{"$f":"COUNTIF($L$7:$L$500,N10)","v":1},{"$f":"O10/$Q$4","v":6.9444444444444441E-3},{"$f":"IF(P10=0,0,(P10*((LOG(P10))/LOG(2))))","v":-4.9791145843349392E-2},null,null,{"$f":"N10","v":1122},{"$f":"COUNTIF(L7:L30,T10)","v":0},{"$f":"U10/(W4-U20)","v":0},{"$f":"IF(V10=0,0,(V10*((LOG(V10))/LOG(2))))","v":0},null,{"$f":"N10","v":1122},{"$f":"COUNTIF(L31:L54,Y10)","v":0},{"$f":"Z10/(AB4-Z20)","v":0},{"$f":"IF(AA10=0,0,(AA10*((LOG(AA10))/LOG(2))))","v":0},null,{"$f":"N10","v":1122},{"$f":"COUNTIF(L55:L78,AD10)","v":0},{"$f":"AE10/(AG4-AE20)","v":0},{"$f":"IF(AF10=0,0,(AF10*((LOG(AF10))/LOG(2))))","v":0},null,{"$f":"N10","v":1122},{"$f":"COUNTIF(L79:L102,AI10)","v":1},{"$f":"AJ10/(AL4-AJ20)","v":4.3478260869565216E-2},{"$f":"IF(AK10=0,0,(AK10*((LOG(AK10))/LOG(2))))","v":-0.19667660678508753},null,{"$f":"N10","v":1122},{"$f":"COUNTIF(L103:L126,AN10)","v":0},{"$f":"AO10/(AQ4-AO20)","v":0},{"$f":"IF(AP10=0,0,(AP10*((LOG(AP10))/LOG(2))))","v":0},null,{"$f":"N10","v":1122},{"$f":"COUNTIF(L127:L150,AS10)","v":0},{"$f":"AT10/(AV4-AT20)","v":0},{"$f":"IF(AU10=0,0,(AU10*((LOG(AU10))/LOG(2))))","v":0}]
[12,733,14,741,24,756,14,769,null,null,0,1121,null,1211,{"$f":"COUNTIF($L$7:$L$500,N11)","v":1},{"$f":"O11/$Q$4","v":6.9444444444444441E-3},{"$f":"IF(P11=0,0,(P11*((LOG(P11))/LOG(2))))","v":-4.9791145843349392E-2},null,null,{"$f":"N11","v":1211},{"$f":"COUNTIF(L7:L30,T11)","v":0},{"$f":"U11/(W4-U20)","v":0},{"$f":"IF(V11=0,0,(V11*((LOG(V11))/LOG(2))))","v":0},null,{"$f":"N11","v":1211},{"$f":"COUNTIF(L31:L54,Y11)","v":0},{"$f":"Z11/(AB4-Z20)","v":0},{"$f":"IF(AA11=0,0,(AA11*((LOG(AA11))/LOG(2))))","v":0},null,{"$f":"N11","v":1211},{"$f":"COUNTIF(L55:L78,AD11)","v":0},{"$f":"AE11/(AG4-AE20)","v":0},{"$f":"IF(AF11=0,0,(AF11*((LOG(AF11))/LOG(2))))","v":0},null,{"$f":"N11","v":1211},{"$f":"COUNTIF(L79:L102,AI11)","v":0},{"$f":"AJ11/(AL4-AJ20)","v":0},{"$f":"IF(AK11=0,0,(AK11*((LOG(AK11))/LOG(2))))","v":0},null,{"$f":"N11","v":1211},{"$f":"COUNTIF(L103:L126,AN11)","v":0},{"$f":"AO11/(AQ4-AO20)","v":0},{"$f":"IF(AP11=0,0,(AP11*((LOG(AP11))/LOG(2))))","v":0},null,{"$f":"N11","v":1211},{"$f":"COUNTIF(L127:L150,AS11)","v":1},{"$f":"AT11/(AV4-AT20)","v":4.3478260869565216E-2},{"$f":"IF(AU11=0,0,(AU11*((LOG(AU11))/LOG(2))))","v":-0.19667660678508753}]
[12,912,14,917,13,925,14,938,null,null,0,1111,null,1212,{"$f":"COUNTIF($L$7:$L$500,N12)","v":1},{"$f":"O12/$Q$4","v":6.9444444444444441E-3},{"$f":"IF(P12=0,0,(P12*((LOG(P12))/LOG(2))))","v":-4.9791145843349392E-2},null,null,{"$f":"N12","v":1212},{"$f":"COUNTIF(L7:L30,T12)","v":1},{"$f":"U12/(W4-U20)","v":4.1666666666666664E-2},{"$f":"IF(V12=0,0,(V12*((LOG(V12))/LOG(2))))","v":-0.19104010419671485},null,{"$f":"N12","v":1212},{"$f":"COUNTIF(L31:L54,Y12)","v":0},{"$f":"Z12/(AB4-Z20)","v":0},{"$f":"IF(AA12=0,0,(AA12*((LOG(AA12))/LOG(2))))","v":0},null,{"$f":"N12","v":1212},{"$f":"COUNTIF(L55:L78,AD12)","v":0},{"$f":"AE12/(AG4-AE20)","v":0},{"$f":"IF(AF12=0,0,(AF12*((LOG(AF12))/LOG(2))))","v":0},null,{"$f":"N12","v":1212},{"$f":"COUNTIF(L79:L102,AI12)","v":0},{"$f":"AJ12/(AL4-AJ20)","v":0},{"$f":"IF(AK12=0,0,(AK12*((LOG(AK12))/LOG(2))))","v":0},null,{"$f":"N12","v":1212},{"$f":"COUNTIF(L103:L126,AN12)","v":0},{"$f":"AO12/(AQ4-AO20)","v":0},{"$f":"IF(AP12=0,0,(AP12*((LOG(AP12))/LOG(2))))","v":0},null,{"$f":"N12","v":1212},{"$f":"COUNTIF(L127:L150,AS12)","v":0},{"$f":"AT12/(AV4-AT20)","v":0},{"$f":"IF(AU12=0,0,(AU12*((LOG(AU12))/LOG(2))))","v":0}]
[12,1084,14,1092,13,1102,14,1115,null,null,0,1111,null,1221,{"$f":"COUNTIF($L$7:$L$500,N13)","v":1},{"$f":"O13/$Q$4","v":6.9444444444444441E-3},{"$f":"IF(P13=0,0,(P13*((LOG(P13))/LOG(2))))","v":-4.9791145843349392E-2},null,null,{"$f":"N13","v":1221},{"$f":"COUNTIF(L7:L30,T13)","v":1},{"$f":"U13/(W4-U20)","v":4.1666666666666664E-2},{"$f":"IF(V13=0,0,(V13*((LOG(V13))/LOG(2))))","v":-0.19104010419671485},null,{"$f":"N13","v":1221},{"$f":"COUNTIF(L31:L54,Y13)","v":0},{"$f":"Z13/(AB4-Z20)","v":0},{"$f":"IF(AA13=0,0,(AA13*((LOG(AA13))/LOG(2))))","v":0},null,{"$f":"N13","v":1221},{"$f":"COUNTIF(L55:L78,AD13)","v":0},{"$f":"AE13/(AG4-AE20)","v":0},{"$f":"IF(AF13=0,0,(AF13*((LOG(AF13))/LOG(2))))","v":0},null,{"$f":"N13","v":1221},{"$f":"COUNTIF(L79:L102,AI13)","v":0},{"$f":"AJ13/(AL4-AJ20)","v":0},{"$f":"IF(AK13=0,0,(AK13*((LOG(AK13))/LOG(2))))","v":0},null,{"$f":"N13","v":1221},{"$f":"COUNTIF(L103:L126,AN13)","v":0},{"$f":"AO13/(AQ4-AO20)","v":0},{"$f":"IF(AP13=0,0,(AP13*((LOG(AP13))/LOG(2))))","v":0},null,{"$f":"N13","v":1221},{"$f":"COUNTIF(L127:L150,AS13)","v":0},{"$f":"AT13/(AV4-AT20)","v":0},{"$f":"IF(AU13=0,0,(AU13*((LOG(AU13))/LOG(2))))","v":0}]
[12,1258,14,1264,13,1273,14,1306,null,null,0,1111,null,1222,{"$f":"COUNTIF($L$7:$L$500,N14)","v":0},{"$f":"O14/$Q$4","v":0},{"$f":"IF(P14=0,0,(P14*((LOG(P14))/LOG(2))))","v":0},null,null,{"$f":"N14","v":1222},{"$f":"COUNTIF(L7:L30,T14)","v":0},{"$f":"U14/(W4-U20)","v":0},{"$f":"IF(V14=0,0,(V14*((LOG(V14))/LOG(2))))","v":0},null,{"$f":"N14","v":1222},{"$f":"COUNTIF(L31:L54,Y14)","v":0},{"$f":"Z14/(AB4-Z20)","v":0},{"$f":"IF(AA14=0,0,(AA14*((LOG(AA14))/LOG(2))))","v":0},null,{"$f":"N14","v":1222},{"$f":"COUNTIF(L55:L78,AD14)","v":0},{"$f":"AE14/(AG4-AE20)","v":0},{"$f":"IF(AF14=0,0,(AF14*((LOG(AF14))/LOG(2))))","v":0},null,{"$f":"N14","v":1222},{"$f":"COUNTIF(L79:L102,AI14)","v":0},{"$f":"AJ14/(AL4-AJ20)","v":0},{"$f":"IF(AK14=0,0,(AK14*((LOG(AK14))/LOG(2))))","v":0},null,{"$f":"N14","v":1222},{"$f":"COUNTIF(L103:L126,AN14)","v":0},{"$f":"AO14/(AQ4-AO20)","v":0},{"$f":"IF(AP14=0,0,(AP14*((LOG(AP14))/LOG(2))))","v":0},null,{"$f":"N14","v":1222},{"$f":"COUNTIF(L127:L150,AS14)","v":0},{"$f":"AT14/(AV4-AT20)","v":0},{"$f":"IF(AU14=0,0,(AU14*((LOG(AU14))/LOG(2))))","v":0}]
[12,1441,14,1449,13,1457,14,1468,null,null,0,1111,null,2111,{"$f":"COUNTIF($L$7:$L$500,N15)","v":26},{"$f":"O15/$Q$4","v":0.18055555555555555},{"$f":"IF(P15=0,0,(P15*((LOG(P15))/LOG(2))))","v":-0.44587928726272025},null,null,{"$f":"N15","v":2111},{"$f":"COUNTIF(L7:L30,T15)","v":4},{"$f":"U15/(W4-U20)","v":0.16666666666666666},{"$f":"IF(V15=0,0,(V15*((LOG(V15))/LOG(2))))","v":-0.43082708345352599},null,{"$f":"N15","v":2111},{"$f":"COUNTIF(L31:L54,Y15)","v":7},{"$f":"Z15/(AB4-Z20)","v":0.29166666666666669},{"$f":"IF(AA15=0,0,(AA15*((LOG(AA15))/LOG(2))))","v":-0.51846887711020273},null,{"$f":"N15","v":2111},{"$f":"COUNTIF(L55:L78,AD15)","v":4},{"$f":"AE15/(AG4-AE20)","v":0.17391304347826086},{"$f":"IF(AF15=0,0,(AF15*((LOG(AF15))/LOG(2))))","v":-0.43888034018382832},null,{"$f":"N15","v":2111},{"$f":"COUNTIF(L79:L102,AI15)","v":3},{"$f":"AJ15/(AL4-AJ20)","v":0.13043478260869565},{"$f":"IF(AK15=0,0,(AK15*((LOG(AK15))/LOG(2))))","v":-0.3832955811307639},null,{"$f":"N15","v":2111},{"$f":"COUNTIF(L103:L126,AN15)","v":4},{"$f":"AO15/(AQ4-AO20)","v":0.17391304347826086},{"$f":"IF(AP15=0,0,(AP15*((LOG(AP15))/LOG(2))))","v":-0.43888034018382832},null,{"$f":"N15","v":2111},{"$f":"COUNTIF(L127:L150,AS15)","v":4},{"$f":"AT15/(AV4-AT20)","v":0.17391304347826086},{"$f":"IF(AU15=0,0,(AU15*((LOG(AU15))/LOG(2))))","v":-0.43888034018382832}]
[12,1696,14,1719,13,1730,14,1742,null,null,0,1111,null,2112,{"$f":"COUNTIF($L$7:$L$500,N16)","v":5},{"$f":"O16/$Q$4","v":3.4722222222222224E-2},{"$f":"IF(P16=0,0,(P16*((LOG(P16))/LOG(2))))","v":-0.16833322592204686},null,null,{"$f":"N16","v":2112},{"$f":"COUNTIF(L7:L30,T16)","v":1},{"$f":"U16/(W4-U20)","v":4.1666666666666664E-2},{"$f":"IF(V16=0,0,(V16*((LOG(V16))/LOG(2))))","v":-0.19104010419671485},null,{"$f":"N16","v":2112},{"$f":"COUNTIF(L31:L54,Y16)","v":1},{"$f":"Z16/(AB4-Z20)","v":4.1666666666666664E-2},{"$f":"IF(AA16=0,0,(AA16*((LOG(AA16))/LOG(2))))","v":-0.19104010419671485},null,{"$f":"N16","v":2112},{"$f":"COUNTIF(L55:L78,AD16)","v":0},{"$f":"AE16/(AG4-AE20)","v":0},{"$f":"IF(AF16=0,0,(AF16*((LOG(AF16))/LOG(2))))","v":0},null,{"$f":"N16","v":2112},{"$f":"COUNTIF(L79:L102,AI16)","v":0},{"$f":"AJ16/(AL4-AJ20)","v":0},{"$f":"IF(AK16=0,0,(AK16*((LOG(AK16))/LOG(2))))","v":0},null,{"$f":"N16","v":2112},{"$f":"COUNTIF(L103:L126,AN16)","v":1},{"$f":"AO16/(AQ4-AO20)","v":4.3478260869565216E-2},{"$f":"IF(AP16=0,0,(AP16*((LOG(AP16))/LOG(2))))","v":-0.19667660678508753},null,{"$f":"N16","v":2112},{"$f":"COUNTIF(L127:L150,AS16)","v":2},{"$f":"AT16/(AV4-AT20)","v":8.6956521739130432E-2},{"$f":"IF(AU16=0,0,(AU16*((LOG(AU16))/LOG(2))))","v":-0.30639669183104457}]
[12,1994,14,2000,13,2010,14,2018,null,null,0,1111,null,2121,{"$f":"COUNTIF($L$7:$L$500,N17)","v":2},{"$f":"O17/$Q$4","v":1.3888888888888888E-2},{"$f":"IF(P17=0,0,(P17*((LOG(P17))/LOG(2))))","v":-8.5693402797809889E-2},null,null,{"$f":"N17","v":2121},{"$f":"COUNTIF(L7:L30,T17)","v":1},{"$f":"U17/(W4-U20)","v":4.1666666666666664E-2},{"$f":"IF(V17=0,0,(V17*((LOG(V17))/LOG(2))))","v":-0.19104010419671485},null,{"$f":"N17","v":2121},{"$f":"COUNTIF(L31:L54,Y17)","v":0},{"$f":"Z17/(AB4-Z20)","v":0},{"$f":"IF(AA17=0,0,(AA17*((LOG(AA17))/LOG(2))))","v":0},null,{"$f":"N17","v":2121},{"$f":"COUNTIF(L55:L78,AD17)","v":0},{"$f":"AE17/(AG4-AE20)","v":0},{"$f":"IF(AF17=0,0,(AF17*((LOG(AF17))/LOG(2))))","v":0},null,{"$f":"N17","v":2121},{"$f":"COUNTIF(L79:L102,AI17)","v":0},{"$f":"AJ17/(AL4-AJ20)","v":0},{"$f":"IF(AK17=0,0,(AK17*((LOG(AK17))/LOG(2))))","v":0},null,{"$f":"N17","v":2121},{"$f":"COUNTIF(L103:L126,AN17)","v":0},{"$f":"AO17/(AQ4-AO20)","v":0},{"$f":"IF(AP17=0,0,(AP17*((LOG(AP17))/LOG(2))))","v":0},null,{"$f":"N17","v":2121},{"$f":"COUNTIF(L127:L150,AS17)","v":1},{"$f":"AT17/(AV4-AT20)","v":4.3478260869565216E-2},{"$f":"IF(AU17=0,0,(AU17*((LOG(AU17))/LOG(2))))","v":-0.19667660678508753}]
[21,2249,12,2274,13,2289,14,2302,null,null,0,2111,null,2122,{"$f":"COUNTIF($L$7:$L$500,N18)","v":0},{"$f":"O18/$Q$4","v":0},{"$f":"IF(P18=0,0,(P18*((LOG(P18))/LOG(2))))","v":0},null,null,{"$f":"N18","v":2122},{"$f":"COUNTIF(L7:L30,T18)","v":0},{"$f":"U18/(W4-U20)","v":0},{"$f":"IF(V18=0,0,(V18*((LOG(V18))/LOG(2))))","v":0},null,{"$f":"N18","v":2122},{"$f":"COUNTIF(L31:L54,Y18)","v":0},{"$f":"Z18/(AB4-Z20)","v":0},{"$f":"IF(AA18=0,0,(AA18*((LOG(AA18))/LOG(2))))","v":0},null,{"$f":"N18","v":2122},{"$f":"COUNTIF(L55:L78,AD18)","v":0},{"$f":"AE18/(AG4-AE20)","v":0},{"$f":"IF(AF18=0,0,(AF18*((LOG(AF18))/LOG(2))))","v":0},null,{"$f":"N18","v":2122},{"$f":"COUNTIF(L79:L102,AI18)","v":0},{"$f":"AJ18/(AL4-AJ20)","v":0},{"$f":"IF(AK18=0,0,(AK18*((LOG(AK18))/LOG(2))))","v":0},null,{"$f":"N18","v":2122},{"$f":"COUNTIF(L103:L126,AN18)","v":0},{"$f":"AO18/(AQ4-AO20)","v":0},{"$f":"IF(AP18=0,0,(AP18*((LOG(AP18))/LOG(2))))","v":0},null,{"$f":"N18","v":2122},{"$f":"COUNTIF(L127:L150,AS18)","v":0},{"$f":"AT18/(AV4-AT20)","v":0},{"$f":"IF(AU18=0,0,(AU18*((LOG(AU18))/LOG(2))))","v":0}]
[12,2527,23,2538,24,2551,14,2564,null,null,0,1221,null,2211,{"$f":"COUNTIF($L$7:$L$500,N19)","v":10},{"$f":"O19/$Q$4","v":6.9444444444444448E-2},{"$f":"IF(P19=0,0,(P19*((LOG(P19))/LOG(2))))","v":-0.2672220073996493},null,null,{"$f":"N19","v":2211},{"$f":"COUNTIF(L7:L30,T19)","v":1},{"$f":"U19/(W4-U20)","v":4.1666666666666664E-2},{"$f":"IF(V19=0,0,(V19*((LOG(V19))/LOG(2))))","v":-0.19104010419671485},null,{"$f":"N19","v":2211},{"$f":"COUNTIF(L31:L54,Y19)","v":0},{"$f":"Z19/(AB4-Z20)","v":0},{"$f":"IF(AA19=0,0,(AA19*((LOG(AA19))/LOG(2))))","v":0},null,{"$f":"N19","v":2211},{"$f":"COUNTIF(L55:L78,AD19)","v":0},{"$f":"AE19/(AG4-AE20)","v":0},{"$f":"IF(AF19=0,0,(AF19*((LOG(AF19))/LOG(2))))","v":0},null,{"$f":"N19","v":2211},{"$f":"COUNTIF(L79:L102,AI19)","v":3},{"$f":"AJ19/(AL4-AJ20)","v":0.13043478260869565},{"$f":"IF(AK19=0,0,(AK19*((LOG(AK19))/LOG(2))))","v":-0.3832955811307639},null,{"$f":"N19","v":2211},{"$f":"COUNTIF(L103:L126,AN19)","v":2},{"$f":"AO19/(AQ4-AO20)","v":8.6956521739130432E-2},{"$f":"IF(AP19=0,0,(AP19*((LOG(AP19))/LOG(2))))","v":-0.30639669183104457},null,{"$f":"N19","v":2211},{"$f":"COUNTIF(L127:L150,AS19)","v":4},{"$f":"AT19/(AV4-AT20)","v":0.17391304347826086},{"$f":"IF(AU19=0,0,(AU19*((LOG(AU19))/LOG(2))))","v":-0.43888034018382832}]
[21,2700,21,2714,11,2729,12,2737,null,null,0,2211,null,2212,{"$f":"COUNTIF($L$7:$L$500,N20)","v":4},{"$f":"O20/$Q$4","v":2.7777777777777776E-2},{"$f":"IF(P20=0,0,(P20*((LOG(P20))/LOG(2))))","v":-0.14360902781784199},null,null,{"$f":"N20","v":2212},{"$f":"COUNTIF(L7:L30,T20)","v":0},null,null,null,{"$f":"N20","v":2212},{"$f":"COUNTIF(L31:L54,Y20)","v":0},null,null,null,{"$f":"N20","v":2212},{"$f":"COUNTIF(L55:L78,AD20)","v":1},null,null,null,{"$f":"N20","v":2212},{"$f":"COUNTIF(L79:L102,AI20)","v":1},null,null,null,{"$f":"N20","v":2212},{"$f":"COUNTIF(L103:L126,AN20)","v":1},null,null,null,{"$f":"N20","v":2212},{"$f":"COUNTIF(L127:L150,AS20)","v":1}]
[12,2875,14,2895,13,2903,14,2936,null,null,0,1111,null,2221,{"$f":"COUNTIF($L$7:$L$500,N21)","v":3},{"$f":"O21/$Q$4","v":2.0833333333333332E-2},{"$f":"IF(P21=0,0,(P21*((LOG(P21))/LOG(2))))","v":-0.11635338543169074},null,null,{"$f":"N21","v":2221},{"$f":"COUNTIF(L7:L30,T21)","v":0},{"$f":"U21/(W4-U20)","v":0},{"$f":"IF(V21=0,0,(V21*((LOG(V21))/LOG(2))))","v":0},null,{"$f":"N21","v":2221},{"$f":"COUNTIF(L31:L54,Y21)","v":0},{"$f":"Z21/(AB4-Z20)","v":0},{"$f":"IF(AA21=0,0,(AA21*((LOG(AA21))/LOG(2))))","v":0},null,{"$f":"N21","v":2221},{"$f":"COUNTIF(L55:L78,AD21)","v":0},{"$f":"AE21/(AG4-AE20)","v":0},{"$f":"IF(AF21=0,0,(AF21*((LOG(AF21))/LOG(2))))","v":0},null,{"$f":"N21","v":2221},{"$f":"COUNTIF(L79:L102,AI21)","v":0},{"$f":"AJ21/(AL4-AJ20)","v":0},{"$f":"IF(AK21=0,0,(AK21*((LOG(AK21))/LOG(2))))","v":0},null,{"$f":"N21","v":2221},{"$f":"COUNTIF(L103:L126,AN21)","v":1},{"$f":"AO21/(AQ4-AO20)","v":4.3478260869565216E-2},{"$f":"IF(AP21=0,0,(AP21*((LOG(AP21))/LOG(2))))","v":-0.19667660678508753},null,{"$f":"N21","v":2221},{"$f":"COUNTIF(L127:L150,AS21)","v":2},{"$f":"AT21/(AV4-AT20)","v":8.6956521739130432E-2},{"$f":"IF(AU21=0,0,(AU21*((LOG(AU21))/LOG(2))))","v":-0.30639669183104457}]
[12,3059,14,3064,13,3069,14,3076,null,null,0,1111,null,2222,{"$f":"COUNTIF($L$7:$L$500,N22)","v":0},{"$f":"O22/$Q$4","v":0},{"$f":"IF(P22=0,0,(P22*((LOG(P22))/LOG(2))))","v":0},null,null,{"$f":"N22","v":2222},{"$f":"COUNTIF(L7:L30,T22)","v":0},{"$f":"U22/(W4-U20)","v":0},{"$f":"IF(V22=0,0,(V22*((LOG(V22))/LOG(2))))","v":0},null,{"$f":"N22","v":2222},{"$f":"COUNTIF(L31:L54,Y22)","v":0},{"$f":"Z22/(AB4-Z20)","v":0},{"$f":"IF(AA22=0,0,(AA22*((LOG(AA22))/LOG(2))))","v":0},null,{"$f":"N22","v":2222},{"$f":"COUNTIF(L55:L78,AD22)","v":0},{"$f":"AE22/(AG4-AE20)","v":0},{"$f":"IF(AF22=0,0,(AF22*((LOG(AF22))/LOG(2))))","v":0},null,{"$f":"N22","v":2222},{"$f":"COUNTIF(L79:L102,AI22)","v":0},{"$f":"AJ22/(AL4-AJ20)","v":0},{"$f":"IF(AK22=0,0,(AK22*((LOG(AK22))/LOG(2))))","v":0},null,{"$f":"N22","v":2222},{"$f":"COUNTIF(L103:L126,AN22)","v":0},{"$f":"AO22/(AQ4-AO20)","v":0},{"$f":"IF(AP22=0,0,(AP22*((LOG(AP22))/LOG(2))))","v":0},null,{"$f":"N22","v":2222},{"$f":"COUNTIF(L127:L150,AS22)","v":0},{"$f":"AT22/(AV4-AT20)","v":0},{"$f":"IF(AU22=0,0,(AU22*((LOG(AU22))/LOG(2))))","v":0}]
[21,3246,12,3255,13,3263,14,3271,null,null,0,2111,null,null,null,{"$f":"SUM(P7:P22)","v":0.99999999999999989},{"$f":"-SUM(Q7:Q22)","v":2.4262549200051562},null,null,null,null,{"$f":"SUM(V7:V22)","v":0.99999999999999978},{"$f":"-SUM(W7:W22)","v":2.4679360295889174},null,null,null,{"$f":"SUM(AA7:AA22)","v":0.99999999999999989},{"$f":"-SUM(AB7:AB22)","v":1.6784124677945971},null,null,null,{"$f":"SUM(AF7:AF22)","v":1},{"$f":"-SUM(AG7:AG22)","v":0.66657835799492049},null,null,null,{"$f":"SUM(AK7:AK22)","v":1},{"$f":"-SUM(AL7:AL22)","v":2.0657652163621947},null,null,null,{"$f":"SUM(AP7:AP22)","v":1},{"$f":"-SUM(AQ7:AQ22)","v":2.2603555297522182},null,null,null,{"$f":"SUM(AU7:AU22)","v":1},{"$f":"-SUM(AV7:AV22)","v":2.8927021732601892}]
[12,3408,14,3415,13,3422,23,3431,null,null,0,1112,null,null,null,"U=",{"$f":"Q23/(LOG(Q4)/LOG(2))","v":0.33839334714339231},null,null,null,null,"U1=",{"$f":"W23/(LOG(W4)/LOG(2))","v":0.5382674403990747},null,null,null,"U2=",{"$f":"AB23/(LOG(AB4)/LOG(2))","v":0.36606896294802937},null,null,null,"U3=",{"$f":"AG23/(LOG(AG4)/LOG(2))","v":0.14538360082336033},null,null,null,"U4=",{"$f":"AL23/(LOG(AL4)/LOG(2))","v":0.4505522599230149},null,null,null,"U5=",{"$f":"AQ23/(LOG(AQ4)/LOG(2))","v":0.49299324245218867},null,null,null,"U6=",{"$f":"AV23/(LOG(AV4)/LOG(2))","v":0.63091075942392205}]
[12,3547,14,3561,13,3581,14,3589,null,null,0,1111]
[21,3696,12,3704,13,3709,14,3716,null,null,0,2111]
[12,3868,14,3876,24,3884,14,3902,null,null,0,1121,null,"Total Target Seq"]
[21,4021,12,4056,24,4070,14,4083,null,null,0,2121,null,{"$f":"COUNTIF(L7:L150,G3)","v":4},null,24,24,24,24,24,24]
[12,4221,14,4228,13,4235,14,4255,null,null,0,1111,null,null,null,"% of reinforcement given in 6 equal intervals based on number of trials "]
[12,4382,14,4387,13,4392,14,4400,null,null,0,1111,null,null,null,"%_1","%_2","%_3","%_4","%_5","%_6"]
[21,4534,12,4644,13,4665,14,4693,null,null,0,2111,null,null,"target sequence",{"$f":"$G$3","v":2212},{"$f":"$G$3","v":2212},{"$f":"$G$3","v":2212},{"$f":"$G$3","v":2212},{"$f":"$G$3","v":2212},{"$f":"$G$3","v":2212}]
[12,4842,14,4862,13,4883,14,4904,null,null,0,1111,null,null,"total reinforcement",{"$f":"U20","v":0},{"$f":"Z20","v":0},{"$f":"AE20","v":1},{"$f":"AJ20","v":1},{"$f":"AO20","v":1},{"$f":"AT20","v":1}]
[21,5033,12,5046,13,5070,14,5094,null,null,0,2111,null,null,"% target"]
[12,5211,14,5219,24,5228,14,5241,null,null,0,1121,null,null,"CCRF"]
[12,5350,14,5357,13,5361,14,5368,null,null,0,1111,null,null,"% CCRf"]
[12,5500,14,5508,13,5530,14,5541,null,null,0,1111,null,null,"average response rate",{"$f":"H30/P28","v":183.33333333333334},{"$f":"(H54-H30)/Q28","v":171.5},{"$f":"(H78-H54)/R28","v":155.20833333333334},{"$f":"(H102-H78)/S28","v":137.79166666666666},{"$f":"(H126-H102)/T28","v":178.66666666666666},{"$f":"(H150-H126)/U28","v":172.41666666666666}]
[21,5696,12,5704,13,5710,14,5737,null,null,0,2111]
[21,5840,12,5849,13,5855,14,5862,null,null,0,2111]
[21,5971,12,5979,13,5984,14,5992,null,null,0,2111]
[12,6109,14,6115,13,6122,14,6137,null,null,0,1111]
[12,6250,14,6255,13,6262,14,6282,null,null,0,1111]
[12,6616,14,6622,13,6629,14,6637,null,null,0,1111]
[12,6755,14,6760,13,6767,14,6782,null,null,0,1111]
[12,6913,14,6920,13,6927,23,6948,null,null,0,1112]
[12,7075,14,7079,13,7084,14,7091,null,null,0,1111]
[12,7202,14,7207,13,7214,14,7230,null,null,0,1111]
[12,7384,14,7390,13,7402,14,7411,null,null,0,1111]
[12,7534,14,7539,13,7546,14,7555,null,null,0,1111]
[21,7773,12,7793,13,7829,23,7843,null,null,0,2112]
[12,7964,14,7971,13,7977,23,7986,null,null,0,1112]
[12,8103,14,8107,13,8115,14,8126,null,null,0,1111]
[21,8234,12,8243,13,8250,14,8259,null,null,0,2111]
[12,8374,14,8378,13,8385,14,8393,null,null,0,1111]
[21,8496,12,8505,13,8509,14,8516,null,null,0,2111]
[12,8623,14,8627,13,8634,14,8641,null,null,0,1111]
[12,8814,14,8821,13,8842,14,8872,null,null,0,1111]
[21,9014,12,9027,13,9032,14,9039,null,null,0,2111]
[12,9339,14,9347,13,9357,14,9368,null,null,0,1111]
[21,9478,21,9492,11,9517,21,9526,null,null,0,2212]
[12,9628,14,9633,13,9638,14,9644,null,null,0,1111]
[12,9768,14,9773,13,9797,14,9823,null,null,0,1111]
[12,9954,14,9959,13,9966,14,9990,null,null,0,1111]
[12,10110,14,10115,13,10122,14,10144,null,null,0,1111]
[12,10252,14,10261,13,10265,14,10271,null,null,0,1111]
[21,10391,12,10403,13,10407,14,10415,null,null,0,2111]
[12,10517,14,10522,13,10528,14,10557,null,null,0,1111]
[12,10672,14,10676,13,10681,14,10689,null,null,0,1111]
[21,10790,12,10810,13,10815,14,10820,null,null,0,2111]
[12,10933,14,10937,13,10943,14,10955,null,null,0,1111]
[12,11054,14,11059,13,11063,14,11070,null,null,0,1111]
[12,11185,14,11190,13,11198,14,11205,null,null,0,1111]
[21,11318,12,11326,13,11331,14,11335,null,null,0,2111]
[12,11450,14,11455,13,11460,14,11464,null,null,0,1111]
[12,11629,14,11633,13,11641,14,11650,null,null,0,1111]
[12,11786,14,11793,13,11800,14,11809,null,null,0,1111]
[12,11939,14,11943,13,11951,14,11960,null,null,0,1111]
[12,12087,14,12094,13,12103,14,12111,null,null,0,1111]
[12,12221,14,12227,13,12234,14,12241,null,null,0,1111]
[21,12345,12,12354,13,12358,14,12365,null,null,0,2111]
[12,12485,14,12490,13,12495,14,12506,null,null,0,1111]
[12,12615,14,12622,24,12637,14,12650,null,null,0,1121]
[21,12765,21,12774,11,12783,12,12787,null,null,0,2211]
[21,12897,21,12922,11,12935,21,12947,null,null,0,2212]
[12,13047,14,13052,13,13059,23,13072,null,null,0,1112]
[12,13180,14,13184,13,13191,14,13198,null,null,0,1111]
[12,13311,14,13316,13,13322,14,13351,null,null,0,1111]
[21,13460,12,13469,13,13474,14,13482,null,null,0,2111]
[12,13605,14,13612,24,13622,23,13631,null,null,0,1122]
[12,13744,14,13749,13,13757,14,13769,null,null,0,1111]
[12,13902,14,13906,13,13915,14,13926,null,null,0,1111]
[12,14027,14,14035,13,14046,14,14058,null,null,0,1111]
[12,14172,14,14177,13,14182,14,14189,null,null,0,1111]
[12,14295,14,14299,13,14305,14,14312,null,null,0,1111]
[21,14412,21,14422,11,14432,12,14437,null,null,0,2211]
[12,14570,14,14576,13,14583,23,14596,null,null,0,1112]
[12,14701,14,14708,24,14722,14,14731,null,null,0,1121]
[12,14839,14,14844,13,14850,14,14859,null,null,0,1111]
[21,14963,12,14980,13,14988,14,14999,null,null,0,2111]
[12,15113,14,15118,13,15126,14,15137,null,null,0,1111]
[12,15266,14,15270,13,15277,14,15289,null,null,0,1111]
[12,15393,14,15398,13,15405,14,15413,null,null,0,1111]
[21,15524,21,15533,11,15543,12,15548,null,null,0,2211]
[12,15680,14,15686,13,15693,14,15699,null,null,0,1111]
[12,15842,14,15848,13,15858,14,15866,null,null,0,1111]
[12,15997,14,16002,13,16009,14,16020,null,null,0,1111]
[12,16126,14,16132,13,16139,14,16149,null,null,0,1111]
[12,16263,14,16269,13,16276,23,16285,null,null,0,1112]
[12,16409,14,16416,13,16423,14,16434,null,null,0,1111]
[12,16639,14,16646,24,16659,14,16672,null,null,0,1121]
[12,16787,14,16791,13,16797,14,16804,null,null,0,1111]
[12,16930,14,16937,13,16945,14,16956,null,null,0,1111]
[12,17098,14,17135,13,17160,14,17196,null,null,0,1111]
[21,17304,12,17330,13,17335,23,17348,null,null,0,2112]
[12,17520,14,17551,13,17587,14,17621,null,null,0,1111]
[12,17748,14,17752,13,17758,14,17782,null,null,0,1111]
[21,17922,12,17932,13,17938,14,17947,null,null,0,2111]
[21,18057,21,18104,11,18126,12,18149,null,null,0,2211]
[12,18303,14,18308,13,18317,14,18356,null,null,0,1111]
[21,18466,12,18498,13,18505,14,18512,null,null,0,2111]
[12,18609,14,18639,13,18647,23,18656,null,null,0,1112]
[21,18775,12,18801,13,18806,14,18814,null,null,0,2111]
[12,18950,14,18957,24,18966,14,18978,null,null,0,1121]
[21,19121,12,19161,13,19168,14,19224,null,null,0,2111]
[21,19347,21,19361,22,19376,14,19402,null,null,0,2221]
[21,19519,21,19536,11,19549,12,19556,null,null,0,2211]
[21,19768,21,19795,11,19807,21,19836,null,null,0,2212]
[12,19948,14,19954,13,19987,14,20039,null,null,0,1111]
[12,20145,14,20149,13,20155,23,20165,null,null,0,1112]
[12,20261,14,20267,13,20271,14,20279,null,null,0,1111]
[12,20371,23,20383,13,20442,14,20449,null,null,0,1211]
[21,20559,21,20568,11,20595,12,20601,null,null,0,2211]
[21,20707,21,20726,22,20790,14,20832,null,null,0,2221]
[12,20988,14,21047,13,21076,14,21109,null,null,0,1111]
[21,21217,12,21328,13,21334,23,21364,null,null,0,2112]
[21,21476,12,21487,13,21492,14,21499,null,null,0,2111]
[12,21605,14,21610,13,21617,14,21657,null,null,0,1111]
[21,21759,12,21799,13,21803,14,21811,null,null,0,2111]
[21,21927,12,21958,13,21966,14,21987,null,null,0,2111]
[21,22179,12,22192,13,22200,23,22220,null,null,0,2112]
[21,22322,21,22330,11,22354,12,22359,null,null,0,2211]
[21,22505,12,22543,24,22552,14,22577,null,null,0,2121]
[21,22707,21,22719,11,22732,21,22740,null,null,0,2212]
[12,22847,14,22854,24,22867,14,22897,null,null,0,1121]
[12,23017,14,23022,13,23029,14,23060,null,null,0,1111]
[21,23176,21,23192,11,23204,12,23208,null,null,0,2211]
[12,23320,14,23324,13,23331,23,23343,null,null,0,1112]
[12,23439,14,23494,13,23500,14,23507,null,null,0,1111]
[21,23616,12,23628,13,23632,14,23637,null,null,0,2111]
[21,23745,21,23754,11,23762,12,23820,null,null,0,2211]
[21,23938,21,23954,22,23963,14,23974,null,null,null,2221]

{"sheet":"!N105A10.095","index":7,"n_rows":148,"n_cols":48,"rows_kept":148,"cut":false,"hidden":false,"merged":[[4,39,4,42],[5,39,5,40],[4,44,4,47],[5,44,5,45],[4,24,4,27],[5,24,5,25],[4,29,4,32],[5,29,5,30],[4,34,4,37],[5,34,5,35],[1,1,1,2],[5,13,5,14],[26,13,26,14],[27,13,27,14],[4,19,4,22],[5,19,5,20]]}
["Report for:!N105A10.095"]
["Date:","<date>"]
["Hen:","<hen>",null,null,null,"Correct Sequence",{"$f":"Start!J2","v":2212},null,null,null,null,null,null,null,null,"Total Sequences in Data",{"$f":"4994-COUNTBLANK(L7:L5000)","v":142},null,null,null,null,"Total Sequences in Block Data",{"$f":"COUNTA(L7:L30)","v":24},null,null,null,"Total Sequences in Block Data",{"$f":"COUNTA(L31:L53)","v":23},null,null,null,"Total Sequences in Block Data",{"$f":"COUNTA(L54:L77)","v":24},null,null,null,"Total Sequences in Block Data",{"$f":"COUNTA(L78:L101)","v":24},null,null,null,"Total Sequences in Block Data",{"$f":"COUNTA(L102:L124)","v":23},null,null,null,"Total Sequences in Block Data",{"$f":"COUNTA(L125:L148)","v":24}]
[null,null,null,null,null,null,null,null,null,null,null,null,null,null,null,"Total Sequences in Summary",{"$f":"SUM(O7:O22)","v":141},null,null,null,null,"Total Sequences in Block Summary",{"$f":"SUM(U7:U22)","v":24},null,null,null,"Total Sequences in Block Summary",{"$f":"SUM(Z7:Z22)","v":23},null,null,null,"Total Sequences in Block Summary",{"$f":"SUM(AE7:AE22)","v":24},null,null,null,"Total Sequences in Block Summary",{"$f":"SUM(AJ7:AJ22)","v":24},null,null,null,"Total Sequences in Block Summary",{"$f":"SUM(AO7:AO22)","v":23},null,null,null,"Total Sequences in Block Summary",{"$f":"SUM(AT7:AT22)","v":23}]
[null,null,null,null,null,null,null,null,null,null,null,null,null,null,null,null,null,null,null,"Block 1",null,null,null,null,"Block 2",null,null,null,null,"Block 3",null,null,null,null,"Block 4",null,null,null,null,"Block 5",null,null,null,null,"Block 6"]
["Sequence\nComponent\n1","Time\n1","Sequence\nComponent\n2","Time\n2","Sequence\nComponent\n3","Time\n3","Sequence\nComponent\n4","Time\n4","Sequence\nComponent\n5","Time\n5","Correct?\n0=No 1=Yes","Sequence",null,"Frequency",null,"Relative Frequency","Variability",null,null,"Frequency",null,"Relative Frequency","Variability",null,"Frequency",null,"Relative Frequency","Variability",null,"Frequency",null,"Relative Frequency","Variability",null,"Frequency",null,"Relative Frequency","Variability",null,"Frequency",null,"Relative Frequency","Variability",null,"Frequency",null,"Relative Frequency","Variability"]
[12,24,14,31,13,36,14,42,null,null,0,1111,null,1111,{"$f":"COUNTIF($L$7:$L$500,N7)","v":12},{"$f":"O7/$Q$4","v":8.5106382978723402E-2},{"$f":"IF(P7=0,0,(P7*((LOG(P7))/LOG(2))))","v":-0.30251820014277764},null,null,{"$f":"N7","v":1111},{"$f":"COUNTIF(L7:L30,T7)","v":1},{"$f":"U7/(W4-U20)","v":4.3478260869565216E-2},{"$f":"IF(V7=0,0,(V7*((LOG(V7))/LOG(2))))","v":-0.19667660678508753},null,{"$f":"N7","v":1111},{"$f":"COUNTIF(L31:L53,Y7)","v":3},{"$f":"Z7/(AB4-Z20)","v":0.14285714285714285},{"$f":"IF(AA7=0,0,(AA7*((LOG(AA7))/LOG(2))))","v":-0.40105070315108626},null,{"$f":"N7","v":1111},{"$f":"COUNTIF(L54:L77,AD7)","v":4},{"$f":"AE7/(AG4-AE20)","v":0.19047619047619047},{"$f":"IF(AF7=0,0,(AF7*((LOG(AF7))/LOG(2))))","v":-0.4556795091007162},null,{"$f":"N7","v":1111},{"$f":"COUNTIF(L78:L101,AI7)","v":0},{"$f":"AJ7/(AL4-AJ20)","v":0},{"$f":"IF(AK7=0,0,(AK7*((LOG(AK7))/LOG(2))))","v":0},null,{"$f":"N7","v":1111},{"$f":"COUNTIF(L102:L124,AN7)","v":1},{"$f":"AO7/(AQ4-AO20)","v":5.2631578947368418E-2},{"$f":"IF(AP7=0,0,(AP7*((LOG(AP7))/LOG(2))))","v":-0.22357513228650452},null,{"$f":"N7","v":1111},{"$f":"COUNTIF(L125:L148,AS7)","v":3},{"$f":"AT7/(AV4-AT20)","v":0.14285714285714285},{"$f":"IF(AU7=0,0,(AU7*((LOG(AU7))/LOG(2))))","v":-0.40105070315108626}]
[21,214,12,228,24,239,14,252,null,null,0,2121,null,1112,{"$f":"COUNTIF($L$7:$L$500,N8)","v":6},{"$f":"O8/$Q$4","v":4.2553191489361701E-2},{"$f":"IF(P8=0,0,(P8*((LOG(P8))/LOG(2))))","v":-0.19381229156075053},null,null,{"$f":"N8","v":1112},{"$f":"COUNTIF(L7:L30,T8)","v":0},{"$f":"U8/(W4-U20)","v":0},{"$f":"IF(V8=0,0,(V8*((LOG(V8))/LOG(2))))","v":0},null,{"$f":"N8","v":1112},{"$f":"COUNTIF(L31:L53,Y8)","v":1},{"$f":"Z8/(AB4-Z20)","v":4.7619047619047616E-2},{"$f":"IF(AA8=0,0,(AA8*((LOG(AA8))/LOG(2))))","v":-0.20915797251327431},null,{"$f":"N8","v":1112},{"$f":"COUNTIF(L54:L77,AD8)","v":4},{"$f":"AE8/(AG4-AE20)","v":0.19047619047619047},{"$f":"IF(AF8=0,0,(AF8*((LOG(AF8))/LOG(2))))","v":-0.4556795091007162},null,{"$f":"N8","v":1112},{"$f":"COUNTIF(L78:L101,AI8)","v":0},{"$f":"AJ8/(AL4-AJ20)","v":0},{"$f":"IF(AK8=0,0,(AK8*((LOG(AK8))/LOG(2))))","v":0},null,{"$f":"N8","v":1112},{"$f":"COUNTIF(L102:L124,AN8)","v":0},{"$f":"AO8/(AQ4-AO20)","v":0},{"$f":"IF(AP8=0,0,(AP8*((LOG(AP8))/LOG(2))))","v":0},null,{"$f":"N8","v":1112},{"$f":"COUNTIF(L125:L148,AS8)","v":1},{"$f":"AT8/(AV4-AT20)","v":4.7619047619047616E-2},{"$f":"IF(AU8=0,0,(AU8*((LOG(AU8))/LOG(2))))","v":-0.20915797251327431}]
[12,359,14,368,24,391,14,405,null,null,0,1121,null,1121,{"$f":"COUNTIF($L$7:$L$500,N9)","v":7},{"$f":"O9/$Q$4","v":4.9645390070921988E-2},{"$f":"IF(P9=0,0,(P9*((LOG(P9))/LOG(2))))","v":-0.21507358164814414},null,null,{"$f":"N9","v":1121},{"$f":"COUNTIF(L7:L30,T9)","v":5},{"$f":"U9/(W4-U20)","v":0.21739130434782608},{"$f":"IF(V9=0,0,(V9*((LOG(V9))/LOG(2))))","v":-0.47861605677601093},null,{"$f":"N9","v":1121},{"$f":"COUNTIF(L31:L53,Y9)","v":1},{"$f":"Z9/(AB4-Z20)","v":4.7619047619047616E-2},{"$f":"IF(AA9=0,0,(AA9*((LOG(AA9))/LOG(2))))","v":-0.20915797251327431},null,{"$f":"N9","v":1121},{"$f":"COUNTIF(L54:L77,AD9)","v":0},{"$f":"AE9/(AG4-AE20)","v":0},{"$f":"IF(AF9=0,0,(AF9*((LOG(AF9))/LOG(2))))","v":0},null,{"$f":"N9","v":1121},{"$f":"COUNTIF(L78:L101,AI9)","v":0},{"$f":"AJ9/(AL4-AJ20)","v":0},{"$f":"IF(AK9=0,0,(AK9*((LOG(AK9))/LOG(2))))","v":0},null,{"$f":"N9","v":1121},{"$f":"COUNTIF(L102:L124,AN9)","v":0},{"$f":"AO9/(AQ4-AO20)","v":0},{"$f":"IF(AP9=0,0,(AP9*((LOG(AP9))/LOG(2))))","v":0},null,{"$f":"N9","v":1121},{"$f":"COUNTIF(L125:L148,AS9)","v":1},{"$f":"AT9/(AV4-AT20)","v":4.7619047619047616E-2},{"$f":"IF(AU9=0,0,(AU9*((LOG(AU9))/LOG(2))))","v":-0.20915797251327431}]
[21,507,12,529,13,553,14,575,null,null,0,2111,null,1122,{"$f":"COUNTIF($L$7:$L$500,N10)","v":1},{"$f":"O10/$Q$4","v":7.0921985815602835E-3},{"$f":"IF(P10=0,0,(P10*((LOG(P10))/LOG(2))))","v":-5.0635115974459535E-2},null,null,{"$f":"N10","v":1122},{"$f":"COUNTIF(L7:L30,T10)","v":0},{"$f":"U10/(W4-U20)","v":0},{"$f":"IF(V10=0,0,(V10*((LOG(V10))/LOG(2))))","v":0},null,{"$f":"N10","v":1122},{"$f":"COUNTIF(L31:L53,Y10)","v":0},{"$f":"Z10/(AB4-Z20)","v":0},{"$f":"IF(AA10=0,0,(AA10*((LOG(AA10))/LOG(2))))","v":0},null,{"$f":"N10","v":1122},{"$f":"COUNTIF(L54:L77,AD10)","v":0},{"$f":"AE10/(AG4-AE20)","v":0},{"$f":"IF(AF10=0,0,(AF10*((LOG(AF10))/LOG(2))))","v":0},null,{"$f":"N10","v":1122},{"$f":"COUNTIF(L78:L101,AI10)","v":0},{"$f":"AJ10/(AL4-AJ20)","v":0},{"$f":"IF(AK10=0,0,(AK10*((LOG(AK10))/LOG(2))))","v":0},null,{"$f":"N10","v":1122},{"$f":"COUNTIF(L102:L124,AN10)","v":1},{"$f":"AO10/(AQ4-AO20)","v":5.2631578947368418E-2},{"$f":"IF(AP10=0,0,(AP10*((LOG(AP10))/LOG(2))))","v":-0.22357513228650452},null,{"$f":"N10","v":1122},{"$f":"COUNTIF(L125:L148,AS10)","v":0},{"$f":"AT10/(AV4-AT20)","v":0},{"$f":"IF(AU10=0,0,(AU10*((LOG(AU10))/LOG(2))))","v":0}]
[12,684,14,689,24,701,14,714,null,null,0,1121,null,1211,{"$f":"COUNTIF($L$7:$L$500,N11)","v":4},{"$f":"O11/$Q$4","v":2.8368794326241134E-2},{"$f":"IF(P11=0,0,(P11*((LOG(P11))/LOG(2))))","v":-0.14580287524535585},null,null,{"$f":"N11","v":1211},{"$f":"COUNTIF(L7:L30,T11)","v":1},{"$f":"U11/(W4-U20)","v":4.3478260869565216E-2},{"$f":"IF(V11=0,0,(V11*((LOG(V11))/LOG(2))))","v":-0.19667660678508753},null,{"$f":"N11","v":1211},{"$f":"COUNTIF(L31:L53,Y11)","v":1},{"$f":"Z11/(AB4-Z20)","v":4.7619047619047616E-2},{"$f":"IF(AA11=0,0,(AA11*((LOG(AA11))/LOG(2))))","v":-0.20915797251327431},null,{"$f":"N11","v":1211},{"$f":"COUNTIF(L54:L77,AD11)","v":1},{"$f":"AE11/(AG4-AE20)","v":4.7619047619047616E-2},{"$f":"IF(AF11=0,0,(AF11*((LOG(AF11))/LOG(2))))","v":-0.20915797251327431},null,{"$f":"N11","v":1211},{"$f":"COUNTIF(L78:L101,AI11)","v":0},{"$f":"AJ11/(AL4-AJ20)","v":0},{"$f":"IF(AK11=0,0,(AK11*((LOG(AK11))/LOG(2))))","v":0},null,{"$f":"N11","v":1211},{"$f":"COUNTIF(L102:L124,AN11)","v":1},{"$f":"AO11/(AQ4-AO20)","v":5.2631578947368418E-2},{"$f":"IF(AP11=0,0,(AP11*((LOG(AP11))/LOG(2))))","v":-0.22357513228650452},null,{"$f":"N11","v":1211},{"$f":"COUNTIF(L125:L148,AS11)","v":0},{"$f":"AT11/(AV4-AT20)","v":0},{"$f":"IF(AU11=0,0,(AU11*((LOG(AU11))/LOG(2))))","v":0}]
[21,827,12,836,13,860,14,871,null,null,0,2111,null,1212,{"$f":"COUNTIF($L$7:$L$500,N12)","v":2},{"$f":"O12/$Q$4","v":1.4184397163120567E-2},{"$f":"IF(P12=0,0,(P12*((LOG(P12))/LOG(2))))","v":-8.7085834785798497E-2},null,null,{"$f":"N12","v":1212},{"$f":"COUNTIF(L7:L30,T12)","v":0},{"$f":"U12/(W4-U20)","v":0},{"$f":"IF(V12=0,0,(V12*((LOG(V12))/LOG(2))))","v":0},null,{"$f":"N12","v":1212},{"$f":"COUNTIF(L31:L53,Y12)","v":0},{"$f":"Z12/(AB4-Z20)","v":0},{"$f":"IF(AA12=0,0,(AA12*((LOG(AA12))/LOG(2))))","v":0},null,{"$f":"N12","v":1212},{"$f":"COUNTIF(L54:L77,AD12)","v":1},{"$f":"AE12/(AG4-AE20)","v":4.7619047619047616E-2},{"$f":"IF(AF12=0,0,(AF12*((LOG(AF12))/LOG(2))))","v":-0.20915797251327431},null,{"$f":"N12","v":1212},{"$f":"COUNTIF(L78:L101,AI12)","v":0},{"$f":"AJ12/(AL4-AJ20)","v":0},{"$f":"IF(AK12=0,0,(AK12*((LOG(AK12))/LOG(2))))","v":0},null,{"$f":"N12","v":1212},{"$f":"COUNTIF(L102:L124,AN12)","v":1},{"$f":"AO12/(AQ4-AO20)","v":5.2631578947368418E-2},{"$f":"IF(AP12=0,0,(AP12*((LOG(AP12))/LOG(2))))","v":-0.22357513228650452},null,{"$f":"N12","v":1212},{"$f":"COUNTIF(L125:L148,AS12)","v":0},{"$f":"AT12/(AV4-AT20)","v":0},{"$f":"IF(AU12=0,0,(AU12*((LOG(AU12))/LOG(2))))","v":0}]
[12,1003,14,1010,24,1024,14,1033,null,null,0,1121,null,1221,{"$f":"COUNTIF($L$7:$L$500,N13)","v":2},{"$f":"O13/$Q$4","v":1.4184397163120567E-2},{"$f":"IF(P13=0,0,(P13*((LOG(P13))/LOG(2))))","v":-8.7085834785798497E-2},null,null,{"$f":"N13","v":1221},{"$f":"COUNTIF(L7:L30,T13)","v":1},{"$f":"U13/(W4-U20)","v":4.3478260869565216E-2},{"$f":"IF(V13=0,0,(V13*((LOG(V13))/LOG(2))))","v":-0.19667660678508753},null,{"$f":"N13","v":1221},{"$f":"COUNTIF(L31:L53,Y13)","v":1},{"$f":"Z13/(AB4-Z20)","v":4.7619047619047616E-2},{"$f":"IF(AA13=0,0,(AA13*((LOG(AA13))/LOG(2))))","v":-0.20915797251327431},null,{"$f":"N13","v":1221},{"$f":"COUNTIF(L54:L77,AD13)","v":0},{"$f":"AE13/(AG4-AE20)","v":0},{"$f":"IF(AF13=0,0,(AF13*((LOG(AF13))/LOG(2))))","v":0},null,{"$f":"N13","v":1221},{"$f":"COUNTIF(L78:L101,AI13)","v":0},{"$f":"AJ13/(AL4-AJ20)","v":0},{"$f":"IF(AK13=0,0,(AK13*((LOG(AK13))/LOG(2))))","v":0},null,{"$f":"N13","v":1221},{"$f":"COUNTIF(L102:L124,AN13)","v":0},{"$f":"AO13/(AQ4-AO20)","v":0},{"$f":"IF(AP13=0,0,(AP13*((LOG(AP13))/LOG(2))))","v":0},null,{"$f":"N13","v":1221},{"$f":"COUNTIF(L125:L148,AS13)","v":0},{"$f":"AT13/(AV4-AT20)","v":0},{"$f":"IF(AU13=0,0,(AU13*((LOG(AU13))/LOG(2))))","v":0}]
[21,1141,12,1166,13,1171,14,1205,null,null,0,2111,null,1222,{"$f":"COUNTIF($L$7:$L$500,N14)","v":2},{"$f":"O14/$Q$4","v":1.4184397163120567E-2},{"$f":"IF(P14=0,0,(P14*((LOG(P14))/LOG(2))))","v":-8.7085834785798497E-2},null,null,{"$f":"N14","v":1222},{"$f":"COUNTIF(L7:L30,T14)","v":0},{"$f":"U14/(W4-U20)","v":0},{"$f":"IF(V14=0,0,(V14*((LOG(V14))/LOG(2))))","v":0},null,{"$f":"N14","v":1222},{"$f":"COUNTIF(L31:L53,Y14)","v":0},{"$f":"Z14/(AB4-Z20)","v":0},{"$f":"IF(AA14=0,0,(AA14*((LOG(AA14))/LOG(2))))","v":0},null,{"$f":"N14","v":1222},{"$f":"COUNTIF(L54:L77,AD14)","v":0},{"$f":"AE14/(AG4-AE20)","v":0},{"$f":"IF(AF14=0,0,(AF14*((LOG(AF14))/LOG(2))))","v":0},null,{"$f":"N14","v":1222},{"$f":"COUNTIF(L78:L101,AI14)","v":0},{"$f":"AJ14/(AL4-AJ20)","v":0},{"$f":"IF(AK14=0,0,(AK14*((LOG(AK14))/LOG(2))))","v":0},null,{"$f":"N14","v":1222},{"$f":"COUNTIF(L102:L124,AN14)","v":0},{"$f":"AO14/(AQ4-AO20)","v":0},{"$f":"IF(AP14=0,0,(AP14*((LOG(AP14))/LOG(2))))","v":0},null,{"$f":"N14","v":1222},{"$f":"COUNTIF(L125:L148,AS14)","v":2},{"$f":"AT14/(AV4-AT20)","v":9.5238095238095233E-2},{"$f":"IF(AU14=0,0,(AU14*((LOG(AU14))/LOG(2))))","v":-0.32307784978845333}]
[21,1347,12,1358,24,1367,23,1380,null,null,0,2122,null,2111,{"$f":"COUNTIF($L$7:$L$500,N15)","v":22},{"$f":"O15/$Q$4","v":0.15602836879432624},{"$f":"IF(P15=0,0,(P15*((LOG(P15))/LOG(2))))","v":-0.41817471023229014},null,null,{"$f":"N15","v":2111},{"$f":"COUNTIF(L7:L30,T15)","v":7},{"$f":"U15/(W4-U20)","v":0.30434782608695654},{"$f":"IF(V15=0,0,(V15*((LOG(V15))/LOG(2))))","v":-0.52232387991286355},null,{"$f":"N15","v":2111},{"$f":"COUNTIF(L31:L53,Y15)","v":7},{"$f":"Z15/(AB4-Z20)","v":0.33333333333333331},{"$f":"IF(AA15=0,0,(AA15*((LOG(AA15))/LOG(2))))","v":-0.52832083357371862},null,{"$f":"N15","v":2111},{"$f":"COUNTIF(L54:L77,AD15)","v":4},{"$f":"AE15/(AG4-AE20)","v":0.19047619047619047},{"$f":"IF(AF15=0,0,(AF15*((LOG(AF15))/LOG(2))))","v":-0.4556795091007162},null,{"$f":"N15","v":2111},{"$f":"COUNTIF(L78:L101,AI15)","v":1},{"$f":"AJ15/(AL4-AJ20)","v":4.3478260869565216E-2},{"$f":"IF(AK15=0,0,(AK15*((LOG(AK15))/LOG(2))))","v":-0.19667660678508753},null,{"$f":"N15","v":2111},{"$f":"COUNTIF(L102:L124,AN15)","v":2},{"$f":"AO15/(AQ4-AO20)","v":0.10526315789473684},{"$f":"IF(AP15=0,0,(AP15*((LOG(AP15))/LOG(2))))","v":-0.34188710667827216},null,{"$f":"N15","v":2111},{"$f":"COUNTIF(L125:L148,AS15)","v":1},{"$f":"AT15/(AV4-AT20)","v":4.7619047619047616E-2},{"$f":"IF(AU15=0,0,(AU15*((LOG(AU15))/LOG(2))))","v":-0.20915797251327431}]
[21,1505,12,1527,13,1549,14,1576,null,null,0,2111,null,2112,{"$f":"COUNTIF($L$7:$L$500,N16)","v":17},{"$f":"O16/$Q$4","v":0.12056737588652482},{"$f":"IF(P16=0,0,(P16*((LOG(P16))/LOG(2))))","v":-0.36798230276257954},null,null,{"$f":"N16","v":2112},{"$f":"COUNTIF(L7:L30,T16)","v":3},{"$f":"U16/(W4-U20)","v":0.13043478260869565},{"$f":"IF(V16=0,0,(V16*((LOG(V16))/LOG(2))))","v":-0.3832955811307639},null,{"$f":"N16","v":2112},{"$f":"COUNTIF(L31:L53,Y16)","v":1},{"$f":"Z16/(AB4-Z20)","v":4.7619047619047616E-2},{"$f":"IF(AA16=0,0,(AA16*((LOG(AA16))/LOG(2))))","v":-0.20915797251327431},null,{"$f":"N16","v":2112},{"$f":"COUNTIF(L54:L77,AD16)","v":3},{"$f":"AE16/(AG4-AE20)","v":0.14285714285714285},{"$f":"IF(AF16=0,0,(AF16*((LOG(AF16))/LOG(2))))","v":-0.40105070315108626},null,{"$f":"N16","v":2112},{"$f":"COUNTIF(L78:L101,AI16)","v":4},{"$f":"AJ16/(AL4-AJ20)","v":0.17391304347826086},{"$f":"IF(AK16=0,0,(AK16*((LOG(AK16))/LOG(2))))","v":-0.43888034018382832},null,{"$f":"N16","v":2112},{"$f":"COUNTIF(L102:L124,AN16)","v":2},{"$f":"AO16/(AQ4-AO20)","v":0.10526315789473684},{"$f":"IF(AP16=0,0,(AP16*((LOG(AP16))/LOG(2))))","v":-0.34188710667827216},null,{"$f":"N16","v":2112},{"$f":"COUNTIF(L125:L148,AS16)","v":4},{"$f":"AT16/(AV4-AT20)","v":0.19047619047619047},{"$f":"IF(AU16=0,0,(AU16*((LOG(AU16))/LOG(2))))","v":-0.4556795091007162}]
[21,1691,12,1741,13,1764,23,1785,null,null,0,2112,null,2121,{"$f":"COUNTIF($L$7:$L$500,N17)","v":7},{"$f":"O17/$Q$4","v":4.9645390070921988E-2},{"$f":"IF(P17=0,0,(P17*((LOG(P17))/LOG(2))))","v":-0.21507358164814414},null,null,{"$f":"N17","v":2121},{"$f":"COUNTIF(L7:L30,T17)","v":2},{"$f":"U17/(W4-U20)","v":8.6956521739130432E-2},{"$f":"IF(V17=0,0,(V17*((LOG(V17))/LOG(2))))","v":-0.30639669183104457},null,{"$f":"N17","v":2121},{"$f":"COUNTIF(L31:L53,Y17)","v":1},{"$f":"Z17/(AB4-Z20)","v":4.7619047619047616E-2},{"$f":"IF(AA17=0,0,(AA17*((LOG(AA17))/LOG(2))))","v":-0.20915797251327431},null,{"$f":"N17","v":2121},{"$f":"COUNTIF(L54:L77,AD17)","v":0},{"$f":"AE17/(AG4-AE20)","v":0},{"$f":"IF(AF17=0,0,(AF17*((LOG(AF17))/LOG(2))))","v":0},null,{"$f":"N17","v":2121},{"$f":"COUNTIF(L78:L101,AI17)","v":2},{"$f":"AJ17/(AL4-AJ20)","v":8.6956521739130432E-2},{"$f":"IF(AK17=0,0,(AK17*((LOG(AK17))/LOG(2))))","v":-0.30639669183104457},null,{"$f":"N17","v":2121},{"$f":"COUNTIF(L102:L124,AN17)","v":1},{"$f":"AO17/(AQ4-AO20)","v":5.2631578947368418E-2},{"$f":"IF(AP17=0,0,(AP17*((LOG(AP17))/LOG(2))))","v":-0.22357513228650452},null,{"$f":"N17","v":2121},{"$f":"COUNTIF(L125:L148,AS17)","v":1},{"$f":"AT17/(AV4-AT20)","v":4.7619047619047616E-2},{"$f":"IF(AU17=0,0,(AU17*((LOG(AU17))/LOG(2))))","v":-0.20915797251327431}]
[21,1947,12,1960,13,1978,23,1990,null,null,0,2112,null,2122,{"$f":"COUNTIF($L$7:$L$500,N18)","v":11},{"$f":"O18/$Q$4","v":7.8014184397163122E-2},{"$f":"IF(P18=0,0,(P18*((LOG(P18))/LOG(2))))","v":-0.28710153951330819},null,null,{"$f":"N18","v":2122},{"$f":"COUNTIF(L7:L30,T18)","v":1},{"$f":"U18/(W4-U20)","v":4.3478260869565216E-2},{"$f":"IF(V18=0,0,(V18*((LOG(V18))/LOG(2))))","v":-0.19667660678508753},null,{"$f":"N18","v":2122},{"$f":"COUNTIF(L31:L53,Y18)","v":0},{"$f":"Z18/(AB4-Z20)","v":0},{"$f":"IF(AA18=0,0,(AA18*((LOG(AA18))/LOG(2))))","v":0},null,{"$f":"N18","v":2122},{"$f":"COUNTIF(L54:L77,AD18)","v":0},{"$f":"AE18/(AG4-AE20)","v":0},{"$f":"IF(AF18=0,0,(AF18*((LOG(AF18))/LOG(2))))","v":0},null,{"$f":"N18","v":2122},{"$f":"COUNTIF(L78:L101,AI18)","v":6},{"$f":"AJ18/(AL4-AJ20)","v":0.2608695652173913},{"$f":"IF(AK18=0,0,(AK18*((LOG(AK18))/LOG(2))))","v":-0.50572159704413644},null,{"$f":"N18","v":2122},{"$f":"COUNTIF(L102:L124,AN18)","v":2},{"$f":"AO18/(AQ4-AO20)","v":0.10526315789473684},{"$f":"IF(AP18=0,0,(AP18*((LOG(AP18))/LOG(2))))","v":-0.34188710667827216},null,{"$f":"N18","v":2122},{"$f":"COUNTIF(L125:L148,AS18)","v":2},{"$f":"AT18/(AV4-AT20)","v":9.5238095238095233E-2},{"$f":"IF(AU18=0,0,(AU18*((LOG(AU18))/LOG(2))))","v":-0.32307784978845333}]
[21,2099,12,2143,13,2150,14,2157,null,null,0,2111,null,2211,{"$f":"COUNTIF($L$7:$L$500,N19)","v":10},{"$f":"O19/$Q$4","v":7.0921985815602842E-2},{"$f":"IF(P19=0,0,(P19*((LOG(P19))/LOG(2))))","v":-0.27075342251854123},null,null,{"$f":"N19","v":2211},{"$f":"COUNTIF(L7:L30,T19)","v":1},{"$f":"U19/(W4-U20)","v":4.3478260869565216E-2},{"$f":"IF(V19=0,0,(V19*((LOG(V19))/LOG(2))))","v":-0.19667660678508753},null,{"$f":"N19","v":2211},{"$f":"COUNTIF(L31:L53,Y19)","v":2},{"$f":"Z19/(AB4-Z20)","v":9.5238095238095233E-2},{"$f":"IF(AA19=0,0,(AA19*((LOG(AA19))/LOG(2))))","v":-0.32307784978845333},null,{"$f":"N19","v":2211},{"$f":"COUNTIF(L54:L77,AD19)","v":2},{"$f":"AE19/(AG4-AE20)","v":9.5238095238095233E-2},{"$f":"IF(AF19=0,0,(AF19*((LOG(AF19))/LOG(2))))","v":-0.32307784978845333},null,{"$f":"N19","v":2211},{"$f":"COUNTIF(L78:L101,AI19)","v":2},{"$f":"AJ19/(AL4-AJ20)","v":8.6956521739130432E-2},{"$f":"IF(AK19=0,0,(AK19*((LOG(AK19))/LOG(2))))","v":-0.30639669183104457},null,{"$f":"N19","v":2211},{"$f":"COUNTIF(L102:L124,AN19)","v":2},{"$f":"AO19/(AQ4-AO20)","v":0.10526315789473684},{"$f":"IF(AP19=0,0,(AP19*((LOG(AP19))/LOG(2))))","v":-0.34188710667827216},null,{"$f":"N19","v":2211},{"$f":"COUNTIF(L125:L148,AS19)","v":1},{"$f":"AT19/(AV4-AT20)","v":4.7619047619047616E-2},{"$f":"IF(AU19=0,0,(AU19*((LOG(AU19))/LOG(2))))","v":-0.20915797251327431}]
[21,2349,12,2369,24,2377,14,2389,null,null,0,2121,null,2212,{"$f":"COUNTIF($L$7:$L$500,N20)","v":13},{"$f":"O20/$Q$4","v":9.2198581560283682E-2},{"$f":"IF(P20=0,0,(P20*((LOG(P20))/LOG(2))))","v":-0.31708121450602922},null,null,{"$f":"N20","v":2212},{"$f":"COUNTIF(L7:L30,T20)","v":1},null,null,null,{"$f":"N20","v":2212},{"$f":"COUNTIF(L31:L53,Y20)","v":2},null,null,null,{"$f":"N20","v":2212},{"$f":"COUNTIF(L54:L77,AD20)","v":3},null,null,null,{"$f":"N20","v":2212},{"$f":"COUNTIF(L78:L101,AI20)","v":1},null,null,null,{"$f":"N20","v":2212},{"$f":"COUNTIF(L102:L124,AN20)","v":4},null,null,null,{"$f":"N20","v":2212},{"$f":"COUNTIF(L125:L148,AS20)","v":2}]
[12,2607,14,2632,24,2667,14,2713,null,null,0,1121,null,2221,{"$f":"COUNTIF($L$7:$L$500,N21)","v":15},{"$f":"O21/$Q$4","v":0.10638297872340426},{"$f":"IF(P21=0,0,(P21*((LOG(P21))/LOG(2))))","v":-0.34390008050960374},null,null,{"$f":"N21","v":2221},{"$f":"COUNTIF(L7:L30,T21)","v":1},{"$f":"U21/(W4-U20)","v":4.3478260869565216E-2},{"$f":"IF(V21=0,0,(V21*((LOG(V21))/LOG(2))))","v":-0.19667660678508753},null,{"$f":"N21","v":2221},{"$f":"COUNTIF(L31:L53,Y21)","v":0},{"$f":"Z21/(AB4-Z20)","v":0},{"$f":"IF(AA21=0,0,(AA21*((LOG(AA21))/LOG(2))))","v":0},null,{"$f":"N21","v":2221},{"$f":"COUNTIF(L54:L77,AD21)","v":1},{"$f":"AE21/(AG4-AE20)","v":4.7619047619047616E-2},{"$f":"IF(AF21=0,0,(AF21*((LOG(AF21))/LOG(2))))","v":-0.20915797251327431},null,{"$f":"N21","v":2221},{"$f":"COUNTIF(L78:L101,AI21)","v":6},{"$f":"AJ21/(AL4-AJ20)","v":0.2608695652173913},{"$f":"IF(AK21=0,0,(AK21*((LOG(AK21))/LOG(2))))","v":-0.50572159704413644},null,{"$f":"N21","v":2221},{"$f":"COUNTIF(L102:L124,AN21)","v":3},{"$f":"AO21/(AQ4-AO20)","v":0.15789473684210525},{"$f":"IF(AP21=0,0,(AP21*((LOG(AP21))/LOG(2))))","v":-0.42046815990354147},null,{"$f":"N21","v":2221},{"$f":"COUNTIF(L125:L148,AS21)","v":4},{"$f":"AT21/(AV4-AT20)","v":0.19047619047619047},{"$f":"IF(AU21=0,0,(AU21*((LOG(AU21))/LOG(2))))","v":-0.4556795091007162}]
[12,2881,14,2900,24,2909,14,2934,null,null,0,1121,null,2222,{"$f":"COUNTIF($L$7:$L$500,N22)","v":10},{"$f":"O22/$Q$4","v":7.0921985815602842E-2},{"$f":"IF(P22=0,0,(P22*((LOG(P22))/LOG(2))))","v":-0.27075342251854123},null,null,{"$f":"N22","v":2222},{"$f":"COUNTIF(L7:L30,T22)","v":0},{"$f":"U22/(W4-U20)","v":0},{"$f":"IF(V22=0,0,(V22*((LOG(V22))/LOG(2))))","v":0},null,{"$f":"N22","v":2222},{"$f":"COUNTIF(L31:L53,Y22)","v":3},{"$f":"Z22/(AB4-Z20)","v":0.14285714285714285},{"$f":"IF(AA22=0,0,(AA22*((LOG(AA22))/LOG(2))))","v":-0.40105070315108626},null,{"$f":"N22","v":2222},{"$f":"COUNTIF(L54:L77,AD22)","v":1},{"$f":"AE22/(AG4-AE20)","v":4.7619047619047616E-2},{"$f":"IF(AF22=0,0,(AF22*((LOG(AF22))/LOG(2))))","v":-0.20915797251327431},null,{"$f":"N22","v":2222},{"$f":"COUNTIF(L78:L101,AI22)","v":2},{"$f":"AJ22/(AL4-AJ20)","v":8.6956521739130432E-2},{"$f":"IF(AK22=0,0,(AK22*((LOG(AK22))/LOG(2))))","v":-0.30639669183104457},null,{"$f":"N22","v":2222},{"$f":"COUNTIF(L102:L124,AN22)","v":3},{"$f":"AO22/(AQ4-AO20)","v":0.15789473684210525},{"$f":"IF(AP22=0,0,(AP22*((LOG(AP22))/LOG(2))))","v":-0.42046815990354147},null,{"$f":"N22","v":2222},{"$f":"COUNTIF(L125:L148,AS22)","v":1},{"$f":"AT22/(AV4-AT20)","v":4.7619047619047616E-2},{"$f":"IF(AU22=0,0,(AU22*((LOG(AU22))/LOG(2))))","v":-0.20915797251327431}]
[12,3161,23,3175,24,3187,14,3215,null,null,0,1221,null,null,null,{"$f":"SUM(P7:P22)","v":1},{"$f":"-SUM(Q7:Q22)","v":3.6599198431379198},null,null,null,null,{"$f":"SUM(V7:V22)","v":1},{"$f":"-SUM(W7:W22)","v":2.8706918503612084},null,null,null,{"$f":"SUM(AA7:AA22)","v":1},{"$f":"-SUM(AB7:AB22)","v":2.9084479247439905},null,null,null,{"$f":"SUM(AF7:AF22)","v":1},{"$f":"-SUM(AG7:AG22)","v":2.9277989702947855},null,null,null,{"$f":"SUM(AK7:AK22)","v":1},{"$f":"-SUM(AL7:AL22)","v":2.5661902165503223},null,null,null,{"$f":"SUM(AP7:AP22)","v":1},{"$f":"-SUM(AQ7:AQ22)","v":3.3263604079526945},null,null,null,{"$f":"SUM(AU7:AU22)","v":1},{"$f":"-SUM(AV7:AV22)","v":3.2135132560090711}]
[21,3325,21,3348,22,3360,14,3372,null,null,0,2221,null,null,null,"U=",{"$f":"Q23/(LOG(Q4)/LOG(2))","v":0.51262602683125691},null,null,null,null,"U1=",{"$f":"W23/(LOG(W4)/LOG(2))","v":0.62611021353166685},null,null,null,"U2=",{"$f":"AB23/(LOG(AB4)/LOG(2))","v":0.64295525362476846},null,null,null,"U3=",{"$f":"AG23/(LOG(AG4)/LOG(2))","v":0.63856552149211254},null,null,null,"U4=",{"$f":"AL23/(LOG(AL4)/LOG(2))","v":0.55969710028090602},null,null,null,"U5=",{"$f":"AQ23/(LOG(AQ4)/LOG(2))","v":0.73534096366221413},null,null,null,"U6=",{"$f":"AV23/(LOG(AV4)/LOG(2))","v":0.7103944385477472}]
[21,3493,21,3535,11,3548,21,3562,null,null,0,2212]
[21,3656,12,3681,13,3688,14,3696,null,null,0,2111]
[21,3830,12,3839,13,3865,23,3879,null,null,0,2112,null,"Total Target Seq"]
[12,3993,23,4018,13,4030,14,4066,null,null,0,1211,null,{"$f":"COUNTIF(L7:L148,G3)","v":13},null,24,23,24,24,23,24]
[21,4175,12,4199,13,4230,14,4253,null,null,0,2111,null,null,null,"% of reinforcement given in 6 equal intervals based on number of trials "]
[21,4353,21,4364,11,4376,12,4384,null,null,0,2211,null,null,null,"%_1","%_2","%_3","%_4","%_5","%_6"]
[21,4482,21,4489,22,4517,23,4539,null,null,0,2222,null,null,"target sequence",{"$f":"$G$3","v":2212},{"$f":"$G$3","v":2212},{"$f":"$G$3","v":2212},{"$f":"$G$3","v":2212},{"$f":"$G$3","v":2212},{"$f":"$G$3","v":2212}]
[21,4719,12,4731,24,4788,14,4809,null,null,0,2121,null,null,"total reinforcement",{"$f":"U20","v":1},{"$f":"Z20","v":2},{"$f":"AE20","v":3},{"$f":"AJ20","v":1},{"$f":"AO20","v":4},{"$f":"AT20","v":2}]
[21,4908,21,4929,11,4951,12,5011,null,null,0,2211,null,null,"% target"]
[21,5110,21,5118,22,5132,23,5175,null,null,0,2222,null,null,"CCRF"]
[21,5300,21,5310,22,5329,23,5352,null,null,0,2222,null,null,"% CCRf"]
[12,5466,14,5503,13,5531,14,5543,null,null,0,1111,null,null,"average response rate",{"$f":"H30/P28","v":182.66666666666666},{"$f":"(H53-H30)/Q28","v":175.08695652173913},{"$f":"(H77-H53)/R28","v":170.41666666666666},{"$f":"(H101-H77)/S28","v":160.25},{"$f":"(H124-H101)/T28","v":163.30434782608697},{"$f":"(H148-H124)/U28","v":-837.625}]
[21,5646,21,5674,11,5686,21,5708,null,null,0,2212]
[12,5813,14,5818,13,5887,23,5899,null,null,0,1112]
[12,6027,23,6039,24,6058,14,6070,null,null,0,1221]
[21,6184,12,6193,13,6198,14,6206,null,null,0,2111]
[12,6353,23,6379,13,6391,14,6422,null,null,0,1211]
[21,6531,12,6548,13,6555,14,6563,null,null,0,2111]
[21,6665,12,6678,13,6682,14,6689,null,null,0,2111]
[21,6806,21,6820,11,6830,12,6842,null,null,0,2211]
[12,6968,14,6973,24,7004,14,7016,null,null,0,1121]
[21,7132,12,7142,13,7148,14,7168,null,null,0,2111]
[12,7284,14,7292,13,7296,14,7303,null,null,0,1111]
[12,7479,14,7500,13,7511,14,7536,null,null,0,1111]
[21,7651,21,7663,11,7682,21,7700,null,null,0,2212]
[21,7790,12,7803,13,7807,23,7816,null,null,0,2112]
[21,7927,12,7940,13,7944,14,7951,null,null,0,2111]
[21,8079,12,8098,13,8142,14,8185,null,null,0,2111]
[21,8316,12,8341,13,8376,14,8411,null,null,0,2111]
[21,8535,21,8544,11,8556,21,8566,null,null,0,2212]
[12,8667,14,8675,13,8684,14,8692,null,null,0,1111]
[12,8809,14,8819,13,8854,14,8883,null,null,0,1111]
[12,9126,23,9255,13,9267,14,9275,null,null,0,1211]
[21,9397,12,9410,13,9453,14,9469,null,null,0,2111]
[21,9588,12,9599,13,9622,14,9656,null,null,0,2111]
[21,9770,12,9780,13,9785,14,9793,null,null,0,2111]
[21,9907,12,9924,13,9931,23,9939,null,null,0,2112]
[21,10046,12,10111,13,10120,14,10149,null,null,0,2111]
[21,10252,21,10262,22,10278,23,10303,null,null,0,2222]
[21,10439,12,10457,13,10492,23,10504,null,null,0,2112]
[12,10646,23,10658,13,10678,23,10699,null,null,0,1212]
[21,10799,21,10807,22,10816,14,10825,null,null,0,2221]
[12,10942,14,10946,13,10954,23,10962,null,null,0,1112]
[21,11069,21,11079,11,11089,21,11118,null,null,0,2212]
[21,11210,21,11235,11,11245,21,11254,null,null,0,2212]
[12,11356,14,11361,13,11366,23,11379,null,null,0,1112]
[21,11495,21,11507,11,11526,12,11552,null,null,0,2211]
[12,11663,14,11669,13,11674,23,11686,null,null,0,1112]
[12,11798,14,11802,13,11809,14,11841,null,null,0,1111]
[12,11951,14,11955,13,11959,14,11966,null,null,0,1111]
[12,12088,14,12092,13,12139,23,12157,null,null,0,1112]
[21,12275,12,12292,13,12299,23,12323,null,null,0,2112]
[21,12430,21,12448,11,12461,12,12501,null,null,0,2211]
[21,12612,12,12625,13,12634,23,12646,null,null,0,2112]
[21,12763,21,12782,22,12795,14,12807,null,null,0,2221]
[21,12917,12,12935,13,12941,23,12953,null,null,0,2112]
[21,13054,21,13068,11,13088,12,13136,null,null,0,2211]
[21,13242,12,13263,13,13271,23,13282,null,null,0,2112]
[21,13402,12,13411,24,13423,23,13431,null,null,0,2122]
[21,13535,12,13551,24,13564,23,13586,null,null,0,2122]
[21,13693,21,13717,22,13725,14,13737,null,null,0,2221]
[21,13839,12,13863,13,13870,14,13899,null,null,0,2111]
[21,14003,21,14022,22,14040,14,14062,null,null,0,2221]
[21,14162,21,14178,22,14196,14,14220,null,null,0,2221]
[21,14342,12,14361,24,14372,23,14388,null,null,0,2122]
[21,14487,21,14495,22,14522,14,14534,null,null,0,2221]
[21,14642,21,14657,11,14676,21,14691,null,null,0,2212]
[21,14788,21,14807,22,14817,14,14838,null,null,0,2221]
[21,14945,21,14961,22,14970,23,14978,null,null,0,2222]
[21,15080,21,15096,11,15104,12,15147,null,null,0,2211]
[21,15245,12,15255,24,15281,14,15293,null,null,0,2121]
[21,15405,21,15414,22,15425,23,15433,null,null,0,2222]
[21,15571,12,15580,24,15603,14,15624,null,null,0,2121]
[21,15736,12,15747,13,15790,23,15801,null,null,0,2112]
[21,15904,12,15920,24,15929,23,15949,null,null,0,2122]
[21,16066,12,16078,24,16086,23,16102,null,null,0,2122]
[21,16289,12,16326,24,16336,23,16347,null,null,0,2122]
[12,16483,23,16494,13,16515,23,16526,null,null,0,1212]
[21,16659,12,16675,13,16703,23,16721,null,null,0,2112]
[21,16830,21,16842,11,16899,21,16910,null,null,0,2212]
[21,16999,12,17014,13,17020,14,17025,null,null,0,2111]
[21,17129,21,17149,22,17163,23,17174,null,null,0,2222]
[21,17270,12,17288,13,17293,14,17299,null,null,0,2111]
[21,17397,21,17428,22,17451,23,17462,null,null,0,2222]
[21,17571,21,17580,11,17595,21,17606,null,null,0,2212]
[21,17718,21,17755,22,17796,23,17818,null,null,0,2222]
[21,17919,12,17936,24,17945,23,17977,null,null,0,2122]
[21,18095,12,18104,24,18113,23,18120,null,null,0,2122]
[12,18244,14,18250,13,18288,14,18320,null,null,0,1111]
[21,18420,21,18427,22,18443,14,18475,null,null,0,2221]
[21,18596,12,18605,24,18643,14,18668,null,null,0,2121]
[12,18793,23,18804,13,18846,14,18875,null,null,0,1211]
[21,18976,21,18990,22,19036,14,19045,null,null,0,2221]
[21,19151,21,19164,22,19178,14,19193,null,null,0,2221]
[21,19292,21,19299,11,19344,21,19370,null,null,0,2212]
[21,19471,21,19478,11,19496,21,19536,null,null,0,2212]
[21,19633,12,19642,13,19649,23,19665,null,null,0,2112]
[21,19774,21,19781,11,19790,12,19798,null,null,0,2211]
[12,19902,14,19906,24,19919,23,19927,null,null,0,1122]
[21,20032,21,20039,11,20076,12,20103,null,null,0,2211]
[21,20205,12,20229,13,20271,23,20296,null,null,0,2112]
[21,20407,21,20415,22,20423,14,20441,null,null,0,2221]
[21,20546,21,20553,22,20561,23,20585,null,null,0,2222]
[21,20700,12,20723,24,20733,23,20759,null,null,0,2122]
[21,20879,21,20887,11,20913,21,20930,null,null,0,2212]
[12,21024,14,21028,13,21032,23,21059,null,null,0,1112]
[21,21163,12,21185,13,21193,23,21217,null,null,0,2112]
[12,21374,14,21407,13,21446,14,21479,null,null,0,1111]
[21,21588,21,21601,22,21624,14,21634,null,null,0,2221]
[12,21743,14,21747,13,21755,14,21785,null,null,0,1111]
[12,21890,14,21894,13,21899,14,21905,null,null,0,1111]
[21,22003,21,22025,11,22035,12,22043,null,null,0,2211]
[21,22153,21,22165,22,22185,14,22213,null,null,0,2221]
[21,22320,21,22329,11,22357,21,22376,null,null,0,2212]
[12,22495,14,22552,24,22560,14,22595,null,null,0,1121]
[21,22705,12,22713,24,22730,14,22738,null,null,0,2121]
[21,22841,21,22849,22,22863,14,22871,null,null,0,2221]
[12,22984,23,22992,24,23005,23,23013,null,null,0,1222]
[21,23118,12,23134,13,23161,14,23200,null,null,0,2111]
[21,23326,12,23335,24,23357,23,23365,null,null,0,2122]
[12,23472,23,23495,24,23510,23,23518,null,null,0,1222]
[21,23631,12,23660,13,23668,23,23685,null,null,0,2112]
[21,23791,12,23807,13,23835,23,23862,null,null,0,2112]
[21,23980,12,23988,24,24000,null,null,null,null,null,212]

{"sheet":"!N106840.095","index":8,"n_rows":160,"n_cols":48,"rows_kept":160,"cut":false,"hidden":false,"merged":[[4,39,4,42],[5,39,5,40],[4,44,4,47],[5,44,5,45],[4,24,4,27],[5,24,5,25],[4,29,4,32],[5,29,5,30],[4,34,4,37],[5,34,5,35],[1,1,1,2],[5,13,5,14],[26,13,26,14],[27,13,27,14],[4,19,4,22],[5,19,5,20]]}
["Report for:!N106840.095"]
["Date:","<date>"]
["Hen:","<hen>",null,null,null,"Correct Sequence",{"$f":"Start!J2","v":2212},null,null,null,null,null,null,null,null,"Total Sequences in Data",{"$f":"4994-COUNTBLANK(L7:L5000)","v":154},null,null,null,null,"Total Sequences in Block Data",{"$f":"COUNTA(L7:L32)","v":26},null,null,null,"Total Sequences in Block Data",{"$f":"COUNTA(L33:L57)","v":25},null,null,null,"Total Sequences in Block Data",{"$f":"COUNTA(L58:L83)","v":26},null,null,null,"Total Sequences in Block Data",{"$f":"COUNTA(L84:L109)","v":26},null,null,null,"Total Sequences in Block Data",{"$f":"COUNTA(L110:L134)","v":25},null,null,null,"Total Sequences in Block Data",{"$f":"COUNTA(L135:L160)","v":26}]
[null,null,null,null,null,null,null,null,null,null,null,null,null,null,null,"Total Sequences in Summary",{"$f":"SUM(O7:O22)","v":154},null,null,null,null,"Total Sequences in Block Summary",{"$f":"SUM(U7:U22)","v":26},null,null,null,"Total Sequences in Block Summary",{"$f":"SUM(Z7:Z22)","v":25},null,null,null,"Total Sequences in Block Summary",{"$f":"SUM(AE7:AE22)","v":26},null,null,null,"Total Sequences in Block Summary",{"$f":"SUM(AJ7:AJ22)","v":26},null,null,null,"Total Sequences in Block Summary",{"$f":"SUM(AO7:AO22)","v":25},null,null,null,"Total Sequences in Block Summary",{"$f":"SUM(AT7:AT22)","v":26}]
[null,null,null,null,null,null,null,null,null,null,null,null,null,null,null,null,null,null,null,"Block 1",null,null,null,null,"Block 2",null,null,null,null,"Block 3",null,null,null,null,"Block 4",null,null,null,null,"Block 5",null,null,null,null,"Block 6"]
["Sequence\nComponent\n1","Time\n1","Sequence\nComponent\n2","Time\n2","Sequence\nComponent\n3","Time\n3","Sequence\nComponent\n4","Time\n4","Sequence\nComponent\n5","Time\n5","Correct?\n0=No 1=Yes","Sequence",null,"Frequency",null,"Relative Frequency","Variability",null,null,"Frequency",null,"Relative Frequency","Variability",null,"Frequency",null,"Relative Frequency","Variability",null,"Frequency",null,"Relative Frequency","Variability",null,"Frequency",null,"Relative Frequency","Variability",null,"Frequency",null,"Relative Frequency","Variability",null,"Frequency",null,"Relative Frequency","Variability"]
[12,99,23,112,13,126,23,139,null,null,0,1212,null,1111,{"$f":"COUNTIF($L$7:$L$500,N7)","v":9},{"$f":"O7/$Q$4","v":5.844155844155844E-2},{"$f":"IF(P7=0,0,(P7*((LOG(P7))/LOG(2))))","v":-0.23942697307320324},null,null,{"$f":"N7","v":1111},{"$f":"COUNTIF(L7:L32,T7)","v":0},{"$f":"U7/(W4-U20)","v":0},{"$f":"IF(V7=0,0,(V7*((LOG(V7))/LOG(2))))","v":0},null,{"$f":"N7","v":1111},{"$f":"COUNTIF(L33:L57,Y7)","v":2},{"$f":"Z7/(AB4-Z20)","v":0.08},{"$f":"IF(AA7=0,0,(AA7*((LOG(AA7))/LOG(2))))","v":-0.29150849518197797},null,{"$f":"N7","v":1111},{"$f":"COUNTIF(L58:L83,AD7)","v":2},{"$f":"AE7/(AG4-AE20)","v":9.0909090909090912E-2},{"$f":"IF(AF7=0,0,(AF7*((LOG(AF7))/LOG(2))))","v":-0.31449378351248153},null,{"$f":"N7","v":1111},{"$f":"COUNTIF(L84:L109,AI7)","v":0},{"$f":"AJ7/(AL4-AJ20)","v":0},{"$f":"IF(AK7=0,0,(AK7*((LOG(AK7))/LOG(2))))","v":0},null,{"$f":"N7","v":1111},{"$f":"COUNTIF(L110:L134,AN7)","v":3},{"$f":"AO7/(AQ4-AO20)","v":0.125},{"$f":"IF(AP7=0,0,(AP7*((LOG(AP7))/LOG(2))))","v":-0.375},null,{"$f":"N7","v":1111},{"$f":"COUNTIF(L135:L160,AS7)","v":2},{"$f":"AT7/(AV4-AT20)","v":9.0909090909090912E-2},{"$f":"IF(AU7=0,0,(AU7*((LOG(AU7))/LOG(2))))","v":-0.31449378351248153}]
[21,269,21,284,22,294,23,332,null,null,0,2222,null,1112,{"$f":"COUNTIF($L$7:$L$500,N8)","v":15},{"$f":"O8/$Q$4","v":9.7402597402597407E-2},{"$f":"IF(P8=0,0,(P8*((LOG(P8))/LOG(2))))","v":-0.32726259205386843},null,null,{"$f":"N8","v":1112},{"$f":"COUNTIF(L7:L32,T8)","v":2},{"$f":"U8/(W4-U20)","v":9.5238095238095233E-2},{"$f":"IF(V8=0,0,(V8*((LOG(V8))/LOG(2))))","v":-0.32307784978845333},null,{"$f":"N8","v":1112},{"$f":"COUNTIF(L33:L57,Y8)","v":3},{"$f":"Z8/(AB4-Z20)","v":0.12},{"$f":"IF(AA8=0,0,(AA8*((LOG(AA8))/LOG(2))))","v":-0.36706724268642821},null,{"$f":"N8","v":1112},{"$f":"COUNTIF(L58:L83,AD8)","v":3},{"$f":"AE8/(AG4-AE20)","v":0.13636363636363635},{"$f":"IF(AF8=0,0,(AF8*((LOG(AF8))/LOG(2))))","v":-0.39197306153401923},null,{"$f":"N8","v":1112},{"$f":"COUNTIF(L84:L109,AI8)","v":3},{"$f":"AJ8/(AL4-AJ20)","v":0.13043478260869565},{"$f":"IF(AK8=0,0,(AK8*((LOG(AK8))/LOG(2))))","v":-0.3832955811307639},null,{"$f":"N8","v":1112},{"$f":"COUNTIF(L110:L134,AN8)","v":2},{"$f":"AO8/(AQ4-AO20)","v":8.3333333333333329E-2},{"$f":"IF(AP8=0,0,(AP8*((LOG(AP8))/LOG(2))))","v":-0.29874687506009634},null,{"$f":"N8","v":1112},{"$f":"COUNTIF(L135:L160,AS8)","v":2},{"$f":"AT8/(AV4-AT20)","v":9.0909090909090912E-2},{"$f":"IF(AU8=0,0,(AU8*((LOG(AU8))/LOG(2))))","v":-0.31449378351248153}]
[12,477,23,491,24,504,14,517,null,null,0,1221,null,1121,{"$f":"COUNTIF($L$7:$L$500,N9)","v":7},{"$f":"O9/$Q$4","v":4.5454545454545456E-2},{"$f":"IF(P9=0,0,(P9*((LOG(P9))/LOG(2))))","v":-0.20270143721078623},null,null,{"$f":"N9","v":1121},{"$f":"COUNTIF(L7:L32,T9)","v":1},{"$f":"U9/(W4-U20)","v":4.7619047619047616E-2},{"$f":"IF(V9=0,0,(V9*((LOG(V9))/LOG(2))))","v":-0.20915797251327431},null,{"$f":"N9","v":1121},{"$f":"COUNTIF(L33:L57,Y9)","v":2},{"$f":"Z9/(AB4-Z20)","v":0.08},{"$f":"IF(AA9=0,0,(AA9*((LOG(AA9))/LOG(2))))","v":-0.29150849518197797},null,{"$f":"N9","v":1121},{"$f":"COUNTIF(L58:L83,AD9)","v":3},{"$f":"AE9/(AG4-AE20)","v":0.13636363636363635},{"$f":"IF(AF9=0,0,(AF9*((LOG(AF9))/LOG(2))))","v":-0.39197306153401923},null,{"$f":"N9","v":1121},{"$f":"COUNTIF(L84:L109,AI9)","v":1},{"$f":"AJ9/(AL4-AJ20)","v":4.3478260869565216E-2},{"$f":"IF(AK9=0,0,(AK9*((LOG(AK9))/LOG(2))))","v":-0.19667660678508753},null,{"$f":"N9","v":1121},{"$f":"COUNTIF(L110:L134,AN9)","v":0},{"$f":"AO9/(AQ4-AO20)","v":0},{"$f":"IF(AP9=0,0,(AP9*((LOG(AP9))/LOG(2))))","v":0},null,{"$f":"N9","v":1121},{"$f":"COUNTIF(L135:L160,AS9)","v":0},{"$f":"AT9/(AV4-AT20)","v":0},{"$f":"IF(AU9=0,0,(AU9*((LOG(AU9))/LOG(2))))","v":0}]
[12,643,14,652,24,665,23,675,null,null,0,1122,null,1122,{"$f":"COUNTIF($L$7:$L$500,N10)","v":6},{"$f":"O10/$Q$4","v":3.896103896103896E-2},{"$f":"IF(P10=0,0,(P10*((LOG(P10))/LOG(2))))","v":-0.18240872883014592},null,null,{"$f":"N10","v":1122},{"$f":"COUNTIF(L7:L32,T10)","v":1},{"$f":"U10/(W4-U20)","v":4.7619047619047616E-2},{"$f":"IF(V10=0,0,(V10*((LOG(V10))/LOG(2))))","v":-0.20915797251327431},null,{"$f":"N10","v":1122},{"$f":"COUNTIF(L33:L57,Y10)","v":0},{"$f":"Z10/(AB4-Z20)","v":0},{"$f":"IF(AA10=0,0,(AA10*((LOG(AA10))/LOG(2))))","v":0},null,{"$f":"N10","v":1122},{"$f":"COUNTIF(L58:L83,AD10)","v":0},{"$f":"AE10/(AG4-AE20)","v":0},{"$f":"IF(AF10=0,0,(AF10*((LOG(AF10))/LOG(2))))","v":0},null,{"$f":"N10","v":1122},{"$f":"COUNTIF(L84:L109,AI10)","v":2},{"$f":"AJ10/(AL4-AJ20)","v":8.6956521739130432E-2},{"$f":"IF(AK10=0,0,(AK10*((LOG(AK10))/LOG(2))))","v":-0.30639669183104457},null,{"$f":"N10","v":1122},{"$f":"COUNTIF(L110:L134,AN10)","v":1},{"$f":"AO10/(AQ4-AO20)","v":4.1666666666666664E-2},{"$f":"IF(AP10=0,0,(AP10*((LOG(AP10))/LOG(2))))","v":-0.19104010419671485},null,{"$f":"N10","v":1122},{"$f":"COUNTIF(L135:L160,AS10)","v":2},{"$f":"AT10/(AV4-AT20)","v":9.0909090909090912E-2},{"$f":"IF(AU10=0,0,(AU10*((LOG(AU10))/LOG(2))))","v":-0.31449378351248153}]
[21,790,21,799,11,813,12,819,null,null,0,2211,null,1211,{"$f":"COUNTIF($L$7:$L$500,N11)","v":3},{"$f":"O11/$Q$4","v":1.948051948051948E-2},{"$f":"IF(P11=0,0,(P11*((LOG(P11))/LOG(2))))","v":-0.11068488389559245},null,null,{"$f":"N11","v":1211},{"$f":"COUNTIF(L7:L32,T11)","v":0},{"$f":"U11/(W4-U20)","v":0},{"$f":"IF(V11=0,0,(V11*((LOG(V11))/LOG(2))))","v":0},null,{"$f":"N11","v":1211},{"$f":"COUNTIF(L33:L57,Y11)","v":1},{"$f":"Z11/(AB4-Z20)","v":0.04},{"$f":"IF(AA11=0,0,(AA11*((LOG(AA11))/LOG(2))))","v":-0.18575424759098899},null,{"$f":"N11","v":1211},{"$f":"COUNTIF(L58:L83,AD11)","v":2},{"$f":"AE11/(AG4-AE20)","v":9.0909090909090912E-2},{"$f":"IF(AF11=0,0,(AF11*((LOG(AF11))/LOG(2))))","v":-0.31449378351248153},null,{"$f":"N11","v":1211},{"$f":"COUNTIF(L84:L109,AI11)","v":0},{"$f":"AJ11/(AL4-AJ20)","v":0},{"$f":"IF(AK11=0,0,(AK11*((LOG(AK11))/LOG(2))))","v":0},null,{"$f":"N11","v":1211},{"$f":"COUNTIF(L110:L134,AN11)","v":0},{"$f":"AO11/(AQ4-AO20)","v":0},{"$f":"IF(AP11=0,0,(AP11*((LOG(AP11))/LOG(2))))","v":0},null,{"$f":"N11","v":1211},{"$f":"COUNTIF(L135:L160,AS11)","v":0},{"$f":"AT11/(AV4-AT20)","v":0},{"$f":"IF(AU11=0,0,(AU11*((LOG(AU11))/LOG(2))))","v":0}]
[21,931,12,944,13,950,14,958,null,null,0,2111,null,1212,{"$f":"COUNTIF($L$7:$L$500,N12)","v":4},{"$f":"O12/$Q$4","v":2.5974025974025976E-2},{"$f":"IF(P12=0,0,(P12*((LOG(P12))/LOG(2))))","v":-0.13679965040765979},null,null,{"$f":"N12","v":1212},{"$f":"COUNTIF(L7:L32,T12)","v":3},{"$f":"U12/(W4-U20)","v":0.14285714285714285},{"$f":"IF(V12=0,0,(V12*((LOG(V12))/LOG(2))))","v":-0.40105070315108626},null,{"$f":"N12","v":1212},{"$f":"COUNTIF(L33:L57,Y12)","v":0},{"$f":"Z12/(AB4-Z20)","v":0},{"$f":"IF(AA12=0,0,(AA12*((LOG(AA12))/LOG(2))))","v":0},null,{"$f":"N12","v":1212},{"$f":"COUNTIF(L58:L83,AD12)","v":0},{"$f":"AE12/(AG4-AE20)","v":0},{"$f":"IF(AF12=0,0,(AF12*((LOG(AF12))/LOG(2))))","v":0},null,{"$f":"N12","v":1212},{"$f":"COUNTIF(L84:L109,AI12)","v":0},{"$f":"AJ12/(AL4-AJ20)","v":0},{"$f":"IF(AK12=0,0,(AK12*((LOG(AK12))/LOG(2))))","v":0},null,{"$f":"N12","v":1212},{"$f":"COUNTIF(L110:L134,AN12)","v":1},{"$f":"AO12/(AQ4-AO20)","v":4.1666666666666664E-2},{"$f":"IF(AP12=0,0,(AP12*((LOG(AP12))/LOG(2))))","v":-0.19104010419671485},null,{"$f":"N12","v":1212},{"$f":"COUNTIF(L135:L160,AS12)","v":0},{"$f":"AT12/(AV4-AT20)","v":0},{"$f":"IF(AU12=0,0,(AU12*((LOG(AU12))/LOG(2))))","v":0}]
[21,1137,21,1147,11,1160,21,1173,null,null,0,2212,null,1221,{"$f":"COUNTIF($L$7:$L$500,N13)","v":9},{"$f":"O13/$Q$4","v":5.844155844155844E-2},{"$f":"IF(P13=0,0,(P13*((LOG(P13))/LOG(2))))","v":-0.23942697307320324},null,null,{"$f":"N13","v":1221},{"$f":"COUNTIF(L7:L32,T13)","v":1},{"$f":"U13/(W4-U20)","v":4.7619047619047616E-2},{"$f":"IF(V13=0,0,(V13*((LOG(V13))/LOG(2))))","v":-0.20915797251327431},null,{"$f":"N13","v":1221},{"$f":"COUNTIF(L33:L57,Y13)","v":3},{"$f":"Z13/(AB4-Z20)","v":0.12},{"$f":"IF(AA13=0,0,(AA13*((LOG(AA13))/LOG(2))))","v":-0.36706724268642821},null,{"$f":"N13","v":1221},{"$f":"COUNTIF(L58:L83,AD13)","v":2},{"$f":"AE13/(AG4-AE20)","v":9.0909090909090912E-2},{"$f":"IF(AF13=0,0,(AF13*((LOG(AF13))/LOG(2))))","v":-0.31449378351248153},null,{"$f":"N13","v":1221},{"$f":"COUNTIF(L84:L109,AI13)","v":1},{"$f":"AJ13/(AL4-AJ20)","v":4.3478260869565216E-2},{"$f":"IF(AK13=0,0,(AK13*((LOG(AK13))/LOG(2))))","v":-0.19667660678508753},null,{"$f":"N13","v":1221},{"$f":"COUNTIF(L110:L134,AN13)","v":1},{"$f":"AO13/(AQ4-AO20)","v":4.1666666666666664E-2},{"$f":"IF(AP13=0,0,(AP13*((LOG(AP13))/LOG(2))))","v":-0.19104010419671485},null,{"$f":"N13","v":1221},{"$f":"COUNTIF(L135:L160,AS13)","v":1},{"$f":"AT13/(AV4-AT20)","v":4.5454545454545456E-2},{"$f":"IF(AU13=0,0,(AU13*((LOG(AU13))/LOG(2))))","v":-0.20270143721078623}]
[12,1309,23,1322,24,1346,23,1393,null,null,0,1222,null,1222,{"$f":"COUNTIF($L$7:$L$500,N14)","v":4},{"$f":"O14/$Q$4","v":2.5974025974025976E-2},{"$f":"IF(P14=0,0,(P14*((LOG(P14))/LOG(2))))","v":-0.13679965040765979},null,null,{"$f":"N14","v":1222},{"$f":"COUNTIF(L7:L32,T14)","v":1},{"$f":"U14/(W4-U20)","v":4.7619047619047616E-2},{"$f":"IF(V14=0,0,(V14*((LOG(V14))/LOG(2))))","v":-0.20915797251327431},null,{"$f":"N14","v":1222},{"$f":"COUNTIF(L33:L57,Y14)","v":0},{"$f":"Z14/(AB4-Z20)","v":0},{"$f":"IF(AA14=0,0,(AA14*((LOG(AA14))/LOG(2))))","v":0},null,{"$f":"N14","v":1222},{"$f":"COUNTIF(L58:L83,AD14)","v":0},{"$f":"AE14/(AG4-AE20)","v":0},{"$f":"IF(AF14=0,0,(AF14*((LOG(AF14))/LOG(2))))","v":0},null,{"$f":"N14","v":1222},{"$f":"COUNTIF(L84:L109,AI14)","v":2},{"$f":"AJ14/(AL4-AJ20)","v":8.6956521739130432E-2},{"$f":"IF(AK14=0,0,(AK14*((LOG(AK14))/LOG(2))))","v":-0.30639669183104457},null,{"$f":"N14","v":1222},{"$f":"COUNTIF(L110:L134,AN14)","v":1},{"$f":"AO14/(AQ4-AO20)","v":4.1666666666666664E-2},{"$f":"IF(AP14=0,0,(AP14*((LOG(AP14))/LOG(2))))","v":-0.19104010419671485},null,{"$f":"N14","v":1222},{"$f":"COUNTIF(L135:L160,AS14)","v":0},{"$f":"AT14/(AV4-AT20)","v":0},{"$f":"IF(AU14=0,0,(AU14*((LOG(AU14))/LOG(2))))","v":0}]
[21,1498,21,1507,22,1545,23,1554,null,null,0,2222,null,2111,{"$f":"COUNTIF($L$7:$L$500,N15)","v":10},{"$f":"O15/$Q$4","v":6.4935064935064929E-2},{"$f":"IF(P15=0,0,(P15*((LOG(P15))/LOG(2))))","v":-0.25615963933815183},null,null,{"$f":"N15","v":2111},{"$f":"COUNTIF(L7:L32,T15)","v":2},{"$f":"U15/(W4-U20)","v":9.5238095238095233E-2},{"$f":"IF(V15=0,0,(V15*((LOG(V15))/LOG(2))))","v":-0.32307784978845333},null,{"$f":"N15","v":2111},{"$f":"COUNTIF(L33:L57,Y15)","v":0},{"$f":"Z15/(AB4-Z20)","v":0},{"$f":"IF(AA15=0,0,(AA15*((LOG(AA15))/LOG(2))))","v":0},null,{"$f":"N15","v":2111},{"$f":"COUNTIF(L58:L83,AD15)","v":0},{"$f":"AE15/(AG4-AE20)","v":0},{"$f":"IF(AF15=0,0,(AF15*((LOG(AF15))/LOG(2))))","v":0},null,{"$f":"N15","v":2111},{"$f":"COUNTIF(L84:L109,AI15)","v":0},{"$f":"AJ15/(AL4-AJ20)","v":0},{"$f":"IF(AK15=0,0,(AK15*((LOG(AK15))/LOG(2))))","v":0},null,{"$f":"N15","v":2111},{"$f":"COUNTIF(L110:L134,AN15)","v":3},{"$f":"AO15/(AQ4-AO20)","v":0.125},{"$f":"IF(AP15=0,0,(AP15*((LOG(AP15))/LOG(2))))","v":-0.375},null,{"$f":"N15","v":2111},{"$f":"COUNTIF(L135:L160,AS15)","v":5},{"$f":"AT15/(AV4-AT20)","v":0.22727272727272727},{"$f":"IF(AU15=0,0,(AU15*((LOG(AU15))/LOG(2))))","v":-0.48579625539771243}]
[21,1678,21,1690,22,1703,14,1718,null,null,0,2221,null,2112,{"$f":"COUNTIF($L$7:$L$500,N16)","v":8},{"$f":"O16/$Q$4","v":5.1948051948051951E-2},{"$f":"IF(P16=0,0,(P16*((LOG(P16))/LOG(2))))","v":-0.22165124886726764},null,null,{"$f":"N16","v":2112},{"$f":"COUNTIF(L7:L32,T16)","v":1},{"$f":"U16/(W4-U20)","v":4.7619047619047616E-2},{"$f":"IF(V16=0,0,(V16*((LOG(V16))/LOG(2))))","v":-0.20915797251327431},null,{"$f":"N16","v":2112},{"$f":"COUNTIF(L33:L57,Y16)","v":3},{"$f":"Z16/(AB4-Z20)","v":0.12},{"$f":"IF(AA16=0,0,(AA16*((LOG(AA16))/LOG(2))))","v":-0.36706724268642821},null,{"$f":"N16","v":2112},{"$f":"COUNTIF(L58:L83,AD16)","v":1},{"$f":"AE16/(AG4-AE20)","v":4.5454545454545456E-2},{"$f":"IF(AF16=0,0,(AF16*((LOG(AF16))/LOG(2))))","v":-0.20270143721078623},null,{"$f":"N16","v":2112},{"$f":"COUNTIF(L84:L109,AI16)","v":0},{"$f":"AJ16/(AL4-AJ20)","v":0},{"$f":"IF(AK16=0,0,(AK16*((LOG(AK16))/LOG(2))))","v":0},null,{"$f":"N16","v":2112},{"$f":"COUNTIF(L110:L134,AN16)","v":1},{"$f":"AO16/(AQ4-AO20)","v":4.1666666666666664E-2},{"$f":"IF(AP16=0,0,(AP16*((LOG(AP16))/LOG(2))))","v":-0.19104010419671485},null,{"$f":"N16","v":2112},{"$f":"COUNTIF(L135:L160,AS16)","v":2},{"$f":"AT16/(AV4-AT20)","v":9.0909090909090912E-2},{"$f":"IF(AU16=0,0,(AU16*((LOG(AU16))/LOG(2))))","v":-0.31449378351248153}]
[21,1836,21,1854,22,1869,14,1891,null,null,0,2221,null,2121,{"$f":"COUNTIF($L$7:$L$500,N17)","v":17},{"$f":"O17/$Q$4","v":0.11038961038961038},{"$f":"IF(P17=0,0,(P17*((LOG(P17))/LOG(2))))","v":-0.35096430448413996},null,null,{"$f":"N17","v":2121},{"$f":"COUNTIF(L7:L32,T17)","v":2},{"$f":"U17/(W4-U20)","v":9.5238095238095233E-2},{"$f":"IF(V17=0,0,(V17*((LOG(V17))/LOG(2))))","v":-0.32307784978845333},null,{"$f":"N17","v":2121},{"$f":"COUNTIF(L33:L57,Y17)","v":4},{"$f":"Z17/(AB4-Z20)","v":0.16},{"$f":"IF(AA17=0,0,(AA17*((LOG(AA17))/LOG(2))))","v":-0.42301699036395596},null,{"$f":"N17","v":2121},{"$f":"COUNTIF(L58:L83,AD17)","v":4},{"$f":"AE17/(AG4-AE20)","v":0.18181818181818182},{"$f":"IF(AF17=0,0,(AF17*((LOG(AF17))/LOG(2))))","v":-0.44716938520678134},null,{"$f":"N17","v":2121},{"$f":"COUNTIF(L84:L109,AI17)","v":4},{"$f":"AJ17/(AL4-AJ20)","v":0.17391304347826086},{"$f":"IF(AK17=0,0,(AK17*((LOG(AK17))/LOG(2))))","v":-0.43888034018382832},null,{"$f":"N17","v":2121},{"$f":"COUNTIF(L110:L134,AN17)","v":1},{"$f":"AO17/(AQ4-AO20)","v":4.1666666666666664E-2},{"$f":"IF(AP17=0,0,(AP17*((LOG(AP17))/LOG(2))))","v":-0.19104010419671485},null,{"$f":"N17","v":2121},{"$f":"COUNTIF(L135:L160,AS17)","v":2},{"$f":"AT17/(AV4-AT20)","v":9.0909090909090912E-2},{"$f":"IF(AU17=0,0,(AU17*((LOG(AU17))/LOG(2))))","v":-0.31449378351248153}]
[21,2001,12,2044,24,2056,14,2087,null,null,0,2121,null,2122,{"$f":"COUNTIF($L$7:$L$500,N18)","v":16},{"$f":"O18/$Q$4","v":0.1038961038961039},{"$f":"IF(P18=0,0,(P18*((LOG(P18))/LOG(2))))","v":-0.33940639383843135},null,null,{"$f":"N18","v":2122},{"$f":"COUNTIF(L7:L32,T18)","v":2},{"$f":"U18/(W4-U20)","v":9.5238095238095233E-2},{"$f":"IF(V18=0,0,(V18*((LOG(V18))/LOG(2))))","v":-0.32307784978845333},null,{"$f":"N18","v":2122},{"$f":"COUNTIF(L33:L57,Y18)","v":0},{"$f":"Z18/(AB4-Z20)","v":0},{"$f":"IF(AA18=0,0,(AA18*((LOG(AA18))/LOG(2))))","v":0},null,{"$f":"N18","v":2122},{"$f":"COUNTIF(L58:L83,AD18)","v":1},{"$f":"AE18/(AG4-AE20)","v":4.5454545454545456E-2},{"$f":"IF(AF18=0,0,(AF18*((LOG(AF18))/LOG(2))))","v":-0.20270143721078623},null,{"$f":"N18","v":2122},{"$f":"COUNTIF(L84:L109,AI18)","v":5},{"$f":"AJ18/(AL4-AJ20)","v":0.21739130434782608},{"$f":"IF(AK18=0,0,(AK18*((LOG(AK18))/LOG(2))))","v":-0.47861605677601093},null,{"$f":"N18","v":2122},{"$f":"COUNTIF(L110:L134,AN18)","v":5},{"$f":"AO18/(AQ4-AO20)","v":0.20833333333333334},{"$f":"IF(AP18=0,0,(AP18*((LOG(AP18))/LOG(2))))","v":-0.47146550121537367},null,{"$f":"N18","v":2122},{"$f":"COUNTIF(L135:L160,AS18)","v":3},{"$f":"AT18/(AV4-AT20)","v":0.13636363636363635},{"$f":"IF(AU18=0,0,(AU18*((LOG(AU18))/LOG(2))))","v":-0.39197306153401923}]
[21,2208,21,2232,11,2264,21,2280,null,null,0,2212,null,2211,{"$f":"COUNTIF($L$7:$L$500,N19)","v":5},{"$f":"O19/$Q$4","v":3.2467532467532464E-2},{"$f":"IF(P19=0,0,(P19*((LOG(P19))/LOG(2))))","v":-0.1605473521366084},null,null,{"$f":"N19","v":2211},{"$f":"COUNTIF(L7:L32,T19)","v":1},{"$f":"U19/(W4-U20)","v":4.7619047619047616E-2},{"$f":"IF(V19=0,0,(V19*((LOG(V19))/LOG(2))))","v":-0.20915797251327431},null,{"$f":"N19","v":2211},{"$f":"COUNTIF(L33:L57,Y19)","v":2},{"$f":"Z19/(AB4-Z20)","v":0.08},{"$f":"IF(AA19=0,0,(AA19*((LOG(AA19))/LOG(2))))","v":-0.29150849518197797},null,{"$f":"N19","v":2211},{"$f":"COUNTIF(L58:L83,AD19)","v":2},{"$f":"AE19/(AG4-AE20)","v":9.0909090909090912E-2},{"$f":"IF(AF19=0,0,(AF19*((LOG(AF19))/LOG(2))))","v":-0.31449378351248153},null,{"$f":"N19","v":2211},{"$f":"COUNTIF(L84:L109,AI19)","v":0},{"$f":"AJ19/(AL4-AJ20)","v":0},{"$f":"IF(AK19=0,0,(AK19*((LOG(AK19))/LOG(2))))","v":0},null,{"$f":"N19","v":2211},{"$f":"COUNTIF(L110:L134,AN19)","v":0},{"$f":"AO19/(AQ4-AO20)","v":0},{"$f":"IF(AP19=0,0,(AP19*((LOG(AP19))/LOG(2))))","v":0},null,{"$f":"N19","v":2211},{"$f":"COUNTIF(L135:L160,AS19)","v":0},{"$f":"AT19/(AV4-AT20)","v":0},{"$f":"IF(AU19=0,0,(AU19*((LOG(AU19))/LOG(2))))","v":0}]
[21,2381,12,2425,24,2457,14,2480,null,null,0,2121,null,2212,{"$f":"COUNTIF($L$7:$L$500,N20)","v":17},{"$f":"O20/$Q$4","v":0.11038961038961038},{"$f":"IF(P20=0,0,(P20*((LOG(P20))/LOG(2))))","v":-0.35096430448413996},null,null,{"$f":"N20","v":2212},{"$f":"COUNTIF(L7:L32,T20)","v":5},null,null,null,{"$f":"N20","v":2212},{"$f":"COUNTIF(L33:L57,Y20)","v":0},null,null,null,{"$f":"N20","v":2212},{"$f":"COUNTIF(L58:L83,AD20)","v":4},null,null,null,{"$f":"N20","v":2212},{"$f":"COUNTIF(L84:L109,AI20)","v":3},null,null,null,{"$f":"N20","v":2212},{"$f":"COUNTIF(L110:L134,AN20)","v":1},null,null,null,{"$f":"N20","v":2212},{"$f":"COUNTIF(L135:L160,AS20)","v":4}]
[21,2590,21,2598,11,2616,21,2628,null,null,0,2212,null,2221,{"$f":"COUNTIF($L$7:$L$500,N21)","v":12},{"$f":"O21/$Q$4","v":7.792207792207792E-2},{"$f":"IF(P21=0,0,(P21*((LOG(P21))/LOG(2))))","v":-0.28689537973821388},null,null,{"$f":"N21","v":2221},{"$f":"COUNTIF(L7:L32,T21)","v":2},{"$f":"U21/(W4-U20)","v":9.5238095238095233E-2},{"$f":"IF(V21=0,0,(V21*((LOG(V21))/LOG(2))))","v":-0.32307784978845333},null,{"$f":"N21","v":2221},{"$f":"COUNTIF(L33:L57,Y21)","v":5},{"$f":"Z21/(AB4-Z20)","v":0.2},{"$f":"IF(AA21=0,0,(AA21*((LOG(AA21))/LOG(2))))","v":-0.46438561897747244},null,{"$f":"N21","v":2221},{"$f":"COUNTIF(L58:L83,AD21)","v":0},{"$f":"AE21/(AG4-AE20)","v":0},{"$f":"IF(AF21=0,0,(AF21*((LOG(AF21))/LOG(2))))","v":0},null,{"$f":"N21","v":2221},{"$f":"COUNTIF(L84:L109,AI21)","v":2},{"$f":"AJ21/(AL4-AJ20)","v":8.6956521739130432E-2},{"$f":"IF(AK21=0,0,(AK21*((LOG(AK21))/LOG(2))))","v":-0.30639669183104457},null,{"$f":"N21","v":2221},{"$f":"COUNTIF(L110:L134,AN21)","v":2},{"$f":"AO21/(AQ4-AO20)","v":8.3333333333333329E-2},{"$f":"IF(AP21=0,0,(AP21*((LOG(AP21))/LOG(2))))","v":-0.29874687506009634},null,{"$f":"N21","v":2221},{"$f":"COUNTIF(L135:L160,AS21)","v":1},{"$f":"AT21/(AV4-AT20)","v":4.5454545454545456E-2},{"$f":"IF(AU21=0,0,(AU21*((LOG(AU21))/LOG(2))))","v":-0.20270143721078623}]
[21,2728,21,2750,11,2763,21,2788,null,null,0,2212,null,2222,{"$f":"COUNTIF($L$7:$L$500,N22)","v":12},{"$f":"O22/$Q$4","v":7.792207792207792E-2},{"$f":"IF(P22=0,0,(P22*((LOG(P22))/LOG(2))))","v":-0.28689537973821388},null,null,{"$f":"N22","v":2222},{"$f":"COUNTIF(L7:L32,T22)","v":2},{"$f":"U22/(W4-U20)","v":9.5238095238095233E-2},{"$f":"IF(V22=0,0,(V22*((LOG(V22))/LOG(2))))","v":-0.32307784978845333},null,{"$f":"N22","v":2222},{"$f":"COUNTIF(L33:L57,Y22)","v":0},{"$f":"Z22/(AB4-Z20)","v":0},{"$f":"IF(AA22=0,0,(AA22*((LOG(AA22))/LOG(2))))","v":0},null,{"$f":"N22","v":2222},{"$f":"COUNTIF(L58:L83,AD22)","v":2},{"$f":"AE22/(AG4-AE20)","v":9.0909090909090912E-2},{"$f":"IF(AF22=0,0,(AF22*((LOG(AF22))/LOG(2))))","v":-0.31449378351248153},null,{"$f":"N22","v":2222},{"$f":"COUNTIF(L84:L109,AI22)","v":3},{"$f":"AJ22/(AL4-AJ20)","v":0.13043478260869565},{"$f":"IF(AK22=0,0,(AK22*((LOG(AK22))/LOG(2))))","v":-0.3832955811307639},null,{"$f":"N22","v":2222},{"$f":"COUNTIF(L110:L134,AN22)","v":3},{"$f":"AO22/(AQ4-AO20)","v":0.125},{"$f":"IF(AP22=0,0,(AP22*((LOG(AP22))/LOG(2))))","v":-0.375},null,{"$f":"N22","v":2222},{"$f":"COUNTIF(L135:L160,AS22)","v":2},{"$f":"AT22/(AV4-AT20)","v":9.0909090909090912E-2},{"$f":"IF(AU22=0,0,(AU22*((LOG(AU22))/LOG(2))))","v":-0.31449378351248153}]
[21,2888,21,2914,11,2923,21,2935,null,null,0,2212,null,null,null,{"$f":"SUM(P7:P22)","v":1},{"$f":"-SUM(Q7:Q22)","v":3.8289948915772865},null,null,null,null,{"$f":"SUM(V7:V22)","v":1},{"$f":"-SUM(W7:W22)","v":3.5944656369614525},null,null,null,{"$f":"SUM(AA7:AA22)","v":1},{"$f":"-SUM(AB7:AB22)","v":3.0488840705376359},null,null,null,{"$f":"SUM(AF7:AF22)","v":1},{"$f":"-SUM(AG7:AG22)","v":3.2089873002588001},null,null,null,{"$f":"SUM(AK7:AK22)","v":1},{"$f":"-SUM(AL7:AL22)","v":2.9966308482846755},null,null,null,{"$f":"SUM(AP7:AP22)","v":1},{"$f":"-SUM(AQ7:AQ22)","v":3.340199876515856},null,null,null,{"$f":"SUM(AU7:AU22)","v":1},{"$f":"-SUM(AV7:AV22)","v":3.1701348924281936}]
[21,3059,12,3076,24,3089,23,3097,null,null,0,2122,null,null,null,"U=",{"$f":"Q23/(LOG(Q4)/LOG(2))","v":0.52691721025991922},null,null,null,null,"U1=",{"$f":"W23/(LOG(W4)/LOG(2))","v":0.76470837889672483},null,null,null,"U2=",{"$f":"AB23/(LOG(AB4)/LOG(2))","v":0.65654144873197251},null,null,null,"U3=",{"$f":"AG23/(LOG(AG4)/LOG(2))","v":0.68269938403292096},null,null,null,"U4=",{"$f":"AL23/(LOG(AL4)/LOG(2))","v":0.63752138692883165},null,null,null,"U5=",{"$f":"AQ23/(LOG(AQ4)/LOG(2))","v":0.71927289304751063},null,null,null,"U6=",{"$f":"AV23/(LOG(AV4)/LOG(2))","v":0.67443368759591371}]
[12,3222,14,3254,24,3264,14,3289,null,null,0,1121]
[21,3405,12,3433,13,3458,14,3495,null,null,0,2111]
[12,3627,23,3637,13,3668,23,3686,null,null,0,1212,null,"Total Target Seq"]
[12,3817,14,3852,13,3903,23,3941,null,null,0,1112,null,{"$f":"COUNTIF(L7:L160,G3)","v":17},null,26,25,26,26,25,26]
[12,4043,14,4048,13,4069,23,4081,null,null,0,1112,null,null,null,"% of reinforcement given in 6 equal intervals based on number of trials "]
[21,4195,12,4213,24,4222,23,4233,null,null,0,2122,null,null,null,"%_1","%_2","%_3","%_4","%_5","%_6"]
[12,4343,23,4353,13,4362,23,4383,null,null,0,1212,null,null,"target sequence",{"$f":"$G$3","v":2212},{"$f":"$G$3","v":2212},{"$f":"$G$3","v":2212},{"$f":"$G$3","v":2212},{"$f":"$G$3","v":2212},{"$f":"$G$3","v":2212}]
[21,4515,12,4525,13,4544,23,4553,null,null,0,2112,null,null,"total reinforcement",{"$f":"U20","v":5},{"$f":"Z20","v":0},{"$f":"AE20","v":4},{"$f":"AJ20","v":3},{"$f":"AO20","v":1},{"$f":"AT20","v":4}]
[12,4672,14,4691,13,4712,23,4722,null,null,0,1112,null,null,"% target"]
[21,4833,12,4842,24,4851,14,4871,null,null,0,2121,null,null,"CCRF"]
[21,4972,12,4981,24,4993,14,5000,null,null,0,2121,null,null,"% CCRf"]
[12,5100,14,5119,13,5148,14,5177,null,null,0,1111,null,null,"average response rate",{"$f":"H32/P28","v":175.11538461538461},{"$f":"(H57-H32)/Q28","v":157.72},{"$f":"(H83-H57)/R28","v":156.15384615384616},{"$f":"(H109-H83)/S28","v":156.15384615384616},{"$f":"(H134-H109)/T28","v":142.44},{"$f":"(H160-H134)/U28","v":143.38461538461539}]
[12,5281,14,5287,13,5301,23,5311,null,null,0,1112]
[12,5413,14,5422,24,5433,14,5446,null,null,0,1121]
[21,5550,12,5559,24,5570,14,5582,null,null,0,2121]
[12,5707,14,5727,13,5758,14,5788,null,null,0,1111]
[12,5888,23,5898,13,5908,14,5935,null,null,0,1211]
[12,6034,14,6040,13,6048,23,6059,null,null,0,1112]
[12,6182,23,6192,24,6207,14,6216,null,null,0,1221]
[21,6323,21,6336,22,6351,14,6361,null,null,0,2221]
[12,6464,14,6477,24,6491,14,6504,null,null,0,1121]
[21,6610,21,6623,22,6634,14,6648,null,null,0,2221]
[12,6761,23,6784,24,6808,14,6816,null,null,0,1221]
[21,6923,21,6936,22,6948,14,6975,null,null,0,2221]
[21,7076,12,7087,24,7096,14,7116,null,null,0,2121]
[21,7215,12,7256,13,7283,23,7291,null,null,0,2112]
[12,7404,23,7422,24,7436,14,7454,null,null,0,1221]
[21,7558,21,7574,11,7584,12,7622,null,null,0,2211]
[21,7732,21,7740,11,7768,12,7793,null,null,0,2211]
[21,7899,21,7913,22,7923,14,7932,null,null,0,2221]
[21,8047,12,8056,13,8091,23,8111,null,null,0,2112]
[21,8222,21,8234,22,8245,14,8296,null,null,0,2221]
[21,8404,12,8448,13,8475,23,8496,null,null,0,2112]
[21,8605,21,8614,22,8630,23,8639,null,null,0,2222]
[12,8758,14,8768,24,8782,14,8792,null,null,0,1121]
[21,8898,12,8926,24,8936,14,8945,null,null,0,2121]
[12,9075,14,9104,13,9135,23,9146,null,null,0,1112]
[21,9282,12,9291,24,9303,14,9325,null,null,0,2121]
[12,9436,14,9441,24,9455,14,9463,null,null,0,1121]
[12,9578,23,9586,13,9596,14,9625,null,null,0,1211]
[12,9742,14,9747,13,9755,23,9776,null,null,0,1112]
[21,9879,21,9892,11,9903,12,9908,null,null,0,2211]
[21,10014,21,10034,11,10041,21,10060,null,null,0,2212]
[21,10155,21,10169,11,10177,12,10195,null,null,0,2211]
[21,10298,21,10331,22,10343,23,10364,null,null,0,2222]
[12,10484,14,10489,13,10509,14,10551,null,null,0,1111]
[21,10665,21,10686,11,10695,21,10704,null,null,0,2212]
[12,10832,23,10842,24,10854,14,10863,null,null,0,1221]
[12,10961,14,10983,24,10993,14,11002,null,null,0,1121]
[12,11106,23,11122,13,11130,14,11151,null,null,0,1211]
[12,11248,14,11257,13,11262,14,11279,null,null,0,1111]
[21,11396,12,11405,24,11434,23,11451,null,null,0,2122]
[21,11568,12,11585,24,11605,14,11623,null,null,0,2121]
[12,11764,23,11778,24,11813,14,11823,null,null,0,1221]
[21,11923,12,11945,24,11963,14,11987,null,null,0,2121]
[12,12101,14,12107,13,12116,23,12139,null,null,0,1112]
[21,12250,21,12258,11,12284,21,12301,null,null,0,2212]
[21,12398,21,12415,11,12425,21,12434,null,null,0,2212]
[21,12525,12,12535,13,12541,23,12556,null,null,0,2112]
[12,12745,23,12755,24,12777,14,12795,null,null,0,1221]
[21,12896,12,12907,24,12924,23,12945,null,null,0,2122]
[12,13037,14,13045,13,13050,23,13060,null,null,0,1112]
[21,13175,12,13184,24,13197,23,13204,null,null,0,2122]
[21,13326,12,13344,24,13357,23,13381,null,null,0,2122]
[12,13486,23,13495,24,13504,23,13512,null,null,0,1222]
[12,13617,14,13626,24,13640,23,13649,null,null,0,1122]
[12,13755,14,13760,13,13769,23,13779,null,null,0,1112]
[21,13880,12,13889,24,13899,14,13912,null,null,0,2121]
[21,14010,12,14019,24,14052,14,14065,null,null,0,2121]
[21,14170,12,14179,24,14192,23,14200,null,null,0,2122]
[21,14309,21,14329,11,14361,21,14374,null,null,0,2212]
[12,14477,14,14482,13,14517,23,14530,null,null,0,1112]
[21,14646,12,14654,24,14697,14,14719,null,null,0,2121]
[21,14834,12,14862,24,14876,23,14891,null,null,0,2122]
[21,15007,21,15021,22,15039,23,15053,null,null,0,2222]
[21,15173,21,15199,22,15213,14,15224,null,null,0,2221]
[21,15337,12,15349,24,15358,14,15395,null,null,0,2121]
[21,15499,21,15517,11,15534,21,15595,null,null,0,2212]
[12,15700,23,15709,24,15721,23,15737,null,null,0,1222]
[21,15844,21,15861,22,15869,14,15889,null,null,0,2221]
[21,15993,21,16006,22,16014,23,16023,null,null,0,2222]
[12,16131,14,16136,24,16150,14,16172,null,null,0,1121]
[12,16273,14,16278,24,16301,23,16310,null,null,0,1122]
[21,16415,21,16428,22,16446,23,16460,null,null,0,2222]
[21,16563,21,16578,11,16595,21,16616,null,null,0,2212]
[12,16714,14,16719,13,16726,14,16733,null,null,0,1111]
[21,16828,21,16837,22,16855,23,16871,null,null,0,2222]
[12,16970,23,16979,24,16993,23,17002,null,null,0,1222]
[21,17104,21,17121,22,17132,23,17148,null,null,0,2222]
[21,17257,21,17274,22,17286,14,17300,null,null,0,2221]
[21,17404,12,17416,13,17420,14,17428,null,null,0,2111]
[21,17530,12,17540,24,17550,23,17559,null,null,0,2122]
[21,17664,12,17674,24,17683,23,17693,null,null,0,2122]
[21,17798,12,17806,24,17816,23,17825,null,null,0,2122]
[12,17947,23,17976,13,17989,23,18011,null,null,0,1212]
[21,18125,21,18142,22,18152,14,18169,null,null,0,2221]
[12,18278,14,18282,13,18290,23,18308,null,null,0,1112]
[12,18441,14,18445,24,18464,23,18502,null,null,0,1122]
[21,18614,12,18625,24,18634,23,18670,null,null,0,2122]
[21,18776,21,18800,22,18810,23,18838,null,null,0,2222]
[21,18942,12,18956,13,18962,14,18970,null,null,0,2111]
[12,19086,23,19095,24,19104,14,19116,null,null,0,1221]
[21,19220,12,19228,24,19253,14,19266,null,null,0,2121]
[21,19381,21,19390,11,19412,21,19425,null,null,0,2212]
[12,19523,14,19529,13,19534,14,19539,null,null,0,1111]
[12,19637,14,19642,13,19647,23,19665,null,null,0,1112]
[21,19769,12,19779,13,19783,23,19802,null,null,0,2112]
[21,19898,12,19908,13,19912,14,19918,null,null,0,2111]
[12,20021,14,20025,13,20032,14,20038,null,null,0,1111]
[21,20147,12,20156,24,20166,23,20177,null,null,0,2122]
[21,20276,12,20286,13,20291,14,20299,null,null,0,2111]
[21,20410,12,20421,24,20450,14,20463,null,null,0,2121]
[21,20570,12,20579,24,20589,23,20598,null,null,0,2122]
[21,20695,21,20713,11,20723,21,20732,null,null,0,2212]
[21,20832,21,20846,11,20855,21,20876,null,null,0,2212]
[12,20975,14,20982,13,20988,23,21002,null,null,0,1112]
[21,21119,12,21131,24,21141,23,21150,null,null,0,2122]
[21,21290,21,21298,22,21307,23,21315,null,null,0,2222]
[21,21423,12,21432,13,21437,14,21445,null,null,0,2111]
[21,21553,12,21565,24,21583,14,21603,null,null,0,2121]
[21,21711,12,21720,13,21725,14,21734,null,null,0,2111]
[21,21841,12,21852,13,21860,14,21890,null,null,0,2111]
[12,22008,14,22013,13,22018,23,22032,null,null,0,1112]
[21,22135,12,22144,13,22149,23,22175,null,null,0,2112]
[21,22289,21,22312,22,22320,14,22332,null,null,0,2221]
[12,22442,14,22447,24,22460,23,22478,null,null,0,1122]
[12,22587,14,22593,24,22602,23,22611,null,null,0,1122]
[12,22721,14,22726,13,22733,14,22742,null,null,0,1111]
[12,22846,14,22851,13,22856,14,22864,null,null,0,1111]
[21,22980,12,22989,24,22999,23,23011,null,null,0,2122]
[21,23110,12,23119,13,23125,14,23133,null,null,0,2111]
[21,23237,21,23253,11,23265,21,23278,null,null,0,2212]
[21,23379,21,23397,11,23406,21,23438,null,null,0,2212]
[21,23540,21,23557,22,23572,23,23588,null,null,0,2222]
[21,23686,12,23698,13,23703,23,23742,null,null,0,2112]
[12,23856,23,23866,24,23878,14,23905,null,null,0,1221]

{"sheet":"!N107930.095","index":9,"n_rows":155,"n_cols":48,"rows_kept":155,"cut":false,"hidden":false,"merged":[[4,39,4,42],[5,39,5,40],[4,44,4,47],[5,44,5,45],[4,24,4,27],[5,24,5,25],[4,29,4,32],[5,29,5,30],[4,34,4,37],[5,34,5,35],[1,1,1,2],[5,13,5,14],[26,13,26,14],[27,13,27,14],[4,19,4,22],[5,19,5,20]]}
["Report for:!N107930.095"]
["Date:","<date>"]
["Hen:","<hen>",null,null,null,"Correct Sequence",{"$f":"Start!J2","v":2212},null,null,null,null,null,null,null,null,"Total Sequences in Data",{"$f":"4994-COUNTBLANK(L7:L5000)","v":149},null,null,null,null,"Total Sequences in Block Data",{"$f":"COUNTA(L7:L31)","v":25},null,null,null,"Total Sequences in Block Data",{"$f":"COUNTA(L32:L56)","v":25},null,null,null,"Total Sequences in Block Data",{"$f":"COUNTA(L57:L80)","v":24},null,null,null,"Total Sequences in Block Data",{"$f":"COUNTA(L81:L105)","v":25},null,null,null,"Total Sequences in Block Data",{"$f":"COUNTA(L106:L130)","v":25},null,null,null,"Total Sequences in Block Data",{"$f":"COUNTA(L131:L155)","v":25}]
[null,null,null,null,null,null,null,null,null,null,null,null,null,null,null,"Total Sequences in Summary",{"$f":"SUM(O7:O22)","v":149},null,null,null,null,"Total Sequences in Block Summary",{"$f":"SUM(U7:U22)","v":25},null,null,null,"Total Sequences in Block Summary",{"$f":"SUM(Z7:Z22)","v":25},null,null,null,"Total Sequences in Block Summary",{"$f":"SUM(AE7:AE22)","v":24},null,null,null,"Total Sequences in Block Summary",{"$f":"SUM(AJ7:AJ22)","v":25},null,null,null,"Total Sequences in Block Summary",{"$f":"SUM(AO7:AO22)","v":25},null,null,null,"Total Sequences in Block Summary",{"$f":"SUM(AT7:AT22)","v":25}]
[null,null,null,null,null,null,null,null,null,null,null,null,null,null,null,null,null,null,null,"Block 1",null,null,null,null,"Block 2",null,null,null,null,"Block 3",null,null,null,null,"Block 4",null,null,null,null,"Block 5",null,null,null,null,"Block 6"]
["Sequence\nComponent\n1","Time\n1","Sequence\nComponent\n2","Time\n2","Sequence\nComponent\n3","Time\n3","Sequence\nComponent\n4","Time\n4","Sequence\nComponent\n5","Time\n5","Correct?\n0=No 1=Yes","Sequence",null,"Frequency",null,"Relative Frequency","Variability",null,null,"Frequency",null,"Relative Frequency","Variability",null,"Frequency",null,"Relative Frequency","Variability",null,"Frequency",null,"Relative Frequency","Variability",null,"Frequency",null,"Relative Frequency","Variability",null,"Frequency",null,"Relative Frequency","Variability",null,"Frequency",null,"Relative Frequency","Variability"]
[21,20,12,46,24,78,14,91,null,null,0,2121,null,1111,{"$f":"COUNTIF($L$7:$L$500,N7)","v":1},{"$f":"O7/$Q$4","v":6.7114093959731542E-3},{"$f":"IF(P7=0,0,(P7*((LOG(P7))/LOG(2))))","v":-4.8450795439343365E-2},null,null,{"$f":"N7","v":1111},{"$f":"COUNTIF(L7:L31,T7)","v":0},{"$f":"U7/(W4-U20)","v":0},{"$f":"IF(V7=0,0,(V7*((LOG(V7))/LOG(2))))","v":0},null,{"$f":"N7","v":1111},{"$f":"COUNTIF(L32:L56,Y7)","v":0},{"$f":"Z7/(AB4-Z20)","v":0},{"$f":"IF(AA7=0,0,(AA7*((LOG(AA7))/LOG(2))))","v":0},null,{"$f":"N7","v":1111},{"$f":"COUNTIF(L57:L80,AD7)","v":1},{"$f":"AE7/(AG4-AE20)","v":4.5454545454545456E-2},{"$f":"IF(AF7=0,0,(AF7*((LOG(AF7))/LOG(2))))","v":-0.20270143721078623},null,{"$f":"N7","v":1111},{"$f":"COUNTIF(L81:L105,AI7)","v":0},{"$f":"AJ7/(AL4-AJ20)","v":0},{"$f":"IF(AK7=0,0,(AK7*((LOG(AK7))/LOG(2))))","v":0},null,{"$f":"N7","v":1111},{"$f":"COUNTIF(L106:L130,AN7)","v":0},{"$f":"AO7/(AQ4-AO20)","v":0},{"$f":"IF(AP7=0,0,(AP7*((LOG(AP7))/LOG(2))))","v":0},null,{"$f":"N7","v":1111},{"$f":"COUNTIF(L131:L155,AS7)","v":0},{"$f":"AT7/(AV4-AT20)","v":0},{"$f":"IF(AU7=0,0,(AU7*((LOG(AU7))/LOG(2))))","v":0}]
[12,235,14,269,24,295,23,318,null,null,0,1122,null,1112,{"$f":"COUNTIF($L$7:$L$500,N8)","v":12},{"$f":"O8/$Q$4","v":8.0536912751677847E-2},{"$f":"IF(P8=0,0,(P8*((LOG(P8))/LOG(2))))","v":-0.29268773313350377},null,null,{"$f":"N8","v":1112},{"$f":"COUNTIF(L7:L31,T8)","v":2},{"$f":"U8/(W4-U20)","v":0.11764705882352941},{"$f":"IF(V8=0,0,(V8*((LOG(V8))/LOG(2))))","v":-0.36323092250003997},null,{"$f":"N8","v":1112},{"$f":"COUNTIF(L32:L56,Y8)","v":1},{"$f":"Z8/(AB4-Z20)","v":4.7619047619047616E-2},{"$f":"IF(AA8=0,0,(AA8*((LOG(AA8))/LOG(2))))","v":-0.20915797251327431},null,{"$f":"N8","v":1112},{"$f":"COUNTIF(L57:L80,AD8)","v":0},{"$f":"AE8/(AG4-AE20)","v":0},{"$f":"IF(AF8=0,0,(AF8*((LOG(AF8))/LOG(2))))","v":0},null,{"$f":"N8","v":1112},{"$f":"COUNTIF(L81:L105,AI8)","v":3},{"$f":"AJ8/(AL4-AJ20)","v":0.12},{"$f":"IF(AK8=0,0,(AK8*((LOG(AK8))/LOG(2))))","v":-0.36706724268642821},null,{"$f":"N8","v":1112},{"$f":"COUNTIF(L106:L130,AN8)","v":1},{"$f":"AO8/(AQ4-AO20)","v":4.5454545454545456E-2},{"$f":"IF(AP8=0,0,(AP8*((LOG(AP8))/LOG(2))))","v":-0.20270143721078623},null,{"$f":"N8","v":1112},{"$f":"COUNTIF(L131:L155,AS8)","v":5},{"$f":"AT8/(AV4-AT20)","v":0.20833333333333334},{"$f":"IF(AU8=0,0,(AU8*((LOG(AU8))/LOG(2))))","v":-0.47146550121537367}]
[12,431,23,440,24,449,14,478,null,null,0,1221,null,1121,{"$f":"COUNTIF($L$7:$L$500,N9)","v":3},{"$f":"O9/$Q$4","v":2.0134228187919462E-2},{"$f":"IF(P9=0,0,(P9*((LOG(P9))/LOG(2))))","v":-0.11344038965921487},null,null,{"$f":"N9","v":1121},{"$f":"COUNTIF(L7:L31,T9)","v":0},{"$f":"U9/(W4-U20)","v":0},{"$f":"IF(V9=0,0,(V9*((LOG(V9))/LOG(2))))","v":0},null,{"$f":"N9","v":1121},{"$f":"COUNTIF(L32:L56,Y9)","v":2},{"$f":"Z9/(AB4-Z20)","v":9.5238095238095233E-2},{"$f":"IF(AA9=0,0,(AA9*((LOG(AA9))/LOG(2))))","v":-0.32307784978845333},null,{"$f":"N9","v":1121},{"$f":"COUNTIF(L57:L80,AD9)","v":0},{"$f":"AE9/(AG4-AE20)","v":0},{"$f":"IF(AF9=0,0,(AF9*((LOG(AF9))/LOG(2))))","v":0},null,{"$f":"N9","v":1121},{"$f":"COUNTIF(L81:L105,AI9)","v":0},{"$f":"AJ9/(AL4-AJ20)","v":0},{"$f":"IF(AK9=0,0,(AK9*((LOG(AK9))/LOG(2))))","v":0},null,{"$f":"N9","v":1121},{"$f":"COUNTIF(L106:L130,AN9)","v":0},{"$f":"AO9/(AQ4-AO20)","v":0},{"$f":"IF(AP9=0,0,(AP9*((LOG(AP9))/LOG(2))))","v":0},null,{"$f":"N9","v":1121},{"$f":"COUNTIF(L131:L155,AS9)","v":1},{"$f":"AT9/(AV4-AT20)","v":4.1666666666666664E-2},{"$f":"IF(AU9=0,0,(AU9*((LOG(AU9))/LOG(2))))","v":-0.19104010419671485}]
[21,581,12,641,13,690,23,712,null,null,0,2112,null,1122,{"$f":"COUNTIF($L$7:$L$500,N10)","v":6},{"$f":"O10/$Q$4","v":4.0268456375838924E-2},{"$f":"IF(P10=0,0,(P10*((LOG(P10))/LOG(2))))","v":-0.18661232294259081},null,null,{"$f":"N10","v":1122},{"$f":"COUNTIF(L7:L31,T10)","v":1},{"$f":"U10/(W4-U20)","v":5.8823529411764705E-2},{"$f":"IF(V10=0,0,(V10*((LOG(V10))/LOG(2))))","v":-0.24043899066178465},null,{"$f":"N10","v":1122},{"$f":"COUNTIF(L32:L56,Y10)","v":3},{"$f":"Z10/(AB4-Z20)","v":0.14285714285714285},{"$f":"IF(AA10=0,0,(AA10*((LOG(AA10))/LOG(2))))","v":-0.40105070315108626},null,{"$f":"N10","v":1122},{"$f":"COUNTIF(L57:L80,AD10)","v":1},{"$f":"AE10/(AG4-AE20)","v":4.5454545454545456E-2},{"$f":"IF(AF10=0,0,(AF10*((LOG(AF10))/LOG(2))))","v":-0.20270143721078623},null,{"$f":"N10","v":1122},{"$f":"COUNTIF(L81:L105,AI10)","v":1},{"$f":"AJ10/(AL4-AJ20)","v":0.04},{"$f":"IF(AK10=0,0,(AK10*((LOG(AK10))/LOG(2))))","v":-0.18575424759098899},null,{"$f":"N10","v":1122},{"$f":"COUNTIF(L106:L130,AN10)","v":0},{"$f":"AO10/(AQ4-AO20)","v":0},{"$f":"IF(AP10=0,0,(AP10*((LOG(AP10))/LOG(2))))","v":0},null,{"$f":"N10","v":1122},{"$f":"COUNTIF(L131:L155,AS10)","v":0},{"$f":"AT10/(AV4-AT20)","v":0},{"$f":"IF(AU10=0,0,(AU10*((LOG(AU10))/LOG(2))))","v":0}]
[12,869,14,894,13,922,23,935,null,null,0,1112,null,1211,{"$f":"COUNTIF($L$7:$L$500,N11)","v":10},{"$f":"O11/$Q$4","v":6.7114093959731544E-2},{"$f":"IF(P11=0,0,(P11*((LOG(P11))/LOG(2))))","v":-0.26155976010569121},null,null,{"$f":"N11","v":1211},{"$f":"COUNTIF(L7:L31,T11)","v":0},{"$f":"U11/(W4-U20)","v":0},{"$f":"IF(V11=0,0,(V11*((LOG(V11))/LOG(2))))","v":0},null,{"$f":"N11","v":1211},{"$f":"COUNTIF(L32:L56,Y11)","v":1},{"$f":"Z11/(AB4-Z20)","v":4.7619047619047616E-2},{"$f":"IF(AA11=0,0,(AA11*((LOG(AA11))/LOG(2))))","v":-0.20915797251327431},null,{"$f":"N11","v":1211},{"$f":"COUNTIF(L57:L80,AD11)","v":3},{"$f":"AE11/(AG4-AE20)","v":0.13636363636363635},{"$f":"IF(AF11=0,0,(AF11*((LOG(AF11))/LOG(2))))","v":-0.39197306153401923},null,{"$f":"N11","v":1211},{"$f":"COUNTIF(L81:L105,AI11)","v":2},{"$f":"AJ11/(AL4-AJ20)","v":0.08},{"$f":"IF(AK11=0,0,(AK11*((LOG(AK11))/LOG(2))))","v":-0.29150849518197797},null,{"$f":"N11","v":1211},{"$f":"COUNTIF(L106:L130,AN11)","v":2},{"$f":"AO11/(AQ4-AO20)","v":9.0909090909090912E-2},{"$f":"IF(AP11=0,0,(AP11*((LOG(AP11))/LOG(2))))","v":-0.31449378351248153},null,{"$f":"N11","v":1211},{"$f":"COUNTIF(L131:L155,AS11)","v":2},{"$f":"AT11/(AV4-AT20)","v":8.3333333333333329E-2},{"$f":"IF(AU11=0,0,(AU11*((LOG(AU11))/LOG(2))))","v":-0.29874687506009634}]
[21,1055,21,1072,11,1081,21,1106,null,null,0,2212,null,1212,{"$f":"COUNTIF($L$7:$L$500,N12)","v":19},{"$f":"O12/$Q$4","v":0.12751677852348994},{"$f":"IF(P12=0,0,(P12*((LOG(P12))/LOG(2))))","v":-0.37888308143189897},null,null,{"$f":"N12","v":1212},{"$f":"COUNTIF(L7:L31,T12)","v":0},{"$f":"U12/(W4-U20)","v":0},{"$f":"IF(V12=0,0,(V12*((LOG(V12))/LOG(2))))","v":0},null,{"$f":"N12","v":1212},{"$f":"COUNTIF(L32:L56,Y12)","v":4},{"$f":"Z12/(AB4-Z20)","v":0.19047619047619047},{"$f":"IF(AA12=0,0,(AA12*((LOG(AA12))/LOG(2))))","v":-0.4556795091007162},null,{"$f":"N12","v":1212},{"$f":"COUNTIF(L57:L80,AD12)","v":0},{"$f":"AE12/(AG4-AE20)","v":0},{"$f":"IF(AF12=0,0,(AF12*((LOG(AF12))/LOG(2))))","v":0},null,{"$f":"N12","v":1212},{"$f":"COUNTIF(L81:L105,AI12)","v":3},{"$f":"AJ12/(AL4-AJ20)","v":0.12},{"$f":"IF(AK12=0,0,(AK12*((LOG(AK12))/LOG(2))))","v":-0.36706724268642821},null,{"$f":"N12","v":1212},{"$f":"COUNTIF(L106:L130,AN12)","v":5},{"$f":"AO12/(AQ4-AO20)","v":0.22727272727272727},{"$f":"IF(AP12=0,0,(AP12*((LOG(AP12))/LOG(2))))","v":-0.48579625539771243},null,{"$f":"N12","v":1212},{"$f":"COUNTIF(L131:L155,AS12)","v":7},{"$f":"AT12/(AV4-AT20)","v":0.29166666666666669},{"$f":"IF(AU12=0,0,(AU12*((LOG(AU12))/LOG(2))))","v":-0.51846887711020273}]
[21,1229,12,1238,24,1256,14,1265,null,null,0,2121,null,1221,{"$f":"COUNTIF($L$7:$L$500,N13)","v":10},{"$f":"O13/$Q$4","v":6.7114093959731544E-2},{"$f":"IF(P13=0,0,(P13*((LOG(P13))/LOG(2))))","v":-0.26155976010569121},null,null,{"$f":"N13","v":1221},{"$f":"COUNTIF(L7:L31,T13)","v":1},{"$f":"U13/(W4-U20)","v":5.8823529411764705E-2},{"$f":"IF(V13=0,0,(V13*((LOG(V13))/LOG(2))))","v":-0.24043899066178465},null,{"$f":"N13","v":1221},{"$f":"COUNTIF(L32:L56,Y13)","v":0},{"$f":"Z13/(AB4-Z20)","v":0},{"$f":"IF(AA13=0,0,(AA13*((LOG(AA13))/LOG(2))))","v":0},null,{"$f":"N13","v":1221},{"$f":"COUNTIF(L57:L80,AD13)","v":4},{"$f":"AE13/(AG4-AE20)","v":0.18181818181818182},{"$f":"IF(AF13=0,0,(AF13*((LOG(AF13))/LOG(2))))","v":-0.44716938520678134},null,{"$f":"N13","v":1221},{"$f":"COUNTIF(L81:L105,AI13)","v":2},{"$f":"AJ13/(AL4-AJ20)","v":0.08},{"$f":"IF(AK13=0,0,(AK13*((LOG(AK13))/LOG(2))))","v":-0.29150849518197797},null,{"$f":"N13","v":1221},{"$f":"COUNTIF(L106:L130,AN13)","v":2},{"$f":"AO13/(AQ4-AO20)","v":9.0909090909090912E-2},{"$f":"IF(AP13=0,0,(AP13*((LOG(AP13))/LOG(2))))","v":-0.31449378351248153},null,{"$f":"N13","v":1221},{"$f":"COUNTIF(L131:L155,AS13)","v":1},{"$f":"AT13/(AV4-AT20)","v":4.1666666666666664E-2},{"$f":"IF(AU13=0,0,(AU13*((LOG(AU13))/LOG(2))))","v":-0.19104010419671485}]
[21,1388,12,1406,13,1430,23,1439,null,null,0,2112,null,1222,{"$f":"COUNTIF($L$7:$L$500,N14)","v":4},{"$f":"O14/$Q$4","v":2.6845637583892617E-2},{"$f":"IF(P14=0,0,(P14*((LOG(P14))/LOG(2))))","v":-0.14011190658958825},null,null,{"$f":"N14","v":1222},{"$f":"COUNTIF(L7:L31,T14)","v":0},{"$f":"U14/(W4-U20)","v":0},{"$f":"IF(V14=0,0,(V14*((LOG(V14))/LOG(2))))","v":0},null,{"$f":"N14","v":1222},{"$f":"COUNTIF(L32:L56,Y14)","v":2},{"$f":"Z14/(AB4-Z20)","v":9.5238095238095233E-2},{"$f":"IF(AA14=0,0,(AA14*((LOG(AA14))/LOG(2))))","v":-0.32307784978845333},null,{"$f":"N14","v":1222},{"$f":"COUNTIF(L57:L80,AD14)","v":1},{"$f":"AE14/(AG4-AE20)","v":4.5454545454545456E-2},{"$f":"IF(AF14=0,0,(AF14*((LOG(AF14))/LOG(2))))","v":-0.20270143721078623},null,{"$f":"N14","v":1222},{"$f":"COUNTIF(L81:L105,AI14)","v":0},{"$f":"AJ14/(AL4-AJ20)","v":0},{"$f":"IF(AK14=0,0,(AK14*((LOG(AK14))/LOG(2))))","v":0},null,{"$f":"N14","v":1222},{"$f":"COUNTIF(L106:L130,AN14)","v":0},{"$f":"AO14/(AQ4-AO20)","v":0},{"$f":"IF(AP14=0,0,(AP14*((LOG(AP14))/LOG(2))))","v":0},null,{"$f":"N14","v":1222},{"$f":"COUNTIF(L131:L155,AS14)","v":1},{"$f":"AT14/(AV4-AT20)","v":4.1666666666666664E-2},{"$f":"IF(AU14=0,0,(AU14*((LOG(AU14))/LOG(2))))","v":-0.19104010419671485}]
[21,1544,21,1555,22,1593,14,1613,null,null,0,2221,null,2111,{"$f":"COUNTIF($L$7:$L$500,N15)","v":13},{"$f":"O15/$Q$4","v":8.7248322147651006E-2},{"$f":"IF(P15=0,0,(P15*((LOG(P15))/LOG(2))))","v":-0.30700318409512684},null,null,{"$f":"N15","v":2111},{"$f":"COUNTIF(L7:L31,T15)","v":2},{"$f":"U15/(W4-U20)","v":0.11764705882352941},{"$f":"IF(V15=0,0,(V15*((LOG(V15))/LOG(2))))","v":-0.36323092250003997},null,{"$f":"N15","v":2111},{"$f":"COUNTIF(L32:L56,Y15)","v":1},{"$f":"Z15/(AB4-Z20)","v":4.7619047619047616E-2},{"$f":"IF(AA15=0,0,(AA15*((LOG(AA15))/LOG(2))))","v":-0.20915797251327431},null,{"$f":"N15","v":2111},{"$f":"COUNTIF(L57:L80,AD15)","v":3},{"$f":"AE15/(AG4-AE20)","v":0.13636363636363635},{"$f":"IF(AF15=0,0,(AF15*((LOG(AF15))/LOG(2))))","v":-0.39197306153401923},null,{"$f":"N15","v":2111},{"$f":"COUNTIF(L81:L105,AI15)","v":3},{"$f":"AJ15/(AL4-AJ20)","v":0.12},{"$f":"IF(AK15=0,0,(AK15*((LOG(AK15))/LOG(2))))","v":-0.36706724268642821},null,{"$f":"N15","v":2111},{"$f":"COUNTIF(L106:L130,AN15)","v":3},{"$f":"AO15/(AQ4-AO20)","v":0.13636363636363635},{"$f":"IF(AP15=0,0,(AP15*((LOG(AP15))/LOG(2))))","v":-0.39197306153401923},null,{"$f":"N15","v":2111},{"$f":"COUNTIF(L131:L155,AS15)","v":1},{"$f":"AT15/(AV4-AT20)","v":4.1666666666666664E-2},{"$f":"IF(AU15=0,0,(AU15*((LOG(AU15))/LOG(2))))","v":-0.19104010419671485}]
[21,1713,21,1727,11,1744,21,1755,null,null,0,2212,null,2112,{"$f":"COUNTIF($L$7:$L$500,N16)","v":13},{"$f":"O16/$Q$4","v":8.7248322147651006E-2},{"$f":"IF(P16=0,0,(P16*((LOG(P16))/LOG(2))))","v":-0.30700318409512684},null,null,{"$f":"N16","v":2112},{"$f":"COUNTIF(L7:L31,T16)","v":4},{"$f":"U16/(W4-U20)","v":0.23529411764705882},{"$f":"IF(V16=0,0,(V16*((LOG(V16))/LOG(2))))","v":-0.49116772735302094},null,{"$f":"N16","v":2112},{"$f":"COUNTIF(L32:L56,Y16)","v":1},{"$f":"Z16/(AB4-Z20)","v":4.7619047619047616E-2},{"$f":"IF(AA16=0,0,(AA16*((LOG(AA16))/LOG(2))))","v":-0.20915797251327431},null,{"$f":"N16","v":2112},{"$f":"COUNTIF(L57:L80,AD16)","v":1},{"$f":"AE16/(AG4-AE20)","v":4.5454545454545456E-2},{"$f":"IF(AF16=0,0,(AF16*((LOG(AF16))/LOG(2))))","v":-0.20270143721078623},null,{"$f":"N16","v":2112},{"$f":"COUNTIF(L81:L105,AI16)","v":2},{"$f":"AJ16/(AL4-AJ20)","v":0.08},{"$f":"IF(AK16=0,0,(AK16*((LOG(AK16))/LOG(2))))","v":-0.29150849518197797},null,{"$f":"N16","v":2112},{"$f":"COUNTIF(L106:L130,AN16)","v":2},{"$f":"AO16/(AQ4-AO20)","v":9.0909090909090912E-2},{"$f":"IF(AP16=0,0,(AP16*((LOG(AP16))/LOG(2))))","v":-0.31449378351248153},null,{"$f":"N16","v":2112},{"$f":"COUNTIF(L131:L155,AS16)","v":3},{"$f":"AT16/(AV4-AT20)","v":0.125},{"$f":"IF(AU16=0,0,(AU16*((LOG(AU16))/LOG(2))))","v":-0.375}]
[21,1854,12,1875,13,1904,23,1946,null,null,0,2112,null,2121,{"$f":"COUNTIF($L$7:$L$500,N17)","v":18},{"$f":"O17/$Q$4","v":0.12080536912751678},{"$f":"IF(P17=0,0,(P17*((LOG(P17))/LOG(2))))","v":-0.36836498887488112},null,null,{"$f":"N17","v":2121},{"$f":"COUNTIF(L7:L31,T17)","v":2},{"$f":"U17/(W4-U20)","v":0.11764705882352941},{"$f":"IF(V17=0,0,(V17*((LOG(V17))/LOG(2))))","v":-0.36323092250003997},null,{"$f":"N17","v":2121},{"$f":"COUNTIF(L32:L56,Y17)","v":3},{"$f":"Z17/(AB4-Z20)","v":0.14285714285714285},{"$f":"IF(AA17=0,0,(AA17*((LOG(AA17))/LOG(2))))","v":-0.40105070315108626},null,{"$f":"N17","v":2121},{"$f":"COUNTIF(L57:L80,AD17)","v":4},{"$f":"AE17/(AG4-AE20)","v":0.18181818181818182},{"$f":"IF(AF17=0,0,(AF17*((LOG(AF17))/LOG(2))))","v":-0.44716938520678134},null,{"$f":"N17","v":2121},{"$f":"COUNTIF(L81:L105,AI17)","v":7},{"$f":"AJ17/(AL4-AJ20)","v":0.28000000000000003},{"$f":"IF(AK17=0,0,(AK17*((LOG(AK17))/LOG(2))))","v":-0.51422035496079388},null,{"$f":"N17","v":2121},{"$f":"COUNTIF(L106:L130,AN17)","v":0},{"$f":"AO17/(AQ4-AO20)","v":0},{"$f":"IF(AP17=0,0,(AP17*((LOG(AP17))/LOG(2))))","v":0},null,{"$f":"N17","v":2121},{"$f":"COUNTIF(L131:L155,AS17)","v":2},{"$f":"AT17/(AV4-AT20)","v":8.3333333333333329E-2},{"$f":"IF(AU17=0,0,(AU17*((LOG(AU17))/LOG(2))))","v":-0.29874687506009634}]
[21,2059,12,2093,13,2148,14,2193,null,null,0,2111,null,2122,{"$f":"COUNTIF($L$7:$L$500,N18)","v":11},{"$f":"O18/$Q$4","v":7.3825503355704702E-2},{"$f":"IF(P18=0,0,(P18*((LOG(P18))/LOG(2))))","v":-0.27756446926223827},null,null,{"$f":"N18","v":2122},{"$f":"COUNTIF(L7:L31,T18)","v":1},{"$f":"U18/(W4-U20)","v":5.8823529411764705E-2},{"$f":"IF(V18=0,0,(V18*((LOG(V18))/LOG(2))))","v":-0.24043899066178465},null,{"$f":"N18","v":2122},{"$f":"COUNTIF(L32:L56,Y18)","v":0},{"$f":"Z18/(AB4-Z20)","v":0},{"$f":"IF(AA18=0,0,(AA18*((LOG(AA18))/LOG(2))))","v":0},null,{"$f":"N18","v":2122},{"$f":"COUNTIF(L57:L80,AD18)","v":4},{"$f":"AE18/(AG4-AE20)","v":0.18181818181818182},{"$f":"IF(AF18=0,0,(AF18*((LOG(AF18))/LOG(2))))","v":-0.44716938520678134},null,{"$f":"N18","v":2122},{"$f":"COUNTIF(L81:L105,AI18)","v":0},{"$f":"AJ18/(AL4-AJ20)","v":0},{"$f":"IF(AK18=0,0,(AK18*((LOG(AK18))/LOG(2))))","v":0},null,{"$f":"N18","v":2122},{"$f":"COUNTIF(L106:L130,AN18)","v":5},{"$f":"AO18/(AQ4-AO20)","v":0.22727272727272727},{"$f":"IF(AP18=0,0,(AP18*((LOG(AP18))/LOG(2))))","v":-0.48579625539771243},null,{"$f":"N18","v":2122},{"$f":"COUNTIF(L131:L155,AS18)","v":1},{"$f":"AT18/(AV4-AT20)","v":4.1666666666666664E-2},{"$f":"IF(AU18=0,0,(AU18*((LOG(AU18))/LOG(2))))","v":-0.19104010419671485}]
[21,2308,21,2327,11,2368,21,2397,null,null,0,2212,null,2211,{"$f":"COUNTIF($L$7:$L$500,N19)","v":3},{"$f":"O19/$Q$4","v":2.0134228187919462E-2},{"$f":"IF(P19=0,0,(P19*((LOG(P19))/LOG(2))))","v":-0.11344038965921487},null,null,{"$f":"N19","v":2211},{"$f":"COUNTIF(L7:L31,T19)","v":0},{"$f":"U19/(W4-U20)","v":0},{"$f":"IF(V19=0,0,(V19*((LOG(V19))/LOG(2))))","v":0},null,{"$f":"N19","v":2211},{"$f":"COUNTIF(L32:L56,Y19)","v":0},{"$f":"Z19/(AB4-Z20)","v":0},{"$f":"IF(AA19=0,0,(AA19*((LOG(AA19))/LOG(2))))","v":0},null,{"$f":"N19","v":2211},{"$f":"COUNTIF(L57:L80,AD19)","v":0},{"$f":"AE19/(AG4-AE20)","v":0},{"$f":"IF(AF19=0,0,(AF19*((LOG(AF19))/LOG(2))))","v":0},null,{"$f":"N19","v":2211},{"$f":"COUNTIF(L81:L105,AI19)","v":2},{"$f":"AJ19/(AL4-AJ20)","v":0.08},{"$f":"IF(AK19=0,0,(AK19*((LOG(AK19))/LOG(2))))","v":-0.29150849518197797},null,{"$f":"N19","v":2211},{"$f":"COUNTIF(L106:L130,AN19)","v":1},{"$f":"AO19/(AQ4-AO20)","v":4.5454545454545456E-2},{"$f":"IF(AP19=0,0,(AP19*((LOG(AP19))/LOG(2))))","v":-0.20270143721078623},null,{"$f":"N19","v":2211},{"$f":"COUNTIF(L131:L155,AS19)","v":0},{"$f":"AT19/(AV4-AT20)","v":0},{"$f":"IF(AU19=0,0,(AU19*((LOG(AU19))/LOG(2))))","v":0}]
[21,2490,12,2500,13,2505,14,2528,null,null,0,2111,null,2212,{"$f":"COUNTIF($L$7:$L$500,N20)","v":18},{"$f":"O20/$Q$4","v":0.12080536912751678},{"$f":"IF(P20=0,0,(P20*((LOG(P20))/LOG(2))))","v":-0.36836498887488112},null,null,{"$f":"N20","v":2212},{"$f":"COUNTIF(L7:L31,T20)","v":8},null,null,null,{"$f":"N20","v":2212},{"$f":"COUNTIF(L32:L56,Y20)","v":4},null,null,null,{"$f":"N20","v":2212},{"$f":"COUNTIF(L57:L80,AD20)","v":2},null,null,null,{"$f":"N20","v":2212},{"$f":"COUNTIF(L81:L105,AI20)","v":0},null,null,null,{"$f":"N20","v":2212},{"$f":"COUNTIF(L106:L130,AN20)","v":3},null,null,null,{"$f":"N20","v":2212},{"$f":"COUNTIF(L131:L155,AS20)","v":1}]
[21,2641,21,2653,11,2682,21,2707,null,null,0,2212,null,2221,{"$f":"COUNTIF($L$7:$L$500,N21)","v":4},{"$f":"O21/$Q$4","v":2.6845637583892617E-2},{"$f":"IF(P21=0,0,(P21*((LOG(P21))/LOG(2))))","v":-0.14011190658958825},null,null,{"$f":"N21","v":2221},{"$f":"COUNTIF(L7:L31,T21)","v":2},{"$f":"U21/(W4-U20)","v":0.11764705882352941},{"$f":"IF(V21=0,0,(V21*((LOG(V21))/LOG(2))))","v":-0.36323092250003997},null,{"$f":"N21","v":2221},{"$f":"COUNTIF(L32:L56,Y21)","v":1},{"$f":"Z21/(AB4-Z20)","v":4.7619047619047616E-2},{"$f":"IF(AA21=0,0,(AA21*((LOG(AA21))/LOG(2))))","v":-0.20915797251327431},null,{"$f":"N21","v":2221},{"$f":"COUNTIF(L57:L80,AD21)","v":0},{"$f":"AE21/(AG4-AE20)","v":0},{"$f":"IF(AF21=0,0,(AF21*((LOG(AF21))/LOG(2))))","v":0},null,{"$f":"N21","v":2221},{"$f":"COUNTIF(L81:L105,AI21)","v":0},{"$f":"AJ21/(AL4-AJ20)","v":0},{"$f":"IF(AK21=0,0,(AK21*((LOG(AK21))/LOG(2))))","v":0},null,{"$f":"N21","v":2221},{"$f":"COUNTIF(L106:L130,AN21)","v":1},{"$f":"AO21/(AQ4-AO20)","v":4.5454545454545456E-2},{"$f":"IF(AP21=0,0,(AP21*((LOG(AP21))/LOG(2))))","v":-0.20270143721078623},null,{"$f":"N21","v":2221},{"$f":"COUNTIF(L131:L155,AS21)","v":0},{"$f":"AT21/(AV4-AT20)","v":0},{"$f":"IF(AU21=0,0,(AU21*((LOG(AU21))/LOG(2))))","v":0}]
[21,2812,21,2841,11,2859,21,2883,null,null,0,2212,null,2222,{"$f":"COUNTIF($L$7:$L$500,N22)","v":4},{"$f":"O22/$Q$4","v":2.6845637583892617E-2},{"$f":"IF(P22=0,0,(P22*((LOG(P22))/LOG(2))))","v":-0.14011190658958825},null,null,{"$f":"N22","v":2222},{"$f":"COUNTIF(L7:L31,T22)","v":2},{"$f":"U22/(W4-U20)","v":0.11764705882352941},{"$f":"IF(V22=0,0,(V22*((LOG(V22))/LOG(2))))","v":-0.36323092250003997},null,{"$f":"N22","v":2222},{"$f":"COUNTIF(L32:L56,Y22)","v":2},{"$f":"Z22/(AB4-Z20)","v":9.5238095238095233E-2},{"$f":"IF(AA22=0,0,(AA22*((LOG(AA22))/LOG(2))))","v":-0.32307784978845333},null,{"$f":"N22","v":2222},{"$f":"COUNTIF(L57:L80,AD22)","v":0},{"$f":"AE22/(AG4-AE20)","v":0},{"$f":"IF(AF22=0,0,(AF22*((LOG(AF22))/LOG(2))))","v":0},null,{"$f":"N22","v":2222},{"$f":"COUNTIF(L81:L105,AI22)","v":0},{"$f":"AJ22/(AL4-AJ20)","v":0},{"$f":"IF(AK22=0,0,(AK22*((LOG(AK22))/LOG(2))))","v":0},null,{"$f":"N22","v":2222},{"$f":"COUNTIF(L106:L130,AN22)","v":0},{"$f":"AO22/(AQ4-AO20)","v":0},{"$f":"IF(AP22=0,0,(AP22*((LOG(AP22))/LOG(2))))","v":0},null,{"$f":"N22","v":2222},{"$f":"COUNTIF(L131:L155,AS22)","v":0},{"$f":"AT22/(AV4-AT20)","v":0},{"$f":"IF(AU22=0,0,(AU22*((LOG(AU22))/LOG(2))))","v":0}]
[21,2977,21,2991,22,3028,23,3044,null,null,0,2222,null,null,null,{"$f":"SUM(P7:P22)","v":1.0000000000000002},{"$f":"-SUM(Q7:Q22)","v":3.7052707674481686},null,null,null,null,{"$f":"SUM(V7:V22)","v":1},{"$f":"-SUM(W7:W22)","v":3.028639311838575},null,null,null,{"$f":"SUM(AA7:AA22)","v":0.99999999999999989},{"$f":"-SUM(AB7:AB22)","v":3.2728043273346201},null,null,null,{"$f":"SUM(AF7:AF22)","v":1},{"$f":"-SUM(AG7:AG22)","v":2.9362600275315272},null,null,null,{"$f":"SUM(AK7:AK22)","v":1},{"$f":"-SUM(AL7:AL22)","v":2.9672103113389796},null,null,null,{"$f":"SUM(AP7:AP22)","v":1},{"$f":"-SUM(AQ7:AQ22)","v":2.915151234499247},null,null,null,{"$f":"SUM(AU7:AU22)","v":0.99999999999999989},{"$f":"-SUM(AV7:AV22)","v":2.9176286494293437}]
[21,3155,12,3191,24,3200,23,3232,null,null,0,2122,null,null,null,"U=",{"$f":"Q23/(LOG(Q4)/LOG(2))","v":0.51325450527243854},null,null,null,null,"U1=",{"$f":"W23/(LOG(W4)/LOG(2))","v":0.65218197723420357},null,null,null,"U2=",{"$f":"AB23/(LOG(AB4)/LOG(2))","v":0.7047600514720902},null,null,null,"U3=",{"$f":"AG23/(LOG(AG4)/LOG(2))","v":0.64041091439018116},null,null,null,"U4=",{"$f":"AL23/(LOG(AL4)/LOG(2))","v":0.63895396198367627},null,null,null,"U5=",{"$f":"AQ23/(LOG(AQ4)/LOG(2))","v":0.62774364996876908},null,null,null,"U6=",{"$f":"AV23/(LOG(AV4)/LOG(2))","v":0.62827713223627601}]
[21,3376,12,3393,13,3430,23,3456,null,null,0,2112]
[21,3584,21,3617,11,3626,21,3641,null,null,0,2212]
[21,3761,21,3777,22,3784,14,3792,null,null,0,2221,null,"Total Target Seq"]
[21,3890,21,3912,11,3944,21,3970,null,null,0,2212,null,{"$f":"COUNTIF(L7:L155,G3)","v":18},null,25,25,24,25,25,25]
[21,4070,21,4077,22,4093,23,4124,null,null,0,2222,null,null,null,"% of reinforcement given in 6 equal intervals based on number of trials "]
[21,4234,21,4245,11,4288,21,4329,null,null,0,2212,null,null,null,"%_1","%_2","%_3","%_4","%_5","%_6"]
[12,4428,14,4441,13,4467,23,4475,null,null,0,1112,null,null,"target sequence",{"$f":"$G$3","v":2212},{"$f":"$G$3","v":2212},{"$f":"$G$3","v":2212},{"$f":"$G$3","v":2212},{"$f":"$G$3","v":2212},{"$f":"$G$3","v":2212}]
[21,4580,21,4594,11,4601,21,4627,null,null,0,2212,null,null,"total reinforcement",{"$f":"U20","v":8},{"$f":"Z20","v":4},{"$f":"AE20","v":2},{"$f":"AJ20","v":0},{"$f":"AO20","v":3},{"$f":"AT20","v":1}]
[21,4741,21,4748,11,4757,21,4807,null,null,0,2212,null,null,"% target"]
[21,4921,21,4936,22,4952,23,4965,null,null,0,2222,null,null,"CCRF"]
[21,5091,21,5102,22,5111,23,5143,null,null,0,2222,null,null,"% CCRf"]
[21,5250,21,5262,11,5270,21,5279,null,null,0,2212,null,null,"average response rate",{"$f":"H31/P28","v":179},{"$f":"(H56-H31)/Q28","v":156.16},{"$f":"(H80-H56)/R28","v":161.95833333333334},{"$f":"(H105-H80)/S28","v":155.32},{"$f":"(H130-H105)/T28","v":159.68},{"$f":"(H155-H130)/U28","v":151.96}]
[12,5394,14,5413,24,5447,23,5456,null,null,0,1122]
[12,5561,14,5568,24,5576,14,5584,null,null,0,1121]
[12,5685,14,5691,24,5700,14,5709,null,null,0,1121]
[21,5817,21,5832,22,5839,14,5848,null,null,0,2221]
[12,5970,23,5994,13,6057,23,6066,null,null,0,1212]
[12,6197,23,6215,24,6238,23,6254,null,null,0,1222]
[12,6366,14,6383,24,6407,23,6415,null,null,0,1122]
[12,6530,23,6539,24,6548,23,6556,null,null,0,1222]
[12,6668,23,6677,13,6686,23,6702,null,null,0,1212]
[12,6810,23,6819,13,6826,23,6863,null,null,0,1212]
[21,6971,12,6979,13,6998,23,7027,null,null,0,2112]
[12,7134,23,7143,13,7151,23,7160,null,null,0,1212]
[12,7271,14,7288,24,7297,23,7309,null,null,0,1122]
[12,7425,14,7430,13,7438,23,7452,null,null,0,1112]
[21,7563,12,7571,24,7598,14,7608,null,null,0,2121]
[21,7725,12,7732,24,7766,14,7786,null,null,0,2121]
[21,7898,12,7920,24,7936,14,7954,null,null,0,2121]
[21,8054,12,8063,13,8073,14,8080,null,null,0,2111]
[12,8191,23,8200,13,8209,14,8237,null,null,0,1211]
[21,8340,21,8353,11,8362,21,8379,null,null,0,2212]
[12,8477,23,8485,13,8493,14,8519,null,null,0,1211]
[21,8642,12,8650,24,8662,23,8670,null,null,0,2122]
[21,8774,21,8787,11,8796,21,8819,null,null,0,2212]
[12,8937,14,8956,24,8982,23,8989,null,null,0,1122]
[21,9158,12,9167,24,9243,23,9250,null,null,0,2122]
[21,9363,12,9371,13,9405,23,9415,null,null,0,2112]
[12,9547,23,9559,24,9567,14,9591,null,null,0,1221]
[21,9692,12,9701,24,9708,14,9716,null,null,0,2121]
[12,9851,23,9860,24,9868,14,9901,null,null,0,1221]
[21,10016,12,10023,24,10031,14,10041,null,null,0,2121]
[12,10173,23,10181,24,10197,14,10209,null,null,0,1221]
[12,10314,23,10321,13,10329,14,10355,null,null,0,1211]
[21,10465,12,10473,13,10489,14,10530,null,null,0,2111]
[12,10655,23,10704,24,10713,23,10727,null,null,0,1222]
[12,10836,14,10844,13,10848,14,10856,null,null,0,1111]
[21,10961,12,10968,24,10976,23,10984,null,null,0,2122]
[21,11103,12,11110,13,11136,14,11182,null,null,0,2111]
[12,11299,23,11307,13,11316,14,11390,null,null,0,1211]
[21,11505,12,11513,24,11522,14,11538,null,null,0,2121]
[21,11659,12,11670,13,11675,14,11709,null,null,0,2111]
[21,11810,12,11818,24,11835,23,11851,null,null,0,2122]
[21,11952,12,11972,24,11988,14,12000,null,null,0,2121]
[21,12103,21,12111,11,12120,21,12128,null,null,0,2212]
[12,12233,23,12242,24,12250,14,12266,null,null,0,1221]
[12,12376,14,12391,13,12425,23,12452,null,null,0,1112]
[21,12561,12,12570,13,12590,23,12607,null,null,0,2112]
[21,12714,12,12730,24,12738,14,12747,null,null,0,2121]
[12,12856,23,12865,13,12874,23,12897,null,null,0,1212]
[12,13008,14,13025,24,13040,23,13056,null,null,0,1122]
[21,13159,12,13170,24,13181,14,13192,null,null,0,2121]
[21,13292,12,13300,13,13306,14,13313,null,null,0,2111]
[12,13428,14,13436,13,13444,23,13468,null,null,0,1112]
[21,13595,12,13604,24,13630,14,13661,null,null,0,2121]
[12,13772,23,13780,24,13788,14,13799,null,null,0,1221]
[21,13909,12,13917,24,13943,14,13979,null,null,0,2121]
[21,14096,12,14104,13,14137,14,14183,null,null,0,2111]
[21,14283,21,14306,11,14315,12,14339,null,null,0,2211]
[12,14462,23,14488,24,14497,14,14518,null,null,0,1221]
[21,14621,12,14637,24,14647,14,14656,null,null,0,2121]
[12,14758,23,14766,13,14774,23,14783,null,null,0,1212]
[12,14878,23,14889,13,14897,23,14923,null,null,0,1212]
[12,15037,23,15049,13,15059,14,15091,null,null,0,1211]
[12,15200,14,15205,13,15211,23,15224,null,null,0,1112]
[21,15328,21,15337,11,15346,12,15352,null,null,0,2211]
[21,15458,12,15470,13,15479,14,15487,null,null,0,2111]
[21,15596,12,15605,24,15656,14,15672,null,null,0,2121]
[12,15796,23,15815,13,15838,14,15882,null,null,0,1211]
[21,15981,12,15989,24,15999,14,16012,null,null,0,2121]
[21,16112,12,16127,13,16135,23,16149,null,null,0,2112]
[12,16257,23,16265,13,16273,23,16314,null,null,0,1212]
[12,16424,23,16434,13,16442,14,16472,null,null,0,1211]
[21,16569,21,16590,11,16609,21,16635,null,null,0,2212]
[21,16731,12,16749,24,16770,23,16778,null,null,0,2122]
[21,16886,12,16894,13,16910,23,16938,null,null,0,2112]
[21,17043,21,17061,11,17069,21,17081,null,null,0,2212]
[21,17199,12,17207,24,17231,23,17247,null,null,0,2122]
[21,17348,21,17359,22,17363,14,17376,null,null,0,2221]
[12,17484,23,17493,24,17502,14,17521,null,null,0,1221]
[12,17630,23,17639,13,17648,23,17668,null,null,0,1212]
[12,17782,23,17793,13,17810,23,17844,null,null,0,1212]
[12,17955,14,17960,13,17968,23,17989,null,null,0,1112]
[12,18113,23,18122,13,18139,23,18158,null,null,0,1212]
[21,18281,12,18288,13,18323,14,18392,null,null,0,2111]
[12,18512,23,18521,24,18537,14,18559,null,null,0,1221]
[21,18655,12,18665,13,18670,14,18676,null,null,0,2111]
[21,18772,12,18781,13,18789,14,18817,null,null,0,2111]
[12,18937,23,18954,13,18963,23,18999,null,null,0,1212]
[21,19115,12,19124,24,19140,23,19149,null,null,0,2122]
[21,19254,21,19263,11,19295,21,19313,null,null,0,2212]
[21,19419,12,19428,24,19440,23,19455,null,null,0,2122]
[21,19560,21,19570,11,19578,12,19611,null,null,0,2211]
[21,19729,12,19738,13,19775,23,19787,null,null,0,2112]
[12,19912,23,19929,13,19938,14,19986,null,null,0,1211]
[21,20084,12,20101,24,20132,23,20141,null,null,0,2122]
[12,20245,14,20253,13,20283,23,20298,null,null,0,1112]
[12,20397,14,20403,13,20408,23,20420,null,null,0,1112]
[12,20515,23,20524,13,20533,23,20541,null,null,0,1212]
[21,20661,12,20670,13,20714,23,20731,null,null,0,2112]
[12,20841,23,20850,13,20859,23,20872,null,null,0,1212]
[21,20979,12,20989,24,20997,23,21011,null,null,0,2122]
[12,21126,23,21136,24,21144,23,21152,null,null,0,1222]
[12,21270,23,21278,13,21287,23,21295,null,null,0,1212]
[12,21406,14,21416,13,21444,23,21458,null,null,0,1112]
[12,21561,23,21572,13,21585,23,21594,null,null,0,1212]
[21,21699,21,21715,11,21723,21,21732,null,null,0,2212]
[12,21855,23,21866,24,21883,14,21894,null,null,0,1221]
[12,22002,14,22019,13,22049,23,22064,null,null,0,1112]
[12,22171,23,22180,13,22188,14,22213,null,null,0,1211]
[21,22331,12,22338,24,22354,14,22362,null,null,0,2121]
[12,22484,23,22495,13,22515,23,22535,null,null,0,1212]
[21,22634,12,22642,13,22651,23,22660,null,null,0,2112]
[21,22779,12,22787,13,22811,23,22824,null,null,0,2112]
[12,22930,14,22938,24,22948,14,22956,null,null,0,1121]
[12,23068,23,23077,13,23086,23,23106,null,null,0,1212]
[12,23241,23,23273,13,23293,23,23308,null,null,0,1212]
[21,23418,12,23443,24,23453,14,23462,null,null,0,2121]
[21,23575,12,23584,13,23606,14,23640,null,null,0,2111]
[12,23765,23,23774,13,23783,14,23793,null,null,0,1211]
[12,23903,14,23911,13,23928,23,23940,null,null,null,1112]

{"sheet":"!N108A40.095","index":10,"n_rows":147,"n_cols":48,"rows_kept":147,"cut":false,"hidden":false,"merged":[[4,39,4,42],[5,39,5,40],[4,44,4,47],[5,44,5,45],[4,24,4,27],[5,24,5,25],[4,29,4,32],[5,29,5,30],[4,34,4,37],[5,34,5,35],[1,1,1,2],[5,13,5,14],[26,13,26,14],[27,13,27,14],[4,19,4,22],[5,19,5,20]]}
["Report for:!N108A40.095"]
["Date:","<date>"]
["Hen:","<hen>",null,null,null,"Correct Sequence",{"$f":"Start!J2","v":2212},null,null,null,null,null,null,null,null,"Total Sequences in Data",{"$f":"4994-COUNTBLANK(L7:L5000)","v":141},null,null,null,null,"Total Sequences in Block Data",{"$f":"COUNTA(L7:L30)","v":24},null,null,null,"Total Sequences in Block Data",{"$f":"COUNTA(L31:L53)","v":23},null,null,null,"Total Sequences in Block Data",{"$f":"COUNTA(L54:L77)","v":24},null,null,null,"Total Sequences in Block Data",{"$f":"COUNTA(L78:L100)","v":23},null,null,null,"Total Sequences in Block Data",{"$f":"COUNTA(L101:L124)","v":24},null,null,null,"Total Sequences in Block Data",{"$f":"COUNTA(L125:L147)","v":23}]
[null,null,null,null,null,null,null,null,null,null,null,null,null,null,null,"Total Sequences in Summary",{"$f":"SUM(O7:O22)","v":141},null,null,null,null,"Total Sequences in Block Summary",{"$f":"SUM(U7:U22)","v":24},null,null,null,"Total Sequences in Block Summary",{"$f":"SUM(Z7:Z22)","v":23},null,null,null,"Total Sequences in Block Summary",{"$f":"SUM(AE7:AE22)","v":24},null,null,null,"Total Sequences in Block Summary",{"$f":"SUM(AJ7:AJ22)","v":23},null,null,null,"Total Sequences in Block Summary",{"$f":"SUM(AO7:AO22)","v":24},null,null,null,"Total Sequences in Block Summary",{"$f":"SUM(AT7:AT22)","v":23}]
[null,null,null,null,null,null,null,null,null,null,null,null,null,null,null,null,null,null,null,"Block 1",null,null,null,null,"Block 2",null,null,null,null,"Block 3",null,null,null,null,"Block 4",null,null,null,null,"Block 5",null,null,null,null,"Block 6"]
["Sequence\nComponent\n1","Time\n1","Sequence\nComponent\n2","Time\n2","Sequence\nComponent\n3","Time\n3","Sequence\nComponent\n4","Time\n4","Sequence\nComponent\n5","Time\n5","Correct?\n0=No 1=Yes","Sequence",null,"Frequency",null,"Relative Frequency","Variability",null,null,"Frequency",null,"Relative Frequency","Variability",null,"Frequency",null,"Relative Frequency","Variability",null,"Frequency",null,"Relative Frequency","Variability",null,"Frequency",null,"Relative Frequency","Variability",null,"Frequency",null,"Relative Frequency","Variability",null,"Frequency",null,"Relative Frequency","Variability"]
[12,20,14,39,13,61,23,82,null,null,0,1112,null,1111,{"$f":"COUNTIF($L$7:$L$500,N7)","v":1},{"$f":"O7/$Q$4","v":7.0921985815602835E-3},{"$f":"IF(P7=0,0,(P7*((LOG(P7))/LOG(2))))","v":-5.0635115974459535E-2},null,null,{"$f":"N7","v":1111},{"$f":"COUNTIF(L7:L30,T7)","v":0},{"$f":"U7/(W4-U20)","v":0},{"$f":"IF(V7=0,0,(V7*((LOG(V7))/LOG(2))))","v":0},null,{"$f":"N7","v":1111},{"$f":"COUNTIF(L31:L53,Y7)","v":1},{"$f":"Z7/(AB4-Z20)","v":4.7619047619047616E-2},{"$f":"IF(AA7=0,0,(AA7*((LOG(AA7))/LOG(2))))","v":-0.20915797251327431},null,{"$f":"N7","v":1111},{"$f":"COUNTIF(L54:L77,AD7)","v":0},{"$f":"AE7/(AG4-AE20)","v":0},{"$f":"IF(AF7=0,0,(AF7*((LOG(AF7))/LOG(2))))","v":0},null,{"$f":"N7","v":1111},{"$f":"COUNTIF(L78:L100,AI7)","v":0},{"$f":"AJ7/(AL4-AJ20)","v":0},{"$f":"IF(AK7=0,0,(AK7*((LOG(AK7))/LOG(2))))","v":0},null,{"$f":"N7","v":1111},{"$f":"COUNTIF(L101:L124,AN7)","v":0},{"$f":"AO7/(AQ4-AO20)","v":0},{"$f":"IF(AP7=0,0,(AP7*((LOG(AP7))/LOG(2))))","v":0},null,{"$f":"N7","v":1111},{"$f":"COUNTIF(L125:L147,AS7)","v":0},{"$f":"AT7/(AV4-AT20)","v":0},{"$f":"IF(AU7=0,0,(AU7*((LOG(AU7))/LOG(2))))","v":0}]
[12,204,23,235,13,264,23,281,null,null,0,1212,null,1112,{"$f":"COUNTIF($L$7:$L$500,N8)","v":4},{"$f":"O8/$Q$4","v":2.8368794326241134E-2},{"$f":"IF(P8=0,0,(P8*((LOG(P8))/LOG(2))))","v":-0.14580287524535585},null,null,{"$f":"N8","v":1112},{"$f":"COUNTIF(L7:L30,T8)","v":2},{"$f":"U8/(W4-U20)","v":9.0909090909090912E-2},{"$f":"IF(V8=0,0,(V8*((LOG(V8))/LOG(2))))","v":-0.31449378351248153},null,{"$f":"N8","v":1112},{"$f":"COUNTIF(L31:L53,Y8)","v":0},{"$f":"Z8/(AB4-Z20)","v":0},{"$f":"IF(AA8=0,0,(AA8*((LOG(AA8))/LOG(2))))","v":0},null,{"$f":"N8","v":1112},{"$f":"COUNTIF(L54:L77,AD8)","v":0},{"$f":"AE8/(AG4-AE20)","v":0},{"$f":"IF(AF8=0,0,(AF8*((LOG(AF8))/LOG(2))))","v":0},null,{"$f":"N8","v":1112},{"$f":"COUNTIF(L78:L100,AI8)","v":1},{"$f":"AJ8/(AL4-AJ20)","v":0.05},{"$f":"IF(AK8=0,0,(AK8*((LOG(AK8))/LOG(2))))","v":-0.21609640474436814},null,{"$f":"N8","v":1112},{"$f":"COUNTIF(L101:L124,AN8)","v":1},{"$f":"AO8/(AQ4-AO20)","v":4.7619047619047616E-2},{"$f":"IF(AP8=0,0,(AP8*((LOG(AP8))/LOG(2))))","v":-0.20915797251327431},null,{"$f":"N8","v":1112},{"$f":"COUNTIF(L125:L147,AS8)","v":0},{"$f":"AT8/(AV4-AT20)","v":0},{"$f":"IF(AU8=0,0,(AU8*((LOG(AU8))/LOG(2))))","v":0}]
[21,392,12,422,24,432,14,452,null,null,0,2121,null,1121,{"$f":"COUNTIF($L$7:$L$500,N9)","v":8},{"$f":"O9/$Q$4","v":5.6737588652482268E-2},{"$f":"IF(P9=0,0,(P9*((LOG(P9))/LOG(2))))","v":-0.23486816183822942},null,null,{"$f":"N9","v":1121},{"$f":"COUNTIF(L7:L30,T9)","v":3},{"$f":"U9/(W4-U20)","v":0.13636363636363635},{"$f":"IF(V9=0,0,(V9*((LOG(V9))/LOG(2))))","v":-0.39197306153401923},null,{"$f":"N9","v":1121},{"$f":"COUNTIF(L31:L53,Y9)","v":0},{"$f":"Z9/(AB4-Z20)","v":0},{"$f":"IF(AA9=0,0,(AA9*((LOG(AA9))/LOG(2))))","v":0},null,{"$f":"N9","v":1121},{"$f":"COUNTIF(L54:L77,AD9)","v":3},{"$f":"AE9/(AG4-AE20)","v":0.14285714285714285},{"$f":"IF(AF9=0,0,(AF9*((LOG(AF9))/LOG(2))))","v":-0.40105070315108626},null,{"$f":"N9","v":1121},{"$f":"COUNTIF(L78:L100,AI9)","v":1},{"$f":"AJ9/(AL4-AJ20)","v":0.05},{"$f":"IF(AK9=0,0,(AK9*((LOG(AK9))/LOG(2))))","v":-0.21609640474436814},null,{"$f":"N9","v":1121},{"$f":"COUNTIF(L101:L124,AN9)","v":1},{"$f":"AO9/(AQ4-AO20)","v":4.7619047619047616E-2},{"$f":"IF(AP9=0,0,(AP9*((LOG(AP9))/LOG(2))))","v":-0.20915797251327431},null,{"$f":"N9","v":1121},{"$f":"COUNTIF(L125:L147,AS9)","v":0},{"$f":"AT9/(AV4-AT20)","v":0},{"$f":"IF(AU9=0,0,(AU9*((LOG(AU9))/LOG(2))))","v":0}]
[21,564,12,578,13,613,14,633,null,null,0,2111,null,1122,{"$f":"COUNTIF($L$7:$L$500,N10)","v":6},{"$f":"O10/$Q$4","v":4.2553191489361701E-2},{"$f":"IF(P10=0,0,(P10*((LOG(P10))/LOG(2))))","v":-0.19381229156075053},null,null,{"$f":"N10","v":1122},{"$f":"COUNTIF(L7:L30,T10)","v":2},{"$f":"U10/(W4-U20)","v":9.0909090909090912E-2},{"$f":"IF(V10=0,0,(V10*((LOG(V10))/LOG(2))))","v":-0.31449378351248153},null,{"$f":"N10","v":1122},{"$f":"COUNTIF(L31:L53,Y10)","v":3},{"$f":"Z10/(AB4-Z20)","v":0.14285714285714285},{"$f":"IF(AA10=0,0,(AA10*((LOG(AA10))/LOG(2))))","v":-0.40105070315108626},null,{"$f":"N10","v":1122},{"$f":"COUNTIF(L54:L77,AD10)","v":0},{"$f":"AE10/(AG4-AE20)","v":0},{"$f":"IF(AF10=0,0,(AF10*((LOG(AF10))/LOG(2))))","v":0},null,{"$f":"N10","v":1122},{"$f":"COUNTIF(L78:L100,AI10)","v":1},{"$f":"AJ10/(AL4-AJ20)","v":0.05},{"$f":"IF(AK10=0,0,(AK10*((LOG(AK10))/LOG(2))))","v":-0.21609640474436814},null,{"$f":"N10","v":1122},{"$f":"COUNTIF(L101:L124,AN10)","v":0},{"$f":"AO10/(AQ4-AO20)","v":0},{"$f":"IF(AP10=0,0,(AP10*((LOG(AP10))/LOG(2))))","v":0},null,{"$f":"N10","v":1122},{"$f":"COUNTIF(L125:L147,AS10)","v":0},{"$f":"AT10/(AV4-AT20)","v":0},{"$f":"IF(AU10=0,0,(AU10*((LOG(AU10))/LOG(2))))","v":0}]
[12,754,23,764,13,786,23,823,null,null,0,1212,null,1211,{"$f":"COUNTIF($L$7:$L$500,N11)","v":2},{"$f":"O11/$Q$4","v":1.4184397163120567E-2},{"$f":"IF(P11=0,0,(P11*((LOG(P11))/LOG(2))))","v":-8.7085834785798497E-2},null,null,{"$f":"N11","v":1211},{"$f":"COUNTIF(L7:L30,T11)","v":0},{"$f":"U11/(W4-U20)","v":0},{"$f":"IF(V11=0,0,(V11*((LOG(V11))/LOG(2))))","v":0},null,{"$f":"N11","v":1211},{"$f":"COUNTIF(L31:L53,Y11)","v":0},{"$f":"Z11/(AB4-Z20)","v":0},{"$f":"IF(AA11=0,0,(AA11*((LOG(AA11))/LOG(2))))","v":0},null,{"$f":"N11","v":1211},{"$f":"COUNTIF(L54:L77,AD11)","v":1},{"$f":"AE11/(AG4-AE20)","v":4.7619047619047616E-2},{"$f":"IF(AF11=0,0,(AF11*((LOG(AF11))/LOG(2))))","v":-0.20915797251327431},null,{"$f":"N11","v":1211},{"$f":"COUNTIF(L78:L100,AI11)","v":1},{"$f":"AJ11/(AL4-AJ20)","v":0.05},{"$f":"IF(AK11=0,0,(AK11*((LOG(AK11))/LOG(2))))","v":-0.21609640474436814},null,{"$f":"N11","v":1211},{"$f":"COUNTIF(L101:L124,AN11)","v":0},{"$f":"AO11/(AQ4-AO20)","v":0},{"$f":"IF(AP11=0,0,(AP11*((LOG(AP11))/LOG(2))))","v":0},null,{"$f":"N11","v":1211},{"$f":"COUNTIF(L125:L147,AS11)","v":0},{"$f":"AT11/(AV4-AT20)","v":0},{"$f":"IF(AU11=0,0,(AU11*((LOG(AU11))/LOG(2))))","v":0}]
[21,922,21,930,11,973,12,1008,null,null,0,2211,null,1212,{"$f":"COUNTIF($L$7:$L$500,N12)","v":11},{"$f":"O12/$Q$4","v":7.8014184397163122E-2},{"$f":"IF(P12=0,0,(P12*((LOG(P12))/LOG(2))))","v":-0.28710153951330819},null,null,{"$f":"N12","v":1212},{"$f":"COUNTIF(L7:L30,T12)","v":2},{"$f":"U12/(W4-U20)","v":9.0909090909090912E-2},{"$f":"IF(V12=0,0,(V12*((LOG(V12))/LOG(2))))","v":-0.31449378351248153},null,{"$f":"N12","v":1212},{"$f":"COUNTIF(L31:L53,Y12)","v":1},{"$f":"Z12/(AB4-Z20)","v":4.7619047619047616E-2},{"$f":"IF(AA12=0,0,(AA12*((LOG(AA12))/LOG(2))))","v":-0.20915797251327431},null,{"$f":"N12","v":1212},{"$f":"COUNTIF(L54:L77,AD12)","v":3},{"$f":"AE12/(AG4-AE20)","v":0.14285714285714285},{"$f":"IF(AF12=0,0,(AF12*((LOG(AF12))/LOG(2))))","v":-0.40105070315108626},null,{"$f":"N12","v":1212},{"$f":"COUNTIF(L78:L100,AI12)","v":3},{"$f":"AJ12/(AL4-AJ20)","v":0.15},{"$f":"IF(AK12=0,0,(AK12*((LOG(AK12))/LOG(2))))","v":-0.41054483912493089},null,{"$f":"N12","v":1212},{"$f":"COUNTIF(L101:L124,AN12)","v":1},{"$f":"AO12/(AQ4-AO20)","v":4.7619047619047616E-2},{"$f":"IF(AP12=0,0,(AP12*((LOG(AP12))/LOG(2))))","v":-0.20915797251327431},null,{"$f":"N12","v":1212},{"$f":"COUNTIF(L125:L147,AS12)","v":1},{"$f":"AT12/(AV4-AT20)","v":5.2631578947368418E-2},{"$f":"IF(AU12=0,0,(AU12*((LOG(AU12))/LOG(2))))","v":-0.22357513228650452}]
[21,1111,21,1128,11,1139,12,1171,null,null,0,2211,null,1221,{"$f":"COUNTIF($L$7:$L$500,N13)","v":9},{"$f":"O13/$Q$4","v":6.3829787234042548E-2},{"$f":"IF(P13=0,0,(P13*((LOG(P13))/LOG(2))))","v":-0.2533804053802009},null,null,{"$f":"N13","v":1221},{"$f":"COUNTIF(L7:L30,T13)","v":1},{"$f":"U13/(W4-U20)","v":4.5454545454545456E-2},{"$f":"IF(V13=0,0,(V13*((LOG(V13))/LOG(2))))","v":-0.20270143721078623},null,{"$f":"N13","v":1221},{"$f":"COUNTIF(L31:L53,Y13)","v":2},{"$f":"Z13/(AB4-Z20)","v":9.5238095238095233E-2},{"$f":"IF(AA13=0,0,(AA13*((LOG(AA13))/LOG(2))))","v":-0.32307784978845333},null,{"$f":"N13","v":1221},{"$f":"COUNTIF(L54:L77,AD13)","v":1},{"$f":"AE13/(AG4-AE20)","v":4.7619047619047616E-2},{"$f":"IF(AF13=0,0,(AF13*((LOG(AF13))/LOG(2))))","v":-0.20915797251327431},null,{"$f":"N13","v":1221},{"$f":"COUNTIF(L78:L100,AI13)","v":2},{"$f":"AJ13/(AL4-AJ20)","v":0.1},{"$f":"IF(AK13=0,0,(AK13*((LOG(AK13))/LOG(2))))","v":-0.33219280948873625},null,{"$f":"N13","v":1221},{"$f":"COUNTIF(L101:L124,AN13)","v":2},{"$f":"AO13/(AQ4-AO20)","v":9.5238095238095233E-2},{"$f":"IF(AP13=0,0,(AP13*((LOG(AP13))/LOG(2))))","v":-0.32307784978845333},null,{"$f":"N13","v":1221},{"$f":"COUNTIF(L125:L147,AS13)","v":1},{"$f":"AT13/(AV4-AT20)","v":5.2631578947368418E-2},{"$f":"IF(AU13=0,0,(AU13*((LOG(AU13))/LOG(2))))","v":-0.22357513228650452}]
[21,1275,21,1282,11,1291,12,1317,null,null,0,2211,null,1222,{"$f":"COUNTIF($L$7:$L$500,N14)","v":9},{"$f":"O14/$Q$4","v":6.3829787234042548E-2},{"$f":"IF(P14=0,0,(P14*((LOG(P14))/LOG(2))))","v":-0.2533804053802009},null,null,{"$f":"N14","v":1222},{"$f":"COUNTIF(L7:L30,T14)","v":0},{"$f":"U14/(W4-U20)","v":0},{"$f":"IF(V14=0,0,(V14*((LOG(V14))/LOG(2))))","v":0},null,{"$f":"N14","v":1222},{"$f":"COUNTIF(L31:L53,Y14)","v":2},{"$f":"Z14/(AB4-Z20)","v":9.5238095238095233E-2},{"$f":"IF(AA14=0,0,(AA14*((LOG(AA14))/LOG(2))))","v":-0.32307784978845333},null,{"$f":"N14","v":1222},{"$f":"COUNTIF(L54:L77,AD14)","v":3},{"$f":"AE14/(AG4-AE20)","v":0.14285714285714285},{"$f":"IF(AF14=0,0,(AF14*((LOG(AF14))/LOG(2))))","v":-0.40105070315108626},null,{"$f":"N14","v":1222},{"$f":"COUNTIF(L78:L100,AI14)","v":0},{"$f":"AJ14/(AL4-AJ20)","v":0},{"$f":"IF(AK14=0,0,(AK14*((LOG(AK14))/LOG(2))))","v":0},null,{"$f":"N14","v":1222},{"$f":"COUNTIF(L101:L124,AN14)","v":1},{"$f":"AO14/(AQ4-AO20)","v":4.7619047619047616E-2},{"$f":"IF(AP14=0,0,(AP14*((LOG(AP14))/LOG(2))))","v":-0.20915797251327431},null,{"$f":"N14","v":1222},{"$f":"COUNTIF(L125:L147,AS14)","v":3},{"$f":"AT14/(AV4-AT20)","v":0.15789473684210525},{"$f":"IF(AU14=0,0,(AU14*((LOG(AU14))/LOG(2))))","v":-0.42046815990354147}]
[21,1434,12,1444,24,1473,14,1484,null,null,0,2121,null,2111,{"$f":"COUNTIF($L$7:$L$500,N15)","v":4},{"$f":"O15/$Q$4","v":2.8368794326241134E-2},{"$f":"IF(P15=0,0,(P15*((LOG(P15))/LOG(2))))","v":-0.14580287524535585},null,null,{"$f":"N15","v":2111},{"$f":"COUNTIF(L7:L30,T15)","v":2},{"$f":"U15/(W4-U20)","v":9.0909090909090912E-2},{"$f":"IF(V15=0,0,(V15*((LOG(V15))/LOG(2))))","v":-0.31449378351248153},null,{"$f":"N15","v":2111},{"$f":"COUNTIF(L31:L53,Y15)","v":0},{"$f":"Z15/(AB4-Z20)","v":0},{"$f":"IF(AA15=0,0,(AA15*((LOG(AA15))/LOG(2))))","v":0},null,{"$f":"N15","v":2111},{"$f":"COUNTIF(L54:L77,AD15)","v":1},{"$f":"AE15/(AG4-AE20)","v":4.7619047619047616E-2},{"$f":"IF(AF15=0,0,(AF15*((LOG(AF15))/LOG(2))))","v":-0.20915797251327431},null,{"$f":"N15","v":2111},{"$f":"COUNTIF(L78:L100,AI15)","v":1},{"$f":"AJ15/(AL4-AJ20)","v":0.05},{"$f":"IF(AK15=0,0,(AK15*((LOG(AK15))/LOG(2))))","v":-0.21609640474436814},null,{"$f":"N15","v":2111},{"$f":"COUNTIF(L101:L124,AN15)","v":0},{"$f":"AO15/(AQ4-AO20)","v":0},{"$f":"IF(AP15=0,0,(AP15*((LOG(AP15))/LOG(2))))","v":0},null,{"$f":"N15","v":2111},{"$f":"COUNTIF(L125:L147,AS15)","v":0},{"$f":"AT15/(AV4-AT20)","v":0},{"$f":"IF(AU15=0,0,(AU15*((LOG(AU15))/LOG(2))))","v":0}]
[12,1620,14,1667,24,1678,14,1709,null,null,0,1121,null,2112,{"$f":"COUNTIF($L$7:$L$500,N16)","v":7},{"$f":"O16/$Q$4","v":4.9645390070921988E-2},{"$f":"IF(P16=0,0,(P16*((LOG(P16))/LOG(2))))","v":-0.21507358164814414},null,null,{"$f":"N16","v":2112},{"$f":"COUNTIF(L7:L30,T16)","v":2},{"$f":"U16/(W4-U20)","v":9.0909090909090912E-2},{"$f":"IF(V16=0,0,(V16*((LOG(V16))/LOG(2))))","v":-0.31449378351248153},null,{"$f":"N16","v":2112},{"$f":"COUNTIF(L31:L53,Y16)","v":1},{"$f":"Z16/(AB4-Z20)","v":4.7619047619047616E-2},{"$f":"IF(AA16=0,0,(AA16*((LOG(AA16))/LOG(2))))","v":-0.20915797251327431},null,{"$f":"N16","v":2112},{"$f":"COUNTIF(L54:L77,AD16)","v":2},{"$f":"AE16/(AG4-AE20)","v":9.5238095238095233E-2},{"$f":"IF(AF16=0,0,(AF16*((LOG(AF16))/LOG(2))))","v":-0.32307784978845333},null,{"$f":"N16","v":2112},{"$f":"COUNTIF(L78:L100,AI16)","v":1},{"$f":"AJ16/(AL4-AJ20)","v":0.05},{"$f":"IF(AK16=0,0,(AK16*((LOG(AK16))/LOG(2))))","v":-0.21609640474436814},null,{"$f":"N16","v":2112},{"$f":"COUNTIF(L101:L124,AN16)","v":0},{"$f":"AO16/(AQ4-AO20)","v":0},{"$f":"IF(AP16=0,0,(AP16*((LOG(AP16))/LOG(2))))","v":0},null,{"$f":"N16","v":2112},{"$f":"COUNTIF(L125:L147,AS16)","v":1},{"$f":"AT16/(AV4-AT20)","v":5.2631578947368418E-2},{"$f":"IF(AU16=0,0,(AU16*((LOG(AU16))/LOG(2))))","v":-0.22357513228650452}]
[21,1814,21,1822,11,1848,21,1857,null,null,0,2212,null,2121,{"$f":"COUNTIF($L$7:$L$500,N17)","v":15},{"$f":"O17/$Q$4","v":0.10638297872340426},{"$f":"IF(P17=0,0,(P17*((LOG(P17))/LOG(2))))","v":-0.34390008050960374},null,null,{"$f":"N17","v":2121},{"$f":"COUNTIF(L7:L30,T17)","v":5},{"$f":"U17/(W4-U20)","v":0.22727272727272727},{"$f":"IF(V17=0,0,(V17*((LOG(V17))/LOG(2))))","v":-0.48579625539771243},null,{"$f":"N17","v":2121},{"$f":"COUNTIF(L31:L53,Y17)","v":0},{"$f":"Z17/(AB4-Z20)","v":0},{"$f":"IF(AA17=0,0,(AA17*((LOG(AA17))/LOG(2))))","v":0},null,{"$f":"N17","v":2121},{"$f":"COUNTIF(L54:L77,AD17)","v":2},{"$f":"AE17/(AG4-AE20)","v":9.5238095238095233E-2},{"$f":"IF(AF17=0,0,(AF17*((LOG(AF17))/LOG(2))))","v":-0.32307784978845333},null,{"$f":"N17","v":2121},{"$f":"COUNTIF(L78:L100,AI17)","v":4},{"$f":"AJ17/(AL4-AJ20)","v":0.2},{"$f":"IF(AK17=0,0,(AK17*((LOG(AK17))/LOG(2))))","v":-0.46438561897747244},null,{"$f":"N17","v":2121},{"$f":"COUNTIF(L101:L124,AN17)","v":3},{"$f":"AO17/(AQ4-AO20)","v":0.14285714285714285},{"$f":"IF(AP17=0,0,(AP17*((LOG(AP17))/LOG(2))))","v":-0.40105070315108626},null,{"$f":"N17","v":2121},{"$f":"COUNTIF(L125:L147,AS17)","v":1},{"$f":"AT17/(AV4-AT20)","v":5.2631578947368418E-2},{"$f":"IF(AU17=0,0,(AU17*((LOG(AU17))/LOG(2))))","v":-0.22357513228650452}]
[12,1964,14,1990,24,2004,23,2011,null,null,0,1122,null,2122,{"$f":"COUNTIF($L$7:$L$500,N18)","v":19},{"$f":"O18/$Q$4","v":0.13475177304964539},{"$f":"IF(P18=0,0,(P18*((LOG(P18))/LOG(2))))","v":-0.38965143929183654},null,null,{"$f":"N18","v":2122},{"$f":"COUNTIF(L7:L30,T18)","v":0},{"$f":"U18/(W4-U20)","v":0},{"$f":"IF(V18=0,0,(V18*((LOG(V18))/LOG(2))))","v":0},null,{"$f":"N18","v":2122},{"$f":"COUNTIF(L31:L53,Y18)","v":4},{"$f":"Z18/(AB4-Z20)","v":0.19047619047619047},{"$f":"IF(AA18=0,0,(AA18*((LOG(AA18))/LOG(2))))","v":-0.4556795091007162},null,{"$f":"N18","v":2122},{"$f":"COUNTIF(L54:L77,AD18)","v":3},{"$f":"AE18/(AG4-AE20)","v":0.14285714285714285},{"$f":"IF(AF18=0,0,(AF18*((LOG(AF18))/LOG(2))))","v":-0.40105070315108626},null,{"$f":"N18","v":2122},{"$f":"COUNTIF(L78:L100,AI18)","v":3},{"$f":"AJ18/(AL4-AJ20)","v":0.15},{"$f":"IF(AK18=0,0,(AK18*((LOG(AK18))/LOG(2))))","v":-0.41054483912493089},null,{"$f":"N18","v":2122},{"$f":"COUNTIF(L101:L124,AN18)","v":5},{"$f":"AO18/(AQ4-AO20)","v":0.23809523809523808},{"$f":"IF(AP18=0,0,(AP18*((LOG(AP18))/LOG(2))))","v":-0.49294983997414238},null,{"$f":"N18","v":2122},{"$f":"COUNTIF(L125:L147,AS18)","v":4},{"$f":"AT18/(AV4-AT20)","v":0.21052631578947367},{"$f":"IF(AU18=0,0,(AU18*((LOG(AU18))/LOG(2))))","v":-0.47324789756707064}]
[12,2137,14,2154,13,2197,23,2224,null,null,0,1112,null,2211,{"$f":"COUNTIF($L$7:$L$500,N19)","v":4},{"$f":"O19/$Q$4","v":2.8368794326241134E-2},{"$f":"IF(P19=0,0,(P19*((LOG(P19))/LOG(2))))","v":-0.14580287524535585},null,null,{"$f":"N19","v":2211},{"$f":"COUNTIF(L7:L30,T19)","v":3},{"$f":"U19/(W4-U20)","v":0.13636363636363635},{"$f":"IF(V19=0,0,(V19*((LOG(V19))/LOG(2))))","v":-0.39197306153401923},null,{"$f":"N19","v":2211},{"$f":"COUNTIF(L31:L53,Y19)","v":1},{"$f":"Z19/(AB4-Z20)","v":4.7619047619047616E-2},{"$f":"IF(AA19=0,0,(AA19*((LOG(AA19))/LOG(2))))","v":-0.20915797251327431},null,{"$f":"N19","v":2211},{"$f":"COUNTIF(L54:L77,AD19)","v":0},{"$f":"AE19/(AG4-AE20)","v":0},{"$f":"IF(AF19=0,0,(AF19*((LOG(AF19))/LOG(2))))","v":0},null,{"$f":"N19","v":2211},{"$f":"COUNTIF(L78:L100,AI19)","v":0},{"$f":"AJ19/(AL4-AJ20)","v":0},{"$f":"IF(AK19=0,0,(AK19*((LOG(AK19))/LOG(2))))","v":0},null,{"$f":"N19","v":2211},{"$f":"COUNTIF(L101:L124,AN19)","v":0},{"$f":"AO19/(AQ4-AO20)","v":0},{"$f":"IF(AP19=0,0,(AP19*((LOG(AP19))/LOG(2))))","v":0},null,{"$f":"N19","v":2211},{"$f":"COUNTIF(L125:L147,AS19)","v":0},{"$f":"AT19/(AV4-AT20)","v":0},{"$f":"IF(AU19=0,0,(AU19*((LOG(AU19))/LOG(2))))","v":0}]
[21,2334,21,2350,11,2373,21,2391,null,null,0,2212,null,2212,{"$f":"COUNTIF($L$7:$L$500,N20)","v":17},{"$f":"O20/$Q$4","v":0.12056737588652482},{"$f":"IF(P20=0,0,(P20*((LOG(P20))/LOG(2))))","v":-0.36798230276257954},null,null,{"$f":"N20","v":2212},{"$f":"COUNTIF(L7:L30,T20)","v":2},null,null,null,{"$f":"N20","v":2212},{"$f":"COUNTIF(L31:L53,Y20)","v":2},null,null,null,{"$f":"N20","v":2212},{"$f":"COUNTIF(L54:L77,AD20)","v":3},null,null,null,{"$f":"N20","v":2212},{"$f":"COUNTIF(L78:L100,AI20)","v":3},null,null,null,{"$f":"N20","v":2212},{"$f":"COUNTIF(L101:L124,AN20)","v":3},null,null,null,{"$f":"N20","v":2212},{"$f":"COUNTIF(L125:L147,AS20)","v":4}]
[21,2491,12,2510,24,2525,14,2543,null,null,0,2121,null,2221,{"$f":"COUNTIF($L$7:$L$500,N21)","v":9},{"$f":"O21/$Q$4","v":6.3829787234042548E-2},{"$f":"IF(P21=0,0,(P21*((LOG(P21))/LOG(2))))","v":-0.2533804053802009},null,null,{"$f":"N21","v":2221},{"$f":"COUNTIF(L7:L30,T21)","v":0},{"$f":"U21/(W4-U20)","v":0},{"$f":"IF(V21=0,0,(V21*((LOG(V21))/LOG(2))))","v":0},null,{"$f":"N21","v":2221},{"$f":"COUNTIF(L31:L53,Y21)","v":2},{"$f":"Z21/(AB4-Z20)","v":9.5238095238095233E-2},{"$f":"IF(AA21=0,0,(AA21*((LOG(AA21))/LOG(2))))","v":-0.32307784978845333},null,{"$f":"N21","v":2221},{"$f":"COUNTIF(L54:L77,AD21)","v":0},{"$f":"AE21/(AG4-AE20)","v":0},{"$f":"IF(AF21=0,0,(AF21*((LOG(AF21))/LOG(2))))","v":0},null,{"$f":"N21","v":2221},{"$f":"COUNTIF(L78:L100,AI21)","v":1},{"$f":"AJ21/(AL4-AJ20)","v":0.05},{"$f":"IF(AK21=0,0,(AK21*((LOG(AK21))/LOG(2))))","v":-0.21609640474436814},null,{"$f":"N21","v":2221},{"$f":"COUNTIF(L101:L124,AN21)","v":4},{"$f":"AO21/(AQ4-AO20)","v":0.19047619047619047},{"$f":"IF(AP21=0,0,(AP21*((LOG(AP21))/LOG(2))))","v":-0.4556795091007162},null,{"$f":"N21","v":2221},{"$f":"COUNTIF(L125:L147,AS21)","v":2},{"$f":"AT21/(AV4-AT20)","v":0.10526315789473684},{"$f":"IF(AU21=0,0,(AU21*((LOG(AU21))/LOG(2))))","v":-0.34188710667827216}]
[21,2650,12,2661,13,2679,23,2702,null,null,0,2112,null,2222,{"$f":"COUNTIF($L$7:$L$500,N22)","v":16},{"$f":"O22/$Q$4","v":0.11347517730496454},{"$f":"IF(P22=0,0,(P22*((LOG(P22))/LOG(2))))","v":-0.35626114637149431},null,null,{"$f":"N22","v":2222},{"$f":"COUNTIF(L7:L30,T22)","v":0},{"$f":"U22/(W4-U20)","v":0},{"$f":"IF(V22=0,0,(V22*((LOG(V22))/LOG(2))))","v":0},null,{"$f":"N22","v":2222},{"$f":"COUNTIF(L31:L53,Y22)","v":4},{"$f":"Z22/(AB4-Z20)","v":0.19047619047619047},{"$f":"IF(AA22=0,0,(AA22*((LOG(AA22))/LOG(2))))","v":-0.4556795091007162},null,{"$f":"N22","v":2222},{"$f":"COUNTIF(L54:L77,AD22)","v":2},{"$f":"AE22/(AG4-AE20)","v":9.5238095238095233E-2},{"$f":"IF(AF22=0,0,(AF22*((LOG(AF22))/LOG(2))))","v":-0.32307784978845333},null,{"$f":"N22","v":2222},{"$f":"COUNTIF(L78:L100,AI22)","v":1},{"$f":"AJ22/(AL4-AJ20)","v":0.05},{"$f":"IF(AK22=0,0,(AK22*((LOG(AK22))/LOG(2))))","v":-0.21609640474436814},null,{"$f":"N22","v":2222},{"$f":"COUNTIF(L101:L124,AN22)","v":3},{"$f":"AO22/(AQ4-AO20)","v":0.14285714285714285},{"$f":"IF(AP22=0,0,(AP22*((LOG(AP22))/LOG(2))))","v":-0.40105070315108626},null,{"$f":"N22","v":2222},{"$f":"COUNTIF(L125:L147,AS22)","v":6},{"$f":"AT22/(AV4-AT20)","v":0.31578947368421051},{"$f":"IF(AU22=0,0,(AU22*((LOG(AU22))/LOG(2))))","v":-0.52514684612287243}]
[21,2810,12,2859,24,2887,14,2960,null,null,0,2121,null,null,null,{"$f":"SUM(P7:P22)","v":1},{"$f":"-SUM(Q7:Q22)","v":3.7239213361328751},null,null,null,null,{"$f":"SUM(V7:V22)","v":1},{"$f":"-SUM(W7:W22)","v":3.0449127332389447},null,null,null,{"$f":"SUM(AA7:AA22)","v":0.99999999999999989},{"$f":"-SUM(AB7:AB22)","v":3.1182751607709762},null,null,null,{"$f":"SUM(AF7:AF22)","v":0.99999999999999989},{"$f":"-SUM(AG7:AG22)","v":3.2009102795095283},null,null,null,{"$f":"SUM(AK7:AK22)","v":1},{"$f":"-SUM(AL7:AL22)","v":3.3464393446710154},null,null,null,{"$f":"SUM(AP7:AP22)","v":1},{"$f":"-SUM(AQ7:AQ22)","v":2.9104404952185821},null,null,null,{"$f":"SUM(AU7:AU22)","v":1},{"$f":"-SUM(AV7:AV22)","v":2.655050539417775}]
[21,3099,12,3107,13,3151,23,3171,null,null,0,2112,null,null,null,"U=",{"$f":"Q23/(LOG(Q4)/LOG(2))","v":0.52159038465094698},null,null,null,null,"U1=",{"$f":"W23/(LOG(W4)/LOG(2))","v":0.66410853584080975},null,null,null,"U2=",{"$f":"AB23/(LOG(AB4)/LOG(2))","v":0.68934065478988982},null,null,null,"U3=",{"$f":"AG23/(LOG(AG4)/LOG(2))","v":0.6981322702216356},null,null,null,"U4=",{"$f":"AL23/(LOG(AL4)/LOG(2))","v":0.73977970837564411},null,null,null,"U5=",{"$f":"AQ23/(LOG(AQ4)/LOG(2))","v":0.63477956357566867},null,null,null,"U6=",{"$f":"AV23/(LOG(AV4)/LOG(2))","v":0.5869380291923898}]
[12,3313,14,3340,24,3360,14,3376,null,null,0,1121]
[21,3483,12,3492,13,3509,14,3548,null,null,0,2111]
[12,3668,14,3685,24,3696,14,3750,null,null,0,1121,null,"Total Target Seq"]
[21,3864,12,3872,24,3880,14,3891,null,null,0,2121,null,{"$f":"COUNTIF(L7:L147,G3)","v":17},null,24,23,24,23,24,23]
[12,4018,14,4037,24,4047,23,4058,null,null,0,1122,null,null,null,"% of reinforcement given in 6 equal intervals based on number of trials "]
[12,4194,23,4247,24,4255,14,4299,null,null,0,1221,null,null,null,"%_1","%_2","%_3","%_4","%_5","%_6"]
[12,4422,23,4454,24,4463,23,4509,null,null,0,1222,null,null,"target sequence",{"$f":"$G$3","v":2212},{"$f":"$G$3","v":2212},{"$f":"$G$3","v":2212},{"$f":"$G$3","v":2212},{"$f":"$G$3","v":2212},{"$f":"$G$3","v":2212}]
[21,4616,21,4633,11,4643,21,4657,null,null,0,2212,null,null,"total reinforcement",{"$f":"U20","v":2},{"$f":"Z20","v":2},{"$f":"AE20","v":3},{"$f":"AJ20","v":3},{"$f":"AO20","v":3},{"$f":"AT20","v":4}]
[12,4765,23,4780,24,4789,14,4807,null,null,0,1221,null,null,"% target"]
[21,4931,12,4938,24,4947,23,4998,null,null,0,2122,null,null,"CCRF"]
[12,5114,14,5140,24,5149,23,5230,null,null,0,1122,null,null,"% CCRf"]
[21,5360,21,5375,22,5386,14,5396,null,null,0,2221,null,null,"average response rate",{"$f":"H30/P28","v":179.125},{"$f":"(H53-H30)/Q28","v":189.78260869565219},{"$f":"(H77-H53)/R28","v":167.70833333333334},{"$f":"(H100-H77)/S28","v":158.7391304347826},{"$f":"(H124-H100)/T28","v":161.83333333333334},{"$f":"(H147-H124)/U28","v":163.56521739130434}]
[12,5514,23,5572,24,5580,23,5602,null,null,0,1222]
[21,5730,12,5739,13,5773,23,5801,null,null,0,2112]
[21,5951,21,5960,22,5985,14,6001,null,null,0,2221]
[21,6101,21,6109,11,6117,21,6165,null,null,0,2212]
[12,6270,14,6288,24,6304,23,6368,null,null,0,1122]
[12,6485,23,6494,24,6519,14,6566,null,null,0,1221]
[21,6666,21,6677,11,6694,12,6729,null,null,0,2211]
[21,6827,21,6862,22,6879,23,6902,null,null,0,2222]
[21,7002,21,7027,22,7049,23,7060,null,null,0,2222]
[21,7196,12,7205,24,7217,23,7243,null,null,0,2122]
[12,7355,14,7394,13,7455,14,7503,null,null,0,1111]
[12,7629,23,7649,13,7660,23,7678,null,null,0,1212]
[21,7798,21,7869,22,7894,23,7925,null,null,0,2222]
[21,8040,12,8090,24,8144,23,8164,null,null,0,2122]
[21,8295,21,8339,22,8347,23,8355,null,null,0,2222]
[21,8483,12,8491,24,8500,23,8508,null,null,0,2122]
[12,8629,14,8646,24,8655,23,8664,null,null,0,1122]
[12,8773,23,8781,13,8789,23,8797,null,null,0,1212]
[21,8908,21,8947,11,8956,21,8969,null,null,0,2212]
[21,9065,21,9080,22,9096,23,9128,null,null,0,2222]
[21,9267,12,9322,13,9357,23,9390,null,null,0,2112]
[12,9513,23,9522,24,9548,23,9556,null,null,0,1222]
[21,9654,21,9669,11,9684,21,9708,null,null,0,2212]
[21,9821,12,9830,24,9854,23,9876,null,null,0,2122]
[21,9976,21,9992,22,10009,23,10029,null,null,0,2222]
[12,10149,23,10204,24,10212,23,10220,null,null,0,1222]
[21,10320,12,10341,24,10351,23,10368,null,null,0,2122]
[12,10484,23,10502,24,10521,14,10539,null,null,0,1221]
[12,10661,23,10670,13,10689,14,10723,null,null,0,1211]
[21,10824,21,10842,11,10852,21,10876,null,null,0,2212]
[21,10964,12,10999,13,11046,23,11097,null,null,0,2112]
[12,11226,23,11235,24,11243,23,11260,null,null,0,1222]
[21,11368,12,11376,24,11393,14,11404,null,null,0,2121]
[21,11499,12,11520,24,11533,14,11553,null,null,0,2121]
[12,11671,14,11701,24,11721,14,11740,null,null,0,1121]
[21,11842,12,11858,13,11863,14,11871,null,null,0,2111]
[12,11988,14,12006,24,12021,14,12040,null,null,0,1121]
[12,12155,23,12173,13,12183,23,12210,null,null,0,1212]
[21,12322,12,12332,24,12340,23,12357,null,null,0,2122]
[12,12487,14,12507,24,12518,14,12546,null,null,0,1121]
[12,12660,23,12670,13,12678,23,12689,null,null,0,1212]
[21,12792,12,12800,24,12810,14,12820,null,null,0,2121]
[12,12929,14,12945,24,12954,23,12968,null,null,0,1122]
[21,13065,12,13074,24,13082,14,13099,null,null,0,2121]
[21,13212,12,13220,24,13253,14,13287,null,null,0,2121]
[21,13402,12,13410,13,13441,23,13469,null,null,0,2112]
[12,13585,23,13593,24,13601,14,13613,null,null,0,1221]
[12,13733,23,13741,24,13750,14,13761,null,null,0,1221]
[21,13869,21,13884,11,13910,21,13954,null,null,0,2212]
[12,14064,23,14074,13,14086,23,14105,null,null,0,1212]
[21,14219,12,14228,24,14236,23,14284,null,null,0,2122]
[21,14398,12,14420,24,14429,23,14439,null,null,0,2122]
[21,14542,21,14551,11,14568,21,14577,null,null,0,2212]
[12,14688,14,14714,13,14753,23,14779,null,null,0,1112]
[21,14894,21,14909,11,14925,21,14934,null,null,0,2212]
[12,15053,23,15069,13,15078,14,15120,null,null,0,1211]
[21,15236,21,15251,22,15267,23,15281,null,null,0,2222]
[21,15410,12,15419,24,15431,23,15447,null,null,0,2122]
[21,15559,12,15568,24,15576,14,15585,null,null,0,2121]
[12,15699,14,15715,24,15735,14,15763,null,null,0,1121]
[21,15867,21,15883,22,15895,14,15919,null,null,0,2221]
[21,16016,12,16025,13,16032,14,16039,null,null,0,2111]
[12,16146,23,16154,13,16164,23,16189,null,null,0,1212]
[12,16298,23,16308,13,16320,23,16340,null,null,0,1212]
[12,16447,23,16457,24,16465,14,16477,null,null,0,1221]
[12,16585,23,16593,13,16612,23,16630,null,null,0,1212]
[21,16737,12,16761,24,16779,23,16798,null,null,0,2122]
[21,16911,12,16920,24,16929,23,16937,null,null,0,2122]
[21,17042,12,17068,24,17076,14,17092,null,null,0,2121]
[21,17199,21,17207,22,17221,14,17238,null,null,0,2221]
[21,17340,12,17355,24,17371,14,17392,null,null,0,2121]
[12,17539,23,17563,24,17572,14,17591,null,null,0,1221]
[21,17712,12,17720,24,17743,23,17750,null,null,0,2122]
[21,17852,12,17864,24,17874,14,17883,null,null,0,2121]
[12,17994,14,18003,13,18033,23,18069,null,null,0,1112]
[21,18178,21,18192,11,18200,21,18210,null,null,0,2212]
[21,18303,12,18326,24,18369,23,18392,null,null,0,2122]
[21,18501,21,18512,22,18526,14,18535,null,null,0,2221]
[21,18635,12,18651,24,18668,23,18676,null,null,0,2122]
[21,18790,21,18813,22,18821,23,18863,null,null,0,2222]
[21,18968,21,19006,22,19034,23,19044,null,null,0,2222]
[12,19160,14,19180,24,19200,14,19211,null,null,0,1121]
[21,19328,21,19348,22,19356,14,19367,null,null,0,2221]
[21,19489,21,19506,11,19523,21,19550,null,null,0,2212]
[21,19641,21,19663,22,19687,14,19715,null,null,0,2221]
[21,19827,21,19841,22,19864,23,19886,null,null,0,2222]
[12,20003,23,20034,24,20059,23,20066,null,null,0,1222]
[21,20172,21,20182,11,20191,21,20224,null,null,0,2212]
[21,20329,21,20344,11,20352,21,20379,null,null,0,2212]
[21,20484,21,20500,11,20510,21,20521,null,null,0,2212]
[21,20611,12,20620,24,20640,23,20648,null,null,0,2122]
[21,20754,21,20770,11,20779,21,20798,null,null,0,2212]
[12,20899,23,20908,24,20916,23,20923,null,null,0,1222]
[21,21029,12,21055,24,21077,23,21114,null,null,0,2122]
[12,21229,23,21238,24,21252,14,21271,null,null,0,1221]
[12,21395,23,21406,24,21421,23,21437,null,null,0,1222]
[21,21535,12,21550,13,21574,23,21597,null,null,0,2112]
[21,21700,12,21724,24,21732,23,21748,null,null,0,2122]
[21,21851,12,21865,24,21874,23,21881,null,null,0,2122]
[12,21973,23,21996,13,22004,23,22022,null,null,0,1212]
[21,22202,21,22239,22,22257,23,22264,null,null,0,2222]
[21,22426,21,22441,22,22448,23,22456,null,null,0,2222]
[21,22555,21,22563,22,22578,14,22601,null,null,0,2221]
[21,22699,21,22712,11,22721,21,22818,null,null,0,2212]
[21,22911,21,22958,22,22966,23,23005,null,null,0,2222]
[21,23120,21,23135,22,23143,23,23166,null,null,0,2222]
[12,23271,23,23290,24,23317,23,23328,null,null,0,1222]
[21,23427,12,23439,24,23479,14,23491,null,null,0,2121]
[21,23614,21,23636,22,23659,14,23678,null,null,0,2221]
[21,23786,21,23825,22,23833,23,23841,null,null,0,2222]
[21,23954,21,23969,22,23977,23,23986,null,null,null,2222]

{"sheet":"!N109930.095","index":11,"n_rows":156,"n_cols":48,"rows_kept":156,"cut":false,"hidden":false,"merged":[[4,39,4,42],[5,39,5,40],[4,44,4,47],[5,44,5,45],[4,24,4,27],[5,24,5,25],[4,29,4,32],[5,29,5,30],[4,34,4,37],[5,34,5,35],[1,1,1,2],[5,13,5,14],[26,13,26,14],[27,13,27,14],[4,19,4,22],[5,19,5,20]]}
["Report for:!N109930.095"]
["Date:","<date>"]
["Hen:","<hen>",null,null,null,"Correct Sequence",{"$f":"Start!J2","v":2212},null,null,null,null,null,null,null,null,"Total Sequences in Data",{"$f":"4994-COUNTBLANK(L7:L5000)","v":150},null,null,null,null,"Total Sequences in Block Data",{"$f":"COUNTA(L7:L31)","v":25},null,null,null,"Total Sequences in Block Data",{"$f":"COUNTA(L32:L56)","v":25},null,null,null,"Total Sequences in Block Data",{"$f":"COUNTA(L57:L81)","v":25},null,null,null,"Total Sequences in Block Data",{"$f":"COUNTA(L82:L106)","v":25},null,null,null,"Total Sequences in Block Data",{"$f":"COUNTA(L107:L131)","v":25},null,null,null,"Total Sequences in Block Data",{"$f":"COUNTA(L132:L156)","v":25}]
[null,null,null,null,null,null,null,null,null,null,null,null,null,null,null,"Total Sequences in Summary",{"$f":"SUM(O7:O22)","v":149},null,null,null,null,"Total Sequences in Block Summary",{"$f":"SUM(U7:U22)","v":25},null,null,null,"Total Sequences in Block Summary",{"$f":"SUM(Z7:Z22)","v":25},null,null,null,"Total Sequences in Block Summary",{"$f":"SUM(AE7:AE22)","v":25},null,null,null,"Total Sequences in Block Summary",{"$f":"SUM(AJ7:AJ22)","v":25},null,null,null,"Total Sequences in Block Summary",{"$f":"SUM(AO7:AO22)","v":25},null,null,null,"Total Sequences in Block Summary",{"$f":"SUM(AT7:AT22)","v":24}]
[null,null,null,null,null,null,null,null,null,null,null,null,null,null,null,null,null,null,null,"Block 1",null,null,null,null,"Block 2",null,null,null,null,"Block 3",null,null,null,null,"Block 4",null,null,null,null,"Block 5",null,null,null,null,"Block 6"]
["Sequence\nComponent\n1","Time\n1","Sequence\nComponent\n2","Time\n2","Sequence\nComponent\n3","Time\n3","Sequence\nComponent\n4","Time\n4","Sequence\nComponent\n5","Time\n5","Correct?\n0=No 1=Yes","Sequence",null,"Frequency",null,"Relative Frequency","Variability",null,null,"Frequency",null,"Relative Frequency","Variability",null,"Frequency",null,"Relative Frequency","Variability",null,"Frequency",null,"Relative Frequency","Variability",null,"Frequency",null,"Relative Frequency","Variability",null,"Frequency",null,"Relative Frequency","Variability",null,"Frequency",null,"Relative Frequency","Variability"]
[21,23,21,49,22,68,23,76,null,null,0,2222,null,1111,{"$f":"COUNTIF($L$7:$L$500,N7)","v":1},{"$f":"O7/$Q$4","v":6.7114093959731542E-3},{"$f":"IF(P7=0,0,(P7*((LOG(P7))/LOG(2))))","v":-4.8450795439343365E-2},null,null,{"$f":"N7","v":1111},{"$f":"COUNTIF(L7:L31,T7)","v":0},{"$f":"U7/(W4-U20)","v":0},{"$f":"IF(V7=0,0,(V7*((LOG(V7))/LOG(2))))","v":0},null,{"$f":"N7","v":1111},{"$f":"COUNTIF(L32:L56,Y7)","v":0},{"$f":"Z7/(AB4-Z20)","v":0},{"$f":"IF(AA7=0,0,(AA7*((LOG(AA7))/LOG(2))))","v":0},null,{"$f":"N7","v":1111},{"$f":"COUNTIF(L57:L81,AD7)","v":0},{"$f":"AE7/(AG4-AE20)","v":0},{"$f":"IF(AF7=0,0,(AF7*((LOG(AF7))/LOG(2))))","v":0},null,{"$f":"N7","v":1111},{"$f":"COUNTIF(L82:L106,AI7)","v":0},{"$f":"AJ7/(AL4-AJ20)","v":0},{"$f":"IF(AK7=0,0,(AK7*((LOG(AK7))/LOG(2))))","v":0},null,{"$f":"N7","v":1111},{"$f":"COUNTIF(L107:L131,AN7)","v":0},{"$f":"AO7/(AQ4-AO20)","v":0},{"$f":"IF(AP7=0,0,(AP7*((LOG(AP7))/LOG(2))))","v":0},null,{"$f":"N7","v":1111},{"$f":"COUNTIF(L132:L156,AS7)","v":1},{"$f":"AT7/(AV4-AT20)","v":4.3478260869565216E-2},{"$f":"IF(AU7=0,0,(AU7*((LOG(AU7))/LOG(2))))","v":-0.19667660678508753}]
[21,185,21,213,11,223,21,308,null,null,0,2212,null,1112,{"$f":"COUNTIF($L$7:$L$500,N8)","v":3},{"$f":"O8/$Q$4","v":2.0134228187919462E-2},{"$f":"IF(P8=0,0,(P8*((LOG(P8))/LOG(2))))","v":-0.11344038965921487},null,null,{"$f":"N8","v":1112},{"$f":"COUNTIF(L7:L31,T8)","v":0},{"$f":"U8/(W4-U20)","v":0},{"$f":"IF(V8=0,0,(V8*((LOG(V8))/LOG(2))))","v":0},null,{"$f":"N8","v":1112},{"$f":"COUNTIF(L32:L56,Y8)","v":1},{"$f":"Z8/(AB4-Z20)","v":4.7619047619047616E-2},{"$f":"IF(AA8=0,0,(AA8*((LOG(AA8))/LOG(2))))","v":-0.20915797251327431},null,{"$f":"N8","v":1112},{"$f":"COUNTIF(L57:L81,AD8)","v":0},{"$f":"AE8/(AG4-AE20)","v":0},{"$f":"IF(AF8=0,0,(AF8*((LOG(AF8))/LOG(2))))","v":0},null,{"$f":"N8","v":1112},{"$f":"COUNTIF(L82:L106,AI8)","v":0},{"$f":"AJ8/(AL4-AJ20)","v":0},{"$f":"IF(AK8=0,0,(AK8*((LOG(AK8))/LOG(2))))","v":0},null,{"$f":"N8","v":1112},{"$f":"COUNTIF(L107:L131,AN8)","v":0},{"$f":"AO8/(AQ4-AO20)","v":0},{"$f":"IF(AP8=0,0,(AP8*((LOG(AP8))/LOG(2))))","v":0},null,{"$f":"N8","v":1112},{"$f":"COUNTIF(L132:L156,AS8)","v":2},{"$f":"AT8/(AV4-AT20)","v":8.6956521739130432E-2},{"$f":"IF(AU8=0,0,(AU8*((LOG(AU8))/LOG(2))))","v":-0.30639669183104457}]
[21,418,21,472,11,504,21,516,null,null,0,2212,null,1121,{"$f":"COUNTIF($L$7:$L$500,N9)","v":5},{"$f":"O9/$Q$4","v":3.3557046979865772E-2},{"$f":"IF(P9=0,0,(P9*((LOG(P9))/LOG(2))))","v":-0.16433692703271138},null,null,{"$f":"N9","v":1121},{"$f":"COUNTIF(L7:L31,T9)","v":0},{"$f":"U9/(W4-U20)","v":0},{"$f":"IF(V9=0,0,(V9*((LOG(V9))/LOG(2))))","v":0},null,{"$f":"N9","v":1121},{"$f":"COUNTIF(L32:L56,Y9)","v":1},{"$f":"Z9/(AB4-Z20)","v":4.7619047619047616E-2},{"$f":"IF(AA9=0,0,(AA9*((LOG(AA9))/LOG(2))))","v":-0.20915797251327431},null,{"$f":"N9","v":1121},{"$f":"COUNTIF(L57:L81,AD9)","v":1},{"$f":"AE9/(AG4-AE20)","v":0.05},{"$f":"IF(AF9=0,0,(AF9*((LOG(AF9))/LOG(2))))","v":-0.21609640474436814},null,{"$f":"N9","v":1121},{"$f":"COUNTIF(L82:L106,AI9)","v":0},{"$f":"AJ9/(AL4-AJ20)","v":0},{"$f":"IF(AK9=0,0,(AK9*((LOG(AK9))/LOG(2))))","v":0},null,{"$f":"N9","v":1121},{"$f":"COUNTIF(L107:L131,AN9)","v":2},{"$f":"AO9/(AQ4-AO20)","v":9.0909090909090912E-2},{"$f":"IF(AP9=0,0,(AP9*((LOG(AP9))/LOG(2))))","v":-0.31449378351248153},null,{"$f":"N9","v":1121},{"$f":"COUNTIF(L132:L156,AS9)","v":1},{"$f":"AT9/(AV4-AT20)","v":4.3478260869565216E-2},{"$f":"IF(AU9=0,0,(AU9*((LOG(AU9))/LOG(2))))","v":-0.19667660678508753}]
[21,626,21,653,22,677,14,706,null,null,0,2221,null,1122,{"$f":"COUNTIF($L$7:$L$500,N10)","v":8},{"$f":"O10/$Q$4","v":5.3691275167785234E-2},{"$f":"IF(P10=0,0,(P10*((LOG(P10))/LOG(2))))","v":-0.22653253801139125},null,null,{"$f":"N10","v":1122},{"$f":"COUNTIF(L7:L31,T10)","v":1},{"$f":"U10/(W4-U20)","v":4.5454545454545456E-2},{"$f":"IF(V10=0,0,(V10*((LOG(V10))/LOG(2))))","v":-0.20270143721078623},null,{"$f":"N10","v":1122},{"$f":"COUNTIF(L32:L56,Y10)","v":1},{"$f":"Z10/(AB4-Z20)","v":4.7619047619047616E-2},{"$f":"IF(AA10=0,0,(AA10*((LOG(AA10))/LOG(2))))","v":-0.20915797251327431},null,{"$f":"N10","v":1122},{"$f":"COUNTIF(L57:L81,AD10)","v":2},{"$f":"AE10/(AG4-AE20)","v":0.1},{"$f":"IF(AF10=0,0,(AF10*((LOG(AF10))/LOG(2))))","v":-0.33219280948873625},null,{"$f":"N10","v":1122},{"$f":"COUNTIF(L82:L106,AI10)","v":1},{"$f":"AJ10/(AL4-AJ20)","v":5.2631578947368418E-2},{"$f":"IF(AK10=0,0,(AK10*((LOG(AK10))/LOG(2))))","v":-0.22357513228650452},null,{"$f":"N10","v":1122},{"$f":"COUNTIF(L107:L131,AN10)","v":2},{"$f":"AO10/(AQ4-AO20)","v":9.0909090909090912E-2},{"$f":"IF(AP10=0,0,(AP10*((LOG(AP10))/LOG(2))))","v":-0.31449378351248153},null,{"$f":"N10","v":1122},{"$f":"COUNTIF(L132:L156,AS10)","v":1},{"$f":"AT10/(AV4-AT20)","v":4.3478260869565216E-2},{"$f":"IF(AU10=0,0,(AU10*((LOG(AU10))/LOG(2))))","v":-0.19667660678508753}]
[21,813,21,822,22,836,23,852,null,null,0,2222,null,1211,{"$f":"COUNTIF($L$7:$L$500,N11)","v":4},{"$f":"O11/$Q$4","v":2.6845637583892617E-2},{"$f":"IF(P11=0,0,(P11*((LOG(P11))/LOG(2))))","v":-0.14011190658958825},null,null,{"$f":"N11","v":1211},{"$f":"COUNTIF(L7:L31,T11)","v":0},{"$f":"U11/(W4-U20)","v":0},{"$f":"IF(V11=0,0,(V11*((LOG(V11))/LOG(2))))","v":0},null,{"$f":"N11","v":1211},{"$f":"COUNTIF(L32:L56,Y11)","v":0},{"$f":"Z11/(AB4-Z20)","v":0},{"$f":"IF(AA11=0,0,(AA11*((LOG(AA11))/LOG(2))))","v":0},null,{"$f":"N11","v":1211},{"$f":"COUNTIF(L57:L81,AD11)","v":1},{"$f":"AE11/(AG4-AE20)","v":0.05},{"$f":"IF(AF11=0,0,(AF11*((LOG(AF11))/LOG(2))))","v":-0.21609640474436814},null,{"$f":"N11","v":1211},{"$f":"COUNTIF(L82:L106,AI11)","v":0},{"$f":"AJ11/(AL4-AJ20)","v":0},{"$f":"IF(AK11=0,0,(AK11*((LOG(AK11))/LOG(2))))","v":0},null,{"$f":"N11","v":1211},{"$f":"COUNTIF(L107:L131,AN11)","v":3},{"$f":"AO11/(AQ4-AO20)","v":0.13636363636363635},{"$f":"IF(AP11=0,0,(AP11*((LOG(AP11))/LOG(2))))","v":-0.39197306153401923},null,{"$f":"N11","v":1211},{"$f":"COUNTIF(L132:L156,AS11)","v":0},{"$f":"AT11/(AV4-AT20)","v":0},{"$f":"IF(AU11=0,0,(AU11*((LOG(AU11))/LOG(2))))","v":0}]
[21,1038,12,1051,24,1071,14,1099,null,null,0,2121,null,1212,{"$f":"COUNTIF($L$7:$L$500,N12)","v":20},{"$f":"O12/$Q$4","v":0.13422818791946309},{"$f":"IF(P12=0,0,(P12*((LOG(P12))/LOG(2))))","v":-0.38889133229191941},null,null,{"$f":"N12","v":1212},{"$f":"COUNTIF(L7:L31,T12)","v":0},{"$f":"U12/(W4-U20)","v":0},{"$f":"IF(V12=0,0,(V12*((LOG(V12))/LOG(2))))","v":0},null,{"$f":"N12","v":1212},{"$f":"COUNTIF(L32:L56,Y12)","v":3},{"$f":"Z12/(AB4-Z20)","v":0.14285714285714285},{"$f":"IF(AA12=0,0,(AA12*((LOG(AA12))/LOG(2))))","v":-0.40105070315108626},null,{"$f":"N12","v":1212},{"$f":"COUNTIF(L57:L81,AD12)","v":4},{"$f":"AE12/(AG4-AE20)","v":0.2},{"$f":"IF(AF12=0,0,(AF12*((LOG(AF12))/LOG(2))))","v":-0.46438561897747244},null,{"$f":"N12","v":1212},{"$f":"COUNTIF(L82:L106,AI12)","v":3},{"$f":"AJ12/(AL4-AJ20)","v":0.15789473684210525},{"$f":"IF(AK12=0,0,(AK12*((LOG(AK12))/LOG(2))))","v":-0.42046815990354147},null,{"$f":"N12","v":1212},{"$f":"COUNTIF(L107:L131,AN12)","v":4},{"$f":"AO12/(AQ4-AO20)","v":0.18181818181818182},{"$f":"IF(AP12=0,0,(AP12*((LOG(AP12))/LOG(2))))","v":-0.44716938520678134},null,{"$f":"N12","v":1212},{"$f":"COUNTIF(L132:L156,AS12)","v":6},{"$f":"AT12/(AV4-AT20)","v":0.2608695652173913},{"$f":"IF(AU12=0,0,(AU12*((LOG(AU12))/LOG(2))))","v":-0.50572159704413644}]
[21,1201,21,1257,22,1265,23,1287,null,null,0,2222,null,1221,{"$f":"COUNTIF($L$7:$L$500,N13)","v":6},{"$f":"O13/$Q$4","v":4.0268456375838924E-2},{"$f":"IF(P13=0,0,(P13*((LOG(P13))/LOG(2))))","v":-0.18661232294259081},null,null,{"$f":"N13","v":1221},{"$f":"COUNTIF(L7:L31,T13)","v":2},{"$f":"U13/(W4-U20)","v":9.0909090909090912E-2},{"$f":"IF(V13=0,0,(V13*((LOG(V13))/LOG(2))))","v":-0.31449378351248153},null,{"$f":"N13","v":1221},{"$f":"COUNTIF(L32:L56,Y13)","v":1},{"$f":"Z13/(AB4-Z20)","v":4.7619047619047616E-2},{"$f":"IF(AA13=0,0,(AA13*((LOG(AA13))/LOG(2))))","v":-0.20915797251327431},null,{"$f":"N13","v":1221},{"$f":"COUNTIF(L57:L81,AD13)","v":0},{"$f":"AE13/(AG4-AE20)","v":0},{"$f":"IF(AF13=0,0,(AF13*((LOG(AF13))/LOG(2))))","v":0},null,{"$f":"N13","v":1221},{"$f":"COUNTIF(L82:L106,AI13)","v":0},{"$f":"AJ13/(AL4-AJ20)","v":0},{"$f":"IF(AK13=0,0,(AK13*((LOG(AK13))/LOG(2))))","v":0},null,{"$f":"N13","v":1221},{"$f":"COUNTIF(L107:L131,AN13)","v":1},{"$f":"AO13/(AQ4-AO20)","v":4.5454545454545456E-2},{"$f":"IF(AP13=0,0,(AP13*((LOG(AP13))/LOG(2))))","v":-0.20270143721078623},null,{"$f":"N13","v":1221},{"$f":"COUNTIF(L132:L156,AS13)","v":2},{"$f":"AT13/(AV4-AT20)","v":8.6956521739130432E-2},{"$f":"IF(AU13=0,0,(AU13*((LOG(AU13))/LOG(2))))","v":-0.30639669183104457}]
[12,1435,23,1447,24,1467,23,1521,null,null,0,1222,null,1222,{"$f":"COUNTIF($L$7:$L$500,N14)","v":12},{"$f":"O14/$Q$4","v":8.0536912751677847E-2},{"$f":"IF(P14=0,0,(P14*((LOG(P14))/LOG(2))))","v":-0.29268773313350377},null,null,{"$f":"N14","v":1222},{"$f":"COUNTIF(L7:L31,T14)","v":4},{"$f":"U14/(W4-U20)","v":0.18181818181818182},{"$f":"IF(V14=0,0,(V14*((LOG(V14))/LOG(2))))","v":-0.44716938520678134},null,{"$f":"N14","v":1222},{"$f":"COUNTIF(L32:L56,Y14)","v":3},{"$f":"Z14/(AB4-Z20)","v":0.14285714285714285},{"$f":"IF(AA14=0,0,(AA14*((LOG(AA14))/LOG(2))))","v":-0.40105070315108626},null,{"$f":"N14","v":1222},{"$f":"COUNTIF(L57:L81,AD14)","v":0},{"$f":"AE14/(AG4-AE20)","v":0},{"$f":"IF(AF14=0,0,(AF14*((LOG(AF14))/LOG(2))))","v":0},null,{"$f":"N14","v":1222},{"$f":"COUNTIF(L82:L106,AI14)","v":1},{"$f":"AJ14/(AL4-AJ20)","v":5.2631578947368418E-2},{"$f":"IF(AK14=0,0,(AK14*((LOG(AK14))/LOG(2))))","v":-0.22357513228650452},null,{"$f":"N14","v":1222},{"$f":"COUNTIF(L107:L131,AN14)","v":1},{"$f":"AO14/(AQ4-AO20)","v":4.5454545454545456E-2},{"$f":"IF(AP14=0,0,(AP14*((LOG(AP14))/LOG(2))))","v":-0.20270143721078623},null,{"$f":"N14","v":1222},{"$f":"COUNTIF(L132:L156,AS14)","v":3},{"$f":"AT14/(AV4-AT20)","v":0.13043478260869565},{"$f":"IF(AU14=0,0,(AU14*((LOG(AU14))/LOG(2))))","v":-0.3832955811307639}]
[21,1641,21,1659,11,1672,21,1687,null,null,0,2212,null,2111,{"$f":"COUNTIF($L$7:$L$500,N15)","v":1},{"$f":"O15/$Q$4","v":6.7114093959731542E-3},{"$f":"IF(P15=0,0,(P15*((LOG(P15))/LOG(2))))","v":-4.8450795439343365E-2},null,null,{"$f":"N15","v":2111},{"$f":"COUNTIF(L7:L31,T15)","v":0},{"$f":"U15/(W4-U20)","v":0},{"$f":"IF(V15=0,0,(V15*((LOG(V15))/LOG(2))))","v":0},null,{"$f":"N15","v":2111},{"$f":"COUNTIF(L32:L56,Y15)","v":0},{"$f":"Z15/(AB4-Z20)","v":0},{"$f":"IF(AA15=0,0,(AA15*((LOG(AA15))/LOG(2))))","v":0},null,{"$f":"N15","v":2111},{"$f":"COUNTIF(L57:L81,AD15)","v":1},{"$f":"AE15/(AG4-AE20)","v":0.05},{"$f":"IF(AF15=0,0,(AF15*((LOG(AF15))/LOG(2))))","v":-0.21609640474436814},null,{"$f":"N15","v":2111},{"$f":"COUNTIF(L82:L106,AI15)","v":0},{"$f":"AJ15/(AL4-AJ20)","v":0},{"$f":"IF(AK15=0,0,(AK15*((LOG(AK15))/LOG(2))))","v":0},null,{"$f":"N15","v":2111},{"$f":"COUNTIF(L107:L131,AN15)","v":0},{"$f":"AO15/(AQ4-AO20)","v":0},{"$f":"IF(AP15=0,0,(AP15*((LOG(AP15))/LOG(2))))","v":0},null,{"$f":"N15","v":2111},{"$f":"COUNTIF(L132:L156,AS15)","v":0},{"$f":"AT15/(AV4-AT20)","v":0},{"$f":"IF(AU15=0,0,(AU15*((LOG(AU15))/LOG(2))))","v":0}]
[12,1793,23,1816,24,1844,14,1889,null,null,0,1221,null,2112,{"$f":"COUNTIF($L$7:$L$500,N16)","v":8},{"$f":"O16/$Q$4","v":5.3691275167785234E-2},{"$f":"IF(P16=0,0,(P16*((LOG(P16))/LOG(2))))","v":-0.22653253801139125},null,null,{"$f":"N16","v":2112},{"$f":"COUNTIF(L7:L31,T16)","v":1},{"$f":"U16/(W4-U20)","v":4.5454545454545456E-2},{"$f":"IF(V16=0,0,(V16*((LOG(V16))/LOG(2))))","v":-0.20270143721078623},null,{"$f":"N16","v":2112},{"$f":"COUNTIF(L32:L56,Y16)","v":0},{"$f":"Z16/(AB4-Z20)","v":0},{"$f":"IF(AA16=0,0,(AA16*((LOG(AA16))/LOG(2))))","v":0},null,{"$f":"N16","v":2112},{"$f":"COUNTIF(L57:L81,AD16)","v":0},{"$f":"AE16/(AG4-AE20)","v":0},{"$f":"IF(AF16=0,0,(AF16*((LOG(AF16))/LOG(2))))","v":0},null,{"$f":"N16","v":2112},{"$f":"COUNTIF(L82:L106,AI16)","v":4},{"$f":"AJ16/(AL4-AJ20)","v":0.21052631578947367},{"$f":"IF(AK16=0,0,(AK16*((LOG(AK16))/LOG(2))))","v":-0.47324789756707064},null,{"$f":"N16","v":2112},{"$f":"COUNTIF(L107:L131,AN16)","v":2},{"$f":"AO16/(AQ4-AO20)","v":9.0909090909090912E-2},{"$f":"IF(AP16=0,0,(AP16*((LOG(AP16))/LOG(2))))","v":-0.31449378351248153},null,{"$f":"N16","v":2112},{"$f":"COUNTIF(L132:L156,AS16)","v":1},{"$f":"AT16/(AV4-AT20)","v":4.3478260869565216E-2},{"$f":"IF(AU16=0,0,(AU16*((LOG(AU16))/LOG(2))))","v":-0.19667660678508753}]
[21,2021,12,2032,24,2047,23,2062,null,null,0,2122,null,2121,{"$f":"COUNTIF($L$7:$L$500,N17)","v":10},{"$f":"O17/$Q$4","v":6.7114093959731544E-2},{"$f":"IF(P17=0,0,(P17*((LOG(P17))/LOG(2))))","v":-0.26155976010569121},null,null,{"$f":"N17","v":2121},{"$f":"COUNTIF(L7:L31,T17)","v":1},{"$f":"U17/(W4-U20)","v":4.5454545454545456E-2},{"$f":"IF(V17=0,0,(V17*((LOG(V17))/LOG(2))))","v":-0.20270143721078623},null,{"$f":"N17","v":2121},{"$f":"COUNTIF(L32:L56,Y17)","v":1},{"$f":"Z17/(AB4-Z20)","v":4.7619047619047616E-2},{"$f":"IF(AA17=0,0,(AA17*((LOG(AA17))/LOG(2))))","v":-0.20915797251327431},null,{"$f":"N17","v":2121},{"$f":"COUNTIF(L57:L81,AD17)","v":2},{"$f":"AE17/(AG4-AE20)","v":0.1},{"$f":"IF(AF17=0,0,(AF17*((LOG(AF17))/LOG(2))))","v":-0.33219280948873625},null,{"$f":"N17","v":2121},{"$f":"COUNTIF(L82:L106,AI17)","v":1},{"$f":"AJ17/(AL4-AJ20)","v":5.2631578947368418E-2},{"$f":"IF(AK17=0,0,(AK17*((LOG(AK17))/LOG(2))))","v":-0.22357513228650452},null,{"$f":"N17","v":2121},{"$f":"COUNTIF(L107:L131,AN17)","v":1},{"$f":"AO17/(AQ4-AO20)","v":4.5454545454545456E-2},{"$f":"IF(AP17=0,0,(AP17*((LOG(AP17))/LOG(2))))","v":-0.20270143721078623},null,{"$f":"N17","v":2121},{"$f":"COUNTIF(L132:L156,AS17)","v":4},{"$f":"AT17/(AV4-AT20)","v":0.17391304347826086},{"$f":"IF(AU17=0,0,(AU17*((LOG(AU17))/LOG(2))))","v":-0.43888034018382832}]
[12,2191,23,2223,24,2238,23,2276,null,null,0,1222,null,2122,{"$f":"COUNTIF($L$7:$L$500,N18)","v":25},{"$f":"O18/$Q$4","v":0.16778523489932887},{"$f":"IF(P18=0,0,(P18*((LOG(P18))/LOG(2))))","v":-0.43209938434352968},null,null,{"$f":"N18","v":2122},{"$f":"COUNTIF(L7:L31,T18)","v":6},{"$f":"U18/(W4-U20)","v":0.27272727272727271},{"$f":"IF(V18=0,0,(V18*((LOG(V18))/LOG(2))))","v":-0.51121885034076575},null,{"$f":"N18","v":2122},{"$f":"COUNTIF(L32:L56,Y18)","v":2},{"$f":"Z18/(AB4-Z20)","v":9.5238095238095233E-2},{"$f":"IF(AA18=0,0,(AA18*((LOG(AA18))/LOG(2))))","v":-0.32307784978845333},null,{"$f":"N18","v":2122},{"$f":"COUNTIF(L57:L81,AD18)","v":5},{"$f":"AE18/(AG4-AE20)","v":0.25},{"$f":"IF(AF18=0,0,(AF18*((LOG(AF18))/LOG(2))))","v":-0.5},null,{"$f":"N18","v":2122},{"$f":"COUNTIF(L82:L106,AI18)","v":6},{"$f":"AJ18/(AL4-AJ20)","v":0.31578947368421051},{"$f":"IF(AK18=0,0,(AK18*((LOG(AK18))/LOG(2))))","v":-0.52514684612287243},null,{"$f":"N18","v":2122},{"$f":"COUNTIF(L107:L131,AN18)","v":4},{"$f":"AO18/(AQ4-AO20)","v":0.18181818181818182},{"$f":"IF(AP18=0,0,(AP18*((LOG(AP18))/LOG(2))))","v":-0.44716938520678134},null,{"$f":"N18","v":2122},{"$f":"COUNTIF(L132:L156,AS18)","v":2},{"$f":"AT18/(AV4-AT20)","v":8.6956521739130432E-2},{"$f":"IF(AU18=0,0,(AU18*((LOG(AU18))/LOG(2))))","v":-0.30639669183104457}]
[21,2374,12,2389,24,2399,23,2416,null,null,0,2122,null,2211,{"$f":"COUNTIF($L$7:$L$500,N19)","v":2},{"$f":"O19/$Q$4","v":1.3422818791946308E-2},{"$f":"IF(P19=0,0,(P19*((LOG(P19))/LOG(2))))","v":-8.3478772086740413E-2},null,null,{"$f":"N19","v":2211},{"$f":"COUNTIF(L7:L31,T19)","v":1},{"$f":"U19/(W4-U20)","v":4.5454545454545456E-2},{"$f":"IF(V19=0,0,(V19*((LOG(V19))/LOG(2))))","v":-0.20270143721078623},null,{"$f":"N19","v":2211},{"$f":"COUNTIF(L32:L56,Y19)","v":1},{"$f":"Z19/(AB4-Z20)","v":4.7619047619047616E-2},{"$f":"IF(AA19=0,0,(AA19*((LOG(AA19))/LOG(2))))","v":-0.20915797251327431},null,{"$f":"N19","v":2211},{"$f":"COUNTIF(L57:L81,AD19)","v":0},{"$f":"AE19/(AG4-AE20)","v":0},{"$f":"IF(AF19=0,0,(AF19*((LOG(AF19))/LOG(2))))","v":0},null,{"$f":"N19","v":2211},{"$f":"COUNTIF(L82:L106,AI19)","v":0},{"$f":"AJ19/(AL4-AJ20)","v":0},{"$f":"IF(AK19=0,0,(AK19*((LOG(AK19))/LOG(2))))","v":0},null,{"$f":"N19","v":2211},{"$f":"COUNTIF(L107:L131,AN19)","v":0},{"$f":"AO19/(AQ4-AO20)","v":0},{"$f":"IF(AP19=0,0,(AP19*((LOG(AP19))/LOG(2))))","v":0},null,{"$f":"N19","v":2211},{"$f":"COUNTIF(L132:L156,AS19)","v":0},{"$f":"AT19/(AV4-AT20)","v":0},{"$f":"IF(AU19=0,0,(AU19*((LOG(AU19))/LOG(2))))","v":0}]
[12,2526,14,2546,24,2556,23,2564,null,null,0,1122,null,2212,{"$f":"COUNTIF($L$7:$L$500,N20)","v":22},{"$f":"O20/$Q$4","v":0.1476510067114094},{"$f":"IF(P20=0,0,(P20*((LOG(P20))/LOG(2))))","v":-0.40747793181306724},null,null,{"$f":"N20","v":2212},{"$f":"COUNTIF(L7:L31,T20)","v":3},null,null,null,{"$f":"N20","v":2212},{"$f":"COUNTIF(L32:L56,Y20)","v":4},null,null,null,{"$f":"N20","v":2212},{"$f":"COUNTIF(L57:L81,AD20)","v":5},null,null,null,{"$f":"N20","v":2212},{"$f":"COUNTIF(L82:L106,AI20)","v":6},null,null,null,{"$f":"N20","v":2212},{"$f":"COUNTIF(L107:L131,AN20)","v":3},null,null,null,{"$f":"N20","v":2212},{"$f":"COUNTIF(L132:L156,AS20)","v":1}]
[21,2675,12,2682,13,2690,23,2710,null,null,0,2112,null,2221,{"$f":"COUNTIF($L$7:$L$500,N21)","v":6},{"$f":"O21/$Q$4","v":4.0268456375838924E-2},{"$f":"IF(P21=0,0,(P21*((LOG(P21))/LOG(2))))","v":-0.18661232294259081},null,null,{"$f":"N21","v":2221},{"$f":"COUNTIF(L7:L31,T21)","v":1},{"$f":"U21/(W4-U20)","v":4.5454545454545456E-2},{"$f":"IF(V21=0,0,(V21*((LOG(V21))/LOG(2))))","v":-0.20270143721078623},null,{"$f":"N21","v":2221},{"$f":"COUNTIF(L32:L56,Y21)","v":2},{"$f":"Z21/(AB4-Z20)","v":9.5238095238095233E-2},{"$f":"IF(AA21=0,0,(AA21*((LOG(AA21))/LOG(2))))","v":-0.32307784978845333},null,{"$f":"N21","v":2221},{"$f":"COUNTIF(L57:L81,AD21)","v":1},{"$f":"AE21/(AG4-AE20)","v":0.05},{"$f":"IF(AF21=0,0,(AF21*((LOG(AF21))/LOG(2))))","v":-0.21609640474436814},null,{"$f":"N21","v":2221},{"$f":"COUNTIF(L82:L106,AI21)","v":1},{"$f":"AJ21/(AL4-AJ20)","v":5.2631578947368418E-2},{"$f":"IF(AK21=0,0,(AK21*((LOG(AK21))/LOG(2))))","v":-0.22357513228650452},null,{"$f":"N21","v":2221},{"$f":"COUNTIF(L107:L131,AN21)","v":1},{"$f":"AO21/(AQ4-AO20)","v":4.5454545454545456E-2},{"$f":"IF(AP21=0,0,(AP21*((LOG(AP21))/LOG(2))))","v":-0.20270143721078623},null,{"$f":"N21","v":2221},{"$f":"COUNTIF(L132:L156,AS21)","v":0},{"$f":"AT21/(AV4-AT20)","v":0},{"$f":"IF(AU21=0,0,(AU21*((LOG(AU21))/LOG(2))))","v":0}]
[12,2834,23,2842,24,2850,23,2867,null,null,0,1222,null,2222,{"$f":"COUNTIF($L$7:$L$500,N22)","v":16},{"$f":"O22/$Q$4","v":0.10738255033557047},{"$f":"IF(P22=0,0,(P22*((LOG(P22))/LOG(2))))","v":-0.34568252568721197},null,null,{"$f":"N22","v":2222},{"$f":"COUNTIF(L7:L31,T22)","v":5},{"$f":"U22/(W4-U20)","v":0.22727272727272727},{"$f":"IF(V22=0,0,(V22*((LOG(V22))/LOG(2))))","v":-0.48579625539771243},null,{"$f":"N22","v":2222},{"$f":"COUNTIF(L32:L56,Y22)","v":5},{"$f":"Z22/(AB4-Z20)","v":0.23809523809523808},{"$f":"IF(AA22=0,0,(AA22*((LOG(AA22))/LOG(2))))","v":-0.49294983997414238},null,{"$f":"N22","v":2222},{"$f":"COUNTIF(L57:L81,AD22)","v":3},{"$f":"AE22/(AG4-AE20)","v":0.15},{"$f":"IF(AF22=0,0,(AF22*((LOG(AF22))/LOG(2))))","v":-0.41054483912493089},null,{"$f":"N22","v":2222},{"$f":"COUNTIF(L82:L106,AI22)","v":2},{"$f":"AJ22/(AL4-AJ20)","v":0.10526315789473684},{"$f":"IF(AK22=0,0,(AK22*((LOG(AK22))/LOG(2))))","v":-0.34188710667827216},null,{"$f":"N22","v":2222},{"$f":"COUNTIF(L107:L131,AN22)","v":1},{"$f":"AO22/(AQ4-AO20)","v":4.5454545454545456E-2},{"$f":"IF(AP22=0,0,(AP22*((LOG(AP22))/LOG(2))))","v":-0.20270143721078623},null,{"$f":"N22","v":2222},{"$f":"COUNTIF(L132:L156,AS22)","v":0},{"$f":"AT22/(AV4-AT20)","v":0},{"$f":"IF(AU22=0,0,(AU22*((LOG(AU22))/LOG(2))))","v":0}]
[21,2987,12,3005,24,3024,23,3055,null,null,0,2122,null,null,null,{"$f":"SUM(P7:P22)","v":0.99999999999999989},{"$f":"-SUM(Q7:Q22)","v":3.5529579755298291},null,null,null,null,{"$f":"SUM(V7:V22)","v":1},{"$f":"-SUM(W7:W22)","v":2.7721854605116718},null,null,null,{"$f":"SUM(AA7:AA22)","v":0.99999999999999978},{"$f":"-SUM(AB7:AB22)","v":3.1961547809328676},null,null,null,{"$f":"SUM(AF7:AF22)","v":1},{"$f":"-SUM(AG7:AG22)","v":2.9037016960573485},null,null,null,{"$f":"SUM(AK7:AK22)","v":0.99999999999999989},{"$f":"-SUM(AL7:AL22)","v":2.655050539417775},null,null,null,{"$f":"SUM(AP7:AP22)","v":0.99999999999999978},{"$f":"-SUM(AQ7:AQ22)","v":3.2433003685389572},null,null,null,{"$f":"SUM(AU7:AU22)","v":1},{"$f":"-SUM(AV7:AV22)","v":3.0337940209922127}]
[21,3166,12,3173,24,3206,23,3215,null,null,0,2122,null,null,null,"U=",{"$f":"Q23/(LOG(Q4)/LOG(2))","v":0.49215612095205302},null,null,null,null,"U1=",{"$f":"W23/(LOG(W4)/LOG(2))","v":0.59695764623713532},null,null,null,"U2=",{"$f":"AB23/(LOG(AB4)/LOG(2))","v":0.68825447006099338},null,null,null,"U3=",{"$f":"AG23/(LOG(AG4)/LOG(2))","v":0.62527812606492617},null,null,null,"U4=",{"$f":"AL23/(LOG(AL4)/LOG(2))","v":0.5717340139136764},null,null,null,"U5=",{"$f":"AQ23/(LOG(AQ4)/LOG(2))","v":0.69840671976026258},null,null,null,"U6=",{"$f":"AV23/(LOG(AV4)/LOG(2))","v":0.66168349697844542}]
[21,3317,21,3325,11,3334,12,3356,null,null,0,2211]
[12,3477,23,3504,24,3519,23,3535,null,null,0,1222]
[12,3661,23,3673,24,3680,14,3698,null,null,0,1221,null,"Total Target Seq"]
[21,3862,21,3871,22,3879,23,3887,null,null,0,2222,null,{"$f":"COUNTIF(L7:L156,G3)","v":22},null,25,25,25,25,25,25]
[21,4000,21,4031,22,4046,23,4063,null,null,0,2222,null,null,null,"% of reinforcement given in 6 equal intervals based on number of trials "]
[21,4176,12,4184,24,4202,23,4233,null,null,0,2122,null,null,null,"%_1","%_2","%_3","%_4","%_5","%_6"]
[21,4340,12,4366,24,4385,23,4393,null,null,0,2122,null,null,"target sequence",{"$f":"$G$3","v":2212},{"$f":"$G$3","v":2212},{"$f":"$G$3","v":2212},{"$f":"$G$3","v":2212},{"$f":"$G$3","v":2212},{"$f":"$G$3","v":2212}]
[12,4504,23,4513,13,4531,23,4547,null,null,0,1212,null,null,"total reinforcement",{"$f":"U20","v":3},{"$f":"Z20","v":4},{"$f":"AE20","v":5},{"$f":"AJ20","v":6},{"$f":"AO20","v":3},{"$f":"AT20","v":1}]
[21,4647,21,4663,11,4679,21,4687,null,null,0,2212,null,null,"% target"]
[12,4795,14,4806,24,4841,23,4868,null,null,0,1122,null,null,"CCRF"]
[12,4989,23,4998,24,5006,23,5057,null,null,0,1222,null,null,"% CCRf"]
[21,5174,21,5195,22,5203,14,5222,null,null,0,2221,null,null,"average response rate",{"$f":"H31/P28","v":175.72},{"$f":"(H56-H31)/Q28","v":174.8},{"$f":"(H81-H56)/R28","v":151.63999999999999},{"$f":"(H106-H81)/S28","v":147.19999999999999},{"$f":"(H131-H106)/T28","v":157.24},{"$f":"(H156-H131)/U28","v":-806.6}]
[21,5366,21,5374,22,5381,23,5389,null,null,0,2222]
[12,5514,23,5523,13,5562,23,5574,null,null,0,1212]
[21,5694,21,5703,22,5715,23,5723,null,null,0,2222]
[21,5829,12,5855,24,5867,23,5913,null,null,0,2122]
[21,6037,21,6049,22,6063,23,6071,null,null,0,2222]
[12,6194,23,6202,24,6217,23,6233,null,null,0,1222]
[12,6362,14,6398,24,6425,14,6447,null,null,0,1121]
[21,6573,21,6587,22,6615,23,6624,null,null,0,2222]
[12,6728,14,6744,13,6777,23,6787,null,null,0,1112]
[21,6901,21,6909,22,6939,14,6967,null,null,0,2221]
[12,7090,23,7106,13,7144,23,7178,null,null,0,1212]
[21,7286,12,7303,24,7313,14,7339,null,null,0,2121]
[21,7445,21,7460,11,7468,12,7490,null,null,0,2211]
[21,7605,21,7662,22,7671,23,7737,null,null,0,2222]
[21,7835,21,7855,11,7866,21,7878,null,null,0,2212]
[12,8009,23,8027,24,8045,23,8084,null,null,0,1222]
[21,8188,21,8203,11,8211,21,8241,null,null,0,2212]
[21,8353,21,8375,11,8404,21,8432,null,null,0,2212]
[21,8549,12,8562,24,8581,23,8612,null,null,0,2122]
[12,8735,23,8744,24,8752,14,8763,null,null,0,1221]
[21,8862,12,8873,24,8882,14,8900,null,null,0,2121]
[21,8999,12,9016,24,9032,23,9040,null,null,0,2122]
[21,9154,12,9162,24,9172,23,9181,null,null,0,2122]
[12,9298,23,9312,13,9323,23,9334,null,null,0,1212]
[12,9459,14,9483,24,9491,14,9516,null,null,0,1121]
[12,9629,14,9635,24,9653,23,9720,null,null,0,1122]
[21,9827,21,9835,22,9850,23,9862,null,null,0,2222]
[21,9966,21,9985,11,10008,21,10016,null,null,0,2212]
[12,10117,23,10140,13,10163,23,10187,null,null,0,1212]
[21,10296,21,10326,11,10338,21,10349,null,null,0,2212]
[21,10467,21,10474,22,10486,23,10498,null,null,0,2222]
[21,10604,21,10617,11,10628,21,10643,null,null,0,2212]
[21,10747,12,10767,24,10788,23,10795,null,null,0,2122]
[12,10908,23,10916,13,10926,14,10957,null,null,0,1211]
[21,11060,12,11069,24,11077,14,11089,null,null,0,2121]
[21,11196,12,11208,24,11224,23,11241,null,null,0,2122]
[12,11361,23,11370,13,11379,23,11388,null,null,0,1212]
[12,11494,14,11515,24,11523,23,11531,null,null,0,1122]
[21,11644,21,11652,22,11667,14,11674,null,null,0,2221]
[21,11777,12,11794,24,11802,23,11810,null,null,0,2122]
[21,11915,12,11923,13,11930,14,11939,null,null,0,2111]
[12,12057,23,12066,13,12102,23,12133,null,null,0,1212]
[21,12246,21,12254,11,12262,21,12273,null,null,0,2212]
[21,12370,21,12379,22,12398,23,12406,null,null,0,2222]
[21,12504,21,12523,11,12530,21,12554,null,null,0,2212]
[21,12662,21,12677,22,12691,14,12710,null,null,0,2221]
[12,12839,23,12854,13,12865,23,12891,null,null,0,1212]
[21,13010,12,13018,13,13053,23,13065,null,null,0,2112]
[21,13186,21,13194,11,13203,21,13226,null,null,0,2212]
[21,13323,21,13340,11,13347,21,13360,null,null,0,2212]
[21,13463,12,13473,24,13496,23,13511,null,null,0,2122]
[21,13620,21,13634,11,13645,21,13655,null,null,0,2212]
[12,13762,23,13781,24,13796,23,13804,null,null,0,1222]
[21,13909,21,13917,11,13925,21,13933,null,null,0,2212]
[21,14024,12,14033,24,14041,14,14075,null,null,0,2121]
[21,14191,12,14205,24,14223,23,14238,null,null,0,2122]
[21,14342,12,14350,13,14360,23,14368,null,null,0,2112]
[12,14480,14,14495,24,14504,23,14511,null,null,0,1122]
[21,14620,21,14632,11,14640,21,14648,null,null,0,2212]
[21,14740,21,14761,11,14769,21,14794,null,null,0,2212]
[21,14890,12,14897,24,14906,23,14913,null,null,0,2122]
[21,15007,12,15027,24,15036,23,15043,null,null,0,2122]
[12,15153,23,15174,13,15186,23,15203,null,null,0,1212]
[21,15309,12,15317,13,15337,23,15346,null,null,0,2112]
[12,15453,23,15461,13,15469,23,15478,null,null,0,1212]
[21,15581,12,15597,24,15631,23,15646,null,null,0,2122]
[21,15754,12,15761,13,15780,23,15789,null,null,0,2112]
[21,15911,21,15925,22,15933,23,15941,null,null,0,2222]
[21,16049,12,16057,24,16069,23,16076,null,null,0,2122]
[21,16202,21,16210,22,16226,23,16234,null,null,0,2222]
[21,16329,21,16360,22,16374,14,16393,null,null,0,2221]
[12,16492,23,16504,24,16518,14,16533,null,null,0,1221]
[21,16679,12,16704,24,16716,23,16731,null,null,0,2122]
[21,16840,12,16847,24,16870,14,16881,null,null,0,2121]
[21,16997,12,17004,24,17028,23,17037,null,null,0,2122]
[21,17160,21,17177,22,17199,23,17210,null,null,0,2222]
[21,17313,21,17330,11,17338,21,17349,null,null,0,2212]
[21,17473,12,17481,24,17491,23,17499,null,null,0,2122]
[12,17611,14,17638,24,17647,23,17656,null,null,0,1122]
[21,17759,12,17773,24,17798,23,17807,null,null,0,2122]
[21,17906,12,17913,13,17930,23,17946,null,null,0,2112]
[12,18056,23,18065,13,18095,23,18114,null,null,0,1212]
[12,18213,14,18228,24,18237,14,18264,null,null,0,1121]
[12,18376,14,18422,24,18450,23,18494,null,null,0,1122]
[21,18602,21,18611,11,18620,21,18629,null,null,0,2212]
[12,18738,23,18747,13,18755,23,18776,null,null,0,1212]
[12,18888,23,18898,13,18908,14,18939,null,null,0,1211]
[21,19043,21,19068,11,19086,21,19094,null,null,0,2212]
[12,19199,23,19217,13,19229,23,19238,null,null,0,1212]
[12,19345,14,19363,24,19374,14,19393,null,null,0,1121]
[12,19501,23,19511,24,19519,23,19527,null,null,0,1222]
[12,19652,23,19676,13,19687,14,19717,null,null,0,1211]
[21,19818,12,19833,13,19849,23,19881,null,null,0,2112]
[12,19993,23,20001,13,20011,14,20020,null,null,0,1211]
[12,20131,23,20140,13,20148,23,20165,null,null,0,1212]
[12,20280,14,20288,13,20301,14,20346,null,null,0,1111]
[12,20459,23,20478,24,20489,23,20497,null,null,0,1222]
[12,20608,23,20617,24,20629,14,20636,null,null,0,1221]
[12,20755,23,20765,13,20788,23,20800,null,null,0,1212]
[12,20913,14,20928,24,20937,23,20955,null,null,0,1122]
[21,21052,12,21060,24,21068,14,21076,null,null,0,2121]
[12,21190,23,21198,24,21206,23,21215,null,null,0,1222]
[12,21333,23,21344,13,21361,23,21404,null,null,0,1212]
[12,21517,14,21523,13,21531,23,21558,null,null,0,1112]
[21,21660,12,21674,24,21683,23,21691,null,null,0,2122]
[12,21809,23,21818,24,21837,14,21856,null,null,0,1221]
[21,21960,12,21975,24,21983,14,21995,null,null,0,2121]
[12,22097,23,22106,13,22114,23,22123,null,null,0,1212]
[21,22221,12,22229,24,22237,14,22246,null,null,0,2121]
[12,22365,14,22394,24,22414,14,22434,null,null,0,1121]
[12,22547,23,22560,24,22602,23,22611,null,null,0,1222]
[21,22709,12,22725,24,22734,14,22750,null,null,0,2121]
[12,22873,23,22881,13,22896,23,22916,null,null,0,1212]
[12,23024,14,23041,13,23070,23,23082,null,null,0,1112]
[21,23183,12,23202,13,23256,23,23266,null,null,0,2112]
[21,23375,21,23391,11,23399,21,23407,null,null,0,2212]
[12,23506,23,23514,13,23522,23,23538,null,null,0,1212]
[21,23660,12,23668,24,23679,23,23695,null,null,0,2122]
[12,23819,23,23844,13,23855,23,23867,null,null,0,1212]
[12,23985,23,23993,null,null,null,null,null,null,null,12]

{"sheet":"!N110B00.095","index":12,"n_rows":148,"n_cols":48,"rows_kept":148,"cut":false,"hidden":false,"merged":[[4,39,4,42],[5,39,5,40],[4,44,4,47],[5,44,5,45],[4,24,4,27],[5,24,5,25],[4,29,4,32],[5,29,5,30],[4,34,4,37],[5,34,5,35],[1,1,1,2],[5,13,5,14],[26,13,26,14],[27,13,27,14],[4,19,4,22],[5,19,5,20]]}
["Report for:!N110B00.095"]
["Date:","<date>"]
["Hen:","<hen>",null,null,null,"Correct Sequence",{"$f":"Start!J2","v":2212},null,null,null,null,null,null,null,null,"Total Sequences in Data",{"$f":"4994-COUNTBLANK(L7:L5000)","v":142},null,null,null,null,"Total Sequences in Block Data",{"$f":"COUNTA(L7:L30)","v":24},null,null,null,"Total Sequences in Block Data",{"$f":"COUNTA(L31:L53)","v":23},null,null,null,"Total Sequences in Block Data",{"$f":"COUNTA(L54:L77)","v":24},null,null,null,"Total Sequences in Block Data",{"$f":"COUNTA(L78:L101)","v":24},null,null,null,"Total Sequences in Block Data",{"$f":"COUNTA(L102:L124)","v":23},null,null,null,"Total Sequences in Block Data",{"$f":"COUNTA(L125:L148)","v":24}]
[null,null,null,null,null,null,null,null,null,null,null,null,null,null,null,"Total Sequences in Summary",{"$f":"SUM(O7:O22)","v":142},null,null,null,null,"Total Sequences in Block Summary",{"$f":"SUM(U7:U22)","v":24},null,null,null,"Total Sequences in Block Summary",{"$f":"SUM(Z7:Z22)","v":23},null,null,null,"Total Sequences in Block Summary",{"$f":"SUM(AE7:AE22)","v":24},null,null,null,"Total Sequences in Block Summary",{"$f":"SUM(AJ7:AJ22)","v":24},null,null,null,"Total Sequences in Block Summary",{"$f":"SUM(AO7:AO22)","v":23},null,null,null,"Total Sequences in Block Summary",{"$f":"SUM(AT7:AT22)","v":24}]
[null,null,null,null,null,null,null,null,null,null,null,null,null,null,null,null,null,null,null,"Block 1",null,null,null,null,"Block 2",null,null,null,null,"Block 3",null,null,null,null,"Block 4",null,null,null,null,"Block 5",null,null,null,null,"Block 6"]
["Sequence\nComponent\n1","Time\n1","Sequence\nComponent\n2","Time\n2","Sequence\nComponent\n3","Time\n3","Sequence\nComponent\n4","Time\n4","Sequence\nComponent\n5","Time\n5","Correct?\n0=No 1=Yes","Sequence",null,"Frequency",null,"Relative Frequency","Variability",null,null,"Frequency",null,"Relative Frequency","Variability",null,"Frequency",null,"Relative Frequency","Variability",null,"Frequency",null,"Relative Frequency","Variability",null,"Frequency",null,"Relative Frequency","Variability",null,"Frequency",null,"Relative Frequency","Variability",null,"Frequency",null,"Relative Frequency","Variability"]
[21,22,21,31,22,44,14,67,null,null,0,2221,null,1111,{"$f":"COUNTIF($L$7:$L$500,N7)","v":1},{"$f":"O7/$Q$4","v":7.0422535211267607E-3},{"$f":"IF(P7=0,0,(P7*((LOG(P7))/LOG(2))))","v":-5.0350331827497756E-2},null,null,{"$f":"N7","v":1111},{"$f":"COUNTIF(L7:L30,T7)","v":0},{"$f":"U7/(W4-U20)","v":0},{"$f":"IF(V7=0,0,(V7*((LOG(V7))/LOG(2))))","v":0},null,{"$f":"N7","v":1111},{"$f":"COUNTIF(L31:L53,Y7)","v":0},{"$f":"Z7/(AB4-Z20)","v":0},{"$f":"IF(AA7=0,0,(AA7*((LOG(AA7))/LOG(2))))","v":0},null,{"$f":"N7","v":1111},{"$f":"COUNTIF(L54:L77,AD7)","v":0},{"$f":"AE7/(AG4-AE20)","v":0},{"$f":"IF(AF7=0,0,(AF7*((LOG(AF7))/LOG(2))))","v":0},null,{"$f":"N7","v":1111},{"$f":"COUNTIF(L78:L101,AI7)","v":0},{"$f":"AJ7/(AL4-AJ20)","v":0},{"$f":"IF(AK7=0,0,(AK7*((LOG(AK7))/LOG(2))))","v":0},null,{"$f":"N7","v":1111},{"$f":"COUNTIF(L102:L124,AN7)","v":1},{"$f":"AO7/(AQ4-AO20)","v":4.5454545454545456E-2},{"$f":"IF(AP7=0,0,(AP7*((LOG(AP7))/LOG(2))))","v":-0.20270143721078623},null,{"$f":"N7","v":1111},{"$f":"COUNTIF(L125:L148,AS7)","v":0},{"$f":"AT7/(AV4-AT20)","v":0},{"$f":"IF(AU7=0,0,(AU7*((LOG(AU7))/LOG(2))))","v":0}]
[12,180,14,209,24,217,23,234,null,null,0,1122,null,1112,{"$f":"COUNTIF($L$7:$L$500,N8)","v":5},{"$f":"O8/$Q$4","v":3.5211267605633804E-2},{"$f":"IF(P8=0,0,(P8*((LOG(P8))/LOG(2))))","v":-0.16999362762737041},null,null,{"$f":"N8","v":1112},{"$f":"COUNTIF(L7:L30,T8)","v":0},{"$f":"U8/(W4-U20)","v":0},{"$f":"IF(V8=0,0,(V8*((LOG(V8))/LOG(2))))","v":0},null,{"$f":"N8","v":1112},{"$f":"COUNTIF(L31:L53,Y8)","v":2},{"$f":"Z8/(AB4-Z20)","v":9.0909090909090912E-2},{"$f":"IF(AA8=0,0,(AA8*((LOG(AA8))/LOG(2))))","v":-0.31449378351248153},null,{"$f":"N8","v":1112},{"$f":"COUNTIF(L54:L77,AD8)","v":0},{"$f":"AE8/(AG4-AE20)","v":0},{"$f":"IF(AF8=0,0,(AF8*((LOG(AF8))/LOG(2))))","v":0},null,{"$f":"N8","v":1112},{"$f":"COUNTIF(L78:L101,AI8)","v":1},{"$f":"AJ8/(AL4-AJ20)","v":4.7619047619047616E-2},{"$f":"IF(AK8=0,0,(AK8*((LOG(AK8))/LOG(2))))","v":-0.20915797251327431},null,{"$f":"N8","v":1112},{"$f":"COUNTIF(L102:L124,AN8)","v":2},{"$f":"AO8/(AQ4-AO20)","v":9.0909090909090912E-2},{"$f":"IF(AP8=0,0,(AP8*((LOG(AP8))/LOG(2))))","v":-0.31449378351248153},null,{"$f":"N8","v":1112},{"$f":"COUNTIF(L125:L148,AS8)","v":0},{"$f":"AT8/(AV4-AT20)","v":0},{"$f":"IF(AU8=0,0,(AU8*((LOG(AU8))/LOG(2))))","v":0}]
[21,340,12,357,24,410,23,423,null,null,0,2122,null,1121,{"$f":"COUNTIF($L$7:$L$500,N9)","v":9},{"$f":"O9/$Q$4","v":6.3380281690140844E-2},{"$f":"IF(P9=0,0,(P9*((LOG(P9))/LOG(2))))","v":-0.25224224691944591},null,null,{"$f":"N9","v":1121},{"$f":"COUNTIF(L7:L30,T9)","v":0},{"$f":"U9/(W4-U20)","v":0},{"$f":"IF(V9=0,0,(V9*((LOG(V9))/LOG(2))))","v":0},null,{"$f":"N9","v":1121},{"$f":"COUNTIF(L31:L53,Y9)","v":1},{"$f":"Z9/(AB4-Z20)","v":4.5454545454545456E-2},{"$f":"IF(AA9=0,0,(AA9*((LOG(AA9))/LOG(2))))","v":-0.20270143721078623},null,{"$f":"N9","v":1121},{"$f":"COUNTIF(L54:L77,AD9)","v":1},{"$f":"AE9/(AG4-AE20)","v":4.3478260869565216E-2},{"$f":"IF(AF9=0,0,(AF9*((LOG(AF9))/LOG(2))))","v":-0.19667660678508753},null,{"$f":"N9","v":1121},{"$f":"COUNTIF(L78:L101,AI9)","v":1},{"$f":"AJ9/(AL4-AJ20)","v":4.7619047619047616E-2},{"$f":"IF(AK9=0,0,(AK9*((LOG(AK9))/LOG(2))))","v":-0.20915797251327431},null,{"$f":"N9","v":1121},{"$f":"COUNTIF(L102:L124,AN9)","v":2},{"$f":"AO9/(AQ4-AO20)","v":9.0909090909090912E-2},{"$f":"IF(AP9=0,0,(AP9*((LOG(AP9))/LOG(2))))","v":-0.31449378351248153},null,{"$f":"N9","v":1121},{"$f":"COUNTIF(L125:L148,AS9)","v":4},{"$f":"AT9/(AV4-AT20)","v":0.18181818181818182},{"$f":"IF(AU9=0,0,(AU9*((LOG(AU9))/LOG(2))))","v":-0.44716938520678134}]
[21,545,21,561,11,575,21,611,null,null,0,2212,null,1122,{"$f":"COUNTIF($L$7:$L$500,N10)","v":13},{"$f":"O10/$Q$4","v":9.154929577464789E-2},{"$f":"IF(P10=0,0,(P10*((LOG(P10))/LOG(2))))","v":-0.31578166350511738},null,null,{"$f":"N10","v":1122},{"$f":"COUNTIF(L7:L30,T10)","v":3},{"$f":"U10/(W4-U20)","v":0.13636363636363635},{"$f":"IF(V10=0,0,(V10*((LOG(V10))/LOG(2))))","v":-0.39197306153401923},null,{"$f":"N10","v":1122},{"$f":"COUNTIF(L31:L53,Y10)","v":5},{"$f":"Z10/(AB4-Z20)","v":0.22727272727272727},{"$f":"IF(AA10=0,0,(AA10*((LOG(AA10))/LOG(2))))","v":-0.48579625539771243},null,{"$f":"N10","v":1122},{"$f":"COUNTIF(L54:L77,AD10)","v":2},{"$f":"AE10/(AG4-AE20)","v":8.6956521739130432E-2},{"$f":"IF(AF10=0,0,(AF10*((LOG(AF10))/LOG(2))))","v":-0.30639669183104457},null,{"$f":"N10","v":1122},{"$f":"COUNTIF(L78:L101,AI10)","v":2},{"$f":"AJ10/(AL4-AJ20)","v":9.5238095238095233E-2},{"$f":"IF(AK10=0,0,(AK10*((LOG(AK10))/LOG(2))))","v":-0.32307784978845333},null,{"$f":"N10","v":1122},{"$f":"COUNTIF(L102:L124,AN10)","v":1},{"$f":"AO10/(AQ4-AO20)","v":4.5454545454545456E-2},{"$f":"IF(AP10=0,0,(AP10*((LOG(AP10))/LOG(2))))","v":-0.20270143721078623},null,{"$f":"N10","v":1122},{"$f":"COUNTIF(L125:L148,AS10)","v":0},{"$f":"AT10/(AV4-AT20)","v":0},{"$f":"IF(AU10=0,0,(AU10*((LOG(AU10))/LOG(2))))","v":0}]
[21,722,12,731,24,751,23,852,null,null,0,2122,null,1211,{"$f":"COUNTIF($L$7:$L$500,N11)","v":6},{"$f":"O11/$Q$4","v":4.2253521126760563E-2},{"$f":"IF(P11=0,0,(P11*((LOG(P11))/LOG(2))))","v":-0.19287822332888138},null,null,{"$f":"N11","v":1211},{"$f":"COUNTIF(L7:L30,T11)","v":0},{"$f":"U11/(W4-U20)","v":0},{"$f":"IF(V11=0,0,(V11*((LOG(V11))/LOG(2))))","v":0},null,{"$f":"N11","v":1211},{"$f":"COUNTIF(L31:L53,Y11)","v":0},{"$f":"Z11/(AB4-Z20)","v":0},{"$f":"IF(AA11=0,0,(AA11*((LOG(AA11))/LOG(2))))","v":0},null,{"$f":"N11","v":1211},{"$f":"COUNTIF(L54:L77,AD11)","v":0},{"$f":"AE11/(AG4-AE20)","v":0},{"$f":"IF(AF11=0,0,(AF11*((LOG(AF11))/LOG(2))))","v":0},null,{"$f":"N11","v":1211},{"$f":"COUNTIF(L78:L101,AI11)","v":1},{"$f":"AJ11/(AL4-AJ20)","v":4.7619047619047616E-2},{"$f":"IF(AK11=0,0,(AK11*((LOG(AK11))/LOG(2))))","v":-0.20915797251327431},null,{"$f":"N11","v":1211},{"$f":"COUNTIF(L102:L124,AN11)","v":1},{"$f":"AO11/(AQ4-AO20)","v":4.5454545454545456E-2},{"$f":"IF(AP11=0,0,(AP11*((LOG(AP11))/LOG(2))))","v":-0.20270143721078623},null,{"$f":"N11","v":1211},{"$f":"COUNTIF(L125:L148,AS11)","v":4},{"$f":"AT11/(AV4-AT20)","v":0.18181818181818182},{"$f":"IF(AU11=0,0,(AU11*((LOG(AU11))/LOG(2))))","v":-0.44716938520678134}]
[21,947,21,964,11,972,21,1023,null,null,0,2212,null,1212,{"$f":"COUNTIF($L$7:$L$500,N12)","v":21},{"$f":"O12/$Q$4","v":0.14788732394366197},{"$f":"IF(P12=0,0,(P12*((LOG(P12))/LOG(2))))","v":-0.40778889881157993},null,null,{"$f":"N12","v":1212},{"$f":"COUNTIF(L7:L30,T12)","v":1},{"$f":"U12/(W4-U20)","v":4.5454545454545456E-2},{"$f":"IF(V12=0,0,(V12*((LOG(V12))/LOG(2))))","v":-0.20270143721078623},null,{"$f":"N12","v":1212},{"$f":"COUNTIF(L31:L53,Y12)","v":3},{"$f":"Z12/(AB4-Z20)","v":0.13636363636363635},{"$f":"IF(AA12=0,0,(AA12*((LOG(AA12))/LOG(2))))","v":-0.39197306153401923},null,{"$f":"N12","v":1212},{"$f":"COUNTIF(L54:L77,AD12)","v":5},{"$f":"AE12/(AG4-AE20)","v":0.21739130434782608},{"$f":"IF(AF12=0,0,(AF12*((LOG(AF12))/LOG(2))))","v":-0.47861605677601093},null,{"$f":"N12","v":1212},{"$f":"COUNTIF(L78:L101,AI12)","v":4},{"$f":"AJ12/(AL4-AJ20)","v":0.19047619047619047},{"$f":"IF(AK12=0,0,(AK12*((LOG(AK12))/LOG(2))))","v":-0.4556795091007162},null,{"$f":"N12","v":1212},{"$f":"COUNTIF(L102:L124,AN12)","v":3},{"$f":"AO12/(AQ4-AO20)","v":0.13636363636363635},{"$f":"IF(AP12=0,0,(AP12*((LOG(AP12))/LOG(2))))","v":-0.39197306153401923},null,{"$f":"N12","v":1212},{"$f":"COUNTIF(L125:L148,AS12)","v":5},{"$f":"AT12/(AV4-AT20)","v":0.22727272727272727},{"$f":"IF(AU12=0,0,(AU12*((LOG(AU12))/LOG(2))))","v":-0.48579625539771243}]
[21,1119,12,1135,24,1175,23,1191,null,null,0,2122,null,1221,{"$f":"COUNTIF($L$7:$L$500,N13)","v":7},{"$f":"O13/$Q$4","v":4.9295774647887321E-2},{"$f":"IF(P13=0,0,(P13*((LOG(P13))/LOG(2))))","v":-0.21406158719809537},null,null,{"$f":"N13","v":1221},{"$f":"COUNTIF(L7:L30,T13)","v":0},{"$f":"U13/(W4-U20)","v":0},{"$f":"IF(V13=0,0,(V13*((LOG(V13))/LOG(2))))","v":0},null,{"$f":"N13","v":1221},{"$f":"COUNTIF(L31:L53,Y13)","v":3},{"$f":"Z13/(AB4-Z20)","v":0.13636363636363635},{"$f":"IF(AA13=0,0,(AA13*((LOG(AA13))/LOG(2))))","v":-0.39197306153401923},null,{"$f":"N13","v":1221},{"$f":"COUNTIF(L54:L77,AD13)","v":2},{"$f":"AE13/(AG4-AE20)","v":8.6956521739130432E-2},{"$f":"IF(AF13=0,0,(AF13*((LOG(AF13))/LOG(2))))","v":-0.30639669183104457},null,{"$f":"N13","v":1221},{"$f":"COUNTIF(L78:L101,AI13)","v":1},{"$f":"AJ13/(AL4-AJ20)","v":4.7619047619047616E-2},{"$f":"IF(AK13=0,0,(AK13*((LOG(AK13))/LOG(2))))","v":-0.20915797251327431},null,{"$f":"N13","v":1221},{"$f":"COUNTIF(L102:L124,AN13)","v":1},{"$f":"AO13/(AQ4-AO20)","v":4.5454545454545456E-2},{"$f":"IF(AP13=0,0,(AP13*((LOG(AP13))/LOG(2))))","v":-0.20270143721078623},null,{"$f":"N13","v":1221},{"$f":"COUNTIF(L125:L148,AS13)","v":0},{"$f":"AT13/(AV4-AT20)","v":0},{"$f":"IF(AU13=0,0,(AU13*((LOG(AU13))/LOG(2))))","v":0}]
[21,1349,21,1432,22,1470,14,1487,null,null,0,2221,null,1222,{"$f":"COUNTIF($L$7:$L$500,N14)","v":12},{"$f":"O14/$Q$4","v":8.4507042253521125E-2},{"$f":"IF(P14=0,0,(P14*((LOG(P14))/LOG(2))))","v":-0.30124940440424158},null,null,{"$f":"N14","v":1222},{"$f":"COUNTIF(L7:L30,T14)","v":5},{"$f":"U14/(W4-U20)","v":0.22727272727272727},{"$f":"IF(V14=0,0,(V14*((LOG(V14))/LOG(2))))","v":-0.48579625539771243},null,{"$f":"N14","v":1222},{"$f":"COUNTIF(L31:L53,Y14)","v":1},{"$f":"Z14/(AB4-Z20)","v":4.5454545454545456E-2},{"$f":"IF(AA14=0,0,(AA14*((LOG(AA14))/LOG(2))))","v":-0.20270143721078623},null,{"$f":"N14","v":1222},{"$f":"COUNTIF(L54:L77,AD14)","v":5},{"$f":"AE14/(AG4-AE20)","v":0.21739130434782608},{"$f":"IF(AF14=0,0,(AF14*((LOG(AF14))/LOG(2))))","v":-0.47861605677601093},null,{"$f":"N14","v":1222},{"$f":"COUNTIF(L78:L101,AI14)","v":0},{"$f":"AJ14/(AL4-AJ20)","v":0},{"$f":"IF(AK14=0,0,(AK14*((LOG(AK14))/LOG(2))))","v":0},null,{"$f":"N14","v":1222},{"$f":"COUNTIF(L102:L124,AN14)","v":0},{"$f":"AO14/(AQ4-AO20)","v":0},{"$f":"IF(AP14=0,0,(AP14*((LOG(AP14))/LOG(2))))","v":0},null,{"$f":"N14","v":1222},{"$f":"COUNTIF(L125:L148,AS14)","v":1},{"$f":"AT14/(AV4-AT20)","v":4.5454545454545456E-2},{"$f":"IF(AU14=0,0,(AU14*((LOG(AU14))/LOG(2))))","v":-0.20270143721078623}]
[21,1668,12,1709,24,1725,23,1816,null,null,0,2122,null,2111,{"$f":"COUNTIF($L$7:$L$500,N15)","v":1},{"$f":"O15/$Q$4","v":7.0422535211267607E-3},{"$f":"IF(P15=0,0,(P15*((LOG(P15))/LOG(2))))","v":-5.0350331827497756E-2},null,null,{"$f":"N15","v":2111},{"$f":"COUNTIF(L7:L30,T15)","v":0},{"$f":"U15/(W4-U20)","v":0},{"$f":"IF(V15=0,0,(V15*((LOG(V15))/LOG(2))))","v":0},null,{"$f":"N15","v":2111},{"$f":"COUNTIF(L31:L53,Y15)","v":0},{"$f":"Z15/(AB4-Z20)","v":0},{"$f":"IF(AA15=0,0,(AA15*((LOG(AA15))/LOG(2))))","v":0},null,{"$f":"N15","v":2111},{"$f":"COUNTIF(L54:L77,AD15)","v":0},{"$f":"AE15/(AG4-AE20)","v":0},{"$f":"IF(AF15=0,0,(AF15*((LOG(AF15))/LOG(2))))","v":0},null,{"$f":"N15","v":2111},{"$f":"COUNTIF(L78:L101,AI15)","v":1},{"$f":"AJ15/(AL4-AJ20)","v":4.7619047619047616E-2},{"$f":"IF(AK15=0,0,(AK15*((LOG(AK15))/LOG(2))))","v":-0.20915797251327431},null,{"$f":"N15","v":2111},{"$f":"COUNTIF(L102:L124,AN15)","v":0},{"$f":"AO15/(AQ4-AO20)","v":0},{"$f":"IF(AP15=0,0,(AP15*((LOG(AP15))/LOG(2))))","v":0},null,{"$f":"N15","v":2111},{"$f":"COUNTIF(L125:L148,AS15)","v":0},{"$f":"AT15/(AV4-AT20)","v":0},{"$f":"IF(AU15=0,0,(AU15*((LOG(AU15))/LOG(2))))","v":0}]
[21,1928,12,1936,24,1946,23,1971,null,null,0,2122,null,2112,{"$f":"COUNTIF($L$7:$L$500,N16)","v":11},{"$f":"O16/$Q$4","v":7.746478873239436E-2},{"$f":"IF(P16=0,0,(P16*((LOG(P16))/LOG(2))))","v":-0.28586951063057209},null,null,{"$f":"N16","v":2112},{"$f":"COUNTIF(L7:L30,T16)","v":0},{"$f":"U16/(W4-U20)","v":0},{"$f":"IF(V16=0,0,(V16*((LOG(V16))/LOG(2))))","v":0},null,{"$f":"N16","v":2112},{"$f":"COUNTIF(L31:L53,Y16)","v":1},{"$f":"Z16/(AB4-Z20)","v":4.5454545454545456E-2},{"$f":"IF(AA16=0,0,(AA16*((LOG(AA16))/LOG(2))))","v":-0.20270143721078623},null,{"$f":"N16","v":2112},{"$f":"COUNTIF(L54:L77,AD16)","v":1},{"$f":"AE16/(AG4-AE20)","v":4.3478260869565216E-2},{"$f":"IF(AF16=0,0,(AF16*((LOG(AF16))/LOG(2))))","v":-0.19667660678508753},null,{"$f":"N16","v":2112},{"$f":"COUNTIF(L78:L101,AI16)","v":4},{"$f":"AJ16/(AL4-AJ20)","v":0.19047619047619047},{"$f":"IF(AK16=0,0,(AK16*((LOG(AK16))/LOG(2))))","v":-0.4556795091007162},null,{"$f":"N16","v":2112},{"$f":"COUNTIF(L102:L124,AN16)","v":2},{"$f":"AO16/(AQ4-AO20)","v":9.0909090909090912E-2},{"$f":"IF(AP16=0,0,(AP16*((LOG(AP16))/LOG(2))))","v":-0.31449378351248153},null,{"$f":"N16","v":2112},{"$f":"COUNTIF(L125:L148,AS16)","v":3},{"$f":"AT16/(AV4-AT20)","v":0.13636363636363635},{"$f":"IF(AU16=0,0,(AU16*((LOG(AU16))/LOG(2))))","v":-0.39197306153401923}]
[21,2087,12,2097,24,2107,23,2129,null,null,0,2122,null,2121,{"$f":"COUNTIF($L$7:$L$500,N17)","v":17},{"$f":"O17/$Q$4","v":0.11971830985915492},{"$f":"IF(P17=0,0,(P17*((LOG(P17))/LOG(2))))","v":-0.36661149810087201},null,null,{"$f":"N17","v":2121},{"$f":"COUNTIF(L7:L30,T17)","v":0},{"$f":"U17/(W4-U20)","v":0},{"$f":"IF(V17=0,0,(V17*((LOG(V17))/LOG(2))))","v":0},null,{"$f":"N17","v":2121},{"$f":"COUNTIF(L31:L53,Y17)","v":4},{"$f":"Z17/(AB4-Z20)","v":0.18181818181818182},{"$f":"IF(AA17=0,0,(AA17*((LOG(AA17))/LOG(2))))","v":-0.44716938520678134},null,{"$f":"N17","v":2121},{"$f":"COUNTIF(L54:L77,AD17)","v":1},{"$f":"AE17/(AG4-AE20)","v":4.3478260869565216E-2},{"$f":"IF(AF17=0,0,(AF17*((LOG(AF17))/LOG(2))))","v":-0.19667660678508753},null,{"$f":"N17","v":2121},{"$f":"COUNTIF(L78:L101,AI17)","v":5},{"$f":"AJ17/(AL4-AJ20)","v":0.23809523809523808},{"$f":"IF(AK17=0,0,(AK17*((LOG(AK17))/LOG(2))))","v":-0.49294983997414238},null,{"$f":"N17","v":2121},{"$f":"COUNTIF(L102:L124,AN17)","v":5},{"$f":"AO17/(AQ4-AO20)","v":0.22727272727272727},{"$f":"IF(AP17=0,0,(AP17*((LOG(AP17))/LOG(2))))","v":-0.48579625539771243},null,{"$f":"N17","v":2121},{"$f":"COUNTIF(L125:L148,AS17)","v":2},{"$f":"AT17/(AV4-AT20)","v":9.0909090909090912E-2},{"$f":"IF(AU17=0,0,(AU17*((LOG(AU17))/LOG(2))))","v":-0.31449378351248153}]
[12,2238,14,2246,24,2255,23,2271,null,null,0,1122,null,2122,{"$f":"COUNTIF($L$7:$L$500,N18)","v":19},{"$f":"O18/$Q$4","v":0.13380281690140844},{"$f":"IF(P18=0,0,(P18*((LOG(P18))/LOG(2))))","v":-0.38827163743071008},null,null,{"$f":"N18","v":2122},{"$f":"COUNTIF(L7:L30,T18)","v":7},{"$f":"U18/(W4-U20)","v":0.31818181818181818},{"$f":"IF(V18=0,0,(V18*((LOG(V18))/LOG(2))))","v":-0.52566076709353871},null,{"$f":"N18","v":2122},{"$f":"COUNTIF(L31:L53,Y18)","v":1},{"$f":"Z18/(AB4-Z20)","v":4.5454545454545456E-2},{"$f":"IF(AA18=0,0,(AA18*((LOG(AA18))/LOG(2))))","v":-0.20270143721078623},null,{"$f":"N18","v":2122},{"$f":"COUNTIF(L54:L77,AD18)","v":5},{"$f":"AE18/(AG4-AE20)","v":0.21739130434782608},{"$f":"IF(AF18=0,0,(AF18*((LOG(AF18))/LOG(2))))","v":-0.47861605677601093},null,{"$f":"N18","v":2122},{"$f":"COUNTIF(L78:L101,AI18)","v":0},{"$f":"AJ18/(AL4-AJ20)","v":0},{"$f":"IF(AK18=0,0,(AK18*((LOG(AK18))/LOG(2))))","v":0},null,{"$f":"N18","v":2122},{"$f":"COUNTIF(L102:L124,AN18)","v":4},{"$f":"AO18/(AQ4-AO20)","v":0.18181818181818182},{"$f":"IF(AP18=0,0,(AP18*((LOG(AP18))/LOG(2))))","v":-0.44716938520678134},null,{"$f":"N18","v":2122},{"$f":"COUNTIF(L125:L148,AS18)","v":2},{"$f":"AT18/(AV4-AT20)","v":9.0909090909090912E-2},{"$f":"IF(AU18=0,0,(AU18*((LOG(AU18))/LOG(2))))","v":-0.31449378351248153}]
[21,2374,21,2386,11,2394,12,2410,null,null,0,2211,null,2211,{"$f":"COUNTIF($L$7:$L$500,N19)","v":3},{"$f":"O19/$Q$4","v":2.1126760563380281E-2},{"$f":"IF(P19=0,0,(P19*((LOG(P19))/LOG(2))))","v":-0.11756587222782097},null,null,{"$f":"N19","v":2211},{"$f":"COUNTIF(L7:L30,T19)","v":1},{"$f":"U19/(W4-U20)","v":4.5454545454545456E-2},{"$f":"IF(V19=0,0,(V19*((LOG(V19))/LOG(2))))","v":-0.20270143721078623},null,{"$f":"N19","v":2211},{"$f":"COUNTIF(L31:L53,Y19)","v":0},{"$f":"Z19/(AB4-Z20)","v":0},{"$f":"IF(AA19=0,0,(AA19*((LOG(AA19))/LOG(2))))","v":0},null,{"$f":"N19","v":2211},{"$f":"COUNTIF(L54:L77,AD19)","v":0},{"$f":"AE19/(AG4-AE20)","v":0},{"$f":"IF(AF19=0,0,(AF19*((LOG(AF19))/LOG(2))))","v":0},null,{"$f":"N19","v":2211},{"$f":"COUNTIF(L78:L101,AI19)","v":1},{"$f":"AJ19/(AL4-AJ20)","v":4.7619047619047616E-2},{"$f":"IF(AK19=0,0,(AK19*((LOG(AK19))/LOG(2))))","v":-0.20915797251327431},null,{"$f":"N19","v":2211},{"$f":"COUNTIF(L102:L124,AN19)","v":0},{"$f":"AO19/(AQ4-AO20)","v":0},{"$f":"IF(AP19=0,0,(AP19*((LOG(AP19))/LOG(2))))","v":0},null,{"$f":"N19","v":2211},{"$f":"COUNTIF(L125:L148,AS19)","v":1},{"$f":"AT19/(AV4-AT20)","v":4.5454545454545456E-2},{"$f":"IF(AU19=0,0,(AU19*((LOG(AU19))/LOG(2))))","v":-0.20270143721078623}]
[12,2523,23,2534,24,2583,23,2591,null,null,0,1222,null,2212,{"$f":"COUNTIF($L$7:$L$500,N20)","v":10},{"$f":"O20/$Q$4","v":7.0422535211267609E-2},{"$f":"IF(P20=0,0,(P20*((LOG(P20))/LOG(2))))","v":-0.2695647200434732},null,null,{"$f":"N20","v":2212},{"$f":"COUNTIF(L7:L30,T20)","v":2},null,null,null,{"$f":"N20","v":2212},{"$f":"COUNTIF(L31:L53,Y20)","v":1},null,null,null,{"$f":"N20","v":2212},{"$f":"COUNTIF(L54:L77,AD20)","v":1},null,null,null,{"$f":"N20","v":2212},{"$f":"COUNTIF(L78:L101,AI20)","v":3},null,null,null,{"$f":"N20","v":2212},{"$f":"COUNTIF(L102:L124,AN20)","v":1},null,null,null,{"$f":"N20","v":2212},{"$f":"COUNTIF(L125:L148,AS20)","v":2}]
[21,2734,21,2753,22,2826,23,2933,null,null,0,2222,null,2221,{"$f":"COUNTIF($L$7:$L$500,N21)","v":3},{"$f":"O21/$Q$4","v":2.1126760563380281E-2},{"$f":"IF(P21=0,0,(P21*((LOG(P21))/LOG(2))))","v":-0.11756587222782097},null,null,{"$f":"N21","v":2221},{"$f":"COUNTIF(L7:L30,T21)","v":3},{"$f":"U21/(W4-U20)","v":0.13636363636363635},{"$f":"IF(V21=0,0,(V21*((LOG(V21))/LOG(2))))","v":-0.39197306153401923},null,{"$f":"N21","v":2221},{"$f":"COUNTIF(L31:L53,Y21)","v":0},{"$f":"Z21/(AB4-Z20)","v":0},{"$f":"IF(AA21=0,0,(AA21*((LOG(AA21))/LOG(2))))","v":0},null,{"$f":"N21","v":2221},{"$f":"COUNTIF(L54:L77,AD21)","v":0},{"$f":"AE21/(AG4-AE20)","v":0},{"$f":"IF(AF21=0,0,(AF21*((LOG(AF21))/LOG(2))))","v":0},null,{"$f":"N21","v":2221},{"$f":"COUNTIF(L78:L101,AI21)","v":0},{"$f":"AJ21/(AL4-AJ20)","v":0},{"$f":"IF(AK21=0,0,(AK21*((LOG(AK21))/LOG(2))))","v":0},null,{"$f":"N21","v":2221},{"$f":"COUNTIF(L102:L124,AN21)","v":0},{"$f":"AO21/(AQ4-AO20)","v":0},{"$f":"IF(AP21=0,0,(AP21*((LOG(AP21))/LOG(2))))","v":0},null,{"$f":"N21","v":2221},{"$f":"COUNTIF(L125:L148,AS21)","v":0},{"$f":"AT21/(AV4-AT20)","v":0},{"$f":"IF(AU21=0,0,(AU21*((LOG(AU21))/LOG(2))))","v":0}]
[21,3057,21,3065,22,3078,23,3099,null,null,0,2222,null,2222,{"$f":"COUNTIF($L$7:$L$500,N22)","v":4},{"$f":"O22/$Q$4","v":2.8169014084507043E-2},{"$f":"IF(P22=0,0,(P22*((LOG(P22))/LOG(2))))","v":-0.14506329914097693},null,null,{"$f":"N22","v":2222},{"$f":"COUNTIF(L7:L30,T22)","v":2},{"$f":"U22/(W4-U20)","v":9.0909090909090912E-2},{"$f":"IF(V22=0,0,(V22*((LOG(V22))/LOG(2))))","v":-0.31449378351248153},null,{"$f":"N22","v":2222},{"$f":"COUNTIF(L31:L53,Y22)","v":1},{"$f":"Z22/(AB4-Z20)","v":4.5454545454545456E-2},{"$f":"IF(AA22=0,0,(AA22*((LOG(AA22))/LOG(2))))","v":-0.20270143721078623},null,{"$f":"N22","v":2222},{"$f":"COUNTIF(L54:L77,AD22)","v":1},{"$f":"AE22/(AG4-AE20)","v":4.3478260869565216E-2},{"$f":"IF(AF22=0,0,(AF22*((LOG(AF22))/LOG(2))))","v":-0.19667660678508753},null,{"$f":"N22","v":2222},{"$f":"COUNTIF(L78:L101,AI22)","v":0},{"$f":"AJ22/(AL4-AJ20)","v":0},{"$f":"IF(AK22=0,0,(AK22*((LOG(AK22))/LOG(2))))","v":0},null,{"$f":"N22","v":2222},{"$f":"COUNTIF(L102:L124,AN22)","v":0},{"$f":"AO22/(AQ4-AO20)","v":0},{"$f":"IF(AP22=0,0,(AP22*((LOG(AP22))/LOG(2))))","v":0},null,{"$f":"N22","v":2222},{"$f":"COUNTIF(L125:L148,AS22)","v":0},{"$f":"AT22/(AV4-AT20)","v":0},{"$f":"IF(AU22=0,0,(AU22*((LOG(AU22))/LOG(2))))","v":0}]
[12,3209,23,3218,13,3225,23,3273,null,null,0,1212,null,null,null,{"$f":"SUM(P7:P22)","v":0.99999999999999989},{"$f":"-SUM(Q7:Q22)","v":3.6452087252519734},null,null,null,null,{"$f":"SUM(V7:V22)","v":1},{"$f":"-SUM(W7:W22)","v":2.5152998034933436},null,null,null,{"$f":"SUM(AA7:AA22)","v":0.99999999999999978},{"$f":"-SUM(AB7:AB22)","v":3.0449127332389447},null,null,null,{"$f":"SUM(AF7:AF22)","v":0.99999999999999989},{"$f":"-SUM(AG7:AG22)","v":2.835347981130472},null,null,null,{"$f":"SUM(AK7:AK22)","v":1},{"$f":"-SUM(AL7:AL22)","v":2.9823345430436743},null,null,null,{"$f":"SUM(AP7:AP22)","v":1},{"$f":"-SUM(AQ7:AQ22)","v":3.0792258015191023},null,null,null,{"$f":"SUM(AU7:AU22)","v":1},{"$f":"-SUM(AV7:AV22)","v":2.8064985287918298}]
[21,3411,12,3418,24,3496,23,3504,null,null,0,2122,null,null,null,"U=",{"$f":"Q23/(LOG(Q4)/LOG(2))","v":0.50983743401326131},null,null,null,null,"U1=",{"$f":"W23/(LOG(W4)/LOG(2))","v":0.5485976827722624},null,null,null,"U2=",{"$f":"AB23/(LOG(AB4)/LOG(2))","v":0.67312280959517556},null,null,null,"U3=",{"$f":"AG23/(LOG(AG4)/LOG(2))","v":0.61840156395706791},null,null,null,"U4=",{"$f":"AL23/(LOG(AL4)/LOG(2))","v":0.65045996397453443},null,null,null,"U5=",{"$f":"AQ23/(LOG(AQ4)/LOG(2))","v":0.68070821875138543},null,null,null,"U6=",{"$f":"AV23/(LOG(AV4)/LOG(2))","v":0.61210937458057801}]
[12,3646,23,3671,24,3693,23,3702,null,null,0,1222]
[21,3827,21,3847,22,3858,14,3875,null,null,0,2221]
[12,4013,23,4023,24,4101,23,4162,null,null,0,1222,null,"Total Target Seq"]
[12,4293,23,4300,24,4317,23,4331,null,null,0,1222,null,{"$f":"COUNTIF(L7:L148,G3)","v":10},null,24,23,24,24,23,24]
[12,4454,14,4471,24,4492,23,4500,null,null,0,1122,null,null,null,"% of reinforcement given in 6 equal intervals based on number of trials "]
[12,4633,23,4697,24,4750,23,4768,null,null,0,1222,null,null,null,"%_1","%_2","%_3","%_4","%_5","%_6"]
[21,4881,21,4905,11,4913,21,4957,null,null,0,2212,null,null,"target sequence",{"$f":"$G$3","v":2212},{"$f":"$G$3","v":2212},{"$f":"$G$3","v":2212},{"$f":"$G$3","v":2212},{"$f":"$G$3","v":2212},{"$f":"$G$3","v":2212}]
[12,5081,23,5091,13,5102,23,5182,null,null,0,1212,null,null,"total reinforcement",{"$f":"U20","v":2},{"$f":"Z20","v":1},{"$f":"AE20","v":1},{"$f":"AJ20","v":3},{"$f":"AO20","v":1},{"$f":"AT20","v":2}]
[21,5289,12,5299,24,5314,14,5323,null,null,0,2121,null,null,"% target"]
[21,5426,12,5444,13,5469,23,5513,null,null,0,2112,null,null,"CCRF"]
[12,5619,14,5634,13,5682,23,5712,null,null,0,1112,null,null,"% CCRf"]
[12,5856,23,5865,24,5896,14,5921,null,null,0,1221,null,null,"average response rate",{"$f":"H30/P28","v":198.66666666666666},{"$f":"(H53-H30)/Q28","v":181.39130434782609},{"$f":"(H77-H53)/R28","v":168.16666666666666},{"$f":"(H101-H77)/S28","v":153.125},{"$f":"(H124-H101)/T28","v":155.08695652173913},{"$f":"(H148-H124)/U28","v":154.58333333333334}]
[12,6032,23,6041,13,6060,23,6068,null,null,0,1212]
[21,6185,12,6193,24,6277,23,6320,null,null,0,2122]
[21,6439,21,6461,22,6473,23,6481,null,null,0,2222]
[12,6596,23,6617,24,6629,23,6638,null,null,0,1222]
[12,6746,14,6761,24,6773,23,6802,null,null,0,1122]
[12,6921,14,6943,24,6952,23,7008,null,null,0,1122]
[12,7133,23,7142,24,7174,14,7208,null,null,0,1221]
[12,7333,14,7355,24,7412,23,7438,null,null,0,1122]
[12,7556,23,7577,13,7590,23,7617,null,null,0,1212]
[21,7719,12,7732,24,7741,14,7749,null,null,0,2121]
[12,7862,14,7871,24,7888,14,7908,null,null,0,1121]
[21,8007,12,8015,24,8024,14,8031,null,null,0,2121]
[12,8158,14,8192,13,8229,23,8267,null,null,0,1112]
[12,8388,14,8402,24,8411,23,8441,null,null,0,1122]
[21,8575,12,8582,24,8598,14,8614,null,null,0,2121]
[12,8728,23,8754,24,8762,14,8774,null,null,0,1221]
[12,8884,14,8902,24,8911,23,8940,null,null,0,1122]
[21,9059,12,9066,24,9077,23,9096,null,null,0,2122]
[12,9204,14,9212,24,9247,23,9255,null,null,0,1122]
[12,9375,23,9393,24,9417,23,9476,null,null,0,1222]
[12,9590,23,9606,24,9645,23,9664,null,null,0,1222]
[12,9793,23,9800,13,9834,23,9843,null,null,0,1212]
[12,9954,23,9965,13,9986,23,10003,null,null,0,1212]
[21,10112,12,10141,24,10157,23,10179,null,null,0,2122]
[12,10306,14,10323,24,10331,23,10347,null,null,0,1122]
[21,10464,12,10472,13,10482,23,10491,null,null,0,2112]
[12,10598,23,10607,13,10618,23,10626,null,null,0,1212]
[12,10739,14,10748,24,10768,14,10784,null,null,0,1121]
[21,10883,12,10904,24,10912,23,10921,null,null,0,2122]
[12,11057,23,11069,24,11085,23,11105,null,null,0,1222]
[12,11238,23,11255,24,11265,14,11280,null,null,0,1221]
[12,11408,23,11416,24,11441,23,11448,null,null,0,1222]
[21,11558,21,11569,22,11581,23,11610,null,null,0,2222]
[12,11763,23,11790,24,11802,23,11830,null,null,0,1222]
[21,11962,12,11969,24,11978,23,12021,null,null,0,2122]
[21,12119,21,12129,11,12137,21,12147,null,null,0,2212]
[12,12253,23,12262,24,12280,14,12292,null,null,0,1221]
[21,12419,12,12427,24,12435,14,12487,null,null,0,2121]
[12,12599,23,12612,13,12631,23,12669,null,null,0,1212]
[21,12772,12,12780,24,12795,23,12804,null,null,0,2122]
[12,12921,23,12938,13,12950,23,12976,null,null,0,1212]
[21,13080,12,13088,24,13099,14,13127,null,null,0,2121]
[21,13239,12,13247,24,13260,14,13272,null,null,0,2121]
[12,13379,23,13395,13,13402,23,13431,null,null,0,1212]
[21,13534,12,13555,24,13571,14,13591,null,null,0,2121]
[21,13706,12,13715,24,13728,14,13737,null,null,0,2121]
[21,13846,12,13853,13,13863,23,13882,null,null,0,2112]
[21,13980,21,13991,11,13999,21,14017,null,null,0,2212]
[12,14126,14,14136,24,14148,23,14165,null,null,0,1122]
[12,14294,14,14346,24,14374,23,14400,null,null,0,1122]
[12,14507,23,14516,13,14523,23,14553,null,null,0,1212]
[21,14655,12,14668,13,14692,23,14706,null,null,0,2112]
[21,14812,12,14820,24,14830,14,14838,null,null,0,2121]
[12,14956,23,14967,13,14986,14,15024,null,null,0,1211]
[12,15132,23,15141,13,15152,23,15164,null,null,0,1212]
[21,15276,21,15290,11,15300,21,15309,null,null,0,2212]
[12,15410,14,15418,24,15445,14,15454,null,null,0,1121]
[21,15561,21,15573,11,15584,21,15596,null,null,0,2212]
[12,15693,23,15702,24,15710,14,15720,null,null,0,1221]
[21,15823,21,15835,11,15843,12,15871,null,null,0,2211]
[21,15991,12,15999,13,16038,14,16073,null,null,0,2111]
[21,16176,12,16184,13,16195,23,16207,null,null,0,2112]
[21,16316,12,16324,13,16332,23,16340,null,null,0,2112]
[12,16457,14,16465,13,16473,23,16494,null,null,0,1112]
[12,16607,23,16620,13,16639,23,16651,null,null,0,1212]
[21,16757,12,16772,24,16781,23,16790,null,null,0,2122]
[12,16895,23,16904,13,16911,23,16921,null,null,0,1212]
[21,17038,12,17045,24,17056,14,17074,null,null,0,2121]
[21,17173,12,17181,24,17194,23,17204,null,null,0,2122]
[12,17311,14,17320,13,17352,23,17386,null,null,0,1112]
[21,17490,12,17498,13,17511,23,17522,null,null,0,2112]
[21,17620,21,17641,11,17649,21,17659,null,null,0,2212]
[12,17776,14,17791,13,17831,14,17867,null,null,0,1111]
[12,17981,14,18001,24,18011,14,18043,null,null,0,1121]
[12,18163,14,18192,24,18220,14,18237,null,null,0,1121]
[21,18350,12,18366,24,18396,23,18418,null,null,0,2122]
[21,18520,12,18540,24,18549,23,18578,null,null,0,2122]
[21,18686,12,18693,24,18701,14,18710,null,null,0,2121]
[12,18833,14,18865,24,18892,23,18916,null,null,0,1122]
[21,19014,12,19024,24,19033,14,19044,null,null,0,2121]
[12,19155,23,19168,13,19180,14,19210,null,null,0,1211]
[21,19321,12,19329,13,19346,23,19355,null,null,0,2112]
[21,19467,12,19474,24,19483,14,19508,null,null,0,2121]
[21,19608,12,19617,24,19629,14,19637,null,null,0,2121]
[12,19753,23,19762,24,19770,14,19784,null,null,0,1221]
[12,19891,23,19900,13,19907,23,19916,null,null,0,1212]
[12,20018,23,20029,13,20037,23,20052,null,null,0,1212]
[12,20166,14,20183,13,20210,23,20218,null,null,0,1112]
[21,20326,21,20337,11,20345,21,20354,null,null,0,2212]
[21,20468,12,20476,24,20487,23,20498,null,null,0,2122]
[21,20602,12,20616,24,20625,23,20633,null,null,0,2122]
[12,20739,14,20761,24,20770,14,20795,null,null,0,1121]
[21,20913,12,20922,24,20931,14,20949,null,null,0,2121]
[12,21066,14,21082,24,21111,14,21130,null,null,0,1121]
[21,21228,12,21236,13,21257,23,21277,null,null,0,2112]
[21,21383,12,21390,13,21414,23,21450,null,null,0,2112]
[12,21563,23,21576,13,21585,23,21594,null,null,0,1212]
[12,21701,23,21711,13,21723,23,21735,null,null,0,1212]
[21,21838,12,21845,24,21861,14,21868,null,null,0,2121]
[12,21991,23,22000,13,22015,14,22040,null,null,0,1211]
[12,22150,23,22162,13,22177,23,22194,null,null,0,1212]
[12,22304,14,22312,24,22320,14,22332,null,null,0,1121]
[12,22455,23,22469,13,22480,23,22528,null,null,0,1212]
[12,22644,23,22653,13,22670,14,22701,null,null,0,1211]
[12,22830,23,22840,24,22849,23,22892,null,null,0,1222]
[12,23001,14,23018,24,23026,14,23046,null,null,0,1121]
[12,23153,23,23162,13,23170,23,23179,null,null,0,1212]
[12,23285,23,23294,13,23304,14,23331,null,null,0,1211]
[21,23438,21,23448,11,23455,21,23464,null,null,0,2212]
[12,23574,23,23589,13,23618,14,23637,null,null,0,1211]
[21,23740,12,23748,13,23758,23,23767,null,null,0,2112]
[21,23880,21,23889,11,23896,12,23928,null,null,null,2211]

{"sheet":"!N111C00.095","index":13,"n_rows":153,"n_cols":48,"rows_kept":153,"cut":false,"hidden":false,"merged":[[4,39,4,42],[5,39,5,40],[4,44,4,47],[5,44,5,45],[4,24,4,27],[5,24,5,25],[4,29,4,32],[5,29,5,30],[4,34,4,37],[5,34,5,35],[1,1,1,2],[5,13,5,14],[26,13,26,14],[27,13,27,14],[4,19,4,22],[5,19,5,20]]}
["Report for:!N111C00.095"]
["Date:","<date>"]
["Hen:","<hen>",null,null,null,"Correct Sequence",{"$f":"Start!J2","v":2212},null,null,null,null,null,null,null,null,"Total Sequences in Data",{"$f":"4994-COUNTBLANK(L7:L5000)","v":147},null,null,null,null,"Total Sequences in Block Data",{"$f":"COUNTA(L7:L31)","v":25},null,null,null,"Total Sequences in Block Data",{"$f":"COUNTA(L32:L55)","v":24},null,null,null,"Total Sequences in Block Data",{"$f":"COUNTA(L56:L80)","v":25},null,null,null,"Total Sequences in Block Data",{"$f":"COUNTA(L81:L104)","v":24},null,null,null,"Total Sequences in Block Data",{"$f":"COUNTA(L105:L129)","v":25},null,null,null,"Total Sequences in Block Data",{"$f":"COUNTA(L130:L153)","v":24}]
[null,null,null,null,null,null,null,null,null,null,null,null,null,null,null,"Total Sequences in Summary",{"$f":"SUM(O7:O22)","v":146},null,null,null,null,"Total Sequences in Block Summary",{"$f":"SUM(U7:U22)","v":25},null,null,null,"Total Sequences in Block Summary",{"$f":"SUM(Z7:Z22)","v":24},null,null,null,"Total Sequences in Block Summary",{"$f":"SUM(AE7:AE22)","v":25},null,null,null,"Total Sequences in Block Summary",{"$f":"SUM(AJ7:AJ22)","v":24},null,null,null,"Total Sequences in Block Summary",{"$f":"SUM(AO7:AO22)","v":25},null,null,null,"Total Sequences in Block Summary",{"$f":"SUM(AT7:AT22)","v":23}]
[null,null,null,null,null,null,null,null,null,null,null,null,null,null,null,null,null,null,null,"Block 1",null,null,null,null,"Block 2",null,null,null,null,"Block 3",null,null,null,null,"Block 4",null,null,null,null,"Block 5",null,null,null,null,"Block 6"]
["Sequence\nComponent\n1","Time\n1","Sequence\nComponent\n2","Time\n2","Sequence\nComponent\n3","Time\n3","Sequence\nComponent\n4","Time\n4","Sequence\nComponent\n5","Time\n5","Correct?\n0=No 1=Yes","Sequence",null,"Frequency",null,"Relative Frequency","Variability",null,null,"Frequency",null,"Relative Frequency","Variability",null,"Frequency",null,"Relative Frequency","Variability",null,"Frequency",null,"Relative Frequency","Variability",null,"Frequency",null,"Relative Frequency","Variability",null,"Frequency",null,"Relative Frequency","Variability",null,"Frequency",null,"Relative Frequency","Variability"]
[21,36,12,56,24,68,23,89,null,null,0,2122,null,1111,{"$f":"COUNTIF($L$7:$L$500,N7)","v":3},{"$f":"O7/$Q$4","v":2.0547945205479451E-2},{"$f":"IF(P7=0,0,(P7*((LOG(P7))/LOG(2))))","v":-0.11516839845531907},null,null,{"$f":"N7","v":1111},{"$f":"COUNTIF(L7:L31,T7)","v":1},{"$f":"U7/(W4-U20)","v":4.3478260869565216E-2},{"$f":"IF(V7=0,0,(V7*((LOG(V7))/LOG(2))))","v":-0.19667660678508753},null,{"$f":"N7","v":1111},{"$f":"COUNTIF(L32:L55,Y7)","v":2},{"$f":"Z7/(AB4-Z20)","v":8.6956521739130432E-2},{"$f":"IF(AA7=0,0,(AA7*((LOG(AA7))/LOG(2))))","v":-0.30639669183104457},null,{"$f":"N7","v":1111},{"$f":"COUNTIF(L56:L80,AD7)","v":0},{"$f":"AE7/(AG4-AE20)","v":0},{"$f":"IF(AF7=0,0,(AF7*((LOG(AF7))/LOG(2))))","v":0},null,{"$f":"N7","v":1111},{"$f":"COUNTIF(L81:L104,AI7)","v":0},{"$f":"AJ7/(AL4-AJ20)","v":0},{"$f":"IF(AK7=0,0,(AK7*((LOG(AK7))/LOG(2))))","v":0},null,{"$f":"N7","v":1111},{"$f":"COUNTIF(L105:L129,AN7)","v":0},{"$f":"AO7/(AQ4-AO20)","v":0},{"$f":"IF(AP7=0,0,(AP7*((LOG(AP7))/LOG(2))))","v":0},null,{"$f":"N7","v":1111},{"$f":"COUNTIF(L130:L153,AS7)","v":0},{"$f":"AT7/(AV4-AT20)","v":0},{"$f":"IF(AU7=0,0,(AU7*((LOG(AU7))/LOG(2))))","v":0}]
[12,203,14,237,13,248,23,266,null,null,0,1112,null,1112,{"$f":"COUNTIF($L$7:$L$500,N8)","v":5},{"$f":"O8/$Q$4","v":3.4246575342465752E-2},{"$f":"IF(P8=0,0,(P8*((LOG(P8))/LOG(2))))","v":-0.16670878301344708},null,null,{"$f":"N8","v":1112},{"$f":"COUNTIF(L7:L31,T8)","v":2},{"$f":"U8/(W4-U20)","v":8.6956521739130432E-2},{"$f":"IF(V8=0,0,(V8*((LOG(V8))/LOG(2))))","v":-0.30639669183104457},null,{"$f":"N8","v":1112},{"$f":"COUNTIF(L32:L55,Y8)","v":1},{"$f":"Z8/(AB4-Z20)","v":4.3478260869565216E-2},{"$f":"IF(AA8=0,0,(AA8*((LOG(AA8))/LOG(2))))","v":-0.19667660678508753},null,{"$f":"N8","v":1112},{"$f":"COUNTIF(L56:L80,AD8)","v":0},{"$f":"AE8/(AG4-AE20)","v":0},{"$f":"IF(AF8=0,0,(AF8*((LOG(AF8))/LOG(2))))","v":0},null,{"$f":"N8","v":1112},{"$f":"COUNTIF(L81:L104,AI8)","v":2},{"$f":"AJ8/(AL4-AJ20)","v":9.5238095238095233E-2},{"$f":"IF(AK8=0,0,(AK8*((LOG(AK8))/LOG(2))))","v":-0.32307784978845333},null,{"$f":"N8","v":1112},{"$f":"COUNTIF(L105:L129,AN8)","v":0},{"$f":"AO8/(AQ4-AO20)","v":0},{"$f":"IF(AP8=0,0,(AP8*((LOG(AP8))/LOG(2))))","v":0},null,{"$f":"N8","v":1112},{"$f":"COUNTIF(L130:L153,AS8)","v":0},{"$f":"AT8/(AV4-AT20)","v":0},{"$f":"IF(AU8=0,0,(AU8*((LOG(AU8))/LOG(2))))","v":0}]
[12,374,14,396,13,477,14,529,null,null,0,1111,null,1121,{"$f":"COUNTIF($L$7:$L$500,N9)","v":4},{"$f":"O9/$Q$4","v":2.7397260273972601E-2},{"$f":"IF(P9=0,0,(P9*((LOG(P9))/LOG(2))))","v":-0.14218697421589085},null,null,{"$f":"N9","v":1121},{"$f":"COUNTIF(L7:L31,T9)","v":2},{"$f":"U9/(W4-U20)","v":8.6956521739130432E-2},{"$f":"IF(V9=0,0,(V9*((LOG(V9))/LOG(2))))","v":-0.30639669183104457},null,{"$f":"N9","v":1121},{"$f":"COUNTIF(L32:L55,Y9)","v":2},{"$f":"Z9/(AB4-Z20)","v":8.6956521739130432E-2},{"$f":"IF(AA9=0,0,(AA9*((LOG(AA9))/LOG(2))))","v":-0.30639669183104457},null,{"$f":"N9","v":1121},{"$f":"COUNTIF(L56:L80,AD9)","v":0},{"$f":"AE9/(AG4-AE20)","v":0},{"$f":"IF(AF9=0,0,(AF9*((LOG(AF9))/LOG(2))))","v":0},null,{"$f":"N9","v":1121},{"$f":"COUNTIF(L81:L104,AI9)","v":0},{"$f":"AJ9/(AL4-AJ20)","v":0},{"$f":"IF(AK9=0,0,(AK9*((LOG(AK9))/LOG(2))))","v":0},null,{"$f":"N9","v":1121},{"$f":"COUNTIF(L105:L129,AN9)","v":0},{"$f":"AO9/(AQ4-AO20)","v":0},{"$f":"IF(AP9=0,0,(AP9*((LOG(AP9))/LOG(2))))","v":0},null,{"$f":"N9","v":1121},{"$f":"COUNTIF(L130:L153,AS9)","v":0},{"$f":"AT9/(AV4-AT20)","v":0},{"$f":"IF(AU9=0,0,(AU9*((LOG(AU9))/LOG(2))))","v":0}]
[12,637,14,659,24,669,23,707,null,null,0,1122,null,1122,{"$f":"COUNTIF($L$7:$L$500,N10)","v":13},{"$f":"O10/$Q$4","v":8.9041095890410954E-2},{"$f":"IF(P10=0,0,(P10*((LOG(P10))/LOG(2))))","v":-0.31069865020278103},null,null,{"$f":"N10","v":1122},{"$f":"COUNTIF(L7:L31,T10)","v":4},{"$f":"U10/(W4-U20)","v":0.17391304347826086},{"$f":"IF(V10=0,0,(V10*((LOG(V10))/LOG(2))))","v":-0.43888034018382832},null,{"$f":"N10","v":1122},{"$f":"COUNTIF(L32:L55,Y10)","v":2},{"$f":"Z10/(AB4-Z20)","v":8.6956521739130432E-2},{"$f":"IF(AA10=0,0,(AA10*((LOG(AA10))/LOG(2))))","v":-0.30639669183104457},null,{"$f":"N10","v":1122},{"$f":"COUNTIF(L56:L80,AD10)","v":0},{"$f":"AE10/(AG4-AE20)","v":0},{"$f":"IF(AF10=0,0,(AF10*((LOG(AF10))/LOG(2))))","v":0},null,{"$f":"N10","v":1122},{"$f":"COUNTIF(L81:L104,AI10)","v":1},{"$f":"AJ10/(AL4-AJ20)","v":4.7619047619047616E-2},{"$f":"IF(AK10=0,0,(AK10*((LOG(AK10))/LOG(2))))","v":-0.20915797251327431},null,{"$f":"N10","v":1122},{"$f":"COUNTIF(L105:L129,AN10)","v":2},{"$f":"AO10/(AQ4-AO20)","v":9.0909090909090912E-2},{"$f":"IF(AP10=0,0,(AP10*((LOG(AP10))/LOG(2))))","v":-0.31449378351248153},null,{"$f":"N10","v":1122},{"$f":"COUNTIF(L130:L153,AS10)","v":4},{"$f":"AT10/(AV4-AT20)","v":0.19047619047619047},{"$f":"IF(AU10=0,0,(AU10*((LOG(AU10))/LOG(2))))","v":-0.4556795091007162}]
[12,818,14,826,24,844,14,864,null,null,0,1121,null,1211,{"$f":"COUNTIF($L$7:$L$500,N11)","v":2},{"$f":"O11/$Q$4","v":1.3698630136986301E-2},{"$f":"IF(P11=0,0,(P11*((LOG(P11))/LOG(2))))","v":-8.4792117244931728E-2},null,null,{"$f":"N11","v":1211},{"$f":"COUNTIF(L7:L31,T11)","v":0},{"$f":"U11/(W4-U20)","v":0},{"$f":"IF(V11=0,0,(V11*((LOG(V11))/LOG(2))))","v":0},null,{"$f":"N11","v":1211},{"$f":"COUNTIF(L32:L55,Y11)","v":1},{"$f":"Z11/(AB4-Z20)","v":4.3478260869565216E-2},{"$f":"IF(AA11=0,0,(AA11*((LOG(AA11))/LOG(2))))","v":-0.19667660678508753},null,{"$f":"N11","v":1211},{"$f":"COUNTIF(L56:L80,AD11)","v":1},{"$f":"AE11/(AG4-AE20)","v":4.1666666666666664E-2},{"$f":"IF(AF11=0,0,(AF11*((LOG(AF11))/LOG(2))))","v":-0.19104010419671485},null,{"$f":"N11","v":1211},{"$f":"COUNTIF(L81:L104,AI11)","v":0},{"$f":"AJ11/(AL4-AJ20)","v":0},{"$f":"IF(AK11=0,0,(AK11*((LOG(AK11))/LOG(2))))","v":0},null,{"$f":"N11","v":1211},{"$f":"COUNTIF(L105:L129,AN11)","v":0},{"$f":"AO11/(AQ4-AO20)","v":0},{"$f":"IF(AP11=0,0,(AP11*((LOG(AP11))/LOG(2))))","v":0},null,{"$f":"N11","v":1211},{"$f":"COUNTIF(L130:L153,AS11)","v":0},{"$f":"AT11/(AV4-AT20)","v":0},{"$f":"IF(AU11=0,0,(AU11*((LOG(AU11))/LOG(2))))","v":0}]
[12,996,23,1014,24,1027,23,1052,null,null,0,1222,null,1212,{"$f":"COUNTIF($L$7:$L$500,N12)","v":16},{"$f":"O12/$Q$4","v":0.1095890410958904},{"$f":"IF(P12=0,0,(P12*((LOG(P12))/LOG(2))))","v":-0.34956981467178266},null,null,{"$f":"N12","v":1212},{"$f":"COUNTIF(L7:L31,T12)","v":2},{"$f":"U12/(W4-U20)","v":8.6956521739130432E-2},{"$f":"IF(V12=0,0,(V12*((LOG(V12))/LOG(2))))","v":-0.30639669183104457},null,{"$f":"N12","v":1212},{"$f":"COUNTIF(L32:L55,Y12)","v":3},{"$f":"Z12/(AB4-Z20)","v":0.13043478260869565},{"$f":"IF(AA12=0,0,(AA12*((LOG(AA12))/LOG(2))))","v":-0.3832955811307639},null,{"$f":"N12","v":1212},{"$f":"COUNTIF(L56:L80,AD12)","v":0},{"$f":"AE12/(AG4-AE20)","v":0},{"$f":"IF(AF12=0,0,(AF12*((LOG(AF12))/LOG(2))))","v":0},null,{"$f":"N12","v":1212},{"$f":"COUNTIF(L81:L104,AI12)","v":7},{"$f":"AJ12/(AL4-AJ20)","v":0.33333333333333331},{"$f":"IF(AK12=0,0,(AK12*((LOG(AK12))/LOG(2))))","v":-0.52832083357371862},null,{"$f":"N12","v":1212},{"$f":"COUNTIF(L105:L129,AN12)","v":2},{"$f":"AO12/(AQ4-AO20)","v":9.0909090909090912E-2},{"$f":"IF(AP12=0,0,(AP12*((LOG(AP12))/LOG(2))))","v":-0.31449378351248153},null,{"$f":"N12","v":1212},{"$f":"COUNTIF(L130:L153,AS12)","v":2},{"$f":"AT12/(AV4-AT20)","v":9.5238095238095233E-2},{"$f":"IF(AU12=0,0,(AU12*((LOG(AU12))/LOG(2))))","v":-0.32307784978845333}]
[21,1193,12,1203,24,1212,14,1245,null,null,0,2121,null,1221,{"$f":"COUNTIF($L$7:$L$500,N13)","v":19},{"$f":"O13/$Q$4","v":0.13013698630136986},{"$f":"IF(P13=0,0,(P13*((LOG(P13))/LOG(2))))","v":-0.38284961550200142},null,null,{"$f":"N13","v":1221},{"$f":"COUNTIF(L7:L31,T13)","v":2},{"$f":"U13/(W4-U20)","v":8.6956521739130432E-2},{"$f":"IF(V13=0,0,(V13*((LOG(V13))/LOG(2))))","v":-0.30639669183104457},null,{"$f":"N13","v":1221},{"$f":"COUNTIF(L32:L55,Y13)","v":2},{"$f":"Z13/(AB4-Z20)","v":8.6956521739130432E-2},{"$f":"IF(AA13=0,0,(AA13*((LOG(AA13))/LOG(2))))","v":-0.30639669183104457},null,{"$f":"N13","v":1221},{"$f":"COUNTIF(L56:L80,AD13)","v":8},{"$f":"AE13/(AG4-AE20)","v":0.33333333333333331},{"$f":"IF(AF13=0,0,(AF13*((LOG(AF13))/LOG(2))))","v":-0.52832083357371862},null,{"$f":"N13","v":1221},{"$f":"COUNTIF(L81:L104,AI13)","v":2},{"$f":"AJ13/(AL4-AJ20)","v":9.5238095238095233E-2},{"$f":"IF(AK13=0,0,(AK13*((LOG(AK13))/LOG(2))))","v":-0.32307784978845333},null,{"$f":"N13","v":1221},{"$f":"COUNTIF(L105:L129,AN13)","v":1},{"$f":"AO13/(AQ4-AO20)","v":4.5454545454545456E-2},{"$f":"IF(AP13=0,0,(AP13*((LOG(AP13))/LOG(2))))","v":-0.20270143721078623},null,{"$f":"N13","v":1221},{"$f":"COUNTIF(L130:L153,AS13)","v":4},{"$f":"AT13/(AV4-AT20)","v":0.19047619047619047},{"$f":"IF(AU13=0,0,(AU13*((LOG(AU13))/LOG(2))))","v":-0.4556795091007162}]
[21,1363,21,1372,11,1381,21,1404,null,null,0,2212,null,1222,{"$f":"COUNTIF($L$7:$L$500,N14)","v":18},{"$f":"O14/$Q$4","v":0.12328767123287671},{"$f":"IF(P14=0,0,(P14*((LOG(P14))/LOG(2))))","v":-0.37231638379368964},null,null,{"$f":"N14","v":1222},{"$f":"COUNTIF(L7:L31,T14)","v":3},{"$f":"U14/(W4-U20)","v":0.13043478260869565},{"$f":"IF(V14=0,0,(V14*((LOG(V14))/LOG(2))))","v":-0.3832955811307639},null,{"$f":"N14","v":1222},{"$f":"COUNTIF(L32:L55,Y14)","v":1},{"$f":"Z14/(AB4-Z20)","v":4.3478260869565216E-2},{"$f":"IF(AA14=0,0,(AA14*((LOG(AA14))/LOG(2))))","v":-0.19667660678508753},null,{"$f":"N14","v":1222},{"$f":"COUNTIF(L56:L80,AD14)","v":6},{"$f":"AE14/(AG4-AE20)","v":0.25},{"$f":"IF(AF14=0,0,(AF14*((LOG(AF14))/LOG(2))))","v":-0.5},null,{"$f":"N14","v":1222},{"$f":"COUNTIF(L81:L104,AI14)","v":1},{"$f":"AJ14/(AL4-AJ20)","v":4.7619047619047616E-2},{"$f":"IF(AK14=0,0,(AK14*((LOG(AK14))/LOG(2))))","v":-0.20915797251327431},null,{"$f":"N14","v":1222},{"$f":"COUNTIF(L105:L129,AN14)","v":3},{"$f":"AO14/(AQ4-AO20)","v":0.13636363636363635},{"$f":"IF(AP14=0,0,(AP14*((LOG(AP14))/LOG(2))))","v":-0.39197306153401923},null,{"$f":"N14","v":1222},{"$f":"COUNTIF(L130:L153,AS14)","v":4},{"$f":"AT14/(AV4-AT20)","v":0.19047619047619047},{"$f":"IF(AU14=0,0,(AU14*((LOG(AU14))/LOG(2))))","v":-0.4556795091007162}]
[21,1559,12,1579,24,1654,23,1671,null,null,0,2122,null,2111,{"$f":"COUNTIF($L$7:$L$500,N15)","v":1},{"$f":"O15/$Q$4","v":6.8493150684931503E-3},{"$f":"IF(P15=0,0,(P15*((LOG(P15))/LOG(2))))","v":-4.9245373690959021E-2},null,null,{"$f":"N15","v":2111},{"$f":"COUNTIF(L7:L31,T15)","v":0},{"$f":"U15/(W4-U20)","v":0},{"$f":"IF(V15=0,0,(V15*((LOG(V15))/LOG(2))))","v":0},null,{"$f":"N15","v":2111},{"$f":"COUNTIF(L32:L55,Y15)","v":0},{"$f":"Z15/(AB4-Z20)","v":0},{"$f":"IF(AA15=0,0,(AA15*((LOG(AA15))/LOG(2))))","v":0},null,{"$f":"N15","v":2111},{"$f":"COUNTIF(L56:L80,AD15)","v":0},{"$f":"AE15/(AG4-AE20)","v":0},{"$f":"IF(AF15=0,0,(AF15*((LOG(AF15))/LOG(2))))","v":0},null,{"$f":"N15","v":2111},{"$f":"COUNTIF(L81:L104,AI15)","v":0},{"$f":"AJ15/(AL4-AJ20)","v":0},{"$f":"IF(AK15=0,0,(AK15*((LOG(AK15))/LOG(2))))","v":0},null,{"$f":"N15","v":2111},{"$f":"COUNTIF(L105:L129,AN15)","v":1},{"$f":"AO15/(AQ4-AO20)","v":4.5454545454545456E-2},{"$f":"IF(AP15=0,0,(AP15*((LOG(AP15))/LOG(2))))","v":-0.20270143721078623},null,{"$f":"N15","v":2111},{"$f":"COUNTIF(L130:L153,AS15)","v":0},{"$f":"AT15/(AV4-AT20)","v":0},{"$f":"IF(AU15=0,0,(AU15*((LOG(AU15))/LOG(2))))","v":0}]
[21,1809,21,1831,22,1845,23,1861,null,null,0,2222,null,2112,{"$f":"COUNTIF($L$7:$L$500,N16)","v":9},{"$f":"O16/$Q$4","v":6.1643835616438353E-2},{"$f":"IF(P16=0,0,(P16*((LOG(P16))/LOG(2))))","v":-0.24780202751328315},null,null,{"$f":"N16","v":2112},{"$f":"COUNTIF(L7:L31,T16)","v":1},{"$f":"U16/(W4-U20)","v":4.3478260869565216E-2},{"$f":"IF(V16=0,0,(V16*((LOG(V16))/LOG(2))))","v":-0.19667660678508753},null,{"$f":"N16","v":2112},{"$f":"COUNTIF(L32:L55,Y16)","v":3},{"$f":"Z16/(AB4-Z20)","v":0.13043478260869565},{"$f":"IF(AA16=0,0,(AA16*((LOG(AA16))/LOG(2))))","v":-0.3832955811307639},null,{"$f":"N16","v":2112},{"$f":"COUNTIF(L56:L80,AD16)","v":2},{"$f":"AE16/(AG4-AE20)","v":8.3333333333333329E-2},{"$f":"IF(AF16=0,0,(AF16*((LOG(AF16))/LOG(2))))","v":-0.29874687506009634},null,{"$f":"N16","v":2112},{"$f":"COUNTIF(L81:L104,AI16)","v":2},{"$f":"AJ16/(AL4-AJ20)","v":9.5238095238095233E-2},{"$f":"IF(AK16=0,0,(AK16*((LOG(AK16))/LOG(2))))","v":-0.32307784978845333},null,{"$f":"N16","v":2112},{"$f":"COUNTIF(L105:L129,AN16)","v":0},{"$f":"AO16/(AQ4-AO20)","v":0},{"$f":"IF(AP16=0,0,(AP16*((LOG(AP16))/LOG(2))))","v":0},null,{"$f":"N16","v":2112},{"$f":"COUNTIF(L130:L153,AS16)","v":1},{"$f":"AT16/(AV4-AT20)","v":4.7619047619047616E-2},{"$f":"IF(AU16=0,0,(AU16*((LOG(AU16))/LOG(2))))","v":-0.20915797251327431}]
[12,1973,23,1982,13,2003,23,2031,null,null,0,1212,null,2121,{"$f":"COUNTIF($L$7:$L$500,N17)","v":8},{"$f":"O17/$Q$4","v":5.4794520547945202E-2},{"$f":"IF(P17=0,0,(P17*((LOG(P17))/LOG(2))))","v":-0.22957942788383656},null,null,{"$f":"N17","v":2121},{"$f":"COUNTIF(L7:L31,T17)","v":1},{"$f":"U17/(W4-U20)","v":4.3478260869565216E-2},{"$f":"IF(V17=0,0,(V17*((LOG(V17))/LOG(2))))","v":-0.19667660678508753},null,{"$f":"N17","v":2121},{"$f":"COUNTIF(L32:L55,Y17)","v":2},{"$f":"Z17/(AB4-Z20)","v":8.6956521739130432E-2},{"$f":"IF(AA17=0,0,(AA17*((LOG(AA17))/LOG(2))))","v":-0.30639669183104457},null,{"$f":"N17","v":2121},{"$f":"COUNTIF(L56:L80,AD17)","v":3},{"$f":"AE17/(AG4-AE20)","v":0.125},{"$f":"IF(AF17=0,0,(AF17*((LOG(AF17))/LOG(2))))","v":-0.375},null,{"$f":"N17","v":2121},{"$f":"COUNTIF(L81:L104,AI17)","v":1},{"$f":"AJ17/(AL4-AJ20)","v":4.7619047619047616E-2},{"$f":"IF(AK17=0,0,(AK17*((LOG(AK17))/LOG(2))))","v":-0.20915797251327431},null,{"$f":"N17","v":2121},{"$f":"COUNTIF(L105:L129,AN17)","v":1},{"$f":"AO17/(AQ4-AO20)","v":4.5454545454545456E-2},{"$f":"IF(AP17=0,0,(AP17*((LOG(AP17))/LOG(2))))","v":-0.20270143721078623},null,{"$f":"N17","v":2121},{"$f":"COUNTIF(L130:L153,AS17)","v":0},{"$f":"AT17/(AV4-AT20)","v":0},{"$f":"IF(AU17=0,0,(AU17*((LOG(AU17))/LOG(2))))","v":0}]
[12,2142,23,2219,24,2227,23,2243,null,null,0,1222,null,2122,{"$f":"COUNTIF($L$7:$L$500,N18)","v":27},{"$f":"O18/$Q$4","v":0.18493150684931506},{"$f":"IF(P18=0,0,(P18*((LOG(P18))/LOG(2))))","v":-0.45029657898182746},null,null,{"$f":"N18","v":2122},{"$f":"COUNTIF(L7:L31,T18)","v":4},{"$f":"U18/(W4-U20)","v":0.17391304347826086},{"$f":"IF(V18=0,0,(V18*((LOG(V18))/LOG(2))))","v":-0.43888034018382832},null,{"$f":"N18","v":2122},{"$f":"COUNTIF(L32:L55,Y18)","v":3},{"$f":"Z18/(AB4-Z20)","v":0.13043478260869565},{"$f":"IF(AA18=0,0,(AA18*((LOG(AA18))/LOG(2))))","v":-0.3832955811307639},null,{"$f":"N18","v":2122},{"$f":"COUNTIF(L56:L80,AD18)","v":3},{"$f":"AE18/(AG4-AE20)","v":0.125},{"$f":"IF(AF18=0,0,(AF18*((LOG(AF18))/LOG(2))))","v":-0.375},null,{"$f":"N18","v":2122},{"$f":"COUNTIF(L81:L104,AI18)","v":3},{"$f":"AJ18/(AL4-AJ20)","v":0.14285714285714285},{"$f":"IF(AK18=0,0,(AK18*((LOG(AK18))/LOG(2))))","v":-0.40105070315108626},null,{"$f":"N18","v":2122},{"$f":"COUNTIF(L105:L129,AN18)","v":9},{"$f":"AO18/(AQ4-AO20)","v":0.40909090909090912},{"$f":"IF(AP18=0,0,(AP18*((LOG(AP18))/LOG(2))))","v":-0.52752543430703935},null,{"$f":"N18","v":2122},{"$f":"COUNTIF(L130:L153,AS18)","v":5},{"$f":"AT18/(AV4-AT20)","v":0.23809523809523808},{"$f":"IF(AU18=0,0,(AU18*((LOG(AU18))/LOG(2))))","v":-0.49294983997414238}]
[21,2349,12,2359,13,2401,23,2422,null,null,0,2112,null,2211,{"$f":"COUNTIF($L$7:$L$500,N19)","v":1},{"$f":"O19/$Q$4","v":6.8493150684931503E-3},{"$f":"IF(P19=0,0,(P19*((LOG(P19))/LOG(2))))","v":-4.9245373690959021E-2},null,null,{"$f":"N19","v":2211},{"$f":"COUNTIF(L7:L31,T19)","v":0},{"$f":"U19/(W4-U20)","v":0},{"$f":"IF(V19=0,0,(V19*((LOG(V19))/LOG(2))))","v":0},null,{"$f":"N19","v":2211},{"$f":"COUNTIF(L32:L55,Y19)","v":0},{"$f":"Z19/(AB4-Z20)","v":0},{"$f":"IF(AA19=0,0,(AA19*((LOG(AA19))/LOG(2))))","v":0},null,{"$f":"N19","v":2211},{"$f":"COUNTIF(L56:L80,AD19)","v":0},{"$f":"AE19/(AG4-AE20)","v":0},{"$f":"IF(AF19=0,0,(AF19*((LOG(AF19))/LOG(2))))","v":0},null,{"$f":"N19","v":2211},{"$f":"COUNTIF(L81:L104,AI19)","v":0},{"$f":"AJ19/(AL4-AJ20)","v":0},{"$f":"IF(AK19=0,0,(AK19*((LOG(AK19))/LOG(2))))","v":0},null,{"$f":"N19","v":2211},{"$f":"COUNTIF(L105:L129,AN19)","v":1},{"$f":"AO19/(AQ4-AO20)","v":4.5454545454545456E-2},{"$f":"IF(AP19=0,0,(AP19*((LOG(AP19))/LOG(2))))","v":-0.20270143721078623},null,{"$f":"N19","v":2211},{"$f":"COUNTIF(L130:L153,AS19)","v":0},{"$f":"AT19/(AV4-AT20)","v":0},{"$f":"IF(AU19=0,0,(AU19*((LOG(AU19))/LOG(2))))","v":0}]
[12,2542,23,2551,24,2564,14,2577,null,null,0,1221,null,2212,{"$f":"COUNTIF($L$7:$L$500,N20)","v":12},{"$f":"O20/$Q$4","v":8.2191780821917804E-2},{"$f":"IF(P20=0,0,(P20*((LOG(P20))/LOG(2))))","v":-0.2962900321774406},null,null,{"$f":"N20","v":2212},{"$f":"COUNTIF(L7:L31,T20)","v":2},null,null,null,{"$f":"N20","v":2212},{"$f":"COUNTIF(L32:L55,Y20)","v":1},null,null,null,{"$f":"N20","v":2212},{"$f":"COUNTIF(L56:L80,AD20)","v":1},null,null,null,{"$f":"N20","v":2212},{"$f":"COUNTIF(L81:L104,AI20)","v":3},null,null,null,{"$f":"N20","v":2212},{"$f":"COUNTIF(L105:L129,AN20)","v":3},null,null,null,{"$f":"N20","v":2212},{"$f":"COUNTIF(L130:L153,AS20)","v":2}]
[12,2692,14,2719,24,2759,23,2769,null,null,0,1122,null,2221,{"$f":"COUNTIF($L$7:$L$500,N21)","v":2},{"$f":"O21/$Q$4","v":1.3698630136986301E-2},{"$f":"IF(P21=0,0,(P21*((LOG(P21))/LOG(2))))","v":-8.4792117244931728E-2},null,null,{"$f":"N21","v":2221},{"$f":"COUNTIF(L7:L31,T21)","v":0},{"$f":"U21/(W4-U20)","v":0},{"$f":"IF(V21=0,0,(V21*((LOG(V21))/LOG(2))))","v":0},null,{"$f":"N21","v":2221},{"$f":"COUNTIF(L32:L55,Y21)","v":0},{"$f":"Z21/(AB4-Z20)","v":0},{"$f":"IF(AA21=0,0,(AA21*((LOG(AA21))/LOG(2))))","v":0},null,{"$f":"N21","v":2221},{"$f":"COUNTIF(L56:L80,AD21)","v":0},{"$f":"AE21/(AG4-AE20)","v":0},{"$f":"IF(AF21=0,0,(AF21*((LOG(AF21))/LOG(2))))","v":0},null,{"$f":"N21","v":2221},{"$f":"COUNTIF(L81:L104,AI21)","v":1},{"$f":"AJ21/(AL4-AJ20)","v":4.7619047619047616E-2},{"$f":"IF(AK21=0,0,(AK21*((LOG(AK21))/LOG(2))))","v":-0.20915797251327431},null,{"$f":"N21","v":2221},{"$f":"COUNTIF(L105:L129,AN21)","v":0},{"$f":"AO21/(AQ4-AO20)","v":0},{"$f":"IF(AP21=0,0,(AP21*((LOG(AP21))/LOG(2))))","v":0},null,{"$f":"N21","v":2221},{"$f":"COUNTIF(L130:L153,AS21)","v":1},{"$f":"AT21/(AV4-AT20)","v":4.7619047619047616E-2},{"$f":"IF(AU21=0,0,(AU21*((LOG(AU21))/LOG(2))))","v":-0.20915797251327431}]
[12,2887,14,2904,24,2918,23,3057,null,null,0,1122,null,2222,{"$f":"COUNTIF($L$7:$L$500,N22)","v":6},{"$f":"O22/$Q$4","v":4.1095890410958902E-2},{"$f":"IF(P22=0,0,(P22*((LOG(P22))/LOG(2))))","v":-0.18924090649967923},null,null,{"$f":"N22","v":2222},{"$f":"COUNTIF(L7:L31,T22)","v":1},{"$f":"U22/(W4-U20)","v":4.3478260869565216E-2},{"$f":"IF(V22=0,0,(V22*((LOG(V22))/LOG(2))))","v":-0.19667660678508753},null,{"$f":"N22","v":2222},{"$f":"COUNTIF(L32:L55,Y22)","v":1},{"$f":"Z22/(AB4-Z20)","v":4.3478260869565216E-2},{"$f":"IF(AA22=0,0,(AA22*((LOG(AA22))/LOG(2))))","v":-0.19667660678508753},null,{"$f":"N22","v":2222},{"$f":"COUNTIF(L56:L80,AD22)","v":1},{"$f":"AE22/(AG4-AE20)","v":4.1666666666666664E-2},{"$f":"IF(AF22=0,0,(AF22*((LOG(AF22))/LOG(2))))","v":-0.19104010419671485},null,{"$f":"N22","v":2222},{"$f":"COUNTIF(L81:L104,AI22)","v":1},{"$f":"AJ22/(AL4-AJ20)","v":4.7619047619047616E-2},{"$f":"IF(AK22=0,0,(AK22*((LOG(AK22))/LOG(2))))","v":-0.20915797251327431},null,{"$f":"N22","v":2222},{"$f":"COUNTIF(L105:L129,AN22)","v":2},{"$f":"AO22/(AQ4-AO20)","v":9.0909090909090912E-2},{"$f":"IF(AP22=0,0,(AP22*((LOG(AP22))/LOG(2))))","v":-0.31449378351248153},null,{"$f":"N22","v":2222},{"$f":"COUNTIF(L130:L153,AS22)","v":0},{"$f":"AT22/(AV4-AT20)","v":0},{"$f":"IF(AU22=0,0,(AU22*((LOG(AU22))/LOG(2))))","v":0}]
[12,3161,23,3174,24,3183,14,3191,null,null,0,1221,null,null,null,{"$f":"SUM(P7:P22)","v":1},{"$f":"-SUM(Q7:Q22)","v":3.5207825747827606},null,null,null,null,{"$f":"SUM(V7:V22)","v":0.99999999999999989},{"$f":"-SUM(W7:W22)","v":3.2733494559629492},null,null,null,{"$f":"SUM(AA7:AA22)","v":1.0000000000000002},{"$f":"-SUM(AB7:AB22)","v":3.4685766296878651},null,null,null,{"$f":"SUM(AF7:AF22)","v":1},{"$f":"-SUM(AG7:AG22)","v":2.4591479170272446},null,null,null,{"$f":"SUM(AK7:AK22)","v":1},{"$f":"-SUM(AL7:AL22)","v":2.9443949486565359},null,null,null,{"$f":"SUM(AP7:AP22)","v":1},{"$f":"-SUM(AQ7:AQ22)","v":2.673785595221648},null,null,null,{"$f":"SUM(AU7:AU22)","v":1},{"$f":"-SUM(AV7:AV22)","v":2.6013821620912929}]
[21,3306,21,3315,11,3328,21,3346,null,null,0,2212,null,null,null,"U=",{"$f":"Q23/(LOG(Q4)/LOG(2))","v":0.48968963650640235},null,null,null,null,"U1=",{"$f":"W23/(LOG(W4)/LOG(2))","v":0.7048774385327683},null,null,null,"U2=",{"$f":"AB23/(LOG(AB4)/LOG(2))","v":0.75651145001563314},null,null,null,"U3=",{"$f":"AG23/(LOG(AG4)/LOG(2))","v":0.52954868034932379},null,null,null,"U4=",{"$f":"AL23/(LOG(AL4)/LOG(2))","v":0.64218517560250932},null,null,null,"U5=",{"$f":"AQ23/(LOG(AQ4)/LOG(2))","v":0.57576838858813884},null,null,null,"U6=",{"$f":"AV23/(LOG(AV4)/LOG(2))","v":0.57507384387828775}]
[12,3450,14,3468,13,3489,23,3518,null,null,0,1112]
[12,3625,14,3648,24,3657,23,3706,null,null,0,1122]
[12,3822,14,3838,24,3847,14,3898,null,null,0,1121,null,"Total Target Seq"]
[21,4006,12,4022,24,4035,23,4055,null,null,0,2122,null,{"$f":"COUNTIF(L7:L153,G3)","v":12},null,25,24,25,24,25,24]
[21,4167,12,4176,24,4187,23,4213,null,null,0,2122,null,null,null,"% of reinforcement given in 6 equal intervals based on number of trials "]
[12,4334,23,4343,24,4354,23,4364,null,null,0,1222,null,null,null,"%_1","%_2","%_3","%_4","%_5","%_6"]
[12,4488,23,4501,13,4519,23,4548,null,null,0,1212,null,null,"target sequence",{"$f":"$G$3","v":2212},{"$f":"$G$3","v":2212},{"$f":"$G$3","v":2212},{"$f":"$G$3","v":2212},{"$f":"$G$3","v":2212},{"$f":"$G$3","v":2212}]
[12,4662,23,4675,24,4692,23,4746,null,null,0,1222,null,null,"total reinforcement",{"$f":"U20","v":2},{"$f":"Z20","v":1},{"$f":"AE20","v":1},{"$f":"AJ20","v":3},{"$f":"AO20","v":3},{"$f":"AT20","v":2}]
[12,4863,23,4881,13,4953,23,4970,null,null,0,1212,null,null,"% target"]
[12,5085,14,5105,24,5125,14,5158,null,null,0,1121,null,null,"CCRF"]
[12,5267,14,5276,13,5292,14,5318,null,null,0,1111,null,null,"% CCRf"]
[21,5423,12,5437,24,5459,14,5468,null,null,0,2121,null,null,"average response rate",{"$f":"H31/P28","v":181.92},{"$f":"(H55-H31)/Q28","v":168},{"$f":"(H80-H55)/R28","v":163.52000000000001},{"$f":"(H104-H80)/S28","v":159.20833333333334},{"$f":"(H129-H104)/T28","v":158.36000000000001},{"$f":"(H153-H129)/U28","v":-852}]
[21,5574,12,5590,24,5624,23,5638,null,null,0,2122]
[12,5784,23,5797,13,5824,23,5844,null,null,0,1212]
[21,5960,12,5968,13,5989,23,6003,null,null,0,2112]
[12,6115,14,6143,13,6230,23,6258,null,null,0,1112]
[12,6367,14,6375,13,6391,14,6422,null,null,0,1111]
[12,6539,23,6556,24,6565,14,6576,null,null,0,1221]
[12,6683,23,6693,13,6702,23,6712,null,null,0,1212]
[12,6822,23,6832,13,6846,14,6882,null,null,0,1211]
[21,6989,12,6997,13,7021,23,7046,null,null,0,2112]
[12,7156,14,7165,24,7174,23,7184,null,null,0,1122]
[21,7296,21,7308,11,7318,21,7352,null,null,0,2212]
[12,7451,14,7460,24,7472,14,7493,null,null,0,1121]
[21,7601,12,7609,13,7618,23,7628,null,null,0,2112]
[12,7745,23,7754,24,7772,14,7781,null,null,0,1221]
[12,7898,14,7919,24,7948,23,7967,null,null,0,1122]
[21,8086,12,8095,24,8106,23,8114,null,null,0,2122]
[21,8222,12,8230,24,8250,14,8265,null,null,0,2121]
[21,8388,21,8399,22,8408,23,8417,null,null,0,2222]
[21,8532,12,8542,24,8572,23,8580,null,null,0,2122]
[12,8699,23,8709,24,8718,23,8734,null,null,0,1222]
[21,8853,12,8861,13,8875,23,8888,null,null,0,2112]
[12,8997,23,9007,24,9015,14,9032,null,null,0,1221]
[12,9150,23,9188,24,9257,14,9276,null,null,0,1221]
[21,9382,12,9390,24,9399,23,9408,null,null,0,2122]
[21,9511,12,9519,24,9533,14,9562,null,null,0,2121]
[12,9670,23,9678,24,9687,23,9696,null,null,0,1222]
[12,9813,23,9830,24,9849,14,9868,null,null,0,1221]
[12,9978,23,9993,24,10001,14,10025,null,null,0,1221]
[12,10150,23,10176,24,10189,14,10203,null,null,0,1221]
[12,10313,23,10322,24,10345,23,10354,null,null,0,1222]
[21,10465,12,10474,24,10483,23,10491,null,null,0,2122]
[12,10604,23,10613,24,10638,14,10672,null,null,0,1221]
[21,10784,12,10792,24,10809,23,10818,null,null,0,2122]
[21,10927,21,10940,22,10961,23,10968,null,null,0,2222]
[12,11088,23,11120,24,11170,23,11180,null,null,0,1222]
[21,11300,12,11308,13,11348,23,11383,null,null,0,2112]
[12,11499,23,11507,24,11536,14,11551,null,null,0,1221]
[21,11652,12,11664,24,11677,14,11697,null,null,0,2121]
[12,11806,23,11815,24,11828,14,11848,null,null,0,1221]
[12,11968,23,11980,24,11992,23,12001,null,null,0,1222]
[12,12119,23,12128,24,12136,23,12153,null,null,0,1222]
[12,12267,23,12276,13,12294,14,12361,null,null,0,1211]
[21,12467,21,12492,11,12505,21,12517,null,null,0,2212]
[21,12627,12,12635,24,12650,14,12668,null,null,0,2121]
[12,12776,23,12785,13,12798,23,12809,null,null,0,1212]
[21,12910,12,12933,24,12945,23,12953,null,null,0,2122]
[12,13070,23,13078,24,13095,23,13111,null,null,0,1222]
[21,13213,21,13221,11,13229,21,13238,null,null,0,2212]
[12,13347,14,13378,13,13411,23,13445,null,null,0,1112]
[21,13551,12,13558,24,13591,14,13623,null,null,0,2121]
[12,13735,23,13743,13,13765,23,13793,null,null,0,1212]
[12,13909,23,13918,13,13937,23,13945,null,null,0,1212]
[12,14051,23,14060,13,14071,23,14083,null,null,0,1212]
[12,14186,14,14202,24,14219,23,14243,null,null,0,1122]
[12,14363,23,14379,13,14389,23,14402,null,null,0,1212]
[12,14522,23,14550,13,14558,23,14595,null,null,0,1212]
[21,14698,12,14706,13,14735,23,14765,null,null,0,2112]
[21,14881,12,14889,24,14909,23,14917,null,null,0,2122]
[12,15036,14,15064,13,15092,23,15104,null,null,0,1112]
[12,15212,23,15220,24,15237,14,15249,null,null,0,1221]
[21,15366,12,15374,24,15402,23,15410,null,null,0,2122]
[12,15521,23,15530,13,15539,23,15556,null,null,0,1212]
[12,15670,23,15678,24,15687,14,15705,null,null,0,1221]
[21,15812,21,15828,22,15837,14,15844,null,null,0,2221]
[21,15952,12,15960,13,15970,23,15978,null,null,0,2112]
[21,16102,21,16113,11,16122,21,16157,null,null,0,2212]
[21,16262,21,16309,22,16335,23,16353,null,null,0,2222]
[21,16457,21,16473,11,16480,21,16489,null,null,0,2212]
[21,16588,12,16597,13,16643,14,16653,null,null,0,2111]
[21,16810,21,16822,11,16850,21,16861,null,null,0,2212]
[21,16953,21,16968,11,16977,21,16993,null,null,0,2212]
[21,17094,12,17102,24,17113,14,17162,null,null,0,2121]
[12,17283,23,17310,13,17336,23,17360,null,null,0,1212]
[21,17462,12,17471,24,17479,23,17487,null,null,0,2122]
[21,17600,12,17608,24,17635,23,17643,null,null,0,2122]
[21,17746,12,17766,24,17775,23,17787,null,null,0,2122]
[21,17891,21,17905,11,17912,21,17924,null,null,0,2212]
[12,18023,14,18042,24,18068,23,18090,null,null,0,1122]
[21,18194,12,18202,24,18211,23,18260,null,null,0,2122]
[12,18369,23,18378,24,18393,23,18401,null,null,0,1222]
[12,18519,23,18531,24,18561,23,18601,null,null,0,1222]
[21,18705,21,18736,22,18744,23,18752,null,null,0,2222]
[21,18858,21,18874,11,18882,12,18922,null,null,0,2211]
[12,19031,23,19040,24,19048,14,19059,null,null,0,1221]
[21,19158,12,19175,24,19194,23,19209,null,null,0,2122]
[12,19311,23,19319,13,19328,23,19360,null,null,0,1212]
[21,19462,12,19470,24,19488,23,19500,null,null,0,2122]
[21,19602,21,19611,22,19627,23,19636,null,null,0,2222]
[21,19740,12,19767,24,19794,23,19806,null,null,0,2122]
[12,19913,14,19929,24,19940,23,19948,null,null,0,1122]
[21,20054,12,20063,24,20092,23,20121,null,null,0,2122]
[12,20240,23,20249,24,20269,23,20282,null,null,0,1222]
[21,20403,12,20420,24,20432,23,20448,null,null,0,2122]
[12,20558,14,20580,24,20611,23,20638,null,null,0,1122]
[12,20739,23,20748,13,20756,23,20782,null,null,0,1212]
[21,20879,21,20887,22,20901,14,20910,null,null,0,2221]
[12,21018,23,21026,24,21034,14,21048,null,null,0,1221]
[21,21148,12,21165,24,21173,23,21181,null,null,0,2122]
[21,21288,12,21295,24,21322,23,21333,null,null,0,2122]
[12,21457,23,21468,24,21492,14,21502,null,null,0,1221]
[21,21602,12,21610,13,21627,23,21634,null,null,0,2112]
[12,21735,14,21749,24,21757,23,21766,null,null,0,1122]
[21,21876,12,21884,24,21892,23,21925,null,null,0,2122]
[12,22043,23,22051,24,22067,23,22084,null,null,0,1222]
[12,22208,14,22242,24,22259,23,22270,null,null,0,1122]
[12,22389,23,22398,24,22417,23,22437,null,null,0,1222]
[21,22548,12,22556,24,22565,23,22574,null,null,0,2122]
[21,22681,12,22690,24,22701,23,22710,null,null,0,2122]
[12,22821,14,22860,24,22868,23,22876,null,null,0,1122]
[12,23002,23,23013,24,23021,23,23032,null,null,0,1222]
[12,23141,23,23165,24,23173,23,23181,null,null,0,1222]
[21,23297,21,23306,11,23314,21,23330,null,null,0,2212]
[12,23430,23,23438,24,23447,14,23458,null,null,0,1221]
[21,23563,21,23572,11,23579,21,23591,null,null,0,2212]
[12,23691,23,23708,13,23725,23,23738,null,null,0,1212]
[12,23855,23,23862,24,23871,14,23880,null,null,0,1221]
[21,23991,null,null,null,null,null,null,null,null,null,2]

{"sheet":"!N112920.095","index":14,"n_rows":159,"n_cols":48,"rows_kept":159,"cut":false,"hidden":false,"merged":[[4,39,4,42],[5,39,5,40],[4,44,4,47],[5,44,5,45],[4,24,4,27],[5,24,5,25],[4,29,4,32],[5,29,5,30],[4,34,4,37],[5,34,5,35],[1,1,1,2],[5,13,5,14],[26,13,26,14],[27,13,27,14],[4,19,4,22],[5,19,5,20]]}
["Report for:!N112920.095"]
["Date:","<date>"]
["Hen:","<hen>",null,null,null,"Correct Sequence",{"$f":"Start!J2","v":2212},null,null,null,null,null,null,null,null,"Total Sequences in Data",{"$f":"4994-COUNTBLANK(L7:L5000)","v":153},null,null,null,null,"Total Sequences in Block Data",{"$f":"COUNTA(L7:L32)","v":26},null,null,null,"Total Sequences in Block Data",{"$f":"COUNTA(L33:L57)","v":25},null,null,null,"Total Sequences in Block Data",{"$f":"COUNTA(L58:L83)","v":26},null,null,null,"Total Sequences in Block Data",{"$f":"COUNTA(L84:L108)","v":25},null,null,null,"Total Sequences in Block Data",{"$f":"COUNTA(L109:L134)","v":26},null,null,null,"Total Sequences in Block Data",{"$f":"COUNTA(L135:L159)","v":25}]
[null,null,null,null,null,null,null,null,null,null,null,null,null,null,null,"Total Sequences in Summary",{"$f":"SUM(O7:O22)","v":153},null,null,null,null,"Total Sequences in Block Summary",{"$f":"SUM(U7:U22)","v":26},null,null,null,"Total Sequences in Block Summary",{"$f":"SUM(Z7:Z22)","v":25},null,null,null,"Total Sequences in Block Summary",{"$f":"SUM(AE7:AE22)","v":26},null,null,null,"Total Sequences in Block Summary",{"$f":"SUM(AJ7:AJ22)","v":25},null,null,null,"Total Sequences in Block Summary",{"$f":"SUM(AO7:AO22)","v":26},null,null,null,"Total Sequences in Block Summary",{"$f":"SUM(AT7:AT22)","v":25}]
[null,null,null,null,null,null,null,null,null,null,null,null,null,null,null,null,null,null,null,"Block 1",null,null,null,null,"Block 2",null,null,null,null,"Block 3",null,null,null,null,"Block 4",null,null,null,null,"Block 5",null,null,null,null,"Block 6"]
["Sequence\nComponent\n1","Time\n1","Sequence\nComponent\n2","Time\n2","Sequence\nComponent\n3","Time\n3","Sequence\nComponent\n4","Time\n4","Sequence\nComponent\n5","Time\n5","Correct?\n0=No 1=Yes","Sequence",null,"Frequency",null,"Relative Frequency","Variability",null,null,"Frequency",null,"Relative Frequency","Variability",null,"Frequency",null,"Relative Frequency","Variability",null,"Frequency",null,"Relative Frequency","Variability",null,"Frequency",null,"Relative Frequency","Variability",null,"Frequency",null,"Relative Frequency","Variability",null,"Frequency",null,"Relative Frequency","Variability"]
[12,60,23,69,24,79,14,114,null,null,0,1221,null,1111,{"$f":"COUNTIF($L$7:$L$500,N7)","v":0},{"$f":"O7/$Q$4","v":0},{"$f":"IF(P7=0,0,(P7*((LOG(P7))/LOG(2))))","v":0},null,null,{"$f":"N7","v":1111},{"$f":"COUNTIF(L7:L32,T7)","v":0},{"$f":"U7/(W4-U20)","v":0},{"$f":"IF(V7=0,0,(V7*((LOG(V7))/LOG(2))))","v":0},null,{"$f":"N7","v":1111},{"$f":"COUNTIF(L33:L57,Y7)","v":0},{"$f":"Z7/(AB4-Z20)","v":0},{"$f":"IF(AA7=0,0,(AA7*((LOG(AA7))/LOG(2))))","v":0},null,{"$f":"N7","v":1111},{"$f":"COUNTIF(L58:L83,AD7)","v":0},{"$f":"AE7/(AG4-AE20)","v":0},{"$f":"IF(AF7=0,0,(AF7*((LOG(AF7))/LOG(2))))","v":0},null,{"$f":"N7","v":1111},{"$f":"COUNTIF(L84:L108,AI7)","v":0},{"$f":"AJ7/(AL4-AJ20)","v":0},{"$f":"IF(AK7=0,0,(AK7*((LOG(AK7))/LOG(2))))","v":0},null,{"$f":"N7","v":1111},{"$f":"COUNTIF(L109:L134,AN7)","v":0},{"$f":"AO7/(AQ4-AO20)","v":0},{"$f":"IF(AP7=0,0,(AP7*((LOG(AP7))/LOG(2))))","v":0},null,{"$f":"N7","v":1111},{"$f":"COUNTIF(L135:L159,AS7)","v":0},{"$f":"AT7/(AV4-AT20)","v":0},{"$f":"IF(AU7=0,0,(AU7*((LOG(AU7))/LOG(2))))","v":0}]
[21,239,12,248,24,257,23,308,null,null,0,2122,null,1112,{"$f":"COUNTIF($L$7:$L$500,N8)","v":0},{"$f":"O8/$Q$4","v":0},{"$f":"IF(P8=0,0,(P8*((LOG(P8))/LOG(2))))","v":0},null,null,{"$f":"N8","v":1112},{"$f":"COUNTIF(L7:L32,T8)","v":0},{"$f":"U8/(W4-U20)","v":0},{"$f":"IF(V8=0,0,(V8*((LOG(V8))/LOG(2))))","v":0},null,{"$f":"N8","v":1112},{"$f":"COUNTIF(L33:L57,Y8)","v":0},{"$f":"Z8/(AB4-Z20)","v":0},{"$f":"IF(AA8=0,0,(AA8*((LOG(AA8))/LOG(2))))","v":0},null,{"$f":"N8","v":1112},{"$f":"COUNTIF(L58:L83,AD8)","v":0},{"$f":"AE8/(AG4-AE20)","v":0},{"$f":"IF(AF8=0,0,(AF8*((LOG(AF8))/LOG(2))))","v":0},null,{"$f":"N8","v":1112},{"$f":"COUNTIF(L84:L108,AI8)","v":0},{"$f":"AJ8/(AL4-AJ20)","v":0},{"$f":"IF(AK8=0,0,(AK8*((LOG(AK8))/LOG(2))))","v":0},null,{"$f":"N8","v":1112},{"$f":"COUNTIF(L109:L134,AN8)","v":0},{"$f":"AO8/(AQ4-AO20)","v":0},{"$f":"IF(AP8=0,0,(AP8*((LOG(AP8))/LOG(2))))","v":0},null,{"$f":"N8","v":1112},{"$f":"COUNTIF(L135:L159,AS8)","v":0},{"$f":"AT8/(AV4-AT20)","v":0},{"$f":"IF(AU8=0,0,(AU8*((LOG(AU8))/LOG(2))))","v":0}]
[21,444,21,454,22,467,23,477,null,null,0,2222,null,1121,{"$f":"COUNTIF($L$7:$L$500,N9)","v":3},{"$f":"O9/$Q$4","v":1.9607843137254902E-2},{"$f":"IF(P9=0,0,(P9*((LOG(P9))/LOG(2))))","v":-0.11122402631316657},null,null,{"$f":"N9","v":1121},{"$f":"COUNTIF(L7:L32,T9)","v":0},{"$f":"U9/(W4-U20)","v":0},{"$f":"IF(V9=0,0,(V9*((LOG(V9))/LOG(2))))","v":0},null,{"$f":"N9","v":1121},{"$f":"COUNTIF(L33:L57,Y9)","v":0},{"$f":"Z9/(AB4-Z20)","v":0},{"$f":"IF(AA9=0,0,(AA9*((LOG(AA9))/LOG(2))))","v":0},null,{"$f":"N9","v":1121},{"$f":"COUNTIF(L58:L83,AD9)","v":0},{"$f":"AE9/(AG4-AE20)","v":0},{"$f":"IF(AF9=0,0,(AF9*((LOG(AF9))/LOG(2))))","v":0},null,{"$f":"N9","v":1121},{"$f":"COUNTIF(L84:L108,AI9)","v":2},{"$f":"AJ9/(AL4-AJ20)","v":9.0909090909090912E-2},{"$f":"IF(AK9=0,0,(AK9*((LOG(AK9))/LOG(2))))","v":-0.31449378351248153},null,{"$f":"N9","v":1121},{"$f":"COUNTIF(L109:L134,AN9)","v":1},{"$f":"AO9/(AQ4-AO20)","v":4.1666666666666664E-2},{"$f":"IF(AP9=0,0,(AP9*((LOG(AP9))/LOG(2))))","v":-0.19104010419671485},null,{"$f":"N9","v":1121},{"$f":"COUNTIF(L135:L159,AS9)","v":0},{"$f":"AT9/(AV4-AT20)","v":0},{"$f":"IF(AU9=0,0,(AU9*((LOG(AU9))/LOG(2))))","v":0}]
[21,602,21,617,22,643,23,652,null,null,0,2222,null,1122,{"$f":"COUNTIF($L$7:$L$500,N10)","v":3},{"$f":"O10/$Q$4","v":1.9607843137254902E-2},{"$f":"IF(P10=0,0,(P10*((LOG(P10))/LOG(2))))","v":-0.11122402631316657},null,null,{"$f":"N10","v":1122},{"$f":"COUNTIF(L7:L32,T10)","v":0},{"$f":"U10/(W4-U20)","v":0},{"$f":"IF(V10=0,0,(V10*((LOG(V10))/LOG(2))))","v":0},null,{"$f":"N10","v":1122},{"$f":"COUNTIF(L33:L57,Y10)","v":0},{"$f":"Z10/(AB4-Z20)","v":0},{"$f":"IF(AA10=0,0,(AA10*((LOG(AA10))/LOG(2))))","v":0},null,{"$f":"N10","v":1122},{"$f":"COUNTIF(L58:L83,AD10)","v":2},{"$f":"AE10/(AG4-AE20)","v":7.6923076923076927E-2},{"$f":"IF(AF10=0,0,(AF10*((LOG(AF10))/LOG(2))))","v":-0.28464920908777636},null,{"$f":"N10","v":1122},{"$f":"COUNTIF(L84:L108,AI10)","v":0},{"$f":"AJ10/(AL4-AJ20)","v":0},{"$f":"IF(AK10=0,0,(AK10*((LOG(AK10))/LOG(2))))","v":0},null,{"$f":"N10","v":1122},{"$f":"COUNTIF(L109:L134,AN10)","v":1},{"$f":"AO10/(AQ4-AO20)","v":4.1666666666666664E-2},{"$f":"IF(AP10=0,0,(AP10*((LOG(AP10))/LOG(2))))","v":-0.19104010419671485},null,{"$f":"N10","v":1122},{"$f":"COUNTIF(L135:L159,AS10)","v":0},{"$f":"AT10/(AV4-AT20)","v":0},{"$f":"IF(AU10=0,0,(AU10*((LOG(AU10))/LOG(2))))","v":0}]
[21,791,21,800,22,809,23,818,null,null,0,2222,null,1211,{"$f":"COUNTIF($L$7:$L$500,N11)","v":2},{"$f":"O11/$Q$4","v":1.3071895424836602E-2},{"$f":"IF(P11=0,0,(P11*((LOG(P11))/LOG(2))))","v":-8.1795919512322249E-2},null,null,{"$f":"N11","v":1211},{"$f":"COUNTIF(L7:L32,T11)","v":0},{"$f":"U11/(W4-U20)","v":0},{"$f":"IF(V11=0,0,(V11*((LOG(V11))/LOG(2))))","v":0},null,{"$f":"N11","v":1211},{"$f":"COUNTIF(L33:L57,Y11)","v":0},{"$f":"Z11/(AB4-Z20)","v":0},{"$f":"IF(AA11=0,0,(AA11*((LOG(AA11))/LOG(2))))","v":0},null,{"$f":"N11","v":1211},{"$f":"COUNTIF(L58:L83,AD11)","v":0},{"$f":"AE11/(AG4-AE20)","v":0},{"$f":"IF(AF11=0,0,(AF11*((LOG(AF11))/LOG(2))))","v":0},null,{"$f":"N11","v":1211},{"$f":"COUNTIF(L84:L108,AI11)","v":0},{"$f":"AJ11/(AL4-AJ20)","v":0},{"$f":"IF(AK11=0,0,(AK11*((LOG(AK11))/LOG(2))))","v":0},null,{"$f":"N11","v":1211},{"$f":"COUNTIF(L109:L134,AN11)","v":1},{"$f":"AO11/(AQ4-AO20)","v":4.1666666666666664E-2},{"$f":"IF(AP11=0,0,(AP11*((LOG(AP11))/LOG(2))))","v":-0.19104010419671485},null,{"$f":"N11","v":1211},{"$f":"COUNTIF(L135:L159,AS11)","v":1},{"$f":"AT11/(AV4-AT20)","v":4.1666666666666664E-2},{"$f":"IF(AU11=0,0,(AU11*((LOG(AU11))/LOG(2))))","v":-0.19104010419671485}]
[12,968,23,980,24,1016,23,1025,null,null,0,1222,null,1212,{"$f":"COUNTIF($L$7:$L$500,N12)","v":16},{"$f":"O12/$Q$4","v":0.10457516339869281},{"$f":"IF(P12=0,0,(P12*((LOG(P12))/LOG(2))))","v":-0.34064186590249951},null,null,{"$f":"N12","v":1212},{"$f":"COUNTIF(L7:L32,T12)","v":0},{"$f":"U12/(W4-U20)","v":0},{"$f":"IF(V12=0,0,(V12*((LOG(V12))/LOG(2))))","v":0},null,{"$f":"N12","v":1212},{"$f":"COUNTIF(L33:L57,Y12)","v":0},{"$f":"Z12/(AB4-Z20)","v":0},{"$f":"IF(AA12=0,0,(AA12*((LOG(AA12))/LOG(2))))","v":0},null,{"$f":"N12","v":1212},{"$f":"COUNTIF(L58:L83,AD12)","v":8},{"$f":"AE12/(AG4-AE20)","v":0.30769230769230771},{"$f":"IF(AF12=0,0,(AF12*((LOG(AF12))/LOG(2))))","v":-0.52321222096648989},null,{"$f":"N12","v":1212},{"$f":"COUNTIF(L84:L108,AI12)","v":5},{"$f":"AJ12/(AL4-AJ20)","v":0.22727272727272727},{"$f":"IF(AK12=0,0,(AK12*((LOG(AK12))/LOG(2))))","v":-0.48579625539771243},null,{"$f":"N12","v":1212},{"$f":"COUNTIF(L109:L134,AN12)","v":1},{"$f":"AO12/(AQ4-AO20)","v":4.1666666666666664E-2},{"$f":"IF(AP12=0,0,(AP12*((LOG(AP12))/LOG(2))))","v":-0.19104010419671485},null,{"$f":"N12","v":1212},{"$f":"COUNTIF(L135:L159,AS12)","v":2},{"$f":"AT12/(AV4-AT20)","v":8.3333333333333329E-2},{"$f":"IF(AU12=0,0,(AU12*((LOG(AU12))/LOG(2))))","v":-0.29874687506009634}]
[12,1161,23,1173,24,1184,23,1210,null,null,0,1222,null,1221,{"$f":"COUNTIF($L$7:$L$500,N13)","v":8},{"$f":"O13/$Q$4","v":5.2287581699346407E-2},{"$f":"IF(P13=0,0,(P13*((LOG(P13))/LOG(2))))","v":-0.22260851465059614},null,null,{"$f":"N13","v":1221},{"$f":"COUNTIF(L7:L32,T13)","v":2},{"$f":"U13/(W4-U20)","v":7.6923076923076927E-2},{"$f":"IF(V13=0,0,(V13*((LOG(V13))/LOG(2))))","v":-0.28464920908777636},null,{"$f":"N13","v":1221},{"$f":"COUNTIF(L33:L57,Y13)","v":0},{"$f":"Z13/(AB4-Z20)","v":0},{"$f":"IF(AA13=0,0,(AA13*((LOG(AA13))/LOG(2))))","v":0},null,{"$f":"N13","v":1221},{"$f":"COUNTIF(L58:L83,AD13)","v":1},{"$f":"AE13/(AG4-AE20)","v":3.8461538461538464E-2},{"$f":"IF(AF13=0,0,(AF13*((LOG(AF13))/LOG(2))))","v":-0.18078614300542661},null,{"$f":"N13","v":1221},{"$f":"COUNTIF(L84:L108,AI13)","v":2},{"$f":"AJ13/(AL4-AJ20)","v":9.0909090909090912E-2},{"$f":"IF(AK13=0,0,(AK13*((LOG(AK13))/LOG(2))))","v":-0.31449378351248153},null,{"$f":"N13","v":1221},{"$f":"COUNTIF(L109:L134,AN13)","v":2},{"$f":"AO13/(AQ4-AO20)","v":8.3333333333333329E-2},{"$f":"IF(AP13=0,0,(AP13*((LOG(AP13))/LOG(2))))","v":-0.29874687506009634},null,{"$f":"N13","v":1221},{"$f":"COUNTIF(L135:L159,AS13)","v":1},{"$f":"AT13/(AV4-AT20)","v":4.1666666666666664E-2},{"$f":"IF(AU13=0,0,(AU13*((LOG(AU13))/LOG(2))))","v":-0.19104010419671485}]
[21,1337,12,1350,24,1362,23,1389,null,null,0,2122,null,1222,{"$f":"COUNTIF($L$7:$L$500,N14)","v":17},{"$f":"O14/$Q$4","v":0.1111111111111111},{"$f":"IF(P14=0,0,(P14*((LOG(P14))/LOG(2))))","v":-0.3522138890491458},null,null,{"$f":"N14","v":1222},{"$f":"COUNTIF(L7:L32,T14)","v":5},{"$f":"U14/(W4-U20)","v":0.19230769230769232},{"$f":"IF(V14=0,0,(V14*((LOG(V14))/LOG(2))))","v":-0.45740608139494804},null,{"$f":"N14","v":1222},{"$f":"COUNTIF(L33:L57,Y14)","v":5},{"$f":"Z14/(AB4-Z20)","v":0.21739130434782608},{"$f":"IF(AA14=0,0,(AA14*((LOG(AA14))/LOG(2))))","v":-0.47861605677601093},null,{"$f":"N14","v":1222},{"$f":"COUNTIF(L58:L83,AD14)","v":2},{"$f":"AE14/(AG4-AE20)","v":7.6923076923076927E-2},{"$f":"IF(AF14=0,0,(AF14*((LOG(AF14))/LOG(2))))","v":-0.28464920908777636},null,{"$f":"N14","v":1222},{"$f":"COUNTIF(L84:L108,AI14)","v":0},{"$f":"AJ14/(AL4-AJ20)","v":0},{"$f":"IF(AK14=0,0,(AK14*((LOG(AK14))/LOG(2))))","v":0},null,{"$f":"N14","v":1222},{"$f":"COUNTIF(L109:L134,AN14)","v":3},{"$f":"AO14/(AQ4-AO20)","v":0.125},{"$f":"IF(AP14=0,0,(AP14*((LOG(AP14))/LOG(2))))","v":-0.375},null,{"$f":"N14","v":1222},{"$f":"COUNTIF(L135:L159,AS14)","v":2},{"$f":"AT14/(AV4-AT20)","v":8.3333333333333329E-2},{"$f":"IF(AU14=0,0,(AU14*((LOG(AU14))/LOG(2))))","v":-0.29874687506009634}]
[21,1500,21,1524,22,1568,23,1586,null,null,0,2222,null,2111,{"$f":"COUNTIF($L$7:$L$500,N15)","v":0},{"$f":"O15/$Q$4","v":0},{"$f":"IF(P15=0,0,(P15*((LOG(P15))/LOG(2))))","v":0},null,null,{"$f":"N15","v":2111},{"$f":"COUNTIF(L7:L32,T15)","v":0},{"$f":"U15/(W4-U20)","v":0},{"$f":"IF(V15=0,0,(V15*((LOG(V15))/LOG(2))))","v":0},null,{"$f":"N15","v":2111},{"$f":"COUNTIF(L33:L57,Y15)","v":0},{"$f":"Z15/(AB4-Z20)","v":0},{"$f":"IF(AA15=0,0,(AA15*((LOG(AA15))/LOG(2))))","v":0},null,{"$f":"N15","v":2111},{"$f":"COUNTIF(L58:L83,AD15)","v":0},{"$f":"AE15/(AG4-AE20)","v":0},{"$f":"IF(AF15=0,0,(AF15*((LOG(AF15))/LOG(2))))","v":0},null,{"$f":"N15","v":2111},{"$f":"COUNTIF(L84:L108,AI15)","v":0},{"$f":"AJ15/(AL4-AJ20)","v":0},{"$f":"IF(AK15=0,0,(AK15*((LOG(AK15))/LOG(2))))","v":0},null,{"$f":"N15","v":2111},{"$f":"COUNTIF(L109:L134,AN15)","v":0},{"$f":"AO15/(AQ4-AO20)","v":0},{"$f":"IF(AP15=0,0,(AP15*((LOG(AP15))/LOG(2))))","v":0},null,{"$f":"N15","v":2111},{"$f":"COUNTIF(L135:L159,AS15)","v":0},{"$f":"AT15/(AV4-AT20)","v":0},{"$f":"IF(AU15=0,0,(AU15*((LOG(AU15))/LOG(2))))","v":0}]
[21,1727,21,1739,22,1747,23,1784,null,null,0,2222,null,2112,{"$f":"COUNTIF($L$7:$L$500,N16)","v":2},{"$f":"O16/$Q$4","v":1.3071895424836602E-2},{"$f":"IF(P16=0,0,(P16*((LOG(P16))/LOG(2))))","v":-8.1795919512322249E-2},null,null,{"$f":"N16","v":2112},{"$f":"COUNTIF(L7:L32,T16)","v":0},{"$f":"U16/(W4-U20)","v":0},{"$f":"IF(V16=0,0,(V16*((LOG(V16))/LOG(2))))","v":0},null,{"$f":"N16","v":2112},{"$f":"COUNTIF(L33:L57,Y16)","v":0},{"$f":"Z16/(AB4-Z20)","v":0},{"$f":"IF(AA16=0,0,(AA16*((LOG(AA16))/LOG(2))))","v":0},null,{"$f":"N16","v":2112},{"$f":"COUNTIF(L58:L83,AD16)","v":1},{"$f":"AE16/(AG4-AE20)","v":3.8461538461538464E-2},{"$f":"IF(AF16=0,0,(AF16*((LOG(AF16))/LOG(2))))","v":-0.18078614300542661},null,{"$f":"N16","v":2112},{"$f":"COUNTIF(L84:L108,AI16)","v":0},{"$f":"AJ16/(AL4-AJ20)","v":0},{"$f":"IF(AK16=0,0,(AK16*((LOG(AK16))/LOG(2))))","v":0},null,{"$f":"N16","v":2112},{"$f":"COUNTIF(L109:L134,AN16)","v":1},{"$f":"AO16/(AQ4-AO20)","v":4.1666666666666664E-2},{"$f":"IF(AP16=0,0,(AP16*((LOG(AP16))/LOG(2))))","v":-0.19104010419671485},null,{"$f":"N16","v":2112},{"$f":"COUNTIF(L135:L159,AS16)","v":0},{"$f":"AT16/(AV4-AT20)","v":0},{"$f":"IF(AU16=0,0,(AU16*((LOG(AU16))/LOG(2))))","v":0}]
[21,1915,21,1923,22,1933,23,1941,null,null,0,2222,null,2121,{"$f":"COUNTIF($L$7:$L$500,N17)","v":11},{"$f":"O17/$Q$4","v":7.1895424836601302E-2},{"$f":"IF(P17=0,0,(P17*((LOG(P17))/LOG(2))))","v":-0.27305567623927385},null,null,{"$f":"N17","v":2121},{"$f":"COUNTIF(L7:L32,T17)","v":0},{"$f":"U17/(W4-U20)","v":0},{"$f":"IF(V17=0,0,(V17*((LOG(V17))/LOG(2))))","v":0},null,{"$f":"N17","v":2121},{"$f":"COUNTIF(L33:L57,Y17)","v":0},{"$f":"Z17/(AB4-Z20)","v":0},{"$f":"IF(AA17=0,0,(AA17*((LOG(AA17))/LOG(2))))","v":0},null,{"$f":"N17","v":2121},{"$f":"COUNTIF(L58:L83,AD17)","v":1},{"$f":"AE17/(AG4-AE20)","v":3.8461538461538464E-2},{"$f":"IF(AF17=0,0,(AF17*((LOG(AF17))/LOG(2))))","v":-0.18078614300542661},null,{"$f":"N17","v":2121},{"$f":"COUNTIF(L84:L108,AI17)","v":5},{"$f":"AJ17/(AL4-AJ20)","v":0.22727272727272727},{"$f":"IF(AK17=0,0,(AK17*((LOG(AK17))/LOG(2))))","v":-0.48579625539771243},null,{"$f":"N17","v":2121},{"$f":"COUNTIF(L109:L134,AN17)","v":2},{"$f":"AO17/(AQ4-AO20)","v":8.3333333333333329E-2},{"$f":"IF(AP17=0,0,(AP17*((LOG(AP17))/LOG(2))))","v":-0.29874687506009634},null,{"$f":"N17","v":2121},{"$f":"COUNTIF(L135:L159,AS17)","v":3},{"$f":"AT17/(AV4-AT20)","v":0.125},{"$f":"IF(AU17=0,0,(AU17*((LOG(AU17))/LOG(2))))","v":-0.375}]
[21,2045,21,2075,22,2092,23,2101,null,null,0,2222,null,2122,{"$f":"COUNTIF($L$7:$L$500,N18)","v":50},{"$f":"O18/$Q$4","v":0.32679738562091504},{"$f":"IF(P18=0,0,(P18*((LOG(P18))/LOG(2))))","v":-0.52729792579017232},null,null,{"$f":"N18","v":2122},{"$f":"COUNTIF(L7:L32,T18)","v":5},{"$f":"U18/(W4-U20)","v":0.19230769230769232},{"$f":"IF(V18=0,0,(V18*((LOG(V18))/LOG(2))))","v":-0.45740608139494804},null,{"$f":"N18","v":2122},{"$f":"COUNTIF(L33:L57,Y18)","v":9},{"$f":"Z18/(AB4-Z20)","v":0.39130434782608697},{"$f":"IF(AA18=0,0,(AA18*((LOG(AA18))/LOG(2))))","v":-0.5296840257187958},null,{"$f":"N18","v":2122},{"$f":"COUNTIF(L58:L83,AD18)","v":9},{"$f":"AE18/(AG4-AE20)","v":0.34615384615384615},{"$f":"IF(AF18=0,0,(AF18*((LOG(AF18))/LOG(2))))","v":-0.52979355578034681},null,{"$f":"N18","v":2122},{"$f":"COUNTIF(L84:L108,AI18)","v":7},{"$f":"AJ18/(AL4-AJ20)","v":0.31818181818181818},{"$f":"IF(AK18=0,0,(AK18*((LOG(AK18))/LOG(2))))","v":-0.52566076709353871},null,{"$f":"N18","v":2122},{"$f":"COUNTIF(L109:L134,AN18)","v":10},{"$f":"AO18/(AQ4-AO20)","v":0.41666666666666669},{"$f":"IF(AP18=0,0,(AP18*((LOG(AP18))/LOG(2))))","v":-0.52626433576408083},null,{"$f":"N18","v":2122},{"$f":"COUNTIF(L135:L159,AS18)","v":10},{"$f":"AT18/(AV4-AT20)","v":0.41666666666666669},{"$f":"IF(AU18=0,0,(AU18*((LOG(AU18))/LOG(2))))","v":-0.52626433576408083}]
[21,2222,21,2234,22,2242,23,2251,null,null,0,2222,null,2211,{"$f":"COUNTIF($L$7:$L$500,N19)","v":0},{"$f":"O19/$Q$4","v":0},{"$f":"IF(P19=0,0,(P19*((LOG(P19))/LOG(2))))","v":0},null,null,{"$f":"N19","v":2211},{"$f":"COUNTIF(L7:L32,T19)","v":0},{"$f":"U19/(W4-U20)","v":0},{"$f":"IF(V19=0,0,(V19*((LOG(V19))/LOG(2))))","v":0},null,{"$f":"N19","v":2211},{"$f":"COUNTIF(L33:L57,Y19)","v":0},{"$f":"Z19/(AB4-Z20)","v":0},{"$f":"IF(AA19=0,0,(AA19*((LOG(AA19))/LOG(2))))","v":0},null,{"$f":"N19","v":2211},{"$f":"COUNTIF(L58:L83,AD19)","v":0},{"$f":"AE19/(AG4-AE20)","v":0},{"$f":"IF(AF19=0,0,(AF19*((LOG(AF19))/LOG(2))))","v":0},null,{"$f":"N19","v":2211},{"$f":"COUNTIF(L84:L108,AI19)","v":0},{"$f":"AJ19/(AL4-AJ20)","v":0},{"$f":"IF(AK19=0,0,(AK19*((LOG(AK19))/LOG(2))))","v":0},null,{"$f":"N19","v":2211},{"$f":"COUNTIF(L109:L134,AN19)","v":0},{"$f":"AO19/(AQ4-AO20)","v":0},{"$f":"IF(AP19=0,0,(AP19*((LOG(AP19))/LOG(2))))","v":0},null,{"$f":"N19","v":2211},{"$f":"COUNTIF(L135:L159,AS19)","v":0},{"$f":"AT19/(AV4-AT20)","v":0},{"$f":"IF(AU19=0,0,(AU19*((LOG(AU19))/LOG(2))))","v":0}]
[21,2413,21,2423,22,2432,23,2441,null,null,0,2222,null,2212,{"$f":"COUNTIF($L$7:$L$500,N20)","v":8},{"$f":"O20/$Q$4","v":5.2287581699346407E-2},{"$f":"IF(P20=0,0,(P20*((LOG(P20))/LOG(2))))","v":-0.22260851465059614},null,null,{"$f":"N20","v":2212},{"$f":"COUNTIF(L7:L32,T20)","v":0},null,null,null,{"$f":"N20","v":2212},{"$f":"COUNTIF(L33:L57,Y20)","v":2},null,null,null,{"$f":"N20","v":2212},{"$f":"COUNTIF(L58:L83,AD20)","v":0},null,null,null,{"$f":"N20","v":2212},{"$f":"COUNTIF(L84:L108,AI20)","v":3},null,null,null,{"$f":"N20","v":2212},{"$f":"COUNTIF(L109:L134,AN20)","v":2},null,null,null,{"$f":"N20","v":2212},{"$f":"COUNTIF(L135:L159,AS20)","v":1}]
[21,2565,21,2574,22,2583,23,2592,null,null,0,2222,null,2221,{"$f":"COUNTIF($L$7:$L$500,N21)","v":4},{"$f":"O21/$Q$4","v":2.6143790849673203E-2},{"$f":"IF(P21=0,0,(P21*((LOG(P21))/LOG(2))))","v":-0.13744804817497128},null,null,{"$f":"N21","v":2221},{"$f":"COUNTIF(L7:L32,T21)","v":0},{"$f":"U21/(W4-U20)","v":0},{"$f":"IF(V21=0,0,(V21*((LOG(V21))/LOG(2))))","v":0},null,{"$f":"N21","v":2221},{"$f":"COUNTIF(L33:L57,Y21)","v":1},{"$f":"Z21/(AB4-Z20)","v":4.3478260869565216E-2},{"$f":"IF(AA21=0,0,(AA21*((LOG(AA21))/LOG(2))))","v":-0.19667660678508753},null,{"$f":"N21","v":2221},{"$f":"COUNTIF(L58:L83,AD21)","v":0},{"$f":"AE21/(AG4-AE20)","v":0},{"$f":"IF(AF21=0,0,(AF21*((LOG(AF21))/LOG(2))))","v":0},null,{"$f":"N21","v":2221},{"$f":"COUNTIF(L84:L108,AI21)","v":0},{"$f":"AJ21/(AL4-AJ20)","v":0},{"$f":"IF(AK21=0,0,(AK21*((LOG(AK21))/LOG(2))))","v":0},null,{"$f":"N21","v":2221},{"$f":"COUNTIF(L109:L134,AN21)","v":0},{"$f":"AO21/(AQ4-AO20)","v":0},{"$f":"IF(AP21=0,0,(AP21*((LOG(AP21))/LOG(2))))","v":0},null,{"$f":"N21","v":2221},{"$f":"COUNTIF(L135:L159,AS21)","v":3},{"$f":"AT21/(AV4-AT20)","v":0.125},{"$f":"IF(AU21=0,0,(AU21*((LOG(AU21))/LOG(2))))","v":-0.375}]
[21,2699,21,2707,22,2732,23,2741,null,null,0,2222,null,2222,{"$f":"COUNTIF($L$7:$L$500,N22)","v":29},{"$f":"O22/$Q$4","v":0.18954248366013071},{"$f":"IF(P22=0,0,(P22*((LOG(P22))/LOG(2))))","v":-0.45478953319860987},null,null,{"$f":"N22","v":2222},{"$f":"COUNTIF(L7:L32,T22)","v":14},{"$f":"U22/(W4-U20)","v":0.53846153846153844},{"$f":"IF(V22=0,0,(V22*((LOG(V22))/LOG(2))))","v":-0.48089181327572433},null,{"$f":"N22","v":2222},{"$f":"COUNTIF(L33:L57,Y22)","v":8},{"$f":"Z22/(AB4-Z20)","v":0.34782608695652173},{"$f":"IF(AA22=0,0,(AA22*((LOG(AA22))/LOG(2))))","v":-0.52993459341113491},null,{"$f":"N22","v":2222},{"$f":"COUNTIF(L58:L83,AD22)","v":2},{"$f":"AE22/(AG4-AE20)","v":7.6923076923076927E-2},{"$f":"IF(AF22=0,0,(AF22*((LOG(AF22))/LOG(2))))","v":-0.28464920908777636},null,{"$f":"N22","v":2222},{"$f":"COUNTIF(L84:L108,AI22)","v":1},{"$f":"AJ22/(AL4-AJ20)","v":4.5454545454545456E-2},{"$f":"IF(AK22=0,0,(AK22*((LOG(AK22))/LOG(2))))","v":-0.20270143721078623},null,{"$f":"N22","v":2222},{"$f":"COUNTIF(L109:L134,AN22)","v":2},{"$f":"AO22/(AQ4-AO20)","v":8.3333333333333329E-2},{"$f":"IF(AP22=0,0,(AP22*((LOG(AP22))/LOG(2))))","v":-0.29874687506009634},null,{"$f":"N22","v":2222},{"$f":"COUNTIF(L135:L159,AS22)","v":2},{"$f":"AT22/(AV4-AT20)","v":8.3333333333333329E-2},{"$f":"IF(AU22=0,0,(AU22*((LOG(AU22))/LOG(2))))","v":-0.29874687506009634}]
[21,2867,21,2893,22,2929,23,2938,null,null,0,2222,null,null,null,{"$f":"SUM(P7:P22)","v":1},{"$f":"-SUM(Q7:Q22)","v":2.9167038593068426},null,null,null,null,{"$f":"SUM(V7:V22)","v":1},{"$f":"-SUM(W7:W22)","v":1.6803531851533968},null,null,null,{"$f":"SUM(AA7:AA22)","v":1},{"$f":"-SUM(AB7:AB22)","v":1.7349112826910291},null,null,null,{"$f":"SUM(AF7:AF22)","v":1},{"$f":"-SUM(AG7:AG22)","v":2.4493118330264454},null,null,null,{"$f":"SUM(AK7:AK22)","v":1},{"$f":"-SUM(AL7:AL22)","v":2.3289422821247125},null,null,null,{"$f":"SUM(AP7:AP22)","v":1},{"$f":"-SUM(AQ7:AQ22)","v":2.752705481927944},null,null,null,{"$f":"SUM(AU7:AU22)","v":1},{"$f":"-SUM(AV7:AV22)","v":2.5545851693377997}]
[12,3068,23,3078,24,3087,23,3097,null,null,0,1222,null,null,null,"U=",{"$f":"Q23/(LOG(Q4)/LOG(2))","v":0.40189444501627747},null,null,null,null,"U1=",{"$f":"W23/(LOG(W4)/LOG(2))","v":0.35748850871720894},null,null,null,"U2=",{"$f":"AB23/(LOG(AB4)/LOG(2))","v":0.37359280989603388},null,null,null,"U3=",{"$f":"AG23/(LOG(AG4)/LOG(2))","v":0.52108142639793031},null,null,null,"U4=",{"$f":"AL23/(LOG(AL4)/LOG(2))","v":0.5015104230085321},null,null,null,"U5=",{"$f":"AQ23/(LOG(AQ4)/LOG(2))","v":0.58562722787487875},null,null,null,"U6=",{"$f":"AV23/(LOG(AV4)/LOG(2))","v":0.5500999740178697}]
[12,3221,23,3230,24,3239,23,3250,null,null,0,1222]
[12,3360,23,3377,24,3386,23,3399,null,null,0,1222]
[21,3500,12,3518,24,3540,23,3550,null,null,0,2122,null,"Total Target Seq"]
[21,3662,12,3680,24,3689,23,3728,null,null,0,2122,null,{"$f":"COUNTIF(L7:L159,G3)","v":8},null,26,25,26,25,26,25]
[21,3858,21,3873,22,3891,23,3903,null,null,0,2222,null,null,null,"% of reinforcement given in 6 equal intervals based on number of trials "]
[21,4028,12,4036,24,4044,23,4086,null,null,0,2122,null,null,null,"%_1","%_2","%_3","%_4","%_5","%_6"]
[21,4195,21,4204,22,4220,23,4241,null,null,0,2222,null,null,"target sequence",{"$f":"$G$3","v":2212},{"$f":"$G$3","v":2212},{"$f":"$G$3","v":2212},{"$f":"$G$3","v":2212},{"$f":"$G$3","v":2212},{"$f":"$G$3","v":2212}]
[12,4344,23,4352,24,4365,14,4377,null,null,0,1221,null,null,"total reinforcement",{"$f":"U20","v":0},{"$f":"Z20","v":2},{"$f":"AE20","v":0},{"$f":"AJ20","v":3},{"$f":"AO20","v":2},{"$f":"AT20","v":1}]
[21,4491,12,4500,24,4508,23,4530,null,null,0,2122,null,null,"% target"]
[12,4654,23,4662,24,4671,23,4680,null,null,0,1222,null,null,"CCRF"]
[12,4806,23,4815,24,4837,23,4846,null,null,0,1222,null,null,"% CCRf"]
[21,4972,12,4980,24,4989,23,5022,null,null,0,2122,null,null,"average response rate",{"$f":"H32/P28","v":168.34615384615384},{"$f":"(H57-H32)/Q28","v":152},{"$f":"(H83-H57)/R28","v":159.92307692307693},{"$f":"(H108-H83)/S28","v":153.36000000000001},{"$f":"(H134-H108)/T28","v":152.84615384615384},{"$f":"(H159-H134)/U28","v":151.19999999999999}]
[12,5142,23,5182,24,5191,23,5201,null,null,0,1222]
[21,5326,21,5343,22,5361,23,5370,null,null,0,2222]
[21,5483,12,5492,24,5505,23,5515,null,null,0,2122]
[21,5647,21,5656,11,5669,21,5688,null,null,0,2212]
[21,5818,21,5828,22,5857,23,5866,null,null,0,2222]
[21,5985,21,6008,22,6032,23,6040,null,null,0,2222]
[21,6146,21,6159,22,6167,23,6176,null,null,0,2222]
[21,6275,21,6284,22,6307,23,6316,null,null,0,2222]
[21,6424,21,6436,22,6444,23,6453,null,null,0,2222]
[21,6585,12,6593,24,6605,23,6622,null,null,0,2122]
[12,6738,23,6747,24,6756,23,6777,null,null,0,1222]
[12,6902,23,6913,24,6934,23,6947,null,null,0,1222]
[21,7045,21,7053,11,7066,21,7074,null,null,0,2212]
[21,7168,12,7183,24,7194,23,7206,null,null,0,2122]
[21,7313,12,7322,24,7331,23,7341,null,null,0,2122]
[21,7451,12,7459,24,7467,23,7488,null,null,0,2122]
[21,7600,12,7609,24,7618,23,7626,null,null,0,2122]
[21,7729,12,7738,24,7747,23,7755,null,null,0,2122]
[21,7860,21,7869,22,7881,23,7890,null,null,0,2222]
[21,8004,21,8013,22,8025,23,8033,null,null,0,2222]
[21,8140,21,8156,22,8164,14,8177,null,null,0,2221]
[21,8284,12,8292,24,8301,23,8309,null,null,0,2122]
[12,8419,23,8427,13,8449,23,8481,null,null,0,1212]
[21,8594,21,8611,22,8619,23,8639,null,null,0,2222]
[21,8743,12,8750,24,8759,23,8767,null,null,0,2122]
[21,8873,12,8882,24,8894,23,8901,null,null,0,2122]
[21,9016,12,9026,24,9034,23,9044,null,null,0,2122]
[21,9179,21,9196,22,9227,23,9236,null,null,0,2222]
[21,9346,12,9357,24,9394,23,9443,null,null,0,2122]
[12,9558,23,9567,24,9575,23,9589,null,null,0,1222]
[21,9701,12,9709,24,9721,23,9732,null,null,0,2122]
[12,9856,14,9870,24,9879,23,9888,null,null,0,1122]
[12,10004,23,10011,13,10060,23,10092,null,null,0,1212]
[21,10195,12,10204,24,10212,23,10229,null,null,0,2122]
[12,10348,23,10356,24,10365,14,10391,null,null,0,1221]
[12,10500,23,10509,13,10526,23,10535,null,null,0,1212]
[21,10644,12,10660,24,10673,23,10705,null,null,0,2122]
[12,10831,23,10848,13,10862,23,10872,null,null,0,1212]
[12,10980,23,10992,13,11003,23,11013,null,null,0,1212]
[12,11121,23,11130,13,11143,23,11163,null,null,0,1212]
[12,11267,23,11275,13,11283,23,11291,null,null,0,1212]
[12,11426,14,11446,24,11455,23,11465,null,null,0,1122]
[12,11608,23,11616,24,11655,23,11664,null,null,0,1222]
[21,11770,12,11787,24,11796,23,11805,null,null,0,2122]
[21,11939,12,11947,13,11972,23,11984,null,null,0,2112]
[21,12114,12,12123,24,12141,14,12174,null,null,0,2121]
[12,12295,23,12303,13,12325,23,12335,null,null,0,1212]
[12,12452,23,12464,13,12476,23,12508,null,null,0,1212]
[21,12635,12,12642,24,12650,14,12672,null,null,0,2121]
[12,12784,14,12793,24,12802,14,12822,null,null,0,1121]
[21,12946,12,12955,24,12974,14,12985,null,null,0,2121]
[12,13089,23,13099,13,13107,23,13115,null,null,0,1212]
[12,13229,23,13239,13,13276,23,13285,null,null,0,1212]
[12,13399,23,13407,13,13424,23,13436,null,null,0,1212]
[21,13543,12,13552,24,13561,23,13571,null,null,0,2122]
[21,13679,12,13687,24,13700,23,13750,null,null,0,2122]
[21,13856,21,13865,11,13873,21,13885,null,null,0,2212]
[21,13986,12,13993,24,14003,14,14025,null,null,0,2121]
[12,14139,23,14148,13,14165,23,14173,null,null,0,1212]
[21,14301,21,14314,11,14328,21,14336,null,null,0,2212]
[21,14456,12,14464,24,14473,23,14499,null,null,0,2122]
[21,14614,12,14625,24,14634,23,14654,null,null,0,2122]
[21,14758,21,14771,11,14781,21,14807,null,null,0,2212]
[12,14909,23,14923,24,14931,14,14944,null,null,0,1221]
[12,15049,14,15067,24,15093,14,15102,null,null,0,1121]
[21,15212,12,15219,24,15228,14,15246,null,null,0,2121]
[21,15352,12,15359,24,15368,23,15389,null,null,0,2122]
[12,15500,23,15509,24,15517,14,15526,null,null,0,1221]
[21,15640,12,15652,24,15661,23,15682,null,null,0,2122]
[21,15787,12,15797,24,15828,14,15844,null,null,0,2121]
[21,15957,21,15971,22,15980,23,16010,null,null,0,2222]
[21,16112,12,16129,24,16155,23,16169,null,null,0,2122]
[12,16284,23,16292,24,16300,14,16309,null,null,0,1221]
[21,16423,12,16432,24,16481,23,16489,null,null,0,2122]
[21,16605,21,16619,22,16635,23,16645,null,null,0,2222]
[21,16757,12,16765,24,16773,14,16823,null,null,0,2121]
[12,16939,23,16956,24,16969,23,16981,null,null,0,1222]
[21,17094,12,17103,24,17124,23,17136,null,null,0,2122]
[21,17263,12,17271,24,17280,23,17289,null,null,0,2122]
[12,17408,23,17417,13,17435,14,17481,null,null,0,1211]
[21,17580,12,17588,13,17607,23,17615,null,null,0,2112]
[21,17718,12,17726,24,17754,23,17774,null,null,0,2122]
[12,17902,23,17910,24,17931,14,17940,null,null,0,1221]
[21,18041,12,18049,24,18058,23,18067,null,null,0,2122]
[21,18171,21,18179,11,18188,21,18200,null,null,0,2212]
[21,18304,12,18312,24,18320,23,18328,null,null,0,2122]
[12,18454,23,18462,24,18476,23,18489,null,null,0,1222]
[21,18595,12,18602,24,18618,23,18630,null,null,0,2122]
[21,18735,12,18743,24,18761,23,18770,null,null,0,2122]
[12,18876,14,18884,24,18892,23,18912,null,null,0,1122]
[21,19018,21,19026,11,19034,21,19043,null,null,0,2212]
[21,19135,12,19143,24,19152,14,19173,null,null,0,2121]
[12,19288,23,19296,13,19316,23,19339,null,null,0,1212]
[21,19448,12,19455,24,19464,23,19488,null,null,0,2122]
[12,19590,14,19606,24,19635,14,19655,null,null,0,1121]
[21,19768,12,19776,24,19811,23,19831,null,null,0,2122]
[21,19942,21,19954,22,19963,23,19981,null,null,0,2222]
[12,20097,23,20106,24,20134,23,20143,null,null,0,1222]
[21,20261,12,20271,24,20279,23,20288,null,null,0,2122]
[21,20393,12,20403,24,20411,23,20420,null,null,0,2122]
[21,20521,12,20537,24,20567,23,20575,null,null,0,2122]
[21,20694,21,20702,22,20715,23,20724,null,null,0,2222]
[12,20837,23,20845,24,20853,23,20873,null,null,0,1222]
[21,20981,12,20989,24,20999,23,21023,null,null,0,2122]
[21,21137,12,21149,24,21157,23,21166,null,null,0,2122]
[12,21277,23,21285,13,21293,23,21302,null,null,0,1212]
[21,21415,12,21425,24,21438,23,21455,null,null,0,2122]
[21,21564,12,21580,24,21589,23,21599,null,null,0,2122]
[21,21718,21,21760,22,21774,14,21795,null,null,0,2221]
[21,21907,21,21932,22,21940,23,21949,null,null,0,2222]
[21,22051,12,22060,24,22102,14,22124,null,null,0,2121]
[21,22240,12,22248,24,22261,23,22275,null,null,0,2122]
[21,22401,12,22410,24,22418,23,22435,null,null,0,2122]
[12,22552,23,22561,24,22573,14,22585,null,null,0,1221]
[21,22693,12,22701,24,22727,14,22754,null,null,0,2121]
[12,22861,23,22869,13,22880,23,22900,null,null,0,1212]
[12,23019,23,23030,24,23038,23,23051,null,null,0,1222]
[12,23158,23,23166,13,23174,14,23199,null,null,0,1211]
[21,23302,12,23309,24,23318,14,23335,null,null,0,2121]
[21,23443,12,23452,24,23472,23,23485,null,null,0,2122]
[21,23587,21,23595,22,23608,14,23617,null,null,0,2221]
[21,23729,21,23741,22,23772,14,23789,null,null,0,2221]
[21,23893,21,23901,11,23911,21,23923,null,null,1,2212]

{"sheet":"!N113A30.095","index":15,"n_rows":159,"n_cols":48,"rows_kept":159,"cut":false,"hidden":false,"merged":[[4,39,4,42],[5,39,5,40],[4,44,4,47],[5,44,5,45],[4,24,4,27],[5,24,5,25],[4,29,4,32],[5,29,5,30],[4,34,4,37],[5,34,5,35],[1,1,1,2],[5,13,5,14],[26,13,26,14],[27,13,27,14],[4,19,4,22],[5,19,5,20]]}
["Report for:!N113A30.095"]
["Date:","<date>"]
["Hen:","<hen>",null,null,null,"Correct Sequence",{"$f":"Start!J2","v":2212},null,null,null,null,null,null,null,null,"Total Sequences in Data",{"$f":"4994-COUNTBLANK(L7:L5000)","v":153},null,null,null,null,"Total Sequences in Block Data",{"$f":"COUNTA(L7:L32)","v":26},null,null,null,"Total Sequences in Block Data",{"$f":"COUNTA(L33:L57)","v":25},null,null,null,"Total Sequences in Block Data",{"$f":"COUNTA(L58:L83)","v":26},null,null,null,"Total Sequences in Block Data",{"$f":"COUNTA(L84:L108)","v":25},null,null,null,"Total Sequences in Block Data",{"$f":"COUNTA(L109:L134)","v":26},null,null,null,"Total Sequences in Block Data",{"$f":"COUNTA(L135:L159)","v":25}]
[null,null,null,null,null,null,null,null,null,null,null,null,null,null,null,"Total Sequences in Summary",{"$f":"SUM(O7:O22)","v":153},null,null,null,null,"Total Sequences in Block Summary",{"$f":"SUM(U7:U22)","v":26},null,null,null,"Total Sequences in Block Summary",{"$f":"SUM(Z7:Z22)","v":25},null,null,null,"Total Sequences in Block Summary",{"$f":"SUM(AE7:AE22)","v":26},null,null,null,"Total Sequences in Block Summary",{"$f":"SUM(AJ7:AJ22)","v":25},null,null,null,"Total Sequences in Block Summary",{"$f":"SUM(AO7:AO22)","v":26},null,null,null,"Total Sequences in Block Summary",{"$f":"SUM(AT7:AT22)","v":25}]
[null,null,null,null,null,null,null,null,null,null,null,null,null,null,null,null,null,null,null,"Block 1",null,null,null,null,"Block 2",null,null,null,null,"Block 3",null,null,null,null,"Block 4",null,null,null,null,"Block 5",null,null,null,null,"Block 6"]
["Sequence\nComponent\n1","Time\n1","Sequence\nComponent\n2","Time\n2","Sequence\nComponent\n3","Time\n3","Sequence\nComponent\n4","Time\n4","Sequence\nComponent\n5","Time\n5","Correct?\n0=No 1=Yes","Sequence",null,"Frequency",null,"Relative Frequency","Variability",null,null,"Frequency",null,"Relative Frequency","Variability",null,"Frequency",null,"Relative Frequency","Variability",null,"Frequency",null,"Relative Frequency","Variability",null,"Frequency",null,"Relative Frequency","Variability",null,"Frequency",null,"Relative Frequency","Variability",null,"Frequency",null,"Relative Frequency","Variability"]
[12,48,23,65,13,78,23,86,null,null,0,1212,null,1111,{"$f":"COUNTIF($L$7:$L$500,N7)","v":0},{"$f":"O7/$Q$4","v":0},{"$f":"IF(P7=0,0,(P7*((LOG(P7))/LOG(2))))","v":0},null,null,{"$f":"N7","v":1111},{"$f":"COUNTIF(L7:L32,T7)","v":0},{"$f":"U7/(W4-U20)","v":0},{"$f":"IF(V7=0,0,(V7*((LOG(V7))/LOG(2))))","v":0},null,{"$f":"N7","v":1111},{"$f":"COUNTIF(L33:L57,Y7)","v":0},{"$f":"Z7/(AB4-Z20)","v":0},{"$f":"IF(AA7=0,0,(AA7*((LOG(AA7))/LOG(2))))","v":0},null,{"$f":"N7","v":1111},{"$f":"COUNTIF(L58:L83,AD7)","v":0},{"$f":"AE7/(AG4-AE20)","v":0},{"$f":"IF(AF7=0,0,(AF7*((LOG(AF7))/LOG(2))))","v":0},null,{"$f":"N7","v":1111},{"$f":"COUNTIF(L84:L108,AI7)","v":0},{"$f":"AJ7/(AL4-AJ20)","v":0},{"$f":"IF(AK7=0,0,(AK7*((LOG(AK7))/LOG(2))))","v":0},null,{"$f":"N7","v":1111},{"$f":"COUNTIF(L109:L134,AN7)","v":0},{"$f":"AO7/(AQ4-AO20)","v":0},{"$f":"IF(AP7=0,0,(AP7*((LOG(AP7))/LOG(2))))","v":0},null,{"$f":"N7","v":1111},{"$f":"COUNTIF(L135:L159,AS7)","v":0},{"$f":"AT7/(AV4-AT20)","v":0},{"$f":"IF(AU7=0,0,(AU7*((LOG(AU7))/LOG(2))))","v":0}]
[21,211,21,243,22,253,14,297,null,null,0,2221,null,1112,{"$f":"COUNTIF($L$7:$L$500,N8)","v":2},{"$f":"O8/$Q$4","v":1.3071895424836602E-2},{"$f":"IF(P8=0,0,(P8*((LOG(P8))/LOG(2))))","v":-8.1795919512322249E-2},null,null,{"$f":"N8","v":1112},{"$f":"COUNTIF(L7:L32,T8)","v":0},{"$f":"U8/(W4-U20)","v":0},{"$f":"IF(V8=0,0,(V8*((LOG(V8))/LOG(2))))","v":0},null,{"$f":"N8","v":1112},{"$f":"COUNTIF(L33:L57,Y8)","v":0},{"$f":"Z8/(AB4-Z20)","v":0},{"$f":"IF(AA8=0,0,(AA8*((LOG(AA8))/LOG(2))))","v":0},null,{"$f":"N8","v":1112},{"$f":"COUNTIF(L58:L83,AD8)","v":0},{"$f":"AE8/(AG4-AE20)","v":0},{"$f":"IF(AF8=0,0,(AF8*((LOG(AF8))/LOG(2))))","v":0},null,{"$f":"N8","v":1112},{"$f":"COUNTIF(L84:L108,AI8)","v":2},{"$f":"AJ8/(AL4-AJ20)","v":8.6956521739130432E-2},{"$f":"IF(AK8=0,0,(AK8*((LOG(AK8))/LOG(2))))","v":-0.30639669183104457},null,{"$f":"N8","v":1112},{"$f":"COUNTIF(L109:L134,AN8)","v":0},{"$f":"AO8/(AQ4-AO20)","v":0},{"$f":"IF(AP8=0,0,(AP8*((LOG(AP8))/LOG(2))))","v":0},null,{"$f":"N8","v":1112},{"$f":"COUNTIF(L135:L159,AS8)","v":0},{"$f":"AT8/(AV4-AT20)","v":0},{"$f":"IF(AU8=0,0,(AU8*((LOG(AU8))/LOG(2))))","v":0}]
[21,442,21,455,11,468,21,477,null,null,0,2212,null,1121,{"$f":"COUNTIF($L$7:$L$500,N9)","v":2},{"$f":"O9/$Q$4","v":1.3071895424836602E-2},{"$f":"IF(P9=0,0,(P9*((LOG(P9))/LOG(2))))","v":-8.1795919512322249E-2},null,null,{"$f":"N9","v":1121},{"$f":"COUNTIF(L7:L32,T9)","v":1},{"$f":"U9/(W4-U20)","v":4.1666666666666664E-2},{"$f":"IF(V9=0,0,(V9*((LOG(V9))/LOG(2))))","v":-0.19104010419671485},null,{"$f":"N9","v":1121},{"$f":"COUNTIF(L33:L57,Y9)","v":0},{"$f":"Z9/(AB4-Z20)","v":0},{"$f":"IF(AA9=0,0,(AA9*((LOG(AA9))/LOG(2))))","v":0},null,{"$f":"N9","v":1121},{"$f":"COUNTIF(L58:L83,AD9)","v":0},{"$f":"AE9/(AG4-AE20)","v":0},{"$f":"IF(AF9=0,0,(AF9*((LOG(AF9))/LOG(2))))","v":0},null,{"$f":"N9","v":1121},{"$f":"COUNTIF(L84:L108,AI9)","v":1},{"$f":"AJ9/(AL4-AJ20)","v":4.3478260869565216E-2},{"$f":"IF(AK9=0,0,(AK9*((LOG(AK9))/LOG(2))))","v":-0.19667660678508753},null,{"$f":"N9","v":1121},{"$f":"COUNTIF(L109:L134,AN9)","v":0},{"$f":"AO9/(AQ4-AO20)","v":0},{"$f":"IF(AP9=0,0,(AP9*((LOG(AP9))/LOG(2))))","v":0},null,{"$f":"N9","v":1121},{"$f":"COUNTIF(L135:L159,AS9)","v":0},{"$f":"AT9/(AV4-AT20)","v":0},{"$f":"IF(AU9=0,0,(AU9*((LOG(AU9))/LOG(2))))","v":0}]
[12,632,23,640,24,660,14,681,null,null,0,1221,null,1122,{"$f":"COUNTIF($L$7:$L$500,N10)","v":9},{"$f":"O10/$Q$4","v":5.8823529411764705E-2},{"$f":"IF(P10=0,0,(P10*((LOG(P10))/LOG(2))))","v":-0.24043899066178465},null,null,{"$f":"N10","v":1122},{"$f":"COUNTIF(L7:L32,T10)","v":1},{"$f":"U10/(W4-U20)","v":4.1666666666666664E-2},{"$f":"IF(V10=0,0,(V10*((LOG(V10))/LOG(2))))","v":-0.19104010419671485},null,{"$f":"N10","v":1122},{"$f":"COUNTIF(L33:L57,Y10)","v":2},{"$f":"Z10/(AB4-Z20)","v":8.3333333333333329E-2},{"$f":"IF(AA10=0,0,(AA10*((LOG(AA10))/LOG(2))))","v":-0.29874687506009634},null,{"$f":"N10","v":1122},{"$f":"COUNTIF(L58:L83,AD10)","v":2},{"$f":"AE10/(AG4-AE20)","v":8.6956521739130432E-2},{"$f":"IF(AF10=0,0,(AF10*((LOG(AF10))/LOG(2))))","v":-0.30639669183104457},null,{"$f":"N10","v":1122},{"$f":"COUNTIF(L84:L108,AI10)","v":1},{"$f":"AJ10/(AL4-AJ20)","v":4.3478260869565216E-2},{"$f":"IF(AK10=0,0,(AK10*((LOG(AK10))/LOG(2))))","v":-0.19667660678508753},null,{"$f":"N10","v":1122},{"$f":"COUNTIF(L109:L134,AN10)","v":2},{"$f":"AO10/(AQ4-AO20)","v":0.10526315789473684},{"$f":"IF(AP10=0,0,(AP10*((LOG(AP10))/LOG(2))))","v":-0.34188710667827216},null,{"$f":"N10","v":1122},{"$f":"COUNTIF(L135:L159,AS10)","v":1},{"$f":"AT10/(AV4-AT20)","v":7.1428571428571425E-2},{"$f":"IF(AU10=0,0,(AU10*((LOG(AU10))/LOG(2))))","v":-0.27195392300411453}]
[21,806,12,813,24,821,14,833,null,null,0,2121,null,1211,{"$f":"COUNTIF($L$7:$L$500,N11)","v":2},{"$f":"O11/$Q$4","v":1.3071895424836602E-2},{"$f":"IF(P11=0,0,(P11*((LOG(P11))/LOG(2))))","v":-8.1795919512322249E-2},null,null,{"$f":"N11","v":1211},{"$f":"COUNTIF(L7:L32,T11)","v":0},{"$f":"U11/(W4-U20)","v":0},{"$f":"IF(V11=0,0,(V11*((LOG(V11))/LOG(2))))","v":0},null,{"$f":"N11","v":1211},{"$f":"COUNTIF(L33:L57,Y11)","v":1},{"$f":"Z11/(AB4-Z20)","v":4.1666666666666664E-2},{"$f":"IF(AA11=0,0,(AA11*((LOG(AA11))/LOG(2))))","v":-0.19104010419671485},null,{"$f":"N11","v":1211},{"$f":"COUNTIF(L58:L83,AD11)","v":1},{"$f":"AE11/(AG4-AE20)","v":4.3478260869565216E-2},{"$f":"IF(AF11=0,0,(AF11*((LOG(AF11))/LOG(2))))","v":-0.19667660678508753},null,{"$f":"N11","v":1211},{"$f":"COUNTIF(L84:L108,AI11)","v":0},{"$f":"AJ11/(AL4-AJ20)","v":0},{"$f":"IF(AK11=0,0,(AK11*((LOG(AK11))/LOG(2))))","v":0},null,{"$f":"N11","v":1211},{"$f":"COUNTIF(L109:L134,AN11)","v":0},{"$f":"AO11/(AQ4-AO20)","v":0},{"$f":"IF(AP11=0,0,(AP11*((LOG(AP11))/LOG(2))))","v":0},null,{"$f":"N11","v":1211},{"$f":"COUNTIF(L135:L159,AS11)","v":0},{"$f":"AT11/(AV4-AT20)","v":0},{"$f":"IF(AU11=0,0,(AU11*((LOG(AU11))/LOG(2))))","v":0}]
[21,955,21,965,22,979,23,988,null,null,0,2222,null,1212,{"$f":"COUNTIF($L$7:$L$500,N12)","v":23},{"$f":"O12/$Q$4","v":0.15032679738562091},{"$f":"IF(P12=0,0,(P12*((LOG(P12))/LOG(2))))","v":-0.41096729014784106},null,null,{"$f":"N12","v":1212},{"$f":"COUNTIF(L7:L32,T12)","v":8},{"$f":"U12/(W4-U20)","v":0.33333333333333331},{"$f":"IF(V12=0,0,(V12*((LOG(V12))/LOG(2))))","v":-0.52832083357371862},null,{"$f":"N12","v":1212},{"$f":"COUNTIF(L33:L57,Y12)","v":0},{"$f":"Z12/(AB4-Z20)","v":0},{"$f":"IF(AA12=0,0,(AA12*((LOG(AA12))/LOG(2))))","v":0},null,{"$f":"N12","v":1212},{"$f":"COUNTIF(L58:L83,AD12)","v":5},{"$f":"AE12/(AG4-AE20)","v":0.21739130434782608},{"$f":"IF(AF12=0,0,(AF12*((LOG(AF12))/LOG(2))))","v":-0.47861605677601093},null,{"$f":"N12","v":1212},{"$f":"COUNTIF(L84:L108,AI12)","v":6},{"$f":"AJ12/(AL4-AJ20)","v":0.2608695652173913},{"$f":"IF(AK12=0,0,(AK12*((LOG(AK12))/LOG(2))))","v":-0.50572159704413644},null,{"$f":"N12","v":1212},{"$f":"COUNTIF(L109:L134,AN12)","v":2},{"$f":"AO12/(AQ4-AO20)","v":0.10526315789473684},{"$f":"IF(AP12=0,0,(AP12*((LOG(AP12))/LOG(2))))","v":-0.34188710667827216},null,{"$f":"N12","v":1212},{"$f":"COUNTIF(L135:L159,AS12)","v":2},{"$f":"AT12/(AV4-AT20)","v":0.14285714285714285},{"$f":"IF(AU12=0,0,(AU12*((LOG(AU12))/LOG(2))))","v":-0.40105070315108626}]
[12,1113,23,1122,24,1138,14,1150,null,null,0,1221,null,1221,{"$f":"COUNTIF($L$7:$L$500,N13)","v":12},{"$f":"O13/$Q$4","v":7.8431372549019607E-2},{"$f":"IF(P13=0,0,(P13*((LOG(P13))/LOG(2))))","v":-0.2880333601546271},null,null,{"$f":"N13","v":1221},{"$f":"COUNTIF(L7:L32,T13)","v":2},{"$f":"U13/(W4-U20)","v":8.3333333333333329E-2},{"$f":"IF(V13=0,0,(V13*((LOG(V13))/LOG(2))))","v":-0.29874687506009634},null,{"$f":"N13","v":1221},{"$f":"COUNTIF(L33:L57,Y13)","v":3},{"$f":"Z13/(AB4-Z20)","v":0.125},{"$f":"IF(AA13=0,0,(AA13*((LOG(AA13))/LOG(2))))","v":-0.375},null,{"$f":"N13","v":1221},{"$f":"COUNTIF(L58:L83,AD13)","v":2},{"$f":"AE13/(AG4-AE20)","v":8.6956521739130432E-2},{"$f":"IF(AF13=0,0,(AF13*((LOG(AF13))/LOG(2))))","v":-0.30639669183104457},null,{"$f":"N13","v":1221},{"$f":"COUNTIF(L84:L108,AI13)","v":1},{"$f":"AJ13/(AL4-AJ20)","v":4.3478260869565216E-2},{"$f":"IF(AK13=0,0,(AK13*((LOG(AK13))/LOG(2))))","v":-0.19667660678508753},null,{"$f":"N13","v":1221},{"$f":"COUNTIF(L109:L134,AN13)","v":2},{"$f":"AO13/(AQ4-AO20)","v":0.10526315789473684},{"$f":"IF(AP13=0,0,(AP13*((LOG(AP13))/LOG(2))))","v":-0.34188710667827216},null,{"$f":"N13","v":1221},{"$f":"COUNTIF(L135:L159,AS13)","v":2},{"$f":"AT13/(AV4-AT20)","v":0.14285714285714285},{"$f":"IF(AU13=0,0,(AU13*((LOG(AU13))/LOG(2))))","v":-0.40105070315108626}]
[12,1266,23,1275,13,1295,23,1303,null,null,0,1212,null,1222,{"$f":"COUNTIF($L$7:$L$500,N14)","v":5},{"$f":"O14/$Q$4","v":3.2679738562091505E-2},{"$f":"IF(P14=0,0,(P14*((LOG(P14))/LOG(2))))","v":-0.1612895342420029},null,null,{"$f":"N14","v":1222},{"$f":"COUNTIF(L7:L32,T14)","v":1},{"$f":"U14/(W4-U20)","v":4.1666666666666664E-2},{"$f":"IF(V14=0,0,(V14*((LOG(V14))/LOG(2))))","v":-0.19104010419671485},null,{"$f":"N14","v":1222},{"$f":"COUNTIF(L33:L57,Y14)","v":3},{"$f":"Z14/(AB4-Z20)","v":0.125},{"$f":"IF(AA14=0,0,(AA14*((LOG(AA14))/LOG(2))))","v":-0.375},null,{"$f":"N14","v":1222},{"$f":"COUNTIF(L58:L83,AD14)","v":0},{"$f":"AE14/(AG4-AE20)","v":0},{"$f":"IF(AF14=0,0,(AF14*((LOG(AF14))/LOG(2))))","v":0},null,{"$f":"N14","v":1222},{"$f":"COUNTIF(L84:L108,AI14)","v":0},{"$f":"AJ14/(AL4-AJ20)","v":0},{"$f":"IF(AK14=0,0,(AK14*((LOG(AK14))/LOG(2))))","v":0},null,{"$f":"N14","v":1222},{"$f":"COUNTIF(L109:L134,AN14)","v":1},{"$f":"AO14/(AQ4-AO20)","v":5.2631578947368418E-2},{"$f":"IF(AP14=0,0,(AP14*((LOG(AP14))/LOG(2))))","v":-0.22357513228650452},null,{"$f":"N14","v":1222},{"$f":"COUNTIF(L135:L159,AS14)","v":0},{"$f":"AT14/(AV4-AT20)","v":0},{"$f":"IF(AU14=0,0,(AU14*((LOG(AU14))/LOG(2))))","v":0}]
[21,1410,21,1433,11,1442,21,1459,null,null,0,2212,null,2111,{"$f":"COUNTIF($L$7:$L$500,N15)","v":2},{"$f":"O15/$Q$4","v":1.3071895424836602E-2},{"$f":"IF(P15=0,0,(P15*((LOG(P15))/LOG(2))))","v":-8.1795919512322249E-2},null,null,{"$f":"N15","v":2111},{"$f":"COUNTIF(L7:L32,T15)","v":0},{"$f":"U15/(W4-U20)","v":0},{"$f":"IF(V15=0,0,(V15*((LOG(V15))/LOG(2))))","v":0},null,{"$f":"N15","v":2111},{"$f":"COUNTIF(L33:L57,Y15)","v":0},{"$f":"Z15/(AB4-Z20)","v":0},{"$f":"IF(AA15=0,0,(AA15*((LOG(AA15))/LOG(2))))","v":0},null,{"$f":"N15","v":2111},{"$f":"COUNTIF(L58:L83,AD15)","v":0},{"$f":"AE15/(AG4-AE20)","v":0},{"$f":"IF(AF15=0,0,(AF15*((LOG(AF15))/LOG(2))))","v":0},null,{"$f":"N15","v":2111},{"$f":"COUNTIF(L84:L108,AI15)","v":2},{"$f":"AJ15/(AL4-AJ20)","v":8.6956521739130432E-2},{"$f":"IF(AK15=0,0,(AK15*((LOG(AK15))/LOG(2))))","v":-0.30639669183104457},null,{"$f":"N15","v":2111},{"$f":"COUNTIF(L109:L134,AN15)","v":0},{"$f":"AO15/(AQ4-AO20)","v":0},{"$f":"IF(AP15=0,0,(AP15*((LOG(AP15))/LOG(2))))","v":0},null,{"$f":"N15","v":2111},{"$f":"COUNTIF(L135:L159,AS15)","v":0},{"$f":"AT15/(AV4-AT20)","v":0},{"$f":"IF(AU15=0,0,(AU15*((LOG(AU15))/LOG(2))))","v":0}]
[21,1560,12,1568,24,1577,23,1585,null,null,0,2122,null,2112,{"$f":"COUNTIF($L$7:$L$500,N16)","v":11},{"$f":"O16/$Q$4","v":7.1895424836601302E-2},{"$f":"IF(P16=0,0,(P16*((LOG(P16))/LOG(2))))","v":-0.27305567623927385},null,null,{"$f":"N16","v":2112},{"$f":"COUNTIF(L7:L32,T16)","v":1},{"$f":"U16/(W4-U20)","v":4.1666666666666664E-2},{"$f":"IF(V16=0,0,(V16*((LOG(V16))/LOG(2))))","v":-0.19104010419671485},null,{"$f":"N16","v":2112},{"$f":"COUNTIF(L33:L57,Y16)","v":1},{"$f":"Z16/(AB4-Z20)","v":4.1666666666666664E-2},{"$f":"IF(AA16=0,0,(AA16*((LOG(AA16))/LOG(2))))","v":-0.19104010419671485},null,{"$f":"N16","v":2112},{"$f":"COUNTIF(L58:L83,AD16)","v":0},{"$f":"AE16/(AG4-AE20)","v":0},{"$f":"IF(AF16=0,0,(AF16*((LOG(AF16))/LOG(2))))","v":0},null,{"$f":"N16","v":2112},{"$f":"COUNTIF(L84:L108,AI16)","v":6},{"$f":"AJ16/(AL4-AJ20)","v":0.2608695652173913},{"$f":"IF(AK16=0,0,(AK16*((LOG(AK16))/LOG(2))))","v":-0.50572159704413644},null,{"$f":"N16","v":2112},{"$f":"COUNTIF(L109:L134,AN16)","v":2},{"$f":"AO16/(AQ4-AO20)","v":0.10526315789473684},{"$f":"IF(AP16=0,0,(AP16*((LOG(AP16))/LOG(2))))","v":-0.34188710667827216},null,{"$f":"N16","v":2112},{"$f":"COUNTIF(L135:L159,AS16)","v":1},{"$f":"AT16/(AV4-AT20)","v":7.1428571428571425E-2},{"$f":"IF(AU16=0,0,(AU16*((LOG(AU16))/LOG(2))))","v":-0.27195392300411453}]
[21,1690,12,1702,13,1723,23,1761,null,null,0,2112,null,2121,{"$f":"COUNTIF($L$7:$L$500,N17)","v":14},{"$f":"O17/$Q$4","v":9.1503267973856203E-2},{"$f":"IF(P17=0,0,(P17*((LOG(P17))/LOG(2))))","v":-0.31568928685549458},null,null,{"$f":"N17","v":2121},{"$f":"COUNTIF(L7:L32,T17)","v":3},{"$f":"U17/(W4-U20)","v":0.125},{"$f":"IF(V17=0,0,(V17*((LOG(V17))/LOG(2))))","v":-0.375},null,{"$f":"N17","v":2121},{"$f":"COUNTIF(L33:L57,Y17)","v":4},{"$f":"Z17/(AB4-Z20)","v":0.16666666666666666},{"$f":"IF(AA17=0,0,(AA17*((LOG(AA17))/LOG(2))))","v":-0.43082708345352599},null,{"$f":"N17","v":2121},{"$f":"COUNTIF(L58:L83,AD17)","v":4},{"$f":"AE17/(AG4-AE20)","v":0.17391304347826086},{"$f":"IF(AF17=0,0,(AF17*((LOG(AF17))/LOG(2))))","v":-0.43888034018382832},null,{"$f":"N17","v":2121},{"$f":"COUNTIF(L84:L108,AI17)","v":1},{"$f":"AJ17/(AL4-AJ20)","v":4.3478260869565216E-2},{"$f":"IF(AK17=0,0,(AK17*((LOG(AK17))/LOG(2))))","v":-0.19667660678508753},null,{"$f":"N17","v":2121},{"$f":"COUNTIF(L109:L134,AN17)","v":1},{"$f":"AO17/(AQ4-AO20)","v":5.2631578947368418E-2},{"$f":"IF(AP17=0,0,(AP17*((LOG(AP17))/LOG(2))))","v":-0.22357513228650452},null,{"$f":"N17","v":2121},{"$f":"COUNTIF(L135:L159,AS17)","v":1},{"$f":"AT17/(AV4-AT20)","v":7.1428571428571425E-2},{"$f":"IF(AU17=0,0,(AU17*((LOG(AU17))/LOG(2))))","v":-0.27195392300411453}]
[12,1888,23,1893,13,1905,23,1913,null,null,0,1212,null,2122,{"$f":"COUNTIF($L$7:$L$500,N18)","v":34},{"$f":"O18/$Q$4","v":0.22222222222222221},{"$f":"IF(P18=0,0,(P18*((LOG(P18))/LOG(2))))","v":-0.48220555587606945},null,null,{"$f":"N18","v":2122},{"$f":"COUNTIF(L7:L32,T18)","v":4},{"$f":"U18/(W4-U20)","v":0.16666666666666666},{"$f":"IF(V18=0,0,(V18*((LOG(V18))/LOG(2))))","v":-0.43082708345352599},null,{"$f":"N18","v":2122},{"$f":"COUNTIF(L33:L57,Y18)","v":6},{"$f":"Z18/(AB4-Z20)","v":0.25},{"$f":"IF(AA18=0,0,(AA18*((LOG(AA18))/LOG(2))))","v":-0.5},null,{"$f":"N18","v":2122},{"$f":"COUNTIF(L58:L83,AD18)","v":8},{"$f":"AE18/(AG4-AE20)","v":0.34782608695652173},{"$f":"IF(AF18=0,0,(AF18*((LOG(AF18))/LOG(2))))","v":-0.52993459341113491},null,{"$f":"N18","v":2122},{"$f":"COUNTIF(L84:L108,AI18)","v":3},{"$f":"AJ18/(AL4-AJ20)","v":0.13043478260869565},{"$f":"IF(AK18=0,0,(AK18*((LOG(AK18))/LOG(2))))","v":-0.3832955811307639},null,{"$f":"N18","v":2122},{"$f":"COUNTIF(L109:L134,AN18)","v":8},{"$f":"AO18/(AQ4-AO20)","v":0.42105263157894735},{"$f":"IF(AP18=0,0,(AP18*((LOG(AP18))/LOG(2))))","v":-0.52544316355519383},null,{"$f":"N18","v":2122},{"$f":"COUNTIF(L135:L159,AS18)","v":5},{"$f":"AT18/(AV4-AT20)","v":0.35714285714285715},{"$f":"IF(AU18=0,0,(AU18*((LOG(AU18))/LOG(2))))","v":-0.53050958113222924}]
[21,2036,12,2044,24,2052,23,2060,null,null,0,2122,null,2211,{"$f":"COUNTIF($L$7:$L$500,N19)","v":2},{"$f":"O19/$Q$4","v":1.3071895424836602E-2},{"$f":"IF(P19=0,0,(P19*((LOG(P19))/LOG(2))))","v":-8.1795919512322249E-2},null,null,{"$f":"N19","v":2211},{"$f":"COUNTIF(L7:L32,T19)","v":0},{"$f":"U19/(W4-U20)","v":0},{"$f":"IF(V19=0,0,(V19*((LOG(V19))/LOG(2))))","v":0},null,{"$f":"N19","v":2211},{"$f":"COUNTIF(L33:L57,Y19)","v":1},{"$f":"Z19/(AB4-Z20)","v":4.1666666666666664E-2},{"$f":"IF(AA19=0,0,(AA19*((LOG(AA19))/LOG(2))))","v":-0.19104010419671485},null,{"$f":"N19","v":2211},{"$f":"COUNTIF(L58:L83,AD19)","v":0},{"$f":"AE19/(AG4-AE20)","v":0},{"$f":"IF(AF19=0,0,(AF19*((LOG(AF19))/LOG(2))))","v":0},null,{"$f":"N19","v":2211},{"$f":"COUNTIF(L84:L108,AI19)","v":0},{"$f":"AJ19/(AL4-AJ20)","v":0},{"$f":"IF(AK19=0,0,(AK19*((LOG(AK19))/LOG(2))))","v":0},null,{"$f":"N19","v":2211},{"$f":"COUNTIF(L109:L134,AN19)","v":1},{"$f":"AO19/(AQ4-AO20)","v":5.2631578947368418E-2},{"$f":"IF(AP19=0,0,(AP19*((LOG(AP19))/LOG(2))))","v":-0.22357513228650452},null,{"$f":"N19","v":2211},{"$f":"COUNTIF(L135:L159,AS19)","v":0},{"$f":"AT19/(AV4-AT20)","v":0},{"$f":"IF(AU19=0,0,(AU19*((LOG(AU19))/LOG(2))))","v":0}]
[12,2172,14,2193,24,2200,23,2208,null,null,0,1122,null,2212,{"$f":"COUNTIF($L$7:$L$500,N20)","v":26},{"$f":"O20/$Q$4","v":0.16993464052287582},{"$f":"IF(P20=0,0,(P20*((LOG(P20))/LOG(2))))","v":-0.4345140603813108},null,null,{"$f":"N20","v":2212},{"$f":"COUNTIF(L7:L32,T20)","v":2},null,null,null,{"$f":"N20","v":2212},{"$f":"COUNTIF(L33:L57,Y20)","v":1},null,null,null,{"$f":"N20","v":2212},{"$f":"COUNTIF(L58:L83,AD20)","v":3},null,null,null,{"$f":"N20","v":2212},{"$f":"COUNTIF(L84:L108,AI20)","v":2},null,null,null,{"$f":"N20","v":2212},{"$f":"COUNTIF(L109:L134,AN20)","v":7},null,null,null,{"$f":"N20","v":2212},{"$f":"COUNTIF(L135:L159,AS20)","v":11}]
[21,2315,12,2334,24,2349,14,2362,null,null,0,2121,null,2221,{"$f":"COUNTIF($L$7:$L$500,N21)","v":5},{"$f":"O21/$Q$4","v":3.2679738562091505E-2},{"$f":"IF(P21=0,0,(P21*((LOG(P21))/LOG(2))))","v":-0.1612895342420029},null,null,{"$f":"N21","v":2221},{"$f":"COUNTIF(L7:L32,T21)","v":2},{"$f":"U21/(W4-U20)","v":8.3333333333333329E-2},{"$f":"IF(V21=0,0,(V21*((LOG(V21))/LOG(2))))","v":-0.29874687506009634},null,{"$f":"N21","v":2221},{"$f":"COUNTIF(L33:L57,Y21)","v":1},{"$f":"Z21/(AB4-Z20)","v":4.1666666666666664E-2},{"$f":"IF(AA21=0,0,(AA21*((LOG(AA21))/LOG(2))))","v":-0.19104010419671485},null,{"$f":"N21","v":2221},{"$f":"COUNTIF(L58:L83,AD21)","v":1},{"$f":"AE21/(AG4-AE20)","v":4.3478260869565216E-2},{"$f":"IF(AF21=0,0,(AF21*((LOG(AF21))/LOG(2))))","v":-0.19667660678508753},null,{"$f":"N21","v":2221},{"$f":"COUNTIF(L84:L108,AI21)","v":0},{"$f":"AJ21/(AL4-AJ20)","v":0},{"$f":"IF(AK21=0,0,(AK21*((LOG(AK21))/LOG(2))))","v":0},null,{"$f":"N21","v":2221},{"$f":"COUNTIF(L109:L134,AN21)","v":0},{"$f":"AO21/(AQ4-AO20)","v":0},{"$f":"IF(AP21=0,0,(AP21*((LOG(AP21))/LOG(2))))","v":0},null,{"$f":"N21","v":2221},{"$f":"COUNTIF(L135:L159,AS21)","v":1},{"$f":"AT21/(AV4-AT20)","v":7.1428571428571425E-2},{"$f":"IF(AU21=0,0,(AU21*((LOG(AU21))/LOG(2))))","v":-0.27195392300411453}]
[12,2496,23,2504,13,2518,23,2527,null,null,0,1212,null,2222,{"$f":"COUNTIF($L$7:$L$500,N22)","v":4},{"$f":"O22/$Q$4","v":2.6143790849673203E-2},{"$f":"IF(P22=0,0,(P22*((LOG(P22))/LOG(2))))","v":-0.13744804817497128},null,null,{"$f":"N22","v":2222},{"$f":"COUNTIF(L7:L32,T22)","v":1},{"$f":"U22/(W4-U20)","v":4.1666666666666664E-2},{"$f":"IF(V22=0,0,(V22*((LOG(V22))/LOG(2))))","v":-0.19104010419671485},null,{"$f":"N22","v":2222},{"$f":"COUNTIF(L33:L57,Y22)","v":2},{"$f":"Z22/(AB4-Z20)","v":8.3333333333333329E-2},{"$f":"IF(AA22=0,0,(AA22*((LOG(AA22))/LOG(2))))","v":-0.29874687506009634},null,{"$f":"N22","v":2222},{"$f":"COUNTIF(L58:L83,AD22)","v":0},{"$f":"AE22/(AG4-AE20)","v":0},{"$f":"IF(AF22=0,0,(AF22*((LOG(AF22))/LOG(2))))","v":0},null,{"$f":"N22","v":2222},{"$f":"COUNTIF(L84:L108,AI22)","v":0},{"$f":"AJ22/(AL4-AJ20)","v":0},{"$f":"IF(AK22=0,0,(AK22*((LOG(AK22))/LOG(2))))","v":0},null,{"$f":"N22","v":2222},{"$f":"COUNTIF(L109:L134,AN22)","v":0},{"$f":"AO22/(AQ4-AO20)","v":0},{"$f":"IF(AP22=0,0,(AP22*((LOG(AP22))/LOG(2))))","v":0},null,{"$f":"N22","v":2222},{"$f":"COUNTIF(L135:L159,AS22)","v":1},{"$f":"AT22/(AV4-AT20)","v":7.1428571428571425E-2},{"$f":"IF(AU22=0,0,(AU22*((LOG(AU22))/LOG(2))))","v":-0.27195392300411453}]
[12,2649,23,2656,13,2677,23,2686,null,null,0,1212,null,null,null,{"$f":"SUM(P7:P22)","v":1},{"$f":"-SUM(Q7:Q22)","v":3.3139109345369899},null,null,null,null,{"$f":"SUM(V7:V22)","v":0.99999999999999989},{"$f":"-SUM(W7:W22)","v":2.8868421881310118},null,null,null,{"$f":"SUM(AA7:AA22)","v":1},{"$f":"-SUM(AB7:AB22)","v":3.0424812503605785},null,null,null,{"$f":"SUM(AF7:AF22)","v":1},{"$f":"-SUM(AG7:AG22)","v":2.4535775876032386},null,null,null,{"$f":"SUM(AK7:AK22)","v":1},{"$f":"-SUM(AL7:AL22)","v":2.7942385860214762},null,null,null,{"$f":"SUM(AP7:AP22)","v":1},{"$f":"-SUM(AQ7:AQ22)","v":2.5637169871277958},null,null,null,{"$f":"SUM(AU7:AU22)","v":0.99999999999999978},{"$f":"-SUM(AV7:AV22)","v":2.6923806024549743}]
[21,2810,21,2823,22,2841,14,2851,null,null,0,2221,null,null,null,"U=",{"$f":"Q23/(LOG(Q4)/LOG(2))","v":0.45662585579930304},null,null,null,null,"U1=",{"$f":"W23/(LOG(W4)/LOG(2))","v":0.61416428275622836},null,null,null,"U2=",{"$f":"AB23/(LOG(AB4)/LOG(2))","v":0.65516267645406356},null,null,null,"U3=",{"$f":"AG23/(LOG(AG4)/LOG(2))","v":0.52198894884957026},null,null,null,"U4=",{"$f":"AL23/(LOG(AL4)/LOG(2))","v":0.60170652833179694},null,null,null,"U5=",{"$f":"AQ23/(LOG(AQ4)/LOG(2))","v":0.54542067143915696},null,null,null,"U6=",{"$f":"AV23/(LOG(AV4)/LOG(2))","v":0.57977260544443832}]
[12,2991,23,3005,13,3026,23,3054,null,null,0,1212]
[12,3200,23,3209,13,3225,23,3242,null,null,0,1212]
[12,3373,14,3388,24,3397,14,3423,null,null,0,1121,null,"Total Target Seq"]
[12,3549,23,3564,13,3573,23,3582,null,null,0,1212,null,{"$f":"COUNTIF(L7:L159,G3)","v":26},null,26,25,26,25,26,25]
[21,3717,12,3726,24,3735,23,3742,null,null,0,2122,null,null,null,"% of reinforcement given in 6 equal intervals based on number of trials "]
[21,3866,12,3874,24,3879,23,3891,null,null,0,2122,null,null,null,"%_1","%_2","%_3","%_4","%_5","%_6"]
[21,3995,12,4003,24,4008,14,4016,null,null,0,2121,null,null,"target sequence",{"$f":"$G$3","v":2212},{"$f":"$G$3","v":2212},{"$f":"$G$3","v":2212},{"$f":"$G$3","v":2212},{"$f":"$G$3","v":2212},{"$f":"$G$3","v":2212}]
[12,4153,23,4161,24,4168,23,4181,null,null,0,1222,null,null,"total reinforcement",{"$f":"U20","v":2},{"$f":"Z20","v":1},{"$f":"AE20","v":3},{"$f":"AJ20","v":2},{"$f":"AO20","v":7},{"$f":"AT20","v":11}]
[21,4312,12,4320,24,4329,14,4354,null,null,0,2121,null,null,"% target"]
[21,4473,12,4490,24,4507,23,4539,null,null,0,2122,null,null,"CCRF"]
[21,4659,21,4671,11,4709,12,4753,null,null,0,2211,null,null,"% CCRf"]
[21,4868,21,4883,22,4892,14,4906,null,null,0,2221,null,null,"average response rate",{"$f":"H32/P28","v":160.80769230769232},{"$f":"(H57-H32)/Q28","v":165.52},{"$f":"(H83-H57)/R28","v":165.61538461538461},{"$f":"(H108-H83)/S28","v":153.47999999999999},{"$f":"(H134-H108)/T28","v":146.80769230769232},{"$f":"(H159-H134)/U28","v":145.36000000000001}]
[21,5011,21,5029,22,5041,23,5048,null,null,0,2222]
[21,5154,21,5175,22,5186,23,5199,null,null,0,2222]
[21,5313,12,5338,24,5347,23,5356,null,null,0,2122]
[21,5491,21,5499,11,5508,21,5534,null,null,0,2212]
[12,5650,23,5667,24,5677,23,5698,null,null,0,1222]
[21,5810,12,5819,24,5827,23,5867,null,null,0,2122]
[21,5996,12,6011,24,6044,23,6052,null,null,0,2122]
[12,6157,14,6174,24,6183,23,6207,null,null,0,1122]
[12,6357,23,6366,24,6374,23,6382,null,null,0,1222]
[21,6509,12,6518,13,6563,23,6576,null,null,0,2112]
[21,6688,12,6703,24,6712,23,6721,null,null,0,2122]
[12,6838,23,6847,24,6861,14,6872,null,null,0,1221]
[21,6981,12,7000,24,7008,14,7024,null,null,0,2121]
[12,7170,23,7178,24,7199,14,7210,null,null,0,1221]
[21,7331,12,7339,24,7348,14,7374,null,null,0,2121]
[12,7481,23,7490,24,7504,14,7513,null,null,0,1221]
[21,7626,12,7635,24,7644,14,7675,null,null,0,2121]
[21,7794,12,7802,24,7810,23,7828,null,null,0,2122]
[12,7956,23,7965,13,7988,14,8015,null,null,0,1211]
[12,8131,23,8139,24,8151,23,8165,null,null,0,1222]
[12,8284,14,8301,24,8310,23,8319,null,null,0,1122]
[12,8443,23,8452,24,8463,14,8471,null,null,0,1221]
[12,8590,23,8600,24,8616,14,8633,null,null,0,1221]
[21,8734,12,8757,24,8765,14,8780,null,null,0,2121]
[21,8906,12,8916,24,8924,14,8963,null,null,0,2121]
[21,9078,12,9087,24,9095,14,9113,null,null,0,2121]
[21,9219,12,9226,24,9236,14,9252,null,null,0,2121]
[12,9370,14,9393,24,9405,23,9422,null,null,0,1122]
[12,9535,23,9544,13,9552,23,9571,null,null,0,1212]
[21,9696,12,9705,24,9725,23,9733,null,null,0,2122]
[12,9858,14,9875,24,9886,23,9903,null,null,0,1122]
[21,10065,21,10087,11,10110,21,10122,null,null,0,2212]
[12,10245,23,10263,13,10276,23,10288,null,null,0,1212]
[12,10406,23,10430,13,10443,23,10463,null,null,0,1212]
[12,10571,23,10577,13,10585,23,10610,null,null,0,1212]
[12,10726,23,10732,13,10740,14,10785,null,null,0,1211]
[21,10897,12,10905,24,10914,23,10923,null,null,0,2122]
[21,11037,21,11047,11,11056,21,11067,null,null,0,2212]
[21,11170,12,11194,24,11205,23,11214,null,null,0,2122]
[21,11329,21,11364,22,11380,14,11397,null,null,0,2221]
[12,11540,23,11579,13,11631,23,11640,null,null,0,1212]
[21,11775,12,11784,24,11796,23,11822,null,null,0,2122]
[21,11935,12,11943,24,11956,23,11973,null,null,0,2122]
[21,12092,12,12102,24,12110,23,12149,null,null,0,2122]
[21,12256,21,12265,11,12273,21,12282,null,null,0,2212]
[21,12402,12,12412,24,12430,23,12452,null,null,0,2122]
[21,12571,12,12579,24,12615,23,12625,null,null,0,2122]
[12,12746,23,12766,13,12774,23,12786,null,null,0,1212]
[12,12895,23,12901,13,12911,23,12920,null,null,0,1212]
[21,13037,12,13046,24,13074,23,13086,null,null,0,2122]
[12,13195,23,13203,13,13212,23,13221,null,null,0,1212]
[21,13328,12,13336,13,13358,14,13397,null,null,0,2111]
[21,13505,12,13515,13,13541,14,13567,null,null,0,2111]
[21,13666,21,13685,11,13693,21,13702,null,null,0,2212]
[12,13818,23,13827,24,13836,14,13851,null,null,0,1221]
[21,13950,12,13959,13,13968,23,13976,null,null,0,2112]
[21,14106,12,14126,24,14157,23,14170,null,null,0,2122]
[12,14280,14,14295,24,14315,23,14327,null,null,0,1122]
[21,14441,12,14465,24,14474,23,14491,null,null,0,2122]
[21,14602,12,14609,13,14659,23,14677,null,null,0,2112]
[12,14811,14,14836,24,14856,14,14880,null,null,0,1121]
[21,14981,12,14988,13,14998,23,15006,null,null,0,2112]
[12,15115,23,15123,13,15132,23,15140,null,null,0,1212]
[12,15245,23,15258,13,15267,23,15297,null,null,0,1212]
[21,15418,12,15427,13,15437,23,15446,null,null,0,2112]
[21,15548,12,15556,13,15564,23,15582,null,null,0,2112]
[21,15686,12,15694,13,15715,23,15723,null,null,0,2112]
[12,15829,14,15837,13,15869,23,15880,null,null,0,1112]
[21,15982,21,15990,11,15998,21,16007,null,null,0,2212]
[21,16101,12,16109,24,16125,14,16138,null,null,0,2121]
[12,16240,14,16257,13,16295,23,16304,null,null,0,1112]
[12,16415,23,16423,13,16434,23,16462,null,null,0,1212]
[21,16582,21,16591,11,16599,21,16607,null,null,0,2212]
[12,16716,23,16725,24,16745,14,16757,null,null,0,1221]
[21,16863,12,16872,24,16880,23,16889,null,null,0,2122]
[21,17000,12,17008,24,17017,23,17025,null,null,0,2122]
[21,17126,12,17133,13,17149,23,17167,null,null,0,2112]
[21,17281,12,17289,24,17297,23,17305,null,null,0,2122]
[21,17420,12,17428,24,17438,14,17486,null,null,0,2121]
[12,17599,23,17609,13,17620,23,17643,null,null,0,1212]
[12,17761,23,17768,13,17778,23,17792,null,null,0,1212]
[21,17894,21,17904,11,17912,21,17943,null,null,0,2212]
[21,18045,21,18053,11,18061,21,18078,null,null,0,2212]
[21,18188,12,18197,24,18213,23,18221,null,null,0,2122]
[21,18319,21,18331,11,18339,21,18348,null,null,0,2212]
[21,18444,12,18459,13,18487,23,18497,null,null,0,2112]
[21,18598,21,18624,11,18635,21,18659,null,null,0,2212]
[21,18752,12,18774,24,18782,23,18791,null,null,0,2122]
[21,18889,21,18899,11,18907,12,18950,null,null,0,2211]
[12,19073,14,19116,24,19125,23,19133,null,null,0,1122]
[12,19253,23,19262,24,19270,14,19287,null,null,0,1221]
[21,19390,12,19413,24,19422,23,19437,null,null,0,2122]
[21,19539,12,19549,24,19559,23,19567,null,null,0,2122]
[12,19676,14,19692,24,19703,23,19719,null,null,0,1122]
[21,19821,21,19830,11,19838,21,19846,null,null,0,2212]
[21,19961,12,19970,24,19982,23,19990,null,null,0,2122]
[21,20095,21,20107,11,20115,21,20124,null,null,0,2212]
[12,20243,23,20251,24,20271,23,20279,null,null,0,1222]
[21,20382,12,20392,24,20400,23,20408,null,null,0,2122]
[12,20521,23,20529,24,20554,14,20563,null,null,0,1221]
[21,20665,12,20673,13,20694,23,20710,null,null,0,2112]
[12,20817,14,20825,24,20834,23,20845,null,null,0,1122]
[21,20946,21,20955,11,20967,21,20976,null,null,0,2212]
[12,21097,23,21104,24,21113,14,21124,null,null,0,1221]
[12,21240,23,21248,13,21267,23,21294,null,null,0,1212]
[21,21406,21,21424,11,21437,21,21446,null,null,0,2212]
[21,21551,12,21569,24,21586,23,21606,null,null,0,2122]
[21,21703,21,21715,11,21725,21,21756,null,null,0,2212]
[21,21852,21,21864,11,21871,21,21896,null,null,0,2212]
[21,22035,21,22045,11,22053,21,22062,null,null,0,2212]
[12,22165,23,22181,13,22199,23,22207,null,null,0,1212]
[21,22309,12,22332,24,22341,23,22357,null,null,0,2122]
[21,22459,21,22478,22,22487,14,22498,null,null,0,2221]
[21,22601,21,22618,11,22630,21,22639,null,null,0,2212]
[21,22745,12,22755,24,22766,23,22781,null,null,0,2122]
[21,22890,12,22898,24,22906,14,22925,null,null,0,2121]
[21,23025,21,23038,11,23046,21,23068,null,null,0,2212]
[21,23219,12,23228,24,23251,23,23270,null,null,0,2122]
[21,23372,21,23389,11,23397,21,23408,null,null,0,2212]
[21,23506,21,23515,11,23524,21,23539,null,null,0,2212]
[21,23630,21,23638,11,23648,21,23657,null,null,0,2212]
[21,23762,21,23770,11,23781,21,23789,null,null,0,2212]
[21,23879,21,23889,22,23904,23,23913,null,null,null,2222]

{"sheet":"!N114940.095","index":16,"n_rows":168,"n_cols":48,"rows_kept":168,"cut":false,"hidden":false,"merged":[[4,39,4,42],[5,39,5,40],[4,44,4,47],[5,44,5,45],[4,24,4,27],[5,24,5,25],[4,29,4,32],[5,29,5,30],[4,34,4,37],[5,34,5,35],[1,1,1,2],[5,13,5,14],[26,13,26,14],[27,13,27,14],[4,19,4,22],[5,19,5,20]]}
["Report for:!N114940.095"]
["Date:","<date>"]
["Hen:","<hen>",null,null,null,"Correct Sequence",{"$f":"Start!J2","v":2212},null,null,null,null,null,null,null,null,"Total Sequences in Data",{"$f":"4994-COUNTBLANK(L7:L5000)","v":162},null,null,null,null,"Total Sequences in Block Data",{"$f":"COUNTA(L7:L33)","v":27},null,null,null,"Total Sequences in Block Data",{"$f":"COUNTA(L34:L60)","v":27},null,null,null,"Total Sequences in Block Data",{"$f":"COUNTA(L61:L87)","v":27},null,null,null,"Total Sequences in Block Data",{"$f":"COUNTA(L88:L114)","v":27},null,null,null,"Total Sequences in Block Data",{"$f":"COUNTA(L115:L141)","v":27},null,null,null,"Total Sequences in Block Data",{"$f":"COUNTA(L142:L168)","v":27}]
[null,null,null,null,null,null,null,null,null,null,null,null,null,null,null,"Total Sequences in Summary",{"$f":"SUM(O7:O22)","v":162},null,null,null,null,"Total Sequences in Block Summary",{"$f":"SUM(U7:U22)","v":27},null,null,null,"Total Sequences in Block Summary",{"$f":"SUM(Z7:Z22)","v":27},null,null,null,"Total Sequences in Block Summary",{"$f":"SUM(AE7:AE22)","v":27},null,null,null,"Total Sequences in Block Summary",{"$f":"SUM(AJ7:AJ22)","v":27},null,null,null,"Total Sequences in Block Summary",{"$f":"SUM(AO7:AO22)","v":27},null,null,null,"Total Sequences in Block Summary",{"$f":"SUM(AT7:AT22)","v":27}]
[null,null,null,null,null,null,null,null,null,null,null,null,null,null,null,null,null,null,null,"Block 1",null,null,null,null,"Block 2",null,null,null,null,"Block 3",null,null,null,null,"Block 4",null,null,null,null,"Block 5",null,null,null,null,"Block 6"]
["Sequence\nComponent\n1","Time\n1","Sequence\nComponent\n2","Time\n2","Sequence\nComponent\n3","Time\n3","Sequence\nComponent\n4","Time\n4","Sequence\nComponent\n5","Time\n5","Correct?\n0=No 1=Yes","Sequence",null,"Frequency",null,"Relative Frequency","Variability",null,null,"Frequency",null,"Relative Frequency","Variability",null,"Frequency",null,"Relative Frequency","Variability",null,"Frequency",null,"Relative Frequency","Variability",null,"Frequency",null,"Relative Frequency","Variability",null,"Frequency",null,"Relative Frequency","Variability",null,"Frequency",null,"Relative Frequency","Variability"]
[21,63,21,113,11,134,12,176,null,null,0,2211,null,1111,{"$f":"COUNTIF($L$7:$L$500,N7)","v":0},{"$f":"O7/$Q$4","v":0},{"$f":"IF(P7=0,0,(P7*((LOG(P7))/LOG(2))))","v":0},null,null,{"$f":"N7","v":1111},{"$f":"COUNTIF(L7:L33,T7)","v":0},{"$f":"U7/(W4-U20)","v":0},{"$f":"IF(V7=0,0,(V7*((LOG(V7))/LOG(2))))","v":0},null,{"$f":"N7","v":1111},{"$f":"COUNTIF(L34:L60,Y7)","v":0},{"$f":"Z7/(AB4-Z20)","v":0},{"$f":"IF(AA7=0,0,(AA7*((LOG(AA7))/LOG(2))))","v":0},null,{"$f":"N7","v":1111},{"$f":"COUNTIF(L61:L87,AD7)","v":0},{"$f":"AE7/(AG4-AE20)","v":0},{"$f":"IF(AF7=0,0,(AF7*((LOG(AF7))/LOG(2))))","v":0},null,{"$f":"N7","v":1111},{"$f":"COUNTIF(L88:L114,AI7)","v":0},{"$f":"AJ7/(AL4-AJ20)","v":0},{"$f":"IF(AK7=0,0,(AK7*((LOG(AK7))/LOG(2))))","v":0},null,{"$f":"N7","v":1111},{"$f":"COUNTIF(L115:L141,AN7)","v":0},{"$f":"AO7/(AQ4-AO20)","v":0},{"$f":"IF(AP7=0,0,(AP7*((LOG(AP7))/LOG(2))))","v":0},null,{"$f":"N7","v":1111},{"$f":"COUNTIF(L142:L168,AS7)","v":0},{"$f":"AT7/(AV4-AT20)","v":0},{"$f":"IF(AU7=0,0,(AU7*((LOG(AU7))/LOG(2))))","v":0}]
[21,367,21,383,11,394,21,404,null,null,0,2212,null,1112,{"$f":"COUNTIF($L$7:$L$500,N8)","v":0},{"$f":"O8/$Q$4","v":0},{"$f":"IF(P8=0,0,(P8*((LOG(P8))/LOG(2))))","v":0},null,null,{"$f":"N8","v":1112},{"$f":"COUNTIF(L7:L33,T8)","v":0},{"$f":"U8/(W4-U20)","v":0},{"$f":"IF(V8=0,0,(V8*((LOG(V8))/LOG(2))))","v":0},null,{"$f":"N8","v":1112},{"$f":"COUNTIF(L34:L60,Y8)","v":0},{"$f":"Z8/(AB4-Z20)","v":0},{"$f":"IF(AA8=0,0,(AA8*((LOG(AA8))/LOG(2))))","v":0},null,{"$f":"N8","v":1112},{"$f":"COUNTIF(L61:L87,AD8)","v":0},{"$f":"AE8/(AG4-AE20)","v":0},{"$f":"IF(AF8=0,0,(AF8*((LOG(AF8))/LOG(2))))","v":0},null,{"$f":"N8","v":1112},{"$f":"COUNTIF(L88:L114,AI8)","v":0},{"$f":"AJ8/(AL4-AJ20)","v":0},{"$f":"IF(AK8=0,0,(AK8*((LOG(AK8))/LOG(2))))","v":0},null,{"$f":"N8","v":1112},{"$f":"COUNTIF(L115:L141,AN8)","v":0},{"$f":"AO8/(AQ4-AO20)","v":0},{"$f":"IF(AP8=0,0,(AP8*((LOG(AP8))/LOG(2))))","v":0},null,{"$f":"N8","v":1112},{"$f":"COUNTIF(L142:L168,AS8)","v":0},{"$f":"AT8/(AV4-AT20)","v":0},{"$f":"IF(AU8=0,0,(AU8*((LOG(AU8))/LOG(2))))","v":0}]
[21,516,12,525,13,574,14,613,null,null,0,2111,null,1121,{"$f":"COUNTIF($L$7:$L$500,N9)","v":0},{"$f":"O9/$Q$4","v":0},{"$f":"IF(P9=0,0,(P9*((LOG(P9))/LOG(2))))","v":0},null,null,{"$f":"N9","v":1121},{"$f":"COUNTIF(L7:L33,T9)","v":0},{"$f":"U9/(W4-U20)","v":0},{"$f":"IF(V9=0,0,(V9*((LOG(V9))/LOG(2))))","v":0},null,{"$f":"N9","v":1121},{"$f":"COUNTIF(L34:L60,Y9)","v":0},{"$f":"Z9/(AB4-Z20)","v":0},{"$f":"IF(AA9=0,0,(AA9*((LOG(AA9))/LOG(2))))","v":0},null,{"$f":"N9","v":1121},{"$f":"COUNTIF(L61:L87,AD9)","v":0},{"$f":"AE9/(AG4-AE20)","v":0},{"$f":"IF(AF9=0,0,(AF9*((LOG(AF9))/LOG(2))))","v":0},null,{"$f":"N9","v":1121},{"$f":"COUNTIF(L88:L114,AI9)","v":0},{"$f":"AJ9/(AL4-AJ20)","v":0},{"$f":"IF(AK9=0,0,(AK9*((LOG(AK9))/LOG(2))))","v":0},null,{"$f":"N9","v":1121},{"$f":"COUNTIF(L115:L141,AN9)","v":0},{"$f":"AO9/(AQ4-AO20)","v":0},{"$f":"IF(AP9=0,0,(AP9*((LOG(AP9))/LOG(2))))","v":0},null,{"$f":"N9","v":1121},{"$f":"COUNTIF(L142:L168,AS9)","v":0},{"$f":"AT9/(AV4-AT20)","v":0},{"$f":"IF(AU9=0,0,(AU9*((LOG(AU9))/LOG(2))))","v":0}]
[21,737,12,746,24,754,23,763,null,null,0,2122,null,1122,{"$f":"COUNTIF($L$7:$L$500,N10)","v":5},{"$f":"O10/$Q$4","v":3.0864197530864196E-2},{"$f":"IF(P10=0,0,(P10*((LOG(P10))/LOG(2))))","v":-0.15487413296287847},null,null,{"$f":"N10","v":1122},{"$f":"COUNTIF(L7:L33,T10)","v":1},{"$f":"U10/(W4-U20)","v":4.7619047619047616E-2},{"$f":"IF(V10=0,0,(V10*((LOG(V10))/LOG(2))))","v":-0.20915797251327431},null,{"$f":"N10","v":1122},{"$f":"COUNTIF(L34:L60,Y10)","v":2},{"$f":"Z10/(AB4-Z20)","v":0.08},{"$f":"IF(AA10=0,0,(AA10*((LOG(AA10))/LOG(2))))","v":-0.29150849518197797},null,{"$f":"N10","v":1122},{"$f":"COUNTIF(L61:L87,AD10)","v":1},{"$f":"AE10/(AG4-AE20)","v":4.5454545454545456E-2},{"$f":"IF(AF10=0,0,(AF10*((LOG(AF10))/LOG(2))))","v":-0.20270143721078623},null,{"$f":"N10","v":1122},{"$f":"COUNTIF(L88:L114,AI10)","v":1},{"$f":"AJ10/(AL4-AJ20)","v":0.04},{"$f":"IF(AK10=0,0,(AK10*((LOG(AK10))/LOG(2))))","v":-0.18575424759098899},null,{"$f":"N10","v":1122},{"$f":"COUNTIF(L115:L141,AN10)","v":0},{"$f":"AO10/(AQ4-AO20)","v":0},{"$f":"IF(AP10=0,0,(AP10*((LOG(AP10))/LOG(2))))","v":0},null,{"$f":"N10","v":1122},{"$f":"COUNTIF(L142:L168,AS10)","v":0},{"$f":"AT10/(AV4-AT20)","v":0},{"$f":"IF(AU10=0,0,(AU10*((LOG(AU10))/LOG(2))))","v":0}]
[12,873,23,881,13,889,23,936,null,null,0,1212,null,1211,{"$f":"COUNTIF($L$7:$L$500,N11)","v":0},{"$f":"O11/$Q$4","v":0},{"$f":"IF(P11=0,0,(P11*((LOG(P11))/LOG(2))))","v":0},null,null,{"$f":"N11","v":1211},{"$f":"COUNTIF(L7:L33,T11)","v":0},{"$f":"U11/(W4-U20)","v":0},{"$f":"IF(V11=0,0,(V11*((LOG(V11))/LOG(2))))","v":0},null,{"$f":"N11","v":1211},{"$f":"COUNTIF(L34:L60,Y11)","v":0},{"$f":"Z11/(AB4-Z20)","v":0},{"$f":"IF(AA11=0,0,(AA11*((LOG(AA11))/LOG(2))))","v":0},null,{"$f":"N11","v":1211},{"$f":"COUNTIF(L61:L87,AD11)","v":0},{"$f":"AE11/(AG4-AE20)","v":0},{"$f":"IF(AF11=0,0,(AF11*((LOG(AF11))/LOG(2))))","v":0},null,{"$f":"N11","v":1211},{"$f":"COUNTIF(L88:L114,AI11)","v":0},{"$f":"AJ11/(AL4-AJ20)","v":0},{"$f":"IF(AK11=0,0,(AK11*((LOG(AK11))/LOG(2))))","v":0},null,{"$f":"N11","v":1211},{"$f":"COUNTIF(L115:L141,AN11)","v":0},{"$f":"AO11/(AQ4-AO20)","v":0},{"$f":"IF(AP11=0,0,(AP11*((LOG(AP11))/LOG(2))))","v":0},null,{"$f":"N11","v":1211},{"$f":"COUNTIF(L142:L168,AS11)","v":0},{"$f":"AT11/(AV4-AT20)","v":0},{"$f":"IF(AU11=0,0,(AU11*((LOG(AU11))/LOG(2))))","v":0}]
[21,1056,12,1064,24,1093,14,1118,null,null,0,2121,null,1212,{"$f":"COUNTIF($L$7:$L$500,N12)","v":17},{"$f":"O12/$Q$4","v":0.10493827160493827},{"$f":"IF(P12=0,0,(P12*((LOG(P12))/LOG(2))))","v":-0.34129988733199285},null,null,{"$f":"N12","v":1212},{"$f":"COUNTIF(L7:L33,T12)","v":3},{"$f":"U12/(W4-U20)","v":0.14285714285714285},{"$f":"IF(V12=0,0,(V12*((LOG(V12))/LOG(2))))","v":-0.40105070315108626},null,{"$f":"N12","v":1212},{"$f":"COUNTIF(L34:L60,Y12)","v":4},{"$f":"Z12/(AB4-Z20)","v":0.16},{"$f":"IF(AA12=0,0,(AA12*((LOG(AA12))/LOG(2))))","v":-0.42301699036395596},null,{"$f":"N12","v":1212},{"$f":"COUNTIF(L61:L87,AD12)","v":2},{"$f":"AE12/(AG4-AE20)","v":9.0909090909090912E-2},{"$f":"IF(AF12=0,0,(AF12*((LOG(AF12))/LOG(2))))","v":-0.31449378351248153},null,{"$f":"N12","v":1212},{"$f":"COUNTIF(L88:L114,AI12)","v":1},{"$f":"AJ12/(AL4-AJ20)","v":0.04},{"$f":"IF(AK12=0,0,(AK12*((LOG(AK12))/LOG(2))))","v":-0.18575424759098899},null,{"$f":"N12","v":1212},{"$f":"COUNTIF(L115:L141,AN12)","v":5},{"$f":"AO12/(AQ4-AO20)","v":0.2},{"$f":"IF(AP12=0,0,(AP12*((LOG(AP12))/LOG(2))))","v":-0.46438561897747244},null,{"$f":"N12","v":1212},{"$f":"COUNTIF(L142:L168,AS12)","v":2},{"$f":"AT12/(AV4-AT20)","v":0.1},{"$f":"IF(AU12=0,0,(AU12*((LOG(AU12))/LOG(2))))","v":-0.33219280948873625}]
[21,1221,21,1258,11,1284,21,1297,null,null,0,2212,null,1221,{"$f":"COUNTIF($L$7:$L$500,N13)","v":8},{"$f":"O13/$Q$4","v":4.9382716049382713E-2},{"$f":"IF(P13=0,0,(P13*((LOG(P13))/LOG(2))))","v":-0.21431358038936418},null,null,{"$f":"N13","v":1221},{"$f":"COUNTIF(L7:L33,T13)","v":2},{"$f":"U13/(W4-U20)","v":9.5238095238095233E-2},{"$f":"IF(V13=0,0,(V13*((LOG(V13))/LOG(2))))","v":-0.32307784978845333},null,{"$f":"N13","v":1221},{"$f":"COUNTIF(L34:L60,Y13)","v":3},{"$f":"Z13/(AB4-Z20)","v":0.12},{"$f":"IF(AA13=0,0,(AA13*((LOG(AA13))/LOG(2))))","v":-0.36706724268642821},null,{"$f":"N13","v":1221},{"$f":"COUNTIF(L61:L87,AD13)","v":1},{"$f":"AE13/(AG4-AE20)","v":4.5454545454545456E-2},{"$f":"IF(AF13=0,0,(AF13*((LOG(AF13))/LOG(2))))","v":-0.20270143721078623},null,{"$f":"N13","v":1221},{"$f":"COUNTIF(L88:L114,AI13)","v":1},{"$f":"AJ13/(AL4-AJ20)","v":0.04},{"$f":"IF(AK13=0,0,(AK13*((LOG(AK13))/LOG(2))))","v":-0.18575424759098899},null,{"$f":"N13","v":1221},{"$f":"COUNTIF(L115:L141,AN13)","v":0},{"$f":"AO13/(AQ4-AO20)","v":0},{"$f":"IF(AP13=0,0,(AP13*((LOG(AP13))/LOG(2))))","v":0},null,{"$f":"N13","v":1221},{"$f":"COUNTIF(L142:L168,AS13)","v":1},{"$f":"AT13/(AV4-AT20)","v":0.05},{"$f":"IF(AU13=0,0,(AU13*((LOG(AU13))/LOG(2))))","v":-0.21609640474436814}]
[21,1402,12,1413,24,1444,14,1458,null,null,0,2121,null,1222,{"$f":"COUNTIF($L$7:$L$500,N14)","v":17},{"$f":"O14/$Q$4","v":0.10493827160493827},{"$f":"IF(P14=0,0,(P14*((LOG(P14))/LOG(2))))","v":-0.34129988733199285},null,null,{"$f":"N14","v":1222},{"$f":"COUNTIF(L7:L33,T14)","v":0},{"$f":"U14/(W4-U20)","v":0},{"$f":"IF(V14=0,0,(V14*((LOG(V14))/LOG(2))))","v":0},null,{"$f":"N14","v":1222},{"$f":"COUNTIF(L34:L60,Y14)","v":2},{"$f":"Z14/(AB4-Z20)","v":0.08},{"$f":"IF(AA14=0,0,(AA14*((LOG(AA14))/LOG(2))))","v":-0.29150849518197797},null,{"$f":"N14","v":1222},{"$f":"COUNTIF(L61:L87,AD14)","v":2},{"$f":"AE14/(AG4-AE20)","v":9.0909090909090912E-2},{"$f":"IF(AF14=0,0,(AF14*((LOG(AF14))/LOG(2))))","v":-0.31449378351248153},null,{"$f":"N14","v":1222},{"$f":"COUNTIF(L88:L114,AI14)","v":6},{"$f":"AJ14/(AL4-AJ20)","v":0.24},{"$f":"IF(AK14=0,0,(AK14*((LOG(AK14))/LOG(2))))","v":-0.49413448537285637},null,{"$f":"N14","v":1222},{"$f":"COUNTIF(L115:L141,AN14)","v":5},{"$f":"AO14/(AQ4-AO20)","v":0.2},{"$f":"IF(AP14=0,0,(AP14*((LOG(AP14))/LOG(2))))","v":-0.46438561897747244},null,{"$f":"N14","v":1222},{"$f":"COUNTIF(L142:L168,AS14)","v":2},{"$f":"AT14/(AV4-AT20)","v":0.1},{"$f":"IF(AU14=0,0,(AU14*((LOG(AU14))/LOG(2))))","v":-0.33219280948873625}]
[21,1575,12,1583,24,1599,14,1611,null,null,0,2121,null,2111,{"$f":"COUNTIF($L$7:$L$500,N15)","v":1},{"$f":"O15/$Q$4","v":6.1728395061728392E-3},{"$f":"IF(P15=0,0,(P15*((LOG(P15))/LOG(2))))","v":-4.5307716067189037E-2},null,null,{"$f":"N15","v":2111},{"$f":"COUNTIF(L7:L33,T15)","v":1},{"$f":"U15/(W4-U20)","v":4.7619047619047616E-2},{"$f":"IF(V15=0,0,(V15*((LOG(V15))/LOG(2))))","v":-0.20915797251327431},null,{"$f":"N15","v":2111},{"$f":"COUNTIF(L34:L60,Y15)","v":0},{"$f":"Z15/(AB4-Z20)","v":0},{"$f":"IF(AA15=0,0,(AA15*((LOG(AA15))/LOG(2))))","v":0},null,{"$f":"N15","v":2111},{"$f":"COUNTIF(L61:L87,AD15)","v":0},{"$f":"AE15/(AG4-AE20)","v":0},{"$f":"IF(AF15=0,0,(AF15*((LOG(AF15))/LOG(2))))","v":0},null,{"$f":"N15","v":2111},{"$f":"COUNTIF(L88:L114,AI15)","v":0},{"$f":"AJ15/(AL4-AJ20)","v":0},{"$f":"IF(AK15=0,0,(AK15*((LOG(AK15))/LOG(2))))","v":0},null,{"$f":"N15","v":2111},{"$f":"COUNTIF(L115:L141,AN15)","v":0},{"$f":"AO15/(AQ4-AO20)","v":0},{"$f":"IF(AP15=0,0,(AP15*((LOG(AP15))/LOG(2))))","v":0},null,{"$f":"N15","v":2111},{"$f":"COUNTIF(L142:L168,AS15)","v":0},{"$f":"AT15/(AV4-AT20)","v":0},{"$f":"IF(AU15=0,0,(AU15*((LOG(AU15))/LOG(2))))","v":0}]
[21,1734,12,1741,24,1760,14,1775,null,null,0,2121,null,2112,{"$f":"COUNTIF($L$7:$L$500,N16)","v":3},{"$f":"O16/$Q$4","v":1.8518518518518517E-2},{"$f":"IF(P16=0,0,(P16*((LOG(P16))/LOG(2))))","v":-0.10657199078080498},null,null,{"$f":"N16","v":2112},{"$f":"COUNTIF(L7:L33,T16)","v":0},{"$f":"U16/(W4-U20)","v":0},{"$f":"IF(V16=0,0,(V16*((LOG(V16))/LOG(2))))","v":0},null,{"$f":"N16","v":2112},{"$f":"COUNTIF(L34:L60,Y16)","v":0},{"$f":"Z16/(AB4-Z20)","v":0},{"$f":"IF(AA16=0,0,(AA16*((LOG(AA16))/LOG(2))))","v":0},null,{"$f":"N16","v":2112},{"$f":"COUNTIF(L61:L87,AD16)","v":0},{"$f":"AE16/(AG4-AE20)","v":0},{"$f":"IF(AF16=0,0,(AF16*((LOG(AF16))/LOG(2))))","v":0},null,{"$f":"N16","v":2112},{"$f":"COUNTIF(L88:L114,AI16)","v":0},{"$f":"AJ16/(AL4-AJ20)","v":0},{"$f":"IF(AK16=0,0,(AK16*((LOG(AK16))/LOG(2))))","v":0},null,{"$f":"N16","v":2112},{"$f":"COUNTIF(L115:L141,AN16)","v":1},{"$f":"AO16/(AQ4-AO20)","v":0.04},{"$f":"IF(AP16=0,0,(AP16*((LOG(AP16))/LOG(2))))","v":-0.18575424759098899},null,{"$f":"N16","v":2112},{"$f":"COUNTIF(L142:L168,AS16)","v":2},{"$f":"AT16/(AV4-AT20)","v":0.1},{"$f":"IF(AU16=0,0,(AU16*((LOG(AU16))/LOG(2))))","v":-0.33219280948873625}]
[21,1885,12,1892,24,1900,23,1909,null,null,0,2122,null,2121,{"$f":"COUNTIF($L$7:$L$500,N17)","v":10},{"$f":"O17/$Q$4","v":6.1728395061728392E-2},{"$f":"IF(P17=0,0,(P17*((LOG(P17))/LOG(2))))","v":-0.24801987086402855},null,null,{"$f":"N17","v":2121},{"$f":"COUNTIF(L7:L33,T17)","v":6},{"$f":"U17/(W4-U20)","v":0.2857142857142857},{"$f":"IF(V17=0,0,(V17*((LOG(V17))/LOG(2))))","v":-0.51638712058788683},null,{"$f":"N17","v":2121},{"$f":"COUNTIF(L34:L60,Y17)","v":1},{"$f":"Z17/(AB4-Z20)","v":0.04},{"$f":"IF(AA17=0,0,(AA17*((LOG(AA17))/LOG(2))))","v":-0.18575424759098899},null,{"$f":"N17","v":2121},{"$f":"COUNTIF(L61:L87,AD17)","v":1},{"$f":"AE17/(AG4-AE20)","v":4.5454545454545456E-2},{"$f":"IF(AF17=0,0,(AF17*((LOG(AF17))/LOG(2))))","v":-0.20270143721078623},null,{"$f":"N17","v":2121},{"$f":"COUNTIF(L88:L114,AI17)","v":1},{"$f":"AJ17/(AL4-AJ20)","v":0.04},{"$f":"IF(AK17=0,0,(AK17*((LOG(AK17))/LOG(2))))","v":-0.18575424759098899},null,{"$f":"N17","v":2121},{"$f":"COUNTIF(L115:L141,AN17)","v":0},{"$f":"AO17/(AQ4-AO20)","v":0},{"$f":"IF(AP17=0,0,(AP17*((LOG(AP17))/LOG(2))))","v":0},null,{"$f":"N17","v":2121},{"$f":"COUNTIF(L142:L168,AS17)","v":1},{"$f":"AT17/(AV4-AT20)","v":0.05},{"$f":"IF(AU17=0,0,(AU17*((LOG(AU17))/LOG(2))))","v":-0.21609640474436814}]
[21,2049,12,2058,24,2069,23,2078,null,null,0,2122,null,2122,{"$f":"COUNTIF($L$7:$L$500,N18)","v":73},{"$f":"O18/$Q$4","v":0.45061728395061729},{"$f":"IF(P18=0,0,(P18*((LOG(P18))/LOG(2))))","v":-0.51822134205145898},null,null,{"$f":"N18","v":2122},{"$f":"COUNTIF(L7:L33,T18)","v":7},{"$f":"U18/(W4-U20)","v":0.33333333333333331},{"$f":"IF(V18=0,0,(V18*((LOG(V18))/LOG(2))))","v":-0.52832083357371862},null,{"$f":"N18","v":2122},{"$f":"COUNTIF(L34:L60,Y18)","v":13},{"$f":"Z18/(AB4-Z20)","v":0.52},{"$f":"IF(AA18=0,0,(AA18*((LOG(AA18))/LOG(2))))","v":-0.49057656524948895},null,{"$f":"N18","v":2122},{"$f":"COUNTIF(L61:L87,AD18)","v":14},{"$f":"AE18/(AG4-AE20)","v":0.63636363636363635},{"$f":"IF(AF18=0,0,(AF18*((LOG(AF18))/LOG(2))))","v":-0.41495789782344106},null,{"$f":"N18","v":2122},{"$f":"COUNTIF(L88:L114,AI18)","v":13},{"$f":"AJ18/(AL4-AJ20)","v":0.52},{"$f":"IF(AK18=0,0,(AK18*((LOG(AK18))/LOG(2))))","v":-0.49057656524948895},null,{"$f":"N18","v":2122},{"$f":"COUNTIF(L115:L141,AN18)","v":14},{"$f":"AO18/(AQ4-AO20)","v":0.56000000000000005},{"$f":"IF(AP18=0,0,(AP18*((LOG(AP18))/LOG(2))))","v":-0.46844070992158748},null,{"$f":"N18","v":2122},{"$f":"COUNTIF(L142:L168,AS18)","v":12},{"$f":"AT18/(AV4-AT20)","v":0.6},{"$f":"IF(AU18=0,0,(AU18*((LOG(AU18))/LOG(2))))","v":-0.44217935649972373}]
[12,2214,23,2235,24,2243,14,2256,null,null,0,1221,null,2211,{"$f":"COUNTIF($L$7:$L$500,N19)","v":1},{"$f":"O19/$Q$4","v":6.1728395061728392E-3},{"$f":"IF(P19=0,0,(P19*((LOG(P19))/LOG(2))))","v":-4.5307716067189037E-2},null,null,{"$f":"N19","v":2211},{"$f":"COUNTIF(L7:L33,T19)","v":1},{"$f":"U19/(W4-U20)","v":4.7619047619047616E-2},{"$f":"IF(V19=0,0,(V19*((LOG(V19))/LOG(2))))","v":-0.20915797251327431},null,{"$f":"N19","v":2211},{"$f":"COUNTIF(L34:L60,Y19)","v":0},{"$f":"Z19/(AB4-Z20)","v":0},{"$f":"IF(AA19=0,0,(AA19*((LOG(AA19))/LOG(2))))","v":0},null,{"$f":"N19","v":2211},{"$f":"COUNTIF(L61:L87,AD19)","v":0},{"$f":"AE19/(AG4-AE20)","v":0},{"$f":"IF(AF19=0,0,(AF19*((LOG(AF19))/LOG(2))))","v":0},null,{"$f":"N19","v":2211},{"$f":"COUNTIF(L88:L114,AI19)","v":0},{"$f":"AJ19/(AL4-AJ20)","v":0},{"$f":"IF(AK19=0,0,(AK19*((LOG(AK19))/LOG(2))))","v":0},null,{"$f":"N19","v":2211},{"$f":"COUNTIF(L115:L141,AN19)","v":0},{"$f":"AO19/(AQ4-AO20)","v":0},{"$f":"IF(AP19=0,0,(AP19*((LOG(AP19))/LOG(2))))","v":0},null,{"$f":"N19","v":2211},{"$f":"COUNTIF(L142:L168,AS19)","v":0},{"$f":"AT19/(AV4-AT20)","v":0},{"$f":"IF(AU19=0,0,(AU19*((LOG(AU19))/LOG(2))))","v":0}]
[21,2362,12,2382,24,2390,14,2407,null,null,0,2121,null,2212,{"$f":"COUNTIF($L$7:$L$500,N20)","v":24},{"$f":"O20/$Q$4","v":0.14814814814814814},{"$f":"IF(P20=0,0,(P20*((LOG(P20))/LOG(2))))","v":-0.40813148180199532},null,null,{"$f":"N20","v":2212},{"$f":"COUNTIF(L7:L33,T20)","v":6},null,null,null,{"$f":"N20","v":2212},{"$f":"COUNTIF(L34:L60,Y20)","v":2},null,null,null,{"$f":"N20","v":2212},{"$f":"COUNTIF(L61:L87,AD20)","v":5},null,null,null,{"$f":"N20","v":2212},{"$f":"COUNTIF(L88:L114,AI20)","v":2},null,null,null,{"$f":"N20","v":2212},{"$f":"COUNTIF(L115:L141,AN20)","v":2},null,null,null,{"$f":"N20","v":2212},{"$f":"COUNTIF(L142:L168,AS20)","v":7}]
[21,2508,21,2516,11,2524,21,2559,null,null,0,2212,null,2221,{"$f":"COUNTIF($L$7:$L$500,N21)","v":1},{"$f":"O21/$Q$4","v":6.1728395061728392E-3},{"$f":"IF(P21=0,0,(P21*((LOG(P21))/LOG(2))))","v":-4.5307716067189037E-2},null,null,{"$f":"N21","v":2221},{"$f":"COUNTIF(L7:L33,T21)","v":0},{"$f":"U21/(W4-U20)","v":0},{"$f":"IF(V21=0,0,(V21*((LOG(V21))/LOG(2))))","v":0},null,{"$f":"N21","v":2221},{"$f":"COUNTIF(L34:L60,Y21)","v":0},{"$f":"Z21/(AB4-Z20)","v":0},{"$f":"IF(AA21=0,0,(AA21*((LOG(AA21))/LOG(2))))","v":0},null,{"$f":"N21","v":2221},{"$f":"COUNTIF(L61:L87,AD21)","v":1},{"$f":"AE21/(AG4-AE20)","v":4.5454545454545456E-2},{"$f":"IF(AF21=0,0,(AF21*((LOG(AF21))/LOG(2))))","v":-0.20270143721078623},null,{"$f":"N21","v":2221},{"$f":"COUNTIF(L88:L114,AI21)","v":0},{"$f":"AJ21/(AL4-AJ20)","v":0},{"$f":"IF(AK21=0,0,(AK21*((LOG(AK21))/LOG(2))))","v":0},null,{"$f":"N21","v":2221},{"$f":"COUNTIF(L115:L141,AN21)","v":0},{"$f":"AO21/(AQ4-AO20)","v":0},{"$f":"IF(AP21=0,0,(AP21*((LOG(AP21))/LOG(2))))","v":0},null,{"$f":"N21","v":2221},{"$f":"COUNTIF(L142:L168,AS21)","v":0},{"$f":"AT21/(AV4-AT20)","v":0},{"$f":"IF(AU21=0,0,(AU21*((LOG(AU21))/LOG(2))))","v":0}]
[12,2681,23,2689,13,2713,23,2730,null,null,0,1212,null,2222,{"$f":"COUNTIF($L$7:$L$500,N22)","v":2},{"$f":"O22/$Q$4","v":1.2345679012345678E-2},{"$f":"IF(P22=0,0,(P22*((LOG(P22))/LOG(2))))","v":-7.8269753122032396E-2},null,null,{"$f":"N22","v":2222},{"$f":"COUNTIF(L7:L33,T22)","v":0},{"$f":"U22/(W4-U20)","v":0},{"$f":"IF(V22=0,0,(V22*((LOG(V22))/LOG(2))))","v":0},null,{"$f":"N22","v":2222},{"$f":"COUNTIF(L34:L60,Y22)","v":0},{"$f":"Z22/(AB4-Z20)","v":0},{"$f":"IF(AA22=0,0,(AA22*((LOG(AA22))/LOG(2))))","v":0},null,{"$f":"N22","v":2222},{"$f":"COUNTIF(L61:L87,AD22)","v":0},{"$f":"AE22/(AG4-AE20)","v":0},{"$f":"IF(AF22=0,0,(AF22*((LOG(AF22))/LOG(2))))","v":0},null,{"$f":"N22","v":2222},{"$f":"COUNTIF(L88:L114,AI22)","v":2},{"$f":"AJ22/(AL4-AJ20)","v":0.08},{"$f":"IF(AK22=0,0,(AK22*((LOG(AK22))/LOG(2))))","v":-0.29150849518197797},null,{"$f":"N22","v":2222},{"$f":"COUNTIF(L115:L141,AN22)","v":0},{"$f":"AO22/(AQ4-AO20)","v":0},{"$f":"IF(AP22=0,0,(AP22*((LOG(AP22))/LOG(2))))","v":0},null,{"$f":"N22","v":2222},{"$f":"COUNTIF(L142:L168,AS22)","v":0},{"$f":"AT22/(AV4-AT20)","v":0},{"$f":"IF(AU22=0,0,(AU22*((LOG(AU22))/LOG(2))))","v":0}]
[21,2843,12,2877,24,2889,23,2898,null,null,0,2122,null,null,null,{"$f":"SUM(P7:P22)","v":1},{"$f":"-SUM(Q7:Q22)","v":2.5469250748381156},null,null,null,null,{"$f":"SUM(V7:V22)","v":1},{"$f":"-SUM(W7:W22)","v":2.3963104246409679},null,null,null,{"$f":"SUM(AA7:AA22)","v":1},{"$f":"-SUM(AB7:AB22)","v":2.0494320362548182},null,null,null,{"$f":"SUM(AF7:AF22)","v":1},{"$f":"-SUM(AG7:AG22)","v":1.8547512136915489},null,null,null,{"$f":"SUM(AK7:AK22)","v":0.99999999999999989},{"$f":"-SUM(AL7:AL22)","v":2.0192365361682789},null,null,null,{"$f":"SUM(AP7:AP22)","v":1},{"$f":"-SUM(AQ7:AQ22)","v":1.5829661954675214},null,null,null,{"$f":"SUM(AU7:AU22)","v":1},{"$f":"-SUM(AV7:AV22)","v":1.8709505944546687}]
[12,3020,14,3036,24,3048,23,3065,null,null,0,1122,null,null,null,"U=",{"$f":"Q23/(LOG(Q4)/LOG(2))","v":0.34699960814419262},null,null,null,null,"U1=",{"$f":"W23/(LOG(W4)/LOG(2))","v":0.50396784856648014},null,null,null,"U2=",{"$f":"AB23/(LOG(AB4)/LOG(2))","v":0.4310158831985676},null,null,null,"U3=",{"$f":"AG23/(LOG(AG4)/LOG(2))","v":0.39007257539692353},null,null,null,"U4=",{"$f":"AL23/(LOG(AL4)/LOG(2))","v":0.42466547005571187},null,null,null,"U5=",{"$f":"AQ23/(LOG(AQ4)/LOG(2))","v":0.3329134905394236},null,null,null,"U6=",{"$f":"AV23/(LOG(AV4)/LOG(2))","v":0.39347946583455201}]
[12,3198,23,3206,13,3239,23,3282,null,null,0,1212]
[21,3385,21,3403,11,3411,21,3419,null,null,0,2212]
[21,3534,12,3547,24,3574,23,3594,null,null,0,2122,null,"Total Target Seq"]
[12,3724,23,3732,24,3743,14,3761,null,null,0,1221,null,{"$f":"COUNTIF(L7:L168,G3)","v":24},null,27,27,27,27,27,27]
[21,3874,12,3883,24,3903,23,3911,null,null,0,2122,null,null,null,"% of reinforcement given in 6 equal intervals based on number of trials "]
[21,4025,12,4032,24,4053,23,4076,null,null,0,2122,null,null,null,"%_1","%_2","%_3","%_4","%_5","%_6"]
[21,4195,12,4205,24,4213,14,4241,null,null,0,2121,null,null,"target sequence",{"$f":"$G$3","v":2212},{"$f":"$G$3","v":2212},{"$f":"$G$3","v":2212},{"$f":"$G$3","v":2212},{"$f":"$G$3","v":2212},{"$f":"$G$3","v":2212}]
[21,4348,21,4358,11,4366,21,4391,null,null,0,2212,null,null,"total reinforcement",{"$f":"U20","v":6},{"$f":"Z20","v":2},{"$f":"AE20","v":5},{"$f":"AJ20","v":2},{"$f":"AO20","v":2},{"$f":"AT20","v":7}]
[21,4503,21,4513,11,4522,21,4542,null,null,0,2212,null,null,"% target"]
[21,4648,12,4657,24,4665,23,4694,null,null,0,2122,null,null,"CCRF"]
[12,4812,14,4829,24,4864,23,4872,null,null,0,1122,null,null,"% CCRf"]
[12,4993,23,5005,24,5021,23,5041,null,null,0,1222,null,null,"average response rate",{"$f":"H33/P28","v":168.22222222222223},{"$f":"(H60-H33)/Q28","v":155.03703703703704},{"$f":"(H87-H60)/R28","v":144.85185185185185},{"$f":"(H114-H87)/S28","v":144.5185185185185},{"$f":"(H141-H114)/T28","v":139.74074074074073},{"$f":"(H168-H141)/U28","v":135}]
[12,5151,23,5160,13,5169,23,5188,null,null,0,1212]
[21,5302,12,5311,24,5328,23,5336,null,null,0,2122]
[21,5451,12,5460,24,5497,23,5516,null,null,0,2122]
[21,5618,21,5626,11,5638,21,5672,null,null,0,2212]
[21,5776,12,5783,24,5793,23,5802,null,null,0,2122]
[12,5921,23,5930,24,5961,14,5970,null,null,0,1221]
[12,6100,23,6111,24,6134,23,6143,null,null,0,1222]
[21,6249,12,6258,24,6277,23,6285,null,null,0,2122]
[21,6391,12,6398,24,6415,23,6428,null,null,0,2122]
[12,6545,23,6555,24,6563,14,6575,null,null,0,1221]
[12,6692,23,6709,13,6718,23,6745,null,null,0,1212]
[21,6850,12,6858,24,6867,23,6884,null,null,0,2122]
[12,7002,23,7011,13,7034,23,7043,null,null,0,1212]
[12,7152,23,7161,13,7175,23,7184,null,null,0,1212]
[21,7294,12,7301,24,7310,23,7319,null,null,0,2122]
[21,7423,12,7432,24,7440,23,7448,null,null,0,2122]
[21,7557,12,7569,24,7578,23,7587,null,null,0,2122]
[12,7709,23,7725,24,7740,14,7750,null,null,0,1221]
[21,7865,12,7872,24,7900,23,7922,null,null,0,2122]
[21,8026,12,8058,24,8106,23,8115,null,null,0,2122]
[21,8231,21,8239,11,8251,21,8277,null,null,0,2212]
[12,8377,14,8402,24,8410,23,8418,null,null,0,1122]
[21,8532,12,8539,24,8548,23,8556,null,null,0,2122]
[21,8674,12,8682,24,8711,14,8728,null,null,0,2121]
[21,8828,21,8835,11,8843,21,8860,null,null,0,2212]
[21,8950,12,8980,24,8989,23,9006,null,null,0,2122]
[21,9113,21,9121,11,9129,21,9157,null,null,0,2212]
[12,9265,23,9281,24,9290,23,9303,null,null,0,1222]
[21,9401,12,9410,24,9418,23,9443,null,null,0,2122]
[21,9550,12,9558,24,9575,23,9583,null,null,0,2122]
[21,9695,12,9702,24,9714,23,9739,null,null,0,2122]
[21,9842,12,9852,24,9880,23,9920,null,null,0,2122]
[21,10022,21,10030,11,10039,21,10064,null,null,0,2212]
[21,10181,12,10193,24,10202,23,10226,null,null,0,2122]
[21,10327,21,10342,11,10350,21,10373,null,null,0,2212]
[12,10479,23,10487,24,10502,14,10524,null,null,0,1221]
[21,10624,12,10635,24,10643,23,10651,null,null,0,2122]
[12,10757,23,10765,13,10783,23,10792,null,null,0,1212]
[21,10904,12,10912,24,10924,23,10932,null,null,0,2122]
[21,11034,12,11043,24,11075,14,11086,null,null,0,2121]
[21,11185,12,11194,24,11202,23,11219,null,null,0,2122]
[12,11315,23,11323,13,11331,23,11349,null,null,0,1212]
[21,11450,12,11458,24,11466,23,11474,null,null,0,2122]
[21,11574,21,11583,11,11591,21,11599,null,null,0,2212]
[21,11710,12,11717,24,11749,23,11757,null,null,0,2122]
[21,11863,12,11872,24,11887,23,11894,null,null,0,2122]
[21,11994,12,12012,24,12043,23,12076,null,null,0,2122]
[12,12179,14,12195,24,12203,23,12212,null,null,0,1122]
[21,12330,21,12338,22,12346,14,12355,null,null,0,2221]
[21,12461,12,12469,24,12485,23,12493,null,null,0,2122]
[12,12605,23,12613,24,12631,23,12639,null,null,0,1222]
[21,12751,12,12760,24,12768,23,12783,null,null,0,2122]
[12,12891,23,12907,24,12919,23,12931,null,null,0,1222]
[12,13039,23,13046,24,13055,23,13063,null,null,0,1222]
[12,13168,23,13176,24,13195,14,13203,null,null,0,1221]
[21,13310,12,13319,24,13328,23,13357,null,null,0,2122]
[21,13458,12,13467,24,13475,23,13483,null,null,0,2122]
[21,13582,12,13591,24,13599,23,13617,null,null,0,2122]
[21,13728,12,13735,24,13743,23,13751,null,null,0,2122]
[21,13884,21,13928,22,13937,23,13953,null,null,0,2222]
[21,14055,21,14064,11,14073,21,14097,null,null,0,2212]
[21,14188,21,14197,22,14212,23,14220,null,null,0,2222]
[12,14315,14,14330,24,14365,23,14374,null,null,0,1122]
[21,14481,12,14490,24,14499,23,14508,null,null,0,2122]
[21,14606,12,14620,24,14628,23,14641,null,null,0,2122]
[21,14752,12,14760,24,14768,23,14784,null,null,0,2122]
[12,14898,23,14906,24,14915,23,14925,null,null,0,1222]
[21,15023,21,15037,11,15044,21,15052,null,null,0,2212]
[21,15169,12,15177,24,15185,23,15193,null,null,0,2122]
[12,15312,23,15320,24,15328,23,15347,null,null,0,1222]
[12,15460,23,15476,24,15484,23,15492,null,null,0,1222]
[12,15602,23,15610,24,15631,23,15643,null,null,0,1222]
[21,15742,12,15751,24,15759,23,15774,null,null,0,2122]
[21,15884,12,15891,24,15911,23,15927,null,null,0,2122]
[12,16036,23,16044,13,16059,23,16066,null,null,0,1212]
[21,16170,12,16184,24,16192,23,16212,null,null,0,2122]
[21,16317,12,16326,24,16359,23,16372,null,null,0,2122]
[21,16491,12,16503,24,16514,14,16541,null,null,0,2121]
[21,16644,12,16653,24,16661,23,16676,null,null,0,2122]
[21,16780,12,16788,13,16817,23,16825,null,null,0,2112]
[21,16942,12,16950,24,16961,23,16969,null,null,0,2122]
[12,17089,23,17098,24,17116,23,17124,null,null,0,1222]
[21,17238,12,17247,24,17256,23,17271,null,null,0,2122]
[12,17380,23,17388,13,17409,23,17418,null,null,0,1212]
[21,17522,12,17545,24,17565,23,17573,null,null,0,2122]
[21,17673,12,17696,24,17706,23,17722,null,null,0,2122]
[12,17842,23,17851,24,17860,23,17872,null,null,0,1222]
[21,17973,21,17982,11,17990,21,18007,null,null,0,2212]
[21,18099,12,18108,24,18116,23,18129,null,null,0,2122]
[21,18230,12,18239,24,18256,23,18267,null,null,0,2122]
[21,18362,21,18374,11,18382,21,18390,null,null,0,2212]
[12,18500,23,18508,24,18530,23,18551,null,null,0,1222]
[21,18657,12,18665,24,18673,23,18691,null,null,0,2122]
[12,18806,23,18814,24,18822,23,18833,null,null,0,1222]
[12,18935,23,18942,13,18955,23,18962,null,null,0,1212]
[12,19057,23,19066,13,19074,23,19082,null,null,0,1212]
[12,19203,23,19212,24,19220,23,19228,null,null,0,1222]
[21,19340,12,19347,24,19356,23,19368,null,null,0,2122]
[21,19471,12,19492,24,19500,23,19508,null,null,0,2122]
[12,19621,23,19638,13,19649,23,19675,null,null,0,1212]
[21,19776,12,19788,24,19795,23,19807,null,null,0,2122]
[21,19906,12,19917,24,19924,23,19933,null,null,0,2122]
[21,20036,12,20043,24,20051,23,20059,null,null,0,2122]
[21,20160,12,20168,24,20175,23,20183,null,null,0,2122]
[12,20291,23,20298,13,20306,23,20314,null,null,0,1212]
[21,20417,12,20426,24,20434,23,20454,null,null,0,2122]
[21,20556,21,20567,11,20575,21,20582,null,null,0,2212]
[21,20697,21,20705,11,20714,21,20723,null,null,0,2212]
[21,20828,12,20837,24,20846,23,20861,null,null,0,2122]
[21,20969,12,20978,24,20985,23,21001,null,null,0,2122]
[21,21100,21,21108,11,21115,21,21124,null,null,0,2212]
[21,21216,21,21225,11,21233,21,21241,null,null,0,2212]
[21,21348,12,21356,24,21373,23,21394,null,null,0,2122]
[21,21494,12,21502,24,21510,14,21529,null,null,0,2121]
[21,21627,12,21636,24,21643,23,21651,null,null,0,2122]
[21,21746,12,21754,24,21761,23,21777,null,null,0,2122]
[21,21878,12,21886,13,21909,23,21925,null,null,0,2112]
[21,22033,12,22041,13,22077,23,22086,null,null,0,2112]
[21,22192,12,22200,24,22208,23,22216,null,null,0,2122]
[12,22325,23,22333,13,22354,23,22382,null,null,0,1212]
[12,22489,23,22497,13,22512,23,22520,null,null,0,1212]
[21,22620,21,22629,11,22638,21,22654,null,null,0,2212]
[21,22746,21,22756,11,22764,21,22781,null,null,0,2212]
[21,22870,21,22879,11,22888,21,22900,null,null,0,2212]
[21,23009,12,23018,24,23029,23,23045,null,null,0,2122]
[21,23145,12,23154,24,23161,23,23169,null,null,0,2122]
[21,23271,12,23279,24,23287,23,23298,null,null,0,2122]
[21,23396,12,23404,24,23411,23,23419,null,null,0,2122]
[12,23529,23,23537,24,23545,23,23556,null,null,0,1222]
[12,23662,23,23670,24,23678,14,23686,null,null,0,1221]
[12,23798,23,23806,24,23814,23,23822,null,null,0,1222]
[21,23921,12,23930,24,23938,23,23959,null,null,null,2122]

{"sheet":"!N115950.095","index":17,"n_rows":145,"n_cols":48,"rows_kept":145,"cut":false,"hidden":false,"merged":[[4,39,4,42],[5,39,5,40],[4,44,4,47],[5,44,5,45],[4,24,4,27],[5,24,5,25],[4,29,4,32],[5,29,5,30],[4,34,4,37],[5,34,5,35],[1,1,1,2],[5,13,5,14],[26,13,26,14],[27,13,27,14],[4,19,4,22],[5,19,5,20]]}
["Report for:!N115950.095"]
["Date:","<date>"]
["Hen:","<hen>",null,null,null,"Correct Sequence",{"$f":"Start!J2","v":2212},null,null,null,null,null,null,null,null,"Total Sequences in Data",{"$f":"4994-COUNTBLANK(L7:L5000)","v":139},null,null,null,null,"Total Sequences in Block Data",{"$f":"COUNTA(L7:L29)","v":23},null,null,null,"Total Sequences in Block Data",{"$f":"COUNTA(L30:L52)","v":23},null,null,null,"Total Sequences in Block Data",{"$f":"COUNTA(L53:L76)","v":24},null,null,null,"Total Sequences in Block Data",{"$f":"COUNTA(L77:L99)","v":23},null,null,null,"Total Sequences in Block Data",{"$f":"COUNTA(L100:L122)","v":23},null,null,null,"Total Sequences in Block Data",{"$f":"COUNTA(L123:L145)","v":23}]
[null,null,null,null,null,null,null,null,null,null,null,null,null,null,null,"Total Sequences in Summary",{"$f":"SUM(O7:O22)","v":139},null,null,null,null,"Total Sequences in Block Summary",{"$f":"SUM(U7:U22)","v":23},null,null,null,"Total Sequences in Block Summary",{"$f":"SUM(Z7:Z22)","v":23},null,null,null,"Total Sequences in Block Summary",{"$f":"SUM(AE7:AE22)","v":24},null,null,null,"Total Sequences in Block Summary",{"$f":"SUM(AJ7:AJ22)","v":23},null,null,null,"Total Sequences in Block Summary",{"$f":"SUM(AO7:AO22)","v":23},null,null,null,"Total Sequences in Block Summary",{"$f":"SUM(AT7:AT22)","v":23}]
[null,null,null,null,null,null,null,null,null,null,null,null,null,null,null,null,null,null,null,"Block 1",null,null,null,null,"Block 2",null,null,null,null,"Block 3",null,null,null,null,"Block 4",null,null,null,null,"Block 5",null,null,null,null,"Block 6"]
["Sequence\nComponent\n1","Time\n1","Sequence\nComponent\n2","Time\n2","Sequence\nComponent\n3","Time\n3","Sequence\nComponent\n4","Time\n4","Sequence\nComponent\n5","Time\n5","Correct?\n0=No 1=Yes","Sequence",null,"Frequency",null,"Relative Frequency","Variability",null,null,"Frequency",null,"Relative Frequency","Variability",null,"Frequency",null,"Relative Frequency","Variability",null,"Frequency",null,"Relative Frequency","Variability",null,"Frequency",null,"Relative Frequency","Variability",null,"Frequency",null,"Relative Frequency","Variability",null,"Frequency",null,"Relative Frequency","Variability"]
[21,10,21,40,22,49,14,65,null,null,0,2221,null,1111,{"$f":"COUNTIF($L$7:$L$500,N7)","v":0},{"$f":"O7/$Q$4","v":0},{"$f":"IF(P7=0,0,(P7*((LOG(P7))/LOG(2))))","v":0},null,null,{"$f":"N7","v":1111},{"$f":"COUNTIF(L7:L29,T7)","v":0},{"$f":"U7/(W4-U20)","v":0},{"$f":"IF(V7=0,0,(V7*((LOG(V7))/LOG(2))))","v":0},null,{"$f":"N7","v":1111},{"$f":"COUNTIF(L30:L52,Y7)","v":0},{"$f":"Z7/(AB4-Z20)","v":0},{"$f":"IF(AA7=0,0,(AA7*((LOG(AA7))/LOG(2))))","v":0},null,{"$f":"N7","v":1111},{"$f":"COUNTIF(L53:L76,AD7)","v":0},{"$f":"AE7/(AG4-AE20)","v":0},{"$f":"IF(AF7=0,0,(AF7*((LOG(AF7))/LOG(2))))","v":0},null,{"$f":"N7","v":1111},{"$f":"COUNTIF(L77:L99,AI7)","v":0},{"$f":"AJ7/(AL4-AJ20)","v":0},{"$f":"IF(AK7=0,0,(AK7*((LOG(AK7))/LOG(2))))","v":0},null,{"$f":"N7","v":1111},{"$f":"COUNTIF(L100:L122,AN7)","v":0},{"$f":"AO7/(AQ4-AO20)","v":0},{"$f":"IF(AP7=0,0,(AP7*((LOG(AP7))/LOG(2))))","v":0},null,{"$f":"N7","v":1111},{"$f":"COUNTIF(L123:L145,AS7)","v":0},{"$f":"AT7/(AV4-AT20)","v":0},{"$f":"IF(AU7=0,0,(AU7*((LOG(AU7))/LOG(2))))","v":0}]
[21,180,21,192,11,213,21,239,null,null,0,2212,null,1112,{"$f":"COUNTIF($L$7:$L$500,N8)","v":0},{"$f":"O8/$Q$4","v":0},{"$f":"IF(P8=0,0,(P8*((LOG(P8))/LOG(2))))","v":0},null,null,{"$f":"N8","v":1112},{"$f":"COUNTIF(L7:L29,T8)","v":0},{"$f":"U8/(W4-U20)","v":0},{"$f":"IF(V8=0,0,(V8*((LOG(V8))/LOG(2))))","v":0},null,{"$f":"N8","v":1112},{"$f":"COUNTIF(L30:L52,Y8)","v":0},{"$f":"Z8/(AB4-Z20)","v":0},{"$f":"IF(AA8=0,0,(AA8*((LOG(AA8))/LOG(2))))","v":0},null,{"$f":"N8","v":1112},{"$f":"COUNTIF(L53:L76,AD8)","v":0},{"$f":"AE8/(AG4-AE20)","v":0},{"$f":"IF(AF8=0,0,(AF8*((LOG(AF8))/LOG(2))))","v":0},null,{"$f":"N8","v":1112},{"$f":"COUNTIF(L77:L99,AI8)","v":0},{"$f":"AJ8/(AL4-AJ20)","v":0},{"$f":"IF(AK8=0,0,(AK8*((LOG(AK8))/LOG(2))))","v":0},null,{"$f":"N8","v":1112},{"$f":"COUNTIF(L100:L122,AN8)","v":0},{"$f":"AO8/(AQ4-AO20)","v":0},{"$f":"IF(AP8=0,0,(AP8*((LOG(AP8))/LOG(2))))","v":0},null,{"$f":"N8","v":1112},{"$f":"COUNTIF(L123:L145,AS8)","v":0},{"$f":"AT8/(AV4-AT20)","v":0},{"$f":"IF(AU8=0,0,(AU8*((LOG(AU8))/LOG(2))))","v":0}]
[21,330,21,341,22,365,23,408,null,null,0,2222,null,1121,{"$f":"COUNTIF($L$7:$L$500,N9)","v":0},{"$f":"O9/$Q$4","v":0},{"$f":"IF(P9=0,0,(P9*((LOG(P9))/LOG(2))))","v":0},null,null,{"$f":"N9","v":1121},{"$f":"COUNTIF(L7:L29,T9)","v":0},{"$f":"U9/(W4-U20)","v":0},{"$f":"IF(V9=0,0,(V9*((LOG(V9))/LOG(2))))","v":0},null,{"$f":"N9","v":1121},{"$f":"COUNTIF(L30:L52,Y9)","v":0},{"$f":"Z9/(AB4-Z20)","v":0},{"$f":"IF(AA9=0,0,(AA9*((LOG(AA9))/LOG(2))))","v":0},null,{"$f":"N9","v":1121},{"$f":"COUNTIF(L53:L76,AD9)","v":0},{"$f":"AE9/(AG4-AE20)","v":0},{"$f":"IF(AF9=0,0,(AF9*((LOG(AF9))/LOG(2))))","v":0},null,{"$f":"N9","v":1121},{"$f":"COUNTIF(L77:L99,AI9)","v":0},{"$f":"AJ9/(AL4-AJ20)","v":0},{"$f":"IF(AK9=0,0,(AK9*((LOG(AK9))/LOG(2))))","v":0},null,{"$f":"N9","v":1121},{"$f":"COUNTIF(L100:L122,AN9)","v":0},{"$f":"AO9/(AQ4-AO20)","v":0},{"$f":"IF(AP9=0,0,(AP9*((LOG(AP9))/LOG(2))))","v":0},null,{"$f":"N9","v":1121},{"$f":"COUNTIF(L123:L145,AS9)","v":0},{"$f":"AT9/(AV4-AT20)","v":0},{"$f":"IF(AU9=0,0,(AU9*((LOG(AU9))/LOG(2))))","v":0}]
[12,546,23,554,24,564,14,591,null,null,0,1221,null,1122,{"$f":"COUNTIF($L$7:$L$500,N10)","v":4},{"$f":"O10/$Q$4","v":2.8776978417266189E-2},{"$f":"IF(P10=0,0,(P10*((LOG(P10))/LOG(2))))","v":-0.1473076567690218},null,null,{"$f":"N10","v":1122},{"$f":"COUNTIF(L7:L29,T10)","v":0},{"$f":"U10/(W4-U20)","v":0},{"$f":"IF(V10=0,0,(V10*((LOG(V10))/LOG(2))))","v":0},null,{"$f":"N10","v":1122},{"$f":"COUNTIF(L30:L52,Y10)","v":2},{"$f":"Z10/(AB4-Z20)","v":0.11764705882352941},{"$f":"IF(AA10=0,0,(AA10*((LOG(AA10))/LOG(2))))","v":-0.36323092250003997},null,{"$f":"N10","v":1122},{"$f":"COUNTIF(L53:L76,AD10)","v":2},{"$f":"AE10/(AG4-AE20)","v":0.10526315789473684},{"$f":"IF(AF10=0,0,(AF10*((LOG(AF10))/LOG(2))))","v":-0.34188710667827216},null,{"$f":"N10","v":1122},{"$f":"COUNTIF(L77:L99,AI10)","v":0},{"$f":"AJ10/(AL4-AJ20)","v":0},{"$f":"IF(AK10=0,0,(AK10*((LOG(AK10))/LOG(2))))","v":0},null,{"$f":"N10","v":1122},{"$f":"COUNTIF(L100:L122,AN10)","v":0},{"$f":"AO10/(AQ4-AO20)","v":0},{"$f":"IF(AP10=0,0,(AP10*((LOG(AP10))/LOG(2))))","v":0},null,{"$f":"N10","v":1122},{"$f":"COUNTIF(L123:L145,AS10)","v":0},{"$f":"AT10/(AV4-AT20)","v":0},{"$f":"IF(AU10=0,0,(AU10*((LOG(AU10))/LOG(2))))","v":0}]
[21,699,21,717,22,735,14,742,null,null,0,2221,null,1211,{"$f":"COUNTIF($L$7:$L$500,N11)","v":0},{"$f":"O11/$Q$4","v":0},{"$f":"IF(P11=0,0,(P11*((LOG(P11))/LOG(2))))","v":0},null,null,{"$f":"N11","v":1211},{"$f":"COUNTIF(L7:L29,T11)","v":0},{"$f":"U11/(W4-U20)","v":0},{"$f":"IF(V11=0,0,(V11*((LOG(V11))/LOG(2))))","v":0},null,{"$f":"N11","v":1211},{"$f":"COUNTIF(L30:L52,Y11)","v":0},{"$f":"Z11/(AB4-Z20)","v":0},{"$f":"IF(AA11=0,0,(AA11*((LOG(AA11))/LOG(2))))","v":0},null,{"$f":"N11","v":1211},{"$f":"COUNTIF(L53:L76,AD11)","v":0},{"$f":"AE11/(AG4-AE20)","v":0},{"$f":"IF(AF11=0,0,(AF11*((LOG(AF11))/LOG(2))))","v":0},null,{"$f":"N11","v":1211},{"$f":"COUNTIF(L77:L99,AI11)","v":0},{"$f":"AJ11/(AL4-AJ20)","v":0},{"$f":"IF(AK11=0,0,(AK11*((LOG(AK11))/LOG(2))))","v":0},null,{"$f":"N11","v":1211},{"$f":"COUNTIF(L100:L122,AN11)","v":0},{"$f":"AO11/(AQ4-AO20)","v":0},{"$f":"IF(AP11=0,0,(AP11*((LOG(AP11))/LOG(2))))","v":0},null,{"$f":"N11","v":1211},{"$f":"COUNTIF(L123:L145,AS11)","v":0},{"$f":"AT11/(AV4-AT20)","v":0},{"$f":"IF(AU11=0,0,(AU11*((LOG(AU11))/LOG(2))))","v":0}]
[21,876,12,884,24,892,23,900,null,null,0,2122,null,1212,{"$f":"COUNTIF($L$7:$L$500,N12)","v":9},{"$f":"O12/$Q$4","v":6.4748201438848921E-2},{"$f":"IF(P12=0,0,(P12*((LOG(P12))/LOG(2))))","v":-0.25569168806856657},null,null,{"$f":"N12","v":1212},{"$f":"COUNTIF(L7:L29,T12)","v":2},{"$f":"U12/(W4-U20)","v":0.13333333333333333},{"$f":"IF(V12=0,0,(V12*((LOG(V12))/LOG(2))))","v":-0.3875854127478025},null,{"$f":"N12","v":1212},{"$f":"COUNTIF(L30:L52,Y12)","v":2},{"$f":"Z12/(AB4-Z20)","v":0.11764705882352941},{"$f":"IF(AA12=0,0,(AA12*((LOG(AA12))/LOG(2))))","v":-0.36323092250003997},null,{"$f":"N12","v":1212},{"$f":"COUNTIF(L53:L76,AD12)","v":1},{"$f":"AE12/(AG4-AE20)","v":5.2631578947368418E-2},{"$f":"IF(AF12=0,0,(AF12*((LOG(AF12))/LOG(2))))","v":-0.22357513228650452},null,{"$f":"N12","v":1212},{"$f":"COUNTIF(L77:L99,AI12)","v":2},{"$f":"AJ12/(AL4-AJ20)","v":0.13333333333333333},{"$f":"IF(AK12=0,0,(AK12*((LOG(AK12))/LOG(2))))","v":-0.3875854127478025},null,{"$f":"N12","v":1212},{"$f":"COUNTIF(L100:L122,AN12)","v":0},{"$f":"AO12/(AQ4-AO20)","v":0},{"$f":"IF(AP12=0,0,(AP12*((LOG(AP12))/LOG(2))))","v":0},null,{"$f":"N12","v":1212},{"$f":"COUNTIF(L123:L145,AS12)","v":2},{"$f":"AT12/(AV4-AT20)","v":0.15384615384615385},{"$f":"IF(AU12=0,0,(AU12*((LOG(AU12))/LOG(2))))","v":-0.4154522643293988}]
[21,1001,21,1014,11,1022,21,1029,null,null,0,2212,null,1221,{"$f":"COUNTIF($L$7:$L$500,N13)","v":7},{"$f":"O13/$Q$4","v":5.0359712230215826E-2},{"$f":"IF(P13=0,0,(P13*((LOG(P13))/LOG(2))))","v":-0.21713023780331886},null,null,{"$f":"N13","v":1221},{"$f":"COUNTIF(L7:L29,T13)","v":2},{"$f":"U13/(W4-U20)","v":0.13333333333333333},{"$f":"IF(V13=0,0,(V13*((LOG(V13))/LOG(2))))","v":-0.3875854127478025},null,{"$f":"N13","v":1221},{"$f":"COUNTIF(L30:L52,Y13)","v":0},{"$f":"Z13/(AB4-Z20)","v":0},{"$f":"IF(AA13=0,0,(AA13*((LOG(AA13))/LOG(2))))","v":0},null,{"$f":"N13","v":1221},{"$f":"COUNTIF(L53:L76,AD13)","v":2},{"$f":"AE13/(AG4-AE20)","v":0.10526315789473684},{"$f":"IF(AF13=0,0,(AF13*((LOG(AF13))/LOG(2))))","v":-0.34188710667827216},null,{"$f":"N13","v":1221},{"$f":"COUNTIF(L77:L99,AI13)","v":2},{"$f":"AJ13/(AL4-AJ20)","v":0.13333333333333333},{"$f":"IF(AK13=0,0,(AK13*((LOG(AK13))/LOG(2))))","v":-0.3875854127478025},null,{"$f":"N13","v":1221},{"$f":"COUNTIF(L100:L122,AN13)","v":1},{"$f":"AO13/(AQ4-AO20)","v":0.05},{"$f":"IF(AP13=0,0,(AP13*((LOG(AP13))/LOG(2))))","v":-0.21609640474436814},null,{"$f":"N13","v":1221},{"$f":"COUNTIF(L123:L145,AS13)","v":0},{"$f":"AT13/(AV4-AT20)","v":0},{"$f":"IF(AU13=0,0,(AU13*((LOG(AU13))/LOG(2))))","v":0}]
[21,1120,21,1125,11,1146,21,1166,null,null,0,2212,null,1222,{"$f":"COUNTIF($L$7:$L$500,N14)","v":11},{"$f":"O14/$Q$4","v":7.9136690647482008E-2},{"$f":"IF(P14=0,0,(P14*((LOG(P14))/LOG(2))))","v":-0.28960146758955618},null,null,{"$f":"N14","v":1222},{"$f":"COUNTIF(L7:L29,T14)","v":3},{"$f":"U14/(W4-U20)","v":0.2},{"$f":"IF(V14=0,0,(V14*((LOG(V14))/LOG(2))))","v":-0.46438561897747244},null,{"$f":"N14","v":1222},{"$f":"COUNTIF(L30:L52,Y14)","v":4},{"$f":"Z14/(AB4-Z20)","v":0.23529411764705882},{"$f":"IF(AA14=0,0,(AA14*((LOG(AA14))/LOG(2))))","v":-0.49116772735302094},null,{"$f":"N14","v":1222},{"$f":"COUNTIF(L53:L76,AD14)","v":0},{"$f":"AE14/(AG4-AE20)","v":0},{"$f":"IF(AF14=0,0,(AF14*((LOG(AF14))/LOG(2))))","v":0},null,{"$f":"N14","v":1222},{"$f":"COUNTIF(L77:L99,AI14)","v":0},{"$f":"AJ14/(AL4-AJ20)","v":0},{"$f":"IF(AK14=0,0,(AK14*((LOG(AK14))/LOG(2))))","v":0},null,{"$f":"N14","v":1222},{"$f":"COUNTIF(L100:L122,AN14)","v":2},{"$f":"AO14/(AQ4-AO20)","v":0.1},{"$f":"IF(AP14=0,0,(AP14*((LOG(AP14))/LOG(2))))","v":-0.33219280948873625},null,{"$f":"N14","v":1222},{"$f":"COUNTIF(L123:L145,AS14)","v":2},{"$f":"AT14/(AV4-AT20)","v":0.15384615384615385},{"$f":"IF(AU14=0,0,(AU14*((LOG(AU14))/LOG(2))))","v":-0.4154522643293988}]
[12,1289,23,1297,24,1327,23,1336,null,null,0,1222,null,2111,{"$f":"COUNTIF($L$7:$L$500,N15)","v":0},{"$f":"O15/$Q$4","v":0},{"$f":"IF(P15=0,0,(P15*((LOG(P15))/LOG(2))))","v":0},null,null,{"$f":"N15","v":2111},{"$f":"COUNTIF(L7:L29,T15)","v":0},{"$f":"U15/(W4-U20)","v":0},{"$f":"IF(V15=0,0,(V15*((LOG(V15))/LOG(2))))","v":0},null,{"$f":"N15","v":2111},{"$f":"COUNTIF(L30:L52,Y15)","v":0},{"$f":"Z15/(AB4-Z20)","v":0},{"$f":"IF(AA15=0,0,(AA15*((LOG(AA15))/LOG(2))))","v":0},null,{"$f":"N15","v":2111},{"$f":"COUNTIF(L53:L76,AD15)","v":0},{"$f":"AE15/(AG4-AE20)","v":0},{"$f":"IF(AF15=0,0,(AF15*((LOG(AF15))/LOG(2))))","v":0},null,{"$f":"N15","v":2111},{"$f":"COUNTIF(L77:L99,AI15)","v":0},{"$f":"AJ15/(AL4-AJ20)","v":0},{"$f":"IF(AK15=0,0,(AK15*((LOG(AK15))/LOG(2))))","v":0},null,{"$f":"N15","v":2111},{"$f":"COUNTIF(L100:L122,AN15)","v":0},{"$f":"AO15/(AQ4-AO20)","v":0},{"$f":"IF(AP15=0,0,(AP15*((LOG(AP15))/LOG(2))))","v":0},null,{"$f":"N15","v":2111},{"$f":"COUNTIF(L123:L145,AS15)","v":0},{"$f":"AT15/(AV4-AT20)","v":0},{"$f":"IF(AU15=0,0,(AU15*((LOG(AU15))/LOG(2))))","v":0}]
[21,1435,12,1451,24,1458,23,1473,null,null,0,2122,null,2112,{"$f":"COUNTIF($L$7:$L$500,N16)","v":2},{"$f":"O16/$Q$4","v":1.4388489208633094E-2},{"$f":"IF(P16=0,0,(P16*((LOG(P16))/LOG(2))))","v":-8.8042317593144001E-2},null,null,{"$f":"N16","v":2112},{"$f":"COUNTIF(L7:L29,T16)","v":0},{"$f":"U16/(W4-U20)","v":0},{"$f":"IF(V16=0,0,(V16*((LOG(V16))/LOG(2))))","v":0},null,{"$f":"N16","v":2112},{"$f":"COUNTIF(L30:L52,Y16)","v":1},{"$f":"Z16/(AB4-Z20)","v":5.8823529411764705E-2},{"$f":"IF(AA16=0,0,(AA16*((LOG(AA16))/LOG(2))))","v":-0.24043899066178465},null,{"$f":"N16","v":2112},{"$f":"COUNTIF(L53:L76,AD16)","v":0},{"$f":"AE16/(AG4-AE20)","v":0},{"$f":"IF(AF16=0,0,(AF16*((LOG(AF16))/LOG(2))))","v":0},null,{"$f":"N16","v":2112},{"$f":"COUNTIF(L77:L99,AI16)","v":1},{"$f":"AJ16/(AL4-AJ20)","v":6.6666666666666666E-2},{"$f":"IF(AK16=0,0,(AK16*((LOG(AK16))/LOG(2))))","v":-0.26045937304056793},null,{"$f":"N16","v":2112},{"$f":"COUNTIF(L100:L122,AN16)","v":0},{"$f":"AO16/(AQ4-AO20)","v":0},{"$f":"IF(AP16=0,0,(AP16*((LOG(AP16))/LOG(2))))","v":0},null,{"$f":"N16","v":2112},{"$f":"COUNTIF(L123:L145,AS16)","v":0},{"$f":"AT16/(AV4-AT20)","v":0},{"$f":"IF(AU16=0,0,(AU16*((LOG(AU16))/LOG(2))))","v":0}]
[21,1574,21,1582,11,1590,21,1622,null,null,0,2212,null,2121,{"$f":"COUNTIF($L$7:$L$500,N17)","v":11},{"$f":"O17/$Q$4","v":7.9136690647482008E-2},{"$f":"IF(P17=0,0,(P17*((LOG(P17))/LOG(2))))","v":-0.28960146758955618},null,null,{"$f":"N17","v":2121},{"$f":"COUNTIF(L7:L29,T17)","v":1},{"$f":"U17/(W4-U20)","v":6.6666666666666666E-2},{"$f":"IF(V17=0,0,(V17*((LOG(V17))/LOG(2))))","v":-0.26045937304056793},null,{"$f":"N17","v":2121},{"$f":"COUNTIF(L30:L52,Y17)","v":2},{"$f":"Z17/(AB4-Z20)","v":0.11764705882352941},{"$f":"IF(AA17=0,0,(AA17*((LOG(AA17))/LOG(2))))","v":-0.36323092250003997},null,{"$f":"N17","v":2121},{"$f":"COUNTIF(L53:L76,AD17)","v":2},{"$f":"AE17/(AG4-AE20)","v":0.10526315789473684},{"$f":"IF(AF17=0,0,(AF17*((LOG(AF17))/LOG(2))))","v":-0.34188710667827216},null,{"$f":"N17","v":2121},{"$f":"COUNTIF(L77:L99,AI17)","v":2},{"$f":"AJ17/(AL4-AJ20)","v":0.13333333333333333},{"$f":"IF(AK17=0,0,(AK17*((LOG(AK17))/LOG(2))))","v":-0.3875854127478025},null,{"$f":"N17","v":2121},{"$f":"COUNTIF(L100:L122,AN17)","v":3},{"$f":"AO17/(AQ4-AO20)","v":0.15},{"$f":"IF(AP17=0,0,(AP17*((LOG(AP17))/LOG(2))))","v":-0.41054483912493089},null,{"$f":"N17","v":2121},{"$f":"COUNTIF(L123:L145,AS17)","v":1},{"$f":"AT17/(AV4-AT20)","v":7.6923076923076927E-2},{"$f":"IF(AU17=0,0,(AU17*((LOG(AU17))/LOG(2))))","v":-0.28464920908777636}]
[12,1732,23,1736,13,1746,23,1761,null,null,0,1212,null,2122,{"$f":"COUNTIF($L$7:$L$500,N18)","v":39},{"$f":"O18/$Q$4","v":0.2805755395683453},{"$f":"IF(P18=0,0,(P18*((LOG(P18))/LOG(2))))","v":-0.51444615324164822},null,null,{"$f":"N18","v":2122},{"$f":"COUNTIF(L7:L29,T18)","v":3},{"$f":"U18/(W4-U20)","v":0.2},{"$f":"IF(V18=0,0,(V18*((LOG(V18))/LOG(2))))","v":-0.46438561897747244},null,{"$f":"N18","v":2122},{"$f":"COUNTIF(L30:L52,Y18)","v":4},{"$f":"Z18/(AB4-Z20)","v":0.23529411764705882},{"$f":"IF(AA18=0,0,(AA18*((LOG(AA18))/LOG(2))))","v":-0.49116772735302094},null,{"$f":"N18","v":2122},{"$f":"COUNTIF(L53:L76,AD18)","v":11},{"$f":"AE18/(AG4-AE20)","v":0.57894736842105265},{"$f":"IF(AF18=0,0,(AF18*((LOG(AF18))/LOG(2))))","v":-0.45649762330890375},null,{"$f":"N18","v":2122},{"$f":"COUNTIF(L77:L99,AI18)","v":7},{"$f":"AJ18/(AL4-AJ20)","v":0.46666666666666667},{"$f":"IF(AK18=0,0,(AK18*((LOG(AK18))/LOG(2))))","v":-0.51311664765709342},null,{"$f":"N18","v":2122},{"$f":"COUNTIF(L100:L122,AN18)","v":9},{"$f":"AO18/(AQ4-AO20)","v":0.45},{"$f":"IF(AP18=0,0,(AP18*((LOG(AP18))/LOG(2))))","v":-0.51840139205027258},null,{"$f":"N18","v":2122},{"$f":"COUNTIF(L123:L145,AS18)","v":5},{"$f":"AT18/(AV4-AT20)","v":0.38461538461538464},{"$f":"IF(AU18=0,0,(AU18*((LOG(AU18))/LOG(2))))","v":-0.53019677817451139}]
[12,1883,23,1927,13,1936,23,1959,null,null,0,1212,null,2211,{"$f":"COUNTIF($L$7:$L$500,N19)","v":4},{"$f":"O19/$Q$4","v":2.8776978417266189E-2},{"$f":"IF(P19=0,0,(P19*((LOG(P19))/LOG(2))))","v":-0.1473076567690218},null,null,{"$f":"N19","v":2211},{"$f":"COUNTIF(L7:L29,T19)","v":0},{"$f":"U19/(W4-U20)","v":0},{"$f":"IF(V19=0,0,(V19*((LOG(V19))/LOG(2))))","v":0},null,{"$f":"N19","v":2211},{"$f":"COUNTIF(L30:L52,Y19)","v":1},{"$f":"Z19/(AB4-Z20)","v":5.8823529411764705E-2},{"$f":"IF(AA19=0,0,(AA19*((LOG(AA19))/LOG(2))))","v":-0.24043899066178465},null,{"$f":"N19","v":2211},{"$f":"COUNTIF(L53:L76,AD19)","v":1},{"$f":"AE19/(AG4-AE20)","v":5.2631578947368418E-2},{"$f":"IF(AF19=0,0,(AF19*((LOG(AF19))/LOG(2))))","v":-0.22357513228650452},null,{"$f":"N19","v":2211},{"$f":"COUNTIF(L77:L99,AI19)","v":0},{"$f":"AJ19/(AL4-AJ20)","v":0},{"$f":"IF(AK19=0,0,(AK19*((LOG(AK19))/LOG(2))))","v":0},null,{"$f":"N19","v":2211},{"$f":"COUNTIF(L100:L122,AN19)","v":2},{"$f":"AO19/(AQ4-AO20)","v":0.1},{"$f":"IF(AP19=0,0,(AP19*((LOG(AP19))/LOG(2))))","v":-0.33219280948873625},null,{"$f":"N19","v":2211},{"$f":"COUNTIF(L123:L145,AS19)","v":0},{"$f":"AT19/(AV4-AT20)","v":0},{"$f":"IF(AU19=0,0,(AU19*((LOG(AU19))/LOG(2))))","v":0}]
[21,2071,12,2083,24,2091,14,2112,null,null,0,2121,null,2212,{"$f":"COUNTIF($L$7:$L$500,N20)","v":40},{"$f":"O20/$Q$4","v":0.28776978417266186},{"$f":"IF(P20=0,0,(P20*((LOG(P20))/LOG(2))))","v":-0.51712603678737978},null,null,{"$f":"N20","v":2212},{"$f":"COUNTIF(L7:L29,T20)","v":8},null,null,null,{"$f":"N20","v":2212},{"$f":"COUNTIF(L30:L52,Y20)","v":6},null,null,null,{"$f":"N20","v":2212},{"$f":"COUNTIF(L53:L76,AD20)","v":5},null,null,null,{"$f":"N20","v":2212},{"$f":"COUNTIF(L77:L99,AI20)","v":8},null,null,null,{"$f":"N20","v":2212},{"$f":"COUNTIF(L100:L122,AN20)","v":3},null,null,null,{"$f":"N20","v":2212},{"$f":"COUNTIF(L123:L145,AS20)","v":10}]
[12,2236,23,2253,24,2261,23,2268,null,null,0,1222,null,2221,{"$f":"COUNTIF($L$7:$L$500,N21)","v":2},{"$f":"O21/$Q$4","v":1.4388489208633094E-2},{"$f":"IF(P21=0,0,(P21*((LOG(P21))/LOG(2))))","v":-8.8042317593144001E-2},null,null,{"$f":"N21","v":2221},{"$f":"COUNTIF(L7:L29,T21)","v":2},{"$f":"U21/(W4-U20)","v":0.13333333333333333},{"$f":"IF(V21=0,0,(V21*((LOG(V21))/LOG(2))))","v":-0.3875854127478025},null,{"$f":"N21","v":2221},{"$f":"COUNTIF(L30:L52,Y21)","v":0},{"$f":"Z21/(AB4-Z20)","v":0},{"$f":"IF(AA21=0,0,(AA21*((LOG(AA21))/LOG(2))))","v":0},null,{"$f":"N21","v":2221},{"$f":"COUNTIF(L53:L76,AD21)","v":0},{"$f":"AE21/(AG4-AE20)","v":0},{"$f":"IF(AF21=0,0,(AF21*((LOG(AF21))/LOG(2))))","v":0},null,{"$f":"N21","v":2221},{"$f":"COUNTIF(L77:L99,AI21)","v":0},{"$f":"AJ21/(AL4-AJ20)","v":0},{"$f":"IF(AK21=0,0,(AK21*((LOG(AK21))/LOG(2))))","v":0},null,{"$f":"N21","v":2221},{"$f":"COUNTIF(L100:L122,AN21)","v":0},{"$f":"AO21/(AQ4-AO20)","v":0},{"$f":"IF(AP21=0,0,(AP21*((LOG(AP21))/LOG(2))))","v":0},null,{"$f":"N21","v":2221},{"$f":"COUNTIF(L123:L145,AS21)","v":0},{"$f":"AT21/(AV4-AT20)","v":0},{"$f":"IF(AU21=0,0,(AU21*((LOG(AU21))/LOG(2))))","v":0}]
[21,2370,21,2378,11,2400,21,2408,null,null,0,2212,null,2222,{"$f":"COUNTIF($L$7:$L$500,N22)","v":10},{"$f":"O22/$Q$4","v":7.1942446043165464E-2},{"$f":"IF(P22=0,0,(P22*((LOG(P22))/LOG(2))))","v":-0.27316640128317593},null,null,{"$f":"N22","v":2222},{"$f":"COUNTIF(L7:L29,T22)","v":2},{"$f":"U22/(W4-U20)","v":0.13333333333333333},{"$f":"IF(V22=0,0,(V22*((LOG(V22))/LOG(2))))","v":-0.3875854127478025},null,{"$f":"N22","v":2222},{"$f":"COUNTIF(L30:L52,Y22)","v":1},{"$f":"Z22/(AB4-Z20)","v":5.8823529411764705E-2},{"$f":"IF(AA22=0,0,(AA22*((LOG(AA22))/LOG(2))))","v":-0.24043899066178465},null,{"$f":"N22","v":2222},{"$f":"COUNTIF(L53:L76,AD22)","v":0},{"$f":"AE22/(AG4-AE20)","v":0},{"$f":"IF(AF22=0,0,(AF22*((LOG(AF22))/LOG(2))))","v":0},null,{"$f":"N22","v":2222},{"$f":"COUNTIF(L77:L99,AI22)","v":1},{"$f":"AJ22/(AL4-AJ20)","v":6.6666666666666666E-2},{"$f":"IF(AK22=0,0,(AK22*((LOG(AK22))/LOG(2))))","v":-0.26045937304056793},null,{"$f":"N22","v":2222},{"$f":"COUNTIF(L100:L122,AN22)","v":3},{"$f":"AO22/(AQ4-AO20)","v":0.15},{"$f":"IF(AP22=0,0,(AP22*((LOG(AP22))/LOG(2))))","v":-0.41054483912493089},null,{"$f":"N22","v":2222},{"$f":"COUNTIF(L123:L145,AS22)","v":3},{"$f":"AT22/(AV4-AT20)","v":0.23076923076923078},{"$f":"IF(AU22=0,0,(AU22*((LOG(AU22))/LOG(2))))","v":-0.48818705017383146}]
[21,2498,21,2506,11,2514,21,2519,null,null,0,2212,null,null,null,{"$f":"SUM(P7:P22)","v":1},{"$f":"-SUM(Q7:Q22)","v":2.8274634010875328},null,null,null,null,{"$f":"SUM(V7:V22)","v":1},{"$f":"-SUM(W7:W22)","v":2.7395722619867229},null,null,null,{"$f":"SUM(AA7:AA22)","v":1},{"$f":"-SUM(AB7:AB22)","v":2.7933451941915162},null,null,null,{"$f":"SUM(AF7:AF22)","v":1},{"$f":"-SUM(AG7:AG22)","v":1.9293092079167293},null,null,null,{"$f":"SUM(AK7:AK22)","v":1},{"$f":"-SUM(AL7:AL22)","v":2.1967916319816365},null,null,null,{"$f":"SUM(AP7:AP22)","v":1},{"$f":"-SUM(AQ7:AQ22)","v":2.2199730940219751},null,null,null,{"$f":"SUM(AU7:AU22)","v":1},{"$f":"-SUM(AV7:AV22)","v":2.1339375660949167}]
[21,2668,21,2676,22,2683,23,2690,null,null,0,2222,null,null,null,"U=",{"$f":"Q23/(LOG(Q4)/LOG(2))","v":0.39717471632418289},null,null,null,null,"U1=",{"$f":"W23/(LOG(W4)/LOG(2))","v":0.60562280092537646},null,null,null,"U2=",{"$f":"AB23/(LOG(AB4)/LOG(2))","v":0.61751009963536574},null,null,null,"U3=",{"$f":"AG23/(LOG(AG4)/LOG(2))","v":0.42079061881384494},null,null,null,"U4=",{"$f":"AL23/(LOG(AL4)/LOG(2))","v":0.48563314779852856},null,null,null,"U5=",{"$f":"AQ23/(LOG(AQ4)/LOG(2))","v":0.4907577514329054},null,null,null,"U6=",{"$f":"AV23/(LOG(AV4)/LOG(2))","v":0.47173833072797677}]
[21,2798,12,2807,24,2836,23,2843,null,null,0,2122]
[21,2945,21,2953,11,2961,21,2969,null,null,0,2212]
[21,3065,21,3078,11,3086,21,3094,null,null,0,2212,null,"Total Target Seq"]
[12,3198,23,3219,24,3227,14,3240,null,null,0,1221,null,{"$f":"COUNTIF(L7:L145,G3)","v":40},null,23,23,24,23,23,23]
[12,3356,23,3377,24,3385,23,3401,null,null,0,1222,null,null,null,"% of reinforcement given in 6 equal intervals based on number of trials "]
[21,3532,21,3541,22,3562,23,3596,null,null,0,2222,null,null,null,"%_1","%_2","%_3","%_4","%_5","%_6"]
[21,3697,21,3704,11,3712,21,3721,null,null,0,2212,null,null,"target sequence",{"$f":"$G$3","v":2212},{"$f":"$G$3","v":2212},{"$f":"$G$3","v":2212},{"$f":"$G$3","v":2212},{"$f":"$G$3","v":2212},{"$f":"$G$3","v":2212}]
[12,3820,23,3828,24,3854,23,3863,null,null,0,1222,null,null,"total reinforcement",{"$f":"U20","v":8},{"$f":"Z20","v":6},{"$f":"AE20","v":5},{"$f":"AJ20","v":8},{"$f":"AO20","v":3},{"$f":"AT20","v":10}]
[21,3963,21,3970,11,3979,21,3988,null,null,0,2212,null,null,"% target"]
[12,4086,23,4091,13,4103,23,4111,null,null,0,1212,null,null,"CCRF"]
[21,4212,21,4227,11,4235,21,4253,null,null,0,2212,null,null,"% CCRf"]
[21,4347,12,4356,24,4364,14,4399,null,null,0,2121,null,null,"average response rate",{"$f":"H29/P28","v":147.86956521739131},{"$f":"(H52-H29)/Q28","v":150.43478260869566},{"$f":"(H76-H52)/R28","v":141.70833333333334},{"$f":"(H99-H76)/S28","v":148},{"$f":"(H122-H99)/T28","v":149.69565217391303},{"$f":"(H145-H122)/U28","v":143.52173913043478}]
[12,4517,23,4525,24,4560,23,4567,null,null,0,1222]
[12,4691,14,4720,24,4738,23,4760,null,null,0,1122]
[21,4866,12,4873,24,4905,23,4920,null,null,0,2122]
[21,5021,21,5029,11,5037,21,5045,null,null,0,2212]
[12,5149,23,5172,13,5184,23,5220,null,null,0,1212]
[12,5356,14,5397,24,5413,23,5430,null,null,0,1122]
[12,5543,23,5551,24,5567,23,5580,null,null,0,1222]
[12,5693,23,5701,24,5727,23,5747,null,null,0,1222]
[21,5856,12,5864,24,5872,23,5887,null,null,0,2122]
[21,5990,21,6006,11,6015,21,6023,null,null,0,2212]
[21,6115,21,6122,11,6130,12,6153,null,null,0,2211]
[21,6253,12,6261,13,6275,23,6284,null,null,0,2112]
[21,6383,12,6400,24,6415,23,6427,null,null,0,2122]
[21,6530,21,6543,11,6552,21,6560,null,null,0,2212]
[21,6652,12,6667,24,6675,14,6714,null,null,0,2121]
[21,6824,12,6832,24,6840,23,6861,null,null,0,2122]
[21,6966,12,6973,24,6982,23,6998,null,null,0,2122]
[21,7094,21,7102,11,7110,12,7142,null,null,0,2211]
[12,7252,23,7260,13,7271,23,7279,null,null,0,1212]
[12,7392,23,7415,24,7427,14,7438,null,null,0,1221]
[21,7539,21,7546,11,7555,21,7563,null,null,0,2212]
[12,7666,14,7689,24,7698,23,7715,null,null,0,1122]
[21,7818,12,7826,24,7834,23,7842,null,null,0,2122]
[21,7944,21,7951,11,7959,21,7966,null,null,0,2212]
[21,8056,12,8064,24,8080,14,8094,null,null,0,2121]
[21,8194,12,8215,24,8224,23,8234,null,null,0,2122]
[12,8350,14,8374,24,8386,23,8401,null,null,0,1122]
[21,8503,21,8510,11,8518,21,8534,null,null,0,2212]
[21,8632,12,8641,24,8667,23,8680,null,null,0,2122]
[21,8783,12,8791,24,8799,14,8817,null,null,0,2121]
[12,8932,23,8940,24,8965,14,8975,null,null,0,1221]
[21,9072,21,9080,11,9089,21,9097,null,null,0,2212]
[21,9189,12,9209,24,9233,23,9245,null,null,0,2122]
[21,9343,12,9371,24,9394,23,9403,null,null,0,2122]
[21,9516,12,9524,24,9546,23,9559,null,null,0,2122]
[21,9659,12,9668,24,9684,23,9694,null,null,0,2122]
[21,9793,21,9804,11,9813,21,9821,null,null,0,2212]
[21,9925,12,9933,24,9957,23,9965,null,null,0,2122]
[21,10063,12,10083,24,10112,23,10122,null,null,0,2122]
[21,10231,12,10239,24,10254,23,10262,null,null,0,2122]
[21,10371,12,10379,24,10387,14,10402,null,null,0,2121]
[12,10507,23,10515,13,10524,23,10532,null,null,0,1212]
[21,10631,12,10646,24,10663,23,10681,null,null,0,2122]
[12,10809,23,10832,24,10840,14,10883,null,null,0,1221]
[12,10997,23,11023,24,11044,14,11054,null,null,0,1221]
[21,11156,21,11173,11,11181,21,11193,null,null,0,2212]
[21,11301,21,11310,11,11319,21,11346,null,null,0,2212]
[21,11438,21,11452,11,11463,21,11471,null,null,0,2212]
[21,11559,21,11567,11,11609,21,11635,null,null,0,2212]
[21,11726,12,11754,24,11762,23,11769,null,null,0,2122]
[21,11867,21,11872,11,11880,21,11908,null,null,0,2212]
[21,12007,12,12028,24,12043,23,12051,null,null,0,2122]
[21,12164,21,12176,11,12184,21,12192,null,null,0,2212]
[21,12296,21,12304,11,12313,21,12321,null,null,0,2212]
[21,12412,12,12420,24,12427,14,12457,null,null,0,2121]
[21,12571,12,12579,24,12587,23,12601,null,null,0,2122]
[21,12699,21,12711,11,12719,21,12728,null,null,0,2212]
[21,12817,12,12826,13,12841,23,12849,null,null,0,2112]
[21,12947,21,12961,22,12976,23,12995,null,null,0,2222]
[21,13130,12,13147,24,13154,23,13164,null,null,0,2122]
[21,13264,12,13278,24,13286,23,13327,null,null,0,2122]
[12,13443,23,13450,13,13479,23,13487,null,null,0,1212]
[21,13598,12,13606,24,13637,23,13666,null,null,0,2122]
[21,13764,21,13786,11,13798,21,13813,null,null,0,2212]
[21,13936,21,13944,22,13957,23,13964,null,null,0,2222]
[21,14065,12,14085,24,14100,23,14115,null,null,0,2122]
[21,14213,21,14220,22,14242,23,14250,null,null,0,2222]
[21,14357,12,14366,24,14399,14,14417,null,null,0,2121]
[21,14529,12,14537,24,14545,23,14560,null,null,0,2122]
[12,14672,23,14680,24,14703,14,14713,null,null,0,1221]
[12,14826,23,14841,24,14849,23,14857,null,null,0,1222]
[21,14966,12,14976,24,14984,23,14999,null,null,0,2122]
[21,15112,12,15124,24,15153,14,15167,null,null,0,2121]
[21,15280,12,15291,24,15313,23,15348,null,null,0,2122]
[21,15458,12,15466,24,15473,23,15490,null,null,0,2122]
[21,15587,21,15595,11,15603,12,15633,null,null,0,2211]
[21,15744,12,15753,24,15761,23,15776,null,null,0,2122]
[21,15878,21,15901,11,15909,21,15919,null,null,0,2212]
[21,16011,21,16019,22,16035,23,16048,null,null,0,2222]
[21,16152,21,16165,11,16175,21,16183,null,null,0,2212]
[21,16282,12,16290,24,16308,23,16342,null,null,0,2122]
[21,16449,12,16457,24,16480,14,16492,null,null,0,2121]
[12,16605,23,16613,24,16622,23,16644,null,null,0,1222]
[21,16743,21,16750,11,16758,12,16829,null,null,0,2211]
[21,16928,12,16943,24,16959,23,16967,null,null,0,2122]
[21,17068,12,17082,24,17090,23,17109,null,null,0,2122]
[21,17210,12,17218,24,17225,23,17235,null,null,0,2122]
[12,17343,23,17350,13,17371,23,17379,null,null,0,1212]
[21,17481,12,17496,24,17503,14,17521,null,null,0,2121]
[21,17620,21,17626,11,17635,21,17652,null,null,0,2212]
[21,17751,21,17763,11,17771,21,17803,null,null,0,2212]
[21,17903,21,17929,22,17940,23,17948,null,null,0,2222]
[21,18060,12,18068,24,18076,23,18096,null,null,0,2122]
[21,18198,21,18209,11,18219,21,18235,null,null,0,2212]
[21,18325,21,18334,11,18342,21,18350,null,null,0,2212]
[21,18443,21,18456,11,18464,21,18489,null,null,0,2212]
[21,18585,12,18597,24,18628,23,18636,null,null,0,2122]
[12,18749,23,18765,13,18798,23,18824,null,null,0,1212]
[21,18921,21,18933,11,18941,21,18973,null,null,0,2212]
[21,19104,21,19111,22,19133,23,19141,null,null,0,2222]
[12,19256,23,19263,24,19271,23,19286,null,null,0,1222]
[21,19391,12,19399,24,19430,23,19438,null,null,0,2122]
[21,19537,21,19544,11,19556,21,19582,null,null,0,2212]
[12,19691,23,19706,24,19714,23,19725,null,null,0,1222]
[21,19840,21,19856,22,19882,23,19890,null,null,0,2222]
[21,19989,21,19996,11,20005,21,20039,null,null,0,2212]
[21,20136,12,20144,24,20153,23,20160,null,null,0,2122]
[21,20258,21,20269,11,20277,21,20286,null,null,0,2212]
[21,20382,21,20394,11,20402,21,20410,null,null,1,2212]

{"sheet":"!N116930.095","index":18,"n_rows":132,"n_cols":48,"rows_kept":132,"cut":false,"hidden":false,"merged":[[4,39,4,42],[5,39,5,40],[4,44,4,47],[5,44,5,45],[4,24,4,27],[5,24,5,25],[4,29,4,32],[5,29,5,30],[4,34,4,37],[5,34,5,35],[1,1,1,2],[5,13,5,14],[26,13,26,14],[27,13,27,14],[4,19,4,22],[5,19,5,20]]}
["Report for:!N116930.095"]
["Date:","<date>"]
["Hen:","<hen>",null,null,null,"Correct Sequence",{"$f":"Start!J2","v":2212},null,null,null,null,null,null,null,null,"Total Sequences in Data",{"$f":"4994-COUNTBLANK(L7:L5000)","v":126},null,null,null,null,"Total Sequences in Block Data",{"$f":"COUNTA(L7:L27)","v":21},null,null,null,"Total Sequences in Block Data",{"$f":"COUNTA(L28:L48)","v":21},null,null,null,"Total Sequences in Block Data",{"$f":"COUNTA(L49:L69)","v":21},null,null,null,"Total Sequences in Block Data",{"$f":"COUNTA(L70:L90)","v":21},null,null,null,"Total Sequences in Block Data",{"$f":"COUNTA(L91:L111)","v":21},null,null,null,"Total Sequences in Block Data",{"$f":"COUNTA(L112:L132)","v":21}]
[null,null,null,null,null,null,null,null,null,null,null,null,null,null,null,"Total Sequences in Summary",{"$f":"SUM(O7:O22)","v":126},null,null,null,null,"Total Sequences in Block Summary",{"$f":"SUM(U7:U22)","v":21},null,null,null,"Total Sequences in Block Summary",{"$f":"SUM(Z7:Z22)","v":21},null,null,null,"Total Sequences in Block Summary",{"$f":"SUM(AE7:AE22)","v":21},null,null,null,"Total Sequences in Block Summary",{"$f":"SUM(AJ7:AJ22)","v":21},null,null,null,"Total Sequences in Block Summary",{"$f":"SUM(AO7:AO22)","v":21},null,null,null,"Total Sequences in Block Summary",{"$f":"SUM(AT7:AT22)","v":21}]
[null,null,null,null,null,null,null,null,null,null,null,null,null,null,null,null,null,null,null,"Block 1",null,null,null,null,"Block 2",null,null,null,null,"Block 3",null,null,null,null,"Block 4",null,null,null,null,"Block 5",null,null,null,null,"Block 6"]
["Sequence\nComponent\n1","Time\n1","Sequence\nComponent\n2","Time\n2","Sequence\nComponent\n3","Time\n3","Sequence\nComponent\n4","Time\n4","Sequence\nComponent\n5","Time\n5","Correct?\n0=No 1=Yes","Sequence",null,"Frequency",null,"Relative Frequency","Variability",null,null,"Frequency",null,"Relative Frequency","Variability",null,"Frequency",null,"Relative Frequency","Variability",null,"Frequency",null,"Relative Frequency","Variability",null,"Frequency",null,"Relative Frequency","Variability",null,"Frequency",null,"Relative Frequency","Variability",null,"Frequency",null,"Relative Frequency","Variability"]
[12,82,23,90,13,112,23,128,null,null,0,1212,null,1111,{"$f":"COUNTIF($L$7:$L$500,N7)","v":0},{"$f":"O7/$Q$4","v":0},{"$f":"IF(P7=0,0,(P7*((LOG(P7))/LOG(2))))","v":0},null,null,{"$f":"N7","v":1111},{"$f":"COUNTIF(L7:L27,T7)","v":0},{"$f":"U7/(W4-U20)","v":0},{"$f":"IF(V7=0,0,(V7*((LOG(V7))/LOG(2))))","v":0},null,{"$f":"N7","v":1111},{"$f":"COUNTIF(L28:L48,Y7)","v":0},{"$f":"Z7/(AB4-Z20)","v":0},{"$f":"IF(AA7=0,0,(AA7*((LOG(AA7))/LOG(2))))","v":0},null,{"$f":"N7","v":1111},{"$f":"COUNTIF(L49:L69,AD7)","v":0},{"$f":"AE7/(AG4-AE20)","v":0},{"$f":"IF(AF7=0,0,(AF7*((LOG(AF7))/LOG(2))))","v":0},null,{"$f":"N7","v":1111},{"$f":"COUNTIF(L70:L90,AI7)","v":0},{"$f":"AJ7/(AL4-AJ20)","v":0},{"$f":"IF(AK7=0,0,(AK7*((LOG(AK7))/LOG(2))))","v":0},null,{"$f":"N7","v":1111},{"$f":"COUNTIF(L91:L111,AN7)","v":0},{"$f":"AO7/(AQ4-AO20)","v":0},{"$f":"IF(AP7=0,0,(AP7*((LOG(AP7))/LOG(2))))","v":0},null,{"$f":"N7","v":1111},{"$f":"COUNTIF(L112:L132,AS7)","v":0},{"$f":"AT7/(AV4-AT20)","v":0},{"$f":"IF(AU7=0,0,(AU7*((LOG(AU7))/LOG(2))))","v":0}]
[21,281,21,312,11,322,21,330,null,null,0,2212,null,1112,{"$f":"COUNTIF($L$7:$L$500,N8)","v":0},{"$f":"O8/$Q$4","v":0},{"$f":"IF(P8=0,0,(P8*((LOG(P8))/LOG(2))))","v":0},null,null,{"$f":"N8","v":1112},{"$f":"COUNTIF(L7:L27,T8)","v":0},{"$f":"U8/(W4-U20)","v":0},{"$f":"IF(V8=0,0,(V8*((LOG(V8))/LOG(2))))","v":0},null,{"$f":"N8","v":1112},{"$f":"COUNTIF(L28:L48,Y8)","v":0},{"$f":"Z8/(AB4-Z20)","v":0},{"$f":"IF(AA8=0,0,(AA8*((LOG(AA8))/LOG(2))))","v":0},null,{"$f":"N8","v":1112},{"$f":"COUNTIF(L49:L69,AD8)","v":0},{"$f":"AE8/(AG4-AE20)","v":0},{"$f":"IF(AF8=0,0,(AF8*((LOG(AF8))/LOG(2))))","v":0},null,{"$f":"N8","v":1112},{"$f":"COUNTIF(L70:L90,AI8)","v":0},{"$f":"AJ8/(AL4-AJ20)","v":0},{"$f":"IF(AK8=0,0,(AK8*((LOG(AK8))/LOG(2))))","v":0},null,{"$f":"N8","v":1112},{"$f":"COUNTIF(L91:L111,AN8)","v":0},{"$f":"AO8/(AQ4-AO20)","v":0},{"$f":"IF(AP8=0,0,(AP8*((LOG(AP8))/LOG(2))))","v":0},null,{"$f":"N8","v":1112},{"$f":"COUNTIF(L112:L132,AS8)","v":0},{"$f":"AT8/(AV4-AT20)","v":0},{"$f":"IF(AU8=0,0,(AU8*((LOG(AU8))/LOG(2))))","v":0}]
[12,424,23,528,24,557,23,585,null,null,0,1222,null,1121,{"$f":"COUNTIF($L$7:$L$500,N9)","v":1},{"$f":"O9/$Q$4","v":7.9365079365079361E-3},{"$f":"IF(P9=0,0,(P9*((LOG(P9))/LOG(2))))","v":-5.5375237488094572E-2},null,null,{"$f":"N9","v":1121},{"$f":"COUNTIF(L7:L27,T9)","v":1},{"$f":"U9/(W4-U20)","v":6.25E-2},{"$f":"IF(V9=0,0,(V9*((LOG(V9))/LOG(2))))","v":-0.25},null,{"$f":"N9","v":1121},{"$f":"COUNTIF(L28:L48,Y9)","v":0},{"$f":"Z9/(AB4-Z20)","v":0},{"$f":"IF(AA9=0,0,(AA9*((LOG(AA9))/LOG(2))))","v":0},null,{"$f":"N9","v":1121},{"$f":"COUNTIF(L49:L69,AD9)","v":0},{"$f":"AE9/(AG4-AE20)","v":0},{"$f":"IF(AF9=0,0,(AF9*((LOG(AF9))/LOG(2))))","v":0},null,{"$f":"N9","v":1121},{"$f":"COUNTIF(L70:L90,AI9)","v":0},{"$f":"AJ9/(AL4-AJ20)","v":0},{"$f":"IF(AK9=0,0,(AK9*((LOG(AK9))/LOG(2))))","v":0},null,{"$f":"N9","v":1121},{"$f":"COUNTIF(L91:L111,AN9)","v":0},{"$f":"AO9/(AQ4-AO20)","v":0},{"$f":"IF(AP9=0,0,(AP9*((LOG(AP9))/LOG(2))))","v":0},null,{"$f":"N9","v":1121},{"$f":"COUNTIF(L112:L132,AS9)","v":0},{"$f":"AT9/(AV4-AT20)","v":0},{"$f":"IF(AU9=0,0,(AU9*((LOG(AU9))/LOG(2))))","v":0}]
[12,720,14,767,24,810,14,818,null,null,0,1121,null,1122,{"$f":"COUNTIF($L$7:$L$500,N10)","v":1},{"$f":"O10/$Q$4","v":7.9365079365079361E-3},{"$f":"IF(P10=0,0,(P10*((LOG(P10))/LOG(2))))","v":-5.5375237488094572E-2},null,null,{"$f":"N10","v":1122},{"$f":"COUNTIF(L7:L27,T10)","v":0},{"$f":"U10/(W4-U20)","v":0},{"$f":"IF(V10=0,0,(V10*((LOG(V10))/LOG(2))))","v":0},null,{"$f":"N10","v":1122},{"$f":"COUNTIF(L28:L48,Y10)","v":0},{"$f":"Z10/(AB4-Z20)","v":0},{"$f":"IF(AA10=0,0,(AA10*((LOG(AA10))/LOG(2))))","v":0},null,{"$f":"N10","v":1122},{"$f":"COUNTIF(L49:L69,AD10)","v":0},{"$f":"AE10/(AG4-AE20)","v":0},{"$f":"IF(AF10=0,0,(AF10*((LOG(AF10))/LOG(2))))","v":0},null,{"$f":"N10","v":1122},{"$f":"COUNTIF(L70:L90,AI10)","v":1},{"$f":"AJ10/(AL4-AJ20)","v":5.2631578947368418E-2},{"$f":"IF(AK10=0,0,(AK10*((LOG(AK10))/LOG(2))))","v":-0.22357513228650452},null,{"$f":"N10","v":1122},{"$f":"COUNTIF(L91:L111,AN10)","v":0},{"$f":"AO10/(AQ4-AO20)","v":0},{"$f":"IF(AP10=0,0,(AP10*((LOG(AP10))/LOG(2))))","v":0},null,{"$f":"N10","v":1122},{"$f":"COUNTIF(L112:L132,AS10)","v":0},{"$f":"AT10/(AV4-AT20)","v":0},{"$f":"IF(AU10=0,0,(AU10*((LOG(AU10))/LOG(2))))","v":0}]
[21,924,12,951,24,959,23,976,null,null,0,2122,null,1211,{"$f":"COUNTIF($L$7:$L$500,N11)","v":0},{"$f":"O11/$Q$4","v":0},{"$f":"IF(P11=0,0,(P11*((LOG(P11))/LOG(2))))","v":0},null,null,{"$f":"N11","v":1211},{"$f":"COUNTIF(L7:L27,T11)","v":0},{"$f":"U11/(W4-U20)","v":0},{"$f":"IF(V11=0,0,(V11*((LOG(V11))/LOG(2))))","v":0},null,{"$f":"N11","v":1211},{"$f":"COUNTIF(L28:L48,Y11)","v":0},{"$f":"Z11/(AB4-Z20)","v":0},{"$f":"IF(AA11=0,0,(AA11*((LOG(AA11))/LOG(2))))","v":0},null,{"$f":"N11","v":1211},{"$f":"COUNTIF(L49:L69,AD11)","v":0},{"$f":"AE11/(AG4-AE20)","v":0},{"$f":"IF(AF11=0,0,(AF11*((LOG(AF11))/LOG(2))))","v":0},null,{"$f":"N11","v":1211},{"$f":"COUNTIF(L70:L90,AI11)","v":0},{"$f":"AJ11/(AL4-AJ20)","v":0},{"$f":"IF(AK11=0,0,(AK11*((LOG(AK11))/LOG(2))))","v":0},null,{"$f":"N11","v":1211},{"$f":"COUNTIF(L91:L111,AN11)","v":0},{"$f":"AO11/(AQ4-AO20)","v":0},{"$f":"IF(AP11=0,0,(AP11*((LOG(AP11))/LOG(2))))","v":0},null,{"$f":"N11","v":1211},{"$f":"COUNTIF(L112:L132,AS11)","v":0},{"$f":"AT11/(AV4-AT20)","v":0},{"$f":"IF(AU11=0,0,(AU11*((LOG(AU11))/LOG(2))))","v":0}]
[12,1102,23,1110,13,1142,23,1172,null,null,0,1212,null,1212,{"$f":"COUNTIF($L$7:$L$500,N12)","v":5},{"$f":"O12/$Q$4","v":3.968253968253968E-2},{"$f":"IF(P12=0,0,(P12*((LOG(P12))/LOG(2))))","v":-0.18473618367510133},null,null,{"$f":"N12","v":1212},{"$f":"COUNTIF(L7:L27,T12)","v":4},{"$f":"U12/(W4-U20)","v":0.25},{"$f":"IF(V12=0,0,(V12*((LOG(V12))/LOG(2))))","v":-0.5},null,{"$f":"N12","v":1212},{"$f":"COUNTIF(L28:L48,Y12)","v":1},{"$f":"Z12/(AB4-Z20)","v":6.25E-2},{"$f":"IF(AA12=0,0,(AA12*((LOG(AA12))/LOG(2))))","v":-0.25},null,{"$f":"N12","v":1212},{"$f":"COUNTIF(L49:L69,AD12)","v":0},{"$f":"AE12/(AG4-AE20)","v":0},{"$f":"IF(AF12=0,0,(AF12*((LOG(AF12))/LOG(2))))","v":0},null,{"$f":"N12","v":1212},{"$f":"COUNTIF(L70:L90,AI12)","v":0},{"$f":"AJ12/(AL4-AJ20)","v":0},{"$f":"IF(AK12=0,0,(AK12*((LOG(AK12))/LOG(2))))","v":0},null,{"$f":"N12","v":1212},{"$f":"COUNTIF(L91:L111,AN12)","v":0},{"$f":"AO12/(AQ4-AO20)","v":0},{"$f":"IF(AP12=0,0,(AP12*((LOG(AP12))/LOG(2))))","v":0},null,{"$f":"N12","v":1212},{"$f":"COUNTIF(L112:L132,AS12)","v":0},{"$f":"AT12/(AV4-AT20)","v":0},{"$f":"IF(AU12=0,0,(AU12*((LOG(AU12))/LOG(2))))","v":0}]
[21,1306,12,1335,24,1344,23,1396,null,null,0,2122,null,1221,{"$f":"COUNTIF($L$7:$L$500,N13)","v":4},{"$f":"O13/$Q$4","v":3.1746031746031744E-2},{"$f":"IF(P13=0,0,(P13*((LOG(P13))/LOG(2))))","v":-0.15800888646031477},null,null,{"$f":"N13","v":1221},{"$f":"COUNTIF(L7:L27,T13)","v":2},{"$f":"U13/(W4-U20)","v":0.125},{"$f":"IF(V13=0,0,(V13*((LOG(V13))/LOG(2))))","v":-0.375},null,{"$f":"N13","v":1221},{"$f":"COUNTIF(L28:L48,Y13)","v":0},{"$f":"Z13/(AB4-Z20)","v":0},{"$f":"IF(AA13=0,0,(AA13*((LOG(AA13))/LOG(2))))","v":0},null,{"$f":"N13","v":1221},{"$f":"COUNTIF(L49:L69,AD13)","v":2},{"$f":"AE13/(AG4-AE20)","v":0.13333333333333333},{"$f":"IF(AF13=0,0,(AF13*((LOG(AF13))/LOG(2))))","v":-0.3875854127478025},null,{"$f":"N13","v":1221},{"$f":"COUNTIF(L70:L90,AI13)","v":0},{"$f":"AJ13/(AL4-AJ20)","v":0},{"$f":"IF(AK13=0,0,(AK13*((LOG(AK13))/LOG(2))))","v":0},null,{"$f":"N13","v":1221},{"$f":"COUNTIF(L91:L111,AN13)","v":0},{"$f":"AO13/(AQ4-AO20)","v":0},{"$f":"IF(AP13=0,0,(AP13*((LOG(AP13))/LOG(2))))","v":0},null,{"$f":"N13","v":1221},{"$f":"COUNTIF(L112:L132,AS13)","v":0},{"$f":"AT13/(AV4-AT20)","v":0},{"$f":"IF(AU13=0,0,(AU13*((LOG(AU13))/LOG(2))))","v":0}]
[12,1516,23,1580,13,1610,23,1650,null,null,0,1212,null,1222,{"$f":"COUNTIF($L$7:$L$500,N14)","v":10},{"$f":"O14/$Q$4","v":7.9365079365079361E-2},{"$f":"IF(P14=0,0,(P14*((LOG(P14))/LOG(2))))","v":-0.29010728798512331},null,null,{"$f":"N14","v":1222},{"$f":"COUNTIF(L7:L27,T14)","v":2},{"$f":"U14/(W4-U20)","v":0.125},{"$f":"IF(V14=0,0,(V14*((LOG(V14))/LOG(2))))","v":-0.375},null,{"$f":"N14","v":1222},{"$f":"COUNTIF(L28:L48,Y14)","v":2},{"$f":"Z14/(AB4-Z20)","v":0.125},{"$f":"IF(AA14=0,0,(AA14*((LOG(AA14))/LOG(2))))","v":-0.375},null,{"$f":"N14","v":1222},{"$f":"COUNTIF(L49:L69,AD14)","v":2},{"$f":"AE14/(AG4-AE20)","v":0.13333333333333333},{"$f":"IF(AF14=0,0,(AF14*((LOG(AF14))/LOG(2))))","v":-0.3875854127478025},null,{"$f":"N14","v":1222},{"$f":"COUNTIF(L70:L90,AI14)","v":2},{"$f":"AJ14/(AL4-AJ20)","v":0.10526315789473684},{"$f":"IF(AK14=0,0,(AK14*((LOG(AK14))/LOG(2))))","v":-0.34188710667827216},null,{"$f":"N14","v":1222},{"$f":"COUNTIF(L91:L111,AN14)","v":1},{"$f":"AO14/(AQ4-AO20)","v":5.2631578947368418E-2},{"$f":"IF(AP14=0,0,(AP14*((LOG(AP14))/LOG(2))))","v":-0.22357513228650452},null,{"$f":"N14","v":1222},{"$f":"COUNTIF(L112:L132,AS14)","v":1},{"$f":"AT14/(AV4-AT20)","v":4.7619047619047616E-2},{"$f":"IF(AU14=0,0,(AU14*((LOG(AU14))/LOG(2))))","v":-0.20915797251327431}]
[12,1815,23,1823,24,1888,14,1896,null,null,0,1221,null,2111,{"$f":"COUNTIF($L$7:$L$500,N15)","v":0},{"$f":"O15/$Q$4","v":0},{"$f":"IF(P15=0,0,(P15*((LOG(P15))/LOG(2))))","v":0},null,null,{"$f":"N15","v":2111},{"$f":"COUNTIF(L7:L27,T15)","v":0},{"$f":"U15/(W4-U20)","v":0},{"$f":"IF(V15=0,0,(V15*((LOG(V15))/LOG(2))))","v":0},null,{"$f":"N15","v":2111},{"$f":"COUNTIF(L28:L48,Y15)","v":0},{"$f":"Z15/(AB4-Z20)","v":0},{"$f":"IF(AA15=0,0,(AA15*((LOG(AA15))/LOG(2))))","v":0},null,{"$f":"N15","v":2111},{"$f":"COUNTIF(L49:L69,AD15)","v":0},{"$f":"AE15/(AG4-AE20)","v":0},{"$f":"IF(AF15=0,0,(AF15*((LOG(AF15))/LOG(2))))","v":0},null,{"$f":"N15","v":2111},{"$f":"COUNTIF(L70:L90,AI15)","v":0},{"$f":"AJ15/(AL4-AJ20)","v":0},{"$f":"IF(AK15=0,0,(AK15*((LOG(AK15))/LOG(2))))","v":0},null,{"$f":"N15","v":2111},{"$f":"COUNTIF(L91:L111,AN15)","v":0},{"$f":"AO15/(AQ4-AO20)","v":0},{"$f":"IF(AP15=0,0,(AP15*((LOG(AP15))/LOG(2))))","v":0},null,{"$f":"N15","v":2111},{"$f":"COUNTIF(L112:L132,AS15)","v":0},{"$f":"AT15/(AV4-AT20)","v":0},{"$f":"IF(AU15=0,0,(AU15*((LOG(AU15))/LOG(2))))","v":0}]
[21,2006,12,2024,24,2029,14,2058,null,null,0,2121,null,2112,{"$f":"COUNTIF($L$7:$L$500,N16)","v":1},{"$f":"O16/$Q$4","v":7.9365079365079361E-3},{"$f":"IF(P16=0,0,(P16*((LOG(P16))/LOG(2))))","v":-5.5375237488094572E-2},null,null,{"$f":"N16","v":2112},{"$f":"COUNTIF(L7:L27,T16)","v":0},{"$f":"U16/(W4-U20)","v":0},{"$f":"IF(V16=0,0,(V16*((LOG(V16))/LOG(2))))","v":0},null,{"$f":"N16","v":2112},{"$f":"COUNTIF(L28:L48,Y16)","v":1},{"$f":"Z16/(AB4-Z20)","v":6.25E-2},{"$f":"IF(AA16=0,0,(AA16*((LOG(AA16))/LOG(2))))","v":-0.25},null,{"$f":"N16","v":2112},{"$f":"COUNTIF(L49:L69,AD16)","v":0},{"$f":"AE16/(AG4-AE20)","v":0},{"$f":"IF(AF16=0,0,(AF16*((LOG(AF16))/LOG(2))))","v":0},null,{"$f":"N16","v":2112},{"$f":"COUNTIF(L70:L90,AI16)","v":0},{"$f":"AJ16/(AL4-AJ20)","v":0},{"$f":"IF(AK16=0,0,(AK16*((LOG(AK16))/LOG(2))))","v":0},null,{"$f":"N16","v":2112},{"$f":"COUNTIF(L91:L111,AN16)","v":0},{"$f":"AO16/(AQ4-AO20)","v":0},{"$f":"IF(AP16=0,0,(AP16*((LOG(AP16))/LOG(2))))","v":0},null,{"$f":"N16","v":2112},{"$f":"COUNTIF(L112:L132,AS16)","v":0},{"$f":"AT16/(AV4-AT20)","v":0},{"$f":"IF(AU16=0,0,(AU16*((LOG(AU16))/LOG(2))))","v":0}]
[21,2163,21,2177,11,2190,21,2213,null,null,0,2212,null,2121,{"$f":"COUNTIF($L$7:$L$500,N17)","v":3},{"$f":"O17/$Q$4","v":2.3809523809523808E-2},{"$f":"IF(P17=0,0,(P17*((LOG(P17))/LOG(2))))","v":-0.12838851006616095},null,null,{"$f":"N17","v":2121},{"$f":"COUNTIF(L7:L27,T17)","v":2},{"$f":"U17/(W4-U20)","v":0.125},{"$f":"IF(V17=0,0,(V17*((LOG(V17))/LOG(2))))","v":-0.375},null,{"$f":"N17","v":2121},{"$f":"COUNTIF(L28:L48,Y17)","v":1},{"$f":"Z17/(AB4-Z20)","v":6.25E-2},{"$f":"IF(AA17=0,0,(AA17*((LOG(AA17))/LOG(2))))","v":-0.25},null,{"$f":"N17","v":2121},{"$f":"COUNTIF(L49:L69,AD17)","v":0},{"$f":"AE17/(AG4-AE20)","v":0},{"$f":"IF(AF17=0,0,(AF17*((LOG(AF17))/LOG(2))))","v":0},null,{"$f":"N17","v":2121},{"$f":"COUNTIF(L70:L90,AI17)","v":0},{"$f":"AJ17/(AL4-AJ20)","v":0},{"$f":"IF(AK17=0,0,(AK17*((LOG(AK17))/LOG(2))))","v":0},null,{"$f":"N17","v":2121},{"$f":"COUNTIF(L91:L111,AN17)","v":0},{"$f":"AO17/(AQ4-AO20)","v":0},{"$f":"IF(AP17=0,0,(AP17*((LOG(AP17))/LOG(2))))","v":0},null,{"$f":"N17","v":2121},{"$f":"COUNTIF(L112:L132,AS17)","v":0},{"$f":"AT17/(AV4-AT20)","v":0},{"$f":"IF(AU17=0,0,(AU17*((LOG(AU17))/LOG(2))))","v":0}]
[21,2304,12,2320,24,2325,14,2334,null,null,0,2121,null,2122,{"$f":"COUNTIF($L$7:$L$500,N18)","v":23},{"$f":"O18/$Q$4","v":0.18253968253968253},{"$f":"IF(P18=0,0,(P18*((LOG(P18))/LOG(2))))","v":-0.44790089881894274},null,null,{"$f":"N18","v":2122},{"$f":"COUNTIF(L7:L27,T18)","v":3},{"$f":"U18/(W4-U20)","v":0.1875},{"$f":"IF(V18=0,0,(V18*((LOG(V18))/LOG(2))))","v":-0.45281953111478312},null,{"$f":"N18","v":2122},{"$f":"COUNTIF(L28:L48,Y18)","v":8},{"$f":"Z18/(AB4-Z20)","v":0.5},{"$f":"IF(AA18=0,0,(AA18*((LOG(AA18))/LOG(2))))","v":-0.5},null,{"$f":"N18","v":2122},{"$f":"COUNTIF(L49:L69,AD18)","v":6},{"$f":"AE18/(AG4-AE20)","v":0.4},{"$f":"IF(AF18=0,0,(AF18*((LOG(AF18))/LOG(2))))","v":-0.52877123795494496},null,{"$f":"N18","v":2122},{"$f":"COUNTIF(L70:L90,AI18)","v":5},{"$f":"AJ18/(AL4-AJ20)","v":0.26315789473684209},{"$f":"IF(AK18=0,0,(AK18*((LOG(AK18))/LOG(2))))","v":-0.50684195225163764},null,{"$f":"N18","v":2122},{"$f":"COUNTIF(L91:L111,AN18)","v":1},{"$f":"AO18/(AQ4-AO20)","v":5.2631578947368418E-2},{"$f":"IF(AP18=0,0,(AP18*((LOG(AP18))/LOG(2))))","v":-0.22357513228650452},null,{"$f":"N18","v":2122},{"$f":"COUNTIF(L112:L132,AS18)","v":0},{"$f":"AT18/(AV4-AT20)","v":0},{"$f":"IF(AU18=0,0,(AU18*((LOG(AU18))/LOG(2))))","v":0}]
[21,2443,21,2466,11,2542,21,2565,null,null,0,2212,null,2211,{"$f":"COUNTIF($L$7:$L$500,N19)","v":0},{"$f":"O19/$Q$4","v":0},{"$f":"IF(P19=0,0,(P19*((LOG(P19))/LOG(2))))","v":0},null,null,{"$f":"N19","v":2211},{"$f":"COUNTIF(L7:L27,T19)","v":0},{"$f":"U19/(W4-U20)","v":0},{"$f":"IF(V19=0,0,(V19*((LOG(V19))/LOG(2))))","v":0},null,{"$f":"N19","v":2211},{"$f":"COUNTIF(L28:L48,Y19)","v":0},{"$f":"Z19/(AB4-Z20)","v":0},{"$f":"IF(AA19=0,0,(AA19*((LOG(AA19))/LOG(2))))","v":0},null,{"$f":"N19","v":2211},{"$f":"COUNTIF(L49:L69,AD19)","v":0},{"$f":"AE19/(AG4-AE20)","v":0},{"$f":"IF(AF19=0,0,(AF19*((LOG(AF19))/LOG(2))))","v":0},null,{"$f":"N19","v":2211},{"$f":"COUNTIF(L70:L90,AI19)","v":0},{"$f":"AJ19/(AL4-AJ20)","v":0},{"$f":"IF(AK19=0,0,(AK19*((LOG(AK19))/LOG(2))))","v":0},null,{"$f":"N19","v":2211},{"$f":"COUNTIF(L91:L111,AN19)","v":0},{"$f":"AO19/(AQ4-AO20)","v":0},{"$f":"IF(AP19=0,0,(AP19*((LOG(AP19))/LOG(2))))","v":0},null,{"$f":"N19","v":2211},{"$f":"COUNTIF(L112:L132,AS19)","v":0},{"$f":"AT19/(AV4-AT20)","v":0},{"$f":"IF(AU19=0,0,(AU19*((LOG(AU19))/LOG(2))))","v":0}]
[12,2696,23,2705,24,2734,23,2742,null,null,0,1222,null,2212,{"$f":"COUNTIF($L$7:$L$500,N20)","v":20},{"$f":"O20/$Q$4","v":0.15873015873015872},{"$f":"IF(P20=0,0,(P20*((LOG(P20))/LOG(2))))","v":-0.42148441724008795},null,null,{"$f":"N20","v":2212},{"$f":"COUNTIF(L7:L27,T20)","v":5},null,null,null,{"$f":"N20","v":2212},{"$f":"COUNTIF(L28:L48,Y20)","v":5},null,null,null,{"$f":"N20","v":2212},{"$f":"COUNTIF(L49:L69,AD20)","v":6},null,null,null,{"$f":"N20","v":2212},{"$f":"COUNTIF(L70:L90,AI20)","v":2},null,null,null,{"$f":"N20","v":2212},{"$f":"COUNTIF(L91:L111,AN20)","v":2},null,null,null,{"$f":"N20","v":2212},{"$f":"COUNTIF(L112:L132,AS20)","v":0}]
[21,2854,21,2868,22,2875,14,2891,null,null,0,2221,null,2221,{"$f":"COUNTIF($L$7:$L$500,N21)","v":8},{"$f":"O21/$Q$4","v":6.3492063492063489E-2},{"$f":"IF(P21=0,0,(P21*((LOG(P21))/LOG(2))))","v":-0.25252570942856611},null,null,{"$f":"N21","v":2221},{"$f":"COUNTIF(L7:L27,T21)","v":2},{"$f":"U21/(W4-U20)","v":0.125},{"$f":"IF(V21=0,0,(V21*((LOG(V21))/LOG(2))))","v":-0.375},null,{"$f":"N21","v":2221},{"$f":"COUNTIF(L28:L48,Y21)","v":0},{"$f":"Z21/(AB4-Z20)","v":0},{"$f":"IF(AA21=0,0,(AA21*((LOG(AA21))/LOG(2))))","v":0},null,{"$f":"N21","v":2221},{"$f":"COUNTIF(L49:L69,AD21)","v":1},{"$f":"AE21/(AG4-AE20)","v":6.6666666666666666E-2},{"$f":"IF(AF21=0,0,(AF21*((LOG(AF21))/LOG(2))))","v":-0.26045937304056793},null,{"$f":"N21","v":2221},{"$f":"COUNTIF(L70:L90,AI21)","v":4},{"$f":"AJ21/(AL4-AJ20)","v":0.21052631578947367},{"$f":"IF(AK21=0,0,(AK21*((LOG(AK21))/LOG(2))))","v":-0.47324789756707064},null,{"$f":"N21","v":2221},{"$f":"COUNTIF(L91:L111,AN21)","v":0},{"$f":"AO21/(AQ4-AO20)","v":0},{"$f":"IF(AP21=0,0,(AP21*((LOG(AP21))/LOG(2))))","v":0},null,{"$f":"N21","v":2221},{"$f":"COUNTIF(L112:L132,AS21)","v":1},{"$f":"AT21/(AV4-AT20)","v":4.7619047619047616E-2},{"$f":"IF(AU21=0,0,(AU21*((LOG(AU21))/LOG(2))))","v":-0.20915797251327431}]
[21,2997,21,3024,11,3032,21,3041,null,null,0,2212,null,2222,{"$f":"COUNTIF($L$7:$L$500,N22)","v":50},{"$f":"O22/$Q$4","v":0.3968253968253968},{"$f":"IF(P22=0,0,(P22*((LOG(P22))/LOG(2))))","v":-0.52913640227190151},null,null,{"$f":"N22","v":2222},{"$f":"COUNTIF(L7:L27,T22)","v":0},{"$f":"U22/(W4-U20)","v":0},{"$f":"IF(V22=0,0,(V22*((LOG(V22))/LOG(2))))","v":0},null,{"$f":"N22","v":2222},{"$f":"COUNTIF(L28:L48,Y22)","v":3},{"$f":"Z22/(AB4-Z20)","v":0.1875},{"$f":"IF(AA22=0,0,(AA22*((LOG(AA22))/LOG(2))))","v":-0.45281953111478312},null,{"$f":"N22","v":2222},{"$f":"COUNTIF(L49:L69,AD22)","v":4},{"$f":"AE22/(AG4-AE20)","v":0.26666666666666666},{"$f":"IF(AF22=0,0,(AF22*((LOG(AF22))/LOG(2))))","v":-0.50850415882893829},null,{"$f":"N22","v":2222},{"$f":"COUNTIF(L70:L90,AI22)","v":7},{"$f":"AJ22/(AL4-AJ20)","v":0.36842105263157893},{"$f":"IF(AK22=0,0,(AK22*((LOG(AK22))/LOG(2))))","v":-0.53073727051062469},null,{"$f":"N22","v":2222},{"$f":"COUNTIF(L91:L111,AN22)","v":17},{"$f":"AO22/(AQ4-AO20)","v":0.89473684210526316},{"$f":"IF(AP22=0,0,(AP22*((LOG(AP22))/LOG(2))))","v":-0.14357365406764125},null,{"$f":"N22","v":2222},{"$f":"COUNTIF(L112:L132,AS22)","v":19},{"$f":"AT22/(AV4-AT20)","v":0.90476190476190477},{"$f":"IF(AU22=0,0,(AU22*((LOG(AU22))/LOG(2))))","v":-0.13063848939849149}]
[21,3130,21,3142,11,3149,21,3180,null,null,0,2212,null,null,null,{"$f":"SUM(P7:P22)","v":1},{"$f":"-SUM(Q7:Q22)","v":2.5784140084104825},null,null,null,null,{"$f":"SUM(V7:V22)","v":1},{"$f":"-SUM(W7:W22)","v":2.7028195311147831},null,null,null,{"$f":"SUM(AA7:AA22)","v":1},{"$f":"-SUM(AB7:AB22)","v":2.0778195311147831},null,null,null,{"$f":"SUM(AF7:AF22)","v":1},{"$f":"-SUM(AG7:AG22)","v":2.0729055953200559},null,null,null,{"$f":"SUM(AK7:AK22)","v":1},{"$f":"-SUM(AL7:AL22)","v":2.0762893592941096},null,null,null,{"$f":"SUM(AP7:AP22)","v":1},{"$f":"-SUM(AQ7:AQ22)","v":0.59072391864065033},null,null,null,{"$f":"SUM(AU7:AU22)","v":1},{"$f":"-SUM(AV7:AV22)","v":0.54895443442504011}]
[12,3298,23,3320,24,3327,14,3346,null,null,0,1221,null,null,null,"U=",{"$f":"Q23/(LOG(Q4)/LOG(2))","v":0.36954429758883861},null,null,null,null,"U1=",{"$f":"W23/(LOG(W4)/LOG(2))","v":0.61535159483188451},null,null,null,"U2=",{"$f":"AB23/(LOG(AB4)/LOG(2))","v":0.47305768939628889},null,null,null,"U3=",{"$f":"AG23/(LOG(AG4)/LOG(2))","v":0.4719389324118225},null,null,null,"U4=",{"$f":"AL23/(LOG(AL4)/LOG(2))","v":0.47270931479732708},null,null,null,"U5=",{"$f":"AQ23/(LOG(AQ4)/LOG(2))","v":0.13449026146815549},null,null,null,"U6=",{"$f":"AV23/(LOG(AV4)/LOG(2))","v":0.12498059260884405}]
[21,3461,12,3480,24,3514,23,3538,null,null,0,2122]
[21,3651,21,3674,22,3682,14,3690,null,null,0,2221]
[12,3831,23,3839,13,3876,23,3900,null,null,0,1212,null,"Total Target Seq"]
[21,4027,12,4036,24,4044,23,4080,null,null,0,2122,null,{"$f":"COUNTIF(L7:L132,G3)","v":20},null,21,21,21,21,21,21]
[21,4204,12,4219,24,4227,23,4255,null,null,0,2122,null,null,null,"% of reinforcement given in 6 equal intervals based on number of trials "]
[21,4382,12,4390,24,4399,23,4415,null,null,0,2122,null,null,null,"%_1","%_2","%_3","%_4","%_5","%_6"]
[21,4516,21,4533,11,4541,21,4550,null,null,0,2212,null,null,"target sequence",{"$f":"$G$3","v":2212},{"$f":"$G$3","v":2212},{"$f":"$G$3","v":2212},{"$f":"$G$3","v":2212},{"$f":"$G$3","v":2212},{"$f":"$G$3","v":2212}]
[21,4639,12,4655,13,4683,23,4724,null,null,0,2112,null,null,"total reinforcement",{"$f":"U20","v":5},{"$f":"Z20","v":5},{"$f":"AE20","v":6},{"$f":"AJ20","v":2},{"$f":"AO20","v":2},{"$f":"AT20","v":0}]
[21,4825,21,4868,22,4876,23,4885,null,null,0,2222,null,null,"% target"]
[21,4999,21,5008,22,5038,23,5046,null,null,0,2222,null,null,"CCRF"]
[21,5184,12,5197,24,5235,23,5246,null,null,0,2122,null,null,"% CCRf"]
[12,5377,23,5386,24,5408,23,5416,null,null,0,1222,null,null,"average response rate",{"$f":"H27/P28","v":185.71428571428572},{"$f":"(H48-H27)/Q28","v":167.57142857142858},{"$f":"(H69-H48)/R28","v":163.95238095238096},{"$f":"(H90-H69)/S28","v":170.33333333333334},{"$f":"(H111-H90)/T28","v":195.38095238095238},{"$f":"(H132-H111)/U28","v":255.71428571428572}]
[21,5529,12,5537,24,5562,14,5583,null,null,0,2121]
[12,5707,23,5714,13,5722,23,5746,null,null,0,1212]
[21,5860,21,5868,11,5890,21,5898,null,null,0,2212]
[21,6014,12,6035,24,6043,23,6103,null,null,0,2122]
[21,6227,21,6249,22,6291,23,6329,null,null,0,2222]
[21,6451,12,6468,24,6490,23,6501,null,null,0,2122]
[21,6609,21,6620,11,6628,21,6638,null,null,0,2212]
[21,6726,21,6737,11,6745,21,6769,null,null,0,2212]
[12,6891,23,6910,24,6926,23,6945,null,null,0,1222]
[21,7052,12,7063,24,7084,23,7095,null,null,0,2122]
[21,7196,21,7229,11,7238,21,7255,null,null,0,2212]
[21,7354,12,7362,24,7391,23,7419,null,null,0,2122]
[21,7523,21,7559,11,7568,21,7576,null,null,0,2212]
[12,7694,23,7741,24,7748,14,7800,null,null,0,1221]
[21,7906,12,7915,24,7922,23,7930,null,null,0,2122]
[12,8051,23,8067,24,8108,14,8137,null,null,0,1221]
[21,8246,12,8261,24,8270,23,8278,null,null,0,2122]
[21,8383,21,8398,11,8409,21,8431,null,null,0,2212]
[12,8543,23,8550,24,8565,23,8573,null,null,0,1222]
[21,8694,21,8710,11,8718,21,8734,null,null,0,2212]
[21,8840,21,8851,22,8862,23,8886,null,null,0,2222]
[21,8995,21,9059,22,9070,23,9085,null,null,0,2222]
[21,9188,21,9215,22,9229,23,9240,null,null,0,2222]
[21,9352,21,9387,22,9403,14,9414,null,null,0,2221]
[21,9521,12,9540,24,9563,23,9572,null,null,0,2122]
[21,9670,21,9677,22,9706,23,9758,null,null,0,2222]
[21,9859,21,9865,11,9883,21,9891,null,null,0,2212]
[21,9985,21,10012,11,10020,21,10028,null,null,0,2212]
[21,10127,12,10146,24,10182,23,10213,null,null,0,2122]
[21,10335,12,10343,24,10351,23,10372,null,null,0,2122]
[21,10494,12,10505,24,10513,23,10529,null,null,0,2122]
[21,10637,21,10652,11,10660,21,10682,null,null,0,2212]
[12,10812,23,10829,24,10846,23,10862,null,null,0,1222]
[12,10998,23,11006,24,11028,23,11058,null,null,0,1222]
[12,11183,23,11190,24,11198,23,11205,null,null,0,1222]
[21,11308,21,11314,22,11326,14,11334,null,null,0,2221]
[21,11436,21,11453,11,11461,21,11469,null,null,0,2212]
[21,11574,21,11596,22,11620,23,11628,null,null,0,2222]
[21,11732,12,11765,24,11773,23,11789,null,null,0,2122]
[21,11893,12,11921,24,11929,23,11937,null,null,0,2122]
[21,12044,21,12056,22,12100,23,12108,null,null,0,2222]
[12,12228,14,12243,24,12253,23,12275,null,null,0,1122]
[21,12398,21,12405,22,12416,14,12426,null,null,0,2221]
[21,12528,21,12537,22,12541,23,12552,null,null,0,2222]
[21,12660,21,12668,22,12676,14,12685,null,null,0,2221]
[21,12784,12,12810,24,12837,23,12886,null,null,0,2122]
[21,13016,21,13039,22,13086,23,13094,null,null,0,2222]
[21,13196,12,13211,24,13234,23,13260,null,null,0,2122]
[21,13375,21,13382,22,13394,14,13401,null,null,0,2221]
[21,13520,21,13549,22,13595,23,13606,null,null,0,2222]
[21,13756,21,13764,22,13776,23,13787,null,null,0,2222]
[21,13969,21,13996,22,14005,23,14014,null,null,0,2222]
[21,14129,12,14138,24,14209,23,14252,null,null,0,2122]
[21,14354,21,14374,11,14382,21,14439,null,null,0,2212]
[21,14543,21,14550,11,14559,21,14574,null,null,0,2212]
[21,14665,21,14672,22,14710,23,14728,null,null,0,2222]
[21,14833,21,14838,11,14857,21,14879,null,null,0,2212]
[21,15001,21,15041,22,15061,23,15068,null,null,0,2222]
[21,15255,21,15276,22,15284,23,15297,null,null,0,2222]
[21,15468,21,15484,22,15491,23,15507,null,null,0,2222]
[21,15617,12,15625,24,15632,23,15647,null,null,0,2122]
[21,15809,21,15817,22,15829,23,15844,null,null,0,2222]
[21,16027,21,16034,22,16045,23,16053,null,null,0,2222]
[21,16151,21,16157,22,16164,23,16179,null,null,0,2222]
[21,16278,21,16290,22,16306,23,16322,null,null,0,2222]
[21,16440,21,16492,22,16508,23,16529,null,null,0,2222]
[21,16644,21,16682,22,16698,23,16716,null,null,0,2222]
[12,16857,23,16865,24,16880,23,16887,null,null,0,1222]
[21,17093,21,17101,22,17123,23,17139,null,null,0,2222]
[21,17243,21,17250,22,17259,23,17272,null,null,0,2222]
[21,17433,21,17449,22,17472,23,17487,null,null,0,2222]
[21,17698,21,17702,22,17710,23,17717,null,null,0,2222]
[21,17833,21,17867,22,17883,23,17897,null,null,0,2222]
[21,18080,21,18112,22,18137,23,18165,null,null,0,2222]
[21,18432,21,18459,22,18491,23,18542,null,null,0,2222]
[21,18665,21,18682,22,18701,23,18728,null,null,0,2222]
[21,18863,21,18922,22,18951,23,18959,null,null,0,2222]
[21,19068,21,19080,22,19100,23,19108,null,null,0,2222]
[21,19608,21,19618,22,19630,23,19639,null,null,0,2222]
[21,19769,21,19778,22,19786,23,19841,null,null,0,2222]
[21,19940,21,19957,22,19968,23,19987,null,null,0,2222]
[21,20112,21,20121,22,20131,23,20151,null,null,0,2222]
[21,20350,21,20382,22,20396,23,20404,null,null,0,2222]
[21,20658,21,20688,22,20721,23,20729,null,null,0,2222]
[21,20842,21,20849,22,20861,23,20879,null,null,0,2222]
[21,21001,21,21019,22,21053,23,21061,null,null,0,2222]
[21,21177,21,21184,22,21208,23,21244,null,null,0,2222]
[21,21360,21,21367,22,21375,23,21410,null,null,0,2222]
[21,21579,21,21607,22,21638,23,21646,null,null,0,2222]
[12,21985,23,22001,24,22028,23,22079,null,null,0,1222]
[21,22192,21,22200,22,22228,14,22241,null,null,0,2221]
[21,22362,21,22366,22,22373,23,22394,null,null,0,2222]
[21,22499,21,22506,22,22513,23,22529,null,null,0,2222]
[21,23397,21,23431,22,23439,23,23447,null,null,0,2222]
[21,23555,21,23562,22,23624,23,23646,null,null,0,2222]
[21,23814,21,23889,22,23899,23,23912,null,null,null,2222]

{"sheet":"!N117B20.095","index":19,"n_rows":142,"n_cols":48,"rows_kept":142,"cut":false,"hidden":false,"merged":[[4,39,4,42],[5,39,5,40],[4,44,4,47],[5,44,5,45],[4,24,4,27],[5,24,5,25],[4,29,4,32],[5,29,5,30],[4,34,4,37],[5,34,5,35],[1,1,1,2],[5,13,5,14],[26,13,26,14],[27,13,27,14],[4,19,4,22],[5,19,5,20]]}
["Report for:!N117B20.095"]
["Date:","<date>"]
["Hen:","<hen>",null,null,null,"Correct Sequence",{"$f":"Start!J2","v":2212},null,null,null,null,null,null,null,null,"Total Sequences in Data",{"$f":"4994-COUNTBLANK(L7:L5000)","v":136},null,null,null,null,"Total Sequences in Block Data",{"$f":"COUNTA(L7:L29)","v":23},null,null,null,"Total Sequences in Block Data",{"$f":"COUNTA(L30:L51)","v":22},null,null,null,"Total Sequences in Block Data",{"$f":"COUNTA(L52:L74)","v":23},null,null,null,"Total Sequences in Block Data",{"$f":"COUNTA(L75:L97)","v":23},null,null,null,"Total Sequences in Block Data",{"$f":"COUNTA(L98:L119)","v":22},null,null,null,"Total Sequences in Block Data",{"$f":"COUNTA(L120:L142)","v":23}]
[null,null,null,null,null,null,null,null,null,null,null,null,null,null,null,"Total Sequences in Summary",{"$f":"SUM(O7:O22)","v":136},null,null,null,null,"Total Sequences in Block Summary",{"$f":"SUM(U7:U22)","v":23},null,null,null,"Total Sequences in Block Summary",{"$f":"SUM(Z7:Z22)","v":22},null,null,null,"Total Sequences in Block Summary",{"$f":"SUM(AE7:AE22)","v":23},null,null,null,"Total Sequences in Block Summary",{"$f":"SUM(AJ7:AJ22)","v":23},null,null,null,"Total Sequences in Block Summary",{"$f":"SUM(AO7:AO22)","v":22},null,null,null,"Total Sequences in Block Summary",{"$f":"SUM(AT7:AT22)","v":23}]
[null,null,null,null,null,null,null,null,null,null,null,null,null,null,null,null,null,null,null,"Block 1",null,null,null,null,"Block 2",null,null,null,null,"Block 3",null,null,null,null,"Block 4",null,null,null,null,"Block 5",null,null,null,null,"Block 6"]
["Sequence\nComponent\n1","Time\n1","Sequence\nComponent\n2","Time\n2","Sequence\nComponent\n3","Time\n3","Sequence\nComponent\n4","Time\n4","Sequence\nComponent\n5","Time\n5","Correct?\n0=No 1=Yes","Sequence",null,"Frequency",null,"Relative Frequency","Variability",null,null,"Frequency",null,"Relative Frequency","Variability",null,"Frequency",null,"Relative Frequency","Variability",null,"Frequency",null,"Relative Frequency","Variability",null,"Frequency",null,"Relative Frequency","Variability",null,"Frequency",null,"Relative Frequency","Variability",null,"Frequency",null,"Relative Frequency","Variability"]
[21,36,21,50,11,77,21,116,null,null,0,2212,null,1111,{"$f":"COUNTIF($L$7:$L$500,N7)","v":0},{"$f":"O7/$Q$4","v":0},{"$f":"IF(P7=0,0,(P7*((LOG(P7))/LOG(2))))","v":0},null,null,{"$f":"N7","v":1111},{"$f":"COUNTIF(L7:L29,T7)","v":0},{"$f":"U7/(W4-U20)","v":0},{"$f":"IF(V7=0,0,(V7*((LOG(V7))/LOG(2))))","v":0},null,{"$f":"N7","v":1111},{"$f":"COUNTIF(L30:L51,Y7)","v":0},{"$f":"Z7/(AB4-Z20)","v":0},{"$f":"IF(AA7=0,0,(AA7*((LOG(AA7))/LOG(2))))","v":0},null,{"$f":"N7","v":1111},{"$f":"COUNTIF(L52:L74,AD7)","v":0},{"$f":"AE7/(AG4-AE20)","v":0},{"$f":"IF(AF7=0,0,(AF7*((LOG(AF7))/LOG(2))))","v":0},null,{"$f":"N7","v":1111},{"$f":"COUNTIF(L75:L97,AI7)","v":0},{"$f":"AJ7/(AL4-AJ20)","v":0},{"$f":"IF(AK7=0,0,(AK7*((LOG(AK7))/LOG(2))))","v":0},null,{"$f":"N7","v":1111},{"$f":"COUNTIF(L98:L119,AN7)","v":0},{"$f":"AO7/(AQ4-AO20)","v":0},{"$f":"IF(AP7=0,0,(AP7*((LOG(AP7))/LOG(2))))","v":0},null,{"$f":"N7","v":1111},{"$f":"COUNTIF(L120:L142,AS7)","v":0},{"$f":"AT7/(AV4-AT20)","v":0},{"$f":"IF(AU7=0,0,(AU7*((LOG(AU7))/LOG(2))))","v":0}]
[12,244,23,380,24,416,14,483,null,null,0,1221,null,1112,{"$f":"COUNTIF($L$7:$L$500,N8)","v":1},{"$f":"O8/$Q$4","v":7.3529411764705881E-3},{"$f":"IF(P8=0,0,(P8*((LOG(P8))/LOG(2))))","v":-5.2113697362134843E-2},null,null,{"$f":"N8","v":1112},{"$f":"COUNTIF(L7:L29,T8)","v":1},{"$f":"U8/(W4-U20)","v":0.05},{"$f":"IF(V8=0,0,(V8*((LOG(V8))/LOG(2))))","v":-0.21609640474436814},null,{"$f":"N8","v":1112},{"$f":"COUNTIF(L30:L51,Y8)","v":0},{"$f":"Z8/(AB4-Z20)","v":0},{"$f":"IF(AA8=0,0,(AA8*((LOG(AA8))/LOG(2))))","v":0},null,{"$f":"N8","v":1112},{"$f":"COUNTIF(L52:L74,AD8)","v":0},{"$f":"AE8/(AG4-AE20)","v":0},{"$f":"IF(AF8=0,0,(AF8*((LOG(AF8))/LOG(2))))","v":0},null,{"$f":"N8","v":1112},{"$f":"COUNTIF(L75:L97,AI8)","v":0},{"$f":"AJ8/(AL4-AJ20)","v":0},{"$f":"IF(AK8=0,0,(AK8*((LOG(AK8))/LOG(2))))","v":0},null,{"$f":"N8","v":1112},{"$f":"COUNTIF(L98:L119,AN8)","v":0},{"$f":"AO8/(AQ4-AO20)","v":0},{"$f":"IF(AP8=0,0,(AP8*((LOG(AP8))/LOG(2))))","v":0},null,{"$f":"N8","v":1112},{"$f":"COUNTIF(L120:L142,AS8)","v":0},{"$f":"AT8/(AV4-AT20)","v":0},{"$f":"IF(AU8=0,0,(AU8*((LOG(AU8))/LOG(2))))","v":0}]
[12,612,23,619,13,629,23,638,null,null,0,1212,null,1121,{"$f":"COUNTIF($L$7:$L$500,N9)","v":0},{"$f":"O9/$Q$4","v":0},{"$f":"IF(P9=0,0,(P9*((LOG(P9))/LOG(2))))","v":0},null,null,{"$f":"N9","v":1121},{"$f":"COUNTIF(L7:L29,T9)","v":0},{"$f":"U9/(W4-U20)","v":0},{"$f":"IF(V9=0,0,(V9*((LOG(V9))/LOG(2))))","v":0},null,{"$f":"N9","v":1121},{"$f":"COUNTIF(L30:L51,Y9)","v":0},{"$f":"Z9/(AB4-Z20)","v":0},{"$f":"IF(AA9=0,0,(AA9*((LOG(AA9))/LOG(2))))","v":0},null,{"$f":"N9","v":1121},{"$f":"COUNTIF(L52:L74,AD9)","v":0},{"$f":"AE9/(AG4-AE20)","v":0},{"$f":"IF(AF9=0,0,(AF9*((LOG(AF9))/LOG(2))))","v":0},null,{"$f":"N9","v":1121},{"$f":"COUNTIF(L75:L97,AI9)","v":0},{"$f":"AJ9/(AL4-AJ20)","v":0},{"$f":"IF(AK9=0,0,(AK9*((LOG(AK9))/LOG(2))))","v":0},null,{"$f":"N9","v":1121},{"$f":"COUNTIF(L98:L119,AN9)","v":0},{"$f":"AO9/(AQ4-AO20)","v":0},{"$f":"IF(AP9=0,0,(AP9*((LOG(AP9))/LOG(2))))","v":0},null,{"$f":"N9","v":1121},{"$f":"COUNTIF(L120:L142,AS9)","v":0},{"$f":"AT9/(AV4-AT20)","v":0},{"$f":"IF(AU9=0,0,(AU9*((LOG(AU9))/LOG(2))))","v":0}]
[12,767,14,784,24,823,23,870,null,null,0,1122,null,1122,{"$f":"COUNTIF($L$7:$L$500,N10)","v":3},{"$f":"O10/$Q$4","v":2.2058823529411766E-2},{"$f":"IF(P10=0,0,(P10*((LOG(P10))/LOG(2))))","v":-0.1213786839822614},null,null,{"$f":"N10","v":1122},{"$f":"COUNTIF(L7:L29,T10)","v":1},{"$f":"U10/(W4-U20)","v":0.05},{"$f":"IF(V10=0,0,(V10*((LOG(V10))/LOG(2))))","v":-0.21609640474436814},null,{"$f":"N10","v":1122},{"$f":"COUNTIF(L30:L51,Y10)","v":0},{"$f":"Z10/(AB4-Z20)","v":0},{"$f":"IF(AA10=0,0,(AA10*((LOG(AA10))/LOG(2))))","v":0},null,{"$f":"N10","v":1122},{"$f":"COUNTIF(L52:L74,AD10)","v":1},{"$f":"AE10/(AG4-AE20)","v":7.1428571428571425E-2},{"$f":"IF(AF10=0,0,(AF10*((LOG(AF10))/LOG(2))))","v":-0.27195392300411453},null,{"$f":"N10","v":1122},{"$f":"COUNTIF(L75:L97,AI10)","v":0},{"$f":"AJ10/(AL4-AJ20)","v":0},{"$f":"IF(AK10=0,0,(AK10*((LOG(AK10))/LOG(2))))","v":0},null,{"$f":"N10","v":1122},{"$f":"COUNTIF(L98:L119,AN10)","v":0},{"$f":"AO10/(AQ4-AO20)","v":0},{"$f":"IF(AP10=0,0,(AP10*((LOG(AP10))/LOG(2))))","v":0},null,{"$f":"N10","v":1122},{"$f":"COUNTIF(L120:L142,AS10)","v":1},{"$f":"AT10/(AV4-AT20)","v":6.25E-2},{"$f":"IF(AU10=0,0,(AU10*((LOG(AU10))/LOG(2))))","v":-0.25}]
[21,983,12,1007,24,1030,23,1051,null,null,0,2122,null,1211,{"$f":"COUNTIF($L$7:$L$500,N11)","v":0},{"$f":"O11/$Q$4","v":0},{"$f":"IF(P11=0,0,(P11*((LOG(P11))/LOG(2))))","v":0},null,null,{"$f":"N11","v":1211},{"$f":"COUNTIF(L7:L29,T11)","v":0},{"$f":"U11/(W4-U20)","v":0},{"$f":"IF(V11=0,0,(V11*((LOG(V11))/LOG(2))))","v":0},null,{"$f":"N11","v":1211},{"$f":"COUNTIF(L30:L51,Y11)","v":0},{"$f":"Z11/(AB4-Z20)","v":0},{"$f":"IF(AA11=0,0,(AA11*((LOG(AA11))/LOG(2))))","v":0},null,{"$f":"N11","v":1211},{"$f":"COUNTIF(L52:L74,AD11)","v":0},{"$f":"AE11/(AG4-AE20)","v":0},{"$f":"IF(AF11=0,0,(AF11*((LOG(AF11))/LOG(2))))","v":0},null,{"$f":"N11","v":1211},{"$f":"COUNTIF(L75:L97,AI11)","v":0},{"$f":"AJ11/(AL4-AJ20)","v":0},{"$f":"IF(AK11=0,0,(AK11*((LOG(AK11))/LOG(2))))","v":0},null,{"$f":"N11","v":1211},{"$f":"COUNTIF(L98:L119,AN11)","v":0},{"$f":"AO11/(AQ4-AO20)","v":0},{"$f":"IF(AP11=0,0,(AP11*((LOG(AP11))/LOG(2))))","v":0},null,{"$f":"N11","v":1211},{"$f":"COUNTIF(L120:L142,AS11)","v":0},{"$f":"AT11/(AV4-AT20)","v":0},{"$f":"IF(AU11=0,0,(AU11*((LOG(AU11))/LOG(2))))","v":0}]
[12,1183,14,1242,13,1290,23,1323,null,null,0,1112,null,1212,{"$f":"COUNTIF($L$7:$L$500,N12)","v":3},{"$f":"O12/$Q$4","v":2.2058823529411766E-2},{"$f":"IF(P12=0,0,(P12*((LOG(P12))/LOG(2))))","v":-0.1213786839822614},null,null,{"$f":"N12","v":1212},{"$f":"COUNTIF(L7:L29,T12)","v":2},{"$f":"U12/(W4-U20)","v":0.1},{"$f":"IF(V12=0,0,(V12*((LOG(V12))/LOG(2))))","v":-0.33219280948873625},null,{"$f":"N12","v":1212},{"$f":"COUNTIF(L30:L51,Y12)","v":1},{"$f":"Z12/(AB4-Z20)","v":5.5555555555555552E-2},{"$f":"IF(AA12=0,0,(AA12*((LOG(AA12))/LOG(2))))","v":-0.23166250008012845},null,{"$f":"N12","v":1212},{"$f":"COUNTIF(L52:L74,AD12)","v":0},{"$f":"AE12/(AG4-AE20)","v":0},{"$f":"IF(AF12=0,0,(AF12*((LOG(AF12))/LOG(2))))","v":0},null,{"$f":"N12","v":1212},{"$f":"COUNTIF(L75:L97,AI12)","v":0},{"$f":"AJ12/(AL4-AJ20)","v":0},{"$f":"IF(AK12=0,0,(AK12*((LOG(AK12))/LOG(2))))","v":0},null,{"$f":"N12","v":1212},{"$f":"COUNTIF(L98:L119,AN12)","v":0},{"$f":"AO12/(AQ4-AO20)","v":0},{"$f":"IF(AP12=0,0,(AP12*((LOG(AP12))/LOG(2))))","v":0},null,{"$f":"N12","v":1212},{"$f":"COUNTIF(L120:L142,AS12)","v":0},{"$f":"AT12/(AV4-AT20)","v":0},{"$f":"IF(AU12=0,0,(AU12*((LOG(AU12))/LOG(2))))","v":0}]
[21,1437,21,1446,22,1458,14,1469,null,null,0,2221,null,1221,{"$f":"COUNTIF($L$7:$L$500,N13)","v":1},{"$f":"O13/$Q$4","v":7.3529411764705881E-3},{"$f":"IF(P13=0,0,(P13*((LOG(P13))/LOG(2))))","v":-5.2113697362134843E-2},null,null,{"$f":"N13","v":1221},{"$f":"COUNTIF(L7:L29,T13)","v":1},{"$f":"U13/(W4-U20)","v":0.05},{"$f":"IF(V13=0,0,(V13*((LOG(V13))/LOG(2))))","v":-0.21609640474436814},null,{"$f":"N13","v":1221},{"$f":"COUNTIF(L30:L51,Y13)","v":0},{"$f":"Z13/(AB4-Z20)","v":0},{"$f":"IF(AA13=0,0,(AA13*((LOG(AA13))/LOG(2))))","v":0},null,{"$f":"N13","v":1221},{"$f":"COUNTIF(L52:L74,AD13)","v":0},{"$f":"AE13/(AG4-AE20)","v":0},{"$f":"IF(AF13=0,0,(AF13*((LOG(AF13))/LOG(2))))","v":0},null,{"$f":"N13","v":1221},{"$f":"COUNTIF(L75:L97,AI13)","v":0},{"$f":"AJ13/(AL4-AJ20)","v":0},{"$f":"IF(AK13=0,0,(AK13*((LOG(AK13))/LOG(2))))","v":0},null,{"$f":"N13","v":1221},{"$f":"COUNTIF(L98:L119,AN13)","v":0},{"$f":"AO13/(AQ4-AO20)","v":0},{"$f":"IF(AP13=0,0,(AP13*((LOG(AP13))/LOG(2))))","v":0},null,{"$f":"N13","v":1221},{"$f":"COUNTIF(L120:L142,AS13)","v":0},{"$f":"AT13/(AV4-AT20)","v":0},{"$f":"IF(AU13=0,0,(AU13*((LOG(AU13))/LOG(2))))","v":0}]
[21,1577,21,1597,22,1606,14,1614,null,null,0,2221,null,1222,{"$f":"COUNTIF($L$7:$L$500,N14)","v":13},{"$f":"O14/$Q$4","v":9.5588235294117641E-2},{"$f":"IF(P14=0,0,(P14*((LOG(P14))/LOG(2))))","v":-0.3237595632383839},null,null,{"$f":"N14","v":1222},{"$f":"COUNTIF(L7:L29,T14)","v":3},{"$f":"U14/(W4-U20)","v":0.15},{"$f":"IF(V14=0,0,(V14*((LOG(V14))/LOG(2))))","v":-0.41054483912493089},null,{"$f":"N14","v":1222},{"$f":"COUNTIF(L30:L51,Y14)","v":3},{"$f":"Z14/(AB4-Z20)","v":0.16666666666666666},{"$f":"IF(AA14=0,0,(AA14*((LOG(AA14))/LOG(2))))","v":-0.43082708345352599},null,{"$f":"N14","v":1222},{"$f":"COUNTIF(L52:L74,AD14)","v":2},{"$f":"AE14/(AG4-AE20)","v":0.14285714285714285},{"$f":"IF(AF14=0,0,(AF14*((LOG(AF14))/LOG(2))))","v":-0.40105070315108626},null,{"$f":"N14","v":1222},{"$f":"COUNTIF(L75:L97,AI14)","v":2},{"$f":"AJ14/(AL4-AJ20)","v":0.18181818181818182},{"$f":"IF(AK14=0,0,(AK14*((LOG(AK14))/LOG(2))))","v":-0.44716938520678134},null,{"$f":"N14","v":1222},{"$f":"COUNTIF(L98:L119,AN14)","v":0},{"$f":"AO14/(AQ4-AO20)","v":0},{"$f":"IF(AP14=0,0,(AP14*((LOG(AP14))/LOG(2))))","v":0},null,{"$f":"N14","v":1222},{"$f":"COUNTIF(L120:L142,AS14)","v":3},{"$f":"AT14/(AV4-AT20)","v":0.1875},{"$f":"IF(AU14=0,0,(AU14*((LOG(AU14))/LOG(2))))","v":-0.45281953111478312}]
[21,1729,21,1753,22,1783,23,1791,null,null,0,2222,null,2111,{"$f":"COUNTIF($L$7:$L$500,N15)","v":0},{"$f":"O15/$Q$4","v":0},{"$f":"IF(P15=0,0,(P15*((LOG(P15))/LOG(2))))","v":0},null,null,{"$f":"N15","v":2111},{"$f":"COUNTIF(L7:L29,T15)","v":0},{"$f":"U15/(W4-U20)","v":0},{"$f":"IF(V15=0,0,(V15*((LOG(V15))/LOG(2))))","v":0},null,{"$f":"N15","v":2111},{"$f":"COUNTIF(L30:L51,Y15)","v":0},{"$f":"Z15/(AB4-Z20)","v":0},{"$f":"IF(AA15=0,0,(AA15*((LOG(AA15))/LOG(2))))","v":0},null,{"$f":"N15","v":2111},{"$f":"COUNTIF(L52:L74,AD15)","v":0},{"$f":"AE15/(AG4-AE20)","v":0},{"$f":"IF(AF15=0,0,(AF15*((LOG(AF15))/LOG(2))))","v":0},null,{"$f":"N15","v":2111},{"$f":"COUNTIF(L75:L97,AI15)","v":0},{"$f":"AJ15/(AL4-AJ20)","v":0},{"$f":"IF(AK15=0,0,(AK15*((LOG(AK15))/LOG(2))))","v":0},null,{"$f":"N15","v":2111},{"$f":"COUNTIF(L98:L119,AN15)","v":0},{"$f":"AO15/(AQ4-AO20)","v":0},{"$f":"IF(AP15=0,0,(AP15*((LOG(AP15))/LOG(2))))","v":0},null,{"$f":"N15","v":2111},{"$f":"COUNTIF(L120:L142,AS15)","v":0},{"$f":"AT15/(AV4-AT20)","v":0},{"$f":"IF(AU15=0,0,(AU15*((LOG(AU15))/LOG(2))))","v":0}]
[21,1913,21,1967,22,1975,23,2008,null,null,0,2222,null,2112,{"$f":"COUNTIF($L$7:$L$500,N16)","v":2},{"$f":"O16/$Q$4","v":1.4705882352941176E-2},{"$f":"IF(P16=0,0,(P16*((LOG(P16))/LOG(2))))","v":-8.9521512371328521E-2},null,null,{"$f":"N16","v":2112},{"$f":"COUNTIF(L7:L29,T16)","v":0},{"$f":"U16/(W4-U20)","v":0},{"$f":"IF(V16=0,0,(V16*((LOG(V16))/LOG(2))))","v":0},null,{"$f":"N16","v":2112},{"$f":"COUNTIF(L30:L51,Y16)","v":0},{"$f":"Z16/(AB4-Z20)","v":0},{"$f":"IF(AA16=0,0,(AA16*((LOG(AA16))/LOG(2))))","v":0},null,{"$f":"N16","v":2112},{"$f":"COUNTIF(L52:L74,AD16)","v":2},{"$f":"AE16/(AG4-AE20)","v":0.14285714285714285},{"$f":"IF(AF16=0,0,(AF16*((LOG(AF16))/LOG(2))))","v":-0.40105070315108626},null,{"$f":"N16","v":2112},{"$f":"COUNTIF(L75:L97,AI16)","v":0},{"$f":"AJ16/(AL4-AJ20)","v":0},{"$f":"IF(AK16=0,0,(AK16*((LOG(AK16))/LOG(2))))","v":0},null,{"$f":"N16","v":2112},{"$f":"COUNTIF(L98:L119,AN16)","v":0},{"$f":"AO16/(AQ4-AO20)","v":0},{"$f":"IF(AP16=0,0,(AP16*((LOG(AP16))/LOG(2))))","v":0},null,{"$f":"N16","v":2112},{"$f":"COUNTIF(L120:L142,AS16)","v":0},{"$f":"AT16/(AV4-AT20)","v":0},{"$f":"IF(AU16=0,0,(AU16*((LOG(AU16))/LOG(2))))","v":0}]
[21,2108,12,2131,24,2235,23,2244,null,null,0,2122,null,2121,{"$f":"COUNTIF($L$7:$L$500,N17)","v":0},{"$f":"O17/$Q$4","v":0},{"$f":"IF(P17=0,0,(P17*((LOG(P17))/LOG(2))))","v":0},null,null,{"$f":"N17","v":2121},{"$f":"COUNTIF(L7:L29,T17)","v":0},{"$f":"U17/(W4-U20)","v":0},{"$f":"IF(V17=0,0,(V17*((LOG(V17))/LOG(2))))","v":0},null,{"$f":"N17","v":2121},{"$f":"COUNTIF(L30:L51,Y17)","v":0},{"$f":"Z17/(AB4-Z20)","v":0},{"$f":"IF(AA17=0,0,(AA17*((LOG(AA17))/LOG(2))))","v":0},null,{"$f":"N17","v":2121},{"$f":"COUNTIF(L52:L74,AD17)","v":0},{"$f":"AE17/(AG4-AE20)","v":0},{"$f":"IF(AF17=0,0,(AF17*((LOG(AF17))/LOG(2))))","v":0},null,{"$f":"N17","v":2121},{"$f":"COUNTIF(L75:L97,AI17)","v":0},{"$f":"AJ17/(AL4-AJ20)","v":0},{"$f":"IF(AK17=0,0,(AK17*((LOG(AK17))/LOG(2))))","v":0},null,{"$f":"N17","v":2121},{"$f":"COUNTIF(L98:L119,AN17)","v":0},{"$f":"AO17/(AQ4-AO20)","v":0},{"$f":"IF(AP17=0,0,(AP17*((LOG(AP17))/LOG(2))))","v":0},null,{"$f":"N17","v":2121},{"$f":"COUNTIF(L120:L142,AS17)","v":0},{"$f":"AT17/(AV4-AT20)","v":0},{"$f":"IF(AU17=0,0,(AU17*((LOG(AU17))/LOG(2))))","v":0}]
[12,2379,23,2387,24,2414,23,2467,null,null,0,1222,null,2122,{"$f":"COUNTIF($L$7:$L$500,N18)","v":46},{"$f":"O18/$Q$4","v":0.33823529411764708},{"$f":"IF(P18=0,0,(P18*((LOG(P18))/LOG(2))))","v":-0.52896647587421342},null,null,{"$f":"N18","v":2122},{"$f":"COUNTIF(L7:L29,T18)","v":6},{"$f":"U18/(W4-U20)","v":0.3},{"$f":"IF(V18=0,0,(V18*((LOG(V18))/LOG(2))))","v":-0.52108967824986185},null,{"$f":"N18","v":2122},{"$f":"COUNTIF(L30:L51,Y18)","v":11},{"$f":"Z18/(AB4-Z20)","v":0.61111111111111116},{"$f":"IF(AA18=0,0,(AA18*((LOG(AA18))/LOG(2))))","v":-0.43419040060306474},null,{"$f":"N18","v":2122},{"$f":"COUNTIF(L52:L74,AD18)","v":8},{"$f":"AE18/(AG4-AE20)","v":0.5714285714285714},{"$f":"IF(AF18=0,0,(AF18*((LOG(AF18))/LOG(2))))","v":-0.46134566974720237},null,{"$f":"N18","v":2122},{"$f":"COUNTIF(L75:L97,AI18)","v":6},{"$f":"AJ18/(AL4-AJ20)","v":0.54545454545454541},{"$f":"IF(AK18=0,0,(AK18*((LOG(AK18))/LOG(2))))","v":-0.47698315522698609},null,{"$f":"N18","v":2122},{"$f":"COUNTIF(L98:L119,AN18)","v":7},{"$f":"AO18/(AQ4-AO20)","v":0.41176470588235292},{"$f":"IF(AP18=0,0,(AP18*((LOG(AP18))/LOG(2))))","v":-0.52710326084406744},null,{"$f":"N18","v":2122},{"$f":"COUNTIF(L120:L142,AS18)","v":8},{"$f":"AT18/(AV4-AT20)","v":0.5},{"$f":"IF(AU18=0,0,(AU18*((LOG(AU18))/LOG(2))))","v":-0.5}]
[21,2590,12,2598,24,2644,23,2659,null,null,0,2122,null,2211,{"$f":"COUNTIF($L$7:$L$500,N19)","v":1},{"$f":"O19/$Q$4","v":7.3529411764705881E-3},{"$f":"IF(P19=0,0,(P19*((LOG(P19))/LOG(2))))","v":-5.2113697362134843E-2},null,null,{"$f":"N19","v":2211},{"$f":"COUNTIF(L7:L29,T19)","v":0},{"$f":"U19/(W4-U20)","v":0},{"$f":"IF(V19=0,0,(V19*((LOG(V19))/LOG(2))))","v":0},null,{"$f":"N19","v":2211},{"$f":"COUNTIF(L30:L51,Y19)","v":0},{"$f":"Z19/(AB4-Z20)","v":0},{"$f":"IF(AA19=0,0,(AA19*((LOG(AA19))/LOG(2))))","v":0},null,{"$f":"N19","v":2211},{"$f":"COUNTIF(L52:L74,AD19)","v":0},{"$f":"AE19/(AG4-AE20)","v":0},{"$f":"IF(AF19=0,0,(AF19*((LOG(AF19))/LOG(2))))","v":0},null,{"$f":"N19","v":2211},{"$f":"COUNTIF(L75:L97,AI19)","v":1},{"$f":"AJ19/(AL4-AJ20)","v":9.0909090909090912E-2},{"$f":"IF(AK19=0,0,(AK19*((LOG(AK19))/LOG(2))))","v":-0.31449378351248153},null,{"$f":"N19","v":2211},{"$f":"COUNTIF(L98:L119,AN19)","v":0},{"$f":"AO19/(AQ4-AO20)","v":0},{"$f":"IF(AP19=0,0,(AP19*((LOG(AP19))/LOG(2))))","v":0},null,{"$f":"N19","v":2211},{"$f":"COUNTIF(L120:L142,AS19)","v":0},{"$f":"AT19/(AV4-AT20)","v":0},{"$f":"IF(AU19=0,0,(AU19*((LOG(AU19))/LOG(2))))","v":0}]
[21,2770,12,2789,24,2826,23,2834,null,null,0,2122,null,2212,{"$f":"COUNTIF($L$7:$L$500,N20)","v":40},{"$f":"O20/$Q$4","v":0.29411764705882354},{"$f":"IF(P20=0,0,(P20*((LOG(P20))/LOG(2))))","v":-0.51927492540087561},null,null,{"$f":"N20","v":2212},{"$f":"COUNTIF(L7:L29,T20)","v":3},null,null,null,{"$f":"N20","v":2212},{"$f":"COUNTIF(L30:L51,Y20)","v":4},null,null,null,{"$f":"N20","v":2212},{"$f":"COUNTIF(L52:L74,AD20)","v":9},null,null,null,{"$f":"N20","v":2212},{"$f":"COUNTIF(L75:L97,AI20)","v":12},null,null,null,{"$f":"N20","v":2212},{"$f":"COUNTIF(L98:L119,AN20)","v":5},null,null,null,{"$f":"N20","v":2212},{"$f":"COUNTIF(L120:L142,AS20)","v":7}]
[12,2964,23,3038,13,3065,23,3100,null,null,0,1212,null,2221,{"$f":"COUNTIF($L$7:$L$500,N21)","v":19},{"$f":"O21/$Q$4","v":0.13970588235294118},{"$f":"IF(P21=0,0,(P21*((LOG(P21))/LOG(2))))","v":-0.39669978844359061},null,null,{"$f":"N21","v":2221},{"$f":"COUNTIF(L7:L29,T21)","v":4},{"$f":"U21/(W4-U20)","v":0.2},{"$f":"IF(V21=0,0,(V21*((LOG(V21))/LOG(2))))","v":-0.46438561897747244},null,{"$f":"N21","v":2221},{"$f":"COUNTIF(L30:L51,Y21)","v":3},{"$f":"Z21/(AB4-Z20)","v":0.16666666666666666},{"$f":"IF(AA21=0,0,(AA21*((LOG(AA21))/LOG(2))))","v":-0.43082708345352599},null,{"$f":"N21","v":2221},{"$f":"COUNTIF(L52:L74,AD21)","v":1},{"$f":"AE21/(AG4-AE20)","v":7.1428571428571425E-2},{"$f":"IF(AF21=0,0,(AF21*((LOG(AF21))/LOG(2))))","v":-0.27195392300411453},null,{"$f":"N21","v":2221},{"$f":"COUNTIF(L75:L97,AI21)","v":2},{"$f":"AJ21/(AL4-AJ20)","v":0.18181818181818182},{"$f":"IF(AK21=0,0,(AK21*((LOG(AK21))/LOG(2))))","v":-0.44716938520678134},null,{"$f":"N21","v":2221},{"$f":"COUNTIF(L98:L119,AN21)","v":5},{"$f":"AO21/(AQ4-AO20)","v":0.29411764705882354},{"$f":"IF(AP21=0,0,(AP21*((LOG(AP21))/LOG(2))))","v":-0.51927492540087561},null,{"$f":"N21","v":2221},{"$f":"COUNTIF(L120:L142,AS21)","v":4},{"$f":"AT21/(AV4-AT20)","v":0.25},{"$f":"IF(AU21=0,0,(AU21*((LOG(AU21))/LOG(2))))","v":-0.5}]
[12,3223,23,3341,24,3361,23,3379,null,null,0,1222,null,2222,{"$f":"COUNTIF($L$7:$L$500,N22)","v":7},{"$f":"O22/$Q$4","v":5.1470588235294115E-2},{"$f":"IF(P22=0,0,(P22*((LOG(P22))/LOG(2))))","v":-0.22029967231139078},null,null,{"$f":"N22","v":2222},{"$f":"COUNTIF(L7:L29,T22)","v":2},{"$f":"U22/(W4-U20)","v":0.1},{"$f":"IF(V22=0,0,(V22*((LOG(V22))/LOG(2))))","v":-0.33219280948873625},null,{"$f":"N22","v":2222},{"$f":"COUNTIF(L30:L51,Y22)","v":0},{"$f":"Z22/(AB4-Z20)","v":0},{"$f":"IF(AA22=0,0,(AA22*((LOG(AA22))/LOG(2))))","v":0},null,{"$f":"N22","v":2222},{"$f":"COUNTIF(L52:L74,AD22)","v":0},{"$f":"AE22/(AG4-AE20)","v":0},{"$f":"IF(AF22=0,0,(AF22*((LOG(AF22))/LOG(2))))","v":0},null,{"$f":"N22","v":2222},{"$f":"COUNTIF(L75:L97,AI22)","v":0},{"$f":"AJ22/(AL4-AJ20)","v":0},{"$f":"IF(AK22=0,0,(AK22*((LOG(AK22))/LOG(2))))","v":0},null,{"$f":"N22","v":2222},{"$f":"COUNTIF(L98:L119,AN22)","v":5},{"$f":"AO22/(AQ4-AO20)","v":0.29411764705882354},{"$f":"IF(AP22=0,0,(AP22*((LOG(AP22))/LOG(2))))","v":-0.51927492540087561},null,{"$f":"N22","v":2222},{"$f":"COUNTIF(L120:L142,AS22)","v":0},{"$f":"AT22/(AV4-AT20)","v":0},{"$f":"IF(AU22=0,0,(AU22*((LOG(AU22))/LOG(2))))","v":0}]
[12,3537,23,3567,24,3591,23,3632,null,null,0,1222,null,null,null,{"$f":"SUM(P7:P22)","v":1},{"$f":"-SUM(Q7:Q22)","v":2.4776203976907101},null,null,null,null,{"$f":"SUM(V7:V22)","v":0.99999999999999989},{"$f":"-SUM(W7:W22)","v":2.7086949695628419},null,null,null,{"$f":"SUM(AA7:AA22)","v":1},{"$f":"-SUM(AB7:AB22)","v":1.5275070675902451},null,null,null,{"$f":"SUM(AF7:AF22)","v":0.99999999999999989},{"$f":"-SUM(AG7:AG22)","v":1.807354922057604},null,null,null,{"$f":"SUM(AK7:AK22)","v":1},{"$f":"-SUM(AL7:AL22)","v":1.6858157091530301},null,null,null,{"$f":"SUM(AP7:AP22)","v":1},{"$f":"-SUM(AQ7:AQ22)","v":1.5656531116458186},null,null,null,{"$f":"SUM(AU7:AU22)","v":1},{"$f":"-SUM(AV7:AV22)","v":1.7028195311147831}]
[21,3770,12,3791,24,3826,23,3891,null,null,0,2122,null,null,null,"U=",{"$f":"Q23/(LOG(Q4)/LOG(2))","v":0.34957790300790054},null,null,null,null,"U1=",{"$f":"W23/(LOG(W4)/LOG(2))","v":0.598796920629311},null,null,null,"U2=",{"$f":"AB23/(LOG(AB4)/LOG(2))","v":0.34253402635581104},null,null,null,"U3=",{"$f":"AG23/(LOG(AG4)/LOG(2))","v":0.39954242687835195},null,null,null,"U4=",{"$f":"AL23/(LOG(AL4)/LOG(2))","v":0.37267439365912441},null,null,null,"U5=",{"$f":"AQ23/(LOG(AQ4)/LOG(2))","v":0.35108804115360492},null,null,null,"U6=",{"$f":"AV23/(LOG(AV4)/LOG(2))","v":0.37643333896084291}]
[21,4037,21,4045,11,4055,21,4069,null,null,0,2212]
[21,4175,21,4188,22,4196,14,4206,null,null,0,2221]
[21,4304,21,4324,11,4332,21,4377,null,null,0,2212,null,"Total Target Seq"]
[21,4480,12,4488,24,4513,23,4522,null,null,0,2122,null,{"$f":"COUNTIF(L7:L142,G3)","v":40},null,23,22,23,23,22,23]
[21,4623,21,4639,22,4648,14,4657,null,null,0,2221,null,null,null,"% of reinforcement given in 6 equal intervals based on number of trials "]
[21,4758,21,4766,22,4774,14,4783,null,null,0,2221,null,null,null,"%_1","%_2","%_3","%_4","%_5","%_6"]
[21,4904,12,4912,24,4939,23,4989,null,null,0,2122,null,null,"target sequence",{"$f":"$G$3","v":2212},{"$f":"$G$3","v":2212},{"$f":"$G$3","v":2212},{"$f":"$G$3","v":2212},{"$f":"$G$3","v":2212},{"$f":"$G$3","v":2212}]
[21,5090,12,5105,24,5125,23,5133,null,null,0,2122,null,null,"total reinforcement",{"$f":"U20","v":3},{"$f":"Z20","v":4},{"$f":"AE20","v":9},{"$f":"AJ20","v":12},{"$f":"AO20","v":5},{"$f":"AT20","v":7}]
[12,5257,23,5266,24,5281,23,5290,null,null,0,1222,null,null,"% target"]
[12,5411,23,5452,24,5468,23,5512,null,null,0,1222,null,null,"CCRF"]
[21,5620,12,5628,24,5660,23,5669,null,null,0,2122,null,null,"% CCRf"]
[21,5773,12,5789,24,5798,23,5806,null,null,0,2122,null,null,"average response rate",{"$f":"H29/P28","v":202.47826086956522},{"$f":"(H51-H29)/Q28","v":160.09090909090909},{"$f":"(H74-H51)/R28","v":151.08695652173913},{"$f":"(H97-H74)/S28","v":145.47826086956522},{"$f":"(H119-H97)/T28","v":156.13636363636363},{"$f":"(H142-H119)/U28","v":158.86956521739131}]
[21,5914,12,5953,24,5970,23,5994,null,null,0,2122]
[21,6101,21,6109,22,6118,14,6126,null,null,0,2221]
[21,6250,12,6261,24,6274,23,6282,null,null,0,2122]
[21,6401,12,6410,24,6439,23,6471,null,null,0,2122]
[21,6579,12,6597,24,6638,23,6658,null,null,0,2122]
[21,6778,21,6785,11,6793,21,6811,null,null,0,2212]
[21,6908,21,6920,11,6928,21,6965,null,null,0,2212]
[21,7060,21,7071,11,7080,21,7096,null,null,0,2212]
[21,7185,12,7204,24,7230,23,7246,null,null,0,2122]
[21,7348,12,7364,24,7381,23,7400,null,null,0,2122]
[12,7514,23,7540,13,7554,23,7578,null,null,0,1212]
[21,7690,21,7697,11,7708,21,7716,null,null,0,2212]
[12,7826,23,7842,24,7857,23,7872,null,null,0,1222]
[21,7992,12,7999,24,8036,23,8045,null,null,0,2122]
[21,8146,21,8153,22,8168,14,8179,null,null,0,2221]
[21,8289,12,8297,24,8322,23,8343,null,null,0,2122]
[21,8451,12,8467,24,8491,23,8499,null,null,0,2122]
[12,8612,23,8635,24,8643,23,8655,null,null,0,1222]
[21,8768,12,8776,24,8800,23,8808,null,null,0,2122]
[21,8925,12,8937,24,8956,23,8992,null,null,0,2122]
[21,9099,21,9113,11,9124,21,9157,null,null,0,2212]
[21,9261,12,9268,24,9277,23,9309,null,null,0,2122]
[21,9415,21,9422,11,9434,21,9455,null,null,0,2212]
[21,9566,12,9574,24,9587,23,9595,null,null,0,2122]
[21,9699,21,9708,11,9717,21,9741,null,null,0,2212]
[21,9834,21,9842,11,9850,21,9873,null,null,0,2212]
[21,9972,12,9980,13,10017,23,10043,null,null,0,2112]
[21,10146,21,10154,11,10162,21,10170,null,null,0,2212]
[12,10276,23,10292,24,10300,23,10307,null,null,0,1222]
[12,10423,14,10437,24,10469,23,10476,null,null,0,1122]
[21,10582,12,10591,24,10599,23,10615,null,null,0,2122]
[21,10718,12,10727,13,10743,23,10774,null,null,0,2112]
[21,10890,21,10902,11,10911,21,10935,null,null,0,2212]
[21,11027,21,11034,11,11042,21,11073,null,null,0,2212]
[21,11177,21,11185,11,11192,21,11217,null,null,0,2212]
[21,11308,12,11326,24,11335,23,11342,null,null,0,2122]
[21,11446,21,11460,11,11471,21,11520,null,null,0,2212]
[21,11616,21,11631,22,11643,14,11654,null,null,0,2221]
[21,11753,21,11766,11,11774,21,11789,null,null,0,2212]
[21,11881,21,11889,11,11898,21,11918,null,null,0,2212]
[21,12013,21,12021,22,12029,14,12045,null,null,0,2221]
[21,12143,21,12151,11,12166,21,12174,null,null,0,2212]
[21,12273,12,12282,24,12290,23,12337,null,null,0,2122]
[21,12459,12,12468,24,12491,23,12499,null,null,0,2122]
[21,12607,12,12626,24,12634,23,12641,null,null,0,2122]
[21,12752,21,12759,11,12767,21,12785,null,null,0,2212]
[12,12912,23,12920,24,12935,23,12942,null,null,0,1222]
[21,13055,21,13062,11,13070,21,13092,null,null,0,2212]
[21,13186,21,13194,11,13203,21,13220,null,null,0,2212]
[21,13312,12,13336,24,13359,23,13366,null,null,0,2122]
[21,13471,21,13480,11,13502,21,13517,null,null,0,2212]
[12,13625,23,13655,24,13668,23,13675,null,null,0,1222]
[21,13776,21,13782,11,13797,21,13805,null,null,0,2212]
[21,13895,21,13909,11,13920,21,13942,null,null,0,2212]
[21,14046,21,14064,11,14073,21,14095,null,null,0,2212]
[21,14196,21,14210,11,14219,21,14258,null,null,0,2212]
[21,14349,12,14381,24,14389,23,14396,null,null,0,2122]
[21,14498,21,14514,11,14522,12,14545,null,null,0,2211]
[21,14656,21,14673,11,14681,21,14689,null,null,0,2212]
[21,14799,12,14814,24,14844,23,14865,null,null,0,2122]
[21,14975,21,14980,22,14991,14,15000,null,null,0,2221]
[21,15099,21,15114,11,15135,21,15167,null,null,0,2212]
[21,15264,21,15283,11,15292,21,15302,null,null,0,2212]
[21,15400,21,15408,22,15432,23,15474,null,null,0,2222]
[21,15584,12,15603,24,15612,23,15661,null,null,0,2122]
[21,15760,12,15785,24,15817,23,15838,null,null,0,2122]
[21,15947,12,15965,24,15980,23,15988,null,null,0,2122]
[21,16094,12,16118,24,16126,23,16135,null,null,0,2122]
[21,16240,21,16247,22,16255,23,16269,null,null,0,2222]
[21,16382,21,16398,11,16407,21,16449,null,null,0,2212]
[21,16546,21,16553,11,16574,21,16611,null,null,0,2212]
[21,16705,12,16721,24,16728,23,16758,null,null,0,2122]
[21,16867,21,16873,22,16881,23,16890,null,null,0,2222]
[21,16994,21,17001,22,17008,14,17016,null,null,0,2221]
[21,17119,21,17125,22,17132,14,17141,null,null,0,2221]
[21,17254,12,17265,24,17273,23,17307,null,null,0,2122]
[21,17405,21,17416,22,17425,23,17436,null,null,0,2222]
[21,17536,21,17544,22,17556,14,17564,null,null,0,2221]
[21,17671,21,17679,22,17687,14,17704,null,null,0,2221]
[21,17838,12,17848,24,17872,23,17903,null,null,0,2122]
[21,18008,21,18021,11,18041,21,18057,null,null,0,2212]
[21,18236,21,18271,22,18279,23,18300,null,null,0,2222]
[21,18401,21,18418,22,18426,14,18435,null,null,0,2221]
[21,18566,12,18574,24,18621,23,18629,null,null,0,2122]
[21,18742,21,18748,11,18757,21,18773,null,null,0,2212]
[21,18872,21,18883,22,18891,14,18901,null,null,0,2221]
[21,19006,12,19034,24,19053,23,19061,null,null,0,2122]
[21,19176,21,19188,22,19195,14,19203,null,null,0,2221]
[21,19307,21,19313,22,19322,14,19331,null,null,0,2221]
[21,19444,21,19456,11,19465,21,19488,null,null,0,2212]
[21,19588,12,19609,24,19618,23,19626,null,null,0,2122]
[21,19736,21,19744,11,19766,21,19793,null,null,0,2212]
[21,19899,12,19908,24,19924,23,19946,null,null,0,2122]
[21,20051,12,20084,24,20107,23,20128,null,null,0,2122]
[21,20257,21,20275,11,20284,21,20318,null,null,0,2212]
[21,20412,12,20431,24,20462,23,20470,null,null,0,2122]
[12,20604,23,20616,24,20638,23,20646,null,null,0,1222]
[21,20752,21,20768,11,20777,21,20816,null,null,0,2212]
[21,20910,21,20915,22,20928,14,20936,null,null,0,2221]
[12,21055,23,21080,24,21089,23,21096,null,null,0,1222]
[12,21214,14,21234,24,21253,23,21277,null,null,0,1122]
[12,21415,23,21431,24,21439,23,21449,null,null,0,1222]
[21,21579,21,21590,11,21598,21,21607,null,null,0,2212]
[21,21713,12,21733,24,21744,23,21759,null,null,0,2122]
[21,21891,12,21907,24,21941,23,21948,null,null,0,2122]
[21,22054,21,22066,11,22075,21,22089,null,null,1,2212]

{"sheet":"!N118C50.095","index":20,"n_rows":136,"n_cols":48,"rows_kept":136,"cut":false,"hidden":false,"merged":[[4,39,4,42],[5,39,5,40],[4,44,4,47],[5,44,5,45],[4,24,4,27],[5,24,5,25],[4,29,4,32],[5,29,5,30],[4,34,4,37],[5,34,5,35],[1,1,1,2],[5,13,5,14],[26,13,26,14],[27,13,27,14],[4,19,4,22],[5,19,5,20]]}
["Report for:!N118C50.095"]
["Date:","<date>"]
["Hen:","<hen>",null,null,null,"Correct Sequence",{"$f":"Start!J2","v":2212},null,null,null,null,null,null,null,null,"Total Sequences in Data",{"$f":"4994-COUNTBLANK(L7:L5000)","v":130},null,null,null,null,"Total Sequences in Block Data",{"$f":"COUNTA(L7:L28)","v":22},null,null,null,"Total Sequences in Block Data",{"$f":"COUNTA(L29:L49)","v":21},null,null,null,"Total Sequences in Block Data",{"$f":"COUNTA(L50:L71)","v":22},null,null,null,"Total Sequences in Block Data",{"$f":"COUNTA(L72:L93)","v":22},null,null,null,"Total Sequences in Block Data",{"$f":"COUNTA(L94:L114)","v":21},null,null,null,"Total Sequences in Block Data",{"$f":"COUNTA(L115:L136)","v":22}]
[null,null,null,null,null,null,null,null,null,null,null,null,null,null,null,"Total Sequences in Summary",{"$f":"SUM(O7:O22)","v":129},null,null,null,null,"Total Sequences in Block Summary",{"$f":"SUM(U7:U22)","v":22},null,null,null,"Total Sequences in Block Summary",{"$f":"SUM(Z7:Z22)","v":21},null,null,null,"Total Sequences in Block Summary",{"$f":"SUM(AE7:AE22)","v":22},null,null,null,"Total Sequences in Block Summary",{"$f":"SUM(AJ7:AJ22)","v":22},null,null,null,"Total Sequences in Block Summary",{"$f":"SUM(AO7:AO22)","v":21},null,null,null,"Total Sequences in Block Summary",{"$f":"SUM(AT7:AT22)","v":21}]
[null,null,null,null,null,null,null,null,null,null,null,null,null,null,null,null,null,null,null,"Block 1",null,null,null,null,"Block 2",null,null,null,null,"Block 3",null,null,null,null,"Block 4",null,null,null,null,"Block 5",null,null,null,null,"Block 6"]
["Sequence\nComponent\n1","Time\n1","Sequence\nComponent\n2","Time\n2","Sequence\nComponent\n3","Time\n3","Sequence\nComponent\n4","Time\n4","Sequence\nComponent\n5","Time\n5","Correct?\n0=No 1=Yes","Sequence",null,"Frequency",null,"Relative Frequency","Variability",null,null,"Frequency",null,"Relative Frequency","Variability",null,"Frequency",null,"Relative Frequency","Variability",null,"Frequency",null,"Relative Frequency","Variability",null,"Frequency",null,"Relative Frequency","Variability",null,"Frequency",null,"Relative Frequency","Variability",null,"Frequency",null,"Relative Frequency","Variability"]
[12,82,23,133,24,142,14,168,null,null,0,1221,null,1111,{"$f":"COUNTIF($L$7:$L$500,N7)","v":0},{"$f":"O7/$Q$4","v":0},{"$f":"IF(P7=0,0,(P7*((LOG(P7))/LOG(2))))","v":0},null,null,{"$f":"N7","v":1111},{"$f":"COUNTIF(L7:L28,T7)","v":0},{"$f":"U7/(W4-U20)","v":0},{"$f":"IF(V7=0,0,(V7*((LOG(V7))/LOG(2))))","v":0},null,{"$f":"N7","v":1111},{"$f":"COUNTIF(L29:L49,Y7)","v":0},{"$f":"Z7/(AB4-Z20)","v":0},{"$f":"IF(AA7=0,0,(AA7*((LOG(AA7))/LOG(2))))","v":0},null,{"$f":"N7","v":1111},{"$f":"COUNTIF(L50:L71,AD7)","v":0},{"$f":"AE7/(AG4-AE20)","v":0},{"$f":"IF(AF7=0,0,(AF7*((LOG(AF7))/LOG(2))))","v":0},null,{"$f":"N7","v":1111},{"$f":"COUNTIF(L72:L93,AI7)","v":0},{"$f":"AJ7/(AL4-AJ20)","v":0},{"$f":"IF(AK7=0,0,(AK7*((LOG(AK7))/LOG(2))))","v":0},null,{"$f":"N7","v":1111},{"$f":"COUNTIF(L94:L114,AN7)","v":0},{"$f":"AO7/(AQ4-AO20)","v":0},{"$f":"IF(AP7=0,0,(AP7*((LOG(AP7))/LOG(2))))","v":0},null,{"$f":"N7","v":1111},{"$f":"COUNTIF(L115:L136,AS7)","v":0},{"$f":"AT7/(AV4-AT20)","v":0},{"$f":"IF(AU7=0,0,(AU7*((LOG(AU7))/LOG(2))))","v":0}]
[21,274,21,280,11,290,12,331,null,null,0,2211,null,1112,{"$f":"COUNTIF($L$7:$L$500,N8)","v":1},{"$f":"O8/$Q$4","v":7.7519379844961239E-3},{"$f":"IF(P8=0,0,(P8*((LOG(P8))/LOG(2))))","v":-5.435059887925002E-2},null,null,{"$f":"N8","v":1112},{"$f":"COUNTIF(L7:L28,T8)","v":1},{"$f":"U8/(W4-U20)","v":5.8823529411764705E-2},{"$f":"IF(V8=0,0,(V8*((LOG(V8))/LOG(2))))","v":-0.24043899066178465},null,{"$f":"N8","v":1112},{"$f":"COUNTIF(L29:L49,Y8)","v":0},{"$f":"Z8/(AB4-Z20)","v":0},{"$f":"IF(AA8=0,0,(AA8*((LOG(AA8))/LOG(2))))","v":0},null,{"$f":"N8","v":1112},{"$f":"COUNTIF(L50:L71,AD8)","v":0},{"$f":"AE8/(AG4-AE20)","v":0},{"$f":"IF(AF8=0,0,(AF8*((LOG(AF8))/LOG(2))))","v":0},null,{"$f":"N8","v":1112},{"$f":"COUNTIF(L72:L93,AI8)","v":0},{"$f":"AJ8/(AL4-AJ20)","v":0},{"$f":"IF(AK8=0,0,(AK8*((LOG(AK8))/LOG(2))))","v":0},null,{"$f":"N8","v":1112},{"$f":"COUNTIF(L94:L114,AN8)","v":0},{"$f":"AO8/(AQ4-AO20)","v":0},{"$f":"IF(AP8=0,0,(AP8*((LOG(AP8))/LOG(2))))","v":0},null,{"$f":"N8","v":1112},{"$f":"COUNTIF(L115:L136,AS8)","v":0},{"$f":"AT8/(AV4-AT20)","v":0},{"$f":"IF(AU8=0,0,(AU8*((LOG(AU8))/LOG(2))))","v":0}]
[21,435,21,443,11,451,21,460,null,null,0,2212,null,1121,{"$f":"COUNTIF($L$7:$L$500,N9)","v":2},{"$f":"O9/$Q$4","v":1.5503875968992248E-2},{"$f":"IF(P9=0,0,(P9*((LOG(P9))/LOG(2))))","v":-9.3197321789507806E-2},null,null,{"$f":"N9","v":1121},{"$f":"COUNTIF(L7:L28,T9)","v":2},{"$f":"U9/(W4-U20)","v":0.11764705882352941},{"$f":"IF(V9=0,0,(V9*((LOG(V9))/LOG(2))))","v":-0.36323092250003997},null,{"$f":"N9","v":1121},{"$f":"COUNTIF(L29:L49,Y9)","v":0},{"$f":"Z9/(AB4-Z20)","v":0},{"$f":"IF(AA9=0,0,(AA9*((LOG(AA9))/LOG(2))))","v":0},null,{"$f":"N9","v":1121},{"$f":"COUNTIF(L50:L71,AD9)","v":0},{"$f":"AE9/(AG4-AE20)","v":0},{"$f":"IF(AF9=0,0,(AF9*((LOG(AF9))/LOG(2))))","v":0},null,{"$f":"N9","v":1121},{"$f":"COUNTIF(L72:L93,AI9)","v":0},{"$f":"AJ9/(AL4-AJ20)","v":0},{"$f":"IF(AK9=0,0,(AK9*((LOG(AK9))/LOG(2))))","v":0},null,{"$f":"N9","v":1121},{"$f":"COUNTIF(L94:L114,AN9)","v":0},{"$f":"AO9/(AQ4-AO20)","v":0},{"$f":"IF(AP9=0,0,(AP9*((LOG(AP9))/LOG(2))))","v":0},null,{"$f":"N9","v":1121},{"$f":"COUNTIF(L115:L136,AS9)","v":0},{"$f":"AT9/(AV4-AT20)","v":0},{"$f":"IF(AU9=0,0,(AU9*((LOG(AU9))/LOG(2))))","v":0}]
[21,568,12,576,13,613,23,663,null,null,0,2112,null,1122,{"$f":"COUNTIF($L$7:$L$500,N10)","v":1},{"$f":"O10/$Q$4","v":7.7519379844961239E-3},{"$f":"IF(P10=0,0,(P10*((LOG(P10))/LOG(2))))","v":-5.435059887925002E-2},null,null,{"$f":"N10","v":1122},{"$f":"COUNTIF(L7:L28,T10)","v":1},{"$f":"U10/(W4-U20)","v":5.8823529411764705E-2},{"$f":"IF(V10=0,0,(V10*((LOG(V10))/LOG(2))))","v":-0.24043899066178465},null,{"$f":"N10","v":1122},{"$f":"COUNTIF(L29:L49,Y10)","v":0},{"$f":"Z10/(AB4-Z20)","v":0},{"$f":"IF(AA10=0,0,(AA10*((LOG(AA10))/LOG(2))))","v":0},null,{"$f":"N10","v":1122},{"$f":"COUNTIF(L50:L71,AD10)","v":0},{"$f":"AE10/(AG4-AE20)","v":0},{"$f":"IF(AF10=0,0,(AF10*((LOG(AF10))/LOG(2))))","v":0},null,{"$f":"N10","v":1122},{"$f":"COUNTIF(L72:L93,AI10)","v":0},{"$f":"AJ10/(AL4-AJ20)","v":0},{"$f":"IF(AK10=0,0,(AK10*((LOG(AK10))/LOG(2))))","v":0},null,{"$f":"N10","v":1122},{"$f":"COUNTIF(L94:L114,AN10)","v":0},{"$f":"AO10/(AQ4-AO20)","v":0},{"$f":"IF(AP10=0,0,(AP10*((LOG(AP10))/LOG(2))))","v":0},null,{"$f":"N10","v":1122},{"$f":"COUNTIF(L115:L136,AS10)","v":0},{"$f":"AT10/(AV4-AT20)","v":0},{"$f":"IF(AU10=0,0,(AU10*((LOG(AU10))/LOG(2))))","v":0}]
[12,802,23,811,13,890,23,917,null,null,0,1212,null,1211,{"$f":"COUNTIF($L$7:$L$500,N11)","v":1},{"$f":"O11/$Q$4","v":7.7519379844961239E-3},{"$f":"IF(P11=0,0,(P11*((LOG(P11))/LOG(2))))","v":-5.435059887925002E-2},null,null,{"$f":"N11","v":1211},{"$f":"COUNTIF(L7:L28,T11)","v":1},{"$f":"U11/(W4-U20)","v":5.8823529411764705E-2},{"$f":"IF(V11=0,0,(V11*((LOG(V11))/LOG(2))))","v":-0.24043899066178465},null,{"$f":"N11","v":1211},{"$f":"COUNTIF(L29:L49,Y11)","v":0},{"$f":"Z11/(AB4-Z20)","v":0},{"$f":"IF(AA11=0,0,(AA11*((LOG(AA11))/LOG(2))))","v":0},null,{"$f":"N11","v":1211},{"$f":"COUNTIF(L50:L71,AD11)","v":0},{"$f":"AE11/(AG4-AE20)","v":0},{"$f":"IF(AF11=0,0,(AF11*((LOG(AF11))/LOG(2))))","v":0},null,{"$f":"N11","v":1211},{"$f":"COUNTIF(L72:L93,AI11)","v":0},{"$f":"AJ11/(AL4-AJ20)","v":0},{"$f":"IF(AK11=0,0,(AK11*((LOG(AK11))/LOG(2))))","v":0},null,{"$f":"N11","v":1211},{"$f":"COUNTIF(L94:L114,AN11)","v":0},{"$f":"AO11/(AQ4-AO20)","v":0},{"$f":"IF(AP11=0,0,(AP11*((LOG(AP11))/LOG(2))))","v":0},null,{"$f":"N11","v":1211},{"$f":"COUNTIF(L115:L136,AS11)","v":0},{"$f":"AT11/(AV4-AT20)","v":0},{"$f":"IF(AU11=0,0,(AU11*((LOG(AU11))/LOG(2))))","v":0}]
[12,1047,23,1055,24,1064,23,1079,null,null,0,1222,null,1212,{"$f":"COUNTIF($L$7:$L$500,N12)","v":2},{"$f":"O12/$Q$4","v":1.5503875968992248E-2},{"$f":"IF(P12=0,0,(P12*((LOG(P12))/LOG(2))))","v":-9.3197321789507806E-2},null,null,{"$f":"N12","v":1212},{"$f":"COUNTIF(L7:L28,T12)","v":2},{"$f":"U12/(W4-U20)","v":0.11764705882352941},{"$f":"IF(V12=0,0,(V12*((LOG(V12))/LOG(2))))","v":-0.36323092250003997},null,{"$f":"N12","v":1212},{"$f":"COUNTIF(L29:L49,Y12)","v":0},{"$f":"Z12/(AB4-Z20)","v":0},{"$f":"IF(AA12=0,0,(AA12*((LOG(AA12))/LOG(2))))","v":0},null,{"$f":"N12","v":1212},{"$f":"COUNTIF(L50:L71,AD12)","v":0},{"$f":"AE12/(AG4-AE20)","v":0},{"$f":"IF(AF12=0,0,(AF12*((LOG(AF12))/LOG(2))))","v":0},null,{"$f":"N12","v":1212},{"$f":"COUNTIF(L72:L93,AI12)","v":0},{"$f":"AJ12/(AL4-AJ20)","v":0},{"$f":"IF(AK12=0,0,(AK12*((LOG(AK12))/LOG(2))))","v":0},null,{"$f":"N12","v":1212},{"$f":"COUNTIF(L94:L114,AN12)","v":0},{"$f":"AO12/(AQ4-AO20)","v":0},{"$f":"IF(AP12=0,0,(AP12*((LOG(AP12))/LOG(2))))","v":0},null,{"$f":"N12","v":1212},{"$f":"COUNTIF(L115:L136,AS12)","v":0},{"$f":"AT12/(AV4-AT20)","v":0},{"$f":"IF(AU12=0,0,(AU12*((LOG(AU12))/LOG(2))))","v":0}]
[21,1196,12,1206,13,1223,23,1241,null,null,0,2112,null,1221,{"$f":"COUNTIF($L$7:$L$500,N13)","v":5},{"$f":"O13/$Q$4","v":3.875968992248062E-2},{"$f":"IF(P13=0,0,(P13*((LOG(P13))/LOG(2))))","v":-0.18175578141611984},null,null,{"$f":"N13","v":1221},{"$f":"COUNTIF(L7:L28,T13)","v":1},{"$f":"U13/(W4-U20)","v":5.8823529411764705E-2},{"$f":"IF(V13=0,0,(V13*((LOG(V13))/LOG(2))))","v":-0.24043899066178465},null,{"$f":"N13","v":1221},{"$f":"COUNTIF(L29:L49,Y13)","v":0},{"$f":"Z13/(AB4-Z20)","v":0},{"$f":"IF(AA13=0,0,(AA13*((LOG(AA13))/LOG(2))))","v":0},null,{"$f":"N13","v":1221},{"$f":"COUNTIF(L50:L71,AD13)","v":1},{"$f":"AE13/(AG4-AE20)","v":6.25E-2},{"$f":"IF(AF13=0,0,(AF13*((LOG(AF13))/LOG(2))))","v":-0.25},null,{"$f":"N13","v":1221},{"$f":"COUNTIF(L72:L93,AI13)","v":1},{"$f":"AJ13/(AL4-AJ20)","v":6.25E-2},{"$f":"IF(AK13=0,0,(AK13*((LOG(AK13))/LOG(2))))","v":-0.25},null,{"$f":"N13","v":1221},{"$f":"COUNTIF(L94:L114,AN13)","v":1},{"$f":"AO13/(AQ4-AO20)","v":6.6666666666666666E-2},{"$f":"IF(AP13=0,0,(AP13*((LOG(AP13))/LOG(2))))","v":-0.26045937304056793},null,{"$f":"N13","v":1221},{"$f":"COUNTIF(L115:L136,AS13)","v":1},{"$f":"AT13/(AV4-AT20)","v":7.1428571428571425E-2},{"$f":"IF(AU13=0,0,(AU13*((LOG(AU13))/LOG(2))))","v":-0.27195392300411453}]
[21,1358,12,1367,13,1406,23,1414,null,null,0,2112,null,1222,{"$f":"COUNTIF($L$7:$L$500,N14)","v":14},{"$f":"O14/$Q$4","v":0.10852713178294573},{"$f":"IF(P14=0,0,(P14*((LOG(P14))/LOG(2))))","v":-0.34770707493890779},null,null,{"$f":"N14","v":1222},{"$f":"COUNTIF(L7:L28,T14)","v":1},{"$f":"U14/(W4-U20)","v":5.8823529411764705E-2},{"$f":"IF(V14=0,0,(V14*((LOG(V14))/LOG(2))))","v":-0.24043899066178465},null,{"$f":"N14","v":1222},{"$f":"COUNTIF(L29:L49,Y14)","v":4},{"$f":"Z14/(AB4-Z20)","v":0.26666666666666666},{"$f":"IF(AA14=0,0,(AA14*((LOG(AA14))/LOG(2))))","v":-0.50850415882893829},null,{"$f":"N14","v":1222},{"$f":"COUNTIF(L50:L71,AD14)","v":2},{"$f":"AE14/(AG4-AE20)","v":0.125},{"$f":"IF(AF14=0,0,(AF14*((LOG(AF14))/LOG(2))))","v":-0.375},null,{"$f":"N14","v":1222},{"$f":"COUNTIF(L72:L93,AI14)","v":3},{"$f":"AJ14/(AL4-AJ20)","v":0.1875},{"$f":"IF(AK14=0,0,(AK14*((LOG(AK14))/LOG(2))))","v":-0.45281953111478312},null,{"$f":"N14","v":1222},{"$f":"COUNTIF(L94:L114,AN14)","v":2},{"$f":"AO14/(AQ4-AO20)","v":0.13333333333333333},{"$f":"IF(AP14=0,0,(AP14*((LOG(AP14))/LOG(2))))","v":-0.3875854127478025},null,{"$f":"N14","v":1222},{"$f":"COUNTIF(L115:L136,AS14)","v":2},{"$f":"AT14/(AV4-AT20)","v":0.14285714285714285},{"$f":"IF(AU14=0,0,(AU14*((LOG(AU14))/LOG(2))))","v":-0.40105070315108626}]
[12,1546,14,1594,24,1612,14,1633,null,null,0,1121,null,2111,{"$f":"COUNTIF($L$7:$L$500,N15)","v":0},{"$f":"O15/$Q$4","v":0},{"$f":"IF(P15=0,0,(P15*((LOG(P15))/LOG(2))))","v":0},null,null,{"$f":"N15","v":2111},{"$f":"COUNTIF(L7:L28,T15)","v":0},{"$f":"U15/(W4-U20)","v":0},{"$f":"IF(V15=0,0,(V15*((LOG(V15))/LOG(2))))","v":0},null,{"$f":"N15","v":2111},{"$f":"COUNTIF(L29:L49,Y15)","v":0},{"$f":"Z15/(AB4-Z20)","v":0},{"$f":"IF(AA15=0,0,(AA15*((LOG(AA15))/LOG(2))))","v":0},null,{"$f":"N15","v":2111},{"$f":"COUNTIF(L50:L71,AD15)","v":0},{"$f":"AE15/(AG4-AE20)","v":0},{"$f":"IF(AF15=0,0,(AF15*((LOG(AF15))/LOG(2))))","v":0},null,{"$f":"N15","v":2111},{"$f":"COUNTIF(L72:L93,AI15)","v":0},{"$f":"AJ15/(AL4-AJ20)","v":0},{"$f":"IF(AK15=0,0,(AK15*((LOG(AK15))/LOG(2))))","v":0},null,{"$f":"N15","v":2111},{"$f":"COUNTIF(L94:L114,AN15)","v":0},{"$f":"AO15/(AQ4-AO20)","v":0},{"$f":"IF(AP15=0,0,(AP15*((LOG(AP15))/LOG(2))))","v":0},null,{"$f":"N15","v":2111},{"$f":"COUNTIF(L115:L136,AS15)","v":0},{"$f":"AT15/(AV4-AT20)","v":0},{"$f":"IF(AU15=0,0,(AU15*((LOG(AU15))/LOG(2))))","v":0}]
[12,1762,14,1778,24,1786,23,1819,null,null,0,1122,null,2112,{"$f":"COUNTIF($L$7:$L$500,N16)","v":7},{"$f":"O16/$Q$4","v":5.4263565891472867E-2},{"$f":"IF(P16=0,0,(P16*((LOG(P16))/LOG(2))))","v":-0.22811710336092675},null,null,{"$f":"N16","v":2112},{"$f":"COUNTIF(L7:L28,T16)","v":4},{"$f":"U16/(W4-U20)","v":0.23529411764705882},{"$f":"IF(V16=0,0,(V16*((LOG(V16))/LOG(2))))","v":-0.49116772735302094},null,{"$f":"N16","v":2112},{"$f":"COUNTIF(L29:L49,Y16)","v":1},{"$f":"Z16/(AB4-Z20)","v":6.6666666666666666E-2},{"$f":"IF(AA16=0,0,(AA16*((LOG(AA16))/LOG(2))))","v":-0.26045937304056793},null,{"$f":"N16","v":2112},{"$f":"COUNTIF(L50:L71,AD16)","v":2},{"$f":"AE16/(AG4-AE20)","v":0.125},{"$f":"IF(AF16=0,0,(AF16*((LOG(AF16))/LOG(2))))","v":-0.375},null,{"$f":"N16","v":2112},{"$f":"COUNTIF(L72:L93,AI16)","v":0},{"$f":"AJ16/(AL4-AJ20)","v":0},{"$f":"IF(AK16=0,0,(AK16*((LOG(AK16))/LOG(2))))","v":0},null,{"$f":"N16","v":2112},{"$f":"COUNTIF(L94:L114,AN16)","v":0},{"$f":"AO16/(AQ4-AO20)","v":0},{"$f":"IF(AP16=0,0,(AP16*((LOG(AP16))/LOG(2))))","v":0},null,{"$f":"N16","v":2112},{"$f":"COUNTIF(L115:L136,AS16)","v":0},{"$f":"AT16/(AV4-AT20)","v":0},{"$f":"IF(AU16=0,0,(AU16*((LOG(AU16))/LOG(2))))","v":0}]
[12,1936,23,1941,13,1949,14,1979,null,null,0,1211,null,2121,{"$f":"COUNTIF($L$7:$L$500,N17)","v":5},{"$f":"O17/$Q$4","v":3.875968992248062E-2},{"$f":"IF(P17=0,0,(P17*((LOG(P17))/LOG(2))))","v":-0.18175578141611984},null,null,{"$f":"N17","v":2121},{"$f":"COUNTIF(L7:L28,T17)","v":1},{"$f":"U17/(W4-U20)","v":5.8823529411764705E-2},{"$f":"IF(V17=0,0,(V17*((LOG(V17))/LOG(2))))","v":-0.24043899066178465},null,{"$f":"N17","v":2121},{"$f":"COUNTIF(L29:L49,Y17)","v":2},{"$f":"Z17/(AB4-Z20)","v":0.13333333333333333},{"$f":"IF(AA17=0,0,(AA17*((LOG(AA17))/LOG(2))))","v":-0.3875854127478025},null,{"$f":"N17","v":2121},{"$f":"COUNTIF(L50:L71,AD17)","v":0},{"$f":"AE17/(AG4-AE20)","v":0},{"$f":"IF(AF17=0,0,(AF17*((LOG(AF17))/LOG(2))))","v":0},null,{"$f":"N17","v":2121},{"$f":"COUNTIF(L72:L93,AI17)","v":0},{"$f":"AJ17/(AL4-AJ20)","v":0},{"$f":"IF(AK17=0,0,(AK17*((LOG(AK17))/LOG(2))))","v":0},null,{"$f":"N17","v":2121},{"$f":"COUNTIF(L94:L114,AN17)","v":1},{"$f":"AO17/(AQ4-AO20)","v":6.6666666666666666E-2},{"$f":"IF(AP17=0,0,(AP17*((LOG(AP17))/LOG(2))))","v":-0.26045937304056793},null,{"$f":"N17","v":2121},{"$f":"COUNTIF(L115:L136,AS17)","v":1},{"$f":"AT17/(AV4-AT20)","v":7.1428571428571425E-2},{"$f":"IF(AU17=0,0,(AU17*((LOG(AU17))/LOG(2))))","v":-0.27195392300411453}]
[12,2107,14,2127,24,2165,14,2188,null,null,0,1121,null,2122,{"$f":"COUNTIF($L$7:$L$500,N18)","v":35},{"$f":"O18/$Q$4","v":0.27131782945736432},{"$f":"IF(P18=0,0,(P18*((LOG(P18))/LOG(2))))","v":-0.51060502594372137},null,null,{"$f":"N18","v":2122},{"$f":"COUNTIF(L7:L28,T18)","v":0},{"$f":"U18/(W4-U20)","v":0},{"$f":"IF(V18=0,0,(V18*((LOG(V18))/LOG(2))))","v":0},null,{"$f":"N18","v":2122},{"$f":"COUNTIF(L29:L49,Y18)","v":7},{"$f":"Z18/(AB4-Z20)","v":0.46666666666666667},{"$f":"IF(AA18=0,0,(AA18*((LOG(AA18))/LOG(2))))","v":-0.51311664765709342},null,{"$f":"N18","v":2122},{"$f":"COUNTIF(L50:L71,AD18)","v":7},{"$f":"AE18/(AG4-AE20)","v":0.4375},{"$f":"IF(AF18=0,0,(AF18*((LOG(AF18))/LOG(2))))","v":-0.52178222159979815},null,{"$f":"N18","v":2122},{"$f":"COUNTIF(L72:L93,AI18)","v":7},{"$f":"AJ18/(AL4-AJ20)","v":0.4375},{"$f":"IF(AK18=0,0,(AK18*((LOG(AK18))/LOG(2))))","v":-0.52178222159979815},null,{"$f":"N18","v":2122},{"$f":"COUNTIF(L94:L114,AN18)","v":7},{"$f":"AO18/(AQ4-AO20)","v":0.46666666666666667},{"$f":"IF(AP18=0,0,(AP18*((LOG(AP18))/LOG(2))))","v":-0.51311664765709342},null,{"$f":"N18","v":2122},{"$f":"COUNTIF(L115:L136,AS18)","v":7},{"$f":"AT18/(AV4-AT20)","v":0.5},{"$f":"IF(AU18=0,0,(AU18*((LOG(AU18))/LOG(2))))","v":-0.5}]
[21,2293,21,2311,11,2318,12,2343,null,null,0,2211,null,2211,{"$f":"COUNTIF($L$7:$L$500,N19)","v":3},{"$f":"O19/$Q$4","v":2.3255813953488372E-2},{"$f":"IF(P19=0,0,(P19*((LOG(P19))/LOG(2))))","v":-0.12619220359772321},null,null,{"$f":"N19","v":2211},{"$f":"COUNTIF(L7:L28,T19)","v":2},{"$f":"U19/(W4-U20)","v":0.11764705882352941},{"$f":"IF(V19=0,0,(V19*((LOG(V19))/LOG(2))))","v":-0.36323092250003997},null,{"$f":"N19","v":2211},{"$f":"COUNTIF(L29:L49,Y19)","v":0},{"$f":"Z19/(AB4-Z20)","v":0},{"$f":"IF(AA19=0,0,(AA19*((LOG(AA19))/LOG(2))))","v":0},null,{"$f":"N19","v":2211},{"$f":"COUNTIF(L50:L71,AD19)","v":0},{"$f":"AE19/(AG4-AE20)","v":0},{"$f":"IF(AF19=0,0,(AF19*((LOG(AF19))/LOG(2))))","v":0},null,{"$f":"N19","v":2211},{"$f":"COUNTIF(L72:L93,AI19)","v":0},{"$f":"AJ19/(AL4-AJ20)","v":0},{"$f":"IF(AK19=0,0,(AK19*((LOG(AK19))/LOG(2))))","v":0},null,{"$f":"N19","v":2211},{"$f":"COUNTIF(L94:L114,AN19)","v":0},{"$f":"AO19/(AQ4-AO20)","v":0},{"$f":"IF(AP19=0,0,(AP19*((LOG(AP19))/LOG(2))))","v":0},null,{"$f":"N19","v":2211},{"$f":"COUNTIF(L115:L136,AS19)","v":1},{"$f":"AT19/(AV4-AT20)","v":7.1428571428571425E-2},{"$f":"IF(AU19=0,0,(AU19*((LOG(AU19))/LOG(2))))","v":-0.27195392300411453}]
[21,2444,21,2462,11,2483,21,2499,null,null,0,2212,null,2212,{"$f":"COUNTIF($L$7:$L$500,N20)","v":36},{"$f":"O20/$Q$4","v":0.27906976744186046},{"$f":"IF(P20=0,0,(P20*((LOG(P20))/LOG(2))))","v":-0.51385179180863494},null,null,{"$f":"N20","v":2212},{"$f":"COUNTIF(L7:L28,T20)","v":5},null,null,null,{"$f":"N20","v":2212},{"$f":"COUNTIF(L29:L49,Y20)","v":6},null,null,null,{"$f":"N20","v":2212},{"$f":"COUNTIF(L50:L71,AD20)","v":6},null,null,null,{"$f":"N20","v":2212},{"$f":"COUNTIF(L72:L93,AI20)","v":6},null,null,null,{"$f":"N20","v":2212},{"$f":"COUNTIF(L94:L114,AN20)","v":6},null,null,null,{"$f":"N20","v":2212},{"$f":"COUNTIF(L115:L136,AS20)","v":7}]
[12,2613,14,2629,13,2674,23,2683,null,null,0,1112,null,2221,{"$f":"COUNTIF($L$7:$L$500,N21)","v":10},{"$f":"O21/$Q$4","v":7.7519379844961239E-2},{"$f":"IF(P21=0,0,(P21*((LOG(P21))/LOG(2))))","v":-0.28599218298727841},null,null,{"$f":"N21","v":2221},{"$f":"COUNTIF(L7:L28,T21)","v":1},{"$f":"U21/(W4-U20)","v":5.8823529411764705E-2},{"$f":"IF(V21=0,0,(V21*((LOG(V21))/LOG(2))))","v":-0.24043899066178465},null,{"$f":"N21","v":2221},{"$f":"COUNTIF(L29:L49,Y21)","v":1},{"$f":"Z21/(AB4-Z20)","v":6.6666666666666666E-2},{"$f":"IF(AA21=0,0,(AA21*((LOG(AA21))/LOG(2))))","v":-0.26045937304056793},null,{"$f":"N21","v":2221},{"$f":"COUNTIF(L50:L71,AD21)","v":2},{"$f":"AE21/(AG4-AE20)","v":0.125},{"$f":"IF(AF21=0,0,(AF21*((LOG(AF21))/LOG(2))))","v":-0.375},null,{"$f":"N21","v":2221},{"$f":"COUNTIF(L72:L93,AI21)","v":4},{"$f":"AJ21/(AL4-AJ20)","v":0.25},{"$f":"IF(AK21=0,0,(AK21*((LOG(AK21))/LOG(2))))","v":-0.5},null,{"$f":"N21","v":2221},{"$f":"COUNTIF(L94:L114,AN21)","v":1},{"$f":"AO21/(AQ4-AO20)","v":6.6666666666666666E-2},{"$f":"IF(AP21=0,0,(AP21*((LOG(AP21))/LOG(2))))","v":-0.26045937304056793},null,{"$f":"N21","v":2221},{"$f":"COUNTIF(L115:L136,AS21)","v":1},{"$f":"AT21/(AV4-AT20)","v":7.1428571428571425E-2},{"$f":"IF(AU21=0,0,(AU21*((LOG(AU21))/LOG(2))))","v":-0.27195392300411453}]
[12,2808,23,2816,13,2824,23,2848,null,null,0,1212,null,2222,{"$f":"COUNTIF($L$7:$L$500,N22)","v":7},{"$f":"O22/$Q$4","v":5.4263565891472867E-2},{"$f":"IF(P22=0,0,(P22*((LOG(P22))/LOG(2))))","v":-0.22811710336092675},null,null,{"$f":"N22","v":2222},{"$f":"COUNTIF(L7:L28,T22)","v":0},{"$f":"U22/(W4-U20)","v":0},{"$f":"IF(V22=0,0,(V22*((LOG(V22))/LOG(2))))","v":0},null,{"$f":"N22","v":2222},{"$f":"COUNTIF(L29:L49,Y22)","v":0},{"$f":"Z22/(AB4-Z20)","v":0},{"$f":"IF(AA22=0,0,(AA22*((LOG(AA22))/LOG(2))))","v":0},null,{"$f":"N22","v":2222},{"$f":"COUNTIF(L50:L71,AD22)","v":2},{"$f":"AE22/(AG4-AE20)","v":0.125},{"$f":"IF(AF22=0,0,(AF22*((LOG(AF22))/LOG(2))))","v":-0.375},null,{"$f":"N22","v":2222},{"$f":"COUNTIF(L72:L93,AI22)","v":1},{"$f":"AJ22/(AL4-AJ20)","v":6.25E-2},{"$f":"IF(AK22=0,0,(AK22*((LOG(AK22))/LOG(2))))","v":-0.25},null,{"$f":"N22","v":2222},{"$f":"COUNTIF(L94:L114,AN22)","v":3},{"$f":"AO22/(AQ4-AO20)","v":0.2},{"$f":"IF(AP22=0,0,(AP22*((LOG(AP22))/LOG(2))))","v":-0.46438561897747244},null,{"$f":"N22","v":2222},{"$f":"COUNTIF(L115:L136,AS22)","v":1},{"$f":"AT22/(AV4-AT20)","v":7.1428571428571425E-2},{"$f":"IF(AU22=0,0,(AU22*((LOG(AU22))/LOG(2))))","v":-0.27195392300411453}]
[21,2957,21,2977,11,2998,21,3023,null,null,0,2212,null,null,null,{"$f":"SUM(P7:P22)","v":1},{"$f":"-SUM(Q7:Q22)","v":2.9535404890471249},null,null,null,null,{"$f":"SUM(V7:V22)","v":1},{"$f":"-SUM(W7:W22)","v":3.2639334294856339},null,null,null,{"$f":"SUM(AA7:AA22)","v":1},{"$f":"-SUM(AB7:AB22)","v":1.9301249653149701},null,null,null,{"$f":"SUM(AF7:AF22)","v":1},{"$f":"-SUM(AG7:AG22)","v":2.271782221599798},null,null,null,{"$f":"SUM(AK7:AK22)","v":1},{"$f":"-SUM(AL7:AL22)","v":1.9746017527145812},null,null,null,{"$f":"SUM(AP7:AP22)","v":1},{"$f":"-SUM(AQ7:AQ22)","v":2.1464657985040723},null,null,null,{"$f":"SUM(AU7:AU22)","v":0.99999999999999989},{"$f":"-SUM(AV7:AV22)","v":2.2608203181716591}]
[21,3120,12,3156,24,3223,14,3250,null,null,0,2121,null,null,null,"U=",{"$f":"Q23/(LOG(Q4)/LOG(2))","v":0.42125870142955818},null,null,null,null,"U1=",{"$f":"W23/(LOG(W4)/LOG(2))","v":0.7319169142194446},null,null,null,"U2=",{"$f":"AB23/(LOG(AB4)/LOG(2))","v":0.43943203086945698},null,null,null,"U3=",{"$f":"AG23/(LOG(AG4)/LOG(2))","v":0.50943313316103811},null,null,null,"U4=",{"$f":"AL23/(LOG(AL4)/LOG(2))","v":0.44279224833544489},null,null,null,"U5=",{"$f":"AQ23/(LOG(AQ4)/LOG(2))","v":0.48868640216492587},null,null,null,"U6=",{"$f":"AV23/(LOG(AV4)/LOG(2))","v":0.51472152409726601}]
[21,3355,21,3367,11,3376,21,3416,null,null,0,2212]
[21,3528,21,3543,11,3550,21,3589,null,null,0,2212]
[21,3714,12,3736,13,3801,23,3818,null,null,0,2112,null,"Total Target Seq"]
[21,3933,21,3950,22,3962,14,3971,null,null,0,2221,null,{"$f":"COUNTIF(L7:L136,G3)","v":36},null,22,21,22,22,21,22]
[12,4121,23,4155,24,4190,23,4198,null,null,0,1222,null,null,null,"% of reinforcement given in 6 equal intervals based on number of trials "]
[21,4321,21,4343,11,4351,21,4369,null,null,0,2212,null,null,null,"%_1","%_2","%_3","%_4","%_5","%_6"]
[21,4507,12,4515,24,4561,23,4575,null,null,0,2122,null,null,"target sequence",{"$f":"$G$3","v":2212},{"$f":"$G$3","v":2212},{"$f":"$G$3","v":2212},{"$f":"$G$3","v":2212},{"$f":"$G$3","v":2212},{"$f":"$G$3","v":2212}]
[21,4693,12,4712,24,4760,23,4788,null,null,0,2122,null,null,"total reinforcement",{"$f":"U20","v":5},{"$f":"Z20","v":6},{"$f":"AE20","v":6},{"$f":"AJ20","v":6},{"$f":"AO20","v":6},{"$f":"AT20","v":7}]
[12,4941,23,4958,24,4973,23,4982,null,null,0,1222,null,null,"% target"]
[21,5130,12,5139,24,5159,23,5174,null,null,0,2122,null,null,"CCRF"]
[21,5282,21,5293,11,5316,21,5340,null,null,0,2212,null,null,"% CCRf"]
[21,5464,21,5479,11,5499,21,5533,null,null,0,2212,null,null,"average response rate",{"$f":"H28/P28","v":180.5},{"$f":"(H49-H28)/Q28","v":181.28571428571428},{"$f":"(H71-H49)/R28","v":167},{"$f":"(H93-H71)/S28","v":162.86363636363637},{"$f":"(H114-H93)/T28","v":166.85714285714286},{"$f":"(H136-H114)/U28","v":-842.68181818181813}]
[21,5656,21,5668,11,5676,21,5685,null,null,0,2212]
[21,5787,12,5816,24,5870,14,5905,null,null,0,2121]
[21,6011,12,6028,24,6036,14,6044,null,null,0,2121]
[12,6180,23,6218,24,6256,23,6264,null,null,0,1222]
[21,6392,12,6400,24,6415,23,6443,null,null,0,2122]
[21,6544,21,6559,11,6587,21,6602,null,null,0,2212]
[21,6696,21,6703,11,6726,21,6744,null,null,0,2212]
[21,6842,12,6863,24,6906,23,6920,null,null,0,2122]
[12,7051,23,7062,24,7070,23,7092,null,null,0,1222]
[21,7204,12,7228,24,7243,23,7288,null,null,0,2122]
[21,7417,12,7425,24,7455,23,7463,null,null,0,2122]
[21,7573,12,7593,13,7610,23,7641,null,null,0,2112]
[21,7745,21,7752,22,7759,14,7778,null,null,0,2221]
[12,7907,23,7916,24,7937,23,7946,null,null,0,1222]
[21,8069,21,8080,11,8087,21,8125,null,null,0,2212]
[21,8227,12,8254,24,8270,23,8285,null,null,0,2122]
[21,8407,12,8426,24,8435,23,8489,null,null,0,2122]
[21,8606,21,8632,11,8639,21,8671,null,null,0,2212]
[12,8815,23,8870,24,8921,14,8929,null,null,0,1221]
[21,9076,12,9083,24,9116,23,9123,null,null,0,2122]
[21,9225,21,9244,11,9261,21,9284,null,null,0,2212]
[21,9387,12,9413,24,9421,23,9428,null,null,0,2122]
[21,9556,12,9574,24,9598,23,9613,null,null,0,2122]
[21,9736,12,9743,24,9759,23,9773,null,null,0,2122]
[21,9889,21,9896,22,9904,14,9912,null,null,0,2221]
[21,10037,12,10044,13,10064,23,10088,null,null,0,2112]
[21,10199,21,10206,22,10214,23,10227,null,null,0,2222]
[21,10329,21,10348,11,10356,21,10364,null,null,0,2212]
[12,10478,23,10508,24,10515,23,10523,null,null,0,1222]
[21,10624,21,10632,22,10641,14,10649,null,null,0,2221]
[21,10767,21,10782,11,10790,21,10818,null,null,0,2212]
[21,10916,12,10923,13,10940,23,10978,null,null,0,2112]
[21,11084,21,11103,11,11110,21,11117,null,null,0,2212]
[21,11253,21,11263,22,11285,23,11294,null,null,0,2222]
[21,11429,12,11437,24,11445,23,11452,null,null,0,2122]
[21,11562,21,11574,11,11582,21,11590,null,null,0,2212]
[12,11712,23,11755,24,11770,14,11817,null,null,0,1221]
[21,11920,21,11927,22,11945,14,11952,null,null,0,2221]
[21,12062,21,12081,11,12089,21,12116,null,null,0,2212]
[21,12240,12,12248,24,12271,23,12292,null,null,0,2122]
[21,12418,12,12426,24,12434,23,12448,null,null,0,2122]
[21,12652,12,12671,24,12727,23,12742,null,null,0,2122]
[21,12851,21,12862,11,12869,21,12878,null,null,0,2212]
[21,12975,12,12994,24,13010,23,13017,null,null,0,2122]
[12,13144,23,13162,24,13171,23,13179,null,null,0,1222]
[12,13308,23,13316,24,13337,23,13344,null,null,0,1222]
[21,13458,12,13466,24,13489,23,13497,null,null,0,2122]
[12,13645,23,13653,24,13669,23,13684,null,null,0,1222]
[21,13801,12,13808,24,13832,23,13840,null,null,0,2122]
[21,13959,21,13967,11,13974,21,13983,null,null,0,2212]
[21,14082,21,14104,22,14118,14,14126,null,null,0,2221]
[21,14233,12,14272,24,14304,23,14318,null,null,0,2122]
[21,14427,21,14434,22,14447,14,14455,null,null,0,2221]
[21,14570,21,14588,11,14595,21,14617,null,null,0,2212]
[21,14716,21,14734,22,14749,23,14756,null,null,0,2222]
[21,14877,21,14894,11,14902,21,14911,null,null,0,2212]
[21,15005,21,15015,22,15027,14,15035,null,null,0,2221]
[21,15149,21,15157,22,15166,23,15177,null,null,0,2222]
[12,15298,23,15328,24,15337,23,15359,null,null,0,1222]
[21,15493,12,15501,24,15525,23,15533,null,null,0,2122]
[21,15636,12,15659,24,15667,23,15682,null,null,0,2122]
[21,15817,12,15825,24,15834,23,15864,null,null,0,2122]
[21,15966,21,15981,22,16004,23,16019,null,null,0,2222]
[21,16140,21,16151,11,16160,21,16169,null,null,0,2212]
[21,16270,21,16302,22,16325,23,16337,null,null,0,2222]
[21,16456,12,16464,24,16503,23,16524,null,null,0,2122]
[21,16629,21,16656,22,16671,14,16680,null,null,0,2221]
[21,16789,21,16810,11,16834,21,16869,null,null,0,2212]
[21,16991,21,17008,11,17016,21,17038,null,null,0,2212]
[12,17158,23,17166,24,17181,14,17240,null,null,0,1221]
[21,17369,12,17378,24,17386,23,17415,null,null,0,2122]
[21,17517,12,17543,24,17551,23,17565,null,null,0,2122]
[21,17681,12,17709,24,17732,23,17740,null,null,0,2122]
[21,17853,21,17860,11,17877,21,17884,null,null,0,2212]
[21,17980,21,17989,11,17997,21,18012,null,null,0,2212]
[21,18110,21,18135,11,18142,21,18168,null,null,0,2212]
[21,18279,12,18286,24,18317,14,18351,null,null,0,2121]
[12,18502,23,18519,24,18525,23,18539,null,null,0,1222]
[21,18692,12,18700,24,18734,23,18770,null,null,0,2122]
[21,18893,21,18902,11,18911,21,18927,null,null,0,2212]
[21,19030,21,19063,11,19072,21,19083,null,null,0,2212]
[21,19183,21,19191,11,19213,21,19236,null,null,0,2212]
[12,19370,23,19400,24,19408,14,19425,null,null,0,1221]
[21,19534,21,19547,22,19556,14,19593,null,null,0,2221]
[21,19700,21,19708,22,19729,23,19739,null,null,0,2222]
[21,19859,12,19880,24,19913,23,19921,null,null,0,2122]
[21,20058,21,20098,11,20106,21,20140,null,null,0,2212]
[21,20259,21,20281,11,20289,21,20300,null,null,0,2212]
[21,20400,21,20428,11,20435,21,20451,null,null,0,2212]
[21,20539,12,20565,24,20573,23,20597,null,null,0,2122]
[12,20732,23,20741,24,20755,23,20769,null,null,0,1222]
[21,20877,21,20888,11,20895,21,20939,null,null,0,2212]
[21,21057,12,21064,24,21088,23,21102,null,null,0,2122]
[21,21250,12,21257,24,21279,23,21287,null,null,0,2122]
[21,21431,21,21440,11,21448,12,21464,null,null,0,2211]
[12,21751,23,21758,24,21765,23,21782,null,null,0,1222]
[21,21893,12,21930,24,21976,14,21993,null,null,0,2121]
[21,22206,12,22216,24,22224,23,22240,null,null,0,2122]
[21,22413,12,22423,24,22446,23,22454,null,null,0,2122]
[21,23013,21,23037,null,null,null,null,null,null,null,22]

{"sheet":"!N119900.095","index":21,"n_rows":36,"n_cols":48,"rows_kept":36,"cut":false,"hidden":false,"merged":[[4,39,4,42],[5,39,5,40],[4,44,4,47],[5,44,5,45],[4,24,4,27],[5,24,5,25],[4,29,4,32],[5,29,5,30],[4,34,4,37],[5,34,5,35],[1,1,1,2],[5,13,5,14],[26,13,26,14],[27,13,27,14],[4,19,4,22],[5,19,5,20]]}
["Report for:!N119900.095"]
["Date:","<date>"]
["Hen:","<hen>",null,null,null,"Correct Sequence",{"$f":"Start!J2","v":2212},null,null,null,null,null,null,null,null,"Total Sequences in Data",{"$f":"4994-COUNTBLANK(L7:L5000)","v":8},null,null,null,null,"Total Sequences in Block Data",{"$f":"COUNTA(L7:L7)","v":1},null,null,null,"Total Sequences in Block Data",{"$f":"COUNTA(L8:L9)","v":2},null,null,null,"Total Sequences in Block Data",{"$f":"COUNTA(L10:L10)","v":1},null,null,null,"Total Sequences in Block Data",{"$f":"COUNTA(L11:L11)","v":1},null,null,null,"Total Sequences in Block Data",{"$f":"COUNTA(L12:L13)","v":2},null,null,null,"Total Sequences in Block Data",{"$f":"COUNTA(L14:L14)","v":1}]
[null,null,null,null,null,null,null,null,null,null,null,null,null,null,null,"Total Sequences in Summary",{"$f":"SUM(O7:O22)","v":7},null,null,null,null,"Total Sequences in Block Summary",{"$f":"SUM(U7:U22)","v":1},null,null,null,"Total Sequences in Block Summary",{"$f":"SUM(Z7:Z22)","v":2},null,null,null,"Total Sequences in Block Summary",{"$f":"SUM(AE7:AE22)","v":1},null,null,null,"Total Sequences in Block Summary",{"$f":"SUM(AJ7:AJ22)","v":1},null,null,null,"Total Sequences in Block Summary",{"$f":"SUM(AO7:AO22)","v":2},null,null,null,"Total Sequences in Block Summary",{"$f":"SUM(AT7:AT22)","v":0}]
[null,null,null,null,null,null,null,null,null,null,null,null,null,null,null,null,null,null,null,"Block 1",null,null,null,null,"Block 2",null,null,null,null,"Block 3",null,null,null,null,"Block 4",null,null,null,null,"Block 5",null,null,null,null,"Block 6"]
["Sequence\nComponent\n1","Time\n1","Sequence\nComponent\n2","Time\n2","Sequence\nComponent\n3","Time\n3","Sequence\nComponent\n4","Time\n4","Sequence\nComponent\n5","Time\n5","Correct?\n0=No 1=Yes","Sequence",null,"Frequency",null,"Relative Frequency","Variability",null,null,"Frequency",null,"Relative Frequency","Variability",null,"Frequency",null,"Relative Frequency","Variability",null,"Frequency",null,"Relative Frequency","Variability",null,"Frequency",null,"Relative Frequency","Variability",null,"Frequency",null,"Relative Frequency","Variability",null,"Frequency",null,"Relative Frequency","Variability"]
[21,177,12,258,24,269,23,278,null,null,0,2122,null,1111,{"$f":"COUNTIF($L$7:$L$500,N7)","v":0},{"$f":"O7/$Q$4","v":0},{"$f":"IF(P7=0,0,(P7*((LOG(P7))/LOG(2))))","v":0},null,null,{"$f":"N7","v":1111},{"$f":"COUNTIF(L7:L7,T7)","v":0},{"$f":"U7/(W4-U20)","v":0},{"$f":"IF(V7=0,0,(V7*((LOG(V7))/LOG(2))))","v":0},null,{"$f":"N7","v":1111},{"$f":"COUNTIF(L8:L9,Y7)","v":0},{"$f":"Z7/(AB4-Z20)","v":0},{"$f":"IF(AA7=0,0,(AA7*((LOG(AA7))/LOG(2))))","v":0},null,{"$f":"N7","v":1111},{"$f":"COUNTIF(L10:L10,AD7)","v":0},{"$f":"AE7/(AG4-AE20)","v":0},{"$f":"IF(AF7=0,0,(AF7*((LOG(AF7))/LOG(2))))","v":0},null,{"$f":"N7","v":1111},{"$f":"COUNTIF(L11:L11,AI7)","v":0},{"$f":"AJ7/(AL4-AJ20)","v":0},{"$f":"IF(AK7=0,0,(AK7*((LOG(AK7))/LOG(2))))","v":0},null,{"$f":"N7","v":1111},{"$f":"COUNTIF(L12:L13,AN7)","v":0},{"$f":"AO7/(AQ4-AO20)","v":0},{"$f":"IF(AP7=0,0,(AP7*((LOG(AP7))/LOG(2))))","v":0},null,{"$f":"N7","v":1111},{"$f":"COUNTIF(L14:L14,AS7)","v":0},{"$f":"AT7/(AV4-AT20)","v":{"$error":"#DIV/0!"}},{"$f":"IF(AU7=0,0,(AU7*((LOG(AU7))/LOG(2))))","v":{"$error":"#DIV/0!"}}]
[12,485,23,496,24,506,14,1066,null,null,0,1221,null,1112,{"$f":"COUNTIF($L$7:$L$500,N8)","v":0},{"$f":"O8/$Q$4","v":0},{"$f":"IF(P8=0,0,(P8*((LOG(P8))/LOG(2))))","v":0},null,null,{"$f":"N8","v":1112},{"$f":"COUNTIF(L7:L7,T8)","v":0},{"$f":"U8/(W4-U20)","v":0},{"$f":"IF(V8=0,0,(V8*((LOG(V8))/LOG(2))))","v":0},null,{"$f":"N8","v":1112},{"$f":"COUNTIF(L8:L9,Y8)","v":0},{"$f":"Z8/(AB4-Z20)","v":0},{"$f":"IF(AA8=0,0,(AA8*((LOG(AA8))/LOG(2))))","v":0},null,{"$f":"N8","v":1112},{"$f":"COUNTIF(L10:L10,AD8)","v":0},{"$f":"AE8/(AG4-AE20)","v":0},{"$f":"IF(AF8=0,0,(AF8*((LOG(AF8))/LOG(2))))","v":0},null,{"$f":"N8","v":1112},{"$f":"COUNTIF(L11:L11,AI8)","v":0},{"$f":"AJ8/(AL4-AJ20)","v":0},{"$f":"IF(AK8=0,0,(AK8*((LOG(AK8))/LOG(2))))","v":0},null,{"$f":"N8","v":1112},{"$f":"COUNTIF(L12:L13,AN8)","v":0},{"$f":"AO8/(AQ4-AO20)","v":0},{"$f":"IF(AP8=0,0,(AP8*((LOG(AP8))/LOG(2))))","v":0},null,{"$f":"N8","v":1112},{"$f":"COUNTIF(L14:L14,AS8)","v":0},{"$f":"AT8/(AV4-AT20)","v":{"$error":"#DIV/0!"}},{"$f":"IF(AU8=0,0,(AU8*((LOG(AU8))/LOG(2))))","v":{"$error":"#DIV/0!"}}]
[21,8366,21,8387,22,8501,23,8563,null,null,0,2222,null,1121,{"$f":"COUNTIF($L$7:$L$500,N9)","v":0},{"$f":"O9/$Q$4","v":0},{"$f":"IF(P9=0,0,(P9*((LOG(P9))/LOG(2))))","v":0},null,null,{"$f":"N9","v":1121},{"$f":"COUNTIF(L7:L7,T9)","v":0},{"$f":"U9/(W4-U20)","v":0},{"$f":"IF(V9=0,0,(V9*((LOG(V9))/LOG(2))))","v":0},null,{"$f":"N9","v":1121},{"$f":"COUNTIF(L8:L9,Y9)","v":0},{"$f":"Z9/(AB4-Z20)","v":0},{"$f":"IF(AA9=0,0,(AA9*((LOG(AA9))/LOG(2))))","v":0},null,{"$f":"N9","v":1121},{"$f":"COUNTIF(L10:L10,AD9)","v":0},{"$f":"AE9/(AG4-AE20)","v":0},{"$f":"IF(AF9=0,0,(AF9*((LOG(AF9))/LOG(2))))","v":0},null,{"$f":"N9","v":1121},{"$f":"COUNTIF(L11:L11,AI9)","v":0},{"$f":"AJ9/(AL4-AJ20)","v":0},{"$f":"IF(AK9=0,0,(AK9*((LOG(AK9))/LOG(2))))","v":0},null,{"$f":"N9","v":1121},{"$f":"COUNTIF(L12:L13,AN9)","v":0},{"$f":"AO9/(AQ4-AO20)","v":0},{"$f":"IF(AP9=0,0,(AP9*((LOG(AP9))/LOG(2))))","v":0},null,{"$f":"N9","v":1121},{"$f":"COUNTIF(L14:L14,AS9)","v":0},{"$f":"AT9/(AV4-AT20)","v":{"$error":"#DIV/0!"}},{"$f":"IF(AU9=0,0,(AU9*((LOG(AU9))/LOG(2))))","v":{"$error":"#DIV/0!"}}]
[21,9064,21,9092,22,9147,23,9315,null,null,0,2222,null,1122,{"$f":"COUNTIF($L$7:$L$500,N10)","v":0},{"$f":"O10/$Q$4","v":0},{"$f":"IF(P10=0,0,(P10*((LOG(P10))/LOG(2))))","v":0},null,null,{"$f":"N10","v":1122},{"$f":"COUNTIF(L7:L7,T10)","v":0},{"$f":"U10/(W4-U20)","v":0},{"$f":"IF(V10=0,0,(V10*((LOG(V10))/LOG(2))))","v":0},null,{"$f":"N10","v":1122},{"$f":"COUNTIF(L8:L9,Y10)","v":0},{"$f":"Z10/(AB4-Z20)","v":0},{"$f":"IF(AA10=0,0,(AA10*((LOG(AA10))/LOG(2))))","v":0},null,{"$f":"N10","v":1122},{"$f":"COUNTIF(L10:L10,AD10)","v":0},{"$f":"AE10/(AG4-AE20)","v":0},{"$f":"IF(AF10=0,0,(AF10*((LOG(AF10))/LOG(2))))","v":0},null,{"$f":"N10","v":1122},{"$f":"COUNTIF(L11:L11,AI10)","v":0},{"$f":"AJ10/(AL4-AJ20)","v":0},{"$f":"IF(AK10=0,0,(AK10*((LOG(AK10))/LOG(2))))","v":0},null,{"$f":"N10","v":1122},{"$f":"COUNTIF(L12:L13,AN10)","v":0},{"$f":"AO10/(AQ4-AO20)","v":0},{"$f":"IF(AP10=0,0,(AP10*((LOG(AP10))/LOG(2))))","v":0},null,{"$f":"N10","v":1122},{"$f":"COUNTIF(L14:L14,AS10)","v":0},{"$f":"AT10/(AV4-AT20)","v":{"$error":"#DIV/0!"}},{"$f":"IF(AU10=0,0,(AU10*((LOG(AU10))/LOG(2))))","v":{"$error":"#DIV/0!"}}]
[21,9437,21,9447,22,9568,23,9578,null,null,0,2222,null,1211,{"$f":"COUNTIF($L$7:$L$500,N11)","v":0},{"$f":"O11/$Q$4","v":0},{"$f":"IF(P11=0,0,(P11*((LOG(P11))/LOG(2))))","v":0},null,null,{"$f":"N11","v":1211},{"$f":"COUNTIF(L7:L7,T11)","v":0},{"$f":"U11/(W4-U20)","v":0},{"$f":"IF(V11=0,0,(V11*((LOG(V11))/LOG(2))))","v":0},null,{"$f":"N11","v":1211},{"$f":"COUNTIF(L8:L9,Y11)","v":0},{"$f":"Z11/(AB4-Z20)","v":0},{"$f":"IF(AA11=0,0,(AA11*((LOG(AA11))/LOG(2))))","v":0},null,{"$f":"N11","v":1211},{"$f":"COUNTIF(L10:L10,AD11)","v":0},{"$f":"AE11/(AG4-AE20)","v":0},{"$f":"IF(AF11=0,0,(AF11*((LOG(AF11))/LOG(2))))","v":0},null,{"$f":"N11","v":1211},{"$f":"COUNTIF(L11:L11,AI11)","v":0},{"$f":"AJ11/(AL4-AJ20)","v":0},{"$f":"IF(AK11=0,0,(AK11*((LOG(AK11))/LOG(2))))","v":0},null,{"$f":"N11","v":1211},{"$f":"COUNTIF(L12:L13,AN11)","v":0},{"$f":"AO11/(AQ4-AO20)","v":0},{"$f":"IF(AP11=0,0,(AP11*((LOG(AP11))/LOG(2))))","v":0},null,{"$f":"N11","v":1211},{"$f":"COUNTIF(L14:L14,AS11)","v":0},{"$f":"AT11/(AV4-AT20)","v":{"$error":"#DIV/0!"}},{"$f":"IF(AU11=0,0,(AU11*((LOG(AU11))/LOG(2))))","v":{"$error":"#DIV/0!"}}]
[21,14873,12,17127,24,17136,23,19905,null,null,0,2122,null,1212,{"$f":"COUNTIF($L$7:$L$500,N12)","v":0},{"$f":"O12/$Q$4","v":0},{"$f":"IF(P12=0,0,(P12*((LOG(P12))/LOG(2))))","v":0},null,null,{"$f":"N12","v":1212},{"$f":"COUNTIF(L7:L7,T12)","v":0},{"$f":"U12/(W4-U20)","v":0},{"$f":"IF(V12=0,0,(V12*((LOG(V12))/LOG(2))))","v":0},null,{"$f":"N12","v":1212},{"$f":"COUNTIF(L8:L9,Y12)","v":0},{"$f":"Z12/(AB4-Z20)","v":0},{"$f":"IF(AA12=0,0,(AA12*((LOG(AA12))/LOG(2))))","v":0},null,{"$f":"N12","v":1212},{"$f":"COUNTIF(L10:L10,AD12)","v":0},{"$f":"AE12/(AG4-AE20)","v":0},{"$f":"IF(AF12=0,0,(AF12*((LOG(AF12))/LOG(2))))","v":0},null,{"$f":"N12","v":1212},{"$f":"COUNTIF(L11:L11,AI12)","v":0},{"$f":"AJ12/(AL4-AJ20)","v":0},{"$f":"IF(AK12=0,0,(AK12*((LOG(AK12))/LOG(2))))","v":0},null,{"$f":"N12","v":1212},{"$f":"COUNTIF(L12:L13,AN12)","v":0},{"$f":"AO12/(AQ4-AO20)","v":0},{"$f":"IF(AP12=0,0,(AP12*((LOG(AP12))/LOG(2))))","v":0},null,{"$f":"N12","v":1212},{"$f":"COUNTIF(L14:L14,AS12)","v":0},{"$f":"AT12/(AV4-AT20)","v":{"$error":"#DIV/0!"}},{"$f":"IF(AU12=0,0,(AU12*((LOG(AU12))/LOG(2))))","v":{"$error":"#DIV/0!"}}]
[21,20041,21,20150,22,20639,23,22686,null,null,0,2222,null,1221,{"$f":"COUNTIF($L$7:$L$500,N13)","v":1},{"$f":"O13/$Q$4","v":0.14285714285714285},{"$f":"IF(P13=0,0,(P13*((LOG(P13))/LOG(2))))","v":-0.40105070315108626},null,null,{"$f":"N13","v":1221},{"$f":"COUNTIF(L7:L7,T13)","v":0},{"$f":"U13/(W4-U20)","v":0},{"$f":"IF(V13=0,0,(V13*((LOG(V13))/LOG(2))))","v":0},null,{"$f":"N13","v":1221},{"$f":"COUNTIF(L8:L9,Y13)","v":1},{"$f":"Z13/(AB4-Z20)","v":0.5},{"$f":"IF(AA13=0,0,(AA13*((LOG(AA13))/LOG(2))))","v":-0.5},null,{"$f":"N13","v":1221},{"$f":"COUNTIF(L10:L10,AD13)","v":0},{"$f":"AE13/(AG4-AE20)","v":0},{"$f":"IF(AF13=0,0,(AF13*((LOG(AF13))/LOG(2))))","v":0},null,{"$f":"N13","v":1221},{"$f":"COUNTIF(L11:L11,AI13)","v":0},{"$f":"AJ13/(AL4-AJ20)","v":0},{"$f":"IF(AK13=0,0,(AK13*((LOG(AK13))/LOG(2))))","v":0},null,{"$f":"N13","v":1221},{"$f":"COUNTIF(L12:L13,AN13)","v":0},{"$f":"AO13/(AQ4-AO20)","v":0},{"$f":"IF(AP13=0,0,(AP13*((LOG(AP13))/LOG(2))))","v":0},null,{"$f":"N13","v":1221},{"$f":"COUNTIF(L14:L14,AS13)","v":0},{"$f":"AT13/(AV4-AT20)","v":{"$error":"#DIV/0!"}},{"$f":"IF(AU13=0,0,(AU13*((LOG(AU13))/LOG(2))))","v":{"$error":"#DIV/0!"}}]
[21,22804,21,23969,22,23997,null,null,null,null,null,222,null,1222,{"$f":"COUNTIF($L$7:$L$500,N14)","v":0},{"$f":"O14/$Q$4","v":0},{"$f":"IF(P14=0,0,(P14*((LOG(P14))/LOG(2))))","v":0},null,null,{"$f":"N14","v":1222},{"$f":"COUNTIF(L7:L7,T14)","v":0},{"$f":"U14/(W4-U20)","v":0},{"$f":"IF(V14=0,0,(V14*((LOG(V14))/LOG(2))))","v":0},null,{"$f":"N14","v":1222},{"$f":"COUNTIF(L8:L9,Y14)","v":0},{"$f":"Z14/(AB4-Z20)","v":0},{"$f":"IF(AA14=0,0,(AA14*((LOG(AA14))/LOG(2))))","v":0},null,{"$f":"N14","v":1222},{"$f":"COUNTIF(L10:L10,AD14)","v":0},{"$f":"AE14/(AG4-AE20)","v":0},{"$f":"IF(AF14=0,0,(AF14*((LOG(AF14))/LOG(2))))","v":0},null,{"$f":"N14","v":1222},{"$f":"COUNTIF(L11:L11,AI14)","v":0},{"$f":"AJ14/(AL4-AJ20)","v":0},{"$f":"IF(AK14=0,0,(AK14*((LOG(AK14))/LOG(2))))","v":0},null,{"$f":"N14","v":1222},{"$f":"COUNTIF(L12:L13,AN14)","v":0},{"$f":"AO14/(AQ4-AO20)","v":0},{"$f":"IF(AP14=0,0,(AP14*((LOG(AP14))/LOG(2))))","v":0},null,{"$f":"N14","v":1222},{"$f":"COUNTIF(L14:L14,AS14)","v":0},{"$f":"AT14/(AV4-AT20)","v":{"$error":"#DIV/0!"}},{"$f":"IF(AU14=0,0,(AU14*((LOG(AU14))/LOG(2))))","v":{"$error":"#DIV/0!"}}]
[null,null,null,null,null,null,null,null,null,null,null,null,null,2111,{"$f":"COUNTIF($L$7:$L$500,N15)","v":0},{"$f":"O15/$Q$4","v":0},{"$f":"IF(P15=0,0,(P15*((LOG(P15))/LOG(2))))","v":0},null,null,{"$f":"N15","v":2111},{"$f":"COUNTIF(L7:L7,T15)","v":0},{"$f":"U15/(W4-U20)","v":0},{"$f":"IF(V15=0,0,(V15*((LOG(V15))/LOG(2))))","v":0},null,{"$f":"N15","v":2111},{"$f":"COUNTIF(L8:L9,Y15)","v":0},{"$f":"Z15/(AB4-Z20)","v":0},{"$f":"IF(AA15=0,0,(AA15*((LOG(AA15))/LOG(2))))","v":0},null,{"$f":"N15","v":2111},{"$f":"COUNTIF(L10:L10,AD15)","v":0},{"$f":"AE15/(AG4-AE20)","v":0},{"$f":"IF(AF15=0,0,(AF15*((LOG(AF15))/LOG(2))))","v":0},null,{"$f":"N15","v":2111},{"$f":"COUNTIF(L11:L11,AI15)","v":0},{"$f":"AJ15/(AL4-AJ20)","v":0},{"$f":"IF(AK15=0,0,(AK15*((LOG(AK15))/LOG(2))))","v":0},null,{"$f":"N15","v":2111},{"$f":"COUNTIF(L12:L13,AN15)","v":0},{"$f":"AO15/(AQ4-AO20)","v":0},{"$f":"IF(AP15=0,0,(AP15*((LOG(AP15))/LOG(2))))","v":0},null,{"$f":"N15","v":2111},{"$f":"COUNTIF(L14:L14,AS15)","v":0},{"$f":"AT15/(AV4-AT20)","v":{"$error":"#DIV/0!"}},{"$f":"IF(AU15=0,0,(AU15*((LOG(AU15))/LOG(2))))","v":{"$error":"#DIV/0!"}}]
[null,null,null,null,null,null,null,null,null,null,null,null,null,2112,{"$f":"COUNTIF($L$7:$L$500,N16)","v":0},{"$f":"O16/$Q$4","v":0},{"$f":"IF(P16=0,0,(P16*((LOG(P16))/LOG(2))))","v":0},null,null,{"$f":"N16","v":2112},{"$f":"COUNTIF(L7:L7,T16)","v":0},{"$f":"U16/(W4-U20)","v":0},{"$f":"IF(V16=0,0,(V16*((LOG(V16))/LOG(2))))","v":0},null,{"$f":"N16","v":2112},{"$f":"COUNTIF(L8:L9,Y16)","v":0},{"$f":"Z16/(AB4-Z20)","v":0},{"$f":"IF(AA16=0,0,(AA16*((LOG(AA16))/LOG(2))))","v":0},null,{"$f":"N16","v":2112},{"$f":"COUNTIF(L10:L10,AD16)","v":0},{"$f":"AE16/(AG4-AE20)","v":0},{"$f":"IF(AF16=0,0,(AF16*((LOG(AF16))/LOG(2))))","v":0},null,{"$f":"N16","v":2112},{"$f":"COUNTIF(L11:L11,AI16)","v":0},{"$f":"AJ16/(AL4-AJ20)","v":0},{"$f":"IF(AK16=0,0,(AK16*((LOG(AK16))/LOG(2))))","v":0},null,{"$f":"N16","v":2112},{"$f":"COUNTIF(L12:L13,AN16)","v":0},{"$f":"AO16/(AQ4-AO20)","v":0},{"$f":"IF(AP16=0,0,(AP16*((LOG(AP16))/LOG(2))))","v":0},null,{"$f":"N16","v":2112},{"$f":"COUNTIF(L14:L14,AS16)","v":0},{"$f":"AT16/(AV4-AT20)","v":{"$error":"#DIV/0!"}},{"$f":"IF(AU16=0,0,(AU16*((LOG(AU16))/LOG(2))))","v":{"$error":"#DIV/0!"}}]
[null,null,null,null,null,null,null,null,null,null,null,null,null,2121,{"$f":"COUNTIF($L$7:$L$500,N17)","v":0},{"$f":"O17/$Q$4","v":0},{"$f":"IF(P17=0,0,(P17*((LOG(P17))/LOG(2))))","v":0},null,null,{"$f":"N17","v":2121},{"$f":"COUNTIF(L7:L7,T17)","v":0},{"$f":"U17/(W4-U20)","v":0},{"$f":"IF(V17=0,0,(V17*((LOG(V17))/LOG(2))))","v":0},null,{"$f":"N17","v":2121},{"$f":"COUNTIF(L8:L9,Y17)","v":0},{"$f":"Z17/(AB4-Z20)","v":0},{"$f":"IF(AA17=0,0,(AA17*((LOG(AA17))/LOG(2))))","v":0},null,{"$f":"N17","v":2121},{"$f":"COUNTIF(L10:L10,AD17)","v":0},{"$f":"AE17/(AG4-AE20)","v":0},{"$f":"IF(AF17=0,0,(AF17*((LOG(AF17))/LOG(2))))","v":0},null,{"$f":"N17","v":2121},{"$f":"COUNTIF(L11:L11,AI17)","v":0},{"$f":"AJ17/(AL4-AJ20)","v":0},{"$f":"IF(AK17=0,0,(AK17*((LOG(AK17))/LOG(2))))","v":0},null,{"$f":"N17","v":2121},{"$f":"COUNTIF(L12:L13,AN17)","v":0},{"$f":"AO17/(AQ4-AO20)","v":0},{"$f":"IF(AP17=0,0,(AP17*((LOG(AP17))/LOG(2))))","v":0},null,{"$f":"N17","v":2121},{"$f":"COUNTIF(L14:L14,AS17)","v":0},{"$f":"AT17/(AV4-AT20)","v":{"$error":"#DIV/0!"}},{"$f":"IF(AU17=0,0,(AU17*((LOG(AU17))/LOG(2))))","v":{"$error":"#DIV/0!"}}]
[null,null,null,null,null,null,null,null,null,null,null,null,null,2122,{"$f":"COUNTIF($L$7:$L$500,N18)","v":2},{"$f":"O18/$Q$4","v":0.2857142857142857},{"$f":"IF(P18=0,0,(P18*((LOG(P18))/LOG(2))))","v":-0.51638712058788683},null,null,{"$f":"N18","v":2122},{"$f":"COUNTIF(L7:L7,T18)","v":1},{"$f":"U18/(W4-U20)","v":1},{"$f":"IF(V18=0,0,(V18*((LOG(V18))/LOG(2))))","v":0},null,{"$f":"N18","v":2122},{"$f":"COUNTIF(L8:L9,Y18)","v":0},{"$f":"Z18/(AB4-Z20)","v":0},{"$f":"IF(AA18=0,0,(AA18*((LOG(AA18))/LOG(2))))","v":0},null,{"$f":"N18","v":2122},{"$f":"COUNTIF(L10:L10,AD18)","v":0},{"$f":"AE18/(AG4-AE20)","v":0},{"$f":"IF(AF18=0,0,(AF18*((LOG(AF18))/LOG(2))))","v":0},null,{"$f":"N18","v":2122},{"$f":"COUNTIF(L11:L11,AI18)","v":0},{"$f":"AJ18/(AL4-AJ20)","v":0},{"$f":"IF(AK18=0,0,(AK18*((LOG(AK18))/LOG(2))))","v":0},null,{"$f":"N18","v":2122},{"$f":"COUNTIF(L12:L13,AN18)","v":1},{"$f":"AO18/(AQ4-AO20)","v":0.5},{"$f":"IF(AP18=0,0,(AP18*((LOG(AP18))/LOG(2))))","v":-0.5},null,{"$f":"N18","v":2122},{"$f":"COUNTIF(L14:L14,AS18)","v":0},{"$f":"AT18/(AV4-AT20)","v":{"$error":"#DIV/0!"}},{"$f":"IF(AU18=0,0,(AU18*((LOG(AU18))/LOG(2))))","v":{"$error":"#DIV/0!"}}]
[null,null,null,null,null,null,null,null,null,null,null,null,null,2211,{"$f":"COUNTIF($L$7:$L$500,N19)","v":0},{"$f":"O19/$Q$4","v":0},{"$f":"IF(P19=0,0,(P19*((LOG(P19))/LOG(2))))","v":0},null,null,{"$f":"N19","v":2211},{"$f":"COUNTIF(L7:L7,T19)","v":0},{"$f":"U19/(W4-U20)","v":0},{"$f":"IF(V19=0,0,(V19*((LOG(V19))/LOG(2))))","v":0},null,{"$f":"N19","v":2211},{"$f":"COUNTIF(L8:L9,Y19)","v":0},{"$f":"Z19/(AB4-Z20)","v":0},{"$f":"IF(AA19=0,0,(AA19*((LOG(AA19))/LOG(2))))","v":0},null,{"$f":"N19","v":2211},{"$f":"COUNTIF(L10:L10,AD19)","v":0},{"$f":"AE19/(AG4-AE20)","v":0},{"$f":"IF(AF19=0,0,(AF19*((LOG(AF19))/LOG(2))))","v":0},null,{"$f":"N19","v":2211},{"$f":"COUNTIF(L11:L11,AI19)","v":0},{"$f":"AJ19/(AL4-AJ20)","v":0},{"$f":"IF(AK19=0,0,(AK19*((LOG(AK19))/LOG(2))))","v":0},null,{"$f":"N19","v":2211},{"$f":"COUNTIF(L12:L13,AN19)","v":0},{"$f":"AO19/(AQ4-AO20)","v":0},{"$f":"IF(AP19=0,0,(AP19*((LOG(AP19))/LOG(2))))","v":0},null,{"$f":"N19","v":2211},{"$f":"COUNTIF(L14:L14,AS19)","v":0},{"$f":"AT19/(AV4-AT20)","v":{"$error":"#DIV/0!"}},{"$f":"IF(AU19=0,0,(AU19*((LOG(AU19))/LOG(2))))","v":{"$error":"#DIV/0!"}}]
[null,null,null,null,null,null,null,null,null,null,null,null,null,2212,{"$f":"COUNTIF($L$7:$L$500,N20)","v":0},{"$f":"O20/$Q$4","v":0},{"$f":"IF(P20=0,0,(P20*((LOG(P20))/LOG(2))))","v":0},null,null,{"$f":"N20","v":2212},{"$f":"COUNTIF(L7:L7,T20)","v":0},null,null,null,{"$f":"N20","v":2212},{"$f":"COUNTIF(L8:L9,Y20)","v":0},null,null,null,{"$f":"N20","v":2212},{"$f":"COUNTIF(L10:L10,AD20)","v":0},null,null,null,{"$f":"N20","v":2212},{"$f":"COUNTIF(L11:L11,AI20)","v":0},null,null,null,{"$f":"N20","v":2212},{"$f":"COUNTIF(L12:L13,AN20)","v":0},null,null,null,{"$f":"N20","v":2212},{"$f":"COUNTIF(L14:L14,AS20)","v":0}]
[null,null,null,null,null,null,null,null,null,null,null,null,null,2221,{"$f":"COUNTIF($L$7:$L$500,N21)","v":0},{"$f":"O21/$Q$4","v":0},{"$f":"IF(P21=0,0,(P21*((LOG(P21))/LOG(2))))","v":0},null,null,{"$f":"N21","v":2221},{"$f":"COUNTIF(L7:L7,T21)","v":0},{"$f":"U21/(W4-U20)","v":0},{"$f":"IF(V21=0,0,(V21*((LOG(V21))/LOG(2))))","v":0},null,{"$f":"N21","v":2221},{"$f":"COUNTIF(L8:L9,Y21)","v":0},{"$f":"Z21/(AB4-Z20)","v":0},{"$f":"IF(AA21=0,0,(AA21*((LOG(AA21))/LOG(2))))","v":0},null,{"$f":"N21","v":2221},{"$f":"COUNTIF(L10:L10,AD21)","v":0},{"$f":"AE21/(AG4-AE20)","v":0},{"$f":"IF(AF21=0,0,(AF21*((LOG(AF21))/LOG(2))))","v":0},null,{"$f":"N21","v":2221},{"$f":"COUNTIF(L11:L11,AI21)","v":0},{"$f":"AJ21/(AL4-AJ20)","v":0},{"$f":"IF(AK21=0,0,(AK21*((LOG(AK21))/LOG(2))))","v":0},null,{"$f":"N21","v":2221},{"$f":"COUNTIF(L12:L13,AN21)","v":0},{"$f":"AO21/(AQ4-AO20)","v":0},{"$f":"IF(AP21=0,0,(AP21*((LOG(AP21))/LOG(2))))","v":0},null,{"$f":"N21","v":2221},{"$f":"COUNTIF(L14:L14,AS21)","v":0},{"$f":"AT21/(AV4-AT20)","v":{"$error":"#DIV/0!"}},{"$f":"IF(AU21=0,0,(AU21*((LOG(AU21))/LOG(2))))","v":{"$error":"#DIV/0!"}}]
[null,null,null,null,null,null,null,null,null,null,null,null,null,2222,{"$f":"COUNTIF($L$7:$L$500,N22)","v":4},{"$f":"O22/$Q$4","v":0.5714285714285714},{"$f":"IF(P22=0,0,(P22*((LOG(P22))/LOG(2))))","v":-0.46134566974720237},null,null,{"$f":"N22","v":2222},{"$f":"COUNTIF(L7:L7,T22)","v":0},{"$f":"U22/(W4-U20)","v":0},{"$f":"IF(V22=0,0,(V22*((LOG(V22))/LOG(2))))","v":0},null,{"$f":"N22","v":2222},{"$f":"COUNTIF(L8:L9,Y22)","v":1},{"$f":"Z22/(AB4-Z20)","v":0.5},{"$f":"IF(AA22=0,0,(AA22*((LOG(AA22))/LOG(2))))","v":-0.5},null,{"$f":"N22","v":2222},{"$f":"COUNTIF(L10:L10,AD22)","v":1},{"$f":"AE22/(AG4-AE20)","v":1},{"$f":"IF(AF22=0,0,(AF22*((LOG(AF22))/LOG(2))))","v":0},null,{"$f":"N22","v":2222},{"$f":"COUNTIF(L11:L11,AI22)","v":1},{"$f":"AJ22/(AL4-AJ20)","v":1},{"$f":"IF(AK22=0,0,(AK22*((LOG(AK22))/LOG(2))))","v":0},null,{"$f":"N22","v":2222},{"$f":"COUNTIF(L12:L13,AN22)","v":1},{"$f":"AO22/(AQ4-AO20)","v":0.5},{"$f":"IF(AP22=0,0,(AP22*((LOG(AP22))/LOG(2))))","v":-0.5},null,{"$f":"N22","v":2222},{"$f":"COUNTIF(L14:L14,AS22)","v":0},{"$f":"AT22/(AV4-AT20)","v":{"$error":"#DIV/0!"}},{"$f":"IF(AU22=0,0,(AU22*((LOG(AU22))/LOG(2))))","v":{"$error":"#DIV/0!"}}]
[null,null,null,null,null,null,null,null,null,null,null,null,null,null,null,{"$f":"SUM(P7:P22)","v":1},{"$f":"-SUM(Q7:Q22)","v":1.3787834934861753},null,null,null,null,{"$f":"SUM(V7:V22)","v":1},{"$f":"-SUM(W7:W22)","v":0},null,null,null,{"$f":"SUM(AA7:AA22)","v":1},{"$f":"-SUM(AB7:AB22)","v":1},null,null,null,{"$f":"SUM(AF7:AF22)","v":1},{"$f":"-SUM(AG7:AG22)","v":0},null,null,null,{"$f":"SUM(AK7:AK22)","v":1},{"$f":"-SUM(AL7:AL22)","v":0},null,null,null,{"$f":"SUM(AP7:AP22)","v":1},{"$f":"-SUM(AQ7:AQ22)","v":1},null,null,null,{"$f":"SUM(AU7:AU22)","v":{"$error":"#DIV/0!"}},{"$f":"-SUM(AV7:AV22)","v":{"$error":"#DIV/0!"}}]
[null,null,null,null,null,null,null,null,null,null,null,null,null,null,null,"U=",{"$f":"Q23/(LOG(Q4)/LOG(2))","v":0.49113258984568253},null,null,null,null,"U1=",{"$f":"W23/(LOG(W4)/LOG(2))","v":{"$error":"#DIV/0!"}},null,null,null,"U2=",{"$f":"AB23/(LOG(AB4)/LOG(2))","v":1},null,null,null,"U3=",{"$f":"AG23/(LOG(AG4)/LOG(2))","v":{"$error":"#DIV/0!"}},null,null,null,"U4=",{"$f":"AL23/(LOG(AL4)/LOG(2))","v":{"$error":"#DIV/0!"}},null,null,null,"U5=",{"$f":"AQ23/(LOG(AQ4)/LOG(2))","v":1},null,null,null,"U6=",{"$f":"AV23/(LOG(AV4)/LOG(2))","v":{"$error":"#DIV/0!"}}]
[]
[]
[null,null,null,null,null,null,null,null,null,null,null,null,null,"Total Target Seq"]
[null,null,null,null,null,null,null,null,null,null,null,null,null,{"$f":"COUNTIF(L7:L14,G3)","v":0},null,1,2,1,1,2,1]
[null,null,null,null,null,null,null,null,null,null,null,null,null,null,null,"% of reinforcement given in 6 equal intervals based on number of trials "]
[null,null,null,null,null,null,null,null,null,null,null,null,null,null,null,"%_1","%_2","%_3","%_4","%_5","%_6"]
[null,null,null,null,null,null,null,null,null,null,null,null,null,null,"target sequence",{"$f":"$G$3","v":2212},{"$f":"$G$3","v":2212},{"$f":"$G$3","v":2212},{"$f":"$G$3","v":2212},{"$f":"$G$3","v":2212},{"$f":"$G$3","v":2212}]
[null,null,null,null,null,null,null,null,null,null,null,null,null,null,"total reinforcement",{"$f":"U20","v":0},{"$f":"Z20","v":0},{"$f":"AE20","v":0},{"$f":"AJ20","v":0},{"$f":"AO20","v":0},{"$f":"AT20","v":0}]
[null,null,null,null,null,null,null,null,null,null,null,null,null,null,"% target"]
[null,null,null,null,null,null,null,null,null,null,null,null,null,null,"CCRF"]
[null,null,null,null,null,null,null,null,null,null,null,null,null,null,"% CCRf"]
[null,null,null,null,null,null,null,null,null,null,null,null,null,null,"average response rate",{"$f":"H7/P28","v":278},{"$f":"(H9-H7)/Q28","v":4142.5},{"$f":"(H10-H9)/R28","v":752},{"$f":"(H11-H10)/S28","v":263},{"$f":"(H13-H11)/T28","v":6554},{"$f":"(H14-H13)/U28","v":-22686}]

{"sheet":"!N120B20.095","index":22,"n_rows":115,"n_cols":48,"rows_kept":115,"cut":false,"hidden":false,"merged":[[4,39,4,42],[5,39,5,40],[4,44,4,47],[5,44,5,45],[4,24,4,27],[5,24,5,25],[4,29,4,32],[5,29,5,30],[4,34,4,37],[5,34,5,35],[1,1,1,2],[5,13,5,14],[26,13,26,14],[27,13,27,14],[4,19,4,22],[5,19,5,20]]}
["Report for:!N120B20.095"]
["Date:","<date>"]
["Hen:","<hen>",null,null,null,"Correct Sequence",{"$f":"Start!J2","v":2212},null,null,null,null,null,null,null,null,"Total Sequences in Data",{"$f":"4994-COUNTBLANK(L7:L5000)","v":109},null,null,null,null,"Total Sequences in Block Data",{"$f":"COUNTA(L7:L24)","v":18},null,null,null,"Total Sequences in Block Data",{"$f":"COUNTA(L25:L42)","v":18},null,null,null,"Total Sequences in Block Data",{"$f":"COUNTA(L43:L61)","v":19},null,null,null,"Total Sequences in Block Data",{"$f":"COUNTA(L62:L79)","v":18},null,null,null,"Total Sequences in Block Data",{"$f":"COUNTA(L80:L97)","v":18},null,null,null,"Total Sequences in Block Data",{"$f":"COUNTA(L98:L115)","v":18}]
[null,null,null,null,null,null,null,null,null,null,null,null,null,null,null,"Total Sequences in Summary",{"$f":"SUM(O7:O22)","v":109},null,null,null,null,"Total Sequences in Block Summary",{"$f":"SUM(U7:U22)","v":18},null,null,null,"Total Sequences in Block Summary",{"$f":"SUM(Z7:Z22)","v":18},null,null,null,"Total Sequences in Block Summary",{"$f":"SUM(AE7:AE22)","v":19},null,null,null,"Total Sequences in Block Summary",{"$f":"SUM(AJ7:AJ22)","v":18},null,null,null,"Total Sequences in Block Summary",{"$f":"SUM(AO7:AO22)","v":18},null,null,null,"Total Sequences in Block Summary",{"$f":"SUM(AT7:AT22)","v":18}]
[null,null,null,null,null,null,null,null,null,null,null,null,null,null,null,null,null,null,null,"Block 1",null,null,null,null,"Block 2",null,null,null,null,"Block 3",null,null,null,null,"Block 4",null,null,null,null,"Block 5",null,null,null,null,"Block 6"]
["Sequence\nComponent\n1","Time\n1","Sequence\nComponent\n2","Time\n2","Sequence\nComponent\n3","Time\n3","Sequence\nComponent\n4","Time\n4","Sequence\nComponent\n5","Time\n5","Correct?\n0=No 1=Yes","Sequence",null,"Frequency",null,"Relative Frequency","Variability",null,null,"Frequency",null,"Relative Frequency","Variability",null,"Frequency",null,"Relative Frequency","Variability",null,"Frequency",null,"Relative Frequency","Variability",null,"Frequency",null,"Relative Frequency","Variability",null,"Frequency",null,"Relative Frequency","Variability",null,"Frequency",null,"Relative Frequency","Variability"]
[21,42,12,60,13,109,23,118,null,null,0,2112,null,1111,{"$f":"COUNTIF($L$7:$L$500,N7)","v":0},{"$f":"O7/$Q$4","v":0},{"$f":"IF(P7=0,0,(P7*((LOG(P7))/LOG(2))))","v":0},null,null,{"$f":"N7","v":1111},{"$f":"COUNTIF(L7:L24,T7)","v":0},{"$f":"U7/(W4-U20)","v":0},{"$f":"IF(V7=0,0,(V7*((LOG(V7))/LOG(2))))","v":0},null,{"$f":"N7","v":1111},{"$f":"COUNTIF(L25:L42,Y7)","v":0},{"$f":"Z7/(AB4-Z20)","v":0},{"$f":"IF(AA7=0,0,(AA7*((LOG(AA7))/LOG(2))))","v":0},null,{"$f":"N7","v":1111},{"$f":"COUNTIF(L43:L61,AD7)","v":0},{"$f":"AE7/(AG4-AE20)","v":0},{"$f":"IF(AF7=0,0,(AF7*((LOG(AF7))/LOG(2))))","v":0},null,{"$f":"N7","v":1111},{"$f":"COUNTIF(L62:L79,AI7)","v":0},{"$f":"AJ7/(AL4-AJ20)","v":0},{"$f":"IF(AK7=0,0,(AK7*((LOG(AK7))/LOG(2))))","v":0},null,{"$f":"N7","v":1111},{"$f":"COUNTIF(L80:L97,AN7)","v":0},{"$f":"AO7/(AQ4-AO20)","v":0},{"$f":"IF(AP7=0,0,(AP7*((LOG(AP7))/LOG(2))))","v":0},null,{"$f":"N7","v":1111},{"$f":"COUNTIF(L98:L115,AS7)","v":0},{"$f":"AT7/(AV4-AT20)","v":0},{"$f":"IF(AU7=0,0,(AU7*((LOG(AU7))/LOG(2))))","v":0}]
[12,232,14,283,24,301,14,348,null,null,0,1121,null,1112,{"$f":"COUNTIF($L$7:$L$500,N8)","v":1},{"$f":"O8/$Q$4","v":9.1743119266055051E-3},{"$f":"IF(P8=0,0,(P8*((LOG(P8))/LOG(2))))","v":-6.2093434172265385E-2},null,null,{"$f":"N8","v":1112},{"$f":"COUNTIF(L7:L24,T8)","v":0},{"$f":"U8/(W4-U20)","v":0},{"$f":"IF(V8=0,0,(V8*((LOG(V8))/LOG(2))))","v":0},null,{"$f":"N8","v":1112},{"$f":"COUNTIF(L25:L42,Y8)","v":0},{"$f":"Z8/(AB4-Z20)","v":0},{"$f":"IF(AA8=0,0,(AA8*((LOG(AA8))/LOG(2))))","v":0},null,{"$f":"N8","v":1112},{"$f":"COUNTIF(L43:L61,AD8)","v":0},{"$f":"AE8/(AG4-AE20)","v":0},{"$f":"IF(AF8=0,0,(AF8*((LOG(AF8))/LOG(2))))","v":0},null,{"$f":"N8","v":1112},{"$f":"COUNTIF(L62:L79,AI8)","v":0},{"$f":"AJ8/(AL4-AJ20)","v":0},{"$f":"IF(AK8=0,0,(AK8*((LOG(AK8))/LOG(2))))","v":0},null,{"$f":"N8","v":1112},{"$f":"COUNTIF(L80:L97,AN8)","v":0},{"$f":"AO8/(AQ4-AO20)","v":0},{"$f":"IF(AP8=0,0,(AP8*((LOG(AP8))/LOG(2))))","v":0},null,{"$f":"N8","v":1112},{"$f":"COUNTIF(L98:L115,AS8)","v":1},{"$f":"AT8/(AV4-AT20)","v":6.25E-2},{"$f":"IF(AU8=0,0,(AU8*((LOG(AU8))/LOG(2))))","v":-0.25}]
[12,480,23,488,24,515,14,559,null,null,0,1221,null,1121,{"$f":"COUNTIF($L$7:$L$500,N9)","v":2},{"$f":"O9/$Q$4","v":1.834862385321101E-2},{"$f":"IF(P9=0,0,(P9*((LOG(P9))/LOG(2))))","v":-0.10583824449131975},null,null,{"$f":"N9","v":1121},{"$f":"COUNTIF(L7:L24,T9)","v":1},{"$f":"U9/(W4-U20)","v":5.5555555555555552E-2},{"$f":"IF(V9=0,0,(V9*((LOG(V9))/LOG(2))))","v":-0.23166250008012845},null,{"$f":"N9","v":1121},{"$f":"COUNTIF(L25:L42,Y9)","v":0},{"$f":"Z9/(AB4-Z20)","v":0},{"$f":"IF(AA9=0,0,(AA9*((LOG(AA9))/LOG(2))))","v":0},null,{"$f":"N9","v":1121},{"$f":"COUNTIF(L43:L61,AD9)","v":0},{"$f":"AE9/(AG4-AE20)","v":0},{"$f":"IF(AF9=0,0,(AF9*((LOG(AF9))/LOG(2))))","v":0},null,{"$f":"N9","v":1121},{"$f":"COUNTIF(L62:L79,AI9)","v":1},{"$f":"AJ9/(AL4-AJ20)","v":5.5555555555555552E-2},{"$f":"IF(AK9=0,0,(AK9*((LOG(AK9))/LOG(2))))","v":-0.23166250008012845},null,{"$f":"N9","v":1121},{"$f":"COUNTIF(L80:L97,AN9)","v":0},{"$f":"AO9/(AQ4-AO20)","v":0},{"$f":"IF(AP9=0,0,(AP9*((LOG(AP9))/LOG(2))))","v":0},null,{"$f":"N9","v":1121},{"$f":"COUNTIF(L98:L115,AS9)","v":0},{"$f":"AT9/(AV4-AT20)","v":0},{"$f":"IF(AU9=0,0,(AU9*((LOG(AU9))/LOG(2))))","v":0}]
[12,704,23,747,24,765,14,832,null,null,0,1221,null,1122,{"$f":"COUNTIF($L$7:$L$500,N10)","v":3},{"$f":"O10/$Q$4","v":2.7522935779816515E-2},{"$f":"IF(P10=0,0,(P10*((LOG(P10))/LOG(2))))","v":-0.14265748139603038},null,null,{"$f":"N10","v":1122},{"$f":"COUNTIF(L7:L24,T10)","v":0},{"$f":"U10/(W4-U20)","v":0},{"$f":"IF(V10=0,0,(V10*((LOG(V10))/LOG(2))))","v":0},null,{"$f":"N10","v":1122},{"$f":"COUNTIF(L25:L42,Y10)","v":0},{"$f":"Z10/(AB4-Z20)","v":0},{"$f":"IF(AA10=0,0,(AA10*((LOG(AA10))/LOG(2))))","v":0},null,{"$f":"N10","v":1122},{"$f":"COUNTIF(L43:L61,AD10)","v":2},{"$f":"AE10/(AG4-AE20)","v":0.10526315789473684},{"$f":"IF(AF10=0,0,(AF10*((LOG(AF10))/LOG(2))))","v":-0.34188710667827216},null,{"$f":"N10","v":1122},{"$f":"COUNTIF(L62:L79,AI10)","v":0},{"$f":"AJ10/(AL4-AJ20)","v":0},{"$f":"IF(AK10=0,0,(AK10*((LOG(AK10))/LOG(2))))","v":0},null,{"$f":"N10","v":1122},{"$f":"COUNTIF(L80:L97,AN10)","v":0},{"$f":"AO10/(AQ4-AO20)","v":0},{"$f":"IF(AP10=0,0,(AP10*((LOG(AP10))/LOG(2))))","v":0},null,{"$f":"N10","v":1122},{"$f":"COUNTIF(L98:L115,AS10)","v":1},{"$f":"AT10/(AV4-AT20)","v":6.25E-2},{"$f":"IF(AU10=0,0,(AU10*((LOG(AU10))/LOG(2))))","v":-0.25}]
[12,975,23,984,13,1073,23,1080,null,null,0,1212,null,1211,{"$f":"COUNTIF($L$7:$L$500,N11)","v":0},{"$f":"O11/$Q$4","v":0},{"$f":"IF(P11=0,0,(P11*((LOG(P11))/LOG(2))))","v":0},null,null,{"$f":"N11","v":1211},{"$f":"COUNTIF(L7:L24,T11)","v":0},{"$f":"U11/(W4-U20)","v":0},{"$f":"IF(V11=0,0,(V11*((LOG(V11))/LOG(2))))","v":0},null,{"$f":"N11","v":1211},{"$f":"COUNTIF(L25:L42,Y11)","v":0},{"$f":"Z11/(AB4-Z20)","v":0},{"$f":"IF(AA11=0,0,(AA11*((LOG(AA11))/LOG(2))))","v":0},null,{"$f":"N11","v":1211},{"$f":"COUNTIF(L43:L61,AD11)","v":0},{"$f":"AE11/(AG4-AE20)","v":0},{"$f":"IF(AF11=0,0,(AF11*((LOG(AF11))/LOG(2))))","v":0},null,{"$f":"N11","v":1211},{"$f":"COUNTIF(L62:L79,AI11)","v":0},{"$f":"AJ11/(AL4-AJ20)","v":0},{"$f":"IF(AK11=0,0,(AK11*((LOG(AK11))/LOG(2))))","v":0},null,{"$f":"N11","v":1211},{"$f":"COUNTIF(L80:L97,AN11)","v":0},{"$f":"AO11/(AQ4-AO20)","v":0},{"$f":"IF(AP11=0,0,(AP11*((LOG(AP11))/LOG(2))))","v":0},null,{"$f":"N11","v":1211},{"$f":"COUNTIF(L98:L115,AS11)","v":0},{"$f":"AT11/(AV4-AT20)","v":0},{"$f":"IF(AU11=0,0,(AU11*((LOG(AU11))/LOG(2))))","v":0}]
[21,1201,12,1210,24,1227,23,1237,null,null,0,2122,null,1212,{"$f":"COUNTIF($L$7:$L$500,N12)","v":6},{"$f":"O12/$Q$4","v":5.5045871559633031E-2},{"$f":"IF(P12=0,0,(P12*((LOG(P12))/LOG(2))))","v":-0.23026909123242773},null,null,{"$f":"N12","v":1212},{"$f":"COUNTIF(L7:L24,T12)","v":3},{"$f":"U12/(W4-U20)","v":0.16666666666666666},{"$f":"IF(V12=0,0,(V12*((LOG(V12))/LOG(2))))","v":-0.43082708345352599},null,{"$f":"N12","v":1212},{"$f":"COUNTIF(L25:L42,Y12)","v":0},{"$f":"Z12/(AB4-Z20)","v":0},{"$f":"IF(AA12=0,0,(AA12*((LOG(AA12))/LOG(2))))","v":0},null,{"$f":"N12","v":1212},{"$f":"COUNTIF(L43:L61,AD12)","v":1},{"$f":"AE12/(AG4-AE20)","v":5.2631578947368418E-2},{"$f":"IF(AF12=0,0,(AF12*((LOG(AF12))/LOG(2))))","v":-0.22357513228650452},null,{"$f":"N12","v":1212},{"$f":"COUNTIF(L62:L79,AI12)","v":0},{"$f":"AJ12/(AL4-AJ20)","v":0},{"$f":"IF(AK12=0,0,(AK12*((LOG(AK12))/LOG(2))))","v":0},null,{"$f":"N12","v":1212},{"$f":"COUNTIF(L80:L97,AN12)","v":2},{"$f":"AO12/(AQ4-AO20)","v":0.13333333333333333},{"$f":"IF(AP12=0,0,(AP12*((LOG(AP12))/LOG(2))))","v":-0.3875854127478025},null,{"$f":"N12","v":1212},{"$f":"COUNTIF(L98:L115,AS12)","v":0},{"$f":"AT12/(AV4-AT20)","v":0},{"$f":"IF(AU12=0,0,(AU12*((LOG(AU12))/LOG(2))))","v":0}]
[21,1359,12,1368,24,1377,23,1394,null,null,0,2122,null,1221,{"$f":"COUNTIF($L$7:$L$500,N13)","v":10},{"$f":"O13/$Q$4","v":9.1743119266055051E-2},{"$f":"IF(P13=0,0,(P13*((LOG(P13))/LOG(2))))","v":-0.31617029632014348},null,null,{"$f":"N13","v":1221},{"$f":"COUNTIF(L7:L24,T13)","v":2},{"$f":"U13/(W4-U20)","v":0.1111111111111111},{"$f":"IF(V13=0,0,(V13*((LOG(V13))/LOG(2))))","v":-0.3522138890491458},null,{"$f":"N13","v":1221},{"$f":"COUNTIF(L25:L42,Y13)","v":0},{"$f":"Z13/(AB4-Z20)","v":0},{"$f":"IF(AA13=0,0,(AA13*((LOG(AA13))/LOG(2))))","v":0},null,{"$f":"N13","v":1221},{"$f":"COUNTIF(L43:L61,AD13)","v":0},{"$f":"AE13/(AG4-AE20)","v":0},{"$f":"IF(AF13=0,0,(AF13*((LOG(AF13))/LOG(2))))","v":0},null,{"$f":"N13","v":1221},{"$f":"COUNTIF(L62:L79,AI13)","v":3},{"$f":"AJ13/(AL4-AJ20)","v":0.16666666666666666},{"$f":"IF(AK13=0,0,(AK13*((LOG(AK13))/LOG(2))))","v":-0.43082708345352599},null,{"$f":"N13","v":1221},{"$f":"COUNTIF(L80:L97,AN13)","v":3},{"$f":"AO13/(AQ4-AO20)","v":0.2},{"$f":"IF(AP13=0,0,(AP13*((LOG(AP13))/LOG(2))))","v":-0.46438561897747244},null,{"$f":"N13","v":1221},{"$f":"COUNTIF(L98:L115,AS13)","v":2},{"$f":"AT13/(AV4-AT20)","v":0.125},{"$f":"IF(AU13=0,0,(AU13*((LOG(AU13))/LOG(2))))","v":-0.375}]
[21,1519,12,1527,24,1537,14,1621,null,null,0,2121,null,1222,{"$f":"COUNTIF($L$7:$L$500,N14)","v":12},{"$f":"O14/$Q$4","v":0.11009174311926606},{"$f":"IF(P14=0,0,(P14*((LOG(P14))/LOG(2))))","v":-0.35044643934558939},null,null,{"$f":"N14","v":1222},{"$f":"COUNTIF(L7:L24,T14)","v":1},{"$f":"U14/(W4-U20)","v":5.5555555555555552E-2},{"$f":"IF(V14=0,0,(V14*((LOG(V14))/LOG(2))))","v":-0.23166250008012845},null,{"$f":"N14","v":1222},{"$f":"COUNTIF(L25:L42,Y14)","v":2},{"$f":"Z14/(AB4-Z20)","v":0.15384615384615385},{"$f":"IF(AA14=0,0,(AA14*((LOG(AA14))/LOG(2))))","v":-0.4154522643293988},null,{"$f":"N14","v":1222},{"$f":"COUNTIF(L43:L61,AD14)","v":3},{"$f":"AE14/(AG4-AE20)","v":0.15789473684210525},{"$f":"IF(AF14=0,0,(AF14*((LOG(AF14))/LOG(2))))","v":-0.42046815990354147},null,{"$f":"N14","v":1222},{"$f":"COUNTIF(L62:L79,AI14)","v":1},{"$f":"AJ14/(AL4-AJ20)","v":5.5555555555555552E-2},{"$f":"IF(AK14=0,0,(AK14*((LOG(AK14))/LOG(2))))","v":-0.23166250008012845},null,{"$f":"N14","v":1222},{"$f":"COUNTIF(L80:L97,AN14)","v":4},{"$f":"AO14/(AQ4-AO20)","v":0.26666666666666666},{"$f":"IF(AP14=0,0,(AP14*((LOG(AP14))/LOG(2))))","v":-0.50850415882893829},null,{"$f":"N14","v":1222},{"$f":"COUNTIF(L98:L115,AS14)","v":1},{"$f":"AT14/(AV4-AT20)","v":6.25E-2},{"$f":"IF(AU14=0,0,(AU14*((LOG(AU14))/LOG(2))))","v":-0.25}]
[21,1741,12,1750,24,1759,23,1814,null,null,0,2122,null,2111,{"$f":"COUNTIF($L$7:$L$500,N15)","v":1},{"$f":"O15/$Q$4","v":9.1743119266055051E-3},{"$f":"IF(P15=0,0,(P15*((LOG(P15))/LOG(2))))","v":-6.2093434172265385E-2},null,null,{"$f":"N15","v":2111},{"$f":"COUNTIF(L7:L24,T15)","v":0},{"$f":"U15/(W4-U20)","v":0},{"$f":"IF(V15=0,0,(V15*((LOG(V15))/LOG(2))))","v":0},null,{"$f":"N15","v":2111},{"$f":"COUNTIF(L25:L42,Y15)","v":0},{"$f":"Z15/(AB4-Z20)","v":0},{"$f":"IF(AA15=0,0,(AA15*((LOG(AA15))/LOG(2))))","v":0},null,{"$f":"N15","v":2111},{"$f":"COUNTIF(L43:L61,AD15)","v":0},{"$f":"AE15/(AG4-AE20)","v":0},{"$f":"IF(AF15=0,0,(AF15*((LOG(AF15))/LOG(2))))","v":0},null,{"$f":"N15","v":2111},{"$f":"COUNTIF(L62:L79,AI15)","v":0},{"$f":"AJ15/(AL4-AJ20)","v":0},{"$f":"IF(AK15=0,0,(AK15*((LOG(AK15))/LOG(2))))","v":0},null,{"$f":"N15","v":2111},{"$f":"COUNTIF(L80:L97,AN15)","v":0},{"$f":"AO15/(AQ4-AO20)","v":0},{"$f":"IF(AP15=0,0,(AP15*((LOG(AP15))/LOG(2))))","v":0},null,{"$f":"N15","v":2111},{"$f":"COUNTIF(L98:L115,AS15)","v":1},{"$f":"AT15/(AV4-AT20)","v":6.25E-2},{"$f":"IF(AU15=0,0,(AU15*((LOG(AU15))/LOG(2))))","v":-0.25}]
[21,1932,21,2026,22,2086,14,2136,null,null,0,2221,null,2112,{"$f":"COUNTIF($L$7:$L$500,N16)","v":9},{"$f":"O16/$Q$4","v":8.2568807339449546E-2},{"$f":"IF(P16=0,0,(P16*((LOG(P16))/LOG(2))))","v":-0.29710398082579387},null,null,{"$f":"N16","v":2112},{"$f":"COUNTIF(L7:L24,T16)","v":1},{"$f":"U16/(W4-U20)","v":5.5555555555555552E-2},{"$f":"IF(V16=0,0,(V16*((LOG(V16))/LOG(2))))","v":-0.23166250008012845},null,{"$f":"N16","v":2112},{"$f":"COUNTIF(L25:L42,Y16)","v":3},{"$f":"Z16/(AB4-Z20)","v":0.23076923076923078},{"$f":"IF(AA16=0,0,(AA16*((LOG(AA16))/LOG(2))))","v":-0.48818705017383146},null,{"$f":"N16","v":2112},{"$f":"COUNTIF(L43:L61,AD16)","v":1},{"$f":"AE16/(AG4-AE20)","v":5.2631578947368418E-2},{"$f":"IF(AF16=0,0,(AF16*((LOG(AF16))/LOG(2))))","v":-0.22357513228650452},null,{"$f":"N16","v":2112},{"$f":"COUNTIF(L62:L79,AI16)","v":3},{"$f":"AJ16/(AL4-AJ20)","v":0.16666666666666666},{"$f":"IF(AK16=0,0,(AK16*((LOG(AK16))/LOG(2))))","v":-0.43082708345352599},null,{"$f":"N16","v":2112},{"$f":"COUNTIF(L80:L97,AN16)","v":0},{"$f":"AO16/(AQ4-AO20)","v":0},{"$f":"IF(AP16=0,0,(AP16*((LOG(AP16))/LOG(2))))","v":0},null,{"$f":"N16","v":2112},{"$f":"COUNTIF(L98:L115,AS16)","v":1},{"$f":"AT16/(AV4-AT20)","v":6.25E-2},{"$f":"IF(AU16=0,0,(AU16*((LOG(AU16))/LOG(2))))","v":-0.25}]
[21,2252,12,2271,24,2387,14,2397,null,null,0,2121,null,2121,{"$f":"COUNTIF($L$7:$L$500,N17)","v":9},{"$f":"O17/$Q$4","v":8.2568807339449546E-2},{"$f":"IF(P17=0,0,(P17*((LOG(P17))/LOG(2))))","v":-0.29710398082579387},null,null,{"$f":"N17","v":2121},{"$f":"COUNTIF(L7:L24,T17)","v":3},{"$f":"U17/(W4-U20)","v":0.16666666666666666},{"$f":"IF(V17=0,0,(V17*((LOG(V17))/LOG(2))))","v":-0.43082708345352599},null,{"$f":"N17","v":2121},{"$f":"COUNTIF(L25:L42,Y17)","v":0},{"$f":"Z17/(AB4-Z20)","v":0},{"$f":"IF(AA17=0,0,(AA17*((LOG(AA17))/LOG(2))))","v":0},null,{"$f":"N17","v":2121},{"$f":"COUNTIF(L43:L61,AD17)","v":0},{"$f":"AE17/(AG4-AE20)","v":0},{"$f":"IF(AF17=0,0,(AF17*((LOG(AF17))/LOG(2))))","v":0},null,{"$f":"N17","v":2121},{"$f":"COUNTIF(L62:L79,AI17)","v":3},{"$f":"AJ17/(AL4-AJ20)","v":0.16666666666666666},{"$f":"IF(AK17=0,0,(AK17*((LOG(AK17))/LOG(2))))","v":-0.43082708345352599},null,{"$f":"N17","v":2121},{"$f":"COUNTIF(L80:L97,AN17)","v":2},{"$f":"AO17/(AQ4-AO20)","v":0.13333333333333333},{"$f":"IF(AP17=0,0,(AP17*((LOG(AP17))/LOG(2))))","v":-0.3875854127478025},null,{"$f":"N17","v":2121},{"$f":"COUNTIF(L98:L115,AS17)","v":1},{"$f":"AT17/(AV4-AT20)","v":6.25E-2},{"$f":"IF(AU17=0,0,(AU17*((LOG(AU17))/LOG(2))))","v":-0.25}]
[21,2543,12,2570,24,2624,23,2667,null,null,0,2122,null,2122,{"$f":"COUNTIF($L$7:$L$500,N18)","v":40},{"$f":"O18/$Q$4","v":0.3669724770642202},{"$f":"IF(P18=0,0,(P18*((LOG(P18))/LOG(2))))","v":-0.53073623115213364},null,null,{"$f":"N18","v":2122},{"$f":"COUNTIF(L7:L24,T18)","v":6},{"$f":"U18/(W4-U20)","v":0.33333333333333331},{"$f":"IF(V18=0,0,(V18*((LOG(V18))/LOG(2))))","v":-0.52832083357371862},null,{"$f":"N18","v":2122},{"$f":"COUNTIF(L25:L42,Y18)","v":7},{"$f":"Z18/(AB4-Z20)","v":0.53846153846153844},{"$f":"IF(AA18=0,0,(AA18*((LOG(AA18))/LOG(2))))","v":-0.48089181327572433},null,{"$f":"N18","v":2122},{"$f":"COUNTIF(L43:L61,AD18)","v":11},{"$f":"AE18/(AG4-AE20)","v":0.57894736842105265},{"$f":"IF(AF18=0,0,(AF18*((LOG(AF18))/LOG(2))))","v":-0.45649762330890375},null,{"$f":"N18","v":2122},{"$f":"COUNTIF(L62:L79,AI18)","v":6},{"$f":"AJ18/(AL4-AJ20)","v":0.33333333333333331},{"$f":"IF(AK18=0,0,(AK18*((LOG(AK18))/LOG(2))))","v":-0.52832083357371862},null,{"$f":"N18","v":2122},{"$f":"COUNTIF(L80:L97,AN18)","v":4},{"$f":"AO18/(AQ4-AO20)","v":0.26666666666666666},{"$f":"IF(AP18=0,0,(AP18*((LOG(AP18))/LOG(2))))","v":-0.50850415882893829},null,{"$f":"N18","v":2122},{"$f":"COUNTIF(L98:L115,AS18)","v":6},{"$f":"AT18/(AV4-AT20)","v":0.375},{"$f":"IF(AU18=0,0,(AU18*((LOG(AU18))/LOG(2))))","v":-0.53063906222956647}]
[21,2780,12,2789,24,2814,23,2832,null,null,0,2122,null,2211,{"$f":"COUNTIF($L$7:$L$500,N19)","v":4},{"$f":"O19/$Q$4","v":3.669724770642202E-2},{"$f":"IF(P19=0,0,(P19*((LOG(P19))/LOG(2))))","v":-0.1749792412762175},null,null,{"$f":"N19","v":2211},{"$f":"COUNTIF(L7:L24,T19)","v":0},{"$f":"U19/(W4-U20)","v":0},{"$f":"IF(V19=0,0,(V19*((LOG(V19))/LOG(2))))","v":0},null,{"$f":"N19","v":2211},{"$f":"COUNTIF(L25:L42,Y19)","v":1},{"$f":"Z19/(AB4-Z20)","v":7.6923076923076927E-2},{"$f":"IF(AA19=0,0,(AA19*((LOG(AA19))/LOG(2))))","v":-0.28464920908777636},null,{"$f":"N19","v":2211},{"$f":"COUNTIF(L43:L61,AD19)","v":1},{"$f":"AE19/(AG4-AE20)","v":5.2631578947368418E-2},{"$f":"IF(AF19=0,0,(AF19*((LOG(AF19))/LOG(2))))","v":-0.22357513228650452},null,{"$f":"N19","v":2211},{"$f":"COUNTIF(L62:L79,AI19)","v":1},{"$f":"AJ19/(AL4-AJ20)","v":5.5555555555555552E-2},{"$f":"IF(AK19=0,0,(AK19*((LOG(AK19))/LOG(2))))","v":-0.23166250008012845},null,{"$f":"N19","v":2211},{"$f":"COUNTIF(L80:L97,AN19)","v":0},{"$f":"AO19/(AQ4-AO20)","v":0},{"$f":"IF(AP19=0,0,(AP19*((LOG(AP19))/LOG(2))))","v":0},null,{"$f":"N19","v":2211},{"$f":"COUNTIF(L98:L115,AS19)","v":1},{"$f":"AT19/(AV4-AT20)","v":6.25E-2},{"$f":"IF(AU19=0,0,(AU19*((LOG(AU19))/LOG(2))))","v":-0.25}]
[12,2975,23,2995,24,3020,23,3043,null,null,0,1222,null,2212,{"$f":"COUNTIF($L$7:$L$500,N20)","v":10},{"$f":"O20/$Q$4","v":9.1743119266055051E-2},{"$f":"IF(P20=0,0,(P20*((LOG(P20))/LOG(2))))","v":-0.31617029632014348},null,null,{"$f":"N20","v":2212},{"$f":"COUNTIF(L7:L24,T20)","v":0},null,null,null,{"$f":"N20","v":2212},{"$f":"COUNTIF(L25:L42,Y20)","v":5},null,null,null,{"$f":"N20","v":2212},{"$f":"COUNTIF(L43:L61,AD20)","v":0},null,null,null,{"$f":"N20","v":2212},{"$f":"COUNTIF(L62:L79,AI20)","v":0},null,null,null,{"$f":"N20","v":2212},{"$f":"COUNTIF(L80:L97,AN20)","v":3},null,null,null,{"$f":"N20","v":2212},{"$f":"COUNTIF(L98:L115,AS20)","v":2}]
[12,3162,23,3170,13,3178,23,3288,null,null,0,1212,null,2221,{"$f":"COUNTIF($L$7:$L$500,N21)","v":1},{"$f":"O21/$Q$4","v":9.1743119266055051E-3},{"$f":"IF(P21=0,0,(P21*((LOG(P21))/LOG(2))))","v":-6.2093434172265385E-2},null,null,{"$f":"N21","v":2221},{"$f":"COUNTIF(L7:L24,T21)","v":1},{"$f":"U21/(W4-U20)","v":5.5555555555555552E-2},{"$f":"IF(V21=0,0,(V21*((LOG(V21))/LOG(2))))","v":-0.23166250008012845},null,{"$f":"N21","v":2221},{"$f":"COUNTIF(L25:L42,Y21)","v":0},{"$f":"Z21/(AB4-Z20)","v":0},{"$f":"IF(AA21=0,0,(AA21*((LOG(AA21))/LOG(2))))","v":0},null,{"$f":"N21","v":2221},{"$f":"COUNTIF(L43:L61,AD21)","v":0},{"$f":"AE21/(AG4-AE20)","v":0},{"$f":"IF(AF21=0,0,(AF21*((LOG(AF21))/LOG(2))))","v":0},null,{"$f":"N21","v":2221},{"$f":"COUNTIF(L62:L79,AI21)","v":0},{"$f":"AJ21/(AL4-AJ20)","v":0},{"$f":"IF(AK21=0,0,(AK21*((LOG(AK21))/LOG(2))))","v":0},null,{"$f":"N21","v":2221},{"$f":"COUNTIF(L80:L97,AN21)","v":0},{"$f":"AO21/(AQ4-AO20)","v":0},{"$f":"IF(AP21=0,0,(AP21*((LOG(AP21))/LOG(2))))","v":0},null,{"$f":"N21","v":2221},{"$f":"COUNTIF(L98:L115,AS21)","v":0},{"$f":"AT21/(AV4-AT20)","v":0},{"$f":"IF(AU21=0,0,(AU21*((LOG(AU21))/LOG(2))))","v":0}]
[21,3412,12,3430,24,3449,23,3477,null,null,0,2122,null,2222,{"$f":"COUNTIF($L$7:$L$500,N22)","v":1},{"$f":"O22/$Q$4","v":9.1743119266055051E-3},{"$f":"IF(P22=0,0,(P22*((LOG(P22))/LOG(2))))","v":-6.2093434172265385E-2},null,null,{"$f":"N22","v":2222},{"$f":"COUNTIF(L7:L24,T22)","v":0},{"$f":"U22/(W4-U20)","v":0},{"$f":"IF(V22=0,0,(V22*((LOG(V22))/LOG(2))))","v":0},null,{"$f":"N22","v":2222},{"$f":"COUNTIF(L25:L42,Y22)","v":0},{"$f":"Z22/(AB4-Z20)","v":0},{"$f":"IF(AA22=0,0,(AA22*((LOG(AA22))/LOG(2))))","v":0},null,{"$f":"N22","v":2222},{"$f":"COUNTIF(L43:L61,AD22)","v":0},{"$f":"AE22/(AG4-AE20)","v":0},{"$f":"IF(AF22=0,0,(AF22*((LOG(AF22))/LOG(2))))","v":0},null,{"$f":"N22","v":2222},{"$f":"COUNTIF(L62:L79,AI22)","v":0},{"$f":"AJ22/(AL4-AJ20)","v":0},{"$f":"IF(AK22=0,0,(AK22*((LOG(AK22))/LOG(2))))","v":0},null,{"$f":"N22","v":2222},{"$f":"COUNTIF(L80:L97,AN22)","v":0},{"$f":"AO22/(AQ4-AO20)","v":0},{"$f":"IF(AP22=0,0,(AP22*((LOG(AP22))/LOG(2))))","v":0},null,{"$f":"N22","v":2222},{"$f":"COUNTIF(L98:L115,AS22)","v":1},{"$f":"AT22/(AV4-AT20)","v":6.25E-2},{"$f":"IF(AU22=0,0,(AU22*((LOG(AU22))/LOG(2))))","v":-0.25}]
[12,3606,23,3614,13,3626,23,3681,null,null,0,1212,null,null,null,{"$f":"SUM(P7:P22)","v":1},{"$f":"-SUM(Q7:Q22)","v":3.0098490198746544},null,null,null,null,{"$f":"SUM(V7:V22)","v":1},{"$f":"-SUM(W7:W22)","v":2.6688388898504298},null,null,null,{"$f":"SUM(AA7:AA22)","v":1},{"$f":"-SUM(AB7:AB22)","v":1.6691803368667308},null,null,null,{"$f":"SUM(AF7:AF22)","v":1},{"$f":"-SUM(AG7:AG22)","v":1.8895782867502309},null,null,null,{"$f":"SUM(AK7:AK22)","v":1},{"$f":"-SUM(AL7:AL22)","v":2.5157895841746818},null,null,null,{"$f":"SUM(AP7:AP22)","v":1},{"$f":"-SUM(AQ7:AQ22)","v":2.2565647621309539},null,null,null,{"$f":"SUM(AU7:AU22)","v":1},{"$f":"-SUM(AV7:AV22)","v":2.9056390622295662}]
[21,3795,12,3812,24,3833,14,3843,null,null,0,2121,null,null,null,"U=",{"$f":"Q23/(LOG(Q4)/LOG(2))","v":0.44470553333723756},null,null,null,null,"U1=",{"$f":"W23/(LOG(W4)/LOG(2))","v":0.64002083704798529},null,null,null,"U2=",{"$f":"AB23/(LOG(AB4)/LOG(2))","v":0.40029025373103527},null,null,null,"U3=",{"$f":"AG23/(LOG(AG4)/LOG(2))","v":0.44482357120506583},null,null,null,"U4=",{"$f":"AL23/(LOG(AL4)/LOG(2))","v":0.60331770554734421},null,null,null,"U5=",{"$f":"AQ23/(LOG(AQ4)/LOG(2))","v":0.54115236157735291},null,null,null,"U6=",{"$f":"AV23/(LOG(AV4)/LOG(2))","v":0.69680847046998473}]
[21,3961,21,3970,11,3980,12,3999,null,null,0,2211]
[21,4100,12,4129,24,4163,23,4208,null,null,0,2122]
[21,4327,12,4336,13,4369,23,4494,null,null,0,2112,null,"Total Target Seq"]
[21,4607,12,4627,24,4668,23,4720,null,null,0,2122,null,{"$f":"COUNTIF(L7:L115,G3)","v":10},null,18,18,19,18,18,18]
[21,4836,21,4851,11,4862,21,4903,null,null,0,2212,null,null,null,"% of reinforcement given in 6 equal intervals based on number of trials "]
[21,5009,12,5017,13,5099,23,5158,null,null,0,2112,null,null,null,"%_1","%_2","%_3","%_4","%_5","%_6"]
[21,5280,12,5298,24,5326,23,5341,null,null,0,2122,null,null,"target sequence",{"$f":"$G$3","v":2212},{"$f":"$G$3","v":2212},{"$f":"$G$3","v":2212},{"$f":"$G$3","v":2212},{"$f":"$G$3","v":2212},{"$f":"$G$3","v":2212}]
[21,5450,12,5458,13,5472,23,5515,null,null,0,2112,null,null,"total reinforcement",{"$f":"U20","v":0},{"$f":"Z20","v":5},{"$f":"AE20","v":0},{"$f":"AJ20","v":0},{"$f":"AO20","v":3},{"$f":"AT20","v":2}]
[12,5668,23,5693,24,5701,23,5711,null,null,0,1222,null,null,"% target"]
[21,5817,21,5830,11,5838,21,5855,null,null,0,2212,null,null,"CCRF"]
[21,5959,12,5982,24,6048,23,6083,null,null,0,2122,null,null,"% CCRf"]
[21,6196,21,6232,11,6240,21,6249,null,null,0,2212,null,null,"average response rate",{"$f":"H24/P28","v":213.5},{"$f":"(H42-H24)/Q28","v":193.44444444444446},{"$f":"(H61-H42)/R28","v":189.78947368421052},{"$f":"(H79-H61)/S28","v":230.38888888888889},{"$f":"(H97-H79)/T28","v":229.55555555555554},{"$f":"(H115-H97)/U28","v":260.77777777777777}]
[21,6357,12,6365,24,6409,23,6436,null,null,0,2122]
[21,6539,12,6560,24,6585,23,6661,null,null,0,2122]
[21,6781,21,6790,11,6799,21,6832,null,null,0,2212]
[21,6963,12,6971,24,6989,23,6997,null,null,0,2122]
[21,7100,21,7109,11,7116,21,7150,null,null,0,2212]
[12,7260,23,7294,24,7309,23,7325,null,null,0,1222]
[21,7445,12,7452,24,7470,23,7495,null,null,0,2122]
[21,7625,12,7633,24,7670,23,7689,null,null,0,2122]
[21,7791,12,7799,13,7816,23,7834,null,null,0,2112]
[21,7974,12,7996,24,8024,23,8032,null,null,0,2122]
[21,8142,12,8150,24,8183,23,8228,null,null,0,2122]
[21,8348,12,8356,24,8380,23,8388,null,null,0,2122]
[12,8523,23,8594,13,8604,23,8612,null,null,0,1212]
[21,8713,12,8730,24,8748,23,8755,null,null,0,2122]
[12,8870,14,8887,24,8940,23,8949,null,null,0,1122]
[12,9067,23,9146,24,9168,23,9205,null,null,0,1222]
[21,9306,12,9346,24,9381,23,9399,null,null,0,2122]
[21,9524,12,9532,24,9558,23,9566,null,null,0,2122]
[12,9686,23,9703,24,9720,23,9743,null,null,0,1222]
[12,9876,23,9893,24,9902,23,9977,null,null,0,1222]
[21,10091,12,10098,24,10114,23,10131,null,null,0,2122]
[21,10257,12,10264,24,10291,23,10366,null,null,0,2122]
[12,10490,14,10511,24,10530,23,10538,null,null,0,1122]
[21,10639,12,10656,24,10683,23,10792,null,null,0,2122]
[21,10893,21,10905,11,10912,12,10931,null,null,0,2211]
[21,11066,12,11089,13,11209,23,11220,null,null,0,2112]
[12,11337,14,11369,24,11459,14,11492,null,null,0,1121]
[21,11595,21,11603,11,11611,12,11697,null,null,0,2211]
[21,11815,12,11823,24,11870,14,11879,null,null,0,2121]
[21,11984,12,11993,13,12009,23,12040,null,null,0,2112]
[21,12152,12,12160,24,12172,23,12190,null,null,0,2122]
[21,12303,12,12312,24,12321,23,12358,null,null,0,2122]
[12,12494,23,12515,24,12542,23,12609,null,null,0,1222]
[21,12709,12,12728,24,12767,23,12901,null,null,0,2122]
[21,13010,12,13021,24,13029,23,13037,null,null,0,2122]
[21,13160,12,13168,24,13195,23,13293,null,null,0,2122]
[12,13414,23,13424,24,13432,14,13446,null,null,0,1221]
[21,13549,12,13577,24,13607,14,13713,null,null,0,2121]
[21,13830,12,13838,13,13945,23,13955,null,null,0,2112]
[21,14056,12,14072,24,14091,14,14161,null,null,0,2121]
[12,14280,23,14297,24,14330,14,14472,null,null,0,1221]
[21,14585,12,14594,24,14632,23,14729,null,null,0,2122]
[12,14845,23,15016,24,15028,14,15078,null,null,0,1221]
[21,15201,12,15209,24,15219,23,15335,null,null,0,2122]
[21,15443,21,15482,11,15607,21,15615,null,null,0,2212]
[12,15732,23,15751,24,15799,14,15811,null,null,0,1221]
[21,15912,12,15929,24,15992,14,16088,null,null,0,2121]
[21,16191,21,16207,11,16218,21,16240,null,null,0,2212]
[21,16333,12,16341,24,16368,14,16416,null,null,0,2121]
[12,16533,23,16547,24,16555,14,16592,null,null,0,1221]
[21,16691,12,16715,24,16735,23,16743,null,null,0,2122]
[21,16843,21,16850,11,16859,21,16877,null,null,0,2212]
[12,16999,23,17107,24,17133,14,17142,null,null,0,1221]
[12,17266,23,17361,24,17403,23,17478,null,null,0,1222]
[21,17591,12,17599,24,17624,23,17632,null,null,0,2122]
[21,17731,12,17748,24,17765,23,17782,null,null,0,2122]
[12,17899,23,17923,24,17989,23,17999,null,null,0,1222]
[12,18116,23,18354,24,18382,23,18425,null,null,0,1222]
[12,18548,23,18574,13,18735,23,18753,null,null,0,1212]
[12,18862,23,18899,24,18959,23,18968,null,null,0,1222]
[12,19086,23,19103,13,19191,23,19210,null,null,0,1212]
[12,19317,23,19348,24,19389,23,19398,null,null,0,1222]
[21,19499,12,19507,24,19534,23,19661,null,null,0,2122]
[21,19762,12,19771,13,19821,14,19996,null,null,0,2111]
[12,20109,23,20118,24,20127,14,20245,null,null,0,1221]
[21,20345,12,20369,24,20421,14,20509,null,null,0,2121]
[21,20769,12,20778,24,20791,23,20800,null,null,0,2122]
[21,20902,12,20918,13,21057,23,21074,null,null,0,2112]
[21,21175,12,21191,24,21219,23,21265,null,null,0,2122]
[12,21393,23,21439,24,21490,14,21502,null,null,0,1221]
[21,21603,21,21612,11,21623,21,21632,null,null,0,2212]
[21,21727,21,21746,11,21754,12,21878,null,null,0,2211]
[21,21977,21,21990,11,21997,21,22169,null,null,0,2212]
[21,22269,21,22353,22,22470,23,22479,null,null,0,2222]
[21,22704,12,22722,24,22741,23,22777,null,null,0,2122]
[12,22916,14,22994,24,23045,23,23126,null,null,0,1122]
[21,23238,12,23246,24,23299,23,23415,null,null,0,2122]
[12,23531,14,23609,13,23706,23,23731,null,null,0,1112]
[21,23847,12,23856,24,23867,23,23904,null,null,0,2122]

{"sheet":"!N121B40.095","index":23,"n_rows":120,"n_cols":48,"rows_kept":120,"cut":false,"hidden":false,"merged":[[4,39,4,42],[5,39,5,40],[4,44,4,47],[5,44,5,45],[4,24,4,27],[5,24,5,25],[4,29,4,32],[5,29,5,30],[4,34,4,37],[5,34,5,35],[1,1,1,2],[5,13,5,14],[26,13,26,14],[27,13,27,14],[4,19,4,22],[5,19,5,20]]}
["Report for:!N121B40.095"]
["Date:","<date>"]
["Hen:","<hen>",null,null,null,"Correct Sequence",{"$f":"Start!J2","v":2212},null,null,null,null,null,null,null,null,"Total Sequences in Data",{"$f":"4994-COUNTBLANK(L7:L5000)","v":114},null,null,null,null,"Total Sequences in Block Data",{"$f":"COUNTA(L7:L25)","v":19},null,null,null,"Total Sequences in Block Data",{"$f":"COUNTA(L26:L44)","v":19},null,null,null,"Total Sequences in Block Data",{"$f":"COUNTA(L45:L63)","v":19},null,null,null,"Total Sequences in Block Data",{"$f":"COUNTA(L64:L82)","v":19},null,null,null,"Total Sequences in Block Data",{"$f":"COUNTA(L83:L101)","v":19},null,null,null,"Total Sequences in Block Data",{"$f":"COUNTA(L102:L120)","v":19}]
[null,null,null,null,null,null,null,null,null,null,null,null,null,null,null,"Total Sequences in Summary",{"$f":"SUM(O7:O22)","v":114},null,null,null,null,"Total Sequences in Block Summary",{"$f":"SUM(U7:U22)","v":19},null,null,null,"Total Sequences in Block Summary",{"$f":"SUM(Z7:Z22)","v":19},null,null,null,"Total Sequences in Block Summary",{"$f":"SUM(AE7:AE22)","v":19},null,null,null,"Total Sequences in Block Summary",{"$f":"SUM(AJ7:AJ22)","v":19},null,null,null,"Total Sequences in Block Summary",{"$f":"SUM(AO7:AO22)","v":19},null,null,null,"Total Sequences in Block Summary",{"$f":"SUM(AT7:AT22)","v":19}]
[null,null,null,null,null,null,null,null,null,null,null,null,null,null,null,null,null,null,null,"Block 1",null,null,null,null,"Block 2",null,null,null,null,"Block 3",null,null,null,null,"Block 4",null,null,null,null,"Block 5",null,null,null,null,"Block 6"]
["Sequence\nComponent\n1","Time\n1","Sequence\nComponent\n2","Time\n2","Sequence\nComponent\n3","Time\n3","Sequence\nComponent\n4","Time\n4","Sequence\nComponent\n5","Time\n5","Correct?\n0=No 1=Yes","Sequence",null,"Frequency",null,"Relative Frequency","Variability",null,null,"Frequency",null,"Relative Frequency","Variability",null,"Frequency",null,"Relative Frequency","Variability",null,"Frequency",null,"Relative Frequency","Variability",null,"Frequency",null,"Relative Frequency","Variability",null,"Frequency",null,"Relative Frequency","Variability",null,"Frequency",null,"Relative Frequency","Variability"]
[12,74,14,202,13,264,23,371,null,null,0,1112,null,1111,{"$f":"COUNTIF($L$7:$L$500,N7)","v":0},{"$f":"O7/$Q$4","v":0},{"$f":"IF(P7=0,0,(P7*((LOG(P7))/LOG(2))))","v":0},null,null,{"$f":"N7","v":1111},{"$f":"COUNTIF(L7:L25,T7)","v":0},{"$f":"U7/(W4-U20)","v":0},{"$f":"IF(V7=0,0,(V7*((LOG(V7))/LOG(2))))","v":0},null,{"$f":"N7","v":1111},{"$f":"COUNTIF(L26:L44,Y7)","v":0},{"$f":"Z7/(AB4-Z20)","v":0},{"$f":"IF(AA7=0,0,(AA7*((LOG(AA7))/LOG(2))))","v":0},null,{"$f":"N7","v":1111},{"$f":"COUNTIF(L45:L63,AD7)","v":0},{"$f":"AE7/(AG4-AE20)","v":0},{"$f":"IF(AF7=0,0,(AF7*((LOG(AF7))/LOG(2))))","v":0},null,{"$f":"N7","v":1111},{"$f":"COUNTIF(L64:L82,AI7)","v":0},{"$f":"AJ7/(AL4-AJ20)","v":0},{"$f":"IF(AK7=0,0,(AK7*((LOG(AK7))/LOG(2))))","v":0},null,{"$f":"N7","v":1111},{"$f":"COUNTIF(L83:L101,AN7)","v":0},{"$f":"AO7/(AQ4-AO20)","v":0},{"$f":"IF(AP7=0,0,(AP7*((LOG(AP7))/LOG(2))))","v":0},null,{"$f":"N7","v":1111},{"$f":"COUNTIF(L102:L120,AS7)","v":0},{"$f":"AT7/(AV4-AT20)","v":0},{"$f":"IF(AU7=0,0,(AU7*((LOG(AU7))/LOG(2))))","v":0}]
[21,473,12,488,13,503,23,593,null,null,0,2112,null,1112,{"$f":"COUNTIF($L$7:$L$500,N8)","v":1},{"$f":"O8/$Q$4","v":8.771929824561403E-3},{"$f":"IF(P8=0,0,(P8*((LOG(P8))/LOG(2))))","v":-5.993763170319949E-2},null,null,{"$f":"N8","v":1112},{"$f":"COUNTIF(L7:L25,T8)","v":1},{"$f":"U8/(W4-U20)","v":5.2631578947368418E-2},{"$f":"IF(V8=0,0,(V8*((LOG(V8))/LOG(2))))","v":-0.22357513228650452},null,{"$f":"N8","v":1112},{"$f":"COUNTIF(L26:L44,Y8)","v":0},{"$f":"Z8/(AB4-Z20)","v":0},{"$f":"IF(AA8=0,0,(AA8*((LOG(AA8))/LOG(2))))","v":0},null,{"$f":"N8","v":1112},{"$f":"COUNTIF(L45:L63,AD8)","v":0},{"$f":"AE8/(AG4-AE20)","v":0},{"$f":"IF(AF8=0,0,(AF8*((LOG(AF8))/LOG(2))))","v":0},null,{"$f":"N8","v":1112},{"$f":"COUNTIF(L64:L82,AI8)","v":0},{"$f":"AJ8/(AL4-AJ20)","v":0},{"$f":"IF(AK8=0,0,(AK8*((LOG(AK8))/LOG(2))))","v":0},null,{"$f":"N8","v":1112},{"$f":"COUNTIF(L83:L101,AN8)","v":0},{"$f":"AO8/(AQ4-AO20)","v":0},{"$f":"IF(AP8=0,0,(AP8*((LOG(AP8))/LOG(2))))","v":0},null,{"$f":"N8","v":1112},{"$f":"COUNTIF(L102:L120,AS8)","v":0},{"$f":"AT8/(AV4-AT20)","v":0},{"$f":"IF(AU8=0,0,(AU8*((LOG(AU8))/LOG(2))))","v":0}]
[21,729,12,749,24,823,23,868,null,null,0,2122,null,1121,{"$f":"COUNTIF($L$7:$L$500,N9)","v":0},{"$f":"O9/$Q$4","v":0},{"$f":"IF(P9=0,0,(P9*((LOG(P9))/LOG(2))))","v":0},null,null,{"$f":"N9","v":1121},{"$f":"COUNTIF(L7:L25,T9)","v":0},{"$f":"U9/(W4-U20)","v":0},{"$f":"IF(V9=0,0,(V9*((LOG(V9))/LOG(2))))","v":0},null,{"$f":"N9","v":1121},{"$f":"COUNTIF(L26:L44,Y9)","v":0},{"$f":"Z9/(AB4-Z20)","v":0},{"$f":"IF(AA9=0,0,(AA9*((LOG(AA9))/LOG(2))))","v":0},null,{"$f":"N9","v":1121},{"$f":"COUNTIF(L45:L63,AD9)","v":0},{"$f":"AE9/(AG4-AE20)","v":0},{"$f":"IF(AF9=0,0,(AF9*((LOG(AF9))/LOG(2))))","v":0},null,{"$f":"N9","v":1121},{"$f":"COUNTIF(L64:L82,AI9)","v":0},{"$f":"AJ9/(AL4-AJ20)","v":0},{"$f":"IF(AK9=0,0,(AK9*((LOG(AK9))/LOG(2))))","v":0},null,{"$f":"N9","v":1121},{"$f":"COUNTIF(L83:L101,AN9)","v":0},{"$f":"AO9/(AQ4-AO20)","v":0},{"$f":"IF(AP9=0,0,(AP9*((LOG(AP9))/LOG(2))))","v":0},null,{"$f":"N9","v":1121},{"$f":"COUNTIF(L102:L120,AS9)","v":0},{"$f":"AT9/(AV4-AT20)","v":0},{"$f":"IF(AU9=0,0,(AU9*((LOG(AU9))/LOG(2))))","v":0}]
[21,970,21,978,11,986,12,1000,null,null,0,2211,null,1122,{"$f":"COUNTIF($L$7:$L$500,N10)","v":1},{"$f":"O10/$Q$4","v":8.771929824561403E-3},{"$f":"IF(P10=0,0,(P10*((LOG(P10))/LOG(2))))","v":-5.993763170319949E-2},null,null,{"$f":"N10","v":1122},{"$f":"COUNTIF(L7:L25,T10)","v":0},{"$f":"U10/(W4-U20)","v":0},{"$f":"IF(V10=0,0,(V10*((LOG(V10))/LOG(2))))","v":0},null,{"$f":"N10","v":1122},{"$f":"COUNTIF(L26:L44,Y10)","v":1},{"$f":"Z10/(AB4-Z20)","v":6.6666666666666666E-2},{"$f":"IF(AA10=0,0,(AA10*((LOG(AA10))/LOG(2))))","v":-0.26045937304056793},null,{"$f":"N10","v":1122},{"$f":"COUNTIF(L45:L63,AD10)","v":0},{"$f":"AE10/(AG4-AE20)","v":0},{"$f":"IF(AF10=0,0,(AF10*((LOG(AF10))/LOG(2))))","v":0},null,{"$f":"N10","v":1122},{"$f":"COUNTIF(L64:L82,AI10)","v":0},{"$f":"AJ10/(AL4-AJ20)","v":0},{"$f":"IF(AK10=0,0,(AK10*((LOG(AK10))/LOG(2))))","v":0},null,{"$f":"N10","v":1122},{"$f":"COUNTIF(L83:L101,AN10)","v":0},{"$f":"AO10/(AQ4-AO20)","v":0},{"$f":"IF(AP10=0,0,(AP10*((LOG(AP10))/LOG(2))))","v":0},null,{"$f":"N10","v":1122},{"$f":"COUNTIF(L102:L120,AS10)","v":0},{"$f":"AT10/(AV4-AT20)","v":0},{"$f":"IF(AU10=0,0,(AU10*((LOG(AU10))/LOG(2))))","v":0}]
[21,1113,12,1122,13,1139,23,1166,null,null,0,2112,null,1211,{"$f":"COUNTIF($L$7:$L$500,N11)","v":0},{"$f":"O11/$Q$4","v":0},{"$f":"IF(P11=0,0,(P11*((LOG(P11))/LOG(2))))","v":0},null,null,{"$f":"N11","v":1211},{"$f":"COUNTIF(L7:L25,T11)","v":0},{"$f":"U11/(W4-U20)","v":0},{"$f":"IF(V11=0,0,(V11*((LOG(V11))/LOG(2))))","v":0},null,{"$f":"N11","v":1211},{"$f":"COUNTIF(L26:L44,Y11)","v":0},{"$f":"Z11/(AB4-Z20)","v":0},{"$f":"IF(AA11=0,0,(AA11*((LOG(AA11))/LOG(2))))","v":0},null,{"$f":"N11","v":1211},{"$f":"COUNTIF(L45:L63,AD11)","v":0},{"$f":"AE11/(AG4-AE20)","v":0},{"$f":"IF(AF11=0,0,(AF11*((LOG(AF11))/LOG(2))))","v":0},null,{"$f":"N11","v":1211},{"$f":"COUNTIF(L64:L82,AI11)","v":0},{"$f":"AJ11/(AL4-AJ20)","v":0},{"$f":"IF(AK11=0,0,(AK11*((LOG(AK11))/LOG(2))))","v":0},null,{"$f":"N11","v":1211},{"$f":"COUNTIF(L83:L101,AN11)","v":0},{"$f":"AO11/(AQ4-AO20)","v":0},{"$f":"IF(AP11=0,0,(AP11*((LOG(AP11))/LOG(2))))","v":0},null,{"$f":"N11","v":1211},{"$f":"COUNTIF(L102:L120,AS11)","v":0},{"$f":"AT11/(AV4-AT20)","v":0},{"$f":"IF(AU11=0,0,(AU11*((LOG(AU11))/LOG(2))))","v":0}]
[12,1295,23,1328,24,1350,14,1375,null,null,0,1221,null,1212,{"$f":"COUNTIF($L$7:$L$500,N12)","v":0},{"$f":"O12/$Q$4","v":0},{"$f":"IF(P12=0,0,(P12*((LOG(P12))/LOG(2))))","v":0},null,null,{"$f":"N12","v":1212},{"$f":"COUNTIF(L7:L25,T12)","v":0},{"$f":"U12/(W4-U20)","v":0},{"$f":"IF(V12=0,0,(V12*((LOG(V12))/LOG(2))))","v":0},null,{"$f":"N12","v":1212},{"$f":"COUNTIF(L26:L44,Y12)","v":0},{"$f":"Z12/(AB4-Z20)","v":0},{"$f":"IF(AA12=0,0,(AA12*((LOG(AA12))/LOG(2))))","v":0},null,{"$f":"N12","v":1212},{"$f":"COUNTIF(L45:L63,AD12)","v":0},{"$f":"AE12/(AG4-AE20)","v":0},{"$f":"IF(AF12=0,0,(AF12*((LOG(AF12))/LOG(2))))","v":0},null,{"$f":"N12","v":1212},{"$f":"COUNTIF(L64:L82,AI12)","v":0},{"$f":"AJ12/(AL4-AJ20)","v":0},{"$f":"IF(AK12=0,0,(AK12*((LOG(AK12))/LOG(2))))","v":0},null,{"$f":"N12","v":1212},{"$f":"COUNTIF(L83:L101,AN12)","v":0},{"$f":"AO12/(AQ4-AO20)","v":0},{"$f":"IF(AP12=0,0,(AP12*((LOG(AP12))/LOG(2))))","v":0},null,{"$f":"N12","v":1212},{"$f":"COUNTIF(L102:L120,AS12)","v":0},{"$f":"AT12/(AV4-AT20)","v":0},{"$f":"IF(AU12=0,0,(AU12*((LOG(AU12))/LOG(2))))","v":0}]
[21,1487,12,1525,24,1565,23,1606,null,null,0,2122,null,1221,{"$f":"COUNTIF($L$7:$L$500,N13)","v":1},{"$f":"O13/$Q$4","v":8.771929824561403E-3},{"$f":"IF(P13=0,0,(P13*((LOG(P13))/LOG(2))))","v":-5.993763170319949E-2},null,null,{"$f":"N13","v":1221},{"$f":"COUNTIF(L7:L25,T13)","v":1},{"$f":"U13/(W4-U20)","v":5.2631578947368418E-2},{"$f":"IF(V13=0,0,(V13*((LOG(V13))/LOG(2))))","v":-0.22357513228650452},null,{"$f":"N13","v":1221},{"$f":"COUNTIF(L26:L44,Y13)","v":0},{"$f":"Z13/(AB4-Z20)","v":0},{"$f":"IF(AA13=0,0,(AA13*((LOG(AA13))/LOG(2))))","v":0},null,{"$f":"N13","v":1221},{"$f":"COUNTIF(L45:L63,AD13)","v":0},{"$f":"AE13/(AG4-AE20)","v":0},{"$f":"IF(AF13=0,0,(AF13*((LOG(AF13))/LOG(2))))","v":0},null,{"$f":"N13","v":1221},{"$f":"COUNTIF(L64:L82,AI13)","v":0},{"$f":"AJ13/(AL4-AJ20)","v":0},{"$f":"IF(AK13=0,0,(AK13*((LOG(AK13))/LOG(2))))","v":0},null,{"$f":"N13","v":1221},{"$f":"COUNTIF(L83:L101,AN13)","v":0},{"$f":"AO13/(AQ4-AO20)","v":0},{"$f":"IF(AP13=0,0,(AP13*((LOG(AP13))/LOG(2))))","v":0},null,{"$f":"N13","v":1221},{"$f":"COUNTIF(L102:L120,AS13)","v":0},{"$f":"AT13/(AV4-AT20)","v":0},{"$f":"IF(AU13=0,0,(AU13*((LOG(AU13))/LOG(2))))","v":0}]
[21,1737,12,1746,13,1818,23,1835,null,null,0,2112,null,1222,{"$f":"COUNTIF($L$7:$L$500,N14)","v":9},{"$f":"O14/$Q$4","v":7.8947368421052627E-2},{"$f":"IF(P14=0,0,(P14*((LOG(P14))/LOG(2))))","v":-0.28918144837282334},null,null,{"$f":"N14","v":1222},{"$f":"COUNTIF(L7:L25,T14)","v":4},{"$f":"U14/(W4-U20)","v":0.21052631578947367},{"$f":"IF(V14=0,0,(V14*((LOG(V14))/LOG(2))))","v":-0.47324789756707064},null,{"$f":"N14","v":1222},{"$f":"COUNTIF(L26:L44,Y14)","v":2},{"$f":"Z14/(AB4-Z20)","v":0.13333333333333333},{"$f":"IF(AA14=0,0,(AA14*((LOG(AA14))/LOG(2))))","v":-0.3875854127478025},null,{"$f":"N14","v":1222},{"$f":"COUNTIF(L45:L63,AD14)","v":0},{"$f":"AE14/(AG4-AE20)","v":0},{"$f":"IF(AF14=0,0,(AF14*((LOG(AF14))/LOG(2))))","v":0},null,{"$f":"N14","v":1222},{"$f":"COUNTIF(L64:L82,AI14)","v":0},{"$f":"AJ14/(AL4-AJ20)","v":0},{"$f":"IF(AK14=0,0,(AK14*((LOG(AK14))/LOG(2))))","v":0},null,{"$f":"N14","v":1222},{"$f":"COUNTIF(L83:L101,AN14)","v":1},{"$f":"AO14/(AQ4-AO20)","v":0.1},{"$f":"IF(AP14=0,0,(AP14*((LOG(AP14))/LOG(2))))","v":-0.33219280948873625},null,{"$f":"N14","v":1222},{"$f":"COUNTIF(L102:L120,AS14)","v":2},{"$f":"AT14/(AV4-AT20)","v":0.18181818181818182},{"$f":"IF(AU14=0,0,(AU14*((LOG(AU14))/LOG(2))))","v":-0.44716938520678134}]
[12,1967,23,1998,24,2050,23,2221,null,null,0,1222,null,2111,{"$f":"COUNTIF($L$7:$L$500,N15)","v":0},{"$f":"O15/$Q$4","v":0},{"$f":"IF(P15=0,0,(P15*((LOG(P15))/LOG(2))))","v":0},null,null,{"$f":"N15","v":2111},{"$f":"COUNTIF(L7:L25,T15)","v":0},{"$f":"U15/(W4-U20)","v":0},{"$f":"IF(V15=0,0,(V15*((LOG(V15))/LOG(2))))","v":0},null,{"$f":"N15","v":2111},{"$f":"COUNTIF(L26:L44,Y15)","v":0},{"$f":"Z15/(AB4-Z20)","v":0},{"$f":"IF(AA15=0,0,(AA15*((LOG(AA15))/LOG(2))))","v":0},null,{"$f":"N15","v":2111},{"$f":"COUNTIF(L45:L63,AD15)","v":0},{"$f":"AE15/(AG4-AE20)","v":0},{"$f":"IF(AF15=0,0,(AF15*((LOG(AF15))/LOG(2))))","v":0},null,{"$f":"N15","v":2111},{"$f":"COUNTIF(L64:L82,AI15)","v":0},{"$f":"AJ15/(AL4-AJ20)","v":0},{"$f":"IF(AK15=0,0,(AK15*((LOG(AK15))/LOG(2))))","v":0},null,{"$f":"N15","v":2111},{"$f":"COUNTIF(L83:L101,AN15)","v":0},{"$f":"AO15/(AQ4-AO20)","v":0},{"$f":"IF(AP15=0,0,(AP15*((LOG(AP15))/LOG(2))))","v":0},null,{"$f":"N15","v":2111},{"$f":"COUNTIF(L102:L120,AS15)","v":0},{"$f":"AT15/(AV4-AT20)","v":0},{"$f":"IF(AU15=0,0,(AU15*((LOG(AU15))/LOG(2))))","v":0}]
[12,2367,23,2393,24,2401,23,2440,null,null,0,1222,null,2112,{"$f":"COUNTIF($L$7:$L$500,N16)","v":5},{"$f":"O16/$Q$4","v":4.3859649122807015E-2},{"$f":"IF(P16=0,0,(P16*((LOG(P16))/LOG(2))))","v":-0.19784920698584996},null,null,{"$f":"N16","v":2112},{"$f":"COUNTIF(L7:L25,T16)","v":4},{"$f":"U16/(W4-U20)","v":0.21052631578947367},{"$f":"IF(V16=0,0,(V16*((LOG(V16))/LOG(2))))","v":-0.47324789756707064},null,{"$f":"N16","v":2112},{"$f":"COUNTIF(L26:L44,Y16)","v":0},{"$f":"Z16/(AB4-Z20)","v":0},{"$f":"IF(AA16=0,0,(AA16*((LOG(AA16))/LOG(2))))","v":0},null,{"$f":"N16","v":2112},{"$f":"COUNTIF(L45:L63,AD16)","v":1},{"$f":"AE16/(AG4-AE20)","v":0.1},{"$f":"IF(AF16=0,0,(AF16*((LOG(AF16))/LOG(2))))","v":-0.33219280948873625},null,{"$f":"N16","v":2112},{"$f":"COUNTIF(L64:L82,AI16)","v":0},{"$f":"AJ16/(AL4-AJ20)","v":0},{"$f":"IF(AK16=0,0,(AK16*((LOG(AK16))/LOG(2))))","v":0},null,{"$f":"N16","v":2112},{"$f":"COUNTIF(L83:L101,AN16)","v":0},{"$f":"AO16/(AQ4-AO20)","v":0},{"$f":"IF(AP16=0,0,(AP16*((LOG(AP16))/LOG(2))))","v":0},null,{"$f":"N16","v":2112},{"$f":"COUNTIF(L102:L120,AS16)","v":0},{"$f":"AT16/(AV4-AT20)","v":0},{"$f":"IF(AU16=0,0,(AU16*((LOG(AU16))/LOG(2))))","v":0}]
[21,2565,12,2583,13,2614,23,2648,null,null,0,2112,null,2121,{"$f":"COUNTIF($L$7:$L$500,N17)","v":3},{"$f":"O17/$Q$4","v":2.6315789473684209E-2},{"$f":"IF(P17=0,0,(P17*((LOG(P17))/LOG(2))))","v":-0.13810335561693646},null,null,{"$f":"N17","v":2121},{"$f":"COUNTIF(L7:L25,T17)","v":0},{"$f":"U17/(W4-U20)","v":0},{"$f":"IF(V17=0,0,(V17*((LOG(V17))/LOG(2))))","v":0},null,{"$f":"N17","v":2121},{"$f":"COUNTIF(L26:L44,Y17)","v":1},{"$f":"Z17/(AB4-Z20)","v":6.6666666666666666E-2},{"$f":"IF(AA17=0,0,(AA17*((LOG(AA17))/LOG(2))))","v":-0.26045937304056793},null,{"$f":"N17","v":2121},{"$f":"COUNTIF(L45:L63,AD17)","v":0},{"$f":"AE17/(AG4-AE20)","v":0},{"$f":"IF(AF17=0,0,(AF17*((LOG(AF17))/LOG(2))))","v":0},null,{"$f":"N17","v":2121},{"$f":"COUNTIF(L64:L82,AI17)","v":0},{"$f":"AJ17/(AL4-AJ20)","v":0},{"$f":"IF(AK17=0,0,(AK17*((LOG(AK17))/LOG(2))))","v":0},null,{"$f":"N17","v":2121},{"$f":"COUNTIF(L83:L101,AN17)","v":0},{"$f":"AO17/(AQ4-AO20)","v":0},{"$f":"IF(AP17=0,0,(AP17*((LOG(AP17))/LOG(2))))","v":0},null,{"$f":"N17","v":2121},{"$f":"COUNTIF(L102:L120,AS17)","v":2},{"$f":"AT17/(AV4-AT20)","v":0.18181818181818182},{"$f":"IF(AU17=0,0,(AU17*((LOG(AU17))/LOG(2))))","v":-0.44716938520678134}]
[21,2756,21,2764,11,2784,12,2815,null,null,0,2211,null,2122,{"$f":"COUNTIF($L$7:$L$500,N18)","v":25},{"$f":"O18/$Q$4","v":0.21929824561403508},{"$f":"IF(P18=0,0,(P18*((LOG(P18))/LOG(2))))","v":-0.48005127727851243},null,null,{"$f":"N18","v":2122},{"$f":"COUNTIF(L7:L25,T18)","v":3},{"$f":"U18/(W4-U20)","v":0.15789473684210525},{"$f":"IF(V18=0,0,(V18*((LOG(V18))/LOG(2))))","v":-0.42046815990354147},null,{"$f":"N18","v":2122},{"$f":"COUNTIF(L26:L44,Y18)","v":6},{"$f":"Z18/(AB4-Z20)","v":0.4},{"$f":"IF(AA18=0,0,(AA18*((LOG(AA18))/LOG(2))))","v":-0.52877123795494496},null,{"$f":"N18","v":2122},{"$f":"COUNTIF(L45:L63,AD18)","v":4},{"$f":"AE18/(AG4-AE20)","v":0.4},{"$f":"IF(AF18=0,0,(AF18*((LOG(AF18))/LOG(2))))","v":-0.52877123795494496},null,{"$f":"N18","v":2122},{"$f":"COUNTIF(L64:L82,AI18)","v":1},{"$f":"AJ18/(AL4-AJ20)","v":0.1111111111111111},{"$f":"IF(AK18=0,0,(AK18*((LOG(AK18))/LOG(2))))","v":-0.3522138890491458},null,{"$f":"N18","v":2122},{"$f":"COUNTIF(L83:L101,AN18)","v":4},{"$f":"AO18/(AQ4-AO20)","v":0.4},{"$f":"IF(AP18=0,0,(AP18*((LOG(AP18))/LOG(2))))","v":-0.52877123795494496},null,{"$f":"N18","v":2122},{"$f":"COUNTIF(L102:L120,AS18)","v":7},{"$f":"AT18/(AV4-AT20)","v":0.63636363636363635},{"$f":"IF(AU18=0,0,(AU18*((LOG(AU18))/LOG(2))))","v":-0.41495789782344106}]
[21,2937,21,2945,22,2954,14,2993,null,null,0,2221,null,2211,{"$f":"COUNTIF($L$7:$L$500,N19)","v":3},{"$f":"O19/$Q$4","v":2.6315789473684209E-2},{"$f":"IF(P19=0,0,(P19*((LOG(P19))/LOG(2))))","v":-0.13810335561693646},null,null,{"$f":"N19","v":2211},{"$f":"COUNTIF(L7:L25,T19)","v":2},{"$f":"U19/(W4-U20)","v":0.10526315789473684},{"$f":"IF(V19=0,0,(V19*((LOG(V19))/LOG(2))))","v":-0.34188710667827216},null,{"$f":"N19","v":2211},{"$f":"COUNTIF(L26:L44,Y19)","v":0},{"$f":"Z19/(AB4-Z20)","v":0},{"$f":"IF(AA19=0,0,(AA19*((LOG(AA19))/LOG(2))))","v":0},null,{"$f":"N19","v":2211},{"$f":"COUNTIF(L45:L63,AD19)","v":1},{"$f":"AE19/(AG4-AE20)","v":0.1},{"$f":"IF(AF19=0,0,(AF19*((LOG(AF19))/LOG(2))))","v":-0.33219280948873625},null,{"$f":"N19","v":2211},{"$f":"COUNTIF(L64:L82,AI19)","v":0},{"$f":"AJ19/(AL4-AJ20)","v":0},{"$f":"IF(AK19=0,0,(AK19*((LOG(AK19))/LOG(2))))","v":0},null,{"$f":"N19","v":2211},{"$f":"COUNTIF(L83:L101,AN19)","v":0},{"$f":"AO19/(AQ4-AO20)","v":0},{"$f":"IF(AP19=0,0,(AP19*((LOG(AP19))/LOG(2))))","v":0},null,{"$f":"N19","v":2211},{"$f":"COUNTIF(L102:L120,AS19)","v":0},{"$f":"AT19/(AV4-AT20)","v":0},{"$f":"IF(AU19=0,0,(AU19*((LOG(AU19))/LOG(2))))","v":0}]
[21,3127,12,3162,24,3267,23,3290,null,null,0,2122,null,2212,{"$f":"COUNTIF($L$7:$L$500,N20)","v":40},{"$f":"O20/$Q$4","v":0.35087719298245612},{"$f":"IF(P20=0,0,(P20*((LOG(P20))/LOG(2))))","v":-0.53016207693943129},null,null,{"$f":"N20","v":2212},{"$f":"COUNTIF(L7:L25,T20)","v":0},null,null,null,{"$f":"N20","v":2212},{"$f":"COUNTIF(L26:L44,Y20)","v":4},null,null,null,{"$f":"N20","v":2212},{"$f":"COUNTIF(L45:L63,AD20)","v":9},null,null,null,{"$f":"N20","v":2212},{"$f":"COUNTIF(L64:L82,AI20)","v":10},null,null,null,{"$f":"N20","v":2212},{"$f":"COUNTIF(L83:L101,AN20)","v":9},null,null,null,{"$f":"N20","v":2212},{"$f":"COUNTIF(L102:L120,AS20)","v":8}]
[21,3430,21,3447,22,3466,23,3537,null,null,0,2222,null,2221,{"$f":"COUNTIF($L$7:$L$500,N21)","v":17},{"$f":"O21/$Q$4","v":0.14912280701754385},{"$f":"IF(P21=0,0,(P21*((LOG(P21))/LOG(2))))","v":-0.40940580648723546},null,null,{"$f":"N21","v":2221},{"$f":"COUNTIF(L7:L25,T21)","v":2},{"$f":"U21/(W4-U20)","v":0.10526315789473684},{"$f":"IF(V21=0,0,(V21*((LOG(V21))/LOG(2))))","v":-0.34188710667827216},null,{"$f":"N21","v":2221},{"$f":"COUNTIF(L26:L44,Y21)","v":4},{"$f":"Z21/(AB4-Z20)","v":0.26666666666666666},{"$f":"IF(AA21=0,0,(AA21*((LOG(AA21))/LOG(2))))","v":-0.50850415882893829},null,{"$f":"N21","v":2221},{"$f":"COUNTIF(L45:L63,AD21)","v":3},{"$f":"AE21/(AG4-AE20)","v":0.3},{"$f":"IF(AF21=0,0,(AF21*((LOG(AF21))/LOG(2))))","v":-0.52108967824986185},null,{"$f":"N21","v":2221},{"$f":"COUNTIF(L64:L82,AI21)","v":5},{"$f":"AJ21/(AL4-AJ20)","v":0.55555555555555558},{"$f":"IF(AK21=0,0,(AK21*((LOG(AK21))/LOG(2))))","v":-0.4711093925305278},null,{"$f":"N21","v":2221},{"$f":"COUNTIF(L83:L101,AN21)","v":3},{"$f":"AO21/(AQ4-AO20)","v":0.3},{"$f":"IF(AP21=0,0,(AP21*((LOG(AP21))/LOG(2))))","v":-0.52108967824986185},null,{"$f":"N21","v":2221},{"$f":"COUNTIF(L102:L120,AS21)","v":0},{"$f":"AT21/(AV4-AT20)","v":0},{"$f":"IF(AU21=0,0,(AU21*((LOG(AU21))/LOG(2))))","v":0}]
[21,3642,21,3649,22,3656,23,3681,null,null,0,2222,null,2222,{"$f":"COUNTIF($L$7:$L$500,N22)","v":9},{"$f":"O22/$Q$4","v":7.8947368421052627E-2},{"$f":"IF(P22=0,0,(P22*((LOG(P22))/LOG(2))))","v":-0.28918144837282334},null,null,{"$f":"N22","v":2222},{"$f":"COUNTIF(L7:L25,T22)","v":2},{"$f":"U22/(W4-U20)","v":0.10526315789473684},{"$f":"IF(V22=0,0,(V22*((LOG(V22))/LOG(2))))","v":-0.34188710667827216},null,{"$f":"N22","v":2222},{"$f":"COUNTIF(L26:L44,Y22)","v":1},{"$f":"Z22/(AB4-Z20)","v":6.6666666666666666E-2},{"$f":"IF(AA22=0,0,(AA22*((LOG(AA22))/LOG(2))))","v":-0.26045937304056793},null,{"$f":"N22","v":2222},{"$f":"COUNTIF(L45:L63,AD22)","v":1},{"$f":"AE22/(AG4-AE20)","v":0.1},{"$f":"IF(AF22=0,0,(AF22*((LOG(AF22))/LOG(2))))","v":-0.33219280948873625},null,{"$f":"N22","v":2222},{"$f":"COUNTIF(L64:L82,AI22)","v":3},{"$f":"AJ22/(AL4-AJ20)","v":0.33333333333333331},{"$f":"IF(AK22=0,0,(AK22*((LOG(AK22))/LOG(2))))","v":-0.52832083357371862},null,{"$f":"N22","v":2222},{"$f":"COUNTIF(L83:L101,AN22)","v":2},{"$f":"AO22/(AQ4-AO20)","v":0.2},{"$f":"IF(AP22=0,0,(AP22*((LOG(AP22))/LOG(2))))","v":-0.46438561897747244},null,{"$f":"N22","v":2222},{"$f":"COUNTIF(L102:L120,AS22)","v":0},{"$f":"AT22/(AV4-AT20)","v":0},{"$f":"IF(AU22=0,0,(AU22*((LOG(AU22))/LOG(2))))","v":0}]
[21,3784,21,3790,22,3801,14,3818,null,null,0,2221,null,null,null,{"$f":"SUM(P7:P22)","v":1},{"$f":"-SUM(Q7:Q22)","v":2.6518508707801471},null,null,null,null,{"$f":"SUM(V7:V22)","v":0.99999999999999989},{"$f":"-SUM(W7:W22)","v":2.8397755396455087},null,null,null,{"$f":"SUM(AA7:AA22)","v":1},{"$f":"-SUM(AB7:AB22)","v":2.2062389286533897},null,null,null,{"$f":"SUM(AF7:AF22)","v":0.99999999999999989},{"$f":"-SUM(AG7:AG22)","v":2.0464393446710156},null,null,null,{"$f":"SUM(AK7:AK22)","v":1},{"$f":"-SUM(AL7:AL22)","v":1.3516441151533922},null,null,null,{"$f":"SUM(AP7:AP22)","v":1},{"$f":"-SUM(AQ7:AQ22)","v":1.8464393446710154},null,null,null,{"$f":"SUM(AU7:AU22)","v":1},{"$f":"-SUM(AV7:AV22)","v":1.3092966682370037}]
[12,3950,23,4003,24,4022,23,4073,null,null,0,1222,null,null,null,"U=",{"$f":"Q23/(LOG(Q4)/LOG(2))","v":0.38810091561298332},null,null,null,null,"U1=",{"$f":"W23/(LOG(W4)/LOG(2))","v":0.66850847399310798},null,null,null,"U2=",{"$f":"AB23/(LOG(AB4)/LOG(2))","v":0.51936830882147056},null,null,null,"U3=",{"$f":"AG23/(LOG(AG4)/LOG(2))","v":0.48175006239973905},null,null,null,"U4=",{"$f":"AL23/(LOG(AL4)/LOG(2))","v":0.31818907240667132},null,null,null,"U5=",{"$f":"AQ23/(LOG(AQ4)/LOG(2))","v":0.43466827972641137},null,null,null,"U6=",{"$f":"AV23/(LOG(AV4)/LOG(2))","v":0.30822010594423294}]
[12,4206,23,4293,24,4358,23,4383,null,null,0,1222]
[21,4508,21,4531,11,4549,21,4609,null,null,0,2212]
[21,4740,21,4787,22,4861,23,4870,null,null,0,2222,null,"Total Target Seq"]
[21,4981,12,5015,24,5096,23,5104,null,null,0,2122,null,{"$f":"COUNTIF(L7:L120,G3)","v":40},null,19,19,19,19,19,19]
[12,5234,23,5320,24,5337,23,5370,null,null,0,1222,null,null,null,"% of reinforcement given in 6 equal intervals based on number of trials "]
[21,5469,21,5482,22,5491,14,5515,null,null,0,2221,null,null,null,"%_1","%_2","%_3","%_4","%_5","%_6"]
[21,5624,21,5641,11,5649,21,5667,null,null,0,2212,null,null,"target sequence",{"$f":"$G$3","v":2212},{"$f":"$G$3","v":2212},{"$f":"$G$3","v":2212},{"$f":"$G$3","v":2212},{"$f":"$G$3","v":2212},{"$f":"$G$3","v":2212}]
[12,5786,14,5803,24,5871,23,5977,null,null,0,1122,null,null,"total reinforcement",{"$f":"U20","v":0},{"$f":"Z20","v":4},{"$f":"AE20","v":9},{"$f":"AJ20","v":10},{"$f":"AO20","v":9},{"$f":"AT20","v":8}]
[21,6091,12,6121,24,6129,23,6155,null,null,0,2122,null,null,"% target"]
[21,6265,21,6273,22,6291,14,6300,null,null,0,2221,null,null,"CCRF"]
[21,6411,21,6427,11,6435,21,6444,null,null,0,2212,null,null,"% CCRf"]
[21,6538,21,6546,22,6558,14,6574,null,null,0,2221,null,null,"average response rate",{"$f":"H25/P28","v":230.68421052631578},{"$f":"(H44-H25)/Q28","v":197.89473684210526},{"$f":"(H63-H44)/R28","v":169.94736842105263},{"$f":"(H82-H63)/S28","v":150.10526315789474},{"$f":"(H101-H82)/T28","v":140.94736842105263},{"$f":"(H120-H101)/U28","v":146.15789473684211}]
[21,6681,12,6701,24,6761,23,6808,null,null,0,2122]
[21,6930,12,6938,24,6976,23,7001,null,null,0,2122]
[21,7111,12,7126,24,7150,14,7215,null,null,0,2121]
[21,7316,12,7342,24,7404,23,7418,null,null,0,2122]
[21,7531,12,7566,24,7614,23,7628,null,null,0,2122]
[21,7732,21,7744,22,7755,14,7763,null,null,0,2221]
[21,7864,21,7871,11,7880,21,7920,null,null,0,2212]
[12,8046,23,8082,24,8133,23,8143,null,null,0,1222]
[21,8245,21,8252,22,8283,23,8291,null,null,0,2222]
[21,8397,21,8404,22,8423,14,8431,null,null,0,2221]
[21,8533,21,8571,22,8616,14,8624,null,null,0,2221]
[21,8726,12,8754,24,8835,23,8854,null,null,0,2122]
[21,8954,21,8970,11,8980,21,9011,null,null,0,2212]
[21,9108,21,9119,11,9138,21,9154,null,null,0,2212]
[21,9250,21,9257,11,9280,21,9369,null,null,0,2212]
[21,9460,21,9481,11,9489,21,9534,null,null,0,2212]
[21,9626,21,9649,11,9658,21,9675,null,null,0,2212]
[21,9779,12,9788,13,9804,23,9898,null,null,0,2112]
[21,10015,21,10023,11,10030,21,10053,null,null,0,2212]
[21,10150,21,10166,11,10185,21,10209,null,null,0,2212]
[21,10299,21,10318,11,10325,21,10364,null,null,0,2212]
[21,10484,21,10493,22,10537,14,10545,null,null,0,2221]
[21,10641,21,10655,11,10663,12,10686,null,null,0,2211]
[21,10786,21,10801,11,10809,21,10825,null,null,0,2212]
[21,10961,12,10968,24,11028,23,11036,null,null,0,2122]
[21,11138,12,11160,24,11169,23,11183,null,null,0,2122]
[21,11310,12,11319,24,11365,23,11372,null,null,0,2122]
[21,11474,21,11481,11,11497,21,11505,null,null,0,2212]
[21,11608,21,11651,11,11662,21,11701,null,null,0,2212]
[21,11791,21,11800,11,11815,21,11822,null,null,0,2212]
[21,11915,21,11941,11,11949,21,11993,null,null,0,2212]
[21,12088,21,12096,22,12110,14,12126,null,null,0,2221]
[21,12234,21,12241,22,12253,14,12268,null,null,0,2221]
[21,12368,21,12375,11,12393,21,12429,null,null,0,2212]
[21,12523,21,12530,22,12539,23,12546,null,null,0,2222]
[21,12652,21,12670,11,12678,21,12715,null,null,0,2212]
[21,12808,21,12813,22,12831,14,12839,null,null,0,2221]
[21,12939,21,12997,22,13012,23,13019,null,null,0,2222]
[21,13130,21,13142,11,13149,21,13171,null,null,0,2212]
[21,13272,12,13296,24,13312,23,13341,null,null,0,2122]
[21,13443,21,13469,11,13476,21,13484,null,null,0,2212]
[21,13582,21,13597,22,13606,14,13613,null,null,0,2221]
[21,13712,21,13719,22,13726,14,13734,null,null,0,2221]
[21,13840,21,13848,11,13878,21,13923,null,null,0,2212]
[21,14037,21,14045,22,14053,23,14078,null,null,0,2222]
[21,14188,21,14208,11,14216,21,14224,null,null,0,2212]
[21,14322,21,14336,11,14344,21,14373,null,null,0,2212]
[21,14467,21,14475,22,14515,23,14524,null,null,0,2222]
[21,14625,21,14646,11,14653,21,14670,null,null,0,2212]
[21,14761,21,14767,22,14779,14,14786,null,null,0,2221]
[21,14900,21,14919,11,14927,21,14943,null,null,0,2212]
[21,15038,21,15046,11,15054,21,15062,null,null,0,2212]
[21,15159,21,15166,11,15174,21,15201,null,null,0,2212]
[21,15294,21,15305,11,15324,21,15378,null,null,0,2212]
[21,15489,12,15496,24,15524,23,15538,null,null,0,2122]
[21,15637,21,15648,22,15656,14,15664,null,null,0,2221]
[21,15767,12,15807,24,15816,23,15823,null,null,0,2122]
[21,15921,21,15927,11,15935,21,15945,null,null,0,2212]
[12,16060,23,16097,24,16105,23,16120,null,null,0,1222]
[21,16224,21,16232,22,16240,23,16248,null,null,0,2222]
[21,16347,21,16354,22,16361,14,16373,null,null,0,2221]
[21,16476,21,16483,11,16506,21,16532,null,null,0,2212]
[21,16628,21,16635,11,16643,21,16651,null,null,0,2212]
[21,16741,12,16756,24,16764,23,16771,null,null,0,2122]
[21,16879,12,16887,24,16894,23,16902,null,null,0,2122]
[21,17007,21,17017,11,17025,21,17037,null,null,0,2212]
[21,17136,12,17144,24,17161,14,17169,null,null,0,2121]
[21,17295,21,17310,11,17318,21,17329,null,null,0,2212]
[21,17420,12,17452,24,17466,23,17473,null,null,0,2122]
[21,17573,21,17589,11,17597,21,17613,null,null,0,2212]
[21,17719,12,17739,24,17754,23,17768,null,null,0,2122]
[12,17919,23,17931,24,17939,23,17946,null,null,0,1222]
[21,18057,12,18065,24,18080,23,18088,null,null,0,2122]
[21,18195,12,18203,24,18211,23,18218,null,null,0,2122]
[12,18364,23,18380,24,18387,23,18402,null,null,0,1222]
[21,18504,12,18523,24,18538,23,18554,null,null,0,2122]
[21,18652,21,18663,11,18671,21,18680,null,null,0,2212]
[21,18775,12,18783,24,18791,14,18799,null,null,0,2121]
[21,18896,21,18917,11,18926,21,18934,null,null,0,2212]
[21,19027,21,19043,11,19050,21,19059,null,null,0,2212]
[21,19157,12,19178,24,19206,23,19213,null,null,0,2122]
[21,19328,12,19344,24,19368,23,19385,null,null,0,2122]
[21,19484,21,19498,11,19520,21,19550,null,null,0,2212]
[21,19642,21,19650,11,19671,21,19679,null,null,1,2212]

{"sheet":"!N122A10.095","index":24,"n_rows":143,"n_cols":48,"rows_kept":143,"cut":false,"hidden":false,"merged":[[4,39,4,42],[5,39,5,40],[4,44,4,47],[5,44,5,45],[4,24,4,27],[5,24,5,25],[4,29,4,32],[5,29,5,30],[4,34,4,37],[5,34,5,35],[1,1,1,2],[5,13,5,14],[26,13,26,14],[27,13,27,14],[4,19,4,22],[5,19,5,20]]}
["Report for:!N122A10.095"]
["Date:","<date>"]
["Hen:","<hen>",null,null,null,"Correct Sequence",{"$f":"Start!J2","v":2212},null,null,null,null,null,null,null,null,"Total Sequences in Data",{"$f":"4994-COUNTBLANK(L7:L5000)","v":137},null,null,null,null,"Total Sequences in Block Data",{"$f":"COUNTA(L7:L29)","v":23},null,null,null,"Total Sequences in Block Data",{"$f":"COUNTA(L30:L52)","v":23},null,null,null,"Total Sequences in Block Data",{"$f":"COUNTA(L53:L74)","v":22},null,null,null,"Total Sequences in Block Data",{"$f":"COUNTA(L75:L97)","v":23},null,null,null,"Total Sequences in Block Data",{"$f":"COUNTA(L98:L120)","v":23},null,null,null,"Total Sequences in Block Data",{"$f":"COUNTA(L121:L143)","v":23}]
[null,null,null,null,null,null,null,null,null,null,null,null,null,null,null,"Total Sequences in Summary",{"$f":"SUM(O7:O22)","v":136},null,null,null,null,"Total Sequences in Block Summary",{"$f":"SUM(U7:U22)","v":23},null,null,null,"Total Sequences in Block Summary",{"$f":"SUM(Z7:Z22)","v":23},null,null,null,"Total Sequences in Block Summary",{"$f":"SUM(AE7:AE22)","v":22},null,null,null,"Total Sequences in Block Summary",{"$f":"SUM(AJ7:AJ22)","v":23},null,null,null,"Total Sequences in Block Summary",{"$f":"SUM(AO7:AO22)","v":23},null,null,null,"Total Sequences in Block Summary",{"$f":"SUM(AT7:AT22)","v":22}]
[null,null,null,null,null,null,null,null,null,null,null,null,null,null,null,null,null,null,null,"Block 1",null,null,null,null,"Block 2",null,null,null,null,"Block 3",null,null,null,null,"Block 4",null,null,null,null,"Block 5",null,null,null,null,"Block 6"]
["Sequence\nComponent\n1","Time\n1","Sequence\nComponent\n2","Time\n2","Sequence\nComponent\n3","Time\n3","Sequence\nComponent\n4","Time\n4","Sequence\nComponent\n5","Time\n5","Correct?\n0=No 1=Yes","Sequence",null,"Frequency",null,"Relative Frequency","Variability",null,null,"Frequency",null,"Relative Frequency","Variability",null,"Frequency",null,"Relative Frequency","Variability",null,"Frequency",null,"Relative Frequency","Variability",null,"Frequency",null,"Relative Frequency","Variability",null,"Frequency",null,"Relative Frequency","Variability",null,"Frequency",null,"Relative Frequency","Variability"]
[12,36,23,47,24,170,23,179,null,null,0,1222,null,1111,{"$f":"COUNTIF($L$7:$L$500,N7)","v":0},{"$f":"O7/$Q$4","v":0},{"$f":"IF(P7=0,0,(P7*((LOG(P7))/LOG(2))))","v":0},null,null,{"$f":"N7","v":1111},{"$f":"COUNTIF(L7:L29,T7)","v":0},{"$f":"U7/(W4-U20)","v":0},{"$f":"IF(V7=0,0,(V7*((LOG(V7))/LOG(2))))","v":0},null,{"$f":"N7","v":1111},{"$f":"COUNTIF(L30:L52,Y7)","v":0},{"$f":"Z7/(AB4-Z20)","v":0},{"$f":"IF(AA7=0,0,(AA7*((LOG(AA7))/LOG(2))))","v":0},null,{"$f":"N7","v":1111},{"$f":"COUNTIF(L53:L74,AD7)","v":0},{"$f":"AE7/(AG4-AE20)","v":0},{"$f":"IF(AF7=0,0,(AF7*((LOG(AF7))/LOG(2))))","v":0},null,{"$f":"N7","v":1111},{"$f":"COUNTIF(L75:L97,AI7)","v":0},{"$f":"AJ7/(AL4-AJ20)","v":0},{"$f":"IF(AK7=0,0,(AK7*((LOG(AK7))/LOG(2))))","v":0},null,{"$f":"N7","v":1111},{"$f":"COUNTIF(L98:L120,AN7)","v":0},{"$f":"AO7/(AQ4-AO20)","v":0},{"$f":"IF(AP7=0,0,(AP7*((LOG(AP7))/LOG(2))))","v":0},null,{"$f":"N7","v":1111},{"$f":"COUNTIF(L121:L143,AS7)","v":0},{"$f":"AT7/(AV4-AT20)","v":0},{"$f":"IF(AU7=0,0,(AU7*((LOG(AU7))/LOG(2))))","v":0}]
[21,293,12,317,24,345,23,354,null,null,0,2122,null,1112,{"$f":"COUNTIF($L$7:$L$500,N8)","v":0},{"$f":"O8/$Q$4","v":0},{"$f":"IF(P8=0,0,(P8*((LOG(P8))/LOG(2))))","v":0},null,null,{"$f":"N8","v":1112},{"$f":"COUNTIF(L7:L29,T8)","v":0},{"$f":"U8/(W4-U20)","v":0},{"$f":"IF(V8=0,0,(V8*((LOG(V8))/LOG(2))))","v":0},null,{"$f":"N8","v":1112},{"$f":"COUNTIF(L30:L52,Y8)","v":0},{"$f":"Z8/(AB4-Z20)","v":0},{"$f":"IF(AA8=0,0,(AA8*((LOG(AA8))/LOG(2))))","v":0},null,{"$f":"N8","v":1112},{"$f":"COUNTIF(L53:L74,AD8)","v":0},{"$f":"AE8/(AG4-AE20)","v":0},{"$f":"IF(AF8=0,0,(AF8*((LOG(AF8))/LOG(2))))","v":0},null,{"$f":"N8","v":1112},{"$f":"COUNTIF(L75:L97,AI8)","v":0},{"$f":"AJ8/(AL4-AJ20)","v":0},{"$f":"IF(AK8=0,0,(AK8*((LOG(AK8))/LOG(2))))","v":0},null,{"$f":"N8","v":1112},{"$f":"COUNTIF(L98:L120,AN8)","v":0},{"$f":"AO8/(AQ4-AO20)","v":0},{"$f":"IF(AP8=0,0,(AP8*((LOG(AP8))/LOG(2))))","v":0},null,{"$f":"N8","v":1112},{"$f":"COUNTIF(L121:L143,AS8)","v":0},{"$f":"AT8/(AV4-AT20)","v":0},{"$f":"IF(AU8=0,0,(AU8*((LOG(AU8))/LOG(2))))","v":0}]
[21,461,21,470,11,477,21,488,null,null,0,2212,null,1121,{"$f":"COUNTIF($L$7:$L$500,N9)","v":0},{"$f":"O9/$Q$4","v":0},{"$f":"IF(P9=0,0,(P9*((LOG(P9))/LOG(2))))","v":0},null,null,{"$f":"N9","v":1121},{"$f":"COUNTIF(L7:L29,T9)","v":0},{"$f":"U9/(W4-U20)","v":0},{"$f":"IF(V9=0,0,(V9*((LOG(V9))/LOG(2))))","v":0},null,{"$f":"N9","v":1121},{"$f":"COUNTIF(L30:L52,Y9)","v":0},{"$f":"Z9/(AB4-Z20)","v":0},{"$f":"IF(AA9=0,0,(AA9*((LOG(AA9))/LOG(2))))","v":0},null,{"$f":"N9","v":1121},{"$f":"COUNTIF(L53:L74,AD9)","v":0},{"$f":"AE9/(AG4-AE20)","v":0},{"$f":"IF(AF9=0,0,(AF9*((LOG(AF9))/LOG(2))))","v":0},null,{"$f":"N9","v":1121},{"$f":"COUNTIF(L75:L97,AI9)","v":0},{"$f":"AJ9/(AL4-AJ20)","v":0},{"$f":"IF(AK9=0,0,(AK9*((LOG(AK9))/LOG(2))))","v":0},null,{"$f":"N9","v":1121},{"$f":"COUNTIF(L98:L120,AN9)","v":0},{"$f":"AO9/(AQ4-AO20)","v":0},{"$f":"IF(AP9=0,0,(AP9*((LOG(AP9))/LOG(2))))","v":0},null,{"$f":"N9","v":1121},{"$f":"COUNTIF(L121:L143,AS9)","v":0},{"$f":"AT9/(AV4-AT20)","v":0},{"$f":"IF(AU9=0,0,(AU9*((LOG(AU9))/LOG(2))))","v":0}]
[21,615,12,623,24,647,23,683,null,null,0,2122,null,1122,{"$f":"COUNTIF($L$7:$L$500,N10)","v":9},{"$f":"O10/$Q$4","v":6.6176470588235295E-2},{"$f":"IF(P10=0,0,(P10*((LOG(P10))/LOG(2))))","v":-0.25924882763435475},null,null,{"$f":"N10","v":1122},{"$f":"COUNTIF(L7:L29,T10)","v":0},{"$f":"U10/(W4-U20)","v":0},{"$f":"IF(V10=0,0,(V10*((LOG(V10))/LOG(2))))","v":0},null,{"$f":"N10","v":1122},{"$f":"COUNTIF(L30:L52,Y10)","v":1},{"$f":"Z10/(AB4-Z20)","v":5.8823529411764705E-2},{"$f":"IF(AA10=0,0,(AA10*((LOG(AA10))/LOG(2))))","v":-0.24043899066178465},null,{"$f":"N10","v":1122},{"$f":"COUNTIF(L53:L74,AD10)","v":1},{"$f":"AE10/(AG4-AE20)","v":0.05},{"$f":"IF(AF10=0,0,(AF10*((LOG(AF10))/LOG(2))))","v":-0.21609640474436814},null,{"$f":"N10","v":1122},{"$f":"COUNTIF(L75:L97,AI10)","v":2},{"$f":"AJ10/(AL4-AJ20)","v":0.1111111111111111},{"$f":"IF(AK10=0,0,(AK10*((LOG(AK10))/LOG(2))))","v":-0.3522138890491458},null,{"$f":"N10","v":1122},{"$f":"COUNTIF(L98:L120,AN10)","v":3},{"$f":"AO10/(AQ4-AO20)","v":0.15},{"$f":"IF(AP10=0,0,(AP10*((LOG(AP10))/LOG(2))))","v":-0.41054483912493089},null,{"$f":"N10","v":1122},{"$f":"COUNTIF(L121:L143,AS10)","v":2},{"$f":"AT10/(AV4-AT20)","v":0.1111111111111111},{"$f":"IF(AU10=0,0,(AU10*((LOG(AU10))/LOG(2))))","v":-0.3522138890491458}]
[21,799,12,818,24,870,23,890,null,null,0,2122,null,1211,{"$f":"COUNTIF($L$7:$L$500,N11)","v":0},{"$f":"O11/$Q$4","v":0},{"$f":"IF(P11=0,0,(P11*((LOG(P11))/LOG(2))))","v":0},null,null,{"$f":"N11","v":1211},{"$f":"COUNTIF(L7:L29,T11)","v":0},{"$f":"U11/(W4-U20)","v":0},{"$f":"IF(V11=0,0,(V11*((LOG(V11))/LOG(2))))","v":0},null,{"$f":"N11","v":1211},{"$f":"COUNTIF(L30:L52,Y11)","v":0},{"$f":"Z11/(AB4-Z20)","v":0},{"$f":"IF(AA11=0,0,(AA11*((LOG(AA11))/LOG(2))))","v":0},null,{"$f":"N11","v":1211},{"$f":"COUNTIF(L53:L74,AD11)","v":0},{"$f":"AE11/(AG4-AE20)","v":0},{"$f":"IF(AF11=0,0,(AF11*((LOG(AF11))/LOG(2))))","v":0},null,{"$f":"N11","v":1211},{"$f":"COUNTIF(L75:L97,AI11)","v":0},{"$f":"AJ11/(AL4-AJ20)","v":0},{"$f":"IF(AK11=0,0,(AK11*((LOG(AK11))/LOG(2))))","v":0},null,{"$f":"N11","v":1211},{"$f":"COUNTIF(L98:L120,AN11)","v":0},{"$f":"AO11/(AQ4-AO20)","v":0},{"$f":"IF(AP11=0,0,(AP11*((LOG(AP11))/LOG(2))))","v":0},null,{"$f":"N11","v":1211},{"$f":"COUNTIF(L121:L143,AS11)","v":0},{"$f":"AT11/(AV4-AT20)","v":0},{"$f":"IF(AU11=0,0,(AU11*((LOG(AU11))/LOG(2))))","v":0}]
[12,1049,23,1096,24,1104,23,1173,null,null,0,1222,null,1212,{"$f":"COUNTIF($L$7:$L$500,N12)","v":5},{"$f":"O12/$Q$4","v":3.6764705882352942E-2},{"$f":"IF(P12=0,0,(P12*((LOG(P12))/LOG(2))))","v":-0.17520348332216826},null,null,{"$f":"N12","v":1212},{"$f":"COUNTIF(L7:L29,T12)","v":0},{"$f":"U12/(W4-U20)","v":0},{"$f":"IF(V12=0,0,(V12*((LOG(V12))/LOG(2))))","v":0},null,{"$f":"N12","v":1212},{"$f":"COUNTIF(L30:L52,Y12)","v":0},{"$f":"Z12/(AB4-Z20)","v":0},{"$f":"IF(AA12=0,0,(AA12*((LOG(AA12))/LOG(2))))","v":0},null,{"$f":"N12","v":1212},{"$f":"COUNTIF(L53:L74,AD12)","v":1},{"$f":"AE12/(AG4-AE20)","v":0.05},{"$f":"IF(AF12=0,0,(AF12*((LOG(AF12))/LOG(2))))","v":-0.21609640474436814},null,{"$f":"N12","v":1212},{"$f":"COUNTIF(L75:L97,AI12)","v":1},{"$f":"AJ12/(AL4-AJ20)","v":5.5555555555555552E-2},{"$f":"IF(AK12=0,0,(AK12*((LOG(AK12))/LOG(2))))","v":-0.23166250008012845},null,{"$f":"N12","v":1212},{"$f":"COUNTIF(L98:L120,AN12)","v":3},{"$f":"AO12/(AQ4-AO20)","v":0.15},{"$f":"IF(AP12=0,0,(AP12*((LOG(AP12))/LOG(2))))","v":-0.41054483912493089},null,{"$f":"N12","v":1212},{"$f":"COUNTIF(L121:L143,AS12)","v":0},{"$f":"AT12/(AV4-AT20)","v":0},{"$f":"IF(AU12=0,0,(AU12*((LOG(AU12))/LOG(2))))","v":0}]
[21,1286,12,1306,24,1315,23,1330,null,null,0,2122,null,1221,{"$f":"COUNTIF($L$7:$L$500,N13)","v":0},{"$f":"O13/$Q$4","v":0},{"$f":"IF(P13=0,0,(P13*((LOG(P13))/LOG(2))))","v":0},null,null,{"$f":"N13","v":1221},{"$f":"COUNTIF(L7:L29,T13)","v":0},{"$f":"U13/(W4-U20)","v":0},{"$f":"IF(V13=0,0,(V13*((LOG(V13))/LOG(2))))","v":0},null,{"$f":"N13","v":1221},{"$f":"COUNTIF(L30:L52,Y13)","v":0},{"$f":"Z13/(AB4-Z20)","v":0},{"$f":"IF(AA13=0,0,(AA13*((LOG(AA13))/LOG(2))))","v":0},null,{"$f":"N13","v":1221},{"$f":"COUNTIF(L53:L74,AD13)","v":0},{"$f":"AE13/(AG4-AE20)","v":0},{"$f":"IF(AF13=0,0,(AF13*((LOG(AF13))/LOG(2))))","v":0},null,{"$f":"N13","v":1221},{"$f":"COUNTIF(L75:L97,AI13)","v":0},{"$f":"AJ13/(AL4-AJ20)","v":0},{"$f":"IF(AK13=0,0,(AK13*((LOG(AK13))/LOG(2))))","v":0},null,{"$f":"N13","v":1221},{"$f":"COUNTIF(L98:L120,AN13)","v":0},{"$f":"AO13/(AQ4-AO20)","v":0},{"$f":"IF(AP13=0,0,(AP13*((LOG(AP13))/LOG(2))))","v":0},null,{"$f":"N13","v":1221},{"$f":"COUNTIF(L121:L143,AS13)","v":0},{"$f":"AT13/(AV4-AT20)","v":0},{"$f":"IF(AU13=0,0,(AU13*((LOG(AU13))/LOG(2))))","v":0}]
[21,1435,21,1522,22,1565,23,1574,null,null,0,2222,null,1222,{"$f":"COUNTIF($L$7:$L$500,N14)","v":21},{"$f":"O14/$Q$4","v":0.15441176470588236},{"$f":"IF(P14=0,0,(P14*((LOG(P14))/LOG(2))))","v":-0.41616216020517027},null,null,{"$f":"N14","v":1222},{"$f":"COUNTIF(L7:L29,T14)","v":4},{"$f":"U14/(W4-U20)","v":0.25},{"$f":"IF(V14=0,0,(V14*((LOG(V14))/LOG(2))))","v":-0.5},null,{"$f":"N14","v":1222},{"$f":"COUNTIF(L30:L52,Y14)","v":4},{"$f":"Z14/(AB4-Z20)","v":0.23529411764705882},{"$f":"IF(AA14=0,0,(AA14*((LOG(AA14))/LOG(2))))","v":-0.49116772735302094},null,{"$f":"N14","v":1222},{"$f":"COUNTIF(L53:L74,AD14)","v":4},{"$f":"AE14/(AG4-AE20)","v":0.2},{"$f":"IF(AF14=0,0,(AF14*((LOG(AF14))/LOG(2))))","v":-0.46438561897747244},null,{"$f":"N14","v":1222},{"$f":"COUNTIF(L75:L97,AI14)","v":3},{"$f":"AJ14/(AL4-AJ20)","v":0.16666666666666666},{"$f":"IF(AK14=0,0,(AK14*((LOG(AK14))/LOG(2))))","v":-0.43082708345352599},null,{"$f":"N14","v":1222},{"$f":"COUNTIF(L98:L120,AN14)","v":3},{"$f":"AO14/(AQ4-AO20)","v":0.15},{"$f":"IF(AP14=0,0,(AP14*((LOG(AP14))/LOG(2))))","v":-0.41054483912493089},null,{"$f":"N14","v":1222},{"$f":"COUNTIF(L121:L143,AS14)","v":3},{"$f":"AT14/(AV4-AT20)","v":0.16666666666666666},{"$f":"IF(AU14=0,0,(AU14*((LOG(AU14))/LOG(2))))","v":-0.43082708345352599}]
[21,1721,21,1756,22,1800,23,1809,null,null,0,2222,null,2111,{"$f":"COUNTIF($L$7:$L$500,N15)","v":0},{"$f":"O15/$Q$4","v":0},{"$f":"IF(P15=0,0,(P15*((LOG(P15))/LOG(2))))","v":0},null,null,{"$f":"N15","v":2111},{"$f":"COUNTIF(L7:L29,T15)","v":0},{"$f":"U15/(W4-U20)","v":0},{"$f":"IF(V15=0,0,(V15*((LOG(V15))/LOG(2))))","v":0},null,{"$f":"N15","v":2111},{"$f":"COUNTIF(L30:L52,Y15)","v":0},{"$f":"Z15/(AB4-Z20)","v":0},{"$f":"IF(AA15=0,0,(AA15*((LOG(AA15))/LOG(2))))","v":0},null,{"$f":"N15","v":2111},{"$f":"COUNTIF(L53:L74,AD15)","v":0},{"$f":"AE15/(AG4-AE20)","v":0},{"$f":"IF(AF15=0,0,(AF15*((LOG(AF15))/LOG(2))))","v":0},null,{"$f":"N15","v":2111},{"$f":"COUNTIF(L75:L97,AI15)","v":0},{"$f":"AJ15/(AL4-AJ20)","v":0},{"$f":"IF(AK15=0,0,(AK15*((LOG(AK15))/LOG(2))))","v":0},null,{"$f":"N15","v":2111},{"$f":"COUNTIF(L98:L120,AN15)","v":0},{"$f":"AO15/(AQ4-AO20)","v":0},{"$f":"IF(AP15=0,0,(AP15*((LOG(AP15))/LOG(2))))","v":0},null,{"$f":"N15","v":2111},{"$f":"COUNTIF(L121:L143,AS15)","v":0},{"$f":"AT15/(AV4-AT20)","v":0},{"$f":"IF(AU15=0,0,(AU15*((LOG(AU15))/LOG(2))))","v":0}]
[21,1933,21,1974,22,2005,23,2071,null,null,0,2222,null,2112,{"$f":"COUNTIF($L$7:$L$500,N16)","v":6},{"$f":"O16/$Q$4","v":4.4117647058823532E-2},{"$f":"IF(P16=0,0,(P16*((LOG(P16))/LOG(2))))","v":-0.19863972090569926},null,null,{"$f":"N16","v":2112},{"$f":"COUNTIF(L7:L29,T16)","v":1},{"$f":"U16/(W4-U20)","v":6.25E-2},{"$f":"IF(V16=0,0,(V16*((LOG(V16))/LOG(2))))","v":-0.25},null,{"$f":"N16","v":2112},{"$f":"COUNTIF(L30:L52,Y16)","v":1},{"$f":"Z16/(AB4-Z20)","v":5.8823529411764705E-2},{"$f":"IF(AA16=0,0,(AA16*((LOG(AA16))/LOG(2))))","v":-0.24043899066178465},null,{"$f":"N16","v":2112},{"$f":"COUNTIF(L53:L74,AD16)","v":0},{"$f":"AE16/(AG4-AE20)","v":0},{"$f":"IF(AF16=0,0,(AF16*((LOG(AF16))/LOG(2))))","v":0},null,{"$f":"N16","v":2112},{"$f":"COUNTIF(L75:L97,AI16)","v":0},{"$f":"AJ16/(AL4-AJ20)","v":0},{"$f":"IF(AK16=0,0,(AK16*((LOG(AK16))/LOG(2))))","v":0},null,{"$f":"N16","v":2112},{"$f":"COUNTIF(L98:L120,AN16)","v":3},{"$f":"AO16/(AQ4-AO20)","v":0.15},{"$f":"IF(AP16=0,0,(AP16*((LOG(AP16))/LOG(2))))","v":-0.41054483912493089},null,{"$f":"N16","v":2112},{"$f":"COUNTIF(L121:L143,AS16)","v":1},{"$f":"AT16/(AV4-AT20)","v":5.5555555555555552E-2},{"$f":"IF(AU16=0,0,(AU16*((LOG(AU16))/LOG(2))))","v":-0.23166250008012845}]
[21,2189,21,2197,11,2207,21,2224,null,null,0,2212,null,2121,{"$f":"COUNTIF($L$7:$L$500,N17)","v":6},{"$f":"O17/$Q$4","v":4.4117647058823532E-2},{"$f":"IF(P17=0,0,(P17*((LOG(P17))/LOG(2))))","v":-0.19863972090569926},null,null,{"$f":"N17","v":2121},{"$f":"COUNTIF(L7:L29,T17)","v":0},{"$f":"U17/(W4-U20)","v":0},{"$f":"IF(V17=0,0,(V17*((LOG(V17))/LOG(2))))","v":0},null,{"$f":"N17","v":2121},{"$f":"COUNTIF(L30:L52,Y17)","v":0},{"$f":"Z17/(AB4-Z20)","v":0},{"$f":"IF(AA17=0,0,(AA17*((LOG(AA17))/LOG(2))))","v":0},null,{"$f":"N17","v":2121},{"$f":"COUNTIF(L53:L74,AD17)","v":2},{"$f":"AE17/(AG4-AE20)","v":0.1},{"$f":"IF(AF17=0,0,(AF17*((LOG(AF17))/LOG(2))))","v":-0.33219280948873625},null,{"$f":"N17","v":2121},{"$f":"COUNTIF(L75:L97,AI17)","v":3},{"$f":"AJ17/(AL4-AJ20)","v":0.16666666666666666},{"$f":"IF(AK17=0,0,(AK17*((LOG(AK17))/LOG(2))))","v":-0.43082708345352599},null,{"$f":"N17","v":2121},{"$f":"COUNTIF(L98:L120,AN17)","v":0},{"$f":"AO17/(AQ4-AO20)","v":0},{"$f":"IF(AP17=0,0,(AP17*((LOG(AP17))/LOG(2))))","v":0},null,{"$f":"N17","v":2121},{"$f":"COUNTIF(L121:L143,AS17)","v":1},{"$f":"AT17/(AV4-AT20)","v":5.5555555555555552E-2},{"$f":"IF(AU17=0,0,(AU17*((LOG(AU17))/LOG(2))))","v":-0.23166250008012845}]
[21,2325,21,2334,11,2356,21,2380,null,null,0,2212,null,2122,{"$f":"COUNTIF($L$7:$L$500,N18)","v":49},{"$f":"O18/$Q$4","v":0.36029411764705882},{"$f":"IF(P18=0,0,(P18*((LOG(P18))/LOG(2))))","v":-0.53062424161486343},null,null,{"$f":"N18","v":2122},{"$f":"COUNTIF(L7:L29,T18)","v":7},{"$f":"U18/(W4-U20)","v":0.4375},{"$f":"IF(V18=0,0,(V18*((LOG(V18))/LOG(2))))","v":-0.52178222159979815},null,{"$f":"N18","v":2122},{"$f":"COUNTIF(L30:L52,Y18)","v":8},{"$f":"Z18/(AB4-Z20)","v":0.47058823529411764},{"$f":"IF(AA18=0,0,(AA18*((LOG(AA18))/LOG(2))))","v":-0.51174721941192436},null,{"$f":"N18","v":2122},{"$f":"COUNTIF(L53:L74,AD18)","v":12},{"$f":"AE18/(AG4-AE20)","v":0.6},{"$f":"IF(AF18=0,0,(AF18*((LOG(AF18))/LOG(2))))","v":-0.44217935649972373},null,{"$f":"N18","v":2122},{"$f":"COUNTIF(L75:L97,AI18)","v":8},{"$f":"AJ18/(AL4-AJ20)","v":0.44444444444444442},{"$f":"IF(AK18=0,0,(AK18*((LOG(AK18))/LOG(2))))","v":-0.51996666730769447},null,{"$f":"N18","v":2122},{"$f":"COUNTIF(L98:L120,AN18)","v":6},{"$f":"AO18/(AQ4-AO20)","v":0.3},{"$f":"IF(AP18=0,0,(AP18*((LOG(AP18))/LOG(2))))","v":-0.52108967824986185},null,{"$f":"N18","v":2122},{"$f":"COUNTIF(L121:L143,AS18)","v":8},{"$f":"AT18/(AV4-AT20)","v":0.44444444444444442},{"$f":"IF(AU18=0,0,(AU18*((LOG(AU18))/LOG(2))))","v":-0.51996666730769447}]
[21,2503,12,2523,24,2564,23,2580,null,null,0,2122,null,2211,{"$f":"COUNTIF($L$7:$L$500,N19)","v":2},{"$f":"O19/$Q$4","v":1.4705882352941176E-2},{"$f":"IF(P19=0,0,(P19*((LOG(P19))/LOG(2))))","v":-8.9521512371328521E-2},null,null,{"$f":"N19","v":2211},{"$f":"COUNTIF(L7:L29,T19)","v":1},{"$f":"U19/(W4-U20)","v":6.25E-2},{"$f":"IF(V19=0,0,(V19*((LOG(V19))/LOG(2))))","v":-0.25},null,{"$f":"N19","v":2211},{"$f":"COUNTIF(L30:L52,Y19)","v":0},{"$f":"Z19/(AB4-Z20)","v":0},{"$f":"IF(AA19=0,0,(AA19*((LOG(AA19))/LOG(2))))","v":0},null,{"$f":"N19","v":2211},{"$f":"COUNTIF(L53:L74,AD19)","v":0},{"$f":"AE19/(AG4-AE20)","v":0},{"$f":"IF(AF19=0,0,(AF19*((LOG(AF19))/LOG(2))))","v":0},null,{"$f":"N19","v":2211},{"$f":"COUNTIF(L75:L97,AI19)","v":0},{"$f":"AJ19/(AL4-AJ20)","v":0},{"$f":"IF(AK19=0,0,(AK19*((LOG(AK19))/LOG(2))))","v":0},null,{"$f":"N19","v":2211},{"$f":"COUNTIF(L98:L120,AN19)","v":1},{"$f":"AO19/(AQ4-AO20)","v":0.05},{"$f":"IF(AP19=0,0,(AP19*((LOG(AP19))/LOG(2))))","v":-0.21609640474436814},null,{"$f":"N19","v":2211},{"$f":"COUNTIF(L121:L143,AS19)","v":0},{"$f":"AT19/(AV4-AT20)","v":0},{"$f":"IF(AU19=0,0,(AU19*((LOG(AU19))/LOG(2))))","v":0}]
[21,2704,21,2714,11,2736,21,2785,null,null,0,2212,null,2212,{"$f":"COUNTIF($L$7:$L$500,N20)","v":27},{"$f":"O20/$Q$4","v":0.19852941176470587},{"$f":"IF(P20=0,0,(P20*((LOG(P20))/LOG(2))))","v":-0.46308480996577583},null,null,{"$f":"N20","v":2212},{"$f":"COUNTIF(L7:L29,T20)","v":7},null,null,null,{"$f":"N20","v":2212},{"$f":"COUNTIF(L30:L52,Y20)","v":6},null,null,null,{"$f":"N20","v":2212},{"$f":"COUNTIF(L53:L74,AD20)","v":2},null,null,null,{"$f":"N20","v":2212},{"$f":"COUNTIF(L75:L97,AI20)","v":5},null,null,null,{"$f":"N20","v":2212},{"$f":"COUNTIF(L98:L120,AN20)","v":3},null,null,null,{"$f":"N20","v":2212},{"$f":"COUNTIF(L121:L143,AS20)","v":4}]
[12,2925,23,2951,24,2959,23,2966,null,null,0,1222,null,2221,{"$f":"COUNTIF($L$7:$L$500,N21)","v":2},{"$f":"O21/$Q$4","v":1.4705882352941176E-2},{"$f":"IF(P21=0,0,(P21*((LOG(P21))/LOG(2))))","v":-8.9521512371328521E-2},null,null,{"$f":"N21","v":2221},{"$f":"COUNTIF(L7:L29,T21)","v":0},{"$f":"U21/(W4-U20)","v":0},{"$f":"IF(V21=0,0,(V21*((LOG(V21))/LOG(2))))","v":0},null,{"$f":"N21","v":2221},{"$f":"COUNTIF(L30:L52,Y21)","v":2},{"$f":"Z21/(AB4-Z20)","v":0.11764705882352941},{"$f":"IF(AA21=0,0,(AA21*((LOG(AA21))/LOG(2))))","v":-0.36323092250003997},null,{"$f":"N21","v":2221},{"$f":"COUNTIF(L53:L74,AD21)","v":0},{"$f":"AE21/(AG4-AE20)","v":0},{"$f":"IF(AF21=0,0,(AF21*((LOG(AF21))/LOG(2))))","v":0},null,{"$f":"N21","v":2221},{"$f":"COUNTIF(L75:L97,AI21)","v":0},{"$f":"AJ21/(AL4-AJ20)","v":0},{"$f":"IF(AK21=0,0,(AK21*((LOG(AK21))/LOG(2))))","v":0},null,{"$f":"N21","v":2221},{"$f":"COUNTIF(L98:L120,AN21)","v":0},{"$f":"AO21/(AQ4-AO20)","v":0},{"$f":"IF(AP21=0,0,(AP21*((LOG(AP21))/LOG(2))))","v":0},null,{"$f":"N21","v":2221},{"$f":"COUNTIF(L121:L143,AS21)","v":0},{"$f":"AT21/(AV4-AT20)","v":0},{"$f":"IF(AU21=0,0,(AU21*((LOG(AU21))/LOG(2))))","v":0}]
[21,3091,12,3106,13,3134,23,3166,null,null,0,2112,null,2222,{"$f":"COUNTIF($L$7:$L$500,N22)","v":9},{"$f":"O22/$Q$4","v":6.6176470588235295E-2},{"$f":"IF(P22=0,0,(P22*((LOG(P22))/LOG(2))))","v":-0.25924882763435475},null,null,{"$f":"N22","v":2222},{"$f":"COUNTIF(L7:L29,T22)","v":3},{"$f":"U22/(W4-U20)","v":0.1875},{"$f":"IF(V22=0,0,(V22*((LOG(V22))/LOG(2))))","v":-0.45281953111478312},null,{"$f":"N22","v":2222},{"$f":"COUNTIF(L30:L52,Y22)","v":1},{"$f":"Z22/(AB4-Z20)","v":5.8823529411764705E-2},{"$f":"IF(AA22=0,0,(AA22*((LOG(AA22))/LOG(2))))","v":-0.24043899066178465},null,{"$f":"N22","v":2222},{"$f":"COUNTIF(L53:L74,AD22)","v":0},{"$f":"AE22/(AG4-AE20)","v":0},{"$f":"IF(AF22=0,0,(AF22*((LOG(AF22))/LOG(2))))","v":0},null,{"$f":"N22","v":2222},{"$f":"COUNTIF(L75:L97,AI22)","v":1},{"$f":"AJ22/(AL4-AJ20)","v":5.5555555555555552E-2},{"$f":"IF(AK22=0,0,(AK22*((LOG(AK22))/LOG(2))))","v":-0.23166250008012845},null,{"$f":"N22","v":2222},{"$f":"COUNTIF(L98:L120,AN22)","v":1},{"$f":"AO22/(AQ4-AO20)","v":0.05},{"$f":"IF(AP22=0,0,(AP22*((LOG(AP22))/LOG(2))))","v":-0.21609640474436814},null,{"$f":"N22","v":2222},{"$f":"COUNTIF(L121:L143,AS22)","v":3},{"$f":"AT22/(AV4-AT20)","v":0.16666666666666666},{"$f":"IF(AU22=0,0,(AU22*((LOG(AU22))/LOG(2))))","v":-0.43082708345352599}]
[21,3277,21,3298,11,3306,21,3314,null,null,0,2212,null,null,null,{"$f":"SUM(P7:P22)","v":0.99999999999999978},{"$f":"-SUM(Q7:Q22)","v":2.6798948169307426},null,null,null,null,{"$f":"SUM(V7:V22)","v":1},{"$f":"-SUM(W7:W22)","v":1.9746017527145812},null,null,null,{"$f":"SUM(AA7:AA22)","v":1},{"$f":"-SUM(AB7:AB22)","v":2.0874628412503395},null,null,null,{"$f":"SUM(AF7:AF22)","v":1},{"$f":"-SUM(AG7:AG22)","v":1.6709505944546685},null,null,null,{"$f":"SUM(AK7:AK22)","v":1},{"$f":"-SUM(AL7:AL22)","v":2.1971597234241491},null,null,null,{"$f":"SUM(AP7:AP22)","v":1},{"$f":"-SUM(AQ7:AQ22)","v":2.5954618442383217},null,null,null,{"$f":"SUM(AU7:AU22)","v":1},{"$f":"-SUM(AV7:AV22)","v":2.1971597234241496}]
[21,3421,12,3429,24,3477,23,3486,null,null,0,2122,null,null,null,"U=",{"$f":"Q23/(LOG(Q4)/LOG(2))","v":0.37811765323597341},null,null,null,null,"U1=",{"$f":"W23/(LOG(W4)/LOG(2))","v":0.43651480225016159},null,null,null,"U2=",{"$f":"AB23/(LOG(AB4)/LOG(2))","v":0.46146440825359836},null,null,null,"U3=",{"$f":"AG23/(LOG(AG4)/LOG(2))","v":0.37470035137914587},null,null,null,"U4=",{"$f":"AL23/(LOG(AL4)/LOG(2))","v":0.48571451983368324},null,null,null,"U5=",{"$f":"AQ23/(LOG(AQ4)/LOG(2))","v":0.5737650704138183},null,null,null,"U6=",{"$f":"AV23/(LOG(AV4)/LOG(2))","v":0.49269949879746167}]
[21,3595,21,3615,11,3623,21,3646,null,null,0,2212]
[21,3741,21,3748,11,3756,21,3779,null,null,0,2212]
[21,3887,12,3894,24,3910,23,3933,null,null,0,2122,null,"Total Target Seq"]
[12,4065,23,4121,24,4128,23,4144,null,null,0,1222,null,{"$f":"COUNTIF(L7:L143,G3)","v":27},null,23,23,22,23,23,23]
[21,4244,21,4251,11,4258,12,4274,null,null,0,2211,null,null,null,"% of reinforcement given in 6 equal intervals based on number of trials "]
[21,4377,21,4384,22,4393,14,4400,null,null,0,2221,null,null,null,"%_1","%_2","%_3","%_4","%_5","%_6"]
[21,4498,21,4505,11,4513,21,4521,null,null,0,2212,null,null,"target sequence",{"$f":"$G$3","v":2212},{"$f":"$G$3","v":2212},{"$f":"$G$3","v":2212},{"$f":"$G$3","v":2212},{"$f":"$G$3","v":2212},{"$f":"$G$3","v":2212}]
[21,4614,12,4634,24,4690,23,4698,null,null,0,2122,null,null,"total reinforcement",{"$f":"U20","v":7},{"$f":"Z20","v":6},{"$f":"AE20","v":2},{"$f":"AJ20","v":5},{"$f":"AO20","v":3},{"$f":"AT20","v":4}]
[21,4809,12,4817,24,4825,23,4840,null,null,0,2122,null,null,"% target"]
[21,4941,12,4957,24,4982,23,4998,null,null,0,2122,null,null,"CCRF"]
[21,5102,21,5109,11,5117,21,5138,null,null,0,2212,null,null,"% CCRf"]
[12,5260,23,5268,24,5288,23,5366,null,null,0,1222,null,null,"average response rate",{"$f":"H29/P28","v":185.82608695652175},{"$f":"(H52-H29)/Q28","v":164},{"$f":"(H74-H52)/R28","v":193.90909090909091},{"$f":"(H97-H74)/S28","v":157.65217391304347},{"$f":"(H120-H97)/T28","v":180.56521739130434},{"$f":"(H143-H120)/U28","v":-873.52173913043475}]
[12,5480,14,5494,24,5525,23,5533,null,null,0,1122]
[21,5634,21,5642,11,5649,21,5665,null,null,0,2212]
[12,5784,23,5816,24,5832,23,5888,null,null,0,1222]
[21,5995,12,6003,24,6045,23,6060,null,null,0,2122]
[21,6161,21,6169,11,6176,21,6192,null,null,0,2212]
[21,6288,12,6296,13,6314,23,6338,null,null,0,2112]
[12,6461,23,6483,24,6513,23,6521,null,null,0,1222]
[21,6623,12,6635,24,6643,23,6651,null,null,0,2122]
[21,6760,12,6767,24,6791,23,6830,null,null,0,2122]
[21,6932,21,6940,22,6950,14,6957,null,null,0,2221]
[21,7072,12,7081,24,7127,23,7136,null,null,0,2122]
[21,7235,21,7243,11,7251,21,7268,null,null,0,2212]
[12,7380,23,7418,24,7435,23,7462,null,null,0,1222]
[21,7563,12,7587,24,7609,23,7617,null,null,0,2122]
[21,7719,21,7735,11,7742,21,7831,null,null,0,2212]
[21,7951,21,7987,22,8002,23,8046,null,null,0,2222]
[21,8150,12,8158,24,8183,23,8219,null,null,0,2122]
[21,8321,12,8344,24,8431,14,8471,null,null,0,2121]
[21,8568,21,8575,11,8602,21,8610,null,null,0,2212]
[21,8709,12,8716,24,8725,23,8741,null,null,0,2122]
[12,8872,23,8880,24,8888,23,8911,null,null,0,1222]
[21,9012,12,9030,24,9054,14,9136,null,null,0,2121]
[12,9266,23,9290,24,9369,23,9379,null,null,0,1222]
[21,9486,12,9494,24,9518,23,9534,null,null,0,2122]
[21,9634,12,9643,24,9668,23,9682,null,null,0,2122]
[21,9783,12,9799,24,9818,23,9826,null,null,0,2122]
[21,9927,12,9942,24,10002,23,10032,null,null,0,2122]
[21,10135,12,10152,24,10185,23,10293,null,null,0,2122]
[12,10400,23,10416,24,10425,23,10507,null,null,0,1222]
[21,10628,12,10635,24,10698,23,10715,null,null,0,2122]
[21,10815,12,10831,24,10890,23,10906,null,null,0,2122]
[12,11035,23,11069,24,11128,23,11137,null,null,0,1222]
[21,11236,21,11244,11,11252,21,11296,null,null,0,2212]
[21,11395,12,11403,24,11437,23,11462,null,null,0,2122]
[12,11579,23,11586,13,11604,23,11676,null,null,0,1212]
[21,11786,12,11794,24,11819,23,11827,null,null,0,2122]
[12,11948,14,11966,24,12011,23,12120,null,null,0,1122]
[21,12232,12,12262,24,12296,23,12312,null,null,0,2122]
[21,12430,21,12461,22,12495,23,12521,null,null,0,2222]
[21,12633,12,12659,24,12683,23,12692,null,null,0,2122]
[21,12806,21,12814,11,12821,21,12830,null,null,0,2212]
[21,12927,12,12948,24,12957,23,12964,null,null,0,2122]
[12,13088,23,13138,24,13148,23,13157,null,null,0,1222]
[21,13254,12,13262,24,13270,14,13278,null,null,0,2121]
[21,13380,12,13397,24,13413,23,13421,null,null,0,2122]
[21,13525,12,13534,24,13542,23,13550,null,null,0,2122]
[21,13650,21,13666,11,13674,21,13700,null,null,0,2212]
[12,13817,23,13841,24,13873,23,13953,null,null,0,1222]
[12,14070,23,14082,24,14089,23,14097,null,null,0,1222]
[21,14202,12,14209,24,14218,23,14225,null,null,0,2122]
[21,14324,12,14352,24,14404,23,14412,null,null,0,2122]
[21,14520,21,14529,11,14546,21,14574,null,null,0,2212]
[21,14674,12,14682,24,14691,14,14703,null,null,0,2121]
[21,14803,21,14810,11,14818,21,14836,null,null,0,2212]
[21,14925,12,14940,24,14964,14,14985,null,null,0,2121]
[21,15085,21,15101,11,15109,21,15126,null,null,0,2212]
[21,15235,12,15242,24,15259,23,15266,null,null,0,2122]
[12,15386,23,15423,13,15431,23,15460,null,null,0,1212]
[12,15570,14,15586,24,15611,23,15634,null,null,0,1122]
[12,15742,14,15758,24,15776,23,15783,null,null,0,1122]
[21,15881,12,15904,24,15928,23,15938,null,null,0,2122]
[21,16041,12,16056,24,16065,23,16078,null,null,0,2122]
[12,16190,14,16206,24,16258,23,16306,null,null,0,1122]
[21,16415,21,16422,11,16439,21,16460,null,null,0,2212]
[12,16570,23,16580,13,16592,23,16609,null,null,0,1212]
[12,16753,23,16771,24,16806,23,16830,null,null,0,1222]
[12,16943,23,16952,13,16959,23,16989,null,null,0,1212]
[21,17090,12,17098,13,17115,23,17124,null,null,0,2112]
[21,17226,21,17239,11,17247,12,17267,null,null,0,2211]
[12,17380,14,17397,24,17417,23,17440,null,null,0,1122]
[21,17540,12,17564,24,17572,23,17636,null,null,0,2122]
[21,17758,12,17766,24,17789,23,17807,null,null,0,2122]
[21,17907,12,17915,13,17931,23,17953,null,null,0,2112]
[21,18062,21,18069,11,18077,21,18147,null,null,0,2212]
[21,18238,12,18255,24,18279,23,18290,null,null,0,2122]
[21,18391,21,18401,11,18413,21,18432,null,null,0,2212]
[21,18524,12,18531,13,18548,23,18616,null,null,0,2112]
[12,18742,23,18767,24,18860,23,18919,null,null,0,1222]
[21,19026,12,19034,24,19068,23,19106,null,null,0,2122]
[21,19214,21,19230,22,19299,23,19317,null,null,0,2222]
[21,19420,12,19437,24,19455,23,19472,null,null,0,2122]
[12,19581,23,19589,13,19597,23,19642,null,null,0,1212]
[12,19764,23,19782,24,19821,23,19859,null,null,0,1222]
[12,19969,14,19989,24,20081,23,20091,null,null,0,1122]
[21,20193,12,20204,24,20212,14,20224,null,null,0,2121]
[21,20323,21,20363,22,20377,23,20386,null,null,0,2222]
[21,20486,21,20501,11,20509,21,20522,null,null,0,2212]
[21,20622,12,20644,24,20663,23,20685,null,null,0,2122]
[12,20797,23,20851,24,20904,23,20922,null,null,0,1222]
[21,21027,21,21036,11,21053,21,21062,null,null,0,2212]
[12,21164,14,21181,24,21202,23,21211,null,null,0,1122]
[12,21335,23,21426,24,21444,23,21454,null,null,0,1222]
[12,21566,14,21581,24,21607,23,21677,null,null,0,1122]
[21,21776,21,21784,22,21820,23,21842,null,null,0,2222]
[12,21957,23,21986,24,21996,23,22058,null,null,0,1222]
[21,22172,12,22181,24,22190,23,22198,null,null,0,2122]
[21,22300,12,22311,24,22344,23,22353,null,null,0,2122]
[21,22461,21,22470,11,22478,21,22502,null,null,0,2212]
[21,22593,12,22618,24,22635,23,22644,null,null,0,2122]
[21,22744,21,22762,11,22770,21,22782,null,null,0,2212]
[21,22889,12,22897,13,22913,23,22946,null,null,0,2112]
[21,23057,12,23082,24,23090,23,23099,null,null,0,2122]
[21,23199,12,23207,24,23231,23,23268,null,null,0,2122]
[21,23368,12,23376,24,23396,23,23419,null,null,0,2122]
[21,23519,21,23527,22,23561,23,23569,null,null,0,2222]
[21,23675,12,23696,24,23713,23,23883,null,null,0,2122]
[21,23983,21,23994,null,null,null,null,null,null,null,22]

{"sheet":"!N123C20.095","index":25,"n_rows":132,"n_cols":48,"rows_kept":132,"cut":false,"hidden":false,"merged":[[4,39,4,42],[5,39,5,40],[4,44,4,47],[5,44,5,45],[4,24,4,27],[5,24,5,25],[4,29,4,32],[5,29,5,30],[4,34,4,37],[5,34,5,35],[1,1,1,2],[5,13,5,14],[26,13,26,14],[27,13,27,14],[4,19,4,22],[5,19,5,20]]}
["Report for:!N123C20.095"]
["Date:","<date>"]
["Hen:","<hen>",null,null,null,"Correct Sequence",{"$f":"Start!J2","v":2212},null,null,null,null,null,null,null,null,"Total Sequences in Data",{"$f":"4994-COUNTBLANK(L7:L5000)","v":126},null,null,null,null,"Total Sequences in Block Data",{"$f":"COUNTA(L7:L27)","v":21},null,null,null,"Total Sequences in Block Data",{"$f":"COUNTA(L28:L48)","v":21},null,null,null,"Total Sequences in Block Data",{"$f":"COUNTA(L49:L69)","v":21},null,null,null,"Total Sequences in Block Data",{"$f":"COUNTA(L70:L90)","v":21},null,null,null,"Total Sequences in Block Data",{"$f":"COUNTA(L91:L111)","v":21},null,null,null,"Total Sequences in Block Data",{"$f":"COUNTA(L112:L132)","v":21}]
[null,null,null,null,null,null,null,null,null,null,null,null,null,null,null,"Total Sequences in Summary",{"$f":"SUM(O7:O22)","v":126},null,null,null,null,"Total Sequences in Block Summary",{"$f":"SUM(U7:U22)","v":21},null,null,null,"Total Sequences in Block Summary",{"$f":"SUM(Z7:Z22)","v":21},null,null,null,"Total Sequences in Block Summary",{"$f":"SUM(AE7:AE22)","v":21},null,null,null,"Total Sequences in Block Summary",{"$f":"SUM(AJ7:AJ22)","v":21},null,null,null,"Total Sequences in Block Summary",{"$f":"SUM(AO7:AO22)","v":21},null,null,null,"Total Sequences in Block Summary",{"$f":"SUM(AT7:AT22)","v":21}]
[null,null,null,null,null,null,null,null,null,null,null,null,null,null,null,null,null,null,null,"Block 1",null,null,null,null,"Block 2",null,null,null,null,"Block 3",null,null,null,null,"Block 4",null,null,null,null,"Block 5",null,null,null,null,"Block 6"]
["Sequence\nComponent\n1","Time\n1","Sequence\nComponent\n2","Time\n2","Sequence\nComponent\n3","Time\n3","Sequence\nComponent\n4","Time\n4","Sequence\nComponent\n5","Time\n5","Correct?\n0=No 1=Yes","Sequence",null,"Frequency",null,"Relative Frequency","Variability",null,null,"Frequency",null,"Relative Frequency","Variability",null,"Frequency",null,"Relative Frequency","Variability",null,"Frequency",null,"Relative Frequency","Variability",null,"Frequency",null,"Relative Frequency","Variability",null,"Frequency",null,"Relative Frequency","Variability",null,"Frequency",null,"Relative Frequency","Variability"]
[12,32,23,59,24,97,23,122,null,null,0,1222,null,1111,{"$f":"COUNTIF($L$7:$L$500,N7)","v":1},{"$f":"O7/$Q$4","v":7.9365079365079361E-3},{"$f":"IF(P7=0,0,(P7*((LOG(P7))/LOG(2))))","v":-5.5375237488094572E-2},null,null,{"$f":"N7","v":1111},{"$f":"COUNTIF(L7:L27,T7)","v":1},{"$f":"U7/(W4-U20)","v":5.5555555555555552E-2},{"$f":"IF(V7=0,0,(V7*((LOG(V7))/LOG(2))))","v":-0.23166250008012845},null,{"$f":"N7","v":1111},{"$f":"COUNTIF(L28:L48,Y7)","v":0},{"$f":"Z7/(AB4-Z20)","v":0},{"$f":"IF(AA7=0,0,(AA7*((LOG(AA7))/LOG(2))))","v":0},null,{"$f":"N7","v":1111},{"$f":"COUNTIF(L49:L69,AD7)","v":0},{"$f":"AE7/(AG4-AE20)","v":0},{"$f":"IF(AF7=0,0,(AF7*((LOG(AF7))/LOG(2))))","v":0},null,{"$f":"N7","v":1111},{"$f":"COUNTIF(L70:L90,AI7)","v":0},{"$f":"AJ7/(AL4-AJ20)","v":0},{"$f":"IF(AK7=0,0,(AK7*((LOG(AK7))/LOG(2))))","v":0},null,{"$f":"N7","v":1111},{"$f":"COUNTIF(L91:L111,AN7)","v":0},{"$f":"AO7/(AQ4-AO20)","v":0},{"$f":"IF(AP7=0,0,(AP7*((LOG(AP7))/LOG(2))))","v":0},null,{"$f":"N7","v":1111},{"$f":"COUNTIF(L112:L132,AS7)","v":0},{"$f":"AT7/(AV4-AT20)","v":0},{"$f":"IF(AU7=0,0,(AU7*((LOG(AU7))/LOG(2))))","v":0}]
[12,269,23,330,13,349,23,415,null,null,0,1212,null,1112,{"$f":"COUNTIF($L$7:$L$500,N8)","v":0},{"$f":"O8/$Q$4","v":0},{"$f":"IF(P8=0,0,(P8*((LOG(P8))/LOG(2))))","v":0},null,null,{"$f":"N8","v":1112},{"$f":"COUNTIF(L7:L27,T8)","v":0},{"$f":"U8/(W4-U20)","v":0},{"$f":"IF(V8=0,0,(V8*((LOG(V8))/LOG(2))))","v":0},null,{"$f":"N8","v":1112},{"$f":"COUNTIF(L28:L48,Y8)","v":0},{"$f":"Z8/(AB4-Z20)","v":0},{"$f":"IF(AA8=0,0,(AA8*((LOG(AA8))/LOG(2))))","v":0},null,{"$f":"N8","v":1112},{"$f":"COUNTIF(L49:L69,AD8)","v":0},{"$f":"AE8/(AG4-AE20)","v":0},{"$f":"IF(AF8=0,0,(AF8*((LOG(AF8))/LOG(2))))","v":0},null,{"$f":"N8","v":1112},{"$f":"COUNTIF(L70:L90,AI8)","v":0},{"$f":"AJ8/(AL4-AJ20)","v":0},{"$f":"IF(AK8=0,0,(AK8*((LOG(AK8))/LOG(2))))","v":0},null,{"$f":"N8","v":1112},{"$f":"COUNTIF(L91:L111,AN8)","v":0},{"$f":"AO8/(AQ4-AO20)","v":0},{"$f":"IF(AP8=0,0,(AP8*((LOG(AP8))/LOG(2))))","v":0},null,{"$f":"N8","v":1112},{"$f":"COUNTIF(L112:L132,AS8)","v":0},{"$f":"AT8/(AV4-AT20)","v":0},{"$f":"IF(AU8=0,0,(AU8*((LOG(AU8))/LOG(2))))","v":0}]
[12,532,14,547,13,561,14,575,null,null,0,1111,null,1121,{"$f":"COUNTIF($L$7:$L$500,N9)","v":2},{"$f":"O9/$Q$4","v":1.5873015873015872E-2},{"$f":"IF(P9=0,0,(P9*((LOG(P9))/LOG(2))))","v":-9.4877459103173273E-2},null,null,{"$f":"N9","v":1121},{"$f":"COUNTIF(L7:L27,T9)","v":0},{"$f":"U9/(W4-U20)","v":0},{"$f":"IF(V9=0,0,(V9*((LOG(V9))/LOG(2))))","v":0},null,{"$f":"N9","v":1121},{"$f":"COUNTIF(L28:L48,Y9)","v":0},{"$f":"Z9/(AB4-Z20)","v":0},{"$f":"IF(AA9=0,0,(AA9*((LOG(AA9))/LOG(2))))","v":0},null,{"$f":"N9","v":1121},{"$f":"COUNTIF(L49:L69,AD9)","v":0},{"$f":"AE9/(AG4-AE20)","v":0},{"$f":"IF(AF9=0,0,(AF9*((LOG(AF9))/LOG(2))))","v":0},null,{"$f":"N9","v":1121},{"$f":"COUNTIF(L70:L90,AI9)","v":1},{"$f":"AJ9/(AL4-AJ20)","v":5.5555555555555552E-2},{"$f":"IF(AK9=0,0,(AK9*((LOG(AK9))/LOG(2))))","v":-0.23166250008012845},null,{"$f":"N9","v":1121},{"$f":"COUNTIF(L91:L111,AN9)","v":1},{"$f":"AO9/(AQ4-AO20)","v":5.5555555555555552E-2},{"$f":"IF(AP9=0,0,(AP9*((LOG(AP9))/LOG(2))))","v":-0.23166250008012845},null,{"$f":"N9","v":1121},{"$f":"COUNTIF(L112:L132,AS9)","v":0},{"$f":"AT9/(AV4-AT20)","v":0},{"$f":"IF(AU9=0,0,(AU9*((LOG(AU9))/LOG(2))))","v":0}]
[12,711,23,736,24,827,14,844,null,null,0,1221,null,1122,{"$f":"COUNTIF($L$7:$L$500,N10)","v":14},{"$f":"O10/$Q$4","v":0.1111111111111111},{"$f":"IF(P10=0,0,(P10*((LOG(P10))/LOG(2))))","v":-0.3522138890491458},null,null,{"$f":"N10","v":1122},{"$f":"COUNTIF(L7:L27,T10)","v":1},{"$f":"U10/(W4-U20)","v":5.5555555555555552E-2},{"$f":"IF(V10=0,0,(V10*((LOG(V10))/LOG(2))))","v":-0.23166250008012845},null,{"$f":"N10","v":1122},{"$f":"COUNTIF(L28:L48,Y10)","v":2},{"$f":"Z10/(AB4-Z20)","v":0.1111111111111111},{"$f":"IF(AA10=0,0,(AA10*((LOG(AA10))/LOG(2))))","v":-0.3522138890491458},null,{"$f":"N10","v":1122},{"$f":"COUNTIF(L49:L69,AD10)","v":5},{"$f":"AE10/(AG4-AE20)","v":0.23809523809523808},{"$f":"IF(AF10=0,0,(AF10*((LOG(AF10))/LOG(2))))","v":-0.49294983997414238},null,{"$f":"N10","v":1122},{"$f":"COUNTIF(L70:L90,AI10)","v":4},{"$f":"AJ10/(AL4-AJ20)","v":0.22222222222222221},{"$f":"IF(AK10=0,0,(AK10*((LOG(AK10))/LOG(2))))","v":-0.48220555587606945},null,{"$f":"N10","v":1122},{"$f":"COUNTIF(L91:L111,AN10)","v":0},{"$f":"AO10/(AQ4-AO20)","v":0},{"$f":"IF(AP10=0,0,(AP10*((LOG(AP10))/LOG(2))))","v":0},null,{"$f":"N10","v":1122},{"$f":"COUNTIF(L112:L132,AS10)","v":2},{"$f":"AT10/(AV4-AT20)","v":0.10526315789473684},{"$f":"IF(AU10=0,0,(AU10*((LOG(AU10))/LOG(2))))","v":-0.34188710667827216}]
[21,967,12,975,24,1023,23,1062,null,null,0,2122,null,1211,{"$f":"COUNTIF($L$7:$L$500,N11)","v":0},{"$f":"O11/$Q$4","v":0},{"$f":"IF(P11=0,0,(P11*((LOG(P11))/LOG(2))))","v":0},null,null,{"$f":"N11","v":1211},{"$f":"COUNTIF(L7:L27,T11)","v":0},{"$f":"U11/(W4-U20)","v":0},{"$f":"IF(V11=0,0,(V11*((LOG(V11))/LOG(2))))","v":0},null,{"$f":"N11","v":1211},{"$f":"COUNTIF(L28:L48,Y11)","v":0},{"$f":"Z11/(AB4-Z20)","v":0},{"$f":"IF(AA11=0,0,(AA11*((LOG(AA11))/LOG(2))))","v":0},null,{"$f":"N11","v":1211},{"$f":"COUNTIF(L49:L69,AD11)","v":0},{"$f":"AE11/(AG4-AE20)","v":0},{"$f":"IF(AF11=0,0,(AF11*((LOG(AF11))/LOG(2))))","v":0},null,{"$f":"N11","v":1211},{"$f":"COUNTIF(L70:L90,AI11)","v":0},{"$f":"AJ11/(AL4-AJ20)","v":0},{"$f":"IF(AK11=0,0,(AK11*((LOG(AK11))/LOG(2))))","v":0},null,{"$f":"N11","v":1211},{"$f":"COUNTIF(L91:L111,AN11)","v":0},{"$f":"AO11/(AQ4-AO20)","v":0},{"$f":"IF(AP11=0,0,(AP11*((LOG(AP11))/LOG(2))))","v":0},null,{"$f":"N11","v":1211},{"$f":"COUNTIF(L112:L132,AS11)","v":0},{"$f":"AT11/(AV4-AT20)","v":0},{"$f":"IF(AU11=0,0,(AU11*((LOG(AU11))/LOG(2))))","v":0}]
[12,1184,14,1200,24,1210,23,1242,null,null,0,1122,null,1212,{"$f":"COUNTIF($L$7:$L$500,N12)","v":9},{"$f":"O12/$Q$4","v":7.1428571428571425E-2},{"$f":"IF(P12=0,0,(P12*((LOG(P12))/LOG(2))))","v":-0.27195392300411453},null,null,{"$f":"N12","v":1212},{"$f":"COUNTIF(L7:L27,T12)","v":2},{"$f":"U12/(W4-U20)","v":0.1111111111111111},{"$f":"IF(V12=0,0,(V12*((LOG(V12))/LOG(2))))","v":-0.3522138890491458},null,{"$f":"N12","v":1212},{"$f":"COUNTIF(L28:L48,Y12)","v":0},{"$f":"Z12/(AB4-Z20)","v":0},{"$f":"IF(AA12=0,0,(AA12*((LOG(AA12))/LOG(2))))","v":0},null,{"$f":"N12","v":1212},{"$f":"COUNTIF(L49:L69,AD12)","v":2},{"$f":"AE12/(AG4-AE20)","v":9.5238095238095233E-2},{"$f":"IF(AF12=0,0,(AF12*((LOG(AF12))/LOG(2))))","v":-0.32307784978845333},null,{"$f":"N12","v":1212},{"$f":"COUNTIF(L70:L90,AI12)","v":1},{"$f":"AJ12/(AL4-AJ20)","v":5.5555555555555552E-2},{"$f":"IF(AK12=0,0,(AK12*((LOG(AK12))/LOG(2))))","v":-0.23166250008012845},null,{"$f":"N12","v":1212},{"$f":"COUNTIF(L91:L111,AN12)","v":4},{"$f":"AO12/(AQ4-AO20)","v":0.22222222222222221},{"$f":"IF(AP12=0,0,(AP12*((LOG(AP12))/LOG(2))))","v":-0.48220555587606945},null,{"$f":"N12","v":1212},{"$f":"COUNTIF(L112:L132,AS12)","v":0},{"$f":"AT12/(AV4-AT20)","v":0},{"$f":"IF(AU12=0,0,(AU12*((LOG(AU12))/LOG(2))))","v":0}]
[21,1348,12,1356,24,1365,23,1415,null,null,0,2122,null,1221,{"$f":"COUNTIF($L$7:$L$500,N13)","v":7},{"$f":"O13/$Q$4","v":5.5555555555555552E-2},{"$f":"IF(P13=0,0,(P13*((LOG(P13))/LOG(2))))","v":-0.23166250008012845},null,null,{"$f":"N13","v":1221},{"$f":"COUNTIF(L7:L27,T13)","v":1},{"$f":"U13/(W4-U20)","v":5.5555555555555552E-2},{"$f":"IF(V13=0,0,(V13*((LOG(V13))/LOG(2))))","v":-0.23166250008012845},null,{"$f":"N13","v":1221},{"$f":"COUNTIF(L28:L48,Y13)","v":1},{"$f":"Z13/(AB4-Z20)","v":5.5555555555555552E-2},{"$f":"IF(AA13=0,0,(AA13*((LOG(AA13))/LOG(2))))","v":-0.23166250008012845},null,{"$f":"N13","v":1221},{"$f":"COUNTIF(L49:L69,AD13)","v":3},{"$f":"AE13/(AG4-AE20)","v":0.14285714285714285},{"$f":"IF(AF13=0,0,(AF13*((LOG(AF13))/LOG(2))))","v":-0.40105070315108626},null,{"$f":"N13","v":1221},{"$f":"COUNTIF(L70:L90,AI13)","v":1},{"$f":"AJ13/(AL4-AJ20)","v":5.5555555555555552E-2},{"$f":"IF(AK13=0,0,(AK13*((LOG(AK13))/LOG(2))))","v":-0.23166250008012845},null,{"$f":"N13","v":1221},{"$f":"COUNTIF(L91:L111,AN13)","v":0},{"$f":"AO13/(AQ4-AO20)","v":0},{"$f":"IF(AP13=0,0,(AP13*((LOG(AP13))/LOG(2))))","v":0},null,{"$f":"N13","v":1221},{"$f":"COUNTIF(L112:L132,AS13)","v":1},{"$f":"AT13/(AV4-AT20)","v":5.2631578947368418E-2},{"$f":"IF(AU13=0,0,(AU13*((LOG(AU13))/LOG(2))))","v":-0.22357513228650452}]
[21,1532,12,1539,24,1572,14,1631,null,null,0,2121,null,1222,{"$f":"COUNTIF($L$7:$L$500,N14)","v":20},{"$f":"O14/$Q$4","v":0.15873015873015872},{"$f":"IF(P14=0,0,(P14*((LOG(P14))/LOG(2))))","v":-0.42148441724008795},null,null,{"$f":"N14","v":1222},{"$f":"COUNTIF(L7:L27,T14)","v":3},{"$f":"U14/(W4-U20)","v":0.16666666666666666},{"$f":"IF(V14=0,0,(V14*((LOG(V14))/LOG(2))))","v":-0.43082708345352599},null,{"$f":"N14","v":1222},{"$f":"COUNTIF(L28:L48,Y14)","v":6},{"$f":"Z14/(AB4-Z20)","v":0.33333333333333331},{"$f":"IF(AA14=0,0,(AA14*((LOG(AA14))/LOG(2))))","v":-0.52832083357371862},null,{"$f":"N14","v":1222},{"$f":"COUNTIF(L49:L69,AD14)","v":2},{"$f":"AE14/(AG4-AE20)","v":9.5238095238095233E-2},{"$f":"IF(AF14=0,0,(AF14*((LOG(AF14))/LOG(2))))","v":-0.32307784978845333},null,{"$f":"N14","v":1222},{"$f":"COUNTIF(L70:L90,AI14)","v":2},{"$f":"AJ14/(AL4-AJ20)","v":0.1111111111111111},{"$f":"IF(AK14=0,0,(AK14*((LOG(AK14))/LOG(2))))","v":-0.3522138890491458},null,{"$f":"N14","v":1222},{"$f":"COUNTIF(L91:L111,AN14)","v":3},{"$f":"AO14/(AQ4-AO20)","v":0.16666666666666666},{"$f":"IF(AP14=0,0,(AP14*((LOG(AP14))/LOG(2))))","v":-0.43082708345352599},null,{"$f":"N14","v":1222},{"$f":"COUNTIF(L112:L132,AS14)","v":4},{"$f":"AT14/(AV4-AT20)","v":0.21052631578947367},{"$f":"IF(AU14=0,0,(AU14*((LOG(AU14))/LOG(2))))","v":-0.47324789756707064}]
[21,1748,12,1768,24,1784,23,1801,null,null,0,2122,null,2111,{"$f":"COUNTIF($L$7:$L$500,N15)","v":1},{"$f":"O15/$Q$4","v":7.9365079365079361E-3},{"$f":"IF(P15=0,0,(P15*((LOG(P15))/LOG(2))))","v":-5.5375237488094572E-2},null,null,{"$f":"N15","v":2111},{"$f":"COUNTIF(L7:L27,T15)","v":0},{"$f":"U15/(W4-U20)","v":0},{"$f":"IF(V15=0,0,(V15*((LOG(V15))/LOG(2))))","v":0},null,{"$f":"N15","v":2111},{"$f":"COUNTIF(L28:L48,Y15)","v":0},{"$f":"Z15/(AB4-Z20)","v":0},{"$f":"IF(AA15=0,0,(AA15*((LOG(AA15))/LOG(2))))","v":0},null,{"$f":"N15","v":2111},{"$f":"COUNTIF(L49:L69,AD15)","v":0},{"$f":"AE15/(AG4-AE20)","v":0},{"$f":"IF(AF15=0,0,(AF15*((LOG(AF15))/LOG(2))))","v":0},null,{"$f":"N15","v":2111},{"$f":"COUNTIF(L70:L90,AI15)","v":0},{"$f":"AJ15/(AL4-AJ20)","v":0},{"$f":"IF(AK15=0,0,(AK15*((LOG(AK15))/LOG(2))))","v":0},null,{"$f":"N15","v":2111},{"$f":"COUNTIF(L91:L111,AN15)","v":1},{"$f":"AO15/(AQ4-AO20)","v":5.5555555555555552E-2},{"$f":"IF(AP15=0,0,(AP15*((LOG(AP15))/LOG(2))))","v":-0.23166250008012845},null,{"$f":"N15","v":2111},{"$f":"COUNTIF(L112:L132,AS15)","v":0},{"$f":"AT15/(AV4-AT20)","v":0},{"$f":"IF(AU15=0,0,(AU15*((LOG(AU15))/LOG(2))))","v":0}]
[21,1909,12,1917,24,1974,14,2083,null,null,0,2121,null,2112,{"$f":"COUNTIF($L$7:$L$500,N16)","v":8},{"$f":"O16/$Q$4","v":6.3492063492063489E-2},{"$f":"IF(P16=0,0,(P16*((LOG(P16))/LOG(2))))","v":-0.25252570942856611},null,null,{"$f":"N16","v":2112},{"$f":"COUNTIF(L7:L27,T16)","v":0},{"$f":"U16/(W4-U20)","v":0},{"$f":"IF(V16=0,0,(V16*((LOG(V16))/LOG(2))))","v":0},null,{"$f":"N16","v":2112},{"$f":"COUNTIF(L28:L48,Y16)","v":1},{"$f":"Z16/(AB4-Z20)","v":5.5555555555555552E-2},{"$f":"IF(AA16=0,0,(AA16*((LOG(AA16))/LOG(2))))","v":-0.23166250008012845},null,{"$f":"N16","v":2112},{"$f":"COUNTIF(L49:L69,AD16)","v":2},{"$f":"AE16/(AG4-AE20)","v":9.5238095238095233E-2},{"$f":"IF(AF16=0,0,(AF16*((LOG(AF16))/LOG(2))))","v":-0.32307784978845333},null,{"$f":"N16","v":2112},{"$f":"COUNTIF(L70:L90,AI16)","v":2},{"$f":"AJ16/(AL4-AJ20)","v":0.1111111111111111},{"$f":"IF(AK16=0,0,(AK16*((LOG(AK16))/LOG(2))))","v":-0.3522138890491458},null,{"$f":"N16","v":2112},{"$f":"COUNTIF(L91:L111,AN16)","v":2},{"$f":"AO16/(AQ4-AO20)","v":0.1111111111111111},{"$f":"IF(AP16=0,0,(AP16*((LOG(AP16))/LOG(2))))","v":-0.3522138890491458},null,{"$f":"N16","v":2112},{"$f":"COUNTIF(L112:L132,AS16)","v":1},{"$f":"AT16/(AV4-AT20)","v":5.2631578947368418E-2},{"$f":"IF(AU16=0,0,(AU16*((LOG(AU16))/LOG(2))))","v":-0.22357513228650452}]
[21,2184,21,2192,11,2200,21,2224,null,null,0,2212,null,2121,{"$f":"COUNTIF($L$7:$L$500,N17)","v":7},{"$f":"O17/$Q$4","v":5.5555555555555552E-2},{"$f":"IF(P17=0,0,(P17*((LOG(P17))/LOG(2))))","v":-0.23166250008012845},null,null,{"$f":"N17","v":2121},{"$f":"COUNTIF(L7:L27,T17)","v":2},{"$f":"U17/(W4-U20)","v":0.1111111111111111},{"$f":"IF(V17=0,0,(V17*((LOG(V17))/LOG(2))))","v":-0.3522138890491458},null,{"$f":"N17","v":2121},{"$f":"COUNTIF(L28:L48,Y17)","v":1},{"$f":"Z17/(AB4-Z20)","v":5.5555555555555552E-2},{"$f":"IF(AA17=0,0,(AA17*((LOG(AA17))/LOG(2))))","v":-0.23166250008012845},null,{"$f":"N17","v":2121},{"$f":"COUNTIF(L49:L69,AD17)","v":1},{"$f":"AE17/(AG4-AE20)","v":4.7619047619047616E-2},{"$f":"IF(AF17=0,0,(AF17*((LOG(AF17))/LOG(2))))","v":-0.20915797251327431},null,{"$f":"N17","v":2121},{"$f":"COUNTIF(L70:L90,AI17)","v":2},{"$f":"AJ17/(AL4-AJ20)","v":0.1111111111111111},{"$f":"IF(AK17=0,0,(AK17*((LOG(AK17))/LOG(2))))","v":-0.3522138890491458},null,{"$f":"N17","v":2121},{"$f":"COUNTIF(L91:L111,AN17)","v":1},{"$f":"AO17/(AQ4-AO20)","v":5.5555555555555552E-2},{"$f":"IF(AP17=0,0,(AP17*((LOG(AP17))/LOG(2))))","v":-0.23166250008012845},null,{"$f":"N17","v":2121},{"$f":"COUNTIF(L112:L132,AS17)","v":0},{"$f":"AT17/(AV4-AT20)","v":0},{"$f":"IF(AU17=0,0,(AU17*((LOG(AU17))/LOG(2))))","v":0}]
[21,2332,12,2340,24,2416,23,2493,null,null,0,2122,null,2122,{"$f":"COUNTIF($L$7:$L$500,N18)","v":40},{"$f":"O18/$Q$4","v":0.31746031746031744},{"$f":"IF(P18=0,0,(P18*((LOG(P18))/LOG(2))))","v":-0.52550851701985846},null,null,{"$f":"N18","v":2122},{"$f":"COUNTIF(L7:L27,T18)","v":8},{"$f":"U18/(W4-U20)","v":0.44444444444444442},{"$f":"IF(V18=0,0,(V18*((LOG(V18))/LOG(2))))","v":-0.51996666730769447},null,{"$f":"N18","v":2122},{"$f":"COUNTIF(L28:L48,Y18)","v":7},{"$f":"Z18/(AB4-Z20)","v":0.3888888888888889},{"$f":"IF(AA18=0,0,(AA18*((LOG(AA18))/LOG(2))))","v":-0.52988836420516428},null,{"$f":"N18","v":2122},{"$f":"COUNTIF(L49:L69,AD18)","v":6},{"$f":"AE18/(AG4-AE20)","v":0.2857142857142857},{"$f":"IF(AF18=0,0,(AF18*((LOG(AF18))/LOG(2))))","v":-0.51638712058788683},null,{"$f":"N18","v":2122},{"$f":"COUNTIF(L70:L90,AI18)","v":5},{"$f":"AJ18/(AL4-AJ20)","v":0.27777777777777779},{"$f":"IF(AK18=0,0,(AK18*((LOG(AK18))/LOG(2))))","v":-0.51333247404304172},null,{"$f":"N18","v":2122},{"$f":"COUNTIF(L91:L111,AN18)","v":5},{"$f":"AO18/(AQ4-AO20)","v":0.27777777777777779},{"$f":"IF(AP18=0,0,(AP18*((LOG(AP18))/LOG(2))))","v":-0.51333247404304172},null,{"$f":"N18","v":2122},{"$f":"COUNTIF(L112:L132,AS18)","v":9},{"$f":"AT18/(AV4-AT20)","v":0.47368421052631576},{"$f":"IF(AU18=0,0,(AU18*((LOG(AU18))/LOG(2))))","v":-0.51063276884270825}]
[21,2604,21,2614,11,2621,21,2680,null,null,0,2212,null,2211,{"$f":"COUNTIF($L$7:$L$500,N19)","v":0},{"$f":"O19/$Q$4","v":0},{"$f":"IF(P19=0,0,(P19*((LOG(P19))/LOG(2))))","v":0},null,null,{"$f":"N19","v":2211},{"$f":"COUNTIF(L7:L27,T19)","v":0},{"$f":"U19/(W4-U20)","v":0},{"$f":"IF(V19=0,0,(V19*((LOG(V19))/LOG(2))))","v":0},null,{"$f":"N19","v":2211},{"$f":"COUNTIF(L28:L48,Y19)","v":0},{"$f":"Z19/(AB4-Z20)","v":0},{"$f":"IF(AA19=0,0,(AA19*((LOG(AA19))/LOG(2))))","v":0},null,{"$f":"N19","v":2211},{"$f":"COUNTIF(L49:L69,AD19)","v":0},{"$f":"AE19/(AG4-AE20)","v":0},{"$f":"IF(AF19=0,0,(AF19*((LOG(AF19))/LOG(2))))","v":0},null,{"$f":"N19","v":2211},{"$f":"COUNTIF(L70:L90,AI19)","v":0},{"$f":"AJ19/(AL4-AJ20)","v":0},{"$f":"IF(AK19=0,0,(AK19*((LOG(AK19))/LOG(2))))","v":0},null,{"$f":"N19","v":2211},{"$f":"COUNTIF(L91:L111,AN19)","v":0},{"$f":"AO19/(AQ4-AO20)","v":0},{"$f":"IF(AP19=0,0,(AP19*((LOG(AP19))/LOG(2))))","v":0},null,{"$f":"N19","v":2211},{"$f":"COUNTIF(L112:L132,AS19)","v":0},{"$f":"AT19/(AV4-AT20)","v":0},{"$f":"IF(AU19=0,0,(AU19*((LOG(AU19))/LOG(2))))","v":0}]
[12,2806,23,2829,24,2837,23,2870,null,null,0,1222,null,2212,{"$f":"COUNTIF($L$7:$L$500,N20)","v":14},{"$f":"O20/$Q$4","v":0.1111111111111111},{"$f":"IF(P20=0,0,(P20*((LOG(P20))/LOG(2))))","v":-0.3522138890491458},null,null,{"$f":"N20","v":2212},{"$f":"COUNTIF(L7:L27,T20)","v":3},null,null,null,{"$f":"N20","v":2212},{"$f":"COUNTIF(L28:L48,Y20)","v":3},null,null,null,{"$f":"N20","v":2212},{"$f":"COUNTIF(L49:L69,AD20)","v":0},null,null,null,{"$f":"N20","v":2212},{"$f":"COUNTIF(L70:L90,AI20)","v":3},null,null,null,{"$f":"N20","v":2212},{"$f":"COUNTIF(L91:L111,AN20)","v":3},null,null,null,{"$f":"N20","v":2212},{"$f":"COUNTIF(L112:L132,AS20)","v":2}]
[12,2992,23,3001,24,3023,23,3131,null,null,0,1222,null,2221,{"$f":"COUNTIF($L$7:$L$500,N21)","v":2},{"$f":"O21/$Q$4","v":1.5873015873015872E-2},{"$f":"IF(P21=0,0,(P21*((LOG(P21))/LOG(2))))","v":-9.4877459103173273E-2},null,null,{"$f":"N21","v":2221},{"$f":"COUNTIF(L7:L27,T21)","v":0},{"$f":"U21/(W4-U20)","v":0},{"$f":"IF(V21=0,0,(V21*((LOG(V21))/LOG(2))))","v":0},null,{"$f":"N21","v":2221},{"$f":"COUNTIF(L28:L48,Y21)","v":0},{"$f":"Z21/(AB4-Z20)","v":0},{"$f":"IF(AA21=0,0,(AA21*((LOG(AA21))/LOG(2))))","v":0},null,{"$f":"N21","v":2221},{"$f":"COUNTIF(L49:L69,AD21)","v":0},{"$f":"AE21/(AG4-AE20)","v":0},{"$f":"IF(AF21=0,0,(AF21*((LOG(AF21))/LOG(2))))","v":0},null,{"$f":"N21","v":2221},{"$f":"COUNTIF(L70:L90,AI21)","v":0},{"$f":"AJ21/(AL4-AJ20)","v":0},{"$f":"IF(AK21=0,0,(AK21*((LOG(AK21))/LOG(2))))","v":0},null,{"$f":"N21","v":2221},{"$f":"COUNTIF(L91:L111,AN21)","v":1},{"$f":"AO21/(AQ4-AO20)","v":5.5555555555555552E-2},{"$f":"IF(AP21=0,0,(AP21*((LOG(AP21))/LOG(2))))","v":-0.23166250008012845},null,{"$f":"N21","v":2221},{"$f":"COUNTIF(L112:L132,AS21)","v":1},{"$f":"AT21/(AV4-AT20)","v":5.2631578947368418E-2},{"$f":"IF(AU21=0,0,(AU21*((LOG(AU21))/LOG(2))))","v":-0.22357513228650452}]
[12,3240,23,3248,13,3256,23,3299,null,null,0,1212,null,2222,{"$f":"COUNTIF($L$7:$L$500,N22)","v":1},{"$f":"O22/$Q$4","v":7.9365079365079361E-3},{"$f":"IF(P22=0,0,(P22*((LOG(P22))/LOG(2))))","v":-5.5375237488094572E-2},null,null,{"$f":"N22","v":2222},{"$f":"COUNTIF(L7:L27,T22)","v":0},{"$f":"U22/(W4-U20)","v":0},{"$f":"IF(V22=0,0,(V22*((LOG(V22))/LOG(2))))","v":0},null,{"$f":"N22","v":2222},{"$f":"COUNTIF(L28:L48,Y22)","v":0},{"$f":"Z22/(AB4-Z20)","v":0},{"$f":"IF(AA22=0,0,(AA22*((LOG(AA22))/LOG(2))))","v":0},null,{"$f":"N22","v":2222},{"$f":"COUNTIF(L49:L69,AD22)","v":0},{"$f":"AE22/(AG4-AE20)","v":0},{"$f":"IF(AF22=0,0,(AF22*((LOG(AF22))/LOG(2))))","v":0},null,{"$f":"N22","v":2222},{"$f":"COUNTIF(L70:L90,AI22)","v":0},{"$f":"AJ22/(AL4-AJ20)","v":0},{"$f":"IF(AK22=0,0,(AK22*((LOG(AK22))/LOG(2))))","v":0},null,{"$f":"N22","v":2222},{"$f":"COUNTIF(L91:L111,AN22)","v":0},{"$f":"AO22/(AQ4-AO20)","v":0},{"$f":"IF(AP22=0,0,(AP22*((LOG(AP22))/LOG(2))))","v":0},null,{"$f":"N22","v":2222},{"$f":"COUNTIF(L112:L132,AS22)","v":1},{"$f":"AT22/(AV4-AT20)","v":5.2631578947368418E-2},{"$f":"IF(AU22=0,0,(AU22*((LOG(AU22))/LOG(2))))","v":-0.22357513228650452}]
[21,3401,12,3409,24,3418,23,3498,null,null,0,2122,null,null,null,{"$f":"SUM(P7:P22)","v":0.99999999999999978},{"$f":"-SUM(Q7:Q22)","v":2.9951059756218057},null,null,null,null,{"$f":"SUM(V7:V22)","v":1},{"$f":"-SUM(W7:W22)","v":2.3502090290998972},null,null,null,{"$f":"SUM(AA7:AA22)","v":1},{"$f":"-SUM(AB7:AB22)","v":2.1054105870684139},null,null,null,{"$f":"SUM(AF7:AF22)","v":0.99999999999999989},{"$f":"-SUM(AG7:AG22)","v":2.5887791855917497},null,null,null,{"$f":"SUM(AK7:AK22)","v":1},{"$f":"-SUM(AL7:AL22)","v":2.747167197306934},null,null,null,{"$f":"SUM(AP7:AP22)","v":1},{"$f":"-SUM(AQ7:AQ22)","v":2.7052290027422967},null,null,null,{"$f":"SUM(AU7:AU22)","v":0.99999999999999978},{"$f":"-SUM(AV7:AV22)","v":2.2200683022340688}]
[21,3627,12,3647,24,3712,23,3764,null,null,0,2122,null,null,null,"U=",{"$f":"Q23/(LOG(Q4)/LOG(2))","v":0.42926556028433099},null,null,null,null,"U1=",{"$f":"W23/(LOG(W4)/LOG(2))","v":0.53507267414499793},null,null,null,"U2=",{"$f":"AB23/(LOG(AB4)/LOG(2))","v":0.47933935196706356},null,null,null,"U3=",{"$f":"AG23/(LOG(AG4)/LOG(2))","v":0.58938800100516908},null,null,null,"U4=",{"$f":"AL23/(LOG(AL4)/LOG(2))","v":0.62544823902298097},null,null,null,"U5=",{"$f":"AQ23/(LOG(AQ4)/LOG(2))","v":0.61590015983654878},null,null,null,"U6=",{"$f":"AV23/(LOG(AV4)/LOG(2))","v":0.50544350249385261}]
[21,3866,21,3874,11,3882,21,3906,null,null,0,2212]
[21,4001,12,4008,24,4032,23,4056,null,null,0,2122]
[21,4168,12,4191,24,4235,23,4307,null,null,0,2122,null,"Total Target Seq"]
[12,4423,23,4438,24,4476,23,4527,null,null,0,1222,null,{"$f":"COUNTIF(L7:L132,G3)","v":14},null,21,21,21,21,21,21]
[12,4653,23,4669,24,4686,23,4694,null,null,0,1222,null,null,null,"% of reinforcement given in 6 equal intervals based on number of trials "]
[21,4818,12,4826,24,4850,23,4881,null,null,0,2122,null,null,null,"%_1","%_2","%_3","%_4","%_5","%_6"]
[21,4980,12,4996,24,5020,23,5035,null,null,0,2122,null,null,"target sequence",{"$f":"$G$3","v":2212},{"$f":"$G$3","v":2212},{"$f":"$G$3","v":2212},{"$f":"$G$3","v":2212},{"$f":"$G$3","v":2212},{"$f":"$G$3","v":2212}]
[21,5135,12,5153,24,5191,23,5199,null,null,0,2122,null,null,"total reinforcement",{"$f":"U20","v":3},{"$f":"Z20","v":3},{"$f":"AE20","v":0},{"$f":"AJ20","v":3},{"$f":"AO20","v":3},{"$f":"AT20","v":2}]
[21,5300,21,5307,11,5316,21,5404,null,null,0,2212,null,null,"% target"]
[12,5518,23,5542,24,5550,23,5565,null,null,0,1222,null,null,"CCRF"]
[12,5686,23,5703,24,5751,23,5783,null,null,0,1222,null,null,"% CCRf"]
[21,5894,21,5899,11,5906,21,5935,null,null,0,2212,null,null,"average response rate",{"$f":"H27/P28","v":205.0952380952381},{"$f":"(H48-H27)/Q28","v":192.57142857142858},{"$f":"(H69-H48)/R28","v":198.66666666666666},{"$f":"(H90-H69)/S28","v":206.47619047619048},{"$f":"(H111-H90)/T28","v":166.47619047619048},{"$f":"(H132-H111)/U28","v":170.0952380952381}]
[12,6035,23,6158,24,6303,14,6318,null,null,0,1221]
[21,6425,12,6449,24,6485,23,6501,null,null,0,2122]
[21,6604,12,6611,24,6619,14,6627,null,null,0,2121]
[21,6735,12,6743,24,6775,23,6915,null,null,0,2122]
[12,7022,14,7037,24,7064,23,7108,null,null,0,1122]
[12,7216,23,7247,24,7263,23,7277,null,null,0,1222]
[12,7393,23,7408,24,7416,23,7449,null,null,0,1222]
[12,7554,14,7569,24,7601,23,7634,null,null,0,1122]
[21,7738,12,7747,24,7769,23,7778,null,null,0,2122]
[21,7887,21,7894,11,7902,21,7911,null,null,0,2212]
[21,8002,12,8010,13,8105,23,8159,null,null,0,2112]
[21,8259,12,8267,24,8297,23,8351,null,null,0,2122]
[12,8463,23,8486,24,8495,23,8567,null,null,0,1222]
[12,8676,23,8685,24,8700,23,8708,null,null,0,1222]
[12,8830,23,8839,24,8856,14,8976,null,null,0,1221]
[12,9092,14,9104,24,9129,23,9171,null,null,0,1122]
[21,9272,12,9280,24,9323,23,9337,null,null,0,2122]
[21,9435,12,9443,24,9459,23,9467,null,null,0,2122]
[12,9570,23,9579,13,9587,23,9615,null,null,0,1212]
[21,9716,12,9723,24,9746,23,9789,null,null,0,2122]
[12,9898,14,9911,24,9945,23,10102,null,null,0,1122]
[12,10214,14,10231,24,10240,23,10255,null,null,0,1122]
[21,10357,12,10365,13,10377,23,10396,null,null,0,2112]
[21,10497,12,10514,24,10541,14,10648,null,null,0,2121]
[12,10761,14,10789,24,10821,23,10866,null,null,0,1122]
[12,10967,14,10981,24,10989,23,11008,null,null,0,1122]
[12,11119,23,11148,13,11161,23,11205,null,null,0,1212]
[21,11320,12,11327,24,11350,23,11471,null,null,0,2122]
[21,11604,12,11726,24,11832,23,11848,null,null,0,2122]
[21,11946,12,11954,13,11963,23,11994,null,null,0,2112]
[21,12095,12,12102,24,12175,23,12195,null,null,0,2122]
[12,12307,23,12324,24,12335,14,12346,null,null,0,1221]
[12,12458,23,12482,24,12499,14,12523,null,null,0,1221]
[12,12652,23,12728,24,12746,14,12781,null,null,0,1221]
[21,12887,12,12910,24,12926,23,12934,null,null,0,2122]
[21,13033,12,13052,24,13076,23,13099,null,null,0,2122]
[12,13211,14,13231,24,13252,23,13311,null,null,0,1122]
[21,13441,12,13450,24,13470,14,13503,null,null,0,2121]
[12,13609,14,13624,24,13650,23,13742,null,null,0,1122]
[21,13842,12,13850,24,13858,23,13876,null,null,0,2122]
[21,13983,12,13991,13,14016,23,14055,null,null,0,2112]
[21,14202,12,14233,24,14253,23,14330,null,null,0,2122]
[12,14447,14,14462,24,14660,23,14692,null,null,0,1122]
[12,14806,23,14836,13,14871,23,14890,null,null,0,1212]
[21,14999,12,15006,24,15039,23,15048,null,null,0,2122]
[12,15155,14,15170,24,15197,14,15228,null,null,0,1121]
[12,15348,23,15356,24,15365,23,15374,null,null,0,1222]
[21,15482,12,15501,24,15530,14,15571,null,null,0,2121]
[21,15703,21,15716,11,15727,21,15902,null,null,0,2212]
[21,16213,21,16222,11,16249,21,16274,null,null,0,2212]
[21,16363,12,16371,13,16401,23,16440,null,null,0,2112]
[12,16560,23,16568,24,16576,23,16586,null,null,0,1222]
[21,16685,21,16707,11,16715,21,16724,null,null,0,2212]
[12,16826,14,16842,24,16850,23,16859,null,null,0,1122]
[12,16964,23,16971,13,16987,23,17013,null,null,0,1212]
[21,17113,12,17122,24,17129,23,17137,null,null,0,2122]
[12,17250,14,17265,24,17319,14,17327,null,null,0,1121]
[21,17427,12,17443,13,17464,23,17487,null,null,0,2112]
[12,17598,23,17605,13,17614,23,17639,null,null,0,1212]
[21,17743,12,17750,13,17766,14,17811,null,null,0,2111]
[12,17922,23,17930,13,17955,23,18025,null,null,0,1212]
[21,18123,21,18130,11,18153,21,18190,null,null,0,2212]
[21,18292,12,18300,13,18354,23,18386,null,null,0,2112]
[12,18502,23,18527,24,18535,23,18551,null,null,0,1222]
[21,18661,12,18668,24,18677,23,18692,null,null,0,2122]
[12,18813,23,18828,24,18836,23,18843,null,null,0,1222]
[21,18953,12,18960,24,18977,14,18986,null,null,0,2121]
[21,19085,12,19093,24,19110,23,19126,null,null,0,2122]
[21,19233,12,19243,24,19266,23,19275,null,null,0,2122]
[21,19380,21,19389,11,19398,21,19407,null,null,0,2212]
[21,19500,21,19509,11,19532,21,19545,null,null,0,2212]
[12,19727,23,19780,24,19832,23,19878,null,null,0,1222]
[21,20002,21,20034,22,20059,14,20078,null,null,0,2221]
[12,20192,23,20200,13,20209,23,20222,null,null,0,1212]
[21,20333,12,20342,24,20347,23,20355,null,null,0,2122]
[12,20461,14,20479,24,20496,23,20513,null,null,0,1122]
[21,20610,12,20659,24,20682,23,20690,null,null,0,2122]
[21,20798,12,20818,24,20852,23,20905,null,null,0,2122]
[21,21026,12,21034,24,21113,23,21122,null,null,0,2122]
[21,21243,21,21257,11,21266,21,21285,null,null,0,2212]
[12,21400,23,21408,24,21423,23,21507,null,null,0,1222]
[21,21610,12,21618,24,21645,23,21653,null,null,0,2122]
[12,21760,23,21769,24,21788,23,21796,null,null,0,1222]
[21,21929,21,21938,22,22001,23,22058,null,null,0,2222]
[21,22155,21,22181,11,22189,21,22217,null,null,0,2212]
[21,22328,12,22336,24,22359,23,22366,null,null,0,2122]
[21,22490,12,22497,24,22506,23,22514,null,null,0,2122]
[12,22638,23,22647,24,22663,23,22672,null,null,0,1222]
[21,22786,12,22793,13,22810,23,22819,null,null,0,2112]
[21,22937,12,22945,24,22961,23,22970,null,null,0,2122]
[21,23071,21,23078,22,23092,14,23100,null,null,0,2221]
[21,23213,12,23221,24,23229,23,23286,null,null,0,2122]
[12,23402,23,23410,24,23422,14,23430,null,null,0,1221]
[12,23562,23,23581,24,23604,23,23617,null,null,0,1222]
[21,23736,12,23751,24,23775,23,23786,null,null,0,2122]
[12,23895,14,23911,24,23919,23,23927,null,null,null,1122]

{"sheet":"!N124B00.095","index":26,"n_rows":65,"n_cols":48,"rows_kept":65,"cut":false,"hidden":false,"merged":[[4,39,4,42],[5,39,5,40],[4,44,4,47],[5,44,5,45],[4,24,4,27],[5,24,5,25],[4,29,4,32],[5,29,5,30],[4,34,4,37],[5,34,5,35],[1,1,1,2],[5,13,5,14],[26,13,26,14],[27,13,27,14],[4,19,4,22],[5,19,5,20]]}
["Report for:!N124B00.095"]
["Date:","<date>"]
["Hen:","<hen>",null,null,null,"Correct Sequence",{"$f":"Start!J2","v":2212},null,null,null,null,null,null,null,null,"Total Sequences in Data",{"$f":"4994-COUNTBLANK(L7:L5000)","v":59},null,null,null,null,"Total Sequences in Block Data",{"$f":"COUNTA(L7:L16)","v":10},null,null,null,"Total Sequences in Block Data",{"$f":"COUNTA(L17:L26)","v":10},null,null,null,"Total Sequences in Block Data",{"$f":"COUNTA(L27:L35)","v":9},null,null,null,"Total Sequences in Block Data",{"$f":"COUNTA(L36:L45)","v":10},null,null,null,"Total Sequences in Block Data",{"$f":"COUNTA(L46:L55)","v":10},null,null,null,"Total Sequences in Block Data",{"$f":"COUNTA(L56:L65)","v":10}]
[null,null,null,null,null,null,null,null,null,null,null,null,null,null,null,"Total Sequences in Summary",{"$f":"SUM(O7:O22)","v":59},null,null,null,null,"Total Sequences in Block Summary",{"$f":"SUM(U7:U22)","v":10},null,null,null,"Total Sequences in Block Summary",{"$f":"SUM(Z7:Z22)","v":10},null,null,null,"Total Sequences in Block Summary",{"$f":"SUM(AE7:AE22)","v":9},null,null,null,"Total Sequences in Block Summary",{"$f":"SUM(AJ7:AJ22)","v":10},null,null,null,"Total Sequences in Block Summary",{"$f":"SUM(AO7:AO22)","v":10},null,null,null,"Total Sequences in Block Summary",{"$f":"SUM(AT7:AT22)","v":10}]
[null,null,null,null,null,null,null,null,null,null,null,null,null,null,null,null,null,null,null,"Block 1",null,null,null,null,"Block 2",null,null,null,null,"Block 3",null,null,null,null,"Block 4",null,null,null,null,"Block 5",null,null,null,null,"Block 6"]
["Sequence\nComponent\n1","Time\n1","Sequence\nComponent\n2","Time\n2","Sequence\nComponent\n3","Time\n3","Sequence\nComponent\n4","Time\n4","Sequence\nComponent\n5","Time\n5","Correct?\n0=No 1=Yes","Sequence",null,"Frequency",null,"Relative Frequency","Variability",null,null,"Frequency",null,"Relative Frequency","Variability",null,"Frequency",null,"Relative Frequency","Variability",null,"Frequency",null,"Relative Frequency","Variability",null,"Frequency",null,"Relative Frequency","Variability",null,"Frequency",null,"Relative Frequency","Variability",null,"Frequency",null,"Relative Frequency","Variability"]
[21,33,21,42,11,60,12,91,null,null,0,2211,null,1111,{"$f":"COUNTIF($L$7:$L$500,N7)","v":0},{"$f":"O7/$Q$4","v":0},{"$f":"IF(P7=0,0,(P7*((LOG(P7))/LOG(2))))","v":0},null,null,{"$f":"N7","v":1111},{"$f":"COUNTIF(L7:L16,T7)","v":0},{"$f":"U7/(W4-U20)","v":0},{"$f":"IF(V7=0,0,(V7*((LOG(V7))/LOG(2))))","v":0},null,{"$f":"N7","v":1111},{"$f":"COUNTIF(L17:L26,Y7)","v":0},{"$f":"Z7/(AB4-Z20)","v":0},{"$f":"IF(AA7=0,0,(AA7*((LOG(AA7))/LOG(2))))","v":0},null,{"$f":"N7","v":1111},{"$f":"COUNTIF(L27:L35,AD7)","v":0},{"$f":"AE7/(AG4-AE20)","v":0},{"$f":"IF(AF7=0,0,(AF7*((LOG(AF7))/LOG(2))))","v":0},null,{"$f":"N7","v":1111},{"$f":"COUNTIF(L36:L45,AI7)","v":0},{"$f":"AJ7/(AL4-AJ20)","v":0},{"$f":"IF(AK7=0,0,(AK7*((LOG(AK7))/LOG(2))))","v":0},null,{"$f":"N7","v":1111},{"$f":"COUNTIF(L46:L55,AN7)","v":0},{"$f":"AO7/(AQ4-AO20)","v":0},{"$f":"IF(AP7=0,0,(AP7*((LOG(AP7))/LOG(2))))","v":0},null,{"$f":"N7","v":1111},{"$f":"COUNTIF(L56:L65,AS7)","v":0},{"$f":"AT7/(AV4-AT20)","v":0},{"$f":"IF(AU7=0,0,(AU7*((LOG(AU7))/LOG(2))))","v":0}]
[12,203,23,209,13,227,14,250,null,null,0,1211,null,1112,{"$f":"COUNTIF($L$7:$L$500,N8)","v":1},{"$f":"O8/$Q$4","v":1.6949152542372881E-2},{"$f":"IF(P8=0,0,(P8*((LOG(P8))/LOG(2))))","v":-9.9705814395963419E-2},null,null,{"$f":"N8","v":1112},{"$f":"COUNTIF(L7:L16,T8)","v":1},{"$f":"U8/(W4-U20)","v":0.1111111111111111},{"$f":"IF(V8=0,0,(V8*((LOG(V8))/LOG(2))))","v":-0.3522138890491458},null,{"$f":"N8","v":1112},{"$f":"COUNTIF(L17:L26,Y8)","v":0},{"$f":"Z8/(AB4-Z20)","v":0},{"$f":"IF(AA8=0,0,(AA8*((LOG(AA8))/LOG(2))))","v":0},null,{"$f":"N8","v":1112},{"$f":"COUNTIF(L27:L35,AD8)","v":0},{"$f":"AE8/(AG4-AE20)","v":0},{"$f":"IF(AF8=0,0,(AF8*((LOG(AF8))/LOG(2))))","v":0},null,{"$f":"N8","v":1112},{"$f":"COUNTIF(L36:L45,AI8)","v":0},{"$f":"AJ8/(AL4-AJ20)","v":0},{"$f":"IF(AK8=0,0,(AK8*((LOG(AK8))/LOG(2))))","v":0},null,{"$f":"N8","v":1112},{"$f":"COUNTIF(L46:L55,AN8)","v":0},{"$f":"AO8/(AQ4-AO20)","v":0},{"$f":"IF(AP8=0,0,(AP8*((LOG(AP8))/LOG(2))))","v":0},null,{"$f":"N8","v":1112},{"$f":"COUNTIF(L56:L65,AS8)","v":0},{"$f":"AT8/(AV4-AT20)","v":0},{"$f":"IF(AU8=0,0,(AU8*((LOG(AU8))/LOG(2))))","v":0}]
[12,373,14,393,13,449,23,468,null,null,0,1112,null,1121,{"$f":"COUNTIF($L$7:$L$500,N9)","v":0},{"$f":"O9/$Q$4","v":0},{"$f":"IF(P9=0,0,(P9*((LOG(P9))/LOG(2))))","v":0},null,null,{"$f":"N9","v":1121},{"$f":"COUNTIF(L7:L16,T9)","v":0},{"$f":"U9/(W4-U20)","v":0},{"$f":"IF(V9=0,0,(V9*((LOG(V9))/LOG(2))))","v":0},null,{"$f":"N9","v":1121},{"$f":"COUNTIF(L17:L26,Y9)","v":0},{"$f":"Z9/(AB4-Z20)","v":0},{"$f":"IF(AA9=0,0,(AA9*((LOG(AA9))/LOG(2))))","v":0},null,{"$f":"N9","v":1121},{"$f":"COUNTIF(L27:L35,AD9)","v":0},{"$f":"AE9/(AG4-AE20)","v":0},{"$f":"IF(AF9=0,0,(AF9*((LOG(AF9))/LOG(2))))","v":0},null,{"$f":"N9","v":1121},{"$f":"COUNTIF(L36:L45,AI9)","v":0},{"$f":"AJ9/(AL4-AJ20)","v":0},{"$f":"IF(AK9=0,0,(AK9*((LOG(AK9))/LOG(2))))","v":0},null,{"$f":"N9","v":1121},{"$f":"COUNTIF(L46:L55,AN9)","v":0},{"$f":"AO9/(AQ4-AO20)","v":0},{"$f":"IF(AP9=0,0,(AP9*((LOG(AP9))/LOG(2))))","v":0},null,{"$f":"N9","v":1121},{"$f":"COUNTIF(L56:L65,AS9)","v":0},{"$f":"AT9/(AV4-AT20)","v":0},{"$f":"IF(AU9=0,0,(AU9*((LOG(AU9))/LOG(2))))","v":0}]
[21,582,21,593,11,603,12,619,null,null,0,2211,null,1122,{"$f":"COUNTIF($L$7:$L$500,N10)","v":1},{"$f":"O10/$Q$4","v":1.6949152542372881E-2},{"$f":"IF(P10=0,0,(P10*((LOG(P10))/LOG(2))))","v":-9.9705814395963419E-2},null,null,{"$f":"N10","v":1122},{"$f":"COUNTIF(L7:L16,T10)","v":0},{"$f":"U10/(W4-U20)","v":0},{"$f":"IF(V10=0,0,(V10*((LOG(V10))/LOG(2))))","v":0},null,{"$f":"N10","v":1122},{"$f":"COUNTIF(L17:L26,Y10)","v":0},{"$f":"Z10/(AB4-Z20)","v":0},{"$f":"IF(AA10=0,0,(AA10*((LOG(AA10))/LOG(2))))","v":0},null,{"$f":"N10","v":1122},{"$f":"COUNTIF(L27:L35,AD10)","v":0},{"$f":"AE10/(AG4-AE20)","v":0},{"$f":"IF(AF10=0,0,(AF10*((LOG(AF10))/LOG(2))))","v":0},null,{"$f":"N10","v":1122},{"$f":"COUNTIF(L36:L45,AI10)","v":1},{"$f":"AJ10/(AL4-AJ20)","v":0.125},{"$f":"IF(AK10=0,0,(AK10*((LOG(AK10))/LOG(2))))","v":-0.375},null,{"$f":"N10","v":1122},{"$f":"COUNTIF(L46:L55,AN10)","v":0},{"$f":"AO10/(AQ4-AO20)","v":0},{"$f":"IF(AP10=0,0,(AP10*((LOG(AP10))/LOG(2))))","v":0},null,{"$f":"N10","v":1122},{"$f":"COUNTIF(L56:L65,AS10)","v":0},{"$f":"AT10/(AV4-AT20)","v":0},{"$f":"IF(AU10=0,0,(AU10*((LOG(AU10))/LOG(2))))","v":0}]
[21,719,21,752,22,759,14,780,null,null,0,2221,null,1211,{"$f":"COUNTIF($L$7:$L$500,N11)","v":2},{"$f":"O11/$Q$4","v":3.3898305084745763E-2},{"$f":"IF(P11=0,0,(P11*((LOG(P11))/LOG(2))))","v":-0.16551332370718108},null,null,{"$f":"N11","v":1211},{"$f":"COUNTIF(L7:L16,T11)","v":1},{"$f":"U11/(W4-U20)","v":0.1111111111111111},{"$f":"IF(V11=0,0,(V11*((LOG(V11))/LOG(2))))","v":-0.3522138890491458},null,{"$f":"N11","v":1211},{"$f":"COUNTIF(L17:L26,Y11)","v":1},{"$f":"Z11/(AB4-Z20)","v":0.2},{"$f":"IF(AA11=0,0,(AA11*((LOG(AA11))/LOG(2))))","v":-0.46438561897747244},null,{"$f":"N11","v":1211},{"$f":"COUNTIF(L27:L35,AD11)","v":0},{"$f":"AE11/(AG4-AE20)","v":0},{"$f":"IF(AF11=0,0,(AF11*((LOG(AF11))/LOG(2))))","v":0},null,{"$f":"N11","v":1211},{"$f":"COUNTIF(L36:L45,AI11)","v":0},{"$f":"AJ11/(AL4-AJ20)","v":0},{"$f":"IF(AK11=0,0,(AK11*((LOG(AK11))/LOG(2))))","v":0},null,{"$f":"N11","v":1211},{"$f":"COUNTIF(L46:L55,AN11)","v":0},{"$f":"AO11/(AQ4-AO20)","v":0},{"$f":"IF(AP11=0,0,(AP11*((LOG(AP11))/LOG(2))))","v":0},null,{"$f":"N11","v":1211},{"$f":"COUNTIF(L56:L65,AS11)","v":0},{"$f":"AT11/(AV4-AT20)","v":0},{"$f":"IF(AU11=0,0,(AU11*((LOG(AU11))/LOG(2))))","v":0}]
[12,901,23,944,13,953,23,960,null,null,0,1212,null,1212,{"$f":"COUNTIF($L$7:$L$500,N12)","v":1},{"$f":"O12/$Q$4","v":1.6949152542372881E-2},{"$f":"IF(P12=0,0,(P12*((LOG(P12))/LOG(2))))","v":-9.9705814395963419E-2},null,null,{"$f":"N12","v":1212},{"$f":"COUNTIF(L7:L16,T12)","v":1},{"$f":"U12/(W4-U20)","v":0.1111111111111111},{"$f":"IF(V12=0,0,(V12*((LOG(V12))/LOG(2))))","v":-0.3522138890491458},null,{"$f":"N12","v":1212},{"$f":"COUNTIF(L17:L26,Y12)","v":0},{"$f":"Z12/(AB4-Z20)","v":0},{"$f":"IF(AA12=0,0,(AA12*((LOG(AA12))/LOG(2))))","v":0},null,{"$f":"N12","v":1212},{"$f":"COUNTIF(L27:L35,AD12)","v":0},{"$f":"AE12/(AG4-AE20)","v":0},{"$f":"IF(AF12=0,0,(AF12*((LOG(AF12))/LOG(2))))","v":0},null,{"$f":"N12","v":1212},{"$f":"COUNTIF(L36:L45,AI12)","v":0},{"$f":"AJ12/(AL4-AJ20)","v":0},{"$f":"IF(AK12=0,0,(AK12*((LOG(AK12))/LOG(2))))","v":0},null,{"$f":"N12","v":1212},{"$f":"COUNTIF(L46:L55,AN12)","v":0},{"$f":"AO12/(AQ4-AO20)","v":0},{"$f":"IF(AP12=0,0,(AP12*((LOG(AP12))/LOG(2))))","v":0},null,{"$f":"N12","v":1212},{"$f":"COUNTIF(L56:L65,AS12)","v":0},{"$f":"AT12/(AV4-AT20)","v":0},{"$f":"IF(AU12=0,0,(AU12*((LOG(AU12))/LOG(2))))","v":0}]
[21,1101,21,1125,11,1147,21,1155,null,null,0,2212,null,1221,{"$f":"COUNTIF($L$7:$L$500,N13)","v":1},{"$f":"O13/$Q$4","v":1.6949152542372881E-2},{"$f":"IF(P13=0,0,(P13*((LOG(P13))/LOG(2))))","v":-9.9705814395963419E-2},null,null,{"$f":"N13","v":1221},{"$f":"COUNTIF(L7:L16,T13)","v":0},{"$f":"U13/(W4-U20)","v":0},{"$f":"IF(V13=0,0,(V13*((LOG(V13))/LOG(2))))","v":0},null,{"$f":"N13","v":1221},{"$f":"COUNTIF(L17:L26,Y13)","v":0},{"$f":"Z13/(AB4-Z20)","v":0},{"$f":"IF(AA13=0,0,(AA13*((LOG(AA13))/LOG(2))))","v":0},null,{"$f":"N13","v":1221},{"$f":"COUNTIF(L27:L35,AD13)","v":0},{"$f":"AE13/(AG4-AE20)","v":0},{"$f":"IF(AF13=0,0,(AF13*((LOG(AF13))/LOG(2))))","v":0},null,{"$f":"N13","v":1221},{"$f":"COUNTIF(L36:L45,AI13)","v":0},{"$f":"AJ13/(AL4-AJ20)","v":0},{"$f":"IF(AK13=0,0,(AK13*((LOG(AK13))/LOG(2))))","v":0},null,{"$f":"N13","v":1221},{"$f":"COUNTIF(L46:L55,AN13)","v":1},{"$f":"AO13/(AQ4-AO20)","v":0.1},{"$f":"IF(AP13=0,0,(AP13*((LOG(AP13))/LOG(2))))","v":-0.33219280948873625},null,{"$f":"N13","v":1221},{"$f":"COUNTIF(L56:L65,AS13)","v":0},{"$f":"AT13/(AV4-AT20)","v":0},{"$f":"IF(AU13=0,0,(AU13*((LOG(AU13))/LOG(2))))","v":0}]
[21,1251,12,1292,24,1301,23,1310,null,null,0,2122,null,1222,{"$f":"COUNTIF($L$7:$L$500,N14)","v":5},{"$f":"O14/$Q$4","v":8.4745762711864403E-2},{"$f":"IF(P14=0,0,(P14*((LOG(P14))/LOG(2))))","v":-0.30175550461648132},null,null,{"$f":"N14","v":1222},{"$f":"COUNTIF(L7:L16,T14)","v":0},{"$f":"U14/(W4-U20)","v":0},{"$f":"IF(V14=0,0,(V14*((LOG(V14))/LOG(2))))","v":0},null,{"$f":"N14","v":1222},{"$f":"COUNTIF(L17:L26,Y14)","v":2},{"$f":"Z14/(AB4-Z20)","v":0.4},{"$f":"IF(AA14=0,0,(AA14*((LOG(AA14))/LOG(2))))","v":-0.52877123795494496},null,{"$f":"N14","v":1222},{"$f":"COUNTIF(L27:L35,AD14)","v":0},{"$f":"AE14/(AG4-AE20)","v":0},{"$f":"IF(AF14=0,0,(AF14*((LOG(AF14))/LOG(2))))","v":0},null,{"$f":"N14","v":1222},{"$f":"COUNTIF(L36:L45,AI14)","v":1},{"$f":"AJ14/(AL4-AJ20)","v":0.125},{"$f":"IF(AK14=0,0,(AK14*((LOG(AK14))/LOG(2))))","v":-0.375},null,{"$f":"N14","v":1222},{"$f":"COUNTIF(L46:L55,AN14)","v":0},{"$f":"AO14/(AQ4-AO20)","v":0},{"$f":"IF(AP14=0,0,(AP14*((LOG(AP14))/LOG(2))))","v":0},null,{"$f":"N14","v":1222},{"$f":"COUNTIF(L56:L65,AS14)","v":2},{"$f":"AT14/(AV4-AT20)","v":0.33333333333333331},{"$f":"IF(AU14=0,0,(AU14*((LOG(AU14))/LOG(2))))","v":-0.52832083357371862}]
[21,1441,12,1466,24,1491,14,1550,null,null,0,2121,null,2111,{"$f":"COUNTIF($L$7:$L$500,N15)","v":0},{"$f":"O15/$Q$4","v":0},{"$f":"IF(P15=0,0,(P15*((LOG(P15))/LOG(2))))","v":0},null,null,{"$f":"N15","v":2111},{"$f":"COUNTIF(L7:L16,T15)","v":0},{"$f":"U15/(W4-U20)","v":0},{"$f":"IF(V15=0,0,(V15*((LOG(V15))/LOG(2))))","v":0},null,{"$f":"N15","v":2111},{"$f":"COUNTIF(L17:L26,Y15)","v":0},{"$f":"Z15/(AB4-Z20)","v":0},{"$f":"IF(AA15=0,0,(AA15*((LOG(AA15))/LOG(2))))","v":0},null,{"$f":"N15","v":2111},{"$f":"COUNTIF(L27:L35,AD15)","v":0},{"$f":"AE15/(AG4-AE20)","v":0},{"$f":"IF(AF15=0,0,(AF15*((LOG(AF15))/LOG(2))))","v":0},null,{"$f":"N15","v":2111},{"$f":"COUNTIF(L36:L45,AI15)","v":0},{"$f":"AJ15/(AL4-AJ20)","v":0},{"$f":"IF(AK15=0,0,(AK15*((LOG(AK15))/LOG(2))))","v":0},null,{"$f":"N15","v":2111},{"$f":"COUNTIF(L46:L55,AN15)","v":0},{"$f":"AO15/(AQ4-AO20)","v":0},{"$f":"IF(AP15=0,0,(AP15*((LOG(AP15))/LOG(2))))","v":0},null,{"$f":"N15","v":2111},{"$f":"COUNTIF(L56:L65,AS15)","v":0},{"$f":"AT15/(AV4-AT20)","v":0},{"$f":"IF(AU15=0,0,(AU15*((LOG(AU15))/LOG(2))))","v":0}]
[21,1673,12,1681,13,1717,23,1757,null,null,0,2112,null,2112,{"$f":"COUNTIF($L$7:$L$500,N16)","v":3},{"$f":"O16/$Q$4","v":5.0847457627118647E-2},{"$f":"IF(P16=0,0,(P16*((LOG(P16))/LOG(2))))","v":-0.21852612959189924},null,null,{"$f":"N16","v":2112},{"$f":"COUNTIF(L7:L16,T16)","v":1},{"$f":"U16/(W4-U20)","v":0.1111111111111111},{"$f":"IF(V16=0,0,(V16*((LOG(V16))/LOG(2))))","v":-0.3522138890491458},null,{"$f":"N16","v":2112},{"$f":"COUNTIF(L17:L26,Y16)","v":2},{"$f":"Z16/(AB4-Z20)","v":0.4},{"$f":"IF(AA16=0,0,(AA16*((LOG(AA16))/LOG(2))))","v":-0.52877123795494496},null,{"$f":"N16","v":2112},{"$f":"COUNTIF(L27:L35,AD16)","v":0},{"$f":"AE16/(AG4-AE20)","v":0},{"$f":"IF(AF16=0,0,(AF16*((LOG(AF16))/LOG(2))))","v":0},null,{"$f":"N16","v":2112},{"$f":"COUNTIF(L36:L45,AI16)","v":0},{"$f":"AJ16/(AL4-AJ20)","v":0},{"$f":"IF(AK16=0,0,(AK16*((LOG(AK16))/LOG(2))))","v":0},null,{"$f":"N16","v":2112},{"$f":"COUNTIF(L46:L55,AN16)","v":0},{"$f":"AO16/(AQ4-AO20)","v":0},{"$f":"IF(AP16=0,0,(AP16*((LOG(AP16))/LOG(2))))","v":0},null,{"$f":"N16","v":2112},{"$f":"COUNTIF(L56:L65,AS16)","v":0},{"$f":"AT16/(AV4-AT20)","v":0},{"$f":"IF(AU16=0,0,(AU16*((LOG(AU16))/LOG(2))))","v":0}]
[21,1972,21,1999,11,2007,21,2034,null,null,0,2212,null,2121,{"$f":"COUNTIF($L$7:$L$500,N17)","v":2},{"$f":"O17/$Q$4","v":3.3898305084745763E-2},{"$f":"IF(P17=0,0,(P17*((LOG(P17))/LOG(2))))","v":-0.16551332370718108},null,null,{"$f":"N17","v":2121},{"$f":"COUNTIF(L7:L16,T17)","v":1},{"$f":"U17/(W4-U20)","v":0.1111111111111111},{"$f":"IF(V17=0,0,(V17*((LOG(V17))/LOG(2))))","v":-0.3522138890491458},null,{"$f":"N17","v":2121},{"$f":"COUNTIF(L17:L26,Y17)","v":0},{"$f":"Z17/(AB4-Z20)","v":0},{"$f":"IF(AA17=0,0,(AA17*((LOG(AA17))/LOG(2))))","v":0},null,{"$f":"N17","v":2121},{"$f":"COUNTIF(L27:L35,AD17)","v":1},{"$f":"AE17/(AG4-AE20)","v":0.125},{"$f":"IF(AF17=0,0,(AF17*((LOG(AF17))/LOG(2))))","v":-0.375},null,{"$f":"N17","v":2121},{"$f":"COUNTIF(L36:L45,AI17)","v":0},{"$f":"AJ17/(AL4-AJ20)","v":0},{"$f":"IF(AK17=0,0,(AK17*((LOG(AK17))/LOG(2))))","v":0},null,{"$f":"N17","v":2121},{"$f":"COUNTIF(L46:L55,AN17)","v":0},{"$f":"AO17/(AQ4-AO20)","v":0},{"$f":"IF(AP17=0,0,(AP17*((LOG(AP17))/LOG(2))))","v":0},null,{"$f":"N17","v":2121},{"$f":"COUNTIF(L56:L65,AS17)","v":0},{"$f":"AT17/(AV4-AT20)","v":0},{"$f":"IF(AU17=0,0,(AU17*((LOG(AU17))/LOG(2))))","v":0}]
[12,2218,23,2227,24,2282,23,2291,null,null,0,1222,null,2122,{"$f":"COUNTIF($L$7:$L$500,N18)","v":7},{"$f":"O18/$Q$4","v":0.11864406779661017},{"$f":"IF(P18=0,0,(P18*((LOG(P18))/LOG(2))))","v":-0.36486469306999425},null,null,{"$f":"N18","v":2122},{"$f":"COUNTIF(L7:L16,T18)","v":1},{"$f":"U18/(W4-U20)","v":0.1111111111111111},{"$f":"IF(V18=0,0,(V18*((LOG(V18))/LOG(2))))","v":-0.3522138890491458},null,{"$f":"N18","v":2122},{"$f":"COUNTIF(L17:L26,Y18)","v":0},{"$f":"Z18/(AB4-Z20)","v":0},{"$f":"IF(AA18=0,0,(AA18*((LOG(AA18))/LOG(2))))","v":0},null,{"$f":"N18","v":2122},{"$f":"COUNTIF(L27:L35,AD18)","v":1},{"$f":"AE18/(AG4-AE20)","v":0.125},{"$f":"IF(AF18=0,0,(AF18*((LOG(AF18))/LOG(2))))","v":-0.375},null,{"$f":"N18","v":2122},{"$f":"COUNTIF(L36:L45,AI18)","v":2},{"$f":"AJ18/(AL4-AJ20)","v":0.25},{"$f":"IF(AK18=0,0,(AK18*((LOG(AK18))/LOG(2))))","v":-0.5},null,{"$f":"N18","v":2122},{"$f":"COUNTIF(L46:L55,AN18)","v":1},{"$f":"AO18/(AQ4-AO20)","v":0.1},{"$f":"IF(AP18=0,0,(AP18*((LOG(AP18))/LOG(2))))","v":-0.33219280948873625},null,{"$f":"N18","v":2122},{"$f":"COUNTIF(L56:L65,AS18)","v":2},{"$f":"AT18/(AV4-AT20)","v":0.33333333333333331},{"$f":"IF(AU18=0,0,(AU18*((LOG(AU18))/LOG(2))))","v":-0.52832083357371862}]
[21,2396,21,2408,11,2416,21,2454,null,null,0,2212,null,2211,{"$f":"COUNTIF($L$7:$L$500,N19)","v":2},{"$f":"O19/$Q$4","v":3.3898305084745763E-2},{"$f":"IF(P19=0,0,(P19*((LOG(P19))/LOG(2))))","v":-0.16551332370718108},null,null,{"$f":"N19","v":2211},{"$f":"COUNTIF(L7:L16,T19)","v":2},{"$f":"U19/(W4-U20)","v":0.22222222222222221},{"$f":"IF(V19=0,0,(V19*((LOG(V19))/LOG(2))))","v":-0.48220555587606945},null,{"$f":"N19","v":2211},{"$f":"COUNTIF(L17:L26,Y19)","v":0},{"$f":"Z19/(AB4-Z20)","v":0},{"$f":"IF(AA19=0,0,(AA19*((LOG(AA19))/LOG(2))))","v":0},null,{"$f":"N19","v":2211},{"$f":"COUNTIF(L27:L35,AD19)","v":0},{"$f":"AE19/(AG4-AE20)","v":0},{"$f":"IF(AF19=0,0,(AF19*((LOG(AF19))/LOG(2))))","v":0},null,{"$f":"N19","v":2211},{"$f":"COUNTIF(L36:L45,AI19)","v":0},{"$f":"AJ19/(AL4-AJ20)","v":0},{"$f":"IF(AK19=0,0,(AK19*((LOG(AK19))/LOG(2))))","v":0},null,{"$f":"N19","v":2211},{"$f":"COUNTIF(L46:L55,AN19)","v":0},{"$f":"AO19/(AQ4-AO20)","v":0},{"$f":"IF(AP19=0,0,(AP19*((LOG(AP19))/LOG(2))))","v":0},null,{"$f":"N19","v":2211},{"$f":"COUNTIF(L56:L65,AS19)","v":0},{"$f":"AT19/(AV4-AT20)","v":0},{"$f":"IF(AU19=0,0,(AU19*((LOG(AU19))/LOG(2))))","v":0}]
[21,2551,12,2577,13,2592,23,2600,null,null,0,2112,null,2212,{"$f":"COUNTIF($L$7:$L$500,N20)","v":13},{"$f":"O20/$Q$4","v":0.22033898305084745},{"$f":"IF(P20=0,0,(P20*((LOG(P20))/LOG(2))))","v":-0.48082446281135144},null,null,{"$f":"N20","v":2212},{"$f":"COUNTIF(L7:L16,T20)","v":1},null,null,null,{"$f":"N20","v":2212},{"$f":"COUNTIF(L17:L26,Y20)","v":5},null,null,null,{"$f":"N20","v":2212},{"$f":"COUNTIF(L27:L35,AD20)","v":1},null,null,null,{"$f":"N20","v":2212},{"$f":"COUNTIF(L36:L45,AI20)","v":2},null,null,null,{"$f":"N20","v":2212},{"$f":"COUNTIF(L46:L55,AN20)","v":0},null,null,null,{"$f":"N20","v":2212},{"$f":"COUNTIF(L56:L65,AS20)","v":4}]
[12,2727,23,2747,24,2762,23,2775,null,null,0,1222,null,2221,{"$f":"COUNTIF($L$7:$L$500,N21)","v":5},{"$f":"O21/$Q$4","v":8.4745762711864403E-2},{"$f":"IF(P21=0,0,(P21*((LOG(P21))/LOG(2))))","v":-0.30175550461648132},null,null,{"$f":"N21","v":2221},{"$f":"COUNTIF(L7:L16,T21)","v":1},{"$f":"U21/(W4-U20)","v":0.1111111111111111},{"$f":"IF(V21=0,0,(V21*((LOG(V21))/LOG(2))))","v":-0.3522138890491458},null,{"$f":"N21","v":2221},{"$f":"COUNTIF(L17:L26,Y21)","v":0},{"$f":"Z21/(AB4-Z20)","v":0},{"$f":"IF(AA21=0,0,(AA21*((LOG(AA21))/LOG(2))))","v":0},null,{"$f":"N21","v":2221},{"$f":"COUNTIF(L27:L35,AD21)","v":2},{"$f":"AE21/(AG4-AE20)","v":0.25},{"$f":"IF(AF21=0,0,(AF21*((LOG(AF21))/LOG(2))))","v":-0.5},null,{"$f":"N21","v":2221},{"$f":"COUNTIF(L36:L45,AI21)","v":2},{"$f":"AJ21/(AL4-AJ20)","v":0.25},{"$f":"IF(AK21=0,0,(AK21*((LOG(AK21))/LOG(2))))","v":-0.5},null,{"$f":"N21","v":2221},{"$f":"COUNTIF(L46:L55,AN21)","v":0},{"$f":"AO21/(AQ4-AO20)","v":0},{"$f":"IF(AP21=0,0,(AP21*((LOG(AP21))/LOG(2))))","v":0},null,{"$f":"N21","v":2221},{"$f":"COUNTIF(L56:L65,AS21)","v":0},{"$f":"AT21/(AV4-AT20)","v":0},{"$f":"IF(AU21=0,0,(AU21*((LOG(AU21))/LOG(2))))","v":0}]
[21,2883,12,2890,13,2916,23,2924,null,null,0,2112,null,2222,{"$f":"COUNTIF($L$7:$L$500,N22)","v":16},{"$f":"O22/$Q$4","v":0.2711864406779661},{"$f":"IF(P22=0,0,(P22*((LOG(P22))/LOG(2))))","v":-0.51054726762355018},null,null,{"$f":"N22","v":2222},{"$f":"COUNTIF(L7:L16,T22)","v":0},{"$f":"U22/(W4-U20)","v":0},{"$f":"IF(V22=0,0,(V22*((LOG(V22))/LOG(2))))","v":0},null,{"$f":"N22","v":2222},{"$f":"COUNTIF(L17:L26,Y22)","v":0},{"$f":"Z22/(AB4-Z20)","v":0},{"$f":"IF(AA22=0,0,(AA22*((LOG(AA22))/LOG(2))))","v":0},null,{"$f":"N22","v":2222},{"$f":"COUNTIF(L27:L35,AD22)","v":4},{"$f":"AE22/(AG4-AE20)","v":0.5},{"$f":"IF(AF22=0,0,(AF22*((LOG(AF22))/LOG(2))))","v":-0.5},null,{"$f":"N22","v":2222},{"$f":"COUNTIF(L36:L45,AI22)","v":2},{"$f":"AJ22/(AL4-AJ20)","v":0.25},{"$f":"IF(AK22=0,0,(AK22*((LOG(AK22))/LOG(2))))","v":-0.5},null,{"$f":"N22","v":2222},{"$f":"COUNTIF(L46:L55,AN22)","v":8},{"$f":"AO22/(AQ4-AO20)","v":0.8},{"$f":"IF(AP22=0,0,(AP22*((LOG(AP22))/LOG(2))))","v":-0.25754247590988982},null,{"$f":"N22","v":2222},{"$f":"COUNTIF(L56:L65,AS22)","v":2},{"$f":"AT22/(AV4-AT20)","v":0.33333333333333331},{"$f":"IF(AU22=0,0,(AU22*((LOG(AU22))/LOG(2))))","v":-0.52832083357371862}]
[21,3040,21,3048,11,3068,21,3089,null,null,0,2212,null,null,null,{"$f":"SUM(P7:P22)","v":1},{"$f":"-SUM(Q7:Q22)","v":3.0736367910351547},null,null,null,null,{"$f":"SUM(V7:V22)","v":1},{"$f":"-SUM(W7:W22)","v":2.9477027792200903},null,null,null,{"$f":"SUM(AA7:AA22)","v":1},{"$f":"-SUM(AB7:AB22)","v":1.5219280948873624},null,null,null,{"$f":"SUM(AF7:AF22)","v":1},{"$f":"-SUM(AG7:AG22)","v":1.75},null,null,null,{"$f":"SUM(AK7:AK22)","v":1},{"$f":"-SUM(AL7:AL22)","v":2.25},null,null,null,{"$f":"SUM(AP7:AP22)","v":1},{"$f":"-SUM(AQ7:AQ22)","v":0.92192809488736227},null,null,null,{"$f":"SUM(AU7:AU22)","v":1},{"$f":"-SUM(AV7:AV22)","v":1.5849625007211559}]
[21,3187,21,3198,11,3207,21,3239,null,null,0,2212,null,null,null,"U=",{"$f":"Q23/(LOG(Q4)/LOG(2))","v":0.52249248598698972},null,null,null,null,"U1=",{"$f":"W23/(LOG(W4)/LOG(2))","v":0.88734695484732917},null,null,null,"U2=",{"$f":"AB23/(LOG(AB4)/LOG(2))","v":0.45814600780483389},null,null,null,"U3=",{"$f":"AG23/(LOG(AG4)/LOG(2))","v":0.55206353437502531},null,null,null,"U4=",{"$f":"AL23/(LOG(AL4)/LOG(2))","v":0.67731749024395771},null,null,null,"U5=",{"$f":"AQ23/(LOG(AQ4)/LOG(2))","v":0.27752801040644515},null,null,null,"U6=",{"$f":"AV23/(LOG(AV4)/LOG(2))","v":0.47712125471966238}]
[12,3376,23,3380,13,3388,14,3411,null,null,0,1211]
[21,3525,21,3546,11,3554,21,3605,null,null,0,2212]
[21,3706,12,3714,24,3738,14,3745,null,null,0,2121,null,"Total Target Seq"]
[21,3859,21,3867,22,3882,23,3917,null,null,0,2222,null,{"$f":"COUNTIF(L7:L65,G3)","v":13},null,10,10,9,10,10,10]
[21,4015,21,4022,22,4032,14,4039,null,null,0,2221,null,null,null,"% of reinforcement given in 6 equal intervals based on number of trials "]
[21,4142,21,4149,22,4157,23,4179,null,null,0,2222,null,null,null,"%_1","%_2","%_3","%_4","%_5","%_6"]
[21,4283,21,4289,22,4298,14,4314,null,null,0,2221,null,null,"target sequence",{"$f":"$G$3","v":2212},{"$f":"$G$3","v":2212},{"$f":"$G$3","v":2212},{"$f":"$G$3","v":2212},{"$f":"$G$3","v":2212},{"$f":"$G$3","v":2212}]
[21,4449,12,4457,24,4465,23,4487,null,null,0,2122,null,null,"total reinforcement",{"$f":"U20","v":1},{"$f":"Z20","v":5},{"$f":"AE20","v":1},{"$f":"AJ20","v":2},{"$f":"AO20","v":0},{"$f":"AT20","v":4}]
[21,4589,21,4595,11,4603,21,4611,null,null,0,2212,null,null,"% target"]
[21,4706,21,4725,22,4790,23,4814,null,null,0,2222,null,null,"CCRF"]
[21,4910,21,4914,22,4929,23,4940,null,null,0,2222,null,null,"% CCRf"]
[21,5047,21,5057,22,5069,14,5077,null,null,0,2221,null,null,"average response rate",{"$f":"H16/P28","v":175.7},{"$f":"(H26-H16)/Q28","v":184.8},{"$f":"(H35-H26)/R28","v":148.33333333333334},{"$f":"(H45-H35)/S28","v":173.3},{"$f":"(H55-H45)/T28","v":1563.3},{"$f":"(H65-H55)/U28","v":169.5}]
[21,5179,21,5185,11,5193,21,5212,null,null,0,2212]
[12,5325,14,5341,24,5415,23,5422,null,null,0,1122]
[21,5530,21,5535,22,5541,23,5549,null,null,0,2222]
[12,5732,23,5762,24,5770,23,5778,null,null,0,1222]
[21,5879,12,5905,24,5933,23,5940,null,null,0,2122]
[21,6133,12,6141,24,6150,23,6165,null,null,0,2122]
[21,6271,21,6283,11,6291,21,6327,null,null,0,2212]
[21,6420,21,6424,22,6443,14,6452,null,null,0,2221]
[21,6645,21,6653,22,6662,23,6673,null,null,0,2222]
[12,6897,23,6935,24,6956,14,7016,null,null,0,1221]
[21,7121,21,7134,22,7163,23,7184,null,null,0,2222]
[21,7427,12,7457,24,7483,23,7497,null,null,0,2122]
[21,7917,21,7927,22,7997,23,8006,null,null,0,2222]
[21,20929,21,20949,22,21040,23,21094,null,null,0,2222]
[21,21247,21,21261,22,21355,23,21374,null,null,0,2222]
[21,21480,21,21488,22,21521,23,21531,null,null,0,2222]
[21,21643,21,21663,22,21698,23,21733,null,null,0,2222]
[21,21993,21,22045,22,22053,23,22074,null,null,0,2222]
[21,22262,21,22272,22,22296,23,22306,null,null,0,2222]
[21,22429,21,22464,22,22481,23,22491,null,null,0,2222]
[21,22599,21,22616,11,22628,21,22637,null,null,0,2212]
[12,22771,23,22839,24,22863,23,22893,null,null,0,1222]
[21,22991,12,23007,24,23015,23,23025,null,null,0,2122]
[21,23125,21,23132,22,23151,23,23170,null,null,0,2222]
[21,23280,21,23287,11,23308,21,23320,null,null,0,2212]
[21,23423,21,23430,11,23451,21,23459,null,null,0,2212]
[21,23575,12,23583,24,23592,23,23625,null,null,0,2122]
[21,23737,21,23754,11,23762,21,23818,null,null,0,2212]
[12,23940,23,23985,24,23994,23,24001,null,null,null,1222]

{"sheet":"!N125B30.095","index":27,"n_rows":154,"n_cols":48,"rows_kept":154,"cut":false,"hidden":false,"merged":[[4,39,4,42],[5,39,5,40],[4,44,4,47],[5,44,5,45],[4,24,4,27],[5,24,5,25],[4,29,4,32],[5,29,5,30],[4,34,4,37],[5,34,5,35],[1,1,1,2],[5,13,5,14],[26,13,26,14],[27,13,27,14],[4,19,4,22],[5,19,5,20]]}
["Report for:!N125B30.095"]
["Date:","<date>"]
["Hen:","<hen>",null,null,null,"Correct Sequence",{"$f":"Start!J2","v":2212},null,null,null,null,null,null,null,null,"Total Sequences in Data",{"$f":"4994-COUNTBLANK(L7:L5000)","v":148},null,null,null,null,"Total Sequences in Block Data",{"$f":"COUNTA(L7:L31)","v":25},null,null,null,"Total Sequences in Block Data",{"$f":"COUNTA(L32:L55)","v":24},null,null,null,"Total Sequences in Block Data",{"$f":"COUNTA(L56:L80)","v":25},null,null,null,"Total Sequences in Block Data",{"$f":"COUNTA(L81:L105)","v":25},null,null,null,"Total Sequences in Block Data",{"$f":"COUNTA(L106:L129)","v":24},null,null,null,"Total Sequences in Block Data",{"$f":"COUNTA(L130:L154)","v":25}]
[null,null,null,null,null,null,null,null,null,null,null,null,null,null,null,"Total Sequences in Summary",{"$f":"SUM(O7:O22)","v":148},null,null,null,null,"Total Sequences in Block Summary",{"$f":"SUM(U7:U22)","v":25},null,null,null,"Total Sequences in Block Summary",{"$f":"SUM(Z7:Z22)","v":24},null,null,null,"Total Sequences in Block Summary",{"$f":"SUM(AE7:AE22)","v":25},null,null,null,"Total Sequences in Block Summary",{"$f":"SUM(AJ7:AJ22)","v":25},null,null,null,"Total Sequences in Block Summary",{"$f":"SUM(AO7:AO22)","v":24},null,null,null,"Total Sequences in Block Summary",{"$f":"SUM(AT7:AT22)","v":25}]
[null,null,null,null,null,null,null,null,null,null,null,null,null,null,null,null,null,null,null,"Block 1",null,null,null,null,"Block 2",null,null,null,null,"Block 3",null,null,null,null,"Block 4",null,null,null,null,"Block 5",null,null,null,null,"Block 6"]
["Sequence\nComponent\n1","Time\n1","Sequence\nComponent\n2","Time\n2","Sequence\nComponent\n3","Time\n3","Sequence\nComponent\n4","Time\n4","Sequence\nComponent\n5","Time\n5","Correct?\n0=No 1=Yes","Sequence",null,"Frequency",null,"Relative Frequency","Variability",null,null,"Frequency",null,"Relative Frequency","Variability",null,"Frequency",null,"Relative Frequency","Variability",null,"Frequency",null,"Relative Frequency","Variability",null,"Frequency",null,"Relative Frequency","Variability",null,"Frequency",null,"Relative Frequency","Variability",null,"Frequency",null,"Relative Frequency","Variability"]
[21,29,12,53,24,166,23,185,null,null,0,2122,null,1111,{"$f":"COUNTIF($L$7:$L$500,N7)","v":0},{"$f":"O7/$Q$4","v":0},{"$f":"IF(P7=0,0,(P7*((LOG(P7))/LOG(2))))","v":0},null,null,{"$f":"N7","v":1111},{"$f":"COUNTIF(L7:L31,T7)","v":0},{"$f":"U7/(W4-U20)","v":0},{"$f":"IF(V7=0,0,(V7*((LOG(V7))/LOG(2))))","v":0},null,{"$f":"N7","v":1111},{"$f":"COUNTIF(L32:L55,Y7)","v":0},{"$f":"Z7/(AB4-Z20)","v":0},{"$f":"IF(AA7=0,0,(AA7*((LOG(AA7))/LOG(2))))","v":0},null,{"$f":"N7","v":1111},{"$f":"COUNTIF(L56:L80,AD7)","v":0},{"$f":"AE7/(AG4-AE20)","v":0},{"$f":"IF(AF7=0,0,(AF7*((LOG(AF7))/LOG(2))))","v":0},null,{"$f":"N7","v":1111},{"$f":"COUNTIF(L81:L105,AI7)","v":0},{"$f":"AJ7/(AL4-AJ20)","v":0},{"$f":"IF(AK7=0,0,(AK7*((LOG(AK7))/LOG(2))))","v":0},null,{"$f":"N7","v":1111},{"$f":"COUNTIF(L106:L129,AN7)","v":0},{"$f":"AO7/(AQ4-AO20)","v":0},{"$f":"IF(AP7=0,0,(AP7*((LOG(AP7))/LOG(2))))","v":0},null,{"$f":"N7","v":1111},{"$f":"COUNTIF(L130:L154,AS7)","v":0},{"$f":"AT7/(AV4-AT20)","v":0},{"$f":"IF(AU7=0,0,(AU7*((LOG(AU7))/LOG(2))))","v":0}]
[21,311,12,322,24,332,23,361,null,null,0,2122,null,1112,{"$f":"COUNTIF($L$7:$L$500,N8)","v":0},{"$f":"O8/$Q$4","v":0},{"$f":"IF(P8=0,0,(P8*((LOG(P8))/LOG(2))))","v":0},null,null,{"$f":"N8","v":1112},{"$f":"COUNTIF(L7:L31,T8)","v":0},{"$f":"U8/(W4-U20)","v":0},{"$f":"IF(V8=0,0,(V8*((LOG(V8))/LOG(2))))","v":0},null,{"$f":"N8","v":1112},{"$f":"COUNTIF(L32:L55,Y8)","v":0},{"$f":"Z8/(AB4-Z20)","v":0},{"$f":"IF(AA8=0,0,(AA8*((LOG(AA8))/LOG(2))))","v":0},null,{"$f":"N8","v":1112},{"$f":"COUNTIF(L56:L80,AD8)","v":0},{"$f":"AE8/(AG4-AE20)","v":0},{"$f":"IF(AF8=0,0,(AF8*((LOG(AF8))/LOG(2))))","v":0},null,{"$f":"N8","v":1112},{"$f":"COUNTIF(L81:L105,AI8)","v":0},{"$f":"AJ8/(AL4-AJ20)","v":0},{"$f":"IF(AK8=0,0,(AK8*((LOG(AK8))/LOG(2))))","v":0},null,{"$f":"N8","v":1112},{"$f":"COUNTIF(L106:L129,AN8)","v":0},{"$f":"AO8/(AQ4-AO20)","v":0},{"$f":"IF(AP8=0,0,(AP8*((LOG(AP8))/LOG(2))))","v":0},null,{"$f":"N8","v":1112},{"$f":"COUNTIF(L130:L154,AS8)","v":0},{"$f":"AT8/(AV4-AT20)","v":0},{"$f":"IF(AU8=0,0,(AU8*((LOG(AU8))/LOG(2))))","v":0}]
[21,517,21,525,22,533,23,541,null,null,0,2222,null,1121,{"$f":"COUNTIF($L$7:$L$500,N9)","v":0},{"$f":"O9/$Q$4","v":0},{"$f":"IF(P9=0,0,(P9*((LOG(P9))/LOG(2))))","v":0},null,null,{"$f":"N9","v":1121},{"$f":"COUNTIF(L7:L31,T9)","v":0},{"$f":"U9/(W4-U20)","v":0},{"$f":"IF(V9=0,0,(V9*((LOG(V9))/LOG(2))))","v":0},null,{"$f":"N9","v":1121},{"$f":"COUNTIF(L32:L55,Y9)","v":0},{"$f":"Z9/(AB4-Z20)","v":0},{"$f":"IF(AA9=0,0,(AA9*((LOG(AA9))/LOG(2))))","v":0},null,{"$f":"N9","v":1121},{"$f":"COUNTIF(L56:L80,AD9)","v":0},{"$f":"AE9/(AG4-AE20)","v":0},{"$f":"IF(AF9=0,0,(AF9*((LOG(AF9))/LOG(2))))","v":0},null,{"$f":"N9","v":1121},{"$f":"COUNTIF(L81:L105,AI9)","v":0},{"$f":"AJ9/(AL4-AJ20)","v":0},{"$f":"IF(AK9=0,0,(AK9*((LOG(AK9))/LOG(2))))","v":0},null,{"$f":"N9","v":1121},{"$f":"COUNTIF(L106:L129,AN9)","v":0},{"$f":"AO9/(AQ4-AO20)","v":0},{"$f":"IF(AP9=0,0,(AP9*((LOG(AP9))/LOG(2))))","v":0},null,{"$f":"N9","v":1121},{"$f":"COUNTIF(L130:L154,AS9)","v":0},{"$f":"AT9/(AV4-AT20)","v":0},{"$f":"IF(AU9=0,0,(AU9*((LOG(AU9))/LOG(2))))","v":0}]
[21,662,12,672,24,694,23,721,null,null,0,2122,null,1122,{"$f":"COUNTIF($L$7:$L$500,N10)","v":3},{"$f":"O10/$Q$4","v":2.0270270270270271E-2},{"$f":"IF(P10=0,0,(P10*((LOG(P10))/LOG(2))))","v":-0.11400994996434717},null,null,{"$f":"N10","v":1122},{"$f":"COUNTIF(L7:L31,T10)","v":0},{"$f":"U10/(W4-U20)","v":0},{"$f":"IF(V10=0,0,(V10*((LOG(V10))/LOG(2))))","v":0},null,{"$f":"N10","v":1122},{"$f":"COUNTIF(L32:L55,Y10)","v":1},{"$f":"Z10/(AB4-Z20)","v":5.8823529411764705E-2},{"$f":"IF(AA10=0,0,(AA10*((LOG(AA10))/LOG(2))))","v":-0.24043899066178465},null,{"$f":"N10","v":1122},{"$f":"COUNTIF(L56:L80,AD10)","v":0},{"$f":"AE10/(AG4-AE20)","v":0},{"$f":"IF(AF10=0,0,(AF10*((LOG(AF10))/LOG(2))))","v":0},null,{"$f":"N10","v":1122},{"$f":"COUNTIF(L81:L105,AI10)","v":1},{"$f":"AJ10/(AL4-AJ20)","v":0.05},{"$f":"IF(AK10=0,0,(AK10*((LOG(AK10))/LOG(2))))","v":-0.21609640474436814},null,{"$f":"N10","v":1122},{"$f":"COUNTIF(L106:L129,AN10)","v":1},{"$f":"AO10/(AQ4-AO20)","v":5.2631578947368418E-2},{"$f":"IF(AP10=0,0,(AP10*((LOG(AP10))/LOG(2))))","v":-0.22357513228650452},null,{"$f":"N10","v":1122},{"$f":"COUNTIF(L130:L154,AS10)","v":0},{"$f":"AT10/(AV4-AT20)","v":0},{"$f":"IF(AU10=0,0,(AU10*((LOG(AU10))/LOG(2))))","v":0}]
[21,847,12,855,24,882,23,899,null,null,0,2122,null,1211,{"$f":"COUNTIF($L$7:$L$500,N11)","v":0},{"$f":"O11/$Q$4","v":0},{"$f":"IF(P11=0,0,(P11*((LOG(P11))/LOG(2))))","v":0},null,null,{"$f":"N11","v":1211},{"$f":"COUNTIF(L7:L31,T11)","v":0},{"$f":"U11/(W4-U20)","v":0},{"$f":"IF(V11=0,0,(V11*((LOG(V11))/LOG(2))))","v":0},null,{"$f":"N11","v":1211},{"$f":"COUNTIF(L32:L55,Y11)","v":0},{"$f":"Z11/(AB4-Z20)","v":0},{"$f":"IF(AA11=0,0,(AA11*((LOG(AA11))/LOG(2))))","v":0},null,{"$f":"N11","v":1211},{"$f":"COUNTIF(L56:L80,AD11)","v":0},{"$f":"AE11/(AG4-AE20)","v":0},{"$f":"IF(AF11=0,0,(AF11*((LOG(AF11))/LOG(2))))","v":0},null,{"$f":"N11","v":1211},{"$f":"COUNTIF(L81:L105,AI11)","v":0},{"$f":"AJ11/(AL4-AJ20)","v":0},{"$f":"IF(AK11=0,0,(AK11*((LOG(AK11))/LOG(2))))","v":0},null,{"$f":"N11","v":1211},{"$f":"COUNTIF(L106:L129,AN11)","v":0},{"$f":"AO11/(AQ4-AO20)","v":0},{"$f":"IF(AP11=0,0,(AP11*((LOG(AP11))/LOG(2))))","v":0},null,{"$f":"N11","v":1211},{"$f":"COUNTIF(L130:L154,AS11)","v":0},{"$f":"AT11/(AV4-AT20)","v":0},{"$f":"IF(AU11=0,0,(AU11*((LOG(AU11))/LOG(2))))","v":0}]
[21,1010,21,1018,22,1081,23,1130,null,null,0,2222,null,1212,{"$f":"COUNTIF($L$7:$L$500,N12)","v":3},{"$f":"O12/$Q$4","v":2.0270270270270271E-2},{"$f":"IF(P12=0,0,(P12*((LOG(P12))/LOG(2))))","v":-0.11400994996434717},null,null,{"$f":"N12","v":1212},{"$f":"COUNTIF(L7:L31,T12)","v":0},{"$f":"U12/(W4-U20)","v":0},{"$f":"IF(V12=0,0,(V12*((LOG(V12))/LOG(2))))","v":0},null,{"$f":"N12","v":1212},{"$f":"COUNTIF(L32:L55,Y12)","v":0},{"$f":"Z12/(AB4-Z20)","v":0},{"$f":"IF(AA12=0,0,(AA12*((LOG(AA12))/LOG(2))))","v":0},null,{"$f":"N12","v":1212},{"$f":"COUNTIF(L56:L80,AD12)","v":0},{"$f":"AE12/(AG4-AE20)","v":0},{"$f":"IF(AF12=0,0,(AF12*((LOG(AF12))/LOG(2))))","v":0},null,{"$f":"N12","v":1212},{"$f":"COUNTIF(L81:L105,AI12)","v":1},{"$f":"AJ12/(AL4-AJ20)","v":0.05},{"$f":"IF(AK12=0,0,(AK12*((LOG(AK12))/LOG(2))))","v":-0.21609640474436814},null,{"$f":"N12","v":1212},{"$f":"COUNTIF(L106:L129,AN12)","v":1},{"$f":"AO12/(AQ4-AO20)","v":5.2631578947368418E-2},{"$f":"IF(AP12=0,0,(AP12*((LOG(AP12))/LOG(2))))","v":-0.22357513228650452},null,{"$f":"N12","v":1212},{"$f":"COUNTIF(L130:L154,AS12)","v":1},{"$f":"AT12/(AV4-AT20)","v":6.6666666666666666E-2},{"$f":"IF(AU12=0,0,(AU12*((LOG(AU12))/LOG(2))))","v":-0.26045937304056793}]
[21,1252,21,1264,11,1274,21,1302,null,null,0,2212,null,1221,{"$f":"COUNTIF($L$7:$L$500,N13)","v":0},{"$f":"O13/$Q$4","v":0},{"$f":"IF(P13=0,0,(P13*((LOG(P13))/LOG(2))))","v":0},null,null,{"$f":"N13","v":1221},{"$f":"COUNTIF(L7:L31,T13)","v":0},{"$f":"U13/(W4-U20)","v":0},{"$f":"IF(V13=0,0,(V13*((LOG(V13))/LOG(2))))","v":0},null,{"$f":"N13","v":1221},{"$f":"COUNTIF(L32:L55,Y13)","v":0},{"$f":"Z13/(AB4-Z20)","v":0},{"$f":"IF(AA13=0,0,(AA13*((LOG(AA13))/LOG(2))))","v":0},null,{"$f":"N13","v":1221},{"$f":"COUNTIF(L56:L80,AD13)","v":0},{"$f":"AE13/(AG4-AE20)","v":0},{"$f":"IF(AF13=0,0,(AF13*((LOG(AF13))/LOG(2))))","v":0},null,{"$f":"N13","v":1221},{"$f":"COUNTIF(L81:L105,AI13)","v":0},{"$f":"AJ13/(AL4-AJ20)","v":0},{"$f":"IF(AK13=0,0,(AK13*((LOG(AK13))/LOG(2))))","v":0},null,{"$f":"N13","v":1221},{"$f":"COUNTIF(L106:L129,AN13)","v":0},{"$f":"AO13/(AQ4-AO20)","v":0},{"$f":"IF(AP13=0,0,(AP13*((LOG(AP13))/LOG(2))))","v":0},null,{"$f":"N13","v":1221},{"$f":"COUNTIF(L130:L154,AS13)","v":0},{"$f":"AT13/(AV4-AT20)","v":0},{"$f":"IF(AU13=0,0,(AU13*((LOG(AU13))/LOG(2))))","v":0}]
[21,1484,21,1493,22,1525,23,1549,null,null,0,2222,null,1222,{"$f":"COUNTIF($L$7:$L$500,N14)","v":11},{"$f":"O14/$Q$4","v":7.4324324324324328E-2},{"$f":"IF(P14=0,0,(P14*((LOG(P14))/LOG(2))))","v":-0.27871783254667687},null,null,{"$f":"N14","v":1222},{"$f":"COUNTIF(L7:L31,T14)","v":0},{"$f":"U14/(W4-U20)","v":0},{"$f":"IF(V14=0,0,(V14*((LOG(V14))/LOG(2))))","v":0},null,{"$f":"N14","v":1222},{"$f":"COUNTIF(L32:L55,Y14)","v":2},{"$f":"Z14/(AB4-Z20)","v":0.11764705882352941},{"$f":"IF(AA14=0,0,(AA14*((LOG(AA14))/LOG(2))))","v":-0.36323092250003997},null,{"$f":"N14","v":1222},{"$f":"COUNTIF(L56:L80,AD14)","v":2},{"$f":"AE14/(AG4-AE20)","v":0.11764705882352941},{"$f":"IF(AF14=0,0,(AF14*((LOG(AF14))/LOG(2))))","v":-0.36323092250003997},null,{"$f":"N14","v":1222},{"$f":"COUNTIF(L81:L105,AI14)","v":4},{"$f":"AJ14/(AL4-AJ20)","v":0.2},{"$f":"IF(AK14=0,0,(AK14*((LOG(AK14))/LOG(2))))","v":-0.46438561897747244},null,{"$f":"N14","v":1222},{"$f":"COUNTIF(L106:L129,AN14)","v":1},{"$f":"AO14/(AQ4-AO20)","v":5.2631578947368418E-2},{"$f":"IF(AP14=0,0,(AP14*((LOG(AP14))/LOG(2))))","v":-0.22357513228650452},null,{"$f":"N14","v":1222},{"$f":"COUNTIF(L130:L154,AS14)","v":2},{"$f":"AT14/(AV4-AT20)","v":0.13333333333333333},{"$f":"IF(AU14=0,0,(AU14*((LOG(AU14))/LOG(2))))","v":-0.3875854127478025}]
[21,1662,21,1670,22,1691,23,1700,null,null,0,2222,null,2111,{"$f":"COUNTIF($L$7:$L$500,N15)","v":0},{"$f":"O15/$Q$4","v":0},{"$f":"IF(P15=0,0,(P15*((LOG(P15))/LOG(2))))","v":0},null,null,{"$f":"N15","v":2111},{"$f":"COUNTIF(L7:L31,T15)","v":0},{"$f":"U15/(W4-U20)","v":0},{"$f":"IF(V15=0,0,(V15*((LOG(V15))/LOG(2))))","v":0},null,{"$f":"N15","v":2111},{"$f":"COUNTIF(L32:L55,Y15)","v":0},{"$f":"Z15/(AB4-Z20)","v":0},{"$f":"IF(AA15=0,0,(AA15*((LOG(AA15))/LOG(2))))","v":0},null,{"$f":"N15","v":2111},{"$f":"COUNTIF(L56:L80,AD15)","v":0},{"$f":"AE15/(AG4-AE20)","v":0},{"$f":"IF(AF15=0,0,(AF15*((LOG(AF15))/LOG(2))))","v":0},null,{"$f":"N15","v":2111},{"$f":"COUNTIF(L81:L105,AI15)","v":0},{"$f":"AJ15/(AL4-AJ20)","v":0},{"$f":"IF(AK15=0,0,(AK15*((LOG(AK15))/LOG(2))))","v":0},null,{"$f":"N15","v":2111},{"$f":"COUNTIF(L106:L129,AN15)","v":0},{"$f":"AO15/(AQ4-AO20)","v":0},{"$f":"IF(AP15=0,0,(AP15*((LOG(AP15))/LOG(2))))","v":0},null,{"$f":"N15","v":2111},{"$f":"COUNTIF(L130:L154,AS15)","v":0},{"$f":"AT15/(AV4-AT20)","v":0},{"$f":"IF(AU15=0,0,(AU15*((LOG(AU15))/LOG(2))))","v":0}]
[21,1827,12,1839,24,1865,23,1881,null,null,0,2122,null,2112,{"$f":"COUNTIF($L$7:$L$500,N16)","v":3},{"$f":"O16/$Q$4","v":2.0270270270270271E-2},{"$f":"IF(P16=0,0,(P16*((LOG(P16))/LOG(2))))","v":-0.11400994996434717},null,null,{"$f":"N16","v":2112},{"$f":"COUNTIF(L7:L31,T16)","v":0},{"$f":"U16/(W4-U20)","v":0},{"$f":"IF(V16=0,0,(V16*((LOG(V16))/LOG(2))))","v":0},null,{"$f":"N16","v":2112},{"$f":"COUNTIF(L32:L55,Y16)","v":0},{"$f":"Z16/(AB4-Z20)","v":0},{"$f":"IF(AA16=0,0,(AA16*((LOG(AA16))/LOG(2))))","v":0},null,{"$f":"N16","v":2112},{"$f":"COUNTIF(L56:L80,AD16)","v":0},{"$f":"AE16/(AG4-AE20)","v":0},{"$f":"IF(AF16=0,0,(AF16*((LOG(AF16))/LOG(2))))","v":0},null,{"$f":"N16","v":2112},{"$f":"COUNTIF(L81:L105,AI16)","v":2},{"$f":"AJ16/(AL4-AJ20)","v":0.1},{"$f":"IF(AK16=0,0,(AK16*((LOG(AK16))/LOG(2))))","v":-0.33219280948873625},null,{"$f":"N16","v":2112},{"$f":"COUNTIF(L106:L129,AN16)","v":0},{"$f":"AO16/(AQ4-AO20)","v":0},{"$f":"IF(AP16=0,0,(AP16*((LOG(AP16))/LOG(2))))","v":0},null,{"$f":"N16","v":2112},{"$f":"COUNTIF(L130:L154,AS16)","v":1},{"$f":"AT16/(AV4-AT20)","v":6.6666666666666666E-2},{"$f":"IF(AU16=0,0,(AU16*((LOG(AU16))/LOG(2))))","v":-0.26045937304056793}]
[21,1990,21,1997,22,2022,23,2047,null,null,0,2222,null,2121,{"$f":"COUNTIF($L$7:$L$500,N17)","v":6},{"$f":"O17/$Q$4","v":4.0540540540540543E-2},{"$f":"IF(P17=0,0,(P17*((LOG(P17))/LOG(2))))","v":-0.1874793593881538},null,null,{"$f":"N17","v":2121},{"$f":"COUNTIF(L7:L31,T17)","v":0},{"$f":"U17/(W4-U20)","v":0},{"$f":"IF(V17=0,0,(V17*((LOG(V17))/LOG(2))))","v":0},null,{"$f":"N17","v":2121},{"$f":"COUNTIF(L32:L55,Y17)","v":0},{"$f":"Z17/(AB4-Z20)","v":0},{"$f":"IF(AA17=0,0,(AA17*((LOG(AA17))/LOG(2))))","v":0},null,{"$f":"N17","v":2121},{"$f":"COUNTIF(L56:L80,AD17)","v":1},{"$f":"AE17/(AG4-AE20)","v":5.8823529411764705E-2},{"$f":"IF(AF17=0,0,(AF17*((LOG(AF17))/LOG(2))))","v":-0.24043899066178465},null,{"$f":"N17","v":2121},{"$f":"COUNTIF(L81:L105,AI17)","v":1},{"$f":"AJ17/(AL4-AJ20)","v":0.05},{"$f":"IF(AK17=0,0,(AK17*((LOG(AK17))/LOG(2))))","v":-0.21609640474436814},null,{"$f":"N17","v":2121},{"$f":"COUNTIF(L106:L129,AN17)","v":1},{"$f":"AO17/(AQ4-AO20)","v":5.2631578947368418E-2},{"$f":"IF(AP17=0,0,(AP17*((LOG(AP17))/LOG(2))))","v":-0.22357513228650452},null,{"$f":"N17","v":2121},{"$f":"COUNTIF(L130:L154,AS17)","v":3},{"$f":"AT17/(AV4-AT20)","v":0.2},{"$f":"IF(AU17=0,0,(AU17*((LOG(AU17))/LOG(2))))","v":-0.46438561897747244}]
[21,2154,21,2166,22,2175,14,2184,null,null,0,2221,null,2122,{"$f":"COUNTIF($L$7:$L$500,N18)","v":55},{"$f":"O18/$Q$4","v":0.3716216216216216},{"$f":"IF(P18=0,0,(P18*((LOG(P18))/LOG(2))))","v":-0.53071047882254019},null,null,{"$f":"N18","v":2122},{"$f":"COUNTIF(L7:L31,T18)","v":11},{"$f":"U18/(W4-U20)","v":0.55000000000000004},{"$f":"IF(V18=0,0,(V18*((LOG(V18))/LOG(2))))","v":-0.47437306193753576},null,{"$f":"N18","v":2122},{"$f":"COUNTIF(L32:L55,Y18)","v":7},{"$f":"Z18/(AB4-Z20)","v":0.41176470588235292},{"$f":"IF(AA18=0,0,(AA18*((LOG(AA18))/LOG(2))))","v":-0.52710326084406744},null,{"$f":"N18","v":2122},{"$f":"COUNTIF(L56:L80,AD18)","v":11},{"$f":"AE18/(AG4-AE20)","v":0.6470588235294118},{"$f":"IF(AF18=0,0,(AF18*((LOG(AF18))/LOG(2))))","v":-0.40637314404373309},null,{"$f":"N18","v":2122},{"$f":"COUNTIF(L81:L105,AI18)","v":9},{"$f":"AJ18/(AL4-AJ20)","v":0.45},{"$f":"IF(AK18=0,0,(AK18*((LOG(AK18))/LOG(2))))","v":-0.51840139205027258},null,{"$f":"N18","v":2122},{"$f":"COUNTIF(L106:L129,AN18)","v":12},{"$f":"AO18/(AQ4-AO20)","v":0.63157894736842102},{"$f":"IF(AP18=0,0,(AP18*((LOG(AP18))/LOG(2))))","v":-0.41871474487732385},null,{"$f":"N18","v":2122},{"$f":"COUNTIF(L130:L154,AS18)","v":5},{"$f":"AT18/(AV4-AT20)","v":0.33333333333333331},{"$f":"IF(AU18=0,0,(AU18*((LOG(AU18))/LOG(2))))","v":-0.52832083357371862}]
[21,2292,21,2299,22,2307,14,2329,null,null,0,2221,null,2211,{"$f":"COUNTIF($L$7:$L$500,N19)","v":1},{"$f":"O19/$Q$4","v":6.7567567567567571E-3},{"$f":"IF(P19=0,0,(P19*((LOG(P19))/LOG(2))))","v":-4.8712522740736154E-2},null,null,{"$f":"N19","v":2211},{"$f":"COUNTIF(L7:L31,T19)","v":0},{"$f":"U19/(W4-U20)","v":0},{"$f":"IF(V19=0,0,(V19*((LOG(V19))/LOG(2))))","v":0},null,{"$f":"N19","v":2211},{"$f":"COUNTIF(L32:L55,Y19)","v":1},{"$f":"Z19/(AB4-Z20)","v":5.8823529411764705E-2},{"$f":"IF(AA19=0,0,(AA19*((LOG(AA19))/LOG(2))))","v":-0.24043899066178465},null,{"$f":"N19","v":2211},{"$f":"COUNTIF(L56:L80,AD19)","v":0},{"$f":"AE19/(AG4-AE20)","v":0},{"$f":"IF(AF19=0,0,(AF19*((LOG(AF19))/LOG(2))))","v":0},null,{"$f":"N19","v":2211},{"$f":"COUNTIF(L81:L105,AI19)","v":0},{"$f":"AJ19/(AL4-AJ20)","v":0},{"$f":"IF(AK19=0,0,(AK19*((LOG(AK19))/LOG(2))))","v":0},null,{"$f":"N19","v":2211},{"$f":"COUNTIF(L106:L129,AN19)","v":0},{"$f":"AO19/(AQ4-AO20)","v":0},{"$f":"IF(AP19=0,0,(AP19*((LOG(AP19))/LOG(2))))","v":0},null,{"$f":"N19","v":2211},{"$f":"COUNTIF(L130:L154,AS19)","v":0},{"$f":"AT19/(AV4-AT20)","v":0},{"$f":"IF(AU19=0,0,(AU19*((LOG(AU19))/LOG(2))))","v":0}]
[21,2442,21,2451,11,2472,21,2500,null,null,0,2212,null,2212,{"$f":"COUNTIF($L$7:$L$500,N20)","v":40},{"$f":"O20/$Q$4","v":0.27027027027027029},{"$f":"IF(P20=0,0,(P20*((LOG(P20))/LOG(2))))","v":-0.51014196506529386},null,null,{"$f":"N20","v":2212},{"$f":"COUNTIF(L7:L31,T20)","v":5},null,null,null,{"$f":"N20","v":2212},{"$f":"COUNTIF(L32:L55,Y20)","v":7},null,null,null,{"$f":"N20","v":2212},{"$f":"COUNTIF(L56:L80,AD20)","v":8},null,null,null,{"$f":"N20","v":2212},{"$f":"COUNTIF(L81:L105,AI20)","v":5},null,null,null,{"$f":"N20","v":2212},{"$f":"COUNTIF(L106:L129,AN20)","v":5},null,null,null,{"$f":"N20","v":2212},{"$f":"COUNTIF(L130:L154,AS20)","v":10}]
[21,2591,12,2613,24,2622,23,2630,null,null,0,2122,null,2221,{"$f":"COUNTIF($L$7:$L$500,N21)","v":10},{"$f":"O21/$Q$4","v":6.7567567567567571E-2},{"$f":"IF(P21=0,0,(P21*((LOG(P21))/LOG(2))))","v":-0.26267062640145861},null,null,{"$f":"N21","v":2221},{"$f":"COUNTIF(L7:L31,T21)","v":3},{"$f":"U21/(W4-U20)","v":0.15},{"$f":"IF(V21=0,0,(V21*((LOG(V21))/LOG(2))))","v":-0.41054483912493089},null,{"$f":"N21","v":2221},{"$f":"COUNTIF(L32:L55,Y21)","v":1},{"$f":"Z21/(AB4-Z20)","v":5.8823529411764705E-2},{"$f":"IF(AA21=0,0,(AA21*((LOG(AA21))/LOG(2))))","v":-0.24043899066178465},null,{"$f":"N21","v":2221},{"$f":"COUNTIF(L56:L80,AD21)","v":1},{"$f":"AE21/(AG4-AE20)","v":5.8823529411764705E-2},{"$f":"IF(AF21=0,0,(AF21*((LOG(AF21))/LOG(2))))","v":-0.24043899066178465},null,{"$f":"N21","v":2221},{"$f":"COUNTIF(L81:L105,AI21)","v":2},{"$f":"AJ21/(AL4-AJ20)","v":0.1},{"$f":"IF(AK21=0,0,(AK21*((LOG(AK21))/LOG(2))))","v":-0.33219280948873625},null,{"$f":"N21","v":2221},{"$f":"COUNTIF(L106:L129,AN21)","v":2},{"$f":"AO21/(AQ4-AO20)","v":0.10526315789473684},{"$f":"IF(AP21=0,0,(AP21*((LOG(AP21))/LOG(2))))","v":-0.34188710667827216},null,{"$f":"N21","v":2221},{"$f":"COUNTIF(L130:L154,AS21)","v":1},{"$f":"AT21/(AV4-AT20)","v":6.6666666666666666E-2},{"$f":"IF(AU21=0,0,(AU21*((LOG(AU21))/LOG(2))))","v":-0.26045937304056793}]
[21,2745,12,2753,24,2763,23,2840,null,null,0,2122,null,2222,{"$f":"COUNTIF($L$7:$L$500,N22)","v":16},{"$f":"O22/$Q$4","v":0.10810810810810811},{"$f":"IF(P22=0,0,(P22*((LOG(P22))/LOG(2))))","v":-0.34696793141934595},null,null,{"$f":"N22","v":2222},{"$f":"COUNTIF(L7:L31,T22)","v":6},{"$f":"U22/(W4-U20)","v":0.3},{"$f":"IF(V22=0,0,(V22*((LOG(V22))/LOG(2))))","v":-0.52108967824986185},null,{"$f":"N22","v":2222},{"$f":"COUNTIF(L32:L55,Y22)","v":5},{"$f":"Z22/(AB4-Z20)","v":0.29411764705882354},{"$f":"IF(AA22=0,0,(AA22*((LOG(AA22))/LOG(2))))","v":-0.51927492540087561},null,{"$f":"N22","v":2222},{"$f":"COUNTIF(L56:L80,AD22)","v":2},{"$f":"AE22/(AG4-AE20)","v":0.11764705882352941},{"$f":"IF(AF22=0,0,(AF22*((LOG(AF22))/LOG(2))))","v":-0.36323092250003997},null,{"$f":"N22","v":2222},{"$f":"COUNTIF(L81:L105,AI22)","v":0},{"$f":"AJ22/(AL4-AJ20)","v":0},{"$f":"IF(AK22=0,0,(AK22*((LOG(AK22))/LOG(2))))","v":0},null,{"$f":"N22","v":2222},{"$f":"COUNTIF(L106:L129,AN22)","v":1},{"$f":"AO22/(AQ4-AO20)","v":5.2631578947368418E-2},{"$f":"IF(AP22=0,0,(AP22*((LOG(AP22))/LOG(2))))","v":-0.22357513228650452},null,{"$f":"N22","v":2222},{"$f":"COUNTIF(L130:L154,AS22)","v":2},{"$f":"AT22/(AV4-AT20)","v":0.13333333333333333},{"$f":"IF(AU22=0,0,(AU22*((LOG(AU22))/LOG(2))))","v":-0.3875854127478025}]
[21,2938,21,2946,11,2954,21,2971,null,null,0,2212,null,null,null,{"$f":"SUM(P7:P22)","v":1},{"$f":"-SUM(Q7:Q22)","v":2.5074305662772471},null,null,null,null,{"$f":"SUM(V7:V22)","v":1},{"$f":"-SUM(W7:W22)","v":1.4060075793123286},null,null,null,{"$f":"SUM(AA7:AA22)","v":1},{"$f":"-SUM(AB7:AB22)","v":2.1309260807303372},null,null,null,{"$f":"SUM(AF7:AF22)","v":1},{"$f":"-SUM(AG7:AG22)","v":1.6137129703673825},null,null,null,{"$f":"SUM(AK7:AK22)","v":1},{"$f":"-SUM(AL7:AL22)","v":2.2954618442383219},null,null,null,{"$f":"SUM(AP7:AP22)","v":1},{"$f":"-SUM(AQ7:AQ22)","v":1.8784775129881186},null,null,null,{"$f":"SUM(AU7:AU22)","v":1},{"$f":"-SUM(AV7:AV22)","v":2.5492553971684999}]
[21,3065,21,3086,22,3093,23,3101,null,null,0,2222,null,null,null,"U=",{"$f":"Q23/(LOG(Q4)/LOG(2))","v":0.3477975983909426},null,null,null,null,"U1=",{"$f":"W23/(LOG(W4)/LOG(2))","v":0.30276725244166841},null,null,null,"U2=",{"$f":"AB23/(LOG(AB4)/LOG(2))","v":0.46476412411119389},null,null,null,"U3=",{"$f":"AG23/(LOG(AG4)/LOG(2))","v":0.34749417389810777},null,null,null,"U4=",{"$f":"AL23/(LOG(AL4)/LOG(2))","v":0.49430080313268171},null,null,null,"U5=",{"$f":"AQ23/(LOG(AQ4)/LOG(2))","v":0.40970400798101581},null,null,null,"U6=",{"$f":"AV23/(LOG(AV4)/LOG(2))","v":0.548952270051275}]
[21,3205,21,3213,22,3222,14,3230,null,null,0,2221]
[21,3338,12,3354,24,3372,23,3389,null,null,0,2122]
[21,3502,21,3510,11,3519,21,3527,null,null,0,2212,null,"Total Target Seq"]
[21,3631,12,3646,24,3685,23,3700,null,null,0,2122,null,{"$f":"COUNTIF(L7:L154,G3)","v":40},null,25,24,25,25,24,25]
[21,3804,12,3812,24,3839,23,3847,null,null,0,2122,null,null,null,"% of reinforcement given in 6 equal intervals based on number of trials "]
[21,3966,21,3971,11,3990,21,4007,null,null,0,2212,null,null,null,"%_1","%_2","%_3","%_4","%_5","%_6"]
[21,4123,12,4138,24,4162,23,4170,null,null,0,2122,null,null,"target sequence",{"$f":"$G$3","v":2212},{"$f":"$G$3","v":2212},{"$f":"$G$3","v":2212},{"$f":"$G$3","v":2212},{"$f":"$G$3","v":2212},{"$f":"$G$3","v":2212}]
[21,4278,21,4286,22,4302,23,4317,null,null,0,2222,null,null,"total reinforcement",{"$f":"U20","v":5},{"$f":"Z20","v":7},{"$f":"AE20","v":8},{"$f":"AJ20","v":5},{"$f":"AO20","v":5},{"$f":"AT20","v":10}]
[21,4421,21,4429,11,4437,21,4485,null,null,0,2212,null,null,"% target"]
[21,4606,21,4633,22,4641,23,4658,null,null,0,2222,null,null,"CCRF"]
[21,4759,12,4774,24,4798,23,4813,null,null,0,2122,null,null,"% CCRf"]
[12,4926,14,4943,24,4952,23,4967,null,null,0,1122,null,null,"average response rate",{"$f":"H31/P28","v":166.8},{"$f":"(H55-H31)/Q28","v":155.875},{"$f":"(H80-H55)/R28","v":144.80000000000001},{"$f":"(H105-H80)/S28","v":138.56},{"$f":"(H129-H105)/T28","v":137.95833333333334},{"$f":"(H154-H129)/U28","v":143.08000000000001}]
[21,5065,21,5071,11,5081,12,5105,null,null,0,2211]
[21,5207,21,5215,11,5222,21,5240,null,null,0,2212]
[21,5352,21,5375,22,5383,23,5391,null,null,0,2222]
[21,5500,12,5509,24,5517,23,5548,null,null,0,2122]
[21,5662,21,5666,11,5675,21,5713,null,null,0,2212]
[12,5829,23,5884,24,5893,23,5901,null,null,0,1222]
[21,6010,21,6029,11,6037,21,6046,null,null,0,2212]
[21,6148,12,6156,24,6174,23,6237,null,null,0,2122]
[21,6334,21,6343,11,6350,21,6374,null,null,0,2212]
[21,6477,12,6485,24,6507,23,6514,null,null,0,2122]
[21,6629,12,6649,24,6673,23,6681,null,null,0,2122]
[21,6786,21,6793,22,6805,23,6814,null,null,0,2222]
[12,6930,23,6939,24,6946,23,6954,null,null,0,1222]
[21,7058,12,7065,24,7081,23,7088,null,null,0,2122]
[21,7212,12,7221,24,7230,23,7246,null,null,0,2122]
[21,7346,21,7355,22,7372,14,7379,null,null,0,2221]
[21,7477,21,7482,11,7490,21,7513,null,null,0,2212]
[21,7623,21,7657,22,7776,23,7785,null,null,0,2222]
[21,7888,21,7894,11,7902,21,7911,null,null,0,2212]
[21,8002,21,8020,11,8028,21,8052,null,null,0,2212]
[21,8142,12,8155,24,8194,23,8207,null,null,0,2122]
[21,8307,21,8314,22,8350,23,8357,null,null,0,2222]
[21,8456,21,8464,22,8472,14,8481,null,null,0,2221]
[21,8584,12,8601,24,8609,23,8625,null,null,0,2122]
[21,8734,12,8747,24,8770,23,8779,null,null,0,2122]
[21,8879,21,8886,11,8904,21,8935,null,null,0,2212]
[21,9032,21,9041,11,9050,21,9073,null,null,0,2212]
[21,9165,21,9170,11,9178,21,9187,null,null,0,2212]
[21,9286,12,9306,24,9341,23,9348,null,null,0,2122]
[21,9454,21,9470,11,9480,21,9488,null,null,0,2212]
[21,9600,21,9626,22,9648,23,9662,null,null,0,2222]
[12,9790,23,9813,24,9828,23,9842,null,null,0,1222]
[21,9951,12,9958,24,9974,23,9981,null,null,0,2122]
[12,10093,23,10102,24,10115,23,10123,null,null,0,1222]
[21,10230,12,10238,24,10270,23,10278,null,null,0,2122]
[21,10393,12,10400,24,10409,23,10417,null,null,0,2122]
[21,10523,21,10532,11,10540,21,10563,null,null,0,2212]
[21,10672,12,10679,24,10695,23,10709,null,null,0,2122]
[21,10813,12,10820,24,10829,14,10837,null,null,0,2121]
[21,10955,12,10963,24,10971,23,10986,null,null,0,2122]
[21,11089,12,11097,24,11105,23,11113,null,null,0,2122]
[21,11221,12,11244,24,11263,23,11271,null,null,0,2122]
[21,11378,21,11387,11,11394,21,11413,null,null,0,2212]
[21,11504,21,11516,11,11523,21,11531,null,null,0,2212]
[12,11661,23,11670,24,11685,23,11722,null,null,0,1222]
[12,11834,23,11842,24,11850,23,11859,null,null,0,1222]
[21,11957,12,11968,13,11985,23,12001,null,null,0,2112]
[12,12115,23,12123,13,12132,23,12140,null,null,0,1212]
[21,12247,12,12254,24,12263,23,12271,null,null,0,2122]
[21,12370,21,12378,22,12386,14,12394,null,null,0,2221]
[21,12492,12,12507,24,12515,23,12523,null,null,0,2122]
[21,12638,12,12645,24,12653,23,12664,null,null,0,2122]
[21,12768,12,12776,13,12792,23,12800,null,null,0,2112]
[12,12913,14,12929,24,12953,23,12961,null,null,0,1122]
[21,13084,12,13092,24,13101,23,13115,null,null,0,2122]
[12,13228,23,13235,24,13243,23,13252,null,null,0,1222]
[21,13356,21,13364,22,13372,14,13379,null,null,0,2221]
[21,13486,12,13494,24,13502,23,13510,null,null,0,2122]
[21,13628,12,13639,24,13647,23,13655,null,null,0,2122]
[21,13755,12,13782,24,13790,23,13814,null,null,0,2122]
[21,13911,21,13916,11,13927,21,13934,null,null,0,2212]
[21,14022,21,14027,11,14036,21,14043,null,null,0,2212]
[21,14144,12,14154,24,14163,23,14171,null,null,0,2122]
[12,14289,23,14297,24,14311,23,14319,null,null,0,1222]
[21,14428,21,14435,11,14442,21,14459,null,null,0,2212]
[21,14551,21,14562,11,14585,21,14594,null,null,0,2212]
[21,14684,12,14701,24,14709,23,14717,null,null,0,2122]
[21,14819,12,14827,24,14834,14,14842,null,null,0,2121]
[21,14968,21,14976,11,14984,21,14995,null,null,0,2212]
[21,15086,12,15101,24,15110,23,15123,null,null,0,2122]
[21,15226,12,15234,24,15242,23,15249,null,null,0,2122]
[21,15354,21,15365,22,15374,14,15383,null,null,0,2221]
[21,15485,12,15493,24,15500,23,15508,null,null,0,2122]
[12,15617,14,15646,24,15673,23,15681,null,null,0,1122]
[21,15783,21,15797,11,15805,21,15814,null,null,0,2212]
[21,15910,12,15919,24,15927,23,15935,null,null,0,2122]
[21,16056,12,16064,24,16072,23,16087,null,null,0,2122]
[21,16190,21,16204,11,16212,21,16229,null,null,0,2212]
[21,16336,21,16344,11,16352,21,16367,null,null,0,2212]
[21,16456,12,16474,24,16493,23,16501,null,null,0,2122]
[21,16619,12,16627,24,16642,23,16649,null,null,0,2122]
[21,16749,12,16757,24,16765,23,16773,null,null,0,2122]
[12,16892,23,16900,13,16908,23,16920,null,null,0,1212]
[21,17028,21,17037,22,17046,14,17054,null,null,0,2221]
[21,17157,12,17165,24,17173,14,17184,null,null,0,2121]
[21,17285,21,17293,11,17301,21,17309,null,null,0,2212]
[21,17419,12,17428,24,17445,23,17452,null,null,0,2122]
[21,17557,12,17565,24,17574,23,17581,null,null,0,2122]
[12,17700,23,17708,24,17717,23,17723,null,null,0,1222]
[21,17830,21,17846,11,17853,21,17866,null,null,0,2212]
[21,17956,12,17972,24,17983,23,17991,null,null,0,2122]
[21,18094,12,18102,24,18110,23,18118,null,null,0,2122]
[21,18237,21,18260,22,18268,23,18306,null,null,0,2222]
[21,18418,12,18427,24,18435,23,18445,null,null,0,2122]
[21,18543,21,18548,11,18556,21,18564,null,null,0,2212]
[12,18667,23,18675,13,18682,23,18694,null,null,0,1212]
[21,18806,21,18817,11,18825,21,18835,null,null,0,2212]
[12,18966,23,18983,24,18990,23,18998,null,null,0,1222]
[21,19099,12,19113,24,19121,14,19129,null,null,0,2121]
[21,19227,12,19245,24,19253,14,19261,null,null,0,2121]
[12,19381,23,19400,24,19409,23,19439,null,null,0,1222]
[21,19538,12,19551,13,19567,23,19592,null,null,0,2112]
[21,19701,12,19718,24,19729,23,19737,null,null,0,2122]
[21,19837,21,19842,11,19850,21,19873,null,null,0,2212]
[21,19965,21,19987,11,19995,21,20015,null,null,0,2212]
[21,20114,12,20129,24,20153,23,20160,null,null,0,2122]
[21,20258,21,20266,22,20274,14,20291,null,null,0,2221]
[21,20400,12,20408,24,20415,14,20423,null,null,0,2121]
[21,20524,21,20532,11,20540,21,20557,null,null,0,2212]
[21,20658,21,20672,11,20679,21,20714,null,null,0,2212]
[21,20879,21,20895,22,20904,23,20923,null,null,0,2222]
[21,21048,21,21077,22,21085,23,21093,null,null,0,2222]
[21,21195,21,21209,11,21217,21,21228,null,null,0,2212]
[21,21320,12,21330,24,21338,23,21349,null,null,0,2122]
[21,21467,21,21475,11,21483,21,21502,null,null,0,2212]
[21,21589,21,21594,11,21602,21,21610,null,null,0,2212]
[21,21717,12,21725,24,21734,23,21748,null,null,0,2122]
[21,21852,21,21867,11,21875,21,21883,null,null,1,2212]

{"sheet":"!N127B50.095","index":28,"n_rows":103,"n_cols":48,"rows_kept":103,"cut":false,"hidden":false,"merged":[[4,39,4,42],[5,39,5,40],[4,44,4,47],[5,44,5,45],[4,24,4,27],[5,24,5,25],[4,29,4,32],[5,29,5,30],[4,34,4,37],[5,34,5,35],[1,1,1,2],[5,13,5,14],[26,13,26,14],[27,13,27,14],[4,19,4,22],[5,19,5,20]]}
["Report for:!N127B50.095"]
["Date:","<date>"]
["Hen:","<hen>",null,null,null,"Correct Sequence",{"$f":"Start!J2","v":2212},null,null,null,null,null,null,null,null,"Total Sequences in Data",{"$f":"4994-COUNTBLANK(L7:L5000)","v":97},null,null,null,null,"Total Sequences in Block Data",{"$f":"COUNTA(L7:L22)","v":16},null,null,null,"Total Sequences in Block Data",{"$f":"COUNTA(L23:L38)","v":16},null,null,null,"Total Sequences in Block Data",{"$f":"COUNTA(L39:L55)","v":17},null,null,null,"Total Sequences in Block Data",{"$f":"COUNTA(L56:L71)","v":16},null,null,null,"Total Sequences in Block Data",{"$f":"COUNTA(L72:L87)","v":16},null,null,null,"Total Sequences in Block Data",{"$f":"COUNTA(L88:L103)","v":16}]
[null,null,null,null,null,null,null,null,null,null,null,null,null,null,null,"Total Sequences in Summary",{"$f":"SUM(O7:O22)","v":96},null,null,null,null,"Total Sequences in Block Summary",{"$f":"SUM(U7:U22)","v":16},null,null,null,"Total Sequences in Block Summary",{"$f":"SUM(Z7:Z22)","v":16},null,null,null,"Total Sequences in Block Summary",{"$f":"SUM(AE7:AE22)","v":17},null,null,null,"Total Sequences in Block Summary",{"$f":"SUM(AJ7:AJ22)","v":16},null,null,null,"Total Sequences in Block Summary",{"$f":"SUM(AO7:AO22)","v":16},null,null,null,"Total Sequences in Block Summary",{"$f":"SUM(AT7:AT22)","v":15}]
[null,null,null,null,null,null,null,null,null,null,null,null,null,null,null,null,null,null,null,"Block 1",null,null,null,null,"Block 2",null,null,null,null,"Block 3",null,null,null,null,"Block 4",null,null,null,null,"Block 5",null,null,null,null,"Block 6"]
["Sequence\nComponent\n1","Time\n1","Sequence\nComponent\n2","Time\n2","Sequence\nComponent\n3","Time\n3","Sequence\nComponent\n4","Time\n4","Sequence\nComponent\n5","Time\n5","Correct?\n0=No 1=Yes","Sequence",null,"Frequency",null,"Relative Frequency","Variability",null,null,"Frequency",null,"Relative Frequency","Variability",null,"Frequency",null,"Relative Frequency","Variability",null,"Frequency",null,"Relative Frequency","Variability",null,"Frequency",null,"Relative Frequency","Variability",null,"Frequency",null,"Relative Frequency","Variability",null,"Frequency",null,"Relative Frequency","Variability"]
[12,52,14,91,13,139,23,158,null,null,0,1112,null,1111,{"$f":"COUNTIF($L$7:$L$500,N7)","v":0},{"$f":"O7/$Q$4","v":0},{"$f":"IF(P7=0,0,(P7*((LOG(P7))/LOG(2))))","v":0},null,null,{"$f":"N7","v":1111},{"$f":"COUNTIF(L7:L22,T7)","v":0},{"$f":"U7/(W4-U20)","v":0},{"$f":"IF(V7=0,0,(V7*((LOG(V7))/LOG(2))))","v":0},null,{"$f":"N7","v":1111},{"$f":"COUNTIF(L23:L38,Y7)","v":0},{"$f":"Z7/(AB4-Z20)","v":0},{"$f":"IF(AA7=0,0,(AA7*((LOG(AA7))/LOG(2))))","v":0},null,{"$f":"N7","v":1111},{"$f":"COUNTIF(L39:L55,AD7)","v":0},{"$f":"AE7/(AG4-AE20)","v":0},{"$f":"IF(AF7=0,0,(AF7*((LOG(AF7))/LOG(2))))","v":0},null,{"$f":"N7","v":1111},{"$f":"COUNTIF(L56:L71,AI7)","v":0},{"$f":"AJ7/(AL4-AJ20)","v":0},{"$f":"IF(AK7=0,0,(AK7*((LOG(AK7))/LOG(2))))","v":0},null,{"$f":"N7","v":1111},{"$f":"COUNTIF(L72:L87,AN7)","v":0},{"$f":"AO7/(AQ4-AO20)","v":0},{"$f":"IF(AP7=0,0,(AP7*((LOG(AP7))/LOG(2))))","v":0},null,{"$f":"N7","v":1111},{"$f":"COUNTIF(L88:L103,AS7)","v":0},{"$f":"AT7/(AV4-AT20)","v":0},{"$f":"IF(AU7=0,0,(AU7*((LOG(AU7))/LOG(2))))","v":0}]
[21,295,12,303,24,318,23,333,null,null,0,2122,null,1112,{"$f":"COUNTIF($L$7:$L$500,N8)","v":1},{"$f":"O8/$Q$4","v":1.0416666666666666E-2},{"$f":"IF(P8=0,0,(P8*((LOG(P8))/LOG(2))))","v":-6.8593359382512042E-2},null,null,{"$f":"N8","v":1112},{"$f":"COUNTIF(L7:L22,T8)","v":1},{"$f":"U8/(W4-U20)","v":0.1},{"$f":"IF(V8=0,0,(V8*((LOG(V8))/LOG(2))))","v":-0.33219280948873625},null,{"$f":"N8","v":1112},{"$f":"COUNTIF(L23:L38,Y8)","v":0},{"$f":"Z8/(AB4-Z20)","v":0},{"$f":"IF(AA8=0,0,(AA8*((LOG(AA8))/LOG(2))))","v":0},null,{"$f":"N8","v":1112},{"$f":"COUNTIF(L39:L55,AD8)","v":0},{"$f":"AE8/(AG4-AE20)","v":0},{"$f":"IF(AF8=0,0,(AF8*((LOG(AF8))/LOG(2))))","v":0},null,{"$f":"N8","v":1112},{"$f":"COUNTIF(L56:L71,AI8)","v":0},{"$f":"AJ8/(AL4-AJ20)","v":0},{"$f":"IF(AK8=0,0,(AK8*((LOG(AK8))/LOG(2))))","v":0},null,{"$f":"N8","v":1112},{"$f":"COUNTIF(L72:L87,AN8)","v":0},{"$f":"AO8/(AQ4-AO20)","v":0},{"$f":"IF(AP8=0,0,(AP8*((LOG(AP8))/LOG(2))))","v":0},null,{"$f":"N8","v":1112},{"$f":"COUNTIF(L88:L103,AS8)","v":0},{"$f":"AT8/(AV4-AT20)","v":0},{"$f":"IF(AU8=0,0,(AU8*((LOG(AU8))/LOG(2))))","v":0}]
[21,446,21,471,22,504,14,517,null,null,0,2221,null,1121,{"$f":"COUNTIF($L$7:$L$500,N9)","v":0},{"$f":"O9/$Q$4","v":0},{"$f":"IF(P9=0,0,(P9*((LOG(P9))/LOG(2))))","v":0},null,null,{"$f":"N9","v":1121},{"$f":"COUNTIF(L7:L22,T9)","v":0},{"$f":"U9/(W4-U20)","v":0},{"$f":"IF(V9=0,0,(V9*((LOG(V9))/LOG(2))))","v":0},null,{"$f":"N9","v":1121},{"$f":"COUNTIF(L23:L38,Y9)","v":0},{"$f":"Z9/(AB4-Z20)","v":0},{"$f":"IF(AA9=0,0,(AA9*((LOG(AA9))/LOG(2))))","v":0},null,{"$f":"N9","v":1121},{"$f":"COUNTIF(L39:L55,AD9)","v":0},{"$f":"AE9/(AG4-AE20)","v":0},{"$f":"IF(AF9=0,0,(AF9*((LOG(AF9))/LOG(2))))","v":0},null,{"$f":"N9","v":1121},{"$f":"COUNTIF(L56:L71,AI9)","v":0},{"$f":"AJ9/(AL4-AJ20)","v":0},{"$f":"IF(AK9=0,0,(AK9*((LOG(AK9))/LOG(2))))","v":0},null,{"$f":"N9","v":1121},{"$f":"COUNTIF(L72:L87,AN9)","v":0},{"$f":"AO9/(AQ4-AO20)","v":0},{"$f":"IF(AP9=0,0,(AP9*((LOG(AP9))/LOG(2))))","v":0},null,{"$f":"N9","v":1121},{"$f":"COUNTIF(L88:L103,AS9)","v":0},{"$f":"AT9/(AV4-AT20)","v":0},{"$f":"IF(AU9=0,0,(AU9*((LOG(AU9))/LOG(2))))","v":0}]
[21,622,12,640,13,657,23,682,null,null,0,2112,null,1122,{"$f":"COUNTIF($L$7:$L$500,N10)","v":0},{"$f":"O10/$Q$4","v":0},{"$f":"IF(P10=0,0,(P10*((LOG(P10))/LOG(2))))","v":0},null,null,{"$f":"N10","v":1122},{"$f":"COUNTIF(L7:L22,T10)","v":0},{"$f":"U10/(W4-U20)","v":0},{"$f":"IF(V10=0,0,(V10*((LOG(V10))/LOG(2))))","v":0},null,{"$f":"N10","v":1122},{"$f":"COUNTIF(L23:L38,Y10)","v":0},{"$f":"Z10/(AB4-Z20)","v":0},{"$f":"IF(AA10=0,0,(AA10*((LOG(AA10))/LOG(2))))","v":0},null,{"$f":"N10","v":1122},{"$f":"COUNTIF(L39:L55,AD10)","v":0},{"$f":"AE10/(AG4-AE20)","v":0},{"$f":"IF(AF10=0,0,(AF10*((LOG(AF10))/LOG(2))))","v":0},null,{"$f":"N10","v":1122},{"$f":"COUNTIF(L56:L71,AI10)","v":0},{"$f":"AJ10/(AL4-AJ20)","v":0},{"$f":"IF(AK10=0,0,(AK10*((LOG(AK10))/LOG(2))))","v":0},null,{"$f":"N10","v":1122},{"$f":"COUNTIF(L72:L87,AN10)","v":0},{"$f":"AO10/(AQ4-AO20)","v":0},{"$f":"IF(AP10=0,0,(AP10*((LOG(AP10))/LOG(2))))","v":0},null,{"$f":"N10","v":1122},{"$f":"COUNTIF(L88:L103,AS10)","v":0},{"$f":"AT10/(AV4-AT20)","v":0},{"$f":"IF(AU10=0,0,(AU10*((LOG(AU10))/LOG(2))))","v":0}]
[21,794,21,805,11,813,21,856,null,null,0,2212,null,1211,{"$f":"COUNTIF($L$7:$L$500,N11)","v":0},{"$f":"O11/$Q$4","v":0},{"$f":"IF(P11=0,0,(P11*((LOG(P11))/LOG(2))))","v":0},null,null,{"$f":"N11","v":1211},{"$f":"COUNTIF(L7:L22,T11)","v":0},{"$f":"U11/(W4-U20)","v":0},{"$f":"IF(V11=0,0,(V11*((LOG(V11))/LOG(2))))","v":0},null,{"$f":"N11","v":1211},{"$f":"COUNTIF(L23:L38,Y11)","v":0},{"$f":"Z11/(AB4-Z20)","v":0},{"$f":"IF(AA11=0,0,(AA11*((LOG(AA11))/LOG(2))))","v":0},null,{"$f":"N11","v":1211},{"$f":"COUNTIF(L39:L55,AD11)","v":0},{"$f":"AE11/(AG4-AE20)","v":0},{"$f":"IF(AF11=0,0,(AF11*((LOG(AF11))/LOG(2))))","v":0},null,{"$f":"N11","v":1211},{"$f":"COUNTIF(L56:L71,AI11)","v":0},{"$f":"AJ11/(AL4-AJ20)","v":0},{"$f":"IF(AK11=0,0,(AK11*((LOG(AK11))/LOG(2))))","v":0},null,{"$f":"N11","v":1211},{"$f":"COUNTIF(L72:L87,AN11)","v":0},{"$f":"AO11/(AQ4-AO20)","v":0},{"$f":"IF(AP11=0,0,(AP11*((LOG(AP11))/LOG(2))))","v":0},null,{"$f":"N11","v":1211},{"$f":"COUNTIF(L88:L103,AS11)","v":0},{"$f":"AT11/(AV4-AT20)","v":0},{"$f":"IF(AU11=0,0,(AU11*((LOG(AU11))/LOG(2))))","v":0}]
[12,956,23,969,13,977,23,992,null,null,0,1212,null,1212,{"$f":"COUNTIF($L$7:$L$500,N12)","v":2},{"$f":"O12/$Q$4","v":2.0833333333333332E-2},{"$f":"IF(P12=0,0,(P12*((LOG(P12))/LOG(2))))","v":-0.11635338543169074},null,null,{"$f":"N12","v":1212},{"$f":"COUNTIF(L7:L22,T12)","v":1},{"$f":"U12/(W4-U20)","v":0.1},{"$f":"IF(V12=0,0,(V12*((LOG(V12))/LOG(2))))","v":-0.33219280948873625},null,{"$f":"N12","v":1212},{"$f":"COUNTIF(L23:L38,Y12)","v":0},{"$f":"Z12/(AB4-Z20)","v":0},{"$f":"IF(AA12=0,0,(AA12*((LOG(AA12))/LOG(2))))","v":0},null,{"$f":"N12","v":1212},{"$f":"COUNTIF(L39:L55,AD12)","v":0},{"$f":"AE12/(AG4-AE20)","v":0},{"$f":"IF(AF12=0,0,(AF12*((LOG(AF12))/LOG(2))))","v":0},null,{"$f":"N12","v":1212},{"$f":"COUNTIF(L56:L71,AI12)","v":1},{"$f":"AJ12/(AL4-AJ20)","v":7.6923076923076927E-2},{"$f":"IF(AK12=0,0,(AK12*((LOG(AK12))/LOG(2))))","v":-0.28464920908777636},null,{"$f":"N12","v":1212},{"$f":"COUNTIF(L72:L87,AN12)","v":0},{"$f":"AO12/(AQ4-AO20)","v":0},{"$f":"IF(AP12=0,0,(AP12*((LOG(AP12))/LOG(2))))","v":0},null,{"$f":"N12","v":1212},{"$f":"COUNTIF(L88:L103,AS12)","v":0},{"$f":"AT12/(AV4-AT20)","v":0},{"$f":"IF(AU12=0,0,(AU12*((LOG(AU12))/LOG(2))))","v":0}]
[21,1112,12,1121,24,1129,23,1137,null,null,0,2122,null,1221,{"$f":"COUNTIF($L$7:$L$500,N13)","v":1},{"$f":"O13/$Q$4","v":1.0416666666666666E-2},{"$f":"IF(P13=0,0,(P13*((LOG(P13))/LOG(2))))","v":-6.8593359382512042E-2},null,null,{"$f":"N13","v":1221},{"$f":"COUNTIF(L7:L22,T13)","v":0},{"$f":"U13/(W4-U20)","v":0},{"$f":"IF(V13=0,0,(V13*((LOG(V13))/LOG(2))))","v":0},null,{"$f":"N13","v":1221},{"$f":"COUNTIF(L23:L38,Y13)","v":0},{"$f":"Z13/(AB4-Z20)","v":0},{"$f":"IF(AA13=0,0,(AA13*((LOG(AA13))/LOG(2))))","v":0},null,{"$f":"N13","v":1221},{"$f":"COUNTIF(L39:L55,AD13)","v":0},{"$f":"AE13/(AG4-AE20)","v":0},{"$f":"IF(AF13=0,0,(AF13*((LOG(AF13))/LOG(2))))","v":0},null,{"$f":"N13","v":1221},{"$f":"COUNTIF(L56:L71,AI13)","v":0},{"$f":"AJ13/(AL4-AJ20)","v":0},{"$f":"IF(AK13=0,0,(AK13*((LOG(AK13))/LOG(2))))","v":0},null,{"$f":"N13","v":1221},{"$f":"COUNTIF(L72:L87,AN13)","v":0},{"$f":"AO13/(AQ4-AO20)","v":0},{"$f":"IF(AP13=0,0,(AP13*((LOG(AP13))/LOG(2))))","v":0},null,{"$f":"N13","v":1221},{"$f":"COUNTIF(L88:L103,AS13)","v":1},{"$f":"AT13/(AV4-AT20)","v":7.6923076923076927E-2},{"$f":"IF(AU13=0,0,(AU13*((LOG(AU13))/LOG(2))))","v":-0.28464920908777636}]
[21,1243,21,1255,11,1263,21,1278,null,null,0,2212,null,1222,{"$f":"COUNTIF($L$7:$L$500,N14)","v":6},{"$f":"O14/$Q$4","v":6.25E-2},{"$f":"IF(P14=0,0,(P14*((LOG(P14))/LOG(2))))","v":-0.25},null,null,{"$f":"N14","v":1222},{"$f":"COUNTIF(L7:L22,T14)","v":2},{"$f":"U14/(W4-U20)","v":0.2},{"$f":"IF(V14=0,0,(V14*((LOG(V14))/LOG(2))))","v":-0.46438561897747244},null,{"$f":"N14","v":1222},{"$f":"COUNTIF(L23:L38,Y14)","v":1},{"$f":"Z14/(AB4-Z20)","v":0.14285714285714285},{"$f":"IF(AA14=0,0,(AA14*((LOG(AA14))/LOG(2))))","v":-0.40105070315108626},null,{"$f":"N14","v":1222},{"$f":"COUNTIF(L39:L55,AD14)","v":0},{"$f":"AE14/(AG4-AE20)","v":0},{"$f":"IF(AF14=0,0,(AF14*((LOG(AF14))/LOG(2))))","v":0},null,{"$f":"N14","v":1222},{"$f":"COUNTIF(L56:L71,AI14)","v":1},{"$f":"AJ14/(AL4-AJ20)","v":7.6923076923076927E-2},{"$f":"IF(AK14=0,0,(AK14*((LOG(AK14))/LOG(2))))","v":-0.28464920908777636},null,{"$f":"N14","v":1222},{"$f":"COUNTIF(L72:L87,AN14)","v":0},{"$f":"AO14/(AQ4-AO20)","v":0},{"$f":"IF(AP14=0,0,(AP14*((LOG(AP14))/LOG(2))))","v":0},null,{"$f":"N14","v":1222},{"$f":"COUNTIF(L88:L103,AS14)","v":2},{"$f":"AT14/(AV4-AT20)","v":0.15384615384615385},{"$f":"IF(AU14=0,0,(AU14*((LOG(AU14))/LOG(2))))","v":-0.4154522643293988}]
[21,1384,21,1396,11,1406,21,1443,null,null,0,2212,null,2111,{"$f":"COUNTIF($L$7:$L$500,N15)","v":0},{"$f":"O15/$Q$4","v":0},{"$f":"IF(P15=0,0,(P15*((LOG(P15))/LOG(2))))","v":0},null,null,{"$f":"N15","v":2111},{"$f":"COUNTIF(L7:L22,T15)","v":0},{"$f":"U15/(W4-U20)","v":0},{"$f":"IF(V15=0,0,(V15*((LOG(V15))/LOG(2))))","v":0},null,{"$f":"N15","v":2111},{"$f":"COUNTIF(L23:L38,Y15)","v":0},{"$f":"Z15/(AB4-Z20)","v":0},{"$f":"IF(AA15=0,0,(AA15*((LOG(AA15))/LOG(2))))","v":0},null,{"$f":"N15","v":2111},{"$f":"COUNTIF(L39:L55,AD15)","v":0},{"$f":"AE15/(AG4-AE20)","v":0},{"$f":"IF(AF15=0,0,(AF15*((LOG(AF15))/LOG(2))))","v":0},null,{"$f":"N15","v":2111},{"$f":"COUNTIF(L56:L71,AI15)","v":0},{"$f":"AJ15/(AL4-AJ20)","v":0},{"$f":"IF(AK15=0,0,(AK15*((LOG(AK15))/LOG(2))))","v":0},null,{"$f":"N15","v":2111},{"$f":"COUNTIF(L72:L87,AN15)","v":0},{"$f":"AO15/(AQ4-AO20)","v":0},{"$f":"IF(AP15=0,0,(AP15*((LOG(AP15))/LOG(2))))","v":0},null,{"$f":"N15","v":2111},{"$f":"COUNTIF(L88:L103,AS15)","v":0},{"$f":"AT15/(AV4-AT20)","v":0},{"$f":"IF(AU15=0,0,(AU15*((LOG(AU15))/LOG(2))))","v":0}]
[21,1538,21,1543,11,1551,21,1559,null,null,0,2212,null,2112,{"$f":"COUNTIF($L$7:$L$500,N16)","v":4},{"$f":"O16/$Q$4","v":4.1666666666666664E-2},{"$f":"IF(P16=0,0,(P16*((LOG(P16))/LOG(2))))","v":-0.19104010419671485},null,null,{"$f":"N16","v":2112},{"$f":"COUNTIF(L7:L22,T16)","v":1},{"$f":"U16/(W4-U20)","v":0.1},{"$f":"IF(V16=0,0,(V16*((LOG(V16))/LOG(2))))","v":-0.33219280948873625},null,{"$f":"N16","v":2112},{"$f":"COUNTIF(L23:L38,Y16)","v":0},{"$f":"Z16/(AB4-Z20)","v":0},{"$f":"IF(AA16=0,0,(AA16*((LOG(AA16))/LOG(2))))","v":0},null,{"$f":"N16","v":2112},{"$f":"COUNTIF(L39:L55,AD16)","v":3},{"$f":"AE16/(AG4-AE20)","v":0.25},{"$f":"IF(AF16=0,0,(AF16*((LOG(AF16))/LOG(2))))","v":-0.5},null,{"$f":"N16","v":2112},{"$f":"COUNTIF(L56:L71,AI16)","v":0},{"$f":"AJ16/(AL4-AJ20)","v":0},{"$f":"IF(AK16=0,0,(AK16*((LOG(AK16))/LOG(2))))","v":0},null,{"$f":"N16","v":2112},{"$f":"COUNTIF(L72:L87,AN16)","v":0},{"$f":"AO16/(AQ4-AO20)","v":0},{"$f":"IF(AP16=0,0,(AP16*((LOG(AP16))/LOG(2))))","v":0},null,{"$f":"N16","v":2112},{"$f":"COUNTIF(L88:L103,AS16)","v":0},{"$f":"AT16/(AV4-AT20)","v":0},{"$f":"IF(AU16=0,0,(AU16*((LOG(AU16))/LOG(2))))","v":0}]
[12,1683,23,1692,24,1707,23,1754,null,null,0,1222,null,2121,{"$f":"COUNTIF($L$7:$L$500,N17)","v":3},{"$f":"O17/$Q$4","v":3.125E-2},{"$f":"IF(P17=0,0,(P17*((LOG(P17))/LOG(2))))","v":-0.15625},null,null,{"$f":"N17","v":2121},{"$f":"COUNTIF(L7:L22,T17)","v":1},{"$f":"U17/(W4-U20)","v":0.1},{"$f":"IF(V17=0,0,(V17*((LOG(V17))/LOG(2))))","v":-0.33219280948873625},null,{"$f":"N17","v":2121},{"$f":"COUNTIF(L23:L38,Y17)","v":0},{"$f":"Z17/(AB4-Z20)","v":0},{"$f":"IF(AA17=0,0,(AA17*((LOG(AA17))/LOG(2))))","v":0},null,{"$f":"N17","v":2121},{"$f":"COUNTIF(L39:L55,AD17)","v":1},{"$f":"AE17/(AG4-AE20)","v":8.3333333333333329E-2},{"$f":"IF(AF17=0,0,(AF17*((LOG(AF17))/LOG(2))))","v":-0.29874687506009634},null,{"$f":"N17","v":2121},{"$f":"COUNTIF(L56:L71,AI17)","v":0},{"$f":"AJ17/(AL4-AJ20)","v":0},{"$f":"IF(AK17=0,0,(AK17*((LOG(AK17))/LOG(2))))","v":0},null,{"$f":"N17","v":2121},{"$f":"COUNTIF(L72:L87,AN17)","v":0},{"$f":"AO17/(AQ4-AO20)","v":0},{"$f":"IF(AP17=0,0,(AP17*((LOG(AP17))/LOG(2))))","v":0},null,{"$f":"N17","v":2121},{"$f":"COUNTIF(L88:L103,AS17)","v":1},{"$f":"AT17/(AV4-AT20)","v":7.6923076923076927E-2},{"$f":"IF(AU17=0,0,(AU17*((LOG(AU17))/LOG(2))))","v":-0.28464920908777636}]
[21,1876,12,1883,24,1891,23,1955,null,null,0,2122,null,2122,{"$f":"COUNTIF($L$7:$L$500,N18)","v":32},{"$f":"O18/$Q$4","v":0.33333333333333331},{"$f":"IF(P18=0,0,(P18*((LOG(P18))/LOG(2))))","v":-0.52832083357371862},null,null,{"$f":"N18","v":2122},{"$f":"COUNTIF(L7:L22,T18)","v":3},{"$f":"U18/(W4-U20)","v":0.3},{"$f":"IF(V18=0,0,(V18*((LOG(V18))/LOG(2))))","v":-0.52108967824986185},null,{"$f":"N18","v":2122},{"$f":"COUNTIF(L23:L38,Y18)","v":5},{"$f":"Z18/(AB4-Z20)","v":0.7142857142857143},{"$f":"IF(AA18=0,0,(AA18*((LOG(AA18))/LOG(2))))","v":-0.34673344797874411},null,{"$f":"N18","v":2122},{"$f":"COUNTIF(L39:L55,AD18)","v":4},{"$f":"AE18/(AG4-AE20)","v":0.33333333333333331},{"$f":"IF(AF18=0,0,(AF18*((LOG(AF18))/LOG(2))))","v":-0.52832083357371862},null,{"$f":"N18","v":2122},{"$f":"COUNTIF(L56:L71,AI18)","v":6},{"$f":"AJ18/(AL4-AJ20)","v":0.46153846153846156},{"$f":"IF(AK18=0,0,(AK18*((LOG(AK18))/LOG(2))))","v":-0.51483563880920125},null,{"$f":"N18","v":2122},{"$f":"COUNTIF(L72:L87,AN18)","v":7},{"$f":"AO18/(AQ4-AO20)","v":0.58333333333333337},{"$f":"IF(AP18=0,0,(AP18*((LOG(AP18))/LOG(2))))","v":-0.45360442088707198},null,{"$f":"N18","v":2122},{"$f":"COUNTIF(L88:L103,AS18)","v":7},{"$f":"AT18/(AV4-AT20)","v":0.53846153846153844},{"$f":"IF(AU18=0,0,(AU18*((LOG(AU18))/LOG(2))))","v":-0.48089181327572433}]
[21,2058,12,2066,24,2075,14,2084,null,null,0,2121,null,2211,{"$f":"COUNTIF($L$7:$L$500,N19)","v":1},{"$f":"O19/$Q$4","v":1.0416666666666666E-2},{"$f":"IF(P19=0,0,(P19*((LOG(P19))/LOG(2))))","v":-6.8593359382512042E-2},null,null,{"$f":"N19","v":2211},{"$f":"COUNTIF(L7:L22,T19)","v":0},{"$f":"U19/(W4-U20)","v":0},{"$f":"IF(V19=0,0,(V19*((LOG(V19))/LOG(2))))","v":0},null,{"$f":"N19","v":2211},{"$f":"COUNTIF(L23:L38,Y19)","v":0},{"$f":"Z19/(AB4-Z20)","v":0},{"$f":"IF(AA19=0,0,(AA19*((LOG(AA19))/LOG(2))))","v":0},null,{"$f":"N19","v":2211},{"$f":"COUNTIF(L39:L55,AD19)","v":0},{"$f":"AE19/(AG4-AE20)","v":0},{"$f":"IF(AF19=0,0,(AF19*((LOG(AF19))/LOG(2))))","v":0},null,{"$f":"N19","v":2211},{"$f":"COUNTIF(L56:L71,AI19)","v":1},{"$f":"AJ19/(AL4-AJ20)","v":7.6923076923076927E-2},{"$f":"IF(AK19=0,0,(AK19*((LOG(AK19))/LOG(2))))","v":-0.28464920908777636},null,{"$f":"N19","v":2211},{"$f":"COUNTIF(L72:L87,AN19)","v":0},{"$f":"AO19/(AQ4-AO20)","v":0},{"$f":"IF(AP19=0,0,(AP19*((LOG(AP19))/LOG(2))))","v":0},null,{"$f":"N19","v":2211},{"$f":"COUNTIF(L88:L103,AS19)","v":0},{"$f":"AT19/(AV4-AT20)","v":0},{"$f":"IF(AU19=0,0,(AU19*((LOG(AU19))/LOG(2))))","v":0}]
[21,2191,21,2210,11,2236,21,2253,null,null,0,2212,null,2212,{"$f":"COUNTIF($L$7:$L$500,N20)","v":29},{"$f":"O20/$Q$4","v":0.30208333333333331},{"$f":"IF(P20=0,0,(P20*((LOG(P20))/LOG(2))))","v":-0.52169232981472857},null,null,{"$f":"N20","v":2212},{"$f":"COUNTIF(L7:L22,T20)","v":6},null,null,null,{"$f":"N20","v":2212},{"$f":"COUNTIF(L23:L38,Y20)","v":9},null,null,null,{"$f":"N20","v":2212},{"$f":"COUNTIF(L39:L55,AD20)","v":5},null,null,null,{"$f":"N20","v":2212},{"$f":"COUNTIF(L56:L71,AI20)","v":3},null,null,null,{"$f":"N20","v":2212},{"$f":"COUNTIF(L72:L87,AN20)","v":4},null,null,null,{"$f":"N20","v":2212},{"$f":"COUNTIF(L88:L103,AS20)","v":2}]
[12,2389,23,2435,24,2443,23,2501,null,null,0,1222,null,2221,{"$f":"COUNTIF($L$7:$L$500,N21)","v":11},{"$f":"O21/$Q$4","v":0.11458333333333333},{"$f":"IF(P21=0,0,(P21*((LOG(P21))/LOG(2))))","v":-0.35813374690544214},null,null,{"$f":"N21","v":2221},{"$f":"COUNTIF(L7:L22,T21)","v":1},{"$f":"U21/(W4-U20)","v":0.1},{"$f":"IF(V21=0,0,(V21*((LOG(V21))/LOG(2))))","v":-0.33219280948873625},null,{"$f":"N21","v":2221},{"$f":"COUNTIF(L23:L38,Y21)","v":1},{"$f":"Z21/(AB4-Z20)","v":0.14285714285714285},{"$f":"IF(AA21=0,0,(AA21*((LOG(AA21))/LOG(2))))","v":-0.40105070315108626},null,{"$f":"N21","v":2221},{"$f":"COUNTIF(L39:L55,AD21)","v":4},{"$f":"AE21/(AG4-AE20)","v":0.33333333333333331},{"$f":"IF(AF21=0,0,(AF21*((LOG(AF21))/LOG(2))))","v":-0.52832083357371862},null,{"$f":"N21","v":2221},{"$f":"COUNTIF(L56:L71,AI21)","v":3},{"$f":"AJ21/(AL4-AJ20)","v":0.23076923076923078},{"$f":"IF(AK21=0,0,(AK21*((LOG(AK21))/LOG(2))))","v":-0.48818705017383146},null,{"$f":"N21","v":2221},{"$f":"COUNTIF(L72:L87,AN21)","v":1},{"$f":"AO21/(AQ4-AO20)","v":8.3333333333333329E-2},{"$f":"IF(AP21=0,0,(AP21*((LOG(AP21))/LOG(2))))","v":-0.29874687506009634},null,{"$f":"N21","v":2221},{"$f":"COUNTIF(L88:L103,AS21)","v":1},{"$f":"AT21/(AV4-AT20)","v":7.6923076923076927E-2},{"$f":"IF(AU21=0,0,(AU21*((LOG(AU21))/LOG(2))))","v":-0.28464920908777636}]
[21,2608,21,2628,11,2636,21,2659,null,null,0,2212,null,2222,{"$f":"COUNTIF($L$7:$L$500,N22)","v":6},{"$f":"O22/$Q$4","v":6.25E-2},{"$f":"IF(P22=0,0,(P22*((LOG(P22))/LOG(2))))","v":-0.25},null,null,{"$f":"N22","v":2222},{"$f":"COUNTIF(L7:L22,T22)","v":0},{"$f":"U22/(W4-U20)","v":0},{"$f":"IF(V22=0,0,(V22*((LOG(V22))/LOG(2))))","v":0},null,{"$f":"N22","v":2222},{"$f":"COUNTIF(L23:L38,Y22)","v":0},{"$f":"Z22/(AB4-Z20)","v":0},{"$f":"IF(AA22=0,0,(AA22*((LOG(AA22))/LOG(2))))","v":0},null,{"$f":"N22","v":2222},{"$f":"COUNTIF(L39:L55,AD22)","v":0},{"$f":"AE22/(AG4-AE20)","v":0},{"$f":"IF(AF22=0,0,(AF22*((LOG(AF22))/LOG(2))))","v":0},null,{"$f":"N22","v":2222},{"$f":"COUNTIF(L56:L71,AI22)","v":1},{"$f":"AJ22/(AL4-AJ20)","v":7.6923076923076927E-2},{"$f":"IF(AK22=0,0,(AK22*((LOG(AK22))/LOG(2))))","v":-0.28464920908777636},null,{"$f":"N22","v":2222},{"$f":"COUNTIF(L72:L87,AN22)","v":4},{"$f":"AO22/(AQ4-AO20)","v":0.33333333333333331},{"$f":"IF(AP22=0,0,(AP22*((LOG(AP22))/LOG(2))))","v":-0.52832083357371862},null,{"$f":"N22","v":2222},{"$f":"COUNTIF(L88:L103,AS22)","v":1},{"$f":"AT22/(AV4-AT20)","v":7.6923076923076927E-2},{"$f":"IF(AU22=0,0,(AU22*((LOG(AU22))/LOG(2))))","v":-0.28464920908777636}]
[21,2755,12,2776,24,2785,23,2792,null,null,0,2122,null,null,null,{"$f":"SUM(P7:P22)","v":0.99999999999999989},{"$f":"-SUM(Q7:Q22)","v":2.577570478069831},null,null,null,null,{"$f":"SUM(V7:V22)","v":0.99999999999999989},{"$f":"-SUM(W7:W22)","v":2.6464393446710157},null,null,null,{"$f":"SUM(AA7:AA22)","v":1},{"$f":"-SUM(AB7:AB22)","v":1.1488348542809166},null,null,null,{"$f":"SUM(AF7:AF22)","v":1},{"$f":"-SUM(AG7:AG22)","v":1.8553885422075336},null,null,null,{"$f":"SUM(AK7:AK22)","v":1},{"$f":"-SUM(AL7:AL22)","v":2.1416195253341384},null,null,null,{"$f":"SUM(AP7:AP22)","v":1},{"$f":"-SUM(AQ7:AQ22)","v":1.2806721295208869},null,null,null,{"$f":"SUM(AU7:AU22)","v":1},{"$f":"-SUM(AV7:AV22)","v":2.0349409139562287}]
[21,2895,21,2903,11,2911,21,2955,null,null,0,2212,null,null,null,"U=",{"$f":"Q23/(LOG(Q4)/LOG(2))","v":0.39143282559126902},null,null,null,null,"U1=",{"$f":"W23/(LOG(W4)/LOG(2))","v":0.66160983616775393},null,null,null,"U2=",{"$f":"AB23/(LOG(AB4)/LOG(2))","v":0.28720871357022915},null,null,null,"U3=",{"$f":"AG23/(LOG(AG4)/LOG(2))","v":0.45392181269101822},null,null,null,"U4=",{"$f":"AL23/(LOG(AL4)/LOG(2))","v":0.53540488133353459},null,null,null,"U5=",{"$f":"AQ23/(LOG(AQ4)/LOG(2))","v":0.32016803238022173},null,null,null,"U6=",{"$f":"AV23/(LOG(AV4)/LOG(2))","v":0.52085945694091695}]
[21,3049,21,3070,11,3077,21,3086,null,null,0,2212]
[21,3181,21,3197,11,3206,21,3231,null,null,0,2212]
[21,3340,21,3359,11,3367,21,3405,null,null,0,2212,null,"Total Target Seq"]
[21,3518,21,3534,22,3698,14,3708,null,null,0,2221,null,{"$f":"COUNTIF(L7:L103,G3)","v":29},null,16,16,17,16,16,16]
[21,3820,21,3837,11,3845,21,3854,null,null,0,2212,null,null,null,"% of reinforcement given in 6 equal intervals based on number of trials "]
[21,3942,12,3974,24,3983,23,3997,null,null,0,2122,null,null,null,"%_1","%_2","%_3","%_4","%_5","%_6"]
[21,4113,21,4125,11,4132,21,4145,null,null,0,2212,null,null,"target sequence",{"$f":"$G$3","v":2212},{"$f":"$G$3","v":2212},{"$f":"$G$3","v":2212},{"$f":"$G$3","v":2212},{"$f":"$G$3","v":2212},{"$f":"$G$3","v":2212}]
[21,4269,12,4276,24,4342,23,4367,null,null,0,2122,null,null,"total reinforcement",{"$f":"U20","v":6},{"$f":"Z20","v":9},{"$f":"AE20","v":5},{"$f":"AJ20","v":3},{"$f":"AO20","v":4},{"$f":"AT20","v":2}]
[21,4475,21,4497,11,4504,21,4520,null,null,0,2212,null,null,"% target"]
[21,4638,12,4645,24,4660,23,4690,null,null,0,2122,null,null,"CCRF"]
[21,4792,21,4809,11,4817,21,4824,null,null,0,2212,null,null,"% CCRf"]
[21,4917,21,4928,11,4936,21,4945,null,null,0,2212,null,null,"average response rate",{"$f":"H22/P28","v":166.1875},{"$f":"(H38-H22)/Q28","v":173},{"$f":"(H55-H38)/R28","v":154.88235294117646},{"$f":"(H71-H55)/S28","v":156.25},{"$f":"(H87-H71)/T28","v":508.5},{"$f":"(H103-H87)/U28","v":-1168.5}]
[12,5050,23,5075,24,5126,23,5248,null,null,0,1222]
[21,5361,12,5389,24,5412,23,5427,null,null,0,2122]
[21,5540,12,5548,13,5576,23,5615,null,null,0,2112]
[21,5719,12,5727,24,5735,14,5744,null,null,0,2121]
[21,5851,21,5879,11,5887,21,5901,null,null,0,2212]
[21,6023,12,6031,24,6094,23,6101,null,null,0,2122]
[21,6221,12,6229,24,6238,23,6248,null,null,0,2122]
[21,6356,12,6364,13,6379,23,6493,null,null,0,2112]
[21,6595,21,6605,22,6615,14,6623,null,null,0,2221]
[21,6728,21,6738,11,6745,21,6753,null,null,0,2212]
[21,6842,12,6852,13,6867,23,6876,null,null,0,2112]
[21,6976,21,6984,22,7002,14,7009,null,null,0,2221]
[21,7108,21,7116,22,7124,14,7143,null,null,0,2221]
[21,7251,21,7260,11,7269,21,7285,null,null,0,2212]
[21,7377,21,7398,11,7407,21,7455,null,null,0,2212]
[21,7572,12,7580,24,7612,23,7629,null,null,0,2122]
[21,7732,21,7742,22,7756,14,7764,null,null,0,2221]
[21,7862,21,7877,11,7884,21,7908,null,null,0,2212]
[21,8029,12,8037,24,8052,23,8060,null,null,0,2122]
[12,8201,23,8209,24,8224,23,8275,null,null,0,1222]
[21,8378,12,8400,24,8409,23,8437,null,null,0,2122]
[21,8546,21,8561,11,8569,21,8597,null,null,0,2212]
[21,8719,12,8727,24,8762,23,8776,null,null,0,2122]
[21,8880,21,8900,11,8907,12,8926,null,null,0,2211]
[21,9029,21,9036,22,9051,23,9081,null,null,0,2222]
[21,9191,21,9199,22,9222,14,9231,null,null,0,2221]
[21,9332,21,9337,22,9352,14,9359,null,null,0,2221]
[12,9482,23,9490,13,9500,23,9508,null,null,0,1212]
[21,9622,21,9632,11,9639,21,9655,null,null,0,2212]
[21,9771,12,9778,24,9792,23,9815,null,null,0,2122]
[21,9926,21,9938,22,9946,14,9954,null,null,0,2221]
[21,10066,12,10074,24,10089,23,10097,null,null,0,2122]
[21,10220,12,10228,24,10252,23,10268,null,null,0,2122]
[21,10371,21,10390,11,10398,21,10420,null,null,0,2212]
[21,10534,12,10542,24,10552,23,10560,null,null,0,2122]
[21,10663,21,10673,11,10681,21,10690,null,null,0,2212]
[21,10783,21,10790,11,10812,21,10836,null,null,0,2212]
[21,10957,21,10962,11,10969,21,10985,null,null,0,2212]
[21,11089,12,11097,24,11123,23,11146,null,null,0,2122]
[21,11253,21,11279,22,11294,23,11379,null,null,0,2222]
[21,11502,12,11510,24,11519,23,11526,null,null,0,2122]
[21,11643,12,11652,24,11661,23,11668,null,null,0,2122]
[21,11782,12,11790,24,11798,23,11806,null,null,0,2122]
[21,11933,12,11954,24,11990,23,12020,null,null,0,2122]
[21,12161,12,12169,24,12187,23,12201,null,null,0,2122]
[21,12306,12,12323,24,12332,23,12340,null,null,0,2122]
[21,12438,21,12445,22,12454,14,12465,null,null,0,2221]
[21,12655,21,12675,22,12694,23,12703,null,null,0,2222]
[21,18185,21,18264,11,18332,21,18345,null,null,0,2212]
[21,18446,21,18454,22,18513,23,18540,null,null,0,2222]
[21,18658,21,18668,22,18687,23,18696,null,null,0,2222]
[21,18801,12,18821,24,18837,23,18858,null,null,0,2122]
[21,18974,12,18987,24,19016,23,19026,null,null,0,2122]
[21,19135,12,19173,24,19199,23,19207,null,null,0,2122]
[21,19324,12,19354,24,19379,23,19391,null,null,0,2122]
[21,19521,12,19529,24,19542,23,19688,null,null,0,2122]
[21,19813,12,19821,24,19833,23,19842,null,null,0,2122]
[21,19943,21,19951,22,19969,14,19984,null,null,0,2221]
[21,20097,21,20109,11,20117,21,20156,null,null,0,2212]
[21,20245,21,20254,11,20275,21,20301,null,null,0,2212]
[12,20412,23,20435,24,20470,23,20710,null,null,0,1222]
[12,20837,23,20849,24,20861,14,20912,null,null,0,1221]
[21,21026,12,21046,24,21068,23,21085,null,null,0,2122]
[21,21187,12,21214,24,21341,14,21375,null,null,0,2121]
[12,21502,23,21511,24,21538,23,21547,null,null,0,1222]
[21,21688,21,21717,22,21725,23,21890,null,null,0,2222]
[21,21991,21,21998,22,22019,null,null,null,null,null,222]

{"sheet":"!N128A10.095","index":29,"n_rows":121,"n_cols":48,"rows_kept":121,"cut":false,"hidden":false,"merged":[[4,39,4,42],[5,39,5,40],[4,44,4,47],[5,44,5,45],[4,24,4,27],[5,24,5,25],[4,29,4,32],[5,29,5,30],[4,34,4,37],[5,34,5,35],[1,1,1,2],[5,13,5,14],[26,13,26,14],[27,13,27,14],[4,19,4,22],[5,19,5,20]]}
["Report for:!N128A10.095"]
["Date:","<date>"]
["Hen:","<hen>",null,null,null,"Correct Sequence",{"$f":"Start!J2","v":2212},null,null,null,null,null,null,null,null,"Total Sequences in Data",{"$f":"4994-COUNTBLANK(L7:L5000)","v":115},null,null,null,null,"Total Sequences in Block Data",{"$f":"COUNTA(L7:L25)","v":19},null,null,null,"Total Sequences in Block Data",{"$f":"COUNTA(L26:L44)","v":19},null,null,null,"Total Sequences in Block Data",{"$f":"COUNTA(L45:L64)","v":20},null,null,null,"Total Sequences in Block Data",{"$f":"COUNTA(L65:L83)","v":19},null,null,null,"Total Sequences in Block Data",{"$f":"COUNTA(L84:L102)","v":19},null,null,null,"Total Sequences in Block Data",{"$f":"COUNTA(L103:L121)","v":19}]
[null,null,null,null,null,null,null,null,null,null,null,null,null,null,null,"Total Sequences in Summary",{"$f":"SUM(O7:O22)","v":115},null,null,null,null,"Total Sequences in Block Summary",{"$f":"SUM(U7:U22)","v":19},null,null,null,"Total Sequences in Block Summary",{"$f":"SUM(Z7:Z22)","v":19},null,null,null,"Total Sequences in Block Summary",{"$f":"SUM(AE7:AE22)","v":20},null,null,null,"Total Sequences in Block Summary",{"$f":"SUM(AJ7:AJ22)","v":19},null,null,null,"Total Sequences in Block Summary",{"$f":"SUM(AO7:AO22)","v":19},null,null,null,"Total Sequences in Block Summary",{"$f":"SUM(AT7:AT22)","v":19}]
[null,null,null,null,null,null,null,null,null,null,null,null,null,null,null,null,null,null,null,"Block 1",null,null,null,null,"Block 2",null,null,null,null,"Block 3",null,null,null,null,"Block 4",null,null,null,null,"Block 5",null,null,null,null,"Block 6"]
["Sequence\nComponent\n1","Time\n1","Sequence\nComponent\n2","Time\n2","Sequence\nComponent\n3","Time\n3","Sequence\nComponent\n4","Time\n4","Sequence\nComponent\n5","Time\n5","Correct?\n0=No 1=Yes","Sequence",null,"Frequency",null,"Relative Frequency","Variability",null,null,"Frequency",null,"Relative Frequency","Variability",null,"Frequency",null,"Relative Frequency","Variability",null,"Frequency",null,"Relative Frequency","Variability",null,"Frequency",null,"Relative Frequency","Variability",null,"Frequency",null,"Relative Frequency","Variability",null,"Frequency",null,"Relative Frequency","Variability"]
[21,17,21,32,11,49,12,70,null,null,0,2211,null,1111,{"$f":"COUNTIF($L$7:$L$500,N7)","v":0},{"$f":"O7/$Q$4","v":0},{"$f":"IF(P7=0,0,(P7*((LOG(P7))/LOG(2))))","v":0},null,null,{"$f":"N7","v":1111},{"$f":"COUNTIF(L7:L25,T7)","v":0},{"$f":"U7/(W4-U20)","v":0},{"$f":"IF(V7=0,0,(V7*((LOG(V7))/LOG(2))))","v":0},null,{"$f":"N7","v":1111},{"$f":"COUNTIF(L26:L44,Y7)","v":0},{"$f":"Z7/(AB4-Z20)","v":0},{"$f":"IF(AA7=0,0,(AA7*((LOG(AA7))/LOG(2))))","v":0},null,{"$f":"N7","v":1111},{"$f":"COUNTIF(L45:L64,AD7)","v":0},{"$f":"AE7/(AG4-AE20)","v":0},{"$f":"IF(AF7=0,0,(AF7*((LOG(AF7))/LOG(2))))","v":0},null,{"$f":"N7","v":1111},{"$f":"COUNTIF(L65:L83,AI7)","v":0},{"$f":"AJ7/(AL4-AJ20)","v":0},{"$f":"IF(AK7=0,0,(AK7*((LOG(AK7))/LOG(2))))","v":0},null,{"$f":"N7","v":1111},{"$f":"COUNTIF(L84:L102,AN7)","v":0},{"$f":"AO7/(AQ4-AO20)","v":0},{"$f":"IF(AP7=0,0,(AP7*((LOG(AP7))/LOG(2))))","v":0},null,{"$f":"N7","v":1111},{"$f":"COUNTIF(L103:L121,AS7)","v":0},{"$f":"AT7/(AV4-AT20)","v":0},{"$f":"IF(AU7=0,0,(AU7*((LOG(AU7))/LOG(2))))","v":0}]
[21,177,12,188,13,210,23,218,null,null,0,2112,null,1112,{"$f":"COUNTIF($L$7:$L$500,N8)","v":0},{"$f":"O8/$Q$4","v":0},{"$f":"IF(P8=0,0,(P8*((LOG(P8))/LOG(2))))","v":0},null,null,{"$f":"N8","v":1112},{"$f":"COUNTIF(L7:L25,T8)","v":0},{"$f":"U8/(W4-U20)","v":0},{"$f":"IF(V8=0,0,(V8*((LOG(V8))/LOG(2))))","v":0},null,{"$f":"N8","v":1112},{"$f":"COUNTIF(L26:L44,Y8)","v":0},{"$f":"Z8/(AB4-Z20)","v":0},{"$f":"IF(AA8=0,0,(AA8*((LOG(AA8))/LOG(2))))","v":0},null,{"$f":"N8","v":1112},{"$f":"COUNTIF(L45:L64,AD8)","v":0},{"$f":"AE8/(AG4-AE20)","v":0},{"$f":"IF(AF8=0,0,(AF8*((LOG(AF8))/LOG(2))))","v":0},null,{"$f":"N8","v":1112},{"$f":"COUNTIF(L65:L83,AI8)","v":0},{"$f":"AJ8/(AL4-AJ20)","v":0},{"$f":"IF(AK8=0,0,(AK8*((LOG(AK8))/LOG(2))))","v":0},null,{"$f":"N8","v":1112},{"$f":"COUNTIF(L84:L102,AN8)","v":0},{"$f":"AO8/(AQ4-AO20)","v":0},{"$f":"IF(AP8=0,0,(AP8*((LOG(AP8))/LOG(2))))","v":0},null,{"$f":"N8","v":1112},{"$f":"COUNTIF(L103:L121,AS8)","v":0},{"$f":"AT8/(AV4-AT20)","v":0},{"$f":"IF(AU8=0,0,(AU8*((LOG(AU8))/LOG(2))))","v":0}]
[21,320,21,325,11,355,21,381,null,null,0,2212,null,1121,{"$f":"COUNTIF($L$7:$L$500,N9)","v":2},{"$f":"O9/$Q$4","v":1.7391304347826087E-2},{"$f":"IF(P9=0,0,(P9*((LOG(P9))/LOG(2))))","v":-0.10166069653816305},null,null,{"$f":"N9","v":1121},{"$f":"COUNTIF(L7:L25,T9)","v":0},{"$f":"U9/(W4-U20)","v":0},{"$f":"IF(V9=0,0,(V9*((LOG(V9))/LOG(2))))","v":0},null,{"$f":"N9","v":1121},{"$f":"COUNTIF(L26:L44,Y9)","v":0},{"$f":"Z9/(AB4-Z20)","v":0},{"$f":"IF(AA9=0,0,(AA9*((LOG(AA9))/LOG(2))))","v":0},null,{"$f":"N9","v":1121},{"$f":"COUNTIF(L45:L64,AD9)","v":1},{"$f":"AE9/(AG4-AE20)","v":6.25E-2},{"$f":"IF(AF9=0,0,(AF9*((LOG(AF9))/LOG(2))))","v":-0.25},null,{"$f":"N9","v":1121},{"$f":"COUNTIF(L65:L83,AI9)","v":1},{"$f":"AJ9/(AL4-AJ20)","v":7.1428571428571425E-2},{"$f":"IF(AK9=0,0,(AK9*((LOG(AK9))/LOG(2))))","v":-0.27195392300411453},null,{"$f":"N9","v":1121},{"$f":"COUNTIF(L84:L102,AN9)","v":0},{"$f":"AO9/(AQ4-AO20)","v":0},{"$f":"IF(AP9=0,0,(AP9*((LOG(AP9))/LOG(2))))","v":0},null,{"$f":"N9","v":1121},{"$f":"COUNTIF(L103:L121,AS9)","v":0},{"$f":"AT9/(AV4-AT20)","v":0},{"$f":"IF(AU9=0,0,(AU9*((LOG(AU9))/LOG(2))))","v":0}]
[12,513,23,548,24,558,23,591,null,null,0,1222,null,1122,{"$f":"COUNTIF($L$7:$L$500,N10)","v":3},{"$f":"O10/$Q$4","v":2.6086956521739129E-2},{"$f":"IF(P10=0,0,(P10*((LOG(P10))/LOG(2))))","v":-0.13723115348408396},null,null,{"$f":"N10","v":1122},{"$f":"COUNTIF(L7:L25,T10)","v":0},{"$f":"U10/(W4-U20)","v":0},{"$f":"IF(V10=0,0,(V10*((LOG(V10))/LOG(2))))","v":0},null,{"$f":"N10","v":1122},{"$f":"COUNTIF(L26:L44,Y10)","v":2},{"$f":"Z10/(AB4-Z20)","v":0.11764705882352941},{"$f":"IF(AA10=0,0,(AA10*((LOG(AA10))/LOG(2))))","v":-0.36323092250003997},null,{"$f":"N10","v":1122},{"$f":"COUNTIF(L45:L64,AD10)","v":1},{"$f":"AE10/(AG4-AE20)","v":6.25E-2},{"$f":"IF(AF10=0,0,(AF10*((LOG(AF10))/LOG(2))))","v":-0.25},null,{"$f":"N10","v":1122},{"$f":"COUNTIF(L65:L83,AI10)","v":0},{"$f":"AJ10/(AL4-AJ20)","v":0},{"$f":"IF(AK10=0,0,(AK10*((LOG(AK10))/LOG(2))))","v":0},null,{"$f":"N10","v":1122},{"$f":"COUNTIF(L84:L102,AN10)","v":0},{"$f":"AO10/(AQ4-AO20)","v":0},{"$f":"IF(AP10=0,0,(AP10*((LOG(AP10))/LOG(2))))","v":0},null,{"$f":"N10","v":1122},{"$f":"COUNTIF(L103:L121,AS10)","v":0},{"$f":"AT10/(AV4-AT20)","v":0},{"$f":"IF(AU10=0,0,(AU10*((LOG(AU10))/LOG(2))))","v":0}]
[21,698,21,709,11,729,21,784,null,null,0,2212,null,1211,{"$f":"COUNTIF($L$7:$L$500,N11)","v":1},{"$f":"O11/$Q$4","v":8.6956521739130436E-3},{"$f":"IF(P11=0,0,(P11*((LOG(P11))/LOG(2))))","v":-5.9526000442994574E-2},null,null,{"$f":"N11","v":1211},{"$f":"COUNTIF(L7:L25,T11)","v":0},{"$f":"U11/(W4-U20)","v":0},{"$f":"IF(V11=0,0,(V11*((LOG(V11))/LOG(2))))","v":0},null,{"$f":"N11","v":1211},{"$f":"COUNTIF(L26:L44,Y11)","v":0},{"$f":"Z11/(AB4-Z20)","v":0},{"$f":"IF(AA11=0,0,(AA11*((LOG(AA11))/LOG(2))))","v":0},null,{"$f":"N11","v":1211},{"$f":"COUNTIF(L45:L64,AD11)","v":0},{"$f":"AE11/(AG4-AE20)","v":0},{"$f":"IF(AF11=0,0,(AF11*((LOG(AF11))/LOG(2))))","v":0},null,{"$f":"N11","v":1211},{"$f":"COUNTIF(L65:L83,AI11)","v":1},{"$f":"AJ11/(AL4-AJ20)","v":7.1428571428571425E-2},{"$f":"IF(AK11=0,0,(AK11*((LOG(AK11))/LOG(2))))","v":-0.27195392300411453},null,{"$f":"N11","v":1211},{"$f":"COUNTIF(L84:L102,AN11)","v":0},{"$f":"AO11/(AQ4-AO20)","v":0},{"$f":"IF(AP11=0,0,(AP11*((LOG(AP11))/LOG(2))))","v":0},null,{"$f":"N11","v":1211},{"$f":"COUNTIF(L103:L121,AS11)","v":0},{"$f":"AT11/(AV4-AT20)","v":0},{"$f":"IF(AU11=0,0,(AU11*((LOG(AU11))/LOG(2))))","v":0}]
[21,942,21,950,11,959,21,1005,null,null,0,2212,null,1212,{"$f":"COUNTIF($L$7:$L$500,N12)","v":3},{"$f":"O12/$Q$4","v":2.6086956521739129E-2},{"$f":"IF(P12=0,0,(P12*((LOG(P12))/LOG(2))))","v":-0.13723115348408396},null,null,{"$f":"N12","v":1212},{"$f":"COUNTIF(L7:L25,T12)","v":0},{"$f":"U12/(W4-U20)","v":0},{"$f":"IF(V12=0,0,(V12*((LOG(V12))/LOG(2))))","v":0},null,{"$f":"N12","v":1212},{"$f":"COUNTIF(L26:L44,Y12)","v":1},{"$f":"Z12/(AB4-Z20)","v":5.8823529411764705E-2},{"$f":"IF(AA12=0,0,(AA12*((LOG(AA12))/LOG(2))))","v":-0.24043899066178465},null,{"$f":"N12","v":1212},{"$f":"COUNTIF(L45:L64,AD12)","v":0},{"$f":"AE12/(AG4-AE20)","v":0},{"$f":"IF(AF12=0,0,(AF12*((LOG(AF12))/LOG(2))))","v":0},null,{"$f":"N12","v":1212},{"$f":"COUNTIF(L65:L83,AI12)","v":0},{"$f":"AJ12/(AL4-AJ20)","v":0},{"$f":"IF(AK12=0,0,(AK12*((LOG(AK12))/LOG(2))))","v":0},null,{"$f":"N12","v":1212},{"$f":"COUNTIF(L84:L102,AN12)","v":1},{"$f":"AO12/(AQ4-AO20)","v":7.6923076923076927E-2},{"$f":"IF(AP12=0,0,(AP12*((LOG(AP12))/LOG(2))))","v":-0.28464920908777636},null,{"$f":"N12","v":1212},{"$f":"COUNTIF(L103:L121,AS12)","v":1},{"$f":"AT12/(AV4-AT20)","v":8.3333333333333329E-2},{"$f":"IF(AU12=0,0,(AU12*((LOG(AU12))/LOG(2))))","v":-0.29874687506009634}]
[21,1130,12,1140,24,1214,23,1230,null,null,0,2122,null,1221,{"$f":"COUNTIF($L$7:$L$500,N13)","v":1},{"$f":"O13/$Q$4","v":8.6956521739130436E-3},{"$f":"IF(P13=0,0,(P13*((LOG(P13))/LOG(2))))","v":-5.9526000442994574E-2},null,null,{"$f":"N13","v":1221},{"$f":"COUNTIF(L7:L25,T13)","v":0},{"$f":"U13/(W4-U20)","v":0},{"$f":"IF(V13=0,0,(V13*((LOG(V13))/LOG(2))))","v":0},null,{"$f":"N13","v":1221},{"$f":"COUNTIF(L26:L44,Y13)","v":1},{"$f":"Z13/(AB4-Z20)","v":5.8823529411764705E-2},{"$f":"IF(AA13=0,0,(AA13*((LOG(AA13))/LOG(2))))","v":-0.24043899066178465},null,{"$f":"N13","v":1221},{"$f":"COUNTIF(L45:L64,AD13)","v":0},{"$f":"AE13/(AG4-AE20)","v":0},{"$f":"IF(AF13=0,0,(AF13*((LOG(AF13))/LOG(2))))","v":0},null,{"$f":"N13","v":1221},{"$f":"COUNTIF(L65:L83,AI13)","v":0},{"$f":"AJ13/(AL4-AJ20)","v":0},{"$f":"IF(AK13=0,0,(AK13*((LOG(AK13))/LOG(2))))","v":0},null,{"$f":"N13","v":1221},{"$f":"COUNTIF(L84:L102,AN13)","v":0},{"$f":"AO13/(AQ4-AO20)","v":0},{"$f":"IF(AP13=0,0,(AP13*((LOG(AP13))/LOG(2))))","v":0},null,{"$f":"N13","v":1221},{"$f":"COUNTIF(L103:L121,AS13)","v":0},{"$f":"AT13/(AV4-AT20)","v":0},{"$f":"IF(AU13=0,0,(AU13*((LOG(AU13))/LOG(2))))","v":0}]
[21,1365,12,1373,24,1381,23,1403,null,null,0,2122,null,1222,{"$f":"COUNTIF($L$7:$L$500,N14)","v":9},{"$f":"O14/$Q$4","v":7.8260869565217397E-2},{"$f":"IF(P14=0,0,(P14*((LOG(P14))/LOG(2))))","v":-0.28765291691755279},null,null,{"$f":"N14","v":1222},{"$f":"COUNTIF(L7:L25,T14)","v":2},{"$f":"U14/(W4-U20)","v":0.16666666666666666},{"$f":"IF(V14=0,0,(V14*((LOG(V14))/LOG(2))))","v":-0.43082708345352599},null,{"$f":"N14","v":1222},{"$f":"COUNTIF(L26:L44,Y14)","v":3},{"$f":"Z14/(AB4-Z20)","v":0.17647058823529413},{"$f":"IF(AA14=0,0,(AA14*((LOG(AA14))/LOG(2))))","v":-0.44161770715220888},null,{"$f":"N14","v":1222},{"$f":"COUNTIF(L45:L64,AD14)","v":1},{"$f":"AE14/(AG4-AE20)","v":6.25E-2},{"$f":"IF(AF14=0,0,(AF14*((LOG(AF14))/LOG(2))))","v":-0.25},null,{"$f":"N14","v":1222},{"$f":"COUNTIF(L65:L83,AI14)","v":1},{"$f":"AJ14/(AL4-AJ20)","v":7.1428571428571425E-2},{"$f":"IF(AK14=0,0,(AK14*((LOG(AK14))/LOG(2))))","v":-0.27195392300411453},null,{"$f":"N14","v":1222},{"$f":"COUNTIF(L84:L102,AN14)","v":2},{"$f":"AO14/(AQ4-AO20)","v":0.15384615384615385},{"$f":"IF(AP14=0,0,(AP14*((LOG(AP14))/LOG(2))))","v":-0.4154522643293988},null,{"$f":"N14","v":1222},{"$f":"COUNTIF(L103:L121,AS14)","v":0},{"$f":"AT14/(AV4-AT20)","v":0},{"$f":"IF(AU14=0,0,(AU14*((LOG(AU14))/LOG(2))))","v":0}]
[21,1509,21,1526,11,1534,21,1543,null,null,0,2212,null,2111,{"$f":"COUNTIF($L$7:$L$500,N15)","v":2},{"$f":"O15/$Q$4","v":1.7391304347826087E-2},{"$f":"IF(P15=0,0,(P15*((LOG(P15))/LOG(2))))","v":-0.10166069653816305},null,null,{"$f":"N15","v":2111},{"$f":"COUNTIF(L7:L25,T15)","v":0},{"$f":"U15/(W4-U20)","v":0},{"$f":"IF(V15=0,0,(V15*((LOG(V15))/LOG(2))))","v":0},null,{"$f":"N15","v":2111},{"$f":"COUNTIF(L26:L44,Y15)","v":0},{"$f":"Z15/(AB4-Z20)","v":0},{"$f":"IF(AA15=0,0,(AA15*((LOG(AA15))/LOG(2))))","v":0},null,{"$f":"N15","v":2111},{"$f":"COUNTIF(L45:L64,AD15)","v":1},{"$f":"AE15/(AG4-AE20)","v":6.25E-2},{"$f":"IF(AF15=0,0,(AF15*((LOG(AF15))/LOG(2))))","v":-0.25},null,{"$f":"N15","v":2111},{"$f":"COUNTIF(L65:L83,AI15)","v":1},{"$f":"AJ15/(AL4-AJ20)","v":7.1428571428571425E-2},{"$f":"IF(AK15=0,0,(AK15*((LOG(AK15))/LOG(2))))","v":-0.27195392300411453},null,{"$f":"N15","v":2111},{"$f":"COUNTIF(L84:L102,AN15)","v":0},{"$f":"AO15/(AQ4-AO20)","v":0},{"$f":"IF(AP15=0,0,(AP15*((LOG(AP15))/LOG(2))))","v":0},null,{"$f":"N15","v":2111},{"$f":"COUNTIF(L103:L121,AS15)","v":0},{"$f":"AT15/(AV4-AT20)","v":0},{"$f":"IF(AU15=0,0,(AU15*((LOG(AU15))/LOG(2))))","v":0}]
[12,1676,23,1700,24,1708,23,1722,null,null,0,1222,null,2112,{"$f":"COUNTIF($L$7:$L$500,N16)","v":4},{"$f":"O16/$Q$4","v":3.4782608695652174E-2},{"$f":"IF(P16=0,0,(P16*((LOG(P16))/LOG(2))))","v":-0.16853878438067391},null,null,{"$f":"N16","v":2112},{"$f":"COUNTIF(L7:L25,T16)","v":1},{"$f":"U16/(W4-U20)","v":8.3333333333333329E-2},{"$f":"IF(V16=0,0,(V16*((LOG(V16))/LOG(2))))","v":-0.29874687506009634},null,{"$f":"N16","v":2112},{"$f":"COUNTIF(L26:L44,Y16)","v":1},{"$f":"Z16/(AB4-Z20)","v":5.8823529411764705E-2},{"$f":"IF(AA16=0,0,(AA16*((LOG(AA16))/LOG(2))))","v":-0.24043899066178465},null,{"$f":"N16","v":2112},{"$f":"COUNTIF(L45:L64,AD16)","v":0},{"$f":"AE16/(AG4-AE20)","v":0},{"$f":"IF(AF16=0,0,(AF16*((LOG(AF16))/LOG(2))))","v":0},null,{"$f":"N16","v":2112},{"$f":"COUNTIF(L65:L83,AI16)","v":1},{"$f":"AJ16/(AL4-AJ20)","v":7.1428571428571425E-2},{"$f":"IF(AK16=0,0,(AK16*((LOG(AK16))/LOG(2))))","v":-0.27195392300411453},null,{"$f":"N16","v":2112},{"$f":"COUNTIF(L84:L102,AN16)","v":0},{"$f":"AO16/(AQ4-AO20)","v":0},{"$f":"IF(AP16=0,0,(AP16*((LOG(AP16))/LOG(2))))","v":0},null,{"$f":"N16","v":2112},{"$f":"COUNTIF(L103:L121,AS16)","v":1},{"$f":"AT16/(AV4-AT20)","v":8.3333333333333329E-2},{"$f":"IF(AU16=0,0,(AU16*((LOG(AU16))/LOG(2))))","v":-0.29874687506009634}]
[21,1824,21,1829,22,1834,14,1844,null,null,0,2221,null,2121,{"$f":"COUNTIF($L$7:$L$500,N17)","v":9},{"$f":"O17/$Q$4","v":7.8260869565217397E-2},{"$f":"IF(P17=0,0,(P17*((LOG(P17))/LOG(2))))","v":-0.28765291691755279},null,null,{"$f":"N17","v":2121},{"$f":"COUNTIF(L7:L25,T17)","v":0},{"$f":"U17/(W4-U20)","v":0},{"$f":"IF(V17=0,0,(V17*((LOG(V17))/LOG(2))))","v":0},null,{"$f":"N17","v":2121},{"$f":"COUNTIF(L26:L44,Y17)","v":1},{"$f":"Z17/(AB4-Z20)","v":5.8823529411764705E-2},{"$f":"IF(AA17=0,0,(AA17*((LOG(AA17))/LOG(2))))","v":-0.24043899066178465},null,{"$f":"N17","v":2121},{"$f":"COUNTIF(L45:L64,AD17)","v":4},{"$f":"AE17/(AG4-AE20)","v":0.25},{"$f":"IF(AF17=0,0,(AF17*((LOG(AF17))/LOG(2))))","v":-0.5},null,{"$f":"N17","v":2121},{"$f":"COUNTIF(L65:L83,AI17)","v":1},{"$f":"AJ17/(AL4-AJ20)","v":7.1428571428571425E-2},{"$f":"IF(AK17=0,0,(AK17*((LOG(AK17))/LOG(2))))","v":-0.27195392300411453},null,{"$f":"N17","v":2121},{"$f":"COUNTIF(L84:L102,AN17)","v":2},{"$f":"AO17/(AQ4-AO20)","v":0.15384615384615385},{"$f":"IF(AP17=0,0,(AP17*((LOG(AP17))/LOG(2))))","v":-0.4154522643293988},null,{"$f":"N17","v":2121},{"$f":"COUNTIF(L103:L121,AS17)","v":1},{"$f":"AT17/(AV4-AT20)","v":8.3333333333333329E-2},{"$f":"IF(AU17=0,0,(AU17*((LOG(AU17))/LOG(2))))","v":-0.29874687506009634}]
[21,1949,12,1979,24,1987,23,2009,null,null,0,2122,null,2122,{"$f":"COUNTIF($L$7:$L$500,N18)","v":38},{"$f":"O18/$Q$4","v":0.33043478260869563},{"$f":"IF(P18=0,0,(P18*((LOG(P18))/LOG(2))))","v":-0.52789022978286959},null,null,{"$f":"N18","v":2122},{"$f":"COUNTIF(L7:L25,T18)","v":6},{"$f":"U18/(W4-U20)","v":0.5},{"$f":"IF(V18=0,0,(V18*((LOG(V18))/LOG(2))))","v":-0.5},null,{"$f":"N18","v":2122},{"$f":"COUNTIF(L26:L44,Y18)","v":6},{"$f":"Z18/(AB4-Z20)","v":0.35294117647058826},{"$f":"IF(AA18=0,0,(AA18*((LOG(AA18))/LOG(2))))","v":-0.53029423783382934},null,{"$f":"N18","v":2122},{"$f":"COUNTIF(L45:L64,AD18)","v":7},{"$f":"AE18/(AG4-AE20)","v":0.4375},{"$f":"IF(AF18=0,0,(AF18*((LOG(AF18))/LOG(2))))","v":-0.52178222159979815},null,{"$f":"N18","v":2122},{"$f":"COUNTIF(L65:L83,AI18)","v":6},{"$f":"AJ18/(AL4-AJ20)","v":0.42857142857142855},{"$f":"IF(AK18=0,0,(AK18*((LOG(AK18))/LOG(2))))","v":-0.52388246628704915},null,{"$f":"N18","v":2122},{"$f":"COUNTIF(L84:L102,AN18)","v":7},{"$f":"AO18/(AQ4-AO20)","v":0.53846153846153844},{"$f":"IF(AP18=0,0,(AP18*((LOG(AP18))/LOG(2))))","v":-0.48089181327572433},null,{"$f":"N18","v":2122},{"$f":"COUNTIF(L103:L121,AS18)","v":6},{"$f":"AT18/(AV4-AT20)","v":0.5},{"$f":"IF(AU18=0,0,(AU18*((LOG(AU18))/LOG(2))))","v":-0.5}]
[21,2109,21,2118,11,2125,21,2155,null,null,0,2212,null,2211,{"$f":"COUNTIF($L$7:$L$500,N19)","v":2},{"$f":"O19/$Q$4","v":1.7391304347826087E-2},{"$f":"IF(P19=0,0,(P19*((LOG(P19))/LOG(2))))","v":-0.10166069653816305},null,null,{"$f":"N19","v":2211},{"$f":"COUNTIF(L7:L25,T19)","v":1},{"$f":"U19/(W4-U20)","v":8.3333333333333329E-2},{"$f":"IF(V19=0,0,(V19*((LOG(V19))/LOG(2))))","v":-0.29874687506009634},null,{"$f":"N19","v":2211},{"$f":"COUNTIF(L26:L44,Y19)","v":0},{"$f":"Z19/(AB4-Z20)","v":0},{"$f":"IF(AA19=0,0,(AA19*((LOG(AA19))/LOG(2))))","v":0},null,{"$f":"N19","v":2211},{"$f":"COUNTIF(L45:L64,AD19)","v":1},{"$f":"AE19/(AG4-AE20)","v":6.25E-2},{"$f":"IF(AF19=0,0,(AF19*((LOG(AF19))/LOG(2))))","v":-0.25},null,{"$f":"N19","v":2211},{"$f":"COUNTIF(L65:L83,AI19)","v":0},{"$f":"AJ19/(AL4-AJ20)","v":0},{"$f":"IF(AK19=0,0,(AK19*((LOG(AK19))/LOG(2))))","v":0},null,{"$f":"N19","v":2211},{"$f":"COUNTIF(L84:L102,AN19)","v":0},{"$f":"AO19/(AQ4-AO20)","v":0},{"$f":"IF(AP19=0,0,(AP19*((LOG(AP19))/LOG(2))))","v":0},null,{"$f":"N19","v":2211},{"$f":"COUNTIF(L103:L121,AS19)","v":0},{"$f":"AT19/(AV4-AT20)","v":0},{"$f":"IF(AU19=0,0,(AU19*((LOG(AU19))/LOG(2))))","v":0}]
[21,2263,12,2270,24,2307,23,2322,null,null,0,2122,null,2212,{"$f":"COUNTIF($L$7:$L$500,N20)","v":31},{"$f":"O20/$Q$4","v":0.26956521739130435},{"$f":"IF(P20=0,0,(P20*((LOG(P20))/LOG(2))))","v":-0.5098270083241957},null,null,{"$f":"N20","v":2212},{"$f":"COUNTIF(L7:L25,T20)","v":7},null,null,null,{"$f":"N20","v":2212},{"$f":"COUNTIF(L26:L44,Y20)","v":2},null,null,null,{"$f":"N20","v":2212},{"$f":"COUNTIF(L45:L64,AD20)","v":4},null,null,null,{"$f":"N20","v":2212},{"$f":"COUNTIF(L65:L83,AI20)","v":5},null,null,null,{"$f":"N20","v":2212},{"$f":"COUNTIF(L84:L102,AN20)","v":6},null,null,null,{"$f":"N20","v":2212},{"$f":"COUNTIF(L103:L121,AS20)","v":7}]
[21,2427,21,2431,22,2437,14,2445,null,null,0,2221,null,2221,{"$f":"COUNTIF($L$7:$L$500,N21)","v":6},{"$f":"O21/$Q$4","v":5.2173913043478258E-2},{"$f":"IF(P21=0,0,(P21*((LOG(P21))/LOG(2))))","v":-0.22228839392468971},null,null,{"$f":"N21","v":2221},{"$f":"COUNTIF(L7:L25,T21)","v":2},{"$f":"U21/(W4-U20)","v":0.16666666666666666},{"$f":"IF(V21=0,0,(V21*((LOG(V21))/LOG(2))))","v":-0.43082708345352599},null,{"$f":"N21","v":2221},{"$f":"COUNTIF(L26:L44,Y21)","v":1},{"$f":"Z21/(AB4-Z20)","v":5.8823529411764705E-2},{"$f":"IF(AA21=0,0,(AA21*((LOG(AA21))/LOG(2))))","v":-0.24043899066178465},null,{"$f":"N21","v":2221},{"$f":"COUNTIF(L45:L64,AD21)","v":0},{"$f":"AE21/(AG4-AE20)","v":0},{"$f":"IF(AF21=0,0,(AF21*((LOG(AF21))/LOG(2))))","v":0},null,{"$f":"N21","v":2221},{"$f":"COUNTIF(L65:L83,AI21)","v":0},{"$f":"AJ21/(AL4-AJ20)","v":0},{"$f":"IF(AK21=0,0,(AK21*((LOG(AK21))/LOG(2))))","v":0},null,{"$f":"N21","v":2221},{"$f":"COUNTIF(L84:L102,AN21)","v":0},{"$f":"AO21/(AQ4-AO20)","v":0},{"$f":"IF(AP21=0,0,(AP21*((LOG(AP21))/LOG(2))))","v":0},null,{"$f":"N21","v":2221},{"$f":"COUNTIF(L103:L121,AS21)","v":3},{"$f":"AT21/(AV4-AT20)","v":0.25},{"$f":"IF(AU21=0,0,(AU21*((LOG(AU21))/LOG(2))))","v":-0.5}]
[21,2549,12,2557,24,2564,23,2588,null,null,0,2122,null,2222,{"$f":"COUNTIF($L$7:$L$500,N22)","v":4},{"$f":"O22/$Q$4","v":3.4782608695652174E-2},{"$f":"IF(P22=0,0,(P22*((LOG(P22))/LOG(2))))","v":-0.16853878438067391},null,null,{"$f":"N22","v":2222},{"$f":"COUNTIF(L7:L25,T22)","v":0},{"$f":"U22/(W4-U20)","v":0},{"$f":"IF(V22=0,0,(V22*((LOG(V22))/LOG(2))))","v":0},null,{"$f":"N22","v":2222},{"$f":"COUNTIF(L26:L44,Y22)","v":1},{"$f":"Z22/(AB4-Z20)","v":5.8823529411764705E-2},{"$f":"IF(AA22=0,0,(AA22*((LOG(AA22))/LOG(2))))","v":-0.24043899066178465},null,{"$f":"N22","v":2222},{"$f":"COUNTIF(L45:L64,AD22)","v":0},{"$f":"AE22/(AG4-AE20)","v":0},{"$f":"IF(AF22=0,0,(AF22*((LOG(AF22))/LOG(2))))","v":0},null,{"$f":"N22","v":2222},{"$f":"COUNTIF(L65:L83,AI22)","v":2},{"$f":"AJ22/(AL4-AJ20)","v":0.14285714285714285},{"$f":"IF(AK22=0,0,(AK22*((LOG(AK22))/LOG(2))))","v":-0.40105070315108626},null,{"$f":"N22","v":2222},{"$f":"COUNTIF(L84:L102,AN22)","v":1},{"$f":"AO22/(AQ4-AO20)","v":7.6923076923076927E-2},{"$f":"IF(AP22=0,0,(AP22*((LOG(AP22))/LOG(2))))","v":-0.28464920908777636},null,{"$f":"N22","v":2222},{"$f":"COUNTIF(L103:L121,AS22)","v":0},{"$f":"AT22/(AV4-AT20)","v":0},{"$f":"IF(AU22=0,0,(AU22*((LOG(AU22))/LOG(2))))","v":0}]
[21,2687,21,2696,11,2703,21,2720,null,null,0,2212,null,null,null,{"$f":"SUM(P7:P22)","v":1},{"$f":"-SUM(Q7:Q22)","v":2.8708854320968542},null,null,null,null,{"$f":"SUM(V7:V22)","v":1},{"$f":"-SUM(W7:W22)","v":1.9591479170272446},null,null,null,{"$f":"SUM(AA7:AA22)","v":1},{"$f":"-SUM(AB7:AB22)","v":2.7777768114567865},null,null,null,{"$f":"SUM(AF7:AF22)","v":1},{"$f":"-SUM(AG7:AG22)","v":2.271782221599798},null,null,null,{"$f":"SUM(AK7:AK22)","v":0.99999999999999978},{"$f":"-SUM(AL7:AL22)","v":2.5566567074628228},null,null,null,{"$f":"SUM(AP7:AP22)","v":1},{"$f":"-SUM(AQ7:AQ22)","v":1.8810947601100745},null,null,null,{"$f":"SUM(AU7:AU22)","v":1},{"$f":"-SUM(AV7:AV22)","v":1.896240625180289}]
[21,2819,12,2829,24,2874,23,2930,null,null,0,2122,null,null,null,"U=",{"$f":"Q23/(LOG(Q4)/LOG(2))","v":0.41938347886442384},null,null,null,null,"U1=",{"$f":"W23/(LOG(W4)/LOG(2))","v":0.46120088227189637},null,null,null,"U2=",{"$f":"AB23/(LOG(AB4)/LOG(2))","v":0.65391342076008729},null,null,null,"U3=",{"$f":"AG23/(LOG(AG4)/LOG(2))","v":0.52564091112186928},null,null,null,"U4=",{"$f":"AL23/(LOG(AL4)/LOG(2))","v":0.60185977735535023},null,null,null,"U5=",{"$f":"AQ23/(LOG(AQ4)/LOG(2))","v":0.44282647341718967},null,null,null,"U6=",{"$f":"AV23/(LOG(AV4)/LOG(2))","v":0.44639194505536661}]
[21,3035,21,3044,11,3052,21,3060,null,null,0,2212]
[21,3153,21,3161,22,3210,23,3218,null,null,0,2222]
[21,3322,21,3329,11,3348,21,3378,null,null,0,2212,null,"Total Target Seq"]
[21,3482,12,3489,24,3552,23,3663,null,null,0,2122,null,{"$f":"COUNTIF(L7:L121,G3)","v":31},null,19,19,20,19,19,19]
[21,3764,21,3772,11,3780,21,3806,null,null,0,2212,null,null,null,"% of reinforcement given in 6 equal intervals based on number of trials "]
[12,3919,23,3926,24,3986,23,3994,null,null,0,1222,null,null,null,"%_1","%_2","%_3","%_4","%_5","%_6"]
[21,4097,12,4105,24,4128,23,4136,null,null,0,2122,null,null,"target sequence",{"$f":"$G$3","v":2212},{"$f":"$G$3","v":2212},{"$f":"$G$3","v":2212},{"$f":"$G$3","v":2212},{"$f":"$G$3","v":2212},{"$f":"$G$3","v":2212}]
[21,4242,12,4250,24,4274,23,4306,null,null,0,2122,null,null,"total reinforcement",{"$f":"U20","v":7},{"$f":"Z20","v":2},{"$f":"AE20","v":4},{"$f":"AJ20","v":5},{"$f":"AO20","v":6},{"$f":"AT20","v":7}]
[21,4405,12,4420,24,4443,23,4608,null,null,0,2122,null,null,"% target"]
[21,4706,21,4714,22,4724,14,4733,null,null,0,2221,null,null,"CCRF"]
[12,4849,23,4875,24,4884,23,4946,null,null,0,1222,null,null,"% CCRf"]
[12,5057,23,5067,13,5076,23,5097,null,null,0,1212,null,null,"average response rate",{"$f":"H25/P28","v":161.05263157894737},{"$f":"(H44-H25)/Q28","v":200.31578947368422},{"$f":"(H64-H44)/R28","v":196.1},{"$f":"(H83-H64)/S28","v":178.73684210526315},{"$f":"(H102-H83)/T28","v":169.31578947368422},{"$f":"(H121-H102)/U28","v":189.89473684210526}]
[21,5199,12,5207,24,5217,14,5225,null,null,0,2121]
[21,5326,12,5334,24,5342,23,5359,null,null,0,2122]
[12,5479,23,5491,24,5531,23,5603,null,null,0,1222]
[21,5707,12,5715,13,5731,23,5860,null,null,0,2112]
[12,5970,23,5985,24,6093,14,6102,null,null,0,1221]
[12,6222,14,6377,24,6401,23,6415,null,null,0,1122]
[21,6515,12,6528,24,6572,23,6591,null,null,0,2122]
[12,6702,14,6730,24,6753,23,6866,null,null,0,1122]
[21,6965,21,6979,11,6986,21,7007,null,null,0,2212]
[21,7118,12,7126,24,7197,14,7221,null,null,0,2121]
[12,7335,23,7373,24,7451,23,7485,null,null,0,1222]
[12,7601,14,7695,24,7708,14,7716,null,null,0,1121]
[12,7833,14,7867,24,7979,23,7999,null,null,0,1122]
[21,8106,12,8113,24,8131,14,8248,null,null,0,2121]
[21,8348,21,8355,11,8363,21,8446,null,null,0,2212]
[21,8542,21,8559,11,8567,21,8663,null,null,0,2212]
[21,8760,12,8785,13,8898,14,8912,null,null,0,2111]
[21,9009,21,9016,11,9024,12,9057,null,null,0,2211]
[21,9160,12,9168,24,9212,23,9220,null,null,0,2122]
[21,9337,12,9346,24,9355,23,9381,null,null,0,2122]
[21,9481,12,9496,24,9512,14,9535,null,null,0,2121]
[21,9634,21,9641,11,9661,21,9769,null,null,0,2212]
[21,9862,12,9891,24,9909,23,9977,null,null,0,2122]
[21,10077,12,10086,24,10094,23,10103,null,null,0,2122]
[21,10212,12,10221,24,10238,23,10287,null,null,0,2122]
[21,10393,12,10400,24,10461,23,10490,null,null,0,2122]
[21,10593,12,10621,24,10652,23,10661,null,null,0,2122]
[21,10763,12,10773,24,10780,14,10788,null,null,0,2121]
[21,10888,21,10904,11,10912,21,10957,null,null,0,2212]
[21,11064,12,11072,13,11119,14,11179,null,null,0,2111]
[21,11294,12,11314,24,11336,23,11372,null,null,0,2122]
[21,11470,12,11484,13,11532,23,11556,null,null,0,2112]
[21,11656,12,11671,24,11710,23,11720,null,null,0,2122]
[12,11839,14,11856,24,11910,14,11965,null,null,0,1121]
[21,12063,21,12070,11,12079,21,12118,null,null,0,2212]
[21,12218,12,12227,24,12260,23,12269,null,null,0,2122]
[21,12371,12,12380,24,12396,23,12409,null,null,0,2122]
[21,12516,12,12524,24,12565,23,12581,null,null,0,2122]
[21,12684,12,12692,24,12701,14,12708,null,null,0,2121]
[21,12820,21,12829,11,12836,21,12869,null,null,0,2212]
[12,12971,23,13066,13,13089,14,13172,null,null,0,1211]
[21,13284,21,13308,22,13324,23,13360,null,null,0,2222]
[21,13460,12,13477,24,13518,23,13531,null,null,0,2122]
[21,13628,21,13674,22,13682,23,13698,null,null,0,2222]
[21,13801,21,13809,11,13817,21,13834,null,null,0,2212]
[12,13952,23,13977,24,13990,23,14013,null,null,0,1222]
[21,14112,21,14129,11,14137,21,14184,null,null,0,2212]
[21,14273,12,14289,24,14343,23,14365,null,null,0,2122]
[21,14463,21,14472,11,14481,21,14504,null,null,0,2212]
[21,14593,12,14609,24,14655,23,14681,null,null,0,2122]
[21,14782,12,14812,24,14833,23,14909,null,null,0,2122]
[21,15006,21,15013,11,15021,21,15030,null,null,0,2212]
[21,15130,12,15153,24,15177,23,15208,null,null,0,2122]
[12,15320,23,15329,13,15342,23,15351,null,null,0,1212]
[21,15463,12,15472,24,15532,14,15580,null,null,0,2121]
[21,15683,21,15696,11,15704,21,15730,null,null,0,2212]
[21,15823,12,15840,24,15848,14,15907,null,null,0,2121]
[21,16014,12,16023,24,16046,23,16098,null,null,0,2122]
[21,16195,21,16200,11,16230,21,16242,null,null,0,2212]
[12,16351,23,16359,24,16368,23,16397,null,null,0,1222]
[21,16495,21,16502,22,16510,23,16519,null,null,0,2222]
[21,16628,21,16636,11,16644,21,16662,null,null,0,2212]
[21,16755,21,16767,11,16775,21,16810,null,null,0,2212]
[21,16906,12,16914,24,16942,23,17025,null,null,0,2122]
[21,17128,12,17136,24,17145,23,17184,null,null,0,2122]
[12,17311,23,17345,24,17353,23,17401,null,null,0,1222]
[21,17518,12,17527,13,17543,23,17567,null,null,0,2112]
[21,17678,12,17699,24,17724,23,17740,null,null,0,2122]
[21,17853,12,17862,24,17870,23,17979,null,null,0,2122]
[21,18081,21,18092,11,18100,21,18109,null,null,0,2212]
[12,18212,23,18232,13,18268,23,18277,null,null,0,1212]
[21,18378,12,18394,24,18475,23,18537,null,null,0,2122]
[21,18642,21,18647,11,18667,21,18675,null,null,0,2212]
[21,18766,21,18794,11,18822,21,18912,null,null,0,2212]
[21,19000,21,19007,11,19016,21,19040,null,null,0,2212]
[21,19139,21,19203,22,19256,14,19270,null,null,0,2221]
[21,19367,21,19375,22,19383,14,19391,null,null,0,2221]
[21,19496,21,19504,11,19512,21,19547,null,null,0,2212]
[21,19643,21,19667,11,19675,21,19688,null,null,0,2212]
[21,19785,12,19792,24,19802,23,19826,null,null,0,2122]
[21,19930,21,19938,11,19946,21,19989,null,null,0,2212]
[21,20087,12,20096,24,20121,14,20398,null,null,0,2121]
[21,20503,12,20520,24,20538,23,20548,null,null,0,2122]
[21,20655,12,20674,24,20713,23,20833,null,null,0,2122]
[21,20976,21,20991,22,20998,14,21009,null,null,0,2221]

{"sheet":"!N129C00.095","index":30,"n_rows":36,"n_cols":48,"rows_kept":36,"cut":false,"hidden":false,"merged":[[4,39,4,42],[5,39,5,40],[4,44,4,47],[5,44,5,45],[4,24,4,27],[5,24,5,25],[4,29,4,32],[5,29,5,30],[4,34,4,37],[5,34,5,35],[1,1,1,2],[5,13,5,14],[26,13,26,14],[27,13,27,14],[4,19,4,22],[5,19,5,20]]}
["Report for:!N129C00.095"]
["Date:","<date>"]
["Hen:","<hen>",null,null,null,"Correct Sequence",{"$f":"Start!J2","v":2212},null,null,null,null,null,null,null,null,"Total Sequences in Data",{"$f":"4994-COUNTBLANK(L7:L5000)","v":5},null,null,null,null,"Total Sequences in Block Data",{"$f":"COUNTA(L7:L7)","v":1},null,null,null,"Total Sequences in Block Data",{"$f":"COUNTA(L8:L8)","v":1},null,null,null,"Total Sequences in Block Data",{"$f":"COUNTA(L8:L9)","v":2},null,null,null,"Total Sequences in Block Data",{"$f":"COUNTA(L9:L9)","v":1},null,null,null,"Total Sequences in Block Data",{"$f":"COUNTA(L10:L10)","v":1},null,null,null,"Total Sequences in Block Data",{"$f":"COUNTA(L11:L11)","v":1}]
[null,null,null,null,null,null,null,null,null,null,null,null,null,null,null,"Total Sequences in Summary",{"$f":"SUM(O7:O22)","v":4},null,null,null,null,"Total Sequences in Block Summary",{"$f":"SUM(U7:U22)","v":1},null,null,null,"Total Sequences in Block Summary",{"$f":"SUM(Z7:Z22)","v":1},null,null,null,"Total Sequences in Block Summary",{"$f":"SUM(AE7:AE22)","v":2},null,null,null,"Total Sequences in Block Summary",{"$f":"SUM(AJ7:AJ22)","v":1},null,null,null,"Total Sequences in Block Summary",{"$f":"SUM(AO7:AO22)","v":1},null,null,null,"Total Sequences in Block Summary",{"$f":"SUM(AT7:AT22)","v":0}]
[null,null,null,null,null,null,null,null,null,null,null,null,null,null,null,null,null,null,null,"Block 1",null,null,null,null,"Block 2",null,null,null,null,"Block 3",null,null,null,null,"Block 4",null,null,null,null,"Block 5",null,null,null,null,"Block 6"]
["Sequence\nComponent\n1","Time\n1","Sequence\nComponent\n2","Time\n2","Sequence\nComponent\n3","Time\n3","Sequence\nComponent\n4","Time\n4","Sequence\nComponent\n5","Time\n5","Correct?\n0=No 1=Yes","Sequence",null,"Frequency",null,"Relative Frequency","Variability",null,null,"Frequency",null,"Relative Frequency","Variability",null,"Frequency",null,"Relative Frequency","Variability",null,"Frequency",null,"Relative Frequency","Variability",null,"Frequency",null,"Relative Frequency","Variability",null,"Frequency",null,"Relative Frequency","Variability",null,"Frequency",null,"Relative Frequency","Variability"]
[21,658,21,764,11,780,12,2977,null,null,0,2211,null,1111,{"$f":"COUNTIF($L$7:$L$500,N7)","v":0},{"$f":"O7/$Q$4","v":0},{"$f":"IF(P7=0,0,(P7*((LOG(P7))/LOG(2))))","v":0},null,null,{"$f":"N7","v":1111},{"$f":"COUNTIF(L7:L7,T7)","v":0},{"$f":"U7/(W4-U20)","v":0},{"$f":"IF(V7=0,0,(V7*((LOG(V7))/LOG(2))))","v":0},null,{"$f":"N7","v":1111},{"$f":"COUNTIF(L8:L8,Y7)","v":0},{"$f":"Z7/(AB4-Z20)","v":0},{"$f":"IF(AA7=0,0,(AA7*((LOG(AA7))/LOG(2))))","v":0},null,{"$f":"N7","v":1111},{"$f":"COUNTIF(L8:L9,AD7)","v":0},{"$f":"AE7/(AG4-AE20)","v":0},{"$f":"IF(AF7=0,0,(AF7*((LOG(AF7))/LOG(2))))","v":0},null,{"$f":"N7","v":1111},{"$f":"COUNTIF(L9:L9,AI7)","v":0},{"$f":"AJ7/(AL4-AJ20)","v":0},{"$f":"IF(AK7=0,0,(AK7*((LOG(AK7))/LOG(2))))","v":0},null,{"$f":"N7","v":1111},{"$f":"COUNTIF(L10:L10,AN7)","v":0},{"$f":"AO7/(AQ4-AO20)","v":0},{"$f":"IF(AP7=0,0,(AP7*((LOG(AP7))/LOG(2))))","v":0},null,{"$f":"N7","v":1111},{"$f":"COUNTIF(L11:L11,AS7)","v":0},{"$f":"AT7/(AV4-AT20)","v":{"$error":"#DIV/0!"}},{"$f":"IF(AU7=0,0,(AU7*((LOG(AU7))/LOG(2))))","v":{"$error":"#DIV/0!"}}]
[12,3467,14,6641,24,8026,14,11865,null,null,0,1121,null,1112,{"$f":"COUNTIF($L$7:$L$500,N8)","v":0},{"$f":"O8/$Q$4","v":0},{"$f":"IF(P8=0,0,(P8*((LOG(P8))/LOG(2))))","v":0},null,null,{"$f":"N8","v":1112},{"$f":"COUNTIF(L7:L7,T8)","v":0},{"$f":"U8/(W4-U20)","v":0},{"$f":"IF(V8=0,0,(V8*((LOG(V8))/LOG(2))))","v":0},null,{"$f":"N8","v":1112},{"$f":"COUNTIF(L8:L8,Y8)","v":0},{"$f":"Z8/(AB4-Z20)","v":0},{"$f":"IF(AA8=0,0,(AA8*((LOG(AA8))/LOG(2))))","v":0},null,{"$f":"N8","v":1112},{"$f":"COUNTIF(L8:L9,AD8)","v":0},{"$f":"AE8/(AG4-AE20)","v":0},{"$f":"IF(AF8=0,0,(AF8*((LOG(AF8))/LOG(2))))","v":0},null,{"$f":"N8","v":1112},{"$f":"COUNTIF(L9:L9,AI8)","v":0},{"$f":"AJ8/(AL4-AJ20)","v":0},{"$f":"IF(AK8=0,0,(AK8*((LOG(AK8))/LOG(2))))","v":0},null,{"$f":"N8","v":1112},{"$f":"COUNTIF(L10:L10,AN8)","v":0},{"$f":"AO8/(AQ4-AO20)","v":0},{"$f":"IF(AP8=0,0,(AP8*((LOG(AP8))/LOG(2))))","v":0},null,{"$f":"N8","v":1112},{"$f":"COUNTIF(L11:L11,AS8)","v":0},{"$f":"AT8/(AV4-AT20)","v":{"$error":"#DIV/0!"}},{"$f":"IF(AU8=0,0,(AU8*((LOG(AU8))/LOG(2))))","v":{"$error":"#DIV/0!"}}]
[21,12762,12,16818,24,16827,14,20119,null,null,0,2121,null,1121,{"$f":"COUNTIF($L$7:$L$500,N9)","v":1},{"$f":"O9/$Q$4","v":0.25},{"$f":"IF(P9=0,0,(P9*((LOG(P9))/LOG(2))))","v":-0.5},null,null,{"$f":"N9","v":1121},{"$f":"COUNTIF(L7:L7,T9)","v":0},{"$f":"U9/(W4-U20)","v":0},{"$f":"IF(V9=0,0,(V9*((LOG(V9))/LOG(2))))","v":0},null,{"$f":"N9","v":1121},{"$f":"COUNTIF(L8:L8,Y9)","v":1},{"$f":"Z9/(AB4-Z20)","v":1},{"$f":"IF(AA9=0,0,(AA9*((LOG(AA9))/LOG(2))))","v":0},null,{"$f":"N9","v":1121},{"$f":"COUNTIF(L8:L9,AD9)","v":1},{"$f":"AE9/(AG4-AE20)","v":0.5},{"$f":"IF(AF9=0,0,(AF9*((LOG(AF9))/LOG(2))))","v":-0.5},null,{"$f":"N9","v":1121},{"$f":"COUNTIF(L9:L9,AI9)","v":0},{"$f":"AJ9/(AL4-AJ20)","v":0},{"$f":"IF(AK9=0,0,(AK9*((LOG(AK9))/LOG(2))))","v":0},null,{"$f":"N9","v":1121},{"$f":"COUNTIF(L10:L10,AN9)","v":0},{"$f":"AO9/(AQ4-AO20)","v":0},{"$f":"IF(AP9=0,0,(AP9*((LOG(AP9))/LOG(2))))","v":0},null,{"$f":"N9","v":1121},{"$f":"COUNTIF(L11:L11,AS9)","v":0},{"$f":"AT9/(AV4-AT20)","v":{"$error":"#DIV/0!"}},{"$f":"IF(AU9=0,0,(AU9*((LOG(AU9))/LOG(2))))","v":{"$error":"#DIV/0!"}}]
[12,20302,23,20311,24,20489,23,20510,null,null,0,1222,null,1122,{"$f":"COUNTIF($L$7:$L$500,N10)","v":0},{"$f":"O10/$Q$4","v":0},{"$f":"IF(P10=0,0,(P10*((LOG(P10))/LOG(2))))","v":0},null,null,{"$f":"N10","v":1122},{"$f":"COUNTIF(L7:L7,T10)","v":0},{"$f":"U10/(W4-U20)","v":0},{"$f":"IF(V10=0,0,(V10*((LOG(V10))/LOG(2))))","v":0},null,{"$f":"N10","v":1122},{"$f":"COUNTIF(L8:L8,Y10)","v":0},{"$f":"Z10/(AB4-Z20)","v":0},{"$f":"IF(AA10=0,0,(AA10*((LOG(AA10))/LOG(2))))","v":0},null,{"$f":"N10","v":1122},{"$f":"COUNTIF(L8:L9,AD10)","v":0},{"$f":"AE10/(AG4-AE20)","v":0},{"$f":"IF(AF10=0,0,(AF10*((LOG(AF10))/LOG(2))))","v":0},null,{"$f":"N10","v":1122},{"$f":"COUNTIF(L9:L9,AI10)","v":0},{"$f":"AJ10/(AL4-AJ20)","v":0},{"$f":"IF(AK10=0,0,(AK10*((LOG(AK10))/LOG(2))))","v":0},null,{"$f":"N10","v":1122},{"$f":"COUNTIF(L10:L10,AN10)","v":0},{"$f":"AO10/(AQ4-AO20)","v":0},{"$f":"IF(AP10=0,0,(AP10*((LOG(AP10))/LOG(2))))","v":0},null,{"$f":"N10","v":1122},{"$f":"COUNTIF(L11:L11,AS10)","v":0},{"$f":"AT10/(AV4-AT20)","v":{"$error":"#DIV/0!"}},{"$f":"IF(AU10=0,0,(AU10*((LOG(AU10))/LOG(2))))","v":{"$error":"#DIV/0!"}}]
[12,20746,null,null,null,null,null,null,null,null,null,1,null,1211,{"$f":"COUNTIF($L$7:$L$500,N11)","v":0},{"$f":"O11/$Q$4","v":0},{"$f":"IF(P11=0,0,(P11*((LOG(P11))/LOG(2))))","v":0},null,null,{"$f":"N11","v":1211},{"$f":"COUNTIF(L7:L7,T11)","v":0},{"$f":"U11/(W4-U20)","v":0},{"$f":"IF(V11=0,0,(V11*((LOG(V11))/LOG(2))))","v":0},null,{"$f":"N11","v":1211},{"$f":"COUNTIF(L8:L8,Y11)","v":0},{"$f":"Z11/(AB4-Z20)","v":0},{"$f":"IF(AA11=0,0,(AA11*((LOG(AA11))/LOG(2))))","v":0},null,{"$f":"N11","v":1211},{"$f":"COUNTIF(L8:L9,AD11)","v":0},{"$f":"AE11/(AG4-AE20)","v":0},{"$f":"IF(AF11=0,0,(AF11*((LOG(AF11))/LOG(2))))","v":0},null,{"$f":"N11","v":1211},{"$f":"COUNTIF(L9:L9,AI11)","v":0},{"$f":"AJ11/(AL4-AJ20)","v":0},{"$f":"IF(AK11=0,0,(AK11*((LOG(AK11))/LOG(2))))","v":0},null,{"$f":"N11","v":1211},{"$f":"COUNTIF(L10:L10,AN11)","v":0},{"$f":"AO11/(AQ4-AO20)","v":0},{"$f":"IF(AP11=0,0,(AP11*((LOG(AP11))/LOG(2))))","v":0},null,{"$f":"N11","v":1211},{"$f":"COUNTIF(L11:L11,AS11)","v":0},{"$f":"AT11/(AV4-AT20)","v":{"$error":"#DIV/0!"}},{"$f":"IF(AU11=0,0,(AU11*((LOG(AU11))/LOG(2))))","v":{"$error":"#DIV/0!"}}]
[null,null,null,null,null,null,null,null,null,null,null,null,null,1212,{"$f":"COUNTIF($L$7:$L$500,N12)","v":0},{"$f":"O12/$Q$4","v":0},{"$f":"IF(P12=0,0,(P12*((LOG(P12))/LOG(2))))","v":0},null,null,{"$f":"N12","v":1212},{"$f":"COUNTIF(L7:L7,T12)","v":0},{"$f":"U12/(W4-U20)","v":0},{"$f":"IF(V12=0,0,(V12*((LOG(V12))/LOG(2))))","v":0},null,{"$f":"N12","v":1212},{"$f":"COUNTIF(L8:L8,Y12)","v":0},{"$f":"Z12/(AB4-Z20)","v":0},{"$f":"IF(AA12=0,0,(AA12*((LOG(AA12))/LOG(2))))","v":0},null,{"$f":"N12","v":1212},{"$f":"COUNTIF(L8:L9,AD12)","v":0},{"$f":"AE12/(AG4-AE20)","v":0},{"$f":"IF(AF12=0,0,(AF12*((LOG(AF12))/LOG(2))))","v":0},null,{"$f":"N12","v":1212},{"$f":"COUNTIF(L9:L9,AI12)","v":0},{"$f":"AJ12/(AL4-AJ20)","v":0},{"$f":"IF(AK12=0,0,(AK12*((LOG(AK12))/LOG(2))))","v":0},null,{"$f":"N12","v":1212},{"$f":"COUNTIF(L10:L10,AN12)","v":0},{"$f":"AO12/(AQ4-AO20)","v":0},{"$f":"IF(AP12=0,0,(AP12*((LOG(AP12))/LOG(2))))","v":0},null,{"$f":"N12","v":1212},{"$f":"COUNTIF(L11:L11,AS12)","v":0},{"$f":"AT12/(AV4-AT20)","v":{"$error":"#DIV/0!"}},{"$f":"IF(AU12=0,0,(AU12*((LOG(AU12))/LOG(2))))","v":{"$error":"#DIV/0!"}}]
[null,null,null,null,null,null,null,null,null,null,null,null,null,1221,{"$f":"COUNTIF($L$7:$L$500,N13)","v":0},{"$f":"O13/$Q$4","v":0},{"$f":"IF(P13=0,0,(P13*((LOG(P13))/LOG(2))))","v":0},null,null,{"$f":"N13","v":1221},{"$f":"COUNTIF(L7:L7,T13)","v":0},{"$f":"U13/(W4-U20)","v":0},{"$f":"IF(V13=0,0,(V13*((LOG(V13))/LOG(2))))","v":0},null,{"$f":"N13","v":1221},{"$f":"COUNTIF(L8:L8,Y13)","v":0},{"$f":"Z13/(AB4-Z20)","v":0},{"$f":"IF(AA13=0,0,(AA13*((LOG(AA13))/LOG(2))))","v":0},null,{"$f":"N13","v":1221},{"$f":"COUNTIF(L8:L9,AD13)","v":0},{"$f":"AE13/(AG4-AE20)","v":0},{"$f":"IF(AF13=0,0,(AF13*((LOG(AF13))/LOG(2))))","v":0},null,{"$f":"N13","v":1221},{"$f":"COUNTIF(L9:L9,AI13)","v":0},{"$f":"AJ13/(AL4-AJ20)","v":0},{"$f":"IF(AK13=0,0,(AK13*((LOG(AK13))/LOG(2))))","v":0},null,{"$f":"N13","v":1221},{"$f":"COUNTIF(L10:L10,AN13)","v":0},{"$f":"AO13/(AQ4-AO20)","v":0},{"$f":"IF(AP13=0,0,(AP13*((LOG(AP13))/LOG(2))))","v":0},null,{"$f":"N13","v":1221},{"$f":"COUNTIF(L11:L11,AS13)","v":0},{"$f":"AT13/(AV4-AT20)","v":{"$error":"#DIV/0!"}},{"$f":"IF(AU13=0,0,(AU13*((LOG(AU13))/LOG(2))))","v":{"$error":"#DIV/0!"}}]
[null,null,null,null,null,null,null,null,null,null,null,null,null,1222,{"$f":"COUNTIF($L$7:$L$500,N14)","v":1},{"$f":"O14/$Q$4","v":0.25},{"$f":"IF(P14=0,0,(P14*((LOG(P14))/LOG(2))))","v":-0.5},null,null,{"$f":"N14","v":1222},{"$f":"COUNTIF(L7:L7,T14)","v":0},{"$f":"U14/(W4-U20)","v":0},{"$f":"IF(V14=0,0,(V14*((LOG(V14))/LOG(2))))","v":0},null,{"$f":"N14","v":1222},{"$f":"COUNTIF(L8:L8,Y14)","v":0},{"$f":"Z14/(AB4-Z20)","v":0},{"$f":"IF(AA14=0,0,(AA14*((LOG(AA14))/LOG(2))))","v":0},null,{"$f":"N14","v":1222},{"$f":"COUNTIF(L8:L9,AD14)","v":0},{"$f":"AE14/(AG4-AE20)","v":0},{"$f":"IF(AF14=0,0,(AF14*((LOG(AF14))/LOG(2))))","v":0},null,{"$f":"N14","v":1222},{"$f":"COUNTIF(L9:L9,AI14)","v":0},{"$f":"AJ14/(AL4-AJ20)","v":0},{"$f":"IF(AK14=0,0,(AK14*((LOG(AK14))/LOG(2))))","v":0},null,{"$f":"N14","v":1222},{"$f":"COUNTIF(L10:L10,AN14)","v":1},{"$f":"AO14/(AQ4-AO20)","v":1},{"$f":"IF(AP14=0,0,(AP14*((LOG(AP14))/LOG(2))))","v":0},null,{"$f":"N14","v":1222},{"$f":"COUNTIF(L11:L11,AS14)","v":0},{"$f":"AT14/(AV4-AT20)","v":{"$error":"#DIV/0!"}},{"$f":"IF(AU14=0,0,(AU14*((LOG(AU14))/LOG(2))))","v":{"$error":"#DIV/0!"}}]
[null,null,null,null,null,null,null,null,null,null,null,null,null,2111,{"$f":"COUNTIF($L$7:$L$500,N15)","v":0},{"$f":"O15/$Q$4","v":0},{"$f":"IF(P15=0,0,(P15*((LOG(P15))/LOG(2))))","v":0},null,null,{"$f":"N15","v":2111},{"$f":"COUNTIF(L7:L7,T15)","v":0},{"$f":"U15/(W4-U20)","v":0},{"$f":"IF(V15=0,0,(V15*((LOG(V15))/LOG(2))))","v":0},null,{"$f":"N15","v":2111},{"$f":"COUNTIF(L8:L8,Y15)","v":0},{"$f":"Z15/(AB4-Z20)","v":0},{"$f":"IF(AA15=0,0,(AA15*((LOG(AA15))/LOG(2))))","v":0},null,{"$f":"N15","v":2111},{"$f":"COUNTIF(L8:L9,AD15)","v":0},{"$f":"AE15/(AG4-AE20)","v":0},{"$f":"IF(AF15=0,0,(AF15*((LOG(AF15))/LOG(2))))","v":0},null,{"$f":"N15","v":2111},{"$f":"COUNTIF(L9:L9,AI15)","v":0},{"$f":"AJ15/(AL4-AJ20)","v":0},{"$f":"IF(AK15=0,0,(AK15*((LOG(AK15))/LOG(2))))","v":0},null,{"$f":"N15","v":2111},{"$f":"COUNTIF(L10:L10,AN15)","v":0},{"$f":"AO15/(AQ4-AO20)","v":0},{"$f":"IF(AP15=0,0,(AP15*((LOG(AP15))/LOG(2))))","v":0},null,{"$f":"N15","v":2111},{"$f":"COUNTIF(L11:L11,AS15)","v":0},{"$f":"AT15/(AV4-AT20)","v":{"$error":"#DIV/0!"}},{"$f":"IF(AU15=0,0,(AU15*((LOG(AU15))/LOG(2))))","v":{"$error":"#DIV/0!"}}]
[null,null,null,null,null,null,null,null,null,null,null,null,null,2112,{"$f":"COUNTIF($L$7:$L$500,N16)","v":0},{"$f":"O16/$Q$4","v":0},{"$f":"IF(P16=0,0,(P16*((LOG(P16))/LOG(2))))","v":0},null,null,{"$f":"N16","v":2112},{"$f":"COUNTIF(L7:L7,T16)","v":0},{"$f":"U16/(W4-U20)","v":0},{"$f":"IF(V16=0,0,(V16*((LOG(V16))/LOG(2))))","v":0},null,{"$f":"N16","v":2112},{"$f":"COUNTIF(L8:L8,Y16)","v":0},{"$f":"Z16/(AB4-Z20)","v":0},{"$f":"IF(AA16=0,0,(AA16*((LOG(AA16))/LOG(2))))","v":0},null,{"$f":"N16","v":2112},{"$f":"COUNTIF(L8:L9,AD16)","v":0},{"$f":"AE16/(AG4-AE20)","v":0},{"$f":"IF(AF16=0,0,(AF16*((LOG(AF16))/LOG(2))))","v":0},null,{"$f":"N16","v":2112},{"$f":"COUNTIF(L9:L9,AI16)","v":0},{"$f":"AJ16/(AL4-AJ20)","v":0},{"$f":"IF(AK16=0,0,(AK16*((LOG(AK16))/LOG(2))))","v":0},null,{"$f":"N16","v":2112},{"$f":"COUNTIF(L10:L10,AN16)","v":0},{"$f":"AO16/(AQ4-AO20)","v":0},{"$f":"IF(AP16=0,0,(AP16*((LOG(AP16))/LOG(2))))","v":0},null,{"$f":"N16","v":2112},{"$f":"COUNTIF(L11:L11,AS16)","v":0},{"$f":"AT16/(AV4-AT20)","v":{"$error":"#DIV/0!"}},{"$f":"IF(AU16=0,0,(AU16*((LOG(AU16))/LOG(2))))","v":{"$error":"#DIV/0!"}}]
[null,null,null,null,null,null,null,null,null,null,null,null,null,2121,{"$f":"COUNTIF($L$7:$L$500,N17)","v":1},{"$f":"O17/$Q$4","v":0.25},{"$f":"IF(P17=0,0,(P17*((LOG(P17))/LOG(2))))","v":-0.5},null,null,{"$f":"N17","v":2121},{"$f":"COUNTIF(L7:L7,T17)","v":0},{"$f":"U17/(W4-U20)","v":0},{"$f":"IF(V17=0,0,(V17*((LOG(V17))/LOG(2))))","v":0},null,{"$f":"N17","v":2121},{"$f":"COUNTIF(L8:L8,Y17)","v":0},{"$f":"Z17/(AB4-Z20)","v":0},{"$f":"IF(AA17=0,0,(AA17*((LOG(AA17))/LOG(2))))","v":0},null,{"$f":"N17","v":2121},{"$f":"COUNTIF(L8:L9,AD17)","v":1},{"$f":"AE17/(AG4-AE20)","v":0.5},{"$f":"IF(AF17=0,0,(AF17*((LOG(AF17))/LOG(2))))","v":-0.5},null,{"$f":"N17","v":2121},{"$f":"COUNTIF(L9:L9,AI17)","v":1},{"$f":"AJ17/(AL4-AJ20)","v":1},{"$f":"IF(AK17=0,0,(AK17*((LOG(AK17))/LOG(2))))","v":0},null,{"$f":"N17","v":2121},{"$f":"COUNTIF(L10:L10,AN17)","v":0},{"$f":"AO17/(AQ4-AO20)","v":0},{"$f":"IF(AP17=0,0,(AP17*((LOG(AP17))/LOG(2))))","v":0},null,{"$f":"N17","v":2121},{"$f":"COUNTIF(L11:L11,AS17)","v":0},{"$f":"AT17/(AV4-AT20)","v":{"$error":"#DIV/0!"}},{"$f":"IF(AU17=0,0,(AU17*((LOG(AU17))/LOG(2))))","v":{"$error":"#DIV/0!"}}]
[null,null,null,null,null,null,null,null,null,null,null,null,null,2122,{"$f":"COUNTIF($L$7:$L$500,N18)","v":0},{"$f":"O18/$Q$4","v":0},{"$f":"IF(P18=0,0,(P18*((LOG(P18))/LOG(2))))","v":0},null,null,{"$f":"N18","v":2122},{"$f":"COUNTIF(L7:L7,T18)","v":0},{"$f":"U18/(W4-U20)","v":0},{"$f":"IF(V18=0,0,(V18*((LOG(V18))/LOG(2))))","v":0},null,{"$f":"N18","v":2122},{"$f":"COUNTIF(L8:L8,Y18)","v":0},{"$f":"Z18/(AB4-Z20)","v":0},{"$f":"IF(AA18=0,0,(AA18*((LOG(AA18))/LOG(2))))","v":0},null,{"$f":"N18","v":2122},{"$f":"COUNTIF(L8:L9,AD18)","v":0},{"$f":"AE18/(AG4-AE20)","v":0},{"$f":"IF(AF18=0,0,(AF18*((LOG(AF18))/LOG(2))))","v":0},null,{"$f":"N18","v":2122},{"$f":"COUNTIF(L9:L9,AI18)","v":0},{"$f":"AJ18/(AL4-AJ20)","v":0},{"$f":"IF(AK18=0,0,(AK18*((LOG(AK18))/LOG(2))))","v":0},null,{"$f":"N18","v":2122},{"$f":"COUNTIF(L10:L10,AN18)","v":0},{"$f":"AO18/(AQ4-AO20)","v":0},{"$f":"IF(AP18=0,0,(AP18*((LOG(AP18))/LOG(2))))","v":0},null,{"$f":"N18","v":2122},{"$f":"COUNTIF(L11:L11,AS18)","v":0},{"$f":"AT18/(AV4-AT20)","v":{"$error":"#DIV/0!"}},{"$f":"IF(AU18=0,0,(AU18*((LOG(AU18))/LOG(2))))","v":{"$error":"#DIV/0!"}}]
[null,null,null,null,null,null,null,null,null,null,null,null,null,2211,{"$f":"COUNTIF($L$7:$L$500,N19)","v":1},{"$f":"O19/$Q$4","v":0.25},{"$f":"IF(P19=0,0,(P19*((LOG(P19))/LOG(2))))","v":-0.5},null,null,{"$f":"N19","v":2211},{"$f":"COUNTIF(L7:L7,T19)","v":1},{"$f":"U19/(W4-U20)","v":1},{"$f":"IF(V19=0,0,(V19*((LOG(V19))/LOG(2))))","v":0},null,{"$f":"N19","v":2211},{"$f":"COUNTIF(L8:L8,Y19)","v":0},{"$f":"Z19/(AB4-Z20)","v":0},{"$f":"IF(AA19=0,0,(AA19*((LOG(AA19))/LOG(2))))","v":0},null,{"$f":"N19","v":2211},{"$f":"COUNTIF(L8:L9,AD19)","v":0},{"$f":"AE19/(AG4-AE20)","v":0},{"$f":"IF(AF19=0,0,(AF19*((LOG(AF19))/LOG(2))))","v":0},null,{"$f":"N19","v":2211},{"$f":"COUNTIF(L9:L9,AI19)","v":0},{"$f":"AJ19/(AL4-AJ20)","v":0},{"$f":"IF(AK19=0,0,(AK19*((LOG(AK19))/LOG(2))))","v":0},null,{"$f":"N19","v":2211},{"$f":"COUNTIF(L10:L10,AN19)","v":0},{"$f":"AO19/(AQ4-AO20)","v":0},{"$f":"IF(AP19=0,0,(AP19*((LOG(AP19))/LOG(2))))","v":0},null,{"$f":"N19","v":2211},{"$f":"COUNTIF(L11:L11,AS19)","v":0},{"$f":"AT19/(AV4-AT20)","v":{"$error":"#DIV/0!"}},{"$f":"IF(AU19=0,0,(AU19*((LOG(AU19))/LOG(2))))","v":{"$error":"#DIV/0!"}}]
[null,null,null,null,null,null,null,null,null,null,null,null,null,2212,{"$f":"COUNTIF($L$7:$L$500,N20)","v":0},{"$f":"O20/$Q$4","v":0},{"$f":"IF(P20=0,0,(P20*((LOG(P20))/LOG(2))))","v":0},null,null,{"$f":"N20","v":2212},{"$f":"COUNTIF(L7:L7,T20)","v":0},null,null,null,{"$f":"N20","v":2212},{"$f":"COUNTIF(L8:L8,Y20)","v":0},null,null,null,{"$f":"N20","v":2212},{"$f":"COUNTIF(L8:L9,AD20)","v":0},null,null,null,{"$f":"N20","v":2212},{"$f":"COUNTIF(L9:L9,AI20)","v":0},null,null,null,{"$f":"N20","v":2212},{"$f":"COUNTIF(L10:L10,AN20)","v":0},null,null,null,{"$f":"N20","v":2212},{"$f":"COUNTIF(L11:L11,AS20)","v":0}]
[null,null,null,null,null,null,null,null,null,null,null,null,null,2221,{"$f":"COUNTIF($L$7:$L$500,N21)","v":0},{"$f":"O21/$Q$4","v":0},{"$f":"IF(P21=0,0,(P21*((LOG(P21))/LOG(2))))","v":0},null,null,{"$f":"N21","v":2221},{"$f":"COUNTIF(L7:L7,T21)","v":0},{"$f":"U21/(W4-U20)","v":0},{"$f":"IF(V21=0,0,(V21*((LOG(V21))/LOG(2))))","v":0},null,{"$f":"N21","v":2221},{"$f":"COUNTIF(L8:L8,Y21)","v":0},{"$f":"Z21/(AB4-Z20)","v":0},{"$f":"IF(AA21=0,0,(AA21*((LOG(AA21))/LOG(2))))","v":0},null,{"$f":"N21","v":2221},{"$f":"COUNTIF(L8:L9,AD21)","v":0},{"$f":"AE21/(AG4-AE20)","v":0},{"$f":"IF(AF21=0,0,(AF21*((LOG(AF21))/LOG(2))))","v":0},null,{"$f":"N21","v":2221},{"$f":"COUNTIF(L9:L9,AI21)","v":0},{"$f":"AJ21/(AL4-AJ20)","v":0},{"$f":"IF(AK21=0,0,(AK21*((LOG(AK21))/LOG(2))))","v":0},null,{"$f":"N21","v":2221},{"$f":"COUNTIF(L10:L10,AN21)","v":0},{"$f":"AO21/(AQ4-AO20)","v":0},{"$f":"IF(AP21=0,0,(AP21*((LOG(AP21))/LOG(2))))","v":0},null,{"$f":"N21","v":2221},{"$f":"COUNTIF(L11:L11,AS21)","v":0},{"$f":"AT21/(AV4-AT20)","v":{"$error":"#DIV/0!"}},{"$f":"IF(AU21=0,0,(AU21*((LOG(AU21))/LOG(2))))","v":{"$error":"#DIV/0!"}}]
[null,null,null,null,null,null,null,null,null,null,null,null,null,2222,{"$f":"COUNTIF($L$7:$L$500,N22)","v":0},{"$f":"O22/$Q$4","v":0},{"$f":"IF(P22=0,0,(P22*((LOG(P22))/LOG(2))))","v":0},null,null,{"$f":"N22","v":2222},{"$f":"COUNTIF(L7:L7,T22)","v":0},{"$f":"U22/(W4-U20)","v":0},{"$f":"IF(V22=0,0,(V22*((LOG(V22))/LOG(2))))","v":0},null,{"$f":"N22","v":2222},{"$f":"COUNTIF(L8:L8,Y22)","v":0},{"$f":"Z22/(AB4-Z20)","v":0},{"$f":"IF(AA22=0,0,(AA22*((LOG(AA22))/LOG(2))))","v":0},null,{"$f":"N22","v":2222},{"$f":"COUNTIF(L8:L9,AD22)","v":0},{"$f":"AE22/(AG4-AE20)","v":0},{"$f":"IF(AF22=0,0,(AF22*((LOG(AF22))/LOG(2))))","v":0},null,{"$f":"N22","v":2222},{"$f":"COUNTIF(L9:L9,AI22)","v":0},{"$f":"AJ22/(AL4-AJ20)","v":0},{"$f":"IF(AK22=0,0,(AK22*((LOG(AK22))/LOG(2))))","v":0},null,{"$f":"N22","v":2222},{"$f":"COUNTIF(L10:L10,AN22)","v":0},{"$f":"AO22/(AQ4-AO20)","v":0},{"$f":"IF(AP22=0,0,(AP22*((LOG(AP22))/LOG(2))))","v":0},null,{"$f":"N22","v":2222},{"$f":"COUNTIF(L11:L11,AS22)","v":0},{"$f":"AT22/(AV4-AT20)","v":{"$error":"#DIV/0!"}},{"$f":"IF(AU22=0,0,(AU22*((LOG(AU22))/LOG(2))))","v":{"$error":"#DIV/0!"}}]
[null,null,null,null,null,null,null,null,null,null,null,null,null,null,null,{"$f":"SUM(P7:P22)","v":1},{"$f":"-SUM(Q7:Q22)","v":2},null,null,null,null,{"$f":"SUM(V7:V22)","v":1},{"$f":"-SUM(W7:W22)","v":0},null,null,null,{"$f":"SUM(AA7:AA22)","v":1},{"$f":"-SUM(AB7:AB22)","v":0},null,null,null,{"$f":"SUM(AF7:AF22)","v":1},{"$f":"-SUM(AG7:AG22)","v":1},null,null,null,{"$f":"SUM(AK7:AK22)","v":1},{"$f":"-SUM(AL7:AL22)","v":0},null,null,null,{"$f":"SUM(AP7:AP22)","v":1},{"$f":"-SUM(AQ7:AQ22)","v":0},null,null,null,{"$f":"SUM(AU7:AU22)","v":{"$error":"#DIV/0!"}},{"$f":"-SUM(AV7:AV22)","v":{"$error":"#DIV/0!"}}]
[null,null,null,null,null,null,null,null,null,null,null,null,null,null,null,"U=",{"$f":"Q23/(LOG(Q4)/LOG(2))","v":1},null,null,null,null,"U1=",{"$f":"W23/(LOG(W4)/LOG(2))","v":{"$error":"#DIV/0!"}},null,null,null,"U2=",{"$f":"AB23/(LOG(AB4)/LOG(2))","v":{"$error":"#DIV/0!"}},null,null,null,"U3=",{"$f":"AG23/(LOG(AG4)/LOG(2))","v":1},null,null,null,"U4=",{"$f":"AL23/(LOG(AL4)/LOG(2))","v":{"$error":"#DIV/0!"}},null,null,null,"U5=",{"$f":"AQ23/(LOG(AQ4)/LOG(2))","v":{"$error":"#DIV/0!"}},null,null,null,"U6=",{"$f":"AV23/(LOG(AV4)/LOG(2))","v":{"$error":"#DIV/0!"}}]
[]
[]
[null,null,null,null,null,null,null,null,null,null,null,null,null,"Total Target Seq"]
[null,null,null,null,null,null,null,null,null,null,null,null,null,{"$f":"COUNTIF(L7:L11,G3)","v":0},null,1,1,0,1,1,1]
[null,null,null,null,null,null,null,null,null,null,null,null,null,null,null,"% of reinforcement given in 6 equal intervals based on number of trials "]
[null,null,null,null,null,null,null,null,null,null,null,null,null,null,null,"%_1","%_2","%_3","%_4","%_5","%_6"]
[null,null,null,null,null,null,null,null,null,null,null,null,null,null,"target sequence",{"$f":"$G$3","v":2212},{"$f":"$G$3","v":2212},{"$f":"$G$3","v":2212},{"$f":"$G$3","v":2212},{"$f":"$G$3","v":2212},{"$f":"$G$3","v":2212}]
[null,null,null,null,null,null,null,null,null,null,null,null,null,null,"total reinforcement",{"$f":"U20","v":0},{"$f":"Z20","v":0},{"$f":"AE20","v":0},{"$f":"AJ20","v":0},{"$f":"AO20","v":0},{"$f":"AT20","v":0}]
[null,null,null,null,null,null,null,null,null,null,null,null,null,null,"% target"]
[null,null,null,null,null,null,null,null,null,null,null,null,null,null,"CCRF"]
[null,null,null,null,null,null,null,null,null,null,null,null,null,null,"% CCRf"]
[null,null,null,null,null,null,null,null,null,null,null,null,null,null,"average response rate",{"$f":"H7/P28","v":2977},{"$f":"(H8-H7)/Q28","v":8888},{"$f":"(H8-H8)/R28","v":{"$error":"#DIV/0!"}},{"$f":"(H9-H8)/S28","v":8254},{"$f":"(H10-H9)/T28","v":391},{"$f":"(H11-H10)/U28","v":-20510}]

{"sheet":"!N130A50.095","index":31,"n_rows":36,"n_cols":48,"rows_kept":36,"cut":false,"hidden":false,"merged":[[4,39,4,42],[5,39,5,40],[4,44,4,47],[5,44,5,45],[4,24,4,27],[5,24,5,25],[4,29,4,32],[5,29,5,30],[4,34,4,37],[5,34,5,35],[1,1,1,2],[5,13,5,14],[26,13,26,14],[27,13,27,14],[4,19,4,22],[5,19,5,20]]}
["Report for:!N130A50.095"]
["Date:","<date>"]
["Hen:","<hen>",null,null,null,"Correct Sequence",{"$f":"Start!J2","v":2212},null,null,null,null,null,null,null,null,"Total Sequences in Data",{"$f":"4994-COUNTBLANK(L7:L5000)","v":9},null,null,null,null,"Total Sequences in Block Data",{"$f":"COUNTA(L7:L8)","v":2},null,null,null,"Total Sequences in Block Data",{"$f":"COUNTA(L9:L9)","v":1},null,null,null,"Total Sequences in Block Data",{"$f":"COUNTA(L10:L11)","v":2},null,null,null,"Total Sequences in Block Data",{"$f":"COUNTA(L12:L12)","v":1},null,null,null,"Total Sequences in Block Data",{"$f":"COUNTA(L13:L14)","v":2},null,null,null,"Total Sequences in Block Data",{"$f":"COUNTA(L15:L15)","v":1}]
[null,null,null,null,null,null,null,null,null,null,null,null,null,null,null,"Total Sequences in Summary",{"$f":"SUM(O7:O22)","v":8},null,null,null,null,"Total Sequences in Block Summary",{"$f":"SUM(U7:U22)","v":2},null,null,null,"Total Sequences in Block Summary",{"$f":"SUM(Z7:Z22)","v":1},null,null,null,"Total Sequences in Block Summary",{"$f":"SUM(AE7:AE22)","v":2},null,null,null,"Total Sequences in Block Summary",{"$f":"SUM(AJ7:AJ22)","v":1},null,null,null,"Total Sequences in Block Summary",{"$f":"SUM(AO7:AO22)","v":2},null,null,null,"Total Sequences in Block Summary",{"$f":"SUM(AT7:AT22)","v":0}]
[null,null,null,null,null,null,null,null,null,null,null,null,null,null,null,null,null,null,null,"Block 1",null,null,null,null,"Block 2",null,null,null,null,"Block 3",null,null,null,null,"Block 4",null,null,null,null,"Block 5",null,null,null,null,"Block 6"]
["Sequence\nComponent\n1","Time\n1","Sequence\nComponent\n2","Time\n2","Sequence\nComponent\n3","Time\n3","Sequence\nComponent\n4","Time\n4","Sequence\nComponent\n5","Time\n5","Correct?\n0=No 1=Yes","Sequence",null,"Frequency",null,"Relative Frequency","Variability",null,null,"Frequency",null,"Relative Frequency","Variability",null,"Frequency",null,"Relative Frequency","Variability",null,"Frequency",null,"Relative Frequency","Variability",null,"Frequency",null,"Relative Frequency","Variability",null,"Frequency",null,"Relative Frequency","Variability",null,"Frequency",null,"Relative Frequency","Variability"]
[12,335,14,470,13,19173,14,19393,null,null,0,1111,null,1111,{"$f":"COUNTIF($L$7:$L$500,N7)","v":1},{"$f":"O7/$Q$4","v":0.125},{"$f":"IF(P7=0,0,(P7*((LOG(P7))/LOG(2))))","v":-0.375},null,null,{"$f":"N7","v":1111},{"$f":"COUNTIF(L7:L8,T7)","v":1},{"$f":"U7/(W4-U20)","v":0.5},{"$f":"IF(V7=0,0,(V7*((LOG(V7))/LOG(2))))","v":-0.5},null,{"$f":"N7","v":1111},{"$f":"COUNTIF(L9:L9,Y7)","v":0},{"$f":"Z7/(AB4-Z20)","v":0},{"$f":"IF(AA7=0,0,(AA7*((LOG(AA7))/LOG(2))))","v":0},null,{"$f":"N7","v":1111},{"$f":"COUNTIF(L10:L11,AD7)","v":0},{"$f":"AE7/(AG4-AE20)","v":{"$error":"#DIV/0!"}},{"$f":"IF(AF7=0,0,(AF7*((LOG(AF7))/LOG(2))))","v":{"$error":"#DIV/0!"}},null,{"$f":"N7","v":1111},{"$f":"COUNTIF(L12:L12,AI7)","v":0},{"$f":"AJ7/(AL4-AJ20)","v":0},{"$f":"IF(AK7=0,0,(AK7*((LOG(AK7))/LOG(2))))","v":0},null,{"$f":"N7","v":1111},{"$f":"COUNTIF(L13:L14,AN7)","v":0},{"$f":"AO7/(AQ4-AO20)","v":0},{"$f":"IF(AP7=0,0,(AP7*((LOG(AP7))/LOG(2))))","v":0},null,{"$f":"N7","v":1111},{"$f":"COUNTIF(L15:L15,AS7)","v":0},{"$f":"AT7/(AV4-AT20)","v":{"$error":"#DIV/0!"}},{"$f":"IF(AU7=0,0,(AU7*((LOG(AU7))/LOG(2))))","v":{"$error":"#DIV/0!"}}]
[12,19512,23,19521,24,19531,23,19548,null,null,0,1222,null,1112,{"$f":"COUNTIF($L$7:$L$500,N8)","v":0},{"$f":"O8/$Q$4","v":0},{"$f":"IF(P8=0,0,(P8*((LOG(P8))/LOG(2))))","v":0},null,null,{"$f":"N8","v":1112},{"$f":"COUNTIF(L7:L8,T8)","v":0},{"$f":"U8/(W4-U20)","v":0},{"$f":"IF(V8=0,0,(V8*((LOG(V8))/LOG(2))))","v":0},null,{"$f":"N8","v":1112},{"$f":"COUNTIF(L9:L9,Y8)","v":0},{"$f":"Z8/(AB4-Z20)","v":0},{"$f":"IF(AA8=0,0,(AA8*((LOG(AA8))/LOG(2))))","v":0},null,{"$f":"N8","v":1112},{"$f":"COUNTIF(L10:L11,AD8)","v":0},{"$f":"AE8/(AG4-AE20)","v":{"$error":"#DIV/0!"}},{"$f":"IF(AF8=0,0,(AF8*((LOG(AF8))/LOG(2))))","v":{"$error":"#DIV/0!"}},null,{"$f":"N8","v":1112},{"$f":"COUNTIF(L12:L12,AI8)","v":0},{"$f":"AJ8/(AL4-AJ20)","v":0},{"$f":"IF(AK8=0,0,(AK8*((LOG(AK8))/LOG(2))))","v":0},null,{"$f":"N8","v":1112},{"$f":"COUNTIF(L13:L14,AN8)","v":0},{"$f":"AO8/(AQ4-AO20)","v":0},{"$f":"IF(AP8=0,0,(AP8*((LOG(AP8))/LOG(2))))","v":0},null,{"$f":"N8","v":1112},{"$f":"COUNTIF(L15:L15,AS8)","v":0},{"$f":"AT8/(AV4-AT20)","v":{"$error":"#DIV/0!"}},{"$f":"IF(AU8=0,0,(AU8*((LOG(AU8))/LOG(2))))","v":{"$error":"#DIV/0!"}}]
[21,19655,21,19669,22,19683,23,19830,null,null,0,2222,null,1121,{"$f":"COUNTIF($L$7:$L$500,N9)","v":0},{"$f":"O9/$Q$4","v":0},{"$f":"IF(P9=0,0,(P9*((LOG(P9))/LOG(2))))","v":0},null,null,{"$f":"N9","v":1121},{"$f":"COUNTIF(L7:L8,T9)","v":0},{"$f":"U9/(W4-U20)","v":0},{"$f":"IF(V9=0,0,(V9*((LOG(V9))/LOG(2))))","v":0},null,{"$f":"N9","v":1121},{"$f":"COUNTIF(L9:L9,Y9)","v":0},{"$f":"Z9/(AB4-Z20)","v":0},{"$f":"IF(AA9=0,0,(AA9*((LOG(AA9))/LOG(2))))","v":0},null,{"$f":"N9","v":1121},{"$f":"COUNTIF(L10:L11,AD9)","v":0},{"$f":"AE9/(AG4-AE20)","v":{"$error":"#DIV/0!"}},{"$f":"IF(AF9=0,0,(AF9*((LOG(AF9))/LOG(2))))","v":{"$error":"#DIV/0!"}},null,{"$f":"N9","v":1121},{"$f":"COUNTIF(L12:L12,AI9)","v":0},{"$f":"AJ9/(AL4-AJ20)","v":0},{"$f":"IF(AK9=0,0,(AK9*((LOG(AK9))/LOG(2))))","v":0},null,{"$f":"N9","v":1121},{"$f":"COUNTIF(L13:L14,AN9)","v":0},{"$f":"AO9/(AQ4-AO20)","v":0},{"$f":"IF(AP9=0,0,(AP9*((LOG(AP9))/LOG(2))))","v":0},null,{"$f":"N9","v":1121},{"$f":"COUNTIF(L15:L15,AS9)","v":0},{"$f":"AT9/(AV4-AT20)","v":{"$error":"#DIV/0!"}},{"$f":"IF(AU9=0,0,(AU9*((LOG(AU9))/LOG(2))))","v":{"$error":"#DIV/0!"}}]
[21,19940,21,19966,11,19977,21,19998,null,null,0,2212,null,1122,{"$f":"COUNTIF($L$7:$L$500,N10)","v":0},{"$f":"O10/$Q$4","v":0},{"$f":"IF(P10=0,0,(P10*((LOG(P10))/LOG(2))))","v":0},null,null,{"$f":"N10","v":1122},{"$f":"COUNTIF(L7:L8,T10)","v":0},{"$f":"U10/(W4-U20)","v":0},{"$f":"IF(V10=0,0,(V10*((LOG(V10))/LOG(2))))","v":0},null,{"$f":"N10","v":1122},{"$f":"COUNTIF(L9:L9,Y10)","v":0},{"$f":"Z10/(AB4-Z20)","v":0},{"$f":"IF(AA10=0,0,(AA10*((LOG(AA10))/LOG(2))))","v":0},null,{"$f":"N10","v":1122},{"$f":"COUNTIF(L10:L11,AD10)","v":0},{"$f":"AE10/(AG4-AE20)","v":{"$error":"#DIV/0!"}},{"$f":"IF(AF10=0,0,(AF10*((LOG(AF10))/LOG(2))))","v":{"$error":"#DIV/0!"}},null,{"$f":"N10","v":1122},{"$f":"COUNTIF(L12:L12,AI10)","v":0},{"$f":"AJ10/(AL4-AJ20)","v":0},{"$f":"IF(AK10=0,0,(AK10*((LOG(AK10))/LOG(2))))","v":0},null,{"$f":"N10","v":1122},{"$f":"COUNTIF(L13:L14,AN10)","v":0},{"$f":"AO10/(AQ4-AO20)","v":0},{"$f":"IF(AP10=0,0,(AP10*((LOG(AP10))/LOG(2))))","v":0},null,{"$f":"N10","v":1122},{"$f":"COUNTIF(L15:L15,AS10)","v":0},{"$f":"AT10/(AV4-AT20)","v":{"$error":"#DIV/0!"}},{"$f":"IF(AU10=0,0,(AU10*((LOG(AU10))/LOG(2))))","v":{"$error":"#DIV/0!"}}]
[21,20096,21,20104,11,20130,21,20138,null,null,0,2212,null,1211,{"$f":"COUNTIF($L$7:$L$500,N11)","v":0},{"$f":"O11/$Q$4","v":0},{"$f":"IF(P11=0,0,(P11*((LOG(P11))/LOG(2))))","v":0},null,null,{"$f":"N11","v":1211},{"$f":"COUNTIF(L7:L8,T11)","v":0},{"$f":"U11/(W4-U20)","v":0},{"$f":"IF(V11=0,0,(V11*((LOG(V11))/LOG(2))))","v":0},null,{"$f":"N11","v":1211},{"$f":"COUNTIF(L9:L9,Y11)","v":0},{"$f":"Z11/(AB4-Z20)","v":0},{"$f":"IF(AA11=0,0,(AA11*((LOG(AA11))/LOG(2))))","v":0},null,{"$f":"N11","v":1211},{"$f":"COUNTIF(L10:L11,AD11)","v":0},{"$f":"AE11/(AG4-AE20)","v":{"$error":"#DIV/0!"}},{"$f":"IF(AF11=0,0,(AF11*((LOG(AF11))/LOG(2))))","v":{"$error":"#DIV/0!"}},null,{"$f":"N11","v":1211},{"$f":"COUNTIF(L12:L12,AI11)","v":0},{"$f":"AJ11/(AL4-AJ20)","v":0},{"$f":"IF(AK11=0,0,(AK11*((LOG(AK11))/LOG(2))))","v":0},null,{"$f":"N11","v":1211},{"$f":"COUNTIF(L13:L14,AN11)","v":0},{"$f":"AO11/(AQ4-AO20)","v":0},{"$f":"IF(AP11=0,0,(AP11*((LOG(AP11))/LOG(2))))","v":0},null,{"$f":"N11","v":1211},{"$f":"COUNTIF(L15:L15,AS11)","v":0},{"$f":"AT11/(AV4-AT20)","v":{"$error":"#DIV/0!"}},{"$f":"IF(AU11=0,0,(AU11*((LOG(AU11))/LOG(2))))","v":{"$error":"#DIV/0!"}}]
[21,20238,12,20282,24,20333,23,20341,null,null,0,2122,null,1212,{"$f":"COUNTIF($L$7:$L$500,N12)","v":0},{"$f":"O12/$Q$4","v":0},{"$f":"IF(P12=0,0,(P12*((LOG(P12))/LOG(2))))","v":0},null,null,{"$f":"N12","v":1212},{"$f":"COUNTIF(L7:L8,T12)","v":0},{"$f":"U12/(W4-U20)","v":0},{"$f":"IF(V12=0,0,(V12*((LOG(V12))/LOG(2))))","v":0},null,{"$f":"N12","v":1212},{"$f":"COUNTIF(L9:L9,Y12)","v":0},{"$f":"Z12/(AB4-Z20)","v":0},{"$f":"IF(AA12=0,0,(AA12*((LOG(AA12))/LOG(2))))","v":0},null,{"$f":"N12","v":1212},{"$f":"COUNTIF(L10:L11,AD12)","v":0},{"$f":"AE12/(AG4-AE20)","v":{"$error":"#DIV/0!"}},{"$f":"IF(AF12=0,0,(AF12*((LOG(AF12))/LOG(2))))","v":{"$error":"#DIV/0!"}},null,{"$f":"N12","v":1212},{"$f":"COUNTIF(L12:L12,AI12)","v":0},{"$f":"AJ12/(AL4-AJ20)","v":0},{"$f":"IF(AK12=0,0,(AK12*((LOG(AK12))/LOG(2))))","v":0},null,{"$f":"N12","v":1212},{"$f":"COUNTIF(L13:L14,AN12)","v":0},{"$f":"AO12/(AQ4-AO20)","v":0},{"$f":"IF(AP12=0,0,(AP12*((LOG(AP12))/LOG(2))))","v":0},null,{"$f":"N12","v":1212},{"$f":"COUNTIF(L15:L15,AS12)","v":0},{"$f":"AT12/(AV4-AT20)","v":{"$error":"#DIV/0!"}},{"$f":"IF(AU12=0,0,(AU12*((LOG(AU12))/LOG(2))))","v":{"$error":"#DIV/0!"}}]
[21,20454,21,20466,11,20474,21,20483,null,null,0,2212,null,1221,{"$f":"COUNTIF($L$7:$L$500,N13)","v":0},{"$f":"O13/$Q$4","v":0},{"$f":"IF(P13=0,0,(P13*((LOG(P13))/LOG(2))))","v":0},null,null,{"$f":"N13","v":1221},{"$f":"COUNTIF(L7:L8,T13)","v":0},{"$f":"U13/(W4-U20)","v":0},{"$f":"IF(V13=0,0,(V13*((LOG(V13))/LOG(2))))","v":0},null,{"$f":"N13","v":1221},{"$f":"COUNTIF(L9:L9,Y13)","v":0},{"$f":"Z13/(AB4-Z20)","v":0},{"$f":"IF(AA13=0,0,(AA13*((LOG(AA13))/LOG(2))))","v":0},null,{"$f":"N13","v":1221},{"$f":"COUNTIF(L10:L11,AD13)","v":0},{"$f":"AE13/(AG4-AE20)","v":{"$error":"#DIV/0!"}},{"$f":"IF(AF13=0,0,(AF13*((LOG(AF13))/LOG(2))))","v":{"$error":"#DIV/0!"}},null,{"$f":"N13","v":1221},{"$f":"COUNTIF(L12:L12,AI13)","v":0},{"$f":"AJ13/(AL4-AJ20)","v":0},{"$f":"IF(AK13=0,0,(AK13*((LOG(AK13))/LOG(2))))","v":0},null,{"$f":"N13","v":1221},{"$f":"COUNTIF(L13:L14,AN13)","v":0},{"$f":"AO13/(AQ4-AO20)","v":0},{"$f":"IF(AP13=0,0,(AP13*((LOG(AP13))/LOG(2))))","v":0},null,{"$f":"N13","v":1221},{"$f":"COUNTIF(L15:L15,AS13)","v":0},{"$f":"AT13/(AV4-AT20)","v":{"$error":"#DIV/0!"}},{"$f":"IF(AU13=0,0,(AU13*((LOG(AU13))/LOG(2))))","v":{"$error":"#DIV/0!"}}]
[21,20584,12,20593,24,20617,23,20660,null,null,0,2122,null,1222,{"$f":"COUNTIF($L$7:$L$500,N14)","v":1},{"$f":"O14/$Q$4","v":0.125},{"$f":"IF(P14=0,0,(P14*((LOG(P14))/LOG(2))))","v":-0.375},null,null,{"$f":"N14","v":1222},{"$f":"COUNTIF(L7:L8,T14)","v":1},{"$f":"U14/(W4-U20)","v":0.5},{"$f":"IF(V14=0,0,(V14*((LOG(V14))/LOG(2))))","v":-0.5},null,{"$f":"N14","v":1222},{"$f":"COUNTIF(L9:L9,Y14)","v":0},{"$f":"Z14/(AB4-Z20)","v":0},{"$f":"IF(AA14=0,0,(AA14*((LOG(AA14))/LOG(2))))","v":0},null,{"$f":"N14","v":1222},{"$f":"COUNTIF(L10:L11,AD14)","v":0},{"$f":"AE14/(AG4-AE20)","v":{"$error":"#DIV/0!"}},{"$f":"IF(AF14=0,0,(AF14*((LOG(AF14))/LOG(2))))","v":{"$error":"#DIV/0!"}},null,{"$f":"N14","v":1222},{"$f":"COUNTIF(L12:L12,AI14)","v":0},{"$f":"AJ14/(AL4-AJ20)","v":0},{"$f":"IF(AK14=0,0,(AK14*((LOG(AK14))/LOG(2))))","v":0},null,{"$f":"N14","v":1222},{"$f":"COUNTIF(L13:L14,AN14)","v":0},{"$f":"AO14/(AQ4-AO20)","v":0},{"$f":"IF(AP14=0,0,(AP14*((LOG(AP14))/LOG(2))))","v":0},null,{"$f":"N14","v":1222},{"$f":"COUNTIF(L15:L15,AS14)","v":0},{"$f":"AT14/(AV4-AT20)","v":{"$error":"#DIV/0!"}},{"$f":"IF(AU14=0,0,(AU14*((LOG(AU14))/LOG(2))))","v":{"$error":"#DIV/0!"}}]
[21,20767,21,20784,11,20793,null,null,null,null,null,221,null,2111,{"$f":"COUNTIF($L$7:$L$500,N15)","v":0},{"$f":"O15/$Q$4","v":0},{"$f":"IF(P15=0,0,(P15*((LOG(P15))/LOG(2))))","v":0},null,null,{"$f":"N15","v":2111},{"$f":"COUNTIF(L7:L8,T15)","v":0},{"$f":"U15/(W4-U20)","v":0},{"$f":"IF(V15=0,0,(V15*((LOG(V15))/LOG(2))))","v":0},null,{"$f":"N15","v":2111},{"$f":"COUNTIF(L9:L9,Y15)","v":0},{"$f":"Z15/(AB4-Z20)","v":0},{"$f":"IF(AA15=0,0,(AA15*((LOG(AA15))/LOG(2))))","v":0},null,{"$f":"N15","v":2111},{"$f":"COUNTIF(L10:L11,AD15)","v":0},{"$f":"AE15/(AG4-AE20)","v":{"$error":"#DIV/0!"}},{"$f":"IF(AF15=0,0,(AF15*((LOG(AF15))/LOG(2))))","v":{"$error":"#DIV/0!"}},null,{"$f":"N15","v":2111},{"$f":"COUNTIF(L12:L12,AI15)","v":0},{"$f":"AJ15/(AL4-AJ20)","v":0},{"$f":"IF(AK15=0,0,(AK15*((LOG(AK15))/LOG(2))))","v":0},null,{"$f":"N15","v":2111},{"$f":"COUNTIF(L13:L14,AN15)","v":0},{"$f":"AO15/(AQ4-AO20)","v":0},{"$f":"IF(AP15=0,0,(AP15*((LOG(AP15))/LOG(2))))","v":0},null,{"$f":"N15","v":2111},{"$f":"COUNTIF(L15:L15,AS15)","v":0},{"$f":"AT15/(AV4-AT20)","v":{"$error":"#DIV/0!"}},{"$f":"IF(AU15=0,0,(AU15*((LOG(AU15))/LOG(2))))","v":{"$error":"#DIV/0!"}}]
[null,null,null,null,null,null,null,null,null,null,null,null,null,2112,{"$f":"COUNTIF($L$7:$L$500,N16)","v":0},{"$f":"O16/$Q$4","v":0},{"$f":"IF(P16=0,0,(P16*((LOG(P16))/LOG(2))))","v":0},null,null,{"$f":"N16","v":2112},{"$f":"COUNTIF(L7:L8,T16)","v":0},{"$f":"U16/(W4-U20)","v":0},{"$f":"IF(V16=0,0,(V16*((LOG(V16))/LOG(2))))","v":0},null,{"$f":"N16","v":2112},{"$f":"COUNTIF(L9:L9,Y16)","v":0},{"$f":"Z16/(AB4-Z20)","v":0},{"$f":"IF(AA16=0,0,(AA16*((LOG(AA16))/LOG(2))))","v":0},null,{"$f":"N16","v":2112},{"$f":"COUNTIF(L10:L11,AD16)","v":0},{"$f":"AE16/(AG4-AE20)","v":{"$error":"#DIV/0!"}},{"$f":"IF(AF16=0,0,(AF16*((LOG(AF16))/LOG(2))))","v":{"$error":"#DIV/0!"}},null,{"$f":"N16","v":2112},{"$f":"COUNTIF(L12:L12,AI16)","v":0},{"$f":"AJ16/(AL4-AJ20)","v":0},{"$f":"IF(AK16=0,0,(AK16*((LOG(AK16))/LOG(2))))","v":0},null,{"$f":"N16","v":2112},{"$f":"COUNTIF(L13:L14,AN16)","v":0},{"$f":"AO16/(AQ4-AO20)","v":0},{"$f":"IF(AP16=0,0,(AP16*((LOG(AP16))/LOG(2))))","v":0},null,{"$f":"N16","v":2112},{"$f":"COUNTIF(L15:L15,AS16)","v":0},{"$f":"AT16/(AV4-AT20)","v":{"$error":"#DIV/0!"}},{"$f":"IF(AU16=0,0,(AU16*((LOG(AU16))/LOG(2))))","v":{"$error":"#DIV/0!"}}]
[null,null,null,null,null,null,null,null,null,null,null,null,null,2121,{"$f":"COUNTIF($L$7:$L$500,N17)","v":0},{"$f":"O17/$Q$4","v":0},{"$f":"IF(P17=0,0,(P17*((LOG(P17))/LOG(2))))","v":0},null,null,{"$f":"N17","v":2121},{"$f":"COUNTIF(L7:L8,T17)","v":0},{"$f":"U17/(W4-U20)","v":0},{"$f":"IF(V17=0,0,(V17*((LOG(V17))/LOG(2))))","v":0},null,{"$f":"N17","v":2121},{"$f":"COUNTIF(L9:L9,Y17)","v":0},{"$f":"Z17/(AB4-Z20)","v":0},{"$f":"IF(AA17=0,0,(AA17*((LOG(AA17))/LOG(2))))","v":0},null,{"$f":"N17","v":2121},{"$f":"COUNTIF(L10:L11,AD17)","v":0},{"$f":"AE17/(AG4-AE20)","v":{"$error":"#DIV/0!"}},{"$f":"IF(AF17=0,0,(AF17*((LOG(AF17))/LOG(2))))","v":{"$error":"#DIV/0!"}},null,{"$f":"N17","v":2121},{"$f":"COUNTIF(L12:L12,AI17)","v":0},{"$f":"AJ17/(AL4-AJ20)","v":0},{"$f":"IF(AK17=0,0,(AK17*((LOG(AK17))/LOG(2))))","v":0},null,{"$f":"N17","v":2121},{"$f":"COUNTIF(L13:L14,AN17)","v":0},{"$f":"AO17/(AQ4-AO20)","v":0},{"$f":"IF(AP17=0,0,(AP17*((LOG(AP17))/LOG(2))))","v":0},null,{"$f":"N17","v":2121},{"$f":"COUNTIF(L15:L15,AS17)","v":0},{"$f":"AT17/(AV4-AT20)","v":{"$error":"#DIV/0!"}},{"$f":"IF(AU17=0,0,(AU17*((LOG(AU17))/LOG(2))))","v":{"$error":"#DIV/0!"}}]
[null,null,null,null,null,null,null,null,null,null,null,null,null,2122,{"$f":"COUNTIF($L$7:$L$500,N18)","v":2},{"$f":"O18/$Q$4","v":0.25},{"$f":"IF(P18=0,0,(P18*((LOG(P18))/LOG(2))))","v":-0.5},null,null,{"$f":"N18","v":2122},{"$f":"COUNTIF(L7:L8,T18)","v":0},{"$f":"U18/(W4-U20)","v":0},{"$f":"IF(V18=0,0,(V18*((LOG(V18))/LOG(2))))","v":0},null,{"$f":"N18","v":2122},{"$f":"COUNTIF(L9:L9,Y18)","v":0},{"$f":"Z18/(AB4-Z20)","v":0},{"$f":"IF(AA18=0,0,(AA18*((LOG(AA18))/LOG(2))))","v":0},null,{"$f":"N18","v":2122},{"$f":"COUNTIF(L10:L11,AD18)","v":0},{"$f":"AE18/(AG4-AE20)","v":{"$error":"#DIV/0!"}},{"$f":"IF(AF18=0,0,(AF18*((LOG(AF18))/LOG(2))))","v":{"$error":"#DIV/0!"}},null,{"$f":"N18","v":2122},{"$f":"COUNTIF(L12:L12,AI18)","v":1},{"$f":"AJ18/(AL4-AJ20)","v":1},{"$f":"IF(AK18=0,0,(AK18*((LOG(AK18))/LOG(2))))","v":0},null,{"$f":"N18","v":2122},{"$f":"COUNTIF(L13:L14,AN18)","v":1},{"$f":"AO18/(AQ4-AO20)","v":1},{"$f":"IF(AP18=0,0,(AP18*((LOG(AP18))/LOG(2))))","v":0},null,{"$f":"N18","v":2122},{"$f":"COUNTIF(L15:L15,AS18)","v":0},{"$f":"AT18/(AV4-AT20)","v":{"$error":"#DIV/0!"}},{"$f":"IF(AU18=0,0,(AU18*((LOG(AU18))/LOG(2))))","v":{"$error":"#DIV/0!"}}]
[null,null,null,null,null,null,null,null,null,null,null,null,null,2211,{"$f":"COUNTIF($L$7:$L$500,N19)","v":0},{"$f":"O19/$Q$4","v":0},{"$f":"IF(P19=0,0,(P19*((LOG(P19))/LOG(2))))","v":0},null,null,{"$f":"N19","v":2211},{"$f":"COUNTIF(L7:L8,T19)","v":0},{"$f":"U19/(W4-U20)","v":0},{"$f":"IF(V19=0,0,(V19*((LOG(V19))/LOG(2))))","v":0},null,{"$f":"N19","v":2211},{"$f":"COUNTIF(L9:L9,Y19)","v":0},{"$f":"Z19/(AB4-Z20)","v":0},{"$f":"IF(AA19=0,0,(AA19*((LOG(AA19))/LOG(2))))","v":0},null,{"$f":"N19","v":2211},{"$f":"COUNTIF(L10:L11,AD19)","v":0},{"$f":"AE19/(AG4-AE20)","v":{"$error":"#DIV/0!"}},{"$f":"IF(AF19=0,0,(AF19*((LOG(AF19))/LOG(2))))","v":{"$error":"#DIV/0!"}},null,{"$f":"N19","v":2211},{"$f":"COUNTIF(L12:L12,AI19)","v":0},{"$f":"AJ19/(AL4-AJ20)","v":0},{"$f":"IF(AK19=0,0,(AK19*((LOG(AK19))/LOG(2))))","v":0},null,{"$f":"N19","v":2211},{"$f":"COUNTIF(L13:L14,AN19)","v":0},{"$f":"AO19/(AQ4-AO20)","v":0},{"$f":"IF(AP19=0,0,(AP19*((LOG(AP19))/LOG(2))))","v":0},null,{"$f":"N19","v":2211},{"$f":"COUNTIF(L15:L15,AS19)","v":0},{"$f":"AT19/(AV4-AT20)","v":{"$error":"#DIV/0!"}},{"$f":"IF(AU19=0,0,(AU19*((LOG(AU19))/LOG(2))))","v":{"$error":"#DIV/0!"}}]
[null,null,null,null,null,null,null,null,null,null,null,null,null,2212,{"$f":"COUNTIF($L$7:$L$500,N20)","v":3},{"$f":"O20/$Q$4","v":0.375},{"$f":"IF(P20=0,0,(P20*((LOG(P20))/LOG(2))))","v":-0.53063906222956647},null,null,{"$f":"N20","v":2212},{"$f":"COUNTIF(L7:L8,T20)","v":0},null,null,null,{"$f":"N20","v":2212},{"$f":"COUNTIF(L9:L9,Y20)","v":0},null,null,null,{"$f":"N20","v":2212},{"$f":"COUNTIF(L10:L11,AD20)","v":2},null,null,null,{"$f":"N20","v":2212},{"$f":"COUNTIF(L12:L12,AI20)","v":0},null,null,null,{"$f":"N20","v":2212},{"$f":"COUNTIF(L13:L14,AN20)","v":1},null,null,null,{"$f":"N20","v":2212},{"$f":"COUNTIF(L15:L15,AS20)","v":0}]
[null,null,null,null,null,null,null,null,null,null,null,null,null,2221,{"$f":"COUNTIF($L$7:$L$500,N21)","v":0},{"$f":"O21/$Q$4","v":0},{"$f":"IF(P21=0,0,(P21*((LOG(P21))/LOG(2))))","v":0},null,null,{"$f":"N21","v":2221},{"$f":"COUNTIF(L7:L8,T21)","v":0},{"$f":"U21/(W4-U20)","v":0},{"$f":"IF(V21=0,0,(V21*((LOG(V21))/LOG(2))))","v":0},null,{"$f":"N21","v":2221},{"$f":"COUNTIF(L9:L9,Y21)","v":0},{"$f":"Z21/(AB4-Z20)","v":0},{"$f":"IF(AA21=0,0,(AA21*((LOG(AA21))/LOG(2))))","v":0},null,{"$f":"N21","v":2221},{"$f":"COUNTIF(L10:L11,AD21)","v":0},{"$f":"AE21/(AG4-AE20)","v":{"$error":"#DIV/0!"}},{"$f":"IF(AF21=0,0,(AF21*((LOG(AF21))/LOG(2))))","v":{"$error":"#DIV/0!"}},null,{"$f":"N21","v":2221},{"$f":"COUNTIF(L12:L12,AI21)","v":0},{"$f":"AJ21/(AL4-AJ20)","v":0},{"$f":"IF(AK21=0,0,(AK21*((LOG(AK21))/LOG(2))))","v":0},null,{"$f":"N21","v":2221},{"$f":"COUNTIF(L13:L14,AN21)","v":0},{"$f":"AO21/(AQ4-AO20)","v":0},{"$f":"IF(AP21=0,0,(AP21*((LOG(AP21))/LOG(2))))","v":0},null,{"$f":"N21","v":2221},{"$f":"COUNTIF(L15:L15,AS21)","v":0},{"$f":"AT21/(AV4-AT20)","v":{"$error":"#DIV/0!"}},{"$f":"IF(AU21=0,0,(AU21*((LOG(AU21))/LOG(2))))","v":{"$error":"#DIV/0!"}}]
[null,null,null,null,null,null,null,null,null,null,null,null,null,2222,{"$f":"COUNTIF($L$7:$L$500,N22)","v":1},{"$f":"O22/$Q$4","v":0.125},{"$f":"IF(P22=0,0,(P22*((LOG(P22))/LOG(2))))","v":-0.375},null,null,{"$f":"N22","v":2222},{"$f":"COUNTIF(L7:L8,T22)","v":0},{"$f":"U22/(W4-U20)","v":0},{"$f":"IF(V22=0,0,(V22*((LOG(V22))/LOG(2))))","v":0},null,{"$f":"N22","v":2222},{"$f":"COUNTIF(L9:L9,Y22)","v":1},{"$f":"Z22/(AB4-Z20)","v":1},{"$f":"IF(AA22=0,0,(AA22*((LOG(AA22))/LOG(2))))","v":0},null,{"$f":"N22","v":2222},{"$f":"COUNTIF(L10:L11,AD22)","v":0},{"$f":"AE22/(AG4-AE20)","v":{"$error":"#DIV/0!"}},{"$f":"IF(AF22=0,0,(AF22*((LOG(AF22))/LOG(2))))","v":{"$error":"#DIV/0!"}},null,{"$f":"N22","v":2222},{"$f":"COUNTIF(L12:L12,AI22)","v":0},{"$f":"AJ22/(AL4-AJ20)","v":0},{"$f":"IF(AK22=0,0,(AK22*((LOG(AK22))/LOG(2))))","v":0},null,{"$f":"N22","v":2222},{"$f":"COUNTIF(L13:L14,AN22)","v":0},{"$f":"AO22/(AQ4-AO20)","v":0},{"$f":"IF(AP22=0,0,(AP22*((LOG(AP22))/LOG(2))))","v":0},null,{"$f":"N22","v":2222},{"$f":"COUNTIF(L15:L15,AS22)","v":0},{"$f":"AT22/(AV4-AT20)","v":{"$error":"#DIV/0!"}},{"$f":"IF(AU22=0,0,(AU22*((LOG(AU22))/LOG(2))))","v":{"$error":"#DIV/0!"}}]
[null,null,null,null,null,null,null,null,null,null,null,null,null,null,null,{"$f":"SUM(P7:P22)","v":1},{"$f":"-SUM(Q7:Q22)","v":2.1556390622295662},null,null,null,null,{"$f":"SUM(V7:V22)","v":1},{"$f":"-SUM(W7:W22)","v":1},null,null,null,{"$f":"SUM(AA7:AA22)","v":1},{"$f":"-SUM(AB7:AB22)","v":0},null,null,null,{"$f":"SUM(AF7:AF22)","v":{"$error":"#DIV/0!"}},{"$f":"-SUM(AG7:AG22)","v":{"$error":"#DIV/0!"}},null,null,null,{"$f":"SUM(AK7:AK22)","v":1},{"$f":"-SUM(AL7:AL22)","v":0},null,null,null,{"$f":"SUM(AP7:AP22)","v":1},{"$f":"-SUM(AQ7:AQ22)","v":0},null,null,null,{"$f":"SUM(AU7:AU22)","v":{"$error":"#DIV/0!"}},{"$f":"-SUM(AV7:AV22)","v":{"$error":"#DIV/0!"}}]
[null,null,null,null,null,null,null,null,null,null,null,null,null,null,null,"U=",{"$f":"Q23/(LOG(Q4)/LOG(2))","v":0.71854635407652212},null,null,null,null,"U1=",{"$f":"W23/(LOG(W4)/LOG(2))","v":1},null,null,null,"U2=",{"$f":"AB23/(LOG(AB4)/LOG(2))","v":{"$error":"#DIV/0!"}},null,null,null,"U3=",{"$f":"AG23/(LOG(AG4)/LOG(2))","v":{"$error":"#DIV/0!"}},null,null,null,"U4=",{"$f":"AL23/(LOG(AL4)/LOG(2))","v":{"$error":"#DIV/0!"}},null,null,null,"U5=",{"$f":"AQ23/(LOG(AQ4)/LOG(2))","v":0},null,null,null,"U6=",{"$f":"AV23/(LOG(AV4)/LOG(2))","v":{"$error":"#DIV/0!"}}]
[]
[]
[null,null,null,null,null,null,null,null,null,null,null,null,null,"Total Target Seq"]
[null,null,null,null,null,null,null,null,null,null,null,null,null,{"$f":"COUNTIF(L7:L15,G3)","v":3},null,2,1,2,1,2,1]
[null,null,null,null,null,null,null,null,null,null,null,null,null,null,null,"% of reinforcement given in 6 equal intervals based on number of trials "]
[null,null,null,null,null,null,null,null,null,null,null,null,null,null,null,"%_1","%_2","%_3","%_4","%_5","%_6"]
[null,null,null,null,null,null,null,null,null,null,null,null,null,null,"target sequence",{"$f":"$G$3","v":2212},{"$f":"$G$3","v":2212},{"$f":"$G$3","v":2212},{"$f":"$G$3","v":2212},{"$f":"$G$3","v":2212},{"$f":"$G$3","v":2212}]
[null,null,null,null,null,null,null,null,null,null,null,null,null,null,"total reinforcement",{"$f":"U20","v":0},{"$f":"Z20","v":0},{"$f":"AE20","v":2},{"$f":"AJ20","v":0},{"$f":"AO20","v":1},{"$f":"AT20","v":0}]
[null,null,null,null,null,null,null,null,null,null,null,null,null,null,"% target"]
[null,null,null,null,null,null,null,null,null,null,null,null,null,null,"CCRF"]
[null,null,null,null,null,null,null,null,null,null,null,null,null,null,"% CCRf"]
[null,null,null,null,null,null,null,null,null,null,null,null,null,null,"average response rate",{"$f":"H8/P28","v":9774},{"$f":"(H9-H8)/Q28","v":282},{"$f":"(H11-H9)/R28","v":154},{"$f":"(H12-H11)/S28","v":203},{"$f":"(H14-H12)/T28","v":159.5},{"$f":"(H15-H14)/U28","v":-20660}]

{"sheet":"!N202B50.095","index":32,"n_rows":97,"n_cols":48,"rows_kept":97,"cut":false,"hidden":false,"merged":[[4,39,4,42],[5,39,5,40],[4,44,4,47],[5,44,5,45],[4,24,4,27],[5,24,5,25],[4,29,4,32],[5,29,5,30],[4,34,4,37],[5,34,5,35],[1,1,1,2],[5,13,5,14],[26,13,26,14],[27,13,27,14],[4,19,4,22],[5,19,5,20]]}
["Report for:!N202B50.095"]
["Date:","<date>"]
["Hen:","<hen>",null,null,null,"Correct Sequence",{"$f":"Start!J2","v":2212},null,null,null,null,null,null,null,null,"Total Sequences in Data",{"$f":"4994-COUNTBLANK(L7:L5000)","v":91},null,null,null,null,"Total Sequences in Block Data",{"$f":"COUNTA(L7:L21)","v":15},null,null,null,"Total Sequences in Block Data",{"$f":"COUNTA(L22:L36)","v":15},null,null,null,"Total Sequences in Block Data",{"$f":"COUNTA(L37:L52)","v":16},null,null,null,"Total Sequences in Block Data",{"$f":"COUNTA(L53:L67)","v":15},null,null,null,"Total Sequences in Block Data",{"$f":"COUNTA(L68:L82)","v":15},null,null,null,"Total Sequences in Block Data",{"$f":"COUNTA(L83:L97)","v":15}]
[null,null,null,null,null,null,null,null,null,null,null,null,null,null,null,"Total Sequences in Summary",{"$f":"SUM(O7:O22)","v":91},null,null,null,null,"Total Sequences in Block Summary",{"$f":"SUM(U7:U22)","v":15},null,null,null,"Total Sequences in Block Summary",{"$f":"SUM(Z7:Z22)","v":15},null,null,null,"Total Sequences in Block Summary",{"$f":"SUM(AE7:AE22)","v":16},null,null,null,"Total Sequences in Block Summary",{"$f":"SUM(AJ7:AJ22)","v":15},null,null,null,"Total Sequences in Block Summary",{"$f":"SUM(AO7:AO22)","v":15},null,null,null,"Total Sequences in Block Summary",{"$f":"SUM(AT7:AT22)","v":15}]
[null,null,null,null,null,null,null,null,null,null,null,null,null,null,null,null,null,null,null,"Block 1",null,null,null,null,"Block 2",null,null,null,null,"Block 3",null,null,null,null,"Block 4",null,null,null,null,"Block 5",null,null,null,null,"Block 6"]
["Sequence\nComponent\n1","Time\n1","Sequence\nComponent\n2","Time\n2","Sequence\nComponent\n3","Time\n3","Sequence\nComponent\n4","Time\n4","Sequence\nComponent\n5","Time\n5","Correct?\n0=No 1=Yes","Sequence",null,"Frequency",null,"Relative Frequency","Variability",null,null,"Frequency",null,"Relative Frequency","Variability",null,"Frequency",null,"Relative Frequency","Variability",null,"Frequency",null,"Relative Frequency","Variability",null,"Frequency",null,"Relative Frequency","Variability",null,"Frequency",null,"Relative Frequency","Variability",null,"Frequency",null,"Relative Frequency","Variability"]
[21,14,12,41,24,57,14,87,null,null,0,2121,null,1111,{"$f":"COUNTIF($L$7:$L$500,N7)","v":0},{"$f":"O7/$Q$4","v":0},{"$f":"IF(P7=0,0,(P7*((LOG(P7))/LOG(2))))","v":0},null,null,{"$f":"N7","v":1111},{"$f":"COUNTIF(L7:L21,T7)","v":0},{"$f":"U7/(W4-U20)","v":0},{"$f":"IF(V7=0,0,(V7*((LOG(V7))/LOG(2))))","v":0},null,{"$f":"N7","v":1111},{"$f":"COUNTIF(L22:L36,Y7)","v":0},{"$f":"Z7/(AB4-Z20)","v":0},{"$f":"IF(AA7=0,0,(AA7*((LOG(AA7))/LOG(2))))","v":0},null,{"$f":"N7","v":1111},{"$f":"COUNTIF(L37:L52,AD7)","v":0},{"$f":"AE7/(AG4-AE20)","v":0},{"$f":"IF(AF7=0,0,(AF7*((LOG(AF7))/LOG(2))))","v":0},null,{"$f":"N7","v":1111},{"$f":"COUNTIF(L53:L67,AI7)","v":0},{"$f":"AJ7/(AL4-AJ20)","v":0},{"$f":"IF(AK7=0,0,(AK7*((LOG(AK7))/LOG(2))))","v":0},null,{"$f":"N7","v":1111},{"$f":"COUNTIF(L68:L82,AN7)","v":0},{"$f":"AO7/(AQ4-AO20)","v":0},{"$f":"IF(AP7=0,0,(AP7*((LOG(AP7))/LOG(2))))","v":0},null,{"$f":"N7","v":1111},{"$f":"COUNTIF(L83:L97,AS7)","v":0},{"$f":"AT7/(AV4-AT20)","v":0},{"$f":"IF(AU7=0,0,(AU7*((LOG(AU7))/LOG(2))))","v":0}]
[21,204,21,215,11,223,21,231,null,null,0,2212,null,1112,{"$f":"COUNTIF($L$7:$L$500,N8)","v":0},{"$f":"O8/$Q$4","v":0},{"$f":"IF(P8=0,0,(P8*((LOG(P8))/LOG(2))))","v":0},null,null,{"$f":"N8","v":1112},{"$f":"COUNTIF(L7:L21,T8)","v":0},{"$f":"U8/(W4-U20)","v":0},{"$f":"IF(V8=0,0,(V8*((LOG(V8))/LOG(2))))","v":0},null,{"$f":"N8","v":1112},{"$f":"COUNTIF(L22:L36,Y8)","v":0},{"$f":"Z8/(AB4-Z20)","v":0},{"$f":"IF(AA8=0,0,(AA8*((LOG(AA8))/LOG(2))))","v":0},null,{"$f":"N8","v":1112},{"$f":"COUNTIF(L37:L52,AD8)","v":0},{"$f":"AE8/(AG4-AE20)","v":0},{"$f":"IF(AF8=0,0,(AF8*((LOG(AF8))/LOG(2))))","v":0},null,{"$f":"N8","v":1112},{"$f":"COUNTIF(L53:L67,AI8)","v":0},{"$f":"AJ8/(AL4-AJ20)","v":0},{"$f":"IF(AK8=0,0,(AK8*((LOG(AK8))/LOG(2))))","v":0},null,{"$f":"N8","v":1112},{"$f":"COUNTIF(L68:L82,AN8)","v":0},{"$f":"AO8/(AQ4-AO20)","v":0},{"$f":"IF(AP8=0,0,(AP8*((LOG(AP8))/LOG(2))))","v":0},null,{"$f":"N8","v":1112},{"$f":"COUNTIF(L83:L97,AS8)","v":0},{"$f":"AT8/(AV4-AT20)","v":0},{"$f":"IF(AU8=0,0,(AU8*((LOG(AU8))/LOG(2))))","v":0}]
[21,346,12,354,24,383,23,391,null,null,0,2122,null,1121,{"$f":"COUNTIF($L$7:$L$500,N9)","v":0},{"$f":"O9/$Q$4","v":0},{"$f":"IF(P9=0,0,(P9*((LOG(P9))/LOG(2))))","v":0},null,null,{"$f":"N9","v":1121},{"$f":"COUNTIF(L7:L21,T9)","v":0},{"$f":"U9/(W4-U20)","v":0},{"$f":"IF(V9=0,0,(V9*((LOG(V9))/LOG(2))))","v":0},null,{"$f":"N9","v":1121},{"$f":"COUNTIF(L22:L36,Y9)","v":0},{"$f":"Z9/(AB4-Z20)","v":0},{"$f":"IF(AA9=0,0,(AA9*((LOG(AA9))/LOG(2))))","v":0},null,{"$f":"N9","v":1121},{"$f":"COUNTIF(L37:L52,AD9)","v":0},{"$f":"AE9/(AG4-AE20)","v":0},{"$f":"IF(AF9=0,0,(AF9*((LOG(AF9))/LOG(2))))","v":0},null,{"$f":"N9","v":1121},{"$f":"COUNTIF(L53:L67,AI9)","v":0},{"$f":"AJ9/(AL4-AJ20)","v":0},{"$f":"IF(AK9=0,0,(AK9*((LOG(AK9))/LOG(2))))","v":0},null,{"$f":"N9","v":1121},{"$f":"COUNTIF(L68:L82,AN9)","v":0},{"$f":"AO9/(AQ4-AO20)","v":0},{"$f":"IF(AP9=0,0,(AP9*((LOG(AP9))/LOG(2))))","v":0},null,{"$f":"N9","v":1121},{"$f":"COUNTIF(L83:L97,AS9)","v":0},{"$f":"AT9/(AV4-AT20)","v":0},{"$f":"IF(AU9=0,0,(AU9*((LOG(AU9))/LOG(2))))","v":0}]
[21,493,21,501,11,508,12,532,null,null,0,2211,null,1122,{"$f":"COUNTIF($L$7:$L$500,N10)","v":1},{"$f":"O10/$Q$4","v":1.098901098901099E-2},{"$f":"IF(P10=0,0,(P10*((LOG(P10))/LOG(2))))","v":-7.1514226815370299E-2},null,null,{"$f":"N10","v":1122},{"$f":"COUNTIF(L7:L21,T10)","v":0},{"$f":"U10/(W4-U20)","v":0},{"$f":"IF(V10=0,0,(V10*((LOG(V10))/LOG(2))))","v":0},null,{"$f":"N10","v":1122},{"$f":"COUNTIF(L22:L36,Y10)","v":1},{"$f":"Z10/(AB4-Z20)","v":9.0909090909090912E-2},{"$f":"IF(AA10=0,0,(AA10*((LOG(AA10))/LOG(2))))","v":-0.31449378351248153},null,{"$f":"N10","v":1122},{"$f":"COUNTIF(L37:L52,AD10)","v":0},{"$f":"AE10/(AG4-AE20)","v":0},{"$f":"IF(AF10=0,0,(AF10*((LOG(AF10))/LOG(2))))","v":0},null,{"$f":"N10","v":1122},{"$f":"COUNTIF(L53:L67,AI10)","v":0},{"$f":"AJ10/(AL4-AJ20)","v":0},{"$f":"IF(AK10=0,0,(AK10*((LOG(AK10))/LOG(2))))","v":0},null,{"$f":"N10","v":1122},{"$f":"COUNTIF(L68:L82,AN10)","v":0},{"$f":"AO10/(AQ4-AO20)","v":0},{"$f":"IF(AP10=0,0,(AP10*((LOG(AP10))/LOG(2))))","v":0},null,{"$f":"N10","v":1122},{"$f":"COUNTIF(L83:L97,AS10)","v":0},{"$f":"AT10/(AV4-AT20)","v":0},{"$f":"IF(AU10=0,0,(AU10*((LOG(AU10))/LOG(2))))","v":0}]
[21,640,12,649,24,709,23,740,null,null,0,2122,null,1211,{"$f":"COUNTIF($L$7:$L$500,N11)","v":0},{"$f":"O11/$Q$4","v":0},{"$f":"IF(P11=0,0,(P11*((LOG(P11))/LOG(2))))","v":0},null,null,{"$f":"N11","v":1211},{"$f":"COUNTIF(L7:L21,T11)","v":0},{"$f":"U11/(W4-U20)","v":0},{"$f":"IF(V11=0,0,(V11*((LOG(V11))/LOG(2))))","v":0},null,{"$f":"N11","v":1211},{"$f":"COUNTIF(L22:L36,Y11)","v":0},{"$f":"Z11/(AB4-Z20)","v":0},{"$f":"IF(AA11=0,0,(AA11*((LOG(AA11))/LOG(2))))","v":0},null,{"$f":"N11","v":1211},{"$f":"COUNTIF(L37:L52,AD11)","v":0},{"$f":"AE11/(AG4-AE20)","v":0},{"$f":"IF(AF11=0,0,(AF11*((LOG(AF11))/LOG(2))))","v":0},null,{"$f":"N11","v":1211},{"$f":"COUNTIF(L53:L67,AI11)","v":0},{"$f":"AJ11/(AL4-AJ20)","v":0},{"$f":"IF(AK11=0,0,(AK11*((LOG(AK11))/LOG(2))))","v":0},null,{"$f":"N11","v":1211},{"$f":"COUNTIF(L68:L82,AN11)","v":0},{"$f":"AO11/(AQ4-AO20)","v":0},{"$f":"IF(AP11=0,0,(AP11*((LOG(AP11))/LOG(2))))","v":0},null,{"$f":"N11","v":1211},{"$f":"COUNTIF(L83:L97,AS11)","v":0},{"$f":"AT11/(AV4-AT20)","v":0},{"$f":"IF(AU11=0,0,(AU11*((LOG(AU11))/LOG(2))))","v":0}]
[21,841,12,850,13,865,23,881,null,null,0,2112,null,1212,{"$f":"COUNTIF($L$7:$L$500,N12)","v":3},{"$f":"O12/$Q$4","v":3.2967032967032968E-2},{"$f":"IF(P12=0,0,(P12*((LOG(P12))/LOG(2))))","v":-0.16229116943332547},null,null,{"$f":"N12","v":1212},{"$f":"COUNTIF(L7:L21,T12)","v":1},{"$f":"U12/(W4-U20)","v":7.1428571428571425E-2},{"$f":"IF(V12=0,0,(V12*((LOG(V12))/LOG(2))))","v":-0.27195392300411453},null,{"$f":"N12","v":1212},{"$f":"COUNTIF(L22:L36,Y12)","v":1},{"$f":"Z12/(AB4-Z20)","v":9.0909090909090912E-2},{"$f":"IF(AA12=0,0,(AA12*((LOG(AA12))/LOG(2))))","v":-0.31449378351248153},null,{"$f":"N12","v":1212},{"$f":"COUNTIF(L37:L52,AD12)","v":0},{"$f":"AE12/(AG4-AE20)","v":0},{"$f":"IF(AF12=0,0,(AF12*((LOG(AF12))/LOG(2))))","v":0},null,{"$f":"N12","v":1212},{"$f":"COUNTIF(L53:L67,AI12)","v":1},{"$f":"AJ12/(AL4-AJ20)","v":0.14285714285714285},{"$f":"IF(AK12=0,0,(AK12*((LOG(AK12))/LOG(2))))","v":-0.40105070315108626},null,{"$f":"N12","v":1212},{"$f":"COUNTIF(L68:L82,AN12)","v":0},{"$f":"AO12/(AQ4-AO20)","v":0},{"$f":"IF(AP12=0,0,(AP12*((LOG(AP12))/LOG(2))))","v":0},null,{"$f":"N12","v":1212},{"$f":"COUNTIF(L83:L97,AS12)","v":0},{"$f":"AT12/(AV4-AT20)","v":0},{"$f":"IF(AU12=0,0,(AU12*((LOG(AU12))/LOG(2))))","v":0}]
[21,981,12,999,24,1085,14,1110,null,null,0,2121,null,1221,{"$f":"COUNTIF($L$7:$L$500,N13)","v":1},{"$f":"O13/$Q$4","v":1.098901098901099E-2},{"$f":"IF(P13=0,0,(P13*((LOG(P13))/LOG(2))))","v":-7.1514226815370299E-2},null,null,{"$f":"N13","v":1221},{"$f":"COUNTIF(L7:L21,T13)","v":0},{"$f":"U13/(W4-U20)","v":0},{"$f":"IF(V13=0,0,(V13*((LOG(V13))/LOG(2))))","v":0},null,{"$f":"N13","v":1221},{"$f":"COUNTIF(L22:L36,Y13)","v":1},{"$f":"Z13/(AB4-Z20)","v":9.0909090909090912E-2},{"$f":"IF(AA13=0,0,(AA13*((LOG(AA13))/LOG(2))))","v":-0.31449378351248153},null,{"$f":"N13","v":1221},{"$f":"COUNTIF(L37:L52,AD13)","v":0},{"$f":"AE13/(AG4-AE20)","v":0},{"$f":"IF(AF13=0,0,(AF13*((LOG(AF13))/LOG(2))))","v":0},null,{"$f":"N13","v":1221},{"$f":"COUNTIF(L53:L67,AI13)","v":0},{"$f":"AJ13/(AL4-AJ20)","v":0},{"$f":"IF(AK13=0,0,(AK13*((LOG(AK13))/LOG(2))))","v":0},null,{"$f":"N13","v":1221},{"$f":"COUNTIF(L68:L82,AN13)","v":0},{"$f":"AO13/(AQ4-AO20)","v":0},{"$f":"IF(AP13=0,0,(AP13*((LOG(AP13))/LOG(2))))","v":0},null,{"$f":"N13","v":1221},{"$f":"COUNTIF(L83:L97,AS13)","v":0},{"$f":"AT13/(AV4-AT20)","v":0},{"$f":"IF(AU13=0,0,(AU13*((LOG(AU13))/LOG(2))))","v":0}]
[12,1239,23,1273,13,1354,23,1448,null,null,0,1212,null,1222,{"$f":"COUNTIF($L$7:$L$500,N14)","v":5},{"$f":"O14/$Q$4","v":5.4945054945054944E-2},{"$f":"IF(P14=0,0,(P14*((LOG(P14))/LOG(2))))","v":-0.22999266732479859},null,null,{"$f":"N14","v":1222},{"$f":"COUNTIF(L7:L21,T14)","v":2},{"$f":"U14/(W4-U20)","v":0.14285714285714285},{"$f":"IF(V14=0,0,(V14*((LOG(V14))/LOG(2))))","v":-0.40105070315108626},null,{"$f":"N14","v":1222},{"$f":"COUNTIF(L22:L36,Y14)","v":2},{"$f":"Z14/(AB4-Z20)","v":0.18181818181818182},{"$f":"IF(AA14=0,0,(AA14*((LOG(AA14))/LOG(2))))","v":-0.44716938520678134},null,{"$f":"N14","v":1222},{"$f":"COUNTIF(L37:L52,AD14)","v":1},{"$f":"AE14/(AG4-AE20)","v":0.14285714285714285},{"$f":"IF(AF14=0,0,(AF14*((LOG(AF14))/LOG(2))))","v":-0.40105070315108626},null,{"$f":"N14","v":1222},{"$f":"COUNTIF(L53:L67,AI14)","v":0},{"$f":"AJ14/(AL4-AJ20)","v":0},{"$f":"IF(AK14=0,0,(AK14*((LOG(AK14))/LOG(2))))","v":0},null,{"$f":"N14","v":1222},{"$f":"COUNTIF(L68:L82,AN14)","v":0},{"$f":"AO14/(AQ4-AO20)","v":0},{"$f":"IF(AP14=0,0,(AP14*((LOG(AP14))/LOG(2))))","v":0},null,{"$f":"N14","v":1222},{"$f":"COUNTIF(L83:L97,AS14)","v":0},{"$f":"AT14/(AV4-AT20)","v":0},{"$f":"IF(AU14=0,0,(AU14*((LOG(AU14))/LOG(2))))","v":0}]
[21,1560,12,1568,24,1575,14,1584,null,null,0,2121,null,2111,{"$f":"COUNTIF($L$7:$L$500,N15)","v":1},{"$f":"O15/$Q$4","v":1.098901098901099E-2},{"$f":"IF(P15=0,0,(P15*((LOG(P15))/LOG(2))))","v":-7.1514226815370299E-2},null,null,{"$f":"N15","v":2111},{"$f":"COUNTIF(L7:L21,T15)","v":1},{"$f":"U15/(W4-U20)","v":7.1428571428571425E-2},{"$f":"IF(V15=0,0,(V15*((LOG(V15))/LOG(2))))","v":-0.27195392300411453},null,{"$f":"N15","v":2111},{"$f":"COUNTIF(L22:L36,Y15)","v":0},{"$f":"Z15/(AB4-Z20)","v":0},{"$f":"IF(AA15=0,0,(AA15*((LOG(AA15))/LOG(2))))","v":0},null,{"$f":"N15","v":2111},{"$f":"COUNTIF(L37:L52,AD15)","v":0},{"$f":"AE15/(AG4-AE20)","v":0},{"$f":"IF(AF15=0,0,(AF15*((LOG(AF15))/LOG(2))))","v":0},null,{"$f":"N15","v":2111},{"$f":"COUNTIF(L53:L67,AI15)","v":0},{"$f":"AJ15/(AL4-AJ20)","v":0},{"$f":"IF(AK15=0,0,(AK15*((LOG(AK15))/LOG(2))))","v":0},null,{"$f":"N15","v":2111},{"$f":"COUNTIF(L68:L82,AN15)","v":0},{"$f":"AO15/(AQ4-AO20)","v":0},{"$f":"IF(AP15=0,0,(AP15*((LOG(AP15))/LOG(2))))","v":0},null,{"$f":"N15","v":2111},{"$f":"COUNTIF(L83:L97,AS15)","v":0},{"$f":"AT15/(AV4-AT20)","v":0},{"$f":"IF(AU15=0,0,(AU15*((LOG(AU15))/LOG(2))))","v":0}]
[12,1727,23,1748,24,1765,23,1773,null,null,0,1222,null,2112,{"$f":"COUNTIF($L$7:$L$500,N16)","v":5},{"$f":"O16/$Q$4","v":5.4945054945054944E-2},{"$f":"IF(P16=0,0,(P16*((LOG(P16))/LOG(2))))","v":-0.22999266732479859},null,null,{"$f":"N16","v":2112},{"$f":"COUNTIF(L7:L21,T16)","v":1},{"$f":"U16/(W4-U20)","v":7.1428571428571425E-2},{"$f":"IF(V16=0,0,(V16*((LOG(V16))/LOG(2))))","v":-0.27195392300411453},null,{"$f":"N16","v":2112},{"$f":"COUNTIF(L22:L36,Y16)","v":1},{"$f":"Z16/(AB4-Z20)","v":9.0909090909090912E-2},{"$f":"IF(AA16=0,0,(AA16*((LOG(AA16))/LOG(2))))","v":-0.31449378351248153},null,{"$f":"N16","v":2112},{"$f":"COUNTIF(L37:L52,AD16)","v":0},{"$f":"AE16/(AG4-AE20)","v":0},{"$f":"IF(AF16=0,0,(AF16*((LOG(AF16))/LOG(2))))","v":0},null,{"$f":"N16","v":2112},{"$f":"COUNTIF(L53:L67,AI16)","v":1},{"$f":"AJ16/(AL4-AJ20)","v":0.14285714285714285},{"$f":"IF(AK16=0,0,(AK16*((LOG(AK16))/LOG(2))))","v":-0.40105070315108626},null,{"$f":"N16","v":2112},{"$f":"COUNTIF(L68:L82,AN16)","v":0},{"$f":"AO16/(AQ4-AO20)","v":0},{"$f":"IF(AP16=0,0,(AP16*((LOG(AP16))/LOG(2))))","v":0},null,{"$f":"N16","v":2112},{"$f":"COUNTIF(L83:L97,AS16)","v":2},{"$f":"AT16/(AV4-AT20)","v":0.15384615384615385},{"$f":"IF(AU16=0,0,(AU16*((LOG(AU16))/LOG(2))))","v":-0.4154522643293988}]
[21,1875,12,1890,24,1915,23,1972,null,null,0,2122,null,2121,{"$f":"COUNTIF($L$7:$L$500,N17)","v":3},{"$f":"O17/$Q$4","v":3.2967032967032968E-2},{"$f":"IF(P17=0,0,(P17*((LOG(P17))/LOG(2))))","v":-0.16229116943332547},null,null,{"$f":"N17","v":2121},{"$f":"COUNTIF(L7:L21,T17)","v":3},{"$f":"U17/(W4-U20)","v":0.21428571428571427},{"$f":"IF(V17=0,0,(V17*((LOG(V17))/LOG(2))))","v":-0.47622694742923877},null,{"$f":"N17","v":2121},{"$f":"COUNTIF(L22:L36,Y17)","v":0},{"$f":"Z17/(AB4-Z20)","v":0},{"$f":"IF(AA17=0,0,(AA17*((LOG(AA17))/LOG(2))))","v":0},null,{"$f":"N17","v":2121},{"$f":"COUNTIF(L37:L52,AD17)","v":0},{"$f":"AE17/(AG4-AE20)","v":0},{"$f":"IF(AF17=0,0,(AF17*((LOG(AF17))/LOG(2))))","v":0},null,{"$f":"N17","v":2121},{"$f":"COUNTIF(L53:L67,AI17)","v":0},{"$f":"AJ17/(AL4-AJ20)","v":0},{"$f":"IF(AK17=0,0,(AK17*((LOG(AK17))/LOG(2))))","v":0},null,{"$f":"N17","v":2121},{"$f":"COUNTIF(L68:L82,AN17)","v":0},{"$f":"AO17/(AQ4-AO20)","v":0},{"$f":"IF(AP17=0,0,(AP17*((LOG(AP17))/LOG(2))))","v":0},null,{"$f":"N17","v":2121},{"$f":"COUNTIF(L83:L97,AS17)","v":0},{"$f":"AT17/(AV4-AT20)","v":0},{"$f":"IF(AU17=0,0,(AU17*((LOG(AU17))/LOG(2))))","v":0}]
[21,2070,12,2096,13,2178,14,2281,null,null,0,2111,null,2122,{"$f":"COUNTIF($L$7:$L$500,N18)","v":15},{"$f":"O18/$Q$4","v":0.16483516483516483},{"$f":"IF(P18=0,0,(P18*((LOG(P18))/LOG(2))))","v":-0.42872044691046884},null,null,{"$f":"N18","v":2122},{"$f":"COUNTIF(L7:L21,T18)","v":5},{"$f":"U18/(W4-U20)","v":0.35714285714285715},{"$f":"IF(V18=0,0,(V18*((LOG(V18))/LOG(2))))","v":-0.53050958113222924},null,{"$f":"N18","v":2122},{"$f":"COUNTIF(L22:L36,Y18)","v":2},{"$f":"Z18/(AB4-Z20)","v":0.18181818181818182},{"$f":"IF(AA18=0,0,(AA18*((LOG(AA18))/LOG(2))))","v":-0.44716938520678134},null,{"$f":"N18","v":2122},{"$f":"COUNTIF(L37:L52,AD18)","v":4},{"$f":"AE18/(AG4-AE20)","v":0.5714285714285714},{"$f":"IF(AF18=0,0,(AF18*((LOG(AF18))/LOG(2))))","v":-0.46134566974720237},null,{"$f":"N18","v":2122},{"$f":"COUNTIF(L53:L67,AI18)","v":2},{"$f":"AJ18/(AL4-AJ20)","v":0.2857142857142857},{"$f":"IF(AK18=0,0,(AK18*((LOG(AK18))/LOG(2))))","v":-0.51638712058788683},null,{"$f":"N18","v":2122},{"$f":"COUNTIF(L68:L82,AN18)","v":2},{"$f":"AO18/(AQ4-AO20)","v":0.2},{"$f":"IF(AP18=0,0,(AP18*((LOG(AP18))/LOG(2))))","v":-0.46438561897747244},null,{"$f":"N18","v":2122},{"$f":"COUNTIF(L83:L97,AS18)","v":0},{"$f":"AT18/(AV4-AT20)","v":0},{"$f":"IF(AU18=0,0,(AU18*((LOG(AU18))/LOG(2))))","v":0}]
[21,2400,12,2408,24,2445,23,2456,null,null,0,2122,null,2211,{"$f":"COUNTIF($L$7:$L$500,N19)","v":5},{"$f":"O19/$Q$4","v":5.4945054945054944E-2},{"$f":"IF(P19=0,0,(P19*((LOG(P19))/LOG(2))))","v":-0.22999266732479859},null,null,{"$f":"N19","v":2211},{"$f":"COUNTIF(L7:L21,T19)","v":1},{"$f":"U19/(W4-U20)","v":7.1428571428571425E-2},{"$f":"IF(V19=0,0,(V19*((LOG(V19))/LOG(2))))","v":-0.27195392300411453},null,{"$f":"N19","v":2211},{"$f":"COUNTIF(L22:L36,Y19)","v":0},{"$f":"Z19/(AB4-Z20)","v":0},{"$f":"IF(AA19=0,0,(AA19*((LOG(AA19))/LOG(2))))","v":0},null,{"$f":"N19","v":2211},{"$f":"COUNTIF(L37:L52,AD19)","v":1},{"$f":"AE19/(AG4-AE20)","v":0.14285714285714285},{"$f":"IF(AF19=0,0,(AF19*((LOG(AF19))/LOG(2))))","v":-0.40105070315108626},null,{"$f":"N19","v":2211},{"$f":"COUNTIF(L53:L67,AI19)","v":3},{"$f":"AJ19/(AL4-AJ20)","v":0.42857142857142855},{"$f":"IF(AK19=0,0,(AK19*((LOG(AK19))/LOG(2))))","v":-0.52388246628704915},null,{"$f":"N19","v":2211},{"$f":"COUNTIF(L68:L82,AN19)","v":0},{"$f":"AO19/(AQ4-AO20)","v":0},{"$f":"IF(AP19=0,0,(AP19*((LOG(AP19))/LOG(2))))","v":0},null,{"$f":"N19","v":2211},{"$f":"COUNTIF(L83:L97,AS19)","v":0},{"$f":"AT19/(AV4-AT20)","v":0},{"$f":"IF(AU19=0,0,(AU19*((LOG(AU19))/LOG(2))))","v":0}]
[21,2562,12,2577,24,2586,23,2625,null,null,0,2122,null,2212,{"$f":"COUNTIF($L$7:$L$500,N20)","v":29},{"$f":"O20/$Q$4","v":0.31868131868131866},{"$f":"IF(P20=0,0,(P20*((LOG(P20))/LOG(2))))","v":-0.52576478798969895},null,null,{"$f":"N20","v":2212},{"$f":"COUNTIF(L7:L21,T20)","v":1},null,null,null,{"$f":"N20","v":2212},{"$f":"COUNTIF(L22:L36,Y20)","v":4},null,null,null,{"$f":"N20","v":2212},{"$f":"COUNTIF(L37:L52,AD20)","v":9},null,null,null,{"$f":"N20","v":2212},{"$f":"COUNTIF(L53:L67,AI20)","v":8},null,null,null,{"$f":"N20","v":2212},{"$f":"COUNTIF(L68:L82,AN20)","v":5},null,null,null,{"$f":"N20","v":2212},{"$f":"COUNTIF(L83:L97,AS20)","v":2}]
[12,2746,23,2772,24,2789,23,2806,null,null,0,1222,null,2221,{"$f":"COUNTIF($L$7:$L$500,N21)","v":10},{"$f":"O21/$Q$4","v":0.10989010989010989},{"$f":"IF(P21=0,0,(P21*((LOG(P21))/LOG(2))))","v":-0.35009522475948729},null,null,{"$f":"N21","v":2221},{"$f":"COUNTIF(L7:L21,T21)","v":0},{"$f":"U21/(W4-U20)","v":0},{"$f":"IF(V21=0,0,(V21*((LOG(V21))/LOG(2))))","v":0},null,{"$f":"N21","v":2221},{"$f":"COUNTIF(L22:L36,Y21)","v":3},{"$f":"Z21/(AB4-Z20)","v":0.27272727272727271},{"$f":"IF(AA21=0,0,(AA21*((LOG(AA21))/LOG(2))))","v":-0.51121885034076575},null,{"$f":"N21","v":2221},{"$f":"COUNTIF(L37:L52,AD21)","v":0},{"$f":"AE21/(AG4-AE20)","v":0},{"$f":"IF(AF21=0,0,(AF21*((LOG(AF21))/LOG(2))))","v":0},null,{"$f":"N21","v":2221},{"$f":"COUNTIF(L53:L67,AI21)","v":0},{"$f":"AJ21/(AL4-AJ20)","v":0},{"$f":"IF(AK21=0,0,(AK21*((LOG(AK21))/LOG(2))))","v":0},null,{"$f":"N21","v":2221},{"$f":"COUNTIF(L68:L82,AN21)","v":5},{"$f":"AO21/(AQ4-AO20)","v":0.5},{"$f":"IF(AP21=0,0,(AP21*((LOG(AP21))/LOG(2))))","v":-0.5},null,{"$f":"N21","v":2221},{"$f":"COUNTIF(L83:L97,AS21)","v":2},{"$f":"AT21/(AV4-AT20)","v":0.15384615384615385},{"$f":"IF(AU21=0,0,(AU21*((LOG(AU21))/LOG(2))))","v":-0.4154522643293988}]
[21,2923,21,2931,11,2951,21,2968,null,null,0,2212,null,2222,{"$f":"COUNTIF($L$7:$L$500,N22)","v":13},{"$f":"O22/$Q$4","v":0.14285714285714285},{"$f":"IF(P22=0,0,(P22*((LOG(P22))/LOG(2))))","v":-0.40105070315108626},null,null,{"$f":"N22","v":2222},{"$f":"COUNTIF(L7:L21,T22)","v":0},{"$f":"U22/(W4-U20)","v":0},{"$f":"IF(V22=0,0,(V22*((LOG(V22))/LOG(2))))","v":0},null,{"$f":"N22","v":2222},{"$f":"COUNTIF(L22:L36,Y22)","v":0},{"$f":"Z22/(AB4-Z20)","v":0},{"$f":"IF(AA22=0,0,(AA22*((LOG(AA22))/LOG(2))))","v":0},null,{"$f":"N22","v":2222},{"$f":"COUNTIF(L37:L52,AD22)","v":1},{"$f":"AE22/(AG4-AE20)","v":0.14285714285714285},{"$f":"IF(AF22=0,0,(AF22*((LOG(AF22))/LOG(2))))","v":-0.40105070315108626},null,{"$f":"N22","v":2222},{"$f":"COUNTIF(L53:L67,AI22)","v":0},{"$f":"AJ22/(AL4-AJ20)","v":0},{"$f":"IF(AK22=0,0,(AK22*((LOG(AK22))/LOG(2))))","v":0},null,{"$f":"N22","v":2222},{"$f":"COUNTIF(L68:L82,AN22)","v":3},{"$f":"AO22/(AQ4-AO20)","v":0.3},{"$f":"IF(AP22=0,0,(AP22*((LOG(AP22))/LOG(2))))","v":-0.52108967824986185},null,{"$f":"N22","v":2222},{"$f":"COUNTIF(L83:L97,AS22)","v":9},{"$f":"AT22/(AV4-AT20)","v":0.69230769230769229},{"$f":"IF(AU22=0,0,(AU22*((LOG(AU22))/LOG(2))))","v":-0.36727941925300139}]
[12,3087,23,3172,24,3268,23,3282,null,null,0,1222,null,null,null,{"$f":"SUM(P7:P22)","v":1},{"$f":"-SUM(Q7:Q22)","v":2.9347341840978984},null,null,null,null,{"$f":"SUM(V7:V22)","v":1},{"$f":"-SUM(W7:W22)","v":2.4956029237290123},null,null,null,{"$f":"SUM(AA7:AA22)","v":1},{"$f":"-SUM(AB7:AB22)","v":2.6635327548042547},null,null,null,{"$f":"SUM(AF7:AF22)","v":0.99999999999999978},{"$f":"-SUM(AG7:AG22)","v":1.6644977792004614},null,null,null,{"$f":"SUM(AK7:AK22)","v":1},{"$f":"-SUM(AL7:AL22)","v":1.8423709931771086},null,null,null,{"$f":"SUM(AP7:AP22)","v":1},{"$f":"-SUM(AQ7:AQ22)","v":1.4854752972273344},null,null,null,{"$f":"SUM(AU7:AU22)","v":1},{"$f":"-SUM(AV7:AV22)","v":1.1981839479117991}]
[21,3380,21,3385,22,3406,14,3414,null,null,0,2221,null,null,null,"U=",{"$f":"Q23/(LOG(Q4)/LOG(2))","v":0.45095679048782877},null,null,null,null,"U1=",{"$f":"W23/(LOG(W4)/LOG(2))","v":0.63876959506727859},null,null,null,"U2=",{"$f":"AB23/(LOG(AB4)/LOG(2))","v":0.68175258293594354},null,null,null,"U3=",{"$f":"AG23/(LOG(AG4)/LOG(2))","v":0.41612444480011535},null,null,null,"U4=",{"$f":"AL23/(LOG(AL4)/LOG(2))","v":0.47156964038051075},null,null,null,"U5=",{"$f":"AQ23/(LOG(AQ4)/LOG(2))","v":0.38021932298208205},null,null,null,"U6=",{"$f":"AV23/(LOG(AV4)/LOG(2))","v":0.30668479666633092}]
[21,3513,21,3518,22,3526,14,3559,null,null,0,2221]
[12,3683,23,3724,24,3753,14,3793,null,null,0,1221]
[21,3898,12,3914,24,3939,23,4016,null,null,0,2122,null,"Total Target Seq"]
[21,4124,12,4144,24,4161,23,4261,null,null,0,2122,null,{"$f":"COUNTIF(L7:L97,G3)","v":29},null,15,15,16,15,15,15]
[21,4363,21,4390,11,4397,21,4427,null,null,0,2212,null,null,null,"% of reinforcement given in 6 equal intervals based on number of trials "]
[21,4532,12,4539,13,4644,23,4656,null,null,0,2112,null,null,null,"%_1","%_2","%_3","%_4","%_5","%_6"]
[12,4808,23,4833,24,4852,23,4876,null,null,0,1222,null,null,"target sequence",{"$f":"$G$3","v":2212},{"$f":"$G$3","v":2212},{"$f":"$G$3","v":2212},{"$f":"$G$3","v":2212},{"$f":"$G$3","v":2212},{"$f":"$G$3","v":2212}]
[21,4981,21,4988,11,5007,21,5039,null,null,0,2212,null,null,"total reinforcement",{"$f":"U20","v":1},{"$f":"Z20","v":4},{"$f":"AE20","v":9},{"$f":"AJ20","v":8},{"$f":"AO20","v":5},{"$f":"AT20","v":2}]
[12,5154,23,5176,13,5227,23,5273,null,null,0,1212,null,null,"% target"]
[21,5378,21,5390,11,5398,21,5428,null,null,0,2212,null,null,"CCRF"]
[12,5534,14,5548,24,5600,23,5619,null,null,0,1122,null,null,"% CCRf"]
[21,5728,21,5736,22,5744,14,5752,null,null,0,2221,null,null,"average response rate",{"$f":"H21/P28","v":187.06666666666666},{"$f":"(H36-H21)/Q28","v":196.4},{"$f":"(H52-H36)/R28","v":181.375},{"$f":"(H67-H52)/S28","v":160.80000000000001},{"$f":"(H82-H67)/T28","v":151.86666666666667},{"$f":"(H97-H82)/U28","v":705.66666666666663}]
[21,5857,21,5866,11,5875,12,5890,null,null,0,2211]
[21,6001,21,6009,11,6018,21,6086,null,null,0,2212]
[21,6213,12,6220,24,6268,23,6276,null,null,0,2122]
[21,6378,21,6384,11,6407,21,6444,null,null,0,2212]
[21,6549,12,6569,24,6608,23,6674,null,null,0,2122]
[12,6808,23,6853,24,6877,23,6947,null,null,0,1222]
[21,7060,21,7074,11,7093,21,7116,null,null,0,2212]
[21,7299,21,7307,11,7332,21,7355,null,null,0,2212]
[21,7442,21,7451,11,7458,21,7466,null,null,0,2212]
[21,7564,21,7569,22,7574,23,7589,null,null,0,2222]
[21,7696,12,7719,24,7764,23,7779,null,null,0,2122]
[21,7884,21,7899,11,7907,21,7930,null,null,0,2212]
[21,8054,12,8124,24,8130,23,8153,null,null,0,2122]
[21,8255,21,8268,11,8301,21,8339,null,null,0,2212]
[21,8438,21,8469,11,8476,21,8506,null,null,0,2212]
[21,8602,21,8621,11,8645,21,8654,null,null,0,2212]
[12,8778,23,8783,13,8792,23,8813,null,null,0,1212]
[21,8919,21,8934,11,8941,21,8971,null,null,0,2212]
[21,9062,21,9071,11,9079,21,9087,null,null,0,2212]
[21,9175,21,9183,11,9191,21,9228,null,null,0,2212]
[21,9325,12,9333,13,9348,23,9469,null,null,0,2112]
[21,9566,21,9574,11,9582,12,9598,null,null,0,2211]
[21,9700,21,9707,11,9714,21,9751,null,null,0,2212]
[21,9843,12,9863,24,9908,23,9923,null,null,0,2122]
[21,10039,21,10057,11,10064,21,10130,null,null,0,2212]
[21,10225,21,10231,11,10239,12,10253,null,null,0,2211]
[21,10352,21,10359,11,10367,12,10386,null,null,0,2211]
[21,10511,21,10517,11,10542,21,10608,null,null,0,2212]
[21,10708,12,10733,24,10749,23,10758,null,null,0,2122]
[21,10860,21,10865,11,10873,21,10881,null,null,0,2212]
[21,10993,21,11000,11,11008,21,11066,null,null,0,2212]
[21,11158,21,11162,22,11173,14,11180,null,null,0,2221]
[21,11292,21,11300,22,11308,14,11323,null,null,0,2221]
[21,11426,21,11434,11,11442,21,11464,null,null,0,2212]
[21,11556,21,11562,11,11571,21,11594,null,null,0,2212]
[21,11696,21,11703,22,11710,23,11726,null,null,0,2222]
[21,11824,21,11831,22,11839,14,11847,null,null,0,2221]
[21,11956,12,11972,24,12008,23,12016,null,null,0,2122]
[21,12127,21,12136,11,12144,21,12166,null,null,0,2212]
[21,12273,21,12281,11,12290,21,12335,null,null,0,2212]
[21,12426,21,12437,11,12445,21,12453,null,null,0,2212]
[21,12598,12,12606,24,12614,23,12760,null,null,0,2122]
[21,12865,21,12873,22,12880,23,12895,null,null,0,2222]
[21,13004,21,13011,22,13031,23,13061,null,null,0,2222]
[21,13158,21,13162,22,13174,14,13183,null,null,0,2221]
[21,13293,21,13300,22,13334,14,13344,null,null,0,2221]
[21,18036,12,20961,13,21089,23,21122,null,null,0,2112]
[21,21238,12,21247,13,21541,23,21566,null,null,0,2112]
[21,21706,21,21714,22,21751,23,21759,null,null,0,2222]
[21,21892,21,21900,22,21923,23,21959,null,null,0,2222]
[21,22285,21,22296,22,22308,14,22318,null,null,0,2221]
[21,22445,21,22454,22,22478,23,22505,null,null,0,2222]
[21,22606,21,22620,22,22637,23,22747,null,null,0,2222]
[21,22866,21,22878,22,22902,23,22910,null,null,0,2222]
[21,23016,21,23036,22,23053,23,23079,null,null,0,2222]
[21,23180,21,23200,22,23210,23,23219,null,null,0,2222]
[21,23332,21,23339,22,23347,23,23397,null,null,0,2222]
[21,23502,21,23510,11,23529,21,23539,null,null,0,2212]
[21,23634,21,23641,22,23649,14,23674,null,null,0,2221]
[21,23780,21,23787,22,23795,23,23803,null,null,0,2222]
[21,23901,21,23905,11,23920,21,23929,null,null,1,2212]