{"text_format":"1","workbook":"xlsx","n_sheets":33,"sheets":["Sample Report","Summary","Start","!MA13C00.095","!MA14C20.095","!MA15B50.095","!MA16B10.095","!MA17E00.095","!MA18B40.095","!MA19B10.095","!MA20A40.095","!MA21B10.095","!MA24B00.095","!MA25A50.095","!MA28B00.095","!MA30930.095","!MA31C30.095","!MB02B10.095","!MB04A20.095","!MB05A20.095","!MB07B20.095","!MB09B30.095","!MB10930.095","!MB11940.095","!MB12920.095","!MB13B10.095","!MB15A50.095","!MB16A30.095","!MB17B10.095","!MB18A40.095","!MB19A10.095","!MB20B50.095","!MB21900.095"],"not_rendered":{"charts":0,"images":0,"macros":1,"external_links":0,"defined_names":0,"comments":0,"pivot_tables":0},"unopened":[],"bounds":{"document_bytes":16777216,"sheet_cells":100000,"rows_first":2000,"rows_last":500,"rows_between":2000,"halvings":0,"cell_chars":16384,"cell_head_chars":4096},"cells_cut":0,"cells_raw":0,"read":"whole","date_system":"1900"}

{"sheet":"Sample Report","index":0,"n_rows":12,"n_cols":11,"rows_kept":12,"cut":false,"hidden":true,"merged":[[7,0,7,6]]}
[]
["Date"]
["Hen"]
["Program"]
["Start at 999999"]
["Sequence component 1","Time 1","Seqeunce Component 2","Time 2","Seqeunce Component 3","Time 3","Correct   0 = No 1=Yes",null,null,"Seqeunce","Time"]
[12,7,12,42,13,18,"if 77 new line,                                  if 31 or 41 = yes new line on 77, ",null,null,"=string of Seqeunce compponent 1, 2 & 3","=time 3"]
["This continues until ther is a 1 on its own to indicate start of summary data"]
[null,null,null,null,null,null,null,null,null,"10-19 =1"]
["Summary Data ",null,null,null,null,null,null,null,null,"20-29 =2"]
["Correct","Incorrect","Rft","total","Av Correct","Av Incorrect","Percent correct","Time",null,"in this example the seqeunce would be 111"]
[40,33,40,73,23.95,15,54,806]

{"sheet":"Summary","index":1,"n_rows":32,"n_cols":24,"rows_kept":32,"cut":false,"hidden":false,"merged":[]}
[]
["Day","Date","Average Response Rate","Target %","RF for non correct sequence","U Value",null,null,null,null,"Block 1","Block 2","Block 3","Block 4","Block 5","Block 6"]
[1,{"$f":"'!MA13C00.095'!B2:C2","v":"<date>"},{"$f":"('!MA13C00.095'!F8/60)/'!MA13C00.095'!Q3","v":2.625},{"$f":"'!MA13C00.095'!N20/'!MA13C00.095'!Q3","v":0},{"$f":"SUM('!MA13C00.095'!L20:Q20)/'!MA13C00.095'!Q3","v":0.5},{"$f":"'!MA13C00.095'!Q16","v":1},null,null,null,"Average Response Rate",{"$f":"AVERAGE(C3:C7)","v":2.2088119261192323},{"$f":"AVERAGE(C8:C12)","v":2.3067527007135018},{"$f":"AVERAGE(C13:C17)","v":2.1002126112498116},{"$f":"AVERAGE(C18:C22)","v":2.109144179173331},{"$f":"AVERAGE(C23:C27)","v":2.1110494207734338},{"$f":"AVERAGE(C28:C32)","v":2.154763656434683}]
[2,{"$f":"'!MA14C20.095'!B2:C2","v":"<date>"},{"$f":"('!MA14C20.095'!F193/60)/'!MA14C20.095'!Q3","v":2.1367201426024955},{"$f":"'!MA14C20.095'!N20/'!MA14C20.095'!Q3","v":0},{"$f":"SUM('!MA14C20.095'!L20:Q20)/'!MA14C20.095'!Q3","v":0.92513368983957223},{"$f":"'!MA14C20.095'!Q16","v":0.13811940351987034},null,null,null,"Target %",{"$f":"AVERAGE(D3:D7)","v":0},{"$f":"AVERAGE(D8:D12)","v":0},{"$f":"AVERAGE(D13:D17)","v":0},{"$f":"AVERAGE(D18:D22)","v":0},{"$f":"AVERAGE(D23:D27)","v":0},{"$f":"AVERAGE(D28:D32)","v":0}]
[3,{"$f":"'!MA15B50.095'!B2:C2","v":"<date>"},{"$f":"('!MA15B50.095'!F197/60)/'!MA15B50.095'!Q3","v":2.0906631762652705},{"$f":"'!MA15B50.095'!N20/'!MA15B50.095'!Q3","v":0},{"$f":"SUM('!MA15B50.095'!L20:Q20)/'!MA15B50.095'!Q3","v":1.4397905759162304},{"$f":"'!MA15B50.095'!Q16","v":0.13194740013059256},null,null,null,"CCRF",{"$f":"AVERAGE(E3:E7)","v":1.0452236097649172},{"$f":"AVERAGE(E8:E12)","v":1.2087767670227896},{"$f":"AVERAGE(E13:E17)","v":1.2338661053017623},{"$f":"AVERAGE(E18:E22)","v":1.238681452122012},{"$f":"AVERAGE(E23:E27)","v":1.2382099605579491},{"$f":"AVERAGE(E28:E32)","v":1.1482775166416606}]
[4,{"$f":"'!MA16B10.095'!B2:C2","v":"<date>"},{"$f":"('!MA16B10.095'!F195/60)/'!MA16B10.095'!Q3","v":2.1117283950617285},{"$f":"'!MA16B10.095'!N20/'!MA16B10.095'!Q3","v":0},{"$f":"SUM('!MA16B10.095'!L20:Q20)/'!MA16B10.095'!Q3","v":1.4497354497354498},{"$f":"'!MA16B10.095'!Q16","v":0.14335919180526238},null,null,null,"U Value",{"$f":"AVERAGE(F3:F7)","v":0.31009231405873794},{"$f":"AVERAGE(F8:F12)","v":0.20131499952160006},{"$f":"AVERAGE(F13:F17)","v":0.14287553819140894},{"$f":"AVERAGE(F18:F22)","v":0.13698559734680835},{"$f":"AVERAGE(F23:F27)","v":0.13451625565265921},{"$f":"AVERAGE(F28:F32)","v":0.13665332496797578}]
[5,{"$f":"'!MA17E00.095'!B2:C2","v":"<date>"},{"$f":"('!MA17E00.095'!F198/60)/'!MA17E00.095'!Q3","v":2.0799479166666668},{"$f":"'!MA17E00.095'!N20/'!MA17E00.095'!Q3","v":0},{"$f":"SUM('!MA17E00.095'!L20:Q20)/'!MA17E00.095'!Q3","v":0.91145833333333337},{"$f":"'!MA17E00.095'!Q16","v":0.13703557483796461}]
[6,{"$f":"'!MA18B40.095'!B2:C2","v":"<date>"},{"$f":"('!MA18B40.095'!F190/60)/'!MA18B40.095'!Q3","v":2.1734601449275361},{"$f":"'!MA18B40.095'!N20/'!MA18B40.095'!Q3","v":0},{"$f":"SUM('!MA18B40.095'!L20:Q20)/'!MA18B40.095'!Q3","v":1.4782608695652173},{"$f":"'!MA18B40.095'!Q16","v":0.15245362871311513}]
[7,{"$f":"'!MA19B10.095'!B2:C2","v":"<date>"},{"$f":"('!MA19B10.095'!F189/60)/'!MA19B10.095'!Q3","v":2.1830601092896176},{"$f":"'!MA19B10.095'!N20/'!MA19B10.095'!Q3","v":0},{"$f":"SUM('!MA19B10.095'!L20:Q20)/'!MA19B10.095'!Q3","v":0.93989071038251371},{"$f":"'!MA19B10.095'!Q16","v":0.1724959815735348},{"$f":"K3","v":2.2088119261192323},{"$f":"L3","v":2.3067527007135018},{"$f":"M3","v":2.1002126112498116},{"$f":"N3","v":2.109144179173331},{"$f":"O3","v":2.1110494207734338},{"$f":"P3","v":2.154763656434683},{"$f":"K4","v":0},{"$f":"L4","v":0},{"$f":"M4","v":0},{"$f":"N4","v":0},{"$f":"O4","v":0},{"$f":"P4","v":0},{"$f":"K6","v":0.31009231405873794},{"$f":"L6","v":0.20131499952160006},{"$f":"M6","v":0.14287553819140894},{"$f":"N6","v":0.13698559734680835},{"$f":"O6","v":0.13451625565265921},{"$f":"P6","v":0.13665332496797578}]
[8,{"$f":"'!MA20A40.095'!B2:C2","v":"<date>"},{"$f":"('!MA20A40.095'!F181/60)/'!MA20A40.095'!Q3","v":2.2799999999999998},{"$f":"'!MA20A40.095'!N20/'!MA20A40.095'!Q3","v":0},{"$f":"SUM('!MA20A40.095'!L20:Q20)/'!MA20A40.095'!Q3","v":1.5942857142857143},{"$f":"'!MA20A40.095'!Q16","v":0.19875726537130037}]
[9,{"$f":"'!MA21B10.095'!B2:C2","v":"<date>"},{"$f":"('!MA21B10.095'!F165/60)/'!MA21B10.095'!Q3","v":2.5091194968553459},{"$f":"'!MA21B10.095'!N20/'!MA21B10.095'!Q3","v":0},{"$f":"SUM('!MA21B10.095'!L20:Q20)/'!MA21B10.095'!Q3","v":1.0314465408805031},{"$f":"'!MA21B10.095'!Q16","v":0.26462651955963495}]
[10,{"$f":"'!MA24B00.095'!B2:C2","v":"<date>"},{"$f":"('!MA24B00.095'!F173/60)/'!MA24B00.095'!Q3","v":2.3881237524950101},{"$f":"'!MA24B00.095'!N20/'!MA24B00.095'!Q3","v":0},{"$f":"SUM('!MA24B00.095'!L20:Q20)/'!MA24B00.095'!Q3","v":1},{"$f":"'!MA24B00.095'!Q16","v":0.21824160239041501}]
[11,{"$f":"'!MA25A50.095'!B2:C2","v":"<date>"},{"$f":"('!MA25A50.095'!F191/60)/'!MA25A50.095'!Q3","v":2.1584684684684685},{"$f":"'!MA25A50.095'!N20/'!MA25A50.095'!Q3","v":0},{"$f":"SUM('!MA25A50.095'!L20:Q20)/'!MA25A50.095'!Q3","v":0.93513513513513513},{"$f":"'!MA25A50.095'!Q16","v":0.14243483973952492}]
[12,{"$f":"'!MA28B00.095'!B2:C2","v":"<date>"},{"$f":"('!MA28B00.095'!F197/60)/'!MA28B00.095'!Q3","v":2.0922338568935426},{"$f":"'!MA28B00.095'!N20/'!MA28B00.095'!Q3","v":0},{"$f":"SUM('!MA28B00.095'!L20:Q20)/'!MA28B00.095'!Q3","v":1.4397905759162304},{"$f":"'!MA28B00.095'!Q16","v":0.15149434643564791}]
[13,{"$f":"'!MA30930.095'!B2:C2","v":"<date>"},{"$f":"('!MA30930.095'!F201/60)/'!MA30930.095'!Q3","v":2.0506837606837607},{"$f":"'!MA30930.095'!N20/'!MA30930.095'!Q3","v":0},{"$f":"SUM('!MA30930.095'!L20:Q20)/'!MA30930.095'!Q3","v":0.90256410256410258},{"$f":"'!MA30930.095'!Q16","v":0.14189857854440344}]
[14,{"$f":"'!MA31C30.095'!B2:C2","v":"<date>"},{"$f":"('!MA31C30.095'!F195/60)/'!MA31C30.095'!Q3","v":2.0943859649122807},{"$f":"'!MA31C30.095'!N20/'!MA31C30.095'!Q3","v":0},{"$f":"SUM('!MA31C30.095'!L20:Q20)/'!MA31C30.095'!Q3","v":1.4421052631578948},{"$f":"'!MA31C30.095'!Q16","v":0.13766211127884836}]
[15,{"$f":"'!MB02B10.095'!B2:C2","v":"<date>"},{"$f":"('!MB02B10.095'!F194/60)/'!MB02B10.095'!Q3","v":2.1052910052910052},{"$f":"'!MB02B10.095'!N20/'!MB02B10.095'!Q3","v":0},{"$f":"SUM('!MB02B10.095'!L20:Q20)/'!MB02B10.095'!Q3","v":1.4497354497354498},{"$f":"'!MB02B10.095'!Q16","v":0.14088781495862013}]
[16,{"$f":"'!MB04A20.095'!B2:C2","v":"<date>"},{"$f":"('!MB04A20.095'!F201/60)/'!MB04A20.095'!Q3","v":2.0513675213675211},{"$f":"'!MB04A20.095'!N20/'!MB04A20.095'!Q3","v":0},{"$f":"SUM('!MB04A20.095'!L20:Q20)/'!MB04A20.095'!Q3","v":1.4153846153846155},{"$f":"'!MB04A20.095'!Q16","v":0.13686626735207427}]
[17,{"$f":"'!MB05A20.095'!B2:C2","v":"<date>"},{"$f":"('!MB05A20.095'!F196/60)/'!MB05A20.095'!Q3","v":2.0984210526315787},{"$f":"'!MB05A20.095'!N20/'!MB05A20.095'!Q3","v":0},{"$f":"SUM('!MB05A20.095'!L20:Q20)/'!MB05A20.095'!Q3","v":0.91578947368421049},{"$f":"'!MB05A20.095'!Q16","v":0.15463808057639575}]
[18,{"$f":"'!MB07B20.095'!B2:C2","v":"<date>"},{"$f":"('!MB07B20.095'!F196/60)/'!MB07B20.095'!Q3","v":2.0829842931937175},{"$f":"'!MB07B20.095'!N20/'!MB07B20.095'!Q3","v":0},{"$f":"SUM('!MB07B20.095'!L20:Q20)/'!MB07B20.095'!Q3","v":0.91623036649214662},{"$f":"'!MB07B20.095'!Q16","v":0.13600783213159476}]
[19,{"$f":"'!MB09B30.095'!B2:C2","v":"<date>"},{"$f":"('!MB09B30.095'!F192/60)/'!MB09B30.095'!Q3","v":2.1421146953405019},{"$f":"'!MB09B30.095'!N20/'!MB09B30.095'!Q3","v":0},{"$f":"SUM('!MB09B30.095'!L20:Q20)/'!MB09B30.095'!Q3","v":1.467741935483871},{"$f":"'!MB09B30.095'!Q16","v":0.12861895154594891}]
[20,{"$f":"'!MB10930.095'!B2:C2","v":"<date>"},{"$f":"('!MB10930.095'!F190/60)/'!MB10930.095'!Q3","v":2.1708333333333334},{"$f":"'!MB10930.095'!N20/'!MB10930.095'!Q3","v":0},{"$f":"SUM('!MB10930.095'!L20:Q20)/'!MB10930.095'!Q3","v":1.4782608695652173},{"$f":"'!MB10930.095'!Q16","v":0.12879685512802805}]
[21,{"$f":"'!MB11940.095'!B2:C2","v":"<date>"},{"$f":"('!MB11940.095'!F194/60)/'!MB11940.095'!Q3","v":2.120035460992908},{"$f":"'!MB11940.095'!N20/'!MB11940.095'!Q3","v":0},{"$f":"SUM('!MB11940.095'!L20:Q20)/'!MB11940.095'!Q3","v":0.92553191489361697},{"$f":"'!MB11940.095'!Q16","v":0.13940241372776133}]
[22,{"$f":"'!MB12920.095'!B2:C2","v":"<date>"},{"$f":"('!MB12920.095'!F196/60)/'!MB12920.095'!Q3","v":2.1040350877192981},{"$f":"'!MB12920.095'!N20/'!MB12920.095'!Q3","v":0},{"$f":"SUM('!MB12920.095'!L20:Q20)/'!MB12920.095'!Q3","v":1.4421052631578948},{"$f":"'!MB12920.095'!Q16","v":0.13476654980776209}]
[23,{"$f":"'!MB13B10.095'!B2:C2","v":"<date>"},{"$f":"('!MB13B10.095'!F197/60)/'!MB13B10.095'!Q3","v":2.0914485165794066},{"$f":"'!MB13B10.095'!N20/'!MB13B10.095'!Q3","v":0},{"$f":"SUM('!MB13B10.095'!L20:Q20)/'!MB13B10.095'!Q3","v":0.91623036649214662},{"$f":"'!MB13B10.095'!Q16","v":0.13525687946791567}]
[24,{"$f":"'!MB15A50.095'!B2:C2","v":"<date>"},{"$f":"('!MB15A50.095'!F194/60)/'!MB15A50.095'!Q3","v":2.1252659574468087},{"$f":"'!MB15A50.095'!N20/'!MB15A50.095'!Q3","v":0},{"$f":"SUM('!MB15A50.095'!L20:Q20)/'!MB15A50.095'!Q3","v":1.4574468085106382},{"$f":"'!MB15A50.095'!Q16","v":0.1320995917359957}]
[25,{"$f":"'!MB16A30.095'!B2:C2","v":"<date>"},{"$f":"('!MB16A30.095'!F195/60)/'!MB16A30.095'!Q3","v":2.1144620811287478},{"$f":"'!MB16A30.095'!N20/'!MB16A30.095'!Q3","v":0},{"$f":"SUM('!MB16A30.095'!L20:Q20)/'!MB16A30.095'!Q3","v":1.4497354497354498},{"$f":"'!MB16A30.095'!Q16","v":0.13105584352386127}]
[26,{"$f":"'!MB17B10.095'!B2:C2","v":"<date>"},{"$f":"('!MB17B10.095'!F189/60)/'!MB17B10.095'!Q3","v":2.1746812386156646},{"$f":"'!MB17B10.095'!N20/'!MB17B10.095'!Q3","v":0},{"$f":"SUM('!MB17B10.095'!L20:Q20)/'!MB17B10.095'!Q3","v":0.93989071038251371},{"$f":"'!MB17B10.095'!Q16","v":0.14463709191042287}]
[27,{"$f":"'!MB18A40.095'!B2:C2","v":"<date>"},{"$f":"('!MB18A40.095'!F189/60)/'!MB18A40.095'!Q3","v":2.1843351548269583},{"$f":"'!MB18A40.095'!N20/'!MB18A40.095'!Q3","v":0},{"$f":"SUM('!MB18A40.095'!L20:Q20)/'!MB18A40.095'!Q3","v":0.93989071038251371},{"$f":"'!MB18A40.095'!Q16","v":0.14321183479781857}]
[28,{"$f":"'!MB19A10.095'!B2:C2","v":"<date>"},{"$f":"('!MB19A10.095'!F189/60)/'!MB19A10.095'!Q3","v":2.1796903460837886},{"$f":"'!MB19A10.095'!N20/'!MB19A10.095'!Q3","v":0},{"$f":"SUM('!MB19A10.095'!L20:Q20)/'!MB19A10.095'!Q3","v":1.4863387978142077},{"$f":"'!MB19A10.095'!Q16","v":0.12677858109104542}]
[29,{"$f":"'!MB20B50.095'!B2:C2","v":"<date>"},{"$f":"('!MB20B50.095'!F194/60)/'!MB20B50.095'!Q3","v":2.1194148936170212},{"$f":"'!MB20B50.095'!N20/'!MB20B50.095'!Q3","v":0},{"$f":"SUM('!MB20B50.095'!L20:Q20)/'!MB20B50.095'!Q3","v":0.92553191489361697},{"$f":"'!MB20B50.095'!Q16","v":0.13149322284016404}]
[30,{"$f":"'!MB21900.095'!B2:C2","v":"<date>"},{"$f":"('!MB21900.095'!F195/60)/'!MB21900.095'!Q3","v":2.1156966490299824},{"$f":"'!MB21900.095'!N20/'!MB21900.095'!Q3","v":0},{"$f":"SUM('!MB21900.095'!L20:Q20)/'!MB21900.095'!Q3","v":1.4497354497354498},{"$f":"'!MB21900.095'!Q16","v":0.13714589420042786}]

{"sheet":"Start","index":2,"n_rows":36,"n_cols":10,"rows_kept":36,"cut":false,"hidden":false,"merged":[]}
[null,null,null,null,null,"Use Folder 51",null,"Auto Clean Up",null,"Correct sequence"]
[null,null,null,null,null,false,null,true,null,122]
[]
["Working with Folder",null,null,null,null,null,"Process All/Or Pick A number: ALL or an integer"]
["E:\\Hen Data\\Raw Data\\95_175\\phase 2 any\\",null,null,null,null,null,"ALL"]
["Filenames:"]
["!MB21900.095",null,null,null,null,null,"Paint Cells"]
["!MA13C00.095",null,null,null,null,null,false]
["!MA14C20.095"]
["!MA15B50.095"]
["!MA16B10.095"]
["!MA17E00.095"]
["!MA18B40.095"]
["!MA19B10.095"]
["!MA20A40.095"]
["!MA21B10.095"]
["!MA24B00.095"]
["!MA25A50.095"]
["!MA28B00.095"]
["!MA30930.095"]
["!MA31C30.095"]
["!MB02B10.095"]
["!MB04A20.095"]
["!MB05A20.095"]
["!MB07B20.095"]
["!MB09B30.095"]
["!MB10930.095"]
["!MB11940.095"]
["!MB12920.095"]
["!MB13B10.095"]
["!MB15A50.095"]
["!MB16A30.095"]
["!MB17B10.095"]
["!MB18A40.095"]
["!MB19A10.095"]
["!MB20B50.095"]

{"sheet":"!MA13C00.095","index":3,"n_rows":198,"n_cols":48,"rows_kept":198,"cut":false,"hidden":false,"merged":[[4,39,4,42],[5,39,5,40],[4,44,4,47],[5,44,5,45],[4,24,4,27],[5,24,5,25],[4,29,4,32],[5,29,5,30],[4,34,4,37],[5,34,5,35],[1,1,1,2],[5,13,5,14],[18,13,18,14],[19,13,19,14],[4,19,4,22],[5,19,5,20]]}
["Report for:!MA13C00.095"]
["Date:","<date>"]
["Hen:","<hen>",null,null,null,"Correct Sequence",{"$f":"Start!J2","v":122},null,null,null,null,null,null,null,null,"Total Sequences in Data",{"$f":"4994-COUNTBLANK(L7:L5000)","v":2},null,null,null,null,"Total Sequences in Block Data",{"$f":"COUNTA(L6:L7)","v":2},null,null,null,"Total Sequences in Block Data",{"$f":"COUNTA(L7:L7)","v":1},null,null,null,"Total Sequences in Block Data",{"$f":"COUNTA(L7:L8)","v":2},null,null,null,"Total Sequences in Block Data",{"$f":"COUNTA(L7:L8)","v":2},null,null,null,"Total Sequences in Block Data",{"$f":"COUNTA(L8:L8)","v":1},null,null,null,"Total Sequences in Block Data",{"$f":"COUNTA(L8:L9)","v":1}]
[null,null,null,null,null,null,null,null,null,null,null,null,null,null,null,"Total Sequences in Summary",{"$f":"SUM(O7:O14)","v":2},null,null,null,null,"Total Sequences in Block Summary",{"$f":"SUM(U7:U14)","v":1},null,null,null,"Total Sequences in Block Summary",{"$f":"SUM(Z7:Z14)","v":1},null,null,null,"Total Sequences in Block Summary",{"$f":"SUM(AE7:AE14)","v":2},null,null,null,"Total Sequences in Block Summary",{"$f":"SUM(AJ7:AJ14)","v":2},null,null,null,"Total Sequences in Block Summary",{"$f":"SUM(AO7:AO14)","v":1},null,null,null,"Total Sequences in Block Summary",{"$f":"SUM(AT7:AT14)","v":1}]
[null,null,null,null,null,null,null,null,null,null,null,null,null,null,null,null,null,null,null,"Block 1",null,null,null,null,"Block 2",null,null,null,null,"Block 3",null,null,null,null,"Block 4",null,null,null,null,"Block 5",null,null,null,null,"Block 6"]
["Sequence\nComponent\n1","Time\n1","Sequence\nComponent\n2","Time\n2","Sequence\nComponent\n3","Time\n3","Sequence\nComponent\n4","Time\n4","Sequence\nComponent\n5","Time\n5","Correct?\n0=No 1=Yes","Sequence",null,"Frequency",null,"Relative Frequency","Variability",null,null,"Frequency",null,"Relative Frequency","Variability",null,"Frequency",null,"Relative Frequency","Variability",null,"Frequency",null,"Relative Frequency","Variability",null,"Frequency",null,"Relative Frequency","Variability",null,"Frequency",null,"Relative Frequency","Variability",null,"Frequency",null,"Relative Frequency","Variability"]
[22,204,24,206,23,208,null,null,null,null,0,222,null,111,{"$f":"COUNTIF($L$7:$L$500,N7)","v":1},{"$f":"O7/$Q$4","v":0.5},{"$f":"IF(P7=0,0,(P7*((LOG(P7))/LOG(2))))","v":-0.5},null,null,{"$f":"N7","v":111},{"$f":"COUNTIF(L6:L7,T7)","v":0},{"$f":"U7/(W4-U10)","v":0},{"$f":"IF(V7=0,0,(V7*((LOG(V7))/LOG(2))))","v":0},null,{"$f":"N7","v":111},{"$f":"COUNTIF(L7:L7,Y7)","v":0},{"$f":"Z7/(AB4-Z10)","v":0},{"$f":"IF(AA7=0,0,(AA7*((LOG(AA7))/LOG(2))))","v":0},null,{"$f":"N7","v":111},{"$f":"COUNTIF(L7:L8,AD7)","v":1},{"$f":"AE7/(AG4-AE10)","v":0.5},{"$f":"IF(AF7=0,0,(AF7*((LOG(AF7))/LOG(2))))","v":-0.5},null,{"$f":"N7","v":111},{"$f":"COUNTIF(L7:L8,AI7)","v":1},{"$f":"AJ7/(AL4-AJ10)","v":0.5},{"$f":"IF(AK7=0,0,(AK7*((LOG(AK7))/LOG(2))))","v":-0.5},null,{"$f":"N7","v":111},{"$f":"COUNTIF(L8:L8,AN7)","v":1},{"$f":"AO7/(AQ4-AO10)","v":1},{"$f":"IF(AP7=0,0,(AP7*((LOG(AP7))/LOG(2))))","v":0},null,{"$f":"N7","v":111},{"$f":"COUNTIF(L8:L9,AS7)","v":1},{"$f":"AT7/(AV4-AT10)","v":1},{"$f":"IF(AU7=0,0,(AU7*((LOG(AU7))/LOG(2))))","v":0}]
[11,304,11,306,12,315,null,null,null,null,0,111,null,112,{"$f":"COUNTIF($L$7:$L$500,N8)","v":0},{"$f":"O8/$Q$4","v":0},{"$f":"IF(P8=0,0,(P8*((LOG(P8))/LOG(2))))","v":0},null,null,{"$f":"N8","v":112},{"$f":"COUNTIF(L6:L7,T8)","v":0},{"$f":"U8/(W4-U10)","v":0},{"$f":"IF(V8=0,0,(V8*((LOG(V8))/LOG(2))))","v":0},null,{"$f":"N8","v":112},{"$f":"COUNTIF(L7:L7,Y8)","v":0},{"$f":"Z8/(AB4-Z10)","v":0},{"$f":"IF(AA8=0,0,(AA8*((LOG(AA8))/LOG(2))))","v":0},null,{"$f":"N8","v":112},{"$f":"COUNTIF(L7:L8,AD8)","v":0},{"$f":"AE8/(AG4-AE10)","v":0},{"$f":"IF(AF8=0,0,(AF8*((LOG(AF8))/LOG(2))))","v":0},null,{"$f":"N8","v":112},{"$f":"COUNTIF(L7:L8,AI8)","v":0},{"$f":"AJ8/(AL4-AJ10)","v":0},{"$f":"IF(AK8=0,0,(AK8*((LOG(AK8))/LOG(2))))","v":0},null,{"$f":"N8","v":112},{"$f":"COUNTIF(L8:L8,AN8)","v":0},{"$f":"AO8/(AQ4-AO10)","v":0},{"$f":"IF(AP8=0,0,(AP8*((LOG(AP8))/LOG(2))))","v":0},null,{"$f":"N8","v":112},{"$f":"COUNTIF(L8:L9,AS8)","v":0},{"$f":"AT8/(AV4-AT10)","v":0},{"$f":"IF(AU8=0,0,(AU8*((LOG(AU8))/LOG(2))))","v":0}]
[null,null,null,null,null,null,null,null,null,null,null,null,null,121,{"$f":"COUNTIF($L$7:$L$500,N9)","v":0},{"$f":"O9/$Q$4","v":0},{"$f":"IF(P9=0,0,(P9*((LOG(P9))/LOG(2))))","v":0},null,null,{"$f":"N9","v":121},{"$f":"COUNTIF(L6:L7,T9)","v":0},{"$f":"U9/(W4-U10)","v":0},{"$f":"IF(V9=0,0,(V9*((LOG(V9))/LOG(2))))","v":0},null,{"$f":"N9","v":121},{"$f":"COUNTIF(L7:L7,Y9)","v":0},{"$f":"Z9/(AB4-Z10)","v":0},{"$f":"IF(AA9=0,0,(AA9*((LOG(AA9))/LOG(2))))","v":0},null,{"$f":"N9","v":121},{"$f":"COUNTIF(L7:L8,AD9)","v":0},{"$f":"AE9/(AG4-AE10)","v":0},{"$f":"IF(AF9=0,0,(AF9*((LOG(AF9))/LOG(2))))","v":0},null,{"$f":"N9","v":121},{"$f":"COUNTIF(L7:L8,AI9)","v":0},{"$f":"AJ9/(AL4-AJ10)","v":0},{"$f":"IF(AK9=0,0,(AK9*((LOG(AK9))/LOG(2))))","v":0},null,{"$f":"N9","v":121},{"$f":"COUNTIF(L8:L8,AN9)","v":0},{"$f":"AO9/(AQ4-AO10)","v":0},{"$f":"IF(AP9=0,0,(AP9*((LOG(AP9))/LOG(2))))","v":0},null,{"$f":"N9","v":121},{"$f":"COUNTIF(L8:L9,AS9)","v":0},{"$f":"AT9/(AV4-AT10)","v":0},{"$f":"IF(AU9=0,0,(AU9*((LOG(AU9))/LOG(2))))","v":0}]
[22,14,13,24,14,32,null,null,null,null,0,null,null,122,{"$f":"COUNTIF($L$7:$L$500,N10)","v":0},{"$f":"O10/$Q$4","v":0},{"$f":"IF(P10=0,0,(P10*((LOG(P10))/LOG(2))))","v":0},null,null,{"$f":"N10","v":122},{"$f":"COUNTIF(L6:L7,T10)","v":0},null,null,null,{"$f":"N10","v":122},{"$f":"COUNTIF(L7:L7,Y10)","v":0},null,null,null,{"$f":"N10","v":122},{"$f":"COUNTIF(L7:L8,AD10)","v":0},null,null,null,{"$f":"N10","v":122},{"$f":"COUNTIF(L7:L8,AI10)","v":0},null,null,null,{"$f":"N10","v":122},{"$f":"COUNTIF(L8:L8,AN10)","v":0},null,null,null,{"$f":"N10","v":122},{"$f":"COUNTIF(L8:L9,AS10)","v":0}]
[22,137,13,148,14,157,null,null,null,null,0,null,null,211,{"$f":"COUNTIF($L$7:$L$500,N11)","v":0},{"$f":"O11/$Q$4","v":0},{"$f":"IF(P11=0,0,(P11*((LOG(P11))/LOG(2))))","v":0},null,null,{"$f":"N11","v":211},{"$f":"COUNTIF(L6:L7,T11)","v":0},{"$f":"U11/(W4-U10)","v":0},{"$f":"IF(V11=0,0,(V11*((LOG(V11))/LOG(2))))","v":0},null,{"$f":"N11","v":211},{"$f":"COUNTIF(L7:L7,Y11)","v":0},{"$f":"Z11/(AB4-Z10)","v":0},{"$f":"IF(AA11=0,0,(AA11*((LOG(AA11))/LOG(2))))","v":0},null,{"$f":"N11","v":211},{"$f":"COUNTIF(L7:L8,AD11)","v":0},{"$f":"AE11/(AG4-AE10)","v":0},{"$f":"IF(AF11=0,0,(AF11*((LOG(AF11))/LOG(2))))","v":0},null,{"$f":"N11","v":211},{"$f":"COUNTIF(L7:L8,AI11)","v":0},{"$f":"AJ11/(AL4-AJ10)","v":0},{"$f":"IF(AK11=0,0,(AK11*((LOG(AK11))/LOG(2))))","v":0},null,{"$f":"N11","v":211},{"$f":"COUNTIF(L8:L8,AN11)","v":0},{"$f":"AO11/(AQ4-AO10)","v":0},{"$f":"IF(AP11=0,0,(AP11*((LOG(AP11))/LOG(2))))","v":0},null,{"$f":"N11","v":211},{"$f":"COUNTIF(L8:L9,AS11)","v":0},{"$f":"AT11/(AV4-AT10)","v":0},{"$f":"IF(AU11=0,0,(AU11*((LOG(AU11))/LOG(2))))","v":0}]
[22,260,13,268,14,275,null,null,null,null,0,null,null,212,{"$f":"COUNTIF($L$7:$L$500,N12)","v":0},{"$f":"O12/$Q$4","v":0},{"$f":"IF(P12=0,0,(P12*((LOG(P12))/LOG(2))))","v":0},null,null,{"$f":"N12","v":212},{"$f":"COUNTIF(L6:L7,T12)","v":0},{"$f":"U12/(W4-U10)","v":0},{"$f":"IF(V12=0,0,(V12*((LOG(V12))/LOG(2))))","v":0},null,{"$f":"N12","v":212},{"$f":"COUNTIF(L7:L7,Y12)","v":0},{"$f":"Z12/(AB4-Z10)","v":0},{"$f":"IF(AA12=0,0,(AA12*((LOG(AA12))/LOG(2))))","v":0},null,{"$f":"N12","v":212},{"$f":"COUNTIF(L7:L8,AD12)","v":0},{"$f":"AE12/(AG4-AE10)","v":0},{"$f":"IF(AF12=0,0,(AF12*((LOG(AF12))/LOG(2))))","v":0},null,{"$f":"N12","v":212},{"$f":"COUNTIF(L7:L8,AI12)","v":0},{"$f":"AJ12/(AL4-AJ10)","v":0},{"$f":"IF(AK12=0,0,(AK12*((LOG(AK12))/LOG(2))))","v":0},null,{"$f":"N12","v":212},{"$f":"COUNTIF(L8:L8,AN12)","v":0},{"$f":"AO12/(AQ4-AO10)","v":0},{"$f":"IF(AP12=0,0,(AP12*((LOG(AP12))/LOG(2))))","v":0},null,{"$f":"N12","v":212},{"$f":"COUNTIF(L8:L9,AS12)","v":0},{"$f":"AT12/(AV4-AT10)","v":0},{"$f":"IF(AU12=0,0,(AU12*((LOG(AU12))/LOG(2))))","v":0}]
[11,395,11,405,12,416,null,null,null,null,0,null,null,221,{"$f":"COUNTIF($L$7:$L$500,N13)","v":0},{"$f":"O13/$Q$4","v":0},{"$f":"IF(P13=0,0,(P13*((LOG(P13))/LOG(2))))","v":0},null,null,{"$f":"N13","v":221},{"$f":"COUNTIF(L6:L7,T13)","v":0},{"$f":"U13/(W4-U10)","v":0},{"$f":"IF(V13=0,0,(V13*((LOG(V13))/LOG(2))))","v":0},null,{"$f":"N13","v":221},{"$f":"COUNTIF(L7:L7,Y13)","v":0},{"$f":"Z13/(AB4-Z10)","v":0},{"$f":"IF(AA13=0,0,(AA13*((LOG(AA13))/LOG(2))))","v":0},null,{"$f":"N13","v":221},{"$f":"COUNTIF(L7:L8,AD13)","v":0},{"$f":"AE13/(AG4-AE10)","v":0},{"$f":"IF(AF13=0,0,(AF13*((LOG(AF13))/LOG(2))))","v":0},null,{"$f":"N13","v":221},{"$f":"COUNTIF(L7:L8,AI13)","v":0},{"$f":"AJ13/(AL4-AJ10)","v":0},{"$f":"IF(AK13=0,0,(AK13*((LOG(AK13))/LOG(2))))","v":0},null,{"$f":"N13","v":221},{"$f":"COUNTIF(L8:L8,AN13)","v":0},{"$f":"AO13/(AQ4-AO10)","v":0},{"$f":"IF(AP13=0,0,(AP13*((LOG(AP13))/LOG(2))))","v":0},null,{"$f":"N13","v":221},{"$f":"COUNTIF(L8:L9,AS13)","v":0},{"$f":"AT13/(AV4-AT10)","v":0},{"$f":"IF(AU13=0,0,(AU13*((LOG(AU13))/LOG(2))))","v":0}]
[22,516,13,527,14,535,null,null,null,null,0,null,null,222,{"$f":"COUNTIF($L$7:$L$500,N14)","v":1},{"$f":"O14/$Q$4","v":0.5},{"$f":"IF(P14=0,0,(P14*((LOG(P14))/LOG(2))))","v":-0.5},null,null,{"$f":"N14","v":222},{"$f":"COUNTIF(L6:L7,T14)","v":1},{"$f":"U14/(W4-U10)","v":1},{"$f":"IF(V14=0,0,(V14*((LOG(V14))/LOG(2))))","v":0},null,{"$f":"N14","v":222},{"$f":"COUNTIF(L7:L7,Y14)","v":1},{"$f":"Z14/(AB4-Z10)","v":1},{"$f":"IF(AA14=0,0,(AA14*((LOG(AA14))/LOG(2))))","v":0},null,{"$f":"N14","v":222},{"$f":"COUNTIF(L7:L8,AD14)","v":1},{"$f":"AE14/(AG4-AE10)","v":0.5},{"$f":"IF(AF14=0,0,(AF14*((LOG(AF14))/LOG(2))))","v":-0.5},null,{"$f":"N14","v":222},{"$f":"COUNTIF(L7:L8,AI14)","v":1},{"$f":"AJ14/(AL4-AJ10)","v":0.5},{"$f":"IF(AK14=0,0,(AK14*((LOG(AK14))/LOG(2))))","v":-0.5},null,{"$f":"N14","v":222},{"$f":"COUNTIF(L8:L8,AN14)","v":0},{"$f":"AO14/(AQ4-AO10)","v":0},{"$f":"IF(AP14=0,0,(AP14*((LOG(AP14))/LOG(2))))","v":0},null,{"$f":"N14","v":222},{"$f":"COUNTIF(L8:L9,AS14)","v":0},{"$f":"AT14/(AV4-AT10)","v":0},{"$f":"IF(AU14=0,0,(AU14*((LOG(AU14))/LOG(2))))","v":0}]
[22,652,13,663,14,673,null,null,null,null,0,null,null,null,null,{"$f":"SUM(P7:P14)","v":1},{"$f":"-SUM(Q7:Q14)","v":1},null,null,null,null,{"$f":"SUM(V7:V14)","v":1},{"$f":"-SUM(W7:W14)","v":0},null,null,null,{"$f":"SUM(AA7:AA14)","v":1},{"$f":"-SUM(AB7:AB14)","v":0},null,null,null,{"$f":"SUM(AF7:AF14)","v":1},{"$f":"-SUM(AG7:AG14)","v":1},null,null,null,{"$f":"SUM(AK7:AK14)","v":1},{"$f":"-SUM(AL7:AL14)","v":1},null,null,null,{"$f":"SUM(AP7:AP14)","v":1},{"$f":"-SUM(AQ7:AQ14)","v":0},null,null,null,{"$f":"SUM(AU7:AU14)","v":1},{"$f":"-SUM(AV7:AV14)","v":0}]
[11,789,11,796,12,806,null,null,null,null,0,null,null,null,null,"U=",{"$f":"Q15/(LOG(Q4)/LOG(2))","v":1},null,null,null,null,"U1=",{"$f":"W15/(LOG(W4)/LOG(2))","v":{"$error":"#DIV/0!"}},null,null,null,"U2=",{"$f":"AB15/(LOG(AB4)/LOG(2))","v":{"$error":"#DIV/0!"}},null,null,null,"U3=",{"$f":"AG15/(LOG(AG4)/LOG(2))","v":1},null,null,null,"U4=",{"$f":"AL15/(LOG(AL4)/LOG(2))","v":1},null,null,null,"U5=",{"$f":"AQ15/(LOG(AQ4)/LOG(2))","v":{"$error":"#DIV/0!"}},null,null,null,"U6=",{"$f":"AV15/(LOG(AV4)/LOG(2))","v":{"$error":"#DIV/0!"}}]
[22,911,13,923,14,930,null,null,null,null,0]
[11,1046,11,1056,12,1067,null,null,null,null,0]
[11,1200,11,1207,12,1216,null,null,null,null,0,null,null,"Total Target Seq"]
[22,1316,13,1326,14,1336,null,null,null,null,0,null,null,{"$f":"COUNTIF(L7:L8,G3)","v":0},null,0,1,0,0,1,0]
[22,1439,13,1450,14,1456,null,null,null,null,0,null,null,null,null,"% of reinforcement given in 6 equal intervals based on number of trials "]
[22,1561,13,1572,14,1579,null,null,null,null,0,null,null,null,null,"%_1","%_2","%_3","%_4","%_5","%_6"]
[22,1675,13,1701,14,1708,null,null,null,null,0,null,null,null,"target sequence",{"$f":"$G$3","v":122},{"$f":"$G$3","v":122},{"$f":"$G$3","v":122},{"$f":"$G$3","v":122},{"$f":"$G$3","v":122},{"$f":"$G$3","v":122}]
[22,1808,13,1819,14,1826,null,null,null,null,0,null,null,null,"total reinforcement",{"$f":"U10","v":0},{"$f":"Z10","v":0},{"$f":"AE10","v":0},{"$f":"AJ10","v":0},{"$f":"AO10","v":0},{"$f":"AT10","v":0}]
[11,1937,11,1945,12,1954,null,null,null,null,0,null,null,null,"% target"]
[22,2050,13,2062,14,2071,null,null,null,null,0,null,null,null,"CCRF"]
[22,2167,13,2179,14,2187,null,null,null,null,0,null,null,null,"% CCRf"]
[11,2291,11,2295,12,2306,null,null,null,null,0,null,null,null,"average response rate",{"$f":"F6/P20","v":{"$error":"#VALUE!"}},{"$f":"(F7-F6)/Q20","v":{"$error":"#VALUE!"}},{"$f":"(F7-F7)/R20","v":{"$error":"#DIV/0!"}},{"$f":"(F7-F7)/S20","v":{"$error":"#DIV/0!"}},{"$f":"(F8-F7)/T20","v":107},{"$f":"(F8-F8)/U20","v":{"$error":"#DIV/0!"}}]
[22,2409,13,2421,14,2428,null,null,null,null,0]
[22,2531,13,2542,14,2549,null,null,null,null,0]
[22,2651,13,2662,14,2669,null,null,null,null,0]
[22,2766,24,2774,23,2781,null,null,null,null,0]
[22,2883,13,2895,14,2902,null,null,null,null,0]
[22,3008,13,3018,14,3025,null,null,null,null,0]
[11,3137,11,3145,12,3155,null,null,null,null,0]
[22,3251,24,3266,14,3277,null,null,null,null,0]
[11,3398,11,3406,12,3414,null,null,null,null,0]
[22,3517,13,3528,14,3535,null,null,null,null,0]
[22,3632,13,3657,14,3665,null,null,null,null,0]
[22,3768,13,3780,14,3787,null,null,null,null,0]
[22,3894,13,3905,14,3913,null,null,null,null,0]
[22,4015,13,4024,14,4031,null,null,null,null,0]
[22,4135,13,4144,14,4149,null,null,null,null,0]
[11,4264,11,4272,12,4280,null,null,null,null,0]
[22,4380,13,4392,14,4398,null,null,null,null,0]
[22,4503,13,4515,14,4524,null,null,null,null,0]
[11,4641,11,4648,12,4659,null,null,null,null,0]
[22,4763,13,4774,14,4782,null,null,null,null,0]
[11,4895,11,4903,12,4911,null,null,null,null,0]
[22,5015,13,5026,14,5033,null,null,null,null,0]
[11,5144,11,5151,12,5159,null,null,null,null,0]
[22,5255,13,5266,14,5273,null,null,null,null,0]
[11,5388,11,5395,12,5404,null,null,null,null,0]
[11,5517,11,5525,12,5532,null,null,null,null,0]
[11,5648,11,5655,12,5665,null,null,null,null,0]
[11,5778,11,5783,12,5793,null,null,null,null,0]
[11,5907,11,5912,12,5920,null,null,null,null,0]
[11,6042,11,6050,12,6058,null,null,null,null,0]
[11,6178,11,6185,12,6196,null,null,null,null,0]
[22,6321,13,6334,14,6341,null,null,null,null,0]
[11,6454,11,6462,12,6472,null,null,null,null,0]
[11,6586,11,6593,12,6600,null,null,null,null,0]
[11,6711,11,6719,12,6729,null,null,null,null,0]
[22,6847,13,6858,14,6865,null,null,null,null,0]
[22,6966,13,6984,14,6992,null,null,null,null,0]
[22,7095,13,7106,14,7114,null,null,null,null,0]
[22,7210,13,7222,14,7230,null,null,null,null,0]
[22,7334,13,7343,14,7349,null,null,null,null,0]
[22,7449,24,7454,14,7464,null,null,null,null,0]
[11,7592,11,7602,12,7613,null,null,null,null,0]
[11,7737,11,7744,12,7754,null,null,null,null,0]
[22,7859,13,7870,14,7878,null,null,null,null,0]
[22,7981,13,7990,14,7995,null,null,null,null,0]
[22,8103,13,8183,14,8195,null,null,null,null,0]
[22,8295,13,8315,14,8323,null,null,null,null,0]
[11,8437,11,8446,12,8456,null,null,null,null,0]
[11,8569,11,8577,12,8587,null,null,null,null,0]
[22,8697,13,8713,14,8720,null,null,null,null,0]
[11,8834,11,8839,12,8847,null,null,null,null,0]
[22,8952,13,8963,14,8970,null,null,null,null,0]
[11,9090,11,9098,12,9108,null,null,null,null,0]
[22,9217,13,9228,14,9232,null,null,null,null,0]
[11,9350,11,9357,12,9365,null,null,null,null,0]
[11,9479,11,9486,12,9493,null,null,null,null,0]
[22,9602,13,9613,14,9621,null,null,null,null,0]
[22,9726,13,9737,14,9744,null,null,null,null,0]
[11,9860,11,9866,12,9877,null,null,null,null,0]
[22,9981,13,9989,14,9995,null,null,null,null,0]
[11,10102,11,10109,12,10117,null,null,null,null,0]
[22,10221,13,10232,14,10240,null,null,null,null,0]
[22,10339,13,10350,14,10357,null,null,null,null,0]
[22,10462,13,10473,14,10480,null,null,null,null,0]
[11,10590,11,10597,12,10604,null,null,null,null,0]
[22,10713,13,10724,14,10732,null,null,null,null,0]
[22,10831,13,10843,14,10849,null,null,null,null,0]
[11,10967,11,10974,12,10985,null,null,null,null,0]
[22,11090,13,11101,14,11105,null,null,null,null,0]
[11,11227,11,11234,12,11244,null,null,null,null,0]
[11,11356,11,11364,12,11371,null,null,null,null,0]
[22,11484,13,11495,14,11503,null,null,null,null,0]
[22,11602,13,11613,14,11620,null,null,null,null,0]
[22,11729,13,11737,14,11745,null,null,null,null,0]
[11,11849,11,11856,12,11862,null,null,null,null,0]
[11,11968,11,11973,12,11980,null,null,null,null,0]
[22,12086,13,12105,14,12112,null,null,null,null,0]
[22,12214,13,12225,14,12232,null,null,null,null,0]
[22,12332,13,12347,14,12355,null,null,null,null,0]
[11,12463,11,12468,12,12475,null,null,null,null,0]
[22,12578,13,12591,14,12599,null,null,null,null,0]
[11,12719,11,12726,12,12734,null,null,null,null,0]
[11,12865,11,12872,12,12882,null,null,null,null,0]
[22,12989,13,13000,14,13006,null,null,null,null,0]
[11,13115,11,13120,12,13126,null,null,null,null,0]
[22,13231,13,13240,14,13247,null,null,null,null,0]
[11,13362,11,13369,12,13376,null,null,null,null,0]
[22,13486,13,13494,14,13502,null,null,null,null,0]
[22,13598,13,13617,14,13625,null,null,null,null,0]
[11,13741,11,13748,12,13757,null,null,null,null,0]
[22,13873,13,13881,14,13890,null,null,null,null,0]
[11,14002,11,14010,12,14018,null,null,null,null,0]
[22,14122,13,14130,14,14135,null,null,null,null,0]
[11,14247,11,14254,12,14264,null,null,null,null,0]
[22,14366,13,14376,14,14384,null,null,null,null,0]
[11,14506,11,14514,12,14524,null,null,null,null,0]
[11,14644,11,14652,12,14666,null,null,null,null,0]
[11,14778,11,14785,12,14792,null,null,null,null,0]
[11,14907,11,14914,12,14922,null,null,null,null,0]
[22,15024,13,15036,14,15041,null,null,null,null,0]
[22,15150,13,15159,14,15167,null,null,null,null,0]
[22,15274,13,15286,14,15294,null,null,null,null,0]
[11,15415,11,15422,12,15431,null,null,null,null,0]
[22,15536,13,15556,14,15564,null,null,null,null,0]
[11,15671,11,15681,12,15692,null,null,null,null,0]
[11,15806,11,15811,12,15818,null,null,null,null,0]
[22,15922,13,15938,14,15943,null,null,null,null,0]
[11,16060,11,16067,12,16077,null,null,null,null,0]
[11,16202,11,16209,12,16220,null,null,null,null,0]
[22,16327,13,16338,14,16346,null,null,null,null,0]
[22,16467,13,16476,14,16481,null,null,null,null,0]
[22,16582,13,16595,14,16602,null,null,null,null,0]
[22,16702,13,16712,14,16721,null,null,null,null,0]
[22,16828,13,16843,14,16850,null,null,null,null,0]
[11,16970,11,16975,12,16982,null,null,null,null,0]
[22,17077,13,17089,14,17094,null,null,null,null,0]
[11,17216,11,17222,12,17232,null,null,null,null,0]
[11,17356,11,17361,12,17371,null,null,null,null,0]
[22,17479,13,17490,14,17495,null,null,null,null,0]
[11,17608,11,17613,12,17625,null,null,null,null,0]
[22,17735,13,17742,14,17747,null,null,null,null,0]
[22,17853,13,17861,14,17866,null,null,null,null,0]
[22,17966,13,17978,14,17986,null,null,null,null,0]
[11,18115,11,18122,12,18132,null,null,null,null,0]
[11,18241,11,18247,12,18257,null,null,null,null,0]
[22,18360,13,18369,14,18374,null,null,null,null,0]
[22,18472,24,18494,14,18503,null,null,null,null,0]
[22,18604,13,18620,14,18627,null,null,null,null,0]
[22,18735,13,18748,14,18753,null,null,null,null,0]
[11,18872,11,18879,12,18889,null,null,null,null,0]
[11,19005,11,19012,12,19020,null,null,null,null,0]
[11,19140,11,19148,12,19155,null,null,null,null,0]
[22,19262,13,19271,14,19276,null,null,null,null,0]
[22,19382,13,19392,14,19397,null,null,null,null,0]
[11,19526,11,19534,12,19542,null,null,null,null,0]
[11,19660,11,19665,12,19675,null,null,null,null,0]
[22,19779,13,19789,14,19796,null,null,null,null,0]
[22,19896,13,19908,14,19913,null,null,null,null,0]
[11,20034,11,20040,12,20051,null,null,null,null,0]
[11,20165,11,20170,12,20178,null,null,null,null,0]
[22,20282,13,20300,14,20306,null,null,null,null,0]
[11,20431,11,20438,12,20449,null,null,null,null,0]
[22,20549,13,20561,14,20569,null,null,null,null,0]
[11,20687,11,20692,12,20700,null,null,null,null,0]
[11,20824,11,20830,12,20838,null,null,null,null,0]
[11,20986,11,20992,12,21003,null,null,null,null,0]
[11,21127,11,21132,12,21142,null,null,null,null,0]
[11,21271,11,21279,12,21313,null,null,null,null,0]
[22,21420,13,21429,14,21434,null,null,null,null,0]
[11,21541,11,21549,12,21556,null,null,null,null,0]
[11,21673,11,21678,12,21685,null,null,null,null,0]
[22,21789,13,21806,14,21814,null,null,null,null,0]
[11,21933,11,21938,12,21944,null,null,null,null,0]
[11,22060,11,22065,12,22072,null,null,null,null,0]
[22,22177,13,22186,14,22190,null,null,null,null,0]
[22,22305,13,22314,14,22318,null,null,null,null,0]
[11,22434,11,22438,12,22445,null,null,null,null,0]
[22,22545,13,22557,14,22565,null,null,null,null,0]
[11,22683,11,22687,12,22694,null,null,null,null,0]
[11,22810,11,22817,12,22824,null,null,null,null,0]
[22,22944,13,22956,14,22964,null,null,null,null,0]
[22,23065,13,23076,14,23080,null,null,null,null,0]
[22,23191,13,23200,14,23205,null,null,null,null,0]
[11,23325,11,23330,12,23337,null,null,null,null,0]
[22,23438,13,23449,14,23457,null,null,null,null,0]
[22,23570,13,23578,14,23585,null,null,null,null,0]
[11,23708,11,23717,12,23729,null,null,null,null,0]
[22,23837,13,23848,14,23856,null,null,null,null,0]
[22,23961,13,23970,14,23975,null,null,null,null,0]
[22,24001,13,24001]

{"sheet":"!MA14C20.095","index":4,"n_rows":193,"n_cols":48,"rows_kept":193,"cut":false,"hidden":false,"merged":[[4,39,4,42],[5,39,5,40],[4,44,4,47],[5,44,5,45],[4,24,4,27],[5,24,5,25],[4,29,4,32],[5,29,5,30],[4,34,4,37],[5,34,5,35],[1,1,1,2],[5,13,5,14],[18,13,18,14],[19,13,19,14],[4,19,4,22],[5,19,5,20]]}
["Report for:!MA14C20.095"]
["Date:","<date>"]
["Hen:","<hen>",null,null,null,"Correct Sequence",{"$f":"Start!J2","v":122},null,null,null,null,null,null,null,null,"Total Sequences in Data",{"$f":"4994-COUNTBLANK(L7:L5000)","v":187},null,null,null,null,"Total Sequences in Block Data",{"$f":"COUNTA(L7:L37)","v":31},null,null,null,"Total Sequences in Block Data",{"$f":"COUNTA(L38:L68)","v":31},null,null,null,"Total Sequences in Block Data",{"$f":"COUNTA(L69:L100)","v":32},null,null,null,"Total Sequences in Block Data",{"$f":"COUNTA(L101:L131)","v":31},null,null,null,"Total Sequences in Block Data",{"$f":"COUNTA(L132:L162)","v":31},null,null,null,"Total Sequences in Block Data",{"$f":"COUNTA(L163:L193)","v":31}]
[null,null,null,null,null,null,null,null,null,null,null,null,null,null,null,"Total Sequences in Summary",{"$f":"SUM(O7:O14)","v":187},null,null,null,null,"Total Sequences in Block Summary",{"$f":"SUM(U7:U14)","v":31},null,null,null,"Total Sequences in Block Summary",{"$f":"SUM(Z7:Z14)","v":31},null,null,null,"Total Sequences in Block Summary",{"$f":"SUM(AE7:AE14)","v":32},null,null,null,"Total Sequences in Block Summary",{"$f":"SUM(AJ7:AJ14)","v":31},null,null,null,"Total Sequences in Block Summary",{"$f":"SUM(AO7:AO14)","v":31},null,null,null,"Total Sequences in Block Summary",{"$f":"SUM(AT7:AT14)","v":31}]
[null,null,null,null,null,null,null,null,null,null,null,null,null,null,null,null,null,null,null,"Block 1",null,null,null,null,"Block 2",null,null,null,null,"Block 3",null,null,null,null,"Block 4",null,null,null,null,"Block 5",null,null,null,null,"Block 6"]
["Sequence\nComponent\n1","Time\n1","Sequence\nComponent\n2","Time\n2","Sequence\nComponent\n3","Time\n3","Sequence\nComponent\n4","Time\n4","Sequence\nComponent\n5","Time\n5","Correct?\n0=No 1=Yes","Sequence",null,"Frequency",null,"Relative Frequency","Variability",null,null,"Frequency",null,"Relative Frequency","Variability",null,"Frequency",null,"Relative Frequency","Variability",null,"Frequency",null,"Relative Frequency","Variability",null,"Frequency",null,"Relative Frequency","Variability",null,"Frequency",null,"Relative Frequency","Variability",null,"Frequency",null,"Relative Frequency","Variability"]
[11,37,11,45,12,55,null,null,null,null,0,111,null,111,{"$f":"COUNTIF($L$7:$L$500,N7)","v":95},{"$f":"O7/$Q$4","v":0.50802139037433158},{"$f":"IF(P7=0,0,(P7*((LOG(P7))/LOG(2))))","v":-0.49635663581756923},null,null,{"$f":"N7","v":111},{"$f":"COUNTIF(L7:L37,T7)","v":15},{"$f":"U7/(W4-U10)","v":0.4838709677419355},{"$f":"IF(V7=0,0,(V7*((LOG(V7))/LOG(2))))","v":-0.50676082973146286},null,{"$f":"N7","v":111},{"$f":"COUNTIF(L38:L68,Y7)","v":16},{"$f":"Z7/(AB4-Z10)","v":0.5161290322580645},{"$f":"IF(AA7=0,0,(AA7*((LOG(AA7))/LOG(2))))","v":-0.49248841826419365},null,{"$f":"N7","v":111},{"$f":"COUNTIF(L69:L100,AD7)","v":19},{"$f":"AE7/(AG4-AE10)","v":0.59375},{"$f":"IF(AF7=0,0,(AF7*((LOG(AF7))/LOG(2))))","v":-0.44654303889287106},null,{"$f":"N7","v":111},{"$f":"COUNTIF(L101:L131,AI7)","v":21},{"$f":"AJ7/(AL4-AJ10)","v":0.67741935483870963},{"$f":"IF(AK7=0,0,(AK7*((LOG(AK7))/LOG(2))))","v":-0.38062763354098111},null,{"$f":"N7","v":111},{"$f":"COUNTIF(L132:L162,AN7)","v":13},{"$f":"AO7/(AQ4-AO10)","v":0.41935483870967744},{"$f":"IF(AP7=0,0,(AP7*((LOG(AP7))/LOG(2))))","v":-0.52576889352242517},null,{"$f":"N7","v":111},{"$f":"COUNTIF(L163:L193,AS7)","v":11},{"$f":"AT7/(AV4-AT10)","v":0.35483870967741937},{"$f":"IF(AU7=0,0,(AU7*((LOG(AU7))/LOG(2))))","v":-0.53040037449178568}]
[11,175,11,181,12,189,null,null,null,null,0,111,null,112,{"$f":"COUNTIF($L$7:$L$500,N8)","v":0},{"$f":"O8/$Q$4","v":0},{"$f":"IF(P8=0,0,(P8*((LOG(P8))/LOG(2))))","v":0},null,null,{"$f":"N8","v":112},{"$f":"COUNTIF(L7:L37,T8)","v":0},{"$f":"U8/(W4-U10)","v":0},{"$f":"IF(V8=0,0,(V8*((LOG(V8))/LOG(2))))","v":0},null,{"$f":"N8","v":112},{"$f":"COUNTIF(L38:L68,Y8)","v":0},{"$f":"Z8/(AB4-Z10)","v":0},{"$f":"IF(AA8=0,0,(AA8*((LOG(AA8))/LOG(2))))","v":0},null,{"$f":"N8","v":112},{"$f":"COUNTIF(L69:L100,AD8)","v":0},{"$f":"AE8/(AG4-AE10)","v":0},{"$f":"IF(AF8=0,0,(AF8*((LOG(AF8))/LOG(2))))","v":0},null,{"$f":"N8","v":112},{"$f":"COUNTIF(L101:L131,AI8)","v":0},{"$f":"AJ8/(AL4-AJ10)","v":0},{"$f":"IF(AK8=0,0,(AK8*((LOG(AK8))/LOG(2))))","v":0},null,{"$f":"N8","v":112},{"$f":"COUNTIF(L132:L162,AN8)","v":0},{"$f":"AO8/(AQ4-AO10)","v":0},{"$f":"IF(AP8=0,0,(AP8*((LOG(AP8))/LOG(2))))","v":0},null,{"$f":"N8","v":112},{"$f":"COUNTIF(L163:L193,AS8)","v":0},{"$f":"AT8/(AV4-AT10)","v":0},{"$f":"IF(AU8=0,0,(AU8*((LOG(AU8))/LOG(2))))","v":0}]
[11,319,11,326,12,337,null,null,null,null,0,111,null,121,{"$f":"COUNTIF($L$7:$L$500,N9)","v":0},{"$f":"O9/$Q$4","v":0},{"$f":"IF(P9=0,0,(P9*((LOG(P9))/LOG(2))))","v":0},null,null,{"$f":"N9","v":121},{"$f":"COUNTIF(L7:L37,T9)","v":0},{"$f":"U9/(W4-U10)","v":0},{"$f":"IF(V9=0,0,(V9*((LOG(V9))/LOG(2))))","v":0},null,{"$f":"N9","v":121},{"$f":"COUNTIF(L38:L68,Y9)","v":0},{"$f":"Z9/(AB4-Z10)","v":0},{"$f":"IF(AA9=0,0,(AA9*((LOG(AA9))/LOG(2))))","v":0},null,{"$f":"N9","v":121},{"$f":"COUNTIF(L69:L100,AD9)","v":0},{"$f":"AE9/(AG4-AE10)","v":0},{"$f":"IF(AF9=0,0,(AF9*((LOG(AF9))/LOG(2))))","v":0},null,{"$f":"N9","v":121},{"$f":"COUNTIF(L101:L131,AI9)","v":0},{"$f":"AJ9/(AL4-AJ10)","v":0},{"$f":"IF(AK9=0,0,(AK9*((LOG(AK9))/LOG(2))))","v":0},null,{"$f":"N9","v":121},{"$f":"COUNTIF(L132:L162,AN9)","v":0},{"$f":"AO9/(AQ4-AO10)","v":0},{"$f":"IF(AP9=0,0,(AP9*((LOG(AP9))/LOG(2))))","v":0},null,{"$f":"N9","v":121},{"$f":"COUNTIF(L163:L193,AS9)","v":0},{"$f":"AT9/(AV4-AT10)","v":0},{"$f":"IF(AU9=0,0,(AU9*((LOG(AU9))/LOG(2))))","v":0}]
[11,459,11,465,12,474,null,null,null,null,0,111,null,122,{"$f":"COUNTIF($L$7:$L$500,N10)","v":0},{"$f":"O10/$Q$4","v":0},{"$f":"IF(P10=0,0,(P10*((LOG(P10))/LOG(2))))","v":0},null,null,{"$f":"N10","v":122},{"$f":"COUNTIF(L7:L37,T10)","v":0},null,null,null,{"$f":"N10","v":122},{"$f":"COUNTIF(L38:L68,Y10)","v":0},null,null,null,{"$f":"N10","v":122},{"$f":"COUNTIF(L69:L100,AD10)","v":0},null,null,null,{"$f":"N10","v":122},{"$f":"COUNTIF(L101:L131,AI10)","v":0},null,null,null,{"$f":"N10","v":122},{"$f":"COUNTIF(L132:L162,AN10)","v":0},null,null,null,{"$f":"N10","v":122},{"$f":"COUNTIF(L163:L193,AS10)","v":0}]
[22,573,13,585,14,592,null,null,null,null,0,211,null,211,{"$f":"COUNTIF($L$7:$L$500,N11)","v":91},{"$f":"O11/$Q$4","v":0.48663101604278075},{"$f":"IF(P11=0,0,(P11*((LOG(P11))/LOG(2))))","v":-0.5056582010250994},null,null,{"$f":"N11","v":211},{"$f":"COUNTIF(L7:L37,T11)","v":16},{"$f":"U11/(W4-U10)","v":0.5161290322580645},{"$f":"IF(V11=0,0,(V11*((LOG(V11))/LOG(2))))","v":-0.49248841826419365},null,{"$f":"N11","v":211},{"$f":"COUNTIF(L38:L68,Y11)","v":15},{"$f":"Z11/(AB4-Z10)","v":0.4838709677419355},{"$f":"IF(AA11=0,0,(AA11*((LOG(AA11))/LOG(2))))","v":-0.50676082973146286},null,{"$f":"N11","v":211},{"$f":"COUNTIF(L69:L100,AD11)","v":13},{"$f":"AE11/(AG4-AE10)","v":0.40625},{"$f":"IF(AF11=0,0,(AF11*((LOG(AF11))/LOG(2))))","v":-0.52794636450518129},null,{"$f":"N11","v":211},{"$f":"COUNTIF(L101:L131,AI11)","v":10},{"$f":"AJ11/(AL4-AJ10)","v":0.32258064516129031},{"$f":"IF(AK11=0,0,(AK11*((LOG(AK11))/LOG(2))))","v":-0.52653813403210092},null,{"$f":"N11","v":211},{"$f":"COUNTIF(L132:L162,AN11)","v":18},{"$f":"AO11/(AQ4-AO10)","v":0.58064516129032262},{"$f":"IF(AP11=0,0,(AP11*((LOG(AP11))/LOG(2))))","v":-0.45538334067748809},null,{"$f":"N11","v":211},{"$f":"COUNTIF(L163:L193,AS11)","v":19},{"$f":"AT11/(AV4-AT10)","v":0.61290322580645162},{"$f":"IF(AU11=0,0,(AU11*((LOG(AU11))/LOG(2))))","v":-0.43287442393298403}]
[22,690,13,700,14,705,null,null,null,null,0,211,null,212,{"$f":"COUNTIF($L$7:$L$500,N12)","v":0},{"$f":"O12/$Q$4","v":0},{"$f":"IF(P12=0,0,(P12*((LOG(P12))/LOG(2))))","v":0},null,null,{"$f":"N12","v":212},{"$f":"COUNTIF(L7:L37,T12)","v":0},{"$f":"U12/(W4-U10)","v":0},{"$f":"IF(V12=0,0,(V12*((LOG(V12))/LOG(2))))","v":0},null,{"$f":"N12","v":212},{"$f":"COUNTIF(L38:L68,Y12)","v":0},{"$f":"Z12/(AB4-Z10)","v":0},{"$f":"IF(AA12=0,0,(AA12*((LOG(AA12))/LOG(2))))","v":0},null,{"$f":"N12","v":212},{"$f":"COUNTIF(L69:L100,AD12)","v":0},{"$f":"AE12/(AG4-AE10)","v":0},{"$f":"IF(AF12=0,0,(AF12*((LOG(AF12))/LOG(2))))","v":0},null,{"$f":"N12","v":212},{"$f":"COUNTIF(L101:L131,AI12)","v":0},{"$f":"AJ12/(AL4-AJ10)","v":0},{"$f":"IF(AK12=0,0,(AK12*((LOG(AK12))/LOG(2))))","v":0},null,{"$f":"N12","v":212},{"$f":"COUNTIF(L132:L162,AN12)","v":0},{"$f":"AO12/(AQ4-AO10)","v":0},{"$f":"IF(AP12=0,0,(AP12*((LOG(AP12))/LOG(2))))","v":0},null,{"$f":"N12","v":212},{"$f":"COUNTIF(L163:L193,AS12)","v":0},{"$f":"AT12/(AV4-AT10)","v":0},{"$f":"IF(AU12=0,0,(AU12*((LOG(AU12))/LOG(2))))","v":0}]
[11,817,11,825,12,831,null,null,null,null,0,111,null,221,{"$f":"COUNTIF($L$7:$L$500,N13)","v":1},{"$f":"O13/$Q$4","v":5.3475935828877002E-3},{"$f":"IF(P13=0,0,(P13*((LOG(P13))/LOG(2))))","v":-4.0357724384425864E-2},null,null,{"$f":"N13","v":221},{"$f":"COUNTIF(L7:L37,T13)","v":0},{"$f":"U13/(W4-U10)","v":0},{"$f":"IF(V13=0,0,(V13*((LOG(V13))/LOG(2))))","v":0},null,{"$f":"N13","v":221},{"$f":"COUNTIF(L38:L68,Y13)","v":0},{"$f":"Z13/(AB4-Z10)","v":0},{"$f":"IF(AA13=0,0,(AA13*((LOG(AA13))/LOG(2))))","v":0},null,{"$f":"N13","v":221},{"$f":"COUNTIF(L69:L100,AD13)","v":0},{"$f":"AE13/(AG4-AE10)","v":0},{"$f":"IF(AF13=0,0,(AF13*((LOG(AF13))/LOG(2))))","v":0},null,{"$f":"N13","v":221},{"$f":"COUNTIF(L101:L131,AI13)","v":0},{"$f":"AJ13/(AL4-AJ10)","v":0},{"$f":"IF(AK13=0,0,(AK13*((LOG(AK13))/LOG(2))))","v":0},null,{"$f":"N13","v":221},{"$f":"COUNTIF(L132:L162,AN13)","v":0},{"$f":"AO13/(AQ4-AO10)","v":0},{"$f":"IF(AP13=0,0,(AP13*((LOG(AP13))/LOG(2))))","v":0},null,{"$f":"N13","v":221},{"$f":"COUNTIF(L163:L193,AS13)","v":1},{"$f":"AT13/(AV4-AT10)","v":3.2258064516129031E-2},{"$f":"IF(AU13=0,0,(AU13*((LOG(AU13))/LOG(2))))","v":-0.15981278420602821}]
[22,934,13,946,14,954,null,null,null,null,0,211,null,222,{"$f":"COUNTIF($L$7:$L$500,N14)","v":0},{"$f":"O14/$Q$4","v":0},{"$f":"IF(P14=0,0,(P14*((LOG(P14))/LOG(2))))","v":0},null,null,{"$f":"N14","v":222},{"$f":"COUNTIF(L7:L37,T14)","v":0},{"$f":"U14/(W4-U10)","v":0},{"$f":"IF(V14=0,0,(V14*((LOG(V14))/LOG(2))))","v":0},null,{"$f":"N14","v":222},{"$f":"COUNTIF(L38:L68,Y14)","v":0},{"$f":"Z14/(AB4-Z10)","v":0},{"$f":"IF(AA14=0,0,(AA14*((LOG(AA14))/LOG(2))))","v":0},null,{"$f":"N14","v":222},{"$f":"COUNTIF(L69:L100,AD14)","v":0},{"$f":"AE14/(AG4-AE10)","v":0},{"$f":"IF(AF14=0,0,(AF14*((LOG(AF14))/LOG(2))))","v":0},null,{"$f":"N14","v":222},{"$f":"COUNTIF(L101:L131,AI14)","v":0},{"$f":"AJ14/(AL4-AJ10)","v":0},{"$f":"IF(AK14=0,0,(AK14*((LOG(AK14))/LOG(2))))","v":0},null,{"$f":"N14","v":222},{"$f":"COUNTIF(L132:L162,AN14)","v":0},{"$f":"AO14/(AQ4-AO10)","v":0},{"$f":"IF(AP14=0,0,(AP14*((LOG(AP14))/LOG(2))))","v":0},null,{"$f":"N14","v":222},{"$f":"COUNTIF(L163:L193,AS14)","v":0},{"$f":"AT14/(AV4-AT10)","v":0},{"$f":"IF(AU14=0,0,(AU14*((LOG(AU14))/LOG(2))))","v":0}]
[22,1057,13,1068,14,1074,null,null,null,null,0,211,null,null,null,{"$f":"SUM(P7:P14)","v":1},{"$f":"-SUM(Q7:Q14)","v":1.0423725612270944},null,null,null,null,{"$f":"SUM(V7:V14)","v":1},{"$f":"-SUM(W7:W14)","v":0.99924924799565651},null,null,null,{"$f":"SUM(AA7:AA14)","v":1},{"$f":"-SUM(AB7:AB14)","v":0.99924924799565651},null,null,null,{"$f":"SUM(AF7:AF14)","v":1},{"$f":"-SUM(AG7:AG14)","v":0.97448940339805235},null,null,null,{"$f":"SUM(AK7:AK14)","v":1},{"$f":"-SUM(AL7:AL14)","v":0.90716576757308198},null,null,null,{"$f":"SUM(AP7:AP14)","v":1},{"$f":"-SUM(AQ7:AQ14)","v":0.98115223419991326},null,null,null,{"$f":"SUM(AU7:AU14)","v":1},{"$f":"-SUM(AV7:AV14)","v":1.123087582630798}]
[22,1184,13,1194,14,1200,null,null,null,null,0,211,null,null,null,"U=",{"$f":"Q15/(LOG(Q4)/LOG(2))","v":0.13811940351987034},null,null,null,null,"U1=",{"$f":"W15/(LOG(W4)/LOG(2))","v":0.20169754797577344},null,null,null,"U2=",{"$f":"AB15/(LOG(AB4)/LOG(2))","v":0.20169754797577344},null,null,null,"U3=",{"$f":"AG15/(LOG(AG4)/LOG(2))","v":0.19489788067961047},null,null,null,"U4=",{"$f":"AL15/(LOG(AL4)/LOG(2))","v":0.18311058156317611},null,null,null,"U5=",{"$f":"AQ15/(LOG(AQ4)/LOG(2))","v":0.198044682271239},null,null,null,"U6=",{"$f":"AV15/(LOG(AV4)/LOG(2))","v":0.22669420270572518}]
[22,1304,13,1315,14,1321,null,null,null,null,0,211]
[22,1438,13,1451,14,1460,null,null,null,null,0,211]
[11,1581,11,1587,12,1598,null,null,null,null,0,111,null,"Total Target Seq"]
[11,1718,11,1724,12,1732,null,null,null,null,0,111,null,{"$f":"COUNTIF(L7:L193,G3)","v":0},null,31,31,32,31,31,31]
[11,1844,11,1853,12,1865,null,null,null,null,0,111,null,null,null,"% of reinforcement given in 6 equal intervals based on number of trials "]
[22,1975,13,1987,14,1995,null,null,null,null,0,211,null,null,null,"%_1","%_2","%_3","%_4","%_5","%_6"]
[11,2113,11,2118,12,2126,null,null,null,null,0,111,null,null,"target sequence",{"$f":"$G$3","v":122},{"$f":"$G$3","v":122},{"$f":"$G$3","v":122},{"$f":"$G$3","v":122},{"$f":"$G$3","v":122},{"$f":"$G$3","v":122}]
[22,2240,13,2266,14,2289,null,null,null,null,0,211,null,null,"total reinforcement",{"$f":"U10","v":0},{"$f":"Z10","v":0},{"$f":"AE10","v":0},{"$f":"AJ10","v":0},{"$f":"AO10","v":0},{"$f":"AT10","v":0}]
[22,2402,13,2414,14,2420,null,null,null,null,0,211,null,null,"% target"]
[22,2523,13,2535,14,2544,null,null,null,null,0,211,null,null,"CCRF"]
[22,2656,13,2668,14,2673,null,null,null,null,0,211,null,null,"% CCRf"]
[22,2779,13,2791,14,2799,null,null,null,null,0,211,null,null,"average response rate",{"$f":"F37/P20","v":128.87096774193549},{"$f":"(F68-F37)/Q20","v":130.41935483870967},{"$f":"(F100-F68)/R20","v":130.5},{"$f":"(F131-F100)/S20","v":130.03225806451613},{"$f":"(F162-F131)/T20","v":125.35483870967742},{"$f":"(F193-F162)/U20","v":123.96774193548387}]
[22,2905,13,2936,14,2946,null,null,null,null,0,211]
[11,3056,11,3063,12,3073,null,null,null,null,0,111]
[11,3200,11,3206,12,3213,null,null,null,null,0,111]
[11,3328,11,3334,12,3340,null,null,null,null,0,111]
[11,3461,11,3466,12,3475,null,null,null,null,0,111]
[11,3597,11,3604,12,3614,null,null,null,null,0,111]
[22,3720,13,3732,14,3738,null,null,null,null,0,211]
[11,3852,11,3859,12,3874,null,null,null,null,0,111]
[22,3980,13,3990,14,3995,null,null,null,null,0,211]
[22,4102,13,4114,14,4120,null,null,null,null,0,211]
[22,4220,13,4232,14,4240,null,null,null,null,0,211]
[11,4361,11,4369,12,4377,null,null,null,null,0,111]
[22,4486,13,4497,14,4502,null,null,null,null,0,211]
[22,4612,13,4623,14,4631,null,null,null,null,0,211]
[22,4737,13,4751,14,4762,null,null,null,null,0,211]
[11,4873,11,4878,12,4889,null,null,null,null,0,111]
[11,5000,11,5006,12,5012,null,null,null,null,0,111]
[22,5110,13,5126,14,5133,null,null,null,null,0,211]
[22,5244,13,5256,14,5262,null,null,null,null,0,211]
[11,5381,11,5387,12,5395,null,null,null,null,0,111]
[11,5519,11,5524,12,5536,null,null,null,null,0,111]
[11,5657,11,5664,12,5672,null,null,null,null,0,111]
[22,5774,13,5786,14,5791,null,null,null,null,0,211]
[11,5915,11,5923,12,5931,null,null,null,null,0,111]
[11,6046,11,6050,12,6059,null,null,null,null,0,111]
[11,6176,11,6182,12,6189,null,null,null,null,0,111]
[22,6309,13,6321,14,6329,null,null,null,null,0,211]
[11,6442,11,6450,12,6464,null,null,null,null,0,111]
[22,6588,13,6599,14,6607,null,null,null,null,0,211]
[22,6712,13,6721,14,6726,null,null,null,null,0,211]
[11,6851,11,6857,12,6865,null,null,null,null,0,111]
[22,6973,13,6984,14,6989,null,null,null,null,0,211]
[22,7099,13,7111,14,7119,null,null,null,null,0,211]
[22,7227,13,7235,14,7240,null,null,null,null,0,211]
[11,7360,11,7370,12,7382,null,null,null,null,0,111]
[11,7501,11,7510,12,7517,null,null,null,null,0,111]
[22,7620,13,7631,14,7636,null,null,null,null,0,211]
[11,7751,11,7756,12,7764,null,null,null,null,0,111]
[11,7890,11,7896,12,7906,null,null,null,null,0,111]
[11,8024,11,8030,12,8038,null,null,null,null,0,111]
[11,8162,11,8169,12,8181,null,null,null,null,0,111]
[11,8300,11,8309,12,8320,null,null,null,null,0,111]
[22,8422,13,8436,14,8445,null,null,null,null,0,211]
[11,8566,11,8574,12,8584,null,null,null,null,0,111]
[11,8699,11,8704,12,8712,null,null,null,null,0,111]
[11,8828,11,8837,12,8845,null,null,null,null,0,111]
[11,8962,11,8969,12,8976,null,null,null,null,0,111]
[22,9078,13,9091,14,9097,null,null,null,null,0,211]
[11,9205,11,9210,12,9218,null,null,null,null,0,111]
[22,9332,13,9343,14,9348,null,null,null,null,0,211]
[22,9452,13,9466,14,9473,null,null,null,null,0,211]
[11,9588,11,9594,12,9603,null,null,null,null,0,111]
[11,9740,11,9751,12,9761,null,null,null,null,0,111]
[11,9881,11,9887,12,9896,null,null,null,null,0,111]
[22,9993,13,10006,14,10014,null,null,null,null,0,211]
[11,10144,11,10149,12,10160,null,null,null,null,0,111]
[22,10276,13,10287,14,10292,null,null,null,null,0,211]
[11,10405,11,10413,12,10421,null,null,null,null,0,111]
[22,10526,13,10538,14,10547,null,null,null,null,0,211]
[22,10645,13,10656,14,10661,null,null,null,null,0,211]
[22,10766,13,10778,14,10783,null,null,null,null,0,211]
[22,10887,13,10898,14,10906,null,null,null,null,0,211]
[11,11028,11,11034,12,11043,null,null,null,null,0,111]
[11,11157,11,11163,12,11172,null,null,null,null,0,111]
[11,11297,11,11302,12,11313,null,null,null,null,0,111]
[11,11424,11,11430,12,11442,null,null,null,null,0,111]
[11,11558,11,11564,12,11572,null,null,null,null,0,111]
[11,11678,11,11683,12,11690,null,null,null,null,0,111]
[22,11795,13,11806,14,11815,null,null,null,null,0,211]
[22,11927,13,11939,14,11946,null,null,null,null,0,211]
[11,12069,11,12075,12,12084,null,null,null,null,0,111]
[22,12194,13,12205,14,12214,null,null,null,null,0,211]
[22,12312,13,12323,14,12329,null,null,null,null,0,211]
[22,12432,13,12441,14,12447,null,null,null,null,0,211]
[11,12564,11,12571,12,12579,null,null,null,null,0,111]
[22,12699,13,12711,14,12716,null,null,null,null,0,211]
[11,12834,11,12840,12,12851,null,null,null,null,0,111]
[11,12971,11,12976,12,12984,null,null,null,null,0,111]
[11,13096,11,13105,12,13116,null,null,null,null,0,111]
[11,13238,11,13243,12,13254,null,null,null,null,0,111]
[11,13358,11,13366,12,13374,null,null,null,null,0,111]
[11,13485,11,13490,12,13499,null,null,null,null,0,111]
[11,13621,11,13630,12,13640,null,null,null,null,0,111]
[22,13752,13,13764,14,13768,null,null,null,null,0,211]
[22,13865,13,13878,14,13883,null,null,null,null,0,211]
[11,14006,11,14014,12,14021,null,null,null,null,0,111]
[11,14140,11,14145,12,14152,null,null,null,null,0,111]
[22,14261,13,14272,14,14279,null,null,null,null,0,211]
[11,14397,11,14405,12,14412,null,null,null,null,0,111]
[11,14535,11,14540,12,14551,null,null,null,null,0,111]
[11,14689,11,14697,12,14709,null,null,null,null,0,111]
[11,14828,11,14837,12,14846,null,null,null,null,0,111]
[11,14975,11,14979,12,14987,null,null,null,null,0,111]
[22,15089,13,15100,14,15105,null,null,null,null,0,211]
[11,15227,11,15232,12,15241,null,null,null,null,0,111]
[11,15345,11,15352,12,15359,null,null,null,null,0,111]
[11,15476,11,15482,12,15493,null,null,null,null,0,111]
[22,15597,13,15610,14,15615,null,null,null,null,0,211]
[11,15730,11,15735,12,15743,null,null,null,null,0,111]
[11,15855,11,15860,12,15867,null,null,null,null,0,111]
[22,15967,13,15976,14,15982,null,null,null,null,0,211]
[11,16104,11,16109,12,16117,null,null,null,null,0,111]
[22,16224,13,16238,14,16245,null,null,null,null,0,211]
[11,16370,11,16378,12,16391,null,null,null,null,0,111]
[11,16501,11,16508,12,16515,null,null,null,null,0,111]
[22,16636,13,16643,14,16649,null,null,null,null,0,211]
[11,16752,11,16757,12,16764,null,null,null,null,0,111]
[11,16873,11,16878,12,16883,null,null,null,null,0,111]
[11,17007,11,17013,12,17020,null,null,null,null,0,111]
[22,17122,13,17135,14,17143,null,null,null,null,0,211]
[11,17258,11,17265,12,17275,null,null,null,null,0,111]
[22,17375,13,17384,14,17392,null,null,null,null,0,211]
[11,17507,11,17512,12,17519,null,null,null,null,0,111]
[22,17619,13,17627,14,17633,null,null,null,null,0,211]
[22,17729,13,17737,14,17742,null,null,null,null,0,211]
[22,17843,13,17858,14,17866,null,null,null,null,0,211]
[22,17973,13,17988,14,17993,null,null,null,null,0,211]
[22,18090,13,18098,14,18104,null,null,null,null,0,211]
[22,18206,13,18217,14,18223,null,null,null,null,0,211]
[22,18326,13,18334,14,18341,null,null,null,null,0,211]
[22,18444,13,18453,14,18458,null,null,null,null,0,211]
[22,18566,13,18577,14,18585,null,null,null,null,0,211]
[11,18692,11,18701,12,18712,null,null,null,null,0,111]
[22,18818,13,18831,14,18839,null,null,null,null,0,211]
[11,18953,11,18961,12,18972,null,null,null,null,0,111]
[11,19102,11,19110,12,19123,null,null,null,null,0,111]
[11,19235,11,19243,12,19254,null,null,null,null,0,111]
[22,19365,13,19376,14,19381,null,null,null,null,0,211]
[11,19500,11,19505,12,19511,null,null,null,null,0,111]
[11,19622,11,19627,12,19635,null,null,null,null,0,111]
[22,19745,13,19754,14,19760,null,null,null,null,0,211]
[22,19859,13,19869,14,19877,null,null,null,null,0,211]
[22,19980,13,19990,14,19996,null,null,null,null,0,211]
[22,20110,13,20122,14,20131,null,null,null,null,0,211]
[11,20252,11,20257,12,20269,null,null,null,null,0,111]
[11,20379,11,20384,12,20396,null,null,null,null,0,111]
[22,20503,13,20512,14,20517,null,null,null,null,0,211]
[22,20630,13,20641,14,20651,null,null,null,null,0,211]
[22,20755,13,20771,14,20778,null,null,null,null,0,211]
[22,20895,13,20903,14,20910,null,null,null,null,0,211]
[22,21010,13,21021,14,21026,null,null,null,null,0,211]
[22,21131,13,21141,14,21146,null,null,null,null,0,211]
[22,21246,13,21255,14,21260,null,null,null,null,0,211]
[22,21365,13,21381,14,21389,null,null,null,null,0,211]
[22,21501,13,21508,14,21513,null,null,null,null,0,211]
[11,21626,11,21634,12,21641,null,null,null,null,0,111]
[11,21753,11,21758,12,21766,null,null,null,null,0,111]
[11,21877,11,21882,12,21890,null,null,null,null,0,111]
[11,22010,11,22020,12,22029,null,null,null,null,0,111]
[22,22130,13,22141,14,22146,null,null,null,null,0,211]
[22,22243,13,22255,14,22260,null,null,null,null,0,211]
[11,22390,11,22398,12,22409,null,null,null,null,0,111]
[11,22522,11,22528,12,22537,null,null,null,null,0,111]
[22,22635,24,22646,14,22655,null,null,null,null,0,221]
[22,22751,13,22760,14,22768,null,null,null,null,0,211]
[22,22866,13,22878,14,22882,null,null,null,null,0,211]
[22,22983,13,22992,14,22997,null,null,null,null,0,211]
[22,23089,13,23107,14,23113,null,null,null,null,0,211]
[11,23223,11,23229,12,23240,null,null,null,null,0,111]
[22,23338,13,23346,14,23352,null,null,null,null,0,211]
[22,23470,13,23478,14,23486,null,null,null,null,0,211]
[11,23598,11,23606,12,23617,null,null,null,null,0,111]
[22,23717,13,23726,14,23732,null,null,null,null,0,211]
[22,23829,13,23841,14,23848,null,null,null,null,0,211]
[11,23959,11,23964,12,23974,null,null,null,null,null,111]

{"sheet":"!MA15B50.095","index":5,"n_rows":197,"n_cols":48,"rows_kept":197,"cut":false,"hidden":false,"merged":[[4,39,4,42],[5,39,5,40],[4,44,4,47],[5,44,5,45],[4,24,4,27],[5,24,5,25],[4,29,4,32],[5,29,5,30],[4,34,4,37],[5,34,5,35],[1,1,1,2],[5,13,5,14],[18,13,18,14],[19,13,19,14],[4,19,4,22],[5,19,5,20]]}
["Report for:!MA15B50.095"]
["Date:","<date>"]
["Hen:","<hen>",null,null,null,"Correct Sequence",{"$f":"Start!J2","v":122},null,null,null,null,null,null,null,null,"Total Sequences in Data",{"$f":"4994-COUNTBLANK(L7:L5000)","v":191},null,null,null,null,"Total Sequences in Block Data",{"$f":"COUNTA(L7:L38)","v":32},null,null,null,"Total Sequences in Block Data",{"$f":"COUNTA(L39:L70)","v":32},null,null,null,"Total Sequences in Block Data",{"$f":"COUNTA(L71:L101)","v":31},null,null,null,"Total Sequences in Block Data",{"$f":"COUNTA(L102:L133)","v":32},null,null,null,"Total Sequences in Block Data",{"$f":"COUNTA(L134:L165)","v":32},null,null,null,"Total Sequences in Block Data",{"$f":"COUNTA(L166:L197)","v":32}]
[null,null,null,null,null,null,null,null,null,null,null,null,null,null,null,"Total Sequences in Summary",{"$f":"SUM(O7:O14)","v":191},null,null,null,null,"Total Sequences in Block Summary",{"$f":"SUM(U7:U14)","v":32},null,null,null,"Total Sequences in Block Summary",{"$f":"SUM(Z7:Z14)","v":32},null,null,null,"Total Sequences in Block Summary",{"$f":"SUM(AE7:AE14)","v":31},null,null,null,"Total Sequences in Block Summary",{"$f":"SUM(AJ7:AJ14)","v":32},null,null,null,"Total Sequences in Block Summary",{"$f":"SUM(AO7:AO14)","v":32},null,null,null,"Total Sequences in Block Summary",{"$f":"SUM(AT7:AT14)","v":32}]
[null,null,null,null,null,null,null,null,null,null,null,null,null,null,null,null,null,null,null,"Block 1",null,null,null,null,"Block 2",null,null,null,null,"Block 3",null,null,null,null,"Block 4",null,null,null,null,"Block 5",null,null,null,null,"Block 6"]
["Sequence\nComponent\n1","Time\n1","Sequence\nComponent\n2","Time\n2","Sequence\nComponent\n3","Time\n3","Sequence\nComponent\n4","Time\n4","Sequence\nComponent\n5","Time\n5","Correct?\n0=No 1=Yes","Sequence",null,"Frequency",null,"Relative Frequency","Variability",null,null,"Frequency",null,"Relative Frequency","Variability",null,"Frequency",null,"Relative Frequency","Variability",null,"Frequency",null,"Relative Frequency","Variability",null,"Frequency",null,"Relative Frequency","Variability",null,"Frequency",null,"Relative Frequency","Variability",null,"Frequency",null,"Relative Frequency","Variability"]
[11,47,11,55,12,64,null,null,null,null,0,111,null,111,{"$f":"COUNTIF($L$7:$L$500,N7)","v":94},{"$f":"O7/$Q$4","v":0.49214659685863876},{"$f":"IF(P7=0,0,(P7*((LOG(P7))/LOG(2))))","v":-0.50338721349561499},null,null,{"$f":"N7","v":111},{"$f":"COUNTIF(L7:L38,T7)","v":17},{"$f":"U7/(W4-U10)","v":0.53125},{"$f":"IF(V7=0,0,(V7*((LOG(V7))/LOG(2))))","v":-0.48478536558575719},null,{"$f":"N7","v":111},{"$f":"COUNTIF(L39:L70,Y7)","v":17},{"$f":"Z7/(AB4-Z10)","v":0.53125},{"$f":"IF(AA7=0,0,(AA7*((LOG(AA7))/LOG(2))))","v":-0.48478536558575719},null,{"$f":"N7","v":111},{"$f":"COUNTIF(L71:L101,AD7)","v":10},{"$f":"AE7/(AG4-AE10)","v":0.32258064516129031},{"$f":"IF(AF7=0,0,(AF7*((LOG(AF7))/LOG(2))))","v":-0.52653813403210092},null,{"$f":"N7","v":111},{"$f":"COUNTIF(L102:L133,AI7)","v":18},{"$f":"AJ7/(AL4-AJ10)","v":0.5625},{"$f":"IF(AK7=0,0,(AK7*((LOG(AK7))/LOG(2))))","v":-0.4669171866886993},null,{"$f":"N7","v":111},{"$f":"COUNTIF(L134:L165,AN7)","v":19},{"$f":"AO7/(AQ4-AO10)","v":0.59375},{"$f":"IF(AP7=0,0,(AP7*((LOG(AP7))/LOG(2))))","v":-0.44654303889287106},null,{"$f":"N7","v":111},{"$f":"COUNTIF(L166:L197,AS7)","v":13},{"$f":"AT7/(AV4-AT10)","v":0.40625},{"$f":"IF(AU7=0,0,(AU7*((LOG(AU7))/LOG(2))))","v":-0.52794636450518129}]
[22,169,13,180,14,185,null,null,null,null,0,211,null,112,{"$f":"COUNTIF($L$7:$L$500,N8)","v":0},{"$f":"O8/$Q$4","v":0},{"$f":"IF(P8=0,0,(P8*((LOG(P8))/LOG(2))))","v":0},null,null,{"$f":"N8","v":112},{"$f":"COUNTIF(L7:L38,T8)","v":0},{"$f":"U8/(W4-U10)","v":0},{"$f":"IF(V8=0,0,(V8*((LOG(V8))/LOG(2))))","v":0},null,{"$f":"N8","v":112},{"$f":"COUNTIF(L39:L70,Y8)","v":0},{"$f":"Z8/(AB4-Z10)","v":0},{"$f":"IF(AA8=0,0,(AA8*((LOG(AA8))/LOG(2))))","v":0},null,{"$f":"N8","v":112},{"$f":"COUNTIF(L71:L101,AD8)","v":0},{"$f":"AE8/(AG4-AE10)","v":0},{"$f":"IF(AF8=0,0,(AF8*((LOG(AF8))/LOG(2))))","v":0},null,{"$f":"N8","v":112},{"$f":"COUNTIF(L102:L133,AI8)","v":0},{"$f":"AJ8/(AL4-AJ10)","v":0},{"$f":"IF(AK8=0,0,(AK8*((LOG(AK8))/LOG(2))))","v":0},null,{"$f":"N8","v":112},{"$f":"COUNTIF(L134:L165,AN8)","v":0},{"$f":"AO8/(AQ4-AO10)","v":0},{"$f":"IF(AP8=0,0,(AP8*((LOG(AP8))/LOG(2))))","v":0},null,{"$f":"N8","v":112},{"$f":"COUNTIF(L166:L197,AS8)","v":0},{"$f":"AT8/(AV4-AT10)","v":0},{"$f":"IF(AU8=0,0,(AU8*((LOG(AU8))/LOG(2))))","v":0}]
[22,301,13,309,14,315,null,null,null,null,0,211,null,121,{"$f":"COUNTIF($L$7:$L$500,N9)","v":0},{"$f":"O9/$Q$4","v":0},{"$f":"IF(P9=0,0,(P9*((LOG(P9))/LOG(2))))","v":0},null,null,{"$f":"N9","v":121},{"$f":"COUNTIF(L7:L38,T9)","v":0},{"$f":"U9/(W4-U10)","v":0},{"$f":"IF(V9=0,0,(V9*((LOG(V9))/LOG(2))))","v":0},null,{"$f":"N9","v":121},{"$f":"COUNTIF(L39:L70,Y9)","v":0},{"$f":"Z9/(AB4-Z10)","v":0},{"$f":"IF(AA9=0,0,(AA9*((LOG(AA9))/LOG(2))))","v":0},null,{"$f":"N9","v":121},{"$f":"COUNTIF(L71:L101,AD9)","v":0},{"$f":"AE9/(AG4-AE10)","v":0},{"$f":"IF(AF9=0,0,(AF9*((LOG(AF9))/LOG(2))))","v":0},null,{"$f":"N9","v":121},{"$f":"COUNTIF(L102:L133,AI9)","v":0},{"$f":"AJ9/(AL4-AJ10)","v":0},{"$f":"IF(AK9=0,0,(AK9*((LOG(AK9))/LOG(2))))","v":0},null,{"$f":"N9","v":121},{"$f":"COUNTIF(L134:L165,AN9)","v":0},{"$f":"AO9/(AQ4-AO10)","v":0},{"$f":"IF(AP9=0,0,(AP9*((LOG(AP9))/LOG(2))))","v":0},null,{"$f":"N9","v":121},{"$f":"COUNTIF(L166:L197,AS9)","v":0},{"$f":"AT9/(AV4-AT10)","v":0},{"$f":"IF(AU9=0,0,(AU9*((LOG(AU9))/LOG(2))))","v":0}]
[22,421,13,436,14,443,null,null,null,null,0,211,null,122,{"$f":"COUNTIF($L$7:$L$500,N10)","v":0},{"$f":"O10/$Q$4","v":0},{"$f":"IF(P10=0,0,(P10*((LOG(P10))/LOG(2))))","v":0},null,null,{"$f":"N10","v":122},{"$f":"COUNTIF(L7:L38,T10)","v":0},null,null,null,{"$f":"N10","v":122},{"$f":"COUNTIF(L39:L70,Y10)","v":0},null,null,null,{"$f":"N10","v":122},{"$f":"COUNTIF(L71:L101,AD10)","v":0},null,null,null,{"$f":"N10","v":122},{"$f":"COUNTIF(L102:L133,AI10)","v":0},null,null,null,{"$f":"N10","v":122},{"$f":"COUNTIF(L134:L165,AN10)","v":0},null,null,null,{"$f":"N10","v":122},{"$f":"COUNTIF(L166:L197,AS10)","v":0}]
[11,564,11,573,12,586,null,null,null,null,0,111,null,211,{"$f":"COUNTIF($L$7:$L$500,N11)","v":97},{"$f":"O11/$Q$4","v":0.50785340314136129},{"$f":"IF(P11=0,0,(P11*((LOG(P11))/LOG(2))))","v":-0.49643482003830491},null,null,{"$f":"N11","v":211},{"$f":"COUNTIF(L7:L38,T11)","v":15},{"$f":"U11/(W4-U10)","v":0.46875},{"$f":"IF(V11=0,0,(V11*((LOG(V11))/LOG(2))))","v":-0.512395033308507},null,{"$f":"N11","v":211},{"$f":"COUNTIF(L39:L70,Y11)","v":15},{"$f":"Z11/(AB4-Z10)","v":0.46875},{"$f":"IF(AA11=0,0,(AA11*((LOG(AA11))/LOG(2))))","v":-0.512395033308507},null,{"$f":"N11","v":211},{"$f":"COUNTIF(L71:L101,AD11)","v":21},{"$f":"AE11/(AG4-AE10)","v":0.67741935483870963},{"$f":"IF(AF11=0,0,(AF11*((LOG(AF11))/LOG(2))))","v":-0.38062763354098111},null,{"$f":"N11","v":211},{"$f":"COUNTIF(L102:L133,AI11)","v":14},{"$f":"AJ11/(AL4-AJ10)","v":0.4375},{"$f":"IF(AK11=0,0,(AK11*((LOG(AK11))/LOG(2))))","v":-0.52178222159979815},null,{"$f":"N11","v":211},{"$f":"COUNTIF(L134:L165,AN11)","v":13},{"$f":"AO11/(AQ4-AO10)","v":0.40625},{"$f":"IF(AP11=0,0,(AP11*((LOG(AP11))/LOG(2))))","v":-0.52794636450518129},null,{"$f":"N11","v":211},{"$f":"COUNTIF(L166:L197,AS11)","v":19},{"$f":"AT11/(AV4-AT10)","v":0.59375},{"$f":"IF(AU11=0,0,(AU11*((LOG(AU11))/LOG(2))))","v":-0.44654303889287106}]
[11,705,11,711,12,720,null,null,null,null,0,111,null,212,{"$f":"COUNTIF($L$7:$L$500,N12)","v":0},{"$f":"O12/$Q$4","v":0},{"$f":"IF(P12=0,0,(P12*((LOG(P12))/LOG(2))))","v":0},null,null,{"$f":"N12","v":212},{"$f":"COUNTIF(L7:L38,T12)","v":0},{"$f":"U12/(W4-U10)","v":0},{"$f":"IF(V12=0,0,(V12*((LOG(V12))/LOG(2))))","v":0},null,{"$f":"N12","v":212},{"$f":"COUNTIF(L39:L70,Y12)","v":0},{"$f":"Z12/(AB4-Z10)","v":0},{"$f":"IF(AA12=0,0,(AA12*((LOG(AA12))/LOG(2))))","v":0},null,{"$f":"N12","v":212},{"$f":"COUNTIF(L71:L101,AD12)","v":0},{"$f":"AE12/(AG4-AE10)","v":0},{"$f":"IF(AF12=0,0,(AF12*((LOG(AF12))/LOG(2))))","v":0},null,{"$f":"N12","v":212},{"$f":"COUNTIF(L102:L133,AI12)","v":0},{"$f":"AJ12/(AL4-AJ10)","v":0},{"$f":"IF(AK12=0,0,(AK12*((LOG(AK12))/LOG(2))))","v":0},null,{"$f":"N12","v":212},{"$f":"COUNTIF(L134:L165,AN12)","v":0},{"$f":"AO12/(AQ4-AO10)","v":0},{"$f":"IF(AP12=0,0,(AP12*((LOG(AP12))/LOG(2))))","v":0},null,{"$f":"N12","v":212},{"$f":"COUNTIF(L166:L197,AS12)","v":0},{"$f":"AT12/(AV4-AT10)","v":0},{"$f":"IF(AU12=0,0,(AU12*((LOG(AU12))/LOG(2))))","v":0}]
[11,840,11,848,12,857,null,null,null,null,0,111,null,221,{"$f":"COUNTIF($L$7:$L$500,N13)","v":0},{"$f":"O13/$Q$4","v":0},{"$f":"IF(P13=0,0,(P13*((LOG(P13))/LOG(2))))","v":0},null,null,{"$f":"N13","v":221},{"$f":"COUNTIF(L7:L38,T13)","v":0},{"$f":"U13/(W4-U10)","v":0},{"$f":"IF(V13=0,0,(V13*((LOG(V13))/LOG(2))))","v":0},null,{"$f":"N13","v":221},{"$f":"COUNTIF(L39:L70,Y13)","v":0},{"$f":"Z13/(AB4-Z10)","v":0},{"$f":"IF(AA13=0,0,(AA13*((LOG(AA13))/LOG(2))))","v":0},null,{"$f":"N13","v":221},{"$f":"COUNTIF(L71:L101,AD13)","v":0},{"$f":"AE13/(AG4-AE10)","v":0},{"$f":"IF(AF13=0,0,(AF13*((LOG(AF13))/LOG(2))))","v":0},null,{"$f":"N13","v":221},{"$f":"COUNTIF(L102:L133,AI13)","v":0},{"$f":"AJ13/(AL4-AJ10)","v":0},{"$f":"IF(AK13=0,0,(AK13*((LOG(AK13))/LOG(2))))","v":0},null,{"$f":"N13","v":221},{"$f":"COUNTIF(L134:L165,AN13)","v":0},{"$f":"AO13/(AQ4-AO10)","v":0},{"$f":"IF(AP13=0,0,(AP13*((LOG(AP13))/LOG(2))))","v":0},null,{"$f":"N13","v":221},{"$f":"COUNTIF(L166:L197,AS13)","v":0},{"$f":"AT13/(AV4-AT10)","v":0},{"$f":"IF(AU13=0,0,(AU13*((LOG(AU13))/LOG(2))))","v":0}]
[11,972,11,978,12,988,null,null,null,null,0,111,null,222,{"$f":"COUNTIF($L$7:$L$500,N14)","v":0},{"$f":"O14/$Q$4","v":0},{"$f":"IF(P14=0,0,(P14*((LOG(P14))/LOG(2))))","v":0},null,null,{"$f":"N14","v":222},{"$f":"COUNTIF(L7:L38,T14)","v":0},{"$f":"U14/(W4-U10)","v":0},{"$f":"IF(V14=0,0,(V14*((LOG(V14))/LOG(2))))","v":0},null,{"$f":"N14","v":222},{"$f":"COUNTIF(L39:L70,Y14)","v":0},{"$f":"Z14/(AB4-Z10)","v":0},{"$f":"IF(AA14=0,0,(AA14*((LOG(AA14))/LOG(2))))","v":0},null,{"$f":"N14","v":222},{"$f":"COUNTIF(L71:L101,AD14)","v":0},{"$f":"AE14/(AG4-AE10)","v":0},{"$f":"IF(AF14=0,0,(AF14*((LOG(AF14))/LOG(2))))","v":0},null,{"$f":"N14","v":222},{"$f":"COUNTIF(L102:L133,AI14)","v":0},{"$f":"AJ14/(AL4-AJ10)","v":0},{"$f":"IF(AK14=0,0,(AK14*((LOG(AK14))/LOG(2))))","v":0},null,{"$f":"N14","v":222},{"$f":"COUNTIF(L134:L165,AN14)","v":0},{"$f":"AO14/(AQ4-AO10)","v":0},{"$f":"IF(AP14=0,0,(AP14*((LOG(AP14))/LOG(2))))","v":0},null,{"$f":"N14","v":222},{"$f":"COUNTIF(L166:L197,AS14)","v":0},{"$f":"AT14/(AV4-AT10)","v":0},{"$f":"IF(AU14=0,0,(AU14*((LOG(AU14))/LOG(2))))","v":0}]
[22,1094,13,1106,14,1112,null,null,null,null,0,211,null,null,null,{"$f":"SUM(P7:P14)","v":1},{"$f":"-SUM(Q7:Q14)","v":0.99982203353391985},null,null,null,null,{"$f":"SUM(V7:V14)","v":1},{"$f":"-SUM(W7:W14)","v":0.99718039889426424},null,null,null,{"$f":"SUM(AA7:AA14)","v":1},{"$f":"-SUM(AB7:AB14)","v":0.99718039889426424},null,null,null,{"$f":"SUM(AF7:AF14)","v":1},{"$f":"-SUM(AG7:AG14)","v":0.90716576757308198},null,null,null,{"$f":"SUM(AK7:AK14)","v":1},{"$f":"-SUM(AL7:AL14)","v":0.98869940828849745},null,null,null,{"$f":"SUM(AP7:AP14)","v":1},{"$f":"-SUM(AQ7:AQ14)","v":0.97448940339805235},null,null,null,{"$f":"SUM(AU7:AU14)","v":1},{"$f":"-SUM(AV7:AV14)","v":0.97448940339805235}]
[11,1228,11,1234,12,1242,null,null,null,null,0,111,null,null,null,"U=",{"$f":"Q15/(LOG(Q4)/LOG(2))","v":0.13194740013059256},null,null,null,null,"U1=",{"$f":"W15/(LOG(W4)/LOG(2))","v":0.19943607977885286},null,null,null,"U2=",{"$f":"AB15/(LOG(AB4)/LOG(2))","v":0.19943607977885286},null,null,null,"U3=",{"$f":"AG15/(LOG(AG4)/LOG(2))","v":0.18311058156317611},null,null,null,"U4=",{"$f":"AL15/(LOG(AL4)/LOG(2))","v":0.19773988165769948},null,null,null,"U5=",{"$f":"AQ15/(LOG(AQ4)/LOG(2))","v":0.19489788067961047},null,null,null,"U6=",{"$f":"AV15/(LOG(AV4)/LOG(2))","v":0.19489788067961047}]
[22,1351,13,1363,14,1372,null,null,null,null,0,211]
[11,1493,11,1498,12,1506,null,null,null,null,0,111]
[11,1618,11,1624,12,1635,null,null,null,null,0,111,null,"Total Target Seq"]
[22,1741,13,1750,14,1756,null,null,null,null,0,211,null,{"$f":"COUNTIF(L7:L197,G3)","v":0},null,32,32,31,32,32,32]
[11,1886,11,1892,12,1904,null,null,null,null,0,111,null,null,null,"% of reinforcement given in 6 equal intervals based on number of trials "]
[22,2006,13,2019,14,2026,null,null,null,null,0,211,null,null,null,"%_1","%_2","%_3","%_4","%_5","%_6"]
[11,2144,11,2150,12,2158,null,null,null,null,0,111,null,null,"target sequence",{"$f":"$G$3","v":122},{"$f":"$G$3","v":122},{"$f":"$G$3","v":122},{"$f":"$G$3","v":122},{"$f":"$G$3","v":122},{"$f":"$G$3","v":122}]
[22,2268,13,2281,14,2290,null,null,null,null,0,211,null,null,"total reinforcement",{"$f":"U10","v":0},{"$f":"Z10","v":0},{"$f":"AE10","v":0},{"$f":"AJ10","v":0},{"$f":"AO10","v":0},{"$f":"AT10","v":0}]
[22,2395,13,2404,14,2410,null,null,null,null,0,211,null,null,"% target"]
[22,2530,13,2543,14,2549,null,null,null,null,0,211,null,null,"CCRF"]
[11,2663,11,2668,12,2678,null,null,null,null,0,111,null,null,"% CCRf"]
[11,2791,11,2797,12,2806,null,null,null,null,0,111,null,null,"average response rate",{"$f":"F38/P20","v":127.28125},{"$f":"(F70-F38)/Q20","v":125.25},{"$f":"(F101-F70)/R20","v":123.90322580645162},{"$f":"(F133-F101)/S20","v":123.78125},{"$f":"(F165-F133)/T20","v":129.875},{"$f":"(F197-F165)/U20","v":122.5}]
[11,2915,11,2921,12,2928,null,null,null,null,0,111]
[11,3045,11,3052,12,3060,null,null,null,null,0,111]
[22,3161,13,3173,14,3179,null,null,null,null,0,211]
[22,3283,13,3293,14,3299,null,null,null,null,0,211]
[22,3405,13,3418,14,3425,null,null,null,null,0,211]
[11,3542,11,3547,12,3555,null,null,null,null,0,111]
[22,3660,13,3671,14,3680,null,null,null,null,0,211]
[22,3788,13,3797,14,3803,null,null,null,null,0,211]
[11,3919,11,3926,12,3933,null,null,null,null,0,111]
[11,4059,11,4065,12,4073,null,null,null,null,0,111]
[11,4188,11,4197,12,4207,null,null,null,null,0,111]
[11,4328,11,4334,12,4343,null,null,null,null,0,111]
[22,4448,13,4458,14,4464,null,null,null,null,0,211]
[22,4574,13,4585,14,4591,null,null,null,null,0,211]
[22,4691,13,4701,14,4708,null,null,null,null,0,211]
[11,4824,11,4832,12,4844,null,null,null,null,0,111]
[11,4964,11,4972,12,4981,null,null,null,null,0,111]
[22,5089,13,5101,14,5106,null,null,null,null,0,211]
[11,5221,11,5229,12,5238,null,null,null,null,0,111]
[22,5346,13,5359,14,5364,null,null,null,null,0,211]
[11,5479,11,5484,12,5492,null,null,null,null,0,111]
[11,5605,11,5614,12,5623,null,null,null,null,0,111]
[22,5722,13,5735,14,5741,null,null,null,null,0,211]
[11,5852,11,5857,12,5865,null,null,null,null,0,111]
[22,5961,13,5973,14,5977,null,null,null,null,0,211]
[22,6081,13,6090,14,6095,null,null,null,null,0,211]
[22,6197,13,6206,14,6212,null,null,null,null,0,211]
[11,6322,11,6328,12,6338,null,null,null,null,0,111]
[22,6437,13,6445,14,6452,null,null,null,null,0,211]
[11,6565,11,6570,12,6582,null,null,null,null,0,111]
[11,6684,11,6690,12,6698,null,null,null,null,0,111]
[22,6805,13,6816,14,6821,null,null,null,null,0,211]
[11,6933,11,6938,12,6946,null,null,null,null,0,111]
[22,7049,13,7061,14,7066,null,null,null,null,0,211]
[11,7180,11,7185,12,7193,null,null,null,null,0,111]
[11,7317,11,7324,12,7334,null,null,null,null,0,111]
[11,7453,11,7460,12,7473,null,null,null,null,0,111]
[11,7587,11,7594,12,7602,null,null,null,null,0,111]
[22,7710,13,7721,14,7725,null,null,null,null,0,211]
[11,7836,11,7841,12,7850,null,null,null,null,0,111]
[22,7955,13,7963,14,7968,null,null,null,null,0,211]
[22,8067,13,8075,14,8081,null,null,null,null,0,211]
[22,8178,13,8187,14,8191,null,null,null,null,0,211]
[22,8293,13,8307,14,8315,null,null,null,null,0,211]
[11,8428,11,8432,12,8440,null,null,null,null,0,111]
[22,8546,13,8555,14,8562,null,null,null,null,0,211]
[22,8662,13,8673,14,8678,null,null,null,null,0,211]
[22,8785,13,8793,14,8797,null,null,null,null,0,211]
[22,8895,13,8903,14,8908,null,null,null,null,0,211]
[22,9012,13,9023,14,9033,null,null,null,null,0,211]
[22,9143,13,9154,14,9162,null,null,null,null,0,211]
[22,9259,13,9269,14,9274,null,null,null,null,0,211]
[22,9378,13,9387,14,9392,null,null,null,null,0,211]
[11,9504,11,9509,12,9517,null,null,null,null,0,111]
[11,9644,11,9651,12,9659,null,null,null,null,0,111]
[22,9763,13,9774,14,9781,null,null,null,null,0,211]
[22,9887,13,9898,14,9905,null,null,null,null,0,211]
[22,10008,13,10019,14,10025,null,null,null,null,0,211]
[22,10129,13,10137,14,10144,null,null,null,null,0,211]
[11,10256,11,10261,12,10272,null,null,null,null,0,111]
[22,10378,13,10392,14,10400,null,null,null,null,0,211]
[11,10512,11,10516,12,10524,null,null,null,null,0,111]
[22,10630,13,10638,14,10643,null,null,null,null,0,211]
[11,10761,11,10766,12,10774,null,null,null,null,0,111]
[22,10883,13,10890,14,10895,null,null,null,null,0,211]
[22,10995,13,11003,14,11009,null,null,null,null,0,211]
[11,11144,11,11151,12,11165,null,null,null,null,0,111]
[22,11269,13,11285,14,11293,null,null,null,null,0,211]
[22,11396,13,11404,14,11412,null,null,null,null,0,211]
[22,11515,13,11526,14,11532,null,null,null,null,0,211]
[11,11649,11,11654,12,11667,null,null,null,null,0,111]
[11,11786,11,11790,12,11799,null,null,null,null,0,111]
[11,11909,11,11913,12,11922,null,null,null,null,0,111]
[22,12030,13,12039,14,12045,null,null,null,null,0,211]
[11,12151,11,12158,12,12165,null,null,null,null,0,111]
[22,12266,13,12277,14,12282,null,null,null,null,0,211]
[22,12388,13,12399,14,12405,null,null,null,null,0,211]
[22,12507,13,12516,14,12522,null,null,null,null,0,211]
[11,12632,11,12637,12,12645,null,null,null,null,0,111]
[11,12762,11,12767,12,12779,null,null,null,null,0,111]
[11,12898,11,12903,12,12910,null,null,null,null,0,111]
[11,13018,11,13022,12,13030,null,null,null,null,0,111]
[22,13127,13,13135,14,13140,null,null,null,null,0,211]
[11,13254,11,13260,12,13272,null,null,null,null,0,111]
[11,13383,11,13388,12,13395,null,null,null,null,0,111]
[22,13508,13,13516,14,13521,null,null,null,null,0,211]
[11,13630,11,13636,12,13648,null,null,null,null,0,111]
[11,13759,11,13764,12,13772,null,null,null,null,0,111]
[11,13883,11,13887,12,13895,null,null,null,null,0,111]
[22,13997,13,14005,14,14010,null,null,null,null,0,211]
[11,14122,11,14127,12,14135,null,null,null,null,0,111]
[22,14240,13,14248,14,14253,null,null,null,null,0,211]
[22,14350,13,14359,14,14363,null,null,null,null,0,211]
[11,14467,11,14474,12,14481,null,null,null,null,0,111]
[11,14600,11,14607,12,14615,null,null,null,null,0,111]
[22,14721,13,14729,14,14737,null,null,null,null,0,211]
[11,14857,11,14862,12,14874,null,null,null,null,0,111]
[22,14978,13,14986,14,14991,null,null,null,null,0,211]
[11,15105,11,15110,12,15121,null,null,null,null,0,111]
[11,15236,11,15242,12,15254,null,null,null,null,0,111]
[22,15357,13,15369,14,15374,null,null,null,null,0,211]
[11,15490,11,15495,12,15504,null,null,null,null,0,111]
[22,15611,13,15622,14,15627,null,null,null,null,0,211]
[22,15734,13,15742,14,15750,null,null,null,null,0,211]
[11,15862,11,15872,12,15883,null,null,null,null,0,111]
[11,16003,11,16014,12,16022,null,null,null,null,0,111]
[11,16143,11,16149,12,16158,null,null,null,null,0,111]
[22,16265,13,16274,14,16278,null,null,null,null,0,211]
[22,16383,13,16394,14,16400,null,null,null,null,0,211]
[22,16605,13,16616,14,16625,null,null,null,null,0,211]
[11,16737,11,16743,12,16753,null,null,null,null,0,111]
[11,16878,11,16883,12,16891,null,null,null,null,0,111]
[22,16994,13,17003,14,17008,null,null,null,null,0,211]
[11,17134,11,17142,12,17153,null,null,null,null,0,111]
[11,17270,11,17279,12,17287,null,null,null,null,0,111]
[11,17400,11,17405,12,17414,null,null,null,null,0,111]
[22,17513,13,17521,14,17526,null,null,null,null,0,211]
[22,17634,13,17642,14,17647,null,null,null,null,0,211]
[11,17767,11,17774,12,17782,null,null,null,null,0,111]
[22,17889,13,17899,14,17904,null,null,null,null,0,211]
[22,18008,13,18016,14,18021,null,null,null,null,0,211]
[11,18135,11,18141,12,18150,null,null,null,null,0,111]
[11,18256,11,18265,12,18276,null,null,null,null,0,111]
[11,18396,11,18403,12,18411,null,null,null,null,0,111]
[11,18524,11,18530,12,18540,null,null,null,null,0,111]
[11,18653,11,18658,12,18665,null,null,null,null,0,111]
[11,18780,11,18784,12,18793,null,null,null,null,0,111]
[22,18894,13,18905,14,18909,null,null,null,null,0,211]
[11,19014,11,19019,12,19027,null,null,null,null,0,111]
[11,19150,11,19158,12,19171,null,null,null,null,0,111]
[22,19275,13,19287,14,19293,null,null,null,null,0,211]
[22,19397,13,19409,14,19417,null,null,null,null,0,211]
[11,19532,11,19537,12,19548,null,null,null,null,0,111]
[22,19655,13,19665,14,19670,null,null,null,null,0,211]
[11,19782,11,19787,12,19795,null,null,null,null,0,111]
[11,19909,11,19915,12,19923,null,null,null,null,0,111]
[22,20026,13,20034,14,20039,null,null,null,null,0,211]
[22,20136,13,20147,14,20152,null,null,null,null,0,211]
[11,20263,11,20271,12,20280,null,null,null,null,0,111]
[11,20395,11,20403,12,20411,null,null,null,null,0,111]
[22,20520,13,20531,14,20537,null,null,null,null,0,211]
[22,20644,13,20652,14,20658,null,null,null,null,0,211]
[11,20760,11,20765,12,20774,null,null,null,null,0,111]
[11,20882,11,20888,12,20895,null,null,null,null,0,111]
[22,20996,13,21004,14,21009,null,null,null,null,0,211]
[11,21119,11,21123,12,21131,null,null,null,null,0,111]
[22,21229,13,21241,14,21245,null,null,null,null,0,211]
[11,21363,11,21368,12,21376,null,null,null,null,0,111]
[22,21479,13,21487,14,21493,null,null,null,null,0,211]
[22,21590,13,21598,14,21603,null,null,null,null,0,211]
[11,21724,11,21731,12,21742,null,null,null,null,0,111]
[11,21859,11,21865,12,21877,null,null,null,null,0,111]
[22,21976,13,21987,14,21992,null,null,null,null,0,211]
[22,22089,13,22102,14,22106,null,null,null,null,0,211]
[11,22225,11,22231,12,22242,null,null,null,null,0,111]
[22,22346,13,22363,14,22371,null,null,null,null,0,211]
[22,22472,13,22483,14,22488,null,null,null,null,0,211]
[11,22591,11,22596,12,22602,null,null,null,null,0,111]
[11,22714,11,22719,12,22727,null,null,null,null,0,111]
[11,22847,11,22853,12,22861,null,null,null,null,0,111]
[22,22959,13,22970,14,22975,null,null,null,null,0,211]
[22,23082,13,23093,14,23099,null,null,null,null,0,211]
[22,23201,13,23213,14,23221,null,null,null,null,0,211]
[22,23326,13,23336,14,23341,null,null,null,null,0,211]
[22,23441,13,23453,14,23461,null,null,null,null,0,211]
[11,23581,11,23586,12,23595,null,null,null,null,0,111]
[22,23698,13,23709,14,23715,null,null,null,null,0,211]
[22,23823,13,23833,14,23838,null,null,null,null,0,211]
[22,23945,13,23953,14,23959,null,null,null,null,null,211]

{"sheet":"!MA16B10.095","index":6,"n_rows":195,"n_cols":48,"rows_kept":195,"cut":false,"hidden":false,"merged":[[4,39,4,42],[5,39,5,40],[4,44,4,47],[5,44,5,45],[4,24,4,27],[5,24,5,25],[4,29,4,32],[5,29,5,30],[4,34,4,37],[5,34,5,35],[1,1,1,2],[5,13,5,14],[18,13,18,14],[19,13,19,14],[4,19,4,22],[5,19,5,20]]}
["Report for:!MA16B10.095"]
["Date:","<date>"]
["Hen:","<hen>",null,null,null,"Correct Sequence",{"$f":"Start!J2","v":122},null,null,null,null,null,null,null,null,"Total Sequences in Data",{"$f":"4994-COUNTBLANK(L7:L5000)","v":189},null,null,null,null,"Total Sequences in Block Data",{"$f":"COUNTA(L7:L38)","v":32},null,null,null,"Total Sequences in Block Data",{"$f":"COUNTA(L39:L69)","v":31},null,null,null,"Total Sequences in Block Data",{"$f":"COUNTA(L70:L101)","v":32},null,null,null,"Total Sequences in Block Data",{"$f":"COUNTA(L102:L132)","v":31},null,null,null,"Total Sequences in Block Data",{"$f":"COUNTA(L133:L164)","v":32},null,null,null,"Total Sequences in Block Data",{"$f":"COUNTA(L165:L195)","v":31}]
[null,null,null,null,null,null,null,null,null,null,null,null,null,null,null,"Total Sequences in Summary",{"$f":"SUM(O7:O14)","v":189},null,null,null,null,"Total Sequences in Block Summary",{"$f":"SUM(U7:U14)","v":32},null,null,null,"Total Sequences in Block Summary",{"$f":"SUM(Z7:Z14)","v":31},null,null,null,"Total Sequences in Block Summary",{"$f":"SUM(AE7:AE14)","v":32},null,null,null,"Total Sequences in Block Summary",{"$f":"SUM(AJ7:AJ14)","v":31},null,null,null,"Total Sequences in Block Summary",{"$f":"SUM(AO7:AO14)","v":32},null,null,null,"Total Sequences in Block Summary",{"$f":"SUM(AT7:AT14)","v":31}]
[null,null,null,null,null,null,null,null,null,null,null,null,null,null,null,null,null,null,null,"Block 1",null,null,null,null,"Block 2",null,null,null,null,"Block 3",null,null,null,null,"Block 4",null,null,null,null,"Block 5",null,null,null,null,"Block 6"]
["Sequence\nComponent\n1","Time\n1","Sequence\nComponent\n2","Time\n2","Sequence\nComponent\n3","Time\n3","Sequence\nComponent\n4","Time\n4","Sequence\nComponent\n5","Time\n5","Correct?\n0=No 1=Yes","Sequence",null,"Frequency",null,"Relative Frequency","Variability",null,null,"Frequency",null,"Relative Frequency","Variability",null,"Frequency",null,"Relative Frequency","Variability",null,"Frequency",null,"Relative Frequency","Variability",null,"Frequency",null,"Relative Frequency","Variability",null,"Frequency",null,"Relative Frequency","Variability",null,"Frequency",null,"Relative Frequency","Variability"]
[11,20,11,28,12,38,null,null,null,null,0,111,null,111,{"$f":"COUNTIF($L$7:$L$500,N7)","v":96},{"$f":"O7/$Q$4","v":0.50793650793650791},{"$f":"IF(P7=0,0,(P7*((LOG(P7))/LOG(2))))","v":-0.49639615161900519},null,null,{"$f":"N7","v":111},{"$f":"COUNTIF(L7:L38,T7)","v":14},{"$f":"U7/(W4-U10)","v":0.4375},{"$f":"IF(V7=0,0,(V7*((LOG(V7))/LOG(2))))","v":-0.52178222159979815},null,{"$f":"N7","v":111},{"$f":"COUNTIF(L39:L69,Y7)","v":18},{"$f":"Z7/(AB4-Z10)","v":0.58064516129032262},{"$f":"IF(AA7=0,0,(AA7*((LOG(AA7))/LOG(2))))","v":-0.45538334067748809},null,{"$f":"N7","v":111},{"$f":"COUNTIF(L70:L101,AD7)","v":20},{"$f":"AE7/(AG4-AE10)","v":0.625},{"$f":"IF(AF7=0,0,(AF7*((LOG(AF7))/LOG(2))))","v":-0.42379494069539858},null,{"$f":"N7","v":111},{"$f":"COUNTIF(L102:L132,AI7)","v":19},{"$f":"AJ7/(AL4-AJ10)","v":0.61290322580645162},{"$f":"IF(AK7=0,0,(AK7*((LOG(AK7))/LOG(2))))","v":-0.43287442393298403},null,{"$f":"N7","v":111},{"$f":"COUNTIF(L133:L164,AN7)","v":12},{"$f":"AO7/(AQ4-AO10)","v":0.375},{"$f":"IF(AP7=0,0,(AP7*((LOG(AP7))/LOG(2))))","v":-0.53063906222956647},null,{"$f":"N7","v":111},{"$f":"COUNTIF(L165:L195,AS7)","v":13},{"$f":"AT7/(AV4-AT10)","v":0.41935483870967744},{"$f":"IF(AU7=0,0,(AU7*((LOG(AU7))/LOG(2))))","v":-0.52576889352242517}]
[22,152,13,165,14,173,null,null,null,null,0,211,null,112,{"$f":"COUNTIF($L$7:$L$500,N8)","v":0},{"$f":"O8/$Q$4","v":0},{"$f":"IF(P8=0,0,(P8*((LOG(P8))/LOG(2))))","v":0},null,null,{"$f":"N8","v":112},{"$f":"COUNTIF(L7:L38,T8)","v":0},{"$f":"U8/(W4-U10)","v":0},{"$f":"IF(V8=0,0,(V8*((LOG(V8))/LOG(2))))","v":0},null,{"$f":"N8","v":112},{"$f":"COUNTIF(L39:L69,Y8)","v":0},{"$f":"Z8/(AB4-Z10)","v":0},{"$f":"IF(AA8=0,0,(AA8*((LOG(AA8))/LOG(2))))","v":0},null,{"$f":"N8","v":112},{"$f":"COUNTIF(L70:L101,AD8)","v":0},{"$f":"AE8/(AG4-AE10)","v":0},{"$f":"IF(AF8=0,0,(AF8*((LOG(AF8))/LOG(2))))","v":0},null,{"$f":"N8","v":112},{"$f":"COUNTIF(L102:L132,AI8)","v":0},{"$f":"AJ8/(AL4-AJ10)","v":0},{"$f":"IF(AK8=0,0,(AK8*((LOG(AK8))/LOG(2))))","v":0},null,{"$f":"N8","v":112},{"$f":"COUNTIF(L133:L164,AN8)","v":0},{"$f":"AO8/(AQ4-AO10)","v":0},{"$f":"IF(AP8=0,0,(AP8*((LOG(AP8))/LOG(2))))","v":0},null,{"$f":"N8","v":112},{"$f":"COUNTIF(L165:L195,AS8)","v":0},{"$f":"AT8/(AV4-AT10)","v":0},{"$f":"IF(AU8=0,0,(AU8*((LOG(AU8))/LOG(2))))","v":0}]
[11,296,11,300,12,324,null,null,null,null,0,111,null,121,{"$f":"COUNTIF($L$7:$L$500,N9)","v":0},{"$f":"O9/$Q$4","v":0},{"$f":"IF(P9=0,0,(P9*((LOG(P9))/LOG(2))))","v":0},null,null,{"$f":"N9","v":121},{"$f":"COUNTIF(L7:L38,T9)","v":0},{"$f":"U9/(W4-U10)","v":0},{"$f":"IF(V9=0,0,(V9*((LOG(V9))/LOG(2))))","v":0},null,{"$f":"N9","v":121},{"$f":"COUNTIF(L39:L69,Y9)","v":0},{"$f":"Z9/(AB4-Z10)","v":0},{"$f":"IF(AA9=0,0,(AA9*((LOG(AA9))/LOG(2))))","v":0},null,{"$f":"N9","v":121},{"$f":"COUNTIF(L70:L101,AD9)","v":0},{"$f":"AE9/(AG4-AE10)","v":0},{"$f":"IF(AF9=0,0,(AF9*((LOG(AF9))/LOG(2))))","v":0},null,{"$f":"N9","v":121},{"$f":"COUNTIF(L102:L132,AI9)","v":0},{"$f":"AJ9/(AL4-AJ10)","v":0},{"$f":"IF(AK9=0,0,(AK9*((LOG(AK9))/LOG(2))))","v":0},null,{"$f":"N9","v":121},{"$f":"COUNTIF(L133:L164,AN9)","v":0},{"$f":"AO9/(AQ4-AO10)","v":0},{"$f":"IF(AP9=0,0,(AP9*((LOG(AP9))/LOG(2))))","v":0},null,{"$f":"N9","v":121},{"$f":"COUNTIF(L165:L195,AS9)","v":0},{"$f":"AT9/(AV4-AT10)","v":0},{"$f":"IF(AU9=0,0,(AU9*((LOG(AU9))/LOG(2))))","v":0}]
[22,426,13,435,14,440,null,null,null,null,0,211,null,122,{"$f":"COUNTIF($L$7:$L$500,N10)","v":0},{"$f":"O10/$Q$4","v":0},{"$f":"IF(P10=0,0,(P10*((LOG(P10))/LOG(2))))","v":0},null,null,{"$f":"N10","v":122},{"$f":"COUNTIF(L7:L38,T10)","v":0},null,null,null,{"$f":"N10","v":122},{"$f":"COUNTIF(L39:L69,Y10)","v":0},null,null,null,{"$f":"N10","v":122},{"$f":"COUNTIF(L70:L101,AD10)","v":0},null,null,null,{"$f":"N10","v":122},{"$f":"COUNTIF(L102:L132,AI10)","v":0},null,null,null,{"$f":"N10","v":122},{"$f":"COUNTIF(L133:L164,AN10)","v":0},null,null,null,{"$f":"N10","v":122},{"$f":"COUNTIF(L165:L195,AS10)","v":0}]
[11,557,11,563,12,572,null,null,null,null,0,111,null,211,{"$f":"COUNTIF($L$7:$L$500,N11)","v":91},{"$f":"O11/$Q$4","v":0.48148148148148145},{"$f":"IF(P11=0,0,(P11*((LOG(P11))/LOG(2))))","v":-0.50769708119595902},null,null,{"$f":"N11","v":211},{"$f":"COUNTIF(L7:L38,T11)","v":16},{"$f":"U11/(W4-U10)","v":0.5},{"$f":"IF(V11=0,0,(V11*((LOG(V11))/LOG(2))))","v":-0.5},null,{"$f":"N11","v":211},{"$f":"COUNTIF(L39:L69,Y11)","v":13},{"$f":"Z11/(AB4-Z10)","v":0.41935483870967744},{"$f":"IF(AA11=0,0,(AA11*((LOG(AA11))/LOG(2))))","v":-0.52576889352242517},null,{"$f":"N11","v":211},{"$f":"COUNTIF(L70:L101,AD11)","v":12},{"$f":"AE11/(AG4-AE10)","v":0.375},{"$f":"IF(AF11=0,0,(AF11*((LOG(AF11))/LOG(2))))","v":-0.53063906222956647},null,{"$f":"N11","v":211},{"$f":"COUNTIF(L102:L132,AI11)","v":12},{"$f":"AJ11/(AL4-AJ10)","v":0.38709677419354838},{"$f":"IF(AK11=0,0,(AK11*((LOG(AK11))/LOG(2))))","v":-0.5300259908383429},null,{"$f":"N11","v":211},{"$f":"COUNTIF(L133:L164,AN11)","v":20},{"$f":"AO11/(AQ4-AO10)","v":0.625},{"$f":"IF(AP11=0,0,(AP11*((LOG(AP11))/LOG(2))))","v":-0.42379494069539858},null,{"$f":"N11","v":211},{"$f":"COUNTIF(L165:L195,AS11)","v":18},{"$f":"AT11/(AV4-AT10)","v":0.58064516129032262},{"$f":"IF(AU11=0,0,(AU11*((LOG(AU11))/LOG(2))))","v":-0.45538334067748809}]
[22,696,13,709,14,719,null,null,null,null,0,211,null,212,{"$f":"COUNTIF($L$7:$L$500,N12)","v":0},{"$f":"O12/$Q$4","v":0},{"$f":"IF(P12=0,0,(P12*((LOG(P12))/LOG(2))))","v":0},null,null,{"$f":"N12","v":212},{"$f":"COUNTIF(L7:L38,T12)","v":0},{"$f":"U12/(W4-U10)","v":0},{"$f":"IF(V12=0,0,(V12*((LOG(V12))/LOG(2))))","v":0},null,{"$f":"N12","v":212},{"$f":"COUNTIF(L39:L69,Y12)","v":0},{"$f":"Z12/(AB4-Z10)","v":0},{"$f":"IF(AA12=0,0,(AA12*((LOG(AA12))/LOG(2))))","v":0},null,{"$f":"N12","v":212},{"$f":"COUNTIF(L70:L101,AD12)","v":0},{"$f":"AE12/(AG4-AE10)","v":0},{"$f":"IF(AF12=0,0,(AF12*((LOG(AF12))/LOG(2))))","v":0},null,{"$f":"N12","v":212},{"$f":"COUNTIF(L102:L132,AI12)","v":0},{"$f":"AJ12/(AL4-AJ10)","v":0},{"$f":"IF(AK12=0,0,(AK12*((LOG(AK12))/LOG(2))))","v":0},null,{"$f":"N12","v":212},{"$f":"COUNTIF(L133:L164,AN12)","v":0},{"$f":"AO12/(AQ4-AO10)","v":0},{"$f":"IF(AP12=0,0,(AP12*((LOG(AP12))/LOG(2))))","v":0},null,{"$f":"N12","v":212},{"$f":"COUNTIF(L165:L195,AS12)","v":0},{"$f":"AT12/(AV4-AT10)","v":0},{"$f":"IF(AU12=0,0,(AU12*((LOG(AU12))/LOG(2))))","v":0}]
[11,832,11,838,12,846,null,null,null,null,0,111,null,221,{"$f":"COUNTIF($L$7:$L$500,N13)","v":1},{"$f":"O13/$Q$4","v":5.2910052910052907E-3},{"$f":"IF(P13=0,0,(P13*((LOG(P13))/LOG(2))))","v":-4.0011864678418371E-2},null,null,{"$f":"N13","v":221},{"$f":"COUNTIF(L7:L38,T13)","v":1},{"$f":"U13/(W4-U10)","v":3.125E-2},{"$f":"IF(V13=0,0,(V13*((LOG(V13))/LOG(2))))","v":-0.15625},null,{"$f":"N13","v":221},{"$f":"COUNTIF(L39:L69,Y13)","v":0},{"$f":"Z13/(AB4-Z10)","v":0},{"$f":"IF(AA13=0,0,(AA13*((LOG(AA13))/LOG(2))))","v":0},null,{"$f":"N13","v":221},{"$f":"COUNTIF(L70:L101,AD13)","v":0},{"$f":"AE13/(AG4-AE10)","v":0},{"$f":"IF(AF13=0,0,(AF13*((LOG(AF13))/LOG(2))))","v":0},null,{"$f":"N13","v":221},{"$f":"COUNTIF(L102:L132,AI13)","v":0},{"$f":"AJ13/(AL4-AJ10)","v":0},{"$f":"IF(AK13=0,0,(AK13*((LOG(AK13))/LOG(2))))","v":0},null,{"$f":"N13","v":221},{"$f":"COUNTIF(L133:L164,AN13)","v":0},{"$f":"AO13/(AQ4-AO10)","v":0},{"$f":"IF(AP13=0,0,(AP13*((LOG(AP13))/LOG(2))))","v":0},null,{"$f":"N13","v":221},{"$f":"COUNTIF(L165:L195,AS13)","v":0},{"$f":"AT13/(AV4-AT10)","v":0},{"$f":"IF(AU13=0,0,(AU13*((LOG(AU13))/LOG(2))))","v":0}]
[22,950,13,960,14,965,null,null,null,null,0,211,null,222,{"$f":"COUNTIF($L$7:$L$500,N14)","v":1},{"$f":"O14/$Q$4","v":5.2910052910052907E-3},{"$f":"IF(P14=0,0,(P14*((LOG(P14))/LOG(2))))","v":-4.0011864678418371E-2},null,null,{"$f":"N14","v":222},{"$f":"COUNTIF(L7:L38,T14)","v":1},{"$f":"U14/(W4-U10)","v":3.125E-2},{"$f":"IF(V14=0,0,(V14*((LOG(V14))/LOG(2))))","v":-0.15625},null,{"$f":"N14","v":222},{"$f":"COUNTIF(L39:L69,Y14)","v":0},{"$f":"Z14/(AB4-Z10)","v":0},{"$f":"IF(AA14=0,0,(AA14*((LOG(AA14))/LOG(2))))","v":0},null,{"$f":"N14","v":222},{"$f":"COUNTIF(L70:L101,AD14)","v":0},{"$f":"AE14/(AG4-AE10)","v":0},{"$f":"IF(AF14=0,0,(AF14*((LOG(AF14))/LOG(2))))","v":0},null,{"$f":"N14","v":222},{"$f":"COUNTIF(L102:L132,AI14)","v":0},{"$f":"AJ14/(AL4-AJ10)","v":0},{"$f":"IF(AK14=0,0,(AK14*((LOG(AK14))/LOG(2))))","v":0},null,{"$f":"N14","v":222},{"$f":"COUNTIF(L133:L164,AN14)","v":0},{"$f":"AO14/(AQ4-AO10)","v":0},{"$f":"IF(AP14=0,0,(AP14*((LOG(AP14))/LOG(2))))","v":0},null,{"$f":"N14","v":222},{"$f":"COUNTIF(L165:L195,AS14)","v":0},{"$f":"AT14/(AV4-AT10)","v":0},{"$f":"IF(AU14=0,0,(AU14*((LOG(AU14))/LOG(2))))","v":0}]
[11,1085,11,1091,12,1103,null,null,null,null,0,111,null,null,null,{"$f":"SUM(P7:P14)","v":1},{"$f":"-SUM(Q7:Q14)","v":1.0841169621718012},null,null,null,null,{"$f":"SUM(V7:V14)","v":1},{"$f":"-SUM(W7:W14)","v":1.334282221599798},null,null,null,{"$f":"SUM(AA7:AA14)","v":1},{"$f":"-SUM(AB7:AB14)","v":0.98115223419991326},null,null,null,{"$f":"SUM(AF7:AF14)","v":1},{"$f":"-SUM(AG7:AG14)","v":0.95443400292496505},null,null,null,{"$f":"SUM(AK7:AK14)","v":1},{"$f":"-SUM(AL7:AL14)","v":0.96290041477132693},null,null,null,{"$f":"SUM(AP7:AP14)","v":1},{"$f":"-SUM(AQ7:AQ14)","v":0.95443400292496505},null,null,null,{"$f":"SUM(AU7:AU14)","v":1},{"$f":"-SUM(AV7:AV14)","v":0.98115223419991326}]
[22,1223,13,1237,14,1242,null,null,null,null,0,211,null,null,null,"U=",{"$f":"Q15/(LOG(Q4)/LOG(2))","v":0.14335919180526238},null,null,null,null,"U1=",{"$f":"W15/(LOG(W4)/LOG(2))","v":0.26685644431995958},null,null,null,"U2=",{"$f":"AB15/(LOG(AB4)/LOG(2))","v":0.198044682271239},null,null,null,"U3=",{"$f":"AG15/(LOG(AG4)/LOG(2))","v":0.19088680058499302},null,null,null,"U4=",{"$f":"AL15/(LOG(AL4)/LOG(2))","v":0.19436056919111744},null,null,null,"U5=",{"$f":"AQ15/(LOG(AQ4)/LOG(2))","v":0.19088680058499302},null,null,null,"U6=",{"$f":"AV15/(LOG(AV4)/LOG(2))","v":0.198044682271239}]
[11,1360,11,1365,12,1379,null,null,null,null,0,111]
[22,1493,24,1501,23,1507,null,null,null,null,0,222]
[22,1605,13,1617,14,1623,null,null,null,null,0,211,null,"Total Target Seq"]
[22,1730,13,1740,14,1745,null,null,null,null,0,211,null,{"$f":"COUNTIF(L7:L195,G3)","v":0},null,32,31,32,31,32,31]
[22,1849,13,1858,14,1864,null,null,null,null,0,211,null,null,null,"% of reinforcement given in 6 equal intervals based on number of trials "]
[22,1969,13,1982,14,1989,null,null,null,null,0,211,null,null,null,"%_1","%_2","%_3","%_4","%_5","%_6"]
[11,2101,11,2109,12,2119,null,null,null,null,0,111,null,null,"target sequence",{"$f":"$G$3","v":122},{"$f":"$G$3","v":122},{"$f":"$G$3","v":122},{"$f":"$G$3","v":122},{"$f":"$G$3","v":122},{"$f":"$G$3","v":122}]
[11,2244,11,2253,12,2266,null,null,null,null,0,111,null,null,"total reinforcement",{"$f":"U10","v":0},{"$f":"Z10","v":0},{"$f":"AE10","v":0},{"$f":"AJ10","v":0},{"$f":"AO10","v":0},{"$f":"AT10","v":0}]
[22,2388,13,2400,14,2409,null,null,null,null,0,211,null,null,"% target"]
[22,2511,13,2521,14,2526,null,null,null,null,0,211,null,null,"CCRF"]
[11,2646,11,2652,12,2661,null,null,null,null,0,111,null,null,"% CCRf"]
[22,2771,13,2784,14,2789,null,null,null,null,0,211,null,null,"average response rate",{"$f":"F38/P20","v":127.46875},{"$f":"(F69-F38)/Q20","v":125.6774193548387},{"$f":"(F101-F69)/R20","v":125.28125},{"$f":"(F132-F101)/S20","v":127.87096774193549},{"$f":"(F164-F132)/T20","v":125.53125},{"$f":"(F195-F164)/U20","v":128.45161290322579}]
[22,2894,24,2901,14,2913,null,null,null,null,0,221]
[11,3025,11,3033,12,3044,null,null,null,null,0,111]
[22,3160,13,3171,14,3179,null,null,null,null,0,211]
[11,3300,11,3309,12,3318,null,null,null,null,0,111]
[22,3426,13,3438,14,3443,null,null,null,null,0,211]
[22,3547,13,3558,14,3564,null,null,null,null,0,211]
[11,3686,11,3695,12,3704,null,null,null,null,0,111]
[11,3818,11,3827,12,3836,null,null,null,null,0,111]
[22,3933,13,3946,14,3951,null,null,null,null,0,211]
[11,4065,11,4070,12,4079,null,null,null,null,0,111]
[11,4198,11,4202,12,4212,null,null,null,null,0,111]
[11,4325,11,4333,12,4341,null,null,null,null,0,111]
[11,4449,11,4454,12,4463,null,null,null,null,0,111]
[11,4572,11,4577,12,4585,null,null,null,null,0,111]
[22,4688,13,4697,14,4702,null,null,null,null,0,211]
[11,4815,11,4820,12,4828,null,null,null,null,0,111]
[11,4943,11,4948,12,4959,null,null,null,null,0,111]
[22,5061,13,5070,14,5075,null,null,null,null,0,211]
[22,5184,13,5196,14,5202,null,null,null,null,0,211]
[11,5308,11,5315,12,5323,null,null,null,null,0,111]
[22,5432,13,5444,14,5450,null,null,null,null,0,211]
[11,5559,11,5565,12,5577,null,null,null,null,0,111]
[22,5679,13,5691,14,5696,null,null,null,null,0,211]
[22,5795,13,5803,14,5809,null,null,null,null,0,211]
[11,5925,11,5930,12,5941,null,null,null,null,0,111]
[11,6054,11,6060,12,6071,null,null,null,null,0,111]
[11,6183,11,6188,12,6196,null,null,null,null,0,111]
[22,6291,13,6302,14,6307,null,null,null,null,0,211]
[11,6424,11,6432,12,6443,null,null,null,null,0,111]
[11,6561,11,6566,12,6577,null,null,null,null,0,111]
[22,6687,13,6699,14,6706,null,null,null,null,0,211]
[22,6808,13,6818,14,6826,null,null,null,null,0,211]
[22,6927,13,6940,14,6945,null,null,null,null,0,211]
[11,7050,11,7056,12,7065,null,null,null,null,0,111]
[11,7178,11,7183,12,7191,null,null,null,null,0,111]
[22,7295,13,7307,14,7314,null,null,null,null,0,211]
[11,7430,11,7440,12,7453,null,null,null,null,0,111]
[11,7574,11,7580,12,7592,null,null,null,null,0,111]
[22,7695,13,7704,14,7709,null,null,null,null,0,211]
[11,7831,11,7839,12,7850,null,null,null,null,0,111]
[22,7957,13,7969,14,7975,null,null,null,null,0,211]
[11,8080,11,8086,12,8097,null,null,null,null,0,111]
[11,8207,11,8212,12,8220,null,null,null,null,0,111]
[22,8322,13,8332,14,8339,null,null,null,null,0,211]
[22,8431,13,8454,14,8459,null,null,null,null,0,211]
[22,8560,13,8568,14,8575,null,null,null,null,0,211]
[11,8687,11,8695,12,8703,null,null,null,null,0,111]
[11,8819,11,8826,12,8834,null,null,null,null,0,111]
[11,8953,11,8958,12,8971,null,null,null,null,0,111]
[22,9072,13,9084,14,9093,null,null,null,null,0,211]
[22,9194,13,9204,14,9210,null,null,null,null,0,211]
[11,9324,11,9329,12,9338,null,null,null,null,0,111]
[11,9453,11,9459,12,9466,null,null,null,null,0,111]
[11,9579,11,9584,12,9595,null,null,null,null,0,111]
[11,9712,11,9719,12,9728,null,null,null,null,0,111]
[22,9830,13,9839,14,9844,null,null,null,null,0,211]
[22,9957,13,9968,14,9973,null,null,null,null,0,211]
[11,10103,11,10110,12,10122,null,null,null,null,0,111]
[11,10230,11,10238,12,10246,null,null,null,null,0,111]
[22,10340,13,10355,14,10363,null,null,null,null,0,211]
[11,10480,11,10485,12,10496,null,null,null,null,0,111]
[22,10598,13,10607,14,10613,null,null,null,null,0,211]
[11,10727,11,10733,12,10741,null,null,null,null,0,111]
[22,10849,13,10858,14,10865,null,null,null,null,0,211]
[11,10978,11,10983,12,10992,null,null,null,null,0,111]
[11,11100,11,11105,12,11118,null,null,null,null,0,111]
[11,11231,11,11236,12,11246,null,null,null,null,0,111]
[22,11347,13,11359,14,11364,null,null,null,null,0,211]
[11,11473,11,11478,12,11487,null,null,null,null,0,111]
[11,11599,11,11606,12,11614,null,null,null,null,0,111]
[22,11715,13,11723,14,11729,null,null,null,null,0,211]
[11,11838,11,11846,12,11858,null,null,null,null,0,111]
[11,11971,11,11976,12,11984,null,null,null,null,0,111]
[11,12099,11,12103,12,12110,null,null,null,null,0,111]
[22,12211,13,12219,14,12224,null,null,null,null,0,211]
[22,12331,13,12340,14,12345,null,null,null,null,0,211]
[11,12464,11,12469,12,12482,null,null,null,null,0,111]
[22,12605,13,12616,14,12628,null,null,null,null,0,211]
[11,12743,11,12748,12,12756,null,null,null,null,0,111]
[22,12866,13,12876,14,12882,null,null,null,null,0,211]
[22,12984,13,12993,14,12998,null,null,null,null,0,211]
[11,13109,11,13114,12,13123,null,null,null,null,0,111]
[22,13232,13,13242,14,13247,null,null,null,null,0,211]
[11,13372,11,13380,12,13391,null,null,null,null,0,111]
[11,13508,11,13513,12,13521,null,null,null,null,0,111]
[11,13631,11,13636,12,13648,null,null,null,null,0,111]
[11,13757,11,13762,12,13770,null,null,null,null,0,111]
[11,13882,11,13888,12,13899,null,null,null,null,0,111]
[11,14019,11,14024,12,14035,null,null,null,null,0,111]
[11,14153,11,14158,12,14167,null,null,null,null,0,111]
[11,14282,11,14286,12,14297,null,null,null,null,0,111]
[11,14405,11,14413,12,14422,null,null,null,null,0,111]
[11,14536,11,14540,12,14549,null,null,null,null,0,111]
[22,14678,13,14689,14,14697,null,null,null,null,0,211]
[22,14796,13,14806,14,14813,null,null,null,null,0,211]
[22,14927,13,14939,14,14946,null,null,null,null,0,211]
[11,15058,11,15064,12,15071,null,null,null,null,0,111]
[11,15186,11,15190,12,15199,null,null,null,null,0,111]
[22,15301,13,15310,14,15316,null,null,null,null,0,211]
[22,15426,13,15437,14,15443,null,null,null,null,0,211]
[11,15562,11,15567,12,15579,null,null,null,null,0,111]
[11,15691,11,15696,12,15704,null,null,null,null,0,111]
[22,15807,13,15817,14,15822,null,null,null,null,0,211]
[11,15931,11,15936,12,15948,null,null,null,null,0,111]
[11,16070,11,16075,12,16086,null,null,null,null,0,111]
[22,16188,13,16209,14,16217,null,null,null,null,0,211]
[22,16322,13,16337,14,16344,null,null,null,null,0,211]
[22,16447,13,16457,14,16462,null,null,null,null,0,211]
[22,16563,13,16571,14,16577,null,null,null,null,0,211]
[11,16691,11,16698,12,16706,null,null,null,null,0,111]
[22,16816,13,16824,14,16829,null,null,null,null,0,211]
[22,16934,13,16942,14,16949,null,null,null,null,0,211]
[11,17073,11,17082,12,17093,null,null,null,null,0,111]
[22,17202,13,17213,14,17219,null,null,null,null,0,211]
[22,17322,13,17331,14,17336,null,null,null,null,0,211]
[22,17443,13,17452,14,17457,null,null,null,null,0,211]
[22,17560,13,17569,14,17575,null,null,null,null,0,211]
[22,17680,13,17688,14,17696,null,null,null,null,0,211]
[22,17810,13,17822,14,17830,null,null,null,null,0,211]
[22,17931,13,17940,14,17945,null,null,null,null,0,211]
[22,18048,13,18056,14,18061,null,null,null,null,0,211]
[11,18171,11,18175,12,18184,null,null,null,null,0,111]
[11,18298,11,18306,12,18318,null,null,null,null,0,111]
[22,18413,13,18425,14,18429,null,null,null,null,0,211]
[11,18545,11,18551,12,18559,null,null,null,null,0,111]
[22,18666,13,18675,14,18680,null,null,null,null,0,211]
[22,18779,13,18787,14,18791,null,null,null,null,0,211]
[11,18908,11,18913,12,18920,null,null,null,null,0,111]
[11,19028,11,19033,12,19041,null,null,null,null,0,111]
[22,19146,13,19178,14,19193,null,null,null,null,0,211]
[11,19305,11,19310,12,19320,null,null,null,null,0,111]
[11,19436,11,19445,12,19454,null,null,null,null,0,111]
[22,19559,13,19569,14,19574,null,null,null,null,0,211]
[11,19708,11,19713,12,19721,null,null,null,null,0,111]
[22,19832,13,19841,14,19848,null,null,null,null,0,211]
[11,19953,11,19957,12,19965,null,null,null,null,0,111]
[22,20066,13,20076,14,20082,null,null,null,null,0,211]
[22,20194,13,20205,14,20210,null,null,null,null,0,211]
[11,20327,11,20334,12,20343,null,null,null,null,0,111]
[22,20445,13,20458,14,20463,null,null,null,null,0,211]
[11,20573,11,20578,12,20586,null,null,null,null,0,111]
[22,20686,13,20695,14,20700,null,null,null,null,0,211]
[22,20809,13,20820,14,20826,null,null,null,null,0,211]
[11,20943,11,20951,12,20962,null,null,null,null,0,111]
[11,21080,11,21088,12,21099,null,null,null,null,0,111]
[11,21213,11,21218,12,21226,null,null,null,null,0,111]
[22,21353,13,21364,14,21373,null,null,null,null,0,211]
[11,21485,11,21494,12,21504,null,null,null,null,0,111]
[22,21618,13,21629,14,21639,null,null,null,null,0,211]
[11,21751,11,21756,12,21764,null,null,null,null,0,111]
[22,21870,13,21878,14,21883,null,null,null,null,0,211]
[22,21982,13,21993,14,22001,null,null,null,null,0,211]
[22,22102,13,22110,14,22114,null,null,null,null,0,211]
[22,22216,13,22231,14,22239,null,null,null,null,0,211]
[22,22361,13,22372,14,22380,null,null,null,null,0,211]
[22,22481,13,22493,14,22502,null,null,null,null,0,211]
[11,22611,11,22618,12,22628,null,null,null,null,0,111]
[22,22735,13,22746,14,22752,null,null,null,null,0,211]
[11,22867,11,22872,12,22881,null,null,null,null,0,111]
[11,23011,11,23017,12,23028,null,null,null,null,0,111]
[22,23147,13,23155,14,23162,null,null,null,null,0,211]
[11,23269,11,23274,12,23286,null,null,null,null,0,111]
[11,23417,11,23425,12,23433,null,null,null,null,0,111]
[11,23548,11,23553,12,23563,null,null,null,null,0,111]
[22,23668,13,23700,14,23709,null,null,null,null,0,211]
[22,23811,13,23822,14,23829,null,null,null,null,0,211]
[22,23934,13,23943,14,23947,null,null,null,null,null,211]

{"sheet":"!MA17E00.095","index":7,"n_rows":198,"n_cols":48,"rows_kept":198,"cut":false,"hidden":false,"merged":[[4,39,4,42],[5,39,5,40],[4,44,4,47],[5,44,5,45],[4,24,4,27],[5,24,5,25],[4,29,4,32],[5,29,5,30],[4,34,4,37],[5,34,5,35],[1,1,1,2],[5,13,5,14],[18,13,18,14],[19,13,19,14],[4,19,4,22],[5,19,5,20]]}
["Report for:!MA17E00.095"]
["Date:","<date>"]
["Hen:","<hen>",null,null,null,"Correct Sequence",{"$f":"Start!J2","v":122},null,null,null,null,null,null,null,null,"Total Sequences in Data",{"$f":"4994-COUNTBLANK(L7:L5000)","v":192},null,null,null,null,"Total Sequences in Block Data",{"$f":"COUNTA(L7:L38)","v":32},null,null,null,"Total Sequences in Block Data",{"$f":"COUNTA(L39:L70)","v":32},null,null,null,"Total Sequences in Block Data",{"$f":"COUNTA(L71:L102)","v":32},null,null,null,"Total Sequences in Block Data",{"$f":"COUNTA(L103:L134)","v":32},null,null,null,"Total Sequences in Block Data",{"$f":"COUNTA(L135:L166)","v":32},null,null,null,"Total Sequences in Block Data",{"$f":"COUNTA(L167:L198)","v":32}]
[null,null,null,null,null,null,null,null,null,null,null,null,null,null,null,"Total Sequences in Summary",{"$f":"SUM(O7:O14)","v":192},null,null,null,null,"Total Sequences in Block Summary",{"$f":"SUM(U7:U14)","v":32},null,null,null,"Total Sequences in Block Summary",{"$f":"SUM(Z7:Z14)","v":32},null,null,null,"Total Sequences in Block Summary",{"$f":"SUM(AE7:AE14)","v":32},null,null,null,"Total Sequences in Block Summary",{"$f":"SUM(AJ7:AJ14)","v":32},null,null,null,"Total Sequences in Block Summary",{"$f":"SUM(AO7:AO14)","v":32},null,null,null,"Total Sequences in Block Summary",{"$f":"SUM(AT7:AT14)","v":32}]
[null,null,null,null,null,null,null,null,null,null,null,null,null,null,null,null,null,null,null,"Block 1",null,null,null,null,"Block 2",null,null,null,null,"Block 3",null,null,null,null,"Block 4",null,null,null,null,"Block 5",null,null,null,null,"Block 6"]
["Sequence\nComponent\n1","Time\n1","Sequence\nComponent\n2","Time\n2","Sequence\nComponent\n3","Time\n3","Sequence\nComponent\n4","Time\n4","Sequence\nComponent\n5","Time\n5","Correct?\n0=No 1=Yes","Sequence",null,"Frequency",null,"Relative Frequency","Variability",null,null,"Frequency",null,"Relative Frequency","Variability",null,"Frequency",null,"Relative Frequency","Variability",null,"Frequency",null,"Relative Frequency","Variability",null,"Frequency",null,"Relative Frequency","Variability",null,"Frequency",null,"Relative Frequency","Variability",null,"Frequency",null,"Relative Frequency","Variability"]
[22,10,13,18,14,26,null,null,null,null,0,211,null,111,{"$f":"COUNTIF($L$7:$L$500,N7)","v":101},{"$f":"O7/$Q$4","v":0.52604166666666663},{"$f":"IF(P7=0,0,(P7*((LOG(P7))/LOG(2))))","v":-0.48750965007763281},null,null,{"$f":"N7","v":111},{"$f":"COUNTIF(L7:L38,T7)","v":14},{"$f":"U7/(W4-U10)","v":0.4375},{"$f":"IF(V7=0,0,(V7*((LOG(V7))/LOG(2))))","v":-0.52178222159979815},null,{"$f":"N7","v":111},{"$f":"COUNTIF(L39:L70,Y7)","v":15},{"$f":"Z7/(AB4-Z10)","v":0.46875},{"$f":"IF(AA7=0,0,(AA7*((LOG(AA7))/LOG(2))))","v":-0.512395033308507},null,{"$f":"N7","v":111},{"$f":"COUNTIF(L71:L102,AD7)","v":19},{"$f":"AE7/(AG4-AE10)","v":0.59375},{"$f":"IF(AF7=0,0,(AF7*((LOG(AF7))/LOG(2))))","v":-0.44654303889287106},null,{"$f":"N7","v":111},{"$f":"COUNTIF(L103:L134,AI7)","v":16},{"$f":"AJ7/(AL4-AJ10)","v":0.5},{"$f":"IF(AK7=0,0,(AK7*((LOG(AK7))/LOG(2))))","v":-0.5},null,{"$f":"N7","v":111},{"$f":"COUNTIF(L135:L166,AN7)","v":16},{"$f":"AO7/(AQ4-AO10)","v":0.5},{"$f":"IF(AP7=0,0,(AP7*((LOG(AP7))/LOG(2))))","v":-0.5},null,{"$f":"N7","v":111},{"$f":"COUNTIF(L167:L198,AS7)","v":21},{"$f":"AT7/(AV4-AT10)","v":0.65625},{"$f":"IF(AU7=0,0,(AU7*((LOG(AU7))/LOG(2))))","v":-0.3987916913014386}]
[11,138,11,147,12,161,null,null,null,null,0,111,null,112,{"$f":"COUNTIF($L$7:$L$500,N8)","v":0},{"$f":"O8/$Q$4","v":0},{"$f":"IF(P8=0,0,(P8*((LOG(P8))/LOG(2))))","v":0},null,null,{"$f":"N8","v":112},{"$f":"COUNTIF(L7:L38,T8)","v":0},{"$f":"U8/(W4-U10)","v":0},{"$f":"IF(V8=0,0,(V8*((LOG(V8))/LOG(2))))","v":0},null,{"$f":"N8","v":112},{"$f":"COUNTIF(L39:L70,Y8)","v":0},{"$f":"Z8/(AB4-Z10)","v":0},{"$f":"IF(AA8=0,0,(AA8*((LOG(AA8))/LOG(2))))","v":0},null,{"$f":"N8","v":112},{"$f":"COUNTIF(L71:L102,AD8)","v":0},{"$f":"AE8/(AG4-AE10)","v":0},{"$f":"IF(AF8=0,0,(AF8*((LOG(AF8))/LOG(2))))","v":0},null,{"$f":"N8","v":112},{"$f":"COUNTIF(L103:L134,AI8)","v":0},{"$f":"AJ8/(AL4-AJ10)","v":0},{"$f":"IF(AK8=0,0,(AK8*((LOG(AK8))/LOG(2))))","v":0},null,{"$f":"N8","v":112},{"$f":"COUNTIF(L135:L166,AN8)","v":0},{"$f":"AO8/(AQ4-AO10)","v":0},{"$f":"IF(AP8=0,0,(AP8*((LOG(AP8))/LOG(2))))","v":0},null,{"$f":"N8","v":112},{"$f":"COUNTIF(L167:L198,AS8)","v":0},{"$f":"AT8/(AV4-AT10)","v":0},{"$f":"IF(AU8=0,0,(AU8*((LOG(AU8))/LOG(2))))","v":0}]
[11,274,11,281,12,290,null,null,null,null,0,111,null,121,{"$f":"COUNTIF($L$7:$L$500,N9)","v":0},{"$f":"O9/$Q$4","v":0},{"$f":"IF(P9=0,0,(P9*((LOG(P9))/LOG(2))))","v":0},null,null,{"$f":"N9","v":121},{"$f":"COUNTIF(L7:L38,T9)","v":0},{"$f":"U9/(W4-U10)","v":0},{"$f":"IF(V9=0,0,(V9*((LOG(V9))/LOG(2))))","v":0},null,{"$f":"N9","v":121},{"$f":"COUNTIF(L39:L70,Y9)","v":0},{"$f":"Z9/(AB4-Z10)","v":0},{"$f":"IF(AA9=0,0,(AA9*((LOG(AA9))/LOG(2))))","v":0},null,{"$f":"N9","v":121},{"$f":"COUNTIF(L71:L102,AD9)","v":0},{"$f":"AE9/(AG4-AE10)","v":0},{"$f":"IF(AF9=0,0,(AF9*((LOG(AF9))/LOG(2))))","v":0},null,{"$f":"N9","v":121},{"$f":"COUNTIF(L103:L134,AI9)","v":0},{"$f":"AJ9/(AL4-AJ10)","v":0},{"$f":"IF(AK9=0,0,(AK9*((LOG(AK9))/LOG(2))))","v":0},null,{"$f":"N9","v":121},{"$f":"COUNTIF(L135:L166,AN9)","v":0},{"$f":"AO9/(AQ4-AO10)","v":0},{"$f":"IF(AP9=0,0,(AP9*((LOG(AP9))/LOG(2))))","v":0},null,{"$f":"N9","v":121},{"$f":"COUNTIF(L167:L198,AS9)","v":0},{"$f":"AT9/(AV4-AT10)","v":0},{"$f":"IF(AU9=0,0,(AU9*((LOG(AU9))/LOG(2))))","v":0}]
[22,398,13,407,14,414,null,null,null,null,0,211,null,122,{"$f":"COUNTIF($L$7:$L$500,N10)","v":0},{"$f":"O10/$Q$4","v":0},{"$f":"IF(P10=0,0,(P10*((LOG(P10))/LOG(2))))","v":0},null,null,{"$f":"N10","v":122},{"$f":"COUNTIF(L7:L38,T10)","v":0},null,null,null,{"$f":"N10","v":122},{"$f":"COUNTIF(L39:L70,Y10)","v":0},null,null,null,{"$f":"N10","v":122},{"$f":"COUNTIF(L71:L102,AD10)","v":0},null,null,null,{"$f":"N10","v":122},{"$f":"COUNTIF(L103:L134,AI10)","v":0},null,null,null,{"$f":"N10","v":122},{"$f":"COUNTIF(L135:L166,AN10)","v":0},null,null,null,{"$f":"N10","v":122},{"$f":"COUNTIF(L167:L198,AS10)","v":0}]
[22,529,13,539,14,544,null,null,null,null,0,211,null,211,{"$f":"COUNTIF($L$7:$L$500,N11)","v":90},{"$f":"O11/$Q$4","v":0.46875},{"$f":"IF(P11=0,0,(P11*((LOG(P11))/LOG(2))))","v":-0.512395033308507},null,null,{"$f":"N11","v":211},{"$f":"COUNTIF(L7:L38,T11)","v":18},{"$f":"U11/(W4-U10)","v":0.5625},{"$f":"IF(V11=0,0,(V11*((LOG(V11))/LOG(2))))","v":-0.4669171866886993},null,{"$f":"N11","v":211},{"$f":"COUNTIF(L39:L70,Y11)","v":17},{"$f":"Z11/(AB4-Z10)","v":0.53125},{"$f":"IF(AA11=0,0,(AA11*((LOG(AA11))/LOG(2))))","v":-0.48478536558575719},null,{"$f":"N11","v":211},{"$f":"COUNTIF(L71:L102,AD11)","v":13},{"$f":"AE11/(AG4-AE10)","v":0.40625},{"$f":"IF(AF11=0,0,(AF11*((LOG(AF11))/LOG(2))))","v":-0.52794636450518129},null,{"$f":"N11","v":211},{"$f":"COUNTIF(L103:L134,AI11)","v":16},{"$f":"AJ11/(AL4-AJ10)","v":0.5},{"$f":"IF(AK11=0,0,(AK11*((LOG(AK11))/LOG(2))))","v":-0.5},null,{"$f":"N11","v":211},{"$f":"COUNTIF(L135:L166,AN11)","v":15},{"$f":"AO11/(AQ4-AO10)","v":0.46875},{"$f":"IF(AP11=0,0,(AP11*((LOG(AP11))/LOG(2))))","v":-0.512395033308507},null,{"$f":"N11","v":211},{"$f":"COUNTIF(L167:L198,AS11)","v":11},{"$f":"AT11/(AV4-AT10)","v":0.34375},{"$f":"IF(AU11=0,0,(AU11*((LOG(AU11))/LOG(2))))","v":-0.52957038109342913}]
[22,653,13,662,14,669,null,null,null,null,0,211,null,212,{"$f":"COUNTIF($L$7:$L$500,N12)","v":0},{"$f":"O12/$Q$4","v":0},{"$f":"IF(P12=0,0,(P12*((LOG(P12))/LOG(2))))","v":0},null,null,{"$f":"N12","v":212},{"$f":"COUNTIF(L7:L38,T12)","v":0},{"$f":"U12/(W4-U10)","v":0},{"$f":"IF(V12=0,0,(V12*((LOG(V12))/LOG(2))))","v":0},null,{"$f":"N12","v":212},{"$f":"COUNTIF(L39:L70,Y12)","v":0},{"$f":"Z12/(AB4-Z10)","v":0},{"$f":"IF(AA12=0,0,(AA12*((LOG(AA12))/LOG(2))))","v":0},null,{"$f":"N12","v":212},{"$f":"COUNTIF(L71:L102,AD12)","v":0},{"$f":"AE12/(AG4-AE10)","v":0},{"$f":"IF(AF12=0,0,(AF12*((LOG(AF12))/LOG(2))))","v":0},null,{"$f":"N12","v":212},{"$f":"COUNTIF(L103:L134,AI12)","v":0},{"$f":"AJ12/(AL4-AJ10)","v":0},{"$f":"IF(AK12=0,0,(AK12*((LOG(AK12))/LOG(2))))","v":0},null,{"$f":"N12","v":212},{"$f":"COUNTIF(L135:L166,AN12)","v":0},{"$f":"AO12/(AQ4-AO10)","v":0},{"$f":"IF(AP12=0,0,(AP12*((LOG(AP12))/LOG(2))))","v":0},null,{"$f":"N12","v":212},{"$f":"COUNTIF(L167:L198,AS12)","v":0},{"$f":"AT12/(AV4-AT10)","v":0},{"$f":"IF(AU12=0,0,(AU12*((LOG(AU12))/LOG(2))))","v":0}]
[22,774,13,785,14,792,null,null,null,null,0,211,null,221,{"$f":"COUNTIF($L$7:$L$500,N13)","v":1},{"$f":"O13/$Q$4","v":5.208333333333333E-3},{"$f":"IF(P13=0,0,(P13*((LOG(P13))/LOG(2))))","v":-3.950501302458935E-2},null,null,{"$f":"N13","v":221},{"$f":"COUNTIF(L7:L38,T13)","v":0},{"$f":"U13/(W4-U10)","v":0},{"$f":"IF(V13=0,0,(V13*((LOG(V13))/LOG(2))))","v":0},null,{"$f":"N13","v":221},{"$f":"COUNTIF(L39:L70,Y13)","v":0},{"$f":"Z13/(AB4-Z10)","v":0},{"$f":"IF(AA13=0,0,(AA13*((LOG(AA13))/LOG(2))))","v":0},null,{"$f":"N13","v":221},{"$f":"COUNTIF(L71:L102,AD13)","v":0},{"$f":"AE13/(AG4-AE10)","v":0},{"$f":"IF(AF13=0,0,(AF13*((LOG(AF13))/LOG(2))))","v":0},null,{"$f":"N13","v":221},{"$f":"COUNTIF(L103:L134,AI13)","v":0},{"$f":"AJ13/(AL4-AJ10)","v":0},{"$f":"IF(AK13=0,0,(AK13*((LOG(AK13))/LOG(2))))","v":0},null,{"$f":"N13","v":221},{"$f":"COUNTIF(L135:L166,AN13)","v":1},{"$f":"AO13/(AQ4-AO10)","v":3.125E-2},{"$f":"IF(AP13=0,0,(AP13*((LOG(AP13))/LOG(2))))","v":-0.15625},null,{"$f":"N13","v":221},{"$f":"COUNTIF(L167:L198,AS13)","v":0},{"$f":"AT13/(AV4-AT10)","v":0},{"$f":"IF(AU13=0,0,(AU13*((LOG(AU13))/LOG(2))))","v":0}]
[22,892,13,904,14,912,null,null,null,null,0,211,null,222,{"$f":"COUNTIF($L$7:$L$500,N14)","v":0},{"$f":"O14/$Q$4","v":0},{"$f":"IF(P14=0,0,(P14*((LOG(P14))/LOG(2))))","v":0},null,null,{"$f":"N14","v":222},{"$f":"COUNTIF(L7:L38,T14)","v":0},{"$f":"U14/(W4-U10)","v":0},{"$f":"IF(V14=0,0,(V14*((LOG(V14))/LOG(2))))","v":0},null,{"$f":"N14","v":222},{"$f":"COUNTIF(L39:L70,Y14)","v":0},{"$f":"Z14/(AB4-Z10)","v":0},{"$f":"IF(AA14=0,0,(AA14*((LOG(AA14))/LOG(2))))","v":0},null,{"$f":"N14","v":222},{"$f":"COUNTIF(L71:L102,AD14)","v":0},{"$f":"AE14/(AG4-AE10)","v":0},{"$f":"IF(AF14=0,0,(AF14*((LOG(AF14))/LOG(2))))","v":0},null,{"$f":"N14","v":222},{"$f":"COUNTIF(L103:L134,AI14)","v":0},{"$f":"AJ14/(AL4-AJ10)","v":0},{"$f":"IF(AK14=0,0,(AK14*((LOG(AK14))/LOG(2))))","v":0},null,{"$f":"N14","v":222},{"$f":"COUNTIF(L135:L166,AN14)","v":0},{"$f":"AO14/(AQ4-AO10)","v":0},{"$f":"IF(AP14=0,0,(AP14*((LOG(AP14))/LOG(2))))","v":0},null,{"$f":"N14","v":222},{"$f":"COUNTIF(L167:L198,AS14)","v":0},{"$f":"AT14/(AV4-AT10)","v":0},{"$f":"IF(AU14=0,0,(AU14*((LOG(AU14))/LOG(2))))","v":0}]
[11,1025,11,1031,12,1043,null,null,null,null,0,111,null,null,null,{"$f":"SUM(P7:P14)","v":1},{"$f":"-SUM(Q7:Q14)","v":1.0394096964107291},null,null,null,null,{"$f":"SUM(V7:V14)","v":1},{"$f":"-SUM(W7:W14)","v":0.98869940828849745},null,null,null,{"$f":"SUM(AA7:AA14)","v":1},{"$f":"-SUM(AB7:AB14)","v":0.99718039889426424},null,null,null,{"$f":"SUM(AF7:AF14)","v":1},{"$f":"-SUM(AG7:AG14)","v":0.97448940339805235},null,null,null,{"$f":"SUM(AK7:AK14)","v":1},{"$f":"-SUM(AL7:AL14)","v":1},null,null,null,{"$f":"SUM(AP7:AP14)","v":1},{"$f":"-SUM(AQ7:AQ14)","v":1.168645033308507},null,null,null,{"$f":"SUM(AU7:AU14)","v":1},{"$f":"-SUM(AV7:AV14)","v":0.92836207239486779}]
[22,1149,13,1159,14,1164,null,null,null,null,0,211,null,null,null,"U=",{"$f":"Q15/(LOG(Q4)/LOG(2))","v":0.13703557483796461},null,null,null,null,"U1=",{"$f":"W15/(LOG(W4)/LOG(2))","v":0.19773988165769948},null,null,null,"U2=",{"$f":"AB15/(LOG(AB4)/LOG(2))","v":0.19943607977885286},null,null,null,"U3=",{"$f":"AG15/(LOG(AG4)/LOG(2))","v":0.19489788067961047},null,null,null,"U4=",{"$f":"AL15/(LOG(AL4)/LOG(2))","v":0.2},null,null,null,"U5=",{"$f":"AQ15/(LOG(AQ4)/LOG(2))","v":0.23372900666170141},null,null,null,"U6=",{"$f":"AV15/(LOG(AV4)/LOG(2))","v":0.18567241447897356}]
[22,1268,13,1279,14,1286,null,null,null,null,0,211]
[22,1391,13,1402,14,1407,null,null,null,null,0,211]
[22,1519,13,1539,14,1546,null,null,null,null,0,211,null,"Total Target Seq"]
[11,1663,11,1669,12,1683,null,null,null,null,0,111,null,{"$f":"COUNTIF(L7:L198,G3)","v":0},null,32,32,32,32,32,32]
[11,1791,11,1796,12,1806,null,null,null,null,0,111,null,null,null,"% of reinforcement given in 6 equal intervals based on number of trials "]
[11,1921,11,1926,12,1940,null,null,null,null,0,111,null,null,null,"%_1","%_2","%_3","%_4","%_5","%_6"]
[22,2038,13,2049,14,2056,null,null,null,null,0,211,null,null,"target sequence",{"$f":"$G$3","v":122},{"$f":"$G$3","v":122},{"$f":"$G$3","v":122},{"$f":"$G$3","v":122},{"$f":"$G$3","v":122},{"$f":"$G$3","v":122}]
[22,2161,13,2173,14,2178,null,null,null,null,0,211,null,null,"total reinforcement",{"$f":"U10","v":0},{"$f":"Z10","v":0},{"$f":"AE10","v":0},{"$f":"AJ10","v":0},{"$f":"AO10","v":0},{"$f":"AT10","v":0}]
[22,2279,13,2288,14,2293,null,null,null,null,0,211,null,null,"% target"]
[11,2408,11,2413,12,2425,null,null,null,null,0,111,null,null,"CCRF"]
[11,2536,11,2541,12,2551,null,null,null,null,0,111,null,null,"% CCRf"]
[22,2652,13,2663,14,2669,null,null,null,null,0,211,null,null,"average response rate",{"$f":"F38/P20","v":121.90625},{"$f":"(F70-F38)/Q20","v":123.125},{"$f":"(F102-F70)/R20","v":126.1875},{"$f":"(F134-F102)/S20","v":123.71875},{"$f":"(F166-F134)/T20","v":126.59375},{"$f":"(F198-F166)/U20","v":127.25}]
[22,2777,13,2787,14,2792,null,null,null,null,0,211]
[11,2902,11,2907,12,2916,null,null,null,null,0,111]
[11,3026,11,3031,12,3042,null,null,null,null,0,111]
[11,3153,11,3160,12,3170,null,null,null,null,0,111]
[11,3280,11,3285,12,3295,null,null,null,null,0,111]
[22,3399,13,3410,14,3417,null,null,null,null,0,211]
[22,3519,13,3528,14,3532,null,null,null,null,0,211]
[11,3638,11,3643,12,3653,null,null,null,null,0,111]
[22,3756,13,3768,14,3777,null,null,null,null,0,211]
[11,3888,11,3893,12,3901,null,null,null,null,0,111]
[22,4001,13,4009,14,4014,null,null,null,null,0,211]
[22,4117,13,4125,14,4130,null,null,null,null,0,211]
[22,4240,13,4251,14,4259,null,null,null,null,0,211]
[11,4371,11,4377,12,4389,null,null,null,null,0,111]
[11,4499,11,4504,12,4513,null,null,null,null,0,111]
[22,4614,13,4624,14,4632,null,null,null,null,0,211]
[22,4736,13,4745,14,4749,null,null,null,null,0,211]
[11,4860,11,4866,12,4876,null,null,null,null,0,111]
[11,4993,11,4998,12,5008,null,null,null,null,0,111]
[11,5117,11,5123,12,5132,null,null,null,null,0,111]
[22,5238,13,5246,14,5251,null,null,null,null,0,211]
[11,5361,11,5365,12,5373,null,null,null,null,0,111]
[11,5478,11,5483,12,5494,null,null,null,null,0,111]
[11,5605,11,5610,12,5621,null,null,null,null,0,111]
[11,5737,11,5745,12,5757,null,null,null,null,0,111]
[22,5860,13,5871,14,5876,null,null,null,null,0,211]
[22,5976,13,5985,14,5990,null,null,null,null,0,211]
[22,6091,13,6100,14,6105,null,null,null,null,0,211]
[22,6214,13,6226,14,6233,null,null,null,null,0,211]
[22,6337,13,6346,14,6351,null,null,null,null,0,211]
[22,6459,13,6470,14,6475,null,null,null,null,0,211]
[11,6579,11,6584,12,6592,null,null,null,null,0,111]
[11,6708,11,6716,12,6726,null,null,null,null,0,111]
[22,6823,13,6835,14,6843,null,null,null,null,0,211]
[11,6952,11,6957,12,6964,null,null,null,null,0,111]
[11,7081,11,7085,12,7094,null,null,null,null,0,111]
[22,7197,13,7212,14,7219,null,null,null,null,0,211]
[11,7329,11,7335,12,7346,null,null,null,null,0,111]
[22,7451,13,7462,14,7467,null,null,null,null,0,211]
[22,7565,13,7573,14,7578,null,null,null,null,0,211]
[11,7689,11,7695,12,7706,null,null,null,null,0,111]
[22,7820,13,7832,14,7841,null,null,null,null,0,211]
[11,7958,11,7963,12,7972,null,null,null,null,0,111]
[22,8095,13,8106,14,8111,null,null,null,null,0,211]
[11,8221,11,8227,12,8238,null,null,null,null,0,111]
[22,8335,13,8344,14,8350,null,null,null,null,0,211]
[11,8461,11,8467,12,8476,null,null,null,null,0,111]
[22,8584,13,8594,14,8599,null,null,null,null,0,211]
[22,8704,13,8712,14,8717,null,null,null,null,0,211]
[11,8824,11,8829,12,8837,null,null,null,null,0,111]
[11,8948,11,8953,12,8962,null,null,null,null,0,111]
[11,9078,11,9083,12,9093,null,null,null,null,0,111]
[11,9212,11,9218,12,9229,null,null,null,null,0,111]
[22,9337,13,9356,14,9361,null,null,null,null,0,211]
[22,9460,13,9472,14,9477,null,null,null,null,0,211]
[11,9588,11,9597,12,9608,null,null,null,null,0,111]
[11,9732,11,9738,12,9749,null,null,null,null,0,111]
[22,9845,13,9853,14,9861,null,null,null,null,0,211]
[11,9974,11,9980,12,9988,null,null,null,null,0,111]
[22,10093,13,10103,14,10108,null,null,null,null,0,211]
[11,10220,11,10226,12,10233,null,null,null,null,0,111]
[11,10349,11,10357,12,10368,null,null,null,null,0,111]
[11,10480,11,10485,12,10496,null,null,null,null,0,111]
[11,10611,11,10617,12,10626,null,null,null,null,0,111]
[11,10738,11,10743,12,10751,null,null,null,null,0,111]
[11,10868,11,10873,12,10882,null,null,null,null,0,111]
[22,10977,13,10988,14,10994,null,null,null,null,0,211]
[22,11094,13,11117,14,11124,null,null,null,null,0,211]
[22,11227,13,11240,14,11247,null,null,null,null,0,211]
[22,11355,13,11363,14,11368,null,null,null,null,0,211]
[11,11477,11,11483,12,11491,null,null,null,null,0,111]
[11,11607,11,11614,12,11626,null,null,null,null,0,111]
[22,11735,13,11743,14,11749,null,null,null,null,0,211]
[11,11866,11,11871,12,11879,null,null,null,null,0,111]
[11,11999,11,12006,12,12017,null,null,null,null,0,111]
[22,12122,13,12130,14,12135,null,null,null,null,0,211]
[11,12242,11,12248,12,12255,null,null,null,null,0,111]
[11,12362,11,12370,12,12381,null,null,null,null,0,111]
[22,12482,13,12490,14,12497,null,null,null,null,0,211]
[22,12600,13,12613,14,12628,null,null,null,null,0,211]
[22,12733,13,12744,14,12748,null,null,null,null,0,211]
[11,12863,11,12868,12,12878,null,null,null,null,0,111]
[22,12980,13,12987,14,12993,null,null,null,null,0,211]
[11,13103,11,13109,12,13119,null,null,null,null,0,111]
[11,13225,11,13229,12,13237,null,null,null,null,0,111]
[22,13343,13,13351,14,13358,null,null,null,null,0,211]
[11,13467,11,13473,12,13483,null,null,null,null,0,111]
[11,13601,11,13605,12,13615,null,null,null,null,0,111]
[22,13716,13,13729,14,13737,null,null,null,null,0,211]
[22,13833,13,13841,14,13847,null,null,null,null,0,211]
[22,13947,13,13971,14,13979,null,null,null,null,0,211]
[11,14095,11,14099,12,14108,null,null,null,null,0,111]
[11,14228,11,14234,12,14247,null,null,null,null,0,111]
[11,14358,11,14363,12,14372,null,null,null,null,0,111]
[11,14506,11,14513,12,14520,null,null,null,null,0,111]
[11,14629,11,14634,12,14643,null,null,null,null,0,111]
[22,14744,13,14754,14,14759,null,null,null,null,0,211]
[11,14865,11,14870,12,14878,null,null,null,null,0,111]
[22,14975,13,14986,14,14993,null,null,null,null,0,211]
[11,15113,11,15118,12,15126,null,null,null,null,0,111]
[22,15228,13,15237,14,15242,null,null,null,null,0,211]
[22,15338,13,15349,14,15354,null,null,null,null,0,211]
[22,15461,13,15470,14,15475,null,null,null,null,0,211]
[22,15575,13,15584,14,15589,null,null,null,null,0,211]
[22,15691,13,15699,14,15704,null,null,null,null,0,211]
[11,15818,11,15828,12,15838,null,null,null,null,0,111]
[11,15943,11,15948,12,15956,null,null,null,null,0,111]
[11,16065,11,16070,12,16078,null,null,null,null,0,111]
[11,16187,11,16195,12,16206,null,null,null,null,0,111]
[22,16307,13,16318,14,16327,null,null,null,null,0,211]
[22,16422,13,16430,14,16435,null,null,null,null,0,211]
[11,16558,11,16567,12,16578,null,null,null,null,0,111]
[22,16695,13,16708,14,16713,null,null,null,null,0,211]
[11,16819,11,16825,12,16832,null,null,null,null,0,111]
[22,16934,13,16946,14,16951,null,null,null,null,0,211]
[11,17074,11,17083,12,17094,null,null,null,null,0,111]
[11,17212,11,17219,12,17230,null,null,null,null,0,111]
[11,17374,11,17382,12,17391,null,null,null,null,0,111]
[11,17505,11,17510,12,17518,null,null,null,null,0,111]
[11,17631,11,17639,12,17649,null,null,null,null,0,111]
[22,17750,13,17757,14,17762,null,null,null,null,0,211]
[22,17864,13,17874,14,17882,null,null,null,null,0,211]
[22,17986,13,17995,14,18002,null,null,null,null,0,211]
[11,18122,11,18129,12,18139,null,null,null,null,0,111]
[11,18247,11,18251,12,18258,null,null,null,null,0,111]
[22,18359,13,18381,14,18389,null,null,null,null,0,211]
[11,18497,11,18503,12,18510,null,null,null,null,0,111]
[11,18622,11,18630,12,18639,null,null,null,null,0,111]
[22,18738,13,18771,14,18779,null,null,null,null,0,211]
[22,18905,13,18915,14,18922,null,null,null,null,0,211]
[11,19031,11,19036,12,19045,null,null,null,null,0,111]
[11,19151,11,19156,12,19164,null,null,null,null,0,111]
[22,19264,24,19281,14,19291,null,null,null,null,0,221]
[22,19388,13,19399,14,19404,null,null,null,null,0,211]
[22,19515,13,19524,14,19529,null,null,null,null,0,211]
[22,19635,13,19645,14,19650,null,null,null,null,0,211]
[22,19762,13,19770,14,19778,null,null,null,null,0,211]
[22,19875,13,19884,14,19889,null,null,null,null,0,211]
[22,19991,13,20003,14,20010,null,null,null,null,0,211]
[22,20109,13,20117,14,20122,null,null,null,null,0,211]
[11,20255,11,20263,12,20274,null,null,null,null,0,111]
[11,20394,11,20399,12,20409,null,null,null,null,0,111]
[11,20514,11,20523,12,20532,null,null,null,null,0,111]
[22,20638,13,20646,14,20651,null,null,null,null,0,211]
[11,20760,11,20765,12,20772,null,null,null,null,0,111]
[11,20891,11,20900,12,20911,null,null,null,null,0,111]
[22,21014,13,21040,14,21047,null,null,null,null,0,211]
[11,21163,11,21168,12,21179,null,null,null,null,0,111]
[11,21295,11,21302,12,21314,null,null,null,null,0,111]
[11,21426,11,21436,12,21447,null,null,null,null,0,111]
[11,21557,11,21562,12,21571,null,null,null,null,0,111]
[22,21675,13,21686,14,21691,null,null,null,null,0,211]
[11,21802,11,21808,12,21820,null,null,null,null,0,111]
[22,21921,13,21940,14,21948,null,null,null,null,0,211]
[22,22051,13,22062,14,22073,null,null,null,null,0,211]
[11,22182,11,22187,12,22198,null,null,null,null,0,111]
[22,22299,13,22311,14,22316,null,null,null,null,0,211]
[11,22424,11,22430,12,22441,null,null,null,null,0,111]
[11,22547,11,22552,12,22562,null,null,null,null,0,111]
[11,22680,11,22685,12,22702,null,null,null,null,0,111]
[22,22797,13,22808,14,22812,null,null,null,null,0,211]
[11,22921,11,22926,12,22934,null,null,null,null,0,111]
[11,23041,11,23046,12,23056,null,null,null,null,0,111]
[11,23173,11,23178,12,23189,null,null,null,null,0,111]
[22,23305,13,23316,14,23322,null,null,null,null,0,211]
[11,23433,11,23442,12,23452,null,null,null,null,0,111]
[11,23567,11,23575,12,23587,null,null,null,null,0,111]
[11,23700,11,23705,12,23713,null,null,null,null,0,111]
[22,23815,13,23825,14,23832,null,null,null,null,0,211]
[11,23946,11,23951,12,23961,null,null,null,null,null,111]

{"sheet":"!MA18B40.095","index":8,"n_rows":190,"n_cols":48,"rows_kept":190,"cut":false,"hidden":false,"merged":[[4,39,4,42],[5,39,5,40],[4,44,4,47],[5,44,5,45],[4,24,4,27],[5,24,5,25],[4,29,4,32],[5,29,5,30],[4,34,4,37],[5,34,5,35],[1,1,1,2],[5,13,5,14],[18,13,18,14],[19,13,19,14],[4,19,4,22],[5,19,5,20]]}
["Report for:!MA18B40.095"]
["Date:","<date>"]
["Hen:","<hen>",null,null,null,"Correct Sequence",{"$f":"Start!J2","v":122},null,null,null,null,null,null,null,null,"Total Sequences in Data",{"$f":"4994-COUNTBLANK(L7:L5000)","v":184},null,null,null,null,"Total Sequences in Block Data",{"$f":"COUNTA(L7:L37)","v":31},null,null,null,"Total Sequences in Block Data",{"$f":"COUNTA(L38:L67)","v":30},null,null,null,"Total Sequences in Block Data",{"$f":"COUNTA(L68:L98)","v":31},null,null,null,"Total Sequences in Block Data",{"$f":"COUNTA(L99:L129)","v":31},null,null,null,"Total Sequences in Block Data",{"$f":"COUNTA(L130:L159)","v":30},null,null,null,"Total Sequences in Block Data",{"$f":"COUNTA(L160:L190)","v":31}]
[null,null,null,null,null,null,null,null,null,null,null,null,null,null,null,"Total Sequences in Summary",{"$f":"SUM(O7:O14)","v":184},null,null,null,null,"Total Sequences in Block Summary",{"$f":"SUM(U7:U14)","v":31},null,null,null,"Total Sequences in Block Summary",{"$f":"SUM(Z7:Z14)","v":30},null,null,null,"Total Sequences in Block Summary",{"$f":"SUM(AE7:AE14)","v":31},null,null,null,"Total Sequences in Block Summary",{"$f":"SUM(AJ7:AJ14)","v":31},null,null,null,"Total Sequences in Block Summary",{"$f":"SUM(AO7:AO14)","v":30},null,null,null,"Total Sequences in Block Summary",{"$f":"SUM(AT7:AT14)","v":31}]
[null,null,null,null,null,null,null,null,null,null,null,null,null,null,null,null,null,null,null,"Block 1",null,null,null,null,"Block 2",null,null,null,null,"Block 3",null,null,null,null,"Block 4",null,null,null,null,"Block 5",null,null,null,null,"Block 6"]
["Sequence\nComponent\n1","Time\n1","Sequence\nComponent\n2","Time\n2","Sequence\nComponent\n3","Time\n3","Sequence\nComponent\n4","Time\n4","Sequence\nComponent\n5","Time\n5","Correct?\n0=No 1=Yes","Sequence",null,"Frequency",null,"Relative Frequency","Variability",null,null,"Frequency",null,"Relative Frequency","Variability",null,"Frequency",null,"Relative Frequency","Variability",null,"Frequency",null,"Relative Frequency","Variability",null,"Frequency",null,"Relative Frequency","Variability",null,"Frequency",null,"Relative Frequency","Variability",null,"Frequency",null,"Relative Frequency","Variability"]
[11,52,11,65,12,78,null,null,null,null,0,111,null,111,{"$f":"COUNTIF($L$7:$L$500,N7)","v":90},{"$f":"O7/$Q$4","v":0.4891304347826087},{"$f":"IF(P7=0,0,(P7*((LOG(P7))/LOG(2))))","v":-0.50464020312750235},null,null,{"$f":"N7","v":111},{"$f":"COUNTIF(L7:L37,T7)","v":12},{"$f":"U7/(W4-U10)","v":0.38709677419354838},{"$f":"IF(V7=0,0,(V7*((LOG(V7))/LOG(2))))","v":-0.5300259908383429},null,{"$f":"N7","v":111},{"$f":"COUNTIF(L38:L67,Y7)","v":15},{"$f":"Z7/(AB4-Z10)","v":0.5},{"$f":"IF(AA7=0,0,(AA7*((LOG(AA7))/LOG(2))))","v":-0.5},null,{"$f":"N7","v":111},{"$f":"COUNTIF(L68:L98,AD7)","v":16},{"$f":"AE7/(AG4-AE10)","v":0.5161290322580645},{"$f":"IF(AF7=0,0,(AF7*((LOG(AF7))/LOG(2))))","v":-0.49248841826419365},null,{"$f":"N7","v":111},{"$f":"COUNTIF(L99:L129,AI7)","v":20},{"$f":"AJ7/(AL4-AJ10)","v":0.64516129032258063},{"$f":"IF(AK7=0,0,(AK7*((LOG(AK7))/LOG(2))))","v":-0.40791497774162117},null,{"$f":"N7","v":111},{"$f":"COUNTIF(L130:L159,AN7)","v":16},{"$f":"AO7/(AQ4-AO10)","v":0.53333333333333333},{"$f":"IF(AP7=0,0,(AP7*((LOG(AP7))/LOG(2))))","v":-0.4836749843245432},null,{"$f":"N7","v":111},{"$f":"COUNTIF(L160:L190,AS7)","v":11},{"$f":"AT7/(AV4-AT10)","v":0.35483870967741937},{"$f":"IF(AU7=0,0,(AU7*((LOG(AU7))/LOG(2))))","v":-0.53040037449178568}]
[11,199,11,206,12,219,null,null,null,null,0,111,null,112,{"$f":"COUNTIF($L$7:$L$500,N8)","v":0},{"$f":"O8/$Q$4","v":0},{"$f":"IF(P8=0,0,(P8*((LOG(P8))/LOG(2))))","v":0},null,null,{"$f":"N8","v":112},{"$f":"COUNTIF(L7:L37,T8)","v":0},{"$f":"U8/(W4-U10)","v":0},{"$f":"IF(V8=0,0,(V8*((LOG(V8))/LOG(2))))","v":0},null,{"$f":"N8","v":112},{"$f":"COUNTIF(L38:L67,Y8)","v":0},{"$f":"Z8/(AB4-Z10)","v":0},{"$f":"IF(AA8=0,0,(AA8*((LOG(AA8))/LOG(2))))","v":0},null,{"$f":"N8","v":112},{"$f":"COUNTIF(L68:L98,AD8)","v":0},{"$f":"AE8/(AG4-AE10)","v":0},{"$f":"IF(AF8=0,0,(AF8*((LOG(AF8))/LOG(2))))","v":0},null,{"$f":"N8","v":112},{"$f":"COUNTIF(L99:L129,AI8)","v":0},{"$f":"AJ8/(AL4-AJ10)","v":0},{"$f":"IF(AK8=0,0,(AK8*((LOG(AK8))/LOG(2))))","v":0},null,{"$f":"N8","v":112},{"$f":"COUNTIF(L130:L159,AN8)","v":0},{"$f":"AO8/(AQ4-AO10)","v":0},{"$f":"IF(AP8=0,0,(AP8*((LOG(AP8))/LOG(2))))","v":0},null,{"$f":"N8","v":112},{"$f":"COUNTIF(L160:L190,AS8)","v":0},{"$f":"AT8/(AV4-AT10)","v":0},{"$f":"IF(AU8=0,0,(AU8*((LOG(AU8))/LOG(2))))","v":0}]
[22,326,13,336,14,341,null,null,null,null,0,211,null,121,{"$f":"COUNTIF($L$7:$L$500,N9)","v":0},{"$f":"O9/$Q$4","v":0},{"$f":"IF(P9=0,0,(P9*((LOG(P9))/LOG(2))))","v":0},null,null,{"$f":"N9","v":121},{"$f":"COUNTIF(L7:L37,T9)","v":0},{"$f":"U9/(W4-U10)","v":0},{"$f":"IF(V9=0,0,(V9*((LOG(V9))/LOG(2))))","v":0},null,{"$f":"N9","v":121},{"$f":"COUNTIF(L38:L67,Y9)","v":0},{"$f":"Z9/(AB4-Z10)","v":0},{"$f":"IF(AA9=0,0,(AA9*((LOG(AA9))/LOG(2))))","v":0},null,{"$f":"N9","v":121},{"$f":"COUNTIF(L68:L98,AD9)","v":0},{"$f":"AE9/(AG4-AE10)","v":0},{"$f":"IF(AF9=0,0,(AF9*((LOG(AF9))/LOG(2))))","v":0},null,{"$f":"N9","v":121},{"$f":"COUNTIF(L99:L129,AI9)","v":0},{"$f":"AJ9/(AL4-AJ10)","v":0},{"$f":"IF(AK9=0,0,(AK9*((LOG(AK9))/LOG(2))))","v":0},null,{"$f":"N9","v":121},{"$f":"COUNTIF(L130:L159,AN9)","v":0},{"$f":"AO9/(AQ4-AO10)","v":0},{"$f":"IF(AP9=0,0,(AP9*((LOG(AP9))/LOG(2))))","v":0},null,{"$f":"N9","v":121},{"$f":"COUNTIF(L160:L190,AS9)","v":0},{"$f":"AT9/(AV4-AT10)","v":0},{"$f":"IF(AU9=0,0,(AU9*((LOG(AU9))/LOG(2))))","v":0}]
[22,450,13,464,14,472,null,null,null,null,0,211,null,122,{"$f":"COUNTIF($L$7:$L$500,N10)","v":0},{"$f":"O10/$Q$4","v":0},{"$f":"IF(P10=0,0,(P10*((LOG(P10))/LOG(2))))","v":0},null,null,{"$f":"N10","v":122},{"$f":"COUNTIF(L7:L37,T10)","v":0},null,null,null,{"$f":"N10","v":122},{"$f":"COUNTIF(L38:L67,Y10)","v":0},null,null,null,{"$f":"N10","v":122},{"$f":"COUNTIF(L68:L98,AD10)","v":0},null,null,null,{"$f":"N10","v":122},{"$f":"COUNTIF(L99:L129,AI10)","v":0},null,null,null,{"$f":"N10","v":122},{"$f":"COUNTIF(L130:L159,AN10)","v":0},null,null,null,{"$f":"N10","v":122},{"$f":"COUNTIF(L160:L190,AS10)","v":0}]
[11,591,11,597,12,609,null,null,null,null,0,111,null,211,{"$f":"COUNTIF($L$7:$L$500,N11)","v":90},{"$f":"O11/$Q$4","v":0.4891304347826087},{"$f":"IF(P11=0,0,(P11*((LOG(P11))/LOG(2))))","v":-0.50464020312750235},null,null,{"$f":"N11","v":211},{"$f":"COUNTIF(L7:L37,T11)","v":18},{"$f":"U11/(W4-U10)","v":0.58064516129032262},{"$f":"IF(V11=0,0,(V11*((LOG(V11))/LOG(2))))","v":-0.45538334067748809},null,{"$f":"N11","v":211},{"$f":"COUNTIF(L38:L67,Y11)","v":15},{"$f":"Z11/(AB4-Z10)","v":0.5},{"$f":"IF(AA11=0,0,(AA11*((LOG(AA11))/LOG(2))))","v":-0.5},null,{"$f":"N11","v":211},{"$f":"COUNTIF(L68:L98,AD11)","v":15},{"$f":"AE11/(AG4-AE10)","v":0.4838709677419355},{"$f":"IF(AF11=0,0,(AF11*((LOG(AF11))/LOG(2))))","v":-0.50676082973146286},null,{"$f":"N11","v":211},{"$f":"COUNTIF(L99:L129,AI11)","v":11},{"$f":"AJ11/(AL4-AJ10)","v":0.35483870967741937},{"$f":"IF(AK11=0,0,(AK11*((LOG(AK11))/LOG(2))))","v":-0.53040037449178568},null,{"$f":"N11","v":211},{"$f":"COUNTIF(L130:L159,AN11)","v":13},{"$f":"AO11/(AQ4-AO10)","v":0.43333333333333335},{"$f":"IF(AP11=0,0,(AP11*((LOG(AP11))/LOG(2))))","v":-0.52279538023588479},null,{"$f":"N11","v":211},{"$f":"COUNTIF(L160:L190,AS11)","v":18},{"$f":"AT11/(AV4-AT10)","v":0.58064516129032262},{"$f":"IF(AU11=0,0,(AU11*((LOG(AU11))/LOG(2))))","v":-0.45538334067748809}]
[22,711,13,730,14,743,null,null,null,null,0,211,null,212,{"$f":"COUNTIF($L$7:$L$500,N12)","v":1},{"$f":"O12/$Q$4","v":5.434782608695652E-3},{"$f":"IF(P12=0,0,(P12*((LOG(P12))/LOG(2))))","v":-4.0888923674222893E-2},null,null,{"$f":"N12","v":212},{"$f":"COUNTIF(L7:L37,T12)","v":1},{"$f":"U12/(W4-U10)","v":3.2258064516129031E-2},{"$f":"IF(V12=0,0,(V12*((LOG(V12))/LOG(2))))","v":-0.15981278420602821},null,{"$f":"N12","v":212},{"$f":"COUNTIF(L38:L67,Y12)","v":0},{"$f":"Z12/(AB4-Z10)","v":0},{"$f":"IF(AA12=0,0,(AA12*((LOG(AA12))/LOG(2))))","v":0},null,{"$f":"N12","v":212},{"$f":"COUNTIF(L68:L98,AD12)","v":0},{"$f":"AE12/(AG4-AE10)","v":0},{"$f":"IF(AF12=0,0,(AF12*((LOG(AF12))/LOG(2))))","v":0},null,{"$f":"N12","v":212},{"$f":"COUNTIF(L99:L129,AI12)","v":0},{"$f":"AJ12/(AL4-AJ10)","v":0},{"$f":"IF(AK12=0,0,(AK12*((LOG(AK12))/LOG(2))))","v":0},null,{"$f":"N12","v":212},{"$f":"COUNTIF(L130:L159,AN12)","v":0},{"$f":"AO12/(AQ4-AO10)","v":0},{"$f":"IF(AP12=0,0,(AP12*((LOG(AP12))/LOG(2))))","v":0},null,{"$f":"N12","v":212},{"$f":"COUNTIF(L160:L190,AS12)","v":0},{"$f":"AT12/(AV4-AT10)","v":0},{"$f":"IF(AU12=0,0,(AU12*((LOG(AU12))/LOG(2))))","v":0}]
[22,847,13,863,14,872,null,null,null,null,0,211,null,221,{"$f":"COUNTIF($L$7:$L$500,N13)","v":3},{"$f":"O13/$Q$4","v":1.6304347826086956E-2},{"$f":"IF(P13=0,0,(P13*((LOG(P13))/LOG(2))))","v":-9.6824991119606366E-2},null,null,{"$f":"N13","v":221},{"$f":"COUNTIF(L7:L37,T13)","v":0},{"$f":"U13/(W4-U10)","v":0},{"$f":"IF(V13=0,0,(V13*((LOG(V13))/LOG(2))))","v":0},null,{"$f":"N13","v":221},{"$f":"COUNTIF(L38:L67,Y13)","v":0},{"$f":"Z13/(AB4-Z10)","v":0},{"$f":"IF(AA13=0,0,(AA13*((LOG(AA13))/LOG(2))))","v":0},null,{"$f":"N13","v":221},{"$f":"COUNTIF(L68:L98,AD13)","v":0},{"$f":"AE13/(AG4-AE10)","v":0},{"$f":"IF(AF13=0,0,(AF13*((LOG(AF13))/LOG(2))))","v":0},null,{"$f":"N13","v":221},{"$f":"COUNTIF(L99:L129,AI13)","v":0},{"$f":"AJ13/(AL4-AJ10)","v":0},{"$f":"IF(AK13=0,0,(AK13*((LOG(AK13))/LOG(2))))","v":0},null,{"$f":"N13","v":221},{"$f":"COUNTIF(L130:L159,AN13)","v":1},{"$f":"AO13/(AQ4-AO10)","v":3.3333333333333333E-2},{"$f":"IF(AP13=0,0,(AP13*((LOG(AP13))/LOG(2))))","v":-0.16356301985361729},null,{"$f":"N13","v":221},{"$f":"COUNTIF(L160:L190,AS13)","v":2},{"$f":"AT13/(AV4-AT10)","v":6.4516129032258063E-2},{"$f":"IF(AU13=0,0,(AU13*((LOG(AU13))/LOG(2))))","v":-0.25510943937979835}]
[22,975,13,989,14,994,null,null,null,null,0,211,null,222,{"$f":"COUNTIF($L$7:$L$500,N14)","v":0},{"$f":"O14/$Q$4","v":0},{"$f":"IF(P14=0,0,(P14*((LOG(P14))/LOG(2))))","v":0},null,null,{"$f":"N14","v":222},{"$f":"COUNTIF(L7:L37,T14)","v":0},{"$f":"U14/(W4-U10)","v":0},{"$f":"IF(V14=0,0,(V14*((LOG(V14))/LOG(2))))","v":0},null,{"$f":"N14","v":222},{"$f":"COUNTIF(L38:L67,Y14)","v":0},{"$f":"Z14/(AB4-Z10)","v":0},{"$f":"IF(AA14=0,0,(AA14*((LOG(AA14))/LOG(2))))","v":0},null,{"$f":"N14","v":222},{"$f":"COUNTIF(L68:L98,AD14)","v":0},{"$f":"AE14/(AG4-AE10)","v":0},{"$f":"IF(AF14=0,0,(AF14*((LOG(AF14))/LOG(2))))","v":0},null,{"$f":"N14","v":222},{"$f":"COUNTIF(L99:L129,AI14)","v":0},{"$f":"AJ14/(AL4-AJ10)","v":0},{"$f":"IF(AK14=0,0,(AK14*((LOG(AK14))/LOG(2))))","v":0},null,{"$f":"N14","v":222},{"$f":"COUNTIF(L130:L159,AN14)","v":0},{"$f":"AO14/(AQ4-AO10)","v":0},{"$f":"IF(AP14=0,0,(AP14*((LOG(AP14))/LOG(2))))","v":0},null,{"$f":"N14","v":222},{"$f":"COUNTIF(L160:L190,AS14)","v":0},{"$f":"AT14/(AV4-AT10)","v":0},{"$f":"IF(AU14=0,0,(AU14*((LOG(AU14))/LOG(2))))","v":0}]
[22,1099,13,1110,14,1119,null,null,null,null,0,211,null,null,null,{"$f":"SUM(P7:P14)","v":1},{"$f":"-SUM(Q7:Q14)","v":1.146994321048834},null,null,null,null,{"$f":"SUM(V7:V14)","v":1},{"$f":"-SUM(W7:W14)","v":1.1452221157218592},null,null,null,{"$f":"SUM(AA7:AA14)","v":1},{"$f":"-SUM(AB7:AB14)","v":1},null,null,null,{"$f":"SUM(AF7:AF14)","v":1},{"$f":"-SUM(AG7:AG14)","v":0.99924924799565651},null,null,null,{"$f":"SUM(AK7:AK14)","v":1},{"$f":"-SUM(AL7:AL14)","v":0.9383153522334069},null,null,null,{"$f":"SUM(AP7:AP14)","v":1},{"$f":"-SUM(AQ7:AQ14)","v":1.1700333844140454},null,null,null,{"$f":"SUM(AU7:AU14)","v":1},{"$f":"-SUM(AV7:AV14)","v":1.240893154549072}]
[11,1242,11,1249,12,1261,null,null,null,null,0,111,null,null,null,"U=",{"$f":"Q15/(LOG(Q4)/LOG(2))","v":0.15245362871311513},null,null,null,null,"U1=",{"$f":"W15/(LOG(W4)/LOG(2))","v":0.23116203799207713},null,null,null,"U2=",{"$f":"AB15/(LOG(AB4)/LOG(2))","v":0.20379504709050619},null,null,null,"U3=",{"$f":"AG15/(LOG(AG4)/LOG(2))","v":0.20169754797577344},null,null,null,"U4=",{"$f":"AL15/(LOG(AL4)/LOG(2))","v":0.18939809677427447},null,null,null,"U5=",{"$f":"AQ15/(LOG(AQ4)/LOG(2))","v":0.23844700867412469},null,null,null,"U6=",{"$f":"AV15/(LOG(AV4)/LOG(2))","v":0.25047314979171065}]
[11,1384,11,1391,12,1404,null,null,null,null,0,111]
[22,1504,13,1517,14,1532,null,null,null,null,0,211]
[22,1639,13,1656,14,1665,null,null,null,null,0,211,null,"Total Target Seq"]
[22,1763,13,1775,14,1781,null,null,null,null,0,211,null,{"$f":"COUNTIF(L7:L190,G3)","v":0},null,31,30,31,31,30,31]
[11,1898,11,1904,12,1915,null,null,null,null,0,111,null,null,null,"% of reinforcement given in 6 equal intervals based on number of trials "]
[11,2032,11,2040,12,2052,null,null,null,null,0,111,null,null,null,"%_1","%_2","%_3","%_4","%_5","%_6"]
[22,2162,13,2174,14,2183,null,null,null,null,0,211,null,null,"target sequence",{"$f":"$G$3","v":122},{"$f":"$G$3","v":122},{"$f":"$G$3","v":122},{"$f":"$G$3","v":122},{"$f":"$G$3","v":122},{"$f":"$G$3","v":122}]
[22,2305,13,2316,14,2322,null,null,null,null,0,211,null,null,"total reinforcement",{"$f":"U10","v":0},{"$f":"Z10","v":0},{"$f":"AE10","v":0},{"$f":"AJ10","v":0},{"$f":"AO10","v":0},{"$f":"AT10","v":0}]
[11,2444,11,2449,12,2458,null,null,null,null,0,111,null,null,"% target"]
[11,2565,11,2570,12,2581,null,null,null,null,0,111,null,null,"CCRF"]
[22,2691,13,2702,14,2707,null,null,null,null,0,211,null,null,"% CCRf"]
[11,2829,11,2837,12,2849,null,null,null,null,0,111,null,null,"average response rate",{"$f":"F37/P20","v":133.96774193548387},{"$f":"(F67-F37)/Q20","v":130.93333333333334},{"$f":"(F98-F67)/R20","v":130.61290322580646},{"$f":"(F129-F98)/S20","v":131.19354838709677},{"$f":"(F159-F129)/T20","v":128.4},{"$f":"(F190-F159)/U20","v":127.29032258064517}]
[11,2963,11,2980,12,2991,null,null,null,null,0,111]
[22,3134,13,3144,14,3152,null,null,null,null,0,211]
[22,3274,13,3286,23,3409,null,null,null,null,0,212]
[22,3524,13,3537,14,3545,null,null,null,null,0,211]
[11,3663,11,3668,12,3679,null,null,null,null,0,111]
[22,3778,13,3787,14,3792,null,null,null,null,0,211]
[22,3887,13,3899,14,3904,null,null,null,null,0,211]
[22,4009,13,4022,14,4027,null,null,null,null,0,211]
[22,4135,13,4146,14,4153,null,null,null,null,0,211]
[22,4257,13,4269,14,4276,null,null,null,null,0,211]
[22,4383,13,4394,14,4401,null,null,null,null,0,211]
[11,4541,11,4552,12,4563,null,null,null,null,0,111]
[11,4693,11,4702,12,4714,null,null,null,null,0,111]
[11,4822,11,4829,12,4840,null,null,null,null,0,111]
[11,4964,11,4970,12,4984,null,null,null,null,0,111]
[11,5098,11,5102,12,5114,null,null,null,null,0,111]
[11,5222,11,5228,12,5235,null,null,null,null,0,111]
[22,5338,13,5353,14,5358,null,null,null,null,0,211]
[11,5468,11,5476,12,5487,null,null,null,null,0,111]
[22,5596,13,5604,14,5610,null,null,null,null,0,211]
[11,5717,11,5722,12,5730,null,null,null,null,0,111]
[11,5856,11,5860,12,5870,null,null,null,null,0,111]
[22,5991,13,6002,14,6013,null,null,null,null,0,211]
[22,6118,13,6130,14,6138,null,null,null,null,0,211]
[11,6255,11,6261,12,6269,null,null,null,null,0,111]
[11,6383,11,6388,12,6399,null,null,null,null,0,111]
[22,6497,13,6508,14,6513,null,null,null,null,0,211]
[22,6613,13,6646,14,6654,null,null,null,null,0,211]
[22,6753,13,6787,14,6795,null,null,null,null,0,211]
[11,6910,11,6916,12,6927,null,null,null,null,0,111]
[22,7035,13,7046,14,7051,null,null,null,null,0,211]
[11,7168,11,7176,12,7189,null,null,null,null,0,111]
[22,7304,13,7314,14,7323,null,null,null,null,0,211]
[11,7431,11,7435,12,7443,null,null,null,null,0,111]
[22,7558,13,7566,14,7574,null,null,null,null,0,211]
[22,7676,13,7687,14,7692,null,null,null,null,0,211]
[22,7799,13,7810,14,7817,null,null,null,null,0,211]
[22,7923,13,7936,14,7941,null,null,null,null,0,211]
[11,8060,11,8071,12,8081,null,null,null,null,0,111]
[11,8192,11,8199,12,8208,null,null,null,null,0,111]
[11,8336,11,8344,12,8355,null,null,null,null,0,111]
[11,8469,11,8474,12,8482,null,null,null,null,0,111]
[22,8583,13,8595,14,8600,null,null,null,null,0,211]
[22,8698,13,8708,14,8713,null,null,null,null,0,211]
[11,8833,11,8845,12,8857,null,null,null,null,0,111]
[11,8972,11,8979,12,8990,null,null,null,null,0,111]
[11,9105,11,9112,12,9122,null,null,null,null,0,111]
[22,9229,13,9239,14,9244,null,null,null,null,0,211]
[22,9347,13,9362,14,9370,null,null,null,null,0,211]
[22,9469,13,9480,14,9485,null,null,null,null,0,211]
[22,9593,13,9614,14,9624,null,null,null,null,0,211]
[22,9740,13,9748,14,9755,null,null,null,null,0,211]
[11,9863,11,9871,12,9881,null,null,null,null,0,111]
[11,10008,11,10016,12,10026,null,null,null,null,0,111]
[22,10176,13,10184,14,10189,null,null,null,null,0,211]
[22,10287,13,10295,14,10300,null,null,null,null,0,211]
[11,10409,11,10414,12,10423,null,null,null,null,0,111]
[22,10524,13,10537,14,10543,null,null,null,null,0,211]
[22,10646,13,10674,14,10682,null,null,null,null,0,211]
[11,10801,11,10809,12,10820,null,null,null,null,0,111]
[22,10942,13,10953,14,10960,null,null,null,null,0,211]
[11,11075,11,11080,12,11089,null,null,null,null,0,111]
[22,11189,13,11206,14,11214,null,null,null,null,0,211]
[11,11336,11,11344,12,11353,null,null,null,null,0,111]
[11,11467,11,11475,12,11486,null,null,null,null,0,111]
[11,11608,11,11615,12,11627,null,null,null,null,0,111]
[11,11737,11,11744,12,11755,null,null,null,null,0,111]
[22,11862,13,11872,14,11879,null,null,null,null,0,211]
[11,11991,11,11999,12,12008,null,null,null,null,0,111]
[22,12116,13,12125,14,12130,null,null,null,null,0,211]
[11,12253,11,12258,12,12267,null,null,null,null,0,111]
[11,12380,11,12385,12,12393,null,null,null,null,0,111]
[22,12502,13,12511,14,12516,null,null,null,null,0,211]
[11,12633,11,12641,12,12652,null,null,null,null,0,111]
[11,12766,11,12771,12,12779,null,null,null,null,0,111]
[22,12886,13,12897,14,12907,null,null,null,null,0,211]
[22,13018,13,13031,14,13038,null,null,null,null,0,211]
[11,13153,11,13160,12,13168,null,null,null,null,0,111]
[11,13286,11,13295,12,13305,null,null,null,null,0,111]
[22,13410,13,13424,14,13429,null,null,null,null,0,211]
[11,13550,11,13557,12,13569,null,null,null,null,0,111]
[22,13683,13,13690,14,13698,null,null,null,null,0,211]
[11,13821,11,13826,12,13835,null,null,null,null,0,111]
[22,13936,13,13947,14,13952,null,null,null,null,0,211]
[11,14063,11,14069,12,14081,null,null,null,null,0,111]
[11,14189,11,14194,12,14204,null,null,null,null,0,111]
[11,14319,11,14327,12,14335,null,null,null,null,0,111]
[11,14460,11,14464,12,14472,null,null,null,null,0,111]
[22,14594,13,14604,14,14612,null,null,null,null,0,211]
[22,14721,13,14733,14,14740,null,null,null,null,0,211]
[11,14855,11,14866,12,14877,null,null,null,null,0,111]
[11,15023,11,15033,12,15043,null,null,null,null,0,111]
[11,15174,11,15182,12,15190,null,null,null,null,0,111]
[11,15317,11,15322,12,15330,null,null,null,null,0,111]
[22,15435,13,15444,14,15448,null,null,null,null,0,211]
[22,15548,13,15558,14,15562,null,null,null,null,0,211]
[11,15675,11,15680,12,15689,null,null,null,null,0,111]
[11,15801,11,15806,12,15814,null,null,null,null,0,111]
[11,15936,11,15941,12,15949,null,null,null,null,0,111]
[11,16059,11,16064,12,16072,null,null,null,null,0,111]
[22,16174,13,16190,14,16197,null,null,null,null,0,211]
[22,16290,24,16308,14,16318,null,null,null,null,0,221]
[11,16435,11,16440,12,16452,null,null,null,null,0,111]
[22,16551,13,16562,14,16567,null,null,null,null,0,211]
[22,16668,13,16680,14,16685,null,null,null,null,0,211]
[11,16802,11,16807,12,16815,null,null,null,null,0,111]
[11,16936,11,16944,12,16954,null,null,null,null,0,111]
[11,17070,11,17076,12,17087,null,null,null,null,0,111]
[22,17193,13,17203,14,17208,null,null,null,null,0,211]
[11,17368,11,17379,12,17390,null,null,null,null,0,111]
[22,17494,13,17508,14,17516,null,null,null,null,0,211]
[22,17611,13,17619,14,17625,null,null,null,null,0,211]
[11,17741,11,17750,12,17760,null,null,null,null,0,111]
[22,17863,13,17877,14,17884,null,null,null,null,0,211]
[11,17986,11,17992,12,18000,null,null,null,null,0,111]
[22,18104,13,18117,14,18122,null,null,null,null,0,211]
[11,18233,11,18240,12,18253,null,null,null,null,0,111]
[11,18367,11,18372,12,18383,null,null,null,null,0,111]
[22,18483,13,18491,14,18496,null,null,null,null,0,211]
[22,18596,13,18613,14,18618,null,null,null,null,0,211]
[11,18738,11,18743,12,18754,null,null,null,null,0,111]
[11,18872,11,18877,12,18886,null,null,null,null,0,111]
[11,19002,11,19007,12,19018,null,null,null,null,0,111]
[11,19141,11,19149,12,19159,null,null,null,null,0,111]
[11,19270,11,19274,12,19282,null,null,null,null,0,111]
[22,19388,13,19397,14,19401,null,null,null,null,0,211]
[11,19510,11,19516,12,19524,null,null,null,null,0,111]
[22,19627,13,19636,14,19641,null,null,null,null,0,211]
[22,19744,13,19767,14,19774,null,null,null,null,0,211]
[22,19899,13,19910,14,19921,null,null,null,null,0,211]
[11,20031,11,20037,12,20049,null,null,null,null,0,111]
[22,20152,13,20163,14,20167,null,null,null,null,0,211]
[11,20304,11,20313,12,20324,null,null,null,null,0,111]
[22,20436,13,20447,14,20454,null,null,null,null,0,211]
[22,20562,13,20574,14,20579,null,null,null,null,0,211]
[11,20681,11,20686,12,20698,null,null,null,null,0,111]
[22,20798,13,20806,14,20811,null,null,null,null,0,211]
[22,20913,24,20935,14,20942,null,null,null,null,0,221]
[11,21061,11,21068,12,21079,null,null,null,null,0,111]
[22,21189,13,21197,14,21203,null,null,null,null,0,211]
[22,21307,13,21315,14,21320,null,null,null,null,0,211]
[22,21419,13,21428,14,21435,null,null,null,null,0,211]
[11,21551,11,21558,12,21571,null,null,null,null,0,111]
[22,21702,13,21713,14,21720,null,null,null,null,0,211]
[11,21837,11,21843,12,21851,null,null,null,null,0,111]
[22,21958,13,21970,14,21978,null,null,null,null,0,211]
[22,22083,13,22094,14,22102,null,null,null,null,0,211]
[11,22215,11,22220,12,22232,null,null,null,null,0,111]
[11,22340,11,22345,12,22352,null,null,null,null,0,111]
[22,22448,13,22457,14,22462,null,null,null,null,0,211]
[22,22587,13,22599,14,22609,null,null,null,null,0,211]
[11,22729,11,22736,12,22748,null,null,null,null,0,111]
[22,22850,13,22861,14,22868,null,null,null,null,0,211]
[11,22991,11,23000,12,23011,null,null,null,null,0,111]
[22,23112,13,23120,14,23126,null,null,null,null,0,211]
[11,23235,11,23239,12,23247,null,null,null,null,0,111]
[22,23344,13,23354,14,23359,null,null,null,null,0,211]
[22,23451,13,23462,14,23467,null,null,null,null,0,211]
[22,23564,24,23581,14,23592,null,null,null,null,0,221]
[22,23697,13,23706,14,23712,null,null,null,null,0,211]
[11,23836,11,23843,12,23854,null,null,null,null,0,111]
[22,23974,13,23984,14,23995,null,null,null,null,null,211]

{"sheet":"!MA19B10.095","index":9,"n_rows":189,"n_cols":48,"rows_kept":189,"cut":false,"hidden":false,"merged":[[4,39,4,42],[5,39,5,40],[4,44,4,47],[5,44,5,45],[4,24,4,27],[5,24,5,25],[4,29,4,32],[5,29,5,30],[4,34,4,37],[5,34,5,35],[1,1,1,2],[5,13,5,14],[18,13,18,14],[19,13,19,14],[4,19,4,22],[5,19,5,20]]}
["Report for:!MA19B10.095"]
["Date:","<date>"]
["Hen:","<hen>",null,null,null,"Correct Sequence",{"$f":"Start!J2","v":122},null,null,null,null,null,null,null,null,"Total Sequences in Data",{"$f":"4994-COUNTBLANK(L7:L5000)","v":183},null,null,null,null,"Total Sequences in Block Data",{"$f":"COUNTA(L7:L37)","v":31},null,null,null,"Total Sequences in Block Data",{"$f":"COUNTA(L38:L67)","v":30},null,null,null,"Total Sequences in Block Data",{"$f":"COUNTA(L68:L98)","v":31},null,null,null,"Total Sequences in Block Data",{"$f":"COUNTA(L99:L128)","v":30},null,null,null,"Total Sequences in Block Data",{"$f":"COUNTA(L129:L159)","v":31},null,null,null,"Total Sequences in Block Data",{"$f":"COUNTA(L160:L189)","v":30}]
[null,null,null,null,null,null,null,null,null,null,null,null,null,null,null,"Total Sequences in Summary",{"$f":"SUM(O7:O14)","v":183},null,null,null,null,"Total Sequences in Block Summary",{"$f":"SUM(U7:U14)","v":31},null,null,null,"Total Sequences in Block Summary",{"$f":"SUM(Z7:Z14)","v":30},null,null,null,"Total Sequences in Block Summary",{"$f":"SUM(AE7:AE14)","v":31},null,null,null,"Total Sequences in Block Summary",{"$f":"SUM(AJ7:AJ14)","v":30},null,null,null,"Total Sequences in Block Summary",{"$f":"SUM(AO7:AO14)","v":31},null,null,null,"Total Sequences in Block Summary",{"$f":"SUM(AT7:AT14)","v":30}]
[null,null,null,null,null,null,null,null,null,null,null,null,null,null,null,null,null,null,null,"Block 1",null,null,null,null,"Block 2",null,null,null,null,"Block 3",null,null,null,null,"Block 4",null,null,null,null,"Block 5",null,null,null,null,"Block 6"]
["Sequence\nComponent\n1","Time\n1","Sequence\nComponent\n2","Time\n2","Sequence\nComponent\n3","Time\n3","Sequence\nComponent\n4","Time\n4","Sequence\nComponent\n5","Time\n5","Correct?\n0=No 1=Yes","Sequence",null,"Frequency",null,"Relative Frequency","Variability",null,null,"Frequency",null,"Relative Frequency","Variability",null,"Frequency",null,"Relative Frequency","Variability",null,"Frequency",null,"Relative Frequency","Variability",null,"Frequency",null,"Relative Frequency","Variability",null,"Frequency",null,"Relative Frequency","Variability",null,"Frequency",null,"Relative Frequency","Variability"]
[11,24,11,32,12,43,null,null,null,null,0,111,null,111,{"$f":"COUNTIF($L$7:$L$500,N7)","v":80},{"$f":"O7/$Q$4","v":0.43715846994535518},{"$f":"IF(P7=0,0,(P7*((LOG(P7))/LOG(2))))","v":-0.52186742880729187},null,null,{"$f":"N7","v":111},{"$f":"COUNTIF(L7:L37,T7)","v":16},{"$f":"U7/(W4-U10)","v":0.5161290322580645},{"$f":"IF(V7=0,0,(V7*((LOG(V7))/LOG(2))))","v":-0.49248841826419365},null,{"$f":"N7","v":111},{"$f":"COUNTIF(L38:L67,Y7)","v":16},{"$f":"Z7/(AB4-Z10)","v":0.53333333333333333},{"$f":"IF(AA7=0,0,(AA7*((LOG(AA7))/LOG(2))))","v":-0.4836749843245432},null,{"$f":"N7","v":111},{"$f":"COUNTIF(L68:L98,AD7)","v":15},{"$f":"AE7/(AG4-AE10)","v":0.4838709677419355},{"$f":"IF(AF7=0,0,(AF7*((LOG(AF7))/LOG(2))))","v":-0.50676082973146286},null,{"$f":"N7","v":111},{"$f":"COUNTIF(L99:L128,AI7)","v":12},{"$f":"AJ7/(AL4-AJ10)","v":0.4},{"$f":"IF(AK7=0,0,(AK7*((LOG(AK7))/LOG(2))))","v":-0.52877123795494496},null,{"$f":"N7","v":111},{"$f":"COUNTIF(L129:L159,AN7)","v":13},{"$f":"AO7/(AQ4-AO10)","v":0.41935483870967744},{"$f":"IF(AP7=0,0,(AP7*((LOG(AP7))/LOG(2))))","v":-0.52576889352242517},null,{"$f":"N7","v":111},{"$f":"COUNTIF(L160:L189,AS7)","v":8},{"$f":"AT7/(AV4-AT10)","v":0.26666666666666666},{"$f":"IF(AU7=0,0,(AU7*((LOG(AU7))/LOG(2))))","v":-0.50850415882893829}]
[11,163,11,171,12,184,null,null,null,null,0,111,null,112,{"$f":"COUNTIF($L$7:$L$500,N8)","v":0},{"$f":"O8/$Q$4","v":0},{"$f":"IF(P8=0,0,(P8*((LOG(P8))/LOG(2))))","v":0},null,null,{"$f":"N8","v":112},{"$f":"COUNTIF(L7:L37,T8)","v":0},{"$f":"U8/(W4-U10)","v":0},{"$f":"IF(V8=0,0,(V8*((LOG(V8))/LOG(2))))","v":0},null,{"$f":"N8","v":112},{"$f":"COUNTIF(L38:L67,Y8)","v":0},{"$f":"Z8/(AB4-Z10)","v":0},{"$f":"IF(AA8=0,0,(AA8*((LOG(AA8))/LOG(2))))","v":0},null,{"$f":"N8","v":112},{"$f":"COUNTIF(L68:L98,AD8)","v":0},{"$f":"AE8/(AG4-AE10)","v":0},{"$f":"IF(AF8=0,0,(AF8*((LOG(AF8))/LOG(2))))","v":0},null,{"$f":"N8","v":112},{"$f":"COUNTIF(L99:L128,AI8)","v":0},{"$f":"AJ8/(AL4-AJ10)","v":0},{"$f":"IF(AK8=0,0,(AK8*((LOG(AK8))/LOG(2))))","v":0},null,{"$f":"N8","v":112},{"$f":"COUNTIF(L129:L159,AN8)","v":0},{"$f":"AO8/(AQ4-AO10)","v":0},{"$f":"IF(AP8=0,0,(AP8*((LOG(AP8))/LOG(2))))","v":0},null,{"$f":"N8","v":112},{"$f":"COUNTIF(L160:L189,AS8)","v":0},{"$f":"AT8/(AV4-AT10)","v":0},{"$f":"IF(AU8=0,0,(AU8*((LOG(AU8))/LOG(2))))","v":0}]
[11,292,11,298,12,307,null,null,null,null,0,111,null,121,{"$f":"COUNTIF($L$7:$L$500,N9)","v":0},{"$f":"O9/$Q$4","v":0},{"$f":"IF(P9=0,0,(P9*((LOG(P9))/LOG(2))))","v":0},null,null,{"$f":"N9","v":121},{"$f":"COUNTIF(L7:L37,T9)","v":0},{"$f":"U9/(W4-U10)","v":0},{"$f":"IF(V9=0,0,(V9*((LOG(V9))/LOG(2))))","v":0},null,{"$f":"N9","v":121},{"$f":"COUNTIF(L38:L67,Y9)","v":0},{"$f":"Z9/(AB4-Z10)","v":0},{"$f":"IF(AA9=0,0,(AA9*((LOG(AA9))/LOG(2))))","v":0},null,{"$f":"N9","v":121},{"$f":"COUNTIF(L68:L98,AD9)","v":0},{"$f":"AE9/(AG4-AE10)","v":0},{"$f":"IF(AF9=0,0,(AF9*((LOG(AF9))/LOG(2))))","v":0},null,{"$f":"N9","v":121},{"$f":"COUNTIF(L99:L128,AI9)","v":0},{"$f":"AJ9/(AL4-AJ10)","v":0},{"$f":"IF(AK9=0,0,(AK9*((LOG(AK9))/LOG(2))))","v":0},null,{"$f":"N9","v":121},{"$f":"COUNTIF(L129:L159,AN9)","v":0},{"$f":"AO9/(AQ4-AO10)","v":0},{"$f":"IF(AP9=0,0,(AP9*((LOG(AP9))/LOG(2))))","v":0},null,{"$f":"N9","v":121},{"$f":"COUNTIF(L160:L189,AS9)","v":0},{"$f":"AT9/(AV4-AT10)","v":0},{"$f":"IF(AU9=0,0,(AU9*((LOG(AU9))/LOG(2))))","v":0}]
[11,421,11,427,12,439,null,null,null,null,0,111,null,122,{"$f":"COUNTIF($L$7:$L$500,N10)","v":0},{"$f":"O10/$Q$4","v":0},{"$f":"IF(P10=0,0,(P10*((LOG(P10))/LOG(2))))","v":0},null,null,{"$f":"N10","v":122},{"$f":"COUNTIF(L7:L37,T10)","v":0},null,null,null,{"$f":"N10","v":122},{"$f":"COUNTIF(L38:L67,Y10)","v":0},null,null,null,{"$f":"N10","v":122},{"$f":"COUNTIF(L68:L98,AD10)","v":0},null,null,null,{"$f":"N10","v":122},{"$f":"COUNTIF(L99:L128,AI10)","v":0},null,null,null,{"$f":"N10","v":122},{"$f":"COUNTIF(L129:L159,AN10)","v":0},null,null,null,{"$f":"N10","v":122},{"$f":"COUNTIF(L160:L189,AS10)","v":0}]
[22,538,13,553,14,561,null,null,null,null,0,211,null,211,{"$f":"COUNTIF($L$7:$L$500,N11)","v":90},{"$f":"O11/$Q$4","v":0.49180327868852458},{"$f":"IF(P11=0,0,(P11*((LOG(P11))/LOG(2))))","v":-0.50353118456772183},null,null,{"$f":"N11","v":211},{"$f":"COUNTIF(L7:L37,T11)","v":13},{"$f":"U11/(W4-U10)","v":0.41935483870967744},{"$f":"IF(V11=0,0,(V11*((LOG(V11))/LOG(2))))","v":-0.52576889352242517},null,{"$f":"N11","v":211},{"$f":"COUNTIF(L38:L67,Y11)","v":13},{"$f":"Z11/(AB4-Z10)","v":0.43333333333333335},{"$f":"IF(AA11=0,0,(AA11*((LOG(AA11))/LOG(2))))","v":-0.52279538023588479},null,{"$f":"N11","v":211},{"$f":"COUNTIF(L68:L98,AD11)","v":15},{"$f":"AE11/(AG4-AE10)","v":0.4838709677419355},{"$f":"IF(AF11=0,0,(AF11*((LOG(AF11))/LOG(2))))","v":-0.50676082973146286},null,{"$f":"N11","v":211},{"$f":"COUNTIF(L99:L128,AI11)","v":16},{"$f":"AJ11/(AL4-AJ10)","v":0.53333333333333333},{"$f":"IF(AK11=0,0,(AK11*((LOG(AK11))/LOG(2))))","v":-0.4836749843245432},null,{"$f":"N11","v":211},{"$f":"COUNTIF(L129:L159,AN11)","v":12},{"$f":"AO11/(AQ4-AO10)","v":0.38709677419354838},{"$f":"IF(AP11=0,0,(AP11*((LOG(AP11))/LOG(2))))","v":-0.5300259908383429},null,{"$f":"N11","v":211},{"$f":"COUNTIF(L160:L189,AS11)","v":21},{"$f":"AT11/(AV4-AT10)","v":0.7},{"$f":"IF(AU11=0,0,(AU11*((LOG(AU11))/LOG(2))))","v":-0.36020122098083079}]
[11,674,11,680,12,687,null,null,null,null,0,111,null,212,{"$f":"COUNTIF($L$7:$L$500,N12)","v":0},{"$f":"O12/$Q$4","v":0},{"$f":"IF(P12=0,0,(P12*((LOG(P12))/LOG(2))))","v":0},null,null,{"$f":"N12","v":212},{"$f":"COUNTIF(L7:L37,T12)","v":0},{"$f":"U12/(W4-U10)","v":0},{"$f":"IF(V12=0,0,(V12*((LOG(V12))/LOG(2))))","v":0},null,{"$f":"N12","v":212},{"$f":"COUNTIF(L38:L67,Y12)","v":0},{"$f":"Z12/(AB4-Z10)","v":0},{"$f":"IF(AA12=0,0,(AA12*((LOG(AA12))/LOG(2))))","v":0},null,{"$f":"N12","v":212},{"$f":"COUNTIF(L68:L98,AD12)","v":0},{"$f":"AE12/(AG4-AE10)","v":0},{"$f":"IF(AF12=0,0,(AF12*((LOG(AF12))/LOG(2))))","v":0},null,{"$f":"N12","v":212},{"$f":"COUNTIF(L99:L128,AI12)","v":0},{"$f":"AJ12/(AL4-AJ10)","v":0},{"$f":"IF(AK12=0,0,(AK12*((LOG(AK12))/LOG(2))))","v":0},null,{"$f":"N12","v":212},{"$f":"COUNTIF(L129:L159,AN12)","v":0},{"$f":"AO12/(AQ4-AO10)","v":0},{"$f":"IF(AP12=0,0,(AP12*((LOG(AP12))/LOG(2))))","v":0},null,{"$f":"N12","v":212},{"$f":"COUNTIF(L160:L189,AS12)","v":0},{"$f":"AT12/(AV4-AT10)","v":0},{"$f":"IF(AU12=0,0,(AU12*((LOG(AU12))/LOG(2))))","v":0}]
[11,792,11,797,12,808,null,null,null,null,0,111,null,221,{"$f":"COUNTIF($L$7:$L$500,N13)","v":13},{"$f":"O13/$Q$4","v":7.1038251366120214E-2},{"$f":"IF(P13=0,0,(P13*((LOG(P13))/LOG(2))))","v":-0.27102940744184895},null,null,{"$f":"N13","v":221},{"$f":"COUNTIF(L7:L37,T13)","v":2},{"$f":"U13/(W4-U10)","v":6.4516129032258063E-2},{"$f":"IF(V13=0,0,(V13*((LOG(V13))/LOG(2))))","v":-0.25510943937979835},null,{"$f":"N13","v":221},{"$f":"COUNTIF(L38:L67,Y13)","v":1},{"$f":"Z13/(AB4-Z10)","v":3.3333333333333333E-2},{"$f":"IF(AA13=0,0,(AA13*((LOG(AA13))/LOG(2))))","v":-0.16356301985361729},null,{"$f":"N13","v":221},{"$f":"COUNTIF(L68:L98,AD13)","v":1},{"$f":"AE13/(AG4-AE10)","v":3.2258064516129031E-2},{"$f":"IF(AF13=0,0,(AF13*((LOG(AF13))/LOG(2))))","v":-0.15981278420602821},null,{"$f":"N13","v":221},{"$f":"COUNTIF(L99:L128,AI13)","v":2},{"$f":"AJ13/(AL4-AJ10)","v":6.6666666666666666E-2},{"$f":"IF(AK13=0,0,(AK13*((LOG(AK13))/LOG(2))))","v":-0.26045937304056793},null,{"$f":"N13","v":221},{"$f":"COUNTIF(L129:L159,AN13)","v":6},{"$f":"AO13/(AQ4-AO10)","v":0.19354838709677419},{"$f":"IF(AP13=0,0,(AP13*((LOG(AP13))/LOG(2))))","v":-0.45856138251594558},null,{"$f":"N13","v":221},{"$f":"COUNTIF(L160:L189,AS13)","v":1},{"$f":"AT13/(AV4-AT10)","v":3.3333333333333333E-2},{"$f":"IF(AU13=0,0,(AU13*((LOG(AU13))/LOG(2))))","v":-0.16356301985361729}]
[22,916,13,925,14,930,null,null,null,null,0,211,null,222,{"$f":"COUNTIF($L$7:$L$500,N14)","v":0},{"$f":"O14/$Q$4","v":0},{"$f":"IF(P14=0,0,(P14*((LOG(P14))/LOG(2))))","v":0},null,null,{"$f":"N14","v":222},{"$f":"COUNTIF(L7:L37,T14)","v":0},{"$f":"U14/(W4-U10)","v":0},{"$f":"IF(V14=0,0,(V14*((LOG(V14))/LOG(2))))","v":0},null,{"$f":"N14","v":222},{"$f":"COUNTIF(L38:L67,Y14)","v":0},{"$f":"Z14/(AB4-Z10)","v":0},{"$f":"IF(AA14=0,0,(AA14*((LOG(AA14))/LOG(2))))","v":0},null,{"$f":"N14","v":222},{"$f":"COUNTIF(L68:L98,AD14)","v":0},{"$f":"AE14/(AG4-AE10)","v":0},{"$f":"IF(AF14=0,0,(AF14*((LOG(AF14))/LOG(2))))","v":0},null,{"$f":"N14","v":222},{"$f":"COUNTIF(L99:L128,AI14)","v":0},{"$f":"AJ14/(AL4-AJ10)","v":0},{"$f":"IF(AK14=0,0,(AK14*((LOG(AK14))/LOG(2))))","v":0},null,{"$f":"N14","v":222},{"$f":"COUNTIF(L129:L159,AN14)","v":0},{"$f":"AO14/(AQ4-AO10)","v":0},{"$f":"IF(AP14=0,0,(AP14*((LOG(AP14))/LOG(2))))","v":0},null,{"$f":"N14","v":222},{"$f":"COUNTIF(L160:L189,AS14)","v":0},{"$f":"AT14/(AV4-AT10)","v":0},{"$f":"IF(AU14=0,0,(AU14*((LOG(AU14))/LOG(2))))","v":0}]
[11,1040,11,1044,12,1055,null,null,null,null,0,111,null,null,null,{"$f":"SUM(P7:P14)","v":0.99999999999999989},{"$f":"-SUM(Q7:Q14)","v":1.2964280208168626},null,null,null,null,{"$f":"SUM(V7:V14)","v":1},{"$f":"-SUM(W7:W14)","v":1.2733667511664173},null,null,null,{"$f":"SUM(AA7:AA14)","v":1},{"$f":"-SUM(AB7:AB14)","v":1.1700333844140454},null,null,null,{"$f":"SUM(AF7:AF14)","v":1},{"$f":"-SUM(AG7:AG14)","v":1.1733344436689539},null,null,null,{"$f":"SUM(AK7:AK14)","v":1},{"$f":"-SUM(AL7:AL14)","v":1.2729055953200561},null,null,null,{"$f":"SUM(AP7:AP14)","v":1},{"$f":"-SUM(AQ7:AQ14)","v":1.5143562668767137},null,null,null,{"$f":"SUM(AU7:AU14)","v":0.99999999999999989},{"$f":"-SUM(AV7:AV14)","v":1.0322683996633863}]
[11,1169,11,1175,12,1182,null,null,null,null,0,111,null,null,null,"U=",{"$f":"Q15/(LOG(Q4)/LOG(2))","v":0.1724959815735348},null,null,null,null,"U1=",{"$f":"W15/(LOG(W4)/LOG(2))","v":0.25702791560695737},null,null,null,"U2=",{"$f":"AB15/(LOG(AB4)/LOG(2))","v":0.23844700867412469},null,null,null,"U3=",{"$f":"AG15/(LOG(AG4)/LOG(2))","v":0.23683648570989466},null,null,null,"U4=",{"$f":"AL15/(LOG(AL4)/LOG(2))","v":0.25941185574001963},null,null,null,"U5=",{"$f":"AQ15/(LOG(AQ4)/LOG(2))","v":0.3056714292289433},null,null,null,"U6=",{"$f":"AV15/(LOG(AV4)/LOG(2))","v":0.21037118711944128}]
[22,1283,13,1294,14,1300,null,null,null,null,0,211]
[22,1405,13,1419,14,1430,null,null,null,null,0,211]
[22,1531,13,1551,14,1558,null,null,null,null,0,211,null,"Total Target Seq"]
[11,1666,11,1672,12,1681,null,null,null,null,0,111,null,{"$f":"COUNTIF(L7:L189,G3)","v":0},null,31,30,31,30,31,30]
[22,1785,13,1793,14,1801,null,null,null,null,0,211,null,null,null,"% of reinforcement given in 6 equal intervals based on number of trials "]
[22,1895,13,1906,14,1911,null,null,null,null,0,211,null,null,null,"%_1","%_2","%_3","%_4","%_5","%_6"]
[11,2023,11,2028,12,2037,null,null,null,null,0,111,null,null,"target sequence",{"$f":"$G$3","v":122},{"$f":"$G$3","v":122},{"$f":"$G$3","v":122},{"$f":"$G$3","v":122},{"$f":"$G$3","v":122},{"$f":"$G$3","v":122}]
[22,2134,24,2152,14,2159,null,null,null,null,0,221,null,null,"total reinforcement",{"$f":"U10","v":0},{"$f":"Z10","v":0},{"$f":"AE10","v":0},{"$f":"AJ10","v":0},{"$f":"AO10","v":0},{"$f":"AT10","v":0}]
[11,2263,11,2269,12,2279,null,null,null,null,0,111,null,null,"% target"]
[22,2381,24,2404,14,2415,null,null,null,null,0,221,null,null,"CCRF"]
[22,2520,13,2533,14,2538,null,null,null,null,0,211,null,null,"% CCRf"]
[11,2652,11,2660,12,2672,null,null,null,null,0,111,null,null,"average response rate",{"$f":"F37/P20","v":122.83870967741936},{"$f":"(F67-F37)/Q20","v":129.26666666666668},{"$f":"(F98-F67)/R20","v":130.09677419354838},{"$f":"(F128-F98)/S20","v":129.56666666666666},{"$f":"(F159-F128)/T20","v":134.74193548387098},{"$f":"(F189-F159)/U20","v":139.56666666666666}]
[11,2783,11,2792,12,2805,null,null,null,null,0,111]
[22,2901,13,2913,14,2921,null,null,null,null,0,211]
[11,3039,11,3046,12,3058,null,null,null,null,0,111]
[11,3184,11,3192,12,3202,null,null,null,null,0,111]
[22,3307,13,3318,14,3324,null,null,null,null,0,211]
[22,3422,13,3434,14,3440,null,null,null,null,0,211]
[11,3553,11,3559,12,3569,null,null,null,null,0,111]
[22,3669,13,3680,14,3687,null,null,null,null,0,211]
[22,3790,13,3800,14,3808,null,null,null,null,0,211]
[11,3924,11,3930,12,3940,null,null,null,null,0,111]
[11,4056,11,4062,12,4072,null,null,null,null,0,111]
[22,4191,13,4202,14,4216,null,null,null,null,0,211]
[11,4332,11,4337,12,4346,null,null,null,null,0,111]
[22,4449,13,4468,14,4476,null,null,null,null,0,211]
[22,4578,13,4595,14,4602,null,null,null,null,0,211]
[11,4716,11,4721,12,4731,null,null,null,null,0,111]
[11,4838,11,4846,12,4854,null,null,null,null,0,111]
[22,4958,13,4971,14,4981,null,null,null,null,0,211]
[22,5100,13,5111,14,5118,null,null,null,null,0,211]
[11,5228,11,5232,12,5241,null,null,null,null,0,111]
[11,5351,11,5359,12,5367,null,null,null,null,0,111]
[22,5473,13,5485,14,5490,null,null,null,null,0,211]
[22,5589,13,5600,14,5606,null,null,null,null,0,211]
[11,5716,11,5720,12,5729,null,null,null,null,0,111]
[22,5850,13,5862,14,5870,null,null,null,null,0,211]
[22,5998,13,6008,14,6016,null,null,null,null,0,211]
[22,6118,13,6127,14,6133,null,null,null,null,0,211]
[22,6228,13,6242,14,6249,null,null,null,null,0,211]
[11,6363,11,6371,12,6381,null,null,null,null,0,111]
[11,6505,11,6513,12,6524,null,null,null,null,0,111]
[22,6622,13,6632,14,6639,null,null,null,null,0,211]
[11,6764,11,6772,12,6782,null,null,null,null,0,111]
[22,6883,24,6902,14,6913,null,null,null,null,0,221]
[11,7021,11,7028,12,7040,null,null,null,null,0,111]
[11,7156,11,7164,12,7174,null,null,null,null,0,111]
[22,7278,13,7286,14,7291,null,null,null,null,0,211]
[11,7412,11,7419,12,7430,null,null,null,null,0,111]
[11,7550,11,7554,12,7561,null,null,null,null,0,111]
[11,7673,11,7678,12,7686,null,null,null,null,0,111]
[11,7792,11,7796,12,7804,null,null,null,null,0,111]
[11,7916,11,7921,12,7929,null,null,null,null,0,111]
[22,8049,13,8057,14,8064,null,null,null,null,0,211]
[11,8175,11,8180,12,8189,null,null,null,null,0,111]
[22,8301,13,8313,14,8321,null,null,null,null,0,211]
[11,8431,11,8436,12,8444,null,null,null,null,0,111]
[11,8565,11,8572,12,8584,null,null,null,null,0,111]
[22,8684,13,8696,14,8701,null,null,null,null,0,211]
[22,8802,13,8828,14,8839,null,null,null,null,0,211]
[22,8952,13,8962,14,8968,null,null,null,null,0,211]
[22,9066,13,9087,14,9094,null,null,null,null,0,211]
[11,9206,11,9211,12,9221,null,null,null,null,0,111]
[11,9336,11,9342,12,9350,null,null,null,null,0,111]
[11,9467,11,9474,12,9484,null,null,null,null,0,111]
[22,9618,13,9627,14,9633,null,null,null,null,0,211]
[22,9738,13,9749,14,9756,null,null,null,null,0,211]
[11,9886,11,9893,12,9905,null,null,null,null,0,111]
[22,10002,24,10016,14,10027,null,null,null,null,0,221]
[22,10129,13,10137,14,10143,null,null,null,null,0,211]
[11,10295,11,10305,12,10313,null,null,null,null,0,111]
[11,10441,11,10456,12,10467,null,null,null,null,0,111]
[22,10568,13,10576,14,10581,null,null,null,null,0,211]
[22,10679,13,10690,14,10697,null,null,null,null,0,211]
[11,10818,11,10823,12,10831,null,null,null,null,0,111]
[22,10932,13,10945,14,10950,null,null,null,null,0,211]
[11,11061,11,11068,12,11079,null,null,null,null,0,111]
[11,11189,11,11194,12,11201,null,null,null,null,0,111]
[22,11326,13,11336,14,11344,null,null,null,null,0,211]
[11,11460,11,11467,12,11478,null,null,null,null,0,111]
[22,11587,13,11597,14,11601,null,null,null,null,0,211]
[22,11703,13,11711,14,11719,null,null,null,null,0,211]
[22,11822,13,11831,14,11838,null,null,null,null,0,211]
[22,11976,13,11984,14,11991,null,null,null,null,0,211]
[22,12099,13,12107,14,12112,null,null,null,null,0,211]
[22,12213,13,12222,14,12229,null,null,null,null,0,211]
[11,12352,11,12359,12,12370,null,null,null,null,0,111]
[11,12491,11,12498,12,12509,null,null,null,null,0,111]
[11,12622,11,12627,12,12637,null,null,null,null,0,111]
[22,12746,13,12758,14,12764,null,null,null,null,0,211]
[22,12861,13,12869,14,12874,null,null,null,null,0,211]
[11,12983,11,12990,12,12998,null,null,null,null,0,111]
[11,13125,11,13131,12,13139,null,null,null,null,0,111]
[22,13239,13,13247,14,13252,null,null,null,null,0,211]
[22,13359,13,13370,14,13377,null,null,null,null,0,211]
[22,13481,13,13491,14,13498,null,null,null,null,0,211]
[11,13614,11,13621,12,13632,null,null,null,null,0,111]
[22,13736,13,13745,14,13751,null,null,null,null,0,211]
[22,13850,24,13866,14,13876,null,null,null,null,0,221]
[22,13977,13,13985,14,13991,null,null,null,null,0,211]
[22,14108,13,14115,14,14120,null,null,null,null,0,211]
[11,14251,11,14259,12,14270,null,null,null,null,0,111]
[11,14378,11,14386,12,14397,null,null,null,null,0,111]
[22,14519,13,14527,14,14534,null,null,null,null,0,211]
[11,14653,11,14658,12,14667,null,null,null,null,0,111]
[11,14789,11,14796,12,14806,null,null,null,null,0,111]
[22,14925,13,14933,14,14937,null,null,null,null,0,211]
[22,15066,13,15073,14,15080,null,null,null,null,0,211]
[22,15183,13,15209,14,15215,null,null,null,null,0,211]
[22,15311,24,15328,14,15339,null,null,null,null,0,221]
[11,15463,11,15468,12,15476,null,null,null,null,0,111]
[11,15593,11,15598,12,15606,null,null,null,null,0,111]
[11,15730,11,15737,12,15745,null,null,null,null,0,111]
[22,15849,24,15868,14,15877,null,null,null,null,0,221]
[11,16001,11,16006,12,16017,null,null,null,null,0,111]
[22,16132,24,16148,14,16156,null,null,null,null,0,221]
[22,16266,13,16274,14,16280,null,null,null,null,0,211]
[22,16380,24,16394,14,16404,null,null,null,null,0,221]
[11,16529,11,16537,12,16547,null,null,null,null,0,111]
[22,16664,13,16674,14,16684,null,null,null,null,0,211]
[11,16829,11,16836,12,16848,null,null,null,null,0,111]
[11,16961,11,16965,12,16976,null,null,null,null,0,111]
[11,17089,11,17095,12,17103,null,null,null,null,0,111]
[22,17230,13,17241,14,17248,null,null,null,null,0,211]
[11,17358,11,17363,12,17371,null,null,null,null,0,111]
[22,17473,13,17499,14,17506,null,null,null,null,0,211]
[22,17605,24,17622,14,17632,null,null,null,null,0,221]
[22,17753,13,17761,14,17766,null,null,null,null,0,211]
[22,17867,13,17882,14,17893,null,null,null,null,0,211]
[22,17999,13,18007,14,18012,null,null,null,null,0,211]
[11,18134,11,18139,12,18147,null,null,null,null,0,111]
[11,18256,11,18261,12,18270,null,null,null,null,0,111]
[22,18375,24,18389,14,18399,null,null,null,null,0,221]
[11,18523,11,18530,12,18540,null,null,null,null,0,111]
[22,18636,13,18664,14,18668,null,null,null,null,0,211]
[11,18838,11,18845,12,18855,null,null,null,null,0,111]
[22,18952,13,18965,14,18971,null,null,null,null,0,211]
[22,19091,13,19102,14,19108,null,null,null,null,0,211]
[22,19209,24,19223,14,19234,null,null,null,null,0,221]
[11,19365,11,19372,12,19382,null,null,null,null,0,111]
[22,19488,13,19498,14,19504,null,null,null,null,0,211]
[22,19620,13,19631,14,19639,null,null,null,null,0,211]
[11,19768,11,19774,12,19783,null,null,null,null,0,111]
[22,19889,13,19908,14,19914,null,null,null,null,0,211]
[22,20042,13,20049,14,20054,null,null,null,null,0,211]
[11,20174,11,20180,12,20191,null,null,null,null,0,111]
[22,20296,24,20312,14,20322,null,null,null,null,0,221]
[22,20445,13,20455,14,20463,null,null,null,null,0,211]
[11,20593,11,20598,12,20608,null,null,null,null,0,111]
[22,20724,13,20731,14,20736,null,null,null,null,0,211]
[22,20837,13,20848,14,20856,null,null,null,null,0,211]
[22,20970,13,20981,14,20988,null,null,null,null,0,211]
[22,21093,13,21101,14,21108,null,null,null,null,0,211]
[11,21245,11,21253,12,21267,null,null,null,null,0,111]
[22,21369,13,21379,14,21385,null,null,null,null,0,211]
[22,21495,13,21507,14,21515,null,null,null,null,0,211]
[22,21632,13,21642,14,21649,null,null,null,null,0,211]
[22,21751,13,21775,14,21782,null,null,null,null,0,211]
[22,21909,13,21919,14,21929,null,null,null,null,0,211]
[11,22062,11,22067,12,22078,null,null,null,null,0,111]
[22,22228,13,22239,14,22250,null,null,null,null,0,211]
[11,22370,11,22377,12,22387,null,null,null,null,0,111]
[11,22500,11,22541,12,22548,null,null,null,null,0,111]
[22,22654,13,22669,14,22676,null,null,null,null,0,211]
[11,22826,11,22837,12,22848,null,null,null,null,0,111]
[22,22966,13,22974,14,22979,null,null,null,null,0,211]
[22,23085,13,23096,14,23101,null,null,null,null,0,211]
[22,23203,13,23214,14,23219,null,null,null,null,0,211]
[22,23323,13,23334,14,23339,null,null,null,null,0,211]
[22,23443,13,23465,14,23469,null,null,null,null,0,211]
[22,23666,13,23677,14,23686,null,null,null,null,0,211]
[11,23818,11,23824,12,23832,null,null,null,null,0,111]
[22,23941,13,23959,14,23970,null,null,null,null,null,211]

{"sheet":"!MA20A40.095","index":10,"n_rows":181,"n_cols":48,"rows_kept":181,"cut":false,"hidden":false,"merged":[[4,39,4,42],[5,39,5,40],[4,44,4,47],[5,44,5,45],[4,24,4,27],[5,24,5,25],[4,29,4,32],[5,29,5,30],[4,34,4,37],[5,34,5,35],[1,1,1,2],[5,13,5,14],[18,13,18,14],[19,13,19,14],[4,19,4,22],[5,19,5,20]]}
["Report for:!MA20A40.095"]
["Date:","<date>"]
["Hen:","<hen>",null,null,null,"Correct Sequence",{"$f":"Start!J2","v":122},null,null,null,null,null,null,null,null,"Total Sequences in Data",{"$f":"4994-COUNTBLANK(L7:L5000)","v":175},null,null,null,null,"Total Sequences in Block Data",{"$f":"COUNTA(L7:L35)","v":29},null,null,null,"Total Sequences in Block Data",{"$f":"COUNTA(L36:L64)","v":29},null,null,null,"Total Sequences in Block Data",{"$f":"COUNTA(L65:L94)","v":30},null,null,null,"Total Sequences in Block Data",{"$f":"COUNTA(L95:L123)","v":29},null,null,null,"Total Sequences in Block Data",{"$f":"COUNTA(L124:L152)","v":29},null,null,null,"Total Sequences in Block Data",{"$f":"COUNTA(L153:L181)","v":29}]
[null,null,null,null,null,null,null,null,null,null,null,null,null,null,null,"Total Sequences in Summary",{"$f":"SUM(O7:O14)","v":175},null,null,null,null,"Total Sequences in Block Summary",{"$f":"SUM(U7:U14)","v":29},null,null,null,"Total Sequences in Block Summary",{"$f":"SUM(Z7:Z14)","v":29},null,null,null,"Total Sequences in Block Summary",{"$f":"SUM(AE7:AE14)","v":30},null,null,null,"Total Sequences in Block Summary",{"$f":"SUM(AJ7:AJ14)","v":29},null,null,null,"Total Sequences in Block Summary",{"$f":"SUM(AO7:AO14)","v":29},null,null,null,"Total Sequences in Block Summary",{"$f":"SUM(AT7:AT14)","v":29}]
[null,null,null,null,null,null,null,null,null,null,null,null,null,null,null,null,null,null,null,"Block 1",null,null,null,null,"Block 2",null,null,null,null,"Block 3",null,null,null,null,"Block 4",null,null,null,null,"Block 5",null,null,null,null,"Block 6"]
["Sequence\nComponent\n1","Time\n1","Sequence\nComponent\n2","Time\n2","Sequence\nComponent\n3","Time\n3","Sequence\nComponent\n4","Time\n4","Sequence\nComponent\n5","Time\n5","Correct?\n0=No 1=Yes","Sequence",null,"Frequency",null,"Relative Frequency","Variability",null,null,"Frequency",null,"Relative Frequency","Variability",null,"Frequency",null,"Relative Frequency","Variability",null,"Frequency",null,"Relative Frequency","Variability",null,"Frequency",null,"Relative Frequency","Variability",null,"Frequency",null,"Relative Frequency","Variability",null,"Frequency",null,"Relative Frequency","Variability"]
[11,34,11,43,12,55,null,null,null,null,0,111,null,111,{"$f":"COUNTIF($L$7:$L$500,N7)","v":55},{"$f":"O7/$Q$4","v":0.31428571428571428},{"$f":"IF(P7=0,0,(P7*((LOG(P7))/LOG(2))))","v":-0.52481043946812467},null,null,{"$f":"N7","v":111},{"$f":"COUNTIF(L7:L35,T7)","v":13},{"$f":"U7/(W4-U10)","v":0.44827586206896552},{"$f":"IF(V7=0,0,(V7*((LOG(V7))/LOG(2))))","v":-0.51889781382152544},null,{"$f":"N7","v":111},{"$f":"COUNTIF(L36:L64,Y7)","v":8},{"$f":"Z7/(AB4-Z10)","v":0.27586206896551724},{"$f":"IF(AA7=0,0,(AA7*((LOG(AA7))/LOG(2))))","v":-0.51254648141450265},null,{"$f":"N7","v":111},{"$f":"COUNTIF(L65:L94,AD7)","v":8},{"$f":"AE7/(AG4-AE10)","v":0.26666666666666666},{"$f":"IF(AF7=0,0,(AF7*((LOG(AF7))/LOG(2))))","v":-0.50850415882893829},null,{"$f":"N7","v":111},{"$f":"COUNTIF(L95:L123,AI7)","v":16},{"$f":"AJ7/(AL4-AJ10)","v":0.55172413793103448},{"$f":"IF(AK7=0,0,(AK7*((LOG(AK7))/LOG(2))))","v":-0.47336882489797077},null,{"$f":"N7","v":111},{"$f":"COUNTIF(L124:L152,AN7)","v":5},{"$f":"AO7/(AQ4-AO10)","v":0.17241379310344829},{"$f":"IF(AP7=0,0,(AP7*((LOG(AP7))/LOG(2))))","v":-0.43725050004141547},null,{"$f":"N7","v":111},{"$f":"COUNTIF(L153:L181,AS7)","v":5},{"$f":"AT7/(AV4-AT10)","v":0.17241379310344829},{"$f":"IF(AU7=0,0,(AU7*((LOG(AU7))/LOG(2))))","v":-0.43725050004141547}]
[22,162,24,183,14,191,null,null,null,null,0,221,null,112,{"$f":"COUNTIF($L$7:$L$500,N8)","v":0},{"$f":"O8/$Q$4","v":0},{"$f":"IF(P8=0,0,(P8*((LOG(P8))/LOG(2))))","v":0},null,null,{"$f":"N8","v":112},{"$f":"COUNTIF(L7:L35,T8)","v":0},{"$f":"U8/(W4-U10)","v":0},{"$f":"IF(V8=0,0,(V8*((LOG(V8))/LOG(2))))","v":0},null,{"$f":"N8","v":112},{"$f":"COUNTIF(L36:L64,Y8)","v":0},{"$f":"Z8/(AB4-Z10)","v":0},{"$f":"IF(AA8=0,0,(AA8*((LOG(AA8))/LOG(2))))","v":0},null,{"$f":"N8","v":112},{"$f":"COUNTIF(L65:L94,AD8)","v":0},{"$f":"AE8/(AG4-AE10)","v":0},{"$f":"IF(AF8=0,0,(AF8*((LOG(AF8))/LOG(2))))","v":0},null,{"$f":"N8","v":112},{"$f":"COUNTIF(L95:L123,AI8)","v":0},{"$f":"AJ8/(AL4-AJ10)","v":0},{"$f":"IF(AK8=0,0,(AK8*((LOG(AK8))/LOG(2))))","v":0},null,{"$f":"N8","v":112},{"$f":"COUNTIF(L124:L152,AN8)","v":0},{"$f":"AO8/(AQ4-AO10)","v":0},{"$f":"IF(AP8=0,0,(AP8*((LOG(AP8))/LOG(2))))","v":0},null,{"$f":"N8","v":112},{"$f":"COUNTIF(L153:L181,AS8)","v":0},{"$f":"AT8/(AV4-AT10)","v":0},{"$f":"IF(AU8=0,0,(AU8*((LOG(AU8))/LOG(2))))","v":0}]
[11,317,11,325,12,336,null,null,null,null,0,111,null,121,{"$f":"COUNTIF($L$7:$L$500,N9)","v":0},{"$f":"O9/$Q$4","v":0},{"$f":"IF(P9=0,0,(P9*((LOG(P9))/LOG(2))))","v":0},null,null,{"$f":"N9","v":121},{"$f":"COUNTIF(L7:L35,T9)","v":0},{"$f":"U9/(W4-U10)","v":0},{"$f":"IF(V9=0,0,(V9*((LOG(V9))/LOG(2))))","v":0},null,{"$f":"N9","v":121},{"$f":"COUNTIF(L36:L64,Y9)","v":0},{"$f":"Z9/(AB4-Z10)","v":0},{"$f":"IF(AA9=0,0,(AA9*((LOG(AA9))/LOG(2))))","v":0},null,{"$f":"N9","v":121},{"$f":"COUNTIF(L65:L94,AD9)","v":0},{"$f":"AE9/(AG4-AE10)","v":0},{"$f":"IF(AF9=0,0,(AF9*((LOG(AF9))/LOG(2))))","v":0},null,{"$f":"N9","v":121},{"$f":"COUNTIF(L95:L123,AI9)","v":0},{"$f":"AJ9/(AL4-AJ10)","v":0},{"$f":"IF(AK9=0,0,(AK9*((LOG(AK9))/LOG(2))))","v":0},null,{"$f":"N9","v":121},{"$f":"COUNTIF(L124:L152,AN9)","v":0},{"$f":"AO9/(AQ4-AO10)","v":0},{"$f":"IF(AP9=0,0,(AP9*((LOG(AP9))/LOG(2))))","v":0},null,{"$f":"N9","v":121},{"$f":"COUNTIF(L153:L181,AS9)","v":0},{"$f":"AT9/(AV4-AT10)","v":0},{"$f":"IF(AU9=0,0,(AU9*((LOG(AU9))/LOG(2))))","v":0}]
[11,453,11,460,12,471,null,null,null,null,0,111,null,122,{"$f":"COUNTIF($L$7:$L$500,N10)","v":0},{"$f":"O10/$Q$4","v":0},{"$f":"IF(P10=0,0,(P10*((LOG(P10))/LOG(2))))","v":0},null,null,{"$f":"N10","v":122},{"$f":"COUNTIF(L7:L35,T10)","v":0},null,null,null,{"$f":"N10","v":122},{"$f":"COUNTIF(L36:L64,Y10)","v":0},null,null,null,{"$f":"N10","v":122},{"$f":"COUNTIF(L65:L94,AD10)","v":0},null,null,null,{"$f":"N10","v":122},{"$f":"COUNTIF(L95:L123,AI10)","v":0},null,null,null,{"$f":"N10","v":122},{"$f":"COUNTIF(L124:L152,AN10)","v":0},null,null,null,{"$f":"N10","v":122},{"$f":"COUNTIF(L153:L181,AS10)","v":0}]
[11,594,11,602,12,614,null,null,null,null,0,111,null,211,{"$f":"COUNTIF($L$7:$L$500,N11)","v":91},{"$f":"O11/$Q$4","v":0.52},{"$f":"IF(P11=0,0,(P11*((LOG(P11))/LOG(2))))","v":-0.49057656524948895},null,null,{"$f":"N11","v":211},{"$f":"COUNTIF(L7:L35,T11)","v":11},{"$f":"U11/(W4-U10)","v":0.37931034482758619},{"$f":"IF(V11=0,0,(V11*((LOG(V11))/LOG(2))))","v":-0.53048424625493174},null,{"$f":"N11","v":211},{"$f":"COUNTIF(L36:L64,Y11)","v":15},{"$f":"Z11/(AB4-Z10)","v":0.51724137931034486},{"$f":"IF(AA11=0,0,(AA11*((LOG(AA11))/LOG(2))))","v":-0.49194331009606224},null,{"$f":"N11","v":211},{"$f":"COUNTIF(L65:L94,AD11)","v":18},{"$f":"AE11/(AG4-AE10)","v":0.6},{"$f":"IF(AF11=0,0,(AF11*((LOG(AF11))/LOG(2))))","v":-0.44217935649972373},null,{"$f":"N11","v":211},{"$f":"COUNTIF(L95:L123,AI11)","v":10},{"$f":"AJ11/(AL4-AJ10)","v":0.34482758620689657},{"$f":"IF(AK11=0,0,(AK11*((LOG(AK11))/LOG(2))))","v":-0.52967341387593436},null,{"$f":"N11","v":211},{"$f":"COUNTIF(L124:L152,AN11)","v":19},{"$f":"AO11/(AQ4-AO10)","v":0.65517241379310343},{"$f":"IF(AP11=0,0,(AP11*((LOG(AP11))/LOG(2))))","v":-0.39969021213778433},null,{"$f":"N11","v":211},{"$f":"COUNTIF(L153:L181,AS11)","v":18},{"$f":"AT11/(AV4-AT10)","v":0.62068965517241381},{"$f":"IF(AU11=0,0,(AU11*((LOG(AU11))/LOG(2))))","v":-0.4270692374598164}]
[22,764,13,773,14,781,null,null,null,null,0,211,null,212,{"$f":"COUNTIF($L$7:$L$500,N12)","v":0},{"$f":"O12/$Q$4","v":0},{"$f":"IF(P12=0,0,(P12*((LOG(P12))/LOG(2))))","v":0},null,null,{"$f":"N12","v":212},{"$f":"COUNTIF(L7:L35,T12)","v":0},{"$f":"U12/(W4-U10)","v":0},{"$f":"IF(V12=0,0,(V12*((LOG(V12))/LOG(2))))","v":0},null,{"$f":"N12","v":212},{"$f":"COUNTIF(L36:L64,Y12)","v":0},{"$f":"Z12/(AB4-Z10)","v":0},{"$f":"IF(AA12=0,0,(AA12*((LOG(AA12))/LOG(2))))","v":0},null,{"$f":"N12","v":212},{"$f":"COUNTIF(L65:L94,AD12)","v":0},{"$f":"AE12/(AG4-AE10)","v":0},{"$f":"IF(AF12=0,0,(AF12*((LOG(AF12))/LOG(2))))","v":0},null,{"$f":"N12","v":212},{"$f":"COUNTIF(L95:L123,AI12)","v":0},{"$f":"AJ12/(AL4-AJ10)","v":0},{"$f":"IF(AK12=0,0,(AK12*((LOG(AK12))/LOG(2))))","v":0},null,{"$f":"N12","v":212},{"$f":"COUNTIF(L124:L152,AN12)","v":0},{"$f":"AO12/(AQ4-AO10)","v":0},{"$f":"IF(AP12=0,0,(AP12*((LOG(AP12))/LOG(2))))","v":0},null,{"$f":"N12","v":212},{"$f":"COUNTIF(L153:L181,AS12)","v":0},{"$f":"AT12/(AV4-AT10)","v":0},{"$f":"IF(AU12=0,0,(AU12*((LOG(AU12))/LOG(2))))","v":0}]
[22,886,13,895,14,904,null,null,null,null,0,211,null,221,{"$f":"COUNTIF($L$7:$L$500,N13)","v":28},{"$f":"O13/$Q$4","v":0.16},{"$f":"IF(P13=0,0,(P13*((LOG(P13))/LOG(2))))","v":-0.42301699036395596},null,null,{"$f":"N13","v":221},{"$f":"COUNTIF(L7:L35,T13)","v":5},{"$f":"U13/(W4-U10)","v":0.17241379310344829},{"$f":"IF(V13=0,0,(V13*((LOG(V13))/LOG(2))))","v":-0.43725050004141547},null,{"$f":"N13","v":221},{"$f":"COUNTIF(L36:L64,Y13)","v":6},{"$f":"Z13/(AB4-Z10)","v":0.20689655172413793},{"$f":"IF(AA13=0,0,(AA13*((LOG(AA13))/LOG(2))))","v":-0.4702796884978791},null,{"$f":"N13","v":221},{"$f":"COUNTIF(L65:L94,AD13)","v":4},{"$f":"AE13/(AG4-AE10)","v":0.13333333333333333},{"$f":"IF(AF13=0,0,(AF13*((LOG(AF13))/LOG(2))))","v":-0.3875854127478025},null,{"$f":"N13","v":221},{"$f":"COUNTIF(L95:L123,AI13)","v":3},{"$f":"AJ13/(AL4-AJ10)","v":0.10344827586206896},{"$f":"IF(AK13=0,0,(AK13*((LOG(AK13))/LOG(2))))","v":-0.33858812011100858},null,{"$f":"N13","v":221},{"$f":"COUNTIF(L124:L152,AN13)","v":5},{"$f":"AO13/(AQ4-AO10)","v":0.17241379310344829},{"$f":"IF(AP13=0,0,(AP13*((LOG(AP13))/LOG(2))))","v":-0.43725050004141547},null,{"$f":"N13","v":221},{"$f":"COUNTIF(L153:L181,AS13)","v":5},{"$f":"AT13/(AV4-AT10)","v":0.17241379310344829},{"$f":"IF(AU13=0,0,(AU13*((LOG(AU13))/LOG(2))))","v":-0.43725050004141547}]
[11,1018,11,1027,12,1038,null,null,null,null,0,111,null,222,{"$f":"COUNTIF($L$7:$L$500,N14)","v":1},{"$f":"O14/$Q$4","v":5.7142857142857143E-3},{"$f":"IF(P14=0,0,(P14*((LOG(P14))/LOG(2))))","v":-4.2578349210470448E-2},null,null,{"$f":"N14","v":222},{"$f":"COUNTIF(L7:L35,T14)","v":0},{"$f":"U14/(W4-U10)","v":0},{"$f":"IF(V14=0,0,(V14*((LOG(V14))/LOG(2))))","v":0},null,{"$f":"N14","v":222},{"$f":"COUNTIF(L36:L64,Y14)","v":0},{"$f":"Z14/(AB4-Z10)","v":0},{"$f":"IF(AA14=0,0,(AA14*((LOG(AA14))/LOG(2))))","v":0},null,{"$f":"N14","v":222},{"$f":"COUNTIF(L65:L94,AD14)","v":0},{"$f":"AE14/(AG4-AE10)","v":0},{"$f":"IF(AF14=0,0,(AF14*((LOG(AF14))/LOG(2))))","v":0},null,{"$f":"N14","v":222},{"$f":"COUNTIF(L95:L123,AI14)","v":0},{"$f":"AJ14/(AL4-AJ10)","v":0},{"$f":"IF(AK14=0,0,(AK14*((LOG(AK14))/LOG(2))))","v":0},null,{"$f":"N14","v":222},{"$f":"COUNTIF(L124:L152,AN14)","v":0},{"$f":"AO14/(AQ4-AO10)","v":0},{"$f":"IF(AP14=0,0,(AP14*((LOG(AP14))/LOG(2))))","v":0},null,{"$f":"N14","v":222},{"$f":"COUNTIF(L153:L181,AS14)","v":1},{"$f":"AT14/(AV4-AT10)","v":3.4482758620689655E-2},{"$f":"IF(AU14=0,0,(AU14*((LOG(AU14))/LOG(2))))","v":-0.16751658603888178}]
[11,1165,11,1172,12,1184,null,null,null,null,0,111,null,null,null,{"$f":"SUM(P7:P14)","v":1},{"$f":"-SUM(Q7:Q14)","v":1.4809823442920402},null,null,null,null,{"$f":"SUM(V7:V14)","v":1},{"$f":"-SUM(W7:W14)","v":1.4866325601178727},null,null,null,{"$f":"SUM(AA7:AA14)","v":1},{"$f":"-SUM(AB7:AB14)","v":1.4747694800084439},null,null,null,{"$f":"SUM(AF7:AF14)","v":1},{"$f":"-SUM(AG7:AG14)","v":1.3382689280764646},null,null,null,{"$f":"SUM(AK7:AK14)","v":1},{"$f":"-SUM(AL7:AL14)","v":1.3416303588849137},null,null,null,{"$f":"SUM(AP7:AP14)","v":1},{"$f":"-SUM(AQ7:AQ14)","v":1.2741912122206154},null,null,null,{"$f":"SUM(AU7:AU14)","v":1},{"$f":"-SUM(AV7:AV14)","v":1.4690868235815293}]
[11,1305,11,1312,12,1323,null,null,null,null,0,111,null,null,null,"U=",{"$f":"Q15/(LOG(Q4)/LOG(2))","v":0.19875726537130037},null,null,null,null,"U1=",{"$f":"W15/(LOG(W4)/LOG(2))","v":0.30601860353281052},null,null,null,"U2=",{"$f":"AB15/(LOG(AB4)/LOG(2))","v":0.30357662606906022},null,null,null,"U3=",{"$f":"AG15/(LOG(AG4)/LOG(2))","v":0.27273257921710431},null,null,null,"U4=",{"$f":"AL15/(LOG(AL4)/LOG(2))","v":0.27617035970921539},null,null,null,"U5=",{"$f":"AQ15/(LOG(AQ4)/LOG(2))","v":0.26228822498453491},null,null,null,"U6=",{"$f":"AV15/(LOG(AV4)/LOG(2))","v":0.30240686924361893}]
[11,1443,11,1449,12,1460,null,null,null,null,0,111]
[22,1566,13,1579,14,1587,null,null,null,null,0,211]
[11,1721,11,1730,12,1742,null,null,null,null,0,111,null,"Total Target Seq"]
[22,1849,24,1866,14,1878,null,null,null,null,0,221,null,{"$f":"COUNTIF(L7:L181,G3)","v":0},null,29,29,30,29,29,29]
[22,1991,24,2005,14,2015,null,null,null,null,0,221,null,null,null,"% of reinforcement given in 6 equal intervals based on number of trials "]
[22,2110,13,2129,14,2142,null,null,null,null,0,211,null,null,null,"%_1","%_2","%_3","%_4","%_5","%_6"]
[22,2242,13,2274,14,2282,null,null,null,null,0,211,null,null,"target sequence",{"$f":"$G$3","v":122},{"$f":"$G$3","v":122},{"$f":"$G$3","v":122},{"$f":"$G$3","v":122},{"$f":"$G$3","v":122},{"$f":"$G$3","v":122}]
[11,2412,11,2419,12,2431,null,null,null,null,0,111,null,null,"total reinforcement",{"$f":"U10","v":0},{"$f":"Z10","v":0},{"$f":"AE10","v":0},{"$f":"AJ10","v":0},{"$f":"AO10","v":0},{"$f":"AT10","v":0}]
[22,2534,24,2549,14,2561,null,null,null,null,0,221,null,null,"% target"]
[22,2673,13,2686,14,2693,null,null,null,null,0,211,null,null,"CCRF"]
[11,2817,11,2825,12,2838,null,null,null,null,0,111,null,null,"% CCRf"]
[11,2965,11,2985,12,2995,null,null,null,null,0,111,null,null,"average response rate",{"$f":"F35/P20","v":137.48275862068965},{"$f":"(F64-F35)/Q20","v":138.65517241379311},{"$f":"(F94-F64)/R20","v":134.23333333333332},{"$f":"(F123-F94)/S20","v":133.27586206896552},{"$f":"(F152-F123)/T20","v":138.17241379310346},{"$f":"(F181-F152)/U20","v":139.06896551724137}]
[22,3094,24,3102,14,3115,null,null,null,null,0,221]
[22,3234,13,3243,14,3254,null,null,null,null,0,211]
[22,3367,13,3380,14,3391,null,null,null,null,0,211]
[22,3495,13,3514,14,3521,null,null,null,null,0,211]
[11,3644,11,3651,12,3663,null,null,null,null,0,111]
[22,3817,13,3829,14,3837,null,null,null,null,0,211]
[22,3965,13,3976,14,3987,null,null,null,null,0,211]
[22,4101,24,4118,14,4131,null,null,null,null,0,221]
[11,4263,11,4272,12,4284,null,null,null,null,0,111]
[11,4398,11,4406,12,4417,null,null,null,null,0,111]
[22,4519,24,4535,14,4546,null,null,null,null,0,221]
[22,4641,24,4659,14,4670,null,null,null,null,0,221]
[22,4776,13,4802,14,4810,null,null,null,null,0,211]
[11,4928,11,4935,12,4947,null,null,null,null,0,111]
[22,5055,24,5063,14,5071,null,null,null,null,0,221]
[11,5186,11,5193,12,5203,null,null,null,null,0,111]
[11,5325,11,5332,12,5344,null,null,null,null,0,111]
[11,5466,11,5474,12,5486,null,null,null,null,0,111]
[22,5593,24,5608,14,5618,null,null,null,null,0,221]
[22,5724,13,5735,14,5741,null,null,null,null,0,211]
[22,5851,13,5870,14,5878,null,null,null,null,0,211]
[22,5991,13,6009,14,6016,null,null,null,null,0,211]
[22,6141,13,6149,14,6157,null,null,null,null,0,211]
[22,6277,13,6284,14,6291,null,null,null,null,0,211]
[22,6409,13,6421,14,6432,null,null,null,null,0,211]
[22,6557,13,6568,14,6577,null,null,null,null,0,211]
[22,6684,13,6715,14,6726,null,null,null,null,0,211]
[11,6862,11,6870,12,6881,null,null,null,null,0,111]
[22,7014,13,7039,14,7048,null,null,null,null,0,211]
[11,7189,11,7196,12,7208,null,null,null,null,0,111]
[22,7308,13,7317,14,7322,null,null,null,null,0,211]
[22,7445,13,7464,14,7473,null,null,null,null,0,211]
[22,7580,24,7598,14,7607,null,null,null,null,0,221]
[22,7716,13,7733,14,7741,null,null,null,null,0,211]
[22,7862,13,7873,14,7880,null,null,null,null,0,211]
[22,7981,13,8000,14,8008,null,null,null,null,0,211]
[22,8112,24,8123,14,8132,null,null,null,null,0,221]
[11,8259,11,8265,12,8276,null,null,null,null,0,111]
[22,8411,13,8423,14,8431,null,null,null,null,0,211]
[22,8537,13,8564,14,8571,null,null,null,null,0,211]
[22,8696,13,8703,14,8711,null,null,null,null,0,211]
[11,8824,11,8831,12,8842,null,null,null,null,0,111]
[22,8943,13,8952,14,8959,null,null,null,null,0,211]
[11,9080,11,9088,12,9099,null,null,null,null,0,111]
[22,9198,13,9222,14,9229,null,null,null,null,0,211]
[22,9334,24,9351,14,9362,null,null,null,null,0,221]
[11,9479,11,9486,12,9497,null,null,null,null,0,111]
[22,9605,24,9621,14,9631,null,null,null,null,0,221]
[22,9752,13,9763,14,9774,null,null,null,null,0,211]
[11,9912,11,9922,12,9933,null,null,null,null,0,111]
[22,10041,13,10049,14,10061,null,null,null,null,0,211]
[22,10157,13,10165,14,10178,null,null,null,null,0,211]
[22,10284,13,10309,14,10320,null,null,null,null,0,211]
[22,10422,13,10439,14,10444,null,null,null,null,0,211]
[11,10577,11,10585,12,10597,null,null,null,null,0,111]
[22,10698,13,10706,14,10712,null,null,null,null,0,211]
[22,10818,13,10836,14,10842,null,null,null,null,0,211]
[22,10949,13,10960,14,10966,null,null,null,null,0,211]
[11,11086,11,11095,12,11106,null,null,null,null,0,111]
[22,11204,24,11223,14,11233,null,null,null,null,0,221]
[22,11343,13,11352,14,11357,null,null,null,null,0,211]
[22,11472,13,11489,14,11496,null,null,null,null,0,211]
[11,11616,11,11623,12,11634,null,null,null,null,0,111]
[22,11738,13,11774,14,11786,null,null,null,null,0,211]
[22,11890,13,11901,14,11909,null,null,null,null,0,211]
[22,12011,13,12028,14,12035,null,null,null,null,0,211]
[22,12141,13,12148,14,12156,null,null,null,null,0,211]
[22,12257,24,12268,14,12279,null,null,null,null,0,221]
[11,12404,11,12411,12,12422,null,null,null,null,0,111]
[11,12543,11,12550,12,12561,null,null,null,null,0,111]
[11,12667,11,12672,12,12683,null,null,null,null,0,111]
[11,12814,11,12821,12,12831,null,null,null,null,0,111]
[22,12941,13,12950,14,12955,null,null,null,null,0,211]
[22,13053,13,13072,14,13079,null,null,null,null,0,211]
[11,13190,11,13195,12,13207,null,null,null,null,0,111]
[11,13334,11,13342,12,13352,null,null,null,null,0,111]
[11,13478,11,13485,12,13495,null,null,null,null,0,111]
[22,13601,13,13613,14,13620,null,null,null,null,0,211]
[22,13737,13,13745,14,13752,null,null,null,null,0,211]
[22,13859,13,13883,14,13894,null,null,null,null,0,211]
[11,14005,11,14012,12,14023,null,null,null,null,0,111]
[11,14155,11,14162,12,14173,null,null,null,null,0,111]
[11,14296,11,14302,12,14312,null,null,null,null,0,111]
[11,14435,11,14440,12,14450,null,null,null,null,0,111]
[11,14573,11,14578,12,14586,null,null,null,null,0,111]
[11,14712,11,14718,12,14726,null,null,null,null,0,111]
[22,14829,24,14841,14,14849,null,null,null,null,0,221]
[22,14967,13,14979,14,14988,null,null,null,null,0,211]
[22,15090,13,15106,14,15113,null,null,null,null,0,211]
[22,15214,24,15224,14,15235,null,null,null,null,0,221]
[22,15340,13,15349,14,15354,null,null,null,null,0,211]
[11,15464,11,15469,12,15477,null,null,null,null,0,111]
[22,15580,13,15592,14,15598,null,null,null,null,0,211]
[11,15718,11,15725,12,15735,null,null,null,null,0,111]
[11,15881,11,15888,12,15900,null,null,null,null,0,111]
[22,16002,13,16033,14,16043,null,null,null,null,0,211]
[22,16163,13,16170,14,16176,null,null,null,null,0,211]
[22,16335,13,16347,14,16358,null,null,null,null,0,211]
[22,16474,13,16482,14,16487,null,null,null,null,0,211]
[22,16583,24,16594,14,16613,null,null,null,null,0,221]
[22,16735,13,16749,14,16756,null,null,null,null,0,211]
[22,16868,13,16877,14,16887,null,null,null,null,0,211]
[22,16985,13,17002,14,17012,null,null,null,null,0,211]
[22,17115,24,17122,14,17134,null,null,null,null,0,221]
[22,17232,24,17243,14,17251,null,null,null,null,0,221]
[22,17363,13,17373,14,17383,null,null,null,null,0,211]
[11,17507,11,17514,12,17526,null,null,null,null,0,111]
[11,17651,11,17662,12,17674,null,null,null,null,0,111]
[22,17783,13,17806,14,17814,null,null,null,null,0,211]
[22,17919,13,17944,14,17956,null,null,null,null,0,211]
[22,18059,13,18070,14,18080,null,null,null,null,0,211]
[22,18192,13,18200,14,18207,null,null,null,null,0,211]
[11,18370,11,18380,12,18392,null,null,null,null,0,111]
[22,18516,13,18524,14,18531,null,null,null,null,0,211]
[11,18662,11,18670,12,18680,null,null,null,null,0,111]
[22,18777,13,18799,14,18811,null,null,null,null,0,211]
[22,18911,13,18940,14,18951,null,null,null,null,0,211]
[22,19067,13,19078,14,19088,null,null,null,null,0,211]
[22,19202,13,19215,14,19224,null,null,null,null,0,211]
[22,19328,13,19347,14,19355,null,null,null,null,0,211]
[11,19485,11,19495,12,19507,null,null,null,null,0,111]
[22,19616,13,19628,14,19636,null,null,null,null,0,211]
[22,19740,24,19749,14,19769,null,null,null,null,0,221]
[22,19874,24,19885,14,19907,null,null,null,null,0,221]
[22,20009,13,20030,14,20039,null,null,null,null,0,211]
[22,20143,13,20181,14,20191,null,null,null,null,0,211]
[22,20303,13,20321,14,20329,null,null,null,null,0,211]
[22,20427,13,20444,14,20453,null,null,null,null,0,211]
[11,20573,11,20582,12,20593,null,null,null,null,0,111]
[11,20718,11,20723,12,20733,null,null,null,null,0,111]
[22,20875,13,20886,14,20896,null,null,null,null,0,211]
[22,21011,13,21032,14,21041,null,null,null,null,0,211]
[22,21149,13,21160,14,21170,null,null,null,null,0,211]
[22,21275,24,21283,14,21298,null,null,null,null,0,221]
[22,21393,24,21403,14,21415,null,null,null,null,0,221]
[22,21522,13,21540,14,21548,null,null,null,null,0,211]
[22,21653,24,21660,14,21677,null,null,null,null,0,221]
[22,21802,13,21812,14,21821,null,null,null,null,0,211]
[22,21942,13,21953,14,21962,null,null,null,null,0,211]
[22,22074,13,22095,14,22102,null,null,null,null,0,211]
[22,22256,13,22269,14,22280,null,null,null,null,0,211]
[11,22413,11,22420,12,22429,null,null,null,null,0,111]
[22,22539,13,22551,14,22559,null,null,null,null,0,211]
[22,22666,24,22681,14,22691,null,null,null,null,0,221]
[22,22802,24,22817,23,22828,null,null,null,null,0,222]
[11,22962,11,22971,12,22981,null,null,null,null,0,111]
[22,23088,13,23106,14,23113,null,null,null,null,0,211]
[22,23216,13,23237,14,23244,null,null,null,null,0,211]
[22,23359,13,23370,14,23380,null,null,null,null,0,211]
[22,23475,13,23496,14,23508,null,null,null,null,0,211]
[11,23630,11,23637,12,23649,null,null,null,null,0,111]
[22,23760,24,23772,14,23783,null,null,null,null,0,221]
[22,23921,13,23932,14,23940,null,null,null,null,null,211]

{"sheet":"!MA21B10.095","index":11,"n_rows":165,"n_cols":48,"rows_kept":165,"cut":false,"hidden":false,"merged":[[4,39,4,42],[5,39,5,40],[4,44,4,47],[5,44,5,45],[4,24,4,27],[5,24,5,25],[4,29,4,32],[5,29,5,30],[4,34,4,37],[5,34,5,35],[1,1,1,2],[5,13,5,14],[18,13,18,14],[19,13,19,14],[4,19,4,22],[5,19,5,20]]}
["Report for:!MA21B10.095"]
["Date:","<date>"]
["Hen:","<hen>",null,null,null,"Correct Sequence",{"$f":"Start!J2","v":122},null,null,null,null,null,null,null,null,"Total Sequences in Data",{"$f":"4994-COUNTBLANK(L7:L5000)","v":159},null,null,null,null,"Total Sequences in Block Data",{"$f":"COUNTA(L7:L33)","v":27},null,null,null,"Total Sequences in Block Data",{"$f":"COUNTA(L34:L59)","v":26},null,null,null,"Total Sequences in Block Data",{"$f":"COUNTA(L60:L86)","v":27},null,null,null,"Total Sequences in Block Data",{"$f":"COUNTA(L87:L112)","v":26},null,null,null,"Total Sequences in Block Data",{"$f":"COUNTA(L113:L139)","v":27},null,null,null,"Total Sequences in Block Data",{"$f":"COUNTA(L140:L165)","v":26}]
[null,null,null,null,null,null,null,null,null,null,null,null,null,null,null,"Total Sequences in Summary",{"$f":"SUM(O7:O14)","v":159},null,null,null,null,"Total Sequences in Block Summary",{"$f":"SUM(U7:U14)","v":27},null,null,null,"Total Sequences in Block Summary",{"$f":"SUM(Z7:Z14)","v":26},null,null,null,"Total Sequences in Block Summary",{"$f":"SUM(AE7:AE14)","v":27},null,null,null,"Total Sequences in Block Summary",{"$f":"SUM(AJ7:AJ14)","v":26},null,null,null,"Total Sequences in Block Summary",{"$f":"SUM(AO7:AO14)","v":27},null,null,null,"Total Sequences in Block Summary",{"$f":"SUM(AT7:AT14)","v":26}]
[null,null,null,null,null,null,null,null,null,null,null,null,null,null,null,null,null,null,null,"Block 1",null,null,null,null,"Block 2",null,null,null,null,"Block 3",null,null,null,null,"Block 4",null,null,null,null,"Block 5",null,null,null,null,"Block 6"]
["Sequence\nComponent\n1","Time\n1","Sequence\nComponent\n2","Time\n2","Sequence\nComponent\n3","Time\n3","Sequence\nComponent\n4","Time\n4","Sequence\nComponent\n5","Time\n5","Correct?\n0=No 1=Yes","Sequence",null,"Frequency",null,"Relative Frequency","Variability",null,null,"Frequency",null,"Relative Frequency","Variability",null,"Frequency",null,"Relative Frequency","Variability",null,"Frequency",null,"Relative Frequency","Variability",null,"Frequency",null,"Relative Frequency","Variability",null,"Frequency",null,"Relative Frequency","Variability",null,"Frequency",null,"Relative Frequency","Variability"]
[11,52,11,63,12,74,null,null,null,null,0,111,null,111,{"$f":"COUNTIF($L$7:$L$500,N7)","v":31},{"$f":"O7/$Q$4","v":0.19496855345911951},{"$f":"IF(P7=0,0,(P7*((LOG(P7))/LOG(2))))","v":-0.45986972321900554},null,null,{"$f":"N7","v":111},{"$f":"COUNTIF(L7:L33,T7)","v":10},{"$f":"U7/(W4-U10)","v":0.37037037037037035},{"$f":"IF(V7=0,0,(V7*((LOG(V7))/LOG(2))))","v":-0.53072570639855787},null,{"$f":"N7","v":111},{"$f":"COUNTIF(L34:L59,Y7)","v":8},{"$f":"Z7/(AB4-Z10)","v":0.30769230769230771},{"$f":"IF(AA7=0,0,(AA7*((LOG(AA7))/LOG(2))))","v":-0.52321222096648989},null,{"$f":"N7","v":111},{"$f":"COUNTIF(L60:L86,AD7)","v":9},{"$f":"AE7/(AG4-AE10)","v":0.33333333333333331},{"$f":"IF(AF7=0,0,(AF7*((LOG(AF7))/LOG(2))))","v":-0.52832083357371862},null,{"$f":"N7","v":111},{"$f":"COUNTIF(L87:L112,AI7)","v":3},{"$f":"AJ7/(AL4-AJ10)","v":0.11538461538461539},{"$f":"IF(AK7=0,0,(AK7*((LOG(AK7))/LOG(2))))","v":-0.35947814047153104},null,{"$f":"N7","v":111},{"$f":"COUNTIF(L113:L139,AN7)","v":1},{"$f":"AO7/(AQ4-AO10)","v":3.7037037037037035E-2},{"$f":"IF(AP7=0,0,(AP7*((LOG(AP7))/LOG(2))))","v":-0.1761069445245729},null,{"$f":"N7","v":111},{"$f":"COUNTIF(L140:L165,AS7)","v":0},{"$f":"AT7/(AV4-AT10)","v":0},{"$f":"IF(AU7=0,0,(AU7*((LOG(AU7))/LOG(2))))","v":0}]
[11,200,11,207,12,220,null,null,null,null,0,111,null,112,{"$f":"COUNTIF($L$7:$L$500,N8)","v":0},{"$f":"O8/$Q$4","v":0},{"$f":"IF(P8=0,0,(P8*((LOG(P8))/LOG(2))))","v":0},null,null,{"$f":"N8","v":112},{"$f":"COUNTIF(L7:L33,T8)","v":0},{"$f":"U8/(W4-U10)","v":0},{"$f":"IF(V8=0,0,(V8*((LOG(V8))/LOG(2))))","v":0},null,{"$f":"N8","v":112},{"$f":"COUNTIF(L34:L59,Y8)","v":0},{"$f":"Z8/(AB4-Z10)","v":0},{"$f":"IF(AA8=0,0,(AA8*((LOG(AA8))/LOG(2))))","v":0},null,{"$f":"N8","v":112},{"$f":"COUNTIF(L60:L86,AD8)","v":0},{"$f":"AE8/(AG4-AE10)","v":0},{"$f":"IF(AF8=0,0,(AF8*((LOG(AF8))/LOG(2))))","v":0},null,{"$f":"N8","v":112},{"$f":"COUNTIF(L87:L112,AI8)","v":0},{"$f":"AJ8/(AL4-AJ10)","v":0},{"$f":"IF(AK8=0,0,(AK8*((LOG(AK8))/LOG(2))))","v":0},null,{"$f":"N8","v":112},{"$f":"COUNTIF(L113:L139,AN8)","v":0},{"$f":"AO8/(AQ4-AO10)","v":0},{"$f":"IF(AP8=0,0,(AP8*((LOG(AP8))/LOG(2))))","v":0},null,{"$f":"N8","v":112},{"$f":"COUNTIF(L140:L165,AS8)","v":0},{"$f":"AT8/(AV4-AT10)","v":0},{"$f":"IF(AU8=0,0,(AU8*((LOG(AU8))/LOG(2))))","v":0}]
[22,349,13,358,14,370,null,null,null,null,0,211,null,121,{"$f":"COUNTIF($L$7:$L$500,N9)","v":0},{"$f":"O9/$Q$4","v":0},{"$f":"IF(P9=0,0,(P9*((LOG(P9))/LOG(2))))","v":0},null,null,{"$f":"N9","v":121},{"$f":"COUNTIF(L7:L33,T9)","v":0},{"$f":"U9/(W4-U10)","v":0},{"$f":"IF(V9=0,0,(V9*((LOG(V9))/LOG(2))))","v":0},null,{"$f":"N9","v":121},{"$f":"COUNTIF(L34:L59,Y9)","v":0},{"$f":"Z9/(AB4-Z10)","v":0},{"$f":"IF(AA9=0,0,(AA9*((LOG(AA9))/LOG(2))))","v":0},null,{"$f":"N9","v":121},{"$f":"COUNTIF(L60:L86,AD9)","v":0},{"$f":"AE9/(AG4-AE10)","v":0},{"$f":"IF(AF9=0,0,(AF9*((LOG(AF9))/LOG(2))))","v":0},null,{"$f":"N9","v":121},{"$f":"COUNTIF(L87:L112,AI9)","v":0},{"$f":"AJ9/(AL4-AJ10)","v":0},{"$f":"IF(AK9=0,0,(AK9*((LOG(AK9))/LOG(2))))","v":0},null,{"$f":"N9","v":121},{"$f":"COUNTIF(L113:L139,AN9)","v":0},{"$f":"AO9/(AQ4-AO10)","v":0},{"$f":"IF(AP9=0,0,(AP9*((LOG(AP9))/LOG(2))))","v":0},null,{"$f":"N9","v":121},{"$f":"COUNTIF(L140:L165,AS9)","v":0},{"$f":"AT9/(AV4-AT10)","v":0},{"$f":"IF(AU9=0,0,(AU9*((LOG(AU9))/LOG(2))))","v":0}]
[22,481,13,494,14,503,null,null,null,null,0,211,null,122,{"$f":"COUNTIF($L$7:$L$500,N10)","v":0},{"$f":"O10/$Q$4","v":0},{"$f":"IF(P10=0,0,(P10*((LOG(P10))/LOG(2))))","v":0},null,null,{"$f":"N10","v":122},{"$f":"COUNTIF(L7:L33,T10)","v":0},null,null,null,{"$f":"N10","v":122},{"$f":"COUNTIF(L34:L59,Y10)","v":0},null,null,null,{"$f":"N10","v":122},{"$f":"COUNTIF(L60:L86,AD10)","v":0},null,null,null,{"$f":"N10","v":122},{"$f":"COUNTIF(L87:L112,AI10)","v":0},null,null,null,{"$f":"N10","v":122},{"$f":"COUNTIF(L113:L139,AN10)","v":0},null,null,null,{"$f":"N10","v":122},{"$f":"COUNTIF(L140:L165,AS10)","v":0}]
[22,611,24,630,14,643,null,null,null,null,0,221,null,211,{"$f":"COUNTIF($L$7:$L$500,N11)","v":58},{"$f":"O11/$Q$4","v":0.36477987421383645},{"$f":"IF(P11=0,0,(P11*((LOG(P11))/LOG(2))))","v":-0.53071895401945557},null,null,{"$f":"N11","v":211},{"$f":"COUNTIF(L7:L33,T11)","v":12},{"$f":"U11/(W4-U10)","v":0.44444444444444442},{"$f":"IF(V11=0,0,(V11*((LOG(V11))/LOG(2))))","v":-0.51996666730769447},null,{"$f":"N11","v":211},{"$f":"COUNTIF(L34:L59,Y11)","v":15},{"$f":"Z11/(AB4-Z10)","v":0.57692307692307687},{"$f":"IF(AA11=0,0,(AA11*((LOG(AA11))/LOG(2))))","v":-0.45781680146110021},null,{"$f":"N11","v":211},{"$f":"COUNTIF(L60:L86,AD11)","v":8},{"$f":"AE11/(AG4-AE10)","v":0.29629629629629628},{"$f":"IF(AF11=0,0,(AF11*((LOG(AF11))/LOG(2))))","v":-0.51996666730769436},null,{"$f":"N11","v":211},{"$f":"COUNTIF(L87:L112,AI11)","v":14},{"$f":"AJ11/(AL4-AJ10)","v":0.53846153846153844},{"$f":"IF(AK11=0,0,(AK11*((LOG(AK11))/LOG(2))))","v":-0.48089181327572433},null,{"$f":"N11","v":211},{"$f":"COUNTIF(L113:L139,AN11)","v":5},{"$f":"AO11/(AQ4-AO10)","v":0.18518518518518517},{"$f":"IF(AP11=0,0,(AP11*((LOG(AP11))/LOG(2))))","v":-0.45054803838446406},null,{"$f":"N11","v":211},{"$f":"COUNTIF(L140:L165,AS11)","v":4},{"$f":"AT11/(AV4-AT10)","v":0.15384615384615385},{"$f":"IF(AU11=0,0,(AU11*((LOG(AU11))/LOG(2))))","v":-0.4154522643293988}]
[11,774,11,782,12,796,null,null,null,null,0,111,null,212,{"$f":"COUNTIF($L$7:$L$500,N12)","v":0},{"$f":"O12/$Q$4","v":0},{"$f":"IF(P12=0,0,(P12*((LOG(P12))/LOG(2))))","v":0},null,null,{"$f":"N12","v":212},{"$f":"COUNTIF(L7:L33,T12)","v":0},{"$f":"U12/(W4-U10)","v":0},{"$f":"IF(V12=0,0,(V12*((LOG(V12))/LOG(2))))","v":0},null,{"$f":"N12","v":212},{"$f":"COUNTIF(L34:L59,Y12)","v":0},{"$f":"Z12/(AB4-Z10)","v":0},{"$f":"IF(AA12=0,0,(AA12*((LOG(AA12))/LOG(2))))","v":0},null,{"$f":"N12","v":212},{"$f":"COUNTIF(L60:L86,AD12)","v":0},{"$f":"AE12/(AG4-AE10)","v":0},{"$f":"IF(AF12=0,0,(AF12*((LOG(AF12))/LOG(2))))","v":0},null,{"$f":"N12","v":212},{"$f":"COUNTIF(L87:L112,AI12)","v":0},{"$f":"AJ12/(AL4-AJ10)","v":0},{"$f":"IF(AK12=0,0,(AK12*((LOG(AK12))/LOG(2))))","v":0},null,{"$f":"N12","v":212},{"$f":"COUNTIF(L113:L139,AN12)","v":0},{"$f":"AO12/(AQ4-AO10)","v":0},{"$f":"IF(AP12=0,0,(AP12*((LOG(AP12))/LOG(2))))","v":0},null,{"$f":"N12","v":212},{"$f":"COUNTIF(L140:L165,AS12)","v":0},{"$f":"AT12/(AV4-AT10)","v":0},{"$f":"IF(AU12=0,0,(AU12*((LOG(AU12))/LOG(2))))","v":0}]
[22,905,24,921,14,934,null,null,null,null,0,221,null,221,{"$f":"COUNTIF($L$7:$L$500,N13)","v":27},{"$f":"O13/$Q$4","v":0.16981132075471697},{"$f":"IF(P13=0,0,(P13*((LOG(P13))/LOG(2))))","v":-0.43437658637901844},null,null,{"$f":"N13","v":221},{"$f":"COUNTIF(L7:L33,T13)","v":5},{"$f":"U13/(W4-U10)","v":0.18518518518518517},{"$f":"IF(V13=0,0,(V13*((LOG(V13))/LOG(2))))","v":-0.45054803838446406},null,{"$f":"N13","v":221},{"$f":"COUNTIF(L34:L59,Y13)","v":1},{"$f":"Z13/(AB4-Z10)","v":3.8461538461538464E-2},{"$f":"IF(AA13=0,0,(AA13*((LOG(AA13))/LOG(2))))","v":-0.18078614300542661},null,{"$f":"N13","v":221},{"$f":"COUNTIF(L60:L86,AD13)","v":8},{"$f":"AE13/(AG4-AE10)","v":0.29629629629629628},{"$f":"IF(AF13=0,0,(AF13*((LOG(AF13))/LOG(2))))","v":-0.51996666730769436},null,{"$f":"N13","v":221},{"$f":"COUNTIF(L87:L112,AI13)","v":5},{"$f":"AJ13/(AL4-AJ10)","v":0.19230769230769232},{"$f":"IF(AK13=0,0,(AK13*((LOG(AK13))/LOG(2))))","v":-0.45740608139494804},null,{"$f":"N13","v":221},{"$f":"COUNTIF(L113:L139,AN13)","v":4},{"$f":"AO13/(AQ4-AO10)","v":0.14814814814814814},{"$f":"IF(AP13=0,0,(AP13*((LOG(AP13))/LOG(2))))","v":-0.40813148180199532},null,{"$f":"N13","v":221},{"$f":"COUNTIF(L140:L165,AS13)","v":4},{"$f":"AT13/(AV4-AT10)","v":0.15384615384615385},{"$f":"IF(AU13=0,0,(AU13*((LOG(AU13))/LOG(2))))","v":-0.4154522643293988}]
[22,1056,13,1082,14,1094,null,null,null,null,0,211,null,222,{"$f":"COUNTIF($L$7:$L$500,N14)","v":43},{"$f":"O14/$Q$4","v":0.27044025157232704},{"$f":"IF(P14=0,0,(P14*((LOG(P14))/LOG(2))))","v":-0.51021750078639672},null,null,{"$f":"N14","v":222},{"$f":"COUNTIF(L7:L33,T14)","v":0},{"$f":"U14/(W4-U10)","v":0},{"$f":"IF(V14=0,0,(V14*((LOG(V14))/LOG(2))))","v":0},null,{"$f":"N14","v":222},{"$f":"COUNTIF(L34:L59,Y14)","v":2},{"$f":"Z14/(AB4-Z10)","v":7.6923076923076927E-2},{"$f":"IF(AA14=0,0,(AA14*((LOG(AA14))/LOG(2))))","v":-0.28464920908777636},null,{"$f":"N14","v":222},{"$f":"COUNTIF(L60:L86,AD14)","v":2},{"$f":"AE14/(AG4-AE10)","v":7.407407407407407E-2},{"$f":"IF(AF14=0,0,(AF14*((LOG(AF14))/LOG(2))))","v":-0.27813981497507173},null,{"$f":"N14","v":222},{"$f":"COUNTIF(L87:L112,AI14)","v":4},{"$f":"AJ14/(AL4-AJ10)","v":0.15384615384615385},{"$f":"IF(AK14=0,0,(AK14*((LOG(AK14))/LOG(2))))","v":-0.4154522643293988},null,{"$f":"N14","v":222},{"$f":"COUNTIF(L113:L139,AN14)","v":17},{"$f":"AO14/(AQ4-AO10)","v":0.62962962962962965},{"$f":"IF(AP14=0,0,(AP14*((LOG(AP14))/LOG(2))))","v":-0.42023034205641457},null,{"$f":"N14","v":222},{"$f":"COUNTIF(L140:L165,AS14)","v":18},{"$f":"AT14/(AV4-AT10)","v":0.69230769230769229},{"$f":"IF(AU14=0,0,(AU14*((LOG(AU14))/LOG(2))))","v":-0.36727941925300139}]
[22,1221,24,1242,14,1266,null,null,null,null,0,221,null,null,null,{"$f":"SUM(P7:P14)","v":1},{"$f":"-SUM(Q7:Q14)","v":1.9351827644038764},null,null,null,null,{"$f":"SUM(V7:V14)","v":1},{"$f":"-SUM(W7:W14)","v":1.5012404120907163},null,null,null,{"$f":"SUM(AA7:AA14)","v":1},{"$f":"-SUM(AB7:AB14)","v":1.4464643745207932},null,null,null,{"$f":"SUM(AF7:AF14)","v":0.99999999999999989},{"$f":"-SUM(AG7:AG14)","v":1.8463939831641791},null,null,null,{"$f":"SUM(AK7:AK14)","v":1},{"$f":"-SUM(AL7:AL14)","v":1.7132282994716022},null,null,null,{"$f":"SUM(AP7:AP14)","v":1},{"$f":"-SUM(AQ7:AQ14)","v":1.4550168067674469},null,null,null,{"$f":"SUM(AU7:AU14)","v":1},{"$f":"-SUM(AV7:AV14)","v":1.1981839479117991}]
[22,1397,13,1409,14,1419,null,null,null,null,0,211,null,null,null,"U=",{"$f":"Q15/(LOG(Q4)/LOG(2))","v":0.26462651955963495},null,null,null,null,"U1=",{"$f":"W15/(LOG(W4)/LOG(2))","v":0.31572574775063633},null,null,null,"U2=",{"$f":"AB15/(LOG(AB4)/LOG(2))","v":0.30772958728483263},null,null,null,"U3=",{"$f":"AG15/(LOG(AG4)/LOG(2))","v":0.3883149669311991},null,null,null,"U4=",{"$f":"AL15/(LOG(AL4)/LOG(2))","v":0.36448255954852277},null,null,null,"U5=",{"$f":"AQ15/(LOG(AQ4)/LOG(2))","v":0.3060044651120381},null,null,null,"U6=",{"$f":"AV15/(LOG(AV4)/LOG(2))","v":0.2549089063492237}]
[22,1529,24,1544,14,1557,null,null,null,null,0,221]
[22,1680,24,1692,14,1705,null,null,null,null,0,221]
[22,1832,13,1849,14,1858,null,null,null,null,0,211,null,"Total Target Seq"]
[11,1981,11,1989,12,2002,null,null,null,null,0,111,null,{"$f":"COUNTIF(L7:L165,G3)","v":0},null,27,26,27,26,27,26]
[22,2139,13,2163,14,2172,null,null,null,null,0,211,null,null,null,"% of reinforcement given in 6 equal intervals based on number of trials "]
[22,2296,13,2308,14,2317,null,null,null,null,0,211,null,null,null,"%_1","%_2","%_3","%_4","%_5","%_6"]
[22,2424,13,2438,14,2446,null,null,null,null,0,211,null,null,"target sequence",{"$f":"$G$3","v":122},{"$f":"$G$3","v":122},{"$f":"$G$3","v":122},{"$f":"$G$3","v":122},{"$f":"$G$3","v":122},{"$f":"$G$3","v":122}]
[22,2560,13,2572,14,2580,null,null,null,null,0,211,null,null,"total reinforcement",{"$f":"U10","v":0},{"$f":"Z10","v":0},{"$f":"AE10","v":0},{"$f":"AJ10","v":0},{"$f":"AO10","v":0},{"$f":"AT10","v":0}]
[22,2695,13,2708,14,2718,null,null,null,null,0,211,null,null,"% target"]
[11,2842,11,2850,12,2860,null,null,null,null,0,111,null,null,"CCRF"]
[11,2980,11,2985,12,2994,null,null,null,null,0,111,null,null,"% CCRf"]
[11,3099,11,3105,12,3113,null,null,null,null,0,111,null,null,"average response rate",{"$f":"F33/P20","v":140.14814814814815},{"$f":"(F59-F33)/Q20","v":134.34615384615384},{"$f":"(F86-F59)/R20","v":140.88888888888889},{"$f":"(F112-F86)/S20","v":160.26923076923077},{"$f":"(F139-F112)/T20","v":169.62962962962962},{"$f":"(F165-F139)/U20","v":158.03846153846155}]
[11,3223,11,3231,12,3244,null,null,null,null,0,111]
[11,3367,11,3375,12,3386,null,null,null,null,0,111]
[22,3495,13,3503,14,3510,null,null,null,null,0,211]
[11,3626,11,3635,12,3647,null,null,null,null,0,111]
[22,3760,13,3773,14,3784,null,null,null,null,0,211]
[22,3882,13,3902,14,3915,null,null,null,null,0,211]
[22,4019,13,4031,14,4039,null,null,null,null,0,211]
[22,4142,13,4163,14,4171,null,null,null,null,0,211]
[22,4270,13,4285,14,4293,null,null,null,null,0,211]
[11,4417,11,4428,12,4439,null,null,null,null,0,111]
[22,4555,13,4563,14,4570,null,null,null,null,0,211]
[22,4675,13,4686,14,4694,null,null,null,null,0,211]
[11,4819,11,4826,12,4838,null,null,null,null,0,111]
[22,4934,13,4942,14,4949,null,null,null,null,0,211]
[22,5053,13,5061,14,5068,null,null,null,null,0,211]
[11,5185,11,5192,12,5203,null,null,null,null,0,111]
[22,5309,13,5320,14,5327,null,null,null,null,0,211]
[11,5447,11,5455,12,5466,null,null,null,null,0,111]
[11,5583,11,5591,12,5603,null,null,null,null,0,111]
[11,5718,11,5724,12,5735,null,null,null,null,0,111]
[22,5839,13,5857,14,5864,null,null,null,null,0,211]
[22,5965,24,5973,23,5982,null,null,null,null,0,222]
[22,6098,13,6126,14,6135,null,null,null,null,0,211]
[22,6258,13,6271,14,6281,null,null,null,null,0,211]
[11,6398,11,6406,12,6416,null,null,null,null,0,111]
[11,6566,11,6574,12,6584,null,null,null,null,0,111]
[22,6687,24,6696,14,6707,null,null,null,null,0,221]
[22,6825,24,6844,23,6872,null,null,null,null,0,222]
[22,6978,13,6999,14,7006,null,null,null,null,0,211]
[22,7116,13,7136,14,7147,null,null,null,null,0,211]
[22,7258,13,7269,14,7277,null,null,null,null,0,211]
[22,7390,13,7402,14,7409,null,null,null,null,0,211]
[11,7520,11,7528,12,7540,null,null,null,null,0,111]
[11,7666,11,7673,12,7685,null,null,null,null,0,111]
[11,7801,11,7808,12,7818,null,null,null,null,0,111]
[22,7962,24,7977,14,7989,null,null,null,null,0,221]
[22,8087,24,8094,23,8105,null,null,null,null,0,222]
[22,8207,24,8214,14,8222,null,null,null,null,0,221]
[22,8328,24,8341,14,8353,null,null,null,null,0,221]
[22,8465,13,8477,14,8488,null,null,null,null,0,211]
[22,8618,24,8629,14,8651,null,null,null,null,0,221]
[22,8746,24,8754,14,8763,null,null,null,null,0,221]
[22,8868,24,8893,14,8906,null,null,null,null,0,221]
[22,9010,24,9029,14,9040,null,null,null,null,0,221]
[11,9168,11,9176,12,9188,null,null,null,null,0,111]
[22,9310,24,9319,14,9330,null,null,null,null,0,221]
[11,9470,11,9481,12,9496,null,null,null,null,0,111]
[11,9658,11,9666,12,9677,null,null,null,null,0,111]
[22,9817,13,9838,14,9847,null,null,null,null,0,211]
[22,9957,13,9976,14,9983,null,null,null,null,0,211]
[11,10108,11,10115,12,10126,null,null,null,null,0,111]
[11,10260,11,10267,12,10278,null,null,null,null,0,111]
[22,10388,13,10410,14,10417,null,null,null,null,0,211]
[11,10555,11,10563,12,10574,null,null,null,null,0,111]
[22,10682,13,10705,14,10712,null,null,null,null,0,211]
[22,10812,24,10820,23,10828,null,null,null,null,0,222]
[22,10929,13,10948,14,10957,null,null,null,null,0,211]
[22,11061,13,11073,14,11081,null,null,null,null,0,211]
[22,11195,13,11219,14,11229,null,null,null,null,0,211]
[22,11395,13,11408,14,11417,null,null,null,null,0,211]
[22,11525,24,11532,14,11551,null,null,null,null,0,221]
[22,11658,24,11665,14,11683,null,null,null,null,0,221]
[22,11808,13,11820,14,11829,null,null,null,null,0,211]
[22,11938,13,11956,14,11968,null,null,null,null,0,211]
[22,12069,24,12077,23,12085,null,null,null,null,0,222]
[22,12211,24,12233,23,12306,null,null,null,null,0,222]
[22,12423,13,12432,14,12440,null,null,null,null,0,211]
[22,12923,13,12937,14,12948,null,null,null,null,0,211]
[11,13107,11,13117,12,13128,null,null,null,null,0,111]
[22,13245,13,13271,14,13278,null,null,null,null,0,211]
[22,13379,13,13404,14,13412,null,null,null,null,0,211]
[22,13517,24,13524,14,13537,null,null,null,null,0,221]
[11,13665,11,13673,12,13684,null,null,null,null,0,111]
[22,13791,24,13798,23,13814,null,null,null,null,0,222]
[22,13913,13,13931,14,13938,null,null,null,null,0,211]
[22,14054,24,14062,14,14074,null,null,null,null,0,221]
[22,14197,13,14209,14,14218,null,null,null,null,0,211]
[22,14356,13,14395,14,14405,null,null,null,null,0,211]
[22,14514,13,14531,14,14542,null,null,null,null,0,211]
[22,14646,24,14657,23,14681,null,null,null,null,0,222]
[11,14815,11,14824,12,14831,null,null,null,null,0,111]
[22,14935,13,14959,14,14966,null,null,null,null,0,211]
[22,15085,24,15103,14,15116,null,null,null,null,0,221]
[22,15215,13,15240,14,15248,null,null,null,null,0,211]
[22,15369,13,15388,14,15396,null,null,null,null,0,211]
[22,15503,24,15530,23,15570,null,null,null,null,0,222]
[22,15687,13,15700,14,15707,null,null,null,null,0,211]
[22,15815,13,15834,14,15843,null,null,null,null,0,211]
[22,15948,24,15963,23,15970,null,null,null,null,0,222]
[22,16212,13,16248,14,16259,null,null,null,null,0,211]
[22,16370,24,16378,14,16390,null,null,null,null,0,221]
[22,16503,24,16511,23,16538,null,null,null,null,0,222]
[22,16686,24,16726,14,16753,null,null,null,null,0,221]
[22,16883,24,16888,23,16902,null,null,null,null,0,222]
[22,17013,24,17021,23,17110,null,null,null,null,0,222]
[22,17251,24,17259,23,17267,null,null,null,null,0,222]
[22,17426,13,17442,14,17451,null,null,null,null,0,211]
[11,17605,11,17614,12,17625,null,null,null,null,0,111]
[22,17767,24,17773,14,17786,null,null,null,null,0,221]
[22,17976,24,18030,23,18048,null,null,null,null,0,222]
[22,18176,24,18185,23,18254,null,null,null,null,0,222]
[22,18380,24,18395,23,18404,null,null,null,null,0,222]
[22,18545,24,18552,14,18596,null,null,null,null,0,221]
[22,18715,24,18724,23,18732,null,null,null,null,0,222]
[22,18842,24,18850,23,18859,null,null,null,null,0,222]
[22,19002,24,19014,23,19059,null,null,null,null,0,222]
[22,19168,24,19183,23,19198,null,null,null,null,0,222]
[22,19333,24,19340,23,19368,null,null,null,null,0,222]
[22,19507,24,19515,23,19526,null,null,null,null,0,222]
[22,19643,24,19651,23,19677,null,null,null,null,0,222]
[22,19812,24,19819,23,19828,null,null,null,null,0,222]
[22,19961,24,19968,23,19979,null,null,null,null,0,222]
[22,20102,24,20132,14,20148,null,null,null,null,0,221]
[22,20263,13,20283,14,20294,null,null,null,null,0,211]
[22,20427,24,20475,23,20484,null,null,null,null,0,222]
[22,20635,24,20646,23,20654,null,null,null,null,0,222]
[22,20804,24,20814,23,20822,null,null,null,null,0,222]
[22,20932,24,20945,23,20963,null,null,null,null,0,222]
[22,21068,24,21099,23,21127,null,null,null,null,0,222]
[22,21229,24,21243,23,21267,null,null,null,null,0,222]
[22,21397,24,21430,23,21450,null,null,null,null,0,222]
[22,21554,24,21562,23,21570,null,null,null,null,0,222]
[22,21698,24,21706,23,21714,null,null,null,null,0,222]
[22,21839,24,21848,14,21861,null,null,null,null,0,221]
[22,21966,24,21975,23,21989,null,null,null,null,0,222]
[22,22129,24,22136,23,22145,null,null,null,null,0,222]
[22,22268,24,22339,23,22350,null,null,null,null,0,222]
[22,22491,24,22499,23,22517,null,null,null,null,0,222]
[22,22627,24,22638,23,22649,null,null,null,null,0,222]
[22,22772,24,22780,23,22789,null,null,null,null,0,222]
[22,22945,24,22975,23,22984,null,null,null,null,0,222]
[22,23134,24,23149,14,23177,null,null,null,null,0,221]
[22,23297,24,23308,14,23331,null,null,null,null,0,221]
[22,23463,13,23479,14,23486,null,null,null,null,0,211]
[22,23602,24,23609,23,23621,null,null,null,null,0,222]
[22,23731,13,23767,14,23779,null,null,null,null,0,211]
[22,23888,13,23927,14,23937,null,null,null,null,null,211]

{"sheet":"!MA24B00.095","index":12,"n_rows":173,"n_cols":48,"rows_kept":173,"cut":false,"hidden":false,"merged":[[4,39,4,42],[5,39,5,40],[4,44,4,47],[5,44,5,45],[4,24,4,27],[5,24,5,25],[4,29,4,32],[5,29,5,30],[4,34,4,37],[5,34,5,35],[1,1,1,2],[5,13,5,14],[18,13,18,14],[19,13,19,14],[4,19,4,22],[5,19,5,20]]}
["Report for:!MA24B00.095"]
["Date:","<date>"]
["Hen:","<hen>",null,null,null,"Correct Sequence",{"$f":"Start!J2","v":122},null,null,null,null,null,null,null,null,"Total Sequences in Data",{"$f":"4994-COUNTBLANK(L7:L5000)","v":167},null,null,null,null,"Total Sequences in Block Data",{"$f":"COUNTA(L7:L34)","v":28},null,null,null,"Total Sequences in Block Data",{"$f":"COUNTA(L35:L62)","v":28},null,null,null,"Total Sequences in Block Data",{"$f":"COUNTA(L63:L89)","v":27},null,null,null,"Total Sequences in Block Data",{"$f":"COUNTA(L90:L117)","v":28},null,null,null,"Total Sequences in Block Data",{"$f":"COUNTA(L118:L145)","v":28},null,null,null,"Total Sequences in Block Data",{"$f":"COUNTA(L146:L173)","v":28}]
[null,null,null,null,null,null,null,null,null,null,null,null,null,null,null,"Total Sequences in Summary",{"$f":"SUM(O7:O14)","v":167},null,null,null,null,"Total Sequences in Block Summary",{"$f":"SUM(U7:U14)","v":28},null,null,null,"Total Sequences in Block Summary",{"$f":"SUM(Z7:Z14)","v":28},null,null,null,"Total Sequences in Block Summary",{"$f":"SUM(AE7:AE14)","v":27},null,null,null,"Total Sequences in Block Summary",{"$f":"SUM(AJ7:AJ14)","v":28},null,null,null,"Total Sequences in Block Summary",{"$f":"SUM(AO7:AO14)","v":28},null,null,null,"Total Sequences in Block Summary",{"$f":"SUM(AT7:AT14)","v":28}]
[null,null,null,null,null,null,null,null,null,null,null,null,null,null,null,null,null,null,null,"Block 1",null,null,null,null,"Block 2",null,null,null,null,"Block 3",null,null,null,null,"Block 4",null,null,null,null,"Block 5",null,null,null,null,"Block 6"]
["Sequence\nComponent\n1","Time\n1","Sequence\nComponent\n2","Time\n2","Sequence\nComponent\n3","Time\n3","Sequence\nComponent\n4","Time\n4","Sequence\nComponent\n5","Time\n5","Correct?\n0=No 1=Yes","Sequence",null,"Frequency",null,"Relative Frequency","Variability",null,null,"Frequency",null,"Relative Frequency","Variability",null,"Frequency",null,"Relative Frequency","Variability",null,"Frequency",null,"Relative Frequency","Variability",null,"Frequency",null,"Relative Frequency","Variability",null,"Frequency",null,"Relative Frequency","Variability",null,"Frequency",null,"Relative Frequency","Variability"]
[22,65,13,80,14,91,null,null,null,null,0,211,null,111,{"$f":"COUNTIF($L$7:$L$500,N7)","v":51},{"$f":"O7/$Q$4","v":0.30538922155688625},{"$f":"IF(P7=0,0,(P7*((LOG(P7))/LOG(2))))","v":-0.52260614656066107},null,null,{"$f":"N7","v":111},{"$f":"COUNTIF(L7:L34,T7)","v":8},{"$f":"U7/(W4-U10)","v":0.2857142857142857},{"$f":"IF(V7=0,0,(V7*((LOG(V7))/LOG(2))))","v":-0.51638712058788683},null,{"$f":"N7","v":111},{"$f":"COUNTIF(L35:L62,Y7)","v":12},{"$f":"Z7/(AB4-Z10)","v":0.42857142857142855},{"$f":"IF(AA7=0,0,(AA7*((LOG(AA7))/LOG(2))))","v":-0.52388246628704915},null,{"$f":"N7","v":111},{"$f":"COUNTIF(L63:L89,AD7)","v":6},{"$f":"AE7/(AG4-AE10)","v":0.22222222222222221},{"$f":"IF(AF7=0,0,(AF7*((LOG(AF7))/LOG(2))))","v":-0.48220555587606945},null,{"$f":"N7","v":111},{"$f":"COUNTIF(L90:L117,AI7)","v":6},{"$f":"AJ7/(AL4-AJ10)","v":0.21428571428571427},{"$f":"IF(AK7=0,0,(AK7*((LOG(AK7))/LOG(2))))","v":-0.47622694742923877},null,{"$f":"N7","v":111},{"$f":"COUNTIF(L118:L145,AN7)","v":10},{"$f":"AO7/(AQ4-AO10)","v":0.35714285714285715},{"$f":"IF(AP7=0,0,(AP7*((LOG(AP7))/LOG(2))))","v":-0.53050958113222924},null,{"$f":"N7","v":111},{"$f":"COUNTIF(L146:L173,AS7)","v":9},{"$f":"AT7/(AV4-AT10)","v":0.32142857142857145},{"$f":"IF(AU7=0,0,(AU7*((LOG(AU7))/LOG(2))))","v":-0.5263167601977724}]
[11,221,11,229,12,241,null,null,null,null,0,111,null,112,{"$f":"COUNTIF($L$7:$L$500,N8)","v":0},{"$f":"O8/$Q$4","v":0},{"$f":"IF(P8=0,0,(P8*((LOG(P8))/LOG(2))))","v":0},null,null,{"$f":"N8","v":112},{"$f":"COUNTIF(L7:L34,T8)","v":0},{"$f":"U8/(W4-U10)","v":0},{"$f":"IF(V8=0,0,(V8*((LOG(V8))/LOG(2))))","v":0},null,{"$f":"N8","v":112},{"$f":"COUNTIF(L35:L62,Y8)","v":0},{"$f":"Z8/(AB4-Z10)","v":0},{"$f":"IF(AA8=0,0,(AA8*((LOG(AA8))/LOG(2))))","v":0},null,{"$f":"N8","v":112},{"$f":"COUNTIF(L63:L89,AD8)","v":0},{"$f":"AE8/(AG4-AE10)","v":0},{"$f":"IF(AF8=0,0,(AF8*((LOG(AF8))/LOG(2))))","v":0},null,{"$f":"N8","v":112},{"$f":"COUNTIF(L90:L117,AI8)","v":0},{"$f":"AJ8/(AL4-AJ10)","v":0},{"$f":"IF(AK8=0,0,(AK8*((LOG(AK8))/LOG(2))))","v":0},null,{"$f":"N8","v":112},{"$f":"COUNTIF(L118:L145,AN8)","v":0},{"$f":"AO8/(AQ4-AO10)","v":0},{"$f":"IF(AP8=0,0,(AP8*((LOG(AP8))/LOG(2))))","v":0},null,{"$f":"N8","v":112},{"$f":"COUNTIF(L146:L173,AS8)","v":0},{"$f":"AT8/(AV4-AT10)","v":0},{"$f":"IF(AU8=0,0,(AU8*((LOG(AU8))/LOG(2))))","v":0}]
[22,350,24,358,14,372,null,null,null,null,0,221,null,121,{"$f":"COUNTIF($L$7:$L$500,N9)","v":0},{"$f":"O9/$Q$4","v":0},{"$f":"IF(P9=0,0,(P9*((LOG(P9))/LOG(2))))","v":0},null,null,{"$f":"N9","v":121},{"$f":"COUNTIF(L7:L34,T9)","v":0},{"$f":"U9/(W4-U10)","v":0},{"$f":"IF(V9=0,0,(V9*((LOG(V9))/LOG(2))))","v":0},null,{"$f":"N9","v":121},{"$f":"COUNTIF(L35:L62,Y9)","v":0},{"$f":"Z9/(AB4-Z10)","v":0},{"$f":"IF(AA9=0,0,(AA9*((LOG(AA9))/LOG(2))))","v":0},null,{"$f":"N9","v":121},{"$f":"COUNTIF(L63:L89,AD9)","v":0},{"$f":"AE9/(AG4-AE10)","v":0},{"$f":"IF(AF9=0,0,(AF9*((LOG(AF9))/LOG(2))))","v":0},null,{"$f":"N9","v":121},{"$f":"COUNTIF(L90:L117,AI9)","v":0},{"$f":"AJ9/(AL4-AJ10)","v":0},{"$f":"IF(AK9=0,0,(AK9*((LOG(AK9))/LOG(2))))","v":0},null,{"$f":"N9","v":121},{"$f":"COUNTIF(L118:L145,AN9)","v":0},{"$f":"AO9/(AQ4-AO10)","v":0},{"$f":"IF(AP9=0,0,(AP9*((LOG(AP9))/LOG(2))))","v":0},null,{"$f":"N9","v":121},{"$f":"COUNTIF(L146:L173,AS9)","v":0},{"$f":"AT9/(AV4-AT10)","v":0},{"$f":"IF(AU9=0,0,(AU9*((LOG(AU9))/LOG(2))))","v":0}]
[22,505,13,525,14,537,null,null,null,null,0,211,null,122,{"$f":"COUNTIF($L$7:$L$500,N10)","v":0},{"$f":"O10/$Q$4","v":0},{"$f":"IF(P10=0,0,(P10*((LOG(P10))/LOG(2))))","v":0},null,null,{"$f":"N10","v":122},{"$f":"COUNTIF(L7:L34,T10)","v":0},null,null,null,{"$f":"N10","v":122},{"$f":"COUNTIF(L35:L62,Y10)","v":0},null,null,null,{"$f":"N10","v":122},{"$f":"COUNTIF(L63:L89,AD10)","v":0},null,null,null,{"$f":"N10","v":122},{"$f":"COUNTIF(L90:L117,AI10)","v":0},null,null,null,{"$f":"N10","v":122},{"$f":"COUNTIF(L118:L145,AN10)","v":0},null,null,null,{"$f":"N10","v":122},{"$f":"COUNTIF(L146:L173,AS10)","v":0}]
[22,647,13,660,14,672,null,null,null,null,0,211,null,211,{"$f":"COUNTIF($L$7:$L$500,N11)","v":84},{"$f":"O11/$Q$4","v":0.50299401197604787},{"$f":"IF(P11=0,0,(P11*((LOG(P11))/LOG(2))))","v":-0.49866165900841036},null,null,{"$f":"N11","v":211},{"$f":"COUNTIF(L7:L34,T11)","v":16},{"$f":"U11/(W4-U10)","v":0.5714285714285714},{"$f":"IF(V11=0,0,(V11*((LOG(V11))/LOG(2))))","v":-0.46134566974720237},null,{"$f":"N11","v":211},{"$f":"COUNTIF(L35:L62,Y11)","v":15},{"$f":"Z11/(AB4-Z10)","v":0.5357142857142857},{"$f":"IF(AA11=0,0,(AA11*((LOG(AA11))/LOG(2))))","v":-0.48239160345486726},null,{"$f":"N11","v":211},{"$f":"COUNTIF(L63:L89,AD11)","v":12},{"$f":"AE11/(AG4-AE10)","v":0.44444444444444442},{"$f":"IF(AF11=0,0,(AF11*((LOG(AF11))/LOG(2))))","v":-0.51996666730769447},null,{"$f":"N11","v":211},{"$f":"COUNTIF(L90:L117,AI11)","v":13},{"$f":"AJ11/(AL4-AJ10)","v":0.4642857142857143},{"$f":"IF(AK11=0,0,(AK11*((LOG(AK11))/LOG(2))))","v":-0.51392491610409474},null,{"$f":"N11","v":211},{"$f":"COUNTIF(L118:L145,AN11)","v":14},{"$f":"AO11/(AQ4-AO10)","v":0.5},{"$f":"IF(AP11=0,0,(AP11*((LOG(AP11))/LOG(2))))","v":-0.5},null,{"$f":"N11","v":211},{"$f":"COUNTIF(L146:L173,AS11)","v":14},{"$f":"AT11/(AV4-AT10)","v":0.5},{"$f":"IF(AU11=0,0,(AU11*((LOG(AU11))/LOG(2))))","v":-0.5}]
[22,779,24,787,14,800,null,null,null,null,0,221,null,212,{"$f":"COUNTIF($L$7:$L$500,N12)","v":0},{"$f":"O12/$Q$4","v":0},{"$f":"IF(P12=0,0,(P12*((LOG(P12))/LOG(2))))","v":0},null,null,{"$f":"N12","v":212},{"$f":"COUNTIF(L7:L34,T12)","v":0},{"$f":"U12/(W4-U10)","v":0},{"$f":"IF(V12=0,0,(V12*((LOG(V12))/LOG(2))))","v":0},null,{"$f":"N12","v":212},{"$f":"COUNTIF(L35:L62,Y12)","v":0},{"$f":"Z12/(AB4-Z10)","v":0},{"$f":"IF(AA12=0,0,(AA12*((LOG(AA12))/LOG(2))))","v":0},null,{"$f":"N12","v":212},{"$f":"COUNTIF(L63:L89,AD12)","v":0},{"$f":"AE12/(AG4-AE10)","v":0},{"$f":"IF(AF12=0,0,(AF12*((LOG(AF12))/LOG(2))))","v":0},null,{"$f":"N12","v":212},{"$f":"COUNTIF(L90:L117,AI12)","v":0},{"$f":"AJ12/(AL4-AJ10)","v":0},{"$f":"IF(AK12=0,0,(AK12*((LOG(AK12))/LOG(2))))","v":0},null,{"$f":"N12","v":212},{"$f":"COUNTIF(L118:L145,AN12)","v":0},{"$f":"AO12/(AQ4-AO10)","v":0},{"$f":"IF(AP12=0,0,(AP12*((LOG(AP12))/LOG(2))))","v":0},null,{"$f":"N12","v":212},{"$f":"COUNTIF(L146:L173,AS12)","v":0},{"$f":"AT12/(AV4-AT10)","v":0},{"$f":"IF(AU12=0,0,(AU12*((LOG(AU12))/LOG(2))))","v":0}]
[22,927,13,942,14,952,null,null,null,null,0,211,null,221,{"$f":"COUNTIF($L$7:$L$500,N13)","v":26},{"$f":"O13/$Q$4","v":0.15568862275449102},{"$f":"IF(P13=0,0,(P13*((LOG(P13))/LOG(2))))","v":-0.41775376606381415},null,null,{"$f":"N13","v":221},{"$f":"COUNTIF(L7:L34,T13)","v":4},{"$f":"U13/(W4-U10)","v":0.14285714285714285},{"$f":"IF(V13=0,0,(V13*((LOG(V13))/LOG(2))))","v":-0.40105070315108626},null,{"$f":"N13","v":221},{"$f":"COUNTIF(L35:L62,Y13)","v":1},{"$f":"Z13/(AB4-Z10)","v":3.5714285714285712E-2},{"$f":"IF(AA13=0,0,(AA13*((LOG(AA13))/LOG(2))))","v":-0.17169124721634299},null,{"$f":"N13","v":221},{"$f":"COUNTIF(L63:L89,AD13)","v":7},{"$f":"AE13/(AG4-AE10)","v":0.25925925925925924},{"$f":"IF(AF13=0,0,(AF13*((LOG(AF13))/LOG(2))))","v":-0.5049158541015204},null,{"$f":"N13","v":221},{"$f":"COUNTIF(L90:L117,AI13)","v":6},{"$f":"AJ13/(AL4-AJ10)","v":0.21428571428571427},{"$f":"IF(AK13=0,0,(AK13*((LOG(AK13))/LOG(2))))","v":-0.47622694742923877},null,{"$f":"N13","v":221},{"$f":"COUNTIF(L118:L145,AN13)","v":4},{"$f":"AO13/(AQ4-AO10)","v":0.14285714285714285},{"$f":"IF(AP13=0,0,(AP13*((LOG(AP13))/LOG(2))))","v":-0.40105070315108626},null,{"$f":"N13","v":221},{"$f":"COUNTIF(L146:L173,AS13)","v":4},{"$f":"AT13/(AV4-AT10)","v":0.14285714285714285},{"$f":"IF(AU13=0,0,(AU13*((LOG(AU13))/LOG(2))))","v":-0.40105070315108626}]
[22,1060,24,1068,14,1082,null,null,null,null,0,221,null,222,{"$f":"COUNTIF($L$7:$L$500,N14)","v":6},{"$f":"O14/$Q$4","v":3.5928143712574849E-2},{"$f":"IF(P14=0,0,(P14*((LOG(P14))/LOG(2))))","v":-0.17240988473363697},null,null,{"$f":"N14","v":222},{"$f":"COUNTIF(L7:L34,T14)","v":0},{"$f":"U14/(W4-U10)","v":0},{"$f":"IF(V14=0,0,(V14*((LOG(V14))/LOG(2))))","v":0},null,{"$f":"N14","v":222},{"$f":"COUNTIF(L35:L62,Y14)","v":0},{"$f":"Z14/(AB4-Z10)","v":0},{"$f":"IF(AA14=0,0,(AA14*((LOG(AA14))/LOG(2))))","v":0},null,{"$f":"N14","v":222},{"$f":"COUNTIF(L63:L89,AD14)","v":2},{"$f":"AE14/(AG4-AE10)","v":7.407407407407407E-2},{"$f":"IF(AF14=0,0,(AF14*((LOG(AF14))/LOG(2))))","v":-0.27813981497507173},null,{"$f":"N14","v":222},{"$f":"COUNTIF(L90:L117,AI14)","v":3},{"$f":"AJ14/(AL4-AJ10)","v":0.10714285714285714},{"$f":"IF(AK14=0,0,(AK14*((LOG(AK14))/LOG(2))))","v":-0.34525633085747659},null,{"$f":"N14","v":222},{"$f":"COUNTIF(L118:L145,AN14)","v":0},{"$f":"AO14/(AQ4-AO10)","v":0},{"$f":"IF(AP14=0,0,(AP14*((LOG(AP14))/LOG(2))))","v":0},null,{"$f":"N14","v":222},{"$f":"COUNTIF(L146:L173,AS14)","v":1},{"$f":"AT14/(AV4-AT10)","v":3.5714285714285712E-2},{"$f":"IF(AU14=0,0,(AU14*((LOG(AU14))/LOG(2))))","v":-0.17169124721634299}]
[22,1199,13,1216,14,1227,null,null,null,null,0,211,null,null,null,{"$f":"SUM(P7:P14)","v":1},{"$f":"-SUM(Q7:Q14)","v":1.6114314563665226},null,null,null,null,{"$f":"SUM(V7:V14)","v":1},{"$f":"-SUM(W7:W14)","v":1.3787834934861753},null,null,null,{"$f":"SUM(AA7:AA14)","v":0.99999999999999989},{"$f":"-SUM(AB7:AB14)","v":1.1779653169582593},null,null,null,{"$f":"SUM(AF7:AF14)","v":0.99999999999999989},{"$f":"-SUM(AG7:AG14)","v":1.7852278922603562},null,null,null,{"$f":"SUM(AK7:AK14)","v":1},{"$f":"-SUM(AL7:AL14)","v":1.8116351418200489},null,null,null,{"$f":"SUM(AP7:AP14)","v":1},{"$f":"-SUM(AQ7:AQ14)","v":1.4315602842833157},null,null,null,{"$f":"SUM(AU7:AU14)","v":0.99999999999999989},{"$f":"-SUM(AV7:AV14)","v":1.5990587105652017}]
[11,1355,11,1363,12,1376,null,null,null,null,0,111,null,null,null,"U=",{"$f":"Q15/(LOG(Q4)/LOG(2))","v":0.21824160239041501},null,null,null,null,"U1=",{"$f":"W15/(LOG(W4)/LOG(2))","v":0.28680709368053897},null,null,null,"U2=",{"$f":"AB15/(LOG(AB4)/LOG(2))","v":0.24503398148395428},null,null,null,"U3=",{"$f":"AG15/(LOG(AG4)/LOG(2))","v":0.37545113137757297},null,null,null,"U4=",{"$f":"AL15/(LOG(AL4)/LOG(2))","v":0.37684655516232368},null,null,null,"U5=",{"$f":"AQ15/(LOG(AQ4)/LOG(2))","v":0.29778543658486345},null,null,null,"U6=",{"$f":"AV15/(LOG(AV4)/LOG(2))","v":0.33262755433933844}]
[22,1492,13,1504,14,1513,null,null,null,null,0,211]
[22,1618,13,1639,14,1647,null,null,null,null,0,211]
[22,1751,13,1765,14,1774,null,null,null,null,0,211,null,"Total Target Seq"]
[11,1888,11,1895,12,1907,null,null,null,null,0,111,null,{"$f":"COUNTIF(L7:L173,G3)","v":0},null,28,28,27,28,28,28]
[11,2013,11,2020,12,2032,null,null,null,null,0,111,null,null,null,"% of reinforcement given in 6 equal intervals based on number of trials "]
[22,2156,13,2169,14,2181,null,null,null,null,0,211,null,null,null,"%_1","%_2","%_3","%_4","%_5","%_6"]
[11,2298,11,2307,12,2319,null,null,null,null,0,111,null,null,"target sequence",{"$f":"$G$3","v":122},{"$f":"$G$3","v":122},{"$f":"$G$3","v":122},{"$f":"$G$3","v":122},{"$f":"$G$3","v":122},{"$f":"$G$3","v":122}]
[22,2429,13,2437,14,2443,null,null,null,null,0,211,null,null,"total reinforcement",{"$f":"U10","v":0},{"$f":"Z10","v":0},{"$f":"AE10","v":0},{"$f":"AJ10","v":0},{"$f":"AO10","v":0},{"$f":"AT10","v":0}]
[11,2568,11,2579,12,2590,null,null,null,null,0,111,null,null,"% target"]
[22,2686,13,2702,14,2712,null,null,null,null,0,211,null,null,"CCRF"]
[22,2815,13,2830,14,2839,null,null,null,null,0,211,null,null,"% CCRf"]
[22,2942,24,2949,14,2963,null,null,null,null,0,221,null,null,"average response rate",{"$f":"F34/P20","v":134.67857142857142},{"$f":"(F62-F34)/Q20","v":137.46428571428572},{"$f":"(F89-F62)/R20","v":135.7037037037037},{"$f":"(F117-F89)/S20","v":157.46428571428572},{"$f":"(F145-F117)/T20","v":151.21428571428572},{"$f":"(F173-F145)/U20","v":142.92857142857142}]
[22,3067,13,3077,14,3085,null,null,null,null,0,211]
[11,3203,11,3212,12,3223,null,null,null,null,0,111]
[22,3358,13,3369,14,3377,null,null,null,null,0,211]
[22,3483,13,3507,14,3517,null,null,null,null,0,211]
[22,3612,13,3625,14,3633,null,null,null,null,0,211]
[11,3752,11,3759,12,3771,null,null,null,null,0,111]
[11,3887,11,3895,12,3905,null,null,null,null,0,111]
[22,4003,13,4025,14,4034,null,null,null,null,0,211]
[11,4152,11,4159,12,4172,null,null,null,null,0,111]
[11,4292,11,4299,12,4313,null,null,null,null,0,111]
[22,4424,13,4444,14,4451,null,null,null,null,0,211]
[11,4573,11,4582,12,4594,null,null,null,null,0,111]
[22,4700,13,4720,14,4728,null,null,null,null,0,211]
[22,4844,13,4856,14,4867,null,null,null,null,0,211]
[22,4974,13,5004,14,5019,null,null,null,null,0,211]
[22,5125,13,5141,14,5149,null,null,null,null,0,211]
[22,5249,24,5259,14,5270,null,null,null,null,0,221]
[22,5372,13,5383,14,5390,null,null,null,null,0,211]
[22,5494,13,5505,14,5514,null,null,null,null,0,211]
[11,5623,11,5633,12,5644,null,null,null,null,0,111]
[11,5762,11,5768,12,5780,null,null,null,null,0,111]
[22,5878,13,5902,14,5910,null,null,null,null,0,211]
[11,6053,11,6062,12,6071,null,null,null,null,0,111]
[11,6188,11,6196,12,6207,null,null,null,null,0,111]
[11,6364,11,6374,12,6385,null,null,null,null,0,111]
[22,6482,13,6498,14,6506,null,null,null,null,0,211]
[11,6622,11,6631,12,6641,null,null,null,null,0,111]
[11,6763,11,6772,12,6784,null,null,null,null,0,111]
[11,6924,11,6932,12,6942,null,null,null,null,0,111]
[22,7057,13,7077,14,7084,null,null,null,null,0,211]
[22,7191,13,7212,14,7222,null,null,null,null,0,211]
[22,7329,13,7344,14,7351,null,null,null,null,0,211]
[22,7444,13,7468,14,7476,null,null,null,null,0,211]
[22,7595,13,7611,14,7620,null,null,null,null,0,211]
[22,7721,24,7729,14,7747,null,null,null,null,0,221]
[11,7879,11,7886,12,7898,null,null,null,null,0,111]
[22,7995,13,8014,14,8022,null,null,null,null,0,211]
[22,8124,24,8143,14,8159,null,null,null,null,0,221]
[11,8278,11,8288,12,8299,null,null,null,null,0,111]
[22,8399,13,8418,14,8425,null,null,null,null,0,211]
[22,8525,13,8536,14,8541,null,null,null,null,0,211]
[22,8662,24,8745,14,8762,null,null,null,null,0,221]
[22,8860,24,8867,14,8885,null,null,null,null,0,221]
[22,8996,13,9008,14,9015,null,null,null,null,0,211]
[22,9109,13,9127,14,9133,null,null,null,null,0,211]
[22,9243,13,9259,14,9269,null,null,null,null,0,211]
[22,9382,24,9389,23,9395,null,null,null,null,0,222]
[11,9509,11,9516,12,9528,null,null,null,null,0,111]
[22,9633,13,9651,14,9659,null,null,null,null,0,211]
[22,9756,24,9763,14,9788,null,null,null,null,0,221]
[22,9889,13,9910,14,9921,null,null,null,null,0,211]
[22,10048,13,10070,14,10080,null,null,null,null,0,211]
[22,10180,24,10196,14,10208,null,null,null,null,0,221]
[22,10313,13,10323,14,10331,null,null,null,null,0,211]
[11,10454,11,10464,12,10475,null,null,null,null,0,111]
[22,10580,24,10597,14,10609,null,null,null,null,0,221]
[11,10743,11,10753,12,10767,null,null,null,null,0,111]
[22,10866,24,10883,23,10891,null,null,null,null,0,222]
[11,11017,11,11023,12,11033,null,null,null,null,0,111]
[22,11134,13,11151,14,11158,null,null,null,null,0,211]
[22,11260,13,11276,14,11284,null,null,null,null,0,211]
[22,11379,13,11397,14,11404,null,null,null,null,0,211]
[22,11513,13,11524,14,11531,null,null,null,null,0,211]
[22,11644,24,11676,14,11694,null,null,null,null,0,221]
[22,11793,24,11800,14,11823,null,null,null,null,0,221]
[22,11928,13,11953,14,11960,null,null,null,null,0,211]
[22,12071,13,12088,14,12096,null,null,null,null,0,211]
[11,12263,11,12271,12,12282,null,null,null,null,0,111]
[22,12384,13,12406,14,12414,null,null,null,null,0,211]
[22,12512,24,12526,14,12538,null,null,null,null,0,221]
[22,12648,13,12667,14,12678,null,null,null,null,0,211]
[22,12789,24,12809,14,12817,null,null,null,null,0,221]
[11,12961,11,12971,12,12983,null,null,null,null,0,111]
[22,13139,13,13167,14,13175,null,null,null,null,0,211]
[22,13287,13,13310,14,13319,null,null,null,null,0,211]
[22,13423,24,13434,23,13448,null,null,null,null,0,222]
[22,13557,24,13566,14,13584,null,null,null,null,0,221]
[22,13922,13,13942,14,13953,null,null,null,null,0,211]
[22,14060,24,14068,23,14078,null,null,null,null,0,222]
[22,14289,13,14311,14,14321,null,null,null,null,0,211]
[22,14435,13,14447,14,14455,null,null,null,null,0,211]
[11,14579,11,14586,12,14597,null,null,null,null,0,111]
[22,14719,24,14727,23,14739,null,null,null,null,0,222]
[22,14895,13,14911,14,14921,null,null,null,null,0,211]
[22,15028,24,15035,14,15058,null,null,null,null,0,221]
[11,15198,11,15206,12,15217,null,null,null,null,0,111]
[11,15371,11,15380,12,15393,null,null,null,null,0,111]
[11,15528,11,15540,12,15552,null,null,null,null,0,111]
[22,15665,13,15685,14,15693,null,null,null,null,0,211]
[11,15830,11,15838,12,15849,null,null,null,null,0,111]
[22,15972,24,15977,14,15988,null,null,null,null,0,221]
[22,16098,13,16131,14,16139,null,null,null,null,0,211]
[22,16242,13,16259,14,16266,null,null,null,null,0,211]
[22,16380,13,16397,14,16408,null,null,null,null,0,211]
[22,16515,13,16533,14,16540,null,null,null,null,0,211]
[22,16649,13,16669,14,16677,null,null,null,null,0,211]
[22,16787,13,16798,14,16806,null,null,null,null,0,211]
[22,16930,24,16936,14,16951,null,null,null,null,0,221]
[22,17064,13,17080,14,17091,null,null,null,null,0,211]
[11,17350,11,17362,12,17374,null,null,null,null,0,111]
[22,17488,13,17503,14,17510,null,null,null,null,0,211]
[22,17620,13,17633,14,17641,null,null,null,null,0,211]
[11,17769,11,17781,12,17792,null,null,null,null,0,111]
[22,17929,13,17950,14,17959,null,null,null,null,0,211]
[22,18088,13,18103,14,18110,null,null,null,null,0,211]
[22,18225,13,18237,14,18245,null,null,null,null,0,211]
[11,18368,11,18376,12,18387,null,null,null,null,0,111]
[11,18516,11,18524,12,18535,null,null,null,null,0,111]
[11,18665,11,18674,12,18688,null,null,null,null,0,111]
[22,18829,24,18837,14,18848,null,null,null,null,0,221]
[11,19000,11,19012,12,19023,null,null,null,null,0,111]
[22,19139,13,19153,14,19162,null,null,null,null,0,211]
[22,19291,24,19299,14,19310,null,null,null,null,0,221]
[22,19423,13,19434,14,19442,null,null,null,null,0,211]
[11,19561,11,19569,12,19582,null,null,null,null,0,111]
[11,19753,11,19762,12,19773,null,null,null,null,0,111]
[11,19904,11,19916,12,19927,null,null,null,null,0,111]
[22,20044,13,20059,14,20070,null,null,null,null,0,211]
[11,20200,11,20207,12,20219,null,null,null,null,0,111]
[22,20323,24,20331,14,20341,null,null,null,null,0,221]
[11,20481,11,20492,12,20504,null,null,null,null,0,111]
[11,20645,11,20653,12,20664,null,null,null,null,0,111]
[11,20804,11,20817,12,20827,null,null,null,null,0,111]
[22,20931,24,20937,14,20954,null,null,null,null,0,221]
[22,21071,13,21085,14,21095,null,null,null,null,0,211]
[11,21290,11,21298,12,21310,null,null,null,null,0,111]
[22,21422,24,21429,23,21443,null,null,null,null,0,222]
[11,21571,11,21579,12,21591,null,null,null,null,0,111]
[22,21705,13,21723,14,21731,null,null,null,null,0,211]
[22,21833,24,21838,14,21855,null,null,null,null,0,221]
[22,21994,13,22002,14,22010,null,null,null,null,0,211]
[22,22137,13,22147,14,22155,null,null,null,null,0,211]
[22,22267,13,22283,14,22292,null,null,null,null,0,211]
[22,22389,24,22394,14,22410,null,null,null,null,0,221]
[11,22525,11,22532,12,22542,null,null,null,null,0,111]
[22,22641,13,22653,14,22661,null,null,null,null,0,211]
[22,22774,13,22799,14,22809,null,null,null,null,0,211]
[11,22937,11,22944,12,22956,null,null,null,null,0,111]
[22,23055,13,23073,14,23081,null,null,null,null,0,211]
[22,23203,13,23215,14,23226,null,null,null,null,0,211]
[22,23341,13,23359,14,23367,null,null,null,null,0,211]
[22,23474,13,23492,14,23502,null,null,null,null,0,211]
[22,23616,13,23634,14,23643,null,null,null,null,0,211]
[11,23765,11,23772,12,23784,null,null,null,null,0,111]
[22,23903,13,23922,14,23929,null,null,null,null,1,211]

{"sheet":"!MA25A50.095","index":13,"n_rows":191,"n_cols":48,"rows_kept":191,"cut":false,"hidden":false,"merged":[[4,39,4,42],[5,39,5,40],[4,44,4,47],[5,44,5,45],[4,24,4,27],[5,24,5,25],[4,29,4,32],[5,29,5,30],[4,34,4,37],[5,34,5,35],[1,1,1,2],[5,13,5,14],[18,13,18,14],[19,13,19,14],[4,19,4,22],[5,19,5,20]]}
["Report for:!MA25A50.095"]
["Date:","<date>"]
["Hen:","<hen>",null,null,null,"Correct Sequence",{"$f":"Start!J2","v":122},null,null,null,null,null,null,null,null,"Total Sequences in Data",{"$f":"4994-COUNTBLANK(L7:L5000)","v":185},null,null,null,null,"Total Sequences in Block Data",{"$f":"COUNTA(L7:L37)","v":31},null,null,null,"Total Sequences in Block Data",{"$f":"COUNTA(L38:L68)","v":31},null,null,null,"Total Sequences in Block Data",{"$f":"COUNTA(L69:L98)","v":30},null,null,null,"Total Sequences in Block Data",{"$f":"COUNTA(L99:L129)","v":31},null,null,null,"Total Sequences in Block Data",{"$f":"COUNTA(L130:L160)","v":31},null,null,null,"Total Sequences in Block Data",{"$f":"COUNTA(L161:L191)","v":31}]
[null,null,null,null,null,null,null,null,null,null,null,null,null,null,null,"Total Sequences in Summary",{"$f":"SUM(O7:O14)","v":185},null,null,null,null,"Total Sequences in Block Summary",{"$f":"SUM(U7:U14)","v":31},null,null,null,"Total Sequences in Block Summary",{"$f":"SUM(Z7:Z14)","v":31},null,null,null,"Total Sequences in Block Summary",{"$f":"SUM(AE7:AE14)","v":30},null,null,null,"Total Sequences in Block Summary",{"$f":"SUM(AJ7:AJ14)","v":31},null,null,null,"Total Sequences in Block Summary",{"$f":"SUM(AO7:AO14)","v":31},null,null,null,"Total Sequences in Block Summary",{"$f":"SUM(AT7:AT14)","v":31}]
[null,null,null,null,null,null,null,null,null,null,null,null,null,null,null,null,null,null,null,"Block 1",null,null,null,null,"Block 2",null,null,null,null,"Block 3",null,null,null,null,"Block 4",null,null,null,null,"Block 5",null,null,null,null,"Block 6"]
["Sequence\nComponent\n1","Time\n1","Sequence\nComponent\n2","Time\n2","Sequence\nComponent\n3","Time\n3","Sequence\nComponent\n4","Time\n4","Sequence\nComponent\n5","Time\n5","Correct?\n0=No 1=Yes","Sequence",null,"Frequency",null,"Relative Frequency","Variability",null,null,"Frequency",null,"Relative Frequency","Variability",null,"Frequency",null,"Relative Frequency","Variability",null,"Frequency",null,"Relative Frequency","Variability",null,"Frequency",null,"Relative Frequency","Variability",null,"Frequency",null,"Relative Frequency","Variability",null,"Frequency",null,"Relative Frequency","Variability"]
[22,18,13,39,14,49,null,null,null,null,0,211,null,111,{"$f":"COUNTIF($L$7:$L$500,N7)","v":97},{"$f":"O7/$Q$4","v":0.5243243243243243},{"$f":"IF(P7=0,0,(P7*((LOG(P7))/LOG(2))))","v":-0.48839165393476158},null,null,{"$f":"N7","v":111},{"$f":"COUNTIF(L7:L37,T7)","v":15},{"$f":"U7/(W4-U10)","v":0.4838709677419355},{"$f":"IF(V7=0,0,(V7*((LOG(V7))/LOG(2))))","v":-0.50676082973146286},null,{"$f":"N7","v":111},{"$f":"COUNTIF(L38:L68,Y7)","v":14},{"$f":"Z7/(AB4-Z10)","v":0.45161290322580644},{"$f":"IF(AA7=0,0,(AA7*((LOG(AA7))/LOG(2))))","v":-0.51792836892289662},null,{"$f":"N7","v":111},{"$f":"COUNTIF(L69:L98,AD7)","v":15},{"$f":"AE7/(AG4-AE10)","v":0.5},{"$f":"IF(AF7=0,0,(AF7*((LOG(AF7))/LOG(2))))","v":-0.5},null,{"$f":"N7","v":111},{"$f":"COUNTIF(L99:L129,AI7)","v":17},{"$f":"AJ7/(AL4-AJ10)","v":0.54838709677419351},{"$f":"IF(AK7=0,0,(AK7*((LOG(AK7))/LOG(2))))","v":-0.47530545081681003},null,{"$f":"N7","v":111},{"$f":"COUNTIF(L130:L160,AN7)","v":16},{"$f":"AO7/(AQ4-AO10)","v":0.5161290322580645},{"$f":"IF(AP7=0,0,(AP7*((LOG(AP7))/LOG(2))))","v":-0.49248841826419365},null,{"$f":"N7","v":111},{"$f":"COUNTIF(L161:L191,AS7)","v":20},{"$f":"AT7/(AV4-AT10)","v":0.64516129032258063},{"$f":"IF(AU7=0,0,(AU7*((LOG(AU7))/LOG(2))))","v":-0.40791497774162117}]
[11,175,11,193,12,250,null,null,null,null,0,111,null,112,{"$f":"COUNTIF($L$7:$L$500,N8)","v":0},{"$f":"O8/$Q$4","v":0},{"$f":"IF(P8=0,0,(P8*((LOG(P8))/LOG(2))))","v":0},null,null,{"$f":"N8","v":112},{"$f":"COUNTIF(L7:L37,T8)","v":0},{"$f":"U8/(W4-U10)","v":0},{"$f":"IF(V8=0,0,(V8*((LOG(V8))/LOG(2))))","v":0},null,{"$f":"N8","v":112},{"$f":"COUNTIF(L38:L68,Y8)","v":0},{"$f":"Z8/(AB4-Z10)","v":0},{"$f":"IF(AA8=0,0,(AA8*((LOG(AA8))/LOG(2))))","v":0},null,{"$f":"N8","v":112},{"$f":"COUNTIF(L69:L98,AD8)","v":0},{"$f":"AE8/(AG4-AE10)","v":0},{"$f":"IF(AF8=0,0,(AF8*((LOG(AF8))/LOG(2))))","v":0},null,{"$f":"N8","v":112},{"$f":"COUNTIF(L99:L129,AI8)","v":0},{"$f":"AJ8/(AL4-AJ10)","v":0},{"$f":"IF(AK8=0,0,(AK8*((LOG(AK8))/LOG(2))))","v":0},null,{"$f":"N8","v":112},{"$f":"COUNTIF(L130:L160,AN8)","v":0},{"$f":"AO8/(AQ4-AO10)","v":0},{"$f":"IF(AP8=0,0,(AP8*((LOG(AP8))/LOG(2))))","v":0},null,{"$f":"N8","v":112},{"$f":"COUNTIF(L161:L191,AS8)","v":0},{"$f":"AT8/(AV4-AT10)","v":0},{"$f":"IF(AU8=0,0,(AU8*((LOG(AU8))/LOG(2))))","v":0}]
[11,384,11,396,12,409,null,null,null,null,0,111,null,121,{"$f":"COUNTIF($L$7:$L$500,N9)","v":0},{"$f":"O9/$Q$4","v":0},{"$f":"IF(P9=0,0,(P9*((LOG(P9))/LOG(2))))","v":0},null,null,{"$f":"N9","v":121},{"$f":"COUNTIF(L7:L37,T9)","v":0},{"$f":"U9/(W4-U10)","v":0},{"$f":"IF(V9=0,0,(V9*((LOG(V9))/LOG(2))))","v":0},null,{"$f":"N9","v":121},{"$f":"COUNTIF(L38:L68,Y9)","v":0},{"$f":"Z9/(AB4-Z10)","v":0},{"$f":"IF(AA9=0,0,(AA9*((LOG(AA9))/LOG(2))))","v":0},null,{"$f":"N9","v":121},{"$f":"COUNTIF(L69:L98,AD9)","v":0},{"$f":"AE9/(AG4-AE10)","v":0},{"$f":"IF(AF9=0,0,(AF9*((LOG(AF9))/LOG(2))))","v":0},null,{"$f":"N9","v":121},{"$f":"COUNTIF(L99:L129,AI9)","v":0},{"$f":"AJ9/(AL4-AJ10)","v":0},{"$f":"IF(AK9=0,0,(AK9*((LOG(AK9))/LOG(2))))","v":0},null,{"$f":"N9","v":121},{"$f":"COUNTIF(L130:L160,AN9)","v":0},{"$f":"AO9/(AQ4-AO10)","v":0},{"$f":"IF(AP9=0,0,(AP9*((LOG(AP9))/LOG(2))))","v":0},null,{"$f":"N9","v":121},{"$f":"COUNTIF(L161:L191,AS9)","v":0},{"$f":"AT9/(AV4-AT10)","v":0},{"$f":"IF(AU9=0,0,(AU9*((LOG(AU9))/LOG(2))))","v":0}]
[22,519,13,532,14,540,null,null,null,null,0,211,null,122,{"$f":"COUNTIF($L$7:$L$500,N10)","v":0},{"$f":"O10/$Q$4","v":0},{"$f":"IF(P10=0,0,(P10*((LOG(P10))/LOG(2))))","v":0},null,null,{"$f":"N10","v":122},{"$f":"COUNTIF(L7:L37,T10)","v":0},null,null,null,{"$f":"N10","v":122},{"$f":"COUNTIF(L38:L68,Y10)","v":0},null,null,null,{"$f":"N10","v":122},{"$f":"COUNTIF(L69:L98,AD10)","v":0},null,null,null,{"$f":"N10","v":122},{"$f":"COUNTIF(L99:L129,AI10)","v":0},null,null,null,{"$f":"N10","v":122},{"$f":"COUNTIF(L130:L160,AN10)","v":0},null,null,null,{"$f":"N10","v":122},{"$f":"COUNTIF(L161:L191,AS10)","v":0}]
[22,649,13,662,14,670,null,null,null,null,0,211,null,211,{"$f":"COUNTIF($L$7:$L$500,N11)","v":86},{"$f":"O11/$Q$4","v":0.46486486486486489},{"$f":"IF(P11=0,0,(P11*((LOG(P11))/LOG(2))))","v":-0.51372992810822937},null,null,{"$f":"N11","v":211},{"$f":"COUNTIF(L7:L37,T11)","v":15},{"$f":"U11/(W4-U10)","v":0.4838709677419355},{"$f":"IF(V11=0,0,(V11*((LOG(V11))/LOG(2))))","v":-0.50676082973146286},null,{"$f":"N11","v":211},{"$f":"COUNTIF(L38:L68,Y11)","v":17},{"$f":"Z11/(AB4-Z10)","v":0.54838709677419351},{"$f":"IF(AA11=0,0,(AA11*((LOG(AA11))/LOG(2))))","v":-0.47530545081681003},null,{"$f":"N11","v":211},{"$f":"COUNTIF(L69:L98,AD11)","v":14},{"$f":"AE11/(AG4-AE10)","v":0.46666666666666667},{"$f":"IF(AF11=0,0,(AF11*((LOG(AF11))/LOG(2))))","v":-0.51311664765709342},null,{"$f":"N11","v":211},{"$f":"COUNTIF(L99:L129,AI11)","v":14},{"$f":"AJ11/(AL4-AJ10)","v":0.45161290322580644},{"$f":"IF(AK11=0,0,(AK11*((LOG(AK11))/LOG(2))))","v":-0.51792836892289662},null,{"$f":"N11","v":211},{"$f":"COUNTIF(L130:L160,AN11)","v":15},{"$f":"AO11/(AQ4-AO10)","v":0.4838709677419355},{"$f":"IF(AP11=0,0,(AP11*((LOG(AP11))/LOG(2))))","v":-0.50676082973146286},null,{"$f":"N11","v":211},{"$f":"COUNTIF(L161:L191,AS11)","v":11},{"$f":"AT11/(AV4-AT10)","v":0.35483870967741937},{"$f":"IF(AU11=0,0,(AU11*((LOG(AU11))/LOG(2))))","v":-0.53040037449178568}]
[22,789,13,801,14,812,null,null,null,null,0,211,null,212,{"$f":"COUNTIF($L$7:$L$500,N12)","v":0},{"$f":"O12/$Q$4","v":0},{"$f":"IF(P12=0,0,(P12*((LOG(P12))/LOG(2))))","v":0},null,null,{"$f":"N12","v":212},{"$f":"COUNTIF(L7:L37,T12)","v":0},{"$f":"U12/(W4-U10)","v":0},{"$f":"IF(V12=0,0,(V12*((LOG(V12))/LOG(2))))","v":0},null,{"$f":"N12","v":212},{"$f":"COUNTIF(L38:L68,Y12)","v":0},{"$f":"Z12/(AB4-Z10)","v":0},{"$f":"IF(AA12=0,0,(AA12*((LOG(AA12))/LOG(2))))","v":0},null,{"$f":"N12","v":212},{"$f":"COUNTIF(L69:L98,AD12)","v":0},{"$f":"AE12/(AG4-AE10)","v":0},{"$f":"IF(AF12=0,0,(AF12*((LOG(AF12))/LOG(2))))","v":0},null,{"$f":"N12","v":212},{"$f":"COUNTIF(L99:L129,AI12)","v":0},{"$f":"AJ12/(AL4-AJ10)","v":0},{"$f":"IF(AK12=0,0,(AK12*((LOG(AK12))/LOG(2))))","v":0},null,{"$f":"N12","v":212},{"$f":"COUNTIF(L130:L160,AN12)","v":0},{"$f":"AO12/(AQ4-AO10)","v":0},{"$f":"IF(AP12=0,0,(AP12*((LOG(AP12))/LOG(2))))","v":0},null,{"$f":"N12","v":212},{"$f":"COUNTIF(L161:L191,AS12)","v":0},{"$f":"AT12/(AV4-AT10)","v":0},{"$f":"IF(AU12=0,0,(AU12*((LOG(AU12))/LOG(2))))","v":0}]
[11,930,11,938,12,951,null,null,null,null,0,111,null,221,{"$f":"COUNTIF($L$7:$L$500,N13)","v":2},{"$f":"O13/$Q$4","v":1.0810810810810811E-2},{"$f":"IF(P13=0,0,(P13*((LOG(P13))/LOG(2))))","v":-7.0609529302879045E-2},null,null,{"$f":"N13","v":221},{"$f":"COUNTIF(L7:L37,T13)","v":1},{"$f":"U13/(W4-U10)","v":3.2258064516129031E-2},{"$f":"IF(V13=0,0,(V13*((LOG(V13))/LOG(2))))","v":-0.15981278420602821},null,{"$f":"N13","v":221},{"$f":"COUNTIF(L38:L68,Y13)","v":0},{"$f":"Z13/(AB4-Z10)","v":0},{"$f":"IF(AA13=0,0,(AA13*((LOG(AA13))/LOG(2))))","v":0},null,{"$f":"N13","v":221},{"$f":"COUNTIF(L69:L98,AD13)","v":1},{"$f":"AE13/(AG4-AE10)","v":3.3333333333333333E-2},{"$f":"IF(AF13=0,0,(AF13*((LOG(AF13))/LOG(2))))","v":-0.16356301985361729},null,{"$f":"N13","v":221},{"$f":"COUNTIF(L99:L129,AI13)","v":0},{"$f":"AJ13/(AL4-AJ10)","v":0},{"$f":"IF(AK13=0,0,(AK13*((LOG(AK13))/LOG(2))))","v":0},null,{"$f":"N13","v":221},{"$f":"COUNTIF(L130:L160,AN13)","v":0},{"$f":"AO13/(AQ4-AO10)","v":0},{"$f":"IF(AP13=0,0,(AP13*((LOG(AP13))/LOG(2))))","v":0},null,{"$f":"N13","v":221},{"$f":"COUNTIF(L161:L191,AS13)","v":0},{"$f":"AT13/(AV4-AT10)","v":0},{"$f":"IF(AU13=0,0,(AU13*((LOG(AU13))/LOG(2))))","v":0}]
[22,1060,13,1073,14,1078,null,null,null,null,0,211,null,222,{"$f":"COUNTIF($L$7:$L$500,N14)","v":0},{"$f":"O14/$Q$4","v":0},{"$f":"IF(P14=0,0,(P14*((LOG(P14))/LOG(2))))","v":0},null,null,{"$f":"N14","v":222},{"$f":"COUNTIF(L7:L37,T14)","v":0},{"$f":"U14/(W4-U10)","v":0},{"$f":"IF(V14=0,0,(V14*((LOG(V14))/LOG(2))))","v":0},null,{"$f":"N14","v":222},{"$f":"COUNTIF(L38:L68,Y14)","v":0},{"$f":"Z14/(AB4-Z10)","v":0},{"$f":"IF(AA14=0,0,(AA14*((LOG(AA14))/LOG(2))))","v":0},null,{"$f":"N14","v":222},{"$f":"COUNTIF(L69:L98,AD14)","v":0},{"$f":"AE14/(AG4-AE10)","v":0},{"$f":"IF(AF14=0,0,(AF14*((LOG(AF14))/LOG(2))))","v":0},null,{"$f":"N14","v":222},{"$f":"COUNTIF(L99:L129,AI14)","v":0},{"$f":"AJ14/(AL4-AJ10)","v":0},{"$f":"IF(AK14=0,0,(AK14*((LOG(AK14))/LOG(2))))","v":0},null,{"$f":"N14","v":222},{"$f":"COUNTIF(L130:L160,AN14)","v":0},{"$f":"AO14/(AQ4-AO10)","v":0},{"$f":"IF(AP14=0,0,(AP14*((LOG(AP14))/LOG(2))))","v":0},null,{"$f":"N14","v":222},{"$f":"COUNTIF(L161:L191,AS14)","v":0},{"$f":"AT14/(AV4-AT10)","v":0},{"$f":"IF(AU14=0,0,(AU14*((LOG(AU14))/LOG(2))))","v":0}]
[22,1181,13,1201,14,1210,null,null,null,null,0,211,null,null,null,{"$f":"SUM(P7:P14)","v":1},{"$f":"-SUM(Q7:Q14)","v":1.07273111134587},null,null,null,null,{"$f":"SUM(V7:V14)","v":1},{"$f":"-SUM(W7:W14)","v":1.1733344436689539},null,null,null,{"$f":"SUM(AA7:AA14)","v":1},{"$f":"-SUM(AB7:AB14)","v":0.99323381973970659},null,null,null,{"$f":"SUM(AF7:AF14)","v":1},{"$f":"-SUM(AG7:AG14)","v":1.1766796675107107},null,null,null,{"$f":"SUM(AK7:AK14)","v":1},{"$f":"-SUM(AL7:AL14)","v":0.99323381973970659},null,null,null,{"$f":"SUM(AP7:AP14)","v":1},{"$f":"-SUM(AQ7:AQ14)","v":0.99924924799565651},null,null,null,{"$f":"SUM(AU7:AU14)","v":1},{"$f":"-SUM(AV7:AV14)","v":0.9383153522334069}]
[22,1315,13,1338,14,1347,null,null,null,null,0,211,null,null,null,"U=",{"$f":"Q15/(LOG(Q4)/LOG(2))","v":0.14243483973952492},null,null,null,null,"U1=",{"$f":"W15/(LOG(W4)/LOG(2))","v":0.23683648570989466},null,null,null,"U2=",{"$f":"AB15/(LOG(AB4)/LOG(2))","v":0.20048333927690981},null,null,null,"U3=",{"$f":"AG15/(LOG(AG4)/LOG(2))","v":0.23980148825078645},null,null,null,"U4=",{"$f":"AL15/(LOG(AL4)/LOG(2))","v":0.20048333927690981},null,null,null,"U5=",{"$f":"AQ15/(LOG(AQ4)/LOG(2))","v":0.20169754797577344},null,null,null,"U6=",{"$f":"AV15/(LOG(AV4)/LOG(2))","v":0.18939809677427447}]
[11,1447,11,1455,12,1464,null,null,null,null,0,111]
[11,1582,11,1590,12,1602,null,null,null,null,0,111]
[11,1720,11,1728,12,1739,null,null,null,null,0,111,null,"Total Target Seq"]
[11,1855,11,1862,12,1874,null,null,null,null,0,111,null,{"$f":"COUNTIF(L7:L191,G3)","v":0},null,31,31,30,31,31,31]
[11,1992,11,2000,12,2012,null,null,null,null,0,111,null,null,null,"% of reinforcement given in 6 equal intervals based on number of trials "]
[22,2116,13,2128,14,2136,null,null,null,null,0,211,null,null,null,"%_1","%_2","%_3","%_4","%_5","%_6"]
[22,2235,13,2246,14,2251,null,null,null,null,0,211,null,null,"target sequence",{"$f":"$G$3","v":122},{"$f":"$G$3","v":122},{"$f":"$G$3","v":122},{"$f":"$G$3","v":122},{"$f":"$G$3","v":122},{"$f":"$G$3","v":122}]
[22,2352,13,2363,14,2369,null,null,null,null,0,211,null,null,"total reinforcement",{"$f":"U10","v":0},{"$f":"Z10","v":0},{"$f":"AE10","v":0},{"$f":"AJ10","v":0},{"$f":"AO10","v":0},{"$f":"AT10","v":0}]
[11,2490,11,2498,12,2510,null,null,null,null,0,111,null,null,"% target"]
[11,2641,11,2649,12,2660,null,null,null,null,0,111,null,null,"CCRF"]
[11,2771,11,2779,12,2792,null,null,null,null,0,111,null,null,"% CCRf"]
[22,2892,13,2905,14,2911,null,null,null,null,0,211,null,null,"average response rate",{"$f":"F37/P20","v":131.41935483870967},{"$f":"(F68-F37)/Q20","v":129.16129032258064},{"$f":"(F98-F68)/R20","v":132.06666666666666},{"$f":"(F129-F98)/S20","v":127.29032258064517},{"$f":"(F160-F129)/T20","v":126.2258064516129},{"$f":"(F191-F160)/U20","v":130.96774193548387}]
[22,3017,13,3030,14,3037,null,null,null,null,0,211]
[22,3139,13,3150,14,3160,null,null,null,null,0,211]
[11,3270,11,3275,12,3284,null,null,null,null,0,111]
[11,3399,11,3407,12,3417,null,null,null,null,0,111]
[22,3509,24,3534,14,3543,null,null,null,null,0,221]
[11,3665,11,3673,12,3686,null,null,null,null,0,111]
[22,3791,13,3803,14,3808,null,null,null,null,0,211]
[22,3919,13,3929,14,3935,null,null,null,null,0,211]
[11,4056,11,4063,12,4074,null,null,null,null,0,111]
[11,4189,11,4198,12,4209,null,null,null,null,0,111]
[22,4305,13,4315,14,4320,null,null,null,null,0,211]
[11,4436,11,4442,12,4453,null,null,null,null,0,111]
[22,4558,13,4570,14,4578,null,null,null,null,0,211]
[22,4680,13,4692,14,4700,null,null,null,null,0,211]
[11,4825,11,4833,12,4844,null,null,null,null,0,111]
[22,4950,13,4963,14,4971,null,null,null,null,0,211]
[11,5082,11,5089,12,5098,null,null,null,null,0,111]
[11,5214,11,5219,12,5231,null,null,null,null,0,111]
[22,5339,13,5356,14,5364,null,null,null,null,0,211]
[11,5480,11,5487,12,5496,null,null,null,null,0,111]
[22,5598,13,5610,14,5616,null,null,null,null,0,211]
[22,5729,13,5744,14,5752,null,null,null,null,0,211]
[11,5868,11,5877,12,5888,null,null,null,null,0,111]
[11,6008,11,6015,12,6029,null,null,null,null,0,111]
[11,6145,11,6150,12,6161,null,null,null,null,0,111]
[22,6257,13,6275,14,6281,null,null,null,null,0,211]
[11,6399,11,6408,12,6417,null,null,null,null,0,111]
[22,6521,13,6532,14,6538,null,null,null,null,0,211]
[22,6650,13,6659,14,6665,null,null,null,null,0,211]
[22,6767,13,6779,14,6785,null,null,null,null,0,211]
[22,6898,13,6910,14,6918,null,null,null,null,0,211]
[22,7022,13,7031,14,7036,null,null,null,null,0,211]
[22,7139,13,7154,14,7165,null,null,null,null,0,211]
[11,7284,11,7292,12,7303,null,null,null,null,0,111]
[11,7417,11,7423,12,7434,null,null,null,null,0,111]
[11,7555,11,7562,12,7573,null,null,null,null,0,111]
[11,7688,11,7695,12,7708,null,null,null,null,0,111]
[22,7811,13,7823,14,7829,null,null,null,null,0,211]
[22,7930,13,7942,14,7948,null,null,null,null,0,211]
[22,8057,13,8069,14,8078,null,null,null,null,0,211]
[22,8179,13,8192,14,8200,null,null,null,null,0,211]
[22,8303,13,8314,14,8320,null,null,null,null,0,211]
[11,8435,11,8440,12,8453,null,null,null,null,0,111]
[11,8576,11,8584,12,8595,null,null,null,null,0,111]
[22,8696,13,8732,14,8740,null,null,null,null,0,211]
[22,8846,13,8857,14,8865,null,null,null,null,0,211]
[22,8976,13,8986,14,8992,null,null,null,null,0,211]
[22,9111,13,9122,14,9130,null,null,null,null,0,211]
[11,9247,11,9255,12,9264,null,null,null,null,0,111]
[11,9385,11,9390,12,9402,null,null,null,null,0,111]
[22,9503,13,9514,14,9521,null,null,null,null,0,211]
[11,9638,11,9646,12,9657,null,null,null,null,0,111]
[11,9762,11,9767,12,9775,null,null,null,null,0,111]
[11,9899,11,9910,12,9921,null,null,null,null,0,111]
[11,10035,11,10040,12,10048,null,null,null,null,0,111]
[22,10153,13,10167,14,10176,null,null,null,null,0,211]
[11,10294,11,10301,12,10312,null,null,null,null,0,111]
[11,10440,11,10448,12,10460,null,null,null,null,0,111]
[22,10562,13,10588,14,10598,null,null,null,null,0,211]
[22,10700,13,10717,14,10725,null,null,null,null,0,211]
[11,10844,11,10851,12,10863,null,null,null,null,0,111]
[22,10968,13,10983,14,10988,null,null,null,null,0,211]
[22,11098,13,11110,14,11115,null,null,null,null,0,211]
[11,11236,11,11251,12,11261,null,null,null,null,0,111]
[22,11364,24,11372,14,11384,null,null,null,null,0,221]
[22,11485,13,11502,14,11509,null,null,null,null,0,211]
[11,11638,11,11646,12,11655,null,null,null,null,0,111]
[11,11771,11,11779,12,11790,null,null,null,null,0,111]
[22,11888,13,11906,14,11915,null,null,null,null,0,211]
[11,12027,11,12032,12,12040,null,null,null,null,0,111]
[22,12143,13,12159,14,12168,null,null,null,null,0,211]
[11,12288,11,12293,12,12301,null,null,null,null,0,111]
[11,12422,11,12430,12,12440,null,null,null,null,0,111]
[11,12565,11,12572,12,12581,null,null,null,null,0,111]
[11,12702,11,12711,12,12723,null,null,null,null,0,111]
[22,12824,13,12845,14,12854,null,null,null,null,0,211]
[11,12969,11,12976,12,12987,null,null,null,null,0,111]
[11,13101,11,13108,12,13117,null,null,null,null,0,111]
[11,13233,11,13239,12,13247,null,null,null,null,0,111]
[22,13354,13,13363,14,13372,null,null,null,null,0,211]
[11,13483,11,13488,12,13500,null,null,null,null,0,111]
[11,13607,11,13612,12,13621,null,null,null,null,0,111]
[22,13723,13,13738,14,13747,null,null,null,null,0,211]
[11,13849,11,13853,12,13861,null,null,null,null,0,111]
[22,13961,13,13971,14,13976,null,null,null,null,0,211]
[11,14088,11,14096,12,14107,null,null,null,null,0,111]
[22,14212,13,14231,14,14239,null,null,null,null,0,211]
[22,14340,13,14352,14,14360,null,null,null,null,0,211]
[11,14476,11,14483,12,14494,null,null,null,null,0,111]
[11,14608,11,14617,12,14628,null,null,null,null,0,111]
[22,14729,13,14741,14,14746,null,null,null,null,0,211]
[22,14852,13,14866,14,14874,null,null,null,null,0,211]
[11,14988,11,14994,12,15002,null,null,null,null,0,111]
[22,15103,13,15115,14,15123,null,null,null,null,0,211]
[22,15228,13,15236,14,15242,null,null,null,null,0,211]
[11,15355,11,15360,12,15369,null,null,null,null,0,111]
[11,15482,11,15488,12,15497,null,null,null,null,0,111]
[22,15595,13,15608,14,15615,null,null,null,null,0,211]
[11,15728,11,15738,12,15749,null,null,null,null,0,111]
[22,15849,13,15861,14,15866,null,null,null,null,0,211]
[22,15967,13,15978,14,15986,null,null,null,null,0,211]
[22,16092,13,16101,14,16106,null,null,null,null,0,211]
[11,16218,11,16224,12,16234,null,null,null,null,0,111]
[11,16355,11,16363,12,16374,null,null,null,null,0,111]
[22,16475,13,16488,14,16494,null,null,null,null,0,211]
[22,16598,13,16609,14,16616,null,null,null,null,0,211]
[22,16717,13,16729,14,16738,null,null,null,null,0,211]
[22,16842,13,16855,14,16863,null,null,null,null,0,211]
[11,16975,11,16983,12,16995,null,null,null,null,0,111]
[22,17096,13,17107,14,17113,null,null,null,null,0,211]
[22,17214,13,17225,14,17234,null,null,null,null,0,211]
[22,17335,13,17346,14,17353,null,null,null,null,0,211]
[22,17451,13,17462,14,17469,null,null,null,null,0,211]
[11,17581,11,17588,12,17599,null,null,null,null,0,111]
[22,17701,13,17712,14,17717,null,null,null,null,0,211]
[22,17811,13,17823,14,17829,null,null,null,null,0,211]
[11,17943,11,17951,12,17963,null,null,null,null,0,111]
[11,18093,11,18100,12,18108,null,null,null,null,0,111]
[11,18219,11,18225,12,18236,null,null,null,null,0,111]
[22,18336,13,18348,14,18353,null,null,null,null,0,211]
[11,18467,11,18475,12,18486,null,null,null,null,0,111]
[22,18590,13,18602,14,18609,null,null,null,null,0,211]
[11,18728,11,18733,12,18744,null,null,null,null,0,111]
[11,18857,11,18863,12,18875,null,null,null,null,0,111]
[11,18987,11,18994,12,19005,null,null,null,null,0,111]
[22,19108,13,19117,14,19125,null,null,null,null,0,211]
[22,19227,13,19236,14,19241,null,null,null,null,0,211]
[11,19358,11,19366,12,19379,null,null,null,null,0,111]
[11,19483,11,19492,12,19502,null,null,null,null,0,111]
[11,19616,11,19625,12,19636,null,null,null,null,0,111]
[11,19746,11,19756,12,19766,null,null,null,null,0,111]
[11,19880,11,19887,12,19899,null,null,null,null,0,111]
[22,20004,13,20018,14,20027,null,null,null,null,0,211]
[11,20144,11,20149,12,20161,null,null,null,null,0,111]
[11,20276,11,20282,12,20291,null,null,null,null,0,111]
[11,20404,11,20414,12,20424,null,null,null,null,0,111]
[22,20525,13,20539,14,20548,null,null,null,null,0,211]
[11,20662,11,20670,12,20679,null,null,null,null,0,111]
[11,20792,11,20801,12,20812,null,null,null,null,0,111]
[11,20925,11,20931,12,20939,null,null,null,null,0,111]
[11,21052,11,21057,12,21066,null,null,null,null,0,111]
[11,21179,11,21186,12,21195,null,null,null,null,0,111]
[22,21295,13,21308,14,21314,null,null,null,null,0,211]
[11,21427,11,21436,12,21446,null,null,null,null,0,111]
[22,21551,13,21563,14,21568,null,null,null,null,0,211]
[22,21674,13,21686,14,21694,null,null,null,null,0,211]
[11,21810,11,21819,12,21830,null,null,null,null,0,111]
[22,21930,13,21942,14,21951,null,null,null,null,0,211]
[11,22063,11,22072,12,22083,null,null,null,null,0,111]
[11,22213,11,22221,12,22233,null,null,null,null,0,111]
[11,22356,11,22364,12,22375,null,null,null,null,0,111]
[11,22498,11,22506,12,22518,null,null,null,null,0,111]
[11,22634,11,22643,12,22655,null,null,null,null,0,111]
[22,22750,13,22772,14,22779,null,null,null,null,0,211]
[22,22878,13,22910,14,22919,null,null,null,null,0,211]
[11,23043,11,23051,12,23060,null,null,null,null,0,111]
[11,23174,11,23179,12,23188,null,null,null,null,0,111]
[22,23291,13,23307,14,23316,null,null,null,null,0,211]
[11,23426,11,23431,12,23439,null,null,null,null,0,111]
[22,23543,13,23555,14,23563,null,null,null,null,0,211]
[22,23668,13,23677,14,23685,null,null,null,null,0,211]
[11,23800,11,23805,12,23816,null,null,null,null,0,111]
[11,23938,11,23946,12,23959,null,null,null,null,1,111]

{"sheet":"!MA28B00.095","index":14,"n_rows":197,"n_cols":48,"rows_kept":197,"cut":false,"hidden":false,"merged":[[4,39,4,42],[5,39,5,40],[4,44,4,47],[5,44,5,45],[4,24,4,27],[5,24,5,25],[4,29,4,32],[5,29,5,30],[4,34,4,37],[5,34,5,35],[1,1,1,2],[5,13,5,14],[18,13,18,14],[19,13,19,14],[4,19,4,22],[5,19,5,20]]}
["Report for:!MA28B00.095"]
["Date:","<date>"]
["Hen:","<hen>",null,null,null,"Correct Sequence",{"$f":"Start!J2","v":122},null,null,null,null,null,null,null,null,"Total Sequences in Data",{"$f":"4994-COUNTBLANK(L7:L5000)","v":191},null,null,null,null,"Total Sequences in Block Data",{"$f":"COUNTA(L7:L38)","v":32},null,null,null,"Total Sequences in Block Data",{"$f":"COUNTA(L39:L70)","v":32},null,null,null,"Total Sequences in Block Data",{"$f":"COUNTA(L71:L101)","v":31},null,null,null,"Total Sequences in Block Data",{"$f":"COUNTA(L102:L133)","v":32},null,null,null,"Total Sequences in Block Data",{"$f":"COUNTA(L134:L165)","v":32},null,null,null,"Total Sequences in Block Data",{"$f":"COUNTA(L166:L197)","v":32}]
[null,null,null,null,null,null,null,null,null,null,null,null,null,null,null,"Total Sequences in Summary",{"$f":"SUM(O7:O14)","v":191},null,null,null,null,"Total Sequences in Block Summary",{"$f":"SUM(U7:U14)","v":32},null,null,null,"Total Sequences in Block Summary",{"$f":"SUM(Z7:Z14)","v":32},null,null,null,"Total Sequences in Block Summary",{"$f":"SUM(AE7:AE14)","v":31},null,null,null,"Total Sequences in Block Summary",{"$f":"SUM(AJ7:AJ14)","v":32},null,null,null,"Total Sequences in Block Summary",{"$f":"SUM(AO7:AO14)","v":32},null,null,null,"Total Sequences in Block Summary",{"$f":"SUM(AT7:AT14)","v":32}]
[null,null,null,null,null,null,null,null,null,null,null,null,null,null,null,null,null,null,null,"Block 1",null,null,null,null,"Block 2",null,null,null,null,"Block 3",null,null,null,null,"Block 4",null,null,null,null,"Block 5",null,null,null,null,"Block 6"]
["Sequence\nComponent\n1","Time\n1","Sequence\nComponent\n2","Time\n2","Sequence\nComponent\n3","Time\n3","Sequence\nComponent\n4","Time\n4","Sequence\nComponent\n5","Time\n5","Correct?\n0=No 1=Yes","Sequence",null,"Frequency",null,"Relative Frequency","Variability",null,null,"Frequency",null,"Relative Frequency","Variability",null,"Frequency",null,"Relative Frequency","Variability",null,"Frequency",null,"Relative Frequency","Variability",null,"Frequency",null,"Relative Frequency","Variability",null,"Frequency",null,"Relative Frequency","Variability",null,"Frequency",null,"Relative Frequency","Variability"]
[22,38,13,54,14,62,null,null,null,null,0,211,null,111,{"$f":"COUNTIF($L$7:$L$500,N7)","v":96},{"$f":"O7/$Q$4","v":0.50261780104712039},{"$f":"IF(P7=0,0,(P7*((LOG(P7))/LOG(2))))","v":-0.49883124304817217},null,null,{"$f":"N7","v":111},{"$f":"COUNTIF(L7:L38,T7)","v":15},{"$f":"U7/(W4-U10)","v":0.46875},{"$f":"IF(V7=0,0,(V7*((LOG(V7))/LOG(2))))","v":-0.512395033308507},null,{"$f":"N7","v":111},{"$f":"COUNTIF(L39:L70,Y7)","v":17},{"$f":"Z7/(AB4-Z10)","v":0.53125},{"$f":"IF(AA7=0,0,(AA7*((LOG(AA7))/LOG(2))))","v":-0.48478536558575719},null,{"$f":"N7","v":111},{"$f":"COUNTIF(L71:L101,AD7)","v":14},{"$f":"AE7/(AG4-AE10)","v":0.45161290322580644},{"$f":"IF(AF7=0,0,(AF7*((LOG(AF7))/LOG(2))))","v":-0.51792836892289662},null,{"$f":"N7","v":111},{"$f":"COUNTIF(L102:L133,AI7)","v":15},{"$f":"AJ7/(AL4-AJ10)","v":0.46875},{"$f":"IF(AK7=0,0,(AK7*((LOG(AK7))/LOG(2))))","v":-0.512395033308507},null,{"$f":"N7","v":111},{"$f":"COUNTIF(L134:L165,AN7)","v":14},{"$f":"AO7/(AQ4-AO10)","v":0.4375},{"$f":"IF(AP7=0,0,(AP7*((LOG(AP7))/LOG(2))))","v":-0.52178222159979815},null,{"$f":"N7","v":111},{"$f":"COUNTIF(L166:L197,AS7)","v":21},{"$f":"AT7/(AV4-AT10)","v":0.65625},{"$f":"IF(AU7=0,0,(AU7*((LOG(AU7))/LOG(2))))","v":-0.3987916913014386}]
[22,164,24,172,14,185,null,null,null,null,0,221,null,112,{"$f":"COUNTIF($L$7:$L$500,N8)","v":0},{"$f":"O8/$Q$4","v":0},{"$f":"IF(P8=0,0,(P8*((LOG(P8))/LOG(2))))","v":0},null,null,{"$f":"N8","v":112},{"$f":"COUNTIF(L7:L38,T8)","v":0},{"$f":"U8/(W4-U10)","v":0},{"$f":"IF(V8=0,0,(V8*((LOG(V8))/LOG(2))))","v":0},null,{"$f":"N8","v":112},{"$f":"COUNTIF(L39:L70,Y8)","v":0},{"$f":"Z8/(AB4-Z10)","v":0},{"$f":"IF(AA8=0,0,(AA8*((LOG(AA8))/LOG(2))))","v":0},null,{"$f":"N8","v":112},{"$f":"COUNTIF(L71:L101,AD8)","v":0},{"$f":"AE8/(AG4-AE10)","v":0},{"$f":"IF(AF8=0,0,(AF8*((LOG(AF8))/LOG(2))))","v":0},null,{"$f":"N8","v":112},{"$f":"COUNTIF(L102:L133,AI8)","v":0},{"$f":"AJ8/(AL4-AJ10)","v":0},{"$f":"IF(AK8=0,0,(AK8*((LOG(AK8))/LOG(2))))","v":0},null,{"$f":"N8","v":112},{"$f":"COUNTIF(L134:L165,AN8)","v":0},{"$f":"AO8/(AQ4-AO10)","v":0},{"$f":"IF(AP8=0,0,(AP8*((LOG(AP8))/LOG(2))))","v":0},null,{"$f":"N8","v":112},{"$f":"COUNTIF(L166:L197,AS8)","v":0},{"$f":"AT8/(AV4-AT10)","v":0},{"$f":"IF(AU8=0,0,(AU8*((LOG(AU8))/LOG(2))))","v":0}]
[22,295,13,307,14,315,null,null,null,null,0,211,null,121,{"$f":"COUNTIF($L$7:$L$500,N9)","v":0},{"$f":"O9/$Q$4","v":0},{"$f":"IF(P9=0,0,(P9*((LOG(P9))/LOG(2))))","v":0},null,null,{"$f":"N9","v":121},{"$f":"COUNTIF(L7:L38,T9)","v":0},{"$f":"U9/(W4-U10)","v":0},{"$f":"IF(V9=0,0,(V9*((LOG(V9))/LOG(2))))","v":0},null,{"$f":"N9","v":121},{"$f":"COUNTIF(L39:L70,Y9)","v":0},{"$f":"Z9/(AB4-Z10)","v":0},{"$f":"IF(AA9=0,0,(AA9*((LOG(AA9))/LOG(2))))","v":0},null,{"$f":"N9","v":121},{"$f":"COUNTIF(L71:L101,AD9)","v":0},{"$f":"AE9/(AG4-AE10)","v":0},{"$f":"IF(AF9=0,0,(AF9*((LOG(AF9))/LOG(2))))","v":0},null,{"$f":"N9","v":121},{"$f":"COUNTIF(L102:L133,AI9)","v":0},{"$f":"AJ9/(AL4-AJ10)","v":0},{"$f":"IF(AK9=0,0,(AK9*((LOG(AK9))/LOG(2))))","v":0},null,{"$f":"N9","v":121},{"$f":"COUNTIF(L134:L165,AN9)","v":0},{"$f":"AO9/(AQ4-AO10)","v":0},{"$f":"IF(AP9=0,0,(AP9*((LOG(AP9))/LOG(2))))","v":0},null,{"$f":"N9","v":121},{"$f":"COUNTIF(L166:L197,AS9)","v":0},{"$f":"AT9/(AV4-AT10)","v":0},{"$f":"IF(AU9=0,0,(AU9*((LOG(AU9))/LOG(2))))","v":0}]
[11,428,11,437,12,449,null,null,null,null,0,111,null,122,{"$f":"COUNTIF($L$7:$L$500,N10)","v":0},{"$f":"O10/$Q$4","v":0},{"$f":"IF(P10=0,0,(P10*((LOG(P10))/LOG(2))))","v":0},null,null,{"$f":"N10","v":122},{"$f":"COUNTIF(L7:L38,T10)","v":0},null,null,null,{"$f":"N10","v":122},{"$f":"COUNTIF(L39:L70,Y10)","v":0},null,null,null,{"$f":"N10","v":122},{"$f":"COUNTIF(L71:L101,AD10)","v":0},null,null,null,{"$f":"N10","v":122},{"$f":"COUNTIF(L102:L133,AI10)","v":0},null,null,null,{"$f":"N10","v":122},{"$f":"COUNTIF(L134:L165,AN10)","v":0},null,null,null,{"$f":"N10","v":122},{"$f":"COUNTIF(L166:L197,AS10)","v":0}]
[22,552,13,564,14,572,null,null,null,null,0,211,null,211,{"$f":"COUNTIF($L$7:$L$500,N11)","v":90},{"$f":"O11/$Q$4","v":0.47120418848167539},{"$f":"IF(P11=0,0,(P11*((LOG(P11))/LOG(2))))","v":-0.51152783169396154},null,null,{"$f":"N11","v":211},{"$f":"COUNTIF(L7:L38,T11)","v":14},{"$f":"U11/(W4-U10)","v":0.4375},{"$f":"IF(V11=0,0,(V11*((LOG(V11))/LOG(2))))","v":-0.52178222159979815},null,{"$f":"N11","v":211},{"$f":"COUNTIF(L39:L70,Y11)","v":15},{"$f":"Z11/(AB4-Z10)","v":0.46875},{"$f":"IF(AA11=0,0,(AA11*((LOG(AA11))/LOG(2))))","v":-0.512395033308507},null,{"$f":"N11","v":211},{"$f":"COUNTIF(L71:L101,AD11)","v":16},{"$f":"AE11/(AG4-AE10)","v":0.5161290322580645},{"$f":"IF(AF11=0,0,(AF11*((LOG(AF11))/LOG(2))))","v":-0.49248841826419365},null,{"$f":"N11","v":211},{"$f":"COUNTIF(L102:L133,AI11)","v":17},{"$f":"AJ11/(AL4-AJ10)","v":0.53125},{"$f":"IF(AK11=0,0,(AK11*((LOG(AK11))/LOG(2))))","v":-0.48478536558575719},null,{"$f":"N11","v":211},{"$f":"COUNTIF(L134:L165,AN11)","v":17},{"$f":"AO11/(AQ4-AO10)","v":0.53125},{"$f":"IF(AP11=0,0,(AP11*((LOG(AP11))/LOG(2))))","v":-0.48478536558575719},null,{"$f":"N11","v":211},{"$f":"COUNTIF(L166:L197,AS11)","v":11},{"$f":"AT11/(AV4-AT10)","v":0.34375},{"$f":"IF(AU11=0,0,(AU11*((LOG(AU11))/LOG(2))))","v":-0.52957038109342913}]
[22,676,13,687,14,695,null,null,null,null,0,211,null,212,{"$f":"COUNTIF($L$7:$L$500,N12)","v":0},{"$f":"O12/$Q$4","v":0},{"$f":"IF(P12=0,0,(P12*((LOG(P12))/LOG(2))))","v":0},null,null,{"$f":"N12","v":212},{"$f":"COUNTIF(L7:L38,T12)","v":0},{"$f":"U12/(W4-U10)","v":0},{"$f":"IF(V12=0,0,(V12*((LOG(V12))/LOG(2))))","v":0},null,{"$f":"N12","v":212},{"$f":"COUNTIF(L39:L70,Y12)","v":0},{"$f":"Z12/(AB4-Z10)","v":0},{"$f":"IF(AA12=0,0,(AA12*((LOG(AA12))/LOG(2))))","v":0},null,{"$f":"N12","v":212},{"$f":"COUNTIF(L71:L101,AD12)","v":0},{"$f":"AE12/(AG4-AE10)","v":0},{"$f":"IF(AF12=0,0,(AF12*((LOG(AF12))/LOG(2))))","v":0},null,{"$f":"N12","v":212},{"$f":"COUNTIF(L102:L133,AI12)","v":0},{"$f":"AJ12/(AL4-AJ10)","v":0},{"$f":"IF(AK12=0,0,(AK12*((LOG(AK12))/LOG(2))))","v":0},null,{"$f":"N12","v":212},{"$f":"COUNTIF(L134:L165,AN12)","v":0},{"$f":"AO12/(AQ4-AO10)","v":0},{"$f":"IF(AP12=0,0,(AP12*((LOG(AP12))/LOG(2))))","v":0},null,{"$f":"N12","v":212},{"$f":"COUNTIF(L166:L197,AS12)","v":0},{"$f":"AT12/(AV4-AT10)","v":0},{"$f":"IF(AU12=0,0,(AU12*((LOG(AU12))/LOG(2))))","v":0}]
[11,806,11,815,12,827,null,null,null,null,0,111,null,221,{"$f":"COUNTIF($L$7:$L$500,N13)","v":5},{"$f":"O13/$Q$4","v":2.6178010471204188E-2},{"$f":"IF(P13=0,0,(P13*((LOG(P13))/LOG(2))))","v":-0.13757855322377974},null,null,{"$f":"N13","v":221},{"$f":"COUNTIF(L7:L38,T13)","v":3},{"$f":"U13/(W4-U10)","v":9.375E-2},{"$f":"IF(V13=0,0,(V13*((LOG(V13))/LOG(2))))","v":-0.32015976555739156},null,{"$f":"N13","v":221},{"$f":"COUNTIF(L39:L70,Y13)","v":0},{"$f":"Z13/(AB4-Z10)","v":0},{"$f":"IF(AA13=0,0,(AA13*((LOG(AA13))/LOG(2))))","v":0},null,{"$f":"N13","v":221},{"$f":"COUNTIF(L71:L101,AD13)","v":1},{"$f":"AE13/(AG4-AE10)","v":3.2258064516129031E-2},{"$f":"IF(AF13=0,0,(AF13*((LOG(AF13))/LOG(2))))","v":-0.15981278420602821},null,{"$f":"N13","v":221},{"$f":"COUNTIF(L102:L133,AI13)","v":0},{"$f":"AJ13/(AL4-AJ10)","v":0},{"$f":"IF(AK13=0,0,(AK13*((LOG(AK13))/LOG(2))))","v":0},null,{"$f":"N13","v":221},{"$f":"COUNTIF(L134:L165,AN13)","v":1},{"$f":"AO13/(AQ4-AO10)","v":3.125E-2},{"$f":"IF(AP13=0,0,(AP13*((LOG(AP13))/LOG(2))))","v":-0.15625},null,{"$f":"N13","v":221},{"$f":"COUNTIF(L166:L197,AS13)","v":0},{"$f":"AT13/(AV4-AT10)","v":0},{"$f":"IF(AU13=0,0,(AU13*((LOG(AU13))/LOG(2))))","v":0}]
[22,932,13,948,14,957,null,null,null,null,0,211,null,222,{"$f":"COUNTIF($L$7:$L$500,N14)","v":0},{"$f":"O14/$Q$4","v":0},{"$f":"IF(P14=0,0,(P14*((LOG(P14))/LOG(2))))","v":0},null,null,{"$f":"N14","v":222},{"$f":"COUNTIF(L7:L38,T14)","v":0},{"$f":"U14/(W4-U10)","v":0},{"$f":"IF(V14=0,0,(V14*((LOG(V14))/LOG(2))))","v":0},null,{"$f":"N14","v":222},{"$f":"COUNTIF(L39:L70,Y14)","v":0},{"$f":"Z14/(AB4-Z10)","v":0},{"$f":"IF(AA14=0,0,(AA14*((LOG(AA14))/LOG(2))))","v":0},null,{"$f":"N14","v":222},{"$f":"COUNTIF(L71:L101,AD14)","v":0},{"$f":"AE14/(AG4-AE10)","v":0},{"$f":"IF(AF14=0,0,(AF14*((LOG(AF14))/LOG(2))))","v":0},null,{"$f":"N14","v":222},{"$f":"COUNTIF(L102:L133,AI14)","v":0},{"$f":"AJ14/(AL4-AJ10)","v":0},{"$f":"IF(AK14=0,0,(AK14*((LOG(AK14))/LOG(2))))","v":0},null,{"$f":"N14","v":222},{"$f":"COUNTIF(L134:L165,AN14)","v":0},{"$f":"AO14/(AQ4-AO10)","v":0},{"$f":"IF(AP14=0,0,(AP14*((LOG(AP14))/LOG(2))))","v":0},null,{"$f":"N14","v":222},{"$f":"COUNTIF(L166:L197,AS14)","v":0},{"$f":"AT14/(AV4-AT10)","v":0},{"$f":"IF(AU14=0,0,(AU14*((LOG(AU14))/LOG(2))))","v":0}]
[22,1055,24,1064,14,1081,null,null,null,null,0,221,null,null,null,{"$f":"SUM(P7:P14)","v":1},{"$f":"-SUM(Q7:Q14)","v":1.1479376279659133},null,null,null,null,{"$f":"SUM(V7:V14)","v":1},{"$f":"-SUM(W7:W14)","v":1.3543370204656968},null,null,null,{"$f":"SUM(AA7:AA14)","v":1},{"$f":"-SUM(AB7:AB14)","v":0.99718039889426424},null,null,null,{"$f":"SUM(AF7:AF14)","v":1},{"$f":"-SUM(AG7:AG14)","v":1.1702295713931186},null,null,null,{"$f":"SUM(AK7:AK14)","v":1},{"$f":"-SUM(AL7:AL14)","v":0.99718039889426424},null,null,null,{"$f":"SUM(AP7:AP14)","v":1},{"$f":"-SUM(AQ7:AQ14)","v":1.1628175871855553},null,null,null,{"$f":"SUM(AU7:AU14)","v":1},{"$f":"-SUM(AV7:AV14)","v":0.92836207239486779}]
[22,1183,13,1195,14,1203,null,null,null,null,0,211,null,null,null,"U=",{"$f":"Q15/(LOG(Q4)/LOG(2))","v":0.15149434643564791},null,null,null,null,"U1=",{"$f":"W15/(LOG(W4)/LOG(2))","v":0.27086740409313936},null,null,null,"U2=",{"$f":"AB15/(LOG(AB4)/LOG(2))","v":0.19943607977885286},null,null,null,"U3=",{"$f":"AG15/(LOG(AG4)/LOG(2))","v":0.2362097700770632},null,null,null,"U4=",{"$f":"AL15/(LOG(AL4)/LOG(2))","v":0.19943607977885286},null,null,null,"U5=",{"$f":"AQ15/(LOG(AQ4)/LOG(2))","v":0.23256351743711107},null,null,null,"U6=",{"$f":"AV15/(LOG(AV4)/LOG(2))","v":0.18567241447897356}]
[11,1321,11,1329,12,1341,null,null,null,null,0,111]
[22,1440,13,1453,14,1463,null,null,null,null,0,211]
[11,1571,11,1578,12,1588,null,null,null,null,0,111,null,"Total Target Seq"]
[22,1686,13,1699,14,1707,null,null,null,null,0,211,null,{"$f":"COUNTIF(L7:L197,G3)","v":0},null,32,32,31,32,32,32]
[22,1808,13,1820,14,1829,null,null,null,null,0,211,null,null,null,"% of reinforcement given in 6 equal intervals based on number of trials "]
[22,1931,24,1940,14,1951,null,null,null,null,0,221,null,null,null,"%_1","%_2","%_3","%_4","%_5","%_6"]
[11,2056,11,2062,12,2074,null,null,null,null,0,111,null,null,"target sequence",{"$f":"$G$3","v":122},{"$f":"$G$3","v":122},{"$f":"$G$3","v":122},{"$f":"$G$3","v":122},{"$f":"$G$3","v":122},{"$f":"$G$3","v":122}]
[11,2190,11,2199,12,2211,null,null,null,null,0,111,null,null,"total reinforcement",{"$f":"U10","v":0},{"$f":"Z10","v":0},{"$f":"AE10","v":0},{"$f":"AJ10","v":0},{"$f":"AO10","v":0},{"$f":"AT10","v":0}]
[11,2329,11,2337,12,2350,null,null,null,null,0,111,null,null,"% target"]
[11,2467,11,2476,12,2489,null,null,null,null,0,111,null,null,"CCRF"]
[11,2603,11,2613,12,2626,null,null,null,null,0,111,null,null,"% CCRf"]
[22,2722,13,2736,14,2754,null,null,null,null,0,211,null,null,"average response rate",{"$f":"F38/P20","v":126.90625},{"$f":"(F70-F38)/Q20","v":127.84375},{"$f":"(F101-F70)/R20","v":124.48387096774194},{"$f":"(F133-F101)/S20","v":123.9375},{"$f":"(F165-F133)/T20","v":122.46875},{"$f":"(F197-F165)/U20","v":127.53125}]
[11,2865,11,2872,12,2884,null,null,null,null,0,111]
[11,2997,11,3014,12,3025,null,null,null,null,0,111]
[22,3129,13,3138,14,3144,null,null,null,null,0,211]
[11,3274,11,3285,12,3298,null,null,null,null,0,111]
[22,3404,13,3421,14,3430,null,null,null,null,0,211]
[22,3527,13,3539,14,3548,null,null,null,null,0,211]
[11,3657,11,3663,12,3676,null,null,null,null,0,111]
[11,3784,11,3793,12,3804,null,null,null,null,0,111]
[22,3907,13,3920,14,3928,null,null,null,null,0,211]
[11,4037,11,4045,12,4061,null,null,null,null,0,111]
[11,4167,11,4177,12,4188,null,null,null,null,0,111]
[11,4302,11,4307,12,4319,null,null,null,null,0,111]
[22,4417,13,4428,14,4435,null,null,null,null,0,211]
[11,4548,11,4554,12,4563,null,null,null,null,0,111]
[11,4677,11,4687,12,4698,null,null,null,null,0,111]
[22,4793,13,4806,14,4822,null,null,null,null,0,211]
[22,4922,13,4934,14,4943,null,null,null,null,0,211]
[11,5056,11,5065,12,5074,null,null,null,null,0,111]
[22,5177,13,5189,14,5197,null,null,null,null,0,211]
[22,5298,13,5310,14,5319,null,null,null,null,0,211]
[22,5421,13,5431,14,5437,null,null,null,null,0,211]
[11,5551,11,5559,12,5572,null,null,null,null,0,111]
[22,5674,13,5686,14,5694,null,null,null,null,0,211]
[22,5796,13,5808,14,5825,null,null,null,null,0,211]
[22,5927,13,5939,14,5945,null,null,null,null,0,211]
[22,6046,13,6057,14,6068,null,null,null,null,0,211]
[11,6183,11,6191,12,6203,null,null,null,null,0,111]
[22,6304,13,6316,14,6323,null,null,null,null,0,211]
[11,6434,11,6444,12,6458,null,null,null,null,0,111]
[22,6568,13,6580,14,6588,null,null,null,null,0,211]
[22,6690,13,6699,14,6706,null,null,null,null,0,211]
[11,6848,11,6857,12,6870,null,null,null,null,0,111]
[22,6967,13,6979,14,6985,null,null,null,null,0,211]
[11,7101,11,7109,12,7120,null,null,null,null,0,111]
[11,7231,11,7236,12,7245,null,null,null,null,0,111]
[11,7355,11,7362,12,7374,null,null,null,null,0,111]
[11,7494,11,7502,12,7514,null,null,null,null,0,111]
[11,7619,11,7624,12,7632,null,null,null,null,0,111]
[22,7737,13,7754,14,7765,null,null,null,null,0,211]
[11,7873,11,7882,12,7891,null,null,null,null,0,111]
[11,8005,11,8010,12,8020,null,null,null,null,0,111]
[11,8132,11,8141,12,8152,null,null,null,null,0,111]
[22,8243,24,8252,14,8263,null,null,null,null,0,221]
[22,8364,13,8376,14,8385,null,null,null,null,0,211]
[11,8496,11,8511,12,8522,null,null,null,null,0,111]
[11,8632,11,8640,12,8648,null,null,null,null,0,111]
[22,8749,13,8758,14,8764,null,null,null,null,0,211]
[22,8870,13,8878,14,8884,null,null,null,null,0,211]
[11,8993,11,9003,12,9014,null,null,null,null,0,111]
[22,9115,13,9124,14,9132,null,null,null,null,0,211]
[11,9241,11,9250,12,9262,null,null,null,null,0,111]
[22,9358,13,9368,14,9379,null,null,null,null,0,211]
[11,9487,11,9495,12,9506,null,null,null,null,0,111]
[11,9615,11,9625,12,9636,null,null,null,null,0,111]
[11,9752,11,9761,12,9772,null,null,null,null,0,111]
[11,9887,11,9896,12,9904,null,null,null,null,0,111]
[22,10010,13,10019,14,10027,null,null,null,null,0,211]
[11,10136,11,10145,12,10155,null,null,null,null,0,111]
[22,10249,13,10258,14,10263,null,null,null,null,0,211]
[22,10368,13,10381,14,10389,null,null,null,null,0,211]
[11,10502,11,10510,12,10519,null,null,null,null,0,111]
[22,10620,13,10631,14,10638,null,null,null,null,0,211]
[22,10735,13,10744,14,10749,null,null,null,null,0,211]
[22,10846,13,10857,14,10865,null,null,null,null,0,211]
[22,10964,13,10987,14,10993,null,null,null,null,0,211]
[22,11094,13,11107,14,11115,null,null,null,null,0,211]
[11,11229,11,11237,12,11248,null,null,null,null,0,111]
[11,11363,11,11370,12,11380,null,null,null,null,0,111]
[22,11483,13,11494,14,11503,null,null,null,null,0,211]
[11,11628,11,11637,12,11649,null,null,null,null,0,111]
[22,11748,13,11760,14,11770,null,null,null,null,0,211]
[22,11870,13,11881,14,11889,null,null,null,null,0,211]
[11,11992,11,11999,12,12011,null,null,null,null,0,111]
[22,12112,13,12123,14,12135,null,null,null,null,0,211]
[22,12236,13,12245,14,12254,null,null,null,null,0,211]
[11,12366,11,12376,12,12385,null,null,null,null,0,111]
[11,12490,11,12497,12,12509,null,null,null,null,0,111]
[22,12609,13,12618,14,12625,null,null,null,null,0,211]
[22,12727,13,12736,14,12741,null,null,null,null,0,211]
[11,12851,11,12858,12,12869,null,null,null,null,0,111]
[22,12969,13,12980,14,12989,null,null,null,null,0,211]
[11,13106,11,13114,12,13125,null,null,null,null,0,111]
[22,13226,13,13238,14,13245,null,null,null,null,0,211]
[22,13349,13,13358,14,13366,null,null,null,null,0,211]
[11,13476,11,13485,12,13494,null,null,null,null,0,111]
[11,13605,11,13613,12,13626,null,null,null,null,0,111]
[22,13725,13,13736,14,13745,null,null,null,null,0,211]
[22,13842,13,13853,14,13861,null,null,null,null,0,211]
[22,13959,13,13970,14,13977,null,null,null,null,0,211]
[11,14083,11,14092,12,14101,null,null,null,null,0,111]
[22,14196,13,14208,14,14216,null,null,null,null,0,211]
[11,14327,11,14336,12,14345,null,null,null,null,0,111]
[22,14447,13,14459,14,14466,null,null,null,null,0,211]
[22,14570,13,14582,14,14590,null,null,null,null,0,211]
[11,14701,11,14713,12,14724,null,null,null,null,0,111]
[22,14821,13,14832,14,14841,null,null,null,null,0,211]
[11,14952,11,14961,12,14970,null,null,null,null,0,111]
[22,15063,13,15075,14,15083,null,null,null,null,0,211]
[11,15188,11,15196,12,15204,null,null,null,null,0,111]
[22,15325,13,15342,14,15353,null,null,null,null,0,211]
[11,15463,11,15470,12,15478,null,null,null,null,0,111]
[22,15579,13,15590,14,15599,null,null,null,null,0,211]
[11,15712,11,15718,12,15729,null,null,null,null,0,111]
[11,15838,11,15843,12,15852,null,null,null,null,0,111]
[11,15960,11,15966,12,15977,null,null,null,null,0,111]
[22,16074,13,16096,14,16105,null,null,null,null,0,211]
[22,16205,13,16217,14,16223,null,null,null,null,0,211]
[11,16333,11,16340,12,16351,null,null,null,null,0,111]
[22,16451,13,16462,14,16471,null,null,null,null,0,211]
[11,16578,11,16585,12,16596,null,null,null,null,0,111]
[11,16703,11,16711,12,16722,null,null,null,null,0,111]
[11,16839,11,16847,12,16858,null,null,null,null,0,111]
[11,16970,11,16982,12,16992,null,null,null,null,0,111]
[11,17100,11,17108,12,17118,null,null,null,null,0,111]
[22,17220,13,17231,14,17239,null,null,null,null,0,211]
[11,17350,11,17356,12,17367,null,null,null,null,0,111]
[22,17466,13,17479,14,17487,null,null,null,null,0,211]
[22,17589,13,17599,14,17606,null,null,null,null,0,211]
[11,17715,11,17723,12,17733,null,null,null,null,0,111]
[11,17842,11,17850,12,17859,null,null,null,null,0,111]
[22,17951,24,17961,14,17973,null,null,null,null,0,221]
[22,18070,13,18081,14,18090,null,null,null,null,0,211]
[22,18192,13,18200,14,18205,null,null,null,null,0,211]
[11,18315,11,18321,12,18332,null,null,null,null,0,111]
[22,18432,13,18451,14,18459,null,null,null,null,0,211]
[22,18559,13,18570,14,18579,null,null,null,null,0,211]
[22,18679,13,18687,14,18693,null,null,null,null,0,211]
[22,18794,13,18803,14,18810,null,null,null,null,0,211]
[22,18903,13,18914,14,18922,null,null,null,null,0,211]
[22,19015,13,19025,14,19032,null,null,null,null,0,211]
[11,19138,11,19144,12,19155,null,null,null,null,0,111]
[22,19252,13,19263,14,19271,null,null,null,null,0,211]
[22,19369,13,19380,14,19388,null,null,null,null,0,211]
[22,19487,13,19495,14,19503,null,null,null,null,0,211]
[11,19619,11,19626,12,19635,null,null,null,null,0,111]
[11,19749,11,19757,12,19768,null,null,null,null,0,111]
[11,19880,11,19888,12,19896,null,null,null,null,0,111]
[11,20004,11,20012,12,20024,null,null,null,null,0,111]
[22,20118,13,20128,14,20135,null,null,null,null,0,211]
[11,20240,11,20249,12,20260,null,null,null,null,0,111]
[11,20372,11,20378,12,20386,null,null,null,null,0,111]
[11,20500,11,20509,12,20519,null,null,null,null,0,111]
[11,20633,11,20642,12,20655,null,null,null,null,0,111]
[11,20765,11,20774,12,20782,null,null,null,null,0,111]
[11,20893,11,20901,12,20912,null,null,null,null,0,111]
[22,21007,13,21018,14,21025,null,null,null,null,0,211]
[11,21131,11,21139,12,21147,null,null,null,null,0,111]
[22,21241,13,21254,14,21261,null,null,null,null,0,211]
[22,21363,13,21373,14,21378,null,null,null,null,0,211]
[11,21594,11,21602,12,21614,null,null,null,null,0,111]
[11,21727,11,21735,12,21747,null,null,null,null,0,111]
[11,21857,11,21867,12,21880,null,null,null,null,0,111]
[22,21977,13,21988,14,21993,null,null,null,null,0,211]
[11,22097,11,22102,12,22111,null,null,null,null,0,111]
[11,22226,11,22234,12,22244,null,null,null,null,0,111]
[11,22357,11,22362,12,22370,null,null,null,null,0,111]
[22,22471,13,22482,14,22490,null,null,null,null,0,211]
[22,22592,13,22604,14,22614,null,null,null,null,0,211]
[11,22720,11,22725,12,22737,null,null,null,null,0,111]
[11,22846,11,22852,12,22860,null,null,null,null,0,111]
[11,22973,11,22981,12,22991,null,null,null,null,0,111]
[11,23104,11,23110,12,23119,null,null,null,null,0,111]
[22,23213,13,23221,14,23226,null,null,null,null,0,211]
[22,23323,13,23331,14,23338,null,null,null,null,0,211]
[11,23454,11,23462,12,23473,null,null,null,null,0,111]
[11,23585,11,23591,12,23600,null,null,null,null,0,111]
[22,23706,13,23718,14,23726,null,null,null,null,0,211]
[22,23820,13,23842,14,23849,null,null,null,null,0,211]
[11,23960,11,23966,12,23977,null,null,null,null,null,111]

{"sheet":"!MA30930.095","index":15,"n_rows":201,"n_cols":48,"rows_kept":201,"cut":false,"hidden":false,"merged":[[4,39,4,42],[5,39,5,40],[4,44,4,47],[5,44,5,45],[4,24,4,27],[5,24,5,25],[4,29,4,32],[5,29,5,30],[4,34,4,37],[5,34,5,35],[1,1,1,2],[5,13,5,14],[18,13,18,14],[19,13,19,14],[4,19,4,22],[5,19,5,20]]}
["Report for:!MA30930.095"]
["Date:","<date>"]
["Hen:","<hen>",null,null,null,"Correct Sequence",{"$f":"Start!J2","v":122},null,null,null,null,null,null,null,null,"Total Sequences in Data",{"$f":"4994-COUNTBLANK(L7:L5000)","v":195},null,null,null,null,"Total Sequences in Block Data",{"$f":"COUNTA(L7:L39)","v":33},null,null,null,"Total Sequences in Block Data",{"$f":"COUNTA(L40:L71)","v":32},null,null,null,"Total Sequences in Block Data",{"$f":"COUNTA(L72:L104)","v":33},null,null,null,"Total Sequences in Block Data",{"$f":"COUNTA(L105:L136)","v":32},null,null,null,"Total Sequences in Block Data",{"$f":"COUNTA(L137:L169)","v":33},null,null,null,"Total Sequences in Block Data",{"$f":"COUNTA(L170:L201)","v":32}]
[null,null,null,null,null,null,null,null,null,null,null,null,null,null,null,"Total Sequences in Summary",{"$f":"SUM(O7:O14)","v":195},null,null,null,null,"Total Sequences in Block Summary",{"$f":"SUM(U7:U14)","v":33},null,null,null,"Total Sequences in Block Summary",{"$f":"SUM(Z7:Z14)","v":32},null,null,null,"Total Sequences in Block Summary",{"$f":"SUM(AE7:AE14)","v":33},null,null,null,"Total Sequences in Block Summary",{"$f":"SUM(AJ7:AJ14)","v":32},null,null,null,"Total Sequences in Block Summary",{"$f":"SUM(AO7:AO14)","v":33},null,null,null,"Total Sequences in Block Summary",{"$f":"SUM(AT7:AT14)","v":32}]
[null,null,null,null,null,null,null,null,null,null,null,null,null,null,null,null,null,null,null,"Block 1",null,null,null,null,"Block 2",null,null,null,null,"Block 3",null,null,null,null,"Block 4",null,null,null,null,"Block 5",null,null,null,null,"Block 6"]
["Sequence\nComponent\n1","Time\n1","Sequence\nComponent\n2","Time\n2","Sequence\nComponent\n3","Time\n3","Sequence\nComponent\n4","Time\n4","Sequence\nComponent\n5","Time\n5","Correct?\n0=No 1=Yes","Sequence",null,"Frequency",null,"Relative Frequency","Variability",null,null,"Frequency",null,"Relative Frequency","Variability",null,"Frequency",null,"Relative Frequency","Variability",null,"Frequency",null,"Relative Frequency","Variability",null,"Frequency",null,"Relative Frequency","Variability",null,"Frequency",null,"Relative Frequency","Variability",null,"Frequency",null,"Relative Frequency","Variability"]
[22,18,13,36,14,48,null,null,null,null,0,211,null,111,{"$f":"COUNTIF($L$7:$L$500,N7)","v":80},{"$f":"O7/$Q$4","v":0.41025641025641024},{"$f":"IF(P7=0,0,(P7*((LOG(P7))/LOG(2))))","v":-0.5273445000460506},null,null,{"$f":"N7","v":111},{"$f":"COUNTIF(L7:L39,T7)","v":11},{"$f":"U7/(W4-U10)","v":0.33333333333333331},{"$f":"IF(V7=0,0,(V7*((LOG(V7))/LOG(2))))","v":-0.52832083357371862},null,{"$f":"N7","v":111},{"$f":"COUNTIF(L40:L71,Y7)","v":13},{"$f":"Z7/(AB4-Z10)","v":0.40625},{"$f":"IF(AA7=0,0,(AA7*((LOG(AA7))/LOG(2))))","v":-0.52794636450518129},null,{"$f":"N7","v":111},{"$f":"COUNTIF(L72:L104,AD7)","v":14},{"$f":"AE7/(AG4-AE10)","v":0.42424242424242425},{"$f":"IF(AF7=0,0,(AF7*((LOG(AF7))/LOG(2))))","v":-0.52480450794581479},null,{"$f":"N7","v":111},{"$f":"COUNTIF(L105:L136,AI7)","v":18},{"$f":"AJ7/(AL4-AJ10)","v":0.5625},{"$f":"IF(AK7=0,0,(AK7*((LOG(AK7))/LOG(2))))","v":-0.4669171866886993},null,{"$f":"N7","v":111},{"$f":"COUNTIF(L137:L169,AN7)","v":11},{"$f":"AO7/(AQ4-AO10)","v":0.33333333333333331},{"$f":"IF(AP7=0,0,(AP7*((LOG(AP7))/LOG(2))))","v":-0.52832083357371862},null,{"$f":"N7","v":111},{"$f":"COUNTIF(L170:L201,AS7)","v":13},{"$f":"AT7/(AV4-AT10)","v":0.40625},{"$f":"IF(AU7=0,0,(AU7*((LOG(AU7))/LOG(2))))","v":-0.52794636450518129}]
[22,151,13,163,14,172,null,null,null,null,0,211,null,112,{"$f":"COUNTIF($L$7:$L$500,N8)","v":0},{"$f":"O8/$Q$4","v":0},{"$f":"IF(P8=0,0,(P8*((LOG(P8))/LOG(2))))","v":0},null,null,{"$f":"N8","v":112},{"$f":"COUNTIF(L7:L39,T8)","v":0},{"$f":"U8/(W4-U10)","v":0},{"$f":"IF(V8=0,0,(V8*((LOG(V8))/LOG(2))))","v":0},null,{"$f":"N8","v":112},{"$f":"COUNTIF(L40:L71,Y8)","v":0},{"$f":"Z8/(AB4-Z10)","v":0},{"$f":"IF(AA8=0,0,(AA8*((LOG(AA8))/LOG(2))))","v":0},null,{"$f":"N8","v":112},{"$f":"COUNTIF(L72:L104,AD8)","v":0},{"$f":"AE8/(AG4-AE10)","v":0},{"$f":"IF(AF8=0,0,(AF8*((LOG(AF8))/LOG(2))))","v":0},null,{"$f":"N8","v":112},{"$f":"COUNTIF(L105:L136,AI8)","v":0},{"$f":"AJ8/(AL4-AJ10)","v":0},{"$f":"IF(AK8=0,0,(AK8*((LOG(AK8))/LOG(2))))","v":0},null,{"$f":"N8","v":112},{"$f":"COUNTIF(L137:L169,AN8)","v":0},{"$f":"AO8/(AQ4-AO10)","v":0},{"$f":"IF(AP8=0,0,(AP8*((LOG(AP8))/LOG(2))))","v":0},null,{"$f":"N8","v":112},{"$f":"COUNTIF(L170:L201,AS8)","v":0},{"$f":"AT8/(AV4-AT10)","v":0},{"$f":"IF(AU8=0,0,(AU8*((LOG(AU8))/LOG(2))))","v":0}]
[22,275,13,284,14,290,null,null,null,null,0,211,null,121,{"$f":"COUNTIF($L$7:$L$500,N9)","v":0},{"$f":"O9/$Q$4","v":0},{"$f":"IF(P9=0,0,(P9*((LOG(P9))/LOG(2))))","v":0},null,null,{"$f":"N9","v":121},{"$f":"COUNTIF(L7:L39,T9)","v":0},{"$f":"U9/(W4-U10)","v":0},{"$f":"IF(V9=0,0,(V9*((LOG(V9))/LOG(2))))","v":0},null,{"$f":"N9","v":121},{"$f":"COUNTIF(L40:L71,Y9)","v":0},{"$f":"Z9/(AB4-Z10)","v":0},{"$f":"IF(AA9=0,0,(AA9*((LOG(AA9))/LOG(2))))","v":0},null,{"$f":"N9","v":121},{"$f":"COUNTIF(L72:L104,AD9)","v":0},{"$f":"AE9/(AG4-AE10)","v":0},{"$f":"IF(AF9=0,0,(AF9*((LOG(AF9))/LOG(2))))","v":0},null,{"$f":"N9","v":121},{"$f":"COUNTIF(L105:L136,AI9)","v":0},{"$f":"AJ9/(AL4-AJ10)","v":0},{"$f":"IF(AK9=0,0,(AK9*((LOG(AK9))/LOG(2))))","v":0},null,{"$f":"N9","v":121},{"$f":"COUNTIF(L137:L169,AN9)","v":0},{"$f":"AO9/(AQ4-AO10)","v":0},{"$f":"IF(AP9=0,0,(AP9*((LOG(AP9))/LOG(2))))","v":0},null,{"$f":"N9","v":121},{"$f":"COUNTIF(L170:L201,AS9)","v":0},{"$f":"AT9/(AV4-AT10)","v":0},{"$f":"IF(AU9=0,0,(AU9*((LOG(AU9))/LOG(2))))","v":0}]
[22,397,13,417,14,428,null,null,null,null,0,211,null,122,{"$f":"COUNTIF($L$7:$L$500,N10)","v":0},{"$f":"O10/$Q$4","v":0},{"$f":"IF(P10=0,0,(P10*((LOG(P10))/LOG(2))))","v":0},null,null,{"$f":"N10","v":122},{"$f":"COUNTIF(L7:L39,T10)","v":0},null,null,null,{"$f":"N10","v":122},{"$f":"COUNTIF(L40:L71,Y10)","v":0},null,null,null,{"$f":"N10","v":122},{"$f":"COUNTIF(L72:L104,AD10)","v":0},null,null,null,{"$f":"N10","v":122},{"$f":"COUNTIF(L105:L136,AI10)","v":0},null,null,null,{"$f":"N10","v":122},{"$f":"COUNTIF(L137:L169,AN10)","v":0},null,null,null,{"$f":"N10","v":122},{"$f":"COUNTIF(L170:L201,AS10)","v":0}]
[22,528,13,553,14,562,null,null,null,null,0,211,null,211,{"$f":"COUNTIF($L$7:$L$500,N11)","v":112},{"$f":"O11/$Q$4","v":0.57435897435897432},{"$f":"IF(P11=0,0,(P11*((LOG(P11))/LOG(2))))","v":-0.45947304548463974},null,null,{"$f":"N11","v":211},{"$f":"COUNTIF(L7:L39,T11)","v":22},{"$f":"U11/(W4-U10)","v":0.66666666666666663},{"$f":"IF(V11=0,0,(V11*((LOG(V11))/LOG(2))))","v":-0.38997500048077083},null,{"$f":"N11","v":211},{"$f":"COUNTIF(L40:L71,Y11)","v":18},{"$f":"Z11/(AB4-Z10)","v":0.5625},{"$f":"IF(AA11=0,0,(AA11*((LOG(AA11))/LOG(2))))","v":-0.4669171866886993},null,{"$f":"N11","v":211},{"$f":"COUNTIF(L72:L104,AD11)","v":19},{"$f":"AE11/(AG4-AE10)","v":0.5757575757575758},{"$f":"IF(AF11=0,0,(AF11*((LOG(AF11))/LOG(2))))","v":-0.45857168219340877},null,{"$f":"N11","v":211},{"$f":"COUNTIF(L105:L136,AI11)","v":13},{"$f":"AJ11/(AL4-AJ10)","v":0.40625},{"$f":"IF(AK11=0,0,(AK11*((LOG(AK11))/LOG(2))))","v":-0.52794636450518129},null,{"$f":"N11","v":211},{"$f":"COUNTIF(L137:L169,AN11)","v":22},{"$f":"AO11/(AQ4-AO10)","v":0.66666666666666663},{"$f":"IF(AP11=0,0,(AP11*((LOG(AP11))/LOG(2))))","v":-0.38997500048077083},null,{"$f":"N11","v":211},{"$f":"COUNTIF(L170:L201,AS11)","v":18},{"$f":"AT11/(AV4-AT10)","v":0.5625},{"$f":"IF(AU11=0,0,(AU11*((LOG(AU11))/LOG(2))))","v":-0.4669171866886993}]
[22,659,13,672,14,681,null,null,null,null,0,211,null,212,{"$f":"COUNTIF($L$7:$L$500,N12)","v":0},{"$f":"O12/$Q$4","v":0},{"$f":"IF(P12=0,0,(P12*((LOG(P12))/LOG(2))))","v":0},null,null,{"$f":"N12","v":212},{"$f":"COUNTIF(L7:L39,T12)","v":0},{"$f":"U12/(W4-U10)","v":0},{"$f":"IF(V12=0,0,(V12*((LOG(V12))/LOG(2))))","v":0},null,{"$f":"N12","v":212},{"$f":"COUNTIF(L40:L71,Y12)","v":0},{"$f":"Z12/(AB4-Z10)","v":0},{"$f":"IF(AA12=0,0,(AA12*((LOG(AA12))/LOG(2))))","v":0},null,{"$f":"N12","v":212},{"$f":"COUNTIF(L72:L104,AD12)","v":0},{"$f":"AE12/(AG4-AE10)","v":0},{"$f":"IF(AF12=0,0,(AF12*((LOG(AF12))/LOG(2))))","v":0},null,{"$f":"N12","v":212},{"$f":"COUNTIF(L105:L136,AI12)","v":0},{"$f":"AJ12/(AL4-AJ10)","v":0},{"$f":"IF(AK12=0,0,(AK12*((LOG(AK12))/LOG(2))))","v":0},null,{"$f":"N12","v":212},{"$f":"COUNTIF(L137:L169,AN12)","v":0},{"$f":"AO12/(AQ4-AO10)","v":0},{"$f":"IF(AP12=0,0,(AP12*((LOG(AP12))/LOG(2))))","v":0},null,{"$f":"N12","v":212},{"$f":"COUNTIF(L170:L201,AS12)","v":0},{"$f":"AT12/(AV4-AT10)","v":0},{"$f":"IF(AU12=0,0,(AU12*((LOG(AU12))/LOG(2))))","v":0}]
[11,794,11,801,12,813,null,null,null,null,0,111,null,221,{"$f":"COUNTIF($L$7:$L$500,N13)","v":3},{"$f":"O13/$Q$4","v":1.5384615384615385E-2},{"$f":"IF(P13=0,0,(P13*((LOG(P13))/LOG(2))))","v":-9.2651812508130066E-2},null,null,{"$f":"N13","v":221},{"$f":"COUNTIF(L7:L39,T13)","v":0},{"$f":"U13/(W4-U10)","v":0},{"$f":"IF(V13=0,0,(V13*((LOG(V13))/LOG(2))))","v":0},null,{"$f":"N13","v":221},{"$f":"COUNTIF(L40:L71,Y13)","v":1},{"$f":"Z13/(AB4-Z10)","v":3.125E-2},{"$f":"IF(AA13=0,0,(AA13*((LOG(AA13))/LOG(2))))","v":-0.15625},null,{"$f":"N13","v":221},{"$f":"COUNTIF(L72:L104,AD13)","v":0},{"$f":"AE13/(AG4-AE10)","v":0},{"$f":"IF(AF13=0,0,(AF13*((LOG(AF13))/LOG(2))))","v":0},null,{"$f":"N13","v":221},{"$f":"COUNTIF(L105:L136,AI13)","v":1},{"$f":"AJ13/(AL4-AJ10)","v":3.125E-2},{"$f":"IF(AK13=0,0,(AK13*((LOG(AK13))/LOG(2))))","v":-0.15625},null,{"$f":"N13","v":221},{"$f":"COUNTIF(L137:L169,AN13)","v":0},{"$f":"AO13/(AQ4-AO10)","v":0},{"$f":"IF(AP13=0,0,(AP13*((LOG(AP13))/LOG(2))))","v":0},null,{"$f":"N13","v":221},{"$f":"COUNTIF(L170:L201,AS13)","v":1},{"$f":"AT13/(AV4-AT10)","v":3.125E-2},{"$f":"IF(AU13=0,0,(AU13*((LOG(AU13))/LOG(2))))","v":-0.15625}]
[22,919,13,931,14,939,null,null,null,null,0,211,null,222,{"$f":"COUNTIF($L$7:$L$500,N14)","v":0},{"$f":"O14/$Q$4","v":0},{"$f":"IF(P14=0,0,(P14*((LOG(P14))/LOG(2))))","v":0},null,null,{"$f":"N14","v":222},{"$f":"COUNTIF(L7:L39,T14)","v":0},{"$f":"U14/(W4-U10)","v":0},{"$f":"IF(V14=0,0,(V14*((LOG(V14))/LOG(2))))","v":0},null,{"$f":"N14","v":222},{"$f":"COUNTIF(L40:L71,Y14)","v":0},{"$f":"Z14/(AB4-Z10)","v":0},{"$f":"IF(AA14=0,0,(AA14*((LOG(AA14))/LOG(2))))","v":0},null,{"$f":"N14","v":222},{"$f":"COUNTIF(L72:L104,AD14)","v":0},{"$f":"AE14/(AG4-AE10)","v":0},{"$f":"IF(AF14=0,0,(AF14*((LOG(AF14))/LOG(2))))","v":0},null,{"$f":"N14","v":222},{"$f":"COUNTIF(L105:L136,AI14)","v":0},{"$f":"AJ14/(AL4-AJ10)","v":0},{"$f":"IF(AK14=0,0,(AK14*((LOG(AK14))/LOG(2))))","v":0},null,{"$f":"N14","v":222},{"$f":"COUNTIF(L137:L169,AN14)","v":0},{"$f":"AO14/(AQ4-AO10)","v":0},{"$f":"IF(AP14=0,0,(AP14*((LOG(AP14))/LOG(2))))","v":0},null,{"$f":"N14","v":222},{"$f":"COUNTIF(L170:L201,AS14)","v":0},{"$f":"AT14/(AV4-AT10)","v":0},{"$f":"IF(AU14=0,0,(AU14*((LOG(AU14))/LOG(2))))","v":0}]
[11,1051,11,1057,12,1066,null,null,null,null,0,111,null,null,null,{"$f":"SUM(P7:P14)","v":1},{"$f":"-SUM(Q7:Q14)","v":1.0794693580388204},null,null,null,null,{"$f":"SUM(V7:V14)","v":1},{"$f":"-SUM(W7:W14)","v":0.91829583405448945},null,null,null,{"$f":"SUM(AA7:AA14)","v":1},{"$f":"-SUM(AB7:AB14)","v":1.1511135511938806},null,null,null,{"$f":"SUM(AF7:AF14)","v":1},{"$f":"-SUM(AG7:AG14)","v":0.9833761901392235},null,null,null,{"$f":"SUM(AK7:AK14)","v":1},{"$f":"-SUM(AL7:AL14)","v":1.1511135511938806},null,null,null,{"$f":"SUM(AP7:AP14)","v":1},{"$f":"-SUM(AQ7:AQ14)","v":0.91829583405448945},null,null,null,{"$f":"SUM(AU7:AU14)","v":1},{"$f":"-SUM(AV7:AV14)","v":1.1511135511938806}]
[22,1174,13,1192,14,1202,null,null,null,null,0,211,null,null,null,"U=",{"$f":"Q15/(LOG(Q4)/LOG(2))","v":0.14189857854440344},null,null,null,null,"U1=",{"$f":"W15/(LOG(W4)/LOG(2))","v":0.18204284049305774},null,null,null,"U2=",{"$f":"AB15/(LOG(AB4)/LOG(2))","v":0.23022271023877611},null,null,null,"U3=",{"$f":"AG15/(LOG(AG4)/LOG(2))","v":0.19494436137838678},null,null,null,"U4=",{"$f":"AL15/(LOG(AL4)/LOG(2))","v":0.23022271023877611},null,null,null,"U5=",{"$f":"AQ15/(LOG(AQ4)/LOG(2))","v":0.18204284049305774},null,null,null,"U6=",{"$f":"AV15/(LOG(AV4)/LOG(2))","v":0.23022271023877611}]
[22,1303,13,1315,14,1324,null,null,null,null,0,211]
[22,1430,13,1439,14,1448,null,null,null,null,0,211]
[11,1563,11,1572,12,1585,null,null,null,null,0,111,null,"Total Target Seq"]
[11,1699,11,1705,12,1717,null,null,null,null,0,111,null,{"$f":"COUNTIF(L7:L201,G3)","v":0},null,33,32,33,32,33,32]
[22,1816,13,1825,14,1835,null,null,null,null,0,211,null,null,null,"% of reinforcement given in 6 equal intervals based on number of trials "]
[11,1946,11,1952,12,1963,null,null,null,null,0,111,null,null,null,"%_1","%_2","%_3","%_4","%_5","%_6"]
[22,2062,13,2073,14,2082,null,null,null,null,0,211,null,null,"target sequence",{"$f":"$G$3","v":122},{"$f":"$G$3","v":122},{"$f":"$G$3","v":122},{"$f":"$G$3","v":122},{"$f":"$G$3","v":122},{"$f":"$G$3","v":122}]
[11,2198,11,2209,12,2222,null,null,null,null,0,111,null,null,"total reinforcement",{"$f":"U10","v":0},{"$f":"Z10","v":0},{"$f":"AE10","v":0},{"$f":"AJ10","v":0},{"$f":"AO10","v":0},{"$f":"AT10","v":0}]
[22,2323,13,2332,14,2337,null,null,null,null,0,211,null,null,"% target"]
[22,2435,13,2446,14,2452,null,null,null,null,0,211,null,null,"CCRF"]
[22,2559,13,2572,14,2584,null,null,null,null,0,211,null,null,"% CCRf"]
[22,2687,13,2699,14,2708,null,null,null,null,0,211,null,null,"average response rate",{"$f":"F39/P20","v":123.12121212121212},{"$f":"(F71-F39)/Q20","v":120.53125},{"$f":"(F104-F71)/R20","v":121.39393939393939},{"$f":"(F136-F104)/S20","v":122.25},{"$f":"(F169-F136)/T20","v":123.21212121212122},{"$f":"(F201-F169)/U20","v":127.78125}]
[11,2819,11,2826,12,2841,null,null,null,null,0,111]
[22,2936,13,2949,14,2957,null,null,null,null,0,211]
[11,3070,11,3077,12,3089,null,null,null,null,0,111]
[11,3193,11,3199,12,3208,null,null,null,null,0,111]
[11,3324,11,3332,12,3343,null,null,null,null,0,111]
[11,3451,11,3460,12,3468,null,null,null,null,0,111]
[22,3569,13,3582,14,3591,null,null,null,null,0,211]
[22,3694,13,3702,14,3708,null,null,null,null,0,211]
[22,3809,13,3817,14,3825,null,null,null,null,0,211]
[22,3924,13,3932,14,3942,null,null,null,null,0,211]
[22,4042,13,4054,14,4063,null,null,null,null,0,211]
[11,4177,11,4185,12,4196,null,null,null,null,0,111]
[11,4306,11,4315,12,4328,null,null,null,null,0,111]
[22,4431,24,4438,14,4449,null,null,null,null,0,221]
[22,4548,13,4557,14,4563,null,null,null,null,0,211]
[22,4658,13,4667,14,4675,null,null,null,null,0,211]
[11,4784,11,4792,12,4802,null,null,null,null,0,111]
[11,4905,11,4911,12,4920,null,null,null,null,0,111]
[22,5019,13,5027,14,5033,null,null,null,null,0,211]
[22,5129,13,5141,14,5147,null,null,null,null,0,211]
[22,5239,13,5257,14,5266,null,null,null,null,0,211]
[22,5366,13,5374,14,5380,null,null,null,null,0,211]
[11,5487,11,5495,12,5506,null,null,null,null,0,111]
[11,5617,11,5625,12,5637,null,null,null,null,0,111]
[22,5735,13,5743,14,5749,null,null,null,null,0,211]
[22,5846,13,5855,14,5863,null,null,null,null,0,211]
[22,5957,13,5965,14,5971,null,null,null,null,0,211]
[22,6069,13,6080,14,6089,null,null,null,null,0,211]
[22,6190,13,6201,14,6210,null,null,null,null,0,211]
[11,6311,11,6317,12,6325,null,null,null,null,0,111]
[11,6435,11,6444,12,6456,null,null,null,null,0,111]
[22,6550,13,6559,14,6564,null,null,null,null,0,211]
[11,6674,11,6680,12,6692,null,null,null,null,0,111]
[11,6804,11,6812,12,6823,null,null,null,null,0,111]
[22,6924,13,6933,14,6938,null,null,null,null,0,211]
[22,7038,13,7047,14,7054,null,null,null,null,0,211]
[22,7155,13,7166,14,7179,null,null,null,null,0,211]
[22,7275,13,7287,14,7296,null,null,null,null,0,211]
[22,7402,13,7414,14,7422,null,null,null,null,0,211]
[11,7532,11,7537,12,7548,null,null,null,null,0,111]
[11,7654,11,7661,12,7669,null,null,null,null,0,111]
[22,7770,13,7779,14,7789,null,null,null,null,0,211]
[11,7901,11,7909,12,7920,null,null,null,null,0,111]
[11,8021,11,8025,12,8034,null,null,null,null,0,111]
[11,8146,11,8155,12,8165,null,null,null,null,0,111]
[22,8265,13,8276,14,8285,null,null,null,null,0,211]
[22,8386,13,8394,14,8399,null,null,null,null,0,211]
[22,8496,13,8509,14,8520,null,null,null,null,0,211]
[11,8626,11,8634,12,8644,null,null,null,null,0,111]
[22,8740,13,8749,14,8755,null,null,null,null,0,211]
[11,8870,11,8879,12,8889,null,null,null,null,0,111]
[11,8999,11,9006,12,9018,null,null,null,null,0,111]
[22,9115,13,9124,14,9129,null,null,null,null,0,211]
[22,9232,13,9240,14,9248,null,null,null,null,0,211]
[22,9348,13,9356,14,9362,null,null,null,null,0,211]
[22,9461,13,9469,14,9478,null,null,null,null,0,211]
[22,9577,13,9595,14,9603,null,null,null,null,0,211]
[22,9702,13,9712,14,9720,null,null,null,null,0,211]
[11,9824,11,9833,12,9842,null,null,null,null,0,111]
[11,9951,11,9958,12,9967,null,null,null,null,0,111]
[22,10070,13,10078,14,10085,null,null,null,null,0,211]
[22,10187,13,10200,14,10209,null,null,null,null,0,211]
[22,10310,13,10319,14,10325,null,null,null,null,0,211]
[11,10431,11,10436,12,10445,null,null,null,null,0,111]
[22,10544,13,10552,14,10560,null,null,null,null,0,211]
[11,10677,11,10687,12,10697,null,null,null,null,0,111]
[22,10791,13,10803,14,10808,null,null,null,null,0,211]
[11,10914,11,10923,12,10933,null,null,null,null,0,111]
[11,11045,11,11051,12,11060,null,null,null,null,0,111]
[22,11163,13,11171,14,11179,null,null,null,null,0,211]
[22,11280,13,11288,14,11296,null,null,null,null,0,211]
[11,11409,11,11415,12,11426,null,null,null,null,0,111]
[11,11540,11,11548,12,11559,null,null,null,null,0,111]
[22,11661,13,11670,14,11679,null,null,null,null,0,211]
[22,11780,13,11791,14,11796,null,null,null,null,0,211]
[11,11906,11,11915,12,11926,null,null,null,null,0,111]
[22,12028,13,12039,14,12045,null,null,null,null,0,211]
[11,12150,11,12159,12,12167,null,null,null,null,0,111]
[22,12269,13,12277,14,12282,null,null,null,null,0,211]
[22,12377,13,12386,14,12392,null,null,null,null,0,211]
[11,12497,11,12505,12,12517,null,null,null,null,0,111]
[22,12619,13,12630,14,12638,null,null,null,null,0,211]
[22,12742,13,12752,14,12761,null,null,null,null,0,211]
[11,12870,11,12878,12,12891,null,null,null,null,0,111]
[22,12990,13,12998,14,13003,null,null,null,null,0,211]
[11,13115,11,13122,12,13131,null,null,null,null,0,111]
[11,13241,11,13250,12,13258,null,null,null,null,0,111]
[11,13373,11,13381,12,13393,null,null,null,null,0,111]
[11,13499,11,13509,12,13519,null,null,null,null,0,111]
[22,13619,13,13628,14,13633,null,null,null,null,0,211]
[11,13743,11,13750,12,13759,null,null,null,null,0,111]
[11,13871,11,13879,12,13888,null,null,null,null,0,111]
[11,13998,11,14005,12,14017,null,null,null,null,0,111]
[22,14118,13,14126,14,14132,null,null,null,null,0,211]
[11,14241,11,14247,12,14256,null,null,null,null,0,111]
[11,14366,11,14374,12,14385,null,null,null,null,0,111]
[22,14483,13,14493,14,14502,null,null,null,null,0,211]
[22,14603,13,14612,14,14618,null,null,null,null,0,211]
[22,14713,24,14724,14,14733,null,null,null,null,0,221]
[22,14824,13,14836,14,14844,null,null,null,null,0,211]
[22,14940,13,14952,14,14960,null,null,null,null,0,211]
[11,15066,11,15076,12,15084,null,null,null,null,0,111]
[11,15194,11,15203,12,15214,null,null,null,null,0,111]
[11,15330,11,15339,12,15348,null,null,null,null,0,111]
[22,15446,13,15457,14,15466,null,null,null,null,0,211]
[11,15579,11,15586,12,15595,null,null,null,null,0,111]
[11,15697,11,15703,12,15714,null,null,null,null,0,111]
[11,15821,11,15827,12,15838,null,null,null,null,0,111]
[22,15944,13,15953,14,15962,null,null,null,null,0,211]
[22,16066,13,16075,14,16084,null,null,null,null,0,211]
[11,16193,11,16200,12,16208,null,null,null,null,0,111]
[22,16307,13,16317,14,16325,null,null,null,null,0,211]
[22,16421,13,16450,14,16459,null,null,null,null,0,211]
[22,16559,13,16571,14,16578,null,null,null,null,0,211]
[22,16680,13,16690,14,16698,null,null,null,null,0,211]
[22,16796,13,16804,14,16812,null,null,null,null,0,211]
[11,16921,11,16926,12,16935,null,null,null,null,0,111]
[11,17046,11,17056,12,17067,null,null,null,null,0,111]
[22,17170,13,17178,14,17184,null,null,null,null,0,211]
[22,17279,13,17290,14,17299,null,null,null,null,0,211]
[11,17404,11,17413,12,17423,null,null,null,null,0,111]
[22,17523,13,17532,14,17540,null,null,null,null,0,211]
[22,17645,13,17653,14,17662,null,null,null,null,0,211]
[11,17770,11,17780,12,17791,null,null,null,null,0,111]
[11,17901,11,17910,12,17921,null,null,null,null,0,111]
[22,18020,13,18028,14,18036,null,null,null,null,0,211]
[22,18138,13,18146,14,18152,null,null,null,null,0,211]
[22,18250,13,18267,14,18275,null,null,null,null,0,211]
[11,18392,11,18401,12,18411,null,null,null,null,0,111]
[22,18518,13,18526,14,18532,null,null,null,null,0,211]
[22,18629,13,18638,14,18647,null,null,null,null,0,211]
[22,18749,13,18762,14,18769,null,null,null,null,0,211]
[22,18876,13,18885,14,18890,null,null,null,null,0,211]
[22,18986,13,18997,14,19004,null,null,null,null,0,211]
[22,19107,13,19119,14,19128,null,null,null,null,0,211]
[22,19227,13,19235,14,19245,null,null,null,null,0,211]
[22,19346,13,19357,14,19365,null,null,null,null,0,211]
[11,19475,11,19483,12,19495,null,null,null,null,0,111]
[11,19612,11,19620,12,19632,null,null,null,null,0,111]
[11,19749,11,19759,12,19769,null,null,null,null,0,111]
[11,19886,11,19895,12,19904,null,null,null,null,0,111]
[22,20006,13,20014,14,20019,null,null,null,null,0,211]
[22,20125,13,20134,14,20141,null,null,null,null,0,211]
[22,20240,13,20251,14,20259,null,null,null,null,0,211]
[11,20368,11,20375,12,20387,null,null,null,null,0,111]
[11,20504,11,20513,12,20524,null,null,null,null,0,111]
[22,20627,13,20638,14,20645,null,null,null,null,0,211]
[22,20747,13,20764,14,20772,null,null,null,null,0,211]
[22,20868,24,20873,14,20885,null,null,null,null,0,221]
[22,20986,13,21008,14,21017,null,null,null,null,0,211]
[22,21125,13,21138,14,21147,null,null,null,null,0,211]
[22,21249,13,21265,14,21276,null,null,null,null,0,211]
[11,21391,11,21400,12,21409,null,null,null,null,0,111]
[11,21529,11,21536,12,21546,null,null,null,null,0,111]
[22,21651,13,21672,14,21683,null,null,null,null,0,211]
[22,21788,13,21800,14,21808,null,null,null,null,0,211]
[11,21924,11,21935,12,21946,null,null,null,null,0,111]
[11,22057,11,22065,12,22076,null,null,null,null,0,111]
[22,22177,13,22195,14,22203,null,null,null,null,0,211]
[11,22329,11,22339,12,22350,null,null,null,null,0,111]
[11,22467,11,22476,12,22486,null,null,null,null,0,111]
[22,22592,13,22602,14,22607,null,null,null,null,0,211]
[22,22704,13,22716,14,22726,null,null,null,null,0,211]
[22,22823,13,22841,14,22850,null,null,null,null,0,211]
[11,22960,11,22969,12,22981,null,null,null,null,0,111]
[22,23086,13,23097,14,23104,null,null,null,null,0,211]
[22,23205,13,23218,14,23225,null,null,null,null,0,211]
[22,23330,13,23343,14,23351,null,null,null,null,0,211]
[11,23461,11,23468,12,23476,null,null,null,null,0,111]
[22,23572,13,23585,14,23594,null,null,null,null,0,211]
[11,23708,11,23716,12,23728,null,null,null,null,0,111]
[11,23840,11,23848,12,23857,null,null,null,null,0,111]
[11,23971,11,23981,12,23993,null,null,null,null,null,111]

{"sheet":"!MA31C30.095","index":16,"n_rows":196,"n_cols":48,"rows_kept":196,"cut":false,"hidden":false,"merged":[[4,39,4,42],[5,39,5,40],[4,44,4,47],[5,44,5,45],[4,24,4,27],[5,24,5,25],[4,29,4,32],[5,29,5,30],[4,34,4,37],[5,34,5,35],[1,1,1,2],[5,13,5,14],[18,13,18,14],[19,13,19,14],[4,19,4,22],[5,19,5,20]]}
["Report for:!MA31C30.095"]
["Date:","<date>"]
["Hen:","<hen>",null,null,null,"Correct Sequence",{"$f":"Start!J2","v":122},null,null,null,null,null,null,null,null,"Total Sequences in Data",{"$f":"4994-COUNTBLANK(L7:L5000)","v":190},null,null,null,null,"Total Sequences in Block Data",{"$f":"COUNTA(L7:L38)","v":32},null,null,null,"Total Sequences in Block Data",{"$f":"COUNTA(L39:L69)","v":31},null,null,null,"Total Sequences in Block Data",{"$f":"COUNTA(L70:L101)","v":32},null,null,null,"Total Sequences in Block Data",{"$f":"COUNTA(L102:L133)","v":32},null,null,null,"Total Sequences in Block Data",{"$f":"COUNTA(L134:L164)","v":31},null,null,null,"Total Sequences in Block Data",{"$f":"COUNTA(L165:L196)","v":32}]
[null,null,null,null,null,null,null,null,null,null,null,null,null,null,null,"Total Sequences in Summary",{"$f":"SUM(O7:O14)","v":189},null,null,null,null,"Total Sequences in Block Summary",{"$f":"SUM(U7:U14)","v":32},null,null,null,"Total Sequences in Block Summary",{"$f":"SUM(Z7:Z14)","v":31},null,null,null,"Total Sequences in Block Summary",{"$f":"SUM(AE7:AE14)","v":32},null,null,null,"Total Sequences in Block Summary",{"$f":"SUM(AJ7:AJ14)","v":32},null,null,null,"Total Sequences in Block Summary",{"$f":"SUM(AO7:AO14)","v":31},null,null,null,"Total Sequences in Block Summary",{"$f":"SUM(AT7:AT14)","v":31}]
[null,null,null,null,null,null,null,null,null,null,null,null,null,null,null,null,null,null,null,"Block 1",null,null,null,null,"Block 2",null,null,null,null,"Block 3",null,null,null,null,"Block 4",null,null,null,null,"Block 5",null,null,null,null,"Block 6"]
["Sequence\nComponent\n1","Time\n1","Sequence\nComponent\n2","Time\n2","Sequence\nComponent\n3","Time\n3","Sequence\nComponent\n4","Time\n4","Sequence\nComponent\n5","Time\n5","Correct?\n0=No 1=Yes","Sequence",null,"Frequency",null,"Relative Frequency","Variability",null,null,"Frequency",null,"Relative Frequency","Variability",null,"Frequency",null,"Relative Frequency","Variability",null,"Frequency",null,"Relative Frequency","Variability",null,"Frequency",null,"Relative Frequency","Variability",null,"Frequency",null,"Relative Frequency","Variability",null,"Frequency",null,"Relative Frequency","Variability"]
[11,30,11,39,12,51,null,null,null,null,0,111,null,111,{"$f":"COUNTIF($L$7:$L$500,N7)","v":90},{"$f":"O7/$Q$4","v":0.47619047619047616},{"$f":"IF(P7=0,0,(P7*((LOG(P7))/LOG(2))))","v":-0.50970920375780859},null,null,{"$f":"N7","v":111},{"$f":"COUNTIF(L7:L38,T7)","v":15},{"$f":"U7/(W4-U10)","v":0.46875},{"$f":"IF(V7=0,0,(V7*((LOG(V7))/LOG(2))))","v":-0.512395033308507},null,{"$f":"N7","v":111},{"$f":"COUNTIF(L39:L69,Y7)","v":13},{"$f":"Z7/(AB4-Z10)","v":0.41935483870967744},{"$f":"IF(AA7=0,0,(AA7*((LOG(AA7))/LOG(2))))","v":-0.52576889352242517},null,{"$f":"N7","v":111},{"$f":"COUNTIF(L70:L101,AD7)","v":11},{"$f":"AE7/(AG4-AE10)","v":0.34375},{"$f":"IF(AF7=0,0,(AF7*((LOG(AF7))/LOG(2))))","v":-0.52957038109342913},null,{"$f":"N7","v":111},{"$f":"COUNTIF(L102:L133,AI7)","v":18},{"$f":"AJ7/(AL4-AJ10)","v":0.5625},{"$f":"IF(AK7=0,0,(AK7*((LOG(AK7))/LOG(2))))","v":-0.4669171866886993},null,{"$f":"N7","v":111},{"$f":"COUNTIF(L134:L164,AN7)","v":16},{"$f":"AO7/(AQ4-AO10)","v":0.5161290322580645},{"$f":"IF(AP7=0,0,(AP7*((LOG(AP7))/LOG(2))))","v":-0.49248841826419365},null,{"$f":"N7","v":111},{"$f":"COUNTIF(L165:L196,AS7)","v":17},{"$f":"AT7/(AV4-AT10)","v":0.54838709677419351},{"$f":"IF(AU7=0,0,(AU7*((LOG(AU7))/LOG(2))))","v":-0.47530545081681003}]
[11,160,11,167,12,179,null,null,null,null,0,111,null,112,{"$f":"COUNTIF($L$7:$L$500,N8)","v":0},{"$f":"O8/$Q$4","v":0},{"$f":"IF(P8=0,0,(P8*((LOG(P8))/LOG(2))))","v":0},null,null,{"$f":"N8","v":112},{"$f":"COUNTIF(L7:L38,T8)","v":0},{"$f":"U8/(W4-U10)","v":0},{"$f":"IF(V8=0,0,(V8*((LOG(V8))/LOG(2))))","v":0},null,{"$f":"N8","v":112},{"$f":"COUNTIF(L39:L69,Y8)","v":0},{"$f":"Z8/(AB4-Z10)","v":0},{"$f":"IF(AA8=0,0,(AA8*((LOG(AA8))/LOG(2))))","v":0},null,{"$f":"N8","v":112},{"$f":"COUNTIF(L70:L101,AD8)","v":0},{"$f":"AE8/(AG4-AE10)","v":0},{"$f":"IF(AF8=0,0,(AF8*((LOG(AF8))/LOG(2))))","v":0},null,{"$f":"N8","v":112},{"$f":"COUNTIF(L102:L133,AI8)","v":0},{"$f":"AJ8/(AL4-AJ10)","v":0},{"$f":"IF(AK8=0,0,(AK8*((LOG(AK8))/LOG(2))))","v":0},null,{"$f":"N8","v":112},{"$f":"COUNTIF(L134:L164,AN8)","v":0},{"$f":"AO8/(AQ4-AO10)","v":0},{"$f":"IF(AP8=0,0,(AP8*((LOG(AP8))/LOG(2))))","v":0},null,{"$f":"N8","v":112},{"$f":"COUNTIF(L165:L196,AS8)","v":0},{"$f":"AT8/(AV4-AT10)","v":0},{"$f":"IF(AU8=0,0,(AU8*((LOG(AU8))/LOG(2))))","v":0}]
[22,285,13,294,14,305,null,null,null,null,0,211,null,121,{"$f":"COUNTIF($L$7:$L$500,N9)","v":0},{"$f":"O9/$Q$4","v":0},{"$f":"IF(P9=0,0,(P9*((LOG(P9))/LOG(2))))","v":0},null,null,{"$f":"N9","v":121},{"$f":"COUNTIF(L7:L38,T9)","v":0},{"$f":"U9/(W4-U10)","v":0},{"$f":"IF(V9=0,0,(V9*((LOG(V9))/LOG(2))))","v":0},null,{"$f":"N9","v":121},{"$f":"COUNTIF(L39:L69,Y9)","v":0},{"$f":"Z9/(AB4-Z10)","v":0},{"$f":"IF(AA9=0,0,(AA9*((LOG(AA9))/LOG(2))))","v":0},null,{"$f":"N9","v":121},{"$f":"COUNTIF(L70:L101,AD9)","v":0},{"$f":"AE9/(AG4-AE10)","v":0},{"$f":"IF(AF9=0,0,(AF9*((LOG(AF9))/LOG(2))))","v":0},null,{"$f":"N9","v":121},{"$f":"COUNTIF(L102:L133,AI9)","v":0},{"$f":"AJ9/(AL4-AJ10)","v":0},{"$f":"IF(AK9=0,0,(AK9*((LOG(AK9))/LOG(2))))","v":0},null,{"$f":"N9","v":121},{"$f":"COUNTIF(L134:L164,AN9)","v":0},{"$f":"AO9/(AQ4-AO10)","v":0},{"$f":"IF(AP9=0,0,(AP9*((LOG(AP9))/LOG(2))))","v":0},null,{"$f":"N9","v":121},{"$f":"COUNTIF(L165:L196,AS9)","v":0},{"$f":"AT9/(AV4-AT10)","v":0},{"$f":"IF(AU9=0,0,(AU9*((LOG(AU9))/LOG(2))))","v":0}]
[11,419,11,428,12,441,null,null,null,null,0,111,null,122,{"$f":"COUNTIF($L$7:$L$500,N10)","v":0},{"$f":"O10/$Q$4","v":0},{"$f":"IF(P10=0,0,(P10*((LOG(P10))/LOG(2))))","v":0},null,null,{"$f":"N10","v":122},{"$f":"COUNTIF(L7:L38,T10)","v":0},null,null,null,{"$f":"N10","v":122},{"$f":"COUNTIF(L39:L69,Y10)","v":0},null,null,null,{"$f":"N10","v":122},{"$f":"COUNTIF(L70:L101,AD10)","v":0},null,null,null,{"$f":"N10","v":122},{"$f":"COUNTIF(L102:L133,AI10)","v":0},null,null,null,{"$f":"N10","v":122},{"$f":"COUNTIF(L134:L164,AN10)","v":0},null,null,null,{"$f":"N10","v":122},{"$f":"COUNTIF(L165:L196,AS10)","v":0}]
[11,550,11,559,12,570,null,null,null,null,0,111,null,211,{"$f":"COUNTIF($L$7:$L$500,N11)","v":98},{"$f":"O11/$Q$4","v":0.51851851851851849},{"$f":"IF(P11=0,0,(P11*((LOG(P11))/LOG(2))))","v":-0.49131318968452231},null,null,{"$f":"N11","v":211},{"$f":"COUNTIF(L7:L38,T11)","v":17},{"$f":"U11/(W4-U10)","v":0.53125},{"$f":"IF(V11=0,0,(V11*((LOG(V11))/LOG(2))))","v":-0.48478536558575719},null,{"$f":"N11","v":211},{"$f":"COUNTIF(L39:L69,Y11)","v":17},{"$f":"Z11/(AB4-Z10)","v":0.54838709677419351},{"$f":"IF(AA11=0,0,(AA11*((LOG(AA11))/LOG(2))))","v":-0.47530545081681003},null,{"$f":"N11","v":211},{"$f":"COUNTIF(L70:L101,AD11)","v":21},{"$f":"AE11/(AG4-AE10)","v":0.65625},{"$f":"IF(AF11=0,0,(AF11*((LOG(AF11))/LOG(2))))","v":-0.3987916913014386},null,{"$f":"N11","v":211},{"$f":"COUNTIF(L102:L133,AI11)","v":14},{"$f":"AJ11/(AL4-AJ10)","v":0.4375},{"$f":"IF(AK11=0,0,(AK11*((LOG(AK11))/LOG(2))))","v":-0.52178222159979815},null,{"$f":"N11","v":211},{"$f":"COUNTIF(L134:L164,AN11)","v":15},{"$f":"AO11/(AQ4-AO10)","v":0.4838709677419355},{"$f":"IF(AP11=0,0,(AP11*((LOG(AP11))/LOG(2))))","v":-0.50676082973146286},null,{"$f":"N11","v":211},{"$f":"COUNTIF(L165:L196,AS11)","v":14},{"$f":"AT11/(AV4-AT10)","v":0.45161290322580644},{"$f":"IF(AU11=0,0,(AU11*((LOG(AU11))/LOG(2))))","v":-0.51792836892289662}]
[11,683,11,690,12,699,null,null,null,null,0,111,null,212,{"$f":"COUNTIF($L$7:$L$500,N12)","v":0},{"$f":"O12/$Q$4","v":0},{"$f":"IF(P12=0,0,(P12*((LOG(P12))/LOG(2))))","v":0},null,null,{"$f":"N12","v":212},{"$f":"COUNTIF(L7:L38,T12)","v":0},{"$f":"U12/(W4-U10)","v":0},{"$f":"IF(V12=0,0,(V12*((LOG(V12))/LOG(2))))","v":0},null,{"$f":"N12","v":212},{"$f":"COUNTIF(L39:L69,Y12)","v":0},{"$f":"Z12/(AB4-Z10)","v":0},{"$f":"IF(AA12=0,0,(AA12*((LOG(AA12))/LOG(2))))","v":0},null,{"$f":"N12","v":212},{"$f":"COUNTIF(L70:L101,AD12)","v":0},{"$f":"AE12/(AG4-AE10)","v":0},{"$f":"IF(AF12=0,0,(AF12*((LOG(AF12))/LOG(2))))","v":0},null,{"$f":"N12","v":212},{"$f":"COUNTIF(L102:L133,AI12)","v":0},{"$f":"AJ12/(AL4-AJ10)","v":0},{"$f":"IF(AK12=0,0,(AK12*((LOG(AK12))/LOG(2))))","v":0},null,{"$f":"N12","v":212},{"$f":"COUNTIF(L134:L164,AN12)","v":0},{"$f":"AO12/(AQ4-AO10)","v":0},{"$f":"IF(AP12=0,0,(AP12*((LOG(AP12))/LOG(2))))","v":0},null,{"$f":"N12","v":212},{"$f":"COUNTIF(L165:L196,AS12)","v":0},{"$f":"AT12/(AV4-AT10)","v":0},{"$f":"IF(AU12=0,0,(AU12*((LOG(AU12))/LOG(2))))","v":0}]
[22,802,13,814,14,823,null,null,null,null,0,211,null,221,{"$f":"COUNTIF($L$7:$L$500,N13)","v":1},{"$f":"O13/$Q$4","v":5.2910052910052907E-3},{"$f":"IF(P13=0,0,(P13*((LOG(P13))/LOG(2))))","v":-4.0011864678418371E-2},null,null,{"$f":"N13","v":221},{"$f":"COUNTIF(L7:L38,T13)","v":0},{"$f":"U13/(W4-U10)","v":0},{"$f":"IF(V13=0,0,(V13*((LOG(V13))/LOG(2))))","v":0},null,{"$f":"N13","v":221},{"$f":"COUNTIF(L39:L69,Y13)","v":1},{"$f":"Z13/(AB4-Z10)","v":3.2258064516129031E-2},{"$f":"IF(AA13=0,0,(AA13*((LOG(AA13))/LOG(2))))","v":-0.15981278420602821},null,{"$f":"N13","v":221},{"$f":"COUNTIF(L70:L101,AD13)","v":0},{"$f":"AE13/(AG4-AE10)","v":0},{"$f":"IF(AF13=0,0,(AF13*((LOG(AF13))/LOG(2))))","v":0},null,{"$f":"N13","v":221},{"$f":"COUNTIF(L102:L133,AI13)","v":0},{"$f":"AJ13/(AL4-AJ10)","v":0},{"$f":"IF(AK13=0,0,(AK13*((LOG(AK13))/LOG(2))))","v":0},null,{"$f":"N13","v":221},{"$f":"COUNTIF(L134:L164,AN13)","v":0},{"$f":"AO13/(AQ4-AO10)","v":0},{"$f":"IF(AP13=0,0,(AP13*((LOG(AP13))/LOG(2))))","v":0},null,{"$f":"N13","v":221},{"$f":"COUNTIF(L165:L196,AS13)","v":0},{"$f":"AT13/(AV4-AT10)","v":0},{"$f":"IF(AU13=0,0,(AU13*((LOG(AU13))/LOG(2))))","v":0}]
[22,925,13,936,14,945,null,null,null,null,0,211,null,222,{"$f":"COUNTIF($L$7:$L$500,N14)","v":0},{"$f":"O14/$Q$4","v":0},{"$f":"IF(P14=0,0,(P14*((LOG(P14))/LOG(2))))","v":0},null,null,{"$f":"N14","v":222},{"$f":"COUNTIF(L7:L38,T14)","v":0},{"$f":"U14/(W4-U10)","v":0},{"$f":"IF(V14=0,0,(V14*((LOG(V14))/LOG(2))))","v":0},null,{"$f":"N14","v":222},{"$f":"COUNTIF(L39:L69,Y14)","v":0},{"$f":"Z14/(AB4-Z10)","v":0},{"$f":"IF(AA14=0,0,(AA14*((LOG(AA14))/LOG(2))))","v":0},null,{"$f":"N14","v":222},{"$f":"COUNTIF(L70:L101,AD14)","v":0},{"$f":"AE14/(AG4-AE10)","v":0},{"$f":"IF(AF14=0,0,(AF14*((LOG(AF14))/LOG(2))))","v":0},null,{"$f":"N14","v":222},{"$f":"COUNTIF(L102:L133,AI14)","v":0},{"$f":"AJ14/(AL4-AJ10)","v":0},{"$f":"IF(AK14=0,0,(AK14*((LOG(AK14))/LOG(2))))","v":0},null,{"$f":"N14","v":222},{"$f":"COUNTIF(L134:L164,AN14)","v":0},{"$f":"AO14/(AQ4-AO10)","v":0},{"$f":"IF(AP14=0,0,(AP14*((LOG(AP14))/LOG(2))))","v":0},null,{"$f":"N14","v":222},{"$f":"COUNTIF(L165:L196,AS14)","v":0},{"$f":"AT14/(AV4-AT10)","v":0},{"$f":"IF(AU14=0,0,(AU14*((LOG(AU14))/LOG(2))))","v":0}]
[22,1053,13,1062,14,1069,null,null,null,null,0,211,null,null,null,{"$f":"SUM(P7:P14)","v":1},{"$f":"-SUM(Q7:Q14)","v":1.0410342581207495},null,null,null,null,{"$f":"SUM(V7:V14)","v":1},{"$f":"-SUM(W7:W14)","v":0.99718039889426424},null,null,null,{"$f":"SUM(AA7:AA14)","v":1},{"$f":"-SUM(AB7:AB14)","v":1.1608871285452633},null,null,null,{"$f":"SUM(AF7:AF14)","v":1},{"$f":"-SUM(AG7:AG14)","v":0.92836207239486779},null,null,null,{"$f":"SUM(AK7:AK14)","v":1},{"$f":"-SUM(AL7:AL14)","v":0.98869940828849745},null,null,null,{"$f":"SUM(AP7:AP14)","v":1},{"$f":"-SUM(AQ7:AQ14)","v":0.99924924799565651},null,null,null,{"$f":"SUM(AU7:AU14)","v":1},{"$f":"-SUM(AV7:AV14)","v":0.99323381973970659}]
[22,1170,13,1192,14,1202,null,null,null,null,0,211,null,null,null,"U=",{"$f":"Q15/(LOG(Q4)/LOG(2))","v":0.13766211127884836},null,null,null,null,"U1=",{"$f":"W15/(LOG(W4)/LOG(2))","v":0.19943607977885286},null,null,null,"U2=",{"$f":"AB15/(LOG(AB4)/LOG(2))","v":0.23432400652177815},null,null,null,"U3=",{"$f":"AG15/(LOG(AG4)/LOG(2))","v":0.18567241447897356},null,null,null,"U4=",{"$f":"AL15/(LOG(AL4)/LOG(2))","v":0.19773988165769948},null,null,null,"U5=",{"$f":"AQ15/(LOG(AQ4)/LOG(2))","v":0.20169754797577344},null,null,null,"U6=",{"$f":"AV15/(LOG(AV4)/LOG(2))","v":0.20048333927690981}]
[11,1314,11,1322,12,1335,null,null,null,null,0,111]
[11,1448,11,1456,12,1465,null,null,null,null,0,111]
[22,1567,13,1576,14,1582,null,null,null,null,0,211,null,"Total Target Seq"]
[22,1683,13,1691,14,1697,null,null,null,null,0,211,null,{"$f":"COUNTIF(L7:L196,G3)","v":0},null,32,31,32,32,31,32]
[22,1794,13,1807,14,1815,null,null,null,null,0,211,null,null,null,"% of reinforcement given in 6 equal intervals based on number of trials "]
[22,1915,13,1925,14,1934,null,null,null,null,0,211,null,null,null,"%_1","%_2","%_3","%_4","%_5","%_6"]
[22,2033,13,2045,14,2054,null,null,null,null,0,211,null,null,"target sequence",{"$f":"$G$3","v":122},{"$f":"$G$3","v":122},{"$f":"$G$3","v":122},{"$f":"$G$3","v":122},{"$f":"$G$3","v":122},{"$f":"$G$3","v":122}]
[11,2174,11,2183,12,2192,null,null,null,null,0,111,null,null,"total reinforcement",{"$f":"U10","v":0},{"$f":"Z10","v":0},{"$f":"AE10","v":0},{"$f":"AJ10","v":0},{"$f":"AO10","v":0},{"$f":"AT10","v":0}]
[11,2306,11,2314,12,2325,null,null,null,null,0,111,null,null,"% target"]
[11,2441,11,2451,12,2460,null,null,null,null,0,111,null,null,"CCRF"]
[22,2566,13,2575,14,2580,null,null,null,null,0,211,null,null,"% CCRf"]
[11,2689,11,2697,12,2708,null,null,null,null,0,111,null,null,"average response rate",{"$f":"F38/P20","v":124.09375},{"$f":"(F69-F38)/Q20","v":123.96774193548387},{"$f":"(F101-F69)/R20","v":125.09375},{"$f":"(F133-F101)/S20","v":126.5},{"$f":"(F164-F133)/T20","v":128.90322580645162},{"$f":"(F196-F164)/U20","v":-620.65625}]
[22,2808,13,2819,14,2828,null,null,null,null,0,211]
[22,2928,13,2951,14,2960,null,null,null,null,0,211]
[11,3078,11,3089,12,3100,null,null,null,null,0,111]
[11,3216,11,3225,12,3235,null,null,null,null,0,111]
[22,3333,13,3342,14,3350,null,null,null,null,0,211]
[11,3464,11,3472,12,3482,null,null,null,null,0,111]
[22,3583,13,3594,14,3602,null,null,null,null,0,211]
[22,3707,13,3716,14,3724,null,null,null,null,0,211]
[11,3834,11,3840,12,3849,null,null,null,null,0,111]
[22,3951,13,3962,14,3971,null,null,null,null,0,211]
[22,4069,13,4081,14,4088,null,null,null,null,0,211]
[11,4195,11,4201,12,4211,null,null,null,null,0,111]
[11,4324,11,4332,12,4344,null,null,null,null,0,111]
[11,4451,11,4458,12,4466,null,null,null,null,0,111]
[22,4568,13,4579,14,4587,null,null,null,null,0,211]
[11,4701,11,4707,12,4715,null,null,null,null,0,111]
[22,4816,13,4825,14,4832,null,null,null,null,0,211]
[22,4930,13,4943,14,4951,null,null,null,null,0,211]
[22,5052,13,5063,14,5072,null,null,null,null,0,211]
[22,5167,13,5180,14,5187,null,null,null,null,0,211]
[11,5297,11,5306,12,5315,null,null,null,null,0,111]
[11,5426,11,5431,12,5440,null,null,null,null,0,111]
[22,5541,13,5551,14,5556,null,null,null,null,0,211]
[22,5648,24,5660,14,5671,null,null,null,null,0,221]
[22,5776,13,5784,14,5790,null,null,null,null,0,211]
[11,5901,11,5910,12,5922,null,null,null,null,0,111]
[22,6026,13,6039,14,6048,null,null,null,null,0,211]
[11,6161,11,6171,12,6181,null,null,null,null,0,111]
[11,6307,11,6315,12,6328,null,null,null,null,0,111]
[22,6431,13,6440,14,6446,null,null,null,null,0,211]
[11,6557,11,6565,12,6574,null,null,null,null,0,111]
[22,6674,13,6685,14,6694,null,null,null,null,0,211]
[11,6817,11,6826,12,6839,null,null,null,null,0,111]
[22,6940,13,6950,14,6960,null,null,null,null,0,211]
[22,7070,13,7078,14,7087,null,null,null,null,0,211]
[22,7187,13,7199,14,7207,null,null,null,null,0,211]
[22,7312,13,7322,14,7331,null,null,null,null,0,211]
[11,7435,11,7444,12,7453,null,null,null,null,0,111]
[11,7558,11,7568,12,7578,null,null,null,null,0,111]
[22,7676,13,7687,14,7693,null,null,null,null,0,211]
[22,7795,13,7805,14,7814,null,null,null,null,0,211]
[22,7915,13,7924,14,7930,null,null,null,null,0,211]
[22,8034,13,8046,14,8055,null,null,null,null,0,211]
[22,8160,13,8168,14,8175,null,null,null,null,0,211]
[22,8280,13,8292,14,8302,null,null,null,null,0,211]
[11,8416,11,8425,12,8437,null,null,null,null,0,111]
[11,8549,11,8559,12,8570,null,null,null,null,0,111]
[22,8673,13,8685,14,8694,null,null,null,null,0,211]
[22,8794,13,8804,14,8810,null,null,null,null,0,211]
[11,8925,11,8931,12,8943,null,null,null,null,0,111]
[22,9040,13,9051,14,9058,null,null,null,null,0,211]
[22,9157,13,9168,14,9178,null,null,null,null,0,211]
[11,9295,11,9303,12,9313,null,null,null,null,0,111]
[11,9423,11,9429,12,9438,null,null,null,null,0,111]
[22,9551,13,9559,14,9568,null,null,null,null,0,211]
[22,9676,13,9686,14,9695,null,null,null,null,0,211]
[22,9799,13,9810,14,9819,null,null,null,null,0,211]
[11,9937,11,9949,12,9961,null,null,null,null,0,111]
[22,10063,13,10074,14,10084,null,null,null,null,0,211]
[11,10195,11,10204,12,10215,null,null,null,null,0,111]
[11,10328,11,10334,12,10345,null,null,null,null,0,111]
[22,10445,13,10455,14,10464,null,null,null,null,0,211]
[22,10560,13,10572,14,10581,null,null,null,null,0,211]
[11,10695,11,10701,12,10710,null,null,null,null,0,111]
[22,10811,13,10822,14,10833,null,null,null,null,0,211]
[22,10935,13,10947,14,10953,null,null,null,null,0,211]
[22,11056,13,11066,14,11073,null,null,null,null,0,211]
[22,11174,13,11183,14,11192,null,null,null,null,0,211]
[22,11294,13,11303,14,11309,null,null,null,null,0,211]
[22,11411,13,11421,14,11430,null,null,null,null,0,211]
[11,11540,11,11549,12,11560,null,null,null,null,0,111]
[11,11676,11,11685,12,11697,null,null,null,null,0,111]
[22,11799,13,11810,14,11817,null,null,null,null,0,211]
[11,11927,11,11937,12,11948,null,null,null,null,0,111]
[22,12047,13,12056,14,12066,null,null,null,null,0,211]
[22,12166,13,12178,14,12187,null,null,null,null,0,211]
[11,12301,11,12310,12,12321,null,null,null,null,0,111]
[11,12429,11,12435,12,12447,null,null,null,null,0,111]
[22,12555,13,12564,14,12570,null,null,null,null,0,211]
[11,12684,11,12691,12,12702,null,null,null,null,0,111]
[11,12814,11,12821,12,12829,null,null,null,null,0,111]
[22,12933,13,12942,14,12951,null,null,null,null,0,211]
[11,13062,11,13072,12,13081,null,null,null,null,0,111]
[11,13193,11,13202,12,13213,null,null,null,null,0,111]
[22,13314,13,13326,14,13335,null,null,null,null,0,211]
[11,13443,11,13448,12,13456,null,null,null,null,0,111]
[22,13558,13,13566,14,13574,null,null,null,null,0,211]
[22,13676,13,13685,14,13693,null,null,null,null,0,211]
[11,13802,11,13811,12,13822,null,null,null,null,0,111]
[22,13932,13,13943,14,13953,null,null,null,null,0,211]
[11,14060,11,14066,12,14078,null,null,null,null,0,111]
[22,14180,13,14188,14,14197,null,null,null,null,0,211]
[22,14299,13,14310,14,14320,null,null,null,null,0,211]
[11,14429,11,14437,12,14449,null,null,null,null,0,111]
[11,14567,11,14577,12,14588,null,null,null,null,0,111]
[11,14700,11,14709,12,14718,null,null,null,null,0,111]
[11,14831,11,14841,12,14852,null,null,null,null,0,111]
[22,14954,13,14964,14,14975,null,null,null,null,0,211]
[11,15082,11,15091,12,15099,null,null,null,null,0,111]
[22,15202,13,15210,14,15217,null,null,null,null,0,211]
[11,15337,11,15346,12,15357,null,null,null,null,0,111]
[22,15454,13,15466,14,15475,null,null,null,null,0,211]
[11,15583,11,15592,12,15604,null,null,null,null,0,111]
[11,15719,11,15727,12,15739,null,null,null,null,0,111]
[22,15844,13,15855,14,15865,null,null,null,null,0,211]
[11,15981,11,15991,12,16003,null,null,null,null,0,111]
[22,16100,13,16117,14,16125,null,null,null,null,0,211]
[11,16242,11,16250,12,16261,null,null,null,null,0,111]
[22,16359,13,16368,14,16378,null,null,null,null,0,211]
[22,16483,13,16490,14,16497,null,null,null,null,0,211]
[11,16611,11,16620,12,16629,null,null,null,null,0,111]
[11,16742,11,16748,12,16757,null,null,null,null,0,111]
[11,16871,11,16882,12,16895,null,null,null,null,0,111]
[11,17009,11,17018,12,17037,null,null,null,null,0,111]
[11,17144,11,17152,12,17164,null,null,null,null,0,111]
[11,17276,11,17282,12,17290,null,null,null,null,0,111]
[22,17393,13,17404,14,17412,null,null,null,null,0,211]
[22,17515,13,17523,14,17533,null,null,null,null,0,211]
[22,17645,13,17660,14,17671,null,null,null,null,0,211]
[11,17779,11,17793,12,17801,null,null,null,null,0,111]
[22,17901,13,17919,14,17928,null,null,null,null,0,211]
[22,18037,13,18046,14,18056,null,null,null,null,0,211]
[11,18175,11,18183,12,18195,null,null,null,null,0,111]
[11,18305,11,18314,12,18323,null,null,null,null,0,111]
[22,18426,13,18438,14,18446,null,null,null,null,0,211]
[22,18551,13,18561,14,18571,null,null,null,null,0,211]
[22,18674,13,18687,14,18698,null,null,null,null,0,211]
[11,18805,11,18815,12,18825,null,null,null,null,0,111]
[22,18926,13,18937,14,18942,null,null,null,null,0,211]
[11,19058,11,19064,12,19075,null,null,null,null,0,111]
[22,19184,13,19193,14,19202,null,null,null,null,0,211]
[11,19313,11,19322,12,19334,null,null,null,null,0,111]
[11,19448,11,19455,12,19466,null,null,null,null,0,111]
[11,19581,11,19591,12,19602,null,null,null,null,0,111]
[22,19710,13,19718,14,19724,null,null,null,null,0,211]
[22,19827,13,19850,14,19861,null,null,null,null,0,211]
[22,19965,13,19976,14,19987,null,null,null,null,0,211]
[11,20101,11,20109,12,20118,null,null,null,null,0,111]
[11,20233,11,20242,12,20254,null,null,null,null,0,111]
[22,20358,13,20366,14,20372,null,null,null,null,0,211]
[11,20493,11,20504,12,20515,null,null,null,null,0,111]
[11,20628,11,20634,12,20644,null,null,null,null,0,111]
[22,20751,13,20763,14,20772,null,null,null,null,0,211]
[22,20874,13,20885,14,20893,null,null,null,null,0,211]
[22,20999,13,21008,14,21014,null,null,null,null,0,211]
[11,21136,11,21147,12,21159,null,null,null,null,0,111]
[11,21277,11,21293,12,21304,null,null,null,null,0,111]
[11,21425,11,21431,12,21440,null,null,null,null,0,111]
[11,21546,11,21559,12,21572,null,null,null,null,0,111]
[11,21679,11,21684,12,21692,null,null,null,null,0,111]
[11,21803,11,21812,12,21824,null,null,null,null,0,111]
[22,21929,13,21943,14,21949,null,null,null,null,0,211]
[11,22063,11,22072,12,22084,null,null,null,null,0,111]
[11,22201,11,22211,12,22222,null,null,null,null,0,111]
[22,22332,13,22344,14,22354,null,null,null,null,0,211]
[22,22459,13,22471,14,22479,null,null,null,null,0,211]
[22,22581,13,22589,14,22597,null,null,null,null,0,211]
[22,22696,13,22712,14,22721,null,null,null,null,0,211]
[22,22820,13,22832,14,22841,null,null,null,null,0,211]
[11,22955,11,22960,12,22969,null,null,null,null,0,111]
[22,23073,13,23086,14,23095,null,null,null,null,0,211]
[11,23210,11,23221,12,23234,null,null,null,null,0,111]
[22,23338,13,23350,14,23362,null,null,null,null,0,211]
[11,23475,11,23484,12,23494,null,null,null,null,0,111]
[11,23600,11,23608,12,23617,null,null,null,null,0,111]
[11,23732,11,23740,12,23749,null,null,null,null,0,111]
[22,23857,13,23870,14,23876,null,null,null,null,0,211]
[11,23993,11,24000,null,null,null,null,null,null,null,11]

{"sheet":"!MB02B10.095","index":17,"n_rows":195,"n_cols":48,"rows_kept":195,"cut":false,"hidden":false,"merged":[[4,39,4,42],[5,39,5,40],[4,44,4,47],[5,44,5,45],[4,24,4,27],[5,24,5,25],[4,29,4,32],[5,29,5,30],[4,34,4,37],[5,34,5,35],[1,1,1,2],[5,13,5,14],[18,13,18,14],[19,13,19,14],[4,19,4,22],[5,19,5,20]]}
["Report for:!MB02B10.095"]
["Date:","<date>"]
["Hen:","<hen>",null,null,null,"Correct Sequence",{"$f":"Start!J2","v":122},null,null,null,null,null,null,null,null,"Total Sequences in Data",{"$f":"4994-COUNTBLANK(L7:L5000)","v":189},null,null,null,null,"Total Sequences in Block Data",{"$f":"COUNTA(L7:L38)","v":32},null,null,null,"Total Sequences in Block Data",{"$f":"COUNTA(L39:L69)","v":31},null,null,null,"Total Sequences in Block Data",{"$f":"COUNTA(L70:L101)","v":32},null,null,null,"Total Sequences in Block Data",{"$f":"COUNTA(L102:L132)","v":31},null,null,null,"Total Sequences in Block Data",{"$f":"COUNTA(L133:L164)","v":32},null,null,null,"Total Sequences in Block Data",{"$f":"COUNTA(L165:L195)","v":31}]
[null,null,null,null,null,null,null,null,null,null,null,null,null,null,null,"Total Sequences in Summary",{"$f":"SUM(O7:O14)","v":188},null,null,null,null,"Total Sequences in Block Summary",{"$f":"SUM(U7:U14)","v":32},null,null,null,"Total Sequences in Block Summary",{"$f":"SUM(Z7:Z14)","v":31},null,null,null,"Total Sequences in Block Summary",{"$f":"SUM(AE7:AE14)","v":32},null,null,null,"Total Sequences in Block Summary",{"$f":"SUM(AJ7:AJ14)","v":31},null,null,null,"Total Sequences in Block Summary",{"$f":"SUM(AO7:AO14)","v":32},null,null,null,"Total Sequences in Block Summary",{"$f":"SUM(AT7:AT14)","v":30}]
[null,null,null,null,null,null,null,null,null,null,null,null,null,null,null,null,null,null,null,"Block 1",null,null,null,null,"Block 2",null,null,null,null,"Block 3",null,null,null,null,"Block 4",null,null,null,null,"Block 5",null,null,null,null,"Block 6"]
["Sequence\nComponent\n1","Time\n1","Sequence\nComponent\n2","Time\n2","Sequence\nComponent\n3","Time\n3","Sequence\nComponent\n4","Time\n4","Sequence\nComponent\n5","Time\n5","Correct?\n0=No 1=Yes","Sequence",null,"Frequency",null,"Relative Frequency","Variability",null,null,"Frequency",null,"Relative Frequency","Variability",null,"Frequency",null,"Relative Frequency","Variability",null,"Frequency",null,"Relative Frequency","Variability",null,"Frequency",null,"Relative Frequency","Variability",null,"Frequency",null,"Relative Frequency","Variability",null,"Frequency",null,"Relative Frequency","Variability"]
[11,38,11,46,12,58,null,null,null,null,0,111,null,111,{"$f":"COUNTIF($L$7:$L$500,N7)","v":82},{"$f":"O7/$Q$4","v":0.43617021276595747},{"$f":"IF(P7=0,0,(P7*((LOG(P7))/LOG(2))))","v":-0.52211181627065639},null,null,{"$f":"N7","v":111},{"$f":"COUNTIF(L7:L38,T7)","v":11},{"$f":"U7/(W4-U10)","v":0.34375},{"$f":"IF(V7=0,0,(V7*((LOG(V7))/LOG(2))))","v":-0.52957038109342913},null,{"$f":"N7","v":111},{"$f":"COUNTIF(L39:L69,Y7)","v":14},{"$f":"Z7/(AB4-Z10)","v":0.45161290322580644},{"$f":"IF(AA7=0,0,(AA7*((LOG(AA7))/LOG(2))))","v":-0.51792836892289662},null,{"$f":"N7","v":111},{"$f":"COUNTIF(L70:L101,AD7)","v":11},{"$f":"AE7/(AG4-AE10)","v":0.34375},{"$f":"IF(AF7=0,0,(AF7*((LOG(AF7))/LOG(2))))","v":-0.52957038109342913},null,{"$f":"N7","v":111},{"$f":"COUNTIF(L102:L132,AI7)","v":17},{"$f":"AJ7/(AL4-AJ10)","v":0.54838709677419351},{"$f":"IF(AK7=0,0,(AK7*((LOG(AK7))/LOG(2))))","v":-0.47530545081681003},null,{"$f":"N7","v":111},{"$f":"COUNTIF(L133:L164,AN7)","v":15},{"$f":"AO7/(AQ4-AO10)","v":0.46875},{"$f":"IF(AP7=0,0,(AP7*((LOG(AP7))/LOG(2))))","v":-0.512395033308507},null,{"$f":"N7","v":111},{"$f":"COUNTIF(L165:L195,AS7)","v":14},{"$f":"AT7/(AV4-AT10)","v":0.46666666666666667},{"$f":"IF(AU7=0,0,(AU7*((LOG(AU7))/LOG(2))))","v":-0.51311664765709342}]
[22,163,13,171,14,178,null,null,null,null,0,211,null,112,{"$f":"COUNTIF($L$7:$L$500,N8)","v":0},{"$f":"O8/$Q$4","v":0},{"$f":"IF(P8=0,0,(P8*((LOG(P8))/LOG(2))))","v":0},null,null,{"$f":"N8","v":112},{"$f":"COUNTIF(L7:L38,T8)","v":0},{"$f":"U8/(W4-U10)","v":0},{"$f":"IF(V8=0,0,(V8*((LOG(V8))/LOG(2))))","v":0},null,{"$f":"N8","v":112},{"$f":"COUNTIF(L39:L69,Y8)","v":0},{"$f":"Z8/(AB4-Z10)","v":0},{"$f":"IF(AA8=0,0,(AA8*((LOG(AA8))/LOG(2))))","v":0},null,{"$f":"N8","v":112},{"$f":"COUNTIF(L70:L101,AD8)","v":0},{"$f":"AE8/(AG4-AE10)","v":0},{"$f":"IF(AF8=0,0,(AF8*((LOG(AF8))/LOG(2))))","v":0},null,{"$f":"N8","v":112},{"$f":"COUNTIF(L102:L132,AI8)","v":0},{"$f":"AJ8/(AL4-AJ10)","v":0},{"$f":"IF(AK8=0,0,(AK8*((LOG(AK8))/LOG(2))))","v":0},null,{"$f":"N8","v":112},{"$f":"COUNTIF(L133:L164,AN8)","v":0},{"$f":"AO8/(AQ4-AO10)","v":0},{"$f":"IF(AP8=0,0,(AP8*((LOG(AP8))/LOG(2))))","v":0},null,{"$f":"N8","v":112},{"$f":"COUNTIF(L165:L195,AS8)","v":0},{"$f":"AT8/(AV4-AT10)","v":0},{"$f":"IF(AU8=0,0,(AU8*((LOG(AU8))/LOG(2))))","v":0}]
[22,282,13,291,14,299,null,null,null,null,0,211,null,121,{"$f":"COUNTIF($L$7:$L$500,N9)","v":0},{"$f":"O9/$Q$4","v":0},{"$f":"IF(P9=0,0,(P9*((LOG(P9))/LOG(2))))","v":0},null,null,{"$f":"N9","v":121},{"$f":"COUNTIF(L7:L38,T9)","v":0},{"$f":"U9/(W4-U10)","v":0},{"$f":"IF(V9=0,0,(V9*((LOG(V9))/LOG(2))))","v":0},null,{"$f":"N9","v":121},{"$f":"COUNTIF(L39:L69,Y9)","v":0},{"$f":"Z9/(AB4-Z10)","v":0},{"$f":"IF(AA9=0,0,(AA9*((LOG(AA9))/LOG(2))))","v":0},null,{"$f":"N9","v":121},{"$f":"COUNTIF(L70:L101,AD9)","v":0},{"$f":"AE9/(AG4-AE10)","v":0},{"$f":"IF(AF9=0,0,(AF9*((LOG(AF9))/LOG(2))))","v":0},null,{"$f":"N9","v":121},{"$f":"COUNTIF(L102:L132,AI9)","v":0},{"$f":"AJ9/(AL4-AJ10)","v":0},{"$f":"IF(AK9=0,0,(AK9*((LOG(AK9))/LOG(2))))","v":0},null,{"$f":"N9","v":121},{"$f":"COUNTIF(L133:L164,AN9)","v":0},{"$f":"AO9/(AQ4-AO10)","v":0},{"$f":"IF(AP9=0,0,(AP9*((LOG(AP9))/LOG(2))))","v":0},null,{"$f":"N9","v":121},{"$f":"COUNTIF(L165:L195,AS9)","v":0},{"$f":"AT9/(AV4-AT10)","v":0},{"$f":"IF(AU9=0,0,(AU9*((LOG(AU9))/LOG(2))))","v":0}]
[22,402,13,417,14,426,null,null,null,null,0,211,null,122,{"$f":"COUNTIF($L$7:$L$500,N10)","v":0},{"$f":"O10/$Q$4","v":0},{"$f":"IF(P10=0,0,(P10*((LOG(P10))/LOG(2))))","v":0},null,null,{"$f":"N10","v":122},{"$f":"COUNTIF(L7:L38,T10)","v":0},null,null,null,{"$f":"N10","v":122},{"$f":"COUNTIF(L39:L69,Y10)","v":0},null,null,null,{"$f":"N10","v":122},{"$f":"COUNTIF(L70:L101,AD10)","v":0},null,null,null,{"$f":"N10","v":122},{"$f":"COUNTIF(L102:L132,AI10)","v":0},null,null,null,{"$f":"N10","v":122},{"$f":"COUNTIF(L133:L164,AN10)","v":0},null,null,null,{"$f":"N10","v":122},{"$f":"COUNTIF(L165:L195,AS10)","v":0}]
[11,540,11,549,12,560,null,null,null,null,0,111,null,211,{"$f":"COUNTIF($L$7:$L$500,N11)","v":104},{"$f":"O11/$Q$4","v":0.55319148936170215},{"$f":"IF(P11=0,0,(P11*((LOG(P11))/LOG(2))))","v":-0.47250803131808883},null,null,{"$f":"N11","v":211},{"$f":"COUNTIF(L7:L38,T11)","v":21},{"$f":"U11/(W4-U10)","v":0.65625},{"$f":"IF(V11=0,0,(V11*((LOG(V11))/LOG(2))))","v":-0.3987916913014386},null,{"$f":"N11","v":211},{"$f":"COUNTIF(L39:L69,Y11)","v":17},{"$f":"Z11/(AB4-Z10)","v":0.54838709677419351},{"$f":"IF(AA11=0,0,(AA11*((LOG(AA11))/LOG(2))))","v":-0.47530545081681003},null,{"$f":"N11","v":211},{"$f":"COUNTIF(L70:L101,AD11)","v":20},{"$f":"AE11/(AG4-AE10)","v":0.625},{"$f":"IF(AF11=0,0,(AF11*((LOG(AF11))/LOG(2))))","v":-0.42379494069539858},null,{"$f":"N11","v":211},{"$f":"COUNTIF(L102:L132,AI11)","v":14},{"$f":"AJ11/(AL4-AJ10)","v":0.45161290322580644},{"$f":"IF(AK11=0,0,(AK11*((LOG(AK11))/LOG(2))))","v":-0.51792836892289662},null,{"$f":"N11","v":211},{"$f":"COUNTIF(L133:L164,AN11)","v":16},{"$f":"AO11/(AQ4-AO10)","v":0.5},{"$f":"IF(AP11=0,0,(AP11*((LOG(AP11))/LOG(2))))","v":-0.5},null,{"$f":"N11","v":211},{"$f":"COUNTIF(L165:L195,AS11)","v":16},{"$f":"AT11/(AV4-AT10)","v":0.53333333333333333},{"$f":"IF(AU11=0,0,(AU11*((LOG(AU11))/LOG(2))))","v":-0.4836749843245432}]
[22,686,13,694,14,705,null,null,null,null,0,211,null,212,{"$f":"COUNTIF($L$7:$L$500,N12)","v":0},{"$f":"O12/$Q$4","v":0},{"$f":"IF(P12=0,0,(P12*((LOG(P12))/LOG(2))))","v":0},null,null,{"$f":"N12","v":212},{"$f":"COUNTIF(L7:L38,T12)","v":0},{"$f":"U12/(W4-U10)","v":0},{"$f":"IF(V12=0,0,(V12*((LOG(V12))/LOG(2))))","v":0},null,{"$f":"N12","v":212},{"$f":"COUNTIF(L39:L69,Y12)","v":0},{"$f":"Z12/(AB4-Z10)","v":0},{"$f":"IF(AA12=0,0,(AA12*((LOG(AA12))/LOG(2))))","v":0},null,{"$f":"N12","v":212},{"$f":"COUNTIF(L70:L101,AD12)","v":0},{"$f":"AE12/(AG4-AE10)","v":0},{"$f":"IF(AF12=0,0,(AF12*((LOG(AF12))/LOG(2))))","v":0},null,{"$f":"N12","v":212},{"$f":"COUNTIF(L102:L132,AI12)","v":0},{"$f":"AJ12/(AL4-AJ10)","v":0},{"$f":"IF(AK12=0,0,(AK12*((LOG(AK12))/LOG(2))))","v":0},null,{"$f":"N12","v":212},{"$f":"COUNTIF(L133:L164,AN12)","v":0},{"$f":"AO12/(AQ4-AO10)","v":0},{"$f":"IF(AP12=0,0,(AP12*((LOG(AP12))/LOG(2))))","v":0},null,{"$f":"N12","v":212},{"$f":"COUNTIF(L165:L195,AS12)","v":0},{"$f":"AT12/(AV4-AT10)","v":0},{"$f":"IF(AU12=0,0,(AU12*((LOG(AU12))/LOG(2))))","v":0}]
[11,817,11,824,12,834,null,null,null,null,0,111,null,221,{"$f":"COUNTIF($L$7:$L$500,N13)","v":2},{"$f":"O13/$Q$4","v":1.0638297872340425E-2},{"$f":"IF(P13=0,0,(P13*((LOG(P13))/LOG(2))))","v":-6.9729668634868486E-2},null,null,{"$f":"N13","v":221},{"$f":"COUNTIF(L7:L38,T13)","v":0},{"$f":"U13/(W4-U10)","v":0},{"$f":"IF(V13=0,0,(V13*((LOG(V13))/LOG(2))))","v":0},null,{"$f":"N13","v":221},{"$f":"COUNTIF(L39:L69,Y13)","v":0},{"$f":"Z13/(AB4-Z10)","v":0},{"$f":"IF(AA13=0,0,(AA13*((LOG(AA13))/LOG(2))))","v":0},null,{"$f":"N13","v":221},{"$f":"COUNTIF(L70:L101,AD13)","v":1},{"$f":"AE13/(AG4-AE10)","v":3.125E-2},{"$f":"IF(AF13=0,0,(AF13*((LOG(AF13))/LOG(2))))","v":-0.15625},null,{"$f":"N13","v":221},{"$f":"COUNTIF(L102:L132,AI13)","v":0},{"$f":"AJ13/(AL4-AJ10)","v":0},{"$f":"IF(AK13=0,0,(AK13*((LOG(AK13))/LOG(2))))","v":0},null,{"$f":"N13","v":221},{"$f":"COUNTIF(L133:L164,AN13)","v":1},{"$f":"AO13/(AQ4-AO10)","v":3.125E-2},{"$f":"IF(AP13=0,0,(AP13*((LOG(AP13))/LOG(2))))","v":-0.15625},null,{"$f":"N13","v":221},{"$f":"COUNTIF(L165:L195,AS13)","v":0},{"$f":"AT13/(AV4-AT10)","v":0},{"$f":"IF(AU13=0,0,(AU13*((LOG(AU13))/LOG(2))))","v":0}]
[22,938,13,947,14,957,null,null,null,null,0,211,null,222,{"$f":"COUNTIF($L$7:$L$500,N14)","v":0},{"$f":"O14/$Q$4","v":0},{"$f":"IF(P14=0,0,(P14*((LOG(P14))/LOG(2))))","v":0},null,null,{"$f":"N14","v":222},{"$f":"COUNTIF(L7:L38,T14)","v":0},{"$f":"U14/(W4-U10)","v":0},{"$f":"IF(V14=0,0,(V14*((LOG(V14))/LOG(2))))","v":0},null,{"$f":"N14","v":222},{"$f":"COUNTIF(L39:L69,Y14)","v":0},{"$f":"Z14/(AB4-Z10)","v":0},{"$f":"IF(AA14=0,0,(AA14*((LOG(AA14))/LOG(2))))","v":0},null,{"$f":"N14","v":222},{"$f":"COUNTIF(L70:L101,AD14)","v":0},{"$f":"AE14/(AG4-AE10)","v":0},{"$f":"IF(AF14=0,0,(AF14*((LOG(AF14))/LOG(2))))","v":0},null,{"$f":"N14","v":222},{"$f":"COUNTIF(L102:L132,AI14)","v":0},{"$f":"AJ14/(AL4-AJ10)","v":0},{"$f":"IF(AK14=0,0,(AK14*((LOG(AK14))/LOG(2))))","v":0},null,{"$f":"N14","v":222},{"$f":"COUNTIF(L133:L164,AN14)","v":0},{"$f":"AO14/(AQ4-AO10)","v":0},{"$f":"IF(AP14=0,0,(AP14*((LOG(AP14))/LOG(2))))","v":0},null,{"$f":"N14","v":222},{"$f":"COUNTIF(L165:L195,AS14)","v":0},{"$f":"AT14/(AV4-AT10)","v":0},{"$f":"IF(AU14=0,0,(AU14*((LOG(AU14))/LOG(2))))","v":0}]
[22,1071,13,1079,14,1087,null,null,null,null,0,211,null,null,null,{"$f":"SUM(P7:P14)","v":1},{"$f":"-SUM(Q7:Q14)","v":1.0643495162236136},null,null,null,null,{"$f":"SUM(V7:V14)","v":1},{"$f":"-SUM(W7:W14)","v":0.92836207239486779},null,null,null,{"$f":"SUM(AA7:AA14)","v":1},{"$f":"-SUM(AB7:AB14)","v":0.99323381973970659},null,null,null,{"$f":"SUM(AF7:AF14)","v":1},{"$f":"-SUM(AG7:AG14)","v":1.1096153217888278},null,null,null,{"$f":"SUM(AK7:AK14)","v":1},{"$f":"-SUM(AL7:AL14)","v":0.99323381973970659},null,null,null,{"$f":"SUM(AP7:AP14)","v":1},{"$f":"-SUM(AQ7:AQ14)","v":1.168645033308507},null,null,null,{"$f":"SUM(AU7:AU14)","v":1},{"$f":"-SUM(AV7:AV14)","v":0.99679163198163656}]
[11,1201,11,1211,12,1223,null,null,null,null,0,111,null,null,null,"U=",{"$f":"Q15/(LOG(Q4)/LOG(2))","v":0.14088781495862013},null,null,null,null,"U1=",{"$f":"W15/(LOG(W4)/LOG(2))","v":0.18567241447897356},null,null,null,"U2=",{"$f":"AB15/(LOG(AB4)/LOG(2))","v":0.20048333927690981},null,null,null,"U3=",{"$f":"AG15/(LOG(AG4)/LOG(2))","v":0.22192306435776557},null,null,null,"U4=",{"$f":"AL15/(LOG(AL4)/LOG(2))","v":0.20048333927690981},null,null,null,"U5=",{"$f":"AQ15/(LOG(AQ4)/LOG(2))","v":0.23372900666170141},null,null,null,"U6=",{"$f":"AV15/(LOG(AV4)/LOG(2))","v":0.20314119757912014}]
[22,1326,13,1334,14,1342,null,null,null,null,0,211]
[22,1442,13,1453,14,1462,null,null,null,null,0,211]
[11,1577,11,1586,12,1595,null,null,null,null,0,111,null,"Total Target Seq"]
[22,1707,13,1717,14,1726,null,null,null,null,0,211,null,{"$f":"COUNTIF(L7:L195,G3)","v":0},null,32,31,32,31,32,31]
[22,1825,13,1838,14,1848,null,null,null,null,0,211,null,null,null,"% of reinforcement given in 6 equal intervals based on number of trials "]
[22,1957,13,1969,14,1977,null,null,null,null,0,211,null,null,null,"%_1","%_2","%_3","%_4","%_5","%_6"]
[22,2079,13,2091,14,2100,null,null,null,null,0,211,null,null,"target sequence",{"$f":"$G$3","v":122},{"$f":"$G$3","v":122},{"$f":"$G$3","v":122},{"$f":"$G$3","v":122},{"$f":"$G$3","v":122},{"$f":"$G$3","v":122}]
[22,2201,13,2210,14,2219,null,null,null,null,0,211,null,null,"total reinforcement",{"$f":"U10","v":0},{"$f":"Z10","v":0},{"$f":"AE10","v":0},{"$f":"AJ10","v":0},{"$f":"AO10","v":0},{"$f":"AT10","v":0}]
[11,2338,11,2347,12,2360,null,null,null,null,0,111,null,null,"% target"]
[22,2460,13,2470,14,2480,null,null,null,null,0,211,null,null,"CCRF"]
[11,2603,11,2612,12,2624,null,null,null,null,0,111,null,null,"% CCRf"]
[22,2726,13,2738,14,2745,null,null,null,null,0,211,null,null,"average response rate",{"$f":"F38/P20","v":124.34375},{"$f":"(F69-F38)/Q20","v":126.03225806451613},{"$f":"(F101-F69)/R20","v":126.375},{"$f":"(F132-F101)/S20","v":128.64516129032259},{"$f":"(F164-F132)/T20","v":127.34375},{"$f":"(F195-F164)/U20","v":-644.93548387096769}]
[22,2848,13,2857,14,2864,null,null,null,null,0,211]
[11,2976,11,2985,12,2996,null,null,null,null,0,111]
[22,3095,13,3108,14,3113,null,null,null,null,0,211]
[22,3227,13,3239,14,3247,null,null,null,null,0,211]
[22,3349,13,3358,14,3365,null,null,null,null,0,211]
[22,3464,13,3475,14,3483,null,null,null,null,0,211]
[11,3589,11,3595,12,3607,null,null,null,null,0,111]
[11,3716,11,3721,12,3731,null,null,null,null,0,111]
[22,3834,13,3843,14,3849,null,null,null,null,0,211]
[11,3961,11,3967,12,3979,null,null,null,null,0,111]
[22,4089,13,4098,14,4106,null,null,null,null,0,211]
[22,4208,13,4217,14,4224,null,null,null,null,0,211]
[22,4326,13,4337,14,4346,null,null,null,null,0,211]
[22,4453,13,4470,14,4479,null,null,null,null,0,211]
[22,4580,13,4591,14,4600,null,null,null,null,0,211]
[11,4708,11,4715,12,4723,null,null,null,null,0,111]
[22,4826,13,4835,14,4844,null,null,null,null,0,211]
[22,4947,13,4960,14,4968,null,null,null,null,0,211]
[11,5082,11,5088,12,5098,null,null,null,null,0,111]
[22,5198,13,5210,14,5218,null,null,null,null,0,211]
[11,5340,11,5348,12,5361,null,null,null,null,0,111]
[22,5459,13,5471,14,5477,null,null,null,null,0,211]
[11,5591,11,5600,12,5610,null,null,null,null,0,111]
[11,5721,11,5730,12,5743,null,null,null,null,0,111]
[11,5857,11,5866,12,5874,null,null,null,null,0,111]
[22,5975,13,5985,14,5993,null,null,null,null,0,211]
[11,6108,11,6115,12,6127,null,null,null,null,0,111]
[11,6239,11,6251,12,6262,null,null,null,null,0,111]
[22,6366,13,6375,14,6381,null,null,null,null,0,211]
[11,6495,11,6503,12,6514,null,null,null,null,0,111]
[22,6616,13,6625,14,6631,null,null,null,null,0,211]
[22,6730,13,6739,14,6748,null,null,null,null,0,211]
[22,6852,13,6863,14,6872,null,null,null,null,0,211]
[22,6974,13,6986,14,6995,null,null,null,null,0,211]
[11,7109,11,7118,12,7128,null,null,null,null,0,111]
[11,7240,11,7246,12,7256,null,null,null,null,0,111]
[11,7375,11,7383,12,7394,null,null,null,null,0,111]
[11,7509,11,7515,12,7524,null,null,null,null,0,111]
[22,7623,13,7633,14,7640,null,null,null,null,0,211]
[22,7739,13,7750,14,7755,null,null,null,null,0,211]
[11,7870,11,7876,12,7886,null,null,null,null,0,111]
[11,8002,11,8010,12,8023,null,null,null,null,0,111]
[22,8125,13,8135,14,8145,null,null,null,null,0,211]
[11,8257,11,8266,12,8276,null,null,null,null,0,111]
[22,8380,13,8388,14,8394,null,null,null,null,0,211]
[22,8494,13,8505,14,8514,null,null,null,null,0,211]
[11,8627,11,8644,12,8656,null,null,null,null,0,111]
[11,8762,11,8767,12,8775,null,null,null,null,0,111]
[22,8881,13,8891,14,8900,null,null,null,null,0,211]
[22,9001,13,9011,14,9017,null,null,null,null,0,211]
[22,9123,13,9132,14,9142,null,null,null,null,0,211]
[22,9244,13,9252,14,9262,null,null,null,null,0,211]
[22,9369,13,9381,14,9390,null,null,null,null,0,211]
[11,9506,11,9515,12,9526,null,null,null,null,0,111]
[11,9641,11,9647,12,9656,null,null,null,null,0,111]
[22,9753,24,9773,14,9786,null,null,null,null,0,221]
[11,9901,11,9907,12,9916,null,null,null,null,0,111]
[22,10019,13,10030,14,10039,null,null,null,null,0,211]
[22,10143,13,10157,14,10166,null,null,null,null,0,211]
[22,10272,13,10282,14,10293,null,null,null,null,0,211]
[22,10394,13,10404,14,10414,null,null,null,null,0,211]
[11,10525,11,10530,12,10539,null,null,null,null,0,111]
[11,10662,11,10673,12,10684,null,null,null,null,0,111]
[22,10793,13,10801,14,10807,null,null,null,null,0,211]
[22,10912,13,10923,14,10931,null,null,null,null,0,211]
[22,11042,13,11053,14,11061,null,null,null,null,0,211]
[11,11170,11,11175,12,11184,null,null,null,null,0,111]
[22,11284,13,11292,14,11302,null,null,null,null,0,211]
[11,11412,11,11421,12,11429,null,null,null,null,0,111]
[22,11527,13,11556,14,11567,null,null,null,null,0,211]
[22,11668,13,11677,14,11686,null,null,null,null,0,211]
[22,11790,13,11801,14,11807,null,null,null,null,0,211]
[22,11912,13,11921,14,11930,null,null,null,null,0,211]
[22,12022,13,12043,14,12052,null,null,null,null,0,211]
[11,12168,11,12176,12,12185,null,null,null,null,0,111]
[11,12298,11,12307,12,12319,null,null,null,null,0,111]
[22,12421,13,12432,14,12442,null,null,null,null,0,211]
[22,12546,13,12557,14,12564,null,null,null,null,0,211]
[11,12674,11,12681,12,12691,null,null,null,null,0,111]
[11,12809,11,12817,12,12829,null,null,null,null,0,111]
[11,12942,11,12950,12,12958,null,null,null,null,0,111]
[11,13067,11,13073,12,13081,null,null,null,null,0,111]
[11,13192,11,13197,12,13206,null,null,null,null,0,111]
[22,13313,13,13325,14,13333,null,null,null,null,0,211]
[22,13435,13,13452,14,13462,null,null,null,null,0,211]
[22,13563,13,13572,14,13578,null,null,null,null,0,211]
[22,13679,13,13688,14,13699,null,null,null,null,0,211]
[11,13817,11,13825,12,13837,null,null,null,null,0,111]
[11,13952,11,13963,12,13974,null,null,null,null,0,111]
[22,14078,13,14092,14,14099,null,null,null,null,0,211]
[11,14222,11,14230,12,14239,null,null,null,null,0,111]
[11,14353,11,14370,12,14381,null,null,null,null,0,111]
[22,14484,13,14494,14,14503,null,null,null,null,0,211]
[11,14614,11,14619,12,14627,null,null,null,null,0,111]
[11,14737,11,14746,12,14755,null,null,null,null,0,111]
[22,14856,13,14864,14,14869,null,null,null,null,0,211]
[22,14974,13,14984,14,14995,null,null,null,null,0,211]
[22,15098,13,15109,14,15118,null,null,null,null,0,211]
[11,15230,11,15240,12,15253,null,null,null,null,0,111]
[22,15361,13,15370,14,15382,null,null,null,null,0,211]
[22,15490,13,15501,14,15509,null,null,null,null,0,211]
[11,15621,11,15630,12,15640,null,null,null,null,0,111]
[11,15755,11,15765,12,15775,null,null,null,null,0,111]
[11,15903,11,15910,12,15918,null,null,null,null,0,111]
[22,16036,13,16048,14,16056,null,null,null,null,0,211]
[22,16164,13,16172,14,16181,null,null,null,null,0,211]
[22,16280,13,16294,14,16302,null,null,null,null,0,211]
[22,16401,13,16411,14,16417,null,null,null,null,0,211]
[11,16530,11,16536,12,16545,null,null,null,null,0,111]
[11,16652,11,16658,12,16667,null,null,null,null,0,111]
[22,16771,13,16782,14,16791,null,null,null,null,0,211]
[22,16891,13,16903,14,16911,null,null,null,null,0,211]
[22,17020,13,17032,14,17040,null,null,null,null,0,211]
[11,17153,11,17159,12,17168,null,null,null,null,0,111]
[11,17289,11,17296,12,17306,null,null,null,null,0,111]
[11,17418,11,17425,12,17437,null,null,null,null,0,111]
[11,17549,11,17557,12,17567,null,null,null,null,0,111]
[11,17682,11,17688,12,17697,null,null,null,null,0,111]
[22,17799,13,17810,14,17820,null,null,null,null,0,211]
[22,17919,13,17930,14,17938,null,null,null,null,0,211]
[11,18045,11,18051,12,18063,null,null,null,null,0,111]
[22,18161,13,18173,14,18178,null,null,null,null,0,211]
[11,18287,11,18293,12,18302,null,null,null,null,0,111]
[11,18413,11,18423,12,18434,null,null,null,null,0,111]
[11,18551,11,18560,12,18570,null,null,null,null,0,111]
[22,18666,24,18687,14,18695,null,null,null,null,0,221]
[22,18801,13,18819,14,18829,null,null,null,null,0,211]
[11,18949,11,18958,12,18970,null,null,null,null,0,111]
[11,19086,11,19092,12,19100,null,null,null,null,0,111]
[22,19201,13,19216,14,19223,null,null,null,null,0,211]
[11,19343,11,19352,12,19360,null,null,null,null,0,111]
[22,19461,13,19474,14,19479,null,null,null,null,0,211]
[11,19598,11,19613,12,19627,null,null,null,null,0,111]
[22,19727,13,19738,14,19747,null,null,null,null,0,211]
[22,19849,13,19859,14,19866,null,null,null,null,0,211]
[22,19967,13,19980,14,19993,null,null,null,null,0,211]
[11,20113,11,20122,12,20134,null,null,null,null,0,111]
[22,20233,13,20245,14,20253,null,null,null,null,0,211]
[11,20373,11,20381,12,20392,null,null,null,null,0,111]
[22,20498,13,20514,14,20523,null,null,null,null,0,211]
[11,20642,11,20655,12,20667,null,null,null,null,0,111]
[22,20767,13,20780,14,20785,null,null,null,null,0,211]
[11,20905,11,20917,12,20930,null,null,null,null,0,111]
[11,21051,11,21059,12,21070,null,null,null,null,0,111]
[11,21188,11,21197,12,21206,null,null,null,null,0,111]
[22,21309,13,21321,14,21329,null,null,null,null,0,211]
[22,21433,13,21446,14,21454,null,null,null,null,0,211]
[11,21566,11,21570,12,21579,null,null,null,null,0,111]
[22,21680,13,21692,14,21702,null,null,null,null,0,211]
[11,21820,11,21832,12,21844,null,null,null,null,0,111]
[11,21958,11,21966,12,21977,null,null,null,null,0,111]
[22,22081,13,22096,14,22101,null,null,null,null,0,211]
[22,22202,13,22214,14,22221,null,null,null,null,0,211]
[22,22325,13,22336,14,22341,null,null,null,null,0,211]
[22,22442,13,22451,14,22460,null,null,null,null,0,211]
[22,22561,13,22572,14,22577,null,null,null,null,0,211]
[22,22679,13,22697,14,22707,null,null,null,null,0,211]
[22,22813,13,22825,14,22830,null,null,null,null,0,211]
[11,22946,11,22952,12,22962,null,null,null,null,0,111]
[22,23064,13,23075,14,23082,null,null,null,null,0,211]
[11,23205,11,23213,12,23224,null,null,null,null,0,111]
[11,23337,11,23342,12,23351,null,null,null,null,0,111]
[22,23452,13,23466,14,23475,null,null,null,null,0,211]
[11,23596,11,23605,12,23617,null,null,null,null,0,111]
[11,23731,11,23738,12,23751,null,null,null,null,0,111]
[22,23852,13,23865,14,23874,null,null,null,null,0,211]
[11,23987,11,23996,null,null,null,null,null,null,null,11]

{"sheet":"!MB04A20.095","index":18,"n_rows":201,"n_cols":48,"rows_kept":201,"cut":false,"hidden":false,"merged":[[4,39,4,42],[5,39,5,40],[4,44,4,47],[5,44,5,45],[4,24,4,27],[5,24,5,25],[4,29,4,32],[5,29,5,30],[4,34,4,37],[5,34,5,35],[1,1,1,2],[5,13,5,14],[18,13,18,14],[19,13,19,14],[4,19,4,22],[5,19,5,20]]}
["Report for:!MB04A20.095"]
["Date:","<date>"]
["Hen:","<hen>",null,null,null,"Correct Sequence",{"$f":"Start!J2","v":122},null,null,null,null,null,null,null,null,"Total Sequences in Data",{"$f":"4994-COUNTBLANK(L7:L5000)","v":195},null,null,null,null,"Total Sequences in Block Data",{"$f":"COUNTA(L7:L39)","v":33},null,null,null,"Total Sequences in Block Data",{"$f":"COUNTA(L40:L71)","v":32},null,null,null,"Total Sequences in Block Data",{"$f":"COUNTA(L72:L104)","v":33},null,null,null,"Total Sequences in Block Data",{"$f":"COUNTA(L105:L136)","v":32},null,null,null,"Total Sequences in Block Data",{"$f":"COUNTA(L137:L169)","v":33},null,null,null,"Total Sequences in Block Data",{"$f":"COUNTA(L170:L201)","v":32}]
[null,null,null,null,null,null,null,null,null,null,null,null,null,null,null,"Total Sequences in Summary",{"$f":"SUM(O7:O14)","v":195},null,null,null,null,"Total Sequences in Block Summary",{"$f":"SUM(U7:U14)","v":33},null,null,null,"Total Sequences in Block Summary",{"$f":"SUM(Z7:Z14)","v":32},null,null,null,"Total Sequences in Block Summary",{"$f":"SUM(AE7:AE14)","v":33},null,null,null,"Total Sequences in Block Summary",{"$f":"SUM(AJ7:AJ14)","v":32},null,null,null,"Total Sequences in Block Summary",{"$f":"SUM(AO7:AO14)","v":33},null,null,null,"Total Sequences in Block Summary",{"$f":"SUM(AT7:AT14)","v":32}]
[null,null,null,null,null,null,null,null,null,null,null,null,null,null,null,null,null,null,null,"Block 1",null,null,null,null,"Block 2",null,null,null,null,"Block 3",null,null,null,null,"Block 4",null,null,null,null,"Block 5",null,null,null,null,"Block 6"]
["Sequence\nComponent\n1","Time\n1","Sequence\nComponent\n2","Time\n2","Sequence\nComponent\n3","Time\n3","Sequence\nComponent\n4","Time\n4","Sequence\nComponent\n5","Time\n5","Correct?\n0=No 1=Yes","Sequence",null,"Frequency",null,"Relative Frequency","Variability",null,null,"Frequency",null,"Relative Frequency","Variability",null,"Frequency",null,"Relative Frequency","Variability",null,"Frequency",null,"Relative Frequency","Variability",null,"Frequency",null,"Relative Frequency","Variability",null,"Frequency",null,"Relative Frequency","Variability",null,"Frequency",null,"Relative Frequency","Variability"]
[22,20,13,30,14,37,null,null,null,null,0,211,null,111,{"$f":"COUNTIF($L$7:$L$500,N7)","v":96},{"$f":"O7/$Q$4","v":0.49230769230769234},{"$f":"IF(P7=0,0,(P7*((LOG(P7))/LOG(2))))","v":-0.50331953872170065},null,null,{"$f":"N7","v":111},{"$f":"COUNTIF(L7:L39,T7)","v":14},{"$f":"U7/(W4-U10)","v":0.42424242424242425},{"$f":"IF(V7=0,0,(V7*((LOG(V7))/LOG(2))))","v":-0.52480450794581479},null,{"$f":"N7","v":111},{"$f":"COUNTIF(L40:L71,Y7)","v":19},{"$f":"Z7/(AB4-Z10)","v":0.59375},{"$f":"IF(AA7=0,0,(AA7*((LOG(AA7))/LOG(2))))","v":-0.44654303889287106},null,{"$f":"N7","v":111},{"$f":"COUNTIF(L72:L104,AD7)","v":16},{"$f":"AE7/(AG4-AE10)","v":0.48484848484848486},{"$f":"IF(AF7=0,0,(AF7*((LOG(AF7))/LOG(2))))","v":-0.50637290635561383},null,{"$f":"N7","v":111},{"$f":"COUNTIF(L105:L136,AI7)","v":13},{"$f":"AJ7/(AL4-AJ10)","v":0.40625},{"$f":"IF(AK7=0,0,(AK7*((LOG(AK7))/LOG(2))))","v":-0.52794636450518129},null,{"$f":"N7","v":111},{"$f":"COUNTIF(L137:L169,AN7)","v":18},{"$f":"AO7/(AQ4-AO10)","v":0.54545454545454541},{"$f":"IF(AP7=0,0,(AP7*((LOG(AP7))/LOG(2))))","v":-0.47698315522698609},null,{"$f":"N7","v":111},{"$f":"COUNTIF(L170:L201,AS7)","v":16},{"$f":"AT7/(AV4-AT10)","v":0.5},{"$f":"IF(AU7=0,0,(AU7*((LOG(AU7))/LOG(2))))","v":-0.5}]
[11,148,11,157,12,170,null,null,null,null,0,111,null,112,{"$f":"COUNTIF($L$7:$L$500,N8)","v":0},{"$f":"O8/$Q$4","v":0},{"$f":"IF(P8=0,0,(P8*((LOG(P8))/LOG(2))))","v":0},null,null,{"$f":"N8","v":112},{"$f":"COUNTIF(L7:L39,T8)","v":0},{"$f":"U8/(W4-U10)","v":0},{"$f":"IF(V8=0,0,(V8*((LOG(V8))/LOG(2))))","v":0},null,{"$f":"N8","v":112},{"$f":"COUNTIF(L40:L71,Y8)","v":0},{"$f":"Z8/(AB4-Z10)","v":0},{"$f":"IF(AA8=0,0,(AA8*((LOG(AA8))/LOG(2))))","v":0},null,{"$f":"N8","v":112},{"$f":"COUNTIF(L72:L104,AD8)","v":0},{"$f":"AE8/(AG4-AE10)","v":0},{"$f":"IF(AF8=0,0,(AF8*((LOG(AF8))/LOG(2))))","v":0},null,{"$f":"N8","v":112},{"$f":"COUNTIF(L105:L136,AI8)","v":0},{"$f":"AJ8/(AL4-AJ10)","v":0},{"$f":"IF(AK8=0,0,(AK8*((LOG(AK8))/LOG(2))))","v":0},null,{"$f":"N8","v":112},{"$f":"COUNTIF(L137:L169,AN8)","v":0},{"$f":"AO8/(AQ4-AO10)","v":0},{"$f":"IF(AP8=0,0,(AP8*((LOG(AP8))/LOG(2))))","v":0},null,{"$f":"N8","v":112},{"$f":"COUNTIF(L170:L201,AS8)","v":0},{"$f":"AT8/(AV4-AT10)","v":0},{"$f":"IF(AU8=0,0,(AU8*((LOG(AU8))/LOG(2))))","v":0}]
[11,284,11,292,12,302,null,null,null,null,0,111,null,121,{"$f":"COUNTIF($L$7:$L$500,N9)","v":0},{"$f":"O9/$Q$4","v":0},{"$f":"IF(P9=0,0,(P9*((LOG(P9))/LOG(2))))","v":0},null,null,{"$f":"N9","v":121},{"$f":"COUNTIF(L7:L39,T9)","v":0},{"$f":"U9/(W4-U10)","v":0},{"$f":"IF(V9=0,0,(V9*((LOG(V9))/LOG(2))))","v":0},null,{"$f":"N9","v":121},{"$f":"COUNTIF(L40:L71,Y9)","v":0},{"$f":"Z9/(AB4-Z10)","v":0},{"$f":"IF(AA9=0,0,(AA9*((LOG(AA9))/LOG(2))))","v":0},null,{"$f":"N9","v":121},{"$f":"COUNTIF(L72:L104,AD9)","v":0},{"$f":"AE9/(AG4-AE10)","v":0},{"$f":"IF(AF9=0,0,(AF9*((LOG(AF9))/LOG(2))))","v":0},null,{"$f":"N9","v":121},{"$f":"COUNTIF(L105:L136,AI9)","v":0},{"$f":"AJ9/(AL4-AJ10)","v":0},{"$f":"IF(AK9=0,0,(AK9*((LOG(AK9))/LOG(2))))","v":0},null,{"$f":"N9","v":121},{"$f":"COUNTIF(L137:L169,AN9)","v":0},{"$f":"AO9/(AQ4-AO10)","v":0},{"$f":"IF(AP9=0,0,(AP9*((LOG(AP9))/LOG(2))))","v":0},null,{"$f":"N9","v":121},{"$f":"COUNTIF(L170:L201,AS9)","v":0},{"$f":"AT9/(AV4-AT10)","v":0},{"$f":"IF(AU9=0,0,(AU9*((LOG(AU9))/LOG(2))))","v":0}]
[22,403,13,424,14,432,null,null,null,null,0,211,null,122,{"$f":"COUNTIF($L$7:$L$500,N10)","v":0},{"$f":"O10/$Q$4","v":0},{"$f":"IF(P10=0,0,(P10*((LOG(P10))/LOG(2))))","v":0},null,null,{"$f":"N10","v":122},{"$f":"COUNTIF(L7:L39,T10)","v":0},null,null,null,{"$f":"N10","v":122},{"$f":"COUNTIF(L40:L71,Y10)","v":0},null,null,null,{"$f":"N10","v":122},{"$f":"COUNTIF(L72:L104,AD10)","v":0},null,null,null,{"$f":"N10","v":122},{"$f":"COUNTIF(L105:L136,AI10)","v":0},null,null,null,{"$f":"N10","v":122},{"$f":"COUNTIF(L137:L169,AN10)","v":0},null,null,null,{"$f":"N10","v":122},{"$f":"COUNTIF(L170:L201,AS10)","v":0}]
[11,559,11,571,12,583,null,null,null,null,0,111,null,211,{"$f":"COUNTIF($L$7:$L$500,N11)","v":98},{"$f":"O11/$Q$4","v":0.50256410256410255},{"$f":"IF(P11=0,0,(P11*((LOG(P11))/LOG(2))))","v":-0.49885541550857154},null,null,{"$f":"N11","v":211},{"$f":"COUNTIF(L7:L39,T11)","v":19},{"$f":"U11/(W4-U10)","v":0.5757575757575758},{"$f":"IF(V11=0,0,(V11*((LOG(V11))/LOG(2))))","v":-0.45857168219340877},null,{"$f":"N11","v":211},{"$f":"COUNTIF(L40:L71,Y11)","v":13},{"$f":"Z11/(AB4-Z10)","v":0.40625},{"$f":"IF(AA11=0,0,(AA11*((LOG(AA11))/LOG(2))))","v":-0.52794636450518129},null,{"$f":"N11","v":211},{"$f":"COUNTIF(L72:L104,AD11)","v":16},{"$f":"AE11/(AG4-AE10)","v":0.48484848484848486},{"$f":"IF(AF11=0,0,(AF11*((LOG(AF11))/LOG(2))))","v":-0.50637290635561383},null,{"$f":"N11","v":211},{"$f":"COUNTIF(L105:L136,AI11)","v":19},{"$f":"AJ11/(AL4-AJ10)","v":0.59375},{"$f":"IF(AK11=0,0,(AK11*((LOG(AK11))/LOG(2))))","v":-0.44654303889287106},null,{"$f":"N11","v":211},{"$f":"COUNTIF(L137:L169,AN11)","v":15},{"$f":"AO11/(AQ4-AO10)","v":0.45454545454545453},{"$f":"IF(AP11=0,0,(AP11*((LOG(AP11))/LOG(2))))","v":-0.51704705624997038},null,{"$f":"N11","v":211},{"$f":"COUNTIF(L170:L201,AS11)","v":16},{"$f":"AT11/(AV4-AT10)","v":0.5},{"$f":"IF(AU11=0,0,(AU11*((LOG(AU11))/LOG(2))))","v":-0.5}]
[22,680,13,689,14,695,null,null,null,null,0,211,null,212,{"$f":"COUNTIF($L$7:$L$500,N12)","v":0},{"$f":"O12/$Q$4","v":0},{"$f":"IF(P12=0,0,(P12*((LOG(P12))/LOG(2))))","v":0},null,null,{"$f":"N12","v":212},{"$f":"COUNTIF(L7:L39,T12)","v":0},{"$f":"U12/(W4-U10)","v":0},{"$f":"IF(V12=0,0,(V12*((LOG(V12))/LOG(2))))","v":0},null,{"$f":"N12","v":212},{"$f":"COUNTIF(L40:L71,Y12)","v":0},{"$f":"Z12/(AB4-Z10)","v":0},{"$f":"IF(AA12=0,0,(AA12*((LOG(AA12))/LOG(2))))","v":0},null,{"$f":"N12","v":212},{"$f":"COUNTIF(L72:L104,AD12)","v":0},{"$f":"AE12/(AG4-AE10)","v":0},{"$f":"IF(AF12=0,0,(AF12*((LOG(AF12))/LOG(2))))","v":0},null,{"$f":"N12","v":212},{"$f":"COUNTIF(L105:L136,AI12)","v":0},{"$f":"AJ12/(AL4-AJ10)","v":0},{"$f":"IF(AK12=0,0,(AK12*((LOG(AK12))/LOG(2))))","v":0},null,{"$f":"N12","v":212},{"$f":"COUNTIF(L137:L169,AN12)","v":0},{"$f":"AO12/(AQ4-AO10)","v":0},{"$f":"IF(AP12=0,0,(AP12*((LOG(AP12))/LOG(2))))","v":0},null,{"$f":"N12","v":212},{"$f":"COUNTIF(L170:L201,AS12)","v":0},{"$f":"AT12/(AV4-AT10)","v":0},{"$f":"IF(AU12=0,0,(AU12*((LOG(AU12))/LOG(2))))","v":0}]
[22,799,13,807,14,814,null,null,null,null,0,211,null,221,{"$f":"COUNTIF($L$7:$L$500,N13)","v":1},{"$f":"O13/$Q$4","v":5.1282051282051282E-3},{"$f":"IF(P13=0,0,(P13*((LOG(P13))/LOG(2))))","v":-3.9011950326921077E-2},null,null,{"$f":"N13","v":221},{"$f":"COUNTIF(L7:L39,T13)","v":0},{"$f":"U13/(W4-U10)","v":0},{"$f":"IF(V13=0,0,(V13*((LOG(V13))/LOG(2))))","v":0},null,{"$f":"N13","v":221},{"$f":"COUNTIF(L40:L71,Y13)","v":0},{"$f":"Z13/(AB4-Z10)","v":0},{"$f":"IF(AA13=0,0,(AA13*((LOG(AA13))/LOG(2))))","v":0},null,{"$f":"N13","v":221},{"$f":"COUNTIF(L72:L104,AD13)","v":1},{"$f":"AE13/(AG4-AE10)","v":3.0303030303030304E-2},{"$f":"IF(AF13=0,0,(AF13*((LOG(AF13))/LOG(2))))","v":-0.15286042785934709},null,{"$f":"N13","v":221},{"$f":"COUNTIF(L105:L136,AI13)","v":0},{"$f":"AJ13/(AL4-AJ10)","v":0},{"$f":"IF(AK13=0,0,(AK13*((LOG(AK13))/LOG(2))))","v":0},null,{"$f":"N13","v":221},{"$f":"COUNTIF(L137:L169,AN13)","v":0},{"$f":"AO13/(AQ4-AO10)","v":0},{"$f":"IF(AP13=0,0,(AP13*((LOG(AP13))/LOG(2))))","v":0},null,{"$f":"N13","v":221},{"$f":"COUNTIF(L170:L201,AS13)","v":0},{"$f":"AT13/(AV4-AT10)","v":0},{"$f":"IF(AU13=0,0,(AU13*((LOG(AU13))/LOG(2))))","v":0}]
[11,930,11,937,12,950,null,null,null,null,0,111,null,222,{"$f":"COUNTIF($L$7:$L$500,N14)","v":0},{"$f":"O14/$Q$4","v":0},{"$f":"IF(P14=0,0,(P14*((LOG(P14))/LOG(2))))","v":0},null,null,{"$f":"N14","v":222},{"$f":"COUNTIF(L7:L39,T14)","v":0},{"$f":"U14/(W4-U10)","v":0},{"$f":"IF(V14=0,0,(V14*((LOG(V14))/LOG(2))))","v":0},null,{"$f":"N14","v":222},{"$f":"COUNTIF(L40:L71,Y14)","v":0},{"$f":"Z14/(AB4-Z10)","v":0},{"$f":"IF(AA14=0,0,(AA14*((LOG(AA14))/LOG(2))))","v":0},null,{"$f":"N14","v":222},{"$f":"COUNTIF(L72:L104,AD14)","v":0},{"$f":"AE14/(AG4-AE10)","v":0},{"$f":"IF(AF14=0,0,(AF14*((LOG(AF14))/LOG(2))))","v":0},null,{"$f":"N14","v":222},{"$f":"COUNTIF(L105:L136,AI14)","v":0},{"$f":"AJ14/(AL4-AJ10)","v":0},{"$f":"IF(AK14=0,0,(AK14*((LOG(AK14))/LOG(2))))","v":0},null,{"$f":"N14","v":222},{"$f":"COUNTIF(L137:L169,AN14)","v":0},{"$f":"AO14/(AQ4-AO10)","v":0},{"$f":"IF(AP14=0,0,(AP14*((LOG(AP14))/LOG(2))))","v":0},null,{"$f":"N14","v":222},{"$f":"COUNTIF(L170:L201,AS14)","v":0},{"$f":"AT14/(AV4-AT10)","v":0},{"$f":"IF(AU14=0,0,(AU14*((LOG(AU14))/LOG(2))))","v":0}]
[22,1055,13,1063,14,1071,null,null,null,null,0,211,null,null,null,{"$f":"SUM(P7:P14)","v":1},{"$f":"-SUM(Q7:Q14)","v":1.0411869045571933},null,null,null,null,{"$f":"SUM(V7:V14)","v":1},{"$f":"-SUM(W7:W14)","v":0.9833761901392235},null,null,null,{"$f":"SUM(AA7:AA14)","v":1},{"$f":"-SUM(AB7:AB14)","v":0.97448940339805235},null,null,null,{"$f":"SUM(AF7:AF14)","v":1},{"$f":"-SUM(AG7:AG14)","v":1.1656062405705747},null,null,null,{"$f":"SUM(AK7:AK14)","v":1},{"$f":"-SUM(AL7:AL14)","v":0.97448940339805235},null,null,null,{"$f":"SUM(AP7:AP14)","v":1},{"$f":"-SUM(AQ7:AQ14)","v":0.99403021147695647},null,null,null,{"$f":"SUM(AU7:AU14)","v":1},{"$f":"-SUM(AV7:AV14)","v":1}]
[11,1186,11,1195,12,1206,null,null,null,null,0,111,null,null,null,"U=",{"$f":"Q15/(LOG(Q4)/LOG(2))","v":0.13686626735207427},null,null,null,null,"U1=",{"$f":"W15/(LOG(W4)/LOG(2))","v":0.19494436137838678},null,null,null,"U2=",{"$f":"AB15/(LOG(AB4)/LOG(2))","v":0.19489788067961047},null,null,null,"U3=",{"$f":"AG15/(LOG(AG4)/LOG(2))","v":0.23106962164146219},null,null,null,"U4=",{"$f":"AL15/(LOG(AL4)/LOG(2))","v":0.19489788067961047},null,null,null,"U5=",{"$f":"AQ15/(LOG(AQ4)/LOG(2))","v":0.19705641311059521},null,null,null,"U6=",{"$f":"AV15/(LOG(AV4)/LOG(2))","v":0.2}]
[22,1308,13,1321,14,1330,null,null,null,null,0,211]
[11,1440,11,1448,12,1460,null,null,null,null,0,111]
[22,1562,13,1570,14,1576,null,null,null,null,0,211,null,"Total Target Seq"]
[22,1684,13,1696,14,1705,null,null,null,null,0,211,null,{"$f":"COUNTIF(L7:L201,G3)","v":0},null,33,32,33,32,33,32]
[22,1809,13,1817,14,1826,null,null,null,null,0,211,null,null,null,"% of reinforcement given in 6 equal intervals based on number of trials "]
[22,1926,13,1934,14,1939,null,null,null,null,0,211,null,null,null,"%_1","%_2","%_3","%_4","%_5","%_6"]
[22,2038,13,2056,14,2064,null,null,null,null,0,211,null,null,"target sequence",{"$f":"$G$3","v":122},{"$f":"$G$3","v":122},{"$f":"$G$3","v":122},{"$f":"$G$3","v":122},{"$f":"$G$3","v":122},{"$f":"$G$3","v":122}]
[22,2167,13,2175,14,2184,null,null,null,null,0,211,null,null,"total reinforcement",{"$f":"U10","v":0},{"$f":"Z10","v":0},{"$f":"AE10","v":0},{"$f":"AJ10","v":0},{"$f":"AO10","v":0},{"$f":"AT10","v":0}]
[22,2290,13,2298,14,2307,null,null,null,null,0,211,null,null,"% target"]
[11,2421,11,2429,12,2439,null,null,null,null,0,111,null,null,"CCRF"]
[11,2546,11,2551,12,2562,null,null,null,null,0,111,null,null,"% CCRf"]
[11,2672,11,2683,12,2695,null,null,null,null,0,111,null,null,"average response rate",{"$f":"F39/P20","v":122.39393939393939},{"$f":"(F71-F39)/Q20","v":124.21875},{"$f":"(F104-F71)/R20","v":122.51515151515152},{"$f":"(F136-F104)/S20","v":120.71875},{"$f":"(F169-F136)/T20","v":124.51515151515152},{"$f":"(F201-F169)/U20","v":124.125}]
[11,2805,11,2812,12,2823,null,null,null,null,0,111]
[22,2925,13,2933,14,2944,null,null,null,null,0,211]
[11,3050,11,3055,12,3065,null,null,null,null,0,111]
[22,3166,13,3174,14,3181,null,null,null,null,0,211]
[11,3290,11,3298,12,3307,null,null,null,null,0,111]
[22,3406,13,3414,14,3423,null,null,null,null,0,211]
[11,3535,11,3543,12,3555,null,null,null,null,0,111]
[22,3655,13,3663,14,3669,null,null,null,null,0,211]
[22,3765,13,3773,14,3781,null,null,null,null,0,211]
[22,3881,13,3891,14,3904,null,null,null,null,0,211]
[11,4019,11,4027,12,4039,null,null,null,null,0,111]
[11,4146,11,4153,12,4165,null,null,null,null,0,111]
[11,4271,11,4275,12,4285,null,null,null,null,0,111]
[11,4394,11,4404,12,4416,null,null,null,null,0,111]
[22,4518,13,4526,14,4532,null,null,null,null,0,211]
[22,4633,13,4641,14,4647,null,null,null,null,0,211]
[22,4747,13,4756,14,4765,null,null,null,null,0,211]
[22,4862,13,4872,14,4880,null,null,null,null,0,211]
[11,4993,11,5004,12,5017,null,null,null,null,0,111]
[11,5130,11,5136,12,5145,null,null,null,null,0,111]
[11,5256,11,5263,12,5275,null,null,null,null,0,111]
[22,5380,13,5393,14,5404,null,null,null,null,0,211]
[22,5508,13,5517,14,5525,null,null,null,null,0,211]
[11,5635,11,5641,12,5649,null,null,null,null,0,111]
[22,5746,13,5754,14,5762,null,null,null,null,0,211]
[22,5858,13,5865,14,5870,null,null,null,null,0,211]
[22,5970,13,5978,14,5986,null,null,null,null,0,211]
[11,6095,11,6108,12,6120,null,null,null,null,0,111]
[11,6231,11,6241,12,6252,null,null,null,null,0,111]
[22,6349,13,6362,14,6377,null,null,null,null,0,211]
[22,6479,13,6489,14,6497,null,null,null,null,0,211]
[22,6598,13,6606,14,6619,null,null,null,null,0,211]
[11,6733,11,6744,12,6756,null,null,null,null,0,111]
[11,6863,11,6871,12,6881,null,null,null,null,0,111]
[11,7002,11,7009,12,7017,null,null,null,null,0,111]
[11,7129,11,7137,12,7148,null,null,null,null,0,111]
[11,7257,11,7261,12,7270,null,null,null,null,0,111]
[11,7373,11,7379,12,7387,null,null,null,null,0,111]
[11,7495,11,7500,12,7513,null,null,null,null,0,111]
[11,7625,11,7633,12,7645,null,null,null,null,0,111]
[11,7754,11,7758,12,7767,null,null,null,null,0,111]
[11,7877,11,7885,12,7896,null,null,null,null,0,111]
[22,8000,13,8008,14,8014,null,null,null,null,0,211]
[22,8117,13,8125,14,8132,null,null,null,null,0,211]
[11,8239,11,8245,12,8256,null,null,null,null,0,111]
[11,8366,11,8375,12,8386,null,null,null,null,0,111]
[22,8491,13,8498,14,8517,null,null,null,null,0,211]
[11,8627,11,8636,12,8647,null,null,null,null,0,111]
[11,8754,11,8760,12,8768,null,null,null,null,0,111]
[22,8873,13,8881,14,8887,null,null,null,null,0,211]
[22,8987,13,8995,14,9000,null,null,null,null,0,211]
[11,9107,11,9117,12,9129,null,null,null,null,0,111]
[11,9251,11,9259,12,9268,null,null,null,null,0,111]
[11,9379,11,9384,12,9393,null,null,null,null,0,111]
[11,9502,11,9511,12,9521,null,null,null,null,0,111]
[11,9627,11,9633,12,9645,null,null,null,null,0,111]
[22,9746,13,9754,14,9760,null,null,null,null,0,211]
[22,9862,13,9870,14,9875,null,null,null,null,0,211]
[22,9979,13,9986,14,9992,null,null,null,null,0,211]
[22,10092,13,10099,14,10106,null,null,null,null,0,211]
[22,10205,13,10217,14,10226,null,null,null,null,0,211]
[11,10337,11,10343,12,10354,null,null,null,null,0,111]
[22,10453,13,10461,14,10466,null,null,null,null,0,211]
[11,10576,11,10584,12,10596,null,null,null,null,0,111]
[22,10689,13,10702,14,10709,null,null,null,null,0,211]
[22,10815,13,10822,14,10829,null,null,null,null,0,211]
[22,10930,13,10938,14,10943,null,null,null,null,0,211]
[11,11051,11,11060,12,11071,null,null,null,null,0,111]
[22,11173,13,11181,14,11189,null,null,null,null,0,211]
[11,11303,11,11311,12,11321,null,null,null,null,0,111]
[22,11421,13,11432,14,11440,null,null,null,null,0,211]
[22,11533,24,11545,14,11553,null,null,null,null,0,221]
[22,11658,13,11665,14,11670,null,null,null,null,0,211]
[11,11780,11,11787,12,11797,null,null,null,null,0,111]
[11,11905,11,11912,12,11921,null,null,null,null,0,111]
[11,12030,11,12047,12,12057,null,null,null,null,0,111]
[11,12166,11,12171,12,12183,null,null,null,null,0,111]
[22,12281,13,12289,14,12295,null,null,null,null,0,211]
[22,12394,13,12401,14,12406,null,null,null,null,0,211]
[22,12504,13,12518,14,12527,null,null,null,null,0,211]
[11,12632,11,12637,12,12648,null,null,null,null,0,111]
[11,12755,11,12762,12,12773,null,null,null,null,0,111]
[22,12877,13,12885,14,12894,null,null,null,null,0,211]
[22,12993,13,13000,14,13010,null,null,null,null,0,211]
[11,13118,11,13122,12,13135,null,null,null,null,0,111]
[11,13243,11,13250,12,13260,null,null,null,null,0,111]
[11,13366,11,13370,12,13378,null,null,null,null,0,111]
[22,13477,13,13485,14,13492,null,null,null,null,0,211]
[22,13593,13,13600,14,13608,null,null,null,null,0,211]
[11,13731,11,13738,12,13751,null,null,null,null,0,111]
[11,13861,11,13871,12,13882,null,null,null,null,0,111]
[22,13979,13,13987,14,13992,null,null,null,null,0,211]
[22,14092,13,14099,14,14109,null,null,null,null,0,211]
[22,14208,13,14216,14,14224,null,null,null,null,0,211]
[22,14325,13,14333,14,14338,null,null,null,null,0,211]
[22,14436,13,14445,14,14451,null,null,null,null,0,211]
[22,14549,13,14557,14,14562,null,null,null,null,0,211]
[11,14677,11,14688,12,14700,null,null,null,null,0,111]
[11,14815,11,14823,12,14835,null,null,null,null,0,111]
[22,14939,13,14955,14,14963,null,null,null,null,0,211]
[11,15070,11,15075,12,15084,null,null,null,null,0,111]
[22,15182,13,15194,14,15203,null,null,null,null,0,211]
[11,15309,11,15315,12,15323,null,null,null,null,0,111]
[11,15432,11,15438,12,15447,null,null,null,null,0,111]
[22,15546,13,15554,14,15563,null,null,null,null,0,211]
[22,15655,13,15671,14,15677,null,null,null,null,0,211]
[22,15784,13,15792,14,15797,null,null,null,null,0,211]
[22,15897,13,15912,14,15920,null,null,null,null,0,211]
[11,16032,11,16037,12,16045,null,null,null,null,0,111]
[22,16148,13,16157,14,16162,null,null,null,null,0,211]
[11,16268,11,16273,12,16281,null,null,null,null,0,111]
[11,16392,11,16400,12,16408,null,null,null,null,0,111]
[22,16508,13,16516,14,16527,null,null,null,null,0,211]
[11,16635,11,16643,12,16656,null,null,null,null,0,111]
[22,16757,13,16764,14,16774,null,null,null,null,0,211]
[11,16883,11,16894,12,16906,null,null,null,null,0,111]
[11,17016,11,17022,12,17031,null,null,null,null,0,111]
[11,17140,11,17147,12,17159,null,null,null,null,0,111]
[11,17281,11,17292,12,17303,null,null,null,null,0,111]
[22,17406,13,17414,14,17420,null,null,null,null,0,211]
[22,17523,13,17532,14,17542,null,null,null,null,0,211]
[22,17643,13,17651,14,17656,null,null,null,null,0,211]
[11,17774,11,17784,12,17794,null,null,null,null,0,111]
[11,17902,11,17908,12,17916,null,null,null,null,0,111]
[22,18014,13,18031,14,18038,null,null,null,null,0,211]
[22,18141,13,18149,14,18156,null,null,null,null,0,211]
[11,18277,11,18284,12,18296,null,null,null,null,0,111]
[22,18394,13,18402,14,18408,null,null,null,null,0,211]
[22,18513,13,18521,14,18526,null,null,null,null,0,211]
[22,18624,13,18632,14,18640,null,null,null,null,0,211]
[22,18745,13,18757,14,18766,null,null,null,null,0,211]
[11,18879,11,18890,12,18903,null,null,null,null,0,111]
[11,19012,11,19020,12,19029,null,null,null,null,0,111]
[11,19135,11,19144,12,19156,null,null,null,null,0,111]
[11,19270,11,19279,12,19292,null,null,null,null,0,111]
[11,19407,11,19420,12,19431,null,null,null,null,0,111]
[22,19532,13,19541,14,19548,null,null,null,null,0,211]
[22,19647,13,19654,14,19660,null,null,null,null,0,211]
[11,19769,11,19778,12,19788,null,null,null,null,0,111]
[22,19890,13,19899,14,19906,null,null,null,null,0,211]
[11,20014,11,20019,12,20029,null,null,null,null,0,111]
[11,20140,11,20145,12,20156,null,null,null,null,0,111]
[22,20261,13,20270,14,20278,null,null,null,null,0,211]
[22,20377,13,20386,14,20396,null,null,null,null,0,211]
[22,20498,13,20514,14,20522,null,null,null,null,0,211]
[11,20638,11,20646,12,20659,null,null,null,null,0,111]
[11,20770,11,20775,12,20785,null,null,null,null,0,111]
[22,20885,13,20892,14,20900,null,null,null,null,0,211]
[11,21006,11,21014,12,21025,null,null,null,null,0,111]
[11,21134,11,21143,12,21154,null,null,null,null,0,111]
[22,21247,13,21267,14,21275,null,null,null,null,0,211]
[11,21381,11,21386,12,21397,null,null,null,null,0,111]
[22,21497,13,21504,14,21510,null,null,null,null,0,211]
[22,21614,13,21626,14,21636,null,null,null,null,0,211]
[11,21745,11,21752,12,21765,null,null,null,null,0,111]
[11,21871,11,21876,12,21888,null,null,null,null,0,111]
[22,21987,13,21995,14,22001,null,null,null,null,0,211]
[22,22109,13,22116,14,22124,null,null,null,null,0,211]
[11,22238,11,22247,12,22257,null,null,null,null,0,111]
[22,22360,13,22372,14,22381,null,null,null,null,0,211]
[22,22479,13,22501,14,22512,null,null,null,null,0,211]
[11,22620,11,22632,12,22642,null,null,null,null,0,111]
[22,22741,13,22749,14,22758,null,null,null,null,0,211]
[11,22867,11,22876,12,22888,null,null,null,null,0,111]
[11,23005,11,23012,12,23020,null,null,null,null,0,111]
[11,23131,11,23140,12,23152,null,null,null,null,0,111]
[22,23250,13,23259,14,23267,null,null,null,null,0,211]
[22,23369,13,23377,14,23386,null,null,null,null,0,211]
[22,23488,13,23497,14,23501,null,null,null,null,0,211]
[22,23600,13,23608,14,23623,null,null,null,null,0,211]
[11,23731,11,23736,12,23745,null,null,null,null,0,111]
[11,23852,11,23861,12,23871,null,null,null,null,0,111]
[11,23982,11,23989,12,24001,null,null,null,null,1,111]

{"sheet":"!MB05A20.095","index":19,"n_rows":196,"n_cols":48,"rows_kept":196,"cut":false,"hidden":false,"merged":[[4,39,4,42],[5,39,5,40],[4,44,4,47],[5,44,5,45],[4,24,4,27],[5,24,5,25],[4,29,4,32],[5,29,5,30],[4,34,4,37],[5,34,5,35],[1,1,1,2],[5,13,5,14],[18,13,18,14],[19,13,19,14],[4,19,4,22],[5,19,5,20]]}
["Report for:!MB05A20.095"]
["Date:","<date>"]
["Hen:","<hen>",null,null,null,"Correct Sequence",{"$f":"Start!J2","v":122},null,null,null,null,null,null,null,null,"Total Sequences in Data",{"$f":"4994-COUNTBLANK(L7:L5000)","v":190},null,null,null,null,"Total Sequences in Block Data",{"$f":"COUNTA(L7:L38)","v":32},null,null,null,"Total Sequences in Block Data",{"$f":"COUNTA(L39:L69)","v":31},null,null,null,"Total Sequences in Block Data",{"$f":"COUNTA(L70:L101)","v":32},null,null,null,"Total Sequences in Block Data",{"$f":"COUNTA(L102:L133)","v":32},null,null,null,"Total Sequences in Block Data",{"$f":"COUNTA(L134:L164)","v":31},null,null,null,"Total Sequences in Block Data",{"$f":"COUNTA(L165:L196)","v":32}]
[null,null,null,null,null,null,null,null,null,null,null,null,null,null,null,"Total Sequences in Summary",{"$f":"SUM(O7:O14)","v":190},null,null,null,null,"Total Sequences in Block Summary",{"$f":"SUM(U7:U14)","v":32},null,null,null,"Total Sequences in Block Summary",{"$f":"SUM(Z7:Z14)","v":31},null,null,null,"Total Sequences in Block Summary",{"$f":"SUM(AE7:AE14)","v":32},null,null,null,"Total Sequences in Block Summary",{"$f":"SUM(AJ7:AJ14)","v":32},null,null,null,"Total Sequences in Block Summary",{"$f":"SUM(AO7:AO14)","v":31},null,null,null,"Total Sequences in Block Summary",{"$f":"SUM(AT7:AT14)","v":32}]
[null,null,null,null,null,null,null,null,null,null,null,null,null,null,null,null,null,null,null,"Block 1",null,null,null,null,"Block 2",null,null,null,null,"Block 3",null,null,null,null,"Block 4",null,null,null,null,"Block 5",null,null,null,null,"Block 6"]
["Sequence\nComponent\n1","Time\n1","Sequence\nComponent\n2","Time\n2","Sequence\nComponent\n3","Time\n3","Sequence\nComponent\n4","Time\n4","Sequence\nComponent\n5","Time\n5","Correct?\n0=No 1=Yes","Sequence",null,"Frequency",null,"Relative Frequency","Variability",null,null,"Frequency",null,"Relative Frequency","Variability",null,"Frequency",null,"Relative Frequency","Variability",null,"Frequency",null,"Relative Frequency","Variability",null,"Frequency",null,"Relative Frequency","Variability",null,"Frequency",null,"Relative Frequency","Variability",null,"Frequency",null,"Relative Frequency","Variability"]
[11,35,11,45,12,58,null,null,null,null,0,111,null,111,{"$f":"COUNTIF($L$7:$L$500,N7)","v":91},{"$f":"O7/$Q$4","v":0.47894736842105262},{"$f":"IF(P7=0,0,(P7*((LOG(P7))/LOG(2))))","v":-0.50867130578965736},null,null,{"$f":"N7","v":111},{"$f":"COUNTIF(L7:L38,T7)","v":13},{"$f":"U7/(W4-U10)","v":0.40625},{"$f":"IF(V7=0,0,(V7*((LOG(V7))/LOG(2))))","v":-0.52794636450518129},null,{"$f":"N7","v":111},{"$f":"COUNTIF(L39:L69,Y7)","v":14},{"$f":"Z7/(AB4-Z10)","v":0.45161290322580644},{"$f":"IF(AA7=0,0,(AA7*((LOG(AA7))/LOG(2))))","v":-0.51792836892289662},null,{"$f":"N7","v":111},{"$f":"COUNTIF(L70:L101,AD7)","v":14},{"$f":"AE7/(AG4-AE10)","v":0.4375},{"$f":"IF(AF7=0,0,(AF7*((LOG(AF7))/LOG(2))))","v":-0.52178222159979815},null,{"$f":"N7","v":111},{"$f":"COUNTIF(L102:L133,AI7)","v":16},{"$f":"AJ7/(AL4-AJ10)","v":0.5},{"$f":"IF(AK7=0,0,(AK7*((LOG(AK7))/LOG(2))))","v":-0.5},null,{"$f":"N7","v":111},{"$f":"COUNTIF(L134:L164,AN7)","v":19},{"$f":"AO7/(AQ4-AO10)","v":0.61290322580645162},{"$f":"IF(AP7=0,0,(AP7*((LOG(AP7))/LOG(2))))","v":-0.43287442393298403},null,{"$f":"N7","v":111},{"$f":"COUNTIF(L165:L196,AS7)","v":15},{"$f":"AT7/(AV4-AT10)","v":0.46875},{"$f":"IF(AU7=0,0,(AU7*((LOG(AU7))/LOG(2))))","v":-0.512395033308507}]
[22,160,13,168,14,177,null,null,null,null,0,211,null,112,{"$f":"COUNTIF($L$7:$L$500,N8)","v":0},{"$f":"O8/$Q$4","v":0},{"$f":"IF(P8=0,0,(P8*((LOG(P8))/LOG(2))))","v":0},null,null,{"$f":"N8","v":112},{"$f":"COUNTIF(L7:L38,T8)","v":0},{"$f":"U8/(W4-U10)","v":0},{"$f":"IF(V8=0,0,(V8*((LOG(V8))/LOG(2))))","v":0},null,{"$f":"N8","v":112},{"$f":"COUNTIF(L39:L69,Y8)","v":0},{"$f":"Z8/(AB4-Z10)","v":0},{"$f":"IF(AA8=0,0,(AA8*((LOG(AA8))/LOG(2))))","v":0},null,{"$f":"N8","v":112},{"$f":"COUNTIF(L70:L101,AD8)","v":0},{"$f":"AE8/(AG4-AE10)","v":0},{"$f":"IF(AF8=0,0,(AF8*((LOG(AF8))/LOG(2))))","v":0},null,{"$f":"N8","v":112},{"$f":"COUNTIF(L102:L133,AI8)","v":0},{"$f":"AJ8/(AL4-AJ10)","v":0},{"$f":"IF(AK8=0,0,(AK8*((LOG(AK8))/LOG(2))))","v":0},null,{"$f":"N8","v":112},{"$f":"COUNTIF(L134:L164,AN8)","v":0},{"$f":"AO8/(AQ4-AO10)","v":0},{"$f":"IF(AP8=0,0,(AP8*((LOG(AP8))/LOG(2))))","v":0},null,{"$f":"N8","v":112},{"$f":"COUNTIF(L165:L196,AS8)","v":0},{"$f":"AT8/(AV4-AT10)","v":0},{"$f":"IF(AU8=0,0,(AU8*((LOG(AU8))/LOG(2))))","v":0}]
[22,283,13,292,14,298,null,null,null,null,0,211,null,121,{"$f":"COUNTIF($L$7:$L$500,N9)","v":0},{"$f":"O9/$Q$4","v":0},{"$f":"IF(P9=0,0,(P9*((LOG(P9))/LOG(2))))","v":0},null,null,{"$f":"N9","v":121},{"$f":"COUNTIF(L7:L38,T9)","v":0},{"$f":"U9/(W4-U10)","v":0},{"$f":"IF(V9=0,0,(V9*((LOG(V9))/LOG(2))))","v":0},null,{"$f":"N9","v":121},{"$f":"COUNTIF(L39:L69,Y9)","v":0},{"$f":"Z9/(AB4-Z10)","v":0},{"$f":"IF(AA9=0,0,(AA9*((LOG(AA9))/LOG(2))))","v":0},null,{"$f":"N9","v":121},{"$f":"COUNTIF(L70:L101,AD9)","v":0},{"$f":"AE9/(AG4-AE10)","v":0},{"$f":"IF(AF9=0,0,(AF9*((LOG(AF9))/LOG(2))))","v":0},null,{"$f":"N9","v":121},{"$f":"COUNTIF(L102:L133,AI9)","v":0},{"$f":"AJ9/(AL4-AJ10)","v":0},{"$f":"IF(AK9=0,0,(AK9*((LOG(AK9))/LOG(2))))","v":0},null,{"$f":"N9","v":121},{"$f":"COUNTIF(L134:L164,AN9)","v":0},{"$f":"AO9/(AQ4-AO10)","v":0},{"$f":"IF(AP9=0,0,(AP9*((LOG(AP9))/LOG(2))))","v":0},null,{"$f":"N9","v":121},{"$f":"COUNTIF(L165:L196,AS9)","v":0},{"$f":"AT9/(AV4-AT10)","v":0},{"$f":"IF(AU9=0,0,(AU9*((LOG(AU9))/LOG(2))))","v":0}]
[11,410,11,418,12,428,null,null,null,null,0,111,null,122,{"$f":"COUNTIF($L$7:$L$500,N10)","v":0},{"$f":"O10/$Q$4","v":0},{"$f":"IF(P10=0,0,(P10*((LOG(P10))/LOG(2))))","v":0},null,null,{"$f":"N10","v":122},{"$f":"COUNTIF(L7:L38,T10)","v":0},null,null,null,{"$f":"N10","v":122},{"$f":"COUNTIF(L39:L69,Y10)","v":0},null,null,null,{"$f":"N10","v":122},{"$f":"COUNTIF(L70:L101,AD10)","v":0},null,null,null,{"$f":"N10","v":122},{"$f":"COUNTIF(L102:L133,AI10)","v":0},null,null,null,{"$f":"N10","v":122},{"$f":"COUNTIF(L134:L164,AN10)","v":0},null,null,null,{"$f":"N10","v":122},{"$f":"COUNTIF(L165:L196,AS10)","v":0}]
[22,533,13,541,14,551,null,null,null,null,0,211,null,211,{"$f":"COUNTIF($L$7:$L$500,N11)","v":93},{"$f":"O11/$Q$4","v":0.48947368421052634},{"$f":"IF(P11=0,0,(P11*((LOG(P11))/LOG(2))))","v":-0.50449895864069072},null,null,{"$f":"N11","v":211},{"$f":"COUNTIF(L7:L38,T11)","v":18},{"$f":"U11/(W4-U10)","v":0.5625},{"$f":"IF(V11=0,0,(V11*((LOG(V11))/LOG(2))))","v":-0.4669171866886993},null,{"$f":"N11","v":211},{"$f":"COUNTIF(L39:L69,Y11)","v":16},{"$f":"Z11/(AB4-Z10)","v":0.5161290322580645},{"$f":"IF(AA11=0,0,(AA11*((LOG(AA11))/LOG(2))))","v":-0.49248841826419365},null,{"$f":"N11","v":211},{"$f":"COUNTIF(L70:L101,AD11)","v":18},{"$f":"AE11/(AG4-AE10)","v":0.5625},{"$f":"IF(AF11=0,0,(AF11*((LOG(AF11))/LOG(2))))","v":-0.4669171866886993},null,{"$f":"N11","v":211},{"$f":"COUNTIF(L102:L133,AI11)","v":16},{"$f":"AJ11/(AL4-AJ10)","v":0.5},{"$f":"IF(AK11=0,0,(AK11*((LOG(AK11))/LOG(2))))","v":-0.5},null,{"$f":"N11","v":211},{"$f":"COUNTIF(L134:L164,AN11)","v":10},{"$f":"AO11/(AQ4-AO10)","v":0.32258064516129031},{"$f":"IF(AP11=0,0,(AP11*((LOG(AP11))/LOG(2))))","v":-0.52653813403210092},null,{"$f":"N11","v":211},{"$f":"COUNTIF(L165:L196,AS11)","v":15},{"$f":"AT11/(AV4-AT10)","v":0.46875},{"$f":"IF(AU11=0,0,(AU11*((LOG(AU11))/LOG(2))))","v":-0.512395033308507}]
[11,668,11,676,12,686,null,null,null,null,0,111,null,212,{"$f":"COUNTIF($L$7:$L$500,N12)","v":0},{"$f":"O12/$Q$4","v":0},{"$f":"IF(P12=0,0,(P12*((LOG(P12))/LOG(2))))","v":0},null,null,{"$f":"N12","v":212},{"$f":"COUNTIF(L7:L38,T12)","v":0},{"$f":"U12/(W4-U10)","v":0},{"$f":"IF(V12=0,0,(V12*((LOG(V12))/LOG(2))))","v":0},null,{"$f":"N12","v":212},{"$f":"COUNTIF(L39:L69,Y12)","v":0},{"$f":"Z12/(AB4-Z10)","v":0},{"$f":"IF(AA12=0,0,(AA12*((LOG(AA12))/LOG(2))))","v":0},null,{"$f":"N12","v":212},{"$f":"COUNTIF(L70:L101,AD12)","v":0},{"$f":"AE12/(AG4-AE10)","v":0},{"$f":"IF(AF12=0,0,(AF12*((LOG(AF12))/LOG(2))))","v":0},null,{"$f":"N12","v":212},{"$f":"COUNTIF(L102:L133,AI12)","v":0},{"$f":"AJ12/(AL4-AJ10)","v":0},{"$f":"IF(AK12=0,0,(AK12*((LOG(AK12))/LOG(2))))","v":0},null,{"$f":"N12","v":212},{"$f":"COUNTIF(L134:L164,AN12)","v":0},{"$f":"AO12/(AQ4-AO10)","v":0},{"$f":"IF(AP12=0,0,(AP12*((LOG(AP12))/LOG(2))))","v":0},null,{"$f":"N12","v":212},{"$f":"COUNTIF(L165:L196,AS12)","v":0},{"$f":"AT12/(AV4-AT10)","v":0},{"$f":"IF(AU12=0,0,(AU12*((LOG(AU12))/LOG(2))))","v":0}]
[22,790,13,801,14,810,null,null,null,null,0,211,null,221,{"$f":"COUNTIF($L$7:$L$500,N13)","v":6},{"$f":"O13/$Q$4","v":3.1578947368421054E-2},{"$f":"IF(P13=0,0,(P13*((LOG(P13))/LOG(2))))","v":-0.15741767708241444},null,null,{"$f":"N13","v":221},{"$f":"COUNTIF(L7:L38,T13)","v":1},{"$f":"U13/(W4-U10)","v":3.125E-2},{"$f":"IF(V13=0,0,(V13*((LOG(V13))/LOG(2))))","v":-0.15625},null,{"$f":"N13","v":221},{"$f":"COUNTIF(L39:L69,Y13)","v":1},{"$f":"Z13/(AB4-Z10)","v":3.2258064516129031E-2},{"$f":"IF(AA13=0,0,(AA13*((LOG(AA13))/LOG(2))))","v":-0.15981278420602821},null,{"$f":"N13","v":221},{"$f":"COUNTIF(L70:L101,AD13)","v":0},{"$f":"AE13/(AG4-AE10)","v":0},{"$f":"IF(AF13=0,0,(AF13*((LOG(AF13))/LOG(2))))","v":0},null,{"$f":"N13","v":221},{"$f":"COUNTIF(L102:L133,AI13)","v":0},{"$f":"AJ13/(AL4-AJ10)","v":0},{"$f":"IF(AK13=0,0,(AK13*((LOG(AK13))/LOG(2))))","v":0},null,{"$f":"N13","v":221},{"$f":"COUNTIF(L134:L164,AN13)","v":2},{"$f":"AO13/(AQ4-AO10)","v":6.4516129032258063E-2},{"$f":"IF(AP13=0,0,(AP13*((LOG(AP13))/LOG(2))))","v":-0.25510943937979835},null,{"$f":"N13","v":221},{"$f":"COUNTIF(L165:L196,AS13)","v":2},{"$f":"AT13/(AV4-AT10)","v":6.25E-2},{"$f":"IF(AU13=0,0,(AU13*((LOG(AU13))/LOG(2))))","v":-0.25}]
[11,925,11,934,12,944,null,null,null,null,0,111,null,222,{"$f":"COUNTIF($L$7:$L$500,N14)","v":0},{"$f":"O14/$Q$4","v":0},{"$f":"IF(P14=0,0,(P14*((LOG(P14))/LOG(2))))","v":0},null,null,{"$f":"N14","v":222},{"$f":"COUNTIF(L7:L38,T14)","v":0},{"$f":"U14/(W4-U10)","v":0},{"$f":"IF(V14=0,0,(V14*((LOG(V14))/LOG(2))))","v":0},null,{"$f":"N14","v":222},{"$f":"COUNTIF(L39:L69,Y14)","v":0},{"$f":"Z14/(AB4-Z10)","v":0},{"$f":"IF(AA14=0,0,(AA14*((LOG(AA14))/LOG(2))))","v":0},null,{"$f":"N14","v":222},{"$f":"COUNTIF(L70:L101,AD14)","v":0},{"$f":"AE14/(AG4-AE10)","v":0},{"$f":"IF(AF14=0,0,(AF14*((LOG(AF14))/LOG(2))))","v":0},null,{"$f":"N14","v":222},{"$f":"COUNTIF(L102:L133,AI14)","v":0},{"$f":"AJ14/(AL4-AJ10)","v":0},{"$f":"IF(AK14=0,0,(AK14*((LOG(AK14))/LOG(2))))","v":0},null,{"$f":"N14","v":222},{"$f":"COUNTIF(L134:L164,AN14)","v":0},{"$f":"AO14/(AQ4-AO10)","v":0},{"$f":"IF(AP14=0,0,(AP14*((LOG(AP14))/LOG(2))))","v":0},null,{"$f":"N14","v":222},{"$f":"COUNTIF(L165:L196,AS14)","v":0},{"$f":"AT14/(AV4-AT10)","v":0},{"$f":"IF(AU14=0,0,(AU14*((LOG(AU14))/LOG(2))))","v":0}]
[11,1053,11,1062,12,1074,null,null,null,null,0,111,null,null,null,{"$f":"SUM(P7:P14)","v":1},{"$f":"-SUM(Q7:Q14)","v":1.1705879415127625},null,null,null,null,{"$f":"SUM(V7:V14)","v":1},{"$f":"-SUM(W7:W14)","v":1.1511135511938806},null,null,null,{"$f":"SUM(AA7:AA14)","v":1},{"$f":"-SUM(AB7:AB14)","v":1.1702295713931186},null,null,null,{"$f":"SUM(AF7:AF14)","v":1},{"$f":"-SUM(AG7:AG14)","v":0.98869940828849745},null,null,null,{"$f":"SUM(AK7:AK14)","v":1},{"$f":"-SUM(AL7:AL14)","v":1},null,null,null,{"$f":"SUM(AP7:AP14)","v":1},{"$f":"-SUM(AQ7:AQ14)","v":1.2145219973448833},null,null,null,{"$f":"SUM(AU7:AU14)","v":1},{"$f":"-SUM(AV7:AV14)","v":1.274790066617014}]
[11,1188,11,1204,12,1217,null,null,null,null,0,111,null,null,null,"U=",{"$f":"Q15/(LOG(Q4)/LOG(2))","v":0.15463808057639575},null,null,null,null,"U1=",{"$f":"W15/(LOG(W4)/LOG(2))","v":0.23022271023877611},null,null,null,"U2=",{"$f":"AB15/(LOG(AB4)/LOG(2))","v":0.2362097700770632},null,null,null,"U3=",{"$f":"AG15/(LOG(AG4)/LOG(2))","v":0.19773988165769948},null,null,null,"U4=",{"$f":"AL15/(LOG(AL4)/LOG(2))","v":0.2},null,null,null,"U5=",{"$f":"AQ15/(LOG(AQ4)/LOG(2))","v":0.2451501557979322},null,null,null,"U6=",{"$f":"AV15/(LOG(AV4)/LOG(2))","v":0.25495801332340279}]
[11,1332,11,1339,12,1351,null,null,null,null,0,111]
[22,1449,13,1457,14,1464,null,null,null,null,0,211]
[22,1563,13,1576,14,1584,null,null,null,null,0,211,null,"Total Target Seq"]
[11,1699,11,1708,12,1720,null,null,null,null,0,111,null,{"$f":"COUNTIF(L7:L196,G3)","v":0},null,32,31,32,32,31,32]
[22,1820,13,1840,14,1852,null,null,null,null,0,211,null,null,null,"% of reinforcement given in 6 equal intervals based on number of trials "]
[22,1955,24,1960,14,1973,null,null,null,null,0,221,null,null,null,"%_1","%_2","%_3","%_4","%_5","%_6"]
[11,2094,11,2102,12,2114,null,null,null,null,0,111,null,null,"target sequence",{"$f":"$G$3","v":122},{"$f":"$G$3","v":122},{"$f":"$G$3","v":122},{"$f":"$G$3","v":122},{"$f":"$G$3","v":122},{"$f":"$G$3","v":122}]
[11,2225,11,2232,12,2244,null,null,null,null,0,111,null,null,"total reinforcement",{"$f":"U10","v":0},{"$f":"Z10","v":0},{"$f":"AE10","v":0},{"$f":"AJ10","v":0},{"$f":"AO10","v":0},{"$f":"AT10","v":0}]
[22,2339,13,2351,14,2360,null,null,null,null,0,211,null,null,"% target"]
[22,2464,13,2472,14,2480,null,null,null,null,0,211,null,null,"CCRF"]
[22,2582,13,2590,14,2598,null,null,null,null,0,211,null,null,"% CCRf"]
[22,2695,13,2707,14,2718,null,null,null,null,0,211,null,null,"average response rate",{"$f":"F38/P20","v":124.3125},{"$f":"(F69-F38)/Q20","v":127.29032258064517},{"$f":"(F101-F69)/R20","v":124.5},{"$f":"(F133-F101)/S20","v":123.78125},{"$f":"(F164-F133)/T20","v":126.51612903225806},{"$f":"(F196-F164)/U20","v":129.09375}]
[11,2833,11,2841,12,2853,null,null,null,null,0,111]
[22,2957,13,2969,14,2977,null,null,null,null,0,211]
[22,3075,13,3102,14,3111,null,null,null,null,0,211]
[11,3225,11,3233,12,3245,null,null,null,null,0,111]
[22,3352,13,3360,14,3369,null,null,null,null,0,211]
[22,3470,13,3478,14,3483,null,null,null,null,0,211]
[22,3586,13,3597,14,3605,null,null,null,null,0,211]
[11,3715,11,3724,12,3735,null,null,null,null,0,111]
[22,3838,13,3848,14,3856,null,null,null,null,0,211]
[22,3959,13,3970,14,3978,null,null,null,null,0,211]
[22,4076,13,4085,14,4094,null,null,null,null,0,211]
[11,4216,11,4228,12,4240,null,null,null,null,0,111]
[22,4343,13,4353,14,4363,null,null,null,null,0,211]
[11,4475,11,4486,12,4498,null,null,null,null,0,111]
[11,4612,11,4621,12,4630,null,null,null,null,0,111]
[22,4730,13,4741,14,4749,null,null,null,null,0,211]
[11,4863,11,4874,12,4885,null,null,null,null,0,111]
[11,5001,11,5017,12,5030,null,null,null,null,0,111]
[22,5136,13,5146,14,5155,null,null,null,null,0,211]
[11,5264,11,5272,12,5285,null,null,null,null,0,111]
[11,5396,11,5405,12,5417,null,null,null,null,0,111]
[11,5528,11,5536,12,5547,null,null,null,null,0,111]
[22,5662,13,5673,14,5683,null,null,null,null,0,211]
[22,5787,13,5797,14,5807,null,null,null,null,0,211]
[22,5909,13,5918,14,5928,null,null,null,null,0,211]
[11,6042,11,6051,12,6063,null,null,null,null,0,111]
[11,6172,11,6181,12,6191,null,null,null,null,0,111]
[11,6302,11,6323,12,6335,null,null,null,null,0,111]
[11,6453,11,6461,12,6473,null,null,null,null,0,111]
[22,6573,13,6584,14,6592,null,null,null,null,0,211]
[22,6692,13,6703,14,6713,null,null,null,null,0,211]
[11,6828,11,6837,12,6849,null,null,null,null,0,111]
[22,6951,13,6962,14,6970,null,null,null,null,0,211]
[11,7084,11,7093,12,7101,null,null,null,null,0,111]
[22,7204,13,7213,14,7221,null,null,null,null,0,211]
[22,7314,24,7323,14,7331,null,null,null,null,0,221]
[22,7430,13,7438,14,7448,null,null,null,null,0,211]
[22,7548,13,7556,14,7564,null,null,null,null,0,211]
[22,7666,13,7676,14,7684,null,null,null,null,0,211]
[22,7785,13,7797,14,7804,null,null,null,null,0,211]
[22,7907,13,7916,14,7924,null,null,null,null,0,211]
[22,8030,13,8038,14,8045,null,null,null,null,0,211]
[22,8146,13,8154,14,8162,null,null,null,null,0,211]
[22,8256,13,8277,14,8284,null,null,null,null,0,211]
[11,8400,11,8411,12,8423,null,null,null,null,0,111]
[22,8529,13,8537,14,8543,null,null,null,null,0,211]
[22,8641,13,8650,14,8658,null,null,null,null,0,211]
[11,8768,11,8781,12,8791,null,null,null,null,0,111]
[22,8901,13,8911,14,8920,null,null,null,null,0,211]
[22,9024,13,9032,14,9038,null,null,null,null,0,211]
[11,9148,11,9155,12,9165,null,null,null,null,0,111]
[22,9263,13,9271,14,9287,null,null,null,null,0,211]
[22,9391,13,9399,14,9407,null,null,null,null,0,211]
[11,9514,11,9522,12,9533,null,null,null,null,0,111]
[22,9632,13,9643,14,9651,null,null,null,null,0,211]
[22,9756,13,9765,14,9773,null,null,null,null,0,211]
[11,9894,11,9901,12,9911,null,null,null,null,0,111]
[22,10010,13,10019,14,10023,null,null,null,null,0,211]
[11,10130,11,10135,12,10142,null,null,null,null,0,111]
[11,10251,11,10259,12,10270,null,null,null,null,0,111]
[22,10374,13,10383,14,10391,null,null,null,null,0,211]
[11,10502,11,10510,12,10521,null,null,null,null,0,111]
[22,10620,13,10628,14,10635,null,null,null,null,0,211]
[11,10743,11,10752,12,10763,null,null,null,null,0,111]
[22,10865,13,10873,14,10881,null,null,null,null,0,211]
[11,10991,11,10997,12,11008,null,null,null,null,0,111]
[22,11103,13,11124,14,11131,null,null,null,null,0,211]
[11,11241,11,11249,12,11260,null,null,null,null,0,111]
[11,11373,11,11379,12,11390,null,null,null,null,0,111]
[11,11497,11,11506,12,11516,null,null,null,null,0,111]
[11,11633,11,11640,12,11652,null,null,null,null,0,111]
[22,11757,13,11780,14,11788,null,null,null,null,0,211]
[22,11892,13,11900,14,11908,null,null,null,null,0,211]
[22,12006,13,12015,14,12022,null,null,null,null,0,211]
[11,12133,11,12140,12,12151,null,null,null,null,0,111]
[22,12249,13,12260,14,12268,null,null,null,null,0,211]
[11,12372,11,12382,12,12392,null,null,null,null,0,111]
[11,12505,11,12513,12,12524,null,null,null,null,0,111]
[22,12629,13,12637,14,12647,null,null,null,null,0,211]
[22,12749,13,12757,14,12765,null,null,null,null,0,211]
[22,12871,13,12880,14,12888,null,null,null,null,0,211]
[22,12991,13,12999,14,13009,null,null,null,null,0,211]
[22,13108,13,13115,14,13126,null,null,null,null,0,211]
[11,13241,11,13249,12,13260,null,null,null,null,0,111]
[22,13362,13,13371,14,13379,null,null,null,null,0,211]
[11,13489,11,13497,12,13506,null,null,null,null,0,111]
[11,13619,11,13627,12,13636,null,null,null,null,0,111]
[22,13735,13,13745,14,13753,null,null,null,null,0,211]
[11,13866,11,13874,12,13885,null,null,null,null,0,111]
[11,13994,11,14002,12,14013,null,null,null,null,0,111]
[11,14127,11,14137,12,14148,null,null,null,null,0,111]
[22,14250,13,14259,14,14267,null,null,null,null,0,211]
[11,14372,11,14381,12,14390,null,null,null,null,0,111]
[22,14485,13,14499,14,14505,null,null,null,null,0,211]
[11,14612,11,14620,12,14631,null,null,null,null,0,111]
[11,14742,11,14750,12,14760,null,null,null,null,0,111]
[11,14876,11,14885,12,14894,null,null,null,null,0,111]
[22,14994,13,15002,14,15008,null,null,null,null,0,211]
[22,15113,13,15121,14,15130,null,null,null,null,0,211]
[22,15230,13,15239,14,15247,null,null,null,null,0,211]
[11,15360,11,15369,12,15381,null,null,null,null,0,111]
[22,15481,13,15489,14,15497,null,null,null,null,0,211]
[22,15595,13,15603,14,15608,null,null,null,null,0,211]
[11,15720,11,15728,12,15739,null,null,null,null,0,111]
[11,15849,11,15858,12,15869,null,null,null,null,0,111]
[11,15980,11,15988,12,15999,null,null,null,null,0,111]
[11,16116,11,16124,12,16136,null,null,null,null,0,111]
[22,16237,13,16245,14,16255,null,null,null,null,0,211]
[22,16357,24,16368,14,16376,null,null,null,null,0,221]
[11,16494,11,16502,12,16513,null,null,null,null,0,111]
[22,16616,13,16623,14,16629,null,null,null,null,0,211]
[22,16736,13,16744,14,16752,null,null,null,null,0,211]
[22,16852,13,16860,14,16865,null,null,null,null,0,211]
[11,16974,11,16983,12,16996,null,null,null,null,0,111]
[22,17096,13,17105,14,17114,null,null,null,null,0,211]
[22,17215,13,17223,14,17234,null,null,null,null,0,211]
[11,17343,11,17353,12,17364,null,null,null,null,0,111]
[11,17473,11,17482,12,17493,null,null,null,null,0,111]
[11,17604,11,17609,12,17621,null,null,null,null,0,111]
[22,17718,13,17735,14,17743,null,null,null,null,0,211]
[11,17853,11,17862,12,17873,null,null,null,null,0,111]
[11,17986,11,17994,12,18002,null,null,null,null,0,111]
[22,18099,24,18110,14,18119,null,null,null,null,0,221]
[11,18229,11,18238,12,18249,null,null,null,null,0,111]
[22,18349,13,18360,14,18367,null,null,null,null,0,211]
[11,18480,11,18489,12,18501,null,null,null,null,0,111]
[22,18602,13,18611,14,18621,null,null,null,null,0,211]
[11,18730,11,18739,12,18752,null,null,null,null,0,111]
[11,18861,11,18870,12,18881,null,null,null,null,0,111]
[22,18990,13,18998,14,19003,null,null,null,null,0,211]
[11,19117,11,19123,12,19132,null,null,null,null,0,111]
[11,19244,11,19253,12,19262,null,null,null,null,0,111]
[11,19369,11,19379,12,19391,null,null,null,null,0,111]
[11,19501,11,19507,12,19515,null,null,null,null,0,111]
[11,19642,11,19650,12,19659,null,null,null,null,0,111]
[11,19771,11,19781,12,19791,null,null,null,null,0,111]
[11,19901,11,19907,12,19918,null,null,null,null,0,111]
[22,20020,13,20029,14,20036,null,null,null,null,0,211]
[11,20150,11,20155,12,20167,null,null,null,null,0,111]
[22,20268,13,20280,14,20290,null,null,null,null,0,211]
[11,20405,11,20414,12,20426,null,null,null,null,0,111]
[22,20524,13,20537,14,20546,null,null,null,null,0,211]
[22,20649,13,20659,14,20667,null,null,null,null,0,211]
[22,20765,13,20777,14,20784,null,null,null,null,0,211]
[11,20894,11,20900,12,20911,null,null,null,null,0,111]
[11,21025,11,21033,12,21044,null,null,null,null,0,111]
[22,21164,13,21173,14,21182,null,null,null,null,0,211]
[11,21294,11,21303,12,21315,null,null,null,null,0,111]
[22,21417,13,21428,14,21439,null,null,null,null,0,211]
[11,21556,11,21561,12,21573,null,null,null,null,0,111]
[22,21677,13,21689,14,21698,null,null,null,null,0,211]
[22,21795,24,21811,14,21822,null,null,null,null,0,221]
[11,21932,11,21940,12,21952,null,null,null,null,0,111]
[11,22079,11,22086,12,22097,null,null,null,null,0,111]
[11,22207,11,22211,12,22220,null,null,null,null,0,111]
[22,22324,13,22335,14,22343,null,null,null,null,0,211]
[22,22439,24,22447,14,22472,null,null,null,null,0,221]
[11,22590,11,22596,12,22608,null,null,null,null,0,111]
[11,22720,11,22727,12,22740,null,null,null,null,0,111]
[11,22854,11,22862,12,22874,null,null,null,null,0,111]
[22,22976,13,22999,14,23008,null,null,null,null,0,211]
[22,23117,13,23126,14,23134,null,null,null,null,0,211]
[22,23237,13,23246,14,23252,null,null,null,null,0,211]
[22,23354,13,23363,14,23374,null,null,null,null,0,211]
[11,23485,11,23497,12,23509,null,null,null,null,0,111]
[22,23610,13,23619,14,23631,null,null,null,null,0,211]
[22,23749,13,23769,14,23778,null,null,null,null,0,211]
[11,23890,11,23899,12,23922,null,null,null,null,null,111]

{"sheet":"!MB07B20.095","index":20,"n_rows":197,"n_cols":48,"rows_kept":197,"cut":false,"hidden":false,"merged":[[4,39,4,42],[5,39,5,40],[4,44,4,47],[5,44,5,45],[4,24,4,27],[5,24,5,25],[4,29,4,32],[5,29,5,30],[4,34,4,37],[5,34,5,35],[1,1,1,2],[5,13,5,14],[18,13,18,14],[19,13,19,14],[4,19,4,22],[5,19,5,20]]}
["Report for:!MB07B20.095"]
["Date:","<date>"]
["Hen:","<hen>",null,null,null,"Correct Sequence",{"$f":"Start!J2","v":122},null,null,null,null,null,null,null,null,"Total Sequences in Data",{"$f":"4994-COUNTBLANK(L7:L5000)","v":191},null,null,null,null,"Total Sequences in Block Data",{"$f":"COUNTA(L7:L38)","v":32},null,null,null,"Total Sequences in Block Data",{"$f":"COUNTA(L39:L70)","v":32},null,null,null,"Total Sequences in Block Data",{"$f":"COUNTA(L71:L101)","v":31},null,null,null,"Total Sequences in Block Data",{"$f":"COUNTA(L102:L133)","v":32},null,null,null,"Total Sequences in Block Data",{"$f":"COUNTA(L134:L165)","v":32},null,null,null,"Total Sequences in Block Data",{"$f":"COUNTA(L166:L197)","v":32}]
[null,null,null,null,null,null,null,null,null,null,null,null,null,null,null,"Total Sequences in Summary",{"$f":"SUM(O7:O14)","v":190},null,null,null,null,"Total Sequences in Block Summary",{"$f":"SUM(U7:U14)","v":32},null,null,null,"Total Sequences in Block Summary",{"$f":"SUM(Z7:Z14)","v":32},null,null,null,"Total Sequences in Block Summary",{"$f":"SUM(AE7:AE14)","v":31},null,null,null,"Total Sequences in Block Summary",{"$f":"SUM(AJ7:AJ14)","v":32},null,null,null,"Total Sequences in Block Summary",{"$f":"SUM(AO7:AO14)","v":32},null,null,null,"Total Sequences in Block Summary",{"$f":"SUM(AT7:AT14)","v":31}]
[null,null,null,null,null,null,null,null,null,null,null,null,null,null,null,null,null,null,null,"Block 1",null,null,null,null,"Block 2",null,null,null,null,"Block 3",null,null,null,null,"Block 4",null,null,null,null,"Block 5",null,null,null,null,"Block 6"]
["Sequence\nComponent\n1","Time\n1","Sequence\nComponent\n2","Time\n2","Sequence\nComponent\n3","Time\n3","Sequence\nComponent\n4","Time\n4","Sequence\nComponent\n5","Time\n5","Correct?\n0=No 1=Yes","Sequence",null,"Frequency",null,"Relative Frequency","Variability",null,null,"Frequency",null,"Relative Frequency","Variability",null,"Frequency",null,"Relative Frequency","Variability",null,"Frequency",null,"Relative Frequency","Variability",null,"Frequency",null,"Relative Frequency","Variability",null,"Frequency",null,"Relative Frequency","Variability",null,"Frequency",null,"Relative Frequency","Variability"]
[11,20,11,29,12,42,null,null,null,null,0,111,null,111,{"$f":"COUNTIF($L$7:$L$500,N7)","v":82},{"$f":"O7/$Q$4","v":0.43157894736842106},{"$f":"IF(P7=0,0,(P7*((LOG(P7))/LOG(2))))","v":-0.52320471318134132},null,null,{"$f":"N7","v":111},{"$f":"COUNTIF(L7:L38,T7)","v":16},{"$f":"U7/(W4-U10)","v":0.5},{"$f":"IF(V7=0,0,(V7*((LOG(V7))/LOG(2))))","v":-0.5},null,{"$f":"N7","v":111},{"$f":"COUNTIF(L39:L70,Y7)","v":15},{"$f":"Z7/(AB4-Z10)","v":0.46875},{"$f":"IF(AA7=0,0,(AA7*((LOG(AA7))/LOG(2))))","v":-0.512395033308507},null,{"$f":"N7","v":111},{"$f":"COUNTIF(L71:L101,AD7)","v":12},{"$f":"AE7/(AG4-AE10)","v":0.38709677419354838},{"$f":"IF(AF7=0,0,(AF7*((LOG(AF7))/LOG(2))))","v":-0.5300259908383429},null,{"$f":"N7","v":111},{"$f":"COUNTIF(L102:L133,AI7)","v":14},{"$f":"AJ7/(AL4-AJ10)","v":0.4375},{"$f":"IF(AK7=0,0,(AK7*((LOG(AK7))/LOG(2))))","v":-0.52178222159979815},null,{"$f":"N7","v":111},{"$f":"COUNTIF(L134:L165,AN7)","v":12},{"$f":"AO7/(AQ4-AO10)","v":0.375},{"$f":"IF(AP7=0,0,(AP7*((LOG(AP7))/LOG(2))))","v":-0.53063906222956647},null,{"$f":"N7","v":111},{"$f":"COUNTIF(L166:L197,AS7)","v":13},{"$f":"AT7/(AV4-AT10)","v":0.41935483870967744},{"$f":"IF(AU7=0,0,(AU7*((LOG(AU7))/LOG(2))))","v":-0.52576889352242517}]
[22,147,13,155,14,164,null,null,null,null,0,211,null,112,{"$f":"COUNTIF($L$7:$L$500,N8)","v":0},{"$f":"O8/$Q$4","v":0},{"$f":"IF(P8=0,0,(P8*((LOG(P8))/LOG(2))))","v":0},null,null,{"$f":"N8","v":112},{"$f":"COUNTIF(L7:L38,T8)","v":0},{"$f":"U8/(W4-U10)","v":0},{"$f":"IF(V8=0,0,(V8*((LOG(V8))/LOG(2))))","v":0},null,{"$f":"N8","v":112},{"$f":"COUNTIF(L39:L70,Y8)","v":0},{"$f":"Z8/(AB4-Z10)","v":0},{"$f":"IF(AA8=0,0,(AA8*((LOG(AA8))/LOG(2))))","v":0},null,{"$f":"N8","v":112},{"$f":"COUNTIF(L71:L101,AD8)","v":0},{"$f":"AE8/(AG4-AE10)","v":0},{"$f":"IF(AF8=0,0,(AF8*((LOG(AF8))/LOG(2))))","v":0},null,{"$f":"N8","v":112},{"$f":"COUNTIF(L102:L133,AI8)","v":0},{"$f":"AJ8/(AL4-AJ10)","v":0},{"$f":"IF(AK8=0,0,(AK8*((LOG(AK8))/LOG(2))))","v":0},null,{"$f":"N8","v":112},{"$f":"COUNTIF(L134:L165,AN8)","v":0},{"$f":"AO8/(AQ4-AO10)","v":0},{"$f":"IF(AP8=0,0,(AP8*((LOG(AP8))/LOG(2))))","v":0},null,{"$f":"N8","v":112},{"$f":"COUNTIF(L166:L197,AS8)","v":0},{"$f":"AT8/(AV4-AT10)","v":0},{"$f":"IF(AU8=0,0,(AU8*((LOG(AU8))/LOG(2))))","v":0}]
[22,268,13,279,14,288,null,null,null,null,0,211,null,121,{"$f":"COUNTIF($L$7:$L$500,N9)","v":0},{"$f":"O9/$Q$4","v":0},{"$f":"IF(P9=0,0,(P9*((LOG(P9))/LOG(2))))","v":0},null,null,{"$f":"N9","v":121},{"$f":"COUNTIF(L7:L38,T9)","v":0},{"$f":"U9/(W4-U10)","v":0},{"$f":"IF(V9=0,0,(V9*((LOG(V9))/LOG(2))))","v":0},null,{"$f":"N9","v":121},{"$f":"COUNTIF(L39:L70,Y9)","v":0},{"$f":"Z9/(AB4-Z10)","v":0},{"$f":"IF(AA9=0,0,(AA9*((LOG(AA9))/LOG(2))))","v":0},null,{"$f":"N9","v":121},{"$f":"COUNTIF(L71:L101,AD9)","v":0},{"$f":"AE9/(AG4-AE10)","v":0},{"$f":"IF(AF9=0,0,(AF9*((LOG(AF9))/LOG(2))))","v":0},null,{"$f":"N9","v":121},{"$f":"COUNTIF(L102:L133,AI9)","v":0},{"$f":"AJ9/(AL4-AJ10)","v":0},{"$f":"IF(AK9=0,0,(AK9*((LOG(AK9))/LOG(2))))","v":0},null,{"$f":"N9","v":121},{"$f":"COUNTIF(L134:L165,AN9)","v":0},{"$f":"AO9/(AQ4-AO10)","v":0},{"$f":"IF(AP9=0,0,(AP9*((LOG(AP9))/LOG(2))))","v":0},null,{"$f":"N9","v":121},{"$f":"COUNTIF(L166:L197,AS9)","v":0},{"$f":"AT9/(AV4-AT10)","v":0},{"$f":"IF(AU9=0,0,(AU9*((LOG(AU9))/LOG(2))))","v":0}]
[22,392,13,401,14,411,null,null,null,null,0,211,null,122,{"$f":"COUNTIF($L$7:$L$500,N10)","v":0},{"$f":"O10/$Q$4","v":0},{"$f":"IF(P10=0,0,(P10*((LOG(P10))/LOG(2))))","v":0},null,null,{"$f":"N10","v":122},{"$f":"COUNTIF(L7:L38,T10)","v":0},null,null,null,{"$f":"N10","v":122},{"$f":"COUNTIF(L39:L70,Y10)","v":0},null,null,null,{"$f":"N10","v":122},{"$f":"COUNTIF(L71:L101,AD10)","v":0},null,null,null,{"$f":"N10","v":122},{"$f":"COUNTIF(L102:L133,AI10)","v":0},null,null,null,{"$f":"N10","v":122},{"$f":"COUNTIF(L134:L165,AN10)","v":0},null,null,null,{"$f":"N10","v":122},{"$f":"COUNTIF(L166:L197,AS10)","v":0}]
[22,524,13,535,14,546,null,null,null,null,0,211,null,211,{"$f":"COUNTIF($L$7:$L$500,N11)","v":107},{"$f":"O11/$Q$4","v":0.56315789473684208},{"$f":"IF(P11=0,0,(P11*((LOG(P11))/LOG(2))))","v":-0.4665135923499405},null,null,{"$f":"N11","v":211},{"$f":"COUNTIF(L7:L38,T11)","v":16},{"$f":"U11/(W4-U10)","v":0.5},{"$f":"IF(V11=0,0,(V11*((LOG(V11))/LOG(2))))","v":-0.5},null,{"$f":"N11","v":211},{"$f":"COUNTIF(L39:L70,Y11)","v":17},{"$f":"Z11/(AB4-Z10)","v":0.53125},{"$f":"IF(AA11=0,0,(AA11*((LOG(AA11))/LOG(2))))","v":-0.48478536558575719},null,{"$f":"N11","v":211},{"$f":"COUNTIF(L71:L101,AD11)","v":18},{"$f":"AE11/(AG4-AE10)","v":0.58064516129032262},{"$f":"IF(AF11=0,0,(AF11*((LOG(AF11))/LOG(2))))","v":-0.45538334067748809},null,{"$f":"N11","v":211},{"$f":"COUNTIF(L102:L133,AI11)","v":18},{"$f":"AJ11/(AL4-AJ10)","v":0.5625},{"$f":"IF(AK11=0,0,(AK11*((LOG(AK11))/LOG(2))))","v":-0.4669171866886993},null,{"$f":"N11","v":211},{"$f":"COUNTIF(L134:L165,AN11)","v":20},{"$f":"AO11/(AQ4-AO10)","v":0.625},{"$f":"IF(AP11=0,0,(AP11*((LOG(AP11))/LOG(2))))","v":-0.42379494069539858},null,{"$f":"N11","v":211},{"$f":"COUNTIF(L166:L197,AS11)","v":18},{"$f":"AT11/(AV4-AT10)","v":0.58064516129032262},{"$f":"IF(AU11=0,0,(AU11*((LOG(AU11))/LOG(2))))","v":-0.45538334067748809}]
[22,651,13,659,14,668,null,null,null,null,0,211,null,212,{"$f":"COUNTIF($L$7:$L$500,N12)","v":0},{"$f":"O12/$Q$4","v":0},{"$f":"IF(P12=0,0,(P12*((LOG(P12))/LOG(2))))","v":0},null,null,{"$f":"N12","v":212},{"$f":"COUNTIF(L7:L38,T12)","v":0},{"$f":"U12/(W4-U10)","v":0},{"$f":"IF(V12=0,0,(V12*((LOG(V12))/LOG(2))))","v":0},null,{"$f":"N12","v":212},{"$f":"COUNTIF(L39:L70,Y12)","v":0},{"$f":"Z12/(AB4-Z10)","v":0},{"$f":"IF(AA12=0,0,(AA12*((LOG(AA12))/LOG(2))))","v":0},null,{"$f":"N12","v":212},{"$f":"COUNTIF(L71:L101,AD12)","v":0},{"$f":"AE12/(AG4-AE10)","v":0},{"$f":"IF(AF12=0,0,(AF12*((LOG(AF12))/LOG(2))))","v":0},null,{"$f":"N12","v":212},{"$f":"COUNTIF(L102:L133,AI12)","v":0},{"$f":"AJ12/(AL4-AJ10)","v":0},{"$f":"IF(AK12=0,0,(AK12*((LOG(AK12))/LOG(2))))","v":0},null,{"$f":"N12","v":212},{"$f":"COUNTIF(L134:L165,AN12)","v":0},{"$f":"AO12/(AQ4-AO10)","v":0},{"$f":"IF(AP12=0,0,(AP12*((LOG(AP12))/LOG(2))))","v":0},null,{"$f":"N12","v":212},{"$f":"COUNTIF(L166:L197,AS12)","v":0},{"$f":"AT12/(AV4-AT10)","v":0},{"$f":"IF(AU12=0,0,(AU12*((LOG(AU12))/LOG(2))))","v":0}]
[22,781,13,789,14,799,null,null,null,null,0,211,null,221,{"$f":"COUNTIF($L$7:$L$500,N13)","v":1},{"$f":"O13/$Q$4","v":5.263157894736842E-3},{"$f":"IF(P13=0,0,(P13*((LOG(P13))/LOG(2))))","v":-3.9841345307004991E-2},null,null,{"$f":"N13","v":221},{"$f":"COUNTIF(L7:L38,T13)","v":0},{"$f":"U13/(W4-U10)","v":0},{"$f":"IF(V13=0,0,(V13*((LOG(V13))/LOG(2))))","v":0},null,{"$f":"N13","v":221},{"$f":"COUNTIF(L39:L70,Y13)","v":0},{"$f":"Z13/(AB4-Z10)","v":0},{"$f":"IF(AA13=0,0,(AA13*((LOG(AA13))/LOG(2))))","v":0},null,{"$f":"N13","v":221},{"$f":"COUNTIF(L71:L101,AD13)","v":1},{"$f":"AE13/(AG4-AE10)","v":3.2258064516129031E-2},{"$f":"IF(AF13=0,0,(AF13*((LOG(AF13))/LOG(2))))","v":-0.15981278420602821},null,{"$f":"N13","v":221},{"$f":"COUNTIF(L102:L133,AI13)","v":0},{"$f":"AJ13/(AL4-AJ10)","v":0},{"$f":"IF(AK13=0,0,(AK13*((LOG(AK13))/LOG(2))))","v":0},null,{"$f":"N13","v":221},{"$f":"COUNTIF(L134:L165,AN13)","v":0},{"$f":"AO13/(AQ4-AO10)","v":0},{"$f":"IF(AP13=0,0,(AP13*((LOG(AP13))/LOG(2))))","v":0},null,{"$f":"N13","v":221},{"$f":"COUNTIF(L166:L197,AS13)","v":0},{"$f":"AT13/(AV4-AT10)","v":0},{"$f":"IF(AU13=0,0,(AU13*((LOG(AU13))/LOG(2))))","v":0}]
[11,913,11,923,12,932,null,null,null,null,0,111,null,222,{"$f":"COUNTIF($L$7:$L$500,N14)","v":0},{"$f":"O14/$Q$4","v":0},{"$f":"IF(P14=0,0,(P14*((LOG(P14))/LOG(2))))","v":0},null,null,{"$f":"N14","v":222},{"$f":"COUNTIF(L7:L38,T14)","v":0},{"$f":"U14/(W4-U10)","v":0},{"$f":"IF(V14=0,0,(V14*((LOG(V14))/LOG(2))))","v":0},null,{"$f":"N14","v":222},{"$f":"COUNTIF(L39:L70,Y14)","v":0},{"$f":"Z14/(AB4-Z10)","v":0},{"$f":"IF(AA14=0,0,(AA14*((LOG(AA14))/LOG(2))))","v":0},null,{"$f":"N14","v":222},{"$f":"COUNTIF(L71:L101,AD14)","v":0},{"$f":"AE14/(AG4-AE10)","v":0},{"$f":"IF(AF14=0,0,(AF14*((LOG(AF14))/LOG(2))))","v":0},null,{"$f":"N14","v":222},{"$f":"COUNTIF(L102:L133,AI14)","v":0},{"$f":"AJ14/(AL4-AJ10)","v":0},{"$f":"IF(AK14=0,0,(AK14*((LOG(AK14))/LOG(2))))","v":0},null,{"$f":"N14","v":222},{"$f":"COUNTIF(L134:L165,AN14)","v":0},{"$f":"AO14/(AQ4-AO10)","v":0},{"$f":"IF(AP14=0,0,(AP14*((LOG(AP14))/LOG(2))))","v":0},null,{"$f":"N14","v":222},{"$f":"COUNTIF(L166:L197,AS14)","v":0},{"$f":"AT14/(AV4-AT10)","v":0},{"$f":"IF(AU14=0,0,(AU14*((LOG(AU14))/LOG(2))))","v":0}]
[22,1037,13,1046,14,1054,null,null,null,null,0,211,null,null,null,{"$f":"SUM(P7:P14)","v":1},{"$f":"-SUM(Q7:Q14)","v":1.0295596508382867},null,null,null,null,{"$f":"SUM(V7:V14)","v":1},{"$f":"-SUM(W7:W14)","v":1},null,null,null,{"$f":"SUM(AA7:AA14)","v":1},{"$f":"-SUM(AB7:AB14)","v":0.99718039889426424},null,null,null,{"$f":"SUM(AF7:AF14)","v":1},{"$f":"-SUM(AG7:AG14)","v":1.1452221157218592},null,null,null,{"$f":"SUM(AK7:AK14)","v":1},{"$f":"-SUM(AL7:AL14)","v":0.98869940828849745},null,null,null,{"$f":"SUM(AP7:AP14)","v":1},{"$f":"-SUM(AQ7:AQ14)","v":0.95443400292496505},null,null,null,{"$f":"SUM(AU7:AU14)","v":1},{"$f":"-SUM(AV7:AV14)","v":0.98115223419991326}]
[11,1167,11,1176,12,1188,null,null,null,null,0,111,null,null,null,"U=",{"$f":"Q15/(LOG(Q4)/LOG(2))","v":0.13600783213159476},null,null,null,null,"U1=",{"$f":"W15/(LOG(W4)/LOG(2))","v":0.2},null,null,null,"U2=",{"$f":"AB15/(LOG(AB4)/LOG(2))","v":0.19943607977885286},null,null,null,"U3=",{"$f":"AG15/(LOG(AG4)/LOG(2))","v":0.23116203799207713},null,null,null,"U4=",{"$f":"AL15/(LOG(AL4)/LOG(2))","v":0.19773988165769948},null,null,null,"U5=",{"$f":"AQ15/(LOG(AQ4)/LOG(2))","v":0.19088680058499302},null,null,null,"U6=",{"$f":"AV15/(LOG(AV4)/LOG(2))","v":0.198044682271239}]
[11,1300,11,1307,12,1317,null,null,null,null,0,111]
[22,1415,13,1424,14,1432,null,null,null,null,0,211]
[11,1543,11,1551,12,1560,null,null,null,null,0,111,null,"Total Target Seq"]
[11,1671,11,1681,12,1692,null,null,null,null,0,111,null,{"$f":"COUNTIF(L7:L197,G3)","v":0},null,32,32,31,32,32,32]
[11,1801,11,1810,12,1820,null,null,null,null,0,111,null,null,null,"% of reinforcement given in 6 equal intervals based on number of trials "]
[11,1936,11,1942,12,1952,null,null,null,null,0,111,null,null,null,"%_1","%_2","%_3","%_4","%_5","%_6"]
[22,2053,13,2065,14,2074,null,null,null,null,0,211,null,null,"target sequence",{"$f":"$G$3","v":122},{"$f":"$G$3","v":122},{"$f":"$G$3","v":122},{"$f":"$G$3","v":122},{"$f":"$G$3","v":122},{"$f":"$G$3","v":122}]
[11,2176,11,2186,12,2198,null,null,null,null,0,111,null,null,"total reinforcement",{"$f":"U10","v":0},{"$f":"Z10","v":0},{"$f":"AE10","v":0},{"$f":"AJ10","v":0},{"$f":"AO10","v":0},{"$f":"AT10","v":0}]
[11,2309,11,2314,12,2324,null,null,null,null,0,111,null,null,"% target"]
[22,2428,13,2439,14,2447,null,null,null,null,0,211,null,null,"CCRF"]
[11,2555,11,2565,12,2577,null,null,null,null,0,111,null,null,"% CCRf"]
[11,2687,11,2696,12,2705,null,null,null,null,0,111,null,null,"average response rate",{"$f":"F38/P20","v":124.0625},{"$f":"(F70-F38)/Q20","v":124.28125},{"$f":"(F101-F70)/R20","v":125.29032258064517},{"$f":"(F133-F101)/S20","v":127.4375},{"$f":"(F165-F133)/T20","v":126.5},{"$f":"(F197-F165)/U20","v":-623.65625}]
[11,2818,11,2826,12,2835,null,null,null,null,0,111]
[11,2953,11,2962,12,2973,null,null,null,null,0,111]
[22,3075,13,3084,14,3093,null,null,null,null,0,211]
[22,3200,13,3209,14,3215,null,null,null,null,0,211]
[11,3332,11,3341,12,3352,null,null,null,null,0,111]
[11,3464,11,3472,12,3484,null,null,null,null,0,111]
[22,3587,13,3599,14,3610,null,null,null,null,0,211]
[22,3711,13,3720,14,3725,null,null,null,null,0,211]
[22,3821,13,3833,14,3848,null,null,null,null,0,211]
[22,3952,13,3961,14,3970,null,null,null,null,0,211]
[22,4071,13,4082,14,4090,null,null,null,null,0,211]
[11,4197,11,4205,12,4217,null,null,null,null,0,111]
[11,4329,11,4340,12,4352,null,null,null,null,0,111]
[11,4469,11,4477,12,4488,null,null,null,null,0,111]
[11,4595,11,4605,12,4617,null,null,null,null,0,111]
[22,4717,13,4725,14,4732,null,null,null,null,0,211]
[11,4846,11,4854,12,4863,null,null,null,null,0,111]
[11,4982,11,4986,12,4994,null,null,null,null,0,111]
[22,5096,13,5104,14,5109,null,null,null,null,0,211]
[11,5222,11,5231,12,5246,null,null,null,null,0,111]
[22,5350,13,5358,14,5365,null,null,null,null,0,211]
[22,5464,13,5476,14,5485,null,null,null,null,0,211]
[22,5585,13,5598,14,5607,null,null,null,null,0,211]
[22,5705,13,5716,14,5724,null,null,null,null,0,211]
[11,5836,11,5842,12,5854,null,null,null,null,0,111]
[11,5961,11,5967,12,5976,null,null,null,null,0,111]
[22,6079,13,6090,14,6098,null,null,null,null,0,211]
[22,6202,13,6212,14,6217,null,null,null,null,0,211]
[22,6319,13,6327,14,6333,null,null,null,null,0,211]
[22,6438,13,6446,14,6457,null,null,null,null,0,211]
[11,6570,11,6577,12,6590,null,null,null,null,0,111]
[22,6689,13,6697,14,6703,null,null,null,null,0,211]
[22,6802,13,6813,14,6823,null,null,null,null,0,211]
[11,6936,11,6945,12,6956,null,null,null,null,0,111]
[11,7074,11,7081,12,7092,null,null,null,null,0,111]
[22,7189,13,7198,14,7206,null,null,null,null,0,211]
[22,7305,13,7316,14,7325,null,null,null,null,0,211]
[11,7432,11,7441,12,7449,null,null,null,null,0,111]
[22,7552,13,7560,14,7569,null,null,null,null,0,211]
[11,7680,11,7690,12,7703,null,null,null,null,0,111]
[22,7807,13,7818,14,7828,null,null,null,null,0,211]
[11,7933,11,7938,12,7947,null,null,null,null,0,111]
[22,8053,13,8061,14,8069,null,null,null,null,0,211]
[22,8167,24,8174,14,8185,null,null,null,null,0,221]
[22,8286,13,8296,14,8305,null,null,null,null,0,211]
[22,8406,13,8414,14,8423,null,null,null,null,0,211]
[11,8533,11,8538,12,8551,null,null,null,null,0,111]
[22,8652,13,8664,14,8674,null,null,null,null,0,211]
[11,8785,11,8791,12,8801,null,null,null,null,0,111]
[22,8904,13,8912,14,8917,null,null,null,null,0,211]
[22,9023,13,9033,14,9043,null,null,null,null,0,211]
[11,9159,11,9170,12,9183,null,null,null,null,0,111]
[11,9289,11,9297,12,9305,null,null,null,null,0,111]
[22,9408,13,9419,14,9428,null,null,null,null,0,211]
[22,9533,13,9542,14,9551,null,null,null,null,0,211]
[22,9651,13,9659,14,9667,null,null,null,null,0,211]
[11,9784,11,9793,12,9806,null,null,null,null,0,111]
[22,9906,13,9915,14,9922,null,null,null,null,0,211]
[11,10037,11,10045,12,10057,null,null,null,null,0,111]
[22,10157,13,10165,14,10175,null,null,null,null,0,211]
[11,10284,11,10295,12,10304,null,null,null,null,0,111]
[22,10408,13,10417,14,10426,null,null,null,null,0,211]
[11,10538,11,10546,12,10558,null,null,null,null,0,111]
[22,10655,13,10662,14,10670,null,null,null,null,0,211]
[11,10782,11,10791,12,10803,null,null,null,null,0,111]
[22,10902,13,10917,14,10926,null,null,null,null,0,211]
[11,11037,11,11046,12,11058,null,null,null,null,0,111]
[11,11170,11,11178,12,11187,null,null,null,null,0,111]
[22,11289,13,11297,14,11306,null,null,null,null,0,211]
[11,11422,11,11432,12,11445,null,null,null,null,0,111]
[22,11552,13,11560,14,11565,null,null,null,null,0,211]
[22,11671,13,11681,14,11690,null,null,null,null,0,211]
[22,11811,13,11819,14,11831,null,null,null,null,0,211]
[11,11942,11,11948,12,11957,null,null,null,null,0,111]
[22,12058,13,12069,14,12075,null,null,null,null,0,211]
[11,12184,11,12198,12,12212,null,null,null,null,0,111]
[22,12314,13,12324,14,12333,null,null,null,null,0,211]
[11,12449,11,12459,12,12470,null,null,null,null,0,111]
[22,12576,13,12585,14,12602,null,null,null,null,0,211]
[11,12711,11,12716,12,12728,null,null,null,null,0,111]
[22,12825,13,12833,14,12838,null,null,null,null,0,211]
[22,12940,13,12951,14,12959,null,null,null,null,0,211]
[22,13063,13,13071,14,13076,null,null,null,null,0,211]
[11,13187,11,13197,12,13210,null,null,null,null,0,111]
[11,13327,11,13333,12,13346,null,null,null,null,0,111]
[22,13453,13,13464,14,13473,null,null,null,null,0,211]
[22,13579,13,13587,14,13597,null,null,null,null,0,211]
[11,13712,11,13723,12,13733,null,null,null,null,0,111]
[11,13839,11,13844,12,13853,null,null,null,null,0,111]
[11,13966,11,13976,12,13988,null,null,null,null,0,111]
[11,14101,11,14111,12,14121,null,null,null,null,0,111]
[11,14234,11,14240,12,14249,null,null,null,null,0,111]
[22,14353,13,14364,14,14370,null,null,null,null,0,211]
[22,14475,13,14483,14,14493,null,null,null,null,0,211]
[11,14643,11,14655,12,14666,null,null,null,null,0,111]
[11,14777,11,14787,12,14802,null,null,null,null,0,111]
[11,14925,11,14936,12,14949,null,null,null,null,0,111]
[22,15054,13,15065,14,15072,null,null,null,null,0,211]
[22,15177,13,15185,14,15194,null,null,null,null,0,211]
[22,15289,13,15302,14,15312,null,null,null,null,0,211]
[22,15413,13,15423,14,15429,null,null,null,null,0,211]
[22,15524,13,15537,14,15545,null,null,null,null,0,211]
[22,15650,13,15661,14,15669,null,null,null,null,0,211]
[22,15770,13,15782,14,15791,null,null,null,null,0,211]
[22,15891,13,15899,14,15909,null,null,null,null,0,211]
[22,16010,13,16020,14,16029,null,null,null,null,0,211]
[22,16132,13,16142,14,16148,null,null,null,null,0,211]
[22,16248,13,16256,14,16262,null,null,null,null,0,211]
[11,16381,11,16393,12,16405,null,null,null,null,0,111]
[22,16502,13,16514,14,16522,null,null,null,null,0,211]
[11,16633,11,16642,12,16653,null,null,null,null,0,111]
[11,16770,11,16780,12,16789,null,null,null,null,0,111]
[11,16904,11,16914,12,16926,null,null,null,null,0,111]
[22,17024,13,17035,14,17043,null,null,null,null,0,211]
[22,17143,13,17153,14,17159,null,null,null,null,0,211]
[22,17270,13,17281,14,17290,null,null,null,null,0,211]
[11,17405,11,17413,12,17425,null,null,null,null,0,111]
[11,17540,11,17548,12,17556,null,null,null,null,0,111]
[22,17657,13,17667,14,17672,null,null,null,null,0,211]
[11,17783,11,17793,12,17804,null,null,null,null,0,111]
[22,17913,13,17924,14,17929,null,null,null,null,0,211]
[11,18042,11,18048,12,18061,null,null,null,null,0,111]
[22,18159,13,18170,14,18176,null,null,null,null,0,211]
[22,18278,13,18288,14,18299,null,null,null,null,0,211]
[22,18401,13,18412,14,18418,null,null,null,null,0,211]
[11,18526,11,18531,12,18541,null,null,null,null,0,111]
[22,18656,13,18665,14,18673,null,null,null,null,0,211]
[22,18772,13,18790,14,18801,null,null,null,null,0,211]
[22,18900,13,18911,14,18921,null,null,null,null,0,211]
[22,19021,13,19032,14,19043,null,null,null,null,0,211]
[22,19152,13,19160,14,19166,null,null,null,null,0,211]
[22,19284,13,19292,14,19300,null,null,null,null,0,211]
[22,19408,13,19418,14,19429,null,null,null,null,0,211]
[11,19544,11,19550,12,19561,null,null,null,null,0,111]
[11,19674,11,19679,12,19691,null,null,null,null,0,111]
[11,19808,11,19814,12,19827,null,null,null,null,0,111]
[22,19934,13,19946,14,19957,null,null,null,null,0,211]
[22,20058,13,20067,14,20073,null,null,null,null,0,211]
[22,20184,13,20193,14,20202,null,null,null,null,0,211]
[22,20305,13,20316,14,20321,null,null,null,null,0,211]
[22,20421,13,20431,14,20437,null,null,null,null,0,211]
[22,20542,13,20556,14,20562,null,null,null,null,0,211]
[22,20668,13,20680,14,20689,null,null,null,null,0,211]
[11,20811,11,20819,12,20831,null,null,null,null,0,111]
[22,20934,13,20945,14,20957,null,null,null,null,0,211]
[22,21066,13,21075,14,21081,null,null,null,null,0,211]
[22,21180,13,21188,14,21194,null,null,null,null,0,211]
[11,21300,11,21308,12,21318,null,null,null,null,0,111]
[11,21426,11,21435,12,21446,null,null,null,null,0,111]
[11,21559,11,21569,12,21578,null,null,null,null,0,111]
[11,21696,11,21704,12,21714,null,null,null,null,0,111]
[22,21814,13,21824,14,21833,null,null,null,null,0,211]
[22,21935,13,21949,14,21958,null,null,null,null,0,211]
[11,22074,11,22080,12,22090,null,null,null,null,0,111]
[22,22189,13,22197,14,22202,null,null,null,null,0,211]
[22,22301,13,22309,14,22317,null,null,null,null,0,211]
[11,22428,11,22434,12,22444,null,null,null,null,0,111]
[22,22548,13,22557,14,22566,null,null,null,null,0,211]
[11,22680,11,22686,12,22698,null,null,null,null,0,111]
[11,22814,11,22824,12,22834,null,null,null,null,0,111]
[11,22950,11,22961,12,22973,null,null,null,null,0,111]
[22,23075,13,23084,14,23089,null,null,null,null,0,211]
[22,23191,13,23203,14,23210,null,null,null,null,0,211]
[11,23324,11,23333,12,23344,null,null,null,null,0,111]
[11,23459,11,23466,12,23476,null,null,null,null,0,111]
[22,23596,13,23605,14,23613,null,null,null,null,0,211]
[11,23727,11,23737,12,23748,null,null,null,null,0,111]
[22,23855,13,23866,14,23871,null,null,null,null,0,211]
[11,23991,11,23997,null,null,null,null,null,null,null,11]

{"sheet":"!MB09B30.095","index":21,"n_rows":192,"n_cols":48,"rows_kept":192,"cut":false,"hidden":false,"merged":[[4,39,4,42],[5,39,5,40],[4,44,4,47],[5,44,5,45],[4,24,4,27],[5,24,5,25],[4,29,4,32],[5,29,5,30],[4,34,4,37],[5,34,5,35],[1,1,1,2],[5,13,5,14],[18,13,18,14],[19,13,19,14],[4,19,4,22],[5,19,5,20]]}
["Report for:!MB09B30.095"]
["Date:","<date>"]
["Hen:","<hen>",null,null,null,"Correct Sequence",{"$f":"Start!J2","v":122},null,null,null,null,null,null,null,null,"Total Sequences in Data",{"$f":"4994-COUNTBLANK(L7:L5000)","v":186},null,null,null,null,"Total Sequences in Block Data",{"$f":"COUNTA(L7:L37)","v":31},null,null,null,"Total Sequences in Block Data",{"$f":"COUNTA(L38:L68)","v":31},null,null,null,"Total Sequences in Block Data",{"$f":"COUNTA(L69:L99)","v":31},null,null,null,"Total Sequences in Block Data",{"$f":"COUNTA(L100:L130)","v":31},null,null,null,"Total Sequences in Block Data",{"$f":"COUNTA(L131:L161)","v":31},null,null,null,"Total Sequences in Block Data",{"$f":"COUNTA(L162:L192)","v":31}]
[null,null,null,null,null,null,null,null,null,null,null,null,null,null,null,"Total Sequences in Summary",{"$f":"SUM(O7:O14)","v":186},null,null,null,null,"Total Sequences in Block Summary",{"$f":"SUM(U7:U14)","v":31},null,null,null,"Total Sequences in Block Summary",{"$f":"SUM(Z7:Z14)","v":31},null,null,null,"Total Sequences in Block Summary",{"$f":"SUM(AE7:AE14)","v":31},null,null,null,"Total Sequences in Block Summary",{"$f":"SUM(AJ7:AJ14)","v":31},null,null,null,"Total Sequences in Block Summary",{"$f":"SUM(AO7:AO14)","v":31},null,null,null,"Total Sequences in Block Summary",{"$f":"SUM(AT7:AT14)","v":31}]
[null,null,null,null,null,null,null,null,null,null,null,null,null,null,null,null,null,null,null,"Block 1",null,null,null,null,"Block 2",null,null,null,null,"Block 3",null,null,null,null,"Block 4",null,null,null,null,"Block 5",null,null,null,null,"Block 6"]
["Sequence\nComponent\n1","Time\n1","Sequence\nComponent\n2","Time\n2","Sequence\nComponent\n3","Time\n3","Sequence\nComponent\n4","Time\n4","Sequence\nComponent\n5","Time\n5","Correct?\n0=No 1=Yes","Sequence",null,"Frequency",null,"Relative Frequency","Variability",null,null,"Frequency",null,"Relative Frequency","Variability",null,"Frequency",null,"Relative Frequency","Variability",null,"Frequency",null,"Relative Frequency","Variability",null,"Frequency",null,"Relative Frequency","Variability",null,"Frequency",null,"Relative Frequency","Variability",null,"Frequency",null,"Relative Frequency","Variability"]
[22,11,13,33,14,44,null,null,null,null,0,211,null,111,{"$f":"COUNTIF($L$7:$L$500,N7)","v":74},{"$f":"O7/$Q$4","v":0.39784946236559138},{"$f":"IF(P7=0,0,(P7*((LOG(P7))/LOG(2))))","v":-0.52902259658845185},null,null,{"$f":"N7","v":111},{"$f":"COUNTIF(L7:L37,T7)","v":8},{"$f":"U7/(W4-U10)","v":0.25806451612903225},{"$f":"IF(V7=0,0,(V7*((LOG(V7))/LOG(2))))","v":-0.50430872526112902},null,{"$f":"N7","v":111},{"$f":"COUNTIF(L38:L68,Y7)","v":12},{"$f":"Z7/(AB4-Z10)","v":0.38709677419354838},{"$f":"IF(AA7=0,0,(AA7*((LOG(AA7))/LOG(2))))","v":-0.5300259908383429},null,{"$f":"N7","v":111},{"$f":"COUNTIF(L69:L99,AD7)","v":12},{"$f":"AE7/(AG4-AE10)","v":0.38709677419354838},{"$f":"IF(AF7=0,0,(AF7*((LOG(AF7))/LOG(2))))","v":-0.5300259908383429},null,{"$f":"N7","v":111},{"$f":"COUNTIF(L100:L130,AI7)","v":14},{"$f":"AJ7/(AL4-AJ10)","v":0.45161290322580644},{"$f":"IF(AK7=0,0,(AK7*((LOG(AK7))/LOG(2))))","v":-0.51792836892289662},null,{"$f":"N7","v":111},{"$f":"COUNTIF(L131:L161,AN7)","v":13},{"$f":"AO7/(AQ4-AO10)","v":0.41935483870967744},{"$f":"IF(AP7=0,0,(AP7*((LOG(AP7))/LOG(2))))","v":-0.52576889352242517},null,{"$f":"N7","v":111},{"$f":"COUNTIF(L162:L192,AS7)","v":15},{"$f":"AT7/(AV4-AT10)","v":0.4838709677419355},{"$f":"IF(AU7=0,0,(AU7*((LOG(AU7))/LOG(2))))","v":-0.50676082973146286}]
[22,149,13,161,14,169,null,null,null,null,0,211,null,112,{"$f":"COUNTIF($L$7:$L$500,N8)","v":0},{"$f":"O8/$Q$4","v":0},{"$f":"IF(P8=0,0,(P8*((LOG(P8))/LOG(2))))","v":0},null,null,{"$f":"N8","v":112},{"$f":"COUNTIF(L7:L37,T8)","v":0},{"$f":"U8/(W4-U10)","v":0},{"$f":"IF(V8=0,0,(V8*((LOG(V8))/LOG(2))))","v":0},null,{"$f":"N8","v":112},{"$f":"COUNTIF(L38:L68,Y8)","v":0},{"$f":"Z8/(AB4-Z10)","v":0},{"$f":"IF(AA8=0,0,(AA8*((LOG(AA8))/LOG(2))))","v":0},null,{"$f":"N8","v":112},{"$f":"COUNTIF(L69:L99,AD8)","v":0},{"$f":"AE8/(AG4-AE10)","v":0},{"$f":"IF(AF8=0,0,(AF8*((LOG(AF8))/LOG(2))))","v":0},null,{"$f":"N8","v":112},{"$f":"COUNTIF(L100:L130,AI8)","v":0},{"$f":"AJ8/(AL4-AJ10)","v":0},{"$f":"IF(AK8=0,0,(AK8*((LOG(AK8))/LOG(2))))","v":0},null,{"$f":"N8","v":112},{"$f":"COUNTIF(L131:L161,AN8)","v":0},{"$f":"AO8/(AQ4-AO10)","v":0},{"$f":"IF(AP8=0,0,(AP8*((LOG(AP8))/LOG(2))))","v":0},null,{"$f":"N8","v":112},{"$f":"COUNTIF(L162:L192,AS8)","v":0},{"$f":"AT8/(AV4-AT10)","v":0},{"$f":"IF(AU8=0,0,(AU8*((LOG(AU8))/LOG(2))))","v":0}]
[22,281,13,291,14,299,null,null,null,null,0,211,null,121,{"$f":"COUNTIF($L$7:$L$500,N9)","v":0},{"$f":"O9/$Q$4","v":0},{"$f":"IF(P9=0,0,(P9*((LOG(P9))/LOG(2))))","v":0},null,null,{"$f":"N9","v":121},{"$f":"COUNTIF(L7:L37,T9)","v":0},{"$f":"U9/(W4-U10)","v":0},{"$f":"IF(V9=0,0,(V9*((LOG(V9))/LOG(2))))","v":0},null,{"$f":"N9","v":121},{"$f":"COUNTIF(L38:L68,Y9)","v":0},{"$f":"Z9/(AB4-Z10)","v":0},{"$f":"IF(AA9=0,0,(AA9*((LOG(AA9))/LOG(2))))","v":0},null,{"$f":"N9","v":121},{"$f":"COUNTIF(L69:L99,AD9)","v":0},{"$f":"AE9/(AG4-AE10)","v":0},{"$f":"IF(AF9=0,0,(AF9*((LOG(AF9))/LOG(2))))","v":0},null,{"$f":"N9","v":121},{"$f":"COUNTIF(L100:L130,AI9)","v":0},{"$f":"AJ9/(AL4-AJ10)","v":0},{"$f":"IF(AK9=0,0,(AK9*((LOG(AK9))/LOG(2))))","v":0},null,{"$f":"N9","v":121},{"$f":"COUNTIF(L131:L161,AN9)","v":0},{"$f":"AO9/(AQ4-AO10)","v":0},{"$f":"IF(AP9=0,0,(AP9*((LOG(AP9))/LOG(2))))","v":0},null,{"$f":"N9","v":121},{"$f":"COUNTIF(L162:L192,AS9)","v":0},{"$f":"AT9/(AV4-AT10)","v":0},{"$f":"IF(AU9=0,0,(AU9*((LOG(AU9))/LOG(2))))","v":0}]
[22,402,13,415,14,428,null,null,null,null,0,211,null,122,{"$f":"COUNTIF($L$7:$L$500,N10)","v":0},{"$f":"O10/$Q$4","v":0},{"$f":"IF(P10=0,0,(P10*((LOG(P10))/LOG(2))))","v":0},null,null,{"$f":"N10","v":122},{"$f":"COUNTIF(L7:L37,T10)","v":0},null,null,null,{"$f":"N10","v":122},{"$f":"COUNTIF(L38:L68,Y10)","v":0},null,null,null,{"$f":"N10","v":122},{"$f":"COUNTIF(L69:L99,AD10)","v":0},null,null,null,{"$f":"N10","v":122},{"$f":"COUNTIF(L100:L130,AI10)","v":0},null,null,null,{"$f":"N10","v":122},{"$f":"COUNTIF(L131:L161,AN10)","v":0},null,null,null,{"$f":"N10","v":122},{"$f":"COUNTIF(L162:L192,AS10)","v":0}]
[22,539,13,548,14,557,null,null,null,null,0,211,null,211,{"$f":"COUNTIF($L$7:$L$500,N11)","v":112},{"$f":"O11/$Q$4","v":0.60215053763440862},{"$f":"IF(P11=0,0,(P11*((LOG(P11))/LOG(2))))","v":-0.44065610523466592},null,null,{"$f":"N11","v":211},{"$f":"COUNTIF(L7:L37,T11)","v":23},{"$f":"U11/(W4-U10)","v":0.74193548387096775},{"$f":"IF(V11=0,0,(V11*((LOG(V11))/LOG(2))))","v":-0.31950290805118814},null,{"$f":"N11","v":211},{"$f":"COUNTIF(L38:L68,Y11)","v":19},{"$f":"Z11/(AB4-Z10)","v":0.61290322580645162},{"$f":"IF(AA11=0,0,(AA11*((LOG(AA11))/LOG(2))))","v":-0.43287442393298403},null,{"$f":"N11","v":211},{"$f":"COUNTIF(L69:L99,AD11)","v":19},{"$f":"AE11/(AG4-AE10)","v":0.61290322580645162},{"$f":"IF(AF11=0,0,(AF11*((LOG(AF11))/LOG(2))))","v":-0.43287442393298403},null,{"$f":"N11","v":211},{"$f":"COUNTIF(L100:L130,AI11)","v":17},{"$f":"AJ11/(AL4-AJ10)","v":0.54838709677419351},{"$f":"IF(AK11=0,0,(AK11*((LOG(AK11))/LOG(2))))","v":-0.47530545081681003},null,{"$f":"N11","v":211},{"$f":"COUNTIF(L131:L161,AN11)","v":18},{"$f":"AO11/(AQ4-AO10)","v":0.58064516129032262},{"$f":"IF(AP11=0,0,(AP11*((LOG(AP11))/LOG(2))))","v":-0.45538334067748809},null,{"$f":"N11","v":211},{"$f":"COUNTIF(L162:L192,AS11)","v":16},{"$f":"AT11/(AV4-AT10)","v":0.5161290322580645},{"$f":"IF(AU11=0,0,(AU11*((LOG(AU11))/LOG(2))))","v":-0.49248841826419365}]
[11,678,11,688,12,701,null,null,null,null,0,111,null,212,{"$f":"COUNTIF($L$7:$L$500,N12)","v":0},{"$f":"O12/$Q$4","v":0},{"$f":"IF(P12=0,0,(P12*((LOG(P12))/LOG(2))))","v":0},null,null,{"$f":"N12","v":212},{"$f":"COUNTIF(L7:L37,T12)","v":0},{"$f":"U12/(W4-U10)","v":0},{"$f":"IF(V12=0,0,(V12*((LOG(V12))/LOG(2))))","v":0},null,{"$f":"N12","v":212},{"$f":"COUNTIF(L38:L68,Y12)","v":0},{"$f":"Z12/(AB4-Z10)","v":0},{"$f":"IF(AA12=0,0,(AA12*((LOG(AA12))/LOG(2))))","v":0},null,{"$f":"N12","v":212},{"$f":"COUNTIF(L69:L99,AD12)","v":0},{"$f":"AE12/(AG4-AE10)","v":0},{"$f":"IF(AF12=0,0,(AF12*((LOG(AF12))/LOG(2))))","v":0},null,{"$f":"N12","v":212},{"$f":"COUNTIF(L100:L130,AI12)","v":0},{"$f":"AJ12/(AL4-AJ10)","v":0},{"$f":"IF(AK12=0,0,(AK12*((LOG(AK12))/LOG(2))))","v":0},null,{"$f":"N12","v":212},{"$f":"COUNTIF(L131:L161,AN12)","v":0},{"$f":"AO12/(AQ4-AO10)","v":0},{"$f":"IF(AP12=0,0,(AP12*((LOG(AP12))/LOG(2))))","v":0},null,{"$f":"N12","v":212},{"$f":"COUNTIF(L162:L192,AS12)","v":0},{"$f":"AT12/(AV4-AT10)","v":0},{"$f":"IF(AU12=0,0,(AU12*((LOG(AU12))/LOG(2))))","v":0}]
[22,795,13,812,14,821,null,null,null,null,0,211,null,221,{"$f":"COUNTIF($L$7:$L$500,N13)","v":0},{"$f":"O13/$Q$4","v":0},{"$f":"IF(P13=0,0,(P13*((LOG(P13))/LOG(2))))","v":0},null,null,{"$f":"N13","v":221},{"$f":"COUNTIF(L7:L37,T13)","v":0},{"$f":"U13/(W4-U10)","v":0},{"$f":"IF(V13=0,0,(V13*((LOG(V13))/LOG(2))))","v":0},null,{"$f":"N13","v":221},{"$f":"COUNTIF(L38:L68,Y13)","v":0},{"$f":"Z13/(AB4-Z10)","v":0},{"$f":"IF(AA13=0,0,(AA13*((LOG(AA13))/LOG(2))))","v":0},null,{"$f":"N13","v":221},{"$f":"COUNTIF(L69:L99,AD13)","v":0},{"$f":"AE13/(AG4-AE10)","v":0},{"$f":"IF(AF13=0,0,(AF13*((LOG(AF13))/LOG(2))))","v":0},null,{"$f":"N13","v":221},{"$f":"COUNTIF(L100:L130,AI13)","v":0},{"$f":"AJ13/(AL4-AJ10)","v":0},{"$f":"IF(AK13=0,0,(AK13*((LOG(AK13))/LOG(2))))","v":0},null,{"$f":"N13","v":221},{"$f":"COUNTIF(L131:L161,AN13)","v":0},{"$f":"AO13/(AQ4-AO10)","v":0},{"$f":"IF(AP13=0,0,(AP13*((LOG(AP13))/LOG(2))))","v":0},null,{"$f":"N13","v":221},{"$f":"COUNTIF(L162:L192,AS13)","v":0},{"$f":"AT13/(AV4-AT10)","v":0},{"$f":"IF(AU13=0,0,(AU13*((LOG(AU13))/LOG(2))))","v":0}]
[22,924,13,932,14,939,null,null,null,null,0,211,null,222,{"$f":"COUNTIF($L$7:$L$500,N14)","v":0},{"$f":"O14/$Q$4","v":0},{"$f":"IF(P14=0,0,(P14*((LOG(P14))/LOG(2))))","v":0},null,null,{"$f":"N14","v":222},{"$f":"COUNTIF(L7:L37,T14)","v":0},{"$f":"U14/(W4-U10)","v":0},{"$f":"IF(V14=0,0,(V14*((LOG(V14))/LOG(2))))","v":0},null,{"$f":"N14","v":222},{"$f":"COUNTIF(L38:L68,Y14)","v":0},{"$f":"Z14/(AB4-Z10)","v":0},{"$f":"IF(AA14=0,0,(AA14*((LOG(AA14))/LOG(2))))","v":0},null,{"$f":"N14","v":222},{"$f":"COUNTIF(L69:L99,AD14)","v":0},{"$f":"AE14/(AG4-AE10)","v":0},{"$f":"IF(AF14=0,0,(AF14*((LOG(AF14))/LOG(2))))","v":0},null,{"$f":"N14","v":222},{"$f":"COUNTIF(L100:L130,AI14)","v":0},{"$f":"AJ14/(AL4-AJ10)","v":0},{"$f":"IF(AK14=0,0,(AK14*((LOG(AK14))/LOG(2))))","v":0},null,{"$f":"N14","v":222},{"$f":"COUNTIF(L131:L161,AN14)","v":0},{"$f":"AO14/(AQ4-AO10)","v":0},{"$f":"IF(AP14=0,0,(AP14*((LOG(AP14))/LOG(2))))","v":0},null,{"$f":"N14","v":222},{"$f":"COUNTIF(L162:L192,AS14)","v":0},{"$f":"AT14/(AV4-AT10)","v":0},{"$f":"IF(AU14=0,0,(AU14*((LOG(AU14))/LOG(2))))","v":0}]
[11,1047,11,1057,12,1069,null,null,null,null,0,111,null,null,null,{"$f":"SUM(P7:P14)","v":1},{"$f":"-SUM(Q7:Q14)","v":0.96967870182311777},null,null,null,null,{"$f":"SUM(V7:V14)","v":1},{"$f":"-SUM(W7:W14)","v":0.8238116333123171},null,null,null,{"$f":"SUM(AA7:AA14)","v":1},{"$f":"-SUM(AB7:AB14)","v":0.96290041477132693},null,null,null,{"$f":"SUM(AF7:AF14)","v":1},{"$f":"-SUM(AG7:AG14)","v":0.96290041477132693},null,null,null,{"$f":"SUM(AK7:AK14)","v":1},{"$f":"-SUM(AL7:AL14)","v":0.99323381973970659},null,null,null,{"$f":"SUM(AP7:AP14)","v":1},{"$f":"-SUM(AQ7:AQ14)","v":0.98115223419991326},null,null,null,{"$f":"SUM(AU7:AU14)","v":1},{"$f":"-SUM(AV7:AV14)","v":0.99924924799565651}]
[22,1166,13,1175,14,1183,null,null,null,null,0,211,null,null,null,"U=",{"$f":"Q15/(LOG(Q4)/LOG(2))","v":0.12861895154594891},null,null,null,null,"U1=",{"$f":"W15/(LOG(W4)/LOG(2))","v":0.16628562569979899},null,null,null,"U2=",{"$f":"AB15/(LOG(AB4)/LOG(2))","v":0.19436056919111744},null,null,null,"U3=",{"$f":"AG15/(LOG(AG4)/LOG(2))","v":0.19436056919111744},null,null,null,"U4=",{"$f":"AL15/(LOG(AL4)/LOG(2))","v":0.20048333927690981},null,null,null,"U5=",{"$f":"AQ15/(LOG(AQ4)/LOG(2))","v":0.198044682271239},null,null,null,"U6=",{"$f":"AV15/(LOG(AV4)/LOG(2))","v":0.20169754797577344}]
[22,1283,13,1296,14,1304,null,null,null,null,0,211]
[11,1422,11,1432,12,1443,null,null,null,null,0,111]
[22,1548,13,1559,14,1568,null,null,null,null,0,211,null,"Total Target Seq"]
[22,1675,13,1694,14,1706,null,null,null,null,0,211,null,{"$f":"COUNTIF(L7:L192,G3)","v":0},null,31,31,31,31,31,31]
[22,1812,13,1828,14,1837,null,null,null,null,0,211,null,null,null,"% of reinforcement given in 6 equal intervals based on number of trials "]
[22,1942,13,1971,14,1979,null,null,null,null,0,211,null,null,null,"%_1","%_2","%_3","%_4","%_5","%_6"]
[22,2077,13,2089,14,2099,null,null,null,null,0,211,null,null,"target sequence",{"$f":"$G$3","v":122},{"$f":"$G$3","v":122},{"$f":"$G$3","v":122},{"$f":"$G$3","v":122},{"$f":"$G$3","v":122},{"$f":"$G$3","v":122}]
[22,2202,13,2211,14,2216,null,null,null,null,0,211,null,null,"total reinforcement",{"$f":"U10","v":0},{"$f":"Z10","v":0},{"$f":"AE10","v":0},{"$f":"AJ10","v":0},{"$f":"AO10","v":0},{"$f":"AT10","v":0}]
[22,2319,13,2331,14,2339,null,null,null,null,0,211,null,null,"% target"]
[11,2464,11,2472,12,2483,null,null,null,null,0,111,null,null,"CCRF"]
[11,2603,11,2612,12,2624,null,null,null,null,0,111,null,null,"% CCRf"]
[22,2729,13,2740,14,2750,null,null,null,null,0,211,null,null,"average response rate",{"$f":"F37/P20","v":125.70967741935483},{"$f":"(F68-F37)/Q20","v":128.2258064516129},{"$f":"(F99-F68)/R20","v":127.06451612903226},{"$f":"(F130-F99)/S20","v":127.19354838709677},{"$f":"(F161-F130)/T20","v":129.61290322580646},{"$f":"(F192-F161)/U20","v":133.35483870967741}]
[22,2855,13,2867,14,2876,null,null,null,null,0,211]
[22,2970,13,2984,14,2992,null,null,null,null,0,211]
[11,3103,11,3115,12,3127,null,null,null,null,0,111]
[22,3233,13,3245,14,3253,null,null,null,null,0,211]
[22,3359,13,3373,14,3381,null,null,null,null,0,211]
[22,3486,13,3497,14,3507,null,null,null,null,0,211]
[11,3615,11,3623,12,3634,null,null,null,null,0,111]
[11,3753,11,3762,12,3774,null,null,null,null,0,111]
[22,3879,13,3888,14,3897,null,null,null,null,0,211]
[22,4002,13,4017,14,4027,null,null,null,null,0,211]
[11,4138,11,4146,12,4158,null,null,null,null,0,111]
[22,4263,13,4274,14,4283,null,null,null,null,0,211]
[22,4386,13,4395,14,4406,null,null,null,null,0,211]
[11,4525,11,4534,12,4543,null,null,null,null,0,111]
[22,4646,13,4658,14,4667,null,null,null,null,0,211]
[22,4771,13,4787,14,4799,null,null,null,null,0,211]
[22,4903,13,4919,14,4929,null,null,null,null,0,211]
[22,5033,13,5044,14,5054,null,null,null,null,0,211]
[22,5157,13,5172,14,5180,null,null,null,null,0,211]
[11,5288,11,5294,12,5302,null,null,null,null,0,111]
[22,5403,13,5413,14,5425,null,null,null,null,0,211]
[22,5525,13,5535,14,5545,null,null,null,null,0,211]
[22,5648,13,5656,14,5662,null,null,null,null,0,211]
[11,5785,11,5794,12,5807,null,null,null,null,0,111]
[11,5928,11,5937,12,5949,null,null,null,null,0,111]
[22,6050,13,6060,14,6069,null,null,null,null,0,211]
[22,6171,13,6183,14,6188,null,null,null,null,0,211]
[22,6286,13,6297,14,6303,null,null,null,null,0,211]
[11,6415,11,6426,12,6441,null,null,null,null,0,111]
[22,6545,13,6556,14,6562,null,null,null,null,0,211]
[22,6662,13,6675,14,6684,null,null,null,null,0,211]
[11,6806,11,6816,12,6825,null,null,null,null,0,111]
[22,6930,13,6942,14,6948,null,null,null,null,0,211]
[11,7063,11,7069,12,7082,null,null,null,null,0,111]
[22,7187,13,7205,14,7215,null,null,null,null,0,211]
[11,7334,11,7340,12,7350,null,null,null,null,0,111]
[11,7469,11,7480,12,7492,null,null,null,null,0,111]
[22,7595,13,7606,14,7611,null,null,null,null,0,211]
[11,7726,11,7734,12,7744,null,null,null,null,0,111]
[11,7858,11,7863,12,7872,null,null,null,null,0,111]
[22,7978,13,7990,14,8002,null,null,null,null,0,211]
[22,8107,13,8118,14,8124,null,null,null,null,0,211]
[22,8222,13,8233,14,8242,null,null,null,null,0,211]
[22,8344,13,8355,14,8364,null,null,null,null,0,211]
[11,8484,11,8489,12,8499,null,null,null,null,0,111]
[11,8610,11,8615,12,8624,null,null,null,null,0,111]
[22,8729,13,8739,14,8745,null,null,null,null,0,211]
[11,8863,11,8872,12,8883,null,null,null,null,0,111]
[22,8991,13,9001,14,9006,null,null,null,null,0,211]
[11,9119,11,9134,12,9147,null,null,null,null,0,111]
[22,9249,13,9260,14,9268,null,null,null,null,0,211]
[11,9386,11,9396,12,9409,null,null,null,null,0,111]
[22,9509,13,9520,14,9524,null,null,null,null,0,211]
[22,9626,13,9639,14,9647,null,null,null,null,0,211]
[11,9763,11,9769,12,9781,null,null,null,null,0,111]
[22,9874,13,9895,14,9904,null,null,null,null,0,211]
[11,10014,11,10024,12,10036,null,null,null,null,0,111]
[22,10144,13,10160,14,10169,null,null,null,null,0,211]
[11,10283,11,10288,12,10298,null,null,null,null,0,111]
[22,10403,13,10411,14,10420,null,null,null,null,0,211]
[11,10535,11,10540,12,10549,null,null,null,null,0,111]
[22,10649,13,10660,14,10666,null,null,null,null,0,211]
[11,10784,11,10790,12,10799,null,null,null,null,0,111]
[22,10906,13,10915,14,10928,null,null,null,null,0,211]
[22,11032,13,11045,14,11056,null,null,null,null,0,211]
[11,11180,11,11188,12,11199,null,null,null,null,0,111]
[22,11302,13,11314,14,11320,null,null,null,null,0,211]
[22,11418,13,11428,14,11435,null,null,null,null,0,211]
[11,11545,11,11553,12,11564,null,null,null,null,0,111]
[22,11658,13,11668,14,11673,null,null,null,null,0,211]
[22,11783,13,11794,14,11811,null,null,null,null,0,211]
[22,11916,13,11926,14,11934,null,null,null,null,0,211]
[22,12036,13,12045,14,12054,null,null,null,null,0,211]
[11,12167,11,12175,12,12186,null,null,null,null,0,111]
[11,12293,11,12299,12,12307,null,null,null,null,0,111]
[11,12420,11,12434,12,12445,null,null,null,null,0,111]
[22,12557,13,12567,14,12573,null,null,null,null,0,211]
[22,12678,13,12688,14,12698,null,null,null,null,0,211]
[11,12817,11,12826,12,12838,null,null,null,null,0,111]
[11,12957,11,12966,12,12978,null,null,null,null,0,111]
[22,13076,13,13085,14,13090,null,null,null,null,0,211]
[11,13202,11,13206,12,13215,null,null,null,null,0,111]
[22,13324,13,13336,14,13342,null,null,null,null,0,211]
[22,13450,13,13463,14,13468,null,null,null,null,0,211]
[22,13575,13,13585,14,13590,null,null,null,null,0,211]
[11,13704,11,13709,12,13719,null,null,null,null,0,111]
[22,13819,13,13830,14,13835,null,null,null,null,0,211]
[11,13954,11,13966,12,13978,null,null,null,null,0,111]
[11,14097,11,14104,12,14113,null,null,null,null,0,111]
[22,14213,13,14228,14,14236,null,null,null,null,0,211]
[11,14353,11,14361,12,14371,null,null,null,null,0,111]
[22,14473,13,14484,14,14490,null,null,null,null,0,211]
[11,14602,11,14610,12,14622,null,null,null,null,0,111]
[22,14722,13,14739,14,14747,null,null,null,null,0,211]
[22,14853,13,14866,14,14874,null,null,null,null,0,211]
[11,14978,11,14986,12,14998,null,null,null,null,0,111]
[11,15115,11,15123,12,15132,null,null,null,null,0,111]
[22,15235,13,15248,14,15256,null,null,null,null,0,211]
[11,15370,11,15378,12,15391,null,null,null,null,0,111]
[22,15490,13,15499,14,15504,null,null,null,null,0,211]
[22,15613,13,15623,14,15628,null,null,null,null,0,211]
[22,15733,13,15744,14,15754,null,null,null,null,0,211]
[11,15864,11,15869,12,15878,null,null,null,null,0,111]
[11,15995,11,16001,12,16012,null,null,null,null,0,111]
[11,16128,11,16134,12,16144,null,null,null,null,0,111]
[11,16259,11,16267,12,16278,null,null,null,null,0,111]
[22,16380,13,16392,14,16399,null,null,null,null,0,211]
[11,16517,11,16527,12,16539,null,null,null,null,0,111]
[22,16641,13,16650,14,16655,null,null,null,null,0,211]
[22,16757,13,16774,14,16782,null,null,null,null,0,211]
[22,16886,13,16897,14,16905,null,null,null,null,0,211]
[11,17017,11,17024,12,17033,null,null,null,null,0,111]
[22,17146,13,17157,14,17164,null,null,null,null,0,211]
[11,17285,11,17295,12,17306,null,null,null,null,0,111]
[22,17410,13,17423,14,17431,null,null,null,null,0,211]
[11,17543,11,17550,12,17559,null,null,null,null,0,111]
[11,17678,11,17688,12,17700,null,null,null,null,0,111]
[22,17802,13,17813,14,17821,null,null,null,null,0,211]
[22,17920,13,17933,14,17942,null,null,null,null,0,211]
[22,18050,13,18065,14,18078,null,null,null,null,0,211]
[22,18179,13,18194,14,18201,null,null,null,null,0,211]
[22,18314,13,18325,14,18334,null,null,null,null,0,211]
[11,18455,11,18462,12,18474,null,null,null,null,0,111]
[22,18579,13,18590,14,18598,null,null,null,null,0,211]
[22,18701,13,18712,14,18717,null,null,null,null,0,211]
[22,18826,13,18838,14,18847,null,null,null,null,0,211]
[22,18950,13,18964,14,18973,null,null,null,null,0,211]
[11,19092,11,19100,12,19113,null,null,null,null,0,111]
[11,19226,11,19243,12,19255,null,null,null,null,0,111]
[22,19363,13,19378,14,19386,null,null,null,null,0,211]
[22,19491,13,19504,14,19509,null,null,null,null,0,211]
[22,19611,13,19622,14,19630,null,null,null,null,0,211]
[11,19749,11,19759,12,19772,null,null,null,null,0,111]
[11,19897,11,19905,12,19917,null,null,null,null,0,111]
[11,20035,11,20042,12,20051,null,null,null,null,0,111]
[11,20174,11,20183,12,20195,null,null,null,null,0,111]
[11,20310,11,20315,12,20327,null,null,null,null,0,111]
[11,20450,11,20458,12,20468,null,null,null,null,0,111]
[11,20583,11,20590,12,20601,null,null,null,null,0,111]
[11,20720,11,20727,12,20738,null,null,null,null,0,111]
[22,20837,13,20853,14,20862,null,null,null,null,0,211]
[22,20962,13,20972,14,20977,null,null,null,null,0,211]
[11,21095,11,21102,12,21111,null,null,null,null,0,111]
[22,21216,13,21236,14,21244,null,null,null,null,0,211]
[11,21361,11,21372,12,21385,null,null,null,null,0,111]
[22,21490,13,21501,14,21509,null,null,null,null,0,211]
[22,21615,13,21628,14,21637,null,null,null,null,0,211]
[22,21739,13,21758,14,21767,null,null,null,null,0,211]
[22,21869,13,21882,14,21891,null,null,null,null,0,211]
[22,22000,13,22010,14,22020,null,null,null,null,0,211]
[22,22148,13,22156,14,22167,null,null,null,null,0,211]
[22,22274,13,22286,14,22295,null,null,null,null,0,211]
[22,22400,13,22412,14,22418,null,null,null,null,0,211]
[22,22526,13,22537,14,22545,null,null,null,null,0,211]
[11,22655,11,22660,12,22670,null,null,null,null,0,111]
[11,22784,11,22794,12,22805,null,null,null,null,0,111]
[11,22952,11,22961,12,22973,null,null,null,null,0,111]
[11,23091,11,23103,12,23113,null,null,null,null,0,111]
[11,23250,11,23255,12,23265,null,null,null,null,0,111]
[22,23365,13,23382,14,23390,null,null,null,null,0,211]
[11,23509,11,23518,12,23529,null,null,null,null,0,111]
[22,23631,13,23643,14,23648,null,null,null,null,0,211]
[22,23761,13,23773,14,23781,null,null,null,null,0,211]
[22,23889,13,23900,14,23906,null,null,null,null,0,211]

{"sheet":"!MB10930.095","index":22,"n_rows":190,"n_cols":48,"rows_kept":190,"cut":false,"hidden":false,"merged":[[4,39,4,42],[5,39,5,40],[4,44,4,47],[5,44,5,45],[4,24,4,27],[5,24,5,25],[4,29,4,32],[5,29,5,30],[4,34,4,37],[5,34,5,35],[1,1,1,2],[5,13,5,14],[18,13,18,14],[19,13,19,14],[4,19,4,22],[5,19,5,20]]}
["Report for:!MB10930.095"]
["Date:","<date>"]
["Hen:","<hen>",null,null,null,"Correct Sequence",{"$f":"Start!J2","v":122},null,null,null,null,null,null,null,null,"Total Sequences in Data",{"$f":"4994-COUNTBLANK(L7:L5000)","v":184},null,null,null,null,"Total Sequences in Block Data",{"$f":"COUNTA(L7:L37)","v":31},null,null,null,"Total Sequences in Block Data",{"$f":"COUNTA(L38:L67)","v":30},null,null,null,"Total Sequences in Block Data",{"$f":"COUNTA(L68:L98)","v":31},null,null,null,"Total Sequences in Block Data",{"$f":"COUNTA(L99:L129)","v":31},null,null,null,"Total Sequences in Block Data",{"$f":"COUNTA(L130:L159)","v":30},null,null,null,"Total Sequences in Block Data",{"$f":"COUNTA(L160:L190)","v":31}]
[null,null,null,null,null,null,null,null,null,null,null,null,null,null,null,"Total Sequences in Summary",{"$f":"SUM(O7:O14)","v":184},null,null,null,null,"Total Sequences in Block Summary",{"$f":"SUM(U7:U14)","v":31},null,null,null,"Total Sequences in Block Summary",{"$f":"SUM(Z7:Z14)","v":30},null,null,null,"Total Sequences in Block Summary",{"$f":"SUM(AE7:AE14)","v":31},null,null,null,"Total Sequences in Block Summary",{"$f":"SUM(AJ7:AJ14)","v":31},null,null,null,"Total Sequences in Block Summary",{"$f":"SUM(AO7:AO14)","v":30},null,null,null,"Total Sequences in Block Summary",{"$f":"SUM(AT7:AT14)","v":31}]
[null,null,null,null,null,null,null,null,null,null,null,null,null,null,null,null,null,null,null,"Block 1",null,null,null,null,"Block 2",null,null,null,null,"Block 3",null,null,null,null,"Block 4",null,null,null,null,"Block 5",null,null,null,null,"Block 6"]
["Sequence\nComponent\n1","Time\n1","Sequence\nComponent\n2","Time\n2","Sequence\nComponent\n3","Time\n3","Sequence\nComponent\n4","Time\n4","Sequence\nComponent\n5","Time\n5","Correct?\n0=No 1=Yes","Sequence",null,"Frequency",null,"Relative Frequency","Variability",null,null,"Frequency",null,"Relative Frequency","Variability",null,"Frequency",null,"Relative Frequency","Variability",null,"Frequency",null,"Relative Frequency","Variability",null,"Frequency",null,"Relative Frequency","Variability",null,"Frequency",null,"Relative Frequency","Variability",null,"Frequency",null,"Relative Frequency","Variability"]
[11,52,11,61,12,73,null,null,null,null,0,111,null,111,{"$f":"COUNTIF($L$7:$L$500,N7)","v":111},{"$f":"O7/$Q$4","v":0.60326086956521741},{"$f":"IF(P7=0,0,(P7*((LOG(P7))/LOG(2))))","v":-0.43986530411666663},null,null,{"$f":"N7","v":111},{"$f":"COUNTIF(L7:L37,T7)","v":15},{"$f":"U7/(W4-U10)","v":0.4838709677419355},{"$f":"IF(V7=0,0,(V7*((LOG(V7))/LOG(2))))","v":-0.50676082973146286},null,{"$f":"N7","v":111},{"$f":"COUNTIF(L38:L67,Y7)","v":17},{"$f":"Z7/(AB4-Z10)","v":0.56666666666666665},{"$f":"IF(AA7=0,0,(AA7*((LOG(AA7))/LOG(2))))","v":-0.46434239413630152},null,{"$f":"N7","v":111},{"$f":"COUNTIF(L68:L98,AD7)","v":18},{"$f":"AE7/(AG4-AE10)","v":0.58064516129032262},{"$f":"IF(AF7=0,0,(AF7*((LOG(AF7))/LOG(2))))","v":-0.45538334067748809},null,{"$f":"N7","v":111},{"$f":"COUNTIF(L99:L129,AI7)","v":23},{"$f":"AJ7/(AL4-AJ10)","v":0.74193548387096775},{"$f":"IF(AK7=0,0,(AK7*((LOG(AK7))/LOG(2))))","v":-0.31950290805118814},null,{"$f":"N7","v":111},{"$f":"COUNTIF(L130:L159,AN7)","v":20},{"$f":"AO7/(AQ4-AO10)","v":0.66666666666666663},{"$f":"IF(AP7=0,0,(AP7*((LOG(AP7))/LOG(2))))","v":-0.38997500048077083},null,{"$f":"N7","v":111},{"$f":"COUNTIF(L160:L190,AS7)","v":18},{"$f":"AT7/(AV4-AT10)","v":0.58064516129032262},{"$f":"IF(AU7=0,0,(AU7*((LOG(AU7))/LOG(2))))","v":-0.45538334067748809}]
[22,177,13,195,14,205,null,null,null,null,0,211,null,112,{"$f":"COUNTIF($L$7:$L$500,N8)","v":0},{"$f":"O8/$Q$4","v":0},{"$f":"IF(P8=0,0,(P8*((LOG(P8))/LOG(2))))","v":0},null,null,{"$f":"N8","v":112},{"$f":"COUNTIF(L7:L37,T8)","v":0},{"$f":"U8/(W4-U10)","v":0},{"$f":"IF(V8=0,0,(V8*((LOG(V8))/LOG(2))))","v":0},null,{"$f":"N8","v":112},{"$f":"COUNTIF(L38:L67,Y8)","v":0},{"$f":"Z8/(AB4-Z10)","v":0},{"$f":"IF(AA8=0,0,(AA8*((LOG(AA8))/LOG(2))))","v":0},null,{"$f":"N8","v":112},{"$f":"COUNTIF(L68:L98,AD8)","v":0},{"$f":"AE8/(AG4-AE10)","v":0},{"$f":"IF(AF8=0,0,(AF8*((LOG(AF8))/LOG(2))))","v":0},null,{"$f":"N8","v":112},{"$f":"COUNTIF(L99:L129,AI8)","v":0},{"$f":"AJ8/(AL4-AJ10)","v":0},{"$f":"IF(AK8=0,0,(AK8*((LOG(AK8))/LOG(2))))","v":0},null,{"$f":"N8","v":112},{"$f":"COUNTIF(L130:L159,AN8)","v":0},{"$f":"AO8/(AQ4-AO10)","v":0},{"$f":"IF(AP8=0,0,(AP8*((LOG(AP8))/LOG(2))))","v":0},null,{"$f":"N8","v":112},{"$f":"COUNTIF(L160:L190,AS8)","v":0},{"$f":"AT8/(AV4-AT10)","v":0},{"$f":"IF(AU8=0,0,(AU8*((LOG(AU8))/LOG(2))))","v":0}]
[22,309,13,327,14,337,null,null,null,null,0,211,null,121,{"$f":"COUNTIF($L$7:$L$500,N9)","v":0},{"$f":"O9/$Q$4","v":0},{"$f":"IF(P9=0,0,(P9*((LOG(P9))/LOG(2))))","v":0},null,null,{"$f":"N9","v":121},{"$f":"COUNTIF(L7:L37,T9)","v":0},{"$f":"U9/(W4-U10)","v":0},{"$f":"IF(V9=0,0,(V9*((LOG(V9))/LOG(2))))","v":0},null,{"$f":"N9","v":121},{"$f":"COUNTIF(L38:L67,Y9)","v":0},{"$f":"Z9/(AB4-Z10)","v":0},{"$f":"IF(AA9=0,0,(AA9*((LOG(AA9))/LOG(2))))","v":0},null,{"$f":"N9","v":121},{"$f":"COUNTIF(L68:L98,AD9)","v":0},{"$f":"AE9/(AG4-AE10)","v":0},{"$f":"IF(AF9=0,0,(AF9*((LOG(AF9))/LOG(2))))","v":0},null,{"$f":"N9","v":121},{"$f":"COUNTIF(L99:L129,AI9)","v":0},{"$f":"AJ9/(AL4-AJ10)","v":0},{"$f":"IF(AK9=0,0,(AK9*((LOG(AK9))/LOG(2))))","v":0},null,{"$f":"N9","v":121},{"$f":"COUNTIF(L130:L159,AN9)","v":0},{"$f":"AO9/(AQ4-AO10)","v":0},{"$f":"IF(AP9=0,0,(AP9*((LOG(AP9))/LOG(2))))","v":0},null,{"$f":"N9","v":121},{"$f":"COUNTIF(L160:L190,AS9)","v":0},{"$f":"AT9/(AV4-AT10)","v":0},{"$f":"IF(AU9=0,0,(AU9*((LOG(AU9))/LOG(2))))","v":0}]
[11,455,11,464,12,477,null,null,null,null,0,111,null,122,{"$f":"COUNTIF($L$7:$L$500,N10)","v":0},{"$f":"O10/$Q$4","v":0},{"$f":"IF(P10=0,0,(P10*((LOG(P10))/LOG(2))))","v":0},null,null,{"$f":"N10","v":122},{"$f":"COUNTIF(L7:L37,T10)","v":0},null,null,null,{"$f":"N10","v":122},{"$f":"COUNTIF(L38:L67,Y10)","v":0},null,null,null,{"$f":"N10","v":122},{"$f":"COUNTIF(L68:L98,AD10)","v":0},null,null,null,{"$f":"N10","v":122},{"$f":"COUNTIF(L99:L129,AI10)","v":0},null,null,null,{"$f":"N10","v":122},{"$f":"COUNTIF(L130:L159,AN10)","v":0},null,null,null,{"$f":"N10","v":122},{"$f":"COUNTIF(L160:L190,AS10)","v":0}]
[22,589,13,604,14,616,null,null,null,null,0,211,null,211,{"$f":"COUNTIF($L$7:$L$500,N11)","v":73},{"$f":"O11/$Q$4","v":0.39673913043478259},{"$f":"IF(P11=0,0,(P11*((LOG(P11))/LOG(2))))","v":-0.52914581518435155},null,null,{"$f":"N11","v":211},{"$f":"COUNTIF(L7:L37,T11)","v":16},{"$f":"U11/(W4-U10)","v":0.5161290322580645},{"$f":"IF(V11=0,0,(V11*((LOG(V11))/LOG(2))))","v":-0.49248841826419365},null,{"$f":"N11","v":211},{"$f":"COUNTIF(L38:L67,Y11)","v":13},{"$f":"Z11/(AB4-Z10)","v":0.43333333333333335},{"$f":"IF(AA11=0,0,(AA11*((LOG(AA11))/LOG(2))))","v":-0.52279538023588479},null,{"$f":"N11","v":211},{"$f":"COUNTIF(L68:L98,AD11)","v":13},{"$f":"AE11/(AG4-AE10)","v":0.41935483870967744},{"$f":"IF(AF11=0,0,(AF11*((LOG(AF11))/LOG(2))))","v":-0.52576889352242517},null,{"$f":"N11","v":211},{"$f":"COUNTIF(L99:L129,AI11)","v":8},{"$f":"AJ11/(AL4-AJ10)","v":0.25806451612903225},{"$f":"IF(AK11=0,0,(AK11*((LOG(AK11))/LOG(2))))","v":-0.50430872526112902},null,{"$f":"N11","v":211},{"$f":"COUNTIF(L130:L159,AN11)","v":10},{"$f":"AO11/(AQ4-AO10)","v":0.33333333333333331},{"$f":"IF(AP11=0,0,(AP11*((LOG(AP11))/LOG(2))))","v":-0.52832083357371862},null,{"$f":"N11","v":211},{"$f":"COUNTIF(L160:L190,AS11)","v":13},{"$f":"AT11/(AV4-AT10)","v":0.41935483870967744},{"$f":"IF(AU11=0,0,(AU11*((LOG(AU11))/LOG(2))))","v":-0.52576889352242517}]
[11,728,11,733,12,743,null,null,null,null,0,111,null,212,{"$f":"COUNTIF($L$7:$L$500,N12)","v":0},{"$f":"O12/$Q$4","v":0},{"$f":"IF(P12=0,0,(P12*((LOG(P12))/LOG(2))))","v":0},null,null,{"$f":"N12","v":212},{"$f":"COUNTIF(L7:L37,T12)","v":0},{"$f":"U12/(W4-U10)","v":0},{"$f":"IF(V12=0,0,(V12*((LOG(V12))/LOG(2))))","v":0},null,{"$f":"N12","v":212},{"$f":"COUNTIF(L38:L67,Y12)","v":0},{"$f":"Z12/(AB4-Z10)","v":0},{"$f":"IF(AA12=0,0,(AA12*((LOG(AA12))/LOG(2))))","v":0},null,{"$f":"N12","v":212},{"$f":"COUNTIF(L68:L98,AD12)","v":0},{"$f":"AE12/(AG4-AE10)","v":0},{"$f":"IF(AF12=0,0,(AF12*((LOG(AF12))/LOG(2))))","v":0},null,{"$f":"N12","v":212},{"$f":"COUNTIF(L99:L129,AI12)","v":0},{"$f":"AJ12/(AL4-AJ10)","v":0},{"$f":"IF(AK12=0,0,(AK12*((LOG(AK12))/LOG(2))))","v":0},null,{"$f":"N12","v":212},{"$f":"COUNTIF(L130:L159,AN12)","v":0},{"$f":"AO12/(AQ4-AO10)","v":0},{"$f":"IF(AP12=0,0,(AP12*((LOG(AP12))/LOG(2))))","v":0},null,{"$f":"N12","v":212},{"$f":"COUNTIF(L160:L190,AS12)","v":0},{"$f":"AT12/(AV4-AT10)","v":0},{"$f":"IF(AU12=0,0,(AU12*((LOG(AU12))/LOG(2))))","v":0}]
[22,846,13,859,14,869,null,null,null,null,0,211,null,221,{"$f":"COUNTIF($L$7:$L$500,N13)","v":0},{"$f":"O13/$Q$4","v":0},{"$f":"IF(P13=0,0,(P13*((LOG(P13))/LOG(2))))","v":0},null,null,{"$f":"N13","v":221},{"$f":"COUNTIF(L7:L37,T13)","v":0},{"$f":"U13/(W4-U10)","v":0},{"$f":"IF(V13=0,0,(V13*((LOG(V13))/LOG(2))))","v":0},null,{"$f":"N13","v":221},{"$f":"COUNTIF(L38:L67,Y13)","v":0},{"$f":"Z13/(AB4-Z10)","v":0},{"$f":"IF(AA13=0,0,(AA13*((LOG(AA13))/LOG(2))))","v":0},null,{"$f":"N13","v":221},{"$f":"COUNTIF(L68:L98,AD13)","v":0},{"$f":"AE13/(AG4-AE10)","v":0},{"$f":"IF(AF13=0,0,(AF13*((LOG(AF13))/LOG(2))))","v":0},null,{"$f":"N13","v":221},{"$f":"COUNTIF(L99:L129,AI13)","v":0},{"$f":"AJ13/(AL4-AJ10)","v":0},{"$f":"IF(AK13=0,0,(AK13*((LOG(AK13))/LOG(2))))","v":0},null,{"$f":"N13","v":221},{"$f":"COUNTIF(L130:L159,AN13)","v":0},{"$f":"AO13/(AQ4-AO10)","v":0},{"$f":"IF(AP13=0,0,(AP13*((LOG(AP13))/LOG(2))))","v":0},null,{"$f":"N13","v":221},{"$f":"COUNTIF(L160:L190,AS13)","v":0},{"$f":"AT13/(AV4-AT10)","v":0},{"$f":"IF(AU13=0,0,(AU13*((LOG(AU13))/LOG(2))))","v":0}]
[11,992,11,1002,12,1015,null,null,null,null,0,111,null,222,{"$f":"COUNTIF($L$7:$L$500,N14)","v":0},{"$f":"O14/$Q$4","v":0},{"$f":"IF(P14=0,0,(P14*((LOG(P14))/LOG(2))))","v":0},null,null,{"$f":"N14","v":222},{"$f":"COUNTIF(L7:L37,T14)","v":0},{"$f":"U14/(W4-U10)","v":0},{"$f":"IF(V14=0,0,(V14*((LOG(V14))/LOG(2))))","v":0},null,{"$f":"N14","v":222},{"$f":"COUNTIF(L38:L67,Y14)","v":0},{"$f":"Z14/(AB4-Z10)","v":0},{"$f":"IF(AA14=0,0,(AA14*((LOG(AA14))/LOG(2))))","v":0},null,{"$f":"N14","v":222},{"$f":"COUNTIF(L68:L98,AD14)","v":0},{"$f":"AE14/(AG4-AE10)","v":0},{"$f":"IF(AF14=0,0,(AF14*((LOG(AF14))/LOG(2))))","v":0},null,{"$f":"N14","v":222},{"$f":"COUNTIF(L99:L129,AI14)","v":0},{"$f":"AJ14/(AL4-AJ10)","v":0},{"$f":"IF(AK14=0,0,(AK14*((LOG(AK14))/LOG(2))))","v":0},null,{"$f":"N14","v":222},{"$f":"COUNTIF(L130:L159,AN14)","v":0},{"$f":"AO14/(AQ4-AO10)","v":0},{"$f":"IF(AP14=0,0,(AP14*((LOG(AP14))/LOG(2))))","v":0},null,{"$f":"N14","v":222},{"$f":"COUNTIF(L160:L190,AS14)","v":0},{"$f":"AT14/(AV4-AT10)","v":0},{"$f":"IF(AU14=0,0,(AU14*((LOG(AU14))/LOG(2))))","v":0}]
[22,1121,13,1137,14,1148,null,null,null,null,0,211,null,null,null,{"$f":"SUM(P7:P14)","v":1},{"$f":"-SUM(Q7:Q14)","v":0.96901111930101824},null,null,null,null,{"$f":"SUM(V7:V14)","v":1},{"$f":"-SUM(W7:W14)","v":0.99924924799565651},null,null,null,{"$f":"SUM(AA7:AA14)","v":1},{"$f":"-SUM(AB7:AB14)","v":0.98713777437218631},null,null,null,{"$f":"SUM(AF7:AF14)","v":1},{"$f":"-SUM(AG7:AG14)","v":0.98115223419991326},null,null,null,{"$f":"SUM(AK7:AK14)","v":1},{"$f":"-SUM(AL7:AL14)","v":0.8238116333123171},null,null,null,{"$f":"SUM(AP7:AP14)","v":1},{"$f":"-SUM(AQ7:AQ14)","v":0.91829583405448945},null,null,null,{"$f":"SUM(AU7:AU14)","v":1},{"$f":"-SUM(AV7:AV14)","v":0.98115223419991326}]
[11,1264,11,1271,12,1283,null,null,null,null,0,111,null,null,null,"U=",{"$f":"Q15/(LOG(Q4)/LOG(2))","v":0.12879685512802805},null,null,null,null,"U1=",{"$f":"W15/(LOG(W4)/LOG(2))","v":0.20169754797577344},null,null,null,"U2=",{"$f":"AB15/(LOG(AB4)/LOG(2))","v":0.20117378921299717},null,null,null,"U3=",{"$f":"AG15/(LOG(AG4)/LOG(2))","v":0.198044682271239},null,null,null,"U4=",{"$f":"AL15/(LOG(AL4)/LOG(2))","v":0.16628562569979899},null,null,null,"U5=",{"$f":"AQ15/(LOG(AQ4)/LOG(2))","v":0.18714414274415034},null,null,null,"U6=",{"$f":"AV15/(LOG(AV4)/LOG(2))","v":0.198044682271239}]
[11,1400,11,1407,12,1419,null,null,null,null,0,111]
[22,1522,13,1532,14,1540,null,null,null,null,0,211]
[22,1647,13,1660,14,1670,null,null,null,null,0,211,null,"Total Target Seq"]
[22,1770,13,1794,14,1803,null,null,null,null,0,211,null,{"$f":"COUNTIF(L7:L190,G3)","v":0},null,31,30,31,31,30,31]
[11,1916,11,1922,12,1931,null,null,null,null,0,111,null,null,null,"% of reinforcement given in 6 equal intervals based on number of trials "]
[11,2046,11,2054,12,2067,null,null,null,null,0,111,null,null,null,"%_1","%_2","%_3","%_4","%_5","%_6"]
[22,2173,13,2182,14,2188,null,null,null,null,0,211,null,null,"target sequence",{"$f":"$G$3","v":122},{"$f":"$G$3","v":122},{"$f":"$G$3","v":122},{"$f":"$G$3","v":122},{"$f":"$G$3","v":122},{"$f":"$G$3","v":122}]
[11,2307,11,2315,12,2328,null,null,null,null,0,111,null,null,"total reinforcement",{"$f":"U10","v":0},{"$f":"Z10","v":0},{"$f":"AE10","v":0},{"$f":"AJ10","v":0},{"$f":"AO10","v":0},{"$f":"AT10","v":0}]
[22,2431,13,2447,14,2458,null,null,null,null,0,211,null,null,"% target"]
[22,2565,13,2575,14,2584,null,null,null,null,0,211,null,null,"CCRF"]
[22,2687,13,2698,14,2704,null,null,null,null,0,211,null,null,"% CCRf"]
[11,2828,11,2834,12,2847,null,null,null,null,0,111,null,null,"average response rate",{"$f":"F37/P20","v":129.38709677419354},{"$f":"(F67-F37)/Q20","v":131.16666666666666},{"$f":"(F98-F67)/R20","v":131.2258064516129},{"$f":"(F129-F98)/S20","v":128.64516129032259},{"$f":"(F159-F129)/T20","v":129.46666666666667},{"$f":"(F190-F159)/U20","v":131.61290322580646}]
[11,2959,11,2964,12,2976,null,null,null,null,0,111]
[11,3095,11,3106,12,3118,null,null,null,null,0,111]
[22,3226,13,3234,14,3240,null,null,null,null,0,211]
[11,3349,11,3355,12,3364,null,null,null,null,0,111]
[22,3469,13,3478,14,3485,null,null,null,null,0,211]
[22,3594,13,3603,14,3609,null,null,null,null,0,211]
[22,3717,13,3725,14,3734,null,null,null,null,0,211]
[11,3846,11,3856,12,3871,null,null,null,null,0,111]
[11,3989,11,3998,12,4011,null,null,null,null,0,111]
[22,4114,13,4123,14,4130,null,null,null,null,0,211]
[22,4230,13,4238,14,4248,null,null,null,null,0,211]
[11,4370,11,4378,12,4390,null,null,null,null,0,111]
[11,4511,11,4520,12,4533,null,null,null,null,0,111]
[11,4645,11,4650,12,4659,null,null,null,null,0,111]
[11,4773,11,4780,12,4792,null,null,null,null,0,111]
[22,4902,13,4910,14,4916,null,null,null,null,0,211]
[22,5020,13,5032,14,5040,null,null,null,null,0,211]
[11,5152,11,5161,12,5172,null,null,null,null,0,111]
[11,5287,11,5294,12,5304,null,null,null,null,0,111]
[11,5421,11,5429,12,5442,null,null,null,null,0,111]
[22,5545,13,5558,14,5566,null,null,null,null,0,211]
[22,5669,13,5682,14,5690,null,null,null,null,0,211]
[22,5791,13,5803,14,5810,null,null,null,null,0,211]
[22,5913,13,5930,14,5938,null,null,null,null,0,211]
[11,6052,11,6057,12,6070,null,null,null,null,0,111]
[22,6179,13,6192,14,6201,null,null,null,null,0,211]
[22,6304,13,6315,14,6323,null,null,null,null,0,211]
[11,6441,11,6449,12,6461,null,null,null,null,0,111]
[11,6574,11,6583,12,6594,null,null,null,null,0,111]
[22,6703,13,6721,14,6729,null,null,null,null,0,211]
[11,6849,11,6859,12,6873,null,null,null,null,0,111]
[22,6978,13,6994,14,7002,null,null,null,null,0,211]
[11,7115,11,7124,12,7137,null,null,null,null,0,111]
[11,7262,11,7270,12,7278,null,null,null,null,0,111]
[22,7383,13,7394,14,7399,null,null,null,null,0,211]
[11,7517,11,7523,12,7532,null,null,null,null,0,111]
[11,7660,11,7668,12,7681,null,null,null,null,0,111]
[11,7794,11,7802,12,7814,null,null,null,null,0,111]
[11,7925,11,7934,12,7946,null,null,null,null,0,111]
[11,8063,11,8070,12,8080,null,null,null,null,0,111]
[22,8183,13,8193,14,8203,null,null,null,null,0,211]
[11,8318,11,8324,12,8335,null,null,null,null,0,111]
[11,8452,11,8458,12,8468,null,null,null,null,0,111]
[22,8568,13,8579,14,8583,null,null,null,null,0,211]
[11,8696,11,8705,12,8717,null,null,null,null,0,111]
[22,8819,13,8832,14,8844,null,null,null,null,0,211]
[11,8953,11,8962,12,8971,null,null,null,null,0,111]
[11,9096,11,9106,12,9117,null,null,null,null,0,111]
[11,9233,11,9238,12,9250,null,null,null,null,0,111]
[11,9382,11,9390,12,9399,null,null,null,null,0,111]
[22,9502,13,9514,14,9522,null,null,null,null,0,211]
[22,9627,13,9643,14,9651,null,null,null,null,0,211]
[11,9769,11,9777,12,9789,null,null,null,null,0,111]
[22,9894,13,9906,14,9915,null,null,null,null,0,211]
[11,10034,11,10044,12,10052,null,null,null,null,0,111]
[22,10163,13,10180,14,10189,null,null,null,null,0,211]
[22,10292,13,10301,14,10310,null,null,null,null,0,211]
[22,10415,13,10424,14,10433,null,null,null,null,0,211]
[11,10547,11,10555,12,10567,null,null,null,null,0,111]
[22,10669,13,10682,14,10691,null,null,null,null,0,211]
[11,10802,11,10812,12,10820,null,null,null,null,0,111]
[22,10920,13,10936,14,10945,null,null,null,null,0,211]
[11,11062,11,11073,12,11085,null,null,null,null,0,111]
[11,11196,11,11201,12,11209,null,null,null,null,0,111]
[11,11318,11,11323,12,11337,null,null,null,null,0,111]
[22,11439,13,11459,14,11467,null,null,null,null,0,211]
[22,11570,13,11579,14,11584,null,null,null,null,0,211]
[11,11698,11,11707,12,11719,null,null,null,null,0,111]
[11,11867,11,11878,12,11891,null,null,null,null,0,111]
[11,11999,11,12006,12,12014,null,null,null,null,0,111]
[11,12144,11,12148,12,12157,null,null,null,null,0,111]
[11,12274,11,12279,12,12288,null,null,null,null,0,111]
[11,12400,11,12407,12,12418,null,null,null,null,0,111]
[22,12520,13,12528,14,12538,null,null,null,null,0,211]
[11,12652,11,12661,12,12673,null,null,null,null,0,111]
[11,12783,11,12789,12,12798,null,null,null,null,0,111]
[11,12913,11,12921,12,12932,null,null,null,null,0,111]
[11,13048,11,13057,12,13070,null,null,null,null,0,111]
[22,13170,13,13178,14,13187,null,null,null,null,0,211]
[22,13290,13,13302,14,13308,null,null,null,null,0,211]
[11,13419,11,13424,12,13434,null,null,null,null,0,111]
[11,13541,11,13546,12,13558,null,null,null,null,0,111]
[11,13669,11,13677,12,13686,null,null,null,null,0,111]
[22,13784,13,13793,14,13798,null,null,null,null,0,211]
[22,13904,13,13915,14,13926,null,null,null,null,0,211]
[11,14040,11,14049,12,14061,null,null,null,null,0,111]
[11,14171,11,14178,12,14189,null,null,null,null,0,111]
[11,14308,11,14316,12,14329,null,null,null,null,0,111]
[22,14431,13,14440,14,14446,null,null,null,null,0,211]
[11,14556,11,14561,12,14570,null,null,null,null,0,111]
[22,14671,13,14681,14,14686,null,null,null,null,0,211]
[11,14794,11,14803,12,14814,null,null,null,null,0,111]
[11,14929,11,14934,12,14944,null,null,null,null,0,111]
[11,15059,11,15068,12,15081,null,null,null,null,0,111]
[11,15199,11,15210,12,15232,null,null,null,null,0,111]
[11,15345,11,15351,12,15358,null,null,null,null,0,111]
[11,15480,11,15488,12,15499,null,null,null,null,0,111]
[22,15601,13,15611,14,15618,null,null,null,null,0,211]
[11,15730,11,15736,12,15746,null,null,null,null,0,111]
[11,15859,11,15868,12,15877,null,null,null,null,0,111]
[11,15988,11,15993,12,16002,null,null,null,null,0,111]
[11,16113,11,16120,12,16132,null,null,null,null,0,111]
[11,16248,11,16256,12,16264,null,null,null,null,0,111]
[11,16382,11,16390,12,16402,null,null,null,null,0,111]
[22,16504,13,16515,14,16521,null,null,null,null,0,211]
[11,16634,11,16642,12,16652,null,null,null,null,0,111]
[11,16765,11,16771,12,16782,null,null,null,null,0,111]
[11,16896,11,16903,12,16913,null,null,null,null,0,111]
[11,17038,11,17046,12,17054,null,null,null,null,0,111]
[22,17156,13,17167,14,17172,null,null,null,null,0,211]
[11,17283,11,17288,12,17297,null,null,null,null,0,111]
[11,17409,11,17414,12,17422,null,null,null,null,0,111]
[22,17523,13,17541,14,17549,null,null,null,null,0,211]
[22,17652,13,17660,14,17669,null,null,null,null,0,211]
[22,17765,13,17780,14,17788,null,null,null,null,0,211]
[11,17899,11,17907,12,17919,null,null,null,null,0,111]
[11,18034,11,18041,12,18055,null,null,null,null,0,111]
[22,18159,13,18175,14,18184,null,null,null,null,0,211]
[11,18301,11,18309,12,18321,null,null,null,null,0,111]
[22,18419,13,18434,14,18443,null,null,null,null,0,211]
[11,18558,11,18563,12,18573,null,null,null,null,0,111]
[11,18688,11,18696,12,18707,null,null,null,null,0,111]
[11,18820,11,18825,12,18834,null,null,null,null,0,111]
[11,18946,11,18955,12,18964,null,null,null,null,0,111]
[11,19080,11,19093,12,19104,null,null,null,null,0,111]
[11,19216,11,19225,12,19237,null,null,null,null,0,111]
[11,19357,11,19363,12,19372,null,null,null,null,0,111]
[22,19475,13,19484,14,19494,null,null,null,null,0,211]
[11,19619,11,19631,12,19644,null,null,null,null,0,111]
[22,19745,13,19756,14,19764,null,null,null,null,0,211]
[22,19865,13,19876,14,19886,null,null,null,null,0,211]
[22,19996,13,20008,14,20015,null,null,null,null,0,211]
[11,20136,11,20144,12,20154,null,null,null,null,0,111]
[22,20253,13,20264,14,20272,null,null,null,null,0,211]
[11,20391,11,20403,12,20414,null,null,null,null,0,111]
[11,20537,11,20545,12,20557,null,null,null,null,0,111]
[22,20661,13,20673,14,20679,null,null,null,null,0,211]
[22,20780,13,20790,14,20800,null,null,null,null,0,211]
[11,20914,11,20919,12,20931,null,null,null,null,0,111]
[11,21044,11,21053,12,21065,null,null,null,null,0,111]
[11,21185,11,21190,12,21202,null,null,null,null,0,111]
[11,21321,11,21330,12,21342,null,null,null,null,0,111]
[22,21452,13,21467,14,21475,null,null,null,null,0,211]
[11,21587,11,21593,12,21604,null,null,null,null,0,111]
[22,21715,13,21723,14,21729,null,null,null,null,0,211]
[11,21842,11,21852,12,21864,null,null,null,null,0,111]
[22,21974,13,21985,14,21991,null,null,null,null,0,211]
[11,22105,11,22110,12,22120,null,null,null,null,0,111]
[11,22237,11,22247,12,22262,null,null,null,null,0,111]
[22,22376,13,22393,14,22402,null,null,null,null,0,211]
[22,22510,13,22527,14,22537,null,null,null,null,0,211]
[11,22653,11,22658,12,22667,null,null,null,null,0,111]
[11,22786,11,22796,12,22808,null,null,null,null,0,111]
[22,22911,13,22922,14,22928,null,null,null,null,0,211]
[22,23037,13,23047,14,23053,null,null,null,null,0,211]
[11,23170,11,23177,12,23186,null,null,null,null,0,111]
[11,23301,11,23310,12,23319,null,null,null,null,0,111]
[11,23442,11,23447,12,23458,null,null,null,null,0,111]
[11,23576,11,23584,12,23595,null,null,null,null,0,111]
[11,23704,11,23710,12,23719,null,null,null,null,0,111]
[22,23823,13,23832,14,23841,null,null,null,null,0,211]
[22,23940,13,23956,14,23966,null,null,null,null,null,211]

{"sheet":"!MB11940.095","index":23,"n_rows":194,"n_cols":48,"rows_kept":194,"cut":false,"hidden":false,"merged":[[4,39,4,42],[5,39,5,40],[4,44,4,47],[5,44,5,45],[4,24,4,27],[5,24,5,25],[4,29,4,32],[5,29,5,30],[4,34,4,37],[5,34,5,35],[1,1,1,2],[5,13,5,14],[18,13,18,14],[19,13,19,14],[4,19,4,22],[5,19,5,20]]}
["Report for:!MB11940.095"]
["Date:","<date>"]
["Hen:","<hen>",null,null,null,"Correct Sequence",{"$f":"Start!J2","v":122},null,null,null,null,null,null,null,null,"Total Sequences in Data",{"$f":"4994-COUNTBLANK(L7:L5000)","v":188},null,null,null,null,"Total Sequences in Block Data",{"$f":"COUNTA(L7:L37)","v":31},null,null,null,"Total Sequences in Block Data",{"$f":"COUNTA(L38:L69)","v":32},null,null,null,"Total Sequences in Block Data",{"$f":"COUNTA(L70:L100)","v":31},null,null,null,"Total Sequences in Block Data",{"$f":"COUNTA(L101:L131)","v":31},null,null,null,"Total Sequences in Block Data",{"$f":"COUNTA(L132:L163)","v":32},null,null,null,"Total Sequences in Block Data",{"$f":"COUNTA(L164:L194)","v":31}]
[null,null,null,null,null,null,null,null,null,null,null,null,null,null,null,"Total Sequences in Summary",{"$f":"SUM(O7:O14)","v":188},null,null,null,null,"Total Sequences in Block Summary",{"$f":"SUM(U7:U14)","v":31},null,null,null,"Total Sequences in Block Summary",{"$f":"SUM(Z7:Z14)","v":32},null,null,null,"Total Sequences in Block Summary",{"$f":"SUM(AE7:AE14)","v":31},null,null,null,"Total Sequences in Block Summary",{"$f":"SUM(AJ7:AJ14)","v":31},null,null,null,"Total Sequences in Block Summary",{"$f":"SUM(AO7:AO14)","v":32},null,null,null,"Total Sequences in Block Summary",{"$f":"SUM(AT7:AT14)","v":31}]
[null,null,null,null,null,null,null,null,null,null,null,null,null,null,null,null,null,null,null,"Block 1",null,null,null,null,"Block 2",null,null,null,null,"Block 3",null,null,null,null,"Block 4",null,null,null,null,"Block 5",null,null,null,null,"Block 6"]
["Sequence\nComponent\n1","Time\n1","Sequence\nComponent\n2","Time\n2","Sequence\nComponent\n3","Time\n3","Sequence\nComponent\n4","Time\n4","Sequence\nComponent\n5","Time\n5","Correct?\n0=No 1=Yes","Sequence",null,"Frequency",null,"Relative Frequency","Variability",null,null,"Frequency",null,"Relative Frequency","Variability",null,"Frequency",null,"Relative Frequency","Variability",null,"Frequency",null,"Relative Frequency","Variability",null,"Frequency",null,"Relative Frequency","Variability",null,"Frequency",null,"Relative Frequency","Variability",null,"Frequency",null,"Relative Frequency","Variability"]
[22,12,24,28,14,40,null,null,null,null,0,221,null,111,{"$f":"COUNTIF($L$7:$L$500,N7)","v":109},{"$f":"O7/$Q$4","v":0.57978723404255317},{"$f":"IF(P7=0,0,(P7*((LOG(P7))/LOG(2))))","v":-0.45594730549030588},null,null,{"$f":"N7","v":111},{"$f":"COUNTIF(L7:L37,T7)","v":15},{"$f":"U7/(W4-U10)","v":0.4838709677419355},{"$f":"IF(V7=0,0,(V7*((LOG(V7))/LOG(2))))","v":-0.50676082973146286},null,{"$f":"N7","v":111},{"$f":"COUNTIF(L38:L69,Y7)","v":18},{"$f":"Z7/(AB4-Z10)","v":0.5625},{"$f":"IF(AA7=0,0,(AA7*((LOG(AA7))/LOG(2))))","v":-0.4669171866886993},null,{"$f":"N7","v":111},{"$f":"COUNTIF(L70:L100,AD7)","v":15},{"$f":"AE7/(AG4-AE10)","v":0.4838709677419355},{"$f":"IF(AF7=0,0,(AF7*((LOG(AF7))/LOG(2))))","v":-0.50676082973146286},null,{"$f":"N7","v":111},{"$f":"COUNTIF(L101:L131,AI7)","v":19},{"$f":"AJ7/(AL4-AJ10)","v":0.61290322580645162},{"$f":"IF(AK7=0,0,(AK7*((LOG(AK7))/LOG(2))))","v":-0.43287442393298403},null,{"$f":"N7","v":111},{"$f":"COUNTIF(L132:L163,AN7)","v":19},{"$f":"AO7/(AQ4-AO10)","v":0.59375},{"$f":"IF(AP7=0,0,(AP7*((LOG(AP7))/LOG(2))))","v":-0.44654303889287106},null,{"$f":"N7","v":111},{"$f":"COUNTIF(L164:L194,AS7)","v":23},{"$f":"AT7/(AV4-AT10)","v":0.74193548387096775},{"$f":"IF(AU7=0,0,(AU7*((LOG(AU7))/LOG(2))))","v":-0.31950290805118814}]
[22,141,13,153,14,161,null,null,null,null,0,211,null,112,{"$f":"COUNTIF($L$7:$L$500,N8)","v":0},{"$f":"O8/$Q$4","v":0},{"$f":"IF(P8=0,0,(P8*((LOG(P8))/LOG(2))))","v":0},null,null,{"$f":"N8","v":112},{"$f":"COUNTIF(L7:L37,T8)","v":0},{"$f":"U8/(W4-U10)","v":0},{"$f":"IF(V8=0,0,(V8*((LOG(V8))/LOG(2))))","v":0},null,{"$f":"N8","v":112},{"$f":"COUNTIF(L38:L69,Y8)","v":0},{"$f":"Z8/(AB4-Z10)","v":0},{"$f":"IF(AA8=0,0,(AA8*((LOG(AA8))/LOG(2))))","v":0},null,{"$f":"N8","v":112},{"$f":"COUNTIF(L70:L100,AD8)","v":0},{"$f":"AE8/(AG4-AE10)","v":0},{"$f":"IF(AF8=0,0,(AF8*((LOG(AF8))/LOG(2))))","v":0},null,{"$f":"N8","v":112},{"$f":"COUNTIF(L101:L131,AI8)","v":0},{"$f":"AJ8/(AL4-AJ10)","v":0},{"$f":"IF(AK8=0,0,(AK8*((LOG(AK8))/LOG(2))))","v":0},null,{"$f":"N8","v":112},{"$f":"COUNTIF(L132:L163,AN8)","v":0},{"$f":"AO8/(AQ4-AO10)","v":0},{"$f":"IF(AP8=0,0,(AP8*((LOG(AP8))/LOG(2))))","v":0},null,{"$f":"N8","v":112},{"$f":"COUNTIF(L164:L194,AS8)","v":0},{"$f":"AT8/(AV4-AT10)","v":0},{"$f":"IF(AU8=0,0,(AU8*((LOG(AU8))/LOG(2))))","v":0}]
[11,278,11,287,12,300,null,null,null,null,0,111,null,121,{"$f":"COUNTIF($L$7:$L$500,N9)","v":0},{"$f":"O9/$Q$4","v":0},{"$f":"IF(P9=0,0,(P9*((LOG(P9))/LOG(2))))","v":0},null,null,{"$f":"N9","v":121},{"$f":"COUNTIF(L7:L37,T9)","v":0},{"$f":"U9/(W4-U10)","v":0},{"$f":"IF(V9=0,0,(V9*((LOG(V9))/LOG(2))))","v":0},null,{"$f":"N9","v":121},{"$f":"COUNTIF(L38:L69,Y9)","v":0},{"$f":"Z9/(AB4-Z10)","v":0},{"$f":"IF(AA9=0,0,(AA9*((LOG(AA9))/LOG(2))))","v":0},null,{"$f":"N9","v":121},{"$f":"COUNTIF(L70:L100,AD9)","v":0},{"$f":"AE9/(AG4-AE10)","v":0},{"$f":"IF(AF9=0,0,(AF9*((LOG(AF9))/LOG(2))))","v":0},null,{"$f":"N9","v":121},{"$f":"COUNTIF(L101:L131,AI9)","v":0},{"$f":"AJ9/(AL4-AJ10)","v":0},{"$f":"IF(AK9=0,0,(AK9*((LOG(AK9))/LOG(2))))","v":0},null,{"$f":"N9","v":121},{"$f":"COUNTIF(L132:L163,AN9)","v":0},{"$f":"AO9/(AQ4-AO10)","v":0},{"$f":"IF(AP9=0,0,(AP9*((LOG(AP9))/LOG(2))))","v":0},null,{"$f":"N9","v":121},{"$f":"COUNTIF(L164:L194,AS9)","v":0},{"$f":"AT9/(AV4-AT10)","v":0},{"$f":"IF(AU9=0,0,(AU9*((LOG(AU9))/LOG(2))))","v":0}]
[22,408,13,418,14,423,null,null,null,null,0,211,null,122,{"$f":"COUNTIF($L$7:$L$500,N10)","v":0},{"$f":"O10/$Q$4","v":0},{"$f":"IF(P10=0,0,(P10*((LOG(P10))/LOG(2))))","v":0},null,null,{"$f":"N10","v":122},{"$f":"COUNTIF(L7:L37,T10)","v":0},null,null,null,{"$f":"N10","v":122},{"$f":"COUNTIF(L38:L69,Y10)","v":0},null,null,null,{"$f":"N10","v":122},{"$f":"COUNTIF(L70:L100,AD10)","v":0},null,null,null,{"$f":"N10","v":122},{"$f":"COUNTIF(L101:L131,AI10)","v":0},null,null,null,{"$f":"N10","v":122},{"$f":"COUNTIF(L132:L163,AN10)","v":0},null,null,null,{"$f":"N10","v":122},{"$f":"COUNTIF(L164:L194,AS10)","v":0}]
[22,528,13,543,14,551,null,null,null,null,0,211,null,211,{"$f":"COUNTIF($L$7:$L$500,N11)","v":77},{"$f":"O11/$Q$4","v":0.40957446808510639},{"$f":"IF(P11=0,0,(P11*((LOG(P11))/LOG(2))))","v":-0.52745094651952484},null,null,{"$f":"N11","v":211},{"$f":"COUNTIF(L7:L37,T11)","v":15},{"$f":"U11/(W4-U10)","v":0.4838709677419355},{"$f":"IF(V11=0,0,(V11*((LOG(V11))/LOG(2))))","v":-0.50676082973146286},null,{"$f":"N11","v":211},{"$f":"COUNTIF(L38:L69,Y11)","v":13},{"$f":"Z11/(AB4-Z10)","v":0.40625},{"$f":"IF(AA11=0,0,(AA11*((LOG(AA11))/LOG(2))))","v":-0.52794636450518129},null,{"$f":"N11","v":211},{"$f":"COUNTIF(L70:L100,AD11)","v":16},{"$f":"AE11/(AG4-AE10)","v":0.5161290322580645},{"$f":"IF(AF11=0,0,(AF11*((LOG(AF11))/LOG(2))))","v":-0.49248841826419365},null,{"$f":"N11","v":211},{"$f":"COUNTIF(L101:L131,AI11)","v":12},{"$f":"AJ11/(AL4-AJ10)","v":0.38709677419354838},{"$f":"IF(AK11=0,0,(AK11*((LOG(AK11))/LOG(2))))","v":-0.5300259908383429},null,{"$f":"N11","v":211},{"$f":"COUNTIF(L132:L163,AN11)","v":13},{"$f":"AO11/(AQ4-AO10)","v":0.40625},{"$f":"IF(AP11=0,0,(AP11*((LOG(AP11))/LOG(2))))","v":-0.52794636450518129},null,{"$f":"N11","v":211},{"$f":"COUNTIF(L164:L194,AS11)","v":8},{"$f":"AT11/(AV4-AT10)","v":0.25806451612903225},{"$f":"IF(AU11=0,0,(AU11*((LOG(AU11))/LOG(2))))","v":-0.50430872526112902}]
[22,655,13,668,14,677,null,null,null,null,0,211,null,212,{"$f":"COUNTIF($L$7:$L$500,N12)","v":0},{"$f":"O12/$Q$4","v":0},{"$f":"IF(P12=0,0,(P12*((LOG(P12))/LOG(2))))","v":0},null,null,{"$f":"N12","v":212},{"$f":"COUNTIF(L7:L37,T12)","v":0},{"$f":"U12/(W4-U10)","v":0},{"$f":"IF(V12=0,0,(V12*((LOG(V12))/LOG(2))))","v":0},null,{"$f":"N12","v":212},{"$f":"COUNTIF(L38:L69,Y12)","v":0},{"$f":"Z12/(AB4-Z10)","v":0},{"$f":"IF(AA12=0,0,(AA12*((LOG(AA12))/LOG(2))))","v":0},null,{"$f":"N12","v":212},{"$f":"COUNTIF(L70:L100,AD12)","v":0},{"$f":"AE12/(AG4-AE10)","v":0},{"$f":"IF(AF12=0,0,(AF12*((LOG(AF12))/LOG(2))))","v":0},null,{"$f":"N12","v":212},{"$f":"COUNTIF(L101:L131,AI12)","v":0},{"$f":"AJ12/(AL4-AJ10)","v":0},{"$f":"IF(AK12=0,0,(AK12*((LOG(AK12))/LOG(2))))","v":0},null,{"$f":"N12","v":212},{"$f":"COUNTIF(L132:L163,AN12)","v":0},{"$f":"AO12/(AQ4-AO10)","v":0},{"$f":"IF(AP12=0,0,(AP12*((LOG(AP12))/LOG(2))))","v":0},null,{"$f":"N12","v":212},{"$f":"COUNTIF(L164:L194,AS12)","v":0},{"$f":"AT12/(AV4-AT10)","v":0},{"$f":"IF(AU12=0,0,(AU12*((LOG(AU12))/LOG(2))))","v":0}]
[22,779,13,791,14,802,null,null,null,null,0,211,null,221,{"$f":"COUNTIF($L$7:$L$500,N13)","v":2},{"$f":"O13/$Q$4","v":1.0638297872340425E-2},{"$f":"IF(P13=0,0,(P13*((LOG(P13))/LOG(2))))","v":-6.9729668634868486E-2},null,null,{"$f":"N13","v":221},{"$f":"COUNTIF(L7:L37,T13)","v":1},{"$f":"U13/(W4-U10)","v":3.2258064516129031E-2},{"$f":"IF(V13=0,0,(V13*((LOG(V13))/LOG(2))))","v":-0.15981278420602821},null,{"$f":"N13","v":221},{"$f":"COUNTIF(L38:L69,Y13)","v":1},{"$f":"Z13/(AB4-Z10)","v":3.125E-2},{"$f":"IF(AA13=0,0,(AA13*((LOG(AA13))/LOG(2))))","v":-0.15625},null,{"$f":"N13","v":221},{"$f":"COUNTIF(L70:L100,AD13)","v":0},{"$f":"AE13/(AG4-AE10)","v":0},{"$f":"IF(AF13=0,0,(AF13*((LOG(AF13))/LOG(2))))","v":0},null,{"$f":"N13","v":221},{"$f":"COUNTIF(L101:L131,AI13)","v":0},{"$f":"AJ13/(AL4-AJ10)","v":0},{"$f":"IF(AK13=0,0,(AK13*((LOG(AK13))/LOG(2))))","v":0},null,{"$f":"N13","v":221},{"$f":"COUNTIF(L132:L163,AN13)","v":0},{"$f":"AO13/(AQ4-AO10)","v":0},{"$f":"IF(AP13=0,0,(AP13*((LOG(AP13))/LOG(2))))","v":0},null,{"$f":"N13","v":221},{"$f":"COUNTIF(L164:L194,AS13)","v":0},{"$f":"AT13/(AV4-AT10)","v":0},{"$f":"IF(AU13=0,0,(AU13*((LOG(AU13))/LOG(2))))","v":0}]
[11,918,11,928,12,941,null,null,null,null,0,111,null,222,{"$f":"COUNTIF($L$7:$L$500,N14)","v":0},{"$f":"O14/$Q$4","v":0},{"$f":"IF(P14=0,0,(P14*((LOG(P14))/LOG(2))))","v":0},null,null,{"$f":"N14","v":222},{"$f":"COUNTIF(L7:L37,T14)","v":0},{"$f":"U14/(W4-U10)","v":0},{"$f":"IF(V14=0,0,(V14*((LOG(V14))/LOG(2))))","v":0},null,{"$f":"N14","v":222},{"$f":"COUNTIF(L38:L69,Y14)","v":0},{"$f":"Z14/(AB4-Z10)","v":0},{"$f":"IF(AA14=0,0,(AA14*((LOG(AA14))/LOG(2))))","v":0},null,{"$f":"N14","v":222},{"$f":"COUNTIF(L70:L100,AD14)","v":0},{"$f":"AE14/(AG4-AE10)","v":0},{"$f":"IF(AF14=0,0,(AF14*((LOG(AF14))/LOG(2))))","v":0},null,{"$f":"N14","v":222},{"$f":"COUNTIF(L101:L131,AI14)","v":0},{"$f":"AJ14/(AL4-AJ10)","v":0},{"$f":"IF(AK14=0,0,(AK14*((LOG(AK14))/LOG(2))))","v":0},null,{"$f":"N14","v":222},{"$f":"COUNTIF(L132:L163,AN14)","v":0},{"$f":"AO14/(AQ4-AO10)","v":0},{"$f":"IF(AP14=0,0,(AP14*((LOG(AP14))/LOG(2))))","v":0},null,{"$f":"N14","v":222},{"$f":"COUNTIF(L164:L194,AS14)","v":0},{"$f":"AT14/(AV4-AT10)","v":0},{"$f":"IF(AU14=0,0,(AU14*((LOG(AU14))/LOG(2))))","v":0}]
[22,1041,13,1054,14,1058,null,null,null,null,0,211,null,null,null,{"$f":"SUM(P7:P14)","v":0.99999999999999989},{"$f":"-SUM(Q7:Q14)","v":1.0531279206446993},null,null,null,null,{"$f":"SUM(V7:V14)","v":1},{"$f":"-SUM(W7:W14)","v":1.1733344436689539},null,null,null,{"$f":"SUM(AA7:AA14)","v":1},{"$f":"-SUM(AB7:AB14)","v":1.1511135511938806},null,null,null,{"$f":"SUM(AF7:AF14)","v":1},{"$f":"-SUM(AG7:AG14)","v":0.99924924799565651},null,null,null,{"$f":"SUM(AK7:AK14)","v":1},{"$f":"-SUM(AL7:AL14)","v":0.96290041477132693},null,null,null,{"$f":"SUM(AP7:AP14)","v":1},{"$f":"-SUM(AQ7:AQ14)","v":0.97448940339805235},null,null,null,{"$f":"SUM(AU7:AU14)","v":1},{"$f":"-SUM(AV7:AV14)","v":0.8238116333123171}]
[11,1172,11,1180,12,1189,null,null,null,null,0,111,null,null,null,"U=",{"$f":"Q15/(LOG(Q4)/LOG(2))","v":0.13940241372776133},null,null,null,null,"U1=",{"$f":"W15/(LOG(W4)/LOG(2))","v":0.23683648570989466},null,null,null,"U2=",{"$f":"AB15/(LOG(AB4)/LOG(2))","v":0.23022271023877611},null,null,null,"U3=",{"$f":"AG15/(LOG(AG4)/LOG(2))","v":0.20169754797577344},null,null,null,"U4=",{"$f":"AL15/(LOG(AL4)/LOG(2))","v":0.19436056919111744},null,null,null,"U5=",{"$f":"AQ15/(LOG(AQ4)/LOG(2))","v":0.19489788067961047},null,null,null,"U6=",{"$f":"AV15/(LOG(AV4)/LOG(2))","v":0.16628562569979899}]
[22,1289,13,1303,14,1311,null,null,null,null,0,211]
[11,1437,11,1449,12,1461,null,null,null,null,0,111]
[11,1582,11,1590,12,1599,null,null,null,null,0,111,null,"Total Target Seq"]
[11,1710,11,1718,12,1728,null,null,null,null,0,111,null,{"$f":"COUNTIF(L7:L194,G3)","v":0},null,31,32,31,31,32,31]
[11,1850,11,1859,12,1868,null,null,null,null,0,111,null,null,null,"% of reinforcement given in 6 equal intervals based on number of trials "]
[22,1971,13,1979,14,1987,null,null,null,null,0,211,null,null,null,"%_1","%_2","%_3","%_4","%_5","%_6"]
[22,2086,13,2099,14,2107,null,null,null,null,0,211,null,null,"target sequence",{"$f":"$G$3","v":122},{"$f":"$G$3","v":122},{"$f":"$G$3","v":122},{"$f":"$G$3","v":122},{"$f":"$G$3","v":122},{"$f":"$G$3","v":122}]
[22,2206,13,2217,14,2225,null,null,null,null,0,211,null,null,"total reinforcement",{"$f":"U10","v":0},{"$f":"Z10","v":0},{"$f":"AE10","v":0},{"$f":"AJ10","v":0},{"$f":"AO10","v":0},{"$f":"AT10","v":0}]
[22,2324,13,2336,14,2341,null,null,null,null,0,211,null,null,"% target"]
[11,2456,11,2466,12,2475,null,null,null,null,0,111,null,null,"CCRF"]
[11,2593,11,2598,12,2611,null,null,null,null,0,111,null,null,"% CCRf"]
[11,2724,11,2732,12,2745,null,null,null,null,0,111,null,null,"average response rate",{"$f":"F37/P20","v":125.35483870967742},{"$f":"(F69-F37)/Q20","v":127.5625},{"$f":"(F100-F69)/R20","v":127.03225806451613},{"$f":"(F131-F100)/S20","v":127.6774193548387},{"$f":"(F163-F131)/T20","v":126.4375},{"$f":"(F194-F163)/U20","v":129.16129032258064}]
[22,2853,13,2867,14,2875,null,null,null,null,0,211]
[11,2984,11,2992,12,3003,null,null,null,null,0,111]
[22,3106,13,3119,14,3128,null,null,null,null,0,211]
[11,3239,11,3245,12,3255,null,null,null,null,0,111]
[22,3363,13,3372,14,3376,null,null,null,null,0,211]
[11,3486,11,3495,12,3506,null,null,null,null,0,111]
[11,3616,11,3622,12,3632,null,null,null,null,0,111]
[22,3735,13,3744,14,3749,null,null,null,null,0,211]
[11,3864,11,3873,12,3886,null,null,null,null,0,111]
[11,4001,11,4010,12,4022,null,null,null,null,0,111]
[22,4129,13,4142,14,4151,null,null,null,null,0,211]
[11,4260,11,4265,12,4277,null,null,null,null,0,111]
[11,4388,11,4394,12,4404,null,null,null,null,0,111]
[11,4515,11,4521,12,4529,null,null,null,null,0,111]
[22,4630,13,4639,14,4646,null,null,null,null,0,211]
[11,4758,11,4764,12,4777,null,null,null,null,0,111]
[22,4877,13,4886,14,4892,null,null,null,null,0,211]
[11,5010,11,5015,12,5025,null,null,null,null,0,111]
[11,5137,11,5143,12,5156,null,null,null,null,0,111]
[11,5277,11,5289,12,5299,null,null,null,null,0,111]
[11,5409,11,5417,12,5428,null,null,null,null,0,111]
[22,5531,13,5540,14,5549,null,null,null,null,0,211]
[11,5662,11,5669,12,5681,null,null,null,null,0,111]
[22,5784,13,5793,14,5801,null,null,null,null,0,211]
[22,5906,13,5915,14,5920,null,null,null,null,0,211]
[11,6034,11,6039,12,6050,null,null,null,null,0,111]
[22,6153,13,6163,14,6171,null,null,null,null,0,211]
[11,6282,11,6289,12,6301,null,null,null,null,0,111]
[11,6441,11,6452,12,6463,null,null,null,null,0,111]
[22,6568,13,6580,14,6590,null,null,null,null,0,211]
[11,6708,11,6716,12,6730,null,null,null,null,0,111]
[22,6832,13,6840,14,6845,null,null,null,null,0,211]
[22,6944,13,6956,14,6963,null,null,null,null,0,211]
[11,7075,11,7082,12,7091,null,null,null,null,0,111]
[22,7197,13,7207,14,7211,null,null,null,null,0,211]
[11,7323,11,7328,12,7337,null,null,null,null,0,111]
[11,7449,11,7458,12,7468,null,null,null,null,0,111]
[22,7570,13,7578,14,7587,null,null,null,null,0,211]
[11,7703,11,7708,12,7719,null,null,null,null,0,111]
[22,7822,24,7836,14,7847,null,null,null,null,0,221]
[22,7951,13,7961,14,7968,null,null,null,null,0,211]
[22,8073,13,8082,14,8088,null,null,null,null,0,211]
[22,8196,13,8206,14,8211,null,null,null,null,0,211]
[22,8314,13,8322,14,8328,null,null,null,null,0,211]
[11,8437,11,8446,12,8458,null,null,null,null,0,111]
[11,8584,11,8593,12,8605,null,null,null,null,0,111]
[11,8724,11,8733,12,8745,null,null,null,null,0,111]
[22,8855,13,8864,14,8873,null,null,null,null,0,211]
[22,8978,13,8991,14,8999,null,null,null,null,0,211]
[22,9103,13,9111,14,9118,null,null,null,null,0,211]
[11,9236,11,9244,12,9255,null,null,null,null,0,111]
[22,9353,13,9362,14,9367,null,null,null,null,0,211]
[22,9469,13,9478,14,9488,null,null,null,null,0,211]
[22,9591,13,9602,14,9609,null,null,null,null,0,211]
[22,9708,13,9721,14,9729,null,null,null,null,0,211]
[11,9841,11,9847,12,9856,null,null,null,null,0,111]
[11,9978,11,9987,12,9999,null,null,null,null,0,111]
[11,10120,11,10128,12,10138,null,null,null,null,0,111]
[22,10239,13,10247,14,10252,null,null,null,null,0,211]
[11,10364,11,10372,12,10383,null,null,null,null,0,111]
[11,10501,11,10506,12,10514,null,null,null,null,0,111]
[22,10616,13,10630,14,10636,null,null,null,null,0,211]
[11,10744,11,10750,12,10758,null,null,null,null,0,111]
[11,10871,11,10877,12,10888,null,null,null,null,0,111]
[11,10996,11,11001,12,11009,null,null,null,null,0,111]
[22,11111,13,11128,14,11139,null,null,null,null,0,211]
[11,11260,11,11268,12,11279,null,null,null,null,0,111]
[22,11374,13,11395,14,11400,null,null,null,null,0,211]
[22,11499,13,11510,14,11515,null,null,null,null,0,211]
[11,11623,11,11629,12,11640,null,null,null,null,0,111]
[11,11760,11,11771,12,11782,null,null,null,null,0,111]
[22,11888,13,11896,14,11906,null,null,null,null,0,211]
[11,12027,11,12039,12,12051,null,null,null,null,0,111]
[11,12164,11,12169,12,12178,null,null,null,null,0,111]
[11,12296,11,12304,12,12313,null,null,null,null,0,111]
[11,12431,11,12439,12,12449,null,null,null,null,0,111]
[22,12549,13,12560,14,12567,null,null,null,null,0,211]
[22,12672,13,12682,14,12688,null,null,null,null,0,211]
[22,12789,13,12804,14,12812,null,null,null,null,0,211]
[22,12927,13,12939,14,12944,null,null,null,null,0,211]
[11,13059,11,13065,12,13076,null,null,null,null,0,111]
[11,13185,11,13191,12,13202,null,null,null,null,0,111]
[11,13311,11,13317,12,13325,null,null,null,null,0,111]
[22,13427,13,13439,14,13444,null,null,null,null,0,211]
[11,13556,11,13564,12,13577,null,null,null,null,0,111]
[11,13699,11,13706,12,13716,null,null,null,null,0,111]
[22,13820,13,13836,14,13844,null,null,null,null,0,211]
[11,13961,11,13967,12,13975,null,null,null,null,0,111]
[11,14084,11,14089,12,14100,null,null,null,null,0,111]
[11,14208,11,14214,12,14224,null,null,null,null,0,111]
[22,14321,13,14337,14,14344,null,null,null,null,0,211]
[11,14460,11,14468,12,14480,null,null,null,null,0,111]
[11,14593,11,14599,12,14610,null,null,null,null,0,111]
[11,14737,11,14750,12,14764,null,null,null,null,0,111]
[22,14860,13,14871,14,14876,null,null,null,null,0,211]
[22,14975,13,14983,14,14992,null,null,null,null,0,211]
[11,15109,11,15117,12,15128,null,null,null,null,0,111]
[22,15227,13,15237,14,15243,null,null,null,null,0,211]
[11,15356,11,15361,12,15373,null,null,null,null,0,111]
[22,15478,13,15491,14,15497,null,null,null,null,0,211]
[11,15605,11,15610,12,15619,null,null,null,null,0,111]
[22,15721,13,15730,14,15735,null,null,null,null,0,211]
[11,15844,11,15851,12,15864,null,null,null,null,0,111]
[11,15971,11,15975,12,15986,null,null,null,null,0,111]
[22,16092,13,16100,14,16109,null,null,null,null,0,211]
[22,16207,13,16223,14,16234,null,null,null,null,0,211]
[11,16344,11,16351,12,16362,null,null,null,null,0,111]
[22,16461,13,16473,14,16482,null,null,null,null,0,211]
[11,16590,11,16598,12,16607,null,null,null,null,0,111]
[11,16720,11,16725,12,16734,null,null,null,null,0,111]
[11,16842,11,16848,12,16857,null,null,null,null,0,111]
[11,16968,11,16976,12,16989,null,null,null,null,0,111]
[11,17101,11,17105,12,17114,null,null,null,null,0,111]
[22,17212,13,17221,14,17229,null,null,null,null,0,211]
[11,17354,11,17366,12,17380,null,null,null,null,0,111]
[22,17480,13,17493,14,17503,null,null,null,null,0,211]
[11,17617,11,17624,12,17636,null,null,null,null,0,111]
[22,17735,13,17744,14,17749,null,null,null,null,0,211]
[11,17857,11,17865,12,17875,null,null,null,null,0,111]
[11,17986,11,17994,12,18005,null,null,null,null,0,111]
[22,18128,13,18138,14,18146,null,null,null,null,0,211]
[11,18263,11,18271,12,18283,null,null,null,null,0,111]
[11,18396,11,18404,12,18416,null,null,null,null,0,111]
[22,18516,13,18526,14,18533,null,null,null,null,0,211]
[22,18631,13,18639,14,18648,null,null,null,null,0,211]
[22,18747,13,18758,14,18767,null,null,null,null,0,211]
[22,18865,13,18876,14,18885,null,null,null,null,0,211]
[11,18997,11,19006,12,19018,null,null,null,null,0,111]
[11,19125,11,19130,12,19139,null,null,null,null,0,111]
[11,19275,11,19282,12,19294,null,null,null,null,0,111]
[11,19407,11,19412,12,19420,null,null,null,null,0,111]
[22,19520,13,19532,14,19537,null,null,null,null,0,211]
[22,19638,13,19650,14,19658,null,null,null,null,0,211]
[11,19769,11,19776,12,19786,null,null,null,null,0,111]
[11,19897,11,19901,12,19910,null,null,null,null,0,111]
[11,20020,11,20029,12,20040,null,null,null,null,0,111]
[11,20150,11,20159,12,20168,null,null,null,null,0,111]
[22,20279,13,20287,14,20292,null,null,null,null,0,211]
[11,20403,11,20408,12,20416,null,null,null,null,0,111]
[11,20524,11,20529,12,20538,null,null,null,null,0,111]
[11,20649,11,20654,12,20663,null,null,null,null,0,111]
[11,20780,11,20787,12,20795,null,null,null,null,0,111]
[11,20912,11,20917,12,20927,null,null,null,null,0,111]
[11,21043,11,21050,12,21058,null,null,null,null,0,111]
[22,21159,13,21170,14,21176,null,null,null,null,0,211]
[22,21282,13,21294,14,21302,null,null,null,null,0,211]
[11,21410,11,21415,12,21426,null,null,null,null,0,111]
[11,21533,11,21543,12,21552,null,null,null,null,0,111]
[11,21665,11,21676,12,21688,null,null,null,null,0,111]
[11,21800,11,21807,12,21818,null,null,null,null,0,111]
[11,21931,11,21939,12,21951,null,null,null,null,0,111]
[22,22051,13,22062,14,22067,null,null,null,null,0,211]
[22,22169,13,22180,14,22190,null,null,null,null,0,211]
[11,22304,11,22313,12,22322,null,null,null,null,0,111]
[22,22425,13,22442,14,22451,null,null,null,null,0,211]
[22,22556,13,22565,14,22571,null,null,null,null,0,211]
[11,22687,11,22696,12,22708,null,null,null,null,0,111]
[11,22825,11,22833,12,22845,null,null,null,null,0,111]
[11,22968,11,22977,12,22986,null,null,null,null,0,111]
[11,23099,11,23109,12,23120,null,null,null,null,0,111]
[11,23235,11,23240,12,23249,null,null,null,null,0,111]
[11,23362,11,23383,12,23395,null,null,null,null,0,111]
[11,23518,11,23526,12,23538,null,null,null,null,0,111]
[11,23657,11,23662,12,23670,null,null,null,null,0,111]
[11,23776,11,23786,12,23799,null,null,null,null,0,111]
[22,23897,13,23906,14,23914,null,null,null,null,null,211]

{"sheet":"!MB12920.095","index":24,"n_rows":196,"n_cols":48,"rows_kept":196,"cut":false,"hidden":false,"merged":[[4,39,4,42],[5,39,5,40],[4,44,4,47],[5,44,5,45],[4,24,4,27],[5,24,5,25],[4,29,4,32],[5,29,5,30],[4,34,4,37],[5,34,5,35],[1,1,1,2],[5,13,5,14],[18,13,18,14],[19,13,19,14],[4,19,4,22],[5,19,5,20]]}
["Report for:!MB12920.095"]
["Date:","<date>"]
["Hen:","<hen>",null,null,null,"Correct Sequence",{"$f":"Start!J2","v":122},null,null,null,null,null,null,null,null,"Total Sequences in Data",{"$f":"4994-COUNTBLANK(L7:L5000)","v":190},null,null,null,null,"Total Sequences in Block Data",{"$f":"COUNTA(L7:L38)","v":32},null,null,null,"Total Sequences in Block Data",{"$f":"COUNTA(L39:L69)","v":31},null,null,null,"Total Sequences in Block Data",{"$f":"COUNTA(L70:L101)","v":32},null,null,null,"Total Sequences in Block Data",{"$f":"COUNTA(L102:L133)","v":32},null,null,null,"Total Sequences in Block Data",{"$f":"COUNTA(L134:L164)","v":31},null,null,null,"Total Sequences in Block Data",{"$f":"COUNTA(L165:L196)","v":32}]
[null,null,null,null,null,null,null,null,null,null,null,null,null,null,null,"Total Sequences in Summary",{"$f":"SUM(O7:O14)","v":190},null,null,null,null,"Total Sequences in Block Summary",{"$f":"SUM(U7:U14)","v":32},null,null,null,"Total Sequences in Block Summary",{"$f":"SUM(Z7:Z14)","v":31},null,null,null,"Total Sequences in Block Summary",{"$f":"SUM(AE7:AE14)","v":32},null,null,null,"Total Sequences in Block Summary",{"$f":"SUM(AJ7:AJ14)","v":32},null,null,null,"Total Sequences in Block Summary",{"$f":"SUM(AO7:AO14)","v":31},null,null,null,"Total Sequences in Block Summary",{"$f":"SUM(AT7:AT14)","v":32}]
[null,null,null,null,null,null,null,null,null,null,null,null,null,null,null,null,null,null,null,"Block 1",null,null,null,null,"Block 2",null,null,null,null,"Block 3",null,null,null,null,"Block 4",null,null,null,null,"Block 5",null,null,null,null,"Block 6"]
["Sequence\nComponent\n1","Time\n1","Sequence\nComponent\n2","Time\n2","Sequence\nComponent\n3","Time\n3","Sequence\nComponent\n4","Time\n4","Sequence\nComponent\n5","Time\n5","Correct?\n0=No 1=Yes","Sequence",null,"Frequency",null,"Relative Frequency","Variability",null,null,"Frequency",null,"Relative Frequency","Variability",null,"Frequency",null,"Relative Frequency","Variability",null,"Frequency",null,"Relative Frequency","Variability",null,"Frequency",null,"Relative Frequency","Variability",null,"Frequency",null,"Relative Frequency","Variability",null,"Frequency",null,"Relative Frequency","Variability"]
[11,69,11,78,12,90,null,null,null,null,0,111,null,111,{"$f":"COUNTIF($L$7:$L$500,N7)","v":111},{"$f":"O7/$Q$4","v":0.58421052631578951},{"$f":"IF(P7=0,0,(P7*((LOG(P7))/LOG(2))))","v":-0.45302005978880761},null,null,{"$f":"N7","v":111},{"$f":"COUNTIF(L7:L38,T7)","v":16},{"$f":"U7/(W4-U10)","v":0.5},{"$f":"IF(V7=0,0,(V7*((LOG(V7))/LOG(2))))","v":-0.5},null,{"$f":"N7","v":111},{"$f":"COUNTIF(L39:L69,Y7)","v":17},{"$f":"Z7/(AB4-Z10)","v":0.54838709677419351},{"$f":"IF(AA7=0,0,(AA7*((LOG(AA7))/LOG(2))))","v":-0.47530545081681003},null,{"$f":"N7","v":111},{"$f":"COUNTIF(L70:L101,AD7)","v":19},{"$f":"AE7/(AG4-AE10)","v":0.59375},{"$f":"IF(AF7=0,0,(AF7*((LOG(AF7))/LOG(2))))","v":-0.44654303889287106},null,{"$f":"N7","v":111},{"$f":"COUNTIF(L102:L133,AI7)","v":20},{"$f":"AJ7/(AL4-AJ10)","v":0.625},{"$f":"IF(AK7=0,0,(AK7*((LOG(AK7))/LOG(2))))","v":-0.42379494069539858},null,{"$f":"N7","v":111},{"$f":"COUNTIF(L134:L164,AN7)","v":20},{"$f":"AO7/(AQ4-AO10)","v":0.64516129032258063},{"$f":"IF(AP7=0,0,(AP7*((LOG(AP7))/LOG(2))))","v":-0.40791497774162117},null,{"$f":"N7","v":111},{"$f":"COUNTIF(L165:L196,AS7)","v":19},{"$f":"AT7/(AV4-AT10)","v":0.59375},{"$f":"IF(AU7=0,0,(AU7*((LOG(AU7))/LOG(2))))","v":-0.44654303889287106}]
[11,205,11,214,12,227,null,null,null,null,0,111,null,112,{"$f":"COUNTIF($L$7:$L$500,N8)","v":0},{"$f":"O8/$Q$4","v":0},{"$f":"IF(P8=0,0,(P8*((LOG(P8))/LOG(2))))","v":0},null,null,{"$f":"N8","v":112},{"$f":"COUNTIF(L7:L38,T8)","v":0},{"$f":"U8/(W4-U10)","v":0},{"$f":"IF(V8=0,0,(V8*((LOG(V8))/LOG(2))))","v":0},null,{"$f":"N8","v":112},{"$f":"COUNTIF(L39:L69,Y8)","v":0},{"$f":"Z8/(AB4-Z10)","v":0},{"$f":"IF(AA8=0,0,(AA8*((LOG(AA8))/LOG(2))))","v":0},null,{"$f":"N8","v":112},{"$f":"COUNTIF(L70:L101,AD8)","v":0},{"$f":"AE8/(AG4-AE10)","v":0},{"$f":"IF(AF8=0,0,(AF8*((LOG(AF8))/LOG(2))))","v":0},null,{"$f":"N8","v":112},{"$f":"COUNTIF(L102:L133,AI8)","v":0},{"$f":"AJ8/(AL4-AJ10)","v":0},{"$f":"IF(AK8=0,0,(AK8*((LOG(AK8))/LOG(2))))","v":0},null,{"$f":"N8","v":112},{"$f":"COUNTIF(L134:L164,AN8)","v":0},{"$f":"AO8/(AQ4-AO10)","v":0},{"$f":"IF(AP8=0,0,(AP8*((LOG(AP8))/LOG(2))))","v":0},null,{"$f":"N8","v":112},{"$f":"COUNTIF(L165:L196,AS8)","v":0},{"$f":"AT8/(AV4-AT10)","v":0},{"$f":"IF(AU8=0,0,(AU8*((LOG(AU8))/LOG(2))))","v":0}]
[22,326,13,340,14,351,null,null,null,null,0,211,null,121,{"$f":"COUNTIF($L$7:$L$500,N9)","v":0},{"$f":"O9/$Q$4","v":0},{"$f":"IF(P9=0,0,(P9*((LOG(P9))/LOG(2))))","v":0},null,null,{"$f":"N9","v":121},{"$f":"COUNTIF(L7:L38,T9)","v":0},{"$f":"U9/(W4-U10)","v":0},{"$f":"IF(V9=0,0,(V9*((LOG(V9))/LOG(2))))","v":0},null,{"$f":"N9","v":121},{"$f":"COUNTIF(L39:L69,Y9)","v":0},{"$f":"Z9/(AB4-Z10)","v":0},{"$f":"IF(AA9=0,0,(AA9*((LOG(AA9))/LOG(2))))","v":0},null,{"$f":"N9","v":121},{"$f":"COUNTIF(L70:L101,AD9)","v":0},{"$f":"AE9/(AG4-AE10)","v":0},{"$f":"IF(AF9=0,0,(AF9*((LOG(AF9))/LOG(2))))","v":0},null,{"$f":"N9","v":121},{"$f":"COUNTIF(L102:L133,AI9)","v":0},{"$f":"AJ9/(AL4-AJ10)","v":0},{"$f":"IF(AK9=0,0,(AK9*((LOG(AK9))/LOG(2))))","v":0},null,{"$f":"N9","v":121},{"$f":"COUNTIF(L134:L164,AN9)","v":0},{"$f":"AO9/(AQ4-AO10)","v":0},{"$f":"IF(AP9=0,0,(AP9*((LOG(AP9))/LOG(2))))","v":0},null,{"$f":"N9","v":121},{"$f":"COUNTIF(L165:L196,AS9)","v":0},{"$f":"AT9/(AV4-AT10)","v":0},{"$f":"IF(AU9=0,0,(AU9*((LOG(AU9))/LOG(2))))","v":0}]
[11,468,11,474,12,485,null,null,null,null,0,111,null,122,{"$f":"COUNTIF($L$7:$L$500,N10)","v":0},{"$f":"O10/$Q$4","v":0},{"$f":"IF(P10=0,0,(P10*((LOG(P10))/LOG(2))))","v":0},null,null,{"$f":"N10","v":122},{"$f":"COUNTIF(L7:L38,T10)","v":0},null,null,null,{"$f":"N10","v":122},{"$f":"COUNTIF(L39:L69,Y10)","v":0},null,null,null,{"$f":"N10","v":122},{"$f":"COUNTIF(L70:L101,AD10)","v":0},null,null,null,{"$f":"N10","v":122},{"$f":"COUNTIF(L102:L133,AI10)","v":0},null,null,null,{"$f":"N10","v":122},{"$f":"COUNTIF(L134:L164,AN10)","v":0},null,null,null,{"$f":"N10","v":122},{"$f":"COUNTIF(L165:L196,AS10)","v":0}]
[11,604,11,612,12,624,null,null,null,null,0,111,null,211,{"$f":"COUNTIF($L$7:$L$500,N11)","v":78},{"$f":"O11/$Q$4","v":0.41052631578947368},{"$f":"IF(P11=0,0,(P11*((LOG(P11))/LOG(2))))","v":-0.52730191778188717},null,null,{"$f":"N11","v":211},{"$f":"COUNTIF(L7:L38,T11)","v":16},{"$f":"U11/(W4-U10)","v":0.5},{"$f":"IF(V11=0,0,(V11*((LOG(V11))/LOG(2))))","v":-0.5},null,{"$f":"N11","v":211},{"$f":"COUNTIF(L39:L69,Y11)","v":14},{"$f":"Z11/(AB4-Z10)","v":0.45161290322580644},{"$f":"IF(AA11=0,0,(AA11*((LOG(AA11))/LOG(2))))","v":-0.51792836892289662},null,{"$f":"N11","v":211},{"$f":"COUNTIF(L70:L101,AD11)","v":13},{"$f":"AE11/(AG4-AE10)","v":0.40625},{"$f":"IF(AF11=0,0,(AF11*((LOG(AF11))/LOG(2))))","v":-0.52794636450518129},null,{"$f":"N11","v":211},{"$f":"COUNTIF(L102:L133,AI11)","v":11},{"$f":"AJ11/(AL4-AJ10)","v":0.34375},{"$f":"IF(AK11=0,0,(AK11*((LOG(AK11))/LOG(2))))","v":-0.52957038109342913},null,{"$f":"N11","v":211},{"$f":"COUNTIF(L134:L164,AN11)","v":11},{"$f":"AO11/(AQ4-AO10)","v":0.35483870967741937},{"$f":"IF(AP11=0,0,(AP11*((LOG(AP11))/LOG(2))))","v":-0.53040037449178568},null,{"$f":"N11","v":211},{"$f":"COUNTIF(L165:L196,AS11)","v":13},{"$f":"AT11/(AV4-AT10)","v":0.40625},{"$f":"IF(AU11=0,0,(AU11*((LOG(AU11))/LOG(2))))","v":-0.52794636450518129}]
[22,728,13,748,14,758,null,null,null,null,0,211,null,212,{"$f":"COUNTIF($L$7:$L$500,N12)","v":0},{"$f":"O12/$Q$4","v":0},{"$f":"IF(P12=0,0,(P12*((LOG(P12))/LOG(2))))","v":0},null,null,{"$f":"N12","v":212},{"$f":"COUNTIF(L7:L38,T12)","v":0},{"$f":"U12/(W4-U10)","v":0},{"$f":"IF(V12=0,0,(V12*((LOG(V12))/LOG(2))))","v":0},null,{"$f":"N12","v":212},{"$f":"COUNTIF(L39:L69,Y12)","v":0},{"$f":"Z12/(AB4-Z10)","v":0},{"$f":"IF(AA12=0,0,(AA12*((LOG(AA12))/LOG(2))))","v":0},null,{"$f":"N12","v":212},{"$f":"COUNTIF(L70:L101,AD12)","v":0},{"$f":"AE12/(AG4-AE10)","v":0},{"$f":"IF(AF12=0,0,(AF12*((LOG(AF12))/LOG(2))))","v":0},null,{"$f":"N12","v":212},{"$f":"COUNTIF(L102:L133,AI12)","v":0},{"$f":"AJ12/(AL4-AJ10)","v":0},{"$f":"IF(AK12=0,0,(AK12*((LOG(AK12))/LOG(2))))","v":0},null,{"$f":"N12","v":212},{"$f":"COUNTIF(L134:L164,AN12)","v":0},{"$f":"AO12/(AQ4-AO10)","v":0},{"$f":"IF(AP12=0,0,(AP12*((LOG(AP12))/LOG(2))))","v":0},null,{"$f":"N12","v":212},{"$f":"COUNTIF(L165:L196,AS12)","v":0},{"$f":"AT12/(AV4-AT10)","v":0},{"$f":"IF(AU12=0,0,(AU12*((LOG(AU12))/LOG(2))))","v":0}]
[11,882,11,891,12,903,null,null,null,null,0,111,null,221,{"$f":"COUNTIF($L$7:$L$500,N13)","v":1},{"$f":"O13/$Q$4","v":5.263157894736842E-3},{"$f":"IF(P13=0,0,(P13*((LOG(P13))/LOG(2))))","v":-3.9841345307004991E-2},null,null,{"$f":"N13","v":221},{"$f":"COUNTIF(L7:L38,T13)","v":0},{"$f":"U13/(W4-U10)","v":0},{"$f":"IF(V13=0,0,(V13*((LOG(V13))/LOG(2))))","v":0},null,{"$f":"N13","v":221},{"$f":"COUNTIF(L39:L69,Y13)","v":0},{"$f":"Z13/(AB4-Z10)","v":0},{"$f":"IF(AA13=0,0,(AA13*((LOG(AA13))/LOG(2))))","v":0},null,{"$f":"N13","v":221},{"$f":"COUNTIF(L70:L101,AD13)","v":0},{"$f":"AE13/(AG4-AE10)","v":0},{"$f":"IF(AF13=0,0,(AF13*((LOG(AF13))/LOG(2))))","v":0},null,{"$f":"N13","v":221},{"$f":"COUNTIF(L102:L133,AI13)","v":1},{"$f":"AJ13/(AL4-AJ10)","v":3.125E-2},{"$f":"IF(AK13=0,0,(AK13*((LOG(AK13))/LOG(2))))","v":-0.15625},null,{"$f":"N13","v":221},{"$f":"COUNTIF(L134:L164,AN13)","v":0},{"$f":"AO13/(AQ4-AO10)","v":0},{"$f":"IF(AP13=0,0,(AP13*((LOG(AP13))/LOG(2))))","v":0},null,{"$f":"N13","v":221},{"$f":"COUNTIF(L165:L196,AS13)","v":0},{"$f":"AT13/(AV4-AT10)","v":0},{"$f":"IF(AU13=0,0,(AU13*((LOG(AU13))/LOG(2))))","v":0}]
[11,1019,11,1028,12,1040,null,null,null,null,0,111,null,222,{"$f":"COUNTIF($L$7:$L$500,N14)","v":0},{"$f":"O14/$Q$4","v":0},{"$f":"IF(P14=0,0,(P14*((LOG(P14))/LOG(2))))","v":0},null,null,{"$f":"N14","v":222},{"$f":"COUNTIF(L7:L38,T14)","v":0},{"$f":"U14/(W4-U10)","v":0},{"$f":"IF(V14=0,0,(V14*((LOG(V14))/LOG(2))))","v":0},null,{"$f":"N14","v":222},{"$f":"COUNTIF(L39:L69,Y14)","v":0},{"$f":"Z14/(AB4-Z10)","v":0},{"$f":"IF(AA14=0,0,(AA14*((LOG(AA14))/LOG(2))))","v":0},null,{"$f":"N14","v":222},{"$f":"COUNTIF(L70:L101,AD14)","v":0},{"$f":"AE14/(AG4-AE10)","v":0},{"$f":"IF(AF14=0,0,(AF14*((LOG(AF14))/LOG(2))))","v":0},null,{"$f":"N14","v":222},{"$f":"COUNTIF(L102:L133,AI14)","v":0},{"$f":"AJ14/(AL4-AJ10)","v":0},{"$f":"IF(AK14=0,0,(AK14*((LOG(AK14))/LOG(2))))","v":0},null,{"$f":"N14","v":222},{"$f":"COUNTIF(L134:L164,AN14)","v":0},{"$f":"AO14/(AQ4-AO10)","v":0},{"$f":"IF(AP14=0,0,(AP14*((LOG(AP14))/LOG(2))))","v":0},null,{"$f":"N14","v":222},{"$f":"COUNTIF(L165:L196,AS14)","v":0},{"$f":"AT14/(AV4-AT10)","v":0},{"$f":"IF(AU14=0,0,(AU14*((LOG(AU14))/LOG(2))))","v":0}]
[22,1147,13,1170,14,1183,null,null,null,null,0,211,null,null,null,{"$f":"SUM(P7:P14)","v":1},{"$f":"-SUM(Q7:Q14)","v":1.0201633228776998},null,null,null,null,{"$f":"SUM(V7:V14)","v":1},{"$f":"-SUM(W7:W14)","v":1},null,null,null,{"$f":"SUM(AA7:AA14)","v":1},{"$f":"-SUM(AB7:AB14)","v":0.99323381973970659},null,null,null,{"$f":"SUM(AF7:AF14)","v":1},{"$f":"-SUM(AG7:AG14)","v":0.97448940339805235},null,null,null,{"$f":"SUM(AK7:AK14)","v":1},{"$f":"-SUM(AL7:AL14)","v":1.1096153217888278},null,null,null,{"$f":"SUM(AP7:AP14)","v":1},{"$f":"-SUM(AQ7:AQ14)","v":0.9383153522334069},null,null,null,{"$f":"SUM(AU7:AU14)","v":1},{"$f":"-SUM(AV7:AV14)","v":0.97448940339805235}]
[11,1311,11,1321,12,1335,null,null,null,null,0,111,null,null,null,"U=",{"$f":"Q15/(LOG(Q4)/LOG(2))","v":0.13476654980776209},null,null,null,null,"U1=",{"$f":"W15/(LOG(W4)/LOG(2))","v":0.2},null,null,null,"U2=",{"$f":"AB15/(LOG(AB4)/LOG(2))","v":0.20048333927690981},null,null,null,"U3=",{"$f":"AG15/(LOG(AG4)/LOG(2))","v":0.19489788067961047},null,null,null,"U4=",{"$f":"AL15/(LOG(AL4)/LOG(2))","v":0.22192306435776557},null,null,null,"U5=",{"$f":"AQ15/(LOG(AQ4)/LOG(2))","v":0.18939809677427447},null,null,null,"U6=",{"$f":"AV15/(LOG(AV4)/LOG(2))","v":0.19489788067961047}]
[11,1452,11,1460,12,1471,null,null,null,null,0,111]
[22,1568,13,1581,14,1586,null,null,null,null,0,211]
[22,1690,13,1706,14,1715,null,null,null,null,0,211,null,"Total Target Seq"]
[22,1820,13,1832,14,1839,null,null,null,null,0,211,null,{"$f":"COUNTIF(L7:L196,G3)","v":0},null,32,31,32,32,31,32]
[22,1939,13,1951,14,1958,null,null,null,null,0,211,null,null,null,"% of reinforcement given in 6 equal intervals based on number of trials "]
[22,2056,13,2069,14,2078,null,null,null,null,0,211,null,null,null,"%_1","%_2","%_3","%_4","%_5","%_6"]
[11,2196,11,2205,12,2217,null,null,null,null,0,111,null,null,"target sequence",{"$f":"$G$3","v":122},{"$f":"$G$3","v":122},{"$f":"$G$3","v":122},{"$f":"$G$3","v":122},{"$f":"$G$3","v":122},{"$f":"$G$3","v":122}]
[22,2320,13,2331,14,2339,null,null,null,null,0,211,null,null,"total reinforcement",{"$f":"U10","v":0},{"$f":"Z10","v":0},{"$f":"AE10","v":0},{"$f":"AJ10","v":0},{"$f":"AO10","v":0},{"$f":"AT10","v":0}]
[22,2447,13,2464,14,2473,null,null,null,null,0,211,null,null,"% target"]
[11,2586,11,2595,12,2606,null,null,null,null,0,111,null,null,"CCRF"]
[22,2713,13,2725,14,2733,null,null,null,null,0,211,null,null,"% CCRf"]
[22,2834,13,2845,14,2853,null,null,null,null,0,211,null,null,"average response rate",{"$f":"F38/P20","v":128.6875},{"$f":"(F69-F38)/Q20","v":123.70967741935483},{"$f":"(F101-F69)/R20","v":125.40625},{"$f":"(F133-F101)/S20","v":125.28125},{"$f":"(F164-F133)/T20","v":127.29032258064517},{"$f":"(F196-F164)/U20","v":127.03125}]
[22,2955,13,2966,14,2971,null,null,null,null,0,211]
[22,3075,13,3086,14,3091,null,null,null,null,0,211]
[11,3205,11,3211,12,3222,null,null,null,null,0,111]
[11,3336,11,3346,12,3359,null,null,null,null,0,111]
[11,3473,11,3481,12,3492,null,null,null,null,0,111]
[11,3604,11,3610,12,3622,null,null,null,null,0,111]
[11,3738,11,3747,12,3757,null,null,null,null,0,111]
[11,3867,11,3873,12,3881,null,null,null,null,0,111]
[22,3981,13,3990,14,3994,null,null,null,null,0,211]
[22,4098,13,4109,14,4118,null,null,null,null,0,211]
[22,4219,13,4228,14,4233,null,null,null,null,0,211]
[22,4334,13,4346,14,4352,null,null,null,null,0,211]
[11,4463,11,4468,12,4480,null,null,null,null,0,111]
[11,4591,11,4599,12,4610,null,null,null,null,0,111]
[11,4722,11,4727,12,4735,null,null,null,null,0,111]
[22,4838,13,4847,14,4851,null,null,null,null,0,211]
[11,4963,11,4971,12,4982,null,null,null,null,0,111]
[11,5088,11,5093,12,5101,null,null,null,null,0,111]
[11,5210,11,5215,12,5224,null,null,null,null,0,111]
[22,5322,13,5335,14,5341,null,null,null,null,0,211]
[11,5451,11,5458,12,5467,null,null,null,null,0,111]
[22,5575,13,5583,14,5589,null,null,null,null,0,211]
[11,5702,11,5709,12,5717,null,null,null,null,0,111]
[22,5817,13,5825,14,5831,null,null,null,null,0,211]
[22,5929,13,5942,14,5951,null,null,null,null,0,211]
[22,6050,13,6061,14,6067,null,null,null,null,0,211]
[22,6167,13,6175,14,6180,null,null,null,null,0,211]
[11,6293,11,6302,12,6314,null,null,null,null,0,111]
[22,6416,13,6425,14,6430,null,null,null,null,0,211]
[22,6525,13,6546,14,6555,null,null,null,null,0,211]
[22,6656,13,6667,14,6677,null,null,null,null,0,211]
[11,6792,11,6797,12,6807,null,null,null,null,0,111]
[11,6922,11,6928,12,6937,null,null,null,null,0,111]
[11,7048,11,7059,12,7069,null,null,null,null,0,111]
[11,7184,11,7192,12,7202,null,null,null,null,0,111]
[11,7313,11,7322,12,7334,null,null,null,null,0,111]
[22,7435,13,7446,14,7452,null,null,null,null,0,211]
[22,7555,13,7563,14,7572,null,null,null,null,0,211]
[11,7680,11,7685,12,7694,null,null,null,null,0,111]
[11,7808,11,7818,12,7830,null,null,null,null,0,111]
[11,7940,11,7945,12,7953,null,null,null,null,0,111]
[11,8068,11,8076,12,8087,null,null,null,null,0,111]
[11,8195,11,8201,12,8213,null,null,null,null,0,111]
[22,8313,13,8327,14,8335,null,null,null,null,0,211]
[11,8444,11,8453,12,8460,null,null,null,null,0,111]
[11,8573,11,8578,12,8587,null,null,null,null,0,111]
[22,8686,13,8695,14,8700,null,null,null,null,0,211]
[22,8803,13,8811,14,8820,null,null,null,null,0,211]
[22,8923,13,8931,14,8938,null,null,null,null,0,211]
[22,9039,13,9056,14,9068,null,null,null,null,0,211]
[11,9188,11,9197,12,9209,null,null,null,null,0,111]
[11,9332,11,9343,12,9355,null,null,null,null,0,111]
[11,9466,11,9470,12,9479,null,null,null,null,0,111]
[22,9578,13,9590,14,9598,null,null,null,null,0,211]
[11,9708,11,9714,12,9723,null,null,null,null,0,111]
[22,9826,13,9834,14,9840,null,null,null,null,0,211]
[11,9960,11,9968,12,9978,null,null,null,null,0,111]
[11,10092,11,10101,12,10111,null,null,null,null,0,111]
[11,10221,11,10227,12,10235,null,null,null,null,0,111]
[22,10336,13,10348,14,10354,null,null,null,null,0,211]
[22,10448,13,10461,14,10470,null,null,null,null,0,211]
[11,10597,11,10602,12,10610,null,null,null,null,0,111]
[11,10716,11,10721,12,10729,null,null,null,null,0,111]
[11,10843,11,10851,12,10862,null,null,null,null,0,111]
[11,10972,11,10978,12,10987,null,null,null,null,0,111]
[11,11095,11,11106,12,11115,null,null,null,null,0,111]
[22,11218,13,11228,14,11238,null,null,null,null,0,211]
[22,11335,13,11345,14,11355,null,null,null,null,0,211]
[11,11458,11,11462,12,11470,null,null,null,null,0,111]
[11,11588,11,11598,12,11609,null,null,null,null,0,111]
[11,11718,11,11726,12,11734,null,null,null,null,0,111]
[22,11833,13,11842,14,11850,null,null,null,null,0,211]
[22,11946,13,11958,14,11966,null,null,null,null,0,211]
[11,12072,11,12080,12,12089,null,null,null,null,0,111]
[11,12201,11,12209,12,12219,null,null,null,null,0,111]
[22,12322,13,12330,14,12338,null,null,null,null,0,211]
[22,12437,13,12446,14,12458,null,null,null,null,0,211]
[22,12560,13,12570,14,12575,null,null,null,null,0,211]
[11,12683,11,12691,12,12700,null,null,null,null,0,111]
[11,12810,11,12819,12,12831,null,null,null,null,0,111]
[11,12939,11,12947,12,12956,null,null,null,null,0,111]
[11,13067,11,13075,12,13085,null,null,null,null,0,111]
[11,13198,11,13207,12,13218,null,null,null,null,0,111]
[22,13311,13,13327,14,13334,null,null,null,null,0,211]
[22,13432,13,13440,14,13450,null,null,null,null,0,211]
[11,13563,11,13572,12,13584,null,null,null,null,0,111]
[11,13697,11,13705,12,13716,null,null,null,null,0,111]
[22,13812,24,13822,14,13833,null,null,null,null,0,221]
[22,13933,13,13947,14,13955,null,null,null,null,0,211]
[11,14067,11,14075,12,14087,null,null,null,null,0,111]
[11,14200,11,14208,12,14218,null,null,null,null,0,111]
[11,14330,11,14337,12,14346,null,null,null,null,0,111]
[22,14447,13,14456,14,14462,null,null,null,null,0,211]
[11,14572,11,14580,12,14591,null,null,null,null,0,111]
[11,14698,11,14703,12,14711,null,null,null,null,0,111]
[22,14810,13,14819,14,14828,null,null,null,null,0,211]
[22,14926,13,14937,14,14946,null,null,null,null,0,211]
[11,15066,11,15076,12,15088,null,null,null,null,0,111]
[11,15203,11,15212,12,15223,null,null,null,null,0,111]
[11,15330,11,15338,12,15347,null,null,null,null,0,111]
[22,15445,13,15456,14,15461,null,null,null,null,0,211]
[11,15570,11,15578,12,15589,null,null,null,null,0,111]
[22,15688,13,15696,14,15704,null,null,null,null,0,211]
[11,15819,11,15828,12,15839,null,null,null,null,0,111]
[11,15955,11,15963,12,15975,null,null,null,null,0,111]
[11,16086,11,16094,12,16105,null,null,null,null,0,111]
[11,16215,11,16222,12,16234,null,null,null,null,0,111]
[11,16343,11,16351,12,16360,null,null,null,null,0,111]
[22,16458,13,16467,14,16474,null,null,null,null,0,211]
[11,16583,11,16591,12,16599,null,null,null,null,0,111]
[22,16698,13,16706,14,16712,null,null,null,null,0,211]
[22,16810,13,16822,14,16830,null,null,null,null,0,211]
[22,16925,13,16936,14,16944,null,null,null,null,0,211]
[11,17055,11,17063,12,17072,null,null,null,null,0,111]
[22,17173,13,17184,14,17189,null,null,null,null,0,211]
[11,17296,11,17301,12,17313,null,null,null,null,0,111]
[22,17411,13,17420,14,17425,null,null,null,null,0,211]
[11,17561,11,17571,12,17583,null,null,null,null,0,111]
[22,17684,13,17696,14,17703,null,null,null,null,0,211]
[11,17812,11,17822,12,17835,null,null,null,null,0,111]
[22,17933,13,17943,14,17949,null,null,null,null,0,211]
[11,18118,11,18125,12,18137,null,null,null,null,0,111]
[11,18254,11,18265,12,18276,null,null,null,null,0,111]
[22,18376,13,18390,14,18398,null,null,null,null,0,211]
[11,18508,11,18513,12,18522,null,null,null,null,0,111]
[11,18628,11,18635,12,18643,null,null,null,null,0,111]
[11,18754,11,18761,12,18773,null,null,null,null,0,111]
[11,18884,11,18889,12,18897,null,null,null,null,0,111]
[22,18996,13,19007,14,19012,null,null,null,null,0,211]
[22,19106,13,19122,14,19130,null,null,null,null,0,211]
[11,19241,11,19250,12,19262,null,null,null,null,0,111]
[11,19374,11,19382,12,19390,null,null,null,null,0,111]
[11,19507,11,19515,12,19524,null,null,null,null,0,111]
[11,19637,11,19645,12,19656,null,null,null,null,0,111]
[11,19766,11,19774,12,19783,null,null,null,null,0,111]
[11,19898,11,19908,12,19921,null,null,null,null,0,111]
[22,20019,13,20030,14,20035,null,null,null,null,0,211]
[11,20144,11,20149,12,20159,null,null,null,null,0,111]
[11,20270,11,20277,12,20287,null,null,null,null,0,111]
[11,20398,11,20406,12,20418,null,null,null,null,0,111]
[11,20528,11,20538,12,20550,null,null,null,null,0,111]
[11,20671,11,20679,12,20688,null,null,null,null,0,111]
[11,20798,11,20804,12,20816,null,null,null,null,0,111]
[11,20928,11,20937,12,20948,null,null,null,null,0,111]
[22,21048,13,21070,14,21081,null,null,null,null,0,211]
[11,21196,11,21205,12,21216,null,null,null,null,0,111]
[11,21327,11,21335,12,21344,null,null,null,null,0,111]
[11,21451,11,21460,12,21472,null,null,null,null,0,111]
[11,21587,11,21596,12,21605,null,null,null,null,0,111]
[22,21724,13,21733,14,21740,null,null,null,null,0,211]
[11,21851,11,21856,12,21868,null,null,null,null,0,111]
[11,21980,11,21985,12,21994,null,null,null,null,0,111]
[11,22105,11,22112,12,22125,null,null,null,null,0,111]
[11,22235,11,22242,12,22251,null,null,null,null,0,111]
[22,22352,13,22363,14,22372,null,null,null,null,0,211]
[22,22470,13,22485,14,22494,null,null,null,null,0,211]
[11,22602,11,22603,12,22612,null,null,null,null,0,111]
[22,22713,13,22726,14,22734,null,null,null,null,0,211]
[22,22839,13,22852,14,22860,null,null,null,null,0,211]
[22,22962,13,22971,14,22978,null,null,null,null,0,211]
[11,23097,11,23106,12,23116,null,null,null,null,0,111]
[22,23218,13,23231,14,23240,null,null,null,null,0,211]
[11,23350,11,23358,12,23367,null,null,null,null,0,111]
[22,23468,13,23481,14,23489,null,null,null,null,0,211]
[22,23589,13,23600,14,23607,null,null,null,null,0,211]
[11,23725,11,23733,12,23745,null,null,null,null,0,111]
[22,23851,13,23862,14,23869,null,null,null,null,0,211]
[22,23968,13,23981,14,23986,null,null,null,null,null,211]

{"sheet":"!MB13B10.095","index":25,"n_rows":197,"n_cols":48,"rows_kept":197,"cut":false,"hidden":false,"merged":[[4,39,4,42],[5,39,5,40],[4,44,4,47],[5,44,5,45],[4,24,4,27],[5,24,5,25],[4,29,4,32],[5,29,5,30],[4,34,4,37],[5,34,5,35],[1,1,1,2],[5,13,5,14],[18,13,18,14],[19,13,19,14],[4,19,4,22],[5,19,5,20]]}
["Report for:!MB13B10.095"]
["Date:","<date>"]
["Hen:","<hen>",null,null,null,"Correct Sequence",{"$f":"Start!J2","v":122},null,null,null,null,null,null,null,null,"Total Sequences in Data",{"$f":"4994-COUNTBLANK(L7:L5000)","v":191},null,null,null,null,"Total Sequences in Block Data",{"$f":"COUNTA(L7:L38)","v":32},null,null,null,"Total Sequences in Block Data",{"$f":"COUNTA(L39:L70)","v":32},null,null,null,"Total Sequences in Block Data",{"$f":"COUNTA(L71:L101)","v":31},null,null,null,"Total Sequences in Block Data",{"$f":"COUNTA(L102:L133)","v":32},null,null,null,"Total Sequences in Block Data",{"$f":"COUNTA(L134:L165)","v":32},null,null,null,"Total Sequences in Block Data",{"$f":"COUNTA(L166:L197)","v":32}]
[null,null,null,null,null,null,null,null,null,null,null,null,null,null,null,"Total Sequences in Summary",{"$f":"SUM(O7:O14)","v":191},null,null,null,null,"Total Sequences in Block Summary",{"$f":"SUM(U7:U14)","v":32},null,null,null,"Total Sequences in Block Summary",{"$f":"SUM(Z7:Z14)","v":32},null,null,null,"Total Sequences in Block Summary",{"$f":"SUM(AE7:AE14)","v":31},null,null,null,"Total Sequences in Block Summary",{"$f":"SUM(AJ7:AJ14)","v":32},null,null,null,"Total Sequences in Block Summary",{"$f":"SUM(AO7:AO14)","v":32},null,null,null,"Total Sequences in Block Summary",{"$f":"SUM(AT7:AT14)","v":32}]
[null,null,null,null,null,null,null,null,null,null,null,null,null,null,null,null,null,null,null,"Block 1",null,null,null,null,"Block 2",null,null,null,null,"Block 3",null,null,null,null,"Block 4",null,null,null,null,"Block 5",null,null,null,null,"Block 6"]
["Sequence\nComponent\n1","Time\n1","Sequence\nComponent\n2","Time\n2","Sequence\nComponent\n3","Time\n3","Sequence\nComponent\n4","Time\n4","Sequence\nComponent\n5","Time\n5","Correct?\n0=No 1=Yes","Sequence",null,"Frequency",null,"Relative Frequency","Variability",null,null,"Frequency",null,"Relative Frequency","Variability",null,"Frequency",null,"Relative Frequency","Variability",null,"Frequency",null,"Relative Frequency","Variability",null,"Frequency",null,"Relative Frequency","Variability",null,"Frequency",null,"Relative Frequency","Variability",null,"Frequency",null,"Relative Frequency","Variability"]
[22,12,13,21,14,29,null,null,null,null,0,211,null,111,{"$f":"COUNTIF($L$7:$L$500,N7)","v":119},{"$f":"O7/$Q$4","v":0.62303664921465973},{"$f":"IF(P7=0,0,(P7*((LOG(P7))/LOG(2))))","v":-0.42529171048486286},null,null,{"$f":"N7","v":111},{"$f":"COUNTIF(L7:L38,T7)","v":16},{"$f":"U7/(W4-U10)","v":0.5},{"$f":"IF(V7=0,0,(V7*((LOG(V7))/LOG(2))))","v":-0.5},null,{"$f":"N7","v":111},{"$f":"COUNTIF(L39:L70,Y7)","v":18},{"$f":"Z7/(AB4-Z10)","v":0.5625},{"$f":"IF(AA7=0,0,(AA7*((LOG(AA7))/LOG(2))))","v":-0.4669171866886993},null,{"$f":"N7","v":111},{"$f":"COUNTIF(L71:L101,AD7)","v":22},{"$f":"AE7/(AG4-AE10)","v":0.70967741935483875},{"$f":"IF(AF7=0,0,(AF7*((LOG(AF7))/LOG(2))))","v":-0.35112332962873266},null,{"$f":"N7","v":111},{"$f":"COUNTIF(L102:L133,AI7)","v":19},{"$f":"AJ7/(AL4-AJ10)","v":0.59375},{"$f":"IF(AK7=0,0,(AK7*((LOG(AK7))/LOG(2))))","v":-0.44654303889287106},null,{"$f":"N7","v":111},{"$f":"COUNTIF(L134:L165,AN7)","v":24},{"$f":"AO7/(AQ4-AO10)","v":0.75},{"$f":"IF(AP7=0,0,(AP7*((LOG(AP7))/LOG(2))))","v":-0.31127812445913283},null,{"$f":"N7","v":111},{"$f":"COUNTIF(L166:L197,AS7)","v":20},{"$f":"AT7/(AV4-AT10)","v":0.625},{"$f":"IF(AU7=0,0,(AU7*((LOG(AU7))/LOG(2))))","v":-0.42379494069539858}]
[11,146,11,153,12,165,null,null,null,null,0,111,null,112,{"$f":"COUNTIF($L$7:$L$500,N8)","v":0},{"$f":"O8/$Q$4","v":0},{"$f":"IF(P8=0,0,(P8*((LOG(P8))/LOG(2))))","v":0},null,null,{"$f":"N8","v":112},{"$f":"COUNTIF(L7:L38,T8)","v":0},{"$f":"U8/(W4-U10)","v":0},{"$f":"IF(V8=0,0,(V8*((LOG(V8))/LOG(2))))","v":0},null,{"$f":"N8","v":112},{"$f":"COUNTIF(L39:L70,Y8)","v":0},{"$f":"Z8/(AB4-Z10)","v":0},{"$f":"IF(AA8=0,0,(AA8*((LOG(AA8))/LOG(2))))","v":0},null,{"$f":"N8","v":112},{"$f":"COUNTIF(L71:L101,AD8)","v":0},{"$f":"AE8/(AG4-AE10)","v":0},{"$f":"IF(AF8=0,0,(AF8*((LOG(AF8))/LOG(2))))","v":0},null,{"$f":"N8","v":112},{"$f":"COUNTIF(L102:L133,AI8)","v":0},{"$f":"AJ8/(AL4-AJ10)","v":0},{"$f":"IF(AK8=0,0,(AK8*((LOG(AK8))/LOG(2))))","v":0},null,{"$f":"N8","v":112},{"$f":"COUNTIF(L134:L165,AN8)","v":0},{"$f":"AO8/(AQ4-AO10)","v":0},{"$f":"IF(AP8=0,0,(AP8*((LOG(AP8))/LOG(2))))","v":0},null,{"$f":"N8","v":112},{"$f":"COUNTIF(L166:L197,AS8)","v":0},{"$f":"AT8/(AV4-AT10)","v":0},{"$f":"IF(AU8=0,0,(AU8*((LOG(AU8))/LOG(2))))","v":0}]
[22,266,13,275,14,281,null,null,null,null,0,211,null,121,{"$f":"COUNTIF($L$7:$L$500,N9)","v":0},{"$f":"O9/$Q$4","v":0},{"$f":"IF(P9=0,0,(P9*((LOG(P9))/LOG(2))))","v":0},null,null,{"$f":"N9","v":121},{"$f":"COUNTIF(L7:L38,T9)","v":0},{"$f":"U9/(W4-U10)","v":0},{"$f":"IF(V9=0,0,(V9*((LOG(V9))/LOG(2))))","v":0},null,{"$f":"N9","v":121},{"$f":"COUNTIF(L39:L70,Y9)","v":0},{"$f":"Z9/(AB4-Z10)","v":0},{"$f":"IF(AA9=0,0,(AA9*((LOG(AA9))/LOG(2))))","v":0},null,{"$f":"N9","v":121},{"$f":"COUNTIF(L71:L101,AD9)","v":0},{"$f":"AE9/(AG4-AE10)","v":0},{"$f":"IF(AF9=0,0,(AF9*((LOG(AF9))/LOG(2))))","v":0},null,{"$f":"N9","v":121},{"$f":"COUNTIF(L102:L133,AI9)","v":0},{"$f":"AJ9/(AL4-AJ10)","v":0},{"$f":"IF(AK9=0,0,(AK9*((LOG(AK9))/LOG(2))))","v":0},null,{"$f":"N9","v":121},{"$f":"COUNTIF(L134:L165,AN9)","v":0},{"$f":"AO9/(AQ4-AO10)","v":0},{"$f":"IF(AP9=0,0,(AP9*((LOG(AP9))/LOG(2))))","v":0},null,{"$f":"N9","v":121},{"$f":"COUNTIF(L166:L197,AS9)","v":0},{"$f":"AT9/(AV4-AT10)","v":0},{"$f":"IF(AU9=0,0,(AU9*((LOG(AU9))/LOG(2))))","v":0}]
[22,386,13,396,14,403,null,null,null,null,0,211,null,122,{"$f":"COUNTIF($L$7:$L$500,N10)","v":0},{"$f":"O10/$Q$4","v":0},{"$f":"IF(P10=0,0,(P10*((LOG(P10))/LOG(2))))","v":0},null,null,{"$f":"N10","v":122},{"$f":"COUNTIF(L7:L38,T10)","v":0},null,null,null,{"$f":"N10","v":122},{"$f":"COUNTIF(L39:L70,Y10)","v":0},null,null,null,{"$f":"N10","v":122},{"$f":"COUNTIF(L71:L101,AD10)","v":0},null,null,null,{"$f":"N10","v":122},{"$f":"COUNTIF(L102:L133,AI10)","v":0},null,null,null,{"$f":"N10","v":122},{"$f":"COUNTIF(L134:L165,AN10)","v":0},null,null,null,{"$f":"N10","v":122},{"$f":"COUNTIF(L166:L197,AS10)","v":0}]
[22,507,13,526,14,535,null,null,null,null,0,211,null,211,{"$f":"COUNTIF($L$7:$L$500,N11)","v":70},{"$f":"O11/$Q$4","v":0.36649214659685864},{"$f":"IF(P11=0,0,(P11*((LOG(P11))/LOG(2))))","v":-0.53073406689190972},null,null,{"$f":"N11","v":211},{"$f":"COUNTIF(L7:L38,T11)","v":16},{"$f":"U11/(W4-U10)","v":0.5},{"$f":"IF(V11=0,0,(V11*((LOG(V11))/LOG(2))))","v":-0.5},null,{"$f":"N11","v":211},{"$f":"COUNTIF(L39:L70,Y11)","v":14},{"$f":"Z11/(AB4-Z10)","v":0.4375},{"$f":"IF(AA11=0,0,(AA11*((LOG(AA11))/LOG(2))))","v":-0.52178222159979815},null,{"$f":"N11","v":211},{"$f":"COUNTIF(L71:L101,AD11)","v":9},{"$f":"AE11/(AG4-AE10)","v":0.29032258064516131},{"$f":"IF(AF11=0,0,(AF11*((LOG(AF11))/LOG(2))))","v":-0.5180142509839053},null,{"$f":"N11","v":211},{"$f":"COUNTIF(L102:L133,AI11)","v":13},{"$f":"AJ11/(AL4-AJ10)","v":0.40625},{"$f":"IF(AK11=0,0,(AK11*((LOG(AK11))/LOG(2))))","v":-0.52794636450518129},null,{"$f":"N11","v":211},{"$f":"COUNTIF(L134:L165,AN11)","v":8},{"$f":"AO11/(AQ4-AO10)","v":0.25},{"$f":"IF(AP11=0,0,(AP11*((LOG(AP11))/LOG(2))))","v":-0.5},null,{"$f":"N11","v":211},{"$f":"COUNTIF(L166:L197,AS11)","v":10},{"$f":"AT11/(AV4-AT10)","v":0.3125},{"$f":"IF(AU11=0,0,(AU11*((LOG(AU11))/LOG(2))))","v":-0.52439747034769923}]
[11,645,11,653,12,665,null,null,null,null,0,111,null,212,{"$f":"COUNTIF($L$7:$L$500,N12)","v":0},{"$f":"O12/$Q$4","v":0},{"$f":"IF(P12=0,0,(P12*((LOG(P12))/LOG(2))))","v":0},null,null,{"$f":"N12","v":212},{"$f":"COUNTIF(L7:L38,T12)","v":0},{"$f":"U12/(W4-U10)","v":0},{"$f":"IF(V12=0,0,(V12*((LOG(V12))/LOG(2))))","v":0},null,{"$f":"N12","v":212},{"$f":"COUNTIF(L39:L70,Y12)","v":0},{"$f":"Z12/(AB4-Z10)","v":0},{"$f":"IF(AA12=0,0,(AA12*((LOG(AA12))/LOG(2))))","v":0},null,{"$f":"N12","v":212},{"$f":"COUNTIF(L71:L101,AD12)","v":0},{"$f":"AE12/(AG4-AE10)","v":0},{"$f":"IF(AF12=0,0,(AF12*((LOG(AF12))/LOG(2))))","v":0},null,{"$f":"N12","v":212},{"$f":"COUNTIF(L102:L133,AI12)","v":0},{"$f":"AJ12/(AL4-AJ10)","v":0},{"$f":"IF(AK12=0,0,(AK12*((LOG(AK12))/LOG(2))))","v":0},null,{"$f":"N12","v":212},{"$f":"COUNTIF(L134:L165,AN12)","v":0},{"$f":"AO12/(AQ4-AO10)","v":0},{"$f":"IF(AP12=0,0,(AP12*((LOG(AP12))/LOG(2))))","v":0},null,{"$f":"N12","v":212},{"$f":"COUNTIF(L166:L197,AS12)","v":0},{"$f":"AT12/(AV4-AT10)","v":0},{"$f":"IF(AU12=0,0,(AU12*((LOG(AU12))/LOG(2))))","v":0}]
[11,776,11,782,12,794,null,null,null,null,0,111,null,221,{"$f":"COUNTIF($L$7:$L$500,N13)","v":2},{"$f":"O13/$Q$4","v":1.0471204188481676E-2},{"$f":"IF(P13=0,0,(P13*((LOG(P13))/LOG(2))))","v":-6.8873600293568052E-2},null,null,{"$f":"N13","v":221},{"$f":"COUNTIF(L7:L38,T13)","v":0},{"$f":"U13/(W4-U10)","v":0},{"$f":"IF(V13=0,0,(V13*((LOG(V13))/LOG(2))))","v":0},null,{"$f":"N13","v":221},{"$f":"COUNTIF(L39:L70,Y13)","v":0},{"$f":"Z13/(AB4-Z10)","v":0},{"$f":"IF(AA13=0,0,(AA13*((LOG(AA13))/LOG(2))))","v":0},null,{"$f":"N13","v":221},{"$f":"COUNTIF(L71:L101,AD13)","v":0},{"$f":"AE13/(AG4-AE10)","v":0},{"$f":"IF(AF13=0,0,(AF13*((LOG(AF13))/LOG(2))))","v":0},null,{"$f":"N13","v":221},{"$f":"COUNTIF(L102:L133,AI13)","v":0},{"$f":"AJ13/(AL4-AJ10)","v":0},{"$f":"IF(AK13=0,0,(AK13*((LOG(AK13))/LOG(2))))","v":0},null,{"$f":"N13","v":221},{"$f":"COUNTIF(L134:L165,AN13)","v":0},{"$f":"AO13/(AQ4-AO10)","v":0},{"$f":"IF(AP13=0,0,(AP13*((LOG(AP13))/LOG(2))))","v":0},null,{"$f":"N13","v":221},{"$f":"COUNTIF(L166:L197,AS13)","v":2},{"$f":"AT13/(AV4-AT10)","v":6.25E-2},{"$f":"IF(AU13=0,0,(AU13*((LOG(AU13))/LOG(2))))","v":-0.25}]
[22,896,13,904,14,912,null,null,null,null,0,211,null,222,{"$f":"COUNTIF($L$7:$L$500,N14)","v":0},{"$f":"O14/$Q$4","v":0},{"$f":"IF(P14=0,0,(P14*((LOG(P14))/LOG(2))))","v":0},null,null,{"$f":"N14","v":222},{"$f":"COUNTIF(L7:L38,T14)","v":0},{"$f":"U14/(W4-U10)","v":0},{"$f":"IF(V14=0,0,(V14*((LOG(V14))/LOG(2))))","v":0},null,{"$f":"N14","v":222},{"$f":"COUNTIF(L39:L70,Y14)","v":0},{"$f":"Z14/(AB4-Z10)","v":0},{"$f":"IF(AA14=0,0,(AA14*((LOG(AA14))/LOG(2))))","v":0},null,{"$f":"N14","v":222},{"$f":"COUNTIF(L71:L101,AD14)","v":0},{"$f":"AE14/(AG4-AE10)","v":0},{"$f":"IF(AF14=0,0,(AF14*((LOG(AF14))/LOG(2))))","v":0},null,{"$f":"N14","v":222},{"$f":"COUNTIF(L102:L133,AI14)","v":0},{"$f":"AJ14/(AL4-AJ10)","v":0},{"$f":"IF(AK14=0,0,(AK14*((LOG(AK14))/LOG(2))))","v":0},null,{"$f":"N14","v":222},{"$f":"COUNTIF(L134:L165,AN14)","v":0},{"$f":"AO14/(AQ4-AO10)","v":0},{"$f":"IF(AP14=0,0,(AP14*((LOG(AP14))/LOG(2))))","v":0},null,{"$f":"N14","v":222},{"$f":"COUNTIF(L166:L197,AS14)","v":0},{"$f":"AT14/(AV4-AT10)","v":0},{"$f":"IF(AU14=0,0,(AU14*((LOG(AU14))/LOG(2))))","v":0}]
[22,1012,13,1023,14,1032,null,null,null,null,0,211,null,null,null,{"$f":"SUM(P7:P14)","v":1},{"$f":"-SUM(Q7:Q14)","v":1.0248993776703408},null,null,null,null,{"$f":"SUM(V7:V14)","v":1},{"$f":"-SUM(W7:W14)","v":1},null,null,null,{"$f":"SUM(AA7:AA14)","v":1},{"$f":"-SUM(AB7:AB14)","v":0.98869940828849745},null,null,null,{"$f":"SUM(AF7:AF14)","v":1},{"$f":"-SUM(AG7:AG14)","v":0.86913758061263802},null,null,null,{"$f":"SUM(AK7:AK14)","v":1},{"$f":"-SUM(AL7:AL14)","v":0.97448940339805235},null,null,null,{"$f":"SUM(AP7:AP14)","v":1},{"$f":"-SUM(AQ7:AQ14)","v":0.81127812445913283},null,null,null,{"$f":"SUM(AU7:AU14)","v":1},{"$f":"-SUM(AV7:AV14)","v":1.1981924110430979}]
[22,1134,13,1142,14,1147,null,null,null,null,0,211,null,null,null,"U=",{"$f":"Q15/(LOG(Q4)/LOG(2))","v":0.13525687946791567},null,null,null,null,"U1=",{"$f":"W15/(LOG(W4)/LOG(2))","v":0.2},null,null,null,"U2=",{"$f":"AB15/(LOG(AB4)/LOG(2))","v":0.19773988165769948},null,null,null,"U3=",{"$f":"AG15/(LOG(AG4)/LOG(2))","v":0.17543462676083718},null,null,null,"U4=",{"$f":"AL15/(LOG(AL4)/LOG(2))","v":0.19489788067961047},null,null,null,"U5=",{"$f":"AQ15/(LOG(AQ4)/LOG(2))","v":0.16225562489182657},null,null,null,"U6=",{"$f":"AV15/(LOG(AV4)/LOG(2))","v":0.23963848220861958}]
[22,1244,13,1253,14,1258,null,null,null,null,0,211]
[11,1369,11,1375,12,1385,null,null,null,null,0,111]
[22,1487,13,1497,14,1506,null,null,null,null,0,211,null,"Total Target Seq"]
[11,1615,11,1623,12,1632,null,null,null,null,0,111,null,{"$f":"COUNTIF(L7:L197,G3)","v":0},null,32,32,31,32,32,32]
[22,1732,13,1748,14,1758,null,null,null,null,0,211,null,null,null,"% of reinforcement given in 6 equal intervals based on number of trials "]
[11,1872,11,1880,12,1890,null,null,null,null,0,111,null,null,null,"%_1","%_2","%_3","%_4","%_5","%_6"]
[22,1989,13,2001,14,2010,null,null,null,null,0,211,null,null,"target sequence",{"$f":"$G$3","v":122},{"$f":"$G$3","v":122},{"$f":"$G$3","v":122},{"$f":"$G$3","v":122},{"$f":"$G$3","v":122},{"$f":"$G$3","v":122}]
[22,2107,13,2116,14,2121,null,null,null,null,0,211,null,null,"total reinforcement",{"$f":"U10","v":0},{"$f":"Z10","v":0},{"$f":"AE10","v":0},{"$f":"AJ10","v":0},{"$f":"AO10","v":0},{"$f":"AT10","v":0}]
[11,2232,11,2240,12,2273,null,null,null,null,0,111,null,null,"% target"]
[11,2391,11,2401,12,2413,null,null,null,null,0,111,null,null,"CCRF"]
[11,2526,11,2535,12,2546,null,null,null,null,0,111,null,null,"% CCRf"]
[22,2652,13,2664,14,2672,null,null,null,null,0,211,null,null,"average response rate",{"$f":"F38/P20","v":123.1875},{"$f":"(F70-F38)/Q20","v":124.28125},{"$f":"(F101-F70)/R20","v":126.96774193548387},{"$f":"(F133-F101)/S20","v":125.09375},{"$f":"(F165-F133)/T20","v":124.5},{"$f":"(F197-F165)/U20","v":128.9375}]
[11,2781,11,2789,12,2801,null,null,null,null,0,111]
[11,2912,11,2920,12,2930,null,null,null,null,0,111]
[22,3032,13,3051,14,3059,null,null,null,null,0,211]
[11,3169,11,3174,12,3184,null,null,null,null,0,111]
[11,3291,11,3295,12,3304,null,null,null,null,0,111]
[22,3411,13,3419,14,3427,null,null,null,null,0,211]
[11,3543,11,3550,12,3561,null,null,null,null,0,111]
[11,3674,11,3683,12,3694,null,null,null,null,0,111]
[22,3795,13,3803,14,3808,null,null,null,null,0,211]
[11,3922,11,3930,12,3942,null,null,null,null,0,111]
[11,4045,11,4050,12,4058,null,null,null,null,0,111]
[22,4158,13,4167,14,4175,null,null,null,null,0,211]
[22,4275,13,4283,14,4290,null,null,null,null,0,211]
[22,4390,13,4403,14,4414,null,null,null,null,0,211]
[22,4514,13,4522,14,4528,null,null,null,null,0,211]
[22,4627,13,4635,14,4640,null,null,null,null,0,211]
[11,4750,11,4758,12,4772,null,null,null,null,0,111]
[11,4882,11,4887,12,4898,null,null,null,null,0,111]
[11,5021,11,5031,12,5041,null,null,null,null,0,111]
[11,5151,11,5156,12,5167,null,null,null,null,0,111]
[22,5268,13,5276,14,5281,null,null,null,null,0,211]
[22,5380,13,5390,14,5398,null,null,null,null,0,211]
[22,5502,13,5512,14,5521,null,null,null,null,0,211]
[11,5625,11,5630,12,5640,null,null,null,null,0,111]
[11,5753,11,5759,12,5771,null,null,null,null,0,111]
[11,5881,11,5890,12,5901,null,null,null,null,0,111]
[22,6001,13,6010,14,6019,null,null,null,null,0,211]
[11,6129,11,6135,12,6146,null,null,null,null,0,111]
[22,6251,13,6262,14,6270,null,null,null,null,0,211]
[22,6373,13,6381,14,6391,null,null,null,null,0,211]
[22,6492,13,6500,14,6509,null,null,null,null,0,211]
[11,6622,11,6633,12,6645,null,null,null,null,0,111]
[22,6749,13,6758,14,6764,null,null,null,null,0,211]
[11,6870,11,6878,12,6887,null,null,null,null,0,111]
[11,6998,11,7003,12,7013,null,null,null,null,0,111]
[22,7118,13,7135,14,7146,null,null,null,null,0,211]
[11,7255,11,7261,12,7269,null,null,null,null,0,111]
[11,7378,11,7387,12,7398,null,null,null,null,0,111]
[11,7515,11,7524,12,7534,null,null,null,null,0,111]
[11,7644,11,7649,12,7661,null,null,null,null,0,111]
[11,7768,11,7776,12,7786,null,null,null,null,0,111]
[11,7900,11,7910,12,7919,null,null,null,null,0,111]
[11,8028,11,8034,12,8043,null,null,null,null,0,111]
[11,8154,11,8159,12,8171,null,null,null,null,0,111]
[22,8280,13,8291,14,8298,null,null,null,null,0,211]
[11,8407,11,8415,12,8423,null,null,null,null,0,111]
[11,8546,11,8551,12,8564,null,null,null,null,0,111]
[11,8677,11,8682,12,8691,null,null,null,null,0,111]
[11,8800,11,8806,12,8817,null,null,null,null,0,111]
[11,8931,11,8939,12,8952,null,null,null,null,0,111]
[11,9067,11,9075,12,9084,null,null,null,null,0,111]
[11,9195,11,9201,12,9213,null,null,null,null,0,111]
[22,9318,13,9328,14,9333,null,null,null,null,0,211]
[11,9447,11,9454,12,9466,null,null,null,null,0,111]
[11,9579,11,9584,12,9593,null,null,null,null,0,111]
[22,9695,13,9704,14,9709,null,null,null,null,0,211]
[11,9822,11,9830,12,9843,null,null,null,null,0,111]
[22,9949,13,9959,14,9967,null,null,null,null,0,211]
[22,10068,13,10080,14,10085,null,null,null,null,0,211]
[11,10195,11,10204,12,10215,null,null,null,null,0,111]
[22,10321,13,10329,14,10335,null,null,null,null,0,211]
[22,10436,13,10444,14,10450,null,null,null,null,0,211]
[11,10568,11,10575,12,10587,null,null,null,null,0,111]
[22,10692,13,10701,14,10710,null,null,null,null,0,211]
[11,10823,11,10830,12,10838,null,null,null,null,0,111]
[11,10955,11,10963,12,10976,null,null,null,null,0,111]
[11,11084,11,11090,12,11099,null,null,null,null,0,111]
[11,11207,11,11214,12,11223,null,null,null,null,0,111]
[11,11332,11,11337,12,11345,null,null,null,null,0,111]
[11,11458,11,11463,12,11474,null,null,null,null,0,111]
[11,11589,11,11599,12,11612,null,null,null,null,0,111]
[22,11714,13,11722,14,11728,null,null,null,null,0,211]
[11,11834,11,11843,12,11855,null,null,null,null,0,111]
[11,11962,11,11970,12,11983,null,null,null,null,0,111]
[11,12092,11,12097,12,12105,null,null,null,null,0,111]
[11,12223,11,12233,12,12245,null,null,null,null,0,111]
[11,12356,11,12361,12,12370,null,null,null,null,0,111]
[22,12473,13,12482,14,12487,null,null,null,null,0,211]
[22,12585,13,12593,14,12601,null,null,null,null,0,211]
[11,12711,11,12716,12,12727,null,null,null,null,0,111]
[22,12826,13,12836,14,12844,null,null,null,null,0,211]
[22,12945,13,12960,14,12968,null,null,null,null,0,211]
[11,13080,11,13086,12,13097,null,null,null,null,0,111]
[11,13207,11,13215,12,13226,null,null,null,null,0,111]
[22,13329,13,13342,14,13351,null,null,null,null,0,211]
[22,13450,13,13461,14,13466,null,null,null,null,0,211]
[11,13578,11,13585,12,13595,null,null,null,null,0,111]
[22,13697,13,13707,14,13712,null,null,null,null,0,211]
[22,13811,13,13822,14,13826,null,null,null,null,0,211]
[22,13928,13,13935,14,13941,null,null,null,null,0,211]
[11,14047,11,14054,12,14066,null,null,null,null,0,111]
[22,14167,13,14175,14,14180,null,null,null,null,0,211]
[11,14291,11,14298,12,14310,null,null,null,null,0,111]
[11,14424,11,14432,12,14443,null,null,null,null,0,111]
[11,14551,11,14557,12,14570,null,null,null,null,0,111]
[11,14689,11,14697,12,14708,null,null,null,null,0,111]
[22,14811,13,14820,14,14825,null,null,null,null,0,211]
[11,14939,11,14944,12,14955,null,null,null,null,0,111]
[11,15069,11,15074,12,15085,null,null,null,null,0,111]
[11,15201,11,15212,12,15224,null,null,null,null,0,111]
[22,15324,13,15334,14,15341,null,null,null,null,0,211]
[11,15454,11,15460,12,15472,null,null,null,null,0,111]
[11,15582,11,15597,12,15609,null,null,null,null,0,111]
[22,15711,13,15721,14,15730,null,null,null,null,0,211]
[11,15840,11,15847,12,15858,null,null,null,null,0,111]
[11,15970,11,15978,12,15987,null,null,null,null,0,111]
[11,16105,11,16114,12,16124,null,null,null,null,0,111]
[11,16236,11,16244,12,16255,null,null,null,null,0,111]
[11,16361,11,16370,12,16378,null,null,null,null,0,111]
[11,16485,11,16494,12,16505,null,null,null,null,0,111]
[22,16605,13,16613,14,16619,null,null,null,null,0,211]
[11,16730,11,16735,12,16744,null,null,null,null,0,111]
[11,16850,11,16856,12,16868,null,null,null,null,0,111]
[11,16974,11,16983,12,16992,null,null,null,null,0,111]
[11,17105,11,17110,12,17119,null,null,null,null,0,111]
[11,17235,11,17244,12,17255,null,null,null,null,0,111]
[11,17364,11,17369,12,17377,null,null,null,null,0,111]
[22,17476,13,17486,14,17491,null,null,null,null,0,211]
[11,17601,11,17606,12,17615,null,null,null,null,0,111]
[22,17714,13,17726,14,17732,null,null,null,null,0,211]
[11,17841,11,17847,12,17859,null,null,null,null,0,111]
[11,17968,11,17973,12,17982,null,null,null,null,0,111]
[11,18094,11,18111,12,18123,null,null,null,null,0,111]
[22,18225,13,18233,14,18241,null,null,null,null,0,211]
[22,18339,13,18350,14,18355,null,null,null,null,0,211]
[11,18459,11,18468,12,18478,null,null,null,null,0,111]
[11,18594,11,18603,12,18613,null,null,null,null,0,111]
[11,18721,11,18728,12,18738,null,null,null,null,0,111]
[11,18846,11,18851,12,18860,null,null,null,null,0,111]
[22,18959,13,18967,14,18976,null,null,null,null,0,211]
[11,19082,11,19090,12,19101,null,null,null,null,0,111]
[11,19212,11,19220,12,19231,null,null,null,null,0,111]
[22,19330,13,19339,14,19344,null,null,null,null,0,211]
[11,19451,11,19458,12,19470,null,null,null,null,0,111]
[22,19570,13,19579,14,19586,null,null,null,null,0,211]
[11,19693,11,19700,12,19712,null,null,null,null,0,111]
[11,19823,11,19831,12,19842,null,null,null,null,0,111]
[11,19952,11,19959,12,19970,null,null,null,null,0,111]
[22,20076,13,20086,14,20095,null,null,null,null,0,211]
[22,20193,13,20208,14,20217,null,null,null,null,0,211]
[11,20334,11,20343,12,20356,null,null,null,null,0,111]
[11,20476,11,20487,12,20496,null,null,null,null,0,111]
[22,20601,24,20609,14,20618,null,null,null,null,0,221]
[11,20733,11,20741,12,20753,null,null,null,null,0,111]
[11,20860,11,20868,12,20878,null,null,null,null,0,111]
[22,20977,13,20989,14,20994,null,null,null,null,0,211]
[11,21104,11,21109,12,21118,null,null,null,null,0,111]
[11,21227,11,21235,12,21247,null,null,null,null,0,111]
[11,21361,11,21369,12,21381,null,null,null,null,0,111]
[11,21497,11,21506,12,21517,null,null,null,null,0,111]
[11,21635,11,21643,12,21656,null,null,null,null,0,111]
[22,21759,13,21767,14,21778,null,null,null,null,0,211]
[22,21873,13,21889,14,21896,null,null,null,null,0,211]
[22,21992,24,21999,14,22018,null,null,null,null,0,221]
[11,22129,11,22137,12,22146,null,null,null,null,0,111]
[11,22258,11,22266,12,22278,null,null,null,null,0,111]
[22,22375,13,22386,14,22395,null,null,null,null,0,211]
[11,22507,11,22511,12,22524,null,null,null,null,0,111]
[11,22636,11,22645,12,22657,null,null,null,null,0,111]
[11,22771,11,22778,12,22787,null,null,null,null,0,111]
[11,22907,11,22915,12,22925,null,null,null,null,0,111]
[11,23037,11,23045,12,23055,null,null,null,null,0,111]
[11,23169,11,23178,12,23189,null,null,null,null,0,111]
[11,23318,11,23328,12,23341,null,null,null,null,0,111]
[22,23446,13,23456,14,23466,null,null,null,null,0,211]
[22,23568,13,23576,14,23586,null,null,null,null,0,211]
[22,23688,13,23699,14,23707,null,null,null,null,0,211]
[11,23826,11,23835,12,23846,null,null,null,null,0,111]
[22,23948,13,23959,14,23968,null,null,null,null,1,211]

{"sheet":"!MB15A50.095","index":26,"n_rows":194,"n_cols":48,"rows_kept":194,"cut":false,"hidden":false,"merged":[[4,39,4,42],[5,39,5,40],[4,44,4,47],[5,44,5,45],[4,24,4,27],[5,24,5,25],[4,29,4,32],[5,29,5,30],[4,34,4,37],[5,34,5,35],[1,1,1,2],[5,13,5,14],[18,13,18,14],[19,13,19,14],[4,19,4,22],[5,19,5,20]]}
["Report for:!MB15A50.095"]
["Date:","<date>"]
["Hen:","<hen>",null,null,null,"Correct Sequence",{"$f":"Start!J2","v":122},null,null,null,null,null,null,null,null,"Total Sequences in Data",{"$f":"4994-COUNTBLANK(L7:L5000)","v":188},null,null,null,null,"Total Sequences in Block Data",{"$f":"COUNTA(L7:L37)","v":31},null,null,null,"Total Sequences in Block Data",{"$f":"COUNTA(L38:L69)","v":32},null,null,null,"Total Sequences in Block Data",{"$f":"COUNTA(L70:L100)","v":31},null,null,null,"Total Sequences in Block Data",{"$f":"COUNTA(L101:L131)","v":31},null,null,null,"Total Sequences in Block Data",{"$f":"COUNTA(L132:L163)","v":32},null,null,null,"Total Sequences in Block Data",{"$f":"COUNTA(L164:L194)","v":31}]
[null,null,null,null,null,null,null,null,null,null,null,null,null,null,null,"Total Sequences in Summary",{"$f":"SUM(O7:O14)","v":188},null,null,null,null,"Total Sequences in Block Summary",{"$f":"SUM(U7:U14)","v":31},null,null,null,"Total Sequences in Block Summary",{"$f":"SUM(Z7:Z14)","v":32},null,null,null,"Total Sequences in Block Summary",{"$f":"SUM(AE7:AE14)","v":31},null,null,null,"Total Sequences in Block Summary",{"$f":"SUM(AJ7:AJ14)","v":31},null,null,null,"Total Sequences in Block Summary",{"$f":"SUM(AO7:AO14)","v":32},null,null,null,"Total Sequences in Block Summary",{"$f":"SUM(AT7:AT14)","v":31}]
[null,null,null,null,null,null,null,null,null,null,null,null,null,null,null,null,null,null,null,"Block 1",null,null,null,null,"Block 2",null,null,null,null,"Block 3",null,null,null,null,"Block 4",null,null,null,null,"Block 5",null,null,null,null,"Block 6"]
["Sequence\nComponent\n1","Time\n1","Sequence\nComponent\n2","Time\n2","Sequence\nComponent\n3","Time\n3","Sequence\nComponent\n4","Time\n4","Sequence\nComponent\n5","Time\n5","Correct?\n0=No 1=Yes","Sequence",null,"Frequency",null,"Relative Frequency","Variability",null,null,"Frequency",null,"Relative Frequency","Variability",null,"Frequency",null,"Relative Frequency","Variability",null,"Frequency",null,"Relative Frequency","Variability",null,"Frequency",null,"Relative Frequency","Variability",null,"Frequency",null,"Relative Frequency","Variability",null,"Frequency",null,"Relative Frequency","Variability"]
[11,40,11,49,12,61,null,null,null,null,0,111,null,111,{"$f":"COUNTIF($L$7:$L$500,N7)","v":89},{"$f":"O7/$Q$4","v":0.47340425531914893},{"$f":"IF(P7=0,0,(P7*((LOG(P7))/LOG(2))))","v":-0.51073474703883148},null,null,{"$f":"N7","v":111},{"$f":"COUNTIF(L7:L37,T7)","v":13},{"$f":"U7/(W4-U10)","v":0.41935483870967744},{"$f":"IF(V7=0,0,(V7*((LOG(V7))/LOG(2))))","v":-0.52576889352242517},null,{"$f":"N7","v":111},{"$f":"COUNTIF(L38:L69,Y7)","v":15},{"$f":"Z7/(AB4-Z10)","v":0.46875},{"$f":"IF(AA7=0,0,(AA7*((LOG(AA7))/LOG(2))))","v":-0.512395033308507},null,{"$f":"N7","v":111},{"$f":"COUNTIF(L70:L100,AD7)","v":10},{"$f":"AE7/(AG4-AE10)","v":0.32258064516129031},{"$f":"IF(AF7=0,0,(AF7*((LOG(AF7))/LOG(2))))","v":-0.52653813403210092},null,{"$f":"N7","v":111},{"$f":"COUNTIF(L101:L131,AI7)","v":17},{"$f":"AJ7/(AL4-AJ10)","v":0.54838709677419351},{"$f":"IF(AK7=0,0,(AK7*((LOG(AK7))/LOG(2))))","v":-0.47530545081681003},null,{"$f":"N7","v":111},{"$f":"COUNTIF(L132:L163,AN7)","v":17},{"$f":"AO7/(AQ4-AO10)","v":0.53125},{"$f":"IF(AP7=0,0,(AP7*((LOG(AP7))/LOG(2))))","v":-0.48478536558575719},null,{"$f":"N7","v":111},{"$f":"COUNTIF(L164:L194,AS7)","v":17},{"$f":"AT7/(AV4-AT10)","v":0.54838709677419351},{"$f":"IF(AU7=0,0,(AU7*((LOG(AU7))/LOG(2))))","v":-0.47530545081681003}]
[11,176,11,186,12,200,null,null,null,null,0,111,null,112,{"$f":"COUNTIF($L$7:$L$500,N8)","v":0},{"$f":"O8/$Q$4","v":0},{"$f":"IF(P8=0,0,(P8*((LOG(P8))/LOG(2))))","v":0},null,null,{"$f":"N8","v":112},{"$f":"COUNTIF(L7:L37,T8)","v":0},{"$f":"U8/(W4-U10)","v":0},{"$f":"IF(V8=0,0,(V8*((LOG(V8))/LOG(2))))","v":0},null,{"$f":"N8","v":112},{"$f":"COUNTIF(L38:L69,Y8)","v":0},{"$f":"Z8/(AB4-Z10)","v":0},{"$f":"IF(AA8=0,0,(AA8*((LOG(AA8))/LOG(2))))","v":0},null,{"$f":"N8","v":112},{"$f":"COUNTIF(L70:L100,AD8)","v":0},{"$f":"AE8/(AG4-AE10)","v":0},{"$f":"IF(AF8=0,0,(AF8*((LOG(AF8))/LOG(2))))","v":0},null,{"$f":"N8","v":112},{"$f":"COUNTIF(L101:L131,AI8)","v":0},{"$f":"AJ8/(AL4-AJ10)","v":0},{"$f":"IF(AK8=0,0,(AK8*((LOG(AK8))/LOG(2))))","v":0},null,{"$f":"N8","v":112},{"$f":"COUNTIF(L132:L163,AN8)","v":0},{"$f":"AO8/(AQ4-AO10)","v":0},{"$f":"IF(AP8=0,0,(AP8*((LOG(AP8))/LOG(2))))","v":0},null,{"$f":"N8","v":112},{"$f":"COUNTIF(L164:L194,AS8)","v":0},{"$f":"AT8/(AV4-AT10)","v":0},{"$f":"IF(AU8=0,0,(AU8*((LOG(AU8))/LOG(2))))","v":0}]
[11,330,11,341,12,351,null,null,null,null,0,111,null,121,{"$f":"COUNTIF($L$7:$L$500,N9)","v":0},{"$f":"O9/$Q$4","v":0},{"$f":"IF(P9=0,0,(P9*((LOG(P9))/LOG(2))))","v":0},null,null,{"$f":"N9","v":121},{"$f":"COUNTIF(L7:L37,T9)","v":0},{"$f":"U9/(W4-U10)","v":0},{"$f":"IF(V9=0,0,(V9*((LOG(V9))/LOG(2))))","v":0},null,{"$f":"N9","v":121},{"$f":"COUNTIF(L38:L69,Y9)","v":0},{"$f":"Z9/(AB4-Z10)","v":0},{"$f":"IF(AA9=0,0,(AA9*((LOG(AA9))/LOG(2))))","v":0},null,{"$f":"N9","v":121},{"$f":"COUNTIF(L70:L100,AD9)","v":0},{"$f":"AE9/(AG4-AE10)","v":0},{"$f":"IF(AF9=0,0,(AF9*((LOG(AF9))/LOG(2))))","v":0},null,{"$f":"N9","v":121},{"$f":"COUNTIF(L101:L131,AI9)","v":0},{"$f":"AJ9/(AL4-AJ10)","v":0},{"$f":"IF(AK9=0,0,(AK9*((LOG(AK9))/LOG(2))))","v":0},null,{"$f":"N9","v":121},{"$f":"COUNTIF(L132:L163,AN9)","v":0},{"$f":"AO9/(AQ4-AO10)","v":0},{"$f":"IF(AP9=0,0,(AP9*((LOG(AP9))/LOG(2))))","v":0},null,{"$f":"N9","v":121},{"$f":"COUNTIF(L164:L194,AS9)","v":0},{"$f":"AT9/(AV4-AT10)","v":0},{"$f":"IF(AU9=0,0,(AU9*((LOG(AU9))/LOG(2))))","v":0}]
[11,470,11,478,12,487,null,null,null,null,0,111,null,122,{"$f":"COUNTIF($L$7:$L$500,N10)","v":0},{"$f":"O10/$Q$4","v":0},{"$f":"IF(P10=0,0,(P10*((LOG(P10))/LOG(2))))","v":0},null,null,{"$f":"N10","v":122},{"$f":"COUNTIF(L7:L37,T10)","v":0},null,null,null,{"$f":"N10","v":122},{"$f":"COUNTIF(L38:L69,Y10)","v":0},null,null,null,{"$f":"N10","v":122},{"$f":"COUNTIF(L70:L100,AD10)","v":0},null,null,null,{"$f":"N10","v":122},{"$f":"COUNTIF(L101:L131,AI10)","v":0},null,null,null,{"$f":"N10","v":122},{"$f":"COUNTIF(L132:L163,AN10)","v":0},null,null,null,{"$f":"N10","v":122},{"$f":"COUNTIF(L164:L194,AS10)","v":0}]
[22,590,13,599,14,605,null,null,null,null,0,211,null,211,{"$f":"COUNTIF($L$7:$L$500,N11)","v":99},{"$f":"O11/$Q$4","v":0.52659574468085102},{"$f":"IF(P11=0,0,(P11*((LOG(P11))/LOG(2))))","v":-0.48722335600108907},null,null,{"$f":"N11","v":211},{"$f":"COUNTIF(L7:L37,T11)","v":18},{"$f":"U11/(W4-U10)","v":0.58064516129032262},{"$f":"IF(V11=0,0,(V11*((LOG(V11))/LOG(2))))","v":-0.45538334067748809},null,{"$f":"N11","v":211},{"$f":"COUNTIF(L38:L69,Y11)","v":17},{"$f":"Z11/(AB4-Z10)","v":0.53125},{"$f":"IF(AA11=0,0,(AA11*((LOG(AA11))/LOG(2))))","v":-0.48478536558575719},null,{"$f":"N11","v":211},{"$f":"COUNTIF(L70:L100,AD11)","v":21},{"$f":"AE11/(AG4-AE10)","v":0.67741935483870963},{"$f":"IF(AF11=0,0,(AF11*((LOG(AF11))/LOG(2))))","v":-0.38062763354098111},null,{"$f":"N11","v":211},{"$f":"COUNTIF(L101:L131,AI11)","v":14},{"$f":"AJ11/(AL4-AJ10)","v":0.45161290322580644},{"$f":"IF(AK11=0,0,(AK11*((LOG(AK11))/LOG(2))))","v":-0.51792836892289662},null,{"$f":"N11","v":211},{"$f":"COUNTIF(L132:L163,AN11)","v":15},{"$f":"AO11/(AQ4-AO10)","v":0.46875},{"$f":"IF(AP11=0,0,(AP11*((LOG(AP11))/LOG(2))))","v":-0.512395033308507},null,{"$f":"N11","v":211},{"$f":"COUNTIF(L164:L194,AS11)","v":14},{"$f":"AT11/(AV4-AT10)","v":0.45161290322580644},{"$f":"IF(AU11=0,0,(AU11*((LOG(AU11))/LOG(2))))","v":-0.51792836892289662}]
[22,708,13,717,14,727,null,null,null,null,0,211,null,212,{"$f":"COUNTIF($L$7:$L$500,N12)","v":0},{"$f":"O12/$Q$4","v":0},{"$f":"IF(P12=0,0,(P12*((LOG(P12))/LOG(2))))","v":0},null,null,{"$f":"N12","v":212},{"$f":"COUNTIF(L7:L37,T12)","v":0},{"$f":"U12/(W4-U10)","v":0},{"$f":"IF(V12=0,0,(V12*((LOG(V12))/LOG(2))))","v":0},null,{"$f":"N12","v":212},{"$f":"COUNTIF(L38:L69,Y12)","v":0},{"$f":"Z12/(AB4-Z10)","v":0},{"$f":"IF(AA12=0,0,(AA12*((LOG(AA12))/LOG(2))))","v":0},null,{"$f":"N12","v":212},{"$f":"COUNTIF(L70:L100,AD12)","v":0},{"$f":"AE12/(AG4-AE10)","v":0},{"$f":"IF(AF12=0,0,(AF12*((LOG(AF12))/LOG(2))))","v":0},null,{"$f":"N12","v":212},{"$f":"COUNTIF(L101:L131,AI12)","v":0},{"$f":"AJ12/(AL4-AJ10)","v":0},{"$f":"IF(AK12=0,0,(AK12*((LOG(AK12))/LOG(2))))","v":0},null,{"$f":"N12","v":212},{"$f":"COUNTIF(L132:L163,AN12)","v":0},{"$f":"AO12/(AQ4-AO10)","v":0},{"$f":"IF(AP12=0,0,(AP12*((LOG(AP12))/LOG(2))))","v":0},null,{"$f":"N12","v":212},{"$f":"COUNTIF(L164:L194,AS12)","v":0},{"$f":"AT12/(AV4-AT10)","v":0},{"$f":"IF(AU12=0,0,(AU12*((LOG(AU12))/LOG(2))))","v":0}]
[22,835,13,844,14,854,null,null,null,null,0,211,null,221,{"$f":"COUNTIF($L$7:$L$500,N13)","v":0},{"$f":"O13/$Q$4","v":0},{"$f":"IF(P13=0,0,(P13*((LOG(P13))/LOG(2))))","v":0},null,null,{"$f":"N13","v":221},{"$f":"COUNTIF(L7:L37,T13)","v":0},{"$f":"U13/(W4-U10)","v":0},{"$f":"IF(V13=0,0,(V13*((LOG(V13))/LOG(2))))","v":0},null,{"$f":"N13","v":221},{"$f":"COUNTIF(L38:L69,Y13)","v":0},{"$f":"Z13/(AB4-Z10)","v":0},{"$f":"IF(AA13=0,0,(AA13*((LOG(AA13))/LOG(2))))","v":0},null,{"$f":"N13","v":221},{"$f":"COUNTIF(L70:L100,AD13)","v":0},{"$f":"AE13/(AG4-AE10)","v":0},{"$f":"IF(AF13=0,0,(AF13*((LOG(AF13))/LOG(2))))","v":0},null,{"$f":"N13","v":221},{"$f":"COUNTIF(L101:L131,AI13)","v":0},{"$f":"AJ13/(AL4-AJ10)","v":0},{"$f":"IF(AK13=0,0,(AK13*((LOG(AK13))/LOG(2))))","v":0},null,{"$f":"N13","v":221},{"$f":"COUNTIF(L132:L163,AN13)","v":0},{"$f":"AO13/(AQ4-AO10)","v":0},{"$f":"IF(AP13=0,0,(AP13*((LOG(AP13))/LOG(2))))","v":0},null,{"$f":"N13","v":221},{"$f":"COUNTIF(L164:L194,AS13)","v":0},{"$f":"AT13/(AV4-AT10)","v":0},{"$f":"IF(AU13=0,0,(AU13*((LOG(AU13))/LOG(2))))","v":0}]
[22,955,13,964,14,972,null,null,null,null,0,211,null,222,{"$f":"COUNTIF($L$7:$L$500,N14)","v":0},{"$f":"O14/$Q$4","v":0},{"$f":"IF(P14=0,0,(P14*((LOG(P14))/LOG(2))))","v":0},null,null,{"$f":"N14","v":222},{"$f":"COUNTIF(L7:L37,T14)","v":0},{"$f":"U14/(W4-U10)","v":0},{"$f":"IF(V14=0,0,(V14*((LOG(V14))/LOG(2))))","v":0},null,{"$f":"N14","v":222},{"$f":"COUNTIF(L38:L69,Y14)","v":0},{"$f":"Z14/(AB4-Z10)","v":0},{"$f":"IF(AA14=0,0,(AA14*((LOG(AA14))/LOG(2))))","v":0},null,{"$f":"N14","v":222},{"$f":"COUNTIF(L70:L100,AD14)","v":0},{"$f":"AE14/(AG4-AE10)","v":0},{"$f":"IF(AF14=0,0,(AF14*((LOG(AF14))/LOG(2))))","v":0},null,{"$f":"N14","v":222},{"$f":"COUNTIF(L101:L131,AI14)","v":0},{"$f":"AJ14/(AL4-AJ10)","v":0},{"$f":"IF(AK14=0,0,(AK14*((LOG(AK14))/LOG(2))))","v":0},null,{"$f":"N14","v":222},{"$f":"COUNTIF(L132:L163,AN14)","v":0},{"$f":"AO14/(AQ4-AO10)","v":0},{"$f":"IF(AP14=0,0,(AP14*((LOG(AP14))/LOG(2))))","v":0},null,{"$f":"N14","v":222},{"$f":"COUNTIF(L164:L194,AS14)","v":0},{"$f":"AT14/(AV4-AT10)","v":0},{"$f":"IF(AU14=0,0,(AU14*((LOG(AU14))/LOG(2))))","v":0}]
[22,1076,13,1087,14,1094,null,null,null,null,0,211,null,null,null,{"$f":"SUM(P7:P14)","v":1},{"$f":"-SUM(Q7:Q14)","v":0.9979581030399205},null,null,null,null,{"$f":"SUM(V7:V14)","v":1},{"$f":"-SUM(W7:W14)","v":0.98115223419991326},null,null,null,{"$f":"SUM(AA7:AA14)","v":1},{"$f":"-SUM(AB7:AB14)","v":0.99718039889426424},null,null,null,{"$f":"SUM(AF7:AF14)","v":1},{"$f":"-SUM(AG7:AG14)","v":0.90716576757308198},null,null,null,{"$f":"SUM(AK7:AK14)","v":1},{"$f":"-SUM(AL7:AL14)","v":0.99323381973970659},null,null,null,{"$f":"SUM(AP7:AP14)","v":1},{"$f":"-SUM(AQ7:AQ14)","v":0.99718039889426424},null,null,null,{"$f":"SUM(AU7:AU14)","v":1},{"$f":"-SUM(AV7:AV14)","v":0.99323381973970659}]
[22,1197,13,1209,14,1218,null,null,null,null,0,211,null,null,null,"U=",{"$f":"Q15/(LOG(Q4)/LOG(2))","v":0.1320995917359957},null,null,null,null,"U1=",{"$f":"W15/(LOG(W4)/LOG(2))","v":0.198044682271239},null,null,null,"U2=",{"$f":"AB15/(LOG(AB4)/LOG(2))","v":0.19943607977885286},null,null,null,"U3=",{"$f":"AG15/(LOG(AG4)/LOG(2))","v":0.18311058156317611},null,null,null,"U4=",{"$f":"AL15/(LOG(AL4)/LOG(2))","v":0.20048333927690981},null,null,null,"U5=",{"$f":"AQ15/(LOG(AQ4)/LOG(2))","v":0.19943607977885286},null,null,null,"U6=",{"$f":"AV15/(LOG(AV4)/LOG(2))","v":0.20048333927690981}]
[11,1336,11,1345,12,1355,null,null,null,null,0,111]
[22,1461,13,1469,14,1475,null,null,null,null,0,211]
[11,1588,11,1599,12,1611,null,null,null,null,0,111,null,"Total Target Seq"]
[22,1711,13,1719,14,1726,null,null,null,null,0,211,null,{"$f":"COUNTIF(L7:L194,G3)","v":0},null,31,32,31,31,32,31]
[22,1830,13,1840,14,1848,null,null,null,null,0,211,null,null,null,"% of reinforcement given in 6 equal intervals based on number of trials "]
[11,1961,11,1969,12,1980,null,null,null,null,0,111,null,null,null,"%_1","%_2","%_3","%_4","%_5","%_6"]
[22,2083,13,2095,14,2103,null,null,null,null,0,211,null,null,"target sequence",{"$f":"$G$3","v":122},{"$f":"$G$3","v":122},{"$f":"$G$3","v":122},{"$f":"$G$3","v":122},{"$f":"$G$3","v":122},{"$f":"$G$3","v":122}]
[22,2210,13,2219,14,2227,null,null,null,null,0,211,null,null,"total reinforcement",{"$f":"U10","v":0},{"$f":"Z10","v":0},{"$f":"AE10","v":0},{"$f":"AJ10","v":0},{"$f":"AO10","v":0},{"$f":"AT10","v":0}]
[22,2327,13,2339,14,2348,null,null,null,null,0,211,null,null,"% target"]
[22,2441,13,2461,14,2470,null,null,null,null,0,211,null,null,"CCRF"]
[22,2569,13,2579,14,2588,null,null,null,null,0,211,null,null,"% CCRf"]
[11,2695,11,2704,12,2715,null,null,null,null,0,111,null,null,"average response rate",{"$f":"F37/P20","v":124.90322580645162},{"$f":"(F69-F37)/Q20","v":124.125},{"$f":"(F100-F69)/R20","v":125.25806451612904},{"$f":"(F131-F100)/S20","v":128.35483870967741},{"$f":"(F163-F131)/T20","v":131.125},{"$f":"(F194-F163)/U20","v":131.32258064516128}]
[11,2825,11,2833,12,2844,null,null,null,null,0,111]
[11,2958,11,2966,12,2980,null,null,null,null,0,111]
[22,3082,13,3095,14,3103,null,null,null,null,0,211]
[22,3205,13,3216,14,3222,null,null,null,null,0,211]
[11,3333,11,3341,12,3353,null,null,null,null,0,111]
[22,3457,13,3468,14,3475,null,null,null,null,0,211]
[22,3582,13,3592,14,3599,null,null,null,null,0,211]
[11,3723,11,3731,12,3743,null,null,null,null,0,111]
[11,3852,11,3861,12,3872,null,null,null,null,0,111]
[22,3972,13,3985,14,3993,null,null,null,null,0,211]
[22,4093,13,4101,14,4107,null,null,null,null,0,211]
[11,4220,11,4229,12,4240,null,null,null,null,0,111]
[11,4353,11,4361,12,4371,null,null,null,null,0,111]
[22,4472,13,4487,14,4495,null,null,null,null,0,211]
[11,4609,11,4616,12,4626,null,null,null,null,0,111]
[22,4723,13,4741,14,4749,null,null,null,null,0,211]
[11,4862,11,4867,12,4876,null,null,null,null,0,111]
[22,4975,13,4983,14,4989,null,null,null,null,0,211]
[22,5085,13,5096,14,5102,null,null,null,null,0,211]
[22,5198,13,5209,14,5215,null,null,null,null,0,211]
[11,5328,11,5334,12,5347,null,null,null,null,0,111]
[22,5445,13,5457,14,5466,null,null,null,null,0,211]
[22,5567,13,5580,14,5588,null,null,null,null,0,211]
[11,5698,11,5705,12,5719,null,null,null,null,0,111]
[22,5820,13,5829,14,5837,null,null,null,null,0,211]
[11,5946,11,5953,12,5964,null,null,null,null,0,111]
[22,6066,13,6076,14,6082,null,null,null,null,0,211]
[22,6184,13,6193,14,6203,null,null,null,null,0,211]
[11,6314,11,6321,12,6332,null,null,null,null,0,111]
[11,6440,11,6445,12,6457,null,null,null,null,0,111]
[22,6556,13,6570,14,6578,null,null,null,null,0,211]
[11,6688,11,6694,12,6706,null,null,null,null,0,111]
[11,6817,11,6823,12,6834,null,null,null,null,0,111]
[11,6944,11,6951,12,6962,null,null,null,null,0,111]
[11,7084,11,7093,12,7106,null,null,null,null,0,111]
[22,7209,13,7218,14,7225,null,null,null,null,0,211]
[11,7344,11,7351,12,7363,null,null,null,null,0,111]
[22,7455,13,7476,14,7485,null,null,null,null,0,211]
[22,7581,13,7590,14,7598,null,null,null,null,0,211]
[22,7699,13,7710,14,7715,null,null,null,null,0,211]
[11,7830,11,7836,12,7844,null,null,null,null,0,111]
[22,7948,13,7958,14,7964,null,null,null,null,0,211]
[11,8078,11,8086,12,8098,null,null,null,null,0,111]
[22,8200,13,8208,14,8214,null,null,null,null,0,211]
[11,8322,11,8329,12,8341,null,null,null,null,0,111]
[22,8442,13,8453,14,8459,null,null,null,null,0,211]
[11,8581,11,8588,12,8599,null,null,null,null,0,111]
[11,8714,11,8719,12,8731,null,null,null,null,0,111]
[22,8832,13,8841,14,8847,null,null,null,null,0,211]
[22,8946,13,8957,14,8964,null,null,null,null,0,211]
[22,9062,13,9073,14,9082,null,null,null,null,0,211]
[22,9185,13,9198,14,9207,null,null,null,null,0,211]
[22,9310,13,9321,14,9330,null,null,null,null,0,211]
[22,9432,13,9443,14,9451,null,null,null,null,0,211]
[11,9560,11,9565,12,9576,null,null,null,null,0,111]
[11,9703,11,9714,12,9724,null,null,null,null,0,111]
[22,9829,13,9840,14,9845,null,null,null,null,0,211]
[11,9957,11,9964,12,9977,null,null,null,null,0,111]
[11,10088,11,10093,12,10105,null,null,null,null,0,111]
[22,10207,13,10215,14,10224,null,null,null,null,0,211]
[22,10328,13,10348,14,10357,null,null,null,null,0,211]
[22,10458,13,10469,14,10478,null,null,null,null,0,211]
[22,10579,13,10589,14,10598,null,null,null,null,0,211]
[22,10700,13,10708,14,10715,null,null,null,null,0,211]
[22,10819,13,10830,14,10839,null,null,null,null,0,211]
[11,10956,11,10967,12,10979,null,null,null,null,0,111]
[11,11094,11,11102,12,11112,null,null,null,null,0,111]
[22,11213,13,11225,14,11232,null,null,null,null,0,211]
[22,11333,13,11353,14,11364,null,null,null,null,0,211]
[22,11467,13,11481,14,11488,null,null,null,null,0,211]
[22,11590,13,11603,14,11608,null,null,null,null,0,211]
[22,11706,13,11718,14,11727,null,null,null,null,0,211]
[22,11827,13,11845,14,11858,null,null,null,null,0,211]
[22,11960,13,11969,14,11977,null,null,null,null,0,211]
[22,12078,13,12094,14,12103,null,null,null,null,0,211]
[11,12213,11,12222,12,12231,null,null,null,null,0,111]
[22,12334,13,12342,14,12347,null,null,null,null,0,211]
[11,12463,11,12469,12,12479,null,null,null,null,0,111]
[11,12597,11,12604,12,12617,null,null,null,null,0,111]
[11,12734,11,12743,12,12752,null,null,null,null,0,111]
[22,12853,13,12863,14,12872,null,null,null,null,0,211]
[11,12984,11,12991,12,13000,null,null,null,null,0,111]
[22,13106,13,13116,14,13124,null,null,null,null,0,211]
[22,13223,13,13234,14,13241,null,null,null,null,0,211]
[11,13352,11,13361,12,13370,null,null,null,null,0,111]
[11,13480,11,13488,12,13499,null,null,null,null,0,111]
[22,13602,13,13610,14,13618,null,null,null,null,0,211]
[11,13736,11,13744,12,13755,null,null,null,null,0,111]
[11,13875,11,13885,12,13897,null,null,null,null,0,111]
[22,13995,13,14011,14,14019,null,null,null,null,0,211]
[11,14131,11,14141,12,14154,null,null,null,null,0,111]
[22,14262,13,14275,14,14284,null,null,null,null,0,211]
[22,14385,13,14396,14,14406,null,null,null,null,0,211]
[11,14526,11,14533,12,14544,null,null,null,null,0,111]
[11,14655,11,14664,12,14674,null,null,null,null,0,111]
[11,14787,11,14794,12,14806,null,null,null,null,0,111]
[22,14906,13,14917,14,14928,null,null,null,null,0,211]
[11,15041,11,15049,12,15062,null,null,null,null,0,111]
[11,15178,11,15187,12,15199,null,null,null,null,0,111]
[22,15301,13,15314,14,15323,null,null,null,null,0,211]
[11,15427,11,15435,12,15443,null,null,null,null,0,111]
[11,15562,11,15571,12,15584,null,null,null,null,0,111]
[22,15685,13,15696,14,15706,null,null,null,null,0,211]
[11,15813,11,15822,12,15830,null,null,null,null,0,111]
[22,15930,13,15938,14,15944,null,null,null,null,0,211]
[22,16044,13,16056,14,16065,null,null,null,null,0,211]
[22,16165,13,16177,14,16186,null,null,null,null,0,211]
[22,16284,13,16296,14,16301,null,null,null,null,0,211]
[22,16407,13,16428,14,16441,null,null,null,null,0,211]
[11,16569,11,16581,12,16592,null,null,null,null,0,111]
[22,16692,13,16707,14,16716,null,null,null,null,0,211]
[11,16833,11,16841,12,16853,null,null,null,null,0,111]
[22,16953,13,16962,14,16970,null,null,null,null,0,211]
[11,17091,11,17096,12,17108,null,null,null,null,0,111]
[11,17223,11,17228,12,17237,null,null,null,null,0,111]
[22,17338,13,17354,14,17363,null,null,null,null,0,211]
[11,17474,11,17481,12,17492,null,null,null,null,0,111]
[11,17611,11,17623,12,17635,null,null,null,null,0,111]
[11,17750,11,17758,12,17771,null,null,null,null,0,111]
[22,17870,13,17879,14,17889,null,null,null,null,0,211]
[11,18003,11,18011,12,18023,null,null,null,null,0,111]
[22,18125,13,18136,14,18145,null,null,null,null,0,211]
[22,18246,13,18257,14,18266,null,null,null,null,0,211]
[11,18387,11,18395,12,18407,null,null,null,null,0,111]
[11,18536,11,18545,12,18555,null,null,null,null,0,111]
[22,18663,13,18680,14,18689,null,null,null,null,0,211]
[11,18800,11,18808,12,18819,null,null,null,null,0,111]
[22,18925,13,18944,14,18953,null,null,null,null,0,211]
[11,19064,11,19076,12,19086,null,null,null,null,0,111]
[11,19206,11,19215,12,19226,null,null,null,null,0,111]
[22,19327,13,19337,14,19347,null,null,null,null,0,211]
[11,19482,11,19494,12,19506,null,null,null,null,0,111]
[11,19626,11,19635,12,19646,null,null,null,null,0,111]
[22,19747,13,19763,14,19771,null,null,null,null,0,211]
[11,19883,11,19890,12,19902,null,null,null,null,0,111]
[11,20019,11,20027,12,20036,null,null,null,null,0,111]
[22,20144,13,20162,14,20170,null,null,null,null,0,211]
[22,20276,13,20287,14,20296,null,null,null,null,0,211]
[22,20400,13,20420,14,20429,null,null,null,null,0,211]
[11,20541,11,20548,12,20560,null,null,null,null,0,111]
[22,20659,13,20674,14,20682,null,null,null,null,0,211]
[22,20786,13,20801,14,20808,null,null,null,null,0,211]
[22,20907,13,20919,14,20925,null,null,null,null,0,211]
[11,21041,11,21050,12,21062,null,null,null,null,0,111]
[22,21167,13,21178,14,21184,null,null,null,null,0,211]
[22,21285,13,21296,14,21304,null,null,null,null,0,211]
[22,21429,13,21442,14,21450,null,null,null,null,0,211]
[22,21552,13,21563,14,21571,null,null,null,null,0,211]
[22,21671,13,21683,14,21691,null,null,null,null,0,211]
[11,21802,11,21809,12,21821,null,null,null,null,0,111]
[11,21951,11,21962,12,21976,null,null,null,null,0,111]
[11,22093,11,22101,12,22111,null,null,null,null,0,111]
[22,22213,13,22225,14,22234,null,null,null,null,0,211]
[11,22347,11,22356,12,22368,null,null,null,null,0,111]
[11,22486,11,22496,12,22508,null,null,null,null,0,111]
[11,22623,11,22631,12,22641,null,null,null,null,0,111]
[11,22750,11,22758,12,22767,null,null,null,null,0,111]
[11,22881,11,22886,12,22894,null,null,null,null,0,111]
[11,23013,11,23021,12,23031,null,null,null,null,0,111]
[22,23135,13,23147,14,23154,null,null,null,null,0,211]
[22,23256,13,23276,14,23284,null,null,null,null,0,211]
[11,23396,11,23406,12,23418,null,null,null,null,0,111]
[11,23542,11,23550,12,23564,null,null,null,null,0,111]
[11,23678,11,23690,12,23701,null,null,null,null,0,111]
[11,23821,11,23831,12,23843,null,null,null,null,0,111]
[11,23955,11,23963,12,23973,null,null,null,null,null,111]

{"sheet":"!MB16A30.095","index":27,"n_rows":195,"n_cols":48,"rows_kept":195,"cut":false,"hidden":false,"merged":[[4,39,4,42],[5,39,5,40],[4,44,4,47],[5,44,5,45],[4,24,4,27],[5,24,5,25],[4,29,4,32],[5,29,5,30],[4,34,4,37],[5,34,5,35],[1,1,1,2],[5,13,5,14],[18,13,18,14],[19,13,19,14],[4,19,4,22],[5,19,5,20]]}
["Report for:!MB16A30.095"]
["Date:","<date>"]
["Hen:","<hen>",null,null,null,"Correct Sequence",{"$f":"Start!J2","v":122},null,null,null,null,null,null,null,null,"Total Sequences in Data",{"$f":"4994-COUNTBLANK(L7:L5000)","v":189},null,null,null,null,"Total Sequences in Block Data",{"$f":"COUNTA(L7:L38)","v":32},null,null,null,"Total Sequences in Block Data",{"$f":"COUNTA(L39:L69)","v":31},null,null,null,"Total Sequences in Block Data",{"$f":"COUNTA(L70:L101)","v":32},null,null,null,"Total Sequences in Block Data",{"$f":"COUNTA(L102:L132)","v":31},null,null,null,"Total Sequences in Block Data",{"$f":"COUNTA(L133:L164)","v":32},null,null,null,"Total Sequences in Block Data",{"$f":"COUNTA(L165:L195)","v":31}]
[null,null,null,null,null,null,null,null,null,null,null,null,null,null,null,"Total Sequences in Summary",{"$f":"SUM(O7:O14)","v":189},null,null,null,null,"Total Sequences in Block Summary",{"$f":"SUM(U7:U14)","v":32},null,null,null,"Total Sequences in Block Summary",{"$f":"SUM(Z7:Z14)","v":31},null,null,null,"Total Sequences in Block Summary",{"$f":"SUM(AE7:AE14)","v":32},null,null,null,"Total Sequences in Block Summary",{"$f":"SUM(AJ7:AJ14)","v":31},null,null,null,"Total Sequences in Block Summary",{"$f":"SUM(AO7:AO14)","v":32},null,null,null,"Total Sequences in Block Summary",{"$f":"SUM(AT7:AT14)","v":31}]
[null,null,null,null,null,null,null,null,null,null,null,null,null,null,null,null,null,null,null,"Block 1",null,null,null,null,"Block 2",null,null,null,null,"Block 3",null,null,null,null,"Block 4",null,null,null,null,"Block 5",null,null,null,null,"Block 6"]
["Sequence\nComponent\n1","Time\n1","Sequence\nComponent\n2","Time\n2","Sequence\nComponent\n3","Time\n3","Sequence\nComponent\n4","Time\n4","Sequence\nComponent\n5","Time\n5","Correct?\n0=No 1=Yes","Sequence",null,"Frequency",null,"Relative Frequency","Variability",null,null,"Frequency",null,"Relative Frequency","Variability",null,"Frequency",null,"Relative Frequency","Variability",null,"Frequency",null,"Relative Frequency","Variability",null,"Frequency",null,"Relative Frequency","Variability",null,"Frequency",null,"Relative Frequency","Variability",null,"Frequency",null,"Relative Frequency","Variability"]
[22,20,13,39,14,47,null,null,null,null,0,211,null,111,{"$f":"COUNTIF($L$7:$L$500,N7)","v":84},{"$f":"O7/$Q$4","v":0.44444444444444442},{"$f":"IF(P7=0,0,(P7*((LOG(P7))/LOG(2))))","v":-0.51996666730769447},null,null,{"$f":"N7","v":111},{"$f":"COUNTIF(L7:L38,T7)","v":12},{"$f":"U7/(W4-U10)","v":0.375},{"$f":"IF(V7=0,0,(V7*((LOG(V7))/LOG(2))))","v":-0.53063906222956647},null,{"$f":"N7","v":111},{"$f":"COUNTIF(L39:L69,Y7)","v":17},{"$f":"Z7/(AB4-Z10)","v":0.54838709677419351},{"$f":"IF(AA7=0,0,(AA7*((LOG(AA7))/LOG(2))))","v":-0.47530545081681003},null,{"$f":"N7","v":111},{"$f":"COUNTIF(L70:L101,AD7)","v":17},{"$f":"AE7/(AG4-AE10)","v":0.53125},{"$f":"IF(AF7=0,0,(AF7*((LOG(AF7))/LOG(2))))","v":-0.48478536558575719},null,{"$f":"N7","v":111},{"$f":"COUNTIF(L102:L132,AI7)","v":14},{"$f":"AJ7/(AL4-AJ10)","v":0.45161290322580644},{"$f":"IF(AK7=0,0,(AK7*((LOG(AK7))/LOG(2))))","v":-0.51792836892289662},null,{"$f":"N7","v":111},{"$f":"COUNTIF(L133:L164,AN7)","v":10},{"$f":"AO7/(AQ4-AO10)","v":0.3125},{"$f":"IF(AP7=0,0,(AP7*((LOG(AP7))/LOG(2))))","v":-0.52439747034769923},null,{"$f":"N7","v":111},{"$f":"COUNTIF(L165:L195,AS7)","v":14},{"$f":"AT7/(AV4-AT10)","v":0.45161290322580644},{"$f":"IF(AU7=0,0,(AU7*((LOG(AU7))/LOG(2))))","v":-0.51792836892289662}]
[11,165,11,170,12,179,null,null,null,null,0,111,null,112,{"$f":"COUNTIF($L$7:$L$500,N8)","v":0},{"$f":"O8/$Q$4","v":0},{"$f":"IF(P8=0,0,(P8*((LOG(P8))/LOG(2))))","v":0},null,null,{"$f":"N8","v":112},{"$f":"COUNTIF(L7:L38,T8)","v":0},{"$f":"U8/(W4-U10)","v":0},{"$f":"IF(V8=0,0,(V8*((LOG(V8))/LOG(2))))","v":0},null,{"$f":"N8","v":112},{"$f":"COUNTIF(L39:L69,Y8)","v":0},{"$f":"Z8/(AB4-Z10)","v":0},{"$f":"IF(AA8=0,0,(AA8*((LOG(AA8))/LOG(2))))","v":0},null,{"$f":"N8","v":112},{"$f":"COUNTIF(L70:L101,AD8)","v":0},{"$f":"AE8/(AG4-AE10)","v":0},{"$f":"IF(AF8=0,0,(AF8*((LOG(AF8))/LOG(2))))","v":0},null,{"$f":"N8","v":112},{"$f":"COUNTIF(L102:L132,AI8)","v":0},{"$f":"AJ8/(AL4-AJ10)","v":0},{"$f":"IF(AK8=0,0,(AK8*((LOG(AK8))/LOG(2))))","v":0},null,{"$f":"N8","v":112},{"$f":"COUNTIF(L133:L164,AN8)","v":0},{"$f":"AO8/(AQ4-AO10)","v":0},{"$f":"IF(AP8=0,0,(AP8*((LOG(AP8))/LOG(2))))","v":0},null,{"$f":"N8","v":112},{"$f":"COUNTIF(L165:L195,AS8)","v":0},{"$f":"AT8/(AV4-AT10)","v":0},{"$f":"IF(AU8=0,0,(AU8*((LOG(AU8))/LOG(2))))","v":0}]
[11,294,11,303,12,316,null,null,null,null,0,111,null,121,{"$f":"COUNTIF($L$7:$L$500,N9)","v":0},{"$f":"O9/$Q$4","v":0},{"$f":"IF(P9=0,0,(P9*((LOG(P9))/LOG(2))))","v":0},null,null,{"$f":"N9","v":121},{"$f":"COUNTIF(L7:L38,T9)","v":0},{"$f":"U9/(W4-U10)","v":0},{"$f":"IF(V9=0,0,(V9*((LOG(V9))/LOG(2))))","v":0},null,{"$f":"N9","v":121},{"$f":"COUNTIF(L39:L69,Y9)","v":0},{"$f":"Z9/(AB4-Z10)","v":0},{"$f":"IF(AA9=0,0,(AA9*((LOG(AA9))/LOG(2))))","v":0},null,{"$f":"N9","v":121},{"$f":"COUNTIF(L70:L101,AD9)","v":0},{"$f":"AE9/(AG4-AE10)","v":0},{"$f":"IF(AF9=0,0,(AF9*((LOG(AF9))/LOG(2))))","v":0},null,{"$f":"N9","v":121},{"$f":"COUNTIF(L102:L132,AI9)","v":0},{"$f":"AJ9/(AL4-AJ10)","v":0},{"$f":"IF(AK9=0,0,(AK9*((LOG(AK9))/LOG(2))))","v":0},null,{"$f":"N9","v":121},{"$f":"COUNTIF(L133:L164,AN9)","v":0},{"$f":"AO9/(AQ4-AO10)","v":0},{"$f":"IF(AP9=0,0,(AP9*((LOG(AP9))/LOG(2))))","v":0},null,{"$f":"N9","v":121},{"$f":"COUNTIF(L165:L195,AS9)","v":0},{"$f":"AT9/(AV4-AT10)","v":0},{"$f":"IF(AU9=0,0,(AU9*((LOG(AU9))/LOG(2))))","v":0}]
[22,420,13,429,14,435,null,null,null,null,0,211,null,122,{"$f":"COUNTIF($L$7:$L$500,N10)","v":0},{"$f":"O10/$Q$4","v":0},{"$f":"IF(P10=0,0,(P10*((LOG(P10))/LOG(2))))","v":0},null,null,{"$f":"N10","v":122},{"$f":"COUNTIF(L7:L38,T10)","v":0},null,null,null,{"$f":"N10","v":122},{"$f":"COUNTIF(L39:L69,Y10)","v":0},null,null,null,{"$f":"N10","v":122},{"$f":"COUNTIF(L70:L101,AD10)","v":0},null,null,null,{"$f":"N10","v":122},{"$f":"COUNTIF(L102:L132,AI10)","v":0},null,null,null,{"$f":"N10","v":122},{"$f":"COUNTIF(L133:L164,AN10)","v":0},null,null,null,{"$f":"N10","v":122},{"$f":"COUNTIF(L165:L195,AS10)","v":0}]
[22,542,13,550,14,556,null,null,null,null,0,211,null,211,{"$f":"COUNTIF($L$7:$L$500,N11)","v":105},{"$f":"O11/$Q$4","v":0.55555555555555558},{"$f":"IF(P11=0,0,(P11*((LOG(P11))/LOG(2))))","v":-0.4711093925305278},null,null,{"$f":"N11","v":211},{"$f":"COUNTIF(L7:L38,T11)","v":20},{"$f":"U11/(W4-U10)","v":0.625},{"$f":"IF(V11=0,0,(V11*((LOG(V11))/LOG(2))))","v":-0.42379494069539858},null,{"$f":"N11","v":211},{"$f":"COUNTIF(L39:L69,Y11)","v":14},{"$f":"Z11/(AB4-Z10)","v":0.45161290322580644},{"$f":"IF(AA11=0,0,(AA11*((LOG(AA11))/LOG(2))))","v":-0.51792836892289662},null,{"$f":"N11","v":211},{"$f":"COUNTIF(L70:L101,AD11)","v":15},{"$f":"AE11/(AG4-AE10)","v":0.46875},{"$f":"IF(AF11=0,0,(AF11*((LOG(AF11))/LOG(2))))","v":-0.512395033308507},null,{"$f":"N11","v":211},{"$f":"COUNTIF(L102:L132,AI11)","v":17},{"$f":"AJ11/(AL4-AJ10)","v":0.54838709677419351},{"$f":"IF(AK11=0,0,(AK11*((LOG(AK11))/LOG(2))))","v":-0.47530545081681003},null,{"$f":"N11","v":211},{"$f":"COUNTIF(L133:L164,AN11)","v":22},{"$f":"AO11/(AQ4-AO10)","v":0.6875},{"$f":"IF(AP11=0,0,(AP11*((LOG(AP11))/LOG(2))))","v":-0.3716407621868581},null,{"$f":"N11","v":211},{"$f":"COUNTIF(L165:L195,AS11)","v":17},{"$f":"AT11/(AV4-AT10)","v":0.54838709677419351},{"$f":"IF(AU11=0,0,(AU11*((LOG(AU11))/LOG(2))))","v":-0.47530545081681003}]
[22,665,13,673,14,680,null,null,null,null,0,211,null,212,{"$f":"COUNTIF($L$7:$L$500,N12)","v":0},{"$f":"O12/$Q$4","v":0},{"$f":"IF(P12=0,0,(P12*((LOG(P12))/LOG(2))))","v":0},null,null,{"$f":"N12","v":212},{"$f":"COUNTIF(L7:L38,T12)","v":0},{"$f":"U12/(W4-U10)","v":0},{"$f":"IF(V12=0,0,(V12*((LOG(V12))/LOG(2))))","v":0},null,{"$f":"N12","v":212},{"$f":"COUNTIF(L39:L69,Y12)","v":0},{"$f":"Z12/(AB4-Z10)","v":0},{"$f":"IF(AA12=0,0,(AA12*((LOG(AA12))/LOG(2))))","v":0},null,{"$f":"N12","v":212},{"$f":"COUNTIF(L70:L101,AD12)","v":0},{"$f":"AE12/(AG4-AE10)","v":0},{"$f":"IF(AF12=0,0,(AF12*((LOG(AF12))/LOG(2))))","v":0},null,{"$f":"N12","v":212},{"$f":"COUNTIF(L102:L132,AI12)","v":0},{"$f":"AJ12/(AL4-AJ10)","v":0},{"$f":"IF(AK12=0,0,(AK12*((LOG(AK12))/LOG(2))))","v":0},null,{"$f":"N12","v":212},{"$f":"COUNTIF(L133:L164,AN12)","v":0},{"$f":"AO12/(AQ4-AO10)","v":0},{"$f":"IF(AP12=0,0,(AP12*((LOG(AP12))/LOG(2))))","v":0},null,{"$f":"N12","v":212},{"$f":"COUNTIF(L165:L195,AS12)","v":0},{"$f":"AT12/(AV4-AT10)","v":0},{"$f":"IF(AU12=0,0,(AU12*((LOG(AU12))/LOG(2))))","v":0}]
[11,796,11,805,12,816,null,null,null,null,0,111,null,221,{"$f":"COUNTIF($L$7:$L$500,N13)","v":0},{"$f":"O13/$Q$4","v":0},{"$f":"IF(P13=0,0,(P13*((LOG(P13))/LOG(2))))","v":0},null,null,{"$f":"N13","v":221},{"$f":"COUNTIF(L7:L38,T13)","v":0},{"$f":"U13/(W4-U10)","v":0},{"$f":"IF(V13=0,0,(V13*((LOG(V13))/LOG(2))))","v":0},null,{"$f":"N13","v":221},{"$f":"COUNTIF(L39:L69,Y13)","v":0},{"$f":"Z13/(AB4-Z10)","v":0},{"$f":"IF(AA13=0,0,(AA13*((LOG(AA13))/LOG(2))))","v":0},null,{"$f":"N13","v":221},{"$f":"COUNTIF(L70:L101,AD13)","v":0},{"$f":"AE13/(AG4-AE10)","v":0},{"$f":"IF(AF13=0,0,(AF13*((LOG(AF13))/LOG(2))))","v":0},null,{"$f":"N13","v":221},{"$f":"COUNTIF(L102:L132,AI13)","v":0},{"$f":"AJ13/(AL4-AJ10)","v":0},{"$f":"IF(AK13=0,0,(AK13*((LOG(AK13))/LOG(2))))","v":0},null,{"$f":"N13","v":221},{"$f":"COUNTIF(L133:L164,AN13)","v":0},{"$f":"AO13/(AQ4-AO10)","v":0},{"$f":"IF(AP13=0,0,(AP13*((LOG(AP13))/LOG(2))))","v":0},null,{"$f":"N13","v":221},{"$f":"COUNTIF(L165:L195,AS13)","v":0},{"$f":"AT13/(AV4-AT10)","v":0},{"$f":"IF(AU13=0,0,(AU13*((LOG(AU13))/LOG(2))))","v":0}]
[22,923,13,931,14,940,null,null,null,null,0,211,null,222,{"$f":"COUNTIF($L$7:$L$500,N14)","v":0},{"$f":"O14/$Q$4","v":0},{"$f":"IF(P14=0,0,(P14*((LOG(P14))/LOG(2))))","v":0},null,null,{"$f":"N14","v":222},{"$f":"COUNTIF(L7:L38,T14)","v":0},{"$f":"U14/(W4-U10)","v":0},{"$f":"IF(V14=0,0,(V14*((LOG(V14))/LOG(2))))","v":0},null,{"$f":"N14","v":222},{"$f":"COUNTIF(L39:L69,Y14)","v":0},{"$f":"Z14/(AB4-Z10)","v":0},{"$f":"IF(AA14=0,0,(AA14*((LOG(AA14))/LOG(2))))","v":0},null,{"$f":"N14","v":222},{"$f":"COUNTIF(L70:L101,AD14)","v":0},{"$f":"AE14/(AG4-AE10)","v":0},{"$f":"IF(AF14=0,0,(AF14*((LOG(AF14))/LOG(2))))","v":0},null,{"$f":"N14","v":222},{"$f":"COUNTIF(L102:L132,AI14)","v":0},{"$f":"AJ14/(AL4-AJ10)","v":0},{"$f":"IF(AK14=0,0,(AK14*((LOG(AK14))/LOG(2))))","v":0},null,{"$f":"N14","v":222},{"$f":"COUNTIF(L133:L164,AN14)","v":0},{"$f":"AO14/(AQ4-AO10)","v":0},{"$f":"IF(AP14=0,0,(AP14*((LOG(AP14))/LOG(2))))","v":0},null,{"$f":"N14","v":222},{"$f":"COUNTIF(L165:L195,AS14)","v":0},{"$f":"AT14/(AV4-AT10)","v":0},{"$f":"IF(AU14=0,0,(AU14*((LOG(AU14))/LOG(2))))","v":0}]
[22,1040,13,1049,14,1056,null,null,null,null,0,211,null,null,null,{"$f":"SUM(P7:P14)","v":1},{"$f":"-SUM(Q7:Q14)","v":0.99107605983822222},null,null,null,null,{"$f":"SUM(V7:V14)","v":1},{"$f":"-SUM(W7:W14)","v":0.95443400292496505},null,null,null,{"$f":"SUM(AA7:AA14)","v":1},{"$f":"-SUM(AB7:AB14)","v":0.99323381973970659},null,null,null,{"$f":"SUM(AF7:AF14)","v":1},{"$f":"-SUM(AG7:AG14)","v":0.99718039889426424},null,null,null,{"$f":"SUM(AK7:AK14)","v":1},{"$f":"-SUM(AL7:AL14)","v":0.99323381973970659},null,null,null,{"$f":"SUM(AP7:AP14)","v":1},{"$f":"-SUM(AQ7:AQ14)","v":0.89603823253455728},null,null,null,{"$f":"SUM(AU7:AU14)","v":1},{"$f":"-SUM(AV7:AV14)","v":0.99323381973970659}]
[22,1165,13,1177,14,1186,null,null,null,null,0,211,null,null,null,"U=",{"$f":"Q15/(LOG(Q4)/LOG(2))","v":0.13105584352386127},null,null,null,null,"U1=",{"$f":"W15/(LOG(W4)/LOG(2))","v":0.19088680058499302},null,null,null,"U2=",{"$f":"AB15/(LOG(AB4)/LOG(2))","v":0.20048333927690981},null,null,null,"U3=",{"$f":"AG15/(LOG(AG4)/LOG(2))","v":0.19943607977885286},null,null,null,"U4=",{"$f":"AL15/(LOG(AL4)/LOG(2))","v":0.20048333927690981},null,null,null,"U5=",{"$f":"AQ15/(LOG(AQ4)/LOG(2))","v":0.17920764650691146},null,null,null,"U6=",{"$f":"AV15/(LOG(AV4)/LOG(2))","v":0.20048333927690981}]
[11,1298,11,1304,12,1316,null,null,null,null,0,111]
[11,1433,11,1445,12,1457,null,null,null,null,0,111]
[11,1575,11,1582,12,1592,null,null,null,null,0,111,null,"Total Target Seq"]
[22,1696,13,1707,14,1714,null,null,null,null,0,211,null,{"$f":"COUNTIF(L7:L195,G3)","v":0},null,32,31,32,31,32,31]
[11,1825,11,1833,12,1844,null,null,null,null,0,111,null,null,null,"% of reinforcement given in 6 equal intervals based on number of trials "]
[22,1942,13,1959,14,1968,null,null,null,null,0,211,null,null,null,"%_1","%_2","%_3","%_4","%_5","%_6"]
[22,2075,13,2091,14,2100,null,null,null,null,0,211,null,null,"target sequence",{"$f":"$G$3","v":122},{"$f":"$G$3","v":122},{"$f":"$G$3","v":122},{"$f":"$G$3","v":122},{"$f":"$G$3","v":122},{"$f":"$G$3","v":122}]
[11,2210,11,2215,12,2224,null,null,null,null,0,111,null,null,"total reinforcement",{"$f":"U10","v":0},{"$f":"Z10","v":0},{"$f":"AE10","v":0},{"$f":"AJ10","v":0},{"$f":"AO10","v":0},{"$f":"AT10","v":0}]
[22,2327,13,2335,14,2341,null,null,null,null,0,211,null,null,"% target"]
[22,2443,13,2454,14,2462,null,null,null,null,0,211,null,null,"CCRF"]
[11,2593,11,2603,12,2613,null,null,null,null,0,111,null,null,"% CCRf"]
[22,2717,13,2726,14,2735,null,null,null,null,0,211,null,null,"average response rate",{"$f":"F38/P20","v":124.21875},{"$f":"(F69-F38)/Q20","v":128.64516129032259},{"$f":"(F101-F69)/R20","v":128.15625},{"$f":"(F132-F101)/S20","v":125.70967741935483},{"$f":"(F164-F132)/T20","v":125.1875},{"$f":"(F195-F164)/U20","v":129.38709677419354}]
[22,2845,13,2853,14,2860,null,null,null,null,0,211]
[11,2978,11,2989,12,3002,null,null,null,null,0,111]
[22,3110,13,3118,14,3124,null,null,null,null,0,211]
[22,3227,13,3236,14,3245,null,null,null,null,0,211]
[11,3354,11,3359,12,3371,null,null,null,null,0,111]
[22,3481,13,3489,14,3495,null,null,null,null,0,211]
[11,3601,11,3609,12,3620,null,null,null,null,0,111]
[22,3721,13,3734,14,3743,null,null,null,null,0,211]
[22,3845,13,3853,14,3859,null,null,null,null,0,211]
[22,3960,13,3968,14,3975,null,null,null,null,0,211]
[22,4083,13,4095,14,4103,null,null,null,null,0,211]
[11,4217,11,4225,12,4237,null,null,null,null,0,111]
[11,4347,11,4353,12,4365,null,null,null,null,0,111]
[11,4478,11,4486,12,4499,null,null,null,null,0,111]
[11,4624,11,4633,12,4646,null,null,null,null,0,111]
[22,4748,13,4764,14,4775,null,null,null,null,0,211]
[22,4877,13,4885,14,4893,null,null,null,null,0,211]
[11,5007,11,5016,12,5028,null,null,null,null,0,111]
[22,5126,13,5136,14,5143,null,null,null,null,0,211]
[22,5248,13,5259,14,5264,null,null,null,null,0,211]
[11,5379,11,5387,12,5400,null,null,null,null,0,111]
[11,5520,11,5531,12,5541,null,null,null,null,0,111]
[11,5662,11,5671,12,5683,null,null,null,null,0,111]
[22,5791,13,5803,14,5810,null,null,null,null,0,211]
[11,5930,11,5942,12,5954,null,null,null,null,0,111]
[11,6076,11,6084,12,6095,null,null,null,null,0,111]
[22,6196,13,6205,14,6212,null,null,null,null,0,211]
[11,6323,11,6332,12,6343,null,null,null,null,0,111]
[11,6457,11,6464,12,6474,null,null,null,null,0,111]
[11,6587,11,6593,12,6602,null,null,null,null,0,111]
[22,6704,13,6717,14,6725,null,null,null,null,0,211]
[22,6827,13,6836,14,6842,null,null,null,null,0,211]
[11,6948,11,6953,12,6961,null,null,null,null,0,111]
[22,7065,13,7078,14,7086,null,null,null,null,0,211]
[11,7197,11,7203,12,7213,null,null,null,null,0,111]
[11,7327,11,7333,12,7344,null,null,null,null,0,111]
[11,7453,11,7462,12,7471,null,null,null,null,0,111]
[22,7575,13,7591,14,7599,null,null,null,null,0,211]
[22,7703,13,7714,14,7721,null,null,null,null,0,211]
[22,7825,13,7834,14,7841,null,null,null,null,0,211]
[22,7943,13,7955,14,7963,null,null,null,null,0,211]
[11,8083,11,8092,12,8103,null,null,null,null,0,111]
[11,8213,11,8219,12,8228,null,null,null,null,0,111]
[22,8334,13,8345,14,8353,null,null,null,null,0,211]
[22,8456,13,8465,14,8471,null,null,null,null,0,211]
[22,8577,13,8593,14,8604,null,null,null,null,0,211]
[22,8707,13,8715,14,8721,null,null,null,null,0,211]
[11,8839,11,8850,12,8860,null,null,null,null,0,111]
[11,8971,11,8981,12,8991,null,null,null,null,0,111]
[11,9104,11,9111,12,9120,null,null,null,null,0,111]
[11,9232,11,9237,12,9245,null,null,null,null,0,111]
[22,9348,13,9361,14,9369,null,null,null,null,0,211]
[11,9489,11,9497,12,9506,null,null,null,null,0,111]
[11,9620,11,9629,12,9638,null,null,null,null,0,111]
[22,9741,13,9756,14,9764,null,null,null,null,0,211]
[22,9866,13,9879,14,9887,null,null,null,null,0,211]
[22,9990,13,10004,14,10012,null,null,null,null,0,211]
[11,10126,11,10134,12,10146,null,null,null,null,0,111]
[11,10257,11,10264,12,10274,null,null,null,null,0,111]
[11,10391,11,10398,12,10409,null,null,null,null,0,111]
[11,10535,11,10543,12,10555,null,null,null,null,0,111]
[22,10660,13,10676,14,10684,null,null,null,null,0,211]
[11,10793,11,10798,12,10805,null,null,null,null,0,111]
[22,10907,13,10918,14,10926,null,null,null,null,0,211]
[22,11040,13,11059,14,11068,null,null,null,null,0,211]
[11,11182,11,11190,12,11199,null,null,null,null,0,111]
[11,11308,11,11316,12,11324,null,null,null,null,0,111]
[22,11426,13,11435,14,11440,null,null,null,null,0,211]
[22,11535,13,11553,14,11562,null,null,null,null,0,211]
[22,11662,13,11672,14,11679,null,null,null,null,0,211]
[11,11793,11,11800,12,11808,null,null,null,null,0,111]
[22,11918,13,11926,14,11934,null,null,null,null,0,211]
[11,12050,11,12056,12,12064,null,null,null,null,0,111]
[22,12165,13,12176,14,12181,null,null,null,null,0,211]
[11,12295,11,12304,12,12316,null,null,null,null,0,111]
[11,12431,11,12437,12,12448,null,null,null,null,0,111]
[11,12559,11,12566,12,12575,null,null,null,null,0,111]
[22,12676,13,12700,14,12709,null,null,null,null,0,211]
[22,12806,13,12816,14,12823,null,null,null,null,0,211]
[11,12946,11,12954,12,12966,null,null,null,null,0,111]
[22,13076,13,13086,14,13095,null,null,null,null,0,211]
[22,13199,13,13209,14,13218,null,null,null,null,0,211]
[22,13320,13,13331,14,13337,null,null,null,null,0,211]
[22,13438,13,13446,14,13452,null,null,null,null,0,211]
[22,13557,13,13566,14,13571,null,null,null,null,0,211]
[22,13671,13,13681,14,13690,null,null,null,null,0,211]
[22,13786,13,13798,14,13807,null,null,null,null,0,211]
[22,13913,13,13922,14,13932,null,null,null,null,0,211]
[11,14040,11,14047,12,14059,null,null,null,null,0,111]
[22,14165,13,14176,14,14181,null,null,null,null,0,211]
[11,14301,11,14309,12,14321,null,null,null,null,0,111]
[22,14421,13,14430,14,14437,null,null,null,null,0,211]
[11,14545,11,14550,12,14559,null,null,null,null,0,111]
[11,14672,11,14680,12,14690,null,null,null,null,0,111]
[11,14801,11,14808,12,14820,null,null,null,null,0,111]
[22,14924,13,14936,14,14942,null,null,null,null,0,211]
[11,15055,11,15062,12,15074,null,null,null,null,0,111]
[22,15184,13,15197,14,15205,null,null,null,null,0,211]
[11,15313,11,15321,12,15332,null,null,null,null,0,111]
[11,15441,11,15446,12,15456,null,null,null,null,0,111]
[11,15566,11,15574,12,15585,null,null,null,null,0,111]
[22,15689,13,15698,14,15703,null,null,null,null,0,211]
[22,15803,13,15814,14,15820,null,null,null,null,0,211]
[11,15936,11,15947,12,15961,null,null,null,null,0,111]
[22,16069,13,16080,14,16086,null,null,null,null,0,211]
[22,16189,13,16201,14,16207,null,null,null,null,0,211]
[11,16320,11,16326,12,16333,null,null,null,null,0,111]
[22,16436,13,16446,14,16452,null,null,null,null,0,211]
[11,16568,11,16576,12,16586,null,null,null,null,0,111]
[22,16689,13,16699,14,16707,null,null,null,null,0,211]
[22,16816,13,16825,14,16834,null,null,null,null,0,211]
[22,16937,13,16948,14,16954,null,null,null,null,0,211]
[22,17056,13,17065,14,17070,null,null,null,null,0,211]
[22,17175,13,17186,14,17193,null,null,null,null,0,211]
[11,17309,11,17316,12,17327,null,null,null,null,0,111]
[22,17433,13,17445,14,17452,null,null,null,null,0,211]
[22,17552,13,17563,14,17570,null,null,null,null,0,211]
[22,17668,13,17679,14,17684,null,null,null,null,0,211]
[11,17808,11,17815,12,17827,null,null,null,null,0,111]
[22,17928,13,17940,14,17945,null,null,null,null,0,211]
[22,18050,13,18063,14,18072,null,null,null,null,0,211]
[11,18186,11,18195,12,18206,null,null,null,null,0,111]
[22,18306,13,18317,14,18323,null,null,null,null,0,211]
[11,18436,11,18444,12,18453,null,null,null,null,0,111]
[22,18559,13,18568,14,18576,null,null,null,null,0,211]
[11,18692,11,18700,12,18712,null,null,null,null,0,111]
[22,18811,13,18822,14,18832,null,null,null,null,0,211]
[22,18932,13,18943,14,18950,null,null,null,null,0,211]
[11,19071,11,19080,12,19090,null,null,null,null,0,111]
[22,19192,13,19204,14,19213,null,null,null,null,0,211]
[22,19323,13,19331,14,19340,null,null,null,null,0,211]
[11,19459,11,19467,12,19479,null,null,null,null,0,111]
[22,19580,13,19591,14,19599,null,null,null,null,0,211]
[22,19701,13,19712,14,19720,null,null,null,null,0,211]
[11,19831,11,19836,12,19845,null,null,null,null,0,111]
[22,19947,13,19959,14,19967,null,null,null,null,0,211]
[22,20069,13,20081,14,20090,null,null,null,null,0,211]
[22,20188,13,20196,14,20203,null,null,null,null,0,211]
[11,20318,11,20324,12,20333,null,null,null,null,0,111]
[11,20445,11,20451,12,20460,null,null,null,null,0,111]
[22,20561,13,20573,14,20583,null,null,null,null,0,211]
[11,20704,11,20712,12,20725,null,null,null,null,0,111]
[22,20825,13,20837,14,20845,null,null,null,null,0,211]
[22,20948,13,20960,14,20970,null,null,null,null,0,211]
[22,21071,13,21082,14,21090,null,null,null,null,0,211]
[22,21192,13,21211,14,21220,null,null,null,null,0,211]
[11,21341,11,21350,12,21361,null,null,null,null,0,111]
[11,21473,11,21483,12,21494,null,null,null,null,0,111]
[11,21605,11,21615,12,21626,null,null,null,null,0,111]
[22,21729,13,21742,14,21749,null,null,null,null,0,211]
[22,21855,13,21866,14,21877,null,null,null,null,0,211]
[22,21977,13,21988,14,21996,null,null,null,null,0,211]
[11,22113,11,22120,12,22129,null,null,null,null,0,111]
[11,22243,11,22252,12,22265,null,null,null,null,0,111]
[11,22376,11,22386,12,22396,null,null,null,null,0,111]
[22,22504,13,22515,14,22523,null,null,null,null,0,211]
[22,22628,13,22648,14,22660,null,null,null,null,0,211]
[22,22767,13,22787,14,22795,null,null,null,null,0,211]
[22,22900,13,22915,14,22923,null,null,null,null,0,211]
[11,23044,11,23052,12,23063,null,null,null,null,0,111]
[22,23169,13,23177,14,23187,null,null,null,null,0,211]
[22,23295,13,23306,14,23316,null,null,null,null,0,211]
[11,23427,11,23435,12,23447,null,null,null,null,0,111]
[22,23558,13,23570,14,23577,null,null,null,null,0,211]
[11,23690,11,23697,12,23708,null,null,null,null,0,111]
[11,23828,11,23836,12,23847,null,null,null,null,0,111]
[11,23959,11,23968,12,23978,null,null,null,null,null,111]

{"sheet":"!MB17B10.095","index":28,"n_rows":189,"n_cols":48,"rows_kept":189,"cut":false,"hidden":false,"merged":[[4,39,4,42],[5,39,5,40],[4,44,4,47],[5,44,5,45],[4,24,4,27],[5,24,5,25],[4,29,4,32],[5,29,5,30],[4,34,4,37],[5,34,5,35],[1,1,1,2],[5,13,5,14],[18,13,18,14],[19,13,19,14],[4,19,4,22],[5,19,5,20]]}
["Report for:!MB17B10.095"]
["Date:","<date>"]
["Hen:","<hen>",null,null,null,"Correct Sequence",{"$f":"Start!J2","v":122},null,null,null,null,null,null,null,null,"Total Sequences in Data",{"$f":"4994-COUNTBLANK(L7:L5000)","v":183},null,null,null,null,"Total Sequences in Block Data",{"$f":"COUNTA(L7:L37)","v":31},null,null,null,"Total Sequences in Block Data",{"$f":"COUNTA(L38:L67)","v":30},null,null,null,"Total Sequences in Block Data",{"$f":"COUNTA(L68:L98)","v":31},null,null,null,"Total Sequences in Block Data",{"$f":"COUNTA(L99:L128)","v":30},null,null,null,"Total Sequences in Block Data",{"$f":"COUNTA(L129:L159)","v":31},null,null,null,"Total Sequences in Block Data",{"$f":"COUNTA(L160:L189)","v":30}]
[null,null,null,null,null,null,null,null,null,null,null,null,null,null,null,"Total Sequences in Summary",{"$f":"SUM(O7:O14)","v":183},null,null,null,null,"Total Sequences in Block Summary",{"$f":"SUM(U7:U14)","v":31},null,null,null,"Total Sequences in Block Summary",{"$f":"SUM(Z7:Z14)","v":30},null,null,null,"Total Sequences in Block Summary",{"$f":"SUM(AE7:AE14)","v":31},null,null,null,"Total Sequences in Block Summary",{"$f":"SUM(AJ7:AJ14)","v":30},null,null,null,"Total Sequences in Block Summary",{"$f":"SUM(AO7:AO14)","v":31},null,null,null,"Total Sequences in Block Summary",{"$f":"SUM(AT7:AT14)","v":30}]
[null,null,null,null,null,null,null,null,null,null,null,null,null,null,null,null,null,null,null,"Block 1",null,null,null,null,"Block 2",null,null,null,null,"Block 3",null,null,null,null,"Block 4",null,null,null,null,"Block 5",null,null,null,null,"Block 6"]
["Sequence\nComponent\n1","Time\n1","Sequence\nComponent\n2","Time\n2","Sequence\nComponent\n3","Time\n3","Sequence\nComponent\n4","Time\n4","Sequence\nComponent\n5","Time\n5","Correct?\n0=No 1=Yes","Sequence",null,"Frequency",null,"Relative Frequency","Variability",null,null,"Frequency",null,"Relative Frequency","Variability",null,"Frequency",null,"Relative Frequency","Variability",null,"Frequency",null,"Relative Frequency","Variability",null,"Frequency",null,"Relative Frequency","Variability",null,"Frequency",null,"Relative Frequency","Variability",null,"Frequency",null,"Relative Frequency","Variability"]
[22,40,13,49,14,57,null,null,null,null,0,211,null,111,{"$f":"COUNTIF($L$7:$L$500,N7)","v":104},{"$f":"O7/$Q$4","v":0.56830601092896171},{"$f":"IF(P7=0,0,(P7*((LOG(P7))/LOG(2))))","v":-0.46331722674790621},null,null,{"$f":"N7","v":111},{"$f":"COUNTIF(L7:L37,T7)","v":9},{"$f":"U7/(W4-U10)","v":0.29032258064516131},{"$f":"IF(V7=0,0,(V7*((LOG(V7))/LOG(2))))","v":-0.5180142509839053},null,{"$f":"N7","v":111},{"$f":"COUNTIF(L38:L67,Y7)","v":16},{"$f":"Z7/(AB4-Z10)","v":0.53333333333333333},{"$f":"IF(AA7=0,0,(AA7*((LOG(AA7))/LOG(2))))","v":-0.4836749843245432},null,{"$f":"N7","v":111},{"$f":"COUNTIF(L68:L98,AD7)","v":23},{"$f":"AE7/(AG4-AE10)","v":0.74193548387096775},{"$f":"IF(AF7=0,0,(AF7*((LOG(AF7))/LOG(2))))","v":-0.31950290805118814},null,{"$f":"N7","v":111},{"$f":"COUNTIF(L99:L128,AI7)","v":19},{"$f":"AJ7/(AL4-AJ10)","v":0.6333333333333333},{"$f":"IF(AK7=0,0,(AK7*((LOG(AK7))/LOG(2))))","v":-0.41734328537112425},null,{"$f":"N7","v":111},{"$f":"COUNTIF(L129:L159,AN7)","v":17},{"$f":"AO7/(AQ4-AO10)","v":0.54838709677419351},{"$f":"IF(AP7=0,0,(AP7*((LOG(AP7))/LOG(2))))","v":-0.47530545081681003},null,{"$f":"N7","v":111},{"$f":"COUNTIF(L160:L189,AS7)","v":20},{"$f":"AT7/(AV4-AT10)","v":0.66666666666666663},{"$f":"IF(AU7=0,0,(AU7*((LOG(AU7))/LOG(2))))","v":-0.38997500048077083}]
[11,176,11,181,12,193,null,null,null,null,0,111,null,112,{"$f":"COUNTIF($L$7:$L$500,N8)","v":0},{"$f":"O8/$Q$4","v":0},{"$f":"IF(P8=0,0,(P8*((LOG(P8))/LOG(2))))","v":0},null,null,{"$f":"N8","v":112},{"$f":"COUNTIF(L7:L37,T8)","v":0},{"$f":"U8/(W4-U10)","v":0},{"$f":"IF(V8=0,0,(V8*((LOG(V8))/LOG(2))))","v":0},null,{"$f":"N8","v":112},{"$f":"COUNTIF(L38:L67,Y8)","v":0},{"$f":"Z8/(AB4-Z10)","v":0},{"$f":"IF(AA8=0,0,(AA8*((LOG(AA8))/LOG(2))))","v":0},null,{"$f":"N8","v":112},{"$f":"COUNTIF(L68:L98,AD8)","v":0},{"$f":"AE8/(AG4-AE10)","v":0},{"$f":"IF(AF8=0,0,(AF8*((LOG(AF8))/LOG(2))))","v":0},null,{"$f":"N8","v":112},{"$f":"COUNTIF(L99:L128,AI8)","v":0},{"$f":"AJ8/(AL4-AJ10)","v":0},{"$f":"IF(AK8=0,0,(AK8*((LOG(AK8))/LOG(2))))","v":0},null,{"$f":"N8","v":112},{"$f":"COUNTIF(L129:L159,AN8)","v":0},{"$f":"AO8/(AQ4-AO10)","v":0},{"$f":"IF(AP8=0,0,(AP8*((LOG(AP8))/LOG(2))))","v":0},null,{"$f":"N8","v":112},{"$f":"COUNTIF(L160:L189,AS8)","v":0},{"$f":"AT8/(AV4-AT10)","v":0},{"$f":"IF(AU8=0,0,(AU8*((LOG(AU8))/LOG(2))))","v":0}]
[22,304,13,325,14,334,null,null,null,null,0,211,null,121,{"$f":"COUNTIF($L$7:$L$500,N9)","v":0},{"$f":"O9/$Q$4","v":0},{"$f":"IF(P9=0,0,(P9*((LOG(P9))/LOG(2))))","v":0},null,null,{"$f":"N9","v":121},{"$f":"COUNTIF(L7:L37,T9)","v":0},{"$f":"U9/(W4-U10)","v":0},{"$f":"IF(V9=0,0,(V9*((LOG(V9))/LOG(2))))","v":0},null,{"$f":"N9","v":121},{"$f":"COUNTIF(L38:L67,Y9)","v":0},{"$f":"Z9/(AB4-Z10)","v":0},{"$f":"IF(AA9=0,0,(AA9*((LOG(AA9))/LOG(2))))","v":0},null,{"$f":"N9","v":121},{"$f":"COUNTIF(L68:L98,AD9)","v":0},{"$f":"AE9/(AG4-AE10)","v":0},{"$f":"IF(AF9=0,0,(AF9*((LOG(AF9))/LOG(2))))","v":0},null,{"$f":"N9","v":121},{"$f":"COUNTIF(L99:L128,AI9)","v":0},{"$f":"AJ9/(AL4-AJ10)","v":0},{"$f":"IF(AK9=0,0,(AK9*((LOG(AK9))/LOG(2))))","v":0},null,{"$f":"N9","v":121},{"$f":"COUNTIF(L129:L159,AN9)","v":0},{"$f":"AO9/(AQ4-AO10)","v":0},{"$f":"IF(AP9=0,0,(AP9*((LOG(AP9))/LOG(2))))","v":0},null,{"$f":"N9","v":121},{"$f":"COUNTIF(L160:L189,AS9)","v":0},{"$f":"AT9/(AV4-AT10)","v":0},{"$f":"IF(AU9=0,0,(AU9*((LOG(AU9))/LOG(2))))","v":0}]
[22,443,13,452,14,458,null,null,null,null,0,211,null,122,{"$f":"COUNTIF($L$7:$L$500,N10)","v":0},{"$f":"O10/$Q$4","v":0},{"$f":"IF(P10=0,0,(P10*((LOG(P10))/LOG(2))))","v":0},null,null,{"$f":"N10","v":122},{"$f":"COUNTIF(L7:L37,T10)","v":0},null,null,null,{"$f":"N10","v":122},{"$f":"COUNTIF(L38:L67,Y10)","v":0},null,null,null,{"$f":"N10","v":122},{"$f":"COUNTIF(L68:L98,AD10)","v":0},null,null,null,{"$f":"N10","v":122},{"$f":"COUNTIF(L99:L128,AI10)","v":0},null,null,null,{"$f":"N10","v":122},{"$f":"COUNTIF(L129:L159,AN10)","v":0},null,null,null,{"$f":"N10","v":122},{"$f":"COUNTIF(L160:L189,AS10)","v":0}]
[22,566,13,577,14,584,null,null,null,null,0,211,null,211,{"$f":"COUNTIF($L$7:$L$500,N11)","v":76},{"$f":"O11/$Q$4","v":0.41530054644808745},{"$f":"IF(P11=0,0,(P11*((LOG(P11))/LOG(2))))","v":-0.52650653927800395},null,null,{"$f":"N11","v":211},{"$f":"COUNTIF(L7:L37,T11)","v":21},{"$f":"U11/(W4-U10)","v":0.67741935483870963},{"$f":"IF(V11=0,0,(V11*((LOG(V11))/LOG(2))))","v":-0.38062763354098111},null,{"$f":"N11","v":211},{"$f":"COUNTIF(L38:L67,Y11)","v":14},{"$f":"Z11/(AB4-Z10)","v":0.46666666666666667},{"$f":"IF(AA11=0,0,(AA11*((LOG(AA11))/LOG(2))))","v":-0.51311664765709342},null,{"$f":"N11","v":211},{"$f":"COUNTIF(L68:L98,AD11)","v":8},{"$f":"AE11/(AG4-AE10)","v":0.25806451612903225},{"$f":"IF(AF11=0,0,(AF11*((LOG(AF11))/LOG(2))))","v":-0.50430872526112902},null,{"$f":"N11","v":211},{"$f":"COUNTIF(L99:L128,AI11)","v":10},{"$f":"AJ11/(AL4-AJ10)","v":0.33333333333333331},{"$f":"IF(AK11=0,0,(AK11*((LOG(AK11))/LOG(2))))","v":-0.52832083357371862},null,{"$f":"N11","v":211},{"$f":"COUNTIF(L129:L159,AN11)","v":13},{"$f":"AO11/(AQ4-AO10)","v":0.41935483870967744},{"$f":"IF(AP11=0,0,(AP11*((LOG(AP11))/LOG(2))))","v":-0.52576889352242517},null,{"$f":"N11","v":211},{"$f":"COUNTIF(L160:L189,AS11)","v":10},{"$f":"AT11/(AV4-AT10)","v":0.33333333333333331},{"$f":"IF(AU11=0,0,(AU11*((LOG(AU11))/LOG(2))))","v":-0.52832083357371862}]
[11,697,11,704,12,725,null,null,null,null,0,111,null,212,{"$f":"COUNTIF($L$7:$L$500,N12)","v":0},{"$f":"O12/$Q$4","v":0},{"$f":"IF(P12=0,0,(P12*((LOG(P12))/LOG(2))))","v":0},null,null,{"$f":"N12","v":212},{"$f":"COUNTIF(L7:L37,T12)","v":0},{"$f":"U12/(W4-U10)","v":0},{"$f":"IF(V12=0,0,(V12*((LOG(V12))/LOG(2))))","v":0},null,{"$f":"N12","v":212},{"$f":"COUNTIF(L38:L67,Y12)","v":0},{"$f":"Z12/(AB4-Z10)","v":0},{"$f":"IF(AA12=0,0,(AA12*((LOG(AA12))/LOG(2))))","v":0},null,{"$f":"N12","v":212},{"$f":"COUNTIF(L68:L98,AD12)","v":0},{"$f":"AE12/(AG4-AE10)","v":0},{"$f":"IF(AF12=0,0,(AF12*((LOG(AF12))/LOG(2))))","v":0},null,{"$f":"N12","v":212},{"$f":"COUNTIF(L99:L128,AI12)","v":0},{"$f":"AJ12/(AL4-AJ10)","v":0},{"$f":"IF(AK12=0,0,(AK12*((LOG(AK12))/LOG(2))))","v":0},null,{"$f":"N12","v":212},{"$f":"COUNTIF(L129:L159,AN12)","v":0},{"$f":"AO12/(AQ4-AO10)","v":0},{"$f":"IF(AP12=0,0,(AP12*((LOG(AP12))/LOG(2))))","v":0},null,{"$f":"N12","v":212},{"$f":"COUNTIF(L160:L189,AS12)","v":0},{"$f":"AT12/(AV4-AT10)","v":0},{"$f":"IF(AU12=0,0,(AU12*((LOG(AU12))/LOG(2))))","v":0}]
[22,832,13,844,14,853,null,null,null,null,0,211,null,221,{"$f":"COUNTIF($L$7:$L$500,N13)","v":3},{"$f":"O13/$Q$4","v":1.6393442622950821E-2},{"$f":"IF(P13=0,0,(P13*((LOG(P13))/LOG(2))))","v":-9.7225202255129275E-2},null,null,{"$f":"N13","v":221},{"$f":"COUNTIF(L7:L37,T13)","v":1},{"$f":"U13/(W4-U10)","v":3.2258064516129031E-2},{"$f":"IF(V13=0,0,(V13*((LOG(V13))/LOG(2))))","v":-0.15981278420602821},null,{"$f":"N13","v":221},{"$f":"COUNTIF(L38:L67,Y13)","v":0},{"$f":"Z13/(AB4-Z10)","v":0},{"$f":"IF(AA13=0,0,(AA13*((LOG(AA13))/LOG(2))))","v":0},null,{"$f":"N13","v":221},{"$f":"COUNTIF(L68:L98,AD13)","v":0},{"$f":"AE13/(AG4-AE10)","v":0},{"$f":"IF(AF13=0,0,(AF13*((LOG(AF13))/LOG(2))))","v":0},null,{"$f":"N13","v":221},{"$f":"COUNTIF(L99:L128,AI13)","v":1},{"$f":"AJ13/(AL4-AJ10)","v":3.3333333333333333E-2},{"$f":"IF(AK13=0,0,(AK13*((LOG(AK13))/LOG(2))))","v":-0.16356301985361729},null,{"$f":"N13","v":221},{"$f":"COUNTIF(L129:L159,AN13)","v":1},{"$f":"AO13/(AQ4-AO10)","v":3.2258064516129031E-2},{"$f":"IF(AP13=0,0,(AP13*((LOG(AP13))/LOG(2))))","v":-0.15981278420602821},null,{"$f":"N13","v":221},{"$f":"COUNTIF(L160:L189,AS13)","v":0},{"$f":"AT13/(AV4-AT10)","v":0},{"$f":"IF(AU13=0,0,(AU13*((LOG(AU13))/LOG(2))))","v":0}]
[22,956,13,980,14,987,null,null,null,null,0,211,null,222,{"$f":"COUNTIF($L$7:$L$500,N14)","v":0},{"$f":"O14/$Q$4","v":0},{"$f":"IF(P14=0,0,(P14*((LOG(P14))/LOG(2))))","v":0},null,null,{"$f":"N14","v":222},{"$f":"COUNTIF(L7:L37,T14)","v":0},{"$f":"U14/(W4-U10)","v":0},{"$f":"IF(V14=0,0,(V14*((LOG(V14))/LOG(2))))","v":0},null,{"$f":"N14","v":222},{"$f":"COUNTIF(L38:L67,Y14)","v":0},{"$f":"Z14/(AB4-Z10)","v":0},{"$f":"IF(AA14=0,0,(AA14*((LOG(AA14))/LOG(2))))","v":0},null,{"$f":"N14","v":222},{"$f":"COUNTIF(L68:L98,AD14)","v":0},{"$f":"AE14/(AG4-AE10)","v":0},{"$f":"IF(AF14=0,0,(AF14*((LOG(AF14))/LOG(2))))","v":0},null,{"$f":"N14","v":222},{"$f":"COUNTIF(L99:L128,AI14)","v":0},{"$f":"AJ14/(AL4-AJ10)","v":0},{"$f":"IF(AK14=0,0,(AK14*((LOG(AK14))/LOG(2))))","v":0},null,{"$f":"N14","v":222},{"$f":"COUNTIF(L129:L159,AN14)","v":0},{"$f":"AO14/(AQ4-AO10)","v":0},{"$f":"IF(AP14=0,0,(AP14*((LOG(AP14))/LOG(2))))","v":0},null,{"$f":"N14","v":222},{"$f":"COUNTIF(L160:L189,AS14)","v":0},{"$f":"AT14/(AV4-AT10)","v":0},{"$f":"IF(AU14=0,0,(AU14*((LOG(AU14))/LOG(2))))","v":0}]
[22,1090,13,1109,14,1118,null,null,null,null,0,211,null,null,null,{"$f":"SUM(P7:P14)","v":1},{"$f":"-SUM(Q7:Q14)","v":1.0870489682810394},null,null,null,null,{"$f":"SUM(V7:V14)","v":1},{"$f":"-SUM(W7:W14)","v":1.0584546687309146},null,null,null,{"$f":"SUM(AA7:AA14)","v":1},{"$f":"-SUM(AB7:AB14)","v":0.99679163198163656},null,null,null,{"$f":"SUM(AF7:AF14)","v":1},{"$f":"-SUM(AG7:AG14)","v":0.8238116333123171},null,null,null,{"$f":"SUM(AK7:AK14)","v":0.99999999999999989},{"$f":"-SUM(AL7:AL14)","v":1.1092271387984602},null,null,null,{"$f":"SUM(AP7:AP14)","v":1},{"$f":"-SUM(AQ7:AQ14)","v":1.1608871285452633},null,null,null,{"$f":"SUM(AU7:AU14)","v":1},{"$f":"-SUM(AV7:AV14)","v":0.91829583405448945}]
[22,1224,13,1238,14,1246,null,null,null,null,0,211,null,null,null,"U=",{"$f":"Q15/(LOG(Q4)/LOG(2))","v":0.14463709191042287},null,null,null,null,"U1=",{"$f":"W15/(LOG(W4)/LOG(2))","v":0.21364810807189422},null,null,null,"U2=",{"$f":"AB15/(LOG(AB4)/LOG(2))","v":0.20314119757912014},null,null,null,"U3=",{"$f":"AG15/(LOG(AG4)/LOG(2))","v":0.16628562569979899},null,null,null,"U4=",{"$f":"AL15/(LOG(AL4)/LOG(2))","v":0.22605499698549963},null,null,null,"U5=",{"$f":"AQ15/(LOG(AQ4)/LOG(2))","v":0.23432400652177815},null,null,null,"U6=",{"$f":"AV15/(LOG(AV4)/LOG(2))","v":0.18714414274415034}]
[22,1350,13,1363,14,1374,null,null,null,null,0,211]
[22,1476,13,1485,14,1491,null,null,null,null,0,211]
[11,1613,11,1625,12,1637,null,null,null,null,0,111,null,"Total Target Seq"]
[11,1756,11,1765,12,1775,null,null,null,null,0,111,null,{"$f":"COUNTIF(L7:L189,G3)","v":0},null,31,30,31,30,31,30]
[22,1879,13,1890,14,1899,null,null,null,null,0,211,null,null,null,"% of reinforcement given in 6 equal intervals based on number of trials "]
[22,2011,13,2025,14,2033,null,null,null,null,0,211,null,null,null,"%_1","%_2","%_3","%_4","%_5","%_6"]
[11,2153,11,2161,12,2173,null,null,null,null,0,111,null,null,"target sequence",{"$f":"$G$3","v":122},{"$f":"$G$3","v":122},{"$f":"$G$3","v":122},{"$f":"$G$3","v":122},{"$f":"$G$3","v":122},{"$f":"$G$3","v":122}]
[22,2283,13,2296,14,2305,null,null,null,null,0,211,null,null,"total reinforcement",{"$f":"U10","v":0},{"$f":"Z10","v":0},{"$f":"AE10","v":0},{"$f":"AJ10","v":0},{"$f":"AO10","v":0},{"$f":"AT10","v":0}]
[11,2418,11,2426,12,2436,null,null,null,null,0,111,null,null,"% target"]
[22,2542,13,2558,14,2567,null,null,null,null,0,211,null,null,"CCRF"]
[22,2674,13,2686,14,2694,null,null,null,null,0,211,null,null,"% CCRf"]
[22,2787,24,2798,14,2810,null,null,null,null,0,221,null,null,"average response rate",{"$f":"F37/P20","v":128.19354838709677},{"$f":"(F67-F37)/Q20","v":130.13333333333333},{"$f":"(F98-F67)/R20","v":131},{"$f":"(F128-F98)/S20","v":128.83333333333334},{"$f":"(F159-F128)/T20","v":131.25806451612902},{"$f":"(F189-F159)/U20","v":133.5}]
[22,2916,13,2933,14,2943,null,null,null,null,0,211]
[22,3049,13,3062,14,3070,null,null,null,null,0,211]
[11,3187,11,3193,12,3205,null,null,null,null,0,111]
[11,3318,11,3327,12,3338,null,null,null,null,0,111]
[22,3443,13,3455,14,3462,null,null,null,null,0,211]
[22,3563,13,3575,14,3581,null,null,null,null,0,211]
[11,3706,11,3719,12,3731,null,null,null,null,0,111]
[22,3841,13,3850,14,3855,null,null,null,null,0,211]
[22,3955,13,3968,14,3974,null,null,null,null,0,211]
[11,4090,11,4099,12,4112,null,null,null,null,0,111]
[22,4218,13,4230,14,4236,null,null,null,null,0,211]
[11,4351,11,4360,12,4370,null,null,null,null,0,111]
[22,4473,13,4493,14,4501,null,null,null,null,0,211]
[22,4605,13,4617,14,4626,null,null,null,null,0,211]
[22,4728,13,4741,14,4749,null,null,null,null,0,211]
[22,4854,13,4867,14,4874,null,null,null,null,0,211]
[22,4976,13,4994,14,5005,null,null,null,null,0,211]
[22,5110,13,5124,14,5134,null,null,null,null,0,211]
[11,5256,11,5266,12,5277,null,null,null,null,0,111]
[11,5393,11,5401,12,5412,null,null,null,null,0,111]
[11,5531,11,5539,12,5548,null,null,null,null,0,111]
[11,5669,11,5677,12,5689,null,null,null,null,0,111]
[11,5804,11,5809,12,5818,null,null,null,null,0,111]
[22,5921,13,5933,14,5938,null,null,null,null,0,211]
[11,6053,11,6061,12,6073,null,null,null,null,0,111]
[11,6189,11,6194,12,6203,null,null,null,null,0,111]
[11,6321,11,6327,12,6335,null,null,null,null,0,111]
[11,6447,11,6456,12,6465,null,null,null,null,0,111]
[22,6565,13,6582,14,6590,null,null,null,null,0,211]
[22,6696,13,6708,14,6715,null,null,null,null,0,211]
[11,6830,11,6834,12,6843,null,null,null,null,0,111]
[22,6946,13,6967,14,6976,null,null,null,null,0,211]
[11,7090,11,7095,12,7104,null,null,null,null,0,111]
[11,7217,11,7223,12,7235,null,null,null,null,0,111]
[22,7338,13,7351,14,7360,null,null,null,null,0,211]
[22,7467,13,7479,14,7489,null,null,null,null,0,211]
[11,7600,11,7608,12,7617,null,null,null,null,0,111]
[22,7723,13,7731,14,7736,null,null,null,null,0,211]
[11,7857,11,7866,12,7878,null,null,null,null,0,111]
[11,7994,11,8001,12,8010,null,null,null,null,0,111]
[11,8126,11,8131,12,8140,null,null,null,null,0,111]
[22,8237,13,8246,14,8253,null,null,null,null,0,211]
[11,8383,11,8392,12,8401,null,null,null,null,0,111]
[22,8504,13,8517,14,8522,null,null,null,null,0,211]
[11,8630,11,8638,12,8650,null,null,null,null,0,111]
[11,8768,11,8775,12,8795,null,null,null,null,0,111]
[22,8899,13,8911,14,8917,null,null,null,null,0,211]
[11,9029,11,9031,12,9038,null,null,null,null,0,111]
[11,9145,11,9153,12,9165,null,null,null,null,0,111]
[11,9282,11,9289,12,9301,null,null,null,null,0,111]
[11,9410,11,9415,12,9428,null,null,null,null,0,111]
[11,9539,11,9551,12,9562,null,null,null,null,0,111]
[11,9675,11,9680,12,9689,null,null,null,null,0,111]
[11,9801,11,9810,12,9824,null,null,null,null,0,111]
[22,9926,13,9937,14,9947,null,null,null,null,0,211]
[11,10059,11,10067,12,10079,null,null,null,null,0,111]
[22,10181,13,10191,14,10199,null,null,null,null,0,211]
[11,10313,11,10325,12,10336,null,null,null,null,0,111]
[11,10461,11,10469,12,10479,null,null,null,null,0,111]
[22,10596,13,10606,14,10611,null,null,null,null,0,211]
[11,10728,11,10737,12,10748,null,null,null,null,0,111]
[11,10867,11,10876,12,10888,null,null,null,null,0,111]
[11,11007,11,11016,12,11027,null,null,null,null,0,111]
[22,11131,13,11139,14,11149,null,null,null,null,0,211]
[11,11269,11,11278,12,11289,null,null,null,null,0,111]
[11,11407,11,11414,12,11425,null,null,null,null,0,111]
[22,11529,13,11540,14,11545,null,null,null,null,0,211]
[11,11658,11,11660,12,11668,null,null,null,null,0,111]
[11,11781,11,11789,12,11800,null,null,null,null,0,111]
[11,11920,11,11928,12,11939,null,null,null,null,0,111]
[11,12053,11,12063,12,12076,null,null,null,null,0,111]
[22,12185,13,12199,14,12207,null,null,null,null,0,211]
[22,12312,24,12313,14,12325,null,null,null,null,0,221]
[11,12436,11,12437,12,12445,null,null,null,null,0,111]
[11,12555,11,12557,12,12565,null,null,null,null,0,111]
[11,12681,11,12691,12,12702,null,null,null,null,0,111]
[11,12815,11,12821,12,12830,null,null,null,null,0,111]
[11,12944,11,12951,12,12960,null,null,null,null,0,111]
[22,13064,13,13073,14,13083,null,null,null,null,0,211]
[22,13187,13,13197,14,13204,null,null,null,null,0,211]
[22,13317,13,13325,14,13337,null,null,null,null,0,211]
[11,13451,11,13459,12,13470,null,null,null,null,0,111]
[11,13578,11,13583,12,13591,null,null,null,null,0,111]
[22,13696,13,13716,14,13724,null,null,null,null,0,211]
[11,13841,11,13850,12,13859,null,null,null,null,0,111]
[22,13960,13,13971,14,13978,null,null,null,null,0,211]
[22,14080,13,14093,14,14097,null,null,null,null,0,211]
[11,14208,11,14217,12,14227,null,null,null,null,0,111]
[11,14344,11,14352,12,14362,null,null,null,null,0,111]
[11,14475,11,14487,12,14498,null,null,null,null,0,111]
[22,14602,13,14612,14,14620,null,null,null,null,0,211]
[22,14724,13,14736,14,14745,null,null,null,null,0,211]
[11,14858,11,14866,12,14879,null,null,null,null,0,111]
[11,14995,11,15005,12,15018,null,null,null,null,0,111]
[11,15128,11,15135,12,15144,null,null,null,null,0,111]
[11,15259,11,15267,12,15277,null,null,null,null,0,111]
[11,15392,11,15399,12,15408,null,null,null,null,0,111]
[11,15521,11,15532,12,15541,null,null,null,null,0,111]
[22,15648,13,15661,14,15671,null,null,null,null,0,211]
[11,15785,11,15792,12,15804,null,null,null,null,0,111]
[11,15914,11,15915,12,15923,null,null,null,null,0,111]
[11,16036,11,16044,12,16057,null,null,null,null,0,111]
[22,16161,13,16176,14,16184,null,null,null,null,0,211]
[11,16298,11,16308,12,16319,null,null,null,null,0,111]
[11,16437,11,16446,12,16455,null,null,null,null,0,111]
[11,16585,11,16594,12,16606,null,null,null,null,0,111]
[11,16732,11,16744,12,16755,null,null,null,null,0,111]
[22,16859,13,16876,14,16885,null,null,null,null,0,211]
[22,16988,13,16998,14,17003,null,null,null,null,0,211]
[22,17107,13,17119,14,17126,null,null,null,null,0,211]
[22,17227,13,17239,14,17247,null,null,null,null,0,211]
[22,17354,13,17370,14,17379,null,null,null,null,0,211]
[11,17497,11,17504,12,17515,null,null,null,null,0,111]
[11,17622,11,17630,12,17641,null,null,null,null,0,111]
[11,17758,11,17767,12,17780,null,null,null,null,0,111]
[22,17884,13,17895,14,17897,null,null,null,null,0,211]
[11,18020,11,18029,12,18039,null,null,null,null,0,111]
[22,18138,13,18153,14,18158,null,null,null,null,0,211]
[22,18258,13,18267,14,18275,null,null,null,null,0,211]
[11,18395,11,18403,12,18415,null,null,null,null,0,111]
[11,18526,11,18536,12,18545,null,null,null,null,0,111]
[22,18652,13,18667,14,18676,null,null,null,null,0,211]
[11,18801,11,18812,12,18821,null,null,null,null,0,111]
[11,18940,11,18949,12,18962,null,null,null,null,0,111]
[22,19065,13,19075,14,19082,null,null,null,null,0,211]
[11,19200,11,19208,12,19219,null,null,null,null,0,111]
[22,19323,13,19334,14,19344,null,null,null,null,0,211]
[22,19462,13,19477,14,19485,null,null,null,null,0,211]
[22,19577,24,19587,14,19601,null,null,null,null,0,221]
[11,19712,11,19721,12,19729,null,null,null,null,0,111]
[11,19852,11,19862,12,19873,null,null,null,null,0,111]
[11,19997,11,20007,12,20019,null,null,null,null,0,111]
[22,20121,13,20134,14,20146,null,null,null,null,0,211]
[11,20260,11,20271,12,20283,null,null,null,null,0,111]
[11,20400,11,20411,12,20424,null,null,null,null,0,111]
[11,20540,11,20546,12,20558,null,null,null,null,0,111]
[22,20659,13,20676,14,20684,null,null,null,null,0,211]
[11,20798,11,20807,12,20820,null,null,null,null,0,111]
[11,20941,11,20948,12,20958,null,null,null,null,0,111]
[11,21079,11,21089,12,21099,null,null,null,null,0,111]
[22,21201,13,21211,14,21221,null,null,null,null,0,211]
[22,21326,13,21341,14,21349,null,null,null,null,0,211]
[11,21464,11,21474,12,21484,null,null,null,null,0,111]
[11,21599,11,21604,12,21613,null,null,null,null,0,111]
[11,21723,11,21732,12,21741,null,null,null,null,0,111]
[22,21850,13,21862,14,21871,null,null,null,null,0,211]
[22,21973,13,21987,14,21998,null,null,null,null,0,211]
[11,22118,11,22126,12,22139,null,null,null,null,0,111]
[11,22261,11,22269,12,22281,null,null,null,null,0,111]
[11,22397,11,22405,12,22415,null,null,null,null,0,111]
[11,22528,11,22536,12,22544,null,null,null,null,0,111]
[22,22651,13,22668,14,22676,null,null,null,null,0,211]
[22,22783,13,22797,14,22805,null,null,null,null,0,211]
[11,22924,11,22930,12,22943,null,null,null,null,0,111]
[22,23048,13,23060,14,23068,null,null,null,null,0,211]
[11,23169,11,23177,12,23188,null,null,null,null,0,111]
[11,23308,11,23315,12,23325,null,null,null,null,0,111]
[22,23423,13,23435,14,23444,null,null,null,null,0,211]
[11,23567,11,23579,12,23591,null,null,null,null,0,111]
[11,23712,11,23720,12,23732,null,null,null,null,0,111]
[11,23855,11,23865,12,23878,null,null,null,null,0,111]

{"sheet":"!MB18A40.095","index":29,"n_rows":189,"n_cols":48,"rows_kept":189,"cut":false,"hidden":false,"merged":[[4,39,4,42],[5,39,5,40],[4,44,4,47],[5,44,5,45],[4,24,4,27],[5,24,5,25],[4,29,4,32],[5,29,5,30],[4,34,4,37],[5,34,5,35],[1,1,1,2],[5,13,5,14],[18,13,18,14],[19,13,19,14],[4,19,4,22],[5,19,5,20]]}
["Report for:!MB18A40.095"]
["Date:","<date>"]
["Hen:","<hen>",null,null,null,"Correct Sequence",{"$f":"Start!J2","v":122},null,null,null,null,null,null,null,null,"Total Sequences in Data",{"$f":"4994-COUNTBLANK(L7:L5000)","v":183},null,null,null,null,"Total Sequences in Block Data",{"$f":"COUNTA(L7:L37)","v":31},null,null,null,"Total Sequences in Block Data",{"$f":"COUNTA(L38:L67)","v":30},null,null,null,"Total Sequences in Block Data",{"$f":"COUNTA(L68:L98)","v":31},null,null,null,"Total Sequences in Block Data",{"$f":"COUNTA(L99:L128)","v":30},null,null,null,"Total Sequences in Block Data",{"$f":"COUNTA(L129:L159)","v":31},null,null,null,"Total Sequences in Block Data",{"$f":"COUNTA(L160:L189)","v":30}]
[null,null,null,null,null,null,null,null,null,null,null,null,null,null,null,"Total Sequences in Summary",{"$f":"SUM(O7:O14)","v":183},null,null,null,null,"Total Sequences in Block Summary",{"$f":"SUM(U7:U14)","v":31},null,null,null,"Total Sequences in Block Summary",{"$f":"SUM(Z7:Z14)","v":30},null,null,null,"Total Sequences in Block Summary",{"$f":"SUM(AE7:AE14)","v":31},null,null,null,"Total Sequences in Block Summary",{"$f":"SUM(AJ7:AJ14)","v":30},null,null,null,"Total Sequences in Block Summary",{"$f":"SUM(AO7:AO14)","v":31},null,null,null,"Total Sequences in Block Summary",{"$f":"SUM(AT7:AT14)","v":30}]
[null,null,null,null,null,null,null,null,null,null,null,null,null,null,null,null,null,null,null,"Block 1",null,null,null,null,"Block 2",null,null,null,null,"Block 3",null,null,null,null,"Block 4",null,null,null,null,"Block 5",null,null,null,null,"Block 6"]
["Sequence\nComponent\n1","Time\n1","Sequence\nComponent\n2","Time\n2","Sequence\nComponent\n3","Time\n3","Sequence\nComponent\n4","Time\n4","Sequence\nComponent\n5","Time\n5","Correct?\n0=No 1=Yes","Sequence",null,"Frequency",null,"Relative Frequency","Variability",null,null,"Frequency",null,"Relative Frequency","Variability",null,"Frequency",null,"Relative Frequency","Variability",null,"Frequency",null,"Relative Frequency","Variability",null,"Frequency",null,"Relative Frequency","Variability",null,"Frequency",null,"Relative Frequency","Variability",null,"Frequency",null,"Relative Frequency","Variability"]
[11,64,11,72,12,82,null,null,null,null,0,111,null,111,{"$f":"COUNTIF($L$7:$L$500,N7)","v":114},{"$f":"O7/$Q$4","v":0.62295081967213117},{"$f":"IF(P7=0,0,(P7*((LOG(P7))/LOG(2))))","v":-0.42535693961530208},null,null,{"$f":"N7","v":111},{"$f":"COUNTIF(L7:L37,T7)","v":22},{"$f":"U7/(W4-U10)","v":0.70967741935483875},{"$f":"IF(V7=0,0,(V7*((LOG(V7))/LOG(2))))","v":-0.35112332962873266},null,{"$f":"N7","v":111},{"$f":"COUNTIF(L38:L67,Y7)","v":16},{"$f":"Z7/(AB4-Z10)","v":0.53333333333333333},{"$f":"IF(AA7=0,0,(AA7*((LOG(AA7))/LOG(2))))","v":-0.4836749843245432},null,{"$f":"N7","v":111},{"$f":"COUNTIF(L68:L98,AD7)","v":19},{"$f":"AE7/(AG4-AE10)","v":0.61290322580645162},{"$f":"IF(AF7=0,0,(AF7*((LOG(AF7))/LOG(2))))","v":-0.43287442393298403},null,{"$f":"N7","v":111},{"$f":"COUNTIF(L99:L128,AI7)","v":21},{"$f":"AJ7/(AL4-AJ10)","v":0.7},{"$f":"IF(AK7=0,0,(AK7*((LOG(AK7))/LOG(2))))","v":-0.36020122098083079},null,{"$f":"N7","v":111},{"$f":"COUNTIF(L129:L159,AN7)","v":16},{"$f":"AO7/(AQ4-AO10)","v":0.5161290322580645},{"$f":"IF(AP7=0,0,(AP7*((LOG(AP7))/LOG(2))))","v":-0.49248841826419365},null,{"$f":"N7","v":111},{"$f":"COUNTIF(L160:L189,AS7)","v":20},{"$f":"AT7/(AV4-AT10)","v":0.66666666666666663},{"$f":"IF(AU7=0,0,(AU7*((LOG(AU7))/LOG(2))))","v":-0.38997500048077083}]
[11,194,11,199,12,209,null,null,null,null,0,111,null,112,{"$f":"COUNTIF($L$7:$L$500,N8)","v":0},{"$f":"O8/$Q$4","v":0},{"$f":"IF(P8=0,0,(P8*((LOG(P8))/LOG(2))))","v":0},null,null,{"$f":"N8","v":112},{"$f":"COUNTIF(L7:L37,T8)","v":0},{"$f":"U8/(W4-U10)","v":0},{"$f":"IF(V8=0,0,(V8*((LOG(V8))/LOG(2))))","v":0},null,{"$f":"N8","v":112},{"$f":"COUNTIF(L38:L67,Y8)","v":0},{"$f":"Z8/(AB4-Z10)","v":0},{"$f":"IF(AA8=0,0,(AA8*((LOG(AA8))/LOG(2))))","v":0},null,{"$f":"N8","v":112},{"$f":"COUNTIF(L68:L98,AD8)","v":0},{"$f":"AE8/(AG4-AE10)","v":0},{"$f":"IF(AF8=0,0,(AF8*((LOG(AF8))/LOG(2))))","v":0},null,{"$f":"N8","v":112},{"$f":"COUNTIF(L99:L128,AI8)","v":0},{"$f":"AJ8/(AL4-AJ10)","v":0},{"$f":"IF(AK8=0,0,(AK8*((LOG(AK8))/LOG(2))))","v":0},null,{"$f":"N8","v":112},{"$f":"COUNTIF(L129:L159,AN8)","v":0},{"$f":"AO8/(AQ4-AO10)","v":0},{"$f":"IF(AP8=0,0,(AP8*((LOG(AP8))/LOG(2))))","v":0},null,{"$f":"N8","v":112},{"$f":"COUNTIF(L160:L189,AS8)","v":0},{"$f":"AT8/(AV4-AT10)","v":0},{"$f":"IF(AU8=0,0,(AU8*((LOG(AU8))/LOG(2))))","v":0}]
[11,321,11,327,12,337,null,null,null,null,0,111,null,121,{"$f":"COUNTIF($L$7:$L$500,N9)","v":0},{"$f":"O9/$Q$4","v":0},{"$f":"IF(P9=0,0,(P9*((LOG(P9))/LOG(2))))","v":0},null,null,{"$f":"N9","v":121},{"$f":"COUNTIF(L7:L37,T9)","v":0},{"$f":"U9/(W4-U10)","v":0},{"$f":"IF(V9=0,0,(V9*((LOG(V9))/LOG(2))))","v":0},null,{"$f":"N9","v":121},{"$f":"COUNTIF(L38:L67,Y9)","v":0},{"$f":"Z9/(AB4-Z10)","v":0},{"$f":"IF(AA9=0,0,(AA9*((LOG(AA9))/LOG(2))))","v":0},null,{"$f":"N9","v":121},{"$f":"COUNTIF(L68:L98,AD9)","v":0},{"$f":"AE9/(AG4-AE10)","v":0},{"$f":"IF(AF9=0,0,(AF9*((LOG(AF9))/LOG(2))))","v":0},null,{"$f":"N9","v":121},{"$f":"COUNTIF(L99:L128,AI9)","v":0},{"$f":"AJ9/(AL4-AJ10)","v":0},{"$f":"IF(AK9=0,0,(AK9*((LOG(AK9))/LOG(2))))","v":0},null,{"$f":"N9","v":121},{"$f":"COUNTIF(L129:L159,AN9)","v":0},{"$f":"AO9/(AQ4-AO10)","v":0},{"$f":"IF(AP9=0,0,(AP9*((LOG(AP9))/LOG(2))))","v":0},null,{"$f":"N9","v":121},{"$f":"COUNTIF(L160:L189,AS9)","v":0},{"$f":"AT9/(AV4-AT10)","v":0},{"$f":"IF(AU9=0,0,(AU9*((LOG(AU9))/LOG(2))))","v":0}]
[22,440,13,451,14,457,null,null,null,null,0,211,null,122,{"$f":"COUNTIF($L$7:$L$500,N10)","v":0},{"$f":"O10/$Q$4","v":0},{"$f":"IF(P10=0,0,(P10*((LOG(P10))/LOG(2))))","v":0},null,null,{"$f":"N10","v":122},{"$f":"COUNTIF(L7:L37,T10)","v":0},null,null,null,{"$f":"N10","v":122},{"$f":"COUNTIF(L38:L67,Y10)","v":0},null,null,null,{"$f":"N10","v":122},{"$f":"COUNTIF(L68:L98,AD10)","v":0},null,null,null,{"$f":"N10","v":122},{"$f":"COUNTIF(L99:L128,AI10)","v":0},null,null,null,{"$f":"N10","v":122},{"$f":"COUNTIF(L129:L159,AN10)","v":0},null,null,null,{"$f":"N10","v":122},{"$f":"COUNTIF(L160:L189,AS10)","v":0}]
[11,569,11,576,12,588,null,null,null,null,0,111,null,211,{"$f":"COUNTIF($L$7:$L$500,N11)","v":65},{"$f":"O11/$Q$4","v":0.3551912568306011},{"$f":"IF(P11=0,0,(P11*((LOG(P11))/LOG(2))))","v":-0.5304184789159192},null,null,{"$f":"N11","v":211},{"$f":"COUNTIF(L7:L37,T11)","v":9},{"$f":"U11/(W4-U10)","v":0.29032258064516131},{"$f":"IF(V11=0,0,(V11*((LOG(V11))/LOG(2))))","v":-0.5180142509839053},null,{"$f":"N11","v":211},{"$f":"COUNTIF(L38:L67,Y11)","v":14},{"$f":"Z11/(AB4-Z10)","v":0.46666666666666667},{"$f":"IF(AA11=0,0,(AA11*((LOG(AA11))/LOG(2))))","v":-0.51311664765709342},null,{"$f":"N11","v":211},{"$f":"COUNTIF(L68:L98,AD11)","v":11},{"$f":"AE11/(AG4-AE10)","v":0.35483870967741937},{"$f":"IF(AF11=0,0,(AF11*((LOG(AF11))/LOG(2))))","v":-0.53040037449178568},null,{"$f":"N11","v":211},{"$f":"COUNTIF(L99:L128,AI11)","v":8},{"$f":"AJ11/(AL4-AJ10)","v":0.26666666666666666},{"$f":"IF(AK11=0,0,(AK11*((LOG(AK11))/LOG(2))))","v":-0.50850415882893829},null,{"$f":"N11","v":211},{"$f":"COUNTIF(L129:L159,AN11)","v":14},{"$f":"AO11/(AQ4-AO10)","v":0.45161290322580644},{"$f":"IF(AP11=0,0,(AP11*((LOG(AP11))/LOG(2))))","v":-0.51792836892289662},null,{"$f":"N11","v":211},{"$f":"COUNTIF(L160:L189,AS11)","v":9},{"$f":"AT11/(AV4-AT10)","v":0.3},{"$f":"IF(AU11=0,0,(AU11*((LOG(AU11))/LOG(2))))","v":-0.52108967824986185}]
[11,701,11,707,12,716,null,null,null,null,0,111,null,212,{"$f":"COUNTIF($L$7:$L$500,N12)","v":0},{"$f":"O12/$Q$4","v":0},{"$f":"IF(P12=0,0,(P12*((LOG(P12))/LOG(2))))","v":0},null,null,{"$f":"N12","v":212},{"$f":"COUNTIF(L7:L37,T12)","v":0},{"$f":"U12/(W4-U10)","v":0},{"$f":"IF(V12=0,0,(V12*((LOG(V12))/LOG(2))))","v":0},null,{"$f":"N12","v":212},{"$f":"COUNTIF(L38:L67,Y12)","v":0},{"$f":"Z12/(AB4-Z10)","v":0},{"$f":"IF(AA12=0,0,(AA12*((LOG(AA12))/LOG(2))))","v":0},null,{"$f":"N12","v":212},{"$f":"COUNTIF(L68:L98,AD12)","v":0},{"$f":"AE12/(AG4-AE10)","v":0},{"$f":"IF(AF12=0,0,(AF12*((LOG(AF12))/LOG(2))))","v":0},null,{"$f":"N12","v":212},{"$f":"COUNTIF(L99:L128,AI12)","v":0},{"$f":"AJ12/(AL4-AJ10)","v":0},{"$f":"IF(AK12=0,0,(AK12*((LOG(AK12))/LOG(2))))","v":0},null,{"$f":"N12","v":212},{"$f":"COUNTIF(L129:L159,AN12)","v":0},{"$f":"AO12/(AQ4-AO10)","v":0},{"$f":"IF(AP12=0,0,(AP12*((LOG(AP12))/LOG(2))))","v":0},null,{"$f":"N12","v":212},{"$f":"COUNTIF(L160:L189,AS12)","v":0},{"$f":"AT12/(AV4-AT10)","v":0},{"$f":"IF(AU12=0,0,(AU12*((LOG(AU12))/LOG(2))))","v":0}]
[11,831,11,839,12,848,null,null,null,null,0,111,null,221,{"$f":"COUNTIF($L$7:$L$500,N13)","v":4},{"$f":"O13/$Q$4","v":2.185792349726776E-2},{"$f":"IF(P13=0,0,(P13*((LOG(P13))/LOG(2))))","v":-0.12056174509910474},null,null,{"$f":"N13","v":221},{"$f":"COUNTIF(L7:L37,T13)","v":0},{"$f":"U13/(W4-U10)","v":0},{"$f":"IF(V13=0,0,(V13*((LOG(V13))/LOG(2))))","v":0},null,{"$f":"N13","v":221},{"$f":"COUNTIF(L38:L67,Y13)","v":0},{"$f":"Z13/(AB4-Z10)","v":0},{"$f":"IF(AA13=0,0,(AA13*((LOG(AA13))/LOG(2))))","v":0},null,{"$f":"N13","v":221},{"$f":"COUNTIF(L68:L98,AD13)","v":1},{"$f":"AE13/(AG4-AE10)","v":3.2258064516129031E-2},{"$f":"IF(AF13=0,0,(AF13*((LOG(AF13))/LOG(2))))","v":-0.15981278420602821},null,{"$f":"N13","v":221},{"$f":"COUNTIF(L99:L128,AI13)","v":1},{"$f":"AJ13/(AL4-AJ10)","v":3.3333333333333333E-2},{"$f":"IF(AK13=0,0,(AK13*((LOG(AK13))/LOG(2))))","v":-0.16356301985361729},null,{"$f":"N13","v":221},{"$f":"COUNTIF(L129:L159,AN13)","v":1},{"$f":"AO13/(AQ4-AO10)","v":3.2258064516129031E-2},{"$f":"IF(AP13=0,0,(AP13*((LOG(AP13))/LOG(2))))","v":-0.15981278420602821},null,{"$f":"N13","v":221},{"$f":"COUNTIF(L160:L189,AS13)","v":1},{"$f":"AT13/(AV4-AT10)","v":3.3333333333333333E-2},{"$f":"IF(AU13=0,0,(AU13*((LOG(AU13))/LOG(2))))","v":-0.16356301985361729}]
[11,968,11,973,12,986,null,null,null,null,0,111,null,222,{"$f":"COUNTIF($L$7:$L$500,N14)","v":0},{"$f":"O14/$Q$4","v":0},{"$f":"IF(P14=0,0,(P14*((LOG(P14))/LOG(2))))","v":0},null,null,{"$f":"N14","v":222},{"$f":"COUNTIF(L7:L37,T14)","v":0},{"$f":"U14/(W4-U10)","v":0},{"$f":"IF(V14=0,0,(V14*((LOG(V14))/LOG(2))))","v":0},null,{"$f":"N14","v":222},{"$f":"COUNTIF(L38:L67,Y14)","v":0},{"$f":"Z14/(AB4-Z10)","v":0},{"$f":"IF(AA14=0,0,(AA14*((LOG(AA14))/LOG(2))))","v":0},null,{"$f":"N14","v":222},{"$f":"COUNTIF(L68:L98,AD14)","v":0},{"$f":"AE14/(AG4-AE10)","v":0},{"$f":"IF(AF14=0,0,(AF14*((LOG(AF14))/LOG(2))))","v":0},null,{"$f":"N14","v":222},{"$f":"COUNTIF(L99:L128,AI14)","v":0},{"$f":"AJ14/(AL4-AJ10)","v":0},{"$f":"IF(AK14=0,0,(AK14*((LOG(AK14))/LOG(2))))","v":0},null,{"$f":"N14","v":222},{"$f":"COUNTIF(L129:L159,AN14)","v":0},{"$f":"AO14/(AQ4-AO10)","v":0},{"$f":"IF(AP14=0,0,(AP14*((LOG(AP14))/LOG(2))))","v":0},null,{"$f":"N14","v":222},{"$f":"COUNTIF(L160:L189,AS14)","v":0},{"$f":"AT14/(AV4-AT10)","v":0},{"$f":"IF(AU14=0,0,(AU14*((LOG(AU14))/LOG(2))))","v":0}]
[22,1087,13,1105,14,1113,null,null,null,null,0,211,null,null,null,{"$f":"SUM(P7:P14)","v":1},{"$f":"-SUM(Q7:Q14)","v":1.0763371636303261},null,null,null,null,{"$f":"SUM(V7:V14)","v":1},{"$f":"-SUM(W7:W14)","v":0.86913758061263802},null,null,null,{"$f":"SUM(AA7:AA14)","v":1},{"$f":"-SUM(AB7:AB14)","v":0.99679163198163656},null,null,null,{"$f":"SUM(AF7:AF14)","v":1},{"$f":"-SUM(AG7:AG14)","v":1.123087582630798},null,null,null,{"$f":"SUM(AK7:AK14)","v":0.99999999999999989},{"$f":"-SUM(AL7:AL14)","v":1.0322683996633863},null,null,null,{"$f":"SUM(AP7:AP14)","v":1},{"$f":"-SUM(AQ7:AQ14)","v":1.1702295713931186},null,null,null,{"$f":"SUM(AU7:AU14)","v":0.99999999999999989},{"$f":"-SUM(AV7:AV14)","v":1.07462769858425}]
[11,1229,11,1236,12,1247,null,null,null,null,0,111,null,null,null,"U=",{"$f":"Q15/(LOG(Q4)/LOG(2))","v":0.14321183479781857},null,null,null,null,"U1=",{"$f":"W15/(LOG(W4)/LOG(2))","v":0.17543462676083718},null,null,null,"U2=",{"$f":"AB15/(LOG(AB4)/LOG(2))","v":0.20314119757912014},null,null,null,"U3=",{"$f":"AG15/(LOG(AG4)/LOG(2))","v":0.22669420270572518},null,null,null,"U4=",{"$f":"AL15/(LOG(AL4)/LOG(2))","v":0.21037118711944128},null,null,null,"U5=",{"$f":"AQ15/(LOG(AQ4)/LOG(2))","v":0.2362097700770632},null,null,null,"U6=",{"$f":"AV15/(LOG(AV4)/LOG(2))","v":0.21900380243773951}]
[11,1358,11,1363,12,1374,null,null,null,null,0,111]
[11,1483,11,1487,12,1495,null,null,null,null,0,111]
[11,1614,11,1623,12,1631,null,null,null,null,0,111,null,"Total Target Seq"]
[11,1752,11,1758,12,1769,null,null,null,null,0,111,null,{"$f":"COUNTIF(L7:L189,G3)","v":0},null,31,30,31,30,31,30]
[22,1873,13,1885,14,1890,null,null,null,null,0,211,null,null,null,"% of reinforcement given in 6 equal intervals based on number of trials "]
[22,1993,13,2019,14,2028,null,null,null,null,0,211,null,null,null,"%_1","%_2","%_3","%_4","%_5","%_6"]
[11,2155,11,2164,12,2176,null,null,null,null,0,111,null,null,"target sequence",{"$f":"$G$3","v":122},{"$f":"$G$3","v":122},{"$f":"$G$3","v":122},{"$f":"$G$3","v":122},{"$f":"$G$3","v":122},{"$f":"$G$3","v":122}]
[11,2306,11,2313,12,2324,null,null,null,null,0,111,null,null,"total reinforcement",{"$f":"U10","v":0},{"$f":"Z10","v":0},{"$f":"AE10","v":0},{"$f":"AJ10","v":0},{"$f":"AO10","v":0},{"$f":"AT10","v":0}]
[22,2420,13,2433,14,2438,null,null,null,null,0,211,null,null,"% target"]
[11,2555,11,2560,12,2569,null,null,null,null,0,111,null,null,"CCRF"]
[11,2689,11,2694,12,2704,null,null,null,null,0,111,null,null,"% CCRf"]
[22,2812,13,2824,14,2830,null,null,null,null,0,211,null,null,"average response rate",{"$f":"F37/P20","v":129.48387096774192},{"$f":"(F67-F37)/Q20","v":127.13333333333334},{"$f":"(F98-F67)/R20","v":130},{"$f":"(F128-F98)/S20","v":127.6},{"$f":"(F159-F128)/T20","v":132.2258064516129},{"$f":"(F189-F159)/U20","v":139.96666666666667}]
[22,2929,13,2940,14,2948,null,null,null,null,0,211]
[11,3064,11,3069,12,3082,null,null,null,null,0,111]
[11,3202,11,3213,12,3223,null,null,null,null,0,111]
[11,3339,11,3344,12,3352,null,null,null,null,0,111]
[22,3453,13,3465,14,3470,null,null,null,null,0,211]
[11,3590,11,3599,12,3611,null,null,null,null,0,111]
[11,3732,11,3741,12,3750,null,null,null,null,0,111]
[22,3846,13,3857,14,3862,null,null,null,null,0,211]
[11,3994,11,4002,12,4014,null,null,null,null,0,111]
[22,4116,13,4129,14,4133,null,null,null,null,0,211]
[22,4235,13,4246,14,4253,null,null,null,null,0,211]
[11,4366,11,4372,12,4384,null,null,null,null,0,111]
[22,4489,13,4500,14,4508,null,null,null,null,0,211]
[11,4615,11,4620,12,4628,null,null,null,null,0,111]
[11,4742,11,4747,12,4758,null,null,null,null,0,111]
[22,4860,13,4872,14,4881,null,null,null,null,0,211]
[11,4998,11,5006,12,5016,null,null,null,null,0,111]
[11,5124,11,5132,12,5144,null,null,null,null,0,111]
[22,5246,13,5257,14,5263,null,null,null,null,0,211]
[11,5377,11,5382,12,5391,null,null,null,null,0,111]
[22,5487,13,5503,14,5512,null,null,null,null,0,211]
[11,5627,11,5638,12,5649,null,null,null,null,0,111]
[22,5749,13,5757,14,5765,null,null,null,null,0,211]
[11,5880,11,5887,12,5896,null,null,null,null,0,111]
[11,6010,11,6015,12,6024,null,null,null,null,0,111]
[22,6129,13,6139,14,6148,null,null,null,null,0,211]
[22,6250,13,6261,14,6269,null,null,null,null,0,211]
[11,6390,11,6398,12,6408,null,null,null,null,0,111]
[22,6515,13,6524,14,6534,null,null,null,null,0,211]
[11,6644,11,6649,12,6657,null,null,null,null,0,111]
[11,6779,11,6788,12,6800,null,null,null,null,0,111]
[11,6917,11,6922,12,6932,null,null,null,null,0,111]
[22,7037,13,7045,14,7053,null,null,null,null,0,211]
[11,7168,11,7174,12,7183,null,null,null,null,0,111]
[22,7289,13,7301,14,7308,null,null,null,null,0,211]
[11,7422,11,7432,12,7442,null,null,null,null,0,111]
[22,7551,13,7561,14,7570,null,null,null,null,0,211]
[11,7685,11,7694,12,7704,null,null,null,null,0,111]
[22,7807,13,7817,14,7828,null,null,null,null,0,211]
[22,7931,13,7942,14,7952,null,null,null,null,0,211]
[11,8064,11,8073,12,8084,null,null,null,null,0,111]
[11,8195,11,8202,12,8213,null,null,null,null,0,111]
[22,8321,13,8332,14,8341,null,null,null,null,0,211]
[11,8453,11,8460,12,8470,null,null,null,null,0,111]
[22,8581,13,8593,14,8602,null,null,null,null,0,211]
[11,8720,11,8728,12,8740,null,null,null,null,0,111]
[22,8841,13,8857,14,8867,null,null,null,null,0,211]
[11,8981,11,8989,12,8999,null,null,null,null,0,111]
[22,9112,13,9124,14,9133,null,null,null,null,0,211]
[11,9248,11,9257,12,9268,null,null,null,null,0,111]
[22,9375,13,9386,14,9394,null,null,null,null,0,211]
[11,9507,11,9515,12,9526,null,null,null,null,0,111]
[22,9627,13,9635,14,9640,null,null,null,null,0,211]
[22,9753,13,9764,14,9772,null,null,null,null,0,211]
[11,9887,11,9894,12,9906,null,null,null,null,0,111]
[11,10026,11,10031,12,10044,null,null,null,null,0,111]
[22,10147,13,10157,14,10166,null,null,null,null,0,211]
[22,10269,13,10281,14,10289,null,null,null,null,0,211]
[11,10405,11,10413,12,10424,null,null,null,null,0,111]
[11,10537,11,10545,12,10555,null,null,null,null,0,111]
[22,10664,13,10672,14,10678,null,null,null,null,0,211]
[11,10798,11,10807,12,10816,null,null,null,null,0,111]
[11,10932,11,10941,12,10953,null,null,null,null,0,111]
[11,11061,11,11068,12,11077,null,null,null,null,0,111]
[22,11168,24,11178,14,11186,null,null,null,null,0,221]
[11,11297,11,11306,12,11315,null,null,null,null,0,111]
[11,11430,11,11438,12,11450,null,null,null,null,0,111]
[11,11572,11,11581,12,11591,null,null,null,null,0,111]
[11,11707,11,11715,12,11724,null,null,null,null,0,111]
[11,11835,11,11843,12,11858,null,null,null,null,0,111]
[11,11969,11,11977,12,11988,null,null,null,null,0,111]
[11,12105,11,12110,12,12118,null,null,null,null,0,111]
[11,12237,11,12242,12,12252,null,null,null,null,0,111]
[22,12357,13,12365,14,12373,null,null,null,null,0,211]
[11,12485,11,12492,12,12502,null,null,null,null,0,111]
[11,12610,11,12617,12,12627,null,null,null,null,0,111]
[11,12738,11,12746,12,12756,null,null,null,null,0,111]
[11,12870,11,12880,12,12889,null,null,null,null,0,111]
[11,13007,11,13015,12,13025,null,null,null,null,0,111]
[11,13139,11,13145,12,13153,null,null,null,null,0,111]
[11,13259,11,13264,12,13266,null,null,null,null,0,111]
[11,13382,11,13389,12,13401,null,null,null,null,0,111]
[11,13517,11,13524,12,13536,null,null,null,null,0,111]
[11,13649,11,13658,12,13670,null,null,null,null,0,111]
[11,13780,11,13789,12,13800,null,null,null,null,0,111]
[22,13898,13,13908,14,13915,null,null,null,null,0,211]
[11,14032,11,14037,12,14048,null,null,null,null,0,111]
[11,14165,11,14173,12,14182,null,null,null,null,0,111]
[22,14283,13,14295,14,14300,null,null,null,null,0,211]
[11,14407,11,14417,12,14429,null,null,null,null,0,111]
[22,14529,13,14538,14,14545,null,null,null,null,0,211]
[22,14646,13,14657,14,14665,null,null,null,null,0,211]
[22,14773,13,14781,14,14791,null,null,null,null,0,211]
[11,14900,11,14908,12,14919,null,null,null,null,0,111]
[22,15026,13,15036,14,15046,null,null,null,null,0,211]
[11,15159,11,15166,12,15177,null,null,null,null,0,111]
[22,15279,24,15295,14,15302,null,null,null,null,0,221]
[11,15414,11,15423,12,15432,null,null,null,null,0,111]
[22,15536,13,15549,14,15556,null,null,null,null,0,211]
[11,15669,11,15677,12,15686,null,null,null,null,0,111]
[22,15788,13,15801,14,15807,null,null,null,null,0,211]
[22,15912,13,15921,14,15930,null,null,null,null,0,211]
[22,16032,13,16044,14,16050,null,null,null,null,0,211]
[22,16152,13,16167,14,16176,null,null,null,null,0,211]
[11,16284,11,16292,12,16303,null,null,null,null,0,111]
[11,16424,11,16433,12,16443,null,null,null,null,0,111]
[11,16555,11,16563,12,16573,null,null,null,null,0,111]
[11,16681,11,16688,12,16699,null,null,null,null,0,111]
[22,16796,24,16816,14,16824,null,null,null,null,0,221]
[11,16954,11,16964,12,16973,null,null,null,null,0,111]
[22,17075,13,17088,14,17097,null,null,null,null,0,211]
[22,17204,13,17216,14,17228,null,null,null,null,0,211]
[22,17330,13,17342,14,17353,null,null,null,null,0,211]
[11,17474,11,17482,12,17491,null,null,null,null,0,111]
[11,17615,11,17624,12,17634,null,null,null,null,0,111]
[11,17758,11,17767,12,17780,null,null,null,null,0,111]
[22,17888,13,17900,14,17911,null,null,null,null,0,211]
[22,18015,13,18026,14,18033,null,null,null,null,0,211]
[11,18151,11,18160,12,18170,null,null,null,null,0,111]
[22,18277,13,18290,14,18299,null,null,null,null,0,211]
[11,18411,11,18417,12,18428,null,null,null,null,0,111]
[11,18576,11,18583,12,18594,null,null,null,null,0,111]
[22,18696,13,18706,14,18715,null,null,null,null,0,211]
[11,18833,11,18841,12,18851,null,null,null,null,0,111]
[11,18971,11,18980,12,18990,null,null,null,null,0,111]
[11,19110,11,19118,12,19131,null,null,null,null,0,111]
[22,19237,13,19248,14,19260,null,null,null,null,0,211]
[22,19363,13,19381,14,19389,null,null,null,null,0,211]
[11,19502,11,19511,12,19520,null,null,null,null,0,111]
[11,19638,11,19644,12,19656,null,null,null,null,0,111]
[22,19766,13,19780,14,19785,null,null,null,null,0,211]
[11,20105,11,20121,12,20133,null,null,null,null,0,111]
[22,20236,13,20246,14,20256,null,null,null,null,0,211]
[11,20374,11,20381,12,20391,null,null,null,null,0,111]
[22,20503,13,20511,14,20519,null,null,null,null,0,211]
[11,20633,11,20635,12,20644,null,null,null,null,0,111]
[11,20762,11,20773,12,20782,null,null,null,null,0,111]
[22,20876,24,20889,14,20897,null,null,null,null,0,221]
[11,21011,11,21017,12,21029,null,null,null,null,0,111]
[22,21124,13,21138,14,21146,null,null,null,null,0,211]
[22,21253,13,21267,14,21271,null,null,null,null,0,211]
[11,21389,11,21399,12,21409,null,null,null,null,0,111]
[11,21523,11,21532,12,21543,null,null,null,null,0,111]
[11,21663,11,21671,12,21680,null,null,null,null,0,111]
[11,21799,11,21808,12,21818,null,null,null,null,0,111]
[11,21937,11,21945,12,21958,null,null,null,null,0,111]
[11,22078,11,22080,12,22082,null,null,null,null,0,111]
[22,22181,13,22192,14,22200,null,null,null,null,0,211]
[11,22317,11,22326,12,22339,null,null,null,null,0,111]
[22,22449,13,22463,14,22471,null,null,null,null,0,211]
[11,22587,11,22596,12,22609,null,null,null,null,0,111]
[11,22729,11,22737,12,22750,null,null,null,null,0,111]
[22,22853,13,22869,14,22878,null,null,null,null,0,211]
[22,22977,13,22991,14,23000,null,null,null,null,0,211]
[11,23121,11,23129,12,23138,null,null,null,null,0,111]
[11,23260,11,23268,12,23280,null,null,null,null,0,111]
[11,23410,11,23422,12,23434,null,null,null,null,0,111]
[11,23547,11,23557,12,23569,null,null,null,null,0,111]
[22,23672,13,23687,14,23695,null,null,null,null,0,211]
[11,23827,11,23835,12,23844,null,null,null,null,0,111]
[11,23966,11,23975,12,23984,null,null,null,null,1,111]

{"sheet":"!MB19A10.095","index":30,"n_rows":189,"n_cols":48,"rows_kept":189,"cut":false,"hidden":false,"merged":[[4,39,4,42],[5,39,5,40],[4,44,4,47],[5,44,5,45],[4,24,4,27],[5,24,5,25],[4,29,4,32],[5,29,5,30],[4,34,4,37],[5,34,5,35],[1,1,1,2],[5,13,5,14],[18,13,18,14],[19,13,19,14],[4,19,4,22],[5,19,5,20]]}
["Report for:!MB19A10.095"]
["Date:","<date>"]
["Hen:","<hen>",null,null,null,"Correct Sequence",{"$f":"Start!J2","v":122},null,null,null,null,null,null,null,null,"Total Sequences in Data",{"$f":"4994-COUNTBLANK(L7:L5000)","v":183},null,null,null,null,"Total Sequences in Block Data",{"$f":"COUNTA(L7:L37)","v":31},null,null,null,"Total Sequences in Block Data",{"$f":"COUNTA(L38:L67)","v":30},null,null,null,"Total Sequences in Block Data",{"$f":"COUNTA(L68:L98)","v":31},null,null,null,"Total Sequences in Block Data",{"$f":"COUNTA(L99:L128)","v":30},null,null,null,"Total Sequences in Block Data",{"$f":"COUNTA(L129:L159)","v":31},null,null,null,"Total Sequences in Block Data",{"$f":"COUNTA(L160:L189)","v":30}]
[null,null,null,null,null,null,null,null,null,null,null,null,null,null,null,"Total Sequences in Summary",{"$f":"SUM(O7:O14)","v":183},null,null,null,null,"Total Sequences in Block Summary",{"$f":"SUM(U7:U14)","v":31},null,null,null,"Total Sequences in Block Summary",{"$f":"SUM(Z7:Z14)","v":30},null,null,null,"Total Sequences in Block Summary",{"$f":"SUM(AE7:AE14)","v":31},null,null,null,"Total Sequences in Block Summary",{"$f":"SUM(AJ7:AJ14)","v":30},null,null,null,"Total Sequences in Block Summary",{"$f":"SUM(AO7:AO14)","v":31},null,null,null,"Total Sequences in Block Summary",{"$f":"SUM(AT7:AT14)","v":30}]
[null,null,null,null,null,null,null,null,null,null,null,null,null,null,null,null,null,null,null,"Block 1",null,null,null,null,"Block 2",null,null,null,null,"Block 3",null,null,null,null,"Block 4",null,null,null,null,"Block 5",null,null,null,null,"Block 6"]
["Sequence\nComponent\n1","Time\n1","Sequence\nComponent\n2","Time\n2","Sequence\nComponent\n3","Time\n3","Sequence\nComponent\n4","Time\n4","Sequence\nComponent\n5","Time\n5","Correct?\n0=No 1=Yes","Sequence",null,"Frequency",null,"Relative Frequency","Variability",null,null,"Frequency",null,"Relative Frequency","Variability",null,"Frequency",null,"Relative Frequency","Variability",null,"Frequency",null,"Relative Frequency","Variability",null,"Frequency",null,"Relative Frequency","Variability",null,"Frequency",null,"Relative Frequency","Variability",null,"Frequency",null,"Relative Frequency","Variability"]
[11,49,11,55,12,66,null,null,null,null,0,111,null,111,{"$f":"COUNTIF($L$7:$L$500,N7)","v":123},{"$f":"O7/$Q$4","v":0.67213114754098358},{"$f":"IF(P7=0,0,(P7*((LOG(P7))/LOG(2))))","v":-0.38525571558585087},null,null,{"$f":"N7","v":111},{"$f":"COUNTIF(L7:L37,T7)","v":20},{"$f":"U7/(W4-U10)","v":0.64516129032258063},{"$f":"IF(V7=0,0,(V7*((LOG(V7))/LOG(2))))","v":-0.40791497774162117},null,{"$f":"N7","v":111},{"$f":"COUNTIF(L38:L67,Y7)","v":23},{"$f":"Z7/(AB4-Z10)","v":0.76666666666666672},{"$f":"IF(AA7=0,0,(AA7*((LOG(AA7))/LOG(2))))","v":-0.2938852903228209},null,{"$f":"N7","v":111},{"$f":"COUNTIF(L68:L98,AD7)","v":20},{"$f":"AE7/(AG4-AE10)","v":0.64516129032258063},{"$f":"IF(AF7=0,0,(AF7*((LOG(AF7))/LOG(2))))","v":-0.40791497774162117},null,{"$f":"N7","v":111},{"$f":"COUNTIF(L99:L128,AI7)","v":19},{"$f":"AJ7/(AL4-AJ10)","v":0.6333333333333333},{"$f":"IF(AK7=0,0,(AK7*((LOG(AK7))/LOG(2))))","v":-0.41734328537112425},null,{"$f":"N7","v":111},{"$f":"COUNTIF(L129:L159,AN7)","v":21},{"$f":"AO7/(AQ4-AO10)","v":0.67741935483870963},{"$f":"IF(AP7=0,0,(AP7*((LOG(AP7))/LOG(2))))","v":-0.38062763354098111},null,{"$f":"N7","v":111},{"$f":"COUNTIF(L160:L189,AS7)","v":20},{"$f":"AT7/(AV4-AT10)","v":0.66666666666666663},{"$f":"IF(AU7=0,0,(AU7*((LOG(AU7))/LOG(2))))","v":-0.38997500048077083}]
[22,172,13,194,14,200,null,null,null,null,0,211,null,112,{"$f":"COUNTIF($L$7:$L$500,N8)","v":0},{"$f":"O8/$Q$4","v":0},{"$f":"IF(P8=0,0,(P8*((LOG(P8))/LOG(2))))","v":0},null,null,{"$f":"N8","v":112},{"$f":"COUNTIF(L7:L37,T8)","v":0},{"$f":"U8/(W4-U10)","v":0},{"$f":"IF(V8=0,0,(V8*((LOG(V8))/LOG(2))))","v":0},null,{"$f":"N8","v":112},{"$f":"COUNTIF(L38:L67,Y8)","v":0},{"$f":"Z8/(AB4-Z10)","v":0},{"$f":"IF(AA8=0,0,(AA8*((LOG(AA8))/LOG(2))))","v":0},null,{"$f":"N8","v":112},{"$f":"COUNTIF(L68:L98,AD8)","v":0},{"$f":"AE8/(AG4-AE10)","v":0},{"$f":"IF(AF8=0,0,(AF8*((LOG(AF8))/LOG(2))))","v":0},null,{"$f":"N8","v":112},{"$f":"COUNTIF(L99:L128,AI8)","v":0},{"$f":"AJ8/(AL4-AJ10)","v":0},{"$f":"IF(AK8=0,0,(AK8*((LOG(AK8))/LOG(2))))","v":0},null,{"$f":"N8","v":112},{"$f":"COUNTIF(L129:L159,AN8)","v":0},{"$f":"AO8/(AQ4-AO10)","v":0},{"$f":"IF(AP8=0,0,(AP8*((LOG(AP8))/LOG(2))))","v":0},null,{"$f":"N8","v":112},{"$f":"COUNTIF(L160:L189,AS8)","v":0},{"$f":"AT8/(AV4-AT10)","v":0},{"$f":"IF(AU8=0,0,(AU8*((LOG(AU8))/LOG(2))))","v":0}]
[11,321,11,330,12,340,null,null,null,null,0,111,null,121,{"$f":"COUNTIF($L$7:$L$500,N9)","v":0},{"$f":"O9/$Q$4","v":0},{"$f":"IF(P9=0,0,(P9*((LOG(P9))/LOG(2))))","v":0},null,null,{"$f":"N9","v":121},{"$f":"COUNTIF(L7:L37,T9)","v":0},{"$f":"U9/(W4-U10)","v":0},{"$f":"IF(V9=0,0,(V9*((LOG(V9))/LOG(2))))","v":0},null,{"$f":"N9","v":121},{"$f":"COUNTIF(L38:L67,Y9)","v":0},{"$f":"Z9/(AB4-Z10)","v":0},{"$f":"IF(AA9=0,0,(AA9*((LOG(AA9))/LOG(2))))","v":0},null,{"$f":"N9","v":121},{"$f":"COUNTIF(L68:L98,AD9)","v":0},{"$f":"AE9/(AG4-AE10)","v":0},{"$f":"IF(AF9=0,0,(AF9*((LOG(AF9))/LOG(2))))","v":0},null,{"$f":"N9","v":121},{"$f":"COUNTIF(L99:L128,AI9)","v":0},{"$f":"AJ9/(AL4-AJ10)","v":0},{"$f":"IF(AK9=0,0,(AK9*((LOG(AK9))/LOG(2))))","v":0},null,{"$f":"N9","v":121},{"$f":"COUNTIF(L129:L159,AN9)","v":0},{"$f":"AO9/(AQ4-AO10)","v":0},{"$f":"IF(AP9=0,0,(AP9*((LOG(AP9))/LOG(2))))","v":0},null,{"$f":"N9","v":121},{"$f":"COUNTIF(L160:L189,AS9)","v":0},{"$f":"AT9/(AV4-AT10)","v":0},{"$f":"IF(AU9=0,0,(AU9*((LOG(AU9))/LOG(2))))","v":0}]
[11,462,11,468,12,477,null,null,null,null,0,111,null,122,{"$f":"COUNTIF($L$7:$L$500,N10)","v":0},{"$f":"O10/$Q$4","v":0},{"$f":"IF(P10=0,0,(P10*((LOG(P10))/LOG(2))))","v":0},null,null,{"$f":"N10","v":122},{"$f":"COUNTIF(L7:L37,T10)","v":0},null,null,null,{"$f":"N10","v":122},{"$f":"COUNTIF(L38:L67,Y10)","v":0},null,null,null,{"$f":"N10","v":122},{"$f":"COUNTIF(L68:L98,AD10)","v":0},null,null,null,{"$f":"N10","v":122},{"$f":"COUNTIF(L99:L128,AI10)","v":0},null,null,null,{"$f":"N10","v":122},{"$f":"COUNTIF(L129:L159,AN10)","v":0},null,null,null,{"$f":"N10","v":122},{"$f":"COUNTIF(L160:L189,AS10)","v":0}]
[11,594,11,600,12,611,null,null,null,null,0,111,null,211,{"$f":"COUNTIF($L$7:$L$500,N11)","v":59},{"$f":"O11/$Q$4","v":0.32240437158469948},{"$f":"IF(P11=0,0,(P11*((LOG(P11))/LOG(2))))","v":-0.52650464779458939},null,null,{"$f":"N11","v":211},{"$f":"COUNTIF(L7:L37,T11)","v":11},{"$f":"U11/(W4-U10)","v":0.35483870967741937},{"$f":"IF(V11=0,0,(V11*((LOG(V11))/LOG(2))))","v":-0.53040037449178568},null,{"$f":"N11","v":211},{"$f":"COUNTIF(L38:L67,Y11)","v":7},{"$f":"Z11/(AB4-Z10)","v":0.23333333333333334},{"$f":"IF(AA11=0,0,(AA11*((LOG(AA11))/LOG(2))))","v":-0.48989165716187993},null,{"$f":"N11","v":211},{"$f":"COUNTIF(L68:L98,AD11)","v":11},{"$f":"AE11/(AG4-AE10)","v":0.35483870967741937},{"$f":"IF(AF11=0,0,(AF11*((LOG(AF11))/LOG(2))))","v":-0.53040037449178568},null,{"$f":"N11","v":211},{"$f":"COUNTIF(L99:L128,AI11)","v":11},{"$f":"AJ11/(AL4-AJ10)","v":0.36666666666666664},{"$f":"IF(AK11=0,0,(AK11*((LOG(AK11))/LOG(2))))","v":-0.53073495822278116},null,{"$f":"N11","v":211},{"$f":"COUNTIF(L129:L159,AN11)","v":10},{"$f":"AO11/(AQ4-AO10)","v":0.32258064516129031},{"$f":"IF(AP11=0,0,(AP11*((LOG(AP11))/LOG(2))))","v":-0.52653813403210092},null,{"$f":"N11","v":211},{"$f":"COUNTIF(L160:L189,AS11)","v":9},{"$f":"AT11/(AV4-AT10)","v":0.3},{"$f":"IF(AU11=0,0,(AU11*((LOG(AU11))/LOG(2))))","v":-0.52108967824986185}]
[22,718,13,731,14,738,null,null,null,null,0,211,null,212,{"$f":"COUNTIF($L$7:$L$500,N12)","v":0},{"$f":"O12/$Q$4","v":0},{"$f":"IF(P12=0,0,(P12*((LOG(P12))/LOG(2))))","v":0},null,null,{"$f":"N12","v":212},{"$f":"COUNTIF(L7:L37,T12)","v":0},{"$f":"U12/(W4-U10)","v":0},{"$f":"IF(V12=0,0,(V12*((LOG(V12))/LOG(2))))","v":0},null,{"$f":"N12","v":212},{"$f":"COUNTIF(L38:L67,Y12)","v":0},{"$f":"Z12/(AB4-Z10)","v":0},{"$f":"IF(AA12=0,0,(AA12*((LOG(AA12))/LOG(2))))","v":0},null,{"$f":"N12","v":212},{"$f":"COUNTIF(L68:L98,AD12)","v":0},{"$f":"AE12/(AG4-AE10)","v":0},{"$f":"IF(AF12=0,0,(AF12*((LOG(AF12))/LOG(2))))","v":0},null,{"$f":"N12","v":212},{"$f":"COUNTIF(L99:L128,AI12)","v":0},{"$f":"AJ12/(AL4-AJ10)","v":0},{"$f":"IF(AK12=0,0,(AK12*((LOG(AK12))/LOG(2))))","v":0},null,{"$f":"N12","v":212},{"$f":"COUNTIF(L129:L159,AN12)","v":0},{"$f":"AO12/(AQ4-AO10)","v":0},{"$f":"IF(AP12=0,0,(AP12*((LOG(AP12))/LOG(2))))","v":0},null,{"$f":"N12","v":212},{"$f":"COUNTIF(L160:L189,AS12)","v":0},{"$f":"AT12/(AV4-AT10)","v":0},{"$f":"IF(AU12=0,0,(AU12*((LOG(AU12))/LOG(2))))","v":0}]
[22,846,13,856,14,864,null,null,null,null,0,211,null,221,{"$f":"COUNTIF($L$7:$L$500,N13)","v":1},{"$f":"O13/$Q$4","v":5.4644808743169399E-3},{"$f":"IF(P13=0,0,(P13*((LOG(P13))/LOG(2))))","v":-4.1069398023410066E-2},null,null,{"$f":"N13","v":221},{"$f":"COUNTIF(L7:L37,T13)","v":0},{"$f":"U13/(W4-U10)","v":0},{"$f":"IF(V13=0,0,(V13*((LOG(V13))/LOG(2))))","v":0},null,{"$f":"N13","v":221},{"$f":"COUNTIF(L38:L67,Y13)","v":0},{"$f":"Z13/(AB4-Z10)","v":0},{"$f":"IF(AA13=0,0,(AA13*((LOG(AA13))/LOG(2))))","v":0},null,{"$f":"N13","v":221},{"$f":"COUNTIF(L68:L98,AD13)","v":0},{"$f":"AE13/(AG4-AE10)","v":0},{"$f":"IF(AF13=0,0,(AF13*((LOG(AF13))/LOG(2))))","v":0},null,{"$f":"N13","v":221},{"$f":"COUNTIF(L99:L128,AI13)","v":0},{"$f":"AJ13/(AL4-AJ10)","v":0},{"$f":"IF(AK13=0,0,(AK13*((LOG(AK13))/LOG(2))))","v":0},null,{"$f":"N13","v":221},{"$f":"COUNTIF(L129:L159,AN13)","v":0},{"$f":"AO13/(AQ4-AO10)","v":0},{"$f":"IF(AP13=0,0,(AP13*((LOG(AP13))/LOG(2))))","v":0},null,{"$f":"N13","v":221},{"$f":"COUNTIF(L160:L189,AS13)","v":1},{"$f":"AT13/(AV4-AT10)","v":3.3333333333333333E-2},{"$f":"IF(AU13=0,0,(AU13*((LOG(AU13))/LOG(2))))","v":-0.16356301985361729}]
[11,984,11,990,12,1002,null,null,null,null,0,111,null,222,{"$f":"COUNTIF($L$7:$L$500,N14)","v":0},{"$f":"O14/$Q$4","v":0},{"$f":"IF(P14=0,0,(P14*((LOG(P14))/LOG(2))))","v":0},null,null,{"$f":"N14","v":222},{"$f":"COUNTIF(L7:L37,T14)","v":0},{"$f":"U14/(W4-U10)","v":0},{"$f":"IF(V14=0,0,(V14*((LOG(V14))/LOG(2))))","v":0},null,{"$f":"N14","v":222},{"$f":"COUNTIF(L38:L67,Y14)","v":0},{"$f":"Z14/(AB4-Z10)","v":0},{"$f":"IF(AA14=0,0,(AA14*((LOG(AA14))/LOG(2))))","v":0},null,{"$f":"N14","v":222},{"$f":"COUNTIF(L68:L98,AD14)","v":0},{"$f":"AE14/(AG4-AE10)","v":0},{"$f":"IF(AF14=0,0,(AF14*((LOG(AF14))/LOG(2))))","v":0},null,{"$f":"N14","v":222},{"$f":"COUNTIF(L99:L128,AI14)","v":0},{"$f":"AJ14/(AL4-AJ10)","v":0},{"$f":"IF(AK14=0,0,(AK14*((LOG(AK14))/LOG(2))))","v":0},null,{"$f":"N14","v":222},{"$f":"COUNTIF(L129:L159,AN14)","v":0},{"$f":"AO14/(AQ4-AO10)","v":0},{"$f":"IF(AP14=0,0,(AP14*((LOG(AP14))/LOG(2))))","v":0},null,{"$f":"N14","v":222},{"$f":"COUNTIF(L160:L189,AS14)","v":0},{"$f":"AT14/(AV4-AT10)","v":0},{"$f":"IF(AU14=0,0,(AU14*((LOG(AU14))/LOG(2))))","v":0}]
[11,1121,11,1127,12,1139,null,null,null,null,0,111,null,null,null,{"$f":"SUM(P7:P14)","v":1},{"$f":"-SUM(Q7:Q14)","v":0.95282976140385034},null,null,null,null,{"$f":"SUM(V7:V14)","v":1},{"$f":"-SUM(W7:W14)","v":0.9383153522334069},null,null,null,{"$f":"SUM(AA7:AA14)","v":1},{"$f":"-SUM(AB7:AB14)","v":0.78377694748470084},null,null,null,{"$f":"SUM(AF7:AF14)","v":1},{"$f":"-SUM(AG7:AG14)","v":0.9383153522334069},null,null,null,{"$f":"SUM(AK7:AK14)","v":1},{"$f":"-SUM(AL7:AL14)","v":0.94807824359390547},null,null,null,{"$f":"SUM(AP7:AP14)","v":1},{"$f":"-SUM(AQ7:AQ14)","v":0.90716576757308198},null,null,null,{"$f":"SUM(AU7:AU14)","v":0.99999999999999989},{"$f":"-SUM(AV7:AV14)","v":1.07462769858425}]
[11,1257,11,1265,12,1276,null,null,null,null,0,111,null,null,null,"U=",{"$f":"Q15/(LOG(Q4)/LOG(2))","v":0.12677858109104542},null,null,null,null,"U1=",{"$f":"W15/(LOG(W4)/LOG(2))","v":0.18939809677427447},null,null,null,"U2=",{"$f":"AB15/(LOG(AB4)/LOG(2))","v":0.15972985992109781},null,null,null,"U3=",{"$f":"AG15/(LOG(AG4)/LOG(2))","v":0.18939809677427447},null,null,null,"U4=",{"$f":"AL15/(LOG(AL4)/LOG(2))","v":0.19321365029870435},null,null,null,"U5=",{"$f":"AQ15/(LOG(AQ4)/LOG(2))","v":0.18311058156317611},null,null,null,"U6=",{"$f":"AV15/(LOG(AV4)/LOG(2))","v":0.21900380243773951}]
[11,1401,11,1409,12,1420,null,null,null,null,0,111]
[22,1522,13,1537,14,1543,null,null,null,null,0,211]
[11,1655,11,1663,12,1676,null,null,null,null,0,111,null,"Total Target Seq"]
[22,1785,13,1794,14,1803,null,null,null,null,0,211,null,{"$f":"COUNTIF(L7:L189,G3)","v":0},null,31,30,31,30,31,30]
[11,1918,11,1926,12,1938,null,null,null,null,0,111,null,null,null,"% of reinforcement given in 6 equal intervals based on number of trials "]
[11,2050,11,2059,12,2068,null,null,null,null,0,111,null,null,null,"%_1","%_2","%_3","%_4","%_5","%_6"]
[22,2172,13,2180,14,2185,null,null,null,null,0,211,null,null,"target sequence",{"$f":"$G$3","v":122},{"$f":"$G$3","v":122},{"$f":"$G$3","v":122},{"$f":"$G$3","v":122},{"$f":"$G$3","v":122},{"$f":"$G$3","v":122}]
[11,2297,11,2306,12,2317,null,null,null,null,0,111,null,null,"total reinforcement",{"$f":"U10","v":0},{"$f":"Z10","v":0},{"$f":"AE10","v":0},{"$f":"AJ10","v":0},{"$f":"AO10","v":0},{"$f":"AT10","v":0}]
[11,2431,11,2437,12,2450,null,null,null,null,0,111,null,null,"% target"]
[11,2562,11,2567,12,2578,null,null,null,null,0,111,null,null,"CCRF"]
[11,2694,11,2703,12,2713,null,null,null,null,0,111,null,null,"% CCRf"]
[11,2826,11,2834,12,2844,null,null,null,null,0,111,null,null,"average response rate",{"$f":"F37/P20","v":129.03225806451613},{"$f":"(F67-F37)/Q20","v":130.76666666666668},{"$f":"(F98-F67)/R20","v":129.70967741935485},{"$f":"(F128-F98)/S20","v":131.16666666666666},{"$f":"(F159-F128)/T20","v":134.54838709677421},{"$f":"(F189-F159)/U20","v":129.43333333333334}]
[11,2958,11,2966,12,2976,null,null,null,null,0,111]
[22,3083,13,3094,14,3100,null,null,null,null,0,211]
[11,3215,11,3223,12,3234,null,null,null,null,0,111]
[22,3341,13,3350,14,3362,null,null,null,null,0,211]
[22,3464,13,3475,14,3480,null,null,null,null,0,211]
[22,3585,13,3593,14,3598,null,null,null,null,0,211]
[11,3711,11,3720,12,3729,null,null,null,null,0,111]
[22,3836,13,3844,14,3850,null,null,null,null,0,211]
[11,3979,11,3987,12,4000,null,null,null,null,0,111]
[11,4111,11,4118,12,4129,null,null,null,null,0,111]
[11,4246,11,4252,12,4265,null,null,null,null,0,111]
[11,4377,11,4382,12,4392,null,null,null,null,0,111]
[11,4503,11,4508,12,4517,null,null,null,null,0,111]
[11,4623,11,4628,12,4636,null,null,null,null,0,111]
[11,4751,11,4756,12,4766,null,null,null,null,0,111]
[11,4892,11,4899,12,4911,null,null,null,null,0,111]
[11,5028,11,5034,12,5044,null,null,null,null,0,111]
[22,5149,13,5160,14,5166,null,null,null,null,0,211]
[11,5290,11,5299,12,5312,null,null,null,null,0,111]
[11,5424,11,5430,12,5441,null,null,null,null,0,111]
[11,5558,11,5564,12,5573,null,null,null,null,0,111]
[11,5710,11,5718,12,5728,null,null,null,null,0,111]
[11,5840,11,5846,12,5855,null,null,null,null,0,111]
[11,5972,11,5977,12,5987,null,null,null,null,0,111]
[22,6088,13,6097,14,6102,null,null,null,null,0,211]
[11,6217,11,6224,12,6234,null,null,null,null,0,111]
[11,6354,11,6359,12,6369,null,null,null,null,0,111]
[11,6488,11,6494,12,6503,null,null,null,null,0,111]
[22,6614,13,6626,14,6634,null,null,null,null,0,211]
[22,6742,13,6759,14,6768,null,null,null,null,0,211]
[11,6885,11,6890,12,6899,null,null,null,null,0,111]
[22,6997,13,7019,14,7027,null,null,null,null,0,211]
[11,7139,11,7149,12,7161,null,null,null,null,0,111]
[11,7274,11,7278,12,7288,null,null,null,null,0,111]
[11,7402,11,7407,12,7418,null,null,null,null,0,111]
[22,7516,13,7532,14,7537,null,null,null,null,0,211]
[11,7660,11,7667,12,7676,null,null,null,null,0,111]
[22,7783,13,7791,14,7797,null,null,null,null,0,211]
[11,7909,11,7914,12,7923,null,null,null,null,0,111]
[11,8041,11,8045,12,8055,null,null,null,null,0,111]
[11,8170,11,8176,12,8190,null,null,null,null,0,111]
[11,8311,11,8317,12,8330,null,null,null,null,0,111]
[11,8450,11,8455,12,8464,null,null,null,null,0,111]
[11,8575,11,8579,12,8587,null,null,null,null,0,111]
[22,8692,13,8701,14,8709,null,null,null,null,0,211]
[22,8816,13,8832,14,8840,null,null,null,null,0,211]
[11,8951,11,8958,12,8967,null,null,null,null,0,111]
[11,9085,11,9091,12,9103,null,null,null,null,0,111]
[22,9206,13,9219,14,9224,null,null,null,null,0,211]
[22,9335,13,9355,14,9365,null,null,null,null,0,211]
[22,9473,13,9486,14,9495,null,null,null,null,0,211]
[22,9600,13,9612,14,9617,null,null,null,null,0,211]
[22,9723,13,9735,14,9740,null,null,null,null,0,211]
[22,9849,13,9858,14,9864,null,null,null,null,0,211]
[11,9981,11,9988,12,10001,null,null,null,null,0,111]
[11,10114,11,10123,12,10132,null,null,null,null,0,111]
[11,10247,11,10252,12,10262,null,null,null,null,0,111]
[11,10375,11,10384,12,10397,null,null,null,null,0,111]
[11,10514,11,10522,12,10535,null,null,null,null,0,111]
[11,10642,11,10648,12,10656,null,null,null,null,0,111]
[22,10755,13,10770,14,10776,null,null,null,null,0,211]
[22,10878,13,10890,14,10898,null,null,null,null,0,211]
[11,11016,11,11022,12,11032,null,null,null,null,0,111]
[11,11145,11,11150,12,11159,null,null,null,null,0,111]
[11,11285,11,11296,12,11308,null,null,null,null,0,111]
[11,11420,11,11431,12,11440,null,null,null,null,0,111]
[11,11555,11,11564,12,11573,null,null,null,null,0,111]
[22,11676,13,11687,14,11693,null,null,null,null,0,211]
[11,11802,11,11810,12,11820,null,null,null,null,0,111]
[11,11928,11,11936,12,11944,null,null,null,null,0,111]
[22,12052,13,12062,14,12067,null,null,null,null,0,211]
[22,12175,13,12186,14,12195,null,null,null,null,0,211]
[11,12312,11,12322,12,12332,null,null,null,null,0,111]
[22,12437,13,12450,14,12457,null,null,null,null,0,211]
[22,12561,13,12570,14,12575,null,null,null,null,0,211]
[11,12682,11,12687,12,12696,null,null,null,null,0,111]
[11,12804,11,12812,12,12823,null,null,null,null,0,111]
[22,12928,13,12941,14,12945,null,null,null,null,0,211]
[11,13061,11,13069,12,13082,null,null,null,null,0,111]
[11,13199,11,13204,12,13214,null,null,null,null,0,111]
[22,13322,13,13335,14,13343,null,null,null,null,0,211]
[11,13461,11,13466,12,13474,null,null,null,null,0,111]
[22,13579,13,13592,14,13600,null,null,null,null,0,211]
[11,13720,11,13724,12,13735,null,null,null,null,0,111]
[11,13857,11,13866,12,13877,null,null,null,null,0,111]
[11,14000,11,14004,12,14013,null,null,null,null,0,111]
[22,14117,13,14130,14,14137,null,null,null,null,0,211]
[22,14235,13,14247,14,14255,null,null,null,null,0,211]
[11,14372,11,14377,12,14386,null,null,null,null,0,111]
[11,14503,11,14509,12,14518,null,null,null,null,0,111]
[22,14631,13,14640,14,14649,null,null,null,null,0,211]
[11,14770,11,14776,12,14787,null,null,null,null,0,111]
[22,14892,13,14905,14,14914,null,null,null,null,0,211]
[11,15034,11,15045,12,15057,null,null,null,null,0,111]
[11,15168,11,15173,12,15182,null,null,null,null,0,111]
[11,15297,11,15304,12,15311,null,null,null,null,0,111]
[11,15436,11,15446,12,15458,null,null,null,null,0,111]
[11,15576,11,15584,12,15595,null,null,null,null,0,111]
[11,15723,11,15733,12,15743,null,null,null,null,0,111]
[11,15865,11,15870,12,15879,null,null,null,null,0,111]
[22,16017,13,16026,14,16033,null,null,null,null,0,211]
[11,16161,11,16173,12,16186,null,null,null,null,0,111]
[11,16308,11,16316,12,16326,null,null,null,null,0,111]
[22,16429,13,16443,14,16452,null,null,null,null,0,211]
[22,16553,13,16564,14,16573,null,null,null,null,0,211]
[11,16699,11,16707,12,16716,null,null,null,null,0,111]
[11,16826,11,16831,12,16840,null,null,null,null,0,111]
[22,16944,13,16960,14,16968,null,null,null,null,0,211]
[11,17083,11,17087,12,17096,null,null,null,null,0,111]
[11,17218,11,17226,12,17238,null,null,null,null,0,111]
[11,17356,11,17364,12,17374,null,null,null,null,0,111]
[11,17503,11,17513,12,17525,null,null,null,null,0,111]
[11,17641,11,17646,12,17658,null,null,null,null,0,111]
[11,17777,11,17786,12,17798,null,null,null,null,0,111]
[11,17922,11,17932,12,17944,null,null,null,null,0,111]
[11,18059,11,18067,12,18076,null,null,null,null,0,111]
[11,18190,11,18200,12,18209,null,null,null,null,0,111]
[22,18314,13,18326,14,18334,null,null,null,null,0,211]
[11,18453,11,18461,12,18470,null,null,null,null,0,111]
[11,18587,11,18595,12,18605,null,null,null,null,0,111]
[11,18717,11,18724,12,18733,null,null,null,null,0,111]
[22,18841,13,18849,14,18857,null,null,null,null,0,211]
[22,18959,13,18977,14,18984,null,null,null,null,0,211]
[11,19097,11,19104,12,19116,null,null,null,null,0,111]
[22,19220,13,19232,14,19239,null,null,null,null,0,211]
[22,19341,13,19359,14,19366,null,null,null,null,0,211]
[11,19485,11,19493,12,19503,null,null,null,null,0,111]
[11,19622,11,19629,12,19642,null,null,null,null,0,111]
[22,19743,13,19759,14,19768,null,null,null,null,0,211]
[11,19894,11,19906,12,19916,null,null,null,null,0,111]
[11,20034,11,20041,12,20050,null,null,null,null,0,111]
[11,20164,11,20166,12,20176,null,null,null,null,0,111]
[11,20294,11,20303,12,20314,null,null,null,null,0,111]
[22,20422,13,20433,14,20438,null,null,null,null,0,211]
[11,20554,11,20562,12,20571,null,null,null,null,0,111]
[22,20663,24,20673,14,20686,null,null,null,null,0,221]
[11,20799,11,20805,12,20816,null,null,null,null,0,111]
[22,20923,13,20930,14,20936,null,null,null,null,0,211]
[11,21048,11,21056,12,21068,null,null,null,null,0,111]
[22,21170,13,21178,14,21185,null,null,null,null,0,211]
[22,21282,13,21294,14,21303,null,null,null,null,0,211]
[11,21424,11,21432,12,21442,null,null,null,null,0,111]
[22,21541,13,21550,14,21558,null,null,null,null,0,211]
[11,21674,11,21681,12,21690,null,null,null,null,0,111]
[11,21801,11,21810,12,21822,null,null,null,null,0,111]
[11,21935,11,21941,12,21950,null,null,null,null,0,111]
[11,22066,11,22072,12,22082,null,null,null,null,0,111]
[22,22191,13,22207,14,22216,null,null,null,null,0,211]
[11,22326,11,22337,12,22350,null,null,null,null,0,111]
[22,22456,13,22468,14,22476,null,null,null,null,0,211]
[11,22591,11,22598,12,22607,null,null,null,null,0,111]
[11,22725,11,22727,12,22737,null,null,null,null,0,111]
[11,22852,11,22860,12,22872,null,null,null,null,0,111]
[22,22979,13,22993,14,23001,null,null,null,null,0,211]
[11,23111,11,23121,12,23131,null,null,null,null,0,111]
[11,23248,11,23253,12,23263,null,null,null,null,0,111]
[11,23378,11,23386,12,23398,null,null,null,null,0,111]
[11,23515,11,23524,12,23537,null,null,null,null,0,111]
[22,23643,13,23655,14,23662,null,null,null,null,0,211]
[11,23783,11,23792,12,23801,null,null,null,null,0,111]
[11,23911,11,23921,12,23933,null,null,null,null,null,111]

{"sheet":"!MB20B50.095","index":31,"n_rows":194,"n_cols":48,"rows_kept":194,"cut":false,"hidden":false,"merged":[[4,39,4,42],[5,39,5,40],[4,44,4,47],[5,44,5,45],[4,24,4,27],[5,24,5,25],[4,29,4,32],[5,29,5,30],[4,34,4,37],[5,34,5,35],[1,1,1,2],[5,13,5,14],[18,13,18,14],[19,13,19,14],[4,19,4,22],[5,19,5,20]]}
["Report for:!MB20B50.095"]
["Date:","<date>"]
["Hen:","<hen>",null,null,null,"Correct Sequence",{"$f":"Start!J2","v":122},null,null,null,null,null,null,null,null,"Total Sequences in Data",{"$f":"4994-COUNTBLANK(L7:L5000)","v":188},null,null,null,null,"Total Sequences in Block Data",{"$f":"COUNTA(L7:L37)","v":31},null,null,null,"Total Sequences in Block Data",{"$f":"COUNTA(L38:L69)","v":32},null,null,null,"Total Sequences in Block Data",{"$f":"COUNTA(L70:L100)","v":31},null,null,null,"Total Sequences in Block Data",{"$f":"COUNTA(L101:L131)","v":31},null,null,null,"Total Sequences in Block Data",{"$f":"COUNTA(L132:L163)","v":32},null,null,null,"Total Sequences in Block Data",{"$f":"COUNTA(L164:L194)","v":31}]
[null,null,null,null,null,null,null,null,null,null,null,null,null,null,null,"Total Sequences in Summary",{"$f":"SUM(O7:O14)","v":188},null,null,null,null,"Total Sequences in Block Summary",{"$f":"SUM(U7:U14)","v":31},null,null,null,"Total Sequences in Block Summary",{"$f":"SUM(Z7:Z14)","v":32},null,null,null,"Total Sequences in Block Summary",{"$f":"SUM(AE7:AE14)","v":31},null,null,null,"Total Sequences in Block Summary",{"$f":"SUM(AJ7:AJ14)","v":31},null,null,null,"Total Sequences in Block Summary",{"$f":"SUM(AO7:AO14)","v":32},null,null,null,"Total Sequences in Block Summary",{"$f":"SUM(AT7:AT14)","v":31}]
[null,null,null,null,null,null,null,null,null,null,null,null,null,null,null,null,null,null,null,"Block 1",null,null,null,null,"Block 2",null,null,null,null,"Block 3",null,null,null,null,"Block 4",null,null,null,null,"Block 5",null,null,null,null,"Block 6"]
["Sequence\nComponent\n1","Time\n1","Sequence\nComponent\n2","Time\n2","Sequence\nComponent\n3","Time\n3","Sequence\nComponent\n4","Time\n4","Sequence\nComponent\n5","Time\n5","Correct?\n0=No 1=Yes","Sequence",null,"Frequency",null,"Relative Frequency","Variability",null,null,"Frequency",null,"Relative Frequency","Variability",null,"Frequency",null,"Relative Frequency","Variability",null,"Frequency",null,"Relative Frequency","Variability",null,"Frequency",null,"Relative Frequency","Variability",null,"Frequency",null,"Relative Frequency","Variability",null,"Frequency",null,"Relative Frequency","Variability"]
[11,28,11,35,12,46,null,null,null,null,0,111,null,111,{"$f":"COUNTIF($L$7:$L$500,N7)","v":103},{"$f":"O7/$Q$4","v":0.5478723404255319},{"$f":"IF(P7=0,0,(P7*((LOG(P7))/LOG(2))))","v":-0.475601582036836},null,null,{"$f":"N7","v":111},{"$f":"COUNTIF(L7:L37,T7)","v":15},{"$f":"U7/(W4-U10)","v":0.4838709677419355},{"$f":"IF(V7=0,0,(V7*((LOG(V7))/LOG(2))))","v":-0.50676082973146286},null,{"$f":"N7","v":111},{"$f":"COUNTIF(L38:L69,Y7)","v":17},{"$f":"Z7/(AB4-Z10)","v":0.53125},{"$f":"IF(AA7=0,0,(AA7*((LOG(AA7))/LOG(2))))","v":-0.48478536558575719},null,{"$f":"N7","v":111},{"$f":"COUNTIF(L70:L100,AD7)","v":13},{"$f":"AE7/(AG4-AE10)","v":0.41935483870967744},{"$f":"IF(AF7=0,0,(AF7*((LOG(AF7))/LOG(2))))","v":-0.52576889352242517},null,{"$f":"N7","v":111},{"$f":"COUNTIF(L101:L131,AI7)","v":22},{"$f":"AJ7/(AL4-AJ10)","v":0.70967741935483875},{"$f":"IF(AK7=0,0,(AK7*((LOG(AK7))/LOG(2))))","v":-0.35112332962873266},null,{"$f":"N7","v":111},{"$f":"COUNTIF(L132:L163,AN7)","v":22},{"$f":"AO7/(AQ4-AO10)","v":0.6875},{"$f":"IF(AP7=0,0,(AP7*((LOG(AP7))/LOG(2))))","v":-0.3716407621868581},null,{"$f":"N7","v":111},{"$f":"COUNTIF(L164:L194,AS7)","v":14},{"$f":"AT7/(AV4-AT10)","v":0.45161290322580644},{"$f":"IF(AU7=0,0,(AU7*((LOG(AU7))/LOG(2))))","v":-0.51792836892289662}]
[22,151,13,160,14,167,null,null,null,null,0,211,null,112,{"$f":"COUNTIF($L$7:$L$500,N8)","v":0},{"$f":"O8/$Q$4","v":0},{"$f":"IF(P8=0,0,(P8*((LOG(P8))/LOG(2))))","v":0},null,null,{"$f":"N8","v":112},{"$f":"COUNTIF(L7:L37,T8)","v":0},{"$f":"U8/(W4-U10)","v":0},{"$f":"IF(V8=0,0,(V8*((LOG(V8))/LOG(2))))","v":0},null,{"$f":"N8","v":112},{"$f":"COUNTIF(L38:L69,Y8)","v":0},{"$f":"Z8/(AB4-Z10)","v":0},{"$f":"IF(AA8=0,0,(AA8*((LOG(AA8))/LOG(2))))","v":0},null,{"$f":"N8","v":112},{"$f":"COUNTIF(L70:L100,AD8)","v":0},{"$f":"AE8/(AG4-AE10)","v":0},{"$f":"IF(AF8=0,0,(AF8*((LOG(AF8))/LOG(2))))","v":0},null,{"$f":"N8","v":112},{"$f":"COUNTIF(L101:L131,AI8)","v":0},{"$f":"AJ8/(AL4-AJ10)","v":0},{"$f":"IF(AK8=0,0,(AK8*((LOG(AK8))/LOG(2))))","v":0},null,{"$f":"N8","v":112},{"$f":"COUNTIF(L132:L163,AN8)","v":0},{"$f":"AO8/(AQ4-AO10)","v":0},{"$f":"IF(AP8=0,0,(AP8*((LOG(AP8))/LOG(2))))","v":0},null,{"$f":"N8","v":112},{"$f":"COUNTIF(L164:L194,AS8)","v":0},{"$f":"AT8/(AV4-AT10)","v":0},{"$f":"IF(AU8=0,0,(AU8*((LOG(AU8))/LOG(2))))","v":0}]
[22,274,13,285,14,294,null,null,null,null,0,211,null,121,{"$f":"COUNTIF($L$7:$L$500,N9)","v":0},{"$f":"O9/$Q$4","v":0},{"$f":"IF(P9=0,0,(P9*((LOG(P9))/LOG(2))))","v":0},null,null,{"$f":"N9","v":121},{"$f":"COUNTIF(L7:L37,T9)","v":0},{"$f":"U9/(W4-U10)","v":0},{"$f":"IF(V9=0,0,(V9*((LOG(V9))/LOG(2))))","v":0},null,{"$f":"N9","v":121},{"$f":"COUNTIF(L38:L69,Y9)","v":0},{"$f":"Z9/(AB4-Z10)","v":0},{"$f":"IF(AA9=0,0,(AA9*((LOG(AA9))/LOG(2))))","v":0},null,{"$f":"N9","v":121},{"$f":"COUNTIF(L70:L100,AD9)","v":0},{"$f":"AE9/(AG4-AE10)","v":0},{"$f":"IF(AF9=0,0,(AF9*((LOG(AF9))/LOG(2))))","v":0},null,{"$f":"N9","v":121},{"$f":"COUNTIF(L101:L131,AI9)","v":0},{"$f":"AJ9/(AL4-AJ10)","v":0},{"$f":"IF(AK9=0,0,(AK9*((LOG(AK9))/LOG(2))))","v":0},null,{"$f":"N9","v":121},{"$f":"COUNTIF(L132:L163,AN9)","v":0},{"$f":"AO9/(AQ4-AO10)","v":0},{"$f":"IF(AP9=0,0,(AP9*((LOG(AP9))/LOG(2))))","v":0},null,{"$f":"N9","v":121},{"$f":"COUNTIF(L164:L194,AS9)","v":0},{"$f":"AT9/(AV4-AT10)","v":0},{"$f":"IF(AU9=0,0,(AU9*((LOG(AU9))/LOG(2))))","v":0}]
[11,410,11,415,12,427,null,null,null,null,0,111,null,122,{"$f":"COUNTIF($L$7:$L$500,N10)","v":0},{"$f":"O10/$Q$4","v":0},{"$f":"IF(P10=0,0,(P10*((LOG(P10))/LOG(2))))","v":0},null,null,{"$f":"N10","v":122},{"$f":"COUNTIF(L7:L37,T10)","v":0},null,null,null,{"$f":"N10","v":122},{"$f":"COUNTIF(L38:L69,Y10)","v":0},null,null,null,{"$f":"N10","v":122},{"$f":"COUNTIF(L70:L100,AD10)","v":0},null,null,null,{"$f":"N10","v":122},{"$f":"COUNTIF(L101:L131,AI10)","v":0},null,null,null,{"$f":"N10","v":122},{"$f":"COUNTIF(L132:L163,AN10)","v":0},null,null,null,{"$f":"N10","v":122},{"$f":"COUNTIF(L164:L194,AS10)","v":0}]
[22,525,13,537,14,549,null,null,null,null,0,211,null,211,{"$f":"COUNTIF($L$7:$L$500,N11)","v":85},{"$f":"O11/$Q$4","v":0.4521276595744681},{"$f":"IF(P11=0,0,(P11*((LOG(P11))/LOG(2))))","v":-0.51777565330263053},null,null,{"$f":"N11","v":211},{"$f":"COUNTIF(L7:L37,T11)","v":16},{"$f":"U11/(W4-U10)","v":0.5161290322580645},{"$f":"IF(V11=0,0,(V11*((LOG(V11))/LOG(2))))","v":-0.49248841826419365},null,{"$f":"N11","v":211},{"$f":"COUNTIF(L38:L69,Y11)","v":15},{"$f":"Z11/(AB4-Z10)","v":0.46875},{"$f":"IF(AA11=0,0,(AA11*((LOG(AA11))/LOG(2))))","v":-0.512395033308507},null,{"$f":"N11","v":211},{"$f":"COUNTIF(L70:L100,AD11)","v":18},{"$f":"AE11/(AG4-AE10)","v":0.58064516129032262},{"$f":"IF(AF11=0,0,(AF11*((LOG(AF11))/LOG(2))))","v":-0.45538334067748809},null,{"$f":"N11","v":211},{"$f":"COUNTIF(L101:L131,AI11)","v":9},{"$f":"AJ11/(AL4-AJ10)","v":0.29032258064516131},{"$f":"IF(AK11=0,0,(AK11*((LOG(AK11))/LOG(2))))","v":-0.5180142509839053},null,{"$f":"N11","v":211},{"$f":"COUNTIF(L132:L163,AN11)","v":10},{"$f":"AO11/(AQ4-AO10)","v":0.3125},{"$f":"IF(AP11=0,0,(AP11*((LOG(AP11))/LOG(2))))","v":-0.52439747034769923},null,{"$f":"N11","v":211},{"$f":"COUNTIF(L164:L194,AS11)","v":17},{"$f":"AT11/(AV4-AT10)","v":0.54838709677419351},{"$f":"IF(AU11=0,0,(AU11*((LOG(AU11))/LOG(2))))","v":-0.47530545081681003}]
[22,653,13,667,14,674,null,null,null,null,0,211,null,212,{"$f":"COUNTIF($L$7:$L$500,N12)","v":0},{"$f":"O12/$Q$4","v":0},{"$f":"IF(P12=0,0,(P12*((LOG(P12))/LOG(2))))","v":0},null,null,{"$f":"N12","v":212},{"$f":"COUNTIF(L7:L37,T12)","v":0},{"$f":"U12/(W4-U10)","v":0},{"$f":"IF(V12=0,0,(V12*((LOG(V12))/LOG(2))))","v":0},null,{"$f":"N12","v":212},{"$f":"COUNTIF(L38:L69,Y12)","v":0},{"$f":"Z12/(AB4-Z10)","v":0},{"$f":"IF(AA12=0,0,(AA12*((LOG(AA12))/LOG(2))))","v":0},null,{"$f":"N12","v":212},{"$f":"COUNTIF(L70:L100,AD12)","v":0},{"$f":"AE12/(AG4-AE10)","v":0},{"$f":"IF(AF12=0,0,(AF12*((LOG(AF12))/LOG(2))))","v":0},null,{"$f":"N12","v":212},{"$f":"COUNTIF(L101:L131,AI12)","v":0},{"$f":"AJ12/(AL4-AJ10)","v":0},{"$f":"IF(AK12=0,0,(AK12*((LOG(AK12))/LOG(2))))","v":0},null,{"$f":"N12","v":212},{"$f":"COUNTIF(L132:L163,AN12)","v":0},{"$f":"AO12/(AQ4-AO10)","v":0},{"$f":"IF(AP12=0,0,(AP12*((LOG(AP12))/LOG(2))))","v":0},null,{"$f":"N12","v":212},{"$f":"COUNTIF(L164:L194,AS12)","v":0},{"$f":"AT12/(AV4-AT10)","v":0},{"$f":"IF(AU12=0,0,(AU12*((LOG(AU12))/LOG(2))))","v":0}]
[11,787,11,795,12,805,null,null,null,null,0,111,null,221,{"$f":"COUNTIF($L$7:$L$500,N13)","v":0},{"$f":"O13/$Q$4","v":0},{"$f":"IF(P13=0,0,(P13*((LOG(P13))/LOG(2))))","v":0},null,null,{"$f":"N13","v":221},{"$f":"COUNTIF(L7:L37,T13)","v":0},{"$f":"U13/(W4-U10)","v":0},{"$f":"IF(V13=0,0,(V13*((LOG(V13))/LOG(2))))","v":0},null,{"$f":"N13","v":221},{"$f":"COUNTIF(L38:L69,Y13)","v":0},{"$f":"Z13/(AB4-Z10)","v":0},{"$f":"IF(AA13=0,0,(AA13*((LOG(AA13))/LOG(2))))","v":0},null,{"$f":"N13","v":221},{"$f":"COUNTIF(L70:L100,AD13)","v":0},{"$f":"AE13/(AG4-AE10)","v":0},{"$f":"IF(AF13=0,0,(AF13*((LOG(AF13))/LOG(2))))","v":0},null,{"$f":"N13","v":221},{"$f":"COUNTIF(L101:L131,AI13)","v":0},{"$f":"AJ13/(AL4-AJ10)","v":0},{"$f":"IF(AK13=0,0,(AK13*((LOG(AK13))/LOG(2))))","v":0},null,{"$f":"N13","v":221},{"$f":"COUNTIF(L132:L163,AN13)","v":0},{"$f":"AO13/(AQ4-AO10)","v":0},{"$f":"IF(AP13=0,0,(AP13*((LOG(AP13))/LOG(2))))","v":0},null,{"$f":"N13","v":221},{"$f":"COUNTIF(L164:L194,AS13)","v":0},{"$f":"AT13/(AV4-AT10)","v":0},{"$f":"IF(AU13=0,0,(AU13*((LOG(AU13))/LOG(2))))","v":0}]
[11,918,11,924,12,936,null,null,null,null,0,111,null,222,{"$f":"COUNTIF($L$7:$L$500,N14)","v":0},{"$f":"O14/$Q$4","v":0},{"$f":"IF(P14=0,0,(P14*((LOG(P14))/LOG(2))))","v":0},null,null,{"$f":"N14","v":222},{"$f":"COUNTIF(L7:L37,T14)","v":0},{"$f":"U14/(W4-U10)","v":0},{"$f":"IF(V14=0,0,(V14*((LOG(V14))/LOG(2))))","v":0},null,{"$f":"N14","v":222},{"$f":"COUNTIF(L38:L69,Y14)","v":0},{"$f":"Z14/(AB4-Z10)","v":0},{"$f":"IF(AA14=0,0,(AA14*((LOG(AA14))/LOG(2))))","v":0},null,{"$f":"N14","v":222},{"$f":"COUNTIF(L70:L100,AD14)","v":0},{"$f":"AE14/(AG4-AE10)","v":0},{"$f":"IF(AF14=0,0,(AF14*((LOG(AF14))/LOG(2))))","v":0},null,{"$f":"N14","v":222},{"$f":"COUNTIF(L101:L131,AI14)","v":0},{"$f":"AJ14/(AL4-AJ10)","v":0},{"$f":"IF(AK14=0,0,(AK14*((LOG(AK14))/LOG(2))))","v":0},null,{"$f":"N14","v":222},{"$f":"COUNTIF(L132:L163,AN14)","v":0},{"$f":"AO14/(AQ4-AO10)","v":0},{"$f":"IF(AP14=0,0,(AP14*((LOG(AP14))/LOG(2))))","v":0},null,{"$f":"N14","v":222},{"$f":"COUNTIF(L164:L194,AS14)","v":0},{"$f":"AT14/(AV4-AT10)","v":0},{"$f":"IF(AU14=0,0,(AU14*((LOG(AU14))/LOG(2))))","v":0}]
[22,1037,13,1050,14,1057,null,null,null,null,0,211,null,null,null,{"$f":"SUM(P7:P14)","v":1},{"$f":"-SUM(Q7:Q14)","v":0.99337723533946654},null,null,null,null,{"$f":"SUM(V7:V14)","v":1},{"$f":"-SUM(W7:W14)","v":0.99924924799565651},null,null,null,{"$f":"SUM(AA7:AA14)","v":1},{"$f":"-SUM(AB7:AB14)","v":0.99718039889426424},null,null,null,{"$f":"SUM(AF7:AF14)","v":1},{"$f":"-SUM(AG7:AG14)","v":0.98115223419991326},null,null,null,{"$f":"SUM(AK7:AK14)","v":1},{"$f":"-SUM(AL7:AL14)","v":0.86913758061263802},null,null,null,{"$f":"SUM(AP7:AP14)","v":1},{"$f":"-SUM(AQ7:AQ14)","v":0.89603823253455728},null,null,null,{"$f":"SUM(AU7:AU14)","v":1},{"$f":"-SUM(AV7:AV14)","v":0.99323381973970659}]
[11,1164,11,1169,12,1180,null,null,null,null,0,111,null,null,null,"U=",{"$f":"Q15/(LOG(Q4)/LOG(2))","v":0.13149322284016404},null,null,null,null,"U1=",{"$f":"W15/(LOG(W4)/LOG(2))","v":0.20169754797577344},null,null,null,"U2=",{"$f":"AB15/(LOG(AB4)/LOG(2))","v":0.19943607977885286},null,null,null,"U3=",{"$f":"AG15/(LOG(AG4)/LOG(2))","v":0.198044682271239},null,null,null,"U4=",{"$f":"AL15/(LOG(AL4)/LOG(2))","v":0.17543462676083718},null,null,null,"U5=",{"$f":"AQ15/(LOG(AQ4)/LOG(2))","v":0.17920764650691146},null,null,null,"U6=",{"$f":"AV15/(LOG(AV4)/LOG(2))","v":0.20048333927690981}]
[22,1278,13,1292,14,1300,null,null,null,null,0,211]
[11,1417,11,1423,12,1434,null,null,null,null,0,111]
[22,1545,13,1560,14,1565,null,null,null,null,0,211,null,"Total Target Seq"]
[11,1681,11,1689,12,1701,null,null,null,null,0,111,null,{"$f":"COUNTIF(L7:L194,G3)","v":0},null,31,32,31,31,32,31]
[22,1806,13,1822,14,1831,null,null,null,null,0,211,null,null,null,"% of reinforcement given in 6 equal intervals based on number of trials "]
[11,1938,11,1942,12,1951,null,null,null,null,0,111,null,null,null,"%_1","%_2","%_3","%_4","%_5","%_6"]
[11,2066,11,2074,12,2085,null,null,null,null,0,111,null,null,"target sequence",{"$f":"$G$3","v":122},{"$f":"$G$3","v":122},{"$f":"$G$3","v":122},{"$f":"$G$3","v":122},{"$f":"$G$3","v":122},{"$f":"$G$3","v":122}]
[11,2196,11,2201,12,2212,null,null,null,null,0,111,null,null,"total reinforcement",{"$f":"U10","v":0},{"$f":"Z10","v":0},{"$f":"AE10","v":0},{"$f":"AJ10","v":0},{"$f":"AO10","v":0},{"$f":"AT10","v":0}]
[22,2315,13,2331,14,2340,null,null,null,null,0,211,null,null,"% target"]
[11,2446,11,2451,12,2463,null,null,null,null,0,111,null,null,"CCRF"]
[11,2584,11,2590,12,2603,null,null,null,null,0,111,null,null,"% CCRf"]
[11,2720,11,2729,12,2739,null,null,null,null,0,111,null,null,"average response rate",{"$f":"F37/P20","v":124.90322580645162},{"$f":"(F69-F37)/Q20","v":128.5625},{"$f":"(F100-F69)/R20","v":129.25806451612902},{"$f":"(F131-F100)/S20","v":128.54838709677421},{"$f":"(F163-F131)/T20","v":125.1875},{"$f":"(F194-F163)/U20","v":126.54838709677419}]
[22,2841,13,2854,14,2859,null,null,null,null,0,211]
[22,2965,13,2979,14,2988,null,null,null,null,0,211]
[22,3095,13,3106,14,3111,null,null,null,null,0,211]
[11,3225,11,3231,12,3245,null,null,null,null,0,111]
[22,3348,13,3360,14,3365,null,null,null,null,0,211]
[22,3470,13,3478,14,3487,null,null,null,null,0,211]
[22,3587,13,3603,14,3609,null,null,null,null,0,211]
[11,3728,11,3737,12,3750,null,null,null,null,0,111]
[22,3854,13,3864,14,3872,null,null,null,null,0,211]
[11,3984,11,3988,12,4000,null,null,null,null,0,111]
[11,4111,11,4119,12,4128,null,null,null,null,0,111]
[22,4232,13,4243,14,4248,null,null,null,null,0,211]
[22,4352,13,4365,14,4371,null,null,null,null,0,211]
[11,4490,11,4498,12,4508,null,null,null,null,0,111]
[11,4630,11,4638,12,4650,null,null,null,null,0,111]
[22,4760,13,4770,14,4777,null,null,null,null,0,211]
[22,4873,13,4889,14,4897,null,null,null,null,0,211]
[22,5003,13,5012,14,5017,null,null,null,null,0,211]
[11,5132,11,5139,12,5150,null,null,null,null,0,111]
[22,5257,13,5268,14,5273,null,null,null,null,0,211]
[22,5378,13,5386,14,5394,null,null,null,null,0,211]
[22,5496,13,5504,14,5514,null,null,null,null,0,211]
[11,5623,11,5632,12,5644,null,null,null,null,0,111]
[11,5758,11,5765,12,5775,null,null,null,null,0,111]
[11,5891,11,5896,12,5908,null,null,null,null,0,111]
[22,6020,13,6029,14,6036,null,null,null,null,0,211]
[22,6135,13,6147,14,6153,null,null,null,null,0,211]
[11,6270,11,6276,12,6289,null,null,null,null,0,111]
[11,6405,11,6414,12,6423,null,null,null,null,0,111]
[22,6530,13,6543,14,6548,null,null,null,null,0,211]
[11,6656,11,6664,12,6675,null,null,null,null,0,111]
[11,6788,11,6797,12,6807,null,null,null,null,0,111]
[11,6935,11,6941,12,6951,null,null,null,null,0,111]
[11,7066,11,7072,12,7082,null,null,null,null,0,111]
[11,7203,11,7209,12,7219,null,null,null,null,0,111]
[22,7333,13,7344,14,7349,null,null,null,null,0,211]
[11,7471,11,7477,12,7488,null,null,null,null,0,111]
[22,7593,13,7603,14,7609,null,null,null,null,0,211]
[22,7715,13,7730,14,7739,null,null,null,null,0,211]
[11,7846,11,7854,12,7866,null,null,null,null,0,111]
[22,7968,13,7978,14,7986,null,null,null,null,0,211]
[11,8095,11,8103,12,8112,null,null,null,null,0,111]
[11,8231,11,8236,12,8247,null,null,null,null,0,111]
[11,8377,11,8389,12,8398,null,null,null,null,0,111]
[11,8523,11,8531,12,8542,null,null,null,null,0,111]
[22,8647,13,8659,14,8667,null,null,null,null,0,211]
[22,8774,13,8785,14,8791,null,null,null,null,0,211]
[11,8912,11,8919,12,8930,null,null,null,null,0,111]
[22,9042,13,9053,14,9060,null,null,null,null,0,211]
[22,9162,13,9179,14,9189,null,null,null,null,0,211]
[22,9299,13,9308,14,9316,null,null,null,null,0,211]
[11,9430,11,9436,12,9448,null,null,null,null,0,111]
[11,9559,11,9569,12,9578,null,null,null,null,0,111]
[22,9687,13,9699,14,9705,null,null,null,null,0,211]
[22,9810,13,9822,14,9827,null,null,null,null,0,211]
[11,9934,11,9938,12,9947,null,null,null,null,0,111]
[11,10067,11,10075,12,10085,null,null,null,null,0,111]
[22,10196,13,10208,14,10215,null,null,null,null,0,211]
[11,10333,11,10341,12,10353,null,null,null,null,0,111]
[22,10464,13,10472,14,10477,null,null,null,null,0,211]
[22,10585,13,10593,14,10601,null,null,null,null,0,211]
[22,10711,13,10719,14,10724,null,null,null,null,0,211]
[22,10828,13,10840,14,10845,null,null,null,null,0,211]
[22,10941,13,10957,14,10963,null,null,null,null,0,211]
[22,11075,13,11082,14,11088,null,null,null,null,0,211]
[22,11196,13,11212,14,11221,null,null,null,null,0,211]
[11,11338,11,11343,12,11355,null,null,null,null,0,111]
[22,11459,13,11472,14,11480,null,null,null,null,0,211]
[22,11586,13,11598,14,11606,null,null,null,null,0,211]
[22,11708,13,11719,14,11724,null,null,null,null,0,211]
[11,11837,11,11844,12,11858,null,null,null,null,0,111]
[11,11971,11,11982,12,11993,null,null,null,null,0,111]
[11,12107,11,12112,12,12122,null,null,null,null,0,111]
[11,12236,11,12243,12,12252,null,null,null,null,0,111]
[22,12357,13,12368,14,12376,null,null,null,null,0,211]
[11,12483,11,12488,12,12500,null,null,null,null,0,111]
[11,12613,11,12619,12,12630,null,null,null,null,0,111]
[11,12745,11,12756,12,12768,null,null,null,null,0,111]
[11,12880,11,12885,12,12897,null,null,null,null,0,111]
[22,13002,13,13014,14,13019,null,null,null,null,0,211]
[22,13125,13,13137,14,13146,null,null,null,null,0,211]
[11,13259,11,13265,12,13275,null,null,null,null,0,111]
[22,13374,13,13386,14,13394,null,null,null,null,0,211]
[11,13508,11,13517,12,13529,null,null,null,null,0,111]
[11,13646,11,13652,12,13664,null,null,null,null,0,111]
[11,13771,11,13780,12,13789,null,null,null,null,0,111]
[22,13895,13,13912,14,13918,null,null,null,null,0,211]
[11,14048,11,14056,12,14067,null,null,null,null,0,111]
[22,14171,13,14183,14,14188,null,null,null,null,0,211]
[22,14292,13,14304,14,14312,null,null,null,null,0,211]
[22,14410,13,14422,14,14429,null,null,null,null,0,211]
[11,14551,11,14563,12,14575,null,null,null,null,0,111]
[11,14673,11,14680,12,14688,null,null,null,null,0,111]
[11,14802,11,14810,12,14822,null,null,null,null,0,111]
[11,14929,11,14934,12,14945,null,null,null,null,0,111]
[11,15057,11,15063,12,15073,null,null,null,null,0,111]
[11,15187,11,15193,12,15204,null,null,null,null,0,111]
[11,15321,11,15328,12,15339,null,null,null,null,0,111]
[11,15454,11,15462,12,15472,null,null,null,null,0,111]
[22,15573,13,15586,14,15594,null,null,null,null,0,211]
[11,15706,11,15711,12,15721,null,null,null,null,0,111]
[11,15833,11,15838,12,15847,null,null,null,null,0,111]
[11,15959,11,15966,12,15978,null,null,null,null,0,111]
[11,16087,11,16092,12,16101,null,null,null,null,0,111]
[11,16210,11,16215,12,16222,null,null,null,null,0,111]
[11,16340,11,16347,12,16357,null,null,null,null,0,111]
[11,16469,11,16477,12,16486,null,null,null,null,0,111]
[22,16579,13,16595,14,16601,null,null,null,null,0,211]
[11,16714,11,16719,12,16731,null,null,null,null,0,111]
[11,16842,11,16847,12,16856,null,null,null,null,0,111]
[11,16965,11,16970,12,16982,null,null,null,null,0,111]
[11,17092,11,17099,12,17108,null,null,null,null,0,111]
[22,17210,13,17220,14,17229,null,null,null,null,0,211]
[22,17330,13,17338,14,17343,null,null,null,null,0,211]
[11,17454,11,17459,12,17472,null,null,null,null,0,111]
[11,17585,11,17591,12,17600,null,null,null,null,0,111]
[11,17709,11,17713,12,17722,null,null,null,null,0,111]
[22,17827,13,17846,14,17854,null,null,null,null,0,211]
[11,17980,11,17988,12,18001,null,null,null,null,0,111]
[22,18097,13,18111,14,18115,null,null,null,null,0,211]
[22,18221,13,18231,14,18236,null,null,null,null,0,211]
[11,18342,11,18347,12,18355,null,null,null,null,0,111]
[11,18468,11,18474,12,18484,null,null,null,null,0,111]
[22,18587,13,18599,14,18604,null,null,null,null,0,211]
[11,18714,11,18721,12,18732,null,null,null,null,0,111]
[11,18849,11,18854,12,18863,null,null,null,null,0,111]
[11,18969,11,18974,12,18986,null,null,null,null,0,111]
[22,19087,13,19095,14,19102,null,null,null,null,0,211]
[11,19216,11,19221,12,19231,null,null,null,null,0,111]
[11,19343,11,19352,12,19363,null,null,null,null,0,111]
[11,19484,11,19490,12,19500,null,null,null,null,0,111]
[11,19607,11,19614,12,19623,null,null,null,null,0,111]
[22,19718,13,19731,14,19738,null,null,null,null,0,211]
[22,19836,13,19848,14,19856,null,null,null,null,0,211]
[11,19966,11,19972,12,19984,null,null,null,null,0,111]
[22,20082,13,20093,14,20102,null,null,null,null,0,211]
[22,20198,13,20209,14,20214,null,null,null,null,0,211]
[22,20318,13,20330,14,20337,null,null,null,null,0,211]
[11,20454,11,20462,12,20473,null,null,null,null,0,111]
[22,20573,13,20586,14,20591,null,null,null,null,0,211]
[22,20709,13,20718,14,20723,null,null,null,null,0,211]
[11,20843,11,20852,12,20861,null,null,null,null,0,111]
[22,20964,13,20980,14,20991,null,null,null,null,0,211]
[22,21090,13,21103,14,21111,null,null,null,null,0,211]
[11,21221,11,21229,12,21239,null,null,null,null,0,111]
[11,21352,11,21360,12,21372,null,null,null,null,0,111]
[22,21475,13,21494,14,21503,null,null,null,null,0,211]
[22,21604,13,21615,14,21620,null,null,null,null,0,211]
[11,21734,11,21741,12,21753,null,null,null,null,0,111]
[11,21869,11,21874,12,21887,null,null,null,null,0,111]
[22,21988,13,22000,14,22006,null,null,null,null,0,211]
[11,22123,11,22128,12,22138,null,null,null,null,0,111]
[22,22234,13,22252,14,22259,null,null,null,null,0,211]
[22,22359,13,22371,14,22376,null,null,null,null,0,211]
[11,22484,11,22489,12,22501,null,null,null,null,0,111]
[22,22601,13,22614,14,22623,null,null,null,null,0,211]
[11,22732,11,22737,12,22745,null,null,null,null,0,111]
[11,22867,11,22874,12,22883,null,null,null,null,0,111]
[22,22985,13,22996,14,23003,null,null,null,null,0,211]
[11,23127,11,23136,12,23145,null,null,null,null,0,111]
[11,23261,11,23267,12,23278,null,null,null,null,0,111]
[22,23380,13,23392,14,23397,null,null,null,null,0,211]
[22,23500,13,23510,14,23518,null,null,null,null,0,211]
[11,23635,11,23640,12,23653,null,null,null,null,0,111]
[11,23762,11,23771,12,23780,null,null,null,null,0,111]
[22,23890,13,23902,14,23907,null,null,null,null,0,211]

{"sheet":"!MB21900.095","index":32,"n_rows":195,"n_cols":48,"rows_kept":195,"cut":false,"hidden":false,"merged":[[4,39,4,42],[5,39,5,40],[4,44,4,47],[5,44,5,45],[4,24,4,27],[5,24,5,25],[4,29,4,32],[5,29,5,30],[4,34,4,37],[5,34,5,35],[1,1,1,2],[5,13,5,14],[18,13,18,14],[19,13,19,14],[4,19,4,22],[5,19,5,20]]}
["Report for:!MB21900.095"]
["Date:","<date>"]
["Hen:","<hen>",null,null,null,"Correct Sequence",{"$f":"Start!J2","v":122},null,null,null,null,null,null,null,null,"Total Sequences in Data",{"$f":"4994-COUNTBLANK(L7:L5000)","v":189},null,null,null,null,"Total Sequences in Block Data",{"$f":"COUNTA(L7:L38)","v":32},null,null,null,"Total Sequences in Block Data",{"$f":"COUNTA(L39:L69)","v":31},null,null,null,"Total Sequences in Block Data",{"$f":"COUNTA(L70:L101)","v":32},null,null,null,"Total Sequences in Block Data",{"$f":"COUNTA(L102:L132)","v":31},null,null,null,"Total Sequences in Block Data",{"$f":"COUNTA(L133:L164)","v":32},null,null,null,"Total Sequences in Block Data",{"$f":"COUNTA(L165:L195)","v":31}]
[null,null,null,null,null,null,null,null,null,null,null,null,null,null,null,"Total Sequences in Summary",{"$f":"SUM(O7:O14)","v":189},null,null,null,null,"Total Sequences in Block Summary",{"$f":"SUM(U7:U14)","v":32},null,null,null,"Total Sequences in Block Summary",{"$f":"SUM(Z7:Z14)","v":31},null,null,null,"Total Sequences in Block Summary",{"$f":"SUM(AE7:AE14)","v":32},null,null,null,"Total Sequences in Block Summary",{"$f":"SUM(AJ7:AJ14)","v":31},null,null,null,"Total Sequences in Block Summary",{"$f":"SUM(AO7:AO14)","v":32},null,null,null,"Total Sequences in Block Summary",{"$f":"SUM(AT7:AT14)","v":31}]
[null,null,null,null,null,null,null,null,null,null,null,null,null,null,null,null,null,null,null,"Block 1",null,null,null,null,"Block 2",null,null,null,null,"Block 3",null,null,null,null,"Block 4",null,null,null,null,"Block 5",null,null,null,null,"Block 6"]
["Sequence\nComponent\n1","Time\n1","Sequence\nComponent\n2","Time\n2","Sequence\nComponent\n3","Time\n3","Sequence\nComponent\n4","Time\n4","Sequence\nComponent\n5","Time\n5","Correct?\n0=No 1=Yes","Sequence",null,"Frequency",null,"Relative Frequency","Variability",null,null,"Frequency",null,"Relative Frequency","Variability",null,"Frequency",null,"Relative Frequency","Variability",null,"Frequency",null,"Relative Frequency","Variability",null,"Frequency",null,"Relative Frequency","Variability",null,"Frequency",null,"Relative Frequency","Variability",null,"Frequency",null,"Relative Frequency","Variability"]
[22,13,13,42,14,50,null,null,null,null,0,211,null,111,{"$f":"COUNTIF($L$7:$L$500,N7)","v":102},{"$f":"O7/$Q$4","v":0.53968253968253965},{"$f":"IF(P7=0,0,(P7*((LOG(P7))/LOG(2))))","v":-0.48021874280135907},null,null,{"$f":"N7","v":111},{"$f":"COUNTIF(L7:L38,T7)","v":13},{"$f":"U7/(W4-U10)","v":0.40625},{"$f":"IF(V7=0,0,(V7*((LOG(V7))/LOG(2))))","v":-0.52794636450518129},null,{"$f":"N7","v":111},{"$f":"COUNTIF(L39:L69,Y7)","v":22},{"$f":"Z7/(AB4-Z10)","v":0.70967741935483875},{"$f":"IF(AA7=0,0,(AA7*((LOG(AA7))/LOG(2))))","v":-0.35112332962873266},null,{"$f":"N7","v":111},{"$f":"COUNTIF(L70:L101,AD7)","v":20},{"$f":"AE7/(AG4-AE10)","v":0.625},{"$f":"IF(AF7=0,0,(AF7*((LOG(AF7))/LOG(2))))","v":-0.42379494069539858},null,{"$f":"N7","v":111},{"$f":"COUNTIF(L102:L132,AI7)","v":13},{"$f":"AJ7/(AL4-AJ10)","v":0.41935483870967744},{"$f":"IF(AK7=0,0,(AK7*((LOG(AK7))/LOG(2))))","v":-0.52576889352242517},null,{"$f":"N7","v":111},{"$f":"COUNTIF(L133:L164,AN7)","v":18},{"$f":"AO7/(AQ4-AO10)","v":0.5625},{"$f":"IF(AP7=0,0,(AP7*((LOG(AP7))/LOG(2))))","v":-0.4669171866886993},null,{"$f":"N7","v":111},{"$f":"COUNTIF(L165:L195,AS7)","v":16},{"$f":"AT7/(AV4-AT10)","v":0.5161290322580645},{"$f":"IF(AU7=0,0,(AU7*((LOG(AU7))/LOG(2))))","v":-0.49248841826419365}]
[22,154,13,169,14,178,null,null,null,null,0,211,null,112,{"$f":"COUNTIF($L$7:$L$500,N8)","v":0},{"$f":"O8/$Q$4","v":0},{"$f":"IF(P8=0,0,(P8*((LOG(P8))/LOG(2))))","v":0},null,null,{"$f":"N8","v":112},{"$f":"COUNTIF(L7:L38,T8)","v":0},{"$f":"U8/(W4-U10)","v":0},{"$f":"IF(V8=0,0,(V8*((LOG(V8))/LOG(2))))","v":0},null,{"$f":"N8","v":112},{"$f":"COUNTIF(L39:L69,Y8)","v":0},{"$f":"Z8/(AB4-Z10)","v":0},{"$f":"IF(AA8=0,0,(AA8*((LOG(AA8))/LOG(2))))","v":0},null,{"$f":"N8","v":112},{"$f":"COUNTIF(L70:L101,AD8)","v":0},{"$f":"AE8/(AG4-AE10)","v":0},{"$f":"IF(AF8=0,0,(AF8*((LOG(AF8))/LOG(2))))","v":0},null,{"$f":"N8","v":112},{"$f":"COUNTIF(L102:L132,AI8)","v":0},{"$f":"AJ8/(AL4-AJ10)","v":0},{"$f":"IF(AK8=0,0,(AK8*((LOG(AK8))/LOG(2))))","v":0},null,{"$f":"N8","v":112},{"$f":"COUNTIF(L133:L164,AN8)","v":0},{"$f":"AO8/(AQ4-AO10)","v":0},{"$f":"IF(AP8=0,0,(AP8*((LOG(AP8))/LOG(2))))","v":0},null,{"$f":"N8","v":112},{"$f":"COUNTIF(L165:L195,AS8)","v":0},{"$f":"AT8/(AV4-AT10)","v":0},{"$f":"IF(AU8=0,0,(AU8*((LOG(AU8))/LOG(2))))","v":0}]
[11,306,11,316,12,329,null,null,null,null,0,111,null,121,{"$f":"COUNTIF($L$7:$L$500,N9)","v":0},{"$f":"O9/$Q$4","v":0},{"$f":"IF(P9=0,0,(P9*((LOG(P9))/LOG(2))))","v":0},null,null,{"$f":"N9","v":121},{"$f":"COUNTIF(L7:L38,T9)","v":0},{"$f":"U9/(W4-U10)","v":0},{"$f":"IF(V9=0,0,(V9*((LOG(V9))/LOG(2))))","v":0},null,{"$f":"N9","v":121},{"$f":"COUNTIF(L39:L69,Y9)","v":0},{"$f":"Z9/(AB4-Z10)","v":0},{"$f":"IF(AA9=0,0,(AA9*((LOG(AA9))/LOG(2))))","v":0},null,{"$f":"N9","v":121},{"$f":"COUNTIF(L70:L101,AD9)","v":0},{"$f":"AE9/(AG4-AE10)","v":0},{"$f":"IF(AF9=0,0,(AF9*((LOG(AF9))/LOG(2))))","v":0},null,{"$f":"N9","v":121},{"$f":"COUNTIF(L102:L132,AI9)","v":0},{"$f":"AJ9/(AL4-AJ10)","v":0},{"$f":"IF(AK9=0,0,(AK9*((LOG(AK9))/LOG(2))))","v":0},null,{"$f":"N9","v":121},{"$f":"COUNTIF(L133:L164,AN9)","v":0},{"$f":"AO9/(AQ4-AO10)","v":0},{"$f":"IF(AP9=0,0,(AP9*((LOG(AP9))/LOG(2))))","v":0},null,{"$f":"N9","v":121},{"$f":"COUNTIF(L165:L195,AS9)","v":0},{"$f":"AT9/(AV4-AT10)","v":0},{"$f":"IF(AU9=0,0,(AU9*((LOG(AU9))/LOG(2))))","v":0}]
[22,436,13,447,14,454,null,null,null,null,0,211,null,122,{"$f":"COUNTIF($L$7:$L$500,N10)","v":0},{"$f":"O10/$Q$4","v":0},{"$f":"IF(P10=0,0,(P10*((LOG(P10))/LOG(2))))","v":0},null,null,{"$f":"N10","v":122},{"$f":"COUNTIF(L7:L38,T10)","v":0},null,null,null,{"$f":"N10","v":122},{"$f":"COUNTIF(L39:L69,Y10)","v":0},null,null,null,{"$f":"N10","v":122},{"$f":"COUNTIF(L70:L101,AD10)","v":0},null,null,null,{"$f":"N10","v":122},{"$f":"COUNTIF(L102:L132,AI10)","v":0},null,null,null,{"$f":"N10","v":122},{"$f":"COUNTIF(L133:L164,AN10)","v":0},null,null,null,{"$f":"N10","v":122},{"$f":"COUNTIF(L165:L195,AS10)","v":0}]
[11,575,11,580,12,593,null,null,null,null,0,111,null,211,{"$f":"COUNTIF($L$7:$L$500,N11)","v":86},{"$f":"O11/$Q$4","v":0.455026455026455},{"$f":"IF(P11=0,0,(P11*((LOG(P11))/LOG(2))))","v":-0.51689989195043295},null,null,{"$f":"N11","v":211},{"$f":"COUNTIF(L7:L38,T11)","v":19},{"$f":"U11/(W4-U10)","v":0.59375},{"$f":"IF(V11=0,0,(V11*((LOG(V11))/LOG(2))))","v":-0.44654303889287106},null,{"$f":"N11","v":211},{"$f":"COUNTIF(L39:L69,Y11)","v":9},{"$f":"Z11/(AB4-Z10)","v":0.29032258064516131},{"$f":"IF(AA11=0,0,(AA11*((LOG(AA11))/LOG(2))))","v":-0.5180142509839053},null,{"$f":"N11","v":211},{"$f":"COUNTIF(L70:L101,AD11)","v":12},{"$f":"AE11/(AG4-AE10)","v":0.375},{"$f":"IF(AF11=0,0,(AF11*((LOG(AF11))/LOG(2))))","v":-0.53063906222956647},null,{"$f":"N11","v":211},{"$f":"COUNTIF(L102:L132,AI11)","v":17},{"$f":"AJ11/(AL4-AJ10)","v":0.54838709677419351},{"$f":"IF(AK11=0,0,(AK11*((LOG(AK11))/LOG(2))))","v":-0.47530545081681003},null,{"$f":"N11","v":211},{"$f":"COUNTIF(L133:L164,AN11)","v":14},{"$f":"AO11/(AQ4-AO10)","v":0.4375},{"$f":"IF(AP11=0,0,(AP11*((LOG(AP11))/LOG(2))))","v":-0.52178222159979815},null,{"$f":"N11","v":211},{"$f":"COUNTIF(L165:L195,AS11)","v":15},{"$f":"AT11/(AV4-AT10)","v":0.4838709677419355},{"$f":"IF(AU11=0,0,(AU11*((LOG(AU11))/LOG(2))))","v":-0.50676082973146286}]
[22,698,13,712,14,719,null,null,null,null,0,211,null,212,{"$f":"COUNTIF($L$7:$L$500,N12)","v":0},{"$f":"O12/$Q$4","v":0},{"$f":"IF(P12=0,0,(P12*((LOG(P12))/LOG(2))))","v":0},null,null,{"$f":"N12","v":212},{"$f":"COUNTIF(L7:L38,T12)","v":0},{"$f":"U12/(W4-U10)","v":0},{"$f":"IF(V12=0,0,(V12*((LOG(V12))/LOG(2))))","v":0},null,{"$f":"N12","v":212},{"$f":"COUNTIF(L39:L69,Y12)","v":0},{"$f":"Z12/(AB4-Z10)","v":0},{"$f":"IF(AA12=0,0,(AA12*((LOG(AA12))/LOG(2))))","v":0},null,{"$f":"N12","v":212},{"$f":"COUNTIF(L70:L101,AD12)","v":0},{"$f":"AE12/(AG4-AE10)","v":0},{"$f":"IF(AF12=0,0,(AF12*((LOG(AF12))/LOG(2))))","v":0},null,{"$f":"N12","v":212},{"$f":"COUNTIF(L102:L132,AI12)","v":0},{"$f":"AJ12/(AL4-AJ10)","v":0},{"$f":"IF(AK12=0,0,(AK12*((LOG(AK12))/LOG(2))))","v":0},null,{"$f":"N12","v":212},{"$f":"COUNTIF(L133:L164,AN12)","v":0},{"$f":"AO12/(AQ4-AO10)","v":0},{"$f":"IF(AP12=0,0,(AP12*((LOG(AP12))/LOG(2))))","v":0},null,{"$f":"N12","v":212},{"$f":"COUNTIF(L165:L195,AS12)","v":0},{"$f":"AT12/(AV4-AT10)","v":0},{"$f":"IF(AU12=0,0,(AU12*((LOG(AU12))/LOG(2))))","v":0}]
[11,842,11,851,12,860,null,null,null,null,0,111,null,221,{"$f":"COUNTIF($L$7:$L$500,N13)","v":1},{"$f":"O13/$Q$4","v":5.2910052910052907E-3},{"$f":"IF(P13=0,0,(P13*((LOG(P13))/LOG(2))))","v":-4.0011864678418371E-2},null,null,{"$f":"N13","v":221},{"$f":"COUNTIF(L7:L38,T13)","v":0},{"$f":"U13/(W4-U10)","v":0},{"$f":"IF(V13=0,0,(V13*((LOG(V13))/LOG(2))))","v":0},null,{"$f":"N13","v":221},{"$f":"COUNTIF(L39:L69,Y13)","v":0},{"$f":"Z13/(AB4-Z10)","v":0},{"$f":"IF(AA13=0,0,(AA13*((LOG(AA13))/LOG(2))))","v":0},null,{"$f":"N13","v":221},{"$f":"COUNTIF(L70:L101,AD13)","v":0},{"$f":"AE13/(AG4-AE10)","v":0},{"$f":"IF(AF13=0,0,(AF13*((LOG(AF13))/LOG(2))))","v":0},null,{"$f":"N13","v":221},{"$f":"COUNTIF(L102:L132,AI13)","v":1},{"$f":"AJ13/(AL4-AJ10)","v":3.2258064516129031E-2},{"$f":"IF(AK13=0,0,(AK13*((LOG(AK13))/LOG(2))))","v":-0.15981278420602821},null,{"$f":"N13","v":221},{"$f":"COUNTIF(L133:L164,AN13)","v":0},{"$f":"AO13/(AQ4-AO10)","v":0},{"$f":"IF(AP13=0,0,(AP13*((LOG(AP13))/LOG(2))))","v":0},null,{"$f":"N13","v":221},{"$f":"COUNTIF(L165:L195,AS13)","v":0},{"$f":"AT13/(AV4-AT10)","v":0},{"$f":"IF(AU13=0,0,(AU13*((LOG(AU13))/LOG(2))))","v":0}]
[22,964,13,976,14,982,null,null,null,null,0,211,null,222,{"$f":"COUNTIF($L$7:$L$500,N14)","v":0},{"$f":"O14/$Q$4","v":0},{"$f":"IF(P14=0,0,(P14*((LOG(P14))/LOG(2))))","v":0},null,null,{"$f":"N14","v":222},{"$f":"COUNTIF(L7:L38,T14)","v":0},{"$f":"U14/(W4-U10)","v":0},{"$f":"IF(V14=0,0,(V14*((LOG(V14))/LOG(2))))","v":0},null,{"$f":"N14","v":222},{"$f":"COUNTIF(L39:L69,Y14)","v":0},{"$f":"Z14/(AB4-Z10)","v":0},{"$f":"IF(AA14=0,0,(AA14*((LOG(AA14))/LOG(2))))","v":0},null,{"$f":"N14","v":222},{"$f":"COUNTIF(L70:L101,AD14)","v":0},{"$f":"AE14/(AG4-AE10)","v":0},{"$f":"IF(AF14=0,0,(AF14*((LOG(AF14))/LOG(2))))","v":0},null,{"$f":"N14","v":222},{"$f":"COUNTIF(L102:L132,AI14)","v":0},{"$f":"AJ14/(AL4-AJ10)","v":0},{"$f":"IF(AK14=0,0,(AK14*((LOG(AK14))/LOG(2))))","v":0},null,{"$f":"N14","v":222},{"$f":"COUNTIF(L133:L164,AN14)","v":0},{"$f":"AO14/(AQ4-AO10)","v":0},{"$f":"IF(AP14=0,0,(AP14*((LOG(AP14))/LOG(2))))","v":0},null,{"$f":"N14","v":222},{"$f":"COUNTIF(L165:L195,AS14)","v":0},{"$f":"AT14/(AV4-AT10)","v":0},{"$f":"IF(AU14=0,0,(AU14*((LOG(AU14))/LOG(2))))","v":0}]
[11,1101,11,1107,12,1119,null,null,null,null,0,111,null,null,null,{"$f":"SUM(P7:P14)","v":1},{"$f":"-SUM(Q7:Q14)","v":1.0371304994302104},null,null,null,null,{"$f":"SUM(V7:V14)","v":1},{"$f":"-SUM(W7:W14)","v":0.97448940339805235},null,null,null,{"$f":"SUM(AA7:AA14)","v":1},{"$f":"-SUM(AB7:AB14)","v":0.86913758061263802},null,null,null,{"$f":"SUM(AF7:AF14)","v":1},{"$f":"-SUM(AG7:AG14)","v":0.95443400292496505},null,null,null,{"$f":"SUM(AK7:AK14)","v":1},{"$f":"-SUM(AL7:AL14)","v":1.1608871285452633},null,null,null,{"$f":"SUM(AP7:AP14)","v":1},{"$f":"-SUM(AQ7:AQ14)","v":0.98869940828849745},null,null,null,{"$f":"SUM(AU7:AU14)","v":1},{"$f":"-SUM(AV7:AV14)","v":0.99924924799565651}]
[22,1221,13,1233,14,1239,null,null,null,null,0,211,null,null,null,"U=",{"$f":"Q15/(LOG(Q4)/LOG(2))","v":0.13714589420042786},null,null,null,null,"U1=",{"$f":"W15/(LOG(W4)/LOG(2))","v":0.19489788067961047},null,null,null,"U2=",{"$f":"AB15/(LOG(AB4)/LOG(2))","v":0.17543462676083718},null,null,null,"U3=",{"$f":"AG15/(LOG(AG4)/LOG(2))","v":0.19088680058499302},null,null,null,"U4=",{"$f":"AL15/(LOG(AL4)/LOG(2))","v":0.23432400652177815},null,null,null,"U5=",{"$f":"AQ15/(LOG(AQ4)/LOG(2))","v":0.19773988165769948},null,null,null,"U6=",{"$f":"AV15/(LOG(AV4)/LOG(2))","v":0.20169754797577344}]
[11,1355,11,1361,12,1374,null,null,null,null,0,111]
[11,1496,11,1501,12,1513,null,null,null,null,0,111]
[22,1619,13,1633,14,1641,null,null,null,null,0,211,null,"Total Target Seq"]
[22,1746,13,1758,14,1767,null,null,null,null,0,211,null,{"$f":"COUNTIF(L7:L195,G3)","v":0},null,32,31,32,31,32,31]
[11,1877,11,1883,12,1896,null,null,null,null,0,111,null,null,null,"% of reinforcement given in 6 equal intervals based on number of trials "]
[22,2000,13,2010,14,2017,null,null,null,null,0,211,null,null,null,"%_1","%_2","%_3","%_4","%_5","%_6"]
[22,2124,13,2136,14,2142,null,null,null,null,0,211,null,null,"target sequence",{"$f":"$G$3","v":122},{"$f":"$G$3","v":122},{"$f":"$G$3","v":122},{"$f":"$G$3","v":122},{"$f":"$G$3","v":122},{"$f":"$G$3","v":122}]
[11,2267,11,2273,12,2283,null,null,null,null,0,111,null,null,"total reinforcement",{"$f":"U10","v":0},{"$f":"Z10","v":0},{"$f":"AE10","v":0},{"$f":"AJ10","v":0},{"$f":"AO10","v":0},{"$f":"AT10","v":0}]
[11,2403,11,2412,12,2422,null,null,null,null,0,111,null,null,"% target"]
[22,2526,13,2535,14,2542,null,null,null,null,0,211,null,null,"CCRF"]
[22,2642,13,2659,14,2670,null,null,null,null,0,211,null,null,"% CCRf"]
[11,2788,11,2793,12,2806,null,null,null,null,0,111,null,null,"average response rate",{"$f":"F38/P20","v":128.4375},{"$f":"(F69-F38)/Q20","v":130.54838709677421},{"$f":"(F101-F69)/R20","v":127.0625},{"$f":"(F132-F101)/S20","v":121.48387096774194},{"$f":"(F164-F132)/T20","v":127.15625},{"$f":"(F195-F164)/U20","v":126.90322580645162}]
[22,2930,13,2943,14,2950,null,null,null,null,0,211]
[22,3048,13,3069,14,3077,null,null,null,null,0,211]
[22,3182,13,3195,14,3201,null,null,null,null,0,211]
[11,3316,11,3321,12,3330,null,null,null,null,0,111]
[22,3437,13,3447,14,3453,null,null,null,null,0,211]
[11,3582,11,3590,12,3601,null,null,null,null,0,111]
[22,3703,13,3715,14,3720,null,null,null,null,0,211]
[22,3829,13,3839,14,3847,null,null,null,null,0,211]
[22,3955,13,3964,14,3972,null,null,null,null,0,211]
[11,4091,11,4097,12,4110,null,null,null,null,0,111]
[22,4220,13,4229,14,4235,null,null,null,null,0,211]
[11,4350,11,4355,12,4364,null,null,null,null,0,111]
[11,4485,11,4491,12,4500,null,null,null,null,0,111]
[22,4610,13,4621,14,4630,null,null,null,null,0,211]
[11,4746,11,4753,12,4765,null,null,null,null,0,111]
[22,4868,13,4877,14,4882,null,null,null,null,0,211]
[11,4993,11,5001,12,5012,null,null,null,null,0,111]
[11,5124,11,5133,12,5143,null,null,null,null,0,111]
[22,5252,13,5261,14,5270,null,null,null,null,0,211]
[22,5374,13,5382,14,5390,null,null,null,null,0,211]
[11,5503,11,5512,12,5524,null,null,null,null,0,111]
[11,5637,11,5642,12,5655,null,null,null,null,0,111]
[11,5789,11,5800,12,5813,null,null,null,null,0,111]
[22,5915,13,5926,14,5931,null,null,null,null,0,211]
[22,6036,13,6053,14,6062,null,null,null,null,0,211]
[11,6174,11,6179,12,6187,null,null,null,null,0,111]
[11,6306,11,6311,12,6320,null,null,null,null,0,111]
[22,6427,13,6438,14,6444,null,null,null,null,0,211]
[11,6557,11,6562,12,6573,null,null,null,null,0,111]
[11,6692,11,6700,12,6712,null,null,null,null,0,111]
[11,6830,11,6835,12,6848,null,null,null,null,0,111]
[11,6964,11,6973,12,6984,null,null,null,null,0,111]
[11,7104,11,7109,12,7119,null,null,null,null,0,111]
[22,7223,13,7234,14,7239,null,null,null,null,0,211]
[11,7359,11,7365,12,7375,null,null,null,null,0,111]
[11,7490,11,7495,12,7506,null,null,null,null,0,111]
[11,7613,11,7620,12,7632,null,null,null,null,0,111]
[11,7748,11,7752,12,7761,null,null,null,null,0,111]
[11,7880,11,7885,12,7897,null,null,null,null,0,111]
[11,8008,11,8013,12,8022,null,null,null,null,0,111]
[11,8138,11,8147,12,8157,null,null,null,null,0,111]
[11,8274,11,8279,12,8289,null,null,null,null,0,111]
[11,8400,11,8404,12,8416,null,null,null,null,0,111]
[11,8530,11,8537,12,8547,null,null,null,null,0,111]
[11,8661,11,8669,12,8679,null,null,null,null,0,111]
[22,8789,13,8801,14,8809,null,null,null,null,0,211]
[11,8922,11,8929,12,8939,null,null,null,null,0,111]
[22,9048,13,9060,14,9068,null,null,null,null,0,211]
[11,9183,11,9191,12,9203,null,null,null,null,0,111]
[11,9321,11,9326,12,9334,null,null,null,null,0,111]
[22,9437,13,9450,14,9456,null,null,null,null,0,211]
[22,9553,13,9564,14,9569,null,null,null,null,0,211]
[11,9677,11,9688,12,9701,null,null,null,null,0,111]
[11,9819,11,9824,12,9836,null,null,null,null,0,111]
[22,9940,13,9949,14,9957,null,null,null,null,0,211]
[11,10079,11,10091,12,10103,null,null,null,null,0,111]
[11,10220,11,10228,12,10241,null,null,null,null,0,111]
[11,10351,11,10358,12,10370,null,null,null,null,0,111]
[22,10469,13,10482,14,10490,null,null,null,null,0,211]
[11,10599,11,10604,12,10614,null,null,null,null,0,111]
[22,10713,13,10722,14,10727,null,null,null,null,0,211]
[11,10834,11,10842,12,10855,null,null,null,null,0,111]
[22,10955,13,10966,14,10977,null,null,null,null,0,211]
[22,11081,13,11092,14,11097,null,null,null,null,0,211]
[11,11204,11,11210,12,11218,null,null,null,null,0,111]
[22,11322,13,11332,14,11337,null,null,null,null,0,211]
[11,11460,11,11468,12,11477,null,null,null,null,0,111]
[22,11584,13,11597,14,11602,null,null,null,null,0,211]
[11,11709,11,11714,12,11727,null,null,null,null,0,111]
[11,11833,11,11839,12,11847,null,null,null,null,0,111]
[11,11954,11,11959,12,11970,null,null,null,null,0,111]
[11,12086,11,12094,12,12105,null,null,null,null,0,111]
[22,12208,13,12218,14,12223,null,null,null,null,0,211]
[11,12334,11,12341,12,12350,null,null,null,null,0,111]
[11,12463,11,12469,12,12477,null,null,null,null,0,111]
[22,12579,13,12592,14,12597,null,null,null,null,0,211]
[22,12696,13,12705,14,12711,null,null,null,null,0,211]
[22,12816,13,12825,14,12833,null,null,null,null,0,211]
[22,12934,13,12947,14,12951,null,null,null,null,0,211]
[11,13060,11,13068,12,13077,null,null,null,null,0,111]
[22,13175,13,13184,14,13188,null,null,null,null,0,211]
[22,13292,13,13304,14,13312,null,null,null,null,0,211]
[22,13419,13,13427,14,13434,null,null,null,null,0,211]
[22,13540,13,13548,14,13554,null,null,null,null,0,211]
[11,13662,11,13667,12,13678,null,null,null,null,0,111]
[22,13779,13,13787,14,13792,null,null,null,null,0,211]
[22,13891,24,13896,14,13904,null,null,null,null,0,221]
[11,14013,11,14018,12,14028,null,null,null,null,0,111]
[11,14141,11,14149,12,14157,null,null,null,null,0,111]
[22,14255,13,14263,14,14270,null,null,null,null,0,211]
[11,14379,11,14388,12,14400,null,null,null,null,0,111]
[22,14499,13,14515,14,14522,null,null,null,null,0,211]
[22,14617,13,14628,14,14633,null,null,null,null,0,211]
[11,14740,11,14744,12,14754,null,null,null,null,0,111]
[11,14867,11,14872,12,14882,null,null,null,null,0,111]
[22,14988,13,14998,14,15006,null,null,null,null,0,211]
[22,15109,13,15118,14,15125,null,null,null,null,0,211]
[11,15237,11,15243,12,15253,null,null,null,null,0,111]
[11,15360,11,15366,12,15375,null,null,null,null,0,111]
[11,15482,11,15489,12,15501,null,null,null,null,0,111]
[22,15600,13,15611,14,15619,null,null,null,null,0,211]
[22,15719,13,15727,14,15735,null,null,null,null,0,211]
[11,15844,11,15852,12,15862,null,null,null,null,0,111]
[22,15970,13,15982,14,15989,null,null,null,null,0,211]
[22,16093,13,16103,14,16111,null,null,null,null,0,211]
[11,16225,11,16234,12,16243,null,null,null,null,0,111]
[11,16351,11,16356,12,16368,null,null,null,null,0,111]
[11,16479,11,16484,12,16496,null,null,null,null,0,111]
[11,16614,11,16619,12,16630,null,null,null,null,0,111]
[11,16757,11,16765,12,16774,null,null,null,null,0,111]
[22,16866,13,16891,14,16898,null,null,null,null,0,211]
[11,17012,11,17017,12,17027,null,null,null,null,0,111]
[22,17131,13,17142,14,17147,null,null,null,null,0,211]
[11,17261,11,17266,12,17274,null,null,null,null,0,111]
[11,17390,11,17398,12,17407,null,null,null,null,0,111]
[11,17523,11,17531,12,17542,null,null,null,null,0,111]
[22,17646,13,17657,14,17662,null,null,null,null,0,211]
[11,17772,11,17779,12,17791,null,null,null,null,0,111]
[11,17899,11,17905,12,17915,null,null,null,null,0,111]
[11,18026,11,18033,12,18045,null,null,null,null,0,111]
[11,18162,11,18169,12,18179,null,null,null,null,0,111]
[11,18294,11,18301,12,18312,null,null,null,null,0,111]
[22,18416,13,18426,14,18434,null,null,null,null,0,211]
[11,18541,11,18550,12,18557,null,null,null,null,0,111]
[11,18675,11,18680,12,18689,null,null,null,null,0,111]
[22,18790,13,18801,14,18808,null,null,null,null,0,211]
[22,18913,13,18921,14,18930,null,null,null,null,0,211]
[22,19024,13,19036,14,19040,null,null,null,null,0,211]
[22,19142,13,19151,14,19160,null,null,null,null,0,211]
[22,19262,13,19273,14,19279,null,null,null,null,0,211]
[22,19384,13,19395,14,19403,null,null,null,null,0,211]
[22,19505,13,19517,14,19525,null,null,null,null,0,211]
[22,19627,13,19636,14,19644,null,null,null,null,0,211]
[11,19759,11,19767,12,19780,null,null,null,null,0,111]
[11,19913,11,19921,12,19933,null,null,null,null,0,111]
[22,20040,13,20053,14,20058,null,null,null,null,0,211]
[11,20171,11,20173,12,20187,null,null,null,null,0,111]
[11,20296,11,20303,12,20312,null,null,null,null,0,111]
[11,20422,11,20427,12,20440,null,null,null,null,0,111]
[22,20541,13,20553,14,20561,null,null,null,null,0,211]
[22,20662,13,20671,14,20679,null,null,null,null,0,211]
[22,20778,13,20787,14,20794,null,null,null,null,0,211]
[11,20905,11,20913,12,20926,null,null,null,null,0,111]
[22,21034,13,21045,14,21053,null,null,null,null,0,211]
[11,21165,11,21175,12,21184,null,null,null,null,0,111]
[11,21300,11,21315,12,21327,null,null,null,null,0,111]
[22,21429,13,21441,14,21448,null,null,null,null,0,211]
[11,21560,11,21568,12,21580,null,null,null,null,0,111]
[22,21685,13,21693,14,21698,null,null,null,null,0,211]
[22,21799,13,21811,14,21818,null,null,null,null,0,211]
[22,21919,13,21929,14,21938,null,null,null,null,0,211]
[22,22044,13,22052,14,22061,null,null,null,null,0,211]
[22,22160,13,22172,14,22180,null,null,null,null,0,211]
[11,22291,11,22303,12,22313,null,null,null,null,0,111]
[11,22429,11,22436,12,22444,null,null,null,null,0,111]
[11,22562,11,22571,12,22583,null,null,null,null,0,111]
[11,22697,11,22707,12,22716,null,null,null,null,0,111]
[22,22825,13,22836,14,22845,null,null,null,null,0,211]
[11,22959,11,22968,12,22980,null,null,null,null,0,111]
[11,23087,11,23094,12,23104,null,null,null,null,0,111]
[22,23207,13,23216,14,23224,null,null,null,null,0,211]
[11,23341,11,23350,12,23359,null,null,null,null,0,111]
[22,23461,13,23473,14,23481,null,null,null,null,0,211]
[22,23587,13,23598,14,23604,null,null,null,null,0,211]
[22,23706,13,23717,14,23722,null,null,null,null,0,211]
[11,23844,11,23853,12,23862,null,null,null,null,0,111]
[11,23973,11,23980,12,23992,null,null,null,null,null,111]