{"text_format":"1","workbook":"xlsx","n_sheets":33,"sheets":["Sample Report","Summary","Start","!MC30C40.092","!MC31810.092","!N102910.092","!N103840.092","!N104A10.092","!N105840.092","!N106700.092","!N107750.092","!N108830.092","!N109730.092","!N110830.092","!N111A00.092","!N112700.092","!N113840.092","!N114800.092","!N115810.092","!N116800.092","!N117910.092","!N118A00.092","!N119810.092","!N120940.092","!N121940.092","!N122820.092","!N123950.092","!N124920.092","!N125950.092","!N126850.092","!N127A10.092","!N128840.092","!N129940.092"],"not_rendered":{"charts":0,"images":0,"macros":1,"external_links":0,"defined_names":0,"comments":0,"pivot_tables":0},"unopened":[],"bounds":{"document_bytes":16777216,"sheet_cells":100000,"rows_first":2000,"rows_last":500,"rows_between":2000,"halvings":0,"cell_chars":16384,"cell_head_chars":4096},"cells_cut":0,"cells_raw":0,"read":"whole","date_system":"1900"}

{"sheet":"Sample Report","index":0,"n_rows":12,"n_cols":11,"rows_kept":12,"cut":false,"hidden":true,"merged":[[7,0,7,6]]}
[]
["Date"]
["Hen"]
["Program"]
["Start at 999999"]
["Sequence component 1","Time 1","Seqeunce Component 2","Time 2","Seqeunce Component 3","Time 3","Correct   0 = No 1=Yes",null,null,"Seqeunce","Time"]
[12,7,12,42,13,18,"if 77 new line,                                  if 31 or 41 = yes new line on 77, ",null,null,"=string of Seqeunce compponent 1, 2 & 3","=time 3"]
["This continues until ther is a 1 on its own to indicate start of summary data"]
[null,null,null,null,null,null,null,null,null,"10-19 =1"]
["Summary Data ",null,null,null,null,null,null,null,null,"20-29 =2"]
["Correct","Incorrect","Rft","total","Av Correct","Av Incorrect","Percent correct","Time",null,"in this example the seqeunce would be 111"]
[40,33,40,73,23.95,15,54,806]

{"sheet":"Summary","index":1,"n_rows":32,"n_cols":24,"rows_kept":32,"cut":false,"hidden":false,"merged":[]}
[]
["Day","Date","Average Response Rate","Target %","RF for non correct sequence","U Value",null,null,null,null,"Block 1","Block 2","Block 3","Block 4","Block 5","Block 6"]
[1,{"$f":"'!MC30C40.092'!B2:C2","v":"<date>"},{"$f":"('!MC30C40.092'!H192/60)/'!MC30C40.092'!Q3","v":2.1506272401433693},{"$f":"'!MC30C40.092'!N28/'!MC30C40.092'!Q3","v":5.3763440860215058E-3},{"$f":"SUM('!MC30C40.092'!L28:Q28)/'!MC30C40.092'!Q3","v":6.317204301075269},{"$f":"'!MC30C40.092'!Q24","v":0.23772071497405189},null,null,null,"Average Response Rate",{"$f":"AVERAGE(C3:C7)","v":2.6444673464909081},{"$f":"AVERAGE(C8:C12)","v":3.7565422478930541},{"$f":"AVERAGE(C13:C17)","v":4.084323371922177},{"$f":"AVERAGE(C18:C22)","v":2.2980626102292772},{"$f":"AVERAGE(C23:C27)","v":2.1405533860753336},{"$f":"AVERAGE(C28:C32)","v":2.761074294549323}]
[2,{"$f":"'!MC31810.092'!B2:C2","v":"<date>"},{"$f":"('!MC31810.092'!H166/60)/'!MC31810.092'!Q3","v":2.4882291666666667},{"$f":"'!MC31810.092'!N28/'!MC31810.092'!Q3","v":0},{"$f":"SUM('!MC31810.092'!L28:Q28)/'!MC31810.092'!Q3","v":7.2750000000000004},{"$f":"'!MC31810.092'!Q24","v":0.31583512784870782},null,null,null,"Target %",{"$f":"AVERAGE(D3:D7)","v":5.3816589444899508E-3},{"$f":"AVERAGE(D8:D12)","v":1.1479221156640511E-2},{"$f":"AVERAGE(D13:D17)","v":1.4210728947333249E-2},{"$f":"AVERAGE(D18:D22)","v":2.1483732973094676E-2},{"$f":"AVERAGE(D23:D27)","v":5.0157316422901846E-2},{"$f":"AVERAGE(D28:D32)","v":0.13992636266926312}]
[3,{"$f":"'!N102910.092'!B2:C2","v":"<date>"},{"$f":"('!N102910.092'!H160/60)/'!N102910.092'!Q3","v":2.5871212121212124},{"$f":"'!N102910.092'!N28/'!N102910.092'!Q3","v":6.4935064935064939E-3},{"$f":"SUM('!N102910.092'!L28:Q28)/'!N102910.092'!Q3","v":14.116883116883116},{"$f":"'!N102910.092'!Q24","v":0.38507792589753365},null,null,null,"CCRF",{"$f":"AVERAGE(E3:E7)","v":9.02019830674862},{"$f":"AVERAGE(E8:E12)","v":13.75191011164625},{"$f":"AVERAGE(E13:E17)","v":19.640970637358315},{"$f":"AVERAGE(E18:E22)","v":12.980473938984577},{"$f":"AVERAGE(E23:E27)","v":12.32930885317513},{"$f":"AVERAGE(E28:E32)","v":15.524042714700419}]
[4,{"$f":"'!N103840.092'!B2:C2","v":"<date>"},{"$f":"('!N103840.092'!H140/60)/'!N103840.092'!Q3","v":2.9819651741293529},{"$f":"'!N103840.092'!N28/'!N103840.092'!Q3","v":7.462686567164179E-3},{"$f":"SUM('!N103840.092'!L28:Q28)/'!N103840.092'!Q3","v":8.6343283582089558},{"$f":"'!N103840.092'!Q24","v":0.46873659934477474},null,null,null,"U Value",{"$f":"AVERAGE(F3:F7)","v":0.36908384689805074},{"$f":"AVERAGE(F8:F12)","v":0.47646353046566076},{"$f":"AVERAGE(F13:F17)","v":0.53144669381616449},{"$f":"AVERAGE(F18:F22)","v":0.51117696756175846},{"$f":"AVERAGE(F23:F27)","v":0.48450781457849212},{"$f":"AVERAGE(F28:F32)","v":0.48782119197890755}]
[5,{"$f":"'!N104A10.092'!B2:C2","v":"<date>"},{"$f":"('!N104A10.092'!H137/60)/'!N104A10.092'!Q3","v":3.0143939393939392},{"$f":"'!N104A10.092'!N28/'!N104A10.092'!Q3","v":7.575757575757576E-3},{"$f":"SUM('!N104A10.092'!L28:Q28)/'!N104A10.092'!Q3","v":8.7575757575757578},{"$f":"'!N104A10.092'!Q24","v":0.4380488664251857}]
[6,{"$f":"'!N105840.092'!B2:C2","v":"<date>"},{"$f":"('!N105840.092'!H130/60)/'!N105840.092'!Q3","v":3.1731182795698922},{"$f":"'!N105840.092'!N28/'!N105840.092'!Q3","v":1.6129032258064516E-2},{"$f":"SUM('!N105840.092'!L28:Q28)/'!N105840.092'!Q3","v":9.306451612903226},{"$f":"'!N105840.092'!Q24","v":0.42417597043798816}]
[7,{"$f":"'!N106700.092'!B2:C2","v":"<date>"},{"$f":"('!N106700.092'!H117/60)/'!N106700.092'!Q3","v":3.5627627627627625},{"$f":"'!N106700.092'!N28/'!N106700.092'!Q3","v":9.0090090090090089E-3},{"$f":"SUM('!N106700.092'!L28:Q28)/'!N106700.092'!Q3","v":11.342342342342342},{"$f":"'!N106700.092'!Q24","v":0.46007134682628881},{"$f":"K3","v":2.6444673464909081},{"$f":"L3","v":3.7565422478930541},{"$f":"M3","v":4.084323371922177},{"$f":"N3","v":2.2980626102292772},{"$f":"O3","v":2.1405533860753336},{"$f":"P3","v":2.761074294549323},{"$f":"K4","v":5.3816589444899508E-3},{"$f":"L4","v":1.1479221156640511E-2},{"$f":"M4","v":1.4210728947333249E-2},{"$f":"N4","v":2.1483732973094676E-2},{"$f":"O4","v":5.0157316422901846E-2},{"$f":"P4","v":0.13992636266926312},{"$f":"K6","v":0.36908384689805074},{"$f":"L6","v":0.47646353046566076},{"$f":"M6","v":0.53144669381616449},{"$f":"N6","v":0.51117696756175846},{"$f":"O6","v":0.48450781457849212},{"$f":"P6","v":0.48782119197890755}]
[8,{"$f":"'!N107750.092'!B2:C2","v":"<date>"},{"$f":"('!N107750.092'!H109/60)/'!N107750.092'!Q3","v":0},{"$f":"'!N107750.092'!N28/'!N107750.092'!Q3","v":0},{"$f":"SUM('!N107750.092'!L28:Q28)/'!N107750.092'!Q3","v":11.126213592233009},{"$f":"'!N107750.092'!Q24","v":0.46673231681970112}]
[9,{"$f":"'!N108830.092'!B2:C2","v":"<date>"},{"$f":"('!N108830.092'!H54/60)/'!N108830.092'!Q3","v":7.8815972222222221},{"$f":"'!N108830.092'!N28/'!N108830.092'!Q3","v":0},{"$f":"SUM('!N108830.092'!L28:Q28)/'!N108830.092'!Q3","v":23.479166666666668},{"$f":"'!N108830.092'!Q24","v":0.4614346435214467}]
[10,{"$f":"'!N109730.092'!B2:C2","v":"<date>"},{"$f":"('!N109730.092'!H99/60)/'!N109730.092'!Q3","v":4.1652329749103947},{"$f":"'!N109730.092'!N28/'!N109730.092'!Q3","v":3.2258064516129031E-2},{"$f":"SUM('!N109730.092'!L28:Q28)/'!N109730.092'!Q3","v":13.505376344086022},{"$f":"'!N109730.092'!Q24","v":0.56990337472287877}]
[11,{"$f":"'!N110830.092'!B2:C2","v":"<date>"},{"$f":"('!N110830.092'!H121/60)/'!N110830.092'!Q3","v":3.4728985507246377},{"$f":"'!N110830.092'!N28/'!N110830.092'!Q3","v":1.7391304347826087E-2},{"$f":"SUM('!N110830.092'!L28:Q28)/'!N110830.092'!Q3","v":10.017391304347827},{"$f":"'!N110830.092'!Q24","v":0.52094341040670755}]
[12,{"$f":"'!N111A00.092'!B2:C2","v":"<date>"},{"$f":"('!N111A00.092'!H100/60)/'!N111A00.092'!Q3","v":4.2060283687943265},{"$f":"'!N111A00.092'!N28/'!N111A00.092'!Q3","v":0},{"$f":"SUM('!N111A00.092'!L28:Q28)/'!N111A00.092'!Q3","v":23.968085106382979},{"$f":"'!N111A00.092'!Q24","v":0.53748778427772903}]
[13,{"$f":"'!N112700.092'!B2:C2","v":"<date>"},{"$f":"('!N112700.092'!H64/60)/'!N112700.092'!Q3","v":6.8474137931034482},{"$f":"'!N112700.092'!N28/'!N112700.092'!Q3","v":1.7241379310344827E-2},{"$f":"SUM('!N112700.092'!L28:Q28)/'!N112700.092'!Q3","v":38.46551724137931},{"$f":"'!N112700.092'!Q24","v":0.64342357227733682}]
[14,{"$f":"'!N113840.092'!B2:C2","v":"<date>"},{"$f":"('!N113840.092'!H152/60)/'!N113840.092'!Q3","v":2.730593607305936},{"$f":"'!N113840.092'!N28/'!N113840.092'!Q3","v":2.0547945205479451E-2},{"$f":"SUM('!N113840.092'!L28:Q28)/'!N113840.092'!Q3","v":8.6506849315068486},{"$f":"'!N113840.092'!Q24","v":0.437668676495089}]
[15,{"$f":"'!N114800.092'!B2:C2","v":"<date>"},{"$f":"('!N114800.092'!H132/60)/'!N114800.092'!Q3","v":3.1646825396825395},{"$f":"'!N114800.092'!N28/'!N114800.092'!Q3","v":1.5873015873015872E-2},{"$f":"SUM('!N114800.092'!L28:Q28)/'!N114800.092'!Q3","v":17.103174603174605},{"$f":"'!N114800.092'!Q24","v":0.51771002562395951}]
[16,{"$f":"'!N115810.092'!B2:C2","v":"<date>"},{"$f":"('!N115810.092'!H140/60)/'!N115810.092'!Q3","v":2.9454320987654321},{"$f":"'!N115810.092'!N28/'!N115810.092'!Q3","v":1.4814814814814815E-2},{"$f":"SUM('!N115810.092'!L28:Q28)/'!N115810.092'!Q3","v":16.05925925925926},{"$f":"'!N115810.092'!Q24","v":0.50440779904382071}]
[17,{"$f":"'!N116800.092'!B2:C2","v":"<date>"},{"$f":"('!N116800.092'!H146/60)/'!N116800.092'!Q3","v":2.8494047619047622},{"$f":"'!N116800.092'!N28/'!N116800.092'!Q3","v":2.1428571428571429E-2},{"$f":"SUM('!N116800.092'!L28:Q28)/'!N116800.092'!Q3","v":15.435714285714285},{"$f":"'!N116800.092'!Q24","v":0.50584953023966284}]
[18,{"$f":"'!N117910.092'!B2:C2","v":"<date>"},{"$f":"('!N117910.092'!H146/60)/'!N117910.092'!Q3","v":2.8465476190476191},{"$f":"'!N117910.092'!N28/'!N117910.092'!Q3","v":1.4285714285714285E-2},{"$f":"SUM('!N117910.092'!L28:Q28)/'!N117910.092'!Q3","v":16.142857142857142},{"$f":"'!N117910.092'!Q24","v":0.53530765659919977}]
[19,{"$f":"'!N118A00.092'!B2:C2","v":"<date>"},{"$f":"('!N118A00.092'!H147/60)/'!N118A00.092'!Q3","v":0},{"$f":"'!N118A00.092'!N28/'!N118A00.092'!Q3","v":3.5460992907801421E-2},{"$f":"SUM('!N118A00.092'!L28:Q28)/'!N118A00.092'!Q3","v":8.9645390070921991},{"$f":"'!N118A00.092'!Q24","v":0.49009292345231004}]
[20,{"$f":"'!N119810.092'!B2:C2","v":"<date>"},{"$f":"('!N119810.092'!H146/60)/'!N119810.092'!Q3","v":2.8489285714285715},{"$f":"'!N119810.092'!N28/'!N119810.092'!Q3","v":2.1428571428571429E-2},{"$f":"SUM('!N119810.092'!L28:Q28)/'!N119810.092'!Q3","v":8.3000000000000007},{"$f":"'!N119810.092'!Q24","v":0.52022692847379914}]
[21,{"$f":"'!N120940.092'!B2:C2","v":"<date>"},{"$f":"('!N120940.092'!H147/60)/'!N120940.092'!Q3","v":0},{"$f":"'!N120940.092'!N28/'!N120940.092'!Q3","v":3.5460992907801421E-2},{"$f":"SUM('!N120940.092'!L28:Q28)/'!N120940.092'!Q3","v":15.411347517730496},{"$f":"'!N120940.092'!Q24","v":0.51338114578592642}]
[22,{"$f":"'!N121940.092'!B2:C2","v":"<date>"},{"$f":"('!N121940.092'!H155/60)/'!N121940.092'!Q3","v":2.6789709172259508},{"$f":"'!N121940.092'!N28/'!N121940.092'!Q3","v":6.0402684563758392E-2},{"$f":"SUM('!N121940.092'!L28:Q28)/'!N121940.092'!Q3","v":8.5302013422818792},{"$f":"'!N121940.092'!Q24","v":0.51555682329201069}]
[23,{"$f":"'!N122820.092'!B2:C2","v":"<date>"},{"$f":"('!N122820.092'!H162/60)/'!N122820.092'!Q3","v":2.5641025641025643},{"$f":"'!N122820.092'!N28/'!N122820.092'!Q3","v":3.8461538461538464E-2},{"$f":"SUM('!N122820.092'!L28:Q28)/'!N122820.092'!Q3","v":13.974358974358974},{"$f":"'!N122820.092'!Q24","v":0.4557317115893183}]
[24,{"$f":"'!N123950.092'!B2:C2","v":"<date>"},{"$f":"('!N123950.092'!H158/60)/'!N123950.092'!Q3","v":2.6242324561403509},{"$f":"'!N123950.092'!N28/'!N123950.092'!Q3","v":5.2631578947368418E-2},{"$f":"SUM('!N123950.092'!L28:Q28)/'!N123950.092'!Q3","v":8.3618421052631575},{"$f":"'!N123950.092'!Q24","v":0.46904440958186738}]
[25,{"$f":"'!N124920.092'!B2:C2","v":"<date>"},{"$f":"('!N124920.092'!H147/60)/'!N124920.092'!Q3","v":2.8354609929078016},{"$f":"'!N124920.092'!N28/'!N124920.092'!Q3","v":6.3829787234042548E-2},{"$f":"SUM('!N124920.092'!L28:Q28)/'!N124920.092'!Q3","v":15.368794326241135},{"$f":"'!N124920.092'!Q24","v":0.46882498264333783}]
[26,{"$f":"'!N125950.092'!B2:C2","v":"<date>"},{"$f":"('!N125950.092'!H158/60)/'!N125950.092'!Q3","v":2.6294956140350876},{"$f":"'!N125950.092'!N28/'!N125950.092'!Q3","v":7.8947368421052627E-2},{"$f":"SUM('!N125950.092'!L28:Q28)/'!N125950.092'!Q3","v":14.309210526315789},{"$f":"'!N125950.092'!Q24","v":0.49908858890006891}]
[27,{"$f":"'!N126850.092'!B2:C2","v":"<date>"},{"$f":"('!N126850.092'!H156/60)/'!N126850.092'!Q3","v":2.6626666666666665},{"$f":"'!N126850.092'!N28/'!N126850.092'!Q3","v":0.14000000000000001},{"$f":"SUM('!N126850.092'!L28:Q28)/'!N126850.092'!Q3","v":15.22},{"$f":"'!N126850.092'!Q24","v":0.46940442003077559}]
[28,{"$f":"'!N127A10.092'!B2:C2","v":"<date>"},{"$f":"('!N127A10.092'!H156/60)/'!N127A10.092'!Q3","v":2.6616666666666666},{"$f":"'!N127A10.092'!N28/'!N127A10.092'!Q3","v":0.17333333333333334},{"$f":"SUM('!N127A10.092'!L28:Q28)/'!N127A10.092'!Q3","v":15.253333333333334},{"$f":"'!N127A10.092'!Q24","v":0.47746372256914776}]
[29,{"$f":"'!N128840.092'!B2:C2","v":"<date>"},{"$f":"('!N128840.092'!H138/60)/'!N128840.092'!Q3","v":2.9829573934837095},{"$f":"'!N128840.092'!N28/'!N128840.092'!Q3","v":0.12030075187969924},{"$f":"SUM('!N128840.092'!L28:Q28)/'!N128840.092'!Q3","v":16.406015037593985},{"$f":"'!N128840.092'!Q24","v":0.51211702653330748}]
[30,{"$f":"'!N129940.092'!B2:C2","v":"<date>"},{"$f":"('!N129940.092'!H145/60)/'!N129940.092'!Q3","v":2.8685851318944846},{"$f":"'!N129940.092'!N28/'!N129940.092'!Q3","v":0.18705035971223022},{"$f":"SUM('!N129940.092'!L28:Q28)/'!N129940.092'!Q3","v":16.431654676258994},{"$f":"'!N129940.092'!Q24","v":0.48103220186123785}]

{"sheet":"Start","index":2,"n_rows":36,"n_cols":10,"rows_kept":36,"cut":false,"hidden":false,"merged":[]}
[null,null,null,null,null,"Use Folder 51",null,"Auto Clean Up",null,"Correct sequence"]
[null,null,null,null,null,false,null,true,null,2212]
[]
["Working with Folder",null,null,null,null,null,"Process All/Or Pick A number: ALL or an integer"]
["E:\\Hen Data\\Raw Data\\92_172\\phase 3 con\\",null,null,null,null,null,"ALL"]
["Filenames:"]
["!N109730.092",null,null,null,null,null,"Paint Cells"]
["!N110830.092",null,null,null,null,null,false]
["!N111A00.092"]
["!N112700.092"]
["!N113840.092"]
["!N114800.092"]
["!N115810.092"]
["!N116800.092"]
["!N117910.092"]
["!N118A00.092"]
["!N119810.092"]
["!N120940.092"]
["!N121940.092"]
["!N122820.092"]
["!N123950.092"]
["!N124920.092"]
["!N125950.092"]
["!N126850.092"]
["!N127A10.092"]
["!N128840.092"]
["!N129940.092"]
["!MC30C40.092"]
["!MC31810.092"]
["!N102910.092"]
["!N103840.092"]
["!N104A10.092"]
["!N105840.092"]
["!N106700.092"]
["!N107750.092"]
["!N108830.092"]

{"sheet":"!MC30C40.092","index":3,"n_rows":192,"n_cols":48,"rows_kept":192,"cut":false,"hidden":false,"merged":[[4,39,4,42],[5,39,5,40],[4,44,4,47],[5,44,5,45],[4,24,4,27],[5,24,5,25],[4,29,4,32],[5,29,5,30],[4,34,4,37],[5,34,5,35],[1,1,1,2],[5,13,5,14],[26,13,26,14],[27,13,27,14],[4,19,4,22],[5,19,5,20]]}
["Report for:!MC30C40.092"]
["Date:","<date>"]
["Hen:","<hen>",null,null,null,"Correct Sequence",{"$f":"Start!J2","v":2212},null,null,null,null,null,null,null,null,"Total Sequences in Data",{"$f":"4994-COUNTBLANK(L7:L5000)","v":186},null,null,null,null,"Total Sequences in Block Data",{"$f":"COUNTA(L7:L37)","v":31},null,null,null,"Total Sequences in Block Data",{"$f":"COUNTA(L38:L68)","v":31},null,null,null,"Total Sequences in Block Data",{"$f":"COUNTA(L69:L99)","v":31},null,null,null,"Total Sequences in Block Data",{"$f":"COUNTA(L100:L130)","v":31},null,null,null,"Total Sequences in Block Data",{"$f":"COUNTA(L131:L161)","v":31},null,null,null,"Total Sequences in Block Data",{"$f":"COUNTA(L162:L192)","v":31}]
[null,null,null,null,null,null,null,null,null,null,null,null,null,null,null,"Total Sequences in Summary",{"$f":"SUM(O7:O22)","v":186},null,null,null,null,"Total Sequences in Block Summary",{"$f":"SUM(U7:U22)","v":31},null,null,null,"Total Sequences in Block Summary",{"$f":"SUM(Z7:Z22)","v":31},null,null,null,"Total Sequences in Block Summary",{"$f":"SUM(AE7:AE22)","v":31},null,null,null,"Total Sequences in Block Summary",{"$f":"SUM(AJ7:AJ22)","v":31},null,null,null,"Total Sequences in Block Summary",{"$f":"SUM(AO7:AO22)","v":31},null,null,null,"Total Sequences in Block Summary",{"$f":"SUM(AT7:AT22)","v":31}]
[null,null,null,null,null,null,null,null,null,null,null,null,null,null,null,null,null,null,null,"Block 1",null,null,null,null,"Block 2",null,null,null,null,"Block 3",null,null,null,null,"Block 4",null,null,null,null,"Block 5",null,null,null,null,"Block 6"]
["Sequence\nComponent\n1","Time\n1","Sequence\nComponent\n2","Time\n2","Sequence\nComponent\n3","Time\n3","Sequence\nComponent\n4","Time\n4","Sequence\nComponent\n5","Time\n5","Correct?\n0=No 1=Yes","Sequence",null,"Frequency",null,"Relative Frequency","Variability",null,null,"Frequency",null,"Relative Frequency","Variability",null,"Frequency",null,"Relative Frequency","Variability",null,"Frequency",null,"Relative Frequency","Variability",null,"Frequency",null,"Relative Frequency","Variability",null,"Frequency",null,"Relative Frequency","Variability",null,"Frequency",null,"Relative Frequency","Variability"]
[21,44,21,58,11,71,21,85,null,null,0,2212,null,1111,{"$f":"COUNTIF($L$7:$L$500,N7)","v":122},{"$f":"O7/$Q$4","v":0.65591397849462363},{"$f":"IF(P7=0,0,(P7*((LOG(P7))/LOG(2))))","v":-0.39907214931455759},null,null,{"$f":"N7","v":1111},{"$f":"COUNTIF(L7:L37,T7)","v":8},{"$f":"U7/(W4-U20)","v":0.26666666666666666},{"$f":"IF(V7=0,0,(V7*((LOG(V7))/LOG(2))))","v":-0.50850415882893829},null,{"$f":"N7","v":1111},{"$f":"COUNTIF(L38:L68,Y7)","v":20},{"$f":"Z7/(AB4-Z20)","v":0.64516129032258063},{"$f":"IF(AA7=0,0,(AA7*((LOG(AA7))/LOG(2))))","v":-0.40791497774162117},null,{"$f":"N7","v":1111},{"$f":"COUNTIF(L69:L99,AD7)","v":21},{"$f":"AE7/(AG4-AE20)","v":0.67741935483870963},{"$f":"IF(AF7=0,0,(AF7*((LOG(AF7))/LOG(2))))","v":-0.38062763354098111},null,{"$f":"N7","v":1111},{"$f":"COUNTIF(L100:L130,AI7)","v":24},{"$f":"AJ7/(AL4-AJ20)","v":0.77419354838709675},{"$f":"IF(AK7=0,0,(AK7*((LOG(AK7))/LOG(2))))","v":-0.28585843328958893},null,{"$f":"N7","v":1111},{"$f":"COUNTIF(L131:L161,AN7)","v":26},{"$f":"AO7/(AQ4-AO20)","v":0.83870967741935487},{"$f":"IF(AP7=0,0,(AP7*((LOG(AP7))/LOG(2))))","v":-0.21282810962549539},null,{"$f":"N7","v":1111},{"$f":"COUNTIF(L162:L192,AS7)","v":23},{"$f":"AT7/(AV4-AT20)","v":0.74193548387096775},{"$f":"IF(AU7=0,0,(AU7*((LOG(AU7))/LOG(2))))","v":-0.31950290805118814}]
[12,201,14,235,13,243,23,263,null,null,0,1112,null,1112,{"$f":"COUNTIF($L$7:$L$500,N8)","v":23},{"$f":"O8/$Q$4","v":0.12365591397849462},{"$f":"IF(P8=0,0,(P8*((LOG(P8))/LOG(2))))","v":-0.37289638530200764},null,null,{"$f":"N8","v":1112},{"$f":"COUNTIF(L7:L37,T8)","v":6},{"$f":"U8/(W4-U20)","v":0.2},{"$f":"IF(V8=0,0,(V8*((LOG(V8))/LOG(2))))","v":-0.46438561897747244},null,{"$f":"N8","v":1112},{"$f":"COUNTIF(L38:L68,Y8)","v":6},{"$f":"Z8/(AB4-Z20)","v":0.19354838709677419},{"$f":"IF(AA8=0,0,(AA8*((LOG(AA8))/LOG(2))))","v":-0.45856138251594558},null,{"$f":"N8","v":1112},{"$f":"COUNTIF(L69:L99,AD8)","v":3},{"$f":"AE8/(AG4-AE20)","v":9.6774193548387094E-2},{"$f":"IF(AF8=0,0,(AF8*((LOG(AF8))/LOG(2))))","v":-0.32605488480635986},null,{"$f":"N8","v":1112},{"$f":"COUNTIF(L100:L130,AI8)","v":4},{"$f":"AJ8/(AL4-AJ20)","v":0.12903225806451613},{"$f":"IF(AK8=0,0,(AK8*((LOG(AK8))/LOG(2))))","v":-0.38118662069508069},null,{"$f":"N8","v":1112},{"$f":"COUNTIF(L131:L161,AN8)","v":1},{"$f":"AO8/(AQ4-AO20)","v":3.2258064516129031E-2},{"$f":"IF(AP8=0,0,(AP8*((LOG(AP8))/LOG(2))))","v":-0.15981278420602821},null,{"$f":"N8","v":1112},{"$f":"COUNTIF(L162:L192,AS8)","v":3},{"$f":"AT8/(AV4-AT20)","v":9.6774193548387094E-2},{"$f":"IF(AU8=0,0,(AU8*((LOG(AU8))/LOG(2))))","v":-0.32605488480635986}]
[12,372,23,391,24,403,14,416,null,null,0,1221,null,1121,{"$f":"COUNTIF($L$7:$L$500,N9)","v":3},{"$f":"O9/$Q$4","v":1.6129032258064516E-2},{"$f":"IF(P9=0,0,(P9*((LOG(P9))/LOG(2))))","v":-9.603542436107862E-2},null,null,{"$f":"N9","v":1121},{"$f":"COUNTIF(L7:L37,T9)","v":0},{"$f":"U9/(W4-U20)","v":0},{"$f":"IF(V9=0,0,(V9*((LOG(V9))/LOG(2))))","v":0},null,{"$f":"N9","v":1121},{"$f":"COUNTIF(L38:L68,Y9)","v":2},{"$f":"Z9/(AB4-Z20)","v":6.4516129032258063E-2},{"$f":"IF(AA9=0,0,(AA9*((LOG(AA9))/LOG(2))))","v":-0.25510943937979835},null,{"$f":"N9","v":1121},{"$f":"COUNTIF(L69:L99,AD9)","v":1},{"$f":"AE9/(AG4-AE20)","v":3.2258064516129031E-2},{"$f":"IF(AF9=0,0,(AF9*((LOG(AF9))/LOG(2))))","v":-0.15981278420602821},null,{"$f":"N9","v":1121},{"$f":"COUNTIF(L100:L130,AI9)","v":0},{"$f":"AJ9/(AL4-AJ20)","v":0},{"$f":"IF(AK9=0,0,(AK9*((LOG(AK9))/LOG(2))))","v":0},null,{"$f":"N9","v":1121},{"$f":"COUNTIF(L131:L161,AN9)","v":0},{"$f":"AO9/(AQ4-AO20)","v":0},{"$f":"IF(AP9=0,0,(AP9*((LOG(AP9))/LOG(2))))","v":0},null,{"$f":"N9","v":1121},{"$f":"COUNTIF(L162:L192,AS9)","v":0},{"$f":"AT9/(AV4-AT20)","v":0},{"$f":"IF(AU9=0,0,(AU9*((LOG(AU9))/LOG(2))))","v":0}]
[12,530,14,535,24,546,23,554,null,null,0,1122,null,1122,{"$f":"COUNTIF($L$7:$L$500,N10)","v":19},{"$f":"O10/$Q$4","v":0.10215053763440861},{"$f":"IF(P10=0,0,(P10*((LOG(P10))/LOG(2))))","v":-0.33620104653561544},null,null,{"$f":"N10","v":1122},{"$f":"COUNTIF(L7:L37,T10)","v":5},{"$f":"U10/(W4-U20)","v":0.16666666666666666},{"$f":"IF(V10=0,0,(V10*((LOG(V10))/LOG(2))))","v":-0.43082708345352599},null,{"$f":"N10","v":1122},{"$f":"COUNTIF(L38:L68,Y10)","v":1},{"$f":"Z10/(AB4-Z20)","v":3.2258064516129031E-2},{"$f":"IF(AA10=0,0,(AA10*((LOG(AA10))/LOG(2))))","v":-0.15981278420602821},null,{"$f":"N10","v":1122},{"$f":"COUNTIF(L69:L99,AD10)","v":6},{"$f":"AE10/(AG4-AE20)","v":0.19354838709677419},{"$f":"IF(AF10=0,0,(AF10*((LOG(AF10))/LOG(2))))","v":-0.45856138251594558},null,{"$f":"N10","v":1122},{"$f":"COUNTIF(L100:L130,AI10)","v":2},{"$f":"AJ10/(AL4-AJ20)","v":6.4516129032258063E-2},{"$f":"IF(AK10=0,0,(AK10*((LOG(AK10))/LOG(2))))","v":-0.25510943937979835},null,{"$f":"N10","v":1122},{"$f":"COUNTIF(L131:L161,AN10)","v":2},{"$f":"AO10/(AQ4-AO20)","v":6.4516129032258063E-2},{"$f":"IF(AP10=0,0,(AP10*((LOG(AP10))/LOG(2))))","v":-0.25510943937979835},null,{"$f":"N10","v":1122},{"$f":"COUNTIF(L162:L192,AS10)","v":3},{"$f":"AT10/(AV4-AT20)","v":9.6774193548387094E-2},{"$f":"IF(AU10=0,0,(AU10*((LOG(AU10))/LOG(2))))","v":-0.32605488480635986}]
[12,655,23,668,24,673,14,688,null,null,0,1221,null,1211,{"$f":"COUNTIF($L$7:$L$500,N11)","v":3},{"$f":"O11/$Q$4","v":1.6129032258064516E-2},{"$f":"IF(P11=0,0,(P11*((LOG(P11))/LOG(2))))","v":-9.603542436107862E-2},null,null,{"$f":"N11","v":1211},{"$f":"COUNTIF(L7:L37,T11)","v":1},{"$f":"U11/(W4-U20)","v":3.3333333333333333E-2},{"$f":"IF(V11=0,0,(V11*((LOG(V11))/LOG(2))))","v":-0.16356301985361729},null,{"$f":"N11","v":1211},{"$f":"COUNTIF(L38:L68,Y11)","v":2},{"$f":"Z11/(AB4-Z20)","v":6.4516129032258063E-2},{"$f":"IF(AA11=0,0,(AA11*((LOG(AA11))/LOG(2))))","v":-0.25510943937979835},null,{"$f":"N11","v":1211},{"$f":"COUNTIF(L69:L99,AD11)","v":0},{"$f":"AE11/(AG4-AE20)","v":0},{"$f":"IF(AF11=0,0,(AF11*((LOG(AF11))/LOG(2))))","v":0},null,{"$f":"N11","v":1211},{"$f":"COUNTIF(L100:L130,AI11)","v":0},{"$f":"AJ11/(AL4-AJ20)","v":0},{"$f":"IF(AK11=0,0,(AK11*((LOG(AK11))/LOG(2))))","v":0},null,{"$f":"N11","v":1211},{"$f":"COUNTIF(L131:L161,AN11)","v":0},{"$f":"AO11/(AQ4-AO20)","v":0},{"$f":"IF(AP11=0,0,(AP11*((LOG(AP11))/LOG(2))))","v":0},null,{"$f":"N11","v":1211},{"$f":"COUNTIF(L162:L192,AS11)","v":0},{"$f":"AT11/(AV4-AT20)","v":0},{"$f":"IF(AU11=0,0,(AU11*((LOG(AU11))/LOG(2))))","v":0}]
[12,788,14,792,13,796,14,806,null,null,0,1111,null,1212,{"$f":"COUNTIF($L$7:$L$500,N12)","v":1},{"$f":"O12/$Q$4","v":5.3763440860215058E-3},{"$f":"IF(P12=0,0,(P12*((LOG(P12))/LOG(2))))","v":-4.0533111887677595E-2},null,null,{"$f":"N12","v":1212},{"$f":"COUNTIF(L7:L37,T12)","v":0},{"$f":"U12/(W4-U20)","v":0},{"$f":"IF(V12=0,0,(V12*((LOG(V12))/LOG(2))))","v":0},null,{"$f":"N12","v":1212},{"$f":"COUNTIF(L38:L68,Y12)","v":0},{"$f":"Z12/(AB4-Z20)","v":0},{"$f":"IF(AA12=0,0,(AA12*((LOG(AA12))/LOG(2))))","v":0},null,{"$f":"N12","v":1212},{"$f":"COUNTIF(L69:L99,AD12)","v":0},{"$f":"AE12/(AG4-AE20)","v":0},{"$f":"IF(AF12=0,0,(AF12*((LOG(AF12))/LOG(2))))","v":0},null,{"$f":"N12","v":1212},{"$f":"COUNTIF(L100:L130,AI12)","v":0},{"$f":"AJ12/(AL4-AJ20)","v":0},{"$f":"IF(AK12=0,0,(AK12*((LOG(AK12))/LOG(2))))","v":0},null,{"$f":"N12","v":1212},{"$f":"COUNTIF(L131:L161,AN12)","v":0},{"$f":"AO12/(AQ4-AO20)","v":0},{"$f":"IF(AP12=0,0,(AP12*((LOG(AP12))/LOG(2))))","v":0},null,{"$f":"N12","v":1212},{"$f":"COUNTIF(L162:L192,AS12)","v":1},{"$f":"AT12/(AV4-AT20)","v":3.2258064516129031E-2},{"$f":"IF(AU12=0,0,(AU12*((LOG(AU12))/LOG(2))))","v":-0.15981278420602821}]
[21,922,21,938,22,944,23,952,null,null,0,2222,null,1221,{"$f":"COUNTIF($L$7:$L$500,N13)","v":5},{"$f":"O13/$Q$4","v":2.6881720430107527E-2},{"$f":"IF(P13=0,0,(P13*((LOG(P13))/LOG(2))))","v":-0.1402481375328137},null,null,{"$f":"N13","v":1221},{"$f":"COUNTIF(L7:L37,T13)","v":4},{"$f":"U13/(W4-U20)","v":0.13333333333333333},{"$f":"IF(V13=0,0,(V13*((LOG(V13))/LOG(2))))","v":-0.3875854127478025},null,{"$f":"N13","v":1221},{"$f":"COUNTIF(L38:L68,Y13)","v":0},{"$f":"Z13/(AB4-Z20)","v":0},{"$f":"IF(AA13=0,0,(AA13*((LOG(AA13))/LOG(2))))","v":0},null,{"$f":"N13","v":1221},{"$f":"COUNTIF(L69:L99,AD13)","v":0},{"$f":"AE13/(AG4-AE20)","v":0},{"$f":"IF(AF13=0,0,(AF13*((LOG(AF13))/LOG(2))))","v":0},null,{"$f":"N13","v":1221},{"$f":"COUNTIF(L100:L130,AI13)","v":1},{"$f":"AJ13/(AL4-AJ20)","v":3.2258064516129031E-2},{"$f":"IF(AK13=0,0,(AK13*((LOG(AK13))/LOG(2))))","v":-0.15981278420602821},null,{"$f":"N13","v":1221},{"$f":"COUNTIF(L131:L161,AN13)","v":0},{"$f":"AO13/(AQ4-AO20)","v":0},{"$f":"IF(AP13=0,0,(AP13*((LOG(AP13))/LOG(2))))","v":0},null,{"$f":"N13","v":1221},{"$f":"COUNTIF(L162:L192,AS13)","v":0},{"$f":"AT13/(AV4-AT20)","v":0},{"$f":"IF(AU13=0,0,(AU13*((LOG(AU13))/LOG(2))))","v":0}]
[12,1055,23,1068,24,1081,23,1090,null,null,0,1222,null,1222,{"$f":"COUNTIF($L$7:$L$500,N14)","v":6},{"$f":"O14/$Q$4","v":3.2258064516129031E-2},{"$f":"IF(P14=0,0,(P14*((LOG(P14))/LOG(2))))","v":-0.15981278420602821},null,null,{"$f":"N14","v":1222},{"$f":"COUNTIF(L7:L37,T14)","v":4},{"$f":"U14/(W4-U20)","v":0.13333333333333333},{"$f":"IF(V14=0,0,(V14*((LOG(V14))/LOG(2))))","v":-0.3875854127478025},null,{"$f":"N14","v":1222},{"$f":"COUNTIF(L38:L68,Y14)","v":0},{"$f":"Z14/(AB4-Z20)","v":0},{"$f":"IF(AA14=0,0,(AA14*((LOG(AA14))/LOG(2))))","v":0},null,{"$f":"N14","v":1222},{"$f":"COUNTIF(L69:L99,AD14)","v":0},{"$f":"AE14/(AG4-AE20)","v":0},{"$f":"IF(AF14=0,0,(AF14*((LOG(AF14))/LOG(2))))","v":0},null,{"$f":"N14","v":1222},{"$f":"COUNTIF(L100:L130,AI14)","v":0},{"$f":"AJ14/(AL4-AJ20)","v":0},{"$f":"IF(AK14=0,0,(AK14*((LOG(AK14))/LOG(2))))","v":0},null,{"$f":"N14","v":1222},{"$f":"COUNTIF(L131:L161,AN14)","v":2},{"$f":"AO14/(AQ4-AO20)","v":6.4516129032258063E-2},{"$f":"IF(AP14=0,0,(AP14*((LOG(AP14))/LOG(2))))","v":-0.25510943937979835},null,{"$f":"N14","v":1222},{"$f":"COUNTIF(L162:L192,AS14)","v":0},{"$f":"AT14/(AV4-AT20)","v":0},{"$f":"IF(AU14=0,0,(AU14*((LOG(AU14))/LOG(2))))","v":0}]
[21,1214,21,1221,22,1228,23,1256,null,null,0,2222,null,2111,{"$f":"COUNTIF($L$7:$L$500,N15)","v":1},{"$f":"O15/$Q$4","v":5.3763440860215058E-3},{"$f":"IF(P15=0,0,(P15*((LOG(P15))/LOG(2))))","v":-4.0533111887677595E-2},null,null,{"$f":"N15","v":2111},{"$f":"COUNTIF(L7:L37,T15)","v":0},{"$f":"U15/(W4-U20)","v":0},{"$f":"IF(V15=0,0,(V15*((LOG(V15))/LOG(2))))","v":0},null,{"$f":"N15","v":2111},{"$f":"COUNTIF(L38:L68,Y15)","v":0},{"$f":"Z15/(AB4-Z20)","v":0},{"$f":"IF(AA15=0,0,(AA15*((LOG(AA15))/LOG(2))))","v":0},null,{"$f":"N15","v":2111},{"$f":"COUNTIF(L69:L99,AD15)","v":0},{"$f":"AE15/(AG4-AE20)","v":0},{"$f":"IF(AF15=0,0,(AF15*((LOG(AF15))/LOG(2))))","v":0},null,{"$f":"N15","v":2111},{"$f":"COUNTIF(L100:L130,AI15)","v":0},{"$f":"AJ15/(AL4-AJ20)","v":0},{"$f":"IF(AK15=0,0,(AK15*((LOG(AK15))/LOG(2))))","v":0},null,{"$f":"N15","v":2111},{"$f":"COUNTIF(L131:L161,AN15)","v":0},{"$f":"AO15/(AQ4-AO20)","v":0},{"$f":"IF(AP15=0,0,(AP15*((LOG(AP15))/LOG(2))))","v":0},null,{"$f":"N15","v":2111},{"$f":"COUNTIF(L162:L192,AS15)","v":1},{"$f":"AT15/(AV4-AT20)","v":3.2258064516129031E-2},{"$f":"IF(AU15=0,0,(AU15*((LOG(AU15))/LOG(2))))","v":-0.15981278420602821}]
[12,1358,23,1372,24,1378,14,1386,null,null,0,1221,null,2112,{"$f":"COUNTIF($L$7:$L$500,N16)","v":0},{"$f":"O16/$Q$4","v":0},{"$f":"IF(P16=0,0,(P16*((LOG(P16))/LOG(2))))","v":0},null,null,{"$f":"N16","v":2112},{"$f":"COUNTIF(L7:L37,T16)","v":0},{"$f":"U16/(W4-U20)","v":0},{"$f":"IF(V16=0,0,(V16*((LOG(V16))/LOG(2))))","v":0},null,{"$f":"N16","v":2112},{"$f":"COUNTIF(L38:L68,Y16)","v":0},{"$f":"Z16/(AB4-Z20)","v":0},{"$f":"IF(AA16=0,0,(AA16*((LOG(AA16))/LOG(2))))","v":0},null,{"$f":"N16","v":2112},{"$f":"COUNTIF(L69:L99,AD16)","v":0},{"$f":"AE16/(AG4-AE20)","v":0},{"$f":"IF(AF16=0,0,(AF16*((LOG(AF16))/LOG(2))))","v":0},null,{"$f":"N16","v":2112},{"$f":"COUNTIF(L100:L130,AI16)","v":0},{"$f":"AJ16/(AL4-AJ20)","v":0},{"$f":"IF(AK16=0,0,(AK16*((LOG(AK16))/LOG(2))))","v":0},null,{"$f":"N16","v":2112},{"$f":"COUNTIF(L131:L161,AN16)","v":0},{"$f":"AO16/(AQ4-AO20)","v":0},{"$f":"IF(AP16=0,0,(AP16*((LOG(AP16))/LOG(2))))","v":0},null,{"$f":"N16","v":2112},{"$f":"COUNTIF(L162:L192,AS16)","v":0},{"$f":"AT16/(AV4-AT20)","v":0},{"$f":"IF(AU16=0,0,(AU16*((LOG(AU16))/LOG(2))))","v":0}]
[12,1504,23,1514,24,1524,23,1531,null,null,0,1222,null,2121,{"$f":"COUNTIF($L$7:$L$500,N17)","v":0},{"$f":"O17/$Q$4","v":0},{"$f":"IF(P17=0,0,(P17*((LOG(P17))/LOG(2))))","v":0},null,null,{"$f":"N17","v":2121},{"$f":"COUNTIF(L7:L37,T17)","v":0},{"$f":"U17/(W4-U20)","v":0},{"$f":"IF(V17=0,0,(V17*((LOG(V17))/LOG(2))))","v":0},null,{"$f":"N17","v":2121},{"$f":"COUNTIF(L38:L68,Y17)","v":0},{"$f":"Z17/(AB4-Z20)","v":0},{"$f":"IF(AA17=0,0,(AA17*((LOG(AA17))/LOG(2))))","v":0},null,{"$f":"N17","v":2121},{"$f":"COUNTIF(L69:L99,AD17)","v":0},{"$f":"AE17/(AG4-AE20)","v":0},{"$f":"IF(AF17=0,0,(AF17*((LOG(AF17))/LOG(2))))","v":0},null,{"$f":"N17","v":2121},{"$f":"COUNTIF(L100:L130,AI17)","v":0},{"$f":"AJ17/(AL4-AJ20)","v":0},{"$f":"IF(AK17=0,0,(AK17*((LOG(AK17))/LOG(2))))","v":0},null,{"$f":"N17","v":2121},{"$f":"COUNTIF(L131:L161,AN17)","v":0},{"$f":"AO17/(AQ4-AO20)","v":0},{"$f":"IF(AP17=0,0,(AP17*((LOG(AP17))/LOG(2))))","v":0},null,{"$f":"N17","v":2121},{"$f":"COUNTIF(L162:L192,AS17)","v":0},{"$f":"AT17/(AV4-AT20)","v":0},{"$f":"IF(AU17=0,0,(AU17*((LOG(AU17))/LOG(2))))","v":0}]
[12,1630,14,1643,13,1648,14,1653,null,null,0,1111,null,2122,{"$f":"COUNTIF($L$7:$L$500,N18)","v":0},{"$f":"O18/$Q$4","v":0},{"$f":"IF(P18=0,0,(P18*((LOG(P18))/LOG(2))))","v":0},null,null,{"$f":"N18","v":2122},{"$f":"COUNTIF(L7:L37,T18)","v":0},{"$f":"U18/(W4-U20)","v":0},{"$f":"IF(V18=0,0,(V18*((LOG(V18))/LOG(2))))","v":0},null,{"$f":"N18","v":2122},{"$f":"COUNTIF(L38:L68,Y18)","v":0},{"$f":"Z18/(AB4-Z20)","v":0},{"$f":"IF(AA18=0,0,(AA18*((LOG(AA18))/LOG(2))))","v":0},null,{"$f":"N18","v":2122},{"$f":"COUNTIF(L69:L99,AD18)","v":0},{"$f":"AE18/(AG4-AE20)","v":0},{"$f":"IF(AF18=0,0,(AF18*((LOG(AF18))/LOG(2))))","v":0},null,{"$f":"N18","v":2122},{"$f":"COUNTIF(L100:L130,AI18)","v":0},{"$f":"AJ18/(AL4-AJ20)","v":0},{"$f":"IF(AK18=0,0,(AK18*((LOG(AK18))/LOG(2))))","v":0},null,{"$f":"N18","v":2122},{"$f":"COUNTIF(L131:L161,AN18)","v":0},{"$f":"AO18/(AQ4-AO20)","v":0},{"$f":"IF(AP18=0,0,(AP18*((LOG(AP18))/LOG(2))))","v":0},null,{"$f":"N18","v":2122},{"$f":"COUNTIF(L162:L192,AS18)","v":0},{"$f":"AT18/(AV4-AT20)","v":0},{"$f":"IF(AU18=0,0,(AU18*((LOG(AU18))/LOG(2))))","v":0}]
[12,1751,14,1784,24,1793,23,1799,null,null,0,1122,null,2211,{"$f":"COUNTIF($L$7:$L$500,N19)","v":0},{"$f":"O19/$Q$4","v":0},{"$f":"IF(P19=0,0,(P19*((LOG(P19))/LOG(2))))","v":0},null,null,{"$f":"N19","v":2211},{"$f":"COUNTIF(L7:L37,T19)","v":0},{"$f":"U19/(W4-U20)","v":0},{"$f":"IF(V19=0,0,(V19*((LOG(V19))/LOG(2))))","v":0},null,{"$f":"N19","v":2211},{"$f":"COUNTIF(L38:L68,Y19)","v":0},{"$f":"Z19/(AB4-Z20)","v":0},{"$f":"IF(AA19=0,0,(AA19*((LOG(AA19))/LOG(2))))","v":0},null,{"$f":"N19","v":2211},{"$f":"COUNTIF(L69:L99,AD19)","v":0},{"$f":"AE19/(AG4-AE20)","v":0},{"$f":"IF(AF19=0,0,(AF19*((LOG(AF19))/LOG(2))))","v":0},null,{"$f":"N19","v":2211},{"$f":"COUNTIF(L100:L130,AI19)","v":0},{"$f":"AJ19/(AL4-AJ20)","v":0},{"$f":"IF(AK19=0,0,(AK19*((LOG(AK19))/LOG(2))))","v":0},null,{"$f":"N19","v":2211},{"$f":"COUNTIF(L131:L161,AN19)","v":0},{"$f":"AO19/(AQ4-AO20)","v":0},{"$f":"IF(AP19=0,0,(AP19*((LOG(AP19))/LOG(2))))","v":0},null,{"$f":"N19","v":2211},{"$f":"COUNTIF(L162:L192,AS19)","v":0},{"$f":"AT19/(AV4-AT20)","v":0},{"$f":"IF(AU19=0,0,(AU19*((LOG(AU19))/LOG(2))))","v":0}]
[12,1900,14,1906,13,1912,14,1917,null,null,0,1111,null,2212,{"$f":"COUNTIF($L$7:$L$500,N20)","v":1},{"$f":"O20/$Q$4","v":5.3763440860215058E-3},{"$f":"IF(P20=0,0,(P20*((LOG(P20))/LOG(2))))","v":-4.0533111887677595E-2},null,null,{"$f":"N20","v":2212},{"$f":"COUNTIF(L7:L37,T20)","v":1},null,null,null,{"$f":"N20","v":2212},{"$f":"COUNTIF(L38:L68,Y20)","v":0},null,null,null,{"$f":"N20","v":2212},{"$f":"COUNTIF(L69:L99,AD20)","v":0},null,null,null,{"$f":"N20","v":2212},{"$f":"COUNTIF(L100:L130,AI20)","v":0},null,null,null,{"$f":"N20","v":2212},{"$f":"COUNTIF(L131:L161,AN20)","v":0},null,null,null,{"$f":"N20","v":2212},{"$f":"COUNTIF(L162:L192,AS20)","v":0}]
[12,2017,23,2038,24,2047,14,2060,null,null,0,1221,null,2221,{"$f":"COUNTIF($L$7:$L$500,N21)","v":0},{"$f":"O21/$Q$4","v":0},{"$f":"IF(P21=0,0,(P21*((LOG(P21))/LOG(2))))","v":0},null,null,{"$f":"N21","v":2221},{"$f":"COUNTIF(L7:L37,T21)","v":0},{"$f":"U21/(W4-U20)","v":0},{"$f":"IF(V21=0,0,(V21*((LOG(V21))/LOG(2))))","v":0},null,{"$f":"N21","v":2221},{"$f":"COUNTIF(L38:L68,Y21)","v":0},{"$f":"Z21/(AB4-Z20)","v":0},{"$f":"IF(AA21=0,0,(AA21*((LOG(AA21))/LOG(2))))","v":0},null,{"$f":"N21","v":2221},{"$f":"COUNTIF(L69:L99,AD21)","v":0},{"$f":"AE21/(AG4-AE20)","v":0},{"$f":"IF(AF21=0,0,(AF21*((LOG(AF21))/LOG(2))))","v":0},null,{"$f":"N21","v":2221},{"$f":"COUNTIF(L100:L130,AI21)","v":0},{"$f":"AJ21/(AL4-AJ20)","v":0},{"$f":"IF(AK21=0,0,(AK21*((LOG(AK21))/LOG(2))))","v":0},null,{"$f":"N21","v":2221},{"$f":"COUNTIF(L131:L161,AN21)","v":0},{"$f":"AO21/(AQ4-AO20)","v":0},{"$f":"IF(AP21=0,0,(AP21*((LOG(AP21))/LOG(2))))","v":0},null,{"$f":"N21","v":2221},{"$f":"COUNTIF(L162:L192,AS21)","v":0},{"$f":"AT21/(AV4-AT20)","v":0},{"$f":"IF(AU21=0,0,(AU21*((LOG(AU21))/LOG(2))))","v":0}]
[12,2160,14,2166,13,2180,23,2191,null,null,0,1112,null,2222,{"$f":"COUNTIF($L$7:$L$500,N22)","v":2},{"$f":"O22/$Q$4","v":1.0752688172043012E-2},{"$f":"IF(P22=0,0,(P22*((LOG(P22))/LOG(2))))","v":-7.0313535603312161E-2},null,null,{"$f":"N22","v":2222},{"$f":"COUNTIF(L7:L37,T22)","v":2},{"$f":"U22/(W4-U20)","v":6.6666666666666666E-2},{"$f":"IF(V22=0,0,(V22*((LOG(V22))/LOG(2))))","v":-0.26045937304056793},null,{"$f":"N22","v":2222},{"$f":"COUNTIF(L38:L68,Y22)","v":0},{"$f":"Z22/(AB4-Z20)","v":0},{"$f":"IF(AA22=0,0,(AA22*((LOG(AA22))/LOG(2))))","v":0},null,{"$f":"N22","v":2222},{"$f":"COUNTIF(L69:L99,AD22)","v":0},{"$f":"AE22/(AG4-AE20)","v":0},{"$f":"IF(AF22=0,0,(AF22*((LOG(AF22))/LOG(2))))","v":0},null,{"$f":"N22","v":2222},{"$f":"COUNTIF(L100:L130,AI22)","v":0},{"$f":"AJ22/(AL4-AJ20)","v":0},{"$f":"IF(AK22=0,0,(AK22*((LOG(AK22))/LOG(2))))","v":0},null,{"$f":"N22","v":2222},{"$f":"COUNTIF(L131:L161,AN22)","v":0},{"$f":"AO22/(AQ4-AO20)","v":0},{"$f":"IF(AP22=0,0,(AP22*((LOG(AP22))/LOG(2))))","v":0},null,{"$f":"N22","v":2222},{"$f":"COUNTIF(L162:L192,AS22)","v":0},{"$f":"AT22/(AV4-AT20)","v":0},{"$f":"IF(AU22=0,0,(AU22*((LOG(AU22))/LOG(2))))","v":0}]
[12,2289,14,2301,13,2306,14,2311,null,null,0,1111,null,null,null,{"$f":"SUM(P7:P22)","v":0.99999999999999989},{"$f":"-SUM(Q7:Q22)","v":1.7922142228795244},null,null,null,null,{"$f":"SUM(V7:V22)","v":0.99999999999999989},{"$f":"-SUM(W7:W22)","v":2.6029100796497269},null,null,null,{"$f":"SUM(AA7:AA22)","v":0.99999999999999978},{"$f":"-SUM(AB7:AB22)","v":1.5365080232231916},null,null,null,{"$f":"SUM(AF7:AF22)","v":1},{"$f":"-SUM(AG7:AG22)","v":1.3250566850693146},null,null,null,{"$f":"SUM(AK7:AK22)","v":1},{"$f":"-SUM(AL7:AL22)","v":1.0819672775704963},null,null,null,{"$f":"SUM(AP7:AP22)","v":1},{"$f":"-SUM(AQ7:AQ22)","v":0.88285977259112025},null,null,null,{"$f":"SUM(AU7:AU22)","v":1},{"$f":"-SUM(AV7:AV22)","v":1.2912382460759642}]
[12,2420,23,2431,24,2443,23,2451,null,null,0,1222,null,null,null,"U=",{"$f":"Q23/(LOG(Q4)/LOG(2))","v":0.23772071497405189},null,null,null,null,"U1=",{"$f":"W23/(LOG(W4)/LOG(2))","v":0.52539502203263821},null,null,null,"U2=",{"$f":"AB23/(LOG(AB4)/LOG(2))","v":0.31014274101366912},null,null,null,"U3=",{"$f":"AG23/(LOG(AG4)/LOG(2))","v":0.26746148155074634},null,null,null,"U4=",{"$f":"AL23/(LOG(AL4)/LOG(2))","v":0.21839410668932596},null,null,null,"U5=",{"$f":"AQ23/(LOG(AQ4)/LOG(2))","v":0.17820443867759803},null,null,null,"U6=",{"$f":"AV23/(LOG(AV4)/LOG(2))","v":0.26063526053030606}]
[12,2550,14,2558,24,2569,23,2573,null,null,0,1122]
[12,2676,14,2682,24,2704,23,2713,null,null,0,1122]
[12,2811,23,2833,24,2841,23,2845,null,null,0,1222,null,"Total Target Seq"]
[12,2944,14,2949,13,2962,23,2981,null,null,0,1112,null,{"$f":"COUNTIF(L7:L192,G3)","v":1},null,31,31,31,31,31,31]
[12,3084,23,3097,13,3109,14,3114,null,null,0,1211,null,null,null,"% of reinforcement given in 6 equal intervals based on number of trials "]
[12,3213,14,3217,13,3229,14,3233,null,null,0,1111,null,null,null,"%_1","%_2","%_3","%_4","%_5","%_6"]
[12,3330,14,3356,13,3364,14,3379,null,null,0,1111,null,null,"target sequence",{"$f":"$G$3","v":2212},{"$f":"$G$3","v":2212},{"$f":"$G$3","v":2212},{"$f":"$G$3","v":2212},{"$f":"$G$3","v":2212},{"$f":"$G$3","v":2212}]
[12,3478,14,3488,13,3493,23,3521,null,null,0,1112,null,null,"total reinforcement",{"$f":"U20","v":1},{"$f":"Z20","v":0},{"$f":"AE20","v":0},{"$f":"AJ20","v":0},{"$f":"AO20","v":0},{"$f":"AT20","v":0}]
[12,3628,14,3636,13,3642,14,3647,null,null,0,1111,null,null,"% target"]
[12,3746,14,3753,13,3762,23,3775,null,null,0,1112,null,null,"CCRF"]
[12,3874,14,3884,13,3890,14,3895,null,null,0,1111,null,null,"% CCRf"]
[12,3998,14,4003,24,4020,23,4033,null,null,0,1122,null,null,"average response rate",{"$f":"H37/P28","v":134.29032258064515},{"$f":"(H68-H37)/Q28","v":126.25806451612904},{"$f":"(H99-H68)/R28","v":124.38709677419355},{"$f":"(H130-H99)/S28","v":125.83870967741936},{"$f":"(H161-H130)/T28","v":128.03225806451613},{"$f":"(H192-H161)/U28","v":135.41935483870967}]
[12,4133,14,4144,13,4149,23,4163,null,null,0,1112]
[12,4282,23,4292,13,4307,14,4311,null,null,0,1211]
[12,4410,14,4415,13,4421,14,4425,null,null,0,1111]
[12,4524,14,4536,13,4541,14,4545,null,null,0,1111]
[12,4643,14,4649,13,4654,14,4659,null,null,0,1111]
[12,4759,14,4766,13,4771,14,4783,null,null,0,1111]
[12,4882,23,4896,13,4913,14,4917,null,null,0,1211]
[12,5016,14,5025,13,5030,23,5047,null,null,0,1112]
[12,5147,14,5156,13,5160,14,5167,null,null,0,1111]
[12,5269,14,5275,13,5280,23,5292,null,null,0,1112]
[12,5391,14,5398,13,5403,23,5421,null,null,0,1112]
[12,5518,14,5525,24,5536,14,5543,null,null,0,1121]
[12,5640,14,5645,13,5651,14,5669,null,null,0,1111]
[12,5771,14,5776,13,5780,14,5785,null,null,0,1111]
[12,5886,14,5891,13,5899,23,5911,null,null,0,1112]
[12,6021,14,6025,13,6030,14,6034,null,null,0,1111]
[12,6136,14,6143,13,6154,14,6160,null,null,0,1111]
[12,6263,14,6269,13,6277,14,6281,null,null,0,1111]
[12,6382,14,6415,13,6448,14,6457,null,null,0,1111]
[12,6561,14,6565,24,6591,14,6602,null,null,0,1121]
[12,6708,14,6712,24,6725,23,6740,null,null,0,1122]
[12,6838,14,6845,13,6850,14,6854,null,null,0,1111]
[12,6960,14,6964,13,6971,14,6979,null,null,0,1111]
[12,7088,14,7092,13,7096,23,7109,null,null,0,1112]
[12,7207,14,7211,13,7219,14,7226,null,null,0,1111]
[12,7328,14,7334,13,7339,14,7345,null,null,0,1111]
[12,7442,14,7448,13,7466,23,7481,null,null,0,1112]
[12,7581,14,7588,13,7602,14,7606,null,null,0,1111]
[12,7708,14,7713,13,7718,14,7729,null,null,0,1111]
[12,7825,14,7837,13,7843,14,7848,null,null,0,1111]
[12,7946,14,7951,13,7955,14,7960,null,null,0,1111]
[12,8057,14,8068,13,8073,14,8077,null,null,0,1111]
[12,8178,14,8183,13,8188,14,8193,null,null,0,1111]
[12,8295,14,8299,24,8312,23,8331,null,null,0,1122]
[12,8429,14,8447,24,8459,23,8465,null,null,0,1122]
[12,8562,14,8581,13,8586,14,8595,null,null,0,1111]
[12,8693,14,8699,13,8703,14,8708,null,null,0,1111]
[12,8805,14,8811,13,8819,14,8824,null,null,0,1111]
[12,8928,14,8933,24,8949,14,8968,null,null,0,1121]
[12,9089,14,9093,13,9097,14,9102,null,null,0,1111]
[12,9198,14,9208,13,9213,14,9223,null,null,0,1111]
[12,9324,14,9329,24,9340,23,9346,null,null,0,1122]
[12,9444,14,9450,13,9454,14,9459,null,null,0,1111]
[12,9557,14,9562,13,9567,23,9579,null,null,0,1112]
[12,9690,14,9695,13,9700,14,9712,null,null,0,1111]
[12,9813,14,9821,24,9832,23,9840,null,null,0,1122]
[12,9938,14,9950,13,9955,14,9959,null,null,0,1111]
[12,10061,14,10066,13,10076,14,10083,null,null,0,1111]
[12,10180,14,10185,13,10190,14,10195,null,null,0,1111]
[12,10293,14,10301,13,10309,14,10314,null,null,0,1111]
[12,10421,14,10426,13,10430,14,10454,null,null,0,1111]
[12,10552,14,10562,13,10566,14,10571,null,null,0,1111]
[12,10668,14,10673,13,10678,23,10695,null,null,0,1112]
[12,10794,14,10799,13,10803,14,10807,null,null,0,1111]
[12,10907,14,10918,13,10924,14,10932,null,null,0,1111]
[12,11032,14,11040,13,11045,14,11050,null,null,0,1111]
[12,11148,14,11154,13,11159,23,11176,null,null,0,1112]
[12,11277,14,11290,13,11294,14,11300,null,null,0,1111]
[12,11397,14,11403,13,11408,14,11418,null,null,0,1111]
[12,11517,14,11525,24,11542,23,11554,null,null,0,1122]
[12,11658,14,11663,13,11667,14,11674,null,null,0,1111]
[12,11771,14,11779,13,11784,14,11789,null,null,0,1111]
[12,11894,14,11909,24,11929,23,11933,null,null,0,1122]
[12,12036,14,12040,13,12045,23,12065,null,null,0,1112]
[12,12163,14,12172,13,12177,14,12185,null,null,0,1111]
[12,12287,14,12292,13,12298,14,12306,null,null,0,1111]
[12,12403,14,12407,13,12412,14,12418,null,null,0,1111]
[12,12515,14,12527,13,12532,23,12551,null,null,0,1112]
[12,12650,14,12654,13,12660,14,12665,null,null,0,1111]
[12,12782,14,12788,13,12792,14,12796,null,null,0,1111]
[12,12899,14,12904,13,12909,14,12914,null,null,0,1111]
[12,13013,14,13018,13,13023,14,13027,null,null,0,1111]
[12,13127,14,13132,13,13137,14,13142,null,null,0,1111]
[12,13242,14,13247,13,13252,14,13257,null,null,0,1111]
[12,13370,23,13386,24,13398,14,13408,null,null,0,1221]
[12,13509,14,13522,13,13531,14,13544,null,null,0,1111]
[12,13642,14,13647,13,13654,14,13660,null,null,0,1111]
[12,13759,14,13763,13,13768,23,13792,null,null,0,1112]
[12,13890,14,13906,13,13910,14,13914,null,null,0,1111]
[12,14012,14,14020,13,14025,14,14029,null,null,0,1111]
[12,14167,14,14172,13,14181,14,14185,null,null,0,1111]
[12,14289,14,14295,13,14301,14,14305,null,null,0,1111]
[12,14402,14,14407,13,14411,14,14416,null,null,0,1111]
[12,14515,14,14520,13,14525,14,14530,null,null,0,1111]
[12,14643,14,14648,13,14652,14,14656,null,null,0,1111]
[12,14768,14,14773,24,14785,23,14804,null,null,0,1122]
[12,14911,14,14919,13,14924,14,14929,null,null,0,1111]
[12,15028,14,15032,13,15037,23,15056,null,null,0,1112]
[12,15162,14,15166,13,15171,14,15175,null,null,0,1111]
[12,15300,14,15305,13,15314,14,15320,null,null,0,1111]
[12,15429,14,15434,13,15441,14,15445,null,null,0,1111]
[12,15549,14,15556,13,15561,14,15567,null,null,0,1111]
[12,15665,14,15673,24,15694,23,15706,null,null,0,1122]
[12,15806,14,15822,13,15829,14,15834,null,null,0,1111]
[12,15941,14,15946,13,15950,14,15956,null,null,0,1111]
[12,16071,14,16083,13,16087,14,16092,null,null,0,1111]
[12,16190,14,16196,13,16201,14,16206,null,null,0,1111]
[12,16305,14,16310,13,16315,14,16320,null,null,0,1111]
[12,16417,14,16423,13,16428,14,16433,null,null,0,1111]
[12,16531,14,16535,13,16545,14,16552,null,null,0,1111]
[12,16681,14,16689,13,16695,14,16700,null,null,0,1111]
[12,16803,14,16807,13,16812,14,16818,null,null,0,1111]
[12,16919,14,16926,13,16939,14,16945,null,null,0,1111]
[12,17042,14,17047,13,17053,14,17061,null,null,0,1111]
[12,17175,23,17189,24,17194,23,17206,null,null,0,1222]
[12,17308,14,17313,13,17323,23,17339,null,null,0,1112]
[12,17439,14,17458,13,17466,14,17475,null,null,0,1111]
[12,17579,14,17584,13,17590,14,17595,null,null,0,1111]
[12,17704,14,17711,13,17717,14,17721,null,null,0,1111]
[12,17820,14,17826,13,17827,14,17835,null,null,0,1111]
[12,17935,14,17948,24,17960,23,17965,null,null,0,1122]
[12,18066,14,18071,13,18076,14,18081,null,null,0,1111]
[12,18198,14,18203,13,18208,14,18219,null,null,0,1111]
[12,18320,14,18329,13,18334,14,18340,null,null,0,1111]
[12,18462,23,18477,24,18482,23,18493,null,null,0,1222]
[12,18595,14,18600,13,18606,14,18610,null,null,0,1111]
[12,18710,14,18715,13,18720,14,18726,null,null,0,1111]
[12,18872,14,18878,24,18889,23,18902,null,null,0,1122]
[12,19008,14,19012,13,19017,14,19023,null,null,0,1111]
[12,19123,14,19129,13,19134,14,19143,null,null,0,1111]
[12,19260,14,19268,13,19273,14,19281,null,null,0,1111]
[12,19383,14,19394,13,19398,14,19402,null,null,0,1111]
[12,19504,14,19509,13,19516,14,19521,null,null,0,1111]
[12,19619,14,19626,13,19635,14,19639,null,null,0,1111]
[12,19775,14,19790,13,19798,14,19803,null,null,0,1111]
[12,19933,14,19940,24,19956,23,19964,null,null,0,1122]
[12,20077,14,20082,13,20086,14,20091,null,null,0,1111]
[12,20211,23,20248,13,20262,23,20273,null,null,0,1212]
[12,20381,14,20388,24,20409,23,20414,null,null,0,1122]
[21,20540,12,20547,13,20558,14,20563,null,null,0,2111]
[12,20681,14,20686,13,20691,14,20696,null,null,0,1111]
[12,20793,14,20803,13,20808,14,20812,null,null,0,1111]
[12,20926,14,20937,13,20941,23,20959,null,null,0,1112]
[12,21083,14,21088,24,21109,23,21117,null,null,0,1122]
[12,21244,14,21250,13,21258,14,21263,null,null,0,1111]
[12,21380,14,21385,13,21393,14,21422,null,null,0,1111]
[12,21525,14,21530,13,21539,14,21544,null,null,0,1111]
[12,21643,14,21649,13,21655,14,21664,null,null,0,1111]
[12,21762,14,21768,13,21773,14,21778,null,null,0,1111]
[12,21880,14,21885,13,21890,14,21894,null,null,0,1111]
[12,21993,14,21997,13,22002,14,22011,null,null,0,1111]
[12,22123,14,22153,13,22161,23,22172,null,null,0,1112]
[12,22273,14,22278,13,22283,14,22297,null,null,0,1111]
[12,22406,14,22412,13,22415,14,22428,null,null,0,1111]
[12,22542,14,22547,13,22553,14,22556,null,null,0,1111]
[12,22671,14,22679,13,22686,14,22691,null,null,0,1111]
[12,22792,14,22797,13,22805,14,22809,null,null,0,1111]
[12,22909,14,22914,13,22926,14,22931,null,null,0,1111]
[12,23029,14,23041,13,23049,14,23053,null,null,0,1111]
[12,23153,14,23158,13,23166,23,23182,null,null,0,1112]
[12,23283,14,23289,13,23294,14,23300,null,null,0,1111]
[12,23401,14,23408,13,23423,14,23427,null,null,0,1111]
[12,23539,14,23544,13,23549,14,23557,null,null,0,1111]
[12,23660,14,23665,13,23672,14,23678,null,null,0,1111]
[12,23838,14,23842,13,23850,14,23854,null,null,0,1111]
[12,23961,14,23966,13,23997,14,24001,null,null,null,1111]

{"sheet":"!MC31810.092","index":4,"n_rows":166,"n_cols":48,"rows_kept":166,"cut":false,"hidden":false,"merged":[[4,39,4,42],[5,39,5,40],[4,44,4,47],[5,44,5,45],[4,24,4,27],[5,24,5,25],[4,29,4,32],[5,29,5,30],[4,34,4,37],[5,34,5,35],[1,1,1,2],[5,13,5,14],[26,13,26,14],[27,13,27,14],[4,19,4,22],[5,19,5,20]]}
["Report for:!MC31810.092"]
["Date:","<date>"]
["Hen:","<hen>",null,null,null,"Correct Sequence",{"$f":"Start!J2","v":2212},null,null,null,null,null,null,null,null,"Total Sequences in Data",{"$f":"4994-COUNTBLANK(L7:L5000)","v":160},null,null,null,null,"Total Sequences in Block Data",{"$f":"COUNTA(L7:L33)","v":27},null,null,null,"Total Sequences in Block Data",{"$f":"COUNTA(L34:L59)","v":26},null,null,null,"Total Sequences in Block Data",{"$f":"COUNTA(L60:L86)","v":27},null,null,null,"Total Sequences in Block Data",{"$f":"COUNTA(L87:L113)","v":27},null,null,null,"Total Sequences in Block Data",{"$f":"COUNTA(L114:L139)","v":26},null,null,null,"Total Sequences in Block Data",{"$f":"COUNTA(L140:L166)","v":27}]
[null,null,null,null,null,null,null,null,null,null,null,null,null,null,null,"Total Sequences in Summary",{"$f":"SUM(O7:O22)","v":160},null,null,null,null,"Total Sequences in Block Summary",{"$f":"SUM(U7:U22)","v":27},null,null,null,"Total Sequences in Block Summary",{"$f":"SUM(Z7:Z22)","v":26},null,null,null,"Total Sequences in Block Summary",{"$f":"SUM(AE7:AE22)","v":27},null,null,null,"Total Sequences in Block Summary",{"$f":"SUM(AJ7:AJ22)","v":27},null,null,null,"Total Sequences in Block Summary",{"$f":"SUM(AO7:AO22)","v":26},null,null,null,"Total Sequences in Block Summary",{"$f":"SUM(AT7:AT22)","v":27}]
[null,null,null,null,null,null,null,null,null,null,null,null,null,null,null,null,null,null,null,"Block 1",null,null,null,null,"Block 2",null,null,null,null,"Block 3",null,null,null,null,"Block 4",null,null,null,null,"Block 5",null,null,null,null,"Block 6"]
["Sequence\nComponent\n1","Time\n1","Sequence\nComponent\n2","Time\n2","Sequence\nComponent\n3","Time\n3","Sequence\nComponent\n4","Time\n4","Sequence\nComponent\n5","Time\n5","Correct?\n0=No 1=Yes","Sequence",null,"Frequency",null,"Relative Frequency","Variability",null,null,"Frequency",null,"Relative Frequency","Variability",null,"Frequency",null,"Relative Frequency","Variability",null,"Frequency",null,"Relative Frequency","Variability",null,"Frequency",null,"Relative Frequency","Variability",null,"Frequency",null,"Relative Frequency","Variability",null,"Frequency",null,"Relative Frequency","Variability"]
[12,78,14,85,24,107,14,123,null,null,0,1121,null,1111,{"$f":"COUNTIF($L$7:$L$500,N7)","v":86},{"$f":"O7/$Q$4","v":0.53749999999999998},{"$f":"IF(P7=0,0,(P7*((LOG(P7))/LOG(2))))","v":-0.48141904534957958},null,null,{"$f":"N7","v":1111},{"$f":"COUNTIF(L7:L33,T7)","v":20},{"$f":"U7/(W4-U20)","v":0.7407407407407407},{"$f":"IF(V7=0,0,(V7*((LOG(V7))/LOG(2))))","v":-0.32071067205637499},null,{"$f":"N7","v":1111},{"$f":"COUNTIF(L34:L59,Y7)","v":16},{"$f":"Z7/(AB4-Z20)","v":0.61538461538461542},{"$f":"IF(AA7=0,0,(AA7*((LOG(AA7))/LOG(2))))","v":-0.43103982654836437},null,{"$f":"N7","v":1111},{"$f":"COUNTIF(L60:L86,AD7)","v":21},{"$f":"AE7/(AG4-AE20)","v":0.77777777777777779},{"$f":"IF(AF7=0,0,(AF7*((LOG(AF7))/LOG(2))))","v":-0.28199895063255082},null,{"$f":"N7","v":1111},{"$f":"COUNTIF(L87:L113,AI7)","v":11},{"$f":"AJ7/(AL4-AJ20)","v":0.40740740740740738},{"$f":"IF(AK7=0,0,(AK7*((LOG(AK7))/LOG(2))))","v":-0.52777832291806981},null,{"$f":"N7","v":1111},{"$f":"COUNTIF(L114:L139,AN7)","v":8},{"$f":"AO7/(AQ4-AO20)","v":0.30769230769230771},{"$f":"IF(AP7=0,0,(AP7*((LOG(AP7))/LOG(2))))","v":-0.52321222096648989},null,{"$f":"N7","v":1111},{"$f":"COUNTIF(L140:L166,AS7)","v":10},{"$f":"AT7/(AV4-AT20)","v":0.37037037037037035},{"$f":"IF(AU7=0,0,(AU7*((LOG(AU7))/LOG(2))))","v":-0.53072570639855787}]
[21,256,21,267,11,281,12,286,null,null,0,2211,null,1112,{"$f":"COUNTIF($L$7:$L$500,N8)","v":18},{"$f":"O8/$Q$4","v":0.1125},{"$f":"IF(P8=0,0,(P8*((LOG(P8))/LOG(2))))","v":-0.35460034801256812},null,null,{"$f":"N8","v":1112},{"$f":"COUNTIF(L7:L33,T8)","v":2},{"$f":"U8/(W4-U20)","v":7.407407407407407E-2},{"$f":"IF(V8=0,0,(V8*((LOG(V8))/LOG(2))))","v":-0.27813981497507173},null,{"$f":"N8","v":1112},{"$f":"COUNTIF(L34:L59,Y8)","v":4},{"$f":"Z8/(AB4-Z20)","v":0.15384615384615385},{"$f":"IF(AA8=0,0,(AA8*((LOG(AA8))/LOG(2))))","v":-0.4154522643293988},null,{"$f":"N8","v":1112},{"$f":"COUNTIF(L60:L86,AD8)","v":2},{"$f":"AE8/(AG4-AE20)","v":7.407407407407407E-2},{"$f":"IF(AF8=0,0,(AF8*((LOG(AF8))/LOG(2))))","v":-0.27813981497507173},null,{"$f":"N8","v":1112},{"$f":"COUNTIF(L87:L113,AI8)","v":4},{"$f":"AJ8/(AL4-AJ20)","v":0.14814814814814814},{"$f":"IF(AK8=0,0,(AK8*((LOG(AK8))/LOG(2))))","v":-0.40813148180199532},null,{"$f":"N8","v":1112},{"$f":"COUNTIF(L114:L139,AN8)","v":3},{"$f":"AO8/(AQ4-AO20)","v":0.11538461538461539},{"$f":"IF(AP8=0,0,(AP8*((LOG(AP8))/LOG(2))))","v":-0.35947814047153104},null,{"$f":"N8","v":1112},{"$f":"COUNTIF(L140:L166,AS8)","v":3},{"$f":"AT8/(AV4-AT20)","v":0.1111111111111111},{"$f":"IF(AU8=0,0,(AU8*((LOG(AU8))/LOG(2))))","v":-0.3522138890491458}]
[12,408,14,414,24,425,23,430,null,null,0,1122,null,1121,{"$f":"COUNTIF($L$7:$L$500,N9)","v":2},{"$f":"O9/$Q$4","v":1.2500000000000001E-2},{"$f":"IF(P9=0,0,(P9*((LOG(P9))/LOG(2))))","v":-7.902410118609203E-2},null,null,{"$f":"N9","v":1121},{"$f":"COUNTIF(L7:L33,T9)","v":1},{"$f":"U9/(W4-U20)","v":3.7037037037037035E-2},{"$f":"IF(V9=0,0,(V9*((LOG(V9))/LOG(2))))","v":-0.1761069445245729},null,{"$f":"N9","v":1121},{"$f":"COUNTIF(L34:L59,Y9)","v":0},{"$f":"Z9/(AB4-Z20)","v":0},{"$f":"IF(AA9=0,0,(AA9*((LOG(AA9))/LOG(2))))","v":0},null,{"$f":"N9","v":1121},{"$f":"COUNTIF(L60:L86,AD9)","v":1},{"$f":"AE9/(AG4-AE20)","v":3.7037037037037035E-2},{"$f":"IF(AF9=0,0,(AF9*((LOG(AF9))/LOG(2))))","v":-0.1761069445245729},null,{"$f":"N9","v":1121},{"$f":"COUNTIF(L87:L113,AI9)","v":0},{"$f":"AJ9/(AL4-AJ20)","v":0},{"$f":"IF(AK9=0,0,(AK9*((LOG(AK9))/LOG(2))))","v":0},null,{"$f":"N9","v":1121},{"$f":"COUNTIF(L114:L139,AN9)","v":0},{"$f":"AO9/(AQ4-AO20)","v":0},{"$f":"IF(AP9=0,0,(AP9*((LOG(AP9))/LOG(2))))","v":0},null,{"$f":"N9","v":1121},{"$f":"COUNTIF(L140:L166,AS9)","v":0},{"$f":"AT9/(AV4-AT20)","v":0},{"$f":"IF(AU9=0,0,(AU9*((LOG(AU9))/LOG(2))))","v":0}]
[12,533,14,540,13,558,14,565,null,null,0,1111,null,1122,{"$f":"COUNTIF($L$7:$L$500,N10)","v":8},{"$f":"O10/$Q$4","v":0.05},{"$f":"IF(P10=0,0,(P10*((LOG(P10))/LOG(2))))","v":-0.21609640474436814},null,null,{"$f":"N10","v":1122},{"$f":"COUNTIF(L7:L33,T10)","v":2},{"$f":"U10/(W4-U20)","v":7.407407407407407E-2},{"$f":"IF(V10=0,0,(V10*((LOG(V10))/LOG(2))))","v":-0.27813981497507173},null,{"$f":"N10","v":1122},{"$f":"COUNTIF(L34:L59,Y10)","v":3},{"$f":"Z10/(AB4-Z20)","v":0.11538461538461539},{"$f":"IF(AA10=0,0,(AA10*((LOG(AA10))/LOG(2))))","v":-0.35947814047153104},null,{"$f":"N10","v":1122},{"$f":"COUNTIF(L60:L86,AD10)","v":0},{"$f":"AE10/(AG4-AE20)","v":0},{"$f":"IF(AF10=0,0,(AF10*((LOG(AF10))/LOG(2))))","v":0},null,{"$f":"N10","v":1122},{"$f":"COUNTIF(L87:L113,AI10)","v":2},{"$f":"AJ10/(AL4-AJ20)","v":7.407407407407407E-2},{"$f":"IF(AK10=0,0,(AK10*((LOG(AK10))/LOG(2))))","v":-0.27813981497507173},null,{"$f":"N10","v":1122},{"$f":"COUNTIF(L114:L139,AN10)","v":1},{"$f":"AO10/(AQ4-AO20)","v":3.8461538461538464E-2},{"$f":"IF(AP10=0,0,(AP10*((LOG(AP10))/LOG(2))))","v":-0.18078614300542661},null,{"$f":"N10","v":1122},{"$f":"COUNTIF(L140:L166,AS10)","v":0},{"$f":"AT10/(AV4-AT20)","v":0},{"$f":"IF(AU10=0,0,(AU10*((LOG(AU10))/LOG(2))))","v":0}]
[12,670,14,693,13,698,23,706,null,null,0,1112,null,1211,{"$f":"COUNTIF($L$7:$L$500,N11)","v":6},{"$f":"O11/$Q$4","v":3.7499999999999999E-2},{"$f":"IF(P11=0,0,(P11*((LOG(P11))/LOG(2))))","v":-0.17763620978123273},null,null,{"$f":"N11","v":1211},{"$f":"COUNTIF(L7:L33,T11)","v":1},{"$f":"U11/(W4-U20)","v":3.7037037037037035E-2},{"$f":"IF(V11=0,0,(V11*((LOG(V11))/LOG(2))))","v":-0.1761069445245729},null,{"$f":"N11","v":1211},{"$f":"COUNTIF(L34:L59,Y11)","v":1},{"$f":"Z11/(AB4-Z20)","v":3.8461538461538464E-2},{"$f":"IF(AA11=0,0,(AA11*((LOG(AA11))/LOG(2))))","v":-0.18078614300542661},null,{"$f":"N11","v":1211},{"$f":"COUNTIF(L60:L86,AD11)","v":0},{"$f":"AE11/(AG4-AE20)","v":0},{"$f":"IF(AF11=0,0,(AF11*((LOG(AF11))/LOG(2))))","v":0},null,{"$f":"N11","v":1211},{"$f":"COUNTIF(L87:L113,AI11)","v":0},{"$f":"AJ11/(AL4-AJ20)","v":0},{"$f":"IF(AK11=0,0,(AK11*((LOG(AK11))/LOG(2))))","v":0},null,{"$f":"N11","v":1211},{"$f":"COUNTIF(L114:L139,AN11)","v":3},{"$f":"AO11/(AQ4-AO20)","v":0.11538461538461539},{"$f":"IF(AP11=0,0,(AP11*((LOG(AP11))/LOG(2))))","v":-0.35947814047153104},null,{"$f":"N11","v":1211},{"$f":"COUNTIF(L140:L166,AS11)","v":1},{"$f":"AT11/(AV4-AT20)","v":3.7037037037037035E-2},{"$f":"IF(AU11=0,0,(AU11*((LOG(AU11))/LOG(2))))","v":-0.1761069445245729}]
[12,811,14,816,13,826,23,839,null,null,0,1112,null,1212,{"$f":"COUNTIF($L$7:$L$500,N12)","v":0},{"$f":"O12/$Q$4","v":0},{"$f":"IF(P12=0,0,(P12*((LOG(P12))/LOG(2))))","v":0},null,null,{"$f":"N12","v":1212},{"$f":"COUNTIF(L7:L33,T12)","v":0},{"$f":"U12/(W4-U20)","v":0},{"$f":"IF(V12=0,0,(V12*((LOG(V12))/LOG(2))))","v":0},null,{"$f":"N12","v":1212},{"$f":"COUNTIF(L34:L59,Y12)","v":0},{"$f":"Z12/(AB4-Z20)","v":0},{"$f":"IF(AA12=0,0,(AA12*((LOG(AA12))/LOG(2))))","v":0},null,{"$f":"N12","v":1212},{"$f":"COUNTIF(L60:L86,AD12)","v":0},{"$f":"AE12/(AG4-AE20)","v":0},{"$f":"IF(AF12=0,0,(AF12*((LOG(AF12))/LOG(2))))","v":0},null,{"$f":"N12","v":1212},{"$f":"COUNTIF(L87:L113,AI12)","v":0},{"$f":"AJ12/(AL4-AJ20)","v":0},{"$f":"IF(AK12=0,0,(AK12*((LOG(AK12))/LOG(2))))","v":0},null,{"$f":"N12","v":1212},{"$f":"COUNTIF(L114:L139,AN12)","v":0},{"$f":"AO12/(AQ4-AO20)","v":0},{"$f":"IF(AP12=0,0,(AP12*((LOG(AP12))/LOG(2))))","v":0},null,{"$f":"N12","v":1212},{"$f":"COUNTIF(L140:L166,AS12)","v":0},{"$f":"AT12/(AV4-AT20)","v":0},{"$f":"IF(AU12=0,0,(AU12*((LOG(AU12))/LOG(2))))","v":0}]
[12,944,14,949,13,954,14,960,null,null,0,1111,null,1221,{"$f":"COUNTIF($L$7:$L$500,N13)","v":3},{"$f":"O13/$Q$4","v":1.8749999999999999E-2},{"$f":"IF(P13=0,0,(P13*((LOG(P13))/LOG(2))))","v":-0.10756810489061637},null,null,{"$f":"N13","v":1221},{"$f":"COUNTIF(L7:L33,T13)","v":0},{"$f":"U13/(W4-U20)","v":0},{"$f":"IF(V13=0,0,(V13*((LOG(V13))/LOG(2))))","v":0},null,{"$f":"N13","v":1221},{"$f":"COUNTIF(L34:L59,Y13)","v":1},{"$f":"Z13/(AB4-Z20)","v":3.8461538461538464E-2},{"$f":"IF(AA13=0,0,(AA13*((LOG(AA13))/LOG(2))))","v":-0.18078614300542661},null,{"$f":"N13","v":1221},{"$f":"COUNTIF(L60:L86,AD13)","v":0},{"$f":"AE13/(AG4-AE20)","v":0},{"$f":"IF(AF13=0,0,(AF13*((LOG(AF13))/LOG(2))))","v":0},null,{"$f":"N13","v":1221},{"$f":"COUNTIF(L87:L113,AI13)","v":2},{"$f":"AJ13/(AL4-AJ20)","v":7.407407407407407E-2},{"$f":"IF(AK13=0,0,(AK13*((LOG(AK13))/LOG(2))))","v":-0.27813981497507173},null,{"$f":"N13","v":1221},{"$f":"COUNTIF(L114:L139,AN13)","v":0},{"$f":"AO13/(AQ4-AO20)","v":0},{"$f":"IF(AP13=0,0,(AP13*((LOG(AP13))/LOG(2))))","v":0},null,{"$f":"N13","v":1221},{"$f":"COUNTIF(L140:L166,AS13)","v":0},{"$f":"AT13/(AV4-AT20)","v":0},{"$f":"IF(AU13=0,0,(AU13*((LOG(AU13))/LOG(2))))","v":0}]
[12,1073,14,1088,24,1104,23,1111,null,null,0,1122,null,1222,{"$f":"COUNTIF($L$7:$L$500,N14)","v":1},{"$f":"O14/$Q$4","v":6.2500000000000003E-3},{"$f":"IF(P14=0,0,(P14*((LOG(P14))/LOG(2))))","v":-4.5762050593046014E-2},null,null,{"$f":"N14","v":1222},{"$f":"COUNTIF(L7:L33,T14)","v":0},{"$f":"U14/(W4-U20)","v":0},{"$f":"IF(V14=0,0,(V14*((LOG(V14))/LOG(2))))","v":0},null,{"$f":"N14","v":1222},{"$f":"COUNTIF(L34:L59,Y14)","v":0},{"$f":"Z14/(AB4-Z20)","v":0},{"$f":"IF(AA14=0,0,(AA14*((LOG(AA14))/LOG(2))))","v":0},null,{"$f":"N14","v":1222},{"$f":"COUNTIF(L60:L86,AD14)","v":0},{"$f":"AE14/(AG4-AE20)","v":0},{"$f":"IF(AF14=0,0,(AF14*((LOG(AF14))/LOG(2))))","v":0},null,{"$f":"N14","v":1222},{"$f":"COUNTIF(L87:L113,AI14)","v":1},{"$f":"AJ14/(AL4-AJ20)","v":3.7037037037037035E-2},{"$f":"IF(AK14=0,0,(AK14*((LOG(AK14))/LOG(2))))","v":-0.1761069445245729},null,{"$f":"N14","v":1222},{"$f":"COUNTIF(L114:L139,AN14)","v":0},{"$f":"AO14/(AQ4-AO20)","v":0},{"$f":"IF(AP14=0,0,(AP14*((LOG(AP14))/LOG(2))))","v":0},null,{"$f":"N14","v":1222},{"$f":"COUNTIF(L140:L166,AS14)","v":0},{"$f":"AT14/(AV4-AT20)","v":0},{"$f":"IF(AU14=0,0,(AU14*((LOG(AU14))/LOG(2))))","v":0}]
[12,1214,14,1219,13,1223,14,1229,null,null,0,1111,null,2111,{"$f":"COUNTIF($L$7:$L$500,N15)","v":21},{"$f":"O15/$Q$4","v":0.13125000000000001},{"$f":"IF(P15=0,0,(P15*((LOG(P15))/LOG(2))))","v":-0.38451140071425399},null,null,{"$f":"N15","v":2111},{"$f":"COUNTIF(L7:L33,T15)","v":0},{"$f":"U15/(W4-U20)","v":0},{"$f":"IF(V15=0,0,(V15*((LOG(V15))/LOG(2))))","v":0},null,{"$f":"N15","v":2111},{"$f":"COUNTIF(L34:L59,Y15)","v":0},{"$f":"Z15/(AB4-Z20)","v":0},{"$f":"IF(AA15=0,0,(AA15*((LOG(AA15))/LOG(2))))","v":0},null,{"$f":"N15","v":2111},{"$f":"COUNTIF(L60:L86,AD15)","v":2},{"$f":"AE15/(AG4-AE20)","v":7.407407407407407E-2},{"$f":"IF(AF15=0,0,(AF15*((LOG(AF15))/LOG(2))))","v":-0.27813981497507173},null,{"$f":"N15","v":2111},{"$f":"COUNTIF(L87:L113,AI15)","v":5},{"$f":"AJ15/(AL4-AJ20)","v":0.18518518518518517},{"$f":"IF(AK15=0,0,(AK15*((LOG(AK15))/LOG(2))))","v":-0.45054803838446406},null,{"$f":"N15","v":2111},{"$f":"COUNTIF(L114:L139,AN15)","v":6},{"$f":"AO15/(AQ4-AO20)","v":0.23076923076923078},{"$f":"IF(AP15=0,0,(AP15*((LOG(AP15))/LOG(2))))","v":-0.48818705017383146},null,{"$f":"N15","v":2111},{"$f":"COUNTIF(L140:L166,AS15)","v":8},{"$f":"AT15/(AV4-AT20)","v":0.29629629629629628},{"$f":"IF(AU15=0,0,(AU15*((LOG(AU15))/LOG(2))))","v":-0.51996666730769436}]
[12,1340,14,1346,13,1351,14,1355,null,null,0,1111,null,2112,{"$f":"COUNTIF($L$7:$L$500,N16)","v":2},{"$f":"O16/$Q$4","v":1.2500000000000001E-2},{"$f":"IF(P16=0,0,(P16*((LOG(P16))/LOG(2))))","v":-7.902410118609203E-2},null,null,{"$f":"N16","v":2112},{"$f":"COUNTIF(L7:L33,T16)","v":0},{"$f":"U16/(W4-U20)","v":0},{"$f":"IF(V16=0,0,(V16*((LOG(V16))/LOG(2))))","v":0},null,{"$f":"N16","v":2112},{"$f":"COUNTIF(L34:L59,Y16)","v":0},{"$f":"Z16/(AB4-Z20)","v":0},{"$f":"IF(AA16=0,0,(AA16*((LOG(AA16))/LOG(2))))","v":0},null,{"$f":"N16","v":2112},{"$f":"COUNTIF(L60:L86,AD16)","v":1},{"$f":"AE16/(AG4-AE20)","v":3.7037037037037035E-2},{"$f":"IF(AF16=0,0,(AF16*((LOG(AF16))/LOG(2))))","v":-0.1761069445245729},null,{"$f":"N16","v":2112},{"$f":"COUNTIF(L87:L113,AI16)","v":0},{"$f":"AJ16/(AL4-AJ20)","v":0},{"$f":"IF(AK16=0,0,(AK16*((LOG(AK16))/LOG(2))))","v":0},null,{"$f":"N16","v":2112},{"$f":"COUNTIF(L114:L139,AN16)","v":0},{"$f":"AO16/(AQ4-AO20)","v":0},{"$f":"IF(AP16=0,0,(AP16*((LOG(AP16))/LOG(2))))","v":0},null,{"$f":"N16","v":2112},{"$f":"COUNTIF(L140:L166,AS16)","v":1},{"$f":"AT16/(AV4-AT20)","v":3.7037037037037035E-2},{"$f":"IF(AU16=0,0,(AU16*((LOG(AU16))/LOG(2))))","v":-0.1761069445245729}]
[12,1460,14,1485,13,1491,14,1498,null,null,0,1111,null,2121,{"$f":"COUNTIF($L$7:$L$500,N17)","v":0},{"$f":"O17/$Q$4","v":0},{"$f":"IF(P17=0,0,(P17*((LOG(P17))/LOG(2))))","v":0},null,null,{"$f":"N17","v":2121},{"$f":"COUNTIF(L7:L33,T17)","v":0},{"$f":"U17/(W4-U20)","v":0},{"$f":"IF(V17=0,0,(V17*((LOG(V17))/LOG(2))))","v":0},null,{"$f":"N17","v":2121},{"$f":"COUNTIF(L34:L59,Y17)","v":0},{"$f":"Z17/(AB4-Z20)","v":0},{"$f":"IF(AA17=0,0,(AA17*((LOG(AA17))/LOG(2))))","v":0},null,{"$f":"N17","v":2121},{"$f":"COUNTIF(L60:L86,AD17)","v":0},{"$f":"AE17/(AG4-AE20)","v":0},{"$f":"IF(AF17=0,0,(AF17*((LOG(AF17))/LOG(2))))","v":0},null,{"$f":"N17","v":2121},{"$f":"COUNTIF(L87:L113,AI17)","v":0},{"$f":"AJ17/(AL4-AJ20)","v":0},{"$f":"IF(AK17=0,0,(AK17*((LOG(AK17))/LOG(2))))","v":0},null,{"$f":"N17","v":2121},{"$f":"COUNTIF(L114:L139,AN17)","v":0},{"$f":"AO17/(AQ4-AO20)","v":0},{"$f":"IF(AP17=0,0,(AP17*((LOG(AP17))/LOG(2))))","v":0},null,{"$f":"N17","v":2121},{"$f":"COUNTIF(L140:L166,AS17)","v":0},{"$f":"AT17/(AV4-AT20)","v":0},{"$f":"IF(AU17=0,0,(AU17*((LOG(AU17))/LOG(2))))","v":0}]
[12,1600,14,1605,13,1610,14,1615,null,null,0,1111,null,2122,{"$f":"COUNTIF($L$7:$L$500,N18)","v":3},{"$f":"O18/$Q$4","v":1.8749999999999999E-2},{"$f":"IF(P18=0,0,(P18*((LOG(P18))/LOG(2))))","v":-0.10756810489061637},null,null,{"$f":"N18","v":2122},{"$f":"COUNTIF(L7:L33,T18)","v":0},{"$f":"U18/(W4-U20)","v":0},{"$f":"IF(V18=0,0,(V18*((LOG(V18))/LOG(2))))","v":0},null,{"$f":"N18","v":2122},{"$f":"COUNTIF(L34:L59,Y18)","v":1},{"$f":"Z18/(AB4-Z20)","v":3.8461538461538464E-2},{"$f":"IF(AA18=0,0,(AA18*((LOG(AA18))/LOG(2))))","v":-0.18078614300542661},null,{"$f":"N18","v":2122},{"$f":"COUNTIF(L60:L86,AD18)","v":0},{"$f":"AE18/(AG4-AE20)","v":0},{"$f":"IF(AF18=0,0,(AF18*((LOG(AF18))/LOG(2))))","v":0},null,{"$f":"N18","v":2122},{"$f":"COUNTIF(L87:L113,AI18)","v":0},{"$f":"AJ18/(AL4-AJ20)","v":0},{"$f":"IF(AK18=0,0,(AK18*((LOG(AK18))/LOG(2))))","v":0},null,{"$f":"N18","v":2122},{"$f":"COUNTIF(L114:L139,AN18)","v":2},{"$f":"AO18/(AQ4-AO20)","v":7.6923076923076927E-2},{"$f":"IF(AP18=0,0,(AP18*((LOG(AP18))/LOG(2))))","v":-0.28464920908777636},null,{"$f":"N18","v":2122},{"$f":"COUNTIF(L140:L166,AS18)","v":0},{"$f":"AT18/(AV4-AT20)","v":0},{"$f":"IF(AU18=0,0,(AU18*((LOG(AU18))/LOG(2))))","v":0}]
[12,1722,14,1727,13,1732,14,1736,null,null,0,1111,null,2211,{"$f":"COUNTIF($L$7:$L$500,N19)","v":9},{"$f":"O19/$Q$4","v":5.6250000000000001E-2},{"$f":"IF(P19=0,0,(P19*((LOG(P19))/LOG(2))))","v":-0.23355017400628406},null,null,{"$f":"N19","v":2211},{"$f":"COUNTIF(L7:L33,T19)","v":1},{"$f":"U19/(W4-U20)","v":3.7037037037037035E-2},{"$f":"IF(V19=0,0,(V19*((LOG(V19))/LOG(2))))","v":-0.1761069445245729},null,{"$f":"N19","v":2211},{"$f":"COUNTIF(L34:L59,Y19)","v":0},{"$f":"Z19/(AB4-Z20)","v":0},{"$f":"IF(AA19=0,0,(AA19*((LOG(AA19))/LOG(2))))","v":0},null,{"$f":"N19","v":2211},{"$f":"COUNTIF(L60:L86,AD19)","v":0},{"$f":"AE19/(AG4-AE20)","v":0},{"$f":"IF(AF19=0,0,(AF19*((LOG(AF19))/LOG(2))))","v":0},null,{"$f":"N19","v":2211},{"$f":"COUNTIF(L87:L113,AI19)","v":1},{"$f":"AJ19/(AL4-AJ20)","v":3.7037037037037035E-2},{"$f":"IF(AK19=0,0,(AK19*((LOG(AK19))/LOG(2))))","v":-0.1761069445245729},null,{"$f":"N19","v":2211},{"$f":"COUNTIF(L114:L139,AN19)","v":3},{"$f":"AO19/(AQ4-AO20)","v":0.11538461538461539},{"$f":"IF(AP19=0,0,(AP19*((LOG(AP19))/LOG(2))))","v":-0.35947814047153104},null,{"$f":"N19","v":2211},{"$f":"COUNTIF(L140:L166,AS19)","v":4},{"$f":"AT19/(AV4-AT20)","v":0.14814814814814814},{"$f":"IF(AU19=0,0,(AU19*((LOG(AU19))/LOG(2))))","v":-0.40813148180199532}]
[12,1836,23,1854,13,1869,14,1874,null,null,0,1211,null,2212,{"$f":"COUNTIF($L$7:$L$500,N20)","v":0},{"$f":"O20/$Q$4","v":0},{"$f":"IF(P20=0,0,(P20*((LOG(P20))/LOG(2))))","v":0},null,null,{"$f":"N20","v":2212},{"$f":"COUNTIF(L7:L33,T20)","v":0},null,null,null,{"$f":"N20","v":2212},{"$f":"COUNTIF(L34:L59,Y20)","v":0},null,null,null,{"$f":"N20","v":2212},{"$f":"COUNTIF(L60:L86,AD20)","v":0},null,null,null,{"$f":"N20","v":2212},{"$f":"COUNTIF(L87:L113,AI20)","v":0},null,null,null,{"$f":"N20","v":2212},{"$f":"COUNTIF(L114:L139,AN20)","v":0},null,null,null,{"$f":"N20","v":2212},{"$f":"COUNTIF(L140:L166,AS20)","v":0}]
[12,1988,14,2006,13,2011,14,2018,null,null,0,1111,null,2221,{"$f":"COUNTIF($L$7:$L$500,N21)","v":1},{"$f":"O21/$Q$4","v":6.2500000000000003E-3},{"$f":"IF(P21=0,0,(P21*((LOG(P21))/LOG(2))))","v":-4.5762050593046014E-2},null,null,{"$f":"N21","v":2221},{"$f":"COUNTIF(L7:L33,T21)","v":0},{"$f":"U21/(W4-U20)","v":0},{"$f":"IF(V21=0,0,(V21*((LOG(V21))/LOG(2))))","v":0},null,{"$f":"N21","v":2221},{"$f":"COUNTIF(L34:L59,Y21)","v":0},{"$f":"Z21/(AB4-Z20)","v":0},{"$f":"IF(AA21=0,0,(AA21*((LOG(AA21))/LOG(2))))","v":0},null,{"$f":"N21","v":2221},{"$f":"COUNTIF(L60:L86,AD21)","v":0},{"$f":"AE21/(AG4-AE20)","v":0},{"$f":"IF(AF21=0,0,(AF21*((LOG(AF21))/LOG(2))))","v":0},null,{"$f":"N21","v":2221},{"$f":"COUNTIF(L87:L113,AI21)","v":1},{"$f":"AJ21/(AL4-AJ20)","v":3.7037037037037035E-2},{"$f":"IF(AK21=0,0,(AK21*((LOG(AK21))/LOG(2))))","v":-0.1761069445245729},null,{"$f":"N21","v":2221},{"$f":"COUNTIF(L114:L139,AN21)","v":0},{"$f":"AO21/(AQ4-AO20)","v":0},{"$f":"IF(AP21=0,0,(AP21*((LOG(AP21))/LOG(2))))","v":0},null,{"$f":"N21","v":2221},{"$f":"COUNTIF(L140:L166,AS21)","v":0},{"$f":"AT21/(AV4-AT20)","v":0},{"$f":"IF(AU21=0,0,(AU21*((LOG(AU21))/LOG(2))))","v":0}]
[12,2120,14,2126,13,2146,14,2150,null,null,0,1111,null,2222,{"$f":"COUNTIF($L$7:$L$500,N22)","v":0},{"$f":"O22/$Q$4","v":0},{"$f":"IF(P22=0,0,(P22*((LOG(P22))/LOG(2))))","v":0},null,null,{"$f":"N22","v":2222},{"$f":"COUNTIF(L7:L33,T22)","v":0},{"$f":"U22/(W4-U20)","v":0},{"$f":"IF(V22=0,0,(V22*((LOG(V22))/LOG(2))))","v":0},null,{"$f":"N22","v":2222},{"$f":"COUNTIF(L34:L59,Y22)","v":0},{"$f":"Z22/(AB4-Z20)","v":0},{"$f":"IF(AA22=0,0,(AA22*((LOG(AA22))/LOG(2))))","v":0},null,{"$f":"N22","v":2222},{"$f":"COUNTIF(L60:L86,AD22)","v":0},{"$f":"AE22/(AG4-AE20)","v":0},{"$f":"IF(AF22=0,0,(AF22*((LOG(AF22))/LOG(2))))","v":0},null,{"$f":"N22","v":2222},{"$f":"COUNTIF(L87:L113,AI22)","v":0},{"$f":"AJ22/(AL4-AJ20)","v":0},{"$f":"IF(AK22=0,0,(AK22*((LOG(AK22))/LOG(2))))","v":0},null,{"$f":"N22","v":2222},{"$f":"COUNTIF(L114:L139,AN22)","v":0},{"$f":"AO22/(AQ4-AO20)","v":0},{"$f":"IF(AP22=0,0,(AP22*((LOG(AP22))/LOG(2))))","v":0},null,{"$f":"N22","v":2222},{"$f":"COUNTIF(L140:L166,AS22)","v":0},{"$f":"AT22/(AV4-AT20)","v":0},{"$f":"IF(AU22=0,0,(AU22*((LOG(AU22))/LOG(2))))","v":0}]
[12,2254,14,2272,13,2277,14,2284,null,null,0,1111,null,null,null,{"$f":"SUM(P7:P22)","v":1},{"$f":"-SUM(Q7:Q22)","v":2.3125220959477955},null,null,null,null,{"$f":"SUM(V7:V22)","v":1},{"$f":"-SUM(W7:W22)","v":1.405311135580237},null,null,null,{"$f":"SUM(AA7:AA22)","v":1},{"$f":"-SUM(AB7:AB22)","v":1.7483286603655737},null,null,null,{"$f":"SUM(AF7:AF22)","v":1},{"$f":"-SUM(AG7:AG22)","v":1.19049246963184},null,null,null,{"$f":"SUM(AK7:AK22)","v":0.99999999999999978},{"$f":"-SUM(AL7:AL22)","v":2.4710583066283918},null,null,null,{"$f":"SUM(AP7:AP22)","v":1},{"$f":"-SUM(AQ7:AQ22)","v":2.5552690446481177},null,null,null,{"$f":"SUM(AU7:AU22)","v":1},{"$f":"-SUM(AV7:AV22)","v":2.163251633606539}]
[12,2383,14,2397,13,2402,14,2407,null,null,0,1111,null,null,null,"U=",{"$f":"Q23/(LOG(Q4)/LOG(2))","v":0.31583512784870782},null,null,null,null,"U1=",{"$f":"W23/(LOG(W4)/LOG(2))","v":0.29555086948762133},null,null,null,"U2=",{"$f":"AB23/(LOG(AB4)/LOG(2))","v":0.371950022807014},null,null,null,"U3=",{"$f":"AG23/(LOG(AG4)/LOG(2))","v":0.25037237349783087},null,null,null,"U4=",{"$f":"AL23/(LOG(AL4)/LOG(2))","v":0.51968806948725144},null,null,null,"U5=",{"$f":"AQ23/(LOG(AQ4)/LOG(2))","v":0.54362340501595963},null,null,null,"U6=",{"$f":"AV23/(LOG(AV4)/LOG(2))","v":0.45495327336814217}]
[12,2506,14,2512,13,2521,14,2526,null,null,0,1111]
[12,2629,14,2635,13,2640,14,2647,null,null,0,1111]
[12,2748,14,2753,13,2758,14,2763,null,null,0,1111,null,"Total Target Seq"]
[12,2887,14,2894,13,2911,14,2917,null,null,0,1111,null,{"$f":"COUNTIF(L7:L166,G3)","v":0},null,27,26,27,27,26,27]
[12,3028,14,3034,13,3041,14,3046,null,null,0,1111,null,null,null,"% of reinforcement given in 6 equal intervals based on number of trials "]
[12,3146,14,3150,13,3155,14,3159,null,null,0,1111,null,null,null,"%_1","%_2","%_3","%_4","%_5","%_6"]
[12,3265,14,3270,13,3275,14,3280,null,null,0,1111,null,null,"target sequence",{"$f":"$G$3","v":2212},{"$f":"$G$3","v":2212},{"$f":"$G$3","v":2212},{"$f":"$G$3","v":2212},{"$f":"$G$3","v":2212},{"$f":"$G$3","v":2212}]
[12,3381,14,3387,13,3392,14,3399,null,null,0,1111,null,null,"total reinforcement",{"$f":"U20","v":0},{"$f":"Z20","v":0},{"$f":"AE20","v":0},{"$f":"AJ20","v":0},{"$f":"AO20","v":0},{"$f":"AT20","v":0}]
[12,3506,14,3513,13,3519,14,3523,null,null,0,1111,null,null,"% target"]
[12,3624,14,3628,13,3634,23,3667,null,null,0,1112,null,null,"CCRF"]
[12,3815,14,3820,13,3826,14,3831,null,null,0,1111,null,null,"% CCRf"]
[21,3981,12,3992,24,4007,23,4015,null,null,0,2122,null,null,"average response rate",{"$f":"H33/P28","v":130.4814814814815},{"$f":"(H59-H33)/Q28","v":148.34615384615384},{"$f":"(H86-H59)/R28","v":154.18518518518519},{"$f":"(H113-H86)/S28","v":164.88888888888889},{"$f":"(H139-H113)/T28","v":149.57692307692307},{"$f":"(H166-H139)/U28","v":148.25925925925927}]
[12,4116,14,4122,13,4127,23,4142,null,null,0,1112]
[12,4245,14,4250,13,4255,14,4259,null,null,0,1111]
[12,4364,14,4370,13,4379,14,4386,null,null,0,1111]
[12,4522,14,4529,13,4534,23,4564,null,null,0,1112]
[12,4672,14,4677,13,4685,23,4699,null,null,0,1112]
[12,4800,14,4805,13,4811,14,4816,null,null,0,1111]
[12,4923,14,4942,13,4948,14,4952,null,null,0,1111]
[12,5060,14,5065,13,5071,14,5085,null,null,0,1111]
[12,5191,23,5207,24,5212,14,5224,null,null,0,1221]
[12,5346,14,5351,24,5365,23,5370,null,null,0,1122]
[12,5519,14,5524,13,5530,14,5535,null,null,0,1111]
[12,5665,14,5670,13,5675,14,5681,null,null,0,1111]
[12,5786,14,5792,13,5797,14,5803,null,null,0,1111]
[12,5904,14,5909,13,5914,14,5920,null,null,0,1111]
[12,6040,14,6056,24,6070,23,6076,null,null,0,1122]
[12,6179,14,6185,13,6190,14,6195,null,null,0,1111]
[12,6315,14,6323,24,6334,23,6341,null,null,0,1122]
[12,6455,14,6461,13,6474,14,6480,null,null,0,1111]
[12,6611,14,6617,13,6622,14,6627,null,null,0,1111]
[12,6793,23,6805,13,6822,14,6828,null,null,0,1211]
[12,7103,14,7112,13,7118,14,7123,null,null,0,1111]
[12,7227,14,7240,13,7246,14,7252,null,null,0,1111]
[12,7355,14,7366,13,7373,14,7380,null,null,0,1111]
[12,7497,14,7502,13,7509,14,7519,null,null,0,1111]
[12,7656,14,7661,13,7666,14,7672,null,null,0,1111]
[12,7775,14,7780,13,7786,14,7791,null,null,0,1111]
[12,7893,14,7905,13,7910,14,7915,null,null,0,1111]
[12,8018,14,8036,13,8042,14,8047,null,null,0,1111]
[21,8325,12,8339,13,8344,14,8351,null,null,0,2111]
[12,8469,14,8475,13,8480,14,8486,null,null,0,1111]
[12,8613,14,8636,13,8641,14,8661,null,null,0,1111]
[12,8805,14,8810,24,8824,14,8842,null,null,0,1121]
[12,8966,14,8979,13,8984,14,8989,null,null,0,1111]
[12,9105,14,9111,13,9116,14,9122,null,null,0,1111]
[12,9246,14,9259,13,9263,14,9268,null,null,0,1111]
[12,9390,14,9400,13,9405,14,9411,null,null,0,1111]
[12,9522,14,9537,13,9546,14,9550,null,null,0,1111]
[12,9696,14,9702,13,9706,14,9710,null,null,0,1111]
[12,9832,14,9836,13,9842,23,9858,null,null,0,1112]
[12,9973,14,9978,13,9983,14,9987,null,null,0,1111]
[12,10121,14,10130,13,10137,14,10146,null,null,0,1111]
[21,10262,12,10275,13,10280,23,10293,null,null,0,2112]
[12,10415,14,10420,13,10425,14,10431,null,null,0,1111]
[12,10585,14,10591,13,10598,14,10606,null,null,0,1111]
[12,10754,14,10759,13,10764,14,10772,null,null,0,1111]
[12,10881,14,10887,13,10892,14,10920,null,null,0,1111]
[12,11054,14,11058,13,11063,14,11081,null,null,0,1111]
[12,11183,14,11189,13,11194,14,11198,null,null,0,1111]
[12,11342,14,11347,13,11352,23,11366,null,null,0,1112]
[21,11521,12,11535,13,11539,14,11543,null,null,0,2111]
[12,11694,14,11698,13,11704,14,11712,null,null,0,1111]
[12,11831,23,11853,24,11862,14,11881,null,null,0,1221]
[12,11984,14,11989,13,11993,14,11998,null,null,0,1111]
[12,12113,14,12119,13,12124,14,12129,null,null,0,1111]
[12,12250,14,12254,13,12259,23,12281,null,null,0,1112]
[12,12406,14,12418,13,12424,14,12432,null,null,0,1111]
[12,12533,14,12546,13,12550,14,12554,null,null,0,1111]
[12,12795,14,12800,13,12836,14,12841,null,null,0,1111]
[12,12983,14,12988,13,12992,23,13015,null,null,0,1112]
[21,13127,12,13135,13,13139,14,13143,null,null,0,2111]
[21,13279,12,13290,13,13295,14,13300,null,null,0,2111]
[21,13419,12,13434,13,13438,14,13443,null,null,0,2111]
[21,13561,12,13578,13,13585,14,13590,null,null,0,2111]
[12,13737,14,13742,13,13747,14,13752,null,null,0,1111]
[12,13971,14,13976,13,13982,14,13986,null,null,0,1111]
[12,14148,14,14152,24,14168,23,14177,null,null,0,1122]
[12,14337,14,14343,13,14349,14,14353,null,null,0,1111]
[12,14500,14,14504,13,14509,14,14516,null,null,0,1111]
[12,14658,14,14663,24,14677,23,14688,null,null,0,1122]
[12,14868,14,14872,13,14877,23,14893,null,null,0,1112]
[21,14994,21,15010,22,15021,14,15032,null,null,0,2221]
[12,15138,23,15152,24,15157,14,15168,null,null,0,1221]
[12,15339,14,15344,13,15349,23,15367,null,null,0,1112]
[12,15528,23,15544,24,15550,23,15560,null,null,0,1222]
[12,15708,14,15713,13,15719,14,15724,null,null,0,1111]
[21,15823,21,15837,11,15852,12,15857,null,null,0,2211]
[21,15965,12,15985,13,15990,14,15995,null,null,0,2111]
[12,16105,23,16120,13,16132,14,16136,null,null,0,1211]
[21,16252,12,16267,13,16272,14,16278,null,null,0,2111]
[21,16389,12,16402,24,16417,23,16423,null,null,0,2122]
[12,16526,14,16551,13,16560,23,16575,null,null,0,1112]
[12,16700,14,16710,13,16716,23,16729,null,null,0,1112]
[12,16833,14,16837,13,16843,14,16849,null,null,0,1111]
[21,16960,12,16976,13,16981,14,16986,null,null,0,2111]
[12,17092,14,17098,24,17110,23,17115,null,null,0,1122]
[12,17245,14,17250,13,17256,14,17260,null,null,0,1111]
[12,17378,14,17383,13,17388,14,17395,null,null,0,1111]
[12,17530,14,17535,13,17540,23,17553,null,null,0,1112]
[21,17657,12,17670,13,17675,14,17681,null,null,0,2111]
[21,17822,12,17841,24,17855,23,17859,null,null,0,2122]
[12,17973,23,17988,13,18000,14,18004,null,null,0,1211]
[12,18126,14,18138,13,18152,14,18157,null,null,0,1111]
[12,18287,23,18303,13,18319,14,18323,null,null,0,1211]
[12,18498,14,18503,13,18507,14,18513,null,null,0,1111]
[12,18663,14,18668,13,18674,14,18685,null,null,0,1111]
[21,18860,21,18875,11,18889,12,18896,null,null,0,2211]
[12,19039,14,19043,13,19049,14,19053,null,null,0,1111]
[21,19156,12,19169,13,19173,14,19178,null,null,0,2111]
[21,19294,21,19306,11,19321,12,19326,null,null,0,2211]
[21,19435,12,19449,13,19455,14,19460,null,null,0,2111]
[21,19561,21,19573,11,19595,12,19599,null,null,0,2211]
[21,19731,12,19745,13,19749,14,19754,null,null,0,2111]
[12,19869,14,19873,13,19878,14,19884,null,null,0,1111]
[12,20036,14,20041,13,20046,14,20050,null,null,0,1111]
[21,20165,12,20179,13,20183,14,20189,null,null,0,2111]
[21,20305,12,20319,13,20323,14,20330,null,null,0,2111]
[12,20446,14,20451,13,20456,14,20467,null,null,0,1111]
[12,20576,14,20587,13,20595,14,20600,null,null,0,1111]
[21,20720,12,20731,13,20736,14,20741,null,null,0,2111]
[21,20873,21,20889,11,20908,12,20912,null,null,0,2211]
[21,21019,12,21037,13,21041,14,21046,null,null,0,2111]
[21,21165,12,21183,13,21187,14,21193,null,null,0,2111]
[12,21330,14,21335,13,21340,14,21349,null,null,0,1111]
[12,21484,14,21489,13,21494,14,21499,null,null,0,1111]
[21,21599,12,21611,13,21616,14,21622,null,null,0,2111]
[12,21750,14,21755,13,21761,14,21771,null,null,0,1111]
[21,21891,12,21907,13,21912,14,21918,null,null,0,2111]
[12,22105,14,22122,13,22127,23,22146,null,null,0,1112]
[12,22265,14,22270,13,22274,14,22283,null,null,0,1111]
[12,22393,14,22398,13,22402,23,22425,null,null,0,1112]
[12,22538,14,22546,13,22551,14,22556,null,null,0,1111]
[12,22698,14,22703,13,22708,14,22713,null,null,0,1111]
[12,22843,14,22847,13,22851,23,22867,null,null,0,1112]
[12,22982,23,22994,13,23010,14,23014,null,null,0,1211]
[12,23143,14,23148,13,23155,14,23162,null,null,0,1111]
[21,23260,21,23274,11,23294,12,23298,null,null,0,2211]
[21,23424,12,23440,13,23447,23,23459,null,null,0,2112]
[21,23557,21,23572,11,23584,12,23588,null,null,0,2211]
[21,23707,21,23712,11,23728,12,23732,null,null,0,2211]
[21,23863,12,23876,13,23880,14,23887,null,null,0,2111]

{"sheet":"!N102910.092","index":5,"n_rows":160,"n_cols":48,"rows_kept":160,"cut":false,"hidden":false,"merged":[[4,39,4,42],[5,39,5,40],[4,44,4,47],[5,44,5,45],[4,24,4,27],[5,24,5,25],[4,29,4,32],[5,29,5,30],[4,34,4,37],[5,34,5,35],[1,1,1,2],[5,13,5,14],[26,13,26,14],[27,13,27,14],[4,19,4,22],[5,19,5,20]]}
["Report for:!N102910.092"]
["Date:","<date>"]
["Hen:","<hen>",null,null,null,"Correct Sequence",{"$f":"Start!J2","v":2212},null,null,null,null,null,null,null,null,"Total Sequences in Data",{"$f":"4994-COUNTBLANK(L7:L5000)","v":154},null,null,null,null,"Total Sequences in Block Data",{"$f":"COUNTA(L7:L32)","v":26},null,null,null,"Total Sequences in Block Data",{"$f":"COUNTA(L33:L57)","v":25},null,null,null,"Total Sequences in Block Data",{"$f":"COUNTA(L58:L83)","v":26},null,null,null,"Total Sequences in Block Data",{"$f":"COUNTA(L84:L109)","v":26},null,null,null,"Total Sequences in Block Data",{"$f":"COUNTA(L110:L134)","v":25},null,null,null,"Total Sequences in Block Data",{"$f":"COUNTA(L135:L160)","v":26}]
[null,null,null,null,null,null,null,null,null,null,null,null,null,null,null,"Total Sequences in Summary",{"$f":"SUM(O7:O22)","v":154},null,null,null,null,"Total Sequences in Block Summary",{"$f":"SUM(U7:U22)","v":26},null,null,null,"Total Sequences in Block Summary",{"$f":"SUM(Z7:Z22)","v":25},null,null,null,"Total Sequences in Block Summary",{"$f":"SUM(AE7:AE22)","v":26},null,null,null,"Total Sequences in Block Summary",{"$f":"SUM(AJ7:AJ22)","v":26},null,null,null,"Total Sequences in Block Summary",{"$f":"SUM(AO7:AO22)","v":25},null,null,null,"Total Sequences in Block Summary",{"$f":"SUM(AT7:AT22)","v":26}]
[null,null,null,null,null,null,null,null,null,null,null,null,null,null,null,null,null,null,null,"Block 1",null,null,null,null,"Block 2",null,null,null,null,"Block 3",null,null,null,null,"Block 4",null,null,null,null,"Block 5",null,null,null,null,"Block 6"]
["Sequence\nComponent\n1","Time\n1","Sequence\nComponent\n2","Time\n2","Sequence\nComponent\n3","Time\n3","Sequence\nComponent\n4","Time\n4","Sequence\nComponent\n5","Time\n5","Correct?\n0=No 1=Yes","Sequence",null,"Frequency",null,"Relative Frequency","Variability",null,null,"Frequency",null,"Relative Frequency","Variability",null,"Frequency",null,"Relative Frequency","Variability",null,"Frequency",null,"Relative Frequency","Variability",null,"Frequency",null,"Relative Frequency","Variability",null,"Frequency",null,"Relative Frequency","Variability",null,"Frequency",null,"Relative Frequency","Variability"]
[21,36,12,56,24,66,14,79,null,null,0,2121,null,1111,{"$f":"COUNTIF($L$7:$L$500,N7)","v":63},{"$f":"O7/$Q$4","v":0.40909090909090912},{"$f":"IF(P7=0,0,(P7*((LOG(P7))/LOG(2))))","v":-0.52752543430703935},null,null,{"$f":"N7","v":1111},{"$f":"COUNTIF(L7:L32,T7)","v":17},{"$f":"U7/(W4-U20)","v":0.65384615384615385},{"$f":"IF(V7=0,0,(V7*((LOG(V7))/LOG(2))))","v":-0.40079257335164603},null,{"$f":"N7","v":1111},{"$f":"COUNTIF(L33:L57,Y7)","v":12},{"$f":"Z7/(AB4-Z20)","v":0.48},{"$f":"IF(AA7=0,0,(AA7*((LOG(AA7))/LOG(2))))","v":-0.50826897074571287},null,{"$f":"N7","v":1111},{"$f":"COUNTIF(L58:L83,AD7)","v":12},{"$f":"AE7/(AG4-AE20)","v":0.46153846153846156},{"$f":"IF(AF7=0,0,(AF7*((LOG(AF7))/LOG(2))))","v":-0.51483563880920125},null,{"$f":"N7","v":1111},{"$f":"COUNTIF(L84:L109,AI7)","v":11},{"$f":"AJ7/(AL4-AJ20)","v":0.44},{"$f":"IF(AK7=0,0,(AK7*((LOG(AK7))/LOG(2))))","v":-0.52114681130046814},null,{"$f":"N7","v":1111},{"$f":"COUNTIF(L110:L134,AN7)","v":3},{"$f":"AO7/(AQ4-AO20)","v":0.12},{"$f":"IF(AP7=0,0,(AP7*((LOG(AP7))/LOG(2))))","v":-0.36706724268642821},null,{"$f":"N7","v":1111},{"$f":"COUNTIF(L135:L160,AS7)","v":8},{"$f":"AT7/(AV4-AT20)","v":0.30769230769230771},{"$f":"IF(AU7=0,0,(AU7*((LOG(AU7))/LOG(2))))","v":-0.52321222096648989}]
[12,181,14,198,13,223,14,227,null,null,0,1111,null,1112,{"$f":"COUNTIF($L$7:$L$500,N8)","v":7},{"$f":"O8/$Q$4","v":4.5454545454545456E-2},{"$f":"IF(P8=0,0,(P8*((LOG(P8))/LOG(2))))","v":-0.20270143721078623},null,null,{"$f":"N8","v":1112},{"$f":"COUNTIF(L7:L32,T8)","v":2},{"$f":"U8/(W4-U20)","v":7.6923076923076927E-2},{"$f":"IF(V8=0,0,(V8*((LOG(V8))/LOG(2))))","v":-0.28464920908777636},null,{"$f":"N8","v":1112},{"$f":"COUNTIF(L33:L57,Y8)","v":2},{"$f":"Z8/(AB4-Z20)","v":0.08},{"$f":"IF(AA8=0,0,(AA8*((LOG(AA8))/LOG(2))))","v":-0.29150849518197797},null,{"$f":"N8","v":1112},{"$f":"COUNTIF(L58:L83,AD8)","v":0},{"$f":"AE8/(AG4-AE20)","v":0},{"$f":"IF(AF8=0,0,(AF8*((LOG(AF8))/LOG(2))))","v":0},null,{"$f":"N8","v":1112},{"$f":"COUNTIF(L84:L109,AI8)","v":2},{"$f":"AJ8/(AL4-AJ20)","v":0.08},{"$f":"IF(AK8=0,0,(AK8*((LOG(AK8))/LOG(2))))","v":-0.29150849518197797},null,{"$f":"N8","v":1112},{"$f":"COUNTIF(L110:L134,AN8)","v":1},{"$f":"AO8/(AQ4-AO20)","v":0.04},{"$f":"IF(AP8=0,0,(AP8*((LOG(AP8))/LOG(2))))","v":-0.18575424759098899},null,{"$f":"N8","v":1112},{"$f":"COUNTIF(L135:L160,AS8)","v":0},{"$f":"AT8/(AV4-AT20)","v":0},{"$f":"IF(AU8=0,0,(AU8*((LOG(AU8))/LOG(2))))","v":0}]
[12,329,14,356,13,362,14,371,null,null,0,1111,null,1121,{"$f":"COUNTIF($L$7:$L$500,N9)","v":7},{"$f":"O9/$Q$4","v":4.5454545454545456E-2},{"$f":"IF(P9=0,0,(P9*((LOG(P9))/LOG(2))))","v":-0.20270143721078623},null,null,{"$f":"N9","v":1121},{"$f":"COUNTIF(L7:L32,T9)","v":1},{"$f":"U9/(W4-U20)","v":3.8461538461538464E-2},{"$f":"IF(V9=0,0,(V9*((LOG(V9))/LOG(2))))","v":-0.18078614300542661},null,{"$f":"N9","v":1121},{"$f":"COUNTIF(L33:L57,Y9)","v":3},{"$f":"Z9/(AB4-Z20)","v":0.12},{"$f":"IF(AA9=0,0,(AA9*((LOG(AA9))/LOG(2))))","v":-0.36706724268642821},null,{"$f":"N9","v":1121},{"$f":"COUNTIF(L58:L83,AD9)","v":2},{"$f":"AE9/(AG4-AE20)","v":7.6923076923076927E-2},{"$f":"IF(AF9=0,0,(AF9*((LOG(AF9))/LOG(2))))","v":-0.28464920908777636},null,{"$f":"N9","v":1121},{"$f":"COUNTIF(L84:L109,AI9)","v":0},{"$f":"AJ9/(AL4-AJ20)","v":0},{"$f":"IF(AK9=0,0,(AK9*((LOG(AK9))/LOG(2))))","v":0},null,{"$f":"N9","v":1121},{"$f":"COUNTIF(L110:L134,AN9)","v":1},{"$f":"AO9/(AQ4-AO20)","v":0.04},{"$f":"IF(AP9=0,0,(AP9*((LOG(AP9))/LOG(2))))","v":-0.18575424759098899},null,{"$f":"N9","v":1121},{"$f":"COUNTIF(L135:L160,AS9)","v":0},{"$f":"AT9/(AV4-AT20)","v":0},{"$f":"IF(AU9=0,0,(AU9*((LOG(AU9))/LOG(2))))","v":0}]
[12,478,14,484,13,504,14,509,null,null,0,1111,null,1122,{"$f":"COUNTIF($L$7:$L$500,N10)","v":6},{"$f":"O10/$Q$4","v":3.896103896103896E-2},{"$f":"IF(P10=0,0,(P10*((LOG(P10))/LOG(2))))","v":-0.18240872883014592},null,null,{"$f":"N10","v":1122},{"$f":"COUNTIF(L7:L32,T10)","v":0},{"$f":"U10/(W4-U20)","v":0},{"$f":"IF(V10=0,0,(V10*((LOG(V10))/LOG(2))))","v":0},null,{"$f":"N10","v":1122},{"$f":"COUNTIF(L33:L57,Y10)","v":0},{"$f":"Z10/(AB4-Z20)","v":0},{"$f":"IF(AA10=0,0,(AA10*((LOG(AA10))/LOG(2))))","v":0},null,{"$f":"N10","v":1122},{"$f":"COUNTIF(L58:L83,AD10)","v":1},{"$f":"AE10/(AG4-AE20)","v":3.8461538461538464E-2},{"$f":"IF(AF10=0,0,(AF10*((LOG(AF10))/LOG(2))))","v":-0.18078614300542661},null,{"$f":"N10","v":1122},{"$f":"COUNTIF(L84:L109,AI10)","v":2},{"$f":"AJ10/(AL4-AJ20)","v":0.08},{"$f":"IF(AK10=0,0,(AK10*((LOG(AK10))/LOG(2))))","v":-0.29150849518197797},null,{"$f":"N10","v":1122},{"$f":"COUNTIF(L110:L134,AN10)","v":2},{"$f":"AO10/(AQ4-AO20)","v":0.08},{"$f":"IF(AP10=0,0,(AP10*((LOG(AP10))/LOG(2))))","v":-0.29150849518197797},null,{"$f":"N10","v":1122},{"$f":"COUNTIF(L135:L160,AS10)","v":1},{"$f":"AT10/(AV4-AT20)","v":3.8461538461538464E-2},{"$f":"IF(AU10=0,0,(AU10*((LOG(AU10))/LOG(2))))","v":-0.18078614300542661}]
[21,625,21,640,11,654,12,660,null,null,0,2211,null,1211,{"$f":"COUNTIF($L$7:$L$500,N11)","v":6},{"$f":"O11/$Q$4","v":3.896103896103896E-2},{"$f":"IF(P11=0,0,(P11*((LOG(P11))/LOG(2))))","v":-0.18240872883014592},null,null,{"$f":"N11","v":1211},{"$f":"COUNTIF(L7:L32,T11)","v":1},{"$f":"U11/(W4-U20)","v":3.8461538461538464E-2},{"$f":"IF(V11=0,0,(V11*((LOG(V11))/LOG(2))))","v":-0.18078614300542661},null,{"$f":"N11","v":1211},{"$f":"COUNTIF(L33:L57,Y11)","v":0},{"$f":"Z11/(AB4-Z20)","v":0},{"$f":"IF(AA11=0,0,(AA11*((LOG(AA11))/LOG(2))))","v":0},null,{"$f":"N11","v":1211},{"$f":"COUNTIF(L58:L83,AD11)","v":3},{"$f":"AE11/(AG4-AE20)","v":0.11538461538461539},{"$f":"IF(AF11=0,0,(AF11*((LOG(AF11))/LOG(2))))","v":-0.35947814047153104},null,{"$f":"N11","v":1211},{"$f":"COUNTIF(L84:L109,AI11)","v":0},{"$f":"AJ11/(AL4-AJ20)","v":0},{"$f":"IF(AK11=0,0,(AK11*((LOG(AK11))/LOG(2))))","v":0},null,{"$f":"N11","v":1211},{"$f":"COUNTIF(L110:L134,AN11)","v":1},{"$f":"AO11/(AQ4-AO20)","v":0.04},{"$f":"IF(AP11=0,0,(AP11*((LOG(AP11))/LOG(2))))","v":-0.18575424759098899},null,{"$f":"N11","v":1211},{"$f":"COUNTIF(L135:L160,AS11)","v":1},{"$f":"AT11/(AV4-AT20)","v":3.8461538461538464E-2},{"$f":"IF(AU11=0,0,(AU11*((LOG(AU11))/LOG(2))))","v":-0.18078614300542661}]
[12,777,14,781,13,786,14,792,null,null,0,1111,null,1212,{"$f":"COUNTIF($L$7:$L$500,N12)","v":0},{"$f":"O12/$Q$4","v":0},{"$f":"IF(P12=0,0,(P12*((LOG(P12))/LOG(2))))","v":0},null,null,{"$f":"N12","v":1212},{"$f":"COUNTIF(L7:L32,T12)","v":0},{"$f":"U12/(W4-U20)","v":0},{"$f":"IF(V12=0,0,(V12*((LOG(V12))/LOG(2))))","v":0},null,{"$f":"N12","v":1212},{"$f":"COUNTIF(L33:L57,Y12)","v":0},{"$f":"Z12/(AB4-Z20)","v":0},{"$f":"IF(AA12=0,0,(AA12*((LOG(AA12))/LOG(2))))","v":0},null,{"$f":"N12","v":1212},{"$f":"COUNTIF(L58:L83,AD12)","v":0},{"$f":"AE12/(AG4-AE20)","v":0},{"$f":"IF(AF12=0,0,(AF12*((LOG(AF12))/LOG(2))))","v":0},null,{"$f":"N12","v":1212},{"$f":"COUNTIF(L84:L109,AI12)","v":0},{"$f":"AJ12/(AL4-AJ20)","v":0},{"$f":"IF(AK12=0,0,(AK12*((LOG(AK12))/LOG(2))))","v":0},null,{"$f":"N12","v":1212},{"$f":"COUNTIF(L110:L134,AN12)","v":0},{"$f":"AO12/(AQ4-AO20)","v":0},{"$f":"IF(AP12=0,0,(AP12*((LOG(AP12))/LOG(2))))","v":0},null,{"$f":"N12","v":1212},{"$f":"COUNTIF(L135:L160,AS12)","v":0},{"$f":"AT12/(AV4-AT20)","v":0},{"$f":"IF(AU12=0,0,(AU12*((LOG(AU12))/LOG(2))))","v":0}]
[12,915,14,920,13,925,14,937,null,null,0,1111,null,1221,{"$f":"COUNTIF($L$7:$L$500,N13)","v":3},{"$f":"O13/$Q$4","v":1.948051948051948E-2},{"$f":"IF(P13=0,0,(P13*((LOG(P13))/LOG(2))))","v":-0.11068488389559245},null,null,{"$f":"N13","v":1221},{"$f":"COUNTIF(L7:L32,T13)","v":0},{"$f":"U13/(W4-U20)","v":0},{"$f":"IF(V13=0,0,(V13*((LOG(V13))/LOG(2))))","v":0},null,{"$f":"N13","v":1221},{"$f":"COUNTIF(L33:L57,Y13)","v":0},{"$f":"Z13/(AB4-Z20)","v":0},{"$f":"IF(AA13=0,0,(AA13*((LOG(AA13))/LOG(2))))","v":0},null,{"$f":"N13","v":1221},{"$f":"COUNTIF(L58:L83,AD13)","v":0},{"$f":"AE13/(AG4-AE20)","v":0},{"$f":"IF(AF13=0,0,(AF13*((LOG(AF13))/LOG(2))))","v":0},null,{"$f":"N13","v":1221},{"$f":"COUNTIF(L84:L109,AI13)","v":0},{"$f":"AJ13/(AL4-AJ20)","v":0},{"$f":"IF(AK13=0,0,(AK13*((LOG(AK13))/LOG(2))))","v":0},null,{"$f":"N13","v":1221},{"$f":"COUNTIF(L110:L134,AN13)","v":1},{"$f":"AO13/(AQ4-AO20)","v":0.04},{"$f":"IF(AP13=0,0,(AP13*((LOG(AP13))/LOG(2))))","v":-0.18575424759098899},null,{"$f":"N13","v":1221},{"$f":"COUNTIF(L135:L160,AS13)","v":2},{"$f":"AT13/(AV4-AT20)","v":7.6923076923076927E-2},{"$f":"IF(AU13=0,0,(AU13*((LOG(AU13))/LOG(2))))","v":-0.28464920908777636}]
[12,1076,14,1082,13,1090,14,1096,null,null,0,1111,null,1222,{"$f":"COUNTIF($L$7:$L$500,N14)","v":6},{"$f":"O14/$Q$4","v":3.896103896103896E-2},{"$f":"IF(P14=0,0,(P14*((LOG(P14))/LOG(2))))","v":-0.18240872883014592},null,null,{"$f":"N14","v":1222},{"$f":"COUNTIF(L7:L32,T14)","v":0},{"$f":"U14/(W4-U20)","v":0},{"$f":"IF(V14=0,0,(V14*((LOG(V14))/LOG(2))))","v":0},null,{"$f":"N14","v":1222},{"$f":"COUNTIF(L33:L57,Y14)","v":2},{"$f":"Z14/(AB4-Z20)","v":0.08},{"$f":"IF(AA14=0,0,(AA14*((LOG(AA14))/LOG(2))))","v":-0.29150849518197797},null,{"$f":"N14","v":1222},{"$f":"COUNTIF(L58:L83,AD14)","v":1},{"$f":"AE14/(AG4-AE20)","v":3.8461538461538464E-2},{"$f":"IF(AF14=0,0,(AF14*((LOG(AF14))/LOG(2))))","v":-0.18078614300542661},null,{"$f":"N14","v":1222},{"$f":"COUNTIF(L84:L109,AI14)","v":1},{"$f":"AJ14/(AL4-AJ20)","v":0.04},{"$f":"IF(AK14=0,0,(AK14*((LOG(AK14))/LOG(2))))","v":-0.18575424759098899},null,{"$f":"N14","v":1222},{"$f":"COUNTIF(L110:L134,AN14)","v":1},{"$f":"AO14/(AQ4-AO20)","v":0.04},{"$f":"IF(AP14=0,0,(AP14*((LOG(AP14))/LOG(2))))","v":-0.18575424759098899},null,{"$f":"N14","v":1222},{"$f":"COUNTIF(L135:L160,AS14)","v":1},{"$f":"AT14/(AV4-AT20)","v":3.8461538461538464E-2},{"$f":"IF(AU14=0,0,(AU14*((LOG(AU14))/LOG(2))))","v":-0.18078614300542661}]
[12,1194,14,1199,13,1204,14,1212,null,null,0,1111,null,2111,{"$f":"COUNTIF($L$7:$L$500,N15)","v":33},{"$f":"O15/$Q$4","v":0.21428571428571427},{"$f":"IF(P15=0,0,(P15*((LOG(P15))/LOG(2))))","v":-0.47622694742923877},null,null,{"$f":"N15","v":2111},{"$f":"COUNTIF(L7:L32,T15)","v":2},{"$f":"U15/(W4-U20)","v":7.6923076923076927E-2},{"$f":"IF(V15=0,0,(V15*((LOG(V15))/LOG(2))))","v":-0.28464920908777636},null,{"$f":"N15","v":2111},{"$f":"COUNTIF(L33:L57,Y15)","v":5},{"$f":"Z15/(AB4-Z20)","v":0.2},{"$f":"IF(AA15=0,0,(AA15*((LOG(AA15))/LOG(2))))","v":-0.46438561897747244},null,{"$f":"N15","v":2111},{"$f":"COUNTIF(L58:L83,AD15)","v":7},{"$f":"AE15/(AG4-AE20)","v":0.26923076923076922},{"$f":"IF(AF15=0,0,(AF15*((LOG(AF15))/LOG(2))))","v":-0.50967667586863141},null,{"$f":"N15","v":2111},{"$f":"COUNTIF(L84:L109,AI15)","v":5},{"$f":"AJ15/(AL4-AJ20)","v":0.2},{"$f":"IF(AK15=0,0,(AK15*((LOG(AK15))/LOG(2))))","v":-0.46438561897747244},null,{"$f":"N15","v":2111},{"$f":"COUNTIF(L110:L134,AN15)","v":8},{"$f":"AO15/(AQ4-AO20)","v":0.32},{"$f":"IF(AP15=0,0,(AP15*((LOG(AP15))/LOG(2))))","v":-0.52603398072791185},null,{"$f":"N15","v":2111},{"$f":"COUNTIF(L135:L160,AS15)","v":6},{"$f":"AT15/(AV4-AT20)","v":0.23076923076923078},{"$f":"IF(AU15=0,0,(AU15*((LOG(AU15))/LOG(2))))","v":-0.48818705017383146}]
[12,1316,14,1339,24,1351,14,1365,null,null,0,1121,null,2112,{"$f":"COUNTIF($L$7:$L$500,N16)","v":1},{"$f":"O16/$Q$4","v":6.4935064935064939E-3},{"$f":"IF(P16=0,0,(P16*((LOG(P16))/LOG(2))))","v":-4.7186925588927932E-2},null,null,{"$f":"N16","v":2112},{"$f":"COUNTIF(L7:L32,T16)","v":0},{"$f":"U16/(W4-U20)","v":0},{"$f":"IF(V16=0,0,(V16*((LOG(V16))/LOG(2))))","v":0},null,{"$f":"N16","v":2112},{"$f":"COUNTIF(L33:L57,Y16)","v":0},{"$f":"Z16/(AB4-Z20)","v":0},{"$f":"IF(AA16=0,0,(AA16*((LOG(AA16))/LOG(2))))","v":0},null,{"$f":"N16","v":2112},{"$f":"COUNTIF(L58:L83,AD16)","v":0},{"$f":"AE16/(AG4-AE20)","v":0},{"$f":"IF(AF16=0,0,(AF16*((LOG(AF16))/LOG(2))))","v":0},null,{"$f":"N16","v":2112},{"$f":"COUNTIF(L84:L109,AI16)","v":0},{"$f":"AJ16/(AL4-AJ20)","v":0},{"$f":"IF(AK16=0,0,(AK16*((LOG(AK16))/LOG(2))))","v":0},null,{"$f":"N16","v":2112},{"$f":"COUNTIF(L110:L134,AN16)","v":0},{"$f":"AO16/(AQ4-AO20)","v":0},{"$f":"IF(AP16=0,0,(AP16*((LOG(AP16))/LOG(2))))","v":0},null,{"$f":"N16","v":2112},{"$f":"COUNTIF(L135:L160,AS16)","v":1},{"$f":"AT16/(AV4-AT20)","v":3.8461538461538464E-2},{"$f":"IF(AU16=0,0,(AU16*((LOG(AU16))/LOG(2))))","v":-0.18078614300542661}]
[12,1486,14,1499,13,1504,14,1521,null,null,0,1111,null,2121,{"$f":"COUNTIF($L$7:$L$500,N17)","v":1},{"$f":"O17/$Q$4","v":6.4935064935064939E-3},{"$f":"IF(P17=0,0,(P17*((LOG(P17))/LOG(2))))","v":-4.7186925588927932E-2},null,null,{"$f":"N17","v":2121},{"$f":"COUNTIF(L7:L32,T17)","v":1},{"$f":"U17/(W4-U20)","v":3.8461538461538464E-2},{"$f":"IF(V17=0,0,(V17*((LOG(V17))/LOG(2))))","v":-0.18078614300542661},null,{"$f":"N17","v":2121},{"$f":"COUNTIF(L33:L57,Y17)","v":0},{"$f":"Z17/(AB4-Z20)","v":0},{"$f":"IF(AA17=0,0,(AA17*((LOG(AA17))/LOG(2))))","v":0},null,{"$f":"N17","v":2121},{"$f":"COUNTIF(L58:L83,AD17)","v":0},{"$f":"AE17/(AG4-AE20)","v":0},{"$f":"IF(AF17=0,0,(AF17*((LOG(AF17))/LOG(2))))","v":0},null,{"$f":"N17","v":2121},{"$f":"COUNTIF(L84:L109,AI17)","v":0},{"$f":"AJ17/(AL4-AJ20)","v":0},{"$f":"IF(AK17=0,0,(AK17*((LOG(AK17))/LOG(2))))","v":0},null,{"$f":"N17","v":2121},{"$f":"COUNTIF(L110:L134,AN17)","v":0},{"$f":"AO17/(AQ4-AO20)","v":0},{"$f":"IF(AP17=0,0,(AP17*((LOG(AP17))/LOG(2))))","v":0},null,{"$f":"N17","v":2121},{"$f":"COUNTIF(L135:L160,AS17)","v":0},{"$f":"AT17/(AV4-AT20)","v":0},{"$f":"IF(AU17=0,0,(AU17*((LOG(AU17))/LOG(2))))","v":0}]
[12,1641,14,1646,13,1651,14,1658,null,null,0,1111,null,2122,{"$f":"COUNTIF($L$7:$L$500,N18)","v":2},{"$f":"O18/$Q$4","v":1.2987012987012988E-2},{"$f":"IF(P18=0,0,(P18*((LOG(P18))/LOG(2))))","v":-8.1386838190842872E-2},null,null,{"$f":"N18","v":2122},{"$f":"COUNTIF(L7:L32,T18)","v":1},{"$f":"U18/(W4-U20)","v":3.8461538461538464E-2},{"$f":"IF(V18=0,0,(V18*((LOG(V18))/LOG(2))))","v":-0.18078614300542661},null,{"$f":"N18","v":2122},{"$f":"COUNTIF(L33:L57,Y18)","v":0},{"$f":"Z18/(AB4-Z20)","v":0},{"$f":"IF(AA18=0,0,(AA18*((LOG(AA18))/LOG(2))))","v":0},null,{"$f":"N18","v":2122},{"$f":"COUNTIF(L58:L83,AD18)","v":0},{"$f":"AE18/(AG4-AE20)","v":0},{"$f":"IF(AF18=0,0,(AF18*((LOG(AF18))/LOG(2))))","v":0},null,{"$f":"N18","v":2122},{"$f":"COUNTIF(L84:L109,AI18)","v":1},{"$f":"AJ18/(AL4-AJ20)","v":0.04},{"$f":"IF(AK18=0,0,(AK18*((LOG(AK18))/LOG(2))))","v":-0.18575424759098899},null,{"$f":"N18","v":2122},{"$f":"COUNTIF(L110:L134,AN18)","v":0},{"$f":"AO18/(AQ4-AO20)","v":0},{"$f":"IF(AP18=0,0,(AP18*((LOG(AP18))/LOG(2))))","v":0},null,{"$f":"N18","v":2122},{"$f":"COUNTIF(L135:L160,AS18)","v":0},{"$f":"AT18/(AV4-AT20)","v":0},{"$f":"IF(AU18=0,0,(AU18*((LOG(AU18))/LOG(2))))","v":0}]
[12,1767,14,1772,13,1776,14,1782,null,null,0,1111,null,2211,{"$f":"COUNTIF($L$7:$L$500,N19)","v":12},{"$f":"O19/$Q$4","v":7.792207792207792E-2},{"$f":"IF(P19=0,0,(P19*((LOG(P19))/LOG(2))))","v":-0.28689537973821388},null,null,{"$f":"N19","v":2211},{"$f":"COUNTIF(L7:L32,T19)","v":1},{"$f":"U19/(W4-U20)","v":3.8461538461538464E-2},{"$f":"IF(V19=0,0,(V19*((LOG(V19))/LOG(2))))","v":-0.18078614300542661},null,{"$f":"N19","v":2211},{"$f":"COUNTIF(L33:L57,Y19)","v":1},{"$f":"Z19/(AB4-Z20)","v":0.04},{"$f":"IF(AA19=0,0,(AA19*((LOG(AA19))/LOG(2))))","v":-0.18575424759098899},null,{"$f":"N19","v":2211},{"$f":"COUNTIF(L58:L83,AD19)","v":0},{"$f":"AE19/(AG4-AE20)","v":0},{"$f":"IF(AF19=0,0,(AF19*((LOG(AF19))/LOG(2))))","v":0},null,{"$f":"N19","v":2211},{"$f":"COUNTIF(L84:L109,AI19)","v":2},{"$f":"AJ19/(AL4-AJ20)","v":0.08},{"$f":"IF(AK19=0,0,(AK19*((LOG(AK19))/LOG(2))))","v":-0.29150849518197797},null,{"$f":"N19","v":2211},{"$f":"COUNTIF(L110:L134,AN19)","v":5},{"$f":"AO19/(AQ4-AO20)","v":0.2},{"$f":"IF(AP19=0,0,(AP19*((LOG(AP19))/LOG(2))))","v":-0.46438561897747244},null,{"$f":"N19","v":2211},{"$f":"COUNTIF(L135:L160,AS19)","v":3},{"$f":"AT19/(AV4-AT20)","v":0.11538461538461539},{"$f":"IF(AU19=0,0,(AU19*((LOG(AU19))/LOG(2))))","v":-0.35947814047153104}]
[21,1893,12,1906,13,1912,14,1921,null,null,0,2111,null,2212,{"$f":"COUNTIF($L$7:$L$500,N20)","v":1},{"$f":"O20/$Q$4","v":6.4935064935064939E-3},{"$f":"IF(P20=0,0,(P20*((LOG(P20))/LOG(2))))","v":-4.7186925588927932E-2},null,null,{"$f":"N20","v":2212},{"$f":"COUNTIF(L7:L32,T20)","v":0},null,null,null,{"$f":"N20","v":2212},{"$f":"COUNTIF(L33:L57,Y20)","v":0},null,null,null,{"$f":"N20","v":2212},{"$f":"COUNTIF(L58:L83,AD20)","v":0},null,null,null,{"$f":"N20","v":2212},{"$f":"COUNTIF(L84:L109,AI20)","v":1},null,null,null,{"$f":"N20","v":2212},{"$f":"COUNTIF(L110:L134,AN20)","v":0},null,null,null,{"$f":"N20","v":2212},{"$f":"COUNTIF(L135:L160,AS20)","v":0}]
[12,2031,14,2036,13,2041,14,2047,null,null,0,1111,null,2221,{"$f":"COUNTIF($L$7:$L$500,N21)","v":3},{"$f":"O21/$Q$4","v":1.948051948051948E-2},{"$f":"IF(P21=0,0,(P21*((LOG(P21))/LOG(2))))","v":-0.11068488389559245},null,null,{"$f":"N21","v":2221},{"$f":"COUNTIF(L7:L32,T21)","v":0},{"$f":"U21/(W4-U20)","v":0},{"$f":"IF(V21=0,0,(V21*((LOG(V21))/LOG(2))))","v":0},null,{"$f":"N21","v":2221},{"$f":"COUNTIF(L33:L57,Y21)","v":0},{"$f":"Z21/(AB4-Z20)","v":0},{"$f":"IF(AA21=0,0,(AA21*((LOG(AA21))/LOG(2))))","v":0},null,{"$f":"N21","v":2221},{"$f":"COUNTIF(L58:L83,AD21)","v":0},{"$f":"AE21/(AG4-AE20)","v":0},{"$f":"IF(AF21=0,0,(AF21*((LOG(AF21))/LOG(2))))","v":0},null,{"$f":"N21","v":2221},{"$f":"COUNTIF(L84:L109,AI21)","v":0},{"$f":"AJ21/(AL4-AJ20)","v":0},{"$f":"IF(AK21=0,0,(AK21*((LOG(AK21))/LOG(2))))","v":0},null,{"$f":"N21","v":2221},{"$f":"COUNTIF(L110:L134,AN21)","v":2},{"$f":"AO21/(AQ4-AO20)","v":0.08},{"$f":"IF(AP21=0,0,(AP21*((LOG(AP21))/LOG(2))))","v":-0.29150849518197797},null,{"$f":"N21","v":2221},{"$f":"COUNTIF(L135:L160,AS21)","v":1},{"$f":"AT21/(AV4-AT20)","v":3.8461538461538464E-2},{"$f":"IF(AU21=0,0,(AU21*((LOG(AU21))/LOG(2))))","v":-0.18078614300542661}]
[12,2152,14,2157,13,2175,23,2188,null,null,0,1112,null,2222,{"$f":"COUNTIF($L$7:$L$500,N22)","v":3},{"$f":"O22/$Q$4","v":1.948051948051948E-2},{"$f":"IF(P22=0,0,(P22*((LOG(P22))/LOG(2))))","v":-0.11068488389559245},null,null,{"$f":"N22","v":2222},{"$f":"COUNTIF(L7:L32,T22)","v":0},{"$f":"U22/(W4-U20)","v":0},{"$f":"IF(V22=0,0,(V22*((LOG(V22))/LOG(2))))","v":0},null,{"$f":"N22","v":2222},{"$f":"COUNTIF(L33:L57,Y22)","v":0},{"$f":"Z22/(AB4-Z20)","v":0},{"$f":"IF(AA22=0,0,(AA22*((LOG(AA22))/LOG(2))))","v":0},null,{"$f":"N22","v":2222},{"$f":"COUNTIF(L58:L83,AD22)","v":0},{"$f":"AE22/(AG4-AE20)","v":0},{"$f":"IF(AF22=0,0,(AF22*((LOG(AF22))/LOG(2))))","v":0},null,{"$f":"N22","v":2222},{"$f":"COUNTIF(L84:L109,AI22)","v":1},{"$f":"AJ22/(AL4-AJ20)","v":0.04},{"$f":"IF(AK22=0,0,(AK22*((LOG(AK22))/LOG(2))))","v":-0.18575424759098899},null,{"$f":"N22","v":2222},{"$f":"COUNTIF(L110:L134,AN22)","v":0},{"$f":"AO22/(AQ4-AO20)","v":0},{"$f":"IF(AP22=0,0,(AP22*((LOG(AP22))/LOG(2))))","v":0},null,{"$f":"N22","v":2222},{"$f":"COUNTIF(L135:L160,AS22)","v":2},{"$f":"AT22/(AV4-AT20)","v":7.6923076923076927E-2},{"$f":"IF(AU22=0,0,(AU22*((LOG(AU22))/LOG(2))))","v":-0.28464920908777636}]
[12,2294,14,2315,13,2320,14,2325,null,null,0,1111,null,null,null,{"$f":"SUM(P7:P22)","v":0.99999999999999978},{"$f":"-SUM(Q7:Q22)","v":2.7982790890309062},null,null,null,null,{"$f":"SUM(V7:V22)","v":0.99999999999999989},{"$f":"-SUM(W7:W22)","v":1.8740217065543314},null,null,null,{"$f":"SUM(AA7:AA22)","v":1},{"$f":"-SUM(AB7:AB22)","v":2.1084930703645584},null,null,null,{"$f":"SUM(AF7:AF22)","v":1},{"$f":"-SUM(AG7:AG22)","v":2.0302119502479932},null,null,null,{"$f":"SUM(AK7:AK22)","v":1},{"$f":"-SUM(AL7:AL22)","v":2.4173206585968412},null,null,null,{"$f":"SUM(AP7:AP22)","v":0.99999999999999989},{"$f":"-SUM(AQ7:AQ22)","v":2.8692750707107137},null,null,null,{"$f":"SUM(AU7:AU22)","v":1},{"$f":"-SUM(AV7:AV22)","v":2.844106544814538}]
[12,2430,14,2434,13,2439,14,2444,null,null,0,1111,null,null,null,"U=",{"$f":"Q23/(LOG(Q4)/LOG(2))","v":0.38507792589753365},null,null,null,null,"U1=",{"$f":"W23/(LOG(W4)/LOG(2))","v":0.39869072234277286},null,null,null,"U2=",{"$f":"AB23/(LOG(AB4)/LOG(2))","v":0.45403926913310422},null,null,null,"U3=",{"$f":"AG23/(LOG(AG4)/LOG(2))","v":0.43191958029213745},null,null,null,"U4=",{"$f":"AL23/(LOG(AL4)/LOG(2))","v":0.51427543028949474},null,null,null,"U5=",{"$f":"AQ23/(LOG(AQ4)/LOG(2))","v":0.61786475580974076},null,null,null,"U6=",{"$f":"AV23/(LOG(AV4)/LOG(2))","v":0.60507244329458443}]
[12,2578,14,2583,13,2591,14,2596,null,null,0,1111]
[12,2701,14,2705,13,2711,14,2715,null,null,0,1111]
[12,2820,14,2846,13,2852,14,2857,null,null,0,1111,null,"Total Target Seq"]
[21,2962,12,2975,24,2989,23,3004,null,null,0,2122,null,{"$f":"COUNTIF(L7:L160,G3)","v":1},null,26,25,26,26,25,26]
[12,3109,14,3114,13,3134,23,3156,null,null,0,1112,null,null,null,"% of reinforcement given in 6 equal intervals based on number of trials "]
[12,3262,23,3273,13,3285,14,3290,null,null,0,1211,null,null,null,"%_1","%_2","%_3","%_4","%_5","%_6"]
[12,3398,14,3407,13,3414,14,3419,null,null,0,1111,null,null,"target sequence",{"$f":"$G$3","v":2212},{"$f":"$G$3","v":2212},{"$f":"$G$3","v":2212},{"$f":"$G$3","v":2212},{"$f":"$G$3","v":2212},{"$f":"$G$3","v":2212}]
[21,3527,12,3542,13,3552,14,3557,null,null,0,2111,null,null,"total reinforcement",{"$f":"U20","v":0},{"$f":"Z20","v":0},{"$f":"AE20","v":0},{"$f":"AJ20","v":1},{"$f":"AO20","v":0},{"$f":"AT20","v":0}]
[12,3668,14,3672,13,3677,14,3690,null,null,0,1111,null,null,"% target"]
[21,3805,12,3819,13,3823,14,3829,null,null,0,2111,null,null,"CCRF"]
[12,3940,14,3944,13,3950,14,3963,null,null,0,1111,null,null,"% CCRf"]
[12,4062,14,4090,13,4095,14,4100,null,null,0,1111,null,null,"average response rate",{"$f":"H32/P28","v":136.80769230769232},{"$f":"(H57-H32)/Q28","v":160.68},{"$f":"(H83-H57)/R28","v":176.11538461538461},{"$f":"(H109-H83)/S28","v":144.03846153846155},{"$f":"(H134-H109)/T28","v":150.80000000000001},{"$f":"(H160-H134)/U28","v":162.96153846153845}]
[12,4239,14,4243,13,4250,23,4262,null,null,0,1112]
[12,4364,14,4369,24,4382,14,4398,null,null,0,1121]
[12,4535,14,4539,13,4545,14,4549,null,null,0,1111]
[12,4653,14,4657,13,4662,14,4668,null,null,0,1111]
[12,4803,14,4807,24,4820,14,4831,null,null,0,1121]
[12,4957,14,4961,13,4966,14,4972,null,null,0,1111]
[21,5107,12,5137,13,5148,14,5153,null,null,0,2111]
[12,5310,14,5314,13,5319,14,5324,null,null,0,1111]
[12,5427,14,5432,13,5438,14,5446,null,null,0,1111]
[12,5575,14,5580,13,5586,14,5604,null,null,0,1111]
[12,5738,14,5744,13,5749,14,5753,null,null,0,1111]
[21,5900,12,5917,13,5923,14,5928,null,null,0,2111]
[12,6075,14,6081,13,6084,23,6113,null,null,0,1112]
[21,6214,12,6232,13,6237,14,6241,null,null,0,2111]
[12,6393,23,6409,24,6413,23,6419,null,null,0,1222]
[12,6577,14,6582,13,6586,14,6591,null,null,0,1111]
[12,6745,14,6751,24,6762,14,6783,null,null,0,1121]
[21,6883,21,6891,11,6910,12,6915,null,null,0,2211]
[21,7095,12,7108,13,7113,14,7117,null,null,0,2111]
[12,7301,14,7305,13,7309,14,7314,null,null,0,1111]
[12,7535,23,7551,24,7556,23,7574,null,null,0,1222]
[12,7712,14,7718,13,7722,14,7727,null,null,0,1111]
[12,7826,14,7848,13,7852,14,7860,null,null,0,1111]
[12,8002,14,8010,13,8016,14,8020,null,null,0,1111]
[12,8194,14,8199,13,8203,14,8208,null,null,0,1111]
[12,8310,14,8314,13,8319,14,8324,null,null,0,1111]
[12,8444,14,8453,13,8458,14,8463,null,null,0,1111]
[12,8697,14,8702,13,8708,14,8717,null,null,0,1111]
[12,8892,14,8897,13,8901,14,8906,null,null,0,1111]
[12,9016,14,9021,13,9026,14,9030,null,null,0,1111]
[21,9135,12,9196,13,9200,14,9205,null,null,0,2111]
[21,9328,12,9342,13,9347,14,9352,null,null,0,2111]
[21,9567,12,9580,13,9585,14,9591,null,null,0,2111]
[21,9713,12,9726,13,9731,14,9736,null,null,0,2111]
[12,9987,14,9996,13,10002,14,10035,null,null,0,1111]
[12,10167,14,10171,13,10176,14,10181,null,null,0,1111]
[12,10300,23,10317,13,10341,14,10347,null,null,0,1211]
[12,10527,14,10534,24,10547,14,10564,null,null,0,1121]
[12,10726,14,10731,13,10736,14,10741,null,null,0,1111]
[12,10898,23,10911,24,10919,23,10933,null,null,0,1222]
[12,11043,23,11059,13,11078,14,11083,null,null,0,1211]
[21,11282,12,11322,13,11326,14,11330,null,null,0,2111]
[12,11430,14,11435,24,11447,23,11458,null,null,0,1122]
[21,11571,12,11593,13,11598,14,11602,null,null,0,2111]
[12,11704,23,11714,13,11731,14,11735,null,null,0,1211]
[21,11973,12,11987,13,11992,14,11997,null,null,0,2111]
[12,12114,14,12119,24,12140,14,12153,null,null,0,1121]
[12,12283,14,12288,13,12294,14,12299,null,null,0,1111]
[21,12436,12,12461,13,12465,14,12471,null,null,0,2111]
[21,12688,21,12703,11,12722,12,12727,null,null,0,2211]
[21,12828,21,12838,11,12852,21,12864,null,null,0,2212]
[21,12971,21,12978,11,12996,12,13002,null,null,0,2211]
[21,13111,12,13133,24,13150,23,13159,null,null,0,2122]
[12,13293,14,13297,13,13303,14,13308,null,null,0,1111]
[12,13436,14,13440,13,13445,23,13463,null,null,0,1112]
[21,13581,12,13594,13,13599,14,13607,null,null,0,2111]
[12,13723,14,13728,13,13733,14,13738,null,null,0,1111]
[12,13839,14,13844,24,13858,23,13865,null,null,0,1122]
[12,13969,14,13974,13,13978,14,13985,null,null,0,1111]
[12,14086,14,14091,13,14103,14,14109,null,null,0,1111]
[12,14212,14,14217,13,14221,14,14227,null,null,0,1111]
[12,14365,14,14370,13,14378,23,14406,null,null,0,1112]
[12,14507,14,14512,13,14520,14,14524,null,null,0,1111]
[21,14628,12,14639,13,14644,14,14650,null,null,0,2111]
[12,14754,14,14759,13,14765,14,14771,null,null,0,1111]
[12,14873,14,14878,13,14883,14,14888,null,null,0,1111]
[21,15003,12,15020,13,15026,14,15031,null,null,0,2111]
[12,15151,14,15158,13,15162,14,15167,null,null,0,1111]
[12,15321,23,15330,24,15338,23,15347,null,null,0,1222]
[12,15458,14,15463,13,15469,14,15474,null,null,0,1111]
[21,15583,21,15591,22,15605,23,15619,null,null,0,2222]
[12,15741,14,15747,24,15763,23,15770,null,null,0,1122]
[21,15869,12,15882,13,15893,14,15898,null,null,0,2111]
[21,16033,12,16045,13,16051,14,16056,null,null,0,2111]
[12,16160,14,16166,24,16179,14,16194,null,null,0,1121]
[21,16304,21,16316,11,16332,12,16338,null,null,0,2211]
[21,16459,21,16468,22,16476,14,16491,null,null,0,2221]
[12,16648,14,16652,13,16657,14,16663,null,null,0,1111]
[21,16778,12,16790,13,16794,14,16798,null,null,0,2111]
[21,16954,12,16971,13,16976,14,16982,null,null,0,2111]
[21,17112,12,17131,13,17135,14,17140,null,null,0,2111]
[21,17240,21,17254,11,17271,12,17275,null,null,0,2211]
[12,17399,23,17414,13,17428,14,17433,null,null,0,1211]
[12,17589,23,17603,24,17610,23,17616,null,null,0,1222]
[12,17733,14,17737,13,17742,14,17747,null,null,0,1111]
[21,17844,21,17861,11,17878,12,17883,null,null,0,2211]
[21,17981,12,17994,13,17998,14,18003,null,null,0,2111]
[12,18106,14,18111,13,18116,23,18130,null,null,0,1112]
[12,18397,14,18402,13,18406,14,18414,null,null,0,1111]
[12,18530,14,18537,24,18552,23,18556,null,null,0,1122]
[12,18663,14,18669,24,18681,23,18686,null,null,0,1122]
[21,18795,21,18802,22,18823,14,18834,null,null,0,2221]
[21,18933,12,18952,13,18960,14,18965,null,null,0,2111]
[21,19065,12,19081,13,19086,14,19091,null,null,0,2111]
[12,19197,23,19209,24,19218,14,19229,null,null,0,1221]
[21,19342,12,19356,13,19361,14,19366,null,null,0,2111]
[21,19497,21,19507,11,19529,12,19534,null,null,0,2211]
[21,19641,21,19651,11,19665,12,19668,null,null,0,2211]
[12,19809,14,19814,13,19818,14,19824,null,null,0,1111]
[12,19992,23,20008,24,20014,23,20022,null,null,0,1222]
[12,20125,23,20137,24,20142,14,20157,null,null,0,1221]
[12,20287,14,20292,13,20297,14,20302,null,null,0,1111]
[12,20435,14,20445,13,20451,14,20459,null,null,0,1111]
[21,20557,21,20566,22,20568,14,20579,null,null,0,2221]
[12,20755,14,20762,13,20770,14,20774,null,null,0,1111]
[21,20959,12,20974,13,20980,14,20984,null,null,0,2111]
[12,21168,14,21173,13,21178,14,21183,null,null,0,1111]
[21,21298,12,21319,13,21325,23,21346,null,null,0,2112]
[12,21462,23,21476,13,21502,14,21506,null,null,0,1211]
[21,21630,21,21639,11,21655,12,21659,null,null,0,2211]
[21,21759,21,21774,11,21785,12,21789,null,null,0,2211]
[12,21976,14,21981,13,21986,14,21992,null,null,0,1111]
[12,22127,23,22147,24,22152,14,22167,null,null,0,1221]
[21,22294,21,22299,22,22303,23,22314,null,null,0,2222]
[21,22421,12,22432,13,22437,14,22444,null,null,0,2111]
[21,22585,12,22603,13,22608,14,22614,null,null,0,2111]
[21,22752,12,22783,13,22789,14,22793,null,null,0,2111]
[12,22914,14,22919,24,22934,23,22938,null,null,0,1122]
[12,23043,14,23051,13,23056,14,23061,null,null,0,1111]
[12,23183,14,23188,13,23193,14,23198,null,null,0,1111]
[21,23366,21,23384,22,23405,23,23415,null,null,0,2222]
[21,23529,21,23536,11,23551,12,23559,null,null,0,2211]
[21,23686,12,23721,13,23729,14,23733,null,null,0,2111]
[21,23881,12,23895,13,23900,14,23905,null,null,0,2111]

{"sheet":"!N103840.092","index":6,"n_rows":140,"n_cols":48,"rows_kept":140,"cut":false,"hidden":false,"merged":[[4,39,4,42],[5,39,5,40],[4,44,4,47],[5,44,5,45],[4,24,4,27],[5,24,5,25],[4,29,4,32],[5,29,5,30],[4,34,4,37],[5,34,5,35],[1,1,1,2],[5,13,5,14],[26,13,26,14],[27,13,27,14],[4,19,4,22],[5,19,5,20]]}
["Report for:!N103840.092"]
["Date:","<date>"]
["Hen:","<hen>",null,null,null,"Correct Sequence",{"$f":"Start!J2","v":2212},null,null,null,null,null,null,null,null,"Total Sequences in Data",{"$f":"4994-COUNTBLANK(L7:L5000)","v":134},null,null,null,null,"Total Sequences in Block Data",{"$f":"COUNTA(L7:L28)","v":22},null,null,null,"Total Sequences in Block Data",{"$f":"COUNTA(L29:L51)","v":23},null,null,null,"Total Sequences in Block Data",{"$f":"COUNTA(L52:L73)","v":22},null,null,null,"Total Sequences in Block Data",{"$f":"COUNTA(L74:L95)","v":22},null,null,null,"Total Sequences in Block Data",{"$f":"COUNTA(L96:L118)","v":23},null,null,null,"Total Sequences in Block Data",{"$f":"COUNTA(L119:L140)","v":22}]
[null,null,null,null,null,null,null,null,null,null,null,null,null,null,null,"Total Sequences in Summary",{"$f":"SUM(O7:O22)","v":134},null,null,null,null,"Total Sequences in Block Summary",{"$f":"SUM(U7:U22)","v":22},null,null,null,"Total Sequences in Block Summary",{"$f":"SUM(Z7:Z22)","v":23},null,null,null,"Total Sequences in Block Summary",{"$f":"SUM(AE7:AE22)","v":22},null,null,null,"Total Sequences in Block Summary",{"$f":"SUM(AJ7:AJ22)","v":22},null,null,null,"Total Sequences in Block Summary",{"$f":"SUM(AO7:AO22)","v":23},null,null,null,"Total Sequences in Block Summary",{"$f":"SUM(AT7:AT22)","v":22}]
[null,null,null,null,null,null,null,null,null,null,null,null,null,null,null,null,null,null,null,"Block 1",null,null,null,null,"Block 2",null,null,null,null,"Block 3",null,null,null,null,"Block 4",null,null,null,null,"Block 5",null,null,null,null,"Block 6"]
["Sequence\nComponent\n1","Time\n1","Sequence\nComponent\n2","Time\n2","Sequence\nComponent\n3","Time\n3","Sequence\nComponent\n4","Time\n4","Sequence\nComponent\n5","Time\n5","Correct?\n0=No 1=Yes","Sequence",null,"Frequency",null,"Relative Frequency","Variability",null,null,"Frequency",null,"Relative Frequency","Variability",null,"Frequency",null,"Relative Frequency","Variability",null,"Frequency",null,"Relative Frequency","Variability",null,"Frequency",null,"Relative Frequency","Variability",null,"Frequency",null,"Relative Frequency","Variability",null,"Frequency",null,"Relative Frequency","Variability"]
[21,69,21,89,22,106,23,125,null,null,0,2222,null,1111,{"$f":"COUNTIF($L$7:$L$500,N7)","v":25},{"$f":"O7/$Q$4","v":0.18656716417910449},{"$f":"IF(P7=0,0,(P7*((LOG(P7))/LOG(2))))","v":-0.45190914191847908},null,null,{"$f":"N7","v":1111},{"$f":"COUNTIF(L7:L28,T7)","v":5},{"$f":"U7/(W4-U20)","v":0.23809523809523808},{"$f":"IF(V7=0,0,(V7*((LOG(V7))/LOG(2))))","v":-0.49294983997414238},null,{"$f":"N7","v":1111},{"$f":"COUNTIF(L29:L51,Y7)","v":6},{"$f":"Z7/(AB4-Z20)","v":0.2608695652173913},{"$f":"IF(AA7=0,0,(AA7*((LOG(AA7))/LOG(2))))","v":-0.50572159704413644},null,{"$f":"N7","v":1111},{"$f":"COUNTIF(L52:L73,AD7)","v":3},{"$f":"AE7/(AG4-AE20)","v":0.13636363636363635},{"$f":"IF(AF7=0,0,(AF7*((LOG(AF7))/LOG(2))))","v":-0.39197306153401923},null,{"$f":"N7","v":1111},{"$f":"COUNTIF(L74:L95,AI7)","v":4},{"$f":"AJ7/(AL4-AJ20)","v":0.18181818181818182},{"$f":"IF(AK7=0,0,(AK7*((LOG(AK7))/LOG(2))))","v":-0.44716938520678134},null,{"$f":"N7","v":1111},{"$f":"COUNTIF(L96:L118,AN7)","v":3},{"$f":"AO7/(AQ4-AO20)","v":0.13043478260869565},{"$f":"IF(AP7=0,0,(AP7*((LOG(AP7))/LOG(2))))","v":-0.3832955811307639},null,{"$f":"N7","v":1111},{"$f":"COUNTIF(L119:L140,AS7)","v":4},{"$f":"AT7/(AV4-AT20)","v":0.18181818181818182},{"$f":"IF(AU7=0,0,(AU7*((LOG(AU7))/LOG(2))))","v":-0.44716938520678134}]
[21,251,21,269,11,288,21,299,null,null,0,2212,null,1112,{"$f":"COUNTIF($L$7:$L$500,N8)","v":8},{"$f":"O8/$Q$4","v":5.9701492537313432E-2},{"$f":"IF(P8=0,0,(P8*((LOG(P8))/LOG(2))))","v":-0.2427515934601655},null,null,{"$f":"N8","v":1112},{"$f":"COUNTIF(L7:L28,T8)","v":2},{"$f":"U8/(W4-U20)","v":9.5238095238095233E-2},{"$f":"IF(V8=0,0,(V8*((LOG(V8))/LOG(2))))","v":-0.32307784978845333},null,{"$f":"N8","v":1112},{"$f":"COUNTIF(L29:L51,Y8)","v":2},{"$f":"Z8/(AB4-Z20)","v":8.6956521739130432E-2},{"$f":"IF(AA8=0,0,(AA8*((LOG(AA8))/LOG(2))))","v":-0.30639669183104457},null,{"$f":"N8","v":1112},{"$f":"COUNTIF(L52:L73,AD8)","v":2},{"$f":"AE8/(AG4-AE20)","v":9.0909090909090912E-2},{"$f":"IF(AF8=0,0,(AF8*((LOG(AF8))/LOG(2))))","v":-0.31449378351248153},null,{"$f":"N8","v":1112},{"$f":"COUNTIF(L74:L95,AI8)","v":1},{"$f":"AJ8/(AL4-AJ20)","v":4.5454545454545456E-2},{"$f":"IF(AK8=0,0,(AK8*((LOG(AK8))/LOG(2))))","v":-0.20270143721078623},null,{"$f":"N8","v":1112},{"$f":"COUNTIF(L96:L118,AN8)","v":1},{"$f":"AO8/(AQ4-AO20)","v":4.3478260869565216E-2},{"$f":"IF(AP8=0,0,(AP8*((LOG(AP8))/LOG(2))))","v":-0.19667660678508753},null,{"$f":"N8","v":1112},{"$f":"COUNTIF(L119:L140,AS8)","v":0},{"$f":"AT8/(AV4-AT20)","v":0},{"$f":"IF(AU8=0,0,(AU8*((LOG(AU8))/LOG(2))))","v":0}]
[21,436,12,449,13,450,23,461,null,null,0,2112,null,1121,{"$f":"COUNTIF($L$7:$L$500,N9)","v":2},{"$f":"O9/$Q$4","v":1.4925373134328358E-2},{"$f":"IF(P9=0,0,(P9*((LOG(P9))/LOG(2))))","v":-9.0538644633698095E-2},null,null,{"$f":"N9","v":1121},{"$f":"COUNTIF(L7:L28,T9)","v":0},{"$f":"U9/(W4-U20)","v":0},{"$f":"IF(V9=0,0,(V9*((LOG(V9))/LOG(2))))","v":0},null,{"$f":"N9","v":1121},{"$f":"COUNTIF(L29:L51,Y9)","v":1},{"$f":"Z9/(AB4-Z20)","v":4.3478260869565216E-2},{"$f":"IF(AA9=0,0,(AA9*((LOG(AA9))/LOG(2))))","v":-0.19667660678508753},null,{"$f":"N9","v":1121},{"$f":"COUNTIF(L52:L73,AD9)","v":0},{"$f":"AE9/(AG4-AE20)","v":0},{"$f":"IF(AF9=0,0,(AF9*((LOG(AF9))/LOG(2))))","v":0},null,{"$f":"N9","v":1121},{"$f":"COUNTIF(L74:L95,AI9)","v":0},{"$f":"AJ9/(AL4-AJ20)","v":0},{"$f":"IF(AK9=0,0,(AK9*((LOG(AK9))/LOG(2))))","v":0},null,{"$f":"N9","v":1121},{"$f":"COUNTIF(L96:L118,AN9)","v":1},{"$f":"AO9/(AQ4-AO20)","v":4.3478260869565216E-2},{"$f":"IF(AP9=0,0,(AP9*((LOG(AP9))/LOG(2))))","v":-0.19667660678508753},null,{"$f":"N9","v":1121},{"$f":"COUNTIF(L119:L140,AS9)","v":0},{"$f":"AT9/(AV4-AT20)","v":0},{"$f":"IF(AU9=0,0,(AU9*((LOG(AU9))/LOG(2))))","v":0}]
[21,575,21,615,11,626,12,630,null,null,0,2211,null,1122,{"$f":"COUNTIF($L$7:$L$500,N10)","v":7},{"$f":"O10/$Q$4","v":5.2238805970149252E-2},{"$f":"IF(P10=0,0,(P10*((LOG(P10))/LOG(2))))","v":-0.22247119312538191},null,null,{"$f":"N10","v":1122},{"$f":"COUNTIF(L7:L28,T10)","v":4},{"$f":"U10/(W4-U20)","v":0.19047619047619047},{"$f":"IF(V10=0,0,(V10*((LOG(V10))/LOG(2))))","v":-0.4556795091007162},null,{"$f":"N10","v":1122},{"$f":"COUNTIF(L29:L51,Y10)","v":1},{"$f":"Z10/(AB4-Z20)","v":4.3478260869565216E-2},{"$f":"IF(AA10=0,0,(AA10*((LOG(AA10))/LOG(2))))","v":-0.19667660678508753},null,{"$f":"N10","v":1122},{"$f":"COUNTIF(L52:L73,AD10)","v":1},{"$f":"AE10/(AG4-AE20)","v":4.5454545454545456E-2},{"$f":"IF(AF10=0,0,(AF10*((LOG(AF10))/LOG(2))))","v":-0.20270143721078623},null,{"$f":"N10","v":1122},{"$f":"COUNTIF(L74:L95,AI10)","v":0},{"$f":"AJ10/(AL4-AJ20)","v":0},{"$f":"IF(AK10=0,0,(AK10*((LOG(AK10))/LOG(2))))","v":0},null,{"$f":"N10","v":1122},{"$f":"COUNTIF(L96:L118,AN10)","v":0},{"$f":"AO10/(AQ4-AO20)","v":0},{"$f":"IF(AP10=0,0,(AP10*((LOG(AP10))/LOG(2))))","v":0},null,{"$f":"N10","v":1122},{"$f":"COUNTIF(L119:L140,AS10)","v":1},{"$f":"AT10/(AV4-AT20)","v":4.5454545454545456E-2},{"$f":"IF(AU10=0,0,(AU10*((LOG(AU10))/LOG(2))))","v":-0.20270143721078623}]
[21,747,12,759,13,764,23,777,null,null,0,2112,null,1211,{"$f":"COUNTIF($L$7:$L$500,N11)","v":3},{"$f":"O11/$Q$4","v":2.2388059701492536E-2},{"$f":"IF(P11=0,0,(P11*((LOG(P11))/LOG(2))))","v":-0.12271179156126753},null,null,{"$f":"N11","v":1211},{"$f":"COUNTIF(L7:L28,T11)","v":2},{"$f":"U11/(W4-U20)","v":9.5238095238095233E-2},{"$f":"IF(V11=0,0,(V11*((LOG(V11))/LOG(2))))","v":-0.32307784978845333},null,{"$f":"N11","v":1211},{"$f":"COUNTIF(L29:L51,Y11)","v":0},{"$f":"Z11/(AB4-Z20)","v":0},{"$f":"IF(AA11=0,0,(AA11*((LOG(AA11))/LOG(2))))","v":0},null,{"$f":"N11","v":1211},{"$f":"COUNTIF(L52:L73,AD11)","v":1},{"$f":"AE11/(AG4-AE20)","v":4.5454545454545456E-2},{"$f":"IF(AF11=0,0,(AF11*((LOG(AF11))/LOG(2))))","v":-0.20270143721078623},null,{"$f":"N11","v":1211},{"$f":"COUNTIF(L74:L95,AI11)","v":0},{"$f":"AJ11/(AL4-AJ20)","v":0},{"$f":"IF(AK11=0,0,(AK11*((LOG(AK11))/LOG(2))))","v":0},null,{"$f":"N11","v":1211},{"$f":"COUNTIF(L96:L118,AN11)","v":0},{"$f":"AO11/(AQ4-AO20)","v":0},{"$f":"IF(AP11=0,0,(AP11*((LOG(AP11))/LOG(2))))","v":0},null,{"$f":"N11","v":1211},{"$f":"COUNTIF(L119:L140,AS11)","v":0},{"$f":"AT11/(AV4-AT20)","v":0},{"$f":"IF(AU11=0,0,(AU11*((LOG(AU11))/LOG(2))))","v":0}]
[21,897,12,911,13,916,14,920,null,null,0,2111,null,1212,{"$f":"COUNTIF($L$7:$L$500,N12)","v":0},{"$f":"O12/$Q$4","v":0},{"$f":"IF(P12=0,0,(P12*((LOG(P12))/LOG(2))))","v":0},null,null,{"$f":"N12","v":1212},{"$f":"COUNTIF(L7:L28,T12)","v":0},{"$f":"U12/(W4-U20)","v":0},{"$f":"IF(V12=0,0,(V12*((LOG(V12))/LOG(2))))","v":0},null,{"$f":"N12","v":1212},{"$f":"COUNTIF(L29:L51,Y12)","v":0},{"$f":"Z12/(AB4-Z20)","v":0},{"$f":"IF(AA12=0,0,(AA12*((LOG(AA12))/LOG(2))))","v":0},null,{"$f":"N12","v":1212},{"$f":"COUNTIF(L52:L73,AD12)","v":0},{"$f":"AE12/(AG4-AE20)","v":0},{"$f":"IF(AF12=0,0,(AF12*((LOG(AF12))/LOG(2))))","v":0},null,{"$f":"N12","v":1212},{"$f":"COUNTIF(L74:L95,AI12)","v":0},{"$f":"AJ12/(AL4-AJ20)","v":0},{"$f":"IF(AK12=0,0,(AK12*((LOG(AK12))/LOG(2))))","v":0},null,{"$f":"N12","v":1212},{"$f":"COUNTIF(L96:L118,AN12)","v":0},{"$f":"AO12/(AQ4-AO20)","v":0},{"$f":"IF(AP12=0,0,(AP12*((LOG(AP12))/LOG(2))))","v":0},null,{"$f":"N12","v":1212},{"$f":"COUNTIF(L119:L140,AS12)","v":0},{"$f":"AT12/(AV4-AT20)","v":0},{"$f":"IF(AU12=0,0,(AU12*((LOG(AU12))/LOG(2))))","v":0}]
[12,1043,14,1047,13,1053,23,1068,null,null,0,1112,null,1221,{"$f":"COUNTIF($L$7:$L$500,N13)","v":3},{"$f":"O13/$Q$4","v":2.2388059701492536E-2},{"$f":"IF(P13=0,0,(P13*((LOG(P13))/LOG(2))))","v":-0.12271179156126753},null,null,{"$f":"N13","v":1221},{"$f":"COUNTIF(L7:L28,T13)","v":0},{"$f":"U13/(W4-U20)","v":0},{"$f":"IF(V13=0,0,(V13*((LOG(V13))/LOG(2))))","v":0},null,{"$f":"N13","v":1221},{"$f":"COUNTIF(L29:L51,Y13)","v":1},{"$f":"Z13/(AB4-Z20)","v":4.3478260869565216E-2},{"$f":"IF(AA13=0,0,(AA13*((LOG(AA13))/LOG(2))))","v":-0.19667660678508753},null,{"$f":"N13","v":1221},{"$f":"COUNTIF(L52:L73,AD13)","v":0},{"$f":"AE13/(AG4-AE20)","v":0},{"$f":"IF(AF13=0,0,(AF13*((LOG(AF13))/LOG(2))))","v":0},null,{"$f":"N13","v":1221},{"$f":"COUNTIF(L74:L95,AI13)","v":1},{"$f":"AJ13/(AL4-AJ20)","v":4.5454545454545456E-2},{"$f":"IF(AK13=0,0,(AK13*((LOG(AK13))/LOG(2))))","v":-0.20270143721078623},null,{"$f":"N13","v":1221},{"$f":"COUNTIF(L96:L118,AN13)","v":1},{"$f":"AO13/(AQ4-AO20)","v":4.3478260869565216E-2},{"$f":"IF(AP13=0,0,(AP13*((LOG(AP13))/LOG(2))))","v":-0.19667660678508753},null,{"$f":"N13","v":1221},{"$f":"COUNTIF(L119:L140,AS13)","v":0},{"$f":"AT13/(AV4-AT20)","v":0},{"$f":"IF(AU13=0,0,(AU13*((LOG(AU13))/LOG(2))))","v":0}]
[12,1198,23,1212,13,1229,14,1234,null,null,0,1211,null,1222,{"$f":"COUNTIF($L$7:$L$500,N14)","v":7},{"$f":"O14/$Q$4","v":5.2238805970149252E-2},{"$f":"IF(P14=0,0,(P14*((LOG(P14))/LOG(2))))","v":-0.22247119312538191},null,null,{"$f":"N14","v":1222},{"$f":"COUNTIF(L7:L28,T14)","v":0},{"$f":"U14/(W4-U20)","v":0},{"$f":"IF(V14=0,0,(V14*((LOG(V14))/LOG(2))))","v":0},null,{"$f":"N14","v":1222},{"$f":"COUNTIF(L29:L51,Y14)","v":0},{"$f":"Z14/(AB4-Z20)","v":0},{"$f":"IF(AA14=0,0,(AA14*((LOG(AA14))/LOG(2))))","v":0},null,{"$f":"N14","v":1222},{"$f":"COUNTIF(L52:L73,AD14)","v":0},{"$f":"AE14/(AG4-AE20)","v":0},{"$f":"IF(AF14=0,0,(AF14*((LOG(AF14))/LOG(2))))","v":0},null,{"$f":"N14","v":1222},{"$f":"COUNTIF(L74:L95,AI14)","v":2},{"$f":"AJ14/(AL4-AJ20)","v":9.0909090909090912E-2},{"$f":"IF(AK14=0,0,(AK14*((LOG(AK14))/LOG(2))))","v":-0.31449378351248153},null,{"$f":"N14","v":1222},{"$f":"COUNTIF(L96:L118,AN14)","v":3},{"$f":"AO14/(AQ4-AO20)","v":0.13043478260869565},{"$f":"IF(AP14=0,0,(AP14*((LOG(AP14))/LOG(2))))","v":-0.3832955811307639},null,{"$f":"N14","v":1222},{"$f":"COUNTIF(L119:L140,AS14)","v":2},{"$f":"AT14/(AV4-AT20)","v":9.0909090909090912E-2},{"$f":"IF(AU14=0,0,(AU14*((LOG(AU14))/LOG(2))))","v":-0.31449378351248153}]
[12,1345,14,1355,24,1367,23,1372,null,null,0,1122,null,2111,{"$f":"COUNTIF($L$7:$L$500,N15)","v":22},{"$f":"O15/$Q$4","v":0.16417910447761194},{"$f":"IF(P15=0,0,(P15*((LOG(P15))/LOG(2))))","v":-0.42795870582127205},null,null,{"$f":"N15","v":2111},{"$f":"COUNTIF(L7:L28,T15)","v":2},{"$f":"U15/(W4-U20)","v":9.5238095238095233E-2},{"$f":"IF(V15=0,0,(V15*((LOG(V15))/LOG(2))))","v":-0.32307784978845333},null,{"$f":"N15","v":2111},{"$f":"COUNTIF(L29:L51,Y15)","v":5},{"$f":"Z15/(AB4-Z20)","v":0.21739130434782608},{"$f":"IF(AA15=0,0,(AA15*((LOG(AA15))/LOG(2))))","v":-0.47861605677601093},null,{"$f":"N15","v":2111},{"$f":"COUNTIF(L52:L73,AD15)","v":5},{"$f":"AE15/(AG4-AE20)","v":0.22727272727272727},{"$f":"IF(AF15=0,0,(AF15*((LOG(AF15))/LOG(2))))","v":-0.48579625539771243},null,{"$f":"N15","v":2111},{"$f":"COUNTIF(L74:L95,AI15)","v":4},{"$f":"AJ15/(AL4-AJ20)","v":0.18181818181818182},{"$f":"IF(AK15=0,0,(AK15*((LOG(AK15))/LOG(2))))","v":-0.44716938520678134},null,{"$f":"N15","v":2111},{"$f":"COUNTIF(L96:L118,AN15)","v":4},{"$f":"AO15/(AQ4-AO20)","v":0.17391304347826086},{"$f":"IF(AP15=0,0,(AP15*((LOG(AP15))/LOG(2))))","v":-0.43888034018382832},null,{"$f":"N15","v":2111},{"$f":"COUNTIF(L119:L140,AS15)","v":2},{"$f":"AT15/(AV4-AT20)","v":9.0909090909090912E-2},{"$f":"IF(AU15=0,0,(AU15*((LOG(AU15))/LOG(2))))","v":-0.31449378351248153}]
[12,1485,14,1490,13,1496,23,1506,null,null,0,1112,null,2112,{"$f":"COUNTIF($L$7:$L$500,N16)","v":3},{"$f":"O16/$Q$4","v":2.2388059701492536E-2},{"$f":"IF(P16=0,0,(P16*((LOG(P16))/LOG(2))))","v":-0.12271179156126753},null,null,{"$f":"N16","v":2112},{"$f":"COUNTIF(L7:L28,T16)","v":3},{"$f":"U16/(W4-U20)","v":0.14285714285714285},{"$f":"IF(V16=0,0,(V16*((LOG(V16))/LOG(2))))","v":-0.40105070315108626},null,{"$f":"N16","v":2112},{"$f":"COUNTIF(L29:L51,Y16)","v":0},{"$f":"Z16/(AB4-Z20)","v":0},{"$f":"IF(AA16=0,0,(AA16*((LOG(AA16))/LOG(2))))","v":0},null,{"$f":"N16","v":2112},{"$f":"COUNTIF(L52:L73,AD16)","v":0},{"$f":"AE16/(AG4-AE20)","v":0},{"$f":"IF(AF16=0,0,(AF16*((LOG(AF16))/LOG(2))))","v":0},null,{"$f":"N16","v":2112},{"$f":"COUNTIF(L74:L95,AI16)","v":0},{"$f":"AJ16/(AL4-AJ20)","v":0},{"$f":"IF(AK16=0,0,(AK16*((LOG(AK16))/LOG(2))))","v":0},null,{"$f":"N16","v":2112},{"$f":"COUNTIF(L96:L118,AN16)","v":0},{"$f":"AO16/(AQ4-AO20)","v":0},{"$f":"IF(AP16=0,0,(AP16*((LOG(AP16))/LOG(2))))","v":0},null,{"$f":"N16","v":2112},{"$f":"COUNTIF(L119:L140,AS16)","v":0},{"$f":"AT16/(AV4-AT20)","v":0},{"$f":"IF(AU16=0,0,(AU16*((LOG(AU16))/LOG(2))))","v":0}]
[12,1631,14,1638,24,1658,23,1663,null,null,0,1122,null,2121,{"$f":"COUNTIF($L$7:$L$500,N17)","v":1},{"$f":"O17/$Q$4","v":7.462686567164179E-3},{"$f":"IF(P17=0,0,(P17*((LOG(P17))/LOG(2))))","v":-5.2732008884013228E-2},null,null,{"$f":"N17","v":2121},{"$f":"COUNTIF(L7:L28,T17)","v":0},{"$f":"U17/(W4-U20)","v":0},{"$f":"IF(V17=0,0,(V17*((LOG(V17))/LOG(2))))","v":0},null,{"$f":"N17","v":2121},{"$f":"COUNTIF(L29:L51,Y17)","v":0},{"$f":"Z17/(AB4-Z20)","v":0},{"$f":"IF(AA17=0,0,(AA17*((LOG(AA17))/LOG(2))))","v":0},null,{"$f":"N17","v":2121},{"$f":"COUNTIF(L52:L73,AD17)","v":0},{"$f":"AE17/(AG4-AE20)","v":0},{"$f":"IF(AF17=0,0,(AF17*((LOG(AF17))/LOG(2))))","v":0},null,{"$f":"N17","v":2121},{"$f":"COUNTIF(L74:L95,AI17)","v":0},{"$f":"AJ17/(AL4-AJ20)","v":0},{"$f":"IF(AK17=0,0,(AK17*((LOG(AK17))/LOG(2))))","v":0},null,{"$f":"N17","v":2121},{"$f":"COUNTIF(L96:L118,AN17)","v":0},{"$f":"AO17/(AQ4-AO20)","v":0},{"$f":"IF(AP17=0,0,(AP17*((LOG(AP17))/LOG(2))))","v":0},null,{"$f":"N17","v":2121},{"$f":"COUNTIF(L119:L140,AS17)","v":1},{"$f":"AT17/(AV4-AT20)","v":4.5454545454545456E-2},{"$f":"IF(AU17=0,0,(AU17*((LOG(AU17))/LOG(2))))","v":-0.20270143721078623}]
[12,1764,14,1774,13,1779,14,1792,null,null,0,1111,null,2122,{"$f":"COUNTIF($L$7:$L$500,N18)","v":2},{"$f":"O18/$Q$4","v":1.4925373134328358E-2},{"$f":"IF(P18=0,0,(P18*((LOG(P18))/LOG(2))))","v":-9.0538644633698095E-2},null,null,{"$f":"N18","v":2122},{"$f":"COUNTIF(L7:L28,T18)","v":0},{"$f":"U18/(W4-U20)","v":0},{"$f":"IF(V18=0,0,(V18*((LOG(V18))/LOG(2))))","v":0},null,{"$f":"N18","v":2122},{"$f":"COUNTIF(L29:L51,Y18)","v":0},{"$f":"Z18/(AB4-Z20)","v":0},{"$f":"IF(AA18=0,0,(AA18*((LOG(AA18))/LOG(2))))","v":0},null,{"$f":"N18","v":2122},{"$f":"COUNTIF(L52:L73,AD18)","v":1},{"$f":"AE18/(AG4-AE20)","v":4.5454545454545456E-2},{"$f":"IF(AF18=0,0,(AF18*((LOG(AF18))/LOG(2))))","v":-0.20270143721078623},null,{"$f":"N18","v":2122},{"$f":"COUNTIF(L74:L95,AI18)","v":0},{"$f":"AJ18/(AL4-AJ20)","v":0},{"$f":"IF(AK18=0,0,(AK18*((LOG(AK18))/LOG(2))))","v":0},null,{"$f":"N18","v":2122},{"$f":"COUNTIF(L96:L118,AN18)","v":1},{"$f":"AO18/(AQ4-AO20)","v":4.3478260869565216E-2},{"$f":"IF(AP18=0,0,(AP18*((LOG(AP18))/LOG(2))))","v":-0.19667660678508753},null,{"$f":"N18","v":2122},{"$f":"COUNTIF(L119:L140,AS18)","v":0},{"$f":"AT18/(AV4-AT20)","v":0},{"$f":"IF(AU18=0,0,(AU18*((LOG(AU18))/LOG(2))))","v":0}]
[12,1913,14,1918,24,1934,23,1939,null,null,0,1122,null,2211,{"$f":"COUNTIF($L$7:$L$500,N19)","v":16},{"$f":"O19/$Q$4","v":0.11940298507462686},{"$f":"IF(P19=0,0,(P19*((LOG(P19))/LOG(2))))","v":-0.36610020184570419},null,null,{"$f":"N19","v":2211},{"$f":"COUNTIF(L7:L28,T19)","v":2},{"$f":"U19/(W4-U20)","v":9.5238095238095233E-2},{"$f":"IF(V19=0,0,(V19*((LOG(V19))/LOG(2))))","v":-0.32307784978845333},null,{"$f":"N19","v":2211},{"$f":"COUNTIF(L29:L51,Y19)","v":2},{"$f":"Z19/(AB4-Z20)","v":8.6956521739130432E-2},{"$f":"IF(AA19=0,0,(AA19*((LOG(AA19))/LOG(2))))","v":-0.30639669183104457},null,{"$f":"N19","v":2211},{"$f":"COUNTIF(L52:L73,AD19)","v":2},{"$f":"AE19/(AG4-AE20)","v":9.0909090909090912E-2},{"$f":"IF(AF19=0,0,(AF19*((LOG(AF19))/LOG(2))))","v":-0.31449378351248153},null,{"$f":"N19","v":2211},{"$f":"COUNTIF(L74:L95,AI19)","v":2},{"$f":"AJ19/(AL4-AJ20)","v":9.0909090909090912E-2},{"$f":"IF(AK19=0,0,(AK19*((LOG(AK19))/LOG(2))))","v":-0.31449378351248153},null,{"$f":"N19","v":2211},{"$f":"COUNTIF(L96:L118,AN19)","v":3},{"$f":"AO19/(AQ4-AO20)","v":0.13043478260869565},{"$f":"IF(AP19=0,0,(AP19*((LOG(AP19))/LOG(2))))","v":-0.3832955811307639},null,{"$f":"N19","v":2211},{"$f":"COUNTIF(L119:L140,AS19)","v":5},{"$f":"AT19/(AV4-AT20)","v":0.22727272727272727},{"$f":"IF(AU19=0,0,(AU19*((LOG(AU19))/LOG(2))))","v":-0.48579625539771243}]
[12,2066,23,2078,13,2086,14,2092,null,null,0,1211,null,2212,{"$f":"COUNTIF($L$7:$L$500,N20)","v":1},{"$f":"O20/$Q$4","v":7.462686567164179E-3},{"$f":"IF(P20=0,0,(P20*((LOG(P20))/LOG(2))))","v":-5.2732008884013228E-2},null,null,{"$f":"N20","v":2212},{"$f":"COUNTIF(L7:L28,T20)","v":1},null,null,null,{"$f":"N20","v":2212},{"$f":"COUNTIF(L29:L51,Y20)","v":0},null,null,null,{"$f":"N20","v":2212},{"$f":"COUNTIF(L52:L73,AD20)","v":0},null,null,null,{"$f":"N20","v":2212},{"$f":"COUNTIF(L74:L95,AI20)","v":0},null,null,null,{"$f":"N20","v":2212},{"$f":"COUNTIF(L96:L118,AN20)","v":0},null,null,null,{"$f":"N20","v":2212},{"$f":"COUNTIF(L119:L140,AS20)","v":0}]
[21,2197,12,2210,13,2216,23,2229,null,null,0,2112,null,2221,{"$f":"COUNTIF($L$7:$L$500,N21)","v":10},{"$f":"O21/$Q$4","v":7.4626865671641784E-2},{"$f":"IF(P21=0,0,(P21*((LOG(P21))/LOG(2))))","v":-0.27941500713212014},null,null,{"$f":"N21","v":2221},{"$f":"COUNTIF(L7:L28,T21)","v":0},{"$f":"U21/(W4-U20)","v":0},{"$f":"IF(V21=0,0,(V21*((LOG(V21))/LOG(2))))","v":0},null,{"$f":"N21","v":2221},{"$f":"COUNTIF(L29:L51,Y21)","v":1},{"$f":"Z21/(AB4-Z20)","v":4.3478260869565216E-2},{"$f":"IF(AA21=0,0,(AA21*((LOG(AA21))/LOG(2))))","v":-0.19667660678508753},null,{"$f":"N21","v":2221},{"$f":"COUNTIF(L52:L73,AD21)","v":5},{"$f":"AE21/(AG4-AE20)","v":0.22727272727272727},{"$f":"IF(AF21=0,0,(AF21*((LOG(AF21))/LOG(2))))","v":-0.48579625539771243},null,{"$f":"N21","v":2221},{"$f":"COUNTIF(L74:L95,AI21)","v":3},{"$f":"AJ21/(AL4-AJ20)","v":0.13636363636363635},{"$f":"IF(AK21=0,0,(AK21*((LOG(AK21))/LOG(2))))","v":-0.39197306153401923},null,{"$f":"N21","v":2221},{"$f":"COUNTIF(L96:L118,AN21)","v":1},{"$f":"AO21/(AQ4-AO20)","v":4.3478260869565216E-2},{"$f":"IF(AP21=0,0,(AP21*((LOG(AP21))/LOG(2))))","v":-0.19667660678508753},null,{"$f":"N21","v":2221},{"$f":"COUNTIF(L119:L140,AS21)","v":0},{"$f":"AT21/(AV4-AT20)","v":0},{"$f":"IF(AU21=0,0,(AU21*((LOG(AU21))/LOG(2))))","v":0}]
[21,2350,21,2369,11,2387,12,2395,null,null,0,2211,null,2222,{"$f":"COUNTIF($L$7:$L$500,N22)","v":24},{"$f":"O22/$Q$4","v":0.17910447761194029},{"$f":"IF(P22=0,0,(P22*((LOG(P22))/LOG(2))))","v":-0.44438089965431932},null,null,{"$f":"N22","v":2222},{"$f":"COUNTIF(L7:L28,T22)","v":1},{"$f":"U22/(W4-U20)","v":4.7619047619047616E-2},{"$f":"IF(V22=0,0,(V22*((LOG(V22))/LOG(2))))","v":-0.20915797251327431},null,{"$f":"N22","v":2222},{"$f":"COUNTIF(L29:L51,Y22)","v":4},{"$f":"Z22/(AB4-Z20)","v":0.17391304347826086},{"$f":"IF(AA22=0,0,(AA22*((LOG(AA22))/LOG(2))))","v":-0.43888034018382832},null,{"$f":"N22","v":2222},{"$f":"COUNTIF(L52:L73,AD22)","v":2},{"$f":"AE22/(AG4-AE20)","v":9.0909090909090912E-2},{"$f":"IF(AF22=0,0,(AF22*((LOG(AF22))/LOG(2))))","v":-0.31449378351248153},null,{"$f":"N22","v":2222},{"$f":"COUNTIF(L74:L95,AI22)","v":5},{"$f":"AJ22/(AL4-AJ20)","v":0.22727272727272727},{"$f":"IF(AK22=0,0,(AK22*((LOG(AK22))/LOG(2))))","v":-0.48579625539771243},null,{"$f":"N22","v":2222},{"$f":"COUNTIF(L96:L118,AN22)","v":5},{"$f":"AO22/(AQ4-AO20)","v":0.21739130434782608},{"$f":"IF(AP22=0,0,(AP22*((LOG(AP22))/LOG(2))))","v":-0.47861605677601093},null,{"$f":"N22","v":2222},{"$f":"COUNTIF(L119:L140,AS22)","v":7},{"$f":"AT22/(AV4-AT20)","v":0.31818181818181818},{"$f":"IF(AU22=0,0,(AU22*((LOG(AU22))/LOG(2))))","v":-0.52566076709353871}]
[21,2514,12,2528,13,2532,14,2537,null,null,0,2111,null,null,null,{"$f":"SUM(P7:P22)","v":1},{"$f":"-SUM(Q7:Q22)","v":3.312134617802049},null,null,null,null,{"$f":"SUM(V7:V22)","v":0.99999999999999978},{"$f":"-SUM(W7:W22)","v":2.8511494238930326},null,null,null,{"$f":"SUM(AA7:AA22)","v":0.99999999999999989},{"$f":"-SUM(AB7:AB22)","v":2.8227178048064152},null,null,null,{"$f":"SUM(AF7:AF22)","v":1},{"$f":"-SUM(AG7:AG22)","v":2.9151512344992478},null,null,null,{"$f":"SUM(AK7:AK22)","v":1},{"$f":"-SUM(AL7:AL22)","v":2.8064985287918298},null,null,null,{"$f":"SUM(AP7:AP22)","v":0.99999999999999989},{"$f":"-SUM(AQ7:AQ22)","v":3.0507661742775687},null,null,null,{"$f":"SUM(AU7:AU22)","v":1},{"$f":"-SUM(AV7:AV22)","v":2.4930168491445679}]
[12,2660,14,2666,24,2680,23,2688,null,null,0,1122,null,null,null,"U=",{"$f":"Q23/(LOG(Q4)/LOG(2))","v":0.46873659934477474},null,null,null,null,"U1=",{"$f":"W23/(LOG(W4)/LOG(2))","v":0.63935265022951071},null,null,null,"U2=",{"$f":"AB23/(LOG(AB4)/LOG(2))","v":0.62400334785440903},null,null,null,"U3=",{"$f":"AG23/(LOG(AG4)/LOG(2))","v":0.65370466099669733},null,null,null,"U4=",{"$f":"AL23/(LOG(AL4)/LOG(2))","v":0.62933996275727921},null,null,null,"U5=",{"$f":"AQ23/(LOG(AQ4)/LOG(2))","v":0.67441679895477447},null,null,null,"U6=",{"$f":"AV23/(LOG(AV4)/LOG(2))","v":0.55904363209102825}]
[12,2818,14,2824,13,2829,14,2835,null,null,0,1111]
[12,2990,14,2996,13,3000,14,3007,null,null,0,1111]
[12,3152,14,3158,13,3167,14,3174,null,null,0,1111,null,"Total Target Seq"]
[12,3316,14,3322,13,3327,14,3332,null,null,0,1111,null,{"$f":"COUNTIF(L7:L140,G3)","v":1},null,22,23,22,22,23,22]
[12,3467,14,3472,13,3502,14,3508,null,null,0,1111,null,null,null,"% of reinforcement given in 6 equal intervals based on number of trials "]
[21,3617,12,3647,13,3652,14,3656,null,null,0,2111,null,null,null,"%_1","%_2","%_3","%_4","%_5","%_6"]
[12,3776,14,3781,13,3787,14,3795,null,null,0,1111,null,null,"target sequence",{"$f":"$G$3","v":2212},{"$f":"$G$3","v":2212},{"$f":"$G$3","v":2212},{"$f":"$G$3","v":2212},{"$f":"$G$3","v":2212},{"$f":"$G$3","v":2212}]
[12,3924,14,3930,24,3943,14,3962,null,null,0,1121,null,null,"total reinforcement",{"$f":"U20","v":1},{"$f":"Z20","v":0},{"$f":"AE20","v":0},{"$f":"AJ20","v":0},{"$f":"AO20","v":0},{"$f":"AT20","v":0}]
[12,4088,14,4093,13,4099,14,4107,null,null,0,1111,null,null,"% target"]
[12,4248,23,4264,24,4270,14,4286,null,null,0,1221,null,null,"CCRF"]
[21,4383,12,4400,13,4404,14,4435,null,null,0,2111,null,null,"% CCRf"]
[21,4536,12,4553,13,4564,14,4570,null,null,0,2111,null,null,"average response rate",{"$f":"H28/P28","v":151.45454545454547},{"$f":"(H51-H28)/Q28","v":173.21739130434781},{"$f":"(H73-H51)/R28","v":186.31818181818181},{"$f":"(H95-H73)/S28","v":173.95454545454547},{"$f":"(H118-H95)/T28","v":190.78260869565219},{"$f":"(H140-H118)/U28","v":197.5}]
[21,4704,21,4714,11,4726,12,4731,null,null,0,2211]
[21,4837,12,4854,13,4858,14,4863,null,null,0,2111]
[12,5002,14,5010,13,5015,23,5030,null,null,0,1112]
[12,5203,14,5209,13,5214,14,5219,null,null,0,1111]
[21,5399,21,5404,22,5410,14,5425,null,null,0,2221]
[21,5664,21,5675,11,5688,12,5695,null,null,0,2211]
[12,5806,14,5812,24,5826,23,5839,null,null,0,1122]
[12,5964,14,5986,13,5991,14,5995,null,null,0,1111]
[21,6233,12,6255,13,6260,14,6264,null,null,0,2111]
[12,6416,14,6421,13,6427,23,6439,null,null,0,1112]
[21,6560,21,6566,22,6585,23,6599,null,null,0,2222]
[21,6735,21,6742,22,6767,23,6773,null,null,0,2222]
[21,6970,21,7004,22,7033,23,7047,null,null,0,2222]
[12,7163,14,7168,13,7174,14,7179,null,null,0,1111]
[21,7293,21,7305,22,7310,23,7316,null,null,0,2222]
[21,7547,12,7584,24,7597,23,7602,null,null,0,2122]
[12,7799,14,7805,13,7814,23,7828,null,null,0,1112]
[21,7961,21,7969,22,7979,23,7984,null,null,0,2222]
[21,8089,21,8096,22,8109,14,8133,null,null,0,2221]
[21,8236,12,8252,13,8258,14,8262,null,null,0,2111]
[21,8404,21,8418,22,8425,14,8442,null,null,0,2221]
[21,8586,21,8603,11,8614,12,8619,null,null,0,2211]
[12,8799,14,8804,13,8809,14,8815,null,null,0,1111]
[21,8934,12,8947,13,8953,14,8960,null,null,0,2111]
[12,9077,14,9083,24,9098,23,9115,null,null,0,1122]
[21,9215,12,9242,13,9246,14,9251,null,null,0,2111]
[12,9354,14,9385,13,9390,14,9398,null,null,0,1111]
[21,9664,21,9677,11,9691,12,9695,null,null,0,2211]
[12,9811,14,9816,13,9821,14,9829,null,null,0,1111]
[12,9993,23,10015,13,10032,14,10037,null,null,0,1211]
[21,10317,21,10333,22,10339,14,10354,null,null,0,2221]
[21,10454,21,10491,22,10502,14,10516,null,null,0,2221]
[21,10621,21,10630,22,10642,14,10658,null,null,0,2221]
[21,10841,12,10866,13,10870,14,10875,null,null,0,2111]
[21,11053,21,11065,22,11072,23,11077,null,null,0,2222]
[21,11236,12,11251,13,11258,14,11265,null,null,0,2111]
[12,11390,14,11396,13,11401,23,11415,null,null,0,1112]
[21,11507,21,11521,11,11538,12,11544,null,null,0,2211]
[21,11706,21,11724,11,11743,12,11748,null,null,0,2211]
[21,11923,21,11934,22,11939,14,11956,null,null,0,2221]
[21,12059,21,12065,22,12080,23,12088,null,null,0,2222]
[12,12259,14,12268,13,12277,14,12285,null,null,0,1111]
[21,12399,21,12405,22,12417,14,12431,null,null,0,2221]
[21,12725,21,12733,22,12744,14,12763,null,null,0,2221]
[12,12890,23,12905,24,12910,14,12926,null,null,0,1221]
[21,13075,12,13094,13,13099,14,13104,null,null,0,2111]
[21,13253,12,13275,13,13280,14,13284,null,null,0,2111]
[21,13468,12,13490,13,13499,14,13505,null,null,0,2111]
[21,13604,21,13610,22,13634,23,13640,null,null,0,2222]
[21,13742,12,13769,13,13774,14,13782,null,null,0,2111]
[12,13921,14,13929,13,13936,23,13949,null,null,0,1112]
[12,14064,14,14069,13,14073,14,14078,null,null,0,1111]
[12,14243,14,14247,13,14252,14,14257,null,null,0,1111]
[21,14369,21,14385,22,14399,23,14404,null,null,0,2222]
[12,14530,14,14534,13,14540,14,14544,null,null,0,1111]
[21,14731,21,14739,22,14750,23,14759,null,null,0,2222]
[12,14865,23,14877,24,14882,23,14891,null,null,0,1222]
[21,15065,21,15073,22,15080,23,15094,null,null,0,2222]
[12,15202,23,15220,24,15231,23,15242,null,null,0,1222]
[21,15414,21,15433,22,15442,23,15448,null,null,0,2222]
[12,15559,23,15572,24,15577,23,15586,null,null,0,1222]
[21,15691,12,15711,24,15730,23,15734,null,null,0,2122]
[21,15928,21,15935,22,15944,23,15950,null,null,0,2222]
[12,16116,23,16136,24,16142,23,16154,null,null,0,1222]
[12,16262,23,16277,24,16282,14,16295,null,null,0,1221]
[21,16497,21,16509,22,16519,23,16524,null,null,0,2222]
[21,16627,12,16649,13,16653,14,16660,null,null,0,2111]
[12,16794,14,16799,24,16811,14,16839,null,null,0,1121]
[21,17004,21,17011,22,17016,14,17033,null,null,0,2221]
[21,17296,21,17308,11,17323,12,17327,null,null,0,2211]
[12,17474,14,17481,13,17488,23,17503,null,null,0,1112]
[21,17627,12,17645,13,17650,14,17654,null,null,0,2111]
[21,17857,21,17864,11,17884,12,17892,null,null,0,2211]
[12,18003,14,18012,13,18017,14,18021,null,null,0,1111]
[12,18173,14,18178,13,18184,14,18189,null,null,0,1111]
[21,18297,21,18312,22,18321,23,18337,null,null,0,2222]
[12,18499,23,18529,24,18534,23,18539,null,null,0,1222]
[21,18702,12,18724,13,18734,14,18741,null,null,0,2111]
[12,18964,14,18969,13,18973,14,18978,null,null,0,1111]
[21,19207,21,19227,11,19245,12,19251,null,null,0,2211]
[21,19359,21,19363,22,19368,23,19400,null,null,0,2222]
[21,19590,12,19618,13,19623,14,19630,null,null,0,2111]
[21,19885,21,19896,22,19902,23,19912,null,null,0,2222]
[21,20017,21,20022,22,20033,23,20039,null,null,0,2222]
[21,20142,21,20147,11,20170,12,20175,null,null,0,2211]
[12,20377,14,20382,13,20385,14,20389,null,null,0,1111]
[12,20597,14,20603,13,20608,14,20612,null,null,0,1111]
[21,20821,12,20838,13,20843,14,20847,null,null,0,2111]
[21,20946,21,20952,22,20957,23,20979,null,null,0,2222]
[12,21090,23,21103,24,21109,23,21114,null,null,0,1222]
[21,21214,12,21238,24,21260,14,21276,null,null,0,2121]
[21,21405,21,21420,22,21425,23,21430,null,null,0,2222]
[21,21566,12,21585,13,21589,14,21597,null,null,0,2111]
[21,21798,21,21805,11,21822,12,21827,null,null,0,2211]
[21,22105,21,22115,11,22134,12,22149,null,null,0,2211]
[12,22275,23,22287,24,22296,23,22305,null,null,0,1222]
[21,22491,21,22495,11,22507,12,22511,null,null,0,2211]
[12,22713,14,22719,24,22744,23,22750,null,null,0,1122]
[12,22883,14,22888,13,22894,14,22898,null,null,0,1111]
[12,23055,14,23085,13,23089,14,23094,null,null,0,1111]
[21,23281,21,23286,22,23293,23,23310,null,null,0,2222]
[21,23486,21,23494,11,23513,12,23518,null,null,0,2211]
[21,23664,21,23671,22,23687,23,23691,null,null,0,2222]
[21,23933,21,23940,22,23966,23,23975,null,null,null,2222]

{"sheet":"!N104A10.092","index":7,"n_rows":138,"n_cols":48,"rows_kept":138,"cut":false,"hidden":false,"merged":[[4,39,4,42],[5,39,5,40],[4,44,4,47],[5,44,5,45],[4,24,4,27],[5,24,5,25],[4,29,4,32],[5,29,5,30],[4,34,4,37],[5,34,5,35],[1,1,1,2],[5,13,5,14],[26,13,26,14],[27,13,27,14],[4,19,4,22],[5,19,5,20]]}
["Report for:!N104A10.092"]
["Date:","<date>"]
["Hen:","<hen>",null,null,null,"Correct Sequence",{"$f":"Start!J2","v":2212},null,null,null,null,null,null,null,null,"Total Sequences in Data",{"$f":"4994-COUNTBLANK(L7:L5000)","v":132},null,null,null,null,"Total Sequences in Block Data",{"$f":"COUNTA(L7:L28)","v":22},null,null,null,"Total Sequences in Block Data",{"$f":"COUNTA(L29:L50)","v":22},null,null,null,"Total Sequences in Block Data",{"$f":"COUNTA(L51:L72)","v":22},null,null,null,"Total Sequences in Block Data",{"$f":"COUNTA(L73:L94)","v":22},null,null,null,"Total Sequences in Block Data",{"$f":"COUNTA(L95:L116)","v":22},null,null,null,"Total Sequences in Block Data",{"$f":"COUNTA(L117:L138)","v":22}]
[null,null,null,null,null,null,null,null,null,null,null,null,null,null,null,"Total Sequences in Summary",{"$f":"SUM(O7:O22)","v":131},null,null,null,null,"Total Sequences in Block Summary",{"$f":"SUM(U7:U22)","v":22},null,null,null,"Total Sequences in Block Summary",{"$f":"SUM(Z7:Z22)","v":22},null,null,null,"Total Sequences in Block Summary",{"$f":"SUM(AE7:AE22)","v":22},null,null,null,"Total Sequences in Block Summary",{"$f":"SUM(AJ7:AJ22)","v":22},null,null,null,"Total Sequences in Block Summary",{"$f":"SUM(AO7:AO22)","v":22},null,null,null,"Total Sequences in Block Summary",{"$f":"SUM(AT7:AT22)","v":21}]
[null,null,null,null,null,null,null,null,null,null,null,null,null,null,null,null,null,null,null,"Block 1",null,null,null,null,"Block 2",null,null,null,null,"Block 3",null,null,null,null,"Block 4",null,null,null,null,"Block 5",null,null,null,null,"Block 6"]
["Sequence\nComponent\n1","Time\n1","Sequence\nComponent\n2","Time\n2","Sequence\nComponent\n3","Time\n3","Sequence\nComponent\n4","Time\n4","Sequence\nComponent\n5","Time\n5","Correct?\n0=No 1=Yes","Sequence",null,"Frequency",null,"Relative Frequency","Variability",null,null,"Frequency",null,"Relative Frequency","Variability",null,"Frequency",null,"Relative Frequency","Variability",null,"Frequency",null,"Relative Frequency","Variability",null,"Frequency",null,"Relative Frequency","Variability",null,"Frequency",null,"Relative Frequency","Variability",null,"Frequency",null,"Relative Frequency","Variability"]
[12,66,23,107,24,221,23,238,null,null,0,1222,null,1111,{"$f":"COUNTIF($L$7:$L$500,N7)","v":34},{"$f":"O7/$Q$4","v":0.25954198473282442},{"$f":"IF(P7=0,0,(P7*((LOG(P7))/LOG(2))))","v":-0.50505836221192191},null,null,{"$f":"N7","v":1111},{"$f":"COUNTIF(L7:L28,T7)","v":10},{"$f":"U7/(W4-U20)","v":0.45454545454545453},{"$f":"IF(V7=0,0,(V7*((LOG(V7))/LOG(2))))","v":-0.51704705624997038},null,{"$f":"N7","v":1111},{"$f":"COUNTIF(L29:L50,Y7)","v":5},{"$f":"Z7/(AB4-Z20)","v":0.22727272727272727},{"$f":"IF(AA7=0,0,(AA7*((LOG(AA7))/LOG(2))))","v":-0.48579625539771243},null,{"$f":"N7","v":1111},{"$f":"COUNTIF(L51:L72,AD7)","v":4},{"$f":"AE7/(AG4-AE20)","v":0.19047619047619047},{"$f":"IF(AF7=0,0,(AF7*((LOG(AF7))/LOG(2))))","v":-0.4556795091007162},null,{"$f":"N7","v":1111},{"$f":"COUNTIF(L73:L94,AI7)","v":1},{"$f":"AJ7/(AL4-AJ20)","v":4.5454545454545456E-2},{"$f":"IF(AK7=0,0,(AK7*((LOG(AK7))/LOG(2))))","v":-0.20270143721078623},null,{"$f":"N7","v":1111},{"$f":"COUNTIF(L95:L116,AN7)","v":8},{"$f":"AO7/(AQ4-AO20)","v":0.36363636363636365},{"$f":"IF(AP7=0,0,(AP7*((LOG(AP7))/LOG(2))))","v":-0.53070240677719893},null,{"$f":"N7","v":1111},{"$f":"COUNTIF(L117:L138,AS7)","v":6},{"$f":"AT7/(AV4-AT20)","v":0.2857142857142857},{"$f":"IF(AU7=0,0,(AU7*((LOG(AU7))/LOG(2))))","v":-0.51638712058788683}]
[12,356,14,387,13,392,23,406,null,null,0,1112,null,1112,{"$f":"COUNTIF($L$7:$L$500,N8)","v":9},{"$f":"O8/$Q$4","v":6.8702290076335881E-2},{"$f":"IF(P8=0,0,(P8*((LOG(P8))/LOG(2))))","v":-0.26543116031187974},null,null,{"$f":"N8","v":1112},{"$f":"COUNTIF(L7:L28,T8)","v":2},{"$f":"U8/(W4-U20)","v":9.0909090909090912E-2},{"$f":"IF(V8=0,0,(V8*((LOG(V8))/LOG(2))))","v":-0.31449378351248153},null,{"$f":"N8","v":1112},{"$f":"COUNTIF(L29:L50,Y8)","v":1},{"$f":"Z8/(AB4-Z20)","v":4.5454545454545456E-2},{"$f":"IF(AA8=0,0,(AA8*((LOG(AA8))/LOG(2))))","v":-0.20270143721078623},null,{"$f":"N8","v":1112},{"$f":"COUNTIF(L51:L72,AD8)","v":1},{"$f":"AE8/(AG4-AE20)","v":4.7619047619047616E-2},{"$f":"IF(AF8=0,0,(AF8*((LOG(AF8))/LOG(2))))","v":-0.20915797251327431},null,{"$f":"N8","v":1112},{"$f":"COUNTIF(L73:L94,AI8)","v":0},{"$f":"AJ8/(AL4-AJ20)","v":0},{"$f":"IF(AK8=0,0,(AK8*((LOG(AK8))/LOG(2))))","v":0},null,{"$f":"N8","v":1112},{"$f":"COUNTIF(L95:L116,AN8)","v":3},{"$f":"AO8/(AQ4-AO20)","v":0.13636363636363635},{"$f":"IF(AP8=0,0,(AP8*((LOG(AP8))/LOG(2))))","v":-0.39197306153401923},null,{"$f":"N8","v":1112},{"$f":"COUNTIF(L117:L138,AS8)","v":2},{"$f":"AT8/(AV4-AT20)","v":9.5238095238095233E-2},{"$f":"IF(AU8=0,0,(AU8*((LOG(AU8))/LOG(2))))","v":-0.32307784978845333}]
[12,509,23,522,13,532,14,537,null,null,0,1211,null,1121,{"$f":"COUNTIF($L$7:$L$500,N9)","v":1},{"$f":"O9/$Q$4","v":7.6335877862595417E-3},{"$f":"IF(P9=0,0,(P9*((LOG(P9))/LOG(2))))","v":-5.3690251920133214E-2},null,null,{"$f":"N9","v":1121},{"$f":"COUNTIF(L7:L28,T9)","v":0},{"$f":"U9/(W4-U20)","v":0},{"$f":"IF(V9=0,0,(V9*((LOG(V9))/LOG(2))))","v":0},null,{"$f":"N9","v":1121},{"$f":"COUNTIF(L29:L50,Y9)","v":0},{"$f":"Z9/(AB4-Z20)","v":0},{"$f":"IF(AA9=0,0,(AA9*((LOG(AA9))/LOG(2))))","v":0},null,{"$f":"N9","v":1121},{"$f":"COUNTIF(L51:L72,AD9)","v":0},{"$f":"AE9/(AG4-AE20)","v":0},{"$f":"IF(AF9=0,0,(AF9*((LOG(AF9))/LOG(2))))","v":0},null,{"$f":"N9","v":1121},{"$f":"COUNTIF(L73:L94,AI9)","v":0},{"$f":"AJ9/(AL4-AJ20)","v":0},{"$f":"IF(AK9=0,0,(AK9*((LOG(AK9))/LOG(2))))","v":0},null,{"$f":"N9","v":1121},{"$f":"COUNTIF(L95:L116,AN9)","v":1},{"$f":"AO9/(AQ4-AO20)","v":4.5454545454545456E-2},{"$f":"IF(AP9=0,0,(AP9*((LOG(AP9))/LOG(2))))","v":-0.20270143721078623},null,{"$f":"N9","v":1121},{"$f":"COUNTIF(L117:L138,AS9)","v":0},{"$f":"AT9/(AV4-AT20)","v":0},{"$f":"IF(AU9=0,0,(AU9*((LOG(AU9))/LOG(2))))","v":0}]
[12,645,14,655,13,660,14,669,null,null,0,1111,null,1122,{"$f":"COUNTIF($L$7:$L$500,N10)","v":5},{"$f":"O10/$Q$4","v":3.8167938931297711E-2},{"$f":"IF(P10=0,0,(P10*((LOG(P10))/LOG(2))))","v":-0.17982804987214074},null,null,{"$f":"N10","v":1122},{"$f":"COUNTIF(L7:L28,T10)","v":0},{"$f":"U10/(W4-U20)","v":0},{"$f":"IF(V10=0,0,(V10*((LOG(V10))/LOG(2))))","v":0},null,{"$f":"N10","v":1122},{"$f":"COUNTIF(L29:L50,Y10)","v":2},{"$f":"Z10/(AB4-Z20)","v":9.0909090909090912E-2},{"$f":"IF(AA10=0,0,(AA10*((LOG(AA10))/LOG(2))))","v":-0.31449378351248153},null,{"$f":"N10","v":1122},{"$f":"COUNTIF(L51:L72,AD10)","v":0},{"$f":"AE10/(AG4-AE20)","v":0},{"$f":"IF(AF10=0,0,(AF10*((LOG(AF10))/LOG(2))))","v":0},null,{"$f":"N10","v":1122},{"$f":"COUNTIF(L73:L94,AI10)","v":0},{"$f":"AJ10/(AL4-AJ20)","v":0},{"$f":"IF(AK10=0,0,(AK10*((LOG(AK10))/LOG(2))))","v":0},null,{"$f":"N10","v":1122},{"$f":"COUNTIF(L95:L116,AN10)","v":1},{"$f":"AO10/(AQ4-AO20)","v":4.5454545454545456E-2},{"$f":"IF(AP10=0,0,(AP10*((LOG(AP10))/LOG(2))))","v":-0.20270143721078623},null,{"$f":"N10","v":1122},{"$f":"COUNTIF(L117:L138,AS10)","v":2},{"$f":"AT10/(AV4-AT20)","v":9.5238095238095233E-2},{"$f":"IF(AU10=0,0,(AU10*((LOG(AU10))/LOG(2))))","v":-0.32307784978845333}]
[12,778,23,789,24,798,14,809,null,null,0,1221,null,1211,{"$f":"COUNTIF($L$7:$L$500,N11)","v":5},{"$f":"O11/$Q$4","v":3.8167938931297711E-2},{"$f":"IF(P11=0,0,(P11*((LOG(P11))/LOG(2))))","v":-0.17982804987214074},null,null,{"$f":"N11","v":1211},{"$f":"COUNTIF(L7:L28,T11)","v":3},{"$f":"U11/(W4-U20)","v":0.13636363636363635},{"$f":"IF(V11=0,0,(V11*((LOG(V11))/LOG(2))))","v":-0.39197306153401923},null,{"$f":"N11","v":1211},{"$f":"COUNTIF(L29:L50,Y11)","v":0},{"$f":"Z11/(AB4-Z20)","v":0},{"$f":"IF(AA11=0,0,(AA11*((LOG(AA11))/LOG(2))))","v":0},null,{"$f":"N11","v":1211},{"$f":"COUNTIF(L51:L72,AD11)","v":0},{"$f":"AE11/(AG4-AE20)","v":0},{"$f":"IF(AF11=0,0,(AF11*((LOG(AF11))/LOG(2))))","v":0},null,{"$f":"N11","v":1211},{"$f":"COUNTIF(L73:L94,AI11)","v":2},{"$f":"AJ11/(AL4-AJ20)","v":9.0909090909090912E-2},{"$f":"IF(AK11=0,0,(AK11*((LOG(AK11))/LOG(2))))","v":-0.31449378351248153},null,{"$f":"N11","v":1211},{"$f":"COUNTIF(L95:L116,AN11)","v":0},{"$f":"AO11/(AQ4-AO20)","v":0},{"$f":"IF(AP11=0,0,(AP11*((LOG(AP11))/LOG(2))))","v":0},null,{"$f":"N11","v":1211},{"$f":"COUNTIF(L117:L138,AS11)","v":0},{"$f":"AT11/(AV4-AT20)","v":0},{"$f":"IF(AU11=0,0,(AU11*((LOG(AU11))/LOG(2))))","v":0}]
[12,943,14,948,13,953,14,958,null,null,0,1111,null,1212,{"$f":"COUNTIF($L$7:$L$500,N12)","v":0},{"$f":"O12/$Q$4","v":0},{"$f":"IF(P12=0,0,(P12*((LOG(P12))/LOG(2))))","v":0},null,null,{"$f":"N12","v":1212},{"$f":"COUNTIF(L7:L28,T12)","v":0},{"$f":"U12/(W4-U20)","v":0},{"$f":"IF(V12=0,0,(V12*((LOG(V12))/LOG(2))))","v":0},null,{"$f":"N12","v":1212},{"$f":"COUNTIF(L29:L50,Y12)","v":0},{"$f":"Z12/(AB4-Z20)","v":0},{"$f":"IF(AA12=0,0,(AA12*((LOG(AA12))/LOG(2))))","v":0},null,{"$f":"N12","v":1212},{"$f":"COUNTIF(L51:L72,AD12)","v":0},{"$f":"AE12/(AG4-AE20)","v":0},{"$f":"IF(AF12=0,0,(AF12*((LOG(AF12))/LOG(2))))","v":0},null,{"$f":"N12","v":1212},{"$f":"COUNTIF(L73:L94,AI12)","v":0},{"$f":"AJ12/(AL4-AJ20)","v":0},{"$f":"IF(AK12=0,0,(AK12*((LOG(AK12))/LOG(2))))","v":0},null,{"$f":"N12","v":1212},{"$f":"COUNTIF(L95:L116,AN12)","v":0},{"$f":"AO12/(AQ4-AO20)","v":0},{"$f":"IF(AP12=0,0,(AP12*((LOG(AP12))/LOG(2))))","v":0},null,{"$f":"N12","v":1212},{"$f":"COUNTIF(L117:L138,AS12)","v":0},{"$f":"AT12/(AV4-AT20)","v":0},{"$f":"IF(AU12=0,0,(AU12*((LOG(AU12))/LOG(2))))","v":0}]
[12,1074,14,1079,13,1103,14,1108,null,null,0,1111,null,1221,{"$f":"COUNTIF($L$7:$L$500,N13)","v":4},{"$f":"O13/$Q$4","v":3.0534351145038167E-2},{"$f":"IF(P13=0,0,(P13*((LOG(P13))/LOG(2))))","v":-0.15369230539045647},null,null,{"$f":"N13","v":1221},{"$f":"COUNTIF(L7:L28,T13)","v":1},{"$f":"U13/(W4-U20)","v":4.5454545454545456E-2},{"$f":"IF(V13=0,0,(V13*((LOG(V13))/LOG(2))))","v":-0.20270143721078623},null,{"$f":"N13","v":1221},{"$f":"COUNTIF(L29:L50,Y13)","v":0},{"$f":"Z13/(AB4-Z20)","v":0},{"$f":"IF(AA13=0,0,(AA13*((LOG(AA13))/LOG(2))))","v":0},null,{"$f":"N13","v":1221},{"$f":"COUNTIF(L51:L72,AD13)","v":1},{"$f":"AE13/(AG4-AE20)","v":4.7619047619047616E-2},{"$f":"IF(AF13=0,0,(AF13*((LOG(AF13))/LOG(2))))","v":-0.20915797251327431},null,{"$f":"N13","v":1221},{"$f":"COUNTIF(L73:L94,AI13)","v":0},{"$f":"AJ13/(AL4-AJ20)","v":0},{"$f":"IF(AK13=0,0,(AK13*((LOG(AK13))/LOG(2))))","v":0},null,{"$f":"N13","v":1221},{"$f":"COUNTIF(L95:L116,AN13)","v":1},{"$f":"AO13/(AQ4-AO20)","v":4.5454545454545456E-2},{"$f":"IF(AP13=0,0,(AP13*((LOG(AP13))/LOG(2))))","v":-0.20270143721078623},null,{"$f":"N13","v":1221},{"$f":"COUNTIF(L117:L138,AS13)","v":1},{"$f":"AT13/(AV4-AT20)","v":4.7619047619047616E-2},{"$f":"IF(AU13=0,0,(AU13*((LOG(AU13))/LOG(2))))","v":-0.20915797251327431}]
[12,1240,14,1246,13,1255,14,1260,null,null,0,1111,null,1222,{"$f":"COUNTIF($L$7:$L$500,N14)","v":11},{"$f":"O14/$Q$4","v":8.3969465648854963E-2},{"$f":"IF(P14=0,0,(P14*((LOG(P14))/LOG(2))))","v":-0.30010614665573809},null,null,{"$f":"N14","v":1222},{"$f":"COUNTIF(L7:L28,T14)","v":1},{"$f":"U14/(W4-U20)","v":4.5454545454545456E-2},{"$f":"IF(V14=0,0,(V14*((LOG(V14))/LOG(2))))","v":-0.20270143721078623},null,{"$f":"N14","v":1222},{"$f":"COUNTIF(L29:L50,Y14)","v":1},{"$f":"Z14/(AB4-Z20)","v":4.5454545454545456E-2},{"$f":"IF(AA14=0,0,(AA14*((LOG(AA14))/LOG(2))))","v":-0.20270143721078623},null,{"$f":"N14","v":1222},{"$f":"COUNTIF(L51:L72,AD14)","v":3},{"$f":"AE14/(AG4-AE20)","v":0.14285714285714285},{"$f":"IF(AF14=0,0,(AF14*((LOG(AF14))/LOG(2))))","v":-0.40105070315108626},null,{"$f":"N14","v":1222},{"$f":"COUNTIF(L73:L94,AI14)","v":2},{"$f":"AJ14/(AL4-AJ20)","v":9.0909090909090912E-2},{"$f":"IF(AK14=0,0,(AK14*((LOG(AK14))/LOG(2))))","v":-0.31449378351248153},null,{"$f":"N14","v":1222},{"$f":"COUNTIF(L95:L116,AN14)","v":2},{"$f":"AO14/(AQ4-AO20)","v":9.0909090909090912E-2},{"$f":"IF(AP14=0,0,(AP14*((LOG(AP14))/LOG(2))))","v":-0.31449378351248153},null,{"$f":"N14","v":1222},{"$f":"COUNTIF(L117:L138,AS14)","v":2},{"$f":"AT14/(AV4-AT20)","v":9.5238095238095233E-2},{"$f":"IF(AU14=0,0,(AU14*((LOG(AU14))/LOG(2))))","v":-0.32307784978845333}]
[21,1378,21,1401,22,1419,14,1438,null,null,0,2221,null,2111,{"$f":"COUNTIF($L$7:$L$500,N15)","v":16},{"$f":"O15/$Q$4","v":0.12213740458015267},{"$f":"IF(P15=0,0,(P15*((LOG(P15))/LOG(2))))","v":-0.37049441240152065},null,null,{"$f":"N15","v":2111},{"$f":"COUNTIF(L7:L28,T15)","v":0},{"$f":"U15/(W4-U20)","v":0},{"$f":"IF(V15=0,0,(V15*((LOG(V15))/LOG(2))))","v":0},null,{"$f":"N15","v":2111},{"$f":"COUNTIF(L29:L50,Y15)","v":6},{"$f":"Z15/(AB4-Z20)","v":0.27272727272727271},{"$f":"IF(AA15=0,0,(AA15*((LOG(AA15))/LOG(2))))","v":-0.51121885034076575},null,{"$f":"N15","v":2111},{"$f":"COUNTIF(L51:L72,AD15)","v":4},{"$f":"AE15/(AG4-AE20)","v":0.19047619047619047},{"$f":"IF(AF15=0,0,(AF15*((LOG(AF15))/LOG(2))))","v":-0.4556795091007162},null,{"$f":"N15","v":2111},{"$f":"COUNTIF(L73:L94,AI15)","v":2},{"$f":"AJ15/(AL4-AJ20)","v":9.0909090909090912E-2},{"$f":"IF(AK15=0,0,(AK15*((LOG(AK15))/LOG(2))))","v":-0.31449378351248153},null,{"$f":"N15","v":2111},{"$f":"COUNTIF(L95:L116,AN15)","v":2},{"$f":"AO15/(AQ4-AO20)","v":9.0909090909090912E-2},{"$f":"IF(AP15=0,0,(AP15*((LOG(AP15))/LOG(2))))","v":-0.31449378351248153},null,{"$f":"N15","v":2111},{"$f":"COUNTIF(L117:L138,AS15)","v":2},{"$f":"AT15/(AV4-AT20)","v":9.5238095238095233E-2},{"$f":"IF(AU15=0,0,(AU15*((LOG(AU15))/LOG(2))))","v":-0.32307784978845333}]
[12,1576,14,1585,13,1592,14,1597,null,null,0,1111,null,2112,{"$f":"COUNTIF($L$7:$L$500,N16)","v":0},{"$f":"O16/$Q$4","v":0},{"$f":"IF(P16=0,0,(P16*((LOG(P16))/LOG(2))))","v":0},null,null,{"$f":"N16","v":2112},{"$f":"COUNTIF(L7:L28,T16)","v":0},{"$f":"U16/(W4-U20)","v":0},{"$f":"IF(V16=0,0,(V16*((LOG(V16))/LOG(2))))","v":0},null,{"$f":"N16","v":2112},{"$f":"COUNTIF(L29:L50,Y16)","v":0},{"$f":"Z16/(AB4-Z20)","v":0},{"$f":"IF(AA16=0,0,(AA16*((LOG(AA16))/LOG(2))))","v":0},null,{"$f":"N16","v":2112},{"$f":"COUNTIF(L51:L72,AD16)","v":0},{"$f":"AE16/(AG4-AE20)","v":0},{"$f":"IF(AF16=0,0,(AF16*((LOG(AF16))/LOG(2))))","v":0},null,{"$f":"N16","v":2112},{"$f":"COUNTIF(L73:L94,AI16)","v":0},{"$f":"AJ16/(AL4-AJ20)","v":0},{"$f":"IF(AK16=0,0,(AK16*((LOG(AK16))/LOG(2))))","v":0},null,{"$f":"N16","v":2112},{"$f":"COUNTIF(L95:L116,AN16)","v":0},{"$f":"AO16/(AQ4-AO20)","v":0},{"$f":"IF(AP16=0,0,(AP16*((LOG(AP16))/LOG(2))))","v":0},null,{"$f":"N16","v":2112},{"$f":"COUNTIF(L117:L138,AS16)","v":0},{"$f":"AT16/(AV4-AT20)","v":0},{"$f":"IF(AU16=0,0,(AU16*((LOG(AU16))/LOG(2))))","v":0}]
[12,1763,14,1768,13,1773,14,1778,null,null,0,1111,null,2121,{"$f":"COUNTIF($L$7:$L$500,N17)","v":0},{"$f":"O17/$Q$4","v":0},{"$f":"IF(P17=0,0,(P17*((LOG(P17))/LOG(2))))","v":0},null,null,{"$f":"N17","v":2121},{"$f":"COUNTIF(L7:L28,T17)","v":0},{"$f":"U17/(W4-U20)","v":0},{"$f":"IF(V17=0,0,(V17*((LOG(V17))/LOG(2))))","v":0},null,{"$f":"N17","v":2121},{"$f":"COUNTIF(L29:L50,Y17)","v":0},{"$f":"Z17/(AB4-Z20)","v":0},{"$f":"IF(AA17=0,0,(AA17*((LOG(AA17))/LOG(2))))","v":0},null,{"$f":"N17","v":2121},{"$f":"COUNTIF(L51:L72,AD17)","v":0},{"$f":"AE17/(AG4-AE20)","v":0},{"$f":"IF(AF17=0,0,(AF17*((LOG(AF17))/LOG(2))))","v":0},null,{"$f":"N17","v":2121},{"$f":"COUNTIF(L73:L94,AI17)","v":0},{"$f":"AJ17/(AL4-AJ20)","v":0},{"$f":"IF(AK17=0,0,(AK17*((LOG(AK17))/LOG(2))))","v":0},null,{"$f":"N17","v":2121},{"$f":"COUNTIF(L95:L116,AN17)","v":0},{"$f":"AO17/(AQ4-AO20)","v":0},{"$f":"IF(AP17=0,0,(AP17*((LOG(AP17))/LOG(2))))","v":0},null,{"$f":"N17","v":2121},{"$f":"COUNTIF(L117:L138,AS17)","v":0},{"$f":"AT17/(AV4-AT20)","v":0},{"$f":"IF(AU17=0,0,(AU17*((LOG(AU17))/LOG(2))))","v":0}]
[12,1936,14,1942,13,1948,23,1960,null,null,0,1112,null,2122,{"$f":"COUNTIF($L$7:$L$500,N18)","v":0},{"$f":"O18/$Q$4","v":0},{"$f":"IF(P18=0,0,(P18*((LOG(P18))/LOG(2))))","v":0},null,null,{"$f":"N18","v":2122},{"$f":"COUNTIF(L7:L28,T18)","v":0},{"$f":"U18/(W4-U20)","v":0},{"$f":"IF(V18=0,0,(V18*((LOG(V18))/LOG(2))))","v":0},null,{"$f":"N18","v":2122},{"$f":"COUNTIF(L29:L50,Y18)","v":0},{"$f":"Z18/(AB4-Z20)","v":0},{"$f":"IF(AA18=0,0,(AA18*((LOG(AA18))/LOG(2))))","v":0},null,{"$f":"N18","v":2122},{"$f":"COUNTIF(L51:L72,AD18)","v":0},{"$f":"AE18/(AG4-AE20)","v":0},{"$f":"IF(AF18=0,0,(AF18*((LOG(AF18))/LOG(2))))","v":0},null,{"$f":"N18","v":2122},{"$f":"COUNTIF(L73:L94,AI18)","v":0},{"$f":"AJ18/(AL4-AJ20)","v":0},{"$f":"IF(AK18=0,0,(AK18*((LOG(AK18))/LOG(2))))","v":0},null,{"$f":"N18","v":2122},{"$f":"COUNTIF(L95:L116,AN18)","v":0},{"$f":"AO18/(AQ4-AO20)","v":0},{"$f":"IF(AP18=0,0,(AP18*((LOG(AP18))/LOG(2))))","v":0},null,{"$f":"N18","v":2122},{"$f":"COUNTIF(L117:L138,AS18)","v":0},{"$f":"AT18/(AV4-AT20)","v":0},{"$f":"IF(AU18=0,0,(AU18*((LOG(AU18))/LOG(2))))","v":0}]
[21,2126,21,2131,22,2136,23,2141,null,null,0,2222,null,2211,{"$f":"COUNTIF($L$7:$L$500,N19)","v":14},{"$f":"O19/$Q$4","v":0.10687022900763359},{"$f":"IF(P19=0,0,(P19*((LOG(P19))/LOG(2))))","v":-0.34477063444822786},null,null,{"$f":"N19","v":2211},{"$f":"COUNTIF(L7:L28,T19)","v":3},{"$f":"U19/(W4-U20)","v":0.13636363636363635},{"$f":"IF(V19=0,0,(V19*((LOG(V19))/LOG(2))))","v":-0.39197306153401923},null,{"$f":"N19","v":2211},{"$f":"COUNTIF(L29:L50,Y19)","v":1},{"$f":"Z19/(AB4-Z20)","v":4.5454545454545456E-2},{"$f":"IF(AA19=0,0,(AA19*((LOG(AA19))/LOG(2))))","v":-0.20270143721078623},null,{"$f":"N19","v":2211},{"$f":"COUNTIF(L51:L72,AD19)","v":4},{"$f":"AE19/(AG4-AE20)","v":0.19047619047619047},{"$f":"IF(AF19=0,0,(AF19*((LOG(AF19))/LOG(2))))","v":-0.4556795091007162},null,{"$f":"N19","v":2211},{"$f":"COUNTIF(L73:L94,AI19)","v":2},{"$f":"AJ19/(AL4-AJ20)","v":9.0909090909090912E-2},{"$f":"IF(AK19=0,0,(AK19*((LOG(AK19))/LOG(2))))","v":-0.31449378351248153},null,{"$f":"N19","v":2211},{"$f":"COUNTIF(L95:L116,AN19)","v":3},{"$f":"AO19/(AQ4-AO20)","v":0.13636363636363635},{"$f":"IF(AP19=0,0,(AP19*((LOG(AP19))/LOG(2))))","v":-0.39197306153401923},null,{"$f":"N19","v":2211},{"$f":"COUNTIF(L117:L138,AS19)","v":1},{"$f":"AT19/(AV4-AT20)","v":4.7619047619047616E-2},{"$f":"IF(AU19=0,0,(AU19*((LOG(AU19))/LOG(2))))","v":-0.20915797251327431}]
[21,2403,21,2411,11,2426,12,2431,null,null,0,2211,null,2212,{"$f":"COUNTIF($L$7:$L$500,N20)","v":1},{"$f":"O20/$Q$4","v":7.6335877862595417E-3},{"$f":"IF(P20=0,0,(P20*((LOG(P20))/LOG(2))))","v":-5.3690251920133214E-2},null,null,{"$f":"N20","v":2212},{"$f":"COUNTIF(L7:L28,T20)","v":0},null,null,null,{"$f":"N20","v":2212},{"$f":"COUNTIF(L29:L50,Y20)","v":0},null,null,null,{"$f":"N20","v":2212},{"$f":"COUNTIF(L51:L72,AD20)","v":1},null,null,null,{"$f":"N20","v":2212},{"$f":"COUNTIF(L73:L94,AI20)","v":0},null,null,null,{"$f":"N20","v":2212},{"$f":"COUNTIF(L95:L116,AN20)","v":0},null,null,null,{"$f":"N20","v":2212},{"$f":"COUNTIF(L117:L138,AS20)","v":0}]
[12,2670,14,2674,13,2680,14,2690,null,null,0,1111,null,2221,{"$f":"COUNTIF($L$7:$L$500,N21)","v":7},{"$f":"O21/$Q$4","v":5.3435114503816793E-2},{"$f":"IF(P21=0,0,(P21*((LOG(P21))/LOG(2))))","v":-0.22582043172793073},null,null,{"$f":"N21","v":2221},{"$f":"COUNTIF(L7:L28,T21)","v":1},{"$f":"U21/(W4-U20)","v":4.5454545454545456E-2},{"$f":"IF(V21=0,0,(V21*((LOG(V21))/LOG(2))))","v":-0.20270143721078623},null,{"$f":"N21","v":2221},{"$f":"COUNTIF(L29:L50,Y21)","v":1},{"$f":"Z21/(AB4-Z20)","v":4.5454545454545456E-2},{"$f":"IF(AA21=0,0,(AA21*((LOG(AA21))/LOG(2))))","v":-0.20270143721078623},null,{"$f":"N21","v":2221},{"$f":"COUNTIF(L51:L72,AD21)","v":2},{"$f":"AE21/(AG4-AE20)","v":9.5238095238095233E-2},{"$f":"IF(AF21=0,0,(AF21*((LOG(AF21))/LOG(2))))","v":-0.32307784978845333},null,{"$f":"N21","v":2221},{"$f":"COUNTIF(L73:L94,AI21)","v":2},{"$f":"AJ21/(AL4-AJ20)","v":9.0909090909090912E-2},{"$f":"IF(AK21=0,0,(AK21*((LOG(AK21))/LOG(2))))","v":-0.31449378351248153},null,{"$f":"N21","v":2221},{"$f":"COUNTIF(L95:L116,AN21)","v":0},{"$f":"AO21/(AQ4-AO20)","v":0},{"$f":"IF(AP21=0,0,(AP21*((LOG(AP21))/LOG(2))))","v":0},null,{"$f":"N21","v":2221},{"$f":"COUNTIF(L117:L138,AS21)","v":1},{"$f":"AT21/(AV4-AT20)","v":4.7619047619047616E-2},{"$f":"IF(AU21=0,0,(AU21*((LOG(AU21))/LOG(2))))","v":-0.20915797251327431}]
[12,2807,14,2812,13,2816,14,2821,null,null,0,1111,null,2222,{"$f":"COUNTIF($L$7:$L$500,N22)","v":24},{"$f":"O22/$Q$4","v":0.18320610687022901},{"$f":"IF(P22=0,0,(P22*((LOG(P22))/LOG(2))))","v":-0.44857291618008444},null,null,{"$f":"N22","v":2222},{"$f":"COUNTIF(L7:L28,T22)","v":1},{"$f":"U22/(W4-U20)","v":4.5454545454545456E-2},{"$f":"IF(V22=0,0,(V22*((LOG(V22))/LOG(2))))","v":-0.20270143721078623},null,{"$f":"N22","v":2222},{"$f":"COUNTIF(L29:L50,Y22)","v":5},{"$f":"Z22/(AB4-Z20)","v":0.22727272727272727},{"$f":"IF(AA22=0,0,(AA22*((LOG(AA22))/LOG(2))))","v":-0.48579625539771243},null,{"$f":"N22","v":2222},{"$f":"COUNTIF(L51:L72,AD22)","v":2},{"$f":"AE22/(AG4-AE20)","v":9.5238095238095233E-2},{"$f":"IF(AF22=0,0,(AF22*((LOG(AF22))/LOG(2))))","v":-0.32307784978845333},null,{"$f":"N22","v":2222},{"$f":"COUNTIF(L73:L94,AI22)","v":11},{"$f":"AJ22/(AL4-AJ20)","v":0.5},{"$f":"IF(AK22=0,0,(AK22*((LOG(AK22))/LOG(2))))","v":-0.5},null,{"$f":"N22","v":2222},{"$f":"COUNTIF(L95:L116,AN22)","v":1},{"$f":"AO22/(AQ4-AO20)","v":4.5454545454545456E-2},{"$f":"IF(AP22=0,0,(AP22*((LOG(AP22))/LOG(2))))","v":-0.20270143721078623},null,{"$f":"N22","v":2222},{"$f":"COUNTIF(L117:L138,AS22)","v":4},{"$f":"AT22/(AV4-AT20)","v":0.19047619047619047},{"$f":"IF(AU22=0,0,(AU22*((LOG(AU22))/LOG(2))))","v":-0.4556795091007162}]
[12,2950,23,2963,13,2977,14,2982,null,null,0,1211,null,null,null,{"$f":"SUM(P7:P22)","v":0.99999999999999989},{"$f":"-SUM(Q7:Q22)","v":3.0809829729123077},null,null,null,null,{"$f":"SUM(V7:V22)","v":0.99999999999999978},{"$f":"-SUM(W7:W22)","v":2.4262927116736352},null,null,null,{"$f":"SUM(AA7:AA22)","v":1},{"$f":"-SUM(AB7:AB22)","v":2.6081108934918169},null,null,null,{"$f":"SUM(AF7:AF22)","v":1},{"$f":"-SUM(AG7:AG22)","v":2.8325608750566902},null,null,null,{"$f":"SUM(AK7:AK22)","v":1},{"$f":"-SUM(AL7:AL22)","v":2.2751703547731936},null,null,null,{"$f":"SUM(AP7:AP22)","v":0.99999999999999989},{"$f":"-SUM(AQ7:AQ22)","v":2.7544418457133455},null,null,null,{"$f":"SUM(AU7:AU22)","v":1},{"$f":"-SUM(AV7:AV22)","v":2.8918519463822392}]
[21,3220,21,3224,11,3242,12,3247,null,null,0,2211,null,null,null,"U=",{"$f":"Q23/(LOG(Q4)/LOG(2))","v":0.4380488664251857},null,null,null,null,"U1=",{"$f":"W23/(LOG(W4)/LOG(2))","v":0.54408115633692711},null,null,null,"U2=",{"$f":"AB23/(LOG(AB4)/LOG(2))","v":0.5848527607401226},null,null,null,"U3=",{"$f":"AG23/(LOG(AG4)/LOG(2))","v":0.63518428295179408},null,null,null,"U4=",{"$f":"AL23/(LOG(AL4)/LOG(2))","v":0.51019290110079873},null,null,null,"U5=",{"$f":"AQ23/(LOG(AQ4)/LOG(2))","v":0.61766657306767747},null,null,null,"U6=",{"$f":"AV23/(LOG(AV4)/LOG(2))","v":0.65838865182761197}]
[21,3354,21,3360,11,3376,12,3380,null,null,0,2211]
[12,3547,23,3560,13,3581,14,3586,null,null,0,1211]
[12,3688,14,3693,13,3698,14,3703,null,null,0,1111,null,"Total Target Seq"]
[12,3841,14,3846,13,3851,14,3855,null,null,0,1111,null,{"$f":"COUNTIF(L7:L138,G3)","v":1},null,22,22,22,22,22,22]
[21,4070,21,4080,22,4103,23,4111,null,null,0,2222,null,null,null,"% of reinforcement given in 6 equal intervals based on number of trials "]
[21,4243,12,4259,13,4263,14,4268,null,null,0,2111,null,null,null,"%_1","%_2","%_3","%_4","%_5","%_6"]
[12,4395,14,4401,13,4410,14,4421,null,null,0,1111,null,null,"target sequence",{"$f":"$G$3","v":2212},{"$f":"$G$3","v":2212},{"$f":"$G$3","v":2212},{"$f":"$G$3","v":2212},{"$f":"$G$3","v":2212},{"$f":"$G$3","v":2212}]
[21,4554,21,4560,11,4576,12,4581,null,null,0,2211,null,null,"total reinforcement",{"$f":"U20","v":0},{"$f":"Z20","v":0},{"$f":"AE20","v":1},{"$f":"AJ20","v":0},{"$f":"AO20","v":0},{"$f":"AT20","v":0}]
[21,4748,12,4761,13,4765,14,4770,null,null,0,2111,null,null,"% target"]
[21,4990,21,4995,22,5004,23,5010,null,null,0,2222,null,null,"CCRF"]
[21,5177,21,5187,22,5198,14,5214,null,null,0,2221,null,null,"% CCRf"]
[21,5338,12,5360,13,5364,14,5370,null,null,0,2111,null,null,"average response rate",{"$f":"H28/P28","v":175.22727272727272},{"$f":"(H50-H28)/Q28","v":179.90909090909091},{"$f":"(H72-H50)/R28","v":159.72727272727272},{"$f":"(H94-H72)/S28","v":192.81818181818181},{"$f":"(H116-H94)/T28","v":189.40909090909091},{"$f":"(H138-H116)/U28","v":-897.09090909090912}]
[12,5561,14,5566,13,5570,14,5574,null,null,0,1111]
[21,5679,21,5684,22,5690,23,5696,null,null,0,2222]
[12,5850,14,5856,24,5878,23,5884,null,null,0,1122]
[21,6102,12,6118,13,6122,14,6129,null,null,0,2111]
[21,6285,21,6290,22,6296,23,6301,null,null,0,2222]
[21,6426,21,6437,22,6457,23,6462,null,null,0,2222]
[12,6613,14,6618,13,6627,14,6632,null,null,0,1111]
[12,6737,14,6743,13,6748,14,6753,null,null,0,1111]
[12,6854,14,6858,24,6873,23,6879,null,null,0,1122]
[21,7116,12,7135,13,7140,14,7145,null,null,0,2111]
[12,7267,23,7282,24,7289,23,7295,null,null,0,1222]
[12,7442,14,7447,13,7453,23,7465,null,null,0,1112]
[12,7623,14,7629,13,7637,14,7647,null,null,0,1111]
[21,7773,12,7802,13,7808,14,7813,null,null,0,2111]
[21,8032,21,8047,11,8063,12,8068,null,null,0,2211]
[21,8174,21,8189,22,8196,14,8208,null,null,0,2221]
[21,8331,21,8339,11,8359,21,8370,null,null,0,2212]
[21,8468,12,8484,13,8491,14,8496,null,null,0,2111]
[21,8631,21,8636,11,8651,12,8661,null,null,0,2211]
[12,8788,14,8792,13,8798,23,8817,null,null,0,1112]
[21,8947,21,8958,22,8963,14,8978,null,null,0,2221]
[12,9098,23,9111,24,9116,23,9122,null,null,0,1222]
[12,9239,14,9261,13,9267,14,9272,null,null,0,1111]
[12,9386,23,9398,24,9402,23,9410,null,null,0,1222]
[12,9536,14,9542,13,9547,14,9553,null,null,0,1111]
[12,9689,23,9707,24,9717,23,9728,null,null,0,1222]
[12,9844,23,9856,24,9860,14,9875,null,null,0,1221]
[21,9987,12,10004,13,10009,14,10013,null,null,0,2111]
[12,10115,14,10120,13,10125,14,10131,null,null,0,1111]
[12,10264,14,10269,13,10274,14,10281,null,null,0,1111]
[21,10397,21,10402,11,10414,12,10419,null,null,0,2211]
[21,10561,21,10569,22,10575,23,10587,null,null,0,2222]
[21,10691,12,10708,13,10714,14,10719,null,null,0,2111]
[21,10863,12,10889,13,10895,14,10901,null,null,0,2111]
[21,11174,21,11182,22,11192,23,11200,null,null,0,2222]
[21,11298,21,11311,11,11323,12,11327,null,null,0,2211]
[21,11442,21,11460,22,11466,23,11474,null,null,0,2222]
[21,11619,12,11641,13,11647,14,11652,null,null,0,2111]
[21,11795,21,11811,22,11838,23,11847,null,null,0,2222]
[12,11951,23,11969,24,11978,23,11991,null,null,0,1222]
[21,12135,21,12139,22,12143,23,12153,null,null,0,2222]
[21,12420,21,12429,22,12442,23,12458,null,null,0,2222]
[21,12629,21,12641,22,12651,23,12660,null,null,0,2222]
[21,12766,21,12771,11,12793,12,12799,null,null,0,2211]
[12,12969,23,12982,24,12987,23,12991,null,null,0,1222]
[21,13109,21,13118,22,13130,23,13137,null,null,0,2222]
[21,13305,21,13310,22,13318,23,13323,null,null,0,2222]
[21,13443,21,13450,22,13468,23,13472,null,null,0,2222]
[21,13636,21,13641,22,13653,23,13667,null,null,0,2222]
[21,13870,21,13883,11,13911,12,13917,null,null,0,2211]
[21,14165,21,14173,22,14178,14,14190,null,null,0,2221]
[12,14398,23,14415,13,14429,14,14433,null,null,0,1211]
[21,14629,21,14634,22,14639,23,14644,null,null,0,2222]
[21,14762,12,14773,13,14782,14,14788,null,null,0,2111]
[12,14894,23,14905,13,14920,14,14925,null,null,0,1211]
[12,15112,14,15117,13,15123,14,15127,null,null,0,1111]
[21,15258,21,15278,22,15283,23,15290,null,null,0,2222]
[21,15529,21,15540,22,15548,14,15569,null,null,0,2221]
[21,15700,21,15704,22,15710,23,15716,null,null,0,2222]
[12,15872,14,15881,13,15885,14,15891,null,null,0,1111]
[21,16000,12,16017,13,16022,14,16029,null,null,0,2111]
[12,16211,23,16226,24,16236,23,16259,null,null,0,1222]
[21,16552,21,16559,11,16583,12,16588,null,null,0,2211]
[12,16825,14,16835,13,16844,14,16849,null,null,0,1111]
[12,16968,14,16976,13,16980,14,16984,null,null,0,1111]
[21,17136,12,17153,13,17159,14,17165,null,null,0,2111]
[21,17288,21,17295,11,17307,12,17312,null,null,0,2211]
[12,17502,14,17507,13,17513,14,17517,null,null,0,1111]
[12,17647,14,17657,13,17662,14,17674,null,null,0,1111]
[12,17872,14,17877,13,17882,23,17898,null,null,0,1112]
[12,18014,14,18020,13,18027,23,18039,null,null,0,1112]
[12,18232,23,18253,24,18262,23,18267,null,null,0,1222]
[12,18456,14,18462,13,18466,14,18473,null,null,0,1111]
[12,18581,14,18587,13,18594,14,18603,null,null,0,1111]
[12,18808,14,18816,24,18833,23,18845,null,null,0,1122]
[21,19091,21,19096,11,19111,12,19117,null,null,0,2211]
[12,19269,14,19275,13,19281,14,19285,null,null,0,1111]
[12,19403,14,19412,13,19417,23,19430,null,null,0,1112]
[12,19544,23,19557,24,19563,14,19580,null,null,0,1221]
[12,19699,14,19704,24,19717,14,19736,null,null,0,1121]
[21,19900,21,19905,22,19913,23,19929,null,null,0,2222]
[12,20043,23,20056,24,20062,23,20070,null,null,0,1222]
[12,20178,14,20187,13,20197,14,20206,null,null,0,1111]
[21,20370,21,20381,11,20392,12,20397,null,null,0,2211]
[21,20589,21,20612,22,20620,23,20624,null,null,0,2222]
[12,20732,14,20737,13,20741,14,20746,null,null,0,1111]
[21,21018,21,21026,22,21031,23,21036,null,null,0,2222]
[21,21217,21,21227,22,21239,23,21246,null,null,0,2222]
[12,21471,14,21481,13,21487,14,21492,null,null,0,1111]
[21,21625,12,21639,13,21644,14,21649,null,null,0,2111]
[12,21876,14,21881,24,21896,23,21909,null,null,0,1122]
[12,22083,14,22099,13,22104,23,22121,null,null,0,1112]
[12,22323,23,22336,24,22342,14,22373,null,null,0,1221]
[21,22573,21,22587,22,22591,14,22604,null,null,0,2221]
[12,22702,14,22707,13,22743,14,22748,null,null,0,1111]
[12,22938,23,22968,24,22977,23,22987,null,null,0,1222]
[12,23174,14,23180,13,23185,14,23189,null,null,0,1111]
[12,23338,14,23346,13,23351,14,23356,null,null,0,1111]
[21,23466,12,23478,13,23483,14,23489,null,null,0,2111]
[12,23634,14,23643,24,23662,23,23671,null,null,0,1122]
[12,23848,14,23853,13,23861,23,23874,null,null,0,1112]
[12,23991,null,null,null,null,null,null,null,null,null,1]

{"sheet":"!N105840.092","index":8,"n_rows":130,"n_cols":48,"rows_kept":130,"cut":false,"hidden":false,"merged":[[4,39,4,42],[5,39,5,40],[4,44,4,47],[5,44,5,45],[4,24,4,27],[5,24,5,25],[4,29,4,32],[5,29,5,30],[4,34,4,37],[5,34,5,35],[1,1,1,2],[5,13,5,14],[26,13,26,14],[27,13,27,14],[4,19,4,22],[5,19,5,20]]}
["Report for:!N105840.092"]
["Date:","<date>"]
["Hen:","<hen>",null,null,null,"Correct Sequence",{"$f":"Start!J2","v":2212},null,null,null,null,null,null,null,null,"Total Sequences in Data",{"$f":"4994-COUNTBLANK(L7:L5000)","v":124},null,null,null,null,"Total Sequences in Block Data",{"$f":"COUNTA(L7:L27)","v":21},null,null,null,"Total Sequences in Block Data",{"$f":"COUNTA(L28:L47)","v":20},null,null,null,"Total Sequences in Block Data",{"$f":"COUNTA(L48:L68)","v":21},null,null,null,"Total Sequences in Block Data",{"$f":"COUNTA(L69:L89)","v":21},null,null,null,"Total Sequences in Block Data",{"$f":"COUNTA(L90:L109)","v":20},null,null,null,"Total Sequences in Block Data",{"$f":"COUNTA(L110:L130)","v":21}]
[null,null,null,null,null,null,null,null,null,null,null,null,null,null,null,"Total Sequences in Summary",{"$f":"SUM(O7:O22)","v":124},null,null,null,null,"Total Sequences in Block Summary",{"$f":"SUM(U7:U22)","v":21},null,null,null,"Total Sequences in Block Summary",{"$f":"SUM(Z7:Z22)","v":20},null,null,null,"Total Sequences in Block Summary",{"$f":"SUM(AE7:AE22)","v":21},null,null,null,"Total Sequences in Block Summary",{"$f":"SUM(AJ7:AJ22)","v":21},null,null,null,"Total Sequences in Block Summary",{"$f":"SUM(AO7:AO22)","v":20},null,null,null,"Total Sequences in Block Summary",{"$f":"SUM(AT7:AT22)","v":21}]
[null,null,null,null,null,null,null,null,null,null,null,null,null,null,null,null,null,null,null,"Block 1",null,null,null,null,"Block 2",null,null,null,null,"Block 3",null,null,null,null,"Block 4",null,null,null,null,"Block 5",null,null,null,null,"Block 6"]
["Sequence\nComponent\n1","Time\n1","Sequence\nComponent\n2","Time\n2","Sequence\nComponent\n3","Time\n3","Sequence\nComponent\n4","Time\n4","Sequence\nComponent\n5","Time\n5","Correct?\n0=No 1=Yes","Sequence",null,"Frequency",null,"Relative Frequency","Variability",null,null,"Frequency",null,"Relative Frequency","Variability",null,"Frequency",null,"Relative Frequency","Variability",null,"Frequency",null,"Relative Frequency","Variability",null,"Frequency",null,"Relative Frequency","Variability",null,"Frequency",null,"Relative Frequency","Variability",null,"Frequency",null,"Relative Frequency","Variability"]
[21,58,21,76,22,99,23,138,null,null,0,2222,null,1111,{"$f":"COUNTIF($L$7:$L$500,N7)","v":50},{"$f":"O7/$Q$4","v":0.40322580645161288},{"$f":"IF(P7=0,0,(P7*((LOG(P7))/LOG(2))))","v":-0.52836295185973814},null,null,{"$f":"N7","v":1111},{"$f":"COUNTIF(L7:L27,T7)","v":1},{"$f":"U7/(W4-U20)","v":5.2631578947368418E-2},{"$f":"IF(V7=0,0,(V7*((LOG(V7))/LOG(2))))","v":-0.22357513228650452},null,{"$f":"N7","v":1111},{"$f":"COUNTIF(L28:L47,Y7)","v":9},{"$f":"Z7/(AB4-Z20)","v":0.45},{"$f":"IF(AA7=0,0,(AA7*((LOG(AA7))/LOG(2))))","v":-0.51840139205027258},null,{"$f":"N7","v":1111},{"$f":"COUNTIF(L48:L68,AD7)","v":8},{"$f":"AE7/(AG4-AE20)","v":0.38095238095238093},{"$f":"IF(AF7=0,0,(AF7*((LOG(AF7))/LOG(2))))","v":-0.53040663724905157},null,{"$f":"N7","v":1111},{"$f":"COUNTIF(L69:L89,AI7)","v":10},{"$f":"AJ7/(AL4-AJ20)","v":0.47619047619047616},{"$f":"IF(AK7=0,0,(AK7*((LOG(AK7))/LOG(2))))","v":-0.50970920375780859},null,{"$f":"N7","v":1111},{"$f":"COUNTIF(L90:L109,AN7)","v":11},{"$f":"AO7/(AQ4-AO20)","v":0.55000000000000004},{"$f":"IF(AP7=0,0,(AP7*((LOG(AP7))/LOG(2))))","v":-0.47437306193753576},null,{"$f":"N7","v":1111},{"$f":"COUNTIF(L110:L130,AS7)","v":11},{"$f":"AT7/(AV4-AT20)","v":0.52380952380952384},{"$f":"IF(AU7=0,0,(AU7*((LOG(AU7))/LOG(2))))","v":-0.4886544688360045}]
[12,250,23,264,13,280,23,293,null,null,0,1212,null,1112,{"$f":"COUNTIF($L$7:$L$500,N8)","v":15},{"$f":"O8/$Q$4","v":0.12096774193548387},{"$f":"IF(P8=0,0,(P8*((LOG(P8))/LOG(2))))","v":-0.36862569130383349},null,null,{"$f":"N8","v":1112},{"$f":"COUNTIF(L7:L27,T8)","v":6},{"$f":"U8/(W4-U20)","v":0.31578947368421051},{"$f":"IF(V8=0,0,(V8*((LOG(V8))/LOG(2))))","v":-0.52514684612287243},null,{"$f":"N8","v":1112},{"$f":"COUNTIF(L28:L47,Y8)","v":3},{"$f":"Z8/(AB4-Z20)","v":0.15},{"$f":"IF(AA8=0,0,(AA8*((LOG(AA8))/LOG(2))))","v":-0.41054483912493089},null,{"$f":"N8","v":1112},{"$f":"COUNTIF(L48:L68,AD8)","v":2},{"$f":"AE8/(AG4-AE20)","v":9.5238095238095233E-2},{"$f":"IF(AF8=0,0,(AF8*((LOG(AF8))/LOG(2))))","v":-0.32307784978845333},null,{"$f":"N8","v":1112},{"$f":"COUNTIF(L69:L89,AI8)","v":3},{"$f":"AJ8/(AL4-AJ20)","v":0.14285714285714285},{"$f":"IF(AK8=0,0,(AK8*((LOG(AK8))/LOG(2))))","v":-0.40105070315108626},null,{"$f":"N8","v":1112},{"$f":"COUNTIF(L90:L109,AN8)","v":0},{"$f":"AO8/(AQ4-AO20)","v":0},{"$f":"IF(AP8=0,0,(AP8*((LOG(AP8))/LOG(2))))","v":0},null,{"$f":"N8","v":1112},{"$f":"COUNTIF(L110:L130,AS8)","v":1},{"$f":"AT8/(AV4-AT20)","v":4.7619047619047616E-2},{"$f":"IF(AU8=0,0,(AU8*((LOG(AU8))/LOG(2))))","v":-0.20915797251327431}]
[21,469,21,475,11,487,21,499,null,null,0,2212,null,1121,{"$f":"COUNTIF($L$7:$L$500,N9)","v":3},{"$f":"O9/$Q$4","v":2.4193548387096774E-2},{"$f":"IF(P9=0,0,(P9*((LOG(P9))/LOG(2))))","v":-0.12990081797578351},null,null,{"$f":"N9","v":1121},{"$f":"COUNTIF(L7:L27,T9)","v":0},{"$f":"U9/(W4-U20)","v":0},{"$f":"IF(V9=0,0,(V9*((LOG(V9))/LOG(2))))","v":0},null,{"$f":"N9","v":1121},{"$f":"COUNTIF(L28:L47,Y9)","v":0},{"$f":"Z9/(AB4-Z20)","v":0},{"$f":"IF(AA9=0,0,(AA9*((LOG(AA9))/LOG(2))))","v":0},null,{"$f":"N9","v":1121},{"$f":"COUNTIF(L48:L68,AD9)","v":0},{"$f":"AE9/(AG4-AE20)","v":0},{"$f":"IF(AF9=0,0,(AF9*((LOG(AF9))/LOG(2))))","v":0},null,{"$f":"N9","v":1121},{"$f":"COUNTIF(L69:L89,AI9)","v":1},{"$f":"AJ9/(AL4-AJ20)","v":4.7619047619047616E-2},{"$f":"IF(AK9=0,0,(AK9*((LOG(AK9))/LOG(2))))","v":-0.20915797251327431},null,{"$f":"N9","v":1121},{"$f":"COUNTIF(L90:L109,AN9)","v":0},{"$f":"AO9/(AQ4-AO20)","v":0},{"$f":"IF(AP9=0,0,(AP9*((LOG(AP9))/LOG(2))))","v":0},null,{"$f":"N9","v":1121},{"$f":"COUNTIF(L110:L130,AS9)","v":2},{"$f":"AT9/(AV4-AT20)","v":9.5238095238095233E-2},{"$f":"IF(AU9=0,0,(AU9*((LOG(AU9))/LOG(2))))","v":-0.32307784978845333}]
[12,625,23,637,24,644,23,661,null,null,0,1222,null,1122,{"$f":"COUNTIF($L$7:$L$500,N10)","v":6},{"$f":"O10/$Q$4","v":4.8387096774193547E-2},{"$f":"IF(P10=0,0,(P10*((LOG(P10))/LOG(2))))","v":-0.21141453917737349},null,null,{"$f":"N10","v":1122},{"$f":"COUNTIF(L7:L27,T10)","v":2},{"$f":"U10/(W4-U20)","v":0.10526315789473684},{"$f":"IF(V10=0,0,(V10*((LOG(V10))/LOG(2))))","v":-0.34188710667827216},null,{"$f":"N10","v":1122},{"$f":"COUNTIF(L28:L47,Y10)","v":1},{"$f":"Z10/(AB4-Z20)","v":0.05},{"$f":"IF(AA10=0,0,(AA10*((LOG(AA10))/LOG(2))))","v":-0.21609640474436814},null,{"$f":"N10","v":1122},{"$f":"COUNTIF(L48:L68,AD10)","v":1},{"$f":"AE10/(AG4-AE20)","v":4.7619047619047616E-2},{"$f":"IF(AF10=0,0,(AF10*((LOG(AF10))/LOG(2))))","v":-0.20915797251327431},null,{"$f":"N10","v":1122},{"$f":"COUNTIF(L69:L89,AI10)","v":0},{"$f":"AJ10/(AL4-AJ20)","v":0},{"$f":"IF(AK10=0,0,(AK10*((LOG(AK10))/LOG(2))))","v":0},null,{"$f":"N10","v":1122},{"$f":"COUNTIF(L90:L109,AN10)","v":1},{"$f":"AO10/(AQ4-AO20)","v":0.05},{"$f":"IF(AP10=0,0,(AP10*((LOG(AP10))/LOG(2))))","v":-0.21609640474436814},null,{"$f":"N10","v":1122},{"$f":"COUNTIF(L110:L130,AS10)","v":1},{"$f":"AT10/(AV4-AT20)","v":4.7619047619047616E-2},{"$f":"IF(AU10=0,0,(AU10*((LOG(AU10))/LOG(2))))","v":-0.20915797251327431}]
[21,759,21,766,11,779,21,787,null,null,0,2212,null,1211,{"$f":"COUNTIF($L$7:$L$500,N11)","v":8},{"$f":"O11/$Q$4","v":6.4516129032258063E-2},{"$f":"IF(P11=0,0,(P11*((LOG(P11))/LOG(2))))","v":-0.25510943937979835},null,null,{"$f":"N11","v":1211},{"$f":"COUNTIF(L7:L27,T11)","v":1},{"$f":"U11/(W4-U20)","v":5.2631578947368418E-2},{"$f":"IF(V11=0,0,(V11*((LOG(V11))/LOG(2))))","v":-0.22357513228650452},null,{"$f":"N11","v":1211},{"$f":"COUNTIF(L28:L47,Y11)","v":1},{"$f":"Z11/(AB4-Z20)","v":0.05},{"$f":"IF(AA11=0,0,(AA11*((LOG(AA11))/LOG(2))))","v":-0.21609640474436814},null,{"$f":"N11","v":1211},{"$f":"COUNTIF(L48:L68,AD11)","v":2},{"$f":"AE11/(AG4-AE20)","v":9.5238095238095233E-2},{"$f":"IF(AF11=0,0,(AF11*((LOG(AF11))/LOG(2))))","v":-0.32307784978845333},null,{"$f":"N11","v":1211},{"$f":"COUNTIF(L69:L89,AI11)","v":1},{"$f":"AJ11/(AL4-AJ20)","v":4.7619047619047616E-2},{"$f":"IF(AK11=0,0,(AK11*((LOG(AK11))/LOG(2))))","v":-0.20915797251327431},null,{"$f":"N11","v":1211},{"$f":"COUNTIF(L90:L109,AN11)","v":2},{"$f":"AO11/(AQ4-AO20)","v":0.1},{"$f":"IF(AP11=0,0,(AP11*((LOG(AP11))/LOG(2))))","v":-0.33219280948873625},null,{"$f":"N11","v":1211},{"$f":"COUNTIF(L110:L130,AS11)","v":1},{"$f":"AT11/(AV4-AT20)","v":4.7619047619047616E-2},{"$f":"IF(AU11=0,0,(AU11*((LOG(AU11))/LOG(2))))","v":-0.20915797251327431}]
[21,914,12,947,24,958,23,975,null,null,0,2122,null,1212,{"$f":"COUNTIF($L$7:$L$500,N12)","v":1},{"$f":"O12/$Q$4","v":8.0645161290322578E-3},{"$f":"IF(P12=0,0,(P12*((LOG(P12))/LOG(2))))","v":-5.6082228309571575E-2},null,null,{"$f":"N12","v":1212},{"$f":"COUNTIF(L7:L27,T12)","v":1},{"$f":"U12/(W4-U20)","v":5.2631578947368418E-2},{"$f":"IF(V12=0,0,(V12*((LOG(V12))/LOG(2))))","v":-0.22357513228650452},null,{"$f":"N12","v":1212},{"$f":"COUNTIF(L28:L47,Y12)","v":0},{"$f":"Z12/(AB4-Z20)","v":0},{"$f":"IF(AA12=0,0,(AA12*((LOG(AA12))/LOG(2))))","v":0},null,{"$f":"N12","v":1212},{"$f":"COUNTIF(L48:L68,AD12)","v":0},{"$f":"AE12/(AG4-AE20)","v":0},{"$f":"IF(AF12=0,0,(AF12*((LOG(AF12))/LOG(2))))","v":0},null,{"$f":"N12","v":1212},{"$f":"COUNTIF(L69:L89,AI12)","v":0},{"$f":"AJ12/(AL4-AJ20)","v":0},{"$f":"IF(AK12=0,0,(AK12*((LOG(AK12))/LOG(2))))","v":0},null,{"$f":"N12","v":1212},{"$f":"COUNTIF(L90:L109,AN12)","v":0},{"$f":"AO12/(AQ4-AO20)","v":0},{"$f":"IF(AP12=0,0,(AP12*((LOG(AP12))/LOG(2))))","v":0},null,{"$f":"N12","v":1212},{"$f":"COUNTIF(L110:L130,AS12)","v":0},{"$f":"AT12/(AV4-AT20)","v":0},{"$f":"IF(AU12=0,0,(AU12*((LOG(AU12))/LOG(2))))","v":0}]
[21,1099,12,1110,24,1122,23,1134,null,null,0,2122,null,1221,{"$f":"COUNTIF($L$7:$L$500,N13)","v":5},{"$f":"O13/$Q$4","v":4.0322580645161289E-2},{"$f":"IF(P13=0,0,(P13*((LOG(P13))/LOG(2))))","v":-0.18678500868949646},null,null,{"$f":"N13","v":1221},{"$f":"COUNTIF(L7:L27,T13)","v":1},{"$f":"U13/(W4-U20)","v":5.2631578947368418E-2},{"$f":"IF(V13=0,0,(V13*((LOG(V13))/LOG(2))))","v":-0.22357513228650452},null,{"$f":"N13","v":1221},{"$f":"COUNTIF(L28:L47,Y13)","v":0},{"$f":"Z13/(AB4-Z20)","v":0},{"$f":"IF(AA13=0,0,(AA13*((LOG(AA13))/LOG(2))))","v":0},null,{"$f":"N13","v":1221},{"$f":"COUNTIF(L48:L68,AD13)","v":1},{"$f":"AE13/(AG4-AE20)","v":4.7619047619047616E-2},{"$f":"IF(AF13=0,0,(AF13*((LOG(AF13))/LOG(2))))","v":-0.20915797251327431},null,{"$f":"N13","v":1221},{"$f":"COUNTIF(L69:L89,AI13)","v":0},{"$f":"AJ13/(AL4-AJ20)","v":0},{"$f":"IF(AK13=0,0,(AK13*((LOG(AK13))/LOG(2))))","v":0},null,{"$f":"N13","v":1221},{"$f":"COUNTIF(L90:L109,AN13)","v":1},{"$f":"AO13/(AQ4-AO20)","v":0.05},{"$f":"IF(AP13=0,0,(AP13*((LOG(AP13))/LOG(2))))","v":-0.21609640474436814},null,{"$f":"N13","v":1221},{"$f":"COUNTIF(L110:L130,AS13)","v":2},{"$f":"AT13/(AV4-AT20)","v":9.5238095238095233E-2},{"$f":"IF(AU13=0,0,(AU13*((LOG(AU13))/LOG(2))))","v":-0.32307784978845333}]
[12,1243,23,1255,24,1259,23,1266,null,null,0,1222,null,1222,{"$f":"COUNTIF($L$7:$L$500,N14)","v":5},{"$f":"O14/$Q$4","v":4.0322580645161289E-2},{"$f":"IF(P14=0,0,(P14*((LOG(P14))/LOG(2))))","v":-0.18678500868949646},null,null,{"$f":"N14","v":1222},{"$f":"COUNTIF(L7:L27,T14)","v":3},{"$f":"U14/(W4-U20)","v":0.15789473684210525},{"$f":"IF(V14=0,0,(V14*((LOG(V14))/LOG(2))))","v":-0.42046815990354147},null,{"$f":"N14","v":1222},{"$f":"COUNTIF(L28:L47,Y14)","v":0},{"$f":"Z14/(AB4-Z20)","v":0},{"$f":"IF(AA14=0,0,(AA14*((LOG(AA14))/LOG(2))))","v":0},null,{"$f":"N14","v":1222},{"$f":"COUNTIF(L48:L68,AD14)","v":0},{"$f":"AE14/(AG4-AE20)","v":0},{"$f":"IF(AF14=0,0,(AF14*((LOG(AF14))/LOG(2))))","v":0},null,{"$f":"N14","v":1222},{"$f":"COUNTIF(L69:L89,AI14)","v":0},{"$f":"AJ14/(AL4-AJ20)","v":0},{"$f":"IF(AK14=0,0,(AK14*((LOG(AK14))/LOG(2))))","v":0},null,{"$f":"N14","v":1222},{"$f":"COUNTIF(L90:L109,AN14)","v":2},{"$f":"AO14/(AQ4-AO20)","v":0.1},{"$f":"IF(AP14=0,0,(AP14*((LOG(AP14))/LOG(2))))","v":-0.33219280948873625},null,{"$f":"N14","v":1222},{"$f":"COUNTIF(L110:L130,AS14)","v":0},{"$f":"AT14/(AV4-AT20)","v":0},{"$f":"IF(AU14=0,0,(AU14*((LOG(AU14))/LOG(2))))","v":0}]
[12,1373,23,1391,13,1403,14,1408,null,null,0,1211,null,2111,{"$f":"COUNTIF($L$7:$L$500,N15)","v":16},{"$f":"O15/$Q$4","v":0.12903225806451613},{"$f":"IF(P15=0,0,(P15*((LOG(P15))/LOG(2))))","v":-0.38118662069508069},null,null,{"$f":"N15","v":2111},{"$f":"COUNTIF(L7:L27,T15)","v":0},{"$f":"U15/(W4-U20)","v":0},{"$f":"IF(V15=0,0,(V15*((LOG(V15))/LOG(2))))","v":0},null,{"$f":"N15","v":2111},{"$f":"COUNTIF(L28:L47,Y15)","v":3},{"$f":"Z15/(AB4-Z20)","v":0.15},{"$f":"IF(AA15=0,0,(AA15*((LOG(AA15))/LOG(2))))","v":-0.41054483912493089},null,{"$f":"N15","v":2111},{"$f":"COUNTIF(L48:L68,AD15)","v":5},{"$f":"AE15/(AG4-AE20)","v":0.23809523809523808},{"$f":"IF(AF15=0,0,(AF15*((LOG(AF15))/LOG(2))))","v":-0.49294983997414238},null,{"$f":"N15","v":2111},{"$f":"COUNTIF(L69:L89,AI15)","v":4},{"$f":"AJ15/(AL4-AJ20)","v":0.19047619047619047},{"$f":"IF(AK15=0,0,(AK15*((LOG(AK15))/LOG(2))))","v":-0.4556795091007162},null,{"$f":"N15","v":2111},{"$f":"COUNTIF(L90:L109,AN15)","v":2},{"$f":"AO15/(AQ4-AO20)","v":0.1},{"$f":"IF(AP15=0,0,(AP15*((LOG(AP15))/LOG(2))))","v":-0.33219280948873625},null,{"$f":"N15","v":2111},{"$f":"COUNTIF(L110:L130,AS15)","v":2},{"$f":"AT15/(AV4-AT20)","v":9.5238095238095233E-2},{"$f":"IF(AU15=0,0,(AU15*((LOG(AU15))/LOG(2))))","v":-0.32307784978845333}]
[12,1533,23,1543,24,1548,23,1553,null,null,0,1222,null,2112,{"$f":"COUNTIF($L$7:$L$500,N16)","v":0},{"$f":"O16/$Q$4","v":0},{"$f":"IF(P16=0,0,(P16*((LOG(P16))/LOG(2))))","v":0},null,null,{"$f":"N16","v":2112},{"$f":"COUNTIF(L7:L27,T16)","v":0},{"$f":"U16/(W4-U20)","v":0},{"$f":"IF(V16=0,0,(V16*((LOG(V16))/LOG(2))))","v":0},null,{"$f":"N16","v":2112},{"$f":"COUNTIF(L28:L47,Y16)","v":0},{"$f":"Z16/(AB4-Z20)","v":0},{"$f":"IF(AA16=0,0,(AA16*((LOG(AA16))/LOG(2))))","v":0},null,{"$f":"N16","v":2112},{"$f":"COUNTIF(L48:L68,AD16)","v":0},{"$f":"AE16/(AG4-AE20)","v":0},{"$f":"IF(AF16=0,0,(AF16*((LOG(AF16))/LOG(2))))","v":0},null,{"$f":"N16","v":2112},{"$f":"COUNTIF(L69:L89,AI16)","v":0},{"$f":"AJ16/(AL4-AJ20)","v":0},{"$f":"IF(AK16=0,0,(AK16*((LOG(AK16))/LOG(2))))","v":0},null,{"$f":"N16","v":2112},{"$f":"COUNTIF(L90:L109,AN16)","v":0},{"$f":"AO16/(AQ4-AO20)","v":0},{"$f":"IF(AP16=0,0,(AP16*((LOG(AP16))/LOG(2))))","v":0},null,{"$f":"N16","v":2112},{"$f":"COUNTIF(L110:L130,AS16)","v":0},{"$f":"AT16/(AV4-AT20)","v":0},{"$f":"IF(AU16=0,0,(AU16*((LOG(AU16))/LOG(2))))","v":0}]
[12,1659,14,1679,24,1692,23,1697,null,null,0,1122,null,2121,{"$f":"COUNTIF($L$7:$L$500,N17)","v":0},{"$f":"O17/$Q$4","v":0},{"$f":"IF(P17=0,0,(P17*((LOG(P17))/LOG(2))))","v":0},null,null,{"$f":"N17","v":2121},{"$f":"COUNTIF(L7:L27,T17)","v":0},{"$f":"U17/(W4-U20)","v":0},{"$f":"IF(V17=0,0,(V17*((LOG(V17))/LOG(2))))","v":0},null,{"$f":"N17","v":2121},{"$f":"COUNTIF(L28:L47,Y17)","v":0},{"$f":"Z17/(AB4-Z20)","v":0},{"$f":"IF(AA17=0,0,(AA17*((LOG(AA17))/LOG(2))))","v":0},null,{"$f":"N17","v":2121},{"$f":"COUNTIF(L48:L68,AD17)","v":0},{"$f":"AE17/(AG4-AE20)","v":0},{"$f":"IF(AF17=0,0,(AF17*((LOG(AF17))/LOG(2))))","v":0},null,{"$f":"N17","v":2121},{"$f":"COUNTIF(L69:L89,AI17)","v":0},{"$f":"AJ17/(AL4-AJ20)","v":0},{"$f":"IF(AK17=0,0,(AK17*((LOG(AK17))/LOG(2))))","v":0},null,{"$f":"N17","v":2121},{"$f":"COUNTIF(L90:L109,AN17)","v":0},{"$f":"AO17/(AQ4-AO20)","v":0},{"$f":"IF(AP17=0,0,(AP17*((LOG(AP17))/LOG(2))))","v":0},null,{"$f":"N17","v":2121},{"$f":"COUNTIF(L110:L130,AS17)","v":0},{"$f":"AT17/(AV4-AT20)","v":0},{"$f":"IF(AU17=0,0,(AU17*((LOG(AU17))/LOG(2))))","v":0}]
[12,1800,14,1802,13,1818,14,1824,null,null,0,1111,null,2122,{"$f":"COUNTIF($L$7:$L$500,N18)","v":3},{"$f":"O18/$Q$4","v":2.4193548387096774E-2},{"$f":"IF(P18=0,0,(P18*((LOG(P18))/LOG(2))))","v":-0.12990081797578351},null,null,{"$f":"N18","v":2122},{"$f":"COUNTIF(L7:L27,T18)","v":3},{"$f":"U18/(W4-U20)","v":0.15789473684210525},{"$f":"IF(V18=0,0,(V18*((LOG(V18))/LOG(2))))","v":-0.42046815990354147},null,{"$f":"N18","v":2122},{"$f":"COUNTIF(L28:L47,Y18)","v":0},{"$f":"Z18/(AB4-Z20)","v":0},{"$f":"IF(AA18=0,0,(AA18*((LOG(AA18))/LOG(2))))","v":0},null,{"$f":"N18","v":2122},{"$f":"COUNTIF(L48:L68,AD18)","v":0},{"$f":"AE18/(AG4-AE20)","v":0},{"$f":"IF(AF18=0,0,(AF18*((LOG(AF18))/LOG(2))))","v":0},null,{"$f":"N18","v":2122},{"$f":"COUNTIF(L69:L89,AI18)","v":0},{"$f":"AJ18/(AL4-AJ20)","v":0},{"$f":"IF(AK18=0,0,(AK18*((LOG(AK18))/LOG(2))))","v":0},null,{"$f":"N18","v":2122},{"$f":"COUNTIF(L90:L109,AN18)","v":0},{"$f":"AO18/(AQ4-AO20)","v":0},{"$f":"IF(AP18=0,0,(AP18*((LOG(AP18))/LOG(2))))","v":0},null,{"$f":"N18","v":2122},{"$f":"COUNTIF(L110:L130,AS18)","v":0},{"$f":"AT18/(AV4-AT20)","v":0},{"$f":"IF(AU18=0,0,(AU18*((LOG(AU18))/LOG(2))))","v":0}]
[12,1968,14,1973,13,1977,23,1995,null,null,0,1112,null,2211,{"$f":"COUNTIF($L$7:$L$500,N19)","v":3},{"$f":"O19/$Q$4","v":2.4193548387096774E-2},{"$f":"IF(P19=0,0,(P19*((LOG(P19))/LOG(2))))","v":-0.12990081797578351},null,null,{"$f":"N19","v":2211},{"$f":"COUNTIF(L7:L27,T19)","v":0},{"$f":"U19/(W4-U20)","v":0},{"$f":"IF(V19=0,0,(V19*((LOG(V19))/LOG(2))))","v":0},null,{"$f":"N19","v":2211},{"$f":"COUNTIF(L28:L47,Y19)","v":1},{"$f":"Z19/(AB4-Z20)","v":0.05},{"$f":"IF(AA19=0,0,(AA19*((LOG(AA19))/LOG(2))))","v":-0.21609640474436814},null,{"$f":"N19","v":2211},{"$f":"COUNTIF(L48:L68,AD19)","v":2},{"$f":"AE19/(AG4-AE20)","v":9.5238095238095233E-2},{"$f":"IF(AF19=0,0,(AF19*((LOG(AF19))/LOG(2))))","v":-0.32307784978845333},null,{"$f":"N19","v":2211},{"$f":"COUNTIF(L69:L89,AI19)","v":0},{"$f":"AJ19/(AL4-AJ20)","v":0},{"$f":"IF(AK19=0,0,(AK19*((LOG(AK19))/LOG(2))))","v":0},null,{"$f":"N19","v":2211},{"$f":"COUNTIF(L90:L109,AN19)","v":0},{"$f":"AO19/(AQ4-AO20)","v":0},{"$f":"IF(AP19=0,0,(AP19*((LOG(AP19))/LOG(2))))","v":0},null,{"$f":"N19","v":2211},{"$f":"COUNTIF(L110:L130,AS19)","v":0},{"$f":"AT19/(AV4-AT20)","v":0},{"$f":"IF(AU19=0,0,(AU19*((LOG(AU19))/LOG(2))))","v":0}]
[12,2110,14,2140,24,2158,23,2166,null,null,0,1122,null,2212,{"$f":"COUNTIF($L$7:$L$500,N20)","v":2},{"$f":"O20/$Q$4","v":1.6129032258064516E-2},{"$f":"IF(P20=0,0,(P20*((LOG(P20))/LOG(2))))","v":-9.603542436107862E-2},null,null,{"$f":"N20","v":2212},{"$f":"COUNTIF(L7:L27,T20)","v":2},null,null,null,{"$f":"N20","v":2212},{"$f":"COUNTIF(L28:L47,Y20)","v":0},null,null,null,{"$f":"N20","v":2212},{"$f":"COUNTIF(L48:L68,AD20)","v":0},null,null,null,{"$f":"N20","v":2212},{"$f":"COUNTIF(L69:L89,AI20)","v":0},null,null,null,{"$f":"N20","v":2212},{"$f":"COUNTIF(L90:L109,AN20)","v":0},null,null,null,{"$f":"N20","v":2212},{"$f":"COUNTIF(L110:L130,AS20)","v":0}]
[12,2265,14,2286,13,2292,23,2304,null,null,0,1112,null,2221,{"$f":"COUNTIF($L$7:$L$500,N21)","v":4},{"$f":"O21/$Q$4","v":3.2258064516129031E-2},{"$f":"IF(P21=0,0,(P21*((LOG(P21))/LOG(2))))","v":-0.15981278420602821},null,null,{"$f":"N21","v":2221},{"$f":"COUNTIF(L7:L27,T21)","v":0},{"$f":"U21/(W4-U20)","v":0},{"$f":"IF(V21=0,0,(V21*((LOG(V21))/LOG(2))))","v":0},null,{"$f":"N21","v":2221},{"$f":"COUNTIF(L28:L47,Y21)","v":1},{"$f":"Z21/(AB4-Z20)","v":0.05},{"$f":"IF(AA21=0,0,(AA21*((LOG(AA21))/LOG(2))))","v":-0.21609640474436814},null,{"$f":"N21","v":2221},{"$f":"COUNTIF(L48:L68,AD21)","v":0},{"$f":"AE21/(AG4-AE20)","v":0},{"$f":"IF(AF21=0,0,(AF21*((LOG(AF21))/LOG(2))))","v":0},null,{"$f":"N21","v":2221},{"$f":"COUNTIF(L69:L89,AI21)","v":1},{"$f":"AJ21/(AL4-AJ20)","v":4.7619047619047616E-2},{"$f":"IF(AK21=0,0,(AK21*((LOG(AK21))/LOG(2))))","v":-0.20915797251327431},null,{"$f":"N21","v":2221},{"$f":"COUNTIF(L90:L109,AN21)","v":1},{"$f":"AO21/(AQ4-AO20)","v":0.05},{"$f":"IF(AP21=0,0,(AP21*((LOG(AP21))/LOG(2))))","v":-0.21609640474436814},null,{"$f":"N21","v":2221},{"$f":"COUNTIF(L110:L130,AS21)","v":1},{"$f":"AT21/(AV4-AT20)","v":4.7619047619047616E-2},{"$f":"IF(AU21=0,0,(AU21*((LOG(AU21))/LOG(2))))","v":-0.20915797251327431}]
[12,2451,23,2465,24,2470,14,2481,null,null,0,1221,null,2222,{"$f":"COUNTIF($L$7:$L$500,N22)","v":3},{"$f":"O22/$Q$4","v":2.4193548387096774E-2},{"$f":"IF(P22=0,0,(P22*((LOG(P22))/LOG(2))))","v":-0.12990081797578351},null,null,{"$f":"N22","v":2222},{"$f":"COUNTIF(L7:L27,T22)","v":1},{"$f":"U22/(W4-U20)","v":5.2631578947368418E-2},{"$f":"IF(V22=0,0,(V22*((LOG(V22))/LOG(2))))","v":-0.22357513228650452},null,{"$f":"N22","v":2222},{"$f":"COUNTIF(L28:L47,Y22)","v":1},{"$f":"Z22/(AB4-Z20)","v":0.05},{"$f":"IF(AA22=0,0,(AA22*((LOG(AA22))/LOG(2))))","v":-0.21609640474436814},null,{"$f":"N22","v":2222},{"$f":"COUNTIF(L48:L68,AD22)","v":0},{"$f":"AE22/(AG4-AE20)","v":0},{"$f":"IF(AF22=0,0,(AF22*((LOG(AF22))/LOG(2))))","v":0},null,{"$f":"N22","v":2222},{"$f":"COUNTIF(L69:L89,AI22)","v":1},{"$f":"AJ22/(AL4-AJ20)","v":4.7619047619047616E-2},{"$f":"IF(AK22=0,0,(AK22*((LOG(AK22))/LOG(2))))","v":-0.20915797251327431},null,{"$f":"N22","v":2222},{"$f":"COUNTIF(L90:L109,AN22)","v":0},{"$f":"AO22/(AQ4-AO20)","v":0},{"$f":"IF(AP22=0,0,(AP22*((LOG(AP22))/LOG(2))))","v":0},null,{"$f":"N22","v":2222},{"$f":"COUNTIF(L110:L130,AS22)","v":0},{"$f":"AT22/(AV4-AT20)","v":0},{"$f":"IF(AU22=0,0,(AU22*((LOG(AU22))/LOG(2))))","v":0}]
[21,2610,12,2627,24,2656,23,2667,null,null,0,2122,null,null,null,{"$f":"SUM(P7:P22)","v":0.99999999999999967},{"$f":"-SUM(Q7:Q22)","v":2.9498029685746299},null,null,null,null,{"$f":"SUM(V7:V22)","v":1},{"$f":"-SUM(W7:W22)","v":2.8258459340407502},null,null,null,{"$f":"SUM(AA7:AA22)","v":1.0000000000000002},{"$f":"-SUM(AB7:AB22)","v":2.4199730940219748},null,null,null,{"$f":"SUM(AF7:AF22)","v":0.99999999999999989},{"$f":"-SUM(AG7:AG22)","v":2.4109059716151027},null,null,null,{"$f":"SUM(AK7:AK22)","v":1.0000000000000002},{"$f":"-SUM(AL7:AL22)","v":2.2030713060627085},null,null,null,{"$f":"SUM(AP7:AP22)","v":1},{"$f":"-SUM(AQ7:AQ22)","v":2.1192407046368489},null,null,null,{"$f":"SUM(AU7:AU22)","v":1},{"$f":"-SUM(AV7:AV22)","v":2.2945199082544621}]
[12,2783,14,2798,13,2802,23,2815,null,null,0,1112,null,null,null,"U=",{"$f":"Q23/(LOG(Q4)/LOG(2))","v":0.42417597043798816},null,null,null,null,"U1=",{"$f":"W23/(LOG(W4)/LOG(2))","v":0.64336104658233095},null,null,null,"U2=",{"$f":"AB23/(LOG(AB4)/LOG(2))","v":0.55992905038949836},null,null,null,"U3=",{"$f":"AG23/(LOG(AG4)/LOG(2))","v":0.5488915621425795},null,null,null,"U4=",{"$f":"AL23/(LOG(AL4)/LOG(2))","v":0.50157379214841791},null,null,null,"U5=",{"$f":"AQ23/(LOG(AQ4)/LOG(2))","v":0.49034612749430301},null,null,null,"U6=",{"$f":"AV23/(LOG(AV4)/LOG(2))","v":0.5223939181524031}]
[12,2929,14,2934,13,2941,23,2959,null,null,0,1112]
[12,3080,14,3096,13,3100,23,3116,null,null,0,1112]
[12,3235,14,3240,13,3245,23,3257,null,null,0,1112,null,"Total Target Seq"]
[12,3379,14,3401,13,3408,14,3415,null,null,0,1111,null,{"$f":"COUNTIF(L7:L130,G3)","v":2},null,21,20,21,21,20,21]
[12,3537,14,3541,13,3547,14,3553,null,null,0,1111,null,null,null,"% of reinforcement given in 6 equal intervals based on number of trials "]
[12,3671,14,3676,13,3681,14,3686,null,null,0,1111,null,null,null,"%_1","%_2","%_3","%_4","%_5","%_6"]
[12,3809,14,3815,13,3819,23,3833,null,null,0,1112,null,null,"target sequence",{"$f":"$G$3","v":2212},{"$f":"$G$3","v":2212},{"$f":"$G$3","v":2212},{"$f":"$G$3","v":2212},{"$f":"$G$3","v":2212},{"$f":"$G$3","v":2212}]
[12,3961,23,3979,13,3988,14,3997,null,null,0,1211,null,null,"total reinforcement",{"$f":"U20","v":2},{"$f":"Z20","v":0},{"$f":"AE20","v":0},{"$f":"AJ20","v":0},{"$f":"AO20","v":0},{"$f":"AT20","v":0}]
[12,4127,14,4131,13,4135,14,4140,null,null,0,1111,null,null,"% target"]
[12,4274,14,4278,13,4283,14,4288,null,null,0,1111,null,null,"CCRF"]
[12,4405,14,4411,13,4416,14,4421,null,null,0,1111,null,null,"% CCRf"]
[12,4523,14,4527,13,4532,14,4537,null,null,0,1111,null,null,"average response rate",{"$f":"H27/P28","v":155.0952380952381},{"$f":"(H47-H27)/Q28","v":163.44999999999999},{"$f":"(H68-H47)/R28","v":233.38095238095238},{"$f":"(H89-H68)/S28","v":166.04761904761904},{"$f":"(H109-H89)/T28","v":200.2},{"$f":"(H130-H109)/U28","v":223.33333333333334}]
[21,4686,12,4705,13,4710,14,4715,null,null,0,2111]
[12,4897,14,4906,13,4911,23,4937,null,null,0,1112]
[12,5055,14,5061,13,5072,14,5077,null,null,0,1111]
[21,5231,21,5239,11,5252,12,5257,null,null,0,2211]
[21,5461,12,5478,13,5482,14,5487,null,null,0,2111]
[21,5656,21,5675,22,5688,14,5702,null,null,0,2221]
[21,5887,21,5895,22,5908,23,5915,null,null,0,2222]
[12,6028,14,6034,13,6039,23,6062,null,null,0,1112]
[12,6189,14,6195,13,6203,14,6210,null,null,0,1111]
[21,6325,12,6341,13,6355,14,6362,null,null,0,2111]
[12,6478,14,6496,24,6521,23,6526,null,null,0,1122]
[21,6658,12,6669,13,6674,14,6685,null,null,0,2111]
[12,6860,14,6865,13,6875,23,6906,null,null,0,1112]
[12,7028,23,7050,24,7056,14,7065,null,null,0,1221]
[12,7204,14,7209,13,7214,14,7218,null,null,0,1111]
[21,7320,12,7340,13,7345,14,7351,null,null,0,2111]
[12,7481,14,7485,13,7490,14,7495,null,null,0,1111]
[12,7616,14,7622,13,7629,14,7636,null,null,0,1111]
[12,7745,14,7754,13,7761,14,7766,null,null,0,1111]
[21,7882,21,7889,11,7902,12,7907,null,null,0,2211]
[21,8025,21,8030,11,8053,12,8060,null,null,0,2211]
[12,8338,14,8343,13,8351,14,8360,null,null,0,1111]
[21,8478,12,8496,13,8506,14,8511,null,null,0,2111]
[12,9760,14,9768,24,9782,23,9794,null,null,0,1122]
[12,10038,23,10056,13,10073,14,10079,null,null,0,1211]
[12,10391,14,10405,13,10409,14,10415,null,null,0,1111]
[21,10535,12,10556,13,10560,14,10565,null,null,0,2111]
[21,10696,12,10719,13,10724,14,10729,null,null,0,2111]
[12,10870,14,10877,13,10882,23,10895,null,null,0,1112]
[12,11047,14,11056,13,11064,14,11068,null,null,0,1111]
[12,11183,14,11188,13,11194,14,11200,null,null,0,1111]
[12,11345,23,11375,13,11418,14,11427,null,null,0,1211]
[12,11531,14,11539,13,11546,14,11556,null,null,0,1111]
[21,11695,12,11713,13,11722,14,11727,null,null,0,2111]
[12,11882,14,11887,13,11891,14,11896,null,null,0,1111]
[21,12015,12,12036,13,12040,14,12046,null,null,0,2111]
[12,12224,14,12229,13,12234,23,12257,null,null,0,1112]
[21,12366,21,12371,22,12375,23,12381,null,null,0,2222]
[21,12476,12,12487,13,12493,14,12502,null,null,0,2111]
[12,12644,14,12653,13,12662,23,12677,null,null,0,1112]
[12,12784,23,12803,13,12813,14,12818,null,null,0,1211]
[12,12962,14,12972,13,12981,23,12993,null,null,0,1112]
[21,13150,21,13154,22,13163,14,13182,null,null,0,2221]
[12,13290,14,13301,13,13306,14,13312,null,null,0,1111]
[21,13473,12,13502,13,13508,14,13513,null,null,0,2111]
[12,13613,14,13618,13,13627,14,13635,null,null,0,1111]
[12,13913,14,13926,13,13930,14,13935,null,null,0,1111]
[12,14046,14,14050,13,14054,14,14058,null,null,0,1111]
[12,14247,14,14253,13,14258,14,14263,null,null,0,1111]
[12,14381,14,14389,13,14394,14,14397,null,null,0,1111]
[12,14562,14,14571,13,14578,14,14582,null,null,0,1111]
[12,14699,14,14705,24,14721,14,14750,null,null,0,1121]
[12,14898,14,14902,13,14907,14,14914,null,null,0,1111]
[12,15044,23,15060,13,15073,14,15078,null,null,0,1211]
[12,15278,14,15282,13,15287,14,15291,null,null,0,1111]
[12,15476,14,15487,24,15507,23,15524,null,null,0,1122]
[12,15631,14,15635,13,15649,14,15653,null,null,0,1111]
[21,15759,12,15777,13,15782,14,15787,null,null,0,2111]
[12,15907,23,15927,24,15941,23,15946,null,null,0,1222]
[12,16302,23,16324,24,16332,23,16340,null,null,0,1222]
[12,16472,14,16477,13,16483,14,16489,null,null,0,1111]
[12,16787,14,16792,13,16800,14,16804,null,null,0,1111]
[12,16908,14,16921,13,16955,14,16959,null,null,0,1111]
[12,17188,14,17192,13,17198,14,17202,null,null,0,1111]
[21,17312,12,17328,13,17332,14,17337,null,null,0,2111]
[12,17576,14,17581,13,17587,14,17594,null,null,0,1111]
[12,17758,14,17762,13,17768,14,17774,null,null,0,1111]
[12,17899,14,17904,13,17917,14,17921,null,null,0,1111]
[12,18059,14,18088,13,18093,14,18097,null,null,0,1111]
[12,18211,23,18227,13,18242,14,18249,null,null,0,1211]
[21,18369,21,18374,22,18380,14,18396,null,null,0,2221]
[12,18644,14,18652,13,18657,14,18662,null,null,0,1111]
[12,18868,23,18894,24,18902,14,18918,null,null,0,1221]
[12,19037,23,19050,13,19065,14,19069,null,null,0,1211]
[12,19269,14,19283,13,19288,14,19293,null,null,0,1111]
[12,19454,14,19459,13,19463,14,19468,null,null,0,1111]
[12,19711,14,19723,13,19740,14,19744,null,null,0,1111]
[12,19877,14,19894,13,19904,14,19908,null,null,0,1111]
[12,20081,23,20096,24,20105,14,20118,null,null,0,1221]
[12,20459,14,20502,13,20506,14,20515,null,null,0,1111]
[12,20615,14,20622,13,20631,23,20645,null,null,0,1112]
[12,20786,14,20794,24,20813,23,20822,null,null,0,1122]
[12,21054,14,21061,13,21067,14,21072,null,null,0,1111]
[12,21348,14,21353,13,21362,14,21368,null,null,0,1111]
[12,21641,14,21645,24,21663,14,21679,null,null,0,1121]
[12,21784,14,21788,24,21803,14,21819,null,null,0,1121]
[21,21976,12,21992,13,21996,14,22001,null,null,0,2111]
[21,22226,21,22231,22,22237,14,22252,null,null,0,2221]
[12,22385,14,22407,13,22412,14,22417,null,null,0,1111]
[12,22522,23,22538,24,22558,14,22571,null,null,0,1221]
[12,22806,14,22811,13,22816,14,22824,null,null,0,1111]
[21,22978,12,22993,13,22998,14,23003,null,null,0,2111]
[12,23259,14,23286,13,23292,14,23305,null,null,0,1111]
[12,23590,14,23594,13,23603,14,23608,null,null,0,1111]

{"sheet":"!N106700.092","index":9,"n_rows":117,"n_cols":48,"rows_kept":117,"cut":false,"hidden":false,"merged":[[4,39,4,42],[5,39,5,40],[4,44,4,47],[5,44,5,45],[4,24,4,27],[5,24,5,25],[4,29,4,32],[5,29,5,30],[4,34,4,37],[5,34,5,35],[1,1,1,2],[5,13,5,14],[26,13,26,14],[27,13,27,14],[4,19,4,22],[5,19,5,20]]}
["Report for:!N106700.092"]
["Date:","<date>"]
["Hen:","<hen>",null,null,null,"Correct Sequence",{"$f":"Start!J2","v":2212},null,null,null,null,null,null,null,null,"Total Sequences in Data",{"$f":"4994-COUNTBLANK(L7:L5000)","v":111},null,null,null,null,"Total Sequences in Block Data",{"$f":"COUNTA(L7:L25)","v":19},null,null,null,"Total Sequences in Block Data",{"$f":"COUNTA(L26:L43)","v":18},null,null,null,"Total Sequences in Block Data",{"$f":"COUNTA(L44:L62)","v":19},null,null,null,"Total Sequences in Block Data",{"$f":"COUNTA(L63:L80)","v":18},null,null,null,"Total Sequences in Block Data",{"$f":"COUNTA(L81:L99)","v":19},null,null,null,"Total Sequences in Block Data",{"$f":"COUNTA(L100:L117)","v":18}]
[null,null,null,null,null,null,null,null,null,null,null,null,null,null,null,"Total Sequences in Summary",{"$f":"SUM(O7:O22)","v":111},null,null,null,null,"Total Sequences in Block Summary",{"$f":"SUM(U7:U22)","v":19},null,null,null,"Total Sequences in Block Summary",{"$f":"SUM(Z7:Z22)","v":18},null,null,null,"Total Sequences in Block Summary",{"$f":"SUM(AE7:AE22)","v":19},null,null,null,"Total Sequences in Block Summary",{"$f":"SUM(AJ7:AJ22)","v":18},null,null,null,"Total Sequences in Block Summary",{"$f":"SUM(AO7:AO22)","v":19},null,null,null,"Total Sequences in Block Summary",{"$f":"SUM(AT7:AT22)","v":18}]
[null,null,null,null,null,null,null,null,null,null,null,null,null,null,null,null,null,null,null,"Block 1",null,null,null,null,"Block 2",null,null,null,null,"Block 3",null,null,null,null,"Block 4",null,null,null,null,"Block 5",null,null,null,null,"Block 6"]
["Sequence\nComponent\n1","Time\n1","Sequence\nComponent\n2","Time\n2","Sequence\nComponent\n3","Time\n3","Sequence\nComponent\n4","Time\n4","Sequence\nComponent\n5","Time\n5","Correct?\n0=No 1=Yes","Sequence",null,"Frequency",null,"Relative Frequency","Variability",null,null,"Frequency",null,"Relative Frequency","Variability",null,"Frequency",null,"Relative Frequency","Variability",null,"Frequency",null,"Relative Frequency","Variability",null,"Frequency",null,"Relative Frequency","Variability",null,"Frequency",null,"Relative Frequency","Variability",null,"Frequency",null,"Relative Frequency","Variability"]
[21,122,12,147,24,160,23,180,null,null,0,2122,null,1111,{"$f":"COUNTIF($L$7:$L$500,N7)","v":42},{"$f":"O7/$Q$4","v":0.3783783783783784},{"$f":"IF(P7=0,0,(P7*((LOG(P7))/LOG(2))))","v":-0.53052373540537412},null,null,{"$f":"N7","v":1111},{"$f":"COUNTIF(L7:L25,T7)","v":9},{"$f":"U7/(W4-U20)","v":0.5},{"$f":"IF(V7=0,0,(V7*((LOG(V7))/LOG(2))))","v":-0.5},null,{"$f":"N7","v":1111},{"$f":"COUNTIF(L26:L43,Y7)","v":7},{"$f":"Z7/(AB4-Z20)","v":0.3888888888888889},{"$f":"IF(AA7=0,0,(AA7*((LOG(AA7))/LOG(2))))","v":-0.52988836420516428},null,{"$f":"N7","v":1111},{"$f":"COUNTIF(L44:L62,AD7)","v":8},{"$f":"AE7/(AG4-AE20)","v":0.42105263157894735},{"$f":"IF(AF7=0,0,(AF7*((LOG(AF7))/LOG(2))))","v":-0.52544316355519383},null,{"$f":"N7","v":1111},{"$f":"COUNTIF(L63:L80,AI7)","v":6},{"$f":"AJ7/(AL4-AJ20)","v":0.33333333333333331},{"$f":"IF(AK7=0,0,(AK7*((LOG(AK7))/LOG(2))))","v":-0.52832083357371862},null,{"$f":"N7","v":1111},{"$f":"COUNTIF(L81:L99,AN7)","v":9},{"$f":"AO7/(AQ4-AO20)","v":0.47368421052631576},{"$f":"IF(AP7=0,0,(AP7*((LOG(AP7))/LOG(2))))","v":-0.51063276884270825},null,{"$f":"N7","v":1111},{"$f":"COUNTIF(L100:L117,AS7)","v":3},{"$f":"AT7/(AV4-AT20)","v":0.16666666666666666},{"$f":"IF(AU7=0,0,(AU7*((LOG(AU7))/LOG(2))))","v":-0.43082708345352599}]
[21,298,21,319,22,346,23,351,null,null,0,2222,null,1112,{"$f":"COUNTIF($L$7:$L$500,N8)","v":6},{"$f":"O8/$Q$4","v":5.4054054054054057E-2},{"$f":"IF(P8=0,0,(P8*((LOG(P8))/LOG(2))))","v":-0.22753801976372701},null,null,{"$f":"N8","v":1112},{"$f":"COUNTIF(L7:L25,T8)","v":1},{"$f":"U8/(W4-U20)","v":5.5555555555555552E-2},{"$f":"IF(V8=0,0,(V8*((LOG(V8))/LOG(2))))","v":-0.23166250008012845},null,{"$f":"N8","v":1112},{"$f":"COUNTIF(L26:L43,Y8)","v":1},{"$f":"Z8/(AB4-Z20)","v":5.5555555555555552E-2},{"$f":"IF(AA8=0,0,(AA8*((LOG(AA8))/LOG(2))))","v":-0.23166250008012845},null,{"$f":"N8","v":1112},{"$f":"COUNTIF(L44:L62,AD8)","v":2},{"$f":"AE8/(AG4-AE20)","v":0.10526315789473684},{"$f":"IF(AF8=0,0,(AF8*((LOG(AF8))/LOG(2))))","v":-0.34188710667827216},null,{"$f":"N8","v":1112},{"$f":"COUNTIF(L63:L80,AI8)","v":0},{"$f":"AJ8/(AL4-AJ20)","v":0},{"$f":"IF(AK8=0,0,(AK8*((LOG(AK8))/LOG(2))))","v":0},null,{"$f":"N8","v":1112},{"$f":"COUNTIF(L81:L99,AN8)","v":1},{"$f":"AO8/(AQ4-AO20)","v":5.2631578947368418E-2},{"$f":"IF(AP8=0,0,(AP8*((LOG(AP8))/LOG(2))))","v":-0.22357513228650452},null,{"$f":"N8","v":1112},{"$f":"COUNTIF(L100:L117,AS8)","v":1},{"$f":"AT8/(AV4-AT20)","v":5.5555555555555552E-2},{"$f":"IF(AU8=0,0,(AU8*((LOG(AU8))/LOG(2))))","v":-0.23166250008012845}]
[12,473,23,483,13,505,14,510,null,null,0,1211,null,1121,{"$f":"COUNTIF($L$7:$L$500,N9)","v":6},{"$f":"O9/$Q$4","v":5.4054054054054057E-2},{"$f":"IF(P9=0,0,(P9*((LOG(P9))/LOG(2))))","v":-0.22753801976372701},null,null,{"$f":"N9","v":1121},{"$f":"COUNTIF(L7:L25,T9)","v":1},{"$f":"U9/(W4-U20)","v":5.5555555555555552E-2},{"$f":"IF(V9=0,0,(V9*((LOG(V9))/LOG(2))))","v":-0.23166250008012845},null,{"$f":"N9","v":1121},{"$f":"COUNTIF(L26:L43,Y9)","v":0},{"$f":"Z9/(AB4-Z20)","v":0},{"$f":"IF(AA9=0,0,(AA9*((LOG(AA9))/LOG(2))))","v":0},null,{"$f":"N9","v":1121},{"$f":"COUNTIF(L44:L62,AD9)","v":2},{"$f":"AE9/(AG4-AE20)","v":0.10526315789473684},{"$f":"IF(AF9=0,0,(AF9*((LOG(AF9))/LOG(2))))","v":-0.34188710667827216},null,{"$f":"N9","v":1121},{"$f":"COUNTIF(L63:L80,AI9)","v":1},{"$f":"AJ9/(AL4-AJ20)","v":5.5555555555555552E-2},{"$f":"IF(AK9=0,0,(AK9*((LOG(AK9))/LOG(2))))","v":-0.23166250008012845},null,{"$f":"N9","v":1121},{"$f":"COUNTIF(L81:L99,AN9)","v":2},{"$f":"AO9/(AQ4-AO20)","v":0.10526315789473684},{"$f":"IF(AP9=0,0,(AP9*((LOG(AP9))/LOG(2))))","v":-0.34188710667827216},null,{"$f":"N9","v":1121},{"$f":"COUNTIF(L100:L117,AS9)","v":0},{"$f":"AT9/(AV4-AT20)","v":0},{"$f":"IF(AU9=0,0,(AU9*((LOG(AU9))/LOG(2))))","v":0}]
[21,633,12,647,24,660,23,672,null,null,0,2122,null,1122,{"$f":"COUNTIF($L$7:$L$500,N10)","v":3},{"$f":"O10/$Q$4","v":2.7027027027027029E-2},{"$f":"IF(P10=0,0,(P10*((LOG(P10))/LOG(2))))","v":-0.14079603690889056},null,null,{"$f":"N10","v":1122},{"$f":"COUNTIF(L7:L25,T10)","v":1},{"$f":"U10/(W4-U20)","v":5.5555555555555552E-2},{"$f":"IF(V10=0,0,(V10*((LOG(V10))/LOG(2))))","v":-0.23166250008012845},null,{"$f":"N10","v":1122},{"$f":"COUNTIF(L26:L43,Y10)","v":2},{"$f":"Z10/(AB4-Z20)","v":0.1111111111111111},{"$f":"IF(AA10=0,0,(AA10*((LOG(AA10))/LOG(2))))","v":-0.3522138890491458},null,{"$f":"N10","v":1122},{"$f":"COUNTIF(L44:L62,AD10)","v":0},{"$f":"AE10/(AG4-AE20)","v":0},{"$f":"IF(AF10=0,0,(AF10*((LOG(AF10))/LOG(2))))","v":0},null,{"$f":"N10","v":1122},{"$f":"COUNTIF(L63:L80,AI10)","v":0},{"$f":"AJ10/(AL4-AJ20)","v":0},{"$f":"IF(AK10=0,0,(AK10*((LOG(AK10))/LOG(2))))","v":0},null,{"$f":"N10","v":1122},{"$f":"COUNTIF(L81:L99,AN10)","v":0},{"$f":"AO10/(AQ4-AO20)","v":0},{"$f":"IF(AP10=0,0,(AP10*((LOG(AP10))/LOG(2))))","v":0},null,{"$f":"N10","v":1122},{"$f":"COUNTIF(L100:L117,AS10)","v":0},{"$f":"AT10/(AV4-AT20)","v":0},{"$f":"IF(AU10=0,0,(AU10*((LOG(AU10))/LOG(2))))","v":0}]
[12,793,14,798,24,815,23,819,null,null,0,1122,null,1211,{"$f":"COUNTIF($L$7:$L$500,N11)","v":14},{"$f":"O11/$Q$4","v":0.12612612612612611},{"$f":"IF(P11=0,0,(P11*((LOG(P11))/LOG(2))))","v":-0.37674642540626146},null,null,{"$f":"N11","v":1211},{"$f":"COUNTIF(L7:L25,T11)","v":2},{"$f":"U11/(W4-U20)","v":0.1111111111111111},{"$f":"IF(V11=0,0,(V11*((LOG(V11))/LOG(2))))","v":-0.3522138890491458},null,{"$f":"N11","v":1211},{"$f":"COUNTIF(L26:L43,Y11)","v":1},{"$f":"Z11/(AB4-Z20)","v":5.5555555555555552E-2},{"$f":"IF(AA11=0,0,(AA11*((LOG(AA11))/LOG(2))))","v":-0.23166250008012845},null,{"$f":"N11","v":1211},{"$f":"COUNTIF(L44:L62,AD11)","v":1},{"$f":"AE11/(AG4-AE20)","v":5.2631578947368418E-2},{"$f":"IF(AF11=0,0,(AF11*((LOG(AF11))/LOG(2))))","v":-0.22357513228650452},null,{"$f":"N11","v":1211},{"$f":"COUNTIF(L63:L80,AI11)","v":5},{"$f":"AJ11/(AL4-AJ20)","v":0.27777777777777779},{"$f":"IF(AK11=0,0,(AK11*((LOG(AK11))/LOG(2))))","v":-0.51333247404304172},null,{"$f":"N11","v":1211},{"$f":"COUNTIF(L81:L99,AN11)","v":3},{"$f":"AO11/(AQ4-AO20)","v":0.15789473684210525},{"$f":"IF(AP11=0,0,(AP11*((LOG(AP11))/LOG(2))))","v":-0.42046815990354147},null,{"$f":"N11","v":1211},{"$f":"COUNTIF(L100:L117,AS11)","v":2},{"$f":"AT11/(AV4-AT20)","v":0.1111111111111111},{"$f":"IF(AU11=0,0,(AU11*((LOG(AU11))/LOG(2))))","v":-0.3522138890491458}]
[12,961,14,967,24,992,14,1006,null,null,0,1121,null,1212,{"$f":"COUNTIF($L$7:$L$500,N12)","v":0},{"$f":"O12/$Q$4","v":0},{"$f":"IF(P12=0,0,(P12*((LOG(P12))/LOG(2))))","v":0},null,null,{"$f":"N12","v":1212},{"$f":"COUNTIF(L7:L25,T12)","v":0},{"$f":"U12/(W4-U20)","v":0},{"$f":"IF(V12=0,0,(V12*((LOG(V12))/LOG(2))))","v":0},null,{"$f":"N12","v":1212},{"$f":"COUNTIF(L26:L43,Y12)","v":0},{"$f":"Z12/(AB4-Z20)","v":0},{"$f":"IF(AA12=0,0,(AA12*((LOG(AA12))/LOG(2))))","v":0},null,{"$f":"N12","v":1212},{"$f":"COUNTIF(L44:L62,AD12)","v":0},{"$f":"AE12/(AG4-AE20)","v":0},{"$f":"IF(AF12=0,0,(AF12*((LOG(AF12))/LOG(2))))","v":0},null,{"$f":"N12","v":1212},{"$f":"COUNTIF(L63:L80,AI12)","v":0},{"$f":"AJ12/(AL4-AJ20)","v":0},{"$f":"IF(AK12=0,0,(AK12*((LOG(AK12))/LOG(2))))","v":0},null,{"$f":"N12","v":1212},{"$f":"COUNTIF(L81:L99,AN12)","v":0},{"$f":"AO12/(AQ4-AO20)","v":0},{"$f":"IF(AP12=0,0,(AP12*((LOG(AP12))/LOG(2))))","v":0},null,{"$f":"N12","v":1212},{"$f":"COUNTIF(L100:L117,AS12)","v":0},{"$f":"AT12/(AV4-AT20)","v":0},{"$f":"IF(AU12=0,0,(AU12*((LOG(AU12))/LOG(2))))","v":0}]
[12,1114,14,1129,13,1134,14,1143,null,null,0,1111,null,1221,{"$f":"COUNTIF($L$7:$L$500,N13)","v":3},{"$f":"O13/$Q$4","v":2.7027027027027029E-2},{"$f":"IF(P13=0,0,(P13*((LOG(P13))/LOG(2))))","v":-0.14079603690889056},null,null,{"$f":"N13","v":1221},{"$f":"COUNTIF(L7:L25,T13)","v":0},{"$f":"U13/(W4-U20)","v":0},{"$f":"IF(V13=0,0,(V13*((LOG(V13))/LOG(2))))","v":0},null,{"$f":"N13","v":1221},{"$f":"COUNTIF(L26:L43,Y13)","v":2},{"$f":"Z13/(AB4-Z20)","v":0.1111111111111111},{"$f":"IF(AA13=0,0,(AA13*((LOG(AA13))/LOG(2))))","v":-0.3522138890491458},null,{"$f":"N13","v":1221},{"$f":"COUNTIF(L44:L62,AD13)","v":0},{"$f":"AE13/(AG4-AE20)","v":0},{"$f":"IF(AF13=0,0,(AF13*((LOG(AF13))/LOG(2))))","v":0},null,{"$f":"N13","v":1221},{"$f":"COUNTIF(L63:L80,AI13)","v":0},{"$f":"AJ13/(AL4-AJ20)","v":0},{"$f":"IF(AK13=0,0,(AK13*((LOG(AK13))/LOG(2))))","v":0},null,{"$f":"N13","v":1221},{"$f":"COUNTIF(L81:L99,AN13)","v":0},{"$f":"AO13/(AQ4-AO20)","v":0},{"$f":"IF(AP13=0,0,(AP13*((LOG(AP13))/LOG(2))))","v":0},null,{"$f":"N13","v":1221},{"$f":"COUNTIF(L100:L117,AS13)","v":1},{"$f":"AT13/(AV4-AT20)","v":5.5555555555555552E-2},{"$f":"IF(AU13=0,0,(AU13*((LOG(AU13))/LOG(2))))","v":-0.23166250008012845}]
[12,1258,14,1286,13,1291,14,1296,null,null,0,1111,null,1222,{"$f":"COUNTIF($L$7:$L$500,N14)","v":3},{"$f":"O14/$Q$4","v":2.7027027027027029E-2},{"$f":"IF(P14=0,0,(P14*((LOG(P14))/LOG(2))))","v":-0.14079603690889056},null,null,{"$f":"N14","v":1222},{"$f":"COUNTIF(L7:L25,T14)","v":0},{"$f":"U14/(W4-U20)","v":0},{"$f":"IF(V14=0,0,(V14*((LOG(V14))/LOG(2))))","v":0},null,{"$f":"N14","v":1222},{"$f":"COUNTIF(L26:L43,Y14)","v":0},{"$f":"Z14/(AB4-Z20)","v":0},{"$f":"IF(AA14=0,0,(AA14*((LOG(AA14))/LOG(2))))","v":0},null,{"$f":"N14","v":1222},{"$f":"COUNTIF(L44:L62,AD14)","v":1},{"$f":"AE14/(AG4-AE20)","v":5.2631578947368418E-2},{"$f":"IF(AF14=0,0,(AF14*((LOG(AF14))/LOG(2))))","v":-0.22357513228650452},null,{"$f":"N14","v":1222},{"$f":"COUNTIF(L63:L80,AI14)","v":0},{"$f":"AJ14/(AL4-AJ20)","v":0},{"$f":"IF(AK14=0,0,(AK14*((LOG(AK14))/LOG(2))))","v":0},null,{"$f":"N14","v":1222},{"$f":"COUNTIF(L81:L99,AN14)","v":0},{"$f":"AO14/(AQ4-AO20)","v":0},{"$f":"IF(AP14=0,0,(AP14*((LOG(AP14))/LOG(2))))","v":0},null,{"$f":"N14","v":1222},{"$f":"COUNTIF(L100:L117,AS14)","v":2},{"$f":"AT14/(AV4-AT20)","v":0.1111111111111111},{"$f":"IF(AU14=0,0,(AU14*((LOG(AU14))/LOG(2))))","v":-0.3522138890491458}]
[12,1424,14,1431,13,1436,23,1449,null,null,0,1112,null,2111,{"$f":"COUNTIF($L$7:$L$500,N15)","v":12},{"$f":"O15/$Q$4","v":0.10810810810810811},{"$f":"IF(P15=0,0,(P15*((LOG(P15))/LOG(2))))","v":-0.34696793141934595},null,null,{"$f":"N15","v":2111},{"$f":"COUNTIF(L7:L25,T15)","v":0},{"$f":"U15/(W4-U20)","v":0},{"$f":"IF(V15=0,0,(V15*((LOG(V15))/LOG(2))))","v":0},null,{"$f":"N15","v":2111},{"$f":"COUNTIF(L26:L43,Y15)","v":3},{"$f":"Z15/(AB4-Z20)","v":0.16666666666666666},{"$f":"IF(AA15=0,0,(AA15*((LOG(AA15))/LOG(2))))","v":-0.43082708345352599},null,{"$f":"N15","v":2111},{"$f":"COUNTIF(L44:L62,AD15)","v":0},{"$f":"AE15/(AG4-AE20)","v":0},{"$f":"IF(AF15=0,0,(AF15*((LOG(AF15))/LOG(2))))","v":0},null,{"$f":"N15","v":2111},{"$f":"COUNTIF(L63:L80,AI15)","v":3},{"$f":"AJ15/(AL4-AJ20)","v":0.16666666666666666},{"$f":"IF(AK15=0,0,(AK15*((LOG(AK15))/LOG(2))))","v":-0.43082708345352599},null,{"$f":"N15","v":2111},{"$f":"COUNTIF(L81:L99,AN15)","v":2},{"$f":"AO15/(AQ4-AO20)","v":0.10526315789473684},{"$f":"IF(AP15=0,0,(AP15*((LOG(AP15))/LOG(2))))","v":-0.34188710667827216},null,{"$f":"N15","v":2111},{"$f":"COUNTIF(L100:L117,AS15)","v":4},{"$f":"AT15/(AV4-AT20)","v":0.22222222222222221},{"$f":"IF(AU15=0,0,(AU15*((LOG(AU15))/LOG(2))))","v":-0.48220555587606945}]
[12,1560,14,1565,13,1597,14,1602,null,null,0,1111,null,2112,{"$f":"COUNTIF($L$7:$L$500,N16)","v":4},{"$f":"O16/$Q$4","v":3.6036036036036036E-2},{"$f":"IF(P16=0,0,(P16*((LOG(P16))/LOG(2))))","v":-0.17277174293153535},null,null,{"$f":"N16","v":2112},{"$f":"COUNTIF(L7:L25,T16)","v":0},{"$f":"U16/(W4-U20)","v":0},{"$f":"IF(V16=0,0,(V16*((LOG(V16))/LOG(2))))","v":0},null,{"$f":"N16","v":2112},{"$f":"COUNTIF(L26:L43,Y16)","v":2},{"$f":"Z16/(AB4-Z20)","v":0.1111111111111111},{"$f":"IF(AA16=0,0,(AA16*((LOG(AA16))/LOG(2))))","v":-0.3522138890491458},null,{"$f":"N16","v":2112},{"$f":"COUNTIF(L44:L62,AD16)","v":1},{"$f":"AE16/(AG4-AE20)","v":5.2631578947368418E-2},{"$f":"IF(AF16=0,0,(AF16*((LOG(AF16))/LOG(2))))","v":-0.22357513228650452},null,{"$f":"N16","v":2112},{"$f":"COUNTIF(L63:L80,AI16)","v":0},{"$f":"AJ16/(AL4-AJ20)","v":0},{"$f":"IF(AK16=0,0,(AK16*((LOG(AK16))/LOG(2))))","v":0},null,{"$f":"N16","v":2112},{"$f":"COUNTIF(L81:L99,AN16)","v":0},{"$f":"AO16/(AQ4-AO20)","v":0},{"$f":"IF(AP16=0,0,(AP16*((LOG(AP16))/LOG(2))))","v":0},null,{"$f":"N16","v":2112},{"$f":"COUNTIF(L100:L117,AS16)","v":1},{"$f":"AT16/(AV4-AT20)","v":5.5555555555555552E-2},{"$f":"IF(AU16=0,0,(AU16*((LOG(AU16))/LOG(2))))","v":-0.23166250008012845}]
[12,1712,14,1719,13,1725,14,1731,null,null,0,1111,null,2121,{"$f":"COUNTIF($L$7:$L$500,N17)","v":3},{"$f":"O17/$Q$4","v":2.7027027027027029E-2},{"$f":"IF(P17=0,0,(P17*((LOG(P17))/LOG(2))))","v":-0.14079603690889056},null,null,{"$f":"N17","v":2121},{"$f":"COUNTIF(L7:L25,T17)","v":0},{"$f":"U17/(W4-U20)","v":0},{"$f":"IF(V17=0,0,(V17*((LOG(V17))/LOG(2))))","v":0},null,{"$f":"N17","v":2121},{"$f":"COUNTIF(L26:L43,Y17)","v":0},{"$f":"Z17/(AB4-Z20)","v":0},{"$f":"IF(AA17=0,0,(AA17*((LOG(AA17))/LOG(2))))","v":0},null,{"$f":"N17","v":2121},{"$f":"COUNTIF(L44:L62,AD17)","v":1},{"$f":"AE17/(AG4-AE20)","v":5.2631578947368418E-2},{"$f":"IF(AF17=0,0,(AF17*((LOG(AF17))/LOG(2))))","v":-0.22357513228650452},null,{"$f":"N17","v":2121},{"$f":"COUNTIF(L63:L80,AI17)","v":0},{"$f":"AJ17/(AL4-AJ20)","v":0},{"$f":"IF(AK17=0,0,(AK17*((LOG(AK17))/LOG(2))))","v":0},null,{"$f":"N17","v":2121},{"$f":"COUNTIF(L81:L99,AN17)","v":0},{"$f":"AO17/(AQ4-AO20)","v":0},{"$f":"IF(AP17=0,0,(AP17*((LOG(AP17))/LOG(2))))","v":0},null,{"$f":"N17","v":2121},{"$f":"COUNTIF(L100:L117,AS17)","v":2},{"$f":"AT17/(AV4-AT20)","v":0.1111111111111111},{"$f":"IF(AU17=0,0,(AU17*((LOG(AU17))/LOG(2))))","v":-0.3522138890491458}]
[12,1861,14,1871,13,1876,14,1880,null,null,0,1111,null,2122,{"$f":"COUNTIF($L$7:$L$500,N18)","v":3},{"$f":"O18/$Q$4","v":2.7027027027027029E-2},{"$f":"IF(P18=0,0,(P18*((LOG(P18))/LOG(2))))","v":-0.14079603690889056},null,null,{"$f":"N18","v":2122},{"$f":"COUNTIF(L7:L25,T18)","v":2},{"$f":"U18/(W4-U20)","v":0.1111111111111111},{"$f":"IF(V18=0,0,(V18*((LOG(V18))/LOG(2))))","v":-0.3522138890491458},null,{"$f":"N18","v":2122},{"$f":"COUNTIF(L26:L43,Y18)","v":0},{"$f":"Z18/(AB4-Z20)","v":0},{"$f":"IF(AA18=0,0,(AA18*((LOG(AA18))/LOG(2))))","v":0},null,{"$f":"N18","v":2122},{"$f":"COUNTIF(L44:L62,AD18)","v":0},{"$f":"AE18/(AG4-AE20)","v":0},{"$f":"IF(AF18=0,0,(AF18*((LOG(AF18))/LOG(2))))","v":0},null,{"$f":"N18","v":2122},{"$f":"COUNTIF(L63:L80,AI18)","v":1},{"$f":"AJ18/(AL4-AJ20)","v":5.5555555555555552E-2},{"$f":"IF(AK18=0,0,(AK18*((LOG(AK18))/LOG(2))))","v":-0.23166250008012845},null,{"$f":"N18","v":2122},{"$f":"COUNTIF(L81:L99,AN18)","v":0},{"$f":"AO18/(AQ4-AO20)","v":0},{"$f":"IF(AP18=0,0,(AP18*((LOG(AP18))/LOG(2))))","v":0},null,{"$f":"N18","v":2122},{"$f":"COUNTIF(L100:L117,AS18)","v":0},{"$f":"AT18/(AV4-AT20)","v":0},{"$f":"IF(AU18=0,0,(AU18*((LOG(AU18))/LOG(2))))","v":0}]
[12,2044,14,2068,13,2073,14,2079,null,null,0,1111,null,2211,{"$f":"COUNTIF($L$7:$L$500,N19)","v":5},{"$f":"O19/$Q$4","v":4.5045045045045043E-2},{"$f":"IF(P19=0,0,(P19*((LOG(P19))/LOG(2))))","v":-0.20146341312895241},null,null,{"$f":"N19","v":2211},{"$f":"COUNTIF(L7:L25,T19)","v":0},{"$f":"U19/(W4-U20)","v":0},{"$f":"IF(V19=0,0,(V19*((LOG(V19))/LOG(2))))","v":0},null,{"$f":"N19","v":2211},{"$f":"COUNTIF(L26:L43,Y19)","v":0},{"$f":"Z19/(AB4-Z20)","v":0},{"$f":"IF(AA19=0,0,(AA19*((LOG(AA19))/LOG(2))))","v":0},null,{"$f":"N19","v":2211},{"$f":"COUNTIF(L44:L62,AD19)","v":1},{"$f":"AE19/(AG4-AE20)","v":5.2631578947368418E-2},{"$f":"IF(AF19=0,0,(AF19*((LOG(AF19))/LOG(2))))","v":-0.22357513228650452},null,{"$f":"N19","v":2211},{"$f":"COUNTIF(L63:L80,AI19)","v":1},{"$f":"AJ19/(AL4-AJ20)","v":5.5555555555555552E-2},{"$f":"IF(AK19=0,0,(AK19*((LOG(AK19))/LOG(2))))","v":-0.23166250008012845},null,{"$f":"N19","v":2211},{"$f":"COUNTIF(L81:L99,AN19)","v":1},{"$f":"AO19/(AQ4-AO20)","v":5.2631578947368418E-2},{"$f":"IF(AP19=0,0,(AP19*((LOG(AP19))/LOG(2))))","v":-0.22357513228650452},null,{"$f":"N19","v":2211},{"$f":"COUNTIF(L100:L117,AS19)","v":2},{"$f":"AT19/(AV4-AT20)","v":0.1111111111111111},{"$f":"IF(AU19=0,0,(AU19*((LOG(AU19))/LOG(2))))","v":-0.3522138890491458}]
[12,2189,14,2195,13,2200,14,2207,null,null,0,1111,null,2212,{"$f":"COUNTIF($L$7:$L$500,N20)","v":1},{"$f":"O20/$Q$4","v":9.0090090090090089E-3},{"$f":"IF(P20=0,0,(P20*((LOG(P20))/LOG(2))))","v":-6.121095375090186E-2},null,null,{"$f":"N20","v":2212},{"$f":"COUNTIF(L7:L25,T20)","v":1},null,null,null,{"$f":"N20","v":2212},{"$f":"COUNTIF(L26:L43,Y20)","v":0},null,null,null,{"$f":"N20","v":2212},{"$f":"COUNTIF(L44:L62,AD20)","v":0},null,null,null,{"$f":"N20","v":2212},{"$f":"COUNTIF(L63:L80,AI20)","v":0},null,null,null,{"$f":"N20","v":2212},{"$f":"COUNTIF(L81:L99,AN20)","v":0},null,null,null,{"$f":"N20","v":2212},{"$f":"COUNTIF(L100:L117,AS20)","v":0}]
[12,2349,14,2367,13,2372,14,2377,null,null,0,1111,null,2221,{"$f":"COUNTIF($L$7:$L$500,N21)","v":4},{"$f":"O21/$Q$4","v":3.6036036036036036E-2},{"$f":"IF(P21=0,0,(P21*((LOG(P21))/LOG(2))))","v":-0.17277174293153535},null,null,{"$f":"N21","v":2221},{"$f":"COUNTIF(L7:L25,T21)","v":1},{"$f":"U21/(W4-U20)","v":5.5555555555555552E-2},{"$f":"IF(V21=0,0,(V21*((LOG(V21))/LOG(2))))","v":-0.23166250008012845},null,{"$f":"N21","v":2221},{"$f":"COUNTIF(L26:L43,Y21)","v":0},{"$f":"Z21/(AB4-Z20)","v":0},{"$f":"IF(AA21=0,0,(AA21*((LOG(AA21))/LOG(2))))","v":0},null,{"$f":"N21","v":2221},{"$f":"COUNTIF(L44:L62,AD21)","v":2},{"$f":"AE21/(AG4-AE20)","v":0.10526315789473684},{"$f":"IF(AF21=0,0,(AF21*((LOG(AF21))/LOG(2))))","v":-0.34188710667827216},null,{"$f":"N21","v":2221},{"$f":"COUNTIF(L63:L80,AI21)","v":0},{"$f":"AJ21/(AL4-AJ20)","v":0},{"$f":"IF(AK21=0,0,(AK21*((LOG(AK21))/LOG(2))))","v":0},null,{"$f":"N21","v":2221},{"$f":"COUNTIF(L81:L99,AN21)","v":1},{"$f":"AO21/(AQ4-AO20)","v":5.2631578947368418E-2},{"$f":"IF(AP21=0,0,(AP21*((LOG(AP21))/LOG(2))))","v":-0.22357513228650452},null,{"$f":"N21","v":2221},{"$f":"COUNTIF(L100:L117,AS21)","v":0},{"$f":"AT21/(AV4-AT20)","v":0},{"$f":"IF(AU21=0,0,(AU21*((LOG(AU21))/LOG(2))))","v":0}]
[12,3055,14,3060,13,3066,14,3089,null,null,0,1111,null,2222,{"$f":"COUNTIF($L$7:$L$500,N22)","v":2},{"$f":"O22/$Q$4","v":1.8018018018018018E-2},{"$f":"IF(P22=0,0,(P22*((LOG(P22))/LOG(2))))","v":-0.10440388948378569},null,null,{"$f":"N22","v":2222},{"$f":"COUNTIF(L7:L25,T22)","v":1},{"$f":"U22/(W4-U20)","v":5.5555555555555552E-2},{"$f":"IF(V22=0,0,(V22*((LOG(V22))/LOG(2))))","v":-0.23166250008012845},null,{"$f":"N22","v":2222},{"$f":"COUNTIF(L26:L43,Y22)","v":0},{"$f":"Z22/(AB4-Z20)","v":0},{"$f":"IF(AA22=0,0,(AA22*((LOG(AA22))/LOG(2))))","v":0},null,{"$f":"N22","v":2222},{"$f":"COUNTIF(L44:L62,AD22)","v":0},{"$f":"AE22/(AG4-AE20)","v":0},{"$f":"IF(AF22=0,0,(AF22*((LOG(AF22))/LOG(2))))","v":0},null,{"$f":"N22","v":2222},{"$f":"COUNTIF(L63:L80,AI22)","v":1},{"$f":"AJ22/(AL4-AJ20)","v":5.5555555555555552E-2},{"$f":"IF(AK22=0,0,(AK22*((LOG(AK22))/LOG(2))))","v":-0.23166250008012845},null,{"$f":"N22","v":2222},{"$f":"COUNTIF(L81:L99,AN22)","v":0},{"$f":"AO22/(AQ4-AO20)","v":0},{"$f":"IF(AP22=0,0,(AP22*((LOG(AP22))/LOG(2))))","v":0},null,{"$f":"N22","v":2222},{"$f":"COUNTIF(L100:L117,AS22)","v":0},{"$f":"AT22/(AV4-AT20)","v":0},{"$f":"IF(AU22=0,0,(AU22*((LOG(AU22))/LOG(2))))","v":0}]
[21,3189,21,3201,11,3215,21,3236,null,null,0,2212,null,null,null,{"$f":"SUM(P7:P22)","v":1},{"$f":"-SUM(Q7:Q22)","v":3.1259160585295991},null,null,null,null,{"$f":"SUM(V7:V22)","v":1.0000000000000002},{"$f":"-SUM(W7:W22)","v":2.3627402784989338},null,null,null,{"$f":"SUM(AA7:AA22)","v":1},{"$f":"-SUM(AB7:AB22)","v":2.4806821149663847},null,null,null,{"$f":"SUM(AF7:AF22)","v":0.99999999999999967},{"$f":"-SUM(AG7:AG22)","v":2.668980145022533},null,null,null,{"$f":"SUM(AK7:AK22)","v":1},{"$f":"-SUM(AL7:AL22)","v":2.3991303913908002},null,null,null,{"$f":"SUM(AP7:AP22)","v":1},{"$f":"-SUM(AQ7:AQ22)","v":2.2856005389623082},null,null,null,{"$f":"SUM(AU7:AU22)","v":1},{"$f":"-SUM(AV7:AV22)","v":3.0168756957665637}]
[21,3345,21,3353,22,3362,14,3373,null,null,0,2221,null,null,null,"U=",{"$f":"Q23/(LOG(Q4)/LOG(2))","v":0.46007134682628881},null,null,null,null,"U1=",{"$f":"W23/(LOG(W4)/LOG(2))","v":0.55621012152902227},null,null,null,"U2=",{"$f":"AB23/(LOG(AB4)/LOG(2))","v":0.59489849676153772},null,null,null,"U3=",{"$f":"AG23/(LOG(AG4)/LOG(2))","v":0.62830171573688709},null,null,null,"U4=",{"$f":"AL23/(LOG(AL4)/LOG(2))","v":0.57534137677799446},null,null,null,"U5=",{"$f":"AQ23/(LOG(AQ4)/LOG(2))","v":0.53805073926731972},null,null,null,"U6=",{"$f":"AV23/(LOG(AV4)/LOG(2))","v":0.72348440193122743}]
[12,3493,23,3512,13,3526,14,3531,null,null,0,1211]
[12,3663,14,3668,24,3687,23,3692,null,null,0,1122]
[21,3822,12,3840,13,3850,23,3870,null,null,0,2112,null,"Total Target Seq"]
[12,3996,23,4009,24,4014,14,4027,null,null,0,1221,null,{"$f":"COUNTIF(L7:L117,G3)","v":1},null,19,18,19,18,19,18]
[12,4152,14,4162,13,4169,23,4181,null,null,0,1112,null,null,null,"% of reinforcement given in 6 equal intervals based on number of trials "]
[12,4289,23,4307,24,4313,14,4325,null,null,0,1221,null,null,null,"%_1","%_2","%_3","%_4","%_5","%_6"]
[12,4449,14,4455,13,4459,14,4463,null,null,0,1111,null,null,"target sequence",{"$f":"$G$3","v":2212},{"$f":"$G$3","v":2212},{"$f":"$G$3","v":2212},{"$f":"$G$3","v":2212},{"$f":"$G$3","v":2212},{"$f":"$G$3","v":2212}]
[21,4571,12,4587,13,4592,14,4597,null,null,0,2111,null,null,"total reinforcement",{"$f":"U20","v":1},{"$f":"Z20","v":0},{"$f":"AE20","v":0},{"$f":"AJ20","v":0},{"$f":"AO20","v":0},{"$f":"AT20","v":0}]
[21,4733,12,4755,13,4765,23,4778,null,null,0,2112,null,null,"% target"]
[21,4895,12,4905,13,4911,14,4915,null,null,0,2111,null,null,"CCRF"]
[12,5017,14,5022,13,5027,14,5056,null,null,0,1111,null,null,"% CCRf"]
[12,5168,14,5191,13,5196,14,5202,null,null,0,1111,null,null,"average response rate",{"$f":"H25/P28","v":185.84210526315789},{"$f":"(H43-H25)/Q28","v":148.72222222222223},{"$f":"(H62-H43)/R28","v":175.36842105263159},{"$f":"(H80-H62)/S28","v":228.72222222222223},{"$f":"(H99-H80)/T28","v":285.94736842105266},{"$f":"(H117-H99)/U28","v":257.66666666666669}]
[21,5342,12,5357,13,5362,14,5369,null,null,0,2111]
[12,5484,14,5490,13,5495,14,5501,null,null,0,1111]
[12,5602,14,5607,13,5612,14,5618,null,null,0,1111]
[12,5746,23,5762,13,5778,14,5783,null,null,0,1211]
[12,5890,14,5894,13,5899,14,5904,null,null,0,1111]
[12,6040,14,6048,24,6066,23,6073,null,null,0,1122]
[12,6173,14,6197,13,6203,14,6208,null,null,0,1111]
[12,6355,14,6363,13,6373,14,6378,null,null,0,1111]
[12,6483,14,6506,13,6512,14,6518,null,null,0,1111]
[12,6638,14,6643,13,6649,14,6655,null,null,0,1111]
[12,6832,14,6837,13,6843,14,6849,null,null,0,1111]
[12,7020,14,7025,13,7030,14,7036,null,null,0,1111]
[12,7195,14,7201,24,7212,14,7235,null,null,0,1121]
[21,7337,12,7354,13,7359,23,7373,null,null,0,2112]
[12,7560,14,7568,13,7573,23,7585,null,null,0,1112]
[21,7686,21,7701,22,7713,14,7723,null,null,0,2221]
[12,7925,14,7931,13,7946,14,7950,null,null,0,1111]
[12,8156,14,8162,13,8167,14,8173,null,null,0,1111]
[12,8289,14,8293,13,8301,14,8312,null,null,0,1111]
[21,8422,21,8443,11,8459,12,8465,null,null,0,2211]
[12,8708,23,8723,13,8737,14,8742,null,null,0,1211]
[12,8861,14,8866,24,8879,14,8891,null,null,0,1121]
[21,8999,21,9005,22,9014,14,9029,null,null,0,2221]
[12,9154,14,9159,13,9163,23,9175,null,null,0,1112]
[21,9292,12,9325,24,9337,14,9349,null,null,0,2121]
[12,9506,23,9519,24,9531,23,9540,null,null,0,1222]
[12,9672,23,9681,13,9700,14,9705,null,null,0,1211]
[12,9814,14,9828,13,9833,14,9837,null,null,0,1111]
[21,10124,12,10146,13,10151,14,10156,null,null,0,2111]
[21,10260,21,10268,22,10304,23,10324,null,null,0,2222]
[21,10432,21,10441,11,10462,12,10467,null,null,0,2211]
[12,10688,14,10700,24,10718,14,10746,null,null,0,1121]
[12,10952,23,10966,13,10983,14,10988,null,null,0,1211]
[12,11255,23,11276,13,11287,14,11291,null,null,0,1211]
[12,11430,14,11442,13,11447,14,11451,null,null,0,1111]
[12,11665,14,11703,13,11708,14,11713,null,null,0,1111]
[12,11835,14,11839,13,11848,14,11852,null,null,0,1111]
[12,12106,14,12153,13,12159,14,12165,null,null,0,1111]
[21,12294,12,12321,13,12326,14,12334,null,null,0,2111]
[21,12647,12,12664,13,12670,14,12676,null,null,0,2111]
[12,12809,23,12845,13,12857,14,12863,null,null,0,1211]
[21,13060,12,13083,24,13103,23,13114,null,null,0,2122]
[12,13362,23,13375,13,13389,14,13394,null,null,0,1211]
[12,13639,14,13644,13,13653,14,13657,null,null,0,1111]
[12,13905,14,13913,13,13918,23,13931,null,null,0,1112]
[12,14122,14,14145,13,14159,14,14164,null,null,0,1111]
[21,14283,12,14310,13,14314,14,14319,null,null,0,2111]
[12,14472,14,14478,24,14505,14,14533,null,null,0,1121]
[12,14678,14,14686,13,14692,14,14698,null,null,0,1111]
[12,14931,23,14948,13,14964,14,14975,null,null,0,1211]
[21,15208,21,15253,11,15268,12,15289,null,null,0,2211]
[21,15509,12,15534,13,15540,14,15546,null,null,0,2111]
[12,15691,14,15698,24,15711,14,15736,null,null,0,1121]
[12,16203,14,16208,13,16214,14,16220,null,null,0,1111]
[12,16545,14,16554,13,16559,14,16563,null,null,0,1111]
[12,16972,23,17006,13,17027,14,17033,null,null,0,1211]
[12,17330,14,17340,13,17366,14,17374,null,null,0,1111]
[12,17791,14,17797,13,17806,14,17817,null,null,0,1111]
[12,18193,14,18199,13,18205,14,18215,null,null,0,1111]
[12,18473,14,18499,13,18504,14,18509,null,null,0,1111]
[12,18633,14,18647,13,18684,14,18693,null,null,0,1111]
[21,18842,21,18850,22,18906,14,18925,null,null,0,2221]
[12,19049,23,19062,13,19085,14,19090,null,null,0,1211]
[21,19381,12,19399,13,19405,14,19411,null,null,0,2111]
[12,19549,14,19577,13,19582,14,19586,null,null,0,1111]
[12,19747,23,19766,13,19782,14,19786,null,null,0,1211]
[21,20029,21,20045,11,20076,12,20084,null,null,0,2211]
[12,20204,23,20219,13,20250,14,20256,null,null,0,1211]
[21,20478,12,20493,13,20498,14,20505,null,null,0,2111]
[21,20816,12,20838,13,20843,14,20853,null,null,0,2111]
[12,20991,23,21001,24,21025,14,21037,null,null,0,1221]
[21,21191,12,21217,13,21222,14,21228,null,null,0,2111]
[21,21406,12,21420,13,21425,23,21438,null,null,0,2112]
[12,21726,14,21737,13,21745,14,21750,null,null,0,1111]
[12,21916,14,21922,13,21928,14,21937,null,null,0,1111]
[12,22100,23,22113,24,22140,23,22149,null,null,0,1222]
[21,22430,21,22445,11,22468,12,22473,null,null,0,2211]
[12,22760,23,22785,24,22807,23,22813,null,null,0,1222]
[21,23009,12,23032,24,23058,14,23114,null,null,0,2121]
[12,23479,14,23487,13,23496,23,23520,null,null,0,1112]
[21,23658,12,23684,24,23709,14,23728,null,null,0,2121]

{"sheet":"!N107750.092","index":10,"n_rows":109,"n_cols":48,"rows_kept":109,"cut":false,"hidden":false,"merged":[[4,39,4,42],[5,39,5,40],[4,44,4,47],[5,44,5,45],[4,24,4,27],[5,24,5,25],[4,29,4,32],[5,29,5,30],[4,34,4,37],[5,34,5,35],[1,1,1,2],[5,13,5,14],[26,13,26,14],[27,13,27,14],[4,19,4,22],[5,19,5,20]]}
["Report for:!N107750.092"]
["Date:","<date>"]
["Hen:","<hen>",null,null,null,"Correct Sequence",{"$f":"Start!J2","v":2212},null,null,null,null,null,null,null,null,"Total Sequences in Data",{"$f":"4994-COUNTBLANK(L7:L5000)","v":103},null,null,null,null,"Total Sequences in Block Data",{"$f":"COUNTA(L7:L23)","v":17},null,null,null,"Total Sequences in Block Data",{"$f":"COUNTA(L24:L40)","v":17},null,null,null,"Total Sequences in Block Data",{"$f":"COUNTA(L41:L58)","v":18},null,null,null,"Total Sequences in Block Data",{"$f":"COUNTA(L59:L75)","v":17},null,null,null,"Total Sequences in Block Data",{"$f":"COUNTA(L76:L92)","v":17},null,null,null,"Total Sequences in Block Data",{"$f":"COUNTA(L93:L109)","v":17}]
[null,null,null,null,null,null,null,null,null,null,null,null,null,null,null,"Total Sequences in Summary",{"$f":"SUM(O7:O22)","v":102},null,null,null,null,"Total Sequences in Block Summary",{"$f":"SUM(U7:U22)","v":17},null,null,null,"Total Sequences in Block Summary",{"$f":"SUM(Z7:Z22)","v":17},null,null,null,"Total Sequences in Block Summary",{"$f":"SUM(AE7:AE22)","v":18},null,null,null,"Total Sequences in Block Summary",{"$f":"SUM(AJ7:AJ22)","v":17},null,null,null,"Total Sequences in Block Summary",{"$f":"SUM(AO7:AO22)","v":17},null,null,null,"Total Sequences in Block Summary",{"$f":"SUM(AT7:AT22)","v":16}]
[null,null,null,null,null,null,null,null,null,null,null,null,null,null,null,null,null,null,null,"Block 1",null,null,null,null,"Block 2",null,null,null,null,"Block 3",null,null,null,null,"Block 4",null,null,null,null,"Block 5",null,null,null,null,"Block 6"]
["Sequence\nComponent\n1","Time\n1","Sequence\nComponent\n2","Time\n2","Sequence\nComponent\n3","Time\n3","Sequence\nComponent\n4","Time\n4","Sequence\nComponent\n5","Time\n5","Correct?\n0=No 1=Yes","Sequence",null,"Frequency",null,"Relative Frequency","Variability",null,null,"Frequency",null,"Relative Frequency","Variability",null,"Frequency",null,"Relative Frequency","Variability",null,"Frequency",null,"Relative Frequency","Variability",null,"Frequency",null,"Relative Frequency","Variability",null,"Frequency",null,"Relative Frequency","Variability",null,"Frequency",null,"Relative Frequency","Variability"]
[21,91,21,99,22,121,14,138,null,null,0,2221,null,1111,{"$f":"COUNTIF($L$7:$L$500,N7)","v":31},{"$f":"O7/$Q$4","v":0.30392156862745096},{"$f":"IF(P7=0,0,(P7*((LOG(P7))/LOG(2))))","v":-0.52220686254042381},null,null,{"$f":"N7","v":1111},{"$f":"COUNTIF(L7:L23,T7)","v":2},{"$f":"U7/(W4-U20)","v":0.11764705882352941},{"$f":"IF(V7=0,0,(V7*((LOG(V7))/LOG(2))))","v":-0.36323092250003997},null,{"$f":"N7","v":1111},{"$f":"COUNTIF(L24:L40,Y7)","v":3},{"$f":"Z7/(AB4-Z20)","v":0.17647058823529413},{"$f":"IF(AA7=0,0,(AA7*((LOG(AA7))/LOG(2))))","v":-0.44161770715220888},null,{"$f":"N7","v":1111},{"$f":"COUNTIF(L41:L58,AD7)","v":4},{"$f":"AE7/(AG4-AE20)","v":0.22222222222222221},{"$f":"IF(AF7=0,0,(AF7*((LOG(AF7))/LOG(2))))","v":-0.48220555587606945},null,{"$f":"N7","v":1111},{"$f":"COUNTIF(L59:L75,AI7)","v":13},{"$f":"AJ7/(AL4-AJ20)","v":0.76470588235294112},{"$f":"IF(AK7=0,0,(AK7*((LOG(AK7))/LOG(2))))","v":-0.29595885884824796},null,{"$f":"N7","v":1111},{"$f":"COUNTIF(L76:L92,AN7)","v":4},{"$f":"AO7/(AQ4-AO20)","v":0.23529411764705882},{"$f":"IF(AP7=0,0,(AP7*((LOG(AP7))/LOG(2))))","v":-0.49116772735302094},null,{"$f":"N7","v":1111},{"$f":"COUNTIF(L93:L109,AS7)","v":5},{"$f":"AT7/(AV4-AT20)","v":0.3125},{"$f":"IF(AU7=0,0,(AU7*((LOG(AU7))/LOG(2))))","v":-0.52439747034769923}]
[12,266,14,271,24,301,14,319,null,null,0,1121,null,1112,{"$f":"COUNTIF($L$7:$L$500,N8)","v":7},{"$f":"O8/$Q$4","v":6.8627450980392163E-2},{"$f":"IF(P8=0,0,(P8*((LOG(P8))/LOG(2))))","v":-0.26524993077840431},null,null,{"$f":"N8","v":1112},{"$f":"COUNTIF(L7:L23,T8)","v":0},{"$f":"U8/(W4-U20)","v":0},{"$f":"IF(V8=0,0,(V8*((LOG(V8))/LOG(2))))","v":0},null,{"$f":"N8","v":1112},{"$f":"COUNTIF(L24:L40,Y8)","v":3},{"$f":"Z8/(AB4-Z20)","v":0.17647058823529413},{"$f":"IF(AA8=0,0,(AA8*((LOG(AA8))/LOG(2))))","v":-0.44161770715220888},null,{"$f":"N8","v":1112},{"$f":"COUNTIF(L41:L58,AD8)","v":3},{"$f":"AE8/(AG4-AE20)","v":0.16666666666666666},{"$f":"IF(AF8=0,0,(AF8*((LOG(AF8))/LOG(2))))","v":-0.43082708345352599},null,{"$f":"N8","v":1112},{"$f":"COUNTIF(L59:L75,AI8)","v":0},{"$f":"AJ8/(AL4-AJ20)","v":0},{"$f":"IF(AK8=0,0,(AK8*((LOG(AK8))/LOG(2))))","v":0},null,{"$f":"N8","v":1112},{"$f":"COUNTIF(L76:L92,AN8)","v":0},{"$f":"AO8/(AQ4-AO20)","v":0},{"$f":"IF(AP8=0,0,(AP8*((LOG(AP8))/LOG(2))))","v":0},null,{"$f":"N8","v":1112},{"$f":"COUNTIF(L93:L109,AS8)","v":1},{"$f":"AT8/(AV4-AT20)","v":6.25E-2},{"$f":"IF(AU8=0,0,(AU8*((LOG(AU8))/LOG(2))))","v":-0.25}]
[12,464,23,478,24,487,14,499,null,null,0,1221,null,1121,{"$f":"COUNTIF($L$7:$L$500,N9)","v":3},{"$f":"O9/$Q$4","v":2.9411764705882353E-2},{"$f":"IF(P9=0,0,(P9*((LOG(P9))/LOG(2))))","v":-0.14963126003677468},null,null,{"$f":"N9","v":1121},{"$f":"COUNTIF(L7:L23,T9)","v":1},{"$f":"U9/(W4-U20)","v":5.8823529411764705E-2},{"$f":"IF(V9=0,0,(V9*((LOG(V9))/LOG(2))))","v":-0.24043899066178465},null,{"$f":"N9","v":1121},{"$f":"COUNTIF(L24:L40,Y9)","v":1},{"$f":"Z9/(AB4-Z20)","v":5.8823529411764705E-2},{"$f":"IF(AA9=0,0,(AA9*((LOG(AA9))/LOG(2))))","v":-0.24043899066178465},null,{"$f":"N9","v":1121},{"$f":"COUNTIF(L41:L58,AD9)","v":0},{"$f":"AE9/(AG4-AE20)","v":0},{"$f":"IF(AF9=0,0,(AF9*((LOG(AF9))/LOG(2))))","v":0},null,{"$f":"N9","v":1121},{"$f":"COUNTIF(L59:L75,AI9)","v":0},{"$f":"AJ9/(AL4-AJ20)","v":0},{"$f":"IF(AK9=0,0,(AK9*((LOG(AK9))/LOG(2))))","v":0},null,{"$f":"N9","v":1121},{"$f":"COUNTIF(L76:L92,AN9)","v":0},{"$f":"AO9/(AQ4-AO20)","v":0},{"$f":"IF(AP9=0,0,(AP9*((LOG(AP9))/LOG(2))))","v":0},null,{"$f":"N9","v":1121},{"$f":"COUNTIF(L93:L109,AS9)","v":1},{"$f":"AT9/(AV4-AT20)","v":6.25E-2},{"$f":"IF(AU9=0,0,(AU9*((LOG(AU9))/LOG(2))))","v":-0.25}]
[21,637,21,645,22,649,14,661,null,null,0,2221,null,1122,{"$f":"COUNTIF($L$7:$L$500,N10)","v":6},{"$f":"O10/$Q$4","v":5.8823529411764705E-2},{"$f":"IF(P10=0,0,(P10*((LOG(P10))/LOG(2))))","v":-0.24043899066178465},null,null,{"$f":"N10","v":1122},{"$f":"COUNTIF(L7:L23,T10)","v":1},{"$f":"U10/(W4-U20)","v":5.8823529411764705E-2},{"$f":"IF(V10=0,0,(V10*((LOG(V10))/LOG(2))))","v":-0.24043899066178465},null,{"$f":"N10","v":1122},{"$f":"COUNTIF(L24:L40,Y10)","v":1},{"$f":"Z10/(AB4-Z20)","v":5.8823529411764705E-2},{"$f":"IF(AA10=0,0,(AA10*((LOG(AA10))/LOG(2))))","v":-0.24043899066178465},null,{"$f":"N10","v":1122},{"$f":"COUNTIF(L41:L58,AD10)","v":1},{"$f":"AE10/(AG4-AE20)","v":5.5555555555555552E-2},{"$f":"IF(AF10=0,0,(AF10*((LOG(AF10))/LOG(2))))","v":-0.23166250008012845},null,{"$f":"N10","v":1122},{"$f":"COUNTIF(L59:L75,AI10)","v":0},{"$f":"AJ10/(AL4-AJ20)","v":0},{"$f":"IF(AK10=0,0,(AK10*((LOG(AK10))/LOG(2))))","v":0},null,{"$f":"N10","v":1122},{"$f":"COUNTIF(L76:L92,AN10)","v":2},{"$f":"AO10/(AQ4-AO20)","v":0.11764705882352941},{"$f":"IF(AP10=0,0,(AP10*((LOG(AP10))/LOG(2))))","v":-0.36323092250003997},null,{"$f":"N10","v":1122},{"$f":"COUNTIF(L93:L109,AS10)","v":1},{"$f":"AT10/(AV4-AT20)","v":6.25E-2},{"$f":"IF(AU10=0,0,(AU10*((LOG(AU10))/LOG(2))))","v":-0.25}]
[12,799,14,809,13,814,14,820,null,null,0,1111,null,1211,{"$f":"COUNTIF($L$7:$L$500,N11)","v":6},{"$f":"O11/$Q$4","v":5.8823529411764705E-2},{"$f":"IF(P11=0,0,(P11*((LOG(P11))/LOG(2))))","v":-0.24043899066178465},null,null,{"$f":"N11","v":1211},{"$f":"COUNTIF(L7:L23,T11)","v":2},{"$f":"U11/(W4-U20)","v":0.11764705882352941},{"$f":"IF(V11=0,0,(V11*((LOG(V11))/LOG(2))))","v":-0.36323092250003997},null,{"$f":"N11","v":1211},{"$f":"COUNTIF(L24:L40,Y11)","v":0},{"$f":"Z11/(AB4-Z20)","v":0},{"$f":"IF(AA11=0,0,(AA11*((LOG(AA11))/LOG(2))))","v":0},null,{"$f":"N11","v":1211},{"$f":"COUNTIF(L41:L58,AD11)","v":2},{"$f":"AE11/(AG4-AE20)","v":0.1111111111111111},{"$f":"IF(AF11=0,0,(AF11*((LOG(AF11))/LOG(2))))","v":-0.3522138890491458},null,{"$f":"N11","v":1211},{"$f":"COUNTIF(L59:L75,AI11)","v":1},{"$f":"AJ11/(AL4-AJ20)","v":5.8823529411764705E-2},{"$f":"IF(AK11=0,0,(AK11*((LOG(AK11))/LOG(2))))","v":-0.24043899066178465},null,{"$f":"N11","v":1211},{"$f":"COUNTIF(L76:L92,AN11)","v":0},{"$f":"AO11/(AQ4-AO20)","v":0},{"$f":"IF(AP11=0,0,(AP11*((LOG(AP11))/LOG(2))))","v":0},null,{"$f":"N11","v":1211},{"$f":"COUNTIF(L93:L109,AS11)","v":1},{"$f":"AT11/(AV4-AT20)","v":6.25E-2},{"$f":"IF(AU11=0,0,(AU11*((LOG(AU11))/LOG(2))))","v":-0.25}]
[21,933,12,944,13,949,23,960,null,null,0,2112,null,1212,{"$f":"COUNTIF($L$7:$L$500,N12)","v":0},{"$f":"O12/$Q$4","v":0},{"$f":"IF(P12=0,0,(P12*((LOG(P12))/LOG(2))))","v":0},null,null,{"$f":"N12","v":1212},{"$f":"COUNTIF(L7:L23,T12)","v":0},{"$f":"U12/(W4-U20)","v":0},{"$f":"IF(V12=0,0,(V12*((LOG(V12))/LOG(2))))","v":0},null,{"$f":"N12","v":1212},{"$f":"COUNTIF(L24:L40,Y12)","v":0},{"$f":"Z12/(AB4-Z20)","v":0},{"$f":"IF(AA12=0,0,(AA12*((LOG(AA12))/LOG(2))))","v":0},null,{"$f":"N12","v":1212},{"$f":"COUNTIF(L41:L58,AD12)","v":0},{"$f":"AE12/(AG4-AE20)","v":0},{"$f":"IF(AF12=0,0,(AF12*((LOG(AF12))/LOG(2))))","v":0},null,{"$f":"N12","v":1212},{"$f":"COUNTIF(L59:L75,AI12)","v":0},{"$f":"AJ12/(AL4-AJ20)","v":0},{"$f":"IF(AK12=0,0,(AK12*((LOG(AK12))/LOG(2))))","v":0},null,{"$f":"N12","v":1212},{"$f":"COUNTIF(L76:L92,AN12)","v":0},{"$f":"AO12/(AQ4-AO20)","v":0},{"$f":"IF(AP12=0,0,(AP12*((LOG(AP12))/LOG(2))))","v":0},null,{"$f":"N12","v":1212},{"$f":"COUNTIF(L93:L109,AS12)","v":0},{"$f":"AT12/(AV4-AT20)","v":0},{"$f":"IF(AU12=0,0,(AU12*((LOG(AU12))/LOG(2))))","v":0}]
[21,1102,12,1120,24,1133,14,1148,null,null,0,2121,null,1221,{"$f":"COUNTIF($L$7:$L$500,N13)","v":9},{"$f":"O13/$Q$4","v":8.8235294117647065E-2},{"$f":"IF(P13=0,0,(P13*((LOG(P13))/LOG(2))))","v":-0.30904414769375149},null,null,{"$f":"N13","v":1221},{"$f":"COUNTIF(L7:L23,T13)","v":2},{"$f":"U13/(W4-U20)","v":0.11764705882352941},{"$f":"IF(V13=0,0,(V13*((LOG(V13))/LOG(2))))","v":-0.36323092250003997},null,{"$f":"N13","v":1221},{"$f":"COUNTIF(L24:L40,Y13)","v":2},{"$f":"Z13/(AB4-Z20)","v":0.11764705882352941},{"$f":"IF(AA13=0,0,(AA13*((LOG(AA13))/LOG(2))))","v":-0.36323092250003997},null,{"$f":"N13","v":1221},{"$f":"COUNTIF(L41:L58,AD13)","v":3},{"$f":"AE13/(AG4-AE20)","v":0.16666666666666666},{"$f":"IF(AF13=0,0,(AF13*((LOG(AF13))/LOG(2))))","v":-0.43082708345352599},null,{"$f":"N13","v":1221},{"$f":"COUNTIF(L59:L75,AI13)","v":0},{"$f":"AJ13/(AL4-AJ20)","v":0},{"$f":"IF(AK13=0,0,(AK13*((LOG(AK13))/LOG(2))))","v":0},null,{"$f":"N13","v":1221},{"$f":"COUNTIF(L76:L92,AN13)","v":1},{"$f":"AO13/(AQ4-AO20)","v":5.8823529411764705E-2},{"$f":"IF(AP13=0,0,(AP13*((LOG(AP13))/LOG(2))))","v":-0.24043899066178465},null,{"$f":"N13","v":1221},{"$f":"COUNTIF(L93:L109,AS13)","v":1},{"$f":"AT13/(AV4-AT20)","v":6.25E-2},{"$f":"IF(AU13=0,0,(AU13*((LOG(AU13))/LOG(2))))","v":-0.25}]
[12,1288,14,1293,24,1305,23,1318,null,null,0,1122,null,1222,{"$f":"COUNTIF($L$7:$L$500,N14)","v":2},{"$f":"O14/$Q$4","v":1.9607843137254902E-2},{"$f":"IF(P14=0,0,(P14*((LOG(P14))/LOG(2))))","v":-0.11122402631316657},null,null,{"$f":"N14","v":1222},{"$f":"COUNTIF(L7:L23,T14)","v":0},{"$f":"U14/(W4-U20)","v":0},{"$f":"IF(V14=0,0,(V14*((LOG(V14))/LOG(2))))","v":0},null,{"$f":"N14","v":1222},{"$f":"COUNTIF(L24:L40,Y14)","v":0},{"$f":"Z14/(AB4-Z20)","v":0},{"$f":"IF(AA14=0,0,(AA14*((LOG(AA14))/LOG(2))))","v":0},null,{"$f":"N14","v":1222},{"$f":"COUNTIF(L41:L58,AD14)","v":1},{"$f":"AE14/(AG4-AE20)","v":5.5555555555555552E-2},{"$f":"IF(AF14=0,0,(AF14*((LOG(AF14))/LOG(2))))","v":-0.23166250008012845},null,{"$f":"N14","v":1222},{"$f":"COUNTIF(L59:L75,AI14)","v":0},{"$f":"AJ14/(AL4-AJ20)","v":0},{"$f":"IF(AK14=0,0,(AK14*((LOG(AK14))/LOG(2))))","v":0},null,{"$f":"N14","v":1222},{"$f":"COUNTIF(L76:L92,AN14)","v":1},{"$f":"AO14/(AQ4-AO20)","v":5.8823529411764705E-2},{"$f":"IF(AP14=0,0,(AP14*((LOG(AP14))/LOG(2))))","v":-0.24043899066178465},null,{"$f":"N14","v":1222},{"$f":"COUNTIF(L93:L109,AS14)","v":0},{"$f":"AT14/(AV4-AT20)","v":0},{"$f":"IF(AU14=0,0,(AU14*((LOG(AU14))/LOG(2))))","v":0}]
[21,1423,12,1435,13,1440,14,1445,null,null,0,2111,null,2111,{"$f":"COUNTIF($L$7:$L$500,N15)","v":21},{"$f":"O15/$Q$4","v":0.20588235294117646},{"$f":"IF(P15=0,0,(P15*((LOG(P15))/LOG(2))))","v":-0.46943398336321018},null,null,{"$f":"N15","v":2111},{"$f":"COUNTIF(L7:L23,T15)","v":3},{"$f":"U15/(W4-U20)","v":0.17647058823529413},{"$f":"IF(V15=0,0,(V15*((LOG(V15))/LOG(2))))","v":-0.44161770715220888},null,{"$f":"N15","v":2111},{"$f":"COUNTIF(L24:L40,Y15)","v":6},{"$f":"Z15/(AB4-Z20)","v":0.35294117647058826},{"$f":"IF(AA15=0,0,(AA15*((LOG(AA15))/LOG(2))))","v":-0.53029423783382934},null,{"$f":"N15","v":2111},{"$f":"COUNTIF(L41:L58,AD15)","v":2},{"$f":"AE15/(AG4-AE20)","v":0.1111111111111111},{"$f":"IF(AF15=0,0,(AF15*((LOG(AF15))/LOG(2))))","v":-0.3522138890491458},null,{"$f":"N15","v":2111},{"$f":"COUNTIF(L59:L75,AI15)","v":1},{"$f":"AJ15/(AL4-AJ20)","v":5.8823529411764705E-2},{"$f":"IF(AK15=0,0,(AK15*((LOG(AK15))/LOG(2))))","v":-0.24043899066178465},null,{"$f":"N15","v":2111},{"$f":"COUNTIF(L76:L92,AN15)","v":5},{"$f":"AO15/(AQ4-AO20)","v":0.29411764705882354},{"$f":"IF(AP15=0,0,(AP15*((LOG(AP15))/LOG(2))))","v":-0.51927492540087561},null,{"$f":"N15","v":2111},{"$f":"COUNTIF(L93:L109,AS15)","v":4},{"$f":"AT15/(AV4-AT20)","v":0.25},{"$f":"IF(AU15=0,0,(AU15*((LOG(AU15))/LOG(2))))","v":-0.5}]
[12,1574,23,1586,24,1600,14,1609,null,null,0,1221,null,2112,{"$f":"COUNTIF($L$7:$L$500,N16)","v":2},{"$f":"O16/$Q$4","v":1.9607843137254902E-2},{"$f":"IF(P16=0,0,(P16*((LOG(P16))/LOG(2))))","v":-0.11122402631316657},null,null,{"$f":"N16","v":2112},{"$f":"COUNTIF(L7:L23,T16)","v":1},{"$f":"U16/(W4-U20)","v":5.8823529411764705E-2},{"$f":"IF(V16=0,0,(V16*((LOG(V16))/LOG(2))))","v":-0.24043899066178465},null,{"$f":"N16","v":2112},{"$f":"COUNTIF(L24:L40,Y16)","v":0},{"$f":"Z16/(AB4-Z20)","v":0},{"$f":"IF(AA16=0,0,(AA16*((LOG(AA16))/LOG(2))))","v":0},null,{"$f":"N16","v":2112},{"$f":"COUNTIF(L41:L58,AD16)","v":1},{"$f":"AE16/(AG4-AE20)","v":5.5555555555555552E-2},{"$f":"IF(AF16=0,0,(AF16*((LOG(AF16))/LOG(2))))","v":-0.23166250008012845},null,{"$f":"N16","v":2112},{"$f":"COUNTIF(L59:L75,AI16)","v":0},{"$f":"AJ16/(AL4-AJ20)","v":0},{"$f":"IF(AK16=0,0,(AK16*((LOG(AK16))/LOG(2))))","v":0},null,{"$f":"N16","v":2112},{"$f":"COUNTIF(L76:L92,AN16)","v":0},{"$f":"AO16/(AQ4-AO20)","v":0},{"$f":"IF(AP16=0,0,(AP16*((LOG(AP16))/LOG(2))))","v":0},null,{"$f":"N16","v":2112},{"$f":"COUNTIF(L93:L109,AS16)","v":0},{"$f":"AT16/(AV4-AT20)","v":0},{"$f":"IF(AU16=0,0,(AU16*((LOG(AU16))/LOG(2))))","v":0}]
[12,1844,14,1851,13,1860,14,1864,null,null,0,1111,null,2121,{"$f":"COUNTIF($L$7:$L$500,N17)","v":1},{"$f":"O17/$Q$4","v":9.8039215686274508E-3},{"$f":"IF(P17=0,0,(P17*((LOG(P17))/LOG(2))))","v":-6.5415934725210734E-2},null,null,{"$f":"N17","v":2121},{"$f":"COUNTIF(L7:L23,T17)","v":1},{"$f":"U17/(W4-U20)","v":5.8823529411764705E-2},{"$f":"IF(V17=0,0,(V17*((LOG(V17))/LOG(2))))","v":-0.24043899066178465},null,{"$f":"N17","v":2121},{"$f":"COUNTIF(L24:L40,Y17)","v":0},{"$f":"Z17/(AB4-Z20)","v":0},{"$f":"IF(AA17=0,0,(AA17*((LOG(AA17))/LOG(2))))","v":0},null,{"$f":"N17","v":2121},{"$f":"COUNTIF(L41:L58,AD17)","v":0},{"$f":"AE17/(AG4-AE20)","v":0},{"$f":"IF(AF17=0,0,(AF17*((LOG(AF17))/LOG(2))))","v":0},null,{"$f":"N17","v":2121},{"$f":"COUNTIF(L59:L75,AI17)","v":0},{"$f":"AJ17/(AL4-AJ20)","v":0},{"$f":"IF(AK17=0,0,(AK17*((LOG(AK17))/LOG(2))))","v":0},null,{"$f":"N17","v":2121},{"$f":"COUNTIF(L76:L92,AN17)","v":0},{"$f":"AO17/(AQ4-AO20)","v":0},{"$f":"IF(AP17=0,0,(AP17*((LOG(AP17))/LOG(2))))","v":0},null,{"$f":"N17","v":2121},{"$f":"COUNTIF(L93:L109,AS17)","v":0},{"$f":"AT17/(AV4-AT20)","v":0},{"$f":"IF(AU17=0,0,(AU17*((LOG(AU17))/LOG(2))))","v":0}]
[21,2004,12,2021,13,2059,14,2066,null,null,0,2111,null,2122,{"$f":"COUNTIF($L$7:$L$500,N18)","v":1},{"$f":"O18/$Q$4","v":9.8039215686274508E-3},{"$f":"IF(P18=0,0,(P18*((LOG(P18))/LOG(2))))","v":-6.5415934725210734E-2},null,null,{"$f":"N18","v":2122},{"$f":"COUNTIF(L7:L23,T18)","v":0},{"$f":"U18/(W4-U20)","v":0},{"$f":"IF(V18=0,0,(V18*((LOG(V18))/LOG(2))))","v":0},null,{"$f":"N18","v":2122},{"$f":"COUNTIF(L24:L40,Y18)","v":0},{"$f":"Z18/(AB4-Z20)","v":0},{"$f":"IF(AA18=0,0,(AA18*((LOG(AA18))/LOG(2))))","v":0},null,{"$f":"N18","v":2122},{"$f":"COUNTIF(L41:L58,AD18)","v":0},{"$f":"AE18/(AG4-AE20)","v":0},{"$f":"IF(AF18=0,0,(AF18*((LOG(AF18))/LOG(2))))","v":0},null,{"$f":"N18","v":2122},{"$f":"COUNTIF(L59:L75,AI18)","v":0},{"$f":"AJ18/(AL4-AJ20)","v":0},{"$f":"IF(AK18=0,0,(AK18*((LOG(AK18))/LOG(2))))","v":0},null,{"$f":"N18","v":2122},{"$f":"COUNTIF(L76:L92,AN18)","v":1},{"$f":"AO18/(AQ4-AO20)","v":5.8823529411764705E-2},{"$f":"IF(AP18=0,0,(AP18*((LOG(AP18))/LOG(2))))","v":-0.24043899066178465},null,{"$f":"N18","v":2122},{"$f":"COUNTIF(L93:L109,AS18)","v":0},{"$f":"AT18/(AV4-AT20)","v":0},{"$f":"IF(AU18=0,0,(AU18*((LOG(AU18))/LOG(2))))","v":0}]
[21,2189,21,2201,11,2211,12,2215,null,null,0,2211,null,2211,{"$f":"COUNTIF($L$7:$L$500,N19)","v":7},{"$f":"O19/$Q$4","v":6.8627450980392163E-2},{"$f":"IF(P19=0,0,(P19*((LOG(P19))/LOG(2))))","v":-0.26524993077840431},null,null,{"$f":"N19","v":2211},{"$f":"COUNTIF(L7:L23,T19)","v":2},{"$f":"U19/(W4-U20)","v":0.11764705882352941},{"$f":"IF(V19=0,0,(V19*((LOG(V19))/LOG(2))))","v":-0.36323092250003997},null,{"$f":"N19","v":2211},{"$f":"COUNTIF(L24:L40,Y19)","v":1},{"$f":"Z19/(AB4-Z20)","v":5.8823529411764705E-2},{"$f":"IF(AA19=0,0,(AA19*((LOG(AA19))/LOG(2))))","v":-0.24043899066178465},null,{"$f":"N19","v":2211},{"$f":"COUNTIF(L41:L58,AD19)","v":1},{"$f":"AE19/(AG4-AE20)","v":5.5555555555555552E-2},{"$f":"IF(AF19=0,0,(AF19*((LOG(AF19))/LOG(2))))","v":-0.23166250008012845},null,{"$f":"N19","v":2211},{"$f":"COUNTIF(L59:L75,AI19)","v":1},{"$f":"AJ19/(AL4-AJ20)","v":5.8823529411764705E-2},{"$f":"IF(AK19=0,0,(AK19*((LOG(AK19))/LOG(2))))","v":-0.24043899066178465},null,{"$f":"N19","v":2211},{"$f":"COUNTIF(L76:L92,AN19)","v":2},{"$f":"AO19/(AQ4-AO20)","v":0.11764705882352941},{"$f":"IF(AP19=0,0,(AP19*((LOG(AP19))/LOG(2))))","v":-0.36323092250003997},null,{"$f":"N19","v":2211},{"$f":"COUNTIF(L93:L109,AS19)","v":0},{"$f":"AT19/(AV4-AT20)","v":0},{"$f":"IF(AU19=0,0,(AU19*((LOG(AU19))/LOG(2))))","v":0}]
[12,2392,23,2405,13,2421,14,2426,null,null,0,1211,null,2212,{"$f":"COUNTIF($L$7:$L$500,N20)","v":0},{"$f":"O20/$Q$4","v":0},{"$f":"IF(P20=0,0,(P20*((LOG(P20))/LOG(2))))","v":0},null,null,{"$f":"N20","v":2212},{"$f":"COUNTIF(L7:L23,T20)","v":0},null,null,null,{"$f":"N20","v":2212},{"$f":"COUNTIF(L24:L40,Y20)","v":0},null,null,null,{"$f":"N20","v":2212},{"$f":"COUNTIF(L41:L58,AD20)","v":0},null,null,null,{"$f":"N20","v":2212},{"$f":"COUNTIF(L59:L75,AI20)","v":0},null,null,null,{"$f":"N20","v":2212},{"$f":"COUNTIF(L76:L92,AN20)","v":0},null,null,null,{"$f":"N20","v":2212},{"$f":"COUNTIF(L93:L109,AS20)","v":0}]
[21,2531,21,2569,11,2586,12,2592,null,null,0,2211,null,2221,{"$f":"COUNTIF($L$7:$L$500,N21)","v":3},{"$f":"O21/$Q$4","v":2.9411764705882353E-2},{"$f":"IF(P21=0,0,(P21*((LOG(P21))/LOG(2))))","v":-0.14963126003677468},null,null,{"$f":"N21","v":2221},{"$f":"COUNTIF(L7:L23,T21)","v":2},{"$f":"U21/(W4-U20)","v":0.11764705882352941},{"$f":"IF(V21=0,0,(V21*((LOG(V21))/LOG(2))))","v":-0.36323092250003997},null,{"$f":"N21","v":2221},{"$f":"COUNTIF(L24:L40,Y21)","v":0},{"$f":"Z21/(AB4-Z20)","v":0},{"$f":"IF(AA21=0,0,(AA21*((LOG(AA21))/LOG(2))))","v":0},null,{"$f":"N21","v":2221},{"$f":"COUNTIF(L41:L58,AD21)","v":0},{"$f":"AE21/(AG4-AE20)","v":0},{"$f":"IF(AF21=0,0,(AF21*((LOG(AF21))/LOG(2))))","v":0},null,{"$f":"N21","v":2221},{"$f":"COUNTIF(L59:L75,AI21)","v":1},{"$f":"AJ21/(AL4-AJ20)","v":5.8823529411764705E-2},{"$f":"IF(AK21=0,0,(AK21*((LOG(AK21))/LOG(2))))","v":-0.24043899066178465},null,{"$f":"N21","v":2221},{"$f":"COUNTIF(L76:L92,AN21)","v":0},{"$f":"AO21/(AQ4-AO20)","v":0},{"$f":"IF(AP21=0,0,(AP21*((LOG(AP21))/LOG(2))))","v":0},null,{"$f":"N21","v":2221},{"$f":"COUNTIF(L93:L109,AS21)","v":0},{"$f":"AT21/(AV4-AT20)","v":0},{"$f":"IF(AU21=0,0,(AU21*((LOG(AU21))/LOG(2))))","v":0}]
[12,2776,23,2792,13,2813,14,2819,null,null,0,1211,null,2222,{"$f":"COUNTIF($L$7:$L$500,N22)","v":3},{"$f":"O22/$Q$4","v":2.9411764705882353E-2},{"$f":"IF(P22=0,0,(P22*((LOG(P22))/LOG(2))))","v":-0.14963126003677468},null,null,{"$f":"N22","v":2222},{"$f":"COUNTIF(L7:L23,T22)","v":0},{"$f":"U22/(W4-U20)","v":0},{"$f":"IF(V22=0,0,(V22*((LOG(V22))/LOG(2))))","v":0},null,{"$f":"N22","v":2222},{"$f":"COUNTIF(L24:L40,Y22)","v":0},{"$f":"Z22/(AB4-Z20)","v":0},{"$f":"IF(AA22=0,0,(AA22*((LOG(AA22))/LOG(2))))","v":0},null,{"$f":"N22","v":2222},{"$f":"COUNTIF(L41:L58,AD22)","v":0},{"$f":"AE22/(AG4-AE20)","v":0},{"$f":"IF(AF22=0,0,(AF22*((LOG(AF22))/LOG(2))))","v":0},null,{"$f":"N22","v":2222},{"$f":"COUNTIF(L59:L75,AI22)","v":0},{"$f":"AJ22/(AL4-AJ20)","v":0},{"$f":"IF(AK22=0,0,(AK22*((LOG(AK22))/LOG(2))))","v":0},null,{"$f":"N22","v":2222},{"$f":"COUNTIF(L76:L92,AN22)","v":1},{"$f":"AO22/(AQ4-AO20)","v":5.8823529411764705E-2},{"$f":"IF(AP22=0,0,(AP22*((LOG(AP22))/LOG(2))))","v":-0.24043899066178465},null,{"$f":"N22","v":2222},{"$f":"COUNTIF(L93:L109,AS22)","v":2},{"$f":"AT22/(AV4-AT20)","v":0.125},{"$f":"IF(AU22=0,0,(AU22*((LOG(AU22))/LOG(2))))","v":-0.375}]
[21,3041,12,3064,13,3109,14,3113,null,null,0,2111,null,null,null,{"$f":"SUM(P7:P22)","v":1},{"$f":"-SUM(Q7:Q22)","v":3.1142365386648425},null,null,null,null,{"$f":"SUM(V7:V22)","v":1},{"$f":"-SUM(W7:W22)","v":3.2195282822995477},null,null,null,{"$f":"SUM(AA7:AA22)","v":1},{"$f":"-SUM(AB7:AB22)","v":2.4980775466236409},null,null,null,{"$f":"SUM(AF7:AF22)","v":1},{"$f":"-SUM(AG7:AG22)","v":2.9749375012019263},null,null,null,{"$f":"SUM(AK7:AK22)","v":1},{"$f":"-SUM(AL7:AL22)","v":1.2577148214953864},null,null,null,{"$f":"SUM(AP7:AP22)","v":1},{"$f":"-SUM(AQ7:AQ22)","v":2.6986604604011157},null,null,null,{"$f":"SUM(AU7:AU22)","v":1},{"$f":"-SUM(AV7:AV22)","v":2.649397470347699}]
[12,3242,14,3249,13,3258,23,3271,null,null,0,1112,null,null,null,"U=",{"$f":"Q23/(LOG(Q4)/LOG(2))","v":0.46673231681970112},null,null,null,null,"U1=",{"$f":"W23/(LOG(W4)/LOG(2))","v":0.78765933962954549},null,null,null,"U2=",{"$f":"AB23/(LOG(AB4)/LOG(2))","v":0.61115602603484187},null,null,null,"U3=",{"$f":"AG23/(LOG(AG4)/LOG(2))","v":0.71342710004926746},null,null,null,"U4=",{"$f":"AL23/(LOG(AL4)/LOG(2))","v":0.30770061290897416},null,null,null,"U5=",{"$f":"AQ23/(LOG(AQ4)/LOG(2))","v":0.66022874463015446},null,null,null,"U6=",{"$f":"AV23/(LOG(AV4)/LOG(2))","v":0.66234936758692475}]
[21,3383,21,3391,11,3404,12,3410,null,null,0,2211]
[21,3543,12,3563,13,3569,14,3574,null,null,0,2111]
[21,3678,12,3693,13,3700,14,3706,null,null,0,2111,null,"Total Target Seq"]
[12,3847,14,3852,13,3870,23,3882,null,null,0,1112,null,{"$f":"COUNTIF(L7:L109,G3)","v":0},null,17,17,18,17,17,17]
[12,4051,23,4065,24,4070,14,4087,null,null,0,1221,null,null,null,"% of reinforcement given in 6 equal intervals based on number of trials "]
[12,4284,14,4306,13,4312,14,4318,null,null,0,1111,null,null,null,"%_1","%_2","%_3","%_4","%_5","%_6"]
[12,4484,14,4490,24,4508,23,4516,null,null,0,1122,null,null,"target sequence",{"$f":"$G$3","v":2212},{"$f":"$G$3","v":2212},{"$f":"$G$3","v":2212},{"$f":"$G$3","v":2212},{"$f":"$G$3","v":2212},{"$f":"$G$3","v":2212}]
[21,4674,12,4692,13,4701,14,4709,null,null,0,2111,null,null,"total reinforcement",{"$f":"U20","v":0},{"$f":"Z20","v":0},{"$f":"AE20","v":0},{"$f":"AJ20","v":0},{"$f":"AO20","v":0},{"$f":"AT20","v":0}]
[21,4953,12,4964,13,4969,14,4975,null,null,0,2111,null,null,"% target"]
[12,5119,23,5141,24,5149,14,5176,null,null,0,1221,null,null,"CCRF"]
[12,5308,14,5318,24,5341,14,5355,null,null,0,1121,null,null,"% CCRf"]
[12,5623,14,5669,13,5680,14,5689,null,null,0,1111,null,null,"average response rate",{"$f":"H23/P28","v":183.11764705882354},{"$f":"(H40-H23)/Q28","v":194.47058823529412},{"$f":"(H58-H40)/R28","v":239.16666666666666},{"$f":"(H75-H58)/S28","v":202.88235294117646},{"$f":"(H92-H75)/T28","v":202.58823529411765},{"$f":"(H109-H92)/U28","v":-1036.2941176470588}]
[12,5838,14,5844,13,5855,23,5877,null,null,0,1112]
[21,5977,12,5994,13,5998,14,6003,null,null,0,2111]
[12,6226,14,6231,13,6241,14,6245,null,null,0,1111]
[21,6394,12,6405,13,6415,14,6419,null,null,0,2111]
[12,6545,14,6551,24,6565,23,6575,null,null,0,1122]
[12,6726,14,6732,13,6737,14,6741,null,null,0,1111]
[12,7149,23,7172,13,7188,14,7193,null,null,0,1211]
[12,7328,14,7334,13,7339,23,7361,null,null,0,1112]
[12,7498,23,7511,24,7525,14,7547,null,null,0,1221]
[21,7764,12,7787,13,7792,14,7797,null,null,0,2111]
[12,7954,14,7959,13,7965,14,7975,null,null,0,1111]
[12,8100,23,8113,24,8124,23,8135,null,null,0,1222]
[21,8277,12,8298,13,8307,14,8314,null,null,0,2111]
[21,8457,12,8474,13,8479,23,8492,null,null,0,2112]
[12,8658,23,8671,13,8694,14,8699,null,null,0,1211]
[12,8897,14,8906,13,8910,23,8923,null,null,0,1112]
[21,9057,21,9062,11,9072,12,9077,null,null,0,2211]
[12,9198,23,9233,24,9248,14,9260,null,null,0,1221]
[12,9502,14,9508,13,9516,14,9521,null,null,0,1111]
[12,9662,14,9667,13,9677,14,9681,null,null,0,1111]
[12,10429,14,10435,13,10442,23,10459,null,null,0,1112]
[12,10677,23,10690,24,10705,14,10724,null,null,0,1221]
[12,10840,14,10847,13,10878,14,10887,null,null,0,1111]
[12,11093,14,11098,13,11103,14,11106,null,null,0,1111]
[12,11233,14,11238,13,11243,14,11249,null,null,0,1111]
[12,11439,14,11444,13,11450,14,11459,null,null,0,1111]
[12,11572,14,11580,13,11586,14,11589,null,null,0,1111]
[12,11710,14,11720,13,11724,14,11728,null,null,0,1111]
[21,11851,12,11881,13,11886,14,11891,null,null,0,2111]
[12,12056,14,12062,13,12066,14,12076,null,null,0,1111]
[12,12372,14,12377,13,12385,14,12392,null,null,0,1111]
[12,12534,14,12545,13,12553,14,12557,null,null,0,1111]
[12,12680,14,12686,13,12691,14,12696,null,null,0,1111]
[21,12980,21,12988,11,13006,12,13017,null,null,0,2211]
[12,13152,14,13157,13,13162,14,13169,null,null,0,1111]
[12,13343,23,13368,13,13387,14,13393,null,null,0,1211]
[12,13666,14,13691,13,13697,14,13702,null,null,0,1111]
[21,13878,21,13890,22,13895,14,13913,null,null,0,2221]
[12,14109,14,14162,13,14167,14,14173,null,null,0,1111]
[12,14307,14,14338,13,14342,14,14348,null,null,0,1111]
[21,14548,12,14565,13,14573,14,14579,null,null,0,2111]
[21,14732,21,14746,22,14770,23,14780,null,null,0,2222]
[12,14890,23,14906,24,14911,14,14926,null,null,0,1221]
[21,15079,12,15114,13,15118,14,15123,null,null,0,2111]
[12,15440,14,15468,13,15473,14,15482,null,null,0,1111]
[12,15642,14,15649,13,15655,14,15661,null,null,0,1111]
[21,15796,21,15802,11,15813,12,15825,null,null,0,2211]
[21,15996,21,16003,11,16017,12,16040,null,null,0,2211]
[21,16155,12,16191,13,16197,14,16201,null,null,0,2111]
[12,16318,14,16365,24,16386,23,16398,null,null,0,1122]
[21,16565,12,16591,13,16603,14,16608,null,null,0,2111]
[12,16710,14,16717,24,16734,23,16742,null,null,0,1122]
[12,16959,23,16973,24,16979,23,16987,null,null,0,1222]
[12,17132,14,17137,13,17144,14,17149,null,null,0,1111]
[21,17419,12,17448,13,17453,14,17464,null,null,0,2111]
[21,17579,12,17598,24,17611,23,17617,null,null,0,2122]
[12,17748,14,17753,13,17760,14,17769,null,null,0,1111]
[21,18260,21,18266,22,18277,23,18282,null,null,0,2222]
[12,18404,14,18419,24,18443,14,18458,null,null,0,1121]
[12,18611,14,18620,13,18626,14,18634,null,null,0,1111]
[12,19031,14,19037,13,19043,14,19051,null,null,0,1111]
[12,19175,23,19204,13,19226,14,19232,null,null,0,1211]
[12,21349,14,21355,13,21362,14,21369,null,null,0,1111]
[12,21527,23,21583,24,21590,14,21607,null,null,0,1221]
[12,21807,14,21820,13,21826,14,21835,null,null,0,1111]
[12,21999,14,22004,13,22009,23,22021,null,null,0,1112]
[21,22149,12,22165,13,22169,14,22180,null,null,0,2111]
[21,22695,12,22723,13,22730,14,22741,null,null,0,2111]
[12,23072,14,23078,24,23096,23,23123,null,null,0,1122]
[21,23293,12,23309,13,23314,14,23321,null,null,0,2111]
[21,23487,12,23511,13,23516,14,23521,null,null,0,2111]
[21,23667,21,23697,22,23743,23,23753,null,null,0,2222]
[12,23905,14,23965,24,23982,null,null,null,null,null,112]

{"sheet":"!N108830.092","index":11,"n_rows":54,"n_cols":48,"rows_kept":54,"cut":false,"hidden":false,"merged":[[4,39,4,42],[5,39,5,40],[4,44,4,47],[5,44,5,45],[4,24,4,27],[5,24,5,25],[4,29,4,32],[5,29,5,30],[4,34,4,37],[5,34,5,35],[1,1,1,2],[5,13,5,14],[26,13,26,14],[27,13,27,14],[4,19,4,22],[5,19,5,20]]}
["Report for:!N108830.092"]
["Date:","<date>"]
["Hen:","<hen>",null,null,null,"Correct Sequence",{"$f":"Start!J2","v":2212},null,null,null,null,null,null,null,null,"Total Sequences in Data",{"$f":"4994-COUNTBLANK(L7:L5000)","v":48},null,null,null,null,"Total Sequences in Block Data",{"$f":"COUNTA(L7:L14)","v":8},null,null,null,"Total Sequences in Block Data",{"$f":"COUNTA(L15:L22)","v":8},null,null,null,"Total Sequences in Block Data",{"$f":"COUNTA(L23:L30)","v":8},null,null,null,"Total Sequences in Block Data",{"$f":"COUNTA(L31:L38)","v":8},null,null,null,"Total Sequences in Block Data",{"$f":"COUNTA(L39:L46)","v":8},null,null,null,"Total Sequences in Block Data",{"$f":"COUNTA(L47:L54)","v":8}]
[null,null,null,null,null,null,null,null,null,null,null,null,null,null,null,"Total Sequences in Summary",{"$f":"SUM(O7:O22)","v":48},null,null,null,null,"Total Sequences in Block Summary",{"$f":"SUM(U7:U22)","v":8},null,null,null,"Total Sequences in Block Summary",{"$f":"SUM(Z7:Z22)","v":8},null,null,null,"Total Sequences in Block Summary",{"$f":"SUM(AE7:AE22)","v":8},null,null,null,"Total Sequences in Block Summary",{"$f":"SUM(AJ7:AJ22)","v":8},null,null,null,"Total Sequences in Block Summary",{"$f":"SUM(AO7:AO22)","v":8},null,null,null,"Total Sequences in Block Summary",{"$f":"SUM(AT7:AT22)","v":8}]
[null,null,null,null,null,null,null,null,null,null,null,null,null,null,null,null,null,null,null,"Block 1",null,null,null,null,"Block 2",null,null,null,null,"Block 3",null,null,null,null,"Block 4",null,null,null,null,"Block 5",null,null,null,null,"Block 6"]
["Sequence\nComponent\n1","Time\n1","Sequence\nComponent\n2","Time\n2","Sequence\nComponent\n3","Time\n3","Sequence\nComponent\n4","Time\n4","Sequence\nComponent\n5","Time\n5","Correct?\n0=No 1=Yes","Sequence",null,"Frequency",null,"Relative Frequency","Variability",null,null,"Frequency",null,"Relative Frequency","Variability",null,"Frequency",null,"Relative Frequency","Variability",null,"Frequency",null,"Relative Frequency","Variability",null,"Frequency",null,"Relative Frequency","Variability",null,"Frequency",null,"Relative Frequency","Variability",null,"Frequency",null,"Relative Frequency","Variability"]
[21,30,21,56,22,77,14,93,null,null,0,2221,null,1111,{"$f":"COUNTIF($L$7:$L$500,N7)","v":21},{"$f":"O7/$Q$4","v":0.4375},{"$f":"IF(P7=0,0,(P7*((LOG(P7))/LOG(2))))","v":-0.52178222159979815},null,null,{"$f":"N7","v":1111},{"$f":"COUNTIF(L7:L14,T7)","v":1},{"$f":"U7/(W4-U20)","v":0.125},{"$f":"IF(V7=0,0,(V7*((LOG(V7))/LOG(2))))","v":-0.375},null,{"$f":"N7","v":1111},{"$f":"COUNTIF(L15:L22,Y7)","v":3},{"$f":"Z7/(AB4-Z20)","v":0.375},{"$f":"IF(AA7=0,0,(AA7*((LOG(AA7))/LOG(2))))","v":-0.53063906222956647},null,{"$f":"N7","v":1111},{"$f":"COUNTIF(L23:L30,AD7)","v":6},{"$f":"AE7/(AG4-AE20)","v":0.75},{"$f":"IF(AF7=0,0,(AF7*((LOG(AF7))/LOG(2))))","v":-0.31127812445913283},null,{"$f":"N7","v":1111},{"$f":"COUNTIF(L31:L38,AI7)","v":4},{"$f":"AJ7/(AL4-AJ20)","v":0.5},{"$f":"IF(AK7=0,0,(AK7*((LOG(AK7))/LOG(2))))","v":-0.5},null,{"$f":"N7","v":1111},{"$f":"COUNTIF(L39:L46,AN7)","v":5},{"$f":"AO7/(AQ4-AO20)","v":0.625},{"$f":"IF(AP7=0,0,(AP7*((LOG(AP7))/LOG(2))))","v":-0.42379494069539858},null,{"$f":"N7","v":1111},{"$f":"COUNTIF(L47:L54,AS7)","v":2},{"$f":"AT7/(AV4-AT20)","v":0.25},{"$f":"IF(AU7=0,0,(AU7*((LOG(AU7))/LOG(2))))","v":-0.5}]
[12,241,23,252,24,259,14,271,null,null,0,1221,null,1112,{"$f":"COUNTIF($L$7:$L$500,N8)","v":2},{"$f":"O8/$Q$4","v":4.1666666666666664E-2},{"$f":"IF(P8=0,0,(P8*((LOG(P8))/LOG(2))))","v":-0.19104010419671485},null,null,{"$f":"N8","v":1112},{"$f":"COUNTIF(L7:L14,T8)","v":0},{"$f":"U8/(W4-U20)","v":0},{"$f":"IF(V8=0,0,(V8*((LOG(V8))/LOG(2))))","v":0},null,{"$f":"N8","v":1112},{"$f":"COUNTIF(L15:L22,Y8)","v":0},{"$f":"Z8/(AB4-Z20)","v":0},{"$f":"IF(AA8=0,0,(AA8*((LOG(AA8))/LOG(2))))","v":0},null,{"$f":"N8","v":1112},{"$f":"COUNTIF(L23:L30,AD8)","v":1},{"$f":"AE8/(AG4-AE20)","v":0.125},{"$f":"IF(AF8=0,0,(AF8*((LOG(AF8))/LOG(2))))","v":-0.375},null,{"$f":"N8","v":1112},{"$f":"COUNTIF(L31:L38,AI8)","v":0},{"$f":"AJ8/(AL4-AJ20)","v":0},{"$f":"IF(AK8=0,0,(AK8*((LOG(AK8))/LOG(2))))","v":0},null,{"$f":"N8","v":1112},{"$f":"COUNTIF(L39:L46,AN8)","v":1},{"$f":"AO8/(AQ4-AO20)","v":0.125},{"$f":"IF(AP8=0,0,(AP8*((LOG(AP8))/LOG(2))))","v":-0.375},null,{"$f":"N8","v":1112},{"$f":"COUNTIF(L47:L54,AS8)","v":0},{"$f":"AT8/(AV4-AT20)","v":0},{"$f":"IF(AU8=0,0,(AU8*((LOG(AU8))/LOG(2))))","v":0}]
[21,394,12,414,24,425,23,431,null,null,0,2122,null,1121,{"$f":"COUNTIF($L$7:$L$500,N9)","v":5},{"$f":"O9/$Q$4","v":0.10416666666666667},{"$f":"IF(P9=0,0,(P9*((LOG(P9))/LOG(2))))","v":-0.33989941727435352},null,null,{"$f":"N9","v":1121},{"$f":"COUNTIF(L7:L14,T9)","v":1},{"$f":"U9/(W4-U20)","v":0.125},{"$f":"IF(V9=0,0,(V9*((LOG(V9))/LOG(2))))","v":-0.375},null,{"$f":"N9","v":1121},{"$f":"COUNTIF(L15:L22,Y9)","v":1},{"$f":"Z9/(AB4-Z20)","v":0.125},{"$f":"IF(AA9=0,0,(AA9*((LOG(AA9))/LOG(2))))","v":-0.375},null,{"$f":"N9","v":1121},{"$f":"COUNTIF(L23:L30,AD9)","v":0},{"$f":"AE9/(AG4-AE20)","v":0},{"$f":"IF(AF9=0,0,(AF9*((LOG(AF9))/LOG(2))))","v":0},null,{"$f":"N9","v":1121},{"$f":"COUNTIF(L31:L38,AI9)","v":2},{"$f":"AJ9/(AL4-AJ20)","v":0.25},{"$f":"IF(AK9=0,0,(AK9*((LOG(AK9))/LOG(2))))","v":-0.5},null,{"$f":"N9","v":1121},{"$f":"COUNTIF(L39:L46,AN9)","v":1},{"$f":"AO9/(AQ4-AO20)","v":0.125},{"$f":"IF(AP9=0,0,(AP9*((LOG(AP9))/LOG(2))))","v":-0.375},null,{"$f":"N9","v":1121},{"$f":"COUNTIF(L47:L54,AS9)","v":0},{"$f":"AT9/(AV4-AT20)","v":0},{"$f":"IF(AU9=0,0,(AU9*((LOG(AU9))/LOG(2))))","v":0}]
[12,560,14,565,24,577,14,591,null,null,0,1121,null,1122,{"$f":"COUNTIF($L$7:$L$500,N10)","v":0},{"$f":"O10/$Q$4","v":0},{"$f":"IF(P10=0,0,(P10*((LOG(P10))/LOG(2))))","v":0},null,null,{"$f":"N10","v":1122},{"$f":"COUNTIF(L7:L14,T10)","v":0},{"$f":"U10/(W4-U20)","v":0},{"$f":"IF(V10=0,0,(V10*((LOG(V10))/LOG(2))))","v":0},null,{"$f":"N10","v":1122},{"$f":"COUNTIF(L15:L22,Y10)","v":0},{"$f":"Z10/(AB4-Z20)","v":0},{"$f":"IF(AA10=0,0,(AA10*((LOG(AA10))/LOG(2))))","v":0},null,{"$f":"N10","v":1122},{"$f":"COUNTIF(L23:L30,AD10)","v":0},{"$f":"AE10/(AG4-AE20)","v":0},{"$f":"IF(AF10=0,0,(AF10*((LOG(AF10))/LOG(2))))","v":0},null,{"$f":"N10","v":1122},{"$f":"COUNTIF(L31:L38,AI10)","v":0},{"$f":"AJ10/(AL4-AJ20)","v":0},{"$f":"IF(AK10=0,0,(AK10*((LOG(AK10))/LOG(2))))","v":0},null,{"$f":"N10","v":1122},{"$f":"COUNTIF(L39:L46,AN10)","v":0},{"$f":"AO10/(AQ4-AO20)","v":0},{"$f":"IF(AP10=0,0,(AP10*((LOG(AP10))/LOG(2))))","v":0},null,{"$f":"N10","v":1122},{"$f":"COUNTIF(L47:L54,AS10)","v":0},{"$f":"AT10/(AV4-AT20)","v":0},{"$f":"IF(AU10=0,0,(AU10*((LOG(AU10))/LOG(2))))","v":0}]
[21,717,12,735,13,745,14,751,null,null,0,2111,null,1211,{"$f":"COUNTIF($L$7:$L$500,N11)","v":4},{"$f":"O11/$Q$4","v":8.3333333333333329E-2},{"$f":"IF(P11=0,0,(P11*((LOG(P11))/LOG(2))))","v":-0.29874687506009634},null,null,{"$f":"N11","v":1211},{"$f":"COUNTIF(L7:L14,T11)","v":1},{"$f":"U11/(W4-U20)","v":0.125},{"$f":"IF(V11=0,0,(V11*((LOG(V11))/LOG(2))))","v":-0.375},null,{"$f":"N11","v":1211},{"$f":"COUNTIF(L15:L22,Y11)","v":1},{"$f":"Z11/(AB4-Z20)","v":0.125},{"$f":"IF(AA11=0,0,(AA11*((LOG(AA11))/LOG(2))))","v":-0.375},null,{"$f":"N11","v":1211},{"$f":"COUNTIF(L23:L30,AD11)","v":1},{"$f":"AE11/(AG4-AE20)","v":0.125},{"$f":"IF(AF11=0,0,(AF11*((LOG(AF11))/LOG(2))))","v":-0.375},null,{"$f":"N11","v":1211},{"$f":"COUNTIF(L31:L38,AI11)","v":0},{"$f":"AJ11/(AL4-AJ20)","v":0},{"$f":"IF(AK11=0,0,(AK11*((LOG(AK11))/LOG(2))))","v":0},null,{"$f":"N11","v":1211},{"$f":"COUNTIF(L39:L46,AN11)","v":0},{"$f":"AO11/(AQ4-AO20)","v":0},{"$f":"IF(AP11=0,0,(AP11*((LOG(AP11))/LOG(2))))","v":0},null,{"$f":"N11","v":1211},{"$f":"COUNTIF(L47:L54,AS11)","v":1},{"$f":"AT11/(AV4-AT20)","v":0.125},{"$f":"IF(AU11=0,0,(AU11*((LOG(AU11))/LOG(2))))","v":-0.375}]
[12,861,23,876,24,883,23,892,null,null,0,1222,null,1212,{"$f":"COUNTIF($L$7:$L$500,N12)","v":1},{"$f":"O12/$Q$4","v":2.0833333333333332E-2},{"$f":"IF(P12=0,0,(P12*((LOG(P12))/LOG(2))))","v":-0.11635338543169074},null,null,{"$f":"N12","v":1212},{"$f":"COUNTIF(L7:L14,T12)","v":0},{"$f":"U12/(W4-U20)","v":0},{"$f":"IF(V12=0,0,(V12*((LOG(V12))/LOG(2))))","v":0},null,{"$f":"N12","v":1212},{"$f":"COUNTIF(L15:L22,Y12)","v":1},{"$f":"Z12/(AB4-Z20)","v":0.125},{"$f":"IF(AA12=0,0,(AA12*((LOG(AA12))/LOG(2))))","v":-0.375},null,{"$f":"N12","v":1212},{"$f":"COUNTIF(L23:L30,AD12)","v":0},{"$f":"AE12/(AG4-AE20)","v":0},{"$f":"IF(AF12=0,0,(AF12*((LOG(AF12))/LOG(2))))","v":0},null,{"$f":"N12","v":1212},{"$f":"COUNTIF(L31:L38,AI12)","v":0},{"$f":"AJ12/(AL4-AJ20)","v":0},{"$f":"IF(AK12=0,0,(AK12*((LOG(AK12))/LOG(2))))","v":0},null,{"$f":"N12","v":1212},{"$f":"COUNTIF(L39:L46,AN12)","v":0},{"$f":"AO12/(AQ4-AO20)","v":0},{"$f":"IF(AP12=0,0,(AP12*((LOG(AP12))/LOG(2))))","v":0},null,{"$f":"N12","v":1212},{"$f":"COUNTIF(L47:L54,AS12)","v":0},{"$f":"AT12/(AV4-AT20)","v":0},{"$f":"IF(AU12=0,0,(AU12*((LOG(AU12))/LOG(2))))","v":0}]
[12,1056,23,1077,13,1096,14,1102,null,null,0,1211,null,1221,{"$f":"COUNTIF($L$7:$L$500,N13)","v":1},{"$f":"O13/$Q$4","v":2.0833333333333332E-2},{"$f":"IF(P13=0,0,(P13*((LOG(P13))/LOG(2))))","v":-0.11635338543169074},null,null,{"$f":"N13","v":1221},{"$f":"COUNTIF(L7:L14,T13)","v":1},{"$f":"U13/(W4-U20)","v":0.125},{"$f":"IF(V13=0,0,(V13*((LOG(V13))/LOG(2))))","v":-0.375},null,{"$f":"N13","v":1221},{"$f":"COUNTIF(L15:L22,Y13)","v":0},{"$f":"Z13/(AB4-Z20)","v":0},{"$f":"IF(AA13=0,0,(AA13*((LOG(AA13))/LOG(2))))","v":0},null,{"$f":"N13","v":1221},{"$f":"COUNTIF(L23:L30,AD13)","v":0},{"$f":"AE13/(AG4-AE20)","v":0},{"$f":"IF(AF13=0,0,(AF13*((LOG(AF13))/LOG(2))))","v":0},null,{"$f":"N13","v":1221},{"$f":"COUNTIF(L31:L38,AI13)","v":0},{"$f":"AJ13/(AL4-AJ20)","v":0},{"$f":"IF(AK13=0,0,(AK13*((LOG(AK13))/LOG(2))))","v":0},null,{"$f":"N13","v":1221},{"$f":"COUNTIF(L39:L46,AN13)","v":0},{"$f":"AO13/(AQ4-AO20)","v":0},{"$f":"IF(AP13=0,0,(AP13*((LOG(AP13))/LOG(2))))","v":0},null,{"$f":"N13","v":1221},{"$f":"COUNTIF(L47:L54,AS13)","v":0},{"$f":"AT13/(AV4-AT20)","v":0},{"$f":"IF(AU13=0,0,(AU13*((LOG(AU13))/LOG(2))))","v":0}]
[12,1324,14,1338,13,1349,14,1382,null,null,0,1111,null,1222,{"$f":"COUNTIF($L$7:$L$500,N14)","v":1},{"$f":"O14/$Q$4","v":2.0833333333333332E-2},{"$f":"IF(P14=0,0,(P14*((LOG(P14))/LOG(2))))","v":-0.11635338543169074},null,null,{"$f":"N14","v":1222},{"$f":"COUNTIF(L7:L14,T14)","v":1},{"$f":"U14/(W4-U20)","v":0.125},{"$f":"IF(V14=0,0,(V14*((LOG(V14))/LOG(2))))","v":-0.375},null,{"$f":"N14","v":1222},{"$f":"COUNTIF(L15:L22,Y14)","v":0},{"$f":"Z14/(AB4-Z20)","v":0},{"$f":"IF(AA14=0,0,(AA14*((LOG(AA14))/LOG(2))))","v":0},null,{"$f":"N14","v":1222},{"$f":"COUNTIF(L23:L30,AD14)","v":0},{"$f":"AE14/(AG4-AE20)","v":0},{"$f":"IF(AF14=0,0,(AF14*((LOG(AF14))/LOG(2))))","v":0},null,{"$f":"N14","v":1222},{"$f":"COUNTIF(L31:L38,AI14)","v":0},{"$f":"AJ14/(AL4-AJ20)","v":0},{"$f":"IF(AK14=0,0,(AK14*((LOG(AK14))/LOG(2))))","v":0},null,{"$f":"N14","v":1222},{"$f":"COUNTIF(L39:L46,AN14)","v":0},{"$f":"AO14/(AQ4-AO20)","v":0},{"$f":"IF(AP14=0,0,(AP14*((LOG(AP14))/LOG(2))))","v":0},null,{"$f":"N14","v":1222},{"$f":"COUNTIF(L47:L54,AS14)","v":0},{"$f":"AT14/(AV4-AT20)","v":0},{"$f":"IF(AU14=0,0,(AU14*((LOG(AU14))/LOG(2))))","v":0}]
[12,1487,14,1511,13,1517,14,1523,null,null,0,1111,null,2111,{"$f":"COUNTIF($L$7:$L$500,N15)","v":9},{"$f":"O15/$Q$4","v":0.1875},{"$f":"IF(P15=0,0,(P15*((LOG(P15))/LOG(2))))","v":-0.45281953111478312},null,null,{"$f":"N15","v":2111},{"$f":"COUNTIF(L7:L14,T15)","v":1},{"$f":"U15/(W4-U20)","v":0.125},{"$f":"IF(V15=0,0,(V15*((LOG(V15))/LOG(2))))","v":-0.375},null,{"$f":"N15","v":2111},{"$f":"COUNTIF(L15:L22,Y15)","v":1},{"$f":"Z15/(AB4-Z20)","v":0.125},{"$f":"IF(AA15=0,0,(AA15*((LOG(AA15))/LOG(2))))","v":-0.375},null,{"$f":"N15","v":2111},{"$f":"COUNTIF(L23:L30,AD15)","v":0},{"$f":"AE15/(AG4-AE20)","v":0},{"$f":"IF(AF15=0,0,(AF15*((LOG(AF15))/LOG(2))))","v":0},null,{"$f":"N15","v":2111},{"$f":"COUNTIF(L31:L38,AI15)","v":1},{"$f":"AJ15/(AL4-AJ20)","v":0.125},{"$f":"IF(AK15=0,0,(AK15*((LOG(AK15))/LOG(2))))","v":-0.375},null,{"$f":"N15","v":2111},{"$f":"COUNTIF(L39:L46,AN15)","v":1},{"$f":"AO15/(AQ4-AO20)","v":0.125},{"$f":"IF(AP15=0,0,(AP15*((LOG(AP15))/LOG(2))))","v":-0.375},null,{"$f":"N15","v":2111},{"$f":"COUNTIF(L47:L54,AS15)","v":5},{"$f":"AT15/(AV4-AT20)","v":0.625},{"$f":"IF(AU15=0,0,(AU15*((LOG(AU15))/LOG(2))))","v":-0.42379494069539858}]
[12,1873,14,1883,13,1890,14,1902,null,null,0,1111,null,2112,{"$f":"COUNTIF($L$7:$L$500,N16)","v":0},{"$f":"O16/$Q$4","v":0},{"$f":"IF(P16=0,0,(P16*((LOG(P16))/LOG(2))))","v":0},null,null,{"$f":"N16","v":2112},{"$f":"COUNTIF(L7:L14,T16)","v":0},{"$f":"U16/(W4-U20)","v":0},{"$f":"IF(V16=0,0,(V16*((LOG(V16))/LOG(2))))","v":0},null,{"$f":"N16","v":2112},{"$f":"COUNTIF(L15:L22,Y16)","v":0},{"$f":"Z16/(AB4-Z20)","v":0},{"$f":"IF(AA16=0,0,(AA16*((LOG(AA16))/LOG(2))))","v":0},null,{"$f":"N16","v":2112},{"$f":"COUNTIF(L23:L30,AD16)","v":0},{"$f":"AE16/(AG4-AE20)","v":0},{"$f":"IF(AF16=0,0,(AF16*((LOG(AF16))/LOG(2))))","v":0},null,{"$f":"N16","v":2112},{"$f":"COUNTIF(L31:L38,AI16)","v":0},{"$f":"AJ16/(AL4-AJ20)","v":0},{"$f":"IF(AK16=0,0,(AK16*((LOG(AK16))/LOG(2))))","v":0},null,{"$f":"N16","v":2112},{"$f":"COUNTIF(L39:L46,AN16)","v":0},{"$f":"AO16/(AQ4-AO20)","v":0},{"$f":"IF(AP16=0,0,(AP16*((LOG(AP16))/LOG(2))))","v":0},null,{"$f":"N16","v":2112},{"$f":"COUNTIF(L47:L54,AS16)","v":0},{"$f":"AT16/(AV4-AT20)","v":0},{"$f":"IF(AU16=0,0,(AU16*((LOG(AU16))/LOG(2))))","v":0}]
[12,2476,14,2483,24,2496,14,2518,null,null,0,1121,null,2121,{"$f":"COUNTIF($L$7:$L$500,N17)","v":0},{"$f":"O17/$Q$4","v":0},{"$f":"IF(P17=0,0,(P17*((LOG(P17))/LOG(2))))","v":0},null,null,{"$f":"N17","v":2121},{"$f":"COUNTIF(L7:L14,T17)","v":0},{"$f":"U17/(W4-U20)","v":0},{"$f":"IF(V17=0,0,(V17*((LOG(V17))/LOG(2))))","v":0},null,{"$f":"N17","v":2121},{"$f":"COUNTIF(L15:L22,Y17)","v":0},{"$f":"Z17/(AB4-Z20)","v":0},{"$f":"IF(AA17=0,0,(AA17*((LOG(AA17))/LOG(2))))","v":0},null,{"$f":"N17","v":2121},{"$f":"COUNTIF(L23:L30,AD17)","v":0},{"$f":"AE17/(AG4-AE20)","v":0},{"$f":"IF(AF17=0,0,(AF17*((LOG(AF17))/LOG(2))))","v":0},null,{"$f":"N17","v":2121},{"$f":"COUNTIF(L31:L38,AI17)","v":0},{"$f":"AJ17/(AL4-AJ20)","v":0},{"$f":"IF(AK17=0,0,(AK17*((LOG(AK17))/LOG(2))))","v":0},null,{"$f":"N17","v":2121},{"$f":"COUNTIF(L39:L46,AN17)","v":0},{"$f":"AO17/(AQ4-AO20)","v":0},{"$f":"IF(AP17=0,0,(AP17*((LOG(AP17))/LOG(2))))","v":0},null,{"$f":"N17","v":2121},{"$f":"COUNTIF(L47:L54,AS17)","v":0},{"$f":"AT17/(AV4-AT20)","v":0},{"$f":"IF(AU17=0,0,(AU17*((LOG(AU17))/LOG(2))))","v":0}]
[12,2799,23,2834,13,2854,23,2866,null,null,0,1212,null,2122,{"$f":"COUNTIF($L$7:$L$500,N18)","v":2},{"$f":"O18/$Q$4","v":4.1666666666666664E-2},{"$f":"IF(P18=0,0,(P18*((LOG(P18))/LOG(2))))","v":-0.19104010419671485},null,null,{"$f":"N18","v":2122},{"$f":"COUNTIF(L7:L14,T18)","v":1},{"$f":"U18/(W4-U20)","v":0.125},{"$f":"IF(V18=0,0,(V18*((LOG(V18))/LOG(2))))","v":-0.375},null,{"$f":"N18","v":2122},{"$f":"COUNTIF(L15:L22,Y18)","v":1},{"$f":"Z18/(AB4-Z20)","v":0.125},{"$f":"IF(AA18=0,0,(AA18*((LOG(AA18))/LOG(2))))","v":-0.375},null,{"$f":"N18","v":2122},{"$f":"COUNTIF(L23:L30,AD18)","v":0},{"$f":"AE18/(AG4-AE20)","v":0},{"$f":"IF(AF18=0,0,(AF18*((LOG(AF18))/LOG(2))))","v":0},null,{"$f":"N18","v":2122},{"$f":"COUNTIF(L31:L38,AI18)","v":0},{"$f":"AJ18/(AL4-AJ20)","v":0},{"$f":"IF(AK18=0,0,(AK18*((LOG(AK18))/LOG(2))))","v":0},null,{"$f":"N18","v":2122},{"$f":"COUNTIF(L39:L46,AN18)","v":0},{"$f":"AO18/(AQ4-AO20)","v":0},{"$f":"IF(AP18=0,0,(AP18*((LOG(AP18))/LOG(2))))","v":0},null,{"$f":"N18","v":2122},{"$f":"COUNTIF(L47:L54,AS18)","v":0},{"$f":"AT18/(AV4-AT20)","v":0},{"$f":"IF(AU18=0,0,(AU18*((LOG(AU18))/LOG(2))))","v":0}]
[21,3199,12,3232,24,3249,23,3300,null,null,0,2122,null,2211,{"$f":"COUNTIF($L$7:$L$500,N19)","v":1},{"$f":"O19/$Q$4","v":2.0833333333333332E-2},{"$f":"IF(P19=0,0,(P19*((LOG(P19))/LOG(2))))","v":-0.11635338543169074},null,null,{"$f":"N19","v":2211},{"$f":"COUNTIF(L7:L14,T19)","v":0},{"$f":"U19/(W4-U20)","v":0},{"$f":"IF(V19=0,0,(V19*((LOG(V19))/LOG(2))))","v":0},null,{"$f":"N19","v":2211},{"$f":"COUNTIF(L15:L22,Y19)","v":0},{"$f":"Z19/(AB4-Z20)","v":0},{"$f":"IF(AA19=0,0,(AA19*((LOG(AA19))/LOG(2))))","v":0},null,{"$f":"N19","v":2211},{"$f":"COUNTIF(L23:L30,AD19)","v":0},{"$f":"AE19/(AG4-AE20)","v":0},{"$f":"IF(AF19=0,0,(AF19*((LOG(AF19))/LOG(2))))","v":0},null,{"$f":"N19","v":2211},{"$f":"COUNTIF(L31:L38,AI19)","v":1},{"$f":"AJ19/(AL4-AJ20)","v":0.125},{"$f":"IF(AK19=0,0,(AK19*((LOG(AK19))/LOG(2))))","v":-0.375},null,{"$f":"N19","v":2211},{"$f":"COUNTIF(L39:L46,AN19)","v":0},{"$f":"AO19/(AQ4-AO20)","v":0},{"$f":"IF(AP19=0,0,(AP19*((LOG(AP19))/LOG(2))))","v":0},null,{"$f":"N19","v":2211},{"$f":"COUNTIF(L47:L54,AS19)","v":0},{"$f":"AT19/(AV4-AT20)","v":0},{"$f":"IF(AU19=0,0,(AU19*((LOG(AU19))/LOG(2))))","v":0}]
[21,3565,12,3587,13,3598,14,3611,null,null,0,2111,null,2212,{"$f":"COUNTIF($L$7:$L$500,N20)","v":0},{"$f":"O20/$Q$4","v":0},{"$f":"IF(P20=0,0,(P20*((LOG(P20))/LOG(2))))","v":0},null,null,{"$f":"N20","v":2212},{"$f":"COUNTIF(L7:L14,T20)","v":0},null,null,null,{"$f":"N20","v":2212},{"$f":"COUNTIF(L15:L22,Y20)","v":0},null,null,null,{"$f":"N20","v":2212},{"$f":"COUNTIF(L23:L30,AD20)","v":0},null,null,null,{"$f":"N20","v":2212},{"$f":"COUNTIF(L31:L38,AI20)","v":0},null,null,null,{"$f":"N20","v":2212},{"$f":"COUNTIF(L39:L46,AN20)","v":0},null,null,null,{"$f":"N20","v":2212},{"$f":"COUNTIF(L47:L54,AS20)","v":0}]
[12,3824,23,3850,13,3873,14,3878,null,null,0,1211,null,2221,{"$f":"COUNTIF($L$7:$L$500,N21)","v":1},{"$f":"O21/$Q$4","v":2.0833333333333332E-2},{"$f":"IF(P21=0,0,(P21*((LOG(P21))/LOG(2))))","v":-0.11635338543169074},null,null,{"$f":"N21","v":2221},{"$f":"COUNTIF(L7:L14,T21)","v":1},{"$f":"U21/(W4-U20)","v":0.125},{"$f":"IF(V21=0,0,(V21*((LOG(V21))/LOG(2))))","v":-0.375},null,{"$f":"N21","v":2221},{"$f":"COUNTIF(L15:L22,Y21)","v":0},{"$f":"Z21/(AB4-Z20)","v":0},{"$f":"IF(AA21=0,0,(AA21*((LOG(AA21))/LOG(2))))","v":0},null,{"$f":"N21","v":2221},{"$f":"COUNTIF(L23:L30,AD21)","v":0},{"$f":"AE21/(AG4-AE20)","v":0},{"$f":"IF(AF21=0,0,(AF21*((LOG(AF21))/LOG(2))))","v":0},null,{"$f":"N21","v":2221},{"$f":"COUNTIF(L31:L38,AI21)","v":0},{"$f":"AJ21/(AL4-AJ20)","v":0},{"$f":"IF(AK21=0,0,(AK21*((LOG(AK21))/LOG(2))))","v":0},null,{"$f":"N21","v":2221},{"$f":"COUNTIF(L39:L46,AN21)","v":0},{"$f":"AO21/(AQ4-AO20)","v":0},{"$f":"IF(AP21=0,0,(AP21*((LOG(AP21))/LOG(2))))","v":0},null,{"$f":"N21","v":2221},{"$f":"COUNTIF(L47:L54,AS21)","v":0},{"$f":"AT21/(AV4-AT20)","v":0},{"$f":"IF(AU21=0,0,(AU21*((LOG(AU21))/LOG(2))))","v":0}]
[12,4040,14,4089,13,4094,14,4101,null,null,0,1111,null,2222,{"$f":"COUNTIF($L$7:$L$500,N22)","v":0},{"$f":"O22/$Q$4","v":0},{"$f":"IF(P22=0,0,(P22*((LOG(P22))/LOG(2))))","v":0},null,null,{"$f":"N22","v":2222},{"$f":"COUNTIF(L7:L14,T22)","v":0},{"$f":"U22/(W4-U20)","v":0},{"$f":"IF(V22=0,0,(V22*((LOG(V22))/LOG(2))))","v":0},null,{"$f":"N22","v":2222},{"$f":"COUNTIF(L15:L22,Y22)","v":0},{"$f":"Z22/(AB4-Z20)","v":0},{"$f":"IF(AA22=0,0,(AA22*((LOG(AA22))/LOG(2))))","v":0},null,{"$f":"N22","v":2222},{"$f":"COUNTIF(L23:L30,AD22)","v":0},{"$f":"AE22/(AG4-AE20)","v":0},{"$f":"IF(AF22=0,0,(AF22*((LOG(AF22))/LOG(2))))","v":0},null,{"$f":"N22","v":2222},{"$f":"COUNTIF(L31:L38,AI22)","v":0},{"$f":"AJ22/(AL4-AJ20)","v":0},{"$f":"IF(AK22=0,0,(AK22*((LOG(AK22))/LOG(2))))","v":0},null,{"$f":"N22","v":2222},{"$f":"COUNTIF(L39:L46,AN22)","v":0},{"$f":"AO22/(AQ4-AO20)","v":0},{"$f":"IF(AP22=0,0,(AP22*((LOG(AP22))/LOG(2))))","v":0},null,{"$f":"N22","v":2222},{"$f":"COUNTIF(L47:L54,AS22)","v":0},{"$f":"AT22/(AV4-AT20)","v":0},{"$f":"IF(AU22=0,0,(AU22*((LOG(AU22))/LOG(2))))","v":0}]
[12,4400,14,4412,13,4475,14,4479,null,null,0,1111,null,null,null,{"$f":"SUM(P7:P22)","v":1.0000000000000002},{"$f":"-SUM(Q7:Q22)","v":2.5770951806009141},null,null,null,null,{"$f":"SUM(V7:V22)","v":1},{"$f":"-SUM(W7:W22)","v":3},null,null,null,{"$f":"SUM(AA7:AA22)","v":1},{"$f":"-SUM(AB7:AB22)","v":2.4056390622295662},null,null,null,{"$f":"SUM(AF7:AF22)","v":1},{"$f":"-SUM(AG7:AG22)","v":1.0612781244591329},null,null,null,{"$f":"SUM(AK7:AK22)","v":1},{"$f":"-SUM(AL7:AL22)","v":1.75},null,null,null,{"$f":"SUM(AP7:AP22)","v":1},{"$f":"-SUM(AQ7:AQ22)","v":1.5487949406953985},null,null,null,{"$f":"SUM(AU7:AU22)","v":1},{"$f":"-SUM(AV7:AV22)","v":1.2987949406953985}]
[12,4825,14,4860,13,4865,14,4870,null,null,0,1111,null,null,null,"U=",{"$f":"Q23/(LOG(Q4)/LOG(2))","v":0.4614346435214467},null,null,null,null,"U1=",{"$f":"W23/(LOG(W4)/LOG(2))","v":1},null,null,null,"U2=",{"$f":"AB23/(LOG(AB4)/LOG(2))","v":0.80187968740985538},null,null,null,"U3=",{"$f":"AG23/(LOG(AG4)/LOG(2))","v":0.35375937481971098},null,null,null,"U4=",{"$f":"AL23/(LOG(AL4)/LOG(2))","v":0.58333333333333337},null,null,null,"U5=",{"$f":"AQ23/(LOG(AQ4)/LOG(2))","v":0.51626498023179945},null,null,null,"U6=",{"$f":"AV23/(LOG(AV4)/LOG(2))","v":0.43293164689846614}]
[12,5225,14,5231,13,5237,23,5268,null,null,0,1112]
[12,5642,23,5689,13,5724,14,5733,null,null,0,1211]
[12,5886,14,5901,13,5906,14,5927,null,null,0,1111,null,"Total Target Seq"]
[12,6369,14,6377,13,6381,14,6385,null,null,0,1111,null,{"$f":"COUNTIF(L7:L54,G3)","v":0},null,8,8,8,8,8,8]
[12,6612,14,6623,13,6630,14,6654,null,null,0,1111,null,null,null,"% of reinforcement given in 6 equal intervals based on number of trials "]
[12,6828,14,6834,13,6838,14,6843,null,null,0,1111,null,null,null,"%_1","%_2","%_3","%_4","%_5","%_6"]
[12,7003,14,7294,24,7323,14,7342,null,null,0,1121,null,null,"target sequence",{"$f":"$G$3","v":2212},{"$f":"$G$3","v":2212},{"$f":"$G$3","v":2212},{"$f":"$G$3","v":2212},{"$f":"$G$3","v":2212},{"$f":"$G$3","v":2212}]
[12,7809,14,7815,24,7838,14,7859,null,null,0,1121,null,null,"total reinforcement",{"$f":"U20","v":0},{"$f":"Z20","v":0},{"$f":"AE20","v":0},{"$f":"AJ20","v":0},{"$f":"AO20","v":0},{"$f":"AT20","v":0}]
[12,8029,14,8036,13,8044,14,8048,null,null,0,1111,null,null,"% target"]
[12,9861,14,9867,13,9878,14,9895,null,null,0,1111,null,null,"CCRF"]
[12,10523,14,10536,13,10633,14,10648,null,null,0,1111,null,null,"% CCRf"]
[12,10971,14,10976,13,11001,14,11005,null,null,0,1111,null,null,"average response rate",{"$f":"H14/P28","v":172.75},{"$f":"(H22-H14)/Q28","v":339.875},{"$f":"(H30-H22)/R28","v":342.75},{"$f":"(H38-H30)/S28","v":638.75},{"$f":"(H46-H38)/T28","v":729.75},{"$f":"(H54-H46)/U28","v":613.5}]
[21,11466,21,11468,11,11497,12,11506,null,null,0,2211]
[21,11921,12,11942,13,11947,14,11953,null,null,0,2111]
[12,13324,14,13335,13,13345,14,13351,null,null,0,1111]
[12,13513,14,13524,13,13544,14,13637,null,null,0,1111]
[12,14043,14,14049,13,14067,14,14071,null,null,0,1111]
[12,14548,14,14554,13,14567,14,14575,null,null,0,1111]
[12,15117,14,15135,13,15141,14,15147,null,null,0,1111]
[12,17051,14,17058,13,17064,23,17093,null,null,0,1112]
[12,17520,14,17544,24,17558,14,17576,null,null,0,1121]
[21,17729,12,17774,13,17784,14,17791,null,null,0,2111]
[21,18332,12,18358,13,18368,14,18373,null,null,0,2111]
[12,18670,23,18685,13,18727,14,18737,null,null,0,1211]
[21,19276,12,19300,13,19305,14,19310,null,null,0,2111]
[12,19623,14,19629,13,19634,14,19641,null,null,0,1111]
[12,21822,14,21828,13,21839,14,21855,null,null,0,1111]
[21,22065,12,22100,13,22105,14,22111,null,null,0,2111]
[21,22322,12,22345,13,22351,14,22357,null,null,0,2111]
[21,22651,12,22685,13,22691,14,22699,null,null,0,2111]

{"sheet":"!N109730.092","index":12,"n_rows":99,"n_cols":48,"rows_kept":99,"cut":false,"hidden":false,"merged":[[4,39,4,42],[5,39,5,40],[4,44,4,47],[5,44,5,45],[4,24,4,27],[5,24,5,25],[4,29,4,32],[5,29,5,30],[4,34,4,37],[5,34,5,35],[1,1,1,2],[5,13,5,14],[26,13,26,14],[27,13,27,14],[4,19,4,22],[5,19,5,20]]}
["Report for:!N109730.092"]
["Date:","<date>"]
["Hen:","<hen>",null,null,null,"Correct Sequence",{"$f":"Start!J2","v":2212},null,null,null,null,null,null,null,null,"Total Sequences in Data",{"$f":"4994-COUNTBLANK(L7:L5000)","v":93},null,null,null,null,"Total Sequences in Block Data",{"$f":"COUNTA(L7:L22)","v":16},null,null,null,"Total Sequences in Block Data",{"$f":"COUNTA(L23:L37)","v":15},null,null,null,"Total Sequences in Block Data",{"$f":"COUNTA(L38:L53)","v":16},null,null,null,"Total Sequences in Block Data",{"$f":"COUNTA(L54:L68)","v":15},null,null,null,"Total Sequences in Block Data",{"$f":"COUNTA(L69:L84)","v":16},null,null,null,"Total Sequences in Block Data",{"$f":"COUNTA(L85:L99)","v":15}]
[null,null,null,null,null,null,null,null,null,null,null,null,null,null,null,"Total Sequences in Summary",{"$f":"SUM(O7:O22)","v":93},null,null,null,null,"Total Sequences in Block Summary",{"$f":"SUM(U7:U22)","v":16},null,null,null,"Total Sequences in Block Summary",{"$f":"SUM(Z7:Z22)","v":15},null,null,null,"Total Sequences in Block Summary",{"$f":"SUM(AE7:AE22)","v":16},null,null,null,"Total Sequences in Block Summary",{"$f":"SUM(AJ7:AJ22)","v":15},null,null,null,"Total Sequences in Block Summary",{"$f":"SUM(AO7:AO22)","v":16},null,null,null,"Total Sequences in Block Summary",{"$f":"SUM(AT7:AT22)","v":15}]
[null,null,null,null,null,null,null,null,null,null,null,null,null,null,null,null,null,null,null,"Block 1",null,null,null,null,"Block 2",null,null,null,null,"Block 3",null,null,null,null,"Block 4",null,null,null,null,"Block 5",null,null,null,null,"Block 6"]
["Sequence\nComponent\n1","Time\n1","Sequence\nComponent\n2","Time\n2","Sequence\nComponent\n3","Time\n3","Sequence\nComponent\n4","Time\n4","Sequence\nComponent\n5","Time\n5","Correct?\n0=No 1=Yes","Sequence",null,"Frequency",null,"Relative Frequency","Variability",null,null,"Frequency",null,"Relative Frequency","Variability",null,"Frequency",null,"Relative Frequency","Variability",null,"Frequency",null,"Relative Frequency","Variability",null,"Frequency",null,"Relative Frequency","Variability",null,"Frequency",null,"Relative Frequency","Variability",null,"Frequency",null,"Relative Frequency","Variability"]
[12,102,23,111,13,124,23,134,null,null,0,1212,null,1111,{"$f":"COUNTIF($L$7:$L$500,N7)","v":19},{"$f":"O7/$Q$4","v":0.20430107526881722},{"$f":"IF(P7=0,0,(P7*((LOG(P7))/LOG(2))))","v":-0.4681010178024137},null,null,{"$f":"N7","v":1111},{"$f":"COUNTIF(L7:L22,T7)","v":2},{"$f":"U7/(W4-U20)","v":0.13333333333333333},{"$f":"IF(V7=0,0,(V7*((LOG(V7))/LOG(2))))","v":-0.3875854127478025},null,{"$f":"N7","v":1111},{"$f":"COUNTIF(L23:L37,Y7)","v":3},{"$f":"Z7/(AB4-Z20)","v":0.21428571428571427},{"$f":"IF(AA7=0,0,(AA7*((LOG(AA7))/LOG(2))))","v":-0.47622694742923877},null,{"$f":"N7","v":1111},{"$f":"COUNTIF(L38:L53,AD7)","v":2},{"$f":"AE7/(AG4-AE20)","v":0.125},{"$f":"IF(AF7=0,0,(AF7*((LOG(AF7))/LOG(2))))","v":-0.375},null,{"$f":"N7","v":1111},{"$f":"COUNTIF(L54:L68,AI7)","v":3},{"$f":"AJ7/(AL4-AJ20)","v":0.2},{"$f":"IF(AK7=0,0,(AK7*((LOG(AK7))/LOG(2))))","v":-0.46438561897747244},null,{"$f":"N7","v":1111},{"$f":"COUNTIF(L69:L84,AN7)","v":6},{"$f":"AO7/(AQ4-AO20)","v":0.4},{"$f":"IF(AP7=0,0,(AP7*((LOG(AP7))/LOG(2))))","v":-0.52877123795494496},null,{"$f":"N7","v":1111},{"$f":"COUNTIF(L85:L99,AS7)","v":3},{"$f":"AT7/(AV4-AT20)","v":0.2},{"$f":"IF(AU7=0,0,(AU7*((LOG(AU7))/LOG(2))))","v":-0.46438561897747244}]
[12,318,23,331,13,348,23,360,null,null,0,1212,null,1112,{"$f":"COUNTIF($L$7:$L$500,N8)","v":4},{"$f":"O8/$Q$4","v":4.3010752688172046E-2},{"$f":"IF(P8=0,0,(P8*((LOG(P8))/LOG(2))))","v":-0.19523263703690458},null,null,{"$f":"N8","v":1112},{"$f":"COUNTIF(L7:L22,T8)","v":0},{"$f":"U8/(W4-U20)","v":0},{"$f":"IF(V8=0,0,(V8*((LOG(V8))/LOG(2))))","v":0},null,{"$f":"N8","v":1112},{"$f":"COUNTIF(L23:L37,Y8)","v":0},{"$f":"Z8/(AB4-Z20)","v":0},{"$f":"IF(AA8=0,0,(AA8*((LOG(AA8))/LOG(2))))","v":0},null,{"$f":"N8","v":1112},{"$f":"COUNTIF(L38:L53,AD8)","v":1},{"$f":"AE8/(AG4-AE20)","v":6.25E-2},{"$f":"IF(AF8=0,0,(AF8*((LOG(AF8))/LOG(2))))","v":-0.25},null,{"$f":"N8","v":1112},{"$f":"COUNTIF(L54:L68,AI8)","v":2},{"$f":"AJ8/(AL4-AJ20)","v":0.13333333333333333},{"$f":"IF(AK8=0,0,(AK8*((LOG(AK8))/LOG(2))))","v":-0.3875854127478025},null,{"$f":"N8","v":1112},{"$f":"COUNTIF(L69:L84,AN8)","v":1},{"$f":"AO8/(AQ4-AO20)","v":6.6666666666666666E-2},{"$f":"IF(AP8=0,0,(AP8*((LOG(AP8))/LOG(2))))","v":-0.26045937304056793},null,{"$f":"N8","v":1112},{"$f":"COUNTIF(L85:L99,AS8)","v":0},{"$f":"AT8/(AV4-AT20)","v":0},{"$f":"IF(AU8=0,0,(AU8*((LOG(AU8))/LOG(2))))","v":0}]
[21,483,21,507,11,530,21,541,null,null,0,2212,null,1121,{"$f":"COUNTIF($L$7:$L$500,N9)","v":3},{"$f":"O9/$Q$4","v":3.2258064516129031E-2},{"$f":"IF(P9=0,0,(P9*((LOG(P9))/LOG(2))))","v":-0.15981278420602821},null,null,{"$f":"N9","v":1121},{"$f":"COUNTIF(L7:L22,T9)","v":1},{"$f":"U9/(W4-U20)","v":6.6666666666666666E-2},{"$f":"IF(V9=0,0,(V9*((LOG(V9))/LOG(2))))","v":-0.26045937304056793},null,{"$f":"N9","v":1121},{"$f":"COUNTIF(L23:L37,Y9)","v":0},{"$f":"Z9/(AB4-Z20)","v":0},{"$f":"IF(AA9=0,0,(AA9*((LOG(AA9))/LOG(2))))","v":0},null,{"$f":"N9","v":1121},{"$f":"COUNTIF(L38:L53,AD9)","v":1},{"$f":"AE9/(AG4-AE20)","v":6.25E-2},{"$f":"IF(AF9=0,0,(AF9*((LOG(AF9))/LOG(2))))","v":-0.25},null,{"$f":"N9","v":1121},{"$f":"COUNTIF(L54:L68,AI9)","v":1},{"$f":"AJ9/(AL4-AJ20)","v":6.6666666666666666E-2},{"$f":"IF(AK9=0,0,(AK9*((LOG(AK9))/LOG(2))))","v":-0.26045937304056793},null,{"$f":"N9","v":1121},{"$f":"COUNTIF(L69:L84,AN9)","v":0},{"$f":"AO9/(AQ4-AO20)","v":0},{"$f":"IF(AP9=0,0,(AP9*((LOG(AP9))/LOG(2))))","v":0},null,{"$f":"N9","v":1121},{"$f":"COUNTIF(L85:L99,AS9)","v":0},{"$f":"AT9/(AV4-AT20)","v":0},{"$f":"IF(AU9=0,0,(AU9*((LOG(AU9))/LOG(2))))","v":0}]
[21,660,12,701,24,713,23,733,null,null,0,2122,null,1122,{"$f":"COUNTIF($L$7:$L$500,N10)","v":3},{"$f":"O10/$Q$4","v":3.2258064516129031E-2},{"$f":"IF(P10=0,0,(P10*((LOG(P10))/LOG(2))))","v":-0.15981278420602821},null,null,{"$f":"N10","v":1122},{"$f":"COUNTIF(L7:L22,T10)","v":0},{"$f":"U10/(W4-U20)","v":0},{"$f":"IF(V10=0,0,(V10*((LOG(V10))/LOG(2))))","v":0},null,{"$f":"N10","v":1122},{"$f":"COUNTIF(L23:L37,Y10)","v":0},{"$f":"Z10/(AB4-Z20)","v":0},{"$f":"IF(AA10=0,0,(AA10*((LOG(AA10))/LOG(2))))","v":0},null,{"$f":"N10","v":1122},{"$f":"COUNTIF(L38:L53,AD10)","v":2},{"$f":"AE10/(AG4-AE20)","v":0.125},{"$f":"IF(AF10=0,0,(AF10*((LOG(AF10))/LOG(2))))","v":-0.375},null,{"$f":"N10","v":1122},{"$f":"COUNTIF(L54:L68,AI10)","v":0},{"$f":"AJ10/(AL4-AJ20)","v":0},{"$f":"IF(AK10=0,0,(AK10*((LOG(AK10))/LOG(2))))","v":0},null,{"$f":"N10","v":1122},{"$f":"COUNTIF(L69:L84,AN10)","v":0},{"$f":"AO10/(AQ4-AO20)","v":0},{"$f":"IF(AP10=0,0,(AP10*((LOG(AP10))/LOG(2))))","v":0},null,{"$f":"N10","v":1122},{"$f":"COUNTIF(L85:L99,AS10)","v":1},{"$f":"AT10/(AV4-AT20)","v":6.6666666666666666E-2},{"$f":"IF(AU10=0,0,(AU10*((LOG(AU10))/LOG(2))))","v":-0.26045937304056793}]
[12,873,23,885,13,901,14,911,null,null,0,1211,null,1211,{"$f":"COUNTIF($L$7:$L$500,N11)","v":6},{"$f":"O11/$Q$4","v":6.4516129032258063E-2},{"$f":"IF(P11=0,0,(P11*((LOG(P11))/LOG(2))))","v":-0.25510943937979835},null,null,{"$f":"N11","v":1211},{"$f":"COUNTIF(L7:L22,T11)","v":2},{"$f":"U11/(W4-U20)","v":0.13333333333333333},{"$f":"IF(V11=0,0,(V11*((LOG(V11))/LOG(2))))","v":-0.3875854127478025},null,{"$f":"N11","v":1211},{"$f":"COUNTIF(L23:L37,Y11)","v":1},{"$f":"Z11/(AB4-Z20)","v":7.1428571428571425E-2},{"$f":"IF(AA11=0,0,(AA11*((LOG(AA11))/LOG(2))))","v":-0.27195392300411453},null,{"$f":"N11","v":1211},{"$f":"COUNTIF(L38:L53,AD11)","v":2},{"$f":"AE11/(AG4-AE20)","v":0.125},{"$f":"IF(AF11=0,0,(AF11*((LOG(AF11))/LOG(2))))","v":-0.375},null,{"$f":"N11","v":1211},{"$f":"COUNTIF(L54:L68,AI11)","v":1},{"$f":"AJ11/(AL4-AJ20)","v":6.6666666666666666E-2},{"$f":"IF(AK11=0,0,(AK11*((LOG(AK11))/LOG(2))))","v":-0.26045937304056793},null,{"$f":"N11","v":1211},{"$f":"COUNTIF(L69:L84,AN11)","v":0},{"$f":"AO11/(AQ4-AO20)","v":0},{"$f":"IF(AP11=0,0,(AP11*((LOG(AP11))/LOG(2))))","v":0},null,{"$f":"N11","v":1211},{"$f":"COUNTIF(L85:L99,AS11)","v":0},{"$f":"AT11/(AV4-AT20)","v":0},{"$f":"IF(AU11=0,0,(AU11*((LOG(AU11))/LOG(2))))","v":0}]
[12,1033,23,1045,24,1053,14,1070,null,null,0,1221,null,1212,{"$f":"COUNTIF($L$7:$L$500,N12)","v":4},{"$f":"O12/$Q$4","v":4.3010752688172046E-2},{"$f":"IF(P12=0,0,(P12*((LOG(P12))/LOG(2))))","v":-0.19523263703690458},null,null,{"$f":"N12","v":1212},{"$f":"COUNTIF(L7:L22,T12)","v":3},{"$f":"U12/(W4-U20)","v":0.2},{"$f":"IF(V12=0,0,(V12*((LOG(V12))/LOG(2))))","v":-0.46438561897747244},null,{"$f":"N12","v":1212},{"$f":"COUNTIF(L23:L37,Y12)","v":0},{"$f":"Z12/(AB4-Z20)","v":0},{"$f":"IF(AA12=0,0,(AA12*((LOG(AA12))/LOG(2))))","v":0},null,{"$f":"N12","v":1212},{"$f":"COUNTIF(L38:L53,AD12)","v":0},{"$f":"AE12/(AG4-AE20)","v":0},{"$f":"IF(AF12=0,0,(AF12*((LOG(AF12))/LOG(2))))","v":0},null,{"$f":"N12","v":1212},{"$f":"COUNTIF(L54:L68,AI12)","v":0},{"$f":"AJ12/(AL4-AJ20)","v":0},{"$f":"IF(AK12=0,0,(AK12*((LOG(AK12))/LOG(2))))","v":0},null,{"$f":"N12","v":1212},{"$f":"COUNTIF(L69:L84,AN12)","v":0},{"$f":"AO12/(AQ4-AO20)","v":0},{"$f":"IF(AP12=0,0,(AP12*((LOG(AP12))/LOG(2))))","v":0},null,{"$f":"N12","v":1212},{"$f":"COUNTIF(L85:L99,AS12)","v":1},{"$f":"AT12/(AV4-AT20)","v":6.6666666666666666E-2},{"$f":"IF(AU12=0,0,(AU12*((LOG(AU12))/LOG(2))))","v":-0.26045937304056793}]
[21,1174,12,1191,13,1234,14,1239,null,null,0,2111,null,1221,{"$f":"COUNTIF($L$7:$L$500,N13)","v":6},{"$f":"O13/$Q$4","v":6.4516129032258063E-2},{"$f":"IF(P13=0,0,(P13*((LOG(P13))/LOG(2))))","v":-0.25510943937979835},null,null,{"$f":"N13","v":1221},{"$f":"COUNTIF(L7:L22,T13)","v":2},{"$f":"U13/(W4-U20)","v":0.13333333333333333},{"$f":"IF(V13=0,0,(V13*((LOG(V13))/LOG(2))))","v":-0.3875854127478025},null,{"$f":"N13","v":1221},{"$f":"COUNTIF(L23:L37,Y13)","v":2},{"$f":"Z13/(AB4-Z20)","v":0.14285714285714285},{"$f":"IF(AA13=0,0,(AA13*((LOG(AA13))/LOG(2))))","v":-0.40105070315108626},null,{"$f":"N13","v":1221},{"$f":"COUNTIF(L38:L53,AD13)","v":0},{"$f":"AE13/(AG4-AE20)","v":0},{"$f":"IF(AF13=0,0,(AF13*((LOG(AF13))/LOG(2))))","v":0},null,{"$f":"N13","v":1221},{"$f":"COUNTIF(L54:L68,AI13)","v":1},{"$f":"AJ13/(AL4-AJ20)","v":6.6666666666666666E-2},{"$f":"IF(AK13=0,0,(AK13*((LOG(AK13))/LOG(2))))","v":-0.26045937304056793},null,{"$f":"N13","v":1221},{"$f":"COUNTIF(L69:L84,AN13)","v":1},{"$f":"AO13/(AQ4-AO20)","v":6.6666666666666666E-2},{"$f":"IF(AP13=0,0,(AP13*((LOG(AP13))/LOG(2))))","v":-0.26045937304056793},null,{"$f":"N13","v":1221},{"$f":"COUNTIF(L85:L99,AS13)","v":0},{"$f":"AT13/(AV4-AT20)","v":0},{"$f":"IF(AU13=0,0,(AU13*((LOG(AU13))/LOG(2))))","v":0}]
[21,1395,12,1411,24,1425,23,1439,null,null,0,2122,null,1222,{"$f":"COUNTIF($L$7:$L$500,N14)","v":9},{"$f":"O14/$Q$4","v":9.6774193548387094E-2},{"$f":"IF(P14=0,0,(P14*((LOG(P14))/LOG(2))))","v":-0.32605488480635986},null,null,{"$f":"N14","v":1222},{"$f":"COUNTIF(L7:L22,T14)","v":0},{"$f":"U14/(W4-U20)","v":0},{"$f":"IF(V14=0,0,(V14*((LOG(V14))/LOG(2))))","v":0},null,{"$f":"N14","v":1222},{"$f":"COUNTIF(L23:L37,Y14)","v":3},{"$f":"Z14/(AB4-Z20)","v":0.21428571428571427},{"$f":"IF(AA14=0,0,(AA14*((LOG(AA14))/LOG(2))))","v":-0.47622694742923877},null,{"$f":"N14","v":1222},{"$f":"COUNTIF(L38:L53,AD14)","v":1},{"$f":"AE14/(AG4-AE20)","v":6.25E-2},{"$f":"IF(AF14=0,0,(AF14*((LOG(AF14))/LOG(2))))","v":-0.25},null,{"$f":"N14","v":1222},{"$f":"COUNTIF(L54:L68,AI14)","v":0},{"$f":"AJ14/(AL4-AJ20)","v":0},{"$f":"IF(AK14=0,0,(AK14*((LOG(AK14))/LOG(2))))","v":0},null,{"$f":"N14","v":1222},{"$f":"COUNTIF(L69:L84,AN14)","v":2},{"$f":"AO14/(AQ4-AO20)","v":0.13333333333333333},{"$f":"IF(AP14=0,0,(AP14*((LOG(AP14))/LOG(2))))","v":-0.3875854127478025},null,{"$f":"N14","v":1222},{"$f":"COUNTIF(L85:L99,AS14)","v":3},{"$f":"AT14/(AV4-AT20)","v":0.2},{"$f":"IF(AU14=0,0,(AU14*((LOG(AU14))/LOG(2))))","v":-0.46438561897747244}]
[12,1590,23,1621,13,1637,14,1644,null,null,0,1211,null,2111,{"$f":"COUNTIF($L$7:$L$500,N15)","v":6},{"$f":"O15/$Q$4","v":6.4516129032258063E-2},{"$f":"IF(P15=0,0,(P15*((LOG(P15))/LOG(2))))","v":-0.25510943937979835},null,null,{"$f":"N15","v":2111},{"$f":"COUNTIF(L7:L22,T15)","v":2},{"$f":"U15/(W4-U20)","v":0.13333333333333333},{"$f":"IF(V15=0,0,(V15*((LOG(V15))/LOG(2))))","v":-0.3875854127478025},null,{"$f":"N15","v":2111},{"$f":"COUNTIF(L23:L37,Y15)","v":1},{"$f":"Z15/(AB4-Z20)","v":7.1428571428571425E-2},{"$f":"IF(AA15=0,0,(AA15*((LOG(AA15))/LOG(2))))","v":-0.27195392300411453},null,{"$f":"N15","v":2111},{"$f":"COUNTIF(L38:L53,AD15)","v":1},{"$f":"AE15/(AG4-AE20)","v":6.25E-2},{"$f":"IF(AF15=0,0,(AF15*((LOG(AF15))/LOG(2))))","v":-0.25},null,{"$f":"N15","v":2111},{"$f":"COUNTIF(L54:L68,AI15)","v":1},{"$f":"AJ15/(AL4-AJ20)","v":6.6666666666666666E-2},{"$f":"IF(AK15=0,0,(AK15*((LOG(AK15))/LOG(2))))","v":-0.26045937304056793},null,{"$f":"N15","v":2111},{"$f":"COUNTIF(L69:L84,AN15)","v":0},{"$f":"AO15/(AQ4-AO20)","v":0},{"$f":"IF(AP15=0,0,(AP15*((LOG(AP15))/LOG(2))))","v":0},null,{"$f":"N15","v":2111},{"$f":"COUNTIF(L85:L99,AS15)","v":1},{"$f":"AT15/(AV4-AT20)","v":6.6666666666666666E-2},{"$f":"IF(AU15=0,0,(AU15*((LOG(AU15))/LOG(2))))","v":-0.26045937304056793}]
[12,1757,14,1762,24,1778,14,1791,null,null,0,1121,null,2112,{"$f":"COUNTIF($L$7:$L$500,N16)","v":7},{"$f":"O16/$Q$4","v":7.5268817204301078E-2},{"$f":"IF(P16=0,0,(P16*((LOG(P16))/LOG(2))))","v":-0.28088846476723645},null,null,{"$f":"N16","v":2112},{"$f":"COUNTIF(L7:L22,T16)","v":0},{"$f":"U16/(W4-U20)","v":0},{"$f":"IF(V16=0,0,(V16*((LOG(V16))/LOG(2))))","v":0},null,{"$f":"N16","v":2112},{"$f":"COUNTIF(L23:L37,Y16)","v":2},{"$f":"Z16/(AB4-Z20)","v":0.14285714285714285},{"$f":"IF(AA16=0,0,(AA16*((LOG(AA16))/LOG(2))))","v":-0.40105070315108626},null,{"$f":"N16","v":2112},{"$f":"COUNTIF(L38:L53,AD16)","v":2},{"$f":"AE16/(AG4-AE20)","v":0.125},{"$f":"IF(AF16=0,0,(AF16*((LOG(AF16))/LOG(2))))","v":-0.375},null,{"$f":"N16","v":2112},{"$f":"COUNTIF(L54:L68,AI16)","v":2},{"$f":"AJ16/(AL4-AJ20)","v":0.13333333333333333},{"$f":"IF(AK16=0,0,(AK16*((LOG(AK16))/LOG(2))))","v":-0.3875854127478025},null,{"$f":"N16","v":2112},{"$f":"COUNTIF(L69:L84,AN16)","v":0},{"$f":"AO16/(AQ4-AO20)","v":0},{"$f":"IF(AP16=0,0,(AP16*((LOG(AP16))/LOG(2))))","v":0},null,{"$f":"N16","v":2112},{"$f":"COUNTIF(L85:L99,AS16)","v":1},{"$f":"AT16/(AV4-AT20)","v":6.6666666666666666E-2},{"$f":"IF(AU16=0,0,(AU16*((LOG(AU16))/LOG(2))))","v":-0.26045937304056793}]
[12,2006,23,2049,24,2063,14,2077,null,null,0,1221,null,2121,{"$f":"COUNTIF($L$7:$L$500,N17)","v":1},{"$f":"O17/$Q$4","v":1.0752688172043012E-2},{"$f":"IF(P17=0,0,(P17*((LOG(P17))/LOG(2))))","v":-7.0313535603312161E-2},null,null,{"$f":"N17","v":2121},{"$f":"COUNTIF(L7:L22,T17)","v":0},{"$f":"U17/(W4-U20)","v":0},{"$f":"IF(V17=0,0,(V17*((LOG(V17))/LOG(2))))","v":0},null,{"$f":"N17","v":2121},{"$f":"COUNTIF(L23:L37,Y17)","v":0},{"$f":"Z17/(AB4-Z20)","v":0},{"$f":"IF(AA17=0,0,(AA17*((LOG(AA17))/LOG(2))))","v":0},null,{"$f":"N17","v":2121},{"$f":"COUNTIF(L38:L53,AD17)","v":1},{"$f":"AE17/(AG4-AE20)","v":6.25E-2},{"$f":"IF(AF17=0,0,(AF17*((LOG(AF17))/LOG(2))))","v":-0.25},null,{"$f":"N17","v":2121},{"$f":"COUNTIF(L54:L68,AI17)","v":0},{"$f":"AJ17/(AL4-AJ20)","v":0},{"$f":"IF(AK17=0,0,(AK17*((LOG(AK17))/LOG(2))))","v":0},null,{"$f":"N17","v":2121},{"$f":"COUNTIF(L69:L84,AN17)","v":0},{"$f":"AO17/(AQ4-AO20)","v":0},{"$f":"IF(AP17=0,0,(AP17*((LOG(AP17))/LOG(2))))","v":0},null,{"$f":"N17","v":2121},{"$f":"COUNTIF(L85:L99,AS17)","v":0},{"$f":"AT17/(AV4-AT20)","v":0},{"$f":"IF(AU17=0,0,(AU17*((LOG(AU17))/LOG(2))))","v":0}]
[12,2178,14,2185,13,2199,14,2205,null,null,0,1111,null,2122,{"$f":"COUNTIF($L$7:$L$500,N18)","v":5},{"$f":"O18/$Q$4","v":5.3763440860215055E-2},{"$f":"IF(P18=0,0,(P18*((LOG(P18))/LOG(2))))","v":-0.22673283420541232},null,null,{"$f":"N18","v":2122},{"$f":"COUNTIF(L7:L22,T18)","v":2},{"$f":"U18/(W4-U20)","v":0.13333333333333333},{"$f":"IF(V18=0,0,(V18*((LOG(V18))/LOG(2))))","v":-0.3875854127478025},null,{"$f":"N18","v":2122},{"$f":"COUNTIF(L23:L37,Y18)","v":1},{"$f":"Z18/(AB4-Z20)","v":7.1428571428571425E-2},{"$f":"IF(AA18=0,0,(AA18*((LOG(AA18))/LOG(2))))","v":-0.27195392300411453},null,{"$f":"N18","v":2122},{"$f":"COUNTIF(L38:L53,AD18)","v":1},{"$f":"AE18/(AG4-AE20)","v":6.25E-2},{"$f":"IF(AF18=0,0,(AF18*((LOG(AF18))/LOG(2))))","v":-0.25},null,{"$f":"N18","v":2122},{"$f":"COUNTIF(L54:L68,AI18)","v":0},{"$f":"AJ18/(AL4-AJ20)","v":0},{"$f":"IF(AK18=0,0,(AK18*((LOG(AK18))/LOG(2))))","v":0},null,{"$f":"N18","v":2122},{"$f":"COUNTIF(L69:L84,AN18)","v":0},{"$f":"AO18/(AQ4-AO20)","v":0},{"$f":"IF(AP18=0,0,(AP18*((LOG(AP18))/LOG(2))))","v":0},null,{"$f":"N18","v":2122},{"$f":"COUNTIF(L85:L99,AS18)","v":1},{"$f":"AT18/(AV4-AT20)","v":6.6666666666666666E-2},{"$f":"IF(AU18=0,0,(AU18*((LOG(AU18))/LOG(2))))","v":-0.26045937304056793}]
[12,2335,14,2339,13,2380,14,2486,null,null,0,1111,null,2211,{"$f":"COUNTIF($L$7:$L$500,N19)","v":8},{"$f":"O19/$Q$4","v":8.6021505376344093E-2},{"$f":"IF(P19=0,0,(P19*((LOG(P19))/LOG(2))))","v":-0.30444376869746503},null,null,{"$f":"N19","v":2211},{"$f":"COUNTIF(L7:L22,T19)","v":0},{"$f":"U19/(W4-U20)","v":0},{"$f":"IF(V19=0,0,(V19*((LOG(V19))/LOG(2))))","v":0},null,{"$f":"N19","v":2211},{"$f":"COUNTIF(L23:L37,Y19)","v":0},{"$f":"Z19/(AB4-Z20)","v":0},{"$f":"IF(AA19=0,0,(AA19*((LOG(AA19))/LOG(2))))","v":0},null,{"$f":"N19","v":2211},{"$f":"COUNTIF(L38:L53,AD19)","v":2},{"$f":"AE19/(AG4-AE20)","v":0.125},{"$f":"IF(AF19=0,0,(AF19*((LOG(AF19))/LOG(2))))","v":-0.375},null,{"$f":"N19","v":2211},{"$f":"COUNTIF(L54:L68,AI19)","v":3},{"$f":"AJ19/(AL4-AJ20)","v":0.2},{"$f":"IF(AK19=0,0,(AK19*((LOG(AK19))/LOG(2))))","v":-0.46438561897747244},null,{"$f":"N19","v":2211},{"$f":"COUNTIF(L69:L84,AN19)","v":1},{"$f":"AO19/(AQ4-AO20)","v":6.6666666666666666E-2},{"$f":"IF(AP19=0,0,(AP19*((LOG(AP19))/LOG(2))))","v":-0.26045937304056793},null,{"$f":"N19","v":2211},{"$f":"COUNTIF(L85:L99,AS19)","v":2},{"$f":"AT19/(AV4-AT20)","v":0.13333333333333333},{"$f":"IF(AU19=0,0,(AU19*((LOG(AU19))/LOG(2))))","v":-0.3875854127478025}]
[12,2587,23,2605,13,2622,23,2649,null,null,0,1212,null,2212,{"$f":"COUNTIF($L$7:$L$500,N20)","v":3},{"$f":"O20/$Q$4","v":3.2258064516129031E-2},{"$f":"IF(P20=0,0,(P20*((LOG(P20))/LOG(2))))","v":-0.15981278420602821},null,null,{"$f":"N20","v":2212},{"$f":"COUNTIF(L7:L22,T20)","v":1},null,null,null,{"$f":"N20","v":2212},{"$f":"COUNTIF(L23:L37,Y20)","v":1},null,null,null,{"$f":"N20","v":2212},{"$f":"COUNTIF(L38:L53,AD20)","v":0},null,null,null,{"$f":"N20","v":2212},{"$f":"COUNTIF(L54:L68,AI20)","v":0},null,null,null,{"$f":"N20","v":2212},{"$f":"COUNTIF(L69:L84,AN20)","v":1},null,null,null,{"$f":"N20","v":2212},{"$f":"COUNTIF(L85:L99,AS20)","v":0}]
[21,2792,21,2796,22,2801,23,2816,null,null,0,2222,null,2221,{"$f":"COUNTIF($L$7:$L$500,N21)","v":3},{"$f":"O21/$Q$4","v":3.2258064516129031E-2},{"$f":"IF(P21=0,0,(P21*((LOG(P21))/LOG(2))))","v":-0.15981278420602821},null,null,{"$f":"N21","v":2221},{"$f":"COUNTIF(L7:L22,T21)","v":0},{"$f":"U21/(W4-U20)","v":0},{"$f":"IF(V21=0,0,(V21*((LOG(V21))/LOG(2))))","v":0},null,{"$f":"N21","v":2221},{"$f":"COUNTIF(L23:L37,Y21)","v":1},{"$f":"Z21/(AB4-Z20)","v":7.1428571428571425E-2},{"$f":"IF(AA21=0,0,(AA21*((LOG(AA21))/LOG(2))))","v":-0.27195392300411453},null,{"$f":"N21","v":2221},{"$f":"COUNTIF(L38:L53,AD21)","v":0},{"$f":"AE21/(AG4-AE20)","v":0},{"$f":"IF(AF21=0,0,(AF21*((LOG(AF21))/LOG(2))))","v":0},null,{"$f":"N21","v":2221},{"$f":"COUNTIF(L54:L68,AI21)","v":0},{"$f":"AJ21/(AL4-AJ20)","v":0},{"$f":"IF(AK21=0,0,(AK21*((LOG(AK21))/LOG(2))))","v":0},null,{"$f":"N21","v":2221},{"$f":"COUNTIF(L69:L84,AN21)","v":0},{"$f":"AO21/(AQ4-AO20)","v":0},{"$f":"IF(AP21=0,0,(AP21*((LOG(AP21))/LOG(2))))","v":0},null,{"$f":"N21","v":2221},{"$f":"COUNTIF(L85:L99,AS21)","v":2},{"$f":"AT21/(AV4-AT20)","v":0.13333333333333333},{"$f":"IF(AU21=0,0,(AU21*((LOG(AU21))/LOG(2))))","v":-0.3875854127478025}]
[21,3019,12,3040,13,3046,14,3052,null,null,0,2111,null,2222,{"$f":"COUNTIF($L$7:$L$500,N22)","v":6},{"$f":"O22/$Q$4","v":6.4516129032258063E-2},{"$f":"IF(P22=0,0,(P22*((LOG(P22))/LOG(2))))","v":-0.25510943937979835},null,null,{"$f":"N22","v":2222},{"$f":"COUNTIF(L7:L22,T22)","v":1},{"$f":"U22/(W4-U20)","v":6.6666666666666666E-2},{"$f":"IF(V22=0,0,(V22*((LOG(V22))/LOG(2))))","v":-0.26045937304056793},null,{"$f":"N22","v":2222},{"$f":"COUNTIF(L23:L37,Y22)","v":0},{"$f":"Z22/(AB4-Z20)","v":0},{"$f":"IF(AA22=0,0,(AA22*((LOG(AA22))/LOG(2))))","v":0},null,{"$f":"N22","v":2222},{"$f":"COUNTIF(L38:L53,AD22)","v":0},{"$f":"AE22/(AG4-AE20)","v":0},{"$f":"IF(AF22=0,0,(AF22*((LOG(AF22))/LOG(2))))","v":0},null,{"$f":"N22","v":2222},{"$f":"COUNTIF(L54:L68,AI22)","v":1},{"$f":"AJ22/(AL4-AJ20)","v":6.6666666666666666E-2},{"$f":"IF(AK22=0,0,(AK22*((LOG(AK22))/LOG(2))))","v":-0.26045937304056793},null,{"$f":"N22","v":2222},{"$f":"COUNTIF(L69:L84,AN22)","v":4},{"$f":"AO22/(AQ4-AO20)","v":0.26666666666666666},{"$f":"IF(AP22=0,0,(AP22*((LOG(AP22))/LOG(2))))","v":-0.50850415882893829},null,{"$f":"N22","v":2222},{"$f":"COUNTIF(L85:L99,AS22)","v":0},{"$f":"AT22/(AV4-AT20)","v":0},{"$f":"IF(AU22=0,0,(AU22*((LOG(AU22))/LOG(2))))","v":0}]
[12,3371,23,3388,13,3407,14,3417,null,null,0,1211,null,null,null,{"$f":"SUM(P7:P22)","v":0.99999999999999978},{"$f":"-SUM(Q7:Q22)","v":3.7266886742993144},null,null,null,null,{"$f":"SUM(V7:V22)","v":1},{"$f":"-SUM(W7:W22)","v":2.9232314287976209},null,null,null,{"$f":"SUM(AA7:AA22)","v":0.99999999999999978},{"$f":"-SUM(AB7:AB22)","v":2.8423709931771075},null,null,null,{"$f":"SUM(AF7:AF22)","v":1},{"$f":"-SUM(AG7:AG22)","v":3.375},null,null,null,{"$f":"SUM(AK7:AK22)","v":1},{"$f":"-SUM(AL7:AL22)","v":3.0062389286533895},null,null,null,{"$f":"SUM(AP7:AP22)","v":1},{"$f":"-SUM(AQ7:AQ22)","v":2.2062389286533897},null,null,null,{"$f":"SUM(AU7:AU22)","v":0.99999999999999989},{"$f":"-SUM(AV7:AV22)","v":3.0062389286533899}]
[21,3521,21,3533,22,3574,14,3597,null,null,0,2221,null,null,null,"U=",{"$f":"Q23/(LOG(Q4)/LOG(2))","v":0.56990337472287877},null,null,null,null,"U1=",{"$f":"W23/(LOG(W4)/LOG(2))","v":0.73080785719940522},null,null,null,"U2=",{"$f":"AB23/(LOG(AB4)/LOG(2))","v":0.72752766519032597},null,null,null,"U3=",{"$f":"AG23/(LOG(AG4)/LOG(2))","v":0.84375},null,null,null,"U4=",{"$f":"AL23/(LOG(AL4)/LOG(2))","v":0.7694709782844974},null,null,null,"U5=",{"$f":"AQ23/(LOG(AQ4)/LOG(2))","v":0.55155973216334742},null,null,null,"U6=",{"$f":"AV23/(LOG(AV4)/LOG(2))","v":0.76947097828449751}]
[21,3835,21,3855,11,3870,21,3882,null,null,0,2212]
[12,3975,23,3992,24,4001,23,4010,null,null,0,1222]
[21,4120,12,4149,24,4166,23,4175,null,null,0,2122,null,"Total Target Seq"]
[12,4314,23,4327,24,4337,23,4356,null,null,0,1222,null,{"$f":"COUNTIF(L7:L99,G3)","v":3},null,16,15,16,15,16,15]
[12,4468,23,4490,24,4525,23,4534,null,null,0,1222,null,null,null,"% of reinforcement given in 6 equal intervals based on number of trials "]
[12,4652,14,4674,13,4680,14,4685,null,null,0,1111,null,null,null,"%_1","%_2","%_3","%_4","%_5","%_6"]
[12,4808,23,4820,24,4831,14,4849,null,null,0,1221,null,null,"target sequence",{"$f":"$G$3","v":2212},{"$f":"$G$3","v":2212},{"$f":"$G$3","v":2212},{"$f":"$G$3","v":2212},{"$f":"$G$3","v":2212},{"$f":"$G$3","v":2212}]
[12,4953,14,4980,13,4992,14,4999,null,null,0,1111,null,null,"total reinforcement",{"$f":"U20","v":1},{"$f":"Z20","v":1},{"$f":"AE20","v":0},{"$f":"AJ20","v":0},{"$f":"AO20","v":1},{"$f":"AT20","v":0}]
[21,5113,12,5125,13,5131,14,5136,null,null,0,2111,null,null,"% target"]
[12,5258,14,5269,13,5277,14,5282,null,null,0,1111,null,null,"CCRF"]
[12,5386,23,5400,24,5429,14,5446,null,null,0,1221,null,null,"% CCRf"]
[21,5567,12,5578,13,5583,23,5594,null,null,0,2112,null,null,"average response rate",{"$f":"H22/P28","v":190.75},{"$f":"(H37-H22)/Q28","v":178.8},{"$f":"(H53-H37)/R28","v":206},{"$f":"(H68-H53)/S28","v":237.46666666666667},{"$f":"(H84-H68)/T28","v":448.875},{"$f":"(H99-H84)/U28","v":231.2}]
[21,5707,12,5717,13,5722,23,5734,null,null,0,2112]
[12,5984,14,5990,24,6004,14,6024,null,null,0,1121]
[12,6133,23,6178,13,6189,14,6194,null,null,0,1211]
[12,6350,14,6377,24,6394,23,6401,null,null,0,1122]
[21,6539,21,6553,11,6565,12,6570,null,null,0,2211]
[21,6729,12,6741,13,6746,23,6776,null,null,0,2112]
[12,6916,14,6920,13,6925,23,6938,null,null,0,1112]
[12,7137,14,7142,13,7147,14,7187,null,null,0,1111]
[21,7318,21,7324,11,7338,12,7343,null,null,0,2211]
[21,7575,12,7633,13,7642,23,7654,null,null,0,2112]
[12,7832,14,7842,13,7848,14,7853,null,null,0,1111]
[21,8016,12,8034,13,8040,14,8045,null,null,0,2111]
[12,8143,23,8174,13,8197,14,8203,null,null,0,1211]
[12,8339,23,8369,24,8374,23,8383,null,null,0,1222]
[21,8541,12,8564,24,8585,23,8594,null,null,0,2122]
[21,8700,12,8719,24,8742,14,8756,null,null,0,2121]
[12,8961,14,9002,24,9016,23,9030,null,null,0,1122]
[12,9145,23,9157,13,9188,14,9192,null,null,0,1211]
[12,9366,14,9371,13,9377,23,9394,null,null,0,1112]
[12,9591,14,9596,13,9602,14,9610,null,null,0,1111]
[12,9729,23,9741,24,9746,14,9760,null,null,0,1221]
[12,9896,14,9902,24,9934,14,9949,null,null,0,1121]
[21,10171,21,10192,11,10214,12,10219,null,null,0,2211]
[21,10434,12,10457,13,10462,14,10467,null,null,0,2111]
[21,10660,21,10665,22,10681,23,10699,null,null,0,2222]
[12,10865,14,10869,13,10876,14,10882,null,null,0,1111]
[21,11140,21,11146,11,11158,12,11167,null,null,0,2211]
[21,11589,12,11607,13,11611,23,11623,null,null,0,2112]
[12,11844,14,11860,13,11868,23,11904,null,null,0,1112]
[21,12044,12,12061,13,12067,23,12087,null,null,0,2112]
[21,12391,21,12398,11,12417,12,12423,null,null,0,2211]
[12,12566,14,12574,13,12580,14,12592,null,null,0,1111]
[12,12854,14,12860,13,12867,14,12874,null,null,0,1111]
[21,13288,21,13321,22,13360,23,13380,null,null,0,2222]
[12,13574,14,13586,13,13592,14,13598,null,null,0,1111]
[12,14369,14,14379,13,14384,23,14403,null,null,0,1112]
[21,14519,21,14534,11,14595,12,14601,null,null,0,2211]
[12,14921,14,14981,13,15005,14,15024,null,null,0,1111]
[12,15810,14,15817,13,15821,14,15827,null,null,0,1111]
[21,16203,21,16222,22,16254,23,16263,null,null,0,2222]
[12,16520,23,16661,24,16670,23,16679,null,null,0,1222]
[21,17378,21,17385,22,17401,23,17414,null,null,0,2222]
[12,17545,14,17550,13,17560,14,17569,null,null,0,1111]
[12,18011,14,18015,13,18024,14,18029,null,null,0,1111]
[12,18678,23,18709,24,18719,23,18724,null,null,0,1222]
[21,18962,21,18986,22,19001,23,19023,null,null,0,2222]
[12,19278,23,19297,24,19316,14,19341,null,null,0,1221]
[21,19725,21,19732,11,19755,21,19774,null,null,0,2212]
[12,19882,23,19898,13,19923,23,19941,null,null,0,1212]
[12,20055,23,20072,24,20088,23,20098,null,null,0,1222]
[21,20207,12,20287,24,20301,23,20313,null,null,0,2122]
[12,20429,14,20431,24,20448,23,20454,null,null,0,1122]
[21,20571,21,20595,11,20626,12,20631,null,null,0,2211]
[21,20741,21,20755,22,20773,14,20801,null,null,0,2221]
[21,20952,12,20971,13,20980,23,20995,null,null,0,2112]
[21,21375,21,21389,22,21415,14,21429,null,null,0,2221]
[12,21597,14,21607,13,21634,14,21639,null,null,0,1111]
[21,21822,21,21858,11,21876,12,21888,null,null,0,2211]
[12,22036,23,22054,24,22068,23,22074,null,null,0,1222]
[21,22214,12,22230,13,22235,14,22240,null,null,0,2111]
[12,22548,14,22554,13,22559,14,22565,null,null,0,1111]
[12,22715,14,22720,13,22725,14,22730,null,null,0,1111]
[12,23150,23,23178,24,23234,23,23242,null,null,0,1222]

{"sheet":"!N110830.092","index":13,"n_rows":121,"n_cols":48,"rows_kept":121,"cut":false,"hidden":false,"merged":[[4,39,4,42],[5,39,5,40],[4,44,4,47],[5,44,5,45],[4,24,4,27],[5,24,5,25],[4,29,4,32],[5,29,5,30],[4,34,4,37],[5,34,5,35],[1,1,1,2],[5,13,5,14],[26,13,26,14],[27,13,27,14],[4,19,4,22],[5,19,5,20]]}
["Report for:!N110830.092"]
["Date:","<date>"]
["Hen:","<hen>",null,null,null,"Correct Sequence",{"$f":"Start!J2","v":2212},null,null,null,null,null,null,null,null,"Total Sequences in Data",{"$f":"4994-COUNTBLANK(L7:L5000)","v":115},null,null,null,null,"Total Sequences in Block Data",{"$f":"COUNTA(L7:L25)","v":19},null,null,null,"Total Sequences in Block Data",{"$f":"COUNTA(L26:L44)","v":19},null,null,null,"Total Sequences in Block Data",{"$f":"COUNTA(L45:L64)","v":20},null,null,null,"Total Sequences in Block Data",{"$f":"COUNTA(L65:L83)","v":19},null,null,null,"Total Sequences in Block Data",{"$f":"COUNTA(L84:L102)","v":19},null,null,null,"Total Sequences in Block Data",{"$f":"COUNTA(L103:L121)","v":19}]
[null,null,null,null,null,null,null,null,null,null,null,null,null,null,null,"Total Sequences in Summary",{"$f":"SUM(O7:O22)","v":115},null,null,null,null,"Total Sequences in Block Summary",{"$f":"SUM(U7:U22)","v":19},null,null,null,"Total Sequences in Block Summary",{"$f":"SUM(Z7:Z22)","v":19},null,null,null,"Total Sequences in Block Summary",{"$f":"SUM(AE7:AE22)","v":20},null,null,null,"Total Sequences in Block Summary",{"$f":"SUM(AJ7:AJ22)","v":19},null,null,null,"Total Sequences in Block Summary",{"$f":"SUM(AO7:AO22)","v":19},null,null,null,"Total Sequences in Block Summary",{"$f":"SUM(AT7:AT22)","v":19}]
[null,null,null,null,null,null,null,null,null,null,null,null,null,null,null,null,null,null,null,"Block 1",null,null,null,null,"Block 2",null,null,null,null,"Block 3",null,null,null,null,"Block 4",null,null,null,null,"Block 5",null,null,null,null,"Block 6"]
["Sequence\nComponent\n1","Time\n1","Sequence\nComponent\n2","Time\n2","Sequence\nComponent\n3","Time\n3","Sequence\nComponent\n4","Time\n4","Sequence\nComponent\n5","Time\n5","Correct?\n0=No 1=Yes","Sequence",null,"Frequency",null,"Relative Frequency","Variability",null,null,"Frequency",null,"Relative Frequency","Variability",null,"Frequency",null,"Relative Frequency","Variability",null,"Frequency",null,"Relative Frequency","Variability",null,"Frequency",null,"Relative Frequency","Variability",null,"Frequency",null,"Relative Frequency","Variability",null,"Frequency",null,"Relative Frequency","Variability"]
[21,86,12,124,24,132,23,208,null,null,0,2122,null,1111,{"$f":"COUNTIF($L$7:$L$500,N7)","v":14},{"$f":"O7/$Q$4","v":0.12173913043478261},{"$f":"IF(P7=0,0,(P7*((LOG(P7))/LOG(2))))","v":-0.36985992873404172},null,null,{"$f":"N7","v":1111},{"$f":"COUNTIF(L7:L25,T7)","v":2},{"$f":"U7/(W4-U20)","v":0.1111111111111111},{"$f":"IF(V7=0,0,(V7*((LOG(V7))/LOG(2))))","v":-0.3522138890491458},null,{"$f":"N7","v":1111},{"$f":"COUNTIF(L26:L44,Y7)","v":1},{"$f":"Z7/(AB4-Z20)","v":5.5555555555555552E-2},{"$f":"IF(AA7=0,0,(AA7*((LOG(AA7))/LOG(2))))","v":-0.23166250008012845},null,{"$f":"N7","v":1111},{"$f":"COUNTIF(L45:L64,AD7)","v":4},{"$f":"AE7/(AG4-AE20)","v":0.2},{"$f":"IF(AF7=0,0,(AF7*((LOG(AF7))/LOG(2))))","v":-0.46438561897747244},null,{"$f":"N7","v":1111},{"$f":"COUNTIF(L65:L83,AI7)","v":5},{"$f":"AJ7/(AL4-AJ20)","v":0.26315789473684209},{"$f":"IF(AK7=0,0,(AK7*((LOG(AK7))/LOG(2))))","v":-0.50684195225163764},null,{"$f":"N7","v":1111},{"$f":"COUNTIF(L84:L102,AN7)","v":1},{"$f":"AO7/(AQ4-AO20)","v":5.2631578947368418E-2},{"$f":"IF(AP7=0,0,(AP7*((LOG(AP7))/LOG(2))))","v":-0.22357513228650452},null,{"$f":"N7","v":1111},{"$f":"COUNTIF(L103:L121,AS7)","v":1},{"$f":"AT7/(AV4-AT20)","v":5.2631578947368418E-2},{"$f":"IF(AU7=0,0,(AU7*((LOG(AU7))/LOG(2))))","v":-0.22357513228650452}]
[21,421,21,430,11,443,21,462,null,null,0,2212,null,1112,{"$f":"COUNTIF($L$7:$L$500,N8)","v":16},{"$f":"O8/$Q$4","v":0.1391304347826087},{"$f":"IF(P8=0,0,(P8*((LOG(P8))/LOG(2))))","v":-0.39589426795747829},null,null,{"$f":"N8","v":1112},{"$f":"COUNTIF(L7:L25,T8)","v":4},{"$f":"U8/(W4-U20)","v":0.22222222222222221},{"$f":"IF(V8=0,0,(V8*((LOG(V8))/LOG(2))))","v":-0.48220555587606945},null,{"$f":"N8","v":1112},{"$f":"COUNTIF(L26:L44,Y8)","v":3},{"$f":"Z8/(AB4-Z20)","v":0.16666666666666666},{"$f":"IF(AA8=0,0,(AA8*((LOG(AA8))/LOG(2))))","v":-0.43082708345352599},null,{"$f":"N8","v":1112},{"$f":"COUNTIF(L45:L64,AD8)","v":2},{"$f":"AE8/(AG4-AE20)","v":0.1},{"$f":"IF(AF8=0,0,(AF8*((LOG(AF8))/LOG(2))))","v":-0.33219280948873625},null,{"$f":"N8","v":1112},{"$f":"COUNTIF(L65:L83,AI8)","v":2},{"$f":"AJ8/(AL4-AJ20)","v":0.10526315789473684},{"$f":"IF(AK8=0,0,(AK8*((LOG(AK8))/LOG(2))))","v":-0.34188710667827216},null,{"$f":"N8","v":1112},{"$f":"COUNTIF(L84:L102,AN8)","v":4},{"$f":"AO8/(AQ4-AO20)","v":0.21052631578947367},{"$f":"IF(AP8=0,0,(AP8*((LOG(AP8))/LOG(2))))","v":-0.47324789756707064},null,{"$f":"N8","v":1112},{"$f":"COUNTIF(L103:L121,AS8)","v":1},{"$f":"AT8/(AV4-AT20)","v":5.2631578947368418E-2},{"$f":"IF(AU8=0,0,(AU8*((LOG(AU8))/LOG(2))))","v":-0.22357513228650452}]
[12,593,23,610,24,618,23,626,null,null,0,1222,null,1121,{"$f":"COUNTIF($L$7:$L$500,N9)","v":3},{"$f":"O9/$Q$4","v":2.6086956521739129E-2},{"$f":"IF(P9=0,0,(P9*((LOG(P9))/LOG(2))))","v":-0.13723115348408396},null,null,{"$f":"N9","v":1121},{"$f":"COUNTIF(L7:L25,T9)","v":0},{"$f":"U9/(W4-U20)","v":0},{"$f":"IF(V9=0,0,(V9*((LOG(V9))/LOG(2))))","v":0},null,{"$f":"N9","v":1121},{"$f":"COUNTIF(L26:L44,Y9)","v":0},{"$f":"Z9/(AB4-Z20)","v":0},{"$f":"IF(AA9=0,0,(AA9*((LOG(AA9))/LOG(2))))","v":0},null,{"$f":"N9","v":1121},{"$f":"COUNTIF(L45:L64,AD9)","v":0},{"$f":"AE9/(AG4-AE20)","v":0},{"$f":"IF(AF9=0,0,(AF9*((LOG(AF9))/LOG(2))))","v":0},null,{"$f":"N9","v":1121},{"$f":"COUNTIF(L65:L83,AI9)","v":0},{"$f":"AJ9/(AL4-AJ20)","v":0},{"$f":"IF(AK9=0,0,(AK9*((LOG(AK9))/LOG(2))))","v":0},null,{"$f":"N9","v":1121},{"$f":"COUNTIF(L84:L102,AN9)","v":1},{"$f":"AO9/(AQ4-AO20)","v":5.2631578947368418E-2},{"$f":"IF(AP9=0,0,(AP9*((LOG(AP9))/LOG(2))))","v":-0.22357513228650452},null,{"$f":"N9","v":1121},{"$f":"COUNTIF(L103:L121,AS9)","v":2},{"$f":"AT9/(AV4-AT20)","v":0.10526315789473684},{"$f":"IF(AU9=0,0,(AU9*((LOG(AU9))/LOG(2))))","v":-0.34188710667827216}]
[12,752,14,757,24,773,23,784,null,null,0,1122,null,1122,{"$f":"COUNTIF($L$7:$L$500,N10)","v":17},{"$f":"O10/$Q$4","v":0.14782608695652175},{"$f":"IF(P10=0,0,(P10*((LOG(P10))/LOG(2))))","v":-0.40770837012868355},null,null,{"$f":"N10","v":1122},{"$f":"COUNTIF(L7:L25,T10)","v":4},{"$f":"U10/(W4-U20)","v":0.22222222222222221},{"$f":"IF(V10=0,0,(V10*((LOG(V10))/LOG(2))))","v":-0.48220555587606945},null,{"$f":"N10","v":1122},{"$f":"COUNTIF(L26:L44,Y10)","v":4},{"$f":"Z10/(AB4-Z20)","v":0.22222222222222221},{"$f":"IF(AA10=0,0,(AA10*((LOG(AA10))/LOG(2))))","v":-0.48220555587606945},null,{"$f":"N10","v":1122},{"$f":"COUNTIF(L45:L64,AD10)","v":2},{"$f":"AE10/(AG4-AE20)","v":0.1},{"$f":"IF(AF10=0,0,(AF10*((LOG(AF10))/LOG(2))))","v":-0.33219280948873625},null,{"$f":"N10","v":1122},{"$f":"COUNTIF(L65:L83,AI10)","v":3},{"$f":"AJ10/(AL4-AJ20)","v":0.15789473684210525},{"$f":"IF(AK10=0,0,(AK10*((LOG(AK10))/LOG(2))))","v":-0.42046815990354147},null,{"$f":"N10","v":1122},{"$f":"COUNTIF(L84:L102,AN10)","v":1},{"$f":"AO10/(AQ4-AO20)","v":5.2631578947368418E-2},{"$f":"IF(AP10=0,0,(AP10*((LOG(AP10))/LOG(2))))","v":-0.22357513228650452},null,{"$f":"N10","v":1122},{"$f":"COUNTIF(L103:L121,AS10)","v":3},{"$f":"AT10/(AV4-AT20)","v":0.15789473684210525},{"$f":"IF(AU10=0,0,(AU10*((LOG(AU10))/LOG(2))))","v":-0.42046815990354147}]
[12,934,23,945,24,955,23,972,null,null,0,1222,null,1211,{"$f":"COUNTIF($L$7:$L$500,N11)","v":7},{"$f":"O11/$Q$4","v":6.0869565217391307E-2},{"$f":"IF(P11=0,0,(P11*((LOG(P11))/LOG(2))))","v":-0.24579952958441217},null,null,{"$f":"N11","v":1211},{"$f":"COUNTIF(L7:L25,T11)","v":2},{"$f":"U11/(W4-U20)","v":0.1111111111111111},{"$f":"IF(V11=0,0,(V11*((LOG(V11))/LOG(2))))","v":-0.3522138890491458},null,{"$f":"N11","v":1211},{"$f":"COUNTIF(L26:L44,Y11)","v":2},{"$f":"Z11/(AB4-Z20)","v":0.1111111111111111},{"$f":"IF(AA11=0,0,(AA11*((LOG(AA11))/LOG(2))))","v":-0.3522138890491458},null,{"$f":"N11","v":1211},{"$f":"COUNTIF(L45:L64,AD11)","v":0},{"$f":"AE11/(AG4-AE20)","v":0},{"$f":"IF(AF11=0,0,(AF11*((LOG(AF11))/LOG(2))))","v":0},null,{"$f":"N11","v":1211},{"$f":"COUNTIF(L65:L83,AI11)","v":0},{"$f":"AJ11/(AL4-AJ20)","v":0},{"$f":"IF(AK11=0,0,(AK11*((LOG(AK11))/LOG(2))))","v":0},null,{"$f":"N11","v":1211},{"$f":"COUNTIF(L84:L102,AN11)","v":1},{"$f":"AO11/(AQ4-AO20)","v":5.2631578947368418E-2},{"$f":"IF(AP11=0,0,(AP11*((LOG(AP11))/LOG(2))))","v":-0.22357513228650452},null,{"$f":"N11","v":1211},{"$f":"COUNTIF(L103:L121,AS11)","v":2},{"$f":"AT11/(AV4-AT20)","v":0.10526315789473684},{"$f":"IF(AU11=0,0,(AU11*((LOG(AU11))/LOG(2))))","v":-0.34188710667827216}]
[12,1092,23,1110,24,1115,23,1135,null,null,0,1222,null,1212,{"$f":"COUNTIF($L$7:$L$500,N12)","v":0},{"$f":"O12/$Q$4","v":0},{"$f":"IF(P12=0,0,(P12*((LOG(P12))/LOG(2))))","v":0},null,null,{"$f":"N12","v":1212},{"$f":"COUNTIF(L7:L25,T12)","v":0},{"$f":"U12/(W4-U20)","v":0},{"$f":"IF(V12=0,0,(V12*((LOG(V12))/LOG(2))))","v":0},null,{"$f":"N12","v":1212},{"$f":"COUNTIF(L26:L44,Y12)","v":0},{"$f":"Z12/(AB4-Z20)","v":0},{"$f":"IF(AA12=0,0,(AA12*((LOG(AA12))/LOG(2))))","v":0},null,{"$f":"N12","v":1212},{"$f":"COUNTIF(L45:L64,AD12)","v":0},{"$f":"AE12/(AG4-AE20)","v":0},{"$f":"IF(AF12=0,0,(AF12*((LOG(AF12))/LOG(2))))","v":0},null,{"$f":"N12","v":1212},{"$f":"COUNTIF(L65:L83,AI12)","v":0},{"$f":"AJ12/(AL4-AJ20)","v":0},{"$f":"IF(AK12=0,0,(AK12*((LOG(AK12))/LOG(2))))","v":0},null,{"$f":"N12","v":1212},{"$f":"COUNTIF(L84:L102,AN12)","v":0},{"$f":"AO12/(AQ4-AO20)","v":0},{"$f":"IF(AP12=0,0,(AP12*((LOG(AP12))/LOG(2))))","v":0},null,{"$f":"N12","v":1212},{"$f":"COUNTIF(L103:L121,AS12)","v":0},{"$f":"AT12/(AV4-AT20)","v":0},{"$f":"IF(AU12=0,0,(AU12*((LOG(AU12))/LOG(2))))","v":0}]
[21,1291,12,1304,13,1312,23,1337,null,null,0,2112,null,1221,{"$f":"COUNTIF($L$7:$L$500,N13)","v":4},{"$f":"O13/$Q$4","v":3.4782608695652174E-2},{"$f":"IF(P13=0,0,(P13*((LOG(P13))/LOG(2))))","v":-0.16853878438067391},null,null,{"$f":"N13","v":1221},{"$f":"COUNTIF(L7:L25,T13)","v":0},{"$f":"U13/(W4-U20)","v":0},{"$f":"IF(V13=0,0,(V13*((LOG(V13))/LOG(2))))","v":0},null,{"$f":"N13","v":1221},{"$f":"COUNTIF(L26:L44,Y13)","v":2},{"$f":"Z13/(AB4-Z20)","v":0.1111111111111111},{"$f":"IF(AA13=0,0,(AA13*((LOG(AA13))/LOG(2))))","v":-0.3522138890491458},null,{"$f":"N13","v":1221},{"$f":"COUNTIF(L45:L64,AD13)","v":1},{"$f":"AE13/(AG4-AE20)","v":0.05},{"$f":"IF(AF13=0,0,(AF13*((LOG(AF13))/LOG(2))))","v":-0.21609640474436814},null,{"$f":"N13","v":1221},{"$f":"COUNTIF(L65:L83,AI13)","v":1},{"$f":"AJ13/(AL4-AJ20)","v":5.2631578947368418E-2},{"$f":"IF(AK13=0,0,(AK13*((LOG(AK13))/LOG(2))))","v":-0.22357513228650452},null,{"$f":"N13","v":1221},{"$f":"COUNTIF(L84:L102,AN13)","v":0},{"$f":"AO13/(AQ4-AO20)","v":0},{"$f":"IF(AP13=0,0,(AP13*((LOG(AP13))/LOG(2))))","v":0},null,{"$f":"N13","v":1221},{"$f":"COUNTIF(L103:L121,AS13)","v":0},{"$f":"AT13/(AV4-AT20)","v":0},{"$f":"IF(AU13=0,0,(AU13*((LOG(AU13))/LOG(2))))","v":0}]
[12,1450,14,1458,24,1473,23,1477,null,null,0,1122,null,1222,{"$f":"COUNTIF($L$7:$L$500,N14)","v":14},{"$f":"O14/$Q$4","v":0.12173913043478261},{"$f":"IF(P14=0,0,(P14*((LOG(P14))/LOG(2))))","v":-0.36985992873404172},null,null,{"$f":"N14","v":1222},{"$f":"COUNTIF(L7:L25,T14)","v":3},{"$f":"U14/(W4-U20)","v":0.16666666666666666},{"$f":"IF(V14=0,0,(V14*((LOG(V14))/LOG(2))))","v":-0.43082708345352599},null,{"$f":"N14","v":1222},{"$f":"COUNTIF(L26:L44,Y14)","v":2},{"$f":"Z14/(AB4-Z20)","v":0.1111111111111111},{"$f":"IF(AA14=0,0,(AA14*((LOG(AA14))/LOG(2))))","v":-0.3522138890491458},null,{"$f":"N14","v":1222},{"$f":"COUNTIF(L45:L64,AD14)","v":1},{"$f":"AE14/(AG4-AE20)","v":0.05},{"$f":"IF(AF14=0,0,(AF14*((LOG(AF14))/LOG(2))))","v":-0.21609640474436814},null,{"$f":"N14","v":1222},{"$f":"COUNTIF(L65:L83,AI14)","v":2},{"$f":"AJ14/(AL4-AJ20)","v":0.10526315789473684},{"$f":"IF(AK14=0,0,(AK14*((LOG(AK14))/LOG(2))))","v":-0.34188710667827216},null,{"$f":"N14","v":1222},{"$f":"COUNTIF(L84:L102,AN14)","v":2},{"$f":"AO14/(AQ4-AO20)","v":0.10526315789473684},{"$f":"IF(AP14=0,0,(AP14*((LOG(AP14))/LOG(2))))","v":-0.34188710667827216},null,{"$f":"N14","v":1222},{"$f":"COUNTIF(L103:L121,AS14)","v":4},{"$f":"AT14/(AV4-AT20)","v":0.21052631578947367},{"$f":"IF(AU14=0,0,(AU14*((LOG(AU14))/LOG(2))))","v":-0.47324789756707064}]
[12,1578,14,1598,13,1604,23,1616,null,null,0,1112,null,2111,{"$f":"COUNTIF($L$7:$L$500,N15)","v":12},{"$f":"O15/$Q$4","v":0.10434782608695652},{"$f":"IF(P15=0,0,(P15*((LOG(P15))/LOG(2))))","v":-0.34022896176242284},null,null,{"$f":"N15","v":2111},{"$f":"COUNTIF(L7:L25,T15)","v":0},{"$f":"U15/(W4-U20)","v":0},{"$f":"IF(V15=0,0,(V15*((LOG(V15))/LOG(2))))","v":0},null,{"$f":"N15","v":2111},{"$f":"COUNTIF(L26:L44,Y15)","v":1},{"$f":"Z15/(AB4-Z20)","v":5.5555555555555552E-2},{"$f":"IF(AA15=0,0,(AA15*((LOG(AA15))/LOG(2))))","v":-0.23166250008012845},null,{"$f":"N15","v":2111},{"$f":"COUNTIF(L45:L64,AD15)","v":6},{"$f":"AE15/(AG4-AE20)","v":0.3},{"$f":"IF(AF15=0,0,(AF15*((LOG(AF15))/LOG(2))))","v":-0.52108967824986185},null,{"$f":"N15","v":2111},{"$f":"COUNTIF(L65:L83,AI15)","v":4},{"$f":"AJ15/(AL4-AJ20)","v":0.21052631578947367},{"$f":"IF(AK15=0,0,(AK15*((LOG(AK15))/LOG(2))))","v":-0.47324789756707064},null,{"$f":"N15","v":2111},{"$f":"COUNTIF(L84:L102,AN15)","v":0},{"$f":"AO15/(AQ4-AO20)","v":0},{"$f":"IF(AP15=0,0,(AP15*((LOG(AP15))/LOG(2))))","v":0},null,{"$f":"N15","v":2111},{"$f":"COUNTIF(L103:L121,AS15)","v":1},{"$f":"AT15/(AV4-AT20)","v":5.2631578947368418E-2},{"$f":"IF(AU15=0,0,(AU15*((LOG(AU15))/LOG(2))))","v":-0.22357513228650452}]
[12,1738,23,1764,13,1777,14,1783,null,null,0,1211,null,2112,{"$f":"COUNTIF($L$7:$L$500,N16)","v":8},{"$f":"O16/$Q$4","v":6.9565217391304349E-2},{"$f":"IF(P16=0,0,(P16*((LOG(P16))/LOG(2))))","v":-0.26751235137004348},null,null,{"$f":"N16","v":2112},{"$f":"COUNTIF(L7:L25,T16)","v":1},{"$f":"U16/(W4-U20)","v":5.5555555555555552E-2},{"$f":"IF(V16=0,0,(V16*((LOG(V16))/LOG(2))))","v":-0.23166250008012845},null,{"$f":"N16","v":2112},{"$f":"COUNTIF(L26:L44,Y16)","v":2},{"$f":"Z16/(AB4-Z20)","v":0.1111111111111111},{"$f":"IF(AA16=0,0,(AA16*((LOG(AA16))/LOG(2))))","v":-0.3522138890491458},null,{"$f":"N16","v":2112},{"$f":"COUNTIF(L45:L64,AD16)","v":0},{"$f":"AE16/(AG4-AE20)","v":0},{"$f":"IF(AF16=0,0,(AF16*((LOG(AF16))/LOG(2))))","v":0},null,{"$f":"N16","v":2112},{"$f":"COUNTIF(L65:L83,AI16)","v":1},{"$f":"AJ16/(AL4-AJ20)","v":5.2631578947368418E-2},{"$f":"IF(AK16=0,0,(AK16*((LOG(AK16))/LOG(2))))","v":-0.22357513228650452},null,{"$f":"N16","v":2112},{"$f":"COUNTIF(L84:L102,AN16)","v":2},{"$f":"AO16/(AQ4-AO20)","v":0.10526315789473684},{"$f":"IF(AP16=0,0,(AP16*((LOG(AP16))/LOG(2))))","v":-0.34188710667827216},null,{"$f":"N16","v":2112},{"$f":"COUNTIF(L103:L121,AS16)","v":2},{"$f":"AT16/(AV4-AT20)","v":0.10526315789473684},{"$f":"IF(AU16=0,0,(AU16*((LOG(AU16))/LOG(2))))","v":-0.34188710667827216}]
[12,1925,23,1942,13,1954,14,1959,null,null,0,1211,null,2121,{"$f":"COUNTIF($L$7:$L$500,N17)","v":1},{"$f":"O17/$Q$4","v":8.6956521739130436E-3},{"$f":"IF(P17=0,0,(P17*((LOG(P17))/LOG(2))))","v":-5.9526000442994574E-2},null,null,{"$f":"N17","v":2121},{"$f":"COUNTIF(L7:L25,T17)","v":0},{"$f":"U17/(W4-U20)","v":0},{"$f":"IF(V17=0,0,(V17*((LOG(V17))/LOG(2))))","v":0},null,{"$f":"N17","v":2121},{"$f":"COUNTIF(L26:L44,Y17)","v":1},{"$f":"Z17/(AB4-Z20)","v":5.5555555555555552E-2},{"$f":"IF(AA17=0,0,(AA17*((LOG(AA17))/LOG(2))))","v":-0.23166250008012845},null,{"$f":"N17","v":2121},{"$f":"COUNTIF(L45:L64,AD17)","v":0},{"$f":"AE17/(AG4-AE20)","v":0},{"$f":"IF(AF17=0,0,(AF17*((LOG(AF17))/LOG(2))))","v":0},null,{"$f":"N17","v":2121},{"$f":"COUNTIF(L65:L83,AI17)","v":0},{"$f":"AJ17/(AL4-AJ20)","v":0},{"$f":"IF(AK17=0,0,(AK17*((LOG(AK17))/LOG(2))))","v":0},null,{"$f":"N17","v":2121},{"$f":"COUNTIF(L84:L102,AN17)","v":0},{"$f":"AO17/(AQ4-AO20)","v":0},{"$f":"IF(AP17=0,0,(AP17*((LOG(AP17))/LOG(2))))","v":0},null,{"$f":"N17","v":2121},{"$f":"COUNTIF(L103:L121,AS17)","v":0},{"$f":"AT17/(AV4-AT20)","v":0},{"$f":"IF(AU17=0,0,(AU17*((LOG(AU17))/LOG(2))))","v":0}]
[12,2076,14,2082,13,2089,14,2098,null,null,0,1111,null,2122,{"$f":"COUNTIF($L$7:$L$500,N18)","v":4},{"$f":"O18/$Q$4","v":3.4782608695652174E-2},{"$f":"IF(P18=0,0,(P18*((LOG(P18))/LOG(2))))","v":-0.16853878438067391},null,null,{"$f":"N18","v":2122},{"$f":"COUNTIF(L7:L25,T18)","v":1},{"$f":"U18/(W4-U20)","v":5.5555555555555552E-2},{"$f":"IF(V18=0,0,(V18*((LOG(V18))/LOG(2))))","v":-0.23166250008012845},null,{"$f":"N18","v":2122},{"$f":"COUNTIF(L26:L44,Y18)","v":0},{"$f":"Z18/(AB4-Z20)","v":0},{"$f":"IF(AA18=0,0,(AA18*((LOG(AA18))/LOG(2))))","v":0},null,{"$f":"N18","v":2122},{"$f":"COUNTIF(L45:L64,AD18)","v":1},{"$f":"AE18/(AG4-AE20)","v":0.05},{"$f":"IF(AF18=0,0,(AF18*((LOG(AF18))/LOG(2))))","v":-0.21609640474436814},null,{"$f":"N18","v":2122},{"$f":"COUNTIF(L65:L83,AI18)","v":0},{"$f":"AJ18/(AL4-AJ20)","v":0},{"$f":"IF(AK18=0,0,(AK18*((LOG(AK18))/LOG(2))))","v":0},null,{"$f":"N18","v":2122},{"$f":"COUNTIF(L84:L102,AN18)","v":2},{"$f":"AO18/(AQ4-AO20)","v":0.10526315789473684},{"$f":"IF(AP18=0,0,(AP18*((LOG(AP18))/LOG(2))))","v":-0.34188710667827216},null,{"$f":"N18","v":2122},{"$f":"COUNTIF(L103:L121,AS18)","v":0},{"$f":"AT18/(AV4-AT20)","v":0},{"$f":"IF(AU18=0,0,(AU18*((LOG(AU18))/LOG(2))))","v":0}]
[12,2235,14,2241,13,2247,23,2260,null,null,0,1112,null,2211,{"$f":"COUNTIF($L$7:$L$500,N19)","v":4},{"$f":"O19/$Q$4","v":3.4782608695652174E-2},{"$f":"IF(P19=0,0,(P19*((LOG(P19))/LOG(2))))","v":-0.16853878438067391},null,null,{"$f":"N19","v":2211},{"$f":"COUNTIF(L7:L25,T19)","v":0},{"$f":"U19/(W4-U20)","v":0},{"$f":"IF(V19=0,0,(V19*((LOG(V19))/LOG(2))))","v":0},null,{"$f":"N19","v":2211},{"$f":"COUNTIF(L26:L44,Y19)","v":0},{"$f":"Z19/(AB4-Z20)","v":0},{"$f":"IF(AA19=0,0,(AA19*((LOG(AA19))/LOG(2))))","v":0},null,{"$f":"N19","v":2211},{"$f":"COUNTIF(L45:L64,AD19)","v":2},{"$f":"AE19/(AG4-AE20)","v":0.1},{"$f":"IF(AF19=0,0,(AF19*((LOG(AF19))/LOG(2))))","v":-0.33219280948873625},null,{"$f":"N19","v":2211},{"$f":"COUNTIF(L65:L83,AI19)","v":0},{"$f":"AJ19/(AL4-AJ20)","v":0},{"$f":"IF(AK19=0,0,(AK19*((LOG(AK19))/LOG(2))))","v":0},null,{"$f":"N19","v":2211},{"$f":"COUNTIF(L84:L102,AN19)","v":2},{"$f":"AO19/(AQ4-AO20)","v":0.10526315789473684},{"$f":"IF(AP19=0,0,(AP19*((LOG(AP19))/LOG(2))))","v":-0.34188710667827216},null,{"$f":"N19","v":2211},{"$f":"COUNTIF(L103:L121,AS19)","v":0},{"$f":"AT19/(AV4-AT20)","v":0},{"$f":"IF(AU19=0,0,(AU19*((LOG(AU19))/LOG(2))))","v":0}]
[12,2377,14,2387,24,2399,23,2409,null,null,0,1122,null,2212,{"$f":"COUNTIF($L$7:$L$500,N20)","v":2},{"$f":"O20/$Q$4","v":1.7391304347826087E-2},{"$f":"IF(P20=0,0,(P20*((LOG(P20))/LOG(2))))","v":-0.10166069653816305},null,null,{"$f":"N20","v":2212},{"$f":"COUNTIF(L7:L25,T20)","v":1},null,null,null,{"$f":"N20","v":2212},{"$f":"COUNTIF(L26:L44,Y20)","v":1},null,null,null,{"$f":"N20","v":2212},{"$f":"COUNTIF(L45:L64,AD20)","v":0},null,null,null,{"$f":"N20","v":2212},{"$f":"COUNTIF(L65:L83,AI20)","v":0},null,null,null,{"$f":"N20","v":2212},{"$f":"COUNTIF(L84:L102,AN20)","v":0},null,null,null,{"$f":"N20","v":2212},{"$f":"COUNTIF(L103:L121,AS20)","v":0}]
[12,2524,14,2537,24,2554,23,2560,null,null,0,1122,null,2221,{"$f":"COUNTIF($L$7:$L$500,N21)","v":5},{"$f":"O21/$Q$4","v":4.3478260869565216E-2},{"$f":"IF(P21=0,0,(P21*((LOG(P21))/LOG(2))))","v":-0.19667660678508753},null,null,{"$f":"N21","v":2221},{"$f":"COUNTIF(L7:L25,T21)","v":1},{"$f":"U21/(W4-U20)","v":5.5555555555555552E-2},{"$f":"IF(V21=0,0,(V21*((LOG(V21))/LOG(2))))","v":-0.23166250008012845},null,{"$f":"N21","v":2221},{"$f":"COUNTIF(L26:L44,Y21)","v":0},{"$f":"Z21/(AB4-Z20)","v":0},{"$f":"IF(AA21=0,0,(AA21*((LOG(AA21))/LOG(2))))","v":0},null,{"$f":"N21","v":2221},{"$f":"COUNTIF(L45:L64,AD21)","v":1},{"$f":"AE21/(AG4-AE20)","v":0.05},{"$f":"IF(AF21=0,0,(AF21*((LOG(AF21))/LOG(2))))","v":-0.21609640474436814},null,{"$f":"N21","v":2221},{"$f":"COUNTIF(L65:L83,AI21)","v":0},{"$f":"AJ21/(AL4-AJ20)","v":0},{"$f":"IF(AK21=0,0,(AK21*((LOG(AK21))/LOG(2))))","v":0},null,{"$f":"N21","v":2221},{"$f":"COUNTIF(L84:L102,AN21)","v":3},{"$f":"AO21/(AQ4-AO20)","v":0.15789473684210525},{"$f":"IF(AP21=0,0,(AP21*((LOG(AP21))/LOG(2))))","v":-0.42046815990354147},null,{"$f":"N21","v":2221},{"$f":"COUNTIF(L103:L121,AS21)","v":0},{"$f":"AT21/(AV4-AT20)","v":0},{"$f":"IF(AU21=0,0,(AU21*((LOG(AU21))/LOG(2))))","v":0}]
[12,2666,14,2694,13,2699,14,2705,null,null,0,1111,null,2222,{"$f":"COUNTIF($L$7:$L$500,N22)","v":4},{"$f":"O22/$Q$4","v":3.4782608695652174E-2},{"$f":"IF(P22=0,0,(P22*((LOG(P22))/LOG(2))))","v":-0.16853878438067391},null,null,{"$f":"N22","v":2222},{"$f":"COUNTIF(L7:L25,T22)","v":0},{"$f":"U22/(W4-U20)","v":0},{"$f":"IF(V22=0,0,(V22*((LOG(V22))/LOG(2))))","v":0},null,{"$f":"N22","v":2222},{"$f":"COUNTIF(L26:L44,Y22)","v":0},{"$f":"Z22/(AB4-Z20)","v":0},{"$f":"IF(AA22=0,0,(AA22*((LOG(AA22))/LOG(2))))","v":0},null,{"$f":"N22","v":2222},{"$f":"COUNTIF(L45:L64,AD22)","v":0},{"$f":"AE22/(AG4-AE20)","v":0},{"$f":"IF(AF22=0,0,(AF22*((LOG(AF22))/LOG(2))))","v":0},null,{"$f":"N22","v":2222},{"$f":"COUNTIF(L65:L83,AI22)","v":1},{"$f":"AJ22/(AL4-AJ20)","v":5.2631578947368418E-2},{"$f":"IF(AK22=0,0,(AK22*((LOG(AK22))/LOG(2))))","v":-0.22357513228650452},null,{"$f":"N22","v":2222},{"$f":"COUNTIF(L84:L102,AN22)","v":0},{"$f":"AO22/(AQ4-AO20)","v":0},{"$f":"IF(AP22=0,0,(AP22*((LOG(AP22))/LOG(2))))","v":0},null,{"$f":"N22","v":2222},{"$f":"COUNTIF(L103:L121,AS22)","v":3},{"$f":"AT22/(AV4-AT20)","v":0.15789473684210525},{"$f":"IF(AU22=0,0,(AU22*((LOG(AU22))/LOG(2))))","v":-0.42046815990354147}]
[12,2841,14,2845,13,2851,23,2864,null,null,0,1112,null,null,null,{"$f":"SUM(P7:P22)","v":1},{"$f":"-SUM(Q7:Q22)","v":3.566112933044149},null,null,null,null,{"$f":"SUM(V7:V22)","v":1},{"$f":"-SUM(W7:W22)","v":2.7946534735443418},null,null,null,{"$f":"SUM(AA7:AA22)","v":1.0000000000000002},{"$f":"-SUM(AB7:AB22)","v":3.0168756957665637},null,null,null,{"$f":"SUM(AF7:AF22)","v":1},{"$f":"-SUM(AG7:AG22)","v":2.8464393446710154},null,null,null,{"$f":"SUM(AK7:AK22)","v":1},{"$f":"-SUM(AL7:AL22)","v":2.7550576199383081},null,null,null,{"$f":"SUM(AP7:AP22)","v":1},{"$f":"-SUM(AQ7:AQ22)","v":3.1555650133297193},null,null,null,{"$f":"SUM(AU7:AU22)","v":0.99999999999999978},{"$f":"-SUM(AV7:AV22)","v":3.0105709342684843}]
[12,2968,14,2974,13,2979,23,2994,null,null,0,1112,null,null,null,"U=",{"$f":"Q23/(LOG(Q4)/LOG(2))","v":0.52094341040670755},null,null,null,null,"U1=",{"$f":"W23/(LOG(W4)/LOG(2))","v":0.65788633744337466},null,null,null,"U2=",{"$f":"AB23/(LOG(AB4)/LOG(2))","v":0.71019942930262747},null,null,null,"U3=",{"$f":"AG23/(LOG(AG4)/LOG(2))","v":0.65860404943761541},null,null,null,"U4=",{"$f":"AL23/(LOG(AL4)/LOG(2))","v":0.64856512057215376},null,null,null,"U5=",{"$f":"AQ23/(LOG(AQ4)/LOG(2))","v":0.74284813084573054},null,null,null,"U6=",{"$f":"AV23/(LOG(AV4)/LOG(2))","v":0.70871523224932886}]
[21,3152,21,3188,22,3199,14,3248,null,null,0,2221]
[21,3351,21,3386,11,3412,21,3424,null,null,0,2212]
[12,3548,23,3558,24,3574,14,3589,null,null,0,1221,null,"Total Target Seq"]
[12,3691,14,3718,13,3723,23,3732,null,null,0,1112,null,{"$f":"COUNTIF(L7:L121,G3)","v":2},null,19,19,20,19,19,19]
[12,3877,14,3882,24,3894,23,3902,null,null,0,1122,null,null,null,"% of reinforcement given in 6 equal intervals based on number of trials "]
[12,4027,14,4066,24,4084,23,4089,null,null,0,1122,null,null,null,"%_1","%_2","%_3","%_4","%_5","%_6"]
[21,4207,12,4241,13,4246,14,4252,null,null,0,2111,null,null,"target sequence",{"$f":"$G$3","v":2212},{"$f":"$G$3","v":2212},{"$f":"$G$3","v":2212},{"$f":"$G$3","v":2212},{"$f":"$G$3","v":2212},{"$f":"$G$3","v":2212}]
[21,4371,12,4392,13,4402,23,4418,null,null,0,2112,null,null,"total reinforcement",{"$f":"U20","v":1},{"$f":"Z20","v":1},{"$f":"AE20","v":0},{"$f":"AJ20","v":0},{"$f":"AO20","v":0},{"$f":"AT20","v":0}]
[21,4554,12,4570,13,4580,23,4592,null,null,0,2112,null,null,"% target"]
[21,4715,12,4728,24,4752,14,4767,null,null,0,2121,null,null,"CCRF"]
[12,4894,23,4905,24,4910,23,4918,null,null,0,1222,null,null,"% CCRf"]
[12,5034,23,5061,13,5073,14,5078,null,null,0,1211,null,null,"average response rate",{"$f":"H25/P28","v":170.94736842105263},{"$f":"(H44-H25)/Q28","v":164.31578947368422},{"$f":"(H64-H44)/R28","v":174.1},{"$f":"(H83-H64)/S28","v":185.26315789473685},{"$f":"(H102-H83)/T28","v":267.4736842105263},{"$f":"(H121-H102)/U28","v":289.94736842105266}]
[12,5208,23,5226,24,5239,23,5250,null,null,0,1222]
[12,5408,23,5423,24,5428,14,5444,null,null,0,1221]
[12,5551,14,5565,24,5590,23,5599,null,null,0,1122]
[12,5721,14,5754,13,5763,23,5776,null,null,0,1112]
[12,5879,14,5884,13,5894,23,5923,null,null,0,1112]
[12,6025,23,6050,13,6066,14,6071,null,null,0,1211]
[12,6193,14,6198,24,6211,23,6216,null,null,0,1122]
[12,6316,14,6321,13,6365,14,6370,null,null,0,1111]
[12,6484,23,6508,24,6518,14,6534,null,null,0,1221]
[12,6648,14,6653,13,6657,14,6670,null,null,0,1111]
[12,6774,14,6802,13,6807,23,6824,null,null,0,1112]
[12,6934,14,6940,13,6945,23,6963,null,null,0,1112]
[21,7089,12,7109,13,7114,14,7118,null,null,0,2111]
[21,7273,21,7289,11,7314,12,7318,null,null,0,2211]
[12,7450,14,7454,13,7459,14,7464,null,null,0,1111]
[21,7585,12,7617,13,7626,14,7631,null,null,0,2111]
[21,7818,12,7834,24,7849,23,7879,null,null,0,2122]
[12,8022,14,8027,24,8038,23,8047,null,null,0,1122]
[21,8154,21,8170,22,8195,14,8208,null,null,0,2221]
[21,8309,12,8350,13,8355,14,8359,null,null,0,2111]
[21,8504,12,8537,13,8542,14,8548,null,null,0,2111]
[21,8643,21,8669,11,8683,12,8687,null,null,0,2211]
[21,8892,12,8923,13,8932,14,8937,null,null,0,2111]
[12,9078,14,9086,13,9092,14,9104,null,null,0,1111]
[12,9271,23,9304,24,9310,23,9318,null,null,0,1222]
[12,9448,14,9453,24,9479,23,9487,null,null,0,1122]
[12,9606,14,9630,13,9635,14,9638,null,null,0,1111]
[21,9813,12,9827,13,9835,14,9852,null,null,0,2111]
[12,9991,14,9996,24,10021,23,10029,null,null,0,1122]
[12,10175,23,10206,24,10211,23,10220,null,null,0,1222]
[21,10432,12,10465,13,10470,14,10475,null,null,0,2111]
[21,10612,12,10633,13,10637,14,10643,null,null,0,2111]
[21,10744,12,10774,13,10779,14,10785,null,null,0,2111]
[12,10954,14,10958,13,10963,14,10968,null,null,0,1111]
[12,11270,14,11275,13,11280,14,11284,null,null,0,1111]
[12,11418,14,11423,13,11428,23,11441,null,null,0,1112]
[12,11561,23,11578,24,11599,23,11606,null,null,0,1222]
[12,11725,14,11730,24,11741,23,11747,null,null,0,1122]
[12,11870,14,11884,24,11901,23,11911,null,null,0,1122]
[12,12035,14,12043,13,12049,23,12062,null,null,0,1112]
[12,12177,23,12206,24,12212,14,12230,null,null,0,1221]
[21,12408,12,12424,13,12429,23,12446,null,null,0,2112]
[12,12556,14,12561,13,12567,14,12577,null,null,0,1111]
[12,12692,14,12697,13,12703,14,12708,null,null,0,1111]
[21,12839,21,12844,22,12852,23,12857,null,null,0,2222]
[21,13012,12,13039,13,13044,14,13050,null,null,0,2111]
[12,13320,14,13357,13,13362,14,13372,null,null,0,1111]
[21,13483,12,13500,13,13507,23,13520,null,null,0,2112]
[21,13682,21,13695,11,13712,12,13717,null,null,0,2211]
[12,13822,14,13828,13,13843,23,13856,null,null,0,1112]
[21,13967,12,13984,13,13988,23,14000,null,null,0,2112]
[21,14172,21,14185,22,14190,14,14206,null,null,0,2221]
[12,14437,14,14441,24,14458,23,14465,null,null,0,1122]
[21,14600,21,14616,22,14632,14,14648,null,null,0,2221]
[21,14847,12,14871,24,14884,23,14895,null,null,0,2122]
[12,15010,23,15101,13,15126,14,15135,null,null,0,1211]
[12,15452,23,15477,24,15487,23,15540,null,null,0,1222]
[21,15907,12,15946,24,15965,23,15979,null,null,0,2122]
[12,16425,14,16431,13,16437,23,16452,null,null,0,1112]
[12,16689,14,16753,13,16759,23,16772,null,null,0,1112]
[12,16901,14,16906,24,16918,14,16935,null,null,0,1121]
[21,17167,21,17195,11,17207,12,17212,null,null,0,2211]
[12,17381,14,17390,13,17396,23,17411,null,null,0,1112]
[12,17586,14,17595,13,17649,14,17653,null,null,0,1111]
[21,18216,21,18230,22,18243,14,18261,null,null,0,2221]
[12,18392,23,18416,24,18442,23,18454,null,null,0,1222]
[12,18696,23,18792,13,18825,14,18830,null,null,0,1211]
[21,19064,12,19124,13,19130,23,19142,null,null,0,2112]
[12,19781,14,19788,24,19816,23,19825,null,null,0,1122]
[12,19970,14,19977,24,19992,14,20012,null,null,0,1121]
[12,20252,14,20259,24,20269,23,20274,null,null,0,1122]
[21,20414,21,20430,22,20439,23,20451,null,null,0,2222]
[12,20693,14,20699,13,20704,14,20719,null,null,0,1111]
[21,21006,21,21015,22,21029,23,21038,null,null,0,2222]
[12,21181,14,21190,24,21208,23,21223,null,null,0,1122]
[12,21662,23,21696,24,21701,23,21733,null,null,0,1222]
[21,21894,12,21911,13,21915,14,21921,null,null,0,2111]
[12,22151,23,22165,24,22174,23,22183,null,null,0,1222]
[21,22328,12,22348,13,22353,23,22364,null,null,0,2112]
[12,22517,23,22529,24,22546,23,22560,null,null,0,1222]
[12,22918,23,22934,24,22946,23,22968,null,null,0,1222]
[12,23194,23,23210,13,23225,14,23230,null,null,0,1211]
[12,23394,14,23402,13,23408,23,23442,null,null,0,1112]
[12,23663,14,23693,24,23709,14,23726,null,null,0,1121]
[21,23936,21,23941,22,23949,23,23963,null,null,null,2222]

{"sheet":"!N111A00.092","index":14,"n_rows":100,"n_cols":48,"rows_kept":100,"cut":false,"hidden":false,"merged":[[4,39,4,42],[5,39,5,40],[4,44,4,47],[5,44,5,45],[4,24,4,27],[5,24,5,25],[4,29,4,32],[5,29,5,30],[4,34,4,37],[5,34,5,35],[1,1,1,2],[5,13,5,14],[26,13,26,14],[27,13,27,14],[4,19,4,22],[5,19,5,20]]}
["Report for:!N111A00.092"]
["Date:","<date>"]
["Hen:","<hen>",null,null,null,"Correct Sequence",{"$f":"Start!J2","v":2212},null,null,null,null,null,null,null,null,"Total Sequences in Data",{"$f":"4994-COUNTBLANK(L7:L5000)","v":94},null,null,null,null,"Total Sequences in Block Data",{"$f":"COUNTA(L7:L22)","v":16},null,null,null,"Total Sequences in Block Data",{"$f":"COUNTA(L23:L37)","v":15},null,null,null,"Total Sequences in Block Data",{"$f":"COUNTA(L38:L53)","v":16},null,null,null,"Total Sequences in Block Data",{"$f":"COUNTA(L54:L69)","v":16},null,null,null,"Total Sequences in Block Data",{"$f":"COUNTA(L70:L84)","v":15},null,null,null,"Total Sequences in Block Data",{"$f":"COUNTA(L85:L100)","v":16}]
[null,null,null,null,null,null,null,null,null,null,null,null,null,null,null,"Total Sequences in Summary",{"$f":"SUM(O7:O22)","v":94},null,null,null,null,"Total Sequences in Block Summary",{"$f":"SUM(U7:U22)","v":16},null,null,null,"Total Sequences in Block Summary",{"$f":"SUM(Z7:Z22)","v":15},null,null,null,"Total Sequences in Block Summary",{"$f":"SUM(AE7:AE22)","v":16},null,null,null,"Total Sequences in Block Summary",{"$f":"SUM(AJ7:AJ22)","v":16},null,null,null,"Total Sequences in Block Summary",{"$f":"SUM(AO7:AO22)","v":15},null,null,null,"Total Sequences in Block Summary",{"$f":"SUM(AT7:AT22)","v":16}]
[null,null,null,null,null,null,null,null,null,null,null,null,null,null,null,null,null,null,null,"Block 1",null,null,null,null,"Block 2",null,null,null,null,"Block 3",null,null,null,null,"Block 4",null,null,null,null,"Block 5",null,null,null,null,"Block 6"]
["Sequence\nComponent\n1","Time\n1","Sequence\nComponent\n2","Time\n2","Sequence\nComponent\n3","Time\n3","Sequence\nComponent\n4","Time\n4","Sequence\nComponent\n5","Time\n5","Correct?\n0=No 1=Yes","Sequence",null,"Frequency",null,"Relative Frequency","Variability",null,null,"Frequency",null,"Relative Frequency","Variability",null,"Frequency",null,"Relative Frequency","Variability",null,"Frequency",null,"Relative Frequency","Variability",null,"Frequency",null,"Relative Frequency","Variability",null,"Frequency",null,"Relative Frequency","Variability",null,"Frequency",null,"Relative Frequency","Variability"]
[21,114,21,142,22,154,23,162,null,null,0,2222,null,1111,{"$f":"COUNTIF($L$7:$L$500,N7)","v":12},{"$f":"O7/$Q$4","v":0.1276595744680851},{"$f":"IF(P7=0,0,(P7*((LOG(P7))/LOG(2))))","v":-0.37910123629231673},null,null,{"$f":"N7","v":1111},{"$f":"COUNTIF(L7:L22,T7)","v":1},{"$f":"U7/(W4-U20)","v":6.25E-2},{"$f":"IF(V7=0,0,(V7*((LOG(V7))/LOG(2))))","v":-0.25},null,{"$f":"N7","v":1111},{"$f":"COUNTIF(L23:L37,Y7)","v":2},{"$f":"Z7/(AB4-Z20)","v":0.13333333333333333},{"$f":"IF(AA7=0,0,(AA7*((LOG(AA7))/LOG(2))))","v":-0.3875854127478025},null,{"$f":"N7","v":1111},{"$f":"COUNTIF(L38:L53,AD7)","v":6},{"$f":"AE7/(AG4-AE20)","v":0.375},{"$f":"IF(AF7=0,0,(AF7*((LOG(AF7))/LOG(2))))","v":-0.53063906222956647},null,{"$f":"N7","v":1111},{"$f":"COUNTIF(L54:L69,AI7)","v":2},{"$f":"AJ7/(AL4-AJ20)","v":0.125},{"$f":"IF(AK7=0,0,(AK7*((LOG(AK7))/LOG(2))))","v":-0.375},null,{"$f":"N7","v":1111},{"$f":"COUNTIF(L70:L84,AN7)","v":1},{"$f":"AO7/(AQ4-AO20)","v":6.6666666666666666E-2},{"$f":"IF(AP7=0,0,(AP7*((LOG(AP7))/LOG(2))))","v":-0.26045937304056793},null,{"$f":"N7","v":1111},{"$f":"COUNTIF(L85:L100,AS7)","v":0},{"$f":"AT7/(AV4-AT20)","v":0},{"$f":"IF(AU7=0,0,(AU7*((LOG(AU7))/LOG(2))))","v":0}]
[21,313,21,330,11,342,12,348,null,null,0,2211,null,1112,{"$f":"COUNTIF($L$7:$L$500,N8)","v":7},{"$f":"O8/$Q$4","v":7.4468085106382975E-2},{"$f":"IF(P8=0,0,(P8*((LOG(P8))/LOG(2))))","v":-0.27904933518447056},null,null,{"$f":"N8","v":1112},{"$f":"COUNTIF(L7:L22,T8)","v":2},{"$f":"U8/(W4-U20)","v":0.125},{"$f":"IF(V8=0,0,(V8*((LOG(V8))/LOG(2))))","v":-0.375},null,{"$f":"N8","v":1112},{"$f":"COUNTIF(L23:L37,Y8)","v":1},{"$f":"Z8/(AB4-Z20)","v":6.6666666666666666E-2},{"$f":"IF(AA8=0,0,(AA8*((LOG(AA8))/LOG(2))))","v":-0.26045937304056793},null,{"$f":"N8","v":1112},{"$f":"COUNTIF(L38:L53,AD8)","v":2},{"$f":"AE8/(AG4-AE20)","v":0.125},{"$f":"IF(AF8=0,0,(AF8*((LOG(AF8))/LOG(2))))","v":-0.375},null,{"$f":"N8","v":1112},{"$f":"COUNTIF(L54:L69,AI8)","v":0},{"$f":"AJ8/(AL4-AJ20)","v":0},{"$f":"IF(AK8=0,0,(AK8*((LOG(AK8))/LOG(2))))","v":0},null,{"$f":"N8","v":1112},{"$f":"COUNTIF(L70:L84,AN8)","v":0},{"$f":"AO8/(AQ4-AO20)","v":0},{"$f":"IF(AP8=0,0,(AP8*((LOG(AP8))/LOG(2))))","v":0},null,{"$f":"N8","v":1112},{"$f":"COUNTIF(L85:L100,AS8)","v":2},{"$f":"AT8/(AV4-AT20)","v":0.125},{"$f":"IF(AU8=0,0,(AU8*((LOG(AU8))/LOG(2))))","v":-0.375}]
[12,466,14,484,13,486,23,498,null,null,0,1112,null,1121,{"$f":"COUNTIF($L$7:$L$500,N9)","v":3},{"$f":"O9/$Q$4","v":3.1914893617021274E-2},{"$f":"IF(P9=0,0,(P9*((LOG(P9))/LOG(2))))","v":-0.15860509630712172},null,null,{"$f":"N9","v":1121},{"$f":"COUNTIF(L7:L22,T9)","v":1},{"$f":"U9/(W4-U20)","v":6.25E-2},{"$f":"IF(V9=0,0,(V9*((LOG(V9))/LOG(2))))","v":-0.25},null,{"$f":"N9","v":1121},{"$f":"COUNTIF(L23:L37,Y9)","v":2},{"$f":"Z9/(AB4-Z20)","v":0.13333333333333333},{"$f":"IF(AA9=0,0,(AA9*((LOG(AA9))/LOG(2))))","v":-0.3875854127478025},null,{"$f":"N9","v":1121},{"$f":"COUNTIF(L38:L53,AD9)","v":0},{"$f":"AE9/(AG4-AE20)","v":0},{"$f":"IF(AF9=0,0,(AF9*((LOG(AF9))/LOG(2))))","v":0},null,{"$f":"N9","v":1121},{"$f":"COUNTIF(L54:L69,AI9)","v":0},{"$f":"AJ9/(AL4-AJ20)","v":0},{"$f":"IF(AK9=0,0,(AK9*((LOG(AK9))/LOG(2))))","v":0},null,{"$f":"N9","v":1121},{"$f":"COUNTIF(L70:L84,AN9)","v":0},{"$f":"AO9/(AQ4-AO20)","v":0},{"$f":"IF(AP9=0,0,(AP9*((LOG(AP9))/LOG(2))))","v":0},null,{"$f":"N9","v":1121},{"$f":"COUNTIF(L85:L100,AS9)","v":0},{"$f":"AT9/(AV4-AT20)","v":0},{"$f":"IF(AU9=0,0,(AU9*((LOG(AU9))/LOG(2))))","v":0}]
[12,614,14,632,13,639,14,645,null,null,0,1111,null,1122,{"$f":"COUNTIF($L$7:$L$500,N10)","v":11},{"$f":"O10/$Q$4","v":0.11702127659574468},{"$f":"IF(P10=0,0,(P10*((LOG(P10))/LOG(2))))","v":-0.36219925067493347},null,null,{"$f":"N10","v":1122},{"$f":"COUNTIF(L7:L22,T10)","v":1},{"$f":"U10/(W4-U20)","v":6.25E-2},{"$f":"IF(V10=0,0,(V10*((LOG(V10))/LOG(2))))","v":-0.25},null,{"$f":"N10","v":1122},{"$f":"COUNTIF(L23:L37,Y10)","v":2},{"$f":"Z10/(AB4-Z20)","v":0.13333333333333333},{"$f":"IF(AA10=0,0,(AA10*((LOG(AA10))/LOG(2))))","v":-0.3875854127478025},null,{"$f":"N10","v":1122},{"$f":"COUNTIF(L38:L53,AD10)","v":1},{"$f":"AE10/(AG4-AE20)","v":6.25E-2},{"$f":"IF(AF10=0,0,(AF10*((LOG(AF10))/LOG(2))))","v":-0.25},null,{"$f":"N10","v":1122},{"$f":"COUNTIF(L54:L69,AI10)","v":2},{"$f":"AJ10/(AL4-AJ20)","v":0.125},{"$f":"IF(AK10=0,0,(AK10*((LOG(AK10))/LOG(2))))","v":-0.375},null,{"$f":"N10","v":1122},{"$f":"COUNTIF(L70:L84,AN10)","v":2},{"$f":"AO10/(AQ4-AO20)","v":0.13333333333333333},{"$f":"IF(AP10=0,0,(AP10*((LOG(AP10))/LOG(2))))","v":-0.3875854127478025},null,{"$f":"N10","v":1122},{"$f":"COUNTIF(L85:L100,AS10)","v":3},{"$f":"AT10/(AV4-AT20)","v":0.1875},{"$f":"IF(AU10=0,0,(AU10*((LOG(AU10))/LOG(2))))","v":-0.45281953111478312}]
[12,753,14,771,24,792,14,813,null,null,0,1121,null,1211,{"$f":"COUNTIF($L$7:$L$500,N11)","v":7},{"$f":"O11/$Q$4","v":7.4468085106382975E-2},{"$f":"IF(P11=0,0,(P11*((LOG(P11))/LOG(2))))","v":-0.27904933518447056},null,null,{"$f":"N11","v":1211},{"$f":"COUNTIF(L7:L22,T11)","v":1},{"$f":"U11/(W4-U20)","v":6.25E-2},{"$f":"IF(V11=0,0,(V11*((LOG(V11))/LOG(2))))","v":-0.25},null,{"$f":"N11","v":1211},{"$f":"COUNTIF(L23:L37,Y11)","v":1},{"$f":"Z11/(AB4-Z20)","v":6.6666666666666666E-2},{"$f":"IF(AA11=0,0,(AA11*((LOG(AA11))/LOG(2))))","v":-0.26045937304056793},null,{"$f":"N11","v":1211},{"$f":"COUNTIF(L38:L53,AD11)","v":2},{"$f":"AE11/(AG4-AE20)","v":0.125},{"$f":"IF(AF11=0,0,(AF11*((LOG(AF11))/LOG(2))))","v":-0.375},null,{"$f":"N11","v":1211},{"$f":"COUNTIF(L54:L69,AI11)","v":3},{"$f":"AJ11/(AL4-AJ20)","v":0.1875},{"$f":"IF(AK11=0,0,(AK11*((LOG(AK11))/LOG(2))))","v":-0.45281953111478312},null,{"$f":"N11","v":1211},{"$f":"COUNTIF(L70:L84,AN11)","v":0},{"$f":"AO11/(AQ4-AO20)","v":0},{"$f":"IF(AP11=0,0,(AP11*((LOG(AP11))/LOG(2))))","v":0},null,{"$f":"N11","v":1211},{"$f":"COUNTIF(L85:L100,AS11)","v":0},{"$f":"AT11/(AV4-AT20)","v":0},{"$f":"IF(AU11=0,0,(AU11*((LOG(AU11))/LOG(2))))","v":0}]
[21,965,12,977,24,990,23,996,null,null,0,2122,null,1212,{"$f":"COUNTIF($L$7:$L$500,N12)","v":1},{"$f":"O12/$Q$4","v":1.0638297872340425E-2},{"$f":"IF(P12=0,0,(P12*((LOG(P12))/LOG(2))))","v":-6.9729668634868486E-2},null,null,{"$f":"N12","v":1212},{"$f":"COUNTIF(L7:L22,T12)","v":0},{"$f":"U12/(W4-U20)","v":0},{"$f":"IF(V12=0,0,(V12*((LOG(V12))/LOG(2))))","v":0},null,{"$f":"N12","v":1212},{"$f":"COUNTIF(L23:L37,Y12)","v":0},{"$f":"Z12/(AB4-Z20)","v":0},{"$f":"IF(AA12=0,0,(AA12*((LOG(AA12))/LOG(2))))","v":0},null,{"$f":"N12","v":1212},{"$f":"COUNTIF(L38:L53,AD12)","v":0},{"$f":"AE12/(AG4-AE20)","v":0},{"$f":"IF(AF12=0,0,(AF12*((LOG(AF12))/LOG(2))))","v":0},null,{"$f":"N12","v":1212},{"$f":"COUNTIF(L54:L69,AI12)","v":1},{"$f":"AJ12/(AL4-AJ20)","v":6.25E-2},{"$f":"IF(AK12=0,0,(AK12*((LOG(AK12))/LOG(2))))","v":-0.25},null,{"$f":"N12","v":1212},{"$f":"COUNTIF(L70:L84,AN12)","v":0},{"$f":"AO12/(AQ4-AO20)","v":0},{"$f":"IF(AP12=0,0,(AP12*((LOG(AP12))/LOG(2))))","v":0},null,{"$f":"N12","v":1212},{"$f":"COUNTIF(L85:L100,AS12)","v":0},{"$f":"AT12/(AV4-AT20)","v":0},{"$f":"IF(AU12=0,0,(AU12*((LOG(AU12))/LOG(2))))","v":0}]
[12,1118,23,1137,24,1142,23,1148,null,null,0,1222,null,1221,{"$f":"COUNTIF($L$7:$L$500,N13)","v":7},{"$f":"O13/$Q$4","v":7.4468085106382975E-2},{"$f":"IF(P13=0,0,(P13*((LOG(P13))/LOG(2))))","v":-0.27904933518447056},null,null,{"$f":"N13","v":1221},{"$f":"COUNTIF(L7:L22,T13)","v":2},{"$f":"U13/(W4-U20)","v":0.125},{"$f":"IF(V13=0,0,(V13*((LOG(V13))/LOG(2))))","v":-0.375},null,{"$f":"N13","v":1221},{"$f":"COUNTIF(L23:L37,Y13)","v":0},{"$f":"Z13/(AB4-Z20)","v":0},{"$f":"IF(AA13=0,0,(AA13*((LOG(AA13))/LOG(2))))","v":0},null,{"$f":"N13","v":1221},{"$f":"COUNTIF(L38:L53,AD13)","v":1},{"$f":"AE13/(AG4-AE20)","v":6.25E-2},{"$f":"IF(AF13=0,0,(AF13*((LOG(AF13))/LOG(2))))","v":-0.25},null,{"$f":"N13","v":1221},{"$f":"COUNTIF(L54:L69,AI13)","v":1},{"$f":"AJ13/(AL4-AJ20)","v":6.25E-2},{"$f":"IF(AK13=0,0,(AK13*((LOG(AK13))/LOG(2))))","v":-0.25},null,{"$f":"N13","v":1221},{"$f":"COUNTIF(L70:L84,AN13)","v":2},{"$f":"AO13/(AQ4-AO20)","v":0.13333333333333333},{"$f":"IF(AP13=0,0,(AP13*((LOG(AP13))/LOG(2))))","v":-0.3875854127478025},null,{"$f":"N13","v":1221},{"$f":"COUNTIF(L85:L100,AS13)","v":1},{"$f":"AT13/(AV4-AT20)","v":6.25E-2},{"$f":"IF(AU13=0,0,(AU13*((LOG(AU13))/LOG(2))))","v":-0.25}]
[21,1344,21,1349,22,1364,23,1370,null,null,0,2222,null,1222,{"$f":"COUNTIF($L$7:$L$500,N14)","v":10},{"$f":"O14/$Q$4","v":0.10638297872340426},{"$f":"IF(P14=0,0,(P14*((LOG(P14))/LOG(2))))","v":-0.34390008050960374},null,null,{"$f":"N14","v":1222},{"$f":"COUNTIF(L7:L22,T14)","v":3},{"$f":"U14/(W4-U20)","v":0.1875},{"$f":"IF(V14=0,0,(V14*((LOG(V14))/LOG(2))))","v":-0.45281953111478312},null,{"$f":"N14","v":1222},{"$f":"COUNTIF(L23:L37,Y14)","v":3},{"$f":"Z14/(AB4-Z20)","v":0.2},{"$f":"IF(AA14=0,0,(AA14*((LOG(AA14))/LOG(2))))","v":-0.46438561897747244},null,{"$f":"N14","v":1222},{"$f":"COUNTIF(L38:L53,AD14)","v":1},{"$f":"AE14/(AG4-AE20)","v":6.25E-2},{"$f":"IF(AF14=0,0,(AF14*((LOG(AF14))/LOG(2))))","v":-0.25},null,{"$f":"N14","v":1222},{"$f":"COUNTIF(L54:L69,AI14)","v":0},{"$f":"AJ14/(AL4-AJ20)","v":0},{"$f":"IF(AK14=0,0,(AK14*((LOG(AK14))/LOG(2))))","v":0},null,{"$f":"N14","v":1222},{"$f":"COUNTIF(L70:L84,AN14)","v":1},{"$f":"AO14/(AQ4-AO20)","v":6.6666666666666666E-2},{"$f":"IF(AP14=0,0,(AP14*((LOG(AP14))/LOG(2))))","v":-0.26045937304056793},null,{"$f":"N14","v":1222},{"$f":"COUNTIF(L85:L100,AS14)","v":2},{"$f":"AT14/(AV4-AT20)","v":0.125},{"$f":"IF(AU14=0,0,(AU14*((LOG(AU14))/LOG(2))))","v":-0.375}]
[12,1614,23,1627,24,1632,14,1645,null,null,0,1221,null,2111,{"$f":"COUNTIF($L$7:$L$500,N15)","v":14},{"$f":"O15/$Q$4","v":0.14893617021276595},{"$f":"IF(P15=0,0,(P15*((LOG(P15))/LOG(2))))","v":-0.40916250015617511},null,null,{"$f":"N15","v":2111},{"$f":"COUNTIF(L7:L22,T15)","v":0},{"$f":"U15/(W4-U20)","v":0},{"$f":"IF(V15=0,0,(V15*((LOG(V15))/LOG(2))))","v":0},null,{"$f":"N15","v":2111},{"$f":"COUNTIF(L23:L37,Y15)","v":1},{"$f":"Z15/(AB4-Z20)","v":6.6666666666666666E-2},{"$f":"IF(AA15=0,0,(AA15*((LOG(AA15))/LOG(2))))","v":-0.26045937304056793},null,{"$f":"N15","v":2111},{"$f":"COUNTIF(L38:L53,AD15)","v":2},{"$f":"AE15/(AG4-AE20)","v":0.125},{"$f":"IF(AF15=0,0,(AF15*((LOG(AF15))/LOG(2))))","v":-0.375},null,{"$f":"N15","v":2111},{"$f":"COUNTIF(L54:L69,AI15)","v":5},{"$f":"AJ15/(AL4-AJ20)","v":0.3125},{"$f":"IF(AK15=0,0,(AK15*((LOG(AK15))/LOG(2))))","v":-0.52439747034769923},null,{"$f":"N15","v":2111},{"$f":"COUNTIF(L70:L84,AN15)","v":3},{"$f":"AO15/(AQ4-AO20)","v":0.2},{"$f":"IF(AP15=0,0,(AP15*((LOG(AP15))/LOG(2))))","v":-0.46438561897747244},null,{"$f":"N15","v":2111},{"$f":"COUNTIF(L85:L100,AS15)","v":3},{"$f":"AT15/(AV4-AT20)","v":0.1875},{"$f":"IF(AU15=0,0,(AU15*((LOG(AU15))/LOG(2))))","v":-0.45281953111478312}]
[12,1761,14,1787,24,1815,23,1821,null,null,0,1122,null,2112,{"$f":"COUNTIF($L$7:$L$500,N16)","v":1},{"$f":"O16/$Q$4","v":1.0638297872340425E-2},{"$f":"IF(P16=0,0,(P16*((LOG(P16))/LOG(2))))","v":-6.9729668634868486E-2},null,null,{"$f":"N16","v":2112},{"$f":"COUNTIF(L7:L22,T16)","v":0},{"$f":"U16/(W4-U20)","v":0},{"$f":"IF(V16=0,0,(V16*((LOG(V16))/LOG(2))))","v":0},null,{"$f":"N16","v":2112},{"$f":"COUNTIF(L23:L37,Y16)","v":0},{"$f":"Z16/(AB4-Z20)","v":0},{"$f":"IF(AA16=0,0,(AA16*((LOG(AA16))/LOG(2))))","v":0},null,{"$f":"N16","v":2112},{"$f":"COUNTIF(L38:L53,AD16)","v":0},{"$f":"AE16/(AG4-AE20)","v":0},{"$f":"IF(AF16=0,0,(AF16*((LOG(AF16))/LOG(2))))","v":0},null,{"$f":"N16","v":2112},{"$f":"COUNTIF(L54:L69,AI16)","v":0},{"$f":"AJ16/(AL4-AJ20)","v":0},{"$f":"IF(AK16=0,0,(AK16*((LOG(AK16))/LOG(2))))","v":0},null,{"$f":"N16","v":2112},{"$f":"COUNTIF(L70:L84,AN16)","v":0},{"$f":"AO16/(AQ4-AO20)","v":0},{"$f":"IF(AP16=0,0,(AP16*((LOG(AP16))/LOG(2))))","v":0},null,{"$f":"N16","v":2112},{"$f":"COUNTIF(L85:L100,AS16)","v":1},{"$f":"AT16/(AV4-AT20)","v":6.25E-2},{"$f":"IF(AU16=0,0,(AU16*((LOG(AU16))/LOG(2))))","v":-0.25}]
[12,2016,23,2039,24,2051,23,2060,null,null,0,1222,null,2121,{"$f":"COUNTIF($L$7:$L$500,N17)","v":1},{"$f":"O17/$Q$4","v":1.0638297872340425E-2},{"$f":"IF(P17=0,0,(P17*((LOG(P17))/LOG(2))))","v":-6.9729668634868486E-2},null,null,{"$f":"N17","v":2121},{"$f":"COUNTIF(L7:L22,T17)","v":0},{"$f":"U17/(W4-U20)","v":0},{"$f":"IF(V17=0,0,(V17*((LOG(V17))/LOG(2))))","v":0},null,{"$f":"N17","v":2121},{"$f":"COUNTIF(L23:L37,Y17)","v":0},{"$f":"Z17/(AB4-Z20)","v":0},{"$f":"IF(AA17=0,0,(AA17*((LOG(AA17))/LOG(2))))","v":0},null,{"$f":"N17","v":2121},{"$f":"COUNTIF(L38:L53,AD17)","v":0},{"$f":"AE17/(AG4-AE20)","v":0},{"$f":"IF(AF17=0,0,(AF17*((LOG(AF17))/LOG(2))))","v":0},null,{"$f":"N17","v":2121},{"$f":"COUNTIF(L54:L69,AI17)","v":0},{"$f":"AJ17/(AL4-AJ20)","v":0},{"$f":"IF(AK17=0,0,(AK17*((LOG(AK17))/LOG(2))))","v":0},null,{"$f":"N17","v":2121},{"$f":"COUNTIF(L70:L84,AN17)","v":1},{"$f":"AO17/(AQ4-AO20)","v":6.6666666666666666E-2},{"$f":"IF(AP17=0,0,(AP17*((LOG(AP17))/LOG(2))))","v":-0.26045937304056793},null,{"$f":"N17","v":2121},{"$f":"COUNTIF(L85:L100,AS17)","v":0},{"$f":"AT17/(AV4-AT20)","v":0},{"$f":"IF(AU17=0,0,(AU17*((LOG(AU17))/LOG(2))))","v":0}]
[21,2177,12,2188,24,2201,23,2211,null,null,0,2122,null,2122,{"$f":"COUNTIF($L$7:$L$500,N18)","v":5},{"$f":"O18/$Q$4","v":5.3191489361702128E-2},{"$f":"IF(P18=0,0,(P18*((LOG(P18))/LOG(2))))","v":-0.22514152961650399},null,null,{"$f":"N18","v":2122},{"$f":"COUNTIF(L7:L22,T18)","v":2},{"$f":"U18/(W4-U20)","v":0.125},{"$f":"IF(V18=0,0,(V18*((LOG(V18))/LOG(2))))","v":-0.375},null,{"$f":"N18","v":2122},{"$f":"COUNTIF(L23:L37,Y18)","v":0},{"$f":"Z18/(AB4-Z20)","v":0},{"$f":"IF(AA18=0,0,(AA18*((LOG(AA18))/LOG(2))))","v":0},null,{"$f":"N18","v":2122},{"$f":"COUNTIF(L38:L53,AD18)","v":0},{"$f":"AE18/(AG4-AE20)","v":0},{"$f":"IF(AF18=0,0,(AF18*((LOG(AF18))/LOG(2))))","v":0},null,{"$f":"N18","v":2122},{"$f":"COUNTIF(L54:L69,AI18)","v":0},{"$f":"AJ18/(AL4-AJ20)","v":0},{"$f":"IF(AK18=0,0,(AK18*((LOG(AK18))/LOG(2))))","v":0},null,{"$f":"N18","v":2122},{"$f":"COUNTIF(L70:L84,AN18)","v":2},{"$f":"AO18/(AQ4-AO20)","v":0.13333333333333333},{"$f":"IF(AP18=0,0,(AP18*((LOG(AP18))/LOG(2))))","v":-0.3875854127478025},null,{"$f":"N18","v":2122},{"$f":"COUNTIF(L85:L100,AS18)","v":1},{"$f":"AT18/(AV4-AT20)","v":6.25E-2},{"$f":"IF(AU18=0,0,(AU18*((LOG(AU18))/LOG(2))))","v":-0.25}]
[12,2341,14,2347,13,2353,23,2379,null,null,0,1112,null,2211,{"$f":"COUNTIF($L$7:$L$500,N19)","v":2},{"$f":"O19/$Q$4","v":2.1276595744680851E-2},{"$f":"IF(P19=0,0,(P19*((LOG(P19))/LOG(2))))","v":-0.11818274152505612},null,null,{"$f":"N19","v":2211},{"$f":"COUNTIF(L7:L22,T19)","v":1},{"$f":"U19/(W4-U20)","v":6.25E-2},{"$f":"IF(V19=0,0,(V19*((LOG(V19))/LOG(2))))","v":-0.25},null,{"$f":"N19","v":2211},{"$f":"COUNTIF(L23:L37,Y19)","v":0},{"$f":"Z19/(AB4-Z20)","v":0},{"$f":"IF(AA19=0,0,(AA19*((LOG(AA19))/LOG(2))))","v":0},null,{"$f":"N19","v":2211},{"$f":"COUNTIF(L38:L53,AD19)","v":0},{"$f":"AE19/(AG4-AE20)","v":0},{"$f":"IF(AF19=0,0,(AF19*((LOG(AF19))/LOG(2))))","v":0},null,{"$f":"N19","v":2211},{"$f":"COUNTIF(L54:L69,AI19)","v":1},{"$f":"AJ19/(AL4-AJ20)","v":6.25E-2},{"$f":"IF(AK19=0,0,(AK19*((LOG(AK19))/LOG(2))))","v":-0.25},null,{"$f":"N19","v":2211},{"$f":"COUNTIF(L70:L84,AN19)","v":0},{"$f":"AO19/(AQ4-AO20)","v":0},{"$f":"IF(AP19=0,0,(AP19*((LOG(AP19))/LOG(2))))","v":0},null,{"$f":"N19","v":2211},{"$f":"COUNTIF(L85:L100,AS19)","v":0},{"$f":"AT19/(AV4-AT20)","v":0},{"$f":"IF(AU19=0,0,(AU19*((LOG(AU19))/LOG(2))))","v":0}]
[12,2577,23,2604,24,2609,14,2630,null,null,0,1221,null,2212,{"$f":"COUNTIF($L$7:$L$500,N20)","v":0},{"$f":"O20/$Q$4","v":0},{"$f":"IF(P20=0,0,(P20*((LOG(P20))/LOG(2))))","v":0},null,null,{"$f":"N20","v":2212},{"$f":"COUNTIF(L7:L22,T20)","v":0},null,null,null,{"$f":"N20","v":2212},{"$f":"COUNTIF(L23:L37,Y20)","v":0},null,null,null,{"$f":"N20","v":2212},{"$f":"COUNTIF(L38:L53,AD20)","v":0},null,null,null,{"$f":"N20","v":2212},{"$f":"COUNTIF(L54:L69,AI20)","v":0},null,null,null,{"$f":"N20","v":2212},{"$f":"COUNTIF(L70:L84,AN20)","v":0},null,null,null,{"$f":"N20","v":2212},{"$f":"COUNTIF(L85:L100,AS20)","v":0}]
[12,3003,23,3026,24,3037,23,3058,null,null,0,1222,null,2221,{"$f":"COUNTIF($L$7:$L$500,N21)","v":2},{"$f":"O21/$Q$4","v":2.1276595744680851E-2},{"$f":"IF(P21=0,0,(P21*((LOG(P21))/LOG(2))))","v":-0.11818274152505612},null,null,{"$f":"N21","v":2221},{"$f":"COUNTIF(L7:L22,T21)","v":0},{"$f":"U21/(W4-U20)","v":0},{"$f":"IF(V21=0,0,(V21*((LOG(V21))/LOG(2))))","v":0},null,{"$f":"N21","v":2221},{"$f":"COUNTIF(L23:L37,Y21)","v":0},{"$f":"Z21/(AB4-Z20)","v":0},{"$f":"IF(AA21=0,0,(AA21*((LOG(AA21))/LOG(2))))","v":0},null,{"$f":"N21","v":2221},{"$f":"COUNTIF(L38:L53,AD21)","v":0},{"$f":"AE21/(AG4-AE20)","v":0},{"$f":"IF(AF21=0,0,(AF21*((LOG(AF21))/LOG(2))))","v":0},null,{"$f":"N21","v":2221},{"$f":"COUNTIF(L54:L69,AI21)","v":0},{"$f":"AJ21/(AL4-AJ20)","v":0},{"$f":"IF(AK21=0,0,(AK21*((LOG(AK21))/LOG(2))))","v":0},null,{"$f":"N21","v":2221},{"$f":"COUNTIF(L70:L84,AN21)","v":1},{"$f":"AO21/(AQ4-AO20)","v":6.6666666666666666E-2},{"$f":"IF(AP21=0,0,(AP21*((LOG(AP21))/LOG(2))))","v":-0.26045937304056793},null,{"$f":"N21","v":2221},{"$f":"COUNTIF(L85:L100,AS21)","v":1},{"$f":"AT21/(AV4-AT20)","v":6.25E-2},{"$f":"IF(AU21=0,0,(AU21*((LOG(AU21))/LOG(2))))","v":-0.25}]
[12,3170,23,3188,13,3212,14,3216,null,null,0,1211,null,2222,{"$f":"COUNTIF($L$7:$L$500,N22)","v":11},{"$f":"O22/$Q$4","v":0.11702127659574468},{"$f":"IF(P22=0,0,(P22*((LOG(P22))/LOG(2))))","v":-0.36219925067493347},null,null,{"$f":"N22","v":2222},{"$f":"COUNTIF(L7:L22,T22)","v":2},{"$f":"U22/(W4-U20)","v":0.125},{"$f":"IF(V22=0,0,(V22*((LOG(V22))/LOG(2))))","v":-0.375},null,{"$f":"N22","v":2222},{"$f":"COUNTIF(L23:L37,Y22)","v":3},{"$f":"Z22/(AB4-Z20)","v":0.2},{"$f":"IF(AA22=0,0,(AA22*((LOG(AA22))/LOG(2))))","v":-0.46438561897747244},null,{"$f":"N22","v":2222},{"$f":"COUNTIF(L38:L53,AD22)","v":1},{"$f":"AE22/(AG4-AE20)","v":6.25E-2},{"$f":"IF(AF22=0,0,(AF22*((LOG(AF22))/LOG(2))))","v":-0.25},null,{"$f":"N22","v":2222},{"$f":"COUNTIF(L54:L69,AI22)","v":1},{"$f":"AJ22/(AL4-AJ20)","v":6.25E-2},{"$f":"IF(AK22=0,0,(AK22*((LOG(AK22))/LOG(2))))","v":-0.25},null,{"$f":"N22","v":2222},{"$f":"COUNTIF(L70:L84,AN22)","v":2},{"$f":"AO22/(AQ4-AO20)","v":0.13333333333333333},{"$f":"IF(AP22=0,0,(AP22*((LOG(AP22))/LOG(2))))","v":-0.3875854127478025},null,{"$f":"N22","v":2222},{"$f":"COUNTIF(L85:L100,AS22)","v":2},{"$f":"AT22/(AV4-AT20)","v":0.125},{"$f":"IF(AU22=0,0,(AU22*((LOG(AU22))/LOG(2))))","v":-0.375}]
[12,3326,14,3331,24,3348,14,3363,null,null,0,1121,null,null,null,{"$f":"SUM(P7:P22)","v":1},{"$f":"-SUM(Q7:Q22)","v":3.5230114387397169},null,null,null,null,{"$f":"SUM(V7:V22)","v":1},{"$f":"-SUM(W7:W22)","v":3.2028195311147831},null,null,null,{"$f":"SUM(AA7:AA22)","v":1},{"$f":"-SUM(AB7:AB22)","v":2.8729055953200557},null,null,null,{"$f":"SUM(AF7:AF22)","v":1},{"$f":"-SUM(AG7:AG22)","v":2.6556390622295662},null,null,null,{"$f":"SUM(AK7:AK22)","v":1},{"$f":"-SUM(AL7:AL22)","v":2.7272170014624821},null,null,null,{"$f":"SUM(AP7:AP22)","v":1},{"$f":"-SUM(AQ7:AQ22)","v":3.0565647621309542},null,null,null,{"$f":"SUM(AU7:AU22)","v":1},{"$f":"-SUM(AV7:AV22)","v":3.0306390622295662}]
[12,3516,14,3521,13,3527,14,3533,null,null,0,1111,null,null,null,"U=",{"$f":"Q23/(LOG(Q4)/LOG(2))","v":0.53748778427772903},null,null,null,null,"U1=",{"$f":"W23/(LOG(W4)/LOG(2))","v":0.80070488277869578},null,null,null,"U2=",{"$f":"AB23/(LOG(AB4)/LOG(2))","v":0.73534324164318854},null,null,null,"U3=",{"$f":"AG23/(LOG(AG4)/LOG(2))","v":0.66390976555739156},null,null,null,"U4=",{"$f":"AL23/(LOG(AL4)/LOG(2))","v":0.68180425036562053},null,null,null,"U5=",{"$f":"AQ23/(LOG(AQ4)/LOG(2))","v":0.78235227921832251},null,null,null,"U6=",{"$f":"AV23/(LOG(AV4)/LOG(2))","v":0.75765976555739156}]
[12,3645,14,3650,13,3654,14,3659,null,null,0,1111]
[21,3930,21,3966,22,3982,23,3996,null,null,0,2222]
[12,4099,23,4112,24,4127,23,4132,null,null,0,1222,null,"Total Target Seq"]
[21,4267,21,4271,22,4288,23,4294,null,null,0,2222,null,{"$f":"COUNTIF(L7:L100,G3)","v":0},null,16,15,16,16,15,16]
[12,4405,14,4411,24,4434,14,4449,null,null,0,1121,null,null,null,"% of reinforcement given in 6 equal intervals based on number of trials "]
[21,4621,21,4630,22,4636,23,4649,null,null,0,2222,null,null,null,"%_1","%_2","%_3","%_4","%_5","%_6"]
[12,4866,14,4874,24,4892,23,4905,null,null,0,1122,null,null,"target sequence",{"$f":"$G$3","v":2212},{"$f":"$G$3","v":2212},{"$f":"$G$3","v":2212},{"$f":"$G$3","v":2212},{"$f":"$G$3","v":2212},{"$f":"$G$3","v":2212}]
[12,5028,23,5067,24,5075,23,5081,null,null,0,1222,null,null,"total reinforcement",{"$f":"U20","v":0},{"$f":"Z20","v":0},{"$f":"AE20","v":0},{"$f":"AJ20","v":0},{"$f":"AO20","v":0},{"$f":"AT20","v":0}]
[12,5292,23,5320,24,5329,23,5339,null,null,0,1222,null,null,"% target"]
[12,5441,23,5464,13,5484,14,5493,null,null,0,1211,null,null,"CCRF"]
[12,5650,14,5690,24,5708,23,5713,null,null,0,1122,null,null,"% CCRf"]
[21,5990,12,6006,13,6012,14,6021,null,null,0,2111,null,null,"average response rate",{"$f":"H22/P28","v":201},{"$f":"(H37-H22)/Q28","v":204.6},{"$f":"(H53-H37)/R28","v":222.5},{"$f":"(H69-H53)/S28","v":264.25},{"$f":"(H84-H69)/T28","v":316.86666666666667},{"$f":"(H100-H84)/U28","v":306}]
[12,6246,14,6251,13,6257,23,6285,null,null,0,1112]
[12,6385,14,6395,13,6399,14,6429,null,null,0,1111]
[12,6560,23,6573,13,6589,14,6594,null,null,0,1211]
[12,6710,14,6729,13,6734,14,6742,null,null,0,1111]
[12,7141,14,7151,13,7157,14,7162,null,null,0,1111]
[12,7273,14,7278,13,7290,23,7337,null,null,0,1112]
[12,7460,14,7465,13,7470,14,7474,null,null,0,1111]
[12,7724,14,7730,24,7756,23,7766,null,null,0,1122]
[12,7999,14,8010,13,8017,14,8023,null,null,0,1111]
[12,8270,23,8287,13,8303,14,8308,null,null,0,1211]
[12,8418,23,8431,24,8440,14,8456,null,null,0,1221]
[21,8687,21,8694,22,8702,23,8708,null,null,0,2222]
[21,8909,12,8929,13,8934,14,8939,null,null,0,2111]
[12,9051,14,9057,13,9061,23,9073,null,null,0,1112]
[12,9473,14,9481,13,9487,14,9499,null,null,0,1111]
[12,9642,23,9679,24,9685,23,9694,null,null,0,1222]
[21,9814,12,9835,13,9840,14,9845,null,null,0,2111]
[21,9987,12,10007,13,10012,14,10024,null,null,0,2111]
[12,10214,14,10219,13,10223,14,10229,null,null,0,1111]
[21,10479,12,10498,13,10504,14,10509,null,null,0,2111]
[21,10797,12,10817,13,10821,14,10831,null,null,0,2111]
[21,11033,12,11056,13,11061,14,11065,null,null,0,2111]
[12,11228,23,11243,24,11274,14,11290,null,null,0,1221]
[12,11609,23,11623,13,11665,23,11701,null,null,0,1212]
[12,11826,23,11846,13,11865,14,11878,null,null,0,1211]
[12,12028,23,12045,13,12063,14,12068,null,null,0,1211]
[21,12302,12,12318,13,12323,14,12327,null,null,0,2111]
[21,12568,21,12574,11,12588,12,12593,null,null,0,2211]
[12,12831,14,12838,24,12902,23,12931,null,null,0,1122]
[21,13137,21,13158,22,13166,23,13172,null,null,0,2222]
[12,13459,14,13465,13,13470,14,13475,null,null,0,1111]
[12,13760,14,13766,24,13781,23,13792,null,null,0,1122]
[12,14030,23,14050,13,14067,14,14073,null,null,0,1211]
[21,14341,12,14358,13,14363,14,14367,null,null,0,2111]
[21,14490,12,14515,13,14523,14,14527,null,null,0,2111]
[21,14846,21,14851,22,14857,23,14869,null,null,0,2222]
[21,15026,12,15043,24,15066,14,15084,null,null,0,2121]
[21,15355,12,15383,24,15402,23,15409,null,null,0,2122]
[12,15736,23,15758,24,15771,23,15815,null,null,0,1222]
[12,15992,14,15997,24,16013,23,16017,null,null,0,1122]
[12,16341,14,16353,13,16362,14,16368,null,null,0,1111]
[21,16592,21,16617,22,16628,14,16655,null,null,0,2221]
[12,16895,23,16918,24,16924,14,16944,null,null,0,1221]
[21,17370,21,17385,22,17415,23,17460,null,null,0,2222]
[12,17750,14,17756,24,17781,23,17797,null,null,0,1122]
[12,17911,23,17922,24,17935,14,17959,null,null,0,1221]
[21,18301,12,18330,24,18354,23,18359,null,null,0,2122]
[21,18788,12,18808,13,18814,14,18826,null,null,0,2111]
[21,18931,12,18946,13,18958,14,18964,null,null,0,2111]
[21,19274,21,19285,22,19306,23,19315,null,null,0,2222]
[12,19425,14,19433,13,19438,23,19454,null,null,0,1112]
[12,19798,14,19803,24,19825,23,19835,null,null,0,1122]
[21,19960,12,19978,13,19987,14,19993,null,null,0,2111]
[21,20347,21,20360,22,20367,23,20376,null,null,0,2222]
[21,20488,12,20510,13,20515,14,20525,null,null,0,2111]
[21,21744,12,21773,24,21797,23,21811,null,null,0,2122]
[12,21934,23,21951,24,21983,23,21993,null,null,0,1222]
[21,22148,21,22167,22,22172,14,22187,null,null,0,2221]
[12,22327,23,22345,24,22353,14,22373,null,null,0,1221]
[12,22660,14,22671,24,22692,23,22698,null,null,0,1122]
[12,22821,14,22826,13,22833,23,22845,null,null,0,1112]
[12,23081,14,23120,24,23134,23,23142,null,null,0,1122]
[21,23294,12,23323,13,23328,23,23344,null,null,0,2112]
[12,23694,23,23710,24,23715,23,23722,null,null,0,1222]

{"sheet":"!N112700.092","index":15,"n_rows":64,"n_cols":48,"rows_kept":64,"cut":false,"hidden":false,"merged":[[4,39,4,42],[5,39,5,40],[4,44,4,47],[5,44,5,45],[4,24,4,27],[5,24,5,25],[4,29,4,32],[5,29,5,30],[4,34,4,37],[5,34,5,35],[1,1,1,2],[5,13,5,14],[26,13,26,14],[27,13,27,14],[4,19,4,22],[5,19,5,20]]}
["Report for:!N112700.092"]
["Date:","<date>"]
["Hen:","<hen>",null,null,null,"Correct Sequence",{"$f":"Start!J2","v":2212},null,null,null,null,null,null,null,null,"Total Sequences in Data",{"$f":"4994-COUNTBLANK(L7:L5000)","v":58},null,null,null,null,"Total Sequences in Block Data",{"$f":"COUNTA(L7:L16)","v":10},null,null,null,"Total Sequences in Block Data",{"$f":"COUNTA(L17:L25)","v":9},null,null,null,"Total Sequences in Block Data",{"$f":"COUNTA(L26:L35)","v":10},null,null,null,"Total Sequences in Block Data",{"$f":"COUNTA(L36:L45)","v":10},null,null,null,"Total Sequences in Block Data",{"$f":"COUNTA(L46:L54)","v":9},null,null,null,"Total Sequences in Block Data",{"$f":"COUNTA(L55:L64)","v":10}]
[null,null,null,null,null,null,null,null,null,null,null,null,null,null,null,"Total Sequences in Summary",{"$f":"SUM(O7:O22)","v":58},null,null,null,null,"Total Sequences in Block Summary",{"$f":"SUM(U7:U22)","v":10},null,null,null,"Total Sequences in Block Summary",{"$f":"SUM(Z7:Z22)","v":9},null,null,null,"Total Sequences in Block Summary",{"$f":"SUM(AE7:AE22)","v":10},null,null,null,"Total Sequences in Block Summary",{"$f":"SUM(AJ7:AJ22)","v":10},null,null,null,"Total Sequences in Block Summary",{"$f":"SUM(AO7:AO22)","v":9},null,null,null,"Total Sequences in Block Summary",{"$f":"SUM(AT7:AT22)","v":10}]
[null,null,null,null,null,null,null,null,null,null,null,null,null,null,null,null,null,null,null,"Block 1",null,null,null,null,"Block 2",null,null,null,null,"Block 3",null,null,null,null,"Block 4",null,null,null,null,"Block 5",null,null,null,null,"Block 6"]
["Sequence\nComponent\n1","Time\n1","Sequence\nComponent\n2","Time\n2","Sequence\nComponent\n3","Time\n3","Sequence\nComponent\n4","Time\n4","Sequence\nComponent\n5","Time\n5","Correct?\n0=No 1=Yes","Sequence",null,"Frequency",null,"Relative Frequency","Variability",null,null,"Frequency",null,"Relative Frequency","Variability",null,"Frequency",null,"Relative Frequency","Variability",null,"Frequency",null,"Relative Frequency","Variability",null,"Frequency",null,"Relative Frequency","Variability",null,"Frequency",null,"Relative Frequency","Variability",null,"Frequency",null,"Relative Frequency","Variability"]
[12,65,23,99,13,124,23,136,null,null,0,1212,null,1111,{"$f":"COUNTIF($L$7:$L$500,N7)","v":5},{"$f":"O7/$Q$4","v":8.6206896551724144E-2},{"$f":"IF(P7=0,0,(P7*((LOG(P7))/LOG(2))))","v":-0.30483214657243185},null,null,{"$f":"N7","v":1111},{"$f":"COUNTIF(L7:L16,T7)","v":0},{"$f":"U7/(W4-U20)","v":0},{"$f":"IF(V7=0,0,(V7*((LOG(V7))/LOG(2))))","v":0},null,{"$f":"N7","v":1111},{"$f":"COUNTIF(L17:L25,Y7)","v":0},{"$f":"Z7/(AB4-Z20)","v":0},{"$f":"IF(AA7=0,0,(AA7*((LOG(AA7))/LOG(2))))","v":0},null,{"$f":"N7","v":1111},{"$f":"COUNTIF(L26:L35,AD7)","v":4},{"$f":"AE7/(AG4-AE20)","v":0.4},{"$f":"IF(AF7=0,0,(AF7*((LOG(AF7))/LOG(2))))","v":-0.52877123795494496},null,{"$f":"N7","v":1111},{"$f":"COUNTIF(L36:L45,AI7)","v":1},{"$f":"AJ7/(AL4-AJ20)","v":0.1},{"$f":"IF(AK7=0,0,(AK7*((LOG(AK7))/LOG(2))))","v":-0.33219280948873625},null,{"$f":"N7","v":1111},{"$f":"COUNTIF(L46:L54,AN7)","v":0},{"$f":"AO7/(AQ4-AO20)","v":0},{"$f":"IF(AP7=0,0,(AP7*((LOG(AP7))/LOG(2))))","v":0},null,{"$f":"N7","v":1111},{"$f":"COUNTIF(L55:L64,AS7)","v":0},{"$f":"AT7/(AV4-AT20)","v":0},{"$f":"IF(AU7=0,0,(AU7*((LOG(AU7))/LOG(2))))","v":0}]
[12,440,23,451,24,462,23,470,null,null,0,1222,null,1112,{"$f":"COUNTIF($L$7:$L$500,N8)","v":4},{"$f":"O8/$Q$4","v":6.8965517241379309E-2},{"$f":"IF(P8=0,0,(P8*((LOG(P8))/LOG(2))))","v":-0.26606765483638428},null,null,{"$f":"N8","v":1112},{"$f":"COUNTIF(L7:L16,T8)","v":1},{"$f":"U8/(W4-U20)","v":0.1},{"$f":"IF(V8=0,0,(V8*((LOG(V8))/LOG(2))))","v":-0.33219280948873625},null,{"$f":"N8","v":1112},{"$f":"COUNTIF(L17:L25,Y8)","v":0},{"$f":"Z8/(AB4-Z20)","v":0},{"$f":"IF(AA8=0,0,(AA8*((LOG(AA8))/LOG(2))))","v":0},null,{"$f":"N8","v":1112},{"$f":"COUNTIF(L26:L35,AD8)","v":0},{"$f":"AE8/(AG4-AE20)","v":0},{"$f":"IF(AF8=0,0,(AF8*((LOG(AF8))/LOG(2))))","v":0},null,{"$f":"N8","v":1112},{"$f":"COUNTIF(L36:L45,AI8)","v":1},{"$f":"AJ8/(AL4-AJ20)","v":0.1},{"$f":"IF(AK8=0,0,(AK8*((LOG(AK8))/LOG(2))))","v":-0.33219280948873625},null,{"$f":"N8","v":1112},{"$f":"COUNTIF(L46:L54,AN8)","v":2},{"$f":"AO8/(AQ4-AO20)","v":0.22222222222222221},{"$f":"IF(AP8=0,0,(AP8*((LOG(AP8))/LOG(2))))","v":-0.48220555587606945},null,{"$f":"N8","v":1112},{"$f":"COUNTIF(L55:L64,AS8)","v":0},{"$f":"AT8/(AV4-AT20)","v":0},{"$f":"IF(AU8=0,0,(AU8*((LOG(AU8))/LOG(2))))","v":0}]
[12,584,23,604,13,618,14,623,null,null,0,1211,null,1121,{"$f":"COUNTIF($L$7:$L$500,N9)","v":4},{"$f":"O9/$Q$4","v":6.8965517241379309E-2},{"$f":"IF(P9=0,0,(P9*((LOG(P9))/LOG(2))))","v":-0.26606765483638428},null,null,{"$f":"N9","v":1121},{"$f":"COUNTIF(L7:L16,T9)","v":0},{"$f":"U9/(W4-U20)","v":0},{"$f":"IF(V9=0,0,(V9*((LOG(V9))/LOG(2))))","v":0},null,{"$f":"N9","v":1121},{"$f":"COUNTIF(L17:L25,Y9)","v":2},{"$f":"Z9/(AB4-Z20)","v":0.22222222222222221},{"$f":"IF(AA9=0,0,(AA9*((LOG(AA9))/LOG(2))))","v":-0.48220555587606945},null,{"$f":"N9","v":1121},{"$f":"COUNTIF(L26:L35,AD9)","v":1},{"$f":"AE9/(AG4-AE20)","v":0.1},{"$f":"IF(AF9=0,0,(AF9*((LOG(AF9))/LOG(2))))","v":-0.33219280948873625},null,{"$f":"N9","v":1121},{"$f":"COUNTIF(L36:L45,AI9)","v":1},{"$f":"AJ9/(AL4-AJ20)","v":0.1},{"$f":"IF(AK9=0,0,(AK9*((LOG(AK9))/LOG(2))))","v":-0.33219280948873625},null,{"$f":"N9","v":1121},{"$f":"COUNTIF(L46:L54,AN9)","v":0},{"$f":"AO9/(AQ4-AO20)","v":0},{"$f":"IF(AP9=0,0,(AP9*((LOG(AP9))/LOG(2))))","v":0},null,{"$f":"N9","v":1121},{"$f":"COUNTIF(L55:L64,AS9)","v":0},{"$f":"AT9/(AV4-AT20)","v":0},{"$f":"IF(AU9=0,0,(AU9*((LOG(AU9))/LOG(2))))","v":0}]
[12,786,23,798,24,804,23,813,null,null,0,1222,null,1122,{"$f":"COUNTIF($L$7:$L$500,N10)","v":7},{"$f":"O10/$Q$4","v":0.1206896551724138},{"$f":"IF(P10=0,0,(P10*((LOG(P10))/LOG(2))))","v":-0.36817900881878923},null,null,{"$f":"N10","v":1122},{"$f":"COUNTIF(L7:L16,T10)","v":0},{"$f":"U10/(W4-U20)","v":0},{"$f":"IF(V10=0,0,(V10*((LOG(V10))/LOG(2))))","v":0},null,{"$f":"N10","v":1122},{"$f":"COUNTIF(L17:L25,Y10)","v":3},{"$f":"Z10/(AB4-Z20)","v":0.33333333333333331},{"$f":"IF(AA10=0,0,(AA10*((LOG(AA10))/LOG(2))))","v":-0.52832083357371862},null,{"$f":"N10","v":1122},{"$f":"COUNTIF(L26:L35,AD10)","v":1},{"$f":"AE10/(AG4-AE20)","v":0.1},{"$f":"IF(AF10=0,0,(AF10*((LOG(AF10))/LOG(2))))","v":-0.33219280948873625},null,{"$f":"N10","v":1122},{"$f":"COUNTIF(L36:L45,AI10)","v":0},{"$f":"AJ10/(AL4-AJ20)","v":0},{"$f":"IF(AK10=0,0,(AK10*((LOG(AK10))/LOG(2))))","v":0},null,{"$f":"N10","v":1122},{"$f":"COUNTIF(L46:L54,AN10)","v":2},{"$f":"AO10/(AQ4-AO20)","v":0.22222222222222221},{"$f":"IF(AP10=0,0,(AP10*((LOG(AP10))/LOG(2))))","v":-0.48220555587606945},null,{"$f":"N10","v":1122},{"$f":"COUNTIF(L55:L64,AS10)","v":1},{"$f":"AT10/(AV4-AT20)","v":0.1111111111111111},{"$f":"IF(AU10=0,0,(AU10*((LOG(AU10))/LOG(2))))","v":-0.3522138890491458}]
[12,921,23,935,24,951,23,957,null,null,0,1222,null,1211,{"$f":"COUNTIF($L$7:$L$500,N11)","v":4},{"$f":"O11/$Q$4","v":6.8965517241379309E-2},{"$f":"IF(P11=0,0,(P11*((LOG(P11))/LOG(2))))","v":-0.26606765483638428},null,null,{"$f":"N11","v":1211},{"$f":"COUNTIF(L7:L16,T11)","v":2},{"$f":"U11/(W4-U20)","v":0.2},{"$f":"IF(V11=0,0,(V11*((LOG(V11))/LOG(2))))","v":-0.46438561897747244},null,{"$f":"N11","v":1211},{"$f":"COUNTIF(L17:L25,Y11)","v":1},{"$f":"Z11/(AB4-Z20)","v":0.1111111111111111},{"$f":"IF(AA11=0,0,(AA11*((LOG(AA11))/LOG(2))))","v":-0.3522138890491458},null,{"$f":"N11","v":1211},{"$f":"COUNTIF(L26:L35,AD11)","v":0},{"$f":"AE11/(AG4-AE20)","v":0},{"$f":"IF(AF11=0,0,(AF11*((LOG(AF11))/LOG(2))))","v":0},null,{"$f":"N11","v":1211},{"$f":"COUNTIF(L36:L45,AI11)","v":0},{"$f":"AJ11/(AL4-AJ20)","v":0},{"$f":"IF(AK11=0,0,(AK11*((LOG(AK11))/LOG(2))))","v":0},null,{"$f":"N11","v":1211},{"$f":"COUNTIF(L46:L54,AN11)","v":1},{"$f":"AO11/(AQ4-AO20)","v":0.1111111111111111},{"$f":"IF(AP11=0,0,(AP11*((LOG(AP11))/LOG(2))))","v":-0.3522138890491458},null,{"$f":"N11","v":1211},{"$f":"COUNTIF(L55:L64,AS11)","v":0},{"$f":"AT11/(AV4-AT20)","v":0},{"$f":"IF(AU11=0,0,(AU11*((LOG(AU11))/LOG(2))))","v":0}]
[12,1170,23,1189,13,1204,23,1217,null,null,0,1212,null,1212,{"$f":"COUNTIF($L$7:$L$500,N12)","v":2},{"$f":"O12/$Q$4","v":3.4482758620689655E-2},{"$f":"IF(P12=0,0,(P12*((LOG(P12))/LOG(2))))","v":-0.16751658603888178},null,null,{"$f":"N12","v":1212},{"$f":"COUNTIF(L7:L16,T12)","v":2},{"$f":"U12/(W4-U20)","v":0.2},{"$f":"IF(V12=0,0,(V12*((LOG(V12))/LOG(2))))","v":-0.46438561897747244},null,{"$f":"N12","v":1212},{"$f":"COUNTIF(L17:L25,Y12)","v":0},{"$f":"Z12/(AB4-Z20)","v":0},{"$f":"IF(AA12=0,0,(AA12*((LOG(AA12))/LOG(2))))","v":0},null,{"$f":"N12","v":1212},{"$f":"COUNTIF(L26:L35,AD12)","v":0},{"$f":"AE12/(AG4-AE20)","v":0},{"$f":"IF(AF12=0,0,(AF12*((LOG(AF12))/LOG(2))))","v":0},null,{"$f":"N12","v":1212},{"$f":"COUNTIF(L36:L45,AI12)","v":0},{"$f":"AJ12/(AL4-AJ20)","v":0},{"$f":"IF(AK12=0,0,(AK12*((LOG(AK12))/LOG(2))))","v":0},null,{"$f":"N12","v":1212},{"$f":"COUNTIF(L46:L54,AN12)","v":0},{"$f":"AO12/(AQ4-AO20)","v":0},{"$f":"IF(AP12=0,0,(AP12*((LOG(AP12))/LOG(2))))","v":0},null,{"$f":"N12","v":1212},{"$f":"COUNTIF(L55:L64,AS12)","v":0},{"$f":"AT12/(AV4-AT20)","v":0},{"$f":"IF(AU12=0,0,(AU12*((LOG(AU12))/LOG(2))))","v":0}]
[21,1340,12,1357,24,1367,23,1372,null,null,0,2122,null,1221,{"$f":"COUNTIF($L$7:$L$500,N13)","v":3},{"$f":"O13/$Q$4","v":5.1724137931034482E-2},{"$f":"IF(P13=0,0,(P13*((LOG(P13))/LOG(2))))","v":-0.22101819798653879},null,null,{"$f":"N13","v":1221},{"$f":"COUNTIF(L7:L16,T13)","v":1},{"$f":"U13/(W4-U20)","v":0.1},{"$f":"IF(V13=0,0,(V13*((LOG(V13))/LOG(2))))","v":-0.33219280948873625},null,{"$f":"N13","v":1221},{"$f":"COUNTIF(L17:L25,Y13)","v":1},{"$f":"Z13/(AB4-Z20)","v":0.1111111111111111},{"$f":"IF(AA13=0,0,(AA13*((LOG(AA13))/LOG(2))))","v":-0.3522138890491458},null,{"$f":"N13","v":1221},{"$f":"COUNTIF(L26:L35,AD13)","v":0},{"$f":"AE13/(AG4-AE20)","v":0},{"$f":"IF(AF13=0,0,(AF13*((LOG(AF13))/LOG(2))))","v":0},null,{"$f":"N13","v":1221},{"$f":"COUNTIF(L36:L45,AI13)","v":1},{"$f":"AJ13/(AL4-AJ20)","v":0.1},{"$f":"IF(AK13=0,0,(AK13*((LOG(AK13))/LOG(2))))","v":-0.33219280948873625},null,{"$f":"N13","v":1221},{"$f":"COUNTIF(L46:L54,AN13)","v":0},{"$f":"AO13/(AQ4-AO20)","v":0},{"$f":"IF(AP13=0,0,(AP13*((LOG(AP13))/LOG(2))))","v":0},null,{"$f":"N13","v":1221},{"$f":"COUNTIF(L55:L64,AS13)","v":0},{"$f":"AT13/(AV4-AT20)","v":0},{"$f":"IF(AU13=0,0,(AU13*((LOG(AU13))/LOG(2))))","v":0}]
[12,1549,14,1583,13,1588,23,1601,null,null,0,1112,null,1222,{"$f":"COUNTIF($L$7:$L$500,N14)","v":7},{"$f":"O14/$Q$4","v":0.1206896551724138},{"$f":"IF(P14=0,0,(P14*((LOG(P14))/LOG(2))))","v":-0.36817900881878923},null,null,{"$f":"N14","v":1222},{"$f":"COUNTIF(L7:L16,T14)","v":3},{"$f":"U14/(W4-U20)","v":0.3},{"$f":"IF(V14=0,0,(V14*((LOG(V14))/LOG(2))))","v":-0.52108967824986185},null,{"$f":"N14","v":1222},{"$f":"COUNTIF(L17:L25,Y14)","v":0},{"$f":"Z14/(AB4-Z20)","v":0},{"$f":"IF(AA14=0,0,(AA14*((LOG(AA14))/LOG(2))))","v":0},null,{"$f":"N14","v":1222},{"$f":"COUNTIF(L26:L35,AD14)","v":0},{"$f":"AE14/(AG4-AE20)","v":0},{"$f":"IF(AF14=0,0,(AF14*((LOG(AF14))/LOG(2))))","v":0},null,{"$f":"N14","v":1222},{"$f":"COUNTIF(L36:L45,AI14)","v":2},{"$f":"AJ14/(AL4-AJ20)","v":0.2},{"$f":"IF(AK14=0,0,(AK14*((LOG(AK14))/LOG(2))))","v":-0.46438561897747244},null,{"$f":"N14","v":1222},{"$f":"COUNTIF(L46:L54,AN14)","v":0},{"$f":"AO14/(AQ4-AO20)","v":0},{"$f":"IF(AP14=0,0,(AP14*((LOG(AP14))/LOG(2))))","v":0},null,{"$f":"N14","v":1222},{"$f":"COUNTIF(L55:L64,AS14)","v":2},{"$f":"AT14/(AV4-AT20)","v":0.22222222222222221},{"$f":"IF(AU14=0,0,(AU14*((LOG(AU14))/LOG(2))))","v":-0.48220555587606945}]
[12,1714,23,1730,13,1747,14,1777,null,null,0,1211,null,2111,{"$f":"COUNTIF($L$7:$L$500,N15)","v":3},{"$f":"O15/$Q$4","v":5.1724137931034482E-2},{"$f":"IF(P15=0,0,(P15*((LOG(P15))/LOG(2))))","v":-0.22101819798653879},null,null,{"$f":"N15","v":2111},{"$f":"COUNTIF(L7:L16,T15)","v":0},{"$f":"U15/(W4-U20)","v":0},{"$f":"IF(V15=0,0,(V15*((LOG(V15))/LOG(2))))","v":0},null,{"$f":"N15","v":2111},{"$f":"COUNTIF(L17:L25,Y15)","v":0},{"$f":"Z15/(AB4-Z20)","v":0},{"$f":"IF(AA15=0,0,(AA15*((LOG(AA15))/LOG(2))))","v":0},null,{"$f":"N15","v":2111},{"$f":"COUNTIF(L26:L35,AD15)","v":1},{"$f":"AE15/(AG4-AE20)","v":0.1},{"$f":"IF(AF15=0,0,(AF15*((LOG(AF15))/LOG(2))))","v":-0.33219280948873625},null,{"$f":"N15","v":2111},{"$f":"COUNTIF(L36:L45,AI15)","v":0},{"$f":"AJ15/(AL4-AJ20)","v":0},{"$f":"IF(AK15=0,0,(AK15*((LOG(AK15))/LOG(2))))","v":0},null,{"$f":"N15","v":2111},{"$f":"COUNTIF(L46:L54,AN15)","v":2},{"$f":"AO15/(AQ4-AO20)","v":0.22222222222222221},{"$f":"IF(AP15=0,0,(AP15*((LOG(AP15))/LOG(2))))","v":-0.48220555587606945},null,{"$f":"N15","v":2111},{"$f":"COUNTIF(L55:L64,AS15)","v":0},{"$f":"AT15/(AV4-AT20)","v":0},{"$f":"IF(AU15=0,0,(AU15*((LOG(AU15))/LOG(2))))","v":0}]
[12,1954,23,1968,24,1973,14,1986,null,null,0,1221,null,2112,{"$f":"COUNTIF($L$7:$L$500,N16)","v":3},{"$f":"O16/$Q$4","v":5.1724137931034482E-2},{"$f":"IF(P16=0,0,(P16*((LOG(P16))/LOG(2))))","v":-0.22101819798653879},null,null,{"$f":"N16","v":2112},{"$f":"COUNTIF(L7:L16,T16)","v":0},{"$f":"U16/(W4-U20)","v":0},{"$f":"IF(V16=0,0,(V16*((LOG(V16))/LOG(2))))","v":0},null,{"$f":"N16","v":2112},{"$f":"COUNTIF(L17:L25,Y16)","v":1},{"$f":"Z16/(AB4-Z20)","v":0.1111111111111111},{"$f":"IF(AA16=0,0,(AA16*((LOG(AA16))/LOG(2))))","v":-0.3522138890491458},null,{"$f":"N16","v":2112},{"$f":"COUNTIF(L26:L35,AD16)","v":1},{"$f":"AE16/(AG4-AE20)","v":0.1},{"$f":"IF(AF16=0,0,(AF16*((LOG(AF16))/LOG(2))))","v":-0.33219280948873625},null,{"$f":"N16","v":2112},{"$f":"COUNTIF(L36:L45,AI16)","v":1},{"$f":"AJ16/(AL4-AJ20)","v":0.1},{"$f":"IF(AK16=0,0,(AK16*((LOG(AK16))/LOG(2))))","v":-0.33219280948873625},null,{"$f":"N16","v":2112},{"$f":"COUNTIF(L46:L54,AN16)","v":0},{"$f":"AO16/(AQ4-AO20)","v":0},{"$f":"IF(AP16=0,0,(AP16*((LOG(AP16))/LOG(2))))","v":0},null,{"$f":"N16","v":2112},{"$f":"COUNTIF(L55:L64,AS16)","v":0},{"$f":"AT16/(AV4-AT20)","v":0},{"$f":"IF(AU16=0,0,(AU16*((LOG(AU16))/LOG(2))))","v":0}]
[12,2224,14,2230,24,2242,14,2259,null,null,0,1121,null,2121,{"$f":"COUNTIF($L$7:$L$500,N17)","v":0},{"$f":"O17/$Q$4","v":0},{"$f":"IF(P17=0,0,(P17*((LOG(P17))/LOG(2))))","v":0},null,null,{"$f":"N17","v":2121},{"$f":"COUNTIF(L7:L16,T17)","v":0},{"$f":"U17/(W4-U20)","v":0},{"$f":"IF(V17=0,0,(V17*((LOG(V17))/LOG(2))))","v":0},null,{"$f":"N17","v":2121},{"$f":"COUNTIF(L17:L25,Y17)","v":0},{"$f":"Z17/(AB4-Z20)","v":0},{"$f":"IF(AA17=0,0,(AA17*((LOG(AA17))/LOG(2))))","v":0},null,{"$f":"N17","v":2121},{"$f":"COUNTIF(L26:L35,AD17)","v":0},{"$f":"AE17/(AG4-AE20)","v":0},{"$f":"IF(AF17=0,0,(AF17*((LOG(AF17))/LOG(2))))","v":0},null,{"$f":"N17","v":2121},{"$f":"COUNTIF(L36:L45,AI17)","v":0},{"$f":"AJ17/(AL4-AJ20)","v":0},{"$f":"IF(AK17=0,0,(AK17*((LOG(AK17))/LOG(2))))","v":0},null,{"$f":"N17","v":2121},{"$f":"COUNTIF(L46:L54,AN17)","v":0},{"$f":"AO17/(AQ4-AO20)","v":0},{"$f":"IF(AP17=0,0,(AP17*((LOG(AP17))/LOG(2))))","v":0},null,{"$f":"N17","v":2121},{"$f":"COUNTIF(L55:L64,AS17)","v":0},{"$f":"AT17/(AV4-AT20)","v":0},{"$f":"IF(AU17=0,0,(AU17*((LOG(AU17))/LOG(2))))","v":0}]
[12,2406,14,2438,24,2450,14,2469,null,null,0,1121,null,2122,{"$f":"COUNTIF($L$7:$L$500,N18)","v":5},{"$f":"O18/$Q$4","v":8.6206896551724144E-2},{"$f":"IF(P18=0,0,(P18*((LOG(P18))/LOG(2))))","v":-0.30483214657243185},null,null,{"$f":"N18","v":2122},{"$f":"COUNTIF(L7:L16,T18)","v":1},{"$f":"U18/(W4-U20)","v":0.1},{"$f":"IF(V18=0,0,(V18*((LOG(V18))/LOG(2))))","v":-0.33219280948873625},null,{"$f":"N18","v":2122},{"$f":"COUNTIF(L17:L25,Y18)","v":0},{"$f":"Z18/(AB4-Z20)","v":0},{"$f":"IF(AA18=0,0,(AA18*((LOG(AA18))/LOG(2))))","v":0},null,{"$f":"N18","v":2122},{"$f":"COUNTIF(L26:L35,AD18)","v":0},{"$f":"AE18/(AG4-AE20)","v":0},{"$f":"IF(AF18=0,0,(AF18*((LOG(AF18))/LOG(2))))","v":0},null,{"$f":"N18","v":2122},{"$f":"COUNTIF(L36:L45,AI18)","v":1},{"$f":"AJ18/(AL4-AJ20)","v":0.1},{"$f":"IF(AK18=0,0,(AK18*((LOG(AK18))/LOG(2))))","v":-0.33219280948873625},null,{"$f":"N18","v":2122},{"$f":"COUNTIF(L46:L54,AN18)","v":1},{"$f":"AO18/(AQ4-AO20)","v":0.1111111111111111},{"$f":"IF(AP18=0,0,(AP18*((LOG(AP18))/LOG(2))))","v":-0.3522138890491458},null,{"$f":"N18","v":2122},{"$f":"COUNTIF(L55:L64,AS18)","v":2},{"$f":"AT18/(AV4-AT20)","v":0.22222222222222221},{"$f":"IF(AU18=0,0,(AU18*((LOG(AU18))/LOG(2))))","v":-0.48220555587606945}]
[12,2641,14,2660,24,2696,23,2708,null,null,0,1122,null,2211,{"$f":"COUNTIF($L$7:$L$500,N19)","v":3},{"$f":"O19/$Q$4","v":5.1724137931034482E-2},{"$f":"IF(P19=0,0,(P19*((LOG(P19))/LOG(2))))","v":-0.22101819798653879},null,null,{"$f":"N19","v":2211},{"$f":"COUNTIF(L7:L16,T19)","v":0},{"$f":"U19/(W4-U20)","v":0},{"$f":"IF(V19=0,0,(V19*((LOG(V19))/LOG(2))))","v":0},null,{"$f":"N19","v":2211},{"$f":"COUNTIF(L17:L25,Y19)","v":0},{"$f":"Z19/(AB4-Z20)","v":0},{"$f":"IF(AA19=0,0,(AA19*((LOG(AA19))/LOG(2))))","v":0},null,{"$f":"N19","v":2211},{"$f":"COUNTIF(L26:L35,AD19)","v":2},{"$f":"AE19/(AG4-AE20)","v":0.2},{"$f":"IF(AF19=0,0,(AF19*((LOG(AF19))/LOG(2))))","v":-0.46438561897747244},null,{"$f":"N19","v":2211},{"$f":"COUNTIF(L36:L45,AI19)","v":0},{"$f":"AJ19/(AL4-AJ20)","v":0},{"$f":"IF(AK19=0,0,(AK19*((LOG(AK19))/LOG(2))))","v":0},null,{"$f":"N19","v":2211},{"$f":"COUNTIF(L46:L54,AN19)","v":0},{"$f":"AO19/(AQ4-AO20)","v":0},{"$f":"IF(AP19=0,0,(AP19*((LOG(AP19))/LOG(2))))","v":0},null,{"$f":"N19","v":2211},{"$f":"COUNTIF(L55:L64,AS19)","v":1},{"$f":"AT19/(AV4-AT20)","v":0.1111111111111111},{"$f":"IF(AU19=0,0,(AU19*((LOG(AU19))/LOG(2))))","v":-0.3522138890491458}]
[12,2970,23,2986,13,3003,14,3008,null,null,0,1211,null,2212,{"$f":"COUNTIF($L$7:$L$500,N20)","v":1},{"$f":"O20/$Q$4","v":1.7241379310344827E-2},{"$f":"IF(P20=0,0,(P20*((LOG(P20))/LOG(2))))","v":-0.10099967232978573},null,null,{"$f":"N20","v":2212},{"$f":"COUNTIF(L7:L16,T20)","v":0},null,null,null,{"$f":"N20","v":2212},{"$f":"COUNTIF(L17:L25,Y20)","v":0},null,null,null,{"$f":"N20","v":2212},{"$f":"COUNTIF(L26:L35,AD20)","v":0},null,null,null,{"$f":"N20","v":2212},{"$f":"COUNTIF(L36:L45,AI20)","v":0},null,null,null,{"$f":"N20","v":2212},{"$f":"COUNTIF(L46:L54,AN20)","v":0},null,null,null,{"$f":"N20","v":2212},{"$f":"COUNTIF(L55:L64,AS20)","v":1}]
[12,3298,14,3303,24,3317,23,3341,null,null,0,1122,null,2221,{"$f":"COUNTIF($L$7:$L$500,N21)","v":2},{"$f":"O21/$Q$4","v":3.4482758620689655E-2},{"$f":"IF(P21=0,0,(P21*((LOG(P21))/LOG(2))))","v":-0.16751658603888178},null,null,{"$f":"N21","v":2221},{"$f":"COUNTIF(L7:L16,T21)","v":0},{"$f":"U21/(W4-U20)","v":0},{"$f":"IF(V21=0,0,(V21*((LOG(V21))/LOG(2))))","v":0},null,{"$f":"N21","v":2221},{"$f":"COUNTIF(L17:L25,Y21)","v":1},{"$f":"Z21/(AB4-Z20)","v":0.1111111111111111},{"$f":"IF(AA21=0,0,(AA21*((LOG(AA21))/LOG(2))))","v":-0.3522138890491458},null,{"$f":"N21","v":2221},{"$f":"COUNTIF(L26:L35,AD21)","v":0},{"$f":"AE21/(AG4-AE20)","v":0},{"$f":"IF(AF21=0,0,(AF21*((LOG(AF21))/LOG(2))))","v":0},null,{"$f":"N21","v":2221},{"$f":"COUNTIF(L36:L45,AI21)","v":1},{"$f":"AJ21/(AL4-AJ20)","v":0.1},{"$f":"IF(AK21=0,0,(AK21*((LOG(AK21))/LOG(2))))","v":-0.33219280948873625},null,{"$f":"N21","v":2221},{"$f":"COUNTIF(L46:L54,AN21)","v":0},{"$f":"AO21/(AQ4-AO20)","v":0},{"$f":"IF(AP21=0,0,(AP21*((LOG(AP21))/LOG(2))))","v":0},null,{"$f":"N21","v":2221},{"$f":"COUNTIF(L55:L64,AS21)","v":0},{"$f":"AT21/(AV4-AT20)","v":0},{"$f":"IF(AU21=0,0,(AU21*((LOG(AU21))/LOG(2))))","v":0}]
[21,3689,21,3706,22,3723,14,3749,null,null,0,2221,null,2222,{"$f":"COUNTIF($L$7:$L$500,N22)","v":5},{"$f":"O22/$Q$4","v":8.6206896551724144E-2},{"$f":"IF(P22=0,0,(P22*((LOG(P22))/LOG(2))))","v":-0.30483214657243185},null,null,{"$f":"N22","v":2222},{"$f":"COUNTIF(L7:L16,T22)","v":0},{"$f":"U22/(W4-U20)","v":0},{"$f":"IF(V22=0,0,(V22*((LOG(V22))/LOG(2))))","v":0},null,{"$f":"N22","v":2222},{"$f":"COUNTIF(L17:L25,Y22)","v":0},{"$f":"Z22/(AB4-Z20)","v":0},{"$f":"IF(AA22=0,0,(AA22*((LOG(AA22))/LOG(2))))","v":0},null,{"$f":"N22","v":2222},{"$f":"COUNTIF(L26:L35,AD22)","v":0},{"$f":"AE22/(AG4-AE20)","v":0},{"$f":"IF(AF22=0,0,(AF22*((LOG(AF22))/LOG(2))))","v":0},null,{"$f":"N22","v":2222},{"$f":"COUNTIF(L36:L45,AI22)","v":1},{"$f":"AJ22/(AL4-AJ20)","v":0.1},{"$f":"IF(AK22=0,0,(AK22*((LOG(AK22))/LOG(2))))","v":-0.33219280948873625},null,{"$f":"N22","v":2222},{"$f":"COUNTIF(L46:L54,AN22)","v":1},{"$f":"AO22/(AQ4-AO20)","v":0.1111111111111111},{"$f":"IF(AP22=0,0,(AP22*((LOG(AP22))/LOG(2))))","v":-0.3522138890491458},null,{"$f":"N22","v":2222},{"$f":"COUNTIF(L55:L64,AS22)","v":3},{"$f":"AT22/(AV4-AT20)","v":0.33333333333333331},{"$f":"IF(AU22=0,0,(AU22*((LOG(AU22))/LOG(2))))","v":-0.52832083357371862}]
[21,4205,12,4222,13,4227,23,4251,null,null,0,2112,null,null,null,{"$f":"SUM(P7:P22)","v":1.0000000000000002},{"$f":"-SUM(Q7:Q22)","v":3.7691630582177309},null,null,null,null,{"$f":"SUM(V7:V22)","v":0.99999999999999989},{"$f":"-SUM(W7:W22)","v":2.4464393446710155},null,null,null,{"$f":"SUM(AA7:AA22)","v":1.0000000000000002},{"$f":"-SUM(AB7:AB22)","v":2.419381945646371},null,null,null,{"$f":"SUM(AF7:AF22)","v":1},{"$f":"-SUM(AG7:AG22)","v":2.3219280948873626},null,null,null,{"$f":"SUM(AK7:AK22)","v":1},{"$f":"-SUM(AL7:AL22)","v":3.121928094887362},null,null,null,{"$f":"SUM(AP7:AP22)","v":1},{"$f":"-SUM(AQ7:AQ22)","v":2.5032583347756456},null,null,null,{"$f":"SUM(AU7:AU22)","v":1},{"$f":"-SUM(AV7:AV22)","v":2.1971597234241491}]
[12,4597,23,4626,24,4635,14,4653,null,null,0,1221,null,null,null,"U=",{"$f":"Q23/(LOG(Q4)/LOG(2))","v":0.64342357227733682},null,null,null,null,"U1=",{"$f":"W23/(LOG(W4)/LOG(2))","v":0.73645162531850883},null,null,null,"U2=",{"$f":"AB23/(LOG(AB4)/LOG(2))","v":0.76323002738094914},null,null,null,"U3=",{"$f":"AG23/(LOG(AG4)/LOG(2))","v":0.69897000433601897},null,null,null,"U4=",{"$f":"AL23/(LOG(AL4)/LOG(2))","v":0.93979400086720366},null,null,null,"U5=",{"$f":"AQ23/(LOG(AQ4)/LOG(2))","v":0.78969008214284753},null,null,null,"U6=",{"$f":"AV23/(LOG(AV4)/LOG(2))","v":0.66141098201544579}]
[12,4893,14,4899,24,4911,23,4923,null,null,0,1122]
[21,5079,12,5094,13,5105,23,5119,null,null,0,2112]
[12,5278,14,5283,13,5290,14,5297,null,null,0,1111,null,"Total Target Seq"]
[21,5627,21,5647,11,5661,12,5668,null,null,0,2211,null,{"$f":"COUNTIF(L7:L64,G3)","v":1},null,10,9,10,10,9,10]
[12,5896,14,5928,24,5941,23,5954,null,null,0,1122,null,null,null,"% of reinforcement given in 6 equal intervals based on number of trials "]
[12,6157,14,6167,24,6180,14,6200,null,null,0,1121,null,null,null,"%_1","%_2","%_3","%_4","%_5","%_6"]
[21,6845,21,6859,11,6873,12,6880,null,null,0,2211,null,null,"target sequence",{"$f":"$G$3","v":2212},{"$f":"$G$3","v":2212},{"$f":"$G$3","v":2212},{"$f":"$G$3","v":2212},{"$f":"$G$3","v":2212},{"$f":"$G$3","v":2212}]
[21,7236,12,7254,13,7263,14,7271,null,null,0,2111,null,null,"total reinforcement",{"$f":"U20","v":0},{"$f":"Z20","v":0},{"$f":"AE20","v":0},{"$f":"AJ20","v":0},{"$f":"AO20","v":0},{"$f":"AT20","v":1}]
[12,7722,14,7728,13,7732,14,7738,null,null,0,1111,null,null,"% target"]
[12,8038,14,8043,13,8050,14,8061,null,null,0,1111,null,null,"CCRF"]
[12,8339,14,8347,13,8354,14,8360,null,null,0,1111,null,null,"% CCRf"]
[12,8821,14,8835,24,8858,14,8873,null,null,0,1121,null,null,"average response rate",{"$f":"H16/P28","v":198.6},{"$f":"(H25-H16)/Q28","v":326.33333333333331},{"$f":"(H35-H25)/R28","v":343.7},{"$f":"(H45-H35)/S28","v":535.4},{"$f":"(H54-H45)/T28","v":581.55555555555554},{"$f":"(H64-H54)/U28","v":488.1}]
[21,8989,12,9014,13,9020,23,9032,null,null,0,2112]
[21,9725,21,9737,22,9753,14,9797,null,null,0,2221]
[21,10056,21,10065,22,10079,23,10085,null,null,0,2222]
[12,10366,14,10381,13,10388,14,10391,null,null,0,1111]
[12,10756,23,10782,24,10813,23,10832,null,null,0,1222]
[12,11460,23,11487,24,11562,14,11596,null,null,0,1221]
[12,12207,23,12228,24,12247,23,12260,null,null,0,1222]
[12,13183,14,13194,13,13201,23,13217,null,null,0,1112]
[21,13358,12,13640,24,13661,23,13714,null,null,0,2122]
[21,15544,21,15604,22,15625,23,15631,null,null,0,2222]
[12,15800,23,15822,13,15865,14,15871,null,null,0,1211]
[12,16128,14,16136,13,16156,23,16175,null,null,0,1112]
[21,16292,12,16319,13,16332,14,16339,null,null,0,2111]
[12,16750,14,16762,24,16779,23,16788,null,null,0,1122]
[12,17234,14,17299,24,17315,23,17320,null,null,0,1122]
[21,17781,12,17799,24,17823,23,17836,null,null,0,2122]
[21,18344,12,18370,13,18380,14,18387,null,null,0,2111]
[12,18915,14,18919,13,18925,23,18948,null,null,0,1112]
[21,19432,21,19456,11,19512,21,19525,null,null,0,2212]
[21,19638,12,19657,24,19670,23,19687,null,null,0,2122]
[21,19810,12,19829,24,19841,23,19848,null,null,0,2122]
[12,19989,14,19998,24,20011,23,20022,null,null,0,1122]
[12,20278,23,20291,24,20323,23,20330,null,null,0,1222]
[21,20524,21,20533,22,20542,23,20551,null,null,0,2222]
[21,21614,21,21625,22,21643,23,21652,null,null,0,2222]
[21,23293,21,23300,22,23315,23,23339,null,null,0,2222]
[12,23459,23,23486,24,23504,23,23520,null,null,0,1222]
[21,23784,21,23799,11,23827,12,23829,null,null,0,2211]

{"sheet":"!N113840.092","index":16,"n_rows":152,"n_cols":48,"rows_kept":152,"cut":false,"hidden":false,"merged":[[4,39,4,42],[5,39,5,40],[4,44,4,47],[5,44,5,45],[4,24,4,27],[5,24,5,25],[4,29,4,32],[5,29,5,30],[4,34,4,37],[5,34,5,35],[1,1,1,2],[5,13,5,14],[26,13,26,14],[27,13,27,14],[4,19,4,22],[5,19,5,20]]}
["Report for:!N113840.092"]
["Date:","<date>"]
["Hen:","<hen>",null,null,null,"Correct Sequence",{"$f":"Start!J2","v":2212},null,null,null,null,null,null,null,null,"Total Sequences in Data",{"$f":"4994-COUNTBLANK(L7:L5000)","v":146},null,null,null,null,"Total Sequences in Block Data",{"$f":"COUNTA(L7:L30)","v":24},null,null,null,"Total Sequences in Block Data",{"$f":"COUNTA(L31:L55)","v":25},null,null,null,"Total Sequences in Block Data",{"$f":"COUNTA(L56:L79)","v":24},null,null,null,"Total Sequences in Block Data",{"$f":"COUNTA(L80:L103)","v":24},null,null,null,"Total Sequences in Block Data",{"$f":"COUNTA(L104:L128)","v":25},null,null,null,"Total Sequences in Block Data",{"$f":"COUNTA(L129:L152)","v":24}]
[null,null,null,null,null,null,null,null,null,null,null,null,null,null,null,"Total Sequences in Summary",{"$f":"SUM(O7:O22)","v":146},null,null,null,null,"Total Sequences in Block Summary",{"$f":"SUM(U7:U22)","v":24},null,null,null,"Total Sequences in Block Summary",{"$f":"SUM(Z7:Z22)","v":25},null,null,null,"Total Sequences in Block Summary",{"$f":"SUM(AE7:AE22)","v":24},null,null,null,"Total Sequences in Block Summary",{"$f":"SUM(AJ7:AJ22)","v":24},null,null,null,"Total Sequences in Block Summary",{"$f":"SUM(AO7:AO22)","v":25},null,null,null,"Total Sequences in Block Summary",{"$f":"SUM(AT7:AT22)","v":24}]
[null,null,null,null,null,null,null,null,null,null,null,null,null,null,null,null,null,null,null,"Block 1",null,null,null,null,"Block 2",null,null,null,null,"Block 3",null,null,null,null,"Block 4",null,null,null,null,"Block 5",null,null,null,null,"Block 6"]
["Sequence\nComponent\n1","Time\n1","Sequence\nComponent\n2","Time\n2","Sequence\nComponent\n3","Time\n3","Sequence\nComponent\n4","Time\n4","Sequence\nComponent\n5","Time\n5","Correct?\n0=No 1=Yes","Sequence",null,"Frequency",null,"Relative Frequency","Variability",null,null,"Frequency",null,"Relative Frequency","Variability",null,"Frequency",null,"Relative Frequency","Variability",null,"Frequency",null,"Relative Frequency","Variability",null,"Frequency",null,"Relative Frequency","Variability",null,"Frequency",null,"Relative Frequency","Variability",null,"Frequency",null,"Relative Frequency","Variability"]
[12,32,23,43,13,61,23,91,null,null,0,1212,null,1111,{"$f":"COUNTIF($L$7:$L$500,N7)","v":38},{"$f":"O7/$Q$4","v":0.26027397260273971},{"$f":"IF(P7=0,0,(P7*((LOG(P7))/LOG(2))))","v":-0.50542525840126307},null,null,{"$f":"N7","v":1111},{"$f":"COUNTIF(L7:L30,T7)","v":5},{"$f":"U7/(W4-U20)","v":0.20833333333333334},{"$f":"IF(V7=0,0,(V7*((LOG(V7))/LOG(2))))","v":-0.47146550121537367},null,{"$f":"N7","v":1111},{"$f":"COUNTIF(L31:L55,Y7)","v":8},{"$f":"Z7/(AB4-Z20)","v":0.33333333333333331},{"$f":"IF(AA7=0,0,(AA7*((LOG(AA7))/LOG(2))))","v":-0.52832083357371862},null,{"$f":"N7","v":1111},{"$f":"COUNTIF(L56:L79,AD7)","v":2},{"$f":"AE7/(AG4-AE20)","v":8.6956521739130432E-2},{"$f":"IF(AF7=0,0,(AF7*((LOG(AF7))/LOG(2))))","v":-0.30639669183104457},null,{"$f":"N7","v":1111},{"$f":"COUNTIF(L80:L103,AI7)","v":1},{"$f":"AJ7/(AL4-AJ20)","v":4.3478260869565216E-2},{"$f":"IF(AK7=0,0,(AK7*((LOG(AK7))/LOG(2))))","v":-0.19667660678508753},null,{"$f":"N7","v":1111},{"$f":"COUNTIF(L104:L128,AN7)","v":14},{"$f":"AO7/(AQ4-AO20)","v":0.56000000000000005},{"$f":"IF(AP7=0,0,(AP7*((LOG(AP7))/LOG(2))))","v":-0.46844070992158748},null,{"$f":"N7","v":1111},{"$f":"COUNTIF(L129:L152,AS7)","v":8},{"$f":"AT7/(AV4-AT20)","v":0.33333333333333331},{"$f":"IF(AU7=0,0,(AU7*((LOG(AU7))/LOG(2))))","v":-0.52832083357371862}]
[12,224,14,231,13,242,23,259,null,null,0,1112,null,1112,{"$f":"COUNTIF($L$7:$L$500,N8)","v":27},{"$f":"O8/$Q$4","v":0.18493150684931506},{"$f":"IF(P8=0,0,(P8*((LOG(P8))/LOG(2))))","v":-0.45029657898182746},null,null,{"$f":"N8","v":1112},{"$f":"COUNTIF(L7:L30,T8)","v":5},{"$f":"U8/(W4-U20)","v":0.20833333333333334},{"$f":"IF(V8=0,0,(V8*((LOG(V8))/LOG(2))))","v":-0.47146550121537367},null,{"$f":"N8","v":1112},{"$f":"COUNTIF(L31:L55,Y8)","v":2},{"$f":"Z8/(AB4-Z20)","v":8.3333333333333329E-2},{"$f":"IF(AA8=0,0,(AA8*((LOG(AA8))/LOG(2))))","v":-0.29874687506009634},null,{"$f":"N8","v":1112},{"$f":"COUNTIF(L56:L79,AD8)","v":1},{"$f":"AE8/(AG4-AE20)","v":4.3478260869565216E-2},{"$f":"IF(AF8=0,0,(AF8*((LOG(AF8))/LOG(2))))","v":-0.19667660678508753},null,{"$f":"N8","v":1112},{"$f":"COUNTIF(L80:L103,AI8)","v":8},{"$f":"AJ8/(AL4-AJ20)","v":0.34782608695652173},{"$f":"IF(AK8=0,0,(AK8*((LOG(AK8))/LOG(2))))","v":-0.52993459341113491},null,{"$f":"N8","v":1112},{"$f":"COUNTIF(L104:L128,AN8)","v":5},{"$f":"AO8/(AQ4-AO20)","v":0.2},{"$f":"IF(AP8=0,0,(AP8*((LOG(AP8))/LOG(2))))","v":-0.46438561897747244},null,{"$f":"N8","v":1112},{"$f":"COUNTIF(L129:L152,AS8)","v":6},{"$f":"AT8/(AV4-AT20)","v":0.25},{"$f":"IF(AU8=0,0,(AU8*((LOG(AU8))/LOG(2))))","v":-0.5}]
[12,390,23,402,24,412,14,431,null,null,0,1221,null,1121,{"$f":"COUNTIF($L$7:$L$500,N9)","v":1},{"$f":"O9/$Q$4","v":6.8493150684931503E-3},{"$f":"IF(P9=0,0,(P9*((LOG(P9))/LOG(2))))","v":-4.9245373690959021E-2},null,null,{"$f":"N9","v":1121},{"$f":"COUNTIF(L7:L30,T9)","v":0},{"$f":"U9/(W4-U20)","v":0},{"$f":"IF(V9=0,0,(V9*((LOG(V9))/LOG(2))))","v":0},null,{"$f":"N9","v":1121},{"$f":"COUNTIF(L31:L55,Y9)","v":0},{"$f":"Z9/(AB4-Z20)","v":0},{"$f":"IF(AA9=0,0,(AA9*((LOG(AA9))/LOG(2))))","v":0},null,{"$f":"N9","v":1121},{"$f":"COUNTIF(L56:L79,AD9)","v":0},{"$f":"AE9/(AG4-AE20)","v":0},{"$f":"IF(AF9=0,0,(AF9*((LOG(AF9))/LOG(2))))","v":0},null,{"$f":"N9","v":1121},{"$f":"COUNTIF(L80:L103,AI9)","v":0},{"$f":"AJ9/(AL4-AJ20)","v":0},{"$f":"IF(AK9=0,0,(AK9*((LOG(AK9))/LOG(2))))","v":0},null,{"$f":"N9","v":1121},{"$f":"COUNTIF(L104:L128,AN9)","v":0},{"$f":"AO9/(AQ4-AO20)","v":0},{"$f":"IF(AP9=0,0,(AP9*((LOG(AP9))/LOG(2))))","v":0},null,{"$f":"N9","v":1121},{"$f":"COUNTIF(L129:L152,AS9)","v":1},{"$f":"AT9/(AV4-AT20)","v":4.1666666666666664E-2},{"$f":"IF(AU9=0,0,(AU9*((LOG(AU9))/LOG(2))))","v":-0.19104010419671485}]
[12,545,14,549,13,556,14,561,null,null,0,1111,null,1122,{"$f":"COUNTIF($L$7:$L$500,N10)","v":29},{"$f":"O10/$Q$4","v":0.19863013698630136},{"$f":"IF(P10=0,0,(P10*((LOG(P10))/LOG(2))))","v":-0.46317440649877334},null,null,{"$f":"N10","v":1122},{"$f":"COUNTIF(L7:L30,T10)","v":5},{"$f":"U10/(W4-U20)","v":0.20833333333333334},{"$f":"IF(V10=0,0,(V10*((LOG(V10))/LOG(2))))","v":-0.47146550121537367},null,{"$f":"N10","v":1122},{"$f":"COUNTIF(L31:L55,Y10)","v":4},{"$f":"Z10/(AB4-Z20)","v":0.16666666666666666},{"$f":"IF(AA10=0,0,(AA10*((LOG(AA10))/LOG(2))))","v":-0.43082708345352599},null,{"$f":"N10","v":1122},{"$f":"COUNTIF(L56:L79,AD10)","v":3},{"$f":"AE10/(AG4-AE20)","v":0.13043478260869565},{"$f":"IF(AF10=0,0,(AF10*((LOG(AF10))/LOG(2))))","v":-0.3832955811307639},null,{"$f":"N10","v":1122},{"$f":"COUNTIF(L80:L103,AI10)","v":7},{"$f":"AJ10/(AL4-AJ20)","v":0.30434782608695654},{"$f":"IF(AK10=0,0,(AK10*((LOG(AK10))/LOG(2))))","v":-0.52232387991286355},null,{"$f":"N10","v":1122},{"$f":"COUNTIF(L104:L128,AN10)","v":4},{"$f":"AO10/(AQ4-AO20)","v":0.16},{"$f":"IF(AP10=0,0,(AP10*((LOG(AP10))/LOG(2))))","v":-0.42301699036395596},null,{"$f":"N10","v":1122},{"$f":"COUNTIF(L129:L152,AS10)","v":6},{"$f":"AT10/(AV4-AT20)","v":0.25},{"$f":"IF(AU10=0,0,(AU10*((LOG(AU10))/LOG(2))))","v":-0.5}]
[12,676,14,693,13,706,23,718,null,null,0,1112,null,1211,{"$f":"COUNTIF($L$7:$L$500,N11)","v":9},{"$f":"O11/$Q$4","v":6.1643835616438353E-2},{"$f":"IF(P11=0,0,(P11*((LOG(P11))/LOG(2))))","v":-0.24780202751328315},null,null,{"$f":"N11","v":1211},{"$f":"COUNTIF(L7:L30,T11)","v":2},{"$f":"U11/(W4-U20)","v":8.3333333333333329E-2},{"$f":"IF(V11=0,0,(V11*((LOG(V11))/LOG(2))))","v":-0.29874687506009634},null,{"$f":"N11","v":1211},{"$f":"COUNTIF(L31:L55,Y11)","v":1},{"$f":"Z11/(AB4-Z20)","v":4.1666666666666664E-2},{"$f":"IF(AA11=0,0,(AA11*((LOG(AA11))/LOG(2))))","v":-0.19104010419671485},null,{"$f":"N11","v":1211},{"$f":"COUNTIF(L56:L79,AD11)","v":2},{"$f":"AE11/(AG4-AE20)","v":8.6956521739130432E-2},{"$f":"IF(AF11=0,0,(AF11*((LOG(AF11))/LOG(2))))","v":-0.30639669183104457},null,{"$f":"N11","v":1211},{"$f":"COUNTIF(L80:L103,AI11)","v":1},{"$f":"AJ11/(AL4-AJ20)","v":4.3478260869565216E-2},{"$f":"IF(AK11=0,0,(AK11*((LOG(AK11))/LOG(2))))","v":-0.19667660678508753},null,{"$f":"N11","v":1211},{"$f":"COUNTIF(L104:L128,AN11)","v":1},{"$f":"AO11/(AQ4-AO20)","v":0.04},{"$f":"IF(AP11=0,0,(AP11*((LOG(AP11))/LOG(2))))","v":-0.18575424759098899},null,{"$f":"N11","v":1211},{"$f":"COUNTIF(L129:L152,AS11)","v":2},{"$f":"AT11/(AV4-AT20)","v":8.3333333333333329E-2},{"$f":"IF(AU11=0,0,(AU11*((LOG(AU11))/LOG(2))))","v":-0.29874687506009634}]
[12,831,14,841,24,866,23,874,null,null,0,1122,null,1212,{"$f":"COUNTIF($L$7:$L$500,N12)","v":2},{"$f":"O12/$Q$4","v":1.3698630136986301E-2},{"$f":"IF(P12=0,0,(P12*((LOG(P12))/LOG(2))))","v":-8.4792117244931728E-2},null,null,{"$f":"N12","v":1212},{"$f":"COUNTIF(L7:L30,T12)","v":1},{"$f":"U12/(W4-U20)","v":4.1666666666666664E-2},{"$f":"IF(V12=0,0,(V12*((LOG(V12))/LOG(2))))","v":-0.19104010419671485},null,{"$f":"N12","v":1212},{"$f":"COUNTIF(L31:L55,Y12)","v":0},{"$f":"Z12/(AB4-Z20)","v":0},{"$f":"IF(AA12=0,0,(AA12*((LOG(AA12))/LOG(2))))","v":0},null,{"$f":"N12","v":1212},{"$f":"COUNTIF(L56:L79,AD12)","v":0},{"$f":"AE12/(AG4-AE20)","v":0},{"$f":"IF(AF12=0,0,(AF12*((LOG(AF12))/LOG(2))))","v":0},null,{"$f":"N12","v":1212},{"$f":"COUNTIF(L80:L103,AI12)","v":1},{"$f":"AJ12/(AL4-AJ20)","v":4.3478260869565216E-2},{"$f":"IF(AK12=0,0,(AK12*((LOG(AK12))/LOG(2))))","v":-0.19667660678508753},null,{"$f":"N12","v":1212},{"$f":"COUNTIF(L104:L128,AN12)","v":0},{"$f":"AO12/(AQ4-AO20)","v":0},{"$f":"IF(AP12=0,0,(AP12*((LOG(AP12))/LOG(2))))","v":0},null,{"$f":"N12","v":1212},{"$f":"COUNTIF(L129:L152,AS12)","v":0},{"$f":"AT12/(AV4-AT20)","v":0},{"$f":"IF(AU12=0,0,(AU12*((LOG(AU12))/LOG(2))))","v":0}]
[12,1079,14,1091,13,1096,23,1107,null,null,0,1112,null,1221,{"$f":"COUNTIF($L$7:$L$500,N13)","v":6},{"$f":"O13/$Q$4","v":4.1095890410958902E-2},{"$f":"IF(P13=0,0,(P13*((LOG(P13))/LOG(2))))","v":-0.18924090649967923},null,null,{"$f":"N13","v":1221},{"$f":"COUNTIF(L7:L30,T13)","v":1},{"$f":"U13/(W4-U20)","v":4.1666666666666664E-2},{"$f":"IF(V13=0,0,(V13*((LOG(V13))/LOG(2))))","v":-0.19104010419671485},null,{"$f":"N13","v":1221},{"$f":"COUNTIF(L31:L55,Y13)","v":0},{"$f":"Z13/(AB4-Z20)","v":0},{"$f":"IF(AA13=0,0,(AA13*((LOG(AA13))/LOG(2))))","v":0},null,{"$f":"N13","v":1221},{"$f":"COUNTIF(L56:L79,AD13)","v":2},{"$f":"AE13/(AG4-AE20)","v":8.6956521739130432E-2},{"$f":"IF(AF13=0,0,(AF13*((LOG(AF13))/LOG(2))))","v":-0.30639669183104457},null,{"$f":"N13","v":1221},{"$f":"COUNTIF(L80:L103,AI13)","v":1},{"$f":"AJ13/(AL4-AJ20)","v":4.3478260869565216E-2},{"$f":"IF(AK13=0,0,(AK13*((LOG(AK13))/LOG(2))))","v":-0.19667660678508753},null,{"$f":"N13","v":1221},{"$f":"COUNTIF(L104:L128,AN13)","v":1},{"$f":"AO13/(AQ4-AO20)","v":0.04},{"$f":"IF(AP13=0,0,(AP13*((LOG(AP13))/LOG(2))))","v":-0.18575424759098899},null,{"$f":"N13","v":1221},{"$f":"COUNTIF(L129:L152,AS13)","v":1},{"$f":"AT13/(AV4-AT20)","v":4.1666666666666664E-2},{"$f":"IF(AU13=0,0,(AU13*((LOG(AU13))/LOG(2))))","v":-0.19104010419671485}]
[12,1220,14,1229,24,1243,23,1248,null,null,0,1122,null,1222,{"$f":"COUNTIF($L$7:$L$500,N14)","v":11},{"$f":"O14/$Q$4","v":7.5342465753424653E-2},{"$f":"IF(P14=0,0,(P14*((LOG(P14))/LOG(2))))","v":-0.28105700234705422},null,null,{"$f":"N14","v":1222},{"$f":"COUNTIF(L7:L30,T14)","v":0},{"$f":"U14/(W4-U20)","v":0},{"$f":"IF(V14=0,0,(V14*((LOG(V14))/LOG(2))))","v":0},null,{"$f":"N14","v":1222},{"$f":"COUNTIF(L31:L55,Y14)","v":4},{"$f":"Z14/(AB4-Z20)","v":0.16666666666666666},{"$f":"IF(AA14=0,0,(AA14*((LOG(AA14))/LOG(2))))","v":-0.43082708345352599},null,{"$f":"N14","v":1222},{"$f":"COUNTIF(L56:L79,AD14)","v":5},{"$f":"AE14/(AG4-AE20)","v":0.21739130434782608},{"$f":"IF(AF14=0,0,(AF14*((LOG(AF14))/LOG(2))))","v":-0.47861605677601093},null,{"$f":"N14","v":1222},{"$f":"COUNTIF(L80:L103,AI14)","v":2},{"$f":"AJ14/(AL4-AJ20)","v":8.6956521739130432E-2},{"$f":"IF(AK14=0,0,(AK14*((LOG(AK14))/LOG(2))))","v":-0.30639669183104457},null,{"$f":"N14","v":1222},{"$f":"COUNTIF(L104:L128,AN14)","v":0},{"$f":"AO14/(AQ4-AO20)","v":0},{"$f":"IF(AP14=0,0,(AP14*((LOG(AP14))/LOG(2))))","v":0},null,{"$f":"N14","v":1222},{"$f":"COUNTIF(L129:L152,AS14)","v":0},{"$f":"AT14/(AV4-AT20)","v":0},{"$f":"IF(AU14=0,0,(AU14*((LOG(AU14))/LOG(2))))","v":0}]
[12,1387,23,1397,13,1411,14,1416,null,null,0,1211,null,2111,{"$f":"COUNTIF($L$7:$L$500,N15)","v":4},{"$f":"O15/$Q$4","v":2.7397260273972601E-2},{"$f":"IF(P15=0,0,(P15*((LOG(P15))/LOG(2))))","v":-0.14218697421589085},null,null,{"$f":"N15","v":2111},{"$f":"COUNTIF(L7:L30,T15)","v":0},{"$f":"U15/(W4-U20)","v":0},{"$f":"IF(V15=0,0,(V15*((LOG(V15))/LOG(2))))","v":0},null,{"$f":"N15","v":2111},{"$f":"COUNTIF(L31:L55,Y15)","v":1},{"$f":"Z15/(AB4-Z20)","v":4.1666666666666664E-2},{"$f":"IF(AA15=0,0,(AA15*((LOG(AA15))/LOG(2))))","v":-0.19104010419671485},null,{"$f":"N15","v":2111},{"$f":"COUNTIF(L56:L79,AD15)","v":2},{"$f":"AE15/(AG4-AE20)","v":8.6956521739130432E-2},{"$f":"IF(AF15=0,0,(AF15*((LOG(AF15))/LOG(2))))","v":-0.30639669183104457},null,{"$f":"N15","v":2111},{"$f":"COUNTIF(L80:L103,AI15)","v":1},{"$f":"AJ15/(AL4-AJ20)","v":4.3478260869565216E-2},{"$f":"IF(AK15=0,0,(AK15*((LOG(AK15))/LOG(2))))","v":-0.19667660678508753},null,{"$f":"N15","v":2111},{"$f":"COUNTIF(L104:L128,AN15)","v":0},{"$f":"AO15/(AQ4-AO20)","v":0},{"$f":"IF(AP15=0,0,(AP15*((LOG(AP15))/LOG(2))))","v":0},null,{"$f":"N15","v":2111},{"$f":"COUNTIF(L129:L152,AS15)","v":0},{"$f":"AT15/(AV4-AT20)","v":0},{"$f":"IF(AU15=0,0,(AU15*((LOG(AU15))/LOG(2))))","v":0}]
[12,1524,14,1528,24,1541,23,1555,null,null,0,1122,null,2112,{"$f":"COUNTIF($L$7:$L$500,N16)","v":4},{"$f":"O16/$Q$4","v":2.7397260273972601E-2},{"$f":"IF(P16=0,0,(P16*((LOG(P16))/LOG(2))))","v":-0.14218697421589085},null,null,{"$f":"N16","v":2112},{"$f":"COUNTIF(L7:L30,T16)","v":1},{"$f":"U16/(W4-U20)","v":4.1666666666666664E-2},{"$f":"IF(V16=0,0,(V16*((LOG(V16))/LOG(2))))","v":-0.19104010419671485},null,{"$f":"N16","v":2112},{"$f":"COUNTIF(L31:L55,Y16)","v":2},{"$f":"Z16/(AB4-Z20)","v":8.3333333333333329E-2},{"$f":"IF(AA16=0,0,(AA16*((LOG(AA16))/LOG(2))))","v":-0.29874687506009634},null,{"$f":"N16","v":2112},{"$f":"COUNTIF(L56:L79,AD16)","v":1},{"$f":"AE16/(AG4-AE20)","v":4.3478260869565216E-2},{"$f":"IF(AF16=0,0,(AF16*((LOG(AF16))/LOG(2))))","v":-0.19667660678508753},null,{"$f":"N16","v":2112},{"$f":"COUNTIF(L80:L103,AI16)","v":0},{"$f":"AJ16/(AL4-AJ20)","v":0},{"$f":"IF(AK16=0,0,(AK16*((LOG(AK16))/LOG(2))))","v":0},null,{"$f":"N16","v":2112},{"$f":"COUNTIF(L104:L128,AN16)","v":0},{"$f":"AO16/(AQ4-AO20)","v":0},{"$f":"IF(AP16=0,0,(AP16*((LOG(AP16))/LOG(2))))","v":0},null,{"$f":"N16","v":2112},{"$f":"COUNTIF(L129:L152,AS16)","v":0},{"$f":"AT16/(AV4-AT20)","v":0},{"$f":"IF(AU16=0,0,(AU16*((LOG(AU16))/LOG(2))))","v":0}]
[21,1651,12,1669,24,1692,14,1708,null,null,0,2121,null,2121,{"$f":"COUNTIF($L$7:$L$500,N17)","v":1},{"$f":"O17/$Q$4","v":6.8493150684931503E-3},{"$f":"IF(P17=0,0,(P17*((LOG(P17))/LOG(2))))","v":-4.9245373690959021E-2},null,null,{"$f":"N17","v":2121},{"$f":"COUNTIF(L7:L30,T17)","v":1},{"$f":"U17/(W4-U20)","v":4.1666666666666664E-2},{"$f":"IF(V17=0,0,(V17*((LOG(V17))/LOG(2))))","v":-0.19104010419671485},null,{"$f":"N17","v":2121},{"$f":"COUNTIF(L31:L55,Y17)","v":0},{"$f":"Z17/(AB4-Z20)","v":0},{"$f":"IF(AA17=0,0,(AA17*((LOG(AA17))/LOG(2))))","v":0},null,{"$f":"N17","v":2121},{"$f":"COUNTIF(L56:L79,AD17)","v":0},{"$f":"AE17/(AG4-AE20)","v":0},{"$f":"IF(AF17=0,0,(AF17*((LOG(AF17))/LOG(2))))","v":0},null,{"$f":"N17","v":2121},{"$f":"COUNTIF(L80:L103,AI17)","v":0},{"$f":"AJ17/(AL4-AJ20)","v":0},{"$f":"IF(AK17=0,0,(AK17*((LOG(AK17))/LOG(2))))","v":0},null,{"$f":"N17","v":2121},{"$f":"COUNTIF(L104:L128,AN17)","v":0},{"$f":"AO17/(AQ4-AO20)","v":0},{"$f":"IF(AP17=0,0,(AP17*((LOG(AP17))/LOG(2))))","v":0},null,{"$f":"N17","v":2121},{"$f":"COUNTIF(L129:L152,AS17)","v":0},{"$f":"AT17/(AV4-AT20)","v":0},{"$f":"IF(AU17=0,0,(AU17*((LOG(AU17))/LOG(2))))","v":0}]
[12,1815,14,1829,13,1865,14,1870,null,null,0,1111,null,2122,{"$f":"COUNTIF($L$7:$L$500,N18)","v":2},{"$f":"O18/$Q$4","v":1.3698630136986301E-2},{"$f":"IF(P18=0,0,(P18*((LOG(P18))/LOG(2))))","v":-8.4792117244931728E-2},null,null,{"$f":"N18","v":2122},{"$f":"COUNTIF(L7:L30,T18)","v":0},{"$f":"U18/(W4-U20)","v":0},{"$f":"IF(V18=0,0,(V18*((LOG(V18))/LOG(2))))","v":0},null,{"$f":"N18","v":2122},{"$f":"COUNTIF(L31:L55,Y18)","v":1},{"$f":"Z18/(AB4-Z20)","v":4.1666666666666664E-2},{"$f":"IF(AA18=0,0,(AA18*((LOG(AA18))/LOG(2))))","v":-0.19104010419671485},null,{"$f":"N18","v":2122},{"$f":"COUNTIF(L56:L79,AD18)","v":1},{"$f":"AE18/(AG4-AE20)","v":4.3478260869565216E-2},{"$f":"IF(AF18=0,0,(AF18*((LOG(AF18))/LOG(2))))","v":-0.19667660678508753},null,{"$f":"N18","v":2122},{"$f":"COUNTIF(L80:L103,AI18)","v":0},{"$f":"AJ18/(AL4-AJ20)","v":0},{"$f":"IF(AK18=0,0,(AK18*((LOG(AK18))/LOG(2))))","v":0},null,{"$f":"N18","v":2122},{"$f":"COUNTIF(L104:L128,AN18)","v":0},{"$f":"AO18/(AQ4-AO20)","v":0},{"$f":"IF(AP18=0,0,(AP18*((LOG(AP18))/LOG(2))))","v":0},null,{"$f":"N18","v":2122},{"$f":"COUNTIF(L129:L152,AS18)","v":0},{"$f":"AT18/(AV4-AT20)","v":0},{"$f":"IF(AU18=0,0,(AU18*((LOG(AU18))/LOG(2))))","v":0}]
[12,1977,14,1982,13,1987,14,1994,null,null,0,1111,null,2211,{"$f":"COUNTIF($L$7:$L$500,N19)","v":3},{"$f":"O19/$Q$4","v":2.0547945205479451E-2},{"$f":"IF(P19=0,0,(P19*((LOG(P19))/LOG(2))))","v":-0.11516839845531907},null,null,{"$f":"N19","v":2211},{"$f":"COUNTIF(L7:L30,T19)","v":0},{"$f":"U19/(W4-U20)","v":0},{"$f":"IF(V19=0,0,(V19*((LOG(V19))/LOG(2))))","v":0},null,{"$f":"N19","v":2211},{"$f":"COUNTIF(L31:L55,Y19)","v":0},{"$f":"Z19/(AB4-Z20)","v":0},{"$f":"IF(AA19=0,0,(AA19*((LOG(AA19))/LOG(2))))","v":0},null,{"$f":"N19","v":2211},{"$f":"COUNTIF(L56:L79,AD19)","v":2},{"$f":"AE19/(AG4-AE20)","v":8.6956521739130432E-2},{"$f":"IF(AF19=0,0,(AF19*((LOG(AF19))/LOG(2))))","v":-0.30639669183104457},null,{"$f":"N19","v":2211},{"$f":"COUNTIF(L80:L103,AI19)","v":1},{"$f":"AJ19/(AL4-AJ20)","v":4.3478260869565216E-2},{"$f":"IF(AK19=0,0,(AK19*((LOG(AK19))/LOG(2))))","v":-0.19667660678508753},null,{"$f":"N19","v":2211},{"$f":"COUNTIF(L104:L128,AN19)","v":0},{"$f":"AO19/(AQ4-AO20)","v":0},{"$f":"IF(AP19=0,0,(AP19*((LOG(AP19))/LOG(2))))","v":0},null,{"$f":"N19","v":2211},{"$f":"COUNTIF(L129:L152,AS19)","v":0},{"$f":"AT19/(AV4-AT20)","v":0},{"$f":"IF(AU19=0,0,(AU19*((LOG(AU19))/LOG(2))))","v":0}]
[12,2095,14,2100,13,2105,23,2119,null,null,0,1112,null,2212,{"$f":"COUNTIF($L$7:$L$500,N20)","v":3},{"$f":"O20/$Q$4","v":2.0547945205479451E-2},{"$f":"IF(P20=0,0,(P20*((LOG(P20))/LOG(2))))","v":-0.11516839845531907},null,null,{"$f":"N20","v":2212},{"$f":"COUNTIF(L7:L30,T20)","v":0},null,null,null,{"$f":"N20","v":2212},{"$f":"COUNTIF(L31:L55,Y20)","v":1},null,null,null,{"$f":"N20","v":2212},{"$f":"COUNTIF(L56:L79,AD20)","v":1},null,null,null,{"$f":"N20","v":2212},{"$f":"COUNTIF(L80:L103,AI20)","v":1},null,null,null,{"$f":"N20","v":2212},{"$f":"COUNTIF(L104:L128,AN20)","v":0},null,null,null,{"$f":"N20","v":2212},{"$f":"COUNTIF(L129:L152,AS20)","v":0}]
[12,2241,14,2246,13,2251,23,2270,null,null,0,1112,null,2221,{"$f":"COUNTIF($L$7:$L$500,N21)","v":2},{"$f":"O21/$Q$4","v":1.3698630136986301E-2},{"$f":"IF(P21=0,0,(P21*((LOG(P21))/LOG(2))))","v":-8.4792117244931728E-2},null,null,{"$f":"N21","v":2221},{"$f":"COUNTIF(L7:L30,T21)","v":1},{"$f":"U21/(W4-U20)","v":4.1666666666666664E-2},{"$f":"IF(V21=0,0,(V21*((LOG(V21))/LOG(2))))","v":-0.19104010419671485},null,{"$f":"N21","v":2221},{"$f":"COUNTIF(L31:L55,Y21)","v":0},{"$f":"Z21/(AB4-Z20)","v":0},{"$f":"IF(AA21=0,0,(AA21*((LOG(AA21))/LOG(2))))","v":0},null,{"$f":"N21","v":2221},{"$f":"COUNTIF(L56:L79,AD21)","v":1},{"$f":"AE21/(AG4-AE20)","v":4.3478260869565216E-2},{"$f":"IF(AF21=0,0,(AF21*((LOG(AF21))/LOG(2))))","v":-0.19667660678508753},null,{"$f":"N21","v":2221},{"$f":"COUNTIF(L80:L103,AI21)","v":0},{"$f":"AJ21/(AL4-AJ20)","v":0},{"$f":"IF(AK21=0,0,(AK21*((LOG(AK21))/LOG(2))))","v":0},null,{"$f":"N21","v":2221},{"$f":"COUNTIF(L104:L128,AN21)","v":0},{"$f":"AO21/(AQ4-AO20)","v":0},{"$f":"IF(AP21=0,0,(AP21*((LOG(AP21))/LOG(2))))","v":0},null,{"$f":"N21","v":2221},{"$f":"COUNTIF(L129:L152,AS21)","v":0},{"$f":"AT21/(AV4-AT20)","v":0},{"$f":"IF(AU21=0,0,(AU21*((LOG(AU21))/LOG(2))))","v":0}]
[21,2528,21,2537,22,2547,14,2574,null,null,0,2221,null,2222,{"$f":"COUNTIF($L$7:$L$500,N22)","v":4},{"$f":"O22/$Q$4","v":2.7397260273972601E-2},{"$f":"IF(P22=0,0,(P22*((LOG(P22))/LOG(2))))","v":-0.14218697421589085},null,null,{"$f":"N22","v":2222},{"$f":"COUNTIF(L7:L30,T22)","v":2},{"$f":"U22/(W4-U20)","v":8.3333333333333329E-2},{"$f":"IF(V22=0,0,(V22*((LOG(V22))/LOG(2))))","v":-0.29874687506009634},null,{"$f":"N22","v":2222},{"$f":"COUNTIF(L31:L55,Y22)","v":1},{"$f":"Z22/(AB4-Z20)","v":4.1666666666666664E-2},{"$f":"IF(AA22=0,0,(AA22*((LOG(AA22))/LOG(2))))","v":-0.19104010419671485},null,{"$f":"N22","v":2222},{"$f":"COUNTIF(L56:L79,AD22)","v":1},{"$f":"AE22/(AG4-AE20)","v":4.3478260869565216E-2},{"$f":"IF(AF22=0,0,(AF22*((LOG(AF22))/LOG(2))))","v":-0.19667660678508753},null,{"$f":"N22","v":2222},{"$f":"COUNTIF(L80:L103,AI22)","v":0},{"$f":"AJ22/(AL4-AJ20)","v":0},{"$f":"IF(AK22=0,0,(AK22*((LOG(AK22))/LOG(2))))","v":0},null,{"$f":"N22","v":2222},{"$f":"COUNTIF(L104:L128,AN22)","v":0},{"$f":"AO22/(AQ4-AO20)","v":0},{"$f":"IF(AP22=0,0,(AP22*((LOG(AP22))/LOG(2))))","v":0},null,{"$f":"N22","v":2222},{"$f":"COUNTIF(L129:L152,AS22)","v":0},{"$f":"AT22/(AV4-AT20)","v":0},{"$f":"IF(AU22=0,0,(AU22*((LOG(AU22))/LOG(2))))","v":0}]
[21,2691,12,2723,13,2728,23,2738,null,null,0,2112,null,null,null,{"$f":"SUM(P7:P22)","v":0.99999999999999989},{"$f":"-SUM(Q7:Q22)","v":3.1467609989169043},null,null,null,null,{"$f":"SUM(V7:V22)","v":0.99999999999999989},{"$f":"-SUM(W7:W22)","v":2.967090774749888},null,null,null,{"$f":"SUM(AA7:AA22)","v":0.99999999999999978},{"$f":"-SUM(AB7:AB22)","v":2.7516291673878226},null,null,null,{"$f":"SUM(AF7:AF22)","v":0.99999999999999978},{"$f":"-SUM(AG7:AG22)","v":3.3772781309874356},null,null,null,{"$f":"SUM(AK7:AK22)","v":0.99999999999999978},{"$f":"-SUM(AL7:AL22)","v":2.5387148058655686},null,null,null,{"$f":"SUM(AP7:AP22)","v":1},{"$f":"-SUM(AQ7:AQ22)","v":1.727351814444994},null,null,null,{"$f":"SUM(AU7:AU22)","v":0.99999999999999989},{"$f":"-SUM(AV7:AV22)","v":2.2091479170272446}]
[21,2871,21,2886,22,2919,23,2924,null,null,0,2222,null,null,null,"U=",{"$f":"Q23/(LOG(Q4)/LOG(2))","v":0.437668676495089},null,null,null,null,"U1=",{"$f":"W23/(LOG(W4)/LOG(2))","v":0.6471352326836266},null,null,null,"U2=",{"$f":"AB23/(LOG(AB4)/LOG(2))","v":0.59253108945247179},null,null,null,"U3=",{"$f":"AG23/(LOG(AG4)/LOG(2))","v":0.73659885559723393},null,null,null,"U4=",{"$f":"AL23/(LOG(AL4)/LOG(2))","v":0.55370459528649607},null,null,null,"U5=",{"$f":"AQ23/(LOG(AQ4)/LOG(2))","v":0.37196496701350013},null,null,null,"U6=",{"$f":"AV23/(LOG(AV4)/LOG(2))","v":0.48182464233453898}]
[21,3050,21,3077,22,3082,23,3086,null,null,0,2222]
[12,3270,14,3274,13,3287,14,3298,null,null,0,1111]
[12,3505,14,3513,24,3527,23,3533,null,null,0,1122,null,"Total Target Seq"]
[12,3749,23,3762,13,3780,14,3785,null,null,0,1211,null,{"$f":"COUNTIF(L7:L152,G3)","v":3},null,24,25,24,24,25,24]
[12,4011,14,4032,24,4045,23,4064,null,null,0,1122,null,null,null,"% of reinforcement given in 6 equal intervals based on number of trials "]
[12,4279,14,4290,13,4295,14,4301,null,null,0,1111,null,null,null,"%_1","%_2","%_3","%_4","%_5","%_6"]
[12,4436,14,4445,13,4450,14,4456,null,null,0,1111,null,null,"target sequence",{"$f":"$G$3","v":2212},{"$f":"$G$3","v":2212},{"$f":"$G$3","v":2212},{"$f":"$G$3","v":2212},{"$f":"$G$3","v":2212},{"$f":"$G$3","v":2212}]
[12,4699,14,4708,13,4718,23,4742,null,null,0,1112,null,null,"total reinforcement",{"$f":"U20","v":0},{"$f":"Z20","v":1},{"$f":"AE20","v":1},{"$f":"AJ20","v":1},{"$f":"AO20","v":0},{"$f":"AT20","v":0}]
[12,4852,23,4866,13,4882,14,4887,null,null,0,1211,null,null,"% target"]
[12,5110,14,5114,13,5121,14,5126,null,null,0,1111,null,null,"CCRF"]
[21,5240,12,5281,24,5295,23,5300,null,null,0,2122,null,null,"% CCRf"]
[12,5514,23,5528,24,5535,23,5550,null,null,0,1222,null,null,"average response rate",{"$f":"H30/P28","v":179.20833333333334},{"$f":"(H55-H30)/Q28","v":190.36},{"$f":"(H79-H55)/R28","v":197.04166666666666},{"$f":"(H103-H79)/S28","v":142.16666666666666},{"$f":"(H128-H103)/T28","v":134.6},{"$f":"(H152-H128)/U28","v":139.75}]
[12,5660,14,5675,13,5679,14,5683,null,null,0,1111]
[21,6013,21,6018,22,6031,23,6037,null,null,0,2222]
[21,6279,21,6289,11,6306,21,6331,null,null,0,2212]
[12,6432,23,6451,24,6461,23,6473,null,null,0,1222]
[12,6628,23,6656,24,6663,23,6673,null,null,0,1222]
[12,6787,14,6796,13,6805,14,6809,null,null,0,1111]
[12,6915,14,6920,24,6932,23,6938,null,null,0,1122]
[12,7043,14,7047,24,7065,23,7086,null,null,0,1122]
[12,7194,14,7199,13,7206,23,7219,null,null,0,1112]
[12,7349,14,7354,13,7359,14,7365,null,null,0,1111]
[21,7470,12,7487,13,7492,23,7512,null,null,0,2112]
[21,7616,12,7632,13,7638,23,7650,null,null,0,2112]
[12,7770,14,7775,24,7787,23,7797,null,null,0,1122]
[12,7900,14,7905,13,7912,14,7917,null,null,0,1111]
[21,8087,12,8105,13,8110,14,8119,null,null,0,2111]
[12,8443,14,8448,13,8453,14,8459,null,null,0,1111]
[12,8692,23,8715,24,8726,23,8735,null,null,0,1222]
[12,8897,14,8906,24,8925,23,8935,null,null,0,1122]
[12,9040,14,9050,13,9054,14,9060,null,null,0,1111]
[12,9232,23,9246,24,9251,23,9257,null,null,0,1222]
[21,9389,12,9403,13,9408,23,9419,null,null,0,2112]
[12,9671,23,9685,24,9704,14,9727,null,null,0,1221]
[12,9852,14,9856,24,9871,23,9880,null,null,0,1122]
[21,10137,21,10145,22,10169,23,10174,null,null,0,2222]
[12,10284,14,10289,13,10295,23,10307,null,null,0,1112]
[12,10424,14,10430,13,10435,14,10440,null,null,0,1111]
[21,10607,21,10615,11,10627,12,10633,null,null,0,2211]
[12,10778,14,10787,13,10792,14,10797,null,null,0,1111]
[21,11312,12,11333,13,11341,14,11356,null,null,0,2111]
[12,11494,14,11513,24,11526,23,11532,null,null,0,1122]
[12,11697,23,11711,13,11733,14,11737,null,null,0,1211]
[21,11926,21,11937,11,11960,12,11965,null,null,0,2211]
[21,12081,12,12101,13,12106,14,12111,null,null,0,2111]
[21,12376,12,12398,24,12419,23,12430,null,null,0,2122]
[12,12559,23,12578,24,12590,14,12605,null,null,0,1221]
[12,12782,23,12795,24,12800,23,12806,null,null,0,1222]
[21,12898,21,12911,22,12916,14,12933,null,null,0,2221]
[21,13056,21,13064,11,13080,21,13097,null,null,0,2212]
[12,13194,23,13214,24,13221,23,13229,null,null,0,1222]
[12,13346,23,13360,24,13365,23,13371,null,null,0,1222]
[12,13469,23,13486,24,13491,23,13496,null,null,0,1222]
[12,13601,23,13620,13,13637,14,13643,null,null,0,1211]
[12,13762,14,13767,24,13779,23,13789,null,null,0,1122]
[21,13895,12,13914,13,13919,14,13925,null,null,0,2111]
[12,14027,14,14033,13,14042,23,14055,null,null,0,1112]
[12,14157,14,14161,24,14174,23,14179,null,null,0,1122]
[12,14281,14,14297,13,14303,23,14317,null,null,0,1112]
[12,14423,14,14435,24,14448,23,14454,null,null,0,1122]
[12,14581,23,14593,13,14617,23,14631,null,null,0,1212]
[21,14727,21,14737,11,14753,21,14773,null,null,0,2212]
[12,14871,14,14879,24,14900,23,14916,null,null,0,1122]
[12,15017,14,15026,13,15034,23,15050,null,null,0,1112]
[12,15157,14,15164,13,15169,23,15181,null,null,0,1112]
[12,15281,14,15290,24,15326,23,15336,null,null,0,1122]
[12,15445,23,15467,24,15478,14,15491,null,null,0,1221]
[12,15589,23,15616,24,15625,23,15640,null,null,0,1222]
[12,15740,14,15749,24,15773,23,15784,null,null,0,1122]
[12,15889,23,15911,24,15917,23,15942,null,null,0,1222]
[12,16042,14,16062,13,16067,23,16088,null,null,0,1112]
[12,16194,14,16210,13,16220,23,16233,null,null,0,1112]
[12,16332,14,16338,13,16343,23,16354,null,null,0,1112]
[12,16469,14,16476,24,16523,23,16530,null,null,0,1122]
[21,16648,21,16655,11,16671,12,16678,null,null,0,2211]
[12,16776,14,16782,24,16795,23,16800,null,null,0,1122]
[12,16902,14,16908,13,16916,23,16929,null,null,0,1112]
[12,17033,14,17038,13,17056,14,17061,null,null,0,1111]
[12,17165,23,17184,13,17196,14,17201,null,null,0,1211]
[12,17310,14,17317,24,17330,23,17337,null,null,0,1122]
[12,17474,14,17479,24,17494,23,17502,null,null,0,1122]
[12,17613,14,17639,13,17644,14,17649,null,null,0,1111]
[12,17759,14,17766,13,17771,14,17777,null,null,0,1111]
[12,17880,14,17886,13,17891,14,17899,null,null,0,1111]
[12,18005,23,18020,24,18034,14,18050,null,null,0,1221]
[12,18153,14,18159,13,18164,14,18173,null,null,0,1111]
[12,18274,14,18279,13,18285,14,18292,null,null,0,1111]
[12,18394,14,18400,13,18405,14,18411,null,null,0,1111]
[12,18512,14,18518,13,18524,23,18536,null,null,0,1112]
[12,18636,14,18642,13,18648,14,18653,null,null,0,1111]
[12,18750,14,18756,13,18761,14,18771,null,null,0,1111]
[12,18890,14,18895,13,18899,23,18943,null,null,0,1112]
[12,19044,14,19061,13,19080,14,19086,null,null,0,1111]
[12,19183,14,19193,13,19201,14,19206,null,null,0,1111]
[12,19308,14,19313,13,19320,14,19345,null,null,0,1111]
[12,19448,14,19453,13,19475,14,19480,null,null,0,1111]
[12,19586,14,19617,24,19630,23,19644,null,null,0,1122]
[12,19756,14,19785,13,19790,23,19801,null,null,0,1112]
[12,19901,14,19906,13,19918,23,19932,null,null,0,1112]
[12,20036,14,20041,24,20054,23,20062,null,null,0,1122]
[12,20162,14,20167,13,20172,14,20181,null,null,0,1111]
[12,20287,14,20292,13,20297,23,20315,null,null,0,1112]
[12,20422,23,20433,13,20443,14,20448,null,null,0,1211]
[12,20547,14,20551,13,20560,14,20566,null,null,0,1111]
[12,20667,14,20672,13,20687,14,20692,null,null,0,1111]
[12,20794,14,20799,13,20803,14,20809,null,null,0,1111]
[12,20925,14,20930,13,20935,23,20953,null,null,0,1112]
[12,21069,14,21074,24,21092,23,21098,null,null,0,1122]
[12,21205,14,21234,13,21239,14,21245,null,null,0,1111]
[12,21343,14,21348,13,21354,14,21359,null,null,0,1111]
[12,21460,14,21464,13,21494,14,21499,null,null,0,1111]
[12,21600,14,21606,13,21615,23,21631,null,null,0,1112]
[12,21759,14,21764,24,21778,23,21784,null,null,0,1122]
[12,21875,23,21894,24,21910,14,21926,null,null,0,1221]
[12,22028,14,22034,13,22040,23,22054,null,null,0,1112]
[12,22155,14,22167,13,22171,23,22186,null,null,0,1112]
[12,22288,14,22293,13,22302,14,22307,null,null,0,1111]
[12,22413,14,22419,13,22426,23,22440,null,null,0,1112]
[12,22542,14,22548,24,22567,23,22572,null,null,0,1122]
[12,22676,14,22681,24,22694,23,22705,null,null,0,1122]
[12,22874,14,22880,24,22892,14,22920,null,null,0,1121]
[12,23012,14,23020,13,23025,14,23034,null,null,0,1111]
[12,23131,14,23136,24,23151,23,23168,null,null,0,1122]
[12,23277,14,23300,13,23305,23,23321,null,null,0,1112]
[12,23424,23,23441,13,23460,14,23464,null,null,0,1211]
[12,23593,14,23599,24,23611,23,23622,null,null,0,1122]
[12,23734,23,23750,13,23764,14,23772,null,null,0,1211]
[12,23872,14,23884,13,23915,14,23920,null,null,null,1111]

{"sheet":"!N114800.092","index":17,"n_rows":132,"n_cols":48,"rows_kept":132,"cut":false,"hidden":false,"merged":[[4,39,4,42],[5,39,5,40],[4,44,4,47],[5,44,5,45],[4,24,4,27],[5,24,5,25],[4,29,4,32],[5,29,5,30],[4,34,4,37],[5,34,5,35],[1,1,1,2],[5,13,5,14],[26,13,26,14],[27,13,27,14],[4,19,4,22],[5,19,5,20]]}
["Report for:!N114800.092"]
["Date:","<date>"]
["Hen:","<hen>",null,null,null,"Correct Sequence",{"$f":"Start!J2","v":2212},null,null,null,null,null,null,null,null,"Total Sequences in Data",{"$f":"4994-COUNTBLANK(L7:L5000)","v":126},null,null,null,null,"Total Sequences in Block Data",{"$f":"COUNTA(L7:L27)","v":21},null,null,null,"Total Sequences in Block Data",{"$f":"COUNTA(L28:L48)","v":21},null,null,null,"Total Sequences in Block Data",{"$f":"COUNTA(L49:L69)","v":21},null,null,null,"Total Sequences in Block Data",{"$f":"COUNTA(L70:L90)","v":21},null,null,null,"Total Sequences in Block Data",{"$f":"COUNTA(L91:L111)","v":21},null,null,null,"Total Sequences in Block Data",{"$f":"COUNTA(L112:L132)","v":21}]
[null,null,null,null,null,null,null,null,null,null,null,null,null,null,null,"Total Sequences in Summary",{"$f":"SUM(O7:O22)","v":126},null,null,null,null,"Total Sequences in Block Summary",{"$f":"SUM(U7:U22)","v":21},null,null,null,"Total Sequences in Block Summary",{"$f":"SUM(Z7:Z22)","v":21},null,null,null,"Total Sequences in Block Summary",{"$f":"SUM(AE7:AE22)","v":21},null,null,null,"Total Sequences in Block Summary",{"$f":"SUM(AJ7:AJ22)","v":21},null,null,null,"Total Sequences in Block Summary",{"$f":"SUM(AO7:AO22)","v":21},null,null,null,"Total Sequences in Block Summary",{"$f":"SUM(AT7:AT22)","v":21}]
[null,null,null,null,null,null,null,null,null,null,null,null,null,null,null,null,null,null,null,"Block 1",null,null,null,null,"Block 2",null,null,null,null,"Block 3",null,null,null,null,"Block 4",null,null,null,null,"Block 5",null,null,null,null,"Block 6"]
["Sequence\nComponent\n1","Time\n1","Sequence\nComponent\n2","Time\n2","Sequence\nComponent\n3","Time\n3","Sequence\nComponent\n4","Time\n4","Sequence\nComponent\n5","Time\n5","Correct?\n0=No 1=Yes","Sequence",null,"Frequency",null,"Relative Frequency","Variability",null,null,"Frequency",null,"Relative Frequency","Variability",null,"Frequency",null,"Relative Frequency","Variability",null,"Frequency",null,"Relative Frequency","Variability",null,"Frequency",null,"Relative Frequency","Variability",null,"Frequency",null,"Relative Frequency","Variability",null,"Frequency",null,"Relative Frequency","Variability"]
[21,42,12,60,24,73,23,81,null,null,0,2122,null,1111,{"$f":"COUNTIF($L$7:$L$500,N7)","v":23},{"$f":"O7/$Q$4","v":0.18253968253968253},{"$f":"IF(P7=0,0,(P7*((LOG(P7))/LOG(2))))","v":-0.44790089881894274},null,null,{"$f":"N7","v":1111},{"$f":"COUNTIF(L7:L27,T7)","v":2},{"$f":"U7/(W4-U20)","v":9.5238095238095233E-2},{"$f":"IF(V7=0,0,(V7*((LOG(V7))/LOG(2))))","v":-0.32307784978845333},null,{"$f":"N7","v":1111},{"$f":"COUNTIF(L28:L48,Y7)","v":8},{"$f":"Z7/(AB4-Z20)","v":0.38095238095238093},{"$f":"IF(AA7=0,0,(AA7*((LOG(AA7))/LOG(2))))","v":-0.53040663724905157},null,{"$f":"N7","v":1111},{"$f":"COUNTIF(L49:L69,AD7)","v":1},{"$f":"AE7/(AG4-AE20)","v":4.7619047619047616E-2},{"$f":"IF(AF7=0,0,(AF7*((LOG(AF7))/LOG(2))))","v":-0.20915797251327431},null,{"$f":"N7","v":1111},{"$f":"COUNTIF(L70:L90,AI7)","v":5},{"$f":"AJ7/(AL4-AJ20)","v":0.23809523809523808},{"$f":"IF(AK7=0,0,(AK7*((LOG(AK7))/LOG(2))))","v":-0.49294983997414238},null,{"$f":"N7","v":1111},{"$f":"COUNTIF(L91:L111,AN7)","v":2},{"$f":"AO7/(AQ4-AO20)","v":0.1},{"$f":"IF(AP7=0,0,(AP7*((LOG(AP7))/LOG(2))))","v":-0.33219280948873625},null,{"$f":"N7","v":1111},{"$f":"COUNTIF(L112:L132,AS7)","v":5},{"$f":"AT7/(AV4-AT20)","v":0.25},{"$f":"IF(AU7=0,0,(AU7*((LOG(AU7))/LOG(2))))","v":-0.5}]
[12,207,23,227,13,244,14,250,null,null,0,1211,null,1112,{"$f":"COUNTIF($L$7:$L$500,N8)","v":10},{"$f":"O8/$Q$4","v":7.9365079365079361E-2},{"$f":"IF(P8=0,0,(P8*((LOG(P8))/LOG(2))))","v":-0.29010728798512331},null,null,{"$f":"N8","v":1112},{"$f":"COUNTIF(L7:L27,T8)","v":2},{"$f":"U8/(W4-U20)","v":9.5238095238095233E-2},{"$f":"IF(V8=0,0,(V8*((LOG(V8))/LOG(2))))","v":-0.32307784978845333},null,{"$f":"N8","v":1112},{"$f":"COUNTIF(L28:L48,Y8)","v":4},{"$f":"Z8/(AB4-Z20)","v":0.19047619047619047},{"$f":"IF(AA8=0,0,(AA8*((LOG(AA8))/LOG(2))))","v":-0.4556795091007162},null,{"$f":"N8","v":1112},{"$f":"COUNTIF(L49:L69,AD8)","v":1},{"$f":"AE8/(AG4-AE20)","v":4.7619047619047616E-2},{"$f":"IF(AF8=0,0,(AF8*((LOG(AF8))/LOG(2))))","v":-0.20915797251327431},null,{"$f":"N8","v":1112},{"$f":"COUNTIF(L70:L90,AI8)","v":0},{"$f":"AJ8/(AL4-AJ20)","v":0},{"$f":"IF(AK8=0,0,(AK8*((LOG(AK8))/LOG(2))))","v":0},null,{"$f":"N8","v":1112},{"$f":"COUNTIF(L91:L111,AN8)","v":1},{"$f":"AO8/(AQ4-AO20)","v":0.05},{"$f":"IF(AP8=0,0,(AP8*((LOG(AP8))/LOG(2))))","v":-0.21609640474436814},null,{"$f":"N8","v":1112},{"$f":"COUNTIF(L112:L132,AS8)","v":2},{"$f":"AT8/(AV4-AT20)","v":0.1},{"$f":"IF(AU8=0,0,(AU8*((LOG(AU8))/LOG(2))))","v":-0.33219280948873625}]
[21,383,12,398,13,403,23,417,null,null,0,2112,null,1121,{"$f":"COUNTIF($L$7:$L$500,N9)","v":7},{"$f":"O9/$Q$4","v":5.5555555555555552E-2},{"$f":"IF(P9=0,0,(P9*((LOG(P9))/LOG(2))))","v":-0.23166250008012845},null,null,{"$f":"N9","v":1121},{"$f":"COUNTIF(L7:L27,T9)","v":2},{"$f":"U9/(W4-U20)","v":9.5238095238095233E-2},{"$f":"IF(V9=0,0,(V9*((LOG(V9))/LOG(2))))","v":-0.32307784978845333},null,{"$f":"N9","v":1121},{"$f":"COUNTIF(L28:L48,Y9)","v":0},{"$f":"Z9/(AB4-Z20)","v":0},{"$f":"IF(AA9=0,0,(AA9*((LOG(AA9))/LOG(2))))","v":0},null,{"$f":"N9","v":1121},{"$f":"COUNTIF(L49:L69,AD9)","v":0},{"$f":"AE9/(AG4-AE20)","v":0},{"$f":"IF(AF9=0,0,(AF9*((LOG(AF9))/LOG(2))))","v":0},null,{"$f":"N9","v":1121},{"$f":"COUNTIF(L70:L90,AI9)","v":0},{"$f":"AJ9/(AL4-AJ20)","v":0},{"$f":"IF(AK9=0,0,(AK9*((LOG(AK9))/LOG(2))))","v":0},null,{"$f":"N9","v":1121},{"$f":"COUNTIF(L91:L111,AN9)","v":2},{"$f":"AO9/(AQ4-AO20)","v":0.1},{"$f":"IF(AP9=0,0,(AP9*((LOG(AP9))/LOG(2))))","v":-0.33219280948873625},null,{"$f":"N9","v":1121},{"$f":"COUNTIF(L112:L132,AS9)","v":3},{"$f":"AT9/(AV4-AT20)","v":0.15},{"$f":"IF(AU9=0,0,(AU9*((LOG(AU9))/LOG(2))))","v":-0.41054483912493089}]
[12,526,14,545,24,557,14,583,null,null,0,1121,null,1122,{"$f":"COUNTIF($L$7:$L$500,N10)","v":21},{"$f":"O10/$Q$4","v":0.16666666666666666},{"$f":"IF(P10=0,0,(P10*((LOG(P10))/LOG(2))))","v":-0.43082708345352599},null,null,{"$f":"N10","v":1122},{"$f":"COUNTIF(L7:L27,T10)","v":4},{"$f":"U10/(W4-U20)","v":0.19047619047619047},{"$f":"IF(V10=0,0,(V10*((LOG(V10))/LOG(2))))","v":-0.4556795091007162},null,{"$f":"N10","v":1122},{"$f":"COUNTIF(L28:L48,Y10)","v":3},{"$f":"Z10/(AB4-Z20)","v":0.14285714285714285},{"$f":"IF(AA10=0,0,(AA10*((LOG(AA10))/LOG(2))))","v":-0.40105070315108626},null,{"$f":"N10","v":1122},{"$f":"COUNTIF(L49:L69,AD10)","v":4},{"$f":"AE10/(AG4-AE20)","v":0.19047619047619047},{"$f":"IF(AF10=0,0,(AF10*((LOG(AF10))/LOG(2))))","v":-0.4556795091007162},null,{"$f":"N10","v":1122},{"$f":"COUNTIF(L70:L90,AI10)","v":1},{"$f":"AJ10/(AL4-AJ20)","v":4.7619047619047616E-2},{"$f":"IF(AK10=0,0,(AK10*((LOG(AK10))/LOG(2))))","v":-0.20915797251327431},null,{"$f":"N10","v":1122},{"$f":"COUNTIF(L91:L111,AN10)","v":4},{"$f":"AO10/(AQ4-AO20)","v":0.2},{"$f":"IF(AP10=0,0,(AP10*((LOG(AP10))/LOG(2))))","v":-0.46438561897747244},null,{"$f":"N10","v":1122},{"$f":"COUNTIF(L112:L132,AS10)","v":5},{"$f":"AT10/(AV4-AT20)","v":0.25},{"$f":"IF(AU10=0,0,(AU10*((LOG(AU10))/LOG(2))))","v":-0.5}]
[12,690,14,712,24,725,23,734,null,null,0,1122,null,1211,{"$f":"COUNTIF($L$7:$L$500,N11)","v":9},{"$f":"O11/$Q$4","v":7.1428571428571425E-2},{"$f":"IF(P11=0,0,(P11*((LOG(P11))/LOG(2))))","v":-0.27195392300411453},null,null,{"$f":"N11","v":1211},{"$f":"COUNTIF(L7:L27,T11)","v":2},{"$f":"U11/(W4-U20)","v":9.5238095238095233E-2},{"$f":"IF(V11=0,0,(V11*((LOG(V11))/LOG(2))))","v":-0.32307784978845333},null,{"$f":"N11","v":1211},{"$f":"COUNTIF(L28:L48,Y11)","v":0},{"$f":"Z11/(AB4-Z20)","v":0},{"$f":"IF(AA11=0,0,(AA11*((LOG(AA11))/LOG(2))))","v":0},null,{"$f":"N11","v":1211},{"$f":"COUNTIF(L49:L69,AD11)","v":2},{"$f":"AE11/(AG4-AE20)","v":9.5238095238095233E-2},{"$f":"IF(AF11=0,0,(AF11*((LOG(AF11))/LOG(2))))","v":-0.32307784978845333},null,{"$f":"N11","v":1211},{"$f":"COUNTIF(L70:L90,AI11)","v":4},{"$f":"AJ11/(AL4-AJ20)","v":0.19047619047619047},{"$f":"IF(AK11=0,0,(AK11*((LOG(AK11))/LOG(2))))","v":-0.4556795091007162},null,{"$f":"N11","v":1211},{"$f":"COUNTIF(L91:L111,AN11)","v":1},{"$f":"AO11/(AQ4-AO20)","v":0.05},{"$f":"IF(AP11=0,0,(AP11*((LOG(AP11))/LOG(2))))","v":-0.21609640474436814},null,{"$f":"N11","v":1211},{"$f":"COUNTIF(L112:L132,AS11)","v":0},{"$f":"AT11/(AV4-AT20)","v":0},{"$f":"IF(AU11=0,0,(AU11*((LOG(AU11))/LOG(2))))","v":0}]
[12,846,23,858,24,863,14,877,null,null,0,1221,null,1212,{"$f":"COUNTIF($L$7:$L$500,N12)","v":2},{"$f":"O12/$Q$4","v":1.5873015873015872E-2},{"$f":"IF(P12=0,0,(P12*((LOG(P12))/LOG(2))))","v":-9.4877459103173273E-2},null,null,{"$f":"N12","v":1212},{"$f":"COUNTIF(L7:L27,T12)","v":0},{"$f":"U12/(W4-U20)","v":0},{"$f":"IF(V12=0,0,(V12*((LOG(V12))/LOG(2))))","v":0},null,{"$f":"N12","v":1212},{"$f":"COUNTIF(L28:L48,Y12)","v":1},{"$f":"Z12/(AB4-Z20)","v":4.7619047619047616E-2},{"$f":"IF(AA12=0,0,(AA12*((LOG(AA12))/LOG(2))))","v":-0.20915797251327431},null,{"$f":"N12","v":1212},{"$f":"COUNTIF(L49:L69,AD12)","v":0},{"$f":"AE12/(AG4-AE20)","v":0},{"$f":"IF(AF12=0,0,(AF12*((LOG(AF12))/LOG(2))))","v":0},null,{"$f":"N12","v":1212},{"$f":"COUNTIF(L70:L90,AI12)","v":1},{"$f":"AJ12/(AL4-AJ20)","v":4.7619047619047616E-2},{"$f":"IF(AK12=0,0,(AK12*((LOG(AK12))/LOG(2))))","v":-0.20915797251327431},null,{"$f":"N12","v":1212},{"$f":"COUNTIF(L91:L111,AN12)","v":0},{"$f":"AO12/(AQ4-AO20)","v":0},{"$f":"IF(AP12=0,0,(AP12*((LOG(AP12))/LOG(2))))","v":0},null,{"$f":"N12","v":1212},{"$f":"COUNTIF(L112:L132,AS12)","v":0},{"$f":"AT12/(AV4-AT20)","v":0},{"$f":"IF(AU12=0,0,(AU12*((LOG(AU12))/LOG(2))))","v":0}]
[12,985,23,1004,24,1009,23,1017,null,null,0,1222,null,1221,{"$f":"COUNTIF($L$7:$L$500,N13)","v":8},{"$f":"O13/$Q$4","v":6.3492063492063489E-2},{"$f":"IF(P13=0,0,(P13*((LOG(P13))/LOG(2))))","v":-0.25252570942856611},null,null,{"$f":"N13","v":1221},{"$f":"COUNTIF(L7:L27,T13)","v":2},{"$f":"U13/(W4-U20)","v":9.5238095238095233E-2},{"$f":"IF(V13=0,0,(V13*((LOG(V13))/LOG(2))))","v":-0.32307784978845333},null,{"$f":"N13","v":1221},{"$f":"COUNTIF(L28:L48,Y13)","v":0},{"$f":"Z13/(AB4-Z20)","v":0},{"$f":"IF(AA13=0,0,(AA13*((LOG(AA13))/LOG(2))))","v":0},null,{"$f":"N13","v":1221},{"$f":"COUNTIF(L49:L69,AD13)","v":1},{"$f":"AE13/(AG4-AE20)","v":4.7619047619047616E-2},{"$f":"IF(AF13=0,0,(AF13*((LOG(AF13))/LOG(2))))","v":-0.20915797251327431},null,{"$f":"N13","v":1221},{"$f":"COUNTIF(L70:L90,AI13)","v":2},{"$f":"AJ13/(AL4-AJ20)","v":9.5238095238095233E-2},{"$f":"IF(AK13=0,0,(AK13*((LOG(AK13))/LOG(2))))","v":-0.32307784978845333},null,{"$f":"N13","v":1221},{"$f":"COUNTIF(L91:L111,AN13)","v":2},{"$f":"AO13/(AQ4-AO20)","v":0.1},{"$f":"IF(AP13=0,0,(AP13*((LOG(AP13))/LOG(2))))","v":-0.33219280948873625},null,{"$f":"N13","v":1221},{"$f":"COUNTIF(L112:L132,AS13)","v":1},{"$f":"AT13/(AV4-AT20)","v":0.05},{"$f":"IF(AU13=0,0,(AU13*((LOG(AU13))/LOG(2))))","v":-0.21609640474436814}]
[12,1144,14,1151,24,1184,23,1190,null,null,0,1122,null,1222,{"$f":"COUNTIF($L$7:$L$500,N14)","v":11},{"$f":"O14/$Q$4","v":8.7301587301587297E-2},{"$f":"IF(P14=0,0,(P14*((LOG(P14))/LOG(2))))","v":-0.30711374090070481},null,null,{"$f":"N14","v":1222},{"$f":"COUNTIF(L7:L27,T14)","v":2},{"$f":"U14/(W4-U20)","v":9.5238095238095233E-2},{"$f":"IF(V14=0,0,(V14*((LOG(V14))/LOG(2))))","v":-0.32307784978845333},null,{"$f":"N14","v":1222},{"$f":"COUNTIF(L28:L48,Y14)","v":0},{"$f":"Z14/(AB4-Z20)","v":0},{"$f":"IF(AA14=0,0,(AA14*((LOG(AA14))/LOG(2))))","v":0},null,{"$f":"N14","v":1222},{"$f":"COUNTIF(L49:L69,AD14)","v":3},{"$f":"AE14/(AG4-AE20)","v":0.14285714285714285},{"$f":"IF(AF14=0,0,(AF14*((LOG(AF14))/LOG(2))))","v":-0.40105070315108626},null,{"$f":"N14","v":1222},{"$f":"COUNTIF(L70:L90,AI14)","v":2},{"$f":"AJ14/(AL4-AJ20)","v":9.5238095238095233E-2},{"$f":"IF(AK14=0,0,(AK14*((LOG(AK14))/LOG(2))))","v":-0.32307784978845333},null,{"$f":"N14","v":1222},{"$f":"COUNTIF(L91:L111,AN14)","v":3},{"$f":"AO14/(AQ4-AO20)","v":0.15},{"$f":"IF(AP14=0,0,(AP14*((LOG(AP14))/LOG(2))))","v":-0.41054483912493089},null,{"$f":"N14","v":1222},{"$f":"COUNTIF(L112:L132,AS14)","v":1},{"$f":"AT14/(AV4-AT20)","v":0.05},{"$f":"IF(AU14=0,0,(AU14*((LOG(AU14))/LOG(2))))","v":-0.21609640474436814}]
[21,1330,12,1351,24,1364,14,1379,null,null,0,2121,null,2111,{"$f":"COUNTIF($L$7:$L$500,N15)","v":8},{"$f":"O15/$Q$4","v":6.3492063492063489E-2},{"$f":"IF(P15=0,0,(P15*((LOG(P15))/LOG(2))))","v":-0.25252570942856611},null,null,{"$f":"N15","v":2111},{"$f":"COUNTIF(L7:L27,T15)","v":0},{"$f":"U15/(W4-U20)","v":0},{"$f":"IF(V15=0,0,(V15*((LOG(V15))/LOG(2))))","v":0},null,{"$f":"N15","v":2111},{"$f":"COUNTIF(L28:L48,Y15)","v":4},{"$f":"Z15/(AB4-Z20)","v":0.19047619047619047},{"$f":"IF(AA15=0,0,(AA15*((LOG(AA15))/LOG(2))))","v":-0.4556795091007162},null,{"$f":"N15","v":2111},{"$f":"COUNTIF(L49:L69,AD15)","v":2},{"$f":"AE15/(AG4-AE20)","v":9.5238095238095233E-2},{"$f":"IF(AF15=0,0,(AF15*((LOG(AF15))/LOG(2))))","v":-0.32307784978845333},null,{"$f":"N15","v":2111},{"$f":"COUNTIF(L70:L90,AI15)","v":1},{"$f":"AJ15/(AL4-AJ20)","v":4.7619047619047616E-2},{"$f":"IF(AK15=0,0,(AK15*((LOG(AK15))/LOG(2))))","v":-0.20915797251327431},null,{"$f":"N15","v":2111},{"$f":"COUNTIF(L91:L111,AN15)","v":1},{"$f":"AO15/(AQ4-AO20)","v":0.05},{"$f":"IF(AP15=0,0,(AP15*((LOG(AP15))/LOG(2))))","v":-0.21609640474436814},null,{"$f":"N15","v":2111},{"$f":"COUNTIF(L112:L132,AS15)","v":0},{"$f":"AT15/(AV4-AT20)","v":0},{"$f":"IF(AU15=0,0,(AU15*((LOG(AU15))/LOG(2))))","v":0}]
[12,1497,14,1503,24,1516,23,1527,null,null,0,1122,null,2112,{"$f":"COUNTIF($L$7:$L$500,N16)","v":8},{"$f":"O16/$Q$4","v":6.3492063492063489E-2},{"$f":"IF(P16=0,0,(P16*((LOG(P16))/LOG(2))))","v":-0.25252570942856611},null,null,{"$f":"N16","v":2112},{"$f":"COUNTIF(L7:L27,T16)","v":2},{"$f":"U16/(W4-U20)","v":9.5238095238095233E-2},{"$f":"IF(V16=0,0,(V16*((LOG(V16))/LOG(2))))","v":-0.32307784978845333},null,{"$f":"N16","v":2112},{"$f":"COUNTIF(L28:L48,Y16)","v":0},{"$f":"Z16/(AB4-Z20)","v":0},{"$f":"IF(AA16=0,0,(AA16*((LOG(AA16))/LOG(2))))","v":0},null,{"$f":"N16","v":2112},{"$f":"COUNTIF(L49:L69,AD16)","v":3},{"$f":"AE16/(AG4-AE20)","v":0.14285714285714285},{"$f":"IF(AF16=0,0,(AF16*((LOG(AF16))/LOG(2))))","v":-0.40105070315108626},null,{"$f":"N16","v":2112},{"$f":"COUNTIF(L70:L90,AI16)","v":1},{"$f":"AJ16/(AL4-AJ20)","v":4.7619047619047616E-2},{"$f":"IF(AK16=0,0,(AK16*((LOG(AK16))/LOG(2))))","v":-0.20915797251327431},null,{"$f":"N16","v":2112},{"$f":"COUNTIF(L91:L111,AN16)","v":1},{"$f":"AO16/(AQ4-AO20)","v":0.05},{"$f":"IF(AP16=0,0,(AP16*((LOG(AP16))/LOG(2))))","v":-0.21609640474436814},null,{"$f":"N16","v":2112},{"$f":"COUNTIF(L112:L132,AS16)","v":1},{"$f":"AT16/(AV4-AT20)","v":0.05},{"$f":"IF(AU16=0,0,(AU16*((LOG(AU16))/LOG(2))))","v":-0.21609640474436814}]
[12,1672,23,1686,24,1690,14,1706,null,null,0,1221,null,2121,{"$f":"COUNTIF($L$7:$L$500,N17)","v":3},{"$f":"O17/$Q$4","v":2.3809523809523808E-2},{"$f":"IF(P17=0,0,(P17*((LOG(P17))/LOG(2))))","v":-0.12838851006616095},null,null,{"$f":"N17","v":2121},{"$f":"COUNTIF(L7:L27,T17)","v":1},{"$f":"U17/(W4-U20)","v":4.7619047619047616E-2},{"$f":"IF(V17=0,0,(V17*((LOG(V17))/LOG(2))))","v":-0.20915797251327431},null,{"$f":"N17","v":2121},{"$f":"COUNTIF(L28:L48,Y17)","v":0},{"$f":"Z17/(AB4-Z20)","v":0},{"$f":"IF(AA17=0,0,(AA17*((LOG(AA17))/LOG(2))))","v":0},null,{"$f":"N17","v":2121},{"$f":"COUNTIF(L49:L69,AD17)","v":0},{"$f":"AE17/(AG4-AE20)","v":0},{"$f":"IF(AF17=0,0,(AF17*((LOG(AF17))/LOG(2))))","v":0},null,{"$f":"N17","v":2121},{"$f":"COUNTIF(L70:L90,AI17)","v":1},{"$f":"AJ17/(AL4-AJ20)","v":4.7619047619047616E-2},{"$f":"IF(AK17=0,0,(AK17*((LOG(AK17))/LOG(2))))","v":-0.20915797251327431},null,{"$f":"N17","v":2121},{"$f":"COUNTIF(L91:L111,AN17)","v":0},{"$f":"AO17/(AQ4-AO20)","v":0},{"$f":"IF(AP17=0,0,(AP17*((LOG(AP17))/LOG(2))))","v":0},null,{"$f":"N17","v":2121},{"$f":"COUNTIF(L112:L132,AS17)","v":1},{"$f":"AT17/(AV4-AT20)","v":0.05},{"$f":"IF(AU17=0,0,(AU17*((LOG(AU17))/LOG(2))))","v":-0.21609640474436814}]
[12,1915,14,1946,13,1951,14,1957,null,null,0,1111,null,2122,{"$f":"COUNTIF($L$7:$L$500,N18)","v":6},{"$f":"O18/$Q$4","v":4.7619047619047616E-2},{"$f":"IF(P18=0,0,(P18*((LOG(P18))/LOG(2))))","v":-0.20915797251327431},null,null,{"$f":"N18","v":2122},{"$f":"COUNTIF(L7:L27,T18)","v":2},{"$f":"U18/(W4-U20)","v":9.5238095238095233E-2},{"$f":"IF(V18=0,0,(V18*((LOG(V18))/LOG(2))))","v":-0.32307784978845333},null,{"$f":"N18","v":2122},{"$f":"COUNTIF(L28:L48,Y18)","v":0},{"$f":"Z18/(AB4-Z20)","v":0},{"$f":"IF(AA18=0,0,(AA18*((LOG(AA18))/LOG(2))))","v":0},null,{"$f":"N18","v":2122},{"$f":"COUNTIF(L49:L69,AD18)","v":1},{"$f":"AE18/(AG4-AE20)","v":4.7619047619047616E-2},{"$f":"IF(AF18=0,0,(AF18*((LOG(AF18))/LOG(2))))","v":-0.20915797251327431},null,{"$f":"N18","v":2122},{"$f":"COUNTIF(L70:L90,AI18)","v":1},{"$f":"AJ18/(AL4-AJ20)","v":4.7619047619047616E-2},{"$f":"IF(AK18=0,0,(AK18*((LOG(AK18))/LOG(2))))","v":-0.20915797251327431},null,{"$f":"N18","v":2122},{"$f":"COUNTIF(L91:L111,AN18)","v":1},{"$f":"AO18/(AQ4-AO20)","v":0.05},{"$f":"IF(AP18=0,0,(AP18*((LOG(AP18))/LOG(2))))","v":-0.21609640474436814},null,{"$f":"N18","v":2122},{"$f":"COUNTIF(L112:L132,AS18)","v":1},{"$f":"AT18/(AV4-AT20)","v":0.05},{"$f":"IF(AU18=0,0,(AU18*((LOG(AU18))/LOG(2))))","v":-0.21609640474436814}]
[12,2070,14,2076,13,2088,14,2093,null,null,0,1111,null,2211,{"$f":"COUNTIF($L$7:$L$500,N19)","v":2},{"$f":"O19/$Q$4","v":1.5873015873015872E-2},{"$f":"IF(P19=0,0,(P19*((LOG(P19))/LOG(2))))","v":-9.4877459103173273E-2},null,null,{"$f":"N19","v":2211},{"$f":"COUNTIF(L7:L27,T19)","v":0},{"$f":"U19/(W4-U20)","v":0},{"$f":"IF(V19=0,0,(V19*((LOG(V19))/LOG(2))))","v":0},null,{"$f":"N19","v":2211},{"$f":"COUNTIF(L28:L48,Y19)","v":0},{"$f":"Z19/(AB4-Z20)","v":0},{"$f":"IF(AA19=0,0,(AA19*((LOG(AA19))/LOG(2))))","v":0},null,{"$f":"N19","v":2211},{"$f":"COUNTIF(L49:L69,AD19)","v":1},{"$f":"AE19/(AG4-AE20)","v":4.7619047619047616E-2},{"$f":"IF(AF19=0,0,(AF19*((LOG(AF19))/LOG(2))))","v":-0.20915797251327431},null,{"$f":"N19","v":2211},{"$f":"COUNTIF(L70:L90,AI19)","v":0},{"$f":"AJ19/(AL4-AJ20)","v":0},{"$f":"IF(AK19=0,0,(AK19*((LOG(AK19))/LOG(2))))","v":0},null,{"$f":"N19","v":2211},{"$f":"COUNTIF(L91:L111,AN19)","v":1},{"$f":"AO19/(AQ4-AO20)","v":0.05},{"$f":"IF(AP19=0,0,(AP19*((LOG(AP19))/LOG(2))))","v":-0.21609640474436814},null,{"$f":"N19","v":2211},{"$f":"COUNTIF(L112:L132,AS19)","v":0},{"$f":"AT19/(AV4-AT20)","v":0},{"$f":"IF(AU19=0,0,(AU19*((LOG(AU19))/LOG(2))))","v":0}]
[12,2231,14,2237,13,2242,23,2257,null,null,0,1112,null,2212,{"$f":"COUNTIF($L$7:$L$500,N20)","v":2},{"$f":"O20/$Q$4","v":1.5873015873015872E-2},{"$f":"IF(P20=0,0,(P20*((LOG(P20))/LOG(2))))","v":-9.4877459103173273E-2},null,null,{"$f":"N20","v":2212},{"$f":"COUNTIF(L7:L27,T20)","v":0},null,null,null,{"$f":"N20","v":2212},{"$f":"COUNTIF(L28:L48,Y20)","v":0},null,null,null,{"$f":"N20","v":2212},{"$f":"COUNTIF(L49:L69,AD20)","v":0},null,null,null,{"$f":"N20","v":2212},{"$f":"COUNTIF(L70:L90,AI20)","v":0},null,null,null,{"$f":"N20","v":2212},{"$f":"COUNTIF(L91:L111,AN20)","v":1},null,null,null,{"$f":"N20","v":2212},{"$f":"COUNTIF(L112:L132,AS20)","v":1}]
[12,2362,14,2379,13,2388,23,2406,null,null,0,1112,null,2221,{"$f":"COUNTIF($L$7:$L$500,N21)","v":4},{"$f":"O21/$Q$4","v":3.1746031746031744E-2},{"$f":"IF(P21=0,0,(P21*((LOG(P21))/LOG(2))))","v":-0.15800888646031477},null,null,{"$f":"N21","v":2221},{"$f":"COUNTIF(L7:L27,T21)","v":0},{"$f":"U21/(W4-U20)","v":0},{"$f":"IF(V21=0,0,(V21*((LOG(V21))/LOG(2))))","v":0},null,{"$f":"N21","v":2221},{"$f":"COUNTIF(L28:L48,Y21)","v":0},{"$f":"Z21/(AB4-Z20)","v":0},{"$f":"IF(AA21=0,0,(AA21*((LOG(AA21))/LOG(2))))","v":0},null,{"$f":"N21","v":2221},{"$f":"COUNTIF(L49:L69,AD21)","v":2},{"$f":"AE21/(AG4-AE20)","v":9.5238095238095233E-2},{"$f":"IF(AF21=0,0,(AF21*((LOG(AF21))/LOG(2))))","v":-0.32307784978845333},null,{"$f":"N21","v":2221},{"$f":"COUNTIF(L70:L90,AI21)","v":2},{"$f":"AJ21/(AL4-AJ20)","v":9.5238095238095233E-2},{"$f":"IF(AK21=0,0,(AK21*((LOG(AK21))/LOG(2))))","v":-0.32307784978845333},null,{"$f":"N21","v":2221},{"$f":"COUNTIF(L91:L111,AN21)","v":0},{"$f":"AO21/(AQ4-AO20)","v":0},{"$f":"IF(AP21=0,0,(AP21*((LOG(AP21))/LOG(2))))","v":0},null,{"$f":"N21","v":2221},{"$f":"COUNTIF(L112:L132,AS21)","v":0},{"$f":"AT21/(AV4-AT20)","v":0},{"$f":"IF(AU21=0,0,(AU21*((LOG(AU21))/LOG(2))))","v":0}]
[21,2516,12,2529,13,2536,23,2560,null,null,0,2112,null,2222,{"$f":"COUNTIF($L$7:$L$500,N22)","v":2},{"$f":"O22/$Q$4","v":1.5873015873015872E-2},{"$f":"IF(P22=0,0,(P22*((LOG(P22))/LOG(2))))","v":-9.4877459103173273E-2},null,null,{"$f":"N22","v":2222},{"$f":"COUNTIF(L7:L27,T22)","v":0},{"$f":"U22/(W4-U20)","v":0},{"$f":"IF(V22=0,0,(V22*((LOG(V22))/LOG(2))))","v":0},null,{"$f":"N22","v":2222},{"$f":"COUNTIF(L28:L48,Y22)","v":1},{"$f":"Z22/(AB4-Z20)","v":4.7619047619047616E-2},{"$f":"IF(AA22=0,0,(AA22*((LOG(AA22))/LOG(2))))","v":-0.20915797251327431},null,{"$f":"N22","v":2222},{"$f":"COUNTIF(L49:L69,AD22)","v":0},{"$f":"AE22/(AG4-AE20)","v":0},{"$f":"IF(AF22=0,0,(AF22*((LOG(AF22))/LOG(2))))","v":0},null,{"$f":"N22","v":2222},{"$f":"COUNTIF(L70:L90,AI22)","v":0},{"$f":"AJ22/(AL4-AJ20)","v":0},{"$f":"IF(AK22=0,0,(AK22*((LOG(AK22))/LOG(2))))","v":0},null,{"$f":"N22","v":2222},{"$f":"COUNTIF(L91:L111,AN22)","v":1},{"$f":"AO22/(AQ4-AO20)","v":0.05},{"$f":"IF(AP22=0,0,(AP22*((LOG(AP22))/LOG(2))))","v":-0.21609640474436814},null,{"$f":"N22","v":2222},{"$f":"COUNTIF(L112:L132,AS22)","v":0},{"$f":"AT22/(AV4-AT20)","v":0},{"$f":"IF(AU22=0,0,(AU22*((LOG(AU22))/LOG(2))))","v":0}]
[12,2908,14,2917,24,2935,23,2948,null,null,0,1122,null,null,null,{"$f":"SUM(P7:P22)","v":1},{"$f":"-SUM(Q7:Q22)","v":3.6122077679806806},null,null,null,null,{"$f":"SUM(V7:V22)","v":0.99999999999999989},{"$f":"-SUM(W7:W22)","v":3.2494602799216175},null,null,null,{"$f":"SUM(AA7:AA22)","v":1},{"$f":"-SUM(AB7:AB22)","v":2.2611323036281186},null,null,null,{"$f":"SUM(AF7:AF22)","v":1},{"$f":"-SUM(AG7:AG22)","v":3.2728043273346201},null,null,null,{"$f":"SUM(AK7:AK22)","v":1},{"$f":"-SUM(AL7:AL22)","v":3.1728107335198641},null,null,null,{"$f":"SUM(AP7:AP22)","v":1.0000000000000002},{"$f":"-SUM(AQ7:AQ22)","v":3.3841837197791889},null,null,null,{"$f":"SUM(AU7:AU22)","v":1.0000000000000002},{"$f":"-SUM(AV7:AV22)","v":2.8232196723355076}]
[12,3054,23,3076,24,3082,23,3088,null,null,0,1222,null,null,null,"U=",{"$f":"Q23/(LOG(Q4)/LOG(2))","v":0.51771002562395951},null,null,null,null,"U1=",{"$f":"W23/(LOG(W4)/LOG(2))","v":0.73980543006062505},null,null,null,"U2=",{"$f":"AB23/(LOG(AB4)/LOG(2))","v":0.51479255390372791},null,null,null,"U3=",{"$f":"AG23/(LOG(AG4)/LOG(2))","v":0.74512017514073681},null,null,null,"U4=",{"$f":"AL23/(LOG(AL4)/LOG(2))","v":0.72235460876882929},null,null,null,"U5=",{"$f":"AQ23/(LOG(AQ4)/LOG(2))","v":0.77047794911830736},null,null,null,"U6=",{"$f":"AV23/(LOG(AV4)/LOG(2))","v":0.64276312492675514}]
[12,3189,14,3195,24,3211,14,3224,null,null,0,1121]
[12,3382,23,3395,13,3413,14,3419,null,null,0,1211]
[21,3542,12,3558,24,3579,23,3589,null,null,0,2122,null,"Total Target Seq"]
[21,3730,12,3745,13,3750,14,3756,null,null,0,2111,null,{"$f":"COUNTIF(L7:L132,G3)","v":2},null,21,21,21,21,21,21]
[12,3934,14,3940,24,3957,23,3967,null,null,0,1122,null,null,null,"% of reinforcement given in 6 equal intervals based on number of trials "]
[12,4069,14,4088,24,4100,23,4106,null,null,0,1122,null,null,null,"%_1","%_2","%_3","%_4","%_5","%_6"]
[12,4217,14,4230,13,4235,14,4242,null,null,0,1111,null,null,"target sequence",{"$f":"$G$3","v":2212},{"$f":"$G$3","v":2212},{"$f":"$G$3","v":2212},{"$f":"$G$3","v":2212},{"$f":"$G$3","v":2212},{"$f":"$G$3","v":2212}]
[21,4364,12,4378,13,4384,14,4397,null,null,0,2111,null,null,"total reinforcement",{"$f":"U20","v":0},{"$f":"Z20","v":0},{"$f":"AE20","v":0},{"$f":"AJ20","v":0},{"$f":"AO20","v":1},{"$f":"AT20","v":1}]
[12,4504,14,4532,13,4542,14,4547,null,null,0,1111,null,null,"% target"]
[12,4651,14,4652,13,4667,14,4672,null,null,0,1111,null,null,"CCRF"]
[12,4778,14,4782,13,4790,23,4810,null,null,0,1112,null,null,"% CCRf"]
[12,4956,14,4968,24,4988,23,4992,null,null,0,1122,null,null,"average response rate",{"$f":"H27/P28","v":170.9047619047619},{"$f":"(H48-H27)/Q28","v":158.38095238095238},{"$f":"(H69-H48)/R28","v":187.71428571428572},{"$f":"(H90-H69)/S28","v":235.9047619047619},{"$f":"(H111-H90)/T28","v":229.71428571428572},{"$f":"(H132-H111)/U28","v":156.66666666666666}]
[12,5110,14,5127,13,5132,23,5146,null,null,0,1112]
[12,5257,14,5262,13,5283,14,5287,null,null,0,1111]
[12,5390,14,5397,13,5412,14,5418,null,null,0,1111]
[12,5524,14,5530,13,5557,14,5563,null,null,0,1111]
[12,5670,14,5688,13,5693,23,5720,null,null,0,1112]
[21,5918,12,5936,13,5941,14,5947,null,null,0,2111]
[21,6081,21,6087,22,6096,23,6106,null,null,0,2222]
[12,6232,14,6237,13,6251,23,6279,null,null,0,1112]
[12,6396,23,6414,13,6444,23,6456,null,null,0,1212]
[21,6575,12,6597,13,6603,14,6607,null,null,0,2111]
[12,6758,14,6763,13,6768,14,6774,null,null,0,1111]
[12,6900,14,6905,13,6911,14,6915,null,null,0,1111]
[12,7076,23,7088,13,7104,14,7109,null,null,0,1211]
[21,7230,12,7262,13,7268,14,7274,null,null,0,2111]
[21,7386,21,7387,11,7416,12,7432,null,null,0,2211]
[12,7561,23,7589,13,7606,14,7611,null,null,0,1211]
[21,7812,12,7832,24,7845,23,7850,null,null,0,2122]
[12,7985,14,7990,24,8004,23,8012,null,null,0,1122]
[21,8129,12,8146,13,8151,23,8163,null,null,0,2112]
[12,8377,23,8397,24,8401,23,8409,null,null,0,1222]
[21,8580,21,8589,22,8597,14,8612,null,null,0,2221]
[12,8801,14,8807,24,8831,23,8841,null,null,0,1122]
[21,8985,12,9005,13,9010,23,9025,null,null,0,2112]
[12,9148,14,9157,13,9163,23,9180,null,null,0,1112]
[12,9316,23,9328,24,9333,23,9346,null,null,0,1222]
[12,9476,23,9491,24,9496,23,9507,null,null,0,1222]
[21,9652,12,9674,13,9682,23,9694,null,null,0,2112]
[12,9827,23,9839,24,9844,14,9862,null,null,0,1221]
[21,10100,12,10118,13,10128,14,10133,null,null,0,2111]
[12,10251,14,10282,13,10286,14,10292,null,null,0,1111]
[21,10489,21,10503,22,10511,14,10525,null,null,0,2221]
[12,10669,14,10673,24,10685,23,10694,null,null,0,1122]
[12,10835,14,10841,24,10853,23,10857,null,null,0,1122]
[21,10977,12,10998,24,11017,23,11030,null,null,0,2122]
[21,11252,21,11265,22,11297,14,11316,null,null,0,2221]
[12,11462,14,11468,24,11480,23,11486,null,null,0,1122]
[12,11664,14,11669,13,11673,14,11680,null,null,0,1111]
[21,11816,12,11837,13,11842,23,11856,null,null,0,2112]
[12,11993,23,12005,24,12011,14,12027,null,null,0,1221]
[12,12421,23,12441,24,12447,23,12466,null,null,0,1222]
[12,12587,23,12630,13,12652,23,12665,null,null,0,1212]
[12,12783,23,12798,13,12811,14,12824,null,null,0,1211]
[21,13033,21,13040,22,13046,14,13063,null,null,0,2221]
[12,13530,23,13572,13,13586,14,13592,null,null,0,1211]
[12,13776,23,13813,13,13830,14,13836,null,null,0,1211]
[12,13964,14,13971,13,13976,14,13986,null,null,0,1111]
[21,14083,12,14102,24,14123,14,14143,null,null,0,2121]
[12,14336,23,14355,13,14372,14,14379,null,null,0,1211]
[21,14647,12,14664,13,14669,14,14675,null,null,0,2111]
[12,14782,14,14832,13,14836,14,14842,null,null,0,1111]
[12,15166,14,15175,13,15181,14,15186,null,null,0,1111]
[12,15326,23,15358,24,15363,14,15381,null,null,0,1221]
[12,15544,14,15550,13,15556,14,15566,null,null,0,1111]
[12,15783,23,15795,24,15801,23,15811,null,null,0,1222]
[21,15971,12,15998,13,16002,14,16009,null,null,0,2111]
[21,16150,12,16174,13,16180,23,16193,null,null,0,2112]
[12,16340,23,16356,24,16363,23,16371,null,null,0,1222]
[12,16495,23,16513,24,16521,14,16535,null,null,0,1221]
[12,16673,23,16694,24,16700,23,16711,null,null,0,1222]
[12,16822,14,16834,13,16840,23,16856,null,null,0,1112]
[21,17131,21,17137,11,17154,12,17159,null,null,0,2211]
[12,17263,14,17269,13,17274,14,17285,null,null,0,1111]
[12,17499,14,17504,24,17521,23,17542,null,null,0,1122]
[12,17658,23,17678,24,17683,14,17694,null,null,0,1221]
[12,17819,14,17823,24,17852,23,17862,null,null,0,1122]
[12,18001,14,18007,24,18025,23,18031,null,null,0,1122]
[21,18362,12,18391,24,18406,23,18413,null,null,0,2122]
[21,18608,21,18615,22,18632,23,18643,null,null,0,2222]
[12,18941,14,18948,13,18953,14,18960,null,null,0,1111]
[12,19235,23,19249,13,19281,14,19288,null,null,0,1211]
[12,19407,14,19414,24,19443,14,19457,null,null,0,1121]
[12,19779,14,19785,24,19800,14,19819,null,null,0,1121]
[12,20007,14,20014,24,20026,23,20039,null,null,0,1122]
[12,20369,23,20387,24,20394,23,20401,null,null,0,1222]
[21,20598,21,20603,11,20620,21,20635,null,null,0,2212]
[21,20775,12,20791,24,20803,14,20819,null,null,0,2121]
[21,20946,21,20952,11,20967,21,20984,null,null,0,2212]
[12,21080,23,21093,24,21099,14,21115,null,null,0,1221]
[12,21218,14,21232,24,21245,23,21250,null,null,0,1122]
[12,21360,14,21374,24,21385,14,21405,null,null,0,1121]
[12,21507,14,21516,13,21534,14,21540,null,null,0,1111]
[12,21647,14,21663,24,21678,23,21686,null,null,0,1122]
[21,21801,12,21819,13,21824,23,21838,null,null,0,2112]
[12,21953,14,21958,13,21980,14,21984,null,null,0,1111]
[21,22113,12,22128,24,22142,23,22165,null,null,0,2122]
[12,22306,23,22318,24,22328,23,22334,null,null,0,1222]
[12,22446,14,22453,24,22466,23,22472,null,null,0,1122]
[12,22609,14,22614,24,22639,14,22661,null,null,0,1121]
[12,22762,14,22767,13,22805,14,22811,null,null,0,1111]
[12,22951,14,22957,13,22963,14,22971,null,null,0,1111]
[12,23100,14,23106,24,23125,14,23139,null,null,0,1121]
[12,23254,14,23260,24,23272,23,23278,null,null,0,1122]
[12,23412,14,23418,13,23424,23,23440,null,null,0,1112]
[12,23544,14,23549,13,23578,14,23583,null,null,0,1111]
[12,23728,14,23734,24,23753,23,23759,null,null,0,1122]
[12,23881,14,23887,13,23907,23,23925,null,null,null,1112]

{"sheet":"!N115810.092","index":18,"n_rows":141,"n_cols":48,"rows_kept":141,"cut":false,"hidden":false,"merged":[[4,39,4,42],[5,39,5,40],[4,44,4,47],[5,44,5,45],[4,24,4,27],[5,24,5,25],[4,29,4,32],[5,29,5,30],[4,34,4,37],[5,34,5,35],[1,1,1,2],[5,13,5,14],[26,13,26,14],[27,13,27,14],[4,19,4,22],[5,19,5,20]]}
["Report for:!N115810.092"]
["Date:","<date>"]
["Hen:","<hen>",null,null,null,"Correct Sequence",{"$f":"Start!J2","v":2212},null,null,null,null,null,null,null,null,"Total Sequences in Data",{"$f":"4994-COUNTBLANK(L7:L5000)","v":135},null,null,null,null,"Total Sequences in Block Data",{"$f":"COUNTA(L7:L29)","v":23},null,null,null,"Total Sequences in Block Data",{"$f":"COUNTA(L30:L51)","v":22},null,null,null,"Total Sequences in Block Data",{"$f":"COUNTA(L52:L74)","v":23},null,null,null,"Total Sequences in Block Data",{"$f":"COUNTA(L75:L96)","v":22},null,null,null,"Total Sequences in Block Data",{"$f":"COUNTA(L97:L119)","v":23},null,null,null,"Total Sequences in Block Data",{"$f":"COUNTA(L120:L141)","v":22}]
[null,null,null,null,null,null,null,null,null,null,null,null,null,null,null,"Total Sequences in Summary",{"$f":"SUM(O7:O22)","v":134},null,null,null,null,"Total Sequences in Block Summary",{"$f":"SUM(U7:U22)","v":23},null,null,null,"Total Sequences in Block Summary",{"$f":"SUM(Z7:Z22)","v":22},null,null,null,"Total Sequences in Block Summary",{"$f":"SUM(AE7:AE22)","v":23},null,null,null,"Total Sequences in Block Summary",{"$f":"SUM(AJ7:AJ22)","v":22},null,null,null,"Total Sequences in Block Summary",{"$f":"SUM(AO7:AO22)","v":23},null,null,null,"Total Sequences in Block Summary",{"$f":"SUM(AT7:AT22)","v":21}]
[null,null,null,null,null,null,null,null,null,null,null,null,null,null,null,null,null,null,null,"Block 1",null,null,null,null,"Block 2",null,null,null,null,"Block 3",null,null,null,null,"Block 4",null,null,null,null,"Block 5",null,null,null,null,"Block 6"]
["Sequence\nComponent\n1","Time\n1","Sequence\nComponent\n2","Time\n2","Sequence\nComponent\n3","Time\n3","Sequence\nComponent\n4","Time\n4","Sequence\nComponent\n5","Time\n5","Correct?\n0=No 1=Yes","Sequence",null,"Frequency",null,"Relative Frequency","Variability",null,null,"Frequency",null,"Relative Frequency","Variability",null,"Frequency",null,"Relative Frequency","Variability",null,"Frequency",null,"Relative Frequency","Variability",null,"Frequency",null,"Relative Frequency","Variability",null,"Frequency",null,"Relative Frequency","Variability",null,"Frequency",null,"Relative Frequency","Variability"]
[12,58,23,68,24,75,14,87,null,null,0,1221,null,1111,{"$f":"COUNTIF($L$7:$L$500,N7)","v":20},{"$f":"O7/$Q$4","v":0.14925373134328357},{"$f":"IF(P7=0,0,(P7*((LOG(P7))/LOG(2))))","v":-0.40957628292095671},null,null,{"$f":"N7","v":1111},{"$f":"COUNTIF(L7:L29,T7)","v":4},{"$f":"U7/(W4-U20)","v":0.17391304347826086},{"$f":"IF(V7=0,0,(V7*((LOG(V7))/LOG(2))))","v":-0.43888034018382832},null,{"$f":"N7","v":1111},{"$f":"COUNTIF(L30:L51,Y7)","v":2},{"$f":"Z7/(AB4-Z20)","v":9.0909090909090912E-2},{"$f":"IF(AA7=0,0,(AA7*((LOG(AA7))/LOG(2))))","v":-0.31449378351248153},null,{"$f":"N7","v":1111},{"$f":"COUNTIF(L52:L74,AD7)","v":3},{"$f":"AE7/(AG4-AE20)","v":0.13636363636363635},{"$f":"IF(AF7=0,0,(AF7*((LOG(AF7))/LOG(2))))","v":-0.39197306153401923},null,{"$f":"N7","v":1111},{"$f":"COUNTIF(L75:L96,AI7)","v":6},{"$f":"AJ7/(AL4-AJ20)","v":0.27272727272727271},{"$f":"IF(AK7=0,0,(AK7*((LOG(AK7))/LOG(2))))","v":-0.51121885034076575},null,{"$f":"N7","v":1111},{"$f":"COUNTIF(L97:L119,AN7)","v":2},{"$f":"AO7/(AQ4-AO20)","v":9.0909090909090912E-2},{"$f":"IF(AP7=0,0,(AP7*((LOG(AP7))/LOG(2))))","v":-0.31449378351248153},null,{"$f":"N7","v":1111},{"$f":"COUNTIF(L120:L141,AS7)","v":3},{"$f":"AT7/(AV4-AT20)","v":0.14285714285714285},{"$f":"IF(AU7=0,0,(AU7*((LOG(AU7))/LOG(2))))","v":-0.40105070315108626}]
[12,191,14,215,13,243,23,251,null,null,0,1112,null,1112,{"$f":"COUNTIF($L$7:$L$500,N8)","v":21},{"$f":"O8/$Q$4","v":0.15671641791044777},{"$f":"IF(P8=0,0,(P8*((LOG(P8))/LOG(2))))","v":-0.41902393374074071},null,null,{"$f":"N8","v":1112},{"$f":"COUNTIF(L7:L29,T8)","v":8},{"$f":"U8/(W4-U20)","v":0.34782608695652173},{"$f":"IF(V8=0,0,(V8*((LOG(V8))/LOG(2))))","v":-0.52993459341113491},null,{"$f":"N8","v":1112},{"$f":"COUNTIF(L30:L51,Y8)","v":3},{"$f":"Z8/(AB4-Z20)","v":0.13636363636363635},{"$f":"IF(AA8=0,0,(AA8*((LOG(AA8))/LOG(2))))","v":-0.39197306153401923},null,{"$f":"N8","v":1112},{"$f":"COUNTIF(L52:L74,AD8)","v":2},{"$f":"AE8/(AG4-AE20)","v":9.0909090909090912E-2},{"$f":"IF(AF8=0,0,(AF8*((LOG(AF8))/LOG(2))))","v":-0.31449378351248153},null,{"$f":"N8","v":1112},{"$f":"COUNTIF(L75:L96,AI8)","v":2},{"$f":"AJ8/(AL4-AJ20)","v":9.0909090909090912E-2},{"$f":"IF(AK8=0,0,(AK8*((LOG(AK8))/LOG(2))))","v":-0.31449378351248153},null,{"$f":"N8","v":1112},{"$f":"COUNTIF(L97:L119,AN8)","v":3},{"$f":"AO8/(AQ4-AO20)","v":0.13636363636363635},{"$f":"IF(AP8=0,0,(AP8*((LOG(AP8))/LOG(2))))","v":-0.39197306153401923},null,{"$f":"N8","v":1112},{"$f":"COUNTIF(L120:L141,AS8)","v":3},{"$f":"AT8/(AV4-AT20)","v":0.14285714285714285},{"$f":"IF(AU8=0,0,(AU8*((LOG(AU8))/LOG(2))))","v":-0.40105070315108626}]
[12,357,14,361,13,377,23,392,null,null,0,1112,null,1121,{"$f":"COUNTIF($L$7:$L$500,N9)","v":14},{"$f":"O9/$Q$4","v":0.1044776119402985},{"$f":"IF(P9=0,0,(P9*((LOG(P9))/LOG(2))))","v":-0.34046477431046535},null,null,{"$f":"N9","v":1121},{"$f":"COUNTIF(L7:L29,T9)","v":1},{"$f":"U9/(W4-U20)","v":4.3478260869565216E-2},{"$f":"IF(V9=0,0,(V9*((LOG(V9))/LOG(2))))","v":-0.19667660678508753},null,{"$f":"N9","v":1121},{"$f":"COUNTIF(L30:L51,Y9)","v":3},{"$f":"Z9/(AB4-Z20)","v":0.13636363636363635},{"$f":"IF(AA9=0,0,(AA9*((LOG(AA9))/LOG(2))))","v":-0.39197306153401923},null,{"$f":"N9","v":1121},{"$f":"COUNTIF(L52:L74,AD9)","v":2},{"$f":"AE9/(AG4-AE20)","v":9.0909090909090912E-2},{"$f":"IF(AF9=0,0,(AF9*((LOG(AF9))/LOG(2))))","v":-0.31449378351248153},null,{"$f":"N9","v":1121},{"$f":"COUNTIF(L75:L96,AI9)","v":3},{"$f":"AJ9/(AL4-AJ20)","v":0.13636363636363635},{"$f":"IF(AK9=0,0,(AK9*((LOG(AK9))/LOG(2))))","v":-0.39197306153401923},null,{"$f":"N9","v":1121},{"$f":"COUNTIF(L97:L119,AN9)","v":3},{"$f":"AO9/(AQ4-AO20)","v":0.13636363636363635},{"$f":"IF(AP9=0,0,(AP9*((LOG(AP9))/LOG(2))))","v":-0.39197306153401923},null,{"$f":"N9","v":1121},{"$f":"COUNTIF(L120:L141,AS9)","v":2},{"$f":"AT9/(AV4-AT20)","v":9.5238095238095233E-2},{"$f":"IF(AU9=0,0,(AU9*((LOG(AU9))/LOG(2))))","v":-0.32307784978845333}]
[12,512,14,517,13,534,23,552,null,null,0,1112,null,1122,{"$f":"COUNTIF($L$7:$L$500,N10)","v":14},{"$f":"O10/$Q$4","v":0.1044776119402985},{"$f":"IF(P10=0,0,(P10*((LOG(P10))/LOG(2))))","v":-0.34046477431046535},null,null,{"$f":"N10","v":1122},{"$f":"COUNTIF(L7:L29,T10)","v":0},{"$f":"U10/(W4-U20)","v":0},{"$f":"IF(V10=0,0,(V10*((LOG(V10))/LOG(2))))","v":0},null,{"$f":"N10","v":1122},{"$f":"COUNTIF(L30:L51,Y10)","v":1},{"$f":"Z10/(AB4-Z20)","v":4.5454545454545456E-2},{"$f":"IF(AA10=0,0,(AA10*((LOG(AA10))/LOG(2))))","v":-0.20270143721078623},null,{"$f":"N10","v":1122},{"$f":"COUNTIF(L52:L74,AD10)","v":2},{"$f":"AE10/(AG4-AE20)","v":9.0909090909090912E-2},{"$f":"IF(AF10=0,0,(AF10*((LOG(AF10))/LOG(2))))","v":-0.31449378351248153},null,{"$f":"N10","v":1122},{"$f":"COUNTIF(L75:L96,AI10)","v":3},{"$f":"AJ10/(AL4-AJ20)","v":0.13636363636363635},{"$f":"IF(AK10=0,0,(AK10*((LOG(AK10))/LOG(2))))","v":-0.39197306153401923},null,{"$f":"N10","v":1122},{"$f":"COUNTIF(L97:L119,AN10)","v":6},{"$f":"AO10/(AQ4-AO20)","v":0.27272727272727271},{"$f":"IF(AP10=0,0,(AP10*((LOG(AP10))/LOG(2))))","v":-0.51121885034076575},null,{"$f":"N10","v":1122},{"$f":"COUNTIF(L120:L141,AS10)","v":2},{"$f":"AT10/(AV4-AT20)","v":9.5238095238095233E-2},{"$f":"IF(AU10=0,0,(AU10*((LOG(AU10))/LOG(2))))","v":-0.32307784978845333}]
[12,681,23,693,24,721,14,734,null,null,0,1221,null,1211,{"$f":"COUNTIF($L$7:$L$500,N11)","v":8},{"$f":"O11/$Q$4","v":5.9701492537313432E-2},{"$f":"IF(P11=0,0,(P11*((LOG(P11))/LOG(2))))","v":-0.2427515934601655},null,null,{"$f":"N11","v":1211},{"$f":"COUNTIF(L7:L29,T11)","v":0},{"$f":"U11/(W4-U20)","v":0},{"$f":"IF(V11=0,0,(V11*((LOG(V11))/LOG(2))))","v":0},null,{"$f":"N11","v":1211},{"$f":"COUNTIF(L30:L51,Y11)","v":1},{"$f":"Z11/(AB4-Z20)","v":4.5454545454545456E-2},{"$f":"IF(AA11=0,0,(AA11*((LOG(AA11))/LOG(2))))","v":-0.20270143721078623},null,{"$f":"N11","v":1211},{"$f":"COUNTIF(L52:L74,AD11)","v":1},{"$f":"AE11/(AG4-AE20)","v":4.5454545454545456E-2},{"$f":"IF(AF11=0,0,(AF11*((LOG(AF11))/LOG(2))))","v":-0.20270143721078623},null,{"$f":"N11","v":1211},{"$f":"COUNTIF(L75:L96,AI11)","v":1},{"$f":"AJ11/(AL4-AJ20)","v":4.5454545454545456E-2},{"$f":"IF(AK11=0,0,(AK11*((LOG(AK11))/LOG(2))))","v":-0.20270143721078623},null,{"$f":"N11","v":1211},{"$f":"COUNTIF(L97:L119,AN11)","v":2},{"$f":"AO11/(AQ4-AO20)","v":9.0909090909090912E-2},{"$f":"IF(AP11=0,0,(AP11*((LOG(AP11))/LOG(2))))","v":-0.31449378351248153},null,{"$f":"N11","v":1211},{"$f":"COUNTIF(L120:L141,AS11)","v":3},{"$f":"AT11/(AV4-AT20)","v":0.14285714285714285},{"$f":"IF(AU11=0,0,(AU11*((LOG(AU11))/LOG(2))))","v":-0.40105070315108626}]
[12,869,14,874,13,889,14,895,null,null,0,1111,null,1212,{"$f":"COUNTIF($L$7:$L$500,N12)","v":6},{"$f":"O12/$Q$4","v":4.4776119402985072E-2},{"$f":"IF(P12=0,0,(P12*((LOG(P12))/LOG(2))))","v":-0.20064746371955},null,null,{"$f":"N12","v":1212},{"$f":"COUNTIF(L7:L29,T12)","v":0},{"$f":"U12/(W4-U20)","v":0},{"$f":"IF(V12=0,0,(V12*((LOG(V12))/LOG(2))))","v":0},null,{"$f":"N12","v":1212},{"$f":"COUNTIF(L30:L51,Y12)","v":2},{"$f":"Z12/(AB4-Z20)","v":9.0909090909090912E-2},{"$f":"IF(AA12=0,0,(AA12*((LOG(AA12))/LOG(2))))","v":-0.31449378351248153},null,{"$f":"N12","v":1212},{"$f":"COUNTIF(L52:L74,AD12)","v":2},{"$f":"AE12/(AG4-AE20)","v":9.0909090909090912E-2},{"$f":"IF(AF12=0,0,(AF12*((LOG(AF12))/LOG(2))))","v":-0.31449378351248153},null,{"$f":"N12","v":1212},{"$f":"COUNTIF(L75:L96,AI12)","v":0},{"$f":"AJ12/(AL4-AJ20)","v":0},{"$f":"IF(AK12=0,0,(AK12*((LOG(AK12))/LOG(2))))","v":0},null,{"$f":"N12","v":1212},{"$f":"COUNTIF(L97:L119,AN12)","v":1},{"$f":"AO12/(AQ4-AO20)","v":4.5454545454545456E-2},{"$f":"IF(AP12=0,0,(AP12*((LOG(AP12))/LOG(2))))","v":-0.20270143721078623},null,{"$f":"N12","v":1212},{"$f":"COUNTIF(L120:L141,AS12)","v":1},{"$f":"AT12/(AV4-AT20)","v":4.7619047619047616E-2},{"$f":"IF(AU12=0,0,(AU12*((LOG(AU12))/LOG(2))))","v":-0.20915797251327431}]
[12,1019,14,1037,13,1041,14,1047,null,null,0,1111,null,1221,{"$f":"COUNTIF($L$7:$L$500,N13)","v":14},{"$f":"O13/$Q$4","v":0.1044776119402985},{"$f":"IF(P13=0,0,(P13*((LOG(P13))/LOG(2))))","v":-0.34046477431046535},null,null,{"$f":"N13","v":1221},{"$f":"COUNTIF(L7:L29,T13)","v":3},{"$f":"U13/(W4-U20)","v":0.13043478260869565},{"$f":"IF(V13=0,0,(V13*((LOG(V13))/LOG(2))))","v":-0.3832955811307639},null,{"$f":"N13","v":1221},{"$f":"COUNTIF(L30:L51,Y13)","v":3},{"$f":"Z13/(AB4-Z20)","v":0.13636363636363635},{"$f":"IF(AA13=0,0,(AA13*((LOG(AA13))/LOG(2))))","v":-0.39197306153401923},null,{"$f":"N13","v":1221},{"$f":"COUNTIF(L52:L74,AD13)","v":3},{"$f":"AE13/(AG4-AE20)","v":0.13636363636363635},{"$f":"IF(AF13=0,0,(AF13*((LOG(AF13))/LOG(2))))","v":-0.39197306153401923},null,{"$f":"N13","v":1221},{"$f":"COUNTIF(L75:L96,AI13)","v":1},{"$f":"AJ13/(AL4-AJ20)","v":4.5454545454545456E-2},{"$f":"IF(AK13=0,0,(AK13*((LOG(AK13))/LOG(2))))","v":-0.20270143721078623},null,{"$f":"N13","v":1221},{"$f":"COUNTIF(L97:L119,AN13)","v":2},{"$f":"AO13/(AQ4-AO20)","v":9.0909090909090912E-2},{"$f":"IF(AP13=0,0,(AP13*((LOG(AP13))/LOG(2))))","v":-0.31449378351248153},null,{"$f":"N13","v":1221},{"$f":"COUNTIF(L120:L141,AS13)","v":2},{"$f":"AT13/(AV4-AT20)","v":9.5238095238095233E-2},{"$f":"IF(AU13=0,0,(AU13*((LOG(AU13))/LOG(2))))","v":-0.32307784978845333}]
[21,1158,12,1170,13,1175,14,1190,null,null,0,2111,null,1222,{"$f":"COUNTIF($L$7:$L$500,N14)","v":3},{"$f":"O14/$Q$4","v":2.2388059701492536E-2},{"$f":"IF(P14=0,0,(P14*((LOG(P14))/LOG(2))))","v":-0.12271179156126753},null,null,{"$f":"N14","v":1222},{"$f":"COUNTIF(L7:L29,T14)","v":1},{"$f":"U14/(W4-U20)","v":4.3478260869565216E-2},{"$f":"IF(V14=0,0,(V14*((LOG(V14))/LOG(2))))","v":-0.19667660678508753},null,{"$f":"N14","v":1222},{"$f":"COUNTIF(L30:L51,Y14)","v":1},{"$f":"Z14/(AB4-Z20)","v":4.5454545454545456E-2},{"$f":"IF(AA14=0,0,(AA14*((LOG(AA14))/LOG(2))))","v":-0.20270143721078623},null,{"$f":"N14","v":1222},{"$f":"COUNTIF(L52:L74,AD14)","v":1},{"$f":"AE14/(AG4-AE20)","v":4.5454545454545456E-2},{"$f":"IF(AF14=0,0,(AF14*((LOG(AF14))/LOG(2))))","v":-0.20270143721078623},null,{"$f":"N14","v":1222},{"$f":"COUNTIF(L75:L96,AI14)","v":0},{"$f":"AJ14/(AL4-AJ20)","v":0},{"$f":"IF(AK14=0,0,(AK14*((LOG(AK14))/LOG(2))))","v":0},null,{"$f":"N14","v":1222},{"$f":"COUNTIF(L97:L119,AN14)","v":0},{"$f":"AO14/(AQ4-AO20)","v":0},{"$f":"IF(AP14=0,0,(AP14*((LOG(AP14))/LOG(2))))","v":0},null,{"$f":"N14","v":1222},{"$f":"COUNTIF(L120:L141,AS14)","v":0},{"$f":"AT14/(AV4-AT20)","v":0},{"$f":"IF(AU14=0,0,(AU14*((LOG(AU14))/LOG(2))))","v":0}]
[12,1296,14,1311,13,1315,23,1335,null,null,0,1112,null,2111,{"$f":"COUNTIF($L$7:$L$500,N15)","v":6},{"$f":"O15/$Q$4","v":4.4776119402985072E-2},{"$f":"IF(P15=0,0,(P15*((LOG(P15))/LOG(2))))","v":-0.20064746371955},null,null,{"$f":"N15","v":2111},{"$f":"COUNTIF(L7:L29,T15)","v":1},{"$f":"U15/(W4-U20)","v":4.3478260869565216E-2},{"$f":"IF(V15=0,0,(V15*((LOG(V15))/LOG(2))))","v":-0.19667660678508753},null,{"$f":"N15","v":2111},{"$f":"COUNTIF(L30:L51,Y15)","v":0},{"$f":"Z15/(AB4-Z20)","v":0},{"$f":"IF(AA15=0,0,(AA15*((LOG(AA15))/LOG(2))))","v":0},null,{"$f":"N15","v":2111},{"$f":"COUNTIF(L52:L74,AD15)","v":2},{"$f":"AE15/(AG4-AE20)","v":9.0909090909090912E-2},{"$f":"IF(AF15=0,0,(AF15*((LOG(AF15))/LOG(2))))","v":-0.31449378351248153},null,{"$f":"N15","v":2111},{"$f":"COUNTIF(L75:L96,AI15)","v":2},{"$f":"AJ15/(AL4-AJ20)","v":9.0909090909090912E-2},{"$f":"IF(AK15=0,0,(AK15*((LOG(AK15))/LOG(2))))","v":-0.31449378351248153},null,{"$f":"N15","v":2111},{"$f":"COUNTIF(L97:L119,AN15)","v":1},{"$f":"AO15/(AQ4-AO20)","v":4.5454545454545456E-2},{"$f":"IF(AP15=0,0,(AP15*((LOG(AP15))/LOG(2))))","v":-0.20270143721078623},null,{"$f":"N15","v":2111},{"$f":"COUNTIF(L120:L141,AS15)","v":0},{"$f":"AT15/(AV4-AT20)","v":0},{"$f":"IF(AU15=0,0,(AU15*((LOG(AU15))/LOG(2))))","v":0}]
[12,1461,14,1465,13,1469,23,1485,null,null,0,1112,null,2112,{"$f":"COUNTIF($L$7:$L$500,N16)","v":9},{"$f":"O16/$Q$4","v":6.7164179104477612E-2},{"$f":"IF(P16=0,0,(P16*((LOG(P16))/LOG(2))))","v":-0.2616826694114861},null,null,{"$f":"N16","v":2112},{"$f":"COUNTIF(L7:L29,T16)","v":1},{"$f":"U16/(W4-U20)","v":4.3478260869565216E-2},{"$f":"IF(V16=0,0,(V16*((LOG(V16))/LOG(2))))","v":-0.19667660678508753},null,{"$f":"N16","v":2112},{"$f":"COUNTIF(L30:L51,Y16)","v":1},{"$f":"Z16/(AB4-Z20)","v":4.5454545454545456E-2},{"$f":"IF(AA16=0,0,(AA16*((LOG(AA16))/LOG(2))))","v":-0.20270143721078623},null,{"$f":"N16","v":2112},{"$f":"COUNTIF(L52:L74,AD16)","v":2},{"$f":"AE16/(AG4-AE20)","v":9.0909090909090912E-2},{"$f":"IF(AF16=0,0,(AF16*((LOG(AF16))/LOG(2))))","v":-0.31449378351248153},null,{"$f":"N16","v":2112},{"$f":"COUNTIF(L75:L96,AI16)","v":2},{"$f":"AJ16/(AL4-AJ20)","v":9.0909090909090912E-2},{"$f":"IF(AK16=0,0,(AK16*((LOG(AK16))/LOG(2))))","v":-0.31449378351248153},null,{"$f":"N16","v":2112},{"$f":"COUNTIF(L97:L119,AN16)","v":0},{"$f":"AO16/(AQ4-AO20)","v":0},{"$f":"IF(AP16=0,0,(AP16*((LOG(AP16))/LOG(2))))","v":0},null,{"$f":"N16","v":2112},{"$f":"COUNTIF(L120:L141,AS16)","v":3},{"$f":"AT16/(AV4-AT20)","v":0.14285714285714285},{"$f":"IF(AU16=0,0,(AU16*((LOG(AU16))/LOG(2))))","v":-0.40105070315108626}]
[21,1680,12,1700,13,1706,23,1719,null,null,0,2112,null,2121,{"$f":"COUNTIF($L$7:$L$500,N17)","v":5},{"$f":"O17/$Q$4","v":3.7313432835820892E-2},{"$f":"IF(P17=0,0,(P17*((LOG(P17))/LOG(2))))","v":-0.17702093640188096},null,null,{"$f":"N17","v":2121},{"$f":"COUNTIF(L7:L29,T17)","v":1},{"$f":"U17/(W4-U20)","v":4.3478260869565216E-2},{"$f":"IF(V17=0,0,(V17*((LOG(V17))/LOG(2))))","v":-0.19667660678508753},null,{"$f":"N17","v":2121},{"$f":"COUNTIF(L30:L51,Y17)","v":1},{"$f":"Z17/(AB4-Z20)","v":4.5454545454545456E-2},{"$f":"IF(AA17=0,0,(AA17*((LOG(AA17))/LOG(2))))","v":-0.20270143721078623},null,{"$f":"N17","v":2121},{"$f":"COUNTIF(L52:L74,AD17)","v":0},{"$f":"AE17/(AG4-AE20)","v":0},{"$f":"IF(AF17=0,0,(AF17*((LOG(AF17))/LOG(2))))","v":0},null,{"$f":"N17","v":2121},{"$f":"COUNTIF(L75:L96,AI17)","v":0},{"$f":"AJ17/(AL4-AJ20)","v":0},{"$f":"IF(AK17=0,0,(AK17*((LOG(AK17))/LOG(2))))","v":0},null,{"$f":"N17","v":2121},{"$f":"COUNTIF(L97:L119,AN17)","v":1},{"$f":"AO17/(AQ4-AO20)","v":4.5454545454545456E-2},{"$f":"IF(AP17=0,0,(AP17*((LOG(AP17))/LOG(2))))","v":-0.20270143721078623},null,{"$f":"N17","v":2121},{"$f":"COUNTIF(L120:L141,AS17)","v":2},{"$f":"AT17/(AV4-AT20)","v":9.5238095238095233E-2},{"$f":"IF(AU17=0,0,(AU17*((LOG(AU17))/LOG(2))))","v":-0.32307784978845333}]
[21,1864,12,1880,24,1896,23,1945,null,null,0,2122,null,2122,{"$f":"COUNTIF($L$7:$L$500,N18)","v":8},{"$f":"O18/$Q$4","v":5.9701492537313432E-2},{"$f":"IF(P18=0,0,(P18*((LOG(P18))/LOG(2))))","v":-0.2427515934601655},null,null,{"$f":"N18","v":2122},{"$f":"COUNTIF(L7:L29,T18)","v":3},{"$f":"U18/(W4-U20)","v":0.13043478260869565},{"$f":"IF(V18=0,0,(V18*((LOG(V18))/LOG(2))))","v":-0.3832955811307639},null,{"$f":"N18","v":2122},{"$f":"COUNTIF(L30:L51,Y18)","v":1},{"$f":"Z18/(AB4-Z20)","v":4.5454545454545456E-2},{"$f":"IF(AA18=0,0,(AA18*((LOG(AA18))/LOG(2))))","v":-0.20270143721078623},null,{"$f":"N18","v":2122},{"$f":"COUNTIF(L52:L74,AD18)","v":1},{"$f":"AE18/(AG4-AE20)","v":4.5454545454545456E-2},{"$f":"IF(AF18=0,0,(AF18*((LOG(AF18))/LOG(2))))","v":-0.20270143721078623},null,{"$f":"N18","v":2122},{"$f":"COUNTIF(L75:L96,AI18)","v":2},{"$f":"AJ18/(AL4-AJ20)","v":9.0909090909090912E-2},{"$f":"IF(AK18=0,0,(AK18*((LOG(AK18))/LOG(2))))","v":-0.31449378351248153},null,{"$f":"N18","v":2122},{"$f":"COUNTIF(L97:L119,AN18)","v":1},{"$f":"AO18/(AQ4-AO20)","v":4.5454545454545456E-2},{"$f":"IF(AP18=0,0,(AP18*((LOG(AP18))/LOG(2))))","v":-0.20270143721078623},null,{"$f":"N18","v":2122},{"$f":"COUNTIF(L120:L141,AS18)","v":0},{"$f":"AT18/(AV4-AT20)","v":0},{"$f":"IF(AU18=0,0,(AU18*((LOG(AU18))/LOG(2))))","v":0}]
[21,2078,12,2096,24,2108,23,2113,null,null,0,2122,null,2211,{"$f":"COUNTIF($L$7:$L$500,N19)","v":3},{"$f":"O19/$Q$4","v":2.2388059701492536E-2},{"$f":"IF(P19=0,0,(P19*((LOG(P19))/LOG(2))))","v":-0.12271179156126753},null,null,{"$f":"N19","v":2211},{"$f":"COUNTIF(L7:L29,T19)","v":0},{"$f":"U19/(W4-U20)","v":0},{"$f":"IF(V19=0,0,(V19*((LOG(V19))/LOG(2))))","v":0},null,{"$f":"N19","v":2211},{"$f":"COUNTIF(L30:L51,Y19)","v":3},{"$f":"Z19/(AB4-Z20)","v":0.13636363636363635},{"$f":"IF(AA19=0,0,(AA19*((LOG(AA19))/LOG(2))))","v":-0.39197306153401923},null,{"$f":"N19","v":2211},{"$f":"COUNTIF(L52:L74,AD19)","v":0},{"$f":"AE19/(AG4-AE20)","v":0},{"$f":"IF(AF19=0,0,(AF19*((LOG(AF19))/LOG(2))))","v":0},null,{"$f":"N19","v":2211},{"$f":"COUNTIF(L75:L96,AI19)","v":0},{"$f":"AJ19/(AL4-AJ20)","v":0},{"$f":"IF(AK19=0,0,(AK19*((LOG(AK19))/LOG(2))))","v":0},null,{"$f":"N19","v":2211},{"$f":"COUNTIF(L97:L119,AN19)","v":0},{"$f":"AO19/(AQ4-AO20)","v":0},{"$f":"IF(AP19=0,0,(AP19*((LOG(AP19))/LOG(2))))","v":0},null,{"$f":"N19","v":2211},{"$f":"COUNTIF(L120:L141,AS19)","v":0},{"$f":"AT19/(AV4-AT20)","v":0},{"$f":"IF(AU19=0,0,(AU19*((LOG(AU19))/LOG(2))))","v":0}]
[12,2308,23,2319,24,2326,23,2357,null,null,0,1222,null,2212,{"$f":"COUNTIF($L$7:$L$500,N20)","v":2},{"$f":"O20/$Q$4","v":1.4925373134328358E-2},{"$f":"IF(P20=0,0,(P20*((LOG(P20))/LOG(2))))","v":-9.0538644633698095E-2},null,null,{"$f":"N20","v":2212},{"$f":"COUNTIF(L7:L29,T20)","v":0},null,null,null,{"$f":"N20","v":2212},{"$f":"COUNTIF(L30:L51,Y20)","v":0},null,null,null,{"$f":"N20","v":2212},{"$f":"COUNTIF(L52:L74,AD20)","v":1},null,null,null,{"$f":"N20","v":2212},{"$f":"COUNTIF(L75:L96,AI20)","v":0},null,null,null,{"$f":"N20","v":2212},{"$f":"COUNTIF(L97:L119,AN20)","v":1},null,null,null,{"$f":"N20","v":2212},{"$f":"COUNTIF(L120:L141,AS20)","v":0}]
[21,2525,12,2542,24,2551,23,2557,null,null,0,2122,null,2221,{"$f":"COUNTIF($L$7:$L$500,N21)","v":0},{"$f":"O21/$Q$4","v":0},{"$f":"IF(P21=0,0,(P21*((LOG(P21))/LOG(2))))","v":0},null,null,{"$f":"N21","v":2221},{"$f":"COUNTIF(L7:L29,T21)","v":0},{"$f":"U21/(W4-U20)","v":0},{"$f":"IF(V21=0,0,(V21*((LOG(V21))/LOG(2))))","v":0},null,{"$f":"N21","v":2221},{"$f":"COUNTIF(L30:L51,Y21)","v":0},{"$f":"Z21/(AB4-Z20)","v":0},{"$f":"IF(AA21=0,0,(AA21*((LOG(AA21))/LOG(2))))","v":0},null,{"$f":"N21","v":2221},{"$f":"COUNTIF(L52:L74,AD21)","v":0},{"$f":"AE21/(AG4-AE20)","v":0},{"$f":"IF(AF21=0,0,(AF21*((LOG(AF21))/LOG(2))))","v":0},null,{"$f":"N21","v":2221},{"$f":"COUNTIF(L75:L96,AI21)","v":0},{"$f":"AJ21/(AL4-AJ20)","v":0},{"$f":"IF(AK21=0,0,(AK21*((LOG(AK21))/LOG(2))))","v":0},null,{"$f":"N21","v":2221},{"$f":"COUNTIF(L97:L119,AN21)","v":0},{"$f":"AO21/(AQ4-AO20)","v":0},{"$f":"IF(AP21=0,0,(AP21*((LOG(AP21))/LOG(2))))","v":0},null,{"$f":"N21","v":2221},{"$f":"COUNTIF(L120:L141,AS21)","v":0},{"$f":"AT21/(AV4-AT20)","v":0},{"$f":"IF(AU21=0,0,(AU21*((LOG(AU21))/LOG(2))))","v":0}]
[12,2721,23,2737,24,2752,14,2771,null,null,0,1221,null,2222,{"$f":"COUNTIF($L$7:$L$500,N22)","v":1},{"$f":"O22/$Q$4","v":7.462686567164179E-3},{"$f":"IF(P22=0,0,(P22*((LOG(P22))/LOG(2))))","v":-5.2732008884013228E-2},null,null,{"$f":"N22","v":2222},{"$f":"COUNTIF(L7:L29,T22)","v":0},{"$f":"U22/(W4-U20)","v":0},{"$f":"IF(V22=0,0,(V22*((LOG(V22))/LOG(2))))","v":0},null,{"$f":"N22","v":2222},{"$f":"COUNTIF(L30:L51,Y22)","v":0},{"$f":"Z22/(AB4-Z20)","v":0},{"$f":"IF(AA22=0,0,(AA22*((LOG(AA22))/LOG(2))))","v":0},null,{"$f":"N22","v":2222},{"$f":"COUNTIF(L52:L74,AD22)","v":1},{"$f":"AE22/(AG4-AE20)","v":4.5454545454545456E-2},{"$f":"IF(AF22=0,0,(AF22*((LOG(AF22))/LOG(2))))","v":-0.20270143721078623},null,{"$f":"N22","v":2222},{"$f":"COUNTIF(L75:L96,AI22)","v":0},{"$f":"AJ22/(AL4-AJ20)","v":0},{"$f":"IF(AK22=0,0,(AK22*((LOG(AK22))/LOG(2))))","v":0},null,{"$f":"N22","v":2222},{"$f":"COUNTIF(L97:L119,AN22)","v":0},{"$f":"AO22/(AQ4-AO20)","v":0},{"$f":"IF(AP22=0,0,(AP22*((LOG(AP22))/LOG(2))))","v":0},null,{"$f":"N22","v":2222},{"$f":"COUNTIF(L120:L141,AS22)","v":0},{"$f":"AT22/(AV4-AT20)","v":0},{"$f":"IF(AU22=0,0,(AU22*((LOG(AU22))/LOG(2))))","v":0}]
[12,2872,14,2877,13,2882,14,2888,null,null,0,1111,null,null,null,{"$f":"SUM(P7:P22)","v":0.99999999999999978},{"$f":"-SUM(Q7:Q22)","v":3.5641904964061379},null,null,null,null,{"$f":"SUM(V7:V22)","v":0.99999999999999989},{"$f":"-SUM(W7:W22)","v":2.7187891297819289},null,null,null,{"$f":"SUM(AA7:AA22)","v":0.99999999999999989},{"$f":"-SUM(AB7:AB22)","v":3.4130884364257565},null,null,null,{"$f":"SUM(AF7:AF22)","v":0.99999999999999989},{"$f":"-SUM(AG7:AG22)","v":3.4817145729860721},null,null,null,{"$f":"SUM(AK7:AK22)","v":1},{"$f":"-SUM(AL7:AL22)","v":2.9585429818803033},null,null,null,{"$f":"SUM(AP7:AP22)","v":0.99999999999999989},{"$f":"-SUM(AQ7:AQ22)","v":3.0494520727893932},null,null,null,{"$f":"SUM(AU7:AU22)","v":1},{"$f":"-SUM(AV7:AV22)","v":3.105672184271433}]
[12,3126,14,3131,13,3151,23,3218,null,null,0,1112,null,null,null,"U=",{"$f":"Q23/(LOG(Q4)/LOG(2))","v":0.50440779904382071},null,null,null,null,"U1=",{"$f":"W23/(LOG(W4)/LOG(2))","v":0.60102838342724407},null,null,null,"U2=",{"$f":"AB23/(LOG(AB4)/LOG(2))","v":0.7653640033768967},null,null,null,"U3=",{"$f":"AG23/(LOG(AG4)/LOG(2))","v":0.76968429012541417},null,null,null,"U4=",{"$f":"AL23/(LOG(AL4)/LOG(2))","v":0.66343499236890824},null,null,null,"U5=",{"$f":"AQ23/(LOG(AQ4)/LOG(2))","v":0.67412629746481123},null,null,null,"U6=",{"$f":"AV23/(LOG(AV4)/LOG(2))","v":0.70706915856428632}]
[12,3325,14,3353,13,3368,23,3379,null,null,0,1112]
[12,4088,14,4097,13,4115,23,4136,null,null,0,1112]
[12,4249,14,4264,24,4282,14,4294,null,null,0,1121,null,"Total Target Seq"]
[21,4389,12,4402,24,4413,14,4431,null,null,0,2121,null,{"$f":"COUNTIF(L7:L141,G3)","v":2},null,23,22,23,22,23,22]
[12,4530,14,4542,13,4574,14,4578,null,null,0,1111,null,null,null,"% of reinforcement given in 6 equal intervals based on number of trials "]
[21,4670,12,4683,24,4697,14,4709,null,null,0,2121,null,null,null,"%_1","%_2","%_3","%_4","%_5","%_6"]
[12,4844,14,4852,13,4864,23,4889,null,null,0,1112,null,null,"target sequence",{"$f":"$G$3","v":2212},{"$f":"$G$3","v":2212},{"$f":"$G$3","v":2212},{"$f":"$G$3","v":2212},{"$f":"$G$3","v":2212},{"$f":"$G$3","v":2212}]
[12,5035,23,5047,13,5064,23,5082,null,null,0,1212,null,null,"total reinforcement",{"$f":"U20","v":0},{"$f":"Z20","v":0},{"$f":"AE20","v":1},{"$f":"AJ20","v":0},{"$f":"AO20","v":1},{"$f":"AT20","v":0}]
[21,5255,21,5261,11,5275,12,5280,null,null,0,2211,null,null,"% target"]
[12,5401,14,5413,13,5417,23,5438,null,null,0,1112,null,null,"CCRF"]
[12,5564,23,5583,24,5587,23,5593,null,null,0,1222,null,null,"% CCRf"]
[12,5769,23,5778,24,5784,14,5805,null,null,0,1221,null,null,"average response rate",{"$f":"H29/P28","v":199.04347826086956},{"$f":"(H51-H29)/Q28","v":181.27272727272728},{"$f":"(H74-H51)/R28","v":178.17391304347825},{"$f":"(H96-H74)/S28","v":161},{"$f":"(H119-H96)/T28","v":168.17391304347825},{"$f":"(H141-H119)/U28","v":-912.4545454545455}]
[12,5953,23,5978,24,6002,14,6018,null,null,0,1221]
[12,6181,23,6198,24,6211,14,6227,null,null,0,1221]
[12,6343,23,6362,13,6378,14,6383,null,null,0,1211]
[21,6539,21,6549,11,6565,12,6569,null,null,0,2211]
[12,6761,14,6766,24,6776,14,6791,null,null,0,1121]
[12,6915,14,6919,13,6924,14,6933,null,null,0,1111]
[21,7053,12,7072,13,7077,23,7085,null,null,0,2112]
[12,7198,14,7204,24,7215,23,7224,null,null,0,1122]
[12,7330,14,7347,24,7359,14,7378,null,null,0,1121]
[12,7536,14,7556,13,7565,23,7585,null,null,0,1112]
[21,7812,21,7822,11,7835,12,7841,null,null,0,2211]
[12,7987,14,7992,24,8004,14,8019,null,null,0,1121]
[12,8120,14,8140,13,8166,14,8171,null,null,0,1111]
[12,8296,23,8312,13,8329,23,8340,null,null,0,1212]
[21,8520,12,8537,24,8562,23,8566,null,null,0,2122]
[12,8718,14,8725,13,8733,23,8745,null,null,0,1112]
[21,8904,12,8929,13,8933,14,8938,null,null,0,2111]
[21,9044,21,9051,22,9058,23,9077,null,null,0,2222]
[12,9220,23,9236,24,9258,23,9264,null,null,0,1222]
[12,9410,14,9415,13,9419,14,9423,null,null,0,1111]
[12,9613,23,9629,13,9663,14,9668,null,null,0,1211]
[12,9821,14,9875,13,9879,14,9885,null,null,0,1111]
[12,10102,23,10122,24,10136,14,10153,null,null,0,1221]
[12,10273,14,10310,13,10315,23,10325,null,null,0,1112]
[12,10539,14,10546,24,10559,23,10574,null,null,0,1122]
[12,10682,14,10687,24,10705,14,10721,null,null,0,1121]
[21,10841,12,10879,13,10886,23,10897,null,null,0,2112]
[21,10998,12,11015,24,11026,23,11040,null,null,0,2122]
[12,11156,14,11169,13,11202,14,11206,null,null,0,1111]
[21,11320,21,11330,11,11342,21,11354,null,null,0,2212]
[12,11449,23,11462,13,11477,23,11492,null,null,0,1212]
[12,11598,23,11606,13,11618,23,11630,null,null,0,1212]
[12,11741,23,11773,24,11778,14,11795,null,null,0,1221]
[12,11935,23,11955,24,11971,14,11989,null,null,0,1221]
[21,12101,12,12116,13,12126,23,12146,null,null,0,2112]
[12,12313,14,12318,24,12337,14,12351,null,null,0,1121]
[21,12468,12,12485,13,12490,14,12496,null,null,0,2111]
[12,12622,14,12632,24,12648,23,12664,null,null,0,1122]
[21,12767,12,12784,24,12804,23,12820,null,null,0,2122]
[12,12966,23,12987,24,13000,14,13017,null,null,0,1221]
[12,13127,14,13139,13,13148,14,13176,null,null,0,1111]
[12,13306,14,13338,13,13343,14,13348,null,null,0,1111]
[21,13460,12,13474,13,13479,14,13484,null,null,0,2111]
[12,13585,14,13604,13,13619,14,13624,null,null,0,1111]
[12,13741,14,13751,24,13793,14,13808,null,null,0,1121]
[12,13945,14,13950,24,13962,14,13982,null,null,0,1121]
[12,14117,14,14122,13,14128,23,14140,null,null,0,1112]
[12,14261,14,14266,13,14272,23,14284,null,null,0,1112]
[21,14402,12,14417,13,14424,23,14440,null,null,0,2112]
[12,14570,14,14576,24,14597,14,14616,null,null,0,1121]
[12,14792,23,14806,13,14821,14,14827,null,null,0,1211]
[12,14973,14,14986,24,14999,23,15013,null,null,0,1122]
[12,15161,14,15166,24,15179,23,15191,null,null,0,1122]
[21,15312,12,15330,24,15341,23,15346,null,null,0,2122]
[12,15451,14,15485,24,15495,23,15506,null,null,0,1122]
[21,15636,12,15651,13,15659,14,15671,null,null,0,2111]
[12,15803,14,15807,13,15813,14,15819,null,null,0,1111]
[21,15920,12,15949,13,15954,23,15965,null,null,0,2112]
[12,16066,14,16070,13,16088,14,16093,null,null,0,1111]
[12,16191,14,16196,13,16201,14,16206,null,null,0,1111]
[12,16338,23,16350,24,16355,14,16375,null,null,0,1221]
[21,16535,21,16562,11,16578,21,16589,null,null,0,2212]
[12,16681,14,16720,24,16741,23,16753,null,null,0,1122]
[12,16856,14,16862,24,16879,23,16884,null,null,0,1122]
[12,16993,14,16999,13,17007,14,17036,null,null,0,1111]
[21,17142,12,17158,24,17184,14,17206,null,null,0,2121]
[12,17321,23,17330,13,17350,14,17355,null,null,0,1211]
[12,17464,23,17482,13,17492,14,17496,null,null,0,1211]
[12,17607,14,17618,24,17632,23,17637,null,null,0,1122]
[12,17756,14,17765,24,17784,14,17800,null,null,0,1121]
[12,17943,14,17948,24,17962,14,17979,null,null,0,1121]
[12,18111,14,18116,24,18140,23,18148,null,null,0,1122]
[12,18254,23,18275,13,18289,23,18307,null,null,0,1212]
[12,18473,14,18478,13,18482,23,18494,null,null,0,1112]
[12,18608,14,18613,13,18621,23,18633,null,null,0,1112]
[12,18761,14,18766,13,18772,23,18784,null,null,0,1112]
[12,18885,23,18909,24,18910,14,18925,null,null,0,1221]
[12,19050,14,19058,24,19070,14,19091,null,null,0,1121]
[12,19211,14,19216,24,19229,23,19235,null,null,0,1122]
[21,19444,12,19457,24,19469,23,19491,null,null,0,2122]
[12,19663,14,19669,13,19673,14,19677,null,null,0,1111]
[21,19816,12,19829,13,19834,14,19843,null,null,0,2111]
[12,20033,14,20037,24,20050,23,20074,null,null,0,1122]
[12,20211,14,20218,13,20226,14,20231,null,null,0,1111]
[12,20383,14,20388,24,20406,14,20422,null,null,0,1121]
[12,20522,23,20541,13,20555,14,20559,null,null,0,1211]
[21,20673,12,20685,13,20690,23,20701,null,null,0,2112]
[12,20852,14,20857,13,20862,23,20874,null,null,0,1112]
[21,21003,12,21014,13,21022,23,21033,null,null,0,2112]
[21,21151,12,21164,24,21181,14,21193,null,null,0,2121]
[12,21347,14,21351,13,21356,23,21370,null,null,0,1112]
[12,21491,14,21495,13,21501,23,21515,null,null,0,1112]
[12,21643,14,21649,24,21661,23,21673,null,null,0,1122]
[21,21785,12,21803,13,21809,23,21825,null,null,0,2112]
[12,22021,23,22056,13,22074,14,22079,null,null,0,1211]
[12,22189,14,22206,13,22244,14,22249,null,null,0,1111]
[12,22398,14,22403,24,22425,23,22430,null,null,0,1122]
[21,22573,12,22588,24,22601,14,22623,null,null,0,2121]
[12,22837,23,22851,13,22867,23,22889,null,null,0,1212]
[12,23011,23,23038,24,23042,14,23059,null,null,0,1221]
[12,23281,23,23292,24,23333,14,23370,null,null,0,1221]
[12,23472,23,23490,13,23506,14,23512,null,null,0,1211]
[12,23618,14,23636,24,23652,14,23671,null,null,0,1121]
[12,23795,14,23843,13,23847,14,23858,null,null,0,1111]
[12,23994,14,23998,null,null,null,null,null,null,null,11]

{"sheet":"!N116800.092","index":19,"n_rows":146,"n_cols":48,"rows_kept":146,"cut":false,"hidden":false,"merged":[[4,39,4,42],[5,39,5,40],[4,44,4,47],[5,44,5,45],[4,24,4,27],[5,24,5,25],[4,29,4,32],[5,29,5,30],[4,34,4,37],[5,34,5,35],[1,1,1,2],[5,13,5,14],[26,13,26,14],[27,13,27,14],[4,19,4,22],[5,19,5,20]]}
["Report for:!N116800.092"]
["Date:","<date>"]
["Hen:","<hen>",null,null,null,"Correct Sequence",{"$f":"Start!J2","v":2212},null,null,null,null,null,null,null,null,"Total Sequences in Data",{"$f":"4994-COUNTBLANK(L7:L5000)","v":140},null,null,null,null,"Total Sequences in Block Data",{"$f":"COUNTA(L7:L29)","v":23},null,null,null,"Total Sequences in Block Data",{"$f":"COUNTA(L30:L53)","v":24},null,null,null,"Total Sequences in Block Data",{"$f":"COUNTA(L54:L76)","v":23},null,null,null,"Total Sequences in Block Data",{"$f":"COUNTA(L77:L99)","v":23},null,null,null,"Total Sequences in Block Data",{"$f":"COUNTA(L100:L123)","v":24},null,null,null,"Total Sequences in Block Data",{"$f":"COUNTA(L124:L146)","v":23}]
[null,null,null,null,null,null,null,null,null,null,null,null,null,null,null,"Total Sequences in Summary",{"$f":"SUM(O7:O22)","v":140},null,null,null,null,"Total Sequences in Block Summary",{"$f":"SUM(U7:U22)","v":23},null,null,null,"Total Sequences in Block Summary",{"$f":"SUM(Z7:Z22)","v":24},null,null,null,"Total Sequences in Block Summary",{"$f":"SUM(AE7:AE22)","v":23},null,null,null,"Total Sequences in Block Summary",{"$f":"SUM(AJ7:AJ22)","v":23},null,null,null,"Total Sequences in Block Summary",{"$f":"SUM(AO7:AO22)","v":24},null,null,null,"Total Sequences in Block Summary",{"$f":"SUM(AT7:AT22)","v":23}]
[null,null,null,null,null,null,null,null,null,null,null,null,null,null,null,null,null,null,null,"Block 1",null,null,null,null,"Block 2",null,null,null,null,"Block 3",null,null,null,null,"Block 4",null,null,null,null,"Block 5",null,null,null,null,"Block 6"]
["Sequence\nComponent\n1","Time\n1","Sequence\nComponent\n2","Time\n2","Sequence\nComponent\n3","Time\n3","Sequence\nComponent\n4","Time\n4","Sequence\nComponent\n5","Time\n5","Correct?\n0=No 1=Yes","Sequence",null,"Frequency",null,"Relative Frequency","Variability",null,null,"Frequency",null,"Relative Frequency","Variability",null,"Frequency",null,"Relative Frequency","Variability",null,"Frequency",null,"Relative Frequency","Variability",null,"Frequency",null,"Relative Frequency","Variability",null,"Frequency",null,"Relative Frequency","Variability",null,"Frequency",null,"Relative Frequency","Variability"]
[12,89,23,98,24,119,23,143,null,null,0,1222,null,1111,{"$f":"COUNTIF($L$7:$L$500,N7)","v":20},{"$f":"O7/$Q$4","v":0.14285714285714285},{"$f":"IF(P7=0,0,(P7*((LOG(P7))/LOG(2))))","v":-0.40105070315108626},null,null,{"$f":"N7","v":1111},{"$f":"COUNTIF(L7:L29,T7)","v":5},{"$f":"U7/(W4-U20)","v":0.21739130434782608},{"$f":"IF(V7=0,0,(V7*((LOG(V7))/LOG(2))))","v":-0.47861605677601093},null,{"$f":"N7","v":1111},{"$f":"COUNTIF(L30:L53,Y7)","v":5},{"$f":"Z7/(AB4-Z20)","v":0.21739130434782608},{"$f":"IF(AA7=0,0,(AA7*((LOG(AA7))/LOG(2))))","v":-0.47861605677601093},null,{"$f":"N7","v":1111},{"$f":"COUNTIF(L54:L76,AD7)","v":2},{"$f":"AE7/(AG4-AE20)","v":8.6956521739130432E-2},{"$f":"IF(AF7=0,0,(AF7*((LOG(AF7))/LOG(2))))","v":-0.30639669183104457},null,{"$f":"N7","v":1111},{"$f":"COUNTIF(L77:L99,AI7)","v":3},{"$f":"AJ7/(AL4-AJ20)","v":0.13043478260869565},{"$f":"IF(AK7=0,0,(AK7*((LOG(AK7))/LOG(2))))","v":-0.3832955811307639},null,{"$f":"N7","v":1111},{"$f":"COUNTIF(L100:L123,AN7)","v":2},{"$f":"AO7/(AQ4-AO20)","v":8.6956521739130432E-2},{"$f":"IF(AP7=0,0,(AP7*((LOG(AP7))/LOG(2))))","v":-0.30639669183104457},null,{"$f":"N7","v":1111},{"$f":"COUNTIF(L124:L146,AS7)","v":3},{"$f":"AT7/(AV4-AT20)","v":0.13636363636363635},{"$f":"IF(AU7=0,0,(AU7*((LOG(AU7))/LOG(2))))","v":-0.39197306153401923}]
[12,300,14,305,24,317,14,330,null,null,0,1121,null,1112,{"$f":"COUNTIF($L$7:$L$500,N8)","v":17},{"$f":"O8/$Q$4","v":0.12142857142857143},{"$f":"IF(P8=0,0,(P8*((LOG(P8))/LOG(2))))","v":-0.3693638784772047},null,null,{"$f":"N8","v":1112},{"$f":"COUNTIF(L7:L29,T8)","v":3},{"$f":"U8/(W4-U20)","v":0.13043478260869565},{"$f":"IF(V8=0,0,(V8*((LOG(V8))/LOG(2))))","v":-0.3832955811307639},null,{"$f":"N8","v":1112},{"$f":"COUNTIF(L30:L53,Y8)","v":1},{"$f":"Z8/(AB4-Z20)","v":4.3478260869565216E-2},{"$f":"IF(AA8=0,0,(AA8*((LOG(AA8))/LOG(2))))","v":-0.19667660678508753},null,{"$f":"N8","v":1112},{"$f":"COUNTIF(L54:L76,AD8)","v":0},{"$f":"AE8/(AG4-AE20)","v":0},{"$f":"IF(AF8=0,0,(AF8*((LOG(AF8))/LOG(2))))","v":0},null,{"$f":"N8","v":1112},{"$f":"COUNTIF(L77:L99,AI8)","v":4},{"$f":"AJ8/(AL4-AJ20)","v":0.17391304347826086},{"$f":"IF(AK8=0,0,(AK8*((LOG(AK8))/LOG(2))))","v":-0.43888034018382832},null,{"$f":"N8","v":1112},{"$f":"COUNTIF(L100:L123,AN8)","v":6},{"$f":"AO8/(AQ4-AO20)","v":0.2608695652173913},{"$f":"IF(AP8=0,0,(AP8*((LOG(AP8))/LOG(2))))","v":-0.50572159704413644},null,{"$f":"N8","v":1112},{"$f":"COUNTIF(L124:L146,AS8)","v":3},{"$f":"AT8/(AV4-AT20)","v":0.13636363636363635},{"$f":"IF(AU8=0,0,(AU8*((LOG(AU8))/LOG(2))))","v":-0.39197306153401923}]
[12,505,14,514,24,538,14,556,null,null,0,1121,null,1121,{"$f":"COUNTIF($L$7:$L$500,N9)","v":21},{"$f":"O9/$Q$4","v":0.15},{"$f":"IF(P9=0,0,(P9*((LOG(P9))/LOG(2))))","v":-0.41054483912493089},null,null,{"$f":"N9","v":1121},{"$f":"COUNTIF(L7:L29,T9)","v":4},{"$f":"U9/(W4-U20)","v":0.17391304347826086},{"$f":"IF(V9=0,0,(V9*((LOG(V9))/LOG(2))))","v":-0.43888034018382832},null,{"$f":"N9","v":1121},{"$f":"COUNTIF(L30:L53,Y9)","v":5},{"$f":"Z9/(AB4-Z20)","v":0.21739130434782608},{"$f":"IF(AA9=0,0,(AA9*((LOG(AA9))/LOG(2))))","v":-0.47861605677601093},null,{"$f":"N9","v":1121},{"$f":"COUNTIF(L54:L76,AD9)","v":2},{"$f":"AE9/(AG4-AE20)","v":8.6956521739130432E-2},{"$f":"IF(AF9=0,0,(AF9*((LOG(AF9))/LOG(2))))","v":-0.30639669183104457},null,{"$f":"N9","v":1121},{"$f":"COUNTIF(L77:L99,AI9)","v":1},{"$f":"AJ9/(AL4-AJ20)","v":4.3478260869565216E-2},{"$f":"IF(AK9=0,0,(AK9*((LOG(AK9))/LOG(2))))","v":-0.19667660678508753},null,{"$f":"N9","v":1121},{"$f":"COUNTIF(L100:L123,AN9)","v":7},{"$f":"AO9/(AQ4-AO20)","v":0.30434782608695654},{"$f":"IF(AP9=0,0,(AP9*((LOG(AP9))/LOG(2))))","v":-0.52232387991286355},null,{"$f":"N9","v":1121},{"$f":"COUNTIF(L124:L146,AS9)","v":2},{"$f":"AT9/(AV4-AT20)","v":9.0909090909090912E-2},{"$f":"IF(AU9=0,0,(AU9*((LOG(AU9))/LOG(2))))","v":-0.31449378351248153}]
[12,666,14,687,13,692,23,717,null,null,0,1112,null,1122,{"$f":"COUNTIF($L$7:$L$500,N10)","v":11},{"$f":"O10/$Q$4","v":7.857142857142857E-2},{"$f":"IF(P10=0,0,(P10*((LOG(P10))/LOG(2))))","v":-0.28834546700988833},null,null,{"$f":"N10","v":1122},{"$f":"COUNTIF(L7:L29,T10)","v":0},{"$f":"U10/(W4-U20)","v":0},{"$f":"IF(V10=0,0,(V10*((LOG(V10))/LOG(2))))","v":0},null,{"$f":"N10","v":1122},{"$f":"COUNTIF(L30:L53,Y10)","v":1},{"$f":"Z10/(AB4-Z20)","v":4.3478260869565216E-2},{"$f":"IF(AA10=0,0,(AA10*((LOG(AA10))/LOG(2))))","v":-0.19667660678508753},null,{"$f":"N10","v":1122},{"$f":"COUNTIF(L54:L76,AD10)","v":4},{"$f":"AE10/(AG4-AE20)","v":0.17391304347826086},{"$f":"IF(AF10=0,0,(AF10*((LOG(AF10))/LOG(2))))","v":-0.43888034018382832},null,{"$f":"N10","v":1122},{"$f":"COUNTIF(L77:L99,AI10)","v":3},{"$f":"AJ10/(AL4-AJ20)","v":0.13043478260869565},{"$f":"IF(AK10=0,0,(AK10*((LOG(AK10))/LOG(2))))","v":-0.3832955811307639},null,{"$f":"N10","v":1122},{"$f":"COUNTIF(L100:L123,AN10)","v":2},{"$f":"AO10/(AQ4-AO20)","v":8.6956521739130432E-2},{"$f":"IF(AP10=0,0,(AP10*((LOG(AP10))/LOG(2))))","v":-0.30639669183104457},null,{"$f":"N10","v":1122},{"$f":"COUNTIF(L124:L146,AS10)","v":1},{"$f":"AT10/(AV4-AT20)","v":4.5454545454545456E-2},{"$f":"IF(AU10=0,0,(AU10*((LOG(AU10))/LOG(2))))","v":-0.20270143721078623}]
[12,827,14,857,13,861,23,873,null,null,0,1112,null,1211,{"$f":"COUNTIF($L$7:$L$500,N11)","v":12},{"$f":"O11/$Q$4","v":8.5714285714285715E-2},{"$f":"IF(P11=0,0,(P11*((LOG(P11))/LOG(2))))","v":-0.30379890139061233},null,null,{"$f":"N11","v":1211},{"$f":"COUNTIF(L7:L29,T11)","v":1},{"$f":"U11/(W4-U20)","v":4.3478260869565216E-2},{"$f":"IF(V11=0,0,(V11*((LOG(V11))/LOG(2))))","v":-0.19667660678508753},null,{"$f":"N11","v":1211},{"$f":"COUNTIF(L30:L53,Y11)","v":3},{"$f":"Z11/(AB4-Z20)","v":0.13043478260869565},{"$f":"IF(AA11=0,0,(AA11*((LOG(AA11))/LOG(2))))","v":-0.3832955811307639},null,{"$f":"N11","v":1211},{"$f":"COUNTIF(L54:L76,AD11)","v":3},{"$f":"AE11/(AG4-AE20)","v":0.13043478260869565},{"$f":"IF(AF11=0,0,(AF11*((LOG(AF11))/LOG(2))))","v":-0.3832955811307639},null,{"$f":"N11","v":1211},{"$f":"COUNTIF(L77:L99,AI11)","v":2},{"$f":"AJ11/(AL4-AJ20)","v":8.6956521739130432E-2},{"$f":"IF(AK11=0,0,(AK11*((LOG(AK11))/LOG(2))))","v":-0.30639669183104457},null,{"$f":"N11","v":1211},{"$f":"COUNTIF(L100:L123,AN11)","v":2},{"$f":"AO11/(AQ4-AO20)","v":8.6956521739130432E-2},{"$f":"IF(AP11=0,0,(AP11*((LOG(AP11))/LOG(2))))","v":-0.30639669183104457},null,{"$f":"N11","v":1211},{"$f":"COUNTIF(L124:L146,AS11)","v":1},{"$f":"AT11/(AV4-AT20)","v":4.5454545454545456E-2},{"$f":"IF(AU11=0,0,(AU11*((LOG(AU11))/LOG(2))))","v":-0.20270143721078623}]
[12,995,14,1027,13,1032,23,1044,null,null,0,1112,null,1212,{"$f":"COUNTIF($L$7:$L$500,N12)","v":4},{"$f":"O12/$Q$4","v":2.8571428571428571E-2},{"$f":"IF(P12=0,0,(P12*((LOG(P12))/LOG(2))))","v":-0.14655094334128474},null,null,{"$f":"N12","v":1212},{"$f":"COUNTIF(L7:L29,T12)","v":0},{"$f":"U12/(W4-U20)","v":0},{"$f":"IF(V12=0,0,(V12*((LOG(V12))/LOG(2))))","v":0},null,{"$f":"N12","v":1212},{"$f":"COUNTIF(L30:L53,Y12)","v":0},{"$f":"Z12/(AB4-Z20)","v":0},{"$f":"IF(AA12=0,0,(AA12*((LOG(AA12))/LOG(2))))","v":0},null,{"$f":"N12","v":1212},{"$f":"COUNTIF(L54:L76,AD12)","v":0},{"$f":"AE12/(AG4-AE20)","v":0},{"$f":"IF(AF12=0,0,(AF12*((LOG(AF12))/LOG(2))))","v":0},null,{"$f":"N12","v":1212},{"$f":"COUNTIF(L77:L99,AI12)","v":1},{"$f":"AJ12/(AL4-AJ20)","v":4.3478260869565216E-2},{"$f":"IF(AK12=0,0,(AK12*((LOG(AK12))/LOG(2))))","v":-0.19667660678508753},null,{"$f":"N12","v":1212},{"$f":"COUNTIF(L100:L123,AN12)","v":1},{"$f":"AO12/(AQ4-AO20)","v":4.3478260869565216E-2},{"$f":"IF(AP12=0,0,(AP12*((LOG(AP12))/LOG(2))))","v":-0.19667660678508753},null,{"$f":"N12","v":1212},{"$f":"COUNTIF(L124:L146,AS12)","v":2},{"$f":"AT12/(AV4-AT20)","v":9.0909090909090912E-2},{"$f":"IF(AU12=0,0,(AU12*((LOG(AU12))/LOG(2))))","v":-0.31449378351248153}]
[12,1160,14,1164,13,1199,14,1209,null,null,0,1111,null,1221,{"$f":"COUNTIF($L$7:$L$500,N13)","v":7},{"$f":"O13/$Q$4","v":0.05},{"$f":"IF(P13=0,0,(P13*((LOG(P13))/LOG(2))))","v":-0.21609640474436814},null,null,{"$f":"N13","v":1221},{"$f":"COUNTIF(L7:L29,T13)","v":0},{"$f":"U13/(W4-U20)","v":0},{"$f":"IF(V13=0,0,(V13*((LOG(V13))/LOG(2))))","v":0},null,{"$f":"N13","v":1221},{"$f":"COUNTIF(L30:L53,Y13)","v":0},{"$f":"Z13/(AB4-Z20)","v":0},{"$f":"IF(AA13=0,0,(AA13*((LOG(AA13))/LOG(2))))","v":0},null,{"$f":"N13","v":1221},{"$f":"COUNTIF(L54:L76,AD13)","v":2},{"$f":"AE13/(AG4-AE20)","v":8.6956521739130432E-2},{"$f":"IF(AF13=0,0,(AF13*((LOG(AF13))/LOG(2))))","v":-0.30639669183104457},null,{"$f":"N13","v":1221},{"$f":"COUNTIF(L77:L99,AI13)","v":2},{"$f":"AJ13/(AL4-AJ20)","v":8.6956521739130432E-2},{"$f":"IF(AK13=0,0,(AK13*((LOG(AK13))/LOG(2))))","v":-0.30639669183104457},null,{"$f":"N13","v":1221},{"$f":"COUNTIF(L100:L123,AN13)","v":1},{"$f":"AO13/(AQ4-AO20)","v":4.3478260869565216E-2},{"$f":"IF(AP13=0,0,(AP13*((LOG(AP13))/LOG(2))))","v":-0.19667660678508753},null,{"$f":"N13","v":1221},{"$f":"COUNTIF(L124:L146,AS13)","v":2},{"$f":"AT13/(AV4-AT20)","v":9.0909090909090912E-2},{"$f":"IF(AU13=0,0,(AU13*((LOG(AU13))/LOG(2))))","v":-0.31449378351248153}]
[21,1394,12,1406,24,1423,23,1429,null,null,0,2122,null,1222,{"$f":"COUNTIF($L$7:$L$500,N14)","v":2},{"$f":"O14/$Q$4","v":1.4285714285714285E-2},{"$f":"IF(P14=0,0,(P14*((LOG(P14))/LOG(2))))","v":-8.756118595635666E-2},null,null,{"$f":"N14","v":1222},{"$f":"COUNTIF(L7:L29,T14)","v":1},{"$f":"U14/(W4-U20)","v":4.3478260869565216E-2},{"$f":"IF(V14=0,0,(V14*((LOG(V14))/LOG(2))))","v":-0.19667660678508753},null,{"$f":"N14","v":1222},{"$f":"COUNTIF(L30:L53,Y14)","v":0},{"$f":"Z14/(AB4-Z20)","v":0},{"$f":"IF(AA14=0,0,(AA14*((LOG(AA14))/LOG(2))))","v":0},null,{"$f":"N14","v":1222},{"$f":"COUNTIF(L54:L76,AD14)","v":0},{"$f":"AE14/(AG4-AE20)","v":0},{"$f":"IF(AF14=0,0,(AF14*((LOG(AF14))/LOG(2))))","v":0},null,{"$f":"N14","v":1222},{"$f":"COUNTIF(L77:L99,AI14)","v":1},{"$f":"AJ14/(AL4-AJ20)","v":4.3478260869565216E-2},{"$f":"IF(AK14=0,0,(AK14*((LOG(AK14))/LOG(2))))","v":-0.19667660678508753},null,{"$f":"N14","v":1222},{"$f":"COUNTIF(L100:L123,AN14)","v":0},{"$f":"AO14/(AQ4-AO20)","v":0},{"$f":"IF(AP14=0,0,(AP14*((LOG(AP14))/LOG(2))))","v":0},null,{"$f":"N14","v":1222},{"$f":"COUNTIF(L124:L146,AS14)","v":0},{"$f":"AT14/(AV4-AT20)","v":0},{"$f":"IF(AU14=0,0,(AU14*((LOG(AU14))/LOG(2))))","v":0}]
[12,1546,23,1558,13,1574,14,1583,null,null,0,1211,null,2111,{"$f":"COUNTIF($L$7:$L$500,N15)","v":8},{"$f":"O15/$Q$4","v":5.7142857142857141E-2},{"$f":"IF(P15=0,0,(P15*((LOG(P15))/LOG(2))))","v":-0.23595902953971234},null,null,{"$f":"N15","v":2111},{"$f":"COUNTIF(L7:L29,T15)","v":5},{"$f":"U15/(W4-U20)","v":0.21739130434782608},{"$f":"IF(V15=0,0,(V15*((LOG(V15))/LOG(2))))","v":-0.47861605677601093},null,{"$f":"N15","v":2111},{"$f":"COUNTIF(L30:L53,Y15)","v":1},{"$f":"Z15/(AB4-Z20)","v":4.3478260869565216E-2},{"$f":"IF(AA15=0,0,(AA15*((LOG(AA15))/LOG(2))))","v":-0.19667660678508753},null,{"$f":"N15","v":2111},{"$f":"COUNTIF(L54:L76,AD15)","v":1},{"$f":"AE15/(AG4-AE20)","v":4.3478260869565216E-2},{"$f":"IF(AF15=0,0,(AF15*((LOG(AF15))/LOG(2))))","v":-0.19667660678508753},null,{"$f":"N15","v":2111},{"$f":"COUNTIF(L77:L99,AI15)","v":1},{"$f":"AJ15/(AL4-AJ20)","v":4.3478260869565216E-2},{"$f":"IF(AK15=0,0,(AK15*((LOG(AK15))/LOG(2))))","v":-0.19667660678508753},null,{"$f":"N15","v":2111},{"$f":"COUNTIF(L100:L123,AN15)","v":0},{"$f":"AO15/(AQ4-AO20)","v":0},{"$f":"IF(AP15=0,0,(AP15*((LOG(AP15))/LOG(2))))","v":0},null,{"$f":"N15","v":2111},{"$f":"COUNTIF(L124:L146,AS15)","v":0},{"$f":"AT15/(AV4-AT20)","v":0},{"$f":"IF(AU15=0,0,(AU15*((LOG(AU15))/LOG(2))))","v":0}]
[12,1703,14,1708,24,1720,14,1736,null,null,0,1121,null,2112,{"$f":"COUNTIF($L$7:$L$500,N16)","v":14},{"$f":"O16/$Q$4","v":0.1},{"$f":"IF(P16=0,0,(P16*((LOG(P16))/LOG(2))))","v":-0.33219280948873625},null,null,{"$f":"N16","v":2112},{"$f":"COUNTIF(L7:L29,T16)","v":1},{"$f":"U16/(W4-U20)","v":4.3478260869565216E-2},{"$f":"IF(V16=0,0,(V16*((LOG(V16))/LOG(2))))","v":-0.19667660678508753},null,{"$f":"N16","v":2112},{"$f":"COUNTIF(L30:L53,Y16)","v":1},{"$f":"Z16/(AB4-Z20)","v":4.3478260869565216E-2},{"$f":"IF(AA16=0,0,(AA16*((LOG(AA16))/LOG(2))))","v":-0.19667660678508753},null,{"$f":"N16","v":2112},{"$f":"COUNTIF(L54:L76,AD16)","v":3},{"$f":"AE16/(AG4-AE20)","v":0.13043478260869565},{"$f":"IF(AF16=0,0,(AF16*((LOG(AF16))/LOG(2))))","v":-0.3832955811307639},null,{"$f":"N16","v":2112},{"$f":"COUNTIF(L77:L99,AI16)","v":3},{"$f":"AJ16/(AL4-AJ20)","v":0.13043478260869565},{"$f":"IF(AK16=0,0,(AK16*((LOG(AK16))/LOG(2))))","v":-0.3832955811307639},null,{"$f":"N16","v":2112},{"$f":"COUNTIF(L100:L123,AN16)","v":2},{"$f":"AO16/(AQ4-AO20)","v":8.6956521739130432E-2},{"$f":"IF(AP16=0,0,(AP16*((LOG(AP16))/LOG(2))))","v":-0.30639669183104457},null,{"$f":"N16","v":2112},{"$f":"COUNTIF(L124:L146,AS16)","v":4},{"$f":"AT16/(AV4-AT20)","v":0.18181818181818182},{"$f":"IF(AU16=0,0,(AU16*((LOG(AU16))/LOG(2))))","v":-0.44716938520678134}]
[12,1889,14,1894,24,1907,14,1924,null,null,0,1121,null,2121,{"$f":"COUNTIF($L$7:$L$500,N17)","v":4},{"$f":"O17/$Q$4","v":2.8571428571428571E-2},{"$f":"IF(P17=0,0,(P17*((LOG(P17))/LOG(2))))","v":-0.14655094334128474},null,null,{"$f":"N17","v":2121},{"$f":"COUNTIF(L7:L29,T17)","v":1},{"$f":"U17/(W4-U20)","v":4.3478260869565216E-2},{"$f":"IF(V17=0,0,(V17*((LOG(V17))/LOG(2))))","v":-0.19667660678508753},null,{"$f":"N17","v":2121},{"$f":"COUNTIF(L30:L53,Y17)","v":0},{"$f":"Z17/(AB4-Z20)","v":0},{"$f":"IF(AA17=0,0,(AA17*((LOG(AA17))/LOG(2))))","v":0},null,{"$f":"N17","v":2121},{"$f":"COUNTIF(L54:L76,AD17)","v":1},{"$f":"AE17/(AG4-AE20)","v":4.3478260869565216E-2},{"$f":"IF(AF17=0,0,(AF17*((LOG(AF17))/LOG(2))))","v":-0.19667660678508753},null,{"$f":"N17","v":2121},{"$f":"COUNTIF(L77:L99,AI17)","v":0},{"$f":"AJ17/(AL4-AJ20)","v":0},{"$f":"IF(AK17=0,0,(AK17*((LOG(AK17))/LOG(2))))","v":0},null,{"$f":"N17","v":2121},{"$f":"COUNTIF(L100:L123,AN17)","v":0},{"$f":"AO17/(AQ4-AO20)","v":0},{"$f":"IF(AP17=0,0,(AP17*((LOG(AP17))/LOG(2))))","v":0},null,{"$f":"N17","v":2121},{"$f":"COUNTIF(L124:L146,AS17)","v":2},{"$f":"AT17/(AV4-AT20)","v":9.0909090909090912E-2},{"$f":"IF(AU17=0,0,(AU17*((LOG(AU17))/LOG(2))))","v":-0.31449378351248153}]
[12,2049,14,2054,13,2059,14,2064,null,null,0,1111,null,2122,{"$f":"COUNTIF($L$7:$L$500,N18)","v":8},{"$f":"O18/$Q$4","v":5.7142857142857141E-2},{"$f":"IF(P18=0,0,(P18*((LOG(P18))/LOG(2))))","v":-0.23595902953971234},null,null,{"$f":"N18","v":2122},{"$f":"COUNTIF(L7:L29,T18)","v":1},{"$f":"U18/(W4-U20)","v":4.3478260869565216E-2},{"$f":"IF(V18=0,0,(V18*((LOG(V18))/LOG(2))))","v":-0.19667660678508753},null,{"$f":"N18","v":2122},{"$f":"COUNTIF(L30:L53,Y18)","v":2},{"$f":"Z18/(AB4-Z20)","v":8.6956521739130432E-2},{"$f":"IF(AA18=0,0,(AA18*((LOG(AA18))/LOG(2))))","v":-0.30639669183104457},null,{"$f":"N18","v":2122},{"$f":"COUNTIF(L54:L76,AD18)","v":2},{"$f":"AE18/(AG4-AE20)","v":8.6956521739130432E-2},{"$f":"IF(AF18=0,0,(AF18*((LOG(AF18))/LOG(2))))","v":-0.30639669183104457},null,{"$f":"N18","v":2122},{"$f":"COUNTIF(L77:L99,AI18)","v":1},{"$f":"AJ18/(AL4-AJ20)","v":4.3478260869565216E-2},{"$f":"IF(AK18=0,0,(AK18*((LOG(AK18))/LOG(2))))","v":-0.19667660678508753},null,{"$f":"N18","v":2122},{"$f":"COUNTIF(L100:L123,AN18)","v":0},{"$f":"AO18/(AQ4-AO20)","v":0},{"$f":"IF(AP18=0,0,(AP18*((LOG(AP18))/LOG(2))))","v":0},null,{"$f":"N18","v":2122},{"$f":"COUNTIF(L124:L146,AS18)","v":2},{"$f":"AT18/(AV4-AT20)","v":9.0909090909090912E-2},{"$f":"IF(AU18=0,0,(AU18*((LOG(AU18))/LOG(2))))","v":-0.31449378351248153}]
[21,2197,12,2217,13,2233,14,2238,null,null,0,2111,null,2211,{"$f":"COUNTIF($L$7:$L$500,N19)","v":6},{"$f":"O19/$Q$4","v":4.2857142857142858E-2},{"$f":"IF(P19=0,0,(P19*((LOG(P19))/LOG(2))))","v":-0.19475659355244901},null,null,{"$f":"N19","v":2211},{"$f":"COUNTIF(L7:L29,T19)","v":1},{"$f":"U19/(W4-U20)","v":4.3478260869565216E-2},{"$f":"IF(V19=0,0,(V19*((LOG(V19))/LOG(2))))","v":-0.19667660678508753},null,{"$f":"N19","v":2211},{"$f":"COUNTIF(L30:L53,Y19)","v":3},{"$f":"Z19/(AB4-Z20)","v":0.13043478260869565},{"$f":"IF(AA19=0,0,(AA19*((LOG(AA19))/LOG(2))))","v":-0.3832955811307639},null,{"$f":"N19","v":2211},{"$f":"COUNTIF(L54:L76,AD19)","v":2},{"$f":"AE19/(AG4-AE20)","v":8.6956521739130432E-2},{"$f":"IF(AF19=0,0,(AF19*((LOG(AF19))/LOG(2))))","v":-0.30639669183104457},null,{"$f":"N19","v":2211},{"$f":"COUNTIF(L77:L99,AI19)","v":0},{"$f":"AJ19/(AL4-AJ20)","v":0},{"$f":"IF(AK19=0,0,(AK19*((LOG(AK19))/LOG(2))))","v":0},null,{"$f":"N19","v":2211},{"$f":"COUNTIF(L100:L123,AN19)","v":0},{"$f":"AO19/(AQ4-AO20)","v":0},{"$f":"IF(AP19=0,0,(AP19*((LOG(AP19))/LOG(2))))","v":0},null,{"$f":"N19","v":2211},{"$f":"COUNTIF(L124:L146,AS19)","v":0},{"$f":"AT19/(AV4-AT20)","v":0},{"$f":"IF(AU19=0,0,(AU19*((LOG(AU19))/LOG(2))))","v":0}]
[12,2380,14,2385,13,2390,14,2394,null,null,0,1111,null,2212,{"$f":"COUNTIF($L$7:$L$500,N20)","v":3},{"$f":"O20/$Q$4","v":2.1428571428571429E-2},{"$f":"IF(P20=0,0,(P20*((LOG(P20))/LOG(2))))","v":-0.11880686820479594},null,null,{"$f":"N20","v":2212},{"$f":"COUNTIF(L7:L29,T20)","v":0},null,null,null,{"$f":"N20","v":2212},{"$f":"COUNTIF(L30:L53,Y20)","v":1},null,null,null,{"$f":"N20","v":2212},{"$f":"COUNTIF(L54:L76,AD20)","v":0},null,null,null,{"$f":"N20","v":2212},{"$f":"COUNTIF(L77:L99,AI20)","v":0},null,null,null,{"$f":"N20","v":2212},{"$f":"COUNTIF(L100:L123,AN20)","v":1},null,null,null,{"$f":"N20","v":2212},{"$f":"COUNTIF(L124:L146,AS20)","v":1}]
[12,2537,14,2541,13,2551,14,2558,null,null,0,1111,null,2221,{"$f":"COUNTIF($L$7:$L$500,N21)","v":3},{"$f":"O21/$Q$4","v":2.1428571428571429E-2},{"$f":"IF(P21=0,0,(P21*((LOG(P21))/LOG(2))))","v":-0.11880686820479594},null,null,{"$f":"N21","v":2221},{"$f":"COUNTIF(L7:L29,T21)","v":0},{"$f":"U21/(W4-U20)","v":0},{"$f":"IF(V21=0,0,(V21*((LOG(V21))/LOG(2))))","v":0},null,{"$f":"N21","v":2221},{"$f":"COUNTIF(L30:L53,Y21)","v":1},{"$f":"Z21/(AB4-Z20)","v":4.3478260869565216E-2},{"$f":"IF(AA21=0,0,(AA21*((LOG(AA21))/LOG(2))))","v":-0.19667660678508753},null,{"$f":"N21","v":2221},{"$f":"COUNTIF(L54:L76,AD21)","v":1},{"$f":"AE21/(AG4-AE20)","v":4.3478260869565216E-2},{"$f":"IF(AF21=0,0,(AF21*((LOG(AF21))/LOG(2))))","v":-0.19667660678508753},null,{"$f":"N21","v":2221},{"$f":"COUNTIF(L77:L99,AI21)","v":1},{"$f":"AJ21/(AL4-AJ20)","v":4.3478260869565216E-2},{"$f":"IF(AK21=0,0,(AK21*((LOG(AK21))/LOG(2))))","v":-0.19667660678508753},null,{"$f":"N21","v":2221},{"$f":"COUNTIF(L100:L123,AN21)","v":0},{"$f":"AO21/(AQ4-AO20)","v":0},{"$f":"IF(AP21=0,0,(AP21*((LOG(AP21))/LOG(2))))","v":0},null,{"$f":"N21","v":2221},{"$f":"COUNTIF(L124:L146,AS21)","v":0},{"$f":"AT21/(AV4-AT20)","v":0},{"$f":"IF(AU21=0,0,(AU21*((LOG(AU21))/LOG(2))))","v":0}]
[21,2684,12,2700,24,2734,14,2758,null,null,0,2121,null,2222,{"$f":"COUNTIF($L$7:$L$500,N22)","v":0},{"$f":"O22/$Q$4","v":0},{"$f":"IF(P22=0,0,(P22*((LOG(P22))/LOG(2))))","v":0},null,null,{"$f":"N22","v":2222},{"$f":"COUNTIF(L7:L29,T22)","v":0},{"$f":"U22/(W4-U20)","v":0},{"$f":"IF(V22=0,0,(V22*((LOG(V22))/LOG(2))))","v":0},null,{"$f":"N22","v":2222},{"$f":"COUNTIF(L30:L53,Y22)","v":0},{"$f":"Z22/(AB4-Z20)","v":0},{"$f":"IF(AA22=0,0,(AA22*((LOG(AA22))/LOG(2))))","v":0},null,{"$f":"N22","v":2222},{"$f":"COUNTIF(L54:L76,AD22)","v":0},{"$f":"AE22/(AG4-AE20)","v":0},{"$f":"IF(AF22=0,0,(AF22*((LOG(AF22))/LOG(2))))","v":0},null,{"$f":"N22","v":2222},{"$f":"COUNTIF(L77:L99,AI22)","v":0},{"$f":"AJ22/(AL4-AJ20)","v":0},{"$f":"IF(AK22=0,0,(AK22*((LOG(AK22))/LOG(2))))","v":0},null,{"$f":"N22","v":2222},{"$f":"COUNTIF(L100:L123,AN22)","v":0},{"$f":"AO22/(AQ4-AO20)","v":0},{"$f":"IF(AP22=0,0,(AP22*((LOG(AP22))/LOG(2))))","v":0},null,{"$f":"N22","v":2222},{"$f":"COUNTIF(L124:L146,AS22)","v":0},{"$f":"AT22/(AV4-AT20)","v":0},{"$f":"IF(AU22=0,0,(AU22*((LOG(AU22))/LOG(2))))","v":0}]
[21,2874,21,2885,11,2900,12,2904,null,null,0,2211,null,null,null,{"$f":"SUM(P7:P22)","v":1},{"$f":"-SUM(Q7:Q22)","v":3.6063444650672181},null,null,null,null,{"$f":"SUM(V7:V22)","v":0.99999999999999978},{"$f":"-SUM(W7:W22)","v":2.9594676755771396},null,null,null,{"$f":"SUM(AA7:AA22)","v":0.99999999999999989},{"$f":"-SUM(AB7:AB22)","v":3.0136030015700319},null,null,null,{"$f":"SUM(AF7:AF22)","v":1},{"$f":"-SUM(AG7:AG22)","v":3.327484781955842},null,null,null,{"$f":"SUM(AK7:AK22)","v":0.99999999999999989},{"$f":"-SUM(AL7:AL22)","v":3.3816201079487347},null,null,null,{"$f":"SUM(AP7:AP22)","v":0.99999999999999978},{"$f":"-SUM(AQ7:AQ22)","v":2.6469854578513532},null,null,null,{"$f":"SUM(AU7:AU22)","v":1.0000000000000002},{"$f":"-SUM(AV7:AV22)","v":3.2089873002588001}]
[21,3014,12,3026,13,3031,14,3036,null,null,0,2111,null,null,null,"U=",{"$f":"Q23/(LOG(Q4)/LOG(2))","v":0.50584953023966284},null,null,null,null,"U1=",{"$f":"W23/(LOG(W4)/LOG(2))","v":0.6542339210396878},null,null,null,"U2=",{"$f":"AB23/(LOG(AB4)/LOG(2))","v":0.65727974898290453},null,null,null,"U3=",{"$f":"AG23/(LOG(AG4)/LOG(2))","v":0.73558952309702896},null,null,null,"U4=",{"$f":"AL23/(LOG(AL4)/LOG(2))","v":0.74755693429174164},null,null,null,"U5=",{"$f":"AQ23/(LOG(AQ4)/LOG(2))","v":0.57731888918066754},null,null,null,"U6=",{"$f":"AV23/(LOG(AV4)/LOG(2))","v":0.70939390936427693}]
[21,3147,12,3172,13,3181,14,3190,null,null,0,2111]
[12,3315,14,3319,13,3324,14,3333,null,null,0,1111]
[21,3448,12,3462,13,3466,23,3490,null,null,0,2112,null,"Total Target Seq"]
[21,3597,12,3622,13,3627,14,3631,null,null,0,2111,null,{"$f":"COUNTIF(L7:L146,G3)","v":3},null,23,24,23,23,24,23]
[21,3759,12,3770,13,3774,14,3784,null,null,0,2111,null,null,null,"% of reinforcement given in 6 equal intervals based on number of trials "]
[12,3911,14,3916,13,3921,14,3926,null,null,0,1111,null,null,null,"%_1","%_2","%_3","%_4","%_5","%_6"]
[12,4099,14,4104,13,4110,14,4140,null,null,0,1111,null,null,"target sequence",{"$f":"$G$3","v":2212},{"$f":"$G$3","v":2212},{"$f":"$G$3","v":2212},{"$f":"$G$3","v":2212},{"$f":"$G$3","v":2212},{"$f":"$G$3","v":2212}]
[12,4264,23,4278,13,4297,14,4302,null,null,0,1211,null,null,"total reinforcement",{"$f":"U20","v":0},{"$f":"Z20","v":1},{"$f":"AE20","v":0},{"$f":"AJ20","v":0},{"$f":"AO20","v":1},{"$f":"AT20","v":1}]
[21,4402,21,4412,22,4418,14,4431,null,null,0,2221,null,null,"% target"]
[12,4556,14,4561,13,4576,14,4581,null,null,0,1111,null,null,"CCRF"]
[21,4699,12,4711,13,4716,23,4733,null,null,0,2112,null,null,"% CCRf"]
[12,4908,14,4914,24,4935,23,4948,null,null,0,1122,null,null,"average response rate",{"$f":"H29/P28","v":164.52173913043478},{"$f":"(H53-H29)/Q28","v":179.33333333333334},{"$f":"(H76-H53)/R28","v":171.91304347826087},{"$f":"(H99-H76)/S28","v":172.30434782608697},{"$f":"(H123-H99)/T28","v":168.5},{"$f":"(H146-H123)/U28","v":168.95652173913044}]
[21,5048,21,5108,11,5122,12,5130,null,null,0,2211]
[21,5239,21,5257,11,5274,12,5279,null,null,0,2211]
[21,5426,21,5445,11,5461,12,5465,null,null,0,2211]
[21,5711,12,5730,24,5750,23,5778,null,null,0,2122]
[21,5934,21,5974,11,6004,21,6016,null,null,0,2212]
[12,6120,14,6126,24,6146,14,6162,null,null,0,1121]
[12,6300,23,6312,13,6325,14,6330,null,null,0,1211]
[12,6476,14,6510,13,6515,14,6520,null,null,0,1111]
[12,6680,23,6696,13,6711,14,6716,null,null,0,1211]
[12,6839,14,6846,24,6863,14,6878,null,null,0,1121]
[12,7030,14,7043,13,7048,23,7057,null,null,0,1112]
[12,7248,14,7254,24,7271,14,7287,null,null,0,1121]
[12,7412,14,7423,24,7439,14,7463,null,null,0,1121]
[21,7578,12,7598,24,7612,23,7617,null,null,0,2122]
[12,7772,14,7776,13,7780,14,7785,null,null,0,1111]
[21,7900,12,7918,13,7923,14,7927,null,null,0,2111]
[12,8052,14,8058,24,8070,14,8088,null,null,0,1121]
[21,8216,12,8235,13,8240,23,8253,null,null,0,2112]
[12,8378,14,8383,24,8397,14,8413,null,null,0,1121]
[12,8527,14,8533,24,8546,23,8551,null,null,0,1122]
[12,8715,14,8720,24,8733,23,8742,null,null,0,1122]
[12,8866,14,8872,13,8877,14,8881,null,null,0,1111]
[12,9004,14,9009,24,9022,23,9031,null,null,0,1122]
[12,9193,23,9205,13,9223,14,9233,null,null,0,1211]
[12,9347,14,9351,24,9368,14,9383,null,null,0,1121]
[12,9523,14,9528,13,9534,14,9540,null,null,0,1111]
[12,9672,23,9685,13,9720,14,9726,null,null,0,1211]
[12,9827,14,9832,24,9846,23,9854,null,null,0,1122]
[21,10045,12,10060,24,10073,14,10097,null,null,0,2121]
[21,10297,12,10320,13,10324,14,10330,null,null,0,2111]
[21,10456,12,10471,13,10476,23,10493,null,null,0,2112]
[12,10605,23,10615,24,10620,14,10641,null,null,0,1221]
[21,10750,21,10758,11,10773,12,10777,null,null,0,2211]
[12,10902,23,10934,13,10954,14,10960,null,null,0,1211]
[21,11072,21,11093,11,11113,12,11118,null,null,0,2211]
[21,11222,12,11246,24,11267,23,11278,null,null,0,2122]
[12,11485,23,11508,24,11530,14,11547,null,null,0,1221]
[21,11645,21,11672,22,11691,14,11714,null,null,0,2221]
[21,11839,12,11858,13,11864,23,11877,null,null,0,2112]
[21,11996,12,12017,24,12029,23,12042,null,null,0,2122]
[12,12148,14,12183,13,12188,14,12192,null,null,0,1111]
[21,12298,12,12313,24,12325,23,12337,null,null,0,2122]
[12,12436,14,12465,13,12470,23,12486,null,null,0,1112]
[12,12608,23,12622,24,12628,14,12646,null,null,0,1221]
[21,12759,12,12772,13,12777,23,12794,null,null,0,2112]
[12,12926,14,12932,24,12944,23,12958,null,null,0,1122]
[21,13075,21,13108,22,13114,14,13131,null,null,0,2221]
[12,13250,14,13255,13,13265,14,13270,null,null,0,1111]
[21,13415,12,13429,13,13435,23,13446,null,null,0,2112]
[12,13556,23,13590,13,13605,14,13610,null,null,0,1211]
[12,13731,23,13739,24,13757,23,13774,null,null,0,1222]
[12,13895,14,13900,24,13911,23,13916,null,null,0,1122]
[12,14097,23,14110,24,14115,14,14128,null,null,0,1221]
[12,14311,14,14316,13,14321,23,14335,null,null,0,1112]
[12,14548,23,14567,13,14581,23,14594,null,null,0,1212]
[21,14737,12,14751,13,14757,23,14769,null,null,0,2112]
[12,14910,14,14922,13,14927,23,14941,null,null,0,1112]
[12,15064,14,15072,13,15077,23,15098,null,null,0,1112]
[12,15277,14,15283,24,15296,23,15305,null,null,0,1122]
[12,15443,23,15456,13,15470,14,15474,null,null,0,1211]
[12,15666,14,15671,24,15680,14,15704,null,null,0,1121]
[21,15842,12,15859,13,15864,14,15869,null,null,0,2111]
[12,15993,14,15997,13,16001,14,16005,null,null,0,1111]
[12,16164,14,16201,24,16215,23,16230,null,null,0,1122]
[12,16403,14,16413,13,16417,23,16431,null,null,0,1112]
[12,16632,14,16643,13,16658,14,16663,null,null,0,1111]
[21,16837,12,16854,13,16861,23,16873,null,null,0,2112]
[12,17008,14,17013,13,17041,23,17053,null,null,0,1112]
[12,17162,14,17187,13,17192,23,17204,null,null,0,1112]
[12,17368,14,17373,24,17383,14,17400,null,null,0,1121]
[21,17505,21,17510,11,17526,21,17538,null,null,0,2212]
[12,17641,23,17677,13,17690,23,17701,null,null,0,1212]
[12,17811,14,17816,13,17850,23,17861,null,null,0,1112]
[12,17961,14,17978,24,17992,14,18009,null,null,0,1121]
[12,18119,23,18136,13,18150,14,18155,null,null,0,1211]
[12,18257,14,18266,24,18277,23,18282,null,null,0,1122]
[12,18383,14,18387,13,18392,14,18410,null,null,0,1111]
[12,18509,14,18515,13,18525,23,18537,null,null,0,1112]
[12,18641,14,18646,24,18665,14,18676,null,null,0,1121]
[12,18806,14,18811,24,18823,14,18837,null,null,0,1121]
[12,18950,23,18962,13,18981,14,18985,null,null,0,1211]
[12,19118,23,19130,24,19136,14,19153,null,null,0,1221]
[21,19265,12,19277,13,19283,23,19294,null,null,0,2112]
[12,19427,14,19435,24,19454,14,19473,null,null,0,1121]
[12,19584,14,19613,24,19626,14,19643,null,null,0,1121]
[12,19753,14,19754,24,19771,14,19785,null,null,0,1121]
[12,20010,14,20017,13,20022,23,20049,null,null,0,1112]
[21,20177,12,20193,13,20199,23,20212,null,null,0,2112]
[12,20320,14,20321,13,20347,14,20352,null,null,0,1111]
[12,20454,14,20471,13,20479,23,20496,null,null,0,1112]
[12,20597,14,20601,13,20638,23,20662,null,null,0,1112]
[12,20781,14,20786,24,20800,23,20805,null,null,0,1122]
[12,20907,14,20913,13,20918,14,20951,null,null,0,1111]
[12,21108,23,21129,13,21145,23,21158,null,null,0,1212]
[21,21269,12,21284,13,21290,23,21302,null,null,0,2112]
[21,21418,12,21434,24,21456,23,21464,null,null,0,2122]
[21,21576,12,21592,24,21608,14,21623,null,null,0,2121]
[12,21849,14,21855,13,21866,14,21872,null,null,0,1111]
[12,22073,23,22090,24,22104,14,22120,null,null,0,1221]
[12,22240,14,22246,24,22257,14,22271,null,null,0,1121]
[12,22393,23,22409,24,22416,14,22428,null,null,0,1221]
[21,22530,12,22547,13,22552,23,22565,null,null,0,2112]
[21,22677,12,22693,24,22714,23,22724,null,null,0,2122]
[21,22907,21,22913,11,22935,21,22953,null,null,0,2212]
[12,23048,23,23061,13,23078,23,23091,null,null,0,1212]
[21,23328,12,23346,24,23360,14,23375,null,null,0,2121]
[12,23479,14,23506,13,23511,23,23523,null,null,0,1112]
[12,23630,23,23642,13,23656,14,23660,null,null,0,1211]
[21,23755,12,23769,13,23773,23,23789,null,null,0,2112]
[12,23898,14,23903,24,23922,14,23935,null,null,null,1121]

{"sheet":"!N117910.092","index":20,"n_rows":146,"n_cols":48,"rows_kept":146,"cut":false,"hidden":false,"merged":[[4,39,4,42],[5,39,5,40],[4,44,4,47],[5,44,5,45],[4,24,4,27],[5,24,5,25],[4,29,4,32],[5,29,5,30],[4,34,4,37],[5,34,5,35],[1,1,1,2],[5,13,5,14],[26,13,26,14],[27,13,27,14],[4,19,4,22],[5,19,5,20]]}
["Report for:!N117910.092"]
["Date:","<date>"]
["Hen:","<hen>",null,null,null,"Correct Sequence",{"$f":"Start!J2","v":2212},null,null,null,null,null,null,null,null,"Total Sequences in Data",{"$f":"4994-COUNTBLANK(L7:L5000)","v":140},null,null,null,null,"Total Sequences in Block Data",{"$f":"COUNTA(L7:L29)","v":23},null,null,null,"Total Sequences in Block Data",{"$f":"COUNTA(L30:L53)","v":24},null,null,null,"Total Sequences in Block Data",{"$f":"COUNTA(L54:L76)","v":23},null,null,null,"Total Sequences in Block Data",{"$f":"COUNTA(L77:L99)","v":23},null,null,null,"Total Sequences in Block Data",{"$f":"COUNTA(L100:L123)","v":24},null,null,null,"Total Sequences in Block Data",{"$f":"COUNTA(L124:L146)","v":23}]
[null,null,null,null,null,null,null,null,null,null,null,null,null,null,null,"Total Sequences in Summary",{"$f":"SUM(O7:O22)","v":140},null,null,null,null,"Total Sequences in Block Summary",{"$f":"SUM(U7:U22)","v":23},null,null,null,"Total Sequences in Block Summary",{"$f":"SUM(Z7:Z22)","v":24},null,null,null,"Total Sequences in Block Summary",{"$f":"SUM(AE7:AE22)","v":23},null,null,null,"Total Sequences in Block Summary",{"$f":"SUM(AJ7:AJ22)","v":23},null,null,null,"Total Sequences in Block Summary",{"$f":"SUM(AO7:AO22)","v":24},null,null,null,"Total Sequences in Block Summary",{"$f":"SUM(AT7:AT22)","v":23}]
[null,null,null,null,null,null,null,null,null,null,null,null,null,null,null,null,null,null,null,"Block 1",null,null,null,null,"Block 2",null,null,null,null,"Block 3",null,null,null,null,"Block 4",null,null,null,null,"Block 5",null,null,null,null,"Block 6"]
["Sequence\nComponent\n1","Time\n1","Sequence\nComponent\n2","Time\n2","Sequence\nComponent\n3","Time\n3","Sequence\nComponent\n4","Time\n4","Sequence\nComponent\n5","Time\n5","Correct?\n0=No 1=Yes","Sequence",null,"Frequency",null,"Relative Frequency","Variability",null,null,"Frequency",null,"Relative Frequency","Variability",null,"Frequency",null,"Relative Frequency","Variability",null,"Frequency",null,"Relative Frequency","Variability",null,"Frequency",null,"Relative Frequency","Variability",null,"Frequency",null,"Relative Frequency","Variability",null,"Frequency",null,"Relative Frequency","Variability"]
[12,55,23,109,13,125,23,138,null,null,0,1212,null,1111,{"$f":"COUNTIF($L$7:$L$500,N7)","v":10},{"$f":"O7/$Q$4","v":7.1428571428571425E-2},{"$f":"IF(P7=0,0,(P7*((LOG(P7))/LOG(2))))","v":-0.27195392300411453},null,null,{"$f":"N7","v":1111},{"$f":"COUNTIF(L7:L29,T7)","v":1},{"$f":"U7/(W4-U20)","v":4.3478260869565216E-2},{"$f":"IF(V7=0,0,(V7*((LOG(V7))/LOG(2))))","v":-0.19667660678508753},null,{"$f":"N7","v":1111},{"$f":"COUNTIF(L30:L53,Y7)","v":1},{"$f":"Z7/(AB4-Z20)","v":4.3478260869565216E-2},{"$f":"IF(AA7=0,0,(AA7*((LOG(AA7))/LOG(2))))","v":-0.19667660678508753},null,{"$f":"N7","v":1111},{"$f":"COUNTIF(L54:L76,AD7)","v":3},{"$f":"AE7/(AG4-AE20)","v":0.13043478260869565},{"$f":"IF(AF7=0,0,(AF7*((LOG(AF7))/LOG(2))))","v":-0.3832955811307639},null,{"$f":"N7","v":1111},{"$f":"COUNTIF(L77:L99,AI7)","v":0},{"$f":"AJ7/(AL4-AJ20)","v":0},{"$f":"IF(AK7=0,0,(AK7*((LOG(AK7))/LOG(2))))","v":0},null,{"$f":"N7","v":1111},{"$f":"COUNTIF(L100:L123,AN7)","v":5},{"$f":"AO7/(AQ4-AO20)","v":0.21739130434782608},{"$f":"IF(AP7=0,0,(AP7*((LOG(AP7))/LOG(2))))","v":-0.47861605677601093},null,{"$f":"N7","v":1111},{"$f":"COUNTIF(L124:L146,AS7)","v":0},{"$f":"AT7/(AV4-AT20)","v":0},{"$f":"IF(AU7=0,0,(AU7*((LOG(AU7))/LOG(2))))","v":0}]
[12,288,23,303,24,309,14,325,null,null,0,1221,null,1112,{"$f":"COUNTIF($L$7:$L$500,N8)","v":12},{"$f":"O8/$Q$4","v":8.5714285714285715E-2},{"$f":"IF(P8=0,0,(P8*((LOG(P8))/LOG(2))))","v":-0.30379890139061233},null,null,{"$f":"N8","v":1112},{"$f":"COUNTIF(L7:L29,T8)","v":3},{"$f":"U8/(W4-U20)","v":0.13043478260869565},{"$f":"IF(V8=0,0,(V8*((LOG(V8))/LOG(2))))","v":-0.3832955811307639},null,{"$f":"N8","v":1112},{"$f":"COUNTIF(L30:L53,Y8)","v":0},{"$f":"Z8/(AB4-Z20)","v":0},{"$f":"IF(AA8=0,0,(AA8*((LOG(AA8))/LOG(2))))","v":0},null,{"$f":"N8","v":1112},{"$f":"COUNTIF(L54:L76,AD8)","v":2},{"$f":"AE8/(AG4-AE20)","v":8.6956521739130432E-2},{"$f":"IF(AF8=0,0,(AF8*((LOG(AF8))/LOG(2))))","v":-0.30639669183104457},null,{"$f":"N8","v":1112},{"$f":"COUNTIF(L77:L99,AI8)","v":2},{"$f":"AJ8/(AL4-AJ20)","v":8.6956521739130432E-2},{"$f":"IF(AK8=0,0,(AK8*((LOG(AK8))/LOG(2))))","v":-0.30639669183104457},null,{"$f":"N8","v":1112},{"$f":"COUNTIF(L100:L123,AN8)","v":0},{"$f":"AO8/(AQ4-AO20)","v":0},{"$f":"IF(AP8=0,0,(AP8*((LOG(AP8))/LOG(2))))","v":0},null,{"$f":"N8","v":1112},{"$f":"COUNTIF(L124:L146,AS8)","v":5},{"$f":"AT8/(AV4-AT20)","v":0.21739130434782608},{"$f":"IF(AU8=0,0,(AU8*((LOG(AU8))/LOG(2))))","v":-0.47861605677601093}]
[12,445,14,449,24,462,14,476,null,null,0,1121,null,1121,{"$f":"COUNTIF($L$7:$L$500,N9)","v":14},{"$f":"O9/$Q$4","v":0.1},{"$f":"IF(P9=0,0,(P9*((LOG(P9))/LOG(2))))","v":-0.33219280948873625},null,null,{"$f":"N9","v":1121},{"$f":"COUNTIF(L7:L29,T9)","v":2},{"$f":"U9/(W4-U20)","v":8.6956521739130432E-2},{"$f":"IF(V9=0,0,(V9*((LOG(V9))/LOG(2))))","v":-0.30639669183104457},null,{"$f":"N9","v":1121},{"$f":"COUNTIF(L30:L53,Y9)","v":1},{"$f":"Z9/(AB4-Z20)","v":4.3478260869565216E-2},{"$f":"IF(AA9=0,0,(AA9*((LOG(AA9))/LOG(2))))","v":-0.19667660678508753},null,{"$f":"N9","v":1121},{"$f":"COUNTIF(L54:L76,AD9)","v":5},{"$f":"AE9/(AG4-AE20)","v":0.21739130434782608},{"$f":"IF(AF9=0,0,(AF9*((LOG(AF9))/LOG(2))))","v":-0.47861605677601093},null,{"$f":"N9","v":1121},{"$f":"COUNTIF(L77:L99,AI9)","v":1},{"$f":"AJ9/(AL4-AJ20)","v":4.3478260869565216E-2},{"$f":"IF(AK9=0,0,(AK9*((LOG(AK9))/LOG(2))))","v":-0.19667660678508753},null,{"$f":"N9","v":1121},{"$f":"COUNTIF(L100:L123,AN9)","v":3},{"$f":"AO9/(AQ4-AO20)","v":0.13043478260869565},{"$f":"IF(AP9=0,0,(AP9*((LOG(AP9))/LOG(2))))","v":-0.3832955811307639},null,{"$f":"N9","v":1121},{"$f":"COUNTIF(L124:L146,AS9)","v":2},{"$f":"AT9/(AV4-AT20)","v":8.6956521739130432E-2},{"$f":"IF(AU9=0,0,(AU9*((LOG(AU9))/LOG(2))))","v":-0.30639669183104457}]
[21,603,12,618,24,635,14,650,null,null,0,2121,null,1122,{"$f":"COUNTIF($L$7:$L$500,N10)","v":15},{"$f":"O10/$Q$4","v":0.10714285714285714},{"$f":"IF(P10=0,0,(P10*((LOG(P10))/LOG(2))))","v":-0.34525633085747659},null,null,{"$f":"N10","v":1122},{"$f":"COUNTIF(L7:L29,T10)","v":4},{"$f":"U10/(W4-U20)","v":0.17391304347826086},{"$f":"IF(V10=0,0,(V10*((LOG(V10))/LOG(2))))","v":-0.43888034018382832},null,{"$f":"N10","v":1122},{"$f":"COUNTIF(L30:L53,Y10)","v":1},{"$f":"Z10/(AB4-Z20)","v":4.3478260869565216E-2},{"$f":"IF(AA10=0,0,(AA10*((LOG(AA10))/LOG(2))))","v":-0.19667660678508753},null,{"$f":"N10","v":1122},{"$f":"COUNTIF(L54:L76,AD10)","v":3},{"$f":"AE10/(AG4-AE20)","v":0.13043478260869565},{"$f":"IF(AF10=0,0,(AF10*((LOG(AF10))/LOG(2))))","v":-0.3832955811307639},null,{"$f":"N10","v":1122},{"$f":"COUNTIF(L77:L99,AI10)","v":1},{"$f":"AJ10/(AL4-AJ20)","v":4.3478260869565216E-2},{"$f":"IF(AK10=0,0,(AK10*((LOG(AK10))/LOG(2))))","v":-0.19667660678508753},null,{"$f":"N10","v":1122},{"$f":"COUNTIF(L100:L123,AN10)","v":5},{"$f":"AO10/(AQ4-AO20)","v":0.21739130434782608},{"$f":"IF(AP10=0,0,(AP10*((LOG(AP10))/LOG(2))))","v":-0.47861605677601093},null,{"$f":"N10","v":1122},{"$f":"COUNTIF(L124:L146,AS10)","v":1},{"$f":"AT10/(AV4-AT20)","v":4.3478260869565216E-2},{"$f":"IF(AU10=0,0,(AU10*((LOG(AU10))/LOG(2))))","v":-0.19667660678508753}]
[12,909,14,938,24,951,14,967,null,null,0,1121,null,1211,{"$f":"COUNTIF($L$7:$L$500,N11)","v":10},{"$f":"O11/$Q$4","v":7.1428571428571425E-2},{"$f":"IF(P11=0,0,(P11*((LOG(P11))/LOG(2))))","v":-0.27195392300411453},null,null,{"$f":"N11","v":1211},{"$f":"COUNTIF(L7:L29,T11)","v":0},{"$f":"U11/(W4-U20)","v":0},{"$f":"IF(V11=0,0,(V11*((LOG(V11))/LOG(2))))","v":0},null,{"$f":"N11","v":1211},{"$f":"COUNTIF(L30:L53,Y11)","v":2},{"$f":"Z11/(AB4-Z20)","v":8.6956521739130432E-2},{"$f":"IF(AA11=0,0,(AA11*((LOG(AA11))/LOG(2))))","v":-0.30639669183104457},null,{"$f":"N11","v":1211},{"$f":"COUNTIF(L54:L76,AD11)","v":2},{"$f":"AE11/(AG4-AE20)","v":8.6956521739130432E-2},{"$f":"IF(AF11=0,0,(AF11*((LOG(AF11))/LOG(2))))","v":-0.30639669183104457},null,{"$f":"N11","v":1211},{"$f":"COUNTIF(L77:L99,AI11)","v":3},{"$f":"AJ11/(AL4-AJ20)","v":0.13043478260869565},{"$f":"IF(AK11=0,0,(AK11*((LOG(AK11))/LOG(2))))","v":-0.3832955811307639},null,{"$f":"N11","v":1211},{"$f":"COUNTIF(L100:L123,AN11)","v":2},{"$f":"AO11/(AQ4-AO20)","v":8.6956521739130432E-2},{"$f":"IF(AP11=0,0,(AP11*((LOG(AP11))/LOG(2))))","v":-0.30639669183104457},null,{"$f":"N11","v":1211},{"$f":"COUNTIF(L124:L146,AS11)","v":1},{"$f":"AT11/(AV4-AT20)","v":4.3478260869565216E-2},{"$f":"IF(AU11=0,0,(AU11*((LOG(AU11))/LOG(2))))","v":-0.19667660678508753}]
[12,1077,14,1082,13,1087,23,1100,null,null,0,1112,null,1212,{"$f":"COUNTIF($L$7:$L$500,N12)","v":9},{"$f":"O12/$Q$4","v":6.4285714285714279E-2},{"$f":"IF(P12=0,0,(P12*((LOG(P12))/LOG(2))))","v":-0.25453015813945634},null,null,{"$f":"N12","v":1212},{"$f":"COUNTIF(L7:L29,T12)","v":3},{"$f":"U12/(W4-U20)","v":0.13043478260869565},{"$f":"IF(V12=0,0,(V12*((LOG(V12))/LOG(2))))","v":-0.3832955811307639},null,{"$f":"N12","v":1212},{"$f":"COUNTIF(L30:L53,Y12)","v":0},{"$f":"Z12/(AB4-Z20)","v":0},{"$f":"IF(AA12=0,0,(AA12*((LOG(AA12))/LOG(2))))","v":0},null,{"$f":"N12","v":1212},{"$f":"COUNTIF(L54:L76,AD12)","v":0},{"$f":"AE12/(AG4-AE20)","v":0},{"$f":"IF(AF12=0,0,(AF12*((LOG(AF12))/LOG(2))))","v":0},null,{"$f":"N12","v":1212},{"$f":"COUNTIF(L77:L99,AI12)","v":2},{"$f":"AJ12/(AL4-AJ20)","v":8.6956521739130432E-2},{"$f":"IF(AK12=0,0,(AK12*((LOG(AK12))/LOG(2))))","v":-0.30639669183104457},null,{"$f":"N12","v":1212},{"$f":"COUNTIF(L100:L123,AN12)","v":1},{"$f":"AO12/(AQ4-AO20)","v":4.3478260869565216E-2},{"$f":"IF(AP12=0,0,(AP12*((LOG(AP12))/LOG(2))))","v":-0.19667660678508753},null,{"$f":"N12","v":1212},{"$f":"COUNTIF(L124:L146,AS12)","v":3},{"$f":"AT12/(AV4-AT20)","v":0.13043478260869565},{"$f":"IF(AU12=0,0,(AU12*((LOG(AU12))/LOG(2))))","v":-0.3832955811307639}]
[12,1259,14,1264,13,1314,23,1329,null,null,0,1112,null,1221,{"$f":"COUNTIF($L$7:$L$500,N13)","v":6},{"$f":"O13/$Q$4","v":4.2857142857142858E-2},{"$f":"IF(P13=0,0,(P13*((LOG(P13))/LOG(2))))","v":-0.19475659355244901},null,null,{"$f":"N13","v":1221},{"$f":"COUNTIF(L7:L29,T13)","v":2},{"$f":"U13/(W4-U20)","v":8.6956521739130432E-2},{"$f":"IF(V13=0,0,(V13*((LOG(V13))/LOG(2))))","v":-0.30639669183104457},null,{"$f":"N13","v":1221},{"$f":"COUNTIF(L30:L53,Y13)","v":3},{"$f":"Z13/(AB4-Z20)","v":0.13043478260869565},{"$f":"IF(AA13=0,0,(AA13*((LOG(AA13))/LOG(2))))","v":-0.3832955811307639},null,{"$f":"N13","v":1221},{"$f":"COUNTIF(L54:L76,AD13)","v":1},{"$f":"AE13/(AG4-AE20)","v":4.3478260869565216E-2},{"$f":"IF(AF13=0,0,(AF13*((LOG(AF13))/LOG(2))))","v":-0.19667660678508753},null,{"$f":"N13","v":1221},{"$f":"COUNTIF(L77:L99,AI13)","v":0},{"$f":"AJ13/(AL4-AJ20)","v":0},{"$f":"IF(AK13=0,0,(AK13*((LOG(AK13))/LOG(2))))","v":0},null,{"$f":"N13","v":1221},{"$f":"COUNTIF(L100:L123,AN13)","v":0},{"$f":"AO13/(AQ4-AO20)","v":0},{"$f":"IF(AP13=0,0,(AP13*((LOG(AP13))/LOG(2))))","v":0},null,{"$f":"N13","v":1221},{"$f":"COUNTIF(L124:L146,AS13)","v":0},{"$f":"AT13/(AV4-AT20)","v":0},{"$f":"IF(AU13=0,0,(AU13*((LOG(AU13))/LOG(2))))","v":0}]
[12,1449,14,1457,13,1463,14,1482,null,null,0,1111,null,1222,{"$f":"COUNTIF($L$7:$L$500,N14)","v":8},{"$f":"O14/$Q$4","v":5.7142857142857141E-2},{"$f":"IF(P14=0,0,(P14*((LOG(P14))/LOG(2))))","v":-0.23595902953971234},null,null,{"$f":"N14","v":1222},{"$f":"COUNTIF(L7:L29,T14)","v":0},{"$f":"U14/(W4-U20)","v":0},{"$f":"IF(V14=0,0,(V14*((LOG(V14))/LOG(2))))","v":0},null,{"$f":"N14","v":1222},{"$f":"COUNTIF(L30:L53,Y14)","v":3},{"$f":"Z14/(AB4-Z20)","v":0.13043478260869565},{"$f":"IF(AA14=0,0,(AA14*((LOG(AA14))/LOG(2))))","v":-0.3832955811307639},null,{"$f":"N14","v":1222},{"$f":"COUNTIF(L54:L76,AD14)","v":1},{"$f":"AE14/(AG4-AE20)","v":4.3478260869565216E-2},{"$f":"IF(AF14=0,0,(AF14*((LOG(AF14))/LOG(2))))","v":-0.19667660678508753},null,{"$f":"N14","v":1222},{"$f":"COUNTIF(L77:L99,AI14)","v":3},{"$f":"AJ14/(AL4-AJ20)","v":0.13043478260869565},{"$f":"IF(AK14=0,0,(AK14*((LOG(AK14))/LOG(2))))","v":-0.3832955811307639},null,{"$f":"N14","v":1222},{"$f":"COUNTIF(L100:L123,AN14)","v":0},{"$f":"AO14/(AQ4-AO20)","v":0},{"$f":"IF(AP14=0,0,(AP14*((LOG(AP14))/LOG(2))))","v":0},null,{"$f":"N14","v":1222},{"$f":"COUNTIF(L124:L146,AS14)","v":1},{"$f":"AT14/(AV4-AT20)","v":4.3478260869565216E-2},{"$f":"IF(AU14=0,0,(AU14*((LOG(AU14))/LOG(2))))","v":-0.19667660678508753}]
[12,1610,14,1616,13,1622,23,1633,null,null,0,1112,null,2111,{"$f":"COUNTIF($L$7:$L$500,N15)","v":9},{"$f":"O15/$Q$4","v":6.4285714285714279E-2},{"$f":"IF(P15=0,0,(P15*((LOG(P15))/LOG(2))))","v":-0.25453015813945634},null,null,{"$f":"N15","v":2111},{"$f":"COUNTIF(L7:L29,T15)","v":0},{"$f":"U15/(W4-U20)","v":0},{"$f":"IF(V15=0,0,(V15*((LOG(V15))/LOG(2))))","v":0},null,{"$f":"N15","v":2111},{"$f":"COUNTIF(L30:L53,Y15)","v":3},{"$f":"Z15/(AB4-Z20)","v":0.13043478260869565},{"$f":"IF(AA15=0,0,(AA15*((LOG(AA15))/LOG(2))))","v":-0.3832955811307639},null,{"$f":"N15","v":2111},{"$f":"COUNTIF(L54:L76,AD15)","v":2},{"$f":"AE15/(AG4-AE20)","v":8.6956521739130432E-2},{"$f":"IF(AF15=0,0,(AF15*((LOG(AF15))/LOG(2))))","v":-0.30639669183104457},null,{"$f":"N15","v":2111},{"$f":"COUNTIF(L77:L99,AI15)","v":2},{"$f":"AJ15/(AL4-AJ20)","v":8.6956521739130432E-2},{"$f":"IF(AK15=0,0,(AK15*((LOG(AK15))/LOG(2))))","v":-0.30639669183104457},null,{"$f":"N15","v":2111},{"$f":"COUNTIF(L100:L123,AN15)","v":1},{"$f":"AO15/(AQ4-AO20)","v":4.3478260869565216E-2},{"$f":"IF(AP15=0,0,(AP15*((LOG(AP15))/LOG(2))))","v":-0.19667660678508753},null,{"$f":"N15","v":2111},{"$f":"COUNTIF(L124:L146,AS15)","v":1},{"$f":"AT15/(AV4-AT20)","v":4.3478260869565216E-2},{"$f":"IF(AU15=0,0,(AU15*((LOG(AU15))/LOG(2))))","v":-0.19667660678508753}]
[12,1761,14,1766,24,1779,23,1792,null,null,0,1122,null,2112,{"$f":"COUNTIF($L$7:$L$500,N16)","v":15},{"$f":"O16/$Q$4","v":0.10714285714285714},{"$f":"IF(P16=0,0,(P16*((LOG(P16))/LOG(2))))","v":-0.34525633085747659},null,null,{"$f":"N16","v":2112},{"$f":"COUNTIF(L7:L29,T16)","v":0},{"$f":"U16/(W4-U20)","v":0},{"$f":"IF(V16=0,0,(V16*((LOG(V16))/LOG(2))))","v":0},null,{"$f":"N16","v":2112},{"$f":"COUNTIF(L30:L53,Y16)","v":2},{"$f":"Z16/(AB4-Z20)","v":8.6956521739130432E-2},{"$f":"IF(AA16=0,0,(AA16*((LOG(AA16))/LOG(2))))","v":-0.30639669183104457},null,{"$f":"N16","v":2112},{"$f":"COUNTIF(L54:L76,AD16)","v":4},{"$f":"AE16/(AG4-AE20)","v":0.17391304347826086},{"$f":"IF(AF16=0,0,(AF16*((LOG(AF16))/LOG(2))))","v":-0.43888034018382832},null,{"$f":"N16","v":2112},{"$f":"COUNTIF(L77:L99,AI16)","v":3},{"$f":"AJ16/(AL4-AJ20)","v":0.13043478260869565},{"$f":"IF(AK16=0,0,(AK16*((LOG(AK16))/LOG(2))))","v":-0.3832955811307639},null,{"$f":"N16","v":2112},{"$f":"COUNTIF(L100:L123,AN16)","v":2},{"$f":"AO16/(AQ4-AO20)","v":8.6956521739130432E-2},{"$f":"IF(AP16=0,0,(AP16*((LOG(AP16))/LOG(2))))","v":-0.30639669183104457},null,{"$f":"N16","v":2112},{"$f":"COUNTIF(L124:L146,AS16)","v":4},{"$f":"AT16/(AV4-AT20)","v":0.17391304347826086},{"$f":"IF(AU16=0,0,(AU16*((LOG(AU16))/LOG(2))))","v":-0.43888034018382832}]
[12,1921,23,1933,13,1949,23,1960,null,null,0,1212,null,2121,{"$f":"COUNTIF($L$7:$L$500,N17)","v":8},{"$f":"O17/$Q$4","v":5.7142857142857141E-2},{"$f":"IF(P17=0,0,(P17*((LOG(P17))/LOG(2))))","v":-0.23595902953971234},null,null,{"$f":"N17","v":2121},{"$f":"COUNTIF(L7:L29,T17)","v":2},{"$f":"U17/(W4-U20)","v":8.6956521739130432E-2},{"$f":"IF(V17=0,0,(V17*((LOG(V17))/LOG(2))))","v":-0.30639669183104457},null,{"$f":"N17","v":2121},{"$f":"COUNTIF(L30:L53,Y17)","v":0},{"$f":"Z17/(AB4-Z20)","v":0},{"$f":"IF(AA17=0,0,(AA17*((LOG(AA17))/LOG(2))))","v":0},null,{"$f":"N17","v":2121},{"$f":"COUNTIF(L54:L76,AD17)","v":0},{"$f":"AE17/(AG4-AE20)","v":0},{"$f":"IF(AF17=0,0,(AF17*((LOG(AF17))/LOG(2))))","v":0},null,{"$f":"N17","v":2121},{"$f":"COUNTIF(L77:L99,AI17)","v":2},{"$f":"AJ17/(AL4-AJ20)","v":8.6956521739130432E-2},{"$f":"IF(AK17=0,0,(AK17*((LOG(AK17))/LOG(2))))","v":-0.30639669183104457},null,{"$f":"N17","v":2121},{"$f":"COUNTIF(L100:L123,AN17)","v":2},{"$f":"AO17/(AQ4-AO20)","v":8.6956521739130432E-2},{"$f":"IF(AP17=0,0,(AP17*((LOG(AP17))/LOG(2))))","v":-0.30639669183104457},null,{"$f":"N17","v":2121},{"$f":"COUNTIF(L124:L146,AS17)","v":2},{"$f":"AT17/(AV4-AT20)","v":8.6956521739130432E-2},{"$f":"IF(AU17=0,0,(AU17*((LOG(AU17))/LOG(2))))","v":-0.30639669183104457}]
[21,2090,21,2112,22,2120,14,2137,null,null,0,2221,null,2122,{"$f":"COUNTIF($L$7:$L$500,N18)","v":11},{"$f":"O18/$Q$4","v":7.857142857142857E-2},{"$f":"IF(P18=0,0,(P18*((LOG(P18))/LOG(2))))","v":-0.28834546700988833},null,null,{"$f":"N18","v":2122},{"$f":"COUNTIF(L7:L29,T18)","v":3},{"$f":"U18/(W4-U20)","v":0.13043478260869565},{"$f":"IF(V18=0,0,(V18*((LOG(V18))/LOG(2))))","v":-0.3832955811307639},null,{"$f":"N18","v":2122},{"$f":"COUNTIF(L30:L53,Y18)","v":3},{"$f":"Z18/(AB4-Z20)","v":0.13043478260869565},{"$f":"IF(AA18=0,0,(AA18*((LOG(AA18))/LOG(2))))","v":-0.3832955811307639},null,{"$f":"N18","v":2122},{"$f":"COUNTIF(L54:L76,AD18)","v":0},{"$f":"AE18/(AG4-AE20)","v":0},{"$f":"IF(AF18=0,0,(AF18*((LOG(AF18))/LOG(2))))","v":0},null,{"$f":"N18","v":2122},{"$f":"COUNTIF(L77:L99,AI18)","v":3},{"$f":"AJ18/(AL4-AJ20)","v":0.13043478260869565},{"$f":"IF(AK18=0,0,(AK18*((LOG(AK18))/LOG(2))))","v":-0.3832955811307639},null,{"$f":"N18","v":2122},{"$f":"COUNTIF(L100:L123,AN18)","v":2},{"$f":"AO18/(AQ4-AO20)","v":8.6956521739130432E-2},{"$f":"IF(AP18=0,0,(AP18*((LOG(AP18))/LOG(2))))","v":-0.30639669183104457},null,{"$f":"N18","v":2122},{"$f":"COUNTIF(L124:L146,AS18)","v":0},{"$f":"AT18/(AV4-AT20)","v":0},{"$f":"IF(AU18=0,0,(AU18*((LOG(AU18))/LOG(2))))","v":0}]
[12,2263,14,2273,24,2286,23,2296,null,null,0,1122,null,2211,{"$f":"COUNTIF($L$7:$L$500,N19)","v":5},{"$f":"O19/$Q$4","v":3.5714285714285712E-2},{"$f":"IF(P19=0,0,(P19*((LOG(P19))/LOG(2))))","v":-0.17169124721634299},null,null,{"$f":"N19","v":2211},{"$f":"COUNTIF(L7:L29,T19)","v":1},{"$f":"U19/(W4-U20)","v":4.3478260869565216E-2},{"$f":"IF(V19=0,0,(V19*((LOG(V19))/LOG(2))))","v":-0.19667660678508753},null,{"$f":"N19","v":2211},{"$f":"COUNTIF(L30:L53,Y19)","v":2},{"$f":"Z19/(AB4-Z20)","v":8.6956521739130432E-2},{"$f":"IF(AA19=0,0,(AA19*((LOG(AA19))/LOG(2))))","v":-0.30639669183104457},null,{"$f":"N19","v":2211},{"$f":"COUNTIF(L54:L76,AD19)","v":0},{"$f":"AE19/(AG4-AE20)","v":0},{"$f":"IF(AF19=0,0,(AF19*((LOG(AF19))/LOG(2))))","v":0},null,{"$f":"N19","v":2211},{"$f":"COUNTIF(L77:L99,AI19)","v":1},{"$f":"AJ19/(AL4-AJ20)","v":4.3478260869565216E-2},{"$f":"IF(AK19=0,0,(AK19*((LOG(AK19))/LOG(2))))","v":-0.19667660678508753},null,{"$f":"N19","v":2211},{"$f":"COUNTIF(L100:L123,AN19)","v":0},{"$f":"AO19/(AQ4-AO20)","v":0},{"$f":"IF(AP19=0,0,(AP19*((LOG(AP19))/LOG(2))))","v":0},null,{"$f":"N19","v":2211},{"$f":"COUNTIF(L124:L146,AS19)","v":1},{"$f":"AT19/(AV4-AT20)","v":4.3478260869565216E-2},{"$f":"IF(AU19=0,0,(AU19*((LOG(AU19))/LOG(2))))","v":-0.19667660678508753}]
[12,2455,23,2467,24,2472,14,2495,null,null,0,1221,null,2212,{"$f":"COUNTIF($L$7:$L$500,N20)","v":2},{"$f":"O20/$Q$4","v":1.4285714285714285E-2},{"$f":"IF(P20=0,0,(P20*((LOG(P20))/LOG(2))))","v":-8.756118595635666E-2},null,null,{"$f":"N20","v":2212},{"$f":"COUNTIF(L7:L29,T20)","v":0},null,null,null,{"$f":"N20","v":2212},{"$f":"COUNTIF(L30:L53,Y20)","v":1},null,null,null,{"$f":"N20","v":2212},{"$f":"COUNTIF(L54:L76,AD20)","v":0},null,null,null,{"$f":"N20","v":2212},{"$f":"COUNTIF(L77:L99,AI20)","v":0},null,null,null,{"$f":"N20","v":2212},{"$f":"COUNTIF(L100:L123,AN20)","v":1},null,null,null,{"$f":"N20","v":2212},{"$f":"COUNTIF(L124:L146,AS20)","v":0}]
[12,2601,23,2613,13,2631,23,2644,null,null,0,1212,null,2221,{"$f":"COUNTIF($L$7:$L$500,N21)","v":5},{"$f":"O21/$Q$4","v":3.5714285714285712E-2},{"$f":"IF(P21=0,0,(P21*((LOG(P21))/LOG(2))))","v":-0.17169124721634299},null,null,{"$f":"N21","v":2221},{"$f":"COUNTIF(L7:L29,T21)","v":2},{"$f":"U21/(W4-U20)","v":8.6956521739130432E-2},{"$f":"IF(V21=0,0,(V21*((LOG(V21))/LOG(2))))","v":-0.30639669183104457},null,{"$f":"N21","v":2221},{"$f":"COUNTIF(L30:L53,Y21)","v":2},{"$f":"Z21/(AB4-Z20)","v":8.6956521739130432E-2},{"$f":"IF(AA21=0,0,(AA21*((LOG(AA21))/LOG(2))))","v":-0.30639669183104457},null,{"$f":"N21","v":2221},{"$f":"COUNTIF(L54:L76,AD21)","v":0},{"$f":"AE21/(AG4-AE20)","v":0},{"$f":"IF(AF21=0,0,(AF21*((LOG(AF21))/LOG(2))))","v":0},null,{"$f":"N21","v":2221},{"$f":"COUNTIF(L77:L99,AI21)","v":0},{"$f":"AJ21/(AL4-AJ20)","v":0},{"$f":"IF(AK21=0,0,(AK21*((LOG(AK21))/LOG(2))))","v":0},null,{"$f":"N21","v":2221},{"$f":"COUNTIF(L100:L123,AN21)","v":0},{"$f":"AO21/(AQ4-AO20)","v":0},{"$f":"IF(AP21=0,0,(AP21*((LOG(AP21))/LOG(2))))","v":0},null,{"$f":"N21","v":2221},{"$f":"COUNTIF(L124:L146,AS21)","v":1},{"$f":"AT21/(AV4-AT20)","v":4.3478260869565216E-2},{"$f":"IF(AU21=0,0,(AU21*((LOG(AU21))/LOG(2))))","v":-0.19667660678508753}]
[21,2770,12,2798,24,2814,23,2825,null,null,0,2122,null,2222,{"$f":"COUNTIF($L$7:$L$500,N22)","v":1},{"$f":"O22/$Q$4","v":7.1428571428571426E-3},{"$f":"IF(P22=0,0,(P22*((LOG(P22))/LOG(2))))","v":-5.0923450121035475E-2},null,null,{"$f":"N22","v":2222},{"$f":"COUNTIF(L7:L29,T22)","v":0},{"$f":"U22/(W4-U20)","v":0},{"$f":"IF(V22=0,0,(V22*((LOG(V22))/LOG(2))))","v":0},null,{"$f":"N22","v":2222},{"$f":"COUNTIF(L30:L53,Y22)","v":0},{"$f":"Z22/(AB4-Z20)","v":0},{"$f":"IF(AA22=0,0,(AA22*((LOG(AA22))/LOG(2))))","v":0},null,{"$f":"N22","v":2222},{"$f":"COUNTIF(L54:L76,AD22)","v":0},{"$f":"AE22/(AG4-AE20)","v":0},{"$f":"IF(AF22=0,0,(AF22*((LOG(AF22))/LOG(2))))","v":0},null,{"$f":"N22","v":2222},{"$f":"COUNTIF(L77:L99,AI22)","v":0},{"$f":"AJ22/(AL4-AJ20)","v":0},{"$f":"IF(AK22=0,0,(AK22*((LOG(AK22))/LOG(2))))","v":0},null,{"$f":"N22","v":2222},{"$f":"COUNTIF(L100:L123,AN22)","v":0},{"$f":"AO22/(AQ4-AO20)","v":0},{"$f":"IF(AP22=0,0,(AP22*((LOG(AP22))/LOG(2))))","v":0},null,{"$f":"N22","v":2222},{"$f":"COUNTIF(L124:L146,AS22)","v":1},{"$f":"AT22/(AV4-AT20)","v":4.3478260869565216E-2},{"$f":"IF(AU22=0,0,(AU22*((LOG(AU22))/LOG(2))))","v":-0.19667660678508753}]
[21,2956,12,2975,24,2989,14,3005,null,null,0,2121,null,null,null,{"$f":"SUM(P7:P22)","v":0.99999999999999978},{"$f":"-SUM(Q7:Q22)","v":3.8163597850332835},null,null,null,null,{"$f":"SUM(V7:V22)","v":1},{"$f":"-SUM(W7:W22)","v":3.2077070644704735},null,null,null,{"$f":"SUM(AA7:AA22)","v":1},{"$f":"-SUM(AB7:AB22)","v":3.3487989122024961},null,null,null,{"$f":"SUM(AF7:AF22)","v":0.99999999999999989},{"$f":"-SUM(AG7:AG22)","v":2.9966308482846755},null,null,null,{"$f":"SUM(AK7:AK22)","v":1.0000000000000002},{"$f":"-SUM(AL7:AL22)","v":3.348798912202497},null,null,null,{"$f":"SUM(AP7:AP22)","v":0.99999999999999978},{"$f":"-SUM(AQ7:AQ22)","v":2.9594676755771383},null,null,null,{"$f":"SUM(AU7:AU22)","v":0.99999999999999978},{"$f":"-SUM(AV7:AV22)","v":3.2903216092483052}]
[21,3134,12,3150,24,3174,23,3182,null,null,0,2122,null,null,null,"U=",{"$f":"Q23/(LOG(Q4)/LOG(2))","v":0.53530765659919977},null,null,null,null,"U1=",{"$f":"W23/(LOG(W4)/LOG(2))","v":0.70911089438608876},null,null,null,"U2=",{"$f":"AB23/(LOG(AB4)/LOG(2))","v":0.73038741574784372},null,null,null,"U3=",{"$f":"AG23/(LOG(AG4)/LOG(2))","v":0.66244938776006168},null,null,null,"U4=",{"$f":"AL23/(LOG(AL4)/LOG(2))","v":0.74030132553362782},null,null,null,"U5=",{"$f":"AQ23/(LOG(AQ4)/LOG(2))","v":0.64547260203581858},null,null,null,"U6=",{"$f":"AV23/(LOG(AV4)/LOG(2))","v":0.72737405637665487}]
[12,3309,14,3314,24,3323,23,3337,null,null,0,1122]
[21,3457,12,3473,24,3486,23,3491,null,null,0,2122]
[21,3603,21,3619,22,3630,14,3657,null,null,0,2221,null,"Total Target Seq"]
[21,3772,21,3788,11,3805,12,3810,null,null,0,2211,null,{"$f":"COUNTIF(L7:L146,G3)","v":2},null,23,24,23,23,24,23]
[12,3954,14,3959,24,3973,23,3979,null,null,0,1122,null,null,null,"% of reinforcement given in 6 equal intervals based on number of trials "]
[21,4106,21,4116,11,4133,12,4138,null,null,0,2211,null,null,null,"%_1","%_2","%_3","%_4","%_5","%_6"]
[12,4273,23,4292,24,4318,23,4323,null,null,0,1222,null,null,"target sequence",{"$f":"$G$3","v":2212},{"$f":"$G$3","v":2212},{"$f":"$G$3","v":2212},{"$f":"$G$3","v":2212},{"$f":"$G$3","v":2212},{"$f":"$G$3","v":2212}]
[21,4478,12,4498,13,4503,23,4515,null,null,0,2112,null,null,"total reinforcement",{"$f":"U20","v":0},{"$f":"Z20","v":1},{"$f":"AE20","v":0},{"$f":"AJ20","v":0},{"$f":"AO20","v":1},{"$f":"AT20","v":0}]
[12,4658,23,4673,24,4681,14,4702,null,null,0,1221,null,null,"% target"]
[12,5034,14,5040,24,5053,14,5074,null,null,0,1121,null,null,"CCRF"]
[12,5189,14,5220,24,5233,23,5238,null,null,0,1122,null,null,"% CCRf"]
[21,5415,12,5431,24,5444,23,5453,null,null,0,2122,null,null,"average response rate",{"$f":"H29/P28","v":173},{"$f":"(H53-H29)/Q28","v":174.16666666666666},{"$f":"(H76-H53)/R28","v":164.21739130434781},{"$f":"(H99-H76)/S28","v":172.08695652173913},{"$f":"(H123-H99)/T28","v":166.20833333333334},{"$f":"(H146-H123)/U28","v":175.13043478260869}]
[21,5560,12,5575,24,5591,23,5598,null,null,0,2122]
[21,5698,21,5707,11,5724,12,5730,null,null,0,2211]
[21,5870,21,5900,22,5919,14,5935,null,null,0,2221]
[12,6067,23,6076,24,6081,23,6086,null,null,0,1222]
[12,6210,23,6230,24,6238,23,6243,null,null,0,1222]
[21,6354,21,6369,22,6381,14,6398,null,null,0,2221]
[21,6510,12,6527,13,6532,14,6537,null,null,0,2111]
[12,6684,23,6699,13,6721,14,6726,null,null,0,1211]
[21,6842,12,6857,13,6861,14,6866,null,null,0,2111]
[12,7060,23,7072,24,7082,14,7103,null,null,0,1221]
[21,7211,12,7224,13,7230,23,7242,null,null,0,2112]
[21,7355,12,7380,24,7392,23,7404,null,null,0,2122]
[12,7583,23,7594,24,7600,14,7619,null,null,0,1221]
[21,7728,12,7744,13,7760,14,7766,null,null,0,2111]
[21,7858,21,7863,11,7880,21,7891,null,null,0,2212]
[12,7985,14,7990,13,8000,14,8005,null,null,0,1111]
[12,8122,23,8136,13,8154,14,8159,null,null,0,1211]
[21,8281,12,8297,13,8303,23,8317,null,null,0,2112]
[12,8449,14,8454,24,8470,14,8484,null,null,0,1121]
[12,8630,14,8635,13,8645,23,8657,null,null,0,1112]
[12,8792,23,8804,24,8816,14,8832,null,null,0,1221]
[12,8985,23,8997,13,9012,14,9017,null,null,0,1211]
[12,9147,14,9152,24,9161,14,9178,null,null,0,1121]
[12,9292,14,9322,24,9340,14,9355,null,null,0,1121]
[12,9464,14,9502,24,9514,23,9520,null,null,0,1122]
[12,9650,14,9655,24,9667,23,9673,null,null,0,1122]
[12,9793,23,9808,24,9832,23,9850,null,null,0,1222]
[12,10008,14,10027,13,10032,23,10042,null,null,0,1112]
[12,10194,14,10220,24,10232,14,10250,null,null,0,1121]
[21,10359,12,10376,13,10380,14,10386,null,null,0,2111]
[12,10511,23,10538,13,10552,14,10560,null,null,0,1211]
[12,10668,14,10705,13,10711,14,10716,null,null,0,1111]
[12,10832,14,10838,24,10854,14,10869,null,null,0,1121]
[21,11004,12,11018,13,11023,23,11035,null,null,0,2112]
[12,11158,14,11164,24,11182,23,11204,null,null,0,1122]
[21,11316,12,11334,13,11340,23,11358,null,null,0,2112]
[21,11473,12,11485,13,11490,23,11503,null,null,0,2112]
[12,11623,14,11627,13,11646,14,11652,null,null,0,1111]
[21,11769,12,11781,13,11786,14,11792,null,null,0,2111]
[12,11915,14,11920,13,11926,14,11936,null,null,0,1111]
[12,12080,23,12095,13,12117,14,12122,null,null,0,1211]
[21,12233,12,12245,13,12251,14,12255,null,null,0,2111]
[12,12401,14,12407,13,12412,23,12434,null,null,0,1112]
[21,12570,12,12587,24,12598,14,12618,null,null,0,2121]
[21,12722,12,12746,13,12752,23,12761,null,null,0,2112]
[21,12890,12,12909,24,12932,23,12942,null,null,0,2122]
[12,13110,23,13127,13,13143,23,13152,null,null,0,1212]
[12,13257,14,13306,13,13311,23,13320,null,null,0,1112]
[21,13461,12,13475,13,13481,14,13487,null,null,0,2111]
[12,13608,23,13620,24,13646,23,13666,null,null,0,1222]
[12,13790,14,13795,24,13806,14,13821,null,null,0,1121]
[12,14023,14,14052,24,14065,23,14075,null,null,0,1122]
[21,14190,12,14202,24,14212,23,14218,null,null,0,2122]
[12,14379,23,14393,13,14408,23,14420,null,null,0,1212]
[21,14527,12,14540,24,14551,23,14557,null,null,0,2122]
[12,14725,23,14744,13,14759,14,14765,null,null,0,1211]
[21,14873,12,14890,24,14903,14,14919,null,null,0,2121]
[21,15029,21,15039,11,15050,12,15055,null,null,0,2211]
[12,15174,23,15190,24,15195,23,15212,null,null,0,1222]
[12,15340,23,15354,13,15377,14,15383,null,null,0,1211]
[21,15522,12,15539,13,15545,23,15558,null,null,0,2112]
[21,15663,12,15692,13,15698,23,15710,null,null,0,2112]
[12,15861,23,15874,24,15883,23,15894,null,null,0,1222]
[21,16002,12,16029,13,16035,23,16047,null,null,0,2112]
[21,16149,21,16155,11,16176,21,16186,null,null,0,2212]
[12,16289,23,16302,13,16319,14,16324,null,null,0,1211]
[21,16451,12,16467,24,16476,23,16482,null,null,0,2122]
[12,16612,14,16655,24,16666,23,16685,null,null,0,1122]
[12,16827,23,16840,13,16856,23,16873,null,null,0,1212]
[12,17000,14,17006,24,17016,14,17033,null,null,0,1121]
[12,17162,23,17181,13,17194,14,17199,null,null,0,1211]
[21,17347,12,17366,13,17371,14,17377,null,null,0,2111]
[12,17497,14,17502,24,17514,23,17520,null,null,0,1122]
[12,17627,14,17663,24,17675,14,17691,null,null,0,1121]
[21,17820,12,17836,24,17859,14,17877,null,null,0,2121]
[12,18007,14,18012,24,18024,23,18033,null,null,0,1122]
[12,18145,14,18175,13,18180,14,18186,null,null,0,1111]
[12,18330,14,18334,13,18339,14,18343,null,null,0,1111]
[12,18466,14,18472,13,18478,14,18487,null,null,0,1111]
[12,18610,14,18615,24,18628,14,18642,null,null,0,1121]
[12,18752,14,18777,13,18782,14,18788,null,null,0,1111]
[21,18900,12,18913,13,18918,23,18930,null,null,0,2112]
[12,19048,14,19052,24,19072,23,19090,null,null,0,1122]
[12,19278,14,19310,13,19321,14,19325,null,null,0,1111]
[21,19449,12,19473,24,19493,23,19499,null,null,0,2122]
[12,19671,14,19675,24,19688,23,19705,null,null,0,1122]
[21,19837,12,19856,24,19864,14,19883,null,null,0,2121]
[12,19999,14,20000,24,20012,23,20017,null,null,0,1122]
[12,20134,23,20148,13,20164,23,20175,null,null,0,1212]
[12,20306,23,20319,13,20336,23,20345,null,null,0,1212]
[12,20450,14,20486,13,20491,23,20502,null,null,0,1112]
[21,20620,12,20637,24,20653,14,20673,null,null,0,2121]
[12,20808,23,20825,24,20833,23,20843,null,null,0,1222]
[12,20950,14,20978,13,20982,23,20993,null,null,0,1112]
[12,21109,14,21156,13,21161,23,21187,null,null,0,1112]
[21,21302,12,21316,24,21327,14,21342,null,null,0,2121]
[21,21506,12,21525,13,21529,23,21541,null,null,0,2112]
[21,21774,21,21781,22,21788,23,21795,null,null,0,2222]
[21,22043,21,22053,22,22060,14,22086,null,null,0,2221]
[21,22194,21,22218,11,22233,12,22238,null,null,0,2211]
[12,22461,23,22472,13,22490,23,22501,null,null,0,1212]
[12,22624,14,22628,24,22637,14,22652,null,null,0,1121]
[12,22751,14,22759,13,22764,23,22776,null,null,0,1112]
[12,22913,14,22943,13,22948,23,22960,null,null,0,1112]
[21,23064,12,23078,13,23102,14,23107,null,null,0,2111]
[21,23252,12,23269,13,23273,23,23286,null,null,0,2112]
[21,23397,12,23412,13,23417,23,23428,null,null,0,2112]
[12,23527,14,23532,24,23544,14,23568,null,null,0,1121]
[12,23667,23,23688,13,23705,14,23709,null,null,0,1211]
[21,23874,12,23891,13,23900,23,23911,null,null,0,2112]

{"sheet":"!N118A00.092","index":21,"n_rows":147,"n_cols":48,"rows_kept":147,"cut":false,"hidden":false,"merged":[[4,39,4,42],[5,39,5,40],[4,44,4,47],[5,44,5,45],[4,24,4,27],[5,24,5,25],[4,29,4,32],[5,29,5,30],[4,34,4,37],[5,34,5,35],[1,1,1,2],[5,13,5,14],[26,13,26,14],[27,13,27,14],[4,19,4,22],[5,19,5,20]]}
["Report for:!N118A00.092"]
["Date:","<date>"]
["Hen:","<hen>",null,null,null,"Correct Sequence",{"$f":"Start!J2","v":2212},null,null,null,null,null,null,null,null,"Total Sequences in Data",{"$f":"4994-COUNTBLANK(L7:L5000)","v":141},null,null,null,null,"Total Sequences in Block Data",{"$f":"COUNTA(L7:L30)","v":24},null,null,null,"Total Sequences in Block Data",{"$f":"COUNTA(L31:L53)","v":23},null,null,null,"Total Sequences in Block Data",{"$f":"COUNTA(L54:L77)","v":24},null,null,null,"Total Sequences in Block Data",{"$f":"COUNTA(L78:L100)","v":23},null,null,null,"Total Sequences in Block Data",{"$f":"COUNTA(L101:L124)","v":24},null,null,null,"Total Sequences in Block Data",{"$f":"COUNTA(L125:L147)","v":23}]
[null,null,null,null,null,null,null,null,null,null,null,null,null,null,null,"Total Sequences in Summary",{"$f":"SUM(O7:O22)","v":140},null,null,null,null,"Total Sequences in Block Summary",{"$f":"SUM(U7:U22)","v":24},null,null,null,"Total Sequences in Block Summary",{"$f":"SUM(Z7:Z22)","v":23},null,null,null,"Total Sequences in Block Summary",{"$f":"SUM(AE7:AE22)","v":24},null,null,null,"Total Sequences in Block Summary",{"$f":"SUM(AJ7:AJ22)","v":23},null,null,null,"Total Sequences in Block Summary",{"$f":"SUM(AO7:AO22)","v":24},null,null,null,"Total Sequences in Block Summary",{"$f":"SUM(AT7:AT22)","v":22}]
[null,null,null,null,null,null,null,null,null,null,null,null,null,null,null,null,null,null,null,"Block 1",null,null,null,null,"Block 2",null,null,null,null,"Block 3",null,null,null,null,"Block 4",null,null,null,null,"Block 5",null,null,null,null,"Block 6"]
["Sequence\nComponent\n1","Time\n1","Sequence\nComponent\n2","Time\n2","Sequence\nComponent\n3","Time\n3","Sequence\nComponent\n4","Time\n4","Sequence\nComponent\n5","Time\n5","Correct?\n0=No 1=Yes","Sequence",null,"Frequency",null,"Relative Frequency","Variability",null,null,"Frequency",null,"Relative Frequency","Variability",null,"Frequency",null,"Relative Frequency","Variability",null,"Frequency",null,"Relative Frequency","Variability",null,"Frequency",null,"Relative Frequency","Variability",null,"Frequency",null,"Relative Frequency","Variability",null,"Frequency",null,"Relative Frequency","Variability"]
[12,44,14,107,24,120,23,154,null,null,0,1122,null,1111,{"$f":"COUNTIF($L$7:$L$500,N7)","v":13},{"$f":"O7/$Q$4","v":9.285714285714286E-2},{"$f":"IF(P7=0,0,(P7*((LOG(P7))/LOG(2))))","v":-0.31839259203178832},null,null,{"$f":"N7","v":1111},{"$f":"COUNTIF(L7:L30,T7)","v":0},{"$f":"U7/(W4-U20)","v":0},{"$f":"IF(V7=0,0,(V7*((LOG(V7))/LOG(2))))","v":0},null,{"$f":"N7","v":1111},{"$f":"COUNTIF(L31:L53,Y7)","v":0},{"$f":"Z7/(AB4-Z20)","v":0},{"$f":"IF(AA7=0,0,(AA7*((LOG(AA7))/LOG(2))))","v":0},null,{"$f":"N7","v":1111},{"$f":"COUNTIF(L54:L77,AD7)","v":1},{"$f":"AE7/(AG4-AE20)","v":4.5454545454545456E-2},{"$f":"IF(AF7=0,0,(AF7*((LOG(AF7))/LOG(2))))","v":-0.20270143721078623},null,{"$f":"N7","v":1111},{"$f":"COUNTIF(L78:L100,AI7)","v":7},{"$f":"AJ7/(AL4-AJ20)","v":0.30434782608695654},{"$f":"IF(AK7=0,0,(AK7*((LOG(AK7))/LOG(2))))","v":-0.52232387991286355},null,{"$f":"N7","v":1111},{"$f":"COUNTIF(L101:L124,AN7)","v":3},{"$f":"AO7/(AQ4-AO20)","v":0.13043478260869565},{"$f":"IF(AP7=0,0,(AP7*((LOG(AP7))/LOG(2))))","v":-0.3832955811307639},null,{"$f":"N7","v":1111},{"$f":"COUNTIF(L125:L147,AS7)","v":2},{"$f":"AT7/(AV4-AT20)","v":9.0909090909090912E-2},{"$f":"IF(AU7=0,0,(AU7*((LOG(AU7))/LOG(2))))","v":-0.31449378351248153}]
[12,317,23,329,24,334,23,344,null,null,0,1222,null,1112,{"$f":"COUNTIF($L$7:$L$500,N8)","v":18},{"$f":"O8/$Q$4","v":0.12857142857142856},{"$f":"IF(P8=0,0,(P8*((LOG(P8))/LOG(2))))","v":-0.38048888770748407},null,null,{"$f":"N8","v":1112},{"$f":"COUNTIF(L7:L30,T8)","v":0},{"$f":"U8/(W4-U20)","v":0},{"$f":"IF(V8=0,0,(V8*((LOG(V8))/LOG(2))))","v":0},null,{"$f":"N8","v":1112},{"$f":"COUNTIF(L31:L53,Y8)","v":2},{"$f":"Z8/(AB4-Z20)","v":9.5238095238095233E-2},{"$f":"IF(AA8=0,0,(AA8*((LOG(AA8))/LOG(2))))","v":-0.32307784978845333},null,{"$f":"N8","v":1112},{"$f":"COUNTIF(L54:L77,AD8)","v":3},{"$f":"AE8/(AG4-AE20)","v":0.13636363636363635},{"$f":"IF(AF8=0,0,(AF8*((LOG(AF8))/LOG(2))))","v":-0.39197306153401923},null,{"$f":"N8","v":1112},{"$f":"COUNTIF(L78:L100,AI8)","v":4},{"$f":"AJ8/(AL4-AJ20)","v":0.17391304347826086},{"$f":"IF(AK8=0,0,(AK8*((LOG(AK8))/LOG(2))))","v":-0.43888034018382832},null,{"$f":"N8","v":1112},{"$f":"COUNTIF(L101:L124,AN8)","v":6},{"$f":"AO8/(AQ4-AO20)","v":0.2608695652173913},{"$f":"IF(AP8=0,0,(AP8*((LOG(AP8))/LOG(2))))","v":-0.50572159704413644},null,{"$f":"N8","v":1112},{"$f":"COUNTIF(L125:L147,AS8)","v":3},{"$f":"AT8/(AV4-AT20)","v":0.13636363636363635},{"$f":"IF(AU8=0,0,(AU8*((LOG(AU8))/LOG(2))))","v":-0.39197306153401923}]
[12,535,23,547,24,558,14,585,null,null,0,1221,null,1121,{"$f":"COUNTIF($L$7:$L$500,N9)","v":18},{"$f":"O9/$Q$4","v":0.12857142857142856},{"$f":"IF(P9=0,0,(P9*((LOG(P9))/LOG(2))))","v":-0.38048888770748407},null,null,{"$f":"N9","v":1121},{"$f":"COUNTIF(L7:L30,T9)","v":2},{"$f":"U9/(W4-U20)","v":8.3333333333333329E-2},{"$f":"IF(V9=0,0,(V9*((LOG(V9))/LOG(2))))","v":-0.29874687506009634},null,{"$f":"N9","v":1121},{"$f":"COUNTIF(L31:L53,Y9)","v":3},{"$f":"Z9/(AB4-Z20)","v":0.14285714285714285},{"$f":"IF(AA9=0,0,(AA9*((LOG(AA9))/LOG(2))))","v":-0.40105070315108626},null,{"$f":"N9","v":1121},{"$f":"COUNTIF(L54:L77,AD9)","v":3},{"$f":"AE9/(AG4-AE20)","v":0.13636363636363635},{"$f":"IF(AF9=0,0,(AF9*((LOG(AF9))/LOG(2))))","v":-0.39197306153401923},null,{"$f":"N9","v":1121},{"$f":"COUNTIF(L78:L100,AI9)","v":6},{"$f":"AJ9/(AL4-AJ20)","v":0.2608695652173913},{"$f":"IF(AK9=0,0,(AK9*((LOG(AK9))/LOG(2))))","v":-0.50572159704413644},null,{"$f":"N9","v":1121},{"$f":"COUNTIF(L101:L124,AN9)","v":3},{"$f":"AO9/(AQ4-AO20)","v":0.13043478260869565},{"$f":"IF(AP9=0,0,(AP9*((LOG(AP9))/LOG(2))))","v":-0.3832955811307639},null,{"$f":"N9","v":1121},{"$f":"COUNTIF(L125:L147,AS9)","v":1},{"$f":"AT9/(AV4-AT20)","v":4.5454545454545456E-2},{"$f":"IF(AU9=0,0,(AU9*((LOG(AU9))/LOG(2))))","v":-0.20270143721078623}]
[21,705,12,722,24,733,23,739,null,null,0,2122,null,1122,{"$f":"COUNTIF($L$7:$L$500,N10)","v":8},{"$f":"O10/$Q$4","v":5.7142857142857141E-2},{"$f":"IF(P10=0,0,(P10*((LOG(P10))/LOG(2))))","v":-0.23595902953971234},null,null,{"$f":"N10","v":1122},{"$f":"COUNTIF(L7:L30,T10)","v":2},{"$f":"U10/(W4-U20)","v":8.3333333333333329E-2},{"$f":"IF(V10=0,0,(V10*((LOG(V10))/LOG(2))))","v":-0.29874687506009634},null,{"$f":"N10","v":1122},{"$f":"COUNTIF(L31:L53,Y10)","v":0},{"$f":"Z10/(AB4-Z20)","v":0},{"$f":"IF(AA10=0,0,(AA10*((LOG(AA10))/LOG(2))))","v":0},null,{"$f":"N10","v":1122},{"$f":"COUNTIF(L54:L77,AD10)","v":3},{"$f":"AE10/(AG4-AE20)","v":0.13636363636363635},{"$f":"IF(AF10=0,0,(AF10*((LOG(AF10))/LOG(2))))","v":-0.39197306153401923},null,{"$f":"N10","v":1122},{"$f":"COUNTIF(L78:L100,AI10)","v":0},{"$f":"AJ10/(AL4-AJ20)","v":0},{"$f":"IF(AK10=0,0,(AK10*((LOG(AK10))/LOG(2))))","v":0},null,{"$f":"N10","v":1122},{"$f":"COUNTIF(L101:L124,AN10)","v":1},{"$f":"AO10/(AQ4-AO20)","v":4.3478260869565216E-2},{"$f":"IF(AP10=0,0,(AP10*((LOG(AP10))/LOG(2))))","v":-0.19667660678508753},null,{"$f":"N10","v":1122},{"$f":"COUNTIF(L125:L147,AS10)","v":2},{"$f":"AT10/(AV4-AT20)","v":9.0909090909090912E-2},{"$f":"IF(AU10=0,0,(AU10*((LOG(AU10))/LOG(2))))","v":-0.31449378351248153}]
[12,907,23,918,13,933,14,937,null,null,0,1211,null,1211,{"$f":"COUNTIF($L$7:$L$500,N11)","v":8},{"$f":"O11/$Q$4","v":5.7142857142857141E-2},{"$f":"IF(P11=0,0,(P11*((LOG(P11))/LOG(2))))","v":-0.23595902953971234},null,null,{"$f":"N11","v":1211},{"$f":"COUNTIF(L7:L30,T11)","v":4},{"$f":"U11/(W4-U20)","v":0.16666666666666666},{"$f":"IF(V11=0,0,(V11*((LOG(V11))/LOG(2))))","v":-0.43082708345352599},null,{"$f":"N11","v":1211},{"$f":"COUNTIF(L31:L53,Y11)","v":2},{"$f":"Z11/(AB4-Z20)","v":9.5238095238095233E-2},{"$f":"IF(AA11=0,0,(AA11*((LOG(AA11))/LOG(2))))","v":-0.32307784978845333},null,{"$f":"N11","v":1211},{"$f":"COUNTIF(L54:L77,AD11)","v":0},{"$f":"AE11/(AG4-AE20)","v":0},{"$f":"IF(AF11=0,0,(AF11*((LOG(AF11))/LOG(2))))","v":0},null,{"$f":"N11","v":1211},{"$f":"COUNTIF(L78:L100,AI11)","v":1},{"$f":"AJ11/(AL4-AJ20)","v":4.3478260869565216E-2},{"$f":"IF(AK11=0,0,(AK11*((LOG(AK11))/LOG(2))))","v":-0.19667660678508753},null,{"$f":"N11","v":1211},{"$f":"COUNTIF(L101:L124,AN11)","v":1},{"$f":"AO11/(AQ4-AO20)","v":4.3478260869565216E-2},{"$f":"IF(AP11=0,0,(AP11*((LOG(AP11))/LOG(2))))","v":-0.19667660678508753},null,{"$f":"N11","v":1211},{"$f":"COUNTIF(L125:L147,AS11)","v":0},{"$f":"AT11/(AV4-AT20)","v":0},{"$f":"IF(AU11=0,0,(AU11*((LOG(AU11))/LOG(2))))","v":0}]
[12,1187,23,1240,24,1251,14,1280,null,null,0,1221,null,1212,{"$f":"COUNTIF($L$7:$L$500,N12)","v":23},{"$f":"O12/$Q$4","v":0.16428571428571428},{"$f":"IF(P12=0,0,(P12*((LOG(P12))/LOG(2))))","v":-0.42808274571730659},null,null,{"$f":"N12","v":1212},{"$f":"COUNTIF(L7:L30,T12)","v":7},{"$f":"U12/(W4-U20)","v":0.29166666666666669},{"$f":"IF(V12=0,0,(V12*((LOG(V12))/LOG(2))))","v":-0.51846887711020273},null,{"$f":"N12","v":1212},{"$f":"COUNTIF(L31:L53,Y12)","v":5},{"$f":"Z12/(AB4-Z20)","v":0.23809523809523808},{"$f":"IF(AA12=0,0,(AA12*((LOG(AA12))/LOG(2))))","v":-0.49294983997414238},null,{"$f":"N12","v":1212},{"$f":"COUNTIF(L54:L77,AD12)","v":5},{"$f":"AE12/(AG4-AE20)","v":0.22727272727272727},{"$f":"IF(AF12=0,0,(AF12*((LOG(AF12))/LOG(2))))","v":-0.48579625539771243},null,{"$f":"N12","v":1212},{"$f":"COUNTIF(L78:L100,AI12)","v":3},{"$f":"AJ12/(AL4-AJ20)","v":0.13043478260869565},{"$f":"IF(AK12=0,0,(AK12*((LOG(AK12))/LOG(2))))","v":-0.3832955811307639},null,{"$f":"N12","v":1212},{"$f":"COUNTIF(L101:L124,AN12)","v":0},{"$f":"AO12/(AQ4-AO20)","v":0},{"$f":"IF(AP12=0,0,(AP12*((LOG(AP12))/LOG(2))))","v":0},null,{"$f":"N12","v":1212},{"$f":"COUNTIF(L125:L147,AS12)","v":3},{"$f":"AT12/(AV4-AT20)","v":0.13636363636363635},{"$f":"IF(AU12=0,0,(AU12*((LOG(AU12))/LOG(2))))","v":-0.39197306153401923}]
[21,1421,12,1440,24,1452,14,1469,null,null,0,2121,null,1221,{"$f":"COUNTIF($L$7:$L$500,N13)","v":8},{"$f":"O13/$Q$4","v":5.7142857142857141E-2},{"$f":"IF(P13=0,0,(P13*((LOG(P13))/LOG(2))))","v":-0.23595902953971234},null,null,{"$f":"N13","v":1221},{"$f":"COUNTIF(L7:L30,T13)","v":2},{"$f":"U13/(W4-U20)","v":8.3333333333333329E-2},{"$f":"IF(V13=0,0,(V13*((LOG(V13))/LOG(2))))","v":-0.29874687506009634},null,{"$f":"N13","v":1221},{"$f":"COUNTIF(L31:L53,Y13)","v":2},{"$f":"Z13/(AB4-Z20)","v":9.5238095238095233E-2},{"$f":"IF(AA13=0,0,(AA13*((LOG(AA13))/LOG(2))))","v":-0.32307784978845333},null,{"$f":"N13","v":1221},{"$f":"COUNTIF(L54:L77,AD13)","v":1},{"$f":"AE13/(AG4-AE20)","v":4.5454545454545456E-2},{"$f":"IF(AF13=0,0,(AF13*((LOG(AF13))/LOG(2))))","v":-0.20270143721078623},null,{"$f":"N13","v":1221},{"$f":"COUNTIF(L78:L100,AI13)","v":0},{"$f":"AJ13/(AL4-AJ20)","v":0},{"$f":"IF(AK13=0,0,(AK13*((LOG(AK13))/LOG(2))))","v":0},null,{"$f":"N13","v":1221},{"$f":"COUNTIF(L101:L124,AN13)","v":1},{"$f":"AO13/(AQ4-AO20)","v":4.3478260869565216E-2},{"$f":"IF(AP13=0,0,(AP13*((LOG(AP13))/LOG(2))))","v":-0.19667660678508753},null,{"$f":"N13","v":1221},{"$f":"COUNTIF(L125:L147,AS13)","v":2},{"$f":"AT13/(AV4-AT20)","v":9.0909090909090912E-2},{"$f":"IF(AU13=0,0,(AU13*((LOG(AU13))/LOG(2))))","v":-0.31449378351248153}]
[12,1718,23,1745,13,1759,23,1776,null,null,0,1212,null,1222,{"$f":"COUNTIF($L$7:$L$500,N14)","v":2},{"$f":"O14/$Q$4","v":1.4285714285714285E-2},{"$f":"IF(P14=0,0,(P14*((LOG(P14))/LOG(2))))","v":-8.756118595635666E-2},null,null,{"$f":"N14","v":1222},{"$f":"COUNTIF(L7:L30,T14)","v":1},{"$f":"U14/(W4-U20)","v":4.1666666666666664E-2},{"$f":"IF(V14=0,0,(V14*((LOG(V14))/LOG(2))))","v":-0.19104010419671485},null,{"$f":"N14","v":1222},{"$f":"COUNTIF(L31:L53,Y14)","v":1},{"$f":"Z14/(AB4-Z20)","v":4.7619047619047616E-2},{"$f":"IF(AA14=0,0,(AA14*((LOG(AA14))/LOG(2))))","v":-0.20915797251327431},null,{"$f":"N14","v":1222},{"$f":"COUNTIF(L54:L77,AD14)","v":0},{"$f":"AE14/(AG4-AE20)","v":0},{"$f":"IF(AF14=0,0,(AF14*((LOG(AF14))/LOG(2))))","v":0},null,{"$f":"N14","v":1222},{"$f":"COUNTIF(L78:L100,AI14)","v":0},{"$f":"AJ14/(AL4-AJ20)","v":0},{"$f":"IF(AK14=0,0,(AK14*((LOG(AK14))/LOG(2))))","v":0},null,{"$f":"N14","v":1222},{"$f":"COUNTIF(L101:L124,AN14)","v":0},{"$f":"AO14/(AQ4-AO20)","v":0},{"$f":"IF(AP14=0,0,(AP14*((LOG(AP14))/LOG(2))))","v":0},null,{"$f":"N14","v":1222},{"$f":"COUNTIF(L125:L147,AS14)","v":0},{"$f":"AT14/(AV4-AT20)","v":0},{"$f":"IF(AU14=0,0,(AU14*((LOG(AU14))/LOG(2))))","v":0}]
[21,1880,12,1894,24,1908,14,1925,null,null,0,2121,null,2111,{"$f":"COUNTIF($L$7:$L$500,N15)","v":3},{"$f":"O15/$Q$4","v":2.1428571428571429E-2},{"$f":"IF(P15=0,0,(P15*((LOG(P15))/LOG(2))))","v":-0.11880686820479594},null,null,{"$f":"N15","v":2111},{"$f":"COUNTIF(L7:L30,T15)","v":0},{"$f":"U15/(W4-U20)","v":0},{"$f":"IF(V15=0,0,(V15*((LOG(V15))/LOG(2))))","v":0},null,{"$f":"N15","v":2111},{"$f":"COUNTIF(L31:L53,Y15)","v":1},{"$f":"Z15/(AB4-Z20)","v":4.7619047619047616E-2},{"$f":"IF(AA15=0,0,(AA15*((LOG(AA15))/LOG(2))))","v":-0.20915797251327431},null,{"$f":"N15","v":2111},{"$f":"COUNTIF(L54:L77,AD15)","v":0},{"$f":"AE15/(AG4-AE20)","v":0},{"$f":"IF(AF15=0,0,(AF15*((LOG(AF15))/LOG(2))))","v":0},null,{"$f":"N15","v":2111},{"$f":"COUNTIF(L78:L100,AI15)","v":0},{"$f":"AJ15/(AL4-AJ20)","v":0},{"$f":"IF(AK15=0,0,(AK15*((LOG(AK15))/LOG(2))))","v":0},null,{"$f":"N15","v":2111},{"$f":"COUNTIF(L101:L124,AN15)","v":2},{"$f":"AO15/(AQ4-AO20)","v":8.6956521739130432E-2},{"$f":"IF(AP15=0,0,(AP15*((LOG(AP15))/LOG(2))))","v":-0.30639669183104457},null,{"$f":"N15","v":2111},{"$f":"COUNTIF(L125:L147,AS15)","v":0},{"$f":"AT15/(AV4-AT20)","v":0},{"$f":"IF(AU15=0,0,(AU15*((LOG(AU15))/LOG(2))))","v":0}]
[21,2036,12,2056,24,2066,14,2084,null,null,0,2121,null,2112,{"$f":"COUNTIF($L$7:$L$500,N16)","v":11},{"$f":"O16/$Q$4","v":7.857142857142857E-2},{"$f":"IF(P16=0,0,(P16*((LOG(P16))/LOG(2))))","v":-0.28834546700988833},null,null,{"$f":"N16","v":2112},{"$f":"COUNTIF(L7:L30,T16)","v":0},{"$f":"U16/(W4-U20)","v":0},{"$f":"IF(V16=0,0,(V16*((LOG(V16))/LOG(2))))","v":0},null,{"$f":"N16","v":2112},{"$f":"COUNTIF(L31:L53,Y16)","v":1},{"$f":"Z16/(AB4-Z20)","v":4.7619047619047616E-2},{"$f":"IF(AA16=0,0,(AA16*((LOG(AA16))/LOG(2))))","v":-0.20915797251327431},null,{"$f":"N16","v":2112},{"$f":"COUNTIF(L54:L77,AD16)","v":3},{"$f":"AE16/(AG4-AE20)","v":0.13636363636363635},{"$f":"IF(AF16=0,0,(AF16*((LOG(AF16))/LOG(2))))","v":-0.39197306153401923},null,{"$f":"N16","v":2112},{"$f":"COUNTIF(L78:L100,AI16)","v":1},{"$f":"AJ16/(AL4-AJ20)","v":4.3478260869565216E-2},{"$f":"IF(AK16=0,0,(AK16*((LOG(AK16))/LOG(2))))","v":-0.19667660678508753},null,{"$f":"N16","v":2112},{"$f":"COUNTIF(L101:L124,AN16)","v":1},{"$f":"AO16/(AQ4-AO20)","v":4.3478260869565216E-2},{"$f":"IF(AP16=0,0,(AP16*((LOG(AP16))/LOG(2))))","v":-0.19667660678508753},null,{"$f":"N16","v":2112},{"$f":"COUNTIF(L125:L147,AS16)","v":5},{"$f":"AT16/(AV4-AT20)","v":0.22727272727272727},{"$f":"IF(AU16=0,0,(AU16*((LOG(AU16))/LOG(2))))","v":-0.48579625539771243}]
[12,2184,14,2189,24,2214,14,2233,null,null,0,1121,null,2121,{"$f":"COUNTIF($L$7:$L$500,N17)","v":15},{"$f":"O17/$Q$4","v":0.10714285714285714},{"$f":"IF(P17=0,0,(P17*((LOG(P17))/LOG(2))))","v":-0.34525633085747659},null,null,{"$f":"N17","v":2121},{"$f":"COUNTIF(L7:L30,T17)","v":4},{"$f":"U17/(W4-U20)","v":0.16666666666666666},{"$f":"IF(V17=0,0,(V17*((LOG(V17))/LOG(2))))","v":-0.43082708345352599},null,{"$f":"N17","v":2121},{"$f":"COUNTIF(L31:L53,Y17)","v":2},{"$f":"Z17/(AB4-Z20)","v":9.5238095238095233E-2},{"$f":"IF(AA17=0,0,(AA17*((LOG(AA17))/LOG(2))))","v":-0.32307784978845333},null,{"$f":"N17","v":2121},{"$f":"COUNTIF(L54:L77,AD17)","v":1},{"$f":"AE17/(AG4-AE20)","v":4.5454545454545456E-2},{"$f":"IF(AF17=0,0,(AF17*((LOG(AF17))/LOG(2))))","v":-0.20270143721078623},null,{"$f":"N17","v":2121},{"$f":"COUNTIF(L78:L100,AI17)","v":0},{"$f":"AJ17/(AL4-AJ20)","v":0},{"$f":"IF(AK17=0,0,(AK17*((LOG(AK17))/LOG(2))))","v":0},null,{"$f":"N17","v":2121},{"$f":"COUNTIF(L101:L124,AN17)","v":5},{"$f":"AO17/(AQ4-AO20)","v":0.21739130434782608},{"$f":"IF(AP17=0,0,(AP17*((LOG(AP17))/LOG(2))))","v":-0.47861605677601093},null,{"$f":"N17","v":2121},{"$f":"COUNTIF(L125:L147,AS17)","v":3},{"$f":"AT17/(AV4-AT20)","v":0.13636363636363635},{"$f":"IF(AU17=0,0,(AU17*((LOG(AU17))/LOG(2))))","v":-0.39197306153401923}]
[12,2439,14,2444,24,2458,14,2481,null,null,0,1121,null,2122,{"$f":"COUNTIF($L$7:$L$500,N18)","v":7},{"$f":"O18/$Q$4","v":0.05},{"$f":"IF(P18=0,0,(P18*((LOG(P18))/LOG(2))))","v":-0.21609640474436814},null,null,{"$f":"N18","v":2122},{"$f":"COUNTIF(L7:L30,T18)","v":2},{"$f":"U18/(W4-U20)","v":8.3333333333333329E-2},{"$f":"IF(V18=0,0,(V18*((LOG(V18))/LOG(2))))","v":-0.29874687506009634},null,{"$f":"N18","v":2122},{"$f":"COUNTIF(L31:L53,Y18)","v":2},{"$f":"Z18/(AB4-Z20)","v":9.5238095238095233E-2},{"$f":"IF(AA18=0,0,(AA18*((LOG(AA18))/LOG(2))))","v":-0.32307784978845333},null,{"$f":"N18","v":2122},{"$f":"COUNTIF(L54:L77,AD18)","v":2},{"$f":"AE18/(AG4-AE20)","v":9.0909090909090912E-2},{"$f":"IF(AF18=0,0,(AF18*((LOG(AF18))/LOG(2))))","v":-0.31449378351248153},null,{"$f":"N18","v":2122},{"$f":"COUNTIF(L78:L100,AI18)","v":0},{"$f":"AJ18/(AL4-AJ20)","v":0},{"$f":"IF(AK18=0,0,(AK18*((LOG(AK18))/LOG(2))))","v":0},null,{"$f":"N18","v":2122},{"$f":"COUNTIF(L101:L124,AN18)","v":0},{"$f":"AO18/(AQ4-AO20)","v":0},{"$f":"IF(AP18=0,0,(AP18*((LOG(AP18))/LOG(2))))","v":0},null,{"$f":"N18","v":2122},{"$f":"COUNTIF(L125:L147,AS18)","v":1},{"$f":"AT18/(AV4-AT20)","v":4.5454545454545456E-2},{"$f":"IF(AU18=0,0,(AU18*((LOG(AU18))/LOG(2))))","v":-0.20270143721078623}]
[12,2611,23,2627,13,2650,23,2663,null,null,0,1212,null,2211,{"$f":"COUNTIF($L$7:$L$500,N19)","v":1},{"$f":"O19/$Q$4","v":7.1428571428571426E-3},{"$f":"IF(P19=0,0,(P19*((LOG(P19))/LOG(2))))","v":-5.0923450121035475E-2},null,null,{"$f":"N19","v":2211},{"$f":"COUNTIF(L7:L30,T19)","v":0},{"$f":"U19/(W4-U20)","v":0},{"$f":"IF(V19=0,0,(V19*((LOG(V19))/LOG(2))))","v":0},null,{"$f":"N19","v":2211},{"$f":"COUNTIF(L31:L53,Y19)","v":0},{"$f":"Z19/(AB4-Z20)","v":0},{"$f":"IF(AA19=0,0,(AA19*((LOG(AA19))/LOG(2))))","v":0},null,{"$f":"N19","v":2211},{"$f":"COUNTIF(L54:L77,AD19)","v":0},{"$f":"AE19/(AG4-AE20)","v":0},{"$f":"IF(AF19=0,0,(AF19*((LOG(AF19))/LOG(2))))","v":0},null,{"$f":"N19","v":2211},{"$f":"COUNTIF(L78:L100,AI19)","v":1},{"$f":"AJ19/(AL4-AJ20)","v":4.3478260869565216E-2},{"$f":"IF(AK19=0,0,(AK19*((LOG(AK19))/LOG(2))))","v":-0.19667660678508753},null,{"$f":"N19","v":2211},{"$f":"COUNTIF(L101:L124,AN19)","v":0},{"$f":"AO19/(AQ4-AO20)","v":0},{"$f":"IF(AP19=0,0,(AP19*((LOG(AP19))/LOG(2))))","v":0},null,{"$f":"N19","v":2211},{"$f":"COUNTIF(L125:L147,AS19)","v":0},{"$f":"AT19/(AV4-AT20)","v":0},{"$f":"IF(AU19=0,0,(AU19*((LOG(AU19))/LOG(2))))","v":0}]
[12,2784,23,2793,13,2808,14,2812,null,null,0,1211,null,2212,{"$f":"COUNTIF($L$7:$L$500,N20)","v":5},{"$f":"O20/$Q$4","v":3.5714285714285712E-2},{"$f":"IF(P20=0,0,(P20*((LOG(P20))/LOG(2))))","v":-0.17169124721634299},null,null,{"$f":"N20","v":2212},{"$f":"COUNTIF(L7:L30,T20)","v":0},null,null,null,{"$f":"N20","v":2212},{"$f":"COUNTIF(L31:L53,Y20)","v":2},null,null,null,{"$f":"N20","v":2212},{"$f":"COUNTIF(L54:L77,AD20)","v":2},null,null,null,{"$f":"N20","v":2212},{"$f":"COUNTIF(L78:L100,AI20)","v":0},null,null,null,{"$f":"N20","v":2212},{"$f":"COUNTIF(L101:L124,AN20)","v":1},null,null,null,{"$f":"N20","v":2212},{"$f":"COUNTIF(L125:L147,AS20)","v":0}]
[12,2967,23,2979,13,2995,23,3006,null,null,0,1212,null,2221,{"$f":"COUNTIF($L$7:$L$500,N21)","v":0},{"$f":"O21/$Q$4","v":0},{"$f":"IF(P21=0,0,(P21*((LOG(P21))/LOG(2))))","v":0},null,null,{"$f":"N21","v":2221},{"$f":"COUNTIF(L7:L30,T21)","v":0},{"$f":"U21/(W4-U20)","v":0},{"$f":"IF(V21=0,0,(V21*((LOG(V21))/LOG(2))))","v":0},null,{"$f":"N21","v":2221},{"$f":"COUNTIF(L31:L53,Y21)","v":0},{"$f":"Z21/(AB4-Z20)","v":0},{"$f":"IF(AA21=0,0,(AA21*((LOG(AA21))/LOG(2))))","v":0},null,{"$f":"N21","v":2221},{"$f":"COUNTIF(L54:L77,AD21)","v":0},{"$f":"AE21/(AG4-AE20)","v":0},{"$f":"IF(AF21=0,0,(AF21*((LOG(AF21))/LOG(2))))","v":0},null,{"$f":"N21","v":2221},{"$f":"COUNTIF(L78:L100,AI21)","v":0},{"$f":"AJ21/(AL4-AJ20)","v":0},{"$f":"IF(AK21=0,0,(AK21*((LOG(AK21))/LOG(2))))","v":0},null,{"$f":"N21","v":2221},{"$f":"COUNTIF(L101:L124,AN21)","v":0},{"$f":"AO21/(AQ4-AO20)","v":0},{"$f":"IF(AP21=0,0,(AP21*((LOG(AP21))/LOG(2))))","v":0},null,{"$f":"N21","v":2221},{"$f":"COUNTIF(L125:L147,AS21)","v":0},{"$f":"AT21/(AV4-AT20)","v":0},{"$f":"IF(AU21=0,0,(AU21*((LOG(AU21))/LOG(2))))","v":0}]
[12,3180,23,3198,13,3213,23,3225,null,null,0,1212,null,2222,{"$f":"COUNTIF($L$7:$L$500,N22)","v":0},{"$f":"O22/$Q$4","v":0},{"$f":"IF(P22=0,0,(P22*((LOG(P22))/LOG(2))))","v":0},null,null,{"$f":"N22","v":2222},{"$f":"COUNTIF(L7:L30,T22)","v":0},{"$f":"U22/(W4-U20)","v":0},{"$f":"IF(V22=0,0,(V22*((LOG(V22))/LOG(2))))","v":0},null,{"$f":"N22","v":2222},{"$f":"COUNTIF(L31:L53,Y22)","v":0},{"$f":"Z22/(AB4-Z20)","v":0},{"$f":"IF(AA22=0,0,(AA22*((LOG(AA22))/LOG(2))))","v":0},null,{"$f":"N22","v":2222},{"$f":"COUNTIF(L54:L77,AD22)","v":0},{"$f":"AE22/(AG4-AE20)","v":0},{"$f":"IF(AF22=0,0,(AF22*((LOG(AF22))/LOG(2))))","v":0},null,{"$f":"N22","v":2222},{"$f":"COUNTIF(L78:L100,AI22)","v":0},{"$f":"AJ22/(AL4-AJ20)","v":0},{"$f":"IF(AK22=0,0,(AK22*((LOG(AK22))/LOG(2))))","v":0},null,{"$f":"N22","v":2222},{"$f":"COUNTIF(L101:L124,AN22)","v":0},{"$f":"AO22/(AQ4-AO20)","v":0},{"$f":"IF(AP22=0,0,(AP22*((LOG(AP22))/LOG(2))))","v":0},null,{"$f":"N22","v":2222},{"$f":"COUNTIF(L125:L147,AS22)","v":0},{"$f":"AT22/(AV4-AT20)","v":0},{"$f":"IF(AU22=0,0,(AU22*((LOG(AU22))/LOG(2))))","v":0}]
[12,3374,23,3392,13,3408,14,3413,null,null,0,1211,null,null,null,{"$f":"SUM(P7:P22)","v":1},{"$f":"-SUM(Q7:Q22)","v":3.4940111558934639},null,null,null,null,{"$f":"SUM(V7:V22)","v":1},{"$f":"-SUM(W7:W22)","v":2.7661506484543552},null,null,null,{"$f":"SUM(AA7:AA22)","v":1},{"$f":"-SUM(AB7:AB22)","v":3.1368637096073178},null,null,null,{"$f":"SUM(AF7:AF22)","v":0.99999999999999989},{"$f":"-SUM(AG7:AG22)","v":2.9762865966786296},null,null,null,{"$f":"SUM(AK7:AK22)","v":0.99999999999999989},{"$f":"-SUM(AL7:AL22)","v":2.4402512186268552},null,null,null,{"$f":"SUM(AP7:AP22)","v":0.99999999999999989},{"$f":"-SUM(AQ7:AQ22)","v":2.8440319350530698},null,null,null,{"$f":"SUM(AU7:AU22)","v":1},{"$f":"-SUM(AV7:AV22)","v":3.0105996649587872}]
[12,3628,14,3638,24,3668,23,3674,null,null,0,1122,null,null,null,"U=",{"$f":"Q23/(LOG(Q4)/LOG(2))","v":0.49009292345231004},null,null,null,null,"U1=",{"$f":"W23/(LOG(W4)/LOG(2))","v":0.60330932870645615},null,null,null,"U2=",{"$f":"AB23/(LOG(AB4)/LOG(2))","v":0.69344992730940325},null,null,null,"U3=",{"$f":"AG23/(LOG(AG4)/LOG(2))","v":0.64914088091461986},null,null,null,"U4=",{"$f":"AL23/(LOG(AL4)/LOG(2))","v":0.5394534754540895},null,null,null,"U5=",{"$f":"AQ23/(LOG(AQ4)/LOG(2))","v":0.62029557157899107},null,null,null,"U6=",{"$f":"AV23/(LOG(AV4)/LOG(2))","v":0.67510838205850976}]
[21,3841,12,3859,24,3868,14,3886,null,null,0,2121]
[12,4079,23,4090,13,4107,23,4115,null,null,0,1212]
[12,4285,23,4298,13,4320,14,4326,null,null,0,1211,null,"Total Target Seq"]
[12,4468,23,4481,13,4496,23,4506,null,null,0,1212,null,{"$f":"COUNTIF(L7:L147,G3)","v":5},null,24,23,24,23,24,23]
[21,4660,12,4679,24,4691,23,4697,null,null,0,2122,null,null,null,"% of reinforcement given in 6 equal intervals based on number of trials "]
[12,4879,23,4897,13,4912,23,4924,null,null,0,1212,null,null,null,"%_1","%_2","%_3","%_4","%_5","%_6"]
[12,5075,23,5093,13,5109,14,5114,null,null,0,1211,null,null,"target sequence",{"$f":"$G$3","v":2212},{"$f":"$G$3","v":2212},{"$f":"$G$3","v":2212},{"$f":"$G$3","v":2212},{"$f":"$G$3","v":2212},{"$f":"$G$3","v":2212}]
[21,5223,12,5240,24,5251,14,5268,null,null,0,2121,null,null,"total reinforcement",{"$f":"U20","v":0},{"$f":"Z20","v":2},{"$f":"AE20","v":2},{"$f":"AJ20","v":0},{"$f":"AO20","v":1},{"$f":"AT20","v":0}]
[21,5377,12,5391,24,5402,23,5412,null,null,0,2122,null,null,"% target"]
[21,5530,12,5543,24,5566,14,5578,null,null,0,2121,null,null,"CCRF"]
[21,5684,12,5707,13,5747,14,5751,null,null,0,2111,null,null,"% CCRf"]
[12,5889,23,5905,13,5921,23,5932,null,null,0,1212,null,null,"average response rate",{"$f":"H30/P28","v":205.16666666666666},{"$f":"(H53-H30)/Q28","v":163.78260869565219},{"$f":"(H77-H53)/R28","v":179.29166666666666},{"$f":"(H100-H77)/S28","v":156.95652173913044},{"$f":"(H124-H100)/T28","v":156.04166666666666},{"$f":"(H147-H124)/U28","v":-884.73913043478262}]
[12,6047,23,6060,24,6066,23,6090,null,null,0,1222]
[21,6182,21,6200,11,6215,21,6226,null,null,0,2212]
[12,6322,23,6343,13,6358,23,6369,null,null,0,1212]
[12,6527,14,6533,13,6554,23,6564,null,null,0,1112]
[12,6683,23,6706,24,6718,14,6733,null,null,0,1221]
[21,6848,21,6850,11,6871,21,6880,null,null,0,2212]
[12,6973,14,6978,24,6992,14,7013,null,null,0,1121]
[12,7138,23,7155,13,7168,14,7174,null,null,0,1211]
[12,7281,23,7299,24,7323,14,7340,null,null,0,1221]
[12,7458,23,7469,13,7483,23,7497,null,null,0,1212]
[12,7617,14,7652,24,7661,14,7677,null,null,0,1121]
[21,7838,12,7855,24,7866,23,7877,null,null,0,2122]
[12,7995,23,8017,13,8029,23,8045,null,null,0,1212]
[12,8186,23,8206,13,8221,23,8232,null,null,0,1212]
[12,8334,14,8360,24,8385,14,8405,null,null,0,1121]
[21,8513,12,8523,13,8528,23,8545,null,null,0,2112]
[12,8646,14,8655,13,8675,23,8691,null,null,0,1112]
[12,8803,14,8831,24,8847,23,8880,null,null,0,1122]
[21,8998,12,9014,24,9051,14,9078,null,null,0,2121]
[12,9220,14,9225,24,9234,14,9250,null,null,0,1121]
[12,9373,23,9386,13,9404,23,9415,null,null,0,1212]
[21,9533,12,9549,13,9555,23,9566,null,null,0,2112]
[12,9685,23,9697,24,9703,14,9717,null,null,0,1221]
[21,9844,12,9860,13,9886,23,9918,null,null,0,2112]
[21,10054,21,10063,11,10075,21,10091,null,null,0,2212]
[12,10194,14,10199,13,10227,23,10241,null,null,0,1112]
[12,10400,14,10405,24,10421,23,10467,null,null,0,1122]
[12,10591,14,10601,13,10625,14,10631,null,null,0,1111]
[12,10758,23,10769,13,10783,23,10792,null,null,0,1212]
[12,10920,23,10944,13,10958,23,10969,null,null,0,1212]
[21,11079,12,11091,24,11101,23,11125,null,null,0,2122]
[21,11380,12,11394,24,11407,23,11413,null,null,0,2122]
[21,11559,21,11585,11,11599,21,11607,null,null,0,2212]
[12,11700,14,11713,13,11745,23,11762,null,null,0,1112]
[12,11893,23,11927,13,11957,23,11965,null,null,0,1212]
[12,12073,14,12112,24,12133,14,12148,null,null,0,1121]
[12,12269,14,12291,24,12300,23,12305,null,null,0,1122]
[12,12421,14,12425,24,12457,14,12475,null,null,0,1121]
[12,12614,23,12627,13,12643,23,12652,null,null,0,1212]
[21,12773,12,12786,13,12791,23,12801,null,null,0,2112]
[12,12962,14,12969,13,12978,23,12994,null,null,0,1112]
[12,13107,14,13128,13,13134,23,13150,null,null,0,1112]
[12,13313,14,13318,24,13339,14,13351,null,null,0,1121]
[12,13467,14,13475,13,13482,14,13512,null,null,0,1111]
[21,13631,21,13653,11,13667,12,13672,null,null,0,2211]
[12,13781,23,13794,13,13814,23,13831,null,null,0,1212]
[12,13964,14,13987,24,14003,14,14016,null,null,0,1121]
[12,14136,14,14141,13,14146,14,14150,null,null,0,1111]
[12,14273,14,14292,13,14296,23,14307,null,null,0,1112]
[12,14441,14,14445,13,14450,14,14464,null,null,0,1111]
[12,14588,14,14596,24,14607,14,14621,null,null,0,1121]
[12,14740,14,14745,24,14759,14,14770,null,null,0,1121]
[12,14884,23,14913,13,14925,14,14930,null,null,0,1211]
[12,15050,14,15058,13,15063,14,15071,null,null,0,1111]
[12,15202,14,15209,24,15224,14,15242,null,null,0,1121]
[12,15346,14,15350,13,15401,14,15406,null,null,0,1111]
[12,15596,23,15610,13,15627,23,15639,null,null,0,1212]
[21,15752,12,15761,13,15766,23,15775,null,null,0,2112]
[12,15875,14,15880,13,15889,23,15909,null,null,0,1112]
[12,16009,14,16012,13,16017,14,16021,null,null,0,1111]
[12,16119,14,16124,13,16130,14,16139,null,null,0,1111]
[12,16263,14,16267,24,16278,14,16291,null,null,0,1121]
[12,16403,14,16408,13,16429,23,16443,null,null,0,1112]
[12,16569,23,16580,13,16593,23,16604,null,null,0,1212]
[21,16725,12,16738,13,16761,14,16764,null,null,0,2111]
[12,16930,14,16935,13,16952,14,16961,null,null,0,1111]
[12,17079,14,17085,13,17095,23,17106,null,null,0,1112]
[12,17225,14,17229,24,17238,14,17254,null,null,0,1121]
[12,17391,23,17412,13,17427,14,17431,null,null,0,1211]
[12,17565,14,17572,24,17594,14,17610,null,null,0,1121]
[21,17719,12,17732,13,17741,14,17747,null,null,0,2111]
[12,17844,14,17848,13,17854,23,17870,null,null,0,1112]
[12,17968,14,17972,13,17981,14,17986,null,null,0,1111]
[21,18094,12,18125,24,18136,14,18161,null,null,0,2121]
[21,18270,12,18282,13,18285,23,18299,null,null,0,2112]
[21,18408,12,18423,24,18434,14,18447,null,null,0,2121]
[12,18547,14,18553,24,18574,14,18587,null,null,0,1121]
[21,18715,12,18732,24,18744,14,18757,null,null,0,2121]
[12,18879,14,18898,13,18903,23,18917,null,null,0,1112]
[12,19043,14,19081,13,19087,14,19092,null,null,0,1111]
[21,19226,21,19231,11,19244,21,19264,null,null,0,2212]
[12,19356,14,19361,13,19366,23,19380,null,null,0,1112]
[12,19479,23,19508,24,19516,14,19534,null,null,0,1221]
[12,19666,14,19675,13,19680,23,19711,null,null,0,1112]
[12,19863,14,19869,24,19880,23,19894,null,null,0,1122]
[12,19992,14,20025,13,20030,23,20038,null,null,0,1112]
[21,20144,12,20164,24,20183,14,20198,null,null,0,2121]
[21,20309,12,20324,24,20332,14,20349,null,null,0,2121]
[12,20466,14,20471,13,20476,23,20492,null,null,0,1112]
[21,20604,12,20617,13,20623,23,20635,null,null,0,2112]
[21,20758,12,20775,13,20807,23,20816,null,null,0,2112]
[21,20925,12,20943,13,20948,23,20958,null,null,0,2112]
[12,21077,23,21105,24,21118,14,21134,null,null,0,1221]
[12,21264,23,21276,13,21294,23,21303,null,null,0,1212]
[12,21433,23,21450,13,21463,23,21480,null,null,0,1212]
[21,21587,12,21601,24,21612,14,21626,null,null,0,2121]
[21,21737,12,21747,13,21752,23,21763,null,null,0,2112]
[12,21876,23,21886,13,21899,23,21916,null,null,0,1212]
[21,22040,12,22049,24,22059,14,22072,null,null,0,2121]
[21,22177,12,22193,13,22198,23,22211,null,null,0,2112]
[21,22333,12,22342,24,22357,14,22370,null,null,0,2121]
[21,22481,12,22497,24,22510,23,22524,null,null,0,2122]
[12,22649,14,22653,24,22662,23,22667,null,null,0,1122]
[12,22794,14,22799,13,22808,14,22813,null,null,0,1111]
[12,22957,23,22978,24,22994,14,23009,null,null,0,1221]
[12,23150,14,23155,13,23193,14,23198,null,null,0,1111]
[12,23325,14,23329,24,23338,23,23351,null,null,0,1122]
[12,23482,14,23486,24,23496,14,23514,null,null,0,1121]
[12,23627,14,23651,13,23656,23,23691,null,null,0,1112]
[12,23807,14,23832,13,23836,23,23848,null,null,0,1112]
[12,23976,14,23981,24,24000,null,null,null,null,null,112]

{"sheet":"!N119810.092","index":22,"n_rows":146,"n_cols":48,"rows_kept":146,"cut":false,"hidden":false,"merged":[[4,39,4,42],[5,39,5,40],[4,44,4,47],[5,44,5,45],[4,24,4,27],[5,24,5,25],[4,29,4,32],[5,29,5,30],[4,34,4,37],[5,34,5,35],[1,1,1,2],[5,13,5,14],[26,13,26,14],[27,13,27,14],[4,19,4,22],[5,19,5,20]]}
["Report for:!N119810.092"]
["Date:","<date>"]
["Hen:","<hen>",null,null,null,"Correct Sequence",{"$f":"Start!J2","v":2212},null,null,null,null,null,null,null,null,"Total Sequences in Data",{"$f":"4994-COUNTBLANK(L7:L5000)","v":140},null,null,null,null,"Total Sequences in Block Data",{"$f":"COUNTA(L7:L29)","v":23},null,null,null,"Total Sequences in Block Data",{"$f":"COUNTA(L30:L53)","v":24},null,null,null,"Total Sequences in Block Data",{"$f":"COUNTA(L54:L76)","v":23},null,null,null,"Total Sequences in Block Data",{"$f":"COUNTA(L77:L99)","v":23},null,null,null,"Total Sequences in Block Data",{"$f":"COUNTA(L100:L123)","v":24},null,null,null,"Total Sequences in Block Data",{"$f":"COUNTA(L124:L146)","v":23}]
[null,null,null,null,null,null,null,null,null,null,null,null,null,null,null,"Total Sequences in Summary",{"$f":"SUM(O7:O22)","v":140},null,null,null,null,"Total Sequences in Block Summary",{"$f":"SUM(U7:U22)","v":23},null,null,null,"Total Sequences in Block Summary",{"$f":"SUM(Z7:Z22)","v":24},null,null,null,"Total Sequences in Block Summary",{"$f":"SUM(AE7:AE22)","v":23},null,null,null,"Total Sequences in Block Summary",{"$f":"SUM(AJ7:AJ22)","v":23},null,null,null,"Total Sequences in Block Summary",{"$f":"SUM(AO7:AO22)","v":24},null,null,null,"Total Sequences in Block Summary",{"$f":"SUM(AT7:AT22)","v":23}]
[null,null,null,null,null,null,null,null,null,null,null,null,null,null,null,null,null,null,null,"Block 1",null,null,null,null,"Block 2",null,null,null,null,"Block 3",null,null,null,null,"Block 4",null,null,null,null,"Block 5",null,null,null,null,"Block 6"]
["Sequence\nComponent\n1","Time\n1","Sequence\nComponent\n2","Time\n2","Sequence\nComponent\n3","Time\n3","Sequence\nComponent\n4","Time\n4","Sequence\nComponent\n5","Time\n5","Correct?\n0=No 1=Yes","Sequence",null,"Frequency",null,"Relative Frequency","Variability",null,null,"Frequency",null,"Relative Frequency","Variability",null,"Frequency",null,"Relative Frequency","Variability",null,"Frequency",null,"Relative Frequency","Variability",null,"Frequency",null,"Relative Frequency","Variability",null,"Frequency",null,"Relative Frequency","Variability",null,"Frequency",null,"Relative Frequency","Variability"]
[12,96,23,134,24,160,23,186,null,null,0,1222,null,1111,{"$f":"COUNTIF($L$7:$L$500,N7)","v":14},{"$f":"O7/$Q$4","v":0.1},{"$f":"IF(P7=0,0,(P7*((LOG(P7))/LOG(2))))","v":-0.33219280948873625},null,null,{"$f":"N7","v":1111},{"$f":"COUNTIF(L7:L29,T7)","v":0},{"$f":"U7/(W4-U20)","v":0},{"$f":"IF(V7=0,0,(V7*((LOG(V7))/LOG(2))))","v":0},null,{"$f":"N7","v":1111},{"$f":"COUNTIF(L30:L53,Y7)","v":3},{"$f":"Z7/(AB4-Z20)","v":0.13043478260869565},{"$f":"IF(AA7=0,0,(AA7*((LOG(AA7))/LOG(2))))","v":-0.3832955811307639},null,{"$f":"N7","v":1111},{"$f":"COUNTIF(L54:L76,AD7)","v":5},{"$f":"AE7/(AG4-AE20)","v":0.21739130434782608},{"$f":"IF(AF7=0,0,(AF7*((LOG(AF7))/LOG(2))))","v":-0.47861605677601093},null,{"$f":"N7","v":1111},{"$f":"COUNTIF(L77:L99,AI7)","v":4},{"$f":"AJ7/(AL4-AJ20)","v":0.18181818181818182},{"$f":"IF(AK7=0,0,(AK7*((LOG(AK7))/LOG(2))))","v":-0.44716938520678134},null,{"$f":"N7","v":1111},{"$f":"COUNTIF(L100:L123,AN7)","v":0},{"$f":"AO7/(AQ4-AO20)","v":0},{"$f":"IF(AP7=0,0,(AP7*((LOG(AP7))/LOG(2))))","v":0},null,{"$f":"N7","v":1111},{"$f":"COUNTIF(L124:L146,AS7)","v":2},{"$f":"AT7/(AV4-AT20)","v":8.6956521739130432E-2},{"$f":"IF(AU7=0,0,(AU7*((LOG(AU7))/LOG(2))))","v":-0.30639669183104457}]
[12,305,23,318,13,333,14,366,null,null,0,1211,null,1112,{"$f":"COUNTIF($L$7:$L$500,N8)","v":15},{"$f":"O8/$Q$4","v":0.10714285714285714},{"$f":"IF(P8=0,0,(P8*((LOG(P8))/LOG(2))))","v":-0.34525633085747659},null,null,{"$f":"N8","v":1112},{"$f":"COUNTIF(L7:L29,T8)","v":2},{"$f":"U8/(W4-U20)","v":8.6956521739130432E-2},{"$f":"IF(V8=0,0,(V8*((LOG(V8))/LOG(2))))","v":-0.30639669183104457},null,{"$f":"N8","v":1112},{"$f":"COUNTIF(L30:L53,Y8)","v":2},{"$f":"Z8/(AB4-Z20)","v":8.6956521739130432E-2},{"$f":"IF(AA8=0,0,(AA8*((LOG(AA8))/LOG(2))))","v":-0.30639669183104457},null,{"$f":"N8","v":1112},{"$f":"COUNTIF(L54:L76,AD8)","v":5},{"$f":"AE8/(AG4-AE20)","v":0.21739130434782608},{"$f":"IF(AF8=0,0,(AF8*((LOG(AF8))/LOG(2))))","v":-0.47861605677601093},null,{"$f":"N8","v":1112},{"$f":"COUNTIF(L77:L99,AI8)","v":3},{"$f":"AJ8/(AL4-AJ20)","v":0.13636363636363635},{"$f":"IF(AK8=0,0,(AK8*((LOG(AK8))/LOG(2))))","v":-0.39197306153401923},null,{"$f":"N8","v":1112},{"$f":"COUNTIF(L100:L123,AN8)","v":2},{"$f":"AO8/(AQ4-AO20)","v":8.6956521739130432E-2},{"$f":"IF(AP8=0,0,(AP8*((LOG(AP8))/LOG(2))))","v":-0.30639669183104457},null,{"$f":"N8","v":1112},{"$f":"COUNTIF(L124:L146,AS8)","v":1},{"$f":"AT8/(AV4-AT20)","v":4.3478260869565216E-2},{"$f":"IF(AU8=0,0,(AU8*((LOG(AU8))/LOG(2))))","v":-0.19667660678508753}]
[21,468,21,484,22,501,14,517,null,null,0,2221,null,1121,{"$f":"COUNTIF($L$7:$L$500,N9)","v":18},{"$f":"O9/$Q$4","v":0.12857142857142856},{"$f":"IF(P9=0,0,(P9*((LOG(P9))/LOG(2))))","v":-0.38048888770748407},null,null,{"$f":"N9","v":1121},{"$f":"COUNTIF(L7:L29,T9)","v":5},{"$f":"U9/(W4-U20)","v":0.21739130434782608},{"$f":"IF(V9=0,0,(V9*((LOG(V9))/LOG(2))))","v":-0.47861605677601093},null,{"$f":"N9","v":1121},{"$f":"COUNTIF(L30:L53,Y9)","v":1},{"$f":"Z9/(AB4-Z20)","v":4.3478260869565216E-2},{"$f":"IF(AA9=0,0,(AA9*((LOG(AA9))/LOG(2))))","v":-0.19667660678508753},null,{"$f":"N9","v":1121},{"$f":"COUNTIF(L54:L76,AD9)","v":4},{"$f":"AE9/(AG4-AE20)","v":0.17391304347826086},{"$f":"IF(AF9=0,0,(AF9*((LOG(AF9))/LOG(2))))","v":-0.43888034018382832},null,{"$f":"N9","v":1121},{"$f":"COUNTIF(L77:L99,AI9)","v":3},{"$f":"AJ9/(AL4-AJ20)","v":0.13636363636363635},{"$f":"IF(AK9=0,0,(AK9*((LOG(AK9))/LOG(2))))","v":-0.39197306153401923},null,{"$f":"N9","v":1121},{"$f":"COUNTIF(L100:L123,AN9)","v":3},{"$f":"AO9/(AQ4-AO20)","v":0.13043478260869565},{"$f":"IF(AP9=0,0,(AP9*((LOG(AP9))/LOG(2))))","v":-0.3832955811307639},null,{"$f":"N9","v":1121},{"$f":"COUNTIF(L124:L146,AS9)","v":2},{"$f":"AT9/(AV4-AT20)","v":8.6956521739130432E-2},{"$f":"IF(AU9=0,0,(AU9*((LOG(AU9))/LOG(2))))","v":-0.30639669183104457}]
[12,643,23,656,13,670,23,682,null,null,0,1212,null,1122,{"$f":"COUNTIF($L$7:$L$500,N10)","v":10},{"$f":"O10/$Q$4","v":7.1428571428571425E-2},{"$f":"IF(P10=0,0,(P10*((LOG(P10))/LOG(2))))","v":-0.27195392300411453},null,null,{"$f":"N10","v":1122},{"$f":"COUNTIF(L7:L29,T10)","v":1},{"$f":"U10/(W4-U20)","v":4.3478260869565216E-2},{"$f":"IF(V10=0,0,(V10*((LOG(V10))/LOG(2))))","v":-0.19667660678508753},null,{"$f":"N10","v":1122},{"$f":"COUNTIF(L30:L53,Y10)","v":1},{"$f":"Z10/(AB4-Z20)","v":4.3478260869565216E-2},{"$f":"IF(AA10=0,0,(AA10*((LOG(AA10))/LOG(2))))","v":-0.19667660678508753},null,{"$f":"N10","v":1122},{"$f":"COUNTIF(L54:L76,AD10)","v":0},{"$f":"AE10/(AG4-AE20)","v":0},{"$f":"IF(AF10=0,0,(AF10*((LOG(AF10))/LOG(2))))","v":0},null,{"$f":"N10","v":1122},{"$f":"COUNTIF(L77:L99,AI10)","v":2},{"$f":"AJ10/(AL4-AJ20)","v":9.0909090909090912E-2},{"$f":"IF(AK10=0,0,(AK10*((LOG(AK10))/LOG(2))))","v":-0.31449378351248153},null,{"$f":"N10","v":1122},{"$f":"COUNTIF(L100:L123,AN10)","v":3},{"$f":"AO10/(AQ4-AO20)","v":0.13043478260869565},{"$f":"IF(AP10=0,0,(AP10*((LOG(AP10))/LOG(2))))","v":-0.3832955811307639},null,{"$f":"N10","v":1122},{"$f":"COUNTIF(L124:L146,AS10)","v":3},{"$f":"AT10/(AV4-AT20)","v":0.13043478260869565},{"$f":"IF(AU10=0,0,(AU10*((LOG(AU10))/LOG(2))))","v":-0.3832955811307639}]
[12,804,14,814,13,818,23,833,null,null,0,1112,null,1211,{"$f":"COUNTIF($L$7:$L$500,N11)","v":10},{"$f":"O11/$Q$4","v":7.1428571428571425E-2},{"$f":"IF(P11=0,0,(P11*((LOG(P11))/LOG(2))))","v":-0.27195392300411453},null,null,{"$f":"N11","v":1211},{"$f":"COUNTIF(L7:L29,T11)","v":2},{"$f":"U11/(W4-U20)","v":8.6956521739130432E-2},{"$f":"IF(V11=0,0,(V11*((LOG(V11))/LOG(2))))","v":-0.30639669183104457},null,{"$f":"N11","v":1211},{"$f":"COUNTIF(L30:L53,Y11)","v":1},{"$f":"Z11/(AB4-Z20)","v":4.3478260869565216E-2},{"$f":"IF(AA11=0,0,(AA11*((LOG(AA11))/LOG(2))))","v":-0.19667660678508753},null,{"$f":"N11","v":1211},{"$f":"COUNTIF(L54:L76,AD11)","v":1},{"$f":"AE11/(AG4-AE20)","v":4.3478260869565216E-2},{"$f":"IF(AF11=0,0,(AF11*((LOG(AF11))/LOG(2))))","v":-0.19667660678508753},null,{"$f":"N11","v":1211},{"$f":"COUNTIF(L77:L99,AI11)","v":2},{"$f":"AJ11/(AL4-AJ20)","v":9.0909090909090912E-2},{"$f":"IF(AK11=0,0,(AK11*((LOG(AK11))/LOG(2))))","v":-0.31449378351248153},null,{"$f":"N11","v":1211},{"$f":"COUNTIF(L100:L123,AN11)","v":1},{"$f":"AO11/(AQ4-AO20)","v":4.3478260869565216E-2},{"$f":"IF(AP11=0,0,(AP11*((LOG(AP11))/LOG(2))))","v":-0.19667660678508753},null,{"$f":"N11","v":1211},{"$f":"COUNTIF(L124:L146,AS11)","v":3},{"$f":"AT11/(AV4-AT20)","v":0.13043478260869565},{"$f":"IF(AU11=0,0,(AU11*((LOG(AU11))/LOG(2))))","v":-0.3832955811307639}]
[12,956,23,971,24,983,14,995,null,null,0,1221,null,1212,{"$f":"COUNTIF($L$7:$L$500,N12)","v":14},{"$f":"O12/$Q$4","v":0.1},{"$f":"IF(P12=0,0,(P12*((LOG(P12))/LOG(2))))","v":-0.33219280948873625},null,null,{"$f":"N12","v":1212},{"$f":"COUNTIF(L7:L29,T12)","v":1},{"$f":"U12/(W4-U20)","v":4.3478260869565216E-2},{"$f":"IF(V12=0,0,(V12*((LOG(V12))/LOG(2))))","v":-0.19667660678508753},null,{"$f":"N12","v":1212},{"$f":"COUNTIF(L30:L53,Y12)","v":5},{"$f":"Z12/(AB4-Z20)","v":0.21739130434782608},{"$f":"IF(AA12=0,0,(AA12*((LOG(AA12))/LOG(2))))","v":-0.47861605677601093},null,{"$f":"N12","v":1212},{"$f":"COUNTIF(L54:L76,AD12)","v":2},{"$f":"AE12/(AG4-AE20)","v":8.6956521739130432E-2},{"$f":"IF(AF12=0,0,(AF12*((LOG(AF12))/LOG(2))))","v":-0.30639669183104457},null,{"$f":"N12","v":1212},{"$f":"COUNTIF(L77:L99,AI12)","v":1},{"$f":"AJ12/(AL4-AJ20)","v":4.5454545454545456E-2},{"$f":"IF(AK12=0,0,(AK12*((LOG(AK12))/LOG(2))))","v":-0.20270143721078623},null,{"$f":"N12","v":1212},{"$f":"COUNTIF(L100:L123,AN12)","v":2},{"$f":"AO12/(AQ4-AO20)","v":8.6956521739130432E-2},{"$f":"IF(AP12=0,0,(AP12*((LOG(AP12))/LOG(2))))","v":-0.30639669183104457},null,{"$f":"N12","v":1212},{"$f":"COUNTIF(L124:L146,AS12)","v":3},{"$f":"AT12/(AV4-AT20)","v":0.13043478260869565},{"$f":"IF(AU12=0,0,(AU12*((LOG(AU12))/LOG(2))))","v":-0.3832955811307639}]
[21,1101,12,1117,13,1123,23,1136,null,null,0,2112,null,1221,{"$f":"COUNTIF($L$7:$L$500,N13)","v":7},{"$f":"O13/$Q$4","v":0.05},{"$f":"IF(P13=0,0,(P13*((LOG(P13))/LOG(2))))","v":-0.21609640474436814},null,null,{"$f":"N13","v":1221},{"$f":"COUNTIF(L7:L29,T13)","v":1},{"$f":"U13/(W4-U20)","v":4.3478260869565216E-2},{"$f":"IF(V13=0,0,(V13*((LOG(V13))/LOG(2))))","v":-0.19667660678508753},null,{"$f":"N13","v":1221},{"$f":"COUNTIF(L30:L53,Y13)","v":3},{"$f":"Z13/(AB4-Z20)","v":0.13043478260869565},{"$f":"IF(AA13=0,0,(AA13*((LOG(AA13))/LOG(2))))","v":-0.3832955811307639},null,{"$f":"N13","v":1221},{"$f":"COUNTIF(L54:L76,AD13)","v":0},{"$f":"AE13/(AG4-AE20)","v":0},{"$f":"IF(AF13=0,0,(AF13*((LOG(AF13))/LOG(2))))","v":0},null,{"$f":"N13","v":1221},{"$f":"COUNTIF(L77:L99,AI13)","v":0},{"$f":"AJ13/(AL4-AJ20)","v":0},{"$f":"IF(AK13=0,0,(AK13*((LOG(AK13))/LOG(2))))","v":0},null,{"$f":"N13","v":1221},{"$f":"COUNTIF(L100:L123,AN13)","v":2},{"$f":"AO13/(AQ4-AO20)","v":8.6956521739130432E-2},{"$f":"IF(AP13=0,0,(AP13*((LOG(AP13))/LOG(2))))","v":-0.30639669183104457},null,{"$f":"N13","v":1221},{"$f":"COUNTIF(L124:L146,AS13)","v":1},{"$f":"AT13/(AV4-AT20)","v":4.3478260869565216E-2},{"$f":"IF(AU13=0,0,(AU13*((LOG(AU13))/LOG(2))))","v":-0.19667660678508753}]
[21,1239,21,1244,11,1255,12,1260,null,null,0,2211,null,1222,{"$f":"COUNTIF($L$7:$L$500,N14)","v":8},{"$f":"O14/$Q$4","v":5.7142857142857141E-2},{"$f":"IF(P14=0,0,(P14*((LOG(P14))/LOG(2))))","v":-0.23595902953971234},null,null,{"$f":"N14","v":1222},{"$f":"COUNTIF(L7:L29,T14)","v":1},{"$f":"U14/(W4-U20)","v":4.3478260869565216E-2},{"$f":"IF(V14=0,0,(V14*((LOG(V14))/LOG(2))))","v":-0.19667660678508753},null,{"$f":"N14","v":1222},{"$f":"COUNTIF(L30:L53,Y14)","v":2},{"$f":"Z14/(AB4-Z20)","v":8.6956521739130432E-2},{"$f":"IF(AA14=0,0,(AA14*((LOG(AA14))/LOG(2))))","v":-0.30639669183104457},null,{"$f":"N14","v":1222},{"$f":"COUNTIF(L54:L76,AD14)","v":1},{"$f":"AE14/(AG4-AE20)","v":4.3478260869565216E-2},{"$f":"IF(AF14=0,0,(AF14*((LOG(AF14))/LOG(2))))","v":-0.19667660678508753},null,{"$f":"N14","v":1222},{"$f":"COUNTIF(L77:L99,AI14)","v":0},{"$f":"AJ14/(AL4-AJ20)","v":0},{"$f":"IF(AK14=0,0,(AK14*((LOG(AK14))/LOG(2))))","v":0},null,{"$f":"N14","v":1222},{"$f":"COUNTIF(L100:L123,AN14)","v":3},{"$f":"AO14/(AQ4-AO20)","v":0.13043478260869565},{"$f":"IF(AP14=0,0,(AP14*((LOG(AP14))/LOG(2))))","v":-0.3832955811307639},null,{"$f":"N14","v":1222},{"$f":"COUNTIF(L124:L146,AS14)","v":1},{"$f":"AT14/(AV4-AT20)","v":4.3478260869565216E-2},{"$f":"IF(AU14=0,0,(AU14*((LOG(AU14))/LOG(2))))","v":-0.19667660678508753}]
[21,1380,12,1397,24,1409,14,1449,null,null,0,2121,null,2111,{"$f":"COUNTIF($L$7:$L$500,N15)","v":6},{"$f":"O15/$Q$4","v":4.2857142857142858E-2},{"$f":"IF(P15=0,0,(P15*((LOG(P15))/LOG(2))))","v":-0.19475659355244901},null,null,{"$f":"N15","v":2111},{"$f":"COUNTIF(L7:L29,T15)","v":0},{"$f":"U15/(W4-U20)","v":0},{"$f":"IF(V15=0,0,(V15*((LOG(V15))/LOG(2))))","v":0},null,{"$f":"N15","v":2111},{"$f":"COUNTIF(L30:L53,Y15)","v":0},{"$f":"Z15/(AB4-Z20)","v":0},{"$f":"IF(AA15=0,0,(AA15*((LOG(AA15))/LOG(2))))","v":0},null,{"$f":"N15","v":2111},{"$f":"COUNTIF(L54:L76,AD15)","v":2},{"$f":"AE15/(AG4-AE20)","v":8.6956521739130432E-2},{"$f":"IF(AF15=0,0,(AF15*((LOG(AF15))/LOG(2))))","v":-0.30639669183104457},null,{"$f":"N15","v":2111},{"$f":"COUNTIF(L77:L99,AI15)","v":3},{"$f":"AJ15/(AL4-AJ20)","v":0.13636363636363635},{"$f":"IF(AK15=0,0,(AK15*((LOG(AK15))/LOG(2))))","v":-0.39197306153401923},null,{"$f":"N15","v":2111},{"$f":"COUNTIF(L100:L123,AN15)","v":1},{"$f":"AO15/(AQ4-AO20)","v":4.3478260869565216E-2},{"$f":"IF(AP15=0,0,(AP15*((LOG(AP15))/LOG(2))))","v":-0.19667660678508753},null,{"$f":"N15","v":2111},{"$f":"COUNTIF(L124:L146,AS15)","v":0},{"$f":"AT15/(AV4-AT20)","v":0},{"$f":"IF(AU15=0,0,(AU15*((LOG(AU15))/LOG(2))))","v":0}]
[12,1596,23,1613,13,1630,14,1634,null,null,0,1211,null,2112,{"$f":"COUNTIF($L$7:$L$500,N16)","v":7},{"$f":"O16/$Q$4","v":0.05},{"$f":"IF(P16=0,0,(P16*((LOG(P16))/LOG(2))))","v":-0.21609640474436814},null,null,{"$f":"N16","v":2112},{"$f":"COUNTIF(L7:L29,T16)","v":2},{"$f":"U16/(W4-U20)","v":8.6956521739130432E-2},{"$f":"IF(V16=0,0,(V16*((LOG(V16))/LOG(2))))","v":-0.30639669183104457},null,{"$f":"N16","v":2112},{"$f":"COUNTIF(L30:L53,Y16)","v":1},{"$f":"Z16/(AB4-Z20)","v":4.3478260869565216E-2},{"$f":"IF(AA16=0,0,(AA16*((LOG(AA16))/LOG(2))))","v":-0.19667660678508753},null,{"$f":"N16","v":2112},{"$f":"COUNTIF(L54:L76,AD16)","v":0},{"$f":"AE16/(AG4-AE20)","v":0},{"$f":"IF(AF16=0,0,(AF16*((LOG(AF16))/LOG(2))))","v":0},null,{"$f":"N16","v":2112},{"$f":"COUNTIF(L77:L99,AI16)","v":1},{"$f":"AJ16/(AL4-AJ20)","v":4.5454545454545456E-2},{"$f":"IF(AK16=0,0,(AK16*((LOG(AK16))/LOG(2))))","v":-0.20270143721078623},null,{"$f":"N16","v":2112},{"$f":"COUNTIF(L100:L123,AN16)","v":1},{"$f":"AO16/(AQ4-AO20)","v":4.3478260869565216E-2},{"$f":"IF(AP16=0,0,(AP16*((LOG(AP16))/LOG(2))))","v":-0.19667660678508753},null,{"$f":"N16","v":2112},{"$f":"COUNTIF(L124:L146,AS16)","v":2},{"$f":"AT16/(AV4-AT20)","v":8.6956521739130432E-2},{"$f":"IF(AU16=0,0,(AU16*((LOG(AU16))/LOG(2))))","v":-0.30639669183104457}]
[12,2082,14,2109,24,2130,23,2135,null,null,0,1122,null,2121,{"$f":"COUNTIF($L$7:$L$500,N17)","v":14},{"$f":"O17/$Q$4","v":0.1},{"$f":"IF(P17=0,0,(P17*((LOG(P17))/LOG(2))))","v":-0.33219280948873625},null,null,{"$f":"N17","v":2121},{"$f":"COUNTIF(L7:L29,T17)","v":5},{"$f":"U17/(W4-U20)","v":0.21739130434782608},{"$f":"IF(V17=0,0,(V17*((LOG(V17))/LOG(2))))","v":-0.47861605677601093},null,{"$f":"N17","v":2121},{"$f":"COUNTIF(L30:L53,Y17)","v":3},{"$f":"Z17/(AB4-Z20)","v":0.13043478260869565},{"$f":"IF(AA17=0,0,(AA17*((LOG(AA17))/LOG(2))))","v":-0.3832955811307639},null,{"$f":"N17","v":2121},{"$f":"COUNTIF(L54:L76,AD17)","v":2},{"$f":"AE17/(AG4-AE20)","v":8.6956521739130432E-2},{"$f":"IF(AF17=0,0,(AF17*((LOG(AF17))/LOG(2))))","v":-0.30639669183104457},null,{"$f":"N17","v":2121},{"$f":"COUNTIF(L77:L99,AI17)","v":0},{"$f":"AJ17/(AL4-AJ20)","v":0},{"$f":"IF(AK17=0,0,(AK17*((LOG(AK17))/LOG(2))))","v":0},null,{"$f":"N17","v":2121},{"$f":"COUNTIF(L100:L123,AN17)","v":2},{"$f":"AO17/(AQ4-AO20)","v":8.6956521739130432E-2},{"$f":"IF(AP17=0,0,(AP17*((LOG(AP17))/LOG(2))))","v":-0.30639669183104457},null,{"$f":"N17","v":2121},{"$f":"COUNTIF(L124:L146,AS17)","v":2},{"$f":"AT17/(AV4-AT20)","v":8.6956521739130432E-2},{"$f":"IF(AU17=0,0,(AU17*((LOG(AU17))/LOG(2))))","v":-0.30639669183104457}]
[12,2256,14,2296,24,2319,14,2338,null,null,0,1121,null,2122,{"$f":"COUNTIF($L$7:$L$500,N18)","v":9},{"$f":"O18/$Q$4","v":6.4285714285714279E-2},{"$f":"IF(P18=0,0,(P18*((LOG(P18))/LOG(2))))","v":-0.25453015813945634},null,null,{"$f":"N18","v":2122},{"$f":"COUNTIF(L7:L29,T18)","v":1},{"$f":"U18/(W4-U20)","v":4.3478260869565216E-2},{"$f":"IF(V18=0,0,(V18*((LOG(V18))/LOG(2))))","v":-0.19667660678508753},null,{"$f":"N18","v":2122},{"$f":"COUNTIF(L30:L53,Y18)","v":0},{"$f":"Z18/(AB4-Z20)","v":0},{"$f":"IF(AA18=0,0,(AA18*((LOG(AA18))/LOG(2))))","v":0},null,{"$f":"N18","v":2122},{"$f":"COUNTIF(L54:L76,AD18)","v":0},{"$f":"AE18/(AG4-AE20)","v":0},{"$f":"IF(AF18=0,0,(AF18*((LOG(AF18))/LOG(2))))","v":0},null,{"$f":"N18","v":2122},{"$f":"COUNTIF(L77:L99,AI18)","v":3},{"$f":"AJ18/(AL4-AJ20)","v":0.13636363636363635},{"$f":"IF(AK18=0,0,(AK18*((LOG(AK18))/LOG(2))))","v":-0.39197306153401923},null,{"$f":"N18","v":2122},{"$f":"COUNTIF(L100:L123,AN18)","v":2},{"$f":"AO18/(AQ4-AO20)","v":8.6956521739130432E-2},{"$f":"IF(AP18=0,0,(AP18*((LOG(AP18))/LOG(2))))","v":-0.30639669183104457},null,{"$f":"N18","v":2122},{"$f":"COUNTIF(L124:L146,AS18)","v":3},{"$f":"AT18/(AV4-AT20)","v":0.13043478260869565},{"$f":"IF(AU18=0,0,(AU18*((LOG(AU18))/LOG(2))))","v":-0.3832955811307639}]
[12,2487,14,2495,24,2514,14,2535,null,null,0,1121,null,2211,{"$f":"COUNTIF($L$7:$L$500,N19)","v":3},{"$f":"O19/$Q$4","v":2.1428571428571429E-2},{"$f":"IF(P19=0,0,(P19*((LOG(P19))/LOG(2))))","v":-0.11880686820479594},null,null,{"$f":"N19","v":2211},{"$f":"COUNTIF(L7:L29,T19)","v":1},{"$f":"U19/(W4-U20)","v":4.3478260869565216E-2},{"$f":"IF(V19=0,0,(V19*((LOG(V19))/LOG(2))))","v":-0.19667660678508753},null,{"$f":"N19","v":2211},{"$f":"COUNTIF(L30:L53,Y19)","v":1},{"$f":"Z19/(AB4-Z20)","v":4.3478260869565216E-2},{"$f":"IF(AA19=0,0,(AA19*((LOG(AA19))/LOG(2))))","v":-0.19667660678508753},null,{"$f":"N19","v":2211},{"$f":"COUNTIF(L54:L76,AD19)","v":0},{"$f":"AE19/(AG4-AE20)","v":0},{"$f":"IF(AF19=0,0,(AF19*((LOG(AF19))/LOG(2))))","v":0},null,{"$f":"N19","v":2211},{"$f":"COUNTIF(L77:L99,AI19)","v":0},{"$f":"AJ19/(AL4-AJ20)","v":0},{"$f":"IF(AK19=0,0,(AK19*((LOG(AK19))/LOG(2))))","v":0},null,{"$f":"N19","v":2211},{"$f":"COUNTIF(L100:L123,AN19)","v":1},{"$f":"AO19/(AQ4-AO20)","v":4.3478260869565216E-2},{"$f":"IF(AP19=0,0,(AP19*((LOG(AP19))/LOG(2))))","v":-0.19667660678508753},null,{"$f":"N19","v":2211},{"$f":"COUNTIF(L124:L146,AS19)","v":0},{"$f":"AT19/(AV4-AT20)","v":0},{"$f":"IF(AU19=0,0,(AU19*((LOG(AU19))/LOG(2))))","v":0}]
[21,2651,12,2666,24,2684,14,2700,null,null,0,2121,null,2212,{"$f":"COUNTIF($L$7:$L$500,N20)","v":3},{"$f":"O20/$Q$4","v":2.1428571428571429E-2},{"$f":"IF(P20=0,0,(P20*((LOG(P20))/LOG(2))))","v":-0.11880686820479594},null,null,{"$f":"N20","v":2212},{"$f":"COUNTIF(L7:L29,T20)","v":0},null,null,null,{"$f":"N20","v":2212},{"$f":"COUNTIF(L30:L53,Y20)","v":1},null,null,null,{"$f":"N20","v":2212},{"$f":"COUNTIF(L54:L76,AD20)","v":0},null,null,null,{"$f":"N20","v":2212},{"$f":"COUNTIF(L77:L99,AI20)","v":1},null,null,null,{"$f":"N20","v":2212},{"$f":"COUNTIF(L100:L123,AN20)","v":1},null,null,null,{"$f":"N20","v":2212},{"$f":"COUNTIF(L124:L146,AS20)","v":0}]
[12,2810,14,2815,24,2831,14,2845,null,null,0,1121,null,2221,{"$f":"COUNTIF($L$7:$L$500,N21)","v":2},{"$f":"O21/$Q$4","v":1.4285714285714285E-2},{"$f":"IF(P21=0,0,(P21*((LOG(P21))/LOG(2))))","v":-8.756118595635666E-2},null,null,{"$f":"N21","v":2221},{"$f":"COUNTIF(L7:L29,T21)","v":1},{"$f":"U21/(W4-U20)","v":4.3478260869565216E-2},{"$f":"IF(V21=0,0,(V21*((LOG(V21))/LOG(2))))","v":-0.19667660678508753},null,{"$f":"N21","v":2221},{"$f":"COUNTIF(L30:L53,Y21)","v":0},{"$f":"Z21/(AB4-Z20)","v":0},{"$f":"IF(AA21=0,0,(AA21*((LOG(AA21))/LOG(2))))","v":0},null,{"$f":"N21","v":2221},{"$f":"COUNTIF(L54:L76,AD21)","v":1},{"$f":"AE21/(AG4-AE20)","v":4.3478260869565216E-2},{"$f":"IF(AF21=0,0,(AF21*((LOG(AF21))/LOG(2))))","v":-0.19667660678508753},null,{"$f":"N21","v":2221},{"$f":"COUNTIF(L77:L99,AI21)","v":0},{"$f":"AJ21/(AL4-AJ20)","v":0},{"$f":"IF(AK21=0,0,(AK21*((LOG(AK21))/LOG(2))))","v":0},null,{"$f":"N21","v":2221},{"$f":"COUNTIF(L100:L123,AN21)","v":0},{"$f":"AO21/(AQ4-AO20)","v":0},{"$f":"IF(AP21=0,0,(AP21*((LOG(AP21))/LOG(2))))","v":0},null,{"$f":"N21","v":2221},{"$f":"COUNTIF(L124:L146,AS21)","v":0},{"$f":"AT21/(AV4-AT20)","v":0},{"$f":"IF(AU21=0,0,(AU21*((LOG(AU21))/LOG(2))))","v":0}]
[12,2976,14,3004,24,3019,14,3037,null,null,0,1121,null,2222,{"$f":"COUNTIF($L$7:$L$500,N22)","v":0},{"$f":"O22/$Q$4","v":0},{"$f":"IF(P22=0,0,(P22*((LOG(P22))/LOG(2))))","v":0},null,null,{"$f":"N22","v":2222},{"$f":"COUNTIF(L7:L29,T22)","v":0},{"$f":"U22/(W4-U20)","v":0},{"$f":"IF(V22=0,0,(V22*((LOG(V22))/LOG(2))))","v":0},null,{"$f":"N22","v":2222},{"$f":"COUNTIF(L30:L53,Y22)","v":0},{"$f":"Z22/(AB4-Z20)","v":0},{"$f":"IF(AA22=0,0,(AA22*((LOG(AA22))/LOG(2))))","v":0},null,{"$f":"N22","v":2222},{"$f":"COUNTIF(L54:L76,AD22)","v":0},{"$f":"AE22/(AG4-AE20)","v":0},{"$f":"IF(AF22=0,0,(AF22*((LOG(AF22))/LOG(2))))","v":0},null,{"$f":"N22","v":2222},{"$f":"COUNTIF(L77:L99,AI22)","v":0},{"$f":"AJ22/(AL4-AJ20)","v":0},{"$f":"IF(AK22=0,0,(AK22*((LOG(AK22))/LOG(2))))","v":0},null,{"$f":"N22","v":2222},{"$f":"COUNTIF(L100:L123,AN22)","v":0},{"$f":"AO22/(AQ4-AO20)","v":0},{"$f":"IF(AP22=0,0,(AP22*((LOG(AP22))/LOG(2))))","v":0},null,{"$f":"N22","v":2222},{"$f":"COUNTIF(L124:L146,AS22)","v":0},{"$f":"AT22/(AV4-AT20)","v":0},{"$f":"IF(AU22=0,0,(AU22*((LOG(AU22))/LOG(2))))","v":0}]
[12,3129,14,3170,24,3193,14,3210,null,null,0,1121,null,null,null,{"$f":"SUM(P7:P22)","v":1},{"$f":"-SUM(Q7:Q22)","v":3.7088450061257006},null,null,null,null,{"$f":"SUM(V7:V22)","v":0.99999999999999989},{"$f":"-SUM(W7:W22)","v":3.2531584365407684},null,null,null,{"$f":"SUM(AA7:AA22)","v":0.99999999999999989},{"$f":"-SUM(AB7:AB22)","v":3.2246792177558299},null,null,null,{"$f":"SUM(AF7:AF22)","v":0.99999999999999978},{"$f":"-SUM(AG7:AG22)","v":2.905332349584246},null,null,null,{"$f":"SUM(AK7:AK22)","v":0.99999999999999989},{"$f":"-SUM(AL7:AL22)","v":3.0494520727893937},null,null,null,{"$f":"SUM(AP7:AP22)","v":0.99999999999999978},{"$f":"-SUM(AQ7:AQ22)","v":3.4685766296878646},null,null,null,{"$f":"SUM(AU7:AU22)","v":0.99999999999999989},{"$f":"-SUM(AV7:AV22)","v":3.3487989122024966}]
[21,3346,12,3377,24,3389,14,3406,null,null,0,2121,null,null,null,"U=",{"$f":"Q23/(LOG(Q4)/LOG(2))","v":0.52022692847379914},null,null,null,null,"U1=",{"$f":"W23/(LOG(W4)/LOG(2))","v":0.71915858965628077},null,null,null,"U2=",{"$f":"AB23/(LOG(AB4)/LOG(2))","v":0.70331637766909305},null,null,null,"U3=",{"$f":"AG23/(LOG(AG4)/LOG(2))","v":0.64226650984497502},null,null,null,"U4=",{"$f":"AL23/(LOG(AL4)/LOG(2))","v":0.67412629746481134},null,null,null,"U5=",{"$f":"AQ23/(LOG(AQ4)/LOG(2))","v":0.75651145001563302},null,null,null,"U6=",{"$f":"AV23/(LOG(AV4)/LOG(2))","v":0.74030132553362771}]
[21,3545,12,3557,24,3569,14,3599,null,null,0,2121]
[21,3719,12,3731,24,3744,23,3768,null,null,0,2122]
[21,3881,12,3899,13,3936,23,3949,null,null,0,2112,null,"Total Target Seq"]
[12,4051,14,4084,13,4090,23,4104,null,null,0,1112,null,{"$f":"COUNTIF(L7:L146,G3)","v":3},null,23,24,23,23,24,23]
[21,4218,12,4233,24,4246,14,4259,null,null,0,2121,null,null,null,"% of reinforcement given in 6 equal intervals based on number of trials "]
[12,4417,23,4437,13,4454,23,4466,null,null,0,1212,null,null,null,"%_1","%_2","%_3","%_4","%_5","%_6"]
[12,4586,23,4598,24,4620,23,4634,null,null,0,1222,null,null,"target sequence",{"$f":"$G$3","v":2212},{"$f":"$G$3","v":2212},{"$f":"$G$3","v":2212},{"$f":"$G$3","v":2212},{"$f":"$G$3","v":2212},{"$f":"$G$3","v":2212}]
[12,4754,14,4785,24,4794,23,4806,null,null,0,1122,null,null,"total reinforcement",{"$f":"U20","v":0},{"$f":"Z20","v":1},{"$f":"AE20","v":0},{"$f":"AJ20","v":1},{"$f":"AO20","v":1},{"$f":"AT20","v":0}]
[12,4908,23,4923,13,4941,23,4965,null,null,0,1212,null,null,"% target"]
[12,5204,23,5226,13,5237,14,5242,null,null,0,1211,null,null,"CCRF"]
[12,5382,23,5401,13,5414,23,5426,null,null,0,1212,null,null,"% CCRf"]
[12,5551,23,5563,24,5586,14,5603,null,null,0,1221,null,null,"average response rate",{"$f":"H29/P28","v":185.17391304347825},{"$f":"(H53-H29)/Q28","v":169.16666666666666},{"$f":"(H76-H53)/R28","v":156.08695652173913},{"$f":"(H99-H76)/S28","v":160.56521739130434},{"$f":"(H123-H99)/T28","v":175.95833333333334},{"$f":"(H146-H123)/U28","v":178.52173913043478}]
[12,5735,14,5741,13,5754,14,5759,null,null,0,1111]
[21,5894,12,5913,24,5925,14,5940,null,null,0,2121]
[21,6072,21,6081,11,6103,21,6115,null,null,0,2212]
[12,6208,23,6231,13,6244,23,6255,null,null,0,1212]
[21,6373,12,6387,13,6392,23,6403,null,null,0,2112]
[12,6540,23,6551,24,6558,14,6575,null,null,0,1221]
[12,6732,23,6747,24,6763,23,6775,null,null,0,1222]
[12,6897,23,6910,24,6921,14,6936,null,null,0,1221]
[12,7063,14,7068,13,7074,14,7081,null,null,0,1111]
[21,7190,21,7206,11,7220,12,7226,null,null,0,2211]
[12,7348,23,7360,13,7374,23,7387,null,null,0,1212]
[12,7489,14,7495,13,7528,23,7542,null,null,0,1112]
[21,7669,12,7680,24,7694,14,7713,null,null,0,2121]
[21,7841,12,7861,24,7873,14,7887,null,null,0,2121]
[12,8007,14,8011,13,8017,14,8021,null,null,0,1111]
[12,8139,14,8145,24,8164,14,8176,null,null,0,1121]
[12,8284,14,8289,13,8306,23,8319,null,null,0,1112]
[12,8432,14,8442,13,8458,14,8488,null,null,0,1111]
[12,8607,14,8612,13,8639,14,8644,null,null,0,1111]
[21,8750,21,8762,22,8771,14,8783,null,null,0,2221]
[12,8908,14,8913,13,8919,14,8925,null,null,0,1111]
[12,9035,14,9041,13,9047,23,9067,null,null,0,1112]
[12,9168,14,9200,24,9213,14,9227,null,null,0,1121]
[12,9331,14,9356,13,9362,23,9383,null,null,0,1112]
[12,9510,23,9525,13,9537,14,9543,null,null,0,1211]
[21,9655,12,9671,13,9676,14,9681,null,null,0,2111]
[21,9789,12,9812,24,9824,14,9837,null,null,0,2121]
[12,9962,14,9967,13,9978,23,9997,null,null,0,1112]
[12,10122,23,10134,13,10147,23,10160,null,null,0,1212]
[12,10279,14,10284,13,10294,23,10307,null,null,0,1112]
[12,10442,14,10448,13,10459,23,10472,null,null,0,1112]
[12,10588,14,10597,24,10611,14,10625,null,null,0,1121]
[12,10746,14,10751,13,10765,14,10771,null,null,0,1111]
[21,10885,12,10898,24,10918,14,10939,null,null,0,2121]
[12,11066,14,11071,24,11085,14,11100,null,null,0,1121]
[21,11211,12,11223,13,11228,14,11234,null,null,0,2111]
[12,11367,14,11372,24,11384,14,11398,null,null,0,1121]
[12,11550,14,11556,13,11567,14,11577,null,null,0,1111]
[12,11701,23,11714,24,11719,23,11728,null,null,0,1222]
[12,11871,23,11882,13,11897,23,11909,null,null,0,1212]
[21,12011,12,12025,13,12030,23,12042,null,null,0,2112]
[21,12153,12,12168,13,12186,14,12196,null,null,0,2111]
[21,12308,12,12319,13,12324,14,12330,null,null,0,2111]
[12,12491,14,12528,24,12540,23,12554,null,null,0,1122]
[12,12676,14,12682,13,12688,23,12700,null,null,0,1112]
[12,12830,14,12857,13,12865,14,12879,null,null,0,1111]
[12,13000,14,13019,13,13025,14,13030,null,null,0,1111]
[12,13165,14,13172,13,13178,23,13196,null,null,0,1112]
[21,13318,21,13324,11,13339,21,13351,null,null,0,2212]
[12,13445,14,13482,24,13497,14,13513,null,null,0,1121]
[12,13659,14,13665,24,13678,14,13694,null,null,0,1121]
[12,13840,23,13854,13,13871,14,13877,null,null,0,1211]
[21,14011,12,14024,24,14036,23,14050,null,null,0,2122]
[21,14159,12,14174,24,14185,23,14194,null,null,0,2122]
[12,14319,23,14335,13,14349,23,14358,null,null,0,1212]
[21,14493,12,14511,24,14521,23,14542,null,null,0,2122]
[12,14644,14,14655,24,14669,23,14675,null,null,0,1122]
[12,14812,14,14818,13,14824,23,14833,null,null,0,1112]
[12,14932,23,14948,13,14964,14,14968,null,null,0,1211]
[12,15087,14,15096,24,15125,14,15152,null,null,0,1121]
[12,15273,14,15278,13,15285,14,15290,null,null,0,1111]
[21,15400,12,15412,13,15419,14,15424,null,null,0,2111]
[12,15550,14,15586,13,15592,14,15602,null,null,0,1111]
[12,15774,23,15783,13,15801,14,15805,null,null,0,1211]
[21,15920,12,15936,13,15941,14,15981,null,null,0,2111]
[21,16087,21,16097,11,16110,12,16114,null,null,0,2211]
[12,16244,23,16257,24,16271,14,16287,null,null,0,1221]
[12,16447,23,16461,24,16473,23,16486,null,null,0,1222]
[12,16615,23,16633,24,16651,23,16657,null,null,0,1222]
[12,16782,23,16793,13,16809,23,16821,null,null,0,1212]
[12,17092,14,17122,24,17134,14,17151,null,null,0,1121]
[12,17292,14,17298,13,17307,23,17320,null,null,0,1112]
[21,17425,21,17431,11,17442,21,17454,null,null,0,2212]
[12,17544,14,17571,24,17583,14,17600,null,null,0,1121]
[21,17709,12,17723,13,17729,23,17741,null,null,0,2112]
[12,17869,14,17875,24,17885,14,17899,null,null,0,1121]
[21,18113,12,18128,24,18141,23,18152,null,null,0,2122]
[21,18260,12,18278,24,18292,14,18309,null,null,0,2121]
[12,18441,14,18445,13,18452,23,18464,null,null,0,1112]
[12,18573,14,18600,24,18617,23,18623,null,null,0,1122]
[21,18733,12,18757,24,18768,14,18805,null,null,0,2121]
[21,18913,12,18924,24,18937,23,18950,null,null,0,2122]
[12,19088,14,19108,24,19117,23,19133,null,null,0,1122]
[12,19250,23,19262,24,19281,14,19297,null,null,0,1221]
[12,19417,14,19426,24,19453,23,19467,null,null,0,1122]
[12,19588,23,19605,13,19622,23,19639,null,null,0,1212]
[12,19794,23,19805,24,19816,23,19825,null,null,0,1222]
[12,19946,23,19960,13,19973,14,19978,null,null,0,1211]
[12,20107,23,20123,13,20137,14,20141,null,null,0,1211]
[12,20305,14,20345,13,20351,23,20362,null,null,0,1112]
[21,20468,12,20482,13,20490,23,20501,null,null,0,2112]
[12,20624,23,20648,24,20663,23,20669,null,null,0,1222]
[12,20816,14,20822,24,20837,23,20847,null,null,0,1122]
[12,20956,14,20984,24,20997,14,21012,null,null,0,1121]
[21,21121,12,21132,24,21159,14,21177,null,null,0,2121]
[12,21304,14,21309,13,21318,14,21326,null,null,0,1111]
[12,21458,23,21474,24,21482,14,21503,null,null,0,1221]
[12,21636,23,21649,13,21662,14,21676,null,null,0,1211]
[21,21791,12,21803,24,21825,14,21849,null,null,0,2121]
[12,21964,14,21969,13,21998,14,22003,null,null,0,1111]
[21,22118,12,22133,13,22137,23,22148,null,null,0,2112]
[21,22276,12,22297,24,22312,23,22328,null,null,0,2122]
[21,22484,12,22502,24,22513,23,22519,null,null,0,2122]
[12,22668,14,22696,24,22710,23,22716,null,null,0,1122]
[12,22848,23,22870,13,22882,23,22898,null,null,0,1212]
[12,23048,23,23066,13,23081,23,23090,null,null,0,1212]
[12,23286,14,23313,24,23324,23,23361,null,null,0,1122]
[21,23517,12,23542,24,23550,23,23558,null,null,0,2122]
[12,23682,23,23693,13,23708,23,23734,null,null,0,1212]
[12,23862,14,23888,24,23906,14,23931,null,null,null,1121]

{"sheet":"!N120940.092","index":23,"n_rows":147,"n_cols":48,"rows_kept":147,"cut":false,"hidden":false,"merged":[[4,39,4,42],[5,39,5,40],[4,44,4,47],[5,44,5,45],[4,24,4,27],[5,24,5,25],[4,29,4,32],[5,29,5,30],[4,34,4,37],[5,34,5,35],[1,1,1,2],[5,13,5,14],[26,13,26,14],[27,13,27,14],[4,19,4,22],[5,19,5,20]]}
["Report for:!N120940.092"]
["Date:","<date>"]
["Hen:","<hen>",null,null,null,"Correct Sequence",{"$f":"Start!J2","v":2212},null,null,null,null,null,null,null,null,"Total Sequences in Data",{"$f":"4994-COUNTBLANK(L7:L5000)","v":141},null,null,null,null,"Total Sequences in Block Data",{"$f":"COUNTA(L7:L30)","v":24},null,null,null,"Total Sequences in Block Data",{"$f":"COUNTA(L31:L53)","v":23},null,null,null,"Total Sequences in Block Data",{"$f":"COUNTA(L54:L77)","v":24},null,null,null,"Total Sequences in Block Data",{"$f":"COUNTA(L78:L100)","v":23},null,null,null,"Total Sequences in Block Data",{"$f":"COUNTA(L101:L124)","v":24},null,null,null,"Total Sequences in Block Data",{"$f":"COUNTA(L125:L147)","v":23}]
[null,null,null,null,null,null,null,null,null,null,null,null,null,null,null,"Total Sequences in Summary",{"$f":"SUM(O7:O22)","v":140},null,null,null,null,"Total Sequences in Block Summary",{"$f":"SUM(U7:U22)","v":24},null,null,null,"Total Sequences in Block Summary",{"$f":"SUM(Z7:Z22)","v":23},null,null,null,"Total Sequences in Block Summary",{"$f":"SUM(AE7:AE22)","v":24},null,null,null,"Total Sequences in Block Summary",{"$f":"SUM(AJ7:AJ22)","v":23},null,null,null,"Total Sequences in Block Summary",{"$f":"SUM(AO7:AO22)","v":24},null,null,null,"Total Sequences in Block Summary",{"$f":"SUM(AT7:AT22)","v":22}]
[null,null,null,null,null,null,null,null,null,null,null,null,null,null,null,null,null,null,null,"Block 1",null,null,null,null,"Block 2",null,null,null,null,"Block 3",null,null,null,null,"Block 4",null,null,null,null,"Block 5",null,null,null,null,"Block 6"]
["Sequence\nComponent\n1","Time\n1","Sequence\nComponent\n2","Time\n2","Sequence\nComponent\n3","Time\n3","Sequence\nComponent\n4","Time\n4","Sequence\nComponent\n5","Time\n5","Correct?\n0=No 1=Yes","Sequence",null,"Frequency",null,"Relative Frequency","Variability",null,null,"Frequency",null,"Relative Frequency","Variability",null,"Frequency",null,"Relative Frequency","Variability",null,"Frequency",null,"Relative Frequency","Variability",null,"Frequency",null,"Relative Frequency","Variability",null,"Frequency",null,"Relative Frequency","Variability",null,"Frequency",null,"Relative Frequency","Variability"]
[21,96,21,125,11,141,21,154,null,null,0,2212,null,1111,{"$f":"COUNTIF($L$7:$L$500,N7)","v":5},{"$f":"O7/$Q$4","v":3.5714285714285712E-2},{"$f":"IF(P7=0,0,(P7*((LOG(P7))/LOG(2))))","v":-0.17169124721634299},null,null,{"$f":"N7","v":1111},{"$f":"COUNTIF(L7:L30,T7)","v":1},{"$f":"U7/(W4-U20)","v":4.5454545454545456E-2},{"$f":"IF(V7=0,0,(V7*((LOG(V7))/LOG(2))))","v":-0.20270143721078623},null,{"$f":"N7","v":1111},{"$f":"COUNTIF(L31:L53,Y7)","v":1},{"$f":"Z7/(AB4-Z20)","v":4.5454545454545456E-2},{"$f":"IF(AA7=0,0,(AA7*((LOG(AA7))/LOG(2))))","v":-0.20270143721078623},null,{"$f":"N7","v":1111},{"$f":"COUNTIF(L54:L77,AD7)","v":2},{"$f":"AE7/(AG4-AE20)","v":8.3333333333333329E-2},{"$f":"IF(AF7=0,0,(AF7*((LOG(AF7))/LOG(2))))","v":-0.29874687506009634},null,{"$f":"N7","v":1111},{"$f":"COUNTIF(L78:L100,AI7)","v":0},{"$f":"AJ7/(AL4-AJ20)","v":0},{"$f":"IF(AK7=0,0,(AK7*((LOG(AK7))/LOG(2))))","v":0},null,{"$f":"N7","v":1111},{"$f":"COUNTIF(L101:L124,AN7)","v":0},{"$f":"AO7/(AQ4-AO20)","v":0},{"$f":"IF(AP7=0,0,(AP7*((LOG(AP7))/LOG(2))))","v":0},null,{"$f":"N7","v":1111},{"$f":"COUNTIF(L125:L147,AS7)","v":1},{"$f":"AT7/(AV4-AT20)","v":4.5454545454545456E-2},{"$f":"IF(AU7=0,0,(AU7*((LOG(AU7))/LOG(2))))","v":-0.20270143721078623}]
[12,326,14,385,24,394,14,415,null,null,0,1121,null,1112,{"$f":"COUNTIF($L$7:$L$500,N8)","v":5},{"$f":"O8/$Q$4","v":3.5714285714285712E-2},{"$f":"IF(P8=0,0,(P8*((LOG(P8))/LOG(2))))","v":-0.17169124721634299},null,null,{"$f":"N8","v":1112},{"$f":"COUNTIF(L7:L30,T8)","v":0},{"$f":"U8/(W4-U20)","v":0},{"$f":"IF(V8=0,0,(V8*((LOG(V8))/LOG(2))))","v":0},null,{"$f":"N8","v":1112},{"$f":"COUNTIF(L31:L53,Y8)","v":3},{"$f":"Z8/(AB4-Z20)","v":0.13636363636363635},{"$f":"IF(AA8=0,0,(AA8*((LOG(AA8))/LOG(2))))","v":-0.39197306153401923},null,{"$f":"N8","v":1112},{"$f":"COUNTIF(L54:L77,AD8)","v":0},{"$f":"AE8/(AG4-AE20)","v":0},{"$f":"IF(AF8=0,0,(AF8*((LOG(AF8))/LOG(2))))","v":0},null,{"$f":"N8","v":1112},{"$f":"COUNTIF(L78:L100,AI8)","v":1},{"$f":"AJ8/(AL4-AJ20)","v":4.5454545454545456E-2},{"$f":"IF(AK8=0,0,(AK8*((LOG(AK8))/LOG(2))))","v":-0.20270143721078623},null,{"$f":"N8","v":1112},{"$f":"COUNTIF(L101:L124,AN8)","v":0},{"$f":"AO8/(AQ4-AO20)","v":0},{"$f":"IF(AP8=0,0,(AP8*((LOG(AP8))/LOG(2))))","v":0},null,{"$f":"N8","v":1112},{"$f":"COUNTIF(L125:L147,AS8)","v":1},{"$f":"AT8/(AV4-AT20)","v":4.5454545454545456E-2},{"$f":"IF(AU8=0,0,(AU8*((LOG(AU8))/LOG(2))))","v":-0.20270143721078623}]
[12,585,23,596,24,625,14,638,null,null,0,1221,null,1121,{"$f":"COUNTIF($L$7:$L$500,N9)","v":11},{"$f":"O9/$Q$4","v":7.857142857142857E-2},{"$f":"IF(P9=0,0,(P9*((LOG(P9))/LOG(2))))","v":-0.28834546700988833},null,null,{"$f":"N9","v":1121},{"$f":"COUNTIF(L7:L30,T9)","v":6},{"$f":"U9/(W4-U20)","v":0.27272727272727271},{"$f":"IF(V9=0,0,(V9*((LOG(V9))/LOG(2))))","v":-0.51121885034076575},null,{"$f":"N9","v":1121},{"$f":"COUNTIF(L31:L53,Y9)","v":2},{"$f":"Z9/(AB4-Z20)","v":9.0909090909090912E-2},{"$f":"IF(AA9=0,0,(AA9*((LOG(AA9))/LOG(2))))","v":-0.31449378351248153},null,{"$f":"N9","v":1121},{"$f":"COUNTIF(L54:L77,AD9)","v":0},{"$f":"AE9/(AG4-AE20)","v":0},{"$f":"IF(AF9=0,0,(AF9*((LOG(AF9))/LOG(2))))","v":0},null,{"$f":"N9","v":1121},{"$f":"COUNTIF(L78:L100,AI9)","v":3},{"$f":"AJ9/(AL4-AJ20)","v":0.13636363636363635},{"$f":"IF(AK9=0,0,(AK9*((LOG(AK9))/LOG(2))))","v":-0.39197306153401923},null,{"$f":"N9","v":1121},{"$f":"COUNTIF(L101:L124,AN9)","v":0},{"$f":"AO9/(AQ4-AO20)","v":0},{"$f":"IF(AP9=0,0,(AP9*((LOG(AP9))/LOG(2))))","v":0},null,{"$f":"N9","v":1121},{"$f":"COUNTIF(L125:L147,AS9)","v":0},{"$f":"AT9/(AV4-AT20)","v":0},{"$f":"IF(AU9=0,0,(AU9*((LOG(AU9))/LOG(2))))","v":0}]
[12,797,23,811,13,826,14,831,null,null,0,1211,null,1122,{"$f":"COUNTIF($L$7:$L$500,N10)","v":6},{"$f":"O10/$Q$4","v":4.2857142857142858E-2},{"$f":"IF(P10=0,0,(P10*((LOG(P10))/LOG(2))))","v":-0.19475659355244901},null,null,{"$f":"N10","v":1122},{"$f":"COUNTIF(L7:L30,T10)","v":1},{"$f":"U10/(W4-U20)","v":4.5454545454545456E-2},{"$f":"IF(V10=0,0,(V10*((LOG(V10))/LOG(2))))","v":-0.20270143721078623},null,{"$f":"N10","v":1122},{"$f":"COUNTIF(L31:L53,Y10)","v":0},{"$f":"Z10/(AB4-Z20)","v":0},{"$f":"IF(AA10=0,0,(AA10*((LOG(AA10))/LOG(2))))","v":0},null,{"$f":"N10","v":1122},{"$f":"COUNTIF(L54:L77,AD10)","v":0},{"$f":"AE10/(AG4-AE20)","v":0},{"$f":"IF(AF10=0,0,(AF10*((LOG(AF10))/LOG(2))))","v":0},null,{"$f":"N10","v":1122},{"$f":"COUNTIF(L78:L100,AI10)","v":2},{"$f":"AJ10/(AL4-AJ20)","v":9.0909090909090912E-2},{"$f":"IF(AK10=0,0,(AK10*((LOG(AK10))/LOG(2))))","v":-0.31449378351248153},null,{"$f":"N10","v":1122},{"$f":"COUNTIF(L101:L124,AN10)","v":2},{"$f":"AO10/(AQ4-AO20)","v":8.6956521739130432E-2},{"$f":"IF(AP10=0,0,(AP10*((LOG(AP10))/LOG(2))))","v":-0.30639669183104457},null,{"$f":"N10","v":1122},{"$f":"COUNTIF(L125:L147,AS10)","v":1},{"$f":"AT10/(AV4-AT20)","v":4.5454545454545456E-2},{"$f":"IF(AU10=0,0,(AU10*((LOG(AU10))/LOG(2))))","v":-0.20270143721078623}]
[21,987,12,1018,24,1029,14,1048,null,null,0,2121,null,1211,{"$f":"COUNTIF($L$7:$L$500,N11)","v":6},{"$f":"O11/$Q$4","v":4.2857142857142858E-2},{"$f":"IF(P11=0,0,(P11*((LOG(P11))/LOG(2))))","v":-0.19475659355244901},null,null,{"$f":"N11","v":1211},{"$f":"COUNTIF(L7:L30,T11)","v":1},{"$f":"U11/(W4-U20)","v":4.5454545454545456E-2},{"$f":"IF(V11=0,0,(V11*((LOG(V11))/LOG(2))))","v":-0.20270143721078623},null,{"$f":"N11","v":1211},{"$f":"COUNTIF(L31:L53,Y11)","v":1},{"$f":"Z11/(AB4-Z20)","v":4.5454545454545456E-2},{"$f":"IF(AA11=0,0,(AA11*((LOG(AA11))/LOG(2))))","v":-0.20270143721078623},null,{"$f":"N11","v":1211},{"$f":"COUNTIF(L54:L77,AD11)","v":4},{"$f":"AE11/(AG4-AE20)","v":0.16666666666666666},{"$f":"IF(AF11=0,0,(AF11*((LOG(AF11))/LOG(2))))","v":-0.43082708345352599},null,{"$f":"N11","v":1211},{"$f":"COUNTIF(L78:L100,AI11)","v":0},{"$f":"AJ11/(AL4-AJ20)","v":0},{"$f":"IF(AK11=0,0,(AK11*((LOG(AK11))/LOG(2))))","v":0},null,{"$f":"N11","v":1211},{"$f":"COUNTIF(L101:L124,AN11)","v":0},{"$f":"AO11/(AQ4-AO20)","v":0},{"$f":"IF(AP11=0,0,(AP11*((LOG(AP11))/LOG(2))))","v":0},null,{"$f":"N11","v":1211},{"$f":"COUNTIF(L125:L147,AS11)","v":0},{"$f":"AT11/(AV4-AT20)","v":0},{"$f":"IF(AU11=0,0,(AU11*((LOG(AU11))/LOG(2))))","v":0}]
[21,1207,12,1224,24,1236,14,1251,null,null,0,2121,null,1212,{"$f":"COUNTIF($L$7:$L$500,N12)","v":9},{"$f":"O12/$Q$4","v":6.4285714285714279E-2},{"$f":"IF(P12=0,0,(P12*((LOG(P12))/LOG(2))))","v":-0.25453015813945634},null,null,{"$f":"N12","v":1212},{"$f":"COUNTIF(L7:L30,T12)","v":1},{"$f":"U12/(W4-U20)","v":4.5454545454545456E-2},{"$f":"IF(V12=0,0,(V12*((LOG(V12))/LOG(2))))","v":-0.20270143721078623},null,{"$f":"N12","v":1212},{"$f":"COUNTIF(L31:L53,Y12)","v":2},{"$f":"Z12/(AB4-Z20)","v":9.0909090909090912E-2},{"$f":"IF(AA12=0,0,(AA12*((LOG(AA12))/LOG(2))))","v":-0.31449378351248153},null,{"$f":"N12","v":1212},{"$f":"COUNTIF(L54:L77,AD12)","v":1},{"$f":"AE12/(AG4-AE20)","v":4.1666666666666664E-2},{"$f":"IF(AF12=0,0,(AF12*((LOG(AF12))/LOG(2))))","v":-0.19104010419671485},null,{"$f":"N12","v":1212},{"$f":"COUNTIF(L78:L100,AI12)","v":1},{"$f":"AJ12/(AL4-AJ20)","v":4.5454545454545456E-2},{"$f":"IF(AK12=0,0,(AK12*((LOG(AK12))/LOG(2))))","v":-0.20270143721078623},null,{"$f":"N12","v":1212},{"$f":"COUNTIF(L101:L124,AN12)","v":3},{"$f":"AO12/(AQ4-AO20)","v":0.13043478260869565},{"$f":"IF(AP12=0,0,(AP12*((LOG(AP12))/LOG(2))))","v":-0.3832955811307639},null,{"$f":"N12","v":1212},{"$f":"COUNTIF(L125:L147,AS12)","v":1},{"$f":"AT12/(AV4-AT20)","v":4.5454545454545456E-2},{"$f":"IF(AU12=0,0,(AU12*((LOG(AU12))/LOG(2))))","v":-0.20270143721078623}]
[21,1515,12,1532,24,1545,14,1560,null,null,0,2121,null,1221,{"$f":"COUNTIF($L$7:$L$500,N13)","v":11},{"$f":"O13/$Q$4","v":7.857142857142857E-2},{"$f":"IF(P13=0,0,(P13*((LOG(P13))/LOG(2))))","v":-0.28834546700988833},null,null,{"$f":"N13","v":1221},{"$f":"COUNTIF(L7:L30,T13)","v":2},{"$f":"U13/(W4-U20)","v":9.0909090909090912E-2},{"$f":"IF(V13=0,0,(V13*((LOG(V13))/LOG(2))))","v":-0.31449378351248153},null,{"$f":"N13","v":1221},{"$f":"COUNTIF(L31:L53,Y13)","v":1},{"$f":"Z13/(AB4-Z20)","v":4.5454545454545456E-2},{"$f":"IF(AA13=0,0,(AA13*((LOG(AA13))/LOG(2))))","v":-0.20270143721078623},null,{"$f":"N13","v":1221},{"$f":"COUNTIF(L54:L77,AD13)","v":2},{"$f":"AE13/(AG4-AE20)","v":8.3333333333333329E-2},{"$f":"IF(AF13=0,0,(AF13*((LOG(AF13))/LOG(2))))","v":-0.29874687506009634},null,{"$f":"N13","v":1221},{"$f":"COUNTIF(L78:L100,AI13)","v":3},{"$f":"AJ13/(AL4-AJ20)","v":0.13636363636363635},{"$f":"IF(AK13=0,0,(AK13*((LOG(AK13))/LOG(2))))","v":-0.39197306153401923},null,{"$f":"N13","v":1221},{"$f":"COUNTIF(L101:L124,AN13)","v":2},{"$f":"AO13/(AQ4-AO20)","v":8.6956521739130432E-2},{"$f":"IF(AP13=0,0,(AP13*((LOG(AP13))/LOG(2))))","v":-0.30639669183104457},null,{"$f":"N13","v":1221},{"$f":"COUNTIF(L125:L147,AS13)","v":1},{"$f":"AT13/(AV4-AT20)","v":4.5454545454545456E-2},{"$f":"IF(AU13=0,0,(AU13*((LOG(AU13))/LOG(2))))","v":-0.20270143721078623}]
[12,1878,23,1890,24,1914,14,1930,null,null,0,1221,null,1222,{"$f":"COUNTIF($L$7:$L$500,N14)","v":8},{"$f":"O14/$Q$4","v":5.7142857142857141E-2},{"$f":"IF(P14=0,0,(P14*((LOG(P14))/LOG(2))))","v":-0.23595902953971234},null,null,{"$f":"N14","v":1222},{"$f":"COUNTIF(L7:L30,T14)","v":0},{"$f":"U14/(W4-U20)","v":0},{"$f":"IF(V14=0,0,(V14*((LOG(V14))/LOG(2))))","v":0},null,{"$f":"N14","v":1222},{"$f":"COUNTIF(L31:L53,Y14)","v":0},{"$f":"Z14/(AB4-Z20)","v":0},{"$f":"IF(AA14=0,0,(AA14*((LOG(AA14))/LOG(2))))","v":0},null,{"$f":"N14","v":1222},{"$f":"COUNTIF(L54:L77,AD14)","v":3},{"$f":"AE14/(AG4-AE20)","v":0.125},{"$f":"IF(AF14=0,0,(AF14*((LOG(AF14))/LOG(2))))","v":-0.375},null,{"$f":"N14","v":1222},{"$f":"COUNTIF(L78:L100,AI14)","v":1},{"$f":"AJ14/(AL4-AJ20)","v":4.5454545454545456E-2},{"$f":"IF(AK14=0,0,(AK14*((LOG(AK14))/LOG(2))))","v":-0.20270143721078623},null,{"$f":"N14","v":1222},{"$f":"COUNTIF(L101:L124,AN14)","v":1},{"$f":"AO14/(AQ4-AO20)","v":4.3478260869565216E-2},{"$f":"IF(AP14=0,0,(AP14*((LOG(AP14))/LOG(2))))","v":-0.19667660678508753},null,{"$f":"N14","v":1222},{"$f":"COUNTIF(L125:L147,AS14)","v":3},{"$f":"AT14/(AV4-AT20)","v":0.13636363636363635},{"$f":"IF(AU14=0,0,(AU14*((LOG(AU14))/LOG(2))))","v":-0.39197306153401923}]
[21,2070,21,2077,22,2085,14,2102,null,null,0,2221,null,2111,{"$f":"COUNTIF($L$7:$L$500,N15)","v":6},{"$f":"O15/$Q$4","v":4.2857142857142858E-2},{"$f":"IF(P15=0,0,(P15*((LOG(P15))/LOG(2))))","v":-0.19475659355244901},null,null,{"$f":"N15","v":2111},{"$f":"COUNTIF(L7:L30,T15)","v":0},{"$f":"U15/(W4-U20)","v":0},{"$f":"IF(V15=0,0,(V15*((LOG(V15))/LOG(2))))","v":0},null,{"$f":"N15","v":2111},{"$f":"COUNTIF(L31:L53,Y15)","v":1},{"$f":"Z15/(AB4-Z20)","v":4.5454545454545456E-2},{"$f":"IF(AA15=0,0,(AA15*((LOG(AA15))/LOG(2))))","v":-0.20270143721078623},null,{"$f":"N15","v":2111},{"$f":"COUNTIF(L54:L77,AD15)","v":3},{"$f":"AE15/(AG4-AE20)","v":0.125},{"$f":"IF(AF15=0,0,(AF15*((LOG(AF15))/LOG(2))))","v":-0.375},null,{"$f":"N15","v":2111},{"$f":"COUNTIF(L78:L100,AI15)","v":0},{"$f":"AJ15/(AL4-AJ20)","v":0},{"$f":"IF(AK15=0,0,(AK15*((LOG(AK15))/LOG(2))))","v":0},null,{"$f":"N15","v":2111},{"$f":"COUNTIF(L101:L124,AN15)","v":2},{"$f":"AO15/(AQ4-AO20)","v":8.6956521739130432E-2},{"$f":"IF(AP15=0,0,(AP15*((LOG(AP15))/LOG(2))))","v":-0.30639669183104457},null,{"$f":"N15","v":2111},{"$f":"COUNTIF(L125:L147,AS15)","v":0},{"$f":"AT15/(AV4-AT20)","v":0},{"$f":"IF(AU15=0,0,(AU15*((LOG(AU15))/LOG(2))))","v":0}]
[21,2210,12,2225,24,2237,14,2268,null,null,0,2121,null,2112,{"$f":"COUNTIF($L$7:$L$500,N16)","v":24},{"$f":"O16/$Q$4","v":0.17142857142857143},{"$f":"IF(P16=0,0,(P16*((LOG(P16))/LOG(2))))","v":-0.43616923135265318},null,null,{"$f":"N16","v":2112},{"$f":"COUNTIF(L7:L30,T16)","v":0},{"$f":"U16/(W4-U20)","v":0},{"$f":"IF(V16=0,0,(V16*((LOG(V16))/LOG(2))))","v":0},null,{"$f":"N16","v":2112},{"$f":"COUNTIF(L31:L53,Y16)","v":7},{"$f":"Z16/(AB4-Z20)","v":0.31818181818181818},{"$f":"IF(AA16=0,0,(AA16*((LOG(AA16))/LOG(2))))","v":-0.52566076709353871},null,{"$f":"N16","v":2112},{"$f":"COUNTIF(L54:L77,AD16)","v":5},{"$f":"AE16/(AG4-AE20)","v":0.20833333333333334},{"$f":"IF(AF16=0,0,(AF16*((LOG(AF16))/LOG(2))))","v":-0.47146550121537367},null,{"$f":"N16","v":2112},{"$f":"COUNTIF(L78:L100,AI16)","v":3},{"$f":"AJ16/(AL4-AJ20)","v":0.13636363636363635},{"$f":"IF(AK16=0,0,(AK16*((LOG(AK16))/LOG(2))))","v":-0.39197306153401923},null,{"$f":"N16","v":2112},{"$f":"COUNTIF(L101:L124,AN16)","v":5},{"$f":"AO16/(AQ4-AO20)","v":0.21739130434782608},{"$f":"IF(AP16=0,0,(AP16*((LOG(AP16))/LOG(2))))","v":-0.47861605677601093},null,{"$f":"N16","v":2112},{"$f":"COUNTIF(L125:L147,AS16)","v":4},{"$f":"AT16/(AV4-AT20)","v":0.18181818181818182},{"$f":"IF(AU16=0,0,(AU16*((LOG(AU16))/LOG(2))))","v":-0.44716938520678134}]
[12,2389,14,2399,24,2411,14,2426,null,null,0,1121,null,2121,{"$f":"COUNTIF($L$7:$L$500,N17)","v":25},{"$f":"O17/$Q$4","v":0.17857142857142858},{"$f":"IF(P17=0,0,(P17*((LOG(P17))/LOG(2))))","v":-0.44382621913754317},null,null,{"$f":"N17","v":2121},{"$f":"COUNTIF(L7:L30,T17)","v":6},{"$f":"U17/(W4-U20)","v":0.27272727272727271},{"$f":"IF(V17=0,0,(V17*((LOG(V17))/LOG(2))))","v":-0.51121885034076575},null,{"$f":"N17","v":2121},{"$f":"COUNTIF(L31:L53,Y17)","v":3},{"$f":"Z17/(AB4-Z20)","v":0.13636363636363635},{"$f":"IF(AA17=0,0,(AA17*((LOG(AA17))/LOG(2))))","v":-0.39197306153401923},null,{"$f":"N17","v":2121},{"$f":"COUNTIF(L54:L77,AD17)","v":1},{"$f":"AE17/(AG4-AE20)","v":4.1666666666666664E-2},{"$f":"IF(AF17=0,0,(AF17*((LOG(AF17))/LOG(2))))","v":-0.19104010419671485},null,{"$f":"N17","v":2121},{"$f":"COUNTIF(L78:L100,AI17)","v":5},{"$f":"AJ17/(AL4-AJ20)","v":0.22727272727272727},{"$f":"IF(AK17=0,0,(AK17*((LOG(AK17))/LOG(2))))","v":-0.48579625539771243},null,{"$f":"N17","v":2121},{"$f":"COUNTIF(L101:L124,AN17)","v":5},{"$f":"AO17/(AQ4-AO20)","v":0.21739130434782608},{"$f":"IF(AP17=0,0,(AP17*((LOG(AP17))/LOG(2))))","v":-0.47861605677601093},null,{"$f":"N17","v":2121},{"$f":"COUNTIF(L125:L147,AS17)","v":5},{"$f":"AT17/(AV4-AT20)","v":0.22727272727272727},{"$f":"IF(AU17=0,0,(AU17*((LOG(AU17))/LOG(2))))","v":-0.48579625539771243}]
[12,2737,14,2770,24,2783,14,2813,null,null,0,1121,null,2122,{"$f":"COUNTIF($L$7:$L$500,N18)","v":11},{"$f":"O18/$Q$4","v":7.857142857142857E-2},{"$f":"IF(P18=0,0,(P18*((LOG(P18))/LOG(2))))","v":-0.28834546700988833},null,null,{"$f":"N18","v":2122},{"$f":"COUNTIF(L7:L30,T18)","v":2},{"$f":"U18/(W4-U20)","v":9.0909090909090912E-2},{"$f":"IF(V18=0,0,(V18*((LOG(V18))/LOG(2))))","v":-0.31449378351248153},null,{"$f":"N18","v":2122},{"$f":"COUNTIF(L31:L53,Y18)","v":1},{"$f":"Z18/(AB4-Z20)","v":4.5454545454545456E-2},{"$f":"IF(AA18=0,0,(AA18*((LOG(AA18))/LOG(2))))","v":-0.20270143721078623},null,{"$f":"N18","v":2122},{"$f":"COUNTIF(L54:L77,AD18)","v":2},{"$f":"AE18/(AG4-AE20)","v":8.3333333333333329E-2},{"$f":"IF(AF18=0,0,(AF18*((LOG(AF18))/LOG(2))))","v":-0.29874687506009634},null,{"$f":"N18","v":2122},{"$f":"COUNTIF(L78:L100,AI18)","v":2},{"$f":"AJ18/(AL4-AJ20)","v":9.0909090909090912E-2},{"$f":"IF(AK18=0,0,(AK18*((LOG(AK18))/LOG(2))))","v":-0.31449378351248153},null,{"$f":"N18","v":2122},{"$f":"COUNTIF(L101:L124,AN18)","v":2},{"$f":"AO18/(AQ4-AO20)","v":8.6956521739130432E-2},{"$f":"IF(AP18=0,0,(AP18*((LOG(AP18))/LOG(2))))","v":-0.30639669183104457},null,{"$f":"N18","v":2122},{"$f":"COUNTIF(L125:L147,AS18)","v":2},{"$f":"AT18/(AV4-AT20)","v":9.0909090909090912E-2},{"$f":"IF(AU18=0,0,(AU18*((LOG(AU18))/LOG(2))))","v":-0.31449378351248153}]
[12,2980,14,3019,24,3031,14,3058,null,null,0,1121,null,2211,{"$f":"COUNTIF($L$7:$L$500,N19)","v":3},{"$f":"O19/$Q$4","v":2.1428571428571429E-2},{"$f":"IF(P19=0,0,(P19*((LOG(P19))/LOG(2))))","v":-0.11880686820479594},null,null,{"$f":"N19","v":2211},{"$f":"COUNTIF(L7:L30,T19)","v":1},{"$f":"U19/(W4-U20)","v":4.5454545454545456E-2},{"$f":"IF(V19=0,0,(V19*((LOG(V19))/LOG(2))))","v":-0.20270143721078623},null,{"$f":"N19","v":2211},{"$f":"COUNTIF(L31:L53,Y19)","v":0},{"$f":"Z19/(AB4-Z20)","v":0},{"$f":"IF(AA19=0,0,(AA19*((LOG(AA19))/LOG(2))))","v":0},null,{"$f":"N19","v":2211},{"$f":"COUNTIF(L54:L77,AD19)","v":0},{"$f":"AE19/(AG4-AE20)","v":0},{"$f":"IF(AF19=0,0,(AF19*((LOG(AF19))/LOG(2))))","v":0},null,{"$f":"N19","v":2211},{"$f":"COUNTIF(L78:L100,AI19)","v":0},{"$f":"AJ19/(AL4-AJ20)","v":0},{"$f":"IF(AK19=0,0,(AK19*((LOG(AK19))/LOG(2))))","v":0},null,{"$f":"N19","v":2211},{"$f":"COUNTIF(L101:L124,AN19)","v":0},{"$f":"AO19/(AQ4-AO20)","v":0},{"$f":"IF(AP19=0,0,(AP19*((LOG(AP19))/LOG(2))))","v":0},null,{"$f":"N19","v":2211},{"$f":"COUNTIF(L125:L147,AS19)","v":2},{"$f":"AT19/(AV4-AT20)","v":9.0909090909090912E-2},{"$f":"IF(AU19=0,0,(AU19*((LOG(AU19))/LOG(2))))","v":-0.31449378351248153}]
[12,3211,14,3216,24,3227,23,3248,null,null,0,1122,null,2212,{"$f":"COUNTIF($L$7:$L$500,N20)","v":5},{"$f":"O20/$Q$4","v":3.5714285714285712E-2},{"$f":"IF(P20=0,0,(P20*((LOG(P20))/LOG(2))))","v":-0.17169124721634299},null,null,{"$f":"N20","v":2212},{"$f":"COUNTIF(L7:L30,T20)","v":2},null,null,null,{"$f":"N20","v":2212},{"$f":"COUNTIF(L31:L53,Y20)","v":1},null,null,null,{"$f":"N20","v":2212},{"$f":"COUNTIF(L54:L77,AD20)","v":0},null,null,null,{"$f":"N20","v":2212},{"$f":"COUNTIF(L78:L100,AI20)","v":1},null,null,null,{"$f":"N20","v":2212},{"$f":"COUNTIF(L101:L124,AN20)","v":1},null,null,null,{"$f":"N20","v":2212},{"$f":"COUNTIF(L125:L147,AS20)","v":0}]
[21,3353,21,3370,11,3386,12,3392,null,null,0,2211,null,2221,{"$f":"COUNTIF($L$7:$L$500,N21)","v":3},{"$f":"O21/$Q$4","v":2.1428571428571429E-2},{"$f":"IF(P21=0,0,(P21*((LOG(P21))/LOG(2))))","v":-0.11880686820479594},null,null,{"$f":"N21","v":2221},{"$f":"COUNTIF(L7:L30,T21)","v":1},{"$f":"U21/(W4-U20)","v":4.5454545454545456E-2},{"$f":"IF(V21=0,0,(V21*((LOG(V21))/LOG(2))))","v":-0.20270143721078623},null,{"$f":"N21","v":2221},{"$f":"COUNTIF(L31:L53,Y21)","v":0},{"$f":"Z21/(AB4-Z20)","v":0},{"$f":"IF(AA21=0,0,(AA21*((LOG(AA21))/LOG(2))))","v":0},null,{"$f":"N21","v":2221},{"$f":"COUNTIF(L54:L77,AD21)","v":1},{"$f":"AE21/(AG4-AE20)","v":4.1666666666666664E-2},{"$f":"IF(AF21=0,0,(AF21*((LOG(AF21))/LOG(2))))","v":-0.19104010419671485},null,{"$f":"N21","v":2221},{"$f":"COUNTIF(L78:L100,AI21)","v":0},{"$f":"AJ21/(AL4-AJ20)","v":0},{"$f":"IF(AK21=0,0,(AK21*((LOG(AK21))/LOG(2))))","v":0},null,{"$f":"N21","v":2221},{"$f":"COUNTIF(L101:L124,AN21)","v":0},{"$f":"AO21/(AQ4-AO20)","v":0},{"$f":"IF(AP21=0,0,(AP21*((LOG(AP21))/LOG(2))))","v":0},null,{"$f":"N21","v":2221},{"$f":"COUNTIF(L125:L147,AS21)","v":1},{"$f":"AT21/(AV4-AT20)","v":4.5454545454545456E-2},{"$f":"IF(AU21=0,0,(AU21*((LOG(AU21))/LOG(2))))","v":-0.20270143721078623}]
[12,3522,14,3526,24,3539,14,3556,null,null,0,1121,null,2222,{"$f":"COUNTIF($L$7:$L$500,N22)","v":2},{"$f":"O22/$Q$4","v":1.4285714285714285E-2},{"$f":"IF(P22=0,0,(P22*((LOG(P22))/LOG(2))))","v":-8.756118595635666E-2},null,null,{"$f":"N22","v":2222},{"$f":"COUNTIF(L7:L30,T22)","v":0},{"$f":"U22/(W4-U20)","v":0},{"$f":"IF(V22=0,0,(V22*((LOG(V22))/LOG(2))))","v":0},null,{"$f":"N22","v":2222},{"$f":"COUNTIF(L31:L53,Y22)","v":0},{"$f":"Z22/(AB4-Z20)","v":0},{"$f":"IF(AA22=0,0,(AA22*((LOG(AA22))/LOG(2))))","v":0},null,{"$f":"N22","v":2222},{"$f":"COUNTIF(L54:L77,AD22)","v":0},{"$f":"AE22/(AG4-AE20)","v":0},{"$f":"IF(AF22=0,0,(AF22*((LOG(AF22))/LOG(2))))","v":0},null,{"$f":"N22","v":2222},{"$f":"COUNTIF(L78:L100,AI22)","v":1},{"$f":"AJ22/(AL4-AJ20)","v":4.5454545454545456E-2},{"$f":"IF(AK22=0,0,(AK22*((LOG(AK22))/LOG(2))))","v":-0.20270143721078623},null,{"$f":"N22","v":2222},{"$f":"COUNTIF(L101:L124,AN22)","v":1},{"$f":"AO22/(AQ4-AO20)","v":4.3478260869565216E-2},{"$f":"IF(AP22=0,0,(AP22*((LOG(AP22))/LOG(2))))","v":-0.19667660678508753},null,{"$f":"N22","v":2222},{"$f":"COUNTIF(L125:L147,AS22)","v":0},{"$f":"AT22/(AV4-AT20)","v":0},{"$f":"IF(AU22=0,0,(AU22*((LOG(AU22))/LOG(2))))","v":0}]
[12,3677,14,3683,24,3701,14,3717,null,null,0,1121,null,null,null,{"$f":"SUM(P7:P22)","v":1.0000000000000002},{"$f":"-SUM(Q7:Q22)","v":3.6600394838713539},null,null,null,null,{"$f":"SUM(V7:V22)","v":1},{"$f":"-SUM(W7:W22)","v":2.8676338909712116},null,null,null,{"$f":"SUM(AA7:AA22)","v":0.99999999999999989},{"$f":"-SUM(AB7:AB22)","v":2.9521016432404714},null,null,null,{"$f":"SUM(AF7:AF22)","v":1},{"$f":"-SUM(AG7:AG22)","v":3.1216535224393334},null,null,null,{"$f":"SUM(AK7:AK22)","v":1},{"$f":"-SUM(AL7:AL22)","v":3.101508755867878},null,null,null,{"$f":"SUM(AP7:AP22)","v":1},{"$f":"-SUM(AQ7:AQ22)","v":2.9594676755771387},null,null,null,{"$f":"SUM(AU7:AU22)","v":1},{"$f":"-SUM(AV7:AV22)","v":3.1701348924281936}]
[21,3861,12,3882,24,3894,23,3915,null,null,0,2122,null,null,null,"U=",{"$f":"Q23/(LOG(Q4)/LOG(2))","v":0.51338114578592642},null,null,null,null,"U1=",{"$f":"W23/(LOG(W4)/LOG(2))","v":0.62544325946399115},null,null,null,"U2=",{"$f":"AB23/(LOG(AB4)/LOG(2))","v":0.65260555109400697},null,null,null,"U3=",{"$f":"AG23/(LOG(AG4)/LOG(2))","v":0.68084603133577148},null,null,null,"U4=",{"$f":"AL23/(LOG(AL4)/LOG(2))","v":0.68563419402601145},null,null,null,"U5=",{"$f":"AQ23/(LOG(AQ4)/LOG(2))","v":0.64547260203581869},null,null,null,"U6=",{"$f":"AV23/(LOG(AV4)/LOG(2))","v":0.7108831715636702}]
[21,4031,12,4044,24,4055,14,4069,null,null,0,2121]
[21,4178,12,4194,24,4214,23,4220,null,null,0,2122]
[12,4339,23,4350,13,4362,23,4374,null,null,0,1212,null,"Total Target Seq"]
[21,4489,12,4503,24,4516,14,4530,null,null,0,2121,null,{"$f":"COUNTIF(L7:L147,G3)","v":5},null,24,23,24,23,24,23]
[21,4643,21,4649,11,4661,21,4673,null,null,0,2212,null,null,null,"% of reinforcement given in 6 equal intervals based on number of trials "]
[12,4778,14,4809,13,4815,14,4820,null,null,0,1111,null,null,null,"%_1","%_2","%_3","%_4","%_5","%_6"]
[21,4933,12,4949,24,4963,14,4982,null,null,0,2121,null,null,"target sequence",{"$f":"$G$3","v":2212},{"$f":"$G$3","v":2212},{"$f":"$G$3","v":2212},{"$f":"$G$3","v":2212},{"$f":"$G$3","v":2212},{"$f":"$G$3","v":2212}]
[12,5107,14,5124,13,5129,23,5142,null,null,0,1112,null,null,"total reinforcement",{"$f":"U20","v":2},{"$f":"Z20","v":1},{"$f":"AE20","v":0},{"$f":"AJ20","v":1},{"$f":"AO20","v":1},{"$f":"AT20","v":0}]
[21,5253,12,5273,24,5285,14,5299,null,null,0,2121,null,null,"% target"]
[12,5434,23,5446,13,5458,23,5472,null,null,0,1212,null,null,"CCRF"]
[21,5586,12,5603,13,5633,23,5644,null,null,0,2112,null,null,"% CCRf"]
[12,5771,14,5794,13,5800,23,5812,null,null,0,1112,null,null,"average response rate",{"$f":"H30/P28","v":200.83333333333334},{"$f":"(H53-H30)/Q28","v":159.60869565217391},{"$f":"(H77-H53)/R28","v":168.29166666666666},{"$f":"(H100-H77)/S28","v":165.95652173913044},{"$f":"(H124-H100)/T28","v":165.58333333333334},{"$f":"(H147-H124)/U28","v":-883.52173913043475}]
[12,5927,14,5951,13,5957,23,5969,null,null,0,1112]
[21,6080,12,6092,24,6105,23,6111,null,null,0,2122]
[21,6217,12,6232,13,6240,23,6252,null,null,0,2112]
[21,6365,21,6372,11,6385,21,6397,null,null,0,2212]
[12,6496,23,6520,13,6533,23,6543,null,null,0,1212]
[12,6661,14,6667,24,6680,14,6699,null,null,0,1121]
[21,6813,12,6826,24,6863,14,6877,null,null,0,2121]
[12,7019,23,7031,13,7044,14,7049,null,null,0,1211]
[21,7192,12,7209,13,7214,23,7224,null,null,0,2112]
[21,7342,12,7355,13,7360,23,7375,null,null,0,2112]
[12,7500,14,7506,24,7521,14,7548,null,null,0,1121]
[21,7657,12,7669,13,7674,23,7683,null,null,0,2112]
[12,7804,14,7824,13,7829,14,7834,null,null,0,1111]
[12,7949,23,8001,24,8015,14,8037,null,null,0,1221]
[21,8149,12,8161,13,8165,23,8176,null,null,0,2112]
[21,8287,12,8301,13,8327,23,8335,null,null,0,2112]
[21,8455,12,8471,13,8476,14,8491,null,null,0,2111]
[12,8631,23,8645,13,8657,14,8662,null,null,0,1211]
[12,8782,23,8795,13,8812,14,8816,null,null,0,1211]
[12,8932,23,8995,13,9016,14,9021,null,null,0,1211]
[12,9158,23,9170,24,9180,14,9196,null,null,0,1221]
[21,9296,12,9314,13,9319,23,9331,null,null,0,2112]
[21,9440,12,9457,13,9482,14,9488,null,null,0,2111]
[21,9599,12,9612,13,9619,14,9625,null,null,0,2111]
[21,9749,21,9774,22,9787,14,9802,null,null,0,2221]
[12,9965,14,9974,13,9979,14,9984,null,null,0,1111]
[21,10128,12,10140,13,10151,14,10175,null,null,0,2111]
[21,10294,12,10307,13,10312,23,10324,null,null,0,2112]
[21,10470,12,10481,13,10486,23,10496,null,null,0,2112]
[21,10611,12,10623,13,10628,23,10641,null,null,0,2112]
[12,10815,23,10826,24,10847,23,10860,null,null,0,1222]
[12,11004,23,11013,24,11025,23,11037,null,null,0,1222]
[21,11151,12,11168,24,11179,14,11195,null,null,0,2121]
[12,11320,14,11344,13,11377,14,11383,null,null,0,1111]
[12,11507,23,11515,13,11529,23,11538,null,null,0,1212]
[12,11665,23,11676,24,11688,14,11705,null,null,0,1221]
[12,11824,23,11840,13,11852,14,11857,null,null,0,1211]
[21,11963,12,11976,13,11981,23,11998,null,null,0,2112]
[21,12108,12,12125,24,12135,23,12154,null,null,0,2122]
[21,12275,12,12286,24,12297,23,12321,null,null,0,2122]
[12,12461,23,12472,24,12521,23,12530,null,null,0,1222]
[12,12676,23,12695,24,12711,14,12748,null,null,0,1221]
[21,12877,12,12891,13,12895,23,12905,null,null,0,2112]
[21,13026,21,13045,22,13069,23,13100,null,null,0,2222]
[12,13247,23,13261,13,13273,23,13289,null,null,0,1212]
[21,13394,12,13435,24,13447,14,13463,null,null,0,2121]
[21,13567,12,13580,24,13597,23,13610,null,null,0,2122]
[21,13732,12,13748,13,13762,23,13773,null,null,0,2112]
[12,13901,23,13919,24,13927,14,13942,null,null,0,1221]
[21,14058,12,14074,13,14101,23,14112,null,null,0,2112]
[21,14235,21,14243,11,14258,21,14272,null,null,0,2212]
[12,14370,14,14397,24,14409,14,14435,null,null,0,1121]
[21,14539,12,14554,24,14566,14,14579,null,null,0,2121]
[12,14688,14,14734,24,14745,23,14761,null,null,0,1122]
[21,14871,12,14888,24,14904,14,14926,null,null,0,2121]
[21,15047,12,15061,24,15073,23,15088,null,null,0,2122]
[12,15204,14,15209,24,15218,14,15232,null,null,0,1121]
[12,15330,14,15334,13,15344,23,15356,null,null,0,1112]
[12,15475,14,15499,24,15510,23,15528,null,null,0,1122]
[12,15708,23,15717,24,15744,23,15756,null,null,0,1222]
[21,15860,12,15876,24,15889,14,15902,null,null,0,2121]
[21,16007,12,16023,24,16033,14,16052,null,null,0,2121]
[12,16169,14,16175,24,16184,14,16201,null,null,0,1121]
[12,16317,23,16326,24,16332,14,16347,null,null,0,1221]
[21,16452,12,16465,13,16494,23,16506,null,null,0,2112]
[21,16618,12,16648,24,16664,23,16669,null,null,0,2122]
[12,16810,14,16816,24,16825,23,16832,null,null,0,1122]
[21,16958,12,16971,24,16983,14,17001,null,null,0,2121]
[12,17127,23,17139,24,17149,14,17166,null,null,0,1221]
[21,17273,12,17290,13,17303,23,17312,null,null,0,2112]
[21,17419,21,17443,22,17452,23,17458,null,null,0,2222]
[21,17567,12,17580,24,17592,23,17602,null,null,0,2122]
[21,17723,12,17747,24,17776,14,17794,null,null,0,2121]
[21,17902,12,17918,24,17927,14,17955,null,null,0,2121]
[21,18061,12,18074,13,18080,23,18090,null,null,0,2112]
[21,18210,12,18226,13,18235,23,18250,null,null,0,2112]
[12,18381,23,18392,13,18406,23,18417,null,null,0,1212]
[12,18570,23,18581,24,18607,14,18622,null,null,0,1221]
[21,18729,12,18742,13,18766,14,18770,null,null,0,2111]
[21,18885,12,18897,24,18908,14,18924,null,null,0,2121]
[21,19030,12,19053,13,19059,23,19068,null,null,0,2112]
[21,19192,21,19219,11,19236,21,19244,null,null,0,2212]
[12,19371,23,19381,13,19417,23,19425,null,null,0,1212]
[21,19530,12,19546,24,19564,14,19581,null,null,0,2121]
[21,19688,12,19705,13,19730,14,19735,null,null,0,2111]
[12,19857,23,19870,13,19884,23,19895,null,null,0,1212]
[12,20048,23,20096,24,20121,23,20139,null,null,0,1222]
[12,20274,14,20298,24,20307,23,20321,null,null,0,1122]
[12,20442,23,20451,24,20457,23,20477,null,null,0,1222]
[21,20612,12,20628,24,20638,14,20651,null,null,0,2121]
[21,20782,12,20794,24,20812,14,20825,null,null,0,2121]
[21,20932,12,20952,24,20961,14,20977,null,null,0,2121]
[21,21108,21,21128,11,21144,12,21192,null,null,0,2211]
[21,21295,21,21300,22,21313,14,21330,null,null,0,2221]
[12,21444,23,21455,13,21479,23,21488,null,null,0,1212]
[12,21614,23,21628,24,21640,23,21648,null,null,0,1222]
[12,21782,14,21791,13,21840,23,21849,null,null,0,1112]
[21,21955,12,21978,24,21995,14,22011,null,null,0,2121]
[12,22137,14,22142,24,22153,23,22170,null,null,0,1122]
[21,22282,21,22301,11,22314,12,22319,null,null,0,2211]
[21,22424,12,22444,13,22449,23,22460,null,null,0,2112]
[21,22571,12,22584,24,22593,23,22599,null,null,0,2122]
[21,22704,12,22726,24,22749,14,22763,null,null,0,2121]
[12,22919,23,22929,24,22935,14,22949,null,null,0,1221]
[21,23052,12,23090,13,23096,23,23107,null,null,0,2112]
[12,23236,14,23262,13,23267,14,23271,null,null,0,1111]
[21,23379,12,23402,13,23411,23,23422,null,null,0,2112]
[12,23545,23,23557,24,23563,23,23568,null,null,0,1222]
[21,23686,12,23707,24,23718,23,23727,null,null,0,2122]
[21,23830,12,23843,13,23849,23,23867,null,null,0,2112]
[21,23976,21,23984,11,24000,null,null,null,null,null,221]

{"sheet":"!N121940.092","index":24,"n_rows":155,"n_cols":48,"rows_kept":155,"cut":false,"hidden":false,"merged":[[4,39,4,42],[5,39,5,40],[4,44,4,47],[5,44,5,45],[4,24,4,27],[5,24,5,25],[4,29,4,32],[5,29,5,30],[4,34,4,37],[5,34,5,35],[1,1,1,2],[5,13,5,14],[26,13,26,14],[27,13,27,14],[4,19,4,22],[5,19,5,20]]}
["Report for:!N121940.092"]
["Date:","<date>"]
["Hen:","<hen>",null,null,null,"Correct Sequence",{"$f":"Start!J2","v":2212},null,null,null,null,null,null,null,null,"Total Sequences in Data",{"$f":"4994-COUNTBLANK(L7:L5000)","v":149},null,null,null,null,"Total Sequences in Block Data",{"$f":"COUNTA(L7:L31)","v":25},null,null,null,"Total Sequences in Block Data",{"$f":"COUNTA(L32:L56)","v":25},null,null,null,"Total Sequences in Block Data",{"$f":"COUNTA(L57:L80)","v":24},null,null,null,"Total Sequences in Block Data",{"$f":"COUNTA(L81:L105)","v":25},null,null,null,"Total Sequences in Block Data",{"$f":"COUNTA(L106:L130)","v":25},null,null,null,"Total Sequences in Block Data",{"$f":"COUNTA(L131:L155)","v":25}]
[null,null,null,null,null,null,null,null,null,null,null,null,null,null,null,"Total Sequences in Summary",{"$f":"SUM(O7:O22)","v":149},null,null,null,null,"Total Sequences in Block Summary",{"$f":"SUM(U7:U22)","v":25},null,null,null,"Total Sequences in Block Summary",{"$f":"SUM(Z7:Z22)","v":25},null,null,null,"Total Sequences in Block Summary",{"$f":"SUM(AE7:AE22)","v":24},null,null,null,"Total Sequences in Block Summary",{"$f":"SUM(AJ7:AJ22)","v":25},null,null,null,"Total Sequences in Block Summary",{"$f":"SUM(AO7:AO22)","v":25},null,null,null,"Total Sequences in Block Summary",{"$f":"SUM(AT7:AT22)","v":25}]
[null,null,null,null,null,null,null,null,null,null,null,null,null,null,null,null,null,null,null,"Block 1",null,null,null,null,"Block 2",null,null,null,null,"Block 3",null,null,null,null,"Block 4",null,null,null,null,"Block 5",null,null,null,null,"Block 6"]
["Sequence\nComponent\n1","Time\n1","Sequence\nComponent\n2","Time\n2","Sequence\nComponent\n3","Time\n3","Sequence\nComponent\n4","Time\n4","Sequence\nComponent\n5","Time\n5","Correct?\n0=No 1=Yes","Sequence",null,"Frequency",null,"Relative Frequency","Variability",null,null,"Frequency",null,"Relative Frequency","Variability",null,"Frequency",null,"Relative Frequency","Variability",null,"Frequency",null,"Relative Frequency","Variability",null,"Frequency",null,"Relative Frequency","Variability",null,"Frequency",null,"Relative Frequency","Variability",null,"Frequency",null,"Relative Frequency","Variability"]
[21,29,21,58,22,76,14,101,null,null,0,2221,null,1111,{"$f":"COUNTIF($L$7:$L$500,N7)","v":3},{"$f":"O7/$Q$4","v":2.0134228187919462E-2},{"$f":"IF(P7=0,0,(P7*((LOG(P7))/LOG(2))))","v":-0.11344038965921487},null,null,{"$f":"N7","v":1111},{"$f":"COUNTIF(L7:L31,T7)","v":0},{"$f":"U7/(W4-U20)","v":0},{"$f":"IF(V7=0,0,(V7*((LOG(V7))/LOG(2))))","v":0},null,{"$f":"N7","v":1111},{"$f":"COUNTIF(L32:L56,Y7)","v":2},{"$f":"Z7/(AB4-Z20)","v":0.08},{"$f":"IF(AA7=0,0,(AA7*((LOG(AA7))/LOG(2))))","v":-0.29150849518197797},null,{"$f":"N7","v":1111},{"$f":"COUNTIF(L57:L80,AD7)","v":0},{"$f":"AE7/(AG4-AE20)","v":0},{"$f":"IF(AF7=0,0,(AF7*((LOG(AF7))/LOG(2))))","v":0},null,{"$f":"N7","v":1111},{"$f":"COUNTIF(L81:L105,AI7)","v":0},{"$f":"AJ7/(AL4-AJ20)","v":0},{"$f":"IF(AK7=0,0,(AK7*((LOG(AK7))/LOG(2))))","v":0},null,{"$f":"N7","v":1111},{"$f":"COUNTIF(L106:L130,AN7)","v":1},{"$f":"AO7/(AQ4-AO20)","v":4.1666666666666664E-2},{"$f":"IF(AP7=0,0,(AP7*((LOG(AP7))/LOG(2))))","v":-0.19104010419671485},null,{"$f":"N7","v":1111},{"$f":"COUNTIF(L131:L155,AS7)","v":0},{"$f":"AT7/(AV4-AT20)","v":0},{"$f":"IF(AU7=0,0,(AU7*((LOG(AU7))/LOG(2))))","v":0}]
[21,236,12,249,24,259,23,308,null,null,0,2122,null,1112,{"$f":"COUNTIF($L$7:$L$500,N8)","v":8},{"$f":"O8/$Q$4","v":5.3691275167785234E-2},{"$f":"IF(P8=0,0,(P8*((LOG(P8))/LOG(2))))","v":-0.22653253801139125},null,null,{"$f":"N8","v":1112},{"$f":"COUNTIF(L7:L31,T8)","v":0},{"$f":"U8/(W4-U20)","v":0},{"$f":"IF(V8=0,0,(V8*((LOG(V8))/LOG(2))))","v":0},null,{"$f":"N8","v":1112},{"$f":"COUNTIF(L32:L56,Y8)","v":1},{"$f":"Z8/(AB4-Z20)","v":0.04},{"$f":"IF(AA8=0,0,(AA8*((LOG(AA8))/LOG(2))))","v":-0.18575424759098899},null,{"$f":"N8","v":1112},{"$f":"COUNTIF(L57:L80,AD8)","v":2},{"$f":"AE8/(AG4-AE20)","v":8.6956521739130432E-2},{"$f":"IF(AF8=0,0,(AF8*((LOG(AF8))/LOG(2))))","v":-0.30639669183104457},null,{"$f":"N8","v":1112},{"$f":"COUNTIF(L81:L105,AI8)","v":4},{"$f":"AJ8/(AL4-AJ20)","v":0.16},{"$f":"IF(AK8=0,0,(AK8*((LOG(AK8))/LOG(2))))","v":-0.42301699036395596},null,{"$f":"N8","v":1112},{"$f":"COUNTIF(L106:L130,AN8)","v":0},{"$f":"AO8/(AQ4-AO20)","v":0},{"$f":"IF(AP8=0,0,(AP8*((LOG(AP8))/LOG(2))))","v":0},null,{"$f":"N8","v":1112},{"$f":"COUNTIF(L131:L155,AS8)","v":1},{"$f":"AT8/(AV4-AT20)","v":4.7619047619047616E-2},{"$f":"IF(AU8=0,0,(AU8*((LOG(AU8))/LOG(2))))","v":-0.20915797251327431}]
[12,428,23,447,24,466,14,477,null,null,0,1221,null,1121,{"$f":"COUNTIF($L$7:$L$500,N9)","v":9},{"$f":"O9/$Q$4","v":6.0402684563758392E-2},{"$f":"IF(P9=0,0,(P9*((LOG(P9))/LOG(2))))","v":-0.24458517900119894},null,null,{"$f":"N9","v":1121},{"$f":"COUNTIF(L7:L31,T9)","v":0},{"$f":"U9/(W4-U20)","v":0},{"$f":"IF(V9=0,0,(V9*((LOG(V9))/LOG(2))))","v":0},null,{"$f":"N9","v":1121},{"$f":"COUNTIF(L32:L56,Y9)","v":4},{"$f":"Z9/(AB4-Z20)","v":0.16},{"$f":"IF(AA9=0,0,(AA9*((LOG(AA9))/LOG(2))))","v":-0.42301699036395596},null,{"$f":"N9","v":1121},{"$f":"COUNTIF(L57:L80,AD9)","v":2},{"$f":"AE9/(AG4-AE20)","v":8.6956521739130432E-2},{"$f":"IF(AF9=0,0,(AF9*((LOG(AF9))/LOG(2))))","v":-0.30639669183104457},null,{"$f":"N9","v":1121},{"$f":"COUNTIF(L81:L105,AI9)","v":0},{"$f":"AJ9/(AL4-AJ20)","v":0},{"$f":"IF(AK9=0,0,(AK9*((LOG(AK9))/LOG(2))))","v":0},null,{"$f":"N9","v":1121},{"$f":"COUNTIF(L106:L130,AN9)","v":2},{"$f":"AO9/(AQ4-AO20)","v":8.3333333333333329E-2},{"$f":"IF(AP9=0,0,(AP9*((LOG(AP9))/LOG(2))))","v":-0.29874687506009634},null,{"$f":"N9","v":1121},{"$f":"COUNTIF(L131:L155,AS9)","v":1},{"$f":"AT9/(AV4-AT20)","v":4.7619047619047616E-2},{"$f":"IF(AU9=0,0,(AU9*((LOG(AU9))/LOG(2))))","v":-0.20915797251327431}]
[12,607,14,640,24,650,23,655,null,null,0,1122,null,1122,{"$f":"COUNTIF($L$7:$L$500,N10)","v":9},{"$f":"O10/$Q$4","v":6.0402684563758392E-2},{"$f":"IF(P10=0,0,(P10*((LOG(P10))/LOG(2))))","v":-0.24458517900119894},null,null,{"$f":"N10","v":1122},{"$f":"COUNTIF(L7:L31,T10)","v":3},{"$f":"U10/(W4-U20)","v":0.13636363636363635},{"$f":"IF(V10=0,0,(V10*((LOG(V10))/LOG(2))))","v":-0.39197306153401923},null,{"$f":"N10","v":1122},{"$f":"COUNTIF(L32:L56,Y10)","v":3},{"$f":"Z10/(AB4-Z20)","v":0.12},{"$f":"IF(AA10=0,0,(AA10*((LOG(AA10))/LOG(2))))","v":-0.36706724268642821},null,{"$f":"N10","v":1122},{"$f":"COUNTIF(L57:L80,AD10)","v":0},{"$f":"AE10/(AG4-AE20)","v":0},{"$f":"IF(AF10=0,0,(AF10*((LOG(AF10))/LOG(2))))","v":0},null,{"$f":"N10","v":1122},{"$f":"COUNTIF(L81:L105,AI10)","v":1},{"$f":"AJ10/(AL4-AJ20)","v":0.04},{"$f":"IF(AK10=0,0,(AK10*((LOG(AK10))/LOG(2))))","v":-0.18575424759098899},null,{"$f":"N10","v":1122},{"$f":"COUNTIF(L106:L130,AN10)","v":2},{"$f":"AO10/(AQ4-AO20)","v":8.3333333333333329E-2},{"$f":"IF(AP10=0,0,(AP10*((LOG(AP10))/LOG(2))))","v":-0.29874687506009634},null,{"$f":"N10","v":1122},{"$f":"COUNTIF(L131:L155,AS10)","v":0},{"$f":"AT10/(AV4-AT20)","v":0},{"$f":"IF(AU10=0,0,(AU10*((LOG(AU10))/LOG(2))))","v":0}]
[21,761,12,780,13,812,23,821,null,null,0,2112,null,1211,{"$f":"COUNTIF($L$7:$L$500,N11)","v":4},{"$f":"O11/$Q$4","v":2.6845637583892617E-2},{"$f":"IF(P11=0,0,(P11*((LOG(P11))/LOG(2))))","v":-0.14011190658958825},null,null,{"$f":"N11","v":1211},{"$f":"COUNTIF(L7:L31,T11)","v":0},{"$f":"U11/(W4-U20)","v":0},{"$f":"IF(V11=0,0,(V11*((LOG(V11))/LOG(2))))","v":0},null,{"$f":"N11","v":1211},{"$f":"COUNTIF(L32:L56,Y11)","v":0},{"$f":"Z11/(AB4-Z20)","v":0},{"$f":"IF(AA11=0,0,(AA11*((LOG(AA11))/LOG(2))))","v":0},null,{"$f":"N11","v":1211},{"$f":"COUNTIF(L57:L80,AD11)","v":2},{"$f":"AE11/(AG4-AE20)","v":8.6956521739130432E-2},{"$f":"IF(AF11=0,0,(AF11*((LOG(AF11))/LOG(2))))","v":-0.30639669183104457},null,{"$f":"N11","v":1211},{"$f":"COUNTIF(L81:L105,AI11)","v":0},{"$f":"AJ11/(AL4-AJ20)","v":0},{"$f":"IF(AK11=0,0,(AK11*((LOG(AK11))/LOG(2))))","v":0},null,{"$f":"N11","v":1211},{"$f":"COUNTIF(L106:L130,AN11)","v":0},{"$f":"AO11/(AQ4-AO20)","v":0},{"$f":"IF(AP11=0,0,(AP11*((LOG(AP11))/LOG(2))))","v":0},null,{"$f":"N11","v":1211},{"$f":"COUNTIF(L131:L155,AS11)","v":2},{"$f":"AT11/(AV4-AT20)","v":9.5238095238095233E-2},{"$f":"IF(AU11=0,0,(AU11*((LOG(AU11))/LOG(2))))","v":-0.32307784978845333}]
[21,945,21,976,22,981,23,1005,null,null,0,2222,null,1212,{"$f":"COUNTIF($L$7:$L$500,N12)","v":23},{"$f":"O12/$Q$4","v":0.15436241610738255},{"$f":"IF(P12=0,0,(P12*((LOG(P12))/LOG(2))))","v":-0.41610034215649944},null,null,{"$f":"N12","v":1212},{"$f":"COUNTIF(L7:L31,T12)","v":2},{"$f":"U12/(W4-U20)","v":9.0909090909090912E-2},{"$f":"IF(V12=0,0,(V12*((LOG(V12))/LOG(2))))","v":-0.31449378351248153},null,{"$f":"N12","v":1212},{"$f":"COUNTIF(L32:L56,Y12)","v":1},{"$f":"Z12/(AB4-Z20)","v":0.04},{"$f":"IF(AA12=0,0,(AA12*((LOG(AA12))/LOG(2))))","v":-0.18575424759098899},null,{"$f":"N12","v":1212},{"$f":"COUNTIF(L57:L80,AD12)","v":2},{"$f":"AE12/(AG4-AE20)","v":8.6956521739130432E-2},{"$f":"IF(AF12=0,0,(AF12*((LOG(AF12))/LOG(2))))","v":-0.30639669183104457},null,{"$f":"N12","v":1212},{"$f":"COUNTIF(L81:L105,AI12)","v":5},{"$f":"AJ12/(AL4-AJ20)","v":0.2},{"$f":"IF(AK12=0,0,(AK12*((LOG(AK12))/LOG(2))))","v":-0.46438561897747244},null,{"$f":"N12","v":1212},{"$f":"COUNTIF(L106:L130,AN12)","v":5},{"$f":"AO12/(AQ4-AO20)","v":0.20833333333333334},{"$f":"IF(AP12=0,0,(AP12*((LOG(AP12))/LOG(2))))","v":-0.47146550121537367},null,{"$f":"N12","v":1212},{"$f":"COUNTIF(L131:L155,AS12)","v":8},{"$f":"AT12/(AV4-AT20)","v":0.38095238095238093},{"$f":"IF(AU12=0,0,(AU12*((LOG(AU12))/LOG(2))))","v":-0.53040663724905157}]
[21,1123,21,1129,22,1161,14,1174,null,null,0,2221,null,1221,{"$f":"COUNTIF($L$7:$L$500,N13)","v":3},{"$f":"O13/$Q$4","v":2.0134228187919462E-2},{"$f":"IF(P13=0,0,(P13*((LOG(P13))/LOG(2))))","v":-0.11344038965921487},null,null,{"$f":"N13","v":1221},{"$f":"COUNTIF(L7:L31,T13)","v":2},{"$f":"U13/(W4-U20)","v":9.0909090909090912E-2},{"$f":"IF(V13=0,0,(V13*((LOG(V13))/LOG(2))))","v":-0.31449378351248153},null,{"$f":"N13","v":1221},{"$f":"COUNTIF(L32:L56,Y13)","v":0},{"$f":"Z13/(AB4-Z20)","v":0},{"$f":"IF(AA13=0,0,(AA13*((LOG(AA13))/LOG(2))))","v":0},null,{"$f":"N13","v":1221},{"$f":"COUNTIF(L57:L80,AD13)","v":0},{"$f":"AE13/(AG4-AE20)","v":0},{"$f":"IF(AF13=0,0,(AF13*((LOG(AF13))/LOG(2))))","v":0},null,{"$f":"N13","v":1221},{"$f":"COUNTIF(L81:L105,AI13)","v":1},{"$f":"AJ13/(AL4-AJ20)","v":0.04},{"$f":"IF(AK13=0,0,(AK13*((LOG(AK13))/LOG(2))))","v":-0.18575424759098899},null,{"$f":"N13","v":1221},{"$f":"COUNTIF(L106:L130,AN13)","v":0},{"$f":"AO13/(AQ4-AO20)","v":0},{"$f":"IF(AP13=0,0,(AP13*((LOG(AP13))/LOG(2))))","v":0},null,{"$f":"N13","v":1221},{"$f":"COUNTIF(L131:L155,AS13)","v":0},{"$f":"AT13/(AV4-AT20)","v":0},{"$f":"IF(AU13=0,0,(AU13*((LOG(AU13))/LOG(2))))","v":0}]
[21,1287,21,1296,11,1311,21,1321,null,null,0,2212,null,1222,{"$f":"COUNTIF($L$7:$L$500,N14)","v":3},{"$f":"O14/$Q$4","v":2.0134228187919462E-2},{"$f":"IF(P14=0,0,(P14*((LOG(P14))/LOG(2))))","v":-0.11344038965921487},null,null,{"$f":"N14","v":1222},{"$f":"COUNTIF(L7:L31,T14)","v":1},{"$f":"U14/(W4-U20)","v":4.5454545454545456E-2},{"$f":"IF(V14=0,0,(V14*((LOG(V14))/LOG(2))))","v":-0.20270143721078623},null,{"$f":"N14","v":1222},{"$f":"COUNTIF(L32:L56,Y14)","v":0},{"$f":"Z14/(AB4-Z20)","v":0},{"$f":"IF(AA14=0,0,(AA14*((LOG(AA14))/LOG(2))))","v":0},null,{"$f":"N14","v":1222},{"$f":"COUNTIF(L57:L80,AD14)","v":0},{"$f":"AE14/(AG4-AE20)","v":0},{"$f":"IF(AF14=0,0,(AF14*((LOG(AF14))/LOG(2))))","v":0},null,{"$f":"N14","v":1222},{"$f":"COUNTIF(L81:L105,AI14)","v":2},{"$f":"AJ14/(AL4-AJ20)","v":0.08},{"$f":"IF(AK14=0,0,(AK14*((LOG(AK14))/LOG(2))))","v":-0.29150849518197797},null,{"$f":"N14","v":1222},{"$f":"COUNTIF(L106:L130,AN14)","v":0},{"$f":"AO14/(AQ4-AO20)","v":0},{"$f":"IF(AP14=0,0,(AP14*((LOG(AP14))/LOG(2))))","v":0},null,{"$f":"N14","v":1222},{"$f":"COUNTIF(L131:L155,AS14)","v":0},{"$f":"AT14/(AV4-AT20)","v":0},{"$f":"IF(AU14=0,0,(AU14*((LOG(AU14))/LOG(2))))","v":0}]
[12,1482,14,1494,24,1505,23,1529,null,null,0,1122,null,2111,{"$f":"COUNTIF($L$7:$L$500,N15)","v":12},{"$f":"O15/$Q$4","v":8.0536912751677847E-2},{"$f":"IF(P15=0,0,(P15*((LOG(P15))/LOG(2))))","v":-0.29268773313350377},null,null,{"$f":"N15","v":2111},{"$f":"COUNTIF(L7:L31,T15)","v":1},{"$f":"U15/(W4-U20)","v":4.5454545454545456E-2},{"$f":"IF(V15=0,0,(V15*((LOG(V15))/LOG(2))))","v":-0.20270143721078623},null,{"$f":"N15","v":2111},{"$f":"COUNTIF(L32:L56,Y15)","v":2},{"$f":"Z15/(AB4-Z20)","v":0.08},{"$f":"IF(AA15=0,0,(AA15*((LOG(AA15))/LOG(2))))","v":-0.29150849518197797},null,{"$f":"N15","v":2111},{"$f":"COUNTIF(L57:L80,AD15)","v":1},{"$f":"AE15/(AG4-AE20)","v":4.3478260869565216E-2},{"$f":"IF(AF15=0,0,(AF15*((LOG(AF15))/LOG(2))))","v":-0.19667660678508753},null,{"$f":"N15","v":2111},{"$f":"COUNTIF(L81:L105,AI15)","v":4},{"$f":"AJ15/(AL4-AJ20)","v":0.16},{"$f":"IF(AK15=0,0,(AK15*((LOG(AK15))/LOG(2))))","v":-0.42301699036395596},null,{"$f":"N15","v":2111},{"$f":"COUNTIF(L106:L130,AN15)","v":2},{"$f":"AO15/(AQ4-AO20)","v":8.3333333333333329E-2},{"$f":"IF(AP15=0,0,(AP15*((LOG(AP15))/LOG(2))))","v":-0.29874687506009634},null,{"$f":"N15","v":2111},{"$f":"COUNTIF(L131:L155,AS15)","v":2},{"$f":"AT15/(AV4-AT20)","v":9.5238095238095233E-2},{"$f":"IF(AU15=0,0,(AU15*((LOG(AU15))/LOG(2))))","v":-0.32307784978845333}]
[21,1636,12,1652,24,1665,14,1689,null,null,0,2121,null,2112,{"$f":"COUNTIF($L$7:$L$500,N16)","v":20},{"$f":"O16/$Q$4","v":0.13422818791946309},{"$f":"IF(P16=0,0,(P16*((LOG(P16))/LOG(2))))","v":-0.38889133229191941},null,null,{"$f":"N16","v":2112},{"$f":"COUNTIF(L7:L31,T16)","v":2},{"$f":"U16/(W4-U20)","v":9.0909090909090912E-2},{"$f":"IF(V16=0,0,(V16*((LOG(V16))/LOG(2))))","v":-0.31449378351248153},null,{"$f":"N16","v":2112},{"$f":"COUNTIF(L32:L56,Y16)","v":2},{"$f":"Z16/(AB4-Z20)","v":0.08},{"$f":"IF(AA16=0,0,(AA16*((LOG(AA16))/LOG(2))))","v":-0.29150849518197797},null,{"$f":"N16","v":2112},{"$f":"COUNTIF(L57:L80,AD16)","v":6},{"$f":"AE16/(AG4-AE20)","v":0.2608695652173913},{"$f":"IF(AF16=0,0,(AF16*((LOG(AF16))/LOG(2))))","v":-0.50572159704413644},null,{"$f":"N16","v":2112},{"$f":"COUNTIF(L81:L105,AI16)","v":2},{"$f":"AJ16/(AL4-AJ20)","v":0.08},{"$f":"IF(AK16=0,0,(AK16*((LOG(AK16))/LOG(2))))","v":-0.29150849518197797},null,{"$f":"N16","v":2112},{"$f":"COUNTIF(L106:L130,AN16)","v":6},{"$f":"AO16/(AQ4-AO20)","v":0.25},{"$f":"IF(AP16=0,0,(AP16*((LOG(AP16))/LOG(2))))","v":-0.5},null,{"$f":"N16","v":2112},{"$f":"COUNTIF(L131:L155,AS16)","v":2},{"$f":"AT16/(AV4-AT20)","v":9.5238095238095233E-2},{"$f":"IF(AU16=0,0,(AU16*((LOG(AU16))/LOG(2))))","v":-0.32307784978845333}]
[21,1796,12,1813,24,1829,14,1849,null,null,0,2121,null,2121,{"$f":"COUNTIF($L$7:$L$500,N17)","v":18},{"$f":"O17/$Q$4","v":0.12080536912751678},{"$f":"IF(P17=0,0,(P17*((LOG(P17))/LOG(2))))","v":-0.36836498887488112},null,null,{"$f":"N17","v":2121},{"$f":"COUNTIF(L7:L31,T17)","v":3},{"$f":"U17/(W4-U20)","v":0.13636363636363635},{"$f":"IF(V17=0,0,(V17*((LOG(V17))/LOG(2))))","v":-0.39197306153401923},null,{"$f":"N17","v":2121},{"$f":"COUNTIF(L32:L56,Y17)","v":4},{"$f":"Z17/(AB4-Z20)","v":0.16},{"$f":"IF(AA17=0,0,(AA17*((LOG(AA17))/LOG(2))))","v":-0.42301699036395596},null,{"$f":"N17","v":2121},{"$f":"COUNTIF(L57:L80,AD17)","v":6},{"$f":"AE17/(AG4-AE20)","v":0.2608695652173913},{"$f":"IF(AF17=0,0,(AF17*((LOG(AF17))/LOG(2))))","v":-0.50572159704413644},null,{"$f":"N17","v":2121},{"$f":"COUNTIF(L81:L105,AI17)","v":2},{"$f":"AJ17/(AL4-AJ20)","v":0.08},{"$f":"IF(AK17=0,0,(AK17*((LOG(AK17))/LOG(2))))","v":-0.29150849518197797},null,{"$f":"N17","v":2121},{"$f":"COUNTIF(L106:L130,AN17)","v":1},{"$f":"AO17/(AQ4-AO20)","v":4.1666666666666664E-2},{"$f":"IF(AP17=0,0,(AP17*((LOG(AP17))/LOG(2))))","v":-0.19104010419671485},null,{"$f":"N17","v":2121},{"$f":"COUNTIF(L131:L155,AS17)","v":2},{"$f":"AT17/(AV4-AT20)","v":9.5238095238095233E-2},{"$f":"IF(AU17=0,0,(AU17*((LOG(AU17))/LOG(2))))","v":-0.32307784978845333}]
[21,1952,21,1961,22,1970,23,2002,null,null,0,2222,null,2122,{"$f":"COUNTIF($L$7:$L$500,N18)","v":11},{"$f":"O18/$Q$4","v":7.3825503355704702E-2},{"$f":"IF(P18=0,0,(P18*((LOG(P18))/LOG(2))))","v":-0.27756446926223827},null,null,{"$f":"N18","v":2122},{"$f":"COUNTIF(L7:L31,T18)","v":2},{"$f":"U18/(W4-U20)","v":9.0909090909090912E-2},{"$f":"IF(V18=0,0,(V18*((LOG(V18))/LOG(2))))","v":-0.31449378351248153},null,{"$f":"N18","v":2122},{"$f":"COUNTIF(L32:L56,Y18)","v":3},{"$f":"Z18/(AB4-Z20)","v":0.12},{"$f":"IF(AA18=0,0,(AA18*((LOG(AA18))/LOG(2))))","v":-0.36706724268642821},null,{"$f":"N18","v":2122},{"$f":"COUNTIF(L57:L80,AD18)","v":1},{"$f":"AE18/(AG4-AE20)","v":4.3478260869565216E-2},{"$f":"IF(AF18=0,0,(AF18*((LOG(AF18))/LOG(2))))","v":-0.19667660678508753},null,{"$f":"N18","v":2122},{"$f":"COUNTIF(L81:L105,AI18)","v":3},{"$f":"AJ18/(AL4-AJ20)","v":0.12},{"$f":"IF(AK18=0,0,(AK18*((LOG(AK18))/LOG(2))))","v":-0.36706724268642821},null,{"$f":"N18","v":2122},{"$f":"COUNTIF(L106:L130,AN18)","v":1},{"$f":"AO18/(AQ4-AO20)","v":4.1666666666666664E-2},{"$f":"IF(AP18=0,0,(AP18*((LOG(AP18))/LOG(2))))","v":-0.19104010419671485},null,{"$f":"N18","v":2122},{"$f":"COUNTIF(L131:L155,AS18)","v":1},{"$f":"AT18/(AV4-AT20)","v":4.7619047619047616E-2},{"$f":"IF(AU18=0,0,(AU18*((LOG(AU18))/LOG(2))))","v":-0.20915797251327431}]
[21,2110,21,2125,11,2140,21,2153,null,null,0,2212,null,2211,{"$f":"COUNTIF($L$7:$L$500,N19)","v":5},{"$f":"O19/$Q$4","v":3.3557046979865772E-2},{"$f":"IF(P19=0,0,(P19*((LOG(P19))/LOG(2))))","v":-0.16433692703271138},null,null,{"$f":"N19","v":2211},{"$f":"COUNTIF(L7:L31,T19)","v":0},{"$f":"U19/(W4-U20)","v":0},{"$f":"IF(V19=0,0,(V19*((LOG(V19))/LOG(2))))","v":0},null,{"$f":"N19","v":2211},{"$f":"COUNTIF(L32:L56,Y19)","v":1},{"$f":"Z19/(AB4-Z20)","v":0.04},{"$f":"IF(AA19=0,0,(AA19*((LOG(AA19))/LOG(2))))","v":-0.18575424759098899},null,{"$f":"N19","v":2211},{"$f":"COUNTIF(L57:L80,AD19)","v":0},{"$f":"AE19/(AG4-AE20)","v":0},{"$f":"IF(AF19=0,0,(AF19*((LOG(AF19))/LOG(2))))","v":0},null,{"$f":"N19","v":2211},{"$f":"COUNTIF(L81:L105,AI19)","v":0},{"$f":"AJ19/(AL4-AJ20)","v":0},{"$f":"IF(AK19=0,0,(AK19*((LOG(AK19))/LOG(2))))","v":0},null,{"$f":"N19","v":2211},{"$f":"COUNTIF(L106:L130,AN19)","v":2},{"$f":"AO19/(AQ4-AO20)","v":8.3333333333333329E-2},{"$f":"IF(AP19=0,0,(AP19*((LOG(AP19))/LOG(2))))","v":-0.29874687506009634},null,{"$f":"N19","v":2211},{"$f":"COUNTIF(L131:L155,AS19)","v":2},{"$f":"AT19/(AV4-AT20)","v":9.5238095238095233E-2},{"$f":"IF(AU19=0,0,(AU19*((LOG(AU19))/LOG(2))))","v":-0.32307784978845333}]
[21,2262,12,2280,24,2293,23,2309,null,null,0,2122,null,2212,{"$f":"COUNTIF($L$7:$L$500,N20)","v":9},{"$f":"O20/$Q$4","v":6.0402684563758392E-2},{"$f":"IF(P20=0,0,(P20*((LOG(P20))/LOG(2))))","v":-0.24458517900119894},null,null,{"$f":"N20","v":2212},{"$f":"COUNTIF(L7:L31,T20)","v":3},null,null,null,{"$f":"N20","v":2212},{"$f":"COUNTIF(L32:L56,Y20)","v":0},null,null,null,{"$f":"N20","v":2212},{"$f":"COUNTIF(L57:L80,AD20)","v":1},null,null,null,{"$f":"N20","v":2212},{"$f":"COUNTIF(L81:L105,AI20)","v":0},null,null,null,{"$f":"N20","v":2212},{"$f":"COUNTIF(L106:L130,AN20)","v":1},null,null,null,{"$f":"N20","v":2212},{"$f":"COUNTIF(L131:L155,AS20)","v":4}]
[12,2444,23,2455,24,2475,14,2515,null,null,0,1221,null,2221,{"$f":"COUNTIF($L$7:$L$500,N21)","v":6},{"$f":"O21/$Q$4","v":4.0268456375838924E-2},{"$f":"IF(P21=0,0,(P21*((LOG(P21))/LOG(2))))","v":-0.18661232294259081},null,null,{"$f":"N21","v":2221},{"$f":"COUNTIF(L7:L31,T21)","v":3},{"$f":"U21/(W4-U20)","v":0.13636363636363635},{"$f":"IF(V21=0,0,(V21*((LOG(V21))/LOG(2))))","v":-0.39197306153401923},null,{"$f":"N21","v":2221},{"$f":"COUNTIF(L32:L56,Y21)","v":0},{"$f":"Z21/(AB4-Z20)","v":0},{"$f":"IF(AA21=0,0,(AA21*((LOG(AA21))/LOG(2))))","v":0},null,{"$f":"N21","v":2221},{"$f":"COUNTIF(L57:L80,AD21)","v":0},{"$f":"AE21/(AG4-AE20)","v":0},{"$f":"IF(AF21=0,0,(AF21*((LOG(AF21))/LOG(2))))","v":0},null,{"$f":"N21","v":2221},{"$f":"COUNTIF(L81:L105,AI21)","v":1},{"$f":"AJ21/(AL4-AJ20)","v":0.04},{"$f":"IF(AK21=0,0,(AK21*((LOG(AK21))/LOG(2))))","v":-0.18575424759098899},null,{"$f":"N21","v":2221},{"$f":"COUNTIF(L106:L130,AN21)","v":2},{"$f":"AO21/(AQ4-AO20)","v":8.3333333333333329E-2},{"$f":"IF(AP21=0,0,(AP21*((LOG(AP21))/LOG(2))))","v":-0.29874687506009634},null,{"$f":"N21","v":2221},{"$f":"COUNTIF(L131:L155,AS21)","v":0},{"$f":"AT21/(AV4-AT20)","v":0},{"$f":"IF(AU21=0,0,(AU21*((LOG(AU21))/LOG(2))))","v":0}]
[12,2633,23,2645,24,2673,23,2681,null,null,0,1222,null,2222,{"$f":"COUNTIF($L$7:$L$500,N22)","v":6},{"$f":"O22/$Q$4","v":4.0268456375838924E-2},{"$f":"IF(P22=0,0,(P22*((LOG(P22))/LOG(2))))","v":-0.18661232294259081},null,null,{"$f":"N22","v":2222},{"$f":"COUNTIF(L7:L31,T22)","v":3},{"$f":"U22/(W4-U20)","v":0.13636363636363635},{"$f":"IF(V22=0,0,(V22*((LOG(V22))/LOG(2))))","v":-0.39197306153401923},null,{"$f":"N22","v":2222},{"$f":"COUNTIF(L32:L56,Y22)","v":2},{"$f":"Z22/(AB4-Z20)","v":0.08},{"$f":"IF(AA22=0,0,(AA22*((LOG(AA22))/LOG(2))))","v":-0.29150849518197797},null,{"$f":"N22","v":2222},{"$f":"COUNTIF(L57:L80,AD22)","v":1},{"$f":"AE22/(AG4-AE20)","v":4.3478260869565216E-2},{"$f":"IF(AF22=0,0,(AF22*((LOG(AF22))/LOG(2))))","v":-0.19667660678508753},null,{"$f":"N22","v":2222},{"$f":"COUNTIF(L81:L105,AI22)","v":0},{"$f":"AJ22/(AL4-AJ20)","v":0},{"$f":"IF(AK22=0,0,(AK22*((LOG(AK22))/LOG(2))))","v":0},null,{"$f":"N22","v":2222},{"$f":"COUNTIF(L106:L130,AN22)","v":0},{"$f":"AO22/(AQ4-AO20)","v":0},{"$f":"IF(AP22=0,0,(AP22*((LOG(AP22))/LOG(2))))","v":0},null,{"$f":"N22","v":2222},{"$f":"COUNTIF(L131:L155,AS22)","v":0},{"$f":"AT22/(AV4-AT20)","v":0},{"$f":"IF(AU22=0,0,(AU22*((LOG(AU22))/LOG(2))))","v":0}]
[21,2790,21,2806,11,2826,21,2834,null,null,0,2212,null,null,null,{"$f":"SUM(P7:P22)","v":1},{"$f":"-SUM(Q7:Q22)","v":3.7218915892191564},null,null,null,null,{"$f":"SUM(V7:V22)","v":1},{"$f":"-SUM(W7:W22)","v":3.2312702546075758},null,null,null,{"$f":"SUM(AA7:AA22)","v":1},{"$f":"-SUM(AB7:AB22)","v":3.3034651896016474},null,null,null,{"$f":"SUM(AF7:AF22)","v":1},{"$f":"-SUM(AG7:AG22)","v":2.8270597817677139},null,null,null,{"$f":"SUM(AK7:AK22)","v":1},{"$f":"-SUM(AL7:AL22)","v":3.1092750707107135},null,null,null,{"$f":"SUM(AP7:AP22)","v":1},{"$f":"-SUM(AQ7:AQ22)","v":3.0383201891059999},null,null,null,{"$f":"SUM(AU7:AU22)","v":0.99999999999999989},{"$f":"-SUM(AV7:AV22)","v":2.7732698037311416}]
[21,2938,12,2954,13,2982,23,2998,null,null,0,2112,null,null,null,"U=",{"$f":"Q23/(LOG(Q4)/LOG(2))","v":0.51555682329201069},null,null,null,null,"U1=",{"$f":"W23/(LOG(W4)/LOG(2))","v":0.69581617572966348},null,null,null,"U2=",{"$f":"AB23/(LOG(AB4)/LOG(2))","v":0.71136250878645302},null,null,null,"U3=",{"$f":"AG23/(LOG(AG4)/LOG(2))","v":0.61659387210321859},null,null,null,"U4=",{"$f":"AL23/(LOG(AL4)/LOG(2))","v":0.66954594277854784},null,null,null,"U5=",{"$f":"AQ23/(LOG(AQ4)/LOG(2))","v":0.65426664068453633},null,null,null,"U6=",{"$f":"AV23/(LOG(AV4)/LOG(2))","v":0.59719114683990115}]
[21,3120,12,3133,24,3144,14,3159,null,null,0,2121]
[12,3290,14,3321,24,3334,23,3346,null,null,0,1122]
[21,3452,12,3468,13,3481,14,3511,null,null,0,2111,null,"Total Target Seq"]
[12,3613,23,3641,13,3659,23,3668,null,null,0,1212,null,{"$f":"COUNTIF(L7:L155,G3)","v":9},null,25,25,24,25,25,25]
[21,3773,21,3793,22,3805,23,3811,null,null,0,2222,null,null,null,"% of reinforcement given in 6 equal intervals based on number of trials "]
[21,3927,21,3938,22,3948,14,3959,null,null,0,2221,null,null,null,"%_1","%_2","%_3","%_4","%_5","%_6"]
[12,4076,23,4088,13,4108,23,4119,null,null,0,1212,null,null,"target sequence",{"$f":"$G$3","v":2212},{"$f":"$G$3","v":2212},{"$f":"$G$3","v":2212},{"$f":"$G$3","v":2212},{"$f":"$G$3","v":2212},{"$f":"$G$3","v":2212}]
[12,4231,14,4241,24,4258,23,4266,null,null,0,1122,null,null,"total reinforcement",{"$f":"U20","v":3},{"$f":"Z20","v":0},{"$f":"AE20","v":1},{"$f":"AJ20","v":0},{"$f":"AO20","v":1},{"$f":"AT20","v":4}]
[21,4376,12,4392,13,4412,14,4420,null,null,0,2111,null,null,"% target"]
[21,4522,12,4540,24,4554,14,4568,null,null,0,2121,null,null,"CCRF"]
[12,4692,14,4725,13,4730,14,4768,null,null,0,1111,null,null,"% CCRf"]
[12,4895,14,4901,24,4912,14,4938,null,null,0,1121,null,null,"average response rate",{"$f":"H31/P28","v":164.76},{"$f":"(H56-H31)/Q28","v":161.80000000000001},{"$f":"(H80-H56)/R28","v":164.33333333333334},{"$f":"(H105-H80)/S28","v":152.63999999999999},{"$f":"(H130-H105)/T28","v":157.88},{"$f":"(H155-H130)/U28","v":163.16}]
[12,5066,14,5070,24,5082,23,5093,null,null,0,1122]
[21,5199,12,5234,24,5245,14,5280,null,null,0,2121]
[21,5394,12,5405,13,5410,23,5429,null,null,0,2112]
[21,5535,12,5555,24,5563,23,5580,null,null,0,2122]
[12,5708,14,5726,13,5744,14,5754,null,null,0,1111]
[21,5882,21,5891,11,5905,12,5910,null,null,0,2211]
[21,6015,12,6026,13,6031,23,6040,null,null,0,2112]
[21,6149,12,6177,13,6181,14,6186,null,null,0,2111]
[12,6289,14,6307,13,6315,23,6329,null,null,0,1112]
[21,6440,12,6455,24,6469,14,6483,null,null,0,2121]
[12,6597,14,6620,24,6654,14,6670,null,null,0,1121]
[21,6810,21,6834,22,6843,23,6853,null,null,0,2222]
[21,6959,21,6975,22,7002,23,7014,null,null,0,2222]
[21,7122,12,7145,24,7153,23,7162,null,null,0,2122]
[12,7285,14,7302,24,7313,23,7318,null,null,0,1122]
[21,7427,12,7443,24,7467,14,7484,null,null,0,2121]
[21,7597,12,7622,24,7634,23,7649,null,null,0,2122]
[12,7788,14,7793,24,7811,14,7828,null,null,0,1121]
[12,7954,14,7959,24,7969,14,7988,null,null,0,1121]
[12,8122,23,8134,13,8151,23,8164,null,null,0,1212]
[21,8282,12,8299,13,8306,23,8317,null,null,0,2112]
[21,8447,12,8462,24,8473,23,8482,null,null,0,2122]
[12,8611,23,8630,13,8646,14,8651,null,null,0,1211]
[21,8756,12,8773,13,8780,23,8790,null,null,0,2112]
[12,8914,23,8925,13,8967,23,8983,null,null,0,1212]
[21,9117,12,9127,24,9138,14,9150,null,null,0,2121]
[21,9254,12,9266,24,9279,14,9294,null,null,0,2121]
[21,9399,12,9409,13,9438,23,9453,null,null,0,2112]
[21,9620,12,9635,13,9645,14,9649,null,null,0,2111]
[12,9776,14,9781,24,9790,14,9805,null,null,0,1121]
[12,9984,23,9996,13,10012,23,10021,null,null,0,1212]
[21,10126,12,10141,24,10150,14,10174,null,null,0,2121]
[21,10296,12,10306,24,10320,14,10335,null,null,0,2121]
[21,10436,12,10451,24,10467,14,10481,null,null,0,2121]
[12,10592,14,10596,13,10614,23,10640,null,null,0,1112]
[21,10747,12,10765,13,10769,23,10780,null,null,0,2112]
[12,10897,23,10915,13,10928,14,10935,null,null,0,1211]
[12,11081,14,11086,13,11114,23,11126,null,null,0,1112]
[21,11235,12,11250,13,11255,23,11266,null,null,0,2112]
[21,11369,12,11384,24,11399,14,11414,null,null,0,2121]
[21,11556,21,11563,22,11583,23,11594,null,null,0,2222]
[12,11708,14,11713,24,11732,14,11747,null,null,0,1121]
[21,11879,21,11884,11,11899,21,11958,null,null,0,2212]
[21,12058,12,12070,13,12095,23,12108,null,null,0,2112]
[21,12238,12,12251,24,12261,23,12274,null,null,0,2122]
[21,12381,12,12400,13,12407,14,12434,null,null,0,2111]
[21,12535,12,12548,13,12555,14,12560,null,null,0,2111]
[12,12660,14,12666,13,12670,23,12682,null,null,0,1112]
[21,12806,12,12818,24,12837,14,12853,null,null,0,2121]
[21,12955,12,12971,13,12975,23,12987,null,null,0,2112]
[21,13096,12,13114,24,13125,23,13142,null,null,0,2122]
[21,13270,12,13286,13,13290,23,13304,null,null,0,2112]
[21,13409,12,13420,24,13435,23,13444,null,null,0,2122]
[21,13556,21,13577,22,13583,14,13598,null,null,0,2221]
[12,13712,14,13717,13,13730,23,13741,null,null,0,1112]
[12,13858,23,13869,24,13877,23,13893,null,null,0,1222]
[12,14008,14,14013,24,14023,23,14033,null,null,0,1122]
[12,14152,23,14173,13,14185,23,14196,null,null,0,1212]
[12,14352,23,14365,13,14382,23,14393,null,null,0,1212]
[12,14511,23,14522,24,14529,23,14537,null,null,0,1222]
[12,14649,23,14661,13,14673,23,14689,null,null,0,1212]
[21,14809,12,14822,24,14833,14,14846,null,null,0,2121]
[21,14947,12,14963,13,14967,14,14976,null,null,0,2111]
[12,15101,14,15105,13,15109,23,15122,null,null,0,1112]
[12,15240,23,15252,13,15267,23,15278,null,null,0,1212]
[12,15407,23,15418,13,15435,23,15446,null,null,0,1212]
[21,15554,12,15568,13,15589,14,15595,null,null,0,2111]
[12,15753,14,15760,13,15768,23,15780,null,null,0,1112]
[12,15894,23,15906,24,15911,14,15924,null,null,0,1221]
[21,16028,12,16043,13,16071,23,16099,null,null,0,2112]
[12,16220,23,16231,13,16245,23,16260,null,null,0,1212]
[21,16357,21,16373,22,16397,14,16416,null,null,0,2221]
[21,16526,21,16535,11,16544,21,16555,null,null,0,2212]
[12,16658,14,16667,13,16672,14,16704,null,null,0,1111]
[21,16814,12,16826,13,16837,23,16849,null,null,0,2112]
[21,16955,12,16967,24,16978,14,16992,null,null,0,2121]
[12,17106,14,17118,24,17132,14,17148,null,null,0,1121]
[21,17256,12,17269,13,17275,23,17288,null,null,0,2112]
[12,17391,23,17419,13,17430,23,17439,null,null,0,1212]
[21,17546,12,17562,24,17571,23,17590,null,null,0,2122]
[12,17703,14,17711,24,17722,14,17736,null,null,0,1121]
[12,17857,14,17877,24,17888,23,17900,null,null,0,1122]
[12,18019,23,18032,13,18043,23,18054,null,null,0,1212]
[21,18158,12,18169,13,18189,14,18194,null,null,0,2111]
[21,18347,12,18362,13,18387,14,18411,null,null,0,2111]
[12,18536,14,18574,24,18584,23,18592,null,null,0,1122]
[21,18708,12,18723,13,18746,23,18773,null,null,0,2112]
[21,18875,12,18887,13,18895,23,18908,null,null,0,2112]
[21,19009,12,19023,13,19045,23,19059,null,null,0,2112]
[21,19164,21,19177,11,19187,12,19192,null,null,0,2211]
[21,19301,21,19341,22,19357,14,19373,null,null,0,2221]
[21,19480,21,19495,11,19511,12,19539,null,null,0,2211]
[12,19663,23,19674,13,19689,23,19700,null,null,0,1212]
[12,19823,23,19839,13,19858,23,19871,null,null,0,1212]
[21,19985,12,20000,24,20015,23,20034,null,null,0,2122]
[12,20161,23,20173,13,20185,14,20194,null,null,0,1211]
[21,20303,12,20319,24,20330,14,20344,null,null,0,2121]
[21,20474,12,20487,24,20500,14,20532,null,null,0,2121]
[21,20634,21,20639,11,20651,21,20662,null,null,0,2212]
[12,20766,23,20779,13,20796,23,20810,null,null,0,1212]
[21,20914,21,20929,11,20941,12,20949,null,null,0,2211]
[21,21051,21,21069,11,21083,12,21113,null,null,0,2211]
[12,21234,23,21245,13,21270,23,21280,null,null,0,1212]
[12,21398,14,21429,24,21442,14,21458,null,null,0,1121]
[12,21595,23,21612,13,21628,23,21641,null,null,0,1212]
[21,21743,21,21760,11,21779,21,21793,null,null,0,2212]
[12,21883,23,21900,13,21910,23,21923,null,null,0,1212]
[12,22039,23,22058,13,22074,23,22087,null,null,0,1212]
[12,22210,23,22228,13,22241,14,22269,null,null,0,1211]
[21,22371,12,22385,13,22452,23,22464,null,null,0,2112]
[21,22570,12,22585,13,22604,14,22635,null,null,0,2111]
[21,22737,21,22764,11,22777,21,22786,null,null,0,2212]
[12,22875,23,22889,13,22901,23,22916,null,null,0,1212]
[12,23027,23,23041,13,23064,23,23076,null,null,0,1212]
[12,23198,14,23231,13,23257,23,23269,null,null,0,1112]
[21,23374,12,23391,13,23404,14,23435,null,null,0,2111]
[12,23571,23,23585,13,23610,23,23619,null,null,0,1212]
[21,23723,12,23747,13,23780,23,23789,null,null,0,2112]
[21,23893,21,23916,11,23942,21,23950,null,null,1,2212]

{"sheet":"!N122820.092","index":25,"n_rows":162,"n_cols":48,"rows_kept":162,"cut":false,"hidden":false,"merged":[[4,39,4,42],[5,39,5,40],[4,44,4,47],[5,44,5,45],[4,24,4,27],[5,24,5,25],[4,29,4,32],[5,29,5,30],[4,34,4,37],[5,34,5,35],[1,1,1,2],[5,13,5,14],[26,13,26,14],[27,13,27,14],[4,19,4,22],[5,19,5,20]]}
["Report for:!N122820.092"]
["Date:","<date>"]
["Hen:","<hen>",null,null,null,"Correct Sequence",{"$f":"Start!J2","v":2212},null,null,null,null,null,null,null,null,"Total Sequences in Data",{"$f":"4994-COUNTBLANK(L7:L5000)","v":156},null,null,null,null,"Total Sequences in Block Data",{"$f":"COUNTA(L7:L32)","v":26},null,null,null,"Total Sequences in Block Data",{"$f":"COUNTA(L33:L58)","v":26},null,null,null,"Total Sequences in Block Data",{"$f":"COUNTA(L59:L84)","v":26},null,null,null,"Total Sequences in Block Data",{"$f":"COUNTA(L85:L110)","v":26},null,null,null,"Total Sequences in Block Data",{"$f":"COUNTA(L111:L136)","v":26},null,null,null,"Total Sequences in Block Data",{"$f":"COUNTA(L137:L162)","v":26}]
[null,null,null,null,null,null,null,null,null,null,null,null,null,null,null,"Total Sequences in Summary",{"$f":"SUM(O7:O22)","v":156},null,null,null,null,"Total Sequences in Block Summary",{"$f":"SUM(U7:U22)","v":26},null,null,null,"Total Sequences in Block Summary",{"$f":"SUM(Z7:Z22)","v":26},null,null,null,"Total Sequences in Block Summary",{"$f":"SUM(AE7:AE22)","v":26},null,null,null,"Total Sequences in Block Summary",{"$f":"SUM(AJ7:AJ22)","v":26},null,null,null,"Total Sequences in Block Summary",{"$f":"SUM(AO7:AO22)","v":26},null,null,null,"Total Sequences in Block Summary",{"$f":"SUM(AT7:AT22)","v":26}]
[null,null,null,null,null,null,null,null,null,null,null,null,null,null,null,null,null,null,null,"Block 1",null,null,null,null,"Block 2",null,null,null,null,"Block 3",null,null,null,null,"Block 4",null,null,null,null,"Block 5",null,null,null,null,"Block 6"]
["Sequence\nComponent\n1","Time\n1","Sequence\nComponent\n2","Time\n2","Sequence\nComponent\n3","Time\n3","Sequence\nComponent\n4","Time\n4","Sequence\nComponent\n5","Time\n5","Correct?\n0=No 1=Yes","Sequence",null,"Frequency",null,"Relative Frequency","Variability",null,null,"Frequency",null,"Relative Frequency","Variability",null,"Frequency",null,"Relative Frequency","Variability",null,"Frequency",null,"Relative Frequency","Variability",null,"Frequency",null,"Relative Frequency","Variability",null,"Frequency",null,"Relative Frequency","Variability",null,"Frequency",null,"Relative Frequency","Variability"]
[21,19,21,48,22,93,23,111,null,null,0,2222,null,1111,{"$f":"COUNTIF($L$7:$L$500,N7)","v":3},{"$f":"O7/$Q$4","v":1.9230769230769232E-2},{"$f":"IF(P7=0,0,(P7*((LOG(P7))/LOG(2))))","v":-0.10962384073348255},null,null,{"$f":"N7","v":1111},{"$f":"COUNTIF(L7:L32,T7)","v":0},{"$f":"U7/(W4-U20)","v":0},{"$f":"IF(V7=0,0,(V7*((LOG(V7))/LOG(2))))","v":0},null,{"$f":"N7","v":1111},{"$f":"COUNTIF(L33:L58,Y7)","v":3},{"$f":"Z7/(AB4-Z20)","v":0.12},{"$f":"IF(AA7=0,0,(AA7*((LOG(AA7))/LOG(2))))","v":-0.36706724268642821},null,{"$f":"N7","v":1111},{"$f":"COUNTIF(L59:L84,AD7)","v":0},{"$f":"AE7/(AG4-AE20)","v":0},{"$f":"IF(AF7=0,0,(AF7*((LOG(AF7))/LOG(2))))","v":0},null,{"$f":"N7","v":1111},{"$f":"COUNTIF(L85:L110,AI7)","v":0},{"$f":"AJ7/(AL4-AJ20)","v":0},{"$f":"IF(AK7=0,0,(AK7*((LOG(AK7))/LOG(2))))","v":0},null,{"$f":"N7","v":1111},{"$f":"COUNTIF(L111:L136,AN7)","v":0},{"$f":"AO7/(AQ4-AO20)","v":0},{"$f":"IF(AP7=0,0,(AP7*((LOG(AP7))/LOG(2))))","v":0},null,{"$f":"N7","v":1111},{"$f":"COUNTIF(L137:L162,AS7)","v":0},{"$f":"AT7/(AV4-AT20)","v":0},{"$f":"IF(AU7=0,0,(AU7*((LOG(AU7))/LOG(2))))","v":0}]
[21,226,12,243,24,258,14,270,null,null,0,2121,null,1112,{"$f":"COUNTIF($L$7:$L$500,N8)","v":13},{"$f":"O8/$Q$4","v":8.3333333333333329E-2},{"$f":"IF(P8=0,0,(P8*((LOG(P8))/LOG(2))))","v":-0.29874687506009634},null,null,{"$f":"N8","v":1112},{"$f":"COUNTIF(L7:L32,T8)","v":0},{"$f":"U8/(W4-U20)","v":0},{"$f":"IF(V8=0,0,(V8*((LOG(V8))/LOG(2))))","v":0},null,{"$f":"N8","v":1112},{"$f":"COUNTIF(L33:L58,Y8)","v":2},{"$f":"Z8/(AB4-Z20)","v":0.08},{"$f":"IF(AA8=0,0,(AA8*((LOG(AA8))/LOG(2))))","v":-0.29150849518197797},null,{"$f":"N8","v":1112},{"$f":"COUNTIF(L59:L84,AD8)","v":1},{"$f":"AE8/(AG4-AE20)","v":3.8461538461538464E-2},{"$f":"IF(AF8=0,0,(AF8*((LOG(AF8))/LOG(2))))","v":-0.18078614300542661},null,{"$f":"N8","v":1112},{"$f":"COUNTIF(L85:L110,AI8)","v":3},{"$f":"AJ8/(AL4-AJ20)","v":0.11538461538461539},{"$f":"IF(AK8=0,0,(AK8*((LOG(AK8))/LOG(2))))","v":-0.35947814047153104},null,{"$f":"N8","v":1112},{"$f":"COUNTIF(L111:L136,AN8)","v":4},{"$f":"AO8/(AQ4-AO20)","v":0.16666666666666666},{"$f":"IF(AP8=0,0,(AP8*((LOG(AP8))/LOG(2))))","v":-0.43082708345352599},null,{"$f":"N8","v":1112},{"$f":"COUNTIF(L137:L162,AS8)","v":3},{"$f":"AT8/(AV4-AT20)","v":0.11538461538461539},{"$f":"IF(AU8=0,0,(AU8*((LOG(AU8))/LOG(2))))","v":-0.35947814047153104}]
[21,373,12,397,24,407,14,420,null,null,0,2121,null,1121,{"$f":"COUNTIF($L$7:$L$500,N9)","v":16},{"$f":"O9/$Q$4","v":0.10256410256410256},{"$f":"IF(P9=0,0,(P9*((LOG(P9))/LOG(2))))","v":-0.33696433013971777},null,null,{"$f":"N9","v":1121},{"$f":"COUNTIF(L7:L32,T9)","v":3},{"$f":"U9/(W4-U20)","v":0.13043478260869565},{"$f":"IF(V9=0,0,(V9*((LOG(V9))/LOG(2))))","v":-0.3832955811307639},null,{"$f":"N9","v":1121},{"$f":"COUNTIF(L33:L58,Y9)","v":3},{"$f":"Z9/(AB4-Z20)","v":0.12},{"$f":"IF(AA9=0,0,(AA9*((LOG(AA9))/LOG(2))))","v":-0.36706724268642821},null,{"$f":"N9","v":1121},{"$f":"COUNTIF(L59:L84,AD9)","v":1},{"$f":"AE9/(AG4-AE20)","v":3.8461538461538464E-2},{"$f":"IF(AF9=0,0,(AF9*((LOG(AF9))/LOG(2))))","v":-0.18078614300542661},null,{"$f":"N9","v":1121},{"$f":"COUNTIF(L85:L110,AI9)","v":2},{"$f":"AJ9/(AL4-AJ20)","v":7.6923076923076927E-2},{"$f":"IF(AK9=0,0,(AK9*((LOG(AK9))/LOG(2))))","v":-0.28464920908777636},null,{"$f":"N9","v":1121},{"$f":"COUNTIF(L111:L136,AN9)","v":5},{"$f":"AO9/(AQ4-AO20)","v":0.20833333333333334},{"$f":"IF(AP9=0,0,(AP9*((LOG(AP9))/LOG(2))))","v":-0.47146550121537367},null,{"$f":"N9","v":1121},{"$f":"COUNTIF(L137:L162,AS9)","v":2},{"$f":"AT9/(AV4-AT20)","v":7.6923076923076927E-2},{"$f":"IF(AU9=0,0,(AU9*((LOG(AU9))/LOG(2))))","v":-0.28464920908777636}]
[21,525,21,550,11,565,21,575,null,null,0,2212,null,1122,{"$f":"COUNTIF($L$7:$L$500,N10)","v":3},{"$f":"O10/$Q$4","v":1.9230769230769232E-2},{"$f":"IF(P10=0,0,(P10*((LOG(P10))/LOG(2))))","v":-0.10962384073348255},null,null,{"$f":"N10","v":1122},{"$f":"COUNTIF(L7:L32,T10)","v":1},{"$f":"U10/(W4-U20)","v":4.3478260869565216E-2},{"$f":"IF(V10=0,0,(V10*((LOG(V10))/LOG(2))))","v":-0.19667660678508753},null,{"$f":"N10","v":1122},{"$f":"COUNTIF(L33:L58,Y10)","v":0},{"$f":"Z10/(AB4-Z20)","v":0},{"$f":"IF(AA10=0,0,(AA10*((LOG(AA10))/LOG(2))))","v":0},null,{"$f":"N10","v":1122},{"$f":"COUNTIF(L59:L84,AD10)","v":0},{"$f":"AE10/(AG4-AE20)","v":0},{"$f":"IF(AF10=0,0,(AF10*((LOG(AF10))/LOG(2))))","v":0},null,{"$f":"N10","v":1122},{"$f":"COUNTIF(L85:L110,AI10)","v":0},{"$f":"AJ10/(AL4-AJ20)","v":0},{"$f":"IF(AK10=0,0,(AK10*((LOG(AK10))/LOG(2))))","v":0},null,{"$f":"N10","v":1122},{"$f":"COUNTIF(L111:L136,AN10)","v":1},{"$f":"AO10/(AQ4-AO20)","v":4.1666666666666664E-2},{"$f":"IF(AP10=0,0,(AP10*((LOG(AP10))/LOG(2))))","v":-0.19104010419671485},null,{"$f":"N10","v":1122},{"$f":"COUNTIF(L137:L162,AS10)","v":1},{"$f":"AT10/(AV4-AT20)","v":3.8461538461538464E-2},{"$f":"IF(AU10=0,0,(AU10*((LOG(AU10))/LOG(2))))","v":-0.18078614300542661}]
[21,673,12,690,13,717,23,726,null,null,0,2112,null,1211,{"$f":"COUNTIF($L$7:$L$500,N11)","v":4},{"$f":"O11/$Q$4","v":2.564102564102564E-2},{"$f":"IF(P11=0,0,(P11*((LOG(P11))/LOG(2))))","v":-0.13552313381698072},null,null,{"$f":"N11","v":1211},{"$f":"COUNTIF(L7:L32,T11)","v":0},{"$f":"U11/(W4-U20)","v":0},{"$f":"IF(V11=0,0,(V11*((LOG(V11))/LOG(2))))","v":0},null,{"$f":"N11","v":1211},{"$f":"COUNTIF(L33:L58,Y11)","v":1},{"$f":"Z11/(AB4-Z20)","v":0.04},{"$f":"IF(AA11=0,0,(AA11*((LOG(AA11))/LOG(2))))","v":-0.18575424759098899},null,{"$f":"N11","v":1211},{"$f":"COUNTIF(L59:L84,AD11)","v":0},{"$f":"AE11/(AG4-AE20)","v":0},{"$f":"IF(AF11=0,0,(AF11*((LOG(AF11))/LOG(2))))","v":0},null,{"$f":"N11","v":1211},{"$f":"COUNTIF(L85:L110,AI11)","v":2},{"$f":"AJ11/(AL4-AJ20)","v":7.6923076923076927E-2},{"$f":"IF(AK11=0,0,(AK11*((LOG(AK11))/LOG(2))))","v":-0.28464920908777636},null,{"$f":"N11","v":1211},{"$f":"COUNTIF(L111:L136,AN11)","v":0},{"$f":"AO11/(AQ4-AO20)","v":0},{"$f":"IF(AP11=0,0,(AP11*((LOG(AP11))/LOG(2))))","v":0},null,{"$f":"N11","v":1211},{"$f":"COUNTIF(L137:L162,AS11)","v":1},{"$f":"AT11/(AV4-AT20)","v":3.8461538461538464E-2},{"$f":"IF(AU11=0,0,(AU11*((LOG(AU11))/LOG(2))))","v":-0.18078614300542661}]
[12,842,14,846,24,867,14,883,null,null,0,1121,null,1212,{"$f":"COUNTIF($L$7:$L$500,N12)","v":25},{"$f":"O12/$Q$4","v":0.16025641025641027},{"$f":"IF(P12=0,0,(P12*((LOG(P12))/LOG(2))))","v":-0.42332468414864166},null,null,{"$f":"N12","v":1212},{"$f":"COUNTIF(L7:L32,T12)","v":2},{"$f":"U12/(W4-U20)","v":8.6956521739130432E-2},{"$f":"IF(V12=0,0,(V12*((LOG(V12))/LOG(2))))","v":-0.30639669183104457},null,{"$f":"N12","v":1212},{"$f":"COUNTIF(L33:L58,Y12)","v":4},{"$f":"Z12/(AB4-Z20)","v":0.16},{"$f":"IF(AA12=0,0,(AA12*((LOG(AA12))/LOG(2))))","v":-0.42301699036395596},null,{"$f":"N12","v":1212},{"$f":"COUNTIF(L59:L84,AD12)","v":7},{"$f":"AE12/(AG4-AE20)","v":0.26923076923076922},{"$f":"IF(AF12=0,0,(AF12*((LOG(AF12))/LOG(2))))","v":-0.50967667586863141},null,{"$f":"N12","v":1212},{"$f":"COUNTIF(L85:L110,AI12)","v":5},{"$f":"AJ12/(AL4-AJ20)","v":0.19230769230769232},{"$f":"IF(AK12=0,0,(AK12*((LOG(AK12))/LOG(2))))","v":-0.45740608139494804},null,{"$f":"N12","v":1212},{"$f":"COUNTIF(L111:L136,AN12)","v":5},{"$f":"AO12/(AQ4-AO20)","v":0.20833333333333334},{"$f":"IF(AP12=0,0,(AP12*((LOG(AP12))/LOG(2))))","v":-0.47146550121537367},null,{"$f":"N12","v":1212},{"$f":"COUNTIF(L137:L162,AS12)","v":2},{"$f":"AT12/(AV4-AT20)","v":7.6923076923076927E-2},{"$f":"IF(AU12=0,0,(AU12*((LOG(AU12))/LOG(2))))","v":-0.28464920908777636}]
[12,1003,23,1015,13,1027,23,1037,null,null,0,1212,null,1221,{"$f":"COUNTIF($L$7:$L$500,N13)","v":3},{"$f":"O13/$Q$4","v":1.9230769230769232E-2},{"$f":"IF(P13=0,0,(P13*((LOG(P13))/LOG(2))))","v":-0.10962384073348255},null,null,{"$f":"N13","v":1221},{"$f":"COUNTIF(L7:L32,T13)","v":0},{"$f":"U13/(W4-U20)","v":0},{"$f":"IF(V13=0,0,(V13*((LOG(V13))/LOG(2))))","v":0},null,{"$f":"N13","v":1221},{"$f":"COUNTIF(L33:L58,Y13)","v":0},{"$f":"Z13/(AB4-Z20)","v":0},{"$f":"IF(AA13=0,0,(AA13*((LOG(AA13))/LOG(2))))","v":0},null,{"$f":"N13","v":1221},{"$f":"COUNTIF(L59:L84,AD13)","v":1},{"$f":"AE13/(AG4-AE20)","v":3.8461538461538464E-2},{"$f":"IF(AF13=0,0,(AF13*((LOG(AF13))/LOG(2))))","v":-0.18078614300542661},null,{"$f":"N13","v":1221},{"$f":"COUNTIF(L85:L110,AI13)","v":1},{"$f":"AJ13/(AL4-AJ20)","v":3.8461538461538464E-2},{"$f":"IF(AK13=0,0,(AK13*((LOG(AK13))/LOG(2))))","v":-0.18078614300542661},null,{"$f":"N13","v":1221},{"$f":"COUNTIF(L111:L136,AN13)","v":0},{"$f":"AO13/(AQ4-AO20)","v":0},{"$f":"IF(AP13=0,0,(AP13*((LOG(AP13))/LOG(2))))","v":0},null,{"$f":"N13","v":1221},{"$f":"COUNTIF(L137:L162,AS13)","v":1},{"$f":"AT13/(AV4-AT20)","v":3.8461538461538464E-2},{"$f":"IF(AU13=0,0,(AU13*((LOG(AU13))/LOG(2))))","v":-0.18078614300542661}]
[21,1141,12,1158,24,1167,14,1182,null,null,0,2121,null,1222,{"$f":"COUNTIF($L$7:$L$500,N14)","v":0},{"$f":"O14/$Q$4","v":0},{"$f":"IF(P14=0,0,(P14*((LOG(P14))/LOG(2))))","v":0},null,null,{"$f":"N14","v":1222},{"$f":"COUNTIF(L7:L32,T14)","v":0},{"$f":"U14/(W4-U20)","v":0},{"$f":"IF(V14=0,0,(V14*((LOG(V14))/LOG(2))))","v":0},null,{"$f":"N14","v":1222},{"$f":"COUNTIF(L33:L58,Y14)","v":0},{"$f":"Z14/(AB4-Z20)","v":0},{"$f":"IF(AA14=0,0,(AA14*((LOG(AA14))/LOG(2))))","v":0},null,{"$f":"N14","v":1222},{"$f":"COUNTIF(L59:L84,AD14)","v":0},{"$f":"AE14/(AG4-AE20)","v":0},{"$f":"IF(AF14=0,0,(AF14*((LOG(AF14))/LOG(2))))","v":0},null,{"$f":"N14","v":1222},{"$f":"COUNTIF(L85:L110,AI14)","v":0},{"$f":"AJ14/(AL4-AJ20)","v":0},{"$f":"IF(AK14=0,0,(AK14*((LOG(AK14))/LOG(2))))","v":0},null,{"$f":"N14","v":1222},{"$f":"COUNTIF(L111:L136,AN14)","v":0},{"$f":"AO14/(AQ4-AO20)","v":0},{"$f":"IF(AP14=0,0,(AP14*((LOG(AP14))/LOG(2))))","v":0},null,{"$f":"N14","v":1222},{"$f":"COUNTIF(L137:L162,AS14)","v":0},{"$f":"AT14/(AV4-AT20)","v":0},{"$f":"IF(AU14=0,0,(AU14*((LOG(AU14))/LOG(2))))","v":0}]
[12,1297,14,1321,24,1329,14,1358,null,null,0,1121,null,2111,{"$f":"COUNTIF($L$7:$L$500,N15)","v":7},{"$f":"O15/$Q$4","v":4.4871794871794872E-2},{"$f":"IF(P15=0,0,(P15*((LOG(P15))/LOG(2))))","v":-0.20093801972841352},null,null,{"$f":"N15","v":2111},{"$f":"COUNTIF(L7:L32,T15)","v":0},{"$f":"U15/(W4-U20)","v":0},{"$f":"IF(V15=0,0,(V15*((LOG(V15))/LOG(2))))","v":0},null,{"$f":"N15","v":2111},{"$f":"COUNTIF(L33:L58,Y15)","v":0},{"$f":"Z15/(AB4-Z20)","v":0},{"$f":"IF(AA15=0,0,(AA15*((LOG(AA15))/LOG(2))))","v":0},null,{"$f":"N15","v":2111},{"$f":"COUNTIF(L59:L84,AD15)","v":1},{"$f":"AE15/(AG4-AE20)","v":3.8461538461538464E-2},{"$f":"IF(AF15=0,0,(AF15*((LOG(AF15))/LOG(2))))","v":-0.18078614300542661},null,{"$f":"N15","v":2111},{"$f":"COUNTIF(L85:L110,AI15)","v":3},{"$f":"AJ15/(AL4-AJ20)","v":0.11538461538461539},{"$f":"IF(AK15=0,0,(AK15*((LOG(AK15))/LOG(2))))","v":-0.35947814047153104},null,{"$f":"N15","v":2111},{"$f":"COUNTIF(L111:L136,AN15)","v":0},{"$f":"AO15/(AQ4-AO20)","v":0},{"$f":"IF(AP15=0,0,(AP15*((LOG(AP15))/LOG(2))))","v":0},null,{"$f":"N15","v":2111},{"$f":"COUNTIF(L137:L162,AS15)","v":3},{"$f":"AT15/(AV4-AT20)","v":0.11538461538461539},{"$f":"IF(AU15=0,0,(AU15*((LOG(AU15))/LOG(2))))","v":-0.35947814047153104}]
[21,1466,12,1478,13,1503,23,1512,null,null,0,2112,null,2112,{"$f":"COUNTIF($L$7:$L$500,N16)","v":33},{"$f":"O16/$Q$4","v":0.21153846153846154},{"$f":"IF(P16=0,0,(P16*((LOG(P16))/LOG(2))))","v":-0.4740594056642643},null,null,{"$f":"N16","v":2112},{"$f":"COUNTIF(L7:L32,T16)","v":9},{"$f":"U16/(W4-U20)","v":0.39130434782608697},{"$f":"IF(V16=0,0,(V16*((LOG(V16))/LOG(2))))","v":-0.5296840257187958},null,{"$f":"N16","v":2112},{"$f":"COUNTIF(L33:L58,Y16)","v":5},{"$f":"Z16/(AB4-Z20)","v":0.2},{"$f":"IF(AA16=0,0,(AA16*((LOG(AA16))/LOG(2))))","v":-0.46438561897747244},null,{"$f":"N16","v":2112},{"$f":"COUNTIF(L59:L84,AD16)","v":4},{"$f":"AE16/(AG4-AE20)","v":0.15384615384615385},{"$f":"IF(AF16=0,0,(AF16*((LOG(AF16))/LOG(2))))","v":-0.4154522643293988},null,{"$f":"N16","v":2112},{"$f":"COUNTIF(L85:L110,AI16)","v":5},{"$f":"AJ16/(AL4-AJ20)","v":0.19230769230769232},{"$f":"IF(AK16=0,0,(AK16*((LOG(AK16))/LOG(2))))","v":-0.45740608139494804},null,{"$f":"N16","v":2112},{"$f":"COUNTIF(L111:L136,AN16)","v":7},{"$f":"AO16/(AQ4-AO20)","v":0.29166666666666669},{"$f":"IF(AP16=0,0,(AP16*((LOG(AP16))/LOG(2))))","v":-0.51846887711020273},null,{"$f":"N16","v":2112},{"$f":"COUNTIF(L137:L162,AS16)","v":3},{"$f":"AT16/(AV4-AT20)","v":0.11538461538461539},{"$f":"IF(AU16=0,0,(AU16*((LOG(AU16))/LOG(2))))","v":-0.35947814047153104}]
[21,1615,12,1629,13,1651,23,1660,null,null,0,2112,null,2121,{"$f":"COUNTIF($L$7:$L$500,N17)","v":28},{"$f":"O17/$Q$4","v":0.17948717948717949},{"$f":"IF(P17=0,0,(P17*((LOG(P17))/LOG(2))))","v":-0.4447777199392951},null,null,{"$f":"N17","v":2121},{"$f":"COUNTIF(L7:L32,T17)","v":5},{"$f":"U17/(W4-U20)","v":0.21739130434782608},{"$f":"IF(V17=0,0,(V17*((LOG(V17))/LOG(2))))","v":-0.47861605677601093},null,{"$f":"N17","v":2121},{"$f":"COUNTIF(L33:L58,Y17)","v":2},{"$f":"Z17/(AB4-Z20)","v":0.08},{"$f":"IF(AA17=0,0,(AA17*((LOG(AA17))/LOG(2))))","v":-0.29150849518197797},null,{"$f":"N17","v":2121},{"$f":"COUNTIF(L59:L84,AD17)","v":8},{"$f":"AE17/(AG4-AE20)","v":0.30769230769230771},{"$f":"IF(AF17=0,0,(AF17*((LOG(AF17))/LOG(2))))","v":-0.52321222096648989},null,{"$f":"N17","v":2121},{"$f":"COUNTIF(L85:L110,AI17)","v":5},{"$f":"AJ17/(AL4-AJ20)","v":0.19230769230769232},{"$f":"IF(AK17=0,0,(AK17*((LOG(AK17))/LOG(2))))","v":-0.45740608139494804},null,{"$f":"N17","v":2121},{"$f":"COUNTIF(L111:L136,AN17)","v":2},{"$f":"AO17/(AQ4-AO20)","v":8.3333333333333329E-2},{"$f":"IF(AP17=0,0,(AP17*((LOG(AP17))/LOG(2))))","v":-0.29874687506009634},null,{"$f":"N17","v":2121},{"$f":"COUNTIF(L137:L162,AS17)","v":6},{"$f":"AT17/(AV4-AT20)","v":0.23076923076923078},{"$f":"IF(AU17=0,0,(AU17*((LOG(AU17))/LOG(2))))","v":-0.48818705017383146}]
[21,1767,12,1778,24,1790,14,1803,null,null,0,2121,null,2122,{"$f":"COUNTIF($L$7:$L$500,N18)","v":6},{"$f":"O18/$Q$4","v":3.8461538461538464E-2},{"$f":"IF(P18=0,0,(P18*((LOG(P18))/LOG(2))))","v":-0.18078614300542661},null,null,{"$f":"N18","v":2122},{"$f":"COUNTIF(L7:L32,T18)","v":1},{"$f":"U18/(W4-U20)","v":4.3478260869565216E-2},{"$f":"IF(V18=0,0,(V18*((LOG(V18))/LOG(2))))","v":-0.19667660678508753},null,{"$f":"N18","v":2122},{"$f":"COUNTIF(L33:L58,Y18)","v":3},{"$f":"Z18/(AB4-Z20)","v":0.12},{"$f":"IF(AA18=0,0,(AA18*((LOG(AA18))/LOG(2))))","v":-0.36706724268642821},null,{"$f":"N18","v":2122},{"$f":"COUNTIF(L59:L84,AD18)","v":2},{"$f":"AE18/(AG4-AE20)","v":7.6923076923076927E-2},{"$f":"IF(AF18=0,0,(AF18*((LOG(AF18))/LOG(2))))","v":-0.28464920908777636},null,{"$f":"N18","v":2122},{"$f":"COUNTIF(L85:L110,AI18)","v":0},{"$f":"AJ18/(AL4-AJ20)","v":0},{"$f":"IF(AK18=0,0,(AK18*((LOG(AK18))/LOG(2))))","v":0},null,{"$f":"N18","v":2122},{"$f":"COUNTIF(L111:L136,AN18)","v":0},{"$f":"AO18/(AQ4-AO20)","v":0},{"$f":"IF(AP18=0,0,(AP18*((LOG(AP18))/LOG(2))))","v":0},null,{"$f":"N18","v":2122},{"$f":"COUNTIF(L137:L162,AS18)","v":0},{"$f":"AT18/(AV4-AT20)","v":0},{"$f":"IF(AU18=0,0,(AU18*((LOG(AU18))/LOG(2))))","v":0}]
[21,1912,12,1925,24,1934,14,1948,null,null,0,2121,null,2211,{"$f":"COUNTIF($L$7:$L$500,N19)","v":5},{"$f":"O19/$Q$4","v":3.2051282051282048E-2},{"$f":"IF(P19=0,0,(P19*((LOG(P19))/LOG(2))))","v":-0.15908570910175915},null,null,{"$f":"N19","v":2211},{"$f":"COUNTIF(L7:L32,T19)","v":0},{"$f":"U19/(W4-U20)","v":0},{"$f":"IF(V19=0,0,(V19*((LOG(V19))/LOG(2))))","v":0},null,{"$f":"N19","v":2211},{"$f":"COUNTIF(L33:L58,Y19)","v":1},{"$f":"Z19/(AB4-Z20)","v":0.04},{"$f":"IF(AA19=0,0,(AA19*((LOG(AA19))/LOG(2))))","v":-0.18575424759098899},null,{"$f":"N19","v":2211},{"$f":"COUNTIF(L59:L84,AD19)","v":1},{"$f":"AE19/(AG4-AE20)","v":3.8461538461538464E-2},{"$f":"IF(AF19=0,0,(AF19*((LOG(AF19))/LOG(2))))","v":-0.18078614300542661},null,{"$f":"N19","v":2211},{"$f":"COUNTIF(L85:L110,AI19)","v":0},{"$f":"AJ19/(AL4-AJ20)","v":0},{"$f":"IF(AK19=0,0,(AK19*((LOG(AK19))/LOG(2))))","v":0},null,{"$f":"N19","v":2211},{"$f":"COUNTIF(L111:L136,AN19)","v":0},{"$f":"AO19/(AQ4-AO20)","v":0},{"$f":"IF(AP19=0,0,(AP19*((LOG(AP19))/LOG(2))))","v":0},null,{"$f":"N19","v":2211},{"$f":"COUNTIF(L137:L162,AS19)","v":3},{"$f":"AT19/(AV4-AT20)","v":0.11538461538461539},{"$f":"IF(AU19=0,0,(AU19*((LOG(AU19))/LOG(2))))","v":-0.35947814047153104}]
[21,2054,12,2070,13,2104,23,2113,null,null,0,2112,null,2212,{"$f":"COUNTIF($L$7:$L$500,N20)","v":6},{"$f":"O20/$Q$4","v":3.8461538461538464E-2},{"$f":"IF(P20=0,0,(P20*((LOG(P20))/LOG(2))))","v":-0.18078614300542661},null,null,{"$f":"N20","v":2212},{"$f":"COUNTIF(L7:L32,T20)","v":3},null,null,null,{"$f":"N20","v":2212},{"$f":"COUNTIF(L33:L58,Y20)","v":1},null,null,null,{"$f":"N20","v":2212},{"$f":"COUNTIF(L59:L84,AD20)","v":0},null,null,null,{"$f":"N20","v":2212},{"$f":"COUNTIF(L85:L110,AI20)","v":0},null,null,null,{"$f":"N20","v":2212},{"$f":"COUNTIF(L111:L136,AN20)","v":2},null,null,null,{"$f":"N20","v":2212},{"$f":"COUNTIF(L137:L162,AS20)","v":0}]
[21,2218,12,2226,13,2250,23,2258,null,null,0,2112,null,2221,{"$f":"COUNTIF($L$7:$L$500,N21)","v":1},{"$f":"O21/$Q$4","v":6.41025641025641E-3},{"$f":"IF(P21=0,0,(P21*((LOG(P21))/LOG(2))))","v":-4.6701296274758004E-2},null,null,{"$f":"N21","v":2221},{"$f":"COUNTIF(L7:L32,T21)","v":0},{"$f":"U21/(W4-U20)","v":0},{"$f":"IF(V21=0,0,(V21*((LOG(V21))/LOG(2))))","v":0},null,{"$f":"N21","v":2221},{"$f":"COUNTIF(L33:L58,Y21)","v":0},{"$f":"Z21/(AB4-Z20)","v":0},{"$f":"IF(AA21=0,0,(AA21*((LOG(AA21))/LOG(2))))","v":0},null,{"$f":"N21","v":2221},{"$f":"COUNTIF(L59:L84,AD21)","v":0},{"$f":"AE21/(AG4-AE20)","v":0},{"$f":"IF(AF21=0,0,(AF21*((LOG(AF21))/LOG(2))))","v":0},null,{"$f":"N21","v":2221},{"$f":"COUNTIF(L85:L110,AI21)","v":0},{"$f":"AJ21/(AL4-AJ20)","v":0},{"$f":"IF(AK21=0,0,(AK21*((LOG(AK21))/LOG(2))))","v":0},null,{"$f":"N21","v":2221},{"$f":"COUNTIF(L111:L136,AN21)","v":0},{"$f":"AO21/(AQ4-AO20)","v":0},{"$f":"IF(AP21=0,0,(AP21*((LOG(AP21))/LOG(2))))","v":0},null,{"$f":"N21","v":2221},{"$f":"COUNTIF(L137:L162,AS21)","v":1},{"$f":"AT21/(AV4-AT20)","v":3.8461538461538464E-2},{"$f":"IF(AU21=0,0,(AU21*((LOG(AU21))/LOG(2))))","v":-0.18078614300542661}]
[21,2379,12,2391,13,2399,23,2407,null,null,0,2112,null,2222,{"$f":"COUNTIF($L$7:$L$500,N22)","v":3},{"$f":"O22/$Q$4","v":1.9230769230769232E-2},{"$f":"IF(P22=0,0,(P22*((LOG(P22))/LOG(2))))","v":-0.10962384073348255},null,null,{"$f":"N22","v":2222},{"$f":"COUNTIF(L7:L32,T22)","v":2},{"$f":"U22/(W4-U20)","v":8.6956521739130432E-2},{"$f":"IF(V22=0,0,(V22*((LOG(V22))/LOG(2))))","v":-0.30639669183104457},null,{"$f":"N22","v":2222},{"$f":"COUNTIF(L33:L58,Y22)","v":1},{"$f":"Z22/(AB4-Z20)","v":0.04},{"$f":"IF(AA22=0,0,(AA22*((LOG(AA22))/LOG(2))))","v":-0.18575424759098899},null,{"$f":"N22","v":2222},{"$f":"COUNTIF(L59:L84,AD22)","v":0},{"$f":"AE22/(AG4-AE20)","v":0},{"$f":"IF(AF22=0,0,(AF22*((LOG(AF22))/LOG(2))))","v":0},null,{"$f":"N22","v":2222},{"$f":"COUNTIF(L85:L110,AI22)","v":0},{"$f":"AJ22/(AL4-AJ20)","v":0},{"$f":"IF(AK22=0,0,(AK22*((LOG(AK22))/LOG(2))))","v":0},null,{"$f":"N22","v":2222},{"$f":"COUNTIF(L111:L136,AN22)","v":0},{"$f":"AO22/(AQ4-AO20)","v":0},{"$f":"IF(AP22=0,0,(AP22*((LOG(AP22))/LOG(2))))","v":0},null,{"$f":"N22","v":2222},{"$f":"COUNTIF(L137:L162,AS22)","v":0},{"$f":"AT22/(AV4-AT20)","v":0},{"$f":"IF(AU22=0,0,(AU22*((LOG(AU22))/LOG(2))))","v":0}]
[12,2543,23,2552,13,2566,23,2575,null,null,0,1212,null,null,null,{"$f":"SUM(P7:P22)","v":1},{"$f":"-SUM(Q7:Q22)","v":3.32018882281871},null,null,null,null,{"$f":"SUM(V7:V22)","v":1},{"$f":"-SUM(W7:W22)","v":2.3977422608578349},null,null,null,{"$f":"SUM(AA7:AA22)","v":1},{"$f":"-SUM(AB7:AB22)","v":3.1288840705376355},null,null,null,{"$f":"SUM(AF7:AF22)","v":0.99999999999999989},{"$f":"-SUM(AG7:AG22)","v":2.6369210852794294},null,null,null,{"$f":"SUM(AK7:AK22)","v":1},{"$f":"-SUM(AL7:AL22)","v":2.8412590863088854},null,null,null,{"$f":"SUM(AP7:AP22)","v":1},{"$f":"-SUM(AQ7:AQ22)","v":2.3820139422512874},null,null,null,{"$f":"SUM(AU7:AU22)","v":1.0000000000000002},{"$f":"-SUM(AV7:AV22)","v":3.2185426022572146}]
[21,2689,12,2701,13,2718,23,2734,null,null,0,2112,null,null,null,"U=",{"$f":"Q23/(LOG(Q4)/LOG(2))","v":0.4557317115893183},null,null,null,null,"U1=",{"$f":"W23/(LOG(W4)/LOG(2))","v":0.51011020343562308},null,null,null,"U2=",{"$f":"AB23/(LOG(AB4)/LOG(2))","v":0.66565773803286477},null,null,null,"U3=",{"$f":"AG23/(LOG(AG4)/LOG(2))","v":0.56099455442485002},null,null,null,"U4=",{"$f":"AL23/(LOG(AL4)/LOG(2))","v":0.60446665773484987},null,null,null,"U5=",{"$f":"AQ23/(LOG(AQ4)/LOG(2))","v":0.50676406572305011},null,null,null,"U6=",{"$f":"AV23/(LOG(AV4)/LOG(2))","v":0.68473223682359419}]
[21,2841,21,2857,11,2868,21,2886,null,null,0,2212]
[12,3003,14,3012,24,3029,23,3048,null,null,0,1122]
[21,3152,12,3170,13,3190,23,3199,null,null,0,2112,null,"Total Target Seq"]
[21,3306,12,3318,24,3330,23,3352,null,null,0,2122,null,{"$f":"COUNTIF(L7:L162,G3)","v":6},null,26,26,26,26,26,26]
[21,3461,21,3478,22,3495,23,3509,null,null,0,2222,null,null,null,"% of reinforcement given in 6 equal intervals based on number of trials "]
[21,3611,21,3616,11,3629,21,3645,null,null,0,2212,null,null,null,"%_1","%_2","%_3","%_4","%_5","%_6"]
[12,3751,14,3755,24,3774,14,3786,null,null,0,1121,null,null,"target sequence",{"$f":"$G$3","v":2212},{"$f":"$G$3","v":2212},{"$f":"$G$3","v":2212},{"$f":"$G$3","v":2212},{"$f":"$G$3","v":2212},{"$f":"$G$3","v":2212}]
[21,3898,12,3914,13,3940,23,3959,null,null,0,2112,null,null,"total reinforcement",{"$f":"U20","v":3},{"$f":"Z20","v":1},{"$f":"AE20","v":0},{"$f":"AJ20","v":0},{"$f":"AO20","v":2},{"$f":"AT20","v":0}]
[21,4066,12,4085,24,4098,23,4109,null,null,0,2122,null,null,"% target"]
[21,4214,21,4250,11,4264,21,4282,null,null,0,2212,null,null,"CCRF"]
[12,4373,23,4391,13,4406,23,4415,null,null,0,1212,null,null,"% CCRf"]
[21,4519,12,4536,13,4549,23,4558,null,null,0,2112,null,null,"average response rate",{"$f":"H32/P28","v":152.26923076923077},{"$f":"(H58-H32)/Q28","v":155.73076923076923},{"$f":"(H84-H58)/R28","v":155},{"$f":"(H110-H84)/S28","v":151.80769230769232},{"$f":"(H136-H110)/T28","v":154.30769230769232},{"$f":"(H162-H136)/U28","v":153.96153846153845}]
[21,4661,12,4682,13,4712,23,4728,null,null,0,2112]
[21,4834,12,4846,13,4867,23,4904,null,null,0,2112]
[21,5011,12,5021,24,5033,23,5054,null,null,0,2122]
[12,5165,14,5170,24,5184,14,5201,null,null,0,1121]
[12,5318,23,5351,13,5368,23,5379,null,null,0,1212]
[12,5506,23,5522,13,5534,23,5543,null,null,0,1212]
[21,5646,12,5659,24,5674,23,5705,null,null,0,2122]
[21,5812,21,5838,22,5847,23,5857,null,null,0,2222]
[12,5974,14,5981,13,5989,23,6005,null,null,0,1112]
[21,6121,12,6139,13,6147,23,6165,null,null,0,2112]
[21,6271,12,6290,13,6298,23,6307,null,null,0,2112]
[12,6423,14,6449,13,6488,23,6499,null,null,0,1112]
[12,6630,23,6638,13,6653,23,6661,null,null,0,1212]
[21,6763,21,6772,11,6784,12,6789,null,null,0,2211]
[12,6888,14,6911,13,6943,14,6961,null,null,0,1111]
[21,7064,12,7076,24,7087,14,7106,null,null,0,2121]
[12,7222,23,7236,13,7248,14,7258,null,null,0,1211]
[12,7385,14,7390,13,7398,14,7406,null,null,0,1111]
[21,7513,12,7525,24,7542,14,7553,null,null,0,2121]
[12,7663,14,7675,24,7695,14,7706,null,null,0,1121]
[12,7816,14,7820,13,7828,14,7832,null,null,0,1111]
[12,7952,14,7976,24,7990,14,8008,null,null,0,1121]
[12,8120,23,8140,13,8152,23,8163,null,null,0,1212]
[21,8271,12,8283,13,8294,23,8311,null,null,0,2112]
[21,8413,12,8428,24,8436,14,8452,null,null,0,2121]
[21,8559,12,8569,24,8581,23,8593,null,null,0,2122]
[21,8700,12,8716,24,8729,14,8744,null,null,0,2121]
[21,8848,12,8867,13,8873,23,8884,null,null,0,2112]
[21,8994,12,9006,24,9039,14,9051,null,null,0,2121]
[12,9165,14,9171,24,9183,14,9194,null,null,0,1121]
[12,9295,14,9301,13,9321,23,9334,null,null,0,1112]
[21,9449,12,9470,13,9481,23,9492,null,null,0,2112]
[21,9594,12,9631,24,9639,14,9651,null,null,0,2121]
[21,9756,12,9774,24,9782,23,9788,null,null,0,2122]
[12,9885,23,9896,13,9909,23,9920,null,null,0,1212]
[21,10024,12,10042,13,10065,14,10083,null,null,0,2111]
[21,10194,12,10204,24,10216,14,10227,null,null,0,2121]
[12,10347,23,10362,13,10376,23,10387,null,null,0,1212]
[21,10493,21,10518,11,10538,12,10562,null,null,0,2211]
[12,10687,23,10696,13,10708,23,10720,null,null,0,1212]
[21,10831,12,10846,13,10858,23,10869,null,null,0,2112]
[12,10989,23,11000,13,11011,23,11044,null,null,0,1212]
[12,11161,23,11179,13,11191,23,11199,null,null,0,1212]
[21,11303,12,11314,24,11324,14,11335,null,null,0,2121]
[12,11448,23,11465,13,11476,23,11491,null,null,0,1212]
[12,11640,23,11664,24,11687,14,11712,null,null,0,1221]
[21,11816,12,11826,24,11846,14,11857,null,null,0,2121]
[21,11961,12,11992,24,12026,14,12038,null,null,0,2121]
[12,12169,14,12177,13,12203,23,12216,null,null,0,1112]
[21,12320,12,12357,24,12365,14,12380,null,null,0,2121]
[21,12485,12,12496,13,12519,23,12530,null,null,0,2112]
[12,12637,14,12645,24,12657,14,12671,null,null,0,1121]
[21,12772,12,12788,24,12801,14,12818,null,null,0,2121]
[12,12937,23,12948,13,12959,23,12971,null,null,0,1212]
[12,13088,23,13102,13,13113,23,13124,null,null,0,1212]
[21,13226,12,13242,13,13246,14,13271,null,null,0,2111]
[21,13372,12,13386,13,13391,23,13402,null,null,0,2112]
[21,13511,12,13537,24,13558,14,13573,null,null,0,2121]
[12,13693,23,13710,24,13721,14,13735,null,null,0,1221]
[12,13850,23,13863,13,13875,23,13886,null,null,0,1212]
[12,14001,23,14013,13,14024,14,14039,null,null,0,1211]
[12,14155,14,14162,24,14176,14,14187,null,null,0,1121]
[12,14300,23,14311,13,14325,23,14336,null,null,0,1212]
[21,14438,12,14453,13,14462,23,14474,null,null,0,2112]
[12,14572,23,14585,13,14597,14,14602,null,null,0,1211]
[21,14704,12,14715,13,14719,14,14751,null,null,0,2111]
[21,14868,12,14879,13,14898,23,14911,null,null,0,2112]
[12,15025,23,15035,13,15048,23,15058,null,null,0,1212]
[21,15163,12,15179,24,15190,14,15203,null,null,0,2121]
[21,15310,12,15323,24,15337,14,15349,null,null,0,2121]
[12,15470,14,15481,13,15518,23,15527,null,null,0,1112]
[12,15644,14,15652,13,15661,23,15670,null,null,0,1112]
[21,15790,12,15803,13,15811,14,15830,null,null,0,2111]
[21,15933,12,15951,13,15976,23,15985,null,null,0,2112]
[12,16102,14,16112,24,16123,23,16132,null,null,0,1122]
[12,16249,14,16258,13,16287,23,16296,null,null,0,1112]
[21,16399,21,16413,11,16429,21,16439,null,null,0,2212]
[12,16537,14,16561,24,16570,14,16586,null,null,0,1121]
[21,16687,12,16704,24,16721,14,16735,null,null,0,2121]
[21,16837,12,16851,13,16885,23,16903,null,null,0,2112]
[21,17008,12,17042,13,17073,23,17084,null,null,0,2112]
[12,17200,23,17225,13,17236,23,17247,null,null,0,1212]
[12,17378,14,17383,24,17393,14,17405,null,null,0,1121]
[21,17513,12,17528,13,17547,23,17556,null,null,0,2112]
[12,17661,23,17679,13,17689,23,17700,null,null,0,1212]
[12,17823,14,17832,13,17855,23,17868,null,null,0,1112]
[12,17998,14,18028,13,18060,23,18076,null,null,0,1112]
[21,18192,12,18204,13,18224,23,18232,null,null,0,2112]
[12,18348,23,18360,13,18373,23,18384,null,null,0,1212]
[12,18509,23,18523,13,18539,23,18552,null,null,0,1212]
[21,18666,12,18681,24,18699,14,18713,null,null,0,2121]
[12,18830,23,18841,13,18856,23,18864,null,null,0,1212]
[21,18963,21,18970,11,18983,21,18996,null,null,0,2212]
[12,19083,14,19090,24,19102,14,19114,null,null,0,1121]
[12,19232,14,19240,24,19251,14,19263,null,null,0,1121]
[21,19377,12,19389,13,19393,23,19406,null,null,0,2112]
[21,19505,12,19527,13,19534,23,19551,null,null,0,2112]
[21,19652,12,19673,13,19681,23,19693,null,null,0,2112]
[12,19795,14,19804,13,19838,23,19850,null,null,0,1112]
[12,19965,14,19972,24,19985,14,19997,null,null,0,1121]
[12,20121,14,20130,24,20143,14,20155,null,null,0,1121]
[12,20272,14,20282,13,20303,23,20314,null,null,0,1112]
[21,20425,12,20438,24,20450,14,20463,null,null,0,2121]
[21,20569,12,20580,13,20588,14,20596,null,null,0,2111]
[21,20711,12,20722,13,20727,23,20738,null,null,0,2112]
[21,20843,12,20854,13,20862,14,20868,null,null,0,2111]
[21,20985,12,20997,13,21002,14,21010,null,null,0,2111]
[12,21124,23,21135,13,21156,23,21169,null,null,0,1212]
[21,21274,12,21287,13,21308,23,21318,null,null,0,2112]
[12,21417,23,21430,24,21445,14,21457,null,null,0,1221]
[21,21565,12,21573,24,21584,14,21602,null,null,0,2121]
[12,21703,14,21709,24,21733,14,21746,null,null,0,1121]
[21,21846,21,21864,11,21875,12,21883,null,null,0,2211]
[12,21999,23,22012,13,22024,23,22035,null,null,0,1212]
[21,22142,12,22153,24,22167,14,22187,null,null,0,2121]
[21,22295,12,22321,24,22362,14,22373,null,null,0,2121]
[21,22482,12,22490,24,22501,14,22513,null,null,0,2121]
[12,22624,14,22630,13,22634,23,22647,null,null,0,1112]
[21,22746,21,22761,22,22788,14,22807,null,null,0,2221]
[12,22925,14,22933,24,22946,23,22957,null,null,0,1122]
[21,23071,21,23096,11,23110,12,23115,null,null,0,2211]
[21,23221,12,23258,24,23270,14,23283,null,null,0,2121]
[12,23416,14,23464,13,23468,23,23481,null,null,0,1112]
[21,23594,21,23608,11,23619,12,23650,null,null,0,2211]
[12,23789,23,23802,13,23818,14,23823,null,null,0,1211]
[21,23927,12,23946,13,23976,23,24000,null,null,null,2112]

{"sheet":"!N123950.092","index":26,"n_rows":158,"n_cols":48,"rows_kept":158,"cut":false,"hidden":false,"merged":[[4,39,4,42],[5,39,5,40],[4,44,4,47],[5,44,5,45],[4,24,4,27],[5,24,5,25],[4,29,4,32],[5,29,5,30],[4,34,4,37],[5,34,5,35],[1,1,1,2],[5,13,5,14],[26,13,26,14],[27,13,27,14],[4,19,4,22],[5,19,5,20]]}
["Report for:!N123950.092"]
["Date:","<date>"]
["Hen:","<hen>",null,null,null,"Correct Sequence",{"$f":"Start!J2","v":2212},null,null,null,null,null,null,null,null,"Total Sequences in Data",{"$f":"4994-COUNTBLANK(L7:L5000)","v":152},null,null,null,null,"Total Sequences in Block Data",{"$f":"COUNTA(L7:L31)","v":25},null,null,null,"Total Sequences in Block Data",{"$f":"COUNTA(L32:L57)","v":26},null,null,null,"Total Sequences in Block Data",{"$f":"COUNTA(L58:L82)","v":25},null,null,null,"Total Sequences in Block Data",{"$f":"COUNTA(L83:L107)","v":25},null,null,null,"Total Sequences in Block Data",{"$f":"COUNTA(L108:L133)","v":26},null,null,null,"Total Sequences in Block Data",{"$f":"COUNTA(L134:L158)","v":25}]
[null,null,null,null,null,null,null,null,null,null,null,null,null,null,null,"Total Sequences in Summary",{"$f":"SUM(O7:O22)","v":152},null,null,null,null,"Total Sequences in Block Summary",{"$f":"SUM(U7:U22)","v":25},null,null,null,"Total Sequences in Block Summary",{"$f":"SUM(Z7:Z22)","v":26},null,null,null,"Total Sequences in Block Summary",{"$f":"SUM(AE7:AE22)","v":25},null,null,null,"Total Sequences in Block Summary",{"$f":"SUM(AJ7:AJ22)","v":25},null,null,null,"Total Sequences in Block Summary",{"$f":"SUM(AO7:AO22)","v":26},null,null,null,"Total Sequences in Block Summary",{"$f":"SUM(AT7:AT22)","v":25}]
[null,null,null,null,null,null,null,null,null,null,null,null,null,null,null,null,null,null,null,"Block 1",null,null,null,null,"Block 2",null,null,null,null,"Block 3",null,null,null,null,"Block 4",null,null,null,null,"Block 5",null,null,null,null,"Block 6"]
["Sequence\nComponent\n1","Time\n1","Sequence\nComponent\n2","Time\n2","Sequence\nComponent\n3","Time\n3","Sequence\nComponent\n4","Time\n4","Sequence\nComponent\n5","Time\n5","Correct?\n0=No 1=Yes","Sequence",null,"Frequency",null,"Relative Frequency","Variability",null,null,"Frequency",null,"Relative Frequency","Variability",null,"Frequency",null,"Relative Frequency","Variability",null,"Frequency",null,"Relative Frequency","Variability",null,"Frequency",null,"Relative Frequency","Variability",null,"Frequency",null,"Relative Frequency","Variability",null,"Frequency",null,"Relative Frequency","Variability"]
[12,16,14,54,13,83,14,130,null,null,0,1111,null,1111,{"$f":"COUNTIF($L$7:$L$500,N7)","v":3},{"$f":"O7/$Q$4","v":1.9736842105263157E-2},{"$f":"IF(P7=0,0,(P7*((LOG(P7))/LOG(2))))","v":-0.11176904630373216},null,null,{"$f":"N7","v":1111},{"$f":"COUNTIF(L7:L31,T7)","v":1},{"$f":"U7/(W4-U20)","v":4.3478260869565216E-2},{"$f":"IF(V7=0,0,(V7*((LOG(V7))/LOG(2))))","v":-0.19667660678508753},null,{"$f":"N7","v":1111},{"$f":"COUNTIF(L32:L57,Y7)","v":0},{"$f":"Z7/(AB4-Z20)","v":0},{"$f":"IF(AA7=0,0,(AA7*((LOG(AA7))/LOG(2))))","v":0},null,{"$f":"N7","v":1111},{"$f":"COUNTIF(L58:L82,AD7)","v":1},{"$f":"AE7/(AG4-AE20)","v":4.1666666666666664E-2},{"$f":"IF(AF7=0,0,(AF7*((LOG(AF7))/LOG(2))))","v":-0.19104010419671485},null,{"$f":"N7","v":1111},{"$f":"COUNTIF(L83:L107,AI7)","v":0},{"$f":"AJ7/(AL4-AJ20)","v":0},{"$f":"IF(AK7=0,0,(AK7*((LOG(AK7))/LOG(2))))","v":0},null,{"$f":"N7","v":1111},{"$f":"COUNTIF(L108:L133,AN7)","v":1},{"$f":"AO7/(AQ4-AO20)","v":4.1666666666666664E-2},{"$f":"IF(AP7=0,0,(AP7*((LOG(AP7))/LOG(2))))","v":-0.19104010419671485},null,{"$f":"N7","v":1111},{"$f":"COUNTIF(L134:L158,AS7)","v":0},{"$f":"AT7/(AV4-AT20)","v":0},{"$f":"IF(AU7=0,0,(AU7*((LOG(AU7))/LOG(2))))","v":0}]
[12,248,14,253,24,295,14,309,null,null,0,1121,null,1112,{"$f":"COUNTIF($L$7:$L$500,N8)","v":7},{"$f":"O8/$Q$4","v":4.6052631578947366E-2},{"$f":"IF(P8=0,0,(P8*((LOG(P8))/LOG(2))))","v":-0.20450005355067019},null,null,{"$f":"N8","v":1112},{"$f":"COUNTIF(L7:L31,T8)","v":0},{"$f":"U8/(W4-U20)","v":0},{"$f":"IF(V8=0,0,(V8*((LOG(V8))/LOG(2))))","v":0},null,{"$f":"N8","v":1112},{"$f":"COUNTIF(L32:L57,Y8)","v":2},{"$f":"Z8/(AB4-Z20)","v":8.6956521739130432E-2},{"$f":"IF(AA8=0,0,(AA8*((LOG(AA8))/LOG(2))))","v":-0.30639669183104457},null,{"$f":"N8","v":1112},{"$f":"COUNTIF(L58:L82,AD8)","v":5},{"$f":"AE8/(AG4-AE20)","v":0.20833333333333334},{"$f":"IF(AF8=0,0,(AF8*((LOG(AF8))/LOG(2))))","v":-0.47146550121537367},null,{"$f":"N8","v":1112},{"$f":"COUNTIF(L83:L107,AI8)","v":0},{"$f":"AJ8/(AL4-AJ20)","v":0},{"$f":"IF(AK8=0,0,(AK8*((LOG(AK8))/LOG(2))))","v":0},null,{"$f":"N8","v":1112},{"$f":"COUNTIF(L108:L133,AN8)","v":0},{"$f":"AO8/(AQ4-AO20)","v":0},{"$f":"IF(AP8=0,0,(AP8*((LOG(AP8))/LOG(2))))","v":0},null,{"$f":"N8","v":1112},{"$f":"COUNTIF(L134:L158,AS8)","v":0},{"$f":"AT8/(AV4-AT20)","v":0},{"$f":"IF(AU8=0,0,(AU8*((LOG(AU8))/LOG(2))))","v":0}]
[12,438,14,446,24,465,14,476,null,null,0,1121,null,1121,{"$f":"COUNTIF($L$7:$L$500,N9)","v":20},{"$f":"O9/$Q$4","v":0.13157894736842105},{"$f":"IF(P9=0,0,(P9*((LOG(P9))/LOG(2))))","v":-0.38499992349423984},null,null,{"$f":"N9","v":1121},{"$f":"COUNTIF(L7:L31,T9)","v":5},{"$f":"U9/(W4-U20)","v":0.21739130434782608},{"$f":"IF(V9=0,0,(V9*((LOG(V9))/LOG(2))))","v":-0.47861605677601093},null,{"$f":"N9","v":1121},{"$f":"COUNTIF(L32:L57,Y9)","v":3},{"$f":"Z9/(AB4-Z20)","v":0.13043478260869565},{"$f":"IF(AA9=0,0,(AA9*((LOG(AA9))/LOG(2))))","v":-0.3832955811307639},null,{"$f":"N9","v":1121},{"$f":"COUNTIF(L58:L82,AD9)","v":3},{"$f":"AE9/(AG4-AE20)","v":0.125},{"$f":"IF(AF9=0,0,(AF9*((LOG(AF9))/LOG(2))))","v":-0.375},null,{"$f":"N9","v":1121},{"$f":"COUNTIF(L83:L107,AI9)","v":0},{"$f":"AJ9/(AL4-AJ20)","v":0},{"$f":"IF(AK9=0,0,(AK9*((LOG(AK9))/LOG(2))))","v":0},null,{"$f":"N9","v":1121},{"$f":"COUNTIF(L108:L133,AN9)","v":6},{"$f":"AO9/(AQ4-AO20)","v":0.25},{"$f":"IF(AP9=0,0,(AP9*((LOG(AP9))/LOG(2))))","v":-0.5},null,{"$f":"N9","v":1121},{"$f":"COUNTIF(L134:L158,AS9)","v":3},{"$f":"AT9/(AV4-AT20)","v":0.12},{"$f":"IF(AU9=0,0,(AU9*((LOG(AU9))/LOG(2))))","v":-0.36706724268642821}]
[21,592,12,605,24,618,14,631,null,null,0,2121,null,1122,{"$f":"COUNTIF($L$7:$L$500,N10)","v":7},{"$f":"O10/$Q$4","v":4.6052631578947366E-2},{"$f":"IF(P10=0,0,(P10*((LOG(P10))/LOG(2))))","v":-0.20450005355067019},null,null,{"$f":"N10","v":1122},{"$f":"COUNTIF(L7:L31,T10)","v":0},{"$f":"U10/(W4-U20)","v":0},{"$f":"IF(V10=0,0,(V10*((LOG(V10))/LOG(2))))","v":0},null,{"$f":"N10","v":1122},{"$f":"COUNTIF(L32:L57,Y10)","v":0},{"$f":"Z10/(AB4-Z20)","v":0},{"$f":"IF(AA10=0,0,(AA10*((LOG(AA10))/LOG(2))))","v":0},null,{"$f":"N10","v":1122},{"$f":"COUNTIF(L58:L82,AD10)","v":1},{"$f":"AE10/(AG4-AE20)","v":4.1666666666666664E-2},{"$f":"IF(AF10=0,0,(AF10*((LOG(AF10))/LOG(2))))","v":-0.19104010419671485},null,{"$f":"N10","v":1122},{"$f":"COUNTIF(L83:L107,AI10)","v":2},{"$f":"AJ10/(AL4-AJ20)","v":0.08},{"$f":"IF(AK10=0,0,(AK10*((LOG(AK10))/LOG(2))))","v":-0.29150849518197797},null,{"$f":"N10","v":1122},{"$f":"COUNTIF(L108:L133,AN10)","v":1},{"$f":"AO10/(AQ4-AO20)","v":4.1666666666666664E-2},{"$f":"IF(AP10=0,0,(AP10*((LOG(AP10))/LOG(2))))","v":-0.19104010419671485},null,{"$f":"N10","v":1122},{"$f":"COUNTIF(L134:L158,AS10)","v":3},{"$f":"AT10/(AV4-AT20)","v":0.12},{"$f":"IF(AU10=0,0,(AU10*((LOG(AU10))/LOG(2))))","v":-0.36706724268642821}]
[21,742,21,764,22,792,23,811,null,null,0,2222,null,1211,{"$f":"COUNTIF($L$7:$L$500,N11)","v":3},{"$f":"O11/$Q$4","v":1.9736842105263157E-2},{"$f":"IF(P11=0,0,(P11*((LOG(P11))/LOG(2))))","v":-0.11176904630373216},null,null,{"$f":"N11","v":1211},{"$f":"COUNTIF(L7:L31,T11)","v":1},{"$f":"U11/(W4-U20)","v":4.3478260869565216E-2},{"$f":"IF(V11=0,0,(V11*((LOG(V11))/LOG(2))))","v":-0.19667660678508753},null,{"$f":"N11","v":1211},{"$f":"COUNTIF(L32:L57,Y11)","v":1},{"$f":"Z11/(AB4-Z20)","v":4.3478260869565216E-2},{"$f":"IF(AA11=0,0,(AA11*((LOG(AA11))/LOG(2))))","v":-0.19667660678508753},null,{"$f":"N11","v":1211},{"$f":"COUNTIF(L58:L82,AD11)","v":0},{"$f":"AE11/(AG4-AE20)","v":0},{"$f":"IF(AF11=0,0,(AF11*((LOG(AF11))/LOG(2))))","v":0},null,{"$f":"N11","v":1211},{"$f":"COUNTIF(L83:L107,AI11)","v":1},{"$f":"AJ11/(AL4-AJ20)","v":0.04},{"$f":"IF(AK11=0,0,(AK11*((LOG(AK11))/LOG(2))))","v":-0.18575424759098899},null,{"$f":"N11","v":1211},{"$f":"COUNTIF(L108:L133,AN11)","v":0},{"$f":"AO11/(AQ4-AO20)","v":0},{"$f":"IF(AP11=0,0,(AP11*((LOG(AP11))/LOG(2))))","v":0},null,{"$f":"N11","v":1211},{"$f":"COUNTIF(L134:L158,AS11)","v":0},{"$f":"AT11/(AV4-AT20)","v":0},{"$f":"IF(AU11=0,0,(AU11*((LOG(AU11))/LOG(2))))","v":0}]
[12,938,23,952,13,964,23,975,null,null,0,1212,null,1212,{"$f":"COUNTIF($L$7:$L$500,N12)","v":26},{"$f":"O12/$Q$4","v":0.17105263157894737},{"$f":"IF(P12=0,0,(P12*((LOG(P12))/LOG(2))))","v":-0.43575449130174226},null,null,{"$f":"N12","v":1212},{"$f":"COUNTIF(L7:L31,T12)","v":5},{"$f":"U12/(W4-U20)","v":0.21739130434782608},{"$f":"IF(V12=0,0,(V12*((LOG(V12))/LOG(2))))","v":-0.47861605677601093},null,{"$f":"N12","v":1212},{"$f":"COUNTIF(L32:L57,Y12)","v":0},{"$f":"Z12/(AB4-Z20)","v":0},{"$f":"IF(AA12=0,0,(AA12*((LOG(AA12))/LOG(2))))","v":0},null,{"$f":"N12","v":1212},{"$f":"COUNTIF(L58:L82,AD12)","v":4},{"$f":"AE12/(AG4-AE20)","v":0.16666666666666666},{"$f":"IF(AF12=0,0,(AF12*((LOG(AF12))/LOG(2))))","v":-0.43082708345352599},null,{"$f":"N12","v":1212},{"$f":"COUNTIF(L83:L107,AI12)","v":6},{"$f":"AJ12/(AL4-AJ20)","v":0.24},{"$f":"IF(AK12=0,0,(AK12*((LOG(AK12))/LOG(2))))","v":-0.49413448537285637},null,{"$f":"N12","v":1212},{"$f":"COUNTIF(L108:L133,AN12)","v":5},{"$f":"AO12/(AQ4-AO20)","v":0.20833333333333334},{"$f":"IF(AP12=0,0,(AP12*((LOG(AP12))/LOG(2))))","v":-0.47146550121537367},null,{"$f":"N12","v":1212},{"$f":"COUNTIF(L134:L158,AS12)","v":6},{"$f":"AT12/(AV4-AT20)","v":0.24},{"$f":"IF(AU12=0,0,(AU12*((LOG(AU12))/LOG(2))))","v":-0.49413448537285637}]
[21,1081,21,1119,11,1131,21,1143,null,null,0,2212,null,1221,{"$f":"COUNTIF($L$7:$L$500,N13)","v":10},{"$f":"O13/$Q$4","v":6.5789473684210523E-2},{"$f":"IF(P13=0,0,(P13*((LOG(P13))/LOG(2))))","v":-0.25828943543133048},null,null,{"$f":"N13","v":1221},{"$f":"COUNTIF(L7:L31,T13)","v":1},{"$f":"U13/(W4-U20)","v":4.3478260869565216E-2},{"$f":"IF(V13=0,0,(V13*((LOG(V13))/LOG(2))))","v":-0.19667660678508753},null,{"$f":"N13","v":1221},{"$f":"COUNTIF(L32:L57,Y13)","v":3},{"$f":"Z13/(AB4-Z20)","v":0.13043478260869565},{"$f":"IF(AA13=0,0,(AA13*((LOG(AA13))/LOG(2))))","v":-0.3832955811307639},null,{"$f":"N13","v":1221},{"$f":"COUNTIF(L58:L82,AD13)","v":1},{"$f":"AE13/(AG4-AE20)","v":4.1666666666666664E-2},{"$f":"IF(AF13=0,0,(AF13*((LOG(AF13))/LOG(2))))","v":-0.19104010419671485},null,{"$f":"N13","v":1221},{"$f":"COUNTIF(L83:L107,AI13)","v":3},{"$f":"AJ13/(AL4-AJ20)","v":0.12},{"$f":"IF(AK13=0,0,(AK13*((LOG(AK13))/LOG(2))))","v":-0.36706724268642821},null,{"$f":"N13","v":1221},{"$f":"COUNTIF(L108:L133,AN13)","v":1},{"$f":"AO13/(AQ4-AO20)","v":4.1666666666666664E-2},{"$f":"IF(AP13=0,0,(AP13*((LOG(AP13))/LOG(2))))","v":-0.19104010419671485},null,{"$f":"N13","v":1221},{"$f":"COUNTIF(L134:L158,AS13)","v":1},{"$f":"AT13/(AV4-AT20)","v":0.04},{"$f":"IF(AU13=0,0,(AU13*((LOG(AU13))/LOG(2))))","v":-0.18575424759098899}]
[21,1248,12,1264,13,1286,23,1299,null,null,0,2112,null,1222,{"$f":"COUNTIF($L$7:$L$500,N14)","v":4},{"$f":"O14/$Q$4","v":2.6315789473684209E-2},{"$f":"IF(P14=0,0,(P14*((LOG(P14))/LOG(2))))","v":-0.13810335561693646},null,null,{"$f":"N14","v":1222},{"$f":"COUNTIF(L7:L31,T14)","v":0},{"$f":"U14/(W4-U20)","v":0},{"$f":"IF(V14=0,0,(V14*((LOG(V14))/LOG(2))))","v":0},null,{"$f":"N14","v":1222},{"$f":"COUNTIF(L32:L57,Y14)","v":1},{"$f":"Z14/(AB4-Z20)","v":4.3478260869565216E-2},{"$f":"IF(AA14=0,0,(AA14*((LOG(AA14))/LOG(2))))","v":-0.19667660678508753},null,{"$f":"N14","v":1222},{"$f":"COUNTIF(L58:L82,AD14)","v":0},{"$f":"AE14/(AG4-AE20)","v":0},{"$f":"IF(AF14=0,0,(AF14*((LOG(AF14))/LOG(2))))","v":0},null,{"$f":"N14","v":1222},{"$f":"COUNTIF(L83:L107,AI14)","v":1},{"$f":"AJ14/(AL4-AJ20)","v":0.04},{"$f":"IF(AK14=0,0,(AK14*((LOG(AK14))/LOG(2))))","v":-0.18575424759098899},null,{"$f":"N14","v":1222},{"$f":"COUNTIF(L108:L133,AN14)","v":2},{"$f":"AO14/(AQ4-AO20)","v":8.3333333333333329E-2},{"$f":"IF(AP14=0,0,(AP14*((LOG(AP14))/LOG(2))))","v":-0.29874687506009634},null,{"$f":"N14","v":1222},{"$f":"COUNTIF(L134:L158,AS14)","v":0},{"$f":"AT14/(AV4-AT20)","v":0},{"$f":"IF(AU14=0,0,(AU14*((LOG(AU14))/LOG(2))))","v":0}]
[21,1415,21,1440,11,1455,21,1465,null,null,0,2212,null,2111,{"$f":"COUNTIF($L$7:$L$500,N15)","v":4},{"$f":"O15/$Q$4","v":2.6315789473684209E-2},{"$f":"IF(P15=0,0,(P15*((LOG(P15))/LOG(2))))","v":-0.13810335561693646},null,null,{"$f":"N15","v":2111},{"$f":"COUNTIF(L7:L31,T15)","v":1},{"$f":"U15/(W4-U20)","v":4.3478260869565216E-2},{"$f":"IF(V15=0,0,(V15*((LOG(V15))/LOG(2))))","v":-0.19667660678508753},null,{"$f":"N15","v":2111},{"$f":"COUNTIF(L32:L57,Y15)","v":2},{"$f":"Z15/(AB4-Z20)","v":8.6956521739130432E-2},{"$f":"IF(AA15=0,0,(AA15*((LOG(AA15))/LOG(2))))","v":-0.30639669183104457},null,{"$f":"N15","v":2111},{"$f":"COUNTIF(L58:L82,AD15)","v":1},{"$f":"AE15/(AG4-AE20)","v":4.1666666666666664E-2},{"$f":"IF(AF15=0,0,(AF15*((LOG(AF15))/LOG(2))))","v":-0.19104010419671485},null,{"$f":"N15","v":2111},{"$f":"COUNTIF(L83:L107,AI15)","v":0},{"$f":"AJ15/(AL4-AJ20)","v":0},{"$f":"IF(AK15=0,0,(AK15*((LOG(AK15))/LOG(2))))","v":0},null,{"$f":"N15","v":2111},{"$f":"COUNTIF(L108:L133,AN15)","v":0},{"$f":"AO15/(AQ4-AO20)","v":0},{"$f":"IF(AP15=0,0,(AP15*((LOG(AP15))/LOG(2))))","v":0},null,{"$f":"N15","v":2111},{"$f":"COUNTIF(L134:L158,AS15)","v":0},{"$f":"AT15/(AV4-AT20)","v":0},{"$f":"IF(AU15=0,0,(AU15*((LOG(AU15))/LOG(2))))","v":0}]
[21,1559,12,1574,24,1599,14,1611,null,null,0,2121,null,2112,{"$f":"COUNTIF($L$7:$L$500,N16)","v":20},{"$f":"O16/$Q$4","v":0.13157894736842105},{"$f":"IF(P16=0,0,(P16*((LOG(P16))/LOG(2))))","v":-0.38499992349423984},null,null,{"$f":"N16","v":2112},{"$f":"COUNTIF(L7:L31,T16)","v":3},{"$f":"U16/(W4-U20)","v":0.13043478260869565},{"$f":"IF(V16=0,0,(V16*((LOG(V16))/LOG(2))))","v":-0.3832955811307639},null,{"$f":"N16","v":2112},{"$f":"COUNTIF(L32:L57,Y16)","v":6},{"$f":"Z16/(AB4-Z20)","v":0.2608695652173913},{"$f":"IF(AA16=0,0,(AA16*((LOG(AA16))/LOG(2))))","v":-0.50572159704413644},null,{"$f":"N16","v":2112},{"$f":"COUNTIF(L58:L82,AD16)","v":4},{"$f":"AE16/(AG4-AE20)","v":0.16666666666666666},{"$f":"IF(AF16=0,0,(AF16*((LOG(AF16))/LOG(2))))","v":-0.43082708345352599},null,{"$f":"N16","v":2112},{"$f":"COUNTIF(L83:L107,AI16)","v":2},{"$f":"AJ16/(AL4-AJ20)","v":0.08},{"$f":"IF(AK16=0,0,(AK16*((LOG(AK16))/LOG(2))))","v":-0.29150849518197797},null,{"$f":"N16","v":2112},{"$f":"COUNTIF(L108:L133,AN16)","v":2},{"$f":"AO16/(AQ4-AO20)","v":8.3333333333333329E-2},{"$f":"IF(AP16=0,0,(AP16*((LOG(AP16))/LOG(2))))","v":-0.29874687506009634},null,{"$f":"N16","v":2112},{"$f":"COUNTIF(L134:L158,AS16)","v":3},{"$f":"AT16/(AV4-AT20)","v":0.12},{"$f":"IF(AU16=0,0,(AU16*((LOG(AU16))/LOG(2))))","v":-0.36706724268642821}]
[12,1735,14,1762,24,1780,14,1793,null,null,0,1121,null,2121,{"$f":"COUNTIF($L$7:$L$500,N17)","v":28},{"$f":"O17/$Q$4","v":0.18421052631578946},{"$f":"IF(P17=0,0,(P17*((LOG(P17))/LOG(2))))","v":-0.44957916157110184},null,null,{"$f":"N17","v":2121},{"$f":"COUNTIF(L7:L31,T17)","v":5},{"$f":"U17/(W4-U20)","v":0.21739130434782608},{"$f":"IF(V17=0,0,(V17*((LOG(V17))/LOG(2))))","v":-0.47861605677601093},null,{"$f":"N17","v":2121},{"$f":"COUNTIF(L32:L57,Y17)","v":4},{"$f":"Z17/(AB4-Z20)","v":0.17391304347826086},{"$f":"IF(AA17=0,0,(AA17*((LOG(AA17))/LOG(2))))","v":-0.43888034018382832},null,{"$f":"N17","v":2121},{"$f":"COUNTIF(L58:L82,AD17)","v":1},{"$f":"AE17/(AG4-AE20)","v":4.1666666666666664E-2},{"$f":"IF(AF17=0,0,(AF17*((LOG(AF17))/LOG(2))))","v":-0.19104010419671485},null,{"$f":"N17","v":2121},{"$f":"COUNTIF(L83:L107,AI17)","v":7},{"$f":"AJ17/(AL4-AJ20)","v":0.28000000000000003},{"$f":"IF(AK17=0,0,(AK17*((LOG(AK17))/LOG(2))))","v":-0.51422035496079388},null,{"$f":"N17","v":2121},{"$f":"COUNTIF(L108:L133,AN17)","v":5},{"$f":"AO17/(AQ4-AO20)","v":0.20833333333333334},{"$f":"IF(AP17=0,0,(AP17*((LOG(AP17))/LOG(2))))","v":-0.47146550121537367},null,{"$f":"N17","v":2121},{"$f":"COUNTIF(L134:L158,AS17)","v":6},{"$f":"AT17/(AV4-AT20)","v":0.24},{"$f":"IF(AU17=0,0,(AU17*((LOG(AU17))/LOG(2))))","v":-0.49413448537285637}]
[21,1904,12,1925,13,1948,14,1971,null,null,0,2111,null,2122,{"$f":"COUNTIF($L$7:$L$500,N18)","v":10},{"$f":"O18/$Q$4","v":6.5789473684210523E-2},{"$f":"IF(P18=0,0,(P18*((LOG(P18))/LOG(2))))","v":-0.25828943543133048},null,null,{"$f":"N18","v":2122},{"$f":"COUNTIF(L7:L31,T18)","v":0},{"$f":"U18/(W4-U20)","v":0},{"$f":"IF(V18=0,0,(V18*((LOG(V18))/LOG(2))))","v":0},null,{"$f":"N18","v":2122},{"$f":"COUNTIF(L32:L57,Y18)","v":1},{"$f":"Z18/(AB4-Z20)","v":4.3478260869565216E-2},{"$f":"IF(AA18=0,0,(AA18*((LOG(AA18))/LOG(2))))","v":-0.19667660678508753},null,{"$f":"N18","v":2122},{"$f":"COUNTIF(L58:L82,AD18)","v":3},{"$f":"AE18/(AG4-AE20)","v":0.125},{"$f":"IF(AF18=0,0,(AF18*((LOG(AF18))/LOG(2))))","v":-0.375},null,{"$f":"N18","v":2122},{"$f":"COUNTIF(L83:L107,AI18)","v":2},{"$f":"AJ18/(AL4-AJ20)","v":0.08},{"$f":"IF(AK18=0,0,(AK18*((LOG(AK18))/LOG(2))))","v":-0.29150849518197797},null,{"$f":"N18","v":2122},{"$f":"COUNTIF(L108:L133,AN18)","v":1},{"$f":"AO18/(AQ4-AO20)","v":4.1666666666666664E-2},{"$f":"IF(AP18=0,0,(AP18*((LOG(AP18))/LOG(2))))","v":-0.19104010419671485},null,{"$f":"N18","v":2122},{"$f":"COUNTIF(L134:L158,AS18)","v":3},{"$f":"AT18/(AV4-AT20)","v":0.12},{"$f":"IF(AU18=0,0,(AU18*((LOG(AU18))/LOG(2))))","v":-0.36706724268642821}]
[12,2108,23,2120,13,2140,14,2164,null,null,0,1211,null,2211,{"$f":"COUNTIF($L$7:$L$500,N19)","v":0},{"$f":"O19/$Q$4","v":0},{"$f":"IF(P19=0,0,(P19*((LOG(P19))/LOG(2))))","v":0},null,null,{"$f":"N19","v":2211},{"$f":"COUNTIF(L7:L31,T19)","v":0},{"$f":"U19/(W4-U20)","v":0},{"$f":"IF(V19=0,0,(V19*((LOG(V19))/LOG(2))))","v":0},null,{"$f":"N19","v":2211},{"$f":"COUNTIF(L32:L57,Y19)","v":0},{"$f":"Z19/(AB4-Z20)","v":0},{"$f":"IF(AA19=0,0,(AA19*((LOG(AA19))/LOG(2))))","v":0},null,{"$f":"N19","v":2211},{"$f":"COUNTIF(L58:L82,AD19)","v":0},{"$f":"AE19/(AG4-AE20)","v":0},{"$f":"IF(AF19=0,0,(AF19*((LOG(AF19))/LOG(2))))","v":0},null,{"$f":"N19","v":2211},{"$f":"COUNTIF(L83:L107,AI19)","v":0},{"$f":"AJ19/(AL4-AJ20)","v":0},{"$f":"IF(AK19=0,0,(AK19*((LOG(AK19))/LOG(2))))","v":0},null,{"$f":"N19","v":2211},{"$f":"COUNTIF(L108:L133,AN19)","v":0},{"$f":"AO19/(AQ4-AO20)","v":0},{"$f":"IF(AP19=0,0,(AP19*((LOG(AP19))/LOG(2))))","v":0},null,{"$f":"N19","v":2211},{"$f":"COUNTIF(L134:L158,AS19)","v":0},{"$f":"AT19/(AV4-AT20)","v":0},{"$f":"IF(AU19=0,0,(AU19*((LOG(AU19))/LOG(2))))","v":0}]
[21,2267,12,2282,24,2295,14,2308,null,null,0,2121,null,2212,{"$f":"COUNTIF($L$7:$L$500,N20)","v":8},{"$f":"O20/$Q$4","v":5.2631578947368418E-2},{"$f":"IF(P20=0,0,(P20*((LOG(P20))/LOG(2))))","v":-0.22357513228650452},null,null,{"$f":"N20","v":2212},{"$f":"COUNTIF(L7:L31,T20)","v":2},null,null,null,{"$f":"N20","v":2212},{"$f":"COUNTIF(L32:L57,Y20)","v":3},null,null,null,{"$f":"N20","v":2212},{"$f":"COUNTIF(L58:L82,AD20)","v":1},null,null,null,{"$f":"N20","v":2212},{"$f":"COUNTIF(L83:L107,AI20)","v":0},null,null,null,{"$f":"N20","v":2212},{"$f":"COUNTIF(L108:L133,AN20)","v":2},null,null,null,{"$f":"N20","v":2212},{"$f":"COUNTIF(L134:L158,AS20)","v":0}]
[12,2443,23,2454,13,2471,23,2488,null,null,0,1212,null,2221,{"$f":"COUNTIF($L$7:$L$500,N21)","v":1},{"$f":"O21/$Q$4","v":6.5789473684210523E-3},{"$f":"IF(P21=0,0,(P21*((LOG(P21))/LOG(2))))","v":-4.7683733641076219E-2},null,null,{"$f":"N21","v":2221},{"$f":"COUNTIF(L7:L31,T21)","v":0},{"$f":"U21/(W4-U20)","v":0},{"$f":"IF(V21=0,0,(V21*((LOG(V21))/LOG(2))))","v":0},null,{"$f":"N21","v":2221},{"$f":"COUNTIF(L32:L57,Y21)","v":0},{"$f":"Z21/(AB4-Z20)","v":0},{"$f":"IF(AA21=0,0,(AA21*((LOG(AA21))/LOG(2))))","v":0},null,{"$f":"N21","v":2221},{"$f":"COUNTIF(L58:L82,AD21)","v":0},{"$f":"AE21/(AG4-AE20)","v":0},{"$f":"IF(AF21=0,0,(AF21*((LOG(AF21))/LOG(2))))","v":0},null,{"$f":"N21","v":2221},{"$f":"COUNTIF(L83:L107,AI21)","v":1},{"$f":"AJ21/(AL4-AJ20)","v":0.04},{"$f":"IF(AK21=0,0,(AK21*((LOG(AK21))/LOG(2))))","v":-0.18575424759098899},null,{"$f":"N21","v":2221},{"$f":"COUNTIF(L108:L133,AN21)","v":0},{"$f":"AO21/(AQ4-AO20)","v":0},{"$f":"IF(AP21=0,0,(AP21*((LOG(AP21))/LOG(2))))","v":0},null,{"$f":"N21","v":2221},{"$f":"COUNTIF(L134:L158,AS21)","v":0},{"$f":"AT21/(AV4-AT20)","v":0},{"$f":"IF(AU21=0,0,(AU21*((LOG(AU21))/LOG(2))))","v":0}]
[21,2590,12,2614,13,2622,23,2630,null,null,0,2112,null,2222,{"$f":"COUNTIF($L$7:$L$500,N22)","v":1},{"$f":"O22/$Q$4","v":6.5789473684210523E-3},{"$f":"IF(P22=0,0,(P22*((LOG(P22))/LOG(2))))","v":-4.7683733641076219E-2},null,null,{"$f":"N22","v":2222},{"$f":"COUNTIF(L7:L31,T22)","v":1},{"$f":"U22/(W4-U20)","v":4.3478260869565216E-2},{"$f":"IF(V22=0,0,(V22*((LOG(V22))/LOG(2))))","v":-0.19667660678508753},null,{"$f":"N22","v":2222},{"$f":"COUNTIF(L32:L57,Y22)","v":0},{"$f":"Z22/(AB4-Z20)","v":0},{"$f":"IF(AA22=0,0,(AA22*((LOG(AA22))/LOG(2))))","v":0},null,{"$f":"N22","v":2222},{"$f":"COUNTIF(L58:L82,AD22)","v":0},{"$f":"AE22/(AG4-AE20)","v":0},{"$f":"IF(AF22=0,0,(AF22*((LOG(AF22))/LOG(2))))","v":0},null,{"$f":"N22","v":2222},{"$f":"COUNTIF(L83:L107,AI22)","v":0},{"$f":"AJ22/(AL4-AJ20)","v":0},{"$f":"IF(AK22=0,0,(AK22*((LOG(AK22))/LOG(2))))","v":0},null,{"$f":"N22","v":2222},{"$f":"COUNTIF(L108:L133,AN22)","v":0},{"$f":"AO22/(AQ4-AO20)","v":0},{"$f":"IF(AP22=0,0,(AP22*((LOG(AP22))/LOG(2))))","v":0},null,{"$f":"N22","v":2222},{"$f":"COUNTIF(L134:L158,AS22)","v":0},{"$f":"AT22/(AV4-AT20)","v":0},{"$f":"IF(AU22=0,0,(AU22*((LOG(AU22))/LOG(2))))","v":0}]
[21,2737,12,2754,24,2766,14,2778,null,null,0,2121,null,null,null,{"$f":"SUM(P7:P22)","v":0.99999999999999978},{"$f":"-SUM(Q7:Q22)","v":3.3995998812353192},null,null,null,null,{"$f":"SUM(V7:V22)","v":0.99999999999999989},{"$f":"-SUM(W7:W22)","v":2.8025267853842348},null,null,null,{"$f":"SUM(AA7:AA22)","v":0.99999999999999989},{"$f":"-SUM(AB7:AB22)","v":2.9140163035068447},null,null,null,{"$f":"SUM(AF7:AF22)","v":0.99999999999999989},{"$f":"-SUM(AG7:AG22)","v":3.0383201891060003},null,null,null,{"$f":"SUM(AK7:AK22)","v":1},{"$f":"-SUM(AL7:AL22)","v":2.807210311338979},null,null,null,{"$f":"SUM(AP7:AP22)","v":1.0000000000000002},{"$f":"-SUM(AQ7:AQ22)","v":2.8045851693377997},null,null,null,{"$f":"SUM(AU7:AU22)","v":1},{"$f":"-SUM(AV7:AV22)","v":2.6422921890824149}]
[21,2896,12,2912,24,2924,14,2936,null,null,0,2121,null,null,null,"U=",{"$f":"Q23/(LOG(Q4)/LOG(2))","v":0.46904440958186738},null,null,null,null,"U1=",{"$f":"W23/(LOG(W4)/LOG(2))","v":0.60349129491888642},null,null,null,"U2=",{"$f":"AB23/(LOG(AB4)/LOG(2))","v":0.61994546856124055},null,null,null,"U3=",{"$f":"AG23/(LOG(AG4)/LOG(2))","v":0.65426664068453633},null,null,null,"U4=",{"$f":"AL23/(LOG(AL4)/LOG(2))","v":0.60449983733780477},null,null,null,"U5=",{"$f":"AQ23/(LOG(AQ4)/LOG(2))","v":0.59666442663090768},null,null,null,"U6=",{"$f":"AV23/(LOG(AV4)/LOG(2))","v":0.56898665270911264}]
[12,3043,14,3049,24,3060,14,3081,null,null,0,1121]
[21,3187,12,3228,13,3256,23,3268,null,null,0,2112]
[12,3391,23,3403,13,3415,23,3426,null,null,0,1212,null,"Total Target Seq"]
[12,3547,23,3558,13,3570,23,3579,null,null,0,1212,null,{"$f":"COUNTIF(L7:L158,G3)","v":8},null,25,26,25,25,26,25]
[12,3696,23,3711,13,3726,23,3737,null,null,0,1212,null,null,null,"% of reinforcement given in 6 equal intervals based on number of trials "]
[12,3872,23,3890,24,3902,14,3919,null,null,0,1221,null,null,null,"%_1","%_2","%_3","%_4","%_5","%_6"]
[12,4046,14,4076,24,4085,14,4103,null,null,0,1121,null,null,"target sequence",{"$f":"$G$3","v":2212},{"$f":"$G$3","v":2212},{"$f":"$G$3","v":2212},{"$f":"$G$3","v":2212},{"$f":"$G$3","v":2212},{"$f":"$G$3","v":2212}]
[21,4241,12,4254,24,4282,14,4296,null,null,0,2121,null,null,"total reinforcement",{"$f":"U20","v":2},{"$f":"Z20","v":3},{"$f":"AE20","v":1},{"$f":"AJ20","v":0},{"$f":"AO20","v":2},{"$f":"AT20","v":0}]
[21,4408,12,4429,13,4438,14,4461,null,null,0,2111,null,null,"% target"]
[21,4570,12,4586,24,4598,14,4610,null,null,0,2121,null,null,"CCRF"]
[12,4731,14,4753,24,4763,14,4778,null,null,0,1121,null,null,"% CCRf"]
[21,4886,12,4899,24,4916,23,4933,null,null,0,2122,null,null,"average response rate",{"$f":"H31/P28","v":164.12},{"$f":"(H57-H31)/Q28","v":157.5},{"$f":"(H82-H57)/R28","v":148.68},{"$f":"(H107-H82)/S28","v":154.63999999999999},{"$f":"(H133-H107)/T28","v":159.53846153846155},{"$f":"(H158-H133)/U28","v":160.16}]
[21,5049,12,5064,13,5088,23,5099,null,null,0,2112]
[21,5203,12,5221,13,5227,23,5236,null,null,0,2112]
[21,5344,12,5354,13,5400,23,5408,null,null,0,2112]
[21,5512,12,5543,24,5561,14,5588,null,null,0,2121]
[21,5693,21,5711,11,5724,21,5732,null,null,0,2212]
[12,5824,14,5842,24,5856,14,5867,null,null,0,1121]
[21,5970,12,5985,13,6009,23,6034,null,null,0,2112]
[21,6134,12,6149,13,6171,23,6179,null,null,0,2112]
[12,6297,23,6311,24,6323,23,6330,null,null,0,1222]
[12,6447,23,6457,24,6463,14,6478,null,null,0,1221]
[12,6598,23,6606,13,6630,14,6635,null,null,0,1211]
[12,6754,23,6765,24,6780,14,6792,null,null,0,1221]
[21,6916,21,6935,11,6950,21,6963,null,null,0,2212]
[12,7058,14,7069,13,7077,23,7089,null,null,0,1112]
[21,7205,12,7221,24,7233,14,7247,null,null,0,2121]
[12,7381,23,7400,24,7410,14,7425,null,null,0,1221]
[21,7533,12,7549,13,7553,23,7567,null,null,0,2112]
[12,7686,14,7690,13,7715,23,7724,null,null,0,1112]
[21,7828,21,7845,11,7858,21,7871,null,null,0,2212]
[12,7970,14,8001,24,8012,14,8029,null,null,0,1121]
[21,8135,12,8166,13,8194,14,8198,null,null,0,2111]
[21,8334,12,8353,24,8375,23,8385,null,null,0,2122]
[12,8511,14,8537,13,8542,23,8553,null,null,0,1112]
[21,8659,21,8676,11,8691,21,8704,null,null,0,2212]
[21,8799,12,8812,13,8838,23,8846,null,null,0,2112]
[21,8956,12,8967,13,8972,23,8981,null,null,0,2112]
[21,9085,12,9104,24,9117,23,9122,null,null,0,2122]
[12,9242,23,9258,13,9271,23,9280,null,null,0,1212]
[12,9408,14,9417,24,9430,14,9447,null,null,0,1121]
[12,9564,23,9573,13,9586,23,9599,null,null,0,1212]
[21,9702,12,9718,24,9726,23,9736,null,null,0,2122]
[12,9837,23,9849,13,9861,23,9872,null,null,0,1212]
[12,9986,14,10006,24,10015,14,10032,null,null,0,1121]
[21,10136,12,10149,24,10165,14,10179,null,null,0,2121]
[21,10278,12,10294,13,10299,23,10308,null,null,0,2112]
[12,10408,14,10434,24,10443,23,10455,null,null,0,1122]
[12,10561,14,10570,13,10580,14,10589,null,null,0,1111]
[12,10687,14,10693,13,10720,23,10731,null,null,0,1112]
[12,10840,23,10851,24,10858,14,10876,null,null,0,1221]
[21,10978,12,10991,13,10999,14,11004,null,null,0,2111]
[12,11118,14,11123,13,11128,23,11142,null,null,0,1112]
[21,11247,12,11262,13,11270,23,11286,null,null,0,2112]
[12,11405,23,11419,13,11435,23,11444,null,null,0,1212]
[12,11560,14,11564,24,11586,14,11598,null,null,0,1121]
[12,11717,14,11735,13,11758,23,11769,null,null,0,1112]
[12,11885,14,11894,13,11902,23,11915,null,null,0,1112]
[12,12018,14,12042,24,12056,23,12073,null,null,0,1122]
[12,12201,23,12210,24,12216,14,12233,null,null,0,1221]
[21,12348,21,12355,22,12361,14,12372,null,null,0,2221]
[21,12475,12,12484,24,12493,14,12508,null,null,0,2121]
[21,12607,12,12622,13,12656,23,12671,null,null,0,2112]
[21,12772,12,12785,13,12808,23,12819,null,null,0,2112]
[21,12922,12,12936,24,12949,23,12955,null,null,0,2122]
[12,13107,23,13121,13,13137,23,13145,null,null,0,1212]
[12,13261,23,13270,24,13276,23,13296,null,null,0,1222]
[21,13398,12,13415,24,13434,14,13446,null,null,0,2121]
[12,13564,23,13573,13,13586,23,13599,null,null,0,1212]
[21,13702,12,13739,24,13748,14,13761,null,null,0,2121]
[21,13865,12,13893,24,13904,14,13919,null,null,0,2121]
[12,14032,23,14055,13,14067,23,14077,null,null,0,1212]
[21,14209,12,14221,24,14230,14,14242,null,null,0,2121]
[12,14360,23,14369,13,14397,23,14406,null,null,0,1212]
[21,14509,12,14530,24,14542,14,14560,null,null,0,2121]
[12,14677,23,14685,13,14698,14,14705,null,null,0,1211]
[12,14825,23,14833,24,14868,14,14883,null,null,0,1221]
[12,15001,23,15012,13,15024,23,15032,null,null,0,1212]
[21,15153,12,15165,24,15175,14,15188,null,null,0,2121]
[12,15304,23,15322,24,15327,14,15340,null,null,0,1221]
[21,15449,12,15461,24,15470,23,15475,null,null,0,2122]
[12,15593,14,15618,24,15627,23,15633,null,null,0,1122]
[12,15748,23,15759,13,15772,23,15781,null,null,0,1212]
[21,15904,21,15909,11,15922,21,15930,null,null,0,2212]
[12,16050,14,16076,24,16090,14,16106,null,null,0,1121]
[21,16208,12,16220,13,16229,23,16242,null,null,0,2112]
[12,16363,23,16372,13,16389,23,16403,null,null,0,1212]
[12,16523,14,16551,24,16562,14,16575,null,null,0,1121]
[21,16677,12,16697,24,16708,14,16723,null,null,0,2121]
[21,16844,12,16863,24,16876,14,16891,null,null,0,2121]
[21,16993,21,17016,11,17029,21,17037,null,null,0,2212]
[12,17145,23,17160,13,17176,23,17190,null,null,0,1212]
[12,17311,23,17319,24,17355,23,17372,null,null,0,1222]
[12,17495,14,17519,24,17528,23,17537,null,null,0,1122]
[21,17640,12,17653,24,17667,14,17683,null,null,0,2121]
[12,17806,23,17819,13,17831,23,17843,null,null,0,1212]
[21,17948,12,17961,24,17973,14,17985,null,null,0,2121]
[12,18101,14,18129,24,18144,14,18160,null,null,0,1121]
[12,18284,23,18297,24,18307,23,18316,null,null,0,1222]
[21,18443,12,18454,24,18463,14,18478,null,null,0,2121]
[21,18583,12,18597,13,18630,23,18639,null,null,0,2112]
[12,18743,14,18751,13,18785,14,18796,null,null,0,1111]
[12,18912,14,18937,24,18948,14,18961,null,null,0,1121]
[12,19064,14,19094,24,19105,14,19118,null,null,0,1121]
[12,19238,23,19253,24,19273,14,19291,null,null,0,1221]
[21,19394,12,19424,24,19435,23,19448,null,null,0,2122]
[12,19571,23,19588,13,19600,23,19611,null,null,0,1212]
[12,19735,23,19747,13,19761,23,19772,null,null,0,1212]
[12,19886,14,19894,24,19910,14,19929,null,null,0,1121]
[12,20050,14,20080,24,20094,14,20109,null,null,0,1121]
[12,20238,23,20254,13,20267,23,20278,null,null,0,1212]
[12,20398,14,20407,24,20426,23,20446,null,null,0,1122]
[21,20565,12,20585,24,20593,23,20599,null,null,0,2122]
[21,20701,12,20720,24,20733,14,20749,null,null,0,2121]
[12,20873,23,20882,13,20894,23,20904,null,null,0,1212]
[21,21007,12,21045,24,21057,14,21070,null,null,0,2121]
[12,21219,23,21233,24,21258,14,21272,null,null,0,1221]
[12,21395,23,21409,13,21422,23,21434,null,null,0,1212]
[21,21549,12,21565,24,21573,14,21586,null,null,0,2121]
[21,21696,12,21711,24,21725,14,21738,null,null,0,2121]
[21,21841,12,21862,24,21876,23,21884,null,null,0,2122]
[12,21999,14,22032,24,22041,23,22049,null,null,0,1122]
[12,22165,14,22202,24,22215,14,22228,null,null,0,1121]
[12,22344,14,22372,24,22381,23,22386,null,null,0,1122]
[21,22503,12,22520,24,22531,14,22544,null,null,0,2121]
[12,22662,23,22673,13,22686,23,22698,null,null,0,1212]
[12,22816,14,22824,24,22840,14,22853,null,null,0,1121]
[21,22970,12,22983,13,22993,23,23006,null,null,0,2112]
[12,23128,23,23139,13,23151,23,23160,null,null,0,1212]
[12,23271,23,23286,13,23298,23,23315,null,null,0,1212]
[21,23417,12,23444,13,23475,23,23492,null,null,0,2112]
[21,23607,12,23618,24,23628,14,23643,null,null,0,2121]
[21,23744,12,23762,13,23789,23,23802,null,null,0,2112]
[21,23908,12,23920,24,23929,23,23933,null,null,null,2122]

{"sheet":"!N124920.092","index":27,"n_rows":147,"n_cols":48,"rows_kept":147,"cut":false,"hidden":false,"merged":[[4,39,4,42],[5,39,5,40],[4,44,4,47],[5,44,5,45],[4,24,4,27],[5,24,5,25],[4,29,4,32],[5,29,5,30],[4,34,4,37],[5,34,5,35],[1,1,1,2],[5,13,5,14],[26,13,26,14],[27,13,27,14],[4,19,4,22],[5,19,5,20]]}
["Report for:!N124920.092"]
["Date:","<date>"]
["Hen:","<hen>",null,null,null,"Correct Sequence",{"$f":"Start!J2","v":2212},null,null,null,null,null,null,null,null,"Total Sequences in Data",{"$f":"4994-COUNTBLANK(L7:L5000)","v":141},null,null,null,null,"Total Sequences in Block Data",{"$f":"COUNTA(L7:L30)","v":24},null,null,null,"Total Sequences in Block Data",{"$f":"COUNTA(L31:L53)","v":23},null,null,null,"Total Sequences in Block Data",{"$f":"COUNTA(L54:L77)","v":24},null,null,null,"Total Sequences in Block Data",{"$f":"COUNTA(L78:L100)","v":23},null,null,null,"Total Sequences in Block Data",{"$f":"COUNTA(L101:L124)","v":24},null,null,null,"Total Sequences in Block Data",{"$f":"COUNTA(L125:L147)","v":23}]
[null,null,null,null,null,null,null,null,null,null,null,null,null,null,null,"Total Sequences in Summary",{"$f":"SUM(O7:O22)","v":141},null,null,null,null,"Total Sequences in Block Summary",{"$f":"SUM(U7:U22)","v":24},null,null,null,"Total Sequences in Block Summary",{"$f":"SUM(Z7:Z22)","v":23},null,null,null,"Total Sequences in Block Summary",{"$f":"SUM(AE7:AE22)","v":24},null,null,null,"Total Sequences in Block Summary",{"$f":"SUM(AJ7:AJ22)","v":23},null,null,null,"Total Sequences in Block Summary",{"$f":"SUM(AO7:AO22)","v":24},null,null,null,"Total Sequences in Block Summary",{"$f":"SUM(AT7:AT22)","v":23}]
[null,null,null,null,null,null,null,null,null,null,null,null,null,null,null,null,null,null,null,"Block 1",null,null,null,null,"Block 2",null,null,null,null,"Block 3",null,null,null,null,"Block 4",null,null,null,null,"Block 5",null,null,null,null,"Block 6"]
["Sequence\nComponent\n1","Time\n1","Sequence\nComponent\n2","Time\n2","Sequence\nComponent\n3","Time\n3","Sequence\nComponent\n4","Time\n4","Sequence\nComponent\n5","Time\n5","Correct?\n0=No 1=Yes","Sequence",null,"Frequency",null,"Relative Frequency","Variability",null,null,"Frequency",null,"Relative Frequency","Variability",null,"Frequency",null,"Relative Frequency","Variability",null,"Frequency",null,"Relative Frequency","Variability",null,"Frequency",null,"Relative Frequency","Variability",null,"Frequency",null,"Relative Frequency","Variability",null,"Frequency",null,"Relative Frequency","Variability"]
[21,55,12,95,24,112,23,129,null,null,0,2122,null,1111,{"$f":"COUNTIF($L$7:$L$500,N7)","v":2},{"$f":"O7/$Q$4","v":1.4184397163120567E-2},{"$f":"IF(P7=0,0,(P7*((LOG(P7))/LOG(2))))","v":-8.7085834785798497E-2},null,null,{"$f":"N7","v":1111},{"$f":"COUNTIF(L7:L30,T7)","v":0},{"$f":"U7/(W4-U20)","v":0},{"$f":"IF(V7=0,0,(V7*((LOG(V7))/LOG(2))))","v":0},null,{"$f":"N7","v":1111},{"$f":"COUNTIF(L31:L53,Y7)","v":0},{"$f":"Z7/(AB4-Z20)","v":0},{"$f":"IF(AA7=0,0,(AA7*((LOG(AA7))/LOG(2))))","v":0},null,{"$f":"N7","v":1111},{"$f":"COUNTIF(L54:L77,AD7)","v":0},{"$f":"AE7/(AG4-AE20)","v":0},{"$f":"IF(AF7=0,0,(AF7*((LOG(AF7))/LOG(2))))","v":0},null,{"$f":"N7","v":1111},{"$f":"COUNTIF(L78:L100,AI7)","v":2},{"$f":"AJ7/(AL4-AJ20)","v":8.6956521739130432E-2},{"$f":"IF(AK7=0,0,(AK7*((LOG(AK7))/LOG(2))))","v":-0.30639669183104457},null,{"$f":"N7","v":1111},{"$f":"COUNTIF(L101:L124,AN7)","v":0},{"$f":"AO7/(AQ4-AO20)","v":0},{"$f":"IF(AP7=0,0,(AP7*((LOG(AP7))/LOG(2))))","v":0},null,{"$f":"N7","v":1111},{"$f":"COUNTIF(L125:L147,AS7)","v":0},{"$f":"AT7/(AV4-AT20)","v":0},{"$f":"IF(AU7=0,0,(AU7*((LOG(AU7))/LOG(2))))","v":0}]
[21,272,21,293,11,307,21,316,null,null,0,2212,null,1112,{"$f":"COUNTIF($L$7:$L$500,N8)","v":5},{"$f":"O8/$Q$4","v":3.5460992907801421E-2},{"$f":"IF(P8=0,0,(P8*((LOG(P8))/LOG(2))))","v":-0.17083770416707203},null,null,{"$f":"N8","v":1112},{"$f":"COUNTIF(L7:L30,T8)","v":0},{"$f":"U8/(W4-U20)","v":0},{"$f":"IF(V8=0,0,(V8*((LOG(V8))/LOG(2))))","v":0},null,{"$f":"N8","v":1112},{"$f":"COUNTIF(L31:L53,Y8)","v":1},{"$f":"Z8/(AB4-Z20)","v":4.3478260869565216E-2},{"$f":"IF(AA8=0,0,(AA8*((LOG(AA8))/LOG(2))))","v":-0.19667660678508753},null,{"$f":"N8","v":1112},{"$f":"COUNTIF(L54:L77,AD8)","v":0},{"$f":"AE8/(AG4-AE20)","v":0},{"$f":"IF(AF8=0,0,(AF8*((LOG(AF8))/LOG(2))))","v":0},null,{"$f":"N8","v":1112},{"$f":"COUNTIF(L78:L100,AI8)","v":1},{"$f":"AJ8/(AL4-AJ20)","v":4.3478260869565216E-2},{"$f":"IF(AK8=0,0,(AK8*((LOG(AK8))/LOG(2))))","v":-0.19667660678508753},null,{"$f":"N8","v":1112},{"$f":"COUNTIF(L101:L124,AN8)","v":1},{"$f":"AO8/(AQ4-AO20)","v":4.7619047619047616E-2},{"$f":"IF(AP8=0,0,(AP8*((LOG(AP8))/LOG(2))))","v":-0.20915797251327431},null,{"$f":"N8","v":1112},{"$f":"COUNTIF(L125:L147,AS8)","v":2},{"$f":"AT8/(AV4-AT20)","v":9.5238095238095233E-2},{"$f":"IF(AU8=0,0,(AU8*((LOG(AU8))/LOG(2))))","v":-0.32307784978845333}]
[12,425,23,490,13,508,23,517,null,null,0,1212,null,1121,{"$f":"COUNTIF($L$7:$L$500,N9)","v":13},{"$f":"O9/$Q$4","v":9.2198581560283682E-2},{"$f":"IF(P9=0,0,(P9*((LOG(P9))/LOG(2))))","v":-0.31708121450602922},null,null,{"$f":"N9","v":1121},{"$f":"COUNTIF(L7:L30,T9)","v":2},{"$f":"U9/(W4-U20)","v":9.0909090909090912E-2},{"$f":"IF(V9=0,0,(V9*((LOG(V9))/LOG(2))))","v":-0.31449378351248153},null,{"$f":"N9","v":1121},{"$f":"COUNTIF(L31:L53,Y9)","v":2},{"$f":"Z9/(AB4-Z20)","v":8.6956521739130432E-2},{"$f":"IF(AA9=0,0,(AA9*((LOG(AA9))/LOG(2))))","v":-0.30639669183104457},null,{"$f":"N9","v":1121},{"$f":"COUNTIF(L54:L77,AD9)","v":3},{"$f":"AE9/(AG4-AE20)","v":0.13636363636363635},{"$f":"IF(AF9=0,0,(AF9*((LOG(AF9))/LOG(2))))","v":-0.39197306153401923},null,{"$f":"N9","v":1121},{"$f":"COUNTIF(L78:L100,AI9)","v":2},{"$f":"AJ9/(AL4-AJ20)","v":8.6956521739130432E-2},{"$f":"IF(AK9=0,0,(AK9*((LOG(AK9))/LOG(2))))","v":-0.30639669183104457},null,{"$f":"N9","v":1121},{"$f":"COUNTIF(L101:L124,AN9)","v":3},{"$f":"AO9/(AQ4-AO20)","v":0.14285714285714285},{"$f":"IF(AP9=0,0,(AP9*((LOG(AP9))/LOG(2))))","v":-0.40105070315108626},null,{"$f":"N9","v":1121},{"$f":"COUNTIF(L125:L147,AS9)","v":1},{"$f":"AT9/(AV4-AT20)","v":4.7619047619047616E-2},{"$f":"IF(AU9=0,0,(AU9*((LOG(AU9))/LOG(2))))","v":-0.20915797251327431}]
[21,656,21,668,11,681,21,690,null,null,0,2212,null,1122,{"$f":"COUNTIF($L$7:$L$500,N10)","v":5},{"$f":"O10/$Q$4","v":3.5460992907801421E-2},{"$f":"IF(P10=0,0,(P10*((LOG(P10))/LOG(2))))","v":-0.17083770416707203},null,null,{"$f":"N10","v":1122},{"$f":"COUNTIF(L7:L30,T10)","v":1},{"$f":"U10/(W4-U20)","v":4.5454545454545456E-2},{"$f":"IF(V10=0,0,(V10*((LOG(V10))/LOG(2))))","v":-0.20270143721078623},null,{"$f":"N10","v":1122},{"$f":"COUNTIF(L31:L53,Y10)","v":1},{"$f":"Z10/(AB4-Z20)","v":4.3478260869565216E-2},{"$f":"IF(AA10=0,0,(AA10*((LOG(AA10))/LOG(2))))","v":-0.19667660678508753},null,{"$f":"N10","v":1122},{"$f":"COUNTIF(L54:L77,AD10)","v":3},{"$f":"AE10/(AG4-AE20)","v":0.13636363636363635},{"$f":"IF(AF10=0,0,(AF10*((LOG(AF10))/LOG(2))))","v":-0.39197306153401923},null,{"$f":"N10","v":1122},{"$f":"COUNTIF(L78:L100,AI10)","v":0},{"$f":"AJ10/(AL4-AJ20)","v":0},{"$f":"IF(AK10=0,0,(AK10*((LOG(AK10))/LOG(2))))","v":0},null,{"$f":"N10","v":1122},{"$f":"COUNTIF(L101:L124,AN10)","v":0},{"$f":"AO10/(AQ4-AO20)","v":0},{"$f":"IF(AP10=0,0,(AP10*((LOG(AP10))/LOG(2))))","v":0},null,{"$f":"N10","v":1122},{"$f":"COUNTIF(L125:L147,AS10)","v":0},{"$f":"AT10/(AV4-AT20)","v":0},{"$f":"IF(AU10=0,0,(AU10*((LOG(AU10))/LOG(2))))","v":0}]
[12,834,23,849,13,862,23,874,null,null,0,1212,null,1211,{"$f":"COUNTIF($L$7:$L$500,N11)","v":2},{"$f":"O11/$Q$4","v":1.4184397163120567E-2},{"$f":"IF(P11=0,0,(P11*((LOG(P11))/LOG(2))))","v":-8.7085834785798497E-2},null,null,{"$f":"N11","v":1211},{"$f":"COUNTIF(L7:L30,T11)","v":0},{"$f":"U11/(W4-U20)","v":0},{"$f":"IF(V11=0,0,(V11*((LOG(V11))/LOG(2))))","v":0},null,{"$f":"N11","v":1211},{"$f":"COUNTIF(L31:L53,Y11)","v":0},{"$f":"Z11/(AB4-Z20)","v":0},{"$f":"IF(AA11=0,0,(AA11*((LOG(AA11))/LOG(2))))","v":0},null,{"$f":"N11","v":1211},{"$f":"COUNTIF(L54:L77,AD11)","v":1},{"$f":"AE11/(AG4-AE20)","v":4.5454545454545456E-2},{"$f":"IF(AF11=0,0,(AF11*((LOG(AF11))/LOG(2))))","v":-0.20270143721078623},null,{"$f":"N11","v":1211},{"$f":"COUNTIF(L78:L100,AI11)","v":1},{"$f":"AJ11/(AL4-AJ20)","v":4.3478260869565216E-2},{"$f":"IF(AK11=0,0,(AK11*((LOG(AK11))/LOG(2))))","v":-0.19667660678508753},null,{"$f":"N11","v":1211},{"$f":"COUNTIF(L101:L124,AN11)","v":0},{"$f":"AO11/(AQ4-AO20)","v":0},{"$f":"IF(AP11=0,0,(AP11*((LOG(AP11))/LOG(2))))","v":0},null,{"$f":"N11","v":1211},{"$f":"COUNTIF(L125:L147,AS11)","v":0},{"$f":"AT11/(AV4-AT20)","v":0},{"$f":"IF(AU11=0,0,(AU11*((LOG(AU11))/LOG(2))))","v":0}]
[21,983,12,998,13,1023,23,1035,null,null,0,2112,null,1212,{"$f":"COUNTIF($L$7:$L$500,N12)","v":17},{"$f":"O12/$Q$4","v":0.12056737588652482},{"$f":"IF(P12=0,0,(P12*((LOG(P12))/LOG(2))))","v":-0.36798230276257954},null,null,{"$f":"N12","v":1212},{"$f":"COUNTIF(L7:L30,T12)","v":3},{"$f":"U12/(W4-U20)","v":0.13636363636363635},{"$f":"IF(V12=0,0,(V12*((LOG(V12))/LOG(2))))","v":-0.39197306153401923},null,{"$f":"N12","v":1212},{"$f":"COUNTIF(L31:L53,Y12)","v":4},{"$f":"Z12/(AB4-Z20)","v":0.17391304347826086},{"$f":"IF(AA12=0,0,(AA12*((LOG(AA12))/LOG(2))))","v":-0.43888034018382832},null,{"$f":"N12","v":1212},{"$f":"COUNTIF(L54:L77,AD12)","v":3},{"$f":"AE12/(AG4-AE20)","v":0.13636363636363635},{"$f":"IF(AF12=0,0,(AF12*((LOG(AF12))/LOG(2))))","v":-0.39197306153401923},null,{"$f":"N12","v":1212},{"$f":"COUNTIF(L78:L100,AI12)","v":3},{"$f":"AJ12/(AL4-AJ20)","v":0.13043478260869565},{"$f":"IF(AK12=0,0,(AK12*((LOG(AK12))/LOG(2))))","v":-0.3832955811307639},null,{"$f":"N12","v":1212},{"$f":"COUNTIF(L101:L124,AN12)","v":1},{"$f":"AO12/(AQ4-AO20)","v":4.7619047619047616E-2},{"$f":"IF(AP12=0,0,(AP12*((LOG(AP12))/LOG(2))))","v":-0.20915797251327431},null,{"$f":"N12","v":1212},{"$f":"COUNTIF(L125:L147,AS12)","v":3},{"$f":"AT12/(AV4-AT20)","v":0.14285714285714285},{"$f":"IF(AU12=0,0,(AU12*((LOG(AU12))/LOG(2))))","v":-0.40105070315108626}]
[12,1183,23,1196,24,1218,14,1234,null,null,0,1221,null,1221,{"$f":"COUNTIF($L$7:$L$500,N13)","v":6},{"$f":"O13/$Q$4","v":4.2553191489361701E-2},{"$f":"IF(P13=0,0,(P13*((LOG(P13))/LOG(2))))","v":-0.19381229156075053},null,null,{"$f":"N13","v":1221},{"$f":"COUNTIF(L7:L30,T13)","v":2},{"$f":"U13/(W4-U20)","v":9.0909090909090912E-2},{"$f":"IF(V13=0,0,(V13*((LOG(V13))/LOG(2))))","v":-0.31449378351248153},null,{"$f":"N13","v":1221},{"$f":"COUNTIF(L31:L53,Y13)","v":1},{"$f":"Z13/(AB4-Z20)","v":4.3478260869565216E-2},{"$f":"IF(AA13=0,0,(AA13*((LOG(AA13))/LOG(2))))","v":-0.19667660678508753},null,{"$f":"N13","v":1221},{"$f":"COUNTIF(L54:L77,AD13)","v":1},{"$f":"AE13/(AG4-AE20)","v":4.5454545454545456E-2},{"$f":"IF(AF13=0,0,(AF13*((LOG(AF13))/LOG(2))))","v":-0.20270143721078623},null,{"$f":"N13","v":1221},{"$f":"COUNTIF(L78:L100,AI13)","v":0},{"$f":"AJ13/(AL4-AJ20)","v":0},{"$f":"IF(AK13=0,0,(AK13*((LOG(AK13))/LOG(2))))","v":0},null,{"$f":"N13","v":1221},{"$f":"COUNTIF(L101:L124,AN13)","v":2},{"$f":"AO13/(AQ4-AO20)","v":9.5238095238095233E-2},{"$f":"IF(AP13=0,0,(AP13*((LOG(AP13))/LOG(2))))","v":-0.32307784978845333},null,{"$f":"N13","v":1221},{"$f":"COUNTIF(L125:L147,AS13)","v":0},{"$f":"AT13/(AV4-AT20)","v":0},{"$f":"IF(AU13=0,0,(AU13*((LOG(AU13))/LOG(2))))","v":0}]
[21,1357,12,1373,13,1401,23,1414,null,null,0,2112,null,1222,{"$f":"COUNTIF($L$7:$L$500,N14)","v":0},{"$f":"O14/$Q$4","v":0},{"$f":"IF(P14=0,0,(P14*((LOG(P14))/LOG(2))))","v":0},null,null,{"$f":"N14","v":1222},{"$f":"COUNTIF(L7:L30,T14)","v":0},{"$f":"U14/(W4-U20)","v":0},{"$f":"IF(V14=0,0,(V14*((LOG(V14))/LOG(2))))","v":0},null,{"$f":"N14","v":1222},{"$f":"COUNTIF(L31:L53,Y14)","v":0},{"$f":"Z14/(AB4-Z20)","v":0},{"$f":"IF(AA14=0,0,(AA14*((LOG(AA14))/LOG(2))))","v":0},null,{"$f":"N14","v":1222},{"$f":"COUNTIF(L54:L77,AD14)","v":0},{"$f":"AE14/(AG4-AE20)","v":0},{"$f":"IF(AF14=0,0,(AF14*((LOG(AF14))/LOG(2))))","v":0},null,{"$f":"N14","v":1222},{"$f":"COUNTIF(L78:L100,AI14)","v":0},{"$f":"AJ14/(AL4-AJ20)","v":0},{"$f":"IF(AK14=0,0,(AK14*((LOG(AK14))/LOG(2))))","v":0},null,{"$f":"N14","v":1222},{"$f":"COUNTIF(L101:L124,AN14)","v":0},{"$f":"AO14/(AQ4-AO20)","v":0},{"$f":"IF(AP14=0,0,(AP14*((LOG(AP14))/LOG(2))))","v":0},null,{"$f":"N14","v":1222},{"$f":"COUNTIF(L125:L147,AS14)","v":0},{"$f":"AT14/(AV4-AT20)","v":0},{"$f":"IF(AU14=0,0,(AU14*((LOG(AU14))/LOG(2))))","v":0}]
[21,1549,12,1561,24,1570,14,1583,null,null,0,2121,null,2111,{"$f":"COUNTIF($L$7:$L$500,N15)","v":10},{"$f":"O15/$Q$4","v":7.0921985815602842E-2},{"$f":"IF(P15=0,0,(P15*((LOG(P15))/LOG(2))))","v":-0.27075342251854123},null,null,{"$f":"N15","v":2111},{"$f":"COUNTIF(L7:L30,T15)","v":2},{"$f":"U15/(W4-U20)","v":9.0909090909090912E-2},{"$f":"IF(V15=0,0,(V15*((LOG(V15))/LOG(2))))","v":-0.31449378351248153},null,{"$f":"N15","v":2111},{"$f":"COUNTIF(L31:L53,Y15)","v":0},{"$f":"Z15/(AB4-Z20)","v":0},{"$f":"IF(AA15=0,0,(AA15*((LOG(AA15))/LOG(2))))","v":0},null,{"$f":"N15","v":2111},{"$f":"COUNTIF(L54:L77,AD15)","v":1},{"$f":"AE15/(AG4-AE20)","v":4.5454545454545456E-2},{"$f":"IF(AF15=0,0,(AF15*((LOG(AF15))/LOG(2))))","v":-0.20270143721078623},null,{"$f":"N15","v":2111},{"$f":"COUNTIF(L78:L100,AI15)","v":3},{"$f":"AJ15/(AL4-AJ20)","v":0.13043478260869565},{"$f":"IF(AK15=0,0,(AK15*((LOG(AK15))/LOG(2))))","v":-0.3832955811307639},null,{"$f":"N15","v":2111},{"$f":"COUNTIF(L101:L124,AN15)","v":3},{"$f":"AO15/(AQ4-AO20)","v":0.14285714285714285},{"$f":"IF(AP15=0,0,(AP15*((LOG(AP15))/LOG(2))))","v":-0.40105070315108626},null,{"$f":"N15","v":2111},{"$f":"COUNTIF(L125:L147,AS15)","v":1},{"$f":"AT15/(AV4-AT20)","v":4.7619047619047616E-2},{"$f":"IF(AU15=0,0,(AU15*((LOG(AU15))/LOG(2))))","v":-0.20915797251327431}]
[21,1696,12,1710,13,1715,23,1728,null,null,0,2112,null,2112,{"$f":"COUNTIF($L$7:$L$500,N16)","v":27},{"$f":"O16/$Q$4","v":0.19148936170212766},{"$f":"IF(P16=0,0,(P16*((LOG(P16))/LOG(2))))","v":-0.45663775855570055},null,null,{"$f":"N16","v":2112},{"$f":"COUNTIF(L7:L30,T16)","v":3},{"$f":"U16/(W4-U20)","v":0.13636363636363635},{"$f":"IF(V16=0,0,(V16*((LOG(V16))/LOG(2))))","v":-0.39197306153401923},null,{"$f":"N16","v":2112},{"$f":"COUNTIF(L31:L53,Y16)","v":6},{"$f":"Z16/(AB4-Z20)","v":0.2608695652173913},{"$f":"IF(AA16=0,0,(AA16*((LOG(AA16))/LOG(2))))","v":-0.50572159704413644},null,{"$f":"N16","v":2112},{"$f":"COUNTIF(L54:L77,AD16)","v":5},{"$f":"AE16/(AG4-AE20)","v":0.22727272727272727},{"$f":"IF(AF16=0,0,(AF16*((LOG(AF16))/LOG(2))))","v":-0.48579625539771243},null,{"$f":"N16","v":2112},{"$f":"COUNTIF(L78:L100,AI16)","v":3},{"$f":"AJ16/(AL4-AJ20)","v":0.13043478260869565},{"$f":"IF(AK16=0,0,(AK16*((LOG(AK16))/LOG(2))))","v":-0.3832955811307639},null,{"$f":"N16","v":2112},{"$f":"COUNTIF(L101:L124,AN16)","v":4},{"$f":"AO16/(AQ4-AO20)","v":0.19047619047619047},{"$f":"IF(AP16=0,0,(AP16*((LOG(AP16))/LOG(2))))","v":-0.4556795091007162},null,{"$f":"N16","v":2112},{"$f":"COUNTIF(L125:L147,AS16)","v":6},{"$f":"AT16/(AV4-AT20)","v":0.2857142857142857},{"$f":"IF(AU16=0,0,(AU16*((LOG(AU16))/LOG(2))))","v":-0.51638712058788683}]
[21,1841,12,1868,24,1877,14,1889,null,null,0,2121,null,2121,{"$f":"COUNTIF($L$7:$L$500,N17)","v":28},{"$f":"O17/$Q$4","v":0.19858156028368795},{"$f":"IF(P17=0,0,(P17*((LOG(P17))/LOG(2))))","v":-0.46313120602520075},null,null,{"$f":"N17","v":2121},{"$f":"COUNTIF(L7:L30,T17)","v":4},{"$f":"U17/(W4-U20)","v":0.18181818181818182},{"$f":"IF(V17=0,0,(V17*((LOG(V17))/LOG(2))))","v":-0.44716938520678134},null,{"$f":"N17","v":2121},{"$f":"COUNTIF(L31:L53,Y17)","v":3},{"$f":"Z17/(AB4-Z20)","v":0.13043478260869565},{"$f":"IF(AA17=0,0,(AA17*((LOG(AA17))/LOG(2))))","v":-0.3832955811307639},null,{"$f":"N17","v":2121},{"$f":"COUNTIF(L54:L77,AD17)","v":5},{"$f":"AE17/(AG4-AE20)","v":0.22727272727272727},{"$f":"IF(AF17=0,0,(AF17*((LOG(AF17))/LOG(2))))","v":-0.48579625539771243},null,{"$f":"N17","v":2121},{"$f":"COUNTIF(L78:L100,AI17)","v":6},{"$f":"AJ17/(AL4-AJ20)","v":0.2608695652173913},{"$f":"IF(AK17=0,0,(AK17*((LOG(AK17))/LOG(2))))","v":-0.50572159704413644},null,{"$f":"N17","v":2121},{"$f":"COUNTIF(L101:L124,AN17)","v":6},{"$f":"AO17/(AQ4-AO20)","v":0.2857142857142857},{"$f":"IF(AP17=0,0,(AP17*((LOG(AP17))/LOG(2))))","v":-0.51638712058788683},null,{"$f":"N17","v":2121},{"$f":"COUNTIF(L125:L147,AS17)","v":4},{"$f":"AT17/(AV4-AT20)","v":0.19047619047619047},{"$f":"IF(AU17=0,0,(AU17*((LOG(AU17))/LOG(2))))","v":-0.4556795091007162}]
[12,2057,14,2081,24,2090,23,2096,null,null,0,1122,null,2122,{"$f":"COUNTIF($L$7:$L$500,N18)","v":11},{"$f":"O18/$Q$4","v":7.8014184397163122E-2},{"$f":"IF(P18=0,0,(P18*((LOG(P18))/LOG(2))))","v":-0.28710153951330819},null,null,{"$f":"N18","v":2122},{"$f":"COUNTIF(L7:L30,T18)","v":5},{"$f":"U18/(W4-U20)","v":0.22727272727272727},{"$f":"IF(V18=0,0,(V18*((LOG(V18))/LOG(2))))","v":-0.48579625539771243},null,{"$f":"N18","v":2122},{"$f":"COUNTIF(L31:L53,Y18)","v":5},{"$f":"Z18/(AB4-Z20)","v":0.21739130434782608},{"$f":"IF(AA18=0,0,(AA18*((LOG(AA18))/LOG(2))))","v":-0.47861605677601093},null,{"$f":"N18","v":2122},{"$f":"COUNTIF(L54:L77,AD18)","v":0},{"$f":"AE18/(AG4-AE20)","v":0},{"$f":"IF(AF18=0,0,(AF18*((LOG(AF18))/LOG(2))))","v":0},null,{"$f":"N18","v":2122},{"$f":"COUNTIF(L78:L100,AI18)","v":0},{"$f":"AJ18/(AL4-AJ20)","v":0},{"$f":"IF(AK18=0,0,(AK18*((LOG(AK18))/LOG(2))))","v":0},null,{"$f":"N18","v":2122},{"$f":"COUNTIF(L101:L124,AN18)","v":0},{"$f":"AO18/(AQ4-AO20)","v":0},{"$f":"IF(AP18=0,0,(AP18*((LOG(AP18))/LOG(2))))","v":0},null,{"$f":"N18","v":2122},{"$f":"COUNTIF(L125:L147,AS18)","v":1},{"$f":"AT18/(AV4-AT20)","v":4.7619047619047616E-2},{"$f":"IF(AU18=0,0,(AU18*((LOG(AU18))/LOG(2))))","v":-0.20915797251327431}]
[12,2228,23,2242,13,2254,23,2268,null,null,0,1212,null,2211,{"$f":"COUNTIF($L$7:$L$500,N19)","v":5},{"$f":"O19/$Q$4","v":3.5460992907801421E-2},{"$f":"IF(P19=0,0,(P19*((LOG(P19))/LOG(2))))","v":-0.17083770416707203},null,null,{"$f":"N19","v":2211},{"$f":"COUNTIF(L7:L30,T19)","v":0},{"$f":"U19/(W4-U20)","v":0},{"$f":"IF(V19=0,0,(V19*((LOG(V19))/LOG(2))))","v":0},null,{"$f":"N19","v":2211},{"$f":"COUNTIF(L31:L53,Y19)","v":0},{"$f":"Z19/(AB4-Z20)","v":0},{"$f":"IF(AA19=0,0,(AA19*((LOG(AA19))/LOG(2))))","v":0},null,{"$f":"N19","v":2211},{"$f":"COUNTIF(L54:L77,AD19)","v":0},{"$f":"AE19/(AG4-AE20)","v":0},{"$f":"IF(AF19=0,0,(AF19*((LOG(AF19))/LOG(2))))","v":0},null,{"$f":"N19","v":2211},{"$f":"COUNTIF(L78:L100,AI19)","v":2},{"$f":"AJ19/(AL4-AJ20)","v":8.6956521739130432E-2},{"$f":"IF(AK19=0,0,(AK19*((LOG(AK19))/LOG(2))))","v":-0.30639669183104457},null,{"$f":"N19","v":2211},{"$f":"COUNTIF(L101:L124,AN19)","v":1},{"$f":"AO19/(AQ4-AO20)","v":4.7619047619047616E-2},{"$f":"IF(AP19=0,0,(AP19*((LOG(AP19))/LOG(2))))","v":-0.20915797251327431},null,{"$f":"N19","v":2211},{"$f":"COUNTIF(L125:L147,AS19)","v":2},{"$f":"AT19/(AV4-AT20)","v":9.5238095238095233E-2},{"$f":"IF(AU19=0,0,(AU19*((LOG(AU19))/LOG(2))))","v":-0.32307784978845333}]
[21,2376,12,2391,13,2413,14,2447,null,null,0,2111,null,2212,{"$f":"COUNTIF($L$7:$L$500,N20)","v":9},{"$f":"O20/$Q$4","v":6.3829787234042548E-2},{"$f":"IF(P20=0,0,(P20*((LOG(P20))/LOG(2))))","v":-0.2533804053802009},null,null,{"$f":"N20","v":2212},{"$f":"COUNTIF(L7:L30,T20)","v":2},null,null,null,{"$f":"N20","v":2212},{"$f":"COUNTIF(L31:L53,Y20)","v":0},null,null,null,{"$f":"N20","v":2212},{"$f":"COUNTIF(L54:L77,AD20)","v":2},null,null,null,{"$f":"N20","v":2212},{"$f":"COUNTIF(L78:L100,AI20)","v":0},null,null,null,{"$f":"N20","v":2212},{"$f":"COUNTIF(L101:L124,AN20)","v":3},null,null,null,{"$f":"N20","v":2212},{"$f":"COUNTIF(L125:L147,AS20)","v":2}]
[21,2550,12,2570,24,2584,23,2609,null,null,0,2122,null,2221,{"$f":"COUNTIF($L$7:$L$500,N21)","v":1},{"$f":"O21/$Q$4","v":7.0921985815602835E-3},{"$f":"IF(P21=0,0,(P21*((LOG(P21))/LOG(2))))","v":-5.0635115974459535E-2},null,null,{"$f":"N21","v":2221},{"$f":"COUNTIF(L7:L30,T21)","v":0},{"$f":"U21/(W4-U20)","v":0},{"$f":"IF(V21=0,0,(V21*((LOG(V21))/LOG(2))))","v":0},null,{"$f":"N21","v":2221},{"$f":"COUNTIF(L31:L53,Y21)","v":0},{"$f":"Z21/(AB4-Z20)","v":0},{"$f":"IF(AA21=0,0,(AA21*((LOG(AA21))/LOG(2))))","v":0},null,{"$f":"N21","v":2221},{"$f":"COUNTIF(L54:L77,AD21)","v":0},{"$f":"AE21/(AG4-AE20)","v":0},{"$f":"IF(AF21=0,0,(AF21*((LOG(AF21))/LOG(2))))","v":0},null,{"$f":"N21","v":2221},{"$f":"COUNTIF(L78:L100,AI21)","v":0},{"$f":"AJ21/(AL4-AJ20)","v":0},{"$f":"IF(AK21=0,0,(AK21*((LOG(AK21))/LOG(2))))","v":0},null,{"$f":"N21","v":2221},{"$f":"COUNTIF(L101:L124,AN21)","v":0},{"$f":"AO21/(AQ4-AO20)","v":0},{"$f":"IF(AP21=0,0,(AP21*((LOG(AP21))/LOG(2))))","v":0},null,{"$f":"N21","v":2221},{"$f":"COUNTIF(L125:L147,AS21)","v":1},{"$f":"AT21/(AV4-AT20)","v":4.7619047619047616E-2},{"$f":"IF(AU21=0,0,(AU21*((LOG(AU21))/LOG(2))))","v":-0.20915797251327431}]
[12,2710,14,2755,24,2764,14,2776,null,null,0,1121,null,2222,{"$f":"COUNTIF($L$7:$L$500,N22)","v":0},{"$f":"O22/$Q$4","v":0},{"$f":"IF(P22=0,0,(P22*((LOG(P22))/LOG(2))))","v":0},null,null,{"$f":"N22","v":2222},{"$f":"COUNTIF(L7:L30,T22)","v":0},{"$f":"U22/(W4-U20)","v":0},{"$f":"IF(V22=0,0,(V22*((LOG(V22))/LOG(2))))","v":0},null,{"$f":"N22","v":2222},{"$f":"COUNTIF(L31:L53,Y22)","v":0},{"$f":"Z22/(AB4-Z20)","v":0},{"$f":"IF(AA22=0,0,(AA22*((LOG(AA22))/LOG(2))))","v":0},null,{"$f":"N22","v":2222},{"$f":"COUNTIF(L54:L77,AD22)","v":0},{"$f":"AE22/(AG4-AE20)","v":0},{"$f":"IF(AF22=0,0,(AF22*((LOG(AF22))/LOG(2))))","v":0},null,{"$f":"N22","v":2222},{"$f":"COUNTIF(L78:L100,AI22)","v":0},{"$f":"AJ22/(AL4-AJ20)","v":0},{"$f":"IF(AK22=0,0,(AK22*((LOG(AK22))/LOG(2))))","v":0},null,{"$f":"N22","v":2222},{"$f":"COUNTIF(L101:L124,AN22)","v":0},{"$f":"AO22/(AQ4-AO20)","v":0},{"$f":"IF(AP22=0,0,(AP22*((LOG(AP22))/LOG(2))))","v":0},null,{"$f":"N22","v":2222},{"$f":"COUNTIF(L125:L147,AS22)","v":0},{"$f":"AT22/(AV4-AT20)","v":0},{"$f":"IF(AU22=0,0,(AU22*((LOG(AU22))/LOG(2))))","v":0}]
[21,2881,12,2898,24,2911,14,2923,null,null,0,2121,null,null,null,{"$f":"SUM(P7:P22)","v":1},{"$f":"-SUM(Q7:Q22)","v":3.3472000388695831},null,null,null,null,{"$f":"SUM(V7:V22)","v":1},{"$f":"-SUM(W7:W22)","v":2.8630945514207631},null,null,null,{"$f":"SUM(AA7:AA22)","v":1},{"$f":"-SUM(AB7:AB22)","v":2.7029400873210472},null,null,null,{"$f":"SUM(AF7:AF22)","v":1},{"$f":"-SUM(AG7:AG22)","v":2.7556160070298414},null,null,null,{"$f":"SUM(AK7:AK22)","v":1},{"$f":"-SUM(AL7:AL22)","v":2.9681516294997365},null,null,null,{"$f":"SUM(AP7:AP22)","v":1},{"$f":"-SUM(AQ7:AQ22)","v":2.7247198033190516},null,null,null,{"$f":"SUM(AU7:AU22)","v":1},{"$f":"-SUM(AV7:AV22)","v":2.8559049224696929}]
[21,3058,12,3069,24,3078,23,3086,null,null,0,2122,null,null,null,"U=",{"$f":"Q23/(LOG(Q4)/LOG(2))","v":0.46882498264333783},null,null,null,null,"U1=",{"$f":"W23/(LOG(W4)/LOG(2))","v":0.62445321002525866},null,null,null,"U2=",{"$f":"AB23/(LOG(AB4)/LOG(2))","v":0.59752471914346883},null,null,null,"U3=",{"$f":"AG23/(LOG(AG4)/LOG(2))","v":0.60101167819724111},null,null,null,"U4=",{"$f":"AL23/(LOG(AL4)/LOG(2))","v":0.65615363696420814},null,null,null,"U5=",{"$f":"AQ23/(LOG(AQ4)/LOG(2))","v":0.59427308356185859},null,null,null,"U6=",{"$f":"AV23/(LOG(AV4)/LOG(2))","v":0.63133984904211582}]
[12,3203,23,3216,24,3233,14,3244,null,null,0,1221]
[21,3348,12,3360,24,3369,14,3381,null,null,0,2121]
[21,3508,12,3548,24,3561,23,3578,null,null,0,2122,null,"Total Target Seq"]
[21,3687,12,3695,13,3699,14,3706,null,null,0,2111,null,{"$f":"COUNTIF(L7:L147,G3)","v":9},null,24,23,24,23,24,23]
[21,3811,12,3821,24,3833,23,3839,null,null,0,2122,null,null,null,"% of reinforcement given in 6 equal intervals based on number of trials "]
[12,3948,14,3980,24,4033,14,4056,null,null,0,1121,null,null,null,"%_1","%_2","%_3","%_4","%_5","%_6"]
[12,4174,14,4182,13,4187,23,4200,null,null,0,1112,null,null,"target sequence",{"$f":"$G$3","v":2212},{"$f":"$G$3","v":2212},{"$f":"$G$3","v":2212},{"$f":"$G$3","v":2212},{"$f":"$G$3","v":2212},{"$f":"$G$3","v":2212}]
[21,4311,12,4320,24,4332,23,4350,null,null,0,2122,null,null,"total reinforcement",{"$f":"U20","v":2},{"$f":"Z20","v":0},{"$f":"AE20","v":2},{"$f":"AJ20","v":0},{"$f":"AO20","v":3},{"$f":"AT20","v":2}]
[12,4487,14,4505,24,4513,14,4532,null,null,0,1121,null,null,"% target"]
[21,4654,12,4665,24,4694,14,4706,null,null,0,2121,null,null,"CCRF"]
[21,4821,12,4833,24,4847,23,4865,null,null,0,2122,null,null,"% CCRf"]
[12,5000,23,5019,24,5033,14,5052,null,null,0,1221,null,null,"average response rate",{"$f":"H30/P28","v":169},{"$f":"(H53-H30)/Q28","v":165.43478260869566},{"$f":"(H77-H53)/R28","v":171.08333333333334},{"$f":"(H100-H77)/S28","v":181.65217391304347},{"$f":"(H124-H100)/T28","v":163.5},{"$f":"(H147-H124)/U28","v":170.39130434782609}]
[12,5176,23,5205,13,5217,23,5232,null,null,0,1212]
[21,5341,12,5352,24,5363,23,5385,null,null,0,2122]
[12,5503,14,5528,24,5549,14,5563,null,null,0,1121]
[21,5687,12,5698,13,5702,23,5711,null,null,0,2112]
[21,5820,12,5831,24,5843,14,5855,null,null,0,2121]
[21,5965,12,5991,24,6005,23,6034,null,null,0,2122]
[21,6142,12,6153,24,6169,14,6205,null,null,0,2121]
[12,6321,23,6331,13,6355,23,6369,null,null,0,1212]
[21,6477,12,6491,13,6511,23,6525,null,null,0,2112]
[12,6638,23,6650,13,6665,23,6673,null,null,0,1212]
[12,6787,23,6814,13,6825,23,6835,null,null,0,1212]
[21,6941,12,6952,13,6979,23,6991,null,null,0,2112]
[12,7104,14,7127,24,7139,23,7159,null,null,0,1122]
[21,7282,12,7296,13,7316,23,7330,null,null,0,2112]
[21,7479,12,7527,24,7543,23,7564,null,null,0,2122]
[21,7670,12,7679,13,7703,23,7712,null,null,0,2112]
[21,7815,12,7826,13,7848,23,7861,null,null,0,2112]
[21,7969,21,7976,11,7988,21,8005,null,null,0,2212]
[12,8280,23,8295,24,8314,14,8329,null,null,0,1221]
[12,8452,14,8473,24,8485,14,8497,null,null,0,1121]
[21,8631,12,8642,24,8654,14,8667,null,null,0,2121]
[21,8784,12,8793,13,8816,23,8830,null,null,0,2112]
[12,8964,14,8971,24,9004,23,9010,null,null,0,1122]
[12,9137,23,9156,13,9167,23,9182,null,null,0,1212]
[21,9293,12,9312,13,9335,23,9346,null,null,0,2112]
[12,9460,14,9493,24,9508,14,9520,null,null,0,1121]
[12,9654,23,9668,13,9680,23,9694,null,null,0,1212]
[21,9804,12,9825,24,9840,14,9855,null,null,0,2121]
[21,9961,12,9975,24,9987,14,9999,null,null,0,2121]
[21,10104,12,10114,13,10137,14,10140,null,null,0,2111]
[12,10262,14,10290,24,10301,23,10332,null,null,0,1122]
[21,10447,12,10462,13,10470,23,10491,null,null,0,2112]
[21,10598,21,10612,11,10626,21,10636,null,null,0,2212]
[12,10732,23,10757,13,10773,14,10781,null,null,0,1211]
[21,10899,12,10910,24,10925,14,10940,null,null,0,2121]
[12,11066,14,11097,24,11112,14,11127,null,null,0,1121]
[21,11234,12,11244,13,11268,23,11301,null,null,0,2112]
[21,11404,12,11414,13,11437,23,11452,null,null,0,2112]
[21,11596,12,11611,24,11626,14,11657,null,null,0,2121]
[12,11774,23,11789,13,11801,23,11813,null,null,0,1212]
[12,11930,14,11954,24,11962,23,11967,null,null,0,1122]
[21,12081,12,12096,24,12109,14,12121,null,null,0,2121]
[21,12242,12,12253,24,12266,14,12277,null,null,0,2121]
[12,12400,23,12412,13,12425,14,12434,null,null,0,1211]
[12,12583,23,12599,13,12610,23,12619,null,null,0,1212]
[21,12726,21,12742,11,12765,12,12789,null,null,0,2211]
[21,12904,12,12927,24,12937,14,12949,null,null,0,2121]
[21,13065,12,13080,13,13105,14,13131,null,null,0,2111]
[21,13254,12,13265,13,13287,23,13299,null,null,0,2112]
[12,13415,14,13444,24,13480,14,13492,null,null,0,1121]
[21,13605,12,13618,24,13634,14,13649,null,null,0,2121]
[21,13748,12,13759,13,13785,23,13798,null,null,0,2112]
[21,13905,12,13917,13,13943,14,13967,null,null,0,2111]
[21,14094,12,14110,13,14153,14,14213,null,null,0,2111]
[21,14378,12,14403,24,14435,14,14452,null,null,0,2121]
[12,14628,14,14638,13,14670,14,14684,null,null,0,1111]
[12,14855,14,14879,13,14888,14,14917,null,null,0,1111]
[21,15022,21,15037,11,15048,12,15053,null,null,0,2211]
[12,15196,23,15218,13,15244,23,15252,null,null,0,1212]
[21,15356,12,15375,13,15401,23,15415,null,null,0,2112]
[12,15541,14,15548,13,15568,23,15610,null,null,0,1112]
[12,15768,23,15809,13,15821,23,15835,null,null,0,1212]
[21,15941,12,15952,24,15977,14,15989,null,null,0,2121]
[12,16106,14,16114,24,16133,14,16145,null,null,0,1121]
[12,16264,14,16271,13,16300,23,16313,null,null,0,1112]
[21,16426,12,16439,24,16453,14,16465,null,null,0,2121]
[21,16601,12,16632,13,16637,14,16666,null,null,0,2111]
[21,16769,12,16787,13,16807,23,16819,null,null,0,2112]
[21,16927,12,16938,24,16950,14,16961,null,null,0,2121]
[21,17073,12,17088,24,17102,14,17113,null,null,0,2121]
[21,17268,12,17279,13,17286,14,17309,null,null,0,2111]
[12,17470,23,17487,13,17501,23,17515,null,null,0,1212]
[21,17635,12,17687,24,17700,14,17712,null,null,0,2121]
[21,17816,21,17824,11,17836,21,17862,null,null,0,2212]
[12,17985,14,18013,24,18025,14,18040,null,null,0,1121]
[21,18156,12,18181,13,18190,23,18208,null,null,0,2112]
[21,18314,21,18333,11,18345,12,18369,null,null,0,2211]
[21,18489,12,18500,24,18513,14,18523,null,null,0,2121]
[21,18625,12,18638,13,18642,14,18653,null,null,0,2111]
[12,18782,14,18806,24,18818,14,18831,null,null,0,1121]
[21,18930,12,18949,13,18974,23,18984,null,null,0,2112]
[21,19085,21,19101,11,19111,21,19122,null,null,0,2212]
[12,19211,14,19221,24,19244,14,19254,null,null,0,1121]
[21,19364,12,19379,24,19391,14,19404,null,null,0,2121]
[12,19538,23,19548,24,19554,14,19566,null,null,0,1221]
[21,19685,12,19699,13,19724,23,19738,null,null,0,2112]
[21,19840,21,19872,11,19884,21,19891,null,null,0,2212]
[12,20005,23,20046,24,20054,14,20069,null,null,0,1221]
[21,20270,12,20285,13,20310,23,20334,null,null,0,2112]
[21,20447,12,20464,13,20473,14,20500,null,null,0,2111]
[12,20616,14,20623,13,20656,23,20668,null,null,0,1112]
[21,20774,12,20795,24,20821,14,20836,null,null,0,2121]
[21,20947,12,20959,13,20968,23,20980,null,null,0,2112]
[21,21086,21,21127,22,21167,14,21178,null,null,0,2221]
[21,21281,12,21296,24,21310,14,21323,null,null,0,2121]
[21,21429,12,21447,24,21465,23,21470,null,null,0,2122]
[12,21585,23,21606,13,21621,23,21635,null,null,0,1212]
[21,21741,21,21752,11,21771,12,21795,null,null,0,2211]
[21,21903,12,21931,13,21940,23,21952,null,null,0,2112]
[12,22130,23,22149,13,22163,23,22180,null,null,0,1212]
[21,22283,21,22303,11,22317,12,22325,null,null,0,2211]
[21,22432,12,22447,13,22455,23,22467,null,null,0,2112]
[12,22601,14,22608,24,22626,14,22639,null,null,0,1121]
[21,22760,12,22776,24,22793,14,22806,null,null,0,2121]
[21,22925,12,22940,13,22965,23,22980,null,null,0,2112]
[12,23105,23,23121,13,23133,23,23149,null,null,0,1212]
[21,23253,21,23290,11,23305,21,23334,null,null,0,2212]
[21,23439,12,23453,24,23470,14,23483,null,null,0,2121]
[21,23588,21,23597,11,23619,21,23634,null,null,0,2212]
[21,23725,12,23756,13,23786,23,23800,null,null,0,2112]
[12,23942,14,23952,13,23964,23,23988,null,null,null,1112]

{"sheet":"!N125950.092","index":28,"n_rows":158,"n_cols":48,"rows_kept":158,"cut":false,"hidden":false,"merged":[[4,39,4,42],[5,39,5,40],[4,44,4,47],[5,44,5,45],[4,24,4,27],[5,24,5,25],[4,29,4,32],[5,29,5,30],[4,34,4,37],[5,34,5,35],[1,1,1,2],[5,13,5,14],[26,13,26,14],[27,13,27,14],[4,19,4,22],[5,19,5,20]]}
["Report for:!N125950.092"]
["Date:","<date>"]
["Hen:","<hen>",null,null,null,"Correct Sequence",{"$f":"Start!J2","v":2212},null,null,null,null,null,null,null,null,"Total Sequences in Data",{"$f":"4994-COUNTBLANK(L7:L5000)","v":152},null,null,null,null,"Total Sequences in Block Data",{"$f":"COUNTA(L7:L31)","v":25},null,null,null,"Total Sequences in Block Data",{"$f":"COUNTA(L32:L57)","v":26},null,null,null,"Total Sequences in Block Data",{"$f":"COUNTA(L58:L82)","v":25},null,null,null,"Total Sequences in Block Data",{"$f":"COUNTA(L83:L107)","v":25},null,null,null,"Total Sequences in Block Data",{"$f":"COUNTA(L108:L133)","v":26},null,null,null,"Total Sequences in Block Data",{"$f":"COUNTA(L134:L158)","v":25}]
[null,null,null,null,null,null,null,null,null,null,null,null,null,null,null,"Total Sequences in Summary",{"$f":"SUM(O7:O22)","v":152},null,null,null,null,"Total Sequences in Block Summary",{"$f":"SUM(U7:U22)","v":25},null,null,null,"Total Sequences in Block Summary",{"$f":"SUM(Z7:Z22)","v":26},null,null,null,"Total Sequences in Block Summary",{"$f":"SUM(AE7:AE22)","v":25},null,null,null,"Total Sequences in Block Summary",{"$f":"SUM(AJ7:AJ22)","v":25},null,null,null,"Total Sequences in Block Summary",{"$f":"SUM(AO7:AO22)","v":26},null,null,null,"Total Sequences in Block Summary",{"$f":"SUM(AT7:AT22)","v":25}]
[null,null,null,null,null,null,null,null,null,null,null,null,null,null,null,null,null,null,null,"Block 1",null,null,null,null,"Block 2",null,null,null,null,"Block 3",null,null,null,null,"Block 4",null,null,null,null,"Block 5",null,null,null,null,"Block 6"]
["Sequence\nComponent\n1","Time\n1","Sequence\nComponent\n2","Time\n2","Sequence\nComponent\n3","Time\n3","Sequence\nComponent\n4","Time\n4","Sequence\nComponent\n5","Time\n5","Correct?\n0=No 1=Yes","Sequence",null,"Frequency",null,"Relative Frequency","Variability",null,null,"Frequency",null,"Relative Frequency","Variability",null,"Frequency",null,"Relative Frequency","Variability",null,"Frequency",null,"Relative Frequency","Variability",null,"Frequency",null,"Relative Frequency","Variability",null,"Frequency",null,"Relative Frequency","Variability",null,"Frequency",null,"Relative Frequency","Variability"]
[21,53,21,100,22,113,23,127,null,null,0,2222,null,1111,{"$f":"COUNTIF($L$7:$L$500,N7)","v":10},{"$f":"O7/$Q$4","v":6.5789473684210523E-2},{"$f":"IF(P7=0,0,(P7*((LOG(P7))/LOG(2))))","v":-0.25828943543133048},null,null,{"$f":"N7","v":1111},{"$f":"COUNTIF(L7:L31,T7)","v":0},{"$f":"U7/(W4-U20)","v":0},{"$f":"IF(V7=0,0,(V7*((LOG(V7))/LOG(2))))","v":0},null,{"$f":"N7","v":1111},{"$f":"COUNTIF(L32:L57,Y7)","v":0},{"$f":"Z7/(AB4-Z20)","v":0},{"$f":"IF(AA7=0,0,(AA7*((LOG(AA7))/LOG(2))))","v":0},null,{"$f":"N7","v":1111},{"$f":"COUNTIF(L58:L82,AD7)","v":2},{"$f":"AE7/(AG4-AE20)","v":9.0909090909090912E-2},{"$f":"IF(AF7=0,0,(AF7*((LOG(AF7))/LOG(2))))","v":-0.31449378351248153},null,{"$f":"N7","v":1111},{"$f":"COUNTIF(L83:L107,AI7)","v":0},{"$f":"AJ7/(AL4-AJ20)","v":0},{"$f":"IF(AK7=0,0,(AK7*((LOG(AK7))/LOG(2))))","v":0},null,{"$f":"N7","v":1111},{"$f":"COUNTIF(L108:L133,AN7)","v":3},{"$f":"AO7/(AQ4-AO20)","v":0.12},{"$f":"IF(AP7=0,0,(AP7*((LOG(AP7))/LOG(2))))","v":-0.36706724268642821},null,{"$f":"N7","v":1111},{"$f":"COUNTIF(L134:L158,AS7)","v":5},{"$f":"AT7/(AV4-AT20)","v":0.20833333333333334},{"$f":"IF(AU7=0,0,(AU7*((LOG(AU7))/LOG(2))))","v":-0.47146550121537367}]
[21,250,12,294,24,308,14,322,null,null,0,2121,null,1112,{"$f":"COUNTIF($L$7:$L$500,N8)","v":7},{"$f":"O8/$Q$4","v":4.6052631578947366E-2},{"$f":"IF(P8=0,0,(P8*((LOG(P8))/LOG(2))))","v":-0.20450005355067019},null,null,{"$f":"N8","v":1112},{"$f":"COUNTIF(L7:L31,T8)","v":0},{"$f":"U8/(W4-U20)","v":0},{"$f":"IF(V8=0,0,(V8*((LOG(V8))/LOG(2))))","v":0},null,{"$f":"N8","v":1112},{"$f":"COUNTIF(L32:L57,Y8)","v":1},{"$f":"Z8/(AB4-Z20)","v":4.5454545454545456E-2},{"$f":"IF(AA8=0,0,(AA8*((LOG(AA8))/LOG(2))))","v":-0.20270143721078623},null,{"$f":"N8","v":1112},{"$f":"COUNTIF(L58:L82,AD8)","v":1},{"$f":"AE8/(AG4-AE20)","v":4.5454545454545456E-2},{"$f":"IF(AF8=0,0,(AF8*((LOG(AF8))/LOG(2))))","v":-0.20270143721078623},null,{"$f":"N8","v":1112},{"$f":"COUNTIF(L83:L107,AI8)","v":1},{"$f":"AJ8/(AL4-AJ20)","v":4.3478260869565216E-2},{"$f":"IF(AK8=0,0,(AK8*((LOG(AK8))/LOG(2))))","v":-0.19667660678508753},null,{"$f":"N8","v":1112},{"$f":"COUNTIF(L108:L133,AN8)","v":2},{"$f":"AO8/(AQ4-AO20)","v":0.08},{"$f":"IF(AP8=0,0,(AP8*((LOG(AP8))/LOG(2))))","v":-0.29150849518197797},null,{"$f":"N8","v":1112},{"$f":"COUNTIF(L134:L158,AS8)","v":2},{"$f":"AT8/(AV4-AT20)","v":8.3333333333333329E-2},{"$f":"IF(AU8=0,0,(AU8*((LOG(AU8))/LOG(2))))","v":-0.29874687506009634}]
[12,445,23,461,13,474,23,486,null,null,0,1212,null,1121,{"$f":"COUNTIF($L$7:$L$500,N9)","v":11},{"$f":"O9/$Q$4","v":7.2368421052631582E-2},{"$f":"IF(P9=0,0,(P9*((LOG(P9))/LOG(2))))","v":-0.27416746607150771},null,null,{"$f":"N9","v":1121},{"$f":"COUNTIF(L7:L31,T9)","v":0},{"$f":"U9/(W4-U20)","v":0},{"$f":"IF(V9=0,0,(V9*((LOG(V9))/LOG(2))))","v":0},null,{"$f":"N9","v":1121},{"$f":"COUNTIF(L32:L57,Y9)","v":1},{"$f":"Z9/(AB4-Z20)","v":4.5454545454545456E-2},{"$f":"IF(AA9=0,0,(AA9*((LOG(AA9))/LOG(2))))","v":-0.20270143721078623},null,{"$f":"N9","v":1121},{"$f":"COUNTIF(L58:L82,AD9)","v":2},{"$f":"AE9/(AG4-AE20)","v":9.0909090909090912E-2},{"$f":"IF(AF9=0,0,(AF9*((LOG(AF9))/LOG(2))))","v":-0.31449378351248153},null,{"$f":"N9","v":1121},{"$f":"COUNTIF(L83:L107,AI9)","v":1},{"$f":"AJ9/(AL4-AJ20)","v":4.3478260869565216E-2},{"$f":"IF(AK9=0,0,(AK9*((LOG(AK9))/LOG(2))))","v":-0.19667660678508753},null,{"$f":"N9","v":1121},{"$f":"COUNTIF(L108:L133,AN9)","v":3},{"$f":"AO9/(AQ4-AO20)","v":0.12},{"$f":"IF(AP9=0,0,(AP9*((LOG(AP9))/LOG(2))))","v":-0.36706724268642821},null,{"$f":"N9","v":1121},{"$f":"COUNTIF(L134:L158,AS9)","v":4},{"$f":"AT9/(AV4-AT20)","v":0.16666666666666666},{"$f":"IF(AU9=0,0,(AU9*((LOG(AU9))/LOG(2))))","v":-0.43082708345352599}]
[12,607,23,618,13,655,23,682,null,null,0,1212,null,1122,{"$f":"COUNTIF($L$7:$L$500,N10)","v":2},{"$f":"O10/$Q$4","v":1.3157894736842105E-2},{"$f":"IF(P10=0,0,(P10*((LOG(P10))/LOG(2))))","v":-8.2209572545310333E-2},null,null,{"$f":"N10","v":1122},{"$f":"COUNTIF(L7:L31,T10)","v":0},{"$f":"U10/(W4-U20)","v":0},{"$f":"IF(V10=0,0,(V10*((LOG(V10))/LOG(2))))","v":0},null,{"$f":"N10","v":1122},{"$f":"COUNTIF(L32:L57,Y10)","v":0},{"$f":"Z10/(AB4-Z20)","v":0},{"$f":"IF(AA10=0,0,(AA10*((LOG(AA10))/LOG(2))))","v":0},null,{"$f":"N10","v":1122},{"$f":"COUNTIF(L58:L82,AD10)","v":0},{"$f":"AE10/(AG4-AE20)","v":0},{"$f":"IF(AF10=0,0,(AF10*((LOG(AF10))/LOG(2))))","v":0},null,{"$f":"N10","v":1122},{"$f":"COUNTIF(L83:L107,AI10)","v":2},{"$f":"AJ10/(AL4-AJ20)","v":8.6956521739130432E-2},{"$f":"IF(AK10=0,0,(AK10*((LOG(AK10))/LOG(2))))","v":-0.30639669183104457},null,{"$f":"N10","v":1122},{"$f":"COUNTIF(L108:L133,AN10)","v":0},{"$f":"AO10/(AQ4-AO20)","v":0},{"$f":"IF(AP10=0,0,(AP10*((LOG(AP10))/LOG(2))))","v":0},null,{"$f":"N10","v":1122},{"$f":"COUNTIF(L134:L158,AS10)","v":0},{"$f":"AT10/(AV4-AT20)","v":0},{"$f":"IF(AU10=0,0,(AU10*((LOG(AU10))/LOG(2))))","v":0}]
[12,808,23,826,13,840,23,849,null,null,0,1212,null,1211,{"$f":"COUNTIF($L$7:$L$500,N11)","v":3},{"$f":"O11/$Q$4","v":1.9736842105263157E-2},{"$f":"IF(P11=0,0,(P11*((LOG(P11))/LOG(2))))","v":-0.11176904630373216},null,null,{"$f":"N11","v":1211},{"$f":"COUNTIF(L7:L31,T11)","v":0},{"$f":"U11/(W4-U20)","v":0},{"$f":"IF(V11=0,0,(V11*((LOG(V11))/LOG(2))))","v":0},null,{"$f":"N11","v":1211},{"$f":"COUNTIF(L32:L57,Y11)","v":0},{"$f":"Z11/(AB4-Z20)","v":0},{"$f":"IF(AA11=0,0,(AA11*((LOG(AA11))/LOG(2))))","v":0},null,{"$f":"N11","v":1211},{"$f":"COUNTIF(L58:L82,AD11)","v":0},{"$f":"AE11/(AG4-AE20)","v":0},{"$f":"IF(AF11=0,0,(AF11*((LOG(AF11))/LOG(2))))","v":0},null,{"$f":"N11","v":1211},{"$f":"COUNTIF(L83:L107,AI11)","v":1},{"$f":"AJ11/(AL4-AJ20)","v":4.3478260869565216E-2},{"$f":"IF(AK11=0,0,(AK11*((LOG(AK11))/LOG(2))))","v":-0.19667660678508753},null,{"$f":"N11","v":1211},{"$f":"COUNTIF(L108:L133,AN11)","v":2},{"$f":"AO11/(AQ4-AO20)","v":0.08},{"$f":"IF(AP11=0,0,(AP11*((LOG(AP11))/LOG(2))))","v":-0.29150849518197797},null,{"$f":"N11","v":1211},{"$f":"COUNTIF(L134:L158,AS11)","v":0},{"$f":"AT11/(AV4-AT20)","v":0},{"$f":"IF(AU11=0,0,(AU11*((LOG(AU11))/LOG(2))))","v":0}]
[21,959,12,985,24,1000,14,1013,null,null,0,2121,null,1212,{"$f":"COUNTIF($L$7:$L$500,N12)","v":29},{"$f":"O12/$Q$4","v":0.19078947368421054},{"$f":"IF(P12=0,0,(P12*((LOG(P12))/LOG(2))))","v":-0.45597663836292363},null,null,{"$f":"N12","v":1212},{"$f":"COUNTIF(L7:L31,T12)","v":8},{"$f":"U12/(W4-U20)","v":0.33333333333333331},{"$f":"IF(V12=0,0,(V12*((LOG(V12))/LOG(2))))","v":-0.52832083357371862},null,{"$f":"N12","v":1212},{"$f":"COUNTIF(L32:L57,Y12)","v":3},{"$f":"Z12/(AB4-Z20)","v":0.13636363636363635},{"$f":"IF(AA12=0,0,(AA12*((LOG(AA12))/LOG(2))))","v":-0.39197306153401923},null,{"$f":"N12","v":1212},{"$f":"COUNTIF(L58:L82,AD12)","v":6},{"$f":"AE12/(AG4-AE20)","v":0.27272727272727271},{"$f":"IF(AF12=0,0,(AF12*((LOG(AF12))/LOG(2))))","v":-0.51121885034076575},null,{"$f":"N12","v":1212},{"$f":"COUNTIF(L83:L107,AI12)","v":2},{"$f":"AJ12/(AL4-AJ20)","v":8.6956521739130432E-2},{"$f":"IF(AK12=0,0,(AK12*((LOG(AK12))/LOG(2))))","v":-0.30639669183104457},null,{"$f":"N12","v":1212},{"$f":"COUNTIF(L108:L133,AN12)","v":5},{"$f":"AO12/(AQ4-AO20)","v":0.2},{"$f":"IF(AP12=0,0,(AP12*((LOG(AP12))/LOG(2))))","v":-0.46438561897747244},null,{"$f":"N12","v":1212},{"$f":"COUNTIF(L134:L158,AS12)","v":5},{"$f":"AT12/(AV4-AT20)","v":0.20833333333333334},{"$f":"IF(AU12=0,0,(AU12*((LOG(AU12))/LOG(2))))","v":-0.47146550121537367}]
[21,1121,12,1156,24,1167,14,1179,null,null,0,2121,null,1221,{"$f":"COUNTIF($L$7:$L$500,N13)","v":7},{"$f":"O13/$Q$4","v":4.6052631578947366E-2},{"$f":"IF(P13=0,0,(P13*((LOG(P13))/LOG(2))))","v":-0.20450005355067019},null,null,{"$f":"N13","v":1221},{"$f":"COUNTIF(L7:L31,T13)","v":1},{"$f":"U13/(W4-U20)","v":4.1666666666666664E-2},{"$f":"IF(V13=0,0,(V13*((LOG(V13))/LOG(2))))","v":-0.19104010419671485},null,{"$f":"N13","v":1221},{"$f":"COUNTIF(L32:L57,Y13)","v":1},{"$f":"Z13/(AB4-Z20)","v":4.5454545454545456E-2},{"$f":"IF(AA13=0,0,(AA13*((LOG(AA13))/LOG(2))))","v":-0.20270143721078623},null,{"$f":"N13","v":1221},{"$f":"COUNTIF(L58:L82,AD13)","v":1},{"$f":"AE13/(AG4-AE20)","v":4.5454545454545456E-2},{"$f":"IF(AF13=0,0,(AF13*((LOG(AF13))/LOG(2))))","v":-0.20270143721078623},null,{"$f":"N13","v":1221},{"$f":"COUNTIF(L83:L107,AI13)","v":0},{"$f":"AJ13/(AL4-AJ20)","v":0},{"$f":"IF(AK13=0,0,(AK13*((LOG(AK13))/LOG(2))))","v":0},null,{"$f":"N13","v":1221},{"$f":"COUNTIF(L108:L133,AN13)","v":2},{"$f":"AO13/(AQ4-AO20)","v":0.08},{"$f":"IF(AP13=0,0,(AP13*((LOG(AP13))/LOG(2))))","v":-0.29150849518197797},null,{"$f":"N13","v":1221},{"$f":"COUNTIF(L134:L158,AS13)","v":2},{"$f":"AT13/(AV4-AT20)","v":8.3333333333333329E-2},{"$f":"IF(AU13=0,0,(AU13*((LOG(AU13))/LOG(2))))","v":-0.29874687506009634}]
[21,1288,21,1304,11,1316,21,1324,null,null,0,2212,null,1222,{"$f":"COUNTIF($L$7:$L$500,N14)","v":4},{"$f":"O14/$Q$4","v":2.6315789473684209E-2},{"$f":"IF(P14=0,0,(P14*((LOG(P14))/LOG(2))))","v":-0.13810335561693646},null,null,{"$f":"N14","v":1222},{"$f":"COUNTIF(L7:L31,T14)","v":1},{"$f":"U14/(W4-U20)","v":4.1666666666666664E-2},{"$f":"IF(V14=0,0,(V14*((LOG(V14))/LOG(2))))","v":-0.19104010419671485},null,{"$f":"N14","v":1222},{"$f":"COUNTIF(L32:L57,Y14)","v":0},{"$f":"Z14/(AB4-Z20)","v":0},{"$f":"IF(AA14=0,0,(AA14*((LOG(AA14))/LOG(2))))","v":0},null,{"$f":"N14","v":1222},{"$f":"COUNTIF(L58:L82,AD14)","v":0},{"$f":"AE14/(AG4-AE20)","v":0},{"$f":"IF(AF14=0,0,(AF14*((LOG(AF14))/LOG(2))))","v":0},null,{"$f":"N14","v":1222},{"$f":"COUNTIF(L83:L107,AI14)","v":2},{"$f":"AJ14/(AL4-AJ20)","v":8.6956521739130432E-2},{"$f":"IF(AK14=0,0,(AK14*((LOG(AK14))/LOG(2))))","v":-0.30639669183104457},null,{"$f":"N14","v":1222},{"$f":"COUNTIF(L108:L133,AN14)","v":1},{"$f":"AO14/(AQ4-AO20)","v":0.04},{"$f":"IF(AP14=0,0,(AP14*((LOG(AP14))/LOG(2))))","v":-0.18575424759098899},null,{"$f":"N14","v":1222},{"$f":"COUNTIF(L134:L158,AS14)","v":0},{"$f":"AT14/(AV4-AT20)","v":0},{"$f":"IF(AU14=0,0,(AU14*((LOG(AU14))/LOG(2))))","v":0}]
[21,1424,12,1460,24,1474,14,1493,null,null,0,2121,null,2111,{"$f":"COUNTIF($L$7:$L$500,N15)","v":10},{"$f":"O15/$Q$4","v":6.5789473684210523E-2},{"$f":"IF(P15=0,0,(P15*((LOG(P15))/LOG(2))))","v":-0.25828943543133048},null,null,{"$f":"N15","v":2111},{"$f":"COUNTIF(L7:L31,T15)","v":0},{"$f":"U15/(W4-U20)","v":0},{"$f":"IF(V15=0,0,(V15*((LOG(V15))/LOG(2))))","v":0},null,{"$f":"N15","v":2111},{"$f":"COUNTIF(L32:L57,Y15)","v":3},{"$f":"Z15/(AB4-Z20)","v":0.13636363636363635},{"$f":"IF(AA15=0,0,(AA15*((LOG(AA15))/LOG(2))))","v":-0.39197306153401923},null,{"$f":"N15","v":2111},{"$f":"COUNTIF(L58:L82,AD15)","v":1},{"$f":"AE15/(AG4-AE20)","v":4.5454545454545456E-2},{"$f":"IF(AF15=0,0,(AF15*((LOG(AF15))/LOG(2))))","v":-0.20270143721078623},null,{"$f":"N15","v":2111},{"$f":"COUNTIF(L83:L107,AI15)","v":5},{"$f":"AJ15/(AL4-AJ20)","v":0.21739130434782608},{"$f":"IF(AK15=0,0,(AK15*((LOG(AK15))/LOG(2))))","v":-0.47861605677601093},null,{"$f":"N15","v":2111},{"$f":"COUNTIF(L108:L133,AN15)","v":1},{"$f":"AO15/(AQ4-AO20)","v":0.04},{"$f":"IF(AP15=0,0,(AP15*((LOG(AP15))/LOG(2))))","v":-0.18575424759098899},null,{"$f":"N15","v":2111},{"$f":"COUNTIF(L134:L158,AS15)","v":0},{"$f":"AT15/(AV4-AT20)","v":0},{"$f":"IF(AU15=0,0,(AU15*((LOG(AU15))/LOG(2))))","v":0}]
[21,1611,12,1626,24,1636,23,1646,null,null,0,2122,null,2112,{"$f":"COUNTIF($L$7:$L$500,N16)","v":19},{"$f":"O16/$Q$4","v":0.125},{"$f":"IF(P16=0,0,(P16*((LOG(P16))/LOG(2))))","v":-0.375},null,null,{"$f":"N16","v":2112},{"$f":"COUNTIF(L7:L31,T16)","v":5},{"$f":"U16/(W4-U20)","v":0.20833333333333334},{"$f":"IF(V16=0,0,(V16*((LOG(V16))/LOG(2))))","v":-0.47146550121537367},null,{"$f":"N16","v":2112},{"$f":"COUNTIF(L32:L57,Y16)","v":1},{"$f":"Z16/(AB4-Z20)","v":4.5454545454545456E-2},{"$f":"IF(AA16=0,0,(AA16*((LOG(AA16))/LOG(2))))","v":-0.20270143721078623},null,{"$f":"N16","v":2112},{"$f":"COUNTIF(L58:L82,AD16)","v":4},{"$f":"AE16/(AG4-AE20)","v":0.18181818181818182},{"$f":"IF(AF16=0,0,(AF16*((LOG(AF16))/LOG(2))))","v":-0.44716938520678134},null,{"$f":"N16","v":2112},{"$f":"COUNTIF(L83:L107,AI16)","v":4},{"$f":"AJ16/(AL4-AJ20)","v":0.17391304347826086},{"$f":"IF(AK16=0,0,(AK16*((LOG(AK16))/LOG(2))))","v":-0.43888034018382832},null,{"$f":"N16","v":2112},{"$f":"COUNTIF(L108:L133,AN16)","v":2},{"$f":"AO16/(AQ4-AO20)","v":0.08},{"$f":"IF(AP16=0,0,(AP16*((LOG(AP16))/LOG(2))))","v":-0.29150849518197797},null,{"$f":"N16","v":2112},{"$f":"COUNTIF(L134:L158,AS16)","v":3},{"$f":"AT16/(AV4-AT20)","v":0.125},{"$f":"IF(AU16=0,0,(AU16*((LOG(AU16))/LOG(2))))","v":-0.375}]
[21,1748,12,1761,13,1770,23,1784,null,null,0,2112,null,2121,{"$f":"COUNTIF($L$7:$L$500,N17)","v":19},{"$f":"O17/$Q$4","v":0.125},{"$f":"IF(P17=0,0,(P17*((LOG(P17))/LOG(2))))","v":-0.375},null,null,{"$f":"N17","v":2121},{"$f":"COUNTIF(L7:L31,T17)","v":7},{"$f":"U17/(W4-U20)","v":0.29166666666666669},{"$f":"IF(V17=0,0,(V17*((LOG(V17))/LOG(2))))","v":-0.51846887711020273},null,{"$f":"N17","v":2121},{"$f":"COUNTIF(L32:L57,Y17)","v":5},{"$f":"Z17/(AB4-Z20)","v":0.22727272727272727},{"$f":"IF(AA17=0,0,(AA17*((LOG(AA17))/LOG(2))))","v":-0.48579625539771243},null,{"$f":"N17","v":2121},{"$f":"COUNTIF(L58:L82,AD17)","v":2},{"$f":"AE17/(AG4-AE20)","v":9.0909090909090912E-2},{"$f":"IF(AF17=0,0,(AF17*((LOG(AF17))/LOG(2))))","v":-0.31449378351248153},null,{"$f":"N17","v":2121},{"$f":"COUNTIF(L83:L107,AI17)","v":1},{"$f":"AJ17/(AL4-AJ20)","v":4.3478260869565216E-2},{"$f":"IF(AK17=0,0,(AK17*((LOG(AK17))/LOG(2))))","v":-0.19667660678508753},null,{"$f":"N17","v":2121},{"$f":"COUNTIF(L108:L133,AN17)","v":1},{"$f":"AO17/(AQ4-AO20)","v":0.04},{"$f":"IF(AP17=0,0,(AP17*((LOG(AP17))/LOG(2))))","v":-0.18575424759098899},null,{"$f":"N17","v":2121},{"$f":"COUNTIF(L134:L158,AS17)","v":3},{"$f":"AT17/(AV4-AT20)","v":0.125},{"$f":"IF(AU17=0,0,(AU17*((LOG(AU17))/LOG(2))))","v":-0.375}]
[12,1906,23,1922,13,1935,23,1946,null,null,0,1212,null,2122,{"$f":"COUNTIF($L$7:$L$500,N18)","v":10},{"$f":"O18/$Q$4","v":6.5789473684210523E-2},{"$f":"IF(P18=0,0,(P18*((LOG(P18))/LOG(2))))","v":-0.25828943543133048},null,null,{"$f":"N18","v":2122},{"$f":"COUNTIF(L7:L31,T18)","v":1},{"$f":"U18/(W4-U20)","v":4.1666666666666664E-2},{"$f":"IF(V18=0,0,(V18*((LOG(V18))/LOG(2))))","v":-0.19104010419671485},null,{"$f":"N18","v":2122},{"$f":"COUNTIF(L32:L57,Y18)","v":4},{"$f":"Z18/(AB4-Z20)","v":0.18181818181818182},{"$f":"IF(AA18=0,0,(AA18*((LOG(AA18))/LOG(2))))","v":-0.44716938520678134},null,{"$f":"N18","v":2122},{"$f":"COUNTIF(L58:L82,AD18)","v":1},{"$f":"AE18/(AG4-AE20)","v":4.5454545454545456E-2},{"$f":"IF(AF18=0,0,(AF18*((LOG(AF18))/LOG(2))))","v":-0.20270143721078623},null,{"$f":"N18","v":2122},{"$f":"COUNTIF(L83:L107,AI18)","v":2},{"$f":"AJ18/(AL4-AJ20)","v":8.6956521739130432E-2},{"$f":"IF(AK18=0,0,(AK18*((LOG(AK18))/LOG(2))))","v":-0.30639669183104457},null,{"$f":"N18","v":2122},{"$f":"COUNTIF(L108:L133,AN18)","v":2},{"$f":"AO18/(AQ4-AO20)","v":0.08},{"$f":"IF(AP18=0,0,(AP18*((LOG(AP18))/LOG(2))))","v":-0.29150849518197797},null,{"$f":"N18","v":2122},{"$f":"COUNTIF(L134:L158,AS18)","v":0},{"$f":"AT18/(AV4-AT20)","v":0},{"$f":"IF(AU18=0,0,(AU18*((LOG(AU18))/LOG(2))))","v":0}]
[21,2077,12,2094,24,2102,14,2114,null,null,0,2121,null,2211,{"$f":"COUNTIF($L$7:$L$500,N19)","v":2},{"$f":"O19/$Q$4","v":1.3157894736842105E-2},{"$f":"IF(P19=0,0,(P19*((LOG(P19))/LOG(2))))","v":-8.2209572545310333E-2},null,null,{"$f":"N19","v":2211},{"$f":"COUNTIF(L7:L31,T19)","v":0},{"$f":"U19/(W4-U20)","v":0},{"$f":"IF(V19=0,0,(V19*((LOG(V19))/LOG(2))))","v":0},null,{"$f":"N19","v":2211},{"$f":"COUNTIF(L32:L57,Y19)","v":2},{"$f":"Z19/(AB4-Z20)","v":9.0909090909090912E-2},{"$f":"IF(AA19=0,0,(AA19*((LOG(AA19))/LOG(2))))","v":-0.31449378351248153},null,{"$f":"N19","v":2211},{"$f":"COUNTIF(L58:L82,AD19)","v":0},{"$f":"AE19/(AG4-AE20)","v":0},{"$f":"IF(AF19=0,0,(AF19*((LOG(AF19))/LOG(2))))","v":0},null,{"$f":"N19","v":2211},{"$f":"COUNTIF(L83:L107,AI19)","v":0},{"$f":"AJ19/(AL4-AJ20)","v":0},{"$f":"IF(AK19=0,0,(AK19*((LOG(AK19))/LOG(2))))","v":0},null,{"$f":"N19","v":2211},{"$f":"COUNTIF(L108:L133,AN19)","v":0},{"$f":"AO19/(AQ4-AO20)","v":0},{"$f":"IF(AP19=0,0,(AP19*((LOG(AP19))/LOG(2))))","v":0},null,{"$f":"N19","v":2211},{"$f":"COUNTIF(L134:L158,AS19)","v":0},{"$f":"AT19/(AV4-AT20)","v":0},{"$f":"IF(AU19=0,0,(AU19*((LOG(AU19))/LOG(2))))","v":0}]
[12,2244,23,2259,24,2285,23,2301,null,null,0,1222,null,2212,{"$f":"COUNTIF($L$7:$L$500,N20)","v":12},{"$f":"O20/$Q$4","v":7.8947368421052627E-2},{"$f":"IF(P20=0,0,(P20*((LOG(P20))/LOG(2))))","v":-0.28918144837282334},null,null,{"$f":"N20","v":2212},{"$f":"COUNTIF(L7:L31,T20)","v":1},null,null,null,{"$f":"N20","v":2212},{"$f":"COUNTIF(L32:L57,Y20)","v":4},null,null,null,{"$f":"N20","v":2212},{"$f":"COUNTIF(L58:L82,AD20)","v":3},null,null,null,{"$f":"N20","v":2212},{"$f":"COUNTIF(L83:L107,AI20)","v":2},null,null,null,{"$f":"N20","v":2212},{"$f":"COUNTIF(L108:L133,AN20)","v":1},null,null,null,{"$f":"N20","v":2212},{"$f":"COUNTIF(L134:L158,AS20)","v":1}]
[21,2401,12,2413,24,2421,14,2434,null,null,0,2121,null,2221,{"$f":"COUNTIF($L$7:$L$500,N21)","v":4},{"$f":"O21/$Q$4","v":2.6315789473684209E-2},{"$f":"IF(P21=0,0,(P21*((LOG(P21))/LOG(2))))","v":-0.13810335561693646},null,null,{"$f":"N21","v":2221},{"$f":"COUNTIF(L7:L31,T21)","v":0},{"$f":"U21/(W4-U20)","v":0},{"$f":"IF(V21=0,0,(V21*((LOG(V21))/LOG(2))))","v":0},null,{"$f":"N21","v":2221},{"$f":"COUNTIF(L32:L57,Y21)","v":1},{"$f":"Z21/(AB4-Z20)","v":4.5454545454545456E-2},{"$f":"IF(AA21=0,0,(AA21*((LOG(AA21))/LOG(2))))","v":-0.20270143721078623},null,{"$f":"N21","v":2221},{"$f":"COUNTIF(L58:L82,AD21)","v":1},{"$f":"AE21/(AG4-AE20)","v":4.5454545454545456E-2},{"$f":"IF(AF21=0,0,(AF21*((LOG(AF21))/LOG(2))))","v":-0.20270143721078623},null,{"$f":"N21","v":2221},{"$f":"COUNTIF(L83:L107,AI21)","v":2},{"$f":"AJ21/(AL4-AJ20)","v":8.6956521739130432E-2},{"$f":"IF(AK21=0,0,(AK21*((LOG(AK21))/LOG(2))))","v":-0.30639669183104457},null,{"$f":"N21","v":2221},{"$f":"COUNTIF(L108:L133,AN21)","v":0},{"$f":"AO21/(AQ4-AO20)","v":0},{"$f":"IF(AP21=0,0,(AP21*((LOG(AP21))/LOG(2))))","v":0},null,{"$f":"N21","v":2221},{"$f":"COUNTIF(L134:L158,AS21)","v":0},{"$f":"AT21/(AV4-AT20)","v":0},{"$f":"IF(AU21=0,0,(AU21*((LOG(AU21))/LOG(2))))","v":0}]
[12,2606,23,2619,13,2632,23,2651,null,null,0,1212,null,2222,{"$f":"COUNTIF($L$7:$L$500,N22)","v":3},{"$f":"O22/$Q$4","v":1.9736842105263157E-2},{"$f":"IF(P22=0,0,(P22*((LOG(P22))/LOG(2))))","v":-0.11176904630373216},null,null,{"$f":"N22","v":2222},{"$f":"COUNTIF(L7:L31,T22)","v":1},{"$f":"U22/(W4-U20)","v":4.1666666666666664E-2},{"$f":"IF(V22=0,0,(V22*((LOG(V22))/LOG(2))))","v":-0.19104010419671485},null,{"$f":"N22","v":2222},{"$f":"COUNTIF(L32:L57,Y22)","v":0},{"$f":"Z22/(AB4-Z20)","v":0},{"$f":"IF(AA22=0,0,(AA22*((LOG(AA22))/LOG(2))))","v":0},null,{"$f":"N22","v":2222},{"$f":"COUNTIF(L58:L82,AD22)","v":1},{"$f":"AE22/(AG4-AE20)","v":4.5454545454545456E-2},{"$f":"IF(AF22=0,0,(AF22*((LOG(AF22))/LOG(2))))","v":-0.20270143721078623},null,{"$f":"N22","v":2222},{"$f":"COUNTIF(L83:L107,AI22)","v":0},{"$f":"AJ22/(AL4-AJ20)","v":0},{"$f":"IF(AK22=0,0,(AK22*((LOG(AK22))/LOG(2))))","v":0},null,{"$f":"N22","v":2222},{"$f":"COUNTIF(L108:L133,AN22)","v":1},{"$f":"AO22/(AQ4-AO20)","v":0.04},{"$f":"IF(AP22=0,0,(AP22*((LOG(AP22))/LOG(2))))","v":-0.18575424759098899},null,{"$f":"N22","v":2222},{"$f":"COUNTIF(L134:L158,AS22)","v":0},{"$f":"AT22/(AV4-AT20)","v":0},{"$f":"IF(AU22=0,0,(AU22*((LOG(AU22))/LOG(2))))","v":0}]
[12,2778,23,2792,13,2804,23,2813,null,null,0,1212,null,null,null,{"$f":"SUM(P7:P22)","v":1},{"$f":"-SUM(Q7:Q22)","v":3.6173579151345447},null,null,null,null,{"$f":"SUM(V7:V22)","v":1},{"$f":"-SUM(W7:W22)","v":2.2824156286861546},null,null,null,{"$f":"SUM(AA7:AA22)","v":0.99999999999999989},{"$f":"-SUM(AB7:AB22)","v":3.0449127332389452},null,null,null,{"$f":"SUM(AF7:AF22)","v":0.99999999999999989},{"$f":"-SUM(AG7:AG22)","v":3.1180782093497088},null,null,null,{"$f":"SUM(AK7:AK22)","v":1},{"$f":"-SUM(AL7:AL22)","v":3.236186283255412},null,null,null,{"$f":"SUM(AP7:AP22)","v":1},{"$f":"-SUM(AQ7:AQ22)","v":3.3990795706241741},null,null,null,{"$f":"SUM(AU7:AU22)","v":1},{"$f":"-SUM(AV7:AV22)","v":2.7212518360044662}]
[21,2919,12,2941,13,2965,23,2973,null,null,0,2112,null,null,null,"U=",{"$f":"Q23/(LOG(Q4)/LOG(2))","v":0.49908858890006891},null,null,null,null,"U1=",{"$f":"W23/(LOG(W4)/LOG(2))","v":0.49149145352773621},null,null,null,"U2=",{"$f":"AB23/(LOG(AB4)/LOG(2))","v":0.64779316741097004},null,null,null,"U3=",{"$f":"AG23/(LOG(AG4)/LOG(2))","v":0.6714415955031906},null,null,null,"U4=",{"$f":"AL23/(LOG(AL4)/LOG(2))","v":0.69687478487838361},null,null,null,"U5=",{"$f":"AQ23/(LOG(AQ4)/LOG(2))","v":0.7231407643641532},null,null,null,"U6=",{"$f":"AV23/(LOG(AV4)/LOG(2))","v":0.58598968719065236}]
[12,3089,23,3103,24,3109,14,3128,null,null,0,1221]
[12,3252,23,3263,13,3275,23,3317,null,null,0,1212]
[21,3417,12,3454,13,3478,23,3510,null,null,0,2112,null,"Total Target Seq"]
[21,3629,12,3645,13,3665,23,3674,null,null,0,2112,null,{"$f":"COUNTIF(L7:L158,G3)","v":12},null,25,26,25,25,26,25]
[21,3789,12,3801,24,3822,14,3836,null,null,0,2121,null,null,null,"% of reinforcement given in 6 equal intervals based on number of trials "]
[21,3940,12,3950,13,3969,23,3982,null,null,0,2112,null,null,null,"%_1","%_2","%_3","%_4","%_5","%_6"]
[12,4100,23,4114,13,4128,23,4141,null,null,0,1212,null,null,"target sequence",{"$f":"$G$3","v":2212},{"$f":"$G$3","v":2212},{"$f":"$G$3","v":2212},{"$f":"$G$3","v":2212},{"$f":"$G$3","v":2212},{"$f":"$G$3","v":2212}]
[21,4250,12,4258,24,4271,23,4313,null,null,0,2122,null,null,"total reinforcement",{"$f":"U20","v":1},{"$f":"Z20","v":4},{"$f":"AE20","v":3},{"$f":"AJ20","v":2},{"$f":"AO20","v":1},{"$f":"AT20","v":1}]
[21,4419,21,4427,11,4437,12,4463,null,null,0,2211,null,null,"% target"]
[21,4573,12,4588,24,4606,23,4620,null,null,0,2122,null,null,"CCRF"]
[12,4752,14,4768,13,4798,23,4810,null,null,0,1112,null,null,"% CCRf"]
[21,4949,21,4962,11,4973,21,4986,null,null,0,2212,null,null,"average response rate",{"$f":"H31/P28","v":165.64},{"$f":"(H57-H31)/Q28","v":157.15384615384616},{"$f":"(H82-H57)/R28","v":153.24},{"$f":"(H107-H82)/S28","v":157.47999999999999},{"$f":"(H133-H107)/T28","v":153.65384615384616},{"$f":"(H158-H133)/U28","v":159.63999999999999}]
[12,5090,23,5111,13,5123,23,5134,null,null,0,1212]
[12,5263,14,5274,24,5286,14,5301,null,null,0,1121]
[21,5408,12,5422,13,5427,23,5441,null,null,0,2112]
[21,5550,12,5563,24,5577,14,5590,null,null,0,2121]
[21,5693,21,5710,11,5729,12,5755,null,null,0,2211]
[21,5867,21,5875,11,5889,21,5903,null,null,0,2212]
[12,6034,23,6051,13,6068,23,6081,null,null,0,1212]
[21,6191,21,6200,11,6210,21,6227,null,null,0,2212]
[21,6320,12,6334,24,6347,14,6362,null,null,0,2121]
[21,6465,12,6481,24,6495,14,6510,null,null,0,2121]
[21,6614,12,6625,24,6637,14,6648,null,null,0,2121]
[21,6752,12,6763,13,6789,14,6795,null,null,0,2111]
[12,6921,23,6931,24,6936,14,6950,null,null,0,1221]
[21,7071,12,7085,24,7098,14,7114,null,null,0,2121]
[21,7218,12,7248,24,7267,23,7273,null,null,0,2122]
[21,7379,21,7388,22,7395,14,7409,null,null,0,2221]
[12,7530,23,7544,13,7556,23,7591,null,null,0,1212]
[21,7707,12,7724,24,7733,23,7747,null,null,0,2122]
[21,7871,12,7883,13,7919,14,7951,null,null,0,2111]
[21,8057,21,8080,11,8092,21,8106,null,null,0,2212]
[21,8200,12,8215,13,8223,14,8227,null,null,0,2111]
[21,8330,12,8355,24,8371,14,8387,null,null,0,2121]
[21,8497,12,8522,13,8526,23,8539,null,null,0,2112]
[12,8662,23,8682,13,8695,23,8709,null,null,0,1212]
[21,8811,21,8822,11,8832,21,8846,null,null,0,2212]
[12,8959,23,8978,13,8993,23,9007,null,null,0,1212]
[12,9137,14,9159,13,9186,23,9200,null,null,0,1112]
[12,9329,23,9342,13,9354,23,9366,null,null,0,1212]
[21,9468,21,9493,11,9505,21,9533,null,null,0,2212]
[12,9650,23,9670,13,9683,23,9695,null,null,0,1212]
[21,9797,21,9812,22,9816,14,9828,null,null,0,2221]
[12,9925,14,9931,13,9939,14,9943,null,null,0,1111]
[21,10041,12,10053,13,10061,23,10074,null,null,0,2112]
[12,10183,23,10221,24,10227,14,10239,null,null,0,1221]
[12,10342,14,10349,24,10366,14,10377,null,null,0,1121]
[12,10478,14,10486,13,10490,14,10499,null,null,0,1111]
[12,10610,23,10627,13,10639,23,10652,null,null,0,1212]
[21,10779,12,10795,24,10804,23,10819,null,null,0,2122]
[21,10925,12,10936,13,10958,23,10971,null,null,0,2112]
[12,11111,23,11125,13,11140,23,11154,null,null,0,1212]
[21,11269,21,11281,22,11293,23,11297,null,null,0,2222]
[21,11403,12,11412,13,11441,23,11452,null,null,0,2112]
[21,11555,12,11569,24,11583,14,11595,null,null,0,2121]
[21,11694,12,11705,13,11712,14,11716,null,null,0,2111]
[12,11852,14,11862,24,11879,14,11893,null,null,0,1121]
[21,12013,21,12029,11,12044,21,12058,null,null,0,2212]
[12,12171,23,12193,13,12207,23,12220,null,null,0,1212]
[21,12338,21,12353,11,12367,21,12381,null,null,0,2212]
[21,12482,12,12492,13,12500,14,12505,null,null,0,2111]
[21,12635,12,12655,13,12663,14,12668,null,null,0,2111]
[12,12814,23,12831,24,12841,23,12857,null,null,0,1222]
[21,12966,12,12978,24,12992,23,13013,null,null,0,2122]
[21,13126,12,13136,13,13145,14,13166,null,null,0,2111]
[12,13290,14,13297,24,13305,23,13318,null,null,0,1122]
[12,13421,14,13428,13,13456,23,13474,null,null,0,1112]
[21,13584,12,13616,24,13632,23,13641,null,null,0,2122]
[21,13744,12,13782,13,13790,23,13803,null,null,0,2112]
[12,13925,23,13937,24,13949,23,13957,null,null,0,1222]
[21,14069,21,14074,11,14096,21,14112,null,null,0,2212]
[21,14210,12,14231,24,14250,14,14264,null,null,0,2121]
[21,14404,12,14416,13,14443,14,14470,null,null,0,2111]
[21,14576,21,14613,22,14624,14,14637,null,null,0,2221]
[12,14741,23,14762,13,14773,14,14780,null,null,0,1211]
[21,14888,12,14898,13,14906,23,14921,null,null,0,2112]
[21,15022,21,15040,22,15056,14,15067,null,null,0,2221]
[12,15192,14,15200,24,15215,23,15223,null,null,0,1122]
[12,15341,14,15350,24,15361,14,15374,null,null,0,1121]
[21,15478,12,15491,13,15516,23,15528,null,null,0,2112]
[12,15654,23,15670,13,15683,23,15701,null,null,0,1212]
[21,15812,12,15822,13,15829,14,15833,null,null,0,2111]
[21,15935,12,15948,13,15977,23,15995,null,null,0,2112]
[21,16103,12,16117,13,16124,23,16136,null,null,0,2112]
[21,16242,21,16254,22,16259,23,16287,null,null,0,2222]
[12,16414,14,16423,24,16441,14,16454,null,null,0,1121]
[12,16577,23,16590,13,16603,14,16608,null,null,0,1211]
[12,16725,14,16732,13,16737,23,16749,null,null,0,1112]
[12,16850,14,16859,13,16878,14,16906,null,null,0,1111]
[12,17022,23,17037,13,17050,23,17065,null,null,0,1212]
[12,17193,14,17201,13,17205,23,17242,null,null,0,1112]
[21,17341,12,17362,24,17376,23,17383,null,null,0,2122]
[12,17496,23,17524,13,17537,14,17566,null,null,0,1211]
[12,17681,14,17699,24,17718,14,17730,null,null,0,1121]
[21,17848,12,17864,24,17880,14,17893,null,null,0,2121]
[21,18005,12,18015,13,18023,14,18027,null,null,0,2111]
[21,18132,12,18147,24,18159,23,18167,null,null,0,2122]
[12,18287,23,18298,24,18303,23,18312,null,null,0,1222]
[12,18421,23,18445,13,18460,23,18473,null,null,0,1212]
[12,18594,14,18622,24,18633,14,18647,null,null,0,1121]
[12,18769,14,18777,13,18781,14,18785,null,null,0,1111]
[12,18910,23,18926,13,18939,23,18954,null,null,0,1212]
[21,19059,21,19076,11,19088,21,19108,null,null,0,2212]
[12,19198,14,19203,13,19208,14,19212,null,null,0,1111]
[12,19318,23,19330,13,19345,23,19360,null,null,0,1212]
[12,19477,23,19499,24,19510,14,19522,null,null,0,1221]
[12,19632,23,19646,24,19653,14,19666,null,null,0,1221]
[12,19790,23,19803,13,19818,23,19831,null,null,0,1212]
[21,19957,12,19974,13,19978,23,19990,null,null,0,2112]
[21,20094,12,20114,13,20136,23,20149,null,null,0,2112]
[12,20282,14,20286,13,20293,14,20297,null,null,0,1111]
[21,20402,12,20419,13,20427,23,20442,null,null,0,2112]
[12,20554,23,20570,24,20582,14,20594,null,null,0,1221]
[12,20719,14,20726,13,20730,14,20734,null,null,0,1111]
[12,20872,23,20884,13,20901,23,20916,null,null,0,1212]
[12,21027,14,21031,13,21039,23,21062,null,null,0,1112]
[21,21179,12,21190,13,21198,23,21207,null,null,0,2112]
[21,21320,12,21331,24,21343,14,21358,null,null,0,2121]
[12,21473,23,21486,13,21499,23,21512,null,null,0,1212]
[12,21632,14,21660,24,21673,14,21686,null,null,0,1121]
[12,21814,23,21825,24,21833,14,21849,null,null,0,1221]
[12,21981,23,21995,13,22010,23,22026,null,null,0,1212]
[21,22133,21,22148,11,22162,21,22175,null,null,0,2212]
[12,22273,14,22280,13,22285,14,22308,null,null,0,1111]
[12,22568,14,22575,13,22583,14,22615,null,null,0,1111]
[12,22726,14,22731,24,22747,14,22760,null,null,0,1121]
[12,22863,14,22868,13,22874,23,22886,null,null,0,1112]
[12,23007,23,23024,13,23039,23,23060,null,null,0,1212]
[12,23179,23,23193,13,23208,23,23223,null,null,0,1212]
[21,23328,12,23345,24,23357,14,23371,null,null,0,2121]
[12,23486,14,23493,13,23496,14,23501,null,null,0,1111]
[21,23612,12,23631,24,23644,14,23662,null,null,0,2121]
[12,23789,14,23796,24,23812,14,23826,null,null,0,1121]
[12,23946,14,23950,24,23966,14,23981,null,null,null,1121]

{"sheet":"!N126850.092","index":29,"n_rows":156,"n_cols":48,"rows_kept":156,"cut":false,"hidden":false,"merged":[[4,39,4,42],[5,39,5,40],[4,44,4,47],[5,44,5,45],[4,24,4,27],[5,24,5,25],[4,29,4,32],[5,29,5,30],[4,34,4,37],[5,34,5,35],[1,1,1,2],[5,13,5,14],[26,13,26,14],[27,13,27,14],[4,19,4,22],[5,19,5,20]]}
["Report for:!N126850.092"]
["Date:","<date>"]
["Hen:","<hen>",null,null,null,"Correct Sequence",{"$f":"Start!J2","v":2212},null,null,null,null,null,null,null,null,"Total Sequences in Data",{"$f":"4994-COUNTBLANK(L7:L5000)","v":150},null,null,null,null,"Total Sequences in Block Data",{"$f":"COUNTA(L7:L31)","v":25},null,null,null,"Total Sequences in Block Data",{"$f":"COUNTA(L32:L56)","v":25},null,null,null,"Total Sequences in Block Data",{"$f":"COUNTA(L57:L81)","v":25},null,null,null,"Total Sequences in Block Data",{"$f":"COUNTA(L82:L106)","v":25},null,null,null,"Total Sequences in Block Data",{"$f":"COUNTA(L107:L131)","v":25},null,null,null,"Total Sequences in Block Data",{"$f":"COUNTA(L132:L156)","v":25}]
[null,null,null,null,null,null,null,null,null,null,null,null,null,null,null,"Total Sequences in Summary",{"$f":"SUM(O7:O22)","v":150},null,null,null,null,"Total Sequences in Block Summary",{"$f":"SUM(U7:U22)","v":25},null,null,null,"Total Sequences in Block Summary",{"$f":"SUM(Z7:Z22)","v":25},null,null,null,"Total Sequences in Block Summary",{"$f":"SUM(AE7:AE22)","v":25},null,null,null,"Total Sequences in Block Summary",{"$f":"SUM(AJ7:AJ22)","v":25},null,null,null,"Total Sequences in Block Summary",{"$f":"SUM(AO7:AO22)","v":25},null,null,null,"Total Sequences in Block Summary",{"$f":"SUM(AT7:AT22)","v":25}]
[null,null,null,null,null,null,null,null,null,null,null,null,null,null,null,null,null,null,null,"Block 1",null,null,null,null,"Block 2",null,null,null,null,"Block 3",null,null,null,null,"Block 4",null,null,null,null,"Block 5",null,null,null,null,"Block 6"]
["Sequence\nComponent\n1","Time\n1","Sequence\nComponent\n2","Time\n2","Sequence\nComponent\n3","Time\n3","Sequence\nComponent\n4","Time\n4","Sequence\nComponent\n5","Time\n5","Correct?\n0=No 1=Yes","Sequence",null,"Frequency",null,"Relative Frequency","Variability",null,null,"Frequency",null,"Relative Frequency","Variability",null,"Frequency",null,"Relative Frequency","Variability",null,"Frequency",null,"Relative Frequency","Variability",null,"Frequency",null,"Relative Frequency","Variability",null,"Frequency",null,"Relative Frequency","Variability",null,"Frequency",null,"Relative Frequency","Variability"]
[21,27,21,28,22,56,14,72,null,null,0,2221,null,1111,{"$f":"COUNTIF($L$7:$L$500,N7)","v":1},{"$f":"O7/$Q$4","v":6.6666666666666671E-3},{"$f":"IF(P7=0,0,(P7*((LOG(P7))/LOG(2))))","v":-4.819212460330588E-2},null,null,{"$f":"N7","v":1111},{"$f":"COUNTIF(L7:L31,T7)","v":0},{"$f":"U7/(W4-U20)","v":0},{"$f":"IF(V7=0,0,(V7*((LOG(V7))/LOG(2))))","v":0},null,{"$f":"N7","v":1111},{"$f":"COUNTIF(L32:L56,Y7)","v":0},{"$f":"Z7/(AB4-Z20)","v":0},{"$f":"IF(AA7=0,0,(AA7*((LOG(AA7))/LOG(2))))","v":0},null,{"$f":"N7","v":1111},{"$f":"COUNTIF(L57:L81,AD7)","v":0},{"$f":"AE7/(AG4-AE20)","v":0},{"$f":"IF(AF7=0,0,(AF7*((LOG(AF7))/LOG(2))))","v":0},null,{"$f":"N7","v":1111},{"$f":"COUNTIF(L82:L106,AI7)","v":0},{"$f":"AJ7/(AL4-AJ20)","v":0},{"$f":"IF(AK7=0,0,(AK7*((LOG(AK7))/LOG(2))))","v":0},null,{"$f":"N7","v":1111},{"$f":"COUNTIF(L107:L131,AN7)","v":0},{"$f":"AO7/(AQ4-AO20)","v":0},{"$f":"IF(AP7=0,0,(AP7*((LOG(AP7))/LOG(2))))","v":0},null,{"$f":"N7","v":1111},{"$f":"COUNTIF(L132:L156,AS7)","v":1},{"$f":"AT7/(AV4-AT20)","v":4.5454545454545456E-2},{"$f":"IF(AU7=0,0,(AU7*((LOG(AU7))/LOG(2))))","v":-0.20270143721078623}]
[21,248,21,261,11,275,21,297,null,null,0,2212,null,1112,{"$f":"COUNTIF($L$7:$L$500,N8)","v":6},{"$f":"O8/$Q$4","v":0.04},{"$f":"IF(P8=0,0,(P8*((LOG(P8))/LOG(2))))","v":-0.18575424759098899},null,null,{"$f":"N8","v":1112},{"$f":"COUNTIF(L7:L31,T8)","v":0},{"$f":"U8/(W4-U20)","v":0},{"$f":"IF(V8=0,0,(V8*((LOG(V8))/LOG(2))))","v":0},null,{"$f":"N8","v":1112},{"$f":"COUNTIF(L32:L56,Y8)","v":0},{"$f":"Z8/(AB4-Z20)","v":0},{"$f":"IF(AA8=0,0,(AA8*((LOG(AA8))/LOG(2))))","v":0},null,{"$f":"N8","v":1112},{"$f":"COUNTIF(L57:L81,AD8)","v":1},{"$f":"AE8/(AG4-AE20)","v":4.3478260869565216E-2},{"$f":"IF(AF8=0,0,(AF8*((LOG(AF8))/LOG(2))))","v":-0.19667660678508753},null,{"$f":"N8","v":1112},{"$f":"COUNTIF(L82:L106,AI8)","v":3},{"$f":"AJ8/(AL4-AJ20)","v":0.14285714285714285},{"$f":"IF(AK8=0,0,(AK8*((LOG(AK8))/LOG(2))))","v":-0.40105070315108626},null,{"$f":"N8","v":1112},{"$f":"COUNTIF(L107:L131,AN8)","v":1},{"$f":"AO8/(AQ4-AO20)","v":4.3478260869565216E-2},{"$f":"IF(AP8=0,0,(AP8*((LOG(AP8))/LOG(2))))","v":-0.19667660678508753},null,{"$f":"N8","v":1112},{"$f":"COUNTIF(L132:L156,AS8)","v":1},{"$f":"AT8/(AV4-AT20)","v":4.5454545454545456E-2},{"$f":"IF(AU8=0,0,(AU8*((LOG(AU8))/LOG(2))))","v":-0.20270143721078623}]
[21,409,12,429,24,438,14,451,null,null,0,2121,null,1121,{"$f":"COUNTIF($L$7:$L$500,N9)","v":9},{"$f":"O9/$Q$4","v":0.06},{"$f":"IF(P9=0,0,(P9*((LOG(P9))/LOG(2))))","v":-0.2435336213432141},null,null,{"$f":"N9","v":1121},{"$f":"COUNTIF(L7:L31,T9)","v":1},{"$f":"U9/(W4-U20)","v":0.05},{"$f":"IF(V9=0,0,(V9*((LOG(V9))/LOG(2))))","v":-0.21609640474436814},null,{"$f":"N9","v":1121},{"$f":"COUNTIF(L32:L56,Y9)","v":2},{"$f":"Z9/(AB4-Z20)","v":0.1},{"$f":"IF(AA9=0,0,(AA9*((LOG(AA9))/LOG(2))))","v":-0.33219280948873625},null,{"$f":"N9","v":1121},{"$f":"COUNTIF(L57:L81,AD9)","v":0},{"$f":"AE9/(AG4-AE20)","v":0},{"$f":"IF(AF9=0,0,(AF9*((LOG(AF9))/LOG(2))))","v":0},null,{"$f":"N9","v":1121},{"$f":"COUNTIF(L82:L106,AI9)","v":2},{"$f":"AJ9/(AL4-AJ20)","v":9.5238095238095233E-2},{"$f":"IF(AK9=0,0,(AK9*((LOG(AK9))/LOG(2))))","v":-0.32307784978845333},null,{"$f":"N9","v":1121},{"$f":"COUNTIF(L107:L131,AN9)","v":1},{"$f":"AO9/(AQ4-AO20)","v":4.3478260869565216E-2},{"$f":"IF(AP9=0,0,(AP9*((LOG(AP9))/LOG(2))))","v":-0.19667660678508753},null,{"$f":"N9","v":1121},{"$f":"COUNTIF(L132:L156,AS9)","v":3},{"$f":"AT9/(AV4-AT20)","v":0.13636363636363635},{"$f":"IF(AU9=0,0,(AU9*((LOG(AU9))/LOG(2))))","v":-0.39197306153401923}]
[12,568,23,577,24,585,23,590,null,null,0,1222,null,1122,{"$f":"COUNTIF($L$7:$L$500,N10)","v":4},{"$f":"O10/$Q$4","v":2.6666666666666668E-2},{"$f":"IF(P10=0,0,(P10*((LOG(P10))/LOG(2))))","v":-0.13943516507989015},null,null,{"$f":"N10","v":1122},{"$f":"COUNTIF(L7:L31,T10)","v":1},{"$f":"U10/(W4-U20)","v":0.05},{"$f":"IF(V10=0,0,(V10*((LOG(V10))/LOG(2))))","v":-0.21609640474436814},null,{"$f":"N10","v":1122},{"$f":"COUNTIF(L32:L56,Y10)","v":1},{"$f":"Z10/(AB4-Z20)","v":0.05},{"$f":"IF(AA10=0,0,(AA10*((LOG(AA10))/LOG(2))))","v":-0.21609640474436814},null,{"$f":"N10","v":1122},{"$f":"COUNTIF(L57:L81,AD10)","v":0},{"$f":"AE10/(AG4-AE20)","v":0},{"$f":"IF(AF10=0,0,(AF10*((LOG(AF10))/LOG(2))))","v":0},null,{"$f":"N10","v":1122},{"$f":"COUNTIF(L82:L106,AI10)","v":1},{"$f":"AJ10/(AL4-AJ20)","v":4.7619047619047616E-2},{"$f":"IF(AK10=0,0,(AK10*((LOG(AK10))/LOG(2))))","v":-0.20915797251327431},null,{"$f":"N10","v":1122},{"$f":"COUNTIF(L107:L131,AN10)","v":1},{"$f":"AO10/(AQ4-AO20)","v":4.3478260869565216E-2},{"$f":"IF(AP10=0,0,(AP10*((LOG(AP10))/LOG(2))))","v":-0.19667660678508753},null,{"$f":"N10","v":1122},{"$f":"COUNTIF(L132:L156,AS10)","v":0},{"$f":"AT10/(AV4-AT20)","v":0},{"$f":"IF(AU10=0,0,(AU10*((LOG(AU10))/LOG(2))))","v":0}]
[21,708,12,721,24,744,23,751,null,null,0,2122,null,1211,{"$f":"COUNTIF($L$7:$L$500,N11)","v":1},{"$f":"O11/$Q$4","v":6.6666666666666671E-3},{"$f":"IF(P11=0,0,(P11*((LOG(P11))/LOG(2))))","v":-4.819212460330588E-2},null,null,{"$f":"N11","v":1211},{"$f":"COUNTIF(L7:L31,T11)","v":0},{"$f":"U11/(W4-U20)","v":0},{"$f":"IF(V11=0,0,(V11*((LOG(V11))/LOG(2))))","v":0},null,{"$f":"N11","v":1211},{"$f":"COUNTIF(L32:L56,Y11)","v":0},{"$f":"Z11/(AB4-Z20)","v":0},{"$f":"IF(AA11=0,0,(AA11*((LOG(AA11))/LOG(2))))","v":0},null,{"$f":"N11","v":1211},{"$f":"COUNTIF(L57:L81,AD11)","v":0},{"$f":"AE11/(AG4-AE20)","v":0},{"$f":"IF(AF11=0,0,(AF11*((LOG(AF11))/LOG(2))))","v":0},null,{"$f":"N11","v":1211},{"$f":"COUNTIF(L82:L106,AI11)","v":0},{"$f":"AJ11/(AL4-AJ20)","v":0},{"$f":"IF(AK11=0,0,(AK11*((LOG(AK11))/LOG(2))))","v":0},null,{"$f":"N11","v":1211},{"$f":"COUNTIF(L107:L131,AN11)","v":0},{"$f":"AO11/(AQ4-AO20)","v":0},{"$f":"IF(AP11=0,0,(AP11*((LOG(AP11))/LOG(2))))","v":0},null,{"$f":"N11","v":1211},{"$f":"COUNTIF(L132:L156,AS11)","v":1},{"$f":"AT11/(AV4-AT20)","v":4.5454545454545456E-2},{"$f":"IF(AU11=0,0,(AU11*((LOG(AU11))/LOG(2))))","v":-0.20270143721078623}]
[21,900,12,930,24,938,23,944,null,null,0,2122,null,1212,{"$f":"COUNTIF($L$7:$L$500,N12)","v":23},{"$f":"O12/$Q$4","v":0.15333333333333332},{"$f":"IF(P12=0,0,(P12*((LOG(P12))/LOG(2))))","v":-0.41480603261395976},null,null,{"$f":"N12","v":1212},{"$f":"COUNTIF(L7:L31,T12)","v":0},{"$f":"U12/(W4-U20)","v":0},{"$f":"IF(V12=0,0,(V12*((LOG(V12))/LOG(2))))","v":0},null,{"$f":"N12","v":1212},{"$f":"COUNTIF(L32:L56,Y12)","v":4},{"$f":"Z12/(AB4-Z20)","v":0.2},{"$f":"IF(AA12=0,0,(AA12*((LOG(AA12))/LOG(2))))","v":-0.46438561897747244},null,{"$f":"N12","v":1212},{"$f":"COUNTIF(L57:L81,AD12)","v":5},{"$f":"AE12/(AG4-AE20)","v":0.21739130434782608},{"$f":"IF(AF12=0,0,(AF12*((LOG(AF12))/LOG(2))))","v":-0.47861605677601093},null,{"$f":"N12","v":1212},{"$f":"COUNTIF(L82:L106,AI12)","v":3},{"$f":"AJ12/(AL4-AJ20)","v":0.14285714285714285},{"$f":"IF(AK12=0,0,(AK12*((LOG(AK12))/LOG(2))))","v":-0.40105070315108626},null,{"$f":"N12","v":1212},{"$f":"COUNTIF(L107:L131,AN12)","v":7},{"$f":"AO12/(AQ4-AO20)","v":0.30434782608695654},{"$f":"IF(AP12=0,0,(AP12*((LOG(AP12))/LOG(2))))","v":-0.52232387991286355},null,{"$f":"N12","v":1212},{"$f":"COUNTIF(L132:L156,AS12)","v":4},{"$f":"AT12/(AV4-AT20)","v":0.18181818181818182},{"$f":"IF(AU12=0,0,(AU12*((LOG(AU12))/LOG(2))))","v":-0.44716938520678134}]
[21,1046,12,1068,24,1085,14,1098,null,null,0,2121,null,1221,{"$f":"COUNTIF($L$7:$L$500,N13)","v":9},{"$f":"O13/$Q$4","v":0.06},{"$f":"IF(P13=0,0,(P13*((LOG(P13))/LOG(2))))","v":-0.2435336213432141},null,null,{"$f":"N13","v":1221},{"$f":"COUNTIF(L7:L31,T13)","v":1},{"$f":"U13/(W4-U20)","v":0.05},{"$f":"IF(V13=0,0,(V13*((LOG(V13))/LOG(2))))","v":-0.21609640474436814},null,{"$f":"N13","v":1221},{"$f":"COUNTIF(L32:L56,Y13)","v":0},{"$f":"Z13/(AB4-Z20)","v":0},{"$f":"IF(AA13=0,0,(AA13*((LOG(AA13))/LOG(2))))","v":0},null,{"$f":"N13","v":1221},{"$f":"COUNTIF(L57:L81,AD13)","v":3},{"$f":"AE13/(AG4-AE20)","v":0.13043478260869565},{"$f":"IF(AF13=0,0,(AF13*((LOG(AF13))/LOG(2))))","v":-0.3832955811307639},null,{"$f":"N13","v":1221},{"$f":"COUNTIF(L82:L106,AI13)","v":2},{"$f":"AJ13/(AL4-AJ20)","v":9.5238095238095233E-2},{"$f":"IF(AK13=0,0,(AK13*((LOG(AK13))/LOG(2))))","v":-0.32307784978845333},null,{"$f":"N13","v":1221},{"$f":"COUNTIF(L107:L131,AN13)","v":0},{"$f":"AO13/(AQ4-AO20)","v":0},{"$f":"IF(AP13=0,0,(AP13*((LOG(AP13))/LOG(2))))","v":0},null,{"$f":"N13","v":1221},{"$f":"COUNTIF(L132:L156,AS13)","v":3},{"$f":"AT13/(AV4-AT20)","v":0.13636363636363635},{"$f":"IF(AU13=0,0,(AU13*((LOG(AU13))/LOG(2))))","v":-0.39197306153401923}]
[21,1201,12,1213,24,1247,14,1259,null,null,0,2121,null,1222,{"$f":"COUNTIF($L$7:$L$500,N14)","v":4},{"$f":"O14/$Q$4","v":2.6666666666666668E-2},{"$f":"IF(P14=0,0,(P14*((LOG(P14))/LOG(2))))","v":-0.13943516507989015},null,null,{"$f":"N14","v":1222},{"$f":"COUNTIF(L7:L31,T14)","v":1},{"$f":"U14/(W4-U20)","v":0.05},{"$f":"IF(V14=0,0,(V14*((LOG(V14))/LOG(2))))","v":-0.21609640474436814},null,{"$f":"N14","v":1222},{"$f":"COUNTIF(L32:L56,Y14)","v":1},{"$f":"Z14/(AB4-Z20)","v":0.05},{"$f":"IF(AA14=0,0,(AA14*((LOG(AA14))/LOG(2))))","v":-0.21609640474436814},null,{"$f":"N14","v":1222},{"$f":"COUNTIF(L57:L81,AD14)","v":0},{"$f":"AE14/(AG4-AE20)","v":0},{"$f":"IF(AF14=0,0,(AF14*((LOG(AF14))/LOG(2))))","v":0},null,{"$f":"N14","v":1222},{"$f":"COUNTIF(L82:L106,AI14)","v":0},{"$f":"AJ14/(AL4-AJ20)","v":0},{"$f":"IF(AK14=0,0,(AK14*((LOG(AK14))/LOG(2))))","v":0},null,{"$f":"N14","v":1222},{"$f":"COUNTIF(L107:L131,AN14)","v":2},{"$f":"AO14/(AQ4-AO20)","v":8.6956521739130432E-2},{"$f":"IF(AP14=0,0,(AP14*((LOG(AP14))/LOG(2))))","v":-0.30639669183104457},null,{"$f":"N14","v":1222},{"$f":"COUNTIF(L132:L156,AS14)","v":0},{"$f":"AT14/(AV4-AT20)","v":0},{"$f":"IF(AU14=0,0,(AU14*((LOG(AU14))/LOG(2))))","v":0}]
[21,1369,12,1381,24,1402,14,1416,null,null,0,2121,null,2111,{"$f":"COUNTIF($L$7:$L$500,N15)","v":2},{"$f":"O15/$Q$4","v":1.3333333333333334E-2},{"$f":"IF(P15=0,0,(P15*((LOG(P15))/LOG(2))))","v":-8.3050915873278425E-2},null,null,{"$f":"N15","v":2111},{"$f":"COUNTIF(L7:L31,T15)","v":0},{"$f":"U15/(W4-U20)","v":0},{"$f":"IF(V15=0,0,(V15*((LOG(V15))/LOG(2))))","v":0},null,{"$f":"N15","v":2111},{"$f":"COUNTIF(L32:L56,Y15)","v":0},{"$f":"Z15/(AB4-Z20)","v":0},{"$f":"IF(AA15=0,0,(AA15*((LOG(AA15))/LOG(2))))","v":0},null,{"$f":"N15","v":2111},{"$f":"COUNTIF(L57:L81,AD15)","v":1},{"$f":"AE15/(AG4-AE20)","v":4.3478260869565216E-2},{"$f":"IF(AF15=0,0,(AF15*((LOG(AF15))/LOG(2))))","v":-0.19667660678508753},null,{"$f":"N15","v":2111},{"$f":"COUNTIF(L82:L106,AI15)","v":1},{"$f":"AJ15/(AL4-AJ20)","v":4.7619047619047616E-2},{"$f":"IF(AK15=0,0,(AK15*((LOG(AK15))/LOG(2))))","v":-0.20915797251327431},null,{"$f":"N15","v":2111},{"$f":"COUNTIF(L107:L131,AN15)","v":0},{"$f":"AO15/(AQ4-AO20)","v":0},{"$f":"IF(AP15=0,0,(AP15*((LOG(AP15))/LOG(2))))","v":0},null,{"$f":"N15","v":2111},{"$f":"COUNTIF(L132:L156,AS15)","v":0},{"$f":"AT15/(AV4-AT20)","v":0},{"$f":"IF(AU15=0,0,(AU15*((LOG(AU15))/LOG(2))))","v":0}]
[21,1527,12,1538,13,1564,23,1577,null,null,0,2112,null,2112,{"$f":"COUNTIF($L$7:$L$500,N16)","v":12},{"$f":"O16/$Q$4","v":0.08},{"$f":"IF(P16=0,0,(P16*((LOG(P16))/LOG(2))))","v":-0.29150849518197797},null,null,{"$f":"N16","v":2112},{"$f":"COUNTIF(L7:L31,T16)","v":3},{"$f":"U16/(W4-U20)","v":0.15},{"$f":"IF(V16=0,0,(V16*((LOG(V16))/LOG(2))))","v":-0.41054483912493089},null,{"$f":"N16","v":2112},{"$f":"COUNTIF(L32:L56,Y16)","v":1},{"$f":"Z16/(AB4-Z20)","v":0.05},{"$f":"IF(AA16=0,0,(AA16*((LOG(AA16))/LOG(2))))","v":-0.21609640474436814},null,{"$f":"N16","v":2112},{"$f":"COUNTIF(L57:L81,AD16)","v":2},{"$f":"AE16/(AG4-AE20)","v":8.6956521739130432E-2},{"$f":"IF(AF16=0,0,(AF16*((LOG(AF16))/LOG(2))))","v":-0.30639669183104457},null,{"$f":"N16","v":2112},{"$f":"COUNTIF(L82:L106,AI16)","v":2},{"$f":"AJ16/(AL4-AJ20)","v":9.5238095238095233E-2},{"$f":"IF(AK16=0,0,(AK16*((LOG(AK16))/LOG(2))))","v":-0.32307784978845333},null,{"$f":"N16","v":2112},{"$f":"COUNTIF(L107:L131,AN16)","v":1},{"$f":"AO16/(AQ4-AO20)","v":4.3478260869565216E-2},{"$f":"IF(AP16=0,0,(AP16*((LOG(AP16))/LOG(2))))","v":-0.19667660678508753},null,{"$f":"N16","v":2112},{"$f":"COUNTIF(L132:L156,AS16)","v":3},{"$f":"AT16/(AV4-AT20)","v":0.13636363636363635},{"$f":"IF(AU16=0,0,(AU16*((LOG(AU16))/LOG(2))))","v":-0.39197306153401923}]
[21,1686,12,1700,13,1724,23,1736,null,null,0,2112,null,2121,{"$f":"COUNTIF($L$7:$L$500,N17)","v":28},{"$f":"O17/$Q$4","v":0.18666666666666668},{"$f":"IF(P17=0,0,(P17*((LOG(P17))/LOG(2))))","v":-0.45200657010847833},null,null,{"$f":"N17","v":2121},{"$f":"COUNTIF(L7:L31,T17)","v":5},{"$f":"U17/(W4-U20)","v":0.25},{"$f":"IF(V17=0,0,(V17*((LOG(V17))/LOG(2))))","v":-0.5},null,{"$f":"N17","v":2121},{"$f":"COUNTIF(L32:L56,Y17)","v":5},{"$f":"Z17/(AB4-Z20)","v":0.25},{"$f":"IF(AA17=0,0,(AA17*((LOG(AA17))/LOG(2))))","v":-0.5},null,{"$f":"N17","v":2121},{"$f":"COUNTIF(L57:L81,AD17)","v":5},{"$f":"AE17/(AG4-AE20)","v":0.21739130434782608},{"$f":"IF(AF17=0,0,(AF17*((LOG(AF17))/LOG(2))))","v":-0.47861605677601093},null,{"$f":"N17","v":2121},{"$f":"COUNTIF(L82:L106,AI17)","v":4},{"$f":"AJ17/(AL4-AJ20)","v":0.19047619047619047},{"$f":"IF(AK17=0,0,(AK17*((LOG(AK17))/LOG(2))))","v":-0.4556795091007162},null,{"$f":"N17","v":2121},{"$f":"COUNTIF(L107:L131,AN17)","v":4},{"$f":"AO17/(AQ4-AO20)","v":0.17391304347826086},{"$f":"IF(AP17=0,0,(AP17*((LOG(AP17))/LOG(2))))","v":-0.43888034018382832},null,{"$f":"N17","v":2121},{"$f":"COUNTIF(L132:L156,AS17)","v":5},{"$f":"AT17/(AV4-AT20)","v":0.22727272727272727},{"$f":"IF(AU17=0,0,(AU17*((LOG(AU17))/LOG(2))))","v":-0.48579625539771243}]
[21,1839,21,1853,11,1867,21,1904,null,null,0,2212,null,2122,{"$f":"COUNTIF($L$7:$L$500,N18)","v":22},{"$f":"O18/$Q$4","v":0.14666666666666667},{"$f":"IF(P18=0,0,(P18*((LOG(P18))/LOG(2))))","v":-0.40617677053925894},null,null,{"$f":"N18","v":2122},{"$f":"COUNTIF(L7:L31,T18)","v":7},{"$f":"U18/(W4-U20)","v":0.35},{"$f":"IF(V18=0,0,(V18*((LOG(V18))/LOG(2))))","v":-0.53010061049041535},null,{"$f":"N18","v":2122},{"$f":"COUNTIF(L32:L56,Y18)","v":3},{"$f":"Z18/(AB4-Z20)","v":0.15},{"$f":"IF(AA18=0,0,(AA18*((LOG(AA18))/LOG(2))))","v":-0.41054483912493089},null,{"$f":"N18","v":2122},{"$f":"COUNTIF(L57:L81,AD18)","v":4},{"$f":"AE18/(AG4-AE20)","v":0.17391304347826086},{"$f":"IF(AF18=0,0,(AF18*((LOG(AF18))/LOG(2))))","v":-0.43888034018382832},null,{"$f":"N18","v":2122},{"$f":"COUNTIF(L82:L106,AI18)","v":2},{"$f":"AJ18/(AL4-AJ20)","v":9.5238095238095233E-2},{"$f":"IF(AK18=0,0,(AK18*((LOG(AK18))/LOG(2))))","v":-0.32307784978845333},null,{"$f":"N18","v":2122},{"$f":"COUNTIF(L107:L131,AN18)","v":6},{"$f":"AO18/(AQ4-AO20)","v":0.2608695652173913},{"$f":"IF(AP18=0,0,(AP18*((LOG(AP18))/LOG(2))))","v":-0.50572159704413644},null,{"$f":"N18","v":2122},{"$f":"COUNTIF(L132:L156,AS18)","v":0},{"$f":"AT18/(AV4-AT20)","v":0},{"$f":"IF(AU18=0,0,(AU18*((LOG(AU18))/LOG(2))))","v":0}]
[12,2028,14,2036,24,2047,14,2059,null,null,0,1121,null,2211,{"$f":"COUNTIF($L$7:$L$500,N19)","v":4},{"$f":"O19/$Q$4","v":2.6666666666666668E-2},{"$f":"IF(P19=0,0,(P19*((LOG(P19))/LOG(2))))","v":-0.13943516507989015},null,null,{"$f":"N19","v":2211},{"$f":"COUNTIF(L7:L31,T19)","v":0},{"$f":"U19/(W4-U20)","v":0},{"$f":"IF(V19=0,0,(V19*((LOG(V19))/LOG(2))))","v":0},null,{"$f":"N19","v":2211},{"$f":"COUNTIF(L32:L56,Y19)","v":1},{"$f":"Z19/(AB4-Z20)","v":0.05},{"$f":"IF(AA19=0,0,(AA19*((LOG(AA19))/LOG(2))))","v":-0.21609640474436814},null,{"$f":"N19","v":2211},{"$f":"COUNTIF(L57:L81,AD19)","v":1},{"$f":"AE19/(AG4-AE20)","v":4.3478260869565216E-2},{"$f":"IF(AF19=0,0,(AF19*((LOG(AF19))/LOG(2))))","v":-0.19667660678508753},null,{"$f":"N19","v":2211},{"$f":"COUNTIF(L82:L106,AI19)","v":1},{"$f":"AJ19/(AL4-AJ20)","v":4.7619047619047616E-2},{"$f":"IF(AK19=0,0,(AK19*((LOG(AK19))/LOG(2))))","v":-0.20915797251327431},null,{"$f":"N19","v":2211},{"$f":"COUNTIF(L107:L131,AN19)","v":0},{"$f":"AO19/(AQ4-AO20)","v":0},{"$f":"IF(AP19=0,0,(AP19*((LOG(AP19))/LOG(2))))","v":0},null,{"$f":"N19","v":2211},{"$f":"COUNTIF(L132:L156,AS19)","v":1},{"$f":"AT19/(AV4-AT20)","v":4.5454545454545456E-2},{"$f":"IF(AU19=0,0,(AU19*((LOG(AU19))/LOG(2))))","v":-0.20270143721078623}]
[21,2162,12,2174,24,2187,23,2192,null,null,0,2122,null,2212,{"$f":"COUNTIF($L$7:$L$500,N20)","v":21},{"$f":"O20/$Q$4","v":0.14000000000000001},{"$f":"IF(P20=0,0,(P20*((LOG(P20))/LOG(2))))","v":-0.39711017748039695},null,null,{"$f":"N20","v":2212},{"$f":"COUNTIF(L7:L31,T20)","v":5},null,null,null,{"$f":"N20","v":2212},{"$f":"COUNTIF(L32:L56,Y20)","v":5},null,null,null,{"$f":"N20","v":2212},{"$f":"COUNTIF(L57:L81,AD20)","v":2},null,null,null,{"$f":"N20","v":2212},{"$f":"COUNTIF(L82:L106,AI20)","v":4},null,null,null,{"$f":"N20","v":2212},{"$f":"COUNTIF(L107:L131,AN20)","v":2},null,null,null,{"$f":"N20","v":2212},{"$f":"COUNTIF(L132:L156,AS20)","v":3}]
[21,2299,21,2319,11,2327,21,2340,null,null,0,2212,null,2221,{"$f":"COUNTIF($L$7:$L$500,N21)","v":3},{"$f":"O21/$Q$4","v":0.02},{"$f":"IF(P21=0,0,(P21*((LOG(P21))/LOG(2))))","v":-0.11287712379549449},null,null,{"$f":"N21","v":2221},{"$f":"COUNTIF(L7:L31,T21)","v":1},{"$f":"U21/(W4-U20)","v":0.05},{"$f":"IF(V21=0,0,(V21*((LOG(V21))/LOG(2))))","v":-0.21609640474436814},null,{"$f":"N21","v":2221},{"$f":"COUNTIF(L32:L56,Y21)","v":1},{"$f":"Z21/(AB4-Z20)","v":0.05},{"$f":"IF(AA21=0,0,(AA21*((LOG(AA21))/LOG(2))))","v":-0.21609640474436814},null,{"$f":"N21","v":2221},{"$f":"COUNTIF(L57:L81,AD21)","v":1},{"$f":"AE21/(AG4-AE20)","v":4.3478260869565216E-2},{"$f":"IF(AF21=0,0,(AF21*((LOG(AF21))/LOG(2))))","v":-0.19667660678508753},null,{"$f":"N21","v":2221},{"$f":"COUNTIF(L82:L106,AI21)","v":0},{"$f":"AJ21/(AL4-AJ20)","v":0},{"$f":"IF(AK21=0,0,(AK21*((LOG(AK21))/LOG(2))))","v":0},null,{"$f":"N21","v":2221},{"$f":"COUNTIF(L107:L131,AN21)","v":0},{"$f":"AO21/(AQ4-AO20)","v":0},{"$f":"IF(AP21=0,0,(AP21*((LOG(AP21))/LOG(2))))","v":0},null,{"$f":"N21","v":2221},{"$f":"COUNTIF(L132:L156,AS21)","v":0},{"$f":"AT21/(AV4-AT20)","v":0},{"$f":"IF(AU21=0,0,(AU21*((LOG(AU21))/LOG(2))))","v":0}]
[12,2461,14,2484,24,2498,23,2510,null,null,0,1122,null,2222,{"$f":"COUNTIF($L$7:$L$500,N22)","v":1},{"$f":"O22/$Q$4","v":6.6666666666666671E-3},{"$f":"IF(P22=0,0,(P22*((LOG(P22))/LOG(2))))","v":-4.819212460330588E-2},null,null,{"$f":"N22","v":2222},{"$f":"COUNTIF(L7:L31,T22)","v":0},{"$f":"U22/(W4-U20)","v":0},{"$f":"IF(V22=0,0,(V22*((LOG(V22))/LOG(2))))","v":0},null,{"$f":"N22","v":2222},{"$f":"COUNTIF(L32:L56,Y22)","v":1},{"$f":"Z22/(AB4-Z20)","v":0.05},{"$f":"IF(AA22=0,0,(AA22*((LOG(AA22))/LOG(2))))","v":-0.21609640474436814},null,{"$f":"N22","v":2222},{"$f":"COUNTIF(L57:L81,AD22)","v":0},{"$f":"AE22/(AG4-AE20)","v":0},{"$f":"IF(AF22=0,0,(AF22*((LOG(AF22))/LOG(2))))","v":0},null,{"$f":"N22","v":2222},{"$f":"COUNTIF(L82:L106,AI22)","v":0},{"$f":"AJ22/(AL4-AJ20)","v":0},{"$f":"IF(AK22=0,0,(AK22*((LOG(AK22))/LOG(2))))","v":0},null,{"$f":"N22","v":2222},{"$f":"COUNTIF(L107:L131,AN22)","v":0},{"$f":"AO22/(AQ4-AO20)","v":0},{"$f":"IF(AP22=0,0,(AP22*((LOG(AP22))/LOG(2))))","v":0},null,{"$f":"N22","v":2222},{"$f":"COUNTIF(L132:L156,AS22)","v":0},{"$f":"AT22/(AV4-AT20)","v":0},{"$f":"IF(AU22=0,0,(AU22*((LOG(AU22))/LOG(2))))","v":0}]
[21,2614,12,2631,24,2639,23,2646,null,null,0,2122,null,null,null,{"$f":"SUM(P7:P22)","v":1},{"$f":"-SUM(Q7:Q22)","v":3.3932394449198497},null,null,null,null,{"$f":"SUM(V7:V22)","v":1},{"$f":"-SUM(W7:W22)","v":2.5211274733371871},null,null,null,{"$f":"SUM(AA7:AA22)","v":1},{"$f":"-SUM(AB7:AB22)","v":3.0037016960573482},null,null,null,{"$f":"SUM(AF7:AF22)","v":0.99999999999999978},{"$f":"-SUM(AG7:AG22)","v":2.8725111538380088},null,null,null,{"$f":"SUM(AK7:AK22)","v":1},{"$f":"-SUM(AL7:AL22)","v":3.1775662320965248},null,null,null,{"$f":"SUM(AP7:AP22)","v":1},{"$f":"-SUM(AQ7:AQ22)","v":2.5600289361122233},null,null,null,{"$f":"SUM(AU7:AU22)","v":0.99999999999999989},{"$f":"-SUM(AV7:AV22)","v":2.9196905740496963}]
[21,2752,12,2774,13,2795,23,2807,null,null,0,2112,null,null,null,"U=",{"$f":"Q23/(LOG(Q4)/LOG(2))","v":0.46940442003077559},null,null,null,null,"U1=",{"$f":"W23/(LOG(W4)/LOG(2))","v":0.54289525134056482},null,null,null,"U2=",{"$f":"AB23/(LOG(AB4)/LOG(2))","v":0.64681195396859581},null,null,null,"U3=",{"$f":"AG23/(LOG(AG4)/LOG(2))","v":0.61856160838119212},null,null,null,"U4=",{"$f":"AL23/(LOG(AL4)/LOG(2))","v":0.68425164394478577},null,null,null,"U5=",{"$f":"AQ23/(LOG(AQ4)/LOG(2))","v":0.55127222538655118},null,null,null,"U6=",{"$f":"AV23/(LOG(AV4)/LOG(2))","v":0.62872114353552611}]
[21,2922,21,2935,11,2946,21,2954,null,null,0,2212]
[21,3059,12,3069,24,3081,14,3095,null,null,0,2121]
[12,3212,23,3225,24,3239,14,3255,null,null,0,1221,null,"Total Target Seq"]
[21,3359,21,3372,11,3383,21,3395,null,null,0,2212,null,{"$f":"COUNTIF(L7:L156,G3)","v":21},null,25,25,25,25,25,25]
[21,3494,12,3504,24,3511,23,3523,null,null,0,2122,null,null,null,"% of reinforcement given in 6 equal intervals based on number of trials "]
[21,3630,12,3647,24,3656,23,3661,null,null,0,2122,null,null,null,"%_1","%_2","%_3","%_4","%_5","%_6"]
[21,3800,12,3813,24,3827,23,3854,null,null,0,2122,null,null,"target sequence",{"$f":"$G$3","v":2212},{"$f":"$G$3","v":2212},{"$f":"$G$3","v":2212},{"$f":"$G$3","v":2212},{"$f":"$G$3","v":2212},{"$f":"$G$3","v":2212}]
[21,3961,12,3972,24,3998,23,4006,null,null,0,2122,null,null,"total reinforcement",{"$f":"U20","v":5},{"$f":"Z20","v":5},{"$f":"AE20","v":2},{"$f":"AJ20","v":4},{"$f":"AO20","v":2},{"$f":"AT20","v":3}]
[21,4106,12,4134,24,4147,23,4168,null,null,0,2122,null,null,"% target"]
[12,4288,23,4299,13,4312,23,4320,null,null,0,1212,null,null,"CCRF"]
[21,4427,12,4438,24,4458,14,4470,null,null,0,2121,null,null,"% CCRf"]
[21,4582,12,4599,24,4612,14,4623,null,null,0,2121,null,null,"average response rate",{"$f":"H31/P28","v":154.16},{"$f":"(H56-H31)/Q28","v":160.80000000000001},{"$f":"(H81-H56)/R28","v":153.91999999999999},{"$f":"(H106-H81)/S28","v":165.8},{"$f":"(H131-H106)/T28","v":163.92},{"$f":"(H156-H131)/U28","v":159.96}]
[21,4736,21,4757,11,4773,21,4785,null,null,0,2212]
[21,4880,21,4893,11,4904,12,4908,null,null,0,2211]
[21,5013,12,5026,13,5049,23,5093,null,null,0,2112]
[21,5204,21,5232,22,5258,23,5267,null,null,0,2222]
[21,5376,21,5392,11,5404,21,5417,null,null,0,2212]
[21,5510,12,5529,24,5541,23,5561,null,null,0,2122]
[12,5688,23,5702,13,5713,23,5730,null,null,0,1212]
[21,5836,12,5855,24,5882,14,5894,null,null,0,2121]
[12,6027,23,6045,13,6061,23,6086,null,null,0,1212]
[12,6203,14,6227,24,6240,23,6247,null,null,0,1122]
[12,6383,23,6398,24,6412,23,6442,null,null,0,1222]
[21,6545,21,6575,11,6585,21,6598,null,null,0,2212]
[21,6688,12,6726,24,6739,14,6755,null,null,0,2121]
[21,6865,21,6878,11,6892,21,6919,null,null,0,2212]
[12,7038,23,7059,13,7072,23,7084,null,null,0,1212]
[12,7202,14,7220,24,7233,14,7247,null,null,0,1121]
[21,7367,21,7395,22,7403,14,7415,null,null,0,2221]
[12,7534,14,7551,24,7562,14,7577,null,null,0,1121]
[21,7687,12,7697,24,7709,14,7724,null,null,0,2121]
[21,7831,21,7852,11,7862,21,7874,null,null,0,2212]
[12,7987,23,8007,13,8017,23,8030,null,null,0,1212]
[12,8167,23,8183,13,8195,23,8207,null,null,0,1212]
[21,8314,12,8325,24,8334,23,8339,null,null,0,2122]
[21,8450,12,8460,13,8477,23,8489,null,null,0,2112]
[21,8590,21,8596,11,8606,12,8614,null,null,0,2211]
[12,8718,23,8734,13,8746,23,8766,null,null,0,1212]
[21,8866,21,8890,11,8900,21,8913,null,null,0,2212]
[21,9019,21,9050,22,9057,14,9072,null,null,0,2221]
[21,9184,12,9192,24,9204,14,9240,null,null,0,2121]
[21,9348,21,9353,11,9364,21,9384,null,null,0,2212]
[21,9485,12,9512,24,9530,14,9547,null,null,0,2121]
[21,9658,12,9677,13,9688,14,9700,null,null,0,2111]
[21,9801,12,9821,24,9839,23,9851,null,null,0,2122]
[12,9949,14,9957,13,9961,23,9977,null,null,0,1112]
[21,10098,12,10110,24,10122,23,10129,null,null,0,2122]
[21,10239,12,10249,13,10276,23,10321,null,null,0,2112]
[12,10432,23,10451,13,10464,23,10476,null,null,0,1212]
[12,10595,23,10608,24,10615,14,10628,null,null,0,1221]
[12,10740,23,10760,24,10773,14,10785,null,null,0,1221]
[21,10888,12,10915,24,10927,23,10943,null,null,0,2122]
[21,11045,12,11056,24,11067,14,11081,null,null,0,2121]
[21,11181,12,11192,24,11206,14,11233,null,null,0,2121]
[12,11346,23,11370,24,11388,14,11399,null,null,0,1221]
[12,11517,23,11531,13,11547,23,11566,null,null,0,1212]
[21,11669,12,11693,24,11705,14,11722,null,null,0,2121]
[12,11838,23,11850,24,11859,14,11872,null,null,0,1221]
[21,12016,12,12028,24,12041,14,12060,null,null,0,2121]
[12,12175,23,12199,13,12213,23,12227,null,null,0,1212]
[21,12343,21,12359,11,12368,21,12380,null,null,0,2212]
[12,12491,14,12500,13,12526,23,12550,null,null,0,1112]
[12,12686,23,12698,24,12709,14,12729,null,null,0,1221]
[21,12860,12,12873,24,12892,14,12904,null,null,0,2121]
[12,13003,14,13030,24,13048,14,13074,null,null,0,1121]
[21,13190,12,13200,13,13230,23,13243,null,null,0,2112]
[21,13346,21,13360,11,13371,21,13387,null,null,0,2212]
[12,13492,14,13500,13,13560,23,13573,null,null,0,1112]
[21,13681,12,13705,13,13713,14,13721,null,null,0,2111]
[12,13846,14,13884,24,13906,23,13915,null,null,0,1122]
[21,14015,12,14033,13,14060,23,14073,null,null,0,2112]
[21,14176,12,14209,24,14221,14,14233,null,null,0,2121]
[21,14356,12,14366,24,14391,23,14403,null,null,0,2122]
[21,14505,21,14526,11,14544,21,14571,null,null,0,2212]
[21,14662,21,14675,11,14691,12,14717,null,null,0,2211]
[21,14819,12,14846,24,14858,23,14866,null,null,0,2122]
[12,15008,23,15021,13,15035,23,15051,null,null,0,1212]
[12,15168,23,15187,13,15197,23,15215,null,null,0,1212]
[21,15331,12,15342,24,15354,14,15398,null,null,0,2121]
[12,15514,14,15551,24,15563,14,15577,null,null,0,1121]
[21,15678,21,15696,11,15707,21,15719,null,null,0,2212]
[12,15844,14,15848,13,15853,23,15867,null,null,0,1112]
[12,15998,23,16010,24,16021,23,16034,null,null,0,1222]
[12,16153,23,16166,24,16179,23,16187,null,null,0,1222]
[21,16289,12,16323,24,16344,14,16358,null,null,0,2121]
[21,16464,12,16478,24,16490,23,16498,null,null,0,2122]
[21,16600,21,16612,11,16625,21,16641,null,null,0,2212]
[12,16754,23,16768,13,16779,23,16794,null,null,0,1212]
[12,16910,14,16937,24,16950,23,16962,null,null,0,1122]
[12,17082,23,17094,13,17122,23,17138,null,null,0,1212]
[21,17257,21,17272,11,17288,21,17301,null,null,0,2212]
[12,17426,23,17434,13,17460,23,17495,null,null,0,1212]
[21,17599,12,17615,24,17627,23,17650,null,null,0,2122]
[12,17749,14,17766,13,17791,23,17804,null,null,0,1112]
[21,17907,12,17918,24,17927,23,17944,null,null,0,2122]
[12,18068,23,18081,13,18096,23,18118,null,null,0,1212]
[12,18236,23,18249,13,18270,23,18283,null,null,0,1212]
[21,18382,12,18421,24,18437,23,18484,null,null,0,2122]
[21,18587,12,18607,24,18616,23,18623,null,null,0,2122]
[21,18725,12,18739,24,18759,14,18771,null,null,0,2121]
[12,18894,23,18907,13,18934,23,18964,null,null,0,1212]
[12,19087,23,19099,13,19112,23,19124,null,null,0,1212]
[21,19233,12,19244,24,19263,14,19275,null,null,0,2121]
[21,19410,12,19430,24,19442,23,19460,null,null,0,2122]
[21,19567,12,19592,13,19618,23,19630,null,null,0,2112]
[21,19748,12,19759,24,19784,14,19796,null,null,0,2121]
[12,19914,14,19931,24,19949,14,19965,null,null,0,1121]
[12,20089,14,20116,24,20128,14,20140,null,null,0,1121]
[21,20241,21,20247,11,20259,12,20268,null,null,0,2211]
[12,20389,14,20398,13,20402,23,20424,null,null,0,1112]
[21,20534,12,20546,13,20553,23,20566,null,null,0,2112]
[12,20678,14,20687,13,20705,14,20737,null,null,0,1111]
[21,20840,12,20851,24,20872,14,20885,null,null,0,2121]
[21,20990,12,21005,24,21013,14,21042,null,null,0,2121]
[21,21151,12,21166,24,21184,14,21197,null,null,0,2121]
[21,21314,21,21331,11,21342,21,21357,null,null,0,2212]
[21,21469,12,21479,24,21492,14,21508,null,null,0,2121]
[12,21634,23,21658,13,21673,23,21684,null,null,0,1212]
[21,21795,21,21811,11,21822,21,21834,null,null,0,2212]
[21,21927,21,21936,11,21947,21,21960,null,null,0,2212]
[21,22060,12,22073,13,22081,23,22093,null,null,0,2112]
[12,22197,14,22224,24,22236,14,22261,null,null,0,1121]
[21,22368,12,22383,24,22398,14,22410,null,null,0,2121]
[12,22537,23,22546,13,22575,23,22587,null,null,0,1212]
[21,22705,12,22721,13,22749,23,22761,null,null,0,2112]
[12,22887,23,22900,24,22907,14,22923,null,null,0,1221]
[12,23048,14,23083,24,23095,14,23110,null,null,0,1121]
[12,23230,23,23244,13,23256,23,23273,null,null,0,1212]
[12,23399,23,23412,13,23427,14,23466,null,null,0,1211]
[12,23586,23,23607,24,23613,14,23626,null,null,0,1221]
[12,23752,23,23765,24,23771,14,23785,null,null,0,1221]
[12,23910,23,23922,13,23949,23,23964,null,null,null,1212]

{"sheet":"!N127A10.092","index":30,"n_rows":156,"n_cols":48,"rows_kept":156,"cut":false,"hidden":false,"merged":[[4,39,4,42],[5,39,5,40],[4,44,4,47],[5,44,5,45],[4,24,4,27],[5,24,5,25],[4,29,4,32],[5,29,5,30],[4,34,4,37],[5,34,5,35],[1,1,1,2],[5,13,5,14],[26,13,26,14],[27,13,27,14],[4,19,4,22],[5,19,5,20]]}
["Report for:!N127A10.092"]
["Date:","<date>"]
["Hen:","<hen>",null,null,null,"Correct Sequence",{"$f":"Start!J2","v":2212},null,null,null,null,null,null,null,null,"Total Sequences in Data",{"$f":"4994-COUNTBLANK(L7:L5000)","v":150},null,null,null,null,"Total Sequences in Block Data",{"$f":"COUNTA(L7:L31)","v":25},null,null,null,"Total Sequences in Block Data",{"$f":"COUNTA(L32:L56)","v":25},null,null,null,"Total Sequences in Block Data",{"$f":"COUNTA(L57:L81)","v":25},null,null,null,"Total Sequences in Block Data",{"$f":"COUNTA(L82:L106)","v":25},null,null,null,"Total Sequences in Block Data",{"$f":"COUNTA(L107:L131)","v":25},null,null,null,"Total Sequences in Block Data",{"$f":"COUNTA(L132:L156)","v":25}]
[null,null,null,null,null,null,null,null,null,null,null,null,null,null,null,"Total Sequences in Summary",{"$f":"SUM(O7:O22)","v":150},null,null,null,null,"Total Sequences in Block Summary",{"$f":"SUM(U7:U22)","v":25},null,null,null,"Total Sequences in Block Summary",{"$f":"SUM(Z7:Z22)","v":25},null,null,null,"Total Sequences in Block Summary",{"$f":"SUM(AE7:AE22)","v":25},null,null,null,"Total Sequences in Block Summary",{"$f":"SUM(AJ7:AJ22)","v":25},null,null,null,"Total Sequences in Block Summary",{"$f":"SUM(AO7:AO22)","v":25},null,null,null,"Total Sequences in Block Summary",{"$f":"SUM(AT7:AT22)","v":25}]
[null,null,null,null,null,null,null,null,null,null,null,null,null,null,null,null,null,null,null,"Block 1",null,null,null,null,"Block 2",null,null,null,null,"Block 3",null,null,null,null,"Block 4",null,null,null,null,"Block 5",null,null,null,null,"Block 6"]
["Sequence\nComponent\n1","Time\n1","Sequence\nComponent\n2","Time\n2","Sequence\nComponent\n3","Time\n3","Sequence\nComponent\n4","Time\n4","Sequence\nComponent\n5","Time\n5","Correct?\n0=No 1=Yes","Sequence",null,"Frequency",null,"Relative Frequency","Variability",null,null,"Frequency",null,"Relative Frequency","Variability",null,"Frequency",null,"Relative Frequency","Variability",null,"Frequency",null,"Relative Frequency","Variability",null,"Frequency",null,"Relative Frequency","Variability",null,"Frequency",null,"Relative Frequency","Variability",null,"Frequency",null,"Relative Frequency","Variability"]
[21,32,21,50,22,128,14,145,null,null,0,2221,null,1111,{"$f":"COUNTIF($L$7:$L$500,N7)","v":5},{"$f":"O7/$Q$4","v":3.3333333333333333E-2},{"$f":"IF(P7=0,0,(P7*((LOG(P7))/LOG(2))))","v":-0.16356301985361729},null,null,{"$f":"N7","v":1111},{"$f":"COUNTIF(L7:L31,T7)","v":0},{"$f":"U7/(W4-U20)","v":0},{"$f":"IF(V7=0,0,(V7*((LOG(V7))/LOG(2))))","v":0},null,{"$f":"N7","v":1111},{"$f":"COUNTIF(L32:L56,Y7)","v":1},{"$f":"Z7/(AB4-Z20)","v":5.5555555555555552E-2},{"$f":"IF(AA7=0,0,(AA7*((LOG(AA7))/LOG(2))))","v":-0.23166250008012845},null,{"$f":"N7","v":1111},{"$f":"COUNTIF(L57:L81,AD7)","v":0},{"$f":"AE7/(AG4-AE20)","v":0},{"$f":"IF(AF7=0,0,(AF7*((LOG(AF7))/LOG(2))))","v":0},null,{"$f":"N7","v":1111},{"$f":"COUNTIF(L82:L106,AI7)","v":1},{"$f":"AJ7/(AL4-AJ20)","v":4.3478260869565216E-2},{"$f":"IF(AK7=0,0,(AK7*((LOG(AK7))/LOG(2))))","v":-0.19667660678508753},null,{"$f":"N7","v":1111},{"$f":"COUNTIF(L107:L131,AN7)","v":0},{"$f":"AO7/(AQ4-AO20)","v":0},{"$f":"IF(AP7=0,0,(AP7*((LOG(AP7))/LOG(2))))","v":0},null,{"$f":"N7","v":1111},{"$f":"COUNTIF(L132:L156,AS7)","v":3},{"$f":"AT7/(AV4-AT20)","v":0.15},{"$f":"IF(AU7=0,0,(AU7*((LOG(AU7))/LOG(2))))","v":-0.41054483912493089}]
[21,249,21,296,22,319,23,332,null,null,0,2222,null,1112,{"$f":"COUNTIF($L$7:$L$500,N8)","v":4},{"$f":"O8/$Q$4","v":2.6666666666666668E-2},{"$f":"IF(P8=0,0,(P8*((LOG(P8))/LOG(2))))","v":-0.13943516507989015},null,null,{"$f":"N8","v":1112},{"$f":"COUNTIF(L7:L31,T8)","v":1},{"$f":"U8/(W4-U20)","v":5.8823529411764705E-2},{"$f":"IF(V8=0,0,(V8*((LOG(V8))/LOG(2))))","v":-0.24043899066178465},null,{"$f":"N8","v":1112},{"$f":"COUNTIF(L32:L56,Y8)","v":0},{"$f":"Z8/(AB4-Z20)","v":0},{"$f":"IF(AA8=0,0,(AA8*((LOG(AA8))/LOG(2))))","v":0},null,{"$f":"N8","v":1112},{"$f":"COUNTIF(L57:L81,AD8)","v":3},{"$f":"AE8/(AG4-AE20)","v":0.13043478260869565},{"$f":"IF(AF8=0,0,(AF8*((LOG(AF8))/LOG(2))))","v":-0.3832955811307639},null,{"$f":"N8","v":1112},{"$f":"COUNTIF(L82:L106,AI8)","v":0},{"$f":"AJ8/(AL4-AJ20)","v":0},{"$f":"IF(AK8=0,0,(AK8*((LOG(AK8))/LOG(2))))","v":0},null,{"$f":"N8","v":1112},{"$f":"COUNTIF(L107:L131,AN8)","v":0},{"$f":"AO8/(AQ4-AO20)","v":0},{"$f":"IF(AP8=0,0,(AP8*((LOG(AP8))/LOG(2))))","v":0},null,{"$f":"N8","v":1112},{"$f":"COUNTIF(L132:L156,AS8)","v":0},{"$f":"AT8/(AV4-AT20)","v":0},{"$f":"IF(AU8=0,0,(AU8*((LOG(AU8))/LOG(2))))","v":0}]
[21,460,21,467,11,484,21,493,null,null,0,2212,null,1121,{"$f":"COUNTIF($L$7:$L$500,N9)","v":8},{"$f":"O9/$Q$4","v":5.3333333333333337E-2},{"$f":"IF(P9=0,0,(P9*((LOG(P9))/LOG(2))))","v":-0.22553699682644698},null,null,{"$f":"N9","v":1121},{"$f":"COUNTIF(L7:L31,T9)","v":1},{"$f":"U9/(W4-U20)","v":5.8823529411764705E-2},{"$f":"IF(V9=0,0,(V9*((LOG(V9))/LOG(2))))","v":-0.24043899066178465},null,{"$f":"N9","v":1121},{"$f":"COUNTIF(L32:L56,Y9)","v":2},{"$f":"Z9/(AB4-Z20)","v":0.1111111111111111},{"$f":"IF(AA9=0,0,(AA9*((LOG(AA9))/LOG(2))))","v":-0.3522138890491458},null,{"$f":"N9","v":1121},{"$f":"COUNTIF(L57:L81,AD9)","v":0},{"$f":"AE9/(AG4-AE20)","v":0},{"$f":"IF(AF9=0,0,(AF9*((LOG(AF9))/LOG(2))))","v":0},null,{"$f":"N9","v":1121},{"$f":"COUNTIF(L82:L106,AI9)","v":4},{"$f":"AJ9/(AL4-AJ20)","v":0.17391304347826086},{"$f":"IF(AK9=0,0,(AK9*((LOG(AK9))/LOG(2))))","v":-0.43888034018382832},null,{"$f":"N9","v":1121},{"$f":"COUNTIF(L107:L131,AN9)","v":1},{"$f":"AO9/(AQ4-AO20)","v":4.3478260869565216E-2},{"$f":"IF(AP9=0,0,(AP9*((LOG(AP9))/LOG(2))))","v":-0.19667660678508753},null,{"$f":"N9","v":1121},{"$f":"COUNTIF(L132:L156,AS9)","v":0},{"$f":"AT9/(AV4-AT20)","v":0},{"$f":"IF(AU9=0,0,(AU9*((LOG(AU9))/LOG(2))))","v":0}]
[21,593,12,604,13,623,23,635,null,null,0,2112,null,1122,{"$f":"COUNTIF($L$7:$L$500,N10)","v":5},{"$f":"O10/$Q$4","v":3.3333333333333333E-2},{"$f":"IF(P10=0,0,(P10*((LOG(P10))/LOG(2))))","v":-0.16356301985361729},null,null,{"$f":"N10","v":1122},{"$f":"COUNTIF(L7:L31,T10)","v":1},{"$f":"U10/(W4-U20)","v":5.8823529411764705E-2},{"$f":"IF(V10=0,0,(V10*((LOG(V10))/LOG(2))))","v":-0.24043899066178465},null,{"$f":"N10","v":1122},{"$f":"COUNTIF(L32:L56,Y10)","v":1},{"$f":"Z10/(AB4-Z20)","v":5.5555555555555552E-2},{"$f":"IF(AA10=0,0,(AA10*((LOG(AA10))/LOG(2))))","v":-0.23166250008012845},null,{"$f":"N10","v":1122},{"$f":"COUNTIF(L57:L81,AD10)","v":1},{"$f":"AE10/(AG4-AE20)","v":4.3478260869565216E-2},{"$f":"IF(AF10=0,0,(AF10*((LOG(AF10))/LOG(2))))","v":-0.19667660678508753},null,{"$f":"N10","v":1122},{"$f":"COUNTIF(L82:L106,AI10)","v":2},{"$f":"AJ10/(AL4-AJ20)","v":8.6956521739130432E-2},{"$f":"IF(AK10=0,0,(AK10*((LOG(AK10))/LOG(2))))","v":-0.30639669183104457},null,{"$f":"N10","v":1122},{"$f":"COUNTIF(L107:L131,AN10)","v":0},{"$f":"AO10/(AQ4-AO20)","v":0},{"$f":"IF(AP10=0,0,(AP10*((LOG(AP10))/LOG(2))))","v":0},null,{"$f":"N10","v":1122},{"$f":"COUNTIF(L132:L156,AS10)","v":0},{"$f":"AT10/(AV4-AT20)","v":0},{"$f":"IF(AU10=0,0,(AU10*((LOG(AU10))/LOG(2))))","v":0}]
[21,740,21,758,11,770,21,793,null,null,0,2212,null,1211,{"$f":"COUNTIF($L$7:$L$500,N11)","v":0},{"$f":"O11/$Q$4","v":0},{"$f":"IF(P11=0,0,(P11*((LOG(P11))/LOG(2))))","v":0},null,null,{"$f":"N11","v":1211},{"$f":"COUNTIF(L7:L31,T11)","v":0},{"$f":"U11/(W4-U20)","v":0},{"$f":"IF(V11=0,0,(V11*((LOG(V11))/LOG(2))))","v":0},null,{"$f":"N11","v":1211},{"$f":"COUNTIF(L32:L56,Y11)","v":0},{"$f":"Z11/(AB4-Z20)","v":0},{"$f":"IF(AA11=0,0,(AA11*((LOG(AA11))/LOG(2))))","v":0},null,{"$f":"N11","v":1211},{"$f":"COUNTIF(L57:L81,AD11)","v":0},{"$f":"AE11/(AG4-AE20)","v":0},{"$f":"IF(AF11=0,0,(AF11*((LOG(AF11))/LOG(2))))","v":0},null,{"$f":"N11","v":1211},{"$f":"COUNTIF(L82:L106,AI11)","v":0},{"$f":"AJ11/(AL4-AJ20)","v":0},{"$f":"IF(AK11=0,0,(AK11*((LOG(AK11))/LOG(2))))","v":0},null,{"$f":"N11","v":1211},{"$f":"COUNTIF(L107:L131,AN11)","v":0},{"$f":"AO11/(AQ4-AO20)","v":0},{"$f":"IF(AP11=0,0,(AP11*((LOG(AP11))/LOG(2))))","v":0},null,{"$f":"N11","v":1211},{"$f":"COUNTIF(L132:L156,AS11)","v":0},{"$f":"AT11/(AV4-AT20)","v":0},{"$f":"IF(AU11=0,0,(AU11*((LOG(AU11))/LOG(2))))","v":0}]
[21,888,21,906,11,922,21,943,null,null,0,2212,null,1212,{"$f":"COUNTIF($L$7:$L$500,N12)","v":24},{"$f":"O12/$Q$4","v":0.16},{"$f":"IF(P12=0,0,(P12*((LOG(P12))/LOG(2))))","v":-0.42301699036395596},null,null,{"$f":"N12","v":1212},{"$f":"COUNTIF(L7:L31,T12)","v":4},{"$f":"U12/(W4-U20)","v":0.23529411764705882},{"$f":"IF(V12=0,0,(V12*((LOG(V12))/LOG(2))))","v":-0.49116772735302094},null,{"$f":"N12","v":1212},{"$f":"COUNTIF(L32:L56,Y12)","v":3},{"$f":"Z12/(AB4-Z20)","v":0.16666666666666666},{"$f":"IF(AA12=0,0,(AA12*((LOG(AA12))/LOG(2))))","v":-0.43082708345352599},null,{"$f":"N12","v":1212},{"$f":"COUNTIF(L57:L81,AD12)","v":4},{"$f":"AE12/(AG4-AE20)","v":0.17391304347826086},{"$f":"IF(AF12=0,0,(AF12*((LOG(AF12))/LOG(2))))","v":-0.43888034018382832},null,{"$f":"N12","v":1212},{"$f":"COUNTIF(L82:L106,AI12)","v":6},{"$f":"AJ12/(AL4-AJ20)","v":0.2608695652173913},{"$f":"IF(AK12=0,0,(AK12*((LOG(AK12))/LOG(2))))","v":-0.50572159704413644},null,{"$f":"N12","v":1212},{"$f":"COUNTIF(L107:L131,AN12)","v":4},{"$f":"AO12/(AQ4-AO20)","v":0.17391304347826086},{"$f":"IF(AP12=0,0,(AP12*((LOG(AP12))/LOG(2))))","v":-0.43888034018382832},null,{"$f":"N12","v":1212},{"$f":"COUNTIF(L132:L156,AS12)","v":3},{"$f":"AT12/(AV4-AT20)","v":0.15},{"$f":"IF(AU12=0,0,(AU12*((LOG(AU12))/LOG(2))))","v":-0.41054483912493089}]
[21,1042,12,1053,13,1074,23,1088,null,null,0,2112,null,1221,{"$f":"COUNTIF($L$7:$L$500,N13)","v":4},{"$f":"O13/$Q$4","v":2.6666666666666668E-2},{"$f":"IF(P13=0,0,(P13*((LOG(P13))/LOG(2))))","v":-0.13943516507989015},null,null,{"$f":"N13","v":1221},{"$f":"COUNTIF(L7:L31,T13)","v":0},{"$f":"U13/(W4-U20)","v":0},{"$f":"IF(V13=0,0,(V13*((LOG(V13))/LOG(2))))","v":0},null,{"$f":"N13","v":1221},{"$f":"COUNTIF(L32:L56,Y13)","v":1},{"$f":"Z13/(AB4-Z20)","v":5.5555555555555552E-2},{"$f":"IF(AA13=0,0,(AA13*((LOG(AA13))/LOG(2))))","v":-0.23166250008012845},null,{"$f":"N13","v":1221},{"$f":"COUNTIF(L57:L81,AD13)","v":2},{"$f":"AE13/(AG4-AE20)","v":8.6956521739130432E-2},{"$f":"IF(AF13=0,0,(AF13*((LOG(AF13))/LOG(2))))","v":-0.30639669183104457},null,{"$f":"N13","v":1221},{"$f":"COUNTIF(L82:L106,AI13)","v":1},{"$f":"AJ13/(AL4-AJ20)","v":4.3478260869565216E-2},{"$f":"IF(AK13=0,0,(AK13*((LOG(AK13))/LOG(2))))","v":-0.19667660678508753},null,{"$f":"N13","v":1221},{"$f":"COUNTIF(L107:L131,AN13)","v":0},{"$f":"AO13/(AQ4-AO20)","v":0},{"$f":"IF(AP13=0,0,(AP13*((LOG(AP13))/LOG(2))))","v":0},null,{"$f":"N13","v":1221},{"$f":"COUNTIF(L132:L156,AS13)","v":0},{"$f":"AT13/(AV4-AT20)","v":0},{"$f":"IF(AU13=0,0,(AU13*((LOG(AU13))/LOG(2))))","v":0}]
[21,1196,21,1254,22,1261,14,1278,null,null,0,2221,null,1222,{"$f":"COUNTIF($L$7:$L$500,N14)","v":2},{"$f":"O14/$Q$4","v":1.3333333333333334E-2},{"$f":"IF(P14=0,0,(P14*((LOG(P14))/LOG(2))))","v":-8.3050915873278425E-2},null,null,{"$f":"N14","v":1222},{"$f":"COUNTIF(L7:L31,T14)","v":1},{"$f":"U14/(W4-U20)","v":5.8823529411764705E-2},{"$f":"IF(V14=0,0,(V14*((LOG(V14))/LOG(2))))","v":-0.24043899066178465},null,{"$f":"N14","v":1222},{"$f":"COUNTIF(L32:L56,Y14)","v":1},{"$f":"Z14/(AB4-Z20)","v":5.5555555555555552E-2},{"$f":"IF(AA14=0,0,(AA14*((LOG(AA14))/LOG(2))))","v":-0.23166250008012845},null,{"$f":"N14","v":1222},{"$f":"COUNTIF(L57:L81,AD14)","v":0},{"$f":"AE14/(AG4-AE20)","v":0},{"$f":"IF(AF14=0,0,(AF14*((LOG(AF14))/LOG(2))))","v":0},null,{"$f":"N14","v":1222},{"$f":"COUNTIF(L82:L106,AI14)","v":0},{"$f":"AJ14/(AL4-AJ20)","v":0},{"$f":"IF(AK14=0,0,(AK14*((LOG(AK14))/LOG(2))))","v":0},null,{"$f":"N14","v":1222},{"$f":"COUNTIF(L107:L131,AN14)","v":0},{"$f":"AO14/(AQ4-AO20)","v":0},{"$f":"IF(AP14=0,0,(AP14*((LOG(AP14))/LOG(2))))","v":0},null,{"$f":"N14","v":1222},{"$f":"COUNTIF(L132:L156,AS14)","v":0},{"$f":"AT14/(AV4-AT20)","v":0},{"$f":"IF(AU14=0,0,(AU14*((LOG(AU14))/LOG(2))))","v":0}]
[12,1407,14,1419,24,1431,14,1464,null,null,0,1121,null,2111,{"$f":"COUNTIF($L$7:$L$500,N15)","v":5},{"$f":"O15/$Q$4","v":3.3333333333333333E-2},{"$f":"IF(P15=0,0,(P15*((LOG(P15))/LOG(2))))","v":-0.16356301985361729},null,null,{"$f":"N15","v":2111},{"$f":"COUNTIF(L7:L31,T15)","v":0},{"$f":"U15/(W4-U20)","v":0},{"$f":"IF(V15=0,0,(V15*((LOG(V15))/LOG(2))))","v":0},null,{"$f":"N15","v":2111},{"$f":"COUNTIF(L32:L56,Y15)","v":2},{"$f":"Z15/(AB4-Z20)","v":0.1111111111111111},{"$f":"IF(AA15=0,0,(AA15*((LOG(AA15))/LOG(2))))","v":-0.3522138890491458},null,{"$f":"N15","v":2111},{"$f":"COUNTIF(L57:L81,AD15)","v":0},{"$f":"AE15/(AG4-AE20)","v":0},{"$f":"IF(AF15=0,0,(AF15*((LOG(AF15))/LOG(2))))","v":0},null,{"$f":"N15","v":2111},{"$f":"COUNTIF(L82:L106,AI15)","v":0},{"$f":"AJ15/(AL4-AJ20)","v":0},{"$f":"IF(AK15=0,0,(AK15*((LOG(AK15))/LOG(2))))","v":0},null,{"$f":"N15","v":2111},{"$f":"COUNTIF(L107:L131,AN15)","v":3},{"$f":"AO15/(AQ4-AO20)","v":0.13043478260869565},{"$f":"IF(AP15=0,0,(AP15*((LOG(AP15))/LOG(2))))","v":-0.3832955811307639},null,{"$f":"N15","v":2111},{"$f":"COUNTIF(L132:L156,AS15)","v":0},{"$f":"AT15/(AV4-AT20)","v":0},{"$f":"IF(AU15=0,0,(AU15*((LOG(AU15))/LOG(2))))","v":0}]
[21,1574,12,1598,24,1610,23,1620,null,null,0,2122,null,2112,{"$f":"COUNTIF($L$7:$L$500,N16)","v":7},{"$f":"O16/$Q$4","v":4.6666666666666669E-2},{"$f":"IF(P16=0,0,(P16*((LOG(P16))/LOG(2))))","v":-0.20633497586045293},null,null,{"$f":"N16","v":2112},{"$f":"COUNTIF(L7:L31,T16)","v":2},{"$f":"U16/(W4-U20)","v":0.11764705882352941},{"$f":"IF(V16=0,0,(V16*((LOG(V16))/LOG(2))))","v":-0.36323092250003997},null,{"$f":"N16","v":2112},{"$f":"COUNTIF(L32:L56,Y16)","v":1},{"$f":"Z16/(AB4-Z20)","v":5.5555555555555552E-2},{"$f":"IF(AA16=0,0,(AA16*((LOG(AA16))/LOG(2))))","v":-0.23166250008012845},null,{"$f":"N16","v":2112},{"$f":"COUNTIF(L57:L81,AD16)","v":1},{"$f":"AE16/(AG4-AE20)","v":4.3478260869565216E-2},{"$f":"IF(AF16=0,0,(AF16*((LOG(AF16))/LOG(2))))","v":-0.19667660678508753},null,{"$f":"N16","v":2112},{"$f":"COUNTIF(L82:L106,AI16)","v":0},{"$f":"AJ16/(AL4-AJ20)","v":0},{"$f":"IF(AK16=0,0,(AK16*((LOG(AK16))/LOG(2))))","v":0},null,{"$f":"N16","v":2112},{"$f":"COUNTIF(L107:L131,AN16)","v":2},{"$f":"AO16/(AQ4-AO20)","v":8.6956521739130432E-2},{"$f":"IF(AP16=0,0,(AP16*((LOG(AP16))/LOG(2))))","v":-0.30639669183104457},null,{"$f":"N16","v":2112},{"$f":"COUNTIF(L132:L156,AS16)","v":1},{"$f":"AT16/(AV4-AT20)","v":0.05},{"$f":"IF(AU16=0,0,(AU16*((LOG(AU16))/LOG(2))))","v":-0.21609640474436814}]
[21,1726,21,1741,11,1751,21,1780,null,null,0,2212,null,2121,{"$f":"COUNTIF($L$7:$L$500,N17)","v":28},{"$f":"O17/$Q$4","v":0.18666666666666668},{"$f":"IF(P17=0,0,(P17*((LOG(P17))/LOG(2))))","v":-0.45200657010847833},null,null,{"$f":"N17","v":2121},{"$f":"COUNTIF(L7:L31,T17)","v":0},{"$f":"U17/(W4-U20)","v":0},{"$f":"IF(V17=0,0,(V17*((LOG(V17))/LOG(2))))","v":0},null,{"$f":"N17","v":2121},{"$f":"COUNTIF(L32:L56,Y17)","v":3},{"$f":"Z17/(AB4-Z20)","v":0.16666666666666666},{"$f":"IF(AA17=0,0,(AA17*((LOG(AA17))/LOG(2))))","v":-0.43082708345352599},null,{"$f":"N17","v":2121},{"$f":"COUNTIF(L57:L81,AD17)","v":8},{"$f":"AE17/(AG4-AE20)","v":0.34782608695652173},{"$f":"IF(AF17=0,0,(AF17*((LOG(AF17))/LOG(2))))","v":-0.52993459341113491},null,{"$f":"N17","v":2121},{"$f":"COUNTIF(L82:L106,AI17)","v":5},{"$f":"AJ17/(AL4-AJ20)","v":0.21739130434782608},{"$f":"IF(AK17=0,0,(AK17*((LOG(AK17))/LOG(2))))","v":-0.47861605677601093},null,{"$f":"N17","v":2121},{"$f":"COUNTIF(L107:L131,AN17)","v":6},{"$f":"AO17/(AQ4-AO20)","v":0.2608695652173913},{"$f":"IF(AP17=0,0,(AP17*((LOG(AP17))/LOG(2))))","v":-0.50572159704413644},null,{"$f":"N17","v":2121},{"$f":"COUNTIF(L132:L156,AS17)","v":6},{"$f":"AT17/(AV4-AT20)","v":0.3},{"$f":"IF(AU17=0,0,(AU17*((LOG(AU17))/LOG(2))))","v":-0.52108967824986185}]
[12,1886,14,1909,24,1945,23,1964,null,null,0,1122,null,2122,{"$f":"COUNTIF($L$7:$L$500,N18)","v":16},{"$f":"O18/$Q$4","v":0.10666666666666667},{"$f":"IF(P18=0,0,(P18*((LOG(P18))/LOG(2))))","v":-0.34440732698622734},null,null,{"$f":"N18","v":2122},{"$f":"COUNTIF(L7:L31,T18)","v":2},{"$f":"U18/(W4-U20)","v":0.11764705882352941},{"$f":"IF(V18=0,0,(V18*((LOG(V18))/LOG(2))))","v":-0.36323092250003997},null,{"$f":"N18","v":2122},{"$f":"COUNTIF(L32:L56,Y18)","v":2},{"$f":"Z18/(AB4-Z20)","v":0.1111111111111111},{"$f":"IF(AA18=0,0,(AA18*((LOG(AA18))/LOG(2))))","v":-0.3522138890491458},null,{"$f":"N18","v":2122},{"$f":"COUNTIF(L57:L81,AD18)","v":4},{"$f":"AE18/(AG4-AE20)","v":0.17391304347826086},{"$f":"IF(AF18=0,0,(AF18*((LOG(AF18))/LOG(2))))","v":-0.43888034018382832},null,{"$f":"N18","v":2122},{"$f":"COUNTIF(L82:L106,AI18)","v":2},{"$f":"AJ18/(AL4-AJ20)","v":8.6956521739130432E-2},{"$f":"IF(AK18=0,0,(AK18*((LOG(AK18))/LOG(2))))","v":-0.30639669183104457},null,{"$f":"N18","v":2122},{"$f":"COUNTIF(L107:L131,AN18)","v":4},{"$f":"AO18/(AQ4-AO20)","v":0.17391304347826086},{"$f":"IF(AP18=0,0,(AP18*((LOG(AP18))/LOG(2))))","v":-0.43888034018382832},null,{"$f":"N18","v":2122},{"$f":"COUNTIF(L132:L156,AS18)","v":2},{"$f":"AT18/(AV4-AT20)","v":0.1},{"$f":"IF(AU18=0,0,(AU18*((LOG(AU18))/LOG(2))))","v":-0.33219280948873625}]
[12,2083,23,2107,13,2120,23,2135,null,null,0,1212,null,2211,{"$f":"COUNTIF($L$7:$L$500,N19)","v":5},{"$f":"O19/$Q$4","v":3.3333333333333333E-2},{"$f":"IF(P19=0,0,(P19*((LOG(P19))/LOG(2))))","v":-0.16356301985361729},null,null,{"$f":"N19","v":2211},{"$f":"COUNTIF(L7:L31,T19)","v":0},{"$f":"U19/(W4-U20)","v":0},{"$f":"IF(V19=0,0,(V19*((LOG(V19))/LOG(2))))","v":0},null,{"$f":"N19","v":2211},{"$f":"COUNTIF(L32:L56,Y19)","v":1},{"$f":"Z19/(AB4-Z20)","v":5.5555555555555552E-2},{"$f":"IF(AA19=0,0,(AA19*((LOG(AA19))/LOG(2))))","v":-0.23166250008012845},null,{"$f":"N19","v":2211},{"$f":"COUNTIF(L57:L81,AD19)","v":0},{"$f":"AE19/(AG4-AE20)","v":0},{"$f":"IF(AF19=0,0,(AF19*((LOG(AF19))/LOG(2))))","v":0},null,{"$f":"N19","v":2211},{"$f":"COUNTIF(L82:L106,AI19)","v":1},{"$f":"AJ19/(AL4-AJ20)","v":4.3478260869565216E-2},{"$f":"IF(AK19=0,0,(AK19*((LOG(AK19))/LOG(2))))","v":-0.19667660678508753},null,{"$f":"N19","v":2211},{"$f":"COUNTIF(L107:L131,AN19)","v":0},{"$f":"AO19/(AQ4-AO20)","v":0},{"$f":"IF(AP19=0,0,(AP19*((LOG(AP19))/LOG(2))))","v":0},null,{"$f":"N19","v":2211},{"$f":"COUNTIF(L132:L156,AS19)","v":3},{"$f":"AT19/(AV4-AT20)","v":0.15},{"$f":"IF(AU19=0,0,(AU19*((LOG(AU19))/LOG(2))))","v":-0.41054483912493089}]
[21,2244,21,2271,22,2279,14,2291,null,null,0,2221,null,2212,{"$f":"COUNTIF($L$7:$L$500,N20)","v":26},{"$f":"O20/$Q$4","v":0.17333333333333334},{"$f":"IF(P20=0,0,(P20*((LOG(P20))/LOG(2))))","v":-0.43825235520816341},null,null,{"$f":"N20","v":2212},{"$f":"COUNTIF(L7:L31,T20)","v":8},null,null,null,{"$f":"N20","v":2212},{"$f":"COUNTIF(L32:L56,Y20)","v":7},null,null,null,{"$f":"N20","v":2212},{"$f":"COUNTIF(L57:L81,AD20)","v":2},null,null,null,{"$f":"N20","v":2212},{"$f":"COUNTIF(L82:L106,AI20)","v":2},null,null,null,{"$f":"N20","v":2212},{"$f":"COUNTIF(L107:L131,AN20)","v":2},null,null,null,{"$f":"N20","v":2212},{"$f":"COUNTIF(L132:L156,AS20)","v":5}]
[12,2409,23,2428,13,2440,23,2454,null,null,0,1212,null,2221,{"$f":"COUNTIF($L$7:$L$500,N21)","v":7},{"$f":"O21/$Q$4","v":4.6666666666666669E-2},{"$f":"IF(P21=0,0,(P21*((LOG(P21))/LOG(2))))","v":-0.20633497586045293},null,null,{"$f":"N21","v":2221},{"$f":"COUNTIF(L7:L31,T21)","v":4},{"$f":"U21/(W4-U20)","v":0.23529411764705882},{"$f":"IF(V21=0,0,(V21*((LOG(V21))/LOG(2))))","v":-0.49116772735302094},null,{"$f":"N21","v":2221},{"$f":"COUNTIF(L32:L56,Y21)","v":0},{"$f":"Z21/(AB4-Z20)","v":0},{"$f":"IF(AA21=0,0,(AA21*((LOG(AA21))/LOG(2))))","v":0},null,{"$f":"N21","v":2221},{"$f":"COUNTIF(L57:L81,AD21)","v":0},{"$f":"AE21/(AG4-AE20)","v":0},{"$f":"IF(AF21=0,0,(AF21*((LOG(AF21))/LOG(2))))","v":0},null,{"$f":"N21","v":2221},{"$f":"COUNTIF(L82:L106,AI21)","v":0},{"$f":"AJ21/(AL4-AJ20)","v":0},{"$f":"IF(AK21=0,0,(AK21*((LOG(AK21))/LOG(2))))","v":0},null,{"$f":"N21","v":2221},{"$f":"COUNTIF(L107:L131,AN21)","v":1},{"$f":"AO21/(AQ4-AO20)","v":4.3478260869565216E-2},{"$f":"IF(AP21=0,0,(AP21*((LOG(AP21))/LOG(2))))","v":-0.19667660678508753},null,{"$f":"N21","v":2221},{"$f":"COUNTIF(L132:L156,AS21)","v":2},{"$f":"AT21/(AV4-AT20)","v":0.1},{"$f":"IF(AU21=0,0,(AU21*((LOG(AU21))/LOG(2))))","v":-0.33219280948873625}]
[12,2569,23,2595,13,2608,23,2620,null,null,0,1212,null,2222,{"$f":"COUNTIF($L$7:$L$500,N22)","v":4},{"$f":"O22/$Q$4","v":2.6666666666666668E-2},{"$f":"IF(P22=0,0,(P22*((LOG(P22))/LOG(2))))","v":-0.13943516507989015},null,null,{"$f":"N22","v":2222},{"$f":"COUNTIF(L7:L31,T22)","v":1},{"$f":"U22/(W4-U20)","v":5.8823529411764705E-2},{"$f":"IF(V22=0,0,(V22*((LOG(V22))/LOG(2))))","v":-0.24043899066178465},null,{"$f":"N22","v":2222},{"$f":"COUNTIF(L32:L56,Y22)","v":0},{"$f":"Z22/(AB4-Z20)","v":0},{"$f":"IF(AA22=0,0,(AA22*((LOG(AA22))/LOG(2))))","v":0},null,{"$f":"N22","v":2222},{"$f":"COUNTIF(L57:L81,AD22)","v":0},{"$f":"AE22/(AG4-AE20)","v":0},{"$f":"IF(AF22=0,0,(AF22*((LOG(AF22))/LOG(2))))","v":0},null,{"$f":"N22","v":2222},{"$f":"COUNTIF(L82:L106,AI22)","v":1},{"$f":"AJ22/(AL4-AJ20)","v":4.3478260869565216E-2},{"$f":"IF(AK22=0,0,(AK22*((LOG(AK22))/LOG(2))))","v":-0.19667660678508753},null,{"$f":"N22","v":2222},{"$f":"COUNTIF(L107:L131,AN22)","v":2},{"$f":"AO22/(AQ4-AO20)","v":8.6956521739130432E-2},{"$f":"IF(AP22=0,0,(AP22*((LOG(AP22))/LOG(2))))","v":-0.30639669183104457},null,{"$f":"N22","v":2222},{"$f":"COUNTIF(L132:L156,AS22)","v":0},{"$f":"AT22/(AV4-AT20)","v":0},{"$f":"IF(AU22=0,0,(AU22*((LOG(AU22))/LOG(2))))","v":0}]
[12,2738,23,2758,24,2766,23,2795,null,null,0,1222,null,null,null,{"$f":"SUM(P7:P22)","v":0.99999999999999989},{"$f":"-SUM(Q7:Q22)","v":3.4514986817415956},null,null,null,null,{"$f":"SUM(V7:V22)","v":1},{"$f":"-SUM(W7:W22)","v":2.9109922530150452},null,null,null,{"$f":"SUM(AA7:AA22)","v":1},{"$f":"-SUM(AB7:AB22)","v":3.3082708345352603},null,null,null,{"$f":"SUM(AF7:AF22)","v":1},{"$f":"-SUM(AG7:AG22)","v":2.4907407603107754},null,null,null,{"$f":"SUM(AK7:AK22)","v":1},{"$f":"-SUM(AL7:AL22)","v":2.8227178048064152},null,null,null,{"$f":"SUM(AP7:AP22)","v":1},{"$f":"-SUM(AQ7:AQ22)","v":2.7729244557748212},null,null,null,{"$f":"SUM(AU7:AU22)","v":0.99999999999999989},{"$f":"-SUM(AV7:AV22)","v":2.6332062193464951}]
[21,2901,21,2926,11,2938,21,2951,null,null,0,2212,null,null,null,"U=",{"$f":"Q23/(LOG(Q4)/LOG(2))","v":0.47746372256914776},null,null,null,null,"U1=",{"$f":"W23/(LOG(W4)/LOG(2))","v":0.62684806205341559},null,null,null,"U2=",{"$f":"AB23/(LOG(AB4)/LOG(2))","v":0.71239734809611865},null,null,null,"U3=",{"$f":"AG23/(LOG(AG4)/LOG(2))","v":0.53635182885187538},null,null,null,"U4=",{"$f":"AL23/(LOG(AL4)/LOG(2))","v":0.60783919429325528},null,null,null,"U5=",{"$f":"AQ23/(LOG(AQ4)/LOG(2))","v":0.59711678020531822},null,null,null,"U6=",{"$f":"AV23/(LOG(AV4)/LOG(2))","v":0.56703009562280027}]
[21,3107,12,3119,24,3130,23,3139,null,null,0,2122]
[12,3252,14,3282,13,3336,23,3344,null,null,0,1112]
[12,3457,23,3491,13,3503,23,3515,null,null,0,1212,null,"Total Target Seq"]
[21,3622,21,3646,11,3657,21,3669,null,null,0,2212,null,{"$f":"COUNTIF(L7:L156,G3)","v":26},null,25,25,25,25,25,25]
[21,3767,21,3777,11,3787,21,3801,null,null,0,2212,null,null,null,"% of reinforcement given in 6 equal intervals based on number of trials "]
[21,3898,21,3912,11,3922,21,3955,null,null,0,2212,null,null,null,"%_1","%_2","%_3","%_4","%_5","%_6"]
[21,4069,21,4108,22,4125,14,4141,null,null,0,2221,null,null,"target sequence",{"$f":"$G$3","v":2212},{"$f":"$G$3","v":2212},{"$f":"$G$3","v":2212},{"$f":"$G$3","v":2212},{"$f":"$G$3","v":2212},{"$f":"$G$3","v":2212}]
[12,4267,23,4289,13,4300,23,4312,null,null,0,1212,null,null,"total reinforcement",{"$f":"U20","v":8},{"$f":"Z20","v":7},{"$f":"AE20","v":2},{"$f":"AJ20","v":2},{"$f":"AO20","v":2},{"$f":"AT20","v":5}]
[21,4417,12,4430,24,4445,14,4464,null,null,0,2121,null,null,"% target"]
[12,4584,23,4596,24,4603,14,4615,null,null,0,1221,null,null,"CCRF"]
[21,4717,21,4729,11,4738,21,4769,null,null,0,2212,null,null,"% CCRf"]
[21,4860,12,4870,13,4889,14,4897,null,null,0,2111,null,null,"average response rate",{"$f":"H31/P28","v":165.64},{"$f":"(H56-H31)/Q28","v":150.24},{"$f":"(H81-H56)/R28","v":157.84},{"$f":"(H106-H81)/S28","v":158.36000000000001},{"$f":"(H131-H106)/T28","v":163.24},{"$f":"(H156-H131)/U28","v":162.88}]
[12,5015,23,5028,24,5037,23,5052,null,null,0,1222]
[12,5163,14,5191,24,5214,14,5226,null,null,0,1121]
[21,5344,21,5349,11,5358,21,5374,null,null,0,2212]
[12,5482,14,5491,13,5526,14,5530,null,null,0,1111]
[21,5646,12,5655,24,5678,14,5694,null,null,0,2121]
[21,5796,21,5800,11,5815,12,5821,null,null,0,2211]
[21,5923,21,5931,11,5939,21,5951,null,null,0,2212]
[12,6052,23,6065,13,6079,23,6103,null,null,0,1212]
[21,6207,12,6215,13,6223,14,6248,null,null,0,2111]
[21,6356,21,6364,11,6374,21,6386,null,null,0,2212]
[21,6481,12,6488,13,6511,23,6522,null,null,0,2112]
[21,6623,21,6632,11,6646,21,6658,null,null,0,2212]
[12,6770,23,6781,13,6796,23,6808,null,null,0,1212]
[21,6910,12,6928,24,6937,23,6942,null,null,0,2122]
[21,7046,12,7071,24,7083,14,7106,null,null,0,2121]
[21,7210,21,7221,11,7231,21,7243,null,null,0,2212]
[21,7338,12,7359,24,7402,23,7414,null,null,0,2122]
[12,7532,14,7556,24,7577,23,7584,null,null,0,1122]
[21,7689,21,7697,11,7707,21,7724,null,null,0,2212]
[12,7830,14,7859,24,7876,14,7897,null,null,0,1121]
[21,7999,12,8009,24,8023,23,8042,null,null,0,2122]
[12,8157,23,8170,24,8176,14,8190,null,null,0,1221]
[21,8292,12,8302,24,8321,14,8332,null,null,0,2121]
[12,8446,23,8458,13,8477,23,8492,null,null,0,1212]
[12,8604,14,8632,13,8660,23,8674,null,null,0,1112]
[21,8777,21,8793,11,8803,21,8815,null,null,0,2212]
[21,8910,12,8920,13,8944,23,8968,null,null,0,2112]
[21,9074,12,9087,24,9099,23,9110,null,null,0,2122]
[21,9211,12,9237,24,9249,23,9265,null,null,0,2122]
[21,9367,12,9381,24,9398,14,9411,null,null,0,2121]
[12,9522,23,9534,13,9548,23,9565,null,null,0,1212]
[12,9677,14,9697,13,9712,23,9728,null,null,0,1112]
[21,9844,12,9869,24,9881,23,9888,null,null,0,2122]
[21,9996,12,10007,24,10022,14,10035,null,null,0,2121]
[12,10156,23,10170,13,10183,23,10199,null,null,0,1212]
[21,10315,12,10323,24,10336,14,10350,null,null,0,2121]
[21,10463,12,10473,24,10494,14,10507,null,null,0,2121]
[21,10613,12,10623,24,10639,14,10651,null,null,0,2121]
[12,10787,14,10819,24,10827,23,10870,null,null,0,1122]
[21,10973,12,11010,24,11018,14,11051,null,null,0,2121]
[21,11152,21,11164,11,11176,21,11188,null,null,0,2212]
[12,11324,14,11336,13,11361,23,11378,null,null,0,1112]
[12,11503,23,11511,24,11516,14,11534,null,null,0,1221]
[21,11644,12,11657,24,11668,14,11680,null,null,0,2121]
[12,11800,23,11817,13,11831,23,11843,null,null,0,1212]
[12,11956,23,11965,24,11978,14,11990,null,null,0,1221]
[21,12099,12,12120,24,12143,14,12155,null,null,0,2121]
[12,12283,23,12295,13,12310,23,12326,null,null,0,1212]
[21,12427,21,12435,11,12445,21,12457,null,null,0,2212]
[12,12574,23,12590,13,12604,23,12616,null,null,0,1212]
[21,12721,12,12747,24,12769,14,12781,null,null,0,2121]
[21,12885,12,12896,24,12904,23,12919,null,null,0,2122]
[12,13032,14,13057,24,13070,14,13086,null,null,0,1121]
[21,13204,12,13214,24,13226,14,13241,null,null,0,2121]
[21,13346,21,13361,22,13381,23,13395,null,null,0,2222]
[21,13498,21,13513,11,13523,21,13536,null,null,0,2212]
[12,13671,14,13683,24,13700,14,13712,null,null,0,1121]
[12,13844,23,13867,13,13886,23,13898,null,null,0,1212]
[12,14026,23,14052,13,14060,23,14074,null,null,0,1212]
[21,14183,12,14197,24,14205,23,14217,null,null,0,2122]
[21,14332,12,14346,24,14361,14,14373,null,null,0,2121]
[21,14473,12,14485,24,14498,14,14514,null,null,0,2121]
[12,14639,23,14657,13,14669,23,14690,null,null,0,1212]
[12,14808,14,14824,24,14837,23,14860,null,null,0,1122]
[12,14975,14,14985,24,14997,23,15010,null,null,0,1122]
[12,15124,23,15137,13,15153,23,15162,null,null,0,1212]
[12,15287,14,15296,13,15308,14,15346,null,null,0,1111]
[12,15465,14,15473,24,15485,14,15503,null,null,0,1121]
[21,15607,21,15623,11,15634,12,15642,null,null,0,2211]
[12,15760,14,15767,24,15783,14,15802,null,null,0,1121]
[21,15930,12,15941,24,15949,14,15970,null,null,0,2121]
[21,16086,12,16097,24,16110,14,16122,null,null,0,2121]
[21,16224,12,16235,13,16243,14,16266,null,null,0,2111]
[21,16367,12,16389,24,16399,14,16420,null,null,0,2121]
[21,16523,12,16535,13,16544,23,16557,null,null,0,2112]
[21,16669,12,16679,24,16693,23,16706,null,null,0,2122]
[21,16804,12,16828,24,16841,14,16865,null,null,0,2121]
[21,16976,12,17000,24,17013,14,17032,null,null,0,2121]
[12,17162,14,17180,24,17196,14,17209,null,null,0,1121]
[12,17334,23,17347,13,17362,23,17375,null,null,0,1212]
[21,17480,12,17490,13,17498,14,17502,null,null,0,2111]
[12,17621,23,17640,13,17653,23,17668,null,null,0,1212]
[12,17817,23,17830,13,17845,23,17861,null,null,0,1212]
[21,17965,12,17991,24,18000,23,18005,null,null,0,2122]
[21,18126,21,18141,11,18156,21,18177,null,null,0,2212]
[21,18278,12,18305,24,18318,23,18326,null,null,0,2122]
[21,18431,21,18484,22,18492,14,18504,null,null,0,2221]
[21,18609,12,18630,13,18653,23,18674,null,null,0,2112]
[21,18780,12,18812,24,18859,23,18869,null,null,0,2122]
[21,18977,21,18998,11,19010,21,19023,null,null,0,2212]
[12,19143,23,19155,13,19173,23,19185,null,null,0,1212]
[21,19306,21,19327,22,19354,23,19380,null,null,0,2222]
[21,19487,12,19513,13,19547,14,19551,null,null,0,2111]
[21,19695,12,19721,24,19738,14,19755,null,null,0,2121]
[21,19855,21,19860,22,19871,23,19883,null,null,0,2222]
[12,19981,23,19999,13,20013,23,20025,null,null,0,1212]
[21,20130,12,20148,24,20156,23,20175,null,null,0,2122]
[21,20278,12,20294,24,20307,14,20331,null,null,0,2121]
[21,20476,21,20485,11,20500,21,20512,null,null,0,2212]
[21,20612,12,20627,24,20647,23,20656,null,null,0,2122]
[12,20785,23,20797,13,20810,23,20821,null,null,0,1212]
[21,20973,12,20988,24,21001,14,21017,null,null,0,2121]
[12,21156,14,21166,13,21182,14,21212,null,null,0,1111]
[21,21313,12,21339,24,21365,14,21381,null,null,0,2121]
[21,21486,21,21519,11,21533,21,21543,null,null,0,2212]
[21,21637,21,21664,11,21679,12,21687,null,null,0,2211]
[12,21786,23,21812,13,21824,23,21833,null,null,0,1212]
[21,21941,21,21958,22,21967,14,21984,null,null,0,2221]
[21,22086,21,22098,11,22108,21,22120,null,null,0,2212]
[21,22223,12,22248,13,22294,23,22307,null,null,0,2112]
[21,22457,21,22466,11,22478,12,22503,null,null,0,2211]
[21,22627,21,22649,11,22660,21,22674,null,null,0,2212]
[21,22796,21,22822,11,22835,21,22849,null,null,0,2212]
[21,22948,21,22958,11,22970,12,22982,null,null,0,2211]
[12,23084,14,23096,13,23110,14,23145,null,null,0,1111]
[21,23272,12,23294,24,23306,14,23319,null,null,0,2121]
[21,23428,12,23450,24,23468,14,23480,null,null,0,2121]
[21,23581,12,23596,24,23608,14,23622,null,null,0,2121]
[12,23735,14,23744,13,23752,14,23761,null,null,0,1111]
[21,23909,21,23931,22,23941,14,23955,null,null,null,2221]

{"sheet":"!N128840.092","index":31,"n_rows":139,"n_cols":48,"rows_kept":139,"cut":false,"hidden":false,"merged":[[4,39,4,42],[5,39,5,40],[4,44,4,47],[5,44,5,45],[4,24,4,27],[5,24,5,25],[4,29,4,32],[5,29,5,30],[4,34,4,37],[5,34,5,35],[1,1,1,2],[5,13,5,14],[26,13,26,14],[27,13,27,14],[4,19,4,22],[5,19,5,20]]}
["Report for:!N128840.092"]
["Date:","<date>"]
["Hen:","<hen>",null,null,null,"Correct Sequence",{"$f":"Start!J2","v":2212},null,null,null,null,null,null,null,null,"Total Sequences in Data",{"$f":"4994-COUNTBLANK(L7:L5000)","v":133},null,null,null,null,"Total Sequences in Block Data",{"$f":"COUNTA(L7:L28)","v":22},null,null,null,"Total Sequences in Block Data",{"$f":"COUNTA(L29:L50)","v":22},null,null,null,"Total Sequences in Block Data",{"$f":"COUNTA(L51:L73)","v":23},null,null,null,"Total Sequences in Block Data",{"$f":"COUNTA(L74:L95)","v":22},null,null,null,"Total Sequences in Block Data",{"$f":"COUNTA(L96:L117)","v":22},null,null,null,"Total Sequences in Block Data",{"$f":"COUNTA(L118:L139)","v":22}]
[null,null,null,null,null,null,null,null,null,null,null,null,null,null,null,"Total Sequences in Summary",{"$f":"SUM(O7:O22)","v":132},null,null,null,null,"Total Sequences in Block Summary",{"$f":"SUM(U7:U22)","v":22},null,null,null,"Total Sequences in Block Summary",{"$f":"SUM(Z7:Z22)","v":22},null,null,null,"Total Sequences in Block Summary",{"$f":"SUM(AE7:AE22)","v":23},null,null,null,"Total Sequences in Block Summary",{"$f":"SUM(AJ7:AJ22)","v":22},null,null,null,"Total Sequences in Block Summary",{"$f":"SUM(AO7:AO22)","v":22},null,null,null,"Total Sequences in Block Summary",{"$f":"SUM(AT7:AT22)","v":21}]
[null,null,null,null,null,null,null,null,null,null,null,null,null,null,null,null,null,null,null,"Block 1",null,null,null,null,"Block 2",null,null,null,null,"Block 3",null,null,null,null,"Block 4",null,null,null,null,"Block 5",null,null,null,null,"Block 6"]
["Sequence\nComponent\n1","Time\n1","Sequence\nComponent\n2","Time\n2","Sequence\nComponent\n3","Time\n3","Sequence\nComponent\n4","Time\n4","Sequence\nComponent\n5","Time\n5","Correct?\n0=No 1=Yes","Sequence",null,"Frequency",null,"Relative Frequency","Variability",null,null,"Frequency",null,"Relative Frequency","Variability",null,"Frequency",null,"Relative Frequency","Variability",null,"Frequency",null,"Relative Frequency","Variability",null,"Frequency",null,"Relative Frequency","Variability",null,"Frequency",null,"Relative Frequency","Variability",null,"Frequency",null,"Relative Frequency","Variability"]
[12,74,23,113,13,129,23,148,null,null,0,1212,null,1111,{"$f":"COUNTIF($L$7:$L$500,N7)","v":3},{"$f":"O7/$Q$4","v":2.2727272727272728E-2},{"$f":"IF(P7=0,0,(P7*((LOG(P7))/LOG(2))))","v":-0.12407799133266585},null,null,{"$f":"N7","v":1111},{"$f":"COUNTIF(L7:L28,T7)","v":0},{"$f":"U7/(W4-U20)","v":0},{"$f":"IF(V7=0,0,(V7*((LOG(V7))/LOG(2))))","v":0},null,{"$f":"N7","v":1111},{"$f":"COUNTIF(L29:L50,Y7)","v":1},{"$f":"Z7/(AB4-Z20)","v":0.05},{"$f":"IF(AA7=0,0,(AA7*((LOG(AA7))/LOG(2))))","v":-0.21609640474436814},null,{"$f":"N7","v":1111},{"$f":"COUNTIF(L51:L73,AD7)","v":1},{"$f":"AE7/(AG4-AE20)","v":4.7619047619047616E-2},{"$f":"IF(AF7=0,0,(AF7*((LOG(AF7))/LOG(2))))","v":-0.20915797251327431},null,{"$f":"N7","v":1111},{"$f":"COUNTIF(L74:L95,AI7)","v":1},{"$f":"AJ7/(AL4-AJ20)","v":5.8823529411764705E-2},{"$f":"IF(AK7=0,0,(AK7*((LOG(AK7))/LOG(2))))","v":-0.24043899066178465},null,{"$f":"N7","v":1111},{"$f":"COUNTIF(L96:L117,AN7)","v":0},{"$f":"AO7/(AQ4-AO20)","v":0},{"$f":"IF(AP7=0,0,(AP7*((LOG(AP7))/LOG(2))))","v":0},null,{"$f":"N7","v":1111},{"$f":"COUNTIF(L118:L139,AS7)","v":0},{"$f":"AT7/(AV4-AT20)","v":0},{"$f":"IF(AU7=0,0,(AU7*((LOG(AU7))/LOG(2))))","v":0}]
[21,257,21,274,11,291,21,355,null,null,0,2212,null,1112,{"$f":"COUNTIF($L$7:$L$500,N8)","v":8},{"$f":"O8/$Q$4","v":6.0606060606060608E-2},{"$f":"IF(P8=0,0,(P8*((LOG(P8))/LOG(2))))","v":-0.24511479511263354},null,null,{"$f":"N8","v":1112},{"$f":"COUNTIF(L7:L28,T8)","v":0},{"$f":"U8/(W4-U20)","v":0},{"$f":"IF(V8=0,0,(V8*((LOG(V8))/LOG(2))))","v":0},null,{"$f":"N8","v":1112},{"$f":"COUNTIF(L29:L50,Y8)","v":4},{"$f":"Z8/(AB4-Z20)","v":0.2},{"$f":"IF(AA8=0,0,(AA8*((LOG(AA8))/LOG(2))))","v":-0.46438561897747244},null,{"$f":"N8","v":1112},{"$f":"COUNTIF(L51:L73,AD8)","v":2},{"$f":"AE8/(AG4-AE20)","v":9.5238095238095233E-2},{"$f":"IF(AF8=0,0,(AF8*((LOG(AF8))/LOG(2))))","v":-0.32307784978845333},null,{"$f":"N8","v":1112},{"$f":"COUNTIF(L74:L95,AI8)","v":2},{"$f":"AJ8/(AL4-AJ20)","v":0.11764705882352941},{"$f":"IF(AK8=0,0,(AK8*((LOG(AK8))/LOG(2))))","v":-0.36323092250003997},null,{"$f":"N8","v":1112},{"$f":"COUNTIF(L96:L117,AN8)","v":0},{"$f":"AO8/(AQ4-AO20)","v":0},{"$f":"IF(AP8=0,0,(AP8*((LOG(AP8))/LOG(2))))","v":0},null,{"$f":"N8","v":1112},{"$f":"COUNTIF(L118:L139,AS8)","v":0},{"$f":"AT8/(AV4-AT20)","v":0},{"$f":"IF(AU8=0,0,(AU8*((LOG(AU8))/LOG(2))))","v":0}]
[21,467,12,478,24,498,23,522,null,null,0,2122,null,1121,{"$f":"COUNTIF($L$7:$L$500,N9)","v":4},{"$f":"O9/$Q$4","v":3.0303030303030304E-2},{"$f":"IF(P9=0,0,(P9*((LOG(P9))/LOG(2))))","v":-0.15286042785934709},null,null,{"$f":"N9","v":1121},{"$f":"COUNTIF(L7:L28,T9)","v":0},{"$f":"U9/(W4-U20)","v":0},{"$f":"IF(V9=0,0,(V9*((LOG(V9))/LOG(2))))","v":0},null,{"$f":"N9","v":1121},{"$f":"COUNTIF(L29:L50,Y9)","v":0},{"$f":"Z9/(AB4-Z20)","v":0},{"$f":"IF(AA9=0,0,(AA9*((LOG(AA9))/LOG(2))))","v":0},null,{"$f":"N9","v":1121},{"$f":"COUNTIF(L51:L73,AD9)","v":2},{"$f":"AE9/(AG4-AE20)","v":9.5238095238095233E-2},{"$f":"IF(AF9=0,0,(AF9*((LOG(AF9))/LOG(2))))","v":-0.32307784978845333},null,{"$f":"N9","v":1121},{"$f":"COUNTIF(L74:L95,AI9)","v":1},{"$f":"AJ9/(AL4-AJ20)","v":5.8823529411764705E-2},{"$f":"IF(AK9=0,0,(AK9*((LOG(AK9))/LOG(2))))","v":-0.24043899066178465},null,{"$f":"N9","v":1121},{"$f":"COUNTIF(L96:L117,AN9)","v":1},{"$f":"AO9/(AQ4-AO20)","v":0.05},{"$f":"IF(AP9=0,0,(AP9*((LOG(AP9))/LOG(2))))","v":-0.21609640474436814},null,{"$f":"N9","v":1121},{"$f":"COUNTIF(L118:L139,AS9)","v":0},{"$f":"AT9/(AV4-AT20)","v":0},{"$f":"IF(AU9=0,0,(AU9*((LOG(AU9))/LOG(2))))","v":0}]
[12,641,23,656,24,689,14,704,null,null,0,1221,null,1122,{"$f":"COUNTIF($L$7:$L$500,N10)","v":4},{"$f":"O10/$Q$4","v":3.0303030303030304E-2},{"$f":"IF(P10=0,0,(P10*((LOG(P10))/LOG(2))))","v":-0.15286042785934709},null,null,{"$f":"N10","v":1122},{"$f":"COUNTIF(L7:L28,T10)","v":0},{"$f":"U10/(W4-U20)","v":0},{"$f":"IF(V10=0,0,(V10*((LOG(V10))/LOG(2))))","v":0},null,{"$f":"N10","v":1122},{"$f":"COUNTIF(L29:L50,Y10)","v":0},{"$f":"Z10/(AB4-Z20)","v":0},{"$f":"IF(AA10=0,0,(AA10*((LOG(AA10))/LOG(2))))","v":0},null,{"$f":"N10","v":1122},{"$f":"COUNTIF(L51:L73,AD10)","v":0},{"$f":"AE10/(AG4-AE20)","v":0},{"$f":"IF(AF10=0,0,(AF10*((LOG(AF10))/LOG(2))))","v":0},null,{"$f":"N10","v":1122},{"$f":"COUNTIF(L74:L95,AI10)","v":1},{"$f":"AJ10/(AL4-AJ20)","v":5.8823529411764705E-2},{"$f":"IF(AK10=0,0,(AK10*((LOG(AK10))/LOG(2))))","v":-0.24043899066178465},null,{"$f":"N10","v":1122},{"$f":"COUNTIF(L96:L117,AN10)","v":1},{"$f":"AO10/(AQ4-AO20)","v":0.05},{"$f":"IF(AP10=0,0,(AP10*((LOG(AP10))/LOG(2))))","v":-0.21609640474436814},null,{"$f":"N10","v":1122},{"$f":"COUNTIF(L118:L139,AS10)","v":2},{"$f":"AT10/(AV4-AT20)","v":0.1111111111111111},{"$f":"IF(AU10=0,0,(AU10*((LOG(AU10))/LOG(2))))","v":-0.3522138890491458}]
[21,810,12,822,24,831,23,863,null,null,0,2122,null,1211,{"$f":"COUNTIF($L$7:$L$500,N11)","v":6},{"$f":"O11/$Q$4","v":4.5454545454545456E-2},{"$f":"IF(P11=0,0,(P11*((LOG(P11))/LOG(2))))","v":-0.20270143721078623},null,null,{"$f":"N11","v":1211},{"$f":"COUNTIF(L7:L28,T11)","v":2},{"$f":"U11/(W4-U20)","v":0.1},{"$f":"IF(V11=0,0,(V11*((LOG(V11))/LOG(2))))","v":-0.33219280948873625},null,{"$f":"N11","v":1211},{"$f":"COUNTIF(L29:L50,Y11)","v":2},{"$f":"Z11/(AB4-Z20)","v":0.1},{"$f":"IF(AA11=0,0,(AA11*((LOG(AA11))/LOG(2))))","v":-0.33219280948873625},null,{"$f":"N11","v":1211},{"$f":"COUNTIF(L51:L73,AD11)","v":0},{"$f":"AE11/(AG4-AE20)","v":0},{"$f":"IF(AF11=0,0,(AF11*((LOG(AF11))/LOG(2))))","v":0},null,{"$f":"N11","v":1211},{"$f":"COUNTIF(L74:L95,AI11)","v":1},{"$f":"AJ11/(AL4-AJ20)","v":5.8823529411764705E-2},{"$f":"IF(AK11=0,0,(AK11*((LOG(AK11))/LOG(2))))","v":-0.24043899066178465},null,{"$f":"N11","v":1211},{"$f":"COUNTIF(L96:L117,AN11)","v":0},{"$f":"AO11/(AQ4-AO20)","v":0},{"$f":"IF(AP11=0,0,(AP11*((LOG(AP11))/LOG(2))))","v":0},null,{"$f":"N11","v":1211},{"$f":"COUNTIF(L118:L139,AS11)","v":1},{"$f":"AT11/(AV4-AT20)","v":5.5555555555555552E-2},{"$f":"IF(AU11=0,0,(AU11*((LOG(AU11))/LOG(2))))","v":-0.23166250008012845}]
[21,973,21,990,22,1078,14,1093,null,null,0,2221,null,1212,{"$f":"COUNTIF($L$7:$L$500,N12)","v":18},{"$f":"O12/$Q$4","v":0.13636363636363635},{"$f":"IF(P12=0,0,(P12*((LOG(P12))/LOG(2))))","v":-0.39197306153401923},null,null,{"$f":"N12","v":1212},{"$f":"COUNTIF(L7:L28,T12)","v":2},{"$f":"U12/(W4-U20)","v":0.1},{"$f":"IF(V12=0,0,(V12*((LOG(V12))/LOG(2))))","v":-0.33219280948873625},null,{"$f":"N12","v":1212},{"$f":"COUNTIF(L29:L50,Y12)","v":5},{"$f":"Z12/(AB4-Z20)","v":0.25},{"$f":"IF(AA12=0,0,(AA12*((LOG(AA12))/LOG(2))))","v":-0.5},null,{"$f":"N12","v":1212},{"$f":"COUNTIF(L51:L73,AD12)","v":3},{"$f":"AE12/(AG4-AE20)","v":0.14285714285714285},{"$f":"IF(AF12=0,0,(AF12*((LOG(AF12))/LOG(2))))","v":-0.40105070315108626},null,{"$f":"N12","v":1212},{"$f":"COUNTIF(L74:L95,AI12)","v":2},{"$f":"AJ12/(AL4-AJ20)","v":0.11764705882352941},{"$f":"IF(AK12=0,0,(AK12*((LOG(AK12))/LOG(2))))","v":-0.36323092250003997},null,{"$f":"N12","v":1212},{"$f":"COUNTIF(L96:L117,AN12)","v":5},{"$f":"AO12/(AQ4-AO20)","v":0.25},{"$f":"IF(AP12=0,0,(AP12*((LOG(AP12))/LOG(2))))","v":-0.5},null,{"$f":"N12","v":1212},{"$f":"COUNTIF(L118:L139,AS12)","v":1},{"$f":"AT12/(AV4-AT20)","v":5.5555555555555552E-2},{"$f":"IF(AU12=0,0,(AU12*((LOG(AU12))/LOG(2))))","v":-0.23166250008012845}]
[21,1202,12,1214,13,1262,23,1274,null,null,0,2112,null,1221,{"$f":"COUNTIF($L$7:$L$500,N13)","v":5},{"$f":"O13/$Q$4","v":3.787878787878788E-2},{"$f":"IF(P13=0,0,(P13*((LOG(P13))/LOG(2))))","v":-0.17888128880572313},null,null,{"$f":"N13","v":1221},{"$f":"COUNTIF(L7:L28,T13)","v":1},{"$f":"U13/(W4-U20)","v":0.05},{"$f":"IF(V13=0,0,(V13*((LOG(V13))/LOG(2))))","v":-0.21609640474436814},null,{"$f":"N13","v":1221},{"$f":"COUNTIF(L29:L50,Y13)","v":1},{"$f":"Z13/(AB4-Z20)","v":0.05},{"$f":"IF(AA13=0,0,(AA13*((LOG(AA13))/LOG(2))))","v":-0.21609640474436814},null,{"$f":"N13","v":1221},{"$f":"COUNTIF(L51:L73,AD13)","v":0},{"$f":"AE13/(AG4-AE20)","v":0},{"$f":"IF(AF13=0,0,(AF13*((LOG(AF13))/LOG(2))))","v":0},null,{"$f":"N13","v":1221},{"$f":"COUNTIF(L74:L95,AI13)","v":0},{"$f":"AJ13/(AL4-AJ20)","v":0},{"$f":"IF(AK13=0,0,(AK13*((LOG(AK13))/LOG(2))))","v":0},null,{"$f":"N13","v":1221},{"$f":"COUNTIF(L96:L117,AN13)","v":1},{"$f":"AO13/(AQ4-AO20)","v":0.05},{"$f":"IF(AP13=0,0,(AP13*((LOG(AP13))/LOG(2))))","v":-0.21609640474436814},null,{"$f":"N13","v":1221},{"$f":"COUNTIF(L118:L139,AS13)","v":2},{"$f":"AT13/(AV4-AT20)","v":0.1111111111111111},{"$f":"IF(AU13=0,0,(AU13*((LOG(AU13))/LOG(2))))","v":-0.3522138890491458}]
[21,1386,12,1396,13,1418,23,1431,null,null,0,2112,null,1222,{"$f":"COUNTIF($L$7:$L$500,N14)","v":3},{"$f":"O14/$Q$4","v":2.2727272727272728E-2},{"$f":"IF(P14=0,0,(P14*((LOG(P14))/LOG(2))))","v":-0.12407799133266585},null,null,{"$f":"N14","v":1222},{"$f":"COUNTIF(L7:L28,T14)","v":2},{"$f":"U14/(W4-U20)","v":0.1},{"$f":"IF(V14=0,0,(V14*((LOG(V14))/LOG(2))))","v":-0.33219280948873625},null,{"$f":"N14","v":1222},{"$f":"COUNTIF(L29:L50,Y14)","v":0},{"$f":"Z14/(AB4-Z20)","v":0},{"$f":"IF(AA14=0,0,(AA14*((LOG(AA14))/LOG(2))))","v":0},null,{"$f":"N14","v":1222},{"$f":"COUNTIF(L51:L73,AD14)","v":0},{"$f":"AE14/(AG4-AE20)","v":0},{"$f":"IF(AF14=0,0,(AF14*((LOG(AF14))/LOG(2))))","v":0},null,{"$f":"N14","v":1222},{"$f":"COUNTIF(L74:L95,AI14)","v":0},{"$f":"AJ14/(AL4-AJ20)","v":0},{"$f":"IF(AK14=0,0,(AK14*((LOG(AK14))/LOG(2))))","v":0},null,{"$f":"N14","v":1222},{"$f":"COUNTIF(L96:L117,AN14)","v":0},{"$f":"AO14/(AQ4-AO20)","v":0},{"$f":"IF(AP14=0,0,(AP14*((LOG(AP14))/LOG(2))))","v":0},null,{"$f":"N14","v":1222},{"$f":"COUNTIF(L118:L139,AS14)","v":1},{"$f":"AT14/(AV4-AT20)","v":5.5555555555555552E-2},{"$f":"IF(AU14=0,0,(AU14*((LOG(AU14))/LOG(2))))","v":-0.23166250008012845}]
[12,1587,23,1599,13,1617,14,1645,null,null,0,1211,null,2111,{"$f":"COUNTIF($L$7:$L$500,N15)","v":3},{"$f":"O15/$Q$4","v":2.2727272727272728E-2},{"$f":"IF(P15=0,0,(P15*((LOG(P15))/LOG(2))))","v":-0.12407799133266585},null,null,{"$f":"N15","v":2111},{"$f":"COUNTIF(L7:L28,T15)","v":1},{"$f":"U15/(W4-U20)","v":0.05},{"$f":"IF(V15=0,0,(V15*((LOG(V15))/LOG(2))))","v":-0.21609640474436814},null,{"$f":"N15","v":2111},{"$f":"COUNTIF(L29:L50,Y15)","v":0},{"$f":"Z15/(AB4-Z20)","v":0},{"$f":"IF(AA15=0,0,(AA15*((LOG(AA15))/LOG(2))))","v":0},null,{"$f":"N15","v":2111},{"$f":"COUNTIF(L51:L73,AD15)","v":1},{"$f":"AE15/(AG4-AE20)","v":4.7619047619047616E-2},{"$f":"IF(AF15=0,0,(AF15*((LOG(AF15))/LOG(2))))","v":-0.20915797251327431},null,{"$f":"N15","v":2111},{"$f":"COUNTIF(L74:L95,AI15)","v":1},{"$f":"AJ15/(AL4-AJ20)","v":5.8823529411764705E-2},{"$f":"IF(AK15=0,0,(AK15*((LOG(AK15))/LOG(2))))","v":-0.24043899066178465},null,{"$f":"N15","v":2111},{"$f":"COUNTIF(L96:L117,AN15)","v":0},{"$f":"AO15/(AQ4-AO20)","v":0},{"$f":"IF(AP15=0,0,(AP15*((LOG(AP15))/LOG(2))))","v":0},null,{"$f":"N15","v":2111},{"$f":"COUNTIF(L118:L139,AS15)","v":0},{"$f":"AT15/(AV4-AT20)","v":0},{"$f":"IF(AU15=0,0,(AU15*((LOG(AU15))/LOG(2))))","v":0}]
[12,1773,23,1785,13,1797,14,1838,null,null,0,1211,null,2112,{"$f":"COUNTIF($L$7:$L$500,N16)","v":10},{"$f":"O16/$Q$4","v":7.575757575757576E-2},{"$f":"IF(P16=0,0,(P16*((LOG(P16))/LOG(2))))","v":-0.28200500185387051},null,null,{"$f":"N16","v":2112},{"$f":"COUNTIF(L7:L28,T16)","v":3},{"$f":"U16/(W4-U20)","v":0.15},{"$f":"IF(V16=0,0,(V16*((LOG(V16))/LOG(2))))","v":-0.41054483912493089},null,{"$f":"N16","v":2112},{"$f":"COUNTIF(L29:L50,Y16)","v":0},{"$f":"Z16/(AB4-Z20)","v":0},{"$f":"IF(AA16=0,0,(AA16*((LOG(AA16))/LOG(2))))","v":0},null,{"$f":"N16","v":2112},{"$f":"COUNTIF(L51:L73,AD16)","v":1},{"$f":"AE16/(AG4-AE20)","v":4.7619047619047616E-2},{"$f":"IF(AF16=0,0,(AF16*((LOG(AF16))/LOG(2))))","v":-0.20915797251327431},null,{"$f":"N16","v":2112},{"$f":"COUNTIF(L74:L95,AI16)","v":2},{"$f":"AJ16/(AL4-AJ20)","v":0.11764705882352941},{"$f":"IF(AK16=0,0,(AK16*((LOG(AK16))/LOG(2))))","v":-0.36323092250003997},null,{"$f":"N16","v":2112},{"$f":"COUNTIF(L96:L117,AN16)","v":2},{"$f":"AO16/(AQ4-AO20)","v":0.1},{"$f":"IF(AP16=0,0,(AP16*((LOG(AP16))/LOG(2))))","v":-0.33219280948873625},null,{"$f":"N16","v":2112},{"$f":"COUNTIF(L118:L139,AS16)","v":2},{"$f":"AT16/(AV4-AT20)","v":0.1111111111111111},{"$f":"IF(AU16=0,0,(AU16*((LOG(AU16))/LOG(2))))","v":-0.3522138890491458}]
[12,1968,23,1981,13,1993,23,2006,null,null,0,1212,null,2121,{"$f":"COUNTIF($L$7:$L$500,N17)","v":29},{"$f":"O17/$Q$4","v":0.2196969696969697},{"$f":"IF(P17=0,0,(P17*((LOG(P17))/LOG(2))))","v":-0.48034833789920883},null,null,{"$f":"N17","v":2121},{"$f":"COUNTIF(L7:L28,T17)","v":0},{"$f":"U17/(W4-U20)","v":0},{"$f":"IF(V17=0,0,(V17*((LOG(V17))/LOG(2))))","v":0},null,{"$f":"N17","v":2121},{"$f":"COUNTIF(L29:L50,Y17)","v":6},{"$f":"Z17/(AB4-Z20)","v":0.3},{"$f":"IF(AA17=0,0,(AA17*((LOG(AA17))/LOG(2))))","v":-0.52108967824986185},null,{"$f":"N17","v":2121},{"$f":"COUNTIF(L51:L73,AD17)","v":8},{"$f":"AE17/(AG4-AE20)","v":0.38095238095238093},{"$f":"IF(AF17=0,0,(AF17*((LOG(AF17))/LOG(2))))","v":-0.53040663724905157},null,{"$f":"N17","v":2121},{"$f":"COUNTIF(L74:L95,AI17)","v":3},{"$f":"AJ17/(AL4-AJ20)","v":0.17647058823529413},{"$f":"IF(AK17=0,0,(AK17*((LOG(AK17))/LOG(2))))","v":-0.44161770715220888},null,{"$f":"N17","v":2121},{"$f":"COUNTIF(L96:L117,AN17)","v":7},{"$f":"AO17/(AQ4-AO20)","v":0.35},{"$f":"IF(AP17=0,0,(AP17*((LOG(AP17))/LOG(2))))","v":-0.53010061049041535},null,{"$f":"N17","v":2121},{"$f":"COUNTIF(L118:L139,AS17)","v":5},{"$f":"AT17/(AV4-AT20)","v":0.27777777777777779},{"$f":"IF(AU17=0,0,(AU17*((LOG(AU17))/LOG(2))))","v":-0.51333247404304172}]
[21,2107,21,2147,11,2161,21,2182,null,null,0,2212,null,2122,{"$f":"COUNTIF($L$7:$L$500,N18)","v":8},{"$f":"O18/$Q$4","v":6.0606060606060608E-2},{"$f":"IF(P18=0,0,(P18*((LOG(P18))/LOG(2))))","v":-0.24511479511263354},null,null,{"$f":"N18","v":2122},{"$f":"COUNTIF(L7:L28,T18)","v":4},{"$f":"U18/(W4-U20)","v":0.2},{"$f":"IF(V18=0,0,(V18*((LOG(V18))/LOG(2))))","v":-0.46438561897747244},null,{"$f":"N18","v":2122},{"$f":"COUNTIF(L29:L50,Y18)","v":0},{"$f":"Z18/(AB4-Z20)","v":0},{"$f":"IF(AA18=0,0,(AA18*((LOG(AA18))/LOG(2))))","v":0},null,{"$f":"N18","v":2122},{"$f":"COUNTIF(L51:L73,AD18)","v":1},{"$f":"AE18/(AG4-AE20)","v":4.7619047619047616E-2},{"$f":"IF(AF18=0,0,(AF18*((LOG(AF18))/LOG(2))))","v":-0.20915797251327431},null,{"$f":"N18","v":2122},{"$f":"COUNTIF(L74:L95,AI18)","v":0},{"$f":"AJ18/(AL4-AJ20)","v":0},{"$f":"IF(AK18=0,0,(AK18*((LOG(AK18))/LOG(2))))","v":0},null,{"$f":"N18","v":2122},{"$f":"COUNTIF(L96:L117,AN18)","v":1},{"$f":"AO18/(AQ4-AO20)","v":0.05},{"$f":"IF(AP18=0,0,(AP18*((LOG(AP18))/LOG(2))))","v":-0.21609640474436814},null,{"$f":"N18","v":2122},{"$f":"COUNTIF(L118:L139,AS18)","v":2},{"$f":"AT18/(AV4-AT20)","v":0.1111111111111111},{"$f":"IF(AU18=0,0,(AU18*((LOG(AU18))/LOG(2))))","v":-0.3522138890491458}]
[21,2290,12,2307,13,2325,14,2344,null,null,0,2111,null,2211,{"$f":"COUNTIF($L$7:$L$500,N19)","v":5},{"$f":"O19/$Q$4","v":3.787878787878788E-2},{"$f":"IF(P19=0,0,(P19*((LOG(P19))/LOG(2))))","v":-0.17888128880572313},null,null,{"$f":"N19","v":2211},{"$f":"COUNTIF(L7:L28,T19)","v":2},{"$f":"U19/(W4-U20)","v":0.1},{"$f":"IF(V19=0,0,(V19*((LOG(V19))/LOG(2))))","v":-0.33219280948873625},null,{"$f":"N19","v":2211},{"$f":"COUNTIF(L29:L50,Y19)","v":0},{"$f":"Z19/(AB4-Z20)","v":0},{"$f":"IF(AA19=0,0,(AA19*((LOG(AA19))/LOG(2))))","v":0},null,{"$f":"N19","v":2211},{"$f":"COUNTIF(L51:L73,AD19)","v":1},{"$f":"AE19/(AG4-AE20)","v":4.7619047619047616E-2},{"$f":"IF(AF19=0,0,(AF19*((LOG(AF19))/LOG(2))))","v":-0.20915797251327431},null,{"$f":"N19","v":2211},{"$f":"COUNTIF(L74:L95,AI19)","v":2},{"$f":"AJ19/(AL4-AJ20)","v":0.11764705882352941},{"$f":"IF(AK19=0,0,(AK19*((LOG(AK19))/LOG(2))))","v":-0.36323092250003997},null,{"$f":"N19","v":2211},{"$f":"COUNTIF(L96:L117,AN19)","v":0},{"$f":"AO19/(AQ4-AO20)","v":0},{"$f":"IF(AP19=0,0,(AP19*((LOG(AP19))/LOG(2))))","v":0},null,{"$f":"N19","v":2211},{"$f":"COUNTIF(L118:L139,AS19)","v":0},{"$f":"AT19/(AV4-AT20)","v":0},{"$f":"IF(AU19=0,0,(AU19*((LOG(AU19))/LOG(2))))","v":0}]
[21,2461,12,2472,24,2481,23,2488,null,null,0,2122,null,2212,{"$f":"COUNTIF($L$7:$L$500,N20)","v":16},{"$f":"O20/$Q$4","v":0.12121212121212122},{"$f":"IF(P20=0,0,(P20*((LOG(P20))/LOG(2))))","v":-0.36901746901314586},null,null,{"$f":"N20","v":2212},{"$f":"COUNTIF(L7:L28,T20)","v":2},null,null,null,{"$f":"N20","v":2212},{"$f":"COUNTIF(L29:L50,Y20)","v":2},null,null,null,{"$f":"N20","v":2212},{"$f":"COUNTIF(L51:L73,AD20)","v":2},null,null,null,{"$f":"N20","v":2212},{"$f":"COUNTIF(L74:L95,AI20)","v":5},null,null,null,{"$f":"N20","v":2212},{"$f":"COUNTIF(L96:L117,AN20)","v":2},null,null,null,{"$f":"N20","v":2212},{"$f":"COUNTIF(L118:L139,AS20)","v":3}]
[21,2599,21,2631,22,2639,23,2678,null,null,0,2222,null,2221,{"$f":"COUNTIF($L$7:$L$500,N21)","v":6},{"$f":"O21/$Q$4","v":4.5454545454545456E-2},{"$f":"IF(P21=0,0,(P21*((LOG(P21))/LOG(2))))","v":-0.20270143721078623},null,null,{"$f":"N21","v":2221},{"$f":"COUNTIF(L7:L28,T21)","v":1},{"$f":"U21/(W4-U20)","v":0.05},{"$f":"IF(V21=0,0,(V21*((LOG(V21))/LOG(2))))","v":-0.21609640474436814},null,{"$f":"N21","v":2221},{"$f":"COUNTIF(L29:L50,Y21)","v":0},{"$f":"Z21/(AB4-Z20)","v":0},{"$f":"IF(AA21=0,0,(AA21*((LOG(AA21))/LOG(2))))","v":0},null,{"$f":"N21","v":2221},{"$f":"COUNTIF(L51:L73,AD21)","v":1},{"$f":"AE21/(AG4-AE20)","v":4.7619047619047616E-2},{"$f":"IF(AF21=0,0,(AF21*((LOG(AF21))/LOG(2))))","v":-0.20915797251327431},null,{"$f":"N21","v":2221},{"$f":"COUNTIF(L74:L95,AI21)","v":1},{"$f":"AJ21/(AL4-AJ20)","v":5.8823529411764705E-2},{"$f":"IF(AK21=0,0,(AK21*((LOG(AK21))/LOG(2))))","v":-0.24043899066178465},null,{"$f":"N21","v":2221},{"$f":"COUNTIF(L96:L117,AN21)","v":1},{"$f":"AO21/(AQ4-AO20)","v":0.05},{"$f":"IF(AP21=0,0,(AP21*((LOG(AP21))/LOG(2))))","v":-0.21609640474436814},null,{"$f":"N21","v":2221},{"$f":"COUNTIF(L118:L139,AS21)","v":2},{"$f":"AT21/(AV4-AT20)","v":0.1111111111111111},{"$f":"IF(AU21=0,0,(AU21*((LOG(AU21))/LOG(2))))","v":-0.3522138890491458}]
[12,2823,23,2852,24,2860,23,2916,null,null,0,1222,null,2222,{"$f":"COUNTIF($L$7:$L$500,N22)","v":4},{"$f":"O22/$Q$4","v":3.0303030303030304E-2},{"$f":"IF(P22=0,0,(P22*((LOG(P22))/LOG(2))))","v":-0.15286042785934709},null,null,{"$f":"N22","v":2222},{"$f":"COUNTIF(L7:L28,T22)","v":2},{"$f":"U22/(W4-U20)","v":0.1},{"$f":"IF(V22=0,0,(V22*((LOG(V22))/LOG(2))))","v":-0.33219280948873625},null,{"$f":"N22","v":2222},{"$f":"COUNTIF(L29:L50,Y22)","v":1},{"$f":"Z22/(AB4-Z20)","v":0.05},{"$f":"IF(AA22=0,0,(AA22*((LOG(AA22))/LOG(2))))","v":-0.21609640474436814},null,{"$f":"N22","v":2222},{"$f":"COUNTIF(L51:L73,AD22)","v":0},{"$f":"AE22/(AG4-AE20)","v":0},{"$f":"IF(AF22=0,0,(AF22*((LOG(AF22))/LOG(2))))","v":0},null,{"$f":"N22","v":2222},{"$f":"COUNTIF(L74:L95,AI22)","v":0},{"$f":"AJ22/(AL4-AJ20)","v":0},{"$f":"IF(AK22=0,0,(AK22*((LOG(AK22))/LOG(2))))","v":0},null,{"$f":"N22","v":2222},{"$f":"COUNTIF(L96:L117,AN22)","v":1},{"$f":"AO22/(AQ4-AO20)","v":0.05},{"$f":"IF(AP22=0,0,(AP22*((LOG(AP22))/LOG(2))))","v":-0.21609640474436814},null,{"$f":"N22","v":2222},{"$f":"COUNTIF(L118:L139,AS22)","v":0},{"$f":"AT22/(AV4-AT20)","v":0},{"$f":"IF(AU22=0,0,(AU22*((LOG(AU22))/LOG(2))))","v":0}]
[12,3059,23,3070,24,3097,23,3116,null,null,0,1222,null,null,null,{"$f":"SUM(P7:P22)","v":0.99999999999999989},{"$f":"-SUM(Q7:Q22)","v":3.607554170134569},null,null,null,null,{"$f":"SUM(V7:V22)","v":1},{"$f":"-SUM(W7:W22)","v":3.1841837197791887},null,null,null,{"$f":"SUM(AA7:AA22)","v":1},{"$f":"-SUM(AB7:AB22)","v":2.4659573209491747},null,null,null,{"$f":"SUM(AF7:AF22)","v":1},{"$f":"-SUM(AG7:AG22)","v":2.8325608750566902},null,null,null,{"$f":"SUM(AK7:AK22)","v":1},{"$f":"-SUM(AL7:AL22)","v":3.3371753411230771},null,null,null,{"$f":"SUM(AP7:AP22)","v":1},{"$f":"-SUM(AQ7:AQ22)","v":2.6588718484453606},null,null,null,{"$f":"SUM(AU7:AU22)","v":1},{"$f":"-SUM(AV7:AV22)","v":2.9693894195291559}]
[21,3221,21,3236,11,3248,12,3277,null,null,0,2211,null,null,null,"U=",{"$f":"Q23/(LOG(Q4)/LOG(2))","v":0.51211702653330748},null,null,null,null,"U1=",{"$f":"W23/(LOG(W4)/LOG(2))","v":0.7140335343346299},null,null,null,"U2=",{"$f":"AB23/(LOG(AB4)/LOG(2))","v":0.55297570000697005},null,null,null,"U3=",{"$f":"AG23/(LOG(AG4)/LOG(2))","v":0.62617930351631723},null,null,null,"U4=",{"$f":"AL23/(LOG(AL4)/LOG(2))","v":0.74834096057803068},null,null,null,"U5=",{"$f":"AQ23/(LOG(AQ4)/LOG(2))","v":0.59623559139984128},null,null,null,"U6=",{"$f":"AV23/(LOG(AV4)/LOG(2))","v":0.6760416276223038}]
[21,3396,12,3435,13,3465,23,3479,null,null,0,2112]
[21,3580,21,3596,22,3612,23,3640,null,null,0,2222]
[21,3752,21,3767,11,3781,12,3810,null,null,0,2211,null,"Total Target Seq"]
[21,3914,12,3940,24,3954,23,3962,null,null,0,2122,null,{"$f":"COUNTIF(L7:L139,G3)","v":16},null,22,22,23,22,22,22]
[21,4107,12,4117,24,4144,14,4156,null,null,0,2121,null,null,null,"% of reinforcement given in 6 equal intervals based on number of trials "]
[21,4271,12,4282,24,4298,14,4331,null,null,0,2121,null,null,null,"%_1","%_2","%_3","%_4","%_5","%_6"]
[21,4467,12,4489,24,4509,14,4523,null,null,0,2121,null,null,"target sequence",{"$f":"$G$3","v":2212},{"$f":"$G$3","v":2212},{"$f":"$G$3","v":2212},{"$f":"$G$3","v":2212},{"$f":"$G$3","v":2212},{"$f":"$G$3","v":2212}]
[12,4654,23,4668,13,4688,23,4708,null,null,0,1212,null,null,"total reinforcement",{"$f":"U20","v":2},{"$f":"Z20","v":2},{"$f":"AE20","v":2},{"$f":"AJ20","v":5},{"$f":"AO20","v":2},{"$f":"AT20","v":3}]
[12,4860,23,4873,24,4903,14,4920,null,null,0,1221,null,null,"% target"]
[21,5020,12,5049,24,5062,14,5077,null,null,0,2121,null,null,"CCRF"]
[12,5204,14,5216,13,5224,14,5243,null,null,0,1111,null,null,"% CCRf"]
[12,5364,14,5373,13,5393,23,5410,null,null,0,1112,null,null,"average response rate",{"$f":"H28/P28","v":180.09090909090909},{"$f":"(H50-H28)/Q28","v":176.13636363636363},{"$f":"(H73-H50)/R28","v":177.91304347826087},{"$f":"(H95-H73)/S28","v":182.90909090909091},{"$f":"(H117-H95)/T28","v":184.13636363636363},{"$f":"(H139-H117)/U28","v":-909.27272727272725}]
[12,5535,23,5548,13,5563,23,5577,null,null,0,1212]
[21,5678,12,5706,24,5719,14,5735,null,null,0,2121]
[12,5867,23,5878,13,5891,23,5899,null,null,0,1212]
[21,6015,21,6041,11,6049,21,6062,null,null,0,2212]
[21,6155,21,6202,22,6211,23,6269,null,null,0,2222]
[12,6400,23,6413,13,6429,23,6441,null,null,0,1212]
[12,6559,14,6568,13,6592,23,6605,null,null,0,1112]
[12,6743,14,6752,13,6797,23,6820,null,null,0,1112]
[12,6949,23,6962,13,6975,14,6998,null,null,0,1211]
[21,7098,21,7106,11,7118,21,7132,null,null,0,2212]
[12,7249,14,7275,13,7305,23,7328,null,null,0,1112]
[12,7450,23,7465,13,7479,14,7496,null,null,0,1211]
[12,7612,23,7626,13,7650,23,7661,null,null,0,1212]
[21,7781,12,7798,24,7823,14,7837,null,null,0,2121]
[21,7941,21,7986,22,8015,14,8049,null,null,0,2221]
[12,8181,14,8190,13,8206,23,8222,null,null,0,1112]
[12,8359,23,8371,13,8390,23,8404,null,null,0,1212]
[12,8535,23,8547,13,8561,23,8571,null,null,0,1212]
[12,8688,14,8757,13,8772,14,8803,null,null,0,1111]
[21,8910,12,8923,13,8938,14,8982,null,null,0,2111]
[21,9085,12,9113,24,9128,14,9143,null,null,0,2121]
[12,9293,14,9309,13,9334,23,9347,null,null,0,1112]
[12,9484,23,9499,13,9515,23,9528,null,null,0,1212]
[12,9656,14,9676,24,9690,14,9703,null,null,0,1121]
[21,9811,12,9833,24,9847,14,9863,null,null,0,2121]
[21,9984,21,10000,11,10016,21,10024,null,null,0,2212]
[21,10120,12,10145,24,10160,23,10191,null,null,0,2122]
[21,10294,12,10323,24,10331,14,10351,null,null,0,2121]
[21,10462,12,10494,24,10508,14,10526,null,null,0,2121]
[21,10634,21,10656,11,10667,21,10707,null,null,0,2212]
[21,10815,12,10827,13,10845,23,10859,null,null,0,2112]
[21,10960,12,10986,24,11024,14,11040,null,null,0,2121]
[21,11149,12,11168,24,11182,14,11196,null,null,0,2121]
[21,11301,21,11313,11,11325,12,11362,null,null,0,2211]
[21,11478,12,11536,24,11549,14,11562,null,null,0,2121]
[21,11669,12,11694,24,11707,14,11722,null,null,0,2121]
[12,11867,14,11896,24,11917,14,11929,null,null,0,1121]
[21,12030,21,12051,11,12082,21,12094,null,null,0,2212]
[21,12206,21,12215,11,12227,21,12241,null,null,0,2212]
[21,12346,21,12348,11,12362,12,12393,null,null,0,2211]
[12,12566,14,12596,13,12626,23,12640,null,null,0,1112]
[12,12767,23,12804,13,12817,14,12837,null,null,0,1211]
[21,12942,12,12981,24,12995,14,13011,null,null,0,2121]
[21,13125,12,13138,13,13171,23,13183,null,null,0,2112]
[12,13309,14,13339,13,13364,23,13377,null,null,0,1112]
[12,13507,23,13516,13,13545,23,13558,null,null,0,1212]
[21,13669,12,13695,24,13709,14,13726,null,null,0,2121]
[21,13881,12,13894,13,13929,23,13945,null,null,0,2112]
[21,14067,21,14082,11,14096,21,14109,null,null,0,2212]
[21,14211,21,14239,11,14251,21,14265,null,null,0,2212]
[21,14367,12,14416,24,14462,14,14477,null,null,0,2121]
[12,14608,23,14634,13,14650,23,14658,null,null,0,1212]
[21,14793,21,14820,11,14835,12,14868,null,null,0,2211]
[21,14972,21,14988,11,15035,21,15047,null,null,0,2212]
[21,15154,12,15165,13,15187,14,15216,null,null,0,2111]
[12,15342,14,15361,24,15372,23,15408,null,null,0,1122]
[12,15532,14,15553,24,15566,14,15580,null,null,0,1121]
[21,15688,21,15700,22,15719,14,15732,null,null,0,2221]
[12,15863,14,15877,13,15916,14,15953,null,null,0,1111]
[21,16050,21,16062,22,16094,23,16126,null,null,0,2222]
[21,16233,21,16290,11,16304,21,16313,null,null,0,2212]
[21,16441,12,16460,24,16473,14,16490,null,null,0,2121]
[21,16594,12,16636,24,16647,14,16672,null,null,0,2121]
[21,16780,12,16821,24,16832,14,16847,null,null,0,2121]
[21,16970,21,16989,11,17008,21,17021,null,null,0,2212]
[21,17171,12,17181,13,17219,23,17234,null,null,0,2112]
[12,17379,23,17400,13,17413,23,17449,null,null,0,1212]
[21,17555,21,17569,22,17577,14,17600,null,null,0,2221]
[12,17759,14,17792,24,17803,23,17848,null,null,0,1122]
[12,17988,23,18002,13,18024,23,18036,null,null,0,1212]
[21,18154,12,18177,24,18189,14,18206,null,null,0,2121]
[12,18352,23,18392,13,18406,23,18420,null,null,0,1212]
[21,18523,12,18555,24,18568,14,18584,null,null,0,2121]
[21,18702,12,18720,24,18734,14,18752,null,null,0,2121]
[12,18897,23,18910,13,18924,23,18933,null,null,0,1212]
[12,19087,23,19101,24,19110,14,19126,null,null,0,1221]
[21,19245,12,19260,24,19274,14,19286,null,null,0,2121]
[21,19399,12,19418,13,19428,23,19453,null,null,0,2112]
[12,19599,23,19613,13,19636,23,19649,null,null,0,1212]
[21,19752,12,19790,24,19801,23,19807,null,null,0,2122]
[12,19959,14,19975,24,19989,14,20004,null,null,0,1121]
[21,20114,21,20125,22,20153,14,20165,null,null,0,2221]
[21,20267,21,20313,22,20326,14,20339,null,null,0,2221]
[12,20476,23,20489,13,20509,14,20543,null,null,0,1211]
[21,20650,12,20661,13,20670,23,20705,null,null,0,2112]
[12,20828,14,20860,24,20869,23,20897,null,null,0,1122]
[21,21012,21,21025,11,21038,21,21051,null,null,0,2212]
[21,21148,12,21186,24,21196,14,21215,null,null,0,2121]
[21,21342,12,21357,24,21370,14,21388,null,null,0,2121]
[12,21530,14,21556,24,21569,23,21632,null,null,0,1122]
[12,21780,23,21788,24,21794,14,21808,null,null,0,1221]
[21,21924,12,21954,13,22010,23,22027,null,null,0,2112]
[21,22163,12,22174,24,22186,14,22200,null,null,0,2121]
[21,22321,21,22363,11,22376,21,22390,null,null,0,2212]
[12,22531,23,22544,24,22565,14,22582,null,null,0,1221]
[21,22688,12,22719,24,22731,14,22745,null,null,0,2121]
[21,22859,12,22895,24,22907,23,22915,null,null,0,2122]
[21,23031,12,23055,24,23068,14,23081,null,null,0,2121]
[12,23230,23,23243,24,23272,23,23285,null,null,0,1222]
[21,23409,21,23430,11,23441,21,23463,null,null,0,2212]
[12,23584,23,23602,13,23626,23,23639,null,null,0,1212]
[21,23761,12,23775,24,23789,23,23804,null,null,0,2122]
[21,23946,12,23982,null,null,null,null,null,null,null,21]

{"sheet":"!N129940.092","index":32,"n_rows":145,"n_cols":48,"rows_kept":145,"cut":false,"hidden":false,"merged":[[4,39,4,42],[5,39,5,40],[4,44,4,47],[5,44,5,45],[4,24,4,27],[5,24,5,25],[4,29,4,32],[5,29,5,30],[4,34,4,37],[5,34,5,35],[1,1,1,2],[5,13,5,14],[26,13,26,14],[27,13,27,14],[4,19,4,22],[5,19,5,20]]}
["Report for:!N129940.092"]
["Date:","<date>"]
["Hen:","<hen>",null,null,null,"Correct Sequence",{"$f":"Start!J2","v":2212},null,null,null,null,null,null,null,null,"Total Sequences in Data",{"$f":"4994-COUNTBLANK(L7:L5000)","v":139},null,null,null,null,"Total Sequences in Block Data",{"$f":"COUNTA(L7:L29)","v":23},null,null,null,"Total Sequences in Block Data",{"$f":"COUNTA(L30:L52)","v":23},null,null,null,"Total Sequences in Block Data",{"$f":"COUNTA(L53:L76)","v":24},null,null,null,"Total Sequences in Block Data",{"$f":"COUNTA(L77:L99)","v":23},null,null,null,"Total Sequences in Block Data",{"$f":"COUNTA(L100:L122)","v":23},null,null,null,"Total Sequences in Block Data",{"$f":"COUNTA(L123:L145)","v":23}]
[null,null,null,null,null,null,null,null,null,null,null,null,null,null,null,"Total Sequences in Summary",{"$f":"SUM(O7:O22)","v":139},null,null,null,null,"Total Sequences in Block Summary",{"$f":"SUM(U7:U22)","v":23},null,null,null,"Total Sequences in Block Summary",{"$f":"SUM(Z7:Z22)","v":23},null,null,null,"Total Sequences in Block Summary",{"$f":"SUM(AE7:AE22)","v":24},null,null,null,"Total Sequences in Block Summary",{"$f":"SUM(AJ7:AJ22)","v":23},null,null,null,"Total Sequences in Block Summary",{"$f":"SUM(AO7:AO22)","v":23},null,null,null,"Total Sequences in Block Summary",{"$f":"SUM(AT7:AT22)","v":23}]
[null,null,null,null,null,null,null,null,null,null,null,null,null,null,null,null,null,null,null,"Block 1",null,null,null,null,"Block 2",null,null,null,null,"Block 3",null,null,null,null,"Block 4",null,null,null,null,"Block 5",null,null,null,null,"Block 6"]
["Sequence\nComponent\n1","Time\n1","Sequence\nComponent\n2","Time\n2","Sequence\nComponent\n3","Time\n3","Sequence\nComponent\n4","Time\n4","Sequence\nComponent\n5","Time\n5","Correct?\n0=No 1=Yes","Sequence",null,"Frequency",null,"Relative Frequency","Variability",null,null,"Frequency",null,"Relative Frequency","Variability",null,"Frequency",null,"Relative Frequency","Variability",null,"Frequency",null,"Relative Frequency","Variability",null,"Frequency",null,"Relative Frequency","Variability",null,"Frequency",null,"Relative Frequency","Variability",null,"Frequency",null,"Relative Frequency","Variability"]
[21,46,21,92,11,106,21,131,null,null,0,2212,null,1111,{"$f":"COUNTIF($L$7:$L$500,N7)","v":1},{"$f":"O7/$Q$4","v":7.1942446043165471E-3},{"$f":"IF(P7=0,0,(P7*((LOG(P7))/LOG(2))))","v":-5.1215403400888537E-2},null,null,{"$f":"N7","v":1111},{"$f":"COUNTIF(L7:L29,T7)","v":0},{"$f":"U7/(W4-U20)","v":0},{"$f":"IF(V7=0,0,(V7*((LOG(V7))/LOG(2))))","v":0},null,{"$f":"N7","v":1111},{"$f":"COUNTIF(L30:L52,Y7)","v":0},{"$f":"Z7/(AB4-Z20)","v":0},{"$f":"IF(AA7=0,0,(AA7*((LOG(AA7))/LOG(2))))","v":0},null,{"$f":"N7","v":1111},{"$f":"COUNTIF(L53:L76,AD7)","v":0},{"$f":"AE7/(AG4-AE20)","v":0},{"$f":"IF(AF7=0,0,(AF7*((LOG(AF7))/LOG(2))))","v":0},null,{"$f":"N7","v":1111},{"$f":"COUNTIF(L77:L99,AI7)","v":0},{"$f":"AJ7/(AL4-AJ20)","v":0},{"$f":"IF(AK7=0,0,(AK7*((LOG(AK7))/LOG(2))))","v":0},null,{"$f":"N7","v":1111},{"$f":"COUNTIF(L100:L122,AN7)","v":0},{"$f":"AO7/(AQ4-AO20)","v":0},{"$f":"IF(AP7=0,0,(AP7*((LOG(AP7))/LOG(2))))","v":0},null,{"$f":"N7","v":1111},{"$f":"COUNTIF(L123:L145,AS7)","v":1},{"$f":"AT7/(AV4-AT20)","v":4.7619047619047616E-2},{"$f":"IF(AU7=0,0,(AU7*((LOG(AU7))/LOG(2))))","v":-0.20915797251327431}]
[21,249,21,257,22,280,23,292,null,null,0,2222,null,1112,{"$f":"COUNTIF($L$7:$L$500,N8)","v":2},{"$f":"O8/$Q$4","v":1.4388489208633094E-2},{"$f":"IF(P8=0,0,(P8*((LOG(P8))/LOG(2))))","v":-8.8042317593144001E-2},null,null,{"$f":"N8","v":1112},{"$f":"COUNTIF(L7:L29,T8)","v":0},{"$f":"U8/(W4-U20)","v":0},{"$f":"IF(V8=0,0,(V8*((LOG(V8))/LOG(2))))","v":0},null,{"$f":"N8","v":1112},{"$f":"COUNTIF(L30:L52,Y8)","v":0},{"$f":"Z8/(AB4-Z20)","v":0},{"$f":"IF(AA8=0,0,(AA8*((LOG(AA8))/LOG(2))))","v":0},null,{"$f":"N8","v":1112},{"$f":"COUNTIF(L53:L76,AD8)","v":0},{"$f":"AE8/(AG4-AE20)","v":0},{"$f":"IF(AF8=0,0,(AF8*((LOG(AF8))/LOG(2))))","v":0},null,{"$f":"N8","v":1112},{"$f":"COUNTIF(L77:L99,AI8)","v":0},{"$f":"AJ8/(AL4-AJ20)","v":0},{"$f":"IF(AK8=0,0,(AK8*((LOG(AK8))/LOG(2))))","v":0},null,{"$f":"N8","v":1112},{"$f":"COUNTIF(L100:L122,AN8)","v":1},{"$f":"AO8/(AQ4-AO20)","v":5.2631578947368418E-2},{"$f":"IF(AP8=0,0,(AP8*((LOG(AP8))/LOG(2))))","v":-0.22357513228650452},null,{"$f":"N8","v":1112},{"$f":"COUNTIF(L123:L145,AS8)","v":1},{"$f":"AT8/(AV4-AT20)","v":4.7619047619047616E-2},{"$f":"IF(AU8=0,0,(AU8*((LOG(AU8))/LOG(2))))","v":-0.20915797251327431}]
[21,401,12,424,13,464,23,477,null,null,0,2112,null,1121,{"$f":"COUNTIF($L$7:$L$500,N9)","v":4},{"$f":"O9/$Q$4","v":2.8776978417266189E-2},{"$f":"IF(P9=0,0,(P9*((LOG(P9))/LOG(2))))","v":-0.1473076567690218},null,null,{"$f":"N9","v":1121},{"$f":"COUNTIF(L7:L29,T9)","v":1},{"$f":"U9/(W4-U20)","v":5.8823529411764705E-2},{"$f":"IF(V9=0,0,(V9*((LOG(V9))/LOG(2))))","v":-0.24043899066178465},null,{"$f":"N9","v":1121},{"$f":"COUNTIF(L30:L52,Y9)","v":0},{"$f":"Z9/(AB4-Z20)","v":0},{"$f":"IF(AA9=0,0,(AA9*((LOG(AA9))/LOG(2))))","v":0},null,{"$f":"N9","v":1121},{"$f":"COUNTIF(L53:L76,AD9)","v":2},{"$f":"AE9/(AG4-AE20)","v":0.1},{"$f":"IF(AF9=0,0,(AF9*((LOG(AF9))/LOG(2))))","v":-0.33219280948873625},null,{"$f":"N9","v":1121},{"$f":"COUNTIF(L77:L99,AI9)","v":1},{"$f":"AJ9/(AL4-AJ20)","v":0.05},{"$f":"IF(AK9=0,0,(AK9*((LOG(AK9))/LOG(2))))","v":-0.21609640474436814},null,{"$f":"N9","v":1121},{"$f":"COUNTIF(L100:L122,AN9)","v":0},{"$f":"AO9/(AQ4-AO20)","v":0},{"$f":"IF(AP9=0,0,(AP9*((LOG(AP9))/LOG(2))))","v":0},null,{"$f":"N9","v":1121},{"$f":"COUNTIF(L123:L145,AS9)","v":0},{"$f":"AT9/(AV4-AT20)","v":0},{"$f":"IF(AU9=0,0,(AU9*((LOG(AU9))/LOG(2))))","v":0}]
[21,579,21,590,22,606,23,619,null,null,0,2222,null,1122,{"$f":"COUNTIF($L$7:$L$500,N10)","v":2},{"$f":"O10/$Q$4","v":1.4388489208633094E-2},{"$f":"IF(P10=0,0,(P10*((LOG(P10))/LOG(2))))","v":-8.8042317593144001E-2},null,null,{"$f":"N10","v":1122},{"$f":"COUNTIF(L7:L29,T10)","v":0},{"$f":"U10/(W4-U20)","v":0},{"$f":"IF(V10=0,0,(V10*((LOG(V10))/LOG(2))))","v":0},null,{"$f":"N10","v":1122},{"$f":"COUNTIF(L30:L52,Y10)","v":0},{"$f":"Z10/(AB4-Z20)","v":0},{"$f":"IF(AA10=0,0,(AA10*((LOG(AA10))/LOG(2))))","v":0},null,{"$f":"N10","v":1122},{"$f":"COUNTIF(L53:L76,AD10)","v":0},{"$f":"AE10/(AG4-AE20)","v":0},{"$f":"IF(AF10=0,0,(AF10*((LOG(AF10))/LOG(2))))","v":0},null,{"$f":"N10","v":1122},{"$f":"COUNTIF(L77:L99,AI10)","v":0},{"$f":"AJ10/(AL4-AJ20)","v":0},{"$f":"IF(AK10=0,0,(AK10*((LOG(AK10))/LOG(2))))","v":0},null,{"$f":"N10","v":1122},{"$f":"COUNTIF(L100:L122,AN10)","v":0},{"$f":"AO10/(AQ4-AO20)","v":0},{"$f":"IF(AP10=0,0,(AP10*((LOG(AP10))/LOG(2))))","v":0},null,{"$f":"N10","v":1122},{"$f":"COUNTIF(L123:L145,AS10)","v":2},{"$f":"AT10/(AV4-AT20)","v":9.5238095238095233E-2},{"$f":"IF(AU10=0,0,(AU10*((LOG(AU10))/LOG(2))))","v":-0.32307784978845333}]
[21,743,21,758,22,771,14,780,null,null,0,2221,null,1211,{"$f":"COUNTIF($L$7:$L$500,N11)","v":4},{"$f":"O11/$Q$4","v":2.8776978417266189E-2},{"$f":"IF(P11=0,0,(P11*((LOG(P11))/LOG(2))))","v":-0.1473076567690218},null,null,{"$f":"N11","v":1211},{"$f":"COUNTIF(L7:L29,T11)","v":0},{"$f":"U11/(W4-U20)","v":0},{"$f":"IF(V11=0,0,(V11*((LOG(V11))/LOG(2))))","v":0},null,{"$f":"N11","v":1211},{"$f":"COUNTIF(L30:L52,Y11)","v":0},{"$f":"Z11/(AB4-Z20)","v":0},{"$f":"IF(AA11=0,0,(AA11*((LOG(AA11))/LOG(2))))","v":0},null,{"$f":"N11","v":1211},{"$f":"COUNTIF(L53:L76,AD11)","v":1},{"$f":"AE11/(AG4-AE20)","v":0.05},{"$f":"IF(AF11=0,0,(AF11*((LOG(AF11))/LOG(2))))","v":-0.21609640474436814},null,{"$f":"N11","v":1211},{"$f":"COUNTIF(L77:L99,AI11)","v":0},{"$f":"AJ11/(AL4-AJ20)","v":0},{"$f":"IF(AK11=0,0,(AK11*((LOG(AK11))/LOG(2))))","v":0},null,{"$f":"N11","v":1211},{"$f":"COUNTIF(L100:L122,AN11)","v":2},{"$f":"AO11/(AQ4-AO20)","v":0.10526315789473684},{"$f":"IF(AP11=0,0,(AP11*((LOG(AP11))/LOG(2))))","v":-0.34188710667827216},null,{"$f":"N11","v":1211},{"$f":"COUNTIF(L123:L145,AS11)","v":1},{"$f":"AT11/(AV4-AT20)","v":4.7619047619047616E-2},{"$f":"IF(AU11=0,0,(AU11*((LOG(AU11))/LOG(2))))","v":-0.20915797251327431}]
[12,922,23,957,24,970,14,981,null,null,0,1221,null,1212,{"$f":"COUNTIF($L$7:$L$500,N12)","v":22},{"$f":"O12/$Q$4","v":0.15827338129496402},{"$f":"IF(P12=0,0,(P12*((LOG(P12))/LOG(2))))","v":-0.42092955388414838},null,null,{"$f":"N12","v":1212},{"$f":"COUNTIF(L7:L29,T12)","v":2},{"$f":"U12/(W4-U20)","v":0.11764705882352941},{"$f":"IF(V12=0,0,(V12*((LOG(V12))/LOG(2))))","v":-0.36323092250003997},null,{"$f":"N12","v":1212},{"$f":"COUNTIF(L30:L52,Y12)","v":3},{"$f":"Z12/(AB4-Z20)","v":0.1875},{"$f":"IF(AA12=0,0,(AA12*((LOG(AA12))/LOG(2))))","v":-0.45281953111478312},null,{"$f":"N12","v":1212},{"$f":"COUNTIF(L53:L76,AD12)","v":7},{"$f":"AE12/(AG4-AE20)","v":0.35},{"$f":"IF(AF12=0,0,(AF12*((LOG(AF12))/LOG(2))))","v":-0.53010061049041535},null,{"$f":"N12","v":1212},{"$f":"COUNTIF(L77:L99,AI12)","v":2},{"$f":"AJ12/(AL4-AJ20)","v":0.1},{"$f":"IF(AK12=0,0,(AK12*((LOG(AK12))/LOG(2))))","v":-0.33219280948873625},null,{"$f":"N12","v":1212},{"$f":"COUNTIF(L100:L122,AN12)","v":2},{"$f":"AO12/(AQ4-AO20)","v":0.10526315789473684},{"$f":"IF(AP12=0,0,(AP12*((LOG(AP12))/LOG(2))))","v":-0.34188710667827216},null,{"$f":"N12","v":1212},{"$f":"COUNTIF(L123:L145,AS12)","v":6},{"$f":"AT12/(AV4-AT20)","v":0.2857142857142857},{"$f":"IF(AU12=0,0,(AU12*((LOG(AU12))/LOG(2))))","v":-0.51638712058788683}]
[21,1104,12,1114,24,1128,23,1178,null,null,0,2122,null,1221,{"$f":"COUNTIF($L$7:$L$500,N13)","v":5},{"$f":"O13/$Q$4","v":3.5971223021582732E-2},{"$f":"IF(P13=0,0,(P13*((LOG(P13))/LOG(2))))","v":-0.17255442366317067},null,null,{"$f":"N13","v":1221},{"$f":"COUNTIF(L7:L29,T13)","v":1},{"$f":"U13/(W4-U20)","v":5.8823529411764705E-2},{"$f":"IF(V13=0,0,(V13*((LOG(V13))/LOG(2))))","v":-0.24043899066178465},null,{"$f":"N13","v":1221},{"$f":"COUNTIF(L30:L52,Y13)","v":1},{"$f":"Z13/(AB4-Z20)","v":6.25E-2},{"$f":"IF(AA13=0,0,(AA13*((LOG(AA13))/LOG(2))))","v":-0.25},null,{"$f":"N13","v":1221},{"$f":"COUNTIF(L53:L76,AD13)","v":1},{"$f":"AE13/(AG4-AE20)","v":0.05},{"$f":"IF(AF13=0,0,(AF13*((LOG(AF13))/LOG(2))))","v":-0.21609640474436814},null,{"$f":"N13","v":1221},{"$f":"COUNTIF(L77:L99,AI13)","v":0},{"$f":"AJ13/(AL4-AJ20)","v":0},{"$f":"IF(AK13=0,0,(AK13*((LOG(AK13))/LOG(2))))","v":0},null,{"$f":"N13","v":1221},{"$f":"COUNTIF(L100:L122,AN13)","v":1},{"$f":"AO13/(AQ4-AO20)","v":5.2631578947368418E-2},{"$f":"IF(AP13=0,0,(AP13*((LOG(AP13))/LOG(2))))","v":-0.22357513228650452},null,{"$f":"N13","v":1221},{"$f":"COUNTIF(L123:L145,AS13)","v":1},{"$f":"AT13/(AV4-AT20)","v":4.7619047619047616E-2},{"$f":"IF(AU13=0,0,(AU13*((LOG(AU13))/LOG(2))))","v":-0.20915797251327431}]
[21,1302,21,1334,11,1356,12,1406,null,null,0,2211,null,1222,{"$f":"COUNTIF($L$7:$L$500,N14)","v":5},{"$f":"O14/$Q$4","v":3.5971223021582732E-2},{"$f":"IF(P14=0,0,(P14*((LOG(P14))/LOG(2))))","v":-0.17255442366317067},null,null,{"$f":"N14","v":1222},{"$f":"COUNTIF(L7:L29,T14)","v":1},{"$f":"U14/(W4-U20)","v":5.8823529411764705E-2},{"$f":"IF(V14=0,0,(V14*((LOG(V14))/LOG(2))))","v":-0.24043899066178465},null,{"$f":"N14","v":1222},{"$f":"COUNTIF(L30:L52,Y14)","v":2},{"$f":"Z14/(AB4-Z20)","v":0.125},{"$f":"IF(AA14=0,0,(AA14*((LOG(AA14))/LOG(2))))","v":-0.375},null,{"$f":"N14","v":1222},{"$f":"COUNTIF(L53:L76,AD14)","v":0},{"$f":"AE14/(AG4-AE20)","v":0},{"$f":"IF(AF14=0,0,(AF14*((LOG(AF14))/LOG(2))))","v":0},null,{"$f":"N14","v":1222},{"$f":"COUNTIF(L77:L99,AI14)","v":1},{"$f":"AJ14/(AL4-AJ20)","v":0.05},{"$f":"IF(AK14=0,0,(AK14*((LOG(AK14))/LOG(2))))","v":-0.21609640474436814},null,{"$f":"N14","v":1222},{"$f":"COUNTIF(L100:L122,AN14)","v":1},{"$f":"AO14/(AQ4-AO20)","v":5.2631578947368418E-2},{"$f":"IF(AP14=0,0,(AP14*((LOG(AP14))/LOG(2))))","v":-0.22357513228650452},null,{"$f":"N14","v":1222},{"$f":"COUNTIF(L123:L145,AS14)","v":0},{"$f":"AT14/(AV4-AT20)","v":0},{"$f":"IF(AU14=0,0,(AU14*((LOG(AU14))/LOG(2))))","v":0}]
[21,1516,12,1543,24,1564,23,1588,null,null,0,2122,null,2111,{"$f":"COUNTIF($L$7:$L$500,N15)","v":2},{"$f":"O15/$Q$4","v":1.4388489208633094E-2},{"$f":"IF(P15=0,0,(P15*((LOG(P15))/LOG(2))))","v":-8.8042317593144001E-2},null,null,{"$f":"N15","v":2111},{"$f":"COUNTIF(L7:L29,T15)","v":0},{"$f":"U15/(W4-U20)","v":0},{"$f":"IF(V15=0,0,(V15*((LOG(V15))/LOG(2))))","v":0},null,{"$f":"N15","v":2111},{"$f":"COUNTIF(L30:L52,Y15)","v":0},{"$f":"Z15/(AB4-Z20)","v":0},{"$f":"IF(AA15=0,0,(AA15*((LOG(AA15))/LOG(2))))","v":0},null,{"$f":"N15","v":2111},{"$f":"COUNTIF(L53:L76,AD15)","v":0},{"$f":"AE15/(AG4-AE20)","v":0},{"$f":"IF(AF15=0,0,(AF15*((LOG(AF15))/LOG(2))))","v":0},null,{"$f":"N15","v":2111},{"$f":"COUNTIF(L77:L99,AI15)","v":1},{"$f":"AJ15/(AL4-AJ20)","v":0.05},{"$f":"IF(AK15=0,0,(AK15*((LOG(AK15))/LOG(2))))","v":-0.21609640474436814},null,{"$f":"N15","v":2111},{"$f":"COUNTIF(L100:L122,AN15)","v":0},{"$f":"AO15/(AQ4-AO20)","v":0},{"$f":"IF(AP15=0,0,(AP15*((LOG(AP15))/LOG(2))))","v":0},null,{"$f":"N15","v":2111},{"$f":"COUNTIF(L123:L145,AS15)","v":1},{"$f":"AT15/(AV4-AT20)","v":4.7619047619047616E-2},{"$f":"IF(AU15=0,0,(AU15*((LOG(AU15))/LOG(2))))","v":-0.20915797251327431}]
[21,1711,21,1741,11,1753,21,1765,null,null,0,2212,null,2112,{"$f":"COUNTIF($L$7:$L$500,N16)","v":8},{"$f":"O16/$Q$4","v":5.7553956834532377E-2},{"$f":"IF(P16=0,0,(P16*((LOG(P16))/LOG(2))))","v":-0.23706135670351119},null,null,{"$f":"N16","v":2112},{"$f":"COUNTIF(L7:L29,T16)","v":2},{"$f":"U16/(W4-U20)","v":0.11764705882352941},{"$f":"IF(V16=0,0,(V16*((LOG(V16))/LOG(2))))","v":-0.36323092250003997},null,{"$f":"N16","v":2112},{"$f":"COUNTIF(L30:L52,Y16)","v":1},{"$f":"Z16/(AB4-Z20)","v":6.25E-2},{"$f":"IF(AA16=0,0,(AA16*((LOG(AA16))/LOG(2))))","v":-0.25},null,{"$f":"N16","v":2112},{"$f":"COUNTIF(L53:L76,AD16)","v":0},{"$f":"AE16/(AG4-AE20)","v":0},{"$f":"IF(AF16=0,0,(AF16*((LOG(AF16))/LOG(2))))","v":0},null,{"$f":"N16","v":2112},{"$f":"COUNTIF(L77:L99,AI16)","v":1},{"$f":"AJ16/(AL4-AJ20)","v":0.05},{"$f":"IF(AK16=0,0,(AK16*((LOG(AK16))/LOG(2))))","v":-0.21609640474436814},null,{"$f":"N16","v":2112},{"$f":"COUNTIF(L100:L122,AN16)","v":1},{"$f":"AO16/(AQ4-AO20)","v":5.2631578947368418E-2},{"$f":"IF(AP16=0,0,(AP16*((LOG(AP16))/LOG(2))))","v":-0.22357513228650452},null,{"$f":"N16","v":2112},{"$f":"COUNTIF(L123:L145,AS16)","v":3},{"$f":"AT16/(AV4-AT20)","v":0.14285714285714285},{"$f":"IF(AU16=0,0,(AU16*((LOG(AU16))/LOG(2))))","v":-0.40105070315108626}]
[12,1901,23,1913,13,1926,23,1939,null,null,0,1212,null,2121,{"$f":"COUNTIF($L$7:$L$500,N17)","v":27},{"$f":"O17/$Q$4","v":0.19424460431654678},{"$f":"IF(P17=0,0,(P17*((LOG(P17))/LOG(2))))","v":-0.45920465039655428},null,null,{"$f":"N17","v":2121},{"$f":"COUNTIF(L7:L29,T17)","v":1},{"$f":"U17/(W4-U20)","v":5.8823529411764705E-2},{"$f":"IF(V17=0,0,(V17*((LOG(V17))/LOG(2))))","v":-0.24043899066178465},null,{"$f":"N17","v":2121},{"$f":"COUNTIF(L30:L52,Y17)","v":2},{"$f":"Z17/(AB4-Z20)","v":0.125},{"$f":"IF(AA17=0,0,(AA17*((LOG(AA17))/LOG(2))))","v":-0.375},null,{"$f":"N17","v":2121},{"$f":"COUNTIF(L53:L76,AD17)","v":6},{"$f":"AE17/(AG4-AE20)","v":0.3},{"$f":"IF(AF17=0,0,(AF17*((LOG(AF17))/LOG(2))))","v":-0.52108967824986185},null,{"$f":"N17","v":2121},{"$f":"COUNTIF(L77:L99,AI17)","v":10},{"$f":"AJ17/(AL4-AJ20)","v":0.5},{"$f":"IF(AK17=0,0,(AK17*((LOG(AK17))/LOG(2))))","v":-0.5},null,{"$f":"N17","v":2121},{"$f":"COUNTIF(L100:L122,AN17)","v":7},{"$f":"AO17/(AQ4-AO20)","v":0.36842105263157893},{"$f":"IF(AP17=0,0,(AP17*((LOG(AP17))/LOG(2))))","v":-0.53073727051062469},null,{"$f":"N17","v":2121},{"$f":"COUNTIF(L123:L145,AS17)","v":1},{"$f":"AT17/(AV4-AT20)","v":4.7619047619047616E-2},{"$f":"IF(AU17=0,0,(AU17*((LOG(AU17))/LOG(2))))","v":-0.20915797251327431}]
[21,2054,21,2067,11,2079,12,2088,null,null,0,2211,null,2122,{"$f":"COUNTIF($L$7:$L$500,N18)","v":13},{"$f":"O18/$Q$4","v":9.3525179856115109E-2},{"$f":"IF(P18=0,0,(P18*((LOG(P18))/LOG(2))))","v":-0.31971595402569347},null,null,{"$f":"N18","v":2122},{"$f":"COUNTIF(L7:L29,T18)","v":4},{"$f":"U18/(W4-U20)","v":0.23529411764705882},{"$f":"IF(V18=0,0,(V18*((LOG(V18))/LOG(2))))","v":-0.49116772735302094},null,{"$f":"N18","v":2122},{"$f":"COUNTIF(L30:L52,Y18)","v":2},{"$f":"Z18/(AB4-Z20)","v":0.125},{"$f":"IF(AA18=0,0,(AA18*((LOG(AA18))/LOG(2))))","v":-0.375},null,{"$f":"N18","v":2122},{"$f":"COUNTIF(L53:L76,AD18)","v":3},{"$f":"AE18/(AG4-AE20)","v":0.15},{"$f":"IF(AF18=0,0,(AF18*((LOG(AF18))/LOG(2))))","v":-0.41054483912493089},null,{"$f":"N18","v":2122},{"$f":"COUNTIF(L77:L99,AI18)","v":1},{"$f":"AJ18/(AL4-AJ20)","v":0.05},{"$f":"IF(AK18=0,0,(AK18*((LOG(AK18))/LOG(2))))","v":-0.21609640474436814},null,{"$f":"N18","v":2122},{"$f":"COUNTIF(L100:L122,AN18)","v":1},{"$f":"AO18/(AQ4-AO20)","v":5.2631578947368418E-2},{"$f":"IF(AP18=0,0,(AP18*((LOG(AP18))/LOG(2))))","v":-0.22357513228650452},null,{"$f":"N18","v":2122},{"$f":"COUNTIF(L123:L145,AS18)","v":2},{"$f":"AT18/(AV4-AT20)","v":9.5238095238095233E-2},{"$f":"IF(AU18=0,0,(AU18*((LOG(AU18))/LOG(2))))","v":-0.32307784978845333}]
[21,2201,12,2234,24,2248,23,2274,null,null,0,2122,null,2211,{"$f":"COUNTIF($L$7:$L$500,N19)","v":6},{"$f":"O19/$Q$4","v":4.3165467625899283E-2},{"$f":"IF(P19=0,0,(P19*((LOG(P19))/LOG(2))))","v":-0.19571130526628852},null,null,{"$f":"N19","v":2211},{"$f":"COUNTIF(L7:L29,T19)","v":2},{"$f":"U19/(W4-U20)","v":0.11764705882352941},{"$f":"IF(V19=0,0,(V19*((LOG(V19))/LOG(2))))","v":-0.36323092250003997},null,{"$f":"N19","v":2211},{"$f":"COUNTIF(L30:L52,Y19)","v":1},{"$f":"Z19/(AB4-Z20)","v":6.25E-2},{"$f":"IF(AA19=0,0,(AA19*((LOG(AA19))/LOG(2))))","v":-0.25},null,{"$f":"N19","v":2211},{"$f":"COUNTIF(L53:L76,AD19)","v":0},{"$f":"AE19/(AG4-AE20)","v":0},{"$f":"IF(AF19=0,0,(AF19*((LOG(AF19))/LOG(2))))","v":0},null,{"$f":"N19","v":2211},{"$f":"COUNTIF(L77:L99,AI19)","v":1},{"$f":"AJ19/(AL4-AJ20)","v":0.05},{"$f":"IF(AK19=0,0,(AK19*((LOG(AK19))/LOG(2))))","v":-0.21609640474436814},null,{"$f":"N19","v":2211},{"$f":"COUNTIF(L100:L122,AN19)","v":2},{"$f":"AO19/(AQ4-AO20)","v":0.10526315789473684},{"$f":"IF(AP19=0,0,(AP19*((LOG(AP19))/LOG(2))))","v":-0.34188710667827216},null,{"$f":"N19","v":2211},{"$f":"COUNTIF(L123:L145,AS19)","v":0},{"$f":"AT19/(AV4-AT20)","v":0},{"$f":"IF(AU19=0,0,(AU19*((LOG(AU19))/LOG(2))))","v":0}]
[12,2407,23,2421,24,2441,23,2445,null,null,0,1222,null,2212,{"$f":"COUNTIF($L$7:$L$500,N20)","v":26},{"$f":"O20/$Q$4","v":0.18705035971223022},{"$f":"IF(P20=0,0,(P20*((LOG(P20))/LOG(2))))","v":-0.45238154833915678},null,null,{"$f":"N20","v":2212},{"$f":"COUNTIF(L7:L29,T20)","v":6},null,null,null,{"$f":"N20","v":2212},{"$f":"COUNTIF(L30:L52,Y20)","v":7},null,null,null,{"$f":"N20","v":2212},{"$f":"COUNTIF(L53:L76,AD20)","v":4},null,null,null,{"$f":"N20","v":2212},{"$f":"COUNTIF(L77:L99,AI20)","v":3},null,null,null,{"$f":"N20","v":2212},{"$f":"COUNTIF(L100:L122,AN20)","v":4},null,null,null,{"$f":"N20","v":2212},{"$f":"COUNTIF(L123:L145,AS20)","v":2}]
[12,2570,23,2582,13,2605,23,2613,null,null,0,1212,null,2221,{"$f":"COUNTIF($L$7:$L$500,N21)","v":8},{"$f":"O21/$Q$4","v":5.7553956834532377E-2},{"$f":"IF(P21=0,0,(P21*((LOG(P21))/LOG(2))))","v":-0.23706135670351119},null,null,{"$f":"N21","v":2221},{"$f":"COUNTIF(L7:L29,T21)","v":1},{"$f":"U21/(W4-U20)","v":5.8823529411764705E-2},{"$f":"IF(V21=0,0,(V21*((LOG(V21))/LOG(2))))","v":-0.24043899066178465},null,{"$f":"N21","v":2221},{"$f":"COUNTIF(L30:L52,Y21)","v":2},{"$f":"Z21/(AB4-Z20)","v":0.125},{"$f":"IF(AA21=0,0,(AA21*((LOG(AA21))/LOG(2))))","v":-0.375},null,{"$f":"N21","v":2221},{"$f":"COUNTIF(L53:L76,AD21)","v":0},{"$f":"AE21/(AG4-AE20)","v":0},{"$f":"IF(AF21=0,0,(AF21*((LOG(AF21))/LOG(2))))","v":0},null,{"$f":"N21","v":2221},{"$f":"COUNTIF(L77:L99,AI21)","v":2},{"$f":"AJ21/(AL4-AJ20)","v":0.1},{"$f":"IF(AK21=0,0,(AK21*((LOG(AK21))/LOG(2))))","v":-0.33219280948873625},null,{"$f":"N21","v":2221},{"$f":"COUNTIF(L100:L122,AN21)","v":1},{"$f":"AO21/(AQ4-AO20)","v":5.2631578947368418E-2},{"$f":"IF(AP21=0,0,(AP21*((LOG(AP21))/LOG(2))))","v":-0.22357513228650452},null,{"$f":"N21","v":2221},{"$f":"COUNTIF(L123:L145,AS21)","v":2},{"$f":"AT21/(AV4-AT20)","v":9.5238095238095233E-2},{"$f":"IF(AU21=0,0,(AU21*((LOG(AU21))/LOG(2))))","v":-0.32307784978845333}]
[12,2735,14,2760,24,2789,14,2838,null,null,0,1121,null,2222,{"$f":"COUNTIF($L$7:$L$500,N22)","v":4},{"$f":"O22/$Q$4","v":2.8776978417266189E-2},{"$f":"IF(P22=0,0,(P22*((LOG(P22))/LOG(2))))","v":-0.1473076567690218},null,null,{"$f":"N22","v":2222},{"$f":"COUNTIF(L7:L29,T22)","v":2},{"$f":"U22/(W4-U20)","v":0.11764705882352941},{"$f":"IF(V22=0,0,(V22*((LOG(V22))/LOG(2))))","v":-0.36323092250003997},null,{"$f":"N22","v":2222},{"$f":"COUNTIF(L30:L52,Y22)","v":2},{"$f":"Z22/(AB4-Z20)","v":0.125},{"$f":"IF(AA22=0,0,(AA22*((LOG(AA22))/LOG(2))))","v":-0.375},null,{"$f":"N22","v":2222},{"$f":"COUNTIF(L53:L76,AD22)","v":0},{"$f":"AE22/(AG4-AE20)","v":0},{"$f":"IF(AF22=0,0,(AF22*((LOG(AF22))/LOG(2))))","v":0},null,{"$f":"N22","v":2222},{"$f":"COUNTIF(L77:L99,AI22)","v":0},{"$f":"AJ22/(AL4-AJ20)","v":0},{"$f":"IF(AK22=0,0,(AK22*((LOG(AK22))/LOG(2))))","v":0},null,{"$f":"N22","v":2222},{"$f":"COUNTIF(L100:L122,AN22)","v":0},{"$f":"AO22/(AQ4-AO20)","v":0},{"$f":"IF(AP22=0,0,(AP22*((LOG(AP22))/LOG(2))))","v":0},null,{"$f":"N22","v":2222},{"$f":"COUNTIF(L123:L145,AS22)","v":0},{"$f":"AT22/(AV4-AT20)","v":0},{"$f":"IF(AU22=0,0,(AU22*((LOG(AU22))/LOG(2))))","v":0}]
[21,2955,21,2978,11,2991,21,3004,null,null,0,2212,null,null,null,{"$f":"SUM(P7:P22)","v":0.99999999999999989},{"$f":"-SUM(Q7:Q22)","v":3.4244398991325911},null,null,null,null,{"$f":"SUM(V7:V22)","v":1},{"$f":"-SUM(W7:W22)","v":3.1462863706621045},null,null,null,{"$f":"SUM(AA7:AA22)","v":1},{"$f":"-SUM(AB7:AB22)","v":3.0778195311147831},null,null,null,{"$f":"SUM(AF7:AF22)","v":1},{"$f":"-SUM(AG7:AG22)","v":2.2261207468426809},null,null,null,{"$f":"SUM(AK7:AK22)","v":1.0000000000000002},{"$f":"-SUM(AL7:AL22)","v":2.4609640474436811},null,null,null,{"$f":"SUM(AP7:AP22)","v":1},{"$f":"-SUM(AQ7:AQ22)","v":2.8978493842644686},null,null,null,{"$f":"SUM(AU7:AU22)","v":1},{"$f":"-SUM(AV7:AV22)","v":3.1416192081839793}]
[21,3100,12,3120,13,3144,23,3177,null,null,0,2112,null,null,null,"U=",{"$f":"Q23/(LOG(Q4)/LOG(2))","v":0.48103220186123785},null,null,null,null,"U1=",{"$f":"W23/(LOG(W4)/LOG(2))","v":0.69553294532624943},null,null,null,"U2=",{"$f":"AB23/(LOG(AB4)/LOG(2))","v":0.68039734196491053},null,null,null,"U3=",{"$f":"AG23/(LOG(AG4)/LOG(2))","v":0.48552648936442566},null,null,null,"U4=",{"$f":"AL23/(LOG(AL4)/LOG(2))","v":0.54403235135278072},null,null,null,"U5=",{"$f":"AQ23/(LOG(AQ4)/LOG(2))","v":0.6406122901410185},null,null,null,"U6=",{"$f":"AV23/(LOG(AV4)/LOG(2))","v":0.69450120031568852}]
[21,3299,12,3309,24,3326,23,3376,null,null,0,2122]
[21,3487,12,3497,24,3511,14,3545,null,null,0,2121]
[21,3649,21,3660,11,3670,21,3683,null,null,0,2212,null,"Total Target Seq"]
[21,3809,21,3813,11,3852,21,3862,null,null,0,2212,null,{"$f":"COUNTIF(L7:L145,G3)","v":26},null,23,23,24,23,23,23]
[21,3960,21,3982,11,3992,21,4013,null,null,0,2212,null,null,null,"% of reinforcement given in 6 equal intervals based on number of trials "]
[21,4102,21,4128,11,4139,21,4164,null,null,0,2212,null,null,null,"%_1","%_2","%_3","%_4","%_5","%_6"]
[21,4308,21,4335,22,4365,23,4376,null,null,0,2222,null,null,"target sequence",{"$f":"$G$3","v":2212},{"$f":"$G$3","v":2212},{"$f":"$G$3","v":2212},{"$f":"$G$3","v":2212},{"$f":"$G$3","v":2212},{"$f":"$G$3","v":2212}]
[21,4486,21,4490,11,4505,21,4517,null,null,0,2212,null,null,"total reinforcement",{"$f":"U20","v":6},{"$f":"Z20","v":7},{"$f":"AE20","v":4},{"$f":"AJ20","v":3},{"$f":"AO20","v":4},{"$f":"AT20","v":2}]
[21,4643,12,4654,24,4680,14,4696,null,null,0,2121,null,null,"% target"]
[12,4833,23,4860,24,4871,23,4888,null,null,0,1222,null,null,"CCRF"]
[12,5022,23,5034,13,5066,23,5077,null,null,0,1212,null,null,"% CCRf"]
[21,5185,12,5195,13,5229,23,5243,null,null,0,2112,null,null,"average response rate",{"$f":"H29/P28","v":174.47826086956522},{"$f":"(H52-H29)/Q28","v":168.21739130434781},{"$f":"(H76-H52)/R28","v":174.91666666666666},{"$f":"(H99-H76)/S28","v":168},{"$f":"(H122-H99)/T28","v":172.08695652173913},{"$f":"(H145-H122)/U28","v":174.86956521739131}]
[21,5350,21,5364,11,5376,21,5422,null,null,0,2212]
[12,5541,23,5554,24,5584,23,5592,null,null,0,1222]
[21,5692,21,5701,22,5717,23,5730,null,null,0,2222]
[21,5846,21,5850,22,5868,14,5893,null,null,0,2221]
[12,6010,23,6022,24,6052,14,6069,null,null,0,1221]
[21,6185,21,6189,11,6199,12,6232,null,null,0,2211]
[21,6345,21,6353,22,6377,14,6394,null,null,0,2221]
[21,6503,21,6535,11,6549,21,6563,null,null,0,2212]
[21,6687,12,6697,24,6716,23,6744,null,null,0,2122]
[21,6855,21,6865,11,6876,21,6888,null,null,0,2212]
[21,6983,21,7000,11,7011,21,7031,null,null,0,2212]
[21,7151,12,7168,24,7187,14,7202,null,null,0,2121]
[21,7326,12,7355,24,7368,23,7396,null,null,0,2122]
[21,7500,21,7509,11,7525,21,7538,null,null,0,2212]
[12,7653,23,7666,13,7682,23,7691,null,null,0,1212]
[12,7826,23,7843,13,7862,23,7882,null,null,0,1212]
[21,8019,12,8044,24,8074,14,8092,null,null,0,2121]
[21,8217,12,8232,24,8253,14,8272,null,null,0,2121]
[21,8387,12,8418,24,8438,14,8457,null,null,0,2121]
[12,8599,14,8633,24,8653,14,8671,null,null,0,1121]
[12,8794,23,8806,13,8840,23,8852,null,null,0,1212]
[21,8965,12,8981,24,8993,23,9035,null,null,0,2122]
[12,9165,23,9185,24,9201,14,9218,null,null,0,1221]
[21,9320,21,9328,11,9354,21,9368,null,null,0,2212]
[21,9469,12,9478,24,9490,23,9498,null,null,0,2122]
[21,9609,12,9621,24,9630,14,9651,null,null,0,2121]
[12,9769,23,9783,13,9808,23,9827,null,null,0,1212]
[12,9946,23,9958,13,9974,23,9993,null,null,0,1212]
[21,10104,12,10145,24,10158,14,10175,null,null,0,2121]
[21,10282,12,10304,24,10317,14,10334,null,null,0,2121]
[12,10458,14,10485,24,10503,14,10519,null,null,0,1121]
[21,10648,21,10663,11,10681,21,10692,null,null,0,2212]
[21,10802,21,10834,11,10850,21,10867,null,null,0,2212]
[12,10999,23,11011,13,11028,23,11040,null,null,0,1212]
[12,11169,23,11182,13,11212,14,11243,null,null,0,1211]
[12,11363,23,11383,13,11402,23,11423,null,null,0,1212]
[21,11532,21,11542,11,11552,21,11566,null,null,0,2212]
[12,11698,23,11716,13,11732,23,11745,null,null,0,1212]
[21,11861,12,11874,24,11894,23,11920,null,null,0,2122]
[12,12042,23,12053,13,12067,23,12080,null,null,0,1212]
[21,12187,12,12235,24,12269,14,12288,null,null,0,2121]
[21,12398,12,12418,24,12430,14,12448,null,null,0,2121]
[21,12548,21,12561,11,12571,21,12584,null,null,0,2212]
[12,12710,14,12746,24,12763,14,12779,null,null,0,1121]
[21,12897,12,12922,24,12935,14,12954,null,null,0,2121]
[21,13054,21,13074,11,13084,21,13096,null,null,0,2212]
[21,13198,12,13223,24,13235,14,13253,null,null,0,2121]
[21,13371,12,13383,24,13404,23,13430,null,null,0,2122]
[21,13541,12,13561,24,13573,14,13587,null,null,0,2121]
[21,13700,12,13714,13,13739,14,13772,null,null,0,2111]
[21,13878,21,13908,22,13918,14,13929,null,null,0,2221]
[21,14073,12,14090,24,14102,14,14118,null,null,0,2121]
[12,14242,23,14260,13,14281,23,14292,null,null,0,1212]
[21,14414,12,14429,24,14442,14,14458,null,null,0,2121]
[21,14569,21,14575,11,14586,12,14614,null,null,0,2211]
[21,14722,12,14741,13,14774,23,14786,null,null,0,2112]
[21,14888,12,14910,24,14924,14,14942,null,null,0,2121]
[12,15067,23,15079,24,15104,23,15109,null,null,0,1222]
[21,15211,12,15233,24,15246,14,15284,null,null,0,2121]
[21,15395,12,15427,24,15442,14,15468,null,null,0,2121]
[21,15571,21,15582,22,15598,14,15615,null,null,0,2221]
[12,15734,23,15748,13,15766,23,15792,null,null,0,1212]
[21,15893,21,15908,11,15935,21,15944,null,null,0,2212]
[21,16049,21,16071,11,16087,21,16095,null,null,0,2212]
[21,16202,21,16222,11,16248,12,16294,null,null,0,2211]
[21,16418,12,16431,24,16443,14,16457,null,null,0,2121]
[21,16568,12,16589,24,16601,14,16619,null,null,0,2121]
[21,16719,12,16735,24,16748,14,16765,null,null,0,2121]
[21,16870,12,16897,24,16905,14,16925,null,null,0,2121]
[12,17056,23,17068,13,17085,23,17097,null,null,0,1212]
[21,17221,12,17236,24,17275,23,17289,null,null,0,2122]
[21,17394,21,17414,11,17425,21,17445,null,null,0,2212]
[21,17541,21,17572,11,17587,21,17597,null,null,0,2212]
[21,17702,12,17716,24,17728,14,17744,null,null,0,2121]
[21,17845,21,17856,22,17871,14,17885,null,null,0,2221]
[21,18003,12,18029,13,18098,23,18111,null,null,0,2112]
[12,18236,14,18249,13,18279,23,18299,null,null,0,1112]
[12,18421,23,18433,13,18449,23,18460,null,null,0,1212]
[12,18592,23,18610,13,18626,14,18651,null,null,0,1211]
[12,18776,23,18789,24,18818,14,18835,null,null,0,1221]
[21,18941,21,18954,11,18967,21,18980,null,null,0,2212]
[12,19104,23,19116,24,19145,23,19153,null,null,0,1222]
[21,19264,12,19286,24,19307,14,19320,null,null,0,2121]
[21,19426,12,19453,24,19466,14,19482,null,null,0,2121]
[12,19679,23,19699,13,19711,14,19739,null,null,0,1211]
[21,19841,21,19873,11,19889,12,19902,null,null,0,2211]
[21,20012,21,20022,11,20042,21,20054,null,null,0,2212]
[12,20171,14,20181,24,20194,23,20218,null,null,0,1122]
[21,20324,21,20336,22,20341,14,20351,null,null,0,2221]
[12,20482,23,20502,24,20528,14,20544,null,null,0,1221]
[21,20662,12,20672,24,20684,23,20706,null,null,0,2122]
[21,20836,12,20851,24,20865,14,20885,null,null,0,2121]
[12,21011,23,21031,13,21055,23,21068,null,null,0,1212]
[21,21169,21,21182,11,21201,21,21210,null,null,0,2212]
[12,21323,23,21332,13,21353,23,21370,null,null,0,1212]
[12,21495,14,21505,13,21524,14,21544,null,null,0,1111]
[21,21645,12,21687,13,21720,23,21728,null,null,0,2112]
[12,21866,23,21888,13,21903,14,21940,null,null,0,1211]
[12,22093,23,22103,13,22125,23,22138,null,null,0,1212]
[12,22267,14,22298,13,22307,23,22323,null,null,0,1112]
[12,22467,23,22480,13,22496,23,22504,null,null,0,1212]
[21,22605,12,22636,24,22649,23,22679,null,null,0,2122]
[21,22798,12,22809,13,22833,23,22841,null,null,0,2112]
[21,22947,12,22985,13,22996,14,23020,null,null,0,2111]
[12,23146,14,23177,24,23191,23,23224,null,null,0,1122]
[21,23389,12,23406,13,23437,23,23446,null,null,0,2112]
[12,23576,23,23588,13,23613,23,23626,null,null,0,1212]
[21,23748,21,23754,22,23762,14,23781,null,null,0,2221]
[12,23881,23,23895,13,23906,23,23924,null,null,null,1212]