{"text_format":"1","workbook":"xlsx","n_sheets":33,"sheets":["Sample Report","Summary","Start","!N325820.010","!N326820.010","!N327800.010","!N328830.010","!N330800.010","!N331750.010","!N401840.010","!N402740.010","!N403740.010","!N404820.010","!N405930.010","!N406840.010","!N407950.010","!N408850.010","!N409910.010","!N410830.010","!N411B00.010","!N412930.010","!N413A10.010","!N414820.010","!N415900.010","!N416810.010","!N417820.010","!N418D30.010","!N419900.010","!N420900.010","!N421900.010","!N422800.010","!N423840.010","!N424830.010"],"not_rendered":{"charts":0,"images":0,"macros":1,"external_links":0,"defined_names":0,"comments":0,"pivot_tables":0},"unopened":[],"bounds":{"document_bytes":16777216,"sheet_cells":100000,"rows_first":2000,"rows_last":500,"rows_between":2000,"halvings":0,"cell_chars":16384,"cell_head_chars":4096},"cells_cut":0,"cells_raw":0,"read":"whole","date_system":"1900"}

{"sheet":"Sample Report","index":0,"n_rows":12,"n_cols":11,"rows_kept":12,"cut":false,"hidden":true,"merged":[[7,0,7,6]]}
[]
["Date"]
["Hen"]
["Program"]
["Start at 999999"]
["Sequence component 1","Time 1","Seqeunce Component 2","Time 2","Seqeunce Component 3","Time 3","Correct   0 = No 1=Yes",null,null,"Seqeunce","Time"]
[12,7,12,42,13,18,"if 77 new line,                                  if 31 or 41 = yes new line on 77, ",null,null,"=string of Seqeunce compponent 1, 2 & 3","=time 3"]
["This continues until ther is a 1 on its own to indicate start of summary data"]
[null,null,null,null,null,null,null,null,null,"10-19 =1"]
["Summary Data ",null,null,null,null,null,null,null,null,"20-29 =2"]
["Correct","Incorrect","Rft","total","Av Correct","Av Incorrect","Percent correct","Time",null,"in this example the seqeunce would be 111"]
[40,33,40,73,23.95,15,54,806]

{"sheet":"Summary","index":1,"n_rows":32,"n_cols":24,"rows_kept":32,"cut":false,"hidden":false,"merged":[]}
[]
["Day","Date","Average Response Rate","Target %","RF for non correct sequence","U Value",null,null,null,null,"Block 1","Block 2","Block 3","Block 4","Block 5","Block 6"]
[1,{"$f":"'!N325820.010'!B2:C2","v":"<date>"},{"$f":"('!N325820.010'!F51/60)/'!N325820.010'!Q3","v":1.9155555555555557},{"$f":"'!N325820.010'!N20/'!N325820.010'!Q3","v":0.88888888888888884},{"$f":"SUM('!N325820.010'!L20:Q20)/'!N325820.010'!Q3","v":5.9111111111111114},{"$f":"'!N325820.010'!Q16","v":0.1112815152626601},null,null,null,"Average Response Rate",{"$f":"AVERAGE(C3:C7)","v":2.1024449735449737},{"$f":"AVERAGE(C8:C12)","v":2.2009500421532566},{"$f":"AVERAGE(C13:C17)","v":2.0992061131962108},{"$f":"AVERAGE(C18:C22)","v":1.9606388204533818},{"$f":"AVERAGE(C23:C27)","v":1.6567385195093838},{"$f":"AVERAGE(C28:C32)","v":2.1118624769020911}]
[2,{"$f":"'!N326820.010'!B2:C2","v":"<date>"},{"$f":"('!N326820.010'!F8/60)/'!N326820.010'!Q3","v":2.5249999999999999},{"$f":"'!N326820.010'!N20/'!N326820.010'!Q3","v":0},{"$f":"SUM('!N326820.010'!L20:Q20)/'!N326820.010'!Q3","v":0.5},{"$f":"'!N326820.010'!Q16","v":1},null,null,null,"Target %",{"$f":"AVERAGE(D3:D7)","v":0.65484126984126978},{"$f":"AVERAGE(D8:D12)","v":0.28514456630109669},{"$f":"AVERAGE(D13:D17)","v":0.14550264550264549},{"$f":"AVERAGE(D18:D22)","v":0},{"$f":"AVERAGE(D23:D27)","v":9.5693779904306212E-4},{"$f":"AVERAGE(D28:D32)","v":1.9512195121951219E-3}]
[3,{"$f":"'!N327800.010'!B2:C2","v":"<date>"},{"$f":"('!N327800.010'!F51/60)/'!N327800.010'!Q3","v":2.0207407407407407},{"$f":"'!N327800.010'!N20/'!N327800.010'!Q3","v":0.88888888888888884},{"$f":"SUM('!N327800.010'!L20:Q20)/'!N327800.010'!Q3","v":5.9111111111111114},{"$f":"'!N327800.010'!Q16","v":9.163725357329465E-2},null,null,null,"CCRF",{"$f":"AVERAGE(E3:E7)","v":4.4971587301587306},{"$f":"AVERAGE(E8:E12)","v":2.5466390596039941},{"$f":"AVERAGE(E13:E17)","v":1.3564227705646805},{"$f":"AVERAGE(E18:E22)","v":0.87834990325900753},{"$f":"AVERAGE(E23:E27)","v":0.72807643729843352},{"$f":"AVERAGE(E28:E32)","v":0.92215997677978601}]
[4,{"$f":"'!N328830.010'!B2:C2","v":"<date>"},{"$f":"('!N328830.010'!F56/60)/'!N328830.010'!Q3","v":2.0169999999999999},{"$f":"'!N328830.010'!N20/'!N328830.010'!Q3","v":0.8},{"$f":"SUM('!N328830.010'!L20:Q20)/'!N328830.010'!Q3","v":5.36},{"$f":"'!N328830.010'!Q16","v":0.12791397771532839},null,null,null,"U Value",{"$f":"AVERAGE(F3:F7)","v":0.31353716955229582},{"$f":"AVERAGE(F8:F12)","v":0.18620216841920895},{"$f":"AVERAGE(F13:F17)","v":6.2194169149351289E-2},{"$f":"AVERAGE(F18:F22)","v":4.7176898979267631E-3},{"$f":"AVERAGE(F23:F27)","v":3.0697067019266222E-2},{"$f":"AVERAGE(F28:F32)","v":7.449794309485884E-2}]
[5,{"$f":"'!N330800.010'!B2:C2","v":"<date>"},{"$f":"('!N330800.010'!F62/60)/'!N330800.010'!Q3","v":2.0339285714285715},{"$f":"'!N330800.010'!N20/'!N330800.010'!Q3","v":0.6964285714285714},{"$f":"SUM('!N330800.010'!L20:Q20)/'!N330800.010'!Q3","v":4.8035714285714288},{"$f":"'!N330800.010'!Q16","v":0.23685310121019615}]
[6,{"$f":"'!N331750.010'!B2:C2","v":"<date>"},{"$f":"('!N331750.010'!F57/60)/'!N331750.010'!Q3","v":2.0408496732026142},{"$f":"'!N331750.010'!N20/'!N331750.010'!Q3","v":0.76470588235294112},{"$f":"SUM('!N331750.010'!L20:Q20)/'!N331750.010'!Q3","v":5.2352941176470589},{"$f":"'!N331750.010'!Q16","v":0.21262655584223222}]
[7,{"$f":"'!N401840.010'!B2:C2","v":"<date>"},{"$f":"('!N401840.010'!F65/60)/'!N401840.010'!Q3","v":2.0709039548022599},{"$f":"'!N401840.010'!N20/'!N401840.010'!Q3","v":0.66101694915254239},{"$f":"SUM('!N401840.010'!L20:Q20)/'!N401840.010'!Q3","v":4.5762711864406782},{"$f":"'!N401840.010'!Q16","v":0.25394044338482646},{"$f":"K3","v":2.1024449735449737},2.2009500421532566,2.0992061131962108,1.9606388204533818,1.6567385195093838,2.1118624769020911,{"$f":"K4","v":0.65484126984126978},0.28514456630109669,0.14550264550264549,0,9.5693779904306212E-4,1.9512195121951219E-3,{"$f":"K6","v":0.31353716955229582},0.18620216841920895,6.2194169149351289E-2,4.7176898979267631E-3,3.0697067019266222E-2,7.449794309485884E-2]
[8,{"$f":"'!N402740.010'!B2:C2","v":"<date>"},{"$f":"('!N402740.010'!F173/60)/'!N402740.010'!Q3","v":2.3873253493013973},{"$f":"'!N402740.010'!N20/'!N402740.010'!Q3","v":0},{"$f":"SUM('!N402740.010'!L20:Q20)/'!N402740.010'!Q3","v":1},{"$f":"'!N402740.010'!Q16","v":0.1572855754405264}]
[9,{"$f":"'!N403740.010'!B2:C2","v":"<date>"},{"$f":"('!N403740.010'!F186/60)/'!N403740.010'!Q3","v":2.2002762430939224},{"$f":"'!N403740.010'!N20/'!N403740.010'!Q3","v":0},{"$f":"SUM('!N403740.010'!L20:Q20)/'!N403740.010'!Q3","v":0.94475138121546964},{"$f":"'!N403740.010'!Q16","v":0.13754295049180101}]
[10,{"$f":"'!N404820.010'!B2:C2","v":"<date>"},{"$f":"('!N404820.010'!F179/60)/'!N404820.010'!Q3","v":2.3053949903660884},{"$f":"'!N404820.010'!N20/'!N404820.010'!Q3","v":0},{"$f":"SUM('!N404820.010'!L20:Q20)/'!N404820.010'!Q3","v":0.97687861271676302},{"$f":"'!N404820.010'!Q16","v":0.16961531693665863}]
[11,{"$f":"'!N405930.010'!B2:C2","v":"<date>"},{"$f":"('!N405930.010'!F60/60)/'!N405930.010'!Q3","v":2.1441358024691359},{"$f":"'!N405930.010'!N20/'!N405930.010'!Q3","v":0.72222222222222221},{"$f":"SUM('!N405930.010'!L20:Q20)/'!N405930.010'!Q3","v":3.1111111111111112},{"$f":"'!N405930.010'!Q16","v":0.19894395158892328}]
[12,{"$f":"'!N406840.010'!B2:C2","v":"<date>"},{"$f":"('!N406840.010'!F193/60)/'!N406840.010'!Q3","v":2.1352049910873441},{"$f":"'!N406840.010'!N20/'!N406840.010'!Q3","v":0},{"$f":"SUM('!N406840.010'!L20:Q20)/'!N406840.010'!Q3","v":0.92513368983957223},{"$f":"'!N406840.010'!Q16","v":4.6648664053136349E-2}]
[13,{"$f":"'!N407950.010'!B2:C2","v":"<date>"},{"$f":"('!N407950.010'!F196/60)/'!N407950.010'!Q3","v":2.085253054101222},{"$f":"'!N407950.010'!N20/'!N407950.010'!Q3","v":0},{"$f":"SUM('!N407950.010'!L20:Q20)/'!N407950.010'!Q3","v":0.92146596858638741},{"$f":"'!N407950.010'!Q16","v":2.6568057265079568E-2}]
[14,{"$f":"'!N408850.010'!B2:C2","v":"<date>"},{"$f":"('!N408850.010'!F203/60)/'!N408850.010'!Q3","v":2.0260575296108292},{"$f":"'!N408850.010'!N20/'!N408850.010'!Q3","v":0},{"$f":"SUM('!N408850.010'!L20:Q20)/'!N408850.010'!Q3","v":0.89847715736040612},{"$f":"'!N408850.010'!Q16","v":1.4922124450684186E-2}]
[15,{"$f":"'!N409910.010'!B2:C2","v":"<date>"},{"$f":"('!N409910.010'!F194/60)/'!N409910.010'!Q3","v":2.1053791887125222},{"$f":"'!N409910.010'!N20/'!N409910.010'!Q3","v":5.2910052910052907E-3},{"$f":"SUM('!N409910.010'!L20:Q20)/'!N409910.010'!Q3","v":0.92592592592592593},{"$f":"'!N409910.010'!Q16","v":2.3888048388933041E-2}]
[16,{"$f":"'!N410830.010'!B2:C2","v":"<date>"},{"$f":"('!N410830.010'!F208/60)/'!N410830.010'!Q3","v":1.9727722772277227},{"$f":"'!N410830.010'!N20/'!N410830.010'!Q3","v":0},{"$f":"SUM('!N410830.010'!L20:Q20)/'!N410830.010'!Q3","v":0.88118811881188119},{"$f":"'!N410830.010'!Q16","v":5.880783678406748E-3}]
[17,{"$f":"'!N411B00.010'!B2:C2","v":"<date>"},{"$f":"('!N411B00.010'!F204/60)/'!N411B00.010'!Q3","v":2.013047138047138},{"$f":"'!N411B00.010'!N20/'!N411B00.010'!Q3","v":0},{"$f":"SUM('!N411B00.010'!L20:Q20)/'!N411B00.010'!Q3","v":0.89393939393939392},{"$f":"'!N411B00.010'!Q16","v":1.2001410023891986E-2}]
[18,{"$f":"'!N412930.010'!B2:C2","v":"<date>"},{"$f":"('!N412930.010'!F210/60)/'!N412930.010'!Q3","v":1.9588235294117649},{"$f":"'!N412930.010'!N20/'!N412930.010'!Q3","v":0},{"$f":"SUM('!N412930.010'!L20:Q20)/'!N412930.010'!Q3","v":0.87745098039215685},{"$f":"'!N412930.010'!Q16","v":0}]
[19,{"$f":"'!N413A10.010'!B2:C2","v":"<date>"},{"$f":"('!N413A10.010'!F214/60)/'!N413A10.010'!Q3","v":1.9192307692307691},{"$f":"'!N413A10.010'!N20/'!N413A10.010'!Q3","v":0},{"$f":"SUM('!N413A10.010'!L20:Q20)/'!N413A10.010'!Q3","v":0.86538461538461542},{"$f":"'!N413A10.010'!Q16","v":5.7062557873350786E-3}]
[20,{"$f":"'!N414820.010'!B2:C2","v":"<date>"},{"$f":"('!N414820.010'!F212/60)/'!N414820.010'!Q3","v":1.9393203883495145},{"$f":"'!N414820.010'!N20/'!N414820.010'!Q3","v":0},{"$f":"SUM('!N414820.010'!L20:Q20)/'!N414820.010'!Q3","v":0.87378640776699024},{"$f":"'!N414820.010'!Q16","v":0}]
[21,{"$f":"'!N415900.010'!B2:C2","v":"<date>"},{"$f":"('!N415900.010'!F215/60)/'!N415900.010'!Q3","v":1.9138755980861244},{"$f":"'!N415900.010'!N20/'!N415900.010'!Q3","v":4.7846889952153108E-3},{"$f":"SUM('!N415900.010'!L20:Q20)/'!N415900.010'!Q3","v":0.87081339712918659},{"$f":"'!N415900.010'!Q16","v":1.5779953713768124E-2}]
[22,{"$f":"'!N416810.010'!B2:C2","v":"<date>"},{"$f":"('!N416810.010'!F180/60)/'!N416810.010'!Q3","v":2.2921455938697317},{"$f":"'!N416810.010'!N20/'!N416810.010'!Q3","v":0},{"$f":"SUM('!N416810.010'!L20:Q20)/'!N416810.010'!Q3","v":0.97126436781609193},{"$f":"'!N416810.010'!Q16","v":6.2163866059378556E-2}]
[23,{"$f":"'!N417820.010'!B2:C2","v":"<date>"},{"$f":"('!N417820.010'!F192/60)/'!N417820.010'!Q3","v":2.1271836007130127},{"$f":"'!N417820.010'!N20/'!N417820.010'!Q3","v":0},{"$f":"SUM('!N417820.010'!L20:Q20)/'!N417820.010'!Q3","v":0.92513368983957223},{"$f":"'!N417820.010'!Q16","v":4.6896698974599867E-2}]
[24,{"$f":"'!N418D30.010'!B2:C2","v":"<date>"},0,0,0,0]
[25,{"$f":"'!N419900.010'!B2:C2","v":"<date>"},{"$f":"('!N419900.010'!F211/60)/'!N419900.010'!Q3","v":1.950487804878049},{"$f":"'!N419900.010'!N20/'!N419900.010'!Q3","v":0},{"$f":"SUM('!N419900.010'!L20:Q20)/'!N419900.010'!Q3","v":0.87317073170731707},{"$f":"'!N419900.010'!Q16","v":2.8644816348584561E-2}]
[26,{"$f":"'!N420900.010'!B2:C2","v":"<date>"},{"$f":"('!N420900.010'!F211/60)/'!N420900.010'!Q3","v":1.9439837398373983},{"$f":"'!N420900.010'!N20/'!N420900.010'!Q3","v":0},{"$f":"SUM('!N420900.010'!L20:Q20)/'!N420900.010'!Q3","v":0.87317073170731707},{"$f":"'!N420900.010'!Q16","v":0}]
[27,{"$f":"'!N421900.010'!B2:C2","v":"<date>"},{"$f":"('!N421900.010'!F157/60)/'!N421900.010'!Q3","v":2.6379690949227372},{"$f":"'!N421900.010'!N20/'!N421900.010'!Q3","v":0},{"$f":"SUM('!N421900.010'!L20:Q20)/'!N421900.010'!Q3","v":1.0662251655629138},{"$f":"'!N421900.010'!Q16","v":0.20278296019698183}]
[28,{"$f":"'!N422800.010'!B2:C2","v":"<date>"},{"$f":"('!N422800.010'!F206/60)/'!N422800.010'!Q3","v":2.0000833333333334},{"$f":"'!N422800.010'!N20/'!N422800.010'!Q3","v":0},{"$f":"SUM('!N422800.010'!L20:Q20)/'!N422800.010'!Q3","v":0.89},{"$f":"'!N422800.010'!Q16","v":5.0954503439592541E-2}]
[29,{"$f":"'!N423840.010'!B2:C2","v":"<date>"},{"$f":"('!N423840.010'!F203/60)/'!N423840.010'!Q3","v":2.0302030456852793},{"$f":"'!N423840.010'!N20/'!N423840.010'!Q3","v":0},{"$f":"SUM('!N423840.010'!L20:Q20)/'!N423840.010'!Q3","v":0.89847715736040612},{"$f":"'!N423840.010'!Q16","v":7.6701227791111992E-2}]
[30,{"$f":"'!N424830.010'!B2:C2","v":"<date>"},{"$f":"('!N424830.010'!F211/60)/'!N424830.010'!Q3","v":1.9470731707317073},{"$f":"'!N424830.010'!N20/'!N424830.010'!Q3","v":9.7560975609756097E-3},{"$f":"SUM('!N424830.010'!L20:Q20)/'!N424830.010'!Q3","v":0.88292682926829269},{"$f":"'!N424830.010'!Q16","v":4.2051024046607904E-2}]

{"sheet":"Start","index":2,"n_rows":36,"n_cols":10,"rows_kept":36,"cut":false,"hidden":false,"merged":[]}
[null,null,null,null,null,"Use Folder 51",null,"Auto Clean Up",null,"Correct sequence"]
[null,null,null,null,null,false,null,true,null,211]
[]
["Working with Folder",null,null,null,null,null,"Process All/Or Pick A number: ALL or an integer"]
["E:\\Hen Data\\Raw Data\\101_181\\redo phase 1\\",null,null,null,null,null,"ALL"]
["Filenames:"]
["!N424830.010",null,null,null,null,null,"Paint Cells"]
["!N423840.010",null,null,null,null,null,false]
["!N422800.010"]
["!N421900.010"]
["!N420900.010"]
["!N419900.010"]
["!N418D30.010"]
["!N417820.010"]
["!N416810.010"]
["!N415900.010"]
["!N414820.010"]
["!N413A10.010"]
["!N412930.010"]
["!N411B00.010"]
["!N410830.010"]
["!N409910.010"]
["!N408850.010"]
["!N407950.010"]
["!N406840.010"]
["!N405930.010"]
["!N404820.010"]
["!N403740.010"]
["!N402740.010"]
["!N401840.010"]
["!N331750.010"]
["!N330800.010"]
["!N328830.010"]
["!N327800.010"]
["!N326820.010"]
["!N325820.010"]

{"sheet":"!N325820.010","index":3,"n_rows":51,"n_cols":48,"rows_kept":51,"cut":false,"hidden":false,"merged":[[4,39,4,42],[5,39,5,40],[4,44,4,47],[5,44,5,45],[4,24,4,27],[5,24,5,25],[4,29,4,32],[5,29,5,30],[4,34,4,37],[5,34,5,35],[1,1,1,2],[5,13,5,14],[18,13,18,14],[19,13,19,14],[4,19,4,22],[5,19,5,20]]}
["Report for:!N325820.010"]
["Date:","<date>"]
["Hen:","<hen>",null,null,null,"Correct Sequence",{"$f":"Start!J2","v":211},null,null,null,null,null,null,null,null,"Total Sequences in Data",{"$f":"4994-COUNTBLANK(L7:L5000)","v":45},null,null,null,null,"Total Sequences in Block Data",{"$f":"COUNTA(L7:L14)","v":8},null,null,null,"Total Sequences in Block Data",{"$f":"COUNTA(L15:L21)","v":7},null,null,null,"Total Sequences in Block Data",{"$f":"COUNTA(L22:L29)","v":8},null,null,null,"Total Sequences in Block Data",{"$f":"COUNTA(L30:L36)","v":7},null,null,null,"Total Sequences in Block Data",{"$f":"COUNTA(L37:L44)","v":8},null,null,null,"Total Sequences in Block Data",{"$f":"COUNTA(L45:L51)","v":7}]
[null,null,null,null,null,null,null,null,null,null,null,null,null,null,null,"Total Sequences in Summary",{"$f":"SUM(O7:O14)","v":45},null,null,null,null,"Total Sequences in Block Summary",{"$f":"SUM(U7:U14)","v":8},null,null,null,"Total Sequences in Block Summary",{"$f":"SUM(Z7:Z14)","v":7},null,null,null,"Total Sequences in Block Summary",{"$f":"SUM(AE7:AE14)","v":8},null,null,null,"Total Sequences in Block Summary",{"$f":"SUM(AJ7:AJ14)","v":7},null,null,null,"Total Sequences in Block Summary",{"$f":"SUM(AO7:AO14)","v":8},null,null,null,"Total Sequences in Block Summary",{"$f":"SUM(AT7:AT14)","v":7}]
[null,null,null,null,null,null,null,null,null,null,null,null,null,null,null,null,null,null,null,"Block 1",null,null,null,null,"Block 2",null,null,null,null,"Block 3",null,null,null,null,"Block 4",null,null,null,null,"Block 5",null,null,null,null,"Block 6"]
["Sequence\nComponent\n1","Time\n1","Sequence\nComponent\n2","Time\n2","Sequence\nComponent\n3","Time\n3","Sequence\nComponent\n4","Time\n4","Sequence\nComponent\n5","Time\n5","Correct?\n0=No 1=Yes","Sequence",null,"Frequency",null,"Relative Frequency","Variability",null,null,"Frequency",null,"Relative Frequency","Variability",null,"Frequency",null,"Relative Frequency","Variability",null,"Frequency",null,"Relative Frequency","Variability",null,"Frequency",null,"Relative Frequency","Variability",null,"Frequency",null,"Relative Frequency","Variability",null,"Frequency",null,"Relative Frequency","Variability"]
[21,10,11,29,11,37,null,null,null,null,0,211,null,111,{"$f":"COUNTIF($L$7:$L$500,N7)","v":2},{"$f":"O7/$Q$4","v":4.4444444444444446E-2},{"$f":"IF(P7=0,0,(P7*((LOG(P7))/LOG(2))))","v":-0.19963791539243},null,null,{"$f":"N7","v":111},{"$f":"COUNTIF(L7:L14,T7)","v":1},{"$f":"U7/(W4-U11)","v":0.33333333333333331},{"$f":"IF(V7=0,0,(V7*((LOG(V7))/LOG(2))))","v":-0.52832083357371862},null,{"$f":"N7","v":111},{"$f":"COUNTIF(L15:L21,Y7)","v":0},{"$f":"Z7/(AB4-Z11)","v":{"$error":"#DIV/0!"}},{"$f":"IF(AA7=0,0,(AA7*((LOG(AA7))/LOG(2))))","v":{"$error":"#DIV/0!"}},null,{"$f":"N7","v":111},{"$f":"COUNTIF(L22:L29,AD7)","v":1},{"$f":"AE7/(AG4-AE11)","v":1},{"$f":"IF(AF7=0,0,(AF7*((LOG(AF7))/LOG(2))))","v":0},null,{"$f":"N7","v":111},{"$f":"COUNTIF(L30:L36,AI7)","v":0},{"$f":"AJ7/(AL4-AJ11)","v":{"$error":"#DIV/0!"}},{"$f":"IF(AK7=0,0,(AK7*((LOG(AK7))/LOG(2))))","v":{"$error":"#DIV/0!"}},null,{"$f":"N7","v":111},{"$f":"COUNTIF(L37:L44,AN7)","v":0},{"$f":"AO7/(AQ4-AO11)","v":0},{"$f":"IF(AP7=0,0,(AP7*((LOG(AP7))/LOG(2))))","v":0},null,{"$f":"N7","v":111},{"$f":"COUNTIF(L45:L51,AS7)","v":0},{"$f":"AT7/(AV4-AT11)","v":{"$error":"#DIV/0!"}},{"$f":"IF(AU7=0,0,(AU7*((LOG(AU7))/LOG(2))))","v":{"$error":"#DIV/0!"}}]
[21,128,22,133,13,148,null,null,null,null,0,221,null,112,{"$f":"COUNTIF($L$7:$L$500,N8)","v":0},{"$f":"O8/$Q$4","v":0},{"$f":"IF(P8=0,0,(P8*((LOG(P8))/LOG(2))))","v":0},null,null,{"$f":"N8","v":112},{"$f":"COUNTIF(L7:L14,T8)","v":0},{"$f":"U8/(W4-U11)","v":0},{"$f":"IF(V8=0,0,(V8*((LOG(V8))/LOG(2))))","v":0},null,{"$f":"N8","v":112},{"$f":"COUNTIF(L15:L21,Y8)","v":0},{"$f":"Z8/(AB4-Z11)","v":{"$error":"#DIV/0!"}},{"$f":"IF(AA8=0,0,(AA8*((LOG(AA8))/LOG(2))))","v":{"$error":"#DIV/0!"}},null,{"$f":"N8","v":112},{"$f":"COUNTIF(L22:L29,AD8)","v":0},{"$f":"AE8/(AG4-AE11)","v":0},{"$f":"IF(AF8=0,0,(AF8*((LOG(AF8))/LOG(2))))","v":0},null,{"$f":"N8","v":112},{"$f":"COUNTIF(L30:L36,AI8)","v":0},{"$f":"AJ8/(AL4-AJ11)","v":{"$error":"#DIV/0!"}},{"$f":"IF(AK8=0,0,(AK8*((LOG(AK8))/LOG(2))))","v":{"$error":"#DIV/0!"}},null,{"$f":"N8","v":112},{"$f":"COUNTIF(L37:L44,AN8)","v":0},{"$f":"AO8/(AQ4-AO11)","v":0},{"$f":"IF(AP8=0,0,(AP8*((LOG(AP8))/LOG(2))))","v":0},null,{"$f":"N8","v":112},{"$f":"COUNTIF(L45:L51,AS8)","v":0},{"$f":"AT8/(AV4-AT11)","v":{"$error":"#DIV/0!"}},{"$f":"IF(AU8=0,0,(AU8*((LOG(AU8))/LOG(2))))","v":{"$error":"#DIV/0!"}}]
[21,253,11,268,11,276,null,null,null,null,0,211,null,121,{"$f":"COUNTIF($L$7:$L$500,N9)","v":0},{"$f":"O9/$Q$4","v":0},{"$f":"IF(P9=0,0,(P9*((LOG(P9))/LOG(2))))","v":0},null,null,{"$f":"N9","v":121},{"$f":"COUNTIF(L7:L14,T9)","v":0},{"$f":"U9/(W4-U11)","v":0},{"$f":"IF(V9=0,0,(V9*((LOG(V9))/LOG(2))))","v":0},null,{"$f":"N9","v":121},{"$f":"COUNTIF(L15:L21,Y9)","v":0},{"$f":"Z9/(AB4-Z11)","v":{"$error":"#DIV/0!"}},{"$f":"IF(AA9=0,0,(AA9*((LOG(AA9))/LOG(2))))","v":{"$error":"#DIV/0!"}},null,{"$f":"N9","v":121},{"$f":"COUNTIF(L22:L29,AD9)","v":0},{"$f":"AE9/(AG4-AE11)","v":0},{"$f":"IF(AF9=0,0,(AF9*((LOG(AF9))/LOG(2))))","v":0},null,{"$f":"N9","v":121},{"$f":"COUNTIF(L30:L36,AI9)","v":0},{"$f":"AJ9/(AL4-AJ11)","v":{"$error":"#DIV/0!"}},{"$f":"IF(AK9=0,0,(AK9*((LOG(AK9))/LOG(2))))","v":{"$error":"#DIV/0!"}},null,{"$f":"N9","v":121},{"$f":"COUNTIF(L37:L44,AN9)","v":0},{"$f":"AO9/(AQ4-AO11)","v":0},{"$f":"IF(AP9=0,0,(AP9*((LOG(AP9))/LOG(2))))","v":0},null,{"$f":"N9","v":121},{"$f":"COUNTIF(L45:L51,AS9)","v":0},{"$f":"AT9/(AV4-AT11)","v":{"$error":"#DIV/0!"}},{"$f":"IF(AU9=0,0,(AU9*((LOG(AU9))/LOG(2))))","v":{"$error":"#DIV/0!"}}]
[21,373,11,383,11,393,null,null,null,null,0,211,null,122,{"$f":"COUNTIF($L$7:$L$500,N10)","v":0},{"$f":"O10/$Q$4","v":0},{"$f":"IF(P10=0,0,(P10*((LOG(P10))/LOG(2))))","v":0},null,null,{"$f":"N10","v":122},{"$f":"COUNTIF(L7:L14,T10)","v":0},{"$f":"U10/(W4-U11)","v":0},{"$f":"IF(V10=0,0,(V10*((LOG(V10))/LOG(2))))","v":0},null,{"$f":"N10","v":122},{"$f":"COUNTIF(L15:L21,Y10)","v":0},{"$f":"Z10/(AB4-Z11)","v":{"$error":"#DIV/0!"}},{"$f":"IF(AA10=0,0,(AA10*((LOG(AA10))/LOG(2))))","v":{"$error":"#DIV/0!"}},null,{"$f":"N10","v":122},{"$f":"COUNTIF(L22:L29,AD10)","v":0},{"$f":"AE10/(AG4-AE11)","v":0},{"$f":"IF(AF10=0,0,(AF10*((LOG(AF10))/LOG(2))))","v":0},null,{"$f":"N10","v":122},{"$f":"COUNTIF(L30:L36,AI10)","v":0},{"$f":"AJ10/(AL4-AJ11)","v":{"$error":"#DIV/0!"}},{"$f":"IF(AK10=0,0,(AK10*((LOG(AK10))/LOG(2))))","v":{"$error":"#DIV/0!"}},null,{"$f":"N10","v":122},{"$f":"COUNTIF(L37:L44,AN10)","v":0},{"$f":"AO10/(AQ4-AO11)","v":0},{"$f":"IF(AP10=0,0,(AP10*((LOG(AP10))/LOG(2))))","v":0},null,{"$f":"N10","v":122},{"$f":"COUNTIF(L45:L51,AS10)","v":0},{"$f":"AT10/(AV4-AT11)","v":{"$error":"#DIV/0!"}},{"$f":"IF(AU10=0,0,(AU10*((LOG(AU10))/LOG(2))))","v":{"$error":"#DIV/0!"}}]
[21,491,11,504,11,511,null,null,null,null,0,211,null,211,{"$f":"COUNTIF($L$7:$L$500,N11)","v":40},{"$f":"O11/$Q$4","v":0.88888888888888884},{"$f":"IF(P11=0,0,(P11*((LOG(P11))/LOG(2))))","v":-0.15104444572649992},null,null,{"$f":"N11","v":211},{"$f":"COUNTIF(L7:L14,T11)","v":5},null,null,null,{"$f":"N11","v":211},{"$f":"COUNTIF(L15:L21,Y11)","v":7},null,null,null,{"$f":"N11","v":211},{"$f":"COUNTIF(L22:L29,AD11)","v":7},null,null,null,{"$f":"N11","v":211},{"$f":"COUNTIF(L30:L36,AI11)","v":7},null,null,null,{"$f":"N11","v":211},{"$f":"COUNTIF(L37:L44,AN11)","v":7},null,null,null,{"$f":"N11","v":211},{"$f":"COUNTIF(L45:L51,AS11)","v":7}]
[21,602,22,606,13,620,null,null,null,null,0,221,null,212,{"$f":"COUNTIF($L$7:$L$500,N12)","v":0},{"$f":"O12/$Q$4","v":0},{"$f":"IF(P12=0,0,(P12*((LOG(P12))/LOG(2))))","v":0},null,null,{"$f":"N12","v":212},{"$f":"COUNTIF(L7:L14,T12)","v":0},{"$f":"U12/(W4-U11)","v":0},{"$f":"IF(V12=0,0,(V12*((LOG(V12))/LOG(2))))","v":0},null,{"$f":"N12","v":212},{"$f":"COUNTIF(L15:L21,Y12)","v":0},{"$f":"Z12/(AB4-Z11)","v":{"$error":"#DIV/0!"}},{"$f":"IF(AA12=0,0,(AA12*((LOG(AA12))/LOG(2))))","v":{"$error":"#DIV/0!"}},null,{"$f":"N12","v":212},{"$f":"COUNTIF(L22:L29,AD12)","v":0},{"$f":"AE12/(AG4-AE11)","v":0},{"$f":"IF(AF12=0,0,(AF12*((LOG(AF12))/LOG(2))))","v":0},null,{"$f":"N12","v":212},{"$f":"COUNTIF(L30:L36,AI12)","v":0},{"$f":"AJ12/(AL4-AJ11)","v":{"$error":"#DIV/0!"}},{"$f":"IF(AK12=0,0,(AK12*((LOG(AK12))/LOG(2))))","v":{"$error":"#DIV/0!"}},null,{"$f":"N12","v":212},{"$f":"COUNTIF(L37:L44,AN12)","v":0},{"$f":"AO12/(AQ4-AO11)","v":0},{"$f":"IF(AP12=0,0,(AP12*((LOG(AP12))/LOG(2))))","v":0},null,{"$f":"N12","v":212},{"$f":"COUNTIF(L45:L51,AS12)","v":0},{"$f":"AT12/(AV4-AT11)","v":{"$error":"#DIV/0!"}},{"$f":"IF(AU12=0,0,(AU12*((LOG(AU12))/LOG(2))))","v":{"$error":"#DIV/0!"}}]
[12,732,13,738,13,748,null,null,null,null,0,111,null,221,{"$f":"COUNTIF($L$7:$L$500,N13)","v":3},{"$f":"O13/$Q$4","v":6.6666666666666666E-2},{"$f":"IF(P13=0,0,(P13*((LOG(P13))/LOG(2))))","v":-0.26045937304056793},null,null,{"$f":"N13","v":221},{"$f":"COUNTIF(L7:L14,T13)","v":2},{"$f":"U13/(W4-U11)","v":0.66666666666666663},{"$f":"IF(V13=0,0,(V13*((LOG(V13))/LOG(2))))","v":-0.38997500048077083},null,{"$f":"N13","v":221},{"$f":"COUNTIF(L15:L21,Y13)","v":0},{"$f":"Z13/(AB4-Z11)","v":{"$error":"#DIV/0!"}},{"$f":"IF(AA13=0,0,(AA13*((LOG(AA13))/LOG(2))))","v":{"$error":"#DIV/0!"}},null,{"$f":"N13","v":221},{"$f":"COUNTIF(L22:L29,AD13)","v":0},{"$f":"AE13/(AG4-AE11)","v":0},{"$f":"IF(AF13=0,0,(AF13*((LOG(AF13))/LOG(2))))","v":0},null,{"$f":"N13","v":221},{"$f":"COUNTIF(L30:L36,AI13)","v":0},{"$f":"AJ13/(AL4-AJ11)","v":{"$error":"#DIV/0!"}},{"$f":"IF(AK13=0,0,(AK13*((LOG(AK13))/LOG(2))))","v":{"$error":"#DIV/0!"}},null,{"$f":"N13","v":221},{"$f":"COUNTIF(L37:L44,AN13)","v":1},{"$f":"AO13/(AQ4-AO11)","v":1},{"$f":"IF(AP13=0,0,(AP13*((LOG(AP13))/LOG(2))))","v":0},null,{"$f":"N13","v":221},{"$f":"COUNTIF(L45:L51,AS13)","v":0},{"$f":"AT13/(AV4-AT11)","v":{"$error":"#DIV/0!"}},{"$f":"IF(AU13=0,0,(AU13*((LOG(AU13))/LOG(2))))","v":{"$error":"#DIV/0!"}}]
[21,850,11,864,11,873,null,null,null,null,0,211,null,222,{"$f":"COUNTIF($L$7:$L$500,N14)","v":0},{"$f":"O14/$Q$4","v":0},{"$f":"IF(P14=0,0,(P14*((LOG(P14))/LOG(2))))","v":0},null,null,{"$f":"N14","v":222},{"$f":"COUNTIF(L7:L14,T14)","v":0},{"$f":"U14/(W4-U11)","v":0},{"$f":"IF(V14=0,0,(V14*((LOG(V14))/LOG(2))))","v":0},null,{"$f":"N14","v":222},{"$f":"COUNTIF(L15:L21,Y14)","v":0},{"$f":"Z14/(AB4-Z11)","v":{"$error":"#DIV/0!"}},{"$f":"IF(AA14=0,0,(AA14*((LOG(AA14))/LOG(2))))","v":{"$error":"#DIV/0!"}},null,{"$f":"N14","v":222},{"$f":"COUNTIF(L22:L29,AD14)","v":0},{"$f":"AE14/(AG4-AE11)","v":0},{"$f":"IF(AF14=0,0,(AF14*((LOG(AF14))/LOG(2))))","v":0},null,{"$f":"N14","v":222},{"$f":"COUNTIF(L30:L36,AI14)","v":0},{"$f":"AJ14/(AL4-AJ11)","v":{"$error":"#DIV/0!"}},{"$f":"IF(AK14=0,0,(AK14*((LOG(AK14))/LOG(2))))","v":{"$error":"#DIV/0!"}},null,{"$f":"N14","v":222},{"$f":"COUNTIF(L37:L44,AN14)","v":0},{"$f":"AO14/(AQ4-AO11)","v":0},{"$f":"IF(AP14=0,0,(AP14*((LOG(AP14))/LOG(2))))","v":0},null,{"$f":"N14","v":222},{"$f":"COUNTIF(L45:L51,AS14)","v":0},{"$f":"AT14/(AV4-AT11)","v":{"$error":"#DIV/0!"}},{"$f":"IF(AU14=0,0,(AU14*((LOG(AU14))/LOG(2))))","v":{"$error":"#DIV/0!"}}]
[21,961,11,977,11,986,null,null,null,null,0,211,null,null,null,{"$f":"SUM(P7:P14)","v":0.99999999999999989},{"$f":"-SUM(Q7:Q14)","v":0.6111417341594978},null,null,null,null,{"$f":"SUM(V7:V14)","v":1},{"$f":"-SUM(W7:W14)","v":0.91829583405448945},null,null,null,{"$f":"SUM(AA7:AA14)","v":{"$error":"#DIV/0!"}},{"$f":"-SUM(AB7:AB14)","v":{"$error":"#DIV/0!"}},null,null,null,{"$f":"SUM(AF7:AF14)","v":1},{"$f":"-SUM(AG7:AG14)","v":0},null,null,null,{"$f":"SUM(AK7:AK14)","v":{"$error":"#DIV/0!"}},{"$f":"-SUM(AL7:AL14)","v":{"$error":"#DIV/0!"}},null,null,null,{"$f":"SUM(AP7:AP14)","v":1},{"$f":"-SUM(AQ7:AQ14)","v":0},null,null,null,{"$f":"SUM(AU7:AU14)","v":{"$error":"#DIV/0!"}},{"$f":"-SUM(AV7:AV14)","v":{"$error":"#DIV/0!"}}]
[21,1079,11,1092,11,1101,null,null,null,null,0,211,null,null,null,"U=",{"$f":"Q15/(LOG(Q4)/LOG(2))","v":0.1112815152626601},null,null,null,null,"U1=",{"$f":"W15/(LOG(W4)/LOG(2))","v":0.30609861135149646},null,null,null,"U2=",{"$f":"AB15/(LOG(AB4)/LOG(2))","v":{"$error":"#DIV/0!"}},null,null,null,"U3=",{"$f":"AG15/(LOG(AG4)/LOG(2))","v":0},null,null,null,"U4=",{"$f":"AL15/(LOG(AL4)/LOG(2))","v":{"$error":"#DIV/0!"}},null,null,null,"U5=",{"$f":"AQ15/(LOG(AQ4)/LOG(2))","v":0},null,null,null,"U6=",{"$f":"AV15/(LOG(AV4)/LOG(2))","v":{"$error":"#DIV/0!"}}]
[21,1189,11,1206,11,1215,null,null,null,null,0,211]
[21,1303,11,1317,11,1322,null,null,null,null,0,211]
[21,1417,11,1431,11,1440,null,null,null,null,0,211,null,"Total Target Seq"]
[21,1531,11,1547,11,1556,null,null,null,null,0,211,null,{"$f":"COUNTIF(L7:L51,G3)","v":40},null,8,7,8,7,8,7]
[21,1643,11,1652,11,1657,null,null,null,null,0,211,null,null,null,"% of reinforcement given in 6 equal intervals based on number of trials "]
[21,1750,11,1763,11,1777,null,null,null,null,0,211,null,null,null,"%_1","%_2","%_3","%_4","%_5","%_6"]
[21,1868,11,1881,11,1887,null,null,null,null,0,211,null,null,"target sequence",{"$f":"$G$3","v":211},{"$f":"$G$3","v":211},{"$f":"$G$3","v":211},{"$f":"$G$3","v":211},{"$f":"$G$3","v":211},{"$f":"$G$3","v":211}]
[21,1982,11,1992,11,1998,null,null,null,null,0,211,null,null,"total reinforcement",{"$f":"U11","v":5},{"$f":"Z11","v":7},{"$f":"AE11","v":7},{"$f":"AJ11","v":7},{"$f":"AO11","v":7},{"$f":"AT11","v":7}]
[12,2098,13,2103,13,2125,null,null,null,null,0,111,null,null,"% target"]
[21,2226,11,2242,11,2248,null,null,null,null,0,211,null,null,"CCRF"]
[21,2343,11,2356,11,2365,null,null,null,null,0,211,null,null,"% CCRf"]
[21,2458,11,2472,11,2481,null,null,null,null,0,211,null,null,"average response rate",{"$f":"F14/P20","v":109.125},{"$f":"(F21-F14)/Q20","v":112},{"$f":"(F29-F21)/R20","v":116.75},{"$f":"(F36-F29)/S20","v":114.85714285714286},{"$f":"(F44-F36)/T20","v":121.375},{"$f":"(F51-F44)/U20","v":115.14285714285714}]
[21,2573,11,2582,11,2591,null,null,null,null,0,211]
[21,2686,11,2700,11,2706,null,null,null,null,0,211]
[21,2799,11,2812,11,2820,null,null,null,null,0,211]
[21,2917,11,2926,11,2936,null,null,null,null,0,211]
[21,3027,11,3041,11,3055,null,null,null,null,0,211]
[21,3149,11,3163,11,3169,null,null,null,null,0,211]
[21,3260,11,3269,11,3274,null,null,null,null,0,211]
[21,3371,11,3385,11,3395,null,null,null,null,0,211]
[21,3488,11,3502,11,3507,null,null,null,null,0,211]
[21,3604,11,3623,11,3651,null,null,null,null,0,211]
[21,3743,11,3758,11,3763,null,null,null,null,0,211]
[21,3853,11,3870,11,3881,null,null,null,null,0,211]
[21,3973,11,3986,11,3995,null,null,null,null,0,211]
[21,4091,22,4098,13,4108,null,null,null,null,0,221]
[21,4221,11,4232,11,4245,null,null,null,null,0,211]
[21,4339,11,4353,11,4366,null,null,null,null,0,211]
[21,4460,11,4473,11,4498,null,null,null,null,0,211]
[21,4590,11,4600,11,4608,null,null,null,null,0,211]
[21,4698,11,4710,11,4719,null,null,null,null,0,211]
[21,4811,11,4824,11,4829,null,null,null,null,0,211]
[21,4918,11,4928,11,4939,null,null,null,null,0,211]
[21,5031,11,5043,11,5048,null,null,null,null,0,211]
[21,5139,11,5157,11,5172,null,null,null,null,1,211]

{"sheet":"!N326820.010","index":4,"n_rows":28,"n_cols":48,"rows_kept":28,"cut":false,"hidden":false,"merged":[[4,39,4,42],[5,39,5,40],[4,44,4,47],[5,44,5,45],[4,24,4,27],[5,24,5,25],[4,29,4,32],[5,29,5,30],[4,34,4,37],[5,34,5,35],[1,1,1,2],[5,13,5,14],[18,13,18,14],[19,13,19,14],[4,19,4,22],[5,19,5,20]]}
["Report for:!N326820.010"]
["Date:","<date>"]
["Hen:","<hen>",null,null,null,"Correct Sequence",{"$f":"Start!J2","v":211},null,null,null,null,null,null,null,null,"Total Sequences in Data",{"$f":"4994-COUNTBLANK(L7:L5000)","v":2},null,null,null,null,"Total Sequences in Block Data",{"$f":"COUNTA(L6:L7)","v":2},null,null,null,"Total Sequences in Block Data",{"$f":"COUNTA(L7:L7)","v":1},null,null,null,"Total Sequences in Block Data",{"$f":"COUNTA(L7:L8)","v":2},null,null,null,"Total Sequences in Block Data",{"$f":"COUNTA(L7:L8)","v":2},null,null,null,"Total Sequences in Block Data",{"$f":"COUNTA(L8:L8)","v":1},null,null,null,"Total Sequences in Block Data",{"$f":"COUNTA(L8:L9)","v":1}]
[null,null,null,null,null,null,null,null,null,null,null,null,null,null,null,"Total Sequences in Summary",{"$f":"SUM(O7:O14)","v":2},null,null,null,null,"Total Sequences in Block Summary",{"$f":"SUM(U7:U14)","v":1},null,null,null,"Total Sequences in Block Summary",{"$f":"SUM(Z7:Z14)","v":1},null,null,null,"Total Sequences in Block Summary",{"$f":"SUM(AE7:AE14)","v":2},null,null,null,"Total Sequences in Block Summary",{"$f":"SUM(AJ7:AJ14)","v":2},null,null,null,"Total Sequences in Block Summary",{"$f":"SUM(AO7:AO14)","v":1},null,null,null,"Total Sequences in Block Summary",{"$f":"SUM(AT7:AT14)","v":1}]
[null,null,null,null,null,null,null,null,null,null,null,null,null,null,null,null,null,null,null,"Block 1",null,null,null,null,"Block 2",null,null,null,null,"Block 3",null,null,null,null,"Block 4",null,null,null,null,"Block 5",null,null,null,null,"Block 6"]
["Sequence\nComponent\n1","Time\n1","Sequence\nComponent\n2","Time\n2","Sequence\nComponent\n3","Time\n3","Sequence\nComponent\n4","Time\n4","Sequence\nComponent\n5","Time\n5","Correct?\n0=No 1=Yes","Sequence",null,"Frequency",null,"Relative Frequency","Variability",null,null,"Frequency",null,"Relative Frequency","Variability",null,"Frequency",null,"Relative Frequency","Variability",null,"Frequency",null,"Relative Frequency","Variability",null,"Frequency",null,"Relative Frequency","Variability",null,"Frequency",null,"Relative Frequency","Variability",null,"Frequency",null,"Relative Frequency","Variability"]
[21,42,22,51,24,62,null,null,null,null,0,222,null,111,{"$f":"COUNTIF($L$7:$L$500,N7)","v":0},{"$f":"O7/$Q$4","v":0},{"$f":"IF(P7=0,0,(P7*((LOG(P7))/LOG(2))))","v":0},null,null,{"$f":"N7","v":111},{"$f":"COUNTIF(L6:L7,T7)","v":0},{"$f":"U7/(W4-U11)","v":0},{"$f":"IF(V7=0,0,(V7*((LOG(V7))/LOG(2))))","v":0},null,{"$f":"N7","v":111},{"$f":"COUNTIF(L7:L7,Y7)","v":0},{"$f":"Z7/(AB4-Z11)","v":0},{"$f":"IF(AA7=0,0,(AA7*((LOG(AA7))/LOG(2))))","v":0},null,{"$f":"N7","v":111},{"$f":"COUNTIF(L7:L8,AD7)","v":0},{"$f":"AE7/(AG4-AE11)","v":0},{"$f":"IF(AF7=0,0,(AF7*((LOG(AF7))/LOG(2))))","v":0},null,{"$f":"N7","v":111},{"$f":"COUNTIF(L7:L8,AI7)","v":0},{"$f":"AJ7/(AL4-AJ11)","v":0},{"$f":"IF(AK7=0,0,(AK7*((LOG(AK7))/LOG(2))))","v":0},null,{"$f":"N7","v":111},{"$f":"COUNTIF(L8:L8,AN7)","v":0},{"$f":"AO7/(AQ4-AO11)","v":0},{"$f":"IF(AP7=0,0,(AP7*((LOG(AP7))/LOG(2))))","v":0},null,{"$f":"N7","v":111},{"$f":"COUNTIF(L8:L9,AS7)","v":0},{"$f":"AT7/(AV4-AT11)","v":0},{"$f":"IF(AU7=0,0,(AU7*((LOG(AU7))/LOG(2))))","v":0}]
[12,252,13,274,24,303,null,null,null,null,0,112,null,112,{"$f":"COUNTIF($L$7:$L$500,N8)","v":1},{"$f":"O8/$Q$4","v":0.5},{"$f":"IF(P8=0,0,(P8*((LOG(P8))/LOG(2))))","v":-0.5},null,null,{"$f":"N8","v":112},{"$f":"COUNTIF(L6:L7,T8)","v":0},{"$f":"U8/(W4-U11)","v":0},{"$f":"IF(V8=0,0,(V8*((LOG(V8))/LOG(2))))","v":0},null,{"$f":"N8","v":112},{"$f":"COUNTIF(L7:L7,Y8)","v":0},{"$f":"Z8/(AB4-Z11)","v":0},{"$f":"IF(AA8=0,0,(AA8*((LOG(AA8))/LOG(2))))","v":0},null,{"$f":"N8","v":112},{"$f":"COUNTIF(L7:L8,AD8)","v":1},{"$f":"AE8/(AG4-AE11)","v":0.5},{"$f":"IF(AF8=0,0,(AF8*((LOG(AF8))/LOG(2))))","v":-0.5},null,{"$f":"N8","v":112},{"$f":"COUNTIF(L7:L8,AI8)","v":1},{"$f":"AJ8/(AL4-AJ11)","v":0.5},{"$f":"IF(AK8=0,0,(AK8*((LOG(AK8))/LOG(2))))","v":-0.5},null,{"$f":"N8","v":112},{"$f":"COUNTIF(L8:L8,AN8)","v":1},{"$f":"AO8/(AQ4-AO11)","v":1},{"$f":"IF(AP8=0,0,(AP8*((LOG(AP8))/LOG(2))))","v":0},null,{"$f":"N8","v":112},{"$f":"COUNTIF(L8:L9,AS8)","v":1},{"$f":"AT8/(AV4-AT11)","v":1},{"$f":"IF(AU8=0,0,(AU8*((LOG(AU8))/LOG(2))))","v":0}]
[null,null,null,null,null,null,null,null,null,null,null,null,null,121,{"$f":"COUNTIF($L$7:$L$500,N9)","v":0},{"$f":"O9/$Q$4","v":0},{"$f":"IF(P9=0,0,(P9*((LOG(P9))/LOG(2))))","v":0},null,null,{"$f":"N9","v":121},{"$f":"COUNTIF(L6:L7,T9)","v":0},{"$f":"U9/(W4-U11)","v":0},{"$f":"IF(V9=0,0,(V9*((LOG(V9))/LOG(2))))","v":0},null,{"$f":"N9","v":121},{"$f":"COUNTIF(L7:L7,Y9)","v":0},{"$f":"Z9/(AB4-Z11)","v":0},{"$f":"IF(AA9=0,0,(AA9*((LOG(AA9))/LOG(2))))","v":0},null,{"$f":"N9","v":121},{"$f":"COUNTIF(L7:L8,AD9)","v":0},{"$f":"AE9/(AG4-AE11)","v":0},{"$f":"IF(AF9=0,0,(AF9*((LOG(AF9))/LOG(2))))","v":0},null,{"$f":"N9","v":121},{"$f":"COUNTIF(L7:L8,AI9)","v":0},{"$f":"AJ9/(AL4-AJ11)","v":0},{"$f":"IF(AK9=0,0,(AK9*((LOG(AK9))/LOG(2))))","v":0},null,{"$f":"N9","v":121},{"$f":"COUNTIF(L8:L8,AN9)","v":0},{"$f":"AO9/(AQ4-AO11)","v":0},{"$f":"IF(AP9=0,0,(AP9*((LOG(AP9))/LOG(2))))","v":0},null,{"$f":"N9","v":121},{"$f":"COUNTIF(L8:L9,AS9)","v":0},{"$f":"AT9/(AV4-AT11)","v":0},{"$f":"IF(AU9=0,0,(AU9*((LOG(AU9))/LOG(2))))","v":0}]
[null,null,null,null,null,null,null,null,null,null,null,null,null,122,{"$f":"COUNTIF($L$7:$L$500,N10)","v":0},{"$f":"O10/$Q$4","v":0},{"$f":"IF(P10=0,0,(P10*((LOG(P10))/LOG(2))))","v":0},null,null,{"$f":"N10","v":122},{"$f":"COUNTIF(L6:L7,T10)","v":0},{"$f":"U10/(W4-U11)","v":0},{"$f":"IF(V10=0,0,(V10*((LOG(V10))/LOG(2))))","v":0},null,{"$f":"N10","v":122},{"$f":"COUNTIF(L7:L7,Y10)","v":0},{"$f":"Z10/(AB4-Z11)","v":0},{"$f":"IF(AA10=0,0,(AA10*((LOG(AA10))/LOG(2))))","v":0},null,{"$f":"N10","v":122},{"$f":"COUNTIF(L7:L8,AD10)","v":0},{"$f":"AE10/(AG4-AE11)","v":0},{"$f":"IF(AF10=0,0,(AF10*((LOG(AF10))/LOG(2))))","v":0},null,{"$f":"N10","v":122},{"$f":"COUNTIF(L7:L8,AI10)","v":0},{"$f":"AJ10/(AL4-AJ11)","v":0},{"$f":"IF(AK10=0,0,(AK10*((LOG(AK10))/LOG(2))))","v":0},null,{"$f":"N10","v":122},{"$f":"COUNTIF(L8:L8,AN10)","v":0},{"$f":"AO10/(AQ4-AO11)","v":0},{"$f":"IF(AP10=0,0,(AP10*((LOG(AP10))/LOG(2))))","v":0},null,{"$f":"N10","v":122},{"$f":"COUNTIF(L8:L9,AS10)","v":0},{"$f":"AT10/(AV4-AT11)","v":0},{"$f":"IF(AU10=0,0,(AU10*((LOG(AU10))/LOG(2))))","v":0}]
[null,null,null,null,null,null,null,null,null,null,null,null,null,211,{"$f":"COUNTIF($L$7:$L$500,N11)","v":0},{"$f":"O11/$Q$4","v":0},{"$f":"IF(P11=0,0,(P11*((LOG(P11))/LOG(2))))","v":0},null,null,{"$f":"N11","v":211},{"$f":"COUNTIF(L6:L7,T11)","v":0},null,null,null,{"$f":"N11","v":211},{"$f":"COUNTIF(L7:L7,Y11)","v":0},null,null,null,{"$f":"N11","v":211},{"$f":"COUNTIF(L7:L8,AD11)","v":0},null,null,null,{"$f":"N11","v":211},{"$f":"COUNTIF(L7:L8,AI11)","v":0},null,null,null,{"$f":"N11","v":211},{"$f":"COUNTIF(L8:L8,AN11)","v":0},null,null,null,{"$f":"N11","v":211},{"$f":"COUNTIF(L8:L9,AS11)","v":0}]
[null,null,null,null,null,null,null,null,null,null,null,null,null,212,{"$f":"COUNTIF($L$7:$L$500,N12)","v":0},{"$f":"O12/$Q$4","v":0},{"$f":"IF(P12=0,0,(P12*((LOG(P12))/LOG(2))))","v":0},null,null,{"$f":"N12","v":212},{"$f":"COUNTIF(L6:L7,T12)","v":0},{"$f":"U12/(W4-U11)","v":0},{"$f":"IF(V12=0,0,(V12*((LOG(V12))/LOG(2))))","v":0},null,{"$f":"N12","v":212},{"$f":"COUNTIF(L7:L7,Y12)","v":0},{"$f":"Z12/(AB4-Z11)","v":0},{"$f":"IF(AA12=0,0,(AA12*((LOG(AA12))/LOG(2))))","v":0},null,{"$f":"N12","v":212},{"$f":"COUNTIF(L7:L8,AD12)","v":0},{"$f":"AE12/(AG4-AE11)","v":0},{"$f":"IF(AF12=0,0,(AF12*((LOG(AF12))/LOG(2))))","v":0},null,{"$f":"N12","v":212},{"$f":"COUNTIF(L7:L8,AI12)","v":0},{"$f":"AJ12/(AL4-AJ11)","v":0},{"$f":"IF(AK12=0,0,(AK12*((LOG(AK12))/LOG(2))))","v":0},null,{"$f":"N12","v":212},{"$f":"COUNTIF(L8:L8,AN12)","v":0},{"$f":"AO12/(AQ4-AO11)","v":0},{"$f":"IF(AP12=0,0,(AP12*((LOG(AP12))/LOG(2))))","v":0},null,{"$f":"N12","v":212},{"$f":"COUNTIF(L8:L9,AS12)","v":0},{"$f":"AT12/(AV4-AT11)","v":0},{"$f":"IF(AU12=0,0,(AU12*((LOG(AU12))/LOG(2))))","v":0}]
[null,null,null,null,null,null,null,null,null,null,null,null,null,221,{"$f":"COUNTIF($L$7:$L$500,N13)","v":0},{"$f":"O13/$Q$4","v":0},{"$f":"IF(P13=0,0,(P13*((LOG(P13))/LOG(2))))","v":0},null,null,{"$f":"N13","v":221},{"$f":"COUNTIF(L6:L7,T13)","v":0},{"$f":"U13/(W4-U11)","v":0},{"$f":"IF(V13=0,0,(V13*((LOG(V13))/LOG(2))))","v":0},null,{"$f":"N13","v":221},{"$f":"COUNTIF(L7:L7,Y13)","v":0},{"$f":"Z13/(AB4-Z11)","v":0},{"$f":"IF(AA13=0,0,(AA13*((LOG(AA13))/LOG(2))))","v":0},null,{"$f":"N13","v":221},{"$f":"COUNTIF(L7:L8,AD13)","v":0},{"$f":"AE13/(AG4-AE11)","v":0},{"$f":"IF(AF13=0,0,(AF13*((LOG(AF13))/LOG(2))))","v":0},null,{"$f":"N13","v":221},{"$f":"COUNTIF(L7:L8,AI13)","v":0},{"$f":"AJ13/(AL4-AJ11)","v":0},{"$f":"IF(AK13=0,0,(AK13*((LOG(AK13))/LOG(2))))","v":0},null,{"$f":"N13","v":221},{"$f":"COUNTIF(L8:L8,AN13)","v":0},{"$f":"AO13/(AQ4-AO11)","v":0},{"$f":"IF(AP13=0,0,(AP13*((LOG(AP13))/LOG(2))))","v":0},null,{"$f":"N13","v":221},{"$f":"COUNTIF(L8:L9,AS13)","v":0},{"$f":"AT13/(AV4-AT11)","v":0},{"$f":"IF(AU13=0,0,(AU13*((LOG(AU13))/LOG(2))))","v":0}]
[null,null,null,null,null,null,null,null,null,null,null,null,null,222,{"$f":"COUNTIF($L$7:$L$500,N14)","v":1},{"$f":"O14/$Q$4","v":0.5},{"$f":"IF(P14=0,0,(P14*((LOG(P14))/LOG(2))))","v":-0.5},null,null,{"$f":"N14","v":222},{"$f":"COUNTIF(L6:L7,T14)","v":1},{"$f":"U14/(W4-U11)","v":1},{"$f":"IF(V14=0,0,(V14*((LOG(V14))/LOG(2))))","v":0},null,{"$f":"N14","v":222},{"$f":"COUNTIF(L7:L7,Y14)","v":1},{"$f":"Z14/(AB4-Z11)","v":1},{"$f":"IF(AA14=0,0,(AA14*((LOG(AA14))/LOG(2))))","v":0},null,{"$f":"N14","v":222},{"$f":"COUNTIF(L7:L8,AD14)","v":1},{"$f":"AE14/(AG4-AE11)","v":0.5},{"$f":"IF(AF14=0,0,(AF14*((LOG(AF14))/LOG(2))))","v":-0.5},null,{"$f":"N14","v":222},{"$f":"COUNTIF(L7:L8,AI14)","v":1},{"$f":"AJ14/(AL4-AJ11)","v":0.5},{"$f":"IF(AK14=0,0,(AK14*((LOG(AK14))/LOG(2))))","v":-0.5},null,{"$f":"N14","v":222},{"$f":"COUNTIF(L8:L8,AN14)","v":0},{"$f":"AO14/(AQ4-AO11)","v":0},{"$f":"IF(AP14=0,0,(AP14*((LOG(AP14))/LOG(2))))","v":0},null,{"$f":"N14","v":222},{"$f":"COUNTIF(L8:L9,AS14)","v":0},{"$f":"AT14/(AV4-AT11)","v":0},{"$f":"IF(AU14=0,0,(AU14*((LOG(AU14))/LOG(2))))","v":0}]
[null,null,null,null,null,null,null,null,null,null,null,null,null,null,null,{"$f":"SUM(P7:P14)","v":1},{"$f":"-SUM(Q7:Q14)","v":1},null,null,null,null,{"$f":"SUM(V7:V14)","v":1},{"$f":"-SUM(W7:W14)","v":0},null,null,null,{"$f":"SUM(AA7:AA14)","v":1},{"$f":"-SUM(AB7:AB14)","v":0},null,null,null,{"$f":"SUM(AF7:AF14)","v":1},{"$f":"-SUM(AG7:AG14)","v":1},null,null,null,{"$f":"SUM(AK7:AK14)","v":1},{"$f":"-SUM(AL7:AL14)","v":1},null,null,null,{"$f":"SUM(AP7:AP14)","v":1},{"$f":"-SUM(AQ7:AQ14)","v":0},null,null,null,{"$f":"SUM(AU7:AU14)","v":1},{"$f":"-SUM(AV7:AV14)","v":0}]
[null,null,null,null,null,null,null,null,null,null,null,null,null,null,null,"U=",{"$f":"Q15/(LOG(Q4)/LOG(2))","v":1},null,null,null,null,"U1=",{"$f":"W15/(LOG(W4)/LOG(2))","v":{"$error":"#DIV/0!"}},null,null,null,"U2=",{"$f":"AB15/(LOG(AB4)/LOG(2))","v":{"$error":"#DIV/0!"}},null,null,null,"U3=",{"$f":"AG15/(LOG(AG4)/LOG(2))","v":1},null,null,null,"U4=",{"$f":"AL15/(LOG(AL4)/LOG(2))","v":1},null,null,null,"U5=",{"$f":"AQ15/(LOG(AQ4)/LOG(2))","v":{"$error":"#DIV/0!"}},null,null,null,"U6=",{"$f":"AV15/(LOG(AV4)/LOG(2))","v":{"$error":"#DIV/0!"}}]
[]
[]
[null,null,null,null,null,null,null,null,null,null,null,null,null,"Total Target Seq"]
[null,null,null,null,null,null,null,null,null,null,null,null,null,{"$f":"COUNTIF(L7:L8,G3)","v":0},null,0,1,0,0,1,0]
[null,null,null,null,null,null,null,null,null,null,null,null,null,null,null,"% of reinforcement given in 6 equal intervals based on number of trials "]
[null,null,null,null,null,null,null,null,null,null,null,null,null,null,null,"%_1","%_2","%_3","%_4","%_5","%_6"]
[null,null,null,null,null,null,null,null,null,null,null,null,null,null,"target sequence",{"$f":"$G$3","v":211},{"$f":"$G$3","v":211},{"$f":"$G$3","v":211},{"$f":"$G$3","v":211},{"$f":"$G$3","v":211},{"$f":"$G$3","v":211}]
[null,null,null,null,null,null,null,null,null,null,null,null,null,null,"total reinforcement",{"$f":"U11","v":0},{"$f":"Z11","v":0},{"$f":"AE11","v":0},{"$f":"AJ11","v":0},{"$f":"AO11","v":0},{"$f":"AT11","v":0}]
[null,null,null,null,null,null,null,null,null,null,null,null,null,null,"% target"]
[null,null,null,null,null,null,null,null,null,null,null,null,null,null,"CCRF"]
[null,null,null,null,null,null,null,null,null,null,null,null,null,null,"% CCRf"]
[null,null,null,null,null,null,null,null,null,null,null,null,null,null,"average response rate",{"$f":"F6/P20","v":{"$error":"#VALUE!"}},{"$f":"(F7-F6)/Q20","v":{"$error":"#VALUE!"}},{"$f":"(F7-F7)/R20","v":{"$error":"#DIV/0!"}},{"$f":"(F7-F7)/S20","v":{"$error":"#DIV/0!"}},{"$f":"(F8-F7)/T20","v":241},{"$f":"(F8-F8)/U20","v":{"$error":"#DIV/0!"}}]

{"sheet":"!N327800.010","index":5,"n_rows":51,"n_cols":48,"rows_kept":51,"cut":false,"hidden":false,"merged":[[4,39,4,42],[5,39,5,40],[4,44,4,47],[5,44,5,45],[4,24,4,27],[5,24,5,25],[4,29,4,32],[5,29,5,30],[4,34,4,37],[5,34,5,35],[1,1,1,2],[5,13,5,14],[18,13,18,14],[19,13,19,14],[4,19,4,22],[5,19,5,20]]}
["Report for:!N327800.010"]
["Date:","<date>"]
["Hen:","<hen>",null,null,null,"Correct Sequence",{"$f":"Start!J2","v":211},null,null,null,null,null,null,null,null,"Total Sequences in Data",{"$f":"4994-COUNTBLANK(L7:L5000)","v":45},null,null,null,null,"Total Sequences in Block Data",{"$f":"COUNTA(L7:L14)","v":8},null,null,null,"Total Sequences in Block Data",{"$f":"COUNTA(L15:L21)","v":7},null,null,null,"Total Sequences in Block Data",{"$f":"COUNTA(L22:L29)","v":8},null,null,null,"Total Sequences in Block Data",{"$f":"COUNTA(L30:L36)","v":7},null,null,null,"Total Sequences in Block Data",{"$f":"COUNTA(L37:L44)","v":8},null,null,null,"Total Sequences in Block Data",{"$f":"COUNTA(L45:L51)","v":7}]
[null,null,null,null,null,null,null,null,null,null,null,null,null,null,null,"Total Sequences in Summary",{"$f":"SUM(O7:O14)","v":45},null,null,null,null,"Total Sequences in Block Summary",{"$f":"SUM(U7:U14)","v":8},null,null,null,"Total Sequences in Block Summary",{"$f":"SUM(Z7:Z14)","v":7},null,null,null,"Total Sequences in Block Summary",{"$f":"SUM(AE7:AE14)","v":8},null,null,null,"Total Sequences in Block Summary",{"$f":"SUM(AJ7:AJ14)","v":7},null,null,null,"Total Sequences in Block Summary",{"$f":"SUM(AO7:AO14)","v":8},null,null,null,"Total Sequences in Block Summary",{"$f":"SUM(AT7:AT14)","v":7}]
[null,null,null,null,null,null,null,null,null,null,null,null,null,null,null,null,null,null,null,"Block 1",null,null,null,null,"Block 2",null,null,null,null,"Block 3",null,null,null,null,"Block 4",null,null,null,null,"Block 5",null,null,null,null,"Block 6"]
["Sequence\nComponent\n1","Time\n1","Sequence\nComponent\n2","Time\n2","Sequence\nComponent\n3","Time\n3","Sequence\nComponent\n4","Time\n4","Sequence\nComponent\n5","Time\n5","Correct?\n0=No 1=Yes","Sequence",null,"Frequency",null,"Relative Frequency","Variability",null,null,"Frequency",null,"Relative Frequency","Variability",null,"Frequency",null,"Relative Frequency","Variability",null,"Frequency",null,"Relative Frequency","Variability",null,"Frequency",null,"Relative Frequency","Variability",null,"Frequency",null,"Relative Frequency","Variability",null,"Frequency",null,"Relative Frequency","Variability"]
[12,38,13,46,13,75,null,null,null,null,0,111,null,111,{"$f":"COUNTIF($L$7:$L$500,N7)","v":5},{"$f":"O7/$Q$4","v":0.1111111111111111},{"$f":"IF(P7=0,0,(P7*((LOG(P7))/LOG(2))))","v":-0.3522138890491458},null,null,{"$f":"N7","v":111},{"$f":"COUNTIF(L7:L14,T7)","v":1},{"$f":"U7/(W4-U11)","v":1},{"$f":"IF(V7=0,0,(V7*((LOG(V7))/LOG(2))))","v":0},null,{"$f":"N7","v":111},{"$f":"COUNTIF(L15:L21,Y7)","v":0},{"$f":"Z7/(AB4-Z11)","v":{"$error":"#DIV/0!"}},{"$f":"IF(AA7=0,0,(AA7*((LOG(AA7))/LOG(2))))","v":{"$error":"#DIV/0!"}},null,{"$f":"N7","v":111},{"$f":"COUNTIF(L22:L29,AD7)","v":1},{"$f":"AE7/(AG4-AE11)","v":1},{"$f":"IF(AF7=0,0,(AF7*((LOG(AF7))/LOG(2))))","v":0},null,{"$f":"N7","v":111},{"$f":"COUNTIF(L30:L36,AI7)","v":0},{"$f":"AJ7/(AL4-AJ11)","v":{"$error":"#DIV/0!"}},{"$f":"IF(AK7=0,0,(AK7*((LOG(AK7))/LOG(2))))","v":{"$error":"#DIV/0!"}},null,{"$f":"N7","v":111},{"$f":"COUNTIF(L37:L44,AN7)","v":1},{"$f":"AO7/(AQ4-AO11)","v":1},{"$f":"IF(AP7=0,0,(AP7*((LOG(AP7))/LOG(2))))","v":0},null,{"$f":"N7","v":111},{"$f":"COUNTIF(L45:L51,AS7)","v":2},{"$f":"AT7/(AV4-AT11)","v":1},{"$f":"IF(AU7=0,0,(AU7*((LOG(AU7))/LOG(2))))","v":0}]
[21,186,11,202,11,210,null,null,null,null,0,211,null,112,{"$f":"COUNTIF($L$7:$L$500,N8)","v":0},{"$f":"O8/$Q$4","v":0},{"$f":"IF(P8=0,0,(P8*((LOG(P8))/LOG(2))))","v":0},null,null,{"$f":"N8","v":112},{"$f":"COUNTIF(L7:L14,T8)","v":0},{"$f":"U8/(W4-U11)","v":0},{"$f":"IF(V8=0,0,(V8*((LOG(V8))/LOG(2))))","v":0},null,{"$f":"N8","v":112},{"$f":"COUNTIF(L15:L21,Y8)","v":0},{"$f":"Z8/(AB4-Z11)","v":{"$error":"#DIV/0!"}},{"$f":"IF(AA8=0,0,(AA8*((LOG(AA8))/LOG(2))))","v":{"$error":"#DIV/0!"}},null,{"$f":"N8","v":112},{"$f":"COUNTIF(L22:L29,AD8)","v":0},{"$f":"AE8/(AG4-AE11)","v":0},{"$f":"IF(AF8=0,0,(AF8*((LOG(AF8))/LOG(2))))","v":0},null,{"$f":"N8","v":112},{"$f":"COUNTIF(L30:L36,AI8)","v":0},{"$f":"AJ8/(AL4-AJ11)","v":{"$error":"#DIV/0!"}},{"$f":"IF(AK8=0,0,(AK8*((LOG(AK8))/LOG(2))))","v":{"$error":"#DIV/0!"}},null,{"$f":"N8","v":112},{"$f":"COUNTIF(L37:L44,AN8)","v":0},{"$f":"AO8/(AQ4-AO11)","v":0},{"$f":"IF(AP8=0,0,(AP8*((LOG(AP8))/LOG(2))))","v":0},null,{"$f":"N8","v":112},{"$f":"COUNTIF(L45:L51,AS8)","v":0},{"$f":"AT8/(AV4-AT11)","v":0},{"$f":"IF(AU8=0,0,(AU8*((LOG(AU8))/LOG(2))))","v":0}]
[21,308,11,318,11,325,null,null,null,null,0,211,null,121,{"$f":"COUNTIF($L$7:$L$500,N9)","v":0},{"$f":"O9/$Q$4","v":0},{"$f":"IF(P9=0,0,(P9*((LOG(P9))/LOG(2))))","v":0},null,null,{"$f":"N9","v":121},{"$f":"COUNTIF(L7:L14,T9)","v":0},{"$f":"U9/(W4-U11)","v":0},{"$f":"IF(V9=0,0,(V9*((LOG(V9))/LOG(2))))","v":0},null,{"$f":"N9","v":121},{"$f":"COUNTIF(L15:L21,Y9)","v":0},{"$f":"Z9/(AB4-Z11)","v":{"$error":"#DIV/0!"}},{"$f":"IF(AA9=0,0,(AA9*((LOG(AA9))/LOG(2))))","v":{"$error":"#DIV/0!"}},null,{"$f":"N9","v":121},{"$f":"COUNTIF(L22:L29,AD9)","v":0},{"$f":"AE9/(AG4-AE11)","v":0},{"$f":"IF(AF9=0,0,(AF9*((LOG(AF9))/LOG(2))))","v":0},null,{"$f":"N9","v":121},{"$f":"COUNTIF(L30:L36,AI9)","v":0},{"$f":"AJ9/(AL4-AJ11)","v":{"$error":"#DIV/0!"}},{"$f":"IF(AK9=0,0,(AK9*((LOG(AK9))/LOG(2))))","v":{"$error":"#DIV/0!"}},null,{"$f":"N9","v":121},{"$f":"COUNTIF(L37:L44,AN9)","v":0},{"$f":"AO9/(AQ4-AO11)","v":0},{"$f":"IF(AP9=0,0,(AP9*((LOG(AP9))/LOG(2))))","v":0},null,{"$f":"N9","v":121},{"$f":"COUNTIF(L45:L51,AS9)","v":0},{"$f":"AT9/(AV4-AT11)","v":0},{"$f":"IF(AU9=0,0,(AU9*((LOG(AU9))/LOG(2))))","v":0}]
[21,425,11,441,11,451,null,null,null,null,0,211,null,122,{"$f":"COUNTIF($L$7:$L$500,N10)","v":0},{"$f":"O10/$Q$4","v":0},{"$f":"IF(P10=0,0,(P10*((LOG(P10))/LOG(2))))","v":0},null,null,{"$f":"N10","v":122},{"$f":"COUNTIF(L7:L14,T10)","v":0},{"$f":"U10/(W4-U11)","v":0},{"$f":"IF(V10=0,0,(V10*((LOG(V10))/LOG(2))))","v":0},null,{"$f":"N10","v":122},{"$f":"COUNTIF(L15:L21,Y10)","v":0},{"$f":"Z10/(AB4-Z11)","v":{"$error":"#DIV/0!"}},{"$f":"IF(AA10=0,0,(AA10*((LOG(AA10))/LOG(2))))","v":{"$error":"#DIV/0!"}},null,{"$f":"N10","v":122},{"$f":"COUNTIF(L22:L29,AD10)","v":0},{"$f":"AE10/(AG4-AE11)","v":0},{"$f":"IF(AF10=0,0,(AF10*((LOG(AF10))/LOG(2))))","v":0},null,{"$f":"N10","v":122},{"$f":"COUNTIF(L30:L36,AI10)","v":0},{"$f":"AJ10/(AL4-AJ11)","v":{"$error":"#DIV/0!"}},{"$f":"IF(AK10=0,0,(AK10*((LOG(AK10))/LOG(2))))","v":{"$error":"#DIV/0!"}},null,{"$f":"N10","v":122},{"$f":"COUNTIF(L37:L44,AN10)","v":0},{"$f":"AO10/(AQ4-AO11)","v":0},{"$f":"IF(AP10=0,0,(AP10*((LOG(AP10))/LOG(2))))","v":0},null,{"$f":"N10","v":122},{"$f":"COUNTIF(L45:L51,AS10)","v":0},{"$f":"AT10/(AV4-AT11)","v":0},{"$f":"IF(AU10=0,0,(AU10*((LOG(AU10))/LOG(2))))","v":0}]
[21,549,11,565,11,574,null,null,null,null,0,211,null,211,{"$f":"COUNTIF($L$7:$L$500,N11)","v":40},{"$f":"O11/$Q$4","v":0.88888888888888884},{"$f":"IF(P11=0,0,(P11*((LOG(P11))/LOG(2))))","v":-0.15104444572649992},null,null,{"$f":"N11","v":211},{"$f":"COUNTIF(L7:L14,T11)","v":7},null,null,null,{"$f":"N11","v":211},{"$f":"COUNTIF(L15:L21,Y11)","v":7},null,null,null,{"$f":"N11","v":211},{"$f":"COUNTIF(L22:L29,AD11)","v":7},null,null,null,{"$f":"N11","v":211},{"$f":"COUNTIF(L30:L36,AI11)","v":7},null,null,null,{"$f":"N11","v":211},{"$f":"COUNTIF(L37:L44,AN11)","v":7},null,null,null,{"$f":"N11","v":211},{"$f":"COUNTIF(L45:L51,AS11)","v":5}]
[21,674,11,689,11,698,null,null,null,null,0,211,null,212,{"$f":"COUNTIF($L$7:$L$500,N12)","v":0},{"$f":"O12/$Q$4","v":0},{"$f":"IF(P12=0,0,(P12*((LOG(P12))/LOG(2))))","v":0},null,null,{"$f":"N12","v":212},{"$f":"COUNTIF(L7:L14,T12)","v":0},{"$f":"U12/(W4-U11)","v":0},{"$f":"IF(V12=0,0,(V12*((LOG(V12))/LOG(2))))","v":0},null,{"$f":"N12","v":212},{"$f":"COUNTIF(L15:L21,Y12)","v":0},{"$f":"Z12/(AB4-Z11)","v":{"$error":"#DIV/0!"}},{"$f":"IF(AA12=0,0,(AA12*((LOG(AA12))/LOG(2))))","v":{"$error":"#DIV/0!"}},null,{"$f":"N12","v":212},{"$f":"COUNTIF(L22:L29,AD12)","v":0},{"$f":"AE12/(AG4-AE11)","v":0},{"$f":"IF(AF12=0,0,(AF12*((LOG(AF12))/LOG(2))))","v":0},null,{"$f":"N12","v":212},{"$f":"COUNTIF(L30:L36,AI12)","v":0},{"$f":"AJ12/(AL4-AJ11)","v":{"$error":"#DIV/0!"}},{"$f":"IF(AK12=0,0,(AK12*((LOG(AK12))/LOG(2))))","v":{"$error":"#DIV/0!"}},null,{"$f":"N12","v":212},{"$f":"COUNTIF(L37:L44,AN12)","v":0},{"$f":"AO12/(AQ4-AO11)","v":0},{"$f":"IF(AP12=0,0,(AP12*((LOG(AP12))/LOG(2))))","v":0},null,{"$f":"N12","v":212},{"$f":"COUNTIF(L45:L51,AS12)","v":0},{"$f":"AT12/(AV4-AT11)","v":0},{"$f":"IF(AU12=0,0,(AU12*((LOG(AU12))/LOG(2))))","v":0}]
[21,796,11,811,11,818,null,null,null,null,0,211,null,221,{"$f":"COUNTIF($L$7:$L$500,N13)","v":0},{"$f":"O13/$Q$4","v":0},{"$f":"IF(P13=0,0,(P13*((LOG(P13))/LOG(2))))","v":0},null,null,{"$f":"N13","v":221},{"$f":"COUNTIF(L7:L14,T13)","v":0},{"$f":"U13/(W4-U11)","v":0},{"$f":"IF(V13=0,0,(V13*((LOG(V13))/LOG(2))))","v":0},null,{"$f":"N13","v":221},{"$f":"COUNTIF(L15:L21,Y13)","v":0},{"$f":"Z13/(AB4-Z11)","v":{"$error":"#DIV/0!"}},{"$f":"IF(AA13=0,0,(AA13*((LOG(AA13))/LOG(2))))","v":{"$error":"#DIV/0!"}},null,{"$f":"N13","v":221},{"$f":"COUNTIF(L22:L29,AD13)","v":0},{"$f":"AE13/(AG4-AE11)","v":0},{"$f":"IF(AF13=0,0,(AF13*((LOG(AF13))/LOG(2))))","v":0},null,{"$f":"N13","v":221},{"$f":"COUNTIF(L30:L36,AI13)","v":0},{"$f":"AJ13/(AL4-AJ11)","v":{"$error":"#DIV/0!"}},{"$f":"IF(AK13=0,0,(AK13*((LOG(AK13))/LOG(2))))","v":{"$error":"#DIV/0!"}},null,{"$f":"N13","v":221},{"$f":"COUNTIF(L37:L44,AN13)","v":0},{"$f":"AO13/(AQ4-AO11)","v":0},{"$f":"IF(AP13=0,0,(AP13*((LOG(AP13))/LOG(2))))","v":0},null,{"$f":"N13","v":221},{"$f":"COUNTIF(L45:L51,AS13)","v":0},{"$f":"AT13/(AV4-AT11)","v":0},{"$f":"IF(AU13=0,0,(AU13*((LOG(AU13))/LOG(2))))","v":0}]
[21,913,11,928,11,937,null,null,null,null,0,211,null,222,{"$f":"COUNTIF($L$7:$L$500,N14)","v":0},{"$f":"O14/$Q$4","v":0},{"$f":"IF(P14=0,0,(P14*((LOG(P14))/LOG(2))))","v":0},null,null,{"$f":"N14","v":222},{"$f":"COUNTIF(L7:L14,T14)","v":0},{"$f":"U14/(W4-U11)","v":0},{"$f":"IF(V14=0,0,(V14*((LOG(V14))/LOG(2))))","v":0},null,{"$f":"N14","v":222},{"$f":"COUNTIF(L15:L21,Y14)","v":0},{"$f":"Z14/(AB4-Z11)","v":{"$error":"#DIV/0!"}},{"$f":"IF(AA14=0,0,(AA14*((LOG(AA14))/LOG(2))))","v":{"$error":"#DIV/0!"}},null,{"$f":"N14","v":222},{"$f":"COUNTIF(L22:L29,AD14)","v":0},{"$f":"AE14/(AG4-AE11)","v":0},{"$f":"IF(AF14=0,0,(AF14*((LOG(AF14))/LOG(2))))","v":0},null,{"$f":"N14","v":222},{"$f":"COUNTIF(L30:L36,AI14)","v":0},{"$f":"AJ14/(AL4-AJ11)","v":{"$error":"#DIV/0!"}},{"$f":"IF(AK14=0,0,(AK14*((LOG(AK14))/LOG(2))))","v":{"$error":"#DIV/0!"}},null,{"$f":"N14","v":222},{"$f":"COUNTIF(L37:L44,AN14)","v":0},{"$f":"AO14/(AQ4-AO11)","v":0},{"$f":"IF(AP14=0,0,(AP14*((LOG(AP14))/LOG(2))))","v":0},null,{"$f":"N14","v":222},{"$f":"COUNTIF(L45:L51,AS14)","v":0},{"$f":"AT14/(AV4-AT11)","v":0},{"$f":"IF(AU14=0,0,(AU14*((LOG(AU14))/LOG(2))))","v":0}]
[21,1032,11,1045,11,1054,null,null,null,null,0,211,null,null,null,{"$f":"SUM(P7:P14)","v":1},{"$f":"-SUM(Q7:Q14)","v":0.50325833477564574},null,null,null,null,{"$f":"SUM(V7:V14)","v":1},{"$f":"-SUM(W7:W14)","v":0},null,null,null,{"$f":"SUM(AA7:AA14)","v":{"$error":"#DIV/0!"}},{"$f":"-SUM(AB7:AB14)","v":{"$error":"#DIV/0!"}},null,null,null,{"$f":"SUM(AF7:AF14)","v":1},{"$f":"-SUM(AG7:AG14)","v":0},null,null,null,{"$f":"SUM(AK7:AK14)","v":{"$error":"#DIV/0!"}},{"$f":"-SUM(AL7:AL14)","v":{"$error":"#DIV/0!"}},null,null,null,{"$f":"SUM(AP7:AP14)","v":1},{"$f":"-SUM(AQ7:AQ14)","v":0},null,null,null,{"$f":"SUM(AU7:AU14)","v":1},{"$f":"-SUM(AV7:AV14)","v":0}]
[21,1158,11,1173,11,1179,null,null,null,null,0,211,null,null,null,"U=",{"$f":"Q15/(LOG(Q4)/LOG(2))","v":9.163725357329465E-2},null,null,null,null,"U1=",{"$f":"W15/(LOG(W4)/LOG(2))","v":0},null,null,null,"U2=",{"$f":"AB15/(LOG(AB4)/LOG(2))","v":{"$error":"#DIV/0!"}},null,null,null,"U3=",{"$f":"AG15/(LOG(AG4)/LOG(2))","v":0},null,null,null,"U4=",{"$f":"AL15/(LOG(AL4)/LOG(2))","v":{"$error":"#DIV/0!"}},null,null,null,"U5=",{"$f":"AQ15/(LOG(AQ4)/LOG(2))","v":0},null,null,null,"U6=",{"$f":"AV15/(LOG(AV4)/LOG(2))","v":0}]
[21,1278,11,1293,11,1300,null,null,null,null,0,211]
[21,1395,11,1409,11,1414,null,null,null,null,0,211]
[21,1510,11,1532,11,1552,null,null,null,null,0,211,null,"Total Target Seq"]
[21,1650,11,1660,11,1666,null,null,null,null,0,211,null,{"$f":"COUNTIF(L7:L51,G3)","v":40},null,8,7,8,7,8,7]
[21,1766,11,1776,11,1787,null,null,null,null,0,211,null,null,null,"% of reinforcement given in 6 equal intervals based on number of trials "]
[21,1883,11,1896,11,1905,null,null,null,null,0,211,null,null,null,"%_1","%_2","%_3","%_4","%_5","%_6"]
[21,2000,11,2014,11,2020,null,null,null,null,0,211,null,null,"target sequence",{"$f":"$G$3","v":211},{"$f":"$G$3","v":211},{"$f":"$G$3","v":211},{"$f":"$G$3","v":211},{"$f":"$G$3","v":211},{"$f":"$G$3","v":211}]
[21,2118,11,2132,11,2138,null,null,null,null,0,211,null,null,"total reinforcement",{"$f":"U11","v":7},{"$f":"Z11","v":7},{"$f":"AE11","v":7},{"$f":"AJ11","v":7},{"$f":"AO11","v":7},{"$f":"AT11","v":5}]
[12,2242,13,2249,13,2278,null,null,null,null,0,111,null,null,"% target"]
[21,2390,11,2404,11,2410,null,null,null,null,0,211,null,null,"CCRF"]
[21,2511,11,2521,11,2530,null,null,null,null,0,211,null,null,"% CCRf"]
[21,2639,11,2652,11,2657,null,null,null,null,0,211,null,null,"average response rate",{"$f":"F14/P20","v":117.125},{"$f":"(F21-F14)/Q20","v":121.42857142857143},{"$f":"(F29-F21)/R20","v":123.5},{"$f":"(F36-F29)/S20","v":114.85714285714286},{"$f":"(F44-F36)/T20","v":126},{"$f":"(F51-F44)/U20","v":124.14285714285714}]
[21,2751,11,2765,11,2775,null,null,null,null,0,211]
[21,2874,11,2889,11,2896,null,null,null,null,0,211]
[21,2993,11,3002,11,3008,null,null,null,null,0,211]
[21,3100,11,3109,11,3114,null,null,null,null,0,211]
[21,3210,11,3227,11,3237,null,null,null,null,0,211]
[21,3331,11,3345,11,3351,null,null,null,null,0,211]
[21,3445,11,3459,11,3469,null,null,null,null,0,211]
[21,3561,11,3574,11,3579,null,null,null,null,0,211]
[21,3670,11,3687,11,3702,null,null,null,null,0,211]
[21,3789,11,3812,11,3823,null,null,null,null,0,211]
[21,3916,11,3929,11,3959,null,null,null,null,0,211]
[21,4054,11,4066,11,4072,null,null,null,null,0,211]
[21,4171,11,4187,11,4198,null,null,null,null,0,211]
[21,4287,11,4302,11,4308,null,null,null,null,0,211]
[12,4421,13,4431,13,4454,null,null,null,null,0,111]
[21,4560,11,4578,11,4587,null,null,null,null,0,211]
[12,4690,13,4695,13,4701,null,null,null,null,0,111]
[21,4806,11,4820,11,4832,null,null,null,null,0,211]
[21,4932,11,4947,11,4956,null,null,null,null,0,211]
[21,5052,11,5071,11,5084,null,null,null,null,0,211]
[12,5193,13,5199,13,5209,null,null,null,null,0,111]
[21,5314,11,5327,11,5341,null,null,null,null,0,211]
[21,5435,11,5447,11,5456,null,null,null,null,1,211]

{"sheet":"!N328830.010","index":6,"n_rows":56,"n_cols":48,"rows_kept":56,"cut":false,"hidden":false,"merged":[[4,39,4,42],[5,39,5,40],[4,44,4,47],[5,44,5,45],[4,24,4,27],[5,24,5,25],[4,29,4,32],[5,29,5,30],[4,34,4,37],[5,34,5,35],[1,1,1,2],[5,13,5,14],[18,13,18,14],[19,13,19,14],[4,19,4,22],[5,19,5,20]]}
["Report for:!N328830.010"]
["Date:","<date>"]
["Hen:","<hen>",null,null,null,"Correct Sequence",{"$f":"Start!J2","v":211},null,null,null,null,null,null,null,null,"Total Sequences in Data",{"$f":"4994-COUNTBLANK(L7:L5000)","v":50},null,null,null,null,"Total Sequences in Block Data",{"$f":"COUNTA(L7:L14)","v":8},null,null,null,"Total Sequences in Block Data",{"$f":"COUNTA(L15:L23)","v":9},null,null,null,"Total Sequences in Block Data",{"$f":"COUNTA(L24:L31)","v":8},null,null,null,"Total Sequences in Block Data",{"$f":"COUNTA(L32:L39)","v":8},null,null,null,"Total Sequences in Block Data",{"$f":"COUNTA(L40:L48)","v":9},null,null,null,"Total Sequences in Block Data",{"$f":"COUNTA(L49:L56)","v":8}]
[null,null,null,null,null,null,null,null,null,null,null,null,null,null,null,"Total Sequences in Summary",{"$f":"SUM(O7:O14)","v":50},null,null,null,null,"Total Sequences in Block Summary",{"$f":"SUM(U7:U14)","v":8},null,null,null,"Total Sequences in Block Summary",{"$f":"SUM(Z7:Z14)","v":9},null,null,null,"Total Sequences in Block Summary",{"$f":"SUM(AE7:AE14)","v":8},null,null,null,"Total Sequences in Block Summary",{"$f":"SUM(AJ7:AJ14)","v":8},null,null,null,"Total Sequences in Block Summary",{"$f":"SUM(AO7:AO14)","v":9},null,null,null,"Total Sequences in Block Summary",{"$f":"SUM(AT7:AT14)","v":8}]
[null,null,null,null,null,null,null,null,null,null,null,null,null,null,null,null,null,null,null,"Block 1",null,null,null,null,"Block 2",null,null,null,null,"Block 3",null,null,null,null,"Block 4",null,null,null,null,"Block 5",null,null,null,null,"Block 6"]
["Sequence\nComponent\n1","Time\n1","Sequence\nComponent\n2","Time\n2","Sequence\nComponent\n3","Time\n3","Sequence\nComponent\n4","Time\n4","Sequence\nComponent\n5","Time\n5","Correct?\n0=No 1=Yes","Sequence",null,"Frequency",null,"Relative Frequency","Variability",null,null,"Frequency",null,"Relative Frequency","Variability",null,"Frequency",null,"Relative Frequency","Variability",null,"Frequency",null,"Relative Frequency","Variability",null,"Frequency",null,"Relative Frequency","Variability",null,"Frequency",null,"Relative Frequency","Variability",null,"Frequency",null,"Relative Frequency","Variability"]
[12,31,13,45,13,57,null,null,null,null,0,111,null,111,{"$f":"COUNTIF($L$7:$L$500,N7)","v":10},{"$f":"O7/$Q$4","v":0.2},{"$f":"IF(P7=0,0,(P7*((LOG(P7))/LOG(2))))","v":-0.46438561897747244},null,null,{"$f":"N7","v":111},{"$f":"COUNTIF(L7:L14,T7)","v":3},{"$f":"U7/(W4-U11)","v":1},{"$f":"IF(V7=0,0,(V7*((LOG(V7))/LOG(2))))","v":0},null,{"$f":"N7","v":111},{"$f":"COUNTIF(L15:L23,Y7)","v":2},{"$f":"Z7/(AB4-Z11)","v":1},{"$f":"IF(AA7=0,0,(AA7*((LOG(AA7))/LOG(2))))","v":0},null,{"$f":"N7","v":111},{"$f":"COUNTIF(L24:L31,AD7)","v":0},{"$f":"AE7/(AG4-AE11)","v":{"$error":"#DIV/0!"}},{"$f":"IF(AF7=0,0,(AF7*((LOG(AF7))/LOG(2))))","v":{"$error":"#DIV/0!"}},null,{"$f":"N7","v":111},{"$f":"COUNTIF(L32:L39,AI7)","v":1},{"$f":"AJ7/(AL4-AJ11)","v":1},{"$f":"IF(AK7=0,0,(AK7*((LOG(AK7))/LOG(2))))","v":0},null,{"$f":"N7","v":111},{"$f":"COUNTIF(L40:L48,AN7)","v":3},{"$f":"AO7/(AQ4-AO11)","v":1},{"$f":"IF(AP7=0,0,(AP7*((LOG(AP7))/LOG(2))))","v":0},null,{"$f":"N7","v":111},{"$f":"COUNTIF(L49:L56,AS7)","v":1},{"$f":"AT7/(AV4-AT11)","v":1},{"$f":"IF(AU7=0,0,(AU7*((LOG(AU7))/LOG(2))))","v":0}]
[21,163,11,179,11,185,null,null,null,null,0,211,null,112,{"$f":"COUNTIF($L$7:$L$500,N8)","v":0},{"$f":"O8/$Q$4","v":0},{"$f":"IF(P8=0,0,(P8*((LOG(P8))/LOG(2))))","v":0},null,null,{"$f":"N8","v":112},{"$f":"COUNTIF(L7:L14,T8)","v":0},{"$f":"U8/(W4-U11)","v":0},{"$f":"IF(V8=0,0,(V8*((LOG(V8))/LOG(2))))","v":0},null,{"$f":"N8","v":112},{"$f":"COUNTIF(L15:L23,Y8)","v":0},{"$f":"Z8/(AB4-Z11)","v":0},{"$f":"IF(AA8=0,0,(AA8*((LOG(AA8))/LOG(2))))","v":0},null,{"$f":"N8","v":112},{"$f":"COUNTIF(L24:L31,AD8)","v":0},{"$f":"AE8/(AG4-AE11)","v":{"$error":"#DIV/0!"}},{"$f":"IF(AF8=0,0,(AF8*((LOG(AF8))/LOG(2))))","v":{"$error":"#DIV/0!"}},null,{"$f":"N8","v":112},{"$f":"COUNTIF(L32:L39,AI8)","v":0},{"$f":"AJ8/(AL4-AJ11)","v":0},{"$f":"IF(AK8=0,0,(AK8*((LOG(AK8))/LOG(2))))","v":0},null,{"$f":"N8","v":112},{"$f":"COUNTIF(L40:L48,AN8)","v":0},{"$f":"AO8/(AQ4-AO11)","v":0},{"$f":"IF(AP8=0,0,(AP8*((LOG(AP8))/LOG(2))))","v":0},null,{"$f":"N8","v":112},{"$f":"COUNTIF(L49:L56,AS8)","v":0},{"$f":"AT8/(AV4-AT11)","v":0},{"$f":"IF(AU8=0,0,(AU8*((LOG(AU8))/LOG(2))))","v":0}]
[21,285,11,300,11,307,null,null,null,null,0,211,null,121,{"$f":"COUNTIF($L$7:$L$500,N9)","v":0},{"$f":"O9/$Q$4","v":0},{"$f":"IF(P9=0,0,(P9*((LOG(P9))/LOG(2))))","v":0},null,null,{"$f":"N9","v":121},{"$f":"COUNTIF(L7:L14,T9)","v":0},{"$f":"U9/(W4-U11)","v":0},{"$f":"IF(V9=0,0,(V9*((LOG(V9))/LOG(2))))","v":0},null,{"$f":"N9","v":121},{"$f":"COUNTIF(L15:L23,Y9)","v":0},{"$f":"Z9/(AB4-Z11)","v":0},{"$f":"IF(AA9=0,0,(AA9*((LOG(AA9))/LOG(2))))","v":0},null,{"$f":"N9","v":121},{"$f":"COUNTIF(L24:L31,AD9)","v":0},{"$f":"AE9/(AG4-AE11)","v":{"$error":"#DIV/0!"}},{"$f":"IF(AF9=0,0,(AF9*((LOG(AF9))/LOG(2))))","v":{"$error":"#DIV/0!"}},null,{"$f":"N9","v":121},{"$f":"COUNTIF(L32:L39,AI9)","v":0},{"$f":"AJ9/(AL4-AJ11)","v":0},{"$f":"IF(AK9=0,0,(AK9*((LOG(AK9))/LOG(2))))","v":0},null,{"$f":"N9","v":121},{"$f":"COUNTIF(L40:L48,AN9)","v":0},{"$f":"AO9/(AQ4-AO11)","v":0},{"$f":"IF(AP9=0,0,(AP9*((LOG(AP9))/LOG(2))))","v":0},null,{"$f":"N9","v":121},{"$f":"COUNTIF(L49:L56,AS9)","v":0},{"$f":"AT9/(AV4-AT11)","v":0},{"$f":"IF(AU9=0,0,(AU9*((LOG(AU9))/LOG(2))))","v":0}]
[21,403,11,423,11,432,null,null,null,null,0,211,null,122,{"$f":"COUNTIF($L$7:$L$500,N10)","v":0},{"$f":"O10/$Q$4","v":0},{"$f":"IF(P10=0,0,(P10*((LOG(P10))/LOG(2))))","v":0},null,null,{"$f":"N10","v":122},{"$f":"COUNTIF(L7:L14,T10)","v":0},{"$f":"U10/(W4-U11)","v":0},{"$f":"IF(V10=0,0,(V10*((LOG(V10))/LOG(2))))","v":0},null,{"$f":"N10","v":122},{"$f":"COUNTIF(L15:L23,Y10)","v":0},{"$f":"Z10/(AB4-Z11)","v":0},{"$f":"IF(AA10=0,0,(AA10*((LOG(AA10))/LOG(2))))","v":0},null,{"$f":"N10","v":122},{"$f":"COUNTIF(L24:L31,AD10)","v":0},{"$f":"AE10/(AG4-AE11)","v":{"$error":"#DIV/0!"}},{"$f":"IF(AF10=0,0,(AF10*((LOG(AF10))/LOG(2))))","v":{"$error":"#DIV/0!"}},null,{"$f":"N10","v":122},{"$f":"COUNTIF(L32:L39,AI10)","v":0},{"$f":"AJ10/(AL4-AJ11)","v":0},{"$f":"IF(AK10=0,0,(AK10*((LOG(AK10))/LOG(2))))","v":0},null,{"$f":"N10","v":122},{"$f":"COUNTIF(L40:L48,AN10)","v":0},{"$f":"AO10/(AQ4-AO11)","v":0},{"$f":"IF(AP10=0,0,(AP10*((LOG(AP10))/LOG(2))))","v":0},null,{"$f":"N10","v":122},{"$f":"COUNTIF(L49:L56,AS10)","v":0},{"$f":"AT10/(AV4-AT11)","v":0},{"$f":"IF(AU10=0,0,(AU10*((LOG(AU10))/LOG(2))))","v":0}]
[21,529,11,543,11,550,null,null,null,null,0,211,null,211,{"$f":"COUNTIF($L$7:$L$500,N11)","v":40},{"$f":"O11/$Q$4","v":0.8},{"$f":"IF(P11=0,0,(P11*((LOG(P11))/LOG(2))))","v":-0.25754247590988982},null,null,{"$f":"N11","v":211},{"$f":"COUNTIF(L7:L14,T11)","v":5},null,null,null,{"$f":"N11","v":211},{"$f":"COUNTIF(L15:L23,Y11)","v":7},null,null,null,{"$f":"N11","v":211},{"$f":"COUNTIF(L24:L31,AD11)","v":8},null,null,null,{"$f":"N11","v":211},{"$f":"COUNTIF(L32:L39,AI11)","v":7},null,null,null,{"$f":"N11","v":211},{"$f":"COUNTIF(L40:L48,AN11)","v":6},null,null,null,{"$f":"N11","v":211},{"$f":"COUNTIF(L49:L56,AS11)","v":7}]
[12,661,13,670,13,686,null,null,null,null,0,111,null,212,{"$f":"COUNTIF($L$7:$L$500,N12)","v":0},{"$f":"O12/$Q$4","v":0},{"$f":"IF(P12=0,0,(P12*((LOG(P12))/LOG(2))))","v":0},null,null,{"$f":"N12","v":212},{"$f":"COUNTIF(L7:L14,T12)","v":0},{"$f":"U12/(W4-U11)","v":0},{"$f":"IF(V12=0,0,(V12*((LOG(V12))/LOG(2))))","v":0},null,{"$f":"N12","v":212},{"$f":"COUNTIF(L15:L23,Y12)","v":0},{"$f":"Z12/(AB4-Z11)","v":0},{"$f":"IF(AA12=0,0,(AA12*((LOG(AA12))/LOG(2))))","v":0},null,{"$f":"N12","v":212},{"$f":"COUNTIF(L24:L31,AD12)","v":0},{"$f":"AE12/(AG4-AE11)","v":{"$error":"#DIV/0!"}},{"$f":"IF(AF12=0,0,(AF12*((LOG(AF12))/LOG(2))))","v":{"$error":"#DIV/0!"}},null,{"$f":"N12","v":212},{"$f":"COUNTIF(L32:L39,AI12)","v":0},{"$f":"AJ12/(AL4-AJ11)","v":0},{"$f":"IF(AK12=0,0,(AK12*((LOG(AK12))/LOG(2))))","v":0},null,{"$f":"N12","v":212},{"$f":"COUNTIF(L40:L48,AN12)","v":0},{"$f":"AO12/(AQ4-AO11)","v":0},{"$f":"IF(AP12=0,0,(AP12*((LOG(AP12))/LOG(2))))","v":0},null,{"$f":"N12","v":212},{"$f":"COUNTIF(L49:L56,AS12)","v":0},{"$f":"AT12/(AV4-AT11)","v":0},{"$f":"IF(AU12=0,0,(AU12*((LOG(AU12))/LOG(2))))","v":0}]
[12,804,13,809,13,818,null,null,null,null,0,111,null,221,{"$f":"COUNTIF($L$7:$L$500,N13)","v":0},{"$f":"O13/$Q$4","v":0},{"$f":"IF(P13=0,0,(P13*((LOG(P13))/LOG(2))))","v":0},null,null,{"$f":"N13","v":221},{"$f":"COUNTIF(L7:L14,T13)","v":0},{"$f":"U13/(W4-U11)","v":0},{"$f":"IF(V13=0,0,(V13*((LOG(V13))/LOG(2))))","v":0},null,{"$f":"N13","v":221},{"$f":"COUNTIF(L15:L23,Y13)","v":0},{"$f":"Z13/(AB4-Z11)","v":0},{"$f":"IF(AA13=0,0,(AA13*((LOG(AA13))/LOG(2))))","v":0},null,{"$f":"N13","v":221},{"$f":"COUNTIF(L24:L31,AD13)","v":0},{"$f":"AE13/(AG4-AE11)","v":{"$error":"#DIV/0!"}},{"$f":"IF(AF13=0,0,(AF13*((LOG(AF13))/LOG(2))))","v":{"$error":"#DIV/0!"}},null,{"$f":"N13","v":221},{"$f":"COUNTIF(L32:L39,AI13)","v":0},{"$f":"AJ13/(AL4-AJ11)","v":0},{"$f":"IF(AK13=0,0,(AK13*((LOG(AK13))/LOG(2))))","v":0},null,{"$f":"N13","v":221},{"$f":"COUNTIF(L40:L48,AN13)","v":0},{"$f":"AO13/(AQ4-AO11)","v":0},{"$f":"IF(AP13=0,0,(AP13*((LOG(AP13))/LOG(2))))","v":0},null,{"$f":"N13","v":221},{"$f":"COUNTIF(L49:L56,AS13)","v":0},{"$f":"AT13/(AV4-AT11)","v":0},{"$f":"IF(AU13=0,0,(AU13*((LOG(AU13))/LOG(2))))","v":0}]
[21,923,11,937,11,944,null,null,null,null,0,211,null,222,{"$f":"COUNTIF($L$7:$L$500,N14)","v":0},{"$f":"O14/$Q$4","v":0},{"$f":"IF(P14=0,0,(P14*((LOG(P14))/LOG(2))))","v":0},null,null,{"$f":"N14","v":222},{"$f":"COUNTIF(L7:L14,T14)","v":0},{"$f":"U14/(W4-U11)","v":0},{"$f":"IF(V14=0,0,(V14*((LOG(V14))/LOG(2))))","v":0},null,{"$f":"N14","v":222},{"$f":"COUNTIF(L15:L23,Y14)","v":0},{"$f":"Z14/(AB4-Z11)","v":0},{"$f":"IF(AA14=0,0,(AA14*((LOG(AA14))/LOG(2))))","v":0},null,{"$f":"N14","v":222},{"$f":"COUNTIF(L24:L31,AD14)","v":0},{"$f":"AE14/(AG4-AE11)","v":{"$error":"#DIV/0!"}},{"$f":"IF(AF14=0,0,(AF14*((LOG(AF14))/LOG(2))))","v":{"$error":"#DIV/0!"}},null,{"$f":"N14","v":222},{"$f":"COUNTIF(L32:L39,AI14)","v":0},{"$f":"AJ14/(AL4-AJ11)","v":0},{"$f":"IF(AK14=0,0,(AK14*((LOG(AK14))/LOG(2))))","v":0},null,{"$f":"N14","v":222},{"$f":"COUNTIF(L40:L48,AN14)","v":0},{"$f":"AO14/(AQ4-AO11)","v":0},{"$f":"IF(AP14=0,0,(AP14*((LOG(AP14))/LOG(2))))","v":0},null,{"$f":"N14","v":222},{"$f":"COUNTIF(L49:L56,AS14)","v":0},{"$f":"AT14/(AV4-AT11)","v":0},{"$f":"IF(AU14=0,0,(AU14*((LOG(AU14))/LOG(2))))","v":0}]
[12,1047,13,1053,13,1062,null,null,null,null,0,111,null,null,null,{"$f":"SUM(P7:P14)","v":1},{"$f":"-SUM(Q7:Q14)","v":0.72192809488736231},null,null,null,null,{"$f":"SUM(V7:V14)","v":1},{"$f":"-SUM(W7:W14)","v":0},null,null,null,{"$f":"SUM(AA7:AA14)","v":1},{"$f":"-SUM(AB7:AB14)","v":0},null,null,null,{"$f":"SUM(AF7:AF14)","v":{"$error":"#DIV/0!"}},{"$f":"-SUM(AG7:AG14)","v":{"$error":"#DIV/0!"}},null,null,null,{"$f":"SUM(AK7:AK14)","v":1},{"$f":"-SUM(AL7:AL14)","v":0},null,null,null,{"$f":"SUM(AP7:AP14)","v":1},{"$f":"-SUM(AQ7:AQ14)","v":0},null,null,null,{"$f":"SUM(AU7:AU14)","v":1},{"$f":"-SUM(AV7:AV14)","v":0}]
[21,1163,11,1177,11,1182,null,null,null,null,0,211,null,null,null,"U=",{"$f":"Q15/(LOG(Q4)/LOG(2))","v":0.12791397771532839},null,null,null,null,"U1=",{"$f":"W15/(LOG(W4)/LOG(2))","v":0},null,null,null,"U2=",{"$f":"AB15/(LOG(AB4)/LOG(2))","v":0},null,null,null,"U3=",{"$f":"AG15/(LOG(AG4)/LOG(2))","v":{"$error":"#DIV/0!"}},null,null,null,"U4=",{"$f":"AL15/(LOG(AL4)/LOG(2))","v":0},null,null,null,"U5=",{"$f":"AQ15/(LOG(AQ4)/LOG(2))","v":0},null,null,null,"U6=",{"$f":"AV15/(LOG(AV4)/LOG(2))","v":0}]
[21,1278,11,1293,11,1299,null,null,null,null,0,211]
[21,1396,11,1414,11,1422,null,null,null,null,0,211]
[21,1519,11,1532,11,1542,null,null,null,null,0,211,null,"Total Target Seq"]
[21,1642,11,1653,11,1663,null,null,null,null,0,211,null,{"$f":"COUNTIF(L7:L56,G3)","v":40},null,8,9,8,8,9,8]
[21,1755,11,1774,11,1784,null,null,null,null,0,211,null,null,null,"% of reinforcement given in 6 equal intervals based on number of trials "]
[12,1898,13,1910,13,1926,null,null,null,null,0,111,null,null,null,"%_1","%_2","%_3","%_4","%_5","%_6"]
[21,2031,11,2044,11,2053,null,null,null,null,0,211,null,null,"target sequence",{"$f":"$G$3","v":211},{"$f":"$G$3","v":211},{"$f":"$G$3","v":211},{"$f":"$G$3","v":211},{"$f":"$G$3","v":211},{"$f":"$G$3","v":211}]
[21,2150,11,2160,11,2171,null,null,null,null,0,211,null,null,"total reinforcement",{"$f":"U11","v":5},{"$f":"Z11","v":7},{"$f":"AE11","v":8},{"$f":"AJ11","v":7},{"$f":"AO11","v":6},{"$f":"AT11","v":7}]
[21,2267,11,2276,11,2285,null,null,null,null,0,211,null,null,"% target"]
[21,2384,11,2404,11,2428,null,null,null,null,0,211,null,null,"CCRF"]
[21,2525,11,2536,11,2541,null,null,null,null,0,211,null,null,"% CCRf"]
[21,2642,11,2657,11,2667,null,null,null,null,0,211,null,null,"average response rate",{"$f":"F14/P20","v":118},{"$f":"(F23-F14)/Q20","v":123.22222222222223},{"$f":"(F31-F23)/R20","v":120.125},{"$f":"(F39-F31)/S20","v":118.375},{"$f":"(F48-F39)/T20","v":124.11111111111111},{"$f":"(F56-F48)/U20","v":121.625}]
[21,2765,11,2774,11,2781,null,null,null,null,0,211]
[21,2881,11,2890,11,2900,null,null,null,null,0,211]
[21,2994,11,3008,11,3014,null,null,null,null,0,211]
[21,3109,11,3119,11,3125,null,null,null,null,0,211]
[21,3221,11,3236,11,3247,null,null,null,null,0,211]
[21,3344,11,3354,11,3365,null,null,null,null,0,211]
[21,3458,11,3471,11,3481,null,null,null,null,0,211]
[21,3574,11,3587,11,3597,null,null,null,null,0,211]
[21,3689,11,3703,11,3709,null,null,null,null,0,211]
[21,3802,11,3816,11,3823,null,null,null,null,0,211]
[12,3927,13,3932,13,3961,null,null,null,null,0,111]
[21,4064,11,4078,11,4086,null,null,null,null,0,211]
[12,4192,13,4197,13,4206,null,null,null,null,0,111]
[21,4308,11,4321,11,4331,null,null,null,null,0,211]
[12,4440,13,4454,13,4468,null,null,null,null,0,111]
[21,4571,11,4587,11,4593,null,null,null,null,0,211]
[21,4686,11,4698,11,4705,null,null,null,null,0,211]
[21,4801,11,4815,11,4826,null,null,null,null,0,211]
[21,4922,11,4939,11,4950,null,null,null,null,0,211]
[12,5055,13,5060,13,5078,null,null,null,null,0,111]
[21,5181,11,5195,11,5201,null,null,null,null,0,211]
[21,5296,11,5320,11,5333,null,null,null,null,0,211]
[12,5438,13,5448,13,5463,null,null,null,null,0,111]
[21,5562,11,5581,11,5594,null,null,null,null,0,211]
[21,5687,11,5697,11,5701,null,null,null,null,0,211]
[21,5796,11,5809,11,5819,null,null,null,null,0,211]
[21,5911,11,5920,11,5925,null,null,null,null,0,211]
[21,6021,11,6036,11,6051,null,null,null,null,1,211]

{"sheet":"!N330800.010","index":7,"n_rows":62,"n_cols":48,"rows_kept":62,"cut":false,"hidden":false,"merged":[[4,39,4,42],[5,39,5,40],[4,44,4,47],[5,44,5,45],[4,24,4,27],[5,24,5,25],[4,29,4,32],[5,29,5,30],[4,34,4,37],[5,34,5,35],[1,1,1,2],[5,13,5,14],[18,13,18,14],[19,13,19,14],[4,19,4,22],[5,19,5,20]]}
["Report for:!N330800.010"]
["Date:","<date>"]
["Hen:","<hen>",null,null,null,"Correct Sequence",{"$f":"Start!J2","v":211},null,null,null,null,null,null,null,null,"Total Sequences in Data",{"$f":"4994-COUNTBLANK(L7:L5000)","v":56},null,null,null,null,"Total Sequences in Block Data",{"$f":"COUNTA(L7:L15)","v":9},null,null,null,"Total Sequences in Block Data",{"$f":"COUNTA(L16:L25)","v":10},null,null,null,"Total Sequences in Block Data",{"$f":"COUNTA(L26:L34)","v":9},null,null,null,"Total Sequences in Block Data",{"$f":"COUNTA(L35:L43)","v":9},null,null,null,"Total Sequences in Block Data",{"$f":"COUNTA(L44:L53)","v":10},null,null,null,"Total Sequences in Block Data",{"$f":"COUNTA(L54:L62)","v":9}]
[null,null,null,null,null,null,null,null,null,null,null,null,null,null,null,"Total Sequences in Summary",{"$f":"SUM(O7:O14)","v":56},null,null,null,null,"Total Sequences in Block Summary",{"$f":"SUM(U7:U14)","v":9},null,null,null,"Total Sequences in Block Summary",{"$f":"SUM(Z7:Z14)","v":10},null,null,null,"Total Sequences in Block Summary",{"$f":"SUM(AE7:AE14)","v":9},null,null,null,"Total Sequences in Block Summary",{"$f":"SUM(AJ7:AJ14)","v":9},null,null,null,"Total Sequences in Block Summary",{"$f":"SUM(AO7:AO14)","v":10},null,null,null,"Total Sequences in Block Summary",{"$f":"SUM(AT7:AT14)","v":9}]
[null,null,null,null,null,null,null,null,null,null,null,null,null,null,null,null,null,null,null,"Block 1",null,null,null,null,"Block 2",null,null,null,null,"Block 3",null,null,null,null,"Block 4",null,null,null,null,"Block 5",null,null,null,null,"Block 6"]
["Sequence\nComponent\n1","Time\n1","Sequence\nComponent\n2","Time\n2","Sequence\nComponent\n3","Time\n3","Sequence\nComponent\n4","Time\n4","Sequence\nComponent\n5","Time\n5","Correct?\n0=No 1=Yes","Sequence",null,"Frequency",null,"Relative Frequency","Variability",null,null,"Frequency",null,"Relative Frequency","Variability",null,"Frequency",null,"Relative Frequency","Variability",null,"Frequency",null,"Relative Frequency","Variability",null,"Frequency",null,"Relative Frequency","Variability",null,"Frequency",null,"Relative Frequency","Variability",null,"Frequency",null,"Relative Frequency","Variability"]
[12,22,13,28,13,33,null,null,null,null,0,111,null,111,{"$f":"COUNTIF($L$7:$L$500,N7)","v":11},{"$f":"O7/$Q$4","v":0.19642857142857142},{"$f":"IF(P7=0,0,(P7*((LOG(P7))/LOG(2))))","v":-0.46119922031470312},null,null,{"$f":"N7","v":111},{"$f":"COUNTIF(L7:L15,T7)","v":1},{"$f":"U7/(W4-U11)","v":1},{"$f":"IF(V7=0,0,(V7*((LOG(V7))/LOG(2))))","v":0},null,{"$f":"N7","v":111},{"$f":"COUNTIF(L16:L25,Y7)","v":3},{"$f":"Z7/(AB4-Z11)","v":0.6},{"$f":"IF(AA7=0,0,(AA7*((LOG(AA7))/LOG(2))))","v":-0.44217935649972373},null,{"$f":"N7","v":111},{"$f":"COUNTIF(L26:L34,AD7)","v":4},{"$f":"AE7/(AG4-AE11)","v":1},{"$f":"IF(AF7=0,0,(AF7*((LOG(AF7))/LOG(2))))","v":0},null,{"$f":"N7","v":111},{"$f":"COUNTIF(L35:L43,AI7)","v":0},{"$f":"AJ7/(AL4-AJ11)","v":{"$error":"#DIV/0!"}},{"$f":"IF(AK7=0,0,(AK7*((LOG(AK7))/LOG(2))))","v":{"$error":"#DIV/0!"}},null,{"$f":"N7","v":111},{"$f":"COUNTIF(L44:L53,AN7)","v":2},{"$f":"AO7/(AQ4-AO11)","v":0.5},{"$f":"IF(AP7=0,0,(AP7*((LOG(AP7))/LOG(2))))","v":-0.5},null,{"$f":"N7","v":111},{"$f":"COUNTIF(L54:L62,AS7)","v":1},{"$f":"AT7/(AV4-AT11)","v":0.33333333333333331},{"$f":"IF(AU7=0,0,(AU7*((LOG(AU7))/LOG(2))))","v":-0.52832083357371862}]
[21,142,11,156,11,166,null,null,null,null,0,211,null,112,{"$f":"COUNTIF($L$7:$L$500,N8)","v":1},{"$f":"O8/$Q$4","v":1.7857142857142856E-2},{"$f":"IF(P8=0,0,(P8*((LOG(P8))/LOG(2))))","v":-0.10370276646531436},null,null,{"$f":"N8","v":112},{"$f":"COUNTIF(L7:L15,T8)","v":0},{"$f":"U8/(W4-U11)","v":0},{"$f":"IF(V8=0,0,(V8*((LOG(V8))/LOG(2))))","v":0},null,{"$f":"N8","v":112},{"$f":"COUNTIF(L16:L25,Y8)","v":0},{"$f":"Z8/(AB4-Z11)","v":0},{"$f":"IF(AA8=0,0,(AA8*((LOG(AA8))/LOG(2))))","v":0},null,{"$f":"N8","v":112},{"$f":"COUNTIF(L26:L34,AD8)","v":0},{"$f":"AE8/(AG4-AE11)","v":0},{"$f":"IF(AF8=0,0,(AF8*((LOG(AF8))/LOG(2))))","v":0},null,{"$f":"N8","v":112},{"$f":"COUNTIF(L35:L43,AI8)","v":0},{"$f":"AJ8/(AL4-AJ11)","v":{"$error":"#DIV/0!"}},{"$f":"IF(AK8=0,0,(AK8*((LOG(AK8))/LOG(2))))","v":{"$error":"#DIV/0!"}},null,{"$f":"N8","v":112},{"$f":"COUNTIF(L44:L53,AN8)","v":1},{"$f":"AO8/(AQ4-AO11)","v":0.25},{"$f":"IF(AP8=0,0,(AP8*((LOG(AP8))/LOG(2))))","v":-0.5},null,{"$f":"N8","v":112},{"$f":"COUNTIF(L54:L62,AS8)","v":0},{"$f":"AT8/(AV4-AT11)","v":0},{"$f":"IF(AU8=0,0,(AU8*((LOG(AU8))/LOG(2))))","v":0}]
[21,263,11,273,11,280,null,null,null,null,0,211,null,121,{"$f":"COUNTIF($L$7:$L$500,N9)","v":2},{"$f":"O9/$Q$4","v":3.5714285714285712E-2},{"$f":"IF(P9=0,0,(P9*((LOG(P9))/LOG(2))))","v":-0.17169124721634299},null,null,{"$f":"N9","v":121},{"$f":"COUNTIF(L7:L15,T9)","v":0},{"$f":"U9/(W4-U11)","v":0},{"$f":"IF(V9=0,0,(V9*((LOG(V9))/LOG(2))))","v":0},null,{"$f":"N9","v":121},{"$f":"COUNTIF(L16:L25,Y9)","v":1},{"$f":"Z9/(AB4-Z11)","v":0.2},{"$f":"IF(AA9=0,0,(AA9*((LOG(AA9))/LOG(2))))","v":-0.46438561897747244},null,{"$f":"N9","v":121},{"$f":"COUNTIF(L26:L34,AD9)","v":0},{"$f":"AE9/(AG4-AE11)","v":0},{"$f":"IF(AF9=0,0,(AF9*((LOG(AF9))/LOG(2))))","v":0},null,{"$f":"N9","v":121},{"$f":"COUNTIF(L35:L43,AI9)","v":0},{"$f":"AJ9/(AL4-AJ11)","v":{"$error":"#DIV/0!"}},{"$f":"IF(AK9=0,0,(AK9*((LOG(AK9))/LOG(2))))","v":{"$error":"#DIV/0!"}},null,{"$f":"N9","v":121},{"$f":"COUNTIF(L44:L53,AN9)","v":0},{"$f":"AO9/(AQ4-AO11)","v":0},{"$f":"IF(AP9=0,0,(AP9*((LOG(AP9))/LOG(2))))","v":0},null,{"$f":"N9","v":121},{"$f":"COUNTIF(L54:L62,AS9)","v":1},{"$f":"AT9/(AV4-AT11)","v":0.33333333333333331},{"$f":"IF(AU9=0,0,(AU9*((LOG(AU9))/LOG(2))))","v":-0.52832083357371862}]
[21,376,11,386,11,394,null,null,null,null,0,211,null,122,{"$f":"COUNTIF($L$7:$L$500,N10)","v":0},{"$f":"O10/$Q$4","v":0},{"$f":"IF(P10=0,0,(P10*((LOG(P10))/LOG(2))))","v":0},null,null,{"$f":"N10","v":122},{"$f":"COUNTIF(L7:L15,T10)","v":0},{"$f":"U10/(W4-U11)","v":0},{"$f":"IF(V10=0,0,(V10*((LOG(V10))/LOG(2))))","v":0},null,{"$f":"N10","v":122},{"$f":"COUNTIF(L16:L25,Y10)","v":0},{"$f":"Z10/(AB4-Z11)","v":0},{"$f":"IF(AA10=0,0,(AA10*((LOG(AA10))/LOG(2))))","v":0},null,{"$f":"N10","v":122},{"$f":"COUNTIF(L26:L34,AD10)","v":0},{"$f":"AE10/(AG4-AE11)","v":0},{"$f":"IF(AF10=0,0,(AF10*((LOG(AF10))/LOG(2))))","v":0},null,{"$f":"N10","v":122},{"$f":"COUNTIF(L35:L43,AI10)","v":0},{"$f":"AJ10/(AL4-AJ11)","v":{"$error":"#DIV/0!"}},{"$f":"IF(AK10=0,0,(AK10*((LOG(AK10))/LOG(2))))","v":{"$error":"#DIV/0!"}},null,{"$f":"N10","v":122},{"$f":"COUNTIF(L44:L53,AN10)","v":0},{"$f":"AO10/(AQ4-AO11)","v":0},{"$f":"IF(AP10=0,0,(AP10*((LOG(AP10))/LOG(2))))","v":0},null,{"$f":"N10","v":122},{"$f":"COUNTIF(L54:L62,AS10)","v":0},{"$f":"AT10/(AV4-AT11)","v":0},{"$f":"IF(AU10=0,0,(AU10*((LOG(AU10))/LOG(2))))","v":0}]
[21,491,11,508,11,537,null,null,null,null,0,211,null,211,{"$f":"COUNTIF($L$7:$L$500,N11)","v":39},{"$f":"O11/$Q$4","v":0.6964285714285714},{"$f":"IF(P11=0,0,(P11*((LOG(P11))/LOG(2))))","v":-0.36350277543962278},null,null,{"$f":"N11","v":211},{"$f":"COUNTIF(L7:L15,T11)","v":8},null,null,null,{"$f":"N11","v":211},{"$f":"COUNTIF(L16:L25,Y11)","v":5},null,null,null,{"$f":"N11","v":211},{"$f":"COUNTIF(L26:L34,AD11)","v":5},null,null,null,{"$f":"N11","v":211},{"$f":"COUNTIF(L35:L43,AI11)","v":9},null,null,null,{"$f":"N11","v":211},{"$f":"COUNTIF(L44:L53,AN11)","v":6},null,null,null,{"$f":"N11","v":211},{"$f":"COUNTIF(L54:L62,AS11)","v":6}]
[21,631,11,642,11,649,null,null,null,null,0,211,null,212,{"$f":"COUNTIF($L$7:$L$500,N12)","v":2},{"$f":"O12/$Q$4","v":3.5714285714285712E-2},{"$f":"IF(P12=0,0,(P12*((LOG(P12))/LOG(2))))","v":-0.17169124721634299},null,null,{"$f":"N12","v":212},{"$f":"COUNTIF(L7:L15,T12)","v":0},{"$f":"U12/(W4-U11)","v":0},{"$f":"IF(V12=0,0,(V12*((LOG(V12))/LOG(2))))","v":0},null,{"$f":"N12","v":212},{"$f":"COUNTIF(L16:L25,Y12)","v":1},{"$f":"Z12/(AB4-Z11)","v":0.2},{"$f":"IF(AA12=0,0,(AA12*((LOG(AA12))/LOG(2))))","v":-0.46438561897747244},null,{"$f":"N12","v":212},{"$f":"COUNTIF(L26:L34,AD12)","v":0},{"$f":"AE12/(AG4-AE11)","v":0},{"$f":"IF(AF12=0,0,(AF12*((LOG(AF12))/LOG(2))))","v":0},null,{"$f":"N12","v":212},{"$f":"COUNTIF(L35:L43,AI12)","v":0},{"$f":"AJ12/(AL4-AJ11)","v":{"$error":"#DIV/0!"}},{"$f":"IF(AK12=0,0,(AK12*((LOG(AK12))/LOG(2))))","v":{"$error":"#DIV/0!"}},null,{"$f":"N12","v":212},{"$f":"COUNTIF(L44:L53,AN12)","v":0},{"$f":"AO12/(AQ4-AO11)","v":0},{"$f":"IF(AP12=0,0,(AP12*((LOG(AP12))/LOG(2))))","v":0},null,{"$f":"N12","v":212},{"$f":"COUNTIF(L54:L62,AS12)","v":1},{"$f":"AT12/(AV4-AT11)","v":0.33333333333333331},{"$f":"IF(AU12=0,0,(AU12*((LOG(AU12))/LOG(2))))","v":-0.52832083357371862}]
[21,748,11,759,11,765,null,null,null,null,0,211,null,221,{"$f":"COUNTIF($L$7:$L$500,N13)","v":1},{"$f":"O13/$Q$4","v":1.7857142857142856E-2},{"$f":"IF(P13=0,0,(P13*((LOG(P13))/LOG(2))))","v":-0.10370276646531436},null,null,{"$f":"N13","v":221},{"$f":"COUNTIF(L7:L15,T13)","v":0},{"$f":"U13/(W4-U11)","v":0},{"$f":"IF(V13=0,0,(V13*((LOG(V13))/LOG(2))))","v":0},null,{"$f":"N13","v":221},{"$f":"COUNTIF(L16:L25,Y13)","v":0},{"$f":"Z13/(AB4-Z11)","v":0},{"$f":"IF(AA13=0,0,(AA13*((LOG(AA13))/LOG(2))))","v":0},null,{"$f":"N13","v":221},{"$f":"COUNTIF(L26:L34,AD13)","v":0},{"$f":"AE13/(AG4-AE11)","v":0},{"$f":"IF(AF13=0,0,(AF13*((LOG(AF13))/LOG(2))))","v":0},null,{"$f":"N13","v":221},{"$f":"COUNTIF(L35:L43,AI13)","v":0},{"$f":"AJ13/(AL4-AJ11)","v":{"$error":"#DIV/0!"}},{"$f":"IF(AK13=0,0,(AK13*((LOG(AK13))/LOG(2))))","v":{"$error":"#DIV/0!"}},null,{"$f":"N13","v":221},{"$f":"COUNTIF(L44:L53,AN13)","v":1},{"$f":"AO13/(AQ4-AO11)","v":0.25},{"$f":"IF(AP13=0,0,(AP13*((LOG(AP13))/LOG(2))))","v":-0.5},null,{"$f":"N13","v":221},{"$f":"COUNTIF(L54:L62,AS13)","v":0},{"$f":"AT13/(AV4-AT11)","v":0},{"$f":"IF(AU13=0,0,(AU13*((LOG(AU13))/LOG(2))))","v":0}]
[21,861,11,875,11,901,null,null,null,null,0,211,null,222,{"$f":"COUNTIF($L$7:$L$500,N14)","v":0},{"$f":"O14/$Q$4","v":0},{"$f":"IF(P14=0,0,(P14*((LOG(P14))/LOG(2))))","v":0},null,null,{"$f":"N14","v":222},{"$f":"COUNTIF(L7:L15,T14)","v":0},{"$f":"U14/(W4-U11)","v":0},{"$f":"IF(V14=0,0,(V14*((LOG(V14))/LOG(2))))","v":0},null,{"$f":"N14","v":222},{"$f":"COUNTIF(L16:L25,Y14)","v":0},{"$f":"Z14/(AB4-Z11)","v":0},{"$f":"IF(AA14=0,0,(AA14*((LOG(AA14))/LOG(2))))","v":0},null,{"$f":"N14","v":222},{"$f":"COUNTIF(L26:L34,AD14)","v":0},{"$f":"AE14/(AG4-AE11)","v":0},{"$f":"IF(AF14=0,0,(AF14*((LOG(AF14))/LOG(2))))","v":0},null,{"$f":"N14","v":222},{"$f":"COUNTIF(L35:L43,AI14)","v":0},{"$f":"AJ14/(AL4-AJ11)","v":{"$error":"#DIV/0!"}},{"$f":"IF(AK14=0,0,(AK14*((LOG(AK14))/LOG(2))))","v":{"$error":"#DIV/0!"}},null,{"$f":"N14","v":222},{"$f":"COUNTIF(L44:L53,AN14)","v":0},{"$f":"AO14/(AQ4-AO11)","v":0},{"$f":"IF(AP14=0,0,(AP14*((LOG(AP14))/LOG(2))))","v":0},null,{"$f":"N14","v":222},{"$f":"COUNTIF(L54:L62,AS14)","v":0},{"$f":"AT14/(AV4-AT11)","v":0},{"$f":"IF(AU14=0,0,(AU14*((LOG(AU14))/LOG(2))))","v":0}]
[21,994,11,1008,11,1017,null,null,null,null,0,211,null,null,null,{"$f":"SUM(P7:P14)","v":1},{"$f":"-SUM(Q7:Q14)","v":1.3754900231176406},null,null,null,null,{"$f":"SUM(V7:V14)","v":1},{"$f":"-SUM(W7:W14)","v":0},null,null,null,{"$f":"SUM(AA7:AA14)","v":1},{"$f":"-SUM(AB7:AB14)","v":1.3709505944546687},null,null,null,{"$f":"SUM(AF7:AF14)","v":1},{"$f":"-SUM(AG7:AG14)","v":0},null,null,null,{"$f":"SUM(AK7:AK14)","v":{"$error":"#DIV/0!"}},{"$f":"-SUM(AL7:AL14)","v":{"$error":"#DIV/0!"}},null,null,null,{"$f":"SUM(AP7:AP14)","v":1},{"$f":"-SUM(AQ7:AQ14)","v":1.5},null,null,null,{"$f":"SUM(AU7:AU14)","v":1},{"$f":"-SUM(AV7:AV14)","v":1.5849625007211559}]
[21,1109,11,1122,22,1149,null,null,null,null,0,212,null,null,null,"U=",{"$f":"Q15/(LOG(Q4)/LOG(2))","v":0.23685310121019615},null,null,null,null,"U1=",{"$f":"W15/(LOG(W4)/LOG(2))","v":0},null,null,null,"U2=",{"$f":"AB15/(LOG(AB4)/LOG(2))","v":0.41269725150422137},null,null,null,"U3=",{"$f":"AG15/(LOG(AG4)/LOG(2))","v":0},null,null,null,"U4=",{"$f":"AL15/(LOG(AL4)/LOG(2))","v":{"$error":"#DIV/0!"}},null,null,null,"U5=",{"$f":"AQ15/(LOG(AQ4)/LOG(2))","v":0.45154499349597182},null,null,null,"U6=",{"$f":"AV15/(LOG(AV4)/LOG(2))","v":0.49999999999999994}]
[21,1245,11,1261,11,1271,null,null,null,null,0,211]
[21,1366,11,1377,11,1388,null,null,null,null,0,211]
[12,1495,13,1506,13,1527,null,null,null,null,0,111,null,"Total Target Seq"]
[21,1636,11,1646,11,1651,null,null,null,null,0,211,null,{"$f":"COUNTIF(L7:L62,G3)","v":39},null,9,10,9,9,10,9]
[12,1755,13,1762,13,1768,null,null,null,null,0,111,null,null,null,"% of reinforcement given in 6 equal intervals based on number of trials "]
[21,1873,11,1882,11,1890,null,null,null,null,0,211,null,null,null,"%_1","%_2","%_3","%_4","%_5","%_6"]
[21,1984,11,1994,11,2001,null,null,null,null,0,211,null,null,"target sequence",{"$f":"$G$3","v":211},{"$f":"$G$3","v":211},{"$f":"$G$3","v":211},{"$f":"$G$3","v":211},{"$f":"$G$3","v":211},{"$f":"$G$3","v":211}]
[12,2106,24,2130,13,2145,null,null,null,null,0,121,null,null,"total reinforcement",{"$f":"U11","v":8},{"$f":"Z11","v":5},{"$f":"AE11","v":5},{"$f":"AJ11","v":9},{"$f":"AO11","v":6},{"$f":"AT11","v":6}]
[12,2252,13,2261,13,2268,null,null,null,null,0,111,null,null,"% target"]
[12,2378,13,2382,13,2387,null,null,null,null,0,111,null,null,"CCRF"]
[21,2496,11,2508,11,2513,null,null,null,null,0,211,null,null,"% CCRf"]
[21,2604,11,2621,11,2628,null,null,null,null,0,211,null,null,"average response rate",{"$f":"F15/P20","v":113},{"$f":"(F25-F15)/Q20","v":125.1},{"$f":"(F34-F25)/R20","v":127.66666666666667},{"$f":"(F43-F34)/S20","v":120.11111111111111},{"$f":"(F53-F43)/T20","v":124.7},{"$f":"(F62-F53)/U20","v":121}]
[12,2730,13,2736,13,2772,null,null,null,null,0,111]
[12,2883,13,2895,13,2908,null,null,null,null,0,111]
[21,3015,11,3030,11,3044,null,null,null,null,0,211]
[21,3140,11,3150,11,3157,null,null,null,null,0,211]
[12,3269,13,3278,13,3296,null,null,null,null,0,111]
[21,3401,11,3411,11,3417,null,null,null,null,0,211]
[21,3510,11,3523,11,3528,null,null,null,null,0,211]
[21,3645,11,3660,11,3686,null,null,null,null,0,211]
[21,3775,11,3786,11,3797,null,null,null,null,0,211]
[21,3891,11,3900,11,3907,null,null,null,null,0,211]
[21,4000,11,4018,11,4033,null,null,null,null,0,211]
[21,4132,11,4141,11,4148,null,null,null,null,0,211]
[21,4242,11,4255,11,4267,null,null,null,null,0,211]
[21,4362,11,4375,11,4381,null,null,null,null,0,211]
[21,4476,11,4489,11,4498,null,null,null,null,0,211]
[21,4589,22,4598,13,4608,null,null,null,null,0,221]
[21,4714,11,4723,11,4733,null,null,null,null,0,211]
[12,4843,13,4850,24,4885,null,null,null,null,0,112]
[21,4993,11,5006,11,5016,null,null,null,null,0,211]
[12,5120,13,5125,13,5135,null,null,null,null,0,111]
[21,5238,11,5250,11,5256,null,null,null,null,0,211]
[21,5352,11,5368,11,5378,null,null,null,null,0,211]
[21,5471,11,5480,11,5490,null,null,null,null,0,211]
[12,5591,13,5600,13,5621,null,null,null,null,0,111]
[21,5725,11,5739,11,5745,null,null,null,null,0,211]
[21,5842,11,5851,11,5860,null,null,null,null,0,211]
[21,5955,11,5974,11,5988,null,null,null,null,0,211]
[12,6094,24,6109,13,6120,null,null,null,null,0,121]
[21,6225,11,6235,22,6253,null,null,null,null,0,212]
[21,6359,11,6367,11,6376,null,null,null,null,0,211]
[21,6466,11,6482,11,6488,null,null,null,null,0,211]
[12,6586,13,6591,13,6601,null,null,null,null,0,111]
[21,6706,11,6719,11,6724,null,null,null,null,0,211]
[21,6817,11,6825,11,6834,null,null,null,null,1,211]

{"sheet":"!N331750.010","index":8,"n_rows":57,"n_cols":48,"rows_kept":57,"cut":false,"hidden":false,"merged":[[4,39,4,42],[5,39,5,40],[4,44,4,47],[5,44,5,45],[4,24,4,27],[5,24,5,25],[4,29,4,32],[5,29,5,30],[4,34,4,37],[5,34,5,35],[1,1,1,2],[5,13,5,14],[18,13,18,14],[19,13,19,14],[4,19,4,22],[5,19,5,20]]}
["Report for:!N331750.010"]
["Date:","<date>"]
["Hen:","<hen>",null,null,null,"Correct Sequence",{"$f":"Start!J2","v":211},null,null,null,null,null,null,null,null,"Total Sequences in Data",{"$f":"4994-COUNTBLANK(L7:L5000)","v":51},null,null,null,null,"Total Sequences in Block Data",{"$f":"COUNTA(L7:L15)","v":9},null,null,null,"Total Sequences in Block Data",{"$f":"COUNTA(L16:L23)","v":8},null,null,null,"Total Sequences in Block Data",{"$f":"COUNTA(L24:L32)","v":9},null,null,null,"Total Sequences in Block Data",{"$f":"COUNTA(L33:L40)","v":8},null,null,null,"Total Sequences in Block Data",{"$f":"COUNTA(L41:L49)","v":9},null,null,null,"Total Sequences in Block Data",{"$f":"COUNTA(L50:L57)","v":8}]
[null,null,null,null,null,null,null,null,null,null,null,null,null,null,null,"Total Sequences in Summary",{"$f":"SUM(O7:O14)","v":51},null,null,null,null,"Total Sequences in Block Summary",{"$f":"SUM(U7:U14)","v":9},null,null,null,"Total Sequences in Block Summary",{"$f":"SUM(Z7:Z14)","v":8},null,null,null,"Total Sequences in Block Summary",{"$f":"SUM(AE7:AE14)","v":9},null,null,null,"Total Sequences in Block Summary",{"$f":"SUM(AJ7:AJ14)","v":8},null,null,null,"Total Sequences in Block Summary",{"$f":"SUM(AO7:AO14)","v":9},null,null,null,"Total Sequences in Block Summary",{"$f":"SUM(AT7:AT14)","v":8}]
[null,null,null,null,null,null,null,null,null,null,null,null,null,null,null,null,null,null,null,"Block 1",null,null,null,null,"Block 2",null,null,null,null,"Block 3",null,null,null,null,"Block 4",null,null,null,null,"Block 5",null,null,null,null,"Block 6"]
["Sequence\nComponent\n1","Time\n1","Sequence\nComponent\n2","Time\n2","Sequence\nComponent\n3","Time\n3","Sequence\nComponent\n4","Time\n4","Sequence\nComponent\n5","Time\n5","Correct?\n0=No 1=Yes","Sequence",null,"Frequency",null,"Relative Frequency","Variability",null,null,"Frequency",null,"Relative Frequency","Variability",null,"Frequency",null,"Relative Frequency","Variability",null,"Frequency",null,"Relative Frequency","Variability",null,"Frequency",null,"Relative Frequency","Variability",null,"Frequency",null,"Relative Frequency","Variability",null,"Frequency",null,"Relative Frequency","Variability"]
[21,18,11,30,11,36,null,null,null,null,0,211,null,111,{"$f":"COUNTIF($L$7:$L$500,N7)","v":7},{"$f":"O7/$Q$4","v":0.13725490196078433},{"$f":"IF(P7=0,0,(P7*((LOG(P7))/LOG(2))))","v":-0.39324495959602429},null,null,{"$f":"N7","v":111},{"$f":"COUNTIF(L7:L15,T7)","v":0},{"$f":"U7/(W4-U11)","v":0},{"$f":"IF(V7=0,0,(V7*((LOG(V7))/LOG(2))))","v":0},null,{"$f":"N7","v":111},{"$f":"COUNTIF(L16:L23,Y7)","v":1},{"$f":"Z7/(AB4-Z11)","v":1},{"$f":"IF(AA7=0,0,(AA7*((LOG(AA7))/LOG(2))))","v":0},null,{"$f":"N7","v":111},{"$f":"COUNTIF(L24:L32,AD7)","v":3},{"$f":"AE7/(AG4-AE11)","v":0.75},{"$f":"IF(AF7=0,0,(AF7*((LOG(AF7))/LOG(2))))","v":-0.31127812445913283},null,{"$f":"N7","v":111},{"$f":"COUNTIF(L33:L40,AI7)","v":2},{"$f":"AJ7/(AL4-AJ11)","v":0.66666666666666663},{"$f":"IF(AK7=0,0,(AK7*((LOG(AK7))/LOG(2))))","v":-0.38997500048077083},null,{"$f":"N7","v":111},{"$f":"COUNTIF(L41:L49,AN7)","v":1},{"$f":"AO7/(AQ4-AO11)","v":1},{"$f":"IF(AP7=0,0,(AP7*((LOG(AP7))/LOG(2))))","v":0},null,{"$f":"N7","v":111},{"$f":"COUNTIF(L50:L57,AS7)","v":0},{"$f":"AT7/(AV4-AT11)","v":0},{"$f":"IF(AU7=0,0,(AU7*((LOG(AU7))/LOG(2))))","v":0}]
[21,140,11,150,11,156,null,null,null,null,0,211,null,112,{"$f":"COUNTIF($L$7:$L$500,N8)","v":2},{"$f":"O8/$Q$4","v":3.9215686274509803E-2},{"$f":"IF(P8=0,0,(P8*((LOG(P8))/LOG(2))))","v":-0.18323236635182338},null,null,{"$f":"N8","v":112},{"$f":"COUNTIF(L7:L15,T8)","v":1},{"$f":"U8/(W4-U11)","v":0.5},{"$f":"IF(V8=0,0,(V8*((LOG(V8))/LOG(2))))","v":-0.5},null,{"$f":"N8","v":112},{"$f":"COUNTIF(L16:L23,Y8)","v":0},{"$f":"Z8/(AB4-Z11)","v":0},{"$f":"IF(AA8=0,0,(AA8*((LOG(AA8))/LOG(2))))","v":0},null,{"$f":"N8","v":112},{"$f":"COUNTIF(L24:L32,AD8)","v":1},{"$f":"AE8/(AG4-AE11)","v":0.25},{"$f":"IF(AF8=0,0,(AF8*((LOG(AF8))/LOG(2))))","v":-0.5},null,{"$f":"N8","v":112},{"$f":"COUNTIF(L33:L40,AI8)","v":0},{"$f":"AJ8/(AL4-AJ11)","v":0},{"$f":"IF(AK8=0,0,(AK8*((LOG(AK8))/LOG(2))))","v":0},null,{"$f":"N8","v":112},{"$f":"COUNTIF(L41:L49,AN8)","v":0},{"$f":"AO8/(AQ4-AO11)","v":0},{"$f":"IF(AP8=0,0,(AP8*((LOG(AP8))/LOG(2))))","v":0},null,{"$f":"N8","v":112},{"$f":"COUNTIF(L50:L57,AS8)","v":0},{"$f":"AT8/(AV4-AT11)","v":0},{"$f":"IF(AU8=0,0,(AU8*((LOG(AU8))/LOG(2))))","v":0}]
[12,273,13,279,24,317,null,null,null,null,0,112,null,121,{"$f":"COUNTIF($L$7:$L$500,N9)","v":1},{"$f":"O9/$Q$4","v":1.9607843137254902E-2},{"$f":"IF(P9=0,0,(P9*((LOG(P9))/LOG(2))))","v":-0.11122402631316657},null,null,{"$f":"N9","v":121},{"$f":"COUNTIF(L7:L15,T9)","v":1},{"$f":"U9/(W4-U11)","v":0.5},{"$f":"IF(V9=0,0,(V9*((LOG(V9))/LOG(2))))","v":-0.5},null,{"$f":"N9","v":121},{"$f":"COUNTIF(L16:L23,Y9)","v":0},{"$f":"Z9/(AB4-Z11)","v":0},{"$f":"IF(AA9=0,0,(AA9*((LOG(AA9))/LOG(2))))","v":0},null,{"$f":"N9","v":121},{"$f":"COUNTIF(L24:L32,AD9)","v":0},{"$f":"AE9/(AG4-AE11)","v":0},{"$f":"IF(AF9=0,0,(AF9*((LOG(AF9))/LOG(2))))","v":0},null,{"$f":"N9","v":121},{"$f":"COUNTIF(L33:L40,AI9)","v":0},{"$f":"AJ9/(AL4-AJ11)","v":0},{"$f":"IF(AK9=0,0,(AK9*((LOG(AK9))/LOG(2))))","v":0},null,{"$f":"N9","v":121},{"$f":"COUNTIF(L41:L49,AN9)","v":0},{"$f":"AO9/(AQ4-AO11)","v":0},{"$f":"IF(AP9=0,0,(AP9*((LOG(AP9))/LOG(2))))","v":0},null,{"$f":"N9","v":121},{"$f":"COUNTIF(L50:L57,AS9)","v":0},{"$f":"AT9/(AV4-AT11)","v":0},{"$f":"IF(AU9=0,0,(AU9*((LOG(AU9))/LOG(2))))","v":0}]
[21,426,11,439,11,445,null,null,null,null,0,211,null,122,{"$f":"COUNTIF($L$7:$L$500,N10)","v":0},{"$f":"O10/$Q$4","v":0},{"$f":"IF(P10=0,0,(P10*((LOG(P10))/LOG(2))))","v":0},null,null,{"$f":"N10","v":122},{"$f":"COUNTIF(L7:L15,T10)","v":0},{"$f":"U10/(W4-U11)","v":0},{"$f":"IF(V10=0,0,(V10*((LOG(V10))/LOG(2))))","v":0},null,{"$f":"N10","v":122},{"$f":"COUNTIF(L16:L23,Y10)","v":0},{"$f":"Z10/(AB4-Z11)","v":0},{"$f":"IF(AA10=0,0,(AA10*((LOG(AA10))/LOG(2))))","v":0},null,{"$f":"N10","v":122},{"$f":"COUNTIF(L24:L32,AD10)","v":0},{"$f":"AE10/(AG4-AE11)","v":0},{"$f":"IF(AF10=0,0,(AF10*((LOG(AF10))/LOG(2))))","v":0},null,{"$f":"N10","v":122},{"$f":"COUNTIF(L33:L40,AI10)","v":0},{"$f":"AJ10/(AL4-AJ11)","v":0},{"$f":"IF(AK10=0,0,(AK10*((LOG(AK10))/LOG(2))))","v":0},null,{"$f":"N10","v":122},{"$f":"COUNTIF(L41:L49,AN10)","v":0},{"$f":"AO10/(AQ4-AO11)","v":0},{"$f":"IF(AP10=0,0,(AP10*((LOG(AP10))/LOG(2))))","v":0},null,{"$f":"N10","v":122},{"$f":"COUNTIF(L50:L57,AS10)","v":0},{"$f":"AT10/(AV4-AT11)","v":0},{"$f":"IF(AU10=0,0,(AU10*((LOG(AU10))/LOG(2))))","v":0}]
[21,548,11,563,11,571,null,null,null,null,0,211,null,211,{"$f":"COUNTIF($L$7:$L$500,N11)","v":39},{"$f":"O11/$Q$4","v":0.76470588235294112},{"$f":"IF(P11=0,0,(P11*((LOG(P11))/LOG(2))))","v":-0.29595885884824796},null,null,{"$f":"N11","v":211},{"$f":"COUNTIF(L7:L15,T11)","v":7},null,null,null,{"$f":"N11","v":211},{"$f":"COUNTIF(L16:L23,Y11)","v":7},null,null,null,{"$f":"N11","v":211},{"$f":"COUNTIF(L24:L32,AD11)","v":5},null,null,null,{"$f":"N11","v":211},{"$f":"COUNTIF(L33:L40,AI11)","v":5},null,null,null,{"$f":"N11","v":211},{"$f":"COUNTIF(L41:L49,AN11)","v":8},null,null,null,{"$f":"N11","v":211},{"$f":"COUNTIF(L50:L57,AS11)","v":7}]
[21,668,11,690,11,705,null,null,null,null,0,211,null,212,{"$f":"COUNTIF($L$7:$L$500,N12)","v":1},{"$f":"O12/$Q$4","v":1.9607843137254902E-2},{"$f":"IF(P12=0,0,(P12*((LOG(P12))/LOG(2))))","v":-0.11122402631316657},null,null,{"$f":"N12","v":212},{"$f":"COUNTIF(L7:L15,T12)","v":0},{"$f":"U12/(W4-U11)","v":0},{"$f":"IF(V12=0,0,(V12*((LOG(V12))/LOG(2))))","v":0},null,{"$f":"N12","v":212},{"$f":"COUNTIF(L16:L23,Y12)","v":0},{"$f":"Z12/(AB4-Z11)","v":0},{"$f":"IF(AA12=0,0,(AA12*((LOG(AA12))/LOG(2))))","v":0},null,{"$f":"N12","v":212},{"$f":"COUNTIF(L24:L32,AD12)","v":0},{"$f":"AE12/(AG4-AE11)","v":0},{"$f":"IF(AF12=0,0,(AF12*((LOG(AF12))/LOG(2))))","v":0},null,{"$f":"N12","v":212},{"$f":"COUNTIF(L33:L40,AI12)","v":1},{"$f":"AJ12/(AL4-AJ11)","v":0.33333333333333331},{"$f":"IF(AK12=0,0,(AK12*((LOG(AK12))/LOG(2))))","v":-0.52832083357371862},null,{"$f":"N12","v":212},{"$f":"COUNTIF(L41:L49,AN12)","v":0},{"$f":"AO12/(AQ4-AO11)","v":0},{"$f":"IF(AP12=0,0,(AP12*((LOG(AP12))/LOG(2))))","v":0},null,{"$f":"N12","v":212},{"$f":"COUNTIF(L50:L57,AS12)","v":0},{"$f":"AT12/(AV4-AT11)","v":0},{"$f":"IF(AU12=0,0,(AU12*((LOG(AU12))/LOG(2))))","v":0}]
[21,803,11,818,11,828,null,null,null,null,0,211,null,221,{"$f":"COUNTIF($L$7:$L$500,N13)","v":1},{"$f":"O13/$Q$4","v":1.9607843137254902E-2},{"$f":"IF(P13=0,0,(P13*((LOG(P13))/LOG(2))))","v":-0.11122402631316657},null,null,{"$f":"N13","v":221},{"$f":"COUNTIF(L7:L15,T13)","v":0},{"$f":"U13/(W4-U11)","v":0},{"$f":"IF(V13=0,0,(V13*((LOG(V13))/LOG(2))))","v":0},null,{"$f":"N13","v":221},{"$f":"COUNTIF(L16:L23,Y13)","v":0},{"$f":"Z13/(AB4-Z11)","v":0},{"$f":"IF(AA13=0,0,(AA13*((LOG(AA13))/LOG(2))))","v":0},null,{"$f":"N13","v":221},{"$f":"COUNTIF(L24:L32,AD13)","v":0},{"$f":"AE13/(AG4-AE11)","v":0},{"$f":"IF(AF13=0,0,(AF13*((LOG(AF13))/LOG(2))))","v":0},null,{"$f":"N13","v":221},{"$f":"COUNTIF(L33:L40,AI13)","v":0},{"$f":"AJ13/(AL4-AJ11)","v":0},{"$f":"IF(AK13=0,0,(AK13*((LOG(AK13))/LOG(2))))","v":0},null,{"$f":"N13","v":221},{"$f":"COUNTIF(L41:L49,AN13)","v":0},{"$f":"AO13/(AQ4-AO11)","v":0},{"$f":"IF(AP13=0,0,(AP13*((LOG(AP13))/LOG(2))))","v":0},null,{"$f":"N13","v":221},{"$f":"COUNTIF(L50:L57,AS13)","v":1},{"$f":"AT13/(AV4-AT11)","v":1},{"$f":"IF(AU13=0,0,(AU13*((LOG(AU13))/LOG(2))))","v":0}]
[12,944,24,967,13,985,null,null,null,null,0,121,null,222,{"$f":"COUNTIF($L$7:$L$500,N14)","v":0},{"$f":"O14/$Q$4","v":0},{"$f":"IF(P14=0,0,(P14*((LOG(P14))/LOG(2))))","v":0},null,null,{"$f":"N14","v":222},{"$f":"COUNTIF(L7:L15,T14)","v":0},{"$f":"U14/(W4-U11)","v":0},{"$f":"IF(V14=0,0,(V14*((LOG(V14))/LOG(2))))","v":0},null,{"$f":"N14","v":222},{"$f":"COUNTIF(L16:L23,Y14)","v":0},{"$f":"Z14/(AB4-Z11)","v":0},{"$f":"IF(AA14=0,0,(AA14*((LOG(AA14))/LOG(2))))","v":0},null,{"$f":"N14","v":222},{"$f":"COUNTIF(L24:L32,AD14)","v":0},{"$f":"AE14/(AG4-AE11)","v":0},{"$f":"IF(AF14=0,0,(AF14*((LOG(AF14))/LOG(2))))","v":0},null,{"$f":"N14","v":222},{"$f":"COUNTIF(L33:L40,AI14)","v":0},{"$f":"AJ14/(AL4-AJ11)","v":0},{"$f":"IF(AK14=0,0,(AK14*((LOG(AK14))/LOG(2))))","v":0},null,{"$f":"N14","v":222},{"$f":"COUNTIF(L41:L49,AN14)","v":0},{"$f":"AO14/(AQ4-AO11)","v":0},{"$f":"IF(AP14=0,0,(AP14*((LOG(AP14))/LOG(2))))","v":0},null,{"$f":"N14","v":222},{"$f":"COUNTIF(L50:L57,AS14)","v":0},{"$f":"AT14/(AV4-AT11)","v":0},{"$f":"IF(AU14=0,0,(AU14*((LOG(AU14))/LOG(2))))","v":0}]
[21,1080,11,1094,11,1102,null,null,null,null,0,211,null,null,null,{"$f":"SUM(P7:P14)","v":1},{"$f":"-SUM(Q7:Q14)","v":1.2061082637355953},null,null,null,null,{"$f":"SUM(V7:V14)","v":1},{"$f":"-SUM(W7:W14)","v":1},null,null,null,{"$f":"SUM(AA7:AA14)","v":1},{"$f":"-SUM(AB7:AB14)","v":0},null,null,null,{"$f":"SUM(AF7:AF14)","v":1},{"$f":"-SUM(AG7:AG14)","v":0.81127812445913283},null,null,null,{"$f":"SUM(AK7:AK14)","v":1},{"$f":"-SUM(AL7:AL14)","v":0.91829583405448945},null,null,null,{"$f":"SUM(AP7:AP14)","v":1},{"$f":"-SUM(AQ7:AQ14)","v":0},null,null,null,{"$f":"SUM(AU7:AU14)","v":1},{"$f":"-SUM(AV7:AV14)","v":0}]
[21,1198,11,1211,11,1217,null,null,null,null,0,211,null,null,null,"U=",{"$f":"Q15/(LOG(Q4)/LOG(2))","v":0.21262655584223222},null,null,null,null,"U1=",{"$f":"W15/(LOG(W4)/LOG(2))","v":0.31546487678572877},null,null,null,"U2=",{"$f":"AB15/(LOG(AB4)/LOG(2))","v":0},null,null,null,"U3=",{"$f":"AG15/(LOG(AG4)/LOG(2))","v":0.25592975357145742},null,null,null,"U4=",{"$f":"AL15/(LOG(AL4)/LOG(2))","v":0.30609861135149646},null,null,null,"U5=",{"$f":"AQ15/(LOG(AQ4)/LOG(2))","v":0},null,null,null,"U6=",{"$f":"AV15/(LOG(AV4)/LOG(2))","v":0}]
[21,1322,11,1333,11,1344,null,null,null,null,0,211]
[21,1443,11,1457,11,1466,null,null,null,null,0,211]
[21,1563,11,1579,11,1590,null,null,null,null,0,211,null,"Total Target Seq"]
[21,1686,11,1693,11,1702,null,null,null,null,0,211,null,{"$f":"COUNTIF(L7:L57,G3)","v":39},null,9,8,9,8,9,8]
[21,1802,11,1817,11,1824,null,null,null,null,0,211,null,null,null,"% of reinforcement given in 6 equal intervals based on number of trials "]
[21,1917,11,1931,11,1936,null,null,null,null,0,211,null,null,null,"%_1","%_2","%_3","%_4","%_5","%_6"]
[12,2046,13,2054,13,2070,null,null,null,null,0,111,null,null,"target sequence",{"$f":"$G$3","v":211},{"$f":"$G$3","v":211},{"$f":"$G$3","v":211},{"$f":"$G$3","v":211},{"$f":"$G$3","v":211},{"$f":"$G$3","v":211}]
[12,2182,13,2192,13,2214,null,null,null,null,0,111,null,null,"total reinforcement",{"$f":"U11","v":7},{"$f":"Z11","v":7},{"$f":"AE11","v":5},{"$f":"AJ11","v":5},{"$f":"AO11","v":8},{"$f":"AT11","v":7}]
[21,2319,11,2329,11,2338,null,null,null,null,0,211,null,null,"% target"]
[12,2445,13,2455,24,2475,null,null,null,null,0,112,null,null,"CCRF"]
[12,2588,13,2593,13,2604,null,null,null,null,0,111,null,null,"% CCRf"]
[21,2707,11,2723,11,2732,null,null,null,null,0,211,null,null,"average response rate",{"$f":"F15/P20","v":122.44444444444444},{"$f":"(F23-F15)/Q20","v":121},{"$f":"(F32-F23)/R20","v":127.77777777777777},{"$f":"(F40-F32)/S20","v":126},{"$f":"(F49-F40)/T20","v":123.88888888888889},{"$f":"(F57-F49)/U20","v":112.75}]
[12,2839,13,2845,13,2859,null,null,null,null,0,111]
[21,2964,11,2977,11,2985,null,null,null,null,0,211]
[21,3079,11,3092,11,3098,null,null,null,null,0,211]
[21,3196,11,3210,11,3220,null,null,null,null,0,211]
[21,3313,11,3325,11,3331,null,null,null,null,0,211]
[12,3437,13,3442,13,3463,null,null,null,null,0,111]
[21,3565,11,3574,11,3580,null,null,null,null,0,211]
[21,3679,11,3695,11,3707,null,null,null,null,0,211]
[21,3801,11,3811,11,3820,null,null,null,null,0,211]
[12,3927,13,3935,13,3955,null,null,null,null,0,111]
[21,4060,11,4074,22,4107,null,null,null,null,0,212]
[21,4210,11,4223,11,4228,null,null,null,null,0,211]
[21,4321,11,4335,11,4346,null,null,null,null,0,211]
[21,4440,11,4449,11,4455,null,null,null,null,0,211]
[21,4550,11,4562,11,4569,null,null,null,null,0,211]
[12,4671,13,4678,13,4720,null,null,null,null,0,111]
[21,4828,11,4838,11,4847,null,null,null,null,0,211]
[21,4940,11,4953,11,4961,null,null,null,null,0,211]
[21,5055,11,5069,11,5074,null,null,null,null,0,211]
[21,5170,11,5182,11,5235,null,null,null,null,0,211]
[21,5328,11,5337,11,5343,null,null,null,null,0,211]
[21,5438,11,5447,11,5453,null,null,null,null,0,211]
[21,5547,11,5557,11,5563,null,null,null,null,0,211]
[21,5653,11,5665,11,5671,null,null,null,null,0,211]
[21,5766,11,5776,11,5781,null,null,null,null,0,211]
[21,5876,22,5880,13,5891,null,null,null,null,0,221]
[21,5994,11,6007,11,6016,null,null,null,null,0,211]
[21,6109,11,6118,11,6128,null,null,null,null,0,211]
[21,6222,11,6236,11,6245,null,null,null,null,1,211]

{"sheet":"!N401840.010","index":9,"n_rows":65,"n_cols":48,"rows_kept":65,"cut":false,"hidden":false,"merged":[[4,39,4,42],[5,39,5,40],[4,44,4,47],[5,44,5,45],[4,24,4,27],[5,24,5,25],[4,29,4,32],[5,29,5,30],[4,34,4,37],[5,34,5,35],[1,1,1,2],[5,13,5,14],[18,13,18,14],[19,13,19,14],[4,19,4,22],[5,19,5,20]]}
["Report for:!N401840.010"]
["Date:","<date>"]
["Hen:","<hen>",null,null,null,"Correct Sequence",{"$f":"Start!J2","v":211},null,null,null,null,null,null,null,null,"Total Sequences in Data",{"$f":"4994-COUNTBLANK(L7:L5000)","v":59},null,null,null,null,"Total Sequences in Block Data",{"$f":"COUNTA(L7:L16)","v":10},null,null,null,"Total Sequences in Block Data",{"$f":"COUNTA(L17:L26)","v":10},null,null,null,"Total Sequences in Block Data",{"$f":"COUNTA(L27:L35)","v":9},null,null,null,"Total Sequences in Block Data",{"$f":"COUNTA(L36:L45)","v":10},null,null,null,"Total Sequences in Block Data",{"$f":"COUNTA(L46:L55)","v":10},null,null,null,"Total Sequences in Block Data",{"$f":"COUNTA(L56:L65)","v":10}]
[null,null,null,null,null,null,null,null,null,null,null,null,null,null,null,"Total Sequences in Summary",{"$f":"SUM(O7:O14)","v":59},null,null,null,null,"Total Sequences in Block Summary",{"$f":"SUM(U7:U14)","v":10},null,null,null,"Total Sequences in Block Summary",{"$f":"SUM(Z7:Z14)","v":10},null,null,null,"Total Sequences in Block Summary",{"$f":"SUM(AE7:AE14)","v":9},null,null,null,"Total Sequences in Block Summary",{"$f":"SUM(AJ7:AJ14)","v":10},null,null,null,"Total Sequences in Block Summary",{"$f":"SUM(AO7:AO14)","v":10},null,null,null,"Total Sequences in Block Summary",{"$f":"SUM(AT7:AT14)","v":10}]
[null,null,null,null,null,null,null,null,null,null,null,null,null,null,null,null,null,null,null,"Block 1",null,null,null,null,"Block 2",null,null,null,null,"Block 3",null,null,null,null,"Block 4",null,null,null,null,"Block 5",null,null,null,null,"Block 6"]
["Sequence\nComponent\n1","Time\n1","Sequence\nComponent\n2","Time\n2","Sequence\nComponent\n3","Time\n3","Sequence\nComponent\n4","Time\n4","Sequence\nComponent\n5","Time\n5","Correct?\n0=No 1=Yes","Sequence",null,"Frequency",null,"Relative Frequency","Variability",null,null,"Frequency",null,"Relative Frequency","Variability",null,"Frequency",null,"Relative Frequency","Variability",null,"Frequency",null,"Relative Frequency","Variability",null,"Frequency",null,"Relative Frequency","Variability",null,"Frequency",null,"Relative Frequency","Variability",null,"Frequency",null,"Relative Frequency","Variability"]
[21,11,11,22,11,43,null,null,null,null,0,211,null,111,{"$f":"COUNTIF($L$7:$L$500,N7)","v":11},{"$f":"O7/$Q$4","v":0.1864406779661017},{"$f":"IF(P7=0,0,(P7*((LOG(P7))/LOG(2))))","v":-0.45178518199949125},null,null,{"$f":"N7","v":111},{"$f":"COUNTIF(L7:L16,T7)","v":4},{"$f":"U7/(W4-U11)","v":1},{"$f":"IF(V7=0,0,(V7*((LOG(V7))/LOG(2))))","v":0},null,{"$f":"N7","v":111},{"$f":"COUNTIF(L17:L26,Y7)","v":4},{"$f":"Z7/(AB4-Z11)","v":1},{"$f":"IF(AA7=0,0,(AA7*((LOG(AA7))/LOG(2))))","v":0},null,{"$f":"N7","v":111},{"$f":"COUNTIF(L27:L35,AD7)","v":0},{"$f":"AE7/(AG4-AE11)","v":0},{"$f":"IF(AF7=0,0,(AF7*((LOG(AF7))/LOG(2))))","v":0},null,{"$f":"N7","v":111},{"$f":"COUNTIF(L36:L45,AI7)","v":0},{"$f":"AJ7/(AL4-AJ11)","v":0},{"$f":"IF(AK7=0,0,(AK7*((LOG(AK7))/LOG(2))))","v":0},null,{"$f":"N7","v":111},{"$f":"COUNTIF(L46:L55,AN7)","v":0},{"$f":"AO7/(AQ4-AO11)","v":0},{"$f":"IF(AP7=0,0,(AP7*((LOG(AP7))/LOG(2))))","v":0},null,{"$f":"N7","v":111},{"$f":"COUNTIF(L56:L65,AS7)","v":3},{"$f":"AT7/(AV4-AT11)","v":0.6},{"$f":"IF(AU7=0,0,(AU7*((LOG(AU7))/LOG(2))))","v":-0.44217935649972373}]
[12,154,13,161,13,170,null,null,null,null,0,111,null,112,{"$f":"COUNTIF($L$7:$L$500,N8)","v":3},{"$f":"O8/$Q$4","v":5.0847457627118647E-2},{"$f":"IF(P8=0,0,(P8*((LOG(P8))/LOG(2))))","v":-0.21852612959189924},null,null,{"$f":"N8","v":112},{"$f":"COUNTIF(L7:L16,T8)","v":0},{"$f":"U8/(W4-U11)","v":0},{"$f":"IF(V8=0,0,(V8*((LOG(V8))/LOG(2))))","v":0},null,{"$f":"N8","v":112},{"$f":"COUNTIF(L17:L26,Y8)","v":0},{"$f":"Z8/(AB4-Z11)","v":0},{"$f":"IF(AA8=0,0,(AA8*((LOG(AA8))/LOG(2))))","v":0},null,{"$f":"N8","v":112},{"$f":"COUNTIF(L27:L35,AD8)","v":0},{"$f":"AE8/(AG4-AE11)","v":0},{"$f":"IF(AF8=0,0,(AF8*((LOG(AF8))/LOG(2))))","v":0},null,{"$f":"N8","v":112},{"$f":"COUNTIF(L36:L45,AI8)","v":1},{"$f":"AJ8/(AL4-AJ11)","v":0.5},{"$f":"IF(AK8=0,0,(AK8*((LOG(AK8))/LOG(2))))","v":-0.5},null,{"$f":"N8","v":112},{"$f":"COUNTIF(L46:L55,AN8)","v":0},{"$f":"AO8/(AQ4-AO11)","v":0},{"$f":"IF(AP8=0,0,(AP8*((LOG(AP8))/LOG(2))))","v":0},null,{"$f":"N8","v":112},{"$f":"COUNTIF(L56:L65,AS8)","v":2},{"$f":"AT8/(AV4-AT11)","v":0.4},{"$f":"IF(AU8=0,0,(AU8*((LOG(AU8))/LOG(2))))","v":-0.52877123795494496}]
[12,286,13,291,13,307,null,null,null,null,0,111,null,121,{"$f":"COUNTIF($L$7:$L$500,N9)","v":2},{"$f":"O9/$Q$4","v":3.3898305084745763E-2},{"$f":"IF(P9=0,0,(P9*((LOG(P9))/LOG(2))))","v":-0.16551332370718108},null,null,{"$f":"N9","v":121},{"$f":"COUNTIF(L7:L16,T9)","v":0},{"$f":"U9/(W4-U11)","v":0},{"$f":"IF(V9=0,0,(V9*((LOG(V9))/LOG(2))))","v":0},null,{"$f":"N9","v":121},{"$f":"COUNTIF(L17:L26,Y9)","v":0},{"$f":"Z9/(AB4-Z11)","v":0},{"$f":"IF(AA9=0,0,(AA9*((LOG(AA9))/LOG(2))))","v":0},null,{"$f":"N9","v":121},{"$f":"COUNTIF(L27:L35,AD9)","v":1},{"$f":"AE9/(AG4-AE11)","v":0.25},{"$f":"IF(AF9=0,0,(AF9*((LOG(AF9))/LOG(2))))","v":-0.5},null,{"$f":"N9","v":121},{"$f":"COUNTIF(L36:L45,AI9)","v":1},{"$f":"AJ9/(AL4-AJ11)","v":0.5},{"$f":"IF(AK9=0,0,(AK9*((LOG(AK9))/LOG(2))))","v":-0.5},null,{"$f":"N9","v":121},{"$f":"COUNTIF(L46:L55,AN9)","v":0},{"$f":"AO9/(AQ4-AO11)","v":0},{"$f":"IF(AP9=0,0,(AP9*((LOG(AP9))/LOG(2))))","v":0},null,{"$f":"N9","v":121},{"$f":"COUNTIF(L56:L65,AS9)","v":0},{"$f":"AT9/(AV4-AT11)","v":0},{"$f":"IF(AU9=0,0,(AU9*((LOG(AU9))/LOG(2))))","v":0}]
[21,415,11,428,11,435,null,null,null,null,0,211,null,122,{"$f":"COUNTIF($L$7:$L$500,N10)","v":0},{"$f":"O10/$Q$4","v":0},{"$f":"IF(P10=0,0,(P10*((LOG(P10))/LOG(2))))","v":0},null,null,{"$f":"N10","v":122},{"$f":"COUNTIF(L7:L16,T10)","v":0},{"$f":"U10/(W4-U11)","v":0},{"$f":"IF(V10=0,0,(V10*((LOG(V10))/LOG(2))))","v":0},null,{"$f":"N10","v":122},{"$f":"COUNTIF(L17:L26,Y10)","v":0},{"$f":"Z10/(AB4-Z11)","v":0},{"$f":"IF(AA10=0,0,(AA10*((LOG(AA10))/LOG(2))))","v":0},null,{"$f":"N10","v":122},{"$f":"COUNTIF(L27:L35,AD10)","v":0},{"$f":"AE10/(AG4-AE11)","v":0},{"$f":"IF(AF10=0,0,(AF10*((LOG(AF10))/LOG(2))))","v":0},null,{"$f":"N10","v":122},{"$f":"COUNTIF(L36:L45,AI10)","v":0},{"$f":"AJ10/(AL4-AJ11)","v":0},{"$f":"IF(AK10=0,0,(AK10*((LOG(AK10))/LOG(2))))","v":0},null,{"$f":"N10","v":122},{"$f":"COUNTIF(L46:L55,AN10)","v":0},{"$f":"AO10/(AQ4-AO11)","v":0},{"$f":"IF(AP10=0,0,(AP10*((LOG(AP10))/LOG(2))))","v":0},null,{"$f":"N10","v":122},{"$f":"COUNTIF(L56:L65,AS10)","v":0},{"$f":"AT10/(AV4-AT11)","v":0},{"$f":"IF(AU10=0,0,(AU10*((LOG(AU10))/LOG(2))))","v":0}]
[21,531,11,542,11,547,null,null,null,null,0,211,null,211,{"$f":"COUNTIF($L$7:$L$500,N11)","v":39},{"$f":"O11/$Q$4","v":0.66101694915254239},{"$f":"IF(P11=0,0,(P11*((LOG(P11))/LOG(2))))","v":-0.39478631168617156},null,null,{"$f":"N11","v":211},{"$f":"COUNTIF(L7:L16,T11)","v":6},null,null,null,{"$f":"N11","v":211},{"$f":"COUNTIF(L17:L26,Y11)","v":6},null,null,null,{"$f":"N11","v":211},{"$f":"COUNTIF(L27:L35,AD11)","v":5},null,null,null,{"$f":"N11","v":211},{"$f":"COUNTIF(L36:L45,AI11)","v":8},null,null,null,{"$f":"N11","v":211},{"$f":"COUNTIF(L46:L55,AN11)","v":9},null,null,null,{"$f":"N11","v":211},{"$f":"COUNTIF(L56:L65,AS11)","v":5}]
[21,647,11,666,11,693,null,null,null,null,0,211,null,212,{"$f":"COUNTIF($L$7:$L$500,N12)","v":4},{"$f":"O12/$Q$4","v":6.7796610169491525E-2},{"$f":"IF(P12=0,0,(P12*((LOG(P12))/LOG(2))))","v":-0.2632300372448706},null,null,{"$f":"N12","v":212},{"$f":"COUNTIF(L7:L16,T12)","v":0},{"$f":"U12/(W4-U11)","v":0},{"$f":"IF(V12=0,0,(V12*((LOG(V12))/LOG(2))))","v":0},null,{"$f":"N12","v":212},{"$f":"COUNTIF(L17:L26,Y12)","v":0},{"$f":"Z12/(AB4-Z11)","v":0},{"$f":"IF(AA12=0,0,(AA12*((LOG(AA12))/LOG(2))))","v":0},null,{"$f":"N12","v":212},{"$f":"COUNTIF(L27:L35,AD12)","v":3},{"$f":"AE12/(AG4-AE11)","v":0.75},{"$f":"IF(AF12=0,0,(AF12*((LOG(AF12))/LOG(2))))","v":-0.31127812445913283},null,{"$f":"N12","v":212},{"$f":"COUNTIF(L36:L45,AI12)","v":0},{"$f":"AJ12/(AL4-AJ11)","v":0},{"$f":"IF(AK12=0,0,(AK12*((LOG(AK12))/LOG(2))))","v":0},null,{"$f":"N12","v":212},{"$f":"COUNTIF(L46:L55,AN12)","v":1},{"$f":"AO12/(AQ4-AO11)","v":1},{"$f":"IF(AP12=0,0,(AP12*((LOG(AP12))/LOG(2))))","v":0},null,{"$f":"N12","v":212},{"$f":"COUNTIF(L56:L65,AS12)","v":0},{"$f":"AT12/(AV4-AT11)","v":0},{"$f":"IF(AU12=0,0,(AU12*((LOG(AU12))/LOG(2))))","v":0}]
[21,789,11,803,11,814,null,null,null,null,0,211,null,221,{"$f":"COUNTIF($L$7:$L$500,N13)","v":0},{"$f":"O13/$Q$4","v":0},{"$f":"IF(P13=0,0,(P13*((LOG(P13))/LOG(2))))","v":0},null,null,{"$f":"N13","v":221},{"$f":"COUNTIF(L7:L16,T13)","v":0},{"$f":"U13/(W4-U11)","v":0},{"$f":"IF(V13=0,0,(V13*((LOG(V13))/LOG(2))))","v":0},null,{"$f":"N13","v":221},{"$f":"COUNTIF(L17:L26,Y13)","v":0},{"$f":"Z13/(AB4-Z11)","v":0},{"$f":"IF(AA13=0,0,(AA13*((LOG(AA13))/LOG(2))))","v":0},null,{"$f":"N13","v":221},{"$f":"COUNTIF(L27:L35,AD13)","v":0},{"$f":"AE13/(AG4-AE11)","v":0},{"$f":"IF(AF13=0,0,(AF13*((LOG(AF13))/LOG(2))))","v":0},null,{"$f":"N13","v":221},{"$f":"COUNTIF(L36:L45,AI13)","v":0},{"$f":"AJ13/(AL4-AJ11)","v":0},{"$f":"IF(AK13=0,0,(AK13*((LOG(AK13))/LOG(2))))","v":0},null,{"$f":"N13","v":221},{"$f":"COUNTIF(L46:L55,AN13)","v":0},{"$f":"AO13/(AQ4-AO11)","v":0},{"$f":"IF(AP13=0,0,(AP13*((LOG(AP13))/LOG(2))))","v":0},null,{"$f":"N13","v":221},{"$f":"COUNTIF(L56:L65,AS13)","v":0},{"$f":"AT13/(AV4-AT11)","v":0},{"$f":"IF(AU13=0,0,(AU13*((LOG(AU13))/LOG(2))))","v":0}]
[12,949,13,987,13,997,null,null,null,null,0,111,null,222,{"$f":"COUNTIF($L$7:$L$500,N14)","v":0},{"$f":"O14/$Q$4","v":0},{"$f":"IF(P14=0,0,(P14*((LOG(P14))/LOG(2))))","v":0},null,null,{"$f":"N14","v":222},{"$f":"COUNTIF(L7:L16,T14)","v":0},{"$f":"U14/(W4-U11)","v":0},{"$f":"IF(V14=0,0,(V14*((LOG(V14))/LOG(2))))","v":0},null,{"$f":"N14","v":222},{"$f":"COUNTIF(L17:L26,Y14)","v":0},{"$f":"Z14/(AB4-Z11)","v":0},{"$f":"IF(AA14=0,0,(AA14*((LOG(AA14))/LOG(2))))","v":0},null,{"$f":"N14","v":222},{"$f":"COUNTIF(L27:L35,AD14)","v":0},{"$f":"AE14/(AG4-AE11)","v":0},{"$f":"IF(AF14=0,0,(AF14*((LOG(AF14))/LOG(2))))","v":0},null,{"$f":"N14","v":222},{"$f":"COUNTIF(L36:L45,AI14)","v":0},{"$f":"AJ14/(AL4-AJ11)","v":0},{"$f":"IF(AK14=0,0,(AK14*((LOG(AK14))/LOG(2))))","v":0},null,{"$f":"N14","v":222},{"$f":"COUNTIF(L46:L55,AN14)","v":0},{"$f":"AO14/(AQ4-AO11)","v":0},{"$f":"IF(AP14=0,0,(AP14*((LOG(AP14))/LOG(2))))","v":0},null,{"$f":"N14","v":222},{"$f":"COUNTIF(L56:L65,AS14)","v":0},{"$f":"AT14/(AV4-AT11)","v":0},{"$f":"IF(AU14=0,0,(AU14*((LOG(AU14))/LOG(2))))","v":0}]
[12,1113,13,1118,13,1128,null,null,null,null,0,111,null,null,null,{"$f":"SUM(P7:P14)","v":1},{"$f":"-SUM(Q7:Q14)","v":1.4938409842296136},null,null,null,null,{"$f":"SUM(V7:V14)","v":1},{"$f":"-SUM(W7:W14)","v":0},null,null,null,{"$f":"SUM(AA7:AA14)","v":1},{"$f":"-SUM(AB7:AB14)","v":0},null,null,null,{"$f":"SUM(AF7:AF14)","v":1},{"$f":"-SUM(AG7:AG14)","v":0.81127812445913283},null,null,null,{"$f":"SUM(AK7:AK14)","v":1},{"$f":"-SUM(AL7:AL14)","v":1},null,null,null,{"$f":"SUM(AP7:AP14)","v":1},{"$f":"-SUM(AQ7:AQ14)","v":0},null,null,null,{"$f":"SUM(AU7:AU14)","v":1},{"$f":"-SUM(AV7:AV14)","v":0.97095059445466869}]
[21,1232,11,1246,11,1252,null,null,null,null,0,211,null,null,null,"U=",{"$f":"Q15/(LOG(Q4)/LOG(2))","v":0.25394044338482646},null,null,null,null,"U1=",{"$f":"W15/(LOG(W4)/LOG(2))","v":0},null,null,null,"U2=",{"$f":"AB15/(LOG(AB4)/LOG(2))","v":0},null,null,null,"U3=",{"$f":"AG15/(LOG(AG4)/LOG(2))","v":0.25592975357145742},null,null,null,"U4=",{"$f":"AL15/(LOG(AL4)/LOG(2))","v":0.3010299956639812},null,null,null,"U5=",{"$f":"AQ15/(LOG(AQ4)/LOG(2))","v":0},null,null,null,"U6=",{"$f":"AV15/(LOG(AV4)/LOG(2))","v":0.29228525323862892}]
[12,1365,13,1374,13,1388,null,null,null,null,0,111]
[12,1498,13,1504,13,1516,null,null,null,null,0,111]
[21,1619,11,1634,11,1640,null,null,null,null,0,211,null,"Total Target Seq"]
[21,1736,11,1745,11,1752,null,null,null,null,0,211,null,{"$f":"COUNTIF(L7:L65,G3)","v":39},null,10,10,9,10,10,10]
[21,1853,11,1863,11,1870,null,null,null,null,0,211,null,null,null,"% of reinforcement given in 6 equal intervals based on number of trials "]
[21,1965,11,1976,11,1985,null,null,null,null,0,211,null,null,null,"%_1","%_2","%_3","%_4","%_5","%_6"]
[21,2103,11,2123,11,2138,null,null,null,null,0,211,null,null,"target sequence",{"$f":"$G$3","v":211},{"$f":"$G$3","v":211},{"$f":"$G$3","v":211},{"$f":"$G$3","v":211},{"$f":"$G$3","v":211},{"$f":"$G$3","v":211}]
[12,2242,13,2257,13,2279,null,null,null,null,0,111,null,null,"total reinforcement",{"$f":"U11","v":6},{"$f":"Z11","v":6},{"$f":"AE11","v":5},{"$f":"AJ11","v":8},{"$f":"AO11","v":9},{"$f":"AT11","v":5}]
[12,2392,13,2398,13,2413,null,null,null,null,0,111,null,null,"% target"]
[21,2517,11,2526,11,2534,null,null,null,null,0,211,null,null,"CCRF"]
[21,2627,11,2636,11,2641,null,null,null,null,0,211,null,null,"% CCRf"]
[21,2735,11,2752,22,2766,null,null,null,null,0,212,null,null,"average response rate",{"$f":"F16/P20","v":125.2},{"$f":"(F26-F16)/Q20","v":128.19999999999999},{"$f":"(F35-F26)/R20","v":121.11111111111111},{"$f":"(F45-F35)/S20","v":122.5},{"$f":"(F55-F45)/T20","v":115.5},{"$f":"(F65-F55)/U20","v":132.69999999999999}]
[21,2862,11,2872,11,2877,null,null,null,null,0,211]
[21,2971,11,2982,11,2991,null,null,null,null,0,211]
[21,3087,11,3097,11,3103,null,null,null,null,0,211]
[21,3196,11,3212,22,3234,null,null,null,null,0,212]
[21,3345,11,3354,22,3371,null,null,null,null,0,212]
[21,3477,11,3490,11,3495,null,null,null,null,0,211]
[12,3599,24,3610,13,3624,null,null,null,null,0,121]
[21,3728,11,3747,11,3779,null,null,null,null,0,211]
[21,3875,11,3885,11,3895,null,null,null,null,0,211]
[21,3988,11,4002,11,4007,null,null,null,null,0,211]
[21,4099,11,4109,11,4114,null,null,null,null,0,211]
[21,4207,11,4216,11,4222,null,null,null,null,0,211]
[21,4318,11,4332,11,4363,null,null,null,null,0,211]
[21,4461,11,4474,11,4480,null,null,null,null,0,211]
[21,4573,11,4583,11,4589,null,null,null,null,0,211]
[12,4692,13,4699,24,4716,null,null,null,null,0,112]
[12,4819,24,4833,13,4849,null,null,null,null,0,121]
[21,4954,11,4968,11,4978,null,null,null,null,0,211]
[21,5073,11,5083,11,5088,null,null,null,null,0,211]
[21,5182,11,5191,11,5196,null,null,null,null,0,211]
[21,5290,11,5299,11,5305,null,null,null,null,0,211]
[21,5398,11,5408,11,5414,null,null,null,null,0,211]
[21,5508,11,5518,11,5522,null,null,null,null,0,211]
[21,5616,11,5631,11,5646,null,null,null,null,0,211]
[21,5738,11,5747,11,5756,null,null,null,null,0,211]
[21,5846,11,5863,22,5887,null,null,null,null,0,212]
[21,5989,11,5999,11,6004,null,null,null,null,0,211]
[12,6110,13,6116,13,6142,null,null,null,null,0,111]
[12,6255,13,6261,24,6279,null,null,null,null,0,112]
[12,6390,13,6395,13,6409,null,null,null,null,0,111]
[21,6514,11,6524,11,6530,null,null,null,null,0,211]
[21,6622,11,6636,11,6676,null,null,null,null,0,211]
[12,6780,13,6790,13,6803,null,null,null,null,0,111]
[12,6912,13,6918,24,6982,null,null,null,null,0,112]
[21,7086,11,7096,11,7101,null,null,null,null,0,211]
[21,7198,11,7210,11,7218,null,null,null,null,0,211]
[21,7312,11,7321,11,7331,null,null,null,null,1,211]

{"sheet":"!N402740.010","index":10,"n_rows":173,"n_cols":48,"rows_kept":173,"cut":false,"hidden":false,"merged":[[4,39,4,42],[5,39,5,40],[4,44,4,47],[5,44,5,45],[4,24,4,27],[5,24,5,25],[4,29,4,32],[5,29,5,30],[4,34,4,37],[5,34,5,35],[1,1,1,2],[5,13,5,14],[18,13,18,14],[19,13,19,14],[4,19,4,22],[5,19,5,20]]}
["Report for:!N402740.010"]
["Date:","<date>"]
["Hen:","<hen>",null,null,null,"Correct Sequence",{"$f":"Start!J2","v":211},null,null,null,null,null,null,null,null,"Total Sequences in Data",{"$f":"4994-COUNTBLANK(L7:L5000)","v":167},null,null,null,null,"Total Sequences in Block Data",{"$f":"COUNTA(L7:L34)","v":28},null,null,null,"Total Sequences in Block Data",{"$f":"COUNTA(L35:L62)","v":28},null,null,null,"Total Sequences in Block Data",{"$f":"COUNTA(L63:L89)","v":27},null,null,null,"Total Sequences in Block Data",{"$f":"COUNTA(L90:L117)","v":28},null,null,null,"Total Sequences in Block Data",{"$f":"COUNTA(L118:L145)","v":28},null,null,null,"Total Sequences in Block Data",{"$f":"COUNTA(L146:L173)","v":28}]
[null,null,null,null,null,null,null,null,null,null,null,null,null,null,null,"Total Sequences in Summary",{"$f":"SUM(O7:O14)","v":167},null,null,null,null,"Total Sequences in Block Summary",{"$f":"SUM(U7:U14)","v":28},null,null,null,"Total Sequences in Block Summary",{"$f":"SUM(Z7:Z14)","v":28},null,null,null,"Total Sequences in Block Summary",{"$f":"SUM(AE7:AE14)","v":27},null,null,null,"Total Sequences in Block Summary",{"$f":"SUM(AJ7:AJ14)","v":28},null,null,null,"Total Sequences in Block Summary",{"$f":"SUM(AO7:AO14)","v":28},null,null,null,"Total Sequences in Block Summary",{"$f":"SUM(AT7:AT14)","v":28}]
[null,null,null,null,null,null,null,null,null,null,null,null,null,null,null,null,null,null,null,"Block 1",null,null,null,null,"Block 2",null,null,null,null,"Block 3",null,null,null,null,"Block 4",null,null,null,null,"Block 5",null,null,null,null,"Block 6"]
["Sequence\nComponent\n1","Time\n1","Sequence\nComponent\n2","Time\n2","Sequence\nComponent\n3","Time\n3","Sequence\nComponent\n4","Time\n4","Sequence\nComponent\n5","Time\n5","Correct?\n0=No 1=Yes","Sequence",null,"Frequency",null,"Relative Frequency","Variability",null,null,"Frequency",null,"Relative Frequency","Variability",null,"Frequency",null,"Relative Frequency","Variability",null,"Frequency",null,"Relative Frequency","Variability",null,"Frequency",null,"Relative Frequency","Variability",null,"Frequency",null,"Relative Frequency","Variability",null,"Frequency",null,"Relative Frequency","Variability"]
[12,8,24,31,24,39,null,null,null,null,0,122,null,111,{"$f":"COUNTIF($L$7:$L$500,N7)","v":126},{"$f":"O7/$Q$4","v":0.75449101796407181},{"$f":"IF(P7=0,0,(P7*((LOG(P7))/LOG(2))))","v":-0.30664353587270127},null,null,{"$f":"N7","v":111},{"$f":"COUNTIF(L7:L34,T7)","v":27},{"$f":"U7/(W4-U11)","v":0.9642857142857143},{"$f":"IF(V7=0,0,(V7*((LOG(V7))/LOG(2))))","v":-5.0593583469344984E-2},null,{"$f":"N7","v":111},{"$f":"COUNTIF(L35:L62,Y7)","v":27},{"$f":"Z7/(AB4-Z11)","v":0.9642857142857143},{"$f":"IF(AA7=0,0,(AA7*((LOG(AA7))/LOG(2))))","v":-5.0593583469344984E-2},null,{"$f":"N7","v":111},{"$f":"COUNTIF(L63:L89,AD7)","v":19},{"$f":"AE7/(AG4-AE11)","v":0.70370370370370372},{"$f":"IF(AF7=0,0,(AF7*((LOG(AF7))/LOG(2))))","v":-0.35674962169176955},null,{"$f":"N7","v":111},{"$f":"COUNTIF(L90:L117,AI7)","v":18},{"$f":"AJ7/(AL4-AJ11)","v":0.6428571428571429},{"$f":"IF(AK7=0,0,(AK7*((LOG(AK7))/LOG(2))))","v":-0.40977637753840174},null,{"$f":"N7","v":111},{"$f":"COUNTIF(L118:L145,AN7)","v":19},{"$f":"AO7/(AQ4-AO11)","v":0.6785714285714286},{"$f":"IF(AP7=0,0,(AP7*((LOG(AP7))/LOG(2))))","v":-0.37961145584522688},null,{"$f":"N7","v":111},{"$f":"COUNTIF(L146:L173,AS7)","v":16},{"$f":"AT7/(AV4-AT11)","v":0.5714285714285714},{"$f":"IF(AU7=0,0,(AU7*((LOG(AU7))/LOG(2))))","v":-0.46134566974720237}]
[12,145,13,154,13,163,null,null,null,null,0,111,null,112,{"$f":"COUNTIF($L$7:$L$500,N8)","v":7},{"$f":"O8/$Q$4","v":4.1916167664670656E-2},{"$f":"IF(P8=0,0,(P8*((LOG(P8))/LOG(2))))","v":-0.19182302750248584},null,null,{"$f":"N8","v":112},{"$f":"COUNTIF(L7:L34,T8)","v":0},{"$f":"U8/(W4-U11)","v":0},{"$f":"IF(V8=0,0,(V8*((LOG(V8))/LOG(2))))","v":0},null,{"$f":"N8","v":112},{"$f":"COUNTIF(L35:L62,Y8)","v":0},{"$f":"Z8/(AB4-Z11)","v":0},{"$f":"IF(AA8=0,0,(AA8*((LOG(AA8))/LOG(2))))","v":0},null,{"$f":"N8","v":112},{"$f":"COUNTIF(L63:L89,AD8)","v":1},{"$f":"AE8/(AG4-AE11)","v":3.7037037037037035E-2},{"$f":"IF(AF8=0,0,(AF8*((LOG(AF8))/LOG(2))))","v":-0.1761069445245729},null,{"$f":"N8","v":112},{"$f":"COUNTIF(L90:L117,AI8)","v":1},{"$f":"AJ8/(AL4-AJ11)","v":3.5714285714285712E-2},{"$f":"IF(AK8=0,0,(AK8*((LOG(AK8))/LOG(2))))","v":-0.17169124721634299},null,{"$f":"N8","v":112},{"$f":"COUNTIF(L118:L145,AN8)","v":3},{"$f":"AO8/(AQ4-AO11)","v":0.10714285714285714},{"$f":"IF(AP8=0,0,(AP8*((LOG(AP8))/LOG(2))))","v":-0.34525633085747659},null,{"$f":"N8","v":112},{"$f":"COUNTIF(L146:L173,AS8)","v":2},{"$f":"AT8/(AV4-AT11)","v":7.1428571428571425E-2},{"$f":"IF(AU8=0,0,(AU8*((LOG(AU8))/LOG(2))))","v":-0.27195392300411453}]
[12,267,13,274,13,290,null,null,null,null,0,111,null,121,{"$f":"COUNTIF($L$7:$L$500,N9)","v":0},{"$f":"O9/$Q$4","v":0},{"$f":"IF(P9=0,0,(P9*((LOG(P9))/LOG(2))))","v":0},null,null,{"$f":"N9","v":121},{"$f":"COUNTIF(L7:L34,T9)","v":0},{"$f":"U9/(W4-U11)","v":0},{"$f":"IF(V9=0,0,(V9*((LOG(V9))/LOG(2))))","v":0},null,{"$f":"N9","v":121},{"$f":"COUNTIF(L35:L62,Y9)","v":0},{"$f":"Z9/(AB4-Z11)","v":0},{"$f":"IF(AA9=0,0,(AA9*((LOG(AA9))/LOG(2))))","v":0},null,{"$f":"N9","v":121},{"$f":"COUNTIF(L63:L89,AD9)","v":0},{"$f":"AE9/(AG4-AE11)","v":0},{"$f":"IF(AF9=0,0,(AF9*((LOG(AF9))/LOG(2))))","v":0},null,{"$f":"N9","v":121},{"$f":"COUNTIF(L90:L117,AI9)","v":0},{"$f":"AJ9/(AL4-AJ11)","v":0},{"$f":"IF(AK9=0,0,(AK9*((LOG(AK9))/LOG(2))))","v":0},null,{"$f":"N9","v":121},{"$f":"COUNTIF(L118:L145,AN9)","v":0},{"$f":"AO9/(AQ4-AO11)","v":0},{"$f":"IF(AP9=0,0,(AP9*((LOG(AP9))/LOG(2))))","v":0},null,{"$f":"N9","v":121},{"$f":"COUNTIF(L146:L173,AS9)","v":0},{"$f":"AT9/(AV4-AT11)","v":0},{"$f":"IF(AU9=0,0,(AU9*((LOG(AU9))/LOG(2))))","v":0}]
[12,397,13,406,13,414,null,null,null,null,0,111,null,122,{"$f":"COUNTIF($L$7:$L$500,N10)","v":21},{"$f":"O10/$Q$4","v":0.12574850299401197},{"$f":"IF(P10=0,0,(P10*((LOG(P10))/LOG(2))))","v":-0.37616242074012646},null,null,{"$f":"N10","v":122},{"$f":"COUNTIF(L7:L34,T10)","v":1},{"$f":"U10/(W4-U11)","v":3.5714285714285712E-2},{"$f":"IF(V10=0,0,(V10*((LOG(V10))/LOG(2))))","v":-0.17169124721634299},null,{"$f":"N10","v":122},{"$f":"COUNTIF(L35:L62,Y10)","v":0},{"$f":"Z10/(AB4-Z11)","v":0},{"$f":"IF(AA10=0,0,(AA10*((LOG(AA10))/LOG(2))))","v":0},null,{"$f":"N10","v":122},{"$f":"COUNTIF(L63:L89,AD10)","v":4},{"$f":"AE10/(AG4-AE11)","v":0.14814814814814814},{"$f":"IF(AF10=0,0,(AF10*((LOG(AF10))/LOG(2))))","v":-0.40813148180199532},null,{"$f":"N10","v":122},{"$f":"COUNTIF(L90:L117,AI10)","v":4},{"$f":"AJ10/(AL4-AJ11)","v":0.14285714285714285},{"$f":"IF(AK10=0,0,(AK10*((LOG(AK10))/LOG(2))))","v":-0.40105070315108626},null,{"$f":"N10","v":122},{"$f":"COUNTIF(L118:L145,AN10)","v":3},{"$f":"AO10/(AQ4-AO11)","v":0.10714285714285714},{"$f":"IF(AP10=0,0,(AP10*((LOG(AP10))/LOG(2))))","v":-0.34525633085747659},null,{"$f":"N10","v":122},{"$f":"COUNTIF(L146:L173,AS10)","v":9},{"$f":"AT10/(AV4-AT11)","v":0.32142857142857145},{"$f":"IF(AU10=0,0,(AU10*((LOG(AU10))/LOG(2))))","v":-0.5263167601977724}]
[12,514,13,519,13,527,null,null,null,null,0,111,null,211,{"$f":"COUNTIF($L$7:$L$500,N11)","v":0},{"$f":"O11/$Q$4","v":0},{"$f":"IF(P11=0,0,(P11*((LOG(P11))/LOG(2))))","v":0},null,null,{"$f":"N11","v":211},{"$f":"COUNTIF(L7:L34,T11)","v":0},null,null,null,{"$f":"N11","v":211},{"$f":"COUNTIF(L35:L62,Y11)","v":0},null,null,null,{"$f":"N11","v":211},{"$f":"COUNTIF(L63:L89,AD11)","v":0},null,null,null,{"$f":"N11","v":211},{"$f":"COUNTIF(L90:L117,AI11)","v":0},null,null,null,{"$f":"N11","v":211},{"$f":"COUNTIF(L118:L145,AN11)","v":0},null,null,null,{"$f":"N11","v":211},{"$f":"COUNTIF(L146:L173,AS11)","v":0}]
[12,632,13,645,13,654,null,null,null,null,0,111,null,212,{"$f":"COUNTIF($L$7:$L$500,N12)","v":0},{"$f":"O12/$Q$4","v":0},{"$f":"IF(P12=0,0,(P12*((LOG(P12))/LOG(2))))","v":0},null,null,{"$f":"N12","v":212},{"$f":"COUNTIF(L7:L34,T12)","v":0},{"$f":"U12/(W4-U11)","v":0},{"$f":"IF(V12=0,0,(V12*((LOG(V12))/LOG(2))))","v":0},null,{"$f":"N12","v":212},{"$f":"COUNTIF(L35:L62,Y12)","v":0},{"$f":"Z12/(AB4-Z11)","v":0},{"$f":"IF(AA12=0,0,(AA12*((LOG(AA12))/LOG(2))))","v":0},null,{"$f":"N12","v":212},{"$f":"COUNTIF(L63:L89,AD12)","v":0},{"$f":"AE12/(AG4-AE11)","v":0},{"$f":"IF(AF12=0,0,(AF12*((LOG(AF12))/LOG(2))))","v":0},null,{"$f":"N12","v":212},{"$f":"COUNTIF(L90:L117,AI12)","v":0},{"$f":"AJ12/(AL4-AJ11)","v":0},{"$f":"IF(AK12=0,0,(AK12*((LOG(AK12))/LOG(2))))","v":0},null,{"$f":"N12","v":212},{"$f":"COUNTIF(L118:L145,AN12)","v":0},{"$f":"AO12/(AQ4-AO11)","v":0},{"$f":"IF(AP12=0,0,(AP12*((LOG(AP12))/LOG(2))))","v":0},null,{"$f":"N12","v":212},{"$f":"COUNTIF(L146:L173,AS12)","v":0},{"$f":"AT12/(AV4-AT11)","v":0},{"$f":"IF(AU12=0,0,(AU12*((LOG(AU12))/LOG(2))))","v":0}]
[12,789,13,794,13,803,null,null,null,null,0,111,null,221,{"$f":"COUNTIF($L$7:$L$500,N13)","v":0},{"$f":"O13/$Q$4","v":0},{"$f":"IF(P13=0,0,(P13*((LOG(P13))/LOG(2))))","v":0},null,null,{"$f":"N13","v":221},{"$f":"COUNTIF(L7:L34,T13)","v":0},{"$f":"U13/(W4-U11)","v":0},{"$f":"IF(V13=0,0,(V13*((LOG(V13))/LOG(2))))","v":0},null,{"$f":"N13","v":221},{"$f":"COUNTIF(L35:L62,Y13)","v":0},{"$f":"Z13/(AB4-Z11)","v":0},{"$f":"IF(AA13=0,0,(AA13*((LOG(AA13))/LOG(2))))","v":0},null,{"$f":"N13","v":221},{"$f":"COUNTIF(L63:L89,AD13)","v":0},{"$f":"AE13/(AG4-AE11)","v":0},{"$f":"IF(AF13=0,0,(AF13*((LOG(AF13))/LOG(2))))","v":0},null,{"$f":"N13","v":221},{"$f":"COUNTIF(L90:L117,AI13)","v":0},{"$f":"AJ13/(AL4-AJ11)","v":0},{"$f":"IF(AK13=0,0,(AK13*((LOG(AK13))/LOG(2))))","v":0},null,{"$f":"N13","v":221},{"$f":"COUNTIF(L118:L145,AN13)","v":0},{"$f":"AO13/(AQ4-AO11)","v":0},{"$f":"IF(AP13=0,0,(AP13*((LOG(AP13))/LOG(2))))","v":0},null,{"$f":"N13","v":221},{"$f":"COUNTIF(L146:L173,AS13)","v":0},{"$f":"AT13/(AV4-AT11)","v":0},{"$f":"IF(AU13=0,0,(AU13*((LOG(AU13))/LOG(2))))","v":0}]
[12,928,13,936,13,944,null,null,null,null,0,111,null,222,{"$f":"COUNTIF($L$7:$L$500,N14)","v":13},{"$f":"O14/$Q$4","v":7.7844311377245512E-2},{"$f":"IF(P14=0,0,(P14*((LOG(P14))/LOG(2))))","v":-0.28672119440915261},null,null,{"$f":"N14","v":222},{"$f":"COUNTIF(L7:L34,T14)","v":0},{"$f":"U14/(W4-U11)","v":0},{"$f":"IF(V14=0,0,(V14*((LOG(V14))/LOG(2))))","v":0},null,{"$f":"N14","v":222},{"$f":"COUNTIF(L35:L62,Y14)","v":1},{"$f":"Z14/(AB4-Z11)","v":3.5714285714285712E-2},{"$f":"IF(AA14=0,0,(AA14*((LOG(AA14))/LOG(2))))","v":-0.17169124721634299},null,{"$f":"N14","v":222},{"$f":"COUNTIF(L63:L89,AD14)","v":3},{"$f":"AE14/(AG4-AE11)","v":0.1111111111111111},{"$f":"IF(AF14=0,0,(AF14*((LOG(AF14))/LOG(2))))","v":-0.3522138890491458},null,{"$f":"N14","v":222},{"$f":"COUNTIF(L90:L117,AI14)","v":5},{"$f":"AJ14/(AL4-AJ11)","v":0.17857142857142858},{"$f":"IF(AK14=0,0,(AK14*((LOG(AK14))/LOG(2))))","v":-0.44382621913754317},null,{"$f":"N14","v":222},{"$f":"COUNTIF(L118:L145,AN14)","v":3},{"$f":"AO14/(AQ4-AO11)","v":0.10714285714285714},{"$f":"IF(AP14=0,0,(AP14*((LOG(AP14))/LOG(2))))","v":-0.34525633085747659},null,{"$f":"N14","v":222},{"$f":"COUNTIF(L146:L173,AS14)","v":1},{"$f":"AT14/(AV4-AT11)","v":3.5714285714285712E-2},{"$f":"IF(AU14=0,0,(AU14*((LOG(AU14))/LOG(2))))","v":-0.17169124721634299}]
[12,1060,13,1069,13,1080,null,null,null,null,0,111,null,null,null,{"$f":"SUM(P7:P14)","v":1},{"$f":"-SUM(Q7:Q14)","v":1.1613501785244662},null,null,null,null,{"$f":"SUM(V7:V14)","v":1},{"$f":"-SUM(W7:W14)","v":0.22228483068568797},null,null,null,{"$f":"SUM(AA7:AA14)","v":1},{"$f":"-SUM(AB7:AB14)","v":0.22228483068568797},null,null,null,{"$f":"SUM(AF7:AF14)","v":1},{"$f":"-SUM(AG7:AG14)","v":1.2932019370674837},null,null,null,{"$f":"SUM(AK7:AK14)","v":1},{"$f":"-SUM(AL7:AL14)","v":1.4263445470433742},null,null,null,{"$f":"SUM(AP7:AP14)","v":0.99999999999999989},{"$f":"-SUM(AQ7:AQ14)","v":1.4153804484176566},null,null,null,{"$f":"SUM(AU7:AU14)","v":0.99999999999999989},{"$f":"-SUM(AV7:AV14)","v":1.4313076001654323}]
[12,1207,13,1213,13,1228,null,null,null,null,0,111,null,null,null,"U=",{"$f":"Q15/(LOG(Q4)/LOG(2))","v":0.1572855754405264},null,null,null,null,"U1=",{"$f":"W15/(LOG(W4)/LOG(2))","v":4.623848962467441E-2},null,null,null,"U2=",{"$f":"AB15/(LOG(AB4)/LOG(2))","v":4.623848962467441E-2},null,null,null,"U3=",{"$f":"AG15/(LOG(AG4)/LOG(2))","v":0.27197319315737295},null,null,null,"U4=",{"$f":"AL15/(LOG(AL4)/LOG(2))","v":0.29670048710131064},null,null,null,"U5=",{"$f":"AQ15/(LOG(AQ4)/LOG(2))","v":0.2944197945367964},null,null,null,"U6=",{"$f":"AV15/(LOG(AV4)/LOG(2))","v":0.29773287459974268}]
[12,1362,13,1369,13,1379,null,null,null,null,0,111]
[12,1491,13,1497,13,1508,null,null,null,null,0,111]
[12,1635,13,1641,13,1649,null,null,null,null,0,111,null,"Total Target Seq"]
[12,1758,13,1764,13,1774,null,null,null,null,0,111,null,{"$f":"COUNTIF(L7:L173,G3)","v":0},null,28,28,27,28,28,28]
[12,1891,13,1901,13,1910,null,null,null,null,0,111,null,null,null,"% of reinforcement given in 6 equal intervals based on number of trials "]
[12,2019,13,2025,13,2032,null,null,null,null,0,111,null,null,null,"%_1","%_2","%_3","%_4","%_5","%_6"]
[12,2156,13,2163,13,2171,null,null,null,null,0,111,null,null,"target sequence",{"$f":"$G$3","v":211},{"$f":"$G$3","v":211},{"$f":"$G$3","v":211},{"$f":"$G$3","v":211},{"$f":"$G$3","v":211},{"$f":"$G$3","v":211}]
[12,2286,13,2292,13,2301,null,null,null,null,0,111,null,null,"total reinforcement",{"$f":"U11","v":0},{"$f":"Z11","v":0},{"$f":"AE11","v":0},{"$f":"AJ11","v":0},{"$f":"AO11","v":0},{"$f":"AT11","v":0}]
[12,2431,13,2437,13,2446,null,null,null,null,0,111,null,null,"% target"]
[12,2559,13,2578,13,2587,null,null,null,null,0,111,null,null,"CCRF"]
[12,2706,13,2712,13,2742,null,null,null,null,0,111,null,null,"% CCRf"]
[12,2881,13,2893,13,2901,null,null,null,null,0,111,null,null,"average response rate",{"$f":"F34/P20","v":134.28571428571428},{"$f":"(F62-F34)/Q20","v":145.28571428571428},{"$f":"(F89-F62)/R20","v":154.03703703703704},{"$f":"(F117-F89)/S20","v":142.89285714285714},{"$f":"(F145-F117)/T20","v":133.85714285714286},{"$f":"(F173-F145)/U20","v":149.46428571428572}]
[12,3027,13,3032,13,3059,null,null,null,null,0,111]
[12,3175,13,3186,13,3208,null,null,null,null,0,111]
[12,3330,13,3336,13,3342,null,null,null,null,0,111]
[12,3464,13,3477,13,3490,null,null,null,null,0,111]
[12,3605,13,3613,13,3622,null,null,null,null,0,111]
[12,3735,13,3751,13,3760,null,null,null,null,0,111]
[12,3878,13,3884,13,3896,null,null,null,null,0,111]
[12,4006,13,4012,13,4024,null,null,null,null,0,111]
[12,4169,13,4175,13,4181,null,null,null,null,0,111]
[12,4297,13,4303,13,4316,null,null,null,null,0,111]
[12,4422,13,4428,13,4434,null,null,null,null,0,111]
[12,4555,13,4561,13,4568,null,null,null,null,0,111]
[12,4688,13,4693,13,4702,null,null,null,null,0,111]
[12,4820,13,4829,13,4885,null,null,null,null,0,111]
[12,5023,13,5032,13,5047,null,null,null,null,0,111]
[12,5167,13,5174,13,5180,null,null,null,null,0,111]
[12,5294,13,5299,13,5308,null,null,null,null,0,111]
[12,5426,13,5432,13,5444,null,null,null,null,0,111]
[12,5572,13,5582,13,5589,null,null,null,null,0,111]
[12,5700,13,5705,13,5717,null,null,null,null,0,111]
[12,5830,13,5835,13,5842,null,null,null,null,0,111]
[12,5948,13,5958,13,6002,null,null,null,null,0,111]
[12,6115,13,6121,13,6133,null,null,null,null,0,111]
[12,6324,13,6334,13,6373,null,null,null,null,0,111]
[12,6526,13,6540,13,6566,null,null,null,null,0,111]
[12,6680,13,6685,13,6691,null,null,null,null,0,111]
[21,6797,22,6803,24,6811,null,null,null,null,0,222]
[12,6916,13,6921,13,6927,null,null,null,null,0,111]
[12,7042,13,7047,13,7092,null,null,null,null,0,111]
[12,7222,13,7230,13,7254,null,null,null,null,0,111]
[12,7374,13,7380,13,7390,null,null,null,null,0,111]
[12,7509,13,7522,13,7536,null,null,null,null,0,111]
[12,7677,13,7684,13,7693,null,null,null,null,0,111]
[12,7812,13,7817,13,7828,null,null,null,null,0,111]
[21,7992,22,7998,24,8024,null,null,null,null,0,222]
[12,8138,13,8144,13,8150,null,null,null,null,0,111]
[12,8275,13,8284,13,8294,null,null,null,null,0,111]
[12,8416,13,8423,13,8430,null,null,null,null,0,111]
[12,8534,24,8573,24,8582,null,null,null,null,0,122]
[12,8707,13,8714,13,8720,null,null,null,null,0,111]
[12,8823,13,8881,13,8890,null,null,null,null,0,111]
[12,9023,24,9062,24,9070,null,null,null,null,0,122]
[12,9185,13,9197,13,9204,null,null,null,null,0,111]
[12,9300,24,9315,24,9325,null,null,null,null,0,122]
[12,9447,13,9578,13,9660,null,null,null,null,0,111]
[12,9773,13,9779,13,9787,null,null,null,null,0,111]
[12,9908,13,9920,13,9935,null,null,null,null,0,111]
[21,10052,22,10063,24,10068,null,null,null,null,0,222]
[12,10180,13,10191,13,10222,null,null,null,null,0,111]
[12,10326,13,10357,13,10374,null,null,null,null,0,111]
[12,10479,24,10498,24,10506,null,null,null,null,0,122]
[12,10620,13,10626,13,10656,null,null,null,null,0,111]
[12,10767,13,10771,24,10794,null,null,null,null,0,112]
[12,10926,13,10938,13,10947,null,null,null,null,0,111]
[12,11065,13,11099,13,11109,null,null,null,null,0,111]
[12,11224,13,11231,13,11237,null,null,null,null,0,111]
[21,11367,22,11374,24,11382,null,null,null,null,0,222]
[12,11511,13,11517,13,11531,null,null,null,null,0,111]
[12,11642,13,11666,13,11724,null,null,null,null,0,111]
[12,11824,13,11829,13,11846,null,null,null,null,0,111]
[12,11965,13,11971,13,11987,null,null,null,null,0,111]
[12,12095,24,12113,24,12122,null,null,null,null,0,122]
[21,12242,22,12247,24,12263,null,null,null,null,0,222]
[12,12372,13,12377,13,12384,null,null,null,null,0,111]
[12,12495,13,12500,13,12507,null,null,null,null,0,111]
[12,12615,13,12620,13,12626,null,null,null,null,0,111]
[12,12741,13,12759,13,12783,null,null,null,null,0,111]
[21,12925,22,12938,24,12948,null,null,null,null,0,222]
[21,13071,22,13076,24,13082,null,null,null,null,0,222]
[12,13199,13,13207,13,13214,null,null,null,null,0,111]
[12,13324,13,13335,13,13352,null,null,null,null,0,111]
[12,13456,13,13487,24,13521,null,null,null,null,0,112]
[12,13638,13,13645,13,13659,null,null,null,null,0,111]
[12,13775,13,13798,13,13819,null,null,null,null,0,111]
[12,13933,13,13938,13,13944,null,null,null,null,0,111]
[12,14053,13,14059,13,14074,null,null,null,null,0,111]
[12,14180,13,14188,13,14215,null,null,null,null,0,111]
[21,14358,22,14367,24,14380,null,null,null,null,0,222]
[12,14485,13,14492,13,14532,null,null,null,null,0,111]
[12,14677,13,14682,13,14688,null,null,null,null,0,111]
[12,14795,24,14817,24,14832,null,null,null,null,0,122]
[12,14979,13,14985,13,14991,null,null,null,null,0,111]
[12,15096,13,15102,13,15115,null,null,null,null,0,111]
[12,15228,13,15239,13,15247,null,null,null,null,0,111]
[12,15371,13,15377,13,15383,null,null,null,null,0,111]
[12,15503,24,15516,24,15540,null,null,null,null,0,122]
[21,15659,22,15666,24,15674,null,null,null,null,0,222]
[12,15783,24,15833,24,15857,null,null,null,null,0,122]
[12,15976,13,15982,13,15988,null,null,null,null,0,111]
[12,16097,13,16102,13,16122,null,null,null,null,0,111]
[12,16233,13,16239,13,16244,null,null,null,null,0,111]
[12,16350,13,16355,24,16410,null,null,null,null,0,112]
[12,16514,13,16519,13,16525,null,null,null,null,0,111]
[12,16623,13,16629,13,16634,null,null,null,null,0,111]
[21,16759,22,16770,24,16776,null,null,null,null,0,222]
[12,16877,13,16884,13,16891,null,null,null,null,0,111]
[12,16990,13,16995,13,17008,null,null,null,null,0,111]
[12,17111,13,17116,24,17135,null,null,null,null,0,112]
[12,17245,13,17257,13,17266,null,null,null,null,0,111]
[12,17368,24,17386,24,17394,null,null,null,null,0,122]
[12,17513,13,17520,13,17528,null,null,null,null,0,111]
[12,17634,13,17639,13,17645,null,null,null,null,0,111]
[12,17754,13,17765,13,17799,null,null,null,null,0,111]
[12,17906,13,17911,13,17918,null,null,null,null,0,111]
[12,18023,24,18043,24,18050,null,null,null,null,0,122]
[12,18156,13,18205,13,18213,null,null,null,null,0,111]
[12,18323,13,18328,24,18351,null,null,null,null,0,112]
[12,18462,13,18468,13,18474,null,null,null,null,0,111]
[21,18603,22,18616,24,18633,null,null,null,null,0,222]
[12,18732,13,18738,13,18743,null,null,null,null,0,111]
[12,18850,24,18890,24,18910,null,null,null,null,0,122]
[12,19017,13,19024,13,19030,null,null,null,null,0,111]
[21,19168,22,19174,24,19189,null,null,null,null,0,222]
[12,19317,13,19333,13,19339,null,null,null,null,0,111]
[12,19447,13,19453,13,19458,null,null,null,null,0,111]
[12,19587,13,19600,13,19609,null,null,null,null,0,111]
[12,19724,13,19730,13,19736,null,null,null,null,0,111]
[12,19839,13,19844,24,19878,null,null,null,null,0,112]
[12,20010,24,20036,24,20052,null,null,null,null,0,122]
[12,20190,24,20239,24,20251,null,null,null,null,0,122]
[12,20379,13,20384,13,20396,null,null,null,null,0,111]
[12,20531,13,20537,13,20546,null,null,null,null,0,111]
[12,20661,13,20671,13,20678,null,null,null,null,0,111]
[12,20780,13,20784,13,20792,null,null,null,null,0,111]
[12,20897,13,20903,13,20916,null,null,null,null,0,111]
[12,21021,13,21026,13,21031,null,null,null,null,0,111]
[12,21136,13,21161,13,21185,null,null,null,null,0,111]
[12,21298,24,21327,24,21346,null,null,null,null,0,122]
[12,21476,24,21494,24,21502,null,null,null,null,0,122]
[12,21663,13,21670,13,21711,null,null,null,null,0,111]
[12,21834,24,21851,24,21867,null,null,null,null,0,122]
[21,22001,22,22012,24,22023,null,null,null,null,0,222]
[12,22149,13,22153,13,22160,null,null,null,null,0,111]
[12,22307,24,22322,24,22327,null,null,null,null,0,122]
[12,22476,13,22482,13,22488,null,null,null,null,0,111]
[12,22611,24,22631,24,22641,null,null,null,null,0,122]
[12,22762,24,22803,24,22811,null,null,null,null,0,122]
[12,22925,13,22930,13,22965,null,null,null,null,0,111]
[12,23087,13,23117,13,23125,null,null,null,null,0,111]
[12,23231,13,23248,13,23255,null,null,null,null,0,111]
[12,23369,24,23394,24,23402,null,null,null,null,0,122]
[12,23515,13,23521,24,23546,null,null,null,null,0,112]
[12,23655,13,23662,13,23667,null,null,null,null,0,111]
[12,23783,13,23789,13,23805,null,null,null,null,0,111]
[12,23906,13,23912,13,23921,null,null,null,null,null,111]

{"sheet":"!N403740.010","index":11,"n_rows":187,"n_cols":48,"rows_kept":187,"cut":false,"hidden":false,"merged":[[4,39,4,42],[5,39,5,40],[4,44,4,47],[5,44,5,45],[4,24,4,27],[5,24,5,25],[4,29,4,32],[5,29,5,30],[4,34,4,37],[5,34,5,35],[1,1,1,2],[5,13,5,14],[18,13,18,14],[19,13,19,14],[4,19,4,22],[5,19,5,20]]}
["Report for:!N403740.010"]
["Date:","<date>"]
["Hen:","<hen>",null,null,null,"Correct Sequence",{"$f":"Start!J2","v":211},null,null,null,null,null,null,null,null,"Total Sequences in Data",{"$f":"4994-COUNTBLANK(L7:L5000)","v":181},null,null,null,null,"Total Sequences in Block Data",{"$f":"COUNTA(L7:L36)","v":30},null,null,null,"Total Sequences in Block Data",{"$f":"COUNTA(L37:L66)","v":30},null,null,null,"Total Sequences in Block Data",{"$f":"COUNTA(L67:L97)","v":31},null,null,null,"Total Sequences in Block Data",{"$f":"COUNTA(L98:L127)","v":30},null,null,null,"Total Sequences in Block Data",{"$f":"COUNTA(L128:L157)","v":30},null,null,null,"Total Sequences in Block Data",{"$f":"COUNTA(L158:L187)","v":30}]
[null,null,null,null,null,null,null,null,null,null,null,null,null,null,null,"Total Sequences in Summary",{"$f":"SUM(O7:O14)","v":180},null,null,null,null,"Total Sequences in Block Summary",{"$f":"SUM(U7:U14)","v":30},null,null,null,"Total Sequences in Block Summary",{"$f":"SUM(Z7:Z14)","v":30},null,null,null,"Total Sequences in Block Summary",{"$f":"SUM(AE7:AE14)","v":31},null,null,null,"Total Sequences in Block Summary",{"$f":"SUM(AJ7:AJ14)","v":30},null,null,null,"Total Sequences in Block Summary",{"$f":"SUM(AO7:AO14)","v":30},null,null,null,"Total Sequences in Block Summary",{"$f":"SUM(AT7:AT14)","v":29}]
[null,null,null,null,null,null,null,null,null,null,null,null,null,null,null,null,null,null,null,"Block 1",null,null,null,null,"Block 2",null,null,null,null,"Block 3",null,null,null,null,"Block 4",null,null,null,null,"Block 5",null,null,null,null,"Block 6"]
["Sequence\nComponent\n1","Time\n1","Sequence\nComponent\n2","Time\n2","Sequence\nComponent\n3","Time\n3","Sequence\nComponent\n4","Time\n4","Sequence\nComponent\n5","Time\n5","Correct?\n0=No 1=Yes","Sequence",null,"Frequency",null,"Relative Frequency","Variability",null,null,"Frequency",null,"Relative Frequency","Variability",null,"Frequency",null,"Relative Frequency","Variability",null,"Frequency",null,"Relative Frequency","Variability",null,"Frequency",null,"Relative Frequency","Variability",null,"Frequency",null,"Relative Frequency","Variability",null,"Frequency",null,"Relative Frequency","Variability"]
[12,9,13,18,13,28,null,null,null,null,0,111,null,111,{"$f":"COUNTIF($L$7:$L$500,N7)","v":144},{"$f":"O7/$Q$4","v":0.8},{"$f":"IF(P7=0,0,(P7*((LOG(P7))/LOG(2))))","v":-0.25754247590988982},null,null,{"$f":"N7","v":111},{"$f":"COUNTIF(L7:L36,T7)","v":26},{"$f":"U7/(W4-U11)","v":0.8666666666666667},{"$f":"IF(V7=0,0,(V7*((LOG(V7))/LOG(2))))","v":-0.17892409380510282},null,{"$f":"N7","v":111},{"$f":"COUNTIF(L37:L66,Y7)","v":26},{"$f":"Z7/(AB4-Z11)","v":0.8666666666666667},{"$f":"IF(AA7=0,0,(AA7*((LOG(AA7))/LOG(2))))","v":-0.17892409380510282},null,{"$f":"N7","v":111},{"$f":"COUNTIF(L67:L97,AD7)","v":24},{"$f":"AE7/(AG4-AE11)","v":0.77419354838709675},{"$f":"IF(AF7=0,0,(AF7*((LOG(AF7))/LOG(2))))","v":-0.28585843328958893},null,{"$f":"N7","v":111},{"$f":"COUNTIF(L98:L127,AI7)","v":23},{"$f":"AJ7/(AL4-AJ11)","v":0.76666666666666672},{"$f":"IF(AK7=0,0,(AK7*((LOG(AK7))/LOG(2))))","v":-0.2938852903228209},null,{"$f":"N7","v":111},{"$f":"COUNTIF(L128:L157,AN7)","v":19},{"$f":"AO7/(AQ4-AO11)","v":0.6333333333333333},{"$f":"IF(AP7=0,0,(AP7*((LOG(AP7))/LOG(2))))","v":-0.41734328537112425},null,{"$f":"N7","v":111},{"$f":"COUNTIF(L158:L187,AS7)","v":26},{"$f":"AT7/(AV4-AT11)","v":0.89655172413793105},{"$f":"IF(AU7=0,0,(AU7*((LOG(AU7))/LOG(2))))","v":-0.14124390350511995}]
[12,143,13,149,13,159,null,null,null,null,0,111,null,112,{"$f":"COUNTIF($L$7:$L$500,N8)","v":11},{"$f":"O8/$Q$4","v":6.1111111111111109E-2},{"$f":"IF(P8=0,0,(P8*((LOG(P8))/LOG(2))))","v":-0.24642575697008973},null,null,{"$f":"N8","v":112},{"$f":"COUNTIF(L7:L36,T8)","v":1},{"$f":"U8/(W4-U11)","v":3.3333333333333333E-2},{"$f":"IF(V8=0,0,(V8*((LOG(V8))/LOG(2))))","v":-0.16356301985361729},null,{"$f":"N8","v":112},{"$f":"COUNTIF(L37:L66,Y8)","v":2},{"$f":"Z8/(AB4-Z11)","v":6.6666666666666666E-2},{"$f":"IF(AA8=0,0,(AA8*((LOG(AA8))/LOG(2))))","v":-0.26045937304056793},null,{"$f":"N8","v":112},{"$f":"COUNTIF(L67:L97,AD8)","v":3},{"$f":"AE8/(AG4-AE11)","v":9.6774193548387094E-2},{"$f":"IF(AF8=0,0,(AF8*((LOG(AF8))/LOG(2))))","v":-0.32605488480635986},null,{"$f":"N8","v":112},{"$f":"COUNTIF(L98:L127,AI8)","v":2},{"$f":"AJ8/(AL4-AJ11)","v":6.6666666666666666E-2},{"$f":"IF(AK8=0,0,(AK8*((LOG(AK8))/LOG(2))))","v":-0.26045937304056793},null,{"$f":"N8","v":112},{"$f":"COUNTIF(L128:L157,AN8)","v":2},{"$f":"AO8/(AQ4-AO11)","v":6.6666666666666666E-2},{"$f":"IF(AP8=0,0,(AP8*((LOG(AP8))/LOG(2))))","v":-0.26045937304056793},null,{"$f":"N8","v":112},{"$f":"COUNTIF(L158:L187,AS8)","v":1},{"$f":"AT8/(AV4-AT11)","v":3.4482758620689655E-2},{"$f":"IF(AU8=0,0,(AU8*((LOG(AU8))/LOG(2))))","v":-0.16751658603888178}]
[12,263,13,271,13,281,null,null,null,null,0,111,null,121,{"$f":"COUNTIF($L$7:$L$500,N9)","v":0},{"$f":"O9/$Q$4","v":0},{"$f":"IF(P9=0,0,(P9*((LOG(P9))/LOG(2))))","v":0},null,null,{"$f":"N9","v":121},{"$f":"COUNTIF(L7:L36,T9)","v":0},{"$f":"U9/(W4-U11)","v":0},{"$f":"IF(V9=0,0,(V9*((LOG(V9))/LOG(2))))","v":0},null,{"$f":"N9","v":121},{"$f":"COUNTIF(L37:L66,Y9)","v":0},{"$f":"Z9/(AB4-Z11)","v":0},{"$f":"IF(AA9=0,0,(AA9*((LOG(AA9))/LOG(2))))","v":0},null,{"$f":"N9","v":121},{"$f":"COUNTIF(L67:L97,AD9)","v":0},{"$f":"AE9/(AG4-AE11)","v":0},{"$f":"IF(AF9=0,0,(AF9*((LOG(AF9))/LOG(2))))","v":0},null,{"$f":"N9","v":121},{"$f":"COUNTIF(L98:L127,AI9)","v":0},{"$f":"AJ9/(AL4-AJ11)","v":0},{"$f":"IF(AK9=0,0,(AK9*((LOG(AK9))/LOG(2))))","v":0},null,{"$f":"N9","v":121},{"$f":"COUNTIF(L128:L157,AN9)","v":0},{"$f":"AO9/(AQ4-AO11)","v":0},{"$f":"IF(AP9=0,0,(AP9*((LOG(AP9))/LOG(2))))","v":0},null,{"$f":"N9","v":121},{"$f":"COUNTIF(L158:L187,AS9)","v":0},{"$f":"AT9/(AV4-AT11)","v":0},{"$f":"IF(AU9=0,0,(AU9*((LOG(AU9))/LOG(2))))","v":0}]
[12,381,13,387,13,395,null,null,null,null,0,111,null,122,{"$f":"COUNTIF($L$7:$L$500,N10)","v":16},{"$f":"O10/$Q$4","v":8.8888888888888892E-2},{"$f":"IF(P10=0,0,(P10*((LOG(P10))/LOG(2))))","v":-0.31038694189597105},null,null,{"$f":"N10","v":122},{"$f":"COUNTIF(L7:L36,T10)","v":2},{"$f":"U10/(W4-U11)","v":6.6666666666666666E-2},{"$f":"IF(V10=0,0,(V10*((LOG(V10))/LOG(2))))","v":-0.26045937304056793},null,{"$f":"N10","v":122},{"$f":"COUNTIF(L37:L66,Y10)","v":1},{"$f":"Z10/(AB4-Z11)","v":3.3333333333333333E-2},{"$f":"IF(AA10=0,0,(AA10*((LOG(AA10))/LOG(2))))","v":-0.16356301985361729},null,{"$f":"N10","v":122},{"$f":"COUNTIF(L67:L97,AD10)","v":2},{"$f":"AE10/(AG4-AE11)","v":6.4516129032258063E-2},{"$f":"IF(AF10=0,0,(AF10*((LOG(AF10))/LOG(2))))","v":-0.25510943937979835},null,{"$f":"N10","v":122},{"$f":"COUNTIF(L98:L127,AI10)","v":4},{"$f":"AJ10/(AL4-AJ11)","v":0.13333333333333333},{"$f":"IF(AK10=0,0,(AK10*((LOG(AK10))/LOG(2))))","v":-0.3875854127478025},null,{"$f":"N10","v":122},{"$f":"COUNTIF(L128:L157,AN10)","v":6},{"$f":"AO10/(AQ4-AO11)","v":0.2},{"$f":"IF(AP10=0,0,(AP10*((LOG(AP10))/LOG(2))))","v":-0.46438561897747244},null,{"$f":"N10","v":122},{"$f":"COUNTIF(L158:L187,AS10)","v":1},{"$f":"AT10/(AV4-AT11)","v":3.4482758620689655E-2},{"$f":"IF(AU10=0,0,(AU10*((LOG(AU10))/LOG(2))))","v":-0.16751658603888178}]
[12,500,13,505,13,511,null,null,null,null,0,111,null,211,{"$f":"COUNTIF($L$7:$L$500,N11)","v":0},{"$f":"O11/$Q$4","v":0},{"$f":"IF(P11=0,0,(P11*((LOG(P11))/LOG(2))))","v":0},null,null,{"$f":"N11","v":211},{"$f":"COUNTIF(L7:L36,T11)","v":0},null,null,null,{"$f":"N11","v":211},{"$f":"COUNTIF(L37:L66,Y11)","v":0},null,null,null,{"$f":"N11","v":211},{"$f":"COUNTIF(L67:L97,AD11)","v":0},null,null,null,{"$f":"N11","v":211},{"$f":"COUNTIF(L98:L127,AI11)","v":0},null,null,null,{"$f":"N11","v":211},{"$f":"COUNTIF(L128:L157,AN11)","v":0},null,null,null,{"$f":"N11","v":211},{"$f":"COUNTIF(L158:L187,AS11)","v":0}]
[12,614,13,620,13,628,null,null,null,null,0,111,null,212,{"$f":"COUNTIF($L$7:$L$500,N12)","v":0},{"$f":"O12/$Q$4","v":0},{"$f":"IF(P12=0,0,(P12*((LOG(P12))/LOG(2))))","v":0},null,null,{"$f":"N12","v":212},{"$f":"COUNTIF(L7:L36,T12)","v":0},{"$f":"U12/(W4-U11)","v":0},{"$f":"IF(V12=0,0,(V12*((LOG(V12))/LOG(2))))","v":0},null,{"$f":"N12","v":212},{"$f":"COUNTIF(L37:L66,Y12)","v":0},{"$f":"Z12/(AB4-Z11)","v":0},{"$f":"IF(AA12=0,0,(AA12*((LOG(AA12))/LOG(2))))","v":0},null,{"$f":"N12","v":212},{"$f":"COUNTIF(L67:L97,AD12)","v":0},{"$f":"AE12/(AG4-AE11)","v":0},{"$f":"IF(AF12=0,0,(AF12*((LOG(AF12))/LOG(2))))","v":0},null,{"$f":"N12","v":212},{"$f":"COUNTIF(L98:L127,AI12)","v":0},{"$f":"AJ12/(AL4-AJ11)","v":0},{"$f":"IF(AK12=0,0,(AK12*((LOG(AK12))/LOG(2))))","v":0},null,{"$f":"N12","v":212},{"$f":"COUNTIF(L128:L157,AN12)","v":0},{"$f":"AO12/(AQ4-AO11)","v":0},{"$f":"IF(AP12=0,0,(AP12*((LOG(AP12))/LOG(2))))","v":0},null,{"$f":"N12","v":212},{"$f":"COUNTIF(L158:L187,AS12)","v":0},{"$f":"AT12/(AV4-AT11)","v":0},{"$f":"IF(AU12=0,0,(AU12*((LOG(AU12))/LOG(2))))","v":0}]
[12,728,24,751,24,760,null,null,null,null,0,122,null,221,{"$f":"COUNTIF($L$7:$L$500,N13)","v":0},{"$f":"O13/$Q$4","v":0},{"$f":"IF(P13=0,0,(P13*((LOG(P13))/LOG(2))))","v":0},null,null,{"$f":"N13","v":221},{"$f":"COUNTIF(L7:L36,T13)","v":0},{"$f":"U13/(W4-U11)","v":0},{"$f":"IF(V13=0,0,(V13*((LOG(V13))/LOG(2))))","v":0},null,{"$f":"N13","v":221},{"$f":"COUNTIF(L37:L66,Y13)","v":0},{"$f":"Z13/(AB4-Z11)","v":0},{"$f":"IF(AA13=0,0,(AA13*((LOG(AA13))/LOG(2))))","v":0},null,{"$f":"N13","v":221},{"$f":"COUNTIF(L67:L97,AD13)","v":0},{"$f":"AE13/(AG4-AE11)","v":0},{"$f":"IF(AF13=0,0,(AF13*((LOG(AF13))/LOG(2))))","v":0},null,{"$f":"N13","v":221},{"$f":"COUNTIF(L98:L127,AI13)","v":0},{"$f":"AJ13/(AL4-AJ11)","v":0},{"$f":"IF(AK13=0,0,(AK13*((LOG(AK13))/LOG(2))))","v":0},null,{"$f":"N13","v":221},{"$f":"COUNTIF(L128:L157,AN13)","v":0},{"$f":"AO13/(AQ4-AO11)","v":0},{"$f":"IF(AP13=0,0,(AP13*((LOG(AP13))/LOG(2))))","v":0},null,{"$f":"N13","v":221},{"$f":"COUNTIF(L158:L187,AS13)","v":0},{"$f":"AT13/(AV4-AT11)","v":0},{"$f":"IF(AU13=0,0,(AU13*((LOG(AU13))/LOG(2))))","v":0}]
[12,871,13,877,13,887,null,null,null,null,0,111,null,222,{"$f":"COUNTIF($L$7:$L$500,N14)","v":9},{"$f":"O14/$Q$4","v":0.05},{"$f":"IF(P14=0,0,(P14*((LOG(P14))/LOG(2))))","v":-0.21609640474436814},null,null,{"$f":"N14","v":222},{"$f":"COUNTIF(L7:L36,T14)","v":1},{"$f":"U14/(W4-U11)","v":3.3333333333333333E-2},{"$f":"IF(V14=0,0,(V14*((LOG(V14))/LOG(2))))","v":-0.16356301985361729},null,{"$f":"N14","v":222},{"$f":"COUNTIF(L37:L66,Y14)","v":1},{"$f":"Z14/(AB4-Z11)","v":3.3333333333333333E-2},{"$f":"IF(AA14=0,0,(AA14*((LOG(AA14))/LOG(2))))","v":-0.16356301985361729},null,{"$f":"N14","v":222},{"$f":"COUNTIF(L67:L97,AD14)","v":2},{"$f":"AE14/(AG4-AE11)","v":6.4516129032258063E-2},{"$f":"IF(AF14=0,0,(AF14*((LOG(AF14))/LOG(2))))","v":-0.25510943937979835},null,{"$f":"N14","v":222},{"$f":"COUNTIF(L98:L127,AI14)","v":1},{"$f":"AJ14/(AL4-AJ11)","v":3.3333333333333333E-2},{"$f":"IF(AK14=0,0,(AK14*((LOG(AK14))/LOG(2))))","v":-0.16356301985361729},null,{"$f":"N14","v":222},{"$f":"COUNTIF(L128:L157,AN14)","v":3},{"$f":"AO14/(AQ4-AO11)","v":0.1},{"$f":"IF(AP14=0,0,(AP14*((LOG(AP14))/LOG(2))))","v":-0.33219280948873625},null,{"$f":"N14","v":222},{"$f":"COUNTIF(L158:L187,AS14)","v":1},{"$f":"AT14/(AV4-AT11)","v":3.4482758620689655E-2},{"$f":"IF(AU14=0,0,(AU14*((LOG(AU14))/LOG(2))))","v":-0.16751658603888178}]
[12,1005,13,1012,13,1019,null,null,null,null,0,111,null,null,null,{"$f":"SUM(P7:P14)","v":1},{"$f":"-SUM(Q7:Q14)","v":1.0304515795203186},null,null,null,null,{"$f":"SUM(V7:V14)","v":1},{"$f":"-SUM(W7:W14)","v":0.76650950655290528},null,null,null,{"$f":"SUM(AA7:AA14)","v":1},{"$f":"-SUM(AB7:AB14)","v":0.7665095065529054},null,null,null,{"$f":"SUM(AF7:AF14)","v":1},{"$f":"-SUM(AG7:AG14)","v":1.1221321968555455},null,null,null,{"$f":"SUM(AK7:AK14)","v":1},{"$f":"-SUM(AL7:AL14)","v":1.1054930959648086},null,null,null,{"$f":"SUM(AP7:AP14)","v":0.99999999999999989},{"$f":"-SUM(AQ7:AQ14)","v":1.4743810868779008},null,null,null,{"$f":"SUM(AU7:AU14)","v":0.99999999999999989},{"$f":"-SUM(AV7:AV14)","v":0.64379366162176521}]
[12,1127,13,1132,13,1138,null,null,null,null,0,111,null,null,null,"U=",{"$f":"Q15/(LOG(Q4)/LOG(2))","v":0.13754295049180101},null,null,null,null,"U1=",{"$f":"W15/(LOG(W4)/LOG(2))","v":0.15621084098326998},null,null,null,"U2=",{"$f":"AB15/(LOG(AB4)/LOG(2))","v":0.15621084098327001},null,null,null,"U3=",{"$f":"AG15/(LOG(AG4)/LOG(2))","v":0.22650135895965695},null,null,null,"U4=",{"$f":"AL15/(LOG(AL4)/LOG(2))","v":0.22529401755037765},null,null,null,"U5=",{"$f":"AQ15/(LOG(AQ4)/LOG(2))","v":0.30047156302963346},null,null,null,"U6=",{"$f":"AV15/(LOG(AV4)/LOG(2))","v":0.13252288600294515}]
[12,1245,13,1250,13,1256,null,null,null,null,0,111]
[12,1369,13,1375,13,1384,null,null,null,null,0,111]
[12,1498,24,1513,24,1522,null,null,null,null,0,122,null,"Total Target Seq"]
[12,1642,13,1648,13,1673,null,null,null,null,0,111,null,{"$f":"COUNTIF(L7:L187,G3)","v":0},null,30,30,31,30,30,30]
[12,1798,13,1803,13,1809,null,null,null,null,0,111,null,null,null,"% of reinforcement given in 6 equal intervals based on number of trials "]
[12,1926,13,1932,13,1950,null,null,null,null,0,111,null,null,null,"%_1","%_2","%_3","%_4","%_5","%_6"]
[12,2057,13,2063,13,2069,null,null,null,null,0,111,null,null,"target sequence",{"$f":"$G$3","v":211},{"$f":"$G$3","v":211},{"$f":"$G$3","v":211},{"$f":"$G$3","v":211},{"$f":"$G$3","v":211},{"$f":"$G$3","v":211}]
[12,2186,13,2194,13,2200,null,null,null,null,0,111,null,null,"total reinforcement",{"$f":"U11","v":0},{"$f":"Z11","v":0},{"$f":"AE11","v":0},{"$f":"AJ11","v":0},{"$f":"AO11","v":0},{"$f":"AT11","v":0}]
[12,2329,13,2338,13,2356,null,null,null,null,0,111,null,null,"% target"]
[12,2460,13,2471,13,2477,null,null,null,null,0,111,null,null,"CCRF"]
[21,2649,22,2665,24,2679,null,null,null,null,0,222,null,null,"% CCRf"]
[12,2782,13,2788,24,2814,null,null,null,null,0,112,null,null,"average response rate",{"$f":"F36/P20","v":132.23333333333332},{"$f":"(F66-F36)/Q20","v":129.19999999999999},{"$f":"(F97-F66)/R20","v":129.61290322580646},{"$f":"(F127-F97)/S20","v":131.1},{"$f":"(F157-F127)/T20","v":143.53333333333333},{"$f":"(F187-F157)/U20","v":-670}]
[12,2922,13,2928,13,2935,null,null,null,null,0,111]
[12,3041,13,3047,13,3055,null,null,null,null,0,111]
[12,3182,13,3189,13,3207,null,null,null,null,0,111]
[12,3341,13,3353,13,3380,null,null,null,null,0,111]
[12,3539,13,3550,13,3560,null,null,null,null,0,111]
[12,3690,13,3696,13,3702,null,null,null,null,0,111]
[12,3824,13,3830,13,3840,null,null,null,null,0,111]
[12,3953,13,3958,13,3967,null,null,null,null,0,111]
[12,4080,13,4086,13,4093,null,null,null,null,0,111]
[12,4216,13,4221,13,4228,null,null,null,null,0,111]
[12,4339,13,4345,13,4361,null,null,null,null,0,111]
[12,4481,13,4488,13,4497,null,null,null,null,0,111]
[12,4606,13,4612,13,4622,null,null,null,null,0,111]
[12,4728,13,4734,13,4740,null,null,null,null,0,111]
[12,4840,13,4845,24,4882,null,null,null,null,0,112]
[12,4990,13,4995,13,5004,null,null,null,null,0,111]
[12,5107,13,5113,13,5121,null,null,null,null,0,111]
[12,5232,13,5238,13,5244,null,null,null,null,0,111]
[12,5344,13,5350,13,5357,null,null,null,null,0,111]
[12,5460,13,5468,13,5473,null,null,null,null,0,111]
[12,5575,13,5580,13,5586,null,null,null,null,0,111]
[12,5692,13,5698,13,5715,null,null,null,null,0,111]
[12,5817,24,5836,24,5843,null,null,null,null,0,122]
[21,5996,22,6003,24,6013,null,null,null,null,0,222]
[12,6118,13,6135,13,6140,null,null,null,null,0,111]
[12,6245,13,6250,13,6256,null,null,null,null,0,111]
[12,6367,13,6378,13,6391,null,null,null,null,0,111]
[12,6502,13,6539,13,6546,null,null,null,null,0,111]
[12,6662,13,6689,13,6700,null,null,null,null,0,111]
[12,6799,13,6820,24,6838,null,null,null,null,0,112]
[12,6970,13,6986,13,6997,null,null,null,null,0,111]
[12,7106,13,7112,13,7118,null,null,null,null,0,111]
[12,7229,13,7234,13,7239,null,null,null,null,0,111]
[12,7346,13,7369,13,7380,null,null,null,null,0,111]
[12,7486,13,7491,13,7498,null,null,null,null,0,111]
[12,7605,13,7611,13,7617,null,null,null,null,0,111]
[12,7715,13,7722,13,7728,null,null,null,null,0,111]
[12,7831,13,7837,13,7843,null,null,null,null,0,111]
[12,7941,13,7947,13,7954,null,null,null,null,0,111]
[12,8056,13,8062,13,8068,null,null,null,null,0,111]
[12,8185,13,8191,13,8199,null,null,null,null,0,111]
[12,8301,13,8310,13,8317,null,null,null,null,0,111]
[12,8441,13,8446,13,8463,null,null,null,null,0,111]
[12,8568,13,8573,13,8579,null,null,null,null,0,111]
[12,8717,13,8726,13,8739,null,null,null,null,0,111]
[12,8852,13,8858,13,8863,null,null,null,null,0,111]
[12,8962,13,8969,13,8975,null,null,null,null,0,111]
[21,9119,22,9125,24,9142,null,null,null,null,0,222]
[12,9247,13,9271,13,9277,null,null,null,null,0,111]
[12,9385,13,9397,13,9416,null,null,null,null,0,111]
[12,9529,24,9547,24,9553,null,null,null,null,0,122]
[12,9653,13,9659,13,9664,null,null,null,null,0,111]
[12,9763,13,9773,13,9781,null,null,null,null,0,111]
[12,9911,13,9925,24,9939,null,null,null,null,0,112]
[12,10042,13,10047,13,10053,null,null,null,null,0,111]
[12,10172,13,10178,13,10185,null,null,null,null,0,111]
[12,10288,13,10295,13,10301,null,null,null,null,0,111]
[12,10399,13,10405,24,10422,null,null,null,null,0,112]
[12,10545,13,10552,13,10560,null,null,null,null,0,111]
[12,10669,13,10679,24,10695,null,null,null,null,0,112]
[12,10816,13,10836,13,10843,null,null,null,null,0,111]
[12,10943,13,10948,13,10960,null,null,null,null,0,111]
[12,11067,13,11072,13,11085,null,null,null,null,0,111]
[12,11187,24,11201,24,11220,null,null,null,null,0,122]
[12,11328,13,11334,13,11340,null,null,null,null,0,111]
[12,11443,13,11448,13,11455,null,null,null,null,0,111]
[12,11562,13,11569,13,11583,null,null,null,null,0,111]
[12,11706,13,11712,13,11718,null,null,null,null,0,111]
[21,11842,22,11848,24,11861,null,null,null,null,0,222]
[12,11970,13,11975,13,11982,null,null,null,null,0,111]
[12,12088,13,12094,13,12102,null,null,null,null,0,111]
[12,12233,13,12251,13,12260,null,null,null,null,0,111]
[12,12384,24,12398,24,12408,null,null,null,null,0,122]
[12,12529,13,12534,24,12559,null,null,null,null,0,112]
[12,12668,13,12674,13,12680,null,null,null,null,0,111]
[12,12795,13,12801,13,12809,null,null,null,null,0,111]
[12,12914,24,12937,24,12945,null,null,null,null,0,122]
[21,13068,22,13075,24,13084,null,null,null,null,0,222]
[12,13189,13,13195,13,13201,null,null,null,null,0,111]
[12,13302,13,13309,13,13316,null,null,null,null,0,111]
[12,13465,13,13471,13,13480,null,null,null,null,0,111]
[12,13583,13,13590,13,13595,null,null,null,null,0,111]
[12,13708,13,13713,13,13719,null,null,null,null,0,111]
[12,13829,13,13835,13,13842,null,null,null,null,0,111]
[12,13954,13,13960,13,13969,null,null,null,null,0,111]
[12,14087,13,14093,13,14101,null,null,null,null,0,111]
[12,14212,13,14234,13,14245,null,null,null,null,0,111]
[12,14348,13,14356,24,14370,null,null,null,null,0,112]
[12,14476,13,14481,13,14488,null,null,null,null,0,111]
[12,14598,24,14613,24,14631,null,null,null,null,0,122]
[12,14760,13,14766,13,14772,null,null,null,null,0,111]
[12,14889,24,14905,24,14916,null,null,null,null,0,122]
[12,15024,13,15033,13,15040,null,null,null,null,0,111]
[12,15148,13,15153,13,15160,null,null,null,null,0,111]
[12,15278,13,15283,13,15291,null,null,null,null,0,111]
[12,15395,13,15401,13,15408,null,null,null,null,0,111]
[12,15522,13,15527,13,15540,null,null,null,null,0,111]
[12,15650,13,15655,13,15661,null,null,null,null,0,111]
[12,15782,13,15788,13,15794,null,null,null,null,0,111]
[21,15921,22,15927,24,15937,null,null,null,null,0,222]
[12,16042,13,16065,24,16077,null,null,null,null,0,112]
[12,16197,24,16210,24,16218,null,null,null,null,0,122]
[12,16335,24,16349,24,16355,null,null,null,null,0,122]
[12,16466,13,16472,13,16479,null,null,null,null,0,111]
[12,16584,13,16605,13,16610,null,null,null,null,0,111]
[12,16729,13,16756,13,16767,null,null,null,null,0,111]
[12,16899,13,16906,13,16924,null,null,null,null,0,111]
[12,17078,13,17088,13,17094,null,null,null,null,0,111]
[12,17225,13,17238,13,17256,null,null,null,null,0,111]
[12,17411,13,17417,24,17441,null,null,null,null,0,112]
[21,17600,22,17616,24,17625,null,null,null,null,0,222]
[12,17764,13,17776,13,17784,null,null,null,null,0,111]
[12,17941,24,17955,24,17959,null,null,null,null,0,122]
[12,18063,13,18069,13,18074,null,null,null,null,0,111]
[12,18178,13,18184,13,18190,null,null,null,null,0,111]
[12,18317,13,18322,13,18329,null,null,null,null,0,111]
[12,18439,13,18444,13,18480,null,null,null,null,0,111]
[12,18593,24,18623,24,18629,null,null,null,null,0,122]
[12,18736,13,18740,13,18746,null,null,null,null,0,111]
[12,18847,13,18852,13,18859,null,null,null,null,0,111]
[12,18986,13,18992,13,18999,null,null,null,null,0,111]
[12,19109,13,19114,13,19120,null,null,null,null,0,111]
[12,19224,13,19231,13,19244,null,null,null,null,0,111]
[12,19344,13,19358,13,19364,null,null,null,null,0,111]
[12,19481,24,19501,24,19506,null,null,null,null,0,122]
[21,19656,22,19665,24,19671,null,null,null,null,0,222]
[12,19808,13,19814,13,19822,null,null,null,null,0,111]
[12,19946,13,19952,13,19958,null,null,null,null,0,111]
[12,20073,24,20090,24,20100,null,null,null,null,0,122]
[12,20257,13,20264,13,20289,null,null,null,null,0,111]
[12,20396,13,20402,13,20408,null,null,null,null,0,111]
[12,20510,13,20517,13,20522,null,null,null,null,0,111]
[12,20642,13,20648,13,20655,null,null,null,null,0,111]
[12,20764,13,20769,13,20774,null,null,null,null,0,111]
[12,20877,13,20881,13,20887,null,null,null,null,0,111]
[12,20987,13,20992,13,21016,null,null,null,null,0,111]
[21,21134,22,21145,24,21153,null,null,null,null,0,222]
[12,21254,13,21260,13,21268,null,null,null,null,0,111]
[12,21372,13,21395,13,21401,null,null,null,null,0,111]
[12,21529,13,21550,13,21555,null,null,null,null,0,111]
[12,21671,13,21677,13,21682,null,null,null,null,0,111]
[12,21816,13,21822,13,21830,null,null,null,null,0,111]
[12,21930,13,21936,13,21942,null,null,null,null,0,111]
[12,22048,13,22054,13,22061,null,null,null,null,0,111]
[12,22173,13,22179,13,22188,null,null,null,null,0,111]
[12,22309,13,22315,13,22322,null,null,null,null,0,111]
[12,22443,13,22457,24,22492,null,null,null,null,0,112]
[12,22595,13,22600,13,22606,null,null,null,null,0,111]
[12,22730,24,22748,24,22754,null,null,null,null,0,122]
[12,22856,13,22861,13,22868,null,null,null,null,0,111]
[12,22981,13,22991,13,22997,null,null,null,null,0,111]
[12,23098,13,23109,13,23118,null,null,null,null,0,111]
[12,23224,13,23270,13,23287,null,null,null,null,0,111]
[12,23407,13,23434,13,23448,null,null,null,null,0,111]
[12,23552,13,23558,13,23563,null,null,null,null,0,111]
[12,23664,13,23669,13,23675,null,null,null,null,0,111]
[12,23774,13,23780,13,23786,null,null,null,null,0,111]
[12,23885,13,23890,13,23895,null,null,null,null,0,111]
[12,23996,null,null,null,null,null,null,null,null,null,1]

{"sheet":"!N404820.010","index":12,"n_rows":179,"n_cols":48,"rows_kept":179,"cut":false,"hidden":false,"merged":[[4,39,4,42],[5,39,5,40],[4,44,4,47],[5,44,5,45],[4,24,4,27],[5,24,5,25],[4,29,4,32],[5,29,5,30],[4,34,4,37],[5,34,5,35],[1,1,1,2],[5,13,5,14],[18,13,18,14],[19,13,19,14],[4,19,4,22],[5,19,5,20]]}
["Report for:!N404820.010"]
["Date:","<date>"]
["Hen:","<hen>",null,null,null,"Correct Sequence",{"$f":"Start!J2","v":211},null,null,null,null,null,null,null,null,"Total Sequences in Data",{"$f":"4994-COUNTBLANK(L7:L5000)","v":173},null,null,null,null,"Total Sequences in Block Data",{"$f":"COUNTA(L7:L35)","v":29},null,null,null,"Total Sequences in Block Data",{"$f":"COUNTA(L36:L64)","v":29},null,null,null,"Total Sequences in Block Data",{"$f":"COUNTA(L65:L92)","v":28},null,null,null,"Total Sequences in Block Data",{"$f":"COUNTA(L93:L121)","v":29},null,null,null,"Total Sequences in Block Data",{"$f":"COUNTA(L122:L150)","v":29},null,null,null,"Total Sequences in Block Data",{"$f":"COUNTA(L151:L179)","v":29}]
[null,null,null,null,null,null,null,null,null,null,null,null,null,null,null,"Total Sequences in Summary",{"$f":"SUM(O7:O14)","v":173},null,null,null,null,"Total Sequences in Block Summary",{"$f":"SUM(U7:U14)","v":29},null,null,null,"Total Sequences in Block Summary",{"$f":"SUM(Z7:Z14)","v":29},null,null,null,"Total Sequences in Block Summary",{"$f":"SUM(AE7:AE14)","v":28},null,null,null,"Total Sequences in Block Summary",{"$f":"SUM(AJ7:AJ14)","v":29},null,null,null,"Total Sequences in Block Summary",{"$f":"SUM(AO7:AO14)","v":29},null,null,null,"Total Sequences in Block Summary",{"$f":"SUM(AT7:AT14)","v":29}]
[null,null,null,null,null,null,null,null,null,null,null,null,null,null,null,null,null,null,null,"Block 1",null,null,null,null,"Block 2",null,null,null,null,"Block 3",null,null,null,null,"Block 4",null,null,null,null,"Block 5",null,null,null,null,"Block 6"]
["Sequence\nComponent\n1","Time\n1","Sequence\nComponent\n2","Time\n2","Sequence\nComponent\n3","Time\n3","Sequence\nComponent\n4","Time\n4","Sequence\nComponent\n5","Time\n5","Correct?\n0=No 1=Yes","Sequence",null,"Frequency",null,"Relative Frequency","Variability",null,null,"Frequency",null,"Relative Frequency","Variability",null,"Frequency",null,"Relative Frequency","Variability",null,"Frequency",null,"Relative Frequency","Variability",null,"Frequency",null,"Relative Frequency","Variability",null,"Frequency",null,"Relative Frequency","Variability",null,"Frequency",null,"Relative Frequency","Variability"]
[12,16,13,21,13,29,null,null,null,null,0,111,null,111,{"$f":"COUNTIF($L$7:$L$500,N7)","v":126},{"$f":"O7/$Q$4","v":0.72832369942196529},{"$f":"IF(P7=0,0,(P7*((LOG(P7))/LOG(2))))","v":-0.33309760879328232},null,null,{"$f":"N7","v":111},{"$f":"COUNTIF(L7:L35,T7)","v":27},{"$f":"U7/(W4-U11)","v":0.93103448275862066},{"$f":"IF(V7=0,0,(V7*((LOG(V7))/LOG(2))))","v":-9.5983596897613724E-2},null,{"$f":"N7","v":111},{"$f":"COUNTIF(L36:L64,Y7)","v":25},{"$f":"Z7/(AB4-Z11)","v":0.86206896551724133},{"$f":"IF(AA7=0,0,(AA7*((LOG(AA7))/LOG(2))))","v":-0.18459034944210989},null,{"$f":"N7","v":111},{"$f":"COUNTIF(L65:L92,AD7)","v":21},{"$f":"AE7/(AG4-AE11)","v":0.75},{"$f":"IF(AF7=0,0,(AF7*((LOG(AF7))/LOG(2))))","v":-0.31127812445913283},null,{"$f":"N7","v":111},{"$f":"COUNTIF(L93:L121,AI7)","v":16},{"$f":"AJ7/(AL4-AJ11)","v":0.55172413793103448},{"$f":"IF(AK7=0,0,(AK7*((LOG(AK7))/LOG(2))))","v":-0.47336882489797077},null,{"$f":"N7","v":111},{"$f":"COUNTIF(L122:L150,AN7)","v":19},{"$f":"AO7/(AQ4-AO11)","v":0.65517241379310343},{"$f":"IF(AP7=0,0,(AP7*((LOG(AP7))/LOG(2))))","v":-0.39969021213778433},null,{"$f":"N7","v":111},{"$f":"COUNTIF(L151:L179,AS7)","v":18},{"$f":"AT7/(AV4-AT11)","v":0.62068965517241381},{"$f":"IF(AU7=0,0,(AU7*((LOG(AU7))/LOG(2))))","v":-0.4270692374598164}]
[12,132,13,138,13,144,null,null,null,null,0,111,null,112,{"$f":"COUNTIF($L$7:$L$500,N8)","v":15},{"$f":"O8/$Q$4","v":8.6705202312138727E-2},{"$f":"IF(P8=0,0,(P8*((LOG(P8))/LOG(2))))","v":-0.30587320508915078},null,null,{"$f":"N8","v":112},{"$f":"COUNTIF(L7:L35,T8)","v":1},{"$f":"U8/(W4-U11)","v":3.4482758620689655E-2},{"$f":"IF(V8=0,0,(V8*((LOG(V8))/LOG(2))))","v":-0.16751658603888178},null,{"$f":"N8","v":112},{"$f":"COUNTIF(L36:L64,Y8)","v":1},{"$f":"Z8/(AB4-Z11)","v":3.4482758620689655E-2},{"$f":"IF(AA8=0,0,(AA8*((LOG(AA8))/LOG(2))))","v":-0.16751658603888178},null,{"$f":"N8","v":112},{"$f":"COUNTIF(L65:L92,AD8)","v":4},{"$f":"AE8/(AG4-AE11)","v":0.14285714285714285},{"$f":"IF(AF8=0,0,(AF8*((LOG(AF8))/LOG(2))))","v":-0.40105070315108626},null,{"$f":"N8","v":112},{"$f":"COUNTIF(L93:L121,AI8)","v":4},{"$f":"AJ8/(AL4-AJ11)","v":0.13793103448275862},{"$f":"IF(AK8=0,0,(AK8*((LOG(AK8))/LOG(2))))","v":-0.39420427519000989},null,{"$f":"N8","v":112},{"$f":"COUNTIF(L122:L150,AN8)","v":4},{"$f":"AO8/(AQ4-AO11)","v":0.13793103448275862},{"$f":"IF(AP8=0,0,(AP8*((LOG(AP8))/LOG(2))))","v":-0.39420427519000989},null,{"$f":"N8","v":112},{"$f":"COUNTIF(L151:L179,AS8)","v":1},{"$f":"AT8/(AV4-AT11)","v":3.4482758620689655E-2},{"$f":"IF(AU8=0,0,(AU8*((LOG(AU8))/LOG(2))))","v":-0.16751658603888178}]
[12,247,13,253,13,271,null,null,null,null,0,111,null,121,{"$f":"COUNTIF($L$7:$L$500,N9)","v":0},{"$f":"O9/$Q$4","v":0},{"$f":"IF(P9=0,0,(P9*((LOG(P9))/LOG(2))))","v":0},null,null,{"$f":"N9","v":121},{"$f":"COUNTIF(L7:L35,T9)","v":0},{"$f":"U9/(W4-U11)","v":0},{"$f":"IF(V9=0,0,(V9*((LOG(V9))/LOG(2))))","v":0},null,{"$f":"N9","v":121},{"$f":"COUNTIF(L36:L64,Y9)","v":0},{"$f":"Z9/(AB4-Z11)","v":0},{"$f":"IF(AA9=0,0,(AA9*((LOG(AA9))/LOG(2))))","v":0},null,{"$f":"N9","v":121},{"$f":"COUNTIF(L65:L92,AD9)","v":0},{"$f":"AE9/(AG4-AE11)","v":0},{"$f":"IF(AF9=0,0,(AF9*((LOG(AF9))/LOG(2))))","v":0},null,{"$f":"N9","v":121},{"$f":"COUNTIF(L93:L121,AI9)","v":0},{"$f":"AJ9/(AL4-AJ11)","v":0},{"$f":"IF(AK9=0,0,(AK9*((LOG(AK9))/LOG(2))))","v":0},null,{"$f":"N9","v":121},{"$f":"COUNTIF(L122:L150,AN9)","v":0},{"$f":"AO9/(AQ4-AO11)","v":0},{"$f":"IF(AP9=0,0,(AP9*((LOG(AP9))/LOG(2))))","v":0},null,{"$f":"N9","v":121},{"$f":"COUNTIF(L151:L179,AS9)","v":0},{"$f":"AT9/(AV4-AT11)","v":0},{"$f":"IF(AU9=0,0,(AU9*((LOG(AU9))/LOG(2))))","v":0}]
[12,372,13,378,13,393,null,null,null,null,0,111,null,122,{"$f":"COUNTIF($L$7:$L$500,N10)","v":21},{"$f":"O10/$Q$4","v":0.12138728323699421},{"$f":"IF(P10=0,0,(P10*((LOG(P10))/LOG(2))))","v":-0.36929784336426158},null,null,{"$f":"N10","v":122},{"$f":"COUNTIF(L7:L35,T10)","v":0},{"$f":"U10/(W4-U11)","v":0},{"$f":"IF(V10=0,0,(V10*((LOG(V10))/LOG(2))))","v":0},null,{"$f":"N10","v":122},{"$f":"COUNTIF(L36:L64,Y10)","v":2},{"$f":"Z10/(AB4-Z11)","v":6.8965517241379309E-2},{"$f":"IF(AA10=0,0,(AA10*((LOG(AA10))/LOG(2))))","v":-0.26606765483638428},null,{"$f":"N10","v":122},{"$f":"COUNTIF(L65:L92,AD10)","v":3},{"$f":"AE10/(AG4-AE11)","v":0.10714285714285714},{"$f":"IF(AF10=0,0,(AF10*((LOG(AF10))/LOG(2))))","v":-0.34525633085747659},null,{"$f":"N10","v":122},{"$f":"COUNTIF(L93:L121,AI10)","v":5},{"$f":"AJ10/(AL4-AJ11)","v":0.17241379310344829},{"$f":"IF(AK10=0,0,(AK10*((LOG(AK10))/LOG(2))))","v":-0.43725050004141547},null,{"$f":"N10","v":122},{"$f":"COUNTIF(L122:L150,AN10)","v":6},{"$f":"AO10/(AQ4-AO11)","v":0.20689655172413793},{"$f":"IF(AP10=0,0,(AP10*((LOG(AP10))/LOG(2))))","v":-0.4702796884978791},null,{"$f":"N10","v":122},{"$f":"COUNTIF(L151:L179,AS10)","v":5},{"$f":"AT10/(AV4-AT11)","v":0.17241379310344829},{"$f":"IF(AU10=0,0,(AU10*((LOG(AU10))/LOG(2))))","v":-0.43725050004141547}]
[12,495,13,501,13,510,null,null,null,null,0,111,null,211,{"$f":"COUNTIF($L$7:$L$500,N11)","v":0},{"$f":"O11/$Q$4","v":0},{"$f":"IF(P11=0,0,(P11*((LOG(P11))/LOG(2))))","v":0},null,null,{"$f":"N11","v":211},{"$f":"COUNTIF(L7:L35,T11)","v":0},null,null,null,{"$f":"N11","v":211},{"$f":"COUNTIF(L36:L64,Y11)","v":0},null,null,null,{"$f":"N11","v":211},{"$f":"COUNTIF(L65:L92,AD11)","v":0},null,null,null,{"$f":"N11","v":211},{"$f":"COUNTIF(L93:L121,AI11)","v":0},null,null,null,{"$f":"N11","v":211},{"$f":"COUNTIF(L122:L150,AN11)","v":0},null,null,null,{"$f":"N11","v":211},{"$f":"COUNTIF(L151:L179,AS11)","v":0}]
[12,616,13,622,13,631,null,null,null,null,0,111,null,212,{"$f":"COUNTIF($L$7:$L$500,N12)","v":0},{"$f":"O12/$Q$4","v":0},{"$f":"IF(P12=0,0,(P12*((LOG(P12))/LOG(2))))","v":0},null,null,{"$f":"N12","v":212},{"$f":"COUNTIF(L7:L35,T12)","v":0},{"$f":"U12/(W4-U11)","v":0},{"$f":"IF(V12=0,0,(V12*((LOG(V12))/LOG(2))))","v":0},null,{"$f":"N12","v":212},{"$f":"COUNTIF(L36:L64,Y12)","v":0},{"$f":"Z12/(AB4-Z11)","v":0},{"$f":"IF(AA12=0,0,(AA12*((LOG(AA12))/LOG(2))))","v":0},null,{"$f":"N12","v":212},{"$f":"COUNTIF(L65:L92,AD12)","v":0},{"$f":"AE12/(AG4-AE11)","v":0},{"$f":"IF(AF12=0,0,(AF12*((LOG(AF12))/LOG(2))))","v":0},null,{"$f":"N12","v":212},{"$f":"COUNTIF(L93:L121,AI12)","v":0},{"$f":"AJ12/(AL4-AJ11)","v":0},{"$f":"IF(AK12=0,0,(AK12*((LOG(AK12))/LOG(2))))","v":0},null,{"$f":"N12","v":212},{"$f":"COUNTIF(L122:L150,AN12)","v":0},{"$f":"AO12/(AQ4-AO11)","v":0},{"$f":"IF(AP12=0,0,(AP12*((LOG(AP12))/LOG(2))))","v":0},null,{"$f":"N12","v":212},{"$f":"COUNTIF(L151:L179,AS12)","v":0},{"$f":"AT12/(AV4-AT11)","v":0},{"$f":"IF(AU12=0,0,(AU12*((LOG(AU12))/LOG(2))))","v":0}]
[12,733,13,738,24,756,null,null,null,null,0,112,null,221,{"$f":"COUNTIF($L$7:$L$500,N13)","v":0},{"$f":"O13/$Q$4","v":0},{"$f":"IF(P13=0,0,(P13*((LOG(P13))/LOG(2))))","v":0},null,null,{"$f":"N13","v":221},{"$f":"COUNTIF(L7:L35,T13)","v":0},{"$f":"U13/(W4-U11)","v":0},{"$f":"IF(V13=0,0,(V13*((LOG(V13))/LOG(2))))","v":0},null,{"$f":"N13","v":221},{"$f":"COUNTIF(L36:L64,Y13)","v":0},{"$f":"Z13/(AB4-Z11)","v":0},{"$f":"IF(AA13=0,0,(AA13*((LOG(AA13))/LOG(2))))","v":0},null,{"$f":"N13","v":221},{"$f":"COUNTIF(L65:L92,AD13)","v":0},{"$f":"AE13/(AG4-AE11)","v":0},{"$f":"IF(AF13=0,0,(AF13*((LOG(AF13))/LOG(2))))","v":0},null,{"$f":"N13","v":221},{"$f":"COUNTIF(L93:L121,AI13)","v":0},{"$f":"AJ13/(AL4-AJ11)","v":0},{"$f":"IF(AK13=0,0,(AK13*((LOG(AK13))/LOG(2))))","v":0},null,{"$f":"N13","v":221},{"$f":"COUNTIF(L122:L150,AN13)","v":0},{"$f":"AO13/(AQ4-AO11)","v":0},{"$f":"IF(AP13=0,0,(AP13*((LOG(AP13))/LOG(2))))","v":0},null,{"$f":"N13","v":221},{"$f":"COUNTIF(L151:L179,AS13)","v":0},{"$f":"AT13/(AV4-AT11)","v":0},{"$f":"IF(AU13=0,0,(AU13*((LOG(AU13))/LOG(2))))","v":0}]
[12,861,13,867,13,876,null,null,null,null,0,111,null,222,{"$f":"COUNTIF($L$7:$L$500,N14)","v":11},{"$f":"O14/$Q$4","v":6.358381502890173E-2},{"$f":"IF(P14=0,0,(P14*((LOG(P14))/LOG(2))))","v":-0.252758165890137},null,null,{"$f":"N14","v":222},{"$f":"COUNTIF(L7:L35,T14)","v":1},{"$f":"U14/(W4-U11)","v":3.4482758620689655E-2},{"$f":"IF(V14=0,0,(V14*((LOG(V14))/LOG(2))))","v":-0.16751658603888178},null,{"$f":"N14","v":222},{"$f":"COUNTIF(L36:L64,Y14)","v":1},{"$f":"Z14/(AB4-Z11)","v":3.4482758620689655E-2},{"$f":"IF(AA14=0,0,(AA14*((LOG(AA14))/LOG(2))))","v":-0.16751658603888178},null,{"$f":"N14","v":222},{"$f":"COUNTIF(L65:L92,AD14)","v":0},{"$f":"AE14/(AG4-AE11)","v":0},{"$f":"IF(AF14=0,0,(AF14*((LOG(AF14))/LOG(2))))","v":0},null,{"$f":"N14","v":222},{"$f":"COUNTIF(L93:L121,AI14)","v":4},{"$f":"AJ14/(AL4-AJ11)","v":0.13793103448275862},{"$f":"IF(AK14=0,0,(AK14*((LOG(AK14))/LOG(2))))","v":-0.39420427519000989},null,{"$f":"N14","v":222},{"$f":"COUNTIF(L122:L150,AN14)","v":0},{"$f":"AO14/(AQ4-AO11)","v":0},{"$f":"IF(AP14=0,0,(AP14*((LOG(AP14))/LOG(2))))","v":0},null,{"$f":"N14","v":222},{"$f":"COUNTIF(L151:L179,AS14)","v":5},{"$f":"AT14/(AV4-AT11)","v":0.17241379310344829},{"$f":"IF(AU14=0,0,(AU14*((LOG(AU14))/LOG(2))))","v":-0.43725050004141547}]
[12,983,13,989,13,995,null,null,null,null,0,111,null,null,null,{"$f":"SUM(P7:P14)","v":1},{"$f":"-SUM(Q7:Q14)","v":1.2610268231368316},null,null,null,null,{"$f":"SUM(V7:V14)","v":0.99999999999999989},{"$f":"-SUM(W7:W14)","v":0.43101676897537733},null,null,null,{"$f":"SUM(AA7:AA14)","v":0.99999999999999989},{"$f":"-SUM(AB7:AB14)","v":0.78569117635625774},null,null,null,{"$f":"SUM(AF7:AF14)","v":0.99999999999999989},{"$f":"-SUM(AG7:AG14)","v":1.0575851584676956},null,null,null,{"$f":"SUM(AK7:AK14)","v":1},{"$f":"-SUM(AL7:AL14)","v":1.6990278753194061},null,null,null,{"$f":"SUM(AP7:AP14)","v":1},{"$f":"-SUM(AQ7:AQ14)","v":1.2641741758256733},null,null,null,{"$f":"SUM(AU7:AU14)","v":1},{"$f":"-SUM(AV7:AV14)","v":1.4690868235815291}]
[12,1103,13,1108,13,1114,null,null,null,null,0,111,null,null,null,"U=",{"$f":"Q15/(LOG(Q4)/LOG(2))","v":0.16961531693665863},null,null,null,null,"U1=",{"$f":"W15/(LOG(W4)/LOG(2))","v":8.8723436630912283E-2},null,null,null,"U2=",{"$f":"AB15/(LOG(AB4)/LOG(2))","v":0.16173203994504826},null,null,null,"U3=",{"$f":"AG15/(LOG(AG4)/LOG(2))","v":0.21999315124730523},null,null,null,"U4=",{"$f":"AL15/(LOG(AL4)/LOG(2))","v":0.34973950639648171},null,null,null,"U5=",{"$f":"AQ15/(LOG(AQ4)/LOG(2))","v":0.26022624977199521},null,null,null,"U6=",{"$f":"AV15/(LOG(AV4)/LOG(2))","v":0.30240686924361887}]
[12,1216,13,1221,13,1227,null,null,null,null,0,111]
[12,1336,13,1341,13,1347,null,null,null,null,0,111]
[12,1450,13,1461,13,1467,null,null,null,null,0,111,null,"Total Target Seq"]
[12,1564,13,1571,13,1578,null,null,null,null,0,111,null,{"$f":"COUNTIF(L7:L179,G3)","v":0},null,29,29,28,29,29,29]
[12,1689,13,1696,13,1706,null,null,null,null,0,111,null,null,null,"% of reinforcement given in 6 equal intervals based on number of trials "]
[12,1826,13,1832,13,1837,null,null,null,null,0,111,null,null,null,"%_1","%_2","%_3","%_4","%_5","%_6"]
[12,1952,13,1958,13,1966,null,null,null,null,0,111,null,null,"target sequence",{"$f":"$G$3","v":211},{"$f":"$G$3","v":211},{"$f":"$G$3","v":211},{"$f":"$G$3","v":211},{"$f":"$G$3","v":211},{"$f":"$G$3","v":211}]
[12,2080,13,2098,13,2120,null,null,null,null,0,111,null,null,"total reinforcement",{"$f":"U11","v":0},{"$f":"Z11","v":0},{"$f":"AE11","v":0},{"$f":"AJ11","v":0},{"$f":"AO11","v":0},{"$f":"AT11","v":0}]
[12,2231,13,2237,13,2244,null,null,null,null,0,111,null,null,"% target"]
[12,2347,13,2366,13,2374,null,null,null,null,0,111,null,null,"CCRF"]
[12,2491,13,2497,13,2506,null,null,null,null,0,111,null,null,"% CCRf"]
[12,2615,13,2621,13,2627,null,null,null,null,0,111,null,null,"average response rate",{"$f":"F35/P20","v":121.31034482758621},{"$f":"(F64-F35)/Q20","v":136.75862068965517},{"$f":"(F92-F64)/R20","v":144.07142857142858},{"$f":"(F121-F92)/S20","v":144.9655172413793},{"$f":"(F150-F121)/T20","v":139.10344827586206},{"$f":"(F179-F150)/U20","v":143.93103448275863}]
[12,2741,13,2746,13,2753,null,null,null,null,0,111]
[12,2858,13,2864,13,2873,null,null,null,null,0,111]
[12,2977,13,2984,13,2993,null,null,null,null,0,111]
[12,3099,13,3104,13,3109,null,null,null,null,0,111]
[12,3214,13,3220,13,3226,null,null,null,null,0,111]
[21,3375,22,3381,24,3394,null,null,null,null,0,222]
[12,3503,13,3508,13,3518,null,null,null,null,0,111]
[12,3627,24,3644,24,3669,null,null,null,null,0,122]
[12,3789,13,3805,13,3824,null,null,null,null,0,111]
[12,3928,13,3935,24,3957,null,null,null,null,0,112]
[12,4063,24,4096,24,4102,null,null,null,null,0,122]
[12,4214,13,4220,13,4236,null,null,null,null,0,111]
[12,4346,13,4381,13,4395,null,null,null,null,0,111]
[12,4507,13,4531,13,4536,null,null,null,null,0,111]
[12,4658,13,4665,13,4673,null,null,null,null,0,111]
[12,4784,13,4789,13,4802,null,null,null,null,0,111]
[12,4918,13,4923,13,4930,null,null,null,null,0,111]
[12,5050,13,5055,13,5062,null,null,null,null,0,111]
[21,5198,22,5204,24,5214,null,null,null,null,0,222]
[12,5336,13,5348,13,5357,null,null,null,null,0,111]
[12,5468,13,5474,13,5480,null,null,null,null,0,111]
[12,5597,13,5602,13,5609,null,null,null,null,0,111]
[12,5716,13,5724,13,5731,null,null,null,null,0,111]
[12,5836,13,5844,13,5851,null,null,null,null,0,111]
[12,5967,13,5971,13,5988,null,null,null,null,0,111]
[12,6097,13,6103,13,6110,null,null,null,null,0,111]
[12,6238,13,6243,13,6251,null,null,null,null,0,111]
[12,6365,13,6381,13,6391,null,null,null,null,0,111]
[12,6503,13,6509,13,6514,null,null,null,null,0,111]
[12,6627,13,6632,13,6643,null,null,null,null,0,111]
[12,6758,13,6763,13,6771,null,null,null,null,0,111]
[12,6890,13,6897,13,6906,null,null,null,null,0,111]
[12,7029,13,7042,13,7058,null,null,null,null,0,111]
[12,7185,13,7190,13,7197,null,null,null,null,0,111]
[12,7328,13,7339,13,7349,null,null,null,null,0,111]
[12,7471,13,7477,13,7484,null,null,null,null,0,111]
[12,7616,13,7622,13,7631,null,null,null,null,0,111]
[12,7749,13,7754,13,7760,null,null,null,null,0,111]
[12,7878,13,7884,13,7892,null,null,null,null,0,111]
[12,7997,13,8003,13,8011,null,null,null,null,0,111]
[12,8128,13,8133,13,8139,null,null,null,null,0,111]
[12,8279,13,8285,13,8294,null,null,null,null,0,111]
[12,8415,13,8422,13,8431,null,null,null,null,0,111]
[12,8587,13,8593,24,8612,null,null,null,null,0,112]
[12,8737,13,8760,13,8770,null,null,null,null,0,111]
[12,8879,13,8891,13,8900,null,null,null,null,0,111]
[12,9023,13,9029,24,9052,null,null,null,null,0,112]
[12,9197,24,9222,24,9227,null,null,null,null,0,122]
[12,9355,13,9369,13,9377,null,null,null,null,0,111]
[12,9547,13,9553,13,9567,null,null,null,null,0,111]
[12,9687,13,9692,13,9699,null,null,null,null,0,111]
[12,9904,24,9939,24,9953,null,null,null,null,0,122]
[12,10067,13,10072,13,10079,null,null,null,null,0,111]
[12,10188,13,10194,24,10220,null,null,null,null,0,112]
[12,10335,13,10342,24,10384,null,null,null,null,0,112]
[12,10501,13,10507,13,10514,null,null,null,null,0,111]
[12,10618,13,10629,13,10644,null,null,null,null,0,111]
[12,10748,13,10753,13,10759,null,null,null,null,0,111]
[12,10864,13,10870,13,10877,null,null,null,null,0,111]
[12,11015,13,11022,13,11028,null,null,null,null,0,111]
[12,11135,24,11162,24,11170,null,null,null,null,0,122]
[12,11278,13,11284,13,11290,null,null,null,null,0,111]
[12,11390,13,11395,13,11401,null,null,null,null,0,111]
[12,11505,13,11511,13,11518,null,null,null,null,0,111]
[12,11623,13,11631,13,11639,null,null,null,null,0,111]
[12,11747,13,11752,13,11762,null,null,null,null,0,111]
[12,11866,13,11871,13,11878,null,null,null,null,0,111]
[12,11976,13,11982,13,11994,null,null,null,null,0,111]
[12,12125,24,12143,24,12153,null,null,null,null,0,122]
[12,12274,13,12286,13,12299,null,null,null,null,0,111]
[21,12499,22,12515,24,12538,null,null,null,null,0,222]
[21,12717,22,12728,24,12737,null,null,null,null,0,222]
[12,12899,24,12921,24,12930,null,null,null,null,0,122]
[12,13038,13,13043,13,13049,null,null,null,null,0,111]
[12,13167,13,13173,13,13179,null,null,null,null,0,111]
[12,13304,13,13311,24,13367,null,null,null,null,0,112]
[12,13521,13,13539,13,13547,null,null,null,null,0,111]
[12,13677,13,13686,24,13699,null,null,null,null,0,112]
[12,13828,13,13834,13,13842,null,null,null,null,0,111]
[12,13947,13,13952,13,13959,null,null,null,null,0,111]
[12,14070,13,14076,13,14083,null,null,null,null,0,111]
[12,14187,13,14192,13,14198,null,null,null,null,0,111]
[12,14321,13,14328,13,14357,null,null,null,null,0,111]
[21,14488,22,14496,24,14516,null,null,null,null,0,222]
[21,14649,22,14678,24,14693,null,null,null,null,0,222]
[12,14796,13,14803,13,14810,null,null,null,null,0,111]
[12,14911,13,14918,24,14936,null,null,null,null,0,112]
[12,15046,13,15051,13,15060,null,null,null,null,0,111]
[12,15191,13,15197,24,15228,null,null,null,null,0,112]
[12,15340,24,15355,24,15363,null,null,null,null,0,122]
[12,15464,13,15469,13,15474,null,null,null,null,0,111]
[12,15581,24,15595,24,15601,null,null,null,null,0,122]
[12,15700,24,15714,24,15722,null,null,null,null,0,122]
[12,15822,24,15837,24,15843,null,null,null,null,0,122]
[12,15951,13,15961,13,15976,null,null,null,null,0,111]
[12,16084,13,16091,24,16114,null,null,null,null,0,112]
[12,16229,13,16238,13,16248,null,null,null,null,0,111]
[12,16345,24,16365,24,16384,null,null,null,null,0,122]
[12,16480,13,16485,13,16499,null,null,null,null,0,111]
[12,16613,13,16640,24,16653,null,null,null,null,0,112]
[12,16782,13,16788,13,16806,null,null,null,null,0,111]
[12,16916,13,16922,13,16927,null,null,null,null,0,111]
[12,17026,24,17050,24,17056,null,null,null,null,0,122]
[12,17164,24,17194,24,17202,null,null,null,null,0,122]
[12,17355,13,17364,13,17390,null,null,null,null,0,111]
[12,17509,13,17515,13,17525,null,null,null,null,0,111]
[12,17631,13,17638,13,17652,null,null,null,null,0,111]
[12,17760,13,17789,24,17829,null,null,null,null,0,112]
[12,17927,13,17947,13,17956,null,null,null,null,0,111]
[12,18059,13,18065,13,18076,null,null,null,null,0,111]
[12,18180,13,18185,13,18195,null,null,null,null,0,111]
[12,18305,13,18312,13,18335,null,null,null,null,0,111]
[12,18446,13,18474,13,18483,null,null,null,null,0,111]
[12,18592,13,18604,13,18611,null,null,null,null,0,111]
[12,18747,24,18766,24,18772,null,null,null,null,0,122]
[12,18913,13,18920,24,18944,null,null,null,null,0,112]
[12,19070,13,19087,13,19094,null,null,null,null,0,111]
[12,19202,13,19208,13,19216,null,null,null,null,0,111]
[12,19323,13,19329,13,19335,null,null,null,null,0,111]
[12,19460,13,19468,13,19475,null,null,null,null,0,111]
[12,19593,24,19615,24,19620,null,null,null,null,0,122]
[12,19728,13,19741,13,19756,null,null,null,null,0,111]
[12,19887,13,19902,13,19927,null,null,null,null,0,111]
[12,20042,13,20048,13,20054,null,null,null,null,0,111]
[12,20161,13,20169,13,20188,null,null,null,null,0,111]
[12,20291,13,20302,13,20307,null,null,null,null,0,111]
[21,20433,22,20440,24,20449,null,null,null,null,0,222]
[12,20558,13,20568,13,20574,null,null,null,null,0,111]
[12,20672,13,20678,13,20691,null,null,null,null,0,111]
[12,20800,13,20807,13,20814,null,null,null,null,0,111]
[12,20917,13,20922,13,20928,null,null,null,null,0,111]
[12,21026,13,21031,13,21045,null,null,null,null,0,111]
[12,21190,24,21223,24,21237,null,null,null,null,0,122]
[12,21340,13,21346,13,21352,null,null,null,null,0,111]
[12,21526,24,21540,24,21548,null,null,null,null,0,122]
[21,21694,22,21703,24,21718,null,null,null,null,0,222]
[12,21835,13,21850,13,21858,null,null,null,null,0,111]
[12,21965,24,21988,24,21996,null,null,null,null,0,122]
[12,22107,13,22114,13,22120,null,null,null,null,0,111]
[12,22242,24,22260,24,22268,null,null,null,null,0,122]
[12,22411,13,22420,13,22428,null,null,null,null,0,111]
[12,22535,13,22551,13,22560,null,null,null,null,0,111]
[12,22664,13,22678,13,22707,null,null,null,null,0,111]
[12,22813,13,22832,13,22846,null,null,null,null,0,111]
[12,22962,13,22969,24,23001,null,null,null,null,0,112]
[12,23106,13,23112,13,23142,null,null,null,null,0,111]
[21,23276,22,23284,24,23293,null,null,null,null,0,222]
[21,23442,22,23455,24,23462,null,null,null,null,0,222]
[12,23568,24,23583,24,23589,null,null,null,null,0,122]
[21,23738,22,23748,24,23761,null,null,null,null,0,222]
[12,23892,13,23916,13,23930,null,null,null,null,null,111]

{"sheet":"!N405930.010","index":13,"n_rows":60,"n_cols":48,"rows_kept":60,"cut":false,"hidden":false,"merged":[[4,39,4,42],[5,39,5,40],[4,44,4,47],[5,44,5,45],[4,24,4,27],[5,24,5,25],[4,29,4,32],[5,29,5,30],[4,34,4,37],[5,34,5,35],[1,1,1,2],[5,13,5,14],[18,13,18,14],[19,13,19,14],[4,19,4,22],[5,19,5,20]]}
["Report for:!N405930.010"]
["Date:","<date>"]
["Hen:","<hen>",null,null,null,"Correct Sequence",{"$f":"Start!J2","v":211},null,null,null,null,null,null,null,null,"Total Sequences in Data",{"$f":"4994-COUNTBLANK(L7:L5000)","v":54},null,null,null,null,"Total Sequences in Block Data",{"$f":"COUNTA(L7:L15)","v":9},null,null,null,"Total Sequences in Block Data",{"$f":"COUNTA(L16:L24)","v":9},null,null,null,"Total Sequences in Block Data",{"$f":"COUNTA(L25:L33)","v":9},null,null,null,"Total Sequences in Block Data",{"$f":"COUNTA(L34:L42)","v":9},null,null,null,"Total Sequences in Block Data",{"$f":"COUNTA(L43:L51)","v":9},null,null,null,"Total Sequences in Block Data",{"$f":"COUNTA(L52:L60)","v":9}]
[null,null,null,null,null,null,null,null,null,null,null,null,null,null,null,"Total Sequences in Summary",{"$f":"SUM(O7:O14)","v":54},null,null,null,null,"Total Sequences in Block Summary",{"$f":"SUM(U7:U14)","v":9},null,null,null,"Total Sequences in Block Summary",{"$f":"SUM(Z7:Z14)","v":9},null,null,null,"Total Sequences in Block Summary",{"$f":"SUM(AE7:AE14)","v":9},null,null,null,"Total Sequences in Block Summary",{"$f":"SUM(AJ7:AJ14)","v":9},null,null,null,"Total Sequences in Block Summary",{"$f":"SUM(AO7:AO14)","v":9},null,null,null,"Total Sequences in Block Summary",{"$f":"SUM(AT7:AT14)","v":9}]
[null,null,null,null,null,null,null,null,null,null,null,null,null,null,null,null,null,null,null,"Block 1",null,null,null,null,"Block 2",null,null,null,null,"Block 3",null,null,null,null,"Block 4",null,null,null,null,"Block 5",null,null,null,null,"Block 6"]
["Sequence\nComponent\n1","Time\n1","Sequence\nComponent\n2","Time\n2","Sequence\nComponent\n3","Time\n3","Sequence\nComponent\n4","Time\n4","Sequence\nComponent\n5","Time\n5","Correct?\n0=No 1=Yes","Sequence",null,"Frequency",null,"Relative Frequency","Variability",null,null,"Frequency",null,"Relative Frequency","Variability",null,"Frequency",null,"Relative Frequency","Variability",null,"Frequency",null,"Relative Frequency","Variability",null,"Frequency",null,"Relative Frequency","Variability",null,"Frequency",null,"Relative Frequency","Variability",null,"Frequency",null,"Relative Frequency","Variability"]
[12,25,13,41,24,55,null,null,null,null,0,112,null,111,{"$f":"COUNTIF($L$7:$L$500,N7)","v":11},{"$f":"O7/$Q$4","v":0.20370370370370369},{"$f":"IF(P7=0,0,(P7*((LOG(P7))/LOG(2))))","v":-0.46759286516273857},null,null,{"$f":"N7","v":111},{"$f":"COUNTIF(L7:L15,T7)","v":2},{"$f":"U7/(W4-U11)","v":0.66666666666666663},{"$f":"IF(V7=0,0,(V7*((LOG(V7))/LOG(2))))","v":-0.38997500048077083},null,{"$f":"N7","v":111},{"$f":"COUNTIF(L16:L24,Y7)","v":3},{"$f":"Z7/(AB4-Z11)","v":1},{"$f":"IF(AA7=0,0,(AA7*((LOG(AA7))/LOG(2))))","v":0},null,{"$f":"N7","v":111},{"$f":"COUNTIF(L25:L33,AD7)","v":1},{"$f":"AE7/(AG4-AE11)","v":0.33333333333333331},{"$f":"IF(AF7=0,0,(AF7*((LOG(AF7))/LOG(2))))","v":-0.52832083357371862},null,{"$f":"N7","v":111},{"$f":"COUNTIF(L34:L42,AI7)","v":2},{"$f":"AJ7/(AL4-AJ11)","v":1},{"$f":"IF(AK7=0,0,(AK7*((LOG(AK7))/LOG(2))))","v":0},null,{"$f":"N7","v":111},{"$f":"COUNTIF(L43:L51,AN7)","v":1},{"$f":"AO7/(AQ4-AO11)","v":1},{"$f":"IF(AP7=0,0,(AP7*((LOG(AP7))/LOG(2))))","v":0},null,{"$f":"N7","v":111},{"$f":"COUNTIF(L52:L60,AS7)","v":2},{"$f":"AT7/(AV4-AT11)","v":0.66666666666666663},{"$f":"IF(AU7=0,0,(AU7*((LOG(AU7))/LOG(2))))","v":-0.38997500048077083}]
[21,158,11,177,11,182,null,null,null,null,0,211,null,112,{"$f":"COUNTIF($L$7:$L$500,N8)","v":3},{"$f":"O8/$Q$4","v":5.5555555555555552E-2},{"$f":"IF(P8=0,0,(P8*((LOG(P8))/LOG(2))))","v":-0.23166250008012845},null,null,{"$f":"N8","v":112},{"$f":"COUNTIF(L7:L15,T8)","v":1},{"$f":"U8/(W4-U11)","v":0.33333333333333331},{"$f":"IF(V8=0,0,(V8*((LOG(V8))/LOG(2))))","v":-0.52832083357371862},null,{"$f":"N8","v":112},{"$f":"COUNTIF(L16:L24,Y8)","v":0},{"$f":"Z8/(AB4-Z11)","v":0},{"$f":"IF(AA8=0,0,(AA8*((LOG(AA8))/LOG(2))))","v":0},null,{"$f":"N8","v":112},{"$f":"COUNTIF(L25:L33,AD8)","v":1},{"$f":"AE8/(AG4-AE11)","v":0.33333333333333331},{"$f":"IF(AF8=0,0,(AF8*((LOG(AF8))/LOG(2))))","v":-0.52832083357371862},null,{"$f":"N8","v":112},{"$f":"COUNTIF(L34:L42,AI8)","v":0},{"$f":"AJ8/(AL4-AJ11)","v":0},{"$f":"IF(AK8=0,0,(AK8*((LOG(AK8))/LOG(2))))","v":0},null,{"$f":"N8","v":112},{"$f":"COUNTIF(L43:L51,AN8)","v":0},{"$f":"AO8/(AQ4-AO11)","v":0},{"$f":"IF(AP8=0,0,(AP8*((LOG(AP8))/LOG(2))))","v":0},null,{"$f":"N8","v":112},{"$f":"COUNTIF(L52:L60,AS8)","v":1},{"$f":"AT8/(AV4-AT11)","v":0.33333333333333331},{"$f":"IF(AU8=0,0,(AU8*((LOG(AU8))/LOG(2))))","v":-0.52832083357371862}]
[12,291,13,301,13,315,null,null,null,null,0,111,null,121,{"$f":"COUNTIF($L$7:$L$500,N9)","v":1},{"$f":"O9/$Q$4","v":1.8518518518518517E-2},{"$f":"IF(P9=0,0,(P9*((LOG(P9))/LOG(2))))","v":-0.10657199078080498},null,null,{"$f":"N9","v":121},{"$f":"COUNTIF(L7:L15,T9)","v":0},{"$f":"U9/(W4-U11)","v":0},{"$f":"IF(V9=0,0,(V9*((LOG(V9))/LOG(2))))","v":0},null,{"$f":"N9","v":121},{"$f":"COUNTIF(L16:L24,Y9)","v":0},{"$f":"Z9/(AB4-Z11)","v":0},{"$f":"IF(AA9=0,0,(AA9*((LOG(AA9))/LOG(2))))","v":0},null,{"$f":"N9","v":121},{"$f":"COUNTIF(L25:L33,AD9)","v":1},{"$f":"AE9/(AG4-AE11)","v":0.33333333333333331},{"$f":"IF(AF9=0,0,(AF9*((LOG(AF9))/LOG(2))))","v":-0.52832083357371862},null,{"$f":"N9","v":121},{"$f":"COUNTIF(L34:L42,AI9)","v":0},{"$f":"AJ9/(AL4-AJ11)","v":0},{"$f":"IF(AK9=0,0,(AK9*((LOG(AK9))/LOG(2))))","v":0},null,{"$f":"N9","v":121},{"$f":"COUNTIF(L43:L51,AN9)","v":0},{"$f":"AO9/(AQ4-AO11)","v":0},{"$f":"IF(AP9=0,0,(AP9*((LOG(AP9))/LOG(2))))","v":0},null,{"$f":"N9","v":121},{"$f":"COUNTIF(L52:L60,AS9)","v":0},{"$f":"AT9/(AV4-AT11)","v":0},{"$f":"IF(AU9=0,0,(AU9*((LOG(AU9))/LOG(2))))","v":0}]
[21,420,11,437,11,442,null,null,null,null,0,211,null,122,{"$f":"COUNTIF($L$7:$L$500,N10)","v":0},{"$f":"O10/$Q$4","v":0},{"$f":"IF(P10=0,0,(P10*((LOG(P10))/LOG(2))))","v":0},null,null,{"$f":"N10","v":122},{"$f":"COUNTIF(L7:L15,T10)","v":0},{"$f":"U10/(W4-U11)","v":0},{"$f":"IF(V10=0,0,(V10*((LOG(V10))/LOG(2))))","v":0},null,{"$f":"N10","v":122},{"$f":"COUNTIF(L16:L24,Y10)","v":0},{"$f":"Z10/(AB4-Z11)","v":0},{"$f":"IF(AA10=0,0,(AA10*((LOG(AA10))/LOG(2))))","v":0},null,{"$f":"N10","v":122},{"$f":"COUNTIF(L25:L33,AD10)","v":0},{"$f":"AE10/(AG4-AE11)","v":0},{"$f":"IF(AF10=0,0,(AF10*((LOG(AF10))/LOG(2))))","v":0},null,{"$f":"N10","v":122},{"$f":"COUNTIF(L34:L42,AI10)","v":0},{"$f":"AJ10/(AL4-AJ11)","v":0},{"$f":"IF(AK10=0,0,(AK10*((LOG(AK10))/LOG(2))))","v":0},null,{"$f":"N10","v":122},{"$f":"COUNTIF(L43:L51,AN10)","v":0},{"$f":"AO10/(AQ4-AO11)","v":0},{"$f":"IF(AP10=0,0,(AP10*((LOG(AP10))/LOG(2))))","v":0},null,{"$f":"N10","v":122},{"$f":"COUNTIF(L52:L60,AS10)","v":0},{"$f":"AT10/(AV4-AT11)","v":0},{"$f":"IF(AU10=0,0,(AU10*((LOG(AU10))/LOG(2))))","v":0}]
[21,539,11,550,11,556,null,null,null,null,0,211,null,211,{"$f":"COUNTIF($L$7:$L$500,N11)","v":39},{"$f":"O11/$Q$4","v":0.72222222222222221},{"$f":"IF(P11=0,0,(P11*((LOG(P11))/LOG(2))))","v":-0.33907270460643685},null,null,{"$f":"N11","v":211},{"$f":"COUNTIF(L7:L15,T11)","v":6},null,null,null,{"$f":"N11","v":211},{"$f":"COUNTIF(L16:L24,Y11)","v":6},null,null,null,{"$f":"N11","v":211},{"$f":"COUNTIF(L25:L33,AD11)","v":6},null,null,null,{"$f":"N11","v":211},{"$f":"COUNTIF(L34:L42,AI11)","v":7},null,null,null,{"$f":"N11","v":211},{"$f":"COUNTIF(L43:L51,AN11)","v":8},null,null,null,{"$f":"N11","v":211},{"$f":"COUNTIF(L52:L60,AS11)","v":6}]
[12,675,13,683,13,708,null,null,null,null,0,111,null,212,{"$f":"COUNTIF($L$7:$L$500,N12)","v":0},{"$f":"O12/$Q$4","v":0},{"$f":"IF(P12=0,0,(P12*((LOG(P12))/LOG(2))))","v":0},null,null,{"$f":"N12","v":212},{"$f":"COUNTIF(L7:L15,T12)","v":0},{"$f":"U12/(W4-U11)","v":0},{"$f":"IF(V12=0,0,(V12*((LOG(V12))/LOG(2))))","v":0},null,{"$f":"N12","v":212},{"$f":"COUNTIF(L16:L24,Y12)","v":0},{"$f":"Z12/(AB4-Z11)","v":0},{"$f":"IF(AA12=0,0,(AA12*((LOG(AA12))/LOG(2))))","v":0},null,{"$f":"N12","v":212},{"$f":"COUNTIF(L25:L33,AD12)","v":0},{"$f":"AE12/(AG4-AE11)","v":0},{"$f":"IF(AF12=0,0,(AF12*((LOG(AF12))/LOG(2))))","v":0},null,{"$f":"N12","v":212},{"$f":"COUNTIF(L34:L42,AI12)","v":0},{"$f":"AJ12/(AL4-AJ11)","v":0},{"$f":"IF(AK12=0,0,(AK12*((LOG(AK12))/LOG(2))))","v":0},null,{"$f":"N12","v":212},{"$f":"COUNTIF(L43:L51,AN12)","v":0},{"$f":"AO12/(AQ4-AO11)","v":0},{"$f":"IF(AP12=0,0,(AP12*((LOG(AP12))/LOG(2))))","v":0},null,{"$f":"N12","v":212},{"$f":"COUNTIF(L52:L60,AS12)","v":0},{"$f":"AT12/(AV4-AT11)","v":0},{"$f":"IF(AU12=0,0,(AU12*((LOG(AU12))/LOG(2))))","v":0}]
[21,815,11,824,11,832,null,null,null,null,0,211,null,221,{"$f":"COUNTIF($L$7:$L$500,N13)","v":0},{"$f":"O13/$Q$4","v":0},{"$f":"IF(P13=0,0,(P13*((LOG(P13))/LOG(2))))","v":0},null,null,{"$f":"N13","v":221},{"$f":"COUNTIF(L7:L15,T13)","v":0},{"$f":"U13/(W4-U11)","v":0},{"$f":"IF(V13=0,0,(V13*((LOG(V13))/LOG(2))))","v":0},null,{"$f":"N13","v":221},{"$f":"COUNTIF(L16:L24,Y13)","v":0},{"$f":"Z13/(AB4-Z11)","v":0},{"$f":"IF(AA13=0,0,(AA13*((LOG(AA13))/LOG(2))))","v":0},null,{"$f":"N13","v":221},{"$f":"COUNTIF(L25:L33,AD13)","v":0},{"$f":"AE13/(AG4-AE11)","v":0},{"$f":"IF(AF13=0,0,(AF13*((LOG(AF13))/LOG(2))))","v":0},null,{"$f":"N13","v":221},{"$f":"COUNTIF(L34:L42,AI13)","v":0},{"$f":"AJ13/(AL4-AJ11)","v":0},{"$f":"IF(AK13=0,0,(AK13*((LOG(AK13))/LOG(2))))","v":0},null,{"$f":"N13","v":221},{"$f":"COUNTIF(L43:L51,AN13)","v":0},{"$f":"AO13/(AQ4-AO11)","v":0},{"$f":"IF(AP13=0,0,(AP13*((LOG(AP13))/LOG(2))))","v":0},null,{"$f":"N13","v":221},{"$f":"COUNTIF(L52:L60,AS13)","v":0},{"$f":"AT13/(AV4-AT11)","v":0},{"$f":"IF(AU13=0,0,(AU13*((LOG(AU13))/LOG(2))))","v":0}]
[21,935,11,953,11,962,null,null,null,null,0,211,null,222,{"$f":"COUNTIF($L$7:$L$500,N14)","v":0},{"$f":"O14/$Q$4","v":0},{"$f":"IF(P14=0,0,(P14*((LOG(P14))/LOG(2))))","v":0},null,null,{"$f":"N14","v":222},{"$f":"COUNTIF(L7:L15,T14)","v":0},{"$f":"U14/(W4-U11)","v":0},{"$f":"IF(V14=0,0,(V14*((LOG(V14))/LOG(2))))","v":0},null,{"$f":"N14","v":222},{"$f":"COUNTIF(L16:L24,Y14)","v":0},{"$f":"Z14/(AB4-Z11)","v":0},{"$f":"IF(AA14=0,0,(AA14*((LOG(AA14))/LOG(2))))","v":0},null,{"$f":"N14","v":222},{"$f":"COUNTIF(L25:L33,AD14)","v":0},{"$f":"AE14/(AG4-AE11)","v":0},{"$f":"IF(AF14=0,0,(AF14*((LOG(AF14))/LOG(2))))","v":0},null,{"$f":"N14","v":222},{"$f":"COUNTIF(L34:L42,AI14)","v":0},{"$f":"AJ14/(AL4-AJ11)","v":0},{"$f":"IF(AK14=0,0,(AK14*((LOG(AK14))/LOG(2))))","v":0},null,{"$f":"N14","v":222},{"$f":"COUNTIF(L43:L51,AN14)","v":0},{"$f":"AO14/(AQ4-AO11)","v":0},{"$f":"IF(AP14=0,0,(AP14*((LOG(AP14))/LOG(2))))","v":0},null,{"$f":"N14","v":222},{"$f":"COUNTIF(L52:L60,AS14)","v":0},{"$f":"AT14/(AV4-AT11)","v":0},{"$f":"IF(AU14=0,0,(AU14*((LOG(AU14))/LOG(2))))","v":0}]
[21,1059,11,1072,11,1077,null,null,null,null,0,211,null,null,null,{"$f":"SUM(P7:P14)","v":1},{"$f":"-SUM(Q7:Q14)","v":1.1449000606301087},null,null,null,null,{"$f":"SUM(V7:V14)","v":1},{"$f":"-SUM(W7:W14)","v":0.91829583405448945},null,null,null,{"$f":"SUM(AA7:AA14)","v":1},{"$f":"-SUM(AB7:AB14)","v":0},null,null,null,{"$f":"SUM(AF7:AF14)","v":1},{"$f":"-SUM(AG7:AG14)","v":1.5849625007211559},null,null,null,{"$f":"SUM(AK7:AK14)","v":1},{"$f":"-SUM(AL7:AL14)","v":0},null,null,null,{"$f":"SUM(AP7:AP14)","v":1},{"$f":"-SUM(AQ7:AQ14)","v":0},null,null,null,{"$f":"SUM(AU7:AU14)","v":1},{"$f":"-SUM(AV7:AV14)","v":0.91829583405448945}]
[21,1174,11,1191,11,1199,null,null,null,null,0,211,null,null,null,"U=",{"$f":"Q15/(LOG(Q4)/LOG(2))","v":0.19894395158892328},null,null,null,null,"U1=",{"$f":"W15/(LOG(W4)/LOG(2))","v":0.28969008214284753},null,null,null,"U2=",{"$f":"AB15/(LOG(AB4)/LOG(2))","v":0},null,null,null,"U3=",{"$f":"AG15/(LOG(AG4)/LOG(2))","v":0.49999999999999994},null,null,null,"U4=",{"$f":"AL15/(LOG(AL4)/LOG(2))","v":0},null,null,null,"U5=",{"$f":"AQ15/(LOG(AQ4)/LOG(2))","v":0},null,null,null,"U6=",{"$f":"AV15/(LOG(AV4)/LOG(2))","v":0.28969008214284753}]
[21,1295,11,1305,11,1314,null,null,null,null,0,211]
[21,1415,11,1430,11,1437,null,null,null,null,0,211]
[21,1532,11,1546,11,1554,null,null,null,null,0,211,null,"Total Target Seq"]
[12,1672,13,1679,13,1691,null,null,null,null,0,111,null,{"$f":"COUNTIF(L7:L60,G3)","v":39},null,9,9,9,9,9,9]
[21,1800,11,1814,11,1821,null,null,null,null,0,211,null,null,null,"% of reinforcement given in 6 equal intervals based on number of trials "]
[12,1931,13,1943,13,1969,null,null,null,null,0,111,null,null,null,"%_1","%_2","%_3","%_4","%_5","%_6"]
[12,2089,13,2097,13,2112,null,null,null,null,0,111,null,null,"target sequence",{"$f":"$G$3","v":211},{"$f":"$G$3","v":211},{"$f":"$G$3","v":211},{"$f":"$G$3","v":211},{"$f":"$G$3","v":211},{"$f":"$G$3","v":211}]
[21,2218,11,2235,11,2244,null,null,null,null,0,211,null,null,"total reinforcement",{"$f":"U11","v":6},{"$f":"Z11","v":6},{"$f":"AE11","v":6},{"$f":"AJ11","v":7},{"$f":"AO11","v":8},{"$f":"AT11","v":6}]
[12,2363,13,2372,13,2385,null,null,null,null,0,111,null,null,"% target"]
[21,2488,11,2506,11,2512,null,null,null,null,0,211,null,null,"CCRF"]
[21,2608,11,2625,11,2634,null,null,null,null,0,211,null,null,"% CCRf"]
[21,2728,11,2745,11,2751,null,null,null,null,0,211,null,null,"average response rate",{"$f":"F15/P20","v":119.66666666666667},{"$f":"(F24-F15)/Q20","v":129.66666666666666},{"$f":"(F33-F24)/R20","v":131.33333333333334},{"$f":"(F42-F33)/S20","v":132.88888888888889},{"$f":"(F51-F42)/T20","v":120.77777777777777},{"$f":"(F60-F51)/U20","v":137.55555555555554}]
[21,2848,11,2863,11,2893,null,null,null,null,0,211]
[12,2999,24,3013,13,3032,null,null,null,null,0,121]
[21,3136,11,3149,11,3155,null,null,null,null,0,211]
[12,3260,13,3279,24,3298,null,null,null,null,0,112]
[21,3405,11,3422,11,3426,null,null,null,null,0,211]
[21,3521,11,3541,11,3586,null,null,null,null,0,211]
[21,3681,11,3697,11,3702,null,null,null,null,0,211]
[12,3810,13,3818,13,3847,null,null,null,null,0,111]
[21,3952,11,3967,11,3973,null,null,null,null,0,211]
[21,4068,11,4077,11,4086,null,null,null,null,0,211]
[21,4179,11,4194,11,4203,null,null,null,null,0,211]
[21,4297,11,4313,11,4319,null,null,null,null,0,211]
[21,4410,11,4426,11,4431,null,null,null,null,0,211]
[12,4559,13,4605,13,4622,null,null,null,null,0,111]
[21,4726,11,4742,11,4747,null,null,null,null,0,211]
[21,4842,11,4855,11,4863,null,null,null,null,0,211]
[21,4955,11,4971,11,4976,null,null,null,null,0,211]
[21,5069,11,5085,11,5093,null,null,null,null,0,211]
[21,5189,11,5205,11,5210,null,null,null,null,0,211]
[21,5307,11,5321,11,5327,null,null,null,null,0,211]
[12,5432,13,5437,13,5462,null,null,null,null,0,111]
[21,5565,11,5581,11,5595,null,null,null,null,0,211]
[21,5688,11,5704,11,5709,null,null,null,null,0,211]
[21,5805,11,5820,11,5825,null,null,null,null,0,211]
[21,5919,11,5935,11,5949,null,null,null,null,0,211]
[21,6043,11,6059,11,6064,null,null,null,null,0,211]
[21,6170,11,6181,11,6194,null,null,null,null,0,211]
[12,6296,13,6304,13,6378,null,null,null,null,0,111]
[21,6483,11,6492,11,6497,null,null,null,null,0,211]
[12,6599,13,6604,24,6624,null,null,null,null,0,112]
[12,6740,13,6806,13,6823,null,null,null,null,0,111]
[21,6928,11,6939,11,6947,null,null,null,null,1,211]

{"sheet":"!N406840.010","index":14,"n_rows":193,"n_cols":48,"rows_kept":193,"cut":false,"hidden":false,"merged":[[4,39,4,42],[5,39,5,40],[4,44,4,47],[5,44,5,45],[4,24,4,27],[5,24,5,25],[4,29,4,32],[5,29,5,30],[4,34,4,37],[5,34,5,35],[1,1,1,2],[5,13,5,14],[18,13,18,14],[19,13,19,14],[4,19,4,22],[5,19,5,20]]}
["Report for:!N406840.010"]
["Date:","<date>"]
["Hen:","<hen>",null,null,null,"Correct Sequence",{"$f":"Start!J2","v":211},null,null,null,null,null,null,null,null,"Total Sequences in Data",{"$f":"4994-COUNTBLANK(L7:L5000)","v":187},null,null,null,null,"Total Sequences in Block Data",{"$f":"COUNTA(L7:L37)","v":31},null,null,null,"Total Sequences in Block Data",{"$f":"COUNTA(L38:L68)","v":31},null,null,null,"Total Sequences in Block Data",{"$f":"COUNTA(L69:L100)","v":32},null,null,null,"Total Sequences in Block Data",{"$f":"COUNTA(L101:L131)","v":31},null,null,null,"Total Sequences in Block Data",{"$f":"COUNTA(L132:L162)","v":31},null,null,null,"Total Sequences in Block Data",{"$f":"COUNTA(L163:L193)","v":31}]
[null,null,null,null,null,null,null,null,null,null,null,null,null,null,null,"Total Sequences in Summary",{"$f":"SUM(O7:O14)","v":187},null,null,null,null,"Total Sequences in Block Summary",{"$f":"SUM(U7:U14)","v":31},null,null,null,"Total Sequences in Block Summary",{"$f":"SUM(Z7:Z14)","v":31},null,null,null,"Total Sequences in Block Summary",{"$f":"SUM(AE7:AE14)","v":32},null,null,null,"Total Sequences in Block Summary",{"$f":"SUM(AJ7:AJ14)","v":31},null,null,null,"Total Sequences in Block Summary",{"$f":"SUM(AO7:AO14)","v":31},null,null,null,"Total Sequences in Block Summary",{"$f":"SUM(AT7:AT14)","v":31}]
[null,null,null,null,null,null,null,null,null,null,null,null,null,null,null,null,null,null,null,"Block 1",null,null,null,null,"Block 2",null,null,null,null,"Block 3",null,null,null,null,"Block 4",null,null,null,null,"Block 5",null,null,null,null,"Block 6"]
["Sequence\nComponent\n1","Time\n1","Sequence\nComponent\n2","Time\n2","Sequence\nComponent\n3","Time\n3","Sequence\nComponent\n4","Time\n4","Sequence\nComponent\n5","Time\n5","Correct?\n0=No 1=Yes","Sequence",null,"Frequency",null,"Relative Frequency","Variability",null,null,"Frequency",null,"Relative Frequency","Variability",null,"Frequency",null,"Relative Frequency","Variability",null,"Frequency",null,"Relative Frequency","Variability",null,"Frequency",null,"Relative Frequency","Variability",null,"Frequency",null,"Relative Frequency","Variability",null,"Frequency",null,"Relative Frequency","Variability"]
[12,11,13,17,13,26,null,null,null,null,0,111,null,111,{"$f":"COUNTIF($L$7:$L$500,N7)","v":178},{"$f":"O7/$Q$4","v":0.95187165775401072},{"$f":"IF(P7=0,0,(P7*((LOG(P7))/LOG(2))))","v":-6.7736166566740738E-2},null,null,{"$f":"N7","v":111},{"$f":"COUNTIF(L7:L37,T7)","v":28},{"$f":"U7/(W4-U11)","v":0.90322580645161288},{"$f":"IF(V7=0,0,(V7*((LOG(V7))/LOG(2))))","v":-0.13263093139418039},null,{"$f":"N7","v":111},{"$f":"COUNTIF(L38:L68,Y7)","v":31},{"$f":"Z7/(AB4-Z11)","v":1},{"$f":"IF(AA7=0,0,(AA7*((LOG(AA7))/LOG(2))))","v":0},null,{"$f":"N7","v":111},{"$f":"COUNTIF(L69:L100,AD7)","v":27},{"$f":"AE7/(AG4-AE11)","v":0.84375},{"$f":"IF(AF7=0,0,(AF7*((LOG(AF7))/LOG(2))))","v":-0.20681367004957343},null,{"$f":"N7","v":111},{"$f":"COUNTIF(L101:L131,AI7)","v":31},{"$f":"AJ7/(AL4-AJ11)","v":1},{"$f":"IF(AK7=0,0,(AK7*((LOG(AK7))/LOG(2))))","v":0},null,{"$f":"N7","v":111},{"$f":"COUNTIF(L132:L162,AN7)","v":30},{"$f":"AO7/(AQ4-AO11)","v":0.967741935483871},{"$f":"IF(AP7=0,0,(AP7*((LOG(AP7))/LOG(2))))","v":-4.5779723979054811E-2},null,{"$f":"N7","v":111},{"$f":"COUNTIF(L163:L193,AS7)","v":31},{"$f":"AT7/(AV4-AT11)","v":1},{"$f":"IF(AU7=0,0,(AU7*((LOG(AU7))/LOG(2))))","v":0}]
[12,129,13,136,13,145,null,null,null,null,0,111,null,112,{"$f":"COUNTIF($L$7:$L$500,N8)","v":3},{"$f":"O8/$Q$4","v":1.6042780748663103E-2},{"$f":"IF(P8=0,0,(P8*((LOG(P8))/LOG(2))))","v":-9.5645967259355313E-2},null,null,{"$f":"N8","v":112},{"$f":"COUNTIF(L7:L37,T8)","v":1},{"$f":"U8/(W4-U11)","v":3.2258064516129031E-2},{"$f":"IF(V8=0,0,(V8*((LOG(V8))/LOG(2))))","v":-0.15981278420602821},null,{"$f":"N8","v":112},{"$f":"COUNTIF(L38:L68,Y8)","v":0},{"$f":"Z8/(AB4-Z11)","v":0},{"$f":"IF(AA8=0,0,(AA8*((LOG(AA8))/LOG(2))))","v":0},null,{"$f":"N8","v":112},{"$f":"COUNTIF(L69:L100,AD8)","v":1},{"$f":"AE8/(AG4-AE11)","v":3.125E-2},{"$f":"IF(AF8=0,0,(AF8*((LOG(AF8))/LOG(2))))","v":-0.15625},null,{"$f":"N8","v":112},{"$f":"COUNTIF(L101:L131,AI8)","v":0},{"$f":"AJ8/(AL4-AJ11)","v":0},{"$f":"IF(AK8=0,0,(AK8*((LOG(AK8))/LOG(2))))","v":0},null,{"$f":"N8","v":112},{"$f":"COUNTIF(L132:L162,AN8)","v":1},{"$f":"AO8/(AQ4-AO11)","v":3.2258064516129031E-2},{"$f":"IF(AP8=0,0,(AP8*((LOG(AP8))/LOG(2))))","v":-0.15981278420602821},null,{"$f":"N8","v":112},{"$f":"COUNTIF(L163:L193,AS8)","v":0},{"$f":"AT8/(AV4-AT11)","v":0},{"$f":"IF(AU8=0,0,(AU8*((LOG(AU8))/LOG(2))))","v":0}]
[12,250,13,258,13,267,null,null,null,null,0,111,null,121,{"$f":"COUNTIF($L$7:$L$500,N9)","v":0},{"$f":"O9/$Q$4","v":0},{"$f":"IF(P9=0,0,(P9*((LOG(P9))/LOG(2))))","v":0},null,null,{"$f":"N9","v":121},{"$f":"COUNTIF(L7:L37,T9)","v":0},{"$f":"U9/(W4-U11)","v":0},{"$f":"IF(V9=0,0,(V9*((LOG(V9))/LOG(2))))","v":0},null,{"$f":"N9","v":121},{"$f":"COUNTIF(L38:L68,Y9)","v":0},{"$f":"Z9/(AB4-Z11)","v":0},{"$f":"IF(AA9=0,0,(AA9*((LOG(AA9))/LOG(2))))","v":0},null,{"$f":"N9","v":121},{"$f":"COUNTIF(L69:L100,AD9)","v":0},{"$f":"AE9/(AG4-AE11)","v":0},{"$f":"IF(AF9=0,0,(AF9*((LOG(AF9))/LOG(2))))","v":0},null,{"$f":"N9","v":121},{"$f":"COUNTIF(L101:L131,AI9)","v":0},{"$f":"AJ9/(AL4-AJ11)","v":0},{"$f":"IF(AK9=0,0,(AK9*((LOG(AK9))/LOG(2))))","v":0},null,{"$f":"N9","v":121},{"$f":"COUNTIF(L132:L162,AN9)","v":0},{"$f":"AO9/(AQ4-AO11)","v":0},{"$f":"IF(AP9=0,0,(AP9*((LOG(AP9))/LOG(2))))","v":0},null,{"$f":"N9","v":121},{"$f":"COUNTIF(L163:L193,AS9)","v":0},{"$f":"AT9/(AV4-AT11)","v":0},{"$f":"IF(AU9=0,0,(AU9*((LOG(AU9))/LOG(2))))","v":0}]
[12,367,13,374,13,380,null,null,null,null,0,111,null,122,{"$f":"COUNTIF($L$7:$L$500,N10)","v":4},{"$f":"O10/$Q$4","v":2.1390374331550801E-2},{"$f":"IF(P10=0,0,(P10*((LOG(P10))/LOG(2))))","v":-0.11865014887460185},null,null,{"$f":"N10","v":122},{"$f":"COUNTIF(L7:L37,T10)","v":2},{"$f":"U10/(W4-U11)","v":6.4516129032258063E-2},{"$f":"IF(V10=0,0,(V10*((LOG(V10))/LOG(2))))","v":-0.25510943937979835},null,{"$f":"N10","v":122},{"$f":"COUNTIF(L38:L68,Y10)","v":0},{"$f":"Z10/(AB4-Z11)","v":0},{"$f":"IF(AA10=0,0,(AA10*((LOG(AA10))/LOG(2))))","v":0},null,{"$f":"N10","v":122},{"$f":"COUNTIF(L69:L100,AD10)","v":2},{"$f":"AE10/(AG4-AE11)","v":6.25E-2},{"$f":"IF(AF10=0,0,(AF10*((LOG(AF10))/LOG(2))))","v":-0.25},null,{"$f":"N10","v":122},{"$f":"COUNTIF(L101:L131,AI10)","v":0},{"$f":"AJ10/(AL4-AJ11)","v":0},{"$f":"IF(AK10=0,0,(AK10*((LOG(AK10))/LOG(2))))","v":0},null,{"$f":"N10","v":122},{"$f":"COUNTIF(L132:L162,AN10)","v":0},{"$f":"AO10/(AQ4-AO11)","v":0},{"$f":"IF(AP10=0,0,(AP10*((LOG(AP10))/LOG(2))))","v":0},null,{"$f":"N10","v":122},{"$f":"COUNTIF(L163:L193,AS10)","v":0},{"$f":"AT10/(AV4-AT11)","v":0},{"$f":"IF(AU10=0,0,(AU10*((LOG(AU10))/LOG(2))))","v":0}]
[12,483,13,490,13,496,null,null,null,null,0,111,null,211,{"$f":"COUNTIF($L$7:$L$500,N11)","v":0},{"$f":"O11/$Q$4","v":0},{"$f":"IF(P11=0,0,(P11*((LOG(P11))/LOG(2))))","v":0},null,null,{"$f":"N11","v":211},{"$f":"COUNTIF(L7:L37,T11)","v":0},null,null,null,{"$f":"N11","v":211},{"$f":"COUNTIF(L38:L68,Y11)","v":0},null,null,null,{"$f":"N11","v":211},{"$f":"COUNTIF(L69:L100,AD11)","v":0},null,null,null,{"$f":"N11","v":211},{"$f":"COUNTIF(L101:L131,AI11)","v":0},null,null,null,{"$f":"N11","v":211},{"$f":"COUNTIF(L132:L162,AN11)","v":0},null,null,null,{"$f":"N11","v":211},{"$f":"COUNTIF(L163:L193,AS11)","v":0}]
[12,598,13,605,13,611,null,null,null,null,0,111,null,212,{"$f":"COUNTIF($L$7:$L$500,N12)","v":0},{"$f":"O12/$Q$4","v":0},{"$f":"IF(P12=0,0,(P12*((LOG(P12))/LOG(2))))","v":0},null,null,{"$f":"N12","v":212},{"$f":"COUNTIF(L7:L37,T12)","v":0},{"$f":"U12/(W4-U11)","v":0},{"$f":"IF(V12=0,0,(V12*((LOG(V12))/LOG(2))))","v":0},null,{"$f":"N12","v":212},{"$f":"COUNTIF(L38:L68,Y12)","v":0},{"$f":"Z12/(AB4-Z11)","v":0},{"$f":"IF(AA12=0,0,(AA12*((LOG(AA12))/LOG(2))))","v":0},null,{"$f":"N12","v":212},{"$f":"COUNTIF(L69:L100,AD12)","v":0},{"$f":"AE12/(AG4-AE11)","v":0},{"$f":"IF(AF12=0,0,(AF12*((LOG(AF12))/LOG(2))))","v":0},null,{"$f":"N12","v":212},{"$f":"COUNTIF(L101:L131,AI12)","v":0},{"$f":"AJ12/(AL4-AJ11)","v":0},{"$f":"IF(AK12=0,0,(AK12*((LOG(AK12))/LOG(2))))","v":0},null,{"$f":"N12","v":212},{"$f":"COUNTIF(L132:L162,AN12)","v":0},{"$f":"AO12/(AQ4-AO11)","v":0},{"$f":"IF(AP12=0,0,(AP12*((LOG(AP12))/LOG(2))))","v":0},null,{"$f":"N12","v":212},{"$f":"COUNTIF(L163:L193,AS12)","v":0},{"$f":"AT12/(AV4-AT11)","v":0},{"$f":"IF(AU12=0,0,(AU12*((LOG(AU12))/LOG(2))))","v":0}]
[12,707,13,715,13,724,null,null,null,null,0,111,null,221,{"$f":"COUNTIF($L$7:$L$500,N13)","v":0},{"$f":"O13/$Q$4","v":0},{"$f":"IF(P13=0,0,(P13*((LOG(P13))/LOG(2))))","v":0},null,null,{"$f":"N13","v":221},{"$f":"COUNTIF(L7:L37,T13)","v":0},{"$f":"U13/(W4-U11)","v":0},{"$f":"IF(V13=0,0,(V13*((LOG(V13))/LOG(2))))","v":0},null,{"$f":"N13","v":221},{"$f":"COUNTIF(L38:L68,Y13)","v":0},{"$f":"Z13/(AB4-Z11)","v":0},{"$f":"IF(AA13=0,0,(AA13*((LOG(AA13))/LOG(2))))","v":0},null,{"$f":"N13","v":221},{"$f":"COUNTIF(L69:L100,AD13)","v":0},{"$f":"AE13/(AG4-AE11)","v":0},{"$f":"IF(AF13=0,0,(AF13*((LOG(AF13))/LOG(2))))","v":0},null,{"$f":"N13","v":221},{"$f":"COUNTIF(L101:L131,AI13)","v":0},{"$f":"AJ13/(AL4-AJ11)","v":0},{"$f":"IF(AK13=0,0,(AK13*((LOG(AK13))/LOG(2))))","v":0},null,{"$f":"N13","v":221},{"$f":"COUNTIF(L132:L162,AN13)","v":0},{"$f":"AO13/(AQ4-AO11)","v":0},{"$f":"IF(AP13=0,0,(AP13*((LOG(AP13))/LOG(2))))","v":0},null,{"$f":"N13","v":221},{"$f":"COUNTIF(L163:L193,AS13)","v":0},{"$f":"AT13/(AV4-AT11)","v":0},{"$f":"IF(AU13=0,0,(AU13*((LOG(AU13))/LOG(2))))","v":0}]
[12,843,13,849,13,858,null,null,null,null,0,111,null,222,{"$f":"COUNTIF($L$7:$L$500,N14)","v":2},{"$f":"O14/$Q$4","v":1.06951871657754E-2},{"$f":"IF(P14=0,0,(P14*((LOG(P14))/LOG(2))))","v":-7.0020261603076325E-2},null,null,{"$f":"N14","v":222},{"$f":"COUNTIF(L7:L37,T14)","v":0},{"$f":"U14/(W4-U11)","v":0},{"$f":"IF(V14=0,0,(V14*((LOG(V14))/LOG(2))))","v":0},null,{"$f":"N14","v":222},{"$f":"COUNTIF(L38:L68,Y14)","v":0},{"$f":"Z14/(AB4-Z11)","v":0},{"$f":"IF(AA14=0,0,(AA14*((LOG(AA14))/LOG(2))))","v":0},null,{"$f":"N14","v":222},{"$f":"COUNTIF(L69:L100,AD14)","v":2},{"$f":"AE14/(AG4-AE11)","v":6.25E-2},{"$f":"IF(AF14=0,0,(AF14*((LOG(AF14))/LOG(2))))","v":-0.25},null,{"$f":"N14","v":222},{"$f":"COUNTIF(L101:L131,AI14)","v":0},{"$f":"AJ14/(AL4-AJ11)","v":0},{"$f":"IF(AK14=0,0,(AK14*((LOG(AK14))/LOG(2))))","v":0},null,{"$f":"N14","v":222},{"$f":"COUNTIF(L132:L162,AN14)","v":0},{"$f":"AO14/(AQ4-AO11)","v":0},{"$f":"IF(AP14=0,0,(AP14*((LOG(AP14))/LOG(2))))","v":0},null,{"$f":"N14","v":222},{"$f":"COUNTIF(L163:L193,AS14)","v":0},{"$f":"AT14/(AV4-AT11)","v":0},{"$f":"IF(AU14=0,0,(AU14*((LOG(AU14))/LOG(2))))","v":0}]
[12,961,13,968,13,974,null,null,null,null,0,111,null,null,null,{"$f":"SUM(P7:P14)","v":1},{"$f":"-SUM(Q7:Q14)","v":0.35205254430377425},null,null,null,null,{"$f":"SUM(V7:V14)","v":1},{"$f":"-SUM(W7:W14)","v":0.54755315498000701},null,null,null,{"$f":"SUM(AA7:AA14)","v":1},{"$f":"-SUM(AB7:AB14)","v":0},null,null,null,{"$f":"SUM(AF7:AF14)","v":1},{"$f":"-SUM(AG7:AG14)","v":0.86306367004957341},null,null,null,{"$f":"SUM(AK7:AK14)","v":1},{"$f":"-SUM(AL7:AL14)","v":0},null,null,null,{"$f":"SUM(AP7:AP14)","v":1},{"$f":"-SUM(AQ7:AQ14)","v":0.20559250818508301},null,null,null,{"$f":"SUM(AU7:AU14)","v":1},{"$f":"-SUM(AV7:AV14)","v":0}]
[12,1078,13,1085,13,1092,null,null,null,null,0,111,null,null,null,"U=",{"$f":"Q15/(LOG(Q4)/LOG(2))","v":4.6648664053136349E-2},null,null,null,null,"U1=",{"$f":"W15/(LOG(W4)/LOG(2))","v":0.11052310418786138},null,null,null,"U2=",{"$f":"AB15/(LOG(AB4)/LOG(2))","v":0},null,null,null,"U3=",{"$f":"AG15/(LOG(AG4)/LOG(2))","v":0.17261273400991467},null,null,null,"U4=",{"$f":"AL15/(LOG(AL4)/LOG(2))","v":0},null,null,null,"U5=",{"$f":"AQ15/(LOG(AQ4)/LOG(2))","v":4.1498659985281898E-2},null,null,null,"U6=",{"$f":"AV15/(LOG(AV4)/LOG(2))","v":0}]
[12,1199,13,1206,13,1215,null,null,null,null,0,111]
[12,1325,13,1332,13,1342,null,null,null,null,0,111]
[12,1453,13,1459,13,1466,null,null,null,null,0,111,null,"Total Target Seq"]
[12,1569,13,1577,13,1583,null,null,null,null,0,111,null,{"$f":"COUNTIF(L7:L193,G3)","v":0},null,31,31,32,31,31,31]
[12,1688,13,1694,13,1704,null,null,null,null,0,111,null,null,null,"% of reinforcement given in 6 equal intervals based on number of trials "]
[12,1819,13,1826,13,1836,null,null,null,null,0,111,null,null,null,"%_1","%_2","%_3","%_4","%_5","%_6"]
[12,1945,13,1951,13,1958,null,null,null,null,0,111,null,null,"target sequence",{"$f":"$G$3","v":211},{"$f":"$G$3","v":211},{"$f":"$G$3","v":211},{"$f":"$G$3","v":211},{"$f":"$G$3","v":211},{"$f":"$G$3","v":211}]
[12,2067,13,2074,13,2080,null,null,null,null,0,111,null,null,"total reinforcement",{"$f":"U11","v":0},{"$f":"Z11","v":0},{"$f":"AE11","v":0},{"$f":"AJ11","v":0},{"$f":"AO11","v":0},{"$f":"AT11","v":0}]
[12,2189,13,2196,13,2202,null,null,null,null,0,111,null,null,"% target"]
[12,2313,13,2324,13,2335,null,null,null,null,0,111,null,null,"CCRF"]
[12,2457,13,2463,13,2478,null,null,null,null,0,111,null,null,"% CCRf"]
[12,2589,24,2612,24,2631,null,null,null,null,0,122,null,null,"average response rate",{"$f":"F37/P20","v":129.09677419354838},{"$f":"(F68-F37)/Q20","v":137.29032258064515},{"$f":"(F100-F68)/R20","v":133.75},{"$f":"(F131-F100)/S20","v":124.29032258064517},{"$f":"(F162-F131)/T20","v":121.96774193548387},{"$f":"(F193-F162)/U20","v":122.09677419354838}]
[12,2745,24,2777,24,2785,null,null,null,null,0,122]
[12,2897,13,2930,24,2973,null,null,null,null,0,112]
[12,3094,13,3102,13,3112,null,null,null,null,0,111]
[12,3223,13,3236,13,3246,null,null,null,null,0,111]
[12,3360,13,3366,13,3372,null,null,null,null,0,111]
[12,3517,13,3526,13,3534,null,null,null,null,0,111]
[12,3651,13,3658,13,3664,null,null,null,null,0,111]
[12,3776,13,3786,13,3794,null,null,null,null,0,111]
[12,3984,13,3994,13,4002,null,null,null,null,0,111]
[12,4171,13,4178,13,4187,null,null,null,null,0,111]
[12,4306,13,4313,13,4319,null,null,null,null,0,111]
[12,4440,13,4445,13,4453,null,null,null,null,0,111]
[12,4578,13,4584,13,4593,null,null,null,null,0,111]
[12,4711,13,4717,13,4730,null,null,null,null,0,111]
[12,4838,13,4853,13,4868,null,null,null,null,0,111]
[12,4982,13,4994,13,5000,null,null,null,null,0,111]
[12,5105,13,5111,13,5118,null,null,null,null,0,111]
[12,5227,13,5234,13,5240,null,null,null,null,0,111]
[12,5383,13,5390,13,5397,null,null,null,null,0,111]
[12,5514,13,5520,13,5526,null,null,null,null,0,111]
[12,5637,13,5644,13,5656,null,null,null,null,0,111]
[12,5766,13,5771,13,5782,null,null,null,null,0,111]
[12,5902,13,5908,13,5917,null,null,null,null,0,111]
[12,6064,13,6077,13,6110,null,null,null,null,0,111]
[12,6235,13,6242,13,6256,null,null,null,null,0,111]
[12,6367,13,6373,13,6392,null,null,null,null,0,111]
[12,6524,13,6537,13,6548,null,null,null,null,0,111]
[12,6670,13,6677,13,6686,null,null,null,null,0,111]
[12,6787,13,6793,13,6807,null,null,null,null,0,111]
[12,6919,13,6926,13,6957,null,null,null,null,0,111]
[12,7066,13,7073,13,7081,null,null,null,null,0,111]
[12,7189,13,7196,13,7201,null,null,null,null,0,111]
[12,7311,13,7317,13,7330,null,null,null,null,0,111]
[12,7439,13,7445,13,7453,null,null,null,null,0,111]
[12,7566,13,7580,13,7590,null,null,null,null,0,111]
[12,7696,13,7709,13,7715,null,null,null,null,0,111]
[12,7826,13,7833,13,7850,null,null,null,null,0,111]
[12,7954,13,7967,13,7977,null,null,null,null,0,111]
[12,8087,13,8122,13,8133,null,null,null,null,0,111]
[12,8236,13,8248,13,8258,null,null,null,null,0,111]
[12,8363,24,8386,24,8394,null,null,null,null,0,122]
[12,8499,13,8510,13,8528,null,null,null,null,0,111]
[12,8641,13,8651,13,8660,null,null,null,null,0,111]
[12,8763,13,8769,13,8788,null,null,null,null,0,111]
[12,8896,13,8902,13,8909,null,null,null,null,0,111]
[12,9020,13,9032,24,9088,null,null,null,null,0,112]
[12,9207,13,9213,13,9219,null,null,null,null,0,111]
[12,9331,13,9338,13,9348,null,null,null,null,0,111]
[21,9510,22,9516,24,9526,null,null,null,null,0,222]
[12,9666,13,9671,13,9677,null,null,null,null,0,111]
[12,9783,13,9789,13,9801,null,null,null,null,0,111]
[12,9902,13,9908,13,9917,null,null,null,null,0,111]
[12,10033,13,10040,13,10061,null,null,null,null,0,111]
[12,10166,13,10177,13,10184,null,null,null,null,0,111]
[12,10284,13,10300,13,10307,null,null,null,null,0,111]
[12,10411,13,10417,13,10423,null,null,null,null,0,111]
[12,10540,13,10547,13,10588,null,null,null,null,0,111]
[12,10689,13,10695,13,10700,null,null,null,null,0,111]
[12,10798,13,10809,13,10816,null,null,null,null,0,111]
[21,10954,22,10962,24,10969,null,null,null,null,0,222]
[12,11089,13,11096,13,11120,null,null,null,null,0,111]
[12,11250,13,11256,13,11263,null,null,null,null,0,111]
[12,11372,13,11378,13,11384,null,null,null,null,0,111]
[12,11496,13,11501,13,11508,null,null,null,null,0,111]
[12,11618,13,11636,13,11648,null,null,null,null,0,111]
[12,11756,13,11772,13,11778,null,null,null,null,0,111]
[12,11899,13,11905,13,11911,null,null,null,null,0,111]
[12,12017,13,12028,13,12033,null,null,null,null,0,111]
[12,12139,13,12145,13,12150,null,null,null,null,0,111]
[12,12253,24,12266,24,12278,null,null,null,null,0,122]
[12,12380,13,12387,13,12411,null,null,null,null,0,111]
[12,12519,13,12532,13,12538,null,null,null,null,0,111]
[12,12645,13,12651,13,12657,null,null,null,null,0,111]
[12,12755,13,12762,13,12772,null,null,null,null,0,111]
[12,12881,13,12887,13,12895,null,null,null,null,0,111]
[12,13003,13,13016,13,13026,null,null,null,null,0,111]
[12,13127,13,13140,13,13150,null,null,null,null,0,111]
[12,13251,13,13260,13,13268,null,null,null,null,0,111]
[12,13377,13,13387,13,13396,null,null,null,null,0,111]
[12,13497,13,13502,13,13508,null,null,null,null,0,111]
[12,13611,13,13618,13,13624,null,null,null,null,0,111]
[12,13732,13,13738,13,13744,null,null,null,null,0,111]
[12,13849,13,13855,13,13861,null,null,null,null,0,111]
[12,13963,13,13975,13,13994,null,null,null,null,0,111]
[12,14109,13,14115,13,14121,null,null,null,null,0,111]
[12,14220,13,14225,13,14231,null,null,null,null,0,111]
[12,14344,13,14355,13,14364,null,null,null,null,0,111]
[12,14467,13,14473,13,14479,null,null,null,null,0,111]
[12,14583,13,14589,13,14596,null,null,null,null,0,111]
[12,14702,13,14709,13,14715,null,null,null,null,0,111]
[12,14820,13,14827,13,14835,null,null,null,null,0,111]
[12,14945,13,14951,13,14957,null,null,null,null,0,111]
[12,15057,13,15062,13,15071,null,null,null,null,0,111]
[12,15181,13,15234,13,15242,null,null,null,null,0,111]
[12,15344,13,15351,13,15357,null,null,null,null,0,111]
[12,15460,13,15465,13,15474,null,null,null,null,0,111]
[12,15575,13,15582,13,15598,null,null,null,null,0,111]
[12,15701,13,15707,13,15713,null,null,null,null,0,111]
[12,15818,13,15824,13,15830,null,null,null,null,0,111]
[12,15928,13,15935,13,15941,null,null,null,null,0,111]
[12,16077,13,16102,13,16126,null,null,null,null,0,111]
[12,16231,13,16251,13,16268,null,null,null,null,0,111]
[12,16369,13,16376,13,16391,null,null,null,null,0,111]
[12,16524,13,16531,13,16547,null,null,null,null,0,111]
[12,16651,13,16656,13,16662,null,null,null,null,0,111]
[12,16769,13,16775,13,16782,null,null,null,null,0,111]
[12,16881,13,16889,13,16895,null,null,null,null,0,111]
[12,16999,13,17005,13,17012,null,null,null,null,0,111]
[12,17125,13,17132,13,17137,null,null,null,null,0,111]
[12,17240,13,17255,13,17265,null,null,null,null,0,111]
[12,17368,13,17374,13,17380,null,null,null,null,0,111]
[12,17482,13,17488,13,17500,null,null,null,null,0,111]
[12,17597,13,17604,13,17616,null,null,null,null,0,111]
[12,17725,13,17731,13,17737,null,null,null,null,0,111]
[12,17842,13,17848,13,17856,null,null,null,null,0,111]
[12,17953,13,17958,13,17971,null,null,null,null,0,111]
[12,18070,13,18077,13,18083,null,null,null,null,0,111]
[12,18182,13,18187,13,18199,null,null,null,null,0,111]
[12,18296,13,18302,13,18314,null,null,null,null,0,111]
[12,18411,13,18419,13,18436,null,null,null,null,0,111]
[12,18540,13,18562,13,18576,null,null,null,null,0,111]
[12,18676,13,18682,13,18689,null,null,null,null,0,111]
[12,18792,13,18797,13,18804,null,null,null,null,0,111]
[12,18910,13,18917,13,18923,null,null,null,null,0,111]
[12,19019,13,19028,13,19040,null,null,null,null,0,111]
[12,19137,13,19143,13,19159,null,null,null,null,0,111]
[12,19303,13,19310,13,19319,null,null,null,null,0,111]
[12,19418,13,19423,13,19430,null,null,null,null,0,111]
[12,19527,13,19537,13,19543,null,null,null,null,0,111]
[12,19644,13,19651,13,19656,null,null,null,null,0,111]
[12,19764,13,19776,24,19802,null,null,null,null,0,112]
[12,19901,13,19908,13,19913,null,null,null,null,0,111]
[12,20012,13,20018,13,20023,null,null,null,null,0,111]
[12,20153,13,20163,13,20172,null,null,null,null,0,111]
[12,20266,13,20272,13,20277,null,null,null,null,0,111]
[12,20395,13,20429,13,20439,null,null,null,null,0,111]
[12,20534,13,20540,13,20545,null,null,null,null,0,111]
[12,20649,13,20663,13,20673,null,null,null,null,0,111]
[12,20775,13,20781,13,20787,null,null,null,null,0,111]
[12,20892,13,20897,13,20904,null,null,null,null,0,111]
[12,20999,13,21005,13,21014,null,null,null,null,0,111]
[12,21123,13,21132,13,21140,null,null,null,null,0,111]
[12,21247,13,21257,13,21265,null,null,null,null,0,111]
[12,21372,13,21378,13,21384,null,null,null,null,0,111]
[12,21487,13,21492,13,21498,null,null,null,null,0,111]
[12,21603,13,21614,13,21623,null,null,null,null,0,111]
[12,21722,13,21727,13,21733,null,null,null,null,0,111]
[12,21838,13,21844,13,21869,null,null,null,null,0,111]
[12,21975,13,21980,13,21990,null,null,null,null,0,111]
[12,22123,13,22132,13,22141,null,null,null,null,0,111]
[12,22236,13,22248,13,22253,null,null,null,null,0,111]
[12,22359,13,22365,13,22376,null,null,null,null,0,111]
[12,22475,13,22480,13,22486,null,null,null,null,0,111]
[12,22589,13,22594,13,22599,null,null,null,null,0,111]
[12,22706,13,22713,13,22721,null,null,null,null,0,111]
[12,22833,13,22843,13,22849,null,null,null,null,0,111]
[12,22954,13,22960,13,22969,null,null,null,null,0,111]
[12,23070,13,23075,13,23086,null,null,null,null,0,111]
[12,23188,13,23196,13,23202,null,null,null,null,0,111]
[12,23300,13,23318,13,23333,null,null,null,null,0,111]
[12,23440,13,23451,13,23456,null,null,null,null,0,111]
[12,23573,13,23579,13,23593,null,null,null,null,0,111]
[12,23699,13,23709,13,23715,null,null,null,null,0,111]
[12,23819,13,23825,13,23831,null,null,null,null,0,111]
[12,23946,13,23951,13,23957,null,null,null,null,null,111]

{"sheet":"!N407950.010","index":15,"n_rows":197,"n_cols":48,"rows_kept":197,"cut":false,"hidden":false,"merged":[[4,39,4,42],[5,39,5,40],[4,44,4,47],[5,44,5,45],[4,24,4,27],[5,24,5,25],[4,29,4,32],[5,29,5,30],[4,34,4,37],[5,34,5,35],[1,1,1,2],[5,13,5,14],[18,13,18,14],[19,13,19,14],[4,19,4,22],[5,19,5,20]]}
["Report for:!N407950.010"]
["Date:","<date>"]
["Hen:","<hen>",null,null,null,"Correct Sequence",{"$f":"Start!J2","v":211},null,null,null,null,null,null,null,null,"Total Sequences in Data",{"$f":"4994-COUNTBLANK(L7:L5000)","v":191},null,null,null,null,"Total Sequences in Block Data",{"$f":"COUNTA(L7:L38)","v":32},null,null,null,"Total Sequences in Block Data",{"$f":"COUNTA(L39:L70)","v":32},null,null,null,"Total Sequences in Block Data",{"$f":"COUNTA(L71:L101)","v":31},null,null,null,"Total Sequences in Block Data",{"$f":"COUNTA(L102:L133)","v":32},null,null,null,"Total Sequences in Block Data",{"$f":"COUNTA(L134:L165)","v":32},null,null,null,"Total Sequences in Block Data",{"$f":"COUNTA(L166:L197)","v":32}]
[null,null,null,null,null,null,null,null,null,null,null,null,null,null,null,"Total Sequences in Summary",{"$f":"SUM(O7:O14)","v":190},null,null,null,null,"Total Sequences in Block Summary",{"$f":"SUM(U7:U14)","v":32},null,null,null,"Total Sequences in Block Summary",{"$f":"SUM(Z7:Z14)","v":32},null,null,null,"Total Sequences in Block Summary",{"$f":"SUM(AE7:AE14)","v":31},null,null,null,"Total Sequences in Block Summary",{"$f":"SUM(AJ7:AJ14)","v":32},null,null,null,"Total Sequences in Block Summary",{"$f":"SUM(AO7:AO14)","v":32},null,null,null,"Total Sequences in Block Summary",{"$f":"SUM(AT7:AT14)","v":31}]
[null,null,null,null,null,null,null,null,null,null,null,null,null,null,null,null,null,null,null,"Block 1",null,null,null,null,"Block 2",null,null,null,null,"Block 3",null,null,null,null,"Block 4",null,null,null,null,"Block 5",null,null,null,null,"Block 6"]
["Sequence\nComponent\n1","Time\n1","Sequence\nComponent\n2","Time\n2","Sequence\nComponent\n3","Time\n3","Sequence\nComponent\n4","Time\n4","Sequence\nComponent\n5","Time\n5","Correct?\n0=No 1=Yes","Sequence",null,"Frequency",null,"Relative Frequency","Variability",null,null,"Frequency",null,"Relative Frequency","Variability",null,"Frequency",null,"Relative Frequency","Variability",null,"Frequency",null,"Relative Frequency","Variability",null,"Frequency",null,"Relative Frequency","Variability",null,"Frequency",null,"Relative Frequency","Variability",null,"Frequency",null,"Relative Frequency","Variability"]
[12,15,13,25,13,33,null,null,null,null,0,111,null,111,{"$f":"COUNTIF($L$7:$L$500,N7)","v":185},{"$f":"O7/$Q$4","v":0.97368421052631582},{"$f":"IF(P7=0,0,(P7*((LOG(P7))/LOG(2))))","v":-3.7461670240566305E-2},null,null,{"$f":"N7","v":111},{"$f":"COUNTIF(L7:L38,T7)","v":30},{"$f":"U7/(W4-U11)","v":0.9375},{"$f":"IF(V7=0,0,(V7*((LOG(V7))/LOG(2))))","v":-8.729006661701387E-2},null,{"$f":"N7","v":111},{"$f":"COUNTIF(L39:L70,Y7)","v":32},{"$f":"Z7/(AB4-Z11)","v":1},{"$f":"IF(AA7=0,0,(AA7*((LOG(AA7))/LOG(2))))","v":0},null,{"$f":"N7","v":111},{"$f":"COUNTIF(L71:L101,AD7)","v":31},{"$f":"AE7/(AG4-AE11)","v":1},{"$f":"IF(AF7=0,0,(AF7*((LOG(AF7))/LOG(2))))","v":0},null,{"$f":"N7","v":111},{"$f":"COUNTIF(L102:L133,AI7)","v":32},{"$f":"AJ7/(AL4-AJ11)","v":1},{"$f":"IF(AK7=0,0,(AK7*((LOG(AK7))/LOG(2))))","v":0},null,{"$f":"N7","v":111},{"$f":"COUNTIF(L134:L165,AN7)","v":31},{"$f":"AO7/(AQ4-AO11)","v":0.96875},{"$f":"IF(AP7=0,0,(AP7*((LOG(AP7))/LOG(2))))","v":-4.4372324312714644E-2},null,{"$f":"N7","v":111},{"$f":"COUNTIF(L166:L197,AS7)","v":29},{"$f":"AT7/(AV4-AT11)","v":0.93548387096774188},{"$f":"IF(AU7=0,0,(AU7*((LOG(AU7))/LOG(2))))","v":-9.0007875565154577E-2}]
[12,136,13,145,13,153,null,null,null,null,0,111,null,112,{"$f":"COUNTIF($L$7:$L$500,N8)","v":2},{"$f":"O8/$Q$4","v":1.0526315789473684E-2},{"$f":"IF(P8=0,0,(P8*((LOG(P8))/LOG(2))))","v":-6.9156374824536293E-2},null,null,{"$f":"N8","v":112},{"$f":"COUNTIF(L7:L38,T8)","v":1},{"$f":"U8/(W4-U11)","v":3.125E-2},{"$f":"IF(V8=0,0,(V8*((LOG(V8))/LOG(2))))","v":-0.15625},null,{"$f":"N8","v":112},{"$f":"COUNTIF(L39:L70,Y8)","v":0},{"$f":"Z8/(AB4-Z11)","v":0},{"$f":"IF(AA8=0,0,(AA8*((LOG(AA8))/LOG(2))))","v":0},null,{"$f":"N8","v":112},{"$f":"COUNTIF(L71:L101,AD8)","v":0},{"$f":"AE8/(AG4-AE11)","v":0},{"$f":"IF(AF8=0,0,(AF8*((LOG(AF8))/LOG(2))))","v":0},null,{"$f":"N8","v":112},{"$f":"COUNTIF(L102:L133,AI8)","v":0},{"$f":"AJ8/(AL4-AJ11)","v":0},{"$f":"IF(AK8=0,0,(AK8*((LOG(AK8))/LOG(2))))","v":0},null,{"$f":"N8","v":112},{"$f":"COUNTIF(L134:L165,AN8)","v":0},{"$f":"AO8/(AQ4-AO11)","v":0},{"$f":"IF(AP8=0,0,(AP8*((LOG(AP8))/LOG(2))))","v":0},null,{"$f":"N8","v":112},{"$f":"COUNTIF(L166:L197,AS8)","v":1},{"$f":"AT8/(AV4-AT11)","v":3.2258064516129031E-2},{"$f":"IF(AU8=0,0,(AU8*((LOG(AU8))/LOG(2))))","v":-0.15981278420602821}]
[12,254,13,260,13,268,null,null,null,null,0,111,null,121,{"$f":"COUNTIF($L$7:$L$500,N9)","v":0},{"$f":"O9/$Q$4","v":0},{"$f":"IF(P9=0,0,(P9*((LOG(P9))/LOG(2))))","v":0},null,null,{"$f":"N9","v":121},{"$f":"COUNTIF(L7:L38,T9)","v":0},{"$f":"U9/(W4-U11)","v":0},{"$f":"IF(V9=0,0,(V9*((LOG(V9))/LOG(2))))","v":0},null,{"$f":"N9","v":121},{"$f":"COUNTIF(L39:L70,Y9)","v":0},{"$f":"Z9/(AB4-Z11)","v":0},{"$f":"IF(AA9=0,0,(AA9*((LOG(AA9))/LOG(2))))","v":0},null,{"$f":"N9","v":121},{"$f":"COUNTIF(L71:L101,AD9)","v":0},{"$f":"AE9/(AG4-AE11)","v":0},{"$f":"IF(AF9=0,0,(AF9*((LOG(AF9))/LOG(2))))","v":0},null,{"$f":"N9","v":121},{"$f":"COUNTIF(L102:L133,AI9)","v":0},{"$f":"AJ9/(AL4-AJ11)","v":0},{"$f":"IF(AK9=0,0,(AK9*((LOG(AK9))/LOG(2))))","v":0},null,{"$f":"N9","v":121},{"$f":"COUNTIF(L134:L165,AN9)","v":0},{"$f":"AO9/(AQ4-AO11)","v":0},{"$f":"IF(AP9=0,0,(AP9*((LOG(AP9))/LOG(2))))","v":0},null,{"$f":"N9","v":121},{"$f":"COUNTIF(L166:L197,AS9)","v":0},{"$f":"AT9/(AV4-AT11)","v":0},{"$f":"IF(AU9=0,0,(AU9*((LOG(AU9))/LOG(2))))","v":0}]
[12,369,13,378,13,384,null,null,null,null,0,111,null,122,{"$f":"COUNTIF($L$7:$L$500,N10)","v":3},{"$f":"O10/$Q$4","v":1.5789473684210527E-2},{"$f":"IF(P10=0,0,(P10*((LOG(P10))/LOG(2))))","v":-9.4498312225417769E-2},null,null,{"$f":"N10","v":122},{"$f":"COUNTIF(L7:L38,T10)","v":1},{"$f":"U10/(W4-U11)","v":3.125E-2},{"$f":"IF(V10=0,0,(V10*((LOG(V10))/LOG(2))))","v":-0.15625},null,{"$f":"N10","v":122},{"$f":"COUNTIF(L39:L70,Y10)","v":0},{"$f":"Z10/(AB4-Z11)","v":0},{"$f":"IF(AA10=0,0,(AA10*((LOG(AA10))/LOG(2))))","v":0},null,{"$f":"N10","v":122},{"$f":"COUNTIF(L71:L101,AD10)","v":0},{"$f":"AE10/(AG4-AE11)","v":0},{"$f":"IF(AF10=0,0,(AF10*((LOG(AF10))/LOG(2))))","v":0},null,{"$f":"N10","v":122},{"$f":"COUNTIF(L102:L133,AI10)","v":0},{"$f":"AJ10/(AL4-AJ11)","v":0},{"$f":"IF(AK10=0,0,(AK10*((LOG(AK10))/LOG(2))))","v":0},null,{"$f":"N10","v":122},{"$f":"COUNTIF(L134:L165,AN10)","v":1},{"$f":"AO10/(AQ4-AO11)","v":3.125E-2},{"$f":"IF(AP10=0,0,(AP10*((LOG(AP10))/LOG(2))))","v":-0.15625},null,{"$f":"N10","v":122},{"$f":"COUNTIF(L166:L197,AS10)","v":1},{"$f":"AT10/(AV4-AT11)","v":3.2258064516129031E-2},{"$f":"IF(AU10=0,0,(AU10*((LOG(AU10))/LOG(2))))","v":-0.15981278420602821}]
[12,484,13,492,13,500,null,null,null,null,0,111,null,211,{"$f":"COUNTIF($L$7:$L$500,N11)","v":0},{"$f":"O11/$Q$4","v":0},{"$f":"IF(P11=0,0,(P11*((LOG(P11))/LOG(2))))","v":0},null,null,{"$f":"N11","v":211},{"$f":"COUNTIF(L7:L38,T11)","v":0},null,null,null,{"$f":"N11","v":211},{"$f":"COUNTIF(L39:L70,Y11)","v":0},null,null,null,{"$f":"N11","v":211},{"$f":"COUNTIF(L71:L101,AD11)","v":0},null,null,null,{"$f":"N11","v":211},{"$f":"COUNTIF(L102:L133,AI11)","v":0},null,null,null,{"$f":"N11","v":211},{"$f":"COUNTIF(L134:L165,AN11)","v":0},null,null,null,{"$f":"N11","v":211},{"$f":"COUNTIF(L166:L197,AS11)","v":0}]
[12,600,13,607,13,613,null,null,null,null,0,111,null,212,{"$f":"COUNTIF($L$7:$L$500,N12)","v":0},{"$f":"O12/$Q$4","v":0},{"$f":"IF(P12=0,0,(P12*((LOG(P12))/LOG(2))))","v":0},null,null,{"$f":"N12","v":212},{"$f":"COUNTIF(L7:L38,T12)","v":0},{"$f":"U12/(W4-U11)","v":0},{"$f":"IF(V12=0,0,(V12*((LOG(V12))/LOG(2))))","v":0},null,{"$f":"N12","v":212},{"$f":"COUNTIF(L39:L70,Y12)","v":0},{"$f":"Z12/(AB4-Z11)","v":0},{"$f":"IF(AA12=0,0,(AA12*((LOG(AA12))/LOG(2))))","v":0},null,{"$f":"N12","v":212},{"$f":"COUNTIF(L71:L101,AD12)","v":0},{"$f":"AE12/(AG4-AE11)","v":0},{"$f":"IF(AF12=0,0,(AF12*((LOG(AF12))/LOG(2))))","v":0},null,{"$f":"N12","v":212},{"$f":"COUNTIF(L102:L133,AI12)","v":0},{"$f":"AJ12/(AL4-AJ11)","v":0},{"$f":"IF(AK12=0,0,(AK12*((LOG(AK12))/LOG(2))))","v":0},null,{"$f":"N12","v":212},{"$f":"COUNTIF(L134:L165,AN12)","v":0},{"$f":"AO12/(AQ4-AO11)","v":0},{"$f":"IF(AP12=0,0,(AP12*((LOG(AP12))/LOG(2))))","v":0},null,{"$f":"N12","v":212},{"$f":"COUNTIF(L166:L197,AS12)","v":0},{"$f":"AT12/(AV4-AT11)","v":0},{"$f":"IF(AU12=0,0,(AU12*((LOG(AU12))/LOG(2))))","v":0}]
[12,715,13,720,13,726,null,null,null,null,0,111,null,221,{"$f":"COUNTIF($L$7:$L$500,N13)","v":0},{"$f":"O13/$Q$4","v":0},{"$f":"IF(P13=0,0,(P13*((LOG(P13))/LOG(2))))","v":0},null,null,{"$f":"N13","v":221},{"$f":"COUNTIF(L7:L38,T13)","v":0},{"$f":"U13/(W4-U11)","v":0},{"$f":"IF(V13=0,0,(V13*((LOG(V13))/LOG(2))))","v":0},null,{"$f":"N13","v":221},{"$f":"COUNTIF(L39:L70,Y13)","v":0},{"$f":"Z13/(AB4-Z11)","v":0},{"$f":"IF(AA13=0,0,(AA13*((LOG(AA13))/LOG(2))))","v":0},null,{"$f":"N13","v":221},{"$f":"COUNTIF(L71:L101,AD13)","v":0},{"$f":"AE13/(AG4-AE11)","v":0},{"$f":"IF(AF13=0,0,(AF13*((LOG(AF13))/LOG(2))))","v":0},null,{"$f":"N13","v":221},{"$f":"COUNTIF(L102:L133,AI13)","v":0},{"$f":"AJ13/(AL4-AJ11)","v":0},{"$f":"IF(AK13=0,0,(AK13*((LOG(AK13))/LOG(2))))","v":0},null,{"$f":"N13","v":221},{"$f":"COUNTIF(L134:L165,AN13)","v":0},{"$f":"AO13/(AQ4-AO11)","v":0},{"$f":"IF(AP13=0,0,(AP13*((LOG(AP13))/LOG(2))))","v":0},null,{"$f":"N13","v":221},{"$f":"COUNTIF(L166:L197,AS13)","v":0},{"$f":"AT13/(AV4-AT11)","v":0},{"$f":"IF(AU13=0,0,(AU13*((LOG(AU13))/LOG(2))))","v":0}]
[12,834,13,842,13,850,null,null,null,null,0,111,null,222,{"$f":"COUNTIF($L$7:$L$500,N14)","v":0},{"$f":"O14/$Q$4","v":0},{"$f":"IF(P14=0,0,(P14*((LOG(P14))/LOG(2))))","v":0},null,null,{"$f":"N14","v":222},{"$f":"COUNTIF(L7:L38,T14)","v":0},{"$f":"U14/(W4-U11)","v":0},{"$f":"IF(V14=0,0,(V14*((LOG(V14))/LOG(2))))","v":0},null,{"$f":"N14","v":222},{"$f":"COUNTIF(L39:L70,Y14)","v":0},{"$f":"Z14/(AB4-Z11)","v":0},{"$f":"IF(AA14=0,0,(AA14*((LOG(AA14))/LOG(2))))","v":0},null,{"$f":"N14","v":222},{"$f":"COUNTIF(L71:L101,AD14)","v":0},{"$f":"AE14/(AG4-AE11)","v":0},{"$f":"IF(AF14=0,0,(AF14*((LOG(AF14))/LOG(2))))","v":0},null,{"$f":"N14","v":222},{"$f":"COUNTIF(L102:L133,AI14)","v":0},{"$f":"AJ14/(AL4-AJ11)","v":0},{"$f":"IF(AK14=0,0,(AK14*((LOG(AK14))/LOG(2))))","v":0},null,{"$f":"N14","v":222},{"$f":"COUNTIF(L134:L165,AN14)","v":0},{"$f":"AO14/(AQ4-AO11)","v":0},{"$f":"IF(AP14=0,0,(AP14*((LOG(AP14))/LOG(2))))","v":0},null,{"$f":"N14","v":222},{"$f":"COUNTIF(L166:L197,AS14)","v":0},{"$f":"AT14/(AV4-AT11)","v":0},{"$f":"IF(AU14=0,0,(AU14*((LOG(AU14))/LOG(2))))","v":0}]
[12,958,13,964,13,970,null,null,null,null,0,111,null,null,null,{"$f":"SUM(P7:P14)","v":1},{"$f":"-SUM(Q7:Q14)","v":0.20111635729052035},null,null,null,null,{"$f":"SUM(V7:V14)","v":1},{"$f":"-SUM(W7:W14)","v":0.39979006661701388},null,null,null,{"$f":"SUM(AA7:AA14)","v":1},{"$f":"-SUM(AB7:AB14)","v":0},null,null,null,{"$f":"SUM(AF7:AF14)","v":1},{"$f":"-SUM(AG7:AG14)","v":0},null,null,null,{"$f":"SUM(AK7:AK14)","v":1},{"$f":"-SUM(AL7:AL14)","v":0},null,null,null,{"$f":"SUM(AP7:AP14)","v":1},{"$f":"-SUM(AQ7:AQ14)","v":0.20062232431271465},null,null,null,{"$f":"SUM(AU7:AU14)","v":0.99999999999999989},{"$f":"-SUM(AV7:AV14)","v":0.40963344397721102}]
[12,1073,13,1078,13,1084,null,null,null,null,0,111,null,null,null,"U=",{"$f":"Q15/(LOG(Q4)/LOG(2))","v":2.6568057265079568E-2},null,null,null,null,"U1=",{"$f":"W15/(LOG(W4)/LOG(2))","v":7.9958013323402771E-2},null,null,null,"U2=",{"$f":"AB15/(LOG(AB4)/LOG(2))","v":0},null,null,null,"U3=",{"$f":"AG15/(LOG(AG4)/LOG(2))","v":0},null,null,null,"U4=",{"$f":"AL15/(LOG(AL4)/LOG(2))","v":0},null,null,null,"U5=",{"$f":"AQ15/(LOG(AQ4)/LOG(2))","v":4.0124464862542931E-2},null,null,null,"U6=",{"$f":"AV15/(LOG(AV4)/LOG(2))","v":8.2684136500279823E-2}]
[12,1193,13,1199,13,1214,null,null,null,null,0,111]
[12,1322,13,1327,13,1334,null,null,null,null,0,111]
[12,1438,13,1444,13,1449,null,null,null,null,0,111,null,"Total Target Seq"]
[12,1557,13,1575,24,1589,null,null,null,null,0,112,null,{"$f":"COUNTIF(L7:L197,G3)","v":0},null,32,32,31,32,32,32]
[12,1696,13,1701,13,1707,null,null,null,null,0,111,null,null,null,"% of reinforcement given in 6 equal intervals based on number of trials "]
[12,1826,13,1840,13,1850,null,null,null,null,0,111,null,null,null,"%_1","%_2","%_3","%_4","%_5","%_6"]
[12,1956,13,1968,13,1973,null,null,null,null,0,111,null,null,"target sequence",{"$f":"$G$3","v":211},{"$f":"$G$3","v":211},{"$f":"$G$3","v":211},{"$f":"$G$3","v":211},{"$f":"$G$3","v":211},{"$f":"$G$3","v":211}]
[12,2099,24,2119,24,2127,null,null,null,null,0,122,null,null,"total reinforcement",{"$f":"U11","v":0},{"$f":"Z11","v":0},{"$f":"AE11","v":0},{"$f":"AJ11","v":0},{"$f":"AO11","v":0},{"$f":"AT11","v":0}]
[12,2256,13,2273,13,2288,null,null,null,null,0,111,null,null,"% target"]
[12,2464,13,2475,13,2503,null,null,null,null,0,111,null,null,"CCRF"]
[12,2620,13,2629,13,2637,null,null,null,null,0,111,null,null,"% CCRf"]
[12,2755,13,2761,13,2769,null,null,null,null,0,111,null,null,"average response rate",{"$f":"F38/P20","v":125.25},{"$f":"(F70-F38)/Q20","v":130.375},{"$f":"(F101-F70)/R20","v":123.3225806451613},{"$f":"(F133-F101)/S20","v":126.0625},{"$f":"(F165-F133)/T20","v":124.03125},{"$f":"(F197-F165)/U20","v":-625.1875}]
[12,2872,13,2878,13,2887,null,null,null,null,0,111]
[12,2991,13,2996,13,3006,null,null,null,null,0,111]
[12,3117,13,3122,13,3129,null,null,null,null,0,111]
[12,3235,13,3242,13,3247,null,null,null,null,0,111]
[12,3357,13,3362,13,3368,null,null,null,null,0,111]
[12,3475,13,3480,13,3489,null,null,null,null,0,111]
[12,3598,13,3607,13,3614,null,null,null,null,0,111]
[12,3718,13,3723,13,3728,null,null,null,null,0,111]
[12,3840,13,3846,13,3855,null,null,null,null,0,111]
[12,3993,13,3998,13,4008,null,null,null,null,0,111]
[12,4112,13,4119,13,4125,null,null,null,null,0,111]
[12,4279,13,4284,13,4300,null,null,null,null,0,111]
[12,4403,13,4416,13,4424,null,null,null,null,0,111]
[12,4556,13,4562,13,4568,null,null,null,null,0,111]
[12,4686,13,4692,13,4698,null,null,null,null,0,111]
[12,4805,13,4816,13,4826,null,null,null,null,0,111]
[12,4981,13,4997,13,5008,null,null,null,null,0,111]
[12,5132,13,5137,13,5143,null,null,null,null,0,111]
[12,5244,13,5256,13,5265,null,null,null,null,0,111]
[12,5383,13,5389,13,5407,null,null,null,null,0,111]
[12,5509,13,5514,13,5520,null,null,null,null,0,111]
[12,5620,13,5632,13,5638,null,null,null,null,0,111]
[12,5744,13,5749,13,5762,null,null,null,null,0,111]
[12,5867,13,5873,13,5880,null,null,null,null,0,111]
[12,5993,13,5998,13,6010,null,null,null,null,0,111]
[12,6124,13,6130,13,6136,null,null,null,null,0,111]
[12,6238,13,6250,13,6259,null,null,null,null,0,111]
[12,6381,13,6386,13,6394,null,null,null,null,0,111]
[12,6493,13,6502,13,6511,null,null,null,null,0,111]
[12,6636,13,6641,13,6647,null,null,null,null,0,111]
[12,6781,13,6792,13,6800,null,null,null,null,0,111]
[12,6908,13,6913,13,6918,null,null,null,null,0,111]
[12,7024,13,7030,13,7039,null,null,null,null,0,111]
[12,7138,13,7159,13,7165,null,null,null,null,0,111]
[12,7273,13,7280,13,7287,null,null,null,null,0,111]
[12,7396,13,7401,13,7418,null,null,null,null,0,111]
[12,7538,13,7544,13,7549,null,null,null,null,0,111]
[12,7683,13,7688,13,7695,null,null,null,null,0,111]
[12,7800,13,7806,13,7818,null,null,null,null,0,111]
[12,7918,13,7930,13,7937,null,null,null,null,0,111]
[12,8040,13,8045,13,8051,null,null,null,null,0,111]
[12,8169,13,8174,13,8180,null,null,null,null,0,111]
[12,8287,13,8292,13,8298,null,null,null,null,0,111]
[12,8395,13,8401,13,8407,null,null,null,null,0,111]
[12,8517,13,8524,13,8532,null,null,null,null,0,111]
[12,8633,13,8638,13,8643,null,null,null,null,0,111]
[12,8744,13,8750,13,8759,null,null,null,null,0,111]
[12,8866,13,8871,13,8876,null,null,null,null,0,111]
[12,8977,13,8982,13,8990,null,null,null,null,0,111]
[12,9091,13,9097,13,9105,null,null,null,null,0,111]
[12,9208,13,9219,13,9228,null,null,null,null,0,111]
[12,9338,13,9343,13,9348,null,null,null,null,0,111]
[12,9452,13,9458,13,9465,null,null,null,null,0,111]
[12,9562,13,9567,13,9576,null,null,null,null,0,111]
[12,9680,13,9690,13,9696,null,null,null,null,0,111]
[12,9802,13,9810,13,9817,null,null,null,null,0,111]
[12,9977,13,9986,13,10007,null,null,null,null,0,111]
[12,10111,13,10118,13,10123,null,null,null,null,0,111]
[12,10227,13,10233,13,10246,null,null,null,null,0,111]
[12,10354,13,10360,13,10365,null,null,null,null,0,111]
[12,10465,13,10471,13,10478,null,null,null,null,0,111]
[12,10574,13,10580,13,10587,null,null,null,null,0,111]
[12,10692,13,10697,13,10725,null,null,null,null,0,111]
[12,10832,13,10838,13,10847,null,null,null,null,0,111]
[12,10974,13,10979,13,10985,null,null,null,null,0,111]
[12,11088,13,11093,13,11101,null,null,null,null,0,111]
[12,11227,13,11232,13,11237,null,null,null,null,0,111]
[12,11336,13,11343,13,11350,null,null,null,null,0,111]
[12,11456,13,11469,13,11478,null,null,null,null,0,111]
[12,11591,13,11600,13,11608,null,null,null,null,0,111]
[12,11710,13,11717,13,11723,null,null,null,null,0,111]
[12,11841,13,11855,13,11865,null,null,null,null,0,111]
[12,11985,13,11992,13,12003,null,null,null,null,0,111]
[12,12113,13,12119,13,12126,null,null,null,null,0,111]
[12,12256,13,12261,13,12267,null,null,null,null,0,111]
[12,12367,13,12373,13,12379,null,null,null,null,0,111]
[12,12486,13,12497,13,12505,null,null,null,null,0,111]
[12,12603,13,12609,13,12614,null,null,null,null,0,111]
[12,12717,13,12722,13,12727,null,null,null,null,0,111]
[12,12857,13,12871,13,12886,null,null,null,null,0,111]
[12,13025,13,13030,13,13039,null,null,null,null,0,111]
[12,13161,13,13169,13,13175,null,null,null,null,0,111]
[12,13276,13,13282,13,13287,null,null,null,null,0,111]
[12,13393,13,13398,13,13405,null,null,null,null,0,111]
[12,13507,13,13521,13,13529,null,null,null,null,0,111]
[12,13638,13,13643,13,13659,null,null,null,null,0,111]
[12,13766,13,13777,13,13785,null,null,null,null,0,111]
[12,13902,13,13908,13,13920,null,null,null,null,0,111]
[12,14039,13,14057,13,14062,null,null,null,null,0,111]
[12,14169,13,14191,13,14198,null,null,null,null,0,111]
[12,14310,13,14316,13,14321,null,null,null,null,0,111]
[12,14423,13,14429,13,14434,null,null,null,null,0,111]
[12,14536,13,14542,13,14547,null,null,null,null,0,111]
[12,14649,13,14663,13,14672,null,null,null,null,0,111]
[12,14772,13,14785,13,14793,null,null,null,null,0,111]
[12,14895,13,14900,13,14906,null,null,null,null,0,111]
[12,15005,13,15011,13,15017,null,null,null,null,0,111]
[12,15117,13,15130,13,15137,null,null,null,null,0,111]
[12,15302,13,15311,13,15320,null,null,null,null,0,111]
[12,15418,13,15426,13,15432,null,null,null,null,0,111]
[12,15538,13,15547,13,15556,null,null,null,null,0,111]
[12,15660,13,15670,13,15679,null,null,null,null,0,111]
[12,15794,13,15802,13,15808,null,null,null,null,0,111]
[12,15910,13,15915,13,15924,null,null,null,null,0,111]
[12,16025,13,16031,13,16037,null,null,null,null,0,111]
[12,16138,13,16144,13,16154,null,null,null,null,0,111]
[12,16256,13,16261,13,16269,null,null,null,null,0,111]
[12,16367,13,16372,13,16385,null,null,null,null,0,111]
[12,16507,13,16512,13,16518,null,null,null,null,0,111]
[12,16628,13,16634,13,16642,null,null,null,null,0,111]
[12,16743,13,16748,13,16753,null,null,null,null,0,111]
[12,16859,13,16866,13,16875,null,null,null,null,0,111]
[12,16979,13,16984,13,16990,null,null,null,null,0,111]
[12,17089,13,17096,13,17113,null,null,null,null,0,111]
[12,17217,13,17223,13,17230,null,null,null,null,0,111]
[12,17324,13,17329,13,17336,null,null,null,null,0,111]
[12,17460,13,17466,13,17472,null,null,null,null,0,111]
[12,17577,13,17582,13,17588,null,null,null,null,0,111]
[12,17699,13,17708,13,17716,null,null,null,null,0,111]
[12,17817,13,17823,13,17829,null,null,null,null,0,111]
[12,17935,13,17940,13,17947,null,null,null,null,0,111]
[12,18049,13,18061,13,18070,null,null,null,null,0,111]
[12,18171,13,18183,13,18191,null,null,null,null,0,111]
[12,18331,13,18355,13,18379,null,null,null,null,0,111]
[12,18505,13,18511,13,18523,null,null,null,null,0,111]
[12,18623,13,18628,13,18637,null,null,null,null,0,111]
[12,18745,24,18767,24,18773,null,null,null,null,0,122]
[12,18884,13,18909,13,18915,null,null,null,null,0,111]
[12,19020,13,19034,13,19049,null,null,null,null,0,111]
[12,19181,13,19192,13,19200,null,null,null,null,0,111]
[12,19305,13,19313,13,19321,null,null,null,null,0,111]
[12,19425,13,19430,13,19436,null,null,null,null,0,111]
[12,19537,13,19543,13,19549,null,null,null,null,0,111]
[12,19650,13,19661,13,19666,null,null,null,null,0,111]
[12,19765,13,19769,13,19774,null,null,null,null,0,111]
[12,19873,13,19877,13,19883,null,null,null,null,0,111]
[12,19985,13,19997,13,20006,null,null,null,null,0,111]
[12,20114,13,20119,13,20125,null,null,null,null,0,111]
[12,20235,13,20244,13,20250,null,null,null,null,0,111]
[12,20351,13,20357,13,20362,null,null,null,null,0,111]
[12,20462,13,20468,13,20495,null,null,null,null,0,111]
[12,20603,13,20609,13,20616,null,null,null,null,0,111]
[12,20715,13,20722,24,20733,null,null,null,null,0,112]
[12,20838,13,20844,13,20850,null,null,null,null,0,111]
[12,20954,13,20964,13,20970,null,null,null,null,0,111]
[12,21071,13,21079,13,21084,null,null,null,null,0,111]
[12,21183,13,21194,13,21203,null,null,null,null,0,111]
[12,21314,13,21324,13,21332,null,null,null,null,0,111]
[12,21439,13,21451,13,21466,null,null,null,null,0,111]
[12,21573,13,21584,13,21591,null,null,null,null,0,111]
[12,21728,13,21733,13,21739,null,null,null,null,0,111]
[12,21838,13,21844,13,21850,null,null,null,null,0,111]
[12,21958,13,21964,13,21969,null,null,null,null,0,111]
[12,22077,13,22082,13,22088,null,null,null,null,0,111]
[12,22192,13,22198,13,22204,null,null,null,null,0,111]
[12,22351,13,22359,13,22368,null,null,null,null,0,111]
[12,22476,13,22486,13,22495,null,null,null,null,0,111]
[12,22600,13,22611,13,22619,null,null,null,null,0,111]
[12,22731,13,22745,13,22753,null,null,null,null,0,111]
[12,22871,13,22881,13,22888,null,null,null,null,0,111]
[12,22998,13,23003,13,23010,null,null,null,null,0,111]
[12,23116,13,23121,13,23129,null,null,null,null,0,111]
[12,23247,13,23253,13,23271,null,null,null,null,0,111]
[12,23373,13,23382,13,23387,null,null,null,null,0,111]
[12,23486,13,23492,13,23504,null,null,null,null,0,111]
[12,23604,13,23615,13,23621,null,null,null,null,0,111]
[12,23731,24,23749,24,23772,null,null,null,null,0,122]
[12,23875,13,23888,13,23897,null,null,null,null,0,111]
[12,24001,null,null,null,null,null,null,null,null,null,1]

{"sheet":"!N408850.010","index":16,"n_rows":203,"n_cols":48,"rows_kept":203,"cut":false,"hidden":false,"merged":[[4,39,4,42],[5,39,5,40],[4,44,4,47],[5,44,5,45],[4,24,4,27],[5,24,5,25],[4,29,4,32],[5,29,5,30],[4,34,4,37],[5,34,5,35],[1,1,1,2],[5,13,5,14],[18,13,18,14],[19,13,19,14],[4,19,4,22],[5,19,5,20]]}
["Report for:!N408850.010"]
["Date:","<date>"]
["Hen:","<hen>",null,null,null,"Correct Sequence",{"$f":"Start!J2","v":211},null,null,null,null,null,null,null,null,"Total Sequences in Data",{"$f":"4994-COUNTBLANK(L7:L5000)","v":197},null,null,null,null,"Total Sequences in Block Data",{"$f":"COUNTA(L7:L39)","v":33},null,null,null,"Total Sequences in Block Data",{"$f":"COUNTA(L40:L72)","v":33},null,null,null,"Total Sequences in Block Data",{"$f":"COUNTA(L73:L104)","v":32},null,null,null,"Total Sequences in Block Data",{"$f":"COUNTA(L105:L137)","v":33},null,null,null,"Total Sequences in Block Data",{"$f":"COUNTA(L138:L170)","v":33},null,null,null,"Total Sequences in Block Data",{"$f":"COUNTA(L171:L203)","v":33}]
[null,null,null,null,null,null,null,null,null,null,null,null,null,null,null,"Total Sequences in Summary",{"$f":"SUM(O7:O14)","v":197},null,null,null,null,"Total Sequences in Block Summary",{"$f":"SUM(U7:U14)","v":33},null,null,null,"Total Sequences in Block Summary",{"$f":"SUM(Z7:Z14)","v":33},null,null,null,"Total Sequences in Block Summary",{"$f":"SUM(AE7:AE14)","v":32},null,null,null,"Total Sequences in Block Summary",{"$f":"SUM(AJ7:AJ14)","v":33},null,null,null,"Total Sequences in Block Summary",{"$f":"SUM(AO7:AO14)","v":33},null,null,null,"Total Sequences in Block Summary",{"$f":"SUM(AT7:AT14)","v":33}]
[null,null,null,null,null,null,null,null,null,null,null,null,null,null,null,null,null,null,null,"Block 1",null,null,null,null,"Block 2",null,null,null,null,"Block 3",null,null,null,null,"Block 4",null,null,null,null,"Block 5",null,null,null,null,"Block 6"]
["Sequence\nComponent\n1","Time\n1","Sequence\nComponent\n2","Time\n2","Sequence\nComponent\n3","Time\n3","Sequence\nComponent\n4","Time\n4","Sequence\nComponent\n5","Time\n5","Correct?\n0=No 1=Yes","Sequence",null,"Frequency",null,"Relative Frequency","Variability",null,null,"Frequency",null,"Relative Frequency","Variability",null,"Frequency",null,"Relative Frequency","Variability",null,"Frequency",null,"Relative Frequency","Variability",null,"Frequency",null,"Relative Frequency","Variability",null,"Frequency",null,"Relative Frequency","Variability",null,"Frequency",null,"Relative Frequency","Variability"]
[12,7,13,17,13,24,null,null,null,null,0,111,null,111,{"$f":"COUNTIF($L$7:$L$500,N7)","v":194},{"$f":"O7/$Q$4","v":0.98477157360406087},{"$f":"IF(P7=0,0,(P7*((LOG(P7))/LOG(2))))","v":-2.180183548342253E-2},null,null,{"$f":"N7","v":111},{"$f":"COUNTIF(L7:L39,T7)","v":33},{"$f":"U7/(W4-U11)","v":1},{"$f":"IF(V7=0,0,(V7*((LOG(V7))/LOG(2))))","v":0},null,{"$f":"N7","v":111},{"$f":"COUNTIF(L40:L72,Y7)","v":33},{"$f":"Z7/(AB4-Z11)","v":1},{"$f":"IF(AA7=0,0,(AA7*((LOG(AA7))/LOG(2))))","v":0},null,{"$f":"N7","v":111},{"$f":"COUNTIF(L73:L104,AD7)","v":31},{"$f":"AE7/(AG4-AE11)","v":0.96875},{"$f":"IF(AF7=0,0,(AF7*((LOG(AF7))/LOG(2))))","v":-4.4372324312714644E-2},null,{"$f":"N7","v":111},{"$f":"COUNTIF(L105:L137,AI7)","v":32},{"$f":"AJ7/(AL4-AJ11)","v":0.96969696969696972},{"$f":"IF(AK7=0,0,(AK7*((LOG(AK7))/LOG(2))))","v":-4.3048843014257841E-2},null,{"$f":"N7","v":111},{"$f":"COUNTIF(L138:L170,AN7)","v":33},{"$f":"AO7/(AQ4-AO11)","v":1},{"$f":"IF(AP7=0,0,(AP7*((LOG(AP7))/LOG(2))))","v":0},null,{"$f":"N7","v":111},{"$f":"COUNTIF(L171:L203,AS7)","v":32},{"$f":"AT7/(AV4-AT11)","v":0.96969696969696972},{"$f":"IF(AU7=0,0,(AU7*((LOG(AU7))/LOG(2))))","v":-4.3048843014257841E-2}]
[12,126,13,135,13,144,null,null,null,null,0,111,null,112,{"$f":"COUNTIF($L$7:$L$500,N8)","v":0},{"$f":"O8/$Q$4","v":0},{"$f":"IF(P8=0,0,(P8*((LOG(P8))/LOG(2))))","v":0},null,null,{"$f":"N8","v":112},{"$f":"COUNTIF(L7:L39,T8)","v":0},{"$f":"U8/(W4-U11)","v":0},{"$f":"IF(V8=0,0,(V8*((LOG(V8))/LOG(2))))","v":0},null,{"$f":"N8","v":112},{"$f":"COUNTIF(L40:L72,Y8)","v":0},{"$f":"Z8/(AB4-Z11)","v":0},{"$f":"IF(AA8=0,0,(AA8*((LOG(AA8))/LOG(2))))","v":0},null,{"$f":"N8","v":112},{"$f":"COUNTIF(L73:L104,AD8)","v":0},{"$f":"AE8/(AG4-AE11)","v":0},{"$f":"IF(AF8=0,0,(AF8*((LOG(AF8))/LOG(2))))","v":0},null,{"$f":"N8","v":112},{"$f":"COUNTIF(L105:L137,AI8)","v":0},{"$f":"AJ8/(AL4-AJ11)","v":0},{"$f":"IF(AK8=0,0,(AK8*((LOG(AK8))/LOG(2))))","v":0},null,{"$f":"N8","v":112},{"$f":"COUNTIF(L138:L170,AN8)","v":0},{"$f":"AO8/(AQ4-AO11)","v":0},{"$f":"IF(AP8=0,0,(AP8*((LOG(AP8))/LOG(2))))","v":0},null,{"$f":"N8","v":112},{"$f":"COUNTIF(L171:L203,AS8)","v":0},{"$f":"AT8/(AV4-AT11)","v":0},{"$f":"IF(AU8=0,0,(AU8*((LOG(AU8))/LOG(2))))","v":0}]
[12,250,13,256,13,261,null,null,null,null,0,111,null,121,{"$f":"COUNTIF($L$7:$L$500,N9)","v":0},{"$f":"O9/$Q$4","v":0},{"$f":"IF(P9=0,0,(P9*((LOG(P9))/LOG(2))))","v":0},null,null,{"$f":"N9","v":121},{"$f":"COUNTIF(L7:L39,T9)","v":0},{"$f":"U9/(W4-U11)","v":0},{"$f":"IF(V9=0,0,(V9*((LOG(V9))/LOG(2))))","v":0},null,{"$f":"N9","v":121},{"$f":"COUNTIF(L40:L72,Y9)","v":0},{"$f":"Z9/(AB4-Z11)","v":0},{"$f":"IF(AA9=0,0,(AA9*((LOG(AA9))/LOG(2))))","v":0},null,{"$f":"N9","v":121},{"$f":"COUNTIF(L73:L104,AD9)","v":0},{"$f":"AE9/(AG4-AE11)","v":0},{"$f":"IF(AF9=0,0,(AF9*((LOG(AF9))/LOG(2))))","v":0},null,{"$f":"N9","v":121},{"$f":"COUNTIF(L105:L137,AI9)","v":0},{"$f":"AJ9/(AL4-AJ11)","v":0},{"$f":"IF(AK9=0,0,(AK9*((LOG(AK9))/LOG(2))))","v":0},null,{"$f":"N9","v":121},{"$f":"COUNTIF(L138:L170,AN9)","v":0},{"$f":"AO9/(AQ4-AO11)","v":0},{"$f":"IF(AP9=0,0,(AP9*((LOG(AP9))/LOG(2))))","v":0},null,{"$f":"N9","v":121},{"$f":"COUNTIF(L171:L203,AS9)","v":0},{"$f":"AT9/(AV4-AT11)","v":0},{"$f":"IF(AU9=0,0,(AU9*((LOG(AU9))/LOG(2))))","v":0}]
[12,364,13,382,13,389,null,null,null,null,0,111,null,122,{"$f":"COUNTIF($L$7:$L$500,N10)","v":3},{"$f":"O10/$Q$4","v":1.5228426395939087E-2},{"$f":"IF(P10=0,0,(P10*((LOG(P10))/LOG(2))))","v":-9.1935370336069355E-2},null,null,{"$f":"N10","v":122},{"$f":"COUNTIF(L7:L39,T10)","v":0},{"$f":"U10/(W4-U11)","v":0},{"$f":"IF(V10=0,0,(V10*((LOG(V10))/LOG(2))))","v":0},null,{"$f":"N10","v":122},{"$f":"COUNTIF(L40:L72,Y10)","v":0},{"$f":"Z10/(AB4-Z11)","v":0},{"$f":"IF(AA10=0,0,(AA10*((LOG(AA10))/LOG(2))))","v":0},null,{"$f":"N10","v":122},{"$f":"COUNTIF(L73:L104,AD10)","v":1},{"$f":"AE10/(AG4-AE11)","v":3.125E-2},{"$f":"IF(AF10=0,0,(AF10*((LOG(AF10))/LOG(2))))","v":-0.15625},null,{"$f":"N10","v":122},{"$f":"COUNTIF(L105:L137,AI10)","v":1},{"$f":"AJ10/(AL4-AJ11)","v":3.0303030303030304E-2},{"$f":"IF(AK10=0,0,(AK10*((LOG(AK10))/LOG(2))))","v":-0.15286042785934709},null,{"$f":"N10","v":122},{"$f":"COUNTIF(L138:L170,AN10)","v":0},{"$f":"AO10/(AQ4-AO11)","v":0},{"$f":"IF(AP10=0,0,(AP10*((LOG(AP10))/LOG(2))))","v":0},null,{"$f":"N10","v":122},{"$f":"COUNTIF(L171:L203,AS10)","v":1},{"$f":"AT10/(AV4-AT11)","v":3.0303030303030304E-2},{"$f":"IF(AU10=0,0,(AU10*((LOG(AU10))/LOG(2))))","v":-0.15286042785934709}]
[12,503,13,509,13,518,null,null,null,null,0,111,null,211,{"$f":"COUNTIF($L$7:$L$500,N11)","v":0},{"$f":"O11/$Q$4","v":0},{"$f":"IF(P11=0,0,(P11*((LOG(P11))/LOG(2))))","v":0},null,null,{"$f":"N11","v":211},{"$f":"COUNTIF(L7:L39,T11)","v":0},null,null,null,{"$f":"N11","v":211},{"$f":"COUNTIF(L40:L72,Y11)","v":0},null,null,null,{"$f":"N11","v":211},{"$f":"COUNTIF(L73:L104,AD11)","v":0},null,null,null,{"$f":"N11","v":211},{"$f":"COUNTIF(L105:L137,AI11)","v":0},null,null,null,{"$f":"N11","v":211},{"$f":"COUNTIF(L138:L170,AN11)","v":0},null,null,null,{"$f":"N11","v":211},{"$f":"COUNTIF(L171:L203,AS11)","v":0}]
[12,627,13,634,13,641,null,null,null,null,0,111,null,212,{"$f":"COUNTIF($L$7:$L$500,N12)","v":0},{"$f":"O12/$Q$4","v":0},{"$f":"IF(P12=0,0,(P12*((LOG(P12))/LOG(2))))","v":0},null,null,{"$f":"N12","v":212},{"$f":"COUNTIF(L7:L39,T12)","v":0},{"$f":"U12/(W4-U11)","v":0},{"$f":"IF(V12=0,0,(V12*((LOG(V12))/LOG(2))))","v":0},null,{"$f":"N12","v":212},{"$f":"COUNTIF(L40:L72,Y12)","v":0},{"$f":"Z12/(AB4-Z11)","v":0},{"$f":"IF(AA12=0,0,(AA12*((LOG(AA12))/LOG(2))))","v":0},null,{"$f":"N12","v":212},{"$f":"COUNTIF(L73:L104,AD12)","v":0},{"$f":"AE12/(AG4-AE11)","v":0},{"$f":"IF(AF12=0,0,(AF12*((LOG(AF12))/LOG(2))))","v":0},null,{"$f":"N12","v":212},{"$f":"COUNTIF(L105:L137,AI12)","v":0},{"$f":"AJ12/(AL4-AJ11)","v":0},{"$f":"IF(AK12=0,0,(AK12*((LOG(AK12))/LOG(2))))","v":0},null,{"$f":"N12","v":212},{"$f":"COUNTIF(L138:L170,AN12)","v":0},{"$f":"AO12/(AQ4-AO11)","v":0},{"$f":"IF(AP12=0,0,(AP12*((LOG(AP12))/LOG(2))))","v":0},null,{"$f":"N12","v":212},{"$f":"COUNTIF(L171:L203,AS12)","v":0},{"$f":"AT12/(AV4-AT11)","v":0},{"$f":"IF(AU12=0,0,(AU12*((LOG(AU12))/LOG(2))))","v":0}]
[12,749,13,756,13,770,null,null,null,null,0,111,null,221,{"$f":"COUNTIF($L$7:$L$500,N13)","v":0},{"$f":"O13/$Q$4","v":0},{"$f":"IF(P13=0,0,(P13*((LOG(P13))/LOG(2))))","v":0},null,null,{"$f":"N13","v":221},{"$f":"COUNTIF(L7:L39,T13)","v":0},{"$f":"U13/(W4-U11)","v":0},{"$f":"IF(V13=0,0,(V13*((LOG(V13))/LOG(2))))","v":0},null,{"$f":"N13","v":221},{"$f":"COUNTIF(L40:L72,Y13)","v":0},{"$f":"Z13/(AB4-Z11)","v":0},{"$f":"IF(AA13=0,0,(AA13*((LOG(AA13))/LOG(2))))","v":0},null,{"$f":"N13","v":221},{"$f":"COUNTIF(L73:L104,AD13)","v":0},{"$f":"AE13/(AG4-AE11)","v":0},{"$f":"IF(AF13=0,0,(AF13*((LOG(AF13))/LOG(2))))","v":0},null,{"$f":"N13","v":221},{"$f":"COUNTIF(L105:L137,AI13)","v":0},{"$f":"AJ13/(AL4-AJ11)","v":0},{"$f":"IF(AK13=0,0,(AK13*((LOG(AK13))/LOG(2))))","v":0},null,{"$f":"N13","v":221},{"$f":"COUNTIF(L138:L170,AN13)","v":0},{"$f":"AO13/(AQ4-AO11)","v":0},{"$f":"IF(AP13=0,0,(AP13*((LOG(AP13))/LOG(2))))","v":0},null,{"$f":"N13","v":221},{"$f":"COUNTIF(L171:L203,AS13)","v":0},{"$f":"AT13/(AV4-AT11)","v":0},{"$f":"IF(AU13=0,0,(AU13*((LOG(AU13))/LOG(2))))","v":0}]
[12,877,13,883,13,892,null,null,null,null,0,111,null,222,{"$f":"COUNTIF($L$7:$L$500,N14)","v":0},{"$f":"O14/$Q$4","v":0},{"$f":"IF(P14=0,0,(P14*((LOG(P14))/LOG(2))))","v":0},null,null,{"$f":"N14","v":222},{"$f":"COUNTIF(L7:L39,T14)","v":0},{"$f":"U14/(W4-U11)","v":0},{"$f":"IF(V14=0,0,(V14*((LOG(V14))/LOG(2))))","v":0},null,{"$f":"N14","v":222},{"$f":"COUNTIF(L40:L72,Y14)","v":0},{"$f":"Z14/(AB4-Z11)","v":0},{"$f":"IF(AA14=0,0,(AA14*((LOG(AA14))/LOG(2))))","v":0},null,{"$f":"N14","v":222},{"$f":"COUNTIF(L73:L104,AD14)","v":0},{"$f":"AE14/(AG4-AE11)","v":0},{"$f":"IF(AF14=0,0,(AF14*((LOG(AF14))/LOG(2))))","v":0},null,{"$f":"N14","v":222},{"$f":"COUNTIF(L105:L137,AI14)","v":0},{"$f":"AJ14/(AL4-AJ11)","v":0},{"$f":"IF(AK14=0,0,(AK14*((LOG(AK14))/LOG(2))))","v":0},null,{"$f":"N14","v":222},{"$f":"COUNTIF(L138:L170,AN14)","v":0},{"$f":"AO14/(AQ4-AO11)","v":0},{"$f":"IF(AP14=0,0,(AP14*((LOG(AP14))/LOG(2))))","v":0},null,{"$f":"N14","v":222},{"$f":"COUNTIF(L171:L203,AS14)","v":0},{"$f":"AT14/(AV4-AT11)","v":0},{"$f":"IF(AU14=0,0,(AU14*((LOG(AU14))/LOG(2))))","v":0}]
[12,1004,13,1010,13,1017,null,null,null,null,0,111,null,null,null,{"$f":"SUM(P7:P14)","v":1},{"$f":"-SUM(Q7:Q14)","v":0.11373720581949189},null,null,null,null,{"$f":"SUM(V7:V14)","v":1},{"$f":"-SUM(W7:W14)","v":0},null,null,null,{"$f":"SUM(AA7:AA14)","v":1},{"$f":"-SUM(AB7:AB14)","v":0},null,null,null,{"$f":"SUM(AF7:AF14)","v":1},{"$f":"-SUM(AG7:AG14)","v":0.20062232431271465},null,null,null,{"$f":"SUM(AK7:AK14)","v":1},{"$f":"-SUM(AL7:AL14)","v":0.19590927087360493},null,null,null,{"$f":"SUM(AP7:AP14)","v":1},{"$f":"-SUM(AQ7:AQ14)","v":0},null,null,null,{"$f":"SUM(AU7:AU14)","v":1},{"$f":"-SUM(AV7:AV14)","v":0.19590927087360493}]
[12,1121,13,1128,13,1136,null,null,null,null,0,111,null,null,null,"U=",{"$f":"Q15/(LOG(Q4)/LOG(2))","v":1.4922124450684186E-2},null,null,null,null,"U1=",{"$f":"W15/(LOG(W4)/LOG(2))","v":0},null,null,null,"U2=",{"$f":"AB15/(LOG(AB4)/LOG(2))","v":0},null,null,null,"U3=",{"$f":"AG15/(LOG(AG4)/LOG(2))","v":4.0124464862542931E-2},null,null,null,"U4=",{"$f":"AL15/(LOG(AL4)/LOG(2))","v":3.8837027051827726E-2},null,null,null,"U5=",{"$f":"AQ15/(LOG(AQ4)/LOG(2))","v":0},null,null,null,"U6=",{"$f":"AV15/(LOG(AV4)/LOG(2))","v":3.8837027051827726E-2}]
[12,1240,13,1245,13,1252,null,null,null,null,0,111]
[12,1351,13,1358,13,1364,null,null,null,null,0,111]
[12,1464,13,1470,13,1476,null,null,null,null,0,111,null,"Total Target Seq"]
[12,1580,13,1593,13,1601,null,null,null,null,0,111,null,{"$f":"COUNTIF(L7:L203,G3)","v":0},null,33,33,32,33,33,33]
[12,1698,13,1704,13,1721,null,null,null,null,0,111,null,null,null,"% of reinforcement given in 6 equal intervals based on number of trials "]
[12,1840,13,1846,13,1854,null,null,null,null,0,111,null,null,null,"%_1","%_2","%_3","%_4","%_5","%_6"]
[12,1957,13,1962,13,1969,null,null,null,null,0,111,null,null,"target sequence",{"$f":"$G$3","v":211},{"$f":"$G$3","v":211},{"$f":"$G$3","v":211},{"$f":"$G$3","v":211},{"$f":"$G$3","v":211},{"$f":"$G$3","v":211}]
[12,2074,13,2080,13,2086,null,null,null,null,0,111,null,null,"total reinforcement",{"$f":"U11","v":0},{"$f":"Z11","v":0},{"$f":"AE11","v":0},{"$f":"AJ11","v":0},{"$f":"AO11","v":0},{"$f":"AT11","v":0}]
[12,2194,13,2202,13,2208,null,null,null,null,0,111,null,null,"% target"]
[12,2308,13,2314,13,2321,null,null,null,null,0,111,null,null,"CCRF"]
[12,2427,13,2433,13,2452,null,null,null,null,0,111,null,null,"% CCRf"]
[12,2571,13,2577,13,2585,null,null,null,null,0,111,null,null,"average response rate",{"$f":"F39/P20","v":120},{"$f":"(F72-F39)/Q20","v":122.09090909090909},{"$f":"(F104-F72)/R20","v":123.15625},{"$f":"(F137-F104)/S20","v":120.60606060606061},{"$f":"(F170-F137)/T20","v":121.48484848484848},{"$f":"(F203-F170)/U20","v":122.09090909090909}]
[12,2695,13,2700,13,2714,null,null,null,null,0,111]
[12,2818,13,2824,13,2830,null,null,null,null,0,111]
[12,2946,13,2951,13,2957,null,null,null,null,0,111]
[12,3078,13,3084,13,3089,null,null,null,null,0,111]
[12,3200,13,3206,13,3212,null,null,null,null,0,111]
[12,3316,13,3322,13,3328,null,null,null,null,0,111]
[12,3430,13,3437,13,3442,null,null,null,null,0,111]
[12,3580,13,3588,13,3596,null,null,null,null,0,111]
[12,3709,13,3716,13,3726,null,null,null,null,0,111]
[12,3827,13,3832,13,3844,null,null,null,null,0,111]
[12,3948,13,3954,13,3960,null,null,null,null,0,111]
[12,4081,13,4087,13,4093,null,null,null,null,0,111]
[12,4198,13,4203,13,4210,null,null,null,null,0,111]
[12,4311,13,4316,13,4322,null,null,null,null,0,111]
[12,4423,13,4429,13,4435,null,null,null,null,0,111]
[12,4543,13,4549,13,4557,null,null,null,null,0,111]
[12,4664,13,4670,13,4676,null,null,null,null,0,111]
[12,4778,13,4783,13,4788,null,null,null,null,0,111]
[12,4894,13,4899,13,4904,null,null,null,null,0,111]
[12,5008,13,5018,13,5025,null,null,null,null,0,111]
[12,5127,13,5137,13,5144,null,null,null,null,0,111]
[12,5266,13,5279,13,5288,null,null,null,null,0,111]
[12,5394,13,5411,13,5427,null,null,null,null,0,111]
[12,5531,13,5540,13,5547,null,null,null,null,0,111]
[12,5649,13,5660,13,5668,null,null,null,null,0,111]
[12,5775,13,5788,13,5795,null,null,null,null,0,111]
[12,5898,13,5903,13,5912,null,null,null,null,0,111]
[12,6038,13,6043,13,6051,null,null,null,null,0,111]
[12,6154,13,6160,13,6166,null,null,null,null,0,111]
[12,6278,13,6287,13,6307,null,null,null,null,0,111]
[12,6453,13,6462,13,6470,null,null,null,null,0,111]
[12,6572,13,6578,13,6583,null,null,null,null,0,111]
[12,6692,13,6698,13,6703,null,null,null,null,0,111]
[12,6804,13,6810,13,6817,null,null,null,null,0,111]
[12,6938,13,6946,13,6951,null,null,null,null,0,111]
[12,7051,13,7063,13,7070,null,null,null,null,0,111]
[12,7170,13,7177,13,7185,null,null,null,null,0,111]
[12,7286,13,7292,13,7299,null,null,null,null,0,111]
[12,7400,13,7410,13,7417,null,null,null,null,0,111]
[12,7520,13,7526,13,7531,null,null,null,null,0,111]
[12,7631,13,7638,13,7644,null,null,null,null,0,111]
[12,7746,13,7751,13,7761,null,null,null,null,0,111]
[12,7859,13,7866,13,7874,null,null,null,null,0,111]
[12,7977,13,7983,13,7989,null,null,null,null,0,111]
[12,8092,13,8107,13,8116,null,null,null,null,0,111]
[12,8221,13,8226,13,8233,null,null,null,null,0,111]
[12,8327,13,8339,13,8351,null,null,null,null,0,111]
[12,8453,13,8465,13,8477,null,null,null,null,0,111]
[12,8584,24,8598,24,8604,null,null,null,null,0,122]
[12,8703,13,8720,13,8738,null,null,null,null,0,111]
[12,8881,13,8888,13,8898,null,null,null,null,0,111]
[12,8997,13,9003,13,9009,null,null,null,null,0,111]
[12,9111,13,9117,13,9123,null,null,null,null,0,111]
[12,9234,13,9243,13,9252,null,null,null,null,0,111]
[12,9355,13,9363,13,9375,null,null,null,null,0,111]
[12,9485,13,9491,13,9501,null,null,null,null,0,111]
[12,9607,13,9612,13,9618,null,null,null,null,0,111]
[12,9713,13,9719,13,9724,null,null,null,null,0,111]
[12,9823,13,9828,13,9834,null,null,null,null,0,111]
[12,9935,13,9946,13,9955,null,null,null,null,0,111]
[12,10053,13,10059,13,10065,null,null,null,null,0,111]
[12,10182,13,10199,13,10215,null,null,null,null,0,111]
[12,10316,13,10321,13,10327,null,null,null,null,0,111]
[12,10429,13,10440,13,10458,null,null,null,null,0,111]
[12,10557,13,10567,13,10575,null,null,null,null,0,111]
[12,10680,13,10686,13,10695,null,null,null,null,0,111]
[12,10798,13,10804,13,10812,null,null,null,null,0,111]
[12,10920,13,10932,13,10942,null,null,null,null,0,111]
[12,11079,13,11088,13,11096,null,null,null,null,0,111]
[12,11194,13,11201,13,11206,null,null,null,null,0,111]
[12,11304,13,11310,13,11314,null,null,null,null,0,111]
[12,11415,13,11422,13,11434,null,null,null,null,0,111]
[12,11546,13,11556,13,11561,null,null,null,null,0,111]
[12,11673,13,11678,13,11691,null,null,null,null,0,111]
[12,11790,13,11803,13,11809,null,null,null,null,0,111]
[12,11912,13,11918,13,11930,null,null,null,null,0,111]
[12,12042,13,12052,13,12058,null,null,null,null,0,111]
[12,12166,13,12190,13,12199,null,null,null,null,0,111]
[12,12305,13,12311,13,12317,null,null,null,null,0,111]
[12,12421,13,12430,13,12443,null,null,null,null,0,111]
[12,12538,13,12544,13,12550,null,null,null,null,0,111]
[12,12657,13,12661,13,12666,null,null,null,null,0,111]
[12,12786,13,12802,13,12816,null,null,null,null,0,111]
[12,12919,24,12953,24,12960,null,null,null,null,0,122]
[12,13091,13,13104,13,13113,null,null,null,null,0,111]
[12,13242,13,13247,13,13255,null,null,null,null,0,111]
[12,13356,13,13363,13,13368,null,null,null,null,0,111]
[12,13469,13,13482,13,13489,null,null,null,null,0,111]
[12,13592,13,13598,13,13606,null,null,null,null,0,111]
[12,13707,13,13712,13,13718,null,null,null,null,0,111]
[12,13819,13,13824,13,13830,null,null,null,null,0,111]
[12,13927,13,13932,13,13938,null,null,null,null,0,111]
[12,14038,13,14046,13,14052,null,null,null,null,0,111]
[12,14153,13,14157,13,14162,null,null,null,null,0,111]
[12,14272,13,14285,13,14295,null,null,null,null,0,111]
[12,14397,13,14408,13,14416,null,null,null,null,0,111]
[12,14513,13,14518,13,14523,null,null,null,null,0,111]
[12,14625,13,14630,13,14635,null,null,null,null,0,111]
[12,14737,13,14743,13,14749,null,null,null,null,0,111]
[12,14851,13,14858,13,14864,null,null,null,null,0,111]
[12,14961,13,14967,13,14973,null,null,null,null,0,111]
[12,15076,13,15087,13,15096,null,null,null,null,0,111]
[12,15197,13,15202,13,15208,null,null,null,null,0,111]
[12,15312,13,15318,13,15324,null,null,null,null,0,111]
[12,15426,13,15432,13,15444,null,null,null,null,0,111]
[12,15548,13,15553,13,15558,null,null,null,null,0,111]
[12,15659,13,15665,13,15670,null,null,null,null,0,111]
[12,15785,13,15791,13,15797,null,null,null,null,0,111]
[12,15898,13,15904,13,15910,null,null,null,null,0,111]
[12,16017,13,16023,13,16032,null,null,null,null,0,111]
[12,16135,13,16144,13,16151,null,null,null,null,0,111]
[12,16246,13,16251,13,16259,null,null,null,null,0,111]
[12,16383,13,16392,13,16401,null,null,null,null,0,111]
[12,16502,13,16508,13,16513,null,null,null,null,0,111]
[12,16613,13,16624,13,16634,null,null,null,null,0,111]
[12,16748,13,16754,13,16760,null,null,null,null,0,111]
[12,16868,13,16881,13,16890,null,null,null,null,0,111]
[12,16990,13,16995,13,17000,null,null,null,null,0,111]
[12,17151,13,17160,13,17167,null,null,null,null,0,111]
[12,17270,13,17276,13,17282,null,null,null,null,0,111]
[12,17386,13,17397,13,17406,null,null,null,null,0,111]
[12,17511,13,17517,13,17542,null,null,null,null,0,111]
[12,17648,13,17660,13,17668,null,null,null,null,0,111]
[12,17764,13,17770,13,17776,null,null,null,null,0,111]
[12,17878,13,17883,13,17889,null,null,null,null,0,111]
[12,17993,13,17999,13,18004,null,null,null,null,0,111]
[12,18099,13,18104,13,18111,null,null,null,null,0,111]
[12,18210,13,18215,13,18220,null,null,null,null,0,111]
[12,18322,13,18329,13,18338,null,null,null,null,0,111]
[12,18436,13,18442,13,18448,null,null,null,null,0,111]
[12,18549,13,18555,13,18562,null,null,null,null,0,111]
[12,18668,13,18677,13,18686,null,null,null,null,0,111]
[12,18792,13,18797,13,18803,null,null,null,null,0,111]
[12,18925,13,18930,13,18940,null,null,null,null,0,111]
[12,19039,13,19044,13,19048,null,null,null,null,0,111]
[12,19184,13,19189,13,19196,null,null,null,null,0,111]
[12,19297,13,19310,13,19318,null,null,null,null,0,111]
[12,19425,13,19430,13,19440,null,null,null,null,0,111]
[12,19551,13,19557,13,19564,null,null,null,null,0,111]
[12,19663,13,19669,13,19676,null,null,null,null,0,111]
[12,19776,13,19783,13,19794,null,null,null,null,0,111]
[12,19905,13,19913,13,19919,null,null,null,null,0,111]
[12,20018,13,20023,13,20029,null,null,null,null,0,111]
[12,20128,13,20138,13,20145,null,null,null,null,0,111]
[12,20245,13,20251,13,20256,null,null,null,null,0,111]
[12,20355,13,20361,13,20370,null,null,null,null,0,111]
[12,20475,13,20491,13,20503,null,null,null,null,0,111]
[12,20625,13,20630,13,20637,null,null,null,null,0,111]
[12,20737,13,20747,13,20754,null,null,null,null,0,111]
[12,20853,13,20859,13,20864,null,null,null,null,0,111]
[12,20965,13,20970,13,20981,null,null,null,null,0,111]
[12,21087,13,21092,13,21099,null,null,null,null,0,111]
[12,21203,13,21213,13,21230,null,null,null,null,0,111]
[12,21333,13,21344,13,21355,null,null,null,null,0,111]
[12,21459,13,21465,13,21476,null,null,null,null,0,111]
[12,21594,24,21607,24,21613,null,null,null,null,0,122]
[12,21716,13,21721,13,21727,null,null,null,null,0,111]
[12,21832,13,21843,13,21852,null,null,null,null,0,111]
[12,21979,13,21985,13,21992,null,null,null,null,0,111]
[12,22129,13,22135,13,22157,null,null,null,null,0,111]
[12,22266,13,22278,13,22295,null,null,null,null,0,111]
[12,22397,13,22402,13,22407,null,null,null,null,0,111]
[12,22508,13,22513,13,22526,null,null,null,null,0,111]
[12,22630,13,22654,13,22663,null,null,null,null,0,111]
[12,22765,13,22771,13,22777,null,null,null,null,0,111]
[12,22878,13,22883,13,22892,null,null,null,null,0,111]
[12,22993,13,22999,13,23005,null,null,null,null,0,111]
[12,23118,13,23123,13,23129,null,null,null,null,0,111]
[12,23230,13,23236,13,23248,null,null,null,null,0,111]
[12,23347,13,23353,13,23358,null,null,null,null,0,111]
[12,23461,13,23466,13,23471,null,null,null,null,0,111]
[12,23577,13,23583,13,23589,null,null,null,null,0,111]
[12,23697,13,23706,13,23721,null,null,null,null,0,111]
[12,23822,13,23827,13,23834,null,null,null,null,0,111]
[12,23936,13,23942,13,23948,null,null,null,null,null,111]

{"sheet":"!N409910.010","index":17,"n_rows":195,"n_cols":48,"rows_kept":195,"cut":false,"hidden":false,"merged":[[4,39,4,42],[5,39,5,40],[4,44,4,47],[5,44,5,45],[4,24,4,27],[5,24,5,25],[4,29,4,32],[5,29,5,30],[4,34,4,37],[5,34,5,35],[1,1,1,2],[5,13,5,14],[18,13,18,14],[19,13,19,14],[4,19,4,22],[5,19,5,20]]}
["Report for:!N409910.010"]
["Date:","<date>"]
["Hen:","<hen>",null,null,null,"Correct Sequence",{"$f":"Start!J2","v":211},null,null,null,null,null,null,null,null,"Total Sequences in Data",{"$f":"4994-COUNTBLANK(L7:L5000)","v":189},null,null,null,null,"Total Sequences in Block Data",{"$f":"COUNTA(L7:L38)","v":32},null,null,null,"Total Sequences in Block Data",{"$f":"COUNTA(L39:L69)","v":31},null,null,null,"Total Sequences in Block Data",{"$f":"COUNTA(L70:L101)","v":32},null,null,null,"Total Sequences in Block Data",{"$f":"COUNTA(L102:L132)","v":31},null,null,null,"Total Sequences in Block Data",{"$f":"COUNTA(L133:L164)","v":32},null,null,null,"Total Sequences in Block Data",{"$f":"COUNTA(L165:L195)","v":31}]
[null,null,null,null,null,null,null,null,null,null,null,null,null,null,null,"Total Sequences in Summary",{"$f":"SUM(O7:O14)","v":188},null,null,null,null,"Total Sequences in Block Summary",{"$f":"SUM(U7:U14)","v":32},null,null,null,"Total Sequences in Block Summary",{"$f":"SUM(Z7:Z14)","v":31},null,null,null,"Total Sequences in Block Summary",{"$f":"SUM(AE7:AE14)","v":32},null,null,null,"Total Sequences in Block Summary",{"$f":"SUM(AJ7:AJ14)","v":31},null,null,null,"Total Sequences in Block Summary",{"$f":"SUM(AO7:AO14)","v":32},null,null,null,"Total Sequences in Block Summary",{"$f":"SUM(AT7:AT14)","v":30}]
[null,null,null,null,null,null,null,null,null,null,null,null,null,null,null,null,null,null,null,"Block 1",null,null,null,null,"Block 2",null,null,null,null,"Block 3",null,null,null,null,"Block 4",null,null,null,null,"Block 5",null,null,null,null,"Block 6"]
["Sequence\nComponent\n1","Time\n1","Sequence\nComponent\n2","Time\n2","Sequence\nComponent\n3","Time\n3","Sequence\nComponent\n4","Time\n4","Sequence\nComponent\n5","Time\n5","Correct?\n0=No 1=Yes","Sequence",null,"Frequency",null,"Relative Frequency","Variability",null,null,"Frequency",null,"Relative Frequency","Variability",null,"Frequency",null,"Relative Frequency","Variability",null,"Frequency",null,"Relative Frequency","Variability",null,"Frequency",null,"Relative Frequency","Variability",null,"Frequency",null,"Relative Frequency","Variability",null,"Frequency",null,"Relative Frequency","Variability"]
[21,20,11,38,11,48,null,null,null,null,0,211,null,111,{"$f":"COUNTIF($L$7:$L$500,N7)","v":184},{"$f":"O7/$Q$4","v":0.97872340425531912},{"$f":"IF(P7=0,0,(P7*((LOG(P7))/LOG(2))))","v":-3.0366748905292104E-2},null,null,{"$f":"N7","v":111},{"$f":"COUNTIF(L7:L38,T7)","v":30},{"$f":"U7/(W4-U11)","v":0.967741935483871},{"$f":"IF(V7=0,0,(V7*((LOG(V7))/LOG(2))))","v":-4.5779723979054811E-2},null,{"$f":"N7","v":111},{"$f":"COUNTIF(L39:L69,Y7)","v":31},{"$f":"Z7/(AB4-Z11)","v":1},{"$f":"IF(AA7=0,0,(AA7*((LOG(AA7))/LOG(2))))","v":0},null,{"$f":"N7","v":111},{"$f":"COUNTIF(L70:L101,AD7)","v":32},{"$f":"AE7/(AG4-AE11)","v":1},{"$f":"IF(AF7=0,0,(AF7*((LOG(AF7))/LOG(2))))","v":0},null,{"$f":"N7","v":111},{"$f":"COUNTIF(L102:L132,AI7)","v":31},{"$f":"AJ7/(AL4-AJ11)","v":1},{"$f":"IF(AK7=0,0,(AK7*((LOG(AK7))/LOG(2))))","v":0},null,{"$f":"N7","v":111},{"$f":"COUNTIF(L133:L164,AN7)","v":31},{"$f":"AO7/(AQ4-AO11)","v":0.96875},{"$f":"IF(AP7=0,0,(AP7*((LOG(AP7))/LOG(2))))","v":-4.4372324312714644E-2},null,{"$f":"N7","v":111},{"$f":"COUNTIF(L165:L195,AS7)","v":29},{"$f":"AT7/(AV4-AT11)","v":0.96666666666666667},{"$f":"IF(AU7=0,0,(AU7*((LOG(AU7))/LOG(2))))","v":-4.727928046491485E-2}]
[12,155,13,161,13,170,null,null,null,null,0,111,null,112,{"$f":"COUNTIF($L$7:$L$500,N8)","v":2},{"$f":"O8/$Q$4","v":1.0638297872340425E-2},{"$f":"IF(P8=0,0,(P8*((LOG(P8))/LOG(2))))","v":-6.9729668634868486E-2},null,null,{"$f":"N8","v":112},{"$f":"COUNTIF(L7:L38,T8)","v":1},{"$f":"U8/(W4-U11)","v":3.2258064516129031E-2},{"$f":"IF(V8=0,0,(V8*((LOG(V8))/LOG(2))))","v":-0.15981278420602821},null,{"$f":"N8","v":112},{"$f":"COUNTIF(L39:L69,Y8)","v":0},{"$f":"Z8/(AB4-Z11)","v":0},{"$f":"IF(AA8=0,0,(AA8*((LOG(AA8))/LOG(2))))","v":0},null,{"$f":"N8","v":112},{"$f":"COUNTIF(L70:L101,AD8)","v":0},{"$f":"AE8/(AG4-AE11)","v":0},{"$f":"IF(AF8=0,0,(AF8*((LOG(AF8))/LOG(2))))","v":0},null,{"$f":"N8","v":112},{"$f":"COUNTIF(L102:L132,AI8)","v":0},{"$f":"AJ8/(AL4-AJ11)","v":0},{"$f":"IF(AK8=0,0,(AK8*((LOG(AK8))/LOG(2))))","v":0},null,{"$f":"N8","v":112},{"$f":"COUNTIF(L133:L164,AN8)","v":1},{"$f":"AO8/(AQ4-AO11)","v":3.125E-2},{"$f":"IF(AP8=0,0,(AP8*((LOG(AP8))/LOG(2))))","v":-0.15625},null,{"$f":"N8","v":112},{"$f":"COUNTIF(L165:L195,AS8)","v":0},{"$f":"AT8/(AV4-AT11)","v":0},{"$f":"IF(AU8=0,0,(AU8*((LOG(AU8))/LOG(2))))","v":0}]
[12,284,13,294,13,306,null,null,null,null,0,111,null,121,{"$f":"COUNTIF($L$7:$L$500,N9)","v":0},{"$f":"O9/$Q$4","v":0},{"$f":"IF(P9=0,0,(P9*((LOG(P9))/LOG(2))))","v":0},null,null,{"$f":"N9","v":121},{"$f":"COUNTIF(L7:L38,T9)","v":0},{"$f":"U9/(W4-U11)","v":0},{"$f":"IF(V9=0,0,(V9*((LOG(V9))/LOG(2))))","v":0},null,{"$f":"N9","v":121},{"$f":"COUNTIF(L39:L69,Y9)","v":0},{"$f":"Z9/(AB4-Z11)","v":0},{"$f":"IF(AA9=0,0,(AA9*((LOG(AA9))/LOG(2))))","v":0},null,{"$f":"N9","v":121},{"$f":"COUNTIF(L70:L101,AD9)","v":0},{"$f":"AE9/(AG4-AE11)","v":0},{"$f":"IF(AF9=0,0,(AF9*((LOG(AF9))/LOG(2))))","v":0},null,{"$f":"N9","v":121},{"$f":"COUNTIF(L102:L132,AI9)","v":0},{"$f":"AJ9/(AL4-AJ11)","v":0},{"$f":"IF(AK9=0,0,(AK9*((LOG(AK9))/LOG(2))))","v":0},null,{"$f":"N9","v":121},{"$f":"COUNTIF(L133:L164,AN9)","v":0},{"$f":"AO9/(AQ4-AO11)","v":0},{"$f":"IF(AP9=0,0,(AP9*((LOG(AP9))/LOG(2))))","v":0},null,{"$f":"N9","v":121},{"$f":"COUNTIF(L165:L195,AS9)","v":0},{"$f":"AT9/(AV4-AT11)","v":0},{"$f":"IF(AU9=0,0,(AU9*((LOG(AU9))/LOG(2))))","v":0}]
[12,406,13,412,13,421,null,null,null,null,0,111,null,122,{"$f":"COUNTIF($L$7:$L$500,N10)","v":1},{"$f":"O10/$Q$4","v":5.3191489361702126E-3},{"$f":"IF(P10=0,0,(P10*((LOG(P10))/LOG(2))))","v":-4.0183983253604456E-2},null,null,{"$f":"N10","v":122},{"$f":"COUNTIF(L7:L38,T10)","v":0},{"$f":"U10/(W4-U11)","v":0},{"$f":"IF(V10=0,0,(V10*((LOG(V10))/LOG(2))))","v":0},null,{"$f":"N10","v":122},{"$f":"COUNTIF(L39:L69,Y10)","v":0},{"$f":"Z10/(AB4-Z11)","v":0},{"$f":"IF(AA10=0,0,(AA10*((LOG(AA10))/LOG(2))))","v":0},null,{"$f":"N10","v":122},{"$f":"COUNTIF(L70:L101,AD10)","v":0},{"$f":"AE10/(AG4-AE11)","v":0},{"$f":"IF(AF10=0,0,(AF10*((LOG(AF10))/LOG(2))))","v":0},null,{"$f":"N10","v":122},{"$f":"COUNTIF(L102:L132,AI10)","v":0},{"$f":"AJ10/(AL4-AJ11)","v":0},{"$f":"IF(AK10=0,0,(AK10*((LOG(AK10))/LOG(2))))","v":0},null,{"$f":"N10","v":122},{"$f":"COUNTIF(L133:L164,AN10)","v":0},{"$f":"AO10/(AQ4-AO11)","v":0},{"$f":"IF(AP10=0,0,(AP10*((LOG(AP10))/LOG(2))))","v":0},null,{"$f":"N10","v":122},{"$f":"COUNTIF(L165:L195,AS10)","v":1},{"$f":"AT10/(AV4-AT11)","v":3.3333333333333333E-2},{"$f":"IF(AU10=0,0,(AU10*((LOG(AU10))/LOG(2))))","v":-0.16356301985361729}]
[12,522,13,531,13,540,null,null,null,null,0,111,null,211,{"$f":"COUNTIF($L$7:$L$500,N11)","v":1},{"$f":"O11/$Q$4","v":5.3191489361702126E-3},{"$f":"IF(P11=0,0,(P11*((LOG(P11))/LOG(2))))","v":-4.0183983253604456E-2},null,null,{"$f":"N11","v":211},{"$f":"COUNTIF(L7:L38,T11)","v":1},null,null,null,{"$f":"N11","v":211},{"$f":"COUNTIF(L39:L69,Y11)","v":0},null,null,null,{"$f":"N11","v":211},{"$f":"COUNTIF(L70:L101,AD11)","v":0},null,null,null,{"$f":"N11","v":211},{"$f":"COUNTIF(L102:L132,AI11)","v":0},null,null,null,{"$f":"N11","v":211},{"$f":"COUNTIF(L133:L164,AN11)","v":0},null,null,null,{"$f":"N11","v":211},{"$f":"COUNTIF(L165:L195,AS11)","v":0}]
[12,651,13,660,13,672,null,null,null,null,0,111,null,212,{"$f":"COUNTIF($L$7:$L$500,N12)","v":0},{"$f":"O12/$Q$4","v":0},{"$f":"IF(P12=0,0,(P12*((LOG(P12))/LOG(2))))","v":0},null,null,{"$f":"N12","v":212},{"$f":"COUNTIF(L7:L38,T12)","v":0},{"$f":"U12/(W4-U11)","v":0},{"$f":"IF(V12=0,0,(V12*((LOG(V12))/LOG(2))))","v":0},null,{"$f":"N12","v":212},{"$f":"COUNTIF(L39:L69,Y12)","v":0},{"$f":"Z12/(AB4-Z11)","v":0},{"$f":"IF(AA12=0,0,(AA12*((LOG(AA12))/LOG(2))))","v":0},null,{"$f":"N12","v":212},{"$f":"COUNTIF(L70:L101,AD12)","v":0},{"$f":"AE12/(AG4-AE11)","v":0},{"$f":"IF(AF12=0,0,(AF12*((LOG(AF12))/LOG(2))))","v":0},null,{"$f":"N12","v":212},{"$f":"COUNTIF(L102:L132,AI12)","v":0},{"$f":"AJ12/(AL4-AJ11)","v":0},{"$f":"IF(AK12=0,0,(AK12*((LOG(AK12))/LOG(2))))","v":0},null,{"$f":"N12","v":212},{"$f":"COUNTIF(L133:L164,AN12)","v":0},{"$f":"AO12/(AQ4-AO11)","v":0},{"$f":"IF(AP12=0,0,(AP12*((LOG(AP12))/LOG(2))))","v":0},null,{"$f":"N12","v":212},{"$f":"COUNTIF(L165:L195,AS12)","v":0},{"$f":"AT12/(AV4-AT11)","v":0},{"$f":"IF(AU12=0,0,(AU12*((LOG(AU12))/LOG(2))))","v":0}]
[12,773,13,779,13,785,null,null,null,null,0,111,null,221,{"$f":"COUNTIF($L$7:$L$500,N13)","v":0},{"$f":"O13/$Q$4","v":0},{"$f":"IF(P13=0,0,(P13*((LOG(P13))/LOG(2))))","v":0},null,null,{"$f":"N13","v":221},{"$f":"COUNTIF(L7:L38,T13)","v":0},{"$f":"U13/(W4-U11)","v":0},{"$f":"IF(V13=0,0,(V13*((LOG(V13))/LOG(2))))","v":0},null,{"$f":"N13","v":221},{"$f":"COUNTIF(L39:L69,Y13)","v":0},{"$f":"Z13/(AB4-Z11)","v":0},{"$f":"IF(AA13=0,0,(AA13*((LOG(AA13))/LOG(2))))","v":0},null,{"$f":"N13","v":221},{"$f":"COUNTIF(L70:L101,AD13)","v":0},{"$f":"AE13/(AG4-AE11)","v":0},{"$f":"IF(AF13=0,0,(AF13*((LOG(AF13))/LOG(2))))","v":0},null,{"$f":"N13","v":221},{"$f":"COUNTIF(L102:L132,AI13)","v":0},{"$f":"AJ13/(AL4-AJ11)","v":0},{"$f":"IF(AK13=0,0,(AK13*((LOG(AK13))/LOG(2))))","v":0},null,{"$f":"N13","v":221},{"$f":"COUNTIF(L133:L164,AN13)","v":0},{"$f":"AO13/(AQ4-AO11)","v":0},{"$f":"IF(AP13=0,0,(AP13*((LOG(AP13))/LOG(2))))","v":0},null,{"$f":"N13","v":221},{"$f":"COUNTIF(L165:L195,AS13)","v":0},{"$f":"AT13/(AV4-AT11)","v":0},{"$f":"IF(AU13=0,0,(AU13*((LOG(AU13))/LOG(2))))","v":0}]
[12,888,13,899,13,907,null,null,null,null,0,111,null,222,{"$f":"COUNTIF($L$7:$L$500,N14)","v":0},{"$f":"O14/$Q$4","v":0},{"$f":"IF(P14=0,0,(P14*((LOG(P14))/LOG(2))))","v":0},null,null,{"$f":"N14","v":222},{"$f":"COUNTIF(L7:L38,T14)","v":0},{"$f":"U14/(W4-U11)","v":0},{"$f":"IF(V14=0,0,(V14*((LOG(V14))/LOG(2))))","v":0},null,{"$f":"N14","v":222},{"$f":"COUNTIF(L39:L69,Y14)","v":0},{"$f":"Z14/(AB4-Z11)","v":0},{"$f":"IF(AA14=0,0,(AA14*((LOG(AA14))/LOG(2))))","v":0},null,{"$f":"N14","v":222},{"$f":"COUNTIF(L70:L101,AD14)","v":0},{"$f":"AE14/(AG4-AE11)","v":0},{"$f":"IF(AF14=0,0,(AF14*((LOG(AF14))/LOG(2))))","v":0},null,{"$f":"N14","v":222},{"$f":"COUNTIF(L102:L132,AI14)","v":0},{"$f":"AJ14/(AL4-AJ11)","v":0},{"$f":"IF(AK14=0,0,(AK14*((LOG(AK14))/LOG(2))))","v":0},null,{"$f":"N14","v":222},{"$f":"COUNTIF(L133:L164,AN14)","v":0},{"$f":"AO14/(AQ4-AO11)","v":0},{"$f":"IF(AP14=0,0,(AP14*((LOG(AP14))/LOG(2))))","v":0},null,{"$f":"N14","v":222},{"$f":"COUNTIF(L165:L195,AS14)","v":0},{"$f":"AT14/(AV4-AT11)","v":0},{"$f":"IF(AU14=0,0,(AU14*((LOG(AU14))/LOG(2))))","v":0}]
[12,1007,13,1014,13,1023,null,null,null,null,0,111,null,null,null,{"$f":"SUM(P7:P14)","v":1},{"$f":"-SUM(Q7:Q14)","v":0.1804643840473695},null,null,null,null,{"$f":"SUM(V7:V14)","v":1},{"$f":"-SUM(W7:W14)","v":0.20559250818508301},null,null,null,{"$f":"SUM(AA7:AA14)","v":1},{"$f":"-SUM(AB7:AB14)","v":0},null,null,null,{"$f":"SUM(AF7:AF14)","v":1},{"$f":"-SUM(AG7:AG14)","v":0},null,null,null,{"$f":"SUM(AK7:AK14)","v":1},{"$f":"-SUM(AL7:AL14)","v":0},null,null,null,{"$f":"SUM(AP7:AP14)","v":1},{"$f":"-SUM(AQ7:AQ14)","v":0.20062232431271465},null,null,null,{"$f":"SUM(AU7:AU14)","v":1},{"$f":"-SUM(AV7:AV14)","v":0.21084230031853213}]
[12,1131,13,1136,13,1144,null,null,null,null,0,111,null,null,null,"U=",{"$f":"Q15/(LOG(Q4)/LOG(2))","v":2.3888048388933041E-2},null,null,null,null,"U1=",{"$f":"W15/(LOG(W4)/LOG(2))","v":4.1118501637016601E-2},null,null,null,"U2=",{"$f":"AB15/(LOG(AB4)/LOG(2))","v":0},null,null,null,"U3=",{"$f":"AG15/(LOG(AG4)/LOG(2))","v":0},null,null,null,"U4=",{"$f":"AL15/(LOG(AL4)/LOG(2))","v":0},null,null,null,"U5=",{"$f":"AQ15/(LOG(AQ4)/LOG(2))","v":4.0124464862542931E-2},null,null,null,"U6=",{"$f":"AV15/(LOG(AV4)/LOG(2))","v":4.2968616522085903E-2}]
[12,1261,13,1267,13,1284,null,null,null,null,0,111]
[12,1394,13,1400,13,1410,null,null,null,null,0,111]
[12,1514,13,1522,13,1531,null,null,null,null,0,111,null,"Total Target Seq"]
[12,1639,13,1645,13,1654,null,null,null,null,0,111,null,{"$f":"COUNTIF(L7:L195,G3)","v":1},null,32,31,32,31,32,31]
[12,1765,13,1771,13,1779,null,null,null,null,0,111,null,null,null,"% of reinforcement given in 6 equal intervals based on number of trials "]
[12,1901,13,1908,13,1916,null,null,null,null,0,111,null,null,null,"%_1","%_2","%_3","%_4","%_5","%_6"]
[12,2036,13,2042,13,2048,null,null,null,null,0,111,null,null,"target sequence",{"$f":"$G$3","v":211},{"$f":"$G$3","v":211},{"$f":"$G$3","v":211},{"$f":"$G$3","v":211},{"$f":"$G$3","v":211},{"$f":"$G$3","v":211}]
[12,2173,13,2184,13,2200,null,null,null,null,0,111,null,null,"total reinforcement",{"$f":"U11","v":1},{"$f":"Z11","v":0},{"$f":"AE11","v":0},{"$f":"AJ11","v":0},{"$f":"AO11","v":0},{"$f":"AT11","v":0}]
[12,2313,13,2325,13,2334,null,null,null,null,0,111,null,null,"% target"]
[12,2458,13,2465,13,2471,null,null,null,null,0,111,null,null,"CCRF"]
[12,2578,13,2584,13,2590,null,null,null,null,0,111,null,null,"% CCRf"]
[12,2690,13,2695,24,2707,null,null,null,null,0,112,null,null,"average response rate",{"$f":"F38/P20","v":122.59375},{"$f":"(F69-F38)/Q20","v":133.74193548387098},{"$f":"(F101-F69)/R20","v":129.03125},{"$f":"(F132-F101)/S20","v":123.87096774193549},{"$f":"(F164-F132)/T20","v":126.375},{"$f":"(F195-F164)/U20","v":-647.80645161290317}]
[12,2810,13,2845,13,2854,null,null,null,null,0,111]
[12,2953,13,2959,13,2964,null,null,null,null,0,111]
[12,3071,13,3076,13,3082,null,null,null,null,0,111]
[12,3186,13,3197,13,3206,null,null,null,null,0,111]
[12,3312,13,3324,13,3333,null,null,null,null,0,111]
[12,3432,13,3437,13,3462,null,null,null,null,0,111]
[12,3563,13,3570,13,3577,null,null,null,null,0,111]
[12,3683,13,3689,13,3698,null,null,null,null,0,111]
[12,3798,13,3804,13,3810,null,null,null,null,0,111]
[12,3912,13,3917,13,3923,null,null,null,null,0,111]
[12,4031,13,4037,13,4051,null,null,null,null,0,111]
[12,4160,13,4171,13,4177,null,null,null,null,0,111]
[12,4276,13,4281,13,4286,null,null,null,null,0,111]
[12,4391,13,4407,13,4416,null,null,null,null,0,111]
[12,4523,13,4529,13,4535,null,null,null,null,0,111]
[12,4644,13,4658,13,4667,null,null,null,null,0,111]
[12,4772,13,4780,13,4798,null,null,null,null,0,111]
[12,4899,13,4908,13,4915,null,null,null,null,0,111]
[12,5019,13,5047,13,5079,null,null,null,null,0,111]
[12,5190,13,5203,13,5212,null,null,null,null,0,111]
[12,5315,13,5328,13,5342,null,null,null,null,0,111]
[12,5444,13,5457,13,5508,null,null,null,null,0,111]
[12,5636,13,5645,13,5655,null,null,null,null,0,111]
[12,5754,13,5759,13,5767,null,null,null,null,0,111]
[12,5871,13,5888,13,5915,null,null,null,null,0,111]
[12,6021,13,6073,13,6082,null,null,null,null,0,111]
[12,6177,13,6193,13,6208,null,null,null,null,0,111]
[12,6317,13,6334,13,6345,null,null,null,null,0,111]
[12,6486,13,6491,13,6498,null,null,null,null,0,111]
[12,6600,13,6606,13,6611,null,null,null,null,0,111]
[12,6728,13,6741,13,6767,null,null,null,null,0,111]
[12,6870,13,6877,13,6884,null,null,null,null,0,111]
[12,6992,13,7023,13,7046,null,null,null,null,0,111]
[12,7149,13,7170,13,7178,null,null,null,null,0,111]
[12,7278,13,7287,13,7304,null,null,null,null,0,111]
[12,7411,13,7417,13,7432,null,null,null,null,0,111]
[12,7537,13,7549,13,7561,null,null,null,null,0,111]
[12,7666,13,7679,13,7688,null,null,null,null,0,111]
[12,7788,13,7792,13,7799,null,null,null,null,0,111]
[12,7912,13,7918,13,7952,null,null,null,null,0,111]
[12,8054,13,8061,13,8069,null,null,null,null,0,111]
[12,8171,13,8181,13,8187,null,null,null,null,0,111]
[12,8293,13,8299,13,8307,null,null,null,null,0,111]
[12,8491,13,8498,13,8507,null,null,null,null,0,111]
[12,8611,13,8616,13,8622,null,null,null,null,0,111]
[12,8723,13,8733,13,8739,null,null,null,null,0,111]
[12,8851,13,8857,13,8939,null,null,null,null,0,111]
[12,9039,13,9054,13,9060,null,null,null,null,0,111]
[12,9161,13,9185,13,9193,null,null,null,null,0,111]
[12,9296,13,9302,13,9308,null,null,null,null,0,111]
[12,9417,13,9435,13,9441,null,null,null,null,0,111]
[12,9542,13,9547,13,9553,null,null,null,null,0,111]
[12,9658,13,9670,13,9675,null,null,null,null,0,111]
[12,9774,13,9786,13,9792,null,null,null,null,0,111]
[12,9892,13,9898,13,9915,null,null,null,null,0,111]
[12,10023,13,10040,13,10048,null,null,null,null,0,111]
[12,10148,13,10159,13,10172,null,null,null,null,0,111]
[12,10275,13,10291,13,10298,null,null,null,null,0,111]
[12,10398,13,10404,13,10411,null,null,null,null,0,111]
[12,10519,13,10541,13,10558,null,null,null,null,0,111]
[12,10659,13,10671,13,10676,null,null,null,null,0,111]
[12,10782,13,10794,13,10800,null,null,null,null,0,111]
[12,10913,13,10919,13,10928,null,null,null,null,0,111]
[12,11045,13,11051,13,11056,null,null,null,null,0,111]
[12,11156,13,11162,13,11169,null,null,null,null,0,111]
[12,11269,13,11274,13,11292,null,null,null,null,0,111]
[12,11404,13,11409,13,11415,null,null,null,null,0,111]
[12,11518,13,11525,13,11532,null,null,null,null,0,111]
[12,11642,13,11654,13,11665,null,null,null,null,0,111]
[12,11777,13,11784,13,11793,null,null,null,null,0,111]
[12,11897,13,11903,13,11927,null,null,null,null,0,111]
[12,12034,13,12040,13,12046,null,null,null,null,0,111]
[12,12167,13,12188,13,12198,null,null,null,null,0,111]
[12,12297,13,12342,13,12351,null,null,null,null,0,111]
[12,12452,13,12468,13,12485,null,null,null,null,0,111]
[12,12587,13,12593,13,12599,null,null,null,null,0,111]
[12,12706,13,12713,13,12719,null,null,null,null,0,111]
[12,12822,13,12828,13,12834,null,null,null,null,0,111]
[12,12933,13,12938,13,12958,null,null,null,null,0,111]
[12,13055,13,13067,13,13077,null,null,null,null,0,111]
[12,13175,13,13181,13,13187,null,null,null,null,0,111]
[12,13298,13,13336,13,13348,null,null,null,null,0,111]
[12,13448,13,13455,13,13462,null,null,null,null,0,111]
[12,13564,13,13576,13,13592,null,null,null,null,0,111]
[12,13692,13,13699,13,13706,null,null,null,null,0,111]
[12,13805,13,13811,13,13824,null,null,null,null,0,111]
[12,13923,13,13928,13,13934,null,null,null,null,0,111]
[12,14052,13,14090,13,14099,null,null,null,null,0,111]
[12,14202,13,14207,13,14213,null,null,null,null,0,111]
[12,14318,13,14336,13,14353,null,null,null,null,0,111]
[12,14453,13,14461,13,14467,null,null,null,null,0,111]
[12,14567,13,14572,13,14582,null,null,null,null,0,111]
[12,14681,13,14689,13,14702,null,null,null,null,0,111]
[12,14800,13,14811,13,14817,null,null,null,null,0,111]
[12,14916,13,14922,13,14929,null,null,null,null,0,111]
[12,15035,13,15041,13,15049,null,null,null,null,0,111]
[12,15150,13,15162,13,15175,null,null,null,null,0,111]
[12,15271,13,15281,13,15287,null,null,null,null,0,111]
[12,15386,13,15392,13,15406,null,null,null,null,0,111]
[12,15507,13,15547,13,15570,null,null,null,null,0,111]
[12,15674,13,15683,13,15689,null,null,null,null,0,111]
[12,15792,13,15798,13,15803,null,null,null,null,0,111]
[12,15908,13,15915,13,15925,null,null,null,null,0,111]
[12,16021,13,16028,13,16038,null,null,null,null,0,111]
[12,16143,13,16153,24,16177,null,null,null,null,0,112]
[12,16282,13,16290,13,16301,null,null,null,null,0,111]
[12,16418,13,16424,13,16435,null,null,null,null,0,111]
[12,16538,13,16544,13,16562,null,null,null,null,0,111]
[12,16660,13,16680,13,16691,null,null,null,null,0,111]
[12,16800,13,16806,13,16820,null,null,null,null,0,111]
[12,16920,13,16933,13,16948,null,null,null,null,0,111]
[12,17049,13,17059,13,17065,null,null,null,null,0,111]
[12,17170,13,17175,13,17188,null,null,null,null,0,111]
[12,17287,13,17305,13,17336,null,null,null,null,0,111]
[12,17438,13,17444,13,17448,null,null,null,null,0,111]
[12,17553,13,17567,13,17601,null,null,null,null,0,111]
[12,17709,13,17714,13,17720,null,null,null,null,0,111]
[12,17821,13,17827,13,17832,null,null,null,null,0,111]
[12,17936,13,17943,13,17951,null,null,null,null,0,111]
[12,18071,13,18077,13,18086,null,null,null,null,0,111]
[12,18187,13,18193,13,18199,null,null,null,null,0,111]
[12,18299,13,18309,13,18322,null,null,null,null,0,111]
[12,18427,13,18440,13,18448,null,null,null,null,0,111]
[12,18548,13,18556,13,18569,null,null,null,null,0,111]
[12,18674,13,18686,13,18702,null,null,null,null,0,111]
[12,18804,13,18811,13,18824,null,null,null,null,0,111]
[12,18923,13,18929,13,18942,null,null,null,null,0,111]
[12,19048,13,19060,13,19067,null,null,null,null,0,111]
[12,19169,13,19180,13,19188,null,null,null,null,0,111]
[12,19297,13,19310,13,19330,null,null,null,null,0,111]
[12,19430,13,19438,13,19445,null,null,null,null,0,111]
[12,19552,13,19565,13,19571,null,null,null,null,0,111]
[12,19687,13,19693,13,19714,null,null,null,null,0,111]
[12,19820,13,19826,13,19832,null,null,null,null,0,111]
[12,19933,13,19946,13,19951,null,null,null,null,0,111]
[12,20064,13,20074,13,20082,null,null,null,null,0,111]
[12,20183,13,20192,13,20199,null,null,null,null,0,111]
[12,20304,13,20319,13,20325,null,null,null,null,0,111]
[12,20456,13,20462,13,20470,null,null,null,null,0,111]
[12,20570,13,20576,13,20583,null,null,null,null,0,111]
[12,20688,13,20697,13,20720,null,null,null,null,0,111]
[12,20827,13,20837,13,20842,null,null,null,null,0,111]
[12,20945,13,20960,13,20969,null,null,null,null,0,111]
[12,21117,13,21123,13,21129,null,null,null,null,0,111]
[12,21231,13,21240,13,21251,null,null,null,null,0,111]
[12,21354,13,21364,13,21371,null,null,null,null,0,111]
[12,21475,13,21486,13,21493,null,null,null,null,0,111]
[12,21597,13,21604,13,21610,null,null,null,null,0,111]
[12,21716,13,21722,13,21728,null,null,null,null,0,111]
[12,21835,13,21842,13,21850,null,null,null,null,0,111]
[12,21967,13,21973,13,21981,null,null,null,null,0,111]
[12,22087,13,22094,13,22107,null,null,null,null,0,111]
[12,22215,13,22222,13,22230,null,null,null,null,0,111]
[12,22343,13,22353,13,22363,null,null,null,null,0,111]
[12,22470,13,22475,13,22482,null,null,null,null,0,111]
[12,22605,13,22617,13,22626,null,null,null,null,0,111]
[12,22729,13,22743,13,22751,null,null,null,null,0,111]
[12,22854,13,22862,13,22868,null,null,null,null,0,111]
[12,22970,13,22975,13,22989,null,null,null,null,0,111]
[12,23092,13,23098,13,23104,null,null,null,null,0,111]
[12,23202,13,23214,13,23222,null,null,null,null,0,111]
[12,23338,13,23346,13,23379,null,null,null,null,0,111]
[12,23502,24,23524,24,23529,null,null,null,null,0,122]
[12,23629,13,23635,13,23640,null,null,null,null,0,111]
[12,23736,13,23740,13,23757,null,null,null,null,0,111]
[12,23857,13,23863,13,23875,null,null,null,null,0,111]
[12,23976,13,23988,null,null,null,null,null,null,null,11]

{"sheet":"!N410830.010","index":18,"n_rows":208,"n_cols":48,"rows_kept":208,"cut":false,"hidden":false,"merged":[[4,39,4,42],[5,39,5,40],[4,44,4,47],[5,44,5,45],[4,24,4,27],[5,24,5,25],[4,29,4,32],[5,29,5,30],[4,34,4,37],[5,34,5,35],[1,1,1,2],[5,13,5,14],[18,13,18,14],[19,13,19,14],[4,19,4,22],[5,19,5,20]]}
["Report for:!N410830.010"]
["Date:","<date>"]
["Hen:","<hen>",null,null,null,"Correct Sequence",{"$f":"Start!J2","v":211},null,null,null,null,null,null,null,null,"Total Sequences in Data",{"$f":"4994-COUNTBLANK(L7:L5000)","v":202},null,null,null,null,"Total Sequences in Block Data",{"$f":"COUNTA(L7:L40)","v":34},null,null,null,"Total Sequences in Block Data",{"$f":"COUNTA(L41:L73)","v":33},null,null,null,"Total Sequences in Block Data",{"$f":"COUNTA(L74:L107)","v":34},null,null,null,"Total Sequences in Block Data",{"$f":"COUNTA(L108:L141)","v":34},null,null,null,"Total Sequences in Block Data",{"$f":"COUNTA(L142:L174)","v":33},null,null,null,"Total Sequences in Block Data",{"$f":"COUNTA(L175:L208)","v":34}]
[null,null,null,null,null,null,null,null,null,null,null,null,null,null,null,"Total Sequences in Summary",{"$f":"SUM(O7:O14)","v":202},null,null,null,null,"Total Sequences in Block Summary",{"$f":"SUM(U7:U14)","v":34},null,null,null,"Total Sequences in Block Summary",{"$f":"SUM(Z7:Z14)","v":33},null,null,null,"Total Sequences in Block Summary",{"$f":"SUM(AE7:AE14)","v":34},null,null,null,"Total Sequences in Block Summary",{"$f":"SUM(AJ7:AJ14)","v":34},null,null,null,"Total Sequences in Block Summary",{"$f":"SUM(AO7:AO14)","v":33},null,null,null,"Total Sequences in Block Summary",{"$f":"SUM(AT7:AT14)","v":34}]
[null,null,null,null,null,null,null,null,null,null,null,null,null,null,null,null,null,null,null,"Block 1",null,null,null,null,"Block 2",null,null,null,null,"Block 3",null,null,null,null,"Block 4",null,null,null,null,"Block 5",null,null,null,null,"Block 6"]
["Sequence\nComponent\n1","Time\n1","Sequence\nComponent\n2","Time\n2","Sequence\nComponent\n3","Time\n3","Sequence\nComponent\n4","Time\n4","Sequence\nComponent\n5","Time\n5","Correct?\n0=No 1=Yes","Sequence",null,"Frequency",null,"Relative Frequency","Variability",null,null,"Frequency",null,"Relative Frequency","Variability",null,"Frequency",null,"Relative Frequency","Variability",null,"Frequency",null,"Relative Frequency","Variability",null,"Frequency",null,"Relative Frequency","Variability",null,"Frequency",null,"Relative Frequency","Variability",null,"Frequency",null,"Relative Frequency","Variability"]
[12,30,13,39,13,52,null,null,null,null,0,111,null,111,{"$f":"COUNTIF($L$7:$L$500,N7)","v":201},{"$f":"O7/$Q$4","v":0.99504950495049505},{"$f":"IF(P7=0,0,(P7*((LOG(P7))/LOG(2))))","v":-7.1243470601291686E-3},null,null,{"$f":"N7","v":111},{"$f":"COUNTIF(L7:L40,T7)","v":34},{"$f":"U7/(W4-U11)","v":1},{"$f":"IF(V7=0,0,(V7*((LOG(V7))/LOG(2))))","v":0},null,{"$f":"N7","v":111},{"$f":"COUNTIF(L41:L73,Y7)","v":33},{"$f":"Z7/(AB4-Z11)","v":1},{"$f":"IF(AA7=0,0,(AA7*((LOG(AA7))/LOG(2))))","v":0},null,{"$f":"N7","v":111},{"$f":"COUNTIF(L74:L107,AD7)","v":33},{"$f":"AE7/(AG4-AE11)","v":0.97058823529411764},{"$f":"IF(AF7=0,0,(AF7*((LOG(AF7))/LOG(2))))","v":-4.1801994777418743E-2},null,{"$f":"N7","v":111},{"$f":"COUNTIF(L108:L141,AI7)","v":34},{"$f":"AJ7/(AL4-AJ11)","v":1},{"$f":"IF(AK7=0,0,(AK7*((LOG(AK7))/LOG(2))))","v":0},null,{"$f":"N7","v":111},{"$f":"COUNTIF(L142:L174,AN7)","v":33},{"$f":"AO7/(AQ4-AO11)","v":1},{"$f":"IF(AP7=0,0,(AP7*((LOG(AP7))/LOG(2))))","v":0},null,{"$f":"N7","v":111},{"$f":"COUNTIF(L175:L208,AS7)","v":34},{"$f":"AT7/(AV4-AT11)","v":1},{"$f":"IF(AU7=0,0,(AU7*((LOG(AU7))/LOG(2))))","v":0}]
[12,166,13,172,13,181,null,null,null,null,0,111,null,112,{"$f":"COUNTIF($L$7:$L$500,N8)","v":1},{"$f":"O8/$Q$4","v":4.9504950495049506E-3},{"$f":"IF(P8=0,0,(P8*((LOG(P8))/LOG(2))))","v":-3.7911938033424727E-2},null,null,{"$f":"N8","v":112},{"$f":"COUNTIF(L7:L40,T8)","v":0},{"$f":"U8/(W4-U11)","v":0},{"$f":"IF(V8=0,0,(V8*((LOG(V8))/LOG(2))))","v":0},null,{"$f":"N8","v":112},{"$f":"COUNTIF(L41:L73,Y8)","v":0},{"$f":"Z8/(AB4-Z11)","v":0},{"$f":"IF(AA8=0,0,(AA8*((LOG(AA8))/LOG(2))))","v":0},null,{"$f":"N8","v":112},{"$f":"COUNTIF(L74:L107,AD8)","v":1},{"$f":"AE8/(AG4-AE11)","v":2.9411764705882353E-2},{"$f":"IF(AF8=0,0,(AF8*((LOG(AF8))/LOG(2))))","v":-0.14963126003677468},null,{"$f":"N8","v":112},{"$f":"COUNTIF(L108:L141,AI8)","v":0},{"$f":"AJ8/(AL4-AJ11)","v":0},{"$f":"IF(AK8=0,0,(AK8*((LOG(AK8))/LOG(2))))","v":0},null,{"$f":"N8","v":112},{"$f":"COUNTIF(L142:L174,AN8)","v":0},{"$f":"AO8/(AQ4-AO11)","v":0},{"$f":"IF(AP8=0,0,(AP8*((LOG(AP8))/LOG(2))))","v":0},null,{"$f":"N8","v":112},{"$f":"COUNTIF(L175:L208,AS8)","v":0},{"$f":"AT8/(AV4-AT11)","v":0},{"$f":"IF(AU8=0,0,(AU8*((LOG(AU8))/LOG(2))))","v":0}]
[12,285,13,291,13,298,null,null,null,null,0,111,null,121,{"$f":"COUNTIF($L$7:$L$500,N9)","v":0},{"$f":"O9/$Q$4","v":0},{"$f":"IF(P9=0,0,(P9*((LOG(P9))/LOG(2))))","v":0},null,null,{"$f":"N9","v":121},{"$f":"COUNTIF(L7:L40,T9)","v":0},{"$f":"U9/(W4-U11)","v":0},{"$f":"IF(V9=0,0,(V9*((LOG(V9))/LOG(2))))","v":0},null,{"$f":"N9","v":121},{"$f":"COUNTIF(L41:L73,Y9)","v":0},{"$f":"Z9/(AB4-Z11)","v":0},{"$f":"IF(AA9=0,0,(AA9*((LOG(AA9))/LOG(2))))","v":0},null,{"$f":"N9","v":121},{"$f":"COUNTIF(L74:L107,AD9)","v":0},{"$f":"AE9/(AG4-AE11)","v":0},{"$f":"IF(AF9=0,0,(AF9*((LOG(AF9))/LOG(2))))","v":0},null,{"$f":"N9","v":121},{"$f":"COUNTIF(L108:L141,AI9)","v":0},{"$f":"AJ9/(AL4-AJ11)","v":0},{"$f":"IF(AK9=0,0,(AK9*((LOG(AK9))/LOG(2))))","v":0},null,{"$f":"N9","v":121},{"$f":"COUNTIF(L142:L174,AN9)","v":0},{"$f":"AO9/(AQ4-AO11)","v":0},{"$f":"IF(AP9=0,0,(AP9*((LOG(AP9))/LOG(2))))","v":0},null,{"$f":"N9","v":121},{"$f":"COUNTIF(L175:L208,AS9)","v":0},{"$f":"AT9/(AV4-AT11)","v":0},{"$f":"IF(AU9=0,0,(AU9*((LOG(AU9))/LOG(2))))","v":0}]
[12,429,13,436,13,444,null,null,null,null,0,111,null,122,{"$f":"COUNTIF($L$7:$L$500,N10)","v":0},{"$f":"O10/$Q$4","v":0},{"$f":"IF(P10=0,0,(P10*((LOG(P10))/LOG(2))))","v":0},null,null,{"$f":"N10","v":122},{"$f":"COUNTIF(L7:L40,T10)","v":0},{"$f":"U10/(W4-U11)","v":0},{"$f":"IF(V10=0,0,(V10*((LOG(V10))/LOG(2))))","v":0},null,{"$f":"N10","v":122},{"$f":"COUNTIF(L41:L73,Y10)","v":0},{"$f":"Z10/(AB4-Z11)","v":0},{"$f":"IF(AA10=0,0,(AA10*((LOG(AA10))/LOG(2))))","v":0},null,{"$f":"N10","v":122},{"$f":"COUNTIF(L74:L107,AD10)","v":0},{"$f":"AE10/(AG4-AE11)","v":0},{"$f":"IF(AF10=0,0,(AF10*((LOG(AF10))/LOG(2))))","v":0},null,{"$f":"N10","v":122},{"$f":"COUNTIF(L108:L141,AI10)","v":0},{"$f":"AJ10/(AL4-AJ11)","v":0},{"$f":"IF(AK10=0,0,(AK10*((LOG(AK10))/LOG(2))))","v":0},null,{"$f":"N10","v":122},{"$f":"COUNTIF(L142:L174,AN10)","v":0},{"$f":"AO10/(AQ4-AO11)","v":0},{"$f":"IF(AP10=0,0,(AP10*((LOG(AP10))/LOG(2))))","v":0},null,{"$f":"N10","v":122},{"$f":"COUNTIF(L175:L208,AS10)","v":0},{"$f":"AT10/(AV4-AT11)","v":0},{"$f":"IF(AU10=0,0,(AU10*((LOG(AU10))/LOG(2))))","v":0}]
[12,547,13,553,13,558,null,null,null,null,0,111,null,211,{"$f":"COUNTIF($L$7:$L$500,N11)","v":0},{"$f":"O11/$Q$4","v":0},{"$f":"IF(P11=0,0,(P11*((LOG(P11))/LOG(2))))","v":0},null,null,{"$f":"N11","v":211},{"$f":"COUNTIF(L7:L40,T11)","v":0},null,null,null,{"$f":"N11","v":211},{"$f":"COUNTIF(L41:L73,Y11)","v":0},null,null,null,{"$f":"N11","v":211},{"$f":"COUNTIF(L74:L107,AD11)","v":0},null,null,null,{"$f":"N11","v":211},{"$f":"COUNTIF(L108:L141,AI11)","v":0},null,null,null,{"$f":"N11","v":211},{"$f":"COUNTIF(L142:L174,AN11)","v":0},null,null,null,{"$f":"N11","v":211},{"$f":"COUNTIF(L175:L208,AS11)","v":0}]
[12,659,13,664,13,670,null,null,null,null,0,111,null,212,{"$f":"COUNTIF($L$7:$L$500,N12)","v":0},{"$f":"O12/$Q$4","v":0},{"$f":"IF(P12=0,0,(P12*((LOG(P12))/LOG(2))))","v":0},null,null,{"$f":"N12","v":212},{"$f":"COUNTIF(L7:L40,T12)","v":0},{"$f":"U12/(W4-U11)","v":0},{"$f":"IF(V12=0,0,(V12*((LOG(V12))/LOG(2))))","v":0},null,{"$f":"N12","v":212},{"$f":"COUNTIF(L41:L73,Y12)","v":0},{"$f":"Z12/(AB4-Z11)","v":0},{"$f":"IF(AA12=0,0,(AA12*((LOG(AA12))/LOG(2))))","v":0},null,{"$f":"N12","v":212},{"$f":"COUNTIF(L74:L107,AD12)","v":0},{"$f":"AE12/(AG4-AE11)","v":0},{"$f":"IF(AF12=0,0,(AF12*((LOG(AF12))/LOG(2))))","v":0},null,{"$f":"N12","v":212},{"$f":"COUNTIF(L108:L141,AI12)","v":0},{"$f":"AJ12/(AL4-AJ11)","v":0},{"$f":"IF(AK12=0,0,(AK12*((LOG(AK12))/LOG(2))))","v":0},null,{"$f":"N12","v":212},{"$f":"COUNTIF(L142:L174,AN12)","v":0},{"$f":"AO12/(AQ4-AO11)","v":0},{"$f":"IF(AP12=0,0,(AP12*((LOG(AP12))/LOG(2))))","v":0},null,{"$f":"N12","v":212},{"$f":"COUNTIF(L175:L208,AS12)","v":0},{"$f":"AT12/(AV4-AT11)","v":0},{"$f":"IF(AU12=0,0,(AU12*((LOG(AU12))/LOG(2))))","v":0}]
[12,772,13,777,13,790,null,null,null,null,0,111,null,221,{"$f":"COUNTIF($L$7:$L$500,N13)","v":0},{"$f":"O13/$Q$4","v":0},{"$f":"IF(P13=0,0,(P13*((LOG(P13))/LOG(2))))","v":0},null,null,{"$f":"N13","v":221},{"$f":"COUNTIF(L7:L40,T13)","v":0},{"$f":"U13/(W4-U11)","v":0},{"$f":"IF(V13=0,0,(V13*((LOG(V13))/LOG(2))))","v":0},null,{"$f":"N13","v":221},{"$f":"COUNTIF(L41:L73,Y13)","v":0},{"$f":"Z13/(AB4-Z11)","v":0},{"$f":"IF(AA13=0,0,(AA13*((LOG(AA13))/LOG(2))))","v":0},null,{"$f":"N13","v":221},{"$f":"COUNTIF(L74:L107,AD13)","v":0},{"$f":"AE13/(AG4-AE11)","v":0},{"$f":"IF(AF13=0,0,(AF13*((LOG(AF13))/LOG(2))))","v":0},null,{"$f":"N13","v":221},{"$f":"COUNTIF(L108:L141,AI13)","v":0},{"$f":"AJ13/(AL4-AJ11)","v":0},{"$f":"IF(AK13=0,0,(AK13*((LOG(AK13))/LOG(2))))","v":0},null,{"$f":"N13","v":221},{"$f":"COUNTIF(L142:L174,AN13)","v":0},{"$f":"AO13/(AQ4-AO11)","v":0},{"$f":"IF(AP13=0,0,(AP13*((LOG(AP13))/LOG(2))))","v":0},null,{"$f":"N13","v":221},{"$f":"COUNTIF(L175:L208,AS13)","v":0},{"$f":"AT13/(AV4-AT11)","v":0},{"$f":"IF(AU13=0,0,(AU13*((LOG(AU13))/LOG(2))))","v":0}]
[12,895,13,901,13,911,null,null,null,null,0,111,null,222,{"$f":"COUNTIF($L$7:$L$500,N14)","v":0},{"$f":"O14/$Q$4","v":0},{"$f":"IF(P14=0,0,(P14*((LOG(P14))/LOG(2))))","v":0},null,null,{"$f":"N14","v":222},{"$f":"COUNTIF(L7:L40,T14)","v":0},{"$f":"U14/(W4-U11)","v":0},{"$f":"IF(V14=0,0,(V14*((LOG(V14))/LOG(2))))","v":0},null,{"$f":"N14","v":222},{"$f":"COUNTIF(L41:L73,Y14)","v":0},{"$f":"Z14/(AB4-Z11)","v":0},{"$f":"IF(AA14=0,0,(AA14*((LOG(AA14))/LOG(2))))","v":0},null,{"$f":"N14","v":222},{"$f":"COUNTIF(L74:L107,AD14)","v":0},{"$f":"AE14/(AG4-AE11)","v":0},{"$f":"IF(AF14=0,0,(AF14*((LOG(AF14))/LOG(2))))","v":0},null,{"$f":"N14","v":222},{"$f":"COUNTIF(L108:L141,AI14)","v":0},{"$f":"AJ14/(AL4-AJ11)","v":0},{"$f":"IF(AK14=0,0,(AK14*((LOG(AK14))/LOG(2))))","v":0},null,{"$f":"N14","v":222},{"$f":"COUNTIF(L142:L174,AN14)","v":0},{"$f":"AO14/(AQ4-AO11)","v":0},{"$f":"IF(AP14=0,0,(AP14*((LOG(AP14))/LOG(2))))","v":0},null,{"$f":"N14","v":222},{"$f":"COUNTIF(L175:L208,AS14)","v":0},{"$f":"AT14/(AV4-AT11)","v":0},{"$f":"IF(AU14=0,0,(AU14*((LOG(AU14))/LOG(2))))","v":0}]
[12,1021,13,1033,13,1041,null,null,null,null,0,111,null,null,null,{"$f":"SUM(P7:P14)","v":1},{"$f":"-SUM(Q7:Q14)","v":4.5036285093553896E-2},null,null,null,null,{"$f":"SUM(V7:V14)","v":1},{"$f":"-SUM(W7:W14)","v":0},null,null,null,{"$f":"SUM(AA7:AA14)","v":1},{"$f":"-SUM(AB7:AB14)","v":0},null,null,null,{"$f":"SUM(AF7:AF14)","v":1},{"$f":"-SUM(AG7:AG14)","v":0.19143325481419343},null,null,null,{"$f":"SUM(AK7:AK14)","v":1},{"$f":"-SUM(AL7:AL14)","v":0},null,null,null,{"$f":"SUM(AP7:AP14)","v":1},{"$f":"-SUM(AQ7:AQ14)","v":0},null,null,null,{"$f":"SUM(AU7:AU14)","v":1},{"$f":"-SUM(AV7:AV14)","v":0}]
[12,1141,13,1147,13,1153,null,null,null,null,0,111,null,null,null,"U=",{"$f":"Q15/(LOG(Q4)/LOG(2))","v":5.880783678406748E-3},null,null,null,null,"U1=",{"$f":"W15/(LOG(W4)/LOG(2))","v":0},null,null,null,"U2=",{"$f":"AB15/(LOG(AB4)/LOG(2))","v":0},null,null,null,"U3=",{"$f":"AG15/(LOG(AG4)/LOG(2))","v":3.7628433029919708E-2},null,null,null,"U4=",{"$f":"AL15/(LOG(AL4)/LOG(2))","v":0},null,null,null,"U5=",{"$f":"AQ15/(LOG(AQ4)/LOG(2))","v":0},null,null,null,"U6=",{"$f":"AV15/(LOG(AV4)/LOG(2))","v":0}]
[12,1258,13,1266,13,1274,null,null,null,null,0,111]
[12,1379,13,1386,13,1401,null,null,null,null,0,111]
[12,1508,13,1514,13,1520,null,null,null,null,0,111,null,"Total Target Seq"]
[12,1622,13,1634,13,1643,null,null,null,null,0,111,null,{"$f":"COUNTIF(L7:L208,G3)","v":0},null,34,33,34,34,33,34]
[12,1745,13,1750,13,1756,null,null,null,null,0,111,null,null,null,"% of reinforcement given in 6 equal intervals based on number of trials "]
[12,1857,13,1864,13,1870,null,null,null,null,0,111,null,null,null,"%_1","%_2","%_3","%_4","%_5","%_6"]
[12,1974,13,1980,13,1987,null,null,null,null,0,111,null,null,"target sequence",{"$f":"$G$3","v":211},{"$f":"$G$3","v":211},{"$f":"$G$3","v":211},{"$f":"$G$3","v":211},{"$f":"$G$3","v":211},{"$f":"$G$3","v":211}]
[12,2089,13,2095,13,2101,null,null,null,null,0,111,null,null,"total reinforcement",{"$f":"U11","v":0},{"$f":"Z11","v":0},{"$f":"AE11","v":0},{"$f":"AJ11","v":0},{"$f":"AO11","v":0},{"$f":"AT11","v":0}]
[12,2208,13,2213,13,2219,null,null,null,null,0,111,null,null,"% target"]
[12,2321,13,2327,13,2346,null,null,null,null,0,111,null,null,"CCRF"]
[12,2447,13,2453,13,2459,null,null,null,null,0,111,null,null,"% CCRf"]
[12,2563,13,2569,13,2577,null,null,null,null,0,111,null,null,"average response rate",{"$f":"F40/P20","v":118.05882352941177},{"$f":"(F73-F40)/Q20","v":119.3030303030303},{"$f":"(F107-F73)/R20","v":120.14705882352941},{"$f":"(F141-F107)/S20","v":118},{"$f":"(F174-F141)/T20","v":118.57575757575758},{"$f":"(F208-F174)/U20","v":116.14705882352941}]
[12,2683,13,2690,13,2711,null,null,null,null,0,111]
[12,2821,13,2826,13,2831,null,null,null,null,0,111]
[12,2929,13,2940,13,2946,null,null,null,null,0,111]
[12,3047,13,3053,13,3059,null,null,null,null,0,111]
[12,3163,13,3169,13,3176,null,null,null,null,0,111]
[12,3285,13,3291,13,3300,null,null,null,null,0,111]
[12,3403,13,3409,13,3415,null,null,null,null,0,111]
[12,3516,13,3523,13,3534,null,null,null,null,0,111]
[12,3640,13,3648,13,3655,null,null,null,null,0,111]
[12,3761,13,3768,13,3776,null,null,null,null,0,111]
[12,3879,13,3886,13,3895,null,null,null,null,0,111]
[12,3995,13,4007,13,4014,null,null,null,null,0,111]
[12,4123,13,4128,13,4136,null,null,null,null,0,111]
[12,4244,13,4254,13,4262,null,null,null,null,0,111]
[12,4368,13,4374,13,4380,null,null,null,null,0,111]
[12,4499,13,4505,13,4514,null,null,null,null,0,111]
[12,4617,13,4623,13,4630,null,null,null,null,0,111]
[12,4732,13,4738,13,4750,null,null,null,null,0,111]
[12,4846,13,4853,13,4859,null,null,null,null,0,111]
[12,4966,13,4971,13,4978,null,null,null,null,0,111]
[12,5080,13,5086,13,5092,null,null,null,null,0,111]
[12,5198,13,5203,13,5210,null,null,null,null,0,111]
[12,5307,13,5312,13,5319,null,null,null,null,0,111]
[12,5423,13,5429,13,5436,null,null,null,null,0,111]
[12,5535,13,5543,13,5551,null,null,null,null,0,111]
[12,5652,13,5657,13,5663,null,null,null,null,0,111]
[12,5809,13,5819,13,5827,null,null,null,null,0,111]
[12,5927,13,5940,13,5949,null,null,null,null,0,111]
[12,6061,13,6067,13,6086,null,null,null,null,0,111]
[12,6191,13,6196,13,6202,null,null,null,null,0,111]
[12,6308,13,6313,13,6319,null,null,null,null,0,111]
[12,6420,13,6427,13,6434,null,null,null,null,0,111]
[12,6537,13,6544,13,6550,null,null,null,null,0,111]
[12,6648,13,6654,13,6660,null,null,null,null,0,111]
[12,6767,13,6773,13,6781,null,null,null,null,0,111]
[12,6884,13,6890,13,6895,null,null,null,null,0,111]
[12,6997,13,7004,13,7017,null,null,null,null,0,111]
[12,7121,13,7127,13,7133,null,null,null,null,0,111]
[12,7240,13,7246,13,7252,null,null,null,null,0,111]
[12,7352,13,7357,13,7363,null,null,null,null,0,111]
[12,7462,13,7467,13,7472,null,null,null,null,0,111]
[12,7573,13,7580,13,7596,null,null,null,null,0,111]
[12,7702,13,7708,13,7716,null,null,null,null,0,111]
[12,7819,13,7825,13,7831,null,null,null,null,0,111]
[12,7935,13,7940,13,7951,null,null,null,null,0,111]
[12,8055,13,8069,13,8080,null,null,null,null,0,111]
[12,8179,13,8184,13,8197,null,null,null,null,0,111]
[12,8301,13,8307,13,8312,null,null,null,null,0,111]
[12,8428,13,8435,13,8443,null,null,null,null,0,111]
[12,8547,13,8553,13,8558,null,null,null,null,0,111]
[12,8659,13,8669,13,8683,null,null,null,null,0,111]
[12,8808,13,8813,13,8819,null,null,null,null,0,111]
[12,8921,13,8926,13,8931,null,null,null,null,0,111]
[12,9050,13,9057,13,9066,null,null,null,null,0,111]
[12,9168,13,9174,13,9181,null,null,null,null,0,111]
[12,9283,13,9294,13,9299,null,null,null,null,0,111]
[12,9400,13,9407,13,9412,null,null,null,null,0,111]
[12,9518,13,9524,13,9530,null,null,null,null,0,111]
[12,9634,13,9641,24,9666,null,null,null,null,0,112]
[12,9772,13,9783,13,9793,null,null,null,null,0,111]
[12,9895,13,9900,13,9907,null,null,null,null,0,111]
[12,10009,13,10015,13,10026,null,null,null,null,0,111]
[12,10128,13,10134,13,10140,null,null,null,null,0,111]
[12,10245,13,10251,13,10259,null,null,null,null,0,111]
[12,10368,13,10373,13,10379,null,null,null,null,0,111]
[12,10485,13,10491,13,10497,null,null,null,null,0,111]
[12,10604,13,10609,13,10616,null,null,null,null,0,111]
[12,10724,13,10730,13,10735,null,null,null,null,0,111]
[12,10845,13,10850,13,10857,null,null,null,null,0,111]
[12,10964,13,10969,13,10978,null,null,null,null,0,111]
[12,11082,13,11087,13,11093,null,null,null,null,0,111]
[12,11192,13,11198,13,11204,null,null,null,null,0,111]
[12,11302,13,11309,13,11314,null,null,null,null,0,111]
[12,11416,13,11422,13,11428,null,null,null,null,0,111]
[12,11535,13,11542,13,11548,null,null,null,null,0,111]
[12,11663,13,11671,13,11680,null,null,null,null,0,111]
[12,11779,13,11784,13,11792,null,null,null,null,0,111]
[12,11894,13,11905,13,11913,null,null,null,null,0,111]
[12,12020,13,12027,13,12036,null,null,null,null,0,111]
[12,12139,13,12145,13,12151,null,null,null,null,0,111]
[12,12258,13,12263,13,12268,null,null,null,null,0,111]
[12,12374,13,12379,13,12385,null,null,null,null,0,111]
[12,12490,13,12499,13,12509,null,null,null,null,0,111]
[12,12608,13,12615,13,12621,null,null,null,null,0,111]
[12,12724,13,12732,13,12738,null,null,null,null,0,111]
[12,12850,13,12863,13,12870,null,null,null,null,0,111]
[12,12980,13,12985,13,13002,null,null,null,null,0,111]
[12,13105,13,13111,13,13117,null,null,null,null,0,111]
[12,13221,13,13227,13,13234,null,null,null,null,0,111]
[12,13341,13,13347,13,13353,null,null,null,null,0,111]
[12,13462,13,13468,13,13474,null,null,null,null,0,111]
[12,13575,13,13581,13,13586,null,null,null,null,0,111]
[12,13690,13,13696,13,13702,null,null,null,null,0,111]
[12,13806,13,13811,13,13817,null,null,null,null,0,111]
[12,13921,13,13926,13,13932,null,null,null,null,0,111]
[12,14036,13,14042,13,14048,null,null,null,null,0,111]
[12,14148,13,14155,13,14168,null,null,null,null,0,111]
[12,14269,13,14274,13,14281,null,null,null,null,0,111]
[12,14380,13,14386,13,14395,null,null,null,null,0,111]
[12,14534,13,14543,13,14552,null,null,null,null,0,111]
[12,14654,13,14659,13,14664,null,null,null,null,0,111]
[12,14764,13,14770,13,14775,null,null,null,null,0,111]
[12,14874,13,14879,13,14885,null,null,null,null,0,111]
[12,14987,13,14991,13,15001,null,null,null,null,0,111]
[12,15105,13,15110,13,15115,null,null,null,null,0,111]
[12,15217,13,15223,13,15231,null,null,null,null,0,111]
[12,15335,13,15340,13,15347,null,null,null,null,0,111]
[12,15455,13,15460,13,15468,null,null,null,null,0,111]
[12,15571,13,15576,13,15582,null,null,null,null,0,111]
[12,15691,13,15697,13,15703,null,null,null,null,0,111]
[12,15803,13,15810,13,15815,null,null,null,null,0,111]
[12,15923,13,15930,13,15937,null,null,null,null,0,111]
[12,16036,13,16042,13,16048,null,null,null,null,0,111]
[12,16158,13,16167,13,16175,null,null,null,null,0,111]
[12,16284,13,16289,13,16295,null,null,null,null,0,111]
[12,16394,13,16399,13,16406,null,null,null,null,0,111]
[12,16502,13,16509,13,16515,null,null,null,null,0,111]
[12,16614,13,16622,13,16631,null,null,null,null,0,111]
[12,16739,13,16745,13,16749,null,null,null,null,0,111]
[12,16850,13,16855,13,16861,null,null,null,null,0,111]
[12,16964,13,16971,13,16982,null,null,null,null,0,111]
[12,17083,13,17090,13,17095,null,null,null,null,0,111]
[12,17241,13,17248,13,17254,null,null,null,null,0,111]
[12,17359,13,17366,13,17374,null,null,null,null,0,111]
[12,17471,13,17476,13,17481,null,null,null,null,0,111]
[12,17584,13,17589,13,17595,null,null,null,null,0,111]
[12,17705,13,17716,13,17725,null,null,null,null,0,111]
[12,17832,13,17841,13,17850,null,null,null,null,0,111]
[12,17953,13,17958,13,17964,null,null,null,null,0,111]
[12,18065,13,18071,13,18077,null,null,null,null,0,111]
[12,18177,13,18183,13,18189,null,null,null,null,0,111]
[12,18291,13,18297,13,18302,null,null,null,null,0,111]
[12,18412,13,18428,13,18437,null,null,null,null,0,111]
[12,18539,13,18546,13,18551,null,null,null,null,0,111]
[12,18650,13,18659,13,18666,null,null,null,null,0,111]
[12,18772,13,18778,13,18786,null,null,null,null,0,111]
[12,18886,13,18897,13,18905,null,null,null,null,0,111]
[12,19008,13,19015,13,19021,null,null,null,null,0,111]
[12,19120,13,19132,13,19141,null,null,null,null,0,111]
[12,19244,13,19249,13,19254,null,null,null,null,0,111]
[12,19359,13,19365,13,19373,null,null,null,null,0,111]
[12,19483,13,19488,13,19496,null,null,null,null,0,111]
[12,19608,13,19614,13,19620,null,null,null,null,0,111]
[12,19719,13,19725,13,19732,null,null,null,null,0,111]
[12,19832,13,19837,13,19848,null,null,null,null,0,111]
[12,19950,13,19955,13,19961,null,null,null,null,0,111]
[12,20061,13,20068,13,20074,null,null,null,null,0,111]
[12,20174,13,20180,13,20185,null,null,null,null,0,111]
[12,20289,13,20294,13,20300,null,null,null,null,0,111]
[12,20407,13,20412,13,20418,null,null,null,null,0,111]
[12,20522,13,20533,13,20541,null,null,null,null,0,111]
[12,20646,13,20653,13,20659,null,null,null,null,0,111]
[12,20763,13,20769,13,20774,null,null,null,null,0,111]
[12,20872,13,20878,13,20886,null,null,null,null,0,111]
[12,20996,13,21001,13,21010,null,null,null,null,0,111]
[12,21111,13,21117,13,21125,null,null,null,null,0,111]
[12,21226,13,21232,13,21239,null,null,null,null,0,111]
[12,21338,13,21343,13,21349,null,null,null,null,0,111]
[12,21450,13,21455,13,21460,null,null,null,null,0,111]
[12,21559,13,21564,13,21570,null,null,null,null,0,111]
[12,21675,13,21679,13,21684,null,null,null,null,0,111]
[12,21785,13,21790,13,21796,null,null,null,null,0,111]
[12,21900,13,21905,13,21912,null,null,null,null,0,111]
[12,22034,13,22040,13,22056,null,null,null,null,0,111]
[12,22155,13,22162,13,22168,null,null,null,null,0,111]
[12,22269,13,22275,13,22281,null,null,null,null,0,111]
[12,22384,13,22391,13,22400,null,null,null,null,0,111]
[12,22516,13,22522,13,22532,null,null,null,null,0,111]
[12,22632,13,22637,13,22642,null,null,null,null,0,111]
[12,22741,13,22747,13,22753,null,null,null,null,0,111]
[12,22857,13,22863,13,22870,null,null,null,null,0,111]
[12,22971,13,22977,13,22996,null,null,null,null,0,111]
[12,23095,13,23100,13,23106,null,null,null,null,0,111]
[12,23205,13,23210,13,23215,null,null,null,null,0,111]
[12,23317,13,23322,13,23329,null,null,null,null,0,111]
[12,23426,13,23432,13,23440,null,null,null,null,0,111]
[12,23539,13,23543,13,23549,null,null,null,null,0,111]
[12,23659,13,23664,13,23672,null,null,null,null,0,111]
[12,23774,13,23781,13,23790,null,null,null,null,0,111]
[12,23892,13,23897,13,23910,null,null,null,null,0,111]

{"sheet":"!N411B00.010","index":19,"n_rows":204,"n_cols":48,"rows_kept":204,"cut":false,"hidden":false,"merged":[[4,39,4,42],[5,39,5,40],[4,44,4,47],[5,44,5,45],[4,24,4,27],[5,24,5,25],[4,29,4,32],[5,29,5,30],[4,34,4,37],[5,34,5,35],[1,1,1,2],[5,13,5,14],[18,13,18,14],[19,13,19,14],[4,19,4,22],[5,19,5,20]]}
["Report for:!N411B00.010"]
["Date:","<date>"]
["Hen:","<hen>",null,null,null,"Correct Sequence",{"$f":"Start!J2","v":211},null,null,null,null,null,null,null,null,"Total Sequences in Data",{"$f":"4994-COUNTBLANK(L7:L5000)","v":198},null,null,null,null,"Total Sequences in Block Data",{"$f":"COUNTA(L7:L39)","v":33},null,null,null,"Total Sequences in Block Data",{"$f":"COUNTA(L40:L72)","v":33},null,null,null,"Total Sequences in Block Data",{"$f":"COUNTA(L73:L105)","v":33},null,null,null,"Total Sequences in Block Data",{"$f":"COUNTA(L106:L138)","v":33},null,null,null,"Total Sequences in Block Data",{"$f":"COUNTA(L139:L171)","v":33},null,null,null,"Total Sequences in Block Data",{"$f":"COUNTA(L172:L204)","v":33}]
[null,null,null,null,null,null,null,null,null,null,null,null,null,null,null,"Total Sequences in Summary",{"$f":"SUM(O7:O14)","v":198},null,null,null,null,"Total Sequences in Block Summary",{"$f":"SUM(U7:U14)","v":33},null,null,null,"Total Sequences in Block Summary",{"$f":"SUM(Z7:Z14)","v":33},null,null,null,"Total Sequences in Block Summary",{"$f":"SUM(AE7:AE14)","v":33},null,null,null,"Total Sequences in Block Summary",{"$f":"SUM(AJ7:AJ14)","v":33},null,null,null,"Total Sequences in Block Summary",{"$f":"SUM(AO7:AO14)","v":33},null,null,null,"Total Sequences in Block Summary",{"$f":"SUM(AT7:AT14)","v":33}]
[null,null,null,null,null,null,null,null,null,null,null,null,null,null,null,null,null,null,null,"Block 1",null,null,null,null,"Block 2",null,null,null,null,"Block 3",null,null,null,null,"Block 4",null,null,null,null,"Block 5",null,null,null,null,"Block 6"]
["Sequence\nComponent\n1","Time\n1","Sequence\nComponent\n2","Time\n2","Sequence\nComponent\n3","Time\n3","Sequence\nComponent\n4","Time\n4","Sequence\nComponent\n5","Time\n5","Correct?\n0=No 1=Yes","Sequence",null,"Frequency",null,"Relative Frequency","Variability",null,null,"Frequency",null,"Relative Frequency","Variability",null,"Frequency",null,"Relative Frequency","Variability",null,"Frequency",null,"Relative Frequency","Variability",null,"Frequency",null,"Relative Frequency","Variability",null,"Frequency",null,"Relative Frequency","Variability",null,"Frequency",null,"Relative Frequency","Variability"]
[12,13,13,19,13,27,null,null,null,null,0,111,null,111,{"$f":"COUNTIF($L$7:$L$500,N7)","v":196},{"$f":"O7/$Q$4","v":0.98989898989898994},{"$f":"IF(P7=0,0,(P7*((LOG(P7))/LOG(2))))","v":-1.4498828732437689E-2},null,null,{"$f":"N7","v":111},{"$f":"COUNTIF(L7:L39,T7)","v":32},{"$f":"U7/(W4-U11)","v":0.96969696969696972},{"$f":"IF(V7=0,0,(V7*((LOG(V7))/LOG(2))))","v":-4.3048843014257841E-2},null,{"$f":"N7","v":111},{"$f":"COUNTIF(L40:L72,Y7)","v":32},{"$f":"Z7/(AB4-Z11)","v":0.96969696969696972},{"$f":"IF(AA7=0,0,(AA7*((LOG(AA7))/LOG(2))))","v":-4.3048843014257841E-2},null,{"$f":"N7","v":111},{"$f":"COUNTIF(L73:L105,AD7)","v":33},{"$f":"AE7/(AG4-AE11)","v":1},{"$f":"IF(AF7=0,0,(AF7*((LOG(AF7))/LOG(2))))","v":0},null,{"$f":"N7","v":111},{"$f":"COUNTIF(L106:L138,AI7)","v":33},{"$f":"AJ7/(AL4-AJ11)","v":1},{"$f":"IF(AK7=0,0,(AK7*((LOG(AK7))/LOG(2))))","v":0},null,{"$f":"N7","v":111},{"$f":"COUNTIF(L139:L171,AN7)","v":33},{"$f":"AO7/(AQ4-AO11)","v":1},{"$f":"IF(AP7=0,0,(AP7*((LOG(AP7))/LOG(2))))","v":0},null,{"$f":"N7","v":111},{"$f":"COUNTIF(L172:L204,AS7)","v":33},{"$f":"AT7/(AV4-AT11)","v":1},{"$f":"IF(AU7=0,0,(AU7*((LOG(AU7))/LOG(2))))","v":0}]
[12,136,13,144,13,154,null,null,null,null,0,111,null,112,{"$f":"COUNTIF($L$7:$L$500,N8)","v":1},{"$f":"O8/$Q$4","v":5.0505050505050509E-3},{"$f":"IF(P8=0,0,(P8*((LOG(P8))/LOG(2))))","v":-3.8532104141816209E-2},null,null,{"$f":"N8","v":112},{"$f":"COUNTIF(L7:L39,T8)","v":1},{"$f":"U8/(W4-U11)","v":3.0303030303030304E-2},{"$f":"IF(V8=0,0,(V8*((LOG(V8))/LOG(2))))","v":-0.15286042785934709},null,{"$f":"N8","v":112},{"$f":"COUNTIF(L40:L72,Y8)","v":0},{"$f":"Z8/(AB4-Z11)","v":0},{"$f":"IF(AA8=0,0,(AA8*((LOG(AA8))/LOG(2))))","v":0},null,{"$f":"N8","v":112},{"$f":"COUNTIF(L73:L105,AD8)","v":0},{"$f":"AE8/(AG4-AE11)","v":0},{"$f":"IF(AF8=0,0,(AF8*((LOG(AF8))/LOG(2))))","v":0},null,{"$f":"N8","v":112},{"$f":"COUNTIF(L106:L138,AI8)","v":0},{"$f":"AJ8/(AL4-AJ11)","v":0},{"$f":"IF(AK8=0,0,(AK8*((LOG(AK8))/LOG(2))))","v":0},null,{"$f":"N8","v":112},{"$f":"COUNTIF(L139:L171,AN8)","v":0},{"$f":"AO8/(AQ4-AO11)","v":0},{"$f":"IF(AP8=0,0,(AP8*((LOG(AP8))/LOG(2))))","v":0},null,{"$f":"N8","v":112},{"$f":"COUNTIF(L172:L204,AS8)","v":0},{"$f":"AT8/(AV4-AT11)","v":0},{"$f":"IF(AU8=0,0,(AU8*((LOG(AU8))/LOG(2))))","v":0}]
[12,255,13,266,13,272,null,null,null,null,0,111,null,121,{"$f":"COUNTIF($L$7:$L$500,N9)","v":0},{"$f":"O9/$Q$4","v":0},{"$f":"IF(P9=0,0,(P9*((LOG(P9))/LOG(2))))","v":0},null,null,{"$f":"N9","v":121},{"$f":"COUNTIF(L7:L39,T9)","v":0},{"$f":"U9/(W4-U11)","v":0},{"$f":"IF(V9=0,0,(V9*((LOG(V9))/LOG(2))))","v":0},null,{"$f":"N9","v":121},{"$f":"COUNTIF(L40:L72,Y9)","v":0},{"$f":"Z9/(AB4-Z11)","v":0},{"$f":"IF(AA9=0,0,(AA9*((LOG(AA9))/LOG(2))))","v":0},null,{"$f":"N9","v":121},{"$f":"COUNTIF(L73:L105,AD9)","v":0},{"$f":"AE9/(AG4-AE11)","v":0},{"$f":"IF(AF9=0,0,(AF9*((LOG(AF9))/LOG(2))))","v":0},null,{"$f":"N9","v":121},{"$f":"COUNTIF(L106:L138,AI9)","v":0},{"$f":"AJ9/(AL4-AJ11)","v":0},{"$f":"IF(AK9=0,0,(AK9*((LOG(AK9))/LOG(2))))","v":0},null,{"$f":"N9","v":121},{"$f":"COUNTIF(L139:L171,AN9)","v":0},{"$f":"AO9/(AQ4-AO11)","v":0},{"$f":"IF(AP9=0,0,(AP9*((LOG(AP9))/LOG(2))))","v":0},null,{"$f":"N9","v":121},{"$f":"COUNTIF(L172:L204,AS9)","v":0},{"$f":"AT9/(AV4-AT11)","v":0},{"$f":"IF(AU9=0,0,(AU9*((LOG(AU9))/LOG(2))))","v":0}]
[12,386,13,393,13,402,null,null,null,null,0,111,null,122,{"$f":"COUNTIF($L$7:$L$500,N10)","v":1},{"$f":"O10/$Q$4","v":5.0505050505050509E-3},{"$f":"IF(P10=0,0,(P10*((LOG(P10))/LOG(2))))","v":-3.8532104141816209E-2},null,null,{"$f":"N10","v":122},{"$f":"COUNTIF(L7:L39,T10)","v":0},{"$f":"U10/(W4-U11)","v":0},{"$f":"IF(V10=0,0,(V10*((LOG(V10))/LOG(2))))","v":0},null,{"$f":"N10","v":122},{"$f":"COUNTIF(L40:L72,Y10)","v":1},{"$f":"Z10/(AB4-Z11)","v":3.0303030303030304E-2},{"$f":"IF(AA10=0,0,(AA10*((LOG(AA10))/LOG(2))))","v":-0.15286042785934709},null,{"$f":"N10","v":122},{"$f":"COUNTIF(L73:L105,AD10)","v":0},{"$f":"AE10/(AG4-AE11)","v":0},{"$f":"IF(AF10=0,0,(AF10*((LOG(AF10))/LOG(2))))","v":0},null,{"$f":"N10","v":122},{"$f":"COUNTIF(L106:L138,AI10)","v":0},{"$f":"AJ10/(AL4-AJ11)","v":0},{"$f":"IF(AK10=0,0,(AK10*((LOG(AK10))/LOG(2))))","v":0},null,{"$f":"N10","v":122},{"$f":"COUNTIF(L139:L171,AN10)","v":0},{"$f":"AO10/(AQ4-AO11)","v":0},{"$f":"IF(AP10=0,0,(AP10*((LOG(AP10))/LOG(2))))","v":0},null,{"$f":"N10","v":122},{"$f":"COUNTIF(L172:L204,AS10)","v":0},{"$f":"AT10/(AV4-AT11)","v":0},{"$f":"IF(AU10=0,0,(AU10*((LOG(AU10))/LOG(2))))","v":0}]
[12,506,13,512,13,517,null,null,null,null,0,111,null,211,{"$f":"COUNTIF($L$7:$L$500,N11)","v":0},{"$f":"O11/$Q$4","v":0},{"$f":"IF(P11=0,0,(P11*((LOG(P11))/LOG(2))))","v":0},null,null,{"$f":"N11","v":211},{"$f":"COUNTIF(L7:L39,T11)","v":0},null,null,null,{"$f":"N11","v":211},{"$f":"COUNTIF(L40:L72,Y11)","v":0},null,null,null,{"$f":"N11","v":211},{"$f":"COUNTIF(L73:L105,AD11)","v":0},null,null,null,{"$f":"N11","v":211},{"$f":"COUNTIF(L106:L138,AI11)","v":0},null,null,null,{"$f":"N11","v":211},{"$f":"COUNTIF(L139:L171,AN11)","v":0},null,null,null,{"$f":"N11","v":211},{"$f":"COUNTIF(L172:L204,AS11)","v":0}]
[12,610,13,617,13,626,null,null,null,null,0,111,null,212,{"$f":"COUNTIF($L$7:$L$500,N12)","v":0},{"$f":"O12/$Q$4","v":0},{"$f":"IF(P12=0,0,(P12*((LOG(P12))/LOG(2))))","v":0},null,null,{"$f":"N12","v":212},{"$f":"COUNTIF(L7:L39,T12)","v":0},{"$f":"U12/(W4-U11)","v":0},{"$f":"IF(V12=0,0,(V12*((LOG(V12))/LOG(2))))","v":0},null,{"$f":"N12","v":212},{"$f":"COUNTIF(L40:L72,Y12)","v":0},{"$f":"Z12/(AB4-Z11)","v":0},{"$f":"IF(AA12=0,0,(AA12*((LOG(AA12))/LOG(2))))","v":0},null,{"$f":"N12","v":212},{"$f":"COUNTIF(L73:L105,AD12)","v":0},{"$f":"AE12/(AG4-AE11)","v":0},{"$f":"IF(AF12=0,0,(AF12*((LOG(AF12))/LOG(2))))","v":0},null,{"$f":"N12","v":212},{"$f":"COUNTIF(L106:L138,AI12)","v":0},{"$f":"AJ12/(AL4-AJ11)","v":0},{"$f":"IF(AK12=0,0,(AK12*((LOG(AK12))/LOG(2))))","v":0},null,{"$f":"N12","v":212},{"$f":"COUNTIF(L139:L171,AN12)","v":0},{"$f":"AO12/(AQ4-AO11)","v":0},{"$f":"IF(AP12=0,0,(AP12*((LOG(AP12))/LOG(2))))","v":0},null,{"$f":"N12","v":212},{"$f":"COUNTIF(L172:L204,AS12)","v":0},{"$f":"AT12/(AV4-AT11)","v":0},{"$f":"IF(AU12=0,0,(AU12*((LOG(AU12))/LOG(2))))","v":0}]
[12,725,13,731,13,739,null,null,null,null,0,111,null,221,{"$f":"COUNTIF($L$7:$L$500,N13)","v":0},{"$f":"O13/$Q$4","v":0},{"$f":"IF(P13=0,0,(P13*((LOG(P13))/LOG(2))))","v":0},null,null,{"$f":"N13","v":221},{"$f":"COUNTIF(L7:L39,T13)","v":0},{"$f":"U13/(W4-U11)","v":0},{"$f":"IF(V13=0,0,(V13*((LOG(V13))/LOG(2))))","v":0},null,{"$f":"N13","v":221},{"$f":"COUNTIF(L40:L72,Y13)","v":0},{"$f":"Z13/(AB4-Z11)","v":0},{"$f":"IF(AA13=0,0,(AA13*((LOG(AA13))/LOG(2))))","v":0},null,{"$f":"N13","v":221},{"$f":"COUNTIF(L73:L105,AD13)","v":0},{"$f":"AE13/(AG4-AE11)","v":0},{"$f":"IF(AF13=0,0,(AF13*((LOG(AF13))/LOG(2))))","v":0},null,{"$f":"N13","v":221},{"$f":"COUNTIF(L106:L138,AI13)","v":0},{"$f":"AJ13/(AL4-AJ11)","v":0},{"$f":"IF(AK13=0,0,(AK13*((LOG(AK13))/LOG(2))))","v":0},null,{"$f":"N13","v":221},{"$f":"COUNTIF(L139:L171,AN13)","v":0},{"$f":"AO13/(AQ4-AO11)","v":0},{"$f":"IF(AP13=0,0,(AP13*((LOG(AP13))/LOG(2))))","v":0},null,{"$f":"N13","v":221},{"$f":"COUNTIF(L172:L204,AS13)","v":0},{"$f":"AT13/(AV4-AT11)","v":0},{"$f":"IF(AU13=0,0,(AU13*((LOG(AU13))/LOG(2))))","v":0}]
[12,838,13,843,13,849,null,null,null,null,0,111,null,222,{"$f":"COUNTIF($L$7:$L$500,N14)","v":0},{"$f":"O14/$Q$4","v":0},{"$f":"IF(P14=0,0,(P14*((LOG(P14))/LOG(2))))","v":0},null,null,{"$f":"N14","v":222},{"$f":"COUNTIF(L7:L39,T14)","v":0},{"$f":"U14/(W4-U11)","v":0},{"$f":"IF(V14=0,0,(V14*((LOG(V14))/LOG(2))))","v":0},null,{"$f":"N14","v":222},{"$f":"COUNTIF(L40:L72,Y14)","v":0},{"$f":"Z14/(AB4-Z11)","v":0},{"$f":"IF(AA14=0,0,(AA14*((LOG(AA14))/LOG(2))))","v":0},null,{"$f":"N14","v":222},{"$f":"COUNTIF(L73:L105,AD14)","v":0},{"$f":"AE14/(AG4-AE11)","v":0},{"$f":"IF(AF14=0,0,(AF14*((LOG(AF14))/LOG(2))))","v":0},null,{"$f":"N14","v":222},{"$f":"COUNTIF(L106:L138,AI14)","v":0},{"$f":"AJ14/(AL4-AJ11)","v":0},{"$f":"IF(AK14=0,0,(AK14*((LOG(AK14))/LOG(2))))","v":0},null,{"$f":"N14","v":222},{"$f":"COUNTIF(L139:L171,AN14)","v":0},{"$f":"AO14/(AQ4-AO11)","v":0},{"$f":"IF(AP14=0,0,(AP14*((LOG(AP14))/LOG(2))))","v":0},null,{"$f":"N14","v":222},{"$f":"COUNTIF(L172:L204,AS14)","v":0},{"$f":"AT14/(AV4-AT11)","v":0},{"$f":"IF(AU14=0,0,(AU14*((LOG(AU14))/LOG(2))))","v":0}]
[12,946,13,951,13,962,null,null,null,null,0,111,null,null,null,{"$f":"SUM(P7:P14)","v":1},{"$f":"-SUM(Q7:Q14)","v":9.1563037016070103E-2},null,null,null,null,{"$f":"SUM(V7:V14)","v":1},{"$f":"-SUM(W7:W14)","v":0.19590927087360493},null,null,null,{"$f":"SUM(AA7:AA14)","v":1},{"$f":"-SUM(AB7:AB14)","v":0.19590927087360493},null,null,null,{"$f":"SUM(AF7:AF14)","v":1},{"$f":"-SUM(AG7:AG14)","v":0},null,null,null,{"$f":"SUM(AK7:AK14)","v":1},{"$f":"-SUM(AL7:AL14)","v":0},null,null,null,{"$f":"SUM(AP7:AP14)","v":1},{"$f":"-SUM(AQ7:AQ14)","v":0},null,null,null,{"$f":"SUM(AU7:AU14)","v":1},{"$f":"-SUM(AV7:AV14)","v":0}]
[12,1061,13,1067,13,1073,null,null,null,null,0,111,null,null,null,"U=",{"$f":"Q15/(LOG(Q4)/LOG(2))","v":1.2001410023891986E-2},null,null,null,null,"U1=",{"$f":"W15/(LOG(W4)/LOG(2))","v":3.8837027051827726E-2},null,null,null,"U2=",{"$f":"AB15/(LOG(AB4)/LOG(2))","v":3.8837027051827726E-2},null,null,null,"U3=",{"$f":"AG15/(LOG(AG4)/LOG(2))","v":0},null,null,null,"U4=",{"$f":"AL15/(LOG(AL4)/LOG(2))","v":0},null,null,null,"U5=",{"$f":"AQ15/(LOG(AQ4)/LOG(2))","v":0},null,null,null,"U6=",{"$f":"AV15/(LOG(AV4)/LOG(2))","v":0}]
[12,1182,13,1187,13,1192,null,null,null,null,0,111]
[12,1290,13,1295,13,1301,null,null,null,null,0,111]
[12,1401,13,1406,13,1419,null,null,null,null,0,111,null,"Total Target Seq"]
[12,1517,13,1522,13,1527,null,null,null,null,0,111,null,{"$f":"COUNTIF(L7:L204,G3)","v":0},null,33,33,33,33,33,33]
[12,1630,13,1635,13,1642,null,null,null,null,0,111,null,null,null,"% of reinforcement given in 6 equal intervals based on number of trials "]
[12,1739,13,1744,13,1752,null,null,null,null,0,111,null,null,null,"%_1","%_2","%_3","%_4","%_5","%_6"]
[12,1854,13,1859,13,1866,null,null,null,null,0,111,null,null,"target sequence",{"$f":"$G$3","v":211},{"$f":"$G$3","v":211},{"$f":"$G$3","v":211},{"$f":"$G$3","v":211},{"$f":"$G$3","v":211},{"$f":"$G$3","v":211}]
[12,1967,13,1977,13,1983,null,null,null,null,0,111,null,null,"total reinforcement",{"$f":"U11","v":0},{"$f":"Z11","v":0},{"$f":"AE11","v":0},{"$f":"AJ11","v":0},{"$f":"AO11","v":0},{"$f":"AT11","v":0}]
[12,2086,13,2092,13,2099,null,null,null,null,0,111,null,null,"% target"]
[12,2206,13,2213,13,2218,null,null,null,null,0,111,null,null,"CCRF"]
[12,2316,13,2321,13,2327,null,null,null,null,0,111,null,null,"% CCRf"]
[12,2436,13,2442,13,2449,null,null,null,null,0,111,null,null,"average response rate",{"$f":"F39/P20","v":114.75757575757575},{"$f":"(F72-F39)/Q20","v":124.75757575757575},{"$f":"(F105-F72)/R20","v":121.90909090909091},{"$f":"(F138-F105)/S20","v":120.12121212121212},{"$f":"(F171-F138)/T20","v":123.09090909090909},{"$f":"(F204-F171)/U20","v":120.06060606060606}]
[12,2548,13,2553,13,2559,null,null,null,null,0,111]
[12,2661,13,2673,13,2679,null,null,null,null,0,111]
[12,2784,13,2790,13,2799,null,null,null,null,0,111]
[12,2896,13,2905,13,2910,null,null,null,null,0,111]
[12,3018,13,3024,13,3030,null,null,null,null,0,111]
[12,3130,13,3136,13,3177,null,null,null,null,0,111]
[12,3286,13,3293,13,3301,null,null,null,null,0,111]
[12,3405,13,3412,13,3421,null,null,null,null,0,111]
[12,3528,13,3533,13,3541,null,null,null,null,0,111]
[12,3649,13,3659,13,3666,null,null,null,null,0,111]
[12,3767,13,3773,24,3787,null,null,null,null,0,112]
[12,3891,13,3897,13,3909,null,null,null,null,0,111]
[12,4010,13,4022,13,4027,null,null,null,null,0,111]
[12,4128,13,4135,13,4147,null,null,null,null,0,111]
[12,4252,13,4257,13,4264,null,null,null,null,0,111]
[12,4362,13,4368,13,4381,null,null,null,null,0,111]
[12,4485,13,4491,13,4497,null,null,null,null,0,111]
[12,4598,13,4604,13,4610,null,null,null,null,0,111]
[12,4715,13,4721,13,4729,null,null,null,null,0,111]
[12,4831,13,4838,13,4846,null,null,null,null,0,111]
[12,4974,13,4982,13,4991,null,null,null,null,0,111]
[12,5088,13,5106,13,5111,null,null,null,null,0,111]
[12,5224,13,5233,13,5280,null,null,null,null,0,111]
[12,5381,13,5408,13,5417,null,null,null,null,0,111]
[12,5516,13,5524,13,5530,null,null,null,null,0,111]
[12,5637,13,5643,13,5650,null,null,null,null,0,111]
[12,5751,13,5757,13,5763,null,null,null,null,0,111]
[12,5869,13,5874,13,5885,null,null,null,null,0,111]
[12,6000,13,6025,13,6072,null,null,null,null,0,111]
[12,6176,13,6182,13,6190,null,null,null,null,0,111]
[12,6291,13,6296,13,6303,null,null,null,null,0,111]
[12,6408,13,6423,13,6437,null,null,null,null,0,111]
[12,6540,13,6546,13,6558,null,null,null,null,0,111]
[12,6662,13,6669,13,6674,null,null,null,null,0,111]
[12,6775,13,6781,13,6797,null,null,null,null,0,111]
[12,6896,13,6906,13,6919,null,null,null,null,0,111]
[12,7017,13,7027,13,7038,null,null,null,null,0,111]
[12,7135,13,7142,13,7149,null,null,null,null,0,111]
[12,7249,24,7276,24,7285,null,null,null,null,0,122]
[12,7384,13,7397,13,7412,null,null,null,null,0,111]
[12,7515,13,7522,13,7539,null,null,null,null,0,111]
[12,7641,13,7652,13,7667,null,null,null,null,0,111]
[12,7771,13,7777,13,7787,null,null,null,null,0,111]
[12,7888,13,7896,13,7904,null,null,null,null,0,111]
[12,8015,13,8040,13,8049,null,null,null,null,0,111]
[12,8152,13,8158,13,8169,null,null,null,null,0,111]
[12,8280,13,8286,13,8295,null,null,null,null,0,111]
[12,8408,13,8415,13,8424,null,null,null,null,0,111]
[12,8528,13,8533,13,8555,null,null,null,null,0,111]
[12,8662,13,8668,13,8674,null,null,null,null,0,111]
[12,8775,13,8781,13,8787,null,null,null,null,0,111]
[12,8885,13,8891,13,8898,null,null,null,null,0,111]
[12,9001,13,9007,13,9013,null,null,null,null,0,111]
[12,9114,13,9119,13,9124,null,null,null,null,0,111]
[12,9225,13,9232,13,9247,null,null,null,null,0,111]
[12,9353,13,9359,13,9364,null,null,null,null,0,111]
[12,9473,13,9479,13,9487,null,null,null,null,0,111]
[12,9589,13,9595,13,9601,null,null,null,null,0,111]
[12,9700,13,9705,13,9711,null,null,null,null,0,111]
[12,9812,13,9829,13,9834,null,null,null,null,0,111]
[12,9939,13,9946,13,9954,null,null,null,null,0,111]
[12,10055,13,10061,13,10067,null,null,null,null,0,111]
[12,10173,13,10179,13,10185,null,null,null,null,0,111]
[12,10288,13,10294,13,10300,null,null,null,null,0,111]
[12,10415,13,10421,13,10431,null,null,null,null,0,111]
[12,10533,13,10538,13,10543,null,null,null,null,0,111]
[12,10642,13,10660,13,10670,null,null,null,null,0,111]
[12,10771,13,10775,13,10783,null,null,null,null,0,111]
[12,10886,13,10892,13,10900,null,null,null,null,0,111]
[12,11007,13,11012,13,11021,null,null,null,null,0,111]
[12,11131,13,11136,13,11143,null,null,null,null,0,111]
[12,11245,13,11250,13,11260,null,null,null,null,0,111]
[12,11364,13,11368,13,11374,null,null,null,null,0,111]
[12,11473,13,11479,13,11489,null,null,null,null,0,111]
[12,11590,13,11596,13,11609,null,null,null,null,0,111]
[12,11726,13,11737,13,11766,null,null,null,null,0,111]
[12,11895,13,11912,13,11927,null,null,null,null,0,111]
[12,12032,13,12039,13,12045,null,null,null,null,0,111]
[12,12150,13,12155,13,12180,null,null,null,null,0,111]
[12,12287,13,12294,13,12302,null,null,null,null,0,111]
[12,12410,13,12423,13,12429,null,null,null,null,0,111]
[12,12536,13,12543,13,12551,null,null,null,null,0,111]
[12,12654,13,12659,13,12665,null,null,null,null,0,111]
[12,12768,13,12779,13,12788,null,null,null,null,0,111]
[12,12890,13,12897,13,12906,null,null,null,null,0,111]
[12,13014,13,13019,13,13029,null,null,null,null,0,111]
[12,13134,13,13141,13,13149,null,null,null,null,0,111]
[12,13255,13,13259,13,13265,null,null,null,null,0,111]
[12,13366,13,13378,13,13389,null,null,null,null,0,111]
[12,13495,13,13502,13,13508,null,null,null,null,0,111]
[12,13623,13,13630,13,13639,null,null,null,null,0,111]
[12,13741,13,13746,13,13752,null,null,null,null,0,111]
[12,13854,13,13858,13,13866,null,null,null,null,0,111]
[12,13966,13,13973,13,13979,null,null,null,null,0,111]
[12,14080,13,14087,13,14094,null,null,null,null,0,111]
[12,14195,13,14202,13,14208,null,null,null,null,0,111]
[12,14320,13,14331,13,14340,null,null,null,null,0,111]
[12,14441,13,14448,13,14456,null,null,null,null,0,111]
[12,14561,13,14568,13,14575,null,null,null,null,0,111]
[12,14678,13,14684,13,14692,null,null,null,null,0,111]
[12,14806,13,14812,13,14819,null,null,null,null,0,111]
[12,14922,13,14928,13,14935,null,null,null,null,0,111]
[12,15032,13,15038,13,15047,null,null,null,null,0,111]
[12,15147,13,15154,13,15163,null,null,null,null,0,111]
[12,15267,13,15272,13,15279,null,null,null,null,0,111]
[12,15379,13,15385,13,15391,null,null,null,null,0,111]
[12,15500,13,15506,13,15515,null,null,null,null,0,111]
[12,15619,13,15626,13,15634,null,null,null,null,0,111]
[12,15756,13,15762,13,15780,null,null,null,null,0,111]
[12,15881,13,15886,13,15891,null,null,null,null,0,111]
[12,15993,13,16004,13,16013,null,null,null,null,0,111]
[12,16119,13,16131,13,16158,null,null,null,null,0,111]
[12,16263,13,16272,13,16280,null,null,null,null,0,111]
[12,16391,13,16396,13,16425,null,null,null,null,0,111]
[12,16532,13,16550,13,16559,null,null,null,null,0,111]
[12,16665,13,16671,13,16685,null,null,null,null,0,111]
[12,16785,13,16790,13,16797,null,null,null,null,0,111]
[12,16900,13,16905,13,16919,null,null,null,null,0,111]
[12,17018,13,17025,13,17040,null,null,null,null,0,111]
[12,17144,13,17149,13,17154,null,null,null,null,0,111]
[12,17254,13,17259,13,17267,null,null,null,null,0,111]
[12,17370,13,17376,13,17382,null,null,null,null,0,111]
[12,17486,13,17493,13,17501,null,null,null,null,0,111]
[12,17599,13,17605,13,17611,null,null,null,null,0,111]
[12,17709,13,17714,13,17720,null,null,null,null,0,111]
[12,17846,13,17852,13,17861,null,null,null,null,0,111]
[12,17968,13,17980,13,18005,null,null,null,null,0,111]
[12,18104,13,18113,13,18120,null,null,null,null,0,111]
[12,18223,13,18230,13,18238,null,null,null,null,0,111]
[12,18338,13,18396,13,18402,null,null,null,null,0,111]
[12,18503,13,18510,13,18525,null,null,null,null,0,111]
[12,18635,13,18641,13,18647,null,null,null,null,0,111]
[12,18751,13,18758,13,18770,null,null,null,null,0,111]
[12,18871,13,18876,13,18883,null,null,null,null,0,111]
[12,18982,13,18993,13,19002,null,null,null,null,0,111]
[12,19104,13,19111,13,19126,null,null,null,null,0,111]
[12,19224,13,19233,13,19239,null,null,null,null,0,111]
[12,19343,13,19355,13,19363,null,null,null,null,0,111]
[12,19469,13,19475,13,19482,null,null,null,null,0,111]
[12,19584,13,19595,13,19610,null,null,null,null,0,111]
[12,19709,13,19714,13,19719,null,null,null,null,0,111]
[12,19820,13,19826,13,19835,null,null,null,null,0,111]
[12,19939,13,19945,13,19953,null,null,null,null,0,111]
[12,20058,13,20064,13,20069,null,null,null,null,0,111]
[12,20169,13,20174,13,20179,null,null,null,null,0,111]
[12,20276,13,20284,13,20291,null,null,null,null,0,111]
[12,20391,13,20403,13,20414,null,null,null,null,0,111]
[12,20521,13,20532,13,20548,null,null,null,null,0,111]
[12,20647,13,20653,13,20660,null,null,null,null,0,111]
[12,20759,13,20764,13,20770,null,null,null,null,0,111]
[12,20880,13,20885,13,20891,null,null,null,null,0,111]
[12,20991,13,21008,13,21016,null,null,null,null,0,111]
[12,21117,13,21123,13,21133,null,null,null,null,0,111]
[12,21231,13,21237,13,21242,null,null,null,null,0,111]
[12,21340,13,21345,13,21352,null,null,null,null,0,111]
[12,21461,13,21466,13,21473,null,null,null,null,0,111]
[12,21574,13,21581,13,21587,null,null,null,null,0,111]
[12,21688,13,21694,13,21700,null,null,null,null,0,111]
[12,21809,13,21822,13,21827,null,null,null,null,0,111]
[12,21930,13,21938,13,21946,null,null,null,null,0,111]
[12,22048,13,22054,13,22061,null,null,null,null,0,111]
[12,22161,13,22167,13,22176,null,null,null,null,0,111]
[12,22275,13,22298,13,22310,null,null,null,null,0,111]
[12,22414,13,22425,13,22433,null,null,null,null,0,111]
[12,22545,13,22550,13,22555,null,null,null,null,0,111]
[12,22660,13,22666,13,22674,null,null,null,null,0,111]
[12,22782,13,22789,13,22799,null,null,null,null,0,111]
[12,22915,13,22920,13,22933,null,null,null,null,0,111]
[12,23032,13,23037,13,23048,null,null,null,null,0,111]
[12,23146,13,23152,13,23158,null,null,null,null,0,111]
[12,23266,13,23271,13,23277,null,null,null,null,0,111]
[12,23384,13,23391,13,23408,null,null,null,null,0,111]
[12,23509,13,23521,13,23536,null,null,null,null,0,111]
[12,23642,13,23648,13,23654,null,null,null,null,0,111]
[12,23757,13,23769,13,23793,null,null,null,null,0,111]
[12,23902,13,23908,13,23915,null,null,null,null,null,111]

{"sheet":"!N412930.010","index":20,"n_rows":210,"n_cols":48,"rows_kept":210,"cut":false,"hidden":false,"merged":[[4,39,4,42],[5,39,5,40],[4,44,4,47],[5,44,5,45],[4,24,4,27],[5,24,5,25],[4,29,4,32],[5,29,5,30],[4,34,4,37],[5,34,5,35],[1,1,1,2],[5,13,5,14],[18,13,18,14],[19,13,19,14],[4,19,4,22],[5,19,5,20]]}
["Report for:!N412930.010"]
["Date:","<date>"]
["Hen:","<hen>",null,null,null,"Correct Sequence",{"$f":"Start!J2","v":211},null,null,null,null,null,null,null,null,"Total Sequences in Data",{"$f":"4994-COUNTBLANK(L7:L5000)","v":204},null,null,null,null,"Total Sequences in Block Data",{"$f":"COUNTA(L7:L40)","v":34},null,null,null,"Total Sequences in Block Data",{"$f":"COUNTA(L41:L74)","v":34},null,null,null,"Total Sequences in Block Data",{"$f":"COUNTA(L75:L108)","v":34},null,null,null,"Total Sequences in Block Data",{"$f":"COUNTA(L109:L142)","v":34},null,null,null,"Total Sequences in Block Data",{"$f":"COUNTA(L143:L176)","v":34},null,null,null,"Total Sequences in Block Data",{"$f":"COUNTA(L177:L210)","v":34}]
[null,null,null,null,null,null,null,null,null,null,null,null,null,null,null,"Total Sequences in Summary",{"$f":"SUM(O7:O14)","v":204},null,null,null,null,"Total Sequences in Block Summary",{"$f":"SUM(U7:U14)","v":34},null,null,null,"Total Sequences in Block Summary",{"$f":"SUM(Z7:Z14)","v":34},null,null,null,"Total Sequences in Block Summary",{"$f":"SUM(AE7:AE14)","v":34},null,null,null,"Total Sequences in Block Summary",{"$f":"SUM(AJ7:AJ14)","v":34},null,null,null,"Total Sequences in Block Summary",{"$f":"SUM(AO7:AO14)","v":34},null,null,null,"Total Sequences in Block Summary",{"$f":"SUM(AT7:AT14)","v":34}]
[null,null,null,null,null,null,null,null,null,null,null,null,null,null,null,null,null,null,null,"Block 1",null,null,null,null,"Block 2",null,null,null,null,"Block 3",null,null,null,null,"Block 4",null,null,null,null,"Block 5",null,null,null,null,"Block 6"]
["Sequence\nComponent\n1","Time\n1","Sequence\nComponent\n2","Time\n2","Sequence\nComponent\n3","Time\n3","Sequence\nComponent\n4","Time\n4","Sequence\nComponent\n5","Time\n5","Correct?\n0=No 1=Yes","Sequence",null,"Frequency",null,"Relative Frequency","Variability",null,null,"Frequency",null,"Relative Frequency","Variability",null,"Frequency",null,"Relative Frequency","Variability",null,"Frequency",null,"Relative Frequency","Variability",null,"Frequency",null,"Relative Frequency","Variability",null,"Frequency",null,"Relative Frequency","Variability",null,"Frequency",null,"Relative Frequency","Variability"]
[12,12,13,20,13,31,null,null,null,null,0,111,null,111,{"$f":"COUNTIF($L$7:$L$500,N7)","v":204},{"$f":"O7/$Q$4","v":1},{"$f":"IF(P7=0,0,(P7*((LOG(P7))/LOG(2))))","v":0},null,null,{"$f":"N7","v":111},{"$f":"COUNTIF(L7:L40,T7)","v":34},{"$f":"U7/(W4-U11)","v":1},{"$f":"IF(V7=0,0,(V7*((LOG(V7))/LOG(2))))","v":0},null,{"$f":"N7","v":111},{"$f":"COUNTIF(L41:L74,Y7)","v":34},{"$f":"Z7/(AB4-Z11)","v":1},{"$f":"IF(AA7=0,0,(AA7*((LOG(AA7))/LOG(2))))","v":0},null,{"$f":"N7","v":111},{"$f":"COUNTIF(L75:L108,AD7)","v":34},{"$f":"AE7/(AG4-AE11)","v":1},{"$f":"IF(AF7=0,0,(AF7*((LOG(AF7))/LOG(2))))","v":0},null,{"$f":"N7","v":111},{"$f":"COUNTIF(L109:L142,AI7)","v":34},{"$f":"AJ7/(AL4-AJ11)","v":1},{"$f":"IF(AK7=0,0,(AK7*((LOG(AK7))/LOG(2))))","v":0},null,{"$f":"N7","v":111},{"$f":"COUNTIF(L143:L176,AN7)","v":34},{"$f":"AO7/(AQ4-AO11)","v":1},{"$f":"IF(AP7=0,0,(AP7*((LOG(AP7))/LOG(2))))","v":0},null,{"$f":"N7","v":111},{"$f":"COUNTIF(L177:L210,AS7)","v":34},{"$f":"AT7/(AV4-AT11)","v":1},{"$f":"IF(AU7=0,0,(AU7*((LOG(AU7))/LOG(2))))","v":0}]
[12,132,13,139,13,146,null,null,null,null,0,111,null,112,{"$f":"COUNTIF($L$7:$L$500,N8)","v":0},{"$f":"O8/$Q$4","v":0},{"$f":"IF(P8=0,0,(P8*((LOG(P8))/LOG(2))))","v":0},null,null,{"$f":"N8","v":112},{"$f":"COUNTIF(L7:L40,T8)","v":0},{"$f":"U8/(W4-U11)","v":0},{"$f":"IF(V8=0,0,(V8*((LOG(V8))/LOG(2))))","v":0},null,{"$f":"N8","v":112},{"$f":"COUNTIF(L41:L74,Y8)","v":0},{"$f":"Z8/(AB4-Z11)","v":0},{"$f":"IF(AA8=0,0,(AA8*((LOG(AA8))/LOG(2))))","v":0},null,{"$f":"N8","v":112},{"$f":"COUNTIF(L75:L108,AD8)","v":0},{"$f":"AE8/(AG4-AE11)","v":0},{"$f":"IF(AF8=0,0,(AF8*((LOG(AF8))/LOG(2))))","v":0},null,{"$f":"N8","v":112},{"$f":"COUNTIF(L109:L142,AI8)","v":0},{"$f":"AJ8/(AL4-AJ11)","v":0},{"$f":"IF(AK8=0,0,(AK8*((LOG(AK8))/LOG(2))))","v":0},null,{"$f":"N8","v":112},{"$f":"COUNTIF(L143:L176,AN8)","v":0},{"$f":"AO8/(AQ4-AO11)","v":0},{"$f":"IF(AP8=0,0,(AP8*((LOG(AP8))/LOG(2))))","v":0},null,{"$f":"N8","v":112},{"$f":"COUNTIF(L177:L210,AS8)","v":0},{"$f":"AT8/(AV4-AT11)","v":0},{"$f":"IF(AU8=0,0,(AU8*((LOG(AU8))/LOG(2))))","v":0}]
[12,247,13,254,13,263,null,null,null,null,0,111,null,121,{"$f":"COUNTIF($L$7:$L$500,N9)","v":0},{"$f":"O9/$Q$4","v":0},{"$f":"IF(P9=0,0,(P9*((LOG(P9))/LOG(2))))","v":0},null,null,{"$f":"N9","v":121},{"$f":"COUNTIF(L7:L40,T9)","v":0},{"$f":"U9/(W4-U11)","v":0},{"$f":"IF(V9=0,0,(V9*((LOG(V9))/LOG(2))))","v":0},null,{"$f":"N9","v":121},{"$f":"COUNTIF(L41:L74,Y9)","v":0},{"$f":"Z9/(AB4-Z11)","v":0},{"$f":"IF(AA9=0,0,(AA9*((LOG(AA9))/LOG(2))))","v":0},null,{"$f":"N9","v":121},{"$f":"COUNTIF(L75:L108,AD9)","v":0},{"$f":"AE9/(AG4-AE11)","v":0},{"$f":"IF(AF9=0,0,(AF9*((LOG(AF9))/LOG(2))))","v":0},null,{"$f":"N9","v":121},{"$f":"COUNTIF(L109:L142,AI9)","v":0},{"$f":"AJ9/(AL4-AJ11)","v":0},{"$f":"IF(AK9=0,0,(AK9*((LOG(AK9))/LOG(2))))","v":0},null,{"$f":"N9","v":121},{"$f":"COUNTIF(L143:L176,AN9)","v":0},{"$f":"AO9/(AQ4-AO11)","v":0},{"$f":"IF(AP9=0,0,(AP9*((LOG(AP9))/LOG(2))))","v":0},null,{"$f":"N9","v":121},{"$f":"COUNTIF(L177:L210,AS9)","v":0},{"$f":"AT9/(AV4-AT11)","v":0},{"$f":"IF(AU9=0,0,(AU9*((LOG(AU9))/LOG(2))))","v":0}]
[12,363,13,369,13,374,null,null,null,null,0,111,null,122,{"$f":"COUNTIF($L$7:$L$500,N10)","v":0},{"$f":"O10/$Q$4","v":0},{"$f":"IF(P10=0,0,(P10*((LOG(P10))/LOG(2))))","v":0},null,null,{"$f":"N10","v":122},{"$f":"COUNTIF(L7:L40,T10)","v":0},{"$f":"U10/(W4-U11)","v":0},{"$f":"IF(V10=0,0,(V10*((LOG(V10))/LOG(2))))","v":0},null,{"$f":"N10","v":122},{"$f":"COUNTIF(L41:L74,Y10)","v":0},{"$f":"Z10/(AB4-Z11)","v":0},{"$f":"IF(AA10=0,0,(AA10*((LOG(AA10))/LOG(2))))","v":0},null,{"$f":"N10","v":122},{"$f":"COUNTIF(L75:L108,AD10)","v":0},{"$f":"AE10/(AG4-AE11)","v":0},{"$f":"IF(AF10=0,0,(AF10*((LOG(AF10))/LOG(2))))","v":0},null,{"$f":"N10","v":122},{"$f":"COUNTIF(L109:L142,AI10)","v":0},{"$f":"AJ10/(AL4-AJ11)","v":0},{"$f":"IF(AK10=0,0,(AK10*((LOG(AK10))/LOG(2))))","v":0},null,{"$f":"N10","v":122},{"$f":"COUNTIF(L143:L176,AN10)","v":0},{"$f":"AO10/(AQ4-AO11)","v":0},{"$f":"IF(AP10=0,0,(AP10*((LOG(AP10))/LOG(2))))","v":0},null,{"$f":"N10","v":122},{"$f":"COUNTIF(L177:L210,AS10)","v":0},{"$f":"AT10/(AV4-AT11)","v":0},{"$f":"IF(AU10=0,0,(AU10*((LOG(AU10))/LOG(2))))","v":0}]
[12,479,13,486,13,492,null,null,null,null,0,111,null,211,{"$f":"COUNTIF($L$7:$L$500,N11)","v":0},{"$f":"O11/$Q$4","v":0},{"$f":"IF(P11=0,0,(P11*((LOG(P11))/LOG(2))))","v":0},null,null,{"$f":"N11","v":211},{"$f":"COUNTIF(L7:L40,T11)","v":0},null,null,null,{"$f":"N11","v":211},{"$f":"COUNTIF(L41:L74,Y11)","v":0},null,null,null,{"$f":"N11","v":211},{"$f":"COUNTIF(L75:L108,AD11)","v":0},null,null,null,{"$f":"N11","v":211},{"$f":"COUNTIF(L109:L142,AI11)","v":0},null,null,null,{"$f":"N11","v":211},{"$f":"COUNTIF(L143:L176,AN11)","v":0},null,null,null,{"$f":"N11","v":211},{"$f":"COUNTIF(L177:L210,AS11)","v":0}]
[12,595,13,601,13,607,null,null,null,null,0,111,null,212,{"$f":"COUNTIF($L$7:$L$500,N12)","v":0},{"$f":"O12/$Q$4","v":0},{"$f":"IF(P12=0,0,(P12*((LOG(P12))/LOG(2))))","v":0},null,null,{"$f":"N12","v":212},{"$f":"COUNTIF(L7:L40,T12)","v":0},{"$f":"U12/(W4-U11)","v":0},{"$f":"IF(V12=0,0,(V12*((LOG(V12))/LOG(2))))","v":0},null,{"$f":"N12","v":212},{"$f":"COUNTIF(L41:L74,Y12)","v":0},{"$f":"Z12/(AB4-Z11)","v":0},{"$f":"IF(AA12=0,0,(AA12*((LOG(AA12))/LOG(2))))","v":0},null,{"$f":"N12","v":212},{"$f":"COUNTIF(L75:L108,AD12)","v":0},{"$f":"AE12/(AG4-AE11)","v":0},{"$f":"IF(AF12=0,0,(AF12*((LOG(AF12))/LOG(2))))","v":0},null,{"$f":"N12","v":212},{"$f":"COUNTIF(L109:L142,AI12)","v":0},{"$f":"AJ12/(AL4-AJ11)","v":0},{"$f":"IF(AK12=0,0,(AK12*((LOG(AK12))/LOG(2))))","v":0},null,{"$f":"N12","v":212},{"$f":"COUNTIF(L143:L176,AN12)","v":0},{"$f":"AO12/(AQ4-AO11)","v":0},{"$f":"IF(AP12=0,0,(AP12*((LOG(AP12))/LOG(2))))","v":0},null,{"$f":"N12","v":212},{"$f":"COUNTIF(L177:L210,AS12)","v":0},{"$f":"AT12/(AV4-AT11)","v":0},{"$f":"IF(AU12=0,0,(AU12*((LOG(AU12))/LOG(2))))","v":0}]
[12,708,13,714,13,724,null,null,null,null,0,111,null,221,{"$f":"COUNTIF($L$7:$L$500,N13)","v":0},{"$f":"O13/$Q$4","v":0},{"$f":"IF(P13=0,0,(P13*((LOG(P13))/LOG(2))))","v":0},null,null,{"$f":"N13","v":221},{"$f":"COUNTIF(L7:L40,T13)","v":0},{"$f":"U13/(W4-U11)","v":0},{"$f":"IF(V13=0,0,(V13*((LOG(V13))/LOG(2))))","v":0},null,{"$f":"N13","v":221},{"$f":"COUNTIF(L41:L74,Y13)","v":0},{"$f":"Z13/(AB4-Z11)","v":0},{"$f":"IF(AA13=0,0,(AA13*((LOG(AA13))/LOG(2))))","v":0},null,{"$f":"N13","v":221},{"$f":"COUNTIF(L75:L108,AD13)","v":0},{"$f":"AE13/(AG4-AE11)","v":0},{"$f":"IF(AF13=0,0,(AF13*((LOG(AF13))/LOG(2))))","v":0},null,{"$f":"N13","v":221},{"$f":"COUNTIF(L109:L142,AI13)","v":0},{"$f":"AJ13/(AL4-AJ11)","v":0},{"$f":"IF(AK13=0,0,(AK13*((LOG(AK13))/LOG(2))))","v":0},null,{"$f":"N13","v":221},{"$f":"COUNTIF(L143:L176,AN13)","v":0},{"$f":"AO13/(AQ4-AO11)","v":0},{"$f":"IF(AP13=0,0,(AP13*((LOG(AP13))/LOG(2))))","v":0},null,{"$f":"N13","v":221},{"$f":"COUNTIF(L177:L210,AS13)","v":0},{"$f":"AT13/(AV4-AT11)","v":0},{"$f":"IF(AU13=0,0,(AU13*((LOG(AU13))/LOG(2))))","v":0}]
[12,822,13,829,13,835,null,null,null,null,0,111,null,222,{"$f":"COUNTIF($L$7:$L$500,N14)","v":0},{"$f":"O14/$Q$4","v":0},{"$f":"IF(P14=0,0,(P14*((LOG(P14))/LOG(2))))","v":0},null,null,{"$f":"N14","v":222},{"$f":"COUNTIF(L7:L40,T14)","v":0},{"$f":"U14/(W4-U11)","v":0},{"$f":"IF(V14=0,0,(V14*((LOG(V14))/LOG(2))))","v":0},null,{"$f":"N14","v":222},{"$f":"COUNTIF(L41:L74,Y14)","v":0},{"$f":"Z14/(AB4-Z11)","v":0},{"$f":"IF(AA14=0,0,(AA14*((LOG(AA14))/LOG(2))))","v":0},null,{"$f":"N14","v":222},{"$f":"COUNTIF(L75:L108,AD14)","v":0},{"$f":"AE14/(AG4-AE11)","v":0},{"$f":"IF(AF14=0,0,(AF14*((LOG(AF14))/LOG(2))))","v":0},null,{"$f":"N14","v":222},{"$f":"COUNTIF(L109:L142,AI14)","v":0},{"$f":"AJ14/(AL4-AJ11)","v":0},{"$f":"IF(AK14=0,0,(AK14*((LOG(AK14))/LOG(2))))","v":0},null,{"$f":"N14","v":222},{"$f":"COUNTIF(L143:L176,AN14)","v":0},{"$f":"AO14/(AQ4-AO11)","v":0},{"$f":"IF(AP14=0,0,(AP14*((LOG(AP14))/LOG(2))))","v":0},null,{"$f":"N14","v":222},{"$f":"COUNTIF(L177:L210,AS14)","v":0},{"$f":"AT14/(AV4-AT11)","v":0},{"$f":"IF(AU14=0,0,(AU14*((LOG(AU14))/LOG(2))))","v":0}]
[12,935,13,940,13,947,null,null,null,null,0,111,null,null,null,{"$f":"SUM(P7:P14)","v":1},{"$f":"-SUM(Q7:Q14)","v":0},null,null,null,null,{"$f":"SUM(V7:V14)","v":1},{"$f":"-SUM(W7:W14)","v":0},null,null,null,{"$f":"SUM(AA7:AA14)","v":1},{"$f":"-SUM(AB7:AB14)","v":0},null,null,null,{"$f":"SUM(AF7:AF14)","v":1},{"$f":"-SUM(AG7:AG14)","v":0},null,null,null,{"$f":"SUM(AK7:AK14)","v":1},{"$f":"-SUM(AL7:AL14)","v":0},null,null,null,{"$f":"SUM(AP7:AP14)","v":1},{"$f":"-SUM(AQ7:AQ14)","v":0},null,null,null,{"$f":"SUM(AU7:AU14)","v":1},{"$f":"-SUM(AV7:AV14)","v":0}]
[12,1059,13,1065,13,1073,null,null,null,null,0,111,null,null,null,"U=",{"$f":"Q15/(LOG(Q4)/LOG(2))","v":0},null,null,null,null,"U1=",{"$f":"W15/(LOG(W4)/LOG(2))","v":0},null,null,null,"U2=",{"$f":"AB15/(LOG(AB4)/LOG(2))","v":0},null,null,null,"U3=",{"$f":"AG15/(LOG(AG4)/LOG(2))","v":0},null,null,null,"U4=",{"$f":"AL15/(LOG(AL4)/LOG(2))","v":0},null,null,null,"U5=",{"$f":"AQ15/(LOG(AQ4)/LOG(2))","v":0},null,null,null,"U6=",{"$f":"AV15/(LOG(AV4)/LOG(2))","v":0}]
[12,1169,13,1175,13,1182,null,null,null,null,0,111]
[12,1286,13,1293,13,1299,null,null,null,null,0,111]
[12,1402,13,1408,13,1414,null,null,null,null,0,111,null,"Total Target Seq"]
[12,1513,13,1519,13,1524,null,null,null,null,0,111,null,{"$f":"COUNTIF(L7:L210,G3)","v":0},null,34,34,34,34,34,34]
[12,1626,13,1632,13,1638,null,null,null,null,0,111,null,null,null,"% of reinforcement given in 6 equal intervals based on number of trials "]
[12,1743,13,1748,13,1753,null,null,null,null,0,111,null,null,null,"%_1","%_2","%_3","%_4","%_5","%_6"]
[12,1873,13,1879,13,1885,null,null,null,null,0,111,null,null,"target sequence",{"$f":"$G$3","v":211},{"$f":"$G$3","v":211},{"$f":"$G$3","v":211},{"$f":"$G$3","v":211},{"$f":"$G$3","v":211},{"$f":"$G$3","v":211}]
[12,1997,13,2003,13,2014,null,null,null,null,0,111,null,null,"total reinforcement",{"$f":"U11","v":0},{"$f":"Z11","v":0},{"$f":"AE11","v":0},{"$f":"AJ11","v":0},{"$f":"AO11","v":0},{"$f":"AT11","v":0}]
[12,2117,13,2122,13,2128,null,null,null,null,0,111,null,null,"% target"]
[12,2237,13,2246,13,2254,null,null,null,null,0,111,null,null,"CCRF"]
[12,2370,13,2375,13,2382,null,null,null,null,0,111,null,null,"% CCRf"]
[12,2481,13,2486,13,2491,null,null,null,null,0,111,null,null,"average response rate",{"$f":"F40/P20","v":115.05882352941177},{"$f":"(F74-F40)/Q20","v":119.79411764705883},{"$f":"(F108-F74)/R20","v":119.32352941176471},{"$f":"(F142-F108)/S20","v":116.44117647058823},{"$f":"(F176-F142)/T20","v":117.26470588235294},{"$f":"(F210-F176)/U20","v":117.29411764705883}]
[12,2588,13,2594,13,2600,null,null,null,null,0,111]
[12,2705,13,2712,13,2719,null,null,null,null,0,111]
[12,2819,13,2825,13,2833,null,null,null,null,0,111]
[12,2942,13,2948,13,2953,null,null,null,null,0,111]
[12,3055,13,3062,13,3069,null,null,null,null,0,111]
[12,3166,13,3171,13,3186,null,null,null,null,0,111]
[12,3293,13,3299,13,3308,null,null,null,null,0,111]
[12,3422,13,3429,13,3434,null,null,null,null,0,111]
[12,3548,13,3556,13,3562,null,null,null,null,0,111]
[12,3668,13,3674,13,3681,null,null,null,null,0,111]
[12,3785,13,3792,13,3798,null,null,null,null,0,111]
[12,3901,13,3906,13,3912,null,null,null,null,0,111]
[12,4018,13,4025,13,4033,null,null,null,null,0,111]
[12,4142,13,4152,13,4158,null,null,null,null,0,111]
[12,4260,13,4265,13,4271,null,null,null,null,0,111]
[12,4376,13,4382,13,4387,null,null,null,null,0,111]
[12,4506,13,4523,13,4553,null,null,null,null,0,111]
[12,4662,13,4667,13,4673,null,null,null,null,0,111]
[12,4773,13,4779,13,4785,null,null,null,null,0,111]
[12,4885,13,4890,13,4895,null,null,null,null,0,111]
[12,4998,13,5004,13,5013,null,null,null,null,0,111]
[12,5119,13,5125,13,5131,null,null,null,null,0,111]
[12,5235,13,5240,13,5251,null,null,null,null,0,111]
[12,5361,13,5367,13,5374,null,null,null,null,0,111]
[12,5476,13,5499,13,5505,null,null,null,null,0,111]
[12,5605,13,5611,13,5619,null,null,null,null,0,111]
[12,5719,13,5726,13,5732,null,null,null,null,0,111]
[12,5837,13,5844,13,5851,null,null,null,null,0,111]
[12,5960,13,5966,13,5972,null,null,null,null,0,111]
[12,6083,13,6088,13,6096,null,null,null,null,0,111]
[12,6198,13,6204,13,6210,null,null,null,null,0,111]
[12,6313,13,6319,13,6325,null,null,null,null,0,111]
[12,6423,13,6429,13,6434,null,null,null,null,0,111]
[12,6541,13,6547,13,6553,null,null,null,null,0,111]
[12,6676,13,6694,13,6703,null,null,null,null,0,111]
[12,6806,13,6811,13,6827,null,null,null,null,0,111]
[12,6937,13,6943,13,6948,null,null,null,null,0,111]
[12,7049,13,7056,13,7076,null,null,null,null,0,111]
[12,7177,13,7182,13,7188,null,null,null,null,0,111]
[12,7291,13,7297,13,7303,null,null,null,null,0,111]
[12,7410,13,7416,13,7422,null,null,null,null,0,111]
[12,7525,13,7531,13,7537,null,null,null,null,0,111]
[12,7636,13,7641,13,7649,null,null,null,null,0,111]
[12,7747,13,7752,13,7758,null,null,null,null,0,111]
[12,7856,13,7861,13,7867,null,null,null,null,0,111]
[12,7972,13,7979,13,7985,null,null,null,null,0,111]
[12,8086,13,8092,13,8101,null,null,null,null,0,111]
[12,8200,13,8206,13,8212,null,null,null,null,0,111]
[12,8318,13,8340,13,8348,null,null,null,null,0,111]
[12,8451,13,8461,13,8467,null,null,null,null,0,111]
[12,8567,13,8572,13,8578,null,null,null,null,0,111]
[12,8677,13,8686,13,8692,null,null,null,null,0,111]
[12,8790,13,8796,13,8802,null,null,null,null,0,111]
[12,8910,13,8916,13,8941,null,null,null,null,0,111]
[12,9044,13,9049,13,9057,null,null,null,null,0,111]
[12,9161,13,9167,13,9173,null,null,null,null,0,111]
[12,9276,13,9285,13,9290,null,null,null,null,0,111]
[12,9393,13,9397,13,9403,null,null,null,null,0,111]
[12,9505,13,9511,13,9527,null,null,null,null,0,111]
[12,9637,13,9642,13,9648,null,null,null,null,0,111]
[12,9754,13,9763,13,9771,null,null,null,null,0,111]
[12,9871,13,9876,13,9881,null,null,null,null,0,111]
[12,9985,13,9989,13,9995,null,null,null,null,0,111]
[12,10096,13,10101,13,10107,null,null,null,null,0,111]
[12,10208,13,10213,13,10219,null,null,null,null,0,111]
[12,10324,13,10329,13,10334,null,null,null,null,0,111]
[12,10431,13,10437,13,10444,null,null,null,null,0,111]
[12,10542,13,10548,13,10553,null,null,null,null,0,111]
[12,10654,13,10659,13,10665,null,null,null,null,0,111]
[12,10796,13,10802,13,10811,null,null,null,null,0,111]
[12,10912,13,10917,13,10922,null,null,null,null,0,111]
[12,11032,13,11037,13,11043,null,null,null,null,0,111]
[12,11157,13,11163,13,11172,null,null,null,null,0,111]
[12,11284,13,11295,13,11305,null,null,null,null,0,111]
[12,11409,13,11414,13,11431,null,null,null,null,0,111]
[12,11536,13,11541,13,11552,null,null,null,null,0,111]
[12,11655,13,11666,13,11671,null,null,null,null,0,111]
[12,11786,13,11798,13,11806,null,null,null,null,0,111]
[12,11914,13,11920,13,11927,null,null,null,null,0,111]
[12,12030,13,12037,13,12042,null,null,null,null,0,111]
[12,12140,13,12146,13,12152,null,null,null,null,0,111]
[12,12261,13,12267,13,12272,null,null,null,null,0,111]
[12,12380,13,12386,13,12391,null,null,null,null,0,111]
[12,12490,13,12494,13,12500,null,null,null,null,0,111]
[12,12601,13,12605,13,12611,null,null,null,null,0,111]
[12,12717,13,12722,13,12727,null,null,null,null,0,111]
[12,12823,13,12828,13,12834,null,null,null,null,0,111]
[12,12934,13,12939,13,12944,null,null,null,null,0,111]
[12,13042,13,13048,13,13054,null,null,null,null,0,111]
[12,13152,13,13158,13,13166,null,null,null,null,0,111]
[12,13265,13,13270,13,13277,null,null,null,null,0,111]
[12,13378,13,13382,13,13388,null,null,null,null,0,111]
[12,13485,13,13489,13,13495,null,null,null,null,0,111]
[12,13609,13,13615,13,13624,null,null,null,null,0,111]
[12,13729,13,13741,13,13750,null,null,null,null,0,111]
[12,13889,13,13896,13,13906,null,null,null,null,0,111]
[12,14008,13,14014,13,14021,null,null,null,null,0,111]
[12,14124,13,14136,13,14144,null,null,null,null,0,111]
[12,14250,13,14256,13,14262,null,null,null,null,0,111]
[12,14363,13,14368,13,14379,null,null,null,null,0,111]
[12,14474,13,14479,13,14486,null,null,null,null,0,111]
[12,14587,13,14593,13,14600,null,null,null,null,0,111]
[12,14703,13,14708,13,14715,null,null,null,null,0,111]
[12,14814,13,14819,13,14823,null,null,null,null,0,111]
[12,14925,13,14931,13,14937,null,null,null,null,0,111]
[12,15040,13,15045,13,15049,null,null,null,null,0,111]
[12,15147,13,15153,13,15159,null,null,null,null,0,111]
[12,15258,13,15265,13,15271,null,null,null,null,0,111]
[12,15371,13,15378,13,15384,null,null,null,null,0,111]
[12,15483,13,15488,13,15495,null,null,null,null,0,111]
[12,15599,13,15605,13,15615,null,null,null,null,0,111]
[12,15734,13,15746,13,15775,null,null,null,null,0,111]
[12,15875,13,15882,13,15888,null,null,null,null,0,111]
[12,15984,13,15994,13,16001,null,null,null,null,0,111]
[12,16096,13,16103,13,16108,null,null,null,null,0,111]
[12,16205,13,16210,13,16217,null,null,null,null,0,111]
[12,16316,13,16321,13,16326,null,null,null,null,0,111]
[12,16426,13,16430,13,16436,null,null,null,null,0,111]
[12,16540,13,16546,13,16553,null,null,null,null,0,111]
[12,16655,13,16660,13,16667,null,null,null,null,0,111]
[12,16765,13,16769,13,16775,null,null,null,null,0,111]
[12,16875,13,16884,13,16890,null,null,null,null,0,111]
[12,16992,13,16996,13,17002,null,null,null,null,0,111]
[12,17097,13,17107,13,17115,null,null,null,null,0,111]
[12,17215,13,17222,13,17228,null,null,null,null,0,111]
[12,17333,13,17338,13,17344,null,null,null,null,0,111]
[12,17445,13,17451,13,17457,null,null,null,null,0,111]
[12,17561,13,17566,13,17573,null,null,null,null,0,111]
[12,17676,13,17683,13,17691,null,null,null,null,0,111]
[12,17796,13,17801,13,17806,null,null,null,null,0,111]
[12,17933,13,17939,13,17948,null,null,null,null,0,111]
[12,18049,13,18054,13,18060,null,null,null,null,0,111]
[12,18162,13,18168,13,18174,null,null,null,null,0,111]
[12,18294,13,18301,13,18309,null,null,null,null,0,111]
[12,18452,13,18461,13,18470,null,null,null,null,0,111]
[12,18569,13,18578,13,18583,null,null,null,null,0,111]
[12,18683,13,18688,13,18693,null,null,null,null,0,111]
[12,18792,13,18798,13,18805,null,null,null,null,0,111]
[12,18900,13,18905,13,18911,null,null,null,null,0,111]
[12,19013,13,19019,13,19025,null,null,null,null,0,111]
[12,19122,13,19128,13,19133,null,null,null,null,0,111]
[12,19242,13,19247,13,19253,null,null,null,null,0,111]
[12,19353,13,19358,13,19363,null,null,null,null,0,111]
[12,19468,13,19473,13,19479,null,null,null,null,0,111]
[12,19583,13,19593,13,19601,null,null,null,null,0,111]
[12,19732,13,19741,13,19749,null,null,null,null,0,111]
[12,19859,13,19869,13,19875,null,null,null,null,0,111]
[12,19976,13,19981,13,19988,null,null,null,null,0,111]
[12,20095,13,20100,13,20106,null,null,null,null,0,111]
[12,20207,13,20212,13,20219,null,null,null,null,0,111]
[12,20321,13,20327,13,20332,null,null,null,null,0,111]
[12,20447,13,20455,13,20467,null,null,null,null,0,111]
[12,20566,13,20576,13,20582,null,null,null,null,0,111]
[12,20681,13,20687,13,20693,null,null,null,null,0,111]
[12,20798,13,20804,13,20813,null,null,null,null,0,111]
[12,20915,13,20920,13,20925,null,null,null,null,0,111]
[12,21030,13,21036,13,21041,null,null,null,null,0,111]
[12,21165,13,21170,13,21180,null,null,null,null,0,111]
[12,21281,13,21286,13,21292,null,null,null,null,0,111]
[12,21393,13,21398,13,21402,null,null,null,null,0,111]
[12,21502,13,21508,13,21516,null,null,null,null,0,111]
[12,21624,13,21629,13,21637,null,null,null,null,0,111]
[12,21738,13,21744,13,21751,null,null,null,null,0,111]
[12,21856,13,21861,13,21867,null,null,null,null,0,111]
[12,21969,13,21974,13,21981,null,null,null,null,0,111]
[12,22091,13,22103,13,22111,null,null,null,null,0,111]
[12,22223,13,22229,13,22237,null,null,null,null,0,111]
[12,22340,13,22347,13,22354,null,null,null,null,0,111]
[12,22453,13,22461,13,22469,null,null,null,null,0,111]
[12,22569,13,22576,13,22580,null,null,null,null,0,111]
[12,22681,13,22686,13,22692,null,null,null,null,0,111]
[12,22793,13,22800,13,22807,null,null,null,null,0,111]
[12,22907,13,22912,13,22917,null,null,null,null,0,111]
[12,23012,13,23021,13,23028,null,null,null,null,0,111]
[12,23130,13,23137,13,23143,null,null,null,null,0,111]
[12,23257,13,23263,13,23272,null,null,null,null,0,111]
[12,23373,13,23378,13,23383,null,null,null,null,0,111]
[12,23497,13,23503,13,23512,null,null,null,null,0,111]
[12,23628,13,23633,13,23639,null,null,null,null,0,111]
[12,23744,13,23749,13,23755,null,null,null,null,0,111]
[12,23854,13,23859,13,23864,null,null,null,null,0,111]
[12,23963,13,23969,13,23976,null,null,null,null,null,111]

{"sheet":"!N413A10.010","index":21,"n_rows":214,"n_cols":48,"rows_kept":214,"cut":false,"hidden":false,"merged":[[4,39,4,42],[5,39,5,40],[4,44,4,47],[5,44,5,45],[4,24,4,27],[5,24,5,25],[4,29,4,32],[5,29,5,30],[4,34,4,37],[5,34,5,35],[1,1,1,2],[5,13,5,14],[18,13,18,14],[19,13,19,14],[4,19,4,22],[5,19,5,20]]}
["Report for:!N413A10.010"]
["Date:","<date>"]
["Hen:","<hen>",null,null,null,"Correct Sequence",{"$f":"Start!J2","v":211},null,null,null,null,null,null,null,null,"Total Sequences in Data",{"$f":"4994-COUNTBLANK(L7:L5000)","v":208},null,null,null,null,"Total Sequences in Block Data",{"$f":"COUNTA(L7:L41)","v":35},null,null,null,"Total Sequences in Block Data",{"$f":"COUNTA(L42:L75)","v":34},null,null,null,"Total Sequences in Block Data",{"$f":"COUNTA(L76:L110)","v":35},null,null,null,"Total Sequences in Block Data",{"$f":"COUNTA(L111:L145)","v":35},null,null,null,"Total Sequences in Block Data",{"$f":"COUNTA(L146:L179)","v":34},null,null,null,"Total Sequences in Block Data",{"$f":"COUNTA(L180:L214)","v":35}]
[null,null,null,null,null,null,null,null,null,null,null,null,null,null,null,"Total Sequences in Summary",{"$f":"SUM(O7:O14)","v":208},null,null,null,null,"Total Sequences in Block Summary",{"$f":"SUM(U7:U14)","v":35},null,null,null,"Total Sequences in Block Summary",{"$f":"SUM(Z7:Z14)","v":34},null,null,null,"Total Sequences in Block Summary",{"$f":"SUM(AE7:AE14)","v":35},null,null,null,"Total Sequences in Block Summary",{"$f":"SUM(AJ7:AJ14)","v":35},null,null,null,"Total Sequences in Block Summary",{"$f":"SUM(AO7:AO14)","v":34},null,null,null,"Total Sequences in Block Summary",{"$f":"SUM(AT7:AT14)","v":35}]
[null,null,null,null,null,null,null,null,null,null,null,null,null,null,null,null,null,null,null,"Block 1",null,null,null,null,"Block 2",null,null,null,null,"Block 3",null,null,null,null,"Block 4",null,null,null,null,"Block 5",null,null,null,null,"Block 6"]
["Sequence\nComponent\n1","Time\n1","Sequence\nComponent\n2","Time\n2","Sequence\nComponent\n3","Time\n3","Sequence\nComponent\n4","Time\n4","Sequence\nComponent\n5","Time\n5","Correct?\n0=No 1=Yes","Sequence",null,"Frequency",null,"Relative Frequency","Variability",null,null,"Frequency",null,"Relative Frequency","Variability",null,"Frequency",null,"Relative Frequency","Variability",null,"Frequency",null,"Relative Frequency","Variability",null,"Frequency",null,"Relative Frequency","Variability",null,"Frequency",null,"Relative Frequency","Variability",null,"Frequency",null,"Relative Frequency","Variability"]
[12,11,13,18,13,26,null,null,null,null,0,111,null,111,{"$f":"COUNTIF($L$7:$L$500,N7)","v":207},{"$f":"O7/$Q$4","v":0.99519230769230771},{"$f":"IF(P7=0,0,(P7*((LOG(P7))/LOG(2))))","v":-6.9193339079122521E-3},null,null,{"$f":"N7","v":111},{"$f":"COUNTIF(L7:L41,T7)","v":35},{"$f":"U7/(W4-U11)","v":1},{"$f":"IF(V7=0,0,(V7*((LOG(V7))/LOG(2))))","v":0},null,{"$f":"N7","v":111},{"$f":"COUNTIF(L42:L75,Y7)","v":34},{"$f":"Z7/(AB4-Z11)","v":1},{"$f":"IF(AA7=0,0,(AA7*((LOG(AA7))/LOG(2))))","v":0},null,{"$f":"N7","v":111},{"$f":"COUNTIF(L76:L110,AD7)","v":35},{"$f":"AE7/(AG4-AE11)","v":1},{"$f":"IF(AF7=0,0,(AF7*((LOG(AF7))/LOG(2))))","v":0},null,{"$f":"N7","v":111},{"$f":"COUNTIF(L111:L145,AI7)","v":35},{"$f":"AJ7/(AL4-AJ11)","v":1},{"$f":"IF(AK7=0,0,(AK7*((LOG(AK7))/LOG(2))))","v":0},null,{"$f":"N7","v":111},{"$f":"COUNTIF(L146:L179,AN7)","v":33},{"$f":"AO7/(AQ4-AO11)","v":0.97058823529411764},{"$f":"IF(AP7=0,0,(AP7*((LOG(AP7))/LOG(2))))","v":-4.1801994777418743E-2},null,{"$f":"N7","v":111},{"$f":"COUNTIF(L180:L214,AS7)","v":35},{"$f":"AT7/(AV4-AT11)","v":1},{"$f":"IF(AU7=0,0,(AU7*((LOG(AU7))/LOG(2))))","v":0}]
[12,123,13,129,13,137,null,null,null,null,0,111,null,112,{"$f":"COUNTIF($L$7:$L$500,N8)","v":0},{"$f":"O8/$Q$4","v":0},{"$f":"IF(P8=0,0,(P8*((LOG(P8))/LOG(2))))","v":0},null,null,{"$f":"N8","v":112},{"$f":"COUNTIF(L7:L41,T8)","v":0},{"$f":"U8/(W4-U11)","v":0},{"$f":"IF(V8=0,0,(V8*((LOG(V8))/LOG(2))))","v":0},null,{"$f":"N8","v":112},{"$f":"COUNTIF(L42:L75,Y8)","v":0},{"$f":"Z8/(AB4-Z11)","v":0},{"$f":"IF(AA8=0,0,(AA8*((LOG(AA8))/LOG(2))))","v":0},null,{"$f":"N8","v":112},{"$f":"COUNTIF(L76:L110,AD8)","v":0},{"$f":"AE8/(AG4-AE11)","v":0},{"$f":"IF(AF8=0,0,(AF8*((LOG(AF8))/LOG(2))))","v":0},null,{"$f":"N8","v":112},{"$f":"COUNTIF(L111:L145,AI8)","v":0},{"$f":"AJ8/(AL4-AJ11)","v":0},{"$f":"IF(AK8=0,0,(AK8*((LOG(AK8))/LOG(2))))","v":0},null,{"$f":"N8","v":112},{"$f":"COUNTIF(L146:L179,AN8)","v":0},{"$f":"AO8/(AQ4-AO11)","v":0},{"$f":"IF(AP8=0,0,(AP8*((LOG(AP8))/LOG(2))))","v":0},null,{"$f":"N8","v":112},{"$f":"COUNTIF(L180:L214,AS8)","v":0},{"$f":"AT8/(AV4-AT11)","v":0},{"$f":"IF(AU8=0,0,(AU8*((LOG(AU8))/LOG(2))))","v":0}]
[12,249,13,254,13,263,null,null,null,null,0,111,null,121,{"$f":"COUNTIF($L$7:$L$500,N9)","v":0},{"$f":"O9/$Q$4","v":0},{"$f":"IF(P9=0,0,(P9*((LOG(P9))/LOG(2))))","v":0},null,null,{"$f":"N9","v":121},{"$f":"COUNTIF(L7:L41,T9)","v":0},{"$f":"U9/(W4-U11)","v":0},{"$f":"IF(V9=0,0,(V9*((LOG(V9))/LOG(2))))","v":0},null,{"$f":"N9","v":121},{"$f":"COUNTIF(L42:L75,Y9)","v":0},{"$f":"Z9/(AB4-Z11)","v":0},{"$f":"IF(AA9=0,0,(AA9*((LOG(AA9))/LOG(2))))","v":0},null,{"$f":"N9","v":121},{"$f":"COUNTIF(L76:L110,AD9)","v":0},{"$f":"AE9/(AG4-AE11)","v":0},{"$f":"IF(AF9=0,0,(AF9*((LOG(AF9))/LOG(2))))","v":0},null,{"$f":"N9","v":121},{"$f":"COUNTIF(L111:L145,AI9)","v":0},{"$f":"AJ9/(AL4-AJ11)","v":0},{"$f":"IF(AK9=0,0,(AK9*((LOG(AK9))/LOG(2))))","v":0},null,{"$f":"N9","v":121},{"$f":"COUNTIF(L146:L179,AN9)","v":0},{"$f":"AO9/(AQ4-AO11)","v":0},{"$f":"IF(AP9=0,0,(AP9*((LOG(AP9))/LOG(2))))","v":0},null,{"$f":"N9","v":121},{"$f":"COUNTIF(L180:L214,AS9)","v":0},{"$f":"AT9/(AV4-AT11)","v":0},{"$f":"IF(AU9=0,0,(AU9*((LOG(AU9))/LOG(2))))","v":0}]
[12,369,13,375,13,382,null,null,null,null,0,111,null,122,{"$f":"COUNTIF($L$7:$L$500,N10)","v":0},{"$f":"O10/$Q$4","v":0},{"$f":"IF(P10=0,0,(P10*((LOG(P10))/LOG(2))))","v":0},null,null,{"$f":"N10","v":122},{"$f":"COUNTIF(L7:L41,T10)","v":0},{"$f":"U10/(W4-U11)","v":0},{"$f":"IF(V10=0,0,(V10*((LOG(V10))/LOG(2))))","v":0},null,{"$f":"N10","v":122},{"$f":"COUNTIF(L42:L75,Y10)","v":0},{"$f":"Z10/(AB4-Z11)","v":0},{"$f":"IF(AA10=0,0,(AA10*((LOG(AA10))/LOG(2))))","v":0},null,{"$f":"N10","v":122},{"$f":"COUNTIF(L76:L110,AD10)","v":0},{"$f":"AE10/(AG4-AE11)","v":0},{"$f":"IF(AF10=0,0,(AF10*((LOG(AF10))/LOG(2))))","v":0},null,{"$f":"N10","v":122},{"$f":"COUNTIF(L111:L145,AI10)","v":0},{"$f":"AJ10/(AL4-AJ11)","v":0},{"$f":"IF(AK10=0,0,(AK10*((LOG(AK10))/LOG(2))))","v":0},null,{"$f":"N10","v":122},{"$f":"COUNTIF(L146:L179,AN10)","v":0},{"$f":"AO10/(AQ4-AO11)","v":0},{"$f":"IF(AP10=0,0,(AP10*((LOG(AP10))/LOG(2))))","v":0},null,{"$f":"N10","v":122},{"$f":"COUNTIF(L180:L214,AS10)","v":0},{"$f":"AT10/(AV4-AT11)","v":0},{"$f":"IF(AU10=0,0,(AU10*((LOG(AU10))/LOG(2))))","v":0}]
[12,482,13,489,13,496,null,null,null,null,0,111,null,211,{"$f":"COUNTIF($L$7:$L$500,N11)","v":0},{"$f":"O11/$Q$4","v":0},{"$f":"IF(P11=0,0,(P11*((LOG(P11))/LOG(2))))","v":0},null,null,{"$f":"N11","v":211},{"$f":"COUNTIF(L7:L41,T11)","v":0},null,null,null,{"$f":"N11","v":211},{"$f":"COUNTIF(L42:L75,Y11)","v":0},null,null,null,{"$f":"N11","v":211},{"$f":"COUNTIF(L76:L110,AD11)","v":0},null,null,null,{"$f":"N11","v":211},{"$f":"COUNTIF(L111:L145,AI11)","v":0},null,null,null,{"$f":"N11","v":211},{"$f":"COUNTIF(L146:L179,AN11)","v":0},null,null,null,{"$f":"N11","v":211},{"$f":"COUNTIF(L180:L214,AS11)","v":0}]
[12,598,13,602,13,607,null,null,null,null,0,111,null,212,{"$f":"COUNTIF($L$7:$L$500,N12)","v":0},{"$f":"O12/$Q$4","v":0},{"$f":"IF(P12=0,0,(P12*((LOG(P12))/LOG(2))))","v":0},null,null,{"$f":"N12","v":212},{"$f":"COUNTIF(L7:L41,T12)","v":0},{"$f":"U12/(W4-U11)","v":0},{"$f":"IF(V12=0,0,(V12*((LOG(V12))/LOG(2))))","v":0},null,{"$f":"N12","v":212},{"$f":"COUNTIF(L42:L75,Y12)","v":0},{"$f":"Z12/(AB4-Z11)","v":0},{"$f":"IF(AA12=0,0,(AA12*((LOG(AA12))/LOG(2))))","v":0},null,{"$f":"N12","v":212},{"$f":"COUNTIF(L76:L110,AD12)","v":0},{"$f":"AE12/(AG4-AE11)","v":0},{"$f":"IF(AF12=0,0,(AF12*((LOG(AF12))/LOG(2))))","v":0},null,{"$f":"N12","v":212},{"$f":"COUNTIF(L111:L145,AI12)","v":0},{"$f":"AJ12/(AL4-AJ11)","v":0},{"$f":"IF(AK12=0,0,(AK12*((LOG(AK12))/LOG(2))))","v":0},null,{"$f":"N12","v":212},{"$f":"COUNTIF(L146:L179,AN12)","v":0},{"$f":"AO12/(AQ4-AO11)","v":0},{"$f":"IF(AP12=0,0,(AP12*((LOG(AP12))/LOG(2))))","v":0},null,{"$f":"N12","v":212},{"$f":"COUNTIF(L180:L214,AS12)","v":0},{"$f":"AT12/(AV4-AT11)","v":0},{"$f":"IF(AU12=0,0,(AU12*((LOG(AU12))/LOG(2))))","v":0}]
[12,707,13,714,13,721,null,null,null,null,0,111,null,221,{"$f":"COUNTIF($L$7:$L$500,N13)","v":0},{"$f":"O13/$Q$4","v":0},{"$f":"IF(P13=0,0,(P13*((LOG(P13))/LOG(2))))","v":0},null,null,{"$f":"N13","v":221},{"$f":"COUNTIF(L7:L41,T13)","v":0},{"$f":"U13/(W4-U11)","v":0},{"$f":"IF(V13=0,0,(V13*((LOG(V13))/LOG(2))))","v":0},null,{"$f":"N13","v":221},{"$f":"COUNTIF(L42:L75,Y13)","v":0},{"$f":"Z13/(AB4-Z11)","v":0},{"$f":"IF(AA13=0,0,(AA13*((LOG(AA13))/LOG(2))))","v":0},null,{"$f":"N13","v":221},{"$f":"COUNTIF(L76:L110,AD13)","v":0},{"$f":"AE13/(AG4-AE11)","v":0},{"$f":"IF(AF13=0,0,(AF13*((LOG(AF13))/LOG(2))))","v":0},null,{"$f":"N13","v":221},{"$f":"COUNTIF(L111:L145,AI13)","v":0},{"$f":"AJ13/(AL4-AJ11)","v":0},{"$f":"IF(AK13=0,0,(AK13*((LOG(AK13))/LOG(2))))","v":0},null,{"$f":"N13","v":221},{"$f":"COUNTIF(L146:L179,AN13)","v":0},{"$f":"AO13/(AQ4-AO11)","v":0},{"$f":"IF(AP13=0,0,(AP13*((LOG(AP13))/LOG(2))))","v":0},null,{"$f":"N13","v":221},{"$f":"COUNTIF(L180:L214,AS13)","v":0},{"$f":"AT13/(AV4-AT11)","v":0},{"$f":"IF(AU13=0,0,(AU13*((LOG(AU13))/LOG(2))))","v":0}]
[12,821,13,827,13,832,null,null,null,null,0,111,null,222,{"$f":"COUNTIF($L$7:$L$500,N14)","v":1},{"$f":"O14/$Q$4","v":4.807692307692308E-3},{"$f":"IF(P14=0,0,(P14*((LOG(P14))/LOG(2))))","v":-3.7021344798755254E-2},null,null,{"$f":"N14","v":222},{"$f":"COUNTIF(L7:L41,T14)","v":0},{"$f":"U14/(W4-U11)","v":0},{"$f":"IF(V14=0,0,(V14*((LOG(V14))/LOG(2))))","v":0},null,{"$f":"N14","v":222},{"$f":"COUNTIF(L42:L75,Y14)","v":0},{"$f":"Z14/(AB4-Z11)","v":0},{"$f":"IF(AA14=0,0,(AA14*((LOG(AA14))/LOG(2))))","v":0},null,{"$f":"N14","v":222},{"$f":"COUNTIF(L76:L110,AD14)","v":0},{"$f":"AE14/(AG4-AE11)","v":0},{"$f":"IF(AF14=0,0,(AF14*((LOG(AF14))/LOG(2))))","v":0},null,{"$f":"N14","v":222},{"$f":"COUNTIF(L111:L145,AI14)","v":0},{"$f":"AJ14/(AL4-AJ11)","v":0},{"$f":"IF(AK14=0,0,(AK14*((LOG(AK14))/LOG(2))))","v":0},null,{"$f":"N14","v":222},{"$f":"COUNTIF(L146:L179,AN14)","v":1},{"$f":"AO14/(AQ4-AO11)","v":2.9411764705882353E-2},{"$f":"IF(AP14=0,0,(AP14*((LOG(AP14))/LOG(2))))","v":-0.14963126003677468},null,{"$f":"N14","v":222},{"$f":"COUNTIF(L180:L214,AS14)","v":0},{"$f":"AT14/(AV4-AT11)","v":0},{"$f":"IF(AU14=0,0,(AU14*((LOG(AU14))/LOG(2))))","v":0}]
[12,936,13,942,13,951,null,null,null,null,0,111,null,null,null,{"$f":"SUM(P7:P14)","v":1},{"$f":"-SUM(Q7:Q14)","v":4.3940678706667506E-2},null,null,null,null,{"$f":"SUM(V7:V14)","v":1},{"$f":"-SUM(W7:W14)","v":0},null,null,null,{"$f":"SUM(AA7:AA14)","v":1},{"$f":"-SUM(AB7:AB14)","v":0},null,null,null,{"$f":"SUM(AF7:AF14)","v":1},{"$f":"-SUM(AG7:AG14)","v":0},null,null,null,{"$f":"SUM(AK7:AK14)","v":1},{"$f":"-SUM(AL7:AL14)","v":0},null,null,null,{"$f":"SUM(AP7:AP14)","v":1},{"$f":"-SUM(AQ7:AQ14)","v":0.19143325481419343},null,null,null,{"$f":"SUM(AU7:AU14)","v":1},{"$f":"-SUM(AV7:AV14)","v":0}]
[12,1070,13,1077,13,1087,null,null,null,null,0,111,null,null,null,"U=",{"$f":"Q15/(LOG(Q4)/LOG(2))","v":5.7062557873350786E-3},null,null,null,null,"U1=",{"$f":"W15/(LOG(W4)/LOG(2))","v":0},null,null,null,"U2=",{"$f":"AB15/(LOG(AB4)/LOG(2))","v":0},null,null,null,"U3=",{"$f":"AG15/(LOG(AG4)/LOG(2))","v":0},null,null,null,"U4=",{"$f":"AL15/(LOG(AL4)/LOG(2))","v":0},null,null,null,"U5=",{"$f":"AQ15/(LOG(AQ4)/LOG(2))","v":3.7628433029919708E-2},null,null,null,"U6=",{"$f":"AV15/(LOG(AV4)/LOG(2))","v":0}]
[12,1188,13,1195,13,1203,null,null,null,null,0,111]
[12,1307,13,1313,13,1321,null,null,null,null,0,111]
[12,1422,13,1427,13,1433,null,null,null,null,0,111,null,"Total Target Seq"]
[12,1532,13,1538,13,1543,null,null,null,null,0,111,null,{"$f":"COUNTIF(L7:L214,G3)","v":0},null,35,34,35,35,34,35]
[12,1646,13,1652,13,1659,null,null,null,null,0,111,null,null,null,"% of reinforcement given in 6 equal intervals based on number of trials "]
[12,1759,13,1764,13,1768,null,null,null,null,0,111,null,null,null,"%_1","%_2","%_3","%_4","%_5","%_6"]
[12,1870,13,1875,13,1881,null,null,null,null,0,111,null,null,"target sequence",{"$f":"$G$3","v":211},{"$f":"$G$3","v":211},{"$f":"$G$3","v":211},{"$f":"$G$3","v":211},{"$f":"$G$3","v":211},{"$f":"$G$3","v":211}]
[12,1978,13,1983,13,1988,null,null,null,null,0,111,null,null,"total reinforcement",{"$f":"U11","v":0},{"$f":"Z11","v":0},{"$f":"AE11","v":0},{"$f":"AJ11","v":0},{"$f":"AO11","v":0},{"$f":"AT11","v":0}]
[12,2089,13,2097,13,2102,null,null,null,null,0,111,null,null,"% target"]
[12,2200,13,2206,13,2212,null,null,null,null,0,111,null,null,"CCRF"]
[12,2312,13,2317,13,2323,null,null,null,null,0,111,null,null,"% CCRf"]
[12,2423,13,2428,13,2432,null,null,null,null,0,111,null,null,"average response rate",{"$f":"F41/P20","v":111.28571428571429},{"$f":"(F75-F41)/Q20","v":113.94117647058823},{"$f":"(F110-F75)/R20","v":117.14285714285714},{"$f":"(F145-F110)/S20","v":113.54285714285714},{"$f":"(F179-F145)/T20","v":116.23529411764706},{"$f":"(F214-F179)/U20","v":118.77142857142857}]
[12,2536,13,2541,13,2545,null,null,null,null,0,111]
[12,2646,13,2652,13,2657,null,null,null,null,0,111]
[12,2756,13,2766,13,2771,null,null,null,null,0,111]
[12,2870,13,2875,13,2882,null,null,null,null,0,111]
[12,2981,13,2985,13,2990,null,null,null,null,0,111]
[12,3088,13,3104,13,3110,null,null,null,null,0,111]
[12,3210,13,3216,13,3220,null,null,null,null,0,111]
[12,3326,13,3330,13,3335,null,null,null,null,0,111]
[12,3435,13,3441,13,3447,null,null,null,null,0,111]
[12,3547,13,3551,13,3557,null,null,null,null,0,111]
[12,3660,13,3665,13,3670,null,null,null,null,0,111]
[12,3771,13,3778,13,3784,null,null,null,null,0,111]
[12,3885,13,3889,13,3895,null,null,null,null,0,111]
[12,4004,13,4011,13,4018,null,null,null,null,0,111]
[12,4123,13,4129,13,4134,null,null,null,null,0,111]
[12,4241,13,4247,13,4256,null,null,null,null,0,111]
[12,4354,13,4360,13,4370,null,null,null,null,0,111]
[12,4488,13,4493,13,4499,null,null,null,null,0,111]
[12,4600,13,4605,13,4610,null,null,null,null,0,111]
[12,4707,13,4714,13,4720,null,null,null,null,0,111]
[12,4815,13,4820,13,4826,null,null,null,null,0,111]
[12,4927,13,4932,13,4937,null,null,null,null,0,111]
[12,5037,13,5042,13,5046,null,null,null,null,0,111]
[12,5145,13,5151,13,5159,null,null,null,null,0,111]
[12,5258,13,5263,13,5268,null,null,null,null,0,111]
[12,5390,13,5396,13,5404,null,null,null,null,0,111]
[12,5504,13,5508,13,5513,null,null,null,null,0,111]
[12,5612,13,5618,13,5623,null,null,null,null,0,111]
[12,5726,13,5731,13,5738,null,null,null,null,0,111]
[12,5837,13,5842,13,5848,null,null,null,null,0,111]
[12,5948,13,5953,13,5959,null,null,null,null,0,111]
[12,6065,13,6071,13,6079,null,null,null,null,0,111]
[12,6177,13,6182,13,6188,null,null,null,null,0,111]
[12,6294,13,6300,13,6305,null,null,null,null,0,111]
[12,6403,13,6408,13,6415,null,null,null,null,0,111]
[12,6514,13,6519,13,6524,null,null,null,null,0,111]
[12,6629,13,6634,13,6642,null,null,null,null,0,111]
[12,6741,13,6747,13,6754,null,null,null,null,0,111]
[12,6857,13,6862,13,6867,null,null,null,null,0,111]
[12,6967,13,6974,13,6979,null,null,null,null,0,111]
[12,7076,13,7088,13,7098,null,null,null,null,0,111]
[12,7196,13,7202,13,7210,null,null,null,null,0,111]
[12,7309,13,7314,13,7319,null,null,null,null,0,111]
[12,7419,13,7424,13,7430,null,null,null,null,0,111]
[12,7531,13,7536,13,7541,null,null,null,null,0,111]
[12,7645,13,7651,13,7658,null,null,null,null,0,111]
[12,7758,13,7762,13,7769,null,null,null,null,0,111]
[12,7865,13,7870,13,7879,null,null,null,null,0,111]
[12,7980,13,7986,13,7992,null,null,null,null,0,111]
[12,8092,13,8098,13,8103,null,null,null,null,0,111]
[12,8203,13,8208,13,8213,null,null,null,null,0,111]
[12,8340,13,8346,13,8354,null,null,null,null,0,111]
[12,8455,13,8460,13,8465,null,null,null,null,0,111]
[12,8571,13,8577,13,8586,null,null,null,null,0,111]
[12,8689,13,8695,13,8705,null,null,null,null,0,111]
[12,8803,13,8813,13,8819,null,null,null,null,0,111]
[12,8930,13,8935,13,8940,null,null,null,null,0,111]
[12,9040,13,9046,13,9052,null,null,null,null,0,111]
[12,9160,13,9169,13,9176,null,null,null,null,0,111]
[12,9276,13,9282,13,9288,null,null,null,null,0,111]
[12,9428,13,9435,13,9444,null,null,null,null,0,111]
[12,9544,13,9551,13,9557,null,null,null,null,0,111]
[12,9664,13,9670,13,9679,null,null,null,null,0,111]
[12,9784,13,9789,13,9794,null,null,null,null,0,111]
[12,9897,13,9902,13,9909,null,null,null,null,0,111]
[12,10009,13,10015,13,10020,null,null,null,null,0,111]
[12,10119,13,10129,13,10134,null,null,null,null,0,111]
[12,10236,13,10241,13,10248,null,null,null,null,0,111]
[12,10349,13,10354,13,10360,null,null,null,null,0,111]
[12,10467,13,10473,13,10479,null,null,null,null,0,111]
[12,10585,13,10591,13,10617,null,null,null,null,0,111]
[12,10719,13,10724,13,10730,null,null,null,null,0,111]
[12,10830,13,10837,13,10843,null,null,null,null,0,111]
[12,10952,13,10959,13,10977,null,null,null,null,0,111]
[12,11076,13,11082,13,11086,null,null,null,null,0,111]
[12,11185,13,11192,13,11197,null,null,null,null,0,111]
[12,11302,13,11308,13,11316,null,null,null,null,0,111]
[12,11415,13,11419,13,11425,null,null,null,null,0,111]
[12,11523,13,11529,13,11535,null,null,null,null,0,111]
[12,11634,13,11639,13,11645,null,null,null,null,0,111]
[12,11743,13,11749,13,11756,null,null,null,null,0,111]
[12,11854,13,11863,13,11869,null,null,null,null,0,111]
[12,11966,13,11972,13,11977,null,null,null,null,0,111]
[12,12079,13,12091,13,12099,null,null,null,null,0,111]
[12,12201,13,12207,13,12213,null,null,null,null,0,111]
[12,12312,13,12318,13,12323,null,null,null,null,0,111]
[12,12420,13,12431,13,12437,null,null,null,null,0,111]
[12,12539,13,12543,13,12549,null,null,null,null,0,111]
[12,12648,13,12655,13,12660,null,null,null,null,0,111]
[12,12760,13,12765,13,12771,null,null,null,null,0,111]
[12,12868,13,12878,13,12883,null,null,null,null,0,111]
[12,12983,13,12989,13,12994,null,null,null,null,0,111]
[12,13092,13,13098,13,13103,null,null,null,null,0,111]
[12,13214,13,13220,13,13229,null,null,null,null,0,111]
[12,13326,13,13332,13,13337,null,null,null,null,0,111]
[12,13436,13,13441,13,13446,null,null,null,null,0,111]
[12,13544,13,13549,13,13555,null,null,null,null,0,111]
[12,13651,13,13656,13,13661,null,null,null,null,0,111]
[12,13773,13,13779,13,13784,null,null,null,null,0,111]
[12,13883,13,13891,13,13896,null,null,null,null,0,111]
[12,13997,13,14002,13,14008,null,null,null,null,0,111]
[12,14111,13,14117,13,14122,null,null,null,null,0,111]
[12,14230,13,14236,13,14243,null,null,null,null,0,111]
[12,14356,13,14362,13,14369,null,null,null,null,0,111]
[12,14473,13,14477,13,14482,null,null,null,null,0,111]
[12,14582,13,14587,13,14593,null,null,null,null,0,111]
[12,14691,13,14697,13,14703,null,null,null,null,0,111]
[12,14799,13,14804,13,14809,null,null,null,null,0,111]
[12,14906,13,14914,13,14919,null,null,null,null,0,111]
[12,15014,13,15019,13,15024,null,null,null,null,0,111]
[12,15121,13,15126,13,15133,null,null,null,null,0,111]
[12,15256,13,15261,13,15270,null,null,null,null,0,111]
[12,15371,13,15377,13,15382,null,null,null,null,0,111]
[12,15479,13,15484,13,15489,null,null,null,null,0,111]
[12,15587,13,15592,13,15598,null,null,null,null,0,111]
[12,15708,13,15713,13,15738,null,null,null,null,0,111]
[12,15831,13,15837,13,15843,null,null,null,null,0,111]
[12,15942,13,15947,13,15952,null,null,null,null,0,111]
[12,16049,13,16054,13,16066,null,null,null,null,0,111]
[12,16168,13,16173,13,16180,null,null,null,null,0,111]
[12,16279,13,16284,13,16290,null,null,null,null,0,111]
[12,16384,13,16390,13,16397,null,null,null,null,0,111]
[12,16498,13,16504,13,16511,null,null,null,null,0,111]
[12,16616,13,16622,13,16635,null,null,null,null,0,111]
[12,16734,13,16738,13,16743,null,null,null,null,0,111]
[12,16845,13,16850,13,16859,null,null,null,null,0,111]
[12,16960,13,16965,13,16970,null,null,null,null,0,111]
[12,17071,13,17082,13,17105,null,null,null,null,0,111]
[12,17211,13,17218,13,17226,null,null,null,null,0,111]
[12,17324,13,17331,13,17337,null,null,null,null,0,111]
[12,17437,13,17443,13,17451,null,null,null,null,0,111]
[12,17550,13,17556,13,17561,null,null,null,null,0,111]
[12,17683,13,17689,13,17698,null,null,null,null,0,111]
[12,17798,13,17803,13,17808,null,null,null,null,0,111]
[12,17906,13,17910,13,17920,null,null,null,null,0,111]
[12,18017,13,18027,13,18035,null,null,null,null,0,111]
[12,18133,13,18144,13,18159,null,null,null,null,0,111]
[12,18256,13,18262,13,18267,null,null,null,null,0,111]
[21,18389,22,18394,24,18400,null,null,null,null,0,222]
[12,18497,13,18502,13,18507,null,null,null,null,0,111]
[12,18636,13,18646,13,18652,null,null,null,null,0,111]
[12,18750,13,18761,13,18769,null,null,null,null,0,111]
[12,18867,13,18873,13,18878,null,null,null,null,0,111]
[12,18974,13,18980,13,18986,null,null,null,null,0,111]
[12,19087,13,19093,13,19100,null,null,null,null,0,111]
[12,19204,13,19209,13,19221,null,null,null,null,0,111]
[12,19320,13,19326,13,19332,null,null,null,null,0,111]
[12,19438,13,19444,13,19451,null,null,null,null,0,111]
[12,19548,13,19557,13,19570,null,null,null,null,0,111]
[12,19666,13,19676,13,19682,null,null,null,null,0,111]
[12,19785,13,19789,13,19795,null,null,null,null,0,111]
[12,19903,13,19908,13,19916,null,null,null,null,0,111]
[12,20014,13,20024,13,20030,null,null,null,null,0,111]
[12,20136,13,20159,13,20168,null,null,null,null,0,111]
[12,20271,13,20276,13,20281,null,null,null,null,0,111]
[12,20379,13,20385,13,20392,null,null,null,null,0,111]
[12,20491,13,20497,13,20504,null,null,null,null,0,111]
[12,20600,13,20606,13,20612,null,null,null,null,0,111]
[12,20708,13,20715,13,20720,null,null,null,null,0,111]
[12,20820,13,20826,13,20832,null,null,null,null,0,111]
[12,20930,13,20938,13,20943,null,null,null,null,0,111]
[12,21052,13,21058,13,21074,null,null,null,null,0,111]
[12,21169,13,21175,13,21180,null,null,null,null,0,111]
[12,21278,13,21285,13,21310,null,null,null,null,0,111]
[12,21410,13,21414,13,21425,null,null,null,null,0,111]
[12,21524,13,21536,13,21542,null,null,null,null,0,111]
[12,21638,13,21643,13,21649,null,null,null,null,0,111]
[12,21744,13,21749,13,21761,null,null,null,null,0,111]
[12,21858,13,21864,13,21869,null,null,null,null,0,111]
[12,21978,13,21984,13,21991,null,null,null,null,0,111]
[12,22088,13,22095,13,22100,null,null,null,null,0,111]
[12,22199,13,22205,13,22211,null,null,null,null,0,111]
[12,22315,13,22327,13,22347,null,null,null,null,0,111]
[12,22445,13,22456,13,22462,null,null,null,null,0,111]
[12,22593,13,22605,13,22611,null,null,null,null,0,111]
[12,22729,13,22746,13,22755,null,null,null,null,0,111]
[12,22854,13,22859,13,22864,null,null,null,null,0,111]
[12,22960,13,22964,13,22977,null,null,null,null,0,111]
[12,23074,13,23079,13,23089,null,null,null,null,0,111]
[12,23187,13,23197,13,23203,null,null,null,null,0,111]
[12,23299,13,23305,13,23310,null,null,null,null,0,111]
[12,23417,13,23424,13,23437,null,null,null,null,0,111]
[12,23582,13,23595,13,23608,null,null,null,null,0,111]
[12,23707,13,23717,13,23731,null,null,null,null,0,111]
[12,23827,13,23833,13,23839,null,null,null,null,0,111]
[12,23938,13,23946,13,23952,null,null,null,null,1,111]

{"sheet":"!N414820.010","index":22,"n_rows":212,"n_cols":48,"rows_kept":212,"cut":false,"hidden":false,"merged":[[4,39,4,42],[5,39,5,40],[4,44,4,47],[5,44,5,45],[4,24,4,27],[5,24,5,25],[4,29,4,32],[5,29,5,30],[4,34,4,37],[5,34,5,35],[1,1,1,2],[5,13,5,14],[18,13,18,14],[19,13,19,14],[4,19,4,22],[5,19,5,20]]}
["Report for:!N414820.010"]
["Date:","<date>"]
["Hen:","<hen>",null,null,null,"Correct Sequence",{"$f":"Start!J2","v":211},null,null,null,null,null,null,null,null,"Total Sequences in Data",{"$f":"4994-COUNTBLANK(L7:L5000)","v":206},null,null,null,null,"Total Sequences in Block Data",{"$f":"COUNTA(L7:L40)","v":34},null,null,null,"Total Sequences in Block Data",{"$f":"COUNTA(L41:L75)","v":35},null,null,null,"Total Sequences in Block Data",{"$f":"COUNTA(L76:L109)","v":34},null,null,null,"Total Sequences in Block Data",{"$f":"COUNTA(L110:L143)","v":34},null,null,null,"Total Sequences in Block Data",{"$f":"COUNTA(L144:L178)","v":35},null,null,null,"Total Sequences in Block Data",{"$f":"COUNTA(L179:L212)","v":34}]
[null,null,null,null,null,null,null,null,null,null,null,null,null,null,null,"Total Sequences in Summary",{"$f":"SUM(O7:O14)","v":206},null,null,null,null,"Total Sequences in Block Summary",{"$f":"SUM(U7:U14)","v":34},null,null,null,"Total Sequences in Block Summary",{"$f":"SUM(Z7:Z14)","v":35},null,null,null,"Total Sequences in Block Summary",{"$f":"SUM(AE7:AE14)","v":34},null,null,null,"Total Sequences in Block Summary",{"$f":"SUM(AJ7:AJ14)","v":34},null,null,null,"Total Sequences in Block Summary",{"$f":"SUM(AO7:AO14)","v":35},null,null,null,"Total Sequences in Block Summary",{"$f":"SUM(AT7:AT14)","v":34}]
[null,null,null,null,null,null,null,null,null,null,null,null,null,null,null,null,null,null,null,"Block 1",null,null,null,null,"Block 2",null,null,null,null,"Block 3",null,null,null,null,"Block 4",null,null,null,null,"Block 5",null,null,null,null,"Block 6"]
["Sequence\nComponent\n1","Time\n1","Sequence\nComponent\n2","Time\n2","Sequence\nComponent\n3","Time\n3","Sequence\nComponent\n4","Time\n4","Sequence\nComponent\n5","Time\n5","Correct?\n0=No 1=Yes","Sequence",null,"Frequency",null,"Relative Frequency","Variability",null,null,"Frequency",null,"Relative Frequency","Variability",null,"Frequency",null,"Relative Frequency","Variability",null,"Frequency",null,"Relative Frequency","Variability",null,"Frequency",null,"Relative Frequency","Variability",null,"Frequency",null,"Relative Frequency","Variability",null,"Frequency",null,"Relative Frequency","Variability"]
[12,11,13,17,13,24,null,null,null,null,0,111,null,111,{"$f":"COUNTIF($L$7:$L$500,N7)","v":206},{"$f":"O7/$Q$4","v":1},{"$f":"IF(P7=0,0,(P7*((LOG(P7))/LOG(2))))","v":0},null,null,{"$f":"N7","v":111},{"$f":"COUNTIF(L7:L40,T7)","v":34},{"$f":"U7/(W4-U11)","v":1},{"$f":"IF(V7=0,0,(V7*((LOG(V7))/LOG(2))))","v":0},null,{"$f":"N7","v":111},{"$f":"COUNTIF(L41:L75,Y7)","v":35},{"$f":"Z7/(AB4-Z11)","v":1},{"$f":"IF(AA7=0,0,(AA7*((LOG(AA7))/LOG(2))))","v":0},null,{"$f":"N7","v":111},{"$f":"COUNTIF(L76:L109,AD7)","v":34},{"$f":"AE7/(AG4-AE11)","v":1},{"$f":"IF(AF7=0,0,(AF7*((LOG(AF7))/LOG(2))))","v":0},null,{"$f":"N7","v":111},{"$f":"COUNTIF(L110:L143,AI7)","v":34},{"$f":"AJ7/(AL4-AJ11)","v":1},{"$f":"IF(AK7=0,0,(AK7*((LOG(AK7))/LOG(2))))","v":0},null,{"$f":"N7","v":111},{"$f":"COUNTIF(L144:L178,AN7)","v":35},{"$f":"AO7/(AQ4-AO11)","v":1},{"$f":"IF(AP7=0,0,(AP7*((LOG(AP7))/LOG(2))))","v":0},null,{"$f":"N7","v":111},{"$f":"COUNTIF(L179:L212,AS7)","v":34},{"$f":"AT7/(AV4-AT11)","v":1},{"$f":"IF(AU7=0,0,(AU7*((LOG(AU7))/LOG(2))))","v":0}]
[12,135,13,141,13,147,null,null,null,null,0,111,null,112,{"$f":"COUNTIF($L$7:$L$500,N8)","v":0},{"$f":"O8/$Q$4","v":0},{"$f":"IF(P8=0,0,(P8*((LOG(P8))/LOG(2))))","v":0},null,null,{"$f":"N8","v":112},{"$f":"COUNTIF(L7:L40,T8)","v":0},{"$f":"U8/(W4-U11)","v":0},{"$f":"IF(V8=0,0,(V8*((LOG(V8))/LOG(2))))","v":0},null,{"$f":"N8","v":112},{"$f":"COUNTIF(L41:L75,Y8)","v":0},{"$f":"Z8/(AB4-Z11)","v":0},{"$f":"IF(AA8=0,0,(AA8*((LOG(AA8))/LOG(2))))","v":0},null,{"$f":"N8","v":112},{"$f":"COUNTIF(L76:L109,AD8)","v":0},{"$f":"AE8/(AG4-AE11)","v":0},{"$f":"IF(AF8=0,0,(AF8*((LOG(AF8))/LOG(2))))","v":0},null,{"$f":"N8","v":112},{"$f":"COUNTIF(L110:L143,AI8)","v":0},{"$f":"AJ8/(AL4-AJ11)","v":0},{"$f":"IF(AK8=0,0,(AK8*((LOG(AK8))/LOG(2))))","v":0},null,{"$f":"N8","v":112},{"$f":"COUNTIF(L144:L178,AN8)","v":0},{"$f":"AO8/(AQ4-AO11)","v":0},{"$f":"IF(AP8=0,0,(AP8*((LOG(AP8))/LOG(2))))","v":0},null,{"$f":"N8","v":112},{"$f":"COUNTIF(L179:L212,AS8)","v":0},{"$f":"AT8/(AV4-AT11)","v":0},{"$f":"IF(AU8=0,0,(AU8*((LOG(AU8))/LOG(2))))","v":0}]
[12,241,13,247,13,253,null,null,null,null,0,111,null,121,{"$f":"COUNTIF($L$7:$L$500,N9)","v":0},{"$f":"O9/$Q$4","v":0},{"$f":"IF(P9=0,0,(P9*((LOG(P9))/LOG(2))))","v":0},null,null,{"$f":"N9","v":121},{"$f":"COUNTIF(L7:L40,T9)","v":0},{"$f":"U9/(W4-U11)","v":0},{"$f":"IF(V9=0,0,(V9*((LOG(V9))/LOG(2))))","v":0},null,{"$f":"N9","v":121},{"$f":"COUNTIF(L41:L75,Y9)","v":0},{"$f":"Z9/(AB4-Z11)","v":0},{"$f":"IF(AA9=0,0,(AA9*((LOG(AA9))/LOG(2))))","v":0},null,{"$f":"N9","v":121},{"$f":"COUNTIF(L76:L109,AD9)","v":0},{"$f":"AE9/(AG4-AE11)","v":0},{"$f":"IF(AF9=0,0,(AF9*((LOG(AF9))/LOG(2))))","v":0},null,{"$f":"N9","v":121},{"$f":"COUNTIF(L110:L143,AI9)","v":0},{"$f":"AJ9/(AL4-AJ11)","v":0},{"$f":"IF(AK9=0,0,(AK9*((LOG(AK9))/LOG(2))))","v":0},null,{"$f":"N9","v":121},{"$f":"COUNTIF(L144:L178,AN9)","v":0},{"$f":"AO9/(AQ4-AO11)","v":0},{"$f":"IF(AP9=0,0,(AP9*((LOG(AP9))/LOG(2))))","v":0},null,{"$f":"N9","v":121},{"$f":"COUNTIF(L179:L212,AS9)","v":0},{"$f":"AT9/(AV4-AT11)","v":0},{"$f":"IF(AU9=0,0,(AU9*((LOG(AU9))/LOG(2))))","v":0}]
[12,359,13,365,13,371,null,null,null,null,0,111,null,122,{"$f":"COUNTIF($L$7:$L$500,N10)","v":0},{"$f":"O10/$Q$4","v":0},{"$f":"IF(P10=0,0,(P10*((LOG(P10))/LOG(2))))","v":0},null,null,{"$f":"N10","v":122},{"$f":"COUNTIF(L7:L40,T10)","v":0},{"$f":"U10/(W4-U11)","v":0},{"$f":"IF(V10=0,0,(V10*((LOG(V10))/LOG(2))))","v":0},null,{"$f":"N10","v":122},{"$f":"COUNTIF(L41:L75,Y10)","v":0},{"$f":"Z10/(AB4-Z11)","v":0},{"$f":"IF(AA10=0,0,(AA10*((LOG(AA10))/LOG(2))))","v":0},null,{"$f":"N10","v":122},{"$f":"COUNTIF(L76:L109,AD10)","v":0},{"$f":"AE10/(AG4-AE11)","v":0},{"$f":"IF(AF10=0,0,(AF10*((LOG(AF10))/LOG(2))))","v":0},null,{"$f":"N10","v":122},{"$f":"COUNTIF(L110:L143,AI10)","v":0},{"$f":"AJ10/(AL4-AJ11)","v":0},{"$f":"IF(AK10=0,0,(AK10*((LOG(AK10))/LOG(2))))","v":0},null,{"$f":"N10","v":122},{"$f":"COUNTIF(L144:L178,AN10)","v":0},{"$f":"AO10/(AQ4-AO11)","v":0},{"$f":"IF(AP10=0,0,(AP10*((LOG(AP10))/LOG(2))))","v":0},null,{"$f":"N10","v":122},{"$f":"COUNTIF(L179:L212,AS10)","v":0},{"$f":"AT10/(AV4-AT11)","v":0},{"$f":"IF(AU10=0,0,(AU10*((LOG(AU10))/LOG(2))))","v":0}]
[12,474,13,479,13,484,null,null,null,null,0,111,null,211,{"$f":"COUNTIF($L$7:$L$500,N11)","v":0},{"$f":"O11/$Q$4","v":0},{"$f":"IF(P11=0,0,(P11*((LOG(P11))/LOG(2))))","v":0},null,null,{"$f":"N11","v":211},{"$f":"COUNTIF(L7:L40,T11)","v":0},null,null,null,{"$f":"N11","v":211},{"$f":"COUNTIF(L41:L75,Y11)","v":0},null,null,null,{"$f":"N11","v":211},{"$f":"COUNTIF(L76:L109,AD11)","v":0},null,null,null,{"$f":"N11","v":211},{"$f":"COUNTIF(L110:L143,AI11)","v":0},null,null,null,{"$f":"N11","v":211},{"$f":"COUNTIF(L144:L178,AN11)","v":0},null,null,null,{"$f":"N11","v":211},{"$f":"COUNTIF(L179:L212,AS11)","v":0}]
[12,587,13,593,13,599,null,null,null,null,0,111,null,212,{"$f":"COUNTIF($L$7:$L$500,N12)","v":0},{"$f":"O12/$Q$4","v":0},{"$f":"IF(P12=0,0,(P12*((LOG(P12))/LOG(2))))","v":0},null,null,{"$f":"N12","v":212},{"$f":"COUNTIF(L7:L40,T12)","v":0},{"$f":"U12/(W4-U11)","v":0},{"$f":"IF(V12=0,0,(V12*((LOG(V12))/LOG(2))))","v":0},null,{"$f":"N12","v":212},{"$f":"COUNTIF(L41:L75,Y12)","v":0},{"$f":"Z12/(AB4-Z11)","v":0},{"$f":"IF(AA12=0,0,(AA12*((LOG(AA12))/LOG(2))))","v":0},null,{"$f":"N12","v":212},{"$f":"COUNTIF(L76:L109,AD12)","v":0},{"$f":"AE12/(AG4-AE11)","v":0},{"$f":"IF(AF12=0,0,(AF12*((LOG(AF12))/LOG(2))))","v":0},null,{"$f":"N12","v":212},{"$f":"COUNTIF(L110:L143,AI12)","v":0},{"$f":"AJ12/(AL4-AJ11)","v":0},{"$f":"IF(AK12=0,0,(AK12*((LOG(AK12))/LOG(2))))","v":0},null,{"$f":"N12","v":212},{"$f":"COUNTIF(L144:L178,AN12)","v":0},{"$f":"AO12/(AQ4-AO11)","v":0},{"$f":"IF(AP12=0,0,(AP12*((LOG(AP12))/LOG(2))))","v":0},null,{"$f":"N12","v":212},{"$f":"COUNTIF(L179:L212,AS12)","v":0},{"$f":"AT12/(AV4-AT11)","v":0},{"$f":"IF(AU12=0,0,(AU12*((LOG(AU12))/LOG(2))))","v":0}]
[12,702,13,709,13,714,null,null,null,null,0,111,null,221,{"$f":"COUNTIF($L$7:$L$500,N13)","v":0},{"$f":"O13/$Q$4","v":0},{"$f":"IF(P13=0,0,(P13*((LOG(P13))/LOG(2))))","v":0},null,null,{"$f":"N13","v":221},{"$f":"COUNTIF(L7:L40,T13)","v":0},{"$f":"U13/(W4-U11)","v":0},{"$f":"IF(V13=0,0,(V13*((LOG(V13))/LOG(2))))","v":0},null,{"$f":"N13","v":221},{"$f":"COUNTIF(L41:L75,Y13)","v":0},{"$f":"Z13/(AB4-Z11)","v":0},{"$f":"IF(AA13=0,0,(AA13*((LOG(AA13))/LOG(2))))","v":0},null,{"$f":"N13","v":221},{"$f":"COUNTIF(L76:L109,AD13)","v":0},{"$f":"AE13/(AG4-AE11)","v":0},{"$f":"IF(AF13=0,0,(AF13*((LOG(AF13))/LOG(2))))","v":0},null,{"$f":"N13","v":221},{"$f":"COUNTIF(L110:L143,AI13)","v":0},{"$f":"AJ13/(AL4-AJ11)","v":0},{"$f":"IF(AK13=0,0,(AK13*((LOG(AK13))/LOG(2))))","v":0},null,{"$f":"N13","v":221},{"$f":"COUNTIF(L144:L178,AN13)","v":0},{"$f":"AO13/(AQ4-AO11)","v":0},{"$f":"IF(AP13=0,0,(AP13*((LOG(AP13))/LOG(2))))","v":0},null,{"$f":"N13","v":221},{"$f":"COUNTIF(L179:L212,AS13)","v":0},{"$f":"AT13/(AV4-AT11)","v":0},{"$f":"IF(AU13=0,0,(AU13*((LOG(AU13))/LOG(2))))","v":0}]
[12,820,13,826,13,831,null,null,null,null,0,111,null,222,{"$f":"COUNTIF($L$7:$L$500,N14)","v":0},{"$f":"O14/$Q$4","v":0},{"$f":"IF(P14=0,0,(P14*((LOG(P14))/LOG(2))))","v":0},null,null,{"$f":"N14","v":222},{"$f":"COUNTIF(L7:L40,T14)","v":0},{"$f":"U14/(W4-U11)","v":0},{"$f":"IF(V14=0,0,(V14*((LOG(V14))/LOG(2))))","v":0},null,{"$f":"N14","v":222},{"$f":"COUNTIF(L41:L75,Y14)","v":0},{"$f":"Z14/(AB4-Z11)","v":0},{"$f":"IF(AA14=0,0,(AA14*((LOG(AA14))/LOG(2))))","v":0},null,{"$f":"N14","v":222},{"$f":"COUNTIF(L76:L109,AD14)","v":0},{"$f":"AE14/(AG4-AE11)","v":0},{"$f":"IF(AF14=0,0,(AF14*((LOG(AF14))/LOG(2))))","v":0},null,{"$f":"N14","v":222},{"$f":"COUNTIF(L110:L143,AI14)","v":0},{"$f":"AJ14/(AL4-AJ11)","v":0},{"$f":"IF(AK14=0,0,(AK14*((LOG(AK14))/LOG(2))))","v":0},null,{"$f":"N14","v":222},{"$f":"COUNTIF(L144:L178,AN14)","v":0},{"$f":"AO14/(AQ4-AO11)","v":0},{"$f":"IF(AP14=0,0,(AP14*((LOG(AP14))/LOG(2))))","v":0},null,{"$f":"N14","v":222},{"$f":"COUNTIF(L179:L212,AS14)","v":0},{"$f":"AT14/(AV4-AT11)","v":0},{"$f":"IF(AU14=0,0,(AU14*((LOG(AU14))/LOG(2))))","v":0}]
[12,940,13,944,13,950,null,null,null,null,0,111,null,null,null,{"$f":"SUM(P7:P14)","v":1},{"$f":"-SUM(Q7:Q14)","v":0},null,null,null,null,{"$f":"SUM(V7:V14)","v":1},{"$f":"-SUM(W7:W14)","v":0},null,null,null,{"$f":"SUM(AA7:AA14)","v":1},{"$f":"-SUM(AB7:AB14)","v":0},null,null,null,{"$f":"SUM(AF7:AF14)","v":1},{"$f":"-SUM(AG7:AG14)","v":0},null,null,null,{"$f":"SUM(AK7:AK14)","v":1},{"$f":"-SUM(AL7:AL14)","v":0},null,null,null,{"$f":"SUM(AP7:AP14)","v":1},{"$f":"-SUM(AQ7:AQ14)","v":0},null,null,null,{"$f":"SUM(AU7:AU14)","v":1},{"$f":"-SUM(AV7:AV14)","v":0}]
[12,1055,13,1062,13,1067,null,null,null,null,0,111,null,null,null,"U=",{"$f":"Q15/(LOG(Q4)/LOG(2))","v":0},null,null,null,null,"U1=",{"$f":"W15/(LOG(W4)/LOG(2))","v":0},null,null,null,"U2=",{"$f":"AB15/(LOG(AB4)/LOG(2))","v":0},null,null,null,"U3=",{"$f":"AG15/(LOG(AG4)/LOG(2))","v":0},null,null,null,"U4=",{"$f":"AL15/(LOG(AL4)/LOG(2))","v":0},null,null,null,"U5=",{"$f":"AQ15/(LOG(AQ4)/LOG(2))","v":0},null,null,null,"U6=",{"$f":"AV15/(LOG(AV4)/LOG(2))","v":0}]
[12,1178,13,1183,13,1192,null,null,null,null,0,111]
[12,1294,13,1301,13,1306,null,null,null,null,0,111]
[12,1423,13,1433,13,1443,null,null,null,null,0,111,null,"Total Target Seq"]
[12,1558,13,1570,13,1578,null,null,null,null,0,111,null,{"$f":"COUNTIF(L7:L212,G3)","v":0},null,34,35,34,34,35,34]
[12,1696,13,1701,13,1706,null,null,null,null,0,111,null,null,null,"% of reinforcement given in 6 equal intervals based on number of trials "]
[12,1816,13,1830,13,1836,null,null,null,null,0,111,null,null,null,"%_1","%_2","%_3","%_4","%_5","%_6"]
[12,1936,13,1943,13,1950,null,null,null,null,0,111,null,null,"target sequence",{"$f":"$G$3","v":211},{"$f":"$G$3","v":211},{"$f":"$G$3","v":211},{"$f":"$G$3","v":211},{"$f":"$G$3","v":211},{"$f":"$G$3","v":211}]
[12,2051,13,2057,13,2064,null,null,null,null,0,111,null,null,"total reinforcement",{"$f":"U11","v":0},{"$f":"Z11","v":0},{"$f":"AE11","v":0},{"$f":"AJ11","v":0},{"$f":"AO11","v":0},{"$f":"AT11","v":0}]
[12,2168,13,2174,13,2180,null,null,null,null,0,111,null,null,"% target"]
[12,2285,13,2290,13,2296,null,null,null,null,0,111,null,null,"CCRF"]
[12,2398,13,2402,13,2408,null,null,null,null,0,111,null,null,"% CCRf"]
[12,2514,13,2520,13,2530,null,null,null,null,0,111,null,null,"average response rate",{"$f":"F40/P20","v":116.94117647058823},{"$f":"(F75-F40)/Q20","v":115.48571428571428},{"$f":"(F109-F75)/R20","v":113.55882352941177},{"$f":"(F143-F109)/S20","v":116.82352941176471},{"$f":"(F178-F143)/T20","v":115.62857142857143},{"$f":"(F212-F178)/U20","v":119.76470588235294}]
[12,2635,13,2641,13,2647,null,null,null,null,0,111]
[12,2746,13,2751,13,2756,null,null,null,null,0,111]
[12,2866,13,2872,13,2878,null,null,null,null,0,111]
[12,2990,13,2997,13,3003,null,null,null,null,0,111]
[12,3112,13,3118,13,3123,null,null,null,null,0,111]
[12,3230,13,3235,13,3241,null,null,null,null,0,111]
[12,3344,13,3348,13,3353,null,null,null,null,0,111]
[12,3467,13,3472,13,3481,null,null,null,null,0,111]
[12,3599,13,3605,13,3613,null,null,null,null,0,111]
[12,3718,13,3723,13,3729,null,null,null,null,0,111]
[12,3829,13,3834,13,3841,null,null,null,null,0,111]
[12,3960,13,3966,13,3976,null,null,null,null,0,111]
[12,4078,13,4083,13,4088,null,null,null,null,0,111]
[12,4190,13,4195,13,4200,null,null,null,null,0,111]
[12,4306,13,4311,13,4318,null,null,null,null,0,111]
[12,4419,13,4424,13,4429,null,null,null,null,0,111]
[12,4530,13,4537,13,4544,null,null,null,null,0,111]
[12,4651,13,4656,13,4662,null,null,null,null,0,111]
[12,4765,13,4770,13,4775,null,null,null,null,0,111]
[12,4876,13,4889,13,4897,null,null,null,null,0,111]
[12,4998,13,5003,13,5008,null,null,null,null,0,111]
[12,5107,13,5112,13,5121,null,null,null,null,0,111]
[12,5220,13,5224,13,5229,null,null,null,null,0,111]
[12,5332,13,5341,13,5347,null,null,null,null,0,111]
[12,5455,13,5462,13,5467,null,null,null,null,0,111]
[12,5605,13,5611,13,5617,null,null,null,null,0,111]
[12,5722,13,5727,13,5735,null,null,null,null,0,111]
[12,5835,13,5842,13,5850,null,null,null,null,0,111]
[12,5949,13,5954,13,5959,null,null,null,null,0,111]
[12,6057,13,6063,13,6072,null,null,null,null,0,111]
[12,6175,13,6184,13,6193,null,null,null,null,0,111]
[12,6292,13,6302,13,6308,null,null,null,null,0,111]
[12,6406,13,6411,13,6417,null,null,null,null,0,111]
[12,6516,13,6520,13,6526,null,null,null,null,0,111]
[12,6619,13,6624,13,6629,null,null,null,null,0,111]
[12,6736,13,6743,13,6752,null,null,null,null,0,111]
[12,6854,13,6859,13,6864,null,null,null,null,0,111]
[12,6968,13,6972,13,6978,null,null,null,null,0,111]
[12,7081,13,7091,13,7097,null,null,null,null,0,111]
[12,7198,13,7202,13,7207,null,null,null,null,0,111]
[12,7311,13,7316,13,7322,null,null,null,null,0,111]
[12,7424,13,7429,13,7434,null,null,null,null,0,111]
[12,7532,13,7538,13,7553,null,null,null,null,0,111]
[12,7667,13,7676,13,7685,null,null,null,null,0,111]
[12,7785,13,7789,13,7794,null,null,null,null,0,111]
[12,7898,13,7902,13,7907,null,null,null,null,0,111]
[12,8008,13,8013,13,8018,null,null,null,null,0,111]
[12,8120,13,8126,13,8131,null,null,null,null,0,111]
[12,8231,13,8236,13,8243,null,null,null,null,0,111]
[12,8343,13,8347,13,8354,null,null,null,null,0,111]
[12,8452,13,8458,13,8464,null,null,null,null,0,111]
[12,8564,13,8569,13,8573,null,null,null,null,0,111]
[12,8674,13,8680,13,8686,null,null,null,null,0,111]
[12,8783,13,8789,13,8794,null,null,null,null,0,111]
[12,8891,13,8896,13,8901,null,null,null,null,0,111]
[12,8994,13,9000,13,9006,null,null,null,null,0,111]
[12,9104,13,9109,13,9113,null,null,null,null,0,111]
[12,9212,13,9217,13,9221,null,null,null,null,0,111]
[12,9324,13,9329,13,9334,null,null,null,null,0,111]
[12,9433,13,9439,13,9444,null,null,null,null,0,111]
[12,9553,13,9558,13,9563,null,null,null,null,0,111]
[12,9686,13,9692,13,9698,null,null,null,null,0,111]
[12,9797,13,9802,13,9807,null,null,null,null,0,111]
[12,9904,13,9908,13,9913,null,null,null,null,0,111]
[12,10022,13,10026,13,10033,null,null,null,null,0,111]
[12,10132,13,10137,13,10142,null,null,null,null,0,111]
[12,10244,13,10249,13,10255,null,null,null,null,0,111]
[12,10356,13,10360,13,10369,null,null,null,null,0,111]
[12,10478,13,10483,13,10491,null,null,null,null,0,111]
[12,10589,13,10594,13,10598,null,null,null,null,0,111]
[12,10718,13,10723,13,10731,null,null,null,null,0,111]
[12,10835,13,10840,13,10846,null,null,null,null,0,111]
[12,10949,13,10953,13,10958,null,null,null,null,0,111]
[12,11057,13,11062,13,11067,null,null,null,null,0,111]
[12,11182,13,11187,13,11195,null,null,null,null,0,111]
[12,11306,13,11314,13,11328,null,null,null,null,0,111]
[12,11427,13,11434,13,11441,null,null,null,null,0,111]
[12,11539,13,11544,13,11548,null,null,null,null,0,111]
[12,11646,13,11652,13,11658,null,null,null,null,0,111]
[12,11758,13,11764,13,11769,null,null,null,null,0,111]
[12,11869,13,11874,13,11879,null,null,null,null,0,111]
[12,11977,13,11983,13,11987,null,null,null,null,0,111]
[12,12084,13,12089,13,12095,null,null,null,null,0,111]
[12,12197,13,12204,13,12211,null,null,null,null,0,111]
[12,12311,13,12317,13,12327,null,null,null,null,0,111]
[12,12425,13,12430,13,12436,null,null,null,null,0,111]
[12,12534,13,12540,13,12546,null,null,null,null,0,111]
[12,12644,13,12650,13,12654,null,null,null,null,0,111]
[12,12759,13,12765,13,12771,null,null,null,null,0,111]
[12,12870,13,12875,13,12880,null,null,null,null,0,111]
[12,12993,13,12999,13,13004,null,null,null,null,0,111]
[12,13103,13,13107,13,13118,null,null,null,null,0,111]
[12,13218,13,13224,13,13230,null,null,null,null,0,111]
[12,13327,13,13332,13,13338,null,null,null,null,0,111]
[12,13435,13,13440,13,13446,null,null,null,null,0,111]
[12,13546,13,13551,13,13557,null,null,null,null,0,111]
[12,13686,13,13692,13,13699,null,null,null,null,0,111]
[12,13809,13,13814,13,13820,null,null,null,null,0,111]
[12,13923,13,13927,13,13932,null,null,null,null,0,111]
[12,14031,13,14035,13,14040,null,null,null,null,0,111]
[12,14146,13,14154,13,14172,null,null,null,null,0,111]
[12,14311,13,14316,13,14324,null,null,null,null,0,111]
[12,14422,13,14427,13,14432,null,null,null,null,0,111]
[12,14586,13,14597,13,14606,null,null,null,null,0,111]
[12,14708,13,14714,13,14720,null,null,null,null,0,111]
[12,14819,13,14824,13,14830,null,null,null,null,0,111]
[12,14926,13,14931,13,14936,null,null,null,null,0,111]
[12,15038,13,15043,13,15048,null,null,null,null,0,111]
[12,15154,13,15160,13,15168,null,null,null,null,0,111]
[12,15263,13,15270,13,15274,null,null,null,null,0,111]
[12,15374,13,15378,13,15385,null,null,null,null,0,111]
[12,15485,13,15490,13,15496,null,null,null,null,0,111]
[12,15595,13,15600,13,15604,null,null,null,null,0,111]
[12,15708,13,15715,13,15723,null,null,null,null,0,111]
[12,15837,13,15843,13,15851,null,null,null,null,0,111]
[12,15952,13,15970,13,15979,null,null,null,null,0,111]
[12,16085,13,16099,13,16105,null,null,null,null,0,111]
[12,16223,13,16231,13,16240,null,null,null,null,0,111]
[12,16349,13,16354,13,16362,null,null,null,null,0,111]
[12,16460,13,16465,13,16469,null,null,null,null,0,111]
[12,16576,13,16582,13,16587,null,null,null,null,0,111]
[12,16685,13,16690,13,16696,null,null,null,null,0,111]
[12,16796,13,16800,13,16805,null,null,null,null,0,111]
[12,16901,13,16906,13,16911,null,null,null,null,0,111]
[12,17025,13,17031,13,17045,null,null,null,null,0,111]
[12,17145,13,17149,13,17155,null,null,null,null,0,111]
[12,17255,13,17262,13,17270,null,null,null,null,0,111]
[12,17368,13,17373,13,17377,null,null,null,null,0,111]
[12,17481,13,17487,13,17494,null,null,null,null,0,111]
[12,17613,13,17620,13,17630,null,null,null,null,0,111]
[12,17738,13,17743,13,17750,null,null,null,null,0,111]
[12,17850,13,17855,13,17861,null,null,null,null,0,111]
[12,17956,13,17961,13,17968,null,null,null,null,0,111]
[12,18070,13,18075,13,18081,null,null,null,null,0,111]
[12,18185,13,18190,13,18195,null,null,null,null,0,111]
[12,18299,13,18304,13,18309,null,null,null,null,0,111]
[12,18432,13,18439,13,18448,null,null,null,null,0,111]
[12,18549,13,18554,13,18559,null,null,null,null,0,111]
[12,18652,13,18657,13,18663,null,null,null,null,0,111]
[12,18759,13,18767,13,18773,null,null,null,null,0,111]
[12,18873,13,18878,13,18883,null,null,null,null,0,111]
[12,18987,13,18992,13,18998,null,null,null,null,0,111]
[12,19098,13,19103,13,19109,null,null,null,null,0,111]
[12,19206,13,19211,13,19216,null,null,null,null,0,111]
[12,19314,13,19319,13,19325,null,null,null,null,0,111]
[12,19425,13,19430,13,19435,null,null,null,null,0,111]
[12,19534,13,19539,13,19546,null,null,null,null,0,111]
[12,19649,13,19655,13,19661,null,null,null,null,0,111]
[12,19768,13,19774,13,19779,null,null,null,null,0,111]
[12,19886,13,19891,13,19898,null,null,null,null,0,111]
[12,20004,13,20010,13,20015,null,null,null,null,0,111]
[12,20115,13,20119,13,20126,null,null,null,null,0,111]
[12,20227,13,20232,13,20237,null,null,null,null,0,111]
[12,20346,13,20352,13,20360,null,null,null,null,0,111]
[12,20466,13,20476,13,20491,null,null,null,null,0,111]
[12,20591,13,20597,13,20611,null,null,null,null,0,111]
[12,20710,13,20717,13,20724,null,null,null,null,0,111]
[12,20849,13,20855,13,20873,null,null,null,null,0,111]
[12,20976,13,20984,13,20991,null,null,null,null,0,111]
[12,21094,13,21099,13,21104,null,null,null,null,0,111]
[12,21206,13,21212,13,21217,null,null,null,null,0,111]
[12,21323,13,21328,13,21335,null,null,null,null,0,111]
[12,21433,13,21438,13,21443,null,null,null,null,0,111]
[12,21547,13,21552,13,21557,null,null,null,null,0,111]
[12,21662,13,21671,13,21679,null,null,null,null,0,111]
[12,21782,13,21786,13,21791,null,null,null,null,0,111]
[12,21889,13,21894,13,21898,null,null,null,null,0,111]
[12,21998,13,22002,13,22008,null,null,null,null,0,111]
[12,22106,13,22115,13,22121,null,null,null,null,0,111]
[12,22263,13,22271,13,22289,null,null,null,null,0,111]
[12,22389,13,22394,13,22400,null,null,null,null,0,111]
[12,22498,13,22503,13,22507,null,null,null,null,0,111]
[12,22616,13,22623,13,22632,null,null,null,null,0,111]
[12,22732,13,22741,13,22747,null,null,null,null,0,111]
[12,22865,13,22870,13,22875,null,null,null,null,0,111]
[12,22977,13,22984,13,22989,null,null,null,null,0,111]
[12,23089,13,23093,13,23099,null,null,null,null,0,111]
[12,23198,13,23204,13,23213,null,null,null,null,0,111]
[12,23327,13,23332,13,23338,null,null,null,null,0,111]
[12,23437,13,23442,13,23447,null,null,null,null,0,111]
[12,23550,13,23562,13,23570,null,null,null,null,0,111]
[12,23694,13,23722,13,23730,null,null,null,null,0,111]
[12,23838,13,23845,13,23853,null,null,null,null,0,111]
[12,23957,13,23962,13,23970,null,null,null,null,null,111]

{"sheet":"!N415900.010","index":23,"n_rows":215,"n_cols":48,"rows_kept":215,"cut":false,"hidden":false,"merged":[[4,39,4,42],[5,39,5,40],[4,44,4,47],[5,44,5,45],[4,24,4,27],[5,24,5,25],[4,29,4,32],[5,29,5,30],[4,34,4,37],[5,34,5,35],[1,1,1,2],[5,13,5,14],[18,13,18,14],[19,13,19,14],[4,19,4,22],[5,19,5,20]]}
["Report for:!N415900.010"]
["Date:","<date>"]
["Hen:","<hen>",null,null,null,"Correct Sequence",{"$f":"Start!J2","v":211},null,null,null,null,null,null,null,null,"Total Sequences in Data",{"$f":"4994-COUNTBLANK(L7:L5000)","v":209},null,null,null,null,"Total Sequences in Block Data",{"$f":"COUNTA(L7:L41)","v":35},null,null,null,"Total Sequences in Block Data",{"$f":"COUNTA(L42:L76)","v":35},null,null,null,"Total Sequences in Block Data",{"$f":"COUNTA(L77:L110)","v":34},null,null,null,"Total Sequences in Block Data",{"$f":"COUNTA(L111:L145)","v":35},null,null,null,"Total Sequences in Block Data",{"$f":"COUNTA(L146:L180)","v":35},null,null,null,"Total Sequences in Block Data",{"$f":"COUNTA(L181:L215)","v":35}]
[null,null,null,null,null,null,null,null,null,null,null,null,null,null,null,"Total Sequences in Summary",{"$f":"SUM(O7:O14)","v":209},null,null,null,null,"Total Sequences in Block Summary",{"$f":"SUM(U7:U14)","v":35},null,null,null,"Total Sequences in Block Summary",{"$f":"SUM(Z7:Z14)","v":35},null,null,null,"Total Sequences in Block Summary",{"$f":"SUM(AE7:AE14)","v":34},null,null,null,"Total Sequences in Block Summary",{"$f":"SUM(AJ7:AJ14)","v":35},null,null,null,"Total Sequences in Block Summary",{"$f":"SUM(AO7:AO14)","v":35},null,null,null,"Total Sequences in Block Summary",{"$f":"SUM(AT7:AT14)","v":35}]
[null,null,null,null,null,null,null,null,null,null,null,null,null,null,null,null,null,null,null,"Block 1",null,null,null,null,"Block 2",null,null,null,null,"Block 3",null,null,null,null,"Block 4",null,null,null,null,"Block 5",null,null,null,null,"Block 6"]
["Sequence\nComponent\n1","Time\n1","Sequence\nComponent\n2","Time\n2","Sequence\nComponent\n3","Time\n3","Sequence\nComponent\n4","Time\n4","Sequence\nComponent\n5","Time\n5","Correct?\n0=No 1=Yes","Sequence",null,"Frequency",null,"Relative Frequency","Variability",null,null,"Frequency",null,"Relative Frequency","Variability",null,"Frequency",null,"Relative Frequency","Variability",null,"Frequency",null,"Relative Frequency","Variability",null,"Frequency",null,"Relative Frequency","Variability",null,"Frequency",null,"Relative Frequency","Variability",null,"Frequency",null,"Relative Frequency","Variability"]
[21,8,22,17,24,23,null,null,null,null,0,222,null,111,{"$f":"COUNTIF($L$7:$L$500,N7)","v":206},{"$f":"O7/$Q$4","v":0.9856459330143541},{"$f":"IF(P7=0,0,(P7*((LOG(P7))/LOG(2))))","v":-2.055919908573612E-2},null,null,{"$f":"N7","v":111},{"$f":"COUNTIF(L7:L41,T7)","v":34},{"$f":"U7/(W4-U11)","v":0.97142857142857142},{"$f":"IF(V7=0,0,(V7*((LOG(V7))/LOG(2))))","v":-4.0625313531923425E-2},null,{"$f":"N7","v":111},{"$f":"COUNTIF(L42:L76,Y7)","v":35},{"$f":"Z7/(AB4-Z11)","v":1},{"$f":"IF(AA7=0,0,(AA7*((LOG(AA7))/LOG(2))))","v":0},null,{"$f":"N7","v":111},{"$f":"COUNTIF(L77:L110,AD7)","v":34},{"$f":"AE7/(AG4-AE11)","v":1},{"$f":"IF(AF7=0,0,(AF7*((LOG(AF7))/LOG(2))))","v":0},null,{"$f":"N7","v":111},{"$f":"COUNTIF(L111:L145,AI7)","v":35},{"$f":"AJ7/(AL4-AJ11)","v":1},{"$f":"IF(AK7=0,0,(AK7*((LOG(AK7))/LOG(2))))","v":0},null,{"$f":"N7","v":111},{"$f":"COUNTIF(L146:L180,AN7)","v":34},{"$f":"AO7/(AQ4-AO11)","v":0.97142857142857142},{"$f":"IF(AP7=0,0,(AP7*((LOG(AP7))/LOG(2))))","v":-4.0625313531923425E-2},null,{"$f":"N7","v":111},{"$f":"COUNTIF(L181:L215,AS7)","v":34},{"$f":"AT7/(AV4-AT11)","v":1},{"$f":"IF(AU7=0,0,(AU7*((LOG(AU7))/LOG(2))))","v":0}]
[12,137,13,143,13,152,null,null,null,null,0,111,null,112,{"$f":"COUNTIF($L$7:$L$500,N8)","v":0},{"$f":"O8/$Q$4","v":0},{"$f":"IF(P8=0,0,(P8*((LOG(P8))/LOG(2))))","v":0},null,null,{"$f":"N8","v":112},{"$f":"COUNTIF(L7:L41,T8)","v":0},{"$f":"U8/(W4-U11)","v":0},{"$f":"IF(V8=0,0,(V8*((LOG(V8))/LOG(2))))","v":0},null,{"$f":"N8","v":112},{"$f":"COUNTIF(L42:L76,Y8)","v":0},{"$f":"Z8/(AB4-Z11)","v":0},{"$f":"IF(AA8=0,0,(AA8*((LOG(AA8))/LOG(2))))","v":0},null,{"$f":"N8","v":112},{"$f":"COUNTIF(L77:L110,AD8)","v":0},{"$f":"AE8/(AG4-AE11)","v":0},{"$f":"IF(AF8=0,0,(AF8*((LOG(AF8))/LOG(2))))","v":0},null,{"$f":"N8","v":112},{"$f":"COUNTIF(L111:L145,AI8)","v":0},{"$f":"AJ8/(AL4-AJ11)","v":0},{"$f":"IF(AK8=0,0,(AK8*((LOG(AK8))/LOG(2))))","v":0},null,{"$f":"N8","v":112},{"$f":"COUNTIF(L146:L180,AN8)","v":0},{"$f":"AO8/(AQ4-AO11)","v":0},{"$f":"IF(AP8=0,0,(AP8*((LOG(AP8))/LOG(2))))","v":0},null,{"$f":"N8","v":112},{"$f":"COUNTIF(L181:L215,AS8)","v":0},{"$f":"AT8/(AV4-AT11)","v":0},{"$f":"IF(AU8=0,0,(AU8*((LOG(AU8))/LOG(2))))","v":0}]
[12,252,13,261,13,266,null,null,null,null,0,111,null,121,{"$f":"COUNTIF($L$7:$L$500,N9)","v":0},{"$f":"O9/$Q$4","v":0},{"$f":"IF(P9=0,0,(P9*((LOG(P9))/LOG(2))))","v":0},null,null,{"$f":"N9","v":121},{"$f":"COUNTIF(L7:L41,T9)","v":0},{"$f":"U9/(W4-U11)","v":0},{"$f":"IF(V9=0,0,(V9*((LOG(V9))/LOG(2))))","v":0},null,{"$f":"N9","v":121},{"$f":"COUNTIF(L42:L76,Y9)","v":0},{"$f":"Z9/(AB4-Z11)","v":0},{"$f":"IF(AA9=0,0,(AA9*((LOG(AA9))/LOG(2))))","v":0},null,{"$f":"N9","v":121},{"$f":"COUNTIF(L77:L110,AD9)","v":0},{"$f":"AE9/(AG4-AE11)","v":0},{"$f":"IF(AF9=0,0,(AF9*((LOG(AF9))/LOG(2))))","v":0},null,{"$f":"N9","v":121},{"$f":"COUNTIF(L111:L145,AI9)","v":0},{"$f":"AJ9/(AL4-AJ11)","v":0},{"$f":"IF(AK9=0,0,(AK9*((LOG(AK9))/LOG(2))))","v":0},null,{"$f":"N9","v":121},{"$f":"COUNTIF(L146:L180,AN9)","v":0},{"$f":"AO9/(AQ4-AO11)","v":0},{"$f":"IF(AP9=0,0,(AP9*((LOG(AP9))/LOG(2))))","v":0},null,{"$f":"N9","v":121},{"$f":"COUNTIF(L181:L215,AS9)","v":0},{"$f":"AT9/(AV4-AT11)","v":0},{"$f":"IF(AU9=0,0,(AU9*((LOG(AU9))/LOG(2))))","v":0}]
[12,365,13,370,13,376,null,null,null,null,0,111,null,122,{"$f":"COUNTIF($L$7:$L$500,N10)","v":0},{"$f":"O10/$Q$4","v":0},{"$f":"IF(P10=0,0,(P10*((LOG(P10))/LOG(2))))","v":0},null,null,{"$f":"N10","v":122},{"$f":"COUNTIF(L7:L41,T10)","v":0},{"$f":"U10/(W4-U11)","v":0},{"$f":"IF(V10=0,0,(V10*((LOG(V10))/LOG(2))))","v":0},null,{"$f":"N10","v":122},{"$f":"COUNTIF(L42:L76,Y10)","v":0},{"$f":"Z10/(AB4-Z11)","v":0},{"$f":"IF(AA10=0,0,(AA10*((LOG(AA10))/LOG(2))))","v":0},null,{"$f":"N10","v":122},{"$f":"COUNTIF(L77:L110,AD10)","v":0},{"$f":"AE10/(AG4-AE11)","v":0},{"$f":"IF(AF10=0,0,(AF10*((LOG(AF10))/LOG(2))))","v":0},null,{"$f":"N10","v":122},{"$f":"COUNTIF(L111:L145,AI10)","v":0},{"$f":"AJ10/(AL4-AJ11)","v":0},{"$f":"IF(AK10=0,0,(AK10*((LOG(AK10))/LOG(2))))","v":0},null,{"$f":"N10","v":122},{"$f":"COUNTIF(L146:L180,AN10)","v":0},{"$f":"AO10/(AQ4-AO11)","v":0},{"$f":"IF(AP10=0,0,(AP10*((LOG(AP10))/LOG(2))))","v":0},null,{"$f":"N10","v":122},{"$f":"COUNTIF(L181:L215,AS10)","v":0},{"$f":"AT10/(AV4-AT11)","v":0},{"$f":"IF(AU10=0,0,(AU10*((LOG(AU10))/LOG(2))))","v":0}]
[12,473,13,478,13,484,null,null,null,null,0,111,null,211,{"$f":"COUNTIF($L$7:$L$500,N11)","v":1},{"$f":"O11/$Q$4","v":4.7846889952153108E-3},{"$f":"IF(P11=0,0,(P11*((LOG(P11))/LOG(2))))","v":-3.6877316421439633E-2},null,null,{"$f":"N11","v":211},{"$f":"COUNTIF(L7:L41,T11)","v":0},null,null,null,{"$f":"N11","v":211},{"$f":"COUNTIF(L42:L76,Y11)","v":0},null,null,null,{"$f":"N11","v":211},{"$f":"COUNTIF(L77:L110,AD11)","v":0},null,null,null,{"$f":"N11","v":211},{"$f":"COUNTIF(L111:L145,AI11)","v":0},null,null,null,{"$f":"N11","v":211},{"$f":"COUNTIF(L146:L180,AN11)","v":0},null,null,null,{"$f":"N11","v":211},{"$f":"COUNTIF(L181:L215,AS11)","v":1}]
[12,582,13,587,13,592,null,null,null,null,0,111,null,212,{"$f":"COUNTIF($L$7:$L$500,N12)","v":0},{"$f":"O12/$Q$4","v":0},{"$f":"IF(P12=0,0,(P12*((LOG(P12))/LOG(2))))","v":0},null,null,{"$f":"N12","v":212},{"$f":"COUNTIF(L7:L41,T12)","v":0},{"$f":"U12/(W4-U11)","v":0},{"$f":"IF(V12=0,0,(V12*((LOG(V12))/LOG(2))))","v":0},null,{"$f":"N12","v":212},{"$f":"COUNTIF(L42:L76,Y12)","v":0},{"$f":"Z12/(AB4-Z11)","v":0},{"$f":"IF(AA12=0,0,(AA12*((LOG(AA12))/LOG(2))))","v":0},null,{"$f":"N12","v":212},{"$f":"COUNTIF(L77:L110,AD12)","v":0},{"$f":"AE12/(AG4-AE11)","v":0},{"$f":"IF(AF12=0,0,(AF12*((LOG(AF12))/LOG(2))))","v":0},null,{"$f":"N12","v":212},{"$f":"COUNTIF(L111:L145,AI12)","v":0},{"$f":"AJ12/(AL4-AJ11)","v":0},{"$f":"IF(AK12=0,0,(AK12*((LOG(AK12))/LOG(2))))","v":0},null,{"$f":"N12","v":212},{"$f":"COUNTIF(L146:L180,AN12)","v":0},{"$f":"AO12/(AQ4-AO11)","v":0},{"$f":"IF(AP12=0,0,(AP12*((LOG(AP12))/LOG(2))))","v":0},null,{"$f":"N12","v":212},{"$f":"COUNTIF(L181:L215,AS12)","v":0},{"$f":"AT12/(AV4-AT11)","v":0},{"$f":"IF(AU12=0,0,(AU12*((LOG(AU12))/LOG(2))))","v":0}]
[12,693,13,698,13,704,null,null,null,null,0,111,null,221,{"$f":"COUNTIF($L$7:$L$500,N13)","v":0},{"$f":"O13/$Q$4","v":0},{"$f":"IF(P13=0,0,(P13*((LOG(P13))/LOG(2))))","v":0},null,null,{"$f":"N13","v":221},{"$f":"COUNTIF(L7:L41,T13)","v":0},{"$f":"U13/(W4-U11)","v":0},{"$f":"IF(V13=0,0,(V13*((LOG(V13))/LOG(2))))","v":0},null,{"$f":"N13","v":221},{"$f":"COUNTIF(L42:L76,Y13)","v":0},{"$f":"Z13/(AB4-Z11)","v":0},{"$f":"IF(AA13=0,0,(AA13*((LOG(AA13))/LOG(2))))","v":0},null,{"$f":"N13","v":221},{"$f":"COUNTIF(L77:L110,AD13)","v":0},{"$f":"AE13/(AG4-AE11)","v":0},{"$f":"IF(AF13=0,0,(AF13*((LOG(AF13))/LOG(2))))","v":0},null,{"$f":"N13","v":221},{"$f":"COUNTIF(L111:L145,AI13)","v":0},{"$f":"AJ13/(AL4-AJ11)","v":0},{"$f":"IF(AK13=0,0,(AK13*((LOG(AK13))/LOG(2))))","v":0},null,{"$f":"N13","v":221},{"$f":"COUNTIF(L146:L180,AN13)","v":0},{"$f":"AO13/(AQ4-AO11)","v":0},{"$f":"IF(AP13=0,0,(AP13*((LOG(AP13))/LOG(2))))","v":0},null,{"$f":"N13","v":221},{"$f":"COUNTIF(L181:L215,AS13)","v":0},{"$f":"AT13/(AV4-AT11)","v":0},{"$f":"IF(AU13=0,0,(AU13*((LOG(AU13))/LOG(2))))","v":0}]
[12,801,13,806,13,811,null,null,null,null,0,111,null,222,{"$f":"COUNTIF($L$7:$L$500,N14)","v":2},{"$f":"O14/$Q$4","v":9.5693779904306216E-3},{"$f":"IF(P14=0,0,(P14*((LOG(P14))/LOG(2))))","v":-6.4185254852448637E-2},null,null,{"$f":"N14","v":222},{"$f":"COUNTIF(L7:L41,T14)","v":1},{"$f":"U14/(W4-U11)","v":2.8571428571428571E-2},{"$f":"IF(V14=0,0,(V14*((LOG(V14))/LOG(2))))","v":-0.14655094334128474},null,{"$f":"N14","v":222},{"$f":"COUNTIF(L42:L76,Y14)","v":0},{"$f":"Z14/(AB4-Z11)","v":0},{"$f":"IF(AA14=0,0,(AA14*((LOG(AA14))/LOG(2))))","v":0},null,{"$f":"N14","v":222},{"$f":"COUNTIF(L77:L110,AD14)","v":0},{"$f":"AE14/(AG4-AE11)","v":0},{"$f":"IF(AF14=0,0,(AF14*((LOG(AF14))/LOG(2))))","v":0},null,{"$f":"N14","v":222},{"$f":"COUNTIF(L111:L145,AI14)","v":0},{"$f":"AJ14/(AL4-AJ11)","v":0},{"$f":"IF(AK14=0,0,(AK14*((LOG(AK14))/LOG(2))))","v":0},null,{"$f":"N14","v":222},{"$f":"COUNTIF(L146:L180,AN14)","v":1},{"$f":"AO14/(AQ4-AO11)","v":2.8571428571428571E-2},{"$f":"IF(AP14=0,0,(AP14*((LOG(AP14))/LOG(2))))","v":-0.14655094334128474},null,{"$f":"N14","v":222},{"$f":"COUNTIF(L181:L215,AS14)","v":0},{"$f":"AT14/(AV4-AT11)","v":0},{"$f":"IF(AU14=0,0,(AU14*((LOG(AU14))/LOG(2))))","v":0}]
[12,909,13,914,13,919,null,null,null,null,0,111,null,null,null,{"$f":"SUM(P7:P14)","v":1},{"$f":"-SUM(Q7:Q14)","v":0.12162177035962439},null,null,null,null,{"$f":"SUM(V7:V14)","v":1},{"$f":"-SUM(W7:W14)","v":0.18717625687320816},null,null,null,{"$f":"SUM(AA7:AA14)","v":1},{"$f":"-SUM(AB7:AB14)","v":0},null,null,null,{"$f":"SUM(AF7:AF14)","v":1},{"$f":"-SUM(AG7:AG14)","v":0},null,null,null,{"$f":"SUM(AK7:AK14)","v":1},{"$f":"-SUM(AL7:AL14)","v":0},null,null,null,{"$f":"SUM(AP7:AP14)","v":1},{"$f":"-SUM(AQ7:AQ14)","v":0.18717625687320816},null,null,null,{"$f":"SUM(AU7:AU14)","v":1},{"$f":"-SUM(AV7:AV14)","v":0}]
[12,1016,13,1022,13,1027,null,null,null,null,0,111,null,null,null,"U=",{"$f":"Q15/(LOG(Q4)/LOG(2))","v":1.5779953713768124E-2},null,null,null,null,"U1=",{"$f":"W15/(LOG(W4)/LOG(2))","v":3.6491699961740759E-2},null,null,null,"U2=",{"$f":"AB15/(LOG(AB4)/LOG(2))","v":0},null,null,null,"U3=",{"$f":"AG15/(LOG(AG4)/LOG(2))","v":0},null,null,null,"U4=",{"$f":"AL15/(LOG(AL4)/LOG(2))","v":0},null,null,null,"U5=",{"$f":"AQ15/(LOG(AQ4)/LOG(2))","v":3.6491699961740759E-2},null,null,null,"U6=",{"$f":"AV15/(LOG(AV4)/LOG(2))","v":0}]
[12,1123,13,1130,13,1134,null,null,null,null,0,111]
[12,1235,13,1241,13,1247,null,null,null,null,0,111]
[12,1352,13,1357,13,1362,null,null,null,null,0,111,null,"Total Target Seq"]
[12,1465,13,1470,13,1476,null,null,null,null,0,111,null,{"$f":"COUNTIF(L7:L215,G3)","v":1},null,35,35,34,35,35,35]
[12,1581,13,1587,13,1592,null,null,null,null,0,111,null,null,null,"% of reinforcement given in 6 equal intervals based on number of trials "]
[12,1699,13,1704,13,1709,null,null,null,null,0,111,null,null,null,"%_1","%_2","%_3","%_4","%_5","%_6"]
[12,1812,13,1817,13,1823,null,null,null,null,0,111,null,null,"target sequence",{"$f":"$G$3","v":211},{"$f":"$G$3","v":211},{"$f":"$G$3","v":211},{"$f":"$G$3","v":211},{"$f":"$G$3","v":211},{"$f":"$G$3","v":211}]
[12,1918,13,1924,13,1933,null,null,null,null,0,111,null,null,"total reinforcement",{"$f":"U11","v":0},{"$f":"Z11","v":0},{"$f":"AE11","v":0},{"$f":"AJ11","v":0},{"$f":"AO11","v":0},{"$f":"AT11","v":1}]
[12,2041,13,2046,13,2054,null,null,null,null,0,111,null,null,"% target"]
[12,2154,13,2160,13,2165,null,null,null,null,0,111,null,null,"CCRF"]
[12,2259,13,2264,13,2273,null,null,null,null,0,111,null,null,"% CCRf"]
[12,2379,13,2385,13,2391,null,null,null,null,0,111,null,null,"average response rate",{"$f":"F41/P20","v":111},{"$f":"(F76-F41)/Q20","v":115.54285714285714},{"$f":"(F110-F76)/R20","v":112.88235294117646},{"$f":"(F145-F110)/S20","v":114.82857142857142},{"$f":"(F180-F145)/T20","v":115.71428571428571},{"$f":"(F215-F180)/U20","v":118.97142857142858}]
[12,2496,13,2501,13,2506,null,null,null,null,0,111]
[12,2599,13,2606,13,2612,null,null,null,null,0,111]
[12,2717,13,2723,13,2727,null,null,null,null,0,111]
[12,2827,13,2833,13,2839,null,null,null,null,0,111]
[12,2941,13,2946,13,2951,null,null,null,null,0,111]
[12,3053,13,3058,13,3063,null,null,null,null,0,111]
[12,3162,13,3167,13,3172,null,null,null,null,0,111]
[12,3277,13,3282,13,3288,null,null,null,null,0,111]
[12,3396,13,3408,13,3415,null,null,null,null,0,111]
[12,3520,13,3528,13,3533,null,null,null,null,0,111]
[12,3640,13,3646,13,3651,null,null,null,null,0,111]
[12,3756,13,3763,13,3769,null,null,null,null,0,111]
[12,3873,13,3879,13,3885,null,null,null,null,0,111]
[12,3992,13,3997,13,4003,null,null,null,null,0,111]
[12,4106,13,4111,13,4116,null,null,null,null,0,111]
[12,4219,13,4224,13,4229,null,null,null,null,0,111]
[12,4328,13,4335,13,4343,null,null,null,null,0,111]
[12,4443,13,4448,13,4452,null,null,null,null,0,111]
[12,4552,13,4557,13,4563,null,null,null,null,0,111]
[12,4662,13,4670,13,4679,null,null,null,null,0,111]
[12,4783,13,4788,13,4795,null,null,null,null,0,111]
[12,4896,13,4902,13,4907,null,null,null,null,0,111]
[12,5009,13,5014,13,5019,null,null,null,null,0,111]
[12,5120,13,5124,13,5130,null,null,null,null,0,111]
[12,5231,13,5236,13,5240,null,null,null,null,0,111]
[12,5339,13,5345,13,5349,null,null,null,null,0,111]
[12,5460,13,5465,13,5472,null,null,null,null,0,111]
[12,5568,13,5574,13,5580,null,null,null,null,0,111]
[12,5686,13,5692,13,5697,null,null,null,null,0,111]
[12,5799,13,5805,13,5812,null,null,null,null,0,111]
[12,5913,13,5918,13,5923,null,null,null,null,0,111]
[12,6033,13,6038,13,6045,null,null,null,null,0,111]
[12,6151,13,6157,13,6164,null,null,null,null,0,111]
[12,6264,13,6272,13,6277,null,null,null,null,0,111]
[12,6386,13,6392,13,6397,null,null,null,null,0,111]
[12,6502,13,6507,13,6512,null,null,null,null,0,111]
[12,6612,13,6616,13,6621,null,null,null,null,0,111]
[12,6725,13,6730,13,6735,null,null,null,null,0,111]
[12,6849,13,6854,13,6863,null,null,null,null,0,111]
[12,6993,13,6999,13,7006,null,null,null,null,0,111]
[12,7113,13,7119,13,7125,null,null,null,null,0,111]
[12,7229,13,7235,13,7241,null,null,null,null,0,111]
[12,7346,13,7351,13,7358,null,null,null,null,0,111]
[12,7456,13,7461,13,7467,null,null,null,null,0,111]
[12,7567,13,7573,13,7578,null,null,null,null,0,111]
[12,7684,13,7689,13,7694,null,null,null,null,0,111]
[12,7795,13,7805,13,7813,null,null,null,null,0,111]
[12,7919,13,7924,13,7929,null,null,null,null,0,111]
[12,8030,13,8036,13,8043,null,null,null,null,0,111]
[12,8144,13,8152,13,8160,null,null,null,null,0,111]
[12,8269,13,8276,13,8283,null,null,null,null,0,111]
[12,8388,13,8393,13,8400,null,null,null,null,0,111]
[12,8508,13,8514,13,8522,null,null,null,null,0,111]
[12,8626,13,8631,13,8636,null,null,null,null,0,111]
[12,8737,13,8742,13,8746,null,null,null,null,0,111]
[12,8842,13,8848,13,8854,null,null,null,null,0,111]
[12,8953,13,8958,13,8963,null,null,null,null,0,111]
[12,9064,13,9069,13,9074,null,null,null,null,0,111]
[12,9173,13,9179,13,9187,null,null,null,null,0,111]
[12,9287,13,9292,13,9298,null,null,null,null,0,111]
[12,9400,13,9408,13,9414,null,null,null,null,0,111]
[12,9523,13,9528,13,9535,null,null,null,null,0,111]
[12,9640,13,9646,13,9653,null,null,null,null,0,111]
[12,9752,13,9758,13,9763,null,null,null,null,0,111]
[12,9873,13,9879,13,9888,null,null,null,null,0,111]
[12,9989,13,9995,13,9999,null,null,null,null,0,111]
[12,10099,13,10104,13,10111,null,null,null,null,0,111]
[12,10211,13,10217,13,10222,null,null,null,null,0,111]
[12,10321,13,10326,13,10330,null,null,null,null,0,111]
[12,10435,13,10440,13,10445,null,null,null,null,0,111]
[12,10549,13,10553,13,10558,null,null,null,null,0,111]
[12,10656,13,10661,13,10665,null,null,null,null,0,111]
[12,10765,13,10769,13,10773,null,null,null,null,0,111]
[12,10872,13,10877,13,10882,null,null,null,null,0,111]
[12,10982,13,10992,13,10997,null,null,null,null,0,111]
[12,11100,13,11106,13,11114,null,null,null,null,0,111]
[12,11217,13,11222,13,11228,null,null,null,null,0,111]
[12,11323,13,11328,13,11334,null,null,null,null,0,111]
[12,11434,13,11439,13,11444,null,null,null,null,0,111]
[12,11545,13,11550,13,11555,null,null,null,null,0,111]
[12,11652,13,11657,13,11663,null,null,null,null,0,111]
[12,11757,13,11762,13,11767,null,null,null,null,0,111]
[12,11899,13,11909,13,11926,null,null,null,null,0,111]
[12,12020,13,12025,13,12031,null,null,null,null,0,111]
[12,12129,13,12133,13,12138,null,null,null,null,0,111]
[12,12237,13,12243,13,12250,null,null,null,null,0,111]
[12,12348,13,12354,13,12359,null,null,null,null,0,111]
[12,12463,13,12469,13,12477,null,null,null,null,0,111]
[12,12614,13,12626,13,12636,null,null,null,null,0,111]
[12,12735,13,12739,13,12744,null,null,null,null,0,111]
[12,12847,13,12855,13,12860,null,null,null,null,0,111]
[12,12962,13,12967,13,12971,null,null,null,null,0,111]
[12,13069,13,13075,13,13083,null,null,null,null,0,111]
[12,13184,13,13188,13,13195,null,null,null,null,0,111]
[12,13293,13,13298,13,13303,null,null,null,null,0,111]
[12,13403,13,13408,13,13417,null,null,null,null,0,111]
[12,13517,13,13522,13,13527,null,null,null,null,0,111]
[12,13626,13,13632,13,13637,null,null,null,null,0,111]
[12,13736,13,13742,13,13749,null,null,null,null,0,111]
[12,13847,13,13857,13,13866,null,null,null,null,0,111]
[12,13964,13,13969,13,13974,null,null,null,null,0,111]
[12,14073,13,14078,13,14083,null,null,null,null,0,111]
[12,14179,13,14184,13,14191,null,null,null,null,0,111]
[12,14291,13,14297,13,14302,null,null,null,null,0,111]
[12,14400,13,14406,13,14411,null,null,null,null,0,111]
[12,14510,13,14515,13,14520,null,null,null,null,0,111]
[12,14620,13,14625,13,14629,null,null,null,null,0,111]
[12,14729,13,14735,13,14742,null,null,null,null,0,111]
[12,14846,13,14851,13,14859,null,null,null,null,0,111]
[12,14963,13,14968,13,14972,null,null,null,null,0,111]
[12,15075,13,15083,13,15091,null,null,null,null,0,111]
[12,15191,13,15198,13,15206,null,null,null,null,0,111]
[12,15312,13,15316,13,15323,null,null,null,null,0,111]
[12,15430,13,15435,13,15445,null,null,null,null,0,111]
[12,15545,13,15551,13,15560,null,null,null,null,0,111]
[12,15660,13,15666,13,15672,null,null,null,null,0,111]
[12,15772,13,15778,13,15786,null,null,null,null,0,111]
[12,15888,13,15893,13,15897,null,null,null,null,0,111]
[12,15997,13,16008,13,16017,null,null,null,null,0,111]
[12,16119,13,16124,13,16129,null,null,null,null,0,111]
[12,16231,13,16236,13,16240,null,null,null,null,0,111]
[12,16362,13,16368,13,16376,null,null,null,null,0,111]
[12,16474,13,16479,13,16484,null,null,null,null,0,111]
[12,16599,13,16609,13,16623,null,null,null,null,0,111]
[12,16729,13,16740,13,16748,null,null,null,null,0,111]
[12,16847,13,16853,13,16858,null,null,null,null,0,111]
[12,16954,13,16960,13,16966,null,null,null,null,0,111]
[12,17070,13,17076,13,17084,null,null,null,null,0,111]
[12,17183,13,17191,13,17198,null,null,null,null,0,111]
[12,17300,13,17306,13,17313,null,null,null,null,0,111]
[12,17416,13,17421,13,17429,null,null,null,null,0,111]
[12,17531,13,17537,13,17544,null,null,null,null,0,111]
[12,17643,13,17652,13,17660,null,null,null,null,0,111]
[12,17763,13,17769,13,17776,null,null,null,null,0,111]
[12,17870,13,17876,13,17882,null,null,null,null,0,111]
[12,17980,13,17988,13,17993,null,null,null,null,0,111]
[12,18098,13,18103,13,18109,null,null,null,null,0,111]
[21,18241,22,18247,24,18254,null,null,null,null,0,222]
[12,18352,13,18357,13,18361,null,null,null,null,0,111]
[12,18459,13,18464,13,18469,null,null,null,null,0,111]
[12,18569,13,18578,13,18584,null,null,null,null,0,111]
[12,18684,13,18691,13,18696,null,null,null,null,0,111]
[12,18796,13,18807,13,18812,null,null,null,null,0,111]
[12,18913,13,18919,13,18925,null,null,null,null,0,111]
[12,19024,13,19029,13,19035,null,null,null,null,0,111]
[12,19136,13,19141,13,19148,null,null,null,null,0,111]
[12,19243,13,19250,13,19256,null,null,null,null,0,111]
[12,19354,13,19359,13,19365,null,null,null,null,0,111]
[12,19468,13,19475,13,19480,null,null,null,null,0,111]
[12,19588,13,19594,13,19603,null,null,null,null,0,111]
[12,19702,13,19709,13,19718,null,null,null,null,0,111]
[12,19824,13,19830,13,19836,null,null,null,null,0,111]
[12,19936,13,19941,13,19946,null,null,null,null,0,111]
[12,20047,13,20051,13,20056,null,null,null,null,0,111]
[12,20155,13,20160,13,20164,null,null,null,null,0,111]
[12,20268,13,20273,13,20278,null,null,null,null,0,111]
[12,20381,13,20387,13,20394,null,null,null,null,0,111]
[12,20495,13,20499,13,20506,null,null,null,null,0,111]
[12,20612,13,20623,13,20629,null,null,null,null,0,111]
[12,20731,13,20737,13,20743,null,null,null,null,0,111]
[12,20843,13,20849,13,20856,null,null,null,null,0,111]
[12,20954,13,20960,13,20967,null,null,null,null,0,111]
[12,21066,13,21072,13,21078,null,null,null,null,0,111]
[21,21179,11,21198,11,21204,null,null,null,null,0,211]
[12,21300,13,21306,13,21311,null,null,null,null,0,111]
[12,21410,13,21417,13,21425,null,null,null,null,0,111]
[12,21525,13,21535,13,21543,null,null,null,null,0,111]
[12,21672,13,21677,13,21685,null,null,null,null,0,111]
[12,21799,13,21805,13,21811,null,null,null,null,0,111]
[12,21914,13,21919,13,21928,null,null,null,null,0,111]
[12,22029,13,22035,13,22041,null,null,null,null,0,111]
[12,22141,13,22148,13,22155,null,null,null,null,0,111]
[12,22254,13,22259,13,22265,null,null,null,null,0,111]
[12,22364,13,22371,13,22377,null,null,null,null,0,111]
[12,22493,13,22533,13,22565,null,null,null,null,0,111]
[12,22670,13,22675,13,22693,null,null,null,null,0,111]
[12,22793,13,22797,13,22802,null,null,null,null,0,111]
[12,22901,13,22907,13,22942,null,null,null,null,0,111]
[12,23045,13,23051,13,23059,null,null,null,null,0,111]
[12,23158,13,23164,13,23170,null,null,null,null,0,111]
[12,23269,13,23273,13,23279,null,null,null,null,0,111]
[12,23375,13,23382,13,23396,null,null,null,null,0,111]
[12,23495,13,23501,13,23529,null,null,null,null,0,111]
[12,23629,13,23636,13,23643,null,null,null,null,0,111]
[12,23747,13,23752,13,23760,null,null,null,null,0,111]
[12,23864,13,23870,13,23878,null,null,null,null,0,111]
[12,23986,13,23992,13,24000,null,null,null,null,null,111]

{"sheet":"!N416810.010","index":24,"n_rows":180,"n_cols":48,"rows_kept":180,"cut":false,"hidden":false,"merged":[[4,39,4,42],[5,39,5,40],[4,44,4,47],[5,44,5,45],[4,24,4,27],[5,24,5,25],[4,29,4,32],[5,29,5,30],[4,34,4,37],[5,34,5,35],[1,1,1,2],[5,13,5,14],[18,13,18,14],[19,13,19,14],[4,19,4,22],[5,19,5,20]]}
["Report for:!N416810.010"]
["Date:","<date>"]
["Hen:","<hen>",null,null,null,"Correct Sequence",{"$f":"Start!J2","v":211},null,null,null,null,null,null,null,null,"Total Sequences in Data",{"$f":"4994-COUNTBLANK(L7:L5000)","v":174},null,null,null,null,"Total Sequences in Block Data",{"$f":"COUNTA(L7:L35)","v":29},null,null,null,"Total Sequences in Block Data",{"$f":"COUNTA(L36:L64)","v":29},null,null,null,"Total Sequences in Block Data",{"$f":"COUNTA(L65:L93)","v":29},null,null,null,"Total Sequences in Block Data",{"$f":"COUNTA(L94:L122)","v":29},null,null,null,"Total Sequences in Block Data",{"$f":"COUNTA(L123:L151)","v":29},null,null,null,"Total Sequences in Block Data",{"$f":"COUNTA(L152:L180)","v":29}]
[null,null,null,null,null,null,null,null,null,null,null,null,null,null,null,"Total Sequences in Summary",{"$f":"SUM(O7:O14)","v":174},null,null,null,null,"Total Sequences in Block Summary",{"$f":"SUM(U7:U14)","v":29},null,null,null,"Total Sequences in Block Summary",{"$f":"SUM(Z7:Z14)","v":29},null,null,null,"Total Sequences in Block Summary",{"$f":"SUM(AE7:AE14)","v":29},null,null,null,"Total Sequences in Block Summary",{"$f":"SUM(AJ7:AJ14)","v":29},null,null,null,"Total Sequences in Block Summary",{"$f":"SUM(AO7:AO14)","v":29},null,null,null,"Total Sequences in Block Summary",{"$f":"SUM(AT7:AT14)","v":29}]
[null,null,null,null,null,null,null,null,null,null,null,null,null,null,null,null,null,null,null,"Block 1",null,null,null,null,"Block 2",null,null,null,null,"Block 3",null,null,null,null,"Block 4",null,null,null,null,"Block 5",null,null,null,null,"Block 6"]
["Sequence\nComponent\n1","Time\n1","Sequence\nComponent\n2","Time\n2","Sequence\nComponent\n3","Time\n3","Sequence\nComponent\n4","Time\n4","Sequence\nComponent\n5","Time\n5","Correct?\n0=No 1=Yes","Sequence",null,"Frequency",null,"Relative Frequency","Variability",null,null,"Frequency",null,"Relative Frequency","Variability",null,"Frequency",null,"Relative Frequency","Variability",null,"Frequency",null,"Relative Frequency","Variability",null,"Frequency",null,"Relative Frequency","Variability",null,"Frequency",null,"Relative Frequency","Variability",null,"Frequency",null,"Relative Frequency","Variability"]
[12,35,13,42,13,51,null,null,null,null,0,111,null,111,{"$f":"COUNTIF($L$7:$L$500,N7)","v":162},{"$f":"O7/$Q$4","v":0.93103448275862066},{"$f":"IF(P7=0,0,(P7*((LOG(P7))/LOG(2))))","v":-9.5983596897613724E-2},null,null,{"$f":"N7","v":111},{"$f":"COUNTIF(L7:L35,T7)","v":29},{"$f":"U7/(W4-U11)","v":1},{"$f":"IF(V7=0,0,(V7*((LOG(V7))/LOG(2))))","v":0},null,{"$f":"N7","v":111},{"$f":"COUNTIF(L36:L64,Y7)","v":29},{"$f":"Z7/(AB4-Z11)","v":1},{"$f":"IF(AA7=0,0,(AA7*((LOG(AA7))/LOG(2))))","v":0},null,{"$f":"N7","v":111},{"$f":"COUNTIF(L65:L93,AD7)","v":25},{"$f":"AE7/(AG4-AE11)","v":0.86206896551724133},{"$f":"IF(AF7=0,0,(AF7*((LOG(AF7))/LOG(2))))","v":-0.18459034944210989},null,{"$f":"N7","v":111},{"$f":"COUNTIF(L94:L122,AI7)","v":26},{"$f":"AJ7/(AL4-AJ11)","v":0.89655172413793105},{"$f":"IF(AK7=0,0,(AK7*((LOG(AK7))/LOG(2))))","v":-0.14124390350511995},null,{"$f":"N7","v":111},{"$f":"COUNTIF(L123:L151,AN7)","v":28},{"$f":"AO7/(AQ4-AO11)","v":0.96551724137931039},{"$f":"IF(AP7=0,0,(AP7*((LOG(AP7))/LOG(2))))","v":-4.8880346412382848E-2},null,{"$f":"N7","v":111},{"$f":"COUNTIF(L152:L180,AS7)","v":25},{"$f":"AT7/(AV4-AT11)","v":0.86206896551724133},{"$f":"IF(AU7=0,0,(AU7*((LOG(AU7))/LOG(2))))","v":-0.18459034944210989}]
[12,151,13,157,13,163,null,null,null,null,0,111,null,112,{"$f":"COUNTIF($L$7:$L$500,N8)","v":4},{"$f":"O8/$Q$4","v":2.2988505747126436E-2},{"$f":"IF(P8=0,0,(P8*((LOG(P8))/LOG(2))))","v":-0.12512513783560297},null,null,{"$f":"N8","v":112},{"$f":"COUNTIF(L7:L35,T8)","v":0},{"$f":"U8/(W4-U11)","v":0},{"$f":"IF(V8=0,0,(V8*((LOG(V8))/LOG(2))))","v":0},null,{"$f":"N8","v":112},{"$f":"COUNTIF(L36:L64,Y8)","v":0},{"$f":"Z8/(AB4-Z11)","v":0},{"$f":"IF(AA8=0,0,(AA8*((LOG(AA8))/LOG(2))))","v":0},null,{"$f":"N8","v":112},{"$f":"COUNTIF(L65:L93,AD8)","v":2},{"$f":"AE8/(AG4-AE11)","v":6.8965517241379309E-2},{"$f":"IF(AF8=0,0,(AF8*((LOG(AF8))/LOG(2))))","v":-0.26606765483638428},null,{"$f":"N8","v":112},{"$f":"COUNTIF(L94:L122,AI8)","v":2},{"$f":"AJ8/(AL4-AJ11)","v":6.8965517241379309E-2},{"$f":"IF(AK8=0,0,(AK8*((LOG(AK8))/LOG(2))))","v":-0.26606765483638428},null,{"$f":"N8","v":112},{"$f":"COUNTIF(L123:L151,AN8)","v":0},{"$f":"AO8/(AQ4-AO11)","v":0},{"$f":"IF(AP8=0,0,(AP8*((LOG(AP8))/LOG(2))))","v":0},null,{"$f":"N8","v":112},{"$f":"COUNTIF(L152:L180,AS8)","v":0},{"$f":"AT8/(AV4-AT11)","v":0},{"$f":"IF(AU8=0,0,(AU8*((LOG(AU8))/LOG(2))))","v":0}]
[12,270,13,276,13,283,null,null,null,null,0,111,null,121,{"$f":"COUNTIF($L$7:$L$500,N9)","v":0},{"$f":"O9/$Q$4","v":0},{"$f":"IF(P9=0,0,(P9*((LOG(P9))/LOG(2))))","v":0},null,null,{"$f":"N9","v":121},{"$f":"COUNTIF(L7:L35,T9)","v":0},{"$f":"U9/(W4-U11)","v":0},{"$f":"IF(V9=0,0,(V9*((LOG(V9))/LOG(2))))","v":0},null,{"$f":"N9","v":121},{"$f":"COUNTIF(L36:L64,Y9)","v":0},{"$f":"Z9/(AB4-Z11)","v":0},{"$f":"IF(AA9=0,0,(AA9*((LOG(AA9))/LOG(2))))","v":0},null,{"$f":"N9","v":121},{"$f":"COUNTIF(L65:L93,AD9)","v":0},{"$f":"AE9/(AG4-AE11)","v":0},{"$f":"IF(AF9=0,0,(AF9*((LOG(AF9))/LOG(2))))","v":0},null,{"$f":"N9","v":121},{"$f":"COUNTIF(L94:L122,AI9)","v":0},{"$f":"AJ9/(AL4-AJ11)","v":0},{"$f":"IF(AK9=0,0,(AK9*((LOG(AK9))/LOG(2))))","v":0},null,{"$f":"N9","v":121},{"$f":"COUNTIF(L123:L151,AN9)","v":0},{"$f":"AO9/(AQ4-AO11)","v":0},{"$f":"IF(AP9=0,0,(AP9*((LOG(AP9))/LOG(2))))","v":0},null,{"$f":"N9","v":121},{"$f":"COUNTIF(L152:L180,AS9)","v":0},{"$f":"AT9/(AV4-AT11)","v":0},{"$f":"IF(AU9=0,0,(AU9*((LOG(AU9))/LOG(2))))","v":0}]
[12,407,13,413,13,420,null,null,null,null,0,111,null,122,{"$f":"COUNTIF($L$7:$L$500,N10)","v":2},{"$f":"O10/$Q$4","v":1.1494252873563218E-2},{"$f":"IF(P10=0,0,(P10*((LOG(P10))/LOG(2))))","v":-7.4056821791364691E-2},null,null,{"$f":"N10","v":122},{"$f":"COUNTIF(L7:L35,T10)","v":0},{"$f":"U10/(W4-U11)","v":0},{"$f":"IF(V10=0,0,(V10*((LOG(V10))/LOG(2))))","v":0},null,{"$f":"N10","v":122},{"$f":"COUNTIF(L36:L64,Y10)","v":0},{"$f":"Z10/(AB4-Z11)","v":0},{"$f":"IF(AA10=0,0,(AA10*((LOG(AA10))/LOG(2))))","v":0},null,{"$f":"N10","v":122},{"$f":"COUNTIF(L65:L93,AD10)","v":0},{"$f":"AE10/(AG4-AE11)","v":0},{"$f":"IF(AF10=0,0,(AF10*((LOG(AF10))/LOG(2))))","v":0},null,{"$f":"N10","v":122},{"$f":"COUNTIF(L94:L122,AI10)","v":0},{"$f":"AJ10/(AL4-AJ11)","v":0},{"$f":"IF(AK10=0,0,(AK10*((LOG(AK10))/LOG(2))))","v":0},null,{"$f":"N10","v":122},{"$f":"COUNTIF(L123:L151,AN10)","v":0},{"$f":"AO10/(AQ4-AO11)","v":0},{"$f":"IF(AP10=0,0,(AP10*((LOG(AP10))/LOG(2))))","v":0},null,{"$f":"N10","v":122},{"$f":"COUNTIF(L152:L180,AS10)","v":2},{"$f":"AT10/(AV4-AT11)","v":6.8965517241379309E-2},{"$f":"IF(AU10=0,0,(AU10*((LOG(AU10))/LOG(2))))","v":-0.26606765483638428}]
[12,528,13,534,13,549,null,null,null,null,0,111,null,211,{"$f":"COUNTIF($L$7:$L$500,N11)","v":0},{"$f":"O11/$Q$4","v":0},{"$f":"IF(P11=0,0,(P11*((LOG(P11))/LOG(2))))","v":0},null,null,{"$f":"N11","v":211},{"$f":"COUNTIF(L7:L35,T11)","v":0},null,null,null,{"$f":"N11","v":211},{"$f":"COUNTIF(L36:L64,Y11)","v":0},null,null,null,{"$f":"N11","v":211},{"$f":"COUNTIF(L65:L93,AD11)","v":0},null,null,null,{"$f":"N11","v":211},{"$f":"COUNTIF(L94:L122,AI11)","v":0},null,null,null,{"$f":"N11","v":211},{"$f":"COUNTIF(L123:L151,AN11)","v":0},null,null,null,{"$f":"N11","v":211},{"$f":"COUNTIF(L152:L180,AS11)","v":0}]
[12,658,13,664,13,685,null,null,null,null,0,111,null,212,{"$f":"COUNTIF($L$7:$L$500,N12)","v":0},{"$f":"O12/$Q$4","v":0},{"$f":"IF(P12=0,0,(P12*((LOG(P12))/LOG(2))))","v":0},null,null,{"$f":"N12","v":212},{"$f":"COUNTIF(L7:L35,T12)","v":0},{"$f":"U12/(W4-U11)","v":0},{"$f":"IF(V12=0,0,(V12*((LOG(V12))/LOG(2))))","v":0},null,{"$f":"N12","v":212},{"$f":"COUNTIF(L36:L64,Y12)","v":0},{"$f":"Z12/(AB4-Z11)","v":0},{"$f":"IF(AA12=0,0,(AA12*((LOG(AA12))/LOG(2))))","v":0},null,{"$f":"N12","v":212},{"$f":"COUNTIF(L65:L93,AD12)","v":0},{"$f":"AE12/(AG4-AE11)","v":0},{"$f":"IF(AF12=0,0,(AF12*((LOG(AF12))/LOG(2))))","v":0},null,{"$f":"N12","v":212},{"$f":"COUNTIF(L94:L122,AI12)","v":0},{"$f":"AJ12/(AL4-AJ11)","v":0},{"$f":"IF(AK12=0,0,(AK12*((LOG(AK12))/LOG(2))))","v":0},null,{"$f":"N12","v":212},{"$f":"COUNTIF(L123:L151,AN12)","v":0},{"$f":"AO12/(AQ4-AO11)","v":0},{"$f":"IF(AP12=0,0,(AP12*((LOG(AP12))/LOG(2))))","v":0},null,{"$f":"N12","v":212},{"$f":"COUNTIF(L152:L180,AS12)","v":0},{"$f":"AT12/(AV4-AT11)","v":0},{"$f":"IF(AU12=0,0,(AU12*((LOG(AU12))/LOG(2))))","v":0}]
[12,788,13,799,13,806,null,null,null,null,0,111,null,221,{"$f":"COUNTIF($L$7:$L$500,N13)","v":0},{"$f":"O13/$Q$4","v":0},{"$f":"IF(P13=0,0,(P13*((LOG(P13))/LOG(2))))","v":0},null,null,{"$f":"N13","v":221},{"$f":"COUNTIF(L7:L35,T13)","v":0},{"$f":"U13/(W4-U11)","v":0},{"$f":"IF(V13=0,0,(V13*((LOG(V13))/LOG(2))))","v":0},null,{"$f":"N13","v":221},{"$f":"COUNTIF(L36:L64,Y13)","v":0},{"$f":"Z13/(AB4-Z11)","v":0},{"$f":"IF(AA13=0,0,(AA13*((LOG(AA13))/LOG(2))))","v":0},null,{"$f":"N13","v":221},{"$f":"COUNTIF(L65:L93,AD13)","v":0},{"$f":"AE13/(AG4-AE11)","v":0},{"$f":"IF(AF13=0,0,(AF13*((LOG(AF13))/LOG(2))))","v":0},null,{"$f":"N13","v":221},{"$f":"COUNTIF(L94:L122,AI13)","v":0},{"$f":"AJ13/(AL4-AJ11)","v":0},{"$f":"IF(AK13=0,0,(AK13*((LOG(AK13))/LOG(2))))","v":0},null,{"$f":"N13","v":221},{"$f":"COUNTIF(L123:L151,AN13)","v":0},{"$f":"AO13/(AQ4-AO11)","v":0},{"$f":"IF(AP13=0,0,(AP13*((LOG(AP13))/LOG(2))))","v":0},null,{"$f":"N13","v":221},{"$f":"COUNTIF(L152:L180,AS13)","v":0},{"$f":"AT13/(AV4-AT11)","v":0},{"$f":"IF(AU13=0,0,(AU13*((LOG(AU13))/LOG(2))))","v":0}]
[12,909,13,920,13,937,null,null,null,null,0,111,null,222,{"$f":"COUNTIF($L$7:$L$500,N14)","v":6},{"$f":"O14/$Q$4","v":3.4482758620689655E-2},{"$f":"IF(P14=0,0,(P14*((LOG(P14))/LOG(2))))","v":-0.16751658603888178},null,null,{"$f":"N14","v":222},{"$f":"COUNTIF(L7:L35,T14)","v":0},{"$f":"U14/(W4-U11)","v":0},{"$f":"IF(V14=0,0,(V14*((LOG(V14))/LOG(2))))","v":0},null,{"$f":"N14","v":222},{"$f":"COUNTIF(L36:L64,Y14)","v":0},{"$f":"Z14/(AB4-Z11)","v":0},{"$f":"IF(AA14=0,0,(AA14*((LOG(AA14))/LOG(2))))","v":0},null,{"$f":"N14","v":222},{"$f":"COUNTIF(L65:L93,AD14)","v":2},{"$f":"AE14/(AG4-AE11)","v":6.8965517241379309E-2},{"$f":"IF(AF14=0,0,(AF14*((LOG(AF14))/LOG(2))))","v":-0.26606765483638428},null,{"$f":"N14","v":222},{"$f":"COUNTIF(L94:L122,AI14)","v":1},{"$f":"AJ14/(AL4-AJ11)","v":3.4482758620689655E-2},{"$f":"IF(AK14=0,0,(AK14*((LOG(AK14))/LOG(2))))","v":-0.16751658603888178},null,{"$f":"N14","v":222},{"$f":"COUNTIF(L123:L151,AN14)","v":1},{"$f":"AO14/(AQ4-AO11)","v":3.4482758620689655E-2},{"$f":"IF(AP14=0,0,(AP14*((LOG(AP14))/LOG(2))))","v":-0.16751658603888178},null,{"$f":"N14","v":222},{"$f":"COUNTIF(L152:L180,AS14)","v":2},{"$f":"AT14/(AV4-AT11)","v":6.8965517241379309E-2},{"$f":"IF(AU14=0,0,(AU14*((LOG(AU14))/LOG(2))))","v":-0.26606765483638428}]
[12,1034,13,1040,13,1046,null,null,null,null,0,111,null,null,null,{"$f":"SUM(P7:P14)","v":0.99999999999999989},{"$f":"-SUM(Q7:Q14)","v":0.46268214256346318},null,null,null,null,{"$f":"SUM(V7:V14)","v":1},{"$f":"-SUM(W7:W14)","v":0},null,null,null,{"$f":"SUM(AA7:AA14)","v":1},{"$f":"-SUM(AB7:AB14)","v":0},null,null,null,{"$f":"SUM(AF7:AF14)","v":1},{"$f":"-SUM(AG7:AG14)","v":0.71672565911487851},null,null,null,{"$f":"SUM(AK7:AK14)","v":1},{"$f":"-SUM(AL7:AL14)","v":0.57482814438038599},null,null,null,{"$f":"SUM(AP7:AP14)","v":1},{"$f":"-SUM(AQ7:AQ14)","v":0.21639693245126462},null,null,null,{"$f":"SUM(AU7:AU14)","v":1},{"$f":"-SUM(AV7:AV14)","v":0.71672565911487851}]
[12,1157,13,1163,13,1169,null,null,null,null,0,111,null,null,null,"U=",{"$f":"Q15/(LOG(Q4)/LOG(2))","v":6.2163866059378556E-2},null,null,null,null,"U1=",{"$f":"W15/(LOG(W4)/LOG(2))","v":0},null,null,null,"U2=",{"$f":"AB15/(LOG(AB4)/LOG(2))","v":0},null,null,null,"U3=",{"$f":"AG15/(LOG(AG4)/LOG(2))","v":0.14753570667191487},null,null,null,"U4=",{"$f":"AL15/(LOG(AL4)/LOG(2))","v":0.11832655272981175},null,null,null,"U5=",{"$f":"AQ15/(LOG(AQ4)/LOG(2))","v":4.4544623099247421E-2},null,null,null,"U6=",{"$f":"AV15/(LOG(AV4)/LOG(2))","v":0.14753570667191487}]
[12,1273,13,1278,13,1284,null,null,null,null,0,111]
[12,1384,13,1390,13,1396,null,null,null,null,0,111]
[12,1503,13,1507,13,1515,null,null,null,null,0,111,null,"Total Target Seq"]
[12,1613,13,1618,13,1623,null,null,null,null,0,111,null,{"$f":"COUNTIF(L7:L180,G3)","v":0},null,29,29,29,29,29,29]
[12,1727,13,1733,13,1740,null,null,null,null,0,111,null,null,null,"% of reinforcement given in 6 equal intervals based on number of trials "]
[12,1841,13,1848,13,1855,null,null,null,null,0,111,null,null,null,"%_1","%_2","%_3","%_4","%_5","%_6"]
[12,1968,13,1974,13,1981,null,null,null,null,0,111,null,null,"target sequence",{"$f":"$G$3","v":211},{"$f":"$G$3","v":211},{"$f":"$G$3","v":211},{"$f":"$G$3","v":211},{"$f":"$G$3","v":211},{"$f":"$G$3","v":211}]
[12,2094,13,2101,13,2109,null,null,null,null,0,111,null,null,"total reinforcement",{"$f":"U11","v":0},{"$f":"Z11","v":0},{"$f":"AE11","v":0},{"$f":"AJ11","v":0},{"$f":"AO11","v":0},{"$f":"AT11","v":0}]
[12,2214,13,2220,13,2226,null,null,null,null,0,111,null,null,"% target"]
[12,2343,13,2352,13,2361,null,null,null,null,0,111,null,null,"CCRF"]
[12,2483,13,2493,13,2511,null,null,null,null,0,111,null,null,"% CCRf"]
[12,2622,13,2626,13,2633,null,null,null,null,0,111,null,null,"average response rate",{"$f":"F35/P20","v":123.34482758620689},{"$f":"(F64-F35)/Q20","v":139.20689655172413},{"$f":"(F93-F64)/R20","v":138.27586206896552},{"$f":"(F122-F93)/S20","v":136.24137931034483},{"$f":"(F151-F122)/T20","v":134.75862068965517},{"$f":"(F180-F151)/U20","v":153.34482758620689}]
[12,2735,13,2740,13,2756,null,null,null,null,0,111]
[12,2872,13,2879,13,2889,null,null,null,null,0,111]
[12,3000,13,3014,13,3034,null,null,null,null,0,111]
[12,3161,13,3170,13,3185,null,null,null,null,0,111]
[12,3298,13,3304,13,3325,null,null,null,null,0,111]
[12,3446,13,3451,13,3457,null,null,null,null,0,111]
[12,3562,13,3568,13,3577,null,null,null,null,0,111]
[12,3699,13,3759,13,3775,null,null,null,null,0,111]
[12,3895,13,3900,13,3907,null,null,null,null,0,111]
[12,4030,13,4037,13,4053,null,null,null,null,0,111]
[12,4175,13,4181,13,4195,null,null,null,null,0,111]
[12,4315,13,4324,13,4333,null,null,null,null,0,111]
[12,4497,13,4506,13,4514,null,null,null,null,0,111]
[12,4671,13,4718,13,4728,null,null,null,null,0,111]
[12,4897,13,4903,13,4909,null,null,null,null,0,111]
[12,5055,13,5062,13,5072,null,null,null,null,0,111]
[12,5181,13,5187,13,5194,null,null,null,null,0,111]
[12,5294,13,5299,13,5306,null,null,null,null,0,111]
[12,5407,13,5413,13,5419,null,null,null,null,0,111]
[12,5514,13,5522,13,5528,null,null,null,null,0,111]
[12,5637,13,5652,13,5673,null,null,null,null,0,111]
[12,5779,13,5785,13,5804,null,null,null,null,0,111]
[12,5911,13,5915,13,5931,null,null,null,null,0,111]
[12,6037,13,6043,13,6060,null,null,null,null,0,111]
[12,6165,13,6184,13,6241,null,null,null,null,0,111]
[12,6361,13,6369,13,6378,null,null,null,null,0,111]
[12,6489,13,6501,13,6510,null,null,null,null,0,111]
[12,6609,13,6616,13,6623,null,null,null,null,0,111]
[12,6725,13,6734,13,6745,null,null,null,null,0,111]
[12,6852,13,6858,13,6897,null,null,null,null,0,111]
[12,7003,13,7009,13,7017,null,null,null,null,0,111]
[12,7123,13,7128,13,7143,null,null,null,null,0,111]
[12,7251,13,7257,13,7264,null,null,null,null,0,111]
[12,7373,13,7379,13,7388,null,null,null,null,0,111]
[12,7491,13,7497,13,7504,null,null,null,null,0,111]
[12,7603,13,7608,13,7614,null,null,null,null,0,111]
[12,7721,13,7742,13,7759,null,null,null,null,0,111]
[12,7868,13,7873,13,7925,null,null,null,null,0,111]
[12,8036,13,8042,13,8055,null,null,null,null,0,111]
[12,8156,13,8161,13,8191,null,null,null,null,0,111]
[12,8301,13,8308,13,8323,null,null,null,null,0,111]
[12,8429,13,8442,13,8458,null,null,null,null,0,111]
[12,8601,13,8608,13,8614,null,null,null,null,0,111]
[12,8760,13,8778,13,8819,null,null,null,null,0,111]
[12,8926,13,8931,13,8938,null,null,null,null,0,111]
[12,9040,13,9052,13,9061,null,null,null,null,0,111]
[12,9161,13,9167,13,9174,null,null,null,null,0,111]
[12,9276,13,9287,13,9309,null,null,null,null,0,111]
[12,9416,13,9420,13,9426,null,null,null,null,0,111]
[12,9528,13,9540,13,9556,null,null,null,null,0,111]
[12,9675,13,9688,13,9720,null,null,null,null,0,111]
[12,9820,13,9826,13,9839,null,null,null,null,0,111]
[12,9941,13,9947,13,9953,null,null,null,null,0,111]
[12,10054,13,10066,13,10072,null,null,null,null,0,111]
[21,10220,22,10229,24,10239,null,null,null,null,0,222]
[12,10346,13,10353,13,10361,null,null,null,null,0,111]
[12,10460,13,10467,13,10473,null,null,null,null,0,111]
[21,10608,22,10618,24,10632,null,null,null,null,0,222]
[12,10740,13,10747,13,10753,null,null,null,null,0,111]
[12,10855,13,10862,13,10868,null,null,null,null,0,111]
[12,10993,13,10998,24,11014,null,null,null,null,0,112]
[12,11123,13,11145,24,11188,null,null,null,null,0,112]
[12,11307,13,11336,13,11362,null,null,null,null,0,111]
[12,11468,13,11474,13,11493,null,null,null,null,0,111]
[12,11600,13,11618,13,11624,null,null,null,null,0,111]
[12,11724,13,11737,13,11765,null,null,null,null,0,111]
[12,11872,13,11911,24,11960,null,null,null,null,0,112]
[12,12070,13,12076,13,12082,null,null,null,null,0,111]
[12,12183,13,12187,13,12194,null,null,null,null,0,111]
[12,12307,13,12316,13,12418,null,null,null,null,0,111]
[21,12581,22,12589,24,12599,null,null,null,null,0,222]
[12,12718,13,12724,13,12740,null,null,null,null,0,111]
[12,12849,13,12855,13,12862,null,null,null,null,0,111]
[12,12980,13,12986,13,12998,null,null,null,null,0,111]
[12,13106,13,13117,13,13122,null,null,null,null,0,111]
[12,13246,13,13254,13,13268,null,null,null,null,0,111]
[12,13393,13,13399,13,13490,null,null,null,null,0,111]
[12,13613,13,13620,13,13626,null,null,null,null,0,111]
[12,13731,13,13742,13,13751,null,null,null,null,0,111]
[12,13849,13,13859,13,13865,null,null,null,null,0,111]
[12,13975,13,13981,13,13987,null,null,null,null,0,111]
[12,14090,13,14097,13,14103,null,null,null,null,0,111]
[12,14212,13,14226,24,14245,null,null,null,null,0,112]
[12,14343,13,14349,13,14355,null,null,null,null,0,111]
[12,14470,13,14476,13,14482,null,null,null,null,0,111]
[12,14580,13,14587,13,14595,null,null,null,null,0,111]
[12,14696,13,14704,13,14715,null,null,null,null,0,111]
[12,14822,13,14827,13,14841,null,null,null,null,0,111]
[12,14941,13,14946,13,14951,null,null,null,null,0,111]
[12,15051,13,15057,13,15065,null,null,null,null,0,111]
[12,15186,13,15197,13,15212,null,null,null,null,0,111]
[12,15317,13,15331,13,15340,null,null,null,null,0,111]
[12,15449,13,15456,13,15462,null,null,null,null,0,111]
[12,15563,13,15569,13,15575,null,null,null,null,0,111]
[12,15678,13,15684,13,15691,null,null,null,null,0,111]
[21,15843,22,15859,24,15870,null,null,null,null,0,222]
[12,15981,13,15987,13,16006,null,null,null,null,0,111]
[12,16123,13,16135,13,16150,null,null,null,null,0,111]
[12,16259,13,16273,13,16287,null,null,null,null,0,111]
[12,16386,13,16399,13,16488,null,null,null,null,0,111]
[12,16613,13,16619,13,16625,null,null,null,null,0,111]
[12,16745,13,16751,13,16757,null,null,null,null,0,111]
[12,16858,13,16863,13,16869,null,null,null,null,0,111]
[12,16969,13,16983,13,16991,null,null,null,null,0,111]
[12,17094,13,17102,13,17111,null,null,null,null,0,111]
[12,17209,13,17221,13,17234,null,null,null,null,0,111]
[12,17343,13,17350,13,17364,null,null,null,null,0,111]
[12,17469,13,17483,13,17497,null,null,null,null,0,111]
[12,17609,13,17625,13,17646,null,null,null,null,0,111]
[12,17746,13,17752,13,17759,null,null,null,null,0,111]
[12,17894,13,17900,13,17908,null,null,null,null,0,111]
[12,18021,13,18027,13,18041,null,null,null,null,0,111]
[12,18140,13,18152,13,18183,null,null,null,null,0,111]
[12,18286,13,18292,13,18299,null,null,null,null,0,111]
[12,18401,13,18413,13,18436,null,null,null,null,0,111]
[12,18547,13,18552,13,18557,null,null,null,null,0,111]
[12,18665,13,18682,13,18712,null,null,null,null,0,111]
[12,18821,13,18828,13,18838,null,null,null,null,0,111]
[12,18944,13,18952,13,18966,null,null,null,null,0,111]
[12,19069,13,19075,13,19082,null,null,null,null,0,111]
[12,19190,13,19198,13,19205,null,null,null,null,0,111]
[12,19312,13,19319,13,19326,null,null,null,null,0,111]
[12,19463,13,19469,13,19483,null,null,null,null,0,111]
[12,19583,13,19601,13,19621,null,null,null,null,0,111]
[12,19730,13,19736,13,19743,null,null,null,null,0,111]
[12,19850,13,19877,13,19897,null,null,null,null,0,111]
[12,20023,13,20030,13,20039,null,null,null,null,0,111]
[12,20170,13,20187,13,20214,null,null,null,null,0,111]
[12,20341,13,20360,13,20405,null,null,null,null,0,111]
[12,20509,13,20516,13,20529,null,null,null,null,0,111]
[12,20641,13,20661,13,20678,null,null,null,null,0,111]
[12,20785,13,20798,13,20826,null,null,null,null,0,111]
[21,21001,22,21048,24,21057,null,null,null,null,0,222]
[12,21160,13,21171,13,21189,null,null,null,null,0,111]
[12,21306,13,21312,13,21318,null,null,null,null,0,111]
[12,21418,13,21424,13,21458,null,null,null,null,0,111]
[12,21563,13,21575,13,21582,null,null,null,null,0,111]
[12,21693,13,21699,13,21709,null,null,null,null,0,111]
[12,21850,13,21856,13,21888,null,null,null,null,0,111]
[12,21991,13,21997,13,22008,null,null,null,null,0,111]
[12,22113,13,22131,13,22146,null,null,null,null,0,111]
[12,22270,13,22352,13,22434,null,null,null,null,0,111]
[12,22538,13,22545,13,22552,null,null,null,null,0,111]
[12,22668,13,22681,13,22696,null,null,null,null,0,111]
[21,22848,22,22883,24,22899,null,null,null,null,0,222]
[12,23017,24,23038,24,23044,null,null,null,null,0,122]
[12,23151,13,23162,13,23179,null,null,null,null,0,111]
[12,23285,13,23305,13,23339,null,null,null,null,0,111]
[12,23438,13,23444,13,23460,null,null,null,null,0,111]
[12,23560,13,23570,13,23576,null,null,null,null,0,111]
[12,23691,13,23702,13,23739,null,null,null,null,0,111]
[12,23880,24,23910,24,23930,null,null,null,null,null,122]

{"sheet":"!N417820.010","index":25,"n_rows":193,"n_cols":48,"rows_kept":193,"cut":false,"hidden":false,"merged":[[4,39,4,42],[5,39,5,40],[4,44,4,47],[5,44,5,45],[4,24,4,27],[5,24,5,25],[4,29,4,32],[5,29,5,30],[4,34,4,37],[5,34,5,35],[1,1,1,2],[5,13,5,14],[18,13,18,14],[19,13,19,14],[4,19,4,22],[5,19,5,20]]}
["Report for:!N417820.010"]
["Date:","<date>"]
["Hen:","<hen>",null,null,null,"Correct Sequence",{"$f":"Start!J2","v":211},null,null,null,null,null,null,null,null,"Total Sequences in Data",{"$f":"4994-COUNTBLANK(L7:L5000)","v":187},null,null,null,null,"Total Sequences in Block Data",{"$f":"COUNTA(L7:L37)","v":31},null,null,null,"Total Sequences in Block Data",{"$f":"COUNTA(L38:L68)","v":31},null,null,null,"Total Sequences in Block Data",{"$f":"COUNTA(L69:L100)","v":32},null,null,null,"Total Sequences in Block Data",{"$f":"COUNTA(L101:L131)","v":31},null,null,null,"Total Sequences in Block Data",{"$f":"COUNTA(L132:L162)","v":31},null,null,null,"Total Sequences in Block Data",{"$f":"COUNTA(L163:L193)","v":31}]
[null,null,null,null,null,null,null,null,null,null,null,null,null,null,null,"Total Sequences in Summary",{"$f":"SUM(O7:O14)","v":186},null,null,null,null,"Total Sequences in Block Summary",{"$f":"SUM(U7:U14)","v":31},null,null,null,"Total Sequences in Block Summary",{"$f":"SUM(Z7:Z14)","v":31},null,null,null,"Total Sequences in Block Summary",{"$f":"SUM(AE7:AE14)","v":32},null,null,null,"Total Sequences in Block Summary",{"$f":"SUM(AJ7:AJ14)","v":31},null,null,null,"Total Sequences in Block Summary",{"$f":"SUM(AO7:AO14)","v":31},null,null,null,"Total Sequences in Block Summary",{"$f":"SUM(AT7:AT14)","v":30}]
[null,null,null,null,null,null,null,null,null,null,null,null,null,null,null,null,null,null,null,"Block 1",null,null,null,null,"Block 2",null,null,null,null,"Block 3",null,null,null,null,"Block 4",null,null,null,null,"Block 5",null,null,null,null,"Block 6"]
["Sequence\nComponent\n1","Time\n1","Sequence\nComponent\n2","Time\n2","Sequence\nComponent\n3","Time\n3","Sequence\nComponent\n4","Time\n4","Sequence\nComponent\n5","Time\n5","Correct?\n0=No 1=Yes","Sequence",null,"Frequency",null,"Relative Frequency","Variability",null,null,"Frequency",null,"Relative Frequency","Variability",null,"Frequency",null,"Relative Frequency","Variability",null,"Frequency",null,"Relative Frequency","Variability",null,"Frequency",null,"Relative Frequency","Variability",null,"Frequency",null,"Relative Frequency","Variability",null,"Frequency",null,"Relative Frequency","Variability"]
[12,2,13,26,24,41,null,null,null,null,0,112,null,111,{"$f":"COUNTIF($L$7:$L$500,N7)","v":177},{"$f":"O7/$Q$4","v":0.95161290322580649},{"$f":"IF(P7=0,0,(P7*((LOG(P7))/LOG(2))))","v":-6.8091006459306436E-2},null,null,{"$f":"N7","v":111},{"$f":"COUNTIF(L7:L37,T7)","v":30},{"$f":"U7/(W4-U11)","v":0.967741935483871},{"$f":"IF(V7=0,0,(V7*((LOG(V7))/LOG(2))))","v":-4.5779723979054811E-2},null,{"$f":"N7","v":111},{"$f":"COUNTIF(L38:L68,Y7)","v":31},{"$f":"Z7/(AB4-Z11)","v":1},{"$f":"IF(AA7=0,0,(AA7*((LOG(AA7))/LOG(2))))","v":0},null,{"$f":"N7","v":111},{"$f":"COUNTIF(L69:L100,AD7)","v":32},{"$f":"AE7/(AG4-AE11)","v":1},{"$f":"IF(AF7=0,0,(AF7*((LOG(AF7))/LOG(2))))","v":0},null,{"$f":"N7","v":111},{"$f":"COUNTIF(L101:L131,AI7)","v":31},{"$f":"AJ7/(AL4-AJ11)","v":1},{"$f":"IF(AK7=0,0,(AK7*((LOG(AK7))/LOG(2))))","v":0},null,{"$f":"N7","v":111},{"$f":"COUNTIF(L132:L162,AN7)","v":31},{"$f":"AO7/(AQ4-AO11)","v":1},{"$f":"IF(AP7=0,0,(AP7*((LOG(AP7))/LOG(2))))","v":0},null,{"$f":"N7","v":111},{"$f":"COUNTIF(L163:L193,AS7)","v":22},{"$f":"AT7/(AV4-AT11)","v":0.73333333333333328},{"$f":"IF(AU7=0,0,(AU7*((LOG(AU7))/LOG(2))))","v":-0.32813658311222899}]
[12,174,13,183,13,204,null,null,null,null,0,111,null,112,{"$f":"COUNTIF($L$7:$L$500,N8)","v":3},{"$f":"O8/$Q$4","v":1.6129032258064516E-2},{"$f":"IF(P8=0,0,(P8*((LOG(P8))/LOG(2))))","v":-9.603542436107862E-2},null,null,{"$f":"N8","v":112},{"$f":"COUNTIF(L7:L37,T8)","v":1},{"$f":"U8/(W4-U11)","v":3.2258064516129031E-2},{"$f":"IF(V8=0,0,(V8*((LOG(V8))/LOG(2))))","v":-0.15981278420602821},null,{"$f":"N8","v":112},{"$f":"COUNTIF(L38:L68,Y8)","v":0},{"$f":"Z8/(AB4-Z11)","v":0},{"$f":"IF(AA8=0,0,(AA8*((LOG(AA8))/LOG(2))))","v":0},null,{"$f":"N8","v":112},{"$f":"COUNTIF(L69:L100,AD8)","v":0},{"$f":"AE8/(AG4-AE11)","v":0},{"$f":"IF(AF8=0,0,(AF8*((LOG(AF8))/LOG(2))))","v":0},null,{"$f":"N8","v":112},{"$f":"COUNTIF(L101:L131,AI8)","v":0},{"$f":"AJ8/(AL4-AJ11)","v":0},{"$f":"IF(AK8=0,0,(AK8*((LOG(AK8))/LOG(2))))","v":0},null,{"$f":"N8","v":112},{"$f":"COUNTIF(L132:L162,AN8)","v":0},{"$f":"AO8/(AQ4-AO11)","v":0},{"$f":"IF(AP8=0,0,(AP8*((LOG(AP8))/LOG(2))))","v":0},null,{"$f":"N8","v":112},{"$f":"COUNTIF(L163:L193,AS8)","v":2},{"$f":"AT8/(AV4-AT11)","v":6.6666666666666666E-2},{"$f":"IF(AU8=0,0,(AU8*((LOG(AU8))/LOG(2))))","v":-0.26045937304056793}]
[12,318,13,325,13,330,null,null,null,null,0,111,null,121,{"$f":"COUNTIF($L$7:$L$500,N9)","v":0},{"$f":"O9/$Q$4","v":0},{"$f":"IF(P9=0,0,(P9*((LOG(P9))/LOG(2))))","v":0},null,null,{"$f":"N9","v":121},{"$f":"COUNTIF(L7:L37,T9)","v":0},{"$f":"U9/(W4-U11)","v":0},{"$f":"IF(V9=0,0,(V9*((LOG(V9))/LOG(2))))","v":0},null,{"$f":"N9","v":121},{"$f":"COUNTIF(L38:L68,Y9)","v":0},{"$f":"Z9/(AB4-Z11)","v":0},{"$f":"IF(AA9=0,0,(AA9*((LOG(AA9))/LOG(2))))","v":0},null,{"$f":"N9","v":121},{"$f":"COUNTIF(L69:L100,AD9)","v":0},{"$f":"AE9/(AG4-AE11)","v":0},{"$f":"IF(AF9=0,0,(AF9*((LOG(AF9))/LOG(2))))","v":0},null,{"$f":"N9","v":121},{"$f":"COUNTIF(L101:L131,AI9)","v":0},{"$f":"AJ9/(AL4-AJ11)","v":0},{"$f":"IF(AK9=0,0,(AK9*((LOG(AK9))/LOG(2))))","v":0},null,{"$f":"N9","v":121},{"$f":"COUNTIF(L132:L162,AN9)","v":0},{"$f":"AO9/(AQ4-AO11)","v":0},{"$f":"IF(AP9=0,0,(AP9*((LOG(AP9))/LOG(2))))","v":0},null,{"$f":"N9","v":121},{"$f":"COUNTIF(L163:L193,AS9)","v":0},{"$f":"AT9/(AV4-AT11)","v":0},{"$f":"IF(AU9=0,0,(AU9*((LOG(AU9))/LOG(2))))","v":0}]
[12,443,13,448,13,457,null,null,null,null,0,111,null,122,{"$f":"COUNTIF($L$7:$L$500,N10)","v":2},{"$f":"O10/$Q$4","v":1.0752688172043012E-2},{"$f":"IF(P10=0,0,(P10*((LOG(P10))/LOG(2))))","v":-7.0313535603312161E-2},null,null,{"$f":"N10","v":122},{"$f":"COUNTIF(L7:L37,T10)","v":0},{"$f":"U10/(W4-U11)","v":0},{"$f":"IF(V10=0,0,(V10*((LOG(V10))/LOG(2))))","v":0},null,{"$f":"N10","v":122},{"$f":"COUNTIF(L38:L68,Y10)","v":0},{"$f":"Z10/(AB4-Z11)","v":0},{"$f":"IF(AA10=0,0,(AA10*((LOG(AA10))/LOG(2))))","v":0},null,{"$f":"N10","v":122},{"$f":"COUNTIF(L69:L100,AD10)","v":0},{"$f":"AE10/(AG4-AE11)","v":0},{"$f":"IF(AF10=0,0,(AF10*((LOG(AF10))/LOG(2))))","v":0},null,{"$f":"N10","v":122},{"$f":"COUNTIF(L101:L131,AI10)","v":0},{"$f":"AJ10/(AL4-AJ11)","v":0},{"$f":"IF(AK10=0,0,(AK10*((LOG(AK10))/LOG(2))))","v":0},null,{"$f":"N10","v":122},{"$f":"COUNTIF(L132:L162,AN10)","v":0},{"$f":"AO10/(AQ4-AO11)","v":0},{"$f":"IF(AP10=0,0,(AP10*((LOG(AP10))/LOG(2))))","v":0},null,{"$f":"N10","v":122},{"$f":"COUNTIF(L163:L193,AS10)","v":2},{"$f":"AT10/(AV4-AT11)","v":6.6666666666666666E-2},{"$f":"IF(AU10=0,0,(AU10*((LOG(AU10))/LOG(2))))","v":-0.26045937304056793}]
[12,596,13,602,13,608,null,null,null,null,0,111,null,211,{"$f":"COUNTIF($L$7:$L$500,N11)","v":0},{"$f":"O11/$Q$4","v":0},{"$f":"IF(P11=0,0,(P11*((LOG(P11))/LOG(2))))","v":0},null,null,{"$f":"N11","v":211},{"$f":"COUNTIF(L7:L37,T11)","v":0},null,null,null,{"$f":"N11","v":211},{"$f":"COUNTIF(L38:L68,Y11)","v":0},null,null,null,{"$f":"N11","v":211},{"$f":"COUNTIF(L69:L100,AD11)","v":0},null,null,null,{"$f":"N11","v":211},{"$f":"COUNTIF(L101:L131,AI11)","v":0},null,null,null,{"$f":"N11","v":211},{"$f":"COUNTIF(L132:L162,AN11)","v":0},null,null,null,{"$f":"N11","v":211},{"$f":"COUNTIF(L163:L193,AS11)","v":0}]
[12,711,13,717,13,727,null,null,null,null,0,111,null,212,{"$f":"COUNTIF($L$7:$L$500,N12)","v":0},{"$f":"O12/$Q$4","v":0},{"$f":"IF(P12=0,0,(P12*((LOG(P12))/LOG(2))))","v":0},null,null,{"$f":"N12","v":212},{"$f":"COUNTIF(L7:L37,T12)","v":0},{"$f":"U12/(W4-U11)","v":0},{"$f":"IF(V12=0,0,(V12*((LOG(V12))/LOG(2))))","v":0},null,{"$f":"N12","v":212},{"$f":"COUNTIF(L38:L68,Y12)","v":0},{"$f":"Z12/(AB4-Z11)","v":0},{"$f":"IF(AA12=0,0,(AA12*((LOG(AA12))/LOG(2))))","v":0},null,{"$f":"N12","v":212},{"$f":"COUNTIF(L69:L100,AD12)","v":0},{"$f":"AE12/(AG4-AE11)","v":0},{"$f":"IF(AF12=0,0,(AF12*((LOG(AF12))/LOG(2))))","v":0},null,{"$f":"N12","v":212},{"$f":"COUNTIF(L101:L131,AI12)","v":0},{"$f":"AJ12/(AL4-AJ11)","v":0},{"$f":"IF(AK12=0,0,(AK12*((LOG(AK12))/LOG(2))))","v":0},null,{"$f":"N12","v":212},{"$f":"COUNTIF(L132:L162,AN12)","v":0},{"$f":"AO12/(AQ4-AO11)","v":0},{"$f":"IF(AP12=0,0,(AP12*((LOG(AP12))/LOG(2))))","v":0},null,{"$f":"N12","v":212},{"$f":"COUNTIF(L163:L193,AS12)","v":0},{"$f":"AT12/(AV4-AT11)","v":0},{"$f":"IF(AU12=0,0,(AU12*((LOG(AU12))/LOG(2))))","v":0}]
[12,825,13,830,13,840,null,null,null,null,0,111,null,221,{"$f":"COUNTIF($L$7:$L$500,N13)","v":0},{"$f":"O13/$Q$4","v":0},{"$f":"IF(P13=0,0,(P13*((LOG(P13))/LOG(2))))","v":0},null,null,{"$f":"N13","v":221},{"$f":"COUNTIF(L7:L37,T13)","v":0},{"$f":"U13/(W4-U11)","v":0},{"$f":"IF(V13=0,0,(V13*((LOG(V13))/LOG(2))))","v":0},null,{"$f":"N13","v":221},{"$f":"COUNTIF(L38:L68,Y13)","v":0},{"$f":"Z13/(AB4-Z11)","v":0},{"$f":"IF(AA13=0,0,(AA13*((LOG(AA13))/LOG(2))))","v":0},null,{"$f":"N13","v":221},{"$f":"COUNTIF(L69:L100,AD13)","v":0},{"$f":"AE13/(AG4-AE11)","v":0},{"$f":"IF(AF13=0,0,(AF13*((LOG(AF13))/LOG(2))))","v":0},null,{"$f":"N13","v":221},{"$f":"COUNTIF(L101:L131,AI13)","v":0},{"$f":"AJ13/(AL4-AJ11)","v":0},{"$f":"IF(AK13=0,0,(AK13*((LOG(AK13))/LOG(2))))","v":0},null,{"$f":"N13","v":221},{"$f":"COUNTIF(L132:L162,AN13)","v":0},{"$f":"AO13/(AQ4-AO11)","v":0},{"$f":"IF(AP13=0,0,(AP13*((LOG(AP13))/LOG(2))))","v":0},null,{"$f":"N13","v":221},{"$f":"COUNTIF(L163:L193,AS13)","v":0},{"$f":"AT13/(AV4-AT11)","v":0},{"$f":"IF(AU13=0,0,(AU13*((LOG(AU13))/LOG(2))))","v":0}]
[12,942,13,947,13,952,null,null,null,null,0,111,null,222,{"$f":"COUNTIF($L$7:$L$500,N14)","v":4},{"$f":"O14/$Q$4","v":2.1505376344086023E-2},{"$f":"IF(P14=0,0,(P14*((LOG(P14))/LOG(2))))","v":-0.11912169486253833},null,null,{"$f":"N14","v":222},{"$f":"COUNTIF(L7:L37,T14)","v":0},{"$f":"U14/(W4-U11)","v":0},{"$f":"IF(V14=0,0,(V14*((LOG(V14))/LOG(2))))","v":0},null,{"$f":"N14","v":222},{"$f":"COUNTIF(L38:L68,Y14)","v":0},{"$f":"Z14/(AB4-Z11)","v":0},{"$f":"IF(AA14=0,0,(AA14*((LOG(AA14))/LOG(2))))","v":0},null,{"$f":"N14","v":222},{"$f":"COUNTIF(L69:L100,AD14)","v":0},{"$f":"AE14/(AG4-AE11)","v":0},{"$f":"IF(AF14=0,0,(AF14*((LOG(AF14))/LOG(2))))","v":0},null,{"$f":"N14","v":222},{"$f":"COUNTIF(L101:L131,AI14)","v":0},{"$f":"AJ14/(AL4-AJ11)","v":0},{"$f":"IF(AK14=0,0,(AK14*((LOG(AK14))/LOG(2))))","v":0},null,{"$f":"N14","v":222},{"$f":"COUNTIF(L132:L162,AN14)","v":0},{"$f":"AO14/(AQ4-AO11)","v":0},{"$f":"IF(AP14=0,0,(AP14*((LOG(AP14))/LOG(2))))","v":0},null,{"$f":"N14","v":222},{"$f":"COUNTIF(L163:L193,AS14)","v":4},{"$f":"AT14/(AV4-AT11)","v":0.13333333333333333},{"$f":"IF(AU14=0,0,(AU14*((LOG(AU14))/LOG(2))))","v":-0.3875854127478025}]
[12,1060,13,1065,13,1073,null,null,null,null,0,111,null,null,null,{"$f":"SUM(P7:P14)","v":1},{"$f":"-SUM(Q7:Q14)","v":0.35356166128623556},null,null,null,null,{"$f":"SUM(V7:V14)","v":1},{"$f":"-SUM(W7:W14)","v":0.20559250818508301},null,null,null,{"$f":"SUM(AA7:AA14)","v":1},{"$f":"-SUM(AB7:AB14)","v":0},null,null,null,{"$f":"SUM(AF7:AF14)","v":1},{"$f":"-SUM(AG7:AG14)","v":0},null,null,null,{"$f":"SUM(AK7:AK14)","v":1},{"$f":"-SUM(AL7:AL14)","v":0},null,null,null,{"$f":"SUM(AP7:AP14)","v":1},{"$f":"-SUM(AQ7:AQ14)","v":0},null,null,null,{"$f":"SUM(AU7:AU14)","v":0.99999999999999989},{"$f":"-SUM(AV7:AV14)","v":1.2366407419411674}]
[12,1163,13,1175,13,1183,null,null,null,null,0,111,null,null,null,"U=",{"$f":"Q15/(LOG(Q4)/LOG(2))","v":4.6896698974599867E-2},null,null,null,null,"U1=",{"$f":"W15/(LOG(W4)/LOG(2))","v":4.1498659985281898E-2},null,null,null,"U2=",{"$f":"AB15/(LOG(AB4)/LOG(2))","v":0},null,null,null,"U3=",{"$f":"AG15/(LOG(AG4)/LOG(2))","v":0},null,null,null,"U4=",{"$f":"AL15/(LOG(AL4)/LOG(2))","v":0},null,null,null,"U5=",{"$f":"AQ15/(LOG(AQ4)/LOG(2))","v":0},null,null,null,"U6=",{"$f":"AV15/(LOG(AV4)/LOG(2))","v":0.25202125823793869}]
[12,1294,13,1306,13,1315,null,null,null,null,0,111]
[12,1434,13,1443,13,1453,null,null,null,null,0,111]
[12,1562,13,1568,13,1577,null,null,null,null,0,111,null,"Total Target Seq"]
[12,1683,13,1689,13,1695,null,null,null,null,0,111,null,{"$f":"COUNTIF(L7:L193,G3)","v":0},null,31,31,32,31,31,31]
[12,1803,13,1809,13,1815,null,null,null,null,0,111,null,null,null,"% of reinforcement given in 6 equal intervals based on number of trials "]
[12,1917,13,1923,13,1932,null,null,null,null,0,111,null,null,null,"%_1","%_2","%_3","%_4","%_5","%_6"]
[12,2047,13,2054,13,2063,null,null,null,null,0,111,null,null,"target sequence",{"$f":"$G$3","v":211},{"$f":"$G$3","v":211},{"$f":"$G$3","v":211},{"$f":"$G$3","v":211},{"$f":"$G$3","v":211},{"$f":"$G$3","v":211}]
[12,2169,13,2179,13,2185,null,null,null,null,0,111,null,null,"total reinforcement",{"$f":"U11","v":0},{"$f":"Z11","v":0},{"$f":"AE11","v":0},{"$f":"AJ11","v":0},{"$f":"AO11","v":0},{"$f":"AT11","v":0}]
[12,2306,13,2311,13,2319,null,null,null,null,0,111,null,null,"% target"]
[12,2421,13,2426,13,2432,null,null,null,null,0,111,null,null,"CCRF"]
[12,2542,13,2547,13,2557,null,null,null,null,0,111,null,null,"% CCRf"]
[12,2659,13,2668,13,2674,null,null,null,null,0,111,null,null,"average response rate",{"$f":"F37/P20","v":123.96774193548387},{"$f":"(F68-F37)/Q20","v":122.93548387096774},{"$f":"(F100-F68)/R20","v":126.0625},{"$f":"(F131-F100)/S20","v":127.03225806451613},{"$f":"(F162-F131)/T20","v":127.96774193548387},{"$f":"(F193-F162)/U20","v":-632.0322580645161}]
[12,2798,13,2803,13,2809,null,null,null,null,0,111]
[12,2934,13,2943,13,2949,null,null,null,null,0,111]
[12,3064,13,3070,13,3076,null,null,null,null,0,111]
[12,3202,13,3215,13,3225,null,null,null,null,0,111]
[12,3334,13,3341,13,3347,null,null,null,null,0,111]
[12,3465,13,3470,13,3479,null,null,null,null,0,111]
[12,3580,13,3586,13,3595,null,null,null,null,0,111]
[12,3701,13,3714,13,3720,null,null,null,null,0,111]
[12,3828,13,3834,13,3843,null,null,null,null,0,111]
[12,3974,13,3979,13,3985,null,null,null,null,0,111]
[12,4140,13,4148,13,4156,null,null,null,null,0,111]
[12,4259,13,4273,13,4279,null,null,null,null,0,111]
[12,4376,13,4381,13,4387,null,null,null,null,0,111]
[12,4512,13,4518,13,4523,null,null,null,null,0,111]
[12,4629,13,4642,13,4650,null,null,null,null,0,111]
[12,4753,13,4760,13,4766,null,null,null,null,0,111]
[12,4865,13,4871,13,4878,null,null,null,null,0,111]
[12,4978,13,4983,13,5026,null,null,null,null,0,111]
[12,5140,13,5151,13,5159,null,null,null,null,0,111]
[12,5274,13,5281,13,5289,null,null,null,null,0,111]
[12,5398,13,5416,13,5425,null,null,null,null,0,111]
[12,5540,13,5545,13,5551,null,null,null,null,0,111]
[12,5655,13,5661,13,5668,null,null,null,null,0,111]
[12,5766,13,5772,13,5778,null,null,null,null,0,111]
[12,5881,13,5886,13,5892,null,null,null,null,0,111]
[12,5997,13,6003,13,6009,null,null,null,null,0,111]
[12,6109,13,6114,13,6120,null,null,null,null,0,111]
[12,6228,13,6233,13,6239,null,null,null,null,0,111]
[12,6346,13,6353,13,6361,null,null,null,null,0,111]
[12,6468,13,6474,13,6480,null,null,null,null,0,111]
[12,6579,13,6591,13,6596,null,null,null,null,0,111]
[12,6697,13,6703,13,6709,null,null,null,null,0,111]
[12,6808,13,6813,13,6820,null,null,null,null,0,111]
[12,6925,13,6930,13,6936,null,null,null,null,0,111]
[12,7041,13,7047,13,7054,null,null,null,null,0,111]
[12,7162,13,7168,13,7173,null,null,null,null,0,111]
[12,7269,13,7280,13,7289,null,null,null,null,0,111]
[12,7388,13,7394,13,7400,null,null,null,null,0,111]
[12,7512,13,7517,13,7522,null,null,null,null,0,111]
[12,7643,13,7648,13,7654,null,null,null,null,0,111]
[12,7770,13,7776,13,7782,null,null,null,null,0,111]
[12,7886,13,7892,13,7898,null,null,null,null,0,111]
[12,8002,13,8007,13,8038,null,null,null,null,0,111]
[12,8142,13,8148,13,8159,null,null,null,null,0,111]
[12,8258,13,8264,13,8270,null,null,null,null,0,111]
[12,8368,13,8376,13,8382,null,null,null,null,0,111]
[12,8486,13,8493,13,8515,null,null,null,null,0,111]
[12,8632,13,8638,13,8663,null,null,null,null,0,111]
[12,8770,13,8775,13,8790,null,null,null,null,0,111]
[12,8908,13,8919,13,8930,null,null,null,null,0,111]
[12,9034,13,9045,13,9054,null,null,null,null,0,111]
[12,9154,13,9168,13,9189,null,null,null,null,0,111]
[12,9293,13,9305,13,9311,null,null,null,null,0,111]
[12,9419,13,9424,13,9430,null,null,null,null,0,111]
[12,9539,13,9550,13,9558,null,null,null,null,0,111]
[12,9680,13,9694,13,9735,null,null,null,null,0,111]
[12,9842,13,9849,13,9854,null,null,null,null,0,111]
[12,9956,13,9960,13,9966,null,null,null,null,0,111]
[12,10077,13,10083,13,10096,null,null,null,null,0,111]
[12,10201,13,10208,13,10215,null,null,null,null,0,111]
[12,10326,13,10340,13,10360,null,null,null,null,0,111]
[12,10460,13,10471,13,10478,null,null,null,null,0,111]
[12,10578,13,10583,13,10591,null,null,null,null,0,111]
[12,10701,13,10707,13,10717,null,null,null,null,0,111]
[12,10821,13,10826,13,10838,null,null,null,null,0,111]
[12,10943,13,10950,13,10956,null,null,null,null,0,111]
[12,11057,13,11064,13,11071,null,null,null,null,0,111]
[12,11171,13,11177,13,11192,null,null,null,null,0,111]
[12,11298,13,11305,13,11331,null,null,null,null,0,111]
[12,11434,13,11441,13,11447,null,null,null,null,0,111]
[12,11550,13,11555,13,11567,null,null,null,null,0,111]
[12,11674,13,11681,13,11688,null,null,null,null,0,111]
[12,11786,13,11797,13,11803,null,null,null,null,0,111]
[12,11906,13,11912,13,11932,null,null,null,null,0,111]
[12,12031,13,12036,13,12042,null,null,null,null,0,111]
[12,12142,13,12149,13,12156,null,null,null,null,0,111]
[12,12256,13,12268,13,12274,null,null,null,null,0,111]
[12,12375,13,12382,13,12401,null,null,null,null,0,111]
[12,12506,13,12513,13,12519,null,null,null,null,0,111]
[12,12619,13,12625,13,12632,null,null,null,null,0,111]
[12,12743,13,12749,13,12763,null,null,null,null,0,111]
[12,12865,13,12872,13,12878,null,null,null,null,0,111]
[12,12987,13,12997,13,13005,null,null,null,null,0,111]
[12,13132,13,13144,13,13160,null,null,null,null,0,111]
[12,13257,13,13264,13,13270,null,null,null,null,0,111]
[12,13369,13,13375,13,13381,null,null,null,null,0,111]
[12,13487,13,13500,13,13510,null,null,null,null,0,111]
[12,13609,13,13615,13,13621,null,null,null,null,0,111]
[12,13736,13,13742,13,13765,null,null,null,null,0,111]
[12,13906,13,13918,13,13928,null,null,null,null,0,111]
[12,14038,13,14050,13,14090,null,null,null,null,0,111]
[12,14196,13,14203,13,14239,null,null,null,null,0,111]
[12,14371,13,14377,13,14385,null,null,null,null,0,111]
[12,14492,13,14504,13,14523,null,null,null,null,0,111]
[12,14629,13,14635,13,14650,null,null,null,null,0,111]
[12,14752,13,14758,13,14765,null,null,null,null,0,111]
[12,14868,13,14874,13,14880,null,null,null,null,0,111]
[12,14983,13,14994,13,15017,null,null,null,null,0,111]
[12,15142,13,15148,13,15153,null,null,null,null,0,111]
[12,15258,13,15269,13,15276,null,null,null,null,0,111]
[12,15377,13,15382,13,15395,null,null,null,null,0,111]
[12,15498,13,15503,13,15509,null,null,null,null,0,111]
[12,15614,13,15621,13,15626,null,null,null,null,0,111]
[12,15731,13,15737,13,15760,null,null,null,null,0,111]
[12,15869,13,15881,13,15900,null,null,null,null,0,111]
[12,16002,13,16009,13,16015,null,null,null,null,0,111]
[12,16119,13,16128,13,16134,null,null,null,null,0,111]
[12,16240,13,16252,13,16278,null,null,null,null,0,111]
[12,16388,13,16401,13,16442,null,null,null,null,0,111]
[12,16574,13,16581,13,16595,null,null,null,null,0,111]
[12,16700,13,16718,13,16724,null,null,null,null,0,111]
[12,16829,13,16835,13,16849,null,null,null,null,0,111]
[12,16950,13,16966,13,16985,null,null,null,null,0,111]
[12,17087,13,17093,13,17100,null,null,null,null,0,111]
[12,17201,13,17206,13,17218,null,null,null,null,0,111]
[12,17323,13,17330,13,17345,null,null,null,null,0,111]
[12,17447,13,17458,13,17489,null,null,null,null,0,111]
[12,17599,13,17606,13,17613,null,null,null,null,0,111]
[12,17715,13,17722,13,17731,null,null,null,null,0,111]
[12,17829,13,17834,13,17840,null,null,null,null,0,111]
[12,17951,13,17962,13,17978,null,null,null,null,0,111]
[12,18086,13,18090,13,18102,null,null,null,null,0,111]
[12,18205,13,18212,13,18219,null,null,null,null,0,111]
[12,18323,13,18328,13,18334,null,null,null,null,0,111]
[12,18441,13,18448,13,18475,null,null,null,null,0,111]
[12,18584,13,18595,13,18601,null,null,null,null,0,111]
[12,18707,13,18712,13,18724,null,null,null,null,0,111]
[12,18828,13,18835,13,18844,null,null,null,null,0,111]
[12,18948,13,18954,13,18978,null,null,null,null,0,111]
[12,19081,13,19087,13,19093,null,null,null,null,0,111]
[12,19200,13,19206,13,19219,null,null,null,null,0,111]
[12,19313,13,19318,13,19333,null,null,null,null,0,111]
[12,19438,13,19445,13,19450,null,null,null,null,0,111]
[12,19554,13,19563,13,19593,null,null,null,null,0,111]
[12,19704,13,19710,13,19728,null,null,null,null,0,111]
[12,19839,13,19845,13,19861,null,null,null,null,0,111]
[12,19972,13,19981,13,19987,null,null,null,null,0,111]
[12,20089,13,20100,13,20112,null,null,null,null,0,111]
[12,20214,13,20219,13,20225,null,null,null,null,0,111]
[12,20334,13,20344,13,20352,null,null,null,null,0,111]
[12,20460,13,20467,13,20485,null,null,null,null,0,111]
[12,20591,13,20601,13,20630,null,null,null,null,0,111]
[12,20740,13,20746,13,20757,null,null,null,null,0,111]
[12,20868,13,20874,13,20885,null,null,null,null,0,111]
[12,20988,13,21005,13,21041,null,null,null,null,0,111]
[12,21160,13,21179,13,21207,null,null,null,null,0,111]
[12,21321,13,21332,13,21338,null,null,null,null,0,111]
[12,21443,13,21448,13,21461,null,null,null,null,0,111]
[12,21575,13,21601,13,21618,null,null,null,null,0,111]
[12,21721,13,21744,13,21780,null,null,null,null,0,111]
[12,21882,13,21888,24,21902,null,null,null,null,0,112]
[12,22018,13,22029,24,22045,null,null,null,null,0,112]
[12,22176,13,22227,13,22234,null,null,null,null,0,111]
[21,22366,22,22373,24,22393,null,null,null,null,0,222]
[12,22491,13,22498,13,22503,null,null,null,null,0,111]
[12,22617,13,22632,13,22643,null,null,null,null,0,111]
[12,22764,13,22770,13,22776,null,null,null,null,0,111]
[21,22921,22,22938,24,22956,null,null,null,null,0,222]
[12,23064,24,23080,24,23093,null,null,null,null,0,122]
[21,23225,22,23236,24,23249,null,null,null,null,0,222]
[12,23364,13,23377,13,23388,null,null,null,null,0,111]
[12,23517,13,23530,13,23539,null,null,null,null,0,111]
[12,23665,24,23685,24,23704,null,null,null,null,0,122]
[21,23848,22,23854,24,23867,null,null,null,null,0,222]
[12,23985,13,23991,null,null,null,null,null,null,null,11]

{"sheet":"!N418D30.010","index":26,"n_rows":28,"n_cols":48,"rows_kept":28,"cut":false,"hidden":false,"merged":[[4,39,4,42],[5,39,5,40],[4,44,4,47],[5,44,5,45],[4,24,4,27],[5,24,5,25],[4,29,4,32],[5,29,5,30],[4,34,4,37],[5,34,5,35],[1,1,1,2],[5,13,5,14],[18,13,18,14],[19,13,19,14],[4,19,4,22],[5,19,5,20]]}
["Report for:!N418D30.010"]
["Date:","<date>"]
["Hen:","<hen>",null,null,null,"Correct Sequence",{"$f":"Start!J2","v":211},null,null,null,null,null,null,null,null,"Total Sequences in Data",{"$f":"4994-COUNTBLANK(L7:L5000)","v":0},null,null,null,null,"Total Sequences in Block Data",{"$f":"COUNTA(L6:L7)","v":1},null,null,null,"Total Sequences in Block Data",{"$f":"COUNTA(L6:L7)","v":1},null,null,null,"Total Sequences in Block Data",{"$f":"COUNTA(L6:L7)","v":1},null,null,null,"Total Sequences in Block Data",{"$f":"COUNTA(L6:L7)","v":1},null,null,null,"Total Sequences in Block Data",{"$f":"COUNTA(L6:L7)","v":1},null,null,null,"Total Sequences in Block Data",{"$f":"COUNTA(L6:L7)","v":1}]
[null,null,null,null,null,null,null,null,null,null,null,null,null,null,null,"Total Sequences in Summary",{"$f":"SUM(O7:O14)","v":0},null,null,null,null,"Total Sequences in Block Summary",{"$f":"SUM(U7:U14)","v":0},null,null,null,"Total Sequences in Block Summary",{"$f":"SUM(Z7:Z14)","v":0},null,null,null,"Total Sequences in Block Summary",{"$f":"SUM(AE7:AE14)","v":0},null,null,null,"Total Sequences in Block Summary",{"$f":"SUM(AJ7:AJ14)","v":0},null,null,null,"Total Sequences in Block Summary",{"$f":"SUM(AO7:AO14)","v":0},null,null,null,"Total Sequences in Block Summary",{"$f":"SUM(AT7:AT14)","v":0}]
[null,null,null,null,null,null,null,null,null,null,null,null,null,null,null,null,null,null,null,"Block 1",null,null,null,null,"Block 2",null,null,null,null,"Block 3",null,null,null,null,"Block 4",null,null,null,null,"Block 5",null,null,null,null,"Block 6"]
["Sequence\nComponent\n1","Time\n1","Sequence\nComponent\n2","Time\n2","Sequence\nComponent\n3","Time\n3","Sequence\nComponent\n4","Time\n4","Sequence\nComponent\n5","Time\n5","Correct?\n0=No 1=Yes","Sequence",null,"Frequency",null,"Relative Frequency","Variability",null,null,"Frequency",null,"Relative Frequency","Variability",null,"Frequency",null,"Relative Frequency","Variability",null,"Frequency",null,"Relative Frequency","Variability",null,"Frequency",null,"Relative Frequency","Variability",null,"Frequency",null,"Relative Frequency","Variability",null,"Frequency",null,"Relative Frequency","Variability"]
[null,null,null,null,null,null,null,null,null,null,null,null,null,111,{"$f":"COUNTIF($L$7:$L$500,N7)","v":0},{"$f":"O7/$Q$4","v":{"$error":"#DIV/0!"}},{"$f":"IF(P7=0,0,(P7*((LOG(P7))/LOG(2))))","v":{"$error":"#DIV/0!"}},null,null,{"$f":"N7","v":111},{"$f":"COUNTIF(L6:L7,T7)","v":0},{"$f":"U7/(W4-U11)","v":{"$error":"#DIV/0!"}},{"$f":"IF(V7=0,0,(V7*((LOG(V7))/LOG(2))))","v":{"$error":"#DIV/0!"}},null,{"$f":"N7","v":111},{"$f":"COUNTIF(L6:L7,Y7)","v":0},{"$f":"Z7/(AB4-Z11)","v":{"$error":"#DIV/0!"}},{"$f":"IF(AA7=0,0,(AA7*((LOG(AA7))/LOG(2))))","v":{"$error":"#DIV/0!"}},null,{"$f":"N7","v":111},{"$f":"COUNTIF(L6:L7,AD7)","v":0},{"$f":"AE7/(AG4-AE11)","v":{"$error":"#DIV/0!"}},{"$f":"IF(AF7=0,0,(AF7*((LOG(AF7))/LOG(2))))","v":{"$error":"#DIV/0!"}},null,{"$f":"N7","v":111},{"$f":"COUNTIF(L6:L7,AI7)","v":0},{"$f":"AJ7/(AL4-AJ11)","v":{"$error":"#DIV/0!"}},{"$f":"IF(AK7=0,0,(AK7*((LOG(AK7))/LOG(2))))","v":{"$error":"#DIV/0!"}},null,{"$f":"N7","v":111},{"$f":"COUNTIF(L6:L7,AN7)","v":0},{"$f":"AO7/(AQ4-AO11)","v":{"$error":"#DIV/0!"}},{"$f":"IF(AP7=0,0,(AP7*((LOG(AP7))/LOG(2))))","v":{"$error":"#DIV/0!"}},null,{"$f":"N7","v":111},{"$f":"COUNTIF(L6:L7,AS7)","v":0},{"$f":"AT7/(AV4-AT11)","v":{"$error":"#DIV/0!"}},{"$f":"IF(AU7=0,0,(AU7*((LOG(AU7))/LOG(2))))","v":{"$error":"#DIV/0!"}}]
[null,null,null,null,null,null,null,null,null,null,null,null,null,112,{"$f":"COUNTIF($L$7:$L$500,N8)","v":0},{"$f":"O8/$Q$4","v":{"$error":"#DIV/0!"}},{"$f":"IF(P8=0,0,(P8*((LOG(P8))/LOG(2))))","v":{"$error":"#DIV/0!"}},null,null,{"$f":"N8","v":112},{"$f":"COUNTIF(L6:L7,T8)","v":0},{"$f":"U8/(W4-U11)","v":{"$error":"#DIV/0!"}},{"$f":"IF(V8=0,0,(V8*((LOG(V8))/LOG(2))))","v":{"$error":"#DIV/0!"}},null,{"$f":"N8","v":112},{"$f":"COUNTIF(L6:L7,Y8)","v":0},{"$f":"Z8/(AB4-Z11)","v":{"$error":"#DIV/0!"}},{"$f":"IF(AA8=0,0,(AA8*((LOG(AA8))/LOG(2))))","v":{"$error":"#DIV/0!"}},null,{"$f":"N8","v":112},{"$f":"COUNTIF(L6:L7,AD8)","v":0},{"$f":"AE8/(AG4-AE11)","v":{"$error":"#DIV/0!"}},{"$f":"IF(AF8=0,0,(AF8*((LOG(AF8))/LOG(2))))","v":{"$error":"#DIV/0!"}},null,{"$f":"N8","v":112},{"$f":"COUNTIF(L6:L7,AI8)","v":0},{"$f":"AJ8/(AL4-AJ11)","v":{"$error":"#DIV/0!"}},{"$f":"IF(AK8=0,0,(AK8*((LOG(AK8))/LOG(2))))","v":{"$error":"#DIV/0!"}},null,{"$f":"N8","v":112},{"$f":"COUNTIF(L6:L7,AN8)","v":0},{"$f":"AO8/(AQ4-AO11)","v":{"$error":"#DIV/0!"}},{"$f":"IF(AP8=0,0,(AP8*((LOG(AP8))/LOG(2))))","v":{"$error":"#DIV/0!"}},null,{"$f":"N8","v":112},{"$f":"COUNTIF(L6:L7,AS8)","v":0},{"$f":"AT8/(AV4-AT11)","v":{"$error":"#DIV/0!"}},{"$f":"IF(AU8=0,0,(AU8*((LOG(AU8))/LOG(2))))","v":{"$error":"#DIV/0!"}}]
[null,null,null,null,null,null,null,null,null,null,null,null,null,121,{"$f":"COUNTIF($L$7:$L$500,N9)","v":0},{"$f":"O9/$Q$4","v":{"$error":"#DIV/0!"}},{"$f":"IF(P9=0,0,(P9*((LOG(P9))/LOG(2))))","v":{"$error":"#DIV/0!"}},null,null,{"$f":"N9","v":121},{"$f":"COUNTIF(L6:L7,T9)","v":0},{"$f":"U9/(W4-U11)","v":{"$error":"#DIV/0!"}},{"$f":"IF(V9=0,0,(V9*((LOG(V9))/LOG(2))))","v":{"$error":"#DIV/0!"}},null,{"$f":"N9","v":121},{"$f":"COUNTIF(L6:L7,Y9)","v":0},{"$f":"Z9/(AB4-Z11)","v":{"$error":"#DIV/0!"}},{"$f":"IF(AA9=0,0,(AA9*((LOG(AA9))/LOG(2))))","v":{"$error":"#DIV/0!"}},null,{"$f":"N9","v":121},{"$f":"COUNTIF(L6:L7,AD9)","v":0},{"$f":"AE9/(AG4-AE11)","v":{"$error":"#DIV/0!"}},{"$f":"IF(AF9=0,0,(AF9*((LOG(AF9))/LOG(2))))","v":{"$error":"#DIV/0!"}},null,{"$f":"N9","v":121},{"$f":"COUNTIF(L6:L7,AI9)","v":0},{"$f":"AJ9/(AL4-AJ11)","v":{"$error":"#DIV/0!"}},{"$f":"IF(AK9=0,0,(AK9*((LOG(AK9))/LOG(2))))","v":{"$error":"#DIV/0!"}},null,{"$f":"N9","v":121},{"$f":"COUNTIF(L6:L7,AN9)","v":0},{"$f":"AO9/(AQ4-AO11)","v":{"$error":"#DIV/0!"}},{"$f":"IF(AP9=0,0,(AP9*((LOG(AP9))/LOG(2))))","v":{"$error":"#DIV/0!"}},null,{"$f":"N9","v":121},{"$f":"COUNTIF(L6:L7,AS9)","v":0},{"$f":"AT9/(AV4-AT11)","v":{"$error":"#DIV/0!"}},{"$f":"IF(AU9=0,0,(AU9*((LOG(AU9))/LOG(2))))","v":{"$error":"#DIV/0!"}}]
[null,null,null,null,null,null,null,null,null,null,null,null,null,122,{"$f":"COUNTIF($L$7:$L$500,N10)","v":0},{"$f":"O10/$Q$4","v":{"$error":"#DIV/0!"}},{"$f":"IF(P10=0,0,(P10*((LOG(P10))/LOG(2))))","v":{"$error":"#DIV/0!"}},null,null,{"$f":"N10","v":122},{"$f":"COUNTIF(L6:L7,T10)","v":0},{"$f":"U10/(W4-U11)","v":{"$error":"#DIV/0!"}},{"$f":"IF(V10=0,0,(V10*((LOG(V10))/LOG(2))))","v":{"$error":"#DIV/0!"}},null,{"$f":"N10","v":122},{"$f":"COUNTIF(L6:L7,Y10)","v":0},{"$f":"Z10/(AB4-Z11)","v":{"$error":"#DIV/0!"}},{"$f":"IF(AA10=0,0,(AA10*((LOG(AA10))/LOG(2))))","v":{"$error":"#DIV/0!"}},null,{"$f":"N10","v":122},{"$f":"COUNTIF(L6:L7,AD10)","v":0},{"$f":"AE10/(AG4-AE11)","v":{"$error":"#DIV/0!"}},{"$f":"IF(AF10=0,0,(AF10*((LOG(AF10))/LOG(2))))","v":{"$error":"#DIV/0!"}},null,{"$f":"N10","v":122},{"$f":"COUNTIF(L6:L7,AI10)","v":0},{"$f":"AJ10/(AL4-AJ11)","v":{"$error":"#DIV/0!"}},{"$f":"IF(AK10=0,0,(AK10*((LOG(AK10))/LOG(2))))","v":{"$error":"#DIV/0!"}},null,{"$f":"N10","v":122},{"$f":"COUNTIF(L6:L7,AN10)","v":0},{"$f":"AO10/(AQ4-AO11)","v":{"$error":"#DIV/0!"}},{"$f":"IF(AP10=0,0,(AP10*((LOG(AP10))/LOG(2))))","v":{"$error":"#DIV/0!"}},null,{"$f":"N10","v":122},{"$f":"COUNTIF(L6:L7,AS10)","v":0},{"$f":"AT10/(AV4-AT11)","v":{"$error":"#DIV/0!"}},{"$f":"IF(AU10=0,0,(AU10*((LOG(AU10))/LOG(2))))","v":{"$error":"#DIV/0!"}}]
[null,null,null,null,null,null,null,null,null,null,null,null,null,211,{"$f":"COUNTIF($L$7:$L$500,N11)","v":0},{"$f":"O11/$Q$4","v":{"$error":"#DIV/0!"}},{"$f":"IF(P11=0,0,(P11*((LOG(P11))/LOG(2))))","v":{"$error":"#DIV/0!"}},null,null,{"$f":"N11","v":211},{"$f":"COUNTIF(L6:L7,T11)","v":0},null,null,null,{"$f":"N11","v":211},{"$f":"COUNTIF(L6:L7,Y11)","v":0},null,null,null,{"$f":"N11","v":211},{"$f":"COUNTIF(L6:L7,AD11)","v":0},null,null,null,{"$f":"N11","v":211},{"$f":"COUNTIF(L6:L7,AI11)","v":0},null,null,null,{"$f":"N11","v":211},{"$f":"COUNTIF(L6:L7,AN11)","v":0},null,null,null,{"$f":"N11","v":211},{"$f":"COUNTIF(L6:L7,AS11)","v":0}]
[null,null,null,null,null,null,null,null,null,null,null,null,null,212,{"$f":"COUNTIF($L$7:$L$500,N12)","v":0},{"$f":"O12/$Q$4","v":{"$error":"#DIV/0!"}},{"$f":"IF(P12=0,0,(P12*((LOG(P12))/LOG(2))))","v":{"$error":"#DIV/0!"}},null,null,{"$f":"N12","v":212},{"$f":"COUNTIF(L6:L7,T12)","v":0},{"$f":"U12/(W4-U11)","v":{"$error":"#DIV/0!"}},{"$f":"IF(V12=0,0,(V12*((LOG(V12))/LOG(2))))","v":{"$error":"#DIV/0!"}},null,{"$f":"N12","v":212},{"$f":"COUNTIF(L6:L7,Y12)","v":0},{"$f":"Z12/(AB4-Z11)","v":{"$error":"#DIV/0!"}},{"$f":"IF(AA12=0,0,(AA12*((LOG(AA12))/LOG(2))))","v":{"$error":"#DIV/0!"}},null,{"$f":"N12","v":212},{"$f":"COUNTIF(L6:L7,AD12)","v":0},{"$f":"AE12/(AG4-AE11)","v":{"$error":"#DIV/0!"}},{"$f":"IF(AF12=0,0,(AF12*((LOG(AF12))/LOG(2))))","v":{"$error":"#DIV/0!"}},null,{"$f":"N12","v":212},{"$f":"COUNTIF(L6:L7,AI12)","v":0},{"$f":"AJ12/(AL4-AJ11)","v":{"$error":"#DIV/0!"}},{"$f":"IF(AK12=0,0,(AK12*((LOG(AK12))/LOG(2))))","v":{"$error":"#DIV/0!"}},null,{"$f":"N12","v":212},{"$f":"COUNTIF(L6:L7,AN12)","v":0},{"$f":"AO12/(AQ4-AO11)","v":{"$error":"#DIV/0!"}},{"$f":"IF(AP12=0,0,(AP12*((LOG(AP12))/LOG(2))))","v":{"$error":"#DIV/0!"}},null,{"$f":"N12","v":212},{"$f":"COUNTIF(L6:L7,AS12)","v":0},{"$f":"AT12/(AV4-AT11)","v":{"$error":"#DIV/0!"}},{"$f":"IF(AU12=0,0,(AU12*((LOG(AU12))/LOG(2))))","v":{"$error":"#DIV/0!"}}]
[null,null,null,null,null,null,null,null,null,null,null,null,null,221,{"$f":"COUNTIF($L$7:$L$500,N13)","v":0},{"$f":"O13/$Q$4","v":{"$error":"#DIV/0!"}},{"$f":"IF(P13=0,0,(P13*((LOG(P13))/LOG(2))))","v":{"$error":"#DIV/0!"}},null,null,{"$f":"N13","v":221},{"$f":"COUNTIF(L6:L7,T13)","v":0},{"$f":"U13/(W4-U11)","v":{"$error":"#DIV/0!"}},{"$f":"IF(V13=0,0,(V13*((LOG(V13))/LOG(2))))","v":{"$error":"#DIV/0!"}},null,{"$f":"N13","v":221},{"$f":"COUNTIF(L6:L7,Y13)","v":0},{"$f":"Z13/(AB4-Z11)","v":{"$error":"#DIV/0!"}},{"$f":"IF(AA13=0,0,(AA13*((LOG(AA13))/LOG(2))))","v":{"$error":"#DIV/0!"}},null,{"$f":"N13","v":221},{"$f":"COUNTIF(L6:L7,AD13)","v":0},{"$f":"AE13/(AG4-AE11)","v":{"$error":"#DIV/0!"}},{"$f":"IF(AF13=0,0,(AF13*((LOG(AF13))/LOG(2))))","v":{"$error":"#DIV/0!"}},null,{"$f":"N13","v":221},{"$f":"COUNTIF(L6:L7,AI13)","v":0},{"$f":"AJ13/(AL4-AJ11)","v":{"$error":"#DIV/0!"}},{"$f":"IF(AK13=0,0,(AK13*((LOG(AK13))/LOG(2))))","v":{"$error":"#DIV/0!"}},null,{"$f":"N13","v":221},{"$f":"COUNTIF(L6:L7,AN13)","v":0},{"$f":"AO13/(AQ4-AO11)","v":{"$error":"#DIV/0!"}},{"$f":"IF(AP13=0,0,(AP13*((LOG(AP13))/LOG(2))))","v":{"$error":"#DIV/0!"}},null,{"$f":"N13","v":221},{"$f":"COUNTIF(L6:L7,AS13)","v":0},{"$f":"AT13/(AV4-AT11)","v":{"$error":"#DIV/0!"}},{"$f":"IF(AU13=0,0,(AU13*((LOG(AU13))/LOG(2))))","v":{"$error":"#DIV/0!"}}]
[null,null,null,null,null,null,null,null,null,null,null,null,null,222,{"$f":"COUNTIF($L$7:$L$500,N14)","v":0},{"$f":"O14/$Q$4","v":{"$error":"#DIV/0!"}},{"$f":"IF(P14=0,0,(P14*((LOG(P14))/LOG(2))))","v":{"$error":"#DIV/0!"}},null,null,{"$f":"N14","v":222},{"$f":"COUNTIF(L6:L7,T14)","v":0},{"$f":"U14/(W4-U11)","v":{"$error":"#DIV/0!"}},{"$f":"IF(V14=0,0,(V14*((LOG(V14))/LOG(2))))","v":{"$error":"#DIV/0!"}},null,{"$f":"N14","v":222},{"$f":"COUNTIF(L6:L7,Y14)","v":0},{"$f":"Z14/(AB4-Z11)","v":{"$error":"#DIV/0!"}},{"$f":"IF(AA14=0,0,(AA14*((LOG(AA14))/LOG(2))))","v":{"$error":"#DIV/0!"}},null,{"$f":"N14","v":222},{"$f":"COUNTIF(L6:L7,AD14)","v":0},{"$f":"AE14/(AG4-AE11)","v":{"$error":"#DIV/0!"}},{"$f":"IF(AF14=0,0,(AF14*((LOG(AF14))/LOG(2))))","v":{"$error":"#DIV/0!"}},null,{"$f":"N14","v":222},{"$f":"COUNTIF(L6:L7,AI14)","v":0},{"$f":"AJ14/(AL4-AJ11)","v":{"$error":"#DIV/0!"}},{"$f":"IF(AK14=0,0,(AK14*((LOG(AK14))/LOG(2))))","v":{"$error":"#DIV/0!"}},null,{"$f":"N14","v":222},{"$f":"COUNTIF(L6:L7,AN14)","v":0},{"$f":"AO14/(AQ4-AO11)","v":{"$error":"#DIV/0!"}},{"$f":"IF(AP14=0,0,(AP14*((LOG(AP14))/LOG(2))))","v":{"$error":"#DIV/0!"}},null,{"$f":"N14","v":222},{"$f":"COUNTIF(L6:L7,AS14)","v":0},{"$f":"AT14/(AV4-AT11)","v":{"$error":"#DIV/0!"}},{"$f":"IF(AU14=0,0,(AU14*((LOG(AU14))/LOG(2))))","v":{"$error":"#DIV/0!"}}]
[null,null,null,null,null,null,null,null,null,null,null,null,null,null,null,{"$f":"SUM(P7:P14)","v":{"$error":"#DIV/0!"}},{"$f":"-SUM(Q7:Q14)","v":{"$error":"#DIV/0!"}},null,null,null,null,{"$f":"SUM(V7:V14)","v":{"$error":"#DIV/0!"}},{"$f":"-SUM(W7:W14)","v":{"$error":"#DIV/0!"}},null,null,null,{"$f":"SUM(AA7:AA14)","v":{"$error":"#DIV/0!"}},{"$f":"-SUM(AB7:AB14)","v":{"$error":"#DIV/0!"}},null,null,null,{"$f":"SUM(AF7:AF14)","v":{"$error":"#DIV/0!"}},{"$f":"-SUM(AG7:AG14)","v":{"$error":"#DIV/0!"}},null,null,null,{"$f":"SUM(AK7:AK14)","v":{"$error":"#DIV/0!"}},{"$f":"-SUM(AL7:AL14)","v":{"$error":"#DIV/0!"}},null,null,null,{"$f":"SUM(AP7:AP14)","v":{"$error":"#DIV/0!"}},{"$f":"-SUM(AQ7:AQ14)","v":{"$error":"#DIV/0!"}},null,null,null,{"$f":"SUM(AU7:AU14)","v":{"$error":"#DIV/0!"}},{"$f":"-SUM(AV7:AV14)","v":{"$error":"#DIV/0!"}}]
[null,null,null,null,null,null,null,null,null,null,null,null,null,null,null,"U=",{"$f":"Q15/(LOG(Q4)/LOG(2))","v":{"$error":"#DIV/0!"}},null,null,null,null,"U1=",{"$f":"W15/(LOG(W4)/LOG(2))","v":{"$error":"#DIV/0!"}},null,null,null,"U2=",{"$f":"AB15/(LOG(AB4)/LOG(2))","v":{"$error":"#DIV/0!"}},null,null,null,"U3=",{"$f":"AG15/(LOG(AG4)/LOG(2))","v":{"$error":"#DIV/0!"}},null,null,null,"U4=",{"$f":"AL15/(LOG(AL4)/LOG(2))","v":{"$error":"#DIV/0!"}},null,null,null,"U5=",{"$f":"AQ15/(LOG(AQ4)/LOG(2))","v":{"$error":"#DIV/0!"}},null,null,null,"U6=",{"$f":"AV15/(LOG(AV4)/LOG(2))","v":{"$error":"#DIV/0!"}}]
[]
[]
[null,null,null,null,null,null,null,null,null,null,null,null,null,"Total Target Seq"]
[null,null,null,null,null,null,null,null,null,null,null,null,null,{"$f":"COUNTIF(L6:L7,G3)","v":0},null,0,0,0,0,0,0]
[null,null,null,null,null,null,null,null,null,null,null,null,null,null,null,"% of reinforcement given in 6 equal intervals based on number of trials "]
[null,null,null,null,null,null,null,null,null,null,null,null,null,null,null,"%_1","%_2","%_3","%_4","%_5","%_6"]
[null,null,null,null,null,null,null,null,null,null,null,null,null,null,"target sequence",{"$f":"$G$3","v":211},{"$f":"$G$3","v":211},{"$f":"$G$3","v":211},{"$f":"$G$3","v":211},{"$f":"$G$3","v":211},{"$f":"$G$3","v":211}]
[null,null,null,null,null,null,null,null,null,null,null,null,null,null,"total reinforcement",{"$f":"U11","v":0},{"$f":"Z11","v":0},{"$f":"AE11","v":0},{"$f":"AJ11","v":0},{"$f":"AO11","v":0},{"$f":"AT11","v":0}]
[null,null,null,null,null,null,null,null,null,null,null,null,null,null,"% target"]
[null,null,null,null,null,null,null,null,null,null,null,null,null,null,"CCRF"]
[null,null,null,null,null,null,null,null,null,null,null,null,null,null,"% CCRf"]
[null,null,null,null,null,null,null,null,null,null,null,null,null,null,"average response rate",{"$f":"F6/P20","v":{"$error":"#VALUE!"}},{"$f":"(F6-F6)/Q20","v":{"$error":"#VALUE!"}},{"$f":"(F6-F6)/R20","v":{"$error":"#VALUE!"}},{"$f":"(F6-F6)/S20","v":{"$error":"#VALUE!"}},{"$f":"(F6-F6)/T20","v":{"$error":"#VALUE!"}},{"$f":"(F6-F6)/U20","v":{"$error":"#VALUE!"}}]

{"sheet":"!N419900.010","index":27,"n_rows":211,"n_cols":48,"rows_kept":211,"cut":false,"hidden":false,"merged":[[4,39,4,42],[5,39,5,40],[4,44,4,47],[5,44,5,45],[4,24,4,27],[5,24,5,25],[4,29,4,32],[5,29,5,30],[4,34,4,37],[5,34,5,35],[1,1,1,2],[5,13,5,14],[18,13,18,14],[19,13,19,14],[4,19,4,22],[5,19,5,20]]}
["Report for:!N419900.010"]
["Date:","<date>"]
["Hen:","<hen>",null,null,null,"Correct Sequence",{"$f":"Start!J2","v":211},null,null,null,null,null,null,null,null,"Total Sequences in Data",{"$f":"4994-COUNTBLANK(L7:L5000)","v":205},null,null,null,null,"Total Sequences in Block Data",{"$f":"COUNTA(L7:L40)","v":34},null,null,null,"Total Sequences in Block Data",{"$f":"COUNTA(L41:L74)","v":34},null,null,null,"Total Sequences in Block Data",{"$f":"COUNTA(L75:L109)","v":35},null,null,null,"Total Sequences in Block Data",{"$f":"COUNTA(L110:L143)","v":34},null,null,null,"Total Sequences in Block Data",{"$f":"COUNTA(L144:L177)","v":34},null,null,null,"Total Sequences in Block Data",{"$f":"COUNTA(L178:L211)","v":34}]
[null,null,null,null,null,null,null,null,null,null,null,null,null,null,null,"Total Sequences in Summary",{"$f":"SUM(O7:O14)","v":205},null,null,null,null,"Total Sequences in Block Summary",{"$f":"SUM(U7:U14)","v":34},null,null,null,"Total Sequences in Block Summary",{"$f":"SUM(Z7:Z14)","v":34},null,null,null,"Total Sequences in Block Summary",{"$f":"SUM(AE7:AE14)","v":35},null,null,null,"Total Sequences in Block Summary",{"$f":"SUM(AJ7:AJ14)","v":34},null,null,null,"Total Sequences in Block Summary",{"$f":"SUM(AO7:AO14)","v":34},null,null,null,"Total Sequences in Block Summary",{"$f":"SUM(AT7:AT14)","v":34}]
[null,null,null,null,null,null,null,null,null,null,null,null,null,null,null,null,null,null,null,"Block 1",null,null,null,null,"Block 2",null,null,null,null,"Block 3",null,null,null,null,"Block 4",null,null,null,null,"Block 5",null,null,null,null,"Block 6"]
["Sequence\nComponent\n1","Time\n1","Sequence\nComponent\n2","Time\n2","Sequence\nComponent\n3","Time\n3","Sequence\nComponent\n4","Time\n4","Sequence\nComponent\n5","Time\n5","Correct?\n0=No 1=Yes","Sequence",null,"Frequency",null,"Relative Frequency","Variability",null,null,"Frequency",null,"Relative Frequency","Variability",null,"Frequency",null,"Relative Frequency","Variability",null,"Frequency",null,"Relative Frequency","Variability",null,"Frequency",null,"Relative Frequency","Variability",null,"Frequency",null,"Relative Frequency","Variability",null,"Frequency",null,"Relative Frequency","Variability"]
[12,9,13,11,13,29,null,null,null,null,0,111,null,111,{"$f":"COUNTIF($L$7:$L$500,N7)","v":199},{"$f":"O7/$Q$4","v":0.97073170731707314},{"$f":"IF(P7=0,0,(P7*((LOG(P7))/LOG(2))))","v":-4.1601172260476348E-2},null,null,{"$f":"N7","v":111},{"$f":"COUNTIF(L7:L40,T7)","v":32},{"$f":"U7/(W4-U11)","v":0.94117647058823528},{"$f":"IF(V7=0,0,(V7*((LOG(V7))/LOG(2))))","v":-8.2317968235613576E-2},null,{"$f":"N7","v":111},{"$f":"COUNTIF(L41:L74,Y7)","v":34},{"$f":"Z7/(AB4-Z11)","v":1},{"$f":"IF(AA7=0,0,(AA7*((LOG(AA7))/LOG(2))))","v":0},null,{"$f":"N7","v":111},{"$f":"COUNTIF(L75:L109,AD7)","v":34},{"$f":"AE7/(AG4-AE11)","v":0.97142857142857142},{"$f":"IF(AF7=0,0,(AF7*((LOG(AF7))/LOG(2))))","v":-4.0625313531923425E-2},null,{"$f":"N7","v":111},{"$f":"COUNTIF(L110:L143,AI7)","v":34},{"$f":"AJ7/(AL4-AJ11)","v":1},{"$f":"IF(AK7=0,0,(AK7*((LOG(AK7))/LOG(2))))","v":0},null,{"$f":"N7","v":111},{"$f":"COUNTIF(L144:L177,AN7)","v":33},{"$f":"AO7/(AQ4-AO11)","v":0.97058823529411764},{"$f":"IF(AP7=0,0,(AP7*((LOG(AP7))/LOG(2))))","v":-4.1801994777418743E-2},null,{"$f":"N7","v":111},{"$f":"COUNTIF(L178:L211,AS7)","v":32},{"$f":"AT7/(AV4-AT11)","v":0.94117647058823528},{"$f":"IF(AU7=0,0,(AU7*((LOG(AU7))/LOG(2))))","v":-8.2317968235613576E-2}]
[12,128,13,149,13,157,null,null,null,null,0,111,null,112,{"$f":"COUNTIF($L$7:$L$500,N8)","v":0},{"$f":"O8/$Q$4","v":0},{"$f":"IF(P8=0,0,(P8*((LOG(P8))/LOG(2))))","v":0},null,null,{"$f":"N8","v":112},{"$f":"COUNTIF(L7:L40,T8)","v":0},{"$f":"U8/(W4-U11)","v":0},{"$f":"IF(V8=0,0,(V8*((LOG(V8))/LOG(2))))","v":0},null,{"$f":"N8","v":112},{"$f":"COUNTIF(L41:L74,Y8)","v":0},{"$f":"Z8/(AB4-Z11)","v":0},{"$f":"IF(AA8=0,0,(AA8*((LOG(AA8))/LOG(2))))","v":0},null,{"$f":"N8","v":112},{"$f":"COUNTIF(L75:L109,AD8)","v":0},{"$f":"AE8/(AG4-AE11)","v":0},{"$f":"IF(AF8=0,0,(AF8*((LOG(AF8))/LOG(2))))","v":0},null,{"$f":"N8","v":112},{"$f":"COUNTIF(L110:L143,AI8)","v":0},{"$f":"AJ8/(AL4-AJ11)","v":0},{"$f":"IF(AK8=0,0,(AK8*((LOG(AK8))/LOG(2))))","v":0},null,{"$f":"N8","v":112},{"$f":"COUNTIF(L144:L177,AN8)","v":0},{"$f":"AO8/(AQ4-AO11)","v":0},{"$f":"IF(AP8=0,0,(AP8*((LOG(AP8))/LOG(2))))","v":0},null,{"$f":"N8","v":112},{"$f":"COUNTIF(L178:L211,AS8)","v":0},{"$f":"AT8/(AV4-AT11)","v":0},{"$f":"IF(AU8=0,0,(AU8*((LOG(AU8))/LOG(2))))","v":0}]
[21,272,22,280,24,292,null,null,null,null,0,222,null,121,{"$f":"COUNTIF($L$7:$L$500,N9)","v":0},{"$f":"O9/$Q$4","v":0},{"$f":"IF(P9=0,0,(P9*((LOG(P9))/LOG(2))))","v":0},null,null,{"$f":"N9","v":121},{"$f":"COUNTIF(L7:L40,T9)","v":0},{"$f":"U9/(W4-U11)","v":0},{"$f":"IF(V9=0,0,(V9*((LOG(V9))/LOG(2))))","v":0},null,{"$f":"N9","v":121},{"$f":"COUNTIF(L41:L74,Y9)","v":0},{"$f":"Z9/(AB4-Z11)","v":0},{"$f":"IF(AA9=0,0,(AA9*((LOG(AA9))/LOG(2))))","v":0},null,{"$f":"N9","v":121},{"$f":"COUNTIF(L75:L109,AD9)","v":0},{"$f":"AE9/(AG4-AE11)","v":0},{"$f":"IF(AF9=0,0,(AF9*((LOG(AF9))/LOG(2))))","v":0},null,{"$f":"N9","v":121},{"$f":"COUNTIF(L110:L143,AI9)","v":0},{"$f":"AJ9/(AL4-AJ11)","v":0},{"$f":"IF(AK9=0,0,(AK9*((LOG(AK9))/LOG(2))))","v":0},null,{"$f":"N9","v":121},{"$f":"COUNTIF(L144:L177,AN9)","v":0},{"$f":"AO9/(AQ4-AO11)","v":0},{"$f":"IF(AP9=0,0,(AP9*((LOG(AP9))/LOG(2))))","v":0},null,{"$f":"N9","v":121},{"$f":"COUNTIF(L178:L211,AS9)","v":0},{"$f":"AT9/(AV4-AT11)","v":0},{"$f":"IF(AU9=0,0,(AU9*((LOG(AU9))/LOG(2))))","v":0}]
[12,402,13,408,13,417,null,null,null,null,0,111,null,122,{"$f":"COUNTIF($L$7:$L$500,N10)","v":3},{"$f":"O10/$Q$4","v":1.4634146341463415E-2},{"$f":"IF(P10=0,0,(P10*((LOG(P10))/LOG(2))))","v":-8.9188062421233505E-2},null,null,{"$f":"N10","v":122},{"$f":"COUNTIF(L7:L40,T10)","v":0},{"$f":"U10/(W4-U11)","v":0},{"$f":"IF(V10=0,0,(V10*((LOG(V10))/LOG(2))))","v":0},null,{"$f":"N10","v":122},{"$f":"COUNTIF(L41:L74,Y10)","v":0},{"$f":"Z10/(AB4-Z11)","v":0},{"$f":"IF(AA10=0,0,(AA10*((LOG(AA10))/LOG(2))))","v":0},null,{"$f":"N10","v":122},{"$f":"COUNTIF(L75:L109,AD10)","v":1},{"$f":"AE10/(AG4-AE11)","v":2.8571428571428571E-2},{"$f":"IF(AF10=0,0,(AF10*((LOG(AF10))/LOG(2))))","v":-0.14655094334128474},null,{"$f":"N10","v":122},{"$f":"COUNTIF(L110:L143,AI10)","v":0},{"$f":"AJ10/(AL4-AJ11)","v":0},{"$f":"IF(AK10=0,0,(AK10*((LOG(AK10))/LOG(2))))","v":0},null,{"$f":"N10","v":122},{"$f":"COUNTIF(L144:L177,AN10)","v":0},{"$f":"AO10/(AQ4-AO11)","v":0},{"$f":"IF(AP10=0,0,(AP10*((LOG(AP10))/LOG(2))))","v":0},null,{"$f":"N10","v":122},{"$f":"COUNTIF(L178:L211,AS10)","v":2},{"$f":"AT10/(AV4-AT11)","v":5.8823529411764705E-2},{"$f":"IF(AU10=0,0,(AU10*((LOG(AU10))/LOG(2))))","v":-0.24043899066178465}]
[12,522,13,530,13,536,null,null,null,null,0,111,null,211,{"$f":"COUNTIF($L$7:$L$500,N11)","v":0},{"$f":"O11/$Q$4","v":0},{"$f":"IF(P11=0,0,(P11*((LOG(P11))/LOG(2))))","v":0},null,null,{"$f":"N11","v":211},{"$f":"COUNTIF(L7:L40,T11)","v":0},null,null,null,{"$f":"N11","v":211},{"$f":"COUNTIF(L41:L74,Y11)","v":0},null,null,null,{"$f":"N11","v":211},{"$f":"COUNTIF(L75:L109,AD11)","v":0},null,null,null,{"$f":"N11","v":211},{"$f":"COUNTIF(L110:L143,AI11)","v":0},null,null,null,{"$f":"N11","v":211},{"$f":"COUNTIF(L144:L177,AN11)","v":0},null,null,null,{"$f":"N11","v":211},{"$f":"COUNTIF(L178:L211,AS11)","v":0}]
[12,640,13,645,13,651,null,null,null,null,0,111,null,212,{"$f":"COUNTIF($L$7:$L$500,N12)","v":0},{"$f":"O12/$Q$4","v":0},{"$f":"IF(P12=0,0,(P12*((LOG(P12))/LOG(2))))","v":0},null,null,{"$f":"N12","v":212},{"$f":"COUNTIF(L7:L40,T12)","v":0},{"$f":"U12/(W4-U11)","v":0},{"$f":"IF(V12=0,0,(V12*((LOG(V12))/LOG(2))))","v":0},null,{"$f":"N12","v":212},{"$f":"COUNTIF(L41:L74,Y12)","v":0},{"$f":"Z12/(AB4-Z11)","v":0},{"$f":"IF(AA12=0,0,(AA12*((LOG(AA12))/LOG(2))))","v":0},null,{"$f":"N12","v":212},{"$f":"COUNTIF(L75:L109,AD12)","v":0},{"$f":"AE12/(AG4-AE11)","v":0},{"$f":"IF(AF12=0,0,(AF12*((LOG(AF12))/LOG(2))))","v":0},null,{"$f":"N12","v":212},{"$f":"COUNTIF(L110:L143,AI12)","v":0},{"$f":"AJ12/(AL4-AJ11)","v":0},{"$f":"IF(AK12=0,0,(AK12*((LOG(AK12))/LOG(2))))","v":0},null,{"$f":"N12","v":212},{"$f":"COUNTIF(L144:L177,AN12)","v":0},{"$f":"AO12/(AQ4-AO11)","v":0},{"$f":"IF(AP12=0,0,(AP12*((LOG(AP12))/LOG(2))))","v":0},null,{"$f":"N12","v":212},{"$f":"COUNTIF(L178:L211,AS12)","v":0},{"$f":"AT12/(AV4-AT11)","v":0},{"$f":"IF(AU12=0,0,(AU12*((LOG(AU12))/LOG(2))))","v":0}]
[12,763,13,770,13,777,null,null,null,null,0,111,null,221,{"$f":"COUNTIF($L$7:$L$500,N13)","v":0},{"$f":"O13/$Q$4","v":0},{"$f":"IF(P13=0,0,(P13*((LOG(P13))/LOG(2))))","v":0},null,null,{"$f":"N13","v":221},{"$f":"COUNTIF(L7:L40,T13)","v":0},{"$f":"U13/(W4-U11)","v":0},{"$f":"IF(V13=0,0,(V13*((LOG(V13))/LOG(2))))","v":0},null,{"$f":"N13","v":221},{"$f":"COUNTIF(L41:L74,Y13)","v":0},{"$f":"Z13/(AB4-Z11)","v":0},{"$f":"IF(AA13=0,0,(AA13*((LOG(AA13))/LOG(2))))","v":0},null,{"$f":"N13","v":221},{"$f":"COUNTIF(L75:L109,AD13)","v":0},{"$f":"AE13/(AG4-AE11)","v":0},{"$f":"IF(AF13=0,0,(AF13*((LOG(AF13))/LOG(2))))","v":0},null,{"$f":"N13","v":221},{"$f":"COUNTIF(L110:L143,AI13)","v":0},{"$f":"AJ13/(AL4-AJ11)","v":0},{"$f":"IF(AK13=0,0,(AK13*((LOG(AK13))/LOG(2))))","v":0},null,{"$f":"N13","v":221},{"$f":"COUNTIF(L144:L177,AN13)","v":0},{"$f":"AO13/(AQ4-AO11)","v":0},{"$f":"IF(AP13=0,0,(AP13*((LOG(AP13))/LOG(2))))","v":0},null,{"$f":"N13","v":221},{"$f":"COUNTIF(L178:L211,AS13)","v":0},{"$f":"AT13/(AV4-AT11)","v":0},{"$f":"IF(AU13=0,0,(AU13*((LOG(AU13))/LOG(2))))","v":0}]
[12,891,13,901,13,909,null,null,null,null,0,111,null,222,{"$f":"COUNTIF($L$7:$L$500,N14)","v":3},{"$f":"O14/$Q$4","v":1.4634146341463415E-2},{"$f":"IF(P14=0,0,(P14*((LOG(P14))/LOG(2))))","v":-8.9188062421233505E-2},null,null,{"$f":"N14","v":222},{"$f":"COUNTIF(L7:L40,T14)","v":2},{"$f":"U14/(W4-U11)","v":5.8823529411764705E-2},{"$f":"IF(V14=0,0,(V14*((LOG(V14))/LOG(2))))","v":-0.24043899066178465},null,{"$f":"N14","v":222},{"$f":"COUNTIF(L41:L74,Y14)","v":0},{"$f":"Z14/(AB4-Z11)","v":0},{"$f":"IF(AA14=0,0,(AA14*((LOG(AA14))/LOG(2))))","v":0},null,{"$f":"N14","v":222},{"$f":"COUNTIF(L75:L109,AD14)","v":0},{"$f":"AE14/(AG4-AE11)","v":0},{"$f":"IF(AF14=0,0,(AF14*((LOG(AF14))/LOG(2))))","v":0},null,{"$f":"N14","v":222},{"$f":"COUNTIF(L110:L143,AI14)","v":0},{"$f":"AJ14/(AL4-AJ11)","v":0},{"$f":"IF(AK14=0,0,(AK14*((LOG(AK14))/LOG(2))))","v":0},null,{"$f":"N14","v":222},{"$f":"COUNTIF(L144:L177,AN14)","v":1},{"$f":"AO14/(AQ4-AO11)","v":2.9411764705882353E-2},{"$f":"IF(AP14=0,0,(AP14*((LOG(AP14))/LOG(2))))","v":-0.14963126003677468},null,{"$f":"N14","v":222},{"$f":"COUNTIF(L178:L211,AS14)","v":0},{"$f":"AT14/(AV4-AT11)","v":0},{"$f":"IF(AU14=0,0,(AU14*((LOG(AU14))/LOG(2))))","v":0}]
[12,1035,13,1042,13,1048,null,null,null,null,0,111,null,null,null,{"$f":"SUM(P7:P14)","v":1},{"$f":"-SUM(Q7:Q14)","v":0.21997729710294336},null,null,null,null,{"$f":"SUM(V7:V14)","v":1},{"$f":"-SUM(W7:W14)","v":0.32275695889739819},null,null,null,{"$f":"SUM(AA7:AA14)","v":1},{"$f":"-SUM(AB7:AB14)","v":0},null,null,null,{"$f":"SUM(AF7:AF14)","v":1},{"$f":"-SUM(AG7:AG14)","v":0.18717625687320816},null,null,null,{"$f":"SUM(AK7:AK14)","v":1},{"$f":"-SUM(AL7:AL14)","v":0},null,null,null,{"$f":"SUM(AP7:AP14)","v":1},{"$f":"-SUM(AQ7:AQ14)","v":0.19143325481419343},null,null,null,{"$f":"SUM(AU7:AU14)","v":1},{"$f":"-SUM(AV7:AV14)","v":0.32275695889739819}]
[12,1150,13,1157,13,1163,null,null,null,null,0,111,null,null,null,"U=",{"$f":"Q15/(LOG(Q4)/LOG(2))","v":2.8644816348584561E-2},null,null,null,null,"U1=",{"$f":"W15/(LOG(W4)/LOG(2))","v":6.3441634655374626E-2},null,null,null,"U2=",{"$f":"AB15/(LOG(AB4)/LOG(2))","v":0},null,null,null,"U3=",{"$f":"AG15/(LOG(AG4)/LOG(2))","v":3.6491699961740759E-2},null,null,null,"U4=",{"$f":"AL15/(LOG(AL4)/LOG(2))","v":0},null,null,null,"U5=",{"$f":"AQ15/(LOG(AQ4)/LOG(2))","v":3.7628433029919708E-2},null,null,null,"U6=",{"$f":"AV15/(LOG(AV4)/LOG(2))","v":6.3441634655374626E-2}]
[12,1281,13,1286,13,1293,null,null,null,null,0,111]
[12,1397,13,1403,13,1409,null,null,null,null,0,111]
[12,1505,13,1512,13,1547,null,null,null,null,0,111,null,"Total Target Seq"]
[12,1650,13,1656,13,1663,null,null,null,null,0,111,null,{"$f":"COUNTIF(L7:L211,G3)","v":0},null,34,34,35,34,34,34]
[12,1778,13,1785,13,1807,null,null,null,null,0,111,null,null,null,"% of reinforcement given in 6 equal intervals based on number of trials "]
[12,1932,13,1940,13,1951,null,null,null,null,0,111,null,null,null,"%_1","%_2","%_3","%_4","%_5","%_6"]
[12,2064,13,2076,13,2084,null,null,null,null,0,111,null,null,"target sequence",{"$f":"$G$3","v":211},{"$f":"$G$3","v":211},{"$f":"$G$3","v":211},{"$f":"$G$3","v":211},{"$f":"$G$3","v":211},{"$f":"$G$3","v":211}]
[12,2196,13,2203,13,2214,null,null,null,null,0,111,null,null,"total reinforcement",{"$f":"U11","v":0},{"$f":"Z11","v":0},{"$f":"AE11","v":0},{"$f":"AJ11","v":0},{"$f":"AO11","v":0},{"$f":"AT11","v":0}]
[12,2321,13,2328,13,2338,null,null,null,null,0,111,null,null,"% target"]
[21,2472,22,2481,24,2491,null,null,null,null,0,222,null,null,"CCRF"]
[12,2633,13,2638,13,2648,null,null,null,null,0,111,null,null,"% CCRf"]
[12,2769,13,2775,13,2781,null,null,null,null,0,111,null,null,"average response rate",{"$f":"F40/P20","v":125.38235294117646},{"$f":"(F74-F40)/Q20","v":116.58823529411765},{"$f":"(F109-F74)/R20","v":113},{"$f":"(F143-F109)/S20","v":114.61764705882354},{"$f":"(F177-F143)/T20","v":116.61764705882354},{"$f":"(F211-F177)/U20","v":116.08823529411765}]
[12,2893,13,2900,13,2908,null,null,null,null,0,111]
[12,3005,13,3012,13,3017,null,null,null,null,0,111]
[12,3136,13,3142,13,3148,null,null,null,null,0,111]
[12,3253,13,3259,13,3265,null,null,null,null,0,111]
[12,3369,13,3375,13,3381,null,null,null,null,0,111]
[12,3482,13,3488,13,3494,null,null,null,null,0,111]
[12,3618,13,3624,13,3630,null,null,null,null,0,111]
[12,3734,13,3741,13,3748,null,null,null,null,0,111]
[12,3863,13,3869,13,3875,null,null,null,null,0,111]
[12,3994,13,4000,13,4009,null,null,null,null,0,111]
[12,4111,13,4117,13,4122,null,null,null,null,0,111]
[12,4245,13,4254,13,4263,null,null,null,null,0,111]
[12,4365,13,4371,13,4378,null,null,null,null,0,111]
[12,4477,13,4483,13,4489,null,null,null,null,0,111]
[12,4590,13,4597,13,4604,null,null,null,null,0,111]
[12,4709,13,4715,13,4725,null,null,null,null,0,111]
[12,4827,13,4833,13,4838,null,null,null,null,0,111]
[12,4947,13,4953,13,4959,null,null,null,null,0,111]
[12,5065,13,5071,13,5080,null,null,null,null,0,111]
[12,5180,13,5185,13,5191,null,null,null,null,0,111]
[12,5290,13,5295,13,5300,null,null,null,null,0,111]
[12,5406,13,5412,13,5418,null,null,null,null,0,111]
[12,5519,13,5525,13,5530,null,null,null,null,0,111]
[12,5637,13,5642,13,5649,null,null,null,null,0,111]
[12,5755,13,5761,13,5767,null,null,null,null,0,111]
[12,5874,13,5879,13,5885,null,null,null,null,0,111]
[12,5983,13,5990,13,5996,null,null,null,null,0,111]
[12,6099,13,6104,13,6109,null,null,null,null,0,111]
[12,6201,13,6208,13,6217,null,null,null,null,0,111]
[12,6322,13,6326,13,6332,null,null,null,null,0,111]
[12,6440,13,6444,13,6449,null,null,null,null,0,111]
[12,6547,13,6553,13,6560,null,null,null,null,0,111]
[12,6656,13,6661,13,6667,null,null,null,null,0,111]
[12,6768,13,6774,13,6790,null,null,null,null,0,111]
[12,6910,13,6916,13,6922,null,null,null,null,0,111]
[12,7023,13,7029,13,7034,null,null,null,null,0,111]
[12,7136,13,7142,13,7147,null,null,null,null,0,111]
[12,7251,13,7260,13,7269,null,null,null,null,0,111]
[12,7374,13,7379,13,7386,null,null,null,null,0,111]
[12,7483,13,7489,13,7495,null,null,null,null,0,111]
[12,7597,13,7602,13,7607,null,null,null,null,0,111]
[12,7717,13,7722,13,7727,null,null,null,null,0,111]
[12,7831,13,7835,13,7841,null,null,null,null,0,111]
[12,7970,13,7979,13,7998,null,null,null,null,0,111]
[12,8102,13,8109,13,8113,null,null,null,null,0,111]
[12,8215,13,8221,13,8227,null,null,null,null,0,111]
[12,8327,13,8333,13,8339,null,null,null,null,0,111]
[12,8444,13,8450,13,8458,null,null,null,null,0,111]
[12,8558,13,8562,13,8567,null,null,null,null,0,111]
[12,8665,13,8670,13,8674,null,null,null,null,0,111]
[12,8776,13,8781,13,8787,null,null,null,null,0,111]
[12,8888,13,8894,13,8901,null,null,null,null,0,111]
[12,9004,13,9008,13,9016,null,null,null,null,0,111]
[12,9121,13,9126,13,9131,null,null,null,null,0,111]
[12,9230,13,9235,13,9239,null,null,null,null,0,111]
[12,9339,13,9344,13,9351,null,null,null,null,0,111]
[12,9449,13,9455,13,9462,null,null,null,null,0,111]
[12,9564,13,9571,13,9587,null,null,null,null,0,111]
[12,9688,13,9693,13,9699,null,null,null,null,0,111]
[12,9802,13,9808,13,9818,null,null,null,null,0,111]
[12,9921,13,9926,13,9931,null,null,null,null,0,111]
[12,10036,24,10054,24,10062,null,null,null,null,0,122]
[12,10165,13,10170,13,10175,null,null,null,null,0,111]
[12,10274,13,10280,13,10287,null,null,null,null,0,111]
[12,10386,13,10391,13,10396,null,null,null,null,0,111]
[12,10493,13,10498,13,10503,null,null,null,null,0,111]
[12,10598,13,10603,13,10609,null,null,null,null,0,111]
[12,10711,13,10716,13,10722,null,null,null,null,0,111]
[12,10822,13,10827,13,10833,null,null,null,null,0,111]
[12,10933,13,10937,13,10941,null,null,null,null,0,111]
[12,11039,13,11043,13,11050,null,null,null,null,0,111]
[12,11151,13,11157,13,11163,null,null,null,null,0,111]
[12,11257,13,11264,13,11271,null,null,null,null,0,111]
[12,11377,13,11385,13,11394,null,null,null,null,0,111]
[12,11501,13,11507,13,11513,null,null,null,null,0,111]
[12,11607,13,11613,13,11618,null,null,null,null,0,111]
[12,11722,13,11729,13,11734,null,null,null,null,0,111]
[12,11836,13,11842,13,11847,null,null,null,null,0,111]
[12,11941,13,11948,13,11956,null,null,null,null,0,111]
[12,12054,13,12060,13,12067,null,null,null,null,0,111]
[12,12171,13,12177,13,12182,null,null,null,null,0,111]
[12,12287,13,12293,13,12298,null,null,null,null,0,111]
[12,12399,13,12405,13,12411,null,null,null,null,0,111]
[12,12517,13,12522,13,12527,null,null,null,null,0,111]
[12,12626,13,12632,13,12638,null,null,null,null,0,111]
[12,12746,13,12752,13,12758,null,null,null,null,0,111]
[12,12865,13,12870,13,12877,null,null,null,null,0,111]
[12,12979,13,12985,13,12990,null,null,null,null,0,111]
[12,13095,13,13100,13,13106,null,null,null,null,0,111]
[12,13212,13,13218,13,13224,null,null,null,null,0,111]
[12,13317,13,13323,13,13329,null,null,null,null,0,111]
[12,13430,13,13436,13,13450,null,null,null,null,0,111]
[12,13554,13,13560,13,13567,null,null,null,null,0,111]
[12,13670,13,13676,13,13682,null,null,null,null,0,111]
[12,13793,13,13798,13,13808,null,null,null,null,0,111]
[12,13909,13,13915,13,13921,null,null,null,null,0,111]
[12,14023,13,14029,13,14035,null,null,null,null,0,111]
[12,14130,13,14136,13,14141,null,null,null,null,0,111]
[12,14246,13,14251,13,14258,null,null,null,null,0,111]
[12,14363,13,14367,13,14373,null,null,null,null,0,111]
[12,14474,13,14480,13,14487,null,null,null,null,0,111]
[12,14594,13,14599,13,14604,null,null,null,null,0,111]
[12,14711,13,14716,13,14720,null,null,null,null,0,111]
[12,14822,13,14826,13,14831,null,null,null,null,0,111]
[12,14931,13,14936,13,14942,null,null,null,null,0,111]
[12,15034,13,15041,13,15051,null,null,null,null,0,111]
[12,15149,13,15155,13,15163,null,null,null,null,0,111]
[12,15267,13,15273,13,15278,null,null,null,null,0,111]
[12,15379,13,15385,13,15391,null,null,null,null,0,111]
[12,15494,13,15500,13,15504,null,null,null,null,0,111]
[12,15607,13,15613,13,15619,null,null,null,null,0,111]
[12,15713,13,15719,13,15725,null,null,null,null,0,111]
[12,15829,13,15835,13,15844,null,null,null,null,0,111]
[12,15950,13,15955,13,15969,null,null,null,null,0,111]
[12,16069,13,16074,13,16079,null,null,null,null,0,111]
[12,16172,13,16178,13,16184,null,null,null,null,0,111]
[12,16291,13,16296,13,16301,null,null,null,null,0,111]
[12,16404,13,16411,13,16416,null,null,null,null,0,111]
[12,16521,13,16526,13,16531,null,null,null,null,0,111]
[12,16632,13,16639,13,16646,null,null,null,null,0,111]
[12,16747,13,16752,13,16757,null,null,null,null,0,111]
[12,16856,13,16863,13,16869,null,null,null,null,0,111]
[12,16974,13,16980,13,16986,null,null,null,null,0,111]
[12,17086,13,17091,13,17097,null,null,null,null,0,111]
[12,17203,13,17210,13,17216,null,null,null,null,0,111]
[12,17318,13,17323,13,17328,null,null,null,null,0,111]
[12,17432,13,17437,13,17443,null,null,null,null,0,111]
[12,17544,13,17550,13,17555,null,null,null,null,0,111]
[12,17662,13,17667,13,17673,null,null,null,null,0,111]
[21,17808,22,17814,24,17824,null,null,null,null,0,222]
[12,17931,13,17936,13,17942,null,null,null,null,0,111]
[12,18056,13,18073,13,18079,null,null,null,null,0,111]
[12,18184,13,18189,13,18195,null,null,null,null,0,111]
[12,18296,13,18302,13,18309,null,null,null,null,0,111]
[12,18404,13,18410,13,18416,null,null,null,null,0,111]
[12,18519,13,18524,13,18530,null,null,null,null,0,111]
[12,18630,13,18635,13,18641,null,null,null,null,0,111]
[12,18740,13,18745,13,18751,null,null,null,null,0,111]
[12,18857,13,18862,13,18866,null,null,null,null,0,111]
[12,18967,13,18972,13,18977,null,null,null,null,0,111]
[12,19080,13,19087,13,19093,null,null,null,null,0,111]
[12,19205,13,19210,13,19218,null,null,null,null,0,111]
[12,19311,13,19317,13,19323,null,null,null,null,0,111]
[12,19428,13,19432,13,19438,null,null,null,null,0,111]
[12,19541,13,19548,13,19554,null,null,null,null,0,111]
[12,19658,13,19663,13,19667,null,null,null,null,0,111]
[12,19773,13,19777,13,19784,null,null,null,null,0,111]
[12,19888,13,19895,13,19901,null,null,null,null,0,111]
[12,20031,13,20036,13,20044,null,null,null,null,0,111]
[12,20144,13,20150,13,20159,null,null,null,null,0,111]
[12,20263,13,20268,13,20276,null,null,null,null,0,111]
[12,20380,13,20386,13,20392,null,null,null,null,0,111]
[12,20495,13,20499,13,20504,null,null,null,null,0,111]
[12,20599,13,20606,13,20613,null,null,null,null,0,111]
[12,20718,24,20738,24,20744,null,null,null,null,0,122]
[12,20848,13,20854,13,20860,null,null,null,null,0,111]
[12,20953,24,20994,24,21000,null,null,null,null,0,122]
[12,21103,13,21108,13,21115,null,null,null,null,0,111]
[12,21217,13,21223,13,21229,null,null,null,null,0,111]
[12,21335,13,21347,13,21357,null,null,null,null,0,111]
[12,21455,13,21460,13,21466,null,null,null,null,0,111]
[12,21566,13,21571,13,21577,null,null,null,null,0,111]
[12,21681,13,21687,13,21694,null,null,null,null,0,111]
[12,21795,13,21800,13,21813,null,null,null,null,0,111]
[12,21923,13,21928,13,21935,null,null,null,null,0,111]
[12,22031,13,22037,13,22042,null,null,null,null,0,111]
[12,22145,13,22151,13,22157,null,null,null,null,0,111]
[12,22257,13,22264,13,22270,null,null,null,null,0,111]
[12,22370,13,22375,13,22381,null,null,null,null,0,111]
[12,22488,13,22493,13,22499,null,null,null,null,0,111]
[12,22598,13,22604,13,22609,null,null,null,null,0,111]
[12,22714,13,22718,13,22725,null,null,null,null,0,111]
[12,22825,13,22829,13,22834,null,null,null,null,0,111]
[12,22934,13,22940,13,22946,null,null,null,null,0,111]
[12,23048,13,23053,13,23058,null,null,null,null,0,111]
[12,23151,13,23158,13,23166,null,null,null,null,0,111]
[12,23272,13,23278,13,23283,null,null,null,null,0,111]
[12,23381,13,23386,13,23391,null,null,null,null,0,111]
[12,23498,13,23505,13,23512,null,null,null,null,0,111]
[12,23616,13,23620,13,23625,null,null,null,null,0,111]
[12,23728,13,23733,13,23739,null,null,null,null,0,111]
[12,23857,13,23863,13,23870,null,null,null,null,0,111]
[12,23980,13,23985,13,23991,null,null,null,null,null,111]

{"sheet":"!N420900.010","index":28,"n_rows":211,"n_cols":48,"rows_kept":211,"cut":false,"hidden":false,"merged":[[4,39,4,42],[5,39,5,40],[4,44,4,47],[5,44,5,45],[4,24,4,27],[5,24,5,25],[4,29,4,32],[5,29,5,30],[4,34,4,37],[5,34,5,35],[1,1,1,2],[5,13,5,14],[18,13,18,14],[19,13,19,14],[4,19,4,22],[5,19,5,20]]}
["Report for:!N420900.010"]
["Date:","<date>"]
["Hen:","<hen>",null,null,null,"Correct Sequence",{"$f":"Start!J2","v":211},null,null,null,null,null,null,null,null,"Total Sequences in Data",{"$f":"4994-COUNTBLANK(L7:L5000)","v":205},null,null,null,null,"Total Sequences in Block Data",{"$f":"COUNTA(L7:L40)","v":34},null,null,null,"Total Sequences in Block Data",{"$f":"COUNTA(L41:L74)","v":34},null,null,null,"Total Sequences in Block Data",{"$f":"COUNTA(L75:L109)","v":35},null,null,null,"Total Sequences in Block Data",{"$f":"COUNTA(L110:L143)","v":34},null,null,null,"Total Sequences in Block Data",{"$f":"COUNTA(L144:L177)","v":34},null,null,null,"Total Sequences in Block Data",{"$f":"COUNTA(L178:L211)","v":34}]
[null,null,null,null,null,null,null,null,null,null,null,null,null,null,null,"Total Sequences in Summary",{"$f":"SUM(O7:O14)","v":205},null,null,null,null,"Total Sequences in Block Summary",{"$f":"SUM(U7:U14)","v":34},null,null,null,"Total Sequences in Block Summary",{"$f":"SUM(Z7:Z14)","v":34},null,null,null,"Total Sequences in Block Summary",{"$f":"SUM(AE7:AE14)","v":35},null,null,null,"Total Sequences in Block Summary",{"$f":"SUM(AJ7:AJ14)","v":34},null,null,null,"Total Sequences in Block Summary",{"$f":"SUM(AO7:AO14)","v":34},null,null,null,"Total Sequences in Block Summary",{"$f":"SUM(AT7:AT14)","v":34}]
[null,null,null,null,null,null,null,null,null,null,null,null,null,null,null,null,null,null,null,"Block 1",null,null,null,null,"Block 2",null,null,null,null,"Block 3",null,null,null,null,"Block 4",null,null,null,null,"Block 5",null,null,null,null,"Block 6"]
["Sequence\nComponent\n1","Time\n1","Sequence\nComponent\n2","Time\n2","Sequence\nComponent\n3","Time\n3","Sequence\nComponent\n4","Time\n4","Sequence\nComponent\n5","Time\n5","Correct?\n0=No 1=Yes","Sequence",null,"Frequency",null,"Relative Frequency","Variability",null,null,"Frequency",null,"Relative Frequency","Variability",null,"Frequency",null,"Relative Frequency","Variability",null,"Frequency",null,"Relative Frequency","Variability",null,"Frequency",null,"Relative Frequency","Variability",null,"Frequency",null,"Relative Frequency","Variability",null,"Frequency",null,"Relative Frequency","Variability"]
[12,24,13,31,13,40,null,null,null,null,0,111,null,111,{"$f":"COUNTIF($L$7:$L$500,N7)","v":205},{"$f":"O7/$Q$4","v":1},{"$f":"IF(P7=0,0,(P7*((LOG(P7))/LOG(2))))","v":0},null,null,{"$f":"N7","v":111},{"$f":"COUNTIF(L7:L40,T7)","v":34},{"$f":"U7/(W4-U11)","v":1},{"$f":"IF(V7=0,0,(V7*((LOG(V7))/LOG(2))))","v":0},null,{"$f":"N7","v":111},{"$f":"COUNTIF(L41:L74,Y7)","v":34},{"$f":"Z7/(AB4-Z11)","v":1},{"$f":"IF(AA7=0,0,(AA7*((LOG(AA7))/LOG(2))))","v":0},null,{"$f":"N7","v":111},{"$f":"COUNTIF(L75:L109,AD7)","v":35},{"$f":"AE7/(AG4-AE11)","v":1},{"$f":"IF(AF7=0,0,(AF7*((LOG(AF7))/LOG(2))))","v":0},null,{"$f":"N7","v":111},{"$f":"COUNTIF(L110:L143,AI7)","v":34},{"$f":"AJ7/(AL4-AJ11)","v":1},{"$f":"IF(AK7=0,0,(AK7*((LOG(AK7))/LOG(2))))","v":0},null,{"$f":"N7","v":111},{"$f":"COUNTIF(L144:L177,AN7)","v":34},{"$f":"AO7/(AQ4-AO11)","v":1},{"$f":"IF(AP7=0,0,(AP7*((LOG(AP7))/LOG(2))))","v":0},null,{"$f":"N7","v":111},{"$f":"COUNTIF(L178:L211,AS7)","v":34},{"$f":"AT7/(AV4-AT11)","v":1},{"$f":"IF(AU7=0,0,(AU7*((LOG(AU7))/LOG(2))))","v":0}]
[12,153,13,159,13,165,null,null,null,null,0,111,null,112,{"$f":"COUNTIF($L$7:$L$500,N8)","v":0},{"$f":"O8/$Q$4","v":0},{"$f":"IF(P8=0,0,(P8*((LOG(P8))/LOG(2))))","v":0},null,null,{"$f":"N8","v":112},{"$f":"COUNTIF(L7:L40,T8)","v":0},{"$f":"U8/(W4-U11)","v":0},{"$f":"IF(V8=0,0,(V8*((LOG(V8))/LOG(2))))","v":0},null,{"$f":"N8","v":112},{"$f":"COUNTIF(L41:L74,Y8)","v":0},{"$f":"Z8/(AB4-Z11)","v":0},{"$f":"IF(AA8=0,0,(AA8*((LOG(AA8))/LOG(2))))","v":0},null,{"$f":"N8","v":112},{"$f":"COUNTIF(L75:L109,AD8)","v":0},{"$f":"AE8/(AG4-AE11)","v":0},{"$f":"IF(AF8=0,0,(AF8*((LOG(AF8))/LOG(2))))","v":0},null,{"$f":"N8","v":112},{"$f":"COUNTIF(L110:L143,AI8)","v":0},{"$f":"AJ8/(AL4-AJ11)","v":0},{"$f":"IF(AK8=0,0,(AK8*((LOG(AK8))/LOG(2))))","v":0},null,{"$f":"N8","v":112},{"$f":"COUNTIF(L144:L177,AN8)","v":0},{"$f":"AO8/(AQ4-AO11)","v":0},{"$f":"IF(AP8=0,0,(AP8*((LOG(AP8))/LOG(2))))","v":0},null,{"$f":"N8","v":112},{"$f":"COUNTIF(L178:L211,AS8)","v":0},{"$f":"AT8/(AV4-AT11)","v":0},{"$f":"IF(AU8=0,0,(AU8*((LOG(AU8))/LOG(2))))","v":0}]
[12,272,13,277,13,285,null,null,null,null,0,111,null,121,{"$f":"COUNTIF($L$7:$L$500,N9)","v":0},{"$f":"O9/$Q$4","v":0},{"$f":"IF(P9=0,0,(P9*((LOG(P9))/LOG(2))))","v":0},null,null,{"$f":"N9","v":121},{"$f":"COUNTIF(L7:L40,T9)","v":0},{"$f":"U9/(W4-U11)","v":0},{"$f":"IF(V9=0,0,(V9*((LOG(V9))/LOG(2))))","v":0},null,{"$f":"N9","v":121},{"$f":"COUNTIF(L41:L74,Y9)","v":0},{"$f":"Z9/(AB4-Z11)","v":0},{"$f":"IF(AA9=0,0,(AA9*((LOG(AA9))/LOG(2))))","v":0},null,{"$f":"N9","v":121},{"$f":"COUNTIF(L75:L109,AD9)","v":0},{"$f":"AE9/(AG4-AE11)","v":0},{"$f":"IF(AF9=0,0,(AF9*((LOG(AF9))/LOG(2))))","v":0},null,{"$f":"N9","v":121},{"$f":"COUNTIF(L110:L143,AI9)","v":0},{"$f":"AJ9/(AL4-AJ11)","v":0},{"$f":"IF(AK9=0,0,(AK9*((LOG(AK9))/LOG(2))))","v":0},null,{"$f":"N9","v":121},{"$f":"COUNTIF(L144:L177,AN9)","v":0},{"$f":"AO9/(AQ4-AO11)","v":0},{"$f":"IF(AP9=0,0,(AP9*((LOG(AP9))/LOG(2))))","v":0},null,{"$f":"N9","v":121},{"$f":"COUNTIF(L178:L211,AS9)","v":0},{"$f":"AT9/(AV4-AT11)","v":0},{"$f":"IF(AU9=0,0,(AU9*((LOG(AU9))/LOG(2))))","v":0}]
[12,388,13,394,13,400,null,null,null,null,0,111,null,122,{"$f":"COUNTIF($L$7:$L$500,N10)","v":0},{"$f":"O10/$Q$4","v":0},{"$f":"IF(P10=0,0,(P10*((LOG(P10))/LOG(2))))","v":0},null,null,{"$f":"N10","v":122},{"$f":"COUNTIF(L7:L40,T10)","v":0},{"$f":"U10/(W4-U11)","v":0},{"$f":"IF(V10=0,0,(V10*((LOG(V10))/LOG(2))))","v":0},null,{"$f":"N10","v":122},{"$f":"COUNTIF(L41:L74,Y10)","v":0},{"$f":"Z10/(AB4-Z11)","v":0},{"$f":"IF(AA10=0,0,(AA10*((LOG(AA10))/LOG(2))))","v":0},null,{"$f":"N10","v":122},{"$f":"COUNTIF(L75:L109,AD10)","v":0},{"$f":"AE10/(AG4-AE11)","v":0},{"$f":"IF(AF10=0,0,(AF10*((LOG(AF10))/LOG(2))))","v":0},null,{"$f":"N10","v":122},{"$f":"COUNTIF(L110:L143,AI10)","v":0},{"$f":"AJ10/(AL4-AJ11)","v":0},{"$f":"IF(AK10=0,0,(AK10*((LOG(AK10))/LOG(2))))","v":0},null,{"$f":"N10","v":122},{"$f":"COUNTIF(L144:L177,AN10)","v":0},{"$f":"AO10/(AQ4-AO11)","v":0},{"$f":"IF(AP10=0,0,(AP10*((LOG(AP10))/LOG(2))))","v":0},null,{"$f":"N10","v":122},{"$f":"COUNTIF(L178:L211,AS10)","v":0},{"$f":"AT10/(AV4-AT11)","v":0},{"$f":"IF(AU10=0,0,(AU10*((LOG(AU10))/LOG(2))))","v":0}]
[12,505,13,510,13,515,null,null,null,null,0,111,null,211,{"$f":"COUNTIF($L$7:$L$500,N11)","v":0},{"$f":"O11/$Q$4","v":0},{"$f":"IF(P11=0,0,(P11*((LOG(P11))/LOG(2))))","v":0},null,null,{"$f":"N11","v":211},{"$f":"COUNTIF(L7:L40,T11)","v":0},null,null,null,{"$f":"N11","v":211},{"$f":"COUNTIF(L41:L74,Y11)","v":0},null,null,null,{"$f":"N11","v":211},{"$f":"COUNTIF(L75:L109,AD11)","v":0},null,null,null,{"$f":"N11","v":211},{"$f":"COUNTIF(L110:L143,AI11)","v":0},null,null,null,{"$f":"N11","v":211},{"$f":"COUNTIF(L144:L177,AN11)","v":0},null,null,null,{"$f":"N11","v":211},{"$f":"COUNTIF(L178:L211,AS11)","v":0}]
[12,627,13,633,13,638,null,null,null,null,0,111,null,212,{"$f":"COUNTIF($L$7:$L$500,N12)","v":0},{"$f":"O12/$Q$4","v":0},{"$f":"IF(P12=0,0,(P12*((LOG(P12))/LOG(2))))","v":0},null,null,{"$f":"N12","v":212},{"$f":"COUNTIF(L7:L40,T12)","v":0},{"$f":"U12/(W4-U11)","v":0},{"$f":"IF(V12=0,0,(V12*((LOG(V12))/LOG(2))))","v":0},null,{"$f":"N12","v":212},{"$f":"COUNTIF(L41:L74,Y12)","v":0},{"$f":"Z12/(AB4-Z11)","v":0},{"$f":"IF(AA12=0,0,(AA12*((LOG(AA12))/LOG(2))))","v":0},null,{"$f":"N12","v":212},{"$f":"COUNTIF(L75:L109,AD12)","v":0},{"$f":"AE12/(AG4-AE11)","v":0},{"$f":"IF(AF12=0,0,(AF12*((LOG(AF12))/LOG(2))))","v":0},null,{"$f":"N12","v":212},{"$f":"COUNTIF(L110:L143,AI12)","v":0},{"$f":"AJ12/(AL4-AJ11)","v":0},{"$f":"IF(AK12=0,0,(AK12*((LOG(AK12))/LOG(2))))","v":0},null,{"$f":"N12","v":212},{"$f":"COUNTIF(L144:L177,AN12)","v":0},{"$f":"AO12/(AQ4-AO11)","v":0},{"$f":"IF(AP12=0,0,(AP12*((LOG(AP12))/LOG(2))))","v":0},null,{"$f":"N12","v":212},{"$f":"COUNTIF(L178:L211,AS12)","v":0},{"$f":"AT12/(AV4-AT11)","v":0},{"$f":"IF(AU12=0,0,(AU12*((LOG(AU12))/LOG(2))))","v":0}]
[12,734,13,741,13,746,null,null,null,null,0,111,null,221,{"$f":"COUNTIF($L$7:$L$500,N13)","v":0},{"$f":"O13/$Q$4","v":0},{"$f":"IF(P13=0,0,(P13*((LOG(P13))/LOG(2))))","v":0},null,null,{"$f":"N13","v":221},{"$f":"COUNTIF(L7:L40,T13)","v":0},{"$f":"U13/(W4-U11)","v":0},{"$f":"IF(V13=0,0,(V13*((LOG(V13))/LOG(2))))","v":0},null,{"$f":"N13","v":221},{"$f":"COUNTIF(L41:L74,Y13)","v":0},{"$f":"Z13/(AB4-Z11)","v":0},{"$f":"IF(AA13=0,0,(AA13*((LOG(AA13))/LOG(2))))","v":0},null,{"$f":"N13","v":221},{"$f":"COUNTIF(L75:L109,AD13)","v":0},{"$f":"AE13/(AG4-AE11)","v":0},{"$f":"IF(AF13=0,0,(AF13*((LOG(AF13))/LOG(2))))","v":0},null,{"$f":"N13","v":221},{"$f":"COUNTIF(L110:L143,AI13)","v":0},{"$f":"AJ13/(AL4-AJ11)","v":0},{"$f":"IF(AK13=0,0,(AK13*((LOG(AK13))/LOG(2))))","v":0},null,{"$f":"N13","v":221},{"$f":"COUNTIF(L144:L177,AN13)","v":0},{"$f":"AO13/(AQ4-AO11)","v":0},{"$f":"IF(AP13=0,0,(AP13*((LOG(AP13))/LOG(2))))","v":0},null,{"$f":"N13","v":221},{"$f":"COUNTIF(L178:L211,AS13)","v":0},{"$f":"AT13/(AV4-AT11)","v":0},{"$f":"IF(AU13=0,0,(AU13*((LOG(AU13))/LOG(2))))","v":0}]
[12,840,13,846,13,852,null,null,null,null,0,111,null,222,{"$f":"COUNTIF($L$7:$L$500,N14)","v":0},{"$f":"O14/$Q$4","v":0},{"$f":"IF(P14=0,0,(P14*((LOG(P14))/LOG(2))))","v":0},null,null,{"$f":"N14","v":222},{"$f":"COUNTIF(L7:L40,T14)","v":0},{"$f":"U14/(W4-U11)","v":0},{"$f":"IF(V14=0,0,(V14*((LOG(V14))/LOG(2))))","v":0},null,{"$f":"N14","v":222},{"$f":"COUNTIF(L41:L74,Y14)","v":0},{"$f":"Z14/(AB4-Z11)","v":0},{"$f":"IF(AA14=0,0,(AA14*((LOG(AA14))/LOG(2))))","v":0},null,{"$f":"N14","v":222},{"$f":"COUNTIF(L75:L109,AD14)","v":0},{"$f":"AE14/(AG4-AE11)","v":0},{"$f":"IF(AF14=0,0,(AF14*((LOG(AF14))/LOG(2))))","v":0},null,{"$f":"N14","v":222},{"$f":"COUNTIF(L110:L143,AI14)","v":0},{"$f":"AJ14/(AL4-AJ11)","v":0},{"$f":"IF(AK14=0,0,(AK14*((LOG(AK14))/LOG(2))))","v":0},null,{"$f":"N14","v":222},{"$f":"COUNTIF(L144:L177,AN14)","v":0},{"$f":"AO14/(AQ4-AO11)","v":0},{"$f":"IF(AP14=0,0,(AP14*((LOG(AP14))/LOG(2))))","v":0},null,{"$f":"N14","v":222},{"$f":"COUNTIF(L178:L211,AS14)","v":0},{"$f":"AT14/(AV4-AT11)","v":0},{"$f":"IF(AU14=0,0,(AU14*((LOG(AU14))/LOG(2))))","v":0}]
[12,947,13,954,13,960,null,null,null,null,0,111,null,null,null,{"$f":"SUM(P7:P14)","v":1},{"$f":"-SUM(Q7:Q14)","v":0},null,null,null,null,{"$f":"SUM(V7:V14)","v":1},{"$f":"-SUM(W7:W14)","v":0},null,null,null,{"$f":"SUM(AA7:AA14)","v":1},{"$f":"-SUM(AB7:AB14)","v":0},null,null,null,{"$f":"SUM(AF7:AF14)","v":1},{"$f":"-SUM(AG7:AG14)","v":0},null,null,null,{"$f":"SUM(AK7:AK14)","v":1},{"$f":"-SUM(AL7:AL14)","v":0},null,null,null,{"$f":"SUM(AP7:AP14)","v":1},{"$f":"-SUM(AQ7:AQ14)","v":0},null,null,null,{"$f":"SUM(AU7:AU14)","v":1},{"$f":"-SUM(AV7:AV14)","v":0}]
[12,1067,13,1076,13,1083,null,null,null,null,0,111,null,null,null,"U=",{"$f":"Q15/(LOG(Q4)/LOG(2))","v":0},null,null,null,null,"U1=",{"$f":"W15/(LOG(W4)/LOG(2))","v":0},null,null,null,"U2=",{"$f":"AB15/(LOG(AB4)/LOG(2))","v":0},null,null,null,"U3=",{"$f":"AG15/(LOG(AG4)/LOG(2))","v":0},null,null,null,"U4=",{"$f":"AL15/(LOG(AL4)/LOG(2))","v":0},null,null,null,"U5=",{"$f":"AQ15/(LOG(AQ4)/LOG(2))","v":0},null,null,null,"U6=",{"$f":"AV15/(LOG(AV4)/LOG(2))","v":0}]
[12,1214,13,1221,13,1233,null,null,null,null,0,111]
[12,1339,13,1344,13,1351,null,null,null,null,0,111]
[12,1472,13,1477,13,1484,null,null,null,null,0,111,null,"Total Target Seq"]
[12,1603,13,1608,13,1613,null,null,null,null,0,111,null,{"$f":"COUNTIF(L7:L211,G3)","v":0},null,34,34,35,34,34,34]
[12,1727,13,1733,13,1738,null,null,null,null,0,111,null,null,null,"% of reinforcement given in 6 equal intervals based on number of trials "]
[12,1851,13,1857,13,1862,null,null,null,null,0,111,null,null,null,"%_1","%_2","%_3","%_4","%_5","%_6"]
[12,1969,13,1976,13,1981,null,null,null,null,0,111,null,null,"target sequence",{"$f":"$G$3","v":211},{"$f":"$G$3","v":211},{"$f":"$G$3","v":211},{"$f":"$G$3","v":211},{"$f":"$G$3","v":211},{"$f":"$G$3","v":211}]
[12,2086,13,2092,13,2098,null,null,null,null,0,111,null,null,"total reinforcement",{"$f":"U11","v":0},{"$f":"Z11","v":0},{"$f":"AE11","v":0},{"$f":"AJ11","v":0},{"$f":"AO11","v":0},{"$f":"AT11","v":0}]
[12,2194,13,2200,13,2205,null,null,null,null,0,111,null,null,"% target"]
[12,2309,13,2315,13,2321,null,null,null,null,0,111,null,null,"CCRF"]
[12,2444,13,2449,13,2455,null,null,null,null,0,111,null,null,"% CCRf"]
[12,2567,13,2573,13,2581,null,null,null,null,0,111,null,null,"average response rate",{"$f":"F40/P20","v":117.11764705882354},{"$f":"(F74-F40)/Q20","v":117.88235294117646},{"$f":"(F109-F74)/R20","v":114.6},{"$f":"(F143-F109)/S20","v":116.08823529411765},{"$f":"(F177-F143)/T20","v":119.08823529411765},{"$f":"(F211-F177)/U20","v":115.11764705882354}]
[12,2697,13,2705,13,2713,null,null,null,null,0,111]
[12,2819,13,2824,13,2830,null,null,null,null,0,111]
[12,2938,13,2943,13,2951,null,null,null,null,0,111]
[12,3058,13,3063,13,3069,null,null,null,null,0,111]
[12,3169,13,3174,13,3180,null,null,null,null,0,111]
[12,3284,13,3289,13,3295,null,null,null,null,0,111]
[12,3400,13,3406,13,3412,null,null,null,null,0,111]
[12,3512,13,3517,13,3522,null,null,null,null,0,111]
[12,3631,13,3638,13,3643,null,null,null,null,0,111]
[12,3743,13,3748,13,3753,null,null,null,null,0,111]
[12,3856,13,3861,13,3865,null,null,null,null,0,111]
[12,3973,13,3977,13,3982,null,null,null,null,0,111]
[12,4084,13,4088,13,4093,null,null,null,null,0,111]
[12,4193,13,4197,13,4203,null,null,null,null,0,111]
[12,4306,13,4311,13,4318,null,null,null,null,0,111]
[12,4421,13,4426,13,4434,null,null,null,null,0,111]
[12,4533,13,4539,13,4544,null,null,null,null,0,111]
[12,4644,13,4650,13,4659,null,null,null,null,0,111]
[12,4764,13,4769,13,4773,null,null,null,null,0,111]
[12,4870,13,4876,13,4885,null,null,null,null,0,111]
[12,4986,13,4991,13,4997,null,null,null,null,0,111]
[12,5099,13,5104,13,5110,null,null,null,null,0,111]
[12,5227,13,5232,13,5237,null,null,null,null,0,111]
[12,5355,13,5360,13,5384,null,null,null,null,0,111]
[12,5515,13,5521,13,5528,null,null,null,null,0,111]
[12,5629,13,5636,13,5651,null,null,null,null,0,111]
[12,5768,13,5773,13,5779,null,null,null,null,0,111]
[12,5887,13,5891,13,5896,null,null,null,null,0,111]
[12,6000,13,6006,13,6013,null,null,null,null,0,111]
[12,6116,13,6122,13,6128,null,null,null,null,0,111]
[12,6229,13,6234,13,6241,null,null,null,null,0,111]
[12,6348,13,6354,13,6362,null,null,null,null,0,111]
[12,6473,13,6480,13,6489,null,null,null,null,0,111]
[12,6594,13,6599,13,6605,null,null,null,null,0,111]
[12,6714,13,6729,13,6736,null,null,null,null,0,111]
[12,6840,13,6846,13,6852,null,null,null,null,0,111]
[12,6956,13,6962,13,6968,null,null,null,null,0,111]
[12,7077,13,7082,13,7087,null,null,null,null,0,111]
[12,7188,13,7192,13,7197,null,null,null,null,0,111]
[12,7295,13,7300,13,7308,null,null,null,null,0,111]
[12,7410,13,7415,13,7420,null,null,null,null,0,111]
[12,7523,13,7528,13,7533,null,null,null,null,0,111]
[12,7633,13,7640,13,7646,null,null,null,null,0,111]
[12,7750,13,7757,13,7763,null,null,null,null,0,111]
[12,7865,13,7870,13,7875,null,null,null,null,0,111]
[12,7977,13,7984,13,7990,null,null,null,null,0,111]
[12,8093,13,8099,13,8104,null,null,null,null,0,111]
[12,8204,13,8210,13,8216,null,null,null,null,0,111]
[12,8321,13,8327,13,8333,null,null,null,null,0,111]
[12,8435,13,8443,13,8450,null,null,null,null,0,111]
[12,8555,13,8560,13,8567,null,null,null,null,0,111]
[12,8666,13,8671,13,8678,null,null,null,null,0,111]
[12,8774,13,8779,13,8786,null,null,null,null,0,111]
[12,8886,13,8892,13,8899,null,null,null,null,0,111]
[12,8995,13,9001,13,9006,null,null,null,null,0,111]
[12,9106,13,9111,13,9116,null,null,null,null,0,111]
[12,9220,13,9226,13,9236,null,null,null,null,0,111]
[12,9339,13,9345,13,9350,null,null,null,null,0,111]
[12,9453,13,9459,13,9465,null,null,null,null,0,111]
[12,9565,13,9570,13,9574,null,null,null,null,0,111]
[12,9672,13,9677,13,9683,null,null,null,null,0,111]
[12,9783,13,9788,13,9793,null,null,null,null,0,111]
[12,9893,13,9897,13,9902,null,null,null,null,0,111]
[12,10003,13,10009,13,10014,null,null,null,null,0,111]
[12,10114,13,10119,13,10124,null,null,null,null,0,111]
[12,10224,13,10229,13,10234,null,null,null,null,0,111]
[12,10334,13,10339,13,10344,null,null,null,null,0,111]
[12,10444,13,10448,13,10453,null,null,null,null,0,111]
[12,10551,13,10558,13,10564,null,null,null,null,0,111]
[12,10705,13,10714,13,10732,null,null,null,null,0,111]
[12,10832,13,10838,13,10844,null,null,null,null,0,111]
[12,10942,13,10949,13,10955,null,null,null,null,0,111]
[12,11055,13,11062,13,11067,null,null,null,null,0,111]
[12,11195,13,11199,13,11208,null,null,null,null,0,111]
[12,11312,13,11318,13,11324,null,null,null,null,0,111]
[12,11422,13,11427,13,11432,null,null,null,null,0,111]
[12,11530,13,11538,13,11543,null,null,null,null,0,111]
[12,11643,13,11648,13,11653,null,null,null,null,0,111]
[12,11759,13,11765,13,11771,null,null,null,null,0,111]
[12,11879,13,11884,13,11890,null,null,null,null,0,111]
[12,11992,13,11997,13,12001,null,null,null,null,0,111]
[12,12099,13,12104,13,12108,null,null,null,null,0,111]
[12,12208,13,12212,13,12216,null,null,null,null,0,111]
[12,12319,13,12324,13,12331,null,null,null,null,0,111]
[12,12433,13,12437,13,12442,null,null,null,null,0,111]
[12,12542,13,12547,13,12555,null,null,null,null,0,111]
[12,12654,13,12660,13,12666,null,null,null,null,0,111]
[12,12769,13,12776,13,12782,null,null,null,null,0,111]
[12,12889,13,12897,13,12907,null,null,null,null,0,111]
[12,13002,13,13008,13,13014,null,null,null,null,0,111]
[12,13113,13,13119,13,13125,null,null,null,null,0,111]
[12,13228,13,13232,13,13246,null,null,null,null,0,111]
[12,13348,13,13354,13,13360,null,null,null,null,0,111]
[12,13461,13,13471,13,13481,null,null,null,null,0,111]
[12,13579,13,13585,13,13592,null,null,null,null,0,111]
[12,13713,13,13719,13,13732,null,null,null,null,0,111]
[12,13835,13,13841,13,13847,null,null,null,null,0,111]
[12,13946,13,13952,13,13960,null,null,null,null,0,111]
[12,14063,13,14069,13,14076,null,null,null,null,0,111]
[12,14180,13,14185,13,14191,null,null,null,null,0,111]
[12,14289,13,14295,13,14303,null,null,null,null,0,111]
[12,14425,13,14433,13,14442,null,null,null,null,0,111]
[12,14542,13,14547,13,14554,null,null,null,null,0,111]
[12,14656,13,14661,13,14667,null,null,null,null,0,111]
[12,14767,13,14773,13,14778,null,null,null,null,0,111]
[12,14875,13,14881,13,14886,null,null,null,null,0,111]
[12,14982,13,14988,13,14996,null,null,null,null,0,111]
[12,15114,13,15132,13,15142,null,null,null,null,0,111]
[12,15243,13,15251,13,15259,null,null,null,null,0,111]
[12,15375,13,15381,13,15387,null,null,null,null,0,111]
[12,15487,13,15493,13,15501,null,null,null,null,0,111]
[12,15601,13,15606,13,15612,null,null,null,null,0,111]
[12,15711,13,15716,13,15722,null,null,null,null,0,111]
[12,15820,13,15826,13,15832,null,null,null,null,0,111]
[12,15928,13,15940,13,15948,null,null,null,null,0,111]
[12,16055,13,16061,13,16070,null,null,null,null,0,111]
[12,16170,13,16176,13,16183,null,null,null,null,0,111]
[12,16282,13,16288,13,16295,null,null,null,null,0,111]
[12,16392,13,16397,13,16403,null,null,null,null,0,111]
[12,16504,13,16514,13,16540,null,null,null,null,0,111]
[12,16650,13,16656,13,16670,null,null,null,null,0,111]
[12,16769,13,16776,13,16783,null,null,null,null,0,111]
[12,16884,13,16903,13,16909,null,null,null,null,0,111]
[12,17008,13,17014,13,17020,null,null,null,null,0,111]
[12,17121,13,17127,13,17132,null,null,null,null,0,111]
[12,17230,13,17234,13,17240,null,null,null,null,0,111]
[12,17339,13,17346,13,17354,null,null,null,null,0,111]
[12,17453,13,17458,13,17464,null,null,null,null,0,111]
[12,17569,13,17574,13,17582,null,null,null,null,0,111]
[12,17688,13,17695,13,17702,null,null,null,null,0,111]
[12,17803,13,17810,13,17817,null,null,null,null,0,111]
[12,17931,13,17938,13,17944,null,null,null,null,0,111]
[12,18056,13,18069,13,18104,null,null,null,null,0,111]
[12,18205,13,18216,13,18225,null,null,null,null,0,111]
[12,18327,13,18334,13,18340,null,null,null,null,0,111]
[12,18445,13,18451,13,18457,null,null,null,null,0,111]
[12,18566,13,18573,13,18581,null,null,null,null,0,111]
[12,18686,13,18692,13,18700,null,null,null,null,0,111]
[12,18804,13,18810,13,18814,null,null,null,null,0,111]
[12,18915,13,18921,13,18942,null,null,null,null,0,111]
[12,19057,13,19063,13,19078,null,null,null,null,0,111]
[12,19174,13,19180,13,19186,null,null,null,null,0,111]
[12,19291,13,19296,13,19301,null,null,null,null,0,111]
[12,19420,13,19425,13,19431,null,null,null,null,0,111]
[12,19537,13,19542,13,19548,null,null,null,null,0,111]
[12,19660,13,19664,13,19670,null,null,null,null,0,111]
[12,19771,13,19776,13,19782,null,null,null,null,0,111]
[12,19878,13,19884,13,19890,null,null,null,null,0,111]
[12,19985,13,19992,13,19997,null,null,null,null,0,111]
[12,20100,13,20105,13,20112,null,null,null,null,0,111]
[12,20225,13,20232,13,20243,null,null,null,null,0,111]
[12,20343,13,20350,13,20356,null,null,null,null,0,111]
[12,20458,13,20464,13,20469,null,null,null,null,0,111]
[12,20562,13,20567,13,20572,null,null,null,null,0,111]
[12,20678,13,20683,13,20692,null,null,null,null,0,111]
[12,20790,13,20796,13,20802,null,null,null,null,0,111]
[12,20906,13,20911,13,20917,null,null,null,null,0,111]
[12,21032,13,21037,13,21043,null,null,null,null,0,111]
[12,21145,13,21150,13,21156,null,null,null,null,0,111]
[12,21253,13,21258,13,21263,null,null,null,null,0,111]
[12,21361,13,21368,13,21376,null,null,null,null,0,111]
[12,21480,13,21487,13,21493,null,null,null,null,0,111]
[12,21602,13,21609,13,21622,null,null,null,null,0,111]
[12,21722,13,21729,13,21737,null,null,null,null,0,111]
[12,21838,13,21843,13,21848,null,null,null,null,0,111]
[12,21941,13,21946,13,21953,null,null,null,null,0,111]
[12,22057,13,22062,13,22071,null,null,null,null,0,111]
[12,22179,13,22185,13,22193,null,null,null,null,0,111]
[12,22295,13,22300,13,22305,null,null,null,null,0,111]
[12,22410,13,22415,13,22421,null,null,null,null,0,111]
[12,22521,13,22526,13,22533,null,null,null,null,0,111]
[12,22636,13,22642,13,22647,null,null,null,null,0,111]
[12,22747,13,22755,13,22766,null,null,null,null,0,111]
[12,22866,13,22871,13,22876,null,null,null,null,0,111]
[12,22973,13,22979,13,22985,null,null,null,null,0,111]
[12,23085,13,23092,13,23098,null,null,null,null,0,111]
[12,23211,13,23217,13,23233,null,null,null,null,0,111]
[12,23334,13,23346,13,23353,null,null,null,null,0,111]
[12,23445,13,23450,13,23454,null,null,null,null,0,111]
[12,23551,13,23556,13,23561,null,null,null,null,0,111]
[12,23678,13,23687,13,23696,null,null,null,null,0,111]
[12,23789,13,23795,13,23800,null,null,null,null,0,111]
[12,23900,13,23906,13,23911,null,null,null,null,0,111]

{"sheet":"!N421900.010","index":29,"n_rows":157,"n_cols":48,"rows_kept":157,"cut":false,"hidden":false,"merged":[[4,39,4,42],[5,39,5,40],[4,44,4,47],[5,44,5,45],[4,24,4,27],[5,24,5,25],[4,29,4,32],[5,29,5,30],[4,34,4,37],[5,34,5,35],[1,1,1,2],[5,13,5,14],[18,13,18,14],[19,13,19,14],[4,19,4,22],[5,19,5,20]]}
["Report for:!N421900.010"]
["Date:","<date>"]
["Hen:","<hen>",null,null,null,"Correct Sequence",{"$f":"Start!J2","v":211},null,null,null,null,null,null,null,null,"Total Sequences in Data",{"$f":"4994-COUNTBLANK(L7:L5000)","v":151},null,null,null,null,"Total Sequences in Block Data",{"$f":"COUNTA(L7:L31)","v":25},null,null,null,"Total Sequences in Block Data",{"$f":"COUNTA(L32:L56)","v":25},null,null,null,"Total Sequences in Block Data",{"$f":"COUNTA(L57:L82)","v":26},null,null,null,"Total Sequences in Block Data",{"$f":"COUNTA(L83:L107)","v":25},null,null,null,"Total Sequences in Block Data",{"$f":"COUNTA(L108:L132)","v":25},null,null,null,"Total Sequences in Block Data",{"$f":"COUNTA(L133:L157)","v":25}]
[null,null,null,null,null,null,null,null,null,null,null,null,null,null,null,"Total Sequences in Summary",{"$f":"SUM(O7:O14)","v":151},null,null,null,null,"Total Sequences in Block Summary",{"$f":"SUM(U7:U14)","v":25},null,null,null,"Total Sequences in Block Summary",{"$f":"SUM(Z7:Z14)","v":25},null,null,null,"Total Sequences in Block Summary",{"$f":"SUM(AE7:AE14)","v":26},null,null,null,"Total Sequences in Block Summary",{"$f":"SUM(AJ7:AJ14)","v":25},null,null,null,"Total Sequences in Block Summary",{"$f":"SUM(AO7:AO14)","v":25},null,null,null,"Total Sequences in Block Summary",{"$f":"SUM(AT7:AT14)","v":25}]
[null,null,null,null,null,null,null,null,null,null,null,null,null,null,null,null,null,null,null,"Block 1",null,null,null,null,"Block 2",null,null,null,null,"Block 3",null,null,null,null,"Block 4",null,null,null,null,"Block 5",null,null,null,null,"Block 6"]
["Sequence\nComponent\n1","Time\n1","Sequence\nComponent\n2","Time\n2","Sequence\nComponent\n3","Time\n3","Sequence\nComponent\n4","Time\n4","Sequence\nComponent\n5","Time\n5","Correct?\n0=No 1=Yes","Sequence",null,"Frequency",null,"Relative Frequency","Variability",null,null,"Frequency",null,"Relative Frequency","Variability",null,"Frequency",null,"Relative Frequency","Variability",null,"Frequency",null,"Relative Frequency","Variability",null,"Frequency",null,"Relative Frequency","Variability",null,"Frequency",null,"Relative Frequency","Variability",null,"Frequency",null,"Relative Frequency","Variability"]
[12,38,13,44,13,54,null,null,null,null,0,111,null,111,{"$f":"COUNTIF($L$7:$L$500,N7)","v":98},{"$f":"O7/$Q$4","v":0.64900662251655628},{"$f":"IF(P7=0,0,(P7*((LOG(P7))/LOG(2))))","v":-0.40478211742097564},null,null,{"$f":"N7","v":111},{"$f":"COUNTIF(L7:L31,T7)","v":25},{"$f":"U7/(W4-U11)","v":1},{"$f":"IF(V7=0,0,(V7*((LOG(V7))/LOG(2))))","v":0},null,{"$f":"N7","v":111},{"$f":"COUNTIF(L32:L56,Y7)","v":19},{"$f":"Z7/(AB4-Z11)","v":0.76},{"$f":"IF(AA7=0,0,(AA7*((LOG(AA7))/LOG(2))))","v":-0.30090579401166578},null,{"$f":"N7","v":111},{"$f":"COUNTIF(L57:L82,AD7)","v":9},{"$f":"AE7/(AG4-AE11)","v":0.34615384615384615},{"$f":"IF(AF7=0,0,(AF7*((LOG(AF7))/LOG(2))))","v":-0.52979355578034681},null,{"$f":"N7","v":111},{"$f":"COUNTIF(L83:L107,AI7)","v":17},{"$f":"AJ7/(AL4-AJ11)","v":0.68},{"$f":"IF(AK7=0,0,(AK7*((LOG(AK7))/LOG(2))))","v":-0.378347476996582},null,{"$f":"N7","v":111},{"$f":"COUNTIF(L108:L132,AN7)","v":12},{"$f":"AO7/(AQ4-AO11)","v":0.48},{"$f":"IF(AP7=0,0,(AP7*((LOG(AP7))/LOG(2))))","v":-0.50826897074571287},null,{"$f":"N7","v":111},{"$f":"COUNTIF(L133:L157,AS7)","v":16},{"$f":"AT7/(AV4-AT11)","v":0.64},{"$f":"IF(AU7=0,0,(AU7*((LOG(AU7))/LOG(2))))","v":-0.41206796145582375}]
[12,156,13,163,13,170,null,null,null,null,0,111,null,112,{"$f":"COUNTIF($L$7:$L$500,N8)","v":16},{"$f":"O8/$Q$4","v":0.10596026490066225},{"$f":"IF(P8=0,0,(P8*((LOG(P8))/LOG(2))))","v":-0.34314222403444544},null,null,{"$f":"N8","v":112},{"$f":"COUNTIF(L7:L31,T8)","v":0},{"$f":"U8/(W4-U11)","v":0},{"$f":"IF(V8=0,0,(V8*((LOG(V8))/LOG(2))))","v":0},null,{"$f":"N8","v":112},{"$f":"COUNTIF(L32:L56,Y8)","v":2},{"$f":"Z8/(AB4-Z11)","v":0.08},{"$f":"IF(AA8=0,0,(AA8*((LOG(AA8))/LOG(2))))","v":-0.29150849518197797},null,{"$f":"N8","v":112},{"$f":"COUNTIF(L57:L82,AD8)","v":7},{"$f":"AE8/(AG4-AE11)","v":0.26923076923076922},{"$f":"IF(AF8=0,0,(AF8*((LOG(AF8))/LOG(2))))","v":-0.50967667586863141},null,{"$f":"N8","v":112},{"$f":"COUNTIF(L83:L107,AI8)","v":1},{"$f":"AJ8/(AL4-AJ11)","v":0.04},{"$f":"IF(AK8=0,0,(AK8*((LOG(AK8))/LOG(2))))","v":-0.18575424759098899},null,{"$f":"N8","v":112},{"$f":"COUNTIF(L108:L132,AN8)","v":3},{"$f":"AO8/(AQ4-AO11)","v":0.12},{"$f":"IF(AP8=0,0,(AP8*((LOG(AP8))/LOG(2))))","v":-0.36706724268642821},null,{"$f":"N8","v":112},{"$f":"COUNTIF(L133:L157,AS8)","v":3},{"$f":"AT8/(AV4-AT11)","v":0.12},{"$f":"IF(AU8=0,0,(AU8*((LOG(AU8))/LOG(2))))","v":-0.36706724268642821}]
[12,275,13,281,13,289,null,null,null,null,0,111,null,121,{"$f":"COUNTIF($L$7:$L$500,N9)","v":0},{"$f":"O9/$Q$4","v":0},{"$f":"IF(P9=0,0,(P9*((LOG(P9))/LOG(2))))","v":0},null,null,{"$f":"N9","v":121},{"$f":"COUNTIF(L7:L31,T9)","v":0},{"$f":"U9/(W4-U11)","v":0},{"$f":"IF(V9=0,0,(V9*((LOG(V9))/LOG(2))))","v":0},null,{"$f":"N9","v":121},{"$f":"COUNTIF(L32:L56,Y9)","v":0},{"$f":"Z9/(AB4-Z11)","v":0},{"$f":"IF(AA9=0,0,(AA9*((LOG(AA9))/LOG(2))))","v":0},null,{"$f":"N9","v":121},{"$f":"COUNTIF(L57:L82,AD9)","v":0},{"$f":"AE9/(AG4-AE11)","v":0},{"$f":"IF(AF9=0,0,(AF9*((LOG(AF9))/LOG(2))))","v":0},null,{"$f":"N9","v":121},{"$f":"COUNTIF(L83:L107,AI9)","v":0},{"$f":"AJ9/(AL4-AJ11)","v":0},{"$f":"IF(AK9=0,0,(AK9*((LOG(AK9))/LOG(2))))","v":0},null,{"$f":"N9","v":121},{"$f":"COUNTIF(L108:L132,AN9)","v":0},{"$f":"AO9/(AQ4-AO11)","v":0},{"$f":"IF(AP9=0,0,(AP9*((LOG(AP9))/LOG(2))))","v":0},null,{"$f":"N9","v":121},{"$f":"COUNTIF(L133:L157,AS9)","v":0},{"$f":"AT9/(AV4-AT11)","v":0},{"$f":"IF(AU9=0,0,(AU9*((LOG(AU9))/LOG(2))))","v":0}]
[12,410,13,416,13,424,null,null,null,null,0,111,null,122,{"$f":"COUNTIF($L$7:$L$500,N10)","v":12},{"$f":"O10/$Q$4","v":7.9470198675496692E-2},{"$f":"IF(P10=0,0,(P10*((LOG(P10))/LOG(2))))","v":-0.2903397805513051},null,null,{"$f":"N10","v":122},{"$f":"COUNTIF(L7:L31,T10)","v":0},{"$f":"U10/(W4-U11)","v":0},{"$f":"IF(V10=0,0,(V10*((LOG(V10))/LOG(2))))","v":0},null,{"$f":"N10","v":122},{"$f":"COUNTIF(L32:L56,Y10)","v":0},{"$f":"Z10/(AB4-Z11)","v":0},{"$f":"IF(AA10=0,0,(AA10*((LOG(AA10))/LOG(2))))","v":0},null,{"$f":"N10","v":122},{"$f":"COUNTIF(L57:L82,AD10)","v":4},{"$f":"AE10/(AG4-AE11)","v":0.15384615384615385},{"$f":"IF(AF10=0,0,(AF10*((LOG(AF10))/LOG(2))))","v":-0.4154522643293988},null,{"$f":"N10","v":122},{"$f":"COUNTIF(L83:L107,AI10)","v":4},{"$f":"AJ10/(AL4-AJ11)","v":0.16},{"$f":"IF(AK10=0,0,(AK10*((LOG(AK10))/LOG(2))))","v":-0.42301699036395596},null,{"$f":"N10","v":122},{"$f":"COUNTIF(L108:L132,AN10)","v":2},{"$f":"AO10/(AQ4-AO11)","v":0.08},{"$f":"IF(AP10=0,0,(AP10*((LOG(AP10))/LOG(2))))","v":-0.29150849518197797},null,{"$f":"N10","v":122},{"$f":"COUNTIF(L133:L157,AS10)","v":2},{"$f":"AT10/(AV4-AT11)","v":0.08},{"$f":"IF(AU10=0,0,(AU10*((LOG(AU10))/LOG(2))))","v":-0.29150849518197797}]
[12,524,13,531,13,537,null,null,null,null,0,111,null,211,{"$f":"COUNTIF($L$7:$L$500,N11)","v":0},{"$f":"O11/$Q$4","v":0},{"$f":"IF(P11=0,0,(P11*((LOG(P11))/LOG(2))))","v":0},null,null,{"$f":"N11","v":211},{"$f":"COUNTIF(L7:L31,T11)","v":0},null,null,null,{"$f":"N11","v":211},{"$f":"COUNTIF(L32:L56,Y11)","v":0},null,null,null,{"$f":"N11","v":211},{"$f":"COUNTIF(L57:L82,AD11)","v":0},null,null,null,{"$f":"N11","v":211},{"$f":"COUNTIF(L83:L107,AI11)","v":0},null,null,null,{"$f":"N11","v":211},{"$f":"COUNTIF(L108:L132,AN11)","v":0},null,null,null,{"$f":"N11","v":211},{"$f":"COUNTIF(L133:L157,AS11)","v":0}]
[12,651,13,656,13,661,null,null,null,null,0,111,null,212,{"$f":"COUNTIF($L$7:$L$500,N12)","v":0},{"$f":"O12/$Q$4","v":0},{"$f":"IF(P12=0,0,(P12*((LOG(P12))/LOG(2))))","v":0},null,null,{"$f":"N12","v":212},{"$f":"COUNTIF(L7:L31,T12)","v":0},{"$f":"U12/(W4-U11)","v":0},{"$f":"IF(V12=0,0,(V12*((LOG(V12))/LOG(2))))","v":0},null,{"$f":"N12","v":212},{"$f":"COUNTIF(L32:L56,Y12)","v":0},{"$f":"Z12/(AB4-Z11)","v":0},{"$f":"IF(AA12=0,0,(AA12*((LOG(AA12))/LOG(2))))","v":0},null,{"$f":"N12","v":212},{"$f":"COUNTIF(L57:L82,AD12)","v":0},{"$f":"AE12/(AG4-AE11)","v":0},{"$f":"IF(AF12=0,0,(AF12*((LOG(AF12))/LOG(2))))","v":0},null,{"$f":"N12","v":212},{"$f":"COUNTIF(L83:L107,AI12)","v":0},{"$f":"AJ12/(AL4-AJ11)","v":0},{"$f":"IF(AK12=0,0,(AK12*((LOG(AK12))/LOG(2))))","v":0},null,{"$f":"N12","v":212},{"$f":"COUNTIF(L108:L132,AN12)","v":0},{"$f":"AO12/(AQ4-AO11)","v":0},{"$f":"IF(AP12=0,0,(AP12*((LOG(AP12))/LOG(2))))","v":0},null,{"$f":"N12","v":212},{"$f":"COUNTIF(L133:L157,AS12)","v":0},{"$f":"AT12/(AV4-AT11)","v":0},{"$f":"IF(AU12=0,0,(AU12*((LOG(AU12))/LOG(2))))","v":0}]
[12,770,13,776,13,784,null,null,null,null,0,111,null,221,{"$f":"COUNTIF($L$7:$L$500,N13)","v":0},{"$f":"O13/$Q$4","v":0},{"$f":"IF(P13=0,0,(P13*((LOG(P13))/LOG(2))))","v":0},null,null,{"$f":"N13","v":221},{"$f":"COUNTIF(L7:L31,T13)","v":0},{"$f":"U13/(W4-U11)","v":0},{"$f":"IF(V13=0,0,(V13*((LOG(V13))/LOG(2))))","v":0},null,{"$f":"N13","v":221},{"$f":"COUNTIF(L32:L56,Y13)","v":0},{"$f":"Z13/(AB4-Z11)","v":0},{"$f":"IF(AA13=0,0,(AA13*((LOG(AA13))/LOG(2))))","v":0},null,{"$f":"N13","v":221},{"$f":"COUNTIF(L57:L82,AD13)","v":0},{"$f":"AE13/(AG4-AE11)","v":0},{"$f":"IF(AF13=0,0,(AF13*((LOG(AF13))/LOG(2))))","v":0},null,{"$f":"N13","v":221},{"$f":"COUNTIF(L83:L107,AI13)","v":0},{"$f":"AJ13/(AL4-AJ11)","v":0},{"$f":"IF(AK13=0,0,(AK13*((LOG(AK13))/LOG(2))))","v":0},null,{"$f":"N13","v":221},{"$f":"COUNTIF(L108:L132,AN13)","v":0},{"$f":"AO13/(AQ4-AO11)","v":0},{"$f":"IF(AP13=0,0,(AP13*((LOG(AP13))/LOG(2))))","v":0},null,{"$f":"N13","v":221},{"$f":"COUNTIF(L133:L157,AS13)","v":0},{"$f":"AT13/(AV4-AT11)","v":0},{"$f":"IF(AU13=0,0,(AU13*((LOG(AU13))/LOG(2))))","v":0}]
[12,896,13,902,13,909,null,null,null,null,0,111,null,222,{"$f":"COUNTIF($L$7:$L$500,N14)","v":25},{"$f":"O14/$Q$4","v":0.16556291390728478},{"$f":"IF(P14=0,0,(P14*((LOG(P14))/LOG(2))))","v":-0.42956101813747588},null,null,{"$f":"N14","v":222},{"$f":"COUNTIF(L7:L31,T14)","v":0},{"$f":"U14/(W4-U11)","v":0},{"$f":"IF(V14=0,0,(V14*((LOG(V14))/LOG(2))))","v":0},null,{"$f":"N14","v":222},{"$f":"COUNTIF(L32:L56,Y14)","v":4},{"$f":"Z14/(AB4-Z11)","v":0.16},{"$f":"IF(AA14=0,0,(AA14*((LOG(AA14))/LOG(2))))","v":-0.42301699036395596},null,{"$f":"N14","v":222},{"$f":"COUNTIF(L57:L82,AD14)","v":6},{"$f":"AE14/(AG4-AE11)","v":0.23076923076923078},{"$f":"IF(AF14=0,0,(AF14*((LOG(AF14))/LOG(2))))","v":-0.48818705017383146},null,{"$f":"N14","v":222},{"$f":"COUNTIF(L83:L107,AI14)","v":3},{"$f":"AJ14/(AL4-AJ11)","v":0.12},{"$f":"IF(AK14=0,0,(AK14*((LOG(AK14))/LOG(2))))","v":-0.36706724268642821},null,{"$f":"N14","v":222},{"$f":"COUNTIF(L108:L132,AN14)","v":8},{"$f":"AO14/(AQ4-AO11)","v":0.32},{"$f":"IF(AP14=0,0,(AP14*((LOG(AP14))/LOG(2))))","v":-0.52603398072791185},null,{"$f":"N14","v":222},{"$f":"COUNTIF(L133:L157,AS14)","v":4},{"$f":"AT14/(AV4-AT11)","v":0.16},{"$f":"IF(AU14=0,0,(AU14*((LOG(AU14))/LOG(2))))","v":-0.42301699036395596}]
[12,1037,13,1052,13,1060,null,null,null,null,0,111,null,null,null,{"$f":"SUM(P7:P14)","v":1},{"$f":"-SUM(Q7:Q14)","v":1.467825140144202},null,null,null,null,{"$f":"SUM(V7:V14)","v":1},{"$f":"-SUM(W7:W14)","v":0},null,null,null,{"$f":"SUM(AA7:AA14)","v":1},{"$f":"-SUM(AB7:AB14)","v":1.0154312795575997},null,null,null,{"$f":"SUM(AF7:AF14)","v":1},{"$f":"-SUM(AG7:AG14)","v":1.9431095461522085},null,null,null,{"$f":"SUM(AK7:AK14)","v":1},{"$f":"-SUM(AL7:AL14)","v":1.3541859576379554},null,null,null,{"$f":"SUM(AP7:AP14)","v":1},{"$f":"-SUM(AQ7:AQ14)","v":1.6928786893420309},null,null,null,{"$f":"SUM(AU7:AU14)","v":1},{"$f":"-SUM(AV7:AV14)","v":1.4936606896881859}]
[12,1174,13,1179,13,1184,null,null,null,null,0,111,null,null,null,"U=",{"$f":"Q15/(LOG(Q4)/LOG(2))","v":0.20278296019698183},null,null,null,null,"U1=",{"$f":"W15/(LOG(W4)/LOG(2))","v":0},null,null,null,"U2=",{"$f":"AB15/(LOG(AB4)/LOG(2))","v":0.21866122421996417},null,null,null,"U3=",{"$f":"AG15/(LOG(AG4)/LOG(2))","v":0.41338888756574899},null,null,null,"U4=",{"$f":"AL15/(LOG(AL4)/LOG(2))","v":0.29160807361341812},null,null,null,"U5=",{"$f":"AQ15/(LOG(AQ4)/LOG(2))","v":0.36454158358081129},null,null,null,"U6=",{"$f":"AV15/(LOG(AV4)/LOG(2))","v":0.32164232238221913}]
[12,1298,13,1304,13,1310,null,null,null,null,0,111]
[12,1413,13,1420,13,1426,null,null,null,null,0,111]
[12,1553,13,1559,13,1565,null,null,null,null,0,111,null,"Total Target Seq"]
[12,1707,13,1713,13,1721,null,null,null,null,0,111,null,{"$f":"COUNTIF(L7:L157,G3)","v":0},null,25,25,26,25,25,25]
[12,1837,13,1842,13,1849,null,null,null,null,0,111,null,null,null,"% of reinforcement given in 6 equal intervals based on number of trials "]
[12,1984,13,1991,13,2006,null,null,null,null,0,111,null,null,null,"%_1","%_2","%_3","%_4","%_5","%_6"]
[12,2161,13,2183,13,2191,null,null,null,null,0,111,null,null,"target sequence",{"$f":"$G$3","v":211},{"$f":"$G$3","v":211},{"$f":"$G$3","v":211},{"$f":"$G$3","v":211},{"$f":"$G$3","v":211},{"$f":"$G$3","v":211}]
[12,2283,13,2298,13,2304,null,null,null,null,0,111,null,null,"total reinforcement",{"$f":"U11","v":0},{"$f":"Z11","v":0},{"$f":"AE11","v":0},{"$f":"AJ11","v":0},{"$f":"AO11","v":0},{"$f":"AT11","v":0}]
[12,2415,13,2421,13,2427,null,null,null,null,0,111,null,null,"% target"]
[12,2524,13,2533,13,2542,null,null,null,null,0,111,null,null,"CCRF"]
[12,2663,13,2668,13,2674,null,null,null,null,0,111,null,null,"% CCRf"]
[12,2774,13,2780,13,2786,null,null,null,null,0,111,null,null,"average response rate",{"$f":"F31/P20","v":128.56},{"$f":"(F56-F31)/Q20","v":190.32},{"$f":"(F82-F56)/R20","v":219.73076923076923},{"$f":"(F107-F82)/S20","v":133.88},{"$f":"(F132-F107)/T20","v":143.96},{"$f":"(F157-F132)/U20","v":130.76}]
[12,2920,13,2929,13,2937,null,null,null,null,0,111]
[12,3040,13,3047,13,3089,null,null,null,null,0,111]
[12,3202,13,3207,13,3214,null,null,null,null,0,111]
[12,3309,13,3316,13,3322,null,null,null,null,0,111]
[12,3430,13,3436,13,3443,null,null,null,null,0,111]
[12,3551,13,3558,13,3568,null,null,null,null,0,111]
[12,3674,13,3681,13,3687,null,null,null,null,0,111]
[12,3798,13,3805,13,3823,null,null,null,null,0,111]
[12,3930,13,3936,13,3942,null,null,null,null,0,111]
[12,4070,13,4080,13,4087,null,null,null,null,0,111]
[12,4265,13,4274,13,4308,null,null,null,null,0,111]
[12,4411,13,4416,13,4423,null,null,null,null,0,111]
[12,4527,13,4532,13,4651,null,null,null,null,0,111]
[12,4776,13,4894,13,4908,null,null,null,null,0,111]
[12,5077,13,5100,13,5137,null,null,null,null,0,111]
[12,5274,13,5281,13,5288,null,null,null,null,0,111]
[12,5458,13,5468,13,5617,null,null,null,null,0,111]
[12,5740,13,5842,24,5881,null,null,null,null,0,112]
[21,6114,22,6133,24,6143,null,null,null,null,0,222]
[12,6276,13,6318,13,6375,null,null,null,null,0,111]
[12,6535,13,6552,13,6584,null,null,null,null,0,111]
[12,6688,13,6875,13,6884,null,null,null,null,0,111]
[12,7024,13,7057,24,7081,null,null,null,null,0,112]
[21,7250,22,7258,24,7273,null,null,null,null,0,222]
[12,7419,13,7425,13,7435,null,null,null,null,0,111]
[21,7587,22,7594,24,7612,null,null,null,null,0,222]
[21,7785,22,7790,24,7799,null,null,null,null,0,222]
[12,7951,13,7964,13,7972,null,null,null,null,0,111]
[21,8127,22,8133,24,8138,null,null,null,null,0,222]
[12,8257,13,8261,13,8268,null,null,null,null,0,111]
[21,8424,22,8429,24,8447,null,null,null,null,0,222]
[12,8545,13,8551,13,8555,null,null,null,null,0,111]
[12,8649,13,8656,13,8692,null,null,null,null,0,111]
[12,8814,13,8819,13,8826,null,null,null,null,0,111]
[12,9008,13,9191,13,9479,null,null,null,null,0,111]
[12,9579,13,9848,24,10023,null,null,null,null,0,112]
[12,10164,24,10306,24,10319,null,null,null,null,0,122]
[12,10493,13,10503,24,10673,null,null,null,null,0,112]
[12,10788,24,10860,24,10867,null,null,null,null,0,122]
[21,11062,22,11073,24,11082,null,null,null,null,0,222]
[12,11199,13,11204,13,11228,null,null,null,null,0,111]
[12,11337,13,11343,24,11366,null,null,null,null,0,112]
[12,11474,13,11479,24,11551,null,null,null,null,0,112]
[12,11721,13,11777,24,11864,null,null,null,null,0,112]
[12,11986,24,12014,24,12022,null,null,null,null,0,122]
[12,12130,24,12193,24,12209,null,null,null,null,0,122]
[21,12373,22,12379,24,12394,null,null,null,null,0,222]
[21,12556,22,12571,24,12581,null,null,null,null,0,222]
[12,12728,13,12735,24,12792,null,null,null,null,0,112]
[21,13001,22,13014,24,13029,null,null,null,null,0,222]
[12,13133,13,13139,13,13143,null,null,null,null,0,111]
[12,13256,13,13261,13,13266,null,null,null,null,0,111]
[12,13374,13,13392,13,13415,null,null,null,null,0,111]
[12,13571,13,13625,24,13685,null,null,null,null,0,112]
[21,13839,22,13859,24,13876,null,null,null,null,0,222]
[12,13982,24,14058,24,14072,null,null,null,null,0,122]
[12,14180,24,14230,24,14235,null,null,null,null,0,122]
[12,14397,24,14425,24,14435,null,null,null,null,0,122]
[21,14573,22,14578,24,14592,null,null,null,null,0,222]
[21,14713,22,14719,24,14758,null,null,null,null,0,222]
[12,14864,13,14871,24,14909,null,null,null,null,0,112]
[12,15014,13,15020,13,15027,null,null,null,null,0,111]
[12,15129,13,15134,13,15141,null,null,null,null,0,111]
[12,15244,13,15249,13,15256,null,null,null,null,0,111]
[12,15365,13,15370,13,15377,null,null,null,null,0,111]
[12,15482,24,15499,24,15507,null,null,null,null,0,122]
[12,15612,13,15617,13,15623,null,null,null,null,0,111]
[12,15726,13,15730,13,15737,null,null,null,null,0,111]
[12,15840,13,15848,13,15855,null,null,null,null,0,111]
[12,15958,13,15964,13,15970,null,null,null,null,0,111]
[12,16070,13,16075,13,16081,null,null,null,null,0,111]
[12,16184,13,16190,13,16197,null,null,null,null,0,111]
[12,16289,13,16294,13,16301,null,null,null,null,0,111]
[12,16406,13,16411,13,16419,null,null,null,null,0,111]
[12,16520,13,16526,13,16545,null,null,null,null,0,111]
[12,16641,13,16651,13,16659,null,null,null,null,0,111]
[12,16759,13,16765,13,16771,null,null,null,null,0,111]
[12,16874,13,16880,13,16888,null,null,null,null,0,111]
[12,16979,13,16990,13,17032,null,null,null,null,0,111]
[12,17158,13,17164,13,17173,null,null,null,null,0,111]
[12,17272,13,17278,13,17285,null,null,null,null,0,111]
[12,17384,13,17397,13,17424,null,null,null,null,0,111]
[12,17517,13,17534,13,17540,null,null,null,null,0,111]
[12,17638,13,17644,13,17650,null,null,null,null,0,111]
[12,17753,13,17763,13,17783,null,null,null,null,0,111]
[12,17883,13,17895,13,17903,null,null,null,null,0,111]
[12,18006,13,18011,24,18029,null,null,null,null,0,112]
[21,18145,22,18168,24,18177,null,null,null,null,0,222]
[12,18306,24,18331,24,18341,null,null,null,null,0,122]
[21,18466,22,18497,24,18506,null,null,null,null,0,222]
[12,18602,13,18627,24,18645,null,null,null,null,0,112]
[21,18802,22,18809,24,18825,null,null,null,null,0,222]
[21,18956,22,18961,24,18970,null,null,null,null,0,222]
[21,19132,22,19143,24,19148,null,null,null,null,0,222]
[12,19325,24,19345,24,19351,null,null,null,null,0,122]
[21,19476,22,19485,24,19501,null,null,null,null,0,222]
[21,19645,22,19654,24,19668,null,null,null,null,0,222]
[12,19801,13,19812,24,19858,null,null,null,null,0,112]
[21,19993,22,19999,24,20015,null,null,null,null,0,222]
[12,20119,13,20124,13,20129,null,null,null,null,0,111]
[12,20230,13,20236,13,20240,null,null,null,null,0,111]
[12,20348,13,20361,13,20374,null,null,null,null,0,111]
[12,20475,13,20507,13,20516,null,null,null,null,0,111]
[12,20618,13,20625,13,20631,null,null,null,null,0,111]
[21,20765,22,20773,24,20782,null,null,null,null,0,222]
[12,20911,13,20918,13,20925,null,null,null,null,0,111]
[12,21023,13,21034,24,21081,null,null,null,null,0,112]
[12,21187,13,21193,13,21199,null,null,null,null,0,111]
[12,21299,13,21310,13,21337,null,null,null,null,0,111]
[12,21442,13,21447,13,21452,null,null,null,null,0,111]
[12,21545,13,21556,13,21572,null,null,null,null,0,111]
[12,21670,13,21683,13,21691,null,null,null,null,0,111]
[12,21791,13,21798,13,21806,null,null,null,null,0,111]
[21,21928,22,21934,24,21951,null,null,null,null,0,222]
[12,22051,13,22057,13,22063,null,null,null,null,0,111]
[12,22163,13,22173,13,22209,null,null,null,null,0,111]
[12,22311,13,22317,13,22323,null,null,null,null,0,111]
[12,22422,13,22427,24,22470,null,null,null,null,0,112]
[12,22575,13,22582,13,22588,null,null,null,null,0,111]
[12,22689,13,22719,13,22725,null,null,null,null,0,111]
[12,22823,24,22856,24,22862,null,null,null,null,0,122]
[21,23000,22,23006,24,23017,null,null,null,null,0,222]
[12,23112,24,23140,24,23145,null,null,null,null,0,122]
[12,23247,13,23258,13,23274,null,null,null,null,0,111]
[21,23397,22,23405,24,23415,null,null,null,null,0,222]
[12,23521,13,23528,24,23541,null,null,null,null,0,112]
[12,23653,13,23658,13,23666,null,null,null,null,0,111]
[12,23768,13,23779,13,23785,null,null,null,null,0,111]
[12,23889,13,23894,13,23900,null,null,null,null,0,111]

{"sheet":"!N422800.010","index":30,"n_rows":206,"n_cols":48,"rows_kept":206,"cut":false,"hidden":false,"merged":[[4,39,4,42],[5,39,5,40],[4,44,4,47],[5,44,5,45],[4,24,4,27],[5,24,5,25],[4,29,4,32],[5,29,5,30],[4,34,4,37],[5,34,5,35],[1,1,1,2],[5,13,5,14],[18,13,18,14],[19,13,19,14],[4,19,4,22],[5,19,5,20]]}
["Report for:!N422800.010"]
["Date:","<date>"]
["Hen:","<hen>",null,null,null,"Correct Sequence",{"$f":"Start!J2","v":211},null,null,null,null,null,null,null,null,"Total Sequences in Data",{"$f":"4994-COUNTBLANK(L7:L5000)","v":200},null,null,null,null,"Total Sequences in Block Data",{"$f":"COUNTA(L7:L39)","v":33},null,null,null,"Total Sequences in Block Data",{"$f":"COUNTA(L40:L73)","v":34},null,null,null,"Total Sequences in Block Data",{"$f":"COUNTA(L74:L106)","v":33},null,null,null,"Total Sequences in Block Data",{"$f":"COUNTA(L107:L139)","v":33},null,null,null,"Total Sequences in Block Data",{"$f":"COUNTA(L140:L173)","v":34},null,null,null,"Total Sequences in Block Data",{"$f":"COUNTA(L174:L206)","v":33}]
[null,null,null,null,null,null,null,null,null,null,null,null,null,null,null,"Total Sequences in Summary",{"$f":"SUM(O7:O14)","v":200},null,null,null,null,"Total Sequences in Block Summary",{"$f":"SUM(U7:U14)","v":33},null,null,null,"Total Sequences in Block Summary",{"$f":"SUM(Z7:Z14)","v":34},null,null,null,"Total Sequences in Block Summary",{"$f":"SUM(AE7:AE14)","v":33},null,null,null,"Total Sequences in Block Summary",{"$f":"SUM(AJ7:AJ14)","v":33},null,null,null,"Total Sequences in Block Summary",{"$f":"SUM(AO7:AO14)","v":34},null,null,null,"Total Sequences in Block Summary",{"$f":"SUM(AT7:AT14)","v":33}]
[null,null,null,null,null,null,null,null,null,null,null,null,null,null,null,null,null,null,null,"Block 1",null,null,null,null,"Block 2",null,null,null,null,"Block 3",null,null,null,null,"Block 4",null,null,null,null,"Block 5",null,null,null,null,"Block 6"]
["Sequence\nComponent\n1","Time\n1","Sequence\nComponent\n2","Time\n2","Sequence\nComponent\n3","Time\n3","Sequence\nComponent\n4","Time\n4","Sequence\nComponent\n5","Time\n5","Correct?\n0=No 1=Yes","Sequence",null,"Frequency",null,"Relative Frequency","Variability",null,null,"Frequency",null,"Relative Frequency","Variability",null,"Frequency",null,"Relative Frequency","Variability",null,"Frequency",null,"Relative Frequency","Variability",null,"Frequency",null,"Relative Frequency","Variability",null,"Frequency",null,"Relative Frequency","Variability",null,"Frequency",null,"Relative Frequency","Variability"]
[12,16,24,36,24,46,null,null,null,null,0,122,null,111,{"$f":"COUNTIF($L$7:$L$500,N7)","v":189},{"$f":"O7/$Q$4","v":0.94499999999999995},{"$f":"IF(P7=0,0,(P7*((LOG(P7))/LOG(2))))","v":-7.7125008448201249E-2},null,null,{"$f":"N7","v":111},{"$f":"COUNTIF(L7:L39,T7)","v":31},{"$f":"U7/(W4-U11)","v":0.93939393939393945},{"$f":"IF(V7=0,0,(V7*((LOG(V7))/LOG(2))))","v":-8.4731275094512809E-2},null,{"$f":"N7","v":111},{"$f":"COUNTIF(L40:L73,Y7)","v":31},{"$f":"Z7/(AB4-Z11)","v":0.91176470588235292},{"$f":"IF(AA7=0,0,(AA7*((LOG(AA7))/LOG(2))))","v":-0.12150771931668795},null,{"$f":"N7","v":111},{"$f":"COUNTIF(L74:L106,AD7)","v":32},{"$f":"AE7/(AG4-AE11)","v":0.96969696969696972},{"$f":"IF(AF7=0,0,(AF7*((LOG(AF7))/LOG(2))))","v":-4.3048843014257841E-2},null,{"$f":"N7","v":111},{"$f":"COUNTIF(L107:L139,AI7)","v":33},{"$f":"AJ7/(AL4-AJ11)","v":1},{"$f":"IF(AK7=0,0,(AK7*((LOG(AK7))/LOG(2))))","v":0},null,{"$f":"N7","v":111},{"$f":"COUNTIF(L140:L173,AN7)","v":31},{"$f":"AO7/(AQ4-AO11)","v":0.91176470588235292},{"$f":"IF(AP7=0,0,(AP7*((LOG(AP7))/LOG(2))))","v":-0.12150771931668795},null,{"$f":"N7","v":111},{"$f":"COUNTIF(L174:L206,AS7)","v":31},{"$f":"AT7/(AV4-AT11)","v":0.93939393939393945},{"$f":"IF(AU7=0,0,(AU7*((LOG(AU7))/LOG(2))))","v":-8.4731275094512809E-2}]
[12,164,13,174,13,182,null,null,null,null,0,111,null,112,{"$f":"COUNTIF($L$7:$L$500,N8)","v":4},{"$f":"O8/$Q$4","v":0.02},{"$f":"IF(P8=0,0,(P8*((LOG(P8))/LOG(2))))","v":-0.11287712379549449},null,null,{"$f":"N8","v":112},{"$f":"COUNTIF(L7:L39,T8)","v":0},{"$f":"U8/(W4-U11)","v":0},{"$f":"IF(V8=0,0,(V8*((LOG(V8))/LOG(2))))","v":0},null,{"$f":"N8","v":112},{"$f":"COUNTIF(L40:L73,Y8)","v":0},{"$f":"Z8/(AB4-Z11)","v":0},{"$f":"IF(AA8=0,0,(AA8*((LOG(AA8))/LOG(2))))","v":0},null,{"$f":"N8","v":112},{"$f":"COUNTIF(L74:L106,AD8)","v":1},{"$f":"AE8/(AG4-AE11)","v":3.0303030303030304E-2},{"$f":"IF(AF8=0,0,(AF8*((LOG(AF8))/LOG(2))))","v":-0.15286042785934709},null,{"$f":"N8","v":112},{"$f":"COUNTIF(L107:L139,AI8)","v":0},{"$f":"AJ8/(AL4-AJ11)","v":0},{"$f":"IF(AK8=0,0,(AK8*((LOG(AK8))/LOG(2))))","v":0},null,{"$f":"N8","v":112},{"$f":"COUNTIF(L140:L173,AN8)","v":2},{"$f":"AO8/(AQ4-AO11)","v":5.8823529411764705E-2},{"$f":"IF(AP8=0,0,(AP8*((LOG(AP8))/LOG(2))))","v":-0.24043899066178465},null,{"$f":"N8","v":112},{"$f":"COUNTIF(L174:L206,AS8)","v":1},{"$f":"AT8/(AV4-AT11)","v":3.0303030303030304E-2},{"$f":"IF(AU8=0,0,(AU8*((LOG(AU8))/LOG(2))))","v":-0.15286042785934709}]
[12,285,13,291,13,298,null,null,null,null,0,111,null,121,{"$f":"COUNTIF($L$7:$L$500,N9)","v":0},{"$f":"O9/$Q$4","v":0},{"$f":"IF(P9=0,0,(P9*((LOG(P9))/LOG(2))))","v":0},null,null,{"$f":"N9","v":121},{"$f":"COUNTIF(L7:L39,T9)","v":0},{"$f":"U9/(W4-U11)","v":0},{"$f":"IF(V9=0,0,(V9*((LOG(V9))/LOG(2))))","v":0},null,{"$f":"N9","v":121},{"$f":"COUNTIF(L40:L73,Y9)","v":0},{"$f":"Z9/(AB4-Z11)","v":0},{"$f":"IF(AA9=0,0,(AA9*((LOG(AA9))/LOG(2))))","v":0},null,{"$f":"N9","v":121},{"$f":"COUNTIF(L74:L106,AD9)","v":0},{"$f":"AE9/(AG4-AE11)","v":0},{"$f":"IF(AF9=0,0,(AF9*((LOG(AF9))/LOG(2))))","v":0},null,{"$f":"N9","v":121},{"$f":"COUNTIF(L107:L139,AI9)","v":0},{"$f":"AJ9/(AL4-AJ11)","v":0},{"$f":"IF(AK9=0,0,(AK9*((LOG(AK9))/LOG(2))))","v":0},null,{"$f":"N9","v":121},{"$f":"COUNTIF(L140:L173,AN9)","v":0},{"$f":"AO9/(AQ4-AO11)","v":0},{"$f":"IF(AP9=0,0,(AP9*((LOG(AP9))/LOG(2))))","v":0},null,{"$f":"N9","v":121},{"$f":"COUNTIF(L174:L206,AS9)","v":0},{"$f":"AT9/(AV4-AT11)","v":0},{"$f":"IF(AU9=0,0,(AU9*((LOG(AU9))/LOG(2))))","v":0}]
[12,422,13,429,13,438,null,null,null,null,0,111,null,122,{"$f":"COUNTIF($L$7:$L$500,N10)","v":5},{"$f":"O10/$Q$4","v":2.5000000000000001E-2},{"$f":"IF(P10=0,0,(P10*((LOG(P10))/LOG(2))))","v":-0.13304820237218404},null,null,{"$f":"N10","v":122},{"$f":"COUNTIF(L7:L39,T10)","v":1},{"$f":"U10/(W4-U11)","v":3.0303030303030304E-2},{"$f":"IF(V10=0,0,(V10*((LOG(V10))/LOG(2))))","v":-0.15286042785934709},null,{"$f":"N10","v":122},{"$f":"COUNTIF(L40:L73,Y10)","v":2},{"$f":"Z10/(AB4-Z11)","v":5.8823529411764705E-2},{"$f":"IF(AA10=0,0,(AA10*((LOG(AA10))/LOG(2))))","v":-0.24043899066178465},null,{"$f":"N10","v":122},{"$f":"COUNTIF(L74:L106,AD10)","v":0},{"$f":"AE10/(AG4-AE11)","v":0},{"$f":"IF(AF10=0,0,(AF10*((LOG(AF10))/LOG(2))))","v":0},null,{"$f":"N10","v":122},{"$f":"COUNTIF(L107:L139,AI10)","v":0},{"$f":"AJ10/(AL4-AJ11)","v":0},{"$f":"IF(AK10=0,0,(AK10*((LOG(AK10))/LOG(2))))","v":0},null,{"$f":"N10","v":122},{"$f":"COUNTIF(L140:L173,AN10)","v":1},{"$f":"AO10/(AQ4-AO11)","v":2.9411764705882353E-2},{"$f":"IF(AP10=0,0,(AP10*((LOG(AP10))/LOG(2))))","v":-0.14963126003677468},null,{"$f":"N10","v":122},{"$f":"COUNTIF(L174:L206,AS10)","v":1},{"$f":"AT10/(AV4-AT11)","v":3.0303030303030304E-2},{"$f":"IF(AU10=0,0,(AU10*((LOG(AU10))/LOG(2))))","v":-0.15286042785934709}]
[12,546,13,551,13,556,null,null,null,null,0,111,null,211,{"$f":"COUNTIF($L$7:$L$500,N11)","v":0},{"$f":"O11/$Q$4","v":0},{"$f":"IF(P11=0,0,(P11*((LOG(P11))/LOG(2))))","v":0},null,null,{"$f":"N11","v":211},{"$f":"COUNTIF(L7:L39,T11)","v":0},null,null,null,{"$f":"N11","v":211},{"$f":"COUNTIF(L40:L73,Y11)","v":0},null,null,null,{"$f":"N11","v":211},{"$f":"COUNTIF(L74:L106,AD11)","v":0},null,null,null,{"$f":"N11","v":211},{"$f":"COUNTIF(L107:L139,AI11)","v":0},null,null,null,{"$f":"N11","v":211},{"$f":"COUNTIF(L140:L173,AN11)","v":0},null,null,null,{"$f":"N11","v":211},{"$f":"COUNTIF(L174:L206,AS11)","v":0}]
[12,667,13,674,13,682,null,null,null,null,0,111,null,212,{"$f":"COUNTIF($L$7:$L$500,N12)","v":0},{"$f":"O12/$Q$4","v":0},{"$f":"IF(P12=0,0,(P12*((LOG(P12))/LOG(2))))","v":0},null,null,{"$f":"N12","v":212},{"$f":"COUNTIF(L7:L39,T12)","v":0},{"$f":"U12/(W4-U11)","v":0},{"$f":"IF(V12=0,0,(V12*((LOG(V12))/LOG(2))))","v":0},null,{"$f":"N12","v":212},{"$f":"COUNTIF(L40:L73,Y12)","v":0},{"$f":"Z12/(AB4-Z11)","v":0},{"$f":"IF(AA12=0,0,(AA12*((LOG(AA12))/LOG(2))))","v":0},null,{"$f":"N12","v":212},{"$f":"COUNTIF(L74:L106,AD12)","v":0},{"$f":"AE12/(AG4-AE11)","v":0},{"$f":"IF(AF12=0,0,(AF12*((LOG(AF12))/LOG(2))))","v":0},null,{"$f":"N12","v":212},{"$f":"COUNTIF(L107:L139,AI12)","v":0},{"$f":"AJ12/(AL4-AJ11)","v":0},{"$f":"IF(AK12=0,0,(AK12*((LOG(AK12))/LOG(2))))","v":0},null,{"$f":"N12","v":212},{"$f":"COUNTIF(L140:L173,AN12)","v":0},{"$f":"AO12/(AQ4-AO11)","v":0},{"$f":"IF(AP12=0,0,(AP12*((LOG(AP12))/LOG(2))))","v":0},null,{"$f":"N12","v":212},{"$f":"COUNTIF(L174:L206,AS12)","v":0},{"$f":"AT12/(AV4-AT11)","v":0},{"$f":"IF(AU12=0,0,(AU12*((LOG(AU12))/LOG(2))))","v":0}]
[12,799,13,826,13,834,null,null,null,null,0,111,null,221,{"$f":"COUNTIF($L$7:$L$500,N13)","v":0},{"$f":"O13/$Q$4","v":0},{"$f":"IF(P13=0,0,(P13*((LOG(P13))/LOG(2))))","v":0},null,null,{"$f":"N13","v":221},{"$f":"COUNTIF(L7:L39,T13)","v":0},{"$f":"U13/(W4-U11)","v":0},{"$f":"IF(V13=0,0,(V13*((LOG(V13))/LOG(2))))","v":0},null,{"$f":"N13","v":221},{"$f":"COUNTIF(L40:L73,Y13)","v":0},{"$f":"Z13/(AB4-Z11)","v":0},{"$f":"IF(AA13=0,0,(AA13*((LOG(AA13))/LOG(2))))","v":0},null,{"$f":"N13","v":221},{"$f":"COUNTIF(L74:L106,AD13)","v":0},{"$f":"AE13/(AG4-AE11)","v":0},{"$f":"IF(AF13=0,0,(AF13*((LOG(AF13))/LOG(2))))","v":0},null,{"$f":"N13","v":221},{"$f":"COUNTIF(L107:L139,AI13)","v":0},{"$f":"AJ13/(AL4-AJ11)","v":0},{"$f":"IF(AK13=0,0,(AK13*((LOG(AK13))/LOG(2))))","v":0},null,{"$f":"N13","v":221},{"$f":"COUNTIF(L140:L173,AN13)","v":0},{"$f":"AO13/(AQ4-AO11)","v":0},{"$f":"IF(AP13=0,0,(AP13*((LOG(AP13))/LOG(2))))","v":0},null,{"$f":"N13","v":221},{"$f":"COUNTIF(L174:L206,AS13)","v":0},{"$f":"AT13/(AV4-AT11)","v":0},{"$f":"IF(AU13=0,0,(AU13*((LOG(AU13))/LOG(2))))","v":0}]
[12,938,13,944,13,949,null,null,null,null,0,111,null,222,{"$f":"COUNTIF($L$7:$L$500,N14)","v":2},{"$f":"O14/$Q$4","v":0.01},{"$f":"IF(P14=0,0,(P14*((LOG(P14))/LOG(2))))","v":-6.6438561897747245E-2},null,null,{"$f":"N14","v":222},{"$f":"COUNTIF(L7:L39,T14)","v":1},{"$f":"U14/(W4-U11)","v":3.0303030303030304E-2},{"$f":"IF(V14=0,0,(V14*((LOG(V14))/LOG(2))))","v":-0.15286042785934709},null,{"$f":"N14","v":222},{"$f":"COUNTIF(L40:L73,Y14)","v":1},{"$f":"Z14/(AB4-Z11)","v":2.9411764705882353E-2},{"$f":"IF(AA14=0,0,(AA14*((LOG(AA14))/LOG(2))))","v":-0.14963126003677468},null,{"$f":"N14","v":222},{"$f":"COUNTIF(L74:L106,AD14)","v":0},{"$f":"AE14/(AG4-AE11)","v":0},{"$f":"IF(AF14=0,0,(AF14*((LOG(AF14))/LOG(2))))","v":0},null,{"$f":"N14","v":222},{"$f":"COUNTIF(L107:L139,AI14)","v":0},{"$f":"AJ14/(AL4-AJ11)","v":0},{"$f":"IF(AK14=0,0,(AK14*((LOG(AK14))/LOG(2))))","v":0},null,{"$f":"N14","v":222},{"$f":"COUNTIF(L140:L173,AN14)","v":0},{"$f":"AO14/(AQ4-AO11)","v":0},{"$f":"IF(AP14=0,0,(AP14*((LOG(AP14))/LOG(2))))","v":0},null,{"$f":"N14","v":222},{"$f":"COUNTIF(L174:L206,AS14)","v":0},{"$f":"AT14/(AV4-AT11)","v":0},{"$f":"IF(AU14=0,0,(AU14*((LOG(AU14))/LOG(2))))","v":0}]
[12,1061,13,1068,13,1074,null,null,null,null,0,111,null,null,null,{"$f":"SUM(P7:P14)","v":1},{"$f":"-SUM(Q7:Q14)","v":0.38948889651362695},null,null,null,null,{"$f":"SUM(V7:V14)","v":1},{"$f":"-SUM(W7:W14)","v":0.39045213081320695},null,null,null,{"$f":"SUM(AA7:AA14)","v":1},{"$f":"-SUM(AB7:AB14)","v":0.5115779700152473},null,null,null,{"$f":"SUM(AF7:AF14)","v":1},{"$f":"-SUM(AG7:AG14)","v":0.19590927087360493},null,null,null,{"$f":"SUM(AK7:AK14)","v":1},{"$f":"-SUM(AL7:AL14)","v":0},null,null,null,{"$f":"SUM(AP7:AP14)","v":1},{"$f":"-SUM(AQ7:AQ14)","v":0.5115779700152473},null,null,null,{"$f":"SUM(AU7:AU14)","v":1},{"$f":"-SUM(AV7:AV14)","v":0.39045213081320695}]
[12,1177,13,1183,13,1191,null,null,null,null,0,111,null,null,null,"U=",{"$f":"Q15/(LOG(Q4)/LOG(2))","v":5.0954503439592541E-2},null,null,null,null,"U1=",{"$f":"W15/(LOG(W4)/LOG(2))","v":7.7403176987063949E-2},null,null,null,"U2=",{"$f":"AB15/(LOG(AB4)/LOG(2))","v":0.100556600800551},null,null,null,"U3=",{"$f":"AG15/(LOG(AG4)/LOG(2))","v":3.8837027051827726E-2},null,null,null,"U4=",{"$f":"AL15/(LOG(AL4)/LOG(2))","v":0},null,null,null,"U5=",{"$f":"AQ15/(LOG(AQ4)/LOG(2))","v":0.100556600800551},null,null,null,"U6=",{"$f":"AV15/(LOG(AV4)/LOG(2))","v":7.7403176987063949E-2}]
[12,1303,13,1309,13,1316,null,null,null,null,0,111]
[12,1426,13,1432,13,1450,null,null,null,null,0,111]
[12,1562,13,1569,13,1576,null,null,null,null,0,111,null,"Total Target Seq"]
[12,1695,13,1700,13,1707,null,null,null,null,0,111,null,{"$f":"COUNTIF(L7:L206,G3)","v":0},null,33,34,33,33,34,33]
[12,1816,13,1822,13,1829,null,null,null,null,0,111,null,null,null,"% of reinforcement given in 6 equal intervals based on number of trials "]
[12,1941,13,1947,13,1953,null,null,null,null,0,111,null,null,null,"%_1","%_2","%_3","%_4","%_5","%_6"]
[12,2061,13,2074,13,2081,null,null,null,null,0,111,null,null,"target sequence",{"$f":"$G$3","v":211},{"$f":"$G$3","v":211},{"$f":"$G$3","v":211},{"$f":"$G$3","v":211},{"$f":"$G$3","v":211},{"$f":"$G$3","v":211}]
[12,2190,13,2195,13,2203,null,null,null,null,0,111,null,null,"total reinforcement",{"$f":"U11","v":0},{"$f":"Z11","v":0},{"$f":"AE11","v":0},{"$f":"AJ11","v":0},{"$f":"AO11","v":0},{"$f":"AT11","v":0}]
[12,2323,13,2329,13,2343,null,null,null,null,0,111,null,null,"% target"]
[12,2448,13,2454,13,2461,null,null,null,null,0,111,null,null,"CCRF"]
[12,2558,13,2563,13,2570,null,null,null,null,0,111,null,null,"% CCRf"]
[12,2690,13,2697,13,2712,null,null,null,null,0,111,null,null,"average response rate",{"$f":"F39/P20","v":124.09090909090909},{"$f":"(F73-F39)/Q20","v":125.08823529411765},{"$f":"(F106-F73)/R20","v":114.87878787878788},{"$f":"(F139-F106)/S20","v":115.84848484848484},{"$f":"(F173-F139)/T20","v":118.08823529411765},{"$f":"(F206-F173)/U20","v":121.93939393939394}]
[12,2831,13,2837,13,2847,null,null,null,null,0,111]
[12,2951,13,2956,13,2962,null,null,null,null,0,111]
[12,3078,13,3083,13,3090,null,null,null,null,0,111]
[12,3209,13,3215,13,3228,null,null,null,null,0,111]
[12,3329,13,3337,13,3345,null,null,null,null,0,111]
[12,3450,13,3455,13,3461,null,null,null,null,0,111]
[12,3573,13,3580,13,3586,null,null,null,null,0,111]
[12,3702,13,3708,13,3715,null,null,null,null,0,111]
[12,3820,13,3825,13,3832,null,null,null,null,0,111]
[21,3953,22,3959,24,3975,null,null,null,null,0,222]
[12,4071,13,4090,13,4095,null,null,null,null,0,111]
[12,4199,13,4211,13,4222,null,null,null,null,0,111]
[12,4326,13,4332,13,4338,null,null,null,null,0,111]
[12,4448,13,4455,13,4461,null,null,null,null,0,111]
[12,4579,13,4586,13,4591,null,null,null,null,0,111]
[12,4699,13,4712,13,4720,null,null,null,null,0,111]
[21,4855,22,4865,24,4873,null,null,null,null,0,222]
[12,4990,13,4996,13,5001,null,null,null,null,0,111]
[12,5109,13,5115,13,5125,null,null,null,null,0,111]
[12,5231,13,5238,13,5243,null,null,null,null,0,111]
[12,5347,13,5352,13,5357,null,null,null,null,0,111]
[12,5460,13,5467,13,5473,null,null,null,null,0,111]
[12,5576,13,5582,13,5588,null,null,null,null,0,111]
[12,5701,13,5708,13,5716,null,null,null,null,0,111]
[12,5820,13,5825,13,5831,null,null,null,null,0,111]
[12,5933,13,5938,13,5943,null,null,null,null,0,111]
[12,6040,13,6044,13,6050,null,null,null,null,0,111]
[12,6152,13,6158,13,6165,null,null,null,null,0,111]
[12,6283,24,6308,24,6320,null,null,null,null,0,122]
[12,6422,13,6429,13,6436,null,null,null,null,0,111]
[12,6555,24,6571,24,6577,null,null,null,null,0,122]
[12,6703,13,6709,13,6721,null,null,null,null,0,111]
[12,6821,13,6826,13,6832,null,null,null,null,0,111]
[12,6932,13,6940,13,6946,null,null,null,null,0,111]
[12,7055,13,7060,13,7066,null,null,null,null,0,111]
[12,7166,13,7172,13,7178,null,null,null,null,0,111]
[12,7279,13,7285,13,7292,null,null,null,null,0,111]
[12,7392,13,7397,13,7403,null,null,null,null,0,111]
[12,7505,13,7510,13,7515,null,null,null,null,0,111]
[12,7617,13,7622,13,7629,null,null,null,null,0,111]
[12,7777,13,7783,13,7802,null,null,null,null,0,111]
[12,7931,13,7938,13,7953,null,null,null,null,0,111]
[12,8078,13,8085,13,8100,null,null,null,null,0,111]
[12,8209,13,8217,13,8229,null,null,null,null,0,111]
[12,8333,13,8340,13,8348,null,null,null,null,0,111]
[12,8457,13,8463,13,8473,null,null,null,null,0,111]
[12,8576,13,8581,13,8587,null,null,null,null,0,111]
[12,8689,13,8696,13,8703,null,null,null,null,0,111]
[12,8803,13,8808,13,8813,null,null,null,null,0,111]
[12,8914,13,8919,13,8924,null,null,null,null,0,111]
[12,9025,13,9031,13,9036,null,null,null,null,0,111]
[12,9135,13,9140,13,9146,null,null,null,null,0,111]
[12,9245,13,9251,13,9256,null,null,null,null,0,111]
[12,9358,13,9363,13,9372,null,null,null,null,0,111]
[12,9470,13,9475,13,9480,null,null,null,null,0,111]
[12,9585,13,9590,13,9595,null,null,null,null,0,111]
[12,9707,13,9713,13,9722,null,null,null,null,0,111]
[12,9839,13,9845,13,9850,null,null,null,null,0,111]
[12,9948,13,9954,13,9960,null,null,null,null,0,111]
[12,10064,13,10069,13,10074,null,null,null,null,0,111]
[12,10178,13,10183,13,10188,null,null,null,null,0,111]
[12,10288,13,10294,13,10301,null,null,null,null,0,111]
[12,10400,13,10405,13,10412,null,null,null,null,0,111]
[12,10512,13,10517,13,10523,null,null,null,null,0,111]
[12,10624,13,10629,13,10635,null,null,null,null,0,111]
[12,10728,13,10737,13,10744,null,null,null,null,0,111]
[12,10847,13,10853,13,10859,null,null,null,null,0,111]
[12,10963,13,10968,13,10973,null,null,null,null,0,111]
[12,11077,13,11084,13,11089,null,null,null,null,0,111]
[12,11193,13,11197,13,11202,null,null,null,null,0,111]
[12,11306,13,11314,13,11320,null,null,null,null,0,111]
[12,11421,13,11426,13,11431,null,null,null,null,0,111]
[12,11531,13,11536,13,11541,null,null,null,null,0,111]
[12,11640,13,11664,24,11688,null,null,null,null,0,112]
[12,11790,13,11797,13,11802,null,null,null,null,0,111]
[12,11904,13,11910,13,11917,null,null,null,null,0,111]
[12,12019,13,12025,13,12030,null,null,null,null,0,111]
[12,12128,13,12133,13,12139,null,null,null,null,0,111]
[12,12238,13,12243,13,12248,null,null,null,null,0,111]
[12,12342,13,12350,13,12357,null,null,null,null,0,111]
[12,12459,13,12466,13,12473,null,null,null,null,0,111]
[12,12575,13,12581,13,12586,null,null,null,null,0,111]
[12,12686,13,12692,13,12699,null,null,null,null,0,111]
[12,12814,13,12822,13,12830,null,null,null,null,0,111]
[12,12932,13,12937,13,12943,null,null,null,null,0,111]
[12,13042,13,13047,13,13053,null,null,null,null,0,111]
[12,13154,13,13159,13,13164,null,null,null,null,0,111]
[12,13263,13,13268,13,13274,null,null,null,null,0,111]
[12,13379,13,13386,13,13393,null,null,null,null,0,111]
[12,13496,13,13503,13,13509,null,null,null,null,0,111]
[12,13608,13,13613,13,13624,null,null,null,null,0,111]
[12,13722,13,13728,13,13735,null,null,null,null,0,111]
[12,13837,13,13843,13,13852,null,null,null,null,0,111]
[12,13954,13,13958,13,13967,null,null,null,null,0,111]
[12,14069,13,14075,13,14080,null,null,null,null,0,111]
[12,14175,13,14180,13,14186,null,null,null,null,0,111]
[12,14287,13,14293,13,14305,null,null,null,null,0,111]
[12,14408,13,14413,13,14419,null,null,null,null,0,111]
[12,14519,13,14525,13,14532,null,null,null,null,0,111]
[12,14633,13,14639,13,14647,null,null,null,null,0,111]
[12,14782,13,14787,13,14796,null,null,null,null,0,111]
[12,14897,13,14902,13,14907,null,null,null,null,0,111]
[12,15002,13,15008,13,15013,null,null,null,null,0,111]
[12,15120,13,15127,13,15132,null,null,null,null,0,111]
[12,15237,13,15244,13,15250,null,null,null,null,0,111]
[12,15351,13,15357,13,15363,null,null,null,null,0,111]
[12,15463,13,15469,13,15476,null,null,null,null,0,111]
[12,15579,13,15585,13,15591,null,null,null,null,0,111]
[12,15688,13,15716,13,15726,null,null,null,null,0,111]
[12,15823,13,15828,13,15833,null,null,null,null,0,111]
[12,15942,13,15949,13,15962,null,null,null,null,0,111]
[12,16072,13,16078,13,16084,null,null,null,null,0,111]
[12,16185,13,16191,13,16196,null,null,null,null,0,111]
[12,16292,13,16298,13,16306,null,null,null,null,0,111]
[12,16414,13,16420,13,16431,null,null,null,null,0,111]
[12,16531,13,16537,13,16544,null,null,null,null,0,111]
[12,16646,13,16652,13,16658,null,null,null,null,0,111]
[12,16759,13,16765,13,16772,null,null,null,null,0,111]
[12,16869,13,16876,24,16890,null,null,null,null,0,112]
[12,16989,13,16995,13,17015,null,null,null,null,0,111]
[12,17116,13,17122,13,17128,null,null,null,null,0,111]
[12,17231,13,17238,13,17245,null,null,null,null,0,111]
[12,17348,13,17353,13,17359,null,null,null,null,0,111]
[12,17459,13,17466,13,17472,null,null,null,null,0,111]
[12,17569,13,17575,13,17581,null,null,null,null,0,111]
[12,17681,13,17688,13,17694,null,null,null,null,0,111]
[12,17801,13,17806,13,17811,null,null,null,null,0,111]
[12,17915,13,17922,13,17953,null,null,null,null,0,111]
[12,18066,13,18072,13,18080,null,null,null,null,0,111]
[12,18180,13,18185,13,18191,null,null,null,null,0,111]
[12,18286,13,18292,13,18299,null,null,null,null,0,111]
[12,18398,13,18404,13,18409,null,null,null,null,0,111]
[12,18510,13,18516,13,18543,null,null,null,null,0,111]
[12,18648,24,18675,24,18684,null,null,null,null,0,122]
[12,18787,13,18792,13,18799,null,null,null,null,0,111]
[12,18903,13,18909,13,18918,null,null,null,null,0,111]
[12,19019,13,19024,13,19031,null,null,null,null,0,111]
[12,19133,13,19139,13,19145,null,null,null,null,0,111]
[12,19250,13,19257,24,19269,null,null,null,null,0,112]
[12,19377,13,19387,13,19396,null,null,null,null,0,111]
[12,19505,13,19510,13,19518,null,null,null,null,0,111]
[12,19617,13,19621,13,19626,null,null,null,null,0,111]
[12,19726,13,19731,13,19737,null,null,null,null,0,111]
[12,19838,13,19843,13,19850,null,null,null,null,0,111]
[12,19956,13,19962,13,19977,null,null,null,null,0,111]
[12,20092,13,20096,13,20102,null,null,null,null,0,111]
[12,20202,13,20216,13,20223,null,null,null,null,0,111]
[12,20324,13,20351,13,20370,null,null,null,null,0,111]
[12,20478,13,20483,13,20488,null,null,null,null,0,111]
[12,20588,13,20595,13,20603,null,null,null,null,0,111]
[12,20710,13,20715,13,20720,null,null,null,null,0,111]
[12,20829,13,20834,13,20840,null,null,null,null,0,111]
[12,20941,13,20945,13,20952,null,null,null,null,0,111]
[12,21054,13,21073,13,21081,null,null,null,null,0,111]
[12,21186,13,21192,13,21200,null,null,null,null,0,111]
[12,21300,13,21306,13,21320,null,null,null,null,0,111]
[12,21432,13,21448,13,21454,null,null,null,null,0,111]
[12,21554,13,21566,13,21572,null,null,null,null,0,111]
[12,21678,13,21683,13,21690,null,null,null,null,0,111]
[12,21797,13,21804,13,21810,null,null,null,null,0,111]
[12,21915,13,21921,13,21928,null,null,null,null,0,111]
[12,22024,13,22038,13,22043,null,null,null,null,0,111]
[12,22150,13,22155,13,22161,null,null,null,null,0,111]
[12,22262,13,22267,13,22275,null,null,null,null,0,111]
[12,22379,13,22385,13,22390,null,null,null,null,0,111]
[12,22496,13,22503,13,22510,null,null,null,null,0,111]
[12,22616,13,22630,13,22640,null,null,null,null,0,111]
[12,22748,13,22753,13,22759,null,null,null,null,0,111]
[12,22870,13,22877,13,22887,null,null,null,null,0,111]
[12,23009,13,23020,13,23029,null,null,null,null,0,111]
[12,23127,24,23152,24,23174,null,null,null,null,0,122]
[12,23279,13,23284,24,23303,null,null,null,null,0,112]
[12,23409,13,23414,13,23420,null,null,null,null,0,111]
[12,23523,13,23529,13,23535,null,null,null,null,0,111]
[12,23636,13,23642,13,23648,null,null,null,null,0,111]
[12,23751,13,23755,13,23760,null,null,null,null,0,111]
[12,23866,13,23872,13,23879,null,null,null,null,0,111]
[12,23988,13,23993,13,24001,null,null,null,null,null,111]

{"sheet":"!N423840.010","index":31,"n_rows":203,"n_cols":48,"rows_kept":203,"cut":false,"hidden":false,"merged":[[4,39,4,42],[5,39,5,40],[4,44,4,47],[5,44,5,45],[4,24,4,27],[5,24,5,25],[4,29,4,32],[5,29,5,30],[4,34,4,37],[5,34,5,35],[1,1,1,2],[5,13,5,14],[18,13,18,14],[19,13,19,14],[4,19,4,22],[5,19,5,20]]}
["Report for:!N423840.010"]
["Date:","<date>"]
["Hen:","<hen>",null,null,null,"Correct Sequence",{"$f":"Start!J2","v":211},null,null,null,null,null,null,null,null,"Total Sequences in Data",{"$f":"4994-COUNTBLANK(L7:L5000)","v":197},null,null,null,null,"Total Sequences in Block Data",{"$f":"COUNTA(L7:L39)","v":33},null,null,null,"Total Sequences in Block Data",{"$f":"COUNTA(L40:L72)","v":33},null,null,null,"Total Sequences in Block Data",{"$f":"COUNTA(L73:L104)","v":32},null,null,null,"Total Sequences in Block Data",{"$f":"COUNTA(L105:L137)","v":33},null,null,null,"Total Sequences in Block Data",{"$f":"COUNTA(L138:L170)","v":33},null,null,null,"Total Sequences in Block Data",{"$f":"COUNTA(L171:L203)","v":33}]
[null,null,null,null,null,null,null,null,null,null,null,null,null,null,null,"Total Sequences in Summary",{"$f":"SUM(O7:O14)","v":197},null,null,null,null,"Total Sequences in Block Summary",{"$f":"SUM(U7:U14)","v":33},null,null,null,"Total Sequences in Block Summary",{"$f":"SUM(Z7:Z14)","v":33},null,null,null,"Total Sequences in Block Summary",{"$f":"SUM(AE7:AE14)","v":32},null,null,null,"Total Sequences in Block Summary",{"$f":"SUM(AJ7:AJ14)","v":33},null,null,null,"Total Sequences in Block Summary",{"$f":"SUM(AO7:AO14)","v":33},null,null,null,"Total Sequences in Block Summary",{"$f":"SUM(AT7:AT14)","v":33}]
[null,null,null,null,null,null,null,null,null,null,null,null,null,null,null,null,null,null,null,"Block 1",null,null,null,null,"Block 2",null,null,null,null,"Block 3",null,null,null,null,"Block 4",null,null,null,null,"Block 5",null,null,null,null,"Block 6"]
["Sequence\nComponent\n1","Time\n1","Sequence\nComponent\n2","Time\n2","Sequence\nComponent\n3","Time\n3","Sequence\nComponent\n4","Time\n4","Sequence\nComponent\n5","Time\n5","Correct?\n0=No 1=Yes","Sequence",null,"Frequency",null,"Relative Frequency","Variability",null,null,"Frequency",null,"Relative Frequency","Variability",null,"Frequency",null,"Relative Frequency","Variability",null,"Frequency",null,"Relative Frequency","Variability",null,"Frequency",null,"Relative Frequency","Variability",null,"Frequency",null,"Relative Frequency","Variability",null,"Frequency",null,"Relative Frequency","Variability"]
[12,18,13,29,13,37,null,null,null,null,0,111,null,111,{"$f":"COUNTIF($L$7:$L$500,N7)","v":179},{"$f":"O7/$Q$4","v":0.90862944162436543},{"$f":"IF(P7=0,0,(P7*((LOG(P7))/LOG(2))))","v":-0.12560533782938815},null,null,{"$f":"N7","v":111},{"$f":"COUNTIF(L7:L39,T7)","v":28},{"$f":"U7/(W4-U11)","v":0.84848484848484851},{"$f":"IF(V7=0,0,(V7*((LOG(V7))/LOG(2))))","v":-0.20112416740678121},null,{"$f":"N7","v":111},{"$f":"COUNTIF(L40:L72,Y7)","v":31},{"$f":"Z7/(AB4-Z11)","v":0.93939393939393945},{"$f":"IF(AA7=0,0,(AA7*((LOG(AA7))/LOG(2))))","v":-8.4731275094512809E-2},null,{"$f":"N7","v":111},{"$f":"COUNTIF(L73:L104,AD7)","v":30},{"$f":"AE7/(AG4-AE11)","v":0.9375},{"$f":"IF(AF7=0,0,(AF7*((LOG(AF7))/LOG(2))))","v":-8.729006661701387E-2},null,{"$f":"N7","v":111},{"$f":"COUNTIF(L105:L137,AI7)","v":31},{"$f":"AJ7/(AL4-AJ11)","v":0.93939393939393945},{"$f":"IF(AK7=0,0,(AK7*((LOG(AK7))/LOG(2))))","v":-8.4731275094512809E-2},null,{"$f":"N7","v":111},{"$f":"COUNTIF(L138:L170,AN7)","v":29},{"$f":"AO7/(AQ4-AO11)","v":0.87878787878787878},{"$f":"IF(AP7=0,0,(AP7*((LOG(AP7))/LOG(2))))","v":-0.16381759402107751},null,{"$f":"N7","v":111},{"$f":"COUNTIF(L171:L203,AS7)","v":30},{"$f":"AT7/(AV4-AT11)","v":0.90909090909090906},{"$f":"IF(AU7=0,0,(AU7*((LOG(AU7))/LOG(2))))","v":-0.12500320340903179}]
[12,143,13,150,13,159,null,null,null,null,0,111,null,112,{"$f":"COUNTIF($L$7:$L$500,N8)","v":5},{"$f":"O8/$Q$4","v":2.5380710659898477E-2},{"$f":"IF(P8=0,0,(P8*((LOG(P8))/LOG(2))))","v":-0.1345209067149496},null,null,{"$f":"N8","v":112},{"$f":"COUNTIF(L7:L39,T8)","v":1},{"$f":"U8/(W4-U11)","v":3.0303030303030304E-2},{"$f":"IF(V8=0,0,(V8*((LOG(V8))/LOG(2))))","v":-0.15286042785934709},null,{"$f":"N8","v":112},{"$f":"COUNTIF(L40:L72,Y8)","v":0},{"$f":"Z8/(AB4-Z11)","v":0},{"$f":"IF(AA8=0,0,(AA8*((LOG(AA8))/LOG(2))))","v":0},null,{"$f":"N8","v":112},{"$f":"COUNTIF(L73:L104,AD8)","v":0},{"$f":"AE8/(AG4-AE11)","v":0},{"$f":"IF(AF8=0,0,(AF8*((LOG(AF8))/LOG(2))))","v":0},null,{"$f":"N8","v":112},{"$f":"COUNTIF(L105:L137,AI8)","v":0},{"$f":"AJ8/(AL4-AJ11)","v":0},{"$f":"IF(AK8=0,0,(AK8*((LOG(AK8))/LOG(2))))","v":0},null,{"$f":"N8","v":112},{"$f":"COUNTIF(L138:L170,AN8)","v":3},{"$f":"AO8/(AQ4-AO11)","v":9.0909090909090912E-2},{"$f":"IF(AP8=0,0,(AP8*((LOG(AP8))/LOG(2))))","v":-0.31449378351248153},null,{"$f":"N8","v":112},{"$f":"COUNTIF(L171:L203,AS8)","v":1},{"$f":"AT8/(AV4-AT11)","v":3.0303030303030304E-2},{"$f":"IF(AU8=0,0,(AU8*((LOG(AU8))/LOG(2))))","v":-0.15286042785934709}]
[12,263,13,269,13,277,null,null,null,null,0,111,null,121,{"$f":"COUNTIF($L$7:$L$500,N9)","v":0},{"$f":"O9/$Q$4","v":0},{"$f":"IF(P9=0,0,(P9*((LOG(P9))/LOG(2))))","v":0},null,null,{"$f":"N9","v":121},{"$f":"COUNTIF(L7:L39,T9)","v":0},{"$f":"U9/(W4-U11)","v":0},{"$f":"IF(V9=0,0,(V9*((LOG(V9))/LOG(2))))","v":0},null,{"$f":"N9","v":121},{"$f":"COUNTIF(L40:L72,Y9)","v":0},{"$f":"Z9/(AB4-Z11)","v":0},{"$f":"IF(AA9=0,0,(AA9*((LOG(AA9))/LOG(2))))","v":0},null,{"$f":"N9","v":121},{"$f":"COUNTIF(L73:L104,AD9)","v":0},{"$f":"AE9/(AG4-AE11)","v":0},{"$f":"IF(AF9=0,0,(AF9*((LOG(AF9))/LOG(2))))","v":0},null,{"$f":"N9","v":121},{"$f":"COUNTIF(L105:L137,AI9)","v":0},{"$f":"AJ9/(AL4-AJ11)","v":0},{"$f":"IF(AK9=0,0,(AK9*((LOG(AK9))/LOG(2))))","v":0},null,{"$f":"N9","v":121},{"$f":"COUNTIF(L138:L170,AN9)","v":0},{"$f":"AO9/(AQ4-AO11)","v":0},{"$f":"IF(AP9=0,0,(AP9*((LOG(AP9))/LOG(2))))","v":0},null,{"$f":"N9","v":121},{"$f":"COUNTIF(L171:L203,AS9)","v":0},{"$f":"AT9/(AV4-AT11)","v":0},{"$f":"IF(AU9=0,0,(AU9*((LOG(AU9))/LOG(2))))","v":0}]
[12,383,13,389,13,394,null,null,null,null,0,111,null,122,{"$f":"COUNTIF($L$7:$L$500,N10)","v":6},{"$f":"O10/$Q$4","v":3.0456852791878174E-2},{"$f":"IF(P10=0,0,(P10*((LOG(P10))/LOG(2))))","v":-0.15341388788026053},null,null,{"$f":"N10","v":122},{"$f":"COUNTIF(L7:L39,T10)","v":2},{"$f":"U10/(W4-U11)","v":6.0606060606060608E-2},{"$f":"IF(V10=0,0,(V10*((LOG(V10))/LOG(2))))","v":-0.24511479511263354},null,{"$f":"N10","v":122},{"$f":"COUNTIF(L40:L72,Y10)","v":1},{"$f":"Z10/(AB4-Z11)","v":3.0303030303030304E-2},{"$f":"IF(AA10=0,0,(AA10*((LOG(AA10))/LOG(2))))","v":-0.15286042785934709},null,{"$f":"N10","v":122},{"$f":"COUNTIF(L73:L104,AD10)","v":1},{"$f":"AE10/(AG4-AE11)","v":3.125E-2},{"$f":"IF(AF10=0,0,(AF10*((LOG(AF10))/LOG(2))))","v":-0.15625},null,{"$f":"N10","v":122},{"$f":"COUNTIF(L105:L137,AI10)","v":1},{"$f":"AJ10/(AL4-AJ11)","v":3.0303030303030304E-2},{"$f":"IF(AK10=0,0,(AK10*((LOG(AK10))/LOG(2))))","v":-0.15286042785934709},null,{"$f":"N10","v":122},{"$f":"COUNTIF(L138:L170,AN10)","v":0},{"$f":"AO10/(AQ4-AO11)","v":0},{"$f":"IF(AP10=0,0,(AP10*((LOG(AP10))/LOG(2))))","v":0},null,{"$f":"N10","v":122},{"$f":"COUNTIF(L171:L203,AS10)","v":1},{"$f":"AT10/(AV4-AT11)","v":3.0303030303030304E-2},{"$f":"IF(AU10=0,0,(AU10*((LOG(AU10))/LOG(2))))","v":-0.15286042785934709}]
[12,502,13,508,13,514,null,null,null,null,0,111,null,211,{"$f":"COUNTIF($L$7:$L$500,N11)","v":0},{"$f":"O11/$Q$4","v":0},{"$f":"IF(P11=0,0,(P11*((LOG(P11))/LOG(2))))","v":0},null,null,{"$f":"N11","v":211},{"$f":"COUNTIF(L7:L39,T11)","v":0},null,null,null,{"$f":"N11","v":211},{"$f":"COUNTIF(L40:L72,Y11)","v":0},null,null,null,{"$f":"N11","v":211},{"$f":"COUNTIF(L73:L104,AD11)","v":0},null,null,null,{"$f":"N11","v":211},{"$f":"COUNTIF(L105:L137,AI11)","v":0},null,null,null,{"$f":"N11","v":211},{"$f":"COUNTIF(L138:L170,AN11)","v":0},null,null,null,{"$f":"N11","v":211},{"$f":"COUNTIF(L171:L203,AS11)","v":0}]
[12,616,13,622,13,628,null,null,null,null,0,111,null,212,{"$f":"COUNTIF($L$7:$L$500,N12)","v":0},{"$f":"O12/$Q$4","v":0},{"$f":"IF(P12=0,0,(P12*((LOG(P12))/LOG(2))))","v":0},null,null,{"$f":"N12","v":212},{"$f":"COUNTIF(L7:L39,T12)","v":0},{"$f":"U12/(W4-U11)","v":0},{"$f":"IF(V12=0,0,(V12*((LOG(V12))/LOG(2))))","v":0},null,{"$f":"N12","v":212},{"$f":"COUNTIF(L40:L72,Y12)","v":0},{"$f":"Z12/(AB4-Z11)","v":0},{"$f":"IF(AA12=0,0,(AA12*((LOG(AA12))/LOG(2))))","v":0},null,{"$f":"N12","v":212},{"$f":"COUNTIF(L73:L104,AD12)","v":0},{"$f":"AE12/(AG4-AE11)","v":0},{"$f":"IF(AF12=0,0,(AF12*((LOG(AF12))/LOG(2))))","v":0},null,{"$f":"N12","v":212},{"$f":"COUNTIF(L105:L137,AI12)","v":0},{"$f":"AJ12/(AL4-AJ11)","v":0},{"$f":"IF(AK12=0,0,(AK12*((LOG(AK12))/LOG(2))))","v":0},null,{"$f":"N12","v":212},{"$f":"COUNTIF(L138:L170,AN12)","v":0},{"$f":"AO12/(AQ4-AO11)","v":0},{"$f":"IF(AP12=0,0,(AP12*((LOG(AP12))/LOG(2))))","v":0},null,{"$f":"N12","v":212},{"$f":"COUNTIF(L171:L203,AS12)","v":0},{"$f":"AT12/(AV4-AT11)","v":0},{"$f":"IF(AU12=0,0,(AU12*((LOG(AU12))/LOG(2))))","v":0}]
[12,732,13,738,13,744,null,null,null,null,0,111,null,221,{"$f":"COUNTIF($L$7:$L$500,N13)","v":0},{"$f":"O13/$Q$4","v":0},{"$f":"IF(P13=0,0,(P13*((LOG(P13))/LOG(2))))","v":0},null,null,{"$f":"N13","v":221},{"$f":"COUNTIF(L7:L39,T13)","v":0},{"$f":"U13/(W4-U11)","v":0},{"$f":"IF(V13=0,0,(V13*((LOG(V13))/LOG(2))))","v":0},null,{"$f":"N13","v":221},{"$f":"COUNTIF(L40:L72,Y13)","v":0},{"$f":"Z13/(AB4-Z11)","v":0},{"$f":"IF(AA13=0,0,(AA13*((LOG(AA13))/LOG(2))))","v":0},null,{"$f":"N13","v":221},{"$f":"COUNTIF(L73:L104,AD13)","v":0},{"$f":"AE13/(AG4-AE11)","v":0},{"$f":"IF(AF13=0,0,(AF13*((LOG(AF13))/LOG(2))))","v":0},null,{"$f":"N13","v":221},{"$f":"COUNTIF(L105:L137,AI13)","v":0},{"$f":"AJ13/(AL4-AJ11)","v":0},{"$f":"IF(AK13=0,0,(AK13*((LOG(AK13))/LOG(2))))","v":0},null,{"$f":"N13","v":221},{"$f":"COUNTIF(L138:L170,AN13)","v":0},{"$f":"AO13/(AQ4-AO11)","v":0},{"$f":"IF(AP13=0,0,(AP13*((LOG(AP13))/LOG(2))))","v":0},null,{"$f":"N13","v":221},{"$f":"COUNTIF(L171:L203,AS13)","v":0},{"$f":"AT13/(AV4-AT11)","v":0},{"$f":"IF(AU13=0,0,(AU13*((LOG(AU13))/LOG(2))))","v":0}]
[12,859,13,866,13,905,null,null,null,null,0,111,null,222,{"$f":"COUNTIF($L$7:$L$500,N14)","v":7},{"$f":"O14/$Q$4","v":3.553299492385787E-2},{"$f":"IF(P14=0,0,(P14*((LOG(P14))/LOG(2))))","v":-0.1710806004151848},null,null,{"$f":"N14","v":222},{"$f":"COUNTIF(L7:L39,T14)","v":2},{"$f":"U14/(W4-U11)","v":6.0606060606060608E-2},{"$f":"IF(V14=0,0,(V14*((LOG(V14))/LOG(2))))","v":-0.24511479511263354},null,{"$f":"N14","v":222},{"$f":"COUNTIF(L40:L72,Y14)","v":1},{"$f":"Z14/(AB4-Z11)","v":3.0303030303030304E-2},{"$f":"IF(AA14=0,0,(AA14*((LOG(AA14))/LOG(2))))","v":-0.15286042785934709},null,{"$f":"N14","v":222},{"$f":"COUNTIF(L73:L104,AD14)","v":1},{"$f":"AE14/(AG4-AE11)","v":3.125E-2},{"$f":"IF(AF14=0,0,(AF14*((LOG(AF14))/LOG(2))))","v":-0.15625},null,{"$f":"N14","v":222},{"$f":"COUNTIF(L105:L137,AI14)","v":1},{"$f":"AJ14/(AL4-AJ11)","v":3.0303030303030304E-2},{"$f":"IF(AK14=0,0,(AK14*((LOG(AK14))/LOG(2))))","v":-0.15286042785934709},null,{"$f":"N14","v":222},{"$f":"COUNTIF(L138:L170,AN14)","v":1},{"$f":"AO14/(AQ4-AO11)","v":3.0303030303030304E-2},{"$f":"IF(AP14=0,0,(AP14*((LOG(AP14))/LOG(2))))","v":-0.15286042785934709},null,{"$f":"N14","v":222},{"$f":"COUNTIF(L171:L203,AS14)","v":1},{"$f":"AT14/(AV4-AT11)","v":3.0303030303030304E-2},{"$f":"IF(AU14=0,0,(AU14*((LOG(AU14))/LOG(2))))","v":-0.15286042785934709}]
[12,1023,13,1031,13,1039,null,null,null,null,0,111,null,null,null,{"$f":"SUM(P7:P14)","v":0.99999999999999989},{"$f":"-SUM(Q7:Q14)","v":0.58462073283978311},null,null,null,null,{"$f":"SUM(V7:V14)","v":1},{"$f":"-SUM(W7:W14)","v":0.84421418549139537},null,null,null,{"$f":"SUM(AA7:AA14)","v":1},{"$f":"-SUM(AB7:AB14)","v":0.39045213081320695},null,null,null,{"$f":"SUM(AF7:AF14)","v":1},{"$f":"-SUM(AG7:AG14)","v":0.39979006661701388},null,null,null,{"$f":"SUM(AK7:AK14)","v":1},{"$f":"-SUM(AL7:AL14)","v":0.39045213081320695},null,null,null,{"$f":"SUM(AP7:AP14)","v":1},{"$f":"-SUM(AQ7:AQ14)","v":0.63117180539290607},null,null,null,{"$f":"SUM(AU7:AU14)","v":0.99999999999999989},{"$f":"-SUM(AV7:AV14)","v":0.58358448698707299}]
[12,1155,13,1179,13,1186,null,null,null,null,0,111,null,null,null,"U=",{"$f":"Q15/(LOG(Q4)/LOG(2))","v":7.6701227791111992E-2},null,null,null,null,"U1=",{"$f":"W15/(LOG(W4)/LOG(2))","v":0.16735690461846042},null,null,null,"U2=",{"$f":"AB15/(LOG(AB4)/LOG(2))","v":7.7403176987063949E-2},null,null,null,"U3=",{"$f":"AG15/(LOG(AG4)/LOG(2))","v":7.9958013323402771E-2},null,null,null,"U4=",{"$f":"AL15/(LOG(AL4)/LOG(2))","v":7.7403176987063949E-2},null,null,null,"U5=",{"$f":"AQ15/(LOG(AQ4)/LOG(2))","v":0.12512341233820537},null,null,null,"U6=",{"$f":"AV15/(LOG(AV4)/LOG(2))","v":0.11568970884877912}]
[12,1297,13,1303,13,1309,null,null,null,null,0,111]
[21,1438,22,1445,24,1454,null,null,null,null,0,222]
[21,1601,22,1608,24,1617,null,null,null,null,0,222,null,"Total Target Seq"]
[12,1730,13,1735,13,1744,null,null,null,null,0,111,null,{"$f":"COUNTIF(L7:L203,G3)","v":0},null,33,33,32,33,33,33]
[12,1876,13,1892,13,1901,null,null,null,null,0,111,null,null,null,"% of reinforcement given in 6 equal intervals based on number of trials "]
[12,2020,24,2053,24,2059,null,null,null,null,0,122,null,null,null,"%_1","%_2","%_3","%_4","%_5","%_6"]
[12,2166,13,2173,24,2205,null,null,null,null,0,112,null,null,"target sequence",{"$f":"$G$3","v":211},{"$f":"$G$3","v":211},{"$f":"$G$3","v":211},{"$f":"$G$3","v":211},{"$f":"$G$3","v":211},{"$f":"$G$3","v":211}]
[12,2309,13,2314,13,2321,null,null,null,null,0,111,null,null,"total reinforcement",{"$f":"U11","v":0},{"$f":"Z11","v":0},{"$f":"AE11","v":0},{"$f":"AJ11","v":0},{"$f":"AO11","v":0},{"$f":"AT11","v":0}]
[12,2452,24,2468,24,2474,null,null,null,null,0,122,null,null,"% target"]
[12,2663,13,2679,13,2694,null,null,null,null,0,111,null,null,"CCRF"]
[12,2815,13,2822,13,2830,null,null,null,null,0,111,null,null,"% CCRf"]
[12,2942,13,2972,13,2981,null,null,null,null,0,111,null,null,"average response rate",{"$f":"F39/P20","v":131.54545454545453},{"$f":"(F72-F39)/Q20","v":120.3030303030303},{"$f":"(F104-F72)/R20","v":115.96875},{"$f":"(F137-F104)/S20","v":119.60606060606061},{"$f":"(F170-F137)/T20","v":121.78787878787878},{"$f":"(F203-F170)/U20","v":121.48484848484848}]
[12,3100,13,3105,13,3128,null,null,null,null,0,111]
[12,3237,13,3242,13,3249,null,null,null,null,0,111]
[12,3369,13,3375,13,3383,null,null,null,null,0,111]
[12,3493,13,3499,13,3509,null,null,null,null,0,111]
[12,3616,13,3622,13,3629,null,null,null,null,0,111]
[12,3731,13,3743,13,3753,null,null,null,null,0,111]
[12,3864,13,3869,13,3877,null,null,null,null,0,111]
[12,3972,13,3979,13,3986,null,null,null,null,0,111]
[12,4091,13,4096,13,4103,null,null,null,null,0,111]
[12,4204,13,4210,13,4214,null,null,null,null,0,111]
[12,4328,13,4333,13,4341,null,null,null,null,0,111]
[12,4440,13,4445,13,4451,null,null,null,null,0,111]
[12,4563,13,4577,13,4587,null,null,null,null,0,111]
[21,4730,22,4739,24,4748,null,null,null,null,0,222]
[12,4851,13,4872,13,4879,null,null,null,null,0,111]
[12,4988,13,4994,13,5003,null,null,null,null,0,111]
[12,5112,13,5118,13,5133,null,null,null,null,0,111]
[12,5232,13,5239,13,5253,null,null,null,null,0,111]
[12,5357,13,5363,13,5372,null,null,null,null,0,111]
[12,5473,13,5480,13,5485,null,null,null,null,0,111]
[12,5588,13,5594,13,5601,null,null,null,null,0,111]
[12,5702,13,5708,13,5714,null,null,null,null,0,111]
[12,5818,13,5824,13,5830,null,null,null,null,0,111]
[12,5930,13,5946,13,5955,null,null,null,null,0,111]
[12,6049,13,6062,13,6067,null,null,null,null,0,111]
[12,6182,13,6188,13,6197,null,null,null,null,0,111]
[12,6301,13,6306,13,6313,null,null,null,null,0,111]
[12,6421,13,6428,13,6436,null,null,null,null,0,111]
[12,6545,13,6551,13,6558,null,null,null,null,0,111]
[12,6674,24,6688,24,6694,null,null,null,null,0,122]
[12,6790,13,6801,13,6807,null,null,null,null,0,111]
[12,6908,13,6913,13,6919,null,null,null,null,0,111]
[12,7013,13,7019,13,7026,null,null,null,null,0,111]
[12,7131,13,7137,13,7146,null,null,null,null,0,111]
[12,7249,13,7254,13,7263,null,null,null,null,0,111]
[12,7366,13,7371,13,7377,null,null,null,null,0,111]
[12,7477,13,7482,13,7488,null,null,null,null,0,111]
[12,7586,13,7592,13,7599,null,null,null,null,0,111]
[12,7698,13,7705,13,7712,null,null,null,null,0,111]
[12,7813,13,7829,13,7843,null,null,null,null,0,111]
[12,7950,13,7956,13,7962,null,null,null,null,0,111]
[12,8063,13,8069,13,8077,null,null,null,null,0,111]
[12,8181,13,8187,13,8196,null,null,null,null,0,111]
[12,8301,13,8306,13,8311,null,null,null,null,0,111]
[12,8413,13,8418,13,8423,null,null,null,null,0,111]
[12,8522,13,8527,13,8531,null,null,null,null,0,111]
[12,8631,13,8640,13,8646,null,null,null,null,0,111]
[12,8748,13,8754,13,8760,null,null,null,null,0,111]
[12,8862,13,8869,13,8875,null,null,null,null,0,111]
[12,8981,13,8990,13,8997,null,null,null,null,0,111]
[12,9099,13,9104,13,9109,null,null,null,null,0,111]
[12,9208,13,9212,13,9218,null,null,null,null,0,111]
[12,9320,13,9326,13,9332,null,null,null,null,0,111]
[12,9434,13,9438,13,9443,null,null,null,null,0,111]
[12,9545,13,9552,13,9559,null,null,null,null,0,111]
[12,9662,24,9683,24,9688,null,null,null,null,0,122]
[12,9794,13,9801,13,9808,null,null,null,null,0,111]
[12,9914,13,9919,13,9925,null,null,null,null,0,111]
[12,10031,13,10037,13,10042,null,null,null,null,0,111]
[12,10141,13,10145,13,10150,null,null,null,null,0,111]
[12,10250,13,10256,13,10261,null,null,null,null,0,111]
[12,10362,13,10367,13,10373,null,null,null,null,0,111]
[12,10474,13,10480,13,10486,null,null,null,null,0,111]
[12,10602,13,10608,13,10618,null,null,null,null,0,111]
[12,10718,13,10729,13,10739,null,null,null,null,0,111]
[12,10839,13,10844,13,10849,null,null,null,null,0,111]
[12,10950,13,10956,13,10963,null,null,null,null,0,111]
[12,11070,13,11076,13,11084,null,null,null,null,0,111]
[12,11184,13,11190,13,11196,null,null,null,null,0,111]
[12,11295,13,11301,13,11314,null,null,null,null,0,111]
[12,11413,13,11418,13,11423,null,null,null,null,0,111]
[12,11521,13,11527,13,11532,null,null,null,null,0,111]
[12,11637,13,11642,13,11647,null,null,null,null,0,111]
[21,11770,22,11776,24,11789,null,null,null,null,0,222]
[12,11892,13,11897,13,11907,null,null,null,null,0,111]
[12,12008,13,12015,13,12022,null,null,null,null,0,111]
[12,12123,13,12129,13,12135,null,null,null,null,0,111]
[12,12234,13,12239,13,12247,null,null,null,null,0,111]
[12,12354,13,12359,13,12364,null,null,null,null,0,111]
[12,12464,13,12470,13,12475,null,null,null,null,0,111]
[12,12576,13,12582,13,12589,null,null,null,null,0,111]
[12,12686,13,12693,13,12699,null,null,null,null,0,111]
[12,12804,13,12811,13,12821,null,null,null,null,0,111]
[12,12921,13,12930,13,12953,null,null,null,null,0,111]
[12,13055,13,13061,13,13065,null,null,null,null,0,111]
[12,13184,13,13190,13,13200,null,null,null,null,0,111]
[12,13300,13,13305,13,13311,null,null,null,null,0,111]
[12,13415,13,13419,13,13427,null,null,null,null,0,111]
[12,13551,13,13556,13,13564,null,null,null,null,0,111]
[12,13663,13,13668,13,13674,null,null,null,null,0,111]
[12,13781,13,13797,13,13805,null,null,null,null,0,111]
[12,13912,13,13917,13,13932,null,null,null,null,0,111]
[12,14033,13,14040,13,14053,null,null,null,null,0,111]
[12,14153,13,14165,13,14174,null,null,null,null,0,111]
[12,14285,13,14291,13,14310,null,null,null,null,0,111]
[12,14415,13,14420,13,14428,null,null,null,null,0,111]
[12,14534,13,14540,13,14545,null,null,null,null,0,111]
[12,14646,13,14653,13,14661,null,null,null,null,0,111]
[12,14764,13,14769,13,14774,null,null,null,null,0,111]
[12,14874,24,14901,24,14910,null,null,null,null,0,122]
[12,15020,13,15025,13,15030,null,null,null,null,0,111]
[12,15131,13,15136,13,15141,null,null,null,null,0,111]
[12,15248,13,15253,13,15260,null,null,null,null,0,111]
[12,15361,13,15366,13,15375,null,null,null,null,0,111]
[12,15469,13,15475,13,15481,null,null,null,null,0,111]
[12,15582,13,15590,13,15596,null,null,null,null,0,111]
[12,15703,13,15709,13,15714,null,null,null,null,0,111]
[12,15814,13,15821,13,15828,null,null,null,null,0,111]
[21,15949,22,15959,24,15969,null,null,null,null,0,222]
[12,16078,13,16084,24,16111,null,null,null,null,0,112]
[12,16211,13,16216,13,16222,null,null,null,null,0,111]
[12,16322,13,16326,13,16331,null,null,null,null,0,111]
[12,16437,13,16444,13,16449,null,null,null,null,0,111]
[12,16550,13,16557,13,16581,null,null,null,null,0,111]
[12,16684,13,16690,13,16697,null,null,null,null,0,111]
[12,16801,13,16814,13,16823,null,null,null,null,0,111]
[12,16930,13,16936,13,16941,null,null,null,null,0,111]
[12,17041,13,17047,13,17053,null,null,null,null,0,111]
[12,17159,13,17164,13,17172,null,null,null,null,0,111]
[12,17275,13,17281,13,17294,null,null,null,null,0,111]
[12,17397,13,17404,13,17410,null,null,null,null,0,111]
[12,17521,13,17529,13,17545,null,null,null,null,0,111]
[12,17646,13,17651,13,17658,null,null,null,null,0,111]
[12,17762,13,17780,13,17790,null,null,null,null,0,111]
[12,17891,13,17897,13,17902,null,null,null,null,0,111]
[12,18008,13,18021,13,18030,null,null,null,null,0,111]
[12,18161,13,18166,13,18175,null,null,null,null,0,111]
[12,18273,13,18295,13,18301,null,null,null,null,0,111]
[12,18416,13,18422,13,18429,null,null,null,null,0,111]
[12,18526,13,18533,13,18538,null,null,null,null,0,111]
[21,18662,22,18670,24,18681,null,null,null,null,0,222]
[12,18786,13,18791,13,18797,null,null,null,null,0,111]
[12,18899,13,18906,13,18912,null,null,null,null,0,111]
[12,19017,13,19022,13,19029,null,null,null,null,0,111]
[12,19128,13,19135,24,19160,null,null,null,null,0,112]
[12,19262,13,19269,13,19278,null,null,null,null,0,111]
[12,19381,13,19386,24,19411,null,null,null,null,0,112]
[12,19514,13,19520,13,19524,null,null,null,null,0,111]
[12,19620,13,19626,13,19631,null,null,null,null,0,111]
[12,19731,13,19746,13,19756,null,null,null,null,0,111]
[12,19851,13,19856,13,19863,null,null,null,null,0,111]
[12,19963,13,19969,13,19988,null,null,null,null,0,111]
[12,20099,13,20104,13,20111,null,null,null,null,0,111]
[12,20215,13,20221,13,20226,null,null,null,null,0,111]
[12,20330,13,20337,13,20344,null,null,null,null,0,111]
[12,20446,13,20452,13,20457,null,null,null,null,0,111]
[12,20555,13,20561,13,20568,null,null,null,null,0,111]
[12,20670,13,20677,13,20685,null,null,null,null,0,111]
[12,20796,13,20803,13,20813,null,null,null,null,0,111]
[12,20918,13,20924,13,20930,null,null,null,null,0,111]
[12,21032,13,21037,13,21043,null,null,null,null,0,111]
[12,21143,13,21149,13,21160,null,null,null,null,0,111]
[12,21266,13,21273,13,21280,null,null,null,null,0,111]
[12,21381,13,21387,13,21393,null,null,null,null,0,111]
[12,21506,13,21534,13,21540,null,null,null,null,0,111]
[12,21647,13,21652,13,21669,null,null,null,null,0,111]
[12,21773,24,21795,24,21801,null,null,null,null,0,122]
[12,21913,13,21918,13,21922,null,null,null,null,0,111]
[12,22032,13,22037,13,22041,null,null,null,null,0,111]
[12,22150,13,22156,13,22161,null,null,null,null,0,111]
[12,22264,13,22269,13,22275,null,null,null,null,0,111]
[12,22378,13,22386,13,22392,null,null,null,null,0,111]
[12,22504,13,22510,13,22517,null,null,null,null,0,111]
[12,22622,13,22627,13,22632,null,null,null,null,0,111]
[12,22734,13,22745,24,22811,null,null,null,null,0,112]
[12,22924,13,22931,13,22938,null,null,null,null,0,111]
[21,23068,22,23075,24,23096,null,null,null,null,0,222]
[12,23194,13,23199,13,23204,null,null,null,null,0,111]
[12,23305,13,23310,13,23316,null,null,null,null,0,111]
[12,23417,13,23423,13,23428,null,null,null,null,0,111]
[12,23541,13,23548,13,23557,null,null,null,null,0,111]
[12,23658,13,23663,13,23667,null,null,null,null,0,111]
[12,23762,13,23768,13,23772,null,null,null,null,0,111]
[12,23872,13,23877,13,23881,null,null,null,null,0,111]
[12,23986,13,23991,13,23997,null,null,null,null,null,111]

{"sheet":"!N424830.010","index":32,"n_rows":211,"n_cols":48,"rows_kept":211,"cut":false,"hidden":false,"merged":[[4,39,4,42],[5,39,5,40],[4,44,4,47],[5,44,5,45],[4,24,4,27],[5,24,5,25],[4,29,4,32],[5,29,5,30],[4,34,4,37],[5,34,5,35],[1,1,1,2],[5,13,5,14],[18,13,18,14],[19,13,19,14],[4,19,4,22],[5,19,5,20]]}
["Report for:!N424830.010"]
["Date:","<date>"]
["Hen:","<hen>",null,null,null,"Correct Sequence",{"$f":"Start!J2","v":211},null,null,null,null,null,null,null,null,"Total Sequences in Data",{"$f":"4994-COUNTBLANK(L7:L5000)","v":205},null,null,null,null,"Total Sequences in Block Data",{"$f":"COUNTA(L7:L40)","v":34},null,null,null,"Total Sequences in Block Data",{"$f":"COUNTA(L41:L74)","v":34},null,null,null,"Total Sequences in Block Data",{"$f":"COUNTA(L75:L109)","v":35},null,null,null,"Total Sequences in Block Data",{"$f":"COUNTA(L110:L143)","v":34},null,null,null,"Total Sequences in Block Data",{"$f":"COUNTA(L144:L177)","v":34},null,null,null,"Total Sequences in Block Data",{"$f":"COUNTA(L178:L211)","v":34}]
[null,null,null,null,null,null,null,null,null,null,null,null,null,null,null,"Total Sequences in Summary",{"$f":"SUM(O7:O14)","v":205},null,null,null,null,"Total Sequences in Block Summary",{"$f":"SUM(U7:U14)","v":34},null,null,null,"Total Sequences in Block Summary",{"$f":"SUM(Z7:Z14)","v":34},null,null,null,"Total Sequences in Block Summary",{"$f":"SUM(AE7:AE14)","v":35},null,null,null,"Total Sequences in Block Summary",{"$f":"SUM(AJ7:AJ14)","v":34},null,null,null,"Total Sequences in Block Summary",{"$f":"SUM(AO7:AO14)","v":34},null,null,null,"Total Sequences in Block Summary",{"$f":"SUM(AT7:AT14)","v":34}]
[null,null,null,null,null,null,null,null,null,null,null,null,null,null,null,null,null,null,null,"Block 1",null,null,null,null,"Block 2",null,null,null,null,"Block 3",null,null,null,null,"Block 4",null,null,null,null,"Block 5",null,null,null,null,"Block 6"]
["Sequence\nComponent\n1","Time\n1","Sequence\nComponent\n2","Time\n2","Sequence\nComponent\n3","Time\n3","Sequence\nComponent\n4","Time\n4","Sequence\nComponent\n5","Time\n5","Correct?\n0=No 1=Yes","Sequence",null,"Frequency",null,"Relative Frequency","Variability",null,null,"Frequency",null,"Relative Frequency","Variability",null,"Frequency",null,"Relative Frequency","Variability",null,"Frequency",null,"Relative Frequency","Variability",null,"Frequency",null,"Relative Frequency","Variability",null,"Frequency",null,"Relative Frequency","Variability",null,"Frequency",null,"Relative Frequency","Variability"]
[12,17,13,28,13,35,null,null,null,null,0,111,null,111,{"$f":"COUNTIF($L$7:$L$500,N7)","v":196},{"$f":"O7/$Q$4","v":0.95609756097560972},{"$f":"IF(P7=0,0,(P7*((LOG(P7))/LOG(2))))","v":-6.1926683202373781E-2},null,null,{"$f":"N7","v":111},{"$f":"COUNTIF(L7:L40,T7)","v":31},{"$f":"U7/(W4-U11)","v":0.96875},{"$f":"IF(V7=0,0,(V7*((LOG(V7))/LOG(2))))","v":-4.4372324312714644E-2},null,{"$f":"N7","v":111},{"$f":"COUNTIF(L41:L74,Y7)","v":31},{"$f":"Z7/(AB4-Z11)","v":0.91176470588235292},{"$f":"IF(AA7=0,0,(AA7*((LOG(AA7))/LOG(2))))","v":-0.12150771931668795},null,{"$f":"N7","v":111},{"$f":"COUNTIF(L75:L109,AD7)","v":33},{"$f":"AE7/(AG4-AE11)","v":0.94285714285714284},{"$f":"IF(AF7=0,0,(AF7*((LOG(AF7))/LOG(2))))","v":-8.0038103438712302E-2},null,{"$f":"N7","v":111},{"$f":"COUNTIF(L110:L143,AI7)","v":33},{"$f":"AJ7/(AL4-AJ11)","v":0.97058823529411764},{"$f":"IF(AK7=0,0,(AK7*((LOG(AK7))/LOG(2))))","v":-4.1801994777418743E-2},null,{"$f":"N7","v":111},{"$f":"COUNTIF(L144:L177,AN7)","v":34},{"$f":"AO7/(AQ4-AO11)","v":1},{"$f":"IF(AP7=0,0,(AP7*((LOG(AP7))/LOG(2))))","v":0},null,{"$f":"N7","v":111},{"$f":"COUNTIF(L178:L211,AS7)","v":34},{"$f":"AT7/(AV4-AT11)","v":1},{"$f":"IF(AU7=0,0,(AU7*((LOG(AU7))/LOG(2))))","v":0}]
[21,138,11,154,11,161,null,null,null,null,0,211,null,112,{"$f":"COUNTIF($L$7:$L$500,N8)","v":0},{"$f":"O8/$Q$4","v":0},{"$f":"IF(P8=0,0,(P8*((LOG(P8))/LOG(2))))","v":0},null,null,{"$f":"N8","v":112},{"$f":"COUNTIF(L7:L40,T8)","v":0},{"$f":"U8/(W4-U11)","v":0},{"$f":"IF(V8=0,0,(V8*((LOG(V8))/LOG(2))))","v":0},null,{"$f":"N8","v":112},{"$f":"COUNTIF(L41:L74,Y8)","v":0},{"$f":"Z8/(AB4-Z11)","v":0},{"$f":"IF(AA8=0,0,(AA8*((LOG(AA8))/LOG(2))))","v":0},null,{"$f":"N8","v":112},{"$f":"COUNTIF(L75:L109,AD8)","v":0},{"$f":"AE8/(AG4-AE11)","v":0},{"$f":"IF(AF8=0,0,(AF8*((LOG(AF8))/LOG(2))))","v":0},null,{"$f":"N8","v":112},{"$f":"COUNTIF(L110:L143,AI8)","v":0},{"$f":"AJ8/(AL4-AJ11)","v":0},{"$f":"IF(AK8=0,0,(AK8*((LOG(AK8))/LOG(2))))","v":0},null,{"$f":"N8","v":112},{"$f":"COUNTIF(L144:L177,AN8)","v":0},{"$f":"AO8/(AQ4-AO11)","v":0},{"$f":"IF(AP8=0,0,(AP8*((LOG(AP8))/LOG(2))))","v":0},null,{"$f":"N8","v":112},{"$f":"COUNTIF(L178:L211,AS8)","v":0},{"$f":"AT8/(AV4-AT11)","v":0},{"$f":"IF(AU8=0,0,(AU8*((LOG(AU8))/LOG(2))))","v":0}]
[12,260,13,267,13,276,null,null,null,null,0,111,null,121,{"$f":"COUNTIF($L$7:$L$500,N9)","v":0},{"$f":"O9/$Q$4","v":0},{"$f":"IF(P9=0,0,(P9*((LOG(P9))/LOG(2))))","v":0},null,null,{"$f":"N9","v":121},{"$f":"COUNTIF(L7:L40,T9)","v":0},{"$f":"U9/(W4-U11)","v":0},{"$f":"IF(V9=0,0,(V9*((LOG(V9))/LOG(2))))","v":0},null,{"$f":"N9","v":121},{"$f":"COUNTIF(L41:L74,Y9)","v":0},{"$f":"Z9/(AB4-Z11)","v":0},{"$f":"IF(AA9=0,0,(AA9*((LOG(AA9))/LOG(2))))","v":0},null,{"$f":"N9","v":121},{"$f":"COUNTIF(L75:L109,AD9)","v":0},{"$f":"AE9/(AG4-AE11)","v":0},{"$f":"IF(AF9=0,0,(AF9*((LOG(AF9))/LOG(2))))","v":0},null,{"$f":"N9","v":121},{"$f":"COUNTIF(L110:L143,AI9)","v":0},{"$f":"AJ9/(AL4-AJ11)","v":0},{"$f":"IF(AK9=0,0,(AK9*((LOG(AK9))/LOG(2))))","v":0},null,{"$f":"N9","v":121},{"$f":"COUNTIF(L144:L177,AN9)","v":0},{"$f":"AO9/(AQ4-AO11)","v":0},{"$f":"IF(AP9=0,0,(AP9*((LOG(AP9))/LOG(2))))","v":0},null,{"$f":"N9","v":121},{"$f":"COUNTIF(L178:L211,AS9)","v":0},{"$f":"AT9/(AV4-AT11)","v":0},{"$f":"IF(AU9=0,0,(AU9*((LOG(AU9))/LOG(2))))","v":0}]
[12,383,13,389,13,394,null,null,null,null,0,111,null,122,{"$f":"COUNTIF($L$7:$L$500,N10)","v":5},{"$f":"O10/$Q$4","v":2.4390243902439025E-2},{"$f":"IF(P10=0,0,(P10*((LOG(P10))/LOG(2))))","v":-0.13067200011263619},null,null,{"$f":"N10","v":122},{"$f":"COUNTIF(L7:L40,T10)","v":1},{"$f":"U10/(W4-U11)","v":3.125E-2},{"$f":"IF(V10=0,0,(V10*((LOG(V10))/LOG(2))))","v":-0.15625},null,{"$f":"N10","v":122},{"$f":"COUNTIF(L41:L74,Y10)","v":2},{"$f":"Z10/(AB4-Z11)","v":5.8823529411764705E-2},{"$f":"IF(AA10=0,0,(AA10*((LOG(AA10))/LOG(2))))","v":-0.24043899066178465},null,{"$f":"N10","v":122},{"$f":"COUNTIF(L75:L109,AD10)","v":1},{"$f":"AE10/(AG4-AE11)","v":2.8571428571428571E-2},{"$f":"IF(AF10=0,0,(AF10*((LOG(AF10))/LOG(2))))","v":-0.14655094334128474},null,{"$f":"N10","v":122},{"$f":"COUNTIF(L110:L143,AI10)","v":1},{"$f":"AJ10/(AL4-AJ11)","v":2.9411764705882353E-2},{"$f":"IF(AK10=0,0,(AK10*((LOG(AK10))/LOG(2))))","v":-0.14963126003677468},null,{"$f":"N10","v":122},{"$f":"COUNTIF(L144:L177,AN10)","v":0},{"$f":"AO10/(AQ4-AO11)","v":0},{"$f":"IF(AP10=0,0,(AP10*((LOG(AP10))/LOG(2))))","v":0},null,{"$f":"N10","v":122},{"$f":"COUNTIF(L178:L211,AS10)","v":0},{"$f":"AT10/(AV4-AT11)","v":0},{"$f":"IF(AU10=0,0,(AU10*((LOG(AU10))/LOG(2))))","v":0}]
[12,501,13,506,13,511,null,null,null,null,0,111,null,211,{"$f":"COUNTIF($L$7:$L$500,N11)","v":2},{"$f":"O11/$Q$4","v":9.7560975609756097E-3},{"$f":"IF(P11=0,0,(P11*((LOG(P11))/LOG(2))))","v":-6.5165659507370202E-2},null,null,{"$f":"N11","v":211},{"$f":"COUNTIF(L7:L40,T11)","v":2},null,null,null,{"$f":"N11","v":211},{"$f":"COUNTIF(L41:L74,Y11)","v":0},null,null,null,{"$f":"N11","v":211},{"$f":"COUNTIF(L75:L109,AD11)","v":0},null,null,null,{"$f":"N11","v":211},{"$f":"COUNTIF(L110:L143,AI11)","v":0},null,null,null,{"$f":"N11","v":211},{"$f":"COUNTIF(L144:L177,AN11)","v":0},null,null,null,{"$f":"N11","v":211},{"$f":"COUNTIF(L178:L211,AS11)","v":0}]
[12,615,13,620,13,626,null,null,null,null,0,111,null,212,{"$f":"COUNTIF($L$7:$L$500,N12)","v":0},{"$f":"O12/$Q$4","v":0},{"$f":"IF(P12=0,0,(P12*((LOG(P12))/LOG(2))))","v":0},null,null,{"$f":"N12","v":212},{"$f":"COUNTIF(L7:L40,T12)","v":0},{"$f":"U12/(W4-U11)","v":0},{"$f":"IF(V12=0,0,(V12*((LOG(V12))/LOG(2))))","v":0},null,{"$f":"N12","v":212},{"$f":"COUNTIF(L41:L74,Y12)","v":0},{"$f":"Z12/(AB4-Z11)","v":0},{"$f":"IF(AA12=0,0,(AA12*((LOG(AA12))/LOG(2))))","v":0},null,{"$f":"N12","v":212},{"$f":"COUNTIF(L75:L109,AD12)","v":0},{"$f":"AE12/(AG4-AE11)","v":0},{"$f":"IF(AF12=0,0,(AF12*((LOG(AF12))/LOG(2))))","v":0},null,{"$f":"N12","v":212},{"$f":"COUNTIF(L110:L143,AI12)","v":0},{"$f":"AJ12/(AL4-AJ11)","v":0},{"$f":"IF(AK12=0,0,(AK12*((LOG(AK12))/LOG(2))))","v":0},null,{"$f":"N12","v":212},{"$f":"COUNTIF(L144:L177,AN12)","v":0},{"$f":"AO12/(AQ4-AO11)","v":0},{"$f":"IF(AP12=0,0,(AP12*((LOG(AP12))/LOG(2))))","v":0},null,{"$f":"N12","v":212},{"$f":"COUNTIF(L178:L211,AS12)","v":0},{"$f":"AT12/(AV4-AT11)","v":0},{"$f":"IF(AU12=0,0,(AU12*((LOG(AU12))/LOG(2))))","v":0}]
[12,728,13,741,13,750,null,null,null,null,0,111,null,221,{"$f":"COUNTIF($L$7:$L$500,N13)","v":0},{"$f":"O13/$Q$4","v":0},{"$f":"IF(P13=0,0,(P13*((LOG(P13))/LOG(2))))","v":0},null,null,{"$f":"N13","v":221},{"$f":"COUNTIF(L7:L40,T13)","v":0},{"$f":"U13/(W4-U11)","v":0},{"$f":"IF(V13=0,0,(V13*((LOG(V13))/LOG(2))))","v":0},null,{"$f":"N13","v":221},{"$f":"COUNTIF(L41:L74,Y13)","v":0},{"$f":"Z13/(AB4-Z11)","v":0},{"$f":"IF(AA13=0,0,(AA13*((LOG(AA13))/LOG(2))))","v":0},null,{"$f":"N13","v":221},{"$f":"COUNTIF(L75:L109,AD13)","v":0},{"$f":"AE13/(AG4-AE11)","v":0},{"$f":"IF(AF13=0,0,(AF13*((LOG(AF13))/LOG(2))))","v":0},null,{"$f":"N13","v":221},{"$f":"COUNTIF(L110:L143,AI13)","v":0},{"$f":"AJ13/(AL4-AJ11)","v":0},{"$f":"IF(AK13=0,0,(AK13*((LOG(AK13))/LOG(2))))","v":0},null,{"$f":"N13","v":221},{"$f":"COUNTIF(L144:L177,AN13)","v":0},{"$f":"AO13/(AQ4-AO11)","v":0},{"$f":"IF(AP13=0,0,(AP13*((LOG(AP13))/LOG(2))))","v":0},null,{"$f":"N13","v":221},{"$f":"COUNTIF(L178:L211,AS13)","v":0},{"$f":"AT13/(AV4-AT11)","v":0},{"$f":"IF(AU13=0,0,(AU13*((LOG(AU13))/LOG(2))))","v":0}]
[21,868,11,881,11,890,null,null,null,null,0,211,null,222,{"$f":"COUNTIF($L$7:$L$500,N14)","v":2},{"$f":"O14/$Q$4","v":9.7560975609756097E-3},{"$f":"IF(P14=0,0,(P14*((LOG(P14))/LOG(2))))","v":-6.5165659507370202E-2},null,null,{"$f":"N14","v":222},{"$f":"COUNTIF(L7:L40,T14)","v":0},{"$f":"U14/(W4-U11)","v":0},{"$f":"IF(V14=0,0,(V14*((LOG(V14))/LOG(2))))","v":0},null,{"$f":"N14","v":222},{"$f":"COUNTIF(L41:L74,Y14)","v":1},{"$f":"Z14/(AB4-Z11)","v":2.9411764705882353E-2},{"$f":"IF(AA14=0,0,(AA14*((LOG(AA14))/LOG(2))))","v":-0.14963126003677468},null,{"$f":"N14","v":222},{"$f":"COUNTIF(L75:L109,AD14)","v":1},{"$f":"AE14/(AG4-AE11)","v":2.8571428571428571E-2},{"$f":"IF(AF14=0,0,(AF14*((LOG(AF14))/LOG(2))))","v":-0.14655094334128474},null,{"$f":"N14","v":222},{"$f":"COUNTIF(L110:L143,AI14)","v":0},{"$f":"AJ14/(AL4-AJ11)","v":0},{"$f":"IF(AK14=0,0,(AK14*((LOG(AK14))/LOG(2))))","v":0},null,{"$f":"N14","v":222},{"$f":"COUNTIF(L144:L177,AN14)","v":0},{"$f":"AO14/(AQ4-AO11)","v":0},{"$f":"IF(AP14=0,0,(AP14*((LOG(AP14))/LOG(2))))","v":0},null,{"$f":"N14","v":222},{"$f":"COUNTIF(L178:L211,AS14)","v":0},{"$f":"AT14/(AV4-AT11)","v":0},{"$f":"IF(AU14=0,0,(AU14*((LOG(AU14))/LOG(2))))","v":0}]
[12,1006,13,1011,13,1016,null,null,null,null,0,111,null,null,null,{"$f":"SUM(P7:P14)","v":1},{"$f":"-SUM(Q7:Q14)","v":0.32293000232975033},null,null,null,null,{"$f":"SUM(V7:V14)","v":1},{"$f":"-SUM(W7:W14)","v":0.20062232431271465},null,null,null,{"$f":"SUM(AA7:AA14)","v":1},{"$f":"-SUM(AB7:AB14)","v":0.5115779700152473},null,null,null,{"$f":"SUM(AF7:AF14)","v":1},{"$f":"-SUM(AG7:AG14)","v":0.37313999012128174},null,null,null,{"$f":"SUM(AK7:AK14)","v":1},{"$f":"-SUM(AL7:AL14)","v":0.19143325481419343},null,null,null,{"$f":"SUM(AP7:AP14)","v":1},{"$f":"-SUM(AQ7:AQ14)","v":0},null,null,null,{"$f":"SUM(AU7:AU14)","v":1},{"$f":"-SUM(AV7:AV14)","v":0}]
[12,1117,13,1124,13,1131,null,null,null,null,0,111,null,null,null,"U=",{"$f":"Q15/(LOG(Q4)/LOG(2))","v":4.2051024046607904E-2},null,null,null,null,"U1=",{"$f":"W15/(LOG(W4)/LOG(2))","v":3.9434651529249888E-2},null,null,null,"U2=",{"$f":"AB15/(LOG(AB4)/LOG(2))","v":0.100556600800551},null,null,null,"U3=",{"$f":"AG15/(LOG(AG4)/LOG(2))","v":7.2747007503502173E-2},null,null,null,"U4=",{"$f":"AL15/(LOG(AL4)/LOG(2))","v":3.7628433029919708E-2},null,null,null,"U5=",{"$f":"AQ15/(LOG(AQ4)/LOG(2))","v":0},null,null,null,"U6=",{"$f":"AV15/(LOG(AV4)/LOG(2))","v":0}]
[12,1232,13,1238,13,1242,null,null,null,null,0,111]
[12,1342,13,1346,13,1351,null,null,null,null,0,111]
[12,1451,13,1459,13,1465,null,null,null,null,0,111,null,"Total Target Seq"]
[12,1567,13,1574,13,1580,null,null,null,null,0,111,null,{"$f":"COUNTIF(L7:L211,G3)","v":2},null,34,34,35,34,34,34]
[12,1684,13,1689,13,1700,null,null,null,null,0,111,null,null,null,"% of reinforcement given in 6 equal intervals based on number of trials "]
[12,1805,13,1810,13,1815,null,null,null,null,0,111,null,null,null,"%_1","%_2","%_3","%_4","%_5","%_6"]
[12,1918,13,1923,13,1929,null,null,null,null,0,111,null,null,"target sequence",{"$f":"$G$3","v":211},{"$f":"$G$3","v":211},{"$f":"$G$3","v":211},{"$f":"$G$3","v":211},{"$f":"$G$3","v":211},{"$f":"$G$3","v":211}]
[12,2027,13,2032,13,2036,null,null,null,null,0,111,null,null,"total reinforcement",{"$f":"U11","v":2},{"$f":"Z11","v":0},{"$f":"AE11","v":0},{"$f":"AJ11","v":0},{"$f":"AO11","v":0},{"$f":"AT11","v":0}]
[12,2145,13,2150,13,2158,null,null,null,null,0,111,null,null,"% target"]
[12,2266,13,2282,13,2287,null,null,null,null,0,111,null,null,"CCRF"]
[12,2394,13,2400,13,2410,null,null,null,null,0,111,null,null,"% CCRf"]
[12,2509,13,2514,13,2519,null,null,null,null,0,111,null,null,"average response rate",{"$f":"F40/P20","v":116.55882352941177},{"$f":"(F74-F40)/Q20","v":121.5},{"$f":"(F109-F74)/R20","v":119.57142857142857},{"$f":"(F143-F109)/S20","v":112.91176470588235},{"$f":"(F177-F143)/T20","v":116.5},{"$f":"(F211-F177)/U20","v":113.82352941176471}]
[12,2624,13,2629,13,2635,null,null,null,null,0,111]
[12,2744,13,2749,13,2757,null,null,null,null,0,111]
[12,2864,13,2870,13,2875,null,null,null,null,0,111]
[12,2986,13,2991,13,3005,null,null,null,null,0,111]
[12,3131,13,3137,13,3141,null,null,null,null,0,111]
[12,3240,13,3246,13,3252,null,null,null,null,0,111]
[12,3362,13,3366,13,3371,null,null,null,null,0,111]
[12,3470,13,3475,13,3482,null,null,null,null,0,111]
[12,3592,13,3596,13,3601,null,null,null,null,0,111]
[12,3710,24,3732,24,3738,null,null,null,null,0,122]
[12,3842,13,3847,13,3851,null,null,null,null,0,111]
[12,3953,13,3958,13,3963,null,null,null,null,0,111]
[12,4064,13,4069,13,4075,null,null,null,null,0,111]
[12,4178,13,4185,13,4204,null,null,null,null,0,111]
[21,4327,22,4336,24,4347,null,null,null,null,0,222]
[12,4446,24,4461,24,4467,null,null,null,null,0,122]
[12,4570,24,4591,24,4597,null,null,null,null,0,122]
[12,4705,13,4711,13,4716,null,null,null,null,0,111]
[12,4818,13,4825,13,4842,null,null,null,null,0,111]
[12,4941,13,4948,13,4954,null,null,null,null,0,111]
[12,5080,13,5086,13,5098,null,null,null,null,0,111]
[12,5200,13,5207,13,5217,null,null,null,null,0,111]
[12,5329,13,5338,13,5348,null,null,null,null,0,111]
[12,5465,13,5471,13,5477,null,null,null,null,0,111]
[12,5576,13,5583,13,5591,null,null,null,null,0,111]
[12,5691,13,5696,13,5704,null,null,null,null,0,111]
[12,5812,13,5818,13,5825,null,null,null,null,0,111]
[12,5929,13,5934,13,5939,null,null,null,null,0,111]
[12,6038,13,6044,13,6049,null,null,null,null,0,111]
[12,6148,13,6153,13,6159,null,null,null,null,0,111]
[12,6261,13,6265,13,6270,null,null,null,null,0,111]
[12,6376,13,6383,13,6394,null,null,null,null,0,111]
[12,6502,13,6508,13,6517,null,null,null,null,0,111]
[12,6629,13,6634,13,6642,null,null,null,null,0,111]
[12,6753,13,6761,13,6772,null,null,null,null,0,111]
[12,6874,13,6880,13,6889,null,null,null,null,0,111]
[12,6999,13,7004,13,7013,null,null,null,null,0,111]
[12,7126,13,7135,13,7153,null,null,null,null,0,111]
[12,7259,13,7278,13,7284,null,null,null,null,0,111]
[12,7384,13,7389,13,7394,null,null,null,null,0,111]
[12,7498,13,7503,13,7509,null,null,null,null,0,111]
[12,7616,13,7620,13,7626,null,null,null,null,0,111]
[12,7736,13,7741,13,7747,null,null,null,null,0,111]
[12,7848,13,7853,13,7858,null,null,null,null,0,111]
[12,7969,13,7975,13,7980,null,null,null,null,0,111]
[12,8082,13,8089,13,8094,null,null,null,null,0,111]
[12,8200,13,8206,13,8212,null,null,null,null,0,111]
[12,8319,13,8332,13,8341,null,null,null,null,0,111]
[12,8478,13,8484,13,8490,null,null,null,null,0,111]
[12,8592,13,8598,13,8606,null,null,null,null,0,111]
[12,8705,13,8711,13,8716,null,null,null,null,0,111]
[12,8819,13,8823,13,8827,null,null,null,null,0,111]
[12,8925,13,8932,13,8941,null,null,null,null,0,111]
[12,9042,13,9049,13,9054,null,null,null,null,0,111]
[12,9167,13,9171,13,9177,null,null,null,null,0,111]
[12,9278,13,9284,13,9290,null,null,null,null,0,111]
[12,9394,13,9407,13,9414,null,null,null,null,0,111]
[12,9515,13,9519,13,9525,null,null,null,null,0,111]
[12,9624,13,9631,13,9641,null,null,null,null,0,111]
[12,9748,13,9754,13,9760,null,null,null,null,0,111]
[12,9861,13,9867,13,9873,null,null,null,null,0,111]
[12,9973,13,9978,13,9988,null,null,null,null,0,111]
[12,10087,13,10093,13,10100,null,null,null,null,0,111]
[12,10215,13,10221,13,10228,null,null,null,null,0,111]
[21,10348,22,10357,24,10371,null,null,null,null,0,222]
[12,10476,13,10481,13,10486,null,null,null,null,0,111]
[12,10596,13,10602,13,10624,null,null,null,null,0,111]
[12,10730,13,10736,13,10745,null,null,null,null,0,111]
[12,10849,13,10853,13,10859,null,null,null,null,0,111]
[12,10957,13,10962,13,10966,null,null,null,null,0,111]
[12,11087,13,11092,13,11097,null,null,null,null,0,111]
[12,11197,13,11202,13,11207,null,null,null,null,0,111]
[12,11307,13,11312,13,11317,null,null,null,null,0,111]
[12,11453,13,11459,13,11469,null,null,null,null,0,111]
[12,11567,13,11573,13,11579,null,null,null,null,0,111]
[12,11682,13,11688,13,11696,null,null,null,null,0,111]
[12,11799,13,11804,13,11809,null,null,null,null,0,111]
[12,11908,13,11913,13,11918,null,null,null,null,0,111]
[12,12024,13,12030,13,12037,null,null,null,null,0,111]
[12,12137,13,12143,13,12149,null,null,null,null,0,111]
[12,12257,24,12274,24,12279,null,null,null,null,0,122]
[12,12379,13,12385,13,12391,null,null,null,null,0,111]
[12,12503,13,12509,13,12516,null,null,null,null,0,111]
[12,12616,13,12620,13,12625,null,null,null,null,0,111]
[12,12725,13,12730,13,12734,null,null,null,null,0,111]
[12,12834,13,12839,13,12844,null,null,null,null,0,111]
[12,12940,13,12945,13,12951,null,null,null,null,0,111]
[12,13049,13,13054,13,13060,null,null,null,null,0,111]
[12,13159,13,13164,13,13168,null,null,null,null,0,111]
[12,13266,13,13271,13,13278,null,null,null,null,0,111]
[12,13378,13,13383,13,13388,null,null,null,null,0,111]
[12,13495,13,13500,13,13505,null,null,null,null,0,111]
[12,13604,13,13609,13,13614,null,null,null,null,0,111]
[12,13716,13,13721,13,13726,null,null,null,null,0,111]
[12,13826,13,13831,13,13837,null,null,null,null,0,111]
[12,13935,13,13940,13,13945,null,null,null,null,0,111]
[12,14043,13,14047,13,14053,null,null,null,null,0,111]
[12,14153,13,14158,13,14162,null,null,null,null,0,111]
[12,14260,13,14264,13,14268,null,null,null,null,0,111]
[12,14367,13,14373,13,14381,null,null,null,null,0,111]
[12,14476,13,14482,13,14491,null,null,null,null,0,111]
[12,14588,13,14593,13,14599,null,null,null,null,0,111]
[12,14696,13,14702,13,14707,null,null,null,null,0,111]
[12,14806,13,14811,13,14816,null,null,null,null,0,111]
[12,14915,13,14921,13,14926,null,null,null,null,0,111]
[12,15026,13,15031,13,15038,null,null,null,null,0,111]
[12,15146,13,15151,13,15166,null,null,null,null,0,111]
[12,15270,13,15290,13,15299,null,null,null,null,0,111]
[12,15412,24,15431,24,15438,null,null,null,null,0,122]
[12,15539,13,15546,13,15552,null,null,null,null,0,111]
[12,15650,13,15655,13,15659,null,null,null,null,0,111]
[12,15763,13,15769,13,15779,null,null,null,null,0,111]
[12,15889,13,15895,13,15900,null,null,null,null,0,111]
[12,16001,13,16005,13,16010,null,null,null,null,0,111]
[12,16107,13,16112,13,16118,null,null,null,null,0,111]
[12,16217,13,16223,13,16229,null,null,null,null,0,111]
[12,16328,13,16333,13,16338,null,null,null,null,0,111]
[12,16435,13,16440,13,16445,null,null,null,null,0,111]
[12,16551,13,16557,13,16564,null,null,null,null,0,111]
[12,16687,13,16692,13,16699,null,null,null,null,0,111]
[12,16798,13,16804,13,16812,null,null,null,null,0,111]
[12,16910,13,16916,13,16921,null,null,null,null,0,111]
[12,17025,13,17029,13,17034,null,null,null,null,0,111]
[12,17132,13,17139,13,17144,null,null,null,null,0,111]
[12,17241,13,17248,13,17254,null,null,null,null,0,111]
[12,17358,13,17364,13,17370,null,null,null,null,0,111]
[12,17487,13,17492,13,17497,null,null,null,null,0,111]
[12,17596,13,17602,13,17608,null,null,null,null,0,111]
[12,17714,13,17720,13,17730,null,null,null,null,0,111]
[12,17831,13,17835,13,17841,null,null,null,null,0,111]
[12,17940,13,17946,13,17952,null,null,null,null,0,111]
[12,18051,13,18056,13,18063,null,null,null,null,0,111]
[12,18178,13,18184,13,18192,null,null,null,null,0,111]
[12,18296,13,18303,13,18315,null,null,null,null,0,111]
[12,18415,13,18420,13,18426,null,null,null,null,0,111]
[12,18524,13,18530,13,18537,null,null,null,null,0,111]
[12,18641,13,18646,13,18653,null,null,null,null,0,111]
[12,18767,13,18773,13,18779,null,null,null,null,0,111]
[12,18887,13,18894,13,18903,null,null,null,null,0,111]
[12,19007,13,19014,13,19020,null,null,null,null,0,111]
[12,19118,13,19122,13,19127,null,null,null,null,0,111]
[12,19277,13,19282,13,19291,null,null,null,null,0,111]
[12,19389,13,19394,13,19400,null,null,null,null,0,111]
[12,19497,13,19503,13,19508,null,null,null,null,0,111]
[12,19607,13,19611,13,19616,null,null,null,null,0,111]
[12,19732,13,19738,13,19743,null,null,null,null,0,111]
[12,19853,13,19860,13,19865,null,null,null,null,0,111]
[12,19962,13,19968,13,19972,null,null,null,null,0,111]
[12,20069,13,20074,13,20079,null,null,null,null,0,111]
[12,20185,13,20191,13,20197,null,null,null,null,0,111]
[12,20296,13,20302,13,20308,null,null,null,null,0,111]
[12,20406,13,20410,13,20415,null,null,null,null,0,111]
[12,20513,13,20518,13,20524,null,null,null,null,0,111]
[12,20621,13,20626,13,20633,null,null,null,null,0,111]
[12,20731,13,20736,13,20741,null,null,null,null,0,111]
[12,20842,13,20849,13,20855,null,null,null,null,0,111]
[12,20955,13,20960,13,20965,null,null,null,null,0,111]
[12,21062,13,21067,13,21074,null,null,null,null,0,111]
[12,21172,13,21178,13,21184,null,null,null,null,0,111]
[12,21287,13,21291,13,21298,null,null,null,null,0,111]
[12,21397,13,21401,13,21405,null,null,null,null,0,111]
[12,21505,13,21509,13,21513,null,null,null,null,0,111]
[12,21609,13,21621,13,21629,null,null,null,null,0,111]
[12,21730,13,21737,13,21743,null,null,null,null,0,111]
[12,21842,13,21849,13,21865,null,null,null,null,0,111]
[12,21977,13,21982,13,21989,null,null,null,null,0,111]
[12,22088,13,22094,13,22100,null,null,null,null,0,111]
[12,22198,13,22203,13,22208,null,null,null,null,0,111]
[12,22308,13,22312,13,22318,null,null,null,null,0,111]
[12,22416,13,22422,13,22427,null,null,null,null,0,111]
[12,22526,13,22554,13,22574,null,null,null,null,0,111]
[12,22672,13,22677,13,22683,null,null,null,null,0,111]
[12,22782,13,22787,13,22793,null,null,null,null,0,111]
[12,22890,13,22895,13,22902,null,null,null,null,0,111]
[12,23001,13,23007,13,23015,null,null,null,null,0,111]
[12,23120,13,23126,13,23132,null,null,null,null,0,111]
[12,23245,13,23251,13,23260,null,null,null,null,0,111]
[12,23359,13,23365,13,23371,null,null,null,null,0,111]
[12,23468,13,23474,13,23480,null,null,null,null,0,111]
[12,23581,13,23586,13,23590,null,null,null,null,0,111]
[12,23691,13,23698,13,23707,null,null,null,null,0,111]
[12,23804,13,23818,13,23827,null,null,null,null,0,111]
[12,23925,13,23930,13,23949,null,null,null,null,null,111]