{"text_format":"1","workbook":"xlsx","n_sheets":34,"sheets":["Sample Report","Summary","Start","!N120900.091","!N121850.091","!N122740.091","!N123910.091","!N124840.091","!N125840.091","!N126810.091","!N127930.091","!N128800.091","!N129850.091","!N130910.091","!N131810.091","!N201910.091","!N202920.091","!N203940.091","!N204840.091","!N206800.091","!N207740.091","!N210800.091","!N211820.091","!N212840.091","!N213820.091","!N214830.091","!N216810.091","!N217850.091","!N218830.091","!N219920.091","!N220840.091","!N221830.091","!N223850.091","!N224910.091"],"not_rendered":{"charts":0,"images":0,"macros":1,"external_links":0,"defined_names":0,"comments":0,"pivot_tables":0},"unopened":[],"bounds":{"document_bytes":16777216,"sheet_cells":100000,"rows_first":2000,"rows_last":500,"rows_between":2000,"halvings":0,"cell_chars":16384,"cell_head_chars":4096},"cells_cut":0,"cells_raw":0,"read":"whole","date_system":"1900"}

{"sheet":"Sample Report","index":0,"n_rows":12,"n_cols":11,"rows_kept":12,"cut":false,"hidden":true,"merged":[[7,0,7,6]]}
[]
["Date"]
["Hen"]
["Program"]
["Start at 999999"]
["Sequence component 1","Time 1","Seqeunce Component 2","Time 2","Seqeunce Component 3","Time 3","Correct   0 = No 1=Yes",null,null,"Seqeunce","Time"]
[12,7,12,42,13,18,"if 77 new line,                                  if 31 or 41 = yes new line on 77, ",null,null,"=string of Seqeunce compponent 1, 2 & 3","=time 3"]
["This continues until ther is a 1 on its own to indicate start of summary data"]
[null,null,null,null,null,null,null,null,null,"10-19 =1"]
["Summary Data ",null,null,null,null,null,null,null,null,"20-29 =2"]
["Correct","Incorrect","Rft","total","Av Correct","Av Incorrect","Percent correct","Time",null,"in this example the seqeunce would be 111"]
[40,33,40,73,23.95,15,54,806]

{"sheet":"Summary","index":1,"n_rows":33,"n_cols":24,"rows_kept":33,"cut":false,"hidden":false,"merged":[]}
[]
["Day","Date","Average Response Rate","Target %","RF for non correct sequence","U Value",null,null,null,null,"Block 1","Block 2","Block 3","Block 4","Block 5","Block 6"]
[1,{"$f":"'!N120900.091'!B2:C2","v":"<date>"},{"$f":"('!N120900.091'!J152/60)/'!N120900.091'!Q3","v":2.7355022831050229},{"$f":"'!N120900.091'!N44/'!N120900.091'!Q3","v":0},{"$f":"SUM('!N120900.091'!L44:Q44)/'!N120900.091'!Q3","v":84.047945205479451},{"$f":"'!N120900.091'!Q40","v":0.33481614606693433},null,null,null,"Average Response Rate",{"$f":"AVERAGE(C3:C7)","v":3.2320497247331765},{"$f":"AVERAGE(C8:C12)","v":2.784211048144019},{"$f":"AVERAGE(C13:C17)","v":4.2994510087314186},{"$f":"AVERAGE(C18:C22)","v":2.8143510086773071},{"$f":"AVERAGE(C23:C27)","v":2.6338595876034212},{"$f":"AVERAGE(C28:C32)","v":5.1919721281501392}]
[2,{"$f":"'!N121850.091'!B2:C2","v":"<date>"},{"$f":"('!N121850.091'!J136/60)/'!N121850.091'!Q3","v":3.0391857506361322},{"$f":"'!N121850.091'!N44/'!N121850.091'!Q3","v":7.6335877862595417E-3},{"$f":"SUM('!N121850.091'!L44:Q44)/'!N121850.091'!Q3","v":92.877862595419842},{"$f":"'!N121850.091'!Q40","v":0.56758077316142808},null,null,null,"Target %",{"$f":"AVERAGE(D3:D7)","v":1.0737243873041381E-2},{"$f":"AVERAGE(D8:D12)","v":2.8785148024278458E-2},{"$f":"AVERAGE(D13:D17)","v":4.4812848513777703E-2},{"$f":"AVERAGE(D18:D22)","v":3.0687853854636016E-2},{"$f":"AVERAGE(D23:D27)","v":3.6959354255382985E-2},{"$f":"AVERAGE(D28:D32)","v":5.2772216073732878E-2}]
[3,{"$f":"'!N122740.091'!B2:C2","v":"<date>"},{"$f":"('!N122740.091'!J132/60)/'!N122740.091'!Q3","v":3.1224409448818897},{"$f":"'!N122740.091'!N44/'!N122740.091'!Q3","v":0},{"$f":"SUM('!N122740.091'!L44:Q44)/'!N122740.091'!Q3","v":88.614173228346459},{"$f":"'!N122740.091'!Q40","v":0.54071547425490429},null,null,null,"CCRF",{"$f":"AVERAGE(E3:E7)","v":130.37045030621636},{"$f":"AVERAGE(E8:E12)","v":141.01791217639044},{"$f":"AVERAGE(E13:E17)","v":117.28213623064229},{"$f":"AVERAGE(E18:E22)","v":139.62674103755603},{"$f":"AVERAGE(E23:E27)","v":103.55258768381036},{"$f":"AVERAGE(E28:E32)","v":102.30285934485794}]
[4,{"$f":"'!N123910.091'!B2:C2","v":"<date>"},{"$f":"('!N123910.091'!J92/60)/'!N123910.091'!Q3","v":4.6461240310077523},{"$f":"'!N123910.091'!N44/'!N123910.091'!Q3","v":0},{"$f":"SUM('!N123910.091'!L44:Q44)/'!N123910.091'!Q3","v":246.97674418604652},{"$f":"'!N123910.091'!Q40","v":0.53789783457270501},null,null,null,"U Value",{"$f":"AVERAGE(F3:F7)","v":0.49598630227383228},{"$f":"AVERAGE(F8:F12)","v":0.47908071649607897},{"$f":"AVERAGE(F13:F17)","v":0.59369177289049646},{"$f":"AVERAGE(F18:F22)","v":0.55621875360285855},{"$f":"AVERAGE(F23:F27)","v":0.53129089962760356},{"$f":"AVERAGE(F28:F32)","v":0.54921123915511083}]
[5,{"$f":"'!N124840.091'!B2:C2","v":"<date>"},{"$f":"('!N124840.091'!J157/60)/'!N124840.091'!Q3","v":2.6169956140350878},{"$f":"'!N124840.091'!N44/'!N124840.091'!Q3","v":4.6052631578947366E-2},{"$f":"SUM('!N124840.091'!L44:Q44)/'!N124840.091'!Q3","v":139.33552631578948},{"$f":"'!N124840.091'!Q40","v":0.49892128331318963}]
[6,{"$f":"'!N125840.091'!B2:C2","v":"<date>"},{"$f":"('!N125840.091'!J162/60)/'!N125840.091'!Q3","v":2.5626068376068374},{"$f":"'!N125840.091'!N44/'!N125840.091'!Q3","v":4.4871794871794872E-2},{"$f":"SUM('!N125840.091'!L44:Q44)/'!N125840.091'!Q3","v":71.602564102564102},{"$f":"'!N125840.091'!Q40","v":0.52574404300701094}]
[7,{"$f":"'!N126810.091'!B2:C2","v":"<date>"},{"$f":"('!N126810.091'!J150/60)/'!N126810.091'!Q3","v":2.7641203703703705},{"$f":"'!N126810.091'!N44/'!N126810.091'!Q3","v":4.1666666666666664E-2},{"$f":"SUM('!N126810.091'!L44:Q44)/'!N126810.091'!Q3","v":153.93055555555554},{"$f":"'!N126810.091'!Q40","v":0.50011671162432214},{"$f":"K3","v":3.2320497247331765},2.784211048144019,4.2994510087314186,2.8143510086773071,2.6338595876034212,5.1919721281501392,{"$f":"K4","v":1.0737243873041381E-2},2.8785148024278458E-2,4.4812848513777703E-2,3.0687853854636016E-2,3.6959354255382985E-2,5.2772216073732878E-2,{"$f":"K6","v":0.49598630227383228},0.47908071649607897,0.59369177289049646,0.55621875360285855,0.53129089962760356,0.54921123915511083]
[8,{"$f":"'!N127930.091'!B2:C2","v":"<date>"},{"$f":"('!N127930.091'!J140/60)/'!N127930.091'!Q3","v":2.9439506172839507},{"$f":"'!N127930.091'!N44/'!N127930.091'!Q3","v":1.4814814814814815E-2},{"$f":"SUM('!N127930.091'!L44:Q44)/'!N127930.091'!Q3","v":164.2074074074074},{"$f":"'!N127930.091'!Q40","v":0.4172917456252207}]
[9,{"$f":"'!N128800.091'!B2:C2","v":"<date>"},{"$f":"('!N128800.091'!J144/60)/'!N128800.091'!Q3","v":2.8951690821256042},{"$f":"'!N128800.091'!N44/'!N128800.091'!Q3","v":2.1739130434782608E-2},{"$f":"SUM('!N128800.091'!L44:Q44)/'!N128800.091'!Q3","v":161.37681159420291},{"$f":"'!N128800.091'!Q40","v":0.46449027999497972}]
[10,{"$f":"'!N129850.091'!B2:C2","v":"<date>"},{"$f":"('!N129850.091'!J149/60)/'!N129850.091'!Q3","v":2.7552083333333335},{"$f":"'!N129850.091'!N44/'!N129850.091'!Q3","v":2.0833333333333332E-2},{"$f":"SUM('!N129850.091'!L44:Q44)/'!N129850.091'!Q3","v":153.97222222222223},{"$f":"'!N129850.091'!Q40","v":0.48776080222886115}]
[11,{"$f":"'!N130910.091'!B2:C2","v":"<date>"},{"$f":"('!N130910.091'!J86/60)/'!N130910.091'!Q3","v":4.8227083333333329},{"$f":"'!N130910.091'!N44/'!N130910.091'!Q3","v":1.2500000000000001E-2},{"$f":"SUM('!N130910.091'!L44:Q44)/'!N130910.091'!Q3","v":139.25},{"$f":"'!N130910.091'!Q40","v":0.62343854235906138}]
[12,{"$f":"'!N131810.091'!B2:C2","v":"<date>"},{"$f":"('!N131810.091'!J155/60)/'!N131810.091'!Q3","v":2.68165548098434},{"$f":"'!N131810.091'!N44/'!N131810.091'!Q3","v":4.6979865771812082E-2},{"$f":"SUM('!N131810.091'!L44:Q44)/'!N131810.091'!Q3","v":142.13422818791946},{"$f":"'!N131810.091'!Q40","v":0.6011098602273216}]
[13,{"$f":"'!N201910.091'!B2:C2","v":"<date>"},{"$f":"('!N201910.091'!J142/60)/'!N201910.091'!Q3","v":2.9370098039215686},{"$f":"'!N201910.091'!N44/'!N201910.091'!Q3","v":4.4117647058823532E-2},{"$f":"SUM('!N201910.091'!L44:Q44)/'!N201910.091'!Q3","v":163.76470588235293},{"$f":"'!N201910.091'!Q40","v":0.56640468819040057}]
[14,{"$f":"'!N202920.091'!B2:C2","v":"<date>"},{"$f":"('!N202920.091'!J27/60)/'!N202920.091'!Q3","v":8.4095238095238098},{"$f":"'!N202920.091'!N44/'!N202920.091'!Q3","v":4.7619047619047616E-2},{"$f":"SUM('!N202920.091'!L44:Q44)/'!N202920.091'!Q3","v":0.38095238095238093},{"$f":"'!N202920.091'!Q40","v":0.6053024877378419}]
[15,{"$f":"'!N203940.091'!B2:C2","v":"<date>"},{"$f":"('!N203940.091'!J157/60)/'!N203940.091'!Q3","v":2.6463576158940398},{"$f":"'!N203940.091'!N44/'!N203940.091'!Q3","v":7.2847682119205295E-2},{"$f":"SUM('!N203940.091'!L44:Q44)/'!N203940.091'!Q3","v":140.88079470198676},{"$f":"'!N203940.091'!Q40","v":0.57220328593785641}]
[16,{"$f":"'!N204840.091'!B2:C2","v":"<date>"},{"$f":"('!N204840.091'!J135/60)/'!N204840.091'!Q3","v":3.1001291989664086},{"$f":"'!N204840.091'!N44/'!N204840.091'!Q3","v":2.3255813953488372E-2},{"$f":"SUM('!N204840.091'!L44:Q44)/'!N204840.091'!Q3","v":86.488372093023258},{"$f":"'!N204840.091'!Q40","v":0.59369360477071886}]
[17,{"$f":"'!N206800.091'!B2:C2","v":"<date>"},{"$f":"('!N206800.091'!J151/60)/'!N206800.091'!Q3","v":2.7229452054794523},{"$f":"'!N206800.091'!N44/'!N206800.091'!Q3","v":4.1095890410958902E-2},{"$f":"SUM('!N206800.091'!L44:Q44)/'!N206800.091'!Q3","v":151.89041095890411},{"$f":"'!N206800.091'!Q40","v":0.55707808385534485}]
[18,{"$f":"'!N207740.091'!B2:C2","v":"<date>"},{"$f":"('!N207740.091'!J143/60)/'!N207740.091'!Q3","v":2.9069343065693429},{"$f":"'!N207740.091'!N44/'!N207740.091'!Q3","v":2.1897810218978103E-2},{"$f":"SUM('!N207740.091'!L44:Q44)/'!N207740.091'!Q3","v":161.82481751824818},{"$f":"'!N207740.091'!Q40","v":0.53899333609183808}]
[19,{"$f":"'!N210800.091'!B2:C2","v":"<date>"},{"$f":"('!N210800.091'!J149/60)/'!N210800.091'!Q3","v":2.7612268518518519},{"$f":"'!N210800.091'!N44/'!N210800.091'!Q3","v":3.4722222222222224E-2},{"$f":"SUM('!N210800.091'!L44:Q44)/'!N210800.091'!Q3","v":153.92361111111111},{"$f":"'!N210800.091'!Q40","v":0.52762345607622751}]
[20,{"$f":"'!N211820.091'!B2:C2","v":"<date>"},{"$f":"('!N211820.091'!J159/60)/'!N211820.091'!Q3","v":2.5805194805194804},{"$f":"'!N211820.091'!N44/'!N211820.091'!Q3","v":3.2467532467532464E-2},{"$f":"SUM('!N211820.091'!L44:Q44)/'!N211820.091'!Q3","v":144.00649350649351},{"$f":"'!N211820.091'!Q40","v":0.56370528722016333}]
[21,{"$f":"'!N212840.091'!B2:C2","v":"<date>"},{"$f":"('!N212840.091'!J154/60)/'!N212840.091'!Q3","v":2.6994369369369369},{"$f":"'!N212840.091'!N44/'!N212840.091'!Q3","v":4.72972972972973E-2},{"$f":"SUM('!N212840.091'!L44:Q44)/'!N212840.091'!Q3","v":143.70270270270271},{"$f":"'!N212840.091'!Q40","v":0.60471963396785344}]
[22,{"$f":"'!N213820.091'!B2:C2","v":"<date>"},{"$f":"('!N213820.091'!J155/60)/'!N213820.091'!Q3","v":2.6806487695749444},{"$f":"'!N213820.091'!N44/'!N213820.091'!Q3","v":3.3557046979865772E-2},{"$f":"SUM('!N213820.091'!L44:Q44)/'!N213820.091'!Q3","v":148.7718120805369},{"$f":"'!N213820.091'!Q40","v":0.5395976429375573}]
[23,{"$f":"'!N214830.091'!B2:C2","v":"<date>"},{"$f":"('!N214830.091'!J163/60)/'!N214830.091'!Q3","v":2.5382165605095541},{"$f":"'!N214830.091'!N44/'!N214830.091'!Q3","v":5.0955414012738856E-2},{"$f":"SUM('!N214830.091'!L44:Q44)/'!N214830.091'!Q3","v":71.789808917197448},{"$f":"'!N214830.091'!Q40","v":0.5148833366886415}]
[24,{"$f":"'!N216810.091'!B2:C2","v":"<date>"},{"$f":"('!N216810.091'!J160/60)/'!N216810.091'!Q3","v":2.5876623376623376},{"$f":"'!N216810.091'!N44/'!N216810.091'!Q3","v":1.2987012987012988E-2},{"$f":"SUM('!N216810.091'!L44:Q44)/'!N216810.091'!Q3","v":79.051948051948045},{"$f":"'!N216810.091'!Q40","v":0.47443103379021956}]
[25,{"$f":"'!N217850.091'!B2:C2","v":"<date>"},{"$f":"('!N217850.091'!J156/60)/'!N217850.091'!Q3","v":2.6633333333333336},{"$f":"'!N217850.091'!N44/'!N217850.091'!Q3","v":0.04},{"$f":"SUM('!N217850.091'!L44:Q44)/'!N217850.091'!Q3","v":74.446666666666673},{"$f":"'!N217850.091'!Q40","v":0.52282285075374613}]
[26,{"$f":"'!N218830.091'!B2:C2","v":"<date>"},{"$f":"('!N218830.091'!J152/60)/'!N218830.091'!Q3","v":2.722716894977169},{"$f":"'!N218830.091'!N44/'!N218830.091'!Q3","v":5.4794520547945202E-2},{"$f":"SUM('!N218830.091'!L44:Q44)/'!N218830.091'!Q3","v":152.52739726027397},{"$f":"'!N218830.091'!Q40","v":0.57701957117770164}]
[27,{"$f":"'!N219920.091'!B2:C2","v":"<date>"},{"$f":"('!N219920.091'!J158/60)/'!N219920.091'!Q3","v":2.6217105263157894},{"$f":"'!N219920.091'!N44/'!N219920.091'!Q3","v":5.921052631578947E-2},{"$f":"SUM('!N219920.091'!L44:Q44)/'!N219920.091'!Q3","v":145.92763157894737},{"$f":"'!N219920.091'!Q40","v":0.53548752460743165}]
[28,{"$f":"'!N220840.091'!B2:C2","v":"<date>"},{"$f":"('!N220840.091'!J32/60)/'!N220840.091'!Q3","v":15.342307692307692},{"$f":"'!N220840.091'!N44/'!N220840.091'!Q3","v":0},{"$f":"SUM('!N220840.091'!L44:Q44)/'!N220840.091'!Q3","v":0.34615384615384615},{"$f":"'!N220840.091'!Q40","v":0.62062037108129964}]
[29,{"$f":"'!N221830.091'!B2:C2","v":"<date>"},{"$f":"('!N221830.091'!J152/60)/'!N221830.091'!Q3","v":2.7391552511415527},{"$f":"'!N221830.091'!N44/'!N221830.091'!Q3","v":4.7945205479452052E-2},{"$f":"SUM('!N221830.091'!L44:Q44)/'!N221830.091'!Q3","v":77.178082191780817},{"$f":"'!N221830.091'!Q40","v":0.5098687223023749}]
[30,{"$f":"'!N223850.091'!B2:C2","v":"<date>"},{"$f":"('!N223850.091'!J162/60)/'!N223850.091'!Q3","v":2.5339702760084926},{"$f":"'!N223850.091'!N44/'!N223850.091'!Q3","v":0.10191082802547771},{"$f":"SUM('!N223850.091'!L44:Q44)/'!N223850.091'!Q3","v":135.53503184713375},{"$f":"'!N223850.091'!Q40","v":0.5030600066067461}]
[null,{"$f":"'!N224910.091'!B2:C2","v":"<date>"},{"$f":"('!N224910.091'!J57/60)/'!N224910.091'!Q3","v":7.8385620915032677},{"$f":"'!N224910.091'!N44/'!N224910.091'!Q3","v":3.9215686274509803E-2},{"$f":"SUM('!N224910.091'!L44:Q44)/'!N224910.091'!Q3","v":218.43137254901961},{"$f":"'!N224910.091'!Q40","v":0.5467941410864009}]

{"sheet":"Start","index":2,"n_rows":37,"n_cols":10,"rows_kept":37,"cut":false,"hidden":false,"merged":[]}
[null,null,null,null,null,"Use Folder 51",null,"Auto Clean Up",null,"Correct sequence"]
[null,null,null,null,null,false,null,true,null,21121]
[]
["Working with Folder",null,null,null,null,null,"Process All/Or Pick A number: ALL or an integer"]
["E:\\Hen Data\\Raw Data\\91_17\\phase 5 var\\",null,null,null,null,null,"ALL"]
["Filenames:"]
["!N129850.091",null,null,null,null,null,"Paint Cells"]
["!N130910.091",null,null,null,null,null,false]
["!N131810.091"]
["!N201910.091"]
["!N202920.091"]
["!N203940.091"]
["!N204840.091"]
["!N206800.091"]
["!N207740.091"]
["!N210800.091"]
["!N211820.091"]
["!N212840.091"]
["!N213820.091"]
["!N214830.091"]
["!N216810.091"]
["!N217850.091"]
["!N218830.091"]
["!N219920.091"]
["!N220840.091"]
["!N221830.091"]
["!N223850.091"]
["!N224910.091"]
["!N120900.091"]
["!N121850.091"]
["!N122740.091"]
["!N123910.091"]
["!N124840.091"]
["!N125840.091"]
["!N126810.091"]
["!N127930.091"]
["!N128800.091"]

{"sheet":"!N120900.091","index":3,"n_rows":152,"n_cols":48,"rows_kept":152,"cut":false,"hidden":false,"merged":[[4,39,4,42],[5,39,5,40],[4,44,4,47],[5,44,5,45],[4,24,4,27],[5,24,5,25],[4,29,4,32],[5,29,5,30],[4,34,4,37],[5,34,5,35],[1,1,1,2],[5,13,5,14],[42,13,42,14],[43,13,43,14],[4,19,4,22],[5,19,5,20]]}
["Report for:!N120900.091"]
["Date:","<date>"]
["Hen:","<hen>",null,null,null,"Correct Sequence",{"$f":"Start!J2","v":21121},null,null,null,null,null,null,null,null,"Total Sequences in Data",{"$f":"4994-COUNTBLANK(L7:L5000)","v":146},null,null,null,null,"Total Sequences in Block Data",{"$f":"COUNTA(L7:L30)","v":24},null,null,null,"Total Sequences in Block Data",{"$f":"COUNTA(L31:L55)","v":25},null,null,null,"Total Sequences in Block Data",{"$f":"COUNTA(L56:L79)","v":24},null,null,null,"Total Sequences in Block Data",{"$f":"COUNTA(L80:L103)","v":24},null,null,null,"Total Sequences in Block Data",{"$f":"COUNTA(L104:L128)","v":25},null,null,null,"Total Sequences in Block Data",{"$f":"COUNTA(L129:L152)","v":24}]
[null,null,null,null,null,null,null,null,null,null,null,null,null,null,null,"Total Sequences in Summary",{"$f":"SUM(O7:O38)","v":146},null,null,null,null,"Total Sequences in Block Summary",{"$f":"SUM(U7:U38)","v":24},null,null,null,"Total Sequences in Block Summary",{"$f":"SUM(Z7:Z38)","v":25},null,null,null,"Total Sequences in Block Summary",{"$f":"SUM(AE7:AE38)","v":24},null,null,null,"Total Sequences in Block Summary",{"$f":"SUM(AJ7:AJ38)","v":24},null,null,null,"Total Sequences in Block Summary",{"$f":"SUM(AO7:AO38)","v":25},null,null,null,"Total Sequences in Block Summary",{"$f":"SUM(AT7:AT38)","v":24}]
[null,null,null,null,null,null,null,null,null,null,null,null,null,null,null,null,null,null,null,"Block 1",null,null,null,null,"Block 2",null,null,null,null,"Block 3",null,null,null,null,"Block 4",null,null,null,null,"Block 5",null,null,null,null,"Block 6"]
["Sequence\nComponent\n1","Time\n1","Sequence\nComponent\n2","Time\n2","Sequence\nComponent\n3","Time\n3","Sequence\nComponent\n4","Time\n4","Sequence\nComponent\n5","Time\n5","Correct?\n0=No 1=Yes","Sequence",null,"Frequency",null,"Relative Frequency","Variability",null,null,"Frequency",null,"Relative Frequency","Variability",null,"Frequency",null,"Relative Frequency","Variability",null,"Frequency",null,"Relative Frequency","Variability",null,"Frequency",null,"Relative Frequency","Variability",null,"Frequency",null,"Relative Frequency","Variability",null,"Frequency",null,"Relative Frequency","Variability"]
[12,11,24,23,24,33,23,46,24,57,0,12222,null,11111,{"$f":"COUNTIF($L$7:$L$500,N7)","v":0},{"$f":"O7/$Q$4","v":0},{"$f":"IF(P7=0,0,(P7*((LOG(P7))/LOG(2))))","v":0},null,null,{"$f":"N7","v":11111},{"$f":"COUNTIF(L7:L30,T7)","v":0},{"$f":"U7/(W4-U25)","v":0},{"$f":"IF(V7=0,0,(V7*((LOG(V7))/LOG(2))))","v":0},null,{"$f":"N7","v":11111},{"$f":"COUNTIF(L31:L55,Y7)","v":0},{"$f":"Z7/(AB4-Z25)","v":0},{"$f":"IF(AA7=0,0,(AA7*((LOG(AA7))/LOG(2))))","v":0},null,{"$f":"N7","v":11111},{"$f":"COUNTIF(L56:L79,AD7)","v":0},{"$f":"AE7/(AG4-AE25)","v":0},{"$f":"IF(AF7=0,0,(AF7*((LOG(AF7))/LOG(2))))","v":0},null,{"$f":"N7","v":11111},{"$f":"COUNTIF(L80:L103,AI7)","v":0},{"$f":"AJ7/(AL4-AJ25)","v":0},{"$f":"IF(AK7=0,0,(AK7*((LOG(AK7))/LOG(2))))","v":0},null,{"$f":"N7","v":11111},{"$f":"COUNTIF(L104:L128,AN7)","v":0},{"$f":"AO7/(AQ4-AO25)","v":0},{"$f":"IF(AP7=0,0,(AP7*((LOG(AP7))/LOG(2))))","v":0},null,{"$f":"N7","v":11111},{"$f":"COUNTIF(L129:L152,AS7)","v":0},{"$f":"AT7/(AV4-AT25)","v":0},{"$f":"IF(AU7=0,0,(AU7*((LOG(AU7))/LOG(2))))","v":0}]
[12,153,24,167,24,184,23,205,24,216,0,12222,null,11112,{"$f":"COUNTIF($L$7:$L$500,N8)","v":0},{"$f":"O8/$Q$4","v":0},{"$f":"IF(P8=0,0,(P8*((LOG(P8))/LOG(2))))","v":0},null,null,{"$f":"N8","v":11112},{"$f":"COUNTIF(L7:L30,T8)","v":0},{"$f":"U8/(W4-U25)","v":0},{"$f":"IF(V8=0,0,(V8*((LOG(V8))/LOG(2))))","v":0},null,{"$f":"N8","v":11112},{"$f":"COUNTIF(L31:L55,Y8)","v":0},{"$f":"Z8/(AB4-Z25)","v":0},{"$f":"IF(AA8=0,0,(AA8*((LOG(AA8))/LOG(2))))","v":0},null,{"$f":"N8","v":11112},{"$f":"COUNTIF(L56:L79,AD8)","v":0},{"$f":"AE8/(AG4-AE25)","v":0},{"$f":"IF(AF8=0,0,(AF8*((LOG(AF8))/LOG(2))))","v":0},null,{"$f":"N8","v":11112},{"$f":"COUNTIF(L80:L103,AI8)","v":0},{"$f":"AJ8/(AL4-AJ25)","v":0},{"$f":"IF(AK8=0,0,(AK8*((LOG(AK8))/LOG(2))))","v":0},null,{"$f":"N8","v":11112},{"$f":"COUNTIF(L104:L128,AN8)","v":0},{"$f":"AO8/(AQ4-AO25)","v":0},{"$f":"IF(AP8=0,0,(AP8*((LOG(AP8))/LOG(2))))","v":0},null,{"$f":"N8","v":11112},{"$f":"COUNTIF(L129:L152,AS8)","v":0},{"$f":"AT8/(AV4-AT25)","v":0},{"$f":"IF(AU8=0,0,(AU8*((LOG(AU8))/LOG(2))))","v":0}]
[12,314,13,316,24,329,23,341,13,354,0,11221,null,11121,{"$f":"COUNTIF($L$7:$L$500,N9)","v":0},{"$f":"O9/$Q$4","v":0},{"$f":"IF(P9=0,0,(P9*((LOG(P9))/LOG(2))))","v":0},null,null,{"$f":"N9","v":11121},{"$f":"COUNTIF(L7:L30,T9)","v":0},{"$f":"U9/(W4-U25)","v":0},{"$f":"IF(V9=0,0,(V9*((LOG(V9))/LOG(2))))","v":0},null,{"$f":"N9","v":11121},{"$f":"COUNTIF(L31:L55,Y9)","v":0},{"$f":"Z9/(AB4-Z25)","v":0},{"$f":"IF(AA9=0,0,(AA9*((LOG(AA9))/LOG(2))))","v":0},null,{"$f":"N9","v":11121},{"$f":"COUNTIF(L56:L79,AD9)","v":0},{"$f":"AE9/(AG4-AE25)","v":0},{"$f":"IF(AF9=0,0,(AF9*((LOG(AF9))/LOG(2))))","v":0},null,{"$f":"N9","v":11121},{"$f":"COUNTIF(L80:L103,AI9)","v":0},{"$f":"AJ9/(AL4-AJ25)","v":0},{"$f":"IF(AK9=0,0,(AK9*((LOG(AK9))/LOG(2))))","v":0},null,{"$f":"N9","v":11121},{"$f":"COUNTIF(L104:L128,AN9)","v":0},{"$f":"AO9/(AQ4-AO25)","v":0},{"$f":"IF(AP9=0,0,(AP9*((LOG(AP9))/LOG(2))))","v":0},null,{"$f":"N9","v":11121},{"$f":"COUNTIF(L129:L152,AS9)","v":0},{"$f":"AT9/(AV4-AT25)","v":0},{"$f":"IF(AU9=0,0,(AU9*((LOG(AU9))/LOG(2))))","v":0}]
[12,455,24,466,24,474,23,484,24,506,0,12222,null,11122,{"$f":"COUNTIF($L$7:$L$500,N10)","v":2},{"$f":"O10/$Q$4","v":1.3698630136986301E-2},{"$f":"IF(P10=0,0,(P10*((LOG(P10))/LOG(2))))","v":-8.4792117244931728E-2},null,null,{"$f":"N10","v":11122},{"$f":"COUNTIF(L7:L30,T10)","v":0},{"$f":"U10/(W4-U25)","v":0},{"$f":"IF(V10=0,0,(V10*((LOG(V10))/LOG(2))))","v":0},null,{"$f":"N10","v":11122},{"$f":"COUNTIF(L31:L55,Y10)","v":0},{"$f":"Z10/(AB4-Z25)","v":0},{"$f":"IF(AA10=0,0,(AA10*((LOG(AA10))/LOG(2))))","v":0},null,{"$f":"N10","v":11122},{"$f":"COUNTIF(L56:L79,AD10)","v":0},{"$f":"AE10/(AG4-AE25)","v":0},{"$f":"IF(AF10=0,0,(AF10*((LOG(AF10))/LOG(2))))","v":0},null,{"$f":"N10","v":11122},{"$f":"COUNTIF(L80:L103,AI10)","v":1},{"$f":"AJ10/(AL4-AJ25)","v":4.1666666666666664E-2},{"$f":"IF(AK10=0,0,(AK10*((LOG(AK10))/LOG(2))))","v":-0.19104010419671485},null,{"$f":"N10","v":11122},{"$f":"COUNTIF(L104:L128,AN10)","v":0},{"$f":"AO10/(AQ4-AO25)","v":0},{"$f":"IF(AP10=0,0,(AP10*((LOG(AP10))/LOG(2))))","v":0},null,{"$f":"N10","v":11122},{"$f":"COUNTIF(L129:L152,AS10)","v":1},{"$f":"AT10/(AV4-AT25)","v":4.1666666666666664E-2},{"$f":"IF(AU10=0,0,(AU10*((LOG(AU10))/LOG(2))))","v":-0.19104010419671485}]
[12,608,24,621,24,630,23,642,24,650,0,12222,null,11211,{"$f":"COUNTIF($L$7:$L$500,N11)","v":0},{"$f":"O11/$Q$4","v":0},{"$f":"IF(P11=0,0,(P11*((LOG(P11))/LOG(2))))","v":0},null,null,{"$f":"N11","v":11211},{"$f":"COUNTIF(L7:L30,T11)","v":0},{"$f":"U11/(W4-U25)","v":0},{"$f":"IF(V11=0,0,(V11*((LOG(V11))/LOG(2))))","v":0},null,{"$f":"N11","v":11211},{"$f":"COUNTIF(L31:L55,Y11)","v":0},{"$f":"Z11/(AB4-Z25)","v":0},{"$f":"IF(AA11=0,0,(AA11*((LOG(AA11))/LOG(2))))","v":0},null,{"$f":"N11","v":11211},{"$f":"COUNTIF(L56:L79,AD11)","v":0},{"$f":"AE11/(AG4-AE25)","v":0},{"$f":"IF(AF11=0,0,(AF11*((LOG(AF11))/LOG(2))))","v":0},null,{"$f":"N11","v":11211},{"$f":"COUNTIF(L80:L103,AI11)","v":0},{"$f":"AJ11/(AL4-AJ25)","v":0},{"$f":"IF(AK11=0,0,(AK11*((LOG(AK11))/LOG(2))))","v":0},null,{"$f":"N11","v":11211},{"$f":"COUNTIF(L104:L128,AN11)","v":0},{"$f":"AO11/(AQ4-AO25)","v":0},{"$f":"IF(AP11=0,0,(AP11*((LOG(AP11))/LOG(2))))","v":0},null,{"$f":"N11","v":11211},{"$f":"COUNTIF(L129:L152,AS11)","v":0},{"$f":"AT11/(AV4-AT25)","v":0},{"$f":"IF(AU11=0,0,(AU11*((LOG(AU11))/LOG(2))))","v":0}]
[12,752,24,782,24,863,23,871,24,894,0,12222,null,11212,{"$f":"COUNTIF($L$7:$L$500,N12)","v":1},{"$f":"O12/$Q$4","v":6.8493150684931503E-3},{"$f":"IF(P12=0,0,(P12*((LOG(P12))/LOG(2))))","v":-4.9245373690959021E-2},null,null,{"$f":"N12","v":11212},{"$f":"COUNTIF(L7:L30,T12)","v":0},{"$f":"U12/(W4-U25)","v":0},{"$f":"IF(V12=0,0,(V12*((LOG(V12))/LOG(2))))","v":0},null,{"$f":"N12","v":11212},{"$f":"COUNTIF(L31:L55,Y12)","v":0},{"$f":"Z12/(AB4-Z25)","v":0},{"$f":"IF(AA12=0,0,(AA12*((LOG(AA12))/LOG(2))))","v":0},null,{"$f":"N12","v":11212},{"$f":"COUNTIF(L56:L79,AD12)","v":0},{"$f":"AE12/(AG4-AE25)","v":0},{"$f":"IF(AF12=0,0,(AF12*((LOG(AF12))/LOG(2))))","v":0},null,{"$f":"N12","v":11212},{"$f":"COUNTIF(L80:L103,AI12)","v":0},{"$f":"AJ12/(AL4-AJ25)","v":0},{"$f":"IF(AK12=0,0,(AK12*((LOG(AK12))/LOG(2))))","v":0},null,{"$f":"N12","v":11212},{"$f":"COUNTIF(L104:L128,AN12)","v":0},{"$f":"AO12/(AQ4-AO25)","v":0},{"$f":"IF(AP12=0,0,(AP12*((LOG(AP12))/LOG(2))))","v":0},null,{"$f":"N12","v":11212},{"$f":"COUNTIF(L129:L152,AS12)","v":1},{"$f":"AT12/(AV4-AT25)","v":4.1666666666666664E-2},{"$f":"IF(AU12=0,0,(AU12*((LOG(AU12))/LOG(2))))","v":-0.19104010419671485}]
[12,996,24,1007,24,1019,23,1043,24,1054,0,12222,null,11221,{"$f":"COUNTIF($L$7:$L$500,N13)","v":3},{"$f":"O13/$Q$4","v":2.0547945205479451E-2},{"$f":"IF(P13=0,0,(P13*((LOG(P13))/LOG(2))))","v":-0.11516839845531907},null,null,{"$f":"N13","v":11221},{"$f":"COUNTIF(L7:L30,T13)","v":1},{"$f":"U13/(W4-U25)","v":4.1666666666666664E-2},{"$f":"IF(V13=0,0,(V13*((LOG(V13))/LOG(2))))","v":-0.19104010419671485},null,{"$f":"N13","v":11221},{"$f":"COUNTIF(L31:L55,Y13)","v":0},{"$f":"Z13/(AB4-Z25)","v":0},{"$f":"IF(AA13=0,0,(AA13*((LOG(AA13))/LOG(2))))","v":0},null,{"$f":"N13","v":11221},{"$f":"COUNTIF(L56:L79,AD13)","v":0},{"$f":"AE13/(AG4-AE25)","v":0},{"$f":"IF(AF13=0,0,(AF13*((LOG(AF13))/LOG(2))))","v":0},null,{"$f":"N13","v":11221},{"$f":"COUNTIF(L80:L103,AI13)","v":1},{"$f":"AJ13/(AL4-AJ25)","v":4.1666666666666664E-2},{"$f":"IF(AK13=0,0,(AK13*((LOG(AK13))/LOG(2))))","v":-0.19104010419671485},null,{"$f":"N13","v":11221},{"$f":"COUNTIF(L104:L128,AN13)","v":0},{"$f":"AO13/(AQ4-AO25)","v":0},{"$f":"IF(AP13=0,0,(AP13*((LOG(AP13))/LOG(2))))","v":0},null,{"$f":"N13","v":11221},{"$f":"COUNTIF(L129:L152,AS13)","v":1},{"$f":"AT13/(AV4-AT25)","v":4.1666666666666664E-2},{"$f":"IF(AU13=0,0,(AU13*((LOG(AU13))/LOG(2))))","v":-0.19104010419671485}]
[12,1153,24,1175,24,1199,23,1207,24,1215,0,12222,null,11222,{"$f":"COUNTIF($L$7:$L$500,N14)","v":12},{"$f":"O14/$Q$4","v":8.2191780821917804E-2},{"$f":"IF(P14=0,0,(P14*((LOG(P14))/LOG(2))))","v":-0.2962900321774406},null,null,{"$f":"N14","v":11222},{"$f":"COUNTIF(L7:L30,T14)","v":0},{"$f":"U14/(W4-U25)","v":0},{"$f":"IF(V14=0,0,(V14*((LOG(V14))/LOG(2))))","v":0},null,{"$f":"N14","v":11222},{"$f":"COUNTIF(L31:L55,Y14)","v":3},{"$f":"Z14/(AB4-Z25)","v":0.12},{"$f":"IF(AA14=0,0,(AA14*((LOG(AA14))/LOG(2))))","v":-0.36706724268642821},null,{"$f":"N14","v":11222},{"$f":"COUNTIF(L56:L79,AD14)","v":2},{"$f":"AE14/(AG4-AE25)","v":8.3333333333333329E-2},{"$f":"IF(AF14=0,0,(AF14*((LOG(AF14))/LOG(2))))","v":-0.29874687506009634},null,{"$f":"N14","v":11222},{"$f":"COUNTIF(L80:L103,AI14)","v":3},{"$f":"AJ14/(AL4-AJ25)","v":0.125},{"$f":"IF(AK14=0,0,(AK14*((LOG(AK14))/LOG(2))))","v":-0.375},null,{"$f":"N14","v":11222},{"$f":"COUNTIF(L104:L128,AN14)","v":4},{"$f":"AO14/(AQ4-AO25)","v":0.16},{"$f":"IF(AP14=0,0,(AP14*((LOG(AP14))/LOG(2))))","v":-0.42301699036395596},null,{"$f":"N14","v":11222},{"$f":"COUNTIF(L129:L152,AS14)","v":0},{"$f":"AT14/(AV4-AT25)","v":0},{"$f":"IF(AU14=0,0,(AU14*((LOG(AU14))/LOG(2))))","v":0}]
[21,1327,22,1337,24,1352,23,1369,24,1388,0,22222,null,12111,{"$f":"COUNTIF($L$7:$L$500,N15)","v":0},{"$f":"O15/$Q$4","v":0},{"$f":"IF(P15=0,0,(P15*((LOG(P15))/LOG(2))))","v":0},null,null,{"$f":"N15","v":12111},{"$f":"COUNTIF(L7:L30,T15)","v":0},{"$f":"U15/(W4-U25)","v":0},{"$f":"IF(V15=0,0,(V15*((LOG(V15))/LOG(2))))","v":0},null,{"$f":"N15","v":12111},{"$f":"COUNTIF(L31:L55,Y15)","v":0},{"$f":"Z15/(AB4-Z25)","v":0},{"$f":"IF(AA15=0,0,(AA15*((LOG(AA15))/LOG(2))))","v":0},null,{"$f":"N15","v":12111},{"$f":"COUNTIF(L56:L79,AD15)","v":0},{"$f":"AE15/(AG4-AE25)","v":0},{"$f":"IF(AF15=0,0,(AF15*((LOG(AF15))/LOG(2))))","v":0},null,{"$f":"N15","v":12111},{"$f":"COUNTIF(L80:L103,AI15)","v":0},{"$f":"AJ15/(AL4-AJ25)","v":0},{"$f":"IF(AK15=0,0,(AK15*((LOG(AK15))/LOG(2))))","v":0},null,{"$f":"N15","v":12111},{"$f":"COUNTIF(L104:L128,AN15)","v":0},{"$f":"AO15/(AQ4-AO25)","v":0},{"$f":"IF(AP15=0,0,(AP15*((LOG(AP15))/LOG(2))))","v":0},null,{"$f":"N15","v":12111},{"$f":"COUNTIF(L129:L152,AS15)","v":0},{"$f":"AT15/(AV4-AT25)","v":0},{"$f":"IF(AU15=0,0,(AU15*((LOG(AU15))/LOG(2))))","v":0}]
[12,1491,24,1503,24,1511,23,1519,24,1527,0,12222,null,12112,{"$f":"COUNTIF($L$7:$L$500,N16)","v":0},{"$f":"O16/$Q$4","v":0},{"$f":"IF(P16=0,0,(P16*((LOG(P16))/LOG(2))))","v":0},null,null,{"$f":"N16","v":12112},{"$f":"COUNTIF(L7:L30,T16)","v":0},{"$f":"U16/(W4-U25)","v":0},{"$f":"IF(V16=0,0,(V16*((LOG(V16))/LOG(2))))","v":0},null,{"$f":"N16","v":12112},{"$f":"COUNTIF(L31:L55,Y16)","v":0},{"$f":"Z16/(AB4-Z25)","v":0},{"$f":"IF(AA16=0,0,(AA16*((LOG(AA16))/LOG(2))))","v":0},null,{"$f":"N16","v":12112},{"$f":"COUNTIF(L56:L79,AD16)","v":0},{"$f":"AE16/(AG4-AE25)","v":0},{"$f":"IF(AF16=0,0,(AF16*((LOG(AF16))/LOG(2))))","v":0},null,{"$f":"N16","v":12112},{"$f":"COUNTIF(L80:L103,AI16)","v":0},{"$f":"AJ16/(AL4-AJ25)","v":0},{"$f":"IF(AK16=0,0,(AK16*((LOG(AK16))/LOG(2))))","v":0},null,{"$f":"N16","v":12112},{"$f":"COUNTIF(L104:L128,AN16)","v":0},{"$f":"AO16/(AQ4-AO25)","v":0},{"$f":"IF(AP16=0,0,(AP16*((LOG(AP16))/LOG(2))))","v":0},null,{"$f":"N16","v":12112},{"$f":"COUNTIF(L129:L152,AS16)","v":0},{"$f":"AT16/(AV4-AT25)","v":0},{"$f":"IF(AU16=0,0,(AU16*((LOG(AU16))/LOG(2))))","v":0}]
[12,1630,24,1640,24,1650,23,1702,24,1728,0,12222,null,12121,{"$f":"COUNTIF($L$7:$L$500,N17)","v":0},{"$f":"O17/$Q$4","v":0},{"$f":"IF(P17=0,0,(P17*((LOG(P17))/LOG(2))))","v":0},null,null,{"$f":"N17","v":12121},{"$f":"COUNTIF(L7:L30,T17)","v":0},{"$f":"U17/(W4-U25)","v":0},{"$f":"IF(V17=0,0,(V17*((LOG(V17))/LOG(2))))","v":0},null,{"$f":"N17","v":12121},{"$f":"COUNTIF(L31:L55,Y17)","v":0},{"$f":"Z17/(AB4-Z25)","v":0},{"$f":"IF(AA17=0,0,(AA17*((LOG(AA17))/LOG(2))))","v":0},null,{"$f":"N17","v":12121},{"$f":"COUNTIF(L56:L79,AD17)","v":0},{"$f":"AE17/(AG4-AE25)","v":0},{"$f":"IF(AF17=0,0,(AF17*((LOG(AF17))/LOG(2))))","v":0},null,{"$f":"N17","v":12121},{"$f":"COUNTIF(L80:L103,AI17)","v":0},{"$f":"AJ17/(AL4-AJ25)","v":0},{"$f":"IF(AK17=0,0,(AK17*((LOG(AK17))/LOG(2))))","v":0},null,{"$f":"N17","v":12121},{"$f":"COUNTIF(L104:L128,AN17)","v":0},{"$f":"AO17/(AQ4-AO25)","v":0},{"$f":"IF(AP17=0,0,(AP17*((LOG(AP17))/LOG(2))))","v":0},null,{"$f":"N17","v":12121},{"$f":"COUNTIF(L129:L152,AS17)","v":0},{"$f":"AT17/(AV4-AT25)","v":0},{"$f":"IF(AU17=0,0,(AU17*((LOG(AU17))/LOG(2))))","v":0}]
[12,1827,24,1854,24,1898,23,1906,24,1914,0,12222,null,12122,{"$f":"COUNTIF($L$7:$L$500,N18)","v":25},{"$f":"O18/$Q$4","v":0.17123287671232876},{"$f":"IF(P18=0,0,(P18*((LOG(P18))/LOG(2))))","v":-0.43595348786049531},null,null,{"$f":"N18","v":12122},{"$f":"COUNTIF(L7:L30,T18)","v":0},{"$f":"U18/(W4-U25)","v":0},{"$f":"IF(V18=0,0,(V18*((LOG(V18))/LOG(2))))","v":0},null,{"$f":"N18","v":12122},{"$f":"COUNTIF(L31:L55,Y18)","v":4},{"$f":"Z18/(AB4-Z25)","v":0.16},{"$f":"IF(AA18=0,0,(AA18*((LOG(AA18))/LOG(2))))","v":-0.42301699036395596},null,{"$f":"N18","v":12122},{"$f":"COUNTIF(L56:L79,AD18)","v":6},{"$f":"AE18/(AG4-AE25)","v":0.25},{"$f":"IF(AF18=0,0,(AF18*((LOG(AF18))/LOG(2))))","v":-0.5},null,{"$f":"N18","v":12122},{"$f":"COUNTIF(L80:L103,AI18)","v":3},{"$f":"AJ18/(AL4-AJ25)","v":0.125},{"$f":"IF(AK18=0,0,(AK18*((LOG(AK18))/LOG(2))))","v":-0.375},null,{"$f":"N18","v":12122},{"$f":"COUNTIF(L104:L128,AN18)","v":5},{"$f":"AO18/(AQ4-AO25)","v":0.2},{"$f":"IF(AP18=0,0,(AP18*((LOG(AP18))/LOG(2))))","v":-0.46438561897747244},null,{"$f":"N18","v":12122},{"$f":"COUNTIF(L129:L152,AS18)","v":7},{"$f":"AT18/(AV4-AT25)","v":0.29166666666666669},{"$f":"IF(AU18=0,0,(AU18*((LOG(AU18))/LOG(2))))","v":-0.51846887711020273}]
[12,2021,24,2030,24,2040,23,2064,24,2069,0,12222,null,12211,{"$f":"COUNTIF($L$7:$L$500,N19)","v":0},{"$f":"O19/$Q$4","v":0},{"$f":"IF(P19=0,0,(P19*((LOG(P19))/LOG(2))))","v":0},null,null,{"$f":"N19","v":12211},{"$f":"COUNTIF(L7:L30,T19)","v":0},{"$f":"U19/(W4-U25)","v":0},{"$f":"IF(V19=0,0,(V19*((LOG(V19))/LOG(2))))","v":0},null,{"$f":"N19","v":12211},{"$f":"COUNTIF(L31:L55,Y19)","v":0},{"$f":"Z19/(AB4-Z25)","v":0},{"$f":"IF(AA19=0,0,(AA19*((LOG(AA19))/LOG(2))))","v":0},null,{"$f":"N19","v":12211},{"$f":"COUNTIF(L56:L79,AD19)","v":0},{"$f":"AE19/(AG4-AE25)","v":0},{"$f":"IF(AF19=0,0,(AF19*((LOG(AF19))/LOG(2))))","v":0},null,{"$f":"N19","v":12211},{"$f":"COUNTIF(L80:L103,AI19)","v":0},{"$f":"AJ19/(AL4-AJ25)","v":0},{"$f":"IF(AK19=0,0,(AK19*((LOG(AK19))/LOG(2))))","v":0},null,{"$f":"N19","v":12211},{"$f":"COUNTIF(L104:L128,AN19)","v":0},{"$f":"AO19/(AQ4-AO25)","v":0},{"$f":"IF(AP19=0,0,(AP19*((LOG(AP19))/LOG(2))))","v":0},null,{"$f":"N19","v":12211},{"$f":"COUNTIF(L129:L152,AS19)","v":0},{"$f":"AT19/(AV4-AT25)","v":0},{"$f":"IF(AU19=0,0,(AU19*((LOG(AU19))/LOG(2))))","v":0}]
[12,2170,24,2184,24,2200,23,2209,24,2223,0,12222,null,12212,{"$f":"COUNTIF($L$7:$L$500,N20)","v":11},{"$f":"O20/$Q$4","v":7.5342465753424653E-2},{"$f":"IF(P20=0,0,(P20*((LOG(P20))/LOG(2))))","v":-0.28105700234705422},null,null,{"$f":"N20","v":12212},{"$f":"COUNTIF(L7:L30,T20)","v":0},{"$f":"U20/(W4-U25)","v":0},{"$f":"IF(V20=0,0,(V20*((LOG(V20))/LOG(2))))","v":0},null,{"$f":"N20","v":12212},{"$f":"COUNTIF(L31:L55,Y20)","v":1},{"$f":"Z20/(AB4-Z25)","v":0.04},{"$f":"IF(AA20=0,0,(AA20*((LOG(AA20))/LOG(2))))","v":-0.18575424759098899},null,{"$f":"N20","v":12212},{"$f":"COUNTIF(L56:L79,AD20)","v":3},{"$f":"AE20/(AG4-AE25)","v":0.125},{"$f":"IF(AF20=0,0,(AF20*((LOG(AF20))/LOG(2))))","v":-0.375},null,{"$f":"N20","v":12212},{"$f":"COUNTIF(L80:L103,AI20)","v":1},{"$f":"AJ20/(AL4-AJ25)","v":4.1666666666666664E-2},{"$f":"IF(AK20=0,0,(AK20*((LOG(AK20))/LOG(2))))","v":-0.19104010419671485},null,{"$f":"N20","v":12212},{"$f":"COUNTIF(L104:L128,AN20)","v":3},{"$f":"AO20/(AQ4-AO25)","v":0.12},{"$f":"IF(AP20=0,0,(AP20*((LOG(AP20))/LOG(2))))","v":-0.36706724268642821},null,{"$f":"N20","v":12212},{"$f":"COUNTIF(L129:L152,AS20)","v":3},{"$f":"AT20/(AV4-AT25)","v":0.125},{"$f":"IF(AU20=0,0,(AU20*((LOG(AU20))/LOG(2))))","v":-0.375}]
[12,2325,24,2340,24,2364,23,2377,24,2399,0,12222,null,12221,{"$f":"COUNTIF($L$7:$L$500,N21)","v":5},{"$f":"O21/$Q$4","v":3.4246575342465752E-2},{"$f":"IF(P21=0,0,(P21*((LOG(P21))/LOG(2))))","v":-0.16670878301344708},null,null,{"$f":"N21","v":12221},{"$f":"COUNTIF(L7:L30,T21)","v":1},{"$f":"U21/(W4-U25)","v":4.1666666666666664E-2},{"$f":"IF(V21=0,0,(V21*((LOG(V21))/LOG(2))))","v":-0.19104010419671485},null,{"$f":"N21","v":12221},{"$f":"COUNTIF(L31:L55,Y21)","v":1},{"$f":"Z21/(AB4-Z25)","v":0.04},{"$f":"IF(AA21=0,0,(AA21*((LOG(AA21))/LOG(2))))","v":-0.18575424759098899},null,{"$f":"N21","v":12221},{"$f":"COUNTIF(L56:L79,AD21)","v":0},{"$f":"AE21/(AG4-AE25)","v":0},{"$f":"IF(AF21=0,0,(AF21*((LOG(AF21))/LOG(2))))","v":0},null,{"$f":"N21","v":12221},{"$f":"COUNTIF(L80:L103,AI21)","v":1},{"$f":"AJ21/(AL4-AJ25)","v":4.1666666666666664E-2},{"$f":"IF(AK21=0,0,(AK21*((LOG(AK21))/LOG(2))))","v":-0.19104010419671485},null,{"$f":"N21","v":12221},{"$f":"COUNTIF(L104:L128,AN21)","v":1},{"$f":"AO21/(AQ4-AO25)","v":0.04},{"$f":"IF(AP21=0,0,(AP21*((LOG(AP21))/LOG(2))))","v":-0.18575424759098899},null,{"$f":"N21","v":12221},{"$f":"COUNTIF(L129:L152,AS21)","v":1},{"$f":"AT21/(AV4-AT25)","v":4.1666666666666664E-2},{"$f":"IF(AU21=0,0,(AU21*((LOG(AU21))/LOG(2))))","v":-0.19104010419671485}]
[12,2499,24,2512,24,2520,23,2529,24,2544,0,12222,null,12222,{"$f":"COUNTIF($L$7:$L$500,N22)","v":74},{"$f":"O22/$Q$4","v":0.50684931506849318},{"$f":"IF(P22=0,0,(P22*((LOG(P22))/LOG(2))))","v":-0.49690046781218489},null,null,{"$f":"N22","v":12222},{"$f":"COUNTIF(L7:L30,T22)","v":20},{"$f":"U22/(W4-U25)","v":0.83333333333333337},{"$f":"IF(V22=0,0,(V22*((LOG(V22))/LOG(2))))","v":-0.21919533819482812},null,{"$f":"N22","v":12222},{"$f":"COUNTIF(L31:L55,Y22)","v":15},{"$f":"Z22/(AB4-Z25)","v":0.6},{"$f":"IF(AA22=0,0,(AA22*((LOG(AA22))/LOG(2))))","v":-0.44217935649972373},null,{"$f":"N22","v":12222},{"$f":"COUNTIF(L56:L79,AD22)","v":12},{"$f":"AE22/(AG4-AE25)","v":0.5},{"$f":"IF(AF22=0,0,(AF22*((LOG(AF22))/LOG(2))))","v":-0.5},null,{"$f":"N22","v":12222},{"$f":"COUNTIF(L80:L103,AI22)","v":12},{"$f":"AJ22/(AL4-AJ25)","v":0.5},{"$f":"IF(AK22=0,0,(AK22*((LOG(AK22))/LOG(2))))","v":-0.5},null,{"$f":"N22","v":12222},{"$f":"COUNTIF(L104:L128,AN22)","v":7},{"$f":"AO22/(AQ4-AO25)","v":0.28000000000000003},{"$f":"IF(AP22=0,0,(AP22*((LOG(AP22))/LOG(2))))","v":-0.51422035496079388},null,{"$f":"N22","v":12222},{"$f":"COUNTIF(L129:L152,AS22)","v":8},{"$f":"AT22/(AV4-AT25)","v":0.33333333333333331},{"$f":"IF(AU22=0,0,(AU22*((LOG(AU22))/LOG(2))))","v":-0.52832083357371862}]
[12,2645,24,2659,24,2667,23,2676,24,2692,0,12222,null,21111,{"$f":"COUNTIF($L$7:$L$500,N23)","v":0},{"$f":"O23/$Q$4","v":0},{"$f":"IF(P23=0,0,(P23*((LOG(P23))/LOG(2))))","v":0},null,null,{"$f":"N23","v":21111},{"$f":"COUNTIF(L7:L30,T23)","v":0},{"$f":"U23/(W4-U25)","v":0},{"$f":"IF(V23=0,0,(V23*((LOG(V23))/LOG(2))))","v":0},null,{"$f":"N23","v":21111},{"$f":"COUNTIF(L31:L55,Y23)","v":0},{"$f":"Z23/(AB4-Z25)","v":0},{"$f":"IF(AA23=0,0,(AA23*((LOG(AA23))/LOG(2))))","v":0},null,{"$f":"N23","v":21111},{"$f":"COUNTIF(L56:L79,AD23)","v":0},{"$f":"AE23/(AG4-AE25)","v":0},{"$f":"IF(AF23=0,0,(AF23*((LOG(AF23))/LOG(2))))","v":0},null,{"$f":"N23","v":21111},{"$f":"COUNTIF(L80:L103,AI23)","v":0},{"$f":"AJ23/(AL4-AJ25)","v":0},{"$f":"IF(AK23=0,0,(AK23*((LOG(AK23))/LOG(2))))","v":0},null,{"$f":"N23","v":21111},{"$f":"COUNTIF(L104:L128,AN23)","v":0},{"$f":"AO23/(AQ4-AO25)","v":0},{"$f":"IF(AP23=0,0,(AP23*((LOG(AP23))/LOG(2))))","v":0},null,{"$f":"N23","v":21111},{"$f":"COUNTIF(L129:L152,AS23)","v":0},{"$f":"AT23/(AV4-AT25)","v":0},{"$f":"IF(AU23=0,0,(AU23*((LOG(AU23))/LOG(2))))","v":0}]
[21,2804,22,2820,24,2849,23,2858,24,2873,0,22222,null,21112,{"$f":"COUNTIF($L$7:$L$500,N24)","v":0},{"$f":"O24/$Q$4","v":0},{"$f":"IF(P24=0,0,(P24*((LOG(P24))/LOG(2))))","v":0},null,null,{"$f":"N24","v":21112},{"$f":"COUNTIF(L7:L30,T24)","v":0},{"$f":"U24/(W4-U25)","v":0},{"$f":"IF(V24=0,0,(V24*((LOG(V24))/LOG(2))))","v":0},null,{"$f":"N24","v":21112},{"$f":"COUNTIF(L31:L55,Y24)","v":0},{"$f":"Z24/(AB4-Z25)","v":0},{"$f":"IF(AA24=0,0,(AA24*((LOG(AA24))/LOG(2))))","v":0},null,{"$f":"N24","v":21112},{"$f":"COUNTIF(L56:L79,AD24)","v":0},{"$f":"AE24/(AG4-AE25)","v":0},{"$f":"IF(AF24=0,0,(AF24*((LOG(AF24))/LOG(2))))","v":0},null,{"$f":"N24","v":21112},{"$f":"COUNTIF(L80:L103,AI24)","v":0},{"$f":"AJ24/(AL4-AJ25)","v":0},{"$f":"IF(AK24=0,0,(AK24*((LOG(AK24))/LOG(2))))","v":0},null,{"$f":"N24","v":21112},{"$f":"COUNTIF(L104:L128,AN24)","v":0},{"$f":"AO24/(AQ4-AO25)","v":0},{"$f":"IF(AP24=0,0,(AP24*((LOG(AP24))/LOG(2))))","v":0},null,{"$f":"N24","v":21112},{"$f":"COUNTIF(L129:L152,AS24)","v":0},{"$f":"AT24/(AV4-AT25)","v":0},{"$f":"IF(AU24=0,0,(AU24*((LOG(AU24))/LOG(2))))","v":0}]
[12,2975,24,2989,24,2997,23,3025,24,3043,0,12222,null,21121,{"$f":"COUNTIF($L$7:$L$500,N25)","v":0},{"$f":"O25/$Q$4","v":0},{"$f":"IF(P25=0,0,(P25*((LOG(P25))/LOG(2))))","v":0},null,null,{"$f":"N25","v":21121},{"$f":"COUNTIF(L7:L30,T25)","v":0},null,null,null,{"$f":"N25","v":21121},{"$f":"COUNTIF(L31:L55,Y25)","v":0},null,null,null,{"$f":"N25","v":21121},{"$f":"COUNTIF(L56:L79,AD25)","v":0},null,null,null,{"$f":"N25","v":21121},{"$f":"COUNTIF(L80:L103,AI25)","v":0},null,null,null,{"$f":"N25","v":21121},{"$f":"COUNTIF(L104:L128,AN25)","v":0},null,null,null,{"$f":"N25","v":21121},{"$f":"COUNTIF(L129:L152,AS25)","v":0}]
[12,3143,24,3158,24,3166,23,3177,24,3186,0,12222,null,21122,{"$f":"COUNTIF($L$7:$L$500,N26)","v":0},{"$f":"O26/$Q$4","v":0},{"$f":"IF(P26=0,0,(P26*((LOG(P26))/LOG(2))))","v":0},null,null,{"$f":"N26","v":21122},{"$f":"COUNTIF(L7:L30,T26)","v":0},{"$f":"U26/(W4-U25)","v":0},{"$f":"IF(V26=0,0,(V26*((LOG(V26))/LOG(2))))","v":0},null,{"$f":"N26","v":21122},{"$f":"COUNTIF(L31:L55,Y26)","v":0},{"$f":"Z26/(AB4-Z25)","v":0},{"$f":"IF(AA26=0,0,(AA26*((LOG(AA26))/LOG(2))))","v":0},null,{"$f":"N26","v":21122},{"$f":"COUNTIF(L56:L79,AD26)","v":0},{"$f":"AE26/(AG4-AE25)","v":0},{"$f":"IF(AF26=0,0,(AF26*((LOG(AF26))/LOG(2))))","v":0},null,{"$f":"N26","v":21122},{"$f":"COUNTIF(L80:L103,AI26)","v":0},{"$f":"AJ26/(AL4-AJ25)","v":0},{"$f":"IF(AK26=0,0,(AK26*((LOG(AK26))/LOG(2))))","v":0},null,{"$f":"N26","v":21122},{"$f":"COUNTIF(L104:L128,AN26)","v":0},{"$f":"AO26/(AQ4-AO25)","v":0},{"$f":"IF(AP26=0,0,(AP26*((LOG(AP26))/LOG(2))))","v":0},null,{"$f":"N26","v":21122},{"$f":"COUNTIF(L129:L152,AS26)","v":0},{"$f":"AT26/(AV4-AT25)","v":0},{"$f":"IF(AU26=0,0,(AU26*((LOG(AU26))/LOG(2))))","v":0}]
[12,3287,24,3307,24,3314,23,3322,24,3336,0,12222,null,21211,{"$f":"COUNTIF($L$7:$L$500,N27)","v":0},{"$f":"O27/$Q$4","v":0},{"$f":"IF(P27=0,0,(P27*((LOG(P27))/LOG(2))))","v":0},null,null,{"$f":"N27","v":21211},{"$f":"COUNTIF(L7:L30,T27)","v":0},{"$f":"U27/(W4-U25)","v":0},{"$f":"IF(V27=0,0,(V27*((LOG(V27))/LOG(2))))","v":0},null,{"$f":"N27","v":21211},{"$f":"COUNTIF(L31:L55,Y27)","v":0},{"$f":"Z27/(AB4-Z25)","v":0},{"$f":"IF(AA27=0,0,(AA27*((LOG(AA27))/LOG(2))))","v":0},null,{"$f":"N27","v":21211},{"$f":"COUNTIF(L56:L79,AD27)","v":0},{"$f":"AE27/(AG4-AE25)","v":0},{"$f":"IF(AF27=0,0,(AF27*((LOG(AF27))/LOG(2))))","v":0},null,{"$f":"N27","v":21211},{"$f":"COUNTIF(L80:L103,AI27)","v":0},{"$f":"AJ27/(AL4-AJ25)","v":0},{"$f":"IF(AK27=0,0,(AK27*((LOG(AK27))/LOG(2))))","v":0},null,{"$f":"N27","v":21211},{"$f":"COUNTIF(L104:L128,AN27)","v":0},{"$f":"AO27/(AQ4-AO25)","v":0},{"$f":"IF(AP27=0,0,(AP27*((LOG(AP27))/LOG(2))))","v":0},null,{"$f":"N27","v":21211},{"$f":"COUNTIF(L129:L152,AS27)","v":0},{"$f":"AT27/(AV4-AT25)","v":0},{"$f":"IF(AU27=0,0,(AU27*((LOG(AU27))/LOG(2))))","v":0}]
[12,3436,24,3463,24,3485,23,3494,13,3542,0,12221,null,21212,{"$f":"COUNTIF($L$7:$L$500,N28)","v":0},{"$f":"O28/$Q$4","v":0},{"$f":"IF(P28=0,0,(P28*((LOG(P28))/LOG(2))))","v":0},null,null,{"$f":"N28","v":21212},{"$f":"COUNTIF(L7:L30,T28)","v":0},{"$f":"U28/(W4-U25)","v":0},{"$f":"IF(V28=0,0,(V28*((LOG(V28))/LOG(2))))","v":0},null,{"$f":"N28","v":21212},{"$f":"COUNTIF(L31:L55,Y28)","v":0},{"$f":"Z28/(AB4-Z25)","v":0},{"$f":"IF(AA28=0,0,(AA28*((LOG(AA28))/LOG(2))))","v":0},null,{"$f":"N28","v":21212},{"$f":"COUNTIF(L56:L79,AD28)","v":0},{"$f":"AE28/(AG4-AE25)","v":0},{"$f":"IF(AF28=0,0,(AF28*((LOG(AF28))/LOG(2))))","v":0},null,{"$f":"N28","v":21212},{"$f":"COUNTIF(L80:L103,AI28)","v":0},{"$f":"AJ28/(AL4-AJ25)","v":0},{"$f":"IF(AK28=0,0,(AK28*((LOG(AK28))/LOG(2))))","v":0},null,{"$f":"N28","v":21212},{"$f":"COUNTIF(L104:L128,AN28)","v":0},{"$f":"AO28/(AQ4-AO25)","v":0},{"$f":"IF(AP28=0,0,(AP28*((LOG(AP28))/LOG(2))))","v":0},null,{"$f":"N28","v":21212},{"$f":"COUNTIF(L129:L152,AS28)","v":0},{"$f":"AT28/(AV4-AT25)","v":0},{"$f":"IF(AU28=0,0,(AU28*((LOG(AU28))/LOG(2))))","v":0}]
[12,3645,24,3656,24,3665,23,3673,24,3689,0,12222,null,21221,{"$f":"COUNTIF($L$7:$L$500,N29)","v":1},{"$f":"O29/$Q$4","v":6.8493150684931503E-3},{"$f":"IF(P29=0,0,(P29*((LOG(P29))/LOG(2))))","v":-4.9245373690959021E-2},null,null,{"$f":"N29","v":21221},{"$f":"COUNTIF(L7:L30,T29)","v":0},{"$f":"U29/(W4-U25)","v":0},{"$f":"IF(V29=0,0,(V29*((LOG(V29))/LOG(2))))","v":0},null,{"$f":"N29","v":21221},{"$f":"COUNTIF(L31:L55,Y29)","v":0},{"$f":"Z29/(AB4-Z25)","v":0},{"$f":"IF(AA29=0,0,(AA29*((LOG(AA29))/LOG(2))))","v":0},null,{"$f":"N29","v":21221},{"$f":"COUNTIF(L56:L79,AD29)","v":1},{"$f":"AE29/(AG4-AE25)","v":4.1666666666666664E-2},{"$f":"IF(AF29=0,0,(AF29*((LOG(AF29))/LOG(2))))","v":-0.19104010419671485},null,{"$f":"N29","v":21221},{"$f":"COUNTIF(L80:L103,AI29)","v":0},{"$f":"AJ29/(AL4-AJ25)","v":0},{"$f":"IF(AK29=0,0,(AK29*((LOG(AK29))/LOG(2))))","v":0},null,{"$f":"N29","v":21221},{"$f":"COUNTIF(L104:L128,AN29)","v":0},{"$f":"AO29/(AQ4-AO25)","v":0},{"$f":"IF(AP29=0,0,(AP29*((LOG(AP29))/LOG(2))))","v":0},null,{"$f":"N29","v":21221},{"$f":"COUNTIF(L129:L152,AS29)","v":0},{"$f":"AT29/(AV4-AT25)","v":0},{"$f":"IF(AU29=0,0,(AU29*((LOG(AU29))/LOG(2))))","v":0}]
[12,3788,24,3804,24,3814,23,3822,24,3850,0,12222,null,21222,{"$f":"COUNTIF($L$7:$L$500,N30)","v":5},{"$f":"O30/$Q$4","v":3.4246575342465752E-2},{"$f":"IF(P30=0,0,(P30*((LOG(P30))/LOG(2))))","v":-0.16670878301344708},null,null,{"$f":"N30","v":21222},{"$f":"COUNTIF(L7:L30,T30)","v":0},{"$f":"U30/(W4-U25)","v":0},{"$f":"IF(V30=0,0,(V30*((LOG(V30))/LOG(2))))","v":0},null,{"$f":"N30","v":21222},{"$f":"COUNTIF(L31:L55,Y30)","v":0},{"$f":"Z30/(AB4-Z25)","v":0},{"$f":"IF(AA30=0,0,(AA30*((LOG(AA30))/LOG(2))))","v":0},null,{"$f":"N30","v":21222},{"$f":"COUNTIF(L56:L79,AD30)","v":0},{"$f":"AE30/(AG4-AE25)","v":0},{"$f":"IF(AF30=0,0,(AF30*((LOG(AF30))/LOG(2))))","v":0},null,{"$f":"N30","v":21222},{"$f":"COUNTIF(L80:L103,AI30)","v":0},{"$f":"AJ30/(AL4-AJ25)","v":0},{"$f":"IF(AK30=0,0,(AK30*((LOG(AK30))/LOG(2))))","v":0},null,{"$f":"N30","v":21222},{"$f":"COUNTIF(L104:L128,AN30)","v":4},{"$f":"AO30/(AQ4-AO25)","v":0.16},{"$f":"IF(AP30=0,0,(AP30*((LOG(AP30))/LOG(2))))","v":-0.42301699036395596},null,{"$f":"N30","v":21222},{"$f":"COUNTIF(L129:L152,AS30)","v":1},{"$f":"AT30/(AV4-AT25)","v":4.1666666666666664E-2},{"$f":"IF(AU30=0,0,(AU30*((LOG(AU30))/LOG(2))))","v":-0.19104010419671485}]
[12,3950,24,3961,24,3969,23,3977,24,3984,0,12222,null,22111,{"$f":"COUNTIF($L$7:$L$500,N31)","v":0},{"$f":"O31/$Q$4","v":0},{"$f":"IF(P31=0,0,(P31*((LOG(P31))/LOG(2))))","v":0},null,null,{"$f":"N31","v":22111},{"$f":"COUNTIF(L7:L30,T31)","v":0},{"$f":"U31/(W4-U25)","v":0},{"$f":"IF(V31=0,0,(V31*((LOG(V31))/LOG(2))))","v":0},null,{"$f":"N31","v":22111},{"$f":"COUNTIF(L31:L55,Y31)","v":0},{"$f":"Z31/(AB4-Z25)","v":0},{"$f":"IF(AA31=0,0,(AA31*((LOG(AA31))/LOG(2))))","v":0},null,{"$f":"N31","v":22111},{"$f":"COUNTIF(L56:L79,AD31)","v":0},{"$f":"AE31/(AG4-AE25)","v":0},{"$f":"IF(AF31=0,0,(AF31*((LOG(AF31))/LOG(2))))","v":0},null,{"$f":"N31","v":22111},{"$f":"COUNTIF(L80:L103,AI31)","v":0},{"$f":"AJ31/(AL4-AJ25)","v":0},{"$f":"IF(AK31=0,0,(AK31*((LOG(AK31))/LOG(2))))","v":0},null,{"$f":"N31","v":22111},{"$f":"COUNTIF(L104:L128,AN31)","v":0},{"$f":"AO31/(AQ4-AO25)","v":0},{"$f":"IF(AP31=0,0,(AP31*((LOG(AP31))/LOG(2))))","v":0},null,{"$f":"N31","v":22111},{"$f":"COUNTIF(L129:L152,AS31)","v":0},{"$f":"AT31/(AV4-AT25)","v":0},{"$f":"IF(AU31=0,0,(AU31*((LOG(AU31))/LOG(2))))","v":0}]
[12,4087,24,4097,24,4106,23,4113,24,4121,0,12222,null,22112,{"$f":"COUNTIF($L$7:$L$500,N32)","v":0},{"$f":"O32/$Q$4","v":0},{"$f":"IF(P32=0,0,(P32*((LOG(P32))/LOG(2))))","v":0},null,null,{"$f":"N32","v":22112},{"$f":"COUNTIF(L7:L30,T32)","v":0},{"$f":"U32/(W4-U25)","v":0},{"$f":"IF(V32=0,0,(V32*((LOG(V32))/LOG(2))))","v":0},null,{"$f":"N32","v":22112},{"$f":"COUNTIF(L31:L55,Y32)","v":0},{"$f":"Z32/(AB4-Z25)","v":0},{"$f":"IF(AA32=0,0,(AA32*((LOG(AA32))/LOG(2))))","v":0},null,{"$f":"N32","v":22112},{"$f":"COUNTIF(L56:L79,AD32)","v":0},{"$f":"AE32/(AG4-AE25)","v":0},{"$f":"IF(AF32=0,0,(AF32*((LOG(AF32))/LOG(2))))","v":0},null,{"$f":"N32","v":22112},{"$f":"COUNTIF(L80:L103,AI32)","v":0},{"$f":"AJ32/(AL4-AJ25)","v":0},{"$f":"IF(AK32=0,0,(AK32*((LOG(AK32))/LOG(2))))","v":0},null,{"$f":"N32","v":22112},{"$f":"COUNTIF(L104:L128,AN32)","v":0},{"$f":"AO32/(AQ4-AO25)","v":0},{"$f":"IF(AP32=0,0,(AP32*((LOG(AP32))/LOG(2))))","v":0},null,{"$f":"N32","v":22112},{"$f":"COUNTIF(L129:L152,AS32)","v":0},{"$f":"AT32/(AV4-AT25)","v":0},{"$f":"IF(AU32=0,0,(AU32*((LOG(AU32))/LOG(2))))","v":0}]
[12,4219,24,4254,24,4264,23,4281,24,4289,0,12222,null,22121,{"$f":"COUNTIF($L$7:$L$500,N33)","v":0},{"$f":"O33/$Q$4","v":0},{"$f":"IF(P33=0,0,(P33*((LOG(P33))/LOG(2))))","v":0},null,null,{"$f":"N33","v":22121},{"$f":"COUNTIF(L7:L30,T33)","v":0},{"$f":"U33/(W4-U25)","v":0},{"$f":"IF(V33=0,0,(V33*((LOG(V33))/LOG(2))))","v":0},null,{"$f":"N33","v":22121},{"$f":"COUNTIF(L31:L55,Y33)","v":0},{"$f":"Z33/(AB4-Z25)","v":0},{"$f":"IF(AA33=0,0,(AA33*((LOG(AA33))/LOG(2))))","v":0},null,{"$f":"N33","v":22121},{"$f":"COUNTIF(L56:L79,AD33)","v":0},{"$f":"AE33/(AG4-AE25)","v":0},{"$f":"IF(AF33=0,0,(AF33*((LOG(AF33))/LOG(2))))","v":0},null,{"$f":"N33","v":22121},{"$f":"COUNTIF(L80:L103,AI33)","v":0},{"$f":"AJ33/(AL4-AJ25)","v":0},{"$f":"IF(AK33=0,0,(AK33*((LOG(AK33))/LOG(2))))","v":0},null,{"$f":"N33","v":22121},{"$f":"COUNTIF(L104:L128,AN33)","v":0},{"$f":"AO33/(AQ4-AO25)","v":0},{"$f":"IF(AP33=0,0,(AP33*((LOG(AP33))/LOG(2))))","v":0},null,{"$f":"N33","v":22121},{"$f":"COUNTIF(L129:L152,AS33)","v":0},{"$f":"AT33/(AV4-AT25)","v":0},{"$f":"IF(AU33=0,0,(AU33*((LOG(AU33))/LOG(2))))","v":0}]
[12,4391,24,4413,24,4464,23,4471,24,4480,0,12222,null,22122,{"$f":"COUNTIF($L$7:$L$500,N34)","v":1},{"$f":"O34/$Q$4","v":6.8493150684931503E-3},{"$f":"IF(P34=0,0,(P34*((LOG(P34))/LOG(2))))","v":-4.9245373690959021E-2},null,null,{"$f":"N34","v":22122},{"$f":"COUNTIF(L7:L30,T34)","v":0},{"$f":"U34/(W4-U25)","v":0},{"$f":"IF(V34=0,0,(V34*((LOG(V34))/LOG(2))))","v":0},null,{"$f":"N34","v":22122},{"$f":"COUNTIF(L31:L55,Y34)","v":0},{"$f":"Z34/(AB4-Z25)","v":0},{"$f":"IF(AA34=0,0,(AA34*((LOG(AA34))/LOG(2))))","v":0},null,{"$f":"N34","v":22122},{"$f":"COUNTIF(L56:L79,AD34)","v":0},{"$f":"AE34/(AG4-AE25)","v":0},{"$f":"IF(AF34=0,0,(AF34*((LOG(AF34))/LOG(2))))","v":0},null,{"$f":"N34","v":22122},{"$f":"COUNTIF(L80:L103,AI34)","v":0},{"$f":"AJ34/(AL4-AJ25)","v":0},{"$f":"IF(AK34=0,0,(AK34*((LOG(AK34))/LOG(2))))","v":0},null,{"$f":"N34","v":22122},{"$f":"COUNTIF(L104:L128,AN34)","v":0},{"$f":"AO34/(AQ4-AO25)","v":0},{"$f":"IF(AP34=0,0,(AP34*((LOG(AP34))/LOG(2))))","v":0},null,{"$f":"N34","v":22122},{"$f":"COUNTIF(L129:L152,AS34)","v":1},{"$f":"AT34/(AV4-AT25)","v":4.1666666666666664E-2},{"$f":"IF(AU34=0,0,(AU34*((LOG(AU34))/LOG(2))))","v":-0.19104010419671485}]
[21,4589,22,4601,24,4609,23,4617,24,4626,0,22222,null,22211,{"$f":"COUNTIF($L$7:$L$500,N35)","v":0},{"$f":"O35/$Q$4","v":0},{"$f":"IF(P35=0,0,(P35*((LOG(P35))/LOG(2))))","v":0},null,null,{"$f":"N35","v":22211},{"$f":"COUNTIF(L7:L30,T35)","v":0},{"$f":"U35/(W4-U25)","v":0},{"$f":"IF(V35=0,0,(V35*((LOG(V35))/LOG(2))))","v":0},null,{"$f":"N35","v":22211},{"$f":"COUNTIF(L31:L55,Y35)","v":0},{"$f":"Z35/(AB4-Z25)","v":0},{"$f":"IF(AA35=0,0,(AA35*((LOG(AA35))/LOG(2))))","v":0},null,{"$f":"N35","v":22211},{"$f":"COUNTIF(L56:L79,AD35)","v":0},{"$f":"AE35/(AG4-AE25)","v":0},{"$f":"IF(AF35=0,0,(AF35*((LOG(AF35))/LOG(2))))","v":0},null,{"$f":"N35","v":22211},{"$f":"COUNTIF(L80:L103,AI35)","v":0},{"$f":"AJ35/(AL4-AJ25)","v":0},{"$f":"IF(AK35=0,0,(AK35*((LOG(AK35))/LOG(2))))","v":0},null,{"$f":"N35","v":22211},{"$f":"COUNTIF(L104:L128,AN35)","v":0},{"$f":"AO35/(AQ4-AO25)","v":0},{"$f":"IF(AP35=0,0,(AP35*((LOG(AP35))/LOG(2))))","v":0},null,{"$f":"N35","v":22211},{"$f":"COUNTIF(L129:L152,AS35)","v":0},{"$f":"AT35/(AV4-AT25)","v":0},{"$f":"IF(AU35=0,0,(AU35*((LOG(AU35))/LOG(2))))","v":0}]
[12,4727,24,4741,24,4749,23,4758,24,4766,0,12222,null,22212,{"$f":"COUNTIF($L$7:$L$500,N36)","v":1},{"$f":"O36/$Q$4","v":6.8493150684931503E-3},{"$f":"IF(P36=0,0,(P36*((LOG(P36))/LOG(2))))","v":-4.9245373690959021E-2},null,null,{"$f":"N36","v":22212},{"$f":"COUNTIF(L7:L30,T36)","v":0},{"$f":"U36/(W4-U25)","v":0},{"$f":"IF(V36=0,0,(V36*((LOG(V36))/LOG(2))))","v":0},null,{"$f":"N36","v":22212},{"$f":"COUNTIF(L31:L55,Y36)","v":0},{"$f":"Z36/(AB4-Z25)","v":0},{"$f":"IF(AA36=0,0,(AA36*((LOG(AA36))/LOG(2))))","v":0},null,{"$f":"N36","v":22212},{"$f":"COUNTIF(L56:L79,AD36)","v":0},{"$f":"AE36/(AG4-AE25)","v":0},{"$f":"IF(AF36=0,0,(AF36*((LOG(AF36))/LOG(2))))","v":0},null,{"$f":"N36","v":22212},{"$f":"COUNTIF(L80:L103,AI36)","v":1},{"$f":"AJ36/(AL4-AJ25)","v":4.1666666666666664E-2},{"$f":"IF(AK36=0,0,(AK36*((LOG(AK36))/LOG(2))))","v":-0.19104010419671485},null,{"$f":"N36","v":22212},{"$f":"COUNTIF(L104:L128,AN36)","v":0},{"$f":"AO36/(AQ4-AO25)","v":0},{"$f":"IF(AP36=0,0,(AP36*((LOG(AP36))/LOG(2))))","v":0},null,{"$f":"N36","v":22212},{"$f":"COUNTIF(L129:L152,AS36)","v":0},{"$f":"AT36/(AV4-AT25)","v":0},{"$f":"IF(AU36=0,0,(AU36*((LOG(AU36))/LOG(2))))","v":0}]
[12,4868,24,4881,24,4898,23,4921,24,4936,0,12222,null,22221,{"$f":"COUNTIF($L$7:$L$500,N37)","v":0},{"$f":"O37/$Q$4","v":0},{"$f":"IF(P37=0,0,(P37*((LOG(P37))/LOG(2))))","v":0},null,null,{"$f":"N37","v":22221},{"$f":"COUNTIF(L7:L30,T37)","v":0},{"$f":"U37/(W4-U25)","v":0},{"$f":"IF(V37=0,0,(V37*((LOG(V37))/LOG(2))))","v":0},null,{"$f":"N37","v":22221},{"$f":"COUNTIF(L31:L55,Y37)","v":0},{"$f":"Z37/(AB4-Z25)","v":0},{"$f":"IF(AA37=0,0,(AA37*((LOG(AA37))/LOG(2))))","v":0},null,{"$f":"N37","v":22221},{"$f":"COUNTIF(L56:L79,AD37)","v":0},{"$f":"AE37/(AG4-AE25)","v":0},{"$f":"IF(AF37=0,0,(AF37*((LOG(AF37))/LOG(2))))","v":0},null,{"$f":"N37","v":22221},{"$f":"COUNTIF(L80:L103,AI37)","v":0},{"$f":"AJ37/(AL4-AJ25)","v":0},{"$f":"IF(AK37=0,0,(AK37*((LOG(AK37))/LOG(2))))","v":0},null,{"$f":"N37","v":22221},{"$f":"COUNTIF(L104:L128,AN37)","v":0},{"$f":"AO37/(AQ4-AO25)","v":0},{"$f":"IF(AP37=0,0,(AP37*((LOG(AP37))/LOG(2))))","v":0},null,{"$f":"N37","v":22221},{"$f":"COUNTIF(L129:L152,AS37)","v":0},{"$f":"AT37/(AV4-AT25)","v":0},{"$f":"IF(AU37=0,0,(AU37*((LOG(AU37))/LOG(2))))","v":0}]
[12,5038,24,5053,24,5058,23,5065,24,5073,0,12222,null,22222,{"$f":"COUNTIF($L$7:$L$500,N38)","v":5},{"$f":"O38/$Q$4","v":3.4246575342465752E-2},{"$f":"IF(P38=0,0,(P38*((LOG(P38))/LOG(2))))","v":-0.16670878301344708},null,null,{"$f":"N38","v":22222},{"$f":"COUNTIF(L7:L30,T38)","v":2},{"$f":"U38/(W4-U25)","v":8.3333333333333329E-2},{"$f":"IF(V38=0,0,(V38*((LOG(V38))/LOG(2))))","v":-0.29874687506009634},null,{"$f":"N38","v":22222},{"$f":"COUNTIF(L31:L55,Y38)","v":1},{"$f":"Z38/(AB4-Z25)","v":0.04},{"$f":"IF(AA38=0,0,(AA38*((LOG(AA38))/LOG(2))))","v":-0.18575424759098899},null,{"$f":"N38","v":22222},{"$f":"COUNTIF(L56:L79,AD38)","v":0},{"$f":"AE38/(AG4-AE25)","v":0},{"$f":"IF(AF38=0,0,(AF38*((LOG(AF38))/LOG(2))))","v":0},null,{"$f":"N38","v":22222},{"$f":"COUNTIF(L80:L103,AI38)","v":1},{"$f":"AJ38/(AL4-AJ25)","v":4.1666666666666664E-2},{"$f":"IF(AK38=0,0,(AK38*((LOG(AK38))/LOG(2))))","v":-0.19104010419671485},null,{"$f":"N38","v":22222},{"$f":"COUNTIF(L104:L128,AN38)","v":1},{"$f":"AO38/(AQ4-AO25)","v":0.04},{"$f":"IF(AP38=0,0,(AP38*((LOG(AP38))/LOG(2))))","v":-0.18575424759098899},null,{"$f":"N38","v":22222},{"$f":"COUNTIF(L129:L152,AS38)","v":0},{"$f":"AT38/(AV4-AT25)","v":0},{"$f":"IF(AU38=0,0,(AU38*((LOG(AU38))/LOG(2))))","v":0}]
[12,5181,24,5191,24,5199,23,5208,24,5232,0,12222,null,null,null,{"$f":"SUM(P7:P38)","v":1},{"$f":"-SUM(Q7:Q38)","v":2.4072693497016036},null,null,null,null,{"$f":"SUM(V7:V38)","v":1},{"$f":"-SUM(W7:W38)","v":0.90002242164835411},null,null,null,{"$f":"SUM(AA7:AA38)","v":1},{"$f":"-SUM(AB7:AB38)","v":1.789526332323075},null,null,null,{"$f":"SUM(AF7:AF38)","v":0.99999999999999989},{"$f":"-SUM(AG7:AG38)","v":1.8647869792568113},null,null,null,{"$f":"SUM(AK7:AK38)","v":1},{"$f":"-SUM(AL7:AL38)","v":2.3962406251802895},null,null,null,{"$f":"SUM(AP7:AP38)","v":1},{"$f":"-SUM(AQ7:AQ38)","v":2.5632156925345839},null,null,null,{"$f":"SUM(AU7:AU38)","v":1},{"$f":"-SUM(AV7:AV38)","v":2.5680303358642105}]
[12,5333,24,5343,24,5353,23,5362,24,5370,0,12222,null,null,null,"U=",{"$f":"Q39/(LOG(Q4)/LOG(2))","v":0.33481614606693433},null,null,null,null,"U1=",{"$f":"W39/(LOG(W4)/LOG(2))","v":0.19629875304471783},null,null,null,"U2=",{"$f":"AB39/(LOG(AB4)/LOG(2))","v":0.38535352069330242},null,null,null,"U3=",{"$f":"AG39/(LOG(AG4)/LOG(2))","v":0.40671804381464494},null,null,null,"U4=",{"$f":"AL39/(LOG(AL4)/LOG(2))","v":0.52263036498191451},null,null,null,"U5=",{"$f":"AQ39/(LOG(AQ4)/LOG(2))","v":0.55195845603025151},null,null,null,"U6=",{"$f":"AV39/(LOG(AV4)/LOG(2))","v":0.56009843820103045}]
[12,5468,24,5483,24,5499,23,5507,24,5516,0,12222]
[12,5620,24,5630,24,5639,23,5648,24,5657,0,12222]
[12,5756,24,5765,24,5774,23,5784,24,5799,0,12222,null,"Total Target Seq"]
[12,5904,24,5917,24,5930,23,5938,24,5951,0,12222,null,{"$f":"COUNTIF(L7:L152,G3)","v":0},null,24,25,24,24,25,24]
[12,6052,13,6054,24,6074,23,6082,24,6090,0,11222,null,null,null,"% of reinforcement given in 6 equal intervals based on number of trials "]
[12,6194,24,6205,24,6219,23,6243,13,6273,0,12221,null,null,null,"%_1","%_2","%_3","%_4","%_5","%_6"]
[12,6375,24,6389,13,6401,23,6412,24,6420,0,12122,null,null,"target sequence",{"$f":"$G$3","v":21121},{"$f":"$G$3","v":21121},{"$f":"$G$3","v":21121},{"$f":"$G$3","v":21121},{"$f":"$G$3","v":21121},{"$f":"$G$3","v":21121}]
[12,6520,24,6537,24,6545,23,6566,24,6575,0,12222,null,null,"total reinforcement",{"$f":"U25","v":0},{"$f":"Z25","v":0},{"$f":"AE25","v":0},{"$f":"AJ25","v":0},{"$f":"AO25","v":0},{"$f":"AT25","v":0}]
[12,6676,24,6686,13,6705,23,6718,24,6740,0,12122,null,null,"% target"]
[12,6837,24,6870,24,6879,23,6888,24,6896,0,12222,null,null,"CCRF"]
[12,6997,24,7006,13,7032,23,7065,24,7089,0,12122,null,null,"% CCRf"]
[12,7190,13,7213,24,7245,23,7261,24,7276,0,11222,null,null,"average response rate",{"$f":"J30/P44","v":160.41666666666666},{"$f":"(J55-J30)/Q44","v":160.52000000000001},{"$f":"(J79-J55)/R44","v":173.08333333333334},{"$f":"(J103-J79)/S44","v":162.875},{"$f":"(J128-J103)/T44","v":171.2},{"$f":"(J152-J128)/U44","v":156.54166666666666}]
[12,7378,13,7400,24,7409,23,7419,24,7457,0,11222]
[12,7561,24,7571,13,7582,23,7628,24,7635,0,12122]
[12,7732,24,7748,24,7763,14,7775,24,7863,0,12212]
[21,7982,11,7993,22,8002,23,8099,13,8140,0,21221]
[12,8244,24,8254,24,8276,23,8284,24,8293,0,12222]
[12,8392,24,8406,24,8413,23,8434,24,8456,0,12222]
[12,8563,24,8573,24,8581,23,8600,24,8622,0,12222]
[12,8724,24,8736,13,8745,23,8757,24,8790,0,12122]
[12,8892,24,8918,24,8973,23,9021,24,9120,0,12222]
[12,9223,24,9233,24,9240,23,9261,24,9268,0,12222]
[12,9368,13,9379,24,9390,23,9397,24,9405,0,11222]
[12,9502,24,9516,24,9532,23,9574,24,9612,0,12222]
[12,9712,24,9731,13,9741,23,9753,24,9774,0,12122]
[12,9876,24,9889,24,9897,23,9904,24,9911,0,12222]
[12,10011,24,10025,24,10033,14,10046,24,10055,0,12212]
[12,10156,24,10168,13,10177,23,10202,24,10210,0,12122]
[12,10315,24,10324,24,10337,23,10347,24,10360,0,12222]
[12,10462,24,10479,24,10486,23,10493,24,10504,0,12222]
[12,10604,24,10615,24,10622,23,10630,24,10648,0,12222]
[12,10754,24,10764,24,10777,14,10796,24,10813,0,12212]
[12,10912,24,10921,24,10929,14,10940,24,10970,0,12212]
[12,11081,24,11090,24,11100,23,11124,24,11139,0,12222]
[12,11245,24,11256,24,11281,23,11290,24,11340,0,12222]
[12,11454,24,11464,13,11476,23,11490,24,11553,0,12122]
[12,11656,24,11666,13,11677,23,11691,24,11700,0,12122]
[12,11804,13,11820,24,11835,23,11852,24,11869,0,11222]
[12,11968,24,11976,13,11985,23,12005,24,12017,0,12122]
[12,12120,24,12133,13,12145,23,12153,24,12162,0,12122]
[12,12261,13,12272,24,12301,23,12309,24,12319,0,11222]
[12,12424,24,12438,24,12443,23,12462,24,12476,0,12222]
[12,12579,24,12590,24,12617,23,12626,24,12634,0,12222]
[12,12736,13,12742,24,12754,23,12763,24,12770,0,11222]
[12,12873,24,12883,13,12893,23,12912,24,12979,0,12122]
[12,13080,13,13089,24,13106,23,13119,24,13128,0,11222]
[12,13227,13,13245,24,13254,23,13262,13,13274,0,11221]
[12,13376,13,13397,13,13424,23,13442,24,13459,0,11122]
[12,13564,24,13579,24,13587,23,13596,24,13607,0,12222]
[12,13712,24,13722,24,13729,23,13737,13,13750,0,12221]
[21,13870,22,13939,24,13962,23,13976,24,13981,0,22222]
[12,14087,24,14097,24,14105,23,14114,24,14121,0,12222]
[12,14223,24,14238,13,14250,23,14268,24,14277,0,12122]
[12,14383,24,14397,24,14405,23,14418,24,14451,0,12222]
[12,14557,24,14567,24,14575,23,14604,24,14641,0,12222]
[12,14749,24,14758,24,14771,23,14793,24,14810,0,12222]
[12,14913,24,14922,24,14937,23,14949,24,14969,0,12222]
[12,15075,24,15090,24,15120,23,15133,24,15144,0,12222]
[12,15246,24,15271,24,15292,23,15302,24,15311,0,12222]
[12,15415,24,15426,24,15433,23,15449,24,15475,0,12222]
[21,15586,22,15594,24,15600,14,15612,24,15622,0,22212]
[12,15730,24,15748,24,15755,23,15770,24,15778,0,12222]
[12,15882,24,15892,24,15901,14,15913,24,15926,0,12212]
[12,16034,24,16043,13,16111,23,16125,24,16135,0,12122]
[12,16240,24,16251,24,16259,23,16267,24,16299,0,12222]
[12,16403,24,16412,24,16419,23,16442,24,16455,0,12222]
[12,16558,24,16573,24,16580,14,16591,24,16604,0,12212]
[12,16703,13,16713,24,16722,23,16730,24,16738,0,11222]
[12,16857,24,16871,24,16879,23,16899,24,16929,0,12222]
[21,17059,11,17074,22,17088,23,17098,24,17107,0,21222]
[21,17236,11,17246,22,17260,23,17297,24,17306,0,21222]
[12,17413,24,17424,24,17432,23,17442,24,17450,0,12222]
[12,17553,13,17575,24,17584,23,17592,24,17601,0,11222]
[21,17732,11,17744,22,17760,23,17779,24,17822,0,21222]
[12,17926,24,17973,24,17985,23,17999,24,18032,0,12222]
[12,18137,24,18144,24,18151,14,18162,24,18193,0,12212]
[12,18294,13,18339,24,18348,23,18364,24,18376,0,11222]
[12,18475,24,18492,13,18508,23,18547,24,18588,0,12122]
[21,18714,22,18723,24,18732,23,18754,24,18762,0,22222]
[12,18873,24,18882,24,18889,23,18903,13,18918,0,12221]
[21,19028,11,19040,22,19049,23,19058,24,19067,0,21222]
[12,19189,24,19198,24,19213,23,19223,24,19232,0,12222]
[12,19338,24,19345,24,19356,14,19365,24,19383,0,12212]
[12,19495,24,19504,13,19517,23,19534,24,19550,0,12122]
[12,19654,24,19667,13,19678,23,19690,24,19698,0,12122]
[12,19815,13,19829,24,19842,23,19855,24,19862,0,11222]
[12,19985,24,19991,13,20003,23,20012,24,20021,0,12122]
[12,20125,24,20139,24,20180,23,20197,24,20206,0,12222]
[21,20322,22,20331,13,20341,23,20349,24,20357,0,22122]
[12,20466,24,20500,13,20512,23,20523,24,20532,0,12122]
[12,20632,24,20641,24,20647,14,20658,24,20666,0,12212]
[12,20774,24,20787,24,20800,23,20816,24,20825,0,12222]
[12,20927,24,20937,13,20948,23,20956,24,20964,0,12122]
[12,21063,13,21080,24,21093,14,21109,24,21118,0,11212]
[12,21218,13,21229,13,21237,23,21248,24,21256,0,11122]
[12,21354,24,21364,24,21372,23,21380,24,21393,0,12222]
[21,21514,11,21529,22,21547,23,21557,24,21567,0,21222]
[12,21665,24,21671,13,21683,23,21692,24,21701,0,12122]
[12,21809,24,21815,24,21821,14,21833,24,21857,0,12212]
[12,21983,24,21997,24,22024,23,22046,13,22067,0,12221]
[12,22168,24,22182,24,22191,23,22198,24,22231,0,12222]
[12,22337,24,22353,24,22362,23,22372,24,22380,0,12222]
[12,22478,24,22493,13,22505,23,22518,24,22527,0,12122]
[12,22632,24,22642,24,22652,23,22684,24,22704,0,12222]
[12,22803,13,22818,24,22831,23,22840,13,22855,0,11221]
[12,22953,24,22975,24,22980,23,22993,24,23008,0,12222]
[12,23117,24,23128,24,23152,23,23200,24,23209,0,12222]
[12,23312,24,23326,13,23337,23,23350,24,23371,0,12122]
[12,23480,24,23492,13,23504,23,23528,24,23538,0,12122]
[12,23650,24,23656,24,23664,14,23674,24,23697,0,12212]
[12,23795,24,23804,24,23814,23,23818,24,23824,0,12222]
[12,23924,24,23934,13,23942,23,23955,24,23963,null,12122]

{"sheet":"!N121850.091","index":4,"n_rows":137,"n_cols":48,"rows_kept":137,"cut":false,"hidden":false,"merged":[[4,39,4,42],[5,39,5,40],[4,44,4,47],[5,44,5,45],[4,24,4,27],[5,24,5,25],[4,29,4,32],[5,29,5,30],[4,34,4,37],[5,34,5,35],[1,1,1,2],[5,13,5,14],[42,13,42,14],[43,13,43,14],[4,19,4,22],[5,19,5,20]]}
["Report for:!N121850.091"]
["Date:","<date>"]
["Hen:","<hen>",null,null,null,"Correct Sequence",{"$f":"Start!J2","v":21121},null,null,null,null,null,null,null,null,"Total Sequences in Data",{"$f":"4994-COUNTBLANK(L7:L5000)","v":131},null,null,null,null,"Total Sequences in Block Data",{"$f":"COUNTA(L7:L28)","v":22},null,null,null,"Total Sequences in Block Data",{"$f":"COUNTA(L29:L50)","v":22},null,null,null,"Total Sequences in Block Data",{"$f":"COUNTA(L51:L71)","v":21},null,null,null,"Total Sequences in Block Data",{"$f":"COUNTA(L72:L93)","v":22},null,null,null,"Total Sequences in Block Data",{"$f":"COUNTA(L94:L115)","v":22},null,null,null,"Total Sequences in Block Data",{"$f":"COUNTA(L116:L137)","v":22}]
[null,null,null,null,null,null,null,null,null,null,null,null,null,null,null,"Total Sequences in Summary",{"$f":"SUM(O7:O38)","v":130},null,null,null,null,"Total Sequences in Block Summary",{"$f":"SUM(U7:U38)","v":22},null,null,null,"Total Sequences in Block Summary",{"$f":"SUM(Z7:Z38)","v":22},null,null,null,"Total Sequences in Block Summary",{"$f":"SUM(AE7:AE38)","v":21},null,null,null,"Total Sequences in Block Summary",{"$f":"SUM(AJ7:AJ38)","v":22},null,null,null,"Total Sequences in Block Summary",{"$f":"SUM(AO7:AO38)","v":22},null,null,null,"Total Sequences in Block Summary",{"$f":"SUM(AT7:AT38)","v":21}]
[null,null,null,null,null,null,null,null,null,null,null,null,null,null,null,null,null,null,null,"Block 1",null,null,null,null,"Block 2",null,null,null,null,"Block 3",null,null,null,null,"Block 4",null,null,null,null,"Block 5",null,null,null,null,"Block 6"]
["Sequence\nComponent\n1","Time\n1","Sequence\nComponent\n2","Time\n2","Sequence\nComponent\n3","Time\n3","Sequence\nComponent\n4","Time\n4","Sequence\nComponent\n5","Time\n5","Correct?\n0=No 1=Yes","Sequence",null,"Frequency",null,"Relative Frequency","Variability",null,null,"Frequency",null,"Relative Frequency","Variability",null,"Frequency",null,"Relative Frequency","Variability",null,"Frequency",null,"Relative Frequency","Variability",null,"Frequency",null,"Relative Frequency","Variability",null,"Frequency",null,"Relative Frequency","Variability",null,"Frequency",null,"Relative Frequency","Variability"]
[21,60,22,73,24,105,23,119,24,134,0,22222,null,11111,{"$f":"COUNTIF($L$7:$L$500,N7)","v":0},{"$f":"O7/$Q$4","v":0},{"$f":"IF(P7=0,0,(P7*((LOG(P7))/LOG(2))))","v":0},null,null,{"$f":"N7","v":11111},{"$f":"COUNTIF(L7:L28,T7)","v":0},{"$f":"U7/(W4-U25)","v":0},{"$f":"IF(V7=0,0,(V7*((LOG(V7))/LOG(2))))","v":0},null,{"$f":"N7","v":11111},{"$f":"COUNTIF(L29:L50,Y7)","v":0},{"$f":"Z7/(AB4-Z25)","v":0},{"$f":"IF(AA7=0,0,(AA7*((LOG(AA7))/LOG(2))))","v":0},null,{"$f":"N7","v":11111},{"$f":"COUNTIF(L51:L71,AD7)","v":0},{"$f":"AE7/(AG4-AE25)","v":0},{"$f":"IF(AF7=0,0,(AF7*((LOG(AF7))/LOG(2))))","v":0},null,{"$f":"N7","v":11111},{"$f":"COUNTIF(L72:L93,AI7)","v":0},{"$f":"AJ7/(AL4-AJ25)","v":0},{"$f":"IF(AK7=0,0,(AK7*((LOG(AK7))/LOG(2))))","v":0},null,{"$f":"N7","v":11111},{"$f":"COUNTIF(L94:L115,AN7)","v":0},{"$f":"AO7/(AQ4-AO25)","v":0},{"$f":"IF(AP7=0,0,(AP7*((LOG(AP7))/LOG(2))))","v":0},null,{"$f":"N7","v":11111},{"$f":"COUNTIF(L116:L137,AS7)","v":0},{"$f":"AT7/(AV4-AT25)","v":0},{"$f":"IF(AU7=0,0,(AU7*((LOG(AU7))/LOG(2))))","v":0}]
[12,236,24,249,24,282,23,300,24,312,0,12222,null,11112,{"$f":"COUNTIF($L$7:$L$500,N8)","v":0},{"$f":"O8/$Q$4","v":0},{"$f":"IF(P8=0,0,(P8*((LOG(P8))/LOG(2))))","v":0},null,null,{"$f":"N8","v":11112},{"$f":"COUNTIF(L7:L28,T8)","v":0},{"$f":"U8/(W4-U25)","v":0},{"$f":"IF(V8=0,0,(V8*((LOG(V8))/LOG(2))))","v":0},null,{"$f":"N8","v":11112},{"$f":"COUNTIF(L29:L50,Y8)","v":0},{"$f":"Z8/(AB4-Z25)","v":0},{"$f":"IF(AA8=0,0,(AA8*((LOG(AA8))/LOG(2))))","v":0},null,{"$f":"N8","v":11112},{"$f":"COUNTIF(L51:L71,AD8)","v":0},{"$f":"AE8/(AG4-AE25)","v":0},{"$f":"IF(AF8=0,0,(AF8*((LOG(AF8))/LOG(2))))","v":0},null,{"$f":"N8","v":11112},{"$f":"COUNTIF(L72:L93,AI8)","v":0},{"$f":"AJ8/(AL4-AJ25)","v":0},{"$f":"IF(AK8=0,0,(AK8*((LOG(AK8))/LOG(2))))","v":0},null,{"$f":"N8","v":11112},{"$f":"COUNTIF(L94:L115,AN8)","v":0},{"$f":"AO8/(AQ4-AO25)","v":0},{"$f":"IF(AP8=0,0,(AP8*((LOG(AP8))/LOG(2))))","v":0},null,{"$f":"N8","v":11112},{"$f":"COUNTIF(L116:L137,AS8)","v":0},{"$f":"AT8/(AV4-AT25)","v":0},{"$f":"IF(AU8=0,0,(AU8*((LOG(AU8))/LOG(2))))","v":0}]
[12,414,24,423,24,437,23,464,24,474,0,12222,null,11121,{"$f":"COUNTIF($L$7:$L$500,N9)","v":2},{"$f":"O9/$Q$4","v":1.5384615384615385E-2},{"$f":"IF(P9=0,0,(P9*((LOG(P9))/LOG(2))))","v":-9.2651812508130066E-2},null,null,{"$f":"N9","v":11121},{"$f":"COUNTIF(L7:L28,T9)","v":0},{"$f":"U9/(W4-U25)","v":0},{"$f":"IF(V9=0,0,(V9*((LOG(V9))/LOG(2))))","v":0},null,{"$f":"N9","v":11121},{"$f":"COUNTIF(L29:L50,Y9)","v":0},{"$f":"Z9/(AB4-Z25)","v":0},{"$f":"IF(AA9=0,0,(AA9*((LOG(AA9))/LOG(2))))","v":0},null,{"$f":"N9","v":11121},{"$f":"COUNTIF(L51:L71,AD9)","v":0},{"$f":"AE9/(AG4-AE25)","v":0},{"$f":"IF(AF9=0,0,(AF9*((LOG(AF9))/LOG(2))))","v":0},null,{"$f":"N9","v":11121},{"$f":"COUNTIF(L72:L93,AI9)","v":0},{"$f":"AJ9/(AL4-AJ25)","v":0},{"$f":"IF(AK9=0,0,(AK9*((LOG(AK9))/LOG(2))))","v":0},null,{"$f":"N9","v":11121},{"$f":"COUNTIF(L94:L115,AN9)","v":2},{"$f":"AO9/(AQ4-AO25)","v":9.5238095238095233E-2},{"$f":"IF(AP9=0,0,(AP9*((LOG(AP9))/LOG(2))))","v":-0.32307784978845333},null,{"$f":"N9","v":11121},{"$f":"COUNTIF(L116:L137,AS9)","v":0},{"$f":"AT9/(AV4-AT25)","v":0},{"$f":"IF(AU9=0,0,(AU9*((LOG(AU9))/LOG(2))))","v":0}]
[12,573,24,587,24,597,23,634,24,643,0,12222,null,11122,{"$f":"COUNTIF($L$7:$L$500,N10)","v":1},{"$f":"O10/$Q$4","v":7.6923076923076927E-3},{"$f":"IF(P10=0,0,(P10*((LOG(P10))/LOG(2))))","v":-5.4018213946372733E-2},null,null,{"$f":"N10","v":11122},{"$f":"COUNTIF(L7:L28,T10)","v":0},{"$f":"U10/(W4-U25)","v":0},{"$f":"IF(V10=0,0,(V10*((LOG(V10))/LOG(2))))","v":0},null,{"$f":"N10","v":11122},{"$f":"COUNTIF(L29:L50,Y10)","v":1},{"$f":"Z10/(AB4-Z25)","v":4.5454545454545456E-2},{"$f":"IF(AA10=0,0,(AA10*((LOG(AA10))/LOG(2))))","v":-0.20270143721078623},null,{"$f":"N10","v":11122},{"$f":"COUNTIF(L51:L71,AD10)","v":0},{"$f":"AE10/(AG4-AE25)","v":0},{"$f":"IF(AF10=0,0,(AF10*((LOG(AF10))/LOG(2))))","v":0},null,{"$f":"N10","v":11122},{"$f":"COUNTIF(L72:L93,AI10)","v":0},{"$f":"AJ10/(AL4-AJ25)","v":0},{"$f":"IF(AK10=0,0,(AK10*((LOG(AK10))/LOG(2))))","v":0},null,{"$f":"N10","v":11122},{"$f":"COUNTIF(L94:L115,AN10)","v":0},{"$f":"AO10/(AQ4-AO25)","v":0},{"$f":"IF(AP10=0,0,(AP10*((LOG(AP10))/LOG(2))))","v":0},null,{"$f":"N10","v":11122},{"$f":"COUNTIF(L116:L137,AS10)","v":0},{"$f":"AT10/(AV4-AT25)","v":0},{"$f":"IF(AU10=0,0,(AU10*((LOG(AU10))/LOG(2))))","v":0}]
[12,750,24,763,24,780,23,792,24,800,0,12222,null,11211,{"$f":"COUNTIF($L$7:$L$500,N11)","v":3},{"$f":"O11/$Q$4","v":2.3076923076923078E-2},{"$f":"IF(P11=0,0,(P11*((LOG(P11))/LOG(2))))","v":-0.12547858413016844},null,null,{"$f":"N11","v":11211},{"$f":"COUNTIF(L7:L28,T11)","v":0},{"$f":"U11/(W4-U25)","v":0},{"$f":"IF(V11=0,0,(V11*((LOG(V11))/LOG(2))))","v":0},null,{"$f":"N11","v":11211},{"$f":"COUNTIF(L29:L50,Y11)","v":0},{"$f":"Z11/(AB4-Z25)","v":0},{"$f":"IF(AA11=0,0,(AA11*((LOG(AA11))/LOG(2))))","v":0},null,{"$f":"N11","v":11211},{"$f":"COUNTIF(L51:L71,AD11)","v":1},{"$f":"AE11/(AG4-AE25)","v":4.7619047619047616E-2},{"$f":"IF(AF11=0,0,(AF11*((LOG(AF11))/LOG(2))))","v":-0.20915797251327431},null,{"$f":"N11","v":11211},{"$f":"COUNTIF(L72:L93,AI11)","v":1},{"$f":"AJ11/(AL4-AJ25)","v":4.5454545454545456E-2},{"$f":"IF(AK11=0,0,(AK11*((LOG(AK11))/LOG(2))))","v":-0.20270143721078623},null,{"$f":"N11","v":11211},{"$f":"COUNTIF(L94:L115,AN11)","v":0},{"$f":"AO11/(AQ4-AO25)","v":0},{"$f":"IF(AP11=0,0,(AP11*((LOG(AP11))/LOG(2))))","v":0},null,{"$f":"N11","v":11211},{"$f":"COUNTIF(L116:L137,AS11)","v":1},{"$f":"AT11/(AV4-AT25)","v":4.7619047619047616E-2},{"$f":"IF(AU11=0,0,(AU11*((LOG(AU11))/LOG(2))))","v":-0.20915797251327431}]
[12,899,24,928,24,976,23,1037,24,1046,0,12222,null,11212,{"$f":"COUNTIF($L$7:$L$500,N12)","v":11},{"$f":"O12/$Q$4","v":8.461538461538462E-2},{"$f":"IF(P12=0,0,(P12*((LOG(P12))/LOG(2))))","v":-0.30147921644848258},null,null,{"$f":"N12","v":11212},{"$f":"COUNTIF(L7:L28,T12)","v":0},{"$f":"U12/(W4-U25)","v":0},{"$f":"IF(V12=0,0,(V12*((LOG(V12))/LOG(2))))","v":0},null,{"$f":"N12","v":11212},{"$f":"COUNTIF(L29:L50,Y12)","v":1},{"$f":"Z12/(AB4-Z25)","v":4.5454545454545456E-2},{"$f":"IF(AA12=0,0,(AA12*((LOG(AA12))/LOG(2))))","v":-0.20270143721078623},null,{"$f":"N12","v":11212},{"$f":"COUNTIF(L51:L71,AD12)","v":6},{"$f":"AE12/(AG4-AE25)","v":0.2857142857142857},{"$f":"IF(AF12=0,0,(AF12*((LOG(AF12))/LOG(2))))","v":-0.51638712058788683},null,{"$f":"N12","v":11212},{"$f":"COUNTIF(L72:L93,AI12)","v":1},{"$f":"AJ12/(AL4-AJ25)","v":4.5454545454545456E-2},{"$f":"IF(AK12=0,0,(AK12*((LOG(AK12))/LOG(2))))","v":-0.20270143721078623},null,{"$f":"N12","v":11212},{"$f":"COUNTIF(L94:L115,AN12)","v":1},{"$f":"AO12/(AQ4-AO25)","v":4.7619047619047616E-2},{"$f":"IF(AP12=0,0,(AP12*((LOG(AP12))/LOG(2))))","v":-0.20915797251327431},null,{"$f":"N12","v":11212},{"$f":"COUNTIF(L116:L137,AS12)","v":2},{"$f":"AT12/(AV4-AT25)","v":9.5238095238095233E-2},{"$f":"IF(AU12=0,0,(AU12*((LOG(AU12))/LOG(2))))","v":-0.32307784978845333}]
[12,1146,24,1161,24,1173,23,1181,24,1197,0,12222,null,11221,{"$f":"COUNTIF($L$7:$L$500,N13)","v":4},{"$f":"O13/$Q$4","v":3.0769230769230771E-2},{"$f":"IF(P13=0,0,(P13*((LOG(P13))/LOG(2))))","v":-0.15453439424702936},null,null,{"$f":"N13","v":11221},{"$f":"COUNTIF(L7:L28,T13)","v":0},{"$f":"U13/(W4-U25)","v":0},{"$f":"IF(V13=0,0,(V13*((LOG(V13))/LOG(2))))","v":0},null,{"$f":"N13","v":11221},{"$f":"COUNTIF(L29:L50,Y13)","v":1},{"$f":"Z13/(AB4-Z25)","v":4.5454545454545456E-2},{"$f":"IF(AA13=0,0,(AA13*((LOG(AA13))/LOG(2))))","v":-0.20270143721078623},null,{"$f":"N13","v":11221},{"$f":"COUNTIF(L51:L71,AD13)","v":0},{"$f":"AE13/(AG4-AE25)","v":0},{"$f":"IF(AF13=0,0,(AF13*((LOG(AF13))/LOG(2))))","v":0},null,{"$f":"N13","v":11221},{"$f":"COUNTIF(L72:L93,AI13)","v":1},{"$f":"AJ13/(AL4-AJ25)","v":4.5454545454545456E-2},{"$f":"IF(AK13=0,0,(AK13*((LOG(AK13))/LOG(2))))","v":-0.20270143721078623},null,{"$f":"N13","v":11221},{"$f":"COUNTIF(L94:L115,AN13)","v":2},{"$f":"AO13/(AQ4-AO25)","v":9.5238095238095233E-2},{"$f":"IF(AP13=0,0,(AP13*((LOG(AP13))/LOG(2))))","v":-0.32307784978845333},null,{"$f":"N13","v":11221},{"$f":"COUNTIF(L116:L137,AS13)","v":0},{"$f":"AT13/(AV4-AT25)","v":0},{"$f":"IF(AU13=0,0,(AU13*((LOG(AU13))/LOG(2))))","v":0}]
[12,1301,13,1322,24,1330,23,1347,24,1393,0,11222,null,11222,{"$f":"COUNTIF($L$7:$L$500,N14)","v":5},{"$f":"O14/$Q$4","v":3.8461538461538464E-2},{"$f":"IF(P14=0,0,(P14*((LOG(P14))/LOG(2))))","v":-0.18078614300542661},null,null,{"$f":"N14","v":11222},{"$f":"COUNTIF(L7:L28,T14)","v":1},{"$f":"U14/(W4-U25)","v":4.5454545454545456E-2},{"$f":"IF(V14=0,0,(V14*((LOG(V14))/LOG(2))))","v":-0.20270143721078623},null,{"$f":"N14","v":11222},{"$f":"COUNTIF(L29:L50,Y14)","v":2},{"$f":"Z14/(AB4-Z25)","v":9.0909090909090912E-2},{"$f":"IF(AA14=0,0,(AA14*((LOG(AA14))/LOG(2))))","v":-0.31449378351248153},null,{"$f":"N14","v":11222},{"$f":"COUNTIF(L51:L71,AD14)","v":2},{"$f":"AE14/(AG4-AE25)","v":9.5238095238095233E-2},{"$f":"IF(AF14=0,0,(AF14*((LOG(AF14))/LOG(2))))","v":-0.32307784978845333},null,{"$f":"N14","v":11222},{"$f":"COUNTIF(L72:L93,AI14)","v":0},{"$f":"AJ14/(AL4-AJ25)","v":0},{"$f":"IF(AK14=0,0,(AK14*((LOG(AK14))/LOG(2))))","v":0},null,{"$f":"N14","v":11222},{"$f":"COUNTIF(L94:L115,AN14)","v":0},{"$f":"AO14/(AQ4-AO25)","v":0},{"$f":"IF(AP14=0,0,(AP14*((LOG(AP14))/LOG(2))))","v":0},null,{"$f":"N14","v":11222},{"$f":"COUNTIF(L116:L137,AS14)","v":0},{"$f":"AT14/(AV4-AT25)","v":0},{"$f":"IF(AU14=0,0,(AU14*((LOG(AU14))/LOG(2))))","v":0}]
[12,1499,24,1509,24,1521,23,1536,13,1552,0,12221,null,12111,{"$f":"COUNTIF($L$7:$L$500,N15)","v":0},{"$f":"O15/$Q$4","v":0},{"$f":"IF(P15=0,0,(P15*((LOG(P15))/LOG(2))))","v":0},null,null,{"$f":"N15","v":12111},{"$f":"COUNTIF(L7:L28,T15)","v":0},{"$f":"U15/(W4-U25)","v":0},{"$f":"IF(V15=0,0,(V15*((LOG(V15))/LOG(2))))","v":0},null,{"$f":"N15","v":12111},{"$f":"COUNTIF(L29:L50,Y15)","v":0},{"$f":"Z15/(AB4-Z25)","v":0},{"$f":"IF(AA15=0,0,(AA15*((LOG(AA15))/LOG(2))))","v":0},null,{"$f":"N15","v":12111},{"$f":"COUNTIF(L51:L71,AD15)","v":0},{"$f":"AE15/(AG4-AE25)","v":0},{"$f":"IF(AF15=0,0,(AF15*((LOG(AF15))/LOG(2))))","v":0},null,{"$f":"N15","v":12111},{"$f":"COUNTIF(L72:L93,AI15)","v":0},{"$f":"AJ15/(AL4-AJ25)","v":0},{"$f":"IF(AK15=0,0,(AK15*((LOG(AK15))/LOG(2))))","v":0},null,{"$f":"N15","v":12111},{"$f":"COUNTIF(L94:L115,AN15)","v":0},{"$f":"AO15/(AQ4-AO25)","v":0},{"$f":"IF(AP15=0,0,(AP15*((LOG(AP15))/LOG(2))))","v":0},null,{"$f":"N15","v":12111},{"$f":"COUNTIF(L116:L137,AS15)","v":0},{"$f":"AT15/(AV4-AT25)","v":0},{"$f":"IF(AU15=0,0,(AU15*((LOG(AU15))/LOG(2))))","v":0}]
[12,1655,24,1662,24,1675,23,1689,24,1710,0,12222,null,12112,{"$f":"COUNTIF($L$7:$L$500,N16)","v":4},{"$f":"O16/$Q$4","v":3.0769230769230771E-2},{"$f":"IF(P16=0,0,(P16*((LOG(P16))/LOG(2))))","v":-0.15453439424702936},null,null,{"$f":"N16","v":12112},{"$f":"COUNTIF(L7:L28,T16)","v":0},{"$f":"U16/(W4-U25)","v":0},{"$f":"IF(V16=0,0,(V16*((LOG(V16))/LOG(2))))","v":0},null,{"$f":"N16","v":12112},{"$f":"COUNTIF(L29:L50,Y16)","v":0},{"$f":"Z16/(AB4-Z25)","v":0},{"$f":"IF(AA16=0,0,(AA16*((LOG(AA16))/LOG(2))))","v":0},null,{"$f":"N16","v":12112},{"$f":"COUNTIF(L51:L71,AD16)","v":0},{"$f":"AE16/(AG4-AE25)","v":0},{"$f":"IF(AF16=0,0,(AF16*((LOG(AF16))/LOG(2))))","v":0},null,{"$f":"N16","v":12112},{"$f":"COUNTIF(L72:L93,AI16)","v":2},{"$f":"AJ16/(AL4-AJ25)","v":9.0909090909090912E-2},{"$f":"IF(AK16=0,0,(AK16*((LOG(AK16))/LOG(2))))","v":-0.31449378351248153},null,{"$f":"N16","v":12112},{"$f":"COUNTIF(L94:L115,AN16)","v":2},{"$f":"AO16/(AQ4-AO25)","v":9.5238095238095233E-2},{"$f":"IF(AP16=0,0,(AP16*((LOG(AP16))/LOG(2))))","v":-0.32307784978845333},null,{"$f":"N16","v":12112},{"$f":"COUNTIF(L116:L137,AS16)","v":0},{"$f":"AT16/(AV4-AT25)","v":0},{"$f":"IF(AU16=0,0,(AU16*((LOG(AU16))/LOG(2))))","v":0}]
[12,1825,24,1837,24,1845,23,1854,24,1863,0,12222,null,12121,{"$f":"COUNTIF($L$7:$L$500,N17)","v":16},{"$f":"O17/$Q$4","v":0.12307692307692308},{"$f":"IF(P17=0,0,(P17*((LOG(P17))/LOG(2))))","v":-0.37198373083427133},null,null,{"$f":"N17","v":12121},{"$f":"COUNTIF(L7:L28,T17)","v":1},{"$f":"U17/(W4-U25)","v":4.5454545454545456E-2},{"$f":"IF(V17=0,0,(V17*((LOG(V17))/LOG(2))))","v":-0.20270143721078623},null,{"$f":"N17","v":12121},{"$f":"COUNTIF(L29:L50,Y17)","v":1},{"$f":"Z17/(AB4-Z25)","v":4.5454545454545456E-2},{"$f":"IF(AA17=0,0,(AA17*((LOG(AA17))/LOG(2))))","v":-0.20270143721078623},null,{"$f":"N17","v":12121},{"$f":"COUNTIF(L51:L71,AD17)","v":2},{"$f":"AE17/(AG4-AE25)","v":9.5238095238095233E-2},{"$f":"IF(AF17=0,0,(AF17*((LOG(AF17))/LOG(2))))","v":-0.32307784978845333},null,{"$f":"N17","v":12121},{"$f":"COUNTIF(L72:L93,AI17)","v":3},{"$f":"AJ17/(AL4-AJ25)","v":0.13636363636363635},{"$f":"IF(AK17=0,0,(AK17*((LOG(AK17))/LOG(2))))","v":-0.39197306153401923},null,{"$f":"N17","v":12121},{"$f":"COUNTIF(L94:L115,AN17)","v":2},{"$f":"AO17/(AQ4-AO25)","v":9.5238095238095233E-2},{"$f":"IF(AP17=0,0,(AP17*((LOG(AP17))/LOG(2))))","v":-0.32307784978845333},null,{"$f":"N17","v":12121},{"$f":"COUNTIF(L116:L137,AS17)","v":7},{"$f":"AT17/(AV4-AT25)","v":0.33333333333333331},{"$f":"IF(AU17=0,0,(AU17*((LOG(AU17))/LOG(2))))","v":-0.52832083357371862}]
[12,1963,24,1976,24,1992,23,2000,24,2008,0,12222,null,12122,{"$f":"COUNTIF($L$7:$L$500,N18)","v":20},{"$f":"O18/$Q$4","v":0.15384615384615385},{"$f":"IF(P18=0,0,(P18*((LOG(P18))/LOG(2))))","v":-0.4154522643293988},null,null,{"$f":"N18","v":12122},{"$f":"COUNTIF(L7:L28,T18)","v":1},{"$f":"U18/(W4-U25)","v":4.5454545454545456E-2},{"$f":"IF(V18=0,0,(V18*((LOG(V18))/LOG(2))))","v":-0.20270143721078623},null,{"$f":"N18","v":12122},{"$f":"COUNTIF(L29:L50,Y18)","v":4},{"$f":"Z18/(AB4-Z25)","v":0.18181818181818182},{"$f":"IF(AA18=0,0,(AA18*((LOG(AA18))/LOG(2))))","v":-0.44716938520678134},null,{"$f":"N18","v":12122},{"$f":"COUNTIF(L51:L71,AD18)","v":7},{"$f":"AE18/(AG4-AE25)","v":0.33333333333333331},{"$f":"IF(AF18=0,0,(AF18*((LOG(AF18))/LOG(2))))","v":-0.52832083357371862},null,{"$f":"N18","v":12122},{"$f":"COUNTIF(L72:L93,AI18)","v":3},{"$f":"AJ18/(AL4-AJ25)","v":0.13636363636363635},{"$f":"IF(AK18=0,0,(AK18*((LOG(AK18))/LOG(2))))","v":-0.39197306153401923},null,{"$f":"N18","v":12122},{"$f":"COUNTIF(L94:L115,AN18)","v":4},{"$f":"AO18/(AQ4-AO25)","v":0.19047619047619047},{"$f":"IF(AP18=0,0,(AP18*((LOG(AP18))/LOG(2))))","v":-0.4556795091007162},null,{"$f":"N18","v":12122},{"$f":"COUNTIF(L116:L137,AS18)","v":1},{"$f":"AT18/(AV4-AT25)","v":4.7619047619047616E-2},{"$f":"IF(AU18=0,0,(AU18*((LOG(AU18))/LOG(2))))","v":-0.20915797251327431}]
[12,2118,24,2128,24,2140,23,2172,24,2182,0,12222,null,12211,{"$f":"COUNTIF($L$7:$L$500,N19)","v":2},{"$f":"O19/$Q$4","v":1.5384615384615385E-2},{"$f":"IF(P19=0,0,(P19*((LOG(P19))/LOG(2))))","v":-9.2651812508130066E-2},null,null,{"$f":"N19","v":12211},{"$f":"COUNTIF(L7:L28,T19)","v":0},{"$f":"U19/(W4-U25)","v":0},{"$f":"IF(V19=0,0,(V19*((LOG(V19))/LOG(2))))","v":0},null,{"$f":"N19","v":12211},{"$f":"COUNTIF(L29:L50,Y19)","v":1},{"$f":"Z19/(AB4-Z25)","v":4.5454545454545456E-2},{"$f":"IF(AA19=0,0,(AA19*((LOG(AA19))/LOG(2))))","v":-0.20270143721078623},null,{"$f":"N19","v":12211},{"$f":"COUNTIF(L51:L71,AD19)","v":0},{"$f":"AE19/(AG4-AE25)","v":0},{"$f":"IF(AF19=0,0,(AF19*((LOG(AF19))/LOG(2))))","v":0},null,{"$f":"N19","v":12211},{"$f":"COUNTIF(L72:L93,AI19)","v":1},{"$f":"AJ19/(AL4-AJ25)","v":4.5454545454545456E-2},{"$f":"IF(AK19=0,0,(AK19*((LOG(AK19))/LOG(2))))","v":-0.20270143721078623},null,{"$f":"N19","v":12211},{"$f":"COUNTIF(L94:L115,AN19)","v":0},{"$f":"AO19/(AQ4-AO25)","v":0},{"$f":"IF(AP19=0,0,(AP19*((LOG(AP19))/LOG(2))))","v":0},null,{"$f":"N19","v":12211},{"$f":"COUNTIF(L116:L137,AS19)","v":0},{"$f":"AT19/(AV4-AT25)","v":0},{"$f":"IF(AU19=0,0,(AU19*((LOG(AU19))/LOG(2))))","v":0}]
[21,2306,11,2315,22,2341,23,2350,13,2386,0,21221,null,12212,{"$f":"COUNTIF($L$7:$L$500,N20)","v":9},{"$f":"O20/$Q$4","v":6.9230769230769235E-2},{"$f":"IF(P20=0,0,(P20*((LOG(P20))/LOG(2))))","v":-0.26670757926365601},null,null,{"$f":"N20","v":12212},{"$f":"COUNTIF(L7:L28,T20)","v":0},{"$f":"U20/(W4-U25)","v":0},{"$f":"IF(V20=0,0,(V20*((LOG(V20))/LOG(2))))","v":0},null,{"$f":"N20","v":12212},{"$f":"COUNTIF(L29:L50,Y20)","v":2},{"$f":"Z20/(AB4-Z25)","v":9.0909090909090912E-2},{"$f":"IF(AA20=0,0,(AA20*((LOG(AA20))/LOG(2))))","v":-0.31449378351248153},null,{"$f":"N20","v":12212},{"$f":"COUNTIF(L51:L71,AD20)","v":0},{"$f":"AE20/(AG4-AE25)","v":0},{"$f":"IF(AF20=0,0,(AF20*((LOG(AF20))/LOG(2))))","v":0},null,{"$f":"N20","v":12212},{"$f":"COUNTIF(L72:L93,AI20)","v":2},{"$f":"AJ20/(AL4-AJ25)","v":9.0909090909090912E-2},{"$f":"IF(AK20=0,0,(AK20*((LOG(AK20))/LOG(2))))","v":-0.31449378351248153},null,{"$f":"N20","v":12212},{"$f":"COUNTIF(L94:L115,AN20)","v":4},{"$f":"AO20/(AQ4-AO25)","v":0.19047619047619047},{"$f":"IF(AP20=0,0,(AP20*((LOG(AP20))/LOG(2))))","v":-0.4556795091007162},null,{"$f":"N20","v":12212},{"$f":"COUNTIF(L116:L137,AS20)","v":1},{"$f":"AT20/(AV4-AT25)","v":4.7619047619047616E-2},{"$f":"IF(AU20=0,0,(AU20*((LOG(AU20))/LOG(2))))","v":-0.20915797251327431}]
[12,2486,24,2502,24,2511,23,2531,24,2540,0,12222,null,12221,{"$f":"COUNTIF($L$7:$L$500,N21)","v":3},{"$f":"O21/$Q$4","v":2.3076923076923078E-2},{"$f":"IF(P21=0,0,(P21*((LOG(P21))/LOG(2))))","v":-0.12547858413016844},null,null,{"$f":"N21","v":12221},{"$f":"COUNTIF(L7:L28,T21)","v":3},{"$f":"U21/(W4-U25)","v":0.13636363636363635},{"$f":"IF(V21=0,0,(V21*((LOG(V21))/LOG(2))))","v":-0.39197306153401923},null,{"$f":"N21","v":12221},{"$f":"COUNTIF(L29:L50,Y21)","v":0},{"$f":"Z21/(AB4-Z25)","v":0},{"$f":"IF(AA21=0,0,(AA21*((LOG(AA21))/LOG(2))))","v":0},null,{"$f":"N21","v":12221},{"$f":"COUNTIF(L51:L71,AD21)","v":0},{"$f":"AE21/(AG4-AE25)","v":0},{"$f":"IF(AF21=0,0,(AF21*((LOG(AF21))/LOG(2))))","v":0},null,{"$f":"N21","v":12221},{"$f":"COUNTIF(L72:L93,AI21)","v":0},{"$f":"AJ21/(AL4-AJ25)","v":0},{"$f":"IF(AK21=0,0,(AK21*((LOG(AK21))/LOG(2))))","v":0},null,{"$f":"N21","v":12221},{"$f":"COUNTIF(L94:L115,AN21)","v":0},{"$f":"AO21/(AQ4-AO25)","v":0},{"$f":"IF(AP21=0,0,(AP21*((LOG(AP21))/LOG(2))))","v":0},null,{"$f":"N21","v":12221},{"$f":"COUNTIF(L116:L137,AS21)","v":0},{"$f":"AT21/(AV4-AT25)","v":0},{"$f":"IF(AU21=0,0,(AU21*((LOG(AU21))/LOG(2))))","v":0}]
[12,2640,24,2653,24,2667,23,2675,24,2683,0,12222,null,12222,{"$f":"COUNTIF($L$7:$L$500,N22)","v":14},{"$f":"O22/$Q$4","v":0.1076923076923077},{"$f":"IF(P22=0,0,(P22*((LOG(P22))/LOG(2))))","v":-0.34623215748916852},null,null,{"$f":"N22","v":12222},{"$f":"COUNTIF(L7:L28,T22)","v":13},{"$f":"U22/(W4-U25)","v":0.59090909090909094},{"$f":"IF(V22=0,0,(V22*((LOG(V22))/LOG(2))))","v":-0.4484952139295757},null,{"$f":"N22","v":12222},{"$f":"COUNTIF(L29:L50,Y22)","v":0},{"$f":"Z22/(AB4-Z25)","v":0},{"$f":"IF(AA22=0,0,(AA22*((LOG(AA22))/LOG(2))))","v":0},null,{"$f":"N22","v":12222},{"$f":"COUNTIF(L51:L71,AD22)","v":0},{"$f":"AE22/(AG4-AE25)","v":0},{"$f":"IF(AF22=0,0,(AF22*((LOG(AF22))/LOG(2))))","v":0},null,{"$f":"N22","v":12222},{"$f":"COUNTIF(L72:L93,AI22)","v":1},{"$f":"AJ22/(AL4-AJ25)","v":4.5454545454545456E-2},{"$f":"IF(AK22=0,0,(AK22*((LOG(AK22))/LOG(2))))","v":-0.20270143721078623},null,{"$f":"N22","v":12222},{"$f":"COUNTIF(L94:L115,AN22)","v":0},{"$f":"AO22/(AQ4-AO25)","v":0},{"$f":"IF(AP22=0,0,(AP22*((LOG(AP22))/LOG(2))))","v":0},null,{"$f":"N22","v":12222},{"$f":"COUNTIF(L116:L137,AS22)","v":0},{"$f":"AT22/(AV4-AT25)","v":0},{"$f":"IF(AU22=0,0,(AU22*((LOG(AU22))/LOG(2))))","v":0}]
[12,2783,24,2802,24,2814,23,2822,13,2834,0,12221,null,21111,{"$f":"COUNTIF($L$7:$L$500,N23)","v":0},{"$f":"O23/$Q$4","v":0},{"$f":"IF(P23=0,0,(P23*((LOG(P23))/LOG(2))))","v":0},null,null,{"$f":"N23","v":21111},{"$f":"COUNTIF(L7:L28,T23)","v":0},{"$f":"U23/(W4-U25)","v":0},{"$f":"IF(V23=0,0,(V23*((LOG(V23))/LOG(2))))","v":0},null,{"$f":"N23","v":21111},{"$f":"COUNTIF(L29:L50,Y23)","v":0},{"$f":"Z23/(AB4-Z25)","v":0},{"$f":"IF(AA23=0,0,(AA23*((LOG(AA23))/LOG(2))))","v":0},null,{"$f":"N23","v":21111},{"$f":"COUNTIF(L51:L71,AD23)","v":0},{"$f":"AE23/(AG4-AE25)","v":0},{"$f":"IF(AF23=0,0,(AF23*((LOG(AF23))/LOG(2))))","v":0},null,{"$f":"N23","v":21111},{"$f":"COUNTIF(L72:L93,AI23)","v":0},{"$f":"AJ23/(AL4-AJ25)","v":0},{"$f":"IF(AK23=0,0,(AK23*((LOG(AK23))/LOG(2))))","v":0},null,{"$f":"N23","v":21111},{"$f":"COUNTIF(L94:L115,AN23)","v":0},{"$f":"AO23/(AQ4-AO25)","v":0},{"$f":"IF(AP23=0,0,(AP23*((LOG(AP23))/LOG(2))))","v":0},null,{"$f":"N23","v":21111},{"$f":"COUNTIF(L116:L137,AS23)","v":0},{"$f":"AT23/(AV4-AT25)","v":0},{"$f":"IF(AU23=0,0,(AU23*((LOG(AU23))/LOG(2))))","v":0}]
[12,2953,24,2962,24,2989,23,3027,24,3066,0,12222,null,21112,{"$f":"COUNTIF($L$7:$L$500,N24)","v":2},{"$f":"O24/$Q$4","v":1.5384615384615385E-2},{"$f":"IF(P24=0,0,(P24*((LOG(P24))/LOG(2))))","v":-9.2651812508130066E-2},null,null,{"$f":"N24","v":21112},{"$f":"COUNTIF(L7:L28,T24)","v":0},{"$f":"U24/(W4-U25)","v":0},{"$f":"IF(V24=0,0,(V24*((LOG(V24))/LOG(2))))","v":0},null,{"$f":"N24","v":21112},{"$f":"COUNTIF(L29:L50,Y24)","v":0},{"$f":"Z24/(AB4-Z25)","v":0},{"$f":"IF(AA24=0,0,(AA24*((LOG(AA24))/LOG(2))))","v":0},null,{"$f":"N24","v":21112},{"$f":"COUNTIF(L51:L71,AD24)","v":0},{"$f":"AE24/(AG4-AE25)","v":0},{"$f":"IF(AF24=0,0,(AF24*((LOG(AF24))/LOG(2))))","v":0},null,{"$f":"N24","v":21112},{"$f":"COUNTIF(L72:L93,AI24)","v":1},{"$f":"AJ24/(AL4-AJ25)","v":4.5454545454545456E-2},{"$f":"IF(AK24=0,0,(AK24*((LOG(AK24))/LOG(2))))","v":-0.20270143721078623},null,{"$f":"N24","v":21112},{"$f":"COUNTIF(L94:L115,AN24)","v":0},{"$f":"AO24/(AQ4-AO25)","v":0},{"$f":"IF(AP24=0,0,(AP24*((LOG(AP24))/LOG(2))))","v":0},null,{"$f":"N24","v":21112},{"$f":"COUNTIF(L116:L137,AS24)","v":1},{"$f":"AT24/(AV4-AT25)","v":4.7619047619047616E-2},{"$f":"IF(AU24=0,0,(AU24*((LOG(AU24))/LOG(2))))","v":-0.20915797251327431}]
[12,3177,24,3210,13,3223,23,3266,13,3324,0,12121,null,21121,{"$f":"COUNTIF($L$7:$L$500,N25)","v":1},{"$f":"O25/$Q$4","v":7.6923076923076927E-3},{"$f":"IF(P25=0,0,(P25*((LOG(P25))/LOG(2))))","v":-5.4018213946372733E-2},null,null,{"$f":"N25","v":21121},{"$f":"COUNTIF(L7:L28,T25)","v":0},null,null,null,{"$f":"N25","v":21121},{"$f":"COUNTIF(L29:L50,Y25)","v":0},null,null,null,{"$f":"N25","v":21121},{"$f":"COUNTIF(L51:L71,AD25)","v":0},null,null,null,{"$f":"N25","v":21121},{"$f":"COUNTIF(L72:L93,AI25)","v":0},null,null,null,{"$f":"N25","v":21121},{"$f":"COUNTIF(L94:L115,AN25)","v":1},null,null,null,{"$f":"N25","v":21121},{"$f":"COUNTIF(L116:L137,AS25)","v":0}]
[21,3427,11,3435,22,3450,23,3457,24,3468,0,21222,null,21122,{"$f":"COUNTIF($L$7:$L$500,N26)","v":2},{"$f":"O26/$Q$4","v":1.5384615384615385E-2},{"$f":"IF(P26=0,0,(P26*((LOG(P26))/LOG(2))))","v":-9.2651812508130066E-2},null,null,{"$f":"N26","v":21122},{"$f":"COUNTIF(L7:L28,T26)","v":0},{"$f":"U26/(W4-U25)","v":0},{"$f":"IF(V26=0,0,(V26*((LOG(V26))/LOG(2))))","v":0},null,{"$f":"N26","v":21122},{"$f":"COUNTIF(L29:L50,Y26)","v":2},{"$f":"Z26/(AB4-Z25)","v":9.0909090909090912E-2},{"$f":"IF(AA26=0,0,(AA26*((LOG(AA26))/LOG(2))))","v":-0.31449378351248153},null,{"$f":"N26","v":21122},{"$f":"COUNTIF(L51:L71,AD26)","v":0},{"$f":"AE26/(AG4-AE25)","v":0},{"$f":"IF(AF26=0,0,(AF26*((LOG(AF26))/LOG(2))))","v":0},null,{"$f":"N26","v":21122},{"$f":"COUNTIF(L72:L93,AI26)","v":0},{"$f":"AJ26/(AL4-AJ25)","v":0},{"$f":"IF(AK26=0,0,(AK26*((LOG(AK26))/LOG(2))))","v":0},null,{"$f":"N26","v":21122},{"$f":"COUNTIF(L94:L115,AN26)","v":0},{"$f":"AO26/(AQ4-AO25)","v":0},{"$f":"IF(AP26=0,0,(AP26*((LOG(AP26))/LOG(2))))","v":0},null,{"$f":"N26","v":21122},{"$f":"COUNTIF(L116:L137,AS26)","v":0},{"$f":"AT26/(AV4-AT25)","v":0},{"$f":"IF(AU26=0,0,(AU26*((LOG(AU26))/LOG(2))))","v":0}]
[12,3567,24,3582,13,3592,23,3600,24,3608,0,12122,null,21211,{"$f":"COUNTIF($L$7:$L$500,N27)","v":1},{"$f":"O27/$Q$4","v":7.6923076923076927E-3},{"$f":"IF(P27=0,0,(P27*((LOG(P27))/LOG(2))))","v":-5.4018213946372733E-2},null,null,{"$f":"N27","v":21211},{"$f":"COUNTIF(L7:L28,T27)","v":0},{"$f":"U27/(W4-U25)","v":0},{"$f":"IF(V27=0,0,(V27*((LOG(V27))/LOG(2))))","v":0},null,{"$f":"N27","v":21211},{"$f":"COUNTIF(L29:L50,Y27)","v":0},{"$f":"Z27/(AB4-Z25)","v":0},{"$f":"IF(AA27=0,0,(AA27*((LOG(AA27))/LOG(2))))","v":0},null,{"$f":"N27","v":21211},{"$f":"COUNTIF(L51:L71,AD27)","v":0},{"$f":"AE27/(AG4-AE25)","v":0},{"$f":"IF(AF27=0,0,(AF27*((LOG(AF27))/LOG(2))))","v":0},null,{"$f":"N27","v":21211},{"$f":"COUNTIF(L72:L93,AI27)","v":1},{"$f":"AJ27/(AL4-AJ25)","v":4.5454545454545456E-2},{"$f":"IF(AK27=0,0,(AK27*((LOG(AK27))/LOG(2))))","v":-0.20270143721078623},null,{"$f":"N27","v":21211},{"$f":"COUNTIF(L94:L115,AN27)","v":0},{"$f":"AO27/(AQ4-AO25)","v":0},{"$f":"IF(AP27=0,0,(AP27*((LOG(AP27))/LOG(2))))","v":0},null,{"$f":"N27","v":21211},{"$f":"COUNTIF(L116:L137,AS27)","v":0},{"$f":"AT27/(AV4-AT25)","v":0},{"$f":"IF(AU27=0,0,(AU27*((LOG(AU27))/LOG(2))))","v":0}]
[12,3738,24,3793,24,3815,23,3844,13,3859,0,12221,null,21212,{"$f":"COUNTIF($L$7:$L$500,N28)","v":5},{"$f":"O28/$Q$4","v":3.8461538461538464E-2},{"$f":"IF(P28=0,0,(P28*((LOG(P28))/LOG(2))))","v":-0.18078614300542661},null,null,{"$f":"N28","v":21212},{"$f":"COUNTIF(L7:L28,T28)","v":0},{"$f":"U28/(W4-U25)","v":0},{"$f":"IF(V28=0,0,(V28*((LOG(V28))/LOG(2))))","v":0},null,{"$f":"N28","v":21212},{"$f":"COUNTIF(L29:L50,Y28)","v":0},{"$f":"Z28/(AB4-Z25)","v":0},{"$f":"IF(AA28=0,0,(AA28*((LOG(AA28))/LOG(2))))","v":0},null,{"$f":"N28","v":21212},{"$f":"COUNTIF(L51:L71,AD28)","v":0},{"$f":"AE28/(AG4-AE25)","v":0},{"$f":"IF(AF28=0,0,(AF28*((LOG(AF28))/LOG(2))))","v":0},null,{"$f":"N28","v":21212},{"$f":"COUNTIF(L72:L93,AI28)","v":2},{"$f":"AJ28/(AL4-AJ25)","v":9.0909090909090912E-2},{"$f":"IF(AK28=0,0,(AK28*((LOG(AK28))/LOG(2))))","v":-0.31449378351248153},null,{"$f":"N28","v":21212},{"$f":"COUNTIF(L94:L115,AN28)","v":1},{"$f":"AO28/(AQ4-AO25)","v":4.7619047619047616E-2},{"$f":"IF(AP28=0,0,(AP28*((LOG(AP28))/LOG(2))))","v":-0.20915797251327431},null,{"$f":"N28","v":21212},{"$f":"COUNTIF(L116:L137,AS28)","v":2},{"$f":"AT28/(AV4-AT25)","v":9.5238095238095233E-2},{"$f":"IF(AU28=0,0,(AU28*((LOG(AU28))/LOG(2))))","v":-0.32307784978845333}]
[21,3970,11,3982,11,4019,21,4035,22,4053,0,21122,null,21221,{"$f":"COUNTIF($L$7:$L$500,N29)","v":7},{"$f":"O29/$Q$4","v":5.3846153846153849E-2},{"$f":"IF(P29=0,0,(P29*((LOG(P29))/LOG(2))))","v":-0.22696223259073811},null,null,{"$f":"N29","v":21221},{"$f":"COUNTIF(L7:L28,T29)","v":1},{"$f":"U29/(W4-U25)","v":4.5454545454545456E-2},{"$f":"IF(V29=0,0,(V29*((LOG(V29))/LOG(2))))","v":-0.20270143721078623},null,{"$f":"N29","v":21221},{"$f":"COUNTIF(L29:L50,Y29)","v":2},{"$f":"Z29/(AB4-Z25)","v":9.0909090909090912E-2},{"$f":"IF(AA29=0,0,(AA29*((LOG(AA29))/LOG(2))))","v":-0.31449378351248153},null,{"$f":"N29","v":21221},{"$f":"COUNTIF(L51:L71,AD29)","v":2},{"$f":"AE29/(AG4-AE25)","v":9.5238095238095233E-2},{"$f":"IF(AF29=0,0,(AF29*((LOG(AF29))/LOG(2))))","v":-0.32307784978845333},null,{"$f":"N29","v":21221},{"$f":"COUNTIF(L72:L93,AI29)","v":0},{"$f":"AJ29/(AL4-AJ25)","v":0},{"$f":"IF(AK29=0,0,(AK29*((LOG(AK29))/LOG(2))))","v":0},null,{"$f":"N29","v":21221},{"$f":"COUNTIF(L94:L115,AN29)","v":1},{"$f":"AO29/(AQ4-AO25)","v":4.7619047619047616E-2},{"$f":"IF(AP29=0,0,(AP29*((LOG(AP29))/LOG(2))))","v":-0.20915797251327431},null,{"$f":"N29","v":21221},{"$f":"COUNTIF(L116:L137,AS29)","v":1},{"$f":"AT29/(AV4-AT25)","v":4.7619047619047616E-2},{"$f":"IF(AU29=0,0,(AU29*((LOG(AU29))/LOG(2))))","v":-0.20915797251327431}]
[12,4152,13,4171,24,4195,23,4209,13,4222,0,11221,null,21222,{"$f":"COUNTIF($L$7:$L$500,N30)","v":11},{"$f":"O30/$Q$4","v":8.461538461538462E-2},{"$f":"IF(P30=0,0,(P30*((LOG(P30))/LOG(2))))","v":-0.30147921644848258},null,null,{"$f":"N30","v":21222},{"$f":"COUNTIF(L7:L28,T30)","v":1},{"$f":"U30/(W4-U25)","v":4.5454545454545456E-2},{"$f":"IF(V30=0,0,(V30*((LOG(V30))/LOG(2))))","v":-0.20270143721078623},null,{"$f":"N30","v":21222},{"$f":"COUNTIF(L29:L50,Y30)","v":4},{"$f":"Z30/(AB4-Z25)","v":0.18181818181818182},{"$f":"IF(AA30=0,0,(AA30*((LOG(AA30))/LOG(2))))","v":-0.44716938520678134},null,{"$f":"N30","v":21222},{"$f":"COUNTIF(L51:L71,AD30)","v":1},{"$f":"AE30/(AG4-AE25)","v":4.7619047619047616E-2},{"$f":"IF(AF30=0,0,(AF30*((LOG(AF30))/LOG(2))))","v":-0.20915797251327431},null,{"$f":"N30","v":21222},{"$f":"COUNTIF(L72:L93,AI30)","v":1},{"$f":"AJ30/(AL4-AJ25)","v":4.5454545454545456E-2},{"$f":"IF(AK30=0,0,(AK30*((LOG(AK30))/LOG(2))))","v":-0.20270143721078623},null,{"$f":"N30","v":21222},{"$f":"COUNTIF(L94:L115,AN30)","v":2},{"$f":"AO30/(AQ4-AO25)","v":9.5238095238095233E-2},{"$f":"IF(AP30=0,0,(AP30*((LOG(AP30))/LOG(2))))","v":-0.32307784978845333},null,{"$f":"N30","v":21222},{"$f":"COUNTIF(L116:L137,AS30)","v":2},{"$f":"AT30/(AV4-AT25)","v":9.5238095238095233E-2},{"$f":"IF(AU30=0,0,(AU30*((LOG(AU30))/LOG(2))))","v":-0.32307784978845333}]
[21,4361,22,4374,24,4385,23,4393,13,4406,0,22221,null,22111,{"$f":"COUNTIF($L$7:$L$500,N31)","v":0},{"$f":"O31/$Q$4","v":0},{"$f":"IF(P31=0,0,(P31*((LOG(P31))/LOG(2))))","v":0},null,null,{"$f":"N31","v":22111},{"$f":"COUNTIF(L7:L28,T31)","v":0},{"$f":"U31/(W4-U25)","v":0},{"$f":"IF(V31=0,0,(V31*((LOG(V31))/LOG(2))))","v":0},null,{"$f":"N31","v":22111},{"$f":"COUNTIF(L29:L50,Y31)","v":0},{"$f":"Z31/(AB4-Z25)","v":0},{"$f":"IF(AA31=0,0,(AA31*((LOG(AA31))/LOG(2))))","v":0},null,{"$f":"N31","v":22111},{"$f":"COUNTIF(L51:L71,AD31)","v":0},{"$f":"AE31/(AG4-AE25)","v":0},{"$f":"IF(AF31=0,0,(AF31*((LOG(AF31))/LOG(2))))","v":0},null,{"$f":"N31","v":22111},{"$f":"COUNTIF(L72:L93,AI31)","v":0},{"$f":"AJ31/(AL4-AJ25)","v":0},{"$f":"IF(AK31=0,0,(AK31*((LOG(AK31))/LOG(2))))","v":0},null,{"$f":"N31","v":22111},{"$f":"COUNTIF(L94:L115,AN31)","v":0},{"$f":"AO31/(AQ4-AO25)","v":0},{"$f":"IF(AP31=0,0,(AP31*((LOG(AP31))/LOG(2))))","v":0},null,{"$f":"N31","v":22111},{"$f":"COUNTIF(L116:L137,AS31)","v":0},{"$f":"AT31/(AV4-AT25)","v":0},{"$f":"IF(AU31=0,0,(AU31*((LOG(AU31))/LOG(2))))","v":0}]
[12,4510,13,4530,13,4609,23,4619,24,4641,0,11122,null,22112,{"$f":"COUNTIF($L$7:$L$500,N32)","v":0},{"$f":"O32/$Q$4","v":0},{"$f":"IF(P32=0,0,(P32*((LOG(P32))/LOG(2))))","v":0},null,null,{"$f":"N32","v":22112},{"$f":"COUNTIF(L7:L28,T32)","v":0},{"$f":"U32/(W4-U25)","v":0},{"$f":"IF(V32=0,0,(V32*((LOG(V32))/LOG(2))))","v":0},null,{"$f":"N32","v":22112},{"$f":"COUNTIF(L29:L50,Y32)","v":0},{"$f":"Z32/(AB4-Z25)","v":0},{"$f":"IF(AA32=0,0,(AA32*((LOG(AA32))/LOG(2))))","v":0},null,{"$f":"N32","v":22112},{"$f":"COUNTIF(L51:L71,AD32)","v":0},{"$f":"AE32/(AG4-AE25)","v":0},{"$f":"IF(AF32=0,0,(AF32*((LOG(AF32))/LOG(2))))","v":0},null,{"$f":"N32","v":22112},{"$f":"COUNTIF(L72:L93,AI32)","v":0},{"$f":"AJ32/(AL4-AJ25)","v":0},{"$f":"IF(AK32=0,0,(AK32*((LOG(AK32))/LOG(2))))","v":0},null,{"$f":"N32","v":22112},{"$f":"COUNTIF(L94:L115,AN32)","v":0},{"$f":"AO32/(AQ4-AO25)","v":0},{"$f":"IF(AP32=0,0,(AP32*((LOG(AP32))/LOG(2))))","v":0},null,{"$f":"N32","v":22112},{"$f":"COUNTIF(L116:L137,AS32)","v":0},{"$f":"AT32/(AV4-AT25)","v":0},{"$f":"IF(AU32=0,0,(AU32*((LOG(AU32))/LOG(2))))","v":0}]
[21,4761,11,4772,22,4830,23,4886,24,4899,0,21222,null,22121,{"$f":"COUNTIF($L$7:$L$500,N33)","v":4},{"$f":"O33/$Q$4","v":3.0769230769230771E-2},{"$f":"IF(P33=0,0,(P33*((LOG(P33))/LOG(2))))","v":-0.15453439424702936},null,null,{"$f":"N33","v":22121},{"$f":"COUNTIF(L7:L28,T33)","v":0},{"$f":"U33/(W4-U25)","v":0},{"$f":"IF(V33=0,0,(V33*((LOG(V33))/LOG(2))))","v":0},null,{"$f":"N33","v":22121},{"$f":"COUNTIF(L29:L50,Y33)","v":0},{"$f":"Z33/(AB4-Z25)","v":0},{"$f":"IF(AA33=0,0,(AA33*((LOG(AA33))/LOG(2))))","v":0},null,{"$f":"N33","v":22121},{"$f":"COUNTIF(L51:L71,AD33)","v":0},{"$f":"AE33/(AG4-AE25)","v":0},{"$f":"IF(AF33=0,0,(AF33*((LOG(AF33))/LOG(2))))","v":0},null,{"$f":"N33","v":22121},{"$f":"COUNTIF(L72:L93,AI33)","v":2},{"$f":"AJ33/(AL4-AJ25)","v":9.0909090909090912E-2},{"$f":"IF(AK33=0,0,(AK33*((LOG(AK33))/LOG(2))))","v":-0.31449378351248153},null,{"$f":"N33","v":22121},{"$f":"COUNTIF(L94:L115,AN33)","v":0},{"$f":"AO33/(AQ4-AO25)","v":0},{"$f":"IF(AP33=0,0,(AP33*((LOG(AP33))/LOG(2))))","v":0},null,{"$f":"N33","v":22121},{"$f":"COUNTIF(L116:L137,AS33)","v":2},{"$f":"AT33/(AV4-AT25)","v":9.5238095238095233E-2},{"$f":"IF(AU33=0,0,(AU33*((LOG(AU33))/LOG(2))))","v":-0.32307784978845333}]
[12,5016,24,5024,13,5037,23,5045,24,5053,0,12122,null,22122,{"$f":"COUNTIF($L$7:$L$500,N34)","v":0},{"$f":"O34/$Q$4","v":0},{"$f":"IF(P34=0,0,(P34*((LOG(P34))/LOG(2))))","v":0},null,null,{"$f":"N34","v":22122},{"$f":"COUNTIF(L7:L28,T34)","v":0},{"$f":"U34/(W4-U25)","v":0},{"$f":"IF(V34=0,0,(V34*((LOG(V34))/LOG(2))))","v":0},null,{"$f":"N34","v":22122},{"$f":"COUNTIF(L29:L50,Y34)","v":0},{"$f":"Z34/(AB4-Z25)","v":0},{"$f":"IF(AA34=0,0,(AA34*((LOG(AA34))/LOG(2))))","v":0},null,{"$f":"N34","v":22122},{"$f":"COUNTIF(L51:L71,AD34)","v":0},{"$f":"AE34/(AG4-AE25)","v":0},{"$f":"IF(AF34=0,0,(AF34*((LOG(AF34))/LOG(2))))","v":0},null,{"$f":"N34","v":22122},{"$f":"COUNTIF(L72:L93,AI34)","v":0},{"$f":"AJ34/(AL4-AJ25)","v":0},{"$f":"IF(AK34=0,0,(AK34*((LOG(AK34))/LOG(2))))","v":0},null,{"$f":"N34","v":22122},{"$f":"COUNTIF(L94:L115,AN34)","v":0},{"$f":"AO34/(AQ4-AO25)","v":0},{"$f":"IF(AP34=0,0,(AP34*((LOG(AP34))/LOG(2))))","v":0},null,{"$f":"N34","v":22122},{"$f":"COUNTIF(L116:L137,AS34)","v":0},{"$f":"AT34/(AV4-AT25)","v":0},{"$f":"IF(AU34=0,0,(AU34*((LOG(AU34))/LOG(2))))","v":0}]
[21,5158,11,5165,22,5174,23,5182,24,5191,0,21222,null,22211,{"$f":"COUNTIF($L$7:$L$500,N35)","v":0},{"$f":"O35/$Q$4","v":0},{"$f":"IF(P35=0,0,(P35*((LOG(P35))/LOG(2))))","v":0},null,null,{"$f":"N35","v":22211},{"$f":"COUNTIF(L7:L28,T35)","v":0},{"$f":"U35/(W4-U25)","v":0},{"$f":"IF(V35=0,0,(V35*((LOG(V35))/LOG(2))))","v":0},null,{"$f":"N35","v":22211},{"$f":"COUNTIF(L29:L50,Y35)","v":0},{"$f":"Z35/(AB4-Z25)","v":0},{"$f":"IF(AA35=0,0,(AA35*((LOG(AA35))/LOG(2))))","v":0},null,{"$f":"N35","v":22211},{"$f":"COUNTIF(L51:L71,AD35)","v":0},{"$f":"AE35/(AG4-AE25)","v":0},{"$f":"IF(AF35=0,0,(AF35*((LOG(AF35))/LOG(2))))","v":0},null,{"$f":"N35","v":22211},{"$f":"COUNTIF(L72:L93,AI35)","v":0},{"$f":"AJ35/(AL4-AJ25)","v":0},{"$f":"IF(AK35=0,0,(AK35*((LOG(AK35))/LOG(2))))","v":0},null,{"$f":"N35","v":22211},{"$f":"COUNTIF(L94:L115,AN35)","v":0},{"$f":"AO35/(AQ4-AO25)","v":0},{"$f":"IF(AP35=0,0,(AP35*((LOG(AP35))/LOG(2))))","v":0},null,{"$f":"N35","v":22211},{"$f":"COUNTIF(L116:L137,AS35)","v":0},{"$f":"AT35/(AV4-AT25)","v":0},{"$f":"IF(AU35=0,0,(AU35*((LOG(AU35))/LOG(2))))","v":0}]
[21,5295,11,5310,22,5320,23,5332,24,5348,0,21222,null,22212,{"$f":"COUNTIF($L$7:$L$500,N36)","v":0},{"$f":"O36/$Q$4","v":0},{"$f":"IF(P36=0,0,(P36*((LOG(P36))/LOG(2))))","v":0},null,null,{"$f":"N36","v":22212},{"$f":"COUNTIF(L7:L28,T36)","v":0},{"$f":"U36/(W4-U25)","v":0},{"$f":"IF(V36=0,0,(V36*((LOG(V36))/LOG(2))))","v":0},null,{"$f":"N36","v":22212},{"$f":"COUNTIF(L29:L50,Y36)","v":0},{"$f":"Z36/(AB4-Z25)","v":0},{"$f":"IF(AA36=0,0,(AA36*((LOG(AA36))/LOG(2))))","v":0},null,{"$f":"N36","v":22212},{"$f":"COUNTIF(L51:L71,AD36)","v":0},{"$f":"AE36/(AG4-AE25)","v":0},{"$f":"IF(AF36=0,0,(AF36*((LOG(AF36))/LOG(2))))","v":0},null,{"$f":"N36","v":22212},{"$f":"COUNTIF(L72:L93,AI36)","v":0},{"$f":"AJ36/(AL4-AJ25)","v":0},{"$f":"IF(AK36=0,0,(AK36*((LOG(AK36))/LOG(2))))","v":0},null,{"$f":"N36","v":22212},{"$f":"COUNTIF(L94:L115,AN36)","v":0},{"$f":"AO36/(AQ4-AO25)","v":0},{"$f":"IF(AP36=0,0,(AP36*((LOG(AP36))/LOG(2))))","v":0},null,{"$f":"N36","v":22212},{"$f":"COUNTIF(L116:L137,AS36)","v":0},{"$f":"AT36/(AV4-AT25)","v":0},{"$f":"IF(AU36=0,0,(AU36*((LOG(AU36))/LOG(2))))","v":0}]
[12,5451,13,5466,24,5474,23,5482,24,5491,0,11222,null,22221,{"$f":"COUNTIF($L$7:$L$500,N37)","v":1},{"$f":"O37/$Q$4","v":7.6923076923076927E-3},{"$f":"IF(P37=0,0,(P37*((LOG(P37))/LOG(2))))","v":-5.4018213946372733E-2},null,null,{"$f":"N37","v":22221},{"$f":"COUNTIF(L7:L28,T37)","v":0},{"$f":"U37/(W4-U25)","v":0},{"$f":"IF(V37=0,0,(V37*((LOG(V37))/LOG(2))))","v":0},null,{"$f":"N37","v":22221},{"$f":"COUNTIF(L29:L50,Y37)","v":1},{"$f":"Z37/(AB4-Z25)","v":4.5454545454545456E-2},{"$f":"IF(AA37=0,0,(AA37*((LOG(AA37))/LOG(2))))","v":-0.20270143721078623},null,{"$f":"N37","v":22221},{"$f":"COUNTIF(L51:L71,AD37)","v":0},{"$f":"AE37/(AG4-AE25)","v":0},{"$f":"IF(AF37=0,0,(AF37*((LOG(AF37))/LOG(2))))","v":0},null,{"$f":"N37","v":22221},{"$f":"COUNTIF(L72:L93,AI37)","v":0},{"$f":"AJ37/(AL4-AJ25)","v":0},{"$f":"IF(AK37=0,0,(AK37*((LOG(AK37))/LOG(2))))","v":0},null,{"$f":"N37","v":22221},{"$f":"COUNTIF(L94:L115,AN37)","v":0},{"$f":"AO37/(AQ4-AO25)","v":0},{"$f":"IF(AP37=0,0,(AP37*((LOG(AP37))/LOG(2))))","v":0},null,{"$f":"N37","v":22221},{"$f":"COUNTIF(L116:L137,AS37)","v":0},{"$f":"AT37/(AV4-AT25)","v":0},{"$f":"IF(AU37=0,0,(AU37*((LOG(AU37))/LOG(2))))","v":0}]
[12,5591,13,5604,24,5612,14,5624,24,5633,0,11212,null,22222,{"$f":"COUNTIF($L$7:$L$500,N38)","v":2},{"$f":"O38/$Q$4","v":1.5384615384615385E-2},{"$f":"IF(P38=0,0,(P38*((LOG(P38))/LOG(2))))","v":-9.2651812508130066E-2},null,null,{"$f":"N38","v":22222},{"$f":"COUNTIF(L7:L28,T38)","v":1},{"$f":"U38/(W4-U25)","v":4.5454545454545456E-2},{"$f":"IF(V38=0,0,(V38*((LOG(V38))/LOG(2))))","v":-0.20270143721078623},null,{"$f":"N38","v":22222},{"$f":"COUNTIF(L29:L50,Y38)","v":0},{"$f":"Z38/(AB4-Z25)","v":0},{"$f":"IF(AA38=0,0,(AA38*((LOG(AA38))/LOG(2))))","v":0},null,{"$f":"N38","v":22222},{"$f":"COUNTIF(L51:L71,AD38)","v":0},{"$f":"AE38/(AG4-AE25)","v":0},{"$f":"IF(AF38=0,0,(AF38*((LOG(AF38))/LOG(2))))","v":0},null,{"$f":"N38","v":22222},{"$f":"COUNTIF(L72:L93,AI38)","v":0},{"$f":"AJ38/(AL4-AJ25)","v":0},{"$f":"IF(AK38=0,0,(AK38*((LOG(AK38))/LOG(2))))","v":0},null,{"$f":"N38","v":22222},{"$f":"COUNTIF(L94:L115,AN38)","v":0},{"$f":"AO38/(AQ4-AO25)","v":0},{"$f":"IF(AP38=0,0,(AP38*((LOG(AP38))/LOG(2))))","v":0},null,{"$f":"N38","v":22222},{"$f":"COUNTIF(L116:L137,AS38)","v":1},{"$f":"AT38/(AV4-AT25)","v":4.7619047619047616E-2},{"$f":"IF(AU38=0,0,(AU38*((LOG(AU38))/LOG(2))))","v":-0.20915797251327431}]
[12,5738,24,5748,13,5758,23,5767,24,5775,0,12122,null,null,null,{"$f":"SUM(P7:P38)","v":0.99999999999999978},{"$f":"-SUM(Q7:Q38)","v":3.9857609527426177},null,null,null,null,{"$f":"SUM(V7:V38)","v":0.99999999999999989},{"$f":"-SUM(W7:W38)","v":2.0566768987283122},null,null,null,{"$f":"SUM(AA7:AA38)","v":1},{"$f":"-SUM(AB7:AB38)","v":3.3685225277282065},null,null,null,{"$f":"SUM(AF7:AF38)","v":0.99999999999999978},{"$f":"-SUM(AG7:AG38)","v":2.4322574485535138},null,null,null,{"$f":"SUM(AK7:AK38)","v":0.99999999999999989},{"$f":"-SUM(AL7:AL38)","v":3.6635327548042542},null,null,null,{"$f":"SUM(AP7:AP38)","v":1},{"$f":"-SUM(AQ7:AQ38)","v":3.1542221846835217},null,null,null,{"$f":"SUM(AU7:AU38)","v":1},{"$f":"-SUM(AV7:AV38)","v":3.0755800678071781}]
[21,5883,11,5891,22,5901,23,5909,13,5929,0,21221,null,null,null,"U=",{"$f":"Q39/(LOG(Q4)/LOG(2))","v":0.56758077316142808},null,null,null,null,"U1=",{"$f":"W39/(LOG(W4)/LOG(2))","v":0.46119709295077982},null,null,null,"U2=",{"$f":"AB39/(LOG(AB4)/LOG(2))","v":0.75537037358082681},null,null,null,"U3=",{"$f":"AG39/(LOG(AG4)/LOG(2))","v":0.55375265820719477},null,null,null,"U4=",{"$f":"AL39/(LOG(AL4)/LOG(2))","v":0.82152459508365505},null,null,null,"U5=",{"$f":"AQ39/(LOG(AQ4)/LOG(2))","v":0.70731484512534837},null,null,null,"U6=",{"$f":"AV39/(LOG(AV4)/LOG(2))","v":0.70021807892505172}]
[12,6077,24,6087,24,6107,14,6119,13,6157,0,12211]
[21,6259,11,6267,22,6275,23,6285,13,6297,0,21221]
[21,6406,11,6415,11,6435,21,6461,22,6470,0,21122,null,"Total Target Seq"]
[12,6576,24,6585,13,6592,23,6601,24,6614,0,12122,null,{"$f":"COUNTIF(L7:L137,G3)","v":1},null,22,22,21,22,22,22]
[12,6713,13,6728,24,6736,23,6744,24,6755,0,11222,null,null,null,"% of reinforcement given in 6 equal intervals based on number of trials "]
[21,6871,11,6879,22,6888,23,6899,24,6912,0,21222,null,null,null,"%_1","%_2","%_3","%_4","%_5","%_6"]
[12,7039,24,7060,24,7070,14,7098,24,7115,0,12212,null,null,"target sequence",{"$f":"$G$3","v":21121},{"$f":"$G$3","v":21121},{"$f":"$G$3","v":21121},{"$f":"$G$3","v":21121},{"$f":"$G$3","v":21121},{"$f":"$G$3","v":21121}]
[12,7219,24,7228,13,7237,23,7246,13,7269,0,12121,null,null,"total reinforcement",{"$f":"U25","v":0},{"$f":"Z25","v":0},{"$f":"AE25","v":0},{"$f":"AJ25","v":0},{"$f":"AO25","v":1},{"$f":"AT25","v":0}]
[12,7395,24,7403,24,7411,14,7434,24,7443,0,12212,null,null,"% target"]
[12,7544,24,7554,13,7562,23,7576,24,7592,0,12122,null,null,"CCRF"]
[12,7701,24,7709,13,7720,23,7730,24,7737,0,12122,null,null,"% CCRf"]
[12,7951,13,7994,24,8010,14,8043,24,8067,0,11212,null,null,"average response rate",{"$f":"J28/P44","v":175.40909090909091},{"$f":"(J50-J28)/Q44","v":169.68181818181819},{"$f":"(J71-J50)/R44","v":175.38095238095238},{"$f":"(J93-J71)/S44","v":194.36363636363637},{"$f":"(J115-J93)/T44","v":204.77272727272728},{"$f":"(J137-J115)/U44","v":-911.63636363636363}]
[12,8164,13,8172,24,8180,14,8190,24,8198,0,11212]
[12,8302,13,8323,24,8331,23,8340,24,8349,0,11222]
[21,8463,11,8473,22,8489,23,8505,13,8518,0,21221]
[12,8629,24,8637,13,8649,23,8658,13,8695,0,12121]
[21,8815,11,8824,22,8851,23,8859,24,8891,0,21222]
[12,9029,24,9038,13,9052,23,9066,24,9074,0,12122]
[12,9229,13,9248,24,9260,14,9291,13,9332,0,11211]
[21,9438,11,9449,22,9457,23,9465,13,9485,0,21221]
[12,9606,24,9614,13,9625,23,9633,24,9639,0,12122]
[12,9823,13,9843,24,9862,23,9878,24,9887,0,11222]
[12,9986,13,9994,24,10003,14,10011,24,10021,0,11212]
[12,10130,24,10140,13,10149,23,10158,24,10166,0,12122]
[12,10268,13,10278,24,10291,14,10301,24,10310,0,11212]
[12,10414,24,10423,13,10430,23,10439,13,10449,0,12121]
[12,10557,24,10566,13,10573,23,10581,24,10589,0,12122]
[12,10691,13,10707,24,10715,14,10723,24,10735,0,11212]
[12,10925,13,10944,24,10953,14,10976,24,10985,0,11212]
[12,11088,24,11100,13,11107,23,11124,24,11131,0,12122]
[12,11242,24,11250,13,11260,23,11268,24,11275,0,12122]
[12,11389,24,11397,13,11405,23,11414,24,11437,0,12122]
[12,11573,24,11580,13,11591,23,11599,24,11614,0,12122]
[12,11721,24,11730,24,11737,14,11746,24,11754,0,12212]
[12,12029,24,12047,24,12095,14,12108,24,12117,0,12212]
[12,12231,13,12250,24,12258,14,12275,13,12281,0,11211]
[21,12386,11,12396,11,12424,12,12446,24,12455,0,21112]
[21,12564,11,12573,22,12584,23,12593,24,12601,0,21222]
[21,12711,11,12720,22,12728,14,12738,24,12746,0,21212]
[12,12864,13,12877,24,12897,23,12904,13,12924,0,11221]
[21,13036,22,13056,13,13066,23,13077,13,13089,0,22121]
[12,13246,13,13265,24,13274,14,13285,24,13306,0,11212]
[12,13456,24,13465,13,13473,14,13498,24,13514,0,12112]
[12,13633,24,13642,13,13649,23,13658,24,13666,0,12122]
[21,13832,11,13843,22,13854,14,13883,13,13892,0,21211]
[12,14006,24,14015,13,14023,23,14032,13,14055,0,12121]
[12,14177,24,14188,13,14199,23,14218,13,14242,0,12121]
[21,14406,22,14413,13,14424,23,14435,13,14461,0,22121]
[12,14604,24,14614,24,14623,14,14633,13,14675,0,12211]
[12,14827,24,14837,13,14862,23,14873,13,14899,0,12121]
[12,15028,24,15040,13,15052,14,15087,24,15100,0,12112]
[12,15292,24,15302,24,15311,23,15321,24,15330,0,12222]
[21,15493,11,15504,22,15521,14,15540,24,15551,0,21212]
[12,15727,13,15747,24,15761,23,15779,13,15799,0,11221]
[12,15976,24,15988,24,15996,14,16007,24,16023,0,12212]
[12,16912,24,16921,13,16932,23,16943,13,16963,0,12121]
[21,17150,11,17162,11,17185,21,17199,11,17218,1,21121]
[21,17322,11,17335,22,17343,23,17351,24,17362,0,21222]
[12,17479,13,17498,24,17505,23,17528,13,17539,0,11221]
[12,17638,24,17646,24,17654,14,17660,24,17692,0,12212]
[12,17795,24,17805,24,17819,14,17831,24,17886,0,12212]
[12,17984,24,17994,13,18002,23,18011,24,18019,0,12122]
[12,18119,24,18144,13,18159,23,18169,24,18185,0,12122]
[12,18283,24,18295,13,18306,14,18363,24,18390,0,12112]
[12,18488,13,18493,13,18499,23,18512,13,18524,0,11121]
[12,18630,24,18639,13,18647,14,18669,24,18697,0,12112]
[12,18797,24,18809,13,18817,23,18829,24,18834,0,12122]
[12,18938,13,18944,13,18949,23,18963,13,18973,0,11121]
[12,19078,13,19089,24,19102,14,19113,24,19124,0,11212]
[21,19236,11,19245,22,19258,23,19266,24,19305,0,21222]
[12,19404,24,19419,13,19429,23,19439,24,19450,0,12122]
[21,19556,11,19567,22,19573,14,19584,24,19593,0,21212]
[12,19697,24,19710,24,19719,14,19729,24,19749,0,12212]
[12,19864,24,19874,13,19885,23,19894,13,19911,0,12121]
[21,20021,11,20028,22,20037,23,20045,13,20056,0,21221]
[12,20181,24,20222,13,20272,23,20285,13,20324,0,12121]
[21,20460,11,20471,22,20480,14,20495,24,20566,0,21212]
[12,20669,24,20683,13,20694,23,20706,13,20728,0,12121]
[21,20827,11,20836,22,20846,14,20857,24,20869,0,21212]
[12,20971,13,20976,24,20996,14,21004,13,21030,0,11211]
[12,21149,24,21157,13,21172,23,21181,13,21210,0,12121]
[21,21323,22,21359,13,21371,23,21381,13,21396,0,22121]
[12,21588,24,21599,13,21607,23,21619,13,21655,0,12121]
[21,21753,22,21762,13,21770,23,21779,13,21789,0,22121]
[21,21912,11,21921,22,21931,23,21940,24,21950,0,21222]
[21,22074,11,22081,11,22106,12,22157,24,22184,0,21112]
[12,22307,24,22323,13,22333,23,22341,13,22351,0,12121]
[12,22494,24,22504,24,22512,14,22523,24,22531,0,12212]
[12,22636,24,22644,13,22652,23,22664,13,22690,0,12121]
[21,22801,11,22808,22,22818,23,22827,13,22839,0,21221]
[12,22938,13,22954,24,22963,14,22971,24,22983,0,11212]
[12,23095,24,23103,13,23112,23,23137,13,23148,0,12121]
[12,23250,13,23265,24,23273,14,23285,24,23294,0,11212]
[21,23501,22,23509,24,23520,23,23543,24,23556,0,22222]
[12,23658,24,23680,13,23691,23,23709,24,23719,0,12122]
[21,23830,11,23840,22,23848,23,23870,24,23888,0,21222]
[12,23986,24,24000,null,null,null,null,null,null,null,12]

{"sheet":"!N122740.091","index":5,"n_rows":133,"n_cols":48,"rows_kept":133,"cut":false,"hidden":false,"merged":[[4,39,4,42],[5,39,5,40],[4,44,4,47],[5,44,5,45],[4,24,4,27],[5,24,5,25],[4,29,4,32],[5,29,5,30],[4,34,4,37],[5,34,5,35],[1,1,1,2],[5,13,5,14],[42,13,42,14],[43,13,43,14],[4,19,4,22],[5,19,5,20]]}
["Report for:!N122740.091"]
["Date:","<date>"]
["Hen:","<hen>",null,null,null,"Correct Sequence",{"$f":"Start!J2","v":21121},null,null,null,null,null,null,null,null,"Total Sequences in Data",{"$f":"4994-COUNTBLANK(L7:L5000)","v":127},null,null,null,null,"Total Sequences in Block Data",{"$f":"COUNTA(L7:L27)","v":21},null,null,null,"Total Sequences in Block Data",{"$f":"COUNTA(L28:L48)","v":21},null,null,null,"Total Sequences in Block Data",{"$f":"COUNTA(L49:L70)","v":22},null,null,null,"Total Sequences in Block Data",{"$f":"COUNTA(L71:L91)","v":21},null,null,null,"Total Sequences in Block Data",{"$f":"COUNTA(L92:L112)","v":21},null,null,null,"Total Sequences in Block Data",{"$f":"COUNTA(L113:L133)","v":21}]
[null,null,null,null,null,null,null,null,null,null,null,null,null,null,null,"Total Sequences in Summary",{"$f":"SUM(O7:O38)","v":126},null,null,null,null,"Total Sequences in Block Summary",{"$f":"SUM(U7:U38)","v":21},null,null,null,"Total Sequences in Block Summary",{"$f":"SUM(Z7:Z38)","v":21},null,null,null,"Total Sequences in Block Summary",{"$f":"SUM(AE7:AE38)","v":22},null,null,null,"Total Sequences in Block Summary",{"$f":"SUM(AJ7:AJ38)","v":21},null,null,null,"Total Sequences in Block Summary",{"$f":"SUM(AO7:AO38)","v":21},null,null,null,"Total Sequences in Block Summary",{"$f":"SUM(AT7:AT38)","v":20}]
[null,null,null,null,null,null,null,null,null,null,null,null,null,null,null,null,null,null,null,"Block 1",null,null,null,null,"Block 2",null,null,null,null,"Block 3",null,null,null,null,"Block 4",null,null,null,null,"Block 5",null,null,null,null,"Block 6"]
["Sequence\nComponent\n1","Time\n1","Sequence\nComponent\n2","Time\n2","Sequence\nComponent\n3","Time\n3","Sequence\nComponent\n4","Time\n4","Sequence\nComponent\n5","Time\n5","Correct?\n0=No 1=Yes","Sequence",null,"Frequency",null,"Relative Frequency","Variability",null,null,"Frequency",null,"Relative Frequency","Variability",null,"Frequency",null,"Relative Frequency","Variability",null,"Frequency",null,"Relative Frequency","Variability",null,"Frequency",null,"Relative Frequency","Variability",null,"Frequency",null,"Relative Frequency","Variability",null,"Frequency",null,"Relative Frequency","Variability"]
[12,15,24,28,24,40,23,52,13,67,0,12221,null,11111,{"$f":"COUNTIF($L$7:$L$500,N7)","v":3},{"$f":"O7/$Q$4","v":2.3809523809523808E-2},{"$f":"IF(P7=0,0,(P7*((LOG(P7))/LOG(2))))","v":-0.12838851006616095},null,null,{"$f":"N7","v":11111},{"$f":"COUNTIF(L7:L27,T7)","v":0},{"$f":"U7/(W4-U25)","v":0},{"$f":"IF(V7=0,0,(V7*((LOG(V7))/LOG(2))))","v":0},null,{"$f":"N7","v":11111},{"$f":"COUNTIF(L28:L48,Y7)","v":1},{"$f":"Z7/(AB4-Z25)","v":4.7619047619047616E-2},{"$f":"IF(AA7=0,0,(AA7*((LOG(AA7))/LOG(2))))","v":-0.20915797251327431},null,{"$f":"N7","v":11111},{"$f":"COUNTIF(L49:L70,AD7)","v":1},{"$f":"AE7/(AG4-AE25)","v":4.5454545454545456E-2},{"$f":"IF(AF7=0,0,(AF7*((LOG(AF7))/LOG(2))))","v":-0.20270143721078623},null,{"$f":"N7","v":11111},{"$f":"COUNTIF(L71:L91,AI7)","v":0},{"$f":"AJ7/(AL4-AJ25)","v":0},{"$f":"IF(AK7=0,0,(AK7*((LOG(AK7))/LOG(2))))","v":0},null,{"$f":"N7","v":11111},{"$f":"COUNTIF(L92:L112,AN7)","v":1},{"$f":"AO7/(AQ4-AO25)","v":4.7619047619047616E-2},{"$f":"IF(AP7=0,0,(AP7*((LOG(AP7))/LOG(2))))","v":-0.20915797251327431},null,{"$f":"N7","v":11111},{"$f":"COUNTIF(L113:L133,AS7)","v":0},{"$f":"AT7/(AV4-AT25)","v":0},{"$f":"IF(AU7=0,0,(AU7*((LOG(AU7))/LOG(2))))","v":0}]
[12,169,24,179,13,196,23,215,13,237,0,12121,null,11112,{"$f":"COUNTIF($L$7:$L$500,N8)","v":1},{"$f":"O8/$Q$4","v":7.9365079365079361E-3},{"$f":"IF(P8=0,0,(P8*((LOG(P8))/LOG(2))))","v":-5.5375237488094572E-2},null,null,{"$f":"N8","v":11112},{"$f":"COUNTIF(L7:L27,T8)","v":0},{"$f":"U8/(W4-U25)","v":0},{"$f":"IF(V8=0,0,(V8*((LOG(V8))/LOG(2))))","v":0},null,{"$f":"N8","v":11112},{"$f":"COUNTIF(L28:L48,Y8)","v":0},{"$f":"Z8/(AB4-Z25)","v":0},{"$f":"IF(AA8=0,0,(AA8*((LOG(AA8))/LOG(2))))","v":0},null,{"$f":"N8","v":11112},{"$f":"COUNTIF(L49:L70,AD8)","v":0},{"$f":"AE8/(AG4-AE25)","v":0},{"$f":"IF(AF8=0,0,(AF8*((LOG(AF8))/LOG(2))))","v":0},null,{"$f":"N8","v":11112},{"$f":"COUNTIF(L71:L91,AI8)","v":0},{"$f":"AJ8/(AL4-AJ25)","v":0},{"$f":"IF(AK8=0,0,(AK8*((LOG(AK8))/LOG(2))))","v":0},null,{"$f":"N8","v":11112},{"$f":"COUNTIF(L92:L112,AN8)","v":1},{"$f":"AO8/(AQ4-AO25)","v":4.7619047619047616E-2},{"$f":"IF(AP8=0,0,(AP8*((LOG(AP8))/LOG(2))))","v":-0.20915797251327431},null,{"$f":"N8","v":11112},{"$f":"COUNTIF(L113:L133,AS8)","v":0},{"$f":"AT8/(AV4-AT25)","v":0},{"$f":"IF(AU8=0,0,(AU8*((LOG(AU8))/LOG(2))))","v":0}]
[12,336,24,360,24,382,14,422,24,433,0,12212,null,11121,{"$f":"COUNTIF($L$7:$L$500,N9)","v":3},{"$f":"O9/$Q$4","v":2.3809523809523808E-2},{"$f":"IF(P9=0,0,(P9*((LOG(P9))/LOG(2))))","v":-0.12838851006616095},null,null,{"$f":"N9","v":11121},{"$f":"COUNTIF(L7:L27,T9)","v":0},{"$f":"U9/(W4-U25)","v":0},{"$f":"IF(V9=0,0,(V9*((LOG(V9))/LOG(2))))","v":0},null,{"$f":"N9","v":11121},{"$f":"COUNTIF(L28:L48,Y9)","v":1},{"$f":"Z9/(AB4-Z25)","v":4.7619047619047616E-2},{"$f":"IF(AA9=0,0,(AA9*((LOG(AA9))/LOG(2))))","v":-0.20915797251327431},null,{"$f":"N9","v":11121},{"$f":"COUNTIF(L49:L70,AD9)","v":0},{"$f":"AE9/(AG4-AE25)","v":0},{"$f":"IF(AF9=0,0,(AF9*((LOG(AF9))/LOG(2))))","v":0},null,{"$f":"N9","v":11121},{"$f":"COUNTIF(L71:L91,AI9)","v":0},{"$f":"AJ9/(AL4-AJ25)","v":0},{"$f":"IF(AK9=0,0,(AK9*((LOG(AK9))/LOG(2))))","v":0},null,{"$f":"N9","v":11121},{"$f":"COUNTIF(L92:L112,AN9)","v":0},{"$f":"AO9/(AQ4-AO25)","v":0},{"$f":"IF(AP9=0,0,(AP9*((LOG(AP9))/LOG(2))))","v":0},null,{"$f":"N9","v":11121},{"$f":"COUNTIF(L113:L133,AS9)","v":2},{"$f":"AT9/(AV4-AT25)","v":0.1},{"$f":"IF(AU9=0,0,(AU9*((LOG(AU9))/LOG(2))))","v":-0.33219280948873625}]
[12,551,24,561,24,569,23,582,24,605,0,12222,null,11122,{"$f":"COUNTIF($L$7:$L$500,N10)","v":1},{"$f":"O10/$Q$4","v":7.9365079365079361E-3},{"$f":"IF(P10=0,0,(P10*((LOG(P10))/LOG(2))))","v":-5.5375237488094572E-2},null,null,{"$f":"N10","v":11122},{"$f":"COUNTIF(L7:L27,T10)","v":0},{"$f":"U10/(W4-U25)","v":0},{"$f":"IF(V10=0,0,(V10*((LOG(V10))/LOG(2))))","v":0},null,{"$f":"N10","v":11122},{"$f":"COUNTIF(L28:L48,Y10)","v":0},{"$f":"Z10/(AB4-Z25)","v":0},{"$f":"IF(AA10=0,0,(AA10*((LOG(AA10))/LOG(2))))","v":0},null,{"$f":"N10","v":11122},{"$f":"COUNTIF(L49:L70,AD10)","v":1},{"$f":"AE10/(AG4-AE25)","v":4.5454545454545456E-2},{"$f":"IF(AF10=0,0,(AF10*((LOG(AF10))/LOG(2))))","v":-0.20270143721078623},null,{"$f":"N10","v":11122},{"$f":"COUNTIF(L71:L91,AI10)","v":0},{"$f":"AJ10/(AL4-AJ25)","v":0},{"$f":"IF(AK10=0,0,(AK10*((LOG(AK10))/LOG(2))))","v":0},null,{"$f":"N10","v":11122},{"$f":"COUNTIF(L92:L112,AN10)","v":0},{"$f":"AO10/(AQ4-AO25)","v":0},{"$f":"IF(AP10=0,0,(AP10*((LOG(AP10))/LOG(2))))","v":0},null,{"$f":"N10","v":11122},{"$f":"COUNTIF(L113:L133,AS10)","v":0},{"$f":"AT10/(AV4-AT25)","v":0},{"$f":"IF(AU10=0,0,(AU10*((LOG(AU10))/LOG(2))))","v":0}]
[12,709,24,720,24,733,23,747,13,762,0,12221,null,11211,{"$f":"COUNTIF($L$7:$L$500,N11)","v":6},{"$f":"O11/$Q$4","v":4.7619047619047616E-2},{"$f":"IF(P11=0,0,(P11*((LOG(P11))/LOG(2))))","v":-0.20915797251327431},null,null,{"$f":"N11","v":11211},{"$f":"COUNTIF(L7:L27,T11)","v":0},{"$f":"U11/(W4-U25)","v":0},{"$f":"IF(V11=0,0,(V11*((LOG(V11))/LOG(2))))","v":0},null,{"$f":"N11","v":11211},{"$f":"COUNTIF(L28:L48,Y11)","v":1},{"$f":"Z11/(AB4-Z25)","v":4.7619047619047616E-2},{"$f":"IF(AA11=0,0,(AA11*((LOG(AA11))/LOG(2))))","v":-0.20915797251327431},null,{"$f":"N11","v":11211},{"$f":"COUNTIF(L49:L70,AD11)","v":1},{"$f":"AE11/(AG4-AE25)","v":4.5454545454545456E-2},{"$f":"IF(AF11=0,0,(AF11*((LOG(AF11))/LOG(2))))","v":-0.20270143721078623},null,{"$f":"N11","v":11211},{"$f":"COUNTIF(L71:L91,AI11)","v":1},{"$f":"AJ11/(AL4-AJ25)","v":4.7619047619047616E-2},{"$f":"IF(AK11=0,0,(AK11*((LOG(AK11))/LOG(2))))","v":-0.20915797251327431},null,{"$f":"N11","v":11211},{"$f":"COUNTIF(L92:L112,AN11)","v":2},{"$f":"AO11/(AQ4-AO25)","v":9.5238095238095233E-2},{"$f":"IF(AP11=0,0,(AP11*((LOG(AP11))/LOG(2))))","v":-0.32307784978845333},null,{"$f":"N11","v":11211},{"$f":"COUNTIF(L113:L133,AS11)","v":1},{"$f":"AT11/(AV4-AT25)","v":0.05},{"$f":"IF(AU11=0,0,(AU11*((LOG(AU11))/LOG(2))))","v":-0.21609640474436814}]
[12,860,24,875,24,899,23,907,13,941,0,12221,null,11212,{"$f":"COUNTIF($L$7:$L$500,N12)","v":10},{"$f":"O12/$Q$4","v":7.9365079365079361E-2},{"$f":"IF(P12=0,0,(P12*((LOG(P12))/LOG(2))))","v":-0.29010728798512331},null,null,{"$f":"N12","v":11212},{"$f":"COUNTIF(L7:L27,T12)","v":1},{"$f":"U12/(W4-U25)","v":4.7619047619047616E-2},{"$f":"IF(V12=0,0,(V12*((LOG(V12))/LOG(2))))","v":-0.20915797251327431},null,{"$f":"N12","v":11212},{"$f":"COUNTIF(L28:L48,Y12)","v":1},{"$f":"Z12/(AB4-Z25)","v":4.7619047619047616E-2},{"$f":"IF(AA12=0,0,(AA12*((LOG(AA12))/LOG(2))))","v":-0.20915797251327431},null,{"$f":"N12","v":11212},{"$f":"COUNTIF(L49:L70,AD12)","v":2},{"$f":"AE12/(AG4-AE25)","v":9.0909090909090912E-2},{"$f":"IF(AF12=0,0,(AF12*((LOG(AF12))/LOG(2))))","v":-0.31449378351248153},null,{"$f":"N12","v":11212},{"$f":"COUNTIF(L71:L91,AI12)","v":3},{"$f":"AJ12/(AL4-AJ25)","v":0.14285714285714285},{"$f":"IF(AK12=0,0,(AK12*((LOG(AK12))/LOG(2))))","v":-0.40105070315108626},null,{"$f":"N12","v":11212},{"$f":"COUNTIF(L92:L112,AN12)","v":1},{"$f":"AO12/(AQ4-AO25)","v":4.7619047619047616E-2},{"$f":"IF(AP12=0,0,(AP12*((LOG(AP12))/LOG(2))))","v":-0.20915797251327431},null,{"$f":"N12","v":11212},{"$f":"COUNTIF(L113:L133,AS12)","v":2},{"$f":"AT12/(AV4-AT25)","v":0.1},{"$f":"IF(AU12=0,0,(AU12*((LOG(AU12))/LOG(2))))","v":-0.33219280948873625}]
[12,1060,24,1084,24,1093,14,1116,24,1143,0,12212,null,11221,{"$f":"COUNTIF($L$7:$L$500,N13)","v":3},{"$f":"O13/$Q$4","v":2.3809523809523808E-2},{"$f":"IF(P13=0,0,(P13*((LOG(P13))/LOG(2))))","v":-0.12838851006616095},null,null,{"$f":"N13","v":11221},{"$f":"COUNTIF(L7:L27,T13)","v":0},{"$f":"U13/(W4-U25)","v":0},{"$f":"IF(V13=0,0,(V13*((LOG(V13))/LOG(2))))","v":0},null,{"$f":"N13","v":11221},{"$f":"COUNTIF(L28:L48,Y13)","v":2},{"$f":"Z13/(AB4-Z25)","v":9.5238095238095233E-2},{"$f":"IF(AA13=0,0,(AA13*((LOG(AA13))/LOG(2))))","v":-0.32307784978845333},null,{"$f":"N13","v":11221},{"$f":"COUNTIF(L49:L70,AD13)","v":0},{"$f":"AE13/(AG4-AE25)","v":0},{"$f":"IF(AF13=0,0,(AF13*((LOG(AF13))/LOG(2))))","v":0},null,{"$f":"N13","v":11221},{"$f":"COUNTIF(L71:L91,AI13)","v":1},{"$f":"AJ13/(AL4-AJ25)","v":4.7619047619047616E-2},{"$f":"IF(AK13=0,0,(AK13*((LOG(AK13))/LOG(2))))","v":-0.20915797251327431},null,{"$f":"N13","v":11221},{"$f":"COUNTIF(L92:L112,AN13)","v":0},{"$f":"AO13/(AQ4-AO25)","v":0},{"$f":"IF(AP13=0,0,(AP13*((LOG(AP13))/LOG(2))))","v":0},null,{"$f":"N13","v":11221},{"$f":"COUNTIF(L113:L133,AS13)","v":0},{"$f":"AT13/(AV4-AT25)","v":0},{"$f":"IF(AU13=0,0,(AU13*((LOG(AU13))/LOG(2))))","v":0}]
[12,1253,24,1262,24,1276,14,1301,24,1310,0,12212,null,11222,{"$f":"COUNTIF($L$7:$L$500,N14)","v":1},{"$f":"O14/$Q$4","v":7.9365079365079361E-3},{"$f":"IF(P14=0,0,(P14*((LOG(P14))/LOG(2))))","v":-5.5375237488094572E-2},null,null,{"$f":"N14","v":11222},{"$f":"COUNTIF(L7:L27,T14)","v":0},{"$f":"U14/(W4-U25)","v":0},{"$f":"IF(V14=0,0,(V14*((LOG(V14))/LOG(2))))","v":0},null,{"$f":"N14","v":11222},{"$f":"COUNTIF(L28:L48,Y14)","v":1},{"$f":"Z14/(AB4-Z25)","v":4.7619047619047616E-2},{"$f":"IF(AA14=0,0,(AA14*((LOG(AA14))/LOG(2))))","v":-0.20915797251327431},null,{"$f":"N14","v":11222},{"$f":"COUNTIF(L49:L70,AD14)","v":0},{"$f":"AE14/(AG4-AE25)","v":0},{"$f":"IF(AF14=0,0,(AF14*((LOG(AF14))/LOG(2))))","v":0},null,{"$f":"N14","v":11222},{"$f":"COUNTIF(L71:L91,AI14)","v":0},{"$f":"AJ14/(AL4-AJ25)","v":0},{"$f":"IF(AK14=0,0,(AK14*((LOG(AK14))/LOG(2))))","v":0},null,{"$f":"N14","v":11222},{"$f":"COUNTIF(L92:L112,AN14)","v":0},{"$f":"AO14/(AQ4-AO25)","v":0},{"$f":"IF(AP14=0,0,(AP14*((LOG(AP14))/LOG(2))))","v":0},null,{"$f":"N14","v":11222},{"$f":"COUNTIF(L113:L133,AS14)","v":0},{"$f":"AT14/(AV4-AT25)","v":0},{"$f":"IF(AU14=0,0,(AU14*((LOG(AU14))/LOG(2))))","v":0}]
[12,1416,24,1425,13,1435,23,1445,13,1464,0,12121,null,12111,{"$f":"COUNTIF($L$7:$L$500,N15)","v":2},{"$f":"O15/$Q$4","v":1.5873015873015872E-2},{"$f":"IF(P15=0,0,(P15*((LOG(P15))/LOG(2))))","v":-9.4877459103173273E-2},null,null,{"$f":"N15","v":12111},{"$f":"COUNTIF(L7:L27,T15)","v":0},{"$f":"U15/(W4-U25)","v":0},{"$f":"IF(V15=0,0,(V15*((LOG(V15))/LOG(2))))","v":0},null,{"$f":"N15","v":12111},{"$f":"COUNTIF(L28:L48,Y15)","v":0},{"$f":"Z15/(AB4-Z25)","v":0},{"$f":"IF(AA15=0,0,(AA15*((LOG(AA15))/LOG(2))))","v":0},null,{"$f":"N15","v":12111},{"$f":"COUNTIF(L49:L70,AD15)","v":0},{"$f":"AE15/(AG4-AE25)","v":0},{"$f":"IF(AF15=0,0,(AF15*((LOG(AF15))/LOG(2))))","v":0},null,{"$f":"N15","v":12111},{"$f":"COUNTIF(L71:L91,AI15)","v":0},{"$f":"AJ15/(AL4-AJ25)","v":0},{"$f":"IF(AK15=0,0,(AK15*((LOG(AK15))/LOG(2))))","v":0},null,{"$f":"N15","v":12111},{"$f":"COUNTIF(L92:L112,AN15)","v":0},{"$f":"AO15/(AQ4-AO25)","v":0},{"$f":"IF(AP15=0,0,(AP15*((LOG(AP15))/LOG(2))))","v":0},null,{"$f":"N15","v":12111},{"$f":"COUNTIF(L113:L133,AS15)","v":2},{"$f":"AT15/(AV4-AT25)","v":0.1},{"$f":"IF(AU15=0,0,(AU15*((LOG(AU15))/LOG(2))))","v":-0.33219280948873625}]
[21,1570,11,1578,22,1587,14,1603,24,1613,0,21212,null,12112,{"$f":"COUNTIF($L$7:$L$500,N16)","v":4},{"$f":"O16/$Q$4","v":3.1746031746031744E-2},{"$f":"IF(P16=0,0,(P16*((LOG(P16))/LOG(2))))","v":-0.15800888646031477},null,null,{"$f":"N16","v":12112},{"$f":"COUNTIF(L7:L27,T16)","v":1},{"$f":"U16/(W4-U25)","v":4.7619047619047616E-2},{"$f":"IF(V16=0,0,(V16*((LOG(V16))/LOG(2))))","v":-0.20915797251327431},null,{"$f":"N16","v":12112},{"$f":"COUNTIF(L28:L48,Y16)","v":1},{"$f":"Z16/(AB4-Z25)","v":4.7619047619047616E-2},{"$f":"IF(AA16=0,0,(AA16*((LOG(AA16))/LOG(2))))","v":-0.20915797251327431},null,{"$f":"N16","v":12112},{"$f":"COUNTIF(L49:L70,AD16)","v":1},{"$f":"AE16/(AG4-AE25)","v":4.5454545454545456E-2},{"$f":"IF(AF16=0,0,(AF16*((LOG(AF16))/LOG(2))))","v":-0.20270143721078623},null,{"$f":"N16","v":12112},{"$f":"COUNTIF(L71:L91,AI16)","v":0},{"$f":"AJ16/(AL4-AJ25)","v":0},{"$f":"IF(AK16=0,0,(AK16*((LOG(AK16))/LOG(2))))","v":0},null,{"$f":"N16","v":12112},{"$f":"COUNTIF(L92:L112,AN16)","v":1},{"$f":"AO16/(AQ4-AO25)","v":4.7619047619047616E-2},{"$f":"IF(AP16=0,0,(AP16*((LOG(AP16))/LOG(2))))","v":-0.20915797251327431},null,{"$f":"N16","v":12112},{"$f":"COUNTIF(L113:L133,AS16)","v":0},{"$f":"AT16/(AV4-AT25)","v":0},{"$f":"IF(AU16=0,0,(AU16*((LOG(AU16))/LOG(2))))","v":0}]
[12,1721,24,1731,13,1764,23,1794,13,1814,0,12121,null,12121,{"$f":"COUNTIF($L$7:$L$500,N17)","v":27},{"$f":"O17/$Q$4","v":0.21428571428571427},{"$f":"IF(P17=0,0,(P17*((LOG(P17))/LOG(2))))","v":-0.47622694742923877},null,null,{"$f":"N17","v":12121},{"$f":"COUNTIF(L7:L27,T17)","v":5},{"$f":"U17/(W4-U25)","v":0.23809523809523808},{"$f":"IF(V17=0,0,(V17*((LOG(V17))/LOG(2))))","v":-0.49294983997414238},null,{"$f":"N17","v":12121},{"$f":"COUNTIF(L28:L48,Y17)","v":2},{"$f":"Z17/(AB4-Z25)","v":9.5238095238095233E-2},{"$f":"IF(AA17=0,0,(AA17*((LOG(AA17))/LOG(2))))","v":-0.32307784978845333},null,{"$f":"N17","v":12121},{"$f":"COUNTIF(L49:L70,AD17)","v":2},{"$f":"AE17/(AG4-AE25)","v":9.0909090909090912E-2},{"$f":"IF(AF17=0,0,(AF17*((LOG(AF17))/LOG(2))))","v":-0.31449378351248153},null,{"$f":"N17","v":12121},{"$f":"COUNTIF(L71:L91,AI17)","v":5},{"$f":"AJ17/(AL4-AJ25)","v":0.23809523809523808},{"$f":"IF(AK17=0,0,(AK17*((LOG(AK17))/LOG(2))))","v":-0.49294983997414238},null,{"$f":"N17","v":12121},{"$f":"COUNTIF(L92:L112,AN17)","v":8},{"$f":"AO17/(AQ4-AO25)","v":0.38095238095238093},{"$f":"IF(AP17=0,0,(AP17*((LOG(AP17))/LOG(2))))","v":-0.53040663724905157},null,{"$f":"N17","v":12121},{"$f":"COUNTIF(L113:L133,AS17)","v":5},{"$f":"AT17/(AV4-AT25)","v":0.25},{"$f":"IF(AU17=0,0,(AU17*((LOG(AU17))/LOG(2))))","v":-0.5}]
[12,1921,24,1930,13,1939,23,1950,13,1965,0,12121,null,12122,{"$f":"COUNTIF($L$7:$L$500,N18)","v":18},{"$f":"O18/$Q$4","v":0.14285714285714285},{"$f":"IF(P18=0,0,(P18*((LOG(P18))/LOG(2))))","v":-0.40105070315108626},null,null,{"$f":"N18","v":12122},{"$f":"COUNTIF(L7:L27,T18)","v":0},{"$f":"U18/(W4-U25)","v":0},{"$f":"IF(V18=0,0,(V18*((LOG(V18))/LOG(2))))","v":0},null,{"$f":"N18","v":12122},{"$f":"COUNTIF(L28:L48,Y18)","v":8},{"$f":"Z18/(AB4-Z25)","v":0.38095238095238093},{"$f":"IF(AA18=0,0,(AA18*((LOG(AA18))/LOG(2))))","v":-0.53040663724905157},null,{"$f":"N18","v":12122},{"$f":"COUNTIF(L49:L70,AD18)","v":4},{"$f":"AE18/(AG4-AE25)","v":0.18181818181818182},{"$f":"IF(AF18=0,0,(AF18*((LOG(AF18))/LOG(2))))","v":-0.44716938520678134},null,{"$f":"N18","v":12122},{"$f":"COUNTIF(L71:L91,AI18)","v":2},{"$f":"AJ18/(AL4-AJ25)","v":9.5238095238095233E-2},{"$f":"IF(AK18=0,0,(AK18*((LOG(AK18))/LOG(2))))","v":-0.32307784978845333},null,{"$f":"N18","v":12122},{"$f":"COUNTIF(L92:L112,AN18)","v":3},{"$f":"AO18/(AQ4-AO25)","v":0.14285714285714285},{"$f":"IF(AP18=0,0,(AP18*((LOG(AP18))/LOG(2))))","v":-0.40105070315108626},null,{"$f":"N18","v":12122},{"$f":"COUNTIF(L113:L133,AS18)","v":1},{"$f":"AT18/(AV4-AT25)","v":0.05},{"$f":"IF(AU18=0,0,(AU18*((LOG(AU18))/LOG(2))))","v":-0.21609640474436814}]
[12,2079,24,2089,24,2103,23,2113,13,2148,0,12221,null,12211,{"$f":"COUNTIF($L$7:$L$500,N19)","v":2},{"$f":"O19/$Q$4","v":1.5873015873015872E-2},{"$f":"IF(P19=0,0,(P19*((LOG(P19))/LOG(2))))","v":-9.4877459103173273E-2},null,null,{"$f":"N19","v":12211},{"$f":"COUNTIF(L7:L27,T19)","v":1},{"$f":"U19/(W4-U25)","v":4.7619047619047616E-2},{"$f":"IF(V19=0,0,(V19*((LOG(V19))/LOG(2))))","v":-0.20915797251327431},null,{"$f":"N19","v":12211},{"$f":"COUNTIF(L28:L48,Y19)","v":1},{"$f":"Z19/(AB4-Z25)","v":4.7619047619047616E-2},{"$f":"IF(AA19=0,0,(AA19*((LOG(AA19))/LOG(2))))","v":-0.20915797251327431},null,{"$f":"N19","v":12211},{"$f":"COUNTIF(L49:L70,AD19)","v":0},{"$f":"AE19/(AG4-AE25)","v":0},{"$f":"IF(AF19=0,0,(AF19*((LOG(AF19))/LOG(2))))","v":0},null,{"$f":"N19","v":12211},{"$f":"COUNTIF(L71:L91,AI19)","v":0},{"$f":"AJ19/(AL4-AJ25)","v":0},{"$f":"IF(AK19=0,0,(AK19*((LOG(AK19))/LOG(2))))","v":0},null,{"$f":"N19","v":12211},{"$f":"COUNTIF(L92:L112,AN19)","v":0},{"$f":"AO19/(AQ4-AO25)","v":0},{"$f":"IF(AP19=0,0,(AP19*((LOG(AP19))/LOG(2))))","v":0},null,{"$f":"N19","v":12211},{"$f":"COUNTIF(L113:L133,AS19)","v":0},{"$f":"AT19/(AV4-AT25)","v":0},{"$f":"IF(AU19=0,0,(AU19*((LOG(AU19))/LOG(2))))","v":0}]
[21,2271,11,2291,22,2301,23,2309,24,2318,0,21222,null,12212,{"$f":"COUNTIF($L$7:$L$500,N20)","v":6},{"$f":"O20/$Q$4","v":4.7619047619047616E-2},{"$f":"IF(P20=0,0,(P20*((LOG(P20))/LOG(2))))","v":-0.20915797251327431},null,null,{"$f":"N20","v":12212},{"$f":"COUNTIF(L7:L27,T20)","v":3},{"$f":"U20/(W4-U25)","v":0.14285714285714285},{"$f":"IF(V20=0,0,(V20*((LOG(V20))/LOG(2))))","v":-0.40105070315108626},null,{"$f":"N20","v":12212},{"$f":"COUNTIF(L28:L48,Y20)","v":1},{"$f":"Z20/(AB4-Z25)","v":4.7619047619047616E-2},{"$f":"IF(AA20=0,0,(AA20*((LOG(AA20))/LOG(2))))","v":-0.20915797251327431},null,{"$f":"N20","v":12212},{"$f":"COUNTIF(L49:L70,AD20)","v":1},{"$f":"AE20/(AG4-AE25)","v":4.5454545454545456E-2},{"$f":"IF(AF20=0,0,(AF20*((LOG(AF20))/LOG(2))))","v":-0.20270143721078623},null,{"$f":"N20","v":12212},{"$f":"COUNTIF(L71:L91,AI20)","v":1},{"$f":"AJ20/(AL4-AJ25)","v":4.7619047619047616E-2},{"$f":"IF(AK20=0,0,(AK20*((LOG(AK20))/LOG(2))))","v":-0.20915797251327431},null,{"$f":"N20","v":12212},{"$f":"COUNTIF(L92:L112,AN20)","v":0},{"$f":"AO20/(AQ4-AO25)","v":0},{"$f":"IF(AP20=0,0,(AP20*((LOG(AP20))/LOG(2))))","v":0},null,{"$f":"N20","v":12212},{"$f":"COUNTIF(L113:L133,AS20)","v":0},{"$f":"AT20/(AV4-AT25)","v":0},{"$f":"IF(AU20=0,0,(AU20*((LOG(AU20))/LOG(2))))","v":0}]
[21,2426,11,2439,22,2479,14,2493,13,2516,0,21211,null,12221,{"$f":"COUNTIF($L$7:$L$500,N21)","v":4},{"$f":"O21/$Q$4","v":3.1746031746031744E-2},{"$f":"IF(P21=0,0,(P21*((LOG(P21))/LOG(2))))","v":-0.15800888646031477},null,null,{"$f":"N21","v":12221},{"$f":"COUNTIF(L7:L27,T21)","v":4},{"$f":"U21/(W4-U25)","v":0.19047619047619047},{"$f":"IF(V21=0,0,(V21*((LOG(V21))/LOG(2))))","v":-0.4556795091007162},null,{"$f":"N21","v":12221},{"$f":"COUNTIF(L28:L48,Y21)","v":0},{"$f":"Z21/(AB4-Z25)","v":0},{"$f":"IF(AA21=0,0,(AA21*((LOG(AA21))/LOG(2))))","v":0},null,{"$f":"N21","v":12221},{"$f":"COUNTIF(L49:L70,AD21)","v":0},{"$f":"AE21/(AG4-AE25)","v":0},{"$f":"IF(AF21=0,0,(AF21*((LOG(AF21))/LOG(2))))","v":0},null,{"$f":"N21","v":12221},{"$f":"COUNTIF(L71:L91,AI21)","v":0},{"$f":"AJ21/(AL4-AJ25)","v":0},{"$f":"IF(AK21=0,0,(AK21*((LOG(AK21))/LOG(2))))","v":0},null,{"$f":"N21","v":12221},{"$f":"COUNTIF(L92:L112,AN21)","v":0},{"$f":"AO21/(AQ4-AO25)","v":0},{"$f":"IF(AP21=0,0,(AP21*((LOG(AP21))/LOG(2))))","v":0},null,{"$f":"N21","v":12221},{"$f":"COUNTIF(L113:L133,AS21)","v":0},{"$f":"AT21/(AV4-AT25)","v":0},{"$f":"IF(AU21=0,0,(AU21*((LOG(AU21))/LOG(2))))","v":0}]
[21,2625,11,2634,22,2643,14,2653,24,2663,0,21212,null,12222,{"$f":"COUNTIF($L$7:$L$500,N22)","v":1},{"$f":"O22/$Q$4","v":7.9365079365079361E-3},{"$f":"IF(P22=0,0,(P22*((LOG(P22))/LOG(2))))","v":-5.5375237488094572E-2},null,null,{"$f":"N22","v":12222},{"$f":"COUNTIF(L7:L27,T22)","v":1},{"$f":"U22/(W4-U25)","v":4.7619047619047616E-2},{"$f":"IF(V22=0,0,(V22*((LOG(V22))/LOG(2))))","v":-0.20915797251327431},null,{"$f":"N22","v":12222},{"$f":"COUNTIF(L28:L48,Y22)","v":0},{"$f":"Z22/(AB4-Z25)","v":0},{"$f":"IF(AA22=0,0,(AA22*((LOG(AA22))/LOG(2))))","v":0},null,{"$f":"N22","v":12222},{"$f":"COUNTIF(L49:L70,AD22)","v":0},{"$f":"AE22/(AG4-AE25)","v":0},{"$f":"IF(AF22=0,0,(AF22*((LOG(AF22))/LOG(2))))","v":0},null,{"$f":"N22","v":12222},{"$f":"COUNTIF(L71:L91,AI22)","v":0},{"$f":"AJ22/(AL4-AJ25)","v":0},{"$f":"IF(AK22=0,0,(AK22*((LOG(AK22))/LOG(2))))","v":0},null,{"$f":"N22","v":12222},{"$f":"COUNTIF(L92:L112,AN22)","v":0},{"$f":"AO22/(AQ4-AO25)","v":0},{"$f":"IF(AP22=0,0,(AP22*((LOG(AP22))/LOG(2))))","v":0},null,{"$f":"N22","v":12222},{"$f":"COUNTIF(L113:L133,AS22)","v":0},{"$f":"AT22/(AV4-AT25)","v":0},{"$f":"IF(AU22=0,0,(AU22*((LOG(AU22))/LOG(2))))","v":0}]
[12,2765,13,2782,24,2792,14,2813,24,2826,0,11212,null,21111,{"$f":"COUNTIF($L$7:$L$500,N23)","v":0},{"$f":"O23/$Q$4","v":0},{"$f":"IF(P23=0,0,(P23*((LOG(P23))/LOG(2))))","v":0},null,null,{"$f":"N23","v":21111},{"$f":"COUNTIF(L7:L27,T23)","v":0},{"$f":"U23/(W4-U25)","v":0},{"$f":"IF(V23=0,0,(V23*((LOG(V23))/LOG(2))))","v":0},null,{"$f":"N23","v":21111},{"$f":"COUNTIF(L28:L48,Y23)","v":0},{"$f":"Z23/(AB4-Z25)","v":0},{"$f":"IF(AA23=0,0,(AA23*((LOG(AA23))/LOG(2))))","v":0},null,{"$f":"N23","v":21111},{"$f":"COUNTIF(L49:L70,AD23)","v":0},{"$f":"AE23/(AG4-AE25)","v":0},{"$f":"IF(AF23=0,0,(AF23*((LOG(AF23))/LOG(2))))","v":0},null,{"$f":"N23","v":21111},{"$f":"COUNTIF(L71:L91,AI23)","v":0},{"$f":"AJ23/(AL4-AJ25)","v":0},{"$f":"IF(AK23=0,0,(AK23*((LOG(AK23))/LOG(2))))","v":0},null,{"$f":"N23","v":21111},{"$f":"COUNTIF(L92:L112,AN23)","v":0},{"$f":"AO23/(AQ4-AO25)","v":0},{"$f":"IF(AP23=0,0,(AP23*((LOG(AP23))/LOG(2))))","v":0},null,{"$f":"N23","v":21111},{"$f":"COUNTIF(L113:L133,AS23)","v":0},{"$f":"AT23/(AV4-AT25)","v":0},{"$f":"IF(AU23=0,0,(AU23*((LOG(AU23))/LOG(2))))","v":0}]
[12,2942,24,2952,13,2961,14,2993,24,3005,0,12112,null,21112,{"$f":"COUNTIF($L$7:$L$500,N24)","v":3},{"$f":"O24/$Q$4","v":2.3809523809523808E-2},{"$f":"IF(P24=0,0,(P24*((LOG(P24))/LOG(2))))","v":-0.12838851006616095},null,null,{"$f":"N24","v":21112},{"$f":"COUNTIF(L7:L27,T24)","v":0},{"$f":"U24/(W4-U25)","v":0},{"$f":"IF(V24=0,0,(V24*((LOG(V24))/LOG(2))))","v":0},null,{"$f":"N24","v":21112},{"$f":"COUNTIF(L28:L48,Y24)","v":0},{"$f":"Z24/(AB4-Z25)","v":0},{"$f":"IF(AA24=0,0,(AA24*((LOG(AA24))/LOG(2))))","v":0},null,{"$f":"N24","v":21112},{"$f":"COUNTIF(L49:L70,AD24)","v":0},{"$f":"AE24/(AG4-AE25)","v":0},{"$f":"IF(AF24=0,0,(AF24*((LOG(AF24))/LOG(2))))","v":0},null,{"$f":"N24","v":21112},{"$f":"COUNTIF(L71:L91,AI24)","v":0},{"$f":"AJ24/(AL4-AJ25)","v":0},{"$f":"IF(AK24=0,0,(AK24*((LOG(AK24))/LOG(2))))","v":0},null,{"$f":"N24","v":21112},{"$f":"COUNTIF(L92:L112,AN24)","v":0},{"$f":"AO24/(AQ4-AO25)","v":0},{"$f":"IF(AP24=0,0,(AP24*((LOG(AP24))/LOG(2))))","v":0},null,{"$f":"N24","v":21112},{"$f":"COUNTIF(L113:L133,AS24)","v":3},{"$f":"AT24/(AV4-AT25)","v":0.15},{"$f":"IF(AU24=0,0,(AU24*((LOG(AU24))/LOG(2))))","v":-0.41054483912493089}]
[12,3121,24,3130,13,3140,23,3159,13,3176,0,12121,null,21121,{"$f":"COUNTIF($L$7:$L$500,N25)","v":0},{"$f":"O25/$Q$4","v":0},{"$f":"IF(P25=0,0,(P25*((LOG(P25))/LOG(2))))","v":0},null,null,{"$f":"N25","v":21121},{"$f":"COUNTIF(L7:L27,T25)","v":0},null,null,null,{"$f":"N25","v":21121},{"$f":"COUNTIF(L28:L48,Y25)","v":0},null,null,null,{"$f":"N25","v":21121},{"$f":"COUNTIF(L49:L70,AD25)","v":0},null,null,null,{"$f":"N25","v":21121},{"$f":"COUNTIF(L71:L91,AI25)","v":0},null,null,null,{"$f":"N25","v":21121},{"$f":"COUNTIF(L92:L112,AN25)","v":0},null,null,null,{"$f":"N25","v":21121},{"$f":"COUNTIF(L113:L133,AS25)","v":0}]
[21,3327,11,3338,22,3350,14,3372,24,3383,0,21212,null,21122,{"$f":"COUNTIF($L$7:$L$500,N26)","v":1},{"$f":"O26/$Q$4","v":7.9365079365079361E-3},{"$f":"IF(P26=0,0,(P26*((LOG(P26))/LOG(2))))","v":-5.5375237488094572E-2},null,null,{"$f":"N26","v":21122},{"$f":"COUNTIF(L7:L27,T26)","v":0},{"$f":"U26/(W4-U25)","v":0},{"$f":"IF(V26=0,0,(V26*((LOG(V26))/LOG(2))))","v":0},null,{"$f":"N26","v":21122},{"$f":"COUNTIF(L28:L48,Y26)","v":0},{"$f":"Z26/(AB4-Z25)","v":0},{"$f":"IF(AA26=0,0,(AA26*((LOG(AA26))/LOG(2))))","v":0},null,{"$f":"N26","v":21122},{"$f":"COUNTIF(L49:L70,AD26)","v":0},{"$f":"AE26/(AG4-AE25)","v":0},{"$f":"IF(AF26=0,0,(AF26*((LOG(AF26))/LOG(2))))","v":0},null,{"$f":"N26","v":21122},{"$f":"COUNTIF(L71:L91,AI26)","v":1},{"$f":"AJ26/(AL4-AJ25)","v":4.7619047619047616E-2},{"$f":"IF(AK26=0,0,(AK26*((LOG(AK26))/LOG(2))))","v":-0.20915797251327431},null,{"$f":"N26","v":21122},{"$f":"COUNTIF(L92:L112,AN26)","v":0},{"$f":"AO26/(AQ4-AO25)","v":0},{"$f":"IF(AP26=0,0,(AP26*((LOG(AP26))/LOG(2))))","v":0},null,{"$f":"N26","v":21122},{"$f":"COUNTIF(L113:L133,AS26)","v":0},{"$f":"AT26/(AV4-AT25)","v":0},{"$f":"IF(AU26=0,0,(AU26*((LOG(AU26))/LOG(2))))","v":0}]
[12,3499,24,3513,24,3533,14,3545,13,3587,0,12211,null,21211,{"$f":"COUNTIF($L$7:$L$500,N27)","v":5},{"$f":"O27/$Q$4","v":3.968253968253968E-2},{"$f":"IF(P27=0,0,(P27*((LOG(P27))/LOG(2))))","v":-0.18473618367510133},null,null,{"$f":"N27","v":21211},{"$f":"COUNTIF(L7:L27,T27)","v":1},{"$f":"U27/(W4-U25)","v":4.7619047619047616E-2},{"$f":"IF(V27=0,0,(V27*((LOG(V27))/LOG(2))))","v":-0.20915797251327431},null,{"$f":"N27","v":21211},{"$f":"COUNTIF(L28:L48,Y27)","v":0},{"$f":"Z27/(AB4-Z25)","v":0},{"$f":"IF(AA27=0,0,(AA27*((LOG(AA27))/LOG(2))))","v":0},null,{"$f":"N27","v":21211},{"$f":"COUNTIF(L49:L70,AD27)","v":0},{"$f":"AE27/(AG4-AE25)","v":0},{"$f":"IF(AF27=0,0,(AF27*((LOG(AF27))/LOG(2))))","v":0},null,{"$f":"N27","v":21211},{"$f":"COUNTIF(L71:L91,AI27)","v":2},{"$f":"AJ27/(AL4-AJ25)","v":9.5238095238095233E-2},{"$f":"IF(AK27=0,0,(AK27*((LOG(AK27))/LOG(2))))","v":-0.32307784978845333},null,{"$f":"N27","v":21211},{"$f":"COUNTIF(L92:L112,AN27)","v":1},{"$f":"AO27/(AQ4-AO25)","v":4.7619047619047616E-2},{"$f":"IF(AP27=0,0,(AP27*((LOG(AP27))/LOG(2))))","v":-0.20915797251327431},null,{"$f":"N27","v":21211},{"$f":"COUNTIF(L113:L133,AS27)","v":1},{"$f":"AT27/(AV4-AT25)","v":0.05},{"$f":"IF(AU27=0,0,(AU27*((LOG(AU27))/LOG(2))))","v":-0.21609640474436814}]
[12,3701,24,3712,24,3720,14,3728,24,3739,0,12212,null,21212,{"$f":"COUNTIF($L$7:$L$500,N28)","v":19},{"$f":"O28/$Q$4","v":0.15079365079365079},{"$f":"IF(P28=0,0,(P28*((LOG(P28))/LOG(2))))","v":-0.41156901421484354},null,null,{"$f":"N28","v":21212},{"$f":"COUNTIF(L7:L27,T28)","v":3},{"$f":"U28/(W4-U25)","v":0.14285714285714285},{"$f":"IF(V28=0,0,(V28*((LOG(V28))/LOG(2))))","v":-0.40105070315108626},null,{"$f":"N28","v":21212},{"$f":"COUNTIF(L28:L48,Y28)","v":1},{"$f":"Z28/(AB4-Z25)","v":4.7619047619047616E-2},{"$f":"IF(AA28=0,0,(AA28*((LOG(AA28))/LOG(2))))","v":-0.20915797251327431},null,{"$f":"N28","v":21212},{"$f":"COUNTIF(L49:L70,AD28)","v":8},{"$f":"AE28/(AG4-AE25)","v":0.36363636363636365},{"$f":"IF(AF28=0,0,(AF28*((LOG(AF28))/LOG(2))))","v":-0.53070240677719893},null,{"$f":"N28","v":21212},{"$f":"COUNTIF(L71:L91,AI28)","v":3},{"$f":"AJ28/(AL4-AJ25)","v":0.14285714285714285},{"$f":"IF(AK28=0,0,(AK28*((LOG(AK28))/LOG(2))))","v":-0.40105070315108626},null,{"$f":"N28","v":21212},{"$f":"COUNTIF(L92:L112,AN28)","v":2},{"$f":"AO28/(AQ4-AO25)","v":9.5238095238095233E-2},{"$f":"IF(AP28=0,0,(AP28*((LOG(AP28))/LOG(2))))","v":-0.32307784978845333},null,{"$f":"N28","v":21212},{"$f":"COUNTIF(L113:L133,AS28)","v":2},{"$f":"AT28/(AV4-AT25)","v":0.1},{"$f":"IF(AU28=0,0,(AU28*((LOG(AU28))/LOG(2))))","v":-0.33219280948873625}]
[12,3842,24,3851,13,3859,14,3882,24,3902,0,12112,null,21221,{"$f":"COUNTIF($L$7:$L$500,N29)","v":0},{"$f":"O29/$Q$4","v":0},{"$f":"IF(P29=0,0,(P29*((LOG(P29))/LOG(2))))","v":0},null,null,{"$f":"N29","v":21221},{"$f":"COUNTIF(L7:L27,T29)","v":0},{"$f":"U29/(W4-U25)","v":0},{"$f":"IF(V29=0,0,(V29*((LOG(V29))/LOG(2))))","v":0},null,{"$f":"N29","v":21221},{"$f":"COUNTIF(L28:L48,Y29)","v":0},{"$f":"Z29/(AB4-Z25)","v":0},{"$f":"IF(AA29=0,0,(AA29*((LOG(AA29))/LOG(2))))","v":0},null,{"$f":"N29","v":21221},{"$f":"COUNTIF(L49:L70,AD29)","v":0},{"$f":"AE29/(AG4-AE25)","v":0},{"$f":"IF(AF29=0,0,(AF29*((LOG(AF29))/LOG(2))))","v":0},null,{"$f":"N29","v":21221},{"$f":"COUNTIF(L71:L91,AI29)","v":0},{"$f":"AJ29/(AL4-AJ25)","v":0},{"$f":"IF(AK29=0,0,(AK29*((LOG(AK29))/LOG(2))))","v":0},null,{"$f":"N29","v":21221},{"$f":"COUNTIF(L92:L112,AN29)","v":0},{"$f":"AO29/(AQ4-AO25)","v":0},{"$f":"IF(AP29=0,0,(AP29*((LOG(AP29))/LOG(2))))","v":0},null,{"$f":"N29","v":21221},{"$f":"COUNTIF(L113:L133,AS29)","v":0},{"$f":"AT29/(AV4-AT25)","v":0},{"$f":"IF(AU29=0,0,(AU29*((LOG(AU29))/LOG(2))))","v":0}]
[12,4012,24,4071,13,4079,23,4090,24,4099,0,12122,null,21222,{"$f":"COUNTIF($L$7:$L$500,N30)","v":1},{"$f":"O30/$Q$4","v":7.9365079365079361E-3},{"$f":"IF(P30=0,0,(P30*((LOG(P30))/LOG(2))))","v":-5.5375237488094572E-2},null,null,{"$f":"N30","v":21222},{"$f":"COUNTIF(L7:L27,T30)","v":1},{"$f":"U30/(W4-U25)","v":4.7619047619047616E-2},{"$f":"IF(V30=0,0,(V30*((LOG(V30))/LOG(2))))","v":-0.20915797251327431},null,{"$f":"N30","v":21222},{"$f":"COUNTIF(L28:L48,Y30)","v":0},{"$f":"Z30/(AB4-Z25)","v":0},{"$f":"IF(AA30=0,0,(AA30*((LOG(AA30))/LOG(2))))","v":0},null,{"$f":"N30","v":21222},{"$f":"COUNTIF(L49:L70,AD30)","v":0},{"$f":"AE30/(AG4-AE25)","v":0},{"$f":"IF(AF30=0,0,(AF30*((LOG(AF30))/LOG(2))))","v":0},null,{"$f":"N30","v":21222},{"$f":"COUNTIF(L71:L91,AI30)","v":0},{"$f":"AJ30/(AL4-AJ25)","v":0},{"$f":"IF(AK30=0,0,(AK30*((LOG(AK30))/LOG(2))))","v":0},null,{"$f":"N30","v":21222},{"$f":"COUNTIF(L92:L112,AN30)","v":0},{"$f":"AO30/(AQ4-AO25)","v":0},{"$f":"IF(AP30=0,0,(AP30*((LOG(AP30))/LOG(2))))","v":0},null,{"$f":"N30","v":21222},{"$f":"COUNTIF(L113:L133,AS30)","v":0},{"$f":"AT30/(AV4-AT25)","v":0},{"$f":"IF(AU30=0,0,(AU30*((LOG(AU30))/LOG(2))))","v":0}]
[12,4199,13,4208,24,4217,14,4227,13,4251,0,11211,null,22111,{"$f":"COUNTIF($L$7:$L$500,N31)","v":1},{"$f":"O31/$Q$4","v":7.9365079365079361E-3},{"$f":"IF(P31=0,0,(P31*((LOG(P31))/LOG(2))))","v":-5.5375237488094572E-2},null,null,{"$f":"N31","v":22111},{"$f":"COUNTIF(L7:L27,T31)","v":0},{"$f":"U31/(W4-U25)","v":0},{"$f":"IF(V31=0,0,(V31*((LOG(V31))/LOG(2))))","v":0},null,{"$f":"N31","v":22111},{"$f":"COUNTIF(L28:L48,Y31)","v":0},{"$f":"Z31/(AB4-Z25)","v":0},{"$f":"IF(AA31=0,0,(AA31*((LOG(AA31))/LOG(2))))","v":0},null,{"$f":"N31","v":22111},{"$f":"COUNTIF(L49:L70,AD31)","v":0},{"$f":"AE31/(AG4-AE25)","v":0},{"$f":"IF(AF31=0,0,(AF31*((LOG(AF31))/LOG(2))))","v":0},null,{"$f":"N31","v":22111},{"$f":"COUNTIF(L71:L91,AI31)","v":0},{"$f":"AJ31/(AL4-AJ25)","v":0},{"$f":"IF(AK31=0,0,(AK31*((LOG(AK31))/LOG(2))))","v":0},null,{"$f":"N31","v":22111},{"$f":"COUNTIF(L92:L112,AN31)","v":0},{"$f":"AO31/(AQ4-AO25)","v":0},{"$f":"IF(AP31=0,0,(AP31*((LOG(AP31))/LOG(2))))","v":0},null,{"$f":"N31","v":22111},{"$f":"COUNTIF(L113:L133,AS31)","v":1},{"$f":"AT31/(AV4-AT25)","v":0.05},{"$f":"IF(AU31=0,0,(AU31*((LOG(AU31))/LOG(2))))","v":-0.21609640474436814}]
[12,4358,24,4367,13,4376,23,4386,24,4396,0,12122,null,22112,{"$f":"COUNTIF($L$7:$L$500,N32)","v":0},{"$f":"O32/$Q$4","v":0},{"$f":"IF(P32=0,0,(P32*((LOG(P32))/LOG(2))))","v":0},null,null,{"$f":"N32","v":22112},{"$f":"COUNTIF(L7:L27,T32)","v":0},{"$f":"U32/(W4-U25)","v":0},{"$f":"IF(V32=0,0,(V32*((LOG(V32))/LOG(2))))","v":0},null,{"$f":"N32","v":22112},{"$f":"COUNTIF(L28:L48,Y32)","v":0},{"$f":"Z32/(AB4-Z25)","v":0},{"$f":"IF(AA32=0,0,(AA32*((LOG(AA32))/LOG(2))))","v":0},null,{"$f":"N32","v":22112},{"$f":"COUNTIF(L49:L70,AD32)","v":0},{"$f":"AE32/(AG4-AE25)","v":0},{"$f":"IF(AF32=0,0,(AF32*((LOG(AF32))/LOG(2))))","v":0},null,{"$f":"N32","v":22112},{"$f":"COUNTIF(L71:L91,AI32)","v":0},{"$f":"AJ32/(AL4-AJ25)","v":0},{"$f":"IF(AK32=0,0,(AK32*((LOG(AK32))/LOG(2))))","v":0},null,{"$f":"N32","v":22112},{"$f":"COUNTIF(L92:L112,AN32)","v":0},{"$f":"AO32/(AQ4-AO25)","v":0},{"$f":"IF(AP32=0,0,(AP32*((LOG(AP32))/LOG(2))))","v":0},null,{"$f":"N32","v":22112},{"$f":"COUNTIF(L113:L133,AS32)","v":0},{"$f":"AT32/(AV4-AT25)","v":0},{"$f":"IF(AU32=0,0,(AU32*((LOG(AU32))/LOG(2))))","v":0}]
[12,4494,24,4506,24,4516,14,4524,13,4544,0,12211,null,22121,{"$f":"COUNTIF($L$7:$L$500,N33)","v":3},{"$f":"O33/$Q$4","v":2.3809523809523808E-2},{"$f":"IF(P33=0,0,(P33*((LOG(P33))/LOG(2))))","v":-0.12838851006616095},null,null,{"$f":"N33","v":22121},{"$f":"COUNTIF(L7:L27,T33)","v":0},{"$f":"U33/(W4-U25)","v":0},{"$f":"IF(V33=0,0,(V33*((LOG(V33))/LOG(2))))","v":0},null,{"$f":"N33","v":22121},{"$f":"COUNTIF(L28:L48,Y33)","v":0},{"$f":"Z33/(AB4-Z25)","v":0},{"$f":"IF(AA33=0,0,(AA33*((LOG(AA33))/LOG(2))))","v":0},null,{"$f":"N33","v":22121},{"$f":"COUNTIF(L49:L70,AD33)","v":1},{"$f":"AE33/(AG4-AE25)","v":4.5454545454545456E-2},{"$f":"IF(AF33=0,0,(AF33*((LOG(AF33))/LOG(2))))","v":-0.20270143721078623},null,{"$f":"N33","v":22121},{"$f":"COUNTIF(L71:L91,AI33)","v":2},{"$f":"AJ33/(AL4-AJ25)","v":9.5238095238095233E-2},{"$f":"IF(AK33=0,0,(AK33*((LOG(AK33))/LOG(2))))","v":-0.32307784978845333},null,{"$f":"N33","v":22121},{"$f":"COUNTIF(L92:L112,AN33)","v":0},{"$f":"AO33/(AQ4-AO25)","v":0},{"$f":"IF(AP33=0,0,(AP33*((LOG(AP33))/LOG(2))))","v":0},null,{"$f":"N33","v":22121},{"$f":"COUNTIF(L113:L133,AS33)","v":0},{"$f":"AT33/(AV4-AT25)","v":0},{"$f":"IF(AU33=0,0,(AU33*((LOG(AU33))/LOG(2))))","v":0}]
[12,4646,13,4662,24,4672,23,4682,13,4696,0,11221,null,22122,{"$f":"COUNTIF($L$7:$L$500,N34)","v":0},{"$f":"O34/$Q$4","v":0},{"$f":"IF(P34=0,0,(P34*((LOG(P34))/LOG(2))))","v":0},null,null,{"$f":"N34","v":22122},{"$f":"COUNTIF(L7:L27,T34)","v":0},{"$f":"U34/(W4-U25)","v":0},{"$f":"IF(V34=0,0,(V34*((LOG(V34))/LOG(2))))","v":0},null,{"$f":"N34","v":22122},{"$f":"COUNTIF(L28:L48,Y34)","v":0},{"$f":"Z34/(AB4-Z25)","v":0},{"$f":"IF(AA34=0,0,(AA34*((LOG(AA34))/LOG(2))))","v":0},null,{"$f":"N34","v":22122},{"$f":"COUNTIF(L49:L70,AD34)","v":0},{"$f":"AE34/(AG4-AE25)","v":0},{"$f":"IF(AF34=0,0,(AF34*((LOG(AF34))/LOG(2))))","v":0},null,{"$f":"N34","v":22122},{"$f":"COUNTIF(L71:L91,AI34)","v":0},{"$f":"AJ34/(AL4-AJ25)","v":0},{"$f":"IF(AK34=0,0,(AK34*((LOG(AK34))/LOG(2))))","v":0},null,{"$f":"N34","v":22122},{"$f":"COUNTIF(L92:L112,AN34)","v":0},{"$f":"AO34/(AQ4-AO25)","v":0},{"$f":"IF(AP34=0,0,(AP34*((LOG(AP34))/LOG(2))))","v":0},null,{"$f":"N34","v":22122},{"$f":"COUNTIF(L113:L133,AS34)","v":0},{"$f":"AT34/(AV4-AT25)","v":0},{"$f":"IF(AU34=0,0,(AU34*((LOG(AU34))/LOG(2))))","v":0}]
[12,4797,13,4803,13,4821,23,4833,13,4845,0,11121,null,22211,{"$f":"COUNTIF($L$7:$L$500,N35)","v":0},{"$f":"O35/$Q$4","v":0},{"$f":"IF(P35=0,0,(P35*((LOG(P35))/LOG(2))))","v":0},null,null,{"$f":"N35","v":22211},{"$f":"COUNTIF(L7:L27,T35)","v":0},{"$f":"U35/(W4-U25)","v":0},{"$f":"IF(V35=0,0,(V35*((LOG(V35))/LOG(2))))","v":0},null,{"$f":"N35","v":22211},{"$f":"COUNTIF(L28:L48,Y35)","v":0},{"$f":"Z35/(AB4-Z25)","v":0},{"$f":"IF(AA35=0,0,(AA35*((LOG(AA35))/LOG(2))))","v":0},null,{"$f":"N35","v":22211},{"$f":"COUNTIF(L49:L70,AD35)","v":0},{"$f":"AE35/(AG4-AE25)","v":0},{"$f":"IF(AF35=0,0,(AF35*((LOG(AF35))/LOG(2))))","v":0},null,{"$f":"N35","v":22211},{"$f":"COUNTIF(L71:L91,AI35)","v":0},{"$f":"AJ35/(AL4-AJ25)","v":0},{"$f":"IF(AK35=0,0,(AK35*((LOG(AK35))/LOG(2))))","v":0},null,{"$f":"N35","v":22211},{"$f":"COUNTIF(L92:L112,AN35)","v":0},{"$f":"AO35/(AQ4-AO25)","v":0},{"$f":"IF(AP35=0,0,(AP35*((LOG(AP35))/LOG(2))))","v":0},null,{"$f":"N35","v":22211},{"$f":"COUNTIF(L113:L133,AS35)","v":0},{"$f":"AT35/(AV4-AT25)","v":0},{"$f":"IF(AU35=0,0,(AU35*((LOG(AU35))/LOG(2))))","v":0}]
[12,4943,24,4953,13,4971,23,4979,24,4988,0,12122,null,22212,{"$f":"COUNTIF($L$7:$L$500,N36)","v":1},{"$f":"O36/$Q$4","v":7.9365079365079361E-3},{"$f":"IF(P36=0,0,(P36*((LOG(P36))/LOG(2))))","v":-5.5375237488094572E-2},null,null,{"$f":"N36","v":22212},{"$f":"COUNTIF(L7:L27,T36)","v":0},{"$f":"U36/(W4-U25)","v":0},{"$f":"IF(V36=0,0,(V36*((LOG(V36))/LOG(2))))","v":0},null,{"$f":"N36","v":22212},{"$f":"COUNTIF(L28:L48,Y36)","v":0},{"$f":"Z36/(AB4-Z25)","v":0},{"$f":"IF(AA36=0,0,(AA36*((LOG(AA36))/LOG(2))))","v":0},null,{"$f":"N36","v":22212},{"$f":"COUNTIF(L49:L70,AD36)","v":0},{"$f":"AE36/(AG4-AE25)","v":0},{"$f":"IF(AF36=0,0,(AF36*((LOG(AF36))/LOG(2))))","v":0},null,{"$f":"N36","v":22212},{"$f":"COUNTIF(L71:L91,AI36)","v":0},{"$f":"AJ36/(AL4-AJ25)","v":0},{"$f":"IF(AK36=0,0,(AK36*((LOG(AK36))/LOG(2))))","v":0},null,{"$f":"N36","v":22212},{"$f":"COUNTIF(L92:L112,AN36)","v":1},{"$f":"AO36/(AQ4-AO25)","v":4.7619047619047616E-2},{"$f":"IF(AP36=0,0,(AP36*((LOG(AP36))/LOG(2))))","v":-0.20915797251327431},null,{"$f":"N36","v":22212},{"$f":"COUNTIF(L113:L133,AS36)","v":0},{"$f":"AT36/(AV4-AT25)","v":0},{"$f":"IF(AU36=0,0,(AU36*((LOG(AU36))/LOG(2))))","v":0}]
[12,5107,24,5120,13,5132,23,5144,24,5154,0,12122,null,22221,{"$f":"COUNTIF($L$7:$L$500,N37)","v":0},{"$f":"O37/$Q$4","v":0},{"$f":"IF(P37=0,0,(P37*((LOG(P37))/LOG(2))))","v":0},null,null,{"$f":"N37","v":22221},{"$f":"COUNTIF(L7:L27,T37)","v":0},{"$f":"U37/(W4-U25)","v":0},{"$f":"IF(V37=0,0,(V37*((LOG(V37))/LOG(2))))","v":0},null,{"$f":"N37","v":22221},{"$f":"COUNTIF(L28:L48,Y37)","v":0},{"$f":"Z37/(AB4-Z25)","v":0},{"$f":"IF(AA37=0,0,(AA37*((LOG(AA37))/LOG(2))))","v":0},null,{"$f":"N37","v":22221},{"$f":"COUNTIF(L49:L70,AD37)","v":0},{"$f":"AE37/(AG4-AE25)","v":0},{"$f":"IF(AF37=0,0,(AF37*((LOG(AF37))/LOG(2))))","v":0},null,{"$f":"N37","v":22221},{"$f":"COUNTIF(L71:L91,AI37)","v":0},{"$f":"AJ37/(AL4-AJ25)","v":0},{"$f":"IF(AK37=0,0,(AK37*((LOG(AK37))/LOG(2))))","v":0},null,{"$f":"N37","v":22221},{"$f":"COUNTIF(L92:L112,AN37)","v":0},{"$f":"AO37/(AQ4-AO25)","v":0},{"$f":"IF(AP37=0,0,(AP37*((LOG(AP37))/LOG(2))))","v":0},null,{"$f":"N37","v":22221},{"$f":"COUNTIF(L113:L133,AS37)","v":0},{"$f":"AT37/(AV4-AT25)","v":0},{"$f":"IF(AU37=0,0,(AU37*((LOG(AU37))/LOG(2))))","v":0}]
[12,5281,24,5295,13,5306,23,5319,13,5340,0,12121,null,22222,{"$f":"COUNTIF($L$7:$L$500,N38)","v":0},{"$f":"O38/$Q$4","v":0},{"$f":"IF(P38=0,0,(P38*((LOG(P38))/LOG(2))))","v":0},null,null,{"$f":"N38","v":22222},{"$f":"COUNTIF(L7:L27,T38)","v":0},{"$f":"U38/(W4-U25)","v":0},{"$f":"IF(V38=0,0,(V38*((LOG(V38))/LOG(2))))","v":0},null,{"$f":"N38","v":22222},{"$f":"COUNTIF(L28:L48,Y38)","v":0},{"$f":"Z38/(AB4-Z25)","v":0},{"$f":"IF(AA38=0,0,(AA38*((LOG(AA38))/LOG(2))))","v":0},null,{"$f":"N38","v":22222},{"$f":"COUNTIF(L49:L70,AD38)","v":0},{"$f":"AE38/(AG4-AE25)","v":0},{"$f":"IF(AF38=0,0,(AF38*((LOG(AF38))/LOG(2))))","v":0},null,{"$f":"N38","v":22222},{"$f":"COUNTIF(L71:L91,AI38)","v":0},{"$f":"AJ38/(AL4-AJ25)","v":0},{"$f":"IF(AK38=0,0,(AK38*((LOG(AK38))/LOG(2))))","v":0},null,{"$f":"N38","v":22222},{"$f":"COUNTIF(L92:L112,AN38)","v":0},{"$f":"AO38/(AQ4-AO25)","v":0},{"$f":"IF(AP38=0,0,(AP38*((LOG(AP38))/LOG(2))))","v":0},null,{"$f":"N38","v":22222},{"$f":"COUNTIF(L113:L133,AS38)","v":0},{"$f":"AT38/(AV4-AT25)","v":0},{"$f":"IF(AU38=0,0,(AU38*((LOG(AU38))/LOG(2))))","v":0}]
[12,5440,13,5447,13,5456,14,5476,13,5521,0,11111,null,null,null,{"$f":"SUM(P7:P38)","v":0.99999999999999989},{"$f":"-SUM(Q7:Q38)","v":3.7727232228444798},null,null,null,null,{"$f":"SUM(V7:V38)","v":1},{"$f":"-SUM(W7:W38)","v":3.0056785904566765},null,null,null,{"$f":"SUM(AA7:AA38)","v":1},{"$f":"-SUM(AB7:AB38)","v":3.0589840894454268},null,null,null,{"$f":"SUM(AF7:AF38)","v":0.99999999999999989},{"$f":"-SUM(AG7:AG38)","v":2.8230679822736602},null,null,null,{"$f":"SUM(AK7:AK38)","v":1},{"$f":"-SUM(AL7:AL38)","v":3.1009166856947727},null,null,null,{"$f":"SUM(AP7:AP38)","v":1},{"$f":"-SUM(AQ7:AQ38)","v":2.8325608750566902},null,null,null,{"$f":"SUM(AU7:AU38)","v":1},{"$f":"-SUM(AV7:AV38)","v":3.1037016960573482}]
[21,5636,11,5644,22,5654,14,5665,24,5678,0,21212,null,null,null,"U=",{"$f":"Q39/(LOG(Q4)/LOG(2))","v":0.54071547425490429},null,null,null,null,"U1=",{"$f":"W39/(LOG(W4)/LOG(2))","v":0.68430359219237857},null,null,null,"U2=",{"$f":"AB39/(LOG(AB4)/LOG(2))","v":0.69643966840406257},null,null,null,"U3=",{"$f":"AG39/(LOG(AG4)/LOG(2))","v":0.63305556037124},null,null,null,"U4=",{"$f":"AL39/(LOG(AL4)/LOG(2))","v":0.70598647302066009},null,null,null,"U5=",{"$f":"AQ39/(LOG(AQ4)/LOG(2))","v":0.64488983887341544},null,null,null,"U6=",{"$f":"AV39/(LOG(AV4)/LOG(2))","v":0.71812895261466314}]
[12,5805,24,5817,13,5826,23,5839,24,5849,0,12122]
[12,5963,24,5971,13,5980,23,5990,13,6000,0,12121]
[12,6103,13,6122,24,6131,23,6140,24,6153,0,11222,null,"Total Target Seq"]
[12,6252,13,6263,24,6279,14,6292,24,6302,0,11212,null,{"$f":"COUNTIF(L7:L133,G3)","v":0},null,21,21,22,21,21,21]
[12,6413,13,6429,24,6440,23,6448,13,6461,0,11221,null,null,null,"% of reinforcement given in 6 equal intervals based on number of trials "]
[12,6567,24,6580,13,6587,23,6627,24,6635,0,12122,null,null,null,"%_1","%_2","%_3","%_4","%_5","%_6"]
[12,6737,24,6749,13,6758,23,6775,24,6793,0,12122,null,null,"target sequence",{"$f":"$G$3","v":21121},{"$f":"$G$3","v":21121},{"$f":"$G$3","v":21121},{"$f":"$G$3","v":21121},{"$f":"$G$3","v":21121},{"$f":"$G$3","v":21121}]
[12,6903,24,6912,13,6921,23,6932,24,6940,0,12122,null,null,"total reinforcement",{"$f":"U25","v":0},{"$f":"Z25","v":0},{"$f":"AE25","v":0},{"$f":"AJ25","v":0},{"$f":"AO25","v":0},{"$f":"AT25","v":0}]
[12,7040,24,7050,24,7070,14,7082,24,7094,0,12212,null,null,"% target"]
[12,7224,24,7235,13,7246,23,7258,24,7267,0,12122,null,null,"CCRF"]
[12,7394,24,7404,13,7414,23,7425,13,7437,0,12121,null,null,"% CCRf"]
[12,7575,24,7584,13,7594,23,7606,24,7615,0,12122,null,null,"average response rate",{"$f":"J27/P44","v":170.8095238095238},{"$f":"(J48-J27)/Q44","v":159.66666666666666},{"$f":"(J70-J48)/R44","v":162.81818181818181},{"$f":"(J91-J70)/S44","v":181.23809523809524},{"$f":"(J112-J91)/T44","v":211.76190476190476},{"$f":"(J133-J112)/U44","v":-894.04761904761904}]
[12,7722,13,7740,13,7762,23,7774,24,7783,0,11122]
[12,7895,13,7910,24,7918,14,7926,24,7937,0,11212]
[21,8037,11,8063,22,8071,14,8084,24,8093,0,21212]
[21,8202,11,8211,22,8220,14,8230,24,8242,0,21212]
[21,8345,11,8355,22,8364,14,8375,24,8383,0,21212]
[12,8489,24,8497,13,8506,23,8514,24,8543,0,12122]
[12,8693,24,8704,13,8715,14,8738,24,8750,0,12112]
[21,8858,11,8871,22,8882,14,8892,24,8903,0,21212]
[12,9027,13,9082,24,9091,14,9103,24,9121,0,11212]
[21,9218,11,9231,22,9243,14,9251,24,9263,0,21212]
[12,9372,13,9378,24,9389,14,9397,13,9428,0,11211]
[12,9531,24,9541,13,9548,23,9559,13,9571,0,12121]
[21,9680,11,9688,22,9698,14,9724,24,9735,0,21212]
[12,9857,24,9863,13,9873,23,9882,24,9895,0,12122]
[21,10035,11,10044,22,10052,14,10062,24,10074,0,21212]
[21,10177,22,10184,13,10192,23,10200,13,10209,0,22121]
[12,10322,13,10327,13,10333,14,10356,13,10380,0,11111]
[21,10483,11,10493,22,10502,14,10510,24,10522,0,21212]
[21,10678,11,10753,22,10762,14,10777,24,10798,0,21212]
[12,10905,24,10913,13,10922,23,10933,13,10945,0,12121]
[12,11053,24,11062,13,11070,23,11083,13,11094,0,12121]
[12,11200,24,11210,24,11219,14,11228,24,11261,0,12212]
[21,11382,11,11393,22,11399,14,11410,24,11420,0,21212]
[12,11572,24,11585,13,11594,23,11604,24,11616,0,12122]
[12,11725,13,11733,24,11742,14,11750,24,11758,0,11212]
[12,11873,24,11882,13,11890,23,11901,13,11914,0,12121]
[12,12019,13,12037,24,12047,14,12068,24,12080,0,11212]
[12,12289,24,12299,13,12312,23,12324,13,12355,0,12121]
[21,12454,22,12472,13,12480,23,12489,13,12497,0,22121]
[12,12616,24,12625,13,12636,23,12647,24,12655,0,12122]
[12,12867,24,12878,13,12892,23,12904,13,12917,0,12121]
[21,13024,11,13042,11,13052,21,13062,22,13070,0,21122]
[12,13179,13,13198,24,13207,14,13217,13,13242,0,11211]
[21,13401,22,13424,13,13446,23,13459,13,13476,0,22121]
[21,13580,11,13588,22,13599,14,13611,24,13639,0,21212]
[21,13748,11,13765,22,13774,14,13783,13,13808,0,21211]
[21,13930,11,13937,22,13946,14,13955,13,13983,0,21211]
[12,14117,13,14131,24,14144,14,14155,24,14167,0,11212]
[12,14273,13,14291,24,14300,23,14317,13,14328,0,11221]
[12,14466,24,14475,13,14484,23,14495,13,14504,0,12121]
[12,14656,24,14665,13,14677,23,14689,24,14698,0,12122]
[12,14825,24,14834,13,14842,23,14851,13,14863,0,12121]
[21,14973,11,14981,22,14991,14,15002,13,15023,0,21211]
[12,15157,24,15166,13,15174,23,15183,13,15198,0,12121]
[12,15337,24,15348,13,15373,23,15383,13,15406,0,12121]
[12,15610,24,15620,13,15635,23,15657,13,15679,0,12121]
[12,15832,13,15846,13,15866,14,15887,24,15896,0,11112]
[21,16024,22,16041,24,16049,14,16061,24,16084,0,22212]
[12,16200,13,16211,24,16220,14,16233,13,16254,0,11211]
[12,16416,24,16426,13,16434,23,16442,13,16455,0,12121]
[12,16608,24,16621,13,16632,23,16643,24,16651,0,12122]
[12,16772,13,16793,13,16822,14,16847,13,16877,0,11111]
[12,17050,13,17066,24,17075,14,17091,13,17113,0,11211]
[12,17269,24,17277,13,17286,23,17297,24,17306,0,12122]
[21,17453,11,17464,22,17483,14,17494,24,17515,0,21212]
[21,17668,11,17679,22,17689,14,17697,24,17706,0,21212]
[12,17850,24,17868,13,17880,14,17905,24,17917,0,12112]
[12,18197,24,18207,13,18218,23,18230,13,18245,0,12121]
[12,18464,24,18473,13,18482,23,18493,13,18513,0,12121]
[12,18709,13,18730,24,18751,14,18765,24,18775,0,11212]
[12,18972,13,18981,24,18989,14,19002,24,19013,0,11212]
[12,19195,24,19210,13,19220,14,19231,13,19253,0,12111]
[12,19566,24,19581,13,19616,23,19626,13,19650,0,12121]
[12,19845,24,19857,13,19877,23,19889,13,19903,0,12121]
[21,20116,11,20127,11,20147,12,20156,24,20169,0,21112]
[12,20376,13,20488,24,20499,14,20513,24,20526,0,11212]
[21,20648,11,20661,22,20670,14,20682,24,20694,0,21212]
[12,20836,13,20853,13,20873,23,20885,13,20898,0,11121]
[12,21034,24,21044,13,21053,23,21063,13,21075,0,12121]
[12,21419,13,21429,24,21440,14,21477,13,21485,0,11211]
[21,21676,11,21685,22,21695,14,21708,24,21717,0,21212]
[12,21853,24,21863,13,21872,14,21888,13,21926,0,12111]
[21,22059,22,22070,13,22081,14,22105,13,22151,0,22111]
[21,22322,11,22332,11,22351,12,22368,24,22381,0,21112]
[12,22567,24,22647,13,22657,23,22666,13,22675,0,12121]
[21,22879,11,22890,22,22901,14,22925,13,22958,0,21211]
[12,23165,24,23179,13,23191,23,23202,24,23211,0,12122]
[21,23421,11,23430,11,23438,12,23480,24,23489,0,21112]
[12,23602,24,23610,13,23619,23,23628,13,23642,0,12121]
[12,23749,13,23759,13,23766,23,23778,13,23793,0,11121]
[12,23993,13,23997,null,null,null,null,null,null,null,11]

{"sheet":"!N123910.091","index":6,"n_rows":92,"n_cols":48,"rows_kept":92,"cut":false,"hidden":false,"merged":[[4,39,4,42],[5,39,5,40],[4,44,4,47],[5,44,5,45],[4,24,4,27],[5,24,5,25],[4,29,4,32],[5,29,5,30],[4,34,4,37],[5,34,5,35],[1,1,1,2],[5,13,5,14],[42,13,42,14],[43,13,43,14],[4,19,4,22],[5,19,5,20]]}
["Report for:!N123910.091"]
["Date:","<date>"]
["Hen:","<hen>",null,null,null,"Correct Sequence",{"$f":"Start!J2","v":21121},null,null,null,null,null,null,null,null,"Total Sequences in Data",{"$f":"4994-COUNTBLANK(L7:L5000)","v":86},null,null,null,null,"Total Sequences in Block Data",{"$f":"COUNTA(L7:L20)","v":14},null,null,null,"Total Sequences in Block Data",{"$f":"COUNTA(L21:L35)","v":15},null,null,null,"Total Sequences in Block Data",{"$f":"COUNTA(L36:L49)","v":14},null,null,null,"Total Sequences in Block Data",{"$f":"COUNTA(L50:L63)","v":14},null,null,null,"Total Sequences in Block Data",{"$f":"COUNTA(L64:L78)","v":15},null,null,null,"Total Sequences in Block Data",{"$f":"COUNTA(L79:L92)","v":14}]
[null,null,null,null,null,null,null,null,null,null,null,null,null,null,null,"Total Sequences in Summary",{"$f":"SUM(O7:O38)","v":86},null,null,null,null,"Total Sequences in Block Summary",{"$f":"SUM(U7:U38)","v":14},null,null,null,"Total Sequences in Block Summary",{"$f":"SUM(Z7:Z38)","v":15},null,null,null,"Total Sequences in Block Summary",{"$f":"SUM(AE7:AE38)","v":14},null,null,null,"Total Sequences in Block Summary",{"$f":"SUM(AJ7:AJ38)","v":14},null,null,null,"Total Sequences in Block Summary",{"$f":"SUM(AO7:AO38)","v":15},null,null,null,"Total Sequences in Block Summary",{"$f":"SUM(AT7:AT38)","v":14}]
[null,null,null,null,null,null,null,null,null,null,null,null,null,null,null,null,null,null,null,"Block 1",null,null,null,null,"Block 2",null,null,null,null,"Block 3",null,null,null,null,"Block 4",null,null,null,null,"Block 5",null,null,null,null,"Block 6"]
["Sequence\nComponent\n1","Time\n1","Sequence\nComponent\n2","Time\n2","Sequence\nComponent\n3","Time\n3","Sequence\nComponent\n4","Time\n4","Sequence\nComponent\n5","Time\n5","Correct?\n0=No 1=Yes","Sequence",null,"Frequency",null,"Relative Frequency","Variability",null,null,"Frequency",null,"Relative Frequency","Variability",null,"Frequency",null,"Relative Frequency","Variability",null,"Frequency",null,"Relative Frequency","Variability",null,"Frequency",null,"Relative Frequency","Variability",null,"Frequency",null,"Relative Frequency","Variability",null,"Frequency",null,"Relative Frequency","Variability"]
[12,11,24,41,13,61,23,70,13,101,0,12121,null,11111,{"$f":"COUNTIF($L$7:$L$500,N7)","v":0},{"$f":"O7/$Q$4","v":0},{"$f":"IF(P7=0,0,(P7*((LOG(P7))/LOG(2))))","v":0},null,null,{"$f":"N7","v":11111},{"$f":"COUNTIF(L7:L20,T7)","v":0},{"$f":"U7/(W4-U25)","v":0},{"$f":"IF(V7=0,0,(V7*((LOG(V7))/LOG(2))))","v":0},null,{"$f":"N7","v":11111},{"$f":"COUNTIF(L21:L35,Y7)","v":0},{"$f":"Z7/(AB4-Z25)","v":0},{"$f":"IF(AA7=0,0,(AA7*((LOG(AA7))/LOG(2))))","v":0},null,{"$f":"N7","v":11111},{"$f":"COUNTIF(L36:L49,AD7)","v":0},{"$f":"AE7/(AG4-AE25)","v":0},{"$f":"IF(AF7=0,0,(AF7*((LOG(AF7))/LOG(2))))","v":0},null,{"$f":"N7","v":11111},{"$f":"COUNTIF(L50:L63,AI7)","v":0},{"$f":"AJ7/(AL4-AJ25)","v":0},{"$f":"IF(AK7=0,0,(AK7*((LOG(AK7))/LOG(2))))","v":0},null,{"$f":"N7","v":11111},{"$f":"COUNTIF(L64:L78,AN7)","v":0},{"$f":"AO7/(AQ4-AO25)","v":0},{"$f":"IF(AP7=0,0,(AP7*((LOG(AP7))/LOG(2))))","v":0},null,{"$f":"N7","v":11111},{"$f":"COUNTIF(L79:L92,AS7)","v":0},{"$f":"AT7/(AV4-AT25)","v":0},{"$f":"IF(AU7=0,0,(AU7*((LOG(AU7))/LOG(2))))","v":0}]
[12,202,24,212,24,241,14,266,24,277,0,12212,null,11112,{"$f":"COUNTIF($L$7:$L$500,N8)","v":2},{"$f":"O8/$Q$4","v":2.3255813953488372E-2},{"$f":"IF(P8=0,0,(P8*((LOG(P8))/LOG(2))))","v":-0.12619220359772321},null,null,{"$f":"N8","v":11112},{"$f":"COUNTIF(L7:L20,T8)","v":2},{"$f":"U8/(W4-U25)","v":0.14285714285714285},{"$f":"IF(V8=0,0,(V8*((LOG(V8))/LOG(2))))","v":-0.40105070315108626},null,{"$f":"N8","v":11112},{"$f":"COUNTIF(L21:L35,Y8)","v":0},{"$f":"Z8/(AB4-Z25)","v":0},{"$f":"IF(AA8=0,0,(AA8*((LOG(AA8))/LOG(2))))","v":0},null,{"$f":"N8","v":11112},{"$f":"COUNTIF(L36:L49,AD8)","v":0},{"$f":"AE8/(AG4-AE25)","v":0},{"$f":"IF(AF8=0,0,(AF8*((LOG(AF8))/LOG(2))))","v":0},null,{"$f":"N8","v":11112},{"$f":"COUNTIF(L50:L63,AI8)","v":0},{"$f":"AJ8/(AL4-AJ25)","v":0},{"$f":"IF(AK8=0,0,(AK8*((LOG(AK8))/LOG(2))))","v":0},null,{"$f":"N8","v":11112},{"$f":"COUNTIF(L64:L78,AN8)","v":0},{"$f":"AO8/(AQ4-AO25)","v":0},{"$f":"IF(AP8=0,0,(AP8*((LOG(AP8))/LOG(2))))","v":0},null,{"$f":"N8","v":11112},{"$f":"COUNTIF(L79:L92,AS8)","v":0},{"$f":"AT8/(AV4-AT25)","v":0},{"$f":"IF(AU8=0,0,(AU8*((LOG(AU8))/LOG(2))))","v":0}]
[12,390,24,399,24,408,14,419,24,429,0,12212,null,11121,{"$f":"COUNTIF($L$7:$L$500,N9)","v":3},{"$f":"O9/$Q$4","v":3.4883720930232558E-2},{"$f":"IF(P9=0,0,(P9*((LOG(P9))/LOG(2))))","v":-0.16888263676677703},null,null,{"$f":"N9","v":11121},{"$f":"COUNTIF(L7:L20,T9)","v":1},{"$f":"U9/(W4-U25)","v":7.1428571428571425E-2},{"$f":"IF(V9=0,0,(V9*((LOG(V9))/LOG(2))))","v":-0.27195392300411453},null,{"$f":"N9","v":11121},{"$f":"COUNTIF(L21:L35,Y9)","v":0},{"$f":"Z9/(AB4-Z25)","v":0},{"$f":"IF(AA9=0,0,(AA9*((LOG(AA9))/LOG(2))))","v":0},null,{"$f":"N9","v":11121},{"$f":"COUNTIF(L36:L49,AD9)","v":0},{"$f":"AE9/(AG4-AE25)","v":0},{"$f":"IF(AF9=0,0,(AF9*((LOG(AF9))/LOG(2))))","v":0},null,{"$f":"N9","v":11121},{"$f":"COUNTIF(L50:L63,AI9)","v":1},{"$f":"AJ9/(AL4-AJ25)","v":7.1428571428571425E-2},{"$f":"IF(AK9=0,0,(AK9*((LOG(AK9))/LOG(2))))","v":-0.27195392300411453},null,{"$f":"N9","v":11121},{"$f":"COUNTIF(L64:L78,AN9)","v":0},{"$f":"AO9/(AQ4-AO25)","v":0},{"$f":"IF(AP9=0,0,(AP9*((LOG(AP9))/LOG(2))))","v":0},null,{"$f":"N9","v":11121},{"$f":"COUNTIF(L79:L92,AS9)","v":1},{"$f":"AT9/(AV4-AT25)","v":7.1428571428571425E-2},{"$f":"IF(AU9=0,0,(AU9*((LOG(AU9))/LOG(2))))","v":-0.27195392300411453}]
[12,537,13,560,13,605,23,613,13,625,0,11121,null,11122,{"$f":"COUNTIF($L$7:$L$500,N10)","v":0},{"$f":"O10/$Q$4","v":0},{"$f":"IF(P10=0,0,(P10*((LOG(P10))/LOG(2))))","v":0},null,null,{"$f":"N10","v":11122},{"$f":"COUNTIF(L7:L20,T10)","v":0},{"$f":"U10/(W4-U25)","v":0},{"$f":"IF(V10=0,0,(V10*((LOG(V10))/LOG(2))))","v":0},null,{"$f":"N10","v":11122},{"$f":"COUNTIF(L21:L35,Y10)","v":0},{"$f":"Z10/(AB4-Z25)","v":0},{"$f":"IF(AA10=0,0,(AA10*((LOG(AA10))/LOG(2))))","v":0},null,{"$f":"N10","v":11122},{"$f":"COUNTIF(L36:L49,AD10)","v":0},{"$f":"AE10/(AG4-AE25)","v":0},{"$f":"IF(AF10=0,0,(AF10*((LOG(AF10))/LOG(2))))","v":0},null,{"$f":"N10","v":11122},{"$f":"COUNTIF(L50:L63,AI10)","v":0},{"$f":"AJ10/(AL4-AJ25)","v":0},{"$f":"IF(AK10=0,0,(AK10*((LOG(AK10))/LOG(2))))","v":0},null,{"$f":"N10","v":11122},{"$f":"COUNTIF(L64:L78,AN10)","v":0},{"$f":"AO10/(AQ4-AO25)","v":0},{"$f":"IF(AP10=0,0,(AP10*((LOG(AP10))/LOG(2))))","v":0},null,{"$f":"N10","v":11122},{"$f":"COUNTIF(L79:L92,AS10)","v":0},{"$f":"AT10/(AV4-AT25)","v":0},{"$f":"IF(AU10=0,0,(AU10*((LOG(AU10))/LOG(2))))","v":0}]
[12,725,24,737,13,747,14,787,24,797,0,12112,null,11211,{"$f":"COUNTIF($L$7:$L$500,N11)","v":1},{"$f":"O11/$Q$4","v":1.1627906976744186E-2},{"$f":"IF(P11=0,0,(P11*((LOG(P11))/LOG(2))))","v":-7.4724008775605782E-2},null,null,{"$f":"N11","v":11211},{"$f":"COUNTIF(L7:L20,T11)","v":0},{"$f":"U11/(W4-U25)","v":0},{"$f":"IF(V11=0,0,(V11*((LOG(V11))/LOG(2))))","v":0},null,{"$f":"N11","v":11211},{"$f":"COUNTIF(L21:L35,Y11)","v":0},{"$f":"Z11/(AB4-Z25)","v":0},{"$f":"IF(AA11=0,0,(AA11*((LOG(AA11))/LOG(2))))","v":0},null,{"$f":"N11","v":11211},{"$f":"COUNTIF(L36:L49,AD11)","v":0},{"$f":"AE11/(AG4-AE25)","v":0},{"$f":"IF(AF11=0,0,(AF11*((LOG(AF11))/LOG(2))))","v":0},null,{"$f":"N11","v":11211},{"$f":"COUNTIF(L50:L63,AI11)","v":0},{"$f":"AJ11/(AL4-AJ25)","v":0},{"$f":"IF(AK11=0,0,(AK11*((LOG(AK11))/LOG(2))))","v":0},null,{"$f":"N11","v":11211},{"$f":"COUNTIF(L64:L78,AN11)","v":0},{"$f":"AO11/(AQ4-AO25)","v":0},{"$f":"IF(AP11=0,0,(AP11*((LOG(AP11))/LOG(2))))","v":0},null,{"$f":"N11","v":11211},{"$f":"COUNTIF(L79:L92,AS11)","v":1},{"$f":"AT11/(AV4-AT25)","v":7.1428571428571425E-2},{"$f":"IF(AU11=0,0,(AU11*((LOG(AU11))/LOG(2))))","v":-0.27195392300411453}]
[12,898,13,907,24,917,14,929,24,939,0,11212,null,11212,{"$f":"COUNTIF($L$7:$L$500,N12)","v":7},{"$f":"O12/$Q$4","v":8.1395348837209308E-2},{"$f":"IF(P12=0,0,(P12*((LOG(P12))/LOG(2))))","v":-0.29456242823850531},null,null,{"$f":"N12","v":11212},{"$f":"COUNTIF(L7:L20,T12)","v":3},{"$f":"U12/(W4-U25)","v":0.21428571428571427},{"$f":"IF(V12=0,0,(V12*((LOG(V12))/LOG(2))))","v":-0.47622694742923877},null,{"$f":"N12","v":11212},{"$f":"COUNTIF(L21:L35,Y12)","v":1},{"$f":"Z12/(AB4-Z25)","v":6.6666666666666666E-2},{"$f":"IF(AA12=0,0,(AA12*((LOG(AA12))/LOG(2))))","v":-0.26045937304056793},null,{"$f":"N12","v":11212},{"$f":"COUNTIF(L36:L49,AD12)","v":0},{"$f":"AE12/(AG4-AE25)","v":0},{"$f":"IF(AF12=0,0,(AF12*((LOG(AF12))/LOG(2))))","v":0},null,{"$f":"N12","v":11212},{"$f":"COUNTIF(L50:L63,AI12)","v":0},{"$f":"AJ12/(AL4-AJ25)","v":0},{"$f":"IF(AK12=0,0,(AK12*((LOG(AK12))/LOG(2))))","v":0},null,{"$f":"N12","v":11212},{"$f":"COUNTIF(L64:L78,AN12)","v":2},{"$f":"AO12/(AQ4-AO25)","v":0.13333333333333333},{"$f":"IF(AP12=0,0,(AP12*((LOG(AP12))/LOG(2))))","v":-0.3875854127478025},null,{"$f":"N12","v":11212},{"$f":"COUNTIF(L79:L92,AS12)","v":1},{"$f":"AT12/(AV4-AT25)","v":7.1428571428571425E-2},{"$f":"IF(AU12=0,0,(AU12*((LOG(AU12))/LOG(2))))","v":-0.27195392300411453}]
[12,1040,13,1086,24,1128,14,1140,24,1191,0,11212,null,11221,{"$f":"COUNTIF($L$7:$L$500,N13)","v":2},{"$f":"O13/$Q$4","v":2.3255813953488372E-2},{"$f":"IF(P13=0,0,(P13*((LOG(P13))/LOG(2))))","v":-0.12619220359772321},null,null,{"$f":"N13","v":11221},{"$f":"COUNTIF(L7:L20,T13)","v":0},{"$f":"U13/(W4-U25)","v":0},{"$f":"IF(V13=0,0,(V13*((LOG(V13))/LOG(2))))","v":0},null,{"$f":"N13","v":11221},{"$f":"COUNTIF(L21:L35,Y13)","v":1},{"$f":"Z13/(AB4-Z25)","v":6.6666666666666666E-2},{"$f":"IF(AA13=0,0,(AA13*((LOG(AA13))/LOG(2))))","v":-0.26045937304056793},null,{"$f":"N13","v":11221},{"$f":"COUNTIF(L36:L49,AD13)","v":0},{"$f":"AE13/(AG4-AE25)","v":0},{"$f":"IF(AF13=0,0,(AF13*((LOG(AF13))/LOG(2))))","v":0},null,{"$f":"N13","v":11221},{"$f":"COUNTIF(L50:L63,AI13)","v":0},{"$f":"AJ13/(AL4-AJ25)","v":0},{"$f":"IF(AK13=0,0,(AK13*((LOG(AK13))/LOG(2))))","v":0},null,{"$f":"N13","v":11221},{"$f":"COUNTIF(L64:L78,AN13)","v":0},{"$f":"AO13/(AQ4-AO25)","v":0},{"$f":"IF(AP13=0,0,(AP13*((LOG(AP13))/LOG(2))))","v":0},null,{"$f":"N13","v":11221},{"$f":"COUNTIF(L79:L92,AS13)","v":1},{"$f":"AT13/(AV4-AT25)","v":7.1428571428571425E-2},{"$f":"IF(AU13=0,0,(AU13*((LOG(AU13))/LOG(2))))","v":-0.27195392300411453}]
[12,1310,13,1328,13,1350,14,1365,24,1377,0,11112,null,11222,{"$f":"COUNTIF($L$7:$L$500,N14)","v":1},{"$f":"O14/$Q$4","v":1.1627906976744186E-2},{"$f":"IF(P14=0,0,(P14*((LOG(P14))/LOG(2))))","v":-7.4724008775605782E-2},null,null,{"$f":"N14","v":11222},{"$f":"COUNTIF(L7:L20,T14)","v":0},{"$f":"U14/(W4-U25)","v":0},{"$f":"IF(V14=0,0,(V14*((LOG(V14))/LOG(2))))","v":0},null,{"$f":"N14","v":11222},{"$f":"COUNTIF(L21:L35,Y14)","v":0},{"$f":"Z14/(AB4-Z25)","v":0},{"$f":"IF(AA14=0,0,(AA14*((LOG(AA14))/LOG(2))))","v":0},null,{"$f":"N14","v":11222},{"$f":"COUNTIF(L36:L49,AD14)","v":0},{"$f":"AE14/(AG4-AE25)","v":0},{"$f":"IF(AF14=0,0,(AF14*((LOG(AF14))/LOG(2))))","v":0},null,{"$f":"N14","v":11222},{"$f":"COUNTIF(L50:L63,AI14)","v":0},{"$f":"AJ14/(AL4-AJ25)","v":0},{"$f":"IF(AK14=0,0,(AK14*((LOG(AK14))/LOG(2))))","v":0},null,{"$f":"N14","v":11222},{"$f":"COUNTIF(L64:L78,AN14)","v":0},{"$f":"AO14/(AQ4-AO25)","v":0},{"$f":"IF(AP14=0,0,(AP14*((LOG(AP14))/LOG(2))))","v":0},null,{"$f":"N14","v":11222},{"$f":"COUNTIF(L79:L92,AS14)","v":1},{"$f":"AT14/(AV4-AT25)","v":7.1428571428571425E-2},{"$f":"IF(AU14=0,0,(AU14*((LOG(AU14))/LOG(2))))","v":-0.27195392300411453}]
[12,1480,13,1498,24,1506,14,1517,24,1550,0,11212,null,12111,{"$f":"COUNTIF($L$7:$L$500,N15)","v":3},{"$f":"O15/$Q$4","v":3.4883720930232558E-2},{"$f":"IF(P15=0,0,(P15*((LOG(P15))/LOG(2))))","v":-0.16888263676677703},null,null,{"$f":"N15","v":12111},{"$f":"COUNTIF(L7:L20,T15)","v":1},{"$f":"U15/(W4-U25)","v":7.1428571428571425E-2},{"$f":"IF(V15=0,0,(V15*((LOG(V15))/LOG(2))))","v":-0.27195392300411453},null,{"$f":"N15","v":12111},{"$f":"COUNTIF(L21:L35,Y15)","v":0},{"$f":"Z15/(AB4-Z25)","v":0},{"$f":"IF(AA15=0,0,(AA15*((LOG(AA15))/LOG(2))))","v":0},null,{"$f":"N15","v":12111},{"$f":"COUNTIF(L36:L49,AD15)","v":0},{"$f":"AE15/(AG4-AE25)","v":0},{"$f":"IF(AF15=0,0,(AF15*((LOG(AF15))/LOG(2))))","v":0},null,{"$f":"N15","v":12111},{"$f":"COUNTIF(L50:L63,AI15)","v":1},{"$f":"AJ15/(AL4-AJ25)","v":7.1428571428571425E-2},{"$f":"IF(AK15=0,0,(AK15*((LOG(AK15))/LOG(2))))","v":-0.27195392300411453},null,{"$f":"N15","v":12111},{"$f":"COUNTIF(L64:L78,AN15)","v":1},{"$f":"AO15/(AQ4-AO25)","v":6.6666666666666666E-2},{"$f":"IF(AP15=0,0,(AP15*((LOG(AP15))/LOG(2))))","v":-0.26045937304056793},null,{"$f":"N15","v":12111},{"$f":"COUNTIF(L79:L92,AS15)","v":0},{"$f":"AT15/(AV4-AT25)","v":0},{"$f":"IF(AU15=0,0,(AU15*((LOG(AU15))/LOG(2))))","v":0}]
[12,1698,24,1709,24,1726,14,1737,24,1748,0,12212,null,12112,{"$f":"COUNTIF($L$7:$L$500,N16)","v":6},{"$f":"O16/$Q$4","v":6.9767441860465115E-2},{"$f":"IF(P16=0,0,(P16*((LOG(P16))/LOG(2))))","v":-0.26799783167308894},null,null,{"$f":"N16","v":12112},{"$f":"COUNTIF(L7:L20,T16)","v":1},{"$f":"U16/(W4-U25)","v":7.1428571428571425E-2},{"$f":"IF(V16=0,0,(V16*((LOG(V16))/LOG(2))))","v":-0.27195392300411453},null,{"$f":"N16","v":12112},{"$f":"COUNTIF(L21:L35,Y16)","v":0},{"$f":"Z16/(AB4-Z25)","v":0},{"$f":"IF(AA16=0,0,(AA16*((LOG(AA16))/LOG(2))))","v":0},null,{"$f":"N16","v":12112},{"$f":"COUNTIF(L36:L49,AD16)","v":0},{"$f":"AE16/(AG4-AE25)","v":0},{"$f":"IF(AF16=0,0,(AF16*((LOG(AF16))/LOG(2))))","v":0},null,{"$f":"N16","v":12112},{"$f":"COUNTIF(L50:L63,AI16)","v":2},{"$f":"AJ16/(AL4-AJ25)","v":0.14285714285714285},{"$f":"IF(AK16=0,0,(AK16*((LOG(AK16))/LOG(2))))","v":-0.40105070315108626},null,{"$f":"N16","v":12112},{"$f":"COUNTIF(L64:L78,AN16)","v":1},{"$f":"AO16/(AQ4-AO25)","v":6.6666666666666666E-2},{"$f":"IF(AP16=0,0,(AP16*((LOG(AP16))/LOG(2))))","v":-0.26045937304056793},null,{"$f":"N16","v":12112},{"$f":"COUNTIF(L79:L92,AS16)","v":2},{"$f":"AT16/(AV4-AT25)","v":0.14285714285714285},{"$f":"IF(AU16=0,0,(AU16*((LOG(AU16))/LOG(2))))","v":-0.40105070315108626}]
[12,1868,24,1878,13,1886,23,1896,13,1904,0,12121,null,12121,{"$f":"COUNTIF($L$7:$L$500,N17)","v":22},{"$f":"O17/$Q$4","v":0.2558139534883721},{"$f":"IF(P17=0,0,(P17*((LOG(P17))/LOG(2))))","v":-0.50314336038867002},null,null,{"$f":"N17","v":12121},{"$f":"COUNTIF(L7:L20,T17)","v":3},{"$f":"U17/(W4-U25)","v":0.21428571428571427},{"$f":"IF(V17=0,0,(V17*((LOG(V17))/LOG(2))))","v":-0.47622694742923877},null,{"$f":"N17","v":12121},{"$f":"COUNTIF(L21:L35,Y17)","v":6},{"$f":"Z17/(AB4-Z25)","v":0.4},{"$f":"IF(AA17=0,0,(AA17*((LOG(AA17))/LOG(2))))","v":-0.52877123795494496},null,{"$f":"N17","v":12121},{"$f":"COUNTIF(L36:L49,AD17)","v":4},{"$f":"AE17/(AG4-AE25)","v":0.2857142857142857},{"$f":"IF(AF17=0,0,(AF17*((LOG(AF17))/LOG(2))))","v":-0.51638712058788683},null,{"$f":"N17","v":12121},{"$f":"COUNTIF(L50:L63,AI17)","v":2},{"$f":"AJ17/(AL4-AJ25)","v":0.14285714285714285},{"$f":"IF(AK17=0,0,(AK17*((LOG(AK17))/LOG(2))))","v":-0.40105070315108626},null,{"$f":"N17","v":12121},{"$f":"COUNTIF(L64:L78,AN17)","v":5},{"$f":"AO17/(AQ4-AO25)","v":0.33333333333333331},{"$f":"IF(AP17=0,0,(AP17*((LOG(AP17))/LOG(2))))","v":-0.52832083357371862},null,{"$f":"N17","v":12121},{"$f":"COUNTIF(L79:L92,AS17)","v":2},{"$f":"AT17/(AV4-AT25)","v":0.14285714285714285},{"$f":"IF(AU17=0,0,(AU17*((LOG(AU17))/LOG(2))))","v":-0.40105070315108626}]
[12,2025,13,2058,13,2075,14,2105,24,2117,0,11112,null,12122,{"$f":"COUNTIF($L$7:$L$500,N18)","v":1},{"$f":"O18/$Q$4","v":1.1627906976744186E-2},{"$f":"IF(P18=0,0,(P18*((LOG(P18))/LOG(2))))","v":-7.4724008775605782E-2},null,null,{"$f":"N18","v":12122},{"$f":"COUNTIF(L7:L20,T18)","v":0},{"$f":"U18/(W4-U25)","v":0},{"$f":"IF(V18=0,0,(V18*((LOG(V18))/LOG(2))))","v":0},null,{"$f":"N18","v":12122},{"$f":"COUNTIF(L21:L35,Y18)","v":0},{"$f":"Z18/(AB4-Z25)","v":0},{"$f":"IF(AA18=0,0,(AA18*((LOG(AA18))/LOG(2))))","v":0},null,{"$f":"N18","v":12122},{"$f":"COUNTIF(L36:L49,AD18)","v":0},{"$f":"AE18/(AG4-AE25)","v":0},{"$f":"IF(AF18=0,0,(AF18*((LOG(AF18))/LOG(2))))","v":0},null,{"$f":"N18","v":12122},{"$f":"COUNTIF(L50:L63,AI18)","v":1},{"$f":"AJ18/(AL4-AJ25)","v":7.1428571428571425E-2},{"$f":"IF(AK18=0,0,(AK18*((LOG(AK18))/LOG(2))))","v":-0.27195392300411453},null,{"$f":"N18","v":12122},{"$f":"COUNTIF(L64:L78,AN18)","v":0},{"$f":"AO18/(AQ4-AO25)","v":0},{"$f":"IF(AP18=0,0,(AP18*((LOG(AP18))/LOG(2))))","v":0},null,{"$f":"N18","v":12122},{"$f":"COUNTIF(L79:L92,AS18)","v":0},{"$f":"AT18/(AV4-AT25)","v":0},{"$f":"IF(AU18=0,0,(AU18*((LOG(AU18))/LOG(2))))","v":0}]
[12,2245,24,2254,13,2268,23,2278,13,2299,0,12121,null,12211,{"$f":"COUNTIF($L$7:$L$500,N19)","v":0},{"$f":"O19/$Q$4","v":0},{"$f":"IF(P19=0,0,(P19*((LOG(P19))/LOG(2))))","v":0},null,null,{"$f":"N19","v":12211},{"$f":"COUNTIF(L7:L20,T19)","v":0},{"$f":"U19/(W4-U25)","v":0},{"$f":"IF(V19=0,0,(V19*((LOG(V19))/LOG(2))))","v":0},null,{"$f":"N19","v":12211},{"$f":"COUNTIF(L21:L35,Y19)","v":0},{"$f":"Z19/(AB4-Z25)","v":0},{"$f":"IF(AA19=0,0,(AA19*((LOG(AA19))/LOG(2))))","v":0},null,{"$f":"N19","v":12211},{"$f":"COUNTIF(L36:L49,AD19)","v":0},{"$f":"AE19/(AG4-AE25)","v":0},{"$f":"IF(AF19=0,0,(AF19*((LOG(AF19))/LOG(2))))","v":0},null,{"$f":"N19","v":12211},{"$f":"COUNTIF(L50:L63,AI19)","v":0},{"$f":"AJ19/(AL4-AJ25)","v":0},{"$f":"IF(AK19=0,0,(AK19*((LOG(AK19))/LOG(2))))","v":0},null,{"$f":"N19","v":12211},{"$f":"COUNTIF(L64:L78,AN19)","v":0},{"$f":"AO19/(AQ4-AO25)","v":0},{"$f":"IF(AP19=0,0,(AP19*((LOG(AP19))/LOG(2))))","v":0},null,{"$f":"N19","v":12211},{"$f":"COUNTIF(L79:L92,AS19)","v":0},{"$f":"AT19/(AV4-AT25)","v":0},{"$f":"IF(AU19=0,0,(AU19*((LOG(AU19))/LOG(2))))","v":0}]
[12,2423,24,2435,13,2444,14,2465,13,2495,0,12111,null,12212,{"$f":"COUNTIF($L$7:$L$500,N20)","v":4},{"$f":"O20/$Q$4","v":4.6511627906976744E-2},{"$f":"IF(P20=0,0,(P20*((LOG(P20))/LOG(2))))","v":-0.20587277928846967},null,null,{"$f":"N20","v":12212},{"$f":"COUNTIF(L7:L20,T20)","v":3},{"$f":"U20/(W4-U25)","v":0.21428571428571427},{"$f":"IF(V20=0,0,(V20*((LOG(V20))/LOG(2))))","v":-0.47622694742923877},null,{"$f":"N20","v":12212},{"$f":"COUNTIF(L21:L35,Y20)","v":0},{"$f":"Z20/(AB4-Z25)","v":0},{"$f":"IF(AA20=0,0,(AA20*((LOG(AA20))/LOG(2))))","v":0},null,{"$f":"N20","v":12212},{"$f":"COUNTIF(L36:L49,AD20)","v":0},{"$f":"AE20/(AG4-AE25)","v":0},{"$f":"IF(AF20=0,0,(AF20*((LOG(AF20))/LOG(2))))","v":0},null,{"$f":"N20","v":12212},{"$f":"COUNTIF(L50:L63,AI20)","v":0},{"$f":"AJ20/(AL4-AJ25)","v":0},{"$f":"IF(AK20=0,0,(AK20*((LOG(AK20))/LOG(2))))","v":0},null,{"$f":"N20","v":12212},{"$f":"COUNTIF(L64:L78,AN20)","v":0},{"$f":"AO20/(AQ4-AO25)","v":0},{"$f":"IF(AP20=0,0,(AP20*((LOG(AP20))/LOG(2))))","v":0},null,{"$f":"N20","v":12212},{"$f":"COUNTIF(L79:L92,AS20)","v":1},{"$f":"AT20/(AV4-AT25)","v":7.1428571428571425E-2},{"$f":"IF(AU20=0,0,(AU20*((LOG(AU20))/LOG(2))))","v":-0.27195392300411453}]
[21,2619,11,2627,22,2651,14,2662,13,2682,0,21211,null,12221,{"$f":"COUNTIF($L$7:$L$500,N21)","v":0},{"$f":"O21/$Q$4","v":0},{"$f":"IF(P21=0,0,(P21*((LOG(P21))/LOG(2))))","v":0},null,null,{"$f":"N21","v":12221},{"$f":"COUNTIF(L7:L20,T21)","v":0},{"$f":"U21/(W4-U25)","v":0},{"$f":"IF(V21=0,0,(V21*((LOG(V21))/LOG(2))))","v":0},null,{"$f":"N21","v":12221},{"$f":"COUNTIF(L21:L35,Y21)","v":0},{"$f":"Z21/(AB4-Z25)","v":0},{"$f":"IF(AA21=0,0,(AA21*((LOG(AA21))/LOG(2))))","v":0},null,{"$f":"N21","v":12221},{"$f":"COUNTIF(L36:L49,AD21)","v":0},{"$f":"AE21/(AG4-AE25)","v":0},{"$f":"IF(AF21=0,0,(AF21*((LOG(AF21))/LOG(2))))","v":0},null,{"$f":"N21","v":12221},{"$f":"COUNTIF(L50:L63,AI21)","v":0},{"$f":"AJ21/(AL4-AJ25)","v":0},{"$f":"IF(AK21=0,0,(AK21*((LOG(AK21))/LOG(2))))","v":0},null,{"$f":"N21","v":12221},{"$f":"COUNTIF(L64:L78,AN21)","v":0},{"$f":"AO21/(AQ4-AO25)","v":0},{"$f":"IF(AP21=0,0,(AP21*((LOG(AP21))/LOG(2))))","v":0},null,{"$f":"N21","v":12221},{"$f":"COUNTIF(L79:L92,AS21)","v":0},{"$f":"AT21/(AV4-AT25)","v":0},{"$f":"IF(AU21=0,0,(AU21*((LOG(AU21))/LOG(2))))","v":0}]
[12,2824,24,2833,13,2844,23,2854,13,2879,0,12121,null,12222,{"$f":"COUNTIF($L$7:$L$500,N22)","v":0},{"$f":"O22/$Q$4","v":0},{"$f":"IF(P22=0,0,(P22*((LOG(P22))/LOG(2))))","v":0},null,null,{"$f":"N22","v":12222},{"$f":"COUNTIF(L7:L20,T22)","v":0},{"$f":"U22/(W4-U25)","v":0},{"$f":"IF(V22=0,0,(V22*((LOG(V22))/LOG(2))))","v":0},null,{"$f":"N22","v":12222},{"$f":"COUNTIF(L21:L35,Y22)","v":0},{"$f":"Z22/(AB4-Z25)","v":0},{"$f":"IF(AA22=0,0,(AA22*((LOG(AA22))/LOG(2))))","v":0},null,{"$f":"N22","v":12222},{"$f":"COUNTIF(L36:L49,AD22)","v":0},{"$f":"AE22/(AG4-AE25)","v":0},{"$f":"IF(AF22=0,0,(AF22*((LOG(AF22))/LOG(2))))","v":0},null,{"$f":"N22","v":12222},{"$f":"COUNTIF(L50:L63,AI22)","v":0},{"$f":"AJ22/(AL4-AJ25)","v":0},{"$f":"IF(AK22=0,0,(AK22*((LOG(AK22))/LOG(2))))","v":0},null,{"$f":"N22","v":12222},{"$f":"COUNTIF(L64:L78,AN22)","v":0},{"$f":"AO22/(AQ4-AO25)","v":0},{"$f":"IF(AP22=0,0,(AP22*((LOG(AP22))/LOG(2))))","v":0},null,{"$f":"N22","v":12222},{"$f":"COUNTIF(L79:L92,AS22)","v":0},{"$f":"AT22/(AV4-AT25)","v":0},{"$f":"IF(AU22=0,0,(AU22*((LOG(AU22))/LOG(2))))","v":0}]
[12,3034,24,3043,13,3052,23,3065,13,3078,0,12121,null,21111,{"$f":"COUNTIF($L$7:$L$500,N23)","v":0},{"$f":"O23/$Q$4","v":0},{"$f":"IF(P23=0,0,(P23*((LOG(P23))/LOG(2))))","v":0},null,null,{"$f":"N23","v":21111},{"$f":"COUNTIF(L7:L20,T23)","v":0},{"$f":"U23/(W4-U25)","v":0},{"$f":"IF(V23=0,0,(V23*((LOG(V23))/LOG(2))))","v":0},null,{"$f":"N23","v":21111},{"$f":"COUNTIF(L21:L35,Y23)","v":0},{"$f":"Z23/(AB4-Z25)","v":0},{"$f":"IF(AA23=0,0,(AA23*((LOG(AA23))/LOG(2))))","v":0},null,{"$f":"N23","v":21111},{"$f":"COUNTIF(L36:L49,AD23)","v":0},{"$f":"AE23/(AG4-AE25)","v":0},{"$f":"IF(AF23=0,0,(AF23*((LOG(AF23))/LOG(2))))","v":0},null,{"$f":"N23","v":21111},{"$f":"COUNTIF(L50:L63,AI23)","v":0},{"$f":"AJ23/(AL4-AJ25)","v":0},{"$f":"IF(AK23=0,0,(AK23*((LOG(AK23))/LOG(2))))","v":0},null,{"$f":"N23","v":21111},{"$f":"COUNTIF(L64:L78,AN23)","v":0},{"$f":"AO23/(AQ4-AO25)","v":0},{"$f":"IF(AP23=0,0,(AP23*((LOG(AP23))/LOG(2))))","v":0},null,{"$f":"N23","v":21111},{"$f":"COUNTIF(L79:L92,AS23)","v":0},{"$f":"AT23/(AV4-AT25)","v":0},{"$f":"IF(AU23=0,0,(AU23*((LOG(AU23))/LOG(2))))","v":0}]
[21,3186,11,3194,22,3203,23,3224,13,3236,0,21221,null,21112,{"$f":"COUNTIF($L$7:$L$500,N24)","v":0},{"$f":"O24/$Q$4","v":0},{"$f":"IF(P24=0,0,(P24*((LOG(P24))/LOG(2))))","v":0},null,null,{"$f":"N24","v":21112},{"$f":"COUNTIF(L7:L20,T24)","v":0},{"$f":"U24/(W4-U25)","v":0},{"$f":"IF(V24=0,0,(V24*((LOG(V24))/LOG(2))))","v":0},null,{"$f":"N24","v":21112},{"$f":"COUNTIF(L21:L35,Y24)","v":0},{"$f":"Z24/(AB4-Z25)","v":0},{"$f":"IF(AA24=0,0,(AA24*((LOG(AA24))/LOG(2))))","v":0},null,{"$f":"N24","v":21112},{"$f":"COUNTIF(L36:L49,AD24)","v":0},{"$f":"AE24/(AG4-AE25)","v":0},{"$f":"IF(AF24=0,0,(AF24*((LOG(AF24))/LOG(2))))","v":0},null,{"$f":"N24","v":21112},{"$f":"COUNTIF(L50:L63,AI24)","v":0},{"$f":"AJ24/(AL4-AJ25)","v":0},{"$f":"IF(AK24=0,0,(AK24*((LOG(AK24))/LOG(2))))","v":0},null,{"$f":"N24","v":21112},{"$f":"COUNTIF(L64:L78,AN24)","v":0},{"$f":"AO24/(AQ4-AO25)","v":0},{"$f":"IF(AP24=0,0,(AP24*((LOG(AP24))/LOG(2))))","v":0},null,{"$f":"N24","v":21112},{"$f":"COUNTIF(L79:L92,AS24)","v":0},{"$f":"AT24/(AV4-AT25)","v":0},{"$f":"IF(AU24=0,0,(AU24*((LOG(AU24))/LOG(2))))","v":0}]
[21,3345,11,3359,22,3369,14,3384,24,3396,0,21212,null,21121,{"$f":"COUNTIF($L$7:$L$500,N25)","v":0},{"$f":"O25/$Q$4","v":0},{"$f":"IF(P25=0,0,(P25*((LOG(P25))/LOG(2))))","v":0},null,null,{"$f":"N25","v":21121},{"$f":"COUNTIF(L7:L20,T25)","v":0},null,null,null,{"$f":"N25","v":21121},{"$f":"COUNTIF(L21:L35,Y25)","v":0},null,null,null,{"$f":"N25","v":21121},{"$f":"COUNTIF(L36:L49,AD25)","v":0},null,null,null,{"$f":"N25","v":21121},{"$f":"COUNTIF(L50:L63,AI25)","v":0},null,null,null,{"$f":"N25","v":21121},{"$f":"COUNTIF(L64:L78,AN25)","v":0},null,null,null,{"$f":"N25","v":21121},{"$f":"COUNTIF(L79:L92,AS25)","v":0}]
[21,3551,11,3563,22,3571,14,3584,24,3593,0,21212,null,21122,{"$f":"COUNTIF($L$7:$L$500,N26)","v":2},{"$f":"O26/$Q$4","v":2.3255813953488372E-2},{"$f":"IF(P26=0,0,(P26*((LOG(P26))/LOG(2))))","v":-0.12619220359772321},null,null,{"$f":"N26","v":21122},{"$f":"COUNTIF(L7:L20,T26)","v":0},{"$f":"U26/(W4-U25)","v":0},{"$f":"IF(V26=0,0,(V26*((LOG(V26))/LOG(2))))","v":0},null,{"$f":"N26","v":21122},{"$f":"COUNTIF(L21:L35,Y26)","v":0},{"$f":"Z26/(AB4-Z25)","v":0},{"$f":"IF(AA26=0,0,(AA26*((LOG(AA26))/LOG(2))))","v":0},null,{"$f":"N26","v":21122},{"$f":"COUNTIF(L36:L49,AD26)","v":0},{"$f":"AE26/(AG4-AE25)","v":0},{"$f":"IF(AF26=0,0,(AF26*((LOG(AF26))/LOG(2))))","v":0},null,{"$f":"N26","v":21122},{"$f":"COUNTIF(L50:L63,AI26)","v":1},{"$f":"AJ26/(AL4-AJ25)","v":7.1428571428571425E-2},{"$f":"IF(AK26=0,0,(AK26*((LOG(AK26))/LOG(2))))","v":-0.27195392300411453},null,{"$f":"N26","v":21122},{"$f":"COUNTIF(L64:L78,AN26)","v":1},{"$f":"AO26/(AQ4-AO25)","v":6.6666666666666666E-2},{"$f":"IF(AP26=0,0,(AP26*((LOG(AP26))/LOG(2))))","v":-0.26045937304056793},null,{"$f":"N26","v":21122},{"$f":"COUNTIF(L79:L92,AS26)","v":0},{"$f":"AT26/(AV4-AT25)","v":0},{"$f":"IF(AU26=0,0,(AU26*((LOG(AU26))/LOG(2))))","v":0}]
[12,3712,24,3739,13,3747,23,3756,13,3772,0,12121,null,21211,{"$f":"COUNTIF($L$7:$L$500,N27)","v":6},{"$f":"O27/$Q$4","v":6.9767441860465115E-2},{"$f":"IF(P27=0,0,(P27*((LOG(P27))/LOG(2))))","v":-0.26799783167308894},null,null,{"$f":"N27","v":21211},{"$f":"COUNTIF(L7:L20,T27)","v":0},{"$f":"U27/(W4-U25)","v":0},{"$f":"IF(V27=0,0,(V27*((LOG(V27))/LOG(2))))","v":0},null,{"$f":"N27","v":21211},{"$f":"COUNTIF(L21:L35,Y27)","v":2},{"$f":"Z27/(AB4-Z25)","v":0.13333333333333333},{"$f":"IF(AA27=0,0,(AA27*((LOG(AA27))/LOG(2))))","v":-0.3875854127478025},null,{"$f":"N27","v":21211},{"$f":"COUNTIF(L36:L49,AD27)","v":3},{"$f":"AE27/(AG4-AE25)","v":0.21428571428571427},{"$f":"IF(AF27=0,0,(AF27*((LOG(AF27))/LOG(2))))","v":-0.47622694742923877},null,{"$f":"N27","v":21211},{"$f":"COUNTIF(L50:L63,AI27)","v":0},{"$f":"AJ27/(AL4-AJ25)","v":0},{"$f":"IF(AK27=0,0,(AK27*((LOG(AK27))/LOG(2))))","v":0},null,{"$f":"N27","v":21211},{"$f":"COUNTIF(L64:L78,AN27)","v":0},{"$f":"AO27/(AQ4-AO25)","v":0},{"$f":"IF(AP27=0,0,(AP27*((LOG(AP27))/LOG(2))))","v":0},null,{"$f":"N27","v":21211},{"$f":"COUNTIF(L79:L92,AS27)","v":1},{"$f":"AT27/(AV4-AT25)","v":7.1428571428571425E-2},{"$f":"IF(AU27=0,0,(AU27*((LOG(AU27))/LOG(2))))","v":-0.27195392300411453}]
[12,3883,24,3891,13,3901,23,3909,13,3920,0,12121,null,21212,{"$f":"COUNTIF($L$7:$L$500,N28)","v":17},{"$f":"O28/$Q$4","v":0.19767441860465115},{"$f":"IF(P28=0,0,(P28*((LOG(P28))/LOG(2))))","v":-0.462321308473022},null,null,{"$f":"N28","v":21212},{"$f":"COUNTIF(L7:L20,T28)","v":0},{"$f":"U28/(W4-U25)","v":0},{"$f":"IF(V28=0,0,(V28*((LOG(V28))/LOG(2))))","v":0},null,{"$f":"N28","v":21212},{"$f":"COUNTIF(L21:L35,Y28)","v":2},{"$f":"Z28/(AB4-Z25)","v":0.13333333333333333},{"$f":"IF(AA28=0,0,(AA28*((LOG(AA28))/LOG(2))))","v":-0.3875854127478025},null,{"$f":"N28","v":21212},{"$f":"COUNTIF(L36:L49,AD28)","v":6},{"$f":"AE28/(AG4-AE25)","v":0.42857142857142855},{"$f":"IF(AF28=0,0,(AF28*((LOG(AF28))/LOG(2))))","v":-0.52388246628704915},null,{"$f":"N28","v":21212},{"$f":"COUNTIF(L50:L63,AI28)","v":3},{"$f":"AJ28/(AL4-AJ25)","v":0.21428571428571427},{"$f":"IF(AK28=0,0,(AK28*((LOG(AK28))/LOG(2))))","v":-0.47622694742923877},null,{"$f":"N28","v":21212},{"$f":"COUNTIF(L64:L78,AN28)","v":3},{"$f":"AO28/(AQ4-AO25)","v":0.2},{"$f":"IF(AP28=0,0,(AP28*((LOG(AP28))/LOG(2))))","v":-0.46438561897747244},null,{"$f":"N28","v":21212},{"$f":"COUNTIF(L79:L92,AS28)","v":3},{"$f":"AT28/(AV4-AT25)","v":0.21428571428571427},{"$f":"IF(AU28=0,0,(AU28*((LOG(AU28))/LOG(2))))","v":-0.47622694742923877}]
[21,4039,11,4047,22,4056,14,4068,13,4088,0,21211,null,21221,{"$f":"COUNTIF($L$7:$L$500,N29)","v":5},{"$f":"O29/$Q$4","v":5.8139534883720929E-2},{"$f":"IF(P29=0,0,(P29*((LOG(P29))/LOG(2))))","v":-0.23862422440783343},null,null,{"$f":"N29","v":21221},{"$f":"COUNTIF(L7:L20,T29)","v":0},{"$f":"U29/(W4-U25)","v":0},{"$f":"IF(V29=0,0,(V29*((LOG(V29))/LOG(2))))","v":0},null,{"$f":"N29","v":21221},{"$f":"COUNTIF(L21:L35,Y29)","v":2},{"$f":"Z29/(AB4-Z25)","v":0.13333333333333333},{"$f":"IF(AA29=0,0,(AA29*((LOG(AA29))/LOG(2))))","v":-0.3875854127478025},null,{"$f":"N29","v":21221},{"$f":"COUNTIF(L36:L49,AD29)","v":0},{"$f":"AE29/(AG4-AE25)","v":0},{"$f":"IF(AF29=0,0,(AF29*((LOG(AF29))/LOG(2))))","v":0},null,{"$f":"N29","v":21221},{"$f":"COUNTIF(L50:L63,AI29)","v":1},{"$f":"AJ29/(AL4-AJ25)","v":7.1428571428571425E-2},{"$f":"IF(AK29=0,0,(AK29*((LOG(AK29))/LOG(2))))","v":-0.27195392300411453},null,{"$f":"N29","v":21221},{"$f":"COUNTIF(L64:L78,AN29)","v":2},{"$f":"AO29/(AQ4-AO25)","v":0.13333333333333333},{"$f":"IF(AP29=0,0,(AP29*((LOG(AP29))/LOG(2))))","v":-0.3875854127478025},null,{"$f":"N29","v":21221},{"$f":"COUNTIF(L79:L92,AS29)","v":0},{"$f":"AT29/(AV4-AT25)","v":0},{"$f":"IF(AU29=0,0,(AU29*((LOG(AU29))/LOG(2))))","v":0}]
[21,4208,11,4216,22,4225,23,4242,13,4254,0,21221,null,21222,{"$f":"COUNTIF($L$7:$L$500,N30)","v":1},{"$f":"O30/$Q$4","v":1.1627906976744186E-2},{"$f":"IF(P30=0,0,(P30*((LOG(P30))/LOG(2))))","v":-7.4724008775605782E-2},null,null,{"$f":"N30","v":21222},{"$f":"COUNTIF(L7:L20,T30)","v":0},{"$f":"U30/(W4-U25)","v":0},{"$f":"IF(V30=0,0,(V30*((LOG(V30))/LOG(2))))","v":0},null,{"$f":"N30","v":21222},{"$f":"COUNTIF(L21:L35,Y30)","v":1},{"$f":"Z30/(AB4-Z25)","v":6.6666666666666666E-2},{"$f":"IF(AA30=0,0,(AA30*((LOG(AA30))/LOG(2))))","v":-0.26045937304056793},null,{"$f":"N30","v":21222},{"$f":"COUNTIF(L36:L49,AD30)","v":0},{"$f":"AE30/(AG4-AE25)","v":0},{"$f":"IF(AF30=0,0,(AF30*((LOG(AF30))/LOG(2))))","v":0},null,{"$f":"N30","v":21222},{"$f":"COUNTIF(L50:L63,AI30)","v":0},{"$f":"AJ30/(AL4-AJ25)","v":0},{"$f":"IF(AK30=0,0,(AK30*((LOG(AK30))/LOG(2))))","v":0},null,{"$f":"N30","v":21222},{"$f":"COUNTIF(L64:L78,AN30)","v":0},{"$f":"AO30/(AQ4-AO25)","v":0},{"$f":"IF(AP30=0,0,(AP30*((LOG(AP30))/LOG(2))))","v":0},null,{"$f":"N30","v":21222},{"$f":"COUNTIF(L79:L92,AS30)","v":0},{"$f":"AT30/(AV4-AT25)","v":0},{"$f":"IF(AU30=0,0,(AU30*((LOG(AU30))/LOG(2))))","v":0}]
[12,4378,13,4387,24,4441,14,4451,24,4463,0,11212,null,22111,{"$f":"COUNTIF($L$7:$L$500,N31)","v":0},{"$f":"O31/$Q$4","v":0},{"$f":"IF(P31=0,0,(P31*((LOG(P31))/LOG(2))))","v":0},null,null,{"$f":"N31","v":22111},{"$f":"COUNTIF(L7:L20,T31)","v":0},{"$f":"U31/(W4-U25)","v":0},{"$f":"IF(V31=0,0,(V31*((LOG(V31))/LOG(2))))","v":0},null,{"$f":"N31","v":22111},{"$f":"COUNTIF(L21:L35,Y31)","v":0},{"$f":"Z31/(AB4-Z25)","v":0},{"$f":"IF(AA31=0,0,(AA31*((LOG(AA31))/LOG(2))))","v":0},null,{"$f":"N31","v":22111},{"$f":"COUNTIF(L36:L49,AD31)","v":0},{"$f":"AE31/(AG4-AE25)","v":0},{"$f":"IF(AF31=0,0,(AF31*((LOG(AF31))/LOG(2))))","v":0},null,{"$f":"N31","v":22111},{"$f":"COUNTIF(L50:L63,AI31)","v":0},{"$f":"AJ31/(AL4-AJ25)","v":0},{"$f":"IF(AK31=0,0,(AK31*((LOG(AK31))/LOG(2))))","v":0},null,{"$f":"N31","v":22111},{"$f":"COUNTIF(L64:L78,AN31)","v":0},{"$f":"AO31/(AQ4-AO25)","v":0},{"$f":"IF(AP31=0,0,(AP31*((LOG(AP31))/LOG(2))))","v":0},null,{"$f":"N31","v":22111},{"$f":"COUNTIF(L79:L92,AS31)","v":0},{"$f":"AT31/(AV4-AT25)","v":0},{"$f":"IF(AU31=0,0,(AU31*((LOG(AU31))/LOG(2))))","v":0}]
[21,4586,11,4598,22,4605,23,4613,24,4672,0,21222,null,22112,{"$f":"COUNTIF($L$7:$L$500,N32)","v":1},{"$f":"O32/$Q$4","v":1.1627906976744186E-2},{"$f":"IF(P32=0,0,(P32*((LOG(P32))/LOG(2))))","v":-7.4724008775605782E-2},null,null,{"$f":"N32","v":22112},{"$f":"COUNTIF(L7:L20,T32)","v":0},{"$f":"U32/(W4-U25)","v":0},{"$f":"IF(V32=0,0,(V32*((LOG(V32))/LOG(2))))","v":0},null,{"$f":"N32","v":22112},{"$f":"COUNTIF(L21:L35,Y32)","v":0},{"$f":"Z32/(AB4-Z25)","v":0},{"$f":"IF(AA32=0,0,(AA32*((LOG(AA32))/LOG(2))))","v":0},null,{"$f":"N32","v":22112},{"$f":"COUNTIF(L36:L49,AD32)","v":1},{"$f":"AE32/(AG4-AE25)","v":7.1428571428571425E-2},{"$f":"IF(AF32=0,0,(AF32*((LOG(AF32))/LOG(2))))","v":-0.27195392300411453},null,{"$f":"N32","v":22112},{"$f":"COUNTIF(L50:L63,AI32)","v":0},{"$f":"AJ32/(AL4-AJ25)","v":0},{"$f":"IF(AK32=0,0,(AK32*((LOG(AK32))/LOG(2))))","v":0},null,{"$f":"N32","v":22112},{"$f":"COUNTIF(L64:L78,AN32)","v":0},{"$f":"AO32/(AQ4-AO25)","v":0},{"$f":"IF(AP32=0,0,(AP32*((LOG(AP32))/LOG(2))))","v":0},null,{"$f":"N32","v":22112},{"$f":"COUNTIF(L79:L92,AS32)","v":0},{"$f":"AT32/(AV4-AT25)","v":0},{"$f":"IF(AU32=0,0,(AU32*((LOG(AU32))/LOG(2))))","v":0}]
[12,4807,24,4819,13,4830,23,4839,13,4865,0,12121,null,22121,{"$f":"COUNTIF($L$7:$L$500,N33)","v":2},{"$f":"O33/$Q$4","v":2.3255813953488372E-2},{"$f":"IF(P33=0,0,(P33*((LOG(P33))/LOG(2))))","v":-0.12619220359772321},null,null,{"$f":"N33","v":22121},{"$f":"COUNTIF(L7:L20,T33)","v":0},{"$f":"U33/(W4-U25)","v":0},{"$f":"IF(V33=0,0,(V33*((LOG(V33))/LOG(2))))","v":0},null,{"$f":"N33","v":22121},{"$f":"COUNTIF(L21:L35,Y33)","v":0},{"$f":"Z33/(AB4-Z25)","v":0},{"$f":"IF(AA33=0,0,(AA33*((LOG(AA33))/LOG(2))))","v":0},null,{"$f":"N33","v":22121},{"$f":"COUNTIF(L36:L49,AD33)","v":0},{"$f":"AE33/(AG4-AE25)","v":0},{"$f":"IF(AF33=0,0,(AF33*((LOG(AF33))/LOG(2))))","v":0},null,{"$f":"N33","v":22121},{"$f":"COUNTIF(L50:L63,AI33)","v":2},{"$f":"AJ33/(AL4-AJ25)","v":0.14285714285714285},{"$f":"IF(AK33=0,0,(AK33*((LOG(AK33))/LOG(2))))","v":-0.40105070315108626},null,{"$f":"N33","v":22121},{"$f":"COUNTIF(L64:L78,AN33)","v":0},{"$f":"AO33/(AQ4-AO25)","v":0},{"$f":"IF(AP33=0,0,(AP33*((LOG(AP33))/LOG(2))))","v":0},null,{"$f":"N33","v":22121},{"$f":"COUNTIF(L79:L92,AS33)","v":0},{"$f":"AT33/(AV4-AT25)","v":0},{"$f":"IF(AU33=0,0,(AU33*((LOG(AU33))/LOG(2))))","v":0}]
[12,5001,13,5031,24,5039,23,5049,13,5063,0,11221,null,22122,{"$f":"COUNTIF($L$7:$L$500,N34)","v":0},{"$f":"O34/$Q$4","v":0},{"$f":"IF(P34=0,0,(P34*((LOG(P34))/LOG(2))))","v":0},null,null,{"$f":"N34","v":22122},{"$f":"COUNTIF(L7:L20,T34)","v":0},{"$f":"U34/(W4-U25)","v":0},{"$f":"IF(V34=0,0,(V34*((LOG(V34))/LOG(2))))","v":0},null,{"$f":"N34","v":22122},{"$f":"COUNTIF(L21:L35,Y34)","v":0},{"$f":"Z34/(AB4-Z25)","v":0},{"$f":"IF(AA34=0,0,(AA34*((LOG(AA34))/LOG(2))))","v":0},null,{"$f":"N34","v":22122},{"$f":"COUNTIF(L36:L49,AD34)","v":0},{"$f":"AE34/(AG4-AE25)","v":0},{"$f":"IF(AF34=0,0,(AF34*((LOG(AF34))/LOG(2))))","v":0},null,{"$f":"N34","v":22122},{"$f":"COUNTIF(L50:L63,AI34)","v":0},{"$f":"AJ34/(AL4-AJ25)","v":0},{"$f":"IF(AK34=0,0,(AK34*((LOG(AK34))/LOG(2))))","v":0},null,{"$f":"N34","v":22122},{"$f":"COUNTIF(L64:L78,AN34)","v":0},{"$f":"AO34/(AQ4-AO25)","v":0},{"$f":"IF(AP34=0,0,(AP34*((LOG(AP34))/LOG(2))))","v":0},null,{"$f":"N34","v":22122},{"$f":"COUNTIF(L79:L92,AS34)","v":0},{"$f":"AT34/(AV4-AT25)","v":0},{"$f":"IF(AU34=0,0,(AU34*((LOG(AU34))/LOG(2))))","v":0}]
[12,5196,24,5206,13,5214,23,5225,13,5236,0,12121,null,22211,{"$f":"COUNTIF($L$7:$L$500,N35)","v":0},{"$f":"O35/$Q$4","v":0},{"$f":"IF(P35=0,0,(P35*((LOG(P35))/LOG(2))))","v":0},null,null,{"$f":"N35","v":22211},{"$f":"COUNTIF(L7:L20,T35)","v":0},{"$f":"U35/(W4-U25)","v":0},{"$f":"IF(V35=0,0,(V35*((LOG(V35))/LOG(2))))","v":0},null,{"$f":"N35","v":22211},{"$f":"COUNTIF(L21:L35,Y35)","v":0},{"$f":"Z35/(AB4-Z25)","v":0},{"$f":"IF(AA35=0,0,(AA35*((LOG(AA35))/LOG(2))))","v":0},null,{"$f":"N35","v":22211},{"$f":"COUNTIF(L36:L49,AD35)","v":0},{"$f":"AE35/(AG4-AE25)","v":0},{"$f":"IF(AF35=0,0,(AF35*((LOG(AF35))/LOG(2))))","v":0},null,{"$f":"N35","v":22211},{"$f":"COUNTIF(L50:L63,AI35)","v":0},{"$f":"AJ35/(AL4-AJ25)","v":0},{"$f":"IF(AK35=0,0,(AK35*((LOG(AK35))/LOG(2))))","v":0},null,{"$f":"N35","v":22211},{"$f":"COUNTIF(L64:L78,AN35)","v":0},{"$f":"AO35/(AQ4-AO25)","v":0},{"$f":"IF(AP35=0,0,(AP35*((LOG(AP35))/LOG(2))))","v":0},null,{"$f":"N35","v":22211},{"$f":"COUNTIF(L79:L92,AS35)","v":0},{"$f":"AT35/(AV4-AT25)","v":0},{"$f":"IF(AU35=0,0,(AU35*((LOG(AU35))/LOG(2))))","v":0}]
[21,5391,11,5400,22,5411,14,5420,13,5430,0,21211,null,22212,{"$f":"COUNTIF($L$7:$L$500,N36)","v":0},{"$f":"O36/$Q$4","v":0},{"$f":"IF(P36=0,0,(P36*((LOG(P36))/LOG(2))))","v":0},null,null,{"$f":"N36","v":22212},{"$f":"COUNTIF(L7:L20,T36)","v":0},{"$f":"U36/(W4-U25)","v":0},{"$f":"IF(V36=0,0,(V36*((LOG(V36))/LOG(2))))","v":0},null,{"$f":"N36","v":22212},{"$f":"COUNTIF(L21:L35,Y36)","v":0},{"$f":"Z36/(AB4-Z25)","v":0},{"$f":"IF(AA36=0,0,(AA36*((LOG(AA36))/LOG(2))))","v":0},null,{"$f":"N36","v":22212},{"$f":"COUNTIF(L36:L49,AD36)","v":0},{"$f":"AE36/(AG4-AE25)","v":0},{"$f":"IF(AF36=0,0,(AF36*((LOG(AF36))/LOG(2))))","v":0},null,{"$f":"N36","v":22212},{"$f":"COUNTIF(L50:L63,AI36)","v":0},{"$f":"AJ36/(AL4-AJ25)","v":0},{"$f":"IF(AK36=0,0,(AK36*((LOG(AK36))/LOG(2))))","v":0},null,{"$f":"N36","v":22212},{"$f":"COUNTIF(L64:L78,AN36)","v":0},{"$f":"AO36/(AQ4-AO25)","v":0},{"$f":"IF(AP36=0,0,(AP36*((LOG(AP36))/LOG(2))))","v":0},null,{"$f":"N36","v":22212},{"$f":"COUNTIF(L79:L92,AS36)","v":0},{"$f":"AT36/(AV4-AT25)","v":0},{"$f":"IF(AU36=0,0,(AU36*((LOG(AU36))/LOG(2))))","v":0}]
[12,5545,24,5556,13,5566,23,5575,13,5588,0,12121,null,22221,{"$f":"COUNTIF($L$7:$L$500,N37)","v":0},{"$f":"O37/$Q$4","v":0},{"$f":"IF(P37=0,0,(P37*((LOG(P37))/LOG(2))))","v":0},null,null,{"$f":"N37","v":22221},{"$f":"COUNTIF(L7:L20,T37)","v":0},{"$f":"U37/(W4-U25)","v":0},{"$f":"IF(V37=0,0,(V37*((LOG(V37))/LOG(2))))","v":0},null,{"$f":"N37","v":22221},{"$f":"COUNTIF(L21:L35,Y37)","v":0},{"$f":"Z37/(AB4-Z25)","v":0},{"$f":"IF(AA37=0,0,(AA37*((LOG(AA37))/LOG(2))))","v":0},null,{"$f":"N37","v":22221},{"$f":"COUNTIF(L36:L49,AD37)","v":0},{"$f":"AE37/(AG4-AE25)","v":0},{"$f":"IF(AF37=0,0,(AF37*((LOG(AF37))/LOG(2))))","v":0},null,{"$f":"N37","v":22221},{"$f":"COUNTIF(L50:L63,AI37)","v":0},{"$f":"AJ37/(AL4-AJ25)","v":0},{"$f":"IF(AK37=0,0,(AK37*((LOG(AK37))/LOG(2))))","v":0},null,{"$f":"N37","v":22221},{"$f":"COUNTIF(L64:L78,AN37)","v":0},{"$f":"AO37/(AQ4-AO25)","v":0},{"$f":"IF(AP37=0,0,(AP37*((LOG(AP37))/LOG(2))))","v":0},null,{"$f":"N37","v":22221},{"$f":"COUNTIF(L79:L92,AS37)","v":0},{"$f":"AT37/(AV4-AT25)","v":0},{"$f":"IF(AU37=0,0,(AU37*((LOG(AU37))/LOG(2))))","v":0}]
[21,5767,11,5780,22,5792,14,5806,24,5815,0,21212,null,22222,{"$f":"COUNTIF($L$7:$L$500,N38)","v":0},{"$f":"O38/$Q$4","v":0},{"$f":"IF(P38=0,0,(P38*((LOG(P38))/LOG(2))))","v":0},null,null,{"$f":"N38","v":22222},{"$f":"COUNTIF(L7:L20,T38)","v":0},{"$f":"U38/(W4-U25)","v":0},{"$f":"IF(V38=0,0,(V38*((LOG(V38))/LOG(2))))","v":0},null,{"$f":"N38","v":22222},{"$f":"COUNTIF(L21:L35,Y38)","v":0},{"$f":"Z38/(AB4-Z25)","v":0},{"$f":"IF(AA38=0,0,(AA38*((LOG(AA38))/LOG(2))))","v":0},null,{"$f":"N38","v":22222},{"$f":"COUNTIF(L36:L49,AD38)","v":0},{"$f":"AE38/(AG4-AE25)","v":0},{"$f":"IF(AF38=0,0,(AF38*((LOG(AF38))/LOG(2))))","v":0},null,{"$f":"N38","v":22222},{"$f":"COUNTIF(L50:L63,AI38)","v":0},{"$f":"AJ38/(AL4-AJ25)","v":0},{"$f":"IF(AK38=0,0,(AK38*((LOG(AK38))/LOG(2))))","v":0},null,{"$f":"N38","v":22222},{"$f":"COUNTIF(L64:L78,AN38)","v":0},{"$f":"AO38/(AQ4-AO25)","v":0},{"$f":"IF(AP38=0,0,(AP38*((LOG(AP38))/LOG(2))))","v":0},null,{"$f":"N38","v":22222},{"$f":"COUNTIF(L79:L92,AS38)","v":0},{"$f":"AT38/(AV4-AT25)","v":0},{"$f":"IF(AU38=0,0,(AU38*((LOG(AU38))/LOG(2))))","v":0}]
[21,5983,11,5992,22,6001,14,6013,24,6022,0,21212,null,null,null,{"$f":"SUM(P7:P38)","v":1},{"$f":"-SUM(Q7:Q38)","v":3.456673895945154},null,null,null,null,{"$f":"SUM(V7:V38)","v":1},{"$f":"-SUM(W7:W38)","v":2.6455933144511459},null,null,null,{"$f":"SUM(AA7:AA38)","v":0.99999999999999989},{"$f":"-SUM(AB7:AB38)","v":2.4729055953200563},null,null,null,{"$f":"SUM(AF7:AF38)","v":1},{"$f":"-SUM(AG7:AG38)","v":1.7884504573082893},null,null,null,{"$f":"SUM(AK7:AK38)","v":1},{"$f":"-SUM(AL7:AL38)","v":3.03914867190307},null,null,null,{"$f":"SUM(AP7:AP38)","v":1},{"$f":"-SUM(AQ7:AQ38)","v":2.5492553971685004},null,null,null,{"$f":"SUM(AU7:AU38)","v":0.99999999999999989},{"$f":"-SUM(AV7:AV38)","v":3.1820058147602128}]
[21,6226,11,6236,22,6245,14,6257,24,6269,0,21212,null,null,null,"U=",{"$f":"Q39/(LOG(Q4)/LOG(2))","v":0.53789783457270501},null,null,null,null,"U1=",{"$f":"W39/(LOG(W4)/LOG(2))","v":0.69486385393810135},null,null,null,"U2=",{"$f":"AB39/(LOG(AB4)/LOG(2))","v":0.63296003171926252},null,null,null,"U3=",{"$f":"AG39/(LOG(AG4)/LOG(2))","v":0.46973568104907842},null,null,null,"U4=",{"$f":"AL39/(LOG(AL4)/LOG(2))","v":0.79823098558424566},null,null,null,"U5=",{"$f":"AQ39/(LOG(AQ4)/LOG(2))","v":0.65250237619501106},null,null,null,"U6=",{"$f":"AV39/(LOG(AV4)/LOG(2))","v":0.83575234773241625}]
[21,6376,11,6395,22,6404,14,6417,24,6427,0,21212]
[21,6617,11,6633,22,6642,14,6654,24,6664,0,21212]
[21,6835,11,6845,22,6855,14,6868,13,6892,0,21211,null,"Total Target Seq"]
[21,7094,11,7106,22,7116,14,7132,13,7152,0,21211,null,{"$f":"COUNTIF(L7:L92,G3)","v":0},null,14,15,14,14,15,14]
[12,7523,24,7533,13,7553,23,7565,13,7589,0,12121,null,null,null,"% of reinforcement given in 6 equal intervals based on number of trials "]
[12,7728,24,7737,13,7748,23,7768,13,7780,0,12121,null,null,null,"%_1","%_2","%_3","%_4","%_5","%_6"]
[12,8514,24,8523,13,8550,23,8562,13,8610,0,12121,null,null,"target sequence",{"$f":"$G$3","v":21121},{"$f":"$G$3","v":21121},{"$f":"$G$3","v":21121},{"$f":"$G$3","v":21121},{"$f":"$G$3","v":21121},{"$f":"$G$3","v":21121}]
[21,8758,22,8766,13,8783,14,8803,24,8816,0,22112,null,null,"total reinforcement",{"$f":"U25","v":0},{"$f":"Z25","v":0},{"$f":"AE25","v":0},{"$f":"AJ25","v":0},{"$f":"AO25","v":0},{"$f":"AT25","v":0}]
[21,9013,11,9036,22,9059,14,9073,24,9082,0,21212,null,null,"% target"]
[12,9467,24,9479,13,9497,14,9507,24,9519,0,12112,null,null,"CCRF"]
[21,9635,11,9650,22,9660,14,9674,24,9683,0,21212,null,null,"% CCRf"]
[12,9940,24,9952,13,9965,23,9975,13,9990,0,12121,null,null,"average response rate",{"$f":"J20/P44","v":178.21428571428572},{"$f":"(J35-J20)/Q44","v":182.73333333333332},{"$f":"(J49-J35)/R44","v":274.71428571428572},{"$f":"(J63-J49)/S44","v":295.64285714285717},{"$f":"(J78-J63)/T44","v":283.13333333333333},{"$f":"(J92-J78)/U44","v":464.71428571428572}]
[21,10330,11,10343,22,10357,14,10374,24,10387,0,21212]
[12,10707,24,10720,13,10739,14,10756,24,10765,0,12112]
[21,10895,22,10920,13,10935,23,10948,13,10963,0,22121]
[21,11223,11,11236,22,11247,23,11257,13,11272,0,21221]
[12,11450,24,11459,13,11469,23,11479,24,11492,0,12122]
[21,11715,11,11730,11,11752,21,11765,22,11774,0,21122]
[12,12002,24,12015,13,12027,14,12078,13,12109,0,12111]
[21,12270,22,12314,13,12326,23,12335,13,12362,0,22121]
[12,12744,13,12751,13,12763,23,12776,13,12823,0,11121]
[12,12964,24,12973,13,12982,23,12994,13,13005,0,12121]
[21,13163,11,13175,22,13185,14,13199,24,13221,0,21212]
[12,13363,13,13368,24,13380,14,13403,24,13434,0,11212]
[12,13555,24,13564,13,13578,14,13583,24,13595,0,12112]
[12,14057,24,14067,13,14076,14,14103,13,14140,0,12111]
[21,14336,11,14348,11,14370,21,14379,22,14390,0,21122]
[12,14514,24,14523,13,14532,23,14543,13,14552,0,12121]
[21,14757,11,14769,22,14779,23,14807,13,14817,0,21221]
[21,14931,11,14943,22,14951,14,14965,24,14974,0,21212]
[12,15154,24,15166,13,15178,23,15188,13,15205,0,12121]
[12,15389,24,15399,13,15410,23,15420,13,15442,0,12121]
[21,15657,11,15669,22,15681,23,15703,13,15723,0,21221]
[12,16121,24,16132,13,16145,23,16158,13,16173,0,12121]
[21,16338,11,16349,22,16504,14,16516,24,16526,0,21212]
[21,16757,11,16776,22,16791,14,16802,24,16814,0,21212]
[12,16942,13,16951,24,16963,14,16972,24,16984,0,11212]
[12,17388,24,17403,13,17439,23,17455,13,17468,0,12121]
[21,17872,11,17884,22,17895,14,17909,13,17991,0,21211]
[12,18105,24,18115,13,18130,23,18140,13,18153,0,12121]
[12,18402,24,18414,13,18425,14,18444,24,18454,0,12112]
[12,18798,24,18810,13,18824,23,18836,13,18852,0,12121]
[21,19520,11,19534,22,19547,14,19560,24,19572,0,21212]
[12,20149,24,20165,24,20190,14,20212,24,20222,0,12212]
[12,21520,13,21562,24,21572,14,21584,13,21594,0,11211]
[12,22024,24,22037,13,22053,14,22084,24,22097,0,12112]
[21,22227,11,22236,22,22250,14,22301,24,22315,0,21212]
[12,22593,13,22602,24,22614,23,22629,13,22640,0,11221]
[12,22898,13,22924,24,22937,23,22970,24,22979,0,11222]
[12,23279,13,23397,24,23410,14,23423,24,23437,0,11212]
[21,23622,11,23632,22,23646,14,23656,24,23669,0,21212]
[12,23922,13,23934,13,23943,23,23959,13,23974,null,11121]

{"sheet":"!N124840.091","index":7,"n_rows":158,"n_cols":48,"rows_kept":158,"cut":false,"hidden":false,"merged":[[4,39,4,42],[5,39,5,40],[4,44,4,47],[5,44,5,45],[4,24,4,27],[5,24,5,25],[4,29,4,32],[5,29,5,30],[4,34,4,37],[5,34,5,35],[1,1,1,2],[5,13,5,14],[42,13,42,14],[43,13,43,14],[4,19,4,22],[5,19,5,20]]}
["Report for:!N124840.091"]
["Date:","<date>"]
["Hen:","<hen>",null,null,null,"Correct Sequence",{"$f":"Start!J2","v":21121},null,null,null,null,null,null,null,null,"Total Sequences in Data",{"$f":"4994-COUNTBLANK(L7:L5000)","v":152},null,null,null,null,"Total Sequences in Block Data",{"$f":"COUNTA(L7:L31)","v":25},null,null,null,"Total Sequences in Block Data",{"$f":"COUNTA(L32:L57)","v":26},null,null,null,"Total Sequences in Block Data",{"$f":"COUNTA(L58:L82)","v":25},null,null,null,"Total Sequences in Block Data",{"$f":"COUNTA(L83:L107)","v":25},null,null,null,"Total Sequences in Block Data",{"$f":"COUNTA(L108:L133)","v":26},null,null,null,"Total Sequences in Block Data",{"$f":"COUNTA(L134:L158)","v":25}]
[null,null,null,null,null,null,null,null,null,null,null,null,null,null,null,"Total Sequences in Summary",{"$f":"SUM(O7:O38)","v":151},null,null,null,null,"Total Sequences in Block Summary",{"$f":"SUM(U7:U38)","v":25},null,null,null,"Total Sequences in Block Summary",{"$f":"SUM(Z7:Z38)","v":26},null,null,null,"Total Sequences in Block Summary",{"$f":"SUM(AE7:AE38)","v":25},null,null,null,"Total Sequences in Block Summary",{"$f":"SUM(AJ7:AJ38)","v":25},null,null,null,"Total Sequences in Block Summary",{"$f":"SUM(AO7:AO38)","v":26},null,null,null,"Total Sequences in Block Summary",{"$f":"SUM(AT7:AT38)","v":24}]
[null,null,null,null,null,null,null,null,null,null,null,null,null,null,null,null,null,null,null,"Block 1",null,null,null,null,"Block 2",null,null,null,null,"Block 3",null,null,null,null,"Block 4",null,null,null,null,"Block 5",null,null,null,null,"Block 6"]
["Sequence\nComponent\n1","Time\n1","Sequence\nComponent\n2","Time\n2","Sequence\nComponent\n3","Time\n3","Sequence\nComponent\n4","Time\n4","Sequence\nComponent\n5","Time\n5","Correct?\n0=No 1=Yes","Sequence",null,"Frequency",null,"Relative Frequency","Variability",null,null,"Frequency",null,"Relative Frequency","Variability",null,"Frequency",null,"Relative Frequency","Variability",null,"Frequency",null,"Relative Frequency","Variability",null,"Frequency",null,"Relative Frequency","Variability",null,"Frequency",null,"Relative Frequency","Variability",null,"Frequency",null,"Relative Frequency","Variability"]
[12,10,24,22,24,51,23,79,13,93,1,12221,null,11111,{"$f":"COUNTIF($L$7:$L$500,N7)","v":3},{"$f":"O7/$Q$4","v":1.9867549668874173E-2},{"$f":"IF(P7=0,0,(P7*((LOG(P7))/LOG(2))))","v":-0.11232004447557463},null,null,{"$f":"N7","v":11111},{"$f":"COUNTIF(L7:L31,T7)","v":0},{"$f":"U7/(W4-U25)","v":0},{"$f":"IF(V7=0,0,(V7*((LOG(V7))/LOG(2))))","v":0},null,{"$f":"N7","v":11111},{"$f":"COUNTIF(L32:L57,Y7)","v":1},{"$f":"Z7/(AB4-Z25)","v":4.1666666666666664E-2},{"$f":"IF(AA7=0,0,(AA7*((LOG(AA7))/LOG(2))))","v":-0.19104010419671485},null,{"$f":"N7","v":11111},{"$f":"COUNTIF(L58:L82,AD7)","v":0},{"$f":"AE7/(AG4-AE25)","v":0},{"$f":"IF(AF7=0,0,(AF7*((LOG(AF7))/LOG(2))))","v":0},null,{"$f":"N7","v":11111},{"$f":"COUNTIF(L83:L107,AI7)","v":0},{"$f":"AJ7/(AL4-AJ25)","v":0},{"$f":"IF(AK7=0,0,(AK7*((LOG(AK7))/LOG(2))))","v":0},null,{"$f":"N7","v":11111},{"$f":"COUNTIF(L108:L133,AN7)","v":0},{"$f":"AO7/(AQ4-AO25)","v":0},{"$f":"IF(AP7=0,0,(AP7*((LOG(AP7))/LOG(2))))","v":0},null,{"$f":"N7","v":11111},{"$f":"COUNTIF(L134:L158,AS7)","v":2},{"$f":"AT7/(AV4-AT25)","v":8.3333333333333329E-2},{"$f":"IF(AU7=0,0,(AU7*((LOG(AU7))/LOG(2))))","v":-0.29874687506009634}]
[12,185,24,195,13,204,23,215,13,228,0,12121,null,11112,{"$f":"COUNTIF($L$7:$L$500,N8)","v":4},{"$f":"O8/$Q$4","v":2.6490066225165563E-2},{"$f":"IF(P8=0,0,(P8*((LOG(P8))/LOG(2))))","v":-0.13876568845894247},null,null,{"$f":"N8","v":11112},{"$f":"COUNTIF(L7:L31,T8)","v":0},{"$f":"U8/(W4-U25)","v":0},{"$f":"IF(V8=0,0,(V8*((LOG(V8))/LOG(2))))","v":0},null,{"$f":"N8","v":11112},{"$f":"COUNTIF(L32:L57,Y8)","v":1},{"$f":"Z8/(AB4-Z25)","v":4.1666666666666664E-2},{"$f":"IF(AA8=0,0,(AA8*((LOG(AA8))/LOG(2))))","v":-0.19104010419671485},null,{"$f":"N8","v":11112},{"$f":"COUNTIF(L58:L82,AD8)","v":0},{"$f":"AE8/(AG4-AE25)","v":0},{"$f":"IF(AF8=0,0,(AF8*((LOG(AF8))/LOG(2))))","v":0},null,{"$f":"N8","v":11112},{"$f":"COUNTIF(L83:L107,AI8)","v":1},{"$f":"AJ8/(AL4-AJ25)","v":4.3478260869565216E-2},{"$f":"IF(AK8=0,0,(AK8*((LOG(AK8))/LOG(2))))","v":-0.19667660678508753},null,{"$f":"N8","v":11112},{"$f":"COUNTIF(L108:L133,AN8)","v":0},{"$f":"AO8/(AQ4-AO25)","v":0},{"$f":"IF(AP8=0,0,(AP8*((LOG(AP8))/LOG(2))))","v":0},null,{"$f":"N8","v":11112},{"$f":"COUNTIF(L134:L158,AS8)","v":2},{"$f":"AT8/(AV4-AT25)","v":8.3333333333333329E-2},{"$f":"IF(AU8=0,0,(AU8*((LOG(AU8))/LOG(2))))","v":-0.29874687506009634}]
[12,328,24,348,24,358,14,368,24,381,0,12212,null,11121,{"$f":"COUNTIF($L$7:$L$500,N9)","v":7},{"$f":"O9/$Q$4","v":4.6357615894039736E-2},{"$f":"IF(P9=0,0,(P9*((LOG(P9))/LOG(2))))","v":-0.20541290543624055},null,null,{"$f":"N9","v":11121},{"$f":"COUNTIF(L7:L31,T9)","v":1},{"$f":"U9/(W4-U25)","v":4.1666666666666664E-2},{"$f":"IF(V9=0,0,(V9*((LOG(V9))/LOG(2))))","v":-0.19104010419671485},null,{"$f":"N9","v":11121},{"$f":"COUNTIF(L32:L57,Y9)","v":2},{"$f":"Z9/(AB4-Z25)","v":8.3333333333333329E-2},{"$f":"IF(AA9=0,0,(AA9*((LOG(AA9))/LOG(2))))","v":-0.29874687506009634},null,{"$f":"N9","v":11121},{"$f":"COUNTIF(L58:L82,AD9)","v":2},{"$f":"AE9/(AG4-AE25)","v":8.3333333333333329E-2},{"$f":"IF(AF9=0,0,(AF9*((LOG(AF9))/LOG(2))))","v":-0.29874687506009634},null,{"$f":"N9","v":11121},{"$f":"COUNTIF(L83:L107,AI9)","v":2},{"$f":"AJ9/(AL4-AJ25)","v":8.6956521739130432E-2},{"$f":"IF(AK9=0,0,(AK9*((LOG(AK9))/LOG(2))))","v":-0.30639669183104457},null,{"$f":"N9","v":11121},{"$f":"COUNTIF(L108:L133,AN9)","v":0},{"$f":"AO9/(AQ4-AO25)","v":0},{"$f":"IF(AP9=0,0,(AP9*((LOG(AP9))/LOG(2))))","v":0},null,{"$f":"N9","v":11121},{"$f":"COUNTIF(L134:L158,AS9)","v":0},{"$f":"AT9/(AV4-AT25)","v":0},{"$f":"IF(AU9=0,0,(AU9*((LOG(AU9))/LOG(2))))","v":0}]
[12,479,24,496,13,505,23,518,13,528,0,12121,null,11122,{"$f":"COUNTIF($L$7:$L$500,N10)","v":1},{"$f":"O10/$Q$4","v":6.6225165562913907E-3},{"$f":"IF(P10=0,0,(P10*((LOG(P10))/LOG(2))))","v":-4.7936455227318403E-2},null,null,{"$f":"N10","v":11122},{"$f":"COUNTIF(L7:L31,T10)","v":0},{"$f":"U10/(W4-U25)","v":0},{"$f":"IF(V10=0,0,(V10*((LOG(V10))/LOG(2))))","v":0},null,{"$f":"N10","v":11122},{"$f":"COUNTIF(L32:L57,Y10)","v":0},{"$f":"Z10/(AB4-Z25)","v":0},{"$f":"IF(AA10=0,0,(AA10*((LOG(AA10))/LOG(2))))","v":0},null,{"$f":"N10","v":11122},{"$f":"COUNTIF(L58:L82,AD10)","v":1},{"$f":"AE10/(AG4-AE25)","v":4.1666666666666664E-2},{"$f":"IF(AF10=0,0,(AF10*((LOG(AF10))/LOG(2))))","v":-0.19104010419671485},null,{"$f":"N10","v":11122},{"$f":"COUNTIF(L83:L107,AI10)","v":0},{"$f":"AJ10/(AL4-AJ25)","v":0},{"$f":"IF(AK10=0,0,(AK10*((LOG(AK10))/LOG(2))))","v":0},null,{"$f":"N10","v":11122},{"$f":"COUNTIF(L108:L133,AN10)","v":0},{"$f":"AO10/(AQ4-AO25)","v":0},{"$f":"IF(AP10=0,0,(AP10*((LOG(AP10))/LOG(2))))","v":0},null,{"$f":"N10","v":11122},{"$f":"COUNTIF(L134:L158,AS10)","v":0},{"$f":"AT10/(AV4-AT25)","v":0},{"$f":"IF(AU10=0,0,(AU10*((LOG(AU10))/LOG(2))))","v":0}]
[12,630,24,643,13,657,23,669,24,682,0,12122,null,11211,{"$f":"COUNTIF($L$7:$L$500,N11)","v":5},{"$f":"O11/$Q$4","v":3.3112582781456956E-2},{"$f":"IF(P11=0,0,(P11*((LOG(P11))/LOG(2))))","v":-0.16279723988204359},null,null,{"$f":"N11","v":11211},{"$f":"COUNTIF(L7:L31,T11)","v":0},{"$f":"U11/(W4-U25)","v":0},{"$f":"IF(V11=0,0,(V11*((LOG(V11))/LOG(2))))","v":0},null,{"$f":"N11","v":11211},{"$f":"COUNTIF(L32:L57,Y11)","v":0},{"$f":"Z11/(AB4-Z25)","v":0},{"$f":"IF(AA11=0,0,(AA11*((LOG(AA11))/LOG(2))))","v":0},null,{"$f":"N11","v":11211},{"$f":"COUNTIF(L58:L82,AD11)","v":2},{"$f":"AE11/(AG4-AE25)","v":8.3333333333333329E-2},{"$f":"IF(AF11=0,0,(AF11*((LOG(AF11))/LOG(2))))","v":-0.29874687506009634},null,{"$f":"N11","v":11211},{"$f":"COUNTIF(L83:L107,AI11)","v":0},{"$f":"AJ11/(AL4-AJ25)","v":0},{"$f":"IF(AK11=0,0,(AK11*((LOG(AK11))/LOG(2))))","v":0},null,{"$f":"N11","v":11211},{"$f":"COUNTIF(L108:L133,AN11)","v":2},{"$f":"AO11/(AQ4-AO25)","v":0.08},{"$f":"IF(AP11=0,0,(AP11*((LOG(AP11))/LOG(2))))","v":-0.29150849518197797},null,{"$f":"N11","v":11211},{"$f":"COUNTIF(L134:L158,AS11)","v":1},{"$f":"AT11/(AV4-AT25)","v":4.1666666666666664E-2},{"$f":"IF(AU11=0,0,(AU11*((LOG(AU11))/LOG(2))))","v":-0.19104010419671485}]
[12,786,13,802,24,812,23,832,13,846,0,11221,null,11212,{"$f":"COUNTIF($L$7:$L$500,N12)","v":24},{"$f":"O12/$Q$4","v":0.15894039735099338},{"$f":"IF(P12=0,0,(P12*((LOG(P12))/LOG(2))))","v":-0.42173916375161685},null,null,{"$f":"N12","v":11212},{"$f":"COUNTIF(L7:L31,T12)","v":4},{"$f":"U12/(W4-U25)","v":0.16666666666666666},{"$f":"IF(V12=0,0,(V12*((LOG(V12))/LOG(2))))","v":-0.43082708345352599},null,{"$f":"N12","v":11212},{"$f":"COUNTIF(L32:L57,Y12)","v":6},{"$f":"Z12/(AB4-Z25)","v":0.25},{"$f":"IF(AA12=0,0,(AA12*((LOG(AA12))/LOG(2))))","v":-0.5},null,{"$f":"N12","v":11212},{"$f":"COUNTIF(L58:L82,AD12)","v":4},{"$f":"AE12/(AG4-AE25)","v":0.16666666666666666},{"$f":"IF(AF12=0,0,(AF12*((LOG(AF12))/LOG(2))))","v":-0.43082708345352599},null,{"$f":"N12","v":11212},{"$f":"COUNTIF(L83:L107,AI12)","v":5},{"$f":"AJ12/(AL4-AJ25)","v":0.21739130434782608},{"$f":"IF(AK12=0,0,(AK12*((LOG(AK12))/LOG(2))))","v":-0.47861605677601093},null,{"$f":"N12","v":11212},{"$f":"COUNTIF(L108:L133,AN12)","v":4},{"$f":"AO12/(AQ4-AO25)","v":0.16},{"$f":"IF(AP12=0,0,(AP12*((LOG(AP12))/LOG(2))))","v":-0.42301699036395596},null,{"$f":"N12","v":11212},{"$f":"COUNTIF(L134:L158,AS12)","v":1},{"$f":"AT12/(AV4-AT25)","v":4.1666666666666664E-2},{"$f":"IF(AU12=0,0,(AU12*((LOG(AU12))/LOG(2))))","v":-0.19104010419671485}]
[12,944,13,946,24,969,14,980,24,1004,0,11212,null,11221,{"$f":"COUNTIF($L$7:$L$500,N13)","v":4},{"$f":"O13/$Q$4","v":2.6490066225165563E-2},{"$f":"IF(P13=0,0,(P13*((LOG(P13))/LOG(2))))","v":-0.13876568845894247},null,null,{"$f":"N13","v":11221},{"$f":"COUNTIF(L7:L31,T13)","v":1},{"$f":"U13/(W4-U25)","v":4.1666666666666664E-2},{"$f":"IF(V13=0,0,(V13*((LOG(V13))/LOG(2))))","v":-0.19104010419671485},null,{"$f":"N13","v":11221},{"$f":"COUNTIF(L32:L57,Y13)","v":2},{"$f":"Z13/(AB4-Z25)","v":8.3333333333333329E-2},{"$f":"IF(AA13=0,0,(AA13*((LOG(AA13))/LOG(2))))","v":-0.29874687506009634},null,{"$f":"N13","v":11221},{"$f":"COUNTIF(L58:L82,AD13)","v":0},{"$f":"AE13/(AG4-AE25)","v":0},{"$f":"IF(AF13=0,0,(AF13*((LOG(AF13))/LOG(2))))","v":0},null,{"$f":"N13","v":11221},{"$f":"COUNTIF(L83:L107,AI13)","v":0},{"$f":"AJ13/(AL4-AJ25)","v":0},{"$f":"IF(AK13=0,0,(AK13*((LOG(AK13))/LOG(2))))","v":0},null,{"$f":"N13","v":11221},{"$f":"COUNTIF(L108:L133,AN13)","v":1},{"$f":"AO13/(AQ4-AO25)","v":0.04},{"$f":"IF(AP13=0,0,(AP13*((LOG(AP13))/LOG(2))))","v":-0.18575424759098899},null,{"$f":"N13","v":11221},{"$f":"COUNTIF(L134:L158,AS13)","v":0},{"$f":"AT13/(AV4-AT25)","v":0},{"$f":"IF(AU13=0,0,(AU13*((LOG(AU13))/LOG(2))))","v":0}]
[12,1110,24,1119,13,1130,23,1140,24,1155,0,12122,null,11222,{"$f":"COUNTIF($L$7:$L$500,N14)","v":2},{"$f":"O14/$Q$4","v":1.3245033112582781E-2},{"$f":"IF(P14=0,0,(P14*((LOG(P14))/LOG(2))))","v":-8.2627877342054026E-2},null,null,{"$f":"N14","v":11222},{"$f":"COUNTIF(L7:L31,T14)","v":0},{"$f":"U14/(W4-U25)","v":0},{"$f":"IF(V14=0,0,(V14*((LOG(V14))/LOG(2))))","v":0},null,{"$f":"N14","v":11222},{"$f":"COUNTIF(L32:L57,Y14)","v":0},{"$f":"Z14/(AB4-Z25)","v":0},{"$f":"IF(AA14=0,0,(AA14*((LOG(AA14))/LOG(2))))","v":0},null,{"$f":"N14","v":11222},{"$f":"COUNTIF(L58:L82,AD14)","v":1},{"$f":"AE14/(AG4-AE25)","v":4.1666666666666664E-2},{"$f":"IF(AF14=0,0,(AF14*((LOG(AF14))/LOG(2))))","v":-0.19104010419671485},null,{"$f":"N14","v":11222},{"$f":"COUNTIF(L83:L107,AI14)","v":1},{"$f":"AJ14/(AL4-AJ25)","v":4.3478260869565216E-2},{"$f":"IF(AK14=0,0,(AK14*((LOG(AK14))/LOG(2))))","v":-0.19667660678508753},null,{"$f":"N14","v":11222},{"$f":"COUNTIF(L108:L133,AN14)","v":0},{"$f":"AO14/(AQ4-AO25)","v":0},{"$f":"IF(AP14=0,0,(AP14*((LOG(AP14))/LOG(2))))","v":0},null,{"$f":"N14","v":11222},{"$f":"COUNTIF(L134:L158,AS14)","v":0},{"$f":"AT14/(AV4-AT25)","v":0},{"$f":"IF(AU14=0,0,(AU14*((LOG(AU14))/LOG(2))))","v":0}]
[12,1273,24,1283,13,1295,23,1309,13,1331,0,12121,null,12111,{"$f":"COUNTIF($L$7:$L$500,N15)","v":1},{"$f":"O15/$Q$4","v":6.6225165562913907E-3},{"$f":"IF(P15=0,0,(P15*((LOG(P15))/LOG(2))))","v":-4.7936455227318403E-2},null,null,{"$f":"N15","v":12111},{"$f":"COUNTIF(L7:L31,T15)","v":0},{"$f":"U15/(W4-U25)","v":0},{"$f":"IF(V15=0,0,(V15*((LOG(V15))/LOG(2))))","v":0},null,{"$f":"N15","v":12111},{"$f":"COUNTIF(L32:L57,Y15)","v":0},{"$f":"Z15/(AB4-Z25)","v":0},{"$f":"IF(AA15=0,0,(AA15*((LOG(AA15))/LOG(2))))","v":0},null,{"$f":"N15","v":12111},{"$f":"COUNTIF(L58:L82,AD15)","v":0},{"$f":"AE15/(AG4-AE25)","v":0},{"$f":"IF(AF15=0,0,(AF15*((LOG(AF15))/LOG(2))))","v":0},null,{"$f":"N15","v":12111},{"$f":"COUNTIF(L83:L107,AI15)","v":0},{"$f":"AJ15/(AL4-AJ25)","v":0},{"$f":"IF(AK15=0,0,(AK15*((LOG(AK15))/LOG(2))))","v":0},null,{"$f":"N15","v":12111},{"$f":"COUNTIF(L108:L133,AN15)","v":0},{"$f":"AO15/(AQ4-AO25)","v":0},{"$f":"IF(AP15=0,0,(AP15*((LOG(AP15))/LOG(2))))","v":0},null,{"$f":"N15","v":12111},{"$f":"COUNTIF(L134:L158,AS15)","v":1},{"$f":"AT15/(AV4-AT25)","v":4.1666666666666664E-2},{"$f":"IF(AU15=0,0,(AU15*((LOG(AU15))/LOG(2))))","v":-0.19104010419671485}]
[12,1437,13,1456,24,1466,14,1481,24,1494,0,11212,null,12112,{"$f":"COUNTIF($L$7:$L$500,N16)","v":7},{"$f":"O16/$Q$4","v":4.6357615894039736E-2},{"$f":"IF(P16=0,0,(P16*((LOG(P16))/LOG(2))))","v":-0.20541290543624055},null,null,{"$f":"N16","v":12112},{"$f":"COUNTIF(L7:L31,T16)","v":0},{"$f":"U16/(W4-U25)","v":0},{"$f":"IF(V16=0,0,(V16*((LOG(V16))/LOG(2))))","v":0},null,{"$f":"N16","v":12112},{"$f":"COUNTIF(L32:L57,Y16)","v":1},{"$f":"Z16/(AB4-Z25)","v":4.1666666666666664E-2},{"$f":"IF(AA16=0,0,(AA16*((LOG(AA16))/LOG(2))))","v":-0.19104010419671485},null,{"$f":"N16","v":12112},{"$f":"COUNTIF(L58:L82,AD16)","v":0},{"$f":"AE16/(AG4-AE25)","v":0},{"$f":"IF(AF16=0,0,(AF16*((LOG(AF16))/LOG(2))))","v":0},null,{"$f":"N16","v":12112},{"$f":"COUNTIF(L83:L107,AI16)","v":2},{"$f":"AJ16/(AL4-AJ25)","v":8.6956521739130432E-2},{"$f":"IF(AK16=0,0,(AK16*((LOG(AK16))/LOG(2))))","v":-0.30639669183104457},null,{"$f":"N16","v":12112},{"$f":"COUNTIF(L108:L133,AN16)","v":1},{"$f":"AO16/(AQ4-AO25)","v":0.04},{"$f":"IF(AP16=0,0,(AP16*((LOG(AP16))/LOG(2))))","v":-0.18575424759098899},null,{"$f":"N16","v":12112},{"$f":"COUNTIF(L134:L158,AS16)","v":3},{"$f":"AT16/(AV4-AT25)","v":0.125},{"$f":"IF(AU16=0,0,(AU16*((LOG(AU16))/LOG(2))))","v":-0.375}]
[12,1595,13,1613,24,1622,14,1632,24,1657,0,11212,null,12121,{"$f":"COUNTIF($L$7:$L$500,N17)","v":37},{"$f":"O17/$Q$4","v":0.24503311258278146},{"$f":"IF(P17=0,0,(P17*((LOG(P17))/LOG(2))))","v":-0.49716027037587263},null,null,{"$f":"N17","v":12121},{"$f":"COUNTIF(L7:L31,T17)","v":8},{"$f":"U17/(W4-U25)","v":0.33333333333333331},{"$f":"IF(V17=0,0,(V17*((LOG(V17))/LOG(2))))","v":-0.52832083357371862},null,{"$f":"N17","v":12121},{"$f":"COUNTIF(L32:L57,Y17)","v":4},{"$f":"Z17/(AB4-Z25)","v":0.16666666666666666},{"$f":"IF(AA17=0,0,(AA17*((LOG(AA17))/LOG(2))))","v":-0.43082708345352599},null,{"$f":"N17","v":12121},{"$f":"COUNTIF(L58:L82,AD17)","v":4},{"$f":"AE17/(AG4-AE25)","v":0.16666666666666666},{"$f":"IF(AF17=0,0,(AF17*((LOG(AF17))/LOG(2))))","v":-0.43082708345352599},null,{"$f":"N17","v":12121},{"$f":"COUNTIF(L83:L107,AI17)","v":6},{"$f":"AJ17/(AL4-AJ25)","v":0.2608695652173913},{"$f":"IF(AK17=0,0,(AK17*((LOG(AK17))/LOG(2))))","v":-0.50572159704413644},null,{"$f":"N17","v":12121},{"$f":"COUNTIF(L108:L133,AN17)","v":13},{"$f":"AO17/(AQ4-AO25)","v":0.52},{"$f":"IF(AP17=0,0,(AP17*((LOG(AP17))/LOG(2))))","v":-0.49057656524948895},null,{"$f":"N17","v":12121},{"$f":"COUNTIF(L134:L158,AS17)","v":2},{"$f":"AT17/(AV4-AT25)","v":8.3333333333333329E-2},{"$f":"IF(AU17=0,0,(AU17*((LOG(AU17))/LOG(2))))","v":-0.29874687506009634}]
[21,1777,11,1790,22,1802,14,1813,24,1825,0,21212,null,12122,{"$f":"COUNTIF($L$7:$L$500,N18)","v":13},{"$f":"O18/$Q$4","v":8.6092715231788075E-2},{"$f":"IF(P18=0,0,(P18*((LOG(P18))/LOG(2))))","v":-0.30459301506882008},null,null,{"$f":"N18","v":12122},{"$f":"COUNTIF(L7:L31,T18)","v":5},{"$f":"U18/(W4-U25)","v":0.20833333333333334},{"$f":"IF(V18=0,0,(V18*((LOG(V18))/LOG(2))))","v":-0.47146550121537367},null,{"$f":"N18","v":12122},{"$f":"COUNTIF(L32:L57,Y18)","v":2},{"$f":"Z18/(AB4-Z25)","v":8.3333333333333329E-2},{"$f":"IF(AA18=0,0,(AA18*((LOG(AA18))/LOG(2))))","v":-0.29874687506009634},null,{"$f":"N18","v":12122},{"$f":"COUNTIF(L58:L82,AD18)","v":3},{"$f":"AE18/(AG4-AE25)","v":0.125},{"$f":"IF(AF18=0,0,(AF18*((LOG(AF18))/LOG(2))))","v":-0.375},null,{"$f":"N18","v":12122},{"$f":"COUNTIF(L83:L107,AI18)","v":1},{"$f":"AJ18/(AL4-AJ25)","v":4.3478260869565216E-2},{"$f":"IF(AK18=0,0,(AK18*((LOG(AK18))/LOG(2))))","v":-0.19667660678508753},null,{"$f":"N18","v":12122},{"$f":"COUNTIF(L108:L133,AN18)","v":1},{"$f":"AO18/(AQ4-AO25)","v":0.04},{"$f":"IF(AP18=0,0,(AP18*((LOG(AP18))/LOG(2))))","v":-0.18575424759098899},null,{"$f":"N18","v":12122},{"$f":"COUNTIF(L134:L158,AS18)","v":1},{"$f":"AT18/(AV4-AT25)","v":4.1666666666666664E-2},{"$f":"IF(AU18=0,0,(AU18*((LOG(AU18))/LOG(2))))","v":-0.19104010419671485}]
[12,1943,24,1952,13,1960,23,1974,24,1983,0,12122,null,12211,{"$f":"COUNTIF($L$7:$L$500,N19)","v":0},{"$f":"O19/$Q$4","v":0},{"$f":"IF(P19=0,0,(P19*((LOG(P19))/LOG(2))))","v":0},null,null,{"$f":"N19","v":12211},{"$f":"COUNTIF(L7:L31,T19)","v":0},{"$f":"U19/(W4-U25)","v":0},{"$f":"IF(V19=0,0,(V19*((LOG(V19))/LOG(2))))","v":0},null,{"$f":"N19","v":12211},{"$f":"COUNTIF(L32:L57,Y19)","v":0},{"$f":"Z19/(AB4-Z25)","v":0},{"$f":"IF(AA19=0,0,(AA19*((LOG(AA19))/LOG(2))))","v":0},null,{"$f":"N19","v":12211},{"$f":"COUNTIF(L58:L82,AD19)","v":0},{"$f":"AE19/(AG4-AE25)","v":0},{"$f":"IF(AF19=0,0,(AF19*((LOG(AF19))/LOG(2))))","v":0},null,{"$f":"N19","v":12211},{"$f":"COUNTIF(L83:L107,AI19)","v":0},{"$f":"AJ19/(AL4-AJ25)","v":0},{"$f":"IF(AK19=0,0,(AK19*((LOG(AK19))/LOG(2))))","v":0},null,{"$f":"N19","v":12211},{"$f":"COUNTIF(L108:L133,AN19)","v":0},{"$f":"AO19/(AQ4-AO25)","v":0},{"$f":"IF(AP19=0,0,(AP19*((LOG(AP19))/LOG(2))))","v":0},null,{"$f":"N19","v":12211},{"$f":"COUNTIF(L134:L158,AS19)","v":0},{"$f":"AT19/(AV4-AT25)","v":0},{"$f":"IF(AU19=0,0,(AU19*((LOG(AU19))/LOG(2))))","v":0}]
[21,2095,11,2103,22,2111,14,2123,24,2133,0,21212,null,12212,{"$f":"COUNTIF($L$7:$L$500,N20)","v":1},{"$f":"O20/$Q$4","v":6.6225165562913907E-3},{"$f":"IF(P20=0,0,(P20*((LOG(P20))/LOG(2))))","v":-4.7936455227318403E-2},null,null,{"$f":"N20","v":12212},{"$f":"COUNTIF(L7:L31,T20)","v":1},{"$f":"U20/(W4-U25)","v":4.1666666666666664E-2},{"$f":"IF(V20=0,0,(V20*((LOG(V20))/LOG(2))))","v":-0.19104010419671485},null,{"$f":"N20","v":12212},{"$f":"COUNTIF(L32:L57,Y20)","v":0},{"$f":"Z20/(AB4-Z25)","v":0},{"$f":"IF(AA20=0,0,(AA20*((LOG(AA20))/LOG(2))))","v":0},null,{"$f":"N20","v":12212},{"$f":"COUNTIF(L58:L82,AD20)","v":0},{"$f":"AE20/(AG4-AE25)","v":0},{"$f":"IF(AF20=0,0,(AF20*((LOG(AF20))/LOG(2))))","v":0},null,{"$f":"N20","v":12212},{"$f":"COUNTIF(L83:L107,AI20)","v":0},{"$f":"AJ20/(AL4-AJ25)","v":0},{"$f":"IF(AK20=0,0,(AK20*((LOG(AK20))/LOG(2))))","v":0},null,{"$f":"N20","v":12212},{"$f":"COUNTIF(L108:L133,AN20)","v":0},{"$f":"AO20/(AQ4-AO25)","v":0},{"$f":"IF(AP20=0,0,(AP20*((LOG(AP20))/LOG(2))))","v":0},null,{"$f":"N20","v":12212},{"$f":"COUNTIF(L134:L158,AS20)","v":0},{"$f":"AT20/(AV4-AT25)","v":0},{"$f":"IF(AU20=0,0,(AU20*((LOG(AU20))/LOG(2))))","v":0}]
[12,2284,24,2292,13,2301,23,2314,13,2329,0,12121,null,12221,{"$f":"COUNTIF($L$7:$L$500,N21)","v":1},{"$f":"O21/$Q$4","v":6.6225165562913907E-3},{"$f":"IF(P21=0,0,(P21*((LOG(P21))/LOG(2))))","v":-4.7936455227318403E-2},null,null,{"$f":"N21","v":12221},{"$f":"COUNTIF(L7:L31,T21)","v":1},{"$f":"U21/(W4-U25)","v":4.1666666666666664E-2},{"$f":"IF(V21=0,0,(V21*((LOG(V21))/LOG(2))))","v":-0.19104010419671485},null,{"$f":"N21","v":12221},{"$f":"COUNTIF(L32:L57,Y21)","v":0},{"$f":"Z21/(AB4-Z25)","v":0},{"$f":"IF(AA21=0,0,(AA21*((LOG(AA21))/LOG(2))))","v":0},null,{"$f":"N21","v":12221},{"$f":"COUNTIF(L58:L82,AD21)","v":0},{"$f":"AE21/(AG4-AE25)","v":0},{"$f":"IF(AF21=0,0,(AF21*((LOG(AF21))/LOG(2))))","v":0},null,{"$f":"N21","v":12221},{"$f":"COUNTIF(L83:L107,AI21)","v":0},{"$f":"AJ21/(AL4-AJ25)","v":0},{"$f":"IF(AK21=0,0,(AK21*((LOG(AK21))/LOG(2))))","v":0},null,{"$f":"N21","v":12221},{"$f":"COUNTIF(L108:L133,AN21)","v":0},{"$f":"AO21/(AQ4-AO25)","v":0},{"$f":"IF(AP21=0,0,(AP21*((LOG(AP21))/LOG(2))))","v":0},null,{"$f":"N21","v":12221},{"$f":"COUNTIF(L134:L158,AS21)","v":0},{"$f":"AT21/(AV4-AT25)","v":0},{"$f":"IF(AU21=0,0,(AU21*((LOG(AU21))/LOG(2))))","v":0}]
[12,2468,24,2477,13,2489,23,2502,13,2519,0,12121,null,12222,{"$f":"COUNTIF($L$7:$L$500,N22)","v":0},{"$f":"O22/$Q$4","v":0},{"$f":"IF(P22=0,0,(P22*((LOG(P22))/LOG(2))))","v":0},null,null,{"$f":"N22","v":12222},{"$f":"COUNTIF(L7:L31,T22)","v":0},{"$f":"U22/(W4-U25)","v":0},{"$f":"IF(V22=0,0,(V22*((LOG(V22))/LOG(2))))","v":0},null,{"$f":"N22","v":12222},{"$f":"COUNTIF(L32:L57,Y22)","v":0},{"$f":"Z22/(AB4-Z25)","v":0},{"$f":"IF(AA22=0,0,(AA22*((LOG(AA22))/LOG(2))))","v":0},null,{"$f":"N22","v":12222},{"$f":"COUNTIF(L58:L82,AD22)","v":0},{"$f":"AE22/(AG4-AE25)","v":0},{"$f":"IF(AF22=0,0,(AF22*((LOG(AF22))/LOG(2))))","v":0},null,{"$f":"N22","v":12222},{"$f":"COUNTIF(L83:L107,AI22)","v":0},{"$f":"AJ22/(AL4-AJ25)","v":0},{"$f":"IF(AK22=0,0,(AK22*((LOG(AK22))/LOG(2))))","v":0},null,{"$f":"N22","v":12222},{"$f":"COUNTIF(L108:L133,AN22)","v":0},{"$f":"AO22/(AQ4-AO25)","v":0},{"$f":"IF(AP22=0,0,(AP22*((LOG(AP22))/LOG(2))))","v":0},null,{"$f":"N22","v":12222},{"$f":"COUNTIF(L134:L158,AS22)","v":0},{"$f":"AT22/(AV4-AT25)","v":0},{"$f":"IF(AU22=0,0,(AU22*((LOG(AU22))/LOG(2))))","v":0}]
[21,2648,11,2657,11,2662,21,2671,11,2683,1,21121,null,21111,{"$f":"COUNTIF($L$7:$L$500,N23)","v":0},{"$f":"O23/$Q$4","v":0},{"$f":"IF(P23=0,0,(P23*((LOG(P23))/LOG(2))))","v":0},null,null,{"$f":"N23","v":21111},{"$f":"COUNTIF(L7:L31,T23)","v":0},{"$f":"U23/(W4-U25)","v":0},{"$f":"IF(V23=0,0,(V23*((LOG(V23))/LOG(2))))","v":0},null,{"$f":"N23","v":21111},{"$f":"COUNTIF(L32:L57,Y23)","v":0},{"$f":"Z23/(AB4-Z25)","v":0},{"$f":"IF(AA23=0,0,(AA23*((LOG(AA23))/LOG(2))))","v":0},null,{"$f":"N23","v":21111},{"$f":"COUNTIF(L58:L82,AD23)","v":0},{"$f":"AE23/(AG4-AE25)","v":0},{"$f":"IF(AF23=0,0,(AF23*((LOG(AF23))/LOG(2))))","v":0},null,{"$f":"N23","v":21111},{"$f":"COUNTIF(L83:L107,AI23)","v":0},{"$f":"AJ23/(AL4-AJ25)","v":0},{"$f":"IF(AK23=0,0,(AK23*((LOG(AK23))/LOG(2))))","v":0},null,{"$f":"N23","v":21111},{"$f":"COUNTIF(L108:L133,AN23)","v":0},{"$f":"AO23/(AQ4-AO25)","v":0},{"$f":"IF(AP23=0,0,(AP23*((LOG(AP23))/LOG(2))))","v":0},null,{"$f":"N23","v":21111},{"$f":"COUNTIF(L134:L158,AS23)","v":0},{"$f":"AT23/(AV4-AT25)","v":0},{"$f":"IF(AU23=0,0,(AU23*((LOG(AU23))/LOG(2))))","v":0}]
[12,2779,24,2789,13,2798,23,2808,13,2822,0,12121,null,21112,{"$f":"COUNTIF($L$7:$L$500,N24)","v":7},{"$f":"O24/$Q$4","v":4.6357615894039736E-2},{"$f":"IF(P24=0,0,(P24*((LOG(P24))/LOG(2))))","v":-0.20541290543624055},null,null,{"$f":"N24","v":21112},{"$f":"COUNTIF(L7:L31,T24)","v":0},{"$f":"U24/(W4-U25)","v":0},{"$f":"IF(V24=0,0,(V24*((LOG(V24))/LOG(2))))","v":0},null,{"$f":"N24","v":21112},{"$f":"COUNTIF(L32:L57,Y24)","v":2},{"$f":"Z24/(AB4-Z25)","v":8.3333333333333329E-2},{"$f":"IF(AA24=0,0,(AA24*((LOG(AA24))/LOG(2))))","v":-0.29874687506009634},null,{"$f":"N24","v":21112},{"$f":"COUNTIF(L58:L82,AD24)","v":0},{"$f":"AE24/(AG4-AE25)","v":0},{"$f":"IF(AF24=0,0,(AF24*((LOG(AF24))/LOG(2))))","v":0},null,{"$f":"N24","v":21112},{"$f":"COUNTIF(L83:L107,AI24)","v":0},{"$f":"AJ24/(AL4-AJ25)","v":0},{"$f":"IF(AK24=0,0,(AK24*((LOG(AK24))/LOG(2))))","v":0},null,{"$f":"N24","v":21112},{"$f":"COUNTIF(L108:L133,AN24)","v":0},{"$f":"AO24/(AQ4-AO25)","v":0},{"$f":"IF(AP24=0,0,(AP24*((LOG(AP24))/LOG(2))))","v":0},null,{"$f":"N24","v":21112},{"$f":"COUNTIF(L134:L158,AS24)","v":5},{"$f":"AT24/(AV4-AT25)","v":0.20833333333333334},{"$f":"IF(AU24=0,0,(AU24*((LOG(AU24))/LOG(2))))","v":-0.47146550121537367}]
[12,2920,13,2929,13,2938,23,2950,13,2966,0,11121,null,21121,{"$f":"COUNTIF($L$7:$L$500,N25)","v":7},{"$f":"O25/$Q$4","v":4.6357615894039736E-2},{"$f":"IF(P25=0,0,(P25*((LOG(P25))/LOG(2))))","v":-0.20541290543624055},null,null,{"$f":"N25","v":21121},{"$f":"COUNTIF(L7:L31,T25)","v":1},null,null,null,{"$f":"N25","v":21121},{"$f":"COUNTIF(L32:L57,Y25)","v":2},null,null,null,{"$f":"N25","v":21121},{"$f":"COUNTIF(L58:L82,AD25)","v":1},null,null,null,{"$f":"N25","v":21121},{"$f":"COUNTIF(L83:L107,AI25)","v":2},null,null,null,{"$f":"N25","v":21121},{"$f":"COUNTIF(L108:L133,AN25)","v":1},null,null,null,{"$f":"N25","v":21121},{"$f":"COUNTIF(L134:L158,AS25)","v":0}]
[12,3067,24,3079,13,3090,23,3111,13,3124,0,12121,null,21122,{"$f":"COUNTIF($L$7:$L$500,N26)","v":1},{"$f":"O26/$Q$4","v":6.6225165562913907E-3},{"$f":"IF(P26=0,0,(P26*((LOG(P26))/LOG(2))))","v":-4.7936455227318403E-2},null,null,{"$f":"N26","v":21122},{"$f":"COUNTIF(L7:L31,T26)","v":0},{"$f":"U26/(W4-U25)","v":0},{"$f":"IF(V26=0,0,(V26*((LOG(V26))/LOG(2))))","v":0},null,{"$f":"N26","v":21122},{"$f":"COUNTIF(L32:L57,Y26)","v":0},{"$f":"Z26/(AB4-Z25)","v":0},{"$f":"IF(AA26=0,0,(AA26*((LOG(AA26))/LOG(2))))","v":0},null,{"$f":"N26","v":21122},{"$f":"COUNTIF(L58:L82,AD26)","v":0},{"$f":"AE26/(AG4-AE25)","v":0},{"$f":"IF(AF26=0,0,(AF26*((LOG(AF26))/LOG(2))))","v":0},null,{"$f":"N26","v":21122},{"$f":"COUNTIF(L83:L107,AI26)","v":1},{"$f":"AJ26/(AL4-AJ25)","v":4.3478260869565216E-2},{"$f":"IF(AK26=0,0,(AK26*((LOG(AK26))/LOG(2))))","v":-0.19667660678508753},null,{"$f":"N26","v":21122},{"$f":"COUNTIF(L108:L133,AN26)","v":0},{"$f":"AO26/(AQ4-AO25)","v":0},{"$f":"IF(AP26=0,0,(AP26*((LOG(AP26))/LOG(2))))","v":0},null,{"$f":"N26","v":21122},{"$f":"COUNTIF(L134:L158,AS26)","v":0},{"$f":"AT26/(AV4-AT25)","v":0},{"$f":"IF(AU26=0,0,(AU26*((LOG(AU26))/LOG(2))))","v":0}]
[12,3222,24,3235,13,3244,23,3257,24,3264,0,12122,null,21211,{"$f":"COUNTIF($L$7:$L$500,N27)","v":1},{"$f":"O27/$Q$4","v":6.6225165562913907E-3},{"$f":"IF(P27=0,0,(P27*((LOG(P27))/LOG(2))))","v":-4.7936455227318403E-2},null,null,{"$f":"N27","v":21211},{"$f":"COUNTIF(L7:L31,T27)","v":0},{"$f":"U27/(W4-U25)","v":0},{"$f":"IF(V27=0,0,(V27*((LOG(V27))/LOG(2))))","v":0},null,{"$f":"N27","v":21211},{"$f":"COUNTIF(L32:L57,Y27)","v":0},{"$f":"Z27/(AB4-Z25)","v":0},{"$f":"IF(AA27=0,0,(AA27*((LOG(AA27))/LOG(2))))","v":0},null,{"$f":"N27","v":21211},{"$f":"COUNTIF(L58:L82,AD27)","v":0},{"$f":"AE27/(AG4-AE25)","v":0},{"$f":"IF(AF27=0,0,(AF27*((LOG(AF27))/LOG(2))))","v":0},null,{"$f":"N27","v":21211},{"$f":"COUNTIF(L83:L107,AI27)","v":0},{"$f":"AJ27/(AL4-AJ25)","v":0},{"$f":"IF(AK27=0,0,(AK27*((LOG(AK27))/LOG(2))))","v":0},null,{"$f":"N27","v":21211},{"$f":"COUNTIF(L108:L133,AN27)","v":0},{"$f":"AO27/(AQ4-AO25)","v":0},{"$f":"IF(AP27=0,0,(AP27*((LOG(AP27))/LOG(2))))","v":0},null,{"$f":"N27","v":21211},{"$f":"COUNTIF(L134:L158,AS27)","v":1},{"$f":"AT27/(AV4-AT25)","v":4.1666666666666664E-2},{"$f":"IF(AU27=0,0,(AU27*((LOG(AU27))/LOG(2))))","v":-0.19104010419671485}]
[12,3398,24,3409,13,3424,23,3437,24,3448,0,12122,null,21212,{"$f":"COUNTIF($L$7:$L$500,N28)","v":18},{"$f":"O28/$Q$4","v":0.11920529801324503},{"$f":"IF(P28=0,0,(P28*((LOG(P28))/LOG(2))))","v":-0.36577904160191915},null,null,{"$f":"N28","v":21212},{"$f":"COUNTIF(L7:L31,T28)","v":3},{"$f":"U28/(W4-U25)","v":0.125},{"$f":"IF(V28=0,0,(V28*((LOG(V28))/LOG(2))))","v":-0.375},null,{"$f":"N28","v":21212},{"$f":"COUNTIF(L32:L57,Y28)","v":2},{"$f":"Z28/(AB4-Z25)","v":8.3333333333333329E-2},{"$f":"IF(AA28=0,0,(AA28*((LOG(AA28))/LOG(2))))","v":-0.29874687506009634},null,{"$f":"N28","v":21212},{"$f":"COUNTIF(L58:L82,AD28)","v":5},{"$f":"AE28/(AG4-AE25)","v":0.20833333333333334},{"$f":"IF(AF28=0,0,(AF28*((LOG(AF28))/LOG(2))))","v":-0.47146550121537367},null,{"$f":"N28","v":21212},{"$f":"COUNTIF(L83:L107,AI28)","v":3},{"$f":"AJ28/(AL4-AJ25)","v":0.13043478260869565},{"$f":"IF(AK28=0,0,(AK28*((LOG(AK28))/LOG(2))))","v":-0.3832955811307639},null,{"$f":"N28","v":21212},{"$f":"COUNTIF(L108:L133,AN28)","v":2},{"$f":"AO28/(AQ4-AO25)","v":0.08},{"$f":"IF(AP28=0,0,(AP28*((LOG(AP28))/LOG(2))))","v":-0.29150849518197797},null,{"$f":"N28","v":21212},{"$f":"COUNTIF(L134:L158,AS28)","v":3},{"$f":"AT28/(AV4-AT25)","v":0.125},{"$f":"IF(AU28=0,0,(AU28*((LOG(AU28))/LOG(2))))","v":-0.375}]
[12,3557,13,3573,24,3582,14,3595,24,3607,0,11212,null,21221,{"$f":"COUNTIF($L$7:$L$500,N29)","v":2},{"$f":"O29/$Q$4","v":1.3245033112582781E-2},{"$f":"IF(P29=0,0,(P29*((LOG(P29))/LOG(2))))","v":-8.2627877342054026E-2},null,null,{"$f":"N29","v":21221},{"$f":"COUNTIF(L7:L31,T29)","v":0},{"$f":"U29/(W4-U25)","v":0},{"$f":"IF(V29=0,0,(V29*((LOG(V29))/LOG(2))))","v":0},null,{"$f":"N29","v":21221},{"$f":"COUNTIF(L32:L57,Y29)","v":1},{"$f":"Z29/(AB4-Z25)","v":4.1666666666666664E-2},{"$f":"IF(AA29=0,0,(AA29*((LOG(AA29))/LOG(2))))","v":-0.19104010419671485},null,{"$f":"N29","v":21221},{"$f":"COUNTIF(L58:L82,AD29)","v":0},{"$f":"AE29/(AG4-AE25)","v":0},{"$f":"IF(AF29=0,0,(AF29*((LOG(AF29))/LOG(2))))","v":0},null,{"$f":"N29","v":21221},{"$f":"COUNTIF(L83:L107,AI29)","v":0},{"$f":"AJ29/(AL4-AJ25)","v":0},{"$f":"IF(AK29=0,0,(AK29*((LOG(AK29))/LOG(2))))","v":0},null,{"$f":"N29","v":21221},{"$f":"COUNTIF(L108:L133,AN29)","v":1},{"$f":"AO29/(AQ4-AO25)","v":0.04},{"$f":"IF(AP29=0,0,(AP29*((LOG(AP29))/LOG(2))))","v":-0.18575424759098899},null,{"$f":"N29","v":21221},{"$f":"COUNTIF(L134:L158,AS29)","v":0},{"$f":"AT29/(AV4-AT25)","v":0},{"$f":"IF(AU29=0,0,(AU29*((LOG(AU29))/LOG(2))))","v":0}]
[21,3728,11,3737,22,3746,14,3759,24,3797,0,21212,null,21222,{"$f":"COUNTIF($L$7:$L$500,N30)","v":0},{"$f":"O30/$Q$4","v":0},{"$f":"IF(P30=0,0,(P30*((LOG(P30))/LOG(2))))","v":0},null,null,{"$f":"N30","v":21222},{"$f":"COUNTIF(L7:L31,T30)","v":0},{"$f":"U30/(W4-U25)","v":0},{"$f":"IF(V30=0,0,(V30*((LOG(V30))/LOG(2))))","v":0},null,{"$f":"N30","v":21222},{"$f":"COUNTIF(L32:L57,Y30)","v":0},{"$f":"Z30/(AB4-Z25)","v":0},{"$f":"IF(AA30=0,0,(AA30*((LOG(AA30))/LOG(2))))","v":0},null,{"$f":"N30","v":21222},{"$f":"COUNTIF(L58:L82,AD30)","v":0},{"$f":"AE30/(AG4-AE25)","v":0},{"$f":"IF(AF30=0,0,(AF30*((LOG(AF30))/LOG(2))))","v":0},null,{"$f":"N30","v":21222},{"$f":"COUNTIF(L83:L107,AI30)","v":0},{"$f":"AJ30/(AL4-AJ25)","v":0},{"$f":"IF(AK30=0,0,(AK30*((LOG(AK30))/LOG(2))))","v":0},null,{"$f":"N30","v":21222},{"$f":"COUNTIF(L108:L133,AN30)","v":0},{"$f":"AO30/(AQ4-AO25)","v":0},{"$f":"IF(AP30=0,0,(AP30*((LOG(AP30))/LOG(2))))","v":0},null,{"$f":"N30","v":21222},{"$f":"COUNTIF(L134:L158,AS30)","v":0},{"$f":"AT30/(AV4-AT25)","v":0},{"$f":"IF(AU30=0,0,(AU30*((LOG(AU30))/LOG(2))))","v":0}]
[12,3906,24,3917,13,3928,23,3938,13,3950,0,12121,null,22111,{"$f":"COUNTIF($L$7:$L$500,N31)","v":0},{"$f":"O31/$Q$4","v":0},{"$f":"IF(P31=0,0,(P31*((LOG(P31))/LOG(2))))","v":0},null,null,{"$f":"N31","v":22111},{"$f":"COUNTIF(L7:L31,T31)","v":0},{"$f":"U31/(W4-U25)","v":0},{"$f":"IF(V31=0,0,(V31*((LOG(V31))/LOG(2))))","v":0},null,{"$f":"N31","v":22111},{"$f":"COUNTIF(L32:L57,Y31)","v":0},{"$f":"Z31/(AB4-Z25)","v":0},{"$f":"IF(AA31=0,0,(AA31*((LOG(AA31))/LOG(2))))","v":0},null,{"$f":"N31","v":22111},{"$f":"COUNTIF(L58:L82,AD31)","v":0},{"$f":"AE31/(AG4-AE25)","v":0},{"$f":"IF(AF31=0,0,(AF31*((LOG(AF31))/LOG(2))))","v":0},null,{"$f":"N31","v":22111},{"$f":"COUNTIF(L83:L107,AI31)","v":0},{"$f":"AJ31/(AL4-AJ25)","v":0},{"$f":"IF(AK31=0,0,(AK31*((LOG(AK31))/LOG(2))))","v":0},null,{"$f":"N31","v":22111},{"$f":"COUNTIF(L108:L133,AN31)","v":0},{"$f":"AO31/(AQ4-AO25)","v":0},{"$f":"IF(AP31=0,0,(AP31*((LOG(AP31))/LOG(2))))","v":0},null,{"$f":"N31","v":22111},{"$f":"COUNTIF(L134:L158,AS31)","v":0},{"$f":"AT31/(AV4-AT25)","v":0},{"$f":"IF(AU31=0,0,(AU31*((LOG(AU31))/LOG(2))))","v":0}]
[21,4052,11,4062,22,4071,14,4079,24,4092,0,21212,null,22112,{"$f":"COUNTIF($L$7:$L$500,N32)","v":0},{"$f":"O32/$Q$4","v":0},{"$f":"IF(P32=0,0,(P32*((LOG(P32))/LOG(2))))","v":0},null,null,{"$f":"N32","v":22112},{"$f":"COUNTIF(L7:L31,T32)","v":0},{"$f":"U32/(W4-U25)","v":0},{"$f":"IF(V32=0,0,(V32*((LOG(V32))/LOG(2))))","v":0},null,{"$f":"N32","v":22112},{"$f":"COUNTIF(L32:L57,Y32)","v":0},{"$f":"Z32/(AB4-Z25)","v":0},{"$f":"IF(AA32=0,0,(AA32*((LOG(AA32))/LOG(2))))","v":0},null,{"$f":"N32","v":22112},{"$f":"COUNTIF(L58:L82,AD32)","v":0},{"$f":"AE32/(AG4-AE25)","v":0},{"$f":"IF(AF32=0,0,(AF32*((LOG(AF32))/LOG(2))))","v":0},null,{"$f":"N32","v":22112},{"$f":"COUNTIF(L83:L107,AI32)","v":0},{"$f":"AJ32/(AL4-AJ25)","v":0},{"$f":"IF(AK32=0,0,(AK32*((LOG(AK32))/LOG(2))))","v":0},null,{"$f":"N32","v":22112},{"$f":"COUNTIF(L108:L133,AN32)","v":0},{"$f":"AO32/(AQ4-AO25)","v":0},{"$f":"IF(AP32=0,0,(AP32*((LOG(AP32))/LOG(2))))","v":0},null,{"$f":"N32","v":22112},{"$f":"COUNTIF(L134:L158,AS32)","v":0},{"$f":"AT32/(AV4-AT25)","v":0},{"$f":"IF(AU32=0,0,(AU32*((LOG(AU32))/LOG(2))))","v":0}]
[12,4259,24,4268,13,4281,23,4292,13,4305,0,12121,null,22121,{"$f":"COUNTIF($L$7:$L$500,N33)","v":3},{"$f":"O33/$Q$4","v":1.9867549668874173E-2},{"$f":"IF(P33=0,0,(P33*((LOG(P33))/LOG(2))))","v":-0.11232004447557463},null,null,{"$f":"N33","v":22121},{"$f":"COUNTIF(L7:L31,T33)","v":0},{"$f":"U33/(W4-U25)","v":0},{"$f":"IF(V33=0,0,(V33*((LOG(V33))/LOG(2))))","v":0},null,{"$f":"N33","v":22121},{"$f":"COUNTIF(L32:L57,Y33)","v":0},{"$f":"Z33/(AB4-Z25)","v":0},{"$f":"IF(AA33=0,0,(AA33*((LOG(AA33))/LOG(2))))","v":0},null,{"$f":"N33","v":22121},{"$f":"COUNTIF(L58:L82,AD33)","v":1},{"$f":"AE33/(AG4-AE25)","v":4.1666666666666664E-2},{"$f":"IF(AF33=0,0,(AF33*((LOG(AF33))/LOG(2))))","v":-0.19104010419671485},null,{"$f":"N33","v":22121},{"$f":"COUNTIF(L83:L107,AI33)","v":1},{"$f":"AJ33/(AL4-AJ25)","v":4.3478260869565216E-2},{"$f":"IF(AK33=0,0,(AK33*((LOG(AK33))/LOG(2))))","v":-0.19667660678508753},null,{"$f":"N33","v":22121},{"$f":"COUNTIF(L108:L133,AN33)","v":0},{"$f":"AO33/(AQ4-AO25)","v":0},{"$f":"IF(AP33=0,0,(AP33*((LOG(AP33))/LOG(2))))","v":0},null,{"$f":"N33","v":22121},{"$f":"COUNTIF(L134:L158,AS33)","v":1},{"$f":"AT33/(AV4-AT25)","v":4.1666666666666664E-2},{"$f":"IF(AU33=0,0,(AU33*((LOG(AU33))/LOG(2))))","v":-0.19104010419671485}]
[12,4424,13,4430,13,4447,14,4474,24,4496,0,11112,null,22122,{"$f":"COUNTIF($L$7:$L$500,N34)","v":2},{"$f":"O34/$Q$4","v":1.3245033112582781E-2},{"$f":"IF(P34=0,0,(P34*((LOG(P34))/LOG(2))))","v":-8.2627877342054026E-2},null,null,{"$f":"N34","v":22122},{"$f":"COUNTIF(L7:L31,T34)","v":0},{"$f":"U34/(W4-U25)","v":0},{"$f":"IF(V34=0,0,(V34*((LOG(V34))/LOG(2))))","v":0},null,{"$f":"N34","v":22122},{"$f":"COUNTIF(L32:L57,Y34)","v":0},{"$f":"Z34/(AB4-Z25)","v":0},{"$f":"IF(AA34=0,0,(AA34*((LOG(AA34))/LOG(2))))","v":0},null,{"$f":"N34","v":22122},{"$f":"COUNTIF(L58:L82,AD34)","v":1},{"$f":"AE34/(AG4-AE25)","v":4.1666666666666664E-2},{"$f":"IF(AF34=0,0,(AF34*((LOG(AF34))/LOG(2))))","v":-0.19104010419671485},null,{"$f":"N34","v":22122},{"$f":"COUNTIF(L83:L107,AI34)","v":0},{"$f":"AJ34/(AL4-AJ25)","v":0},{"$f":"IF(AK34=0,0,(AK34*((LOG(AK34))/LOG(2))))","v":0},null,{"$f":"N34","v":22122},{"$f":"COUNTIF(L108:L133,AN34)","v":0},{"$f":"AO34/(AQ4-AO25)","v":0},{"$f":"IF(AP34=0,0,(AP34*((LOG(AP34))/LOG(2))))","v":0},null,{"$f":"N34","v":22122},{"$f":"COUNTIF(L134:L158,AS34)","v":1},{"$f":"AT34/(AV4-AT25)","v":4.1666666666666664E-2},{"$f":"IF(AU34=0,0,(AU34*((LOG(AU34))/LOG(2))))","v":-0.19104010419671485}]
[21,4630,11,4644,22,4657,23,4686,13,4699,0,21221,null,22211,{"$f":"COUNTIF($L$7:$L$500,N35)","v":0},{"$f":"O35/$Q$4","v":0},{"$f":"IF(P35=0,0,(P35*((LOG(P35))/LOG(2))))","v":0},null,null,{"$f":"N35","v":22211},{"$f":"COUNTIF(L7:L31,T35)","v":0},{"$f":"U35/(W4-U25)","v":0},{"$f":"IF(V35=0,0,(V35*((LOG(V35))/LOG(2))))","v":0},null,{"$f":"N35","v":22211},{"$f":"COUNTIF(L32:L57,Y35)","v":0},{"$f":"Z35/(AB4-Z25)","v":0},{"$f":"IF(AA35=0,0,(AA35*((LOG(AA35))/LOG(2))))","v":0},null,{"$f":"N35","v":22211},{"$f":"COUNTIF(L58:L82,AD35)","v":0},{"$f":"AE35/(AG4-AE25)","v":0},{"$f":"IF(AF35=0,0,(AF35*((LOG(AF35))/LOG(2))))","v":0},null,{"$f":"N35","v":22211},{"$f":"COUNTIF(L83:L107,AI35)","v":0},{"$f":"AJ35/(AL4-AJ25)","v":0},{"$f":"IF(AK35=0,0,(AK35*((LOG(AK35))/LOG(2))))","v":0},null,{"$f":"N35","v":22211},{"$f":"COUNTIF(L108:L133,AN35)","v":0},{"$f":"AO35/(AQ4-AO25)","v":0},{"$f":"IF(AP35=0,0,(AP35*((LOG(AP35))/LOG(2))))","v":0},null,{"$f":"N35","v":22211},{"$f":"COUNTIF(L134:L158,AS35)","v":0},{"$f":"AT35/(AV4-AT25)","v":0},{"$f":"IF(AU35=0,0,(AU35*((LOG(AU35))/LOG(2))))","v":0}]
[12,4812,13,4822,24,4830,23,4854,13,4866,0,11221,null,22212,{"$f":"COUNTIF($L$7:$L$500,N36)","v":0},{"$f":"O36/$Q$4","v":0},{"$f":"IF(P36=0,0,(P36*((LOG(P36))/LOG(2))))","v":0},null,null,{"$f":"N36","v":22212},{"$f":"COUNTIF(L7:L31,T36)","v":0},{"$f":"U36/(W4-U25)","v":0},{"$f":"IF(V36=0,0,(V36*((LOG(V36))/LOG(2))))","v":0},null,{"$f":"N36","v":22212},{"$f":"COUNTIF(L32:L57,Y36)","v":0},{"$f":"Z36/(AB4-Z25)","v":0},{"$f":"IF(AA36=0,0,(AA36*((LOG(AA36))/LOG(2))))","v":0},null,{"$f":"N36","v":22212},{"$f":"COUNTIF(L58:L82,AD36)","v":0},{"$f":"AE36/(AG4-AE25)","v":0},{"$f":"IF(AF36=0,0,(AF36*((LOG(AF36))/LOG(2))))","v":0},null,{"$f":"N36","v":22212},{"$f":"COUNTIF(L83:L107,AI36)","v":0},{"$f":"AJ36/(AL4-AJ25)","v":0},{"$f":"IF(AK36=0,0,(AK36*((LOG(AK36))/LOG(2))))","v":0},null,{"$f":"N36","v":22212},{"$f":"COUNTIF(L108:L133,AN36)","v":0},{"$f":"AO36/(AQ4-AO25)","v":0},{"$f":"IF(AP36=0,0,(AP36*((LOG(AP36))/LOG(2))))","v":0},null,{"$f":"N36","v":22212},{"$f":"COUNTIF(L134:L158,AS36)","v":0},{"$f":"AT36/(AV4-AT25)","v":0},{"$f":"IF(AU36=0,0,(AU36*((LOG(AU36))/LOG(2))))","v":0}]
[12,4978,13,4986,13,4993,23,5005,13,5016,0,11121,null,22221,{"$f":"COUNTIF($L$7:$L$500,N37)","v":0},{"$f":"O37/$Q$4","v":0},{"$f":"IF(P37=0,0,(P37*((LOG(P37))/LOG(2))))","v":0},null,null,{"$f":"N37","v":22221},{"$f":"COUNTIF(L7:L31,T37)","v":0},{"$f":"U37/(W4-U25)","v":0},{"$f":"IF(V37=0,0,(V37*((LOG(V37))/LOG(2))))","v":0},null,{"$f":"N37","v":22221},{"$f":"COUNTIF(L32:L57,Y37)","v":0},{"$f":"Z37/(AB4-Z25)","v":0},{"$f":"IF(AA37=0,0,(AA37*((LOG(AA37))/LOG(2))))","v":0},null,{"$f":"N37","v":22221},{"$f":"COUNTIF(L58:L82,AD37)","v":0},{"$f":"AE37/(AG4-AE25)","v":0},{"$f":"IF(AF37=0,0,(AF37*((LOG(AF37))/LOG(2))))","v":0},null,{"$f":"N37","v":22221},{"$f":"COUNTIF(L83:L107,AI37)","v":0},{"$f":"AJ37/(AL4-AJ25)","v":0},{"$f":"IF(AK37=0,0,(AK37*((LOG(AK37))/LOG(2))))","v":0},null,{"$f":"N37","v":22221},{"$f":"COUNTIF(L108:L133,AN37)","v":0},{"$f":"AO37/(AQ4-AO25)","v":0},{"$f":"IF(AP37=0,0,(AP37*((LOG(AP37))/LOG(2))))","v":0},null,{"$f":"N37","v":22221},{"$f":"COUNTIF(L134:L158,AS37)","v":0},{"$f":"AT37/(AV4-AT25)","v":0},{"$f":"IF(AU37=0,0,(AU37*((LOG(AU37))/LOG(2))))","v":0}]
[12,5117,13,5125,13,5130,14,5135,13,5142,0,11111,null,22222,{"$f":"COUNTIF($L$7:$L$500,N38)","v":0},{"$f":"O38/$Q$4","v":0},{"$f":"IF(P38=0,0,(P38*((LOG(P38))/LOG(2))))","v":0},null,null,{"$f":"N38","v":22222},{"$f":"COUNTIF(L7:L31,T38)","v":0},{"$f":"U38/(W4-U25)","v":0},{"$f":"IF(V38=0,0,(V38*((LOG(V38))/LOG(2))))","v":0},null,{"$f":"N38","v":22222},{"$f":"COUNTIF(L32:L57,Y38)","v":0},{"$f":"Z38/(AB4-Z25)","v":0},{"$f":"IF(AA38=0,0,(AA38*((LOG(AA38))/LOG(2))))","v":0},null,{"$f":"N38","v":22222},{"$f":"COUNTIF(L58:L82,AD38)","v":0},{"$f":"AE38/(AG4-AE25)","v":0},{"$f":"IF(AF38=0,0,(AF38*((LOG(AF38))/LOG(2))))","v":0},null,{"$f":"N38","v":22222},{"$f":"COUNTIF(L83:L107,AI38)","v":0},{"$f":"AJ38/(AL4-AJ25)","v":0},{"$f":"IF(AK38=0,0,(AK38*((LOG(AK38))/LOG(2))))","v":0},null,{"$f":"N38","v":22222},{"$f":"COUNTIF(L108:L133,AN38)","v":0},{"$f":"AO38/(AQ4-AO25)","v":0},{"$f":"IF(AP38=0,0,(AP38*((LOG(AP38))/LOG(2))))","v":0},null,{"$f":"N38","v":22222},{"$f":"COUNTIF(L134:L158,AS38)","v":0},{"$f":"AT38/(AV4-AT25)","v":0},{"$f":"IF(AU38=0,0,(AU38*((LOG(AU38))/LOG(2))))","v":0}]
[21,5296,11,5309,22,5318,14,5330,24,5339,0,21212,null,null,null,{"$f":"SUM(P7:P38)","v":1.0000000000000002},{"$f":"-SUM(Q7:Q38)","v":3.611394181684342},null,null,null,null,{"$f":"SUM(V7:V38)","v":0.99999999999999989},{"$f":"-SUM(W7:W38)","v":2.5697738350294776},null,null,null,{"$f":"SUM(AA7:AA38)","v":1},{"$f":"-SUM(AB7:AB38)","v":3.1887218755408675},null,null,null,{"$f":"SUM(AF7:AF38)","v":1},{"$f":"-SUM(AG7:AG38)","v":3.0697738350294781},null,null,null,{"$f":"SUM(AK7:AK38)","v":0.99999999999999989},{"$f":"-SUM(AL7:AL38)","v":2.9638096525384383},null,null,null,{"$f":"SUM(AP7:AP38)","v":1},{"$f":"-SUM(AQ7:AQ38)","v":2.2396275363413567},null,null,null,{"$f":"SUM(AU7:AU38)","v":0.99999999999999989},{"$f":"-SUM(AV7:AV38)","v":3.4549868557726673}]
[12,5444,24,5453,13,5463,14,5488,24,5501,0,12112,null,null,null,"U=",{"$f":"Q39/(LOG(Q4)/LOG(2))","v":0.49892128331318963},null,null,null,null,"U1=",{"$f":"W39/(LOG(W4)/LOG(2))","v":0.55337067514877936},null,null,null,"U2=",{"$f":"AB39/(LOG(AB4)/LOG(2))","v":0.67838799490059809},null,null,null,"U3=",{"$f":"AG39/(LOG(AG4)/LOG(2))","v":0.66103981466712769},null,null,null,"U4=",{"$f":"AL39/(LOG(AL4)/LOG(2))","v":0.63822166996997676},null,null,null,"U5=",{"$f":"AQ39/(LOG(AQ4)/LOG(2))","v":0.47647191978606512},null,null,null,"U6=",{"$f":"AV39/(LOG(AV4)/LOG(2))","v":0.75354746199761546}]
[12,5609,24,5618,13,5628,23,5641,13,5653,0,12121]
[12,5759,24,5771,13,5779,23,5791,24,5835,0,12122]
[21,5957,11,5966,11,5971,12,5982,24,5994,0,21112,null,"Total Target Seq"]
[21,6166,11,6179,11,6188,21,6200,11,6215,1,21121,null,{"$f":"COUNTIF(L7:L158,G3)","v":7},null,25,26,25,25,26,25]
[12,6304,13,6321,24,6330,14,6354,24,6366,0,11212,null,null,null,"% of reinforcement given in 6 equal intervals based on number of trials "]
[12,6463,13,6470,24,6483,14,6497,24,6509,0,11212,null,null,null,"%_1","%_2","%_3","%_4","%_5","%_6"]
[12,6609,24,6626,13,6639,23,6648,13,6660,0,12121,null,null,"target sequence",{"$f":"$G$3","v":21121},{"$f":"$G$3","v":21121},{"$f":"$G$3","v":21121},{"$f":"$G$3","v":21121},{"$f":"$G$3","v":21121},{"$f":"$G$3","v":21121}]
[12,6757,13,6763,13,6782,23,6795,13,6810,0,11121,null,null,"total reinforcement",{"$f":"U25","v":1},{"$f":"Z25","v":2},{"$f":"AE25","v":1},{"$f":"AJ25","v":2},{"$f":"AO25","v":1},{"$f":"AT25","v":0}]
[21,6918,11,6928,11,6937,12,6971,24,6983,0,21112,null,null,"% target"]
[21,7082,11,7091,11,7099,21,7108,11,7118,1,21121,null,null,"CCRF"]
[12,7212,13,7234,24,7243,23,7262,13,7285,0,11221,null,null,"% CCRf"]
[12,7387,24,7399,13,7409,23,7456,24,7465,0,12122,null,null,"average response rate",{"$f":"J31/P44","v":158},{"$f":"(J57-J31)/Q44","v":165.73076923076923},{"$f":"(J82-J57)/R44","v":155.80000000000001},{"$f":"(J107-J82)/S44","v":157.32},{"$f":"(J133-J107)/T44","v":151.38461538461539},{"$f":"(J158-J133)/U44","v":-800.92}]
[12,7564,13,7588,24,7601,14,7618,24,7631,0,11212]
[12,7731,13,7745,24,7756,14,7768,24,7780,0,11212]
[12,7885,13,7902,24,7927,14,7945,24,7957,0,11212]
[12,8060,13,8077,24,8091,14,8103,24,8114,0,11212]
[12,8217,24,8226,13,8236,23,8245,13,8259,0,12121]
[12,8357,24,8372,13,8384,23,8398,24,8407,0,12122]
[12,8506,13,8514,24,8524,14,8535,24,8548,0,11212]
[21,8648,22,8657,13,8670,23,8678,13,8692,0,22121]
[12,8791,24,8801,13,8813,23,8821,24,8830,0,12122]
[21,8943,22,8966,13,8980,23,8993,24,9002,0,22122]
[12,9100,13,9119,24,9130,23,9153,24,9161,0,11222]
[12,9260,24,9285,13,9294,23,9303,13,9320,0,12121]
[12,9417,13,9428,24,9437,14,9445,13,9472,0,11211]
[12,9603,24,9612,13,9620,23,9630,13,9644,0,12121]
[21,9756,11,9765,22,9774,14,9786,24,9798,0,21212]
[21,9930,11,9941,22,9951,14,9964,24,9976,0,21212]
[21,10090,11,10099,22,10113,14,10126,24,10140,0,21212]
[12,10237,13,10250,13,10259,23,10274,24,10304,0,11122]
[21,10411,11,10419,11,10424,21,10438,11,10448,1,21121]
[21,10556,11,10567,22,10579,14,10596,24,10608,0,21212]
[12,10713,13,10718,24,10731,14,10744,24,10756,0,11212]
[12,10862,24,10873,13,10884,23,10893,24,10901,0,12122]
[12,11000,13,11005,13,11013,23,11027,13,11037,0,11121]
[12,11133,13,11156,24,11169,14,11178,24,11192,0,11212]
[12,11291,13,11295,24,11308,14,11322,13,11332,0,11211]
[12,11443,24,11452,13,11462,23,11472,13,11488,0,12121]
[12,11588,24,11597,13,11609,23,11617,13,11629,0,12121]
[21,11729,11,11782,22,11810,14,11830,24,11842,0,21212]
[12,11942,13,11952,13,11973,23,11986,13,11998,0,11121]
[12,12102,13,12120,24,12129,14,12141,24,12154,0,11212]
[21,12255,22,12265,13,12278,23,12287,13,12330,0,22121]
[12,12428,13,12434,24,12450,14,12460,24,12474,0,11212]
[12,12624,13,12642,24,12657,14,12672,24,12686,0,11212]
[12,12790,24,12798,13,12808,14,12832,24,12845,0,12112]
[12,12948,13,12954,24,12967,14,12975,24,12991,0,11212]
[12,13092,24,13104,13,13128,14,13138,24,13152,0,12112]
[12,13266,13,13278,13,13296,23,13304,13,13318,0,11121]
[21,13418,11,13427,22,13435,14,13444,24,13456,0,21212]
[21,13559,11,13571,11,13579,21,13588,11,13600,1,21121]
[12,13701,13,13724,24,13736,23,13745,24,13756,0,11222]
[12,13853,24,13867,13,13875,23,13887,13,13901,0,12121]
[12,13998,24,14011,13,14023,23,14036,24,14063,0,12122]
[21,14174,11,14183,22,14192,14,14208,24,14220,0,21212]
[12,14322,24,14333,13,14344,23,14352,13,14365,0,12121]
[12,14467,13,14485,24,14498,14,14510,24,14522,0,11212]
[12,14624,24,14636,13,14648,23,14664,13,14676,0,12121]
[12,14786,13,14814,24,14823,14,14837,24,14850,0,11212]
[21,14948,11,14960,11,15017,21,15027,11,15063,1,21121]
[12,15152,24,15161,13,15173,23,15184,13,15200,0,12121]
[12,15296,13,15297,13,15306,23,15319,13,15332,0,11121]
[12,15431,24,15445,13,15454,23,15466,13,15476,0,12121]
[21,15587,11,15597,11,15606,21,15619,22,15627,0,21122]
[21,15735,11,15744,22,15756,14,15768,24,15779,0,21212]
[12,15882,24,15892,13,15901,23,15913,13,15926,0,12121]
[12,16032,13,16038,13,16048,14,16073,24,16087,0,11112]
[12,16185,24,16198,13,16208,23,16217,13,16229,0,12121]
[12,16330,24,16341,13,16349,23,16371,13,16385,0,12121]
[12,16488,24,16501,13,16512,23,16525,13,16539,0,12121]
[12,16642,24,16652,13,16661,23,16672,13,16685,0,12121]
[12,16785,13,16799,24,16823,23,16837,13,16853,0,11221]
[12,16951,24,16962,13,16973,23,16983,13,16998,0,12121]
[12,17097,13,17105,24,17118,14,17127,13,17137,0,11211]
[12,17251,13,17265,24,17280,14,17293,24,17306,0,11212]
[12,17419,24,17431,13,17440,23,17449,13,17461,0,12121]
[21,17563,11,17578,22,17586,23,17612,13,17626,0,21221]
[21,17726,11,17736,22,17745,14,17758,24,17771,0,21212]
[12,17898,24,17910,13,17923,23,17932,24,17941,0,12122]
[21,18064,11,18073,11,18083,21,18093,11,18106,1,21121]
[12,18217,24,18227,13,18239,23,18249,13,18262,0,12121]
[12,18362,24,18375,13,18383,14,18392,24,18401,0,12112]
[12,18496,13,18514,24,18523,14,18533,24,18545,0,11212]
[12,18647,24,18661,13,18672,23,18681,13,18694,0,12121]
[12,18798,24,18808,13,18820,23,18831,13,18843,0,12121]
[12,18940,13,18950,24,18969,14,18977,13,18986,0,11211]
[12,19100,24,19110,13,19122,23,19134,13,19146,0,12121]
[12,19250,24,19256,13,19267,23,19277,13,19294,0,12121]
[12,19399,13,19407,24,19417,14,19429,24,19441,0,11212]
[21,19539,11,19549,22,19557,14,19566,24,19577,0,21212]
[12,19685,13,19692,24,19702,14,19715,24,19728,0,11212]
[12,19833,24,19841,13,19854,23,19865,13,19881,0,12121]
[12,19979,24,19989,13,19999,23,20009,13,20023,0,12121]
[12,20124,24,20135,13,20143,14,20152,13,20162,0,12111]
[12,20271,24,20279,13,20292,23,20301,24,20320,0,12122]
[21,20426,22,20435,13,20455,23,20468,24,20478,0,22122]
[12,20575,13,20583,13,20588,14,20596,24,20607,0,11112]
[12,20707,13,20713,24,20726,14,20738,24,20752,0,11212]
[21,20853,11,20862,11,20867,12,20880,24,20893,0,21112]
[21,21004,11,21012,22,21024,14,21034,13,21043,0,21211]
[21,21151,11,21169,22,21180,14,21193,24,21205,0,21212]
[21,21317,11,21328,22,21341,14,21355,24,21369,0,21212]
[12,21470,24,21479,13,21488,23,21497,13,21509,0,12121]
[12,21617,24,21628,13,21637,23,21647,13,21658,0,12121]
[12,21777,24,21786,13,21798,14,21807,24,21822,0,12112]
[21,21919,11,21927,22,21936,14,21953,24,21965,0,21212]
[21,22066,11,22077,11,22083,12,22090,24,22110,0,21112]
[21,22213,11,22227,11,22233,12,22239,24,22252,0,21112]
[21,22384,22,22402,13,22415,23,22429,13,22442,0,22121]
[12,22561,24,22570,13,22578,14,22595,24,22609,0,12112]
[12,22718,24,22727,13,22735,14,22743,24,22763,0,12112]
[12,22947,13,22958,24,22975,14,22989,13,22998,0,11211]
[12,23104,13,23109,13,23114,14,23123,24,23137,0,11112]
[12,23279,13,23301,13,23309,14,23318,13,23339,0,11111]
[12,23496,13,23501,13,23506,14,23520,13,23529,0,11111]
[21,23630,11,23645,11,23660,12,23668,24,23681,0,21112]
[21,23819,11,23827,11,23843,12,23854,24,23867,0,21112]
[21,23996,null,null,null,null,null,null,null,null,null,2]

{"sheet":"!N125840.091","index":8,"n_rows":162,"n_cols":48,"rows_kept":162,"cut":false,"hidden":false,"merged":[[4,39,4,42],[5,39,5,40],[4,44,4,47],[5,44,5,45],[4,24,4,27],[5,24,5,25],[4,29,4,32],[5,29,5,30],[4,34,4,37],[5,34,5,35],[1,1,1,2],[5,13,5,14],[42,13,42,14],[43,13,43,14],[4,19,4,22],[5,19,5,20]]}
["Report for:!N125840.091"]
["Date:","<date>"]
["Hen:","<hen>",null,null,null,"Correct Sequence",{"$f":"Start!J2","v":21121},null,null,null,null,null,null,null,null,"Total Sequences in Data",{"$f":"4994-COUNTBLANK(L7:L5000)","v":156},null,null,null,null,"Total Sequences in Block Data",{"$f":"COUNTA(L7:L32)","v":26},null,null,null,"Total Sequences in Block Data",{"$f":"COUNTA(L33:L58)","v":26},null,null,null,"Total Sequences in Block Data",{"$f":"COUNTA(L59:L84)","v":26},null,null,null,"Total Sequences in Block Data",{"$f":"COUNTA(L85:L110)","v":26},null,null,null,"Total Sequences in Block Data",{"$f":"COUNTA(L111:L136)","v":26},null,null,null,"Total Sequences in Block Data",{"$f":"COUNTA(L137:L162)","v":26}]
[null,null,null,null,null,null,null,null,null,null,null,null,null,null,null,"Total Sequences in Summary",{"$f":"SUM(O7:O38)","v":156},null,null,null,null,"Total Sequences in Block Summary",{"$f":"SUM(U7:U38)","v":26},null,null,null,"Total Sequences in Block Summary",{"$f":"SUM(Z7:Z38)","v":26},null,null,null,"Total Sequences in Block Summary",{"$f":"SUM(AE7:AE38)","v":26},null,null,null,"Total Sequences in Block Summary",{"$f":"SUM(AJ7:AJ38)","v":26},null,null,null,"Total Sequences in Block Summary",{"$f":"SUM(AO7:AO38)","v":26},null,null,null,"Total Sequences in Block Summary",{"$f":"SUM(AT7:AT38)","v":26}]
[null,null,null,null,null,null,null,null,null,null,null,null,null,null,null,null,null,null,null,"Block 1",null,null,null,null,"Block 2",null,null,null,null,"Block 3",null,null,null,null,"Block 4",null,null,null,null,"Block 5",null,null,null,null,"Block 6"]
["Sequence\nComponent\n1","Time\n1","Sequence\nComponent\n2","Time\n2","Sequence\nComponent\n3","Time\n3","Sequence\nComponent\n4","Time\n4","Sequence\nComponent\n5","Time\n5","Correct?\n0=No 1=Yes","Sequence",null,"Frequency",null,"Relative Frequency","Variability",null,null,"Frequency",null,"Relative Frequency","Variability",null,"Frequency",null,"Relative Frequency","Variability",null,"Frequency",null,"Relative Frequency","Variability",null,"Frequency",null,"Relative Frequency","Variability",null,"Frequency",null,"Relative Frequency","Variability",null,"Frequency",null,"Relative Frequency","Variability"]
[12,13,24,23,13,37,23,49,13,63,0,12121,null,11111,{"$f":"COUNTIF($L$7:$L$500,N7)","v":19},{"$f":"O7/$Q$4","v":0.12179487179487179},{"$f":"IF(P7=0,0,(P7*((LOG(P7))/LOG(2))))","v":-0.369948842326632},null,null,{"$f":"N7","v":11111},{"$f":"COUNTIF(L7:L32,T7)","v":4},{"$f":"U7/(W4-U25)","v":0.16666666666666666},{"$f":"IF(V7=0,0,(V7*((LOG(V7))/LOG(2))))","v":-0.43082708345352599},null,{"$f":"N7","v":11111},{"$f":"COUNTIF(L33:L58,Y7)","v":3},{"$f":"Z7/(AB4-Z25)","v":0.125},{"$f":"IF(AA7=0,0,(AA7*((LOG(AA7))/LOG(2))))","v":-0.375},null,{"$f":"N7","v":11111},{"$f":"COUNTIF(L59:L84,AD7)","v":5},{"$f":"AE7/(AG4-AE25)","v":0.2},{"$f":"IF(AF7=0,0,(AF7*((LOG(AF7))/LOG(2))))","v":-0.46438561897747244},null,{"$f":"N7","v":11111},{"$f":"COUNTIF(L85:L110,AI7)","v":2},{"$f":"AJ7/(AL4-AJ25)","v":0.08},{"$f":"IF(AK7=0,0,(AK7*((LOG(AK7))/LOG(2))))","v":-0.29150849518197797},null,{"$f":"N7","v":11111},{"$f":"COUNTIF(L111:L136,AN7)","v":4},{"$f":"AO7/(AQ4-AO25)","v":0.15384615384615385},{"$f":"IF(AP7=0,0,(AP7*((LOG(AP7))/LOG(2))))","v":-0.4154522643293988},null,{"$f":"N7","v":11111},{"$f":"COUNTIF(L137:L162,AS7)","v":1},{"$f":"AT7/(AV4-AT25)","v":0.04},{"$f":"IF(AU7=0,0,(AU7*((LOG(AU7))/LOG(2))))","v":-0.18575424759098899}]
[12,170,24,179,13,190,23,200,13,212,0,12121,null,11112,{"$f":"COUNTIF($L$7:$L$500,N8)","v":11},{"$f":"O8/$Q$4","v":7.0512820512820512E-2},{"$f":"IF(P8=0,0,(P8*((LOG(P8))/LOG(2))))","v":-0.26977997822099015},null,null,{"$f":"N8","v":11112},{"$f":"COUNTIF(L7:L32,T8)","v":1},{"$f":"U8/(W4-U25)","v":4.1666666666666664E-2},{"$f":"IF(V8=0,0,(V8*((LOG(V8))/LOG(2))))","v":-0.19104010419671485},null,{"$f":"N8","v":11112},{"$f":"COUNTIF(L33:L58,Y8)","v":6},{"$f":"Z8/(AB4-Z25)","v":0.25},{"$f":"IF(AA8=0,0,(AA8*((LOG(AA8))/LOG(2))))","v":-0.5},null,{"$f":"N8","v":11112},{"$f":"COUNTIF(L59:L84,AD8)","v":3},{"$f":"AE8/(AG4-AE25)","v":0.12},{"$f":"IF(AF8=0,0,(AF8*((LOG(AF8))/LOG(2))))","v":-0.36706724268642821},null,{"$f":"N8","v":11112},{"$f":"COUNTIF(L85:L110,AI8)","v":0},{"$f":"AJ8/(AL4-AJ25)","v":0},{"$f":"IF(AK8=0,0,(AK8*((LOG(AK8))/LOG(2))))","v":0},null,{"$f":"N8","v":11112},{"$f":"COUNTIF(L111:L136,AN8)","v":0},{"$f":"AO8/(AQ4-AO25)","v":0},{"$f":"IF(AP8=0,0,(AP8*((LOG(AP8))/LOG(2))))","v":0},null,{"$f":"N8","v":11112},{"$f":"COUNTIF(L137:L162,AS8)","v":1},{"$f":"AT8/(AV4-AT25)","v":0.04},{"$f":"IF(AU8=0,0,(AU8*((LOG(AU8))/LOG(2))))","v":-0.18575424759098899}]
[12,328,24,337,13,355,23,367,13,392,0,12121,null,11121,{"$f":"COUNTIF($L$7:$L$500,N9)","v":20},{"$f":"O9/$Q$4","v":0.12820512820512819},{"$f":"IF(P9=0,0,(P9*((LOG(P9))/LOG(2))))","v":-0.37993257999678021},null,null,{"$f":"N9","v":11121},{"$f":"COUNTIF(L7:L32,T9)","v":4},{"$f":"U9/(W4-U25)","v":0.16666666666666666},{"$f":"IF(V9=0,0,(V9*((LOG(V9))/LOG(2))))","v":-0.43082708345352599},null,{"$f":"N9","v":11121},{"$f":"COUNTIF(L33:L58,Y9)","v":5},{"$f":"Z9/(AB4-Z25)","v":0.20833333333333334},{"$f":"IF(AA9=0,0,(AA9*((LOG(AA9))/LOG(2))))","v":-0.47146550121537367},null,{"$f":"N9","v":11121},{"$f":"COUNTIF(L59:L84,AD9)","v":3},{"$f":"AE9/(AG4-AE25)","v":0.12},{"$f":"IF(AF9=0,0,(AF9*((LOG(AF9))/LOG(2))))","v":-0.36706724268642821},null,{"$f":"N9","v":11121},{"$f":"COUNTIF(L85:L110,AI9)","v":4},{"$f":"AJ9/(AL4-AJ25)","v":0.16},{"$f":"IF(AK9=0,0,(AK9*((LOG(AK9))/LOG(2))))","v":-0.42301699036395596},null,{"$f":"N9","v":11121},{"$f":"COUNTIF(L111:L136,AN9)","v":4},{"$f":"AO9/(AQ4-AO25)","v":0.15384615384615385},{"$f":"IF(AP9=0,0,(AP9*((LOG(AP9))/LOG(2))))","v":-0.4154522643293988},null,{"$f":"N9","v":11121},{"$f":"COUNTIF(L137:L162,AS9)","v":0},{"$f":"AT9/(AV4-AT25)","v":0},{"$f":"IF(AU9=0,0,(AU9*((LOG(AU9))/LOG(2))))","v":0}]
[21,495,11,509,11,523,21,536,11,548,1,21121,null,11122,{"$f":"COUNTIF($L$7:$L$500,N10)","v":0},{"$f":"O10/$Q$4","v":0},{"$f":"IF(P10=0,0,(P10*((LOG(P10))/LOG(2))))","v":0},null,null,{"$f":"N10","v":11122},{"$f":"COUNTIF(L7:L32,T10)","v":0},{"$f":"U10/(W4-U25)","v":0},{"$f":"IF(V10=0,0,(V10*((LOG(V10))/LOG(2))))","v":0},null,{"$f":"N10","v":11122},{"$f":"COUNTIF(L33:L58,Y10)","v":0},{"$f":"Z10/(AB4-Z25)","v":0},{"$f":"IF(AA10=0,0,(AA10*((LOG(AA10))/LOG(2))))","v":0},null,{"$f":"N10","v":11122},{"$f":"COUNTIF(L59:L84,AD10)","v":0},{"$f":"AE10/(AG4-AE25)","v":0},{"$f":"IF(AF10=0,0,(AF10*((LOG(AF10))/LOG(2))))","v":0},null,{"$f":"N10","v":11122},{"$f":"COUNTIF(L85:L110,AI10)","v":0},{"$f":"AJ10/(AL4-AJ25)","v":0},{"$f":"IF(AK10=0,0,(AK10*((LOG(AK10))/LOG(2))))","v":0},null,{"$f":"N10","v":11122},{"$f":"COUNTIF(L111:L136,AN10)","v":0},{"$f":"AO10/(AQ4-AO25)","v":0},{"$f":"IF(AP10=0,0,(AP10*((LOG(AP10))/LOG(2))))","v":0},null,{"$f":"N10","v":11122},{"$f":"COUNTIF(L137:L162,AS10)","v":0},{"$f":"AT10/(AV4-AT25)","v":0},{"$f":"IF(AU10=0,0,(AU10*((LOG(AU10))/LOG(2))))","v":0}]
[12,642,24,652,13,665,23,674,13,685,0,12121,null,11211,{"$f":"COUNTIF($L$7:$L$500,N11)","v":6},{"$f":"O11/$Q$4","v":3.8461538461538464E-2},{"$f":"IF(P11=0,0,(P11*((LOG(P11))/LOG(2))))","v":-0.18078614300542661},null,null,{"$f":"N11","v":11211},{"$f":"COUNTIF(L7:L32,T11)","v":4},{"$f":"U11/(W4-U25)","v":0.16666666666666666},{"$f":"IF(V11=0,0,(V11*((LOG(V11))/LOG(2))))","v":-0.43082708345352599},null,{"$f":"N11","v":11211},{"$f":"COUNTIF(L33:L58,Y11)","v":2},{"$f":"Z11/(AB4-Z25)","v":8.3333333333333329E-2},{"$f":"IF(AA11=0,0,(AA11*((LOG(AA11))/LOG(2))))","v":-0.29874687506009634},null,{"$f":"N11","v":11211},{"$f":"COUNTIF(L59:L84,AD11)","v":0},{"$f":"AE11/(AG4-AE25)","v":0},{"$f":"IF(AF11=0,0,(AF11*((LOG(AF11))/LOG(2))))","v":0},null,{"$f":"N11","v":11211},{"$f":"COUNTIF(L85:L110,AI11)","v":0},{"$f":"AJ11/(AL4-AJ25)","v":0},{"$f":"IF(AK11=0,0,(AK11*((LOG(AK11))/LOG(2))))","v":0},null,{"$f":"N11","v":11211},{"$f":"COUNTIF(L111:L136,AN11)","v":0},{"$f":"AO11/(AQ4-AO25)","v":0},{"$f":"IF(AP11=0,0,(AP11*((LOG(AP11))/LOG(2))))","v":0},null,{"$f":"N11","v":11211},{"$f":"COUNTIF(L137:L162,AS11)","v":0},{"$f":"AT11/(AV4-AT25)","v":0},{"$f":"IF(AU11=0,0,(AU11*((LOG(AU11))/LOG(2))))","v":0}]
[12,785,13,794,24,805,14,818,24,830,0,11212,null,11212,{"$f":"COUNTIF($L$7:$L$500,N12)","v":7},{"$f":"O12/$Q$4","v":4.4871794871794872E-2},{"$f":"IF(P12=0,0,(P12*((LOG(P12))/LOG(2))))","v":-0.20093801972841352},null,null,{"$f":"N12","v":11212},{"$f":"COUNTIF(L7:L32,T12)","v":3},{"$f":"U12/(W4-U25)","v":0.125},{"$f":"IF(V12=0,0,(V12*((LOG(V12))/LOG(2))))","v":-0.375},null,{"$f":"N12","v":11212},{"$f":"COUNTIF(L33:L58,Y12)","v":1},{"$f":"Z12/(AB4-Z25)","v":4.1666666666666664E-2},{"$f":"IF(AA12=0,0,(AA12*((LOG(AA12))/LOG(2))))","v":-0.19104010419671485},null,{"$f":"N12","v":11212},{"$f":"COUNTIF(L59:L84,AD12)","v":3},{"$f":"AE12/(AG4-AE25)","v":0.12},{"$f":"IF(AF12=0,0,(AF12*((LOG(AF12))/LOG(2))))","v":-0.36706724268642821},null,{"$f":"N12","v":11212},{"$f":"COUNTIF(L85:L110,AI12)","v":0},{"$f":"AJ12/(AL4-AJ25)","v":0},{"$f":"IF(AK12=0,0,(AK12*((LOG(AK12))/LOG(2))))","v":0},null,{"$f":"N12","v":11212},{"$f":"COUNTIF(L111:L136,AN12)","v":0},{"$f":"AO12/(AQ4-AO25)","v":0},{"$f":"IF(AP12=0,0,(AP12*((LOG(AP12))/LOG(2))))","v":0},null,{"$f":"N12","v":11212},{"$f":"COUNTIF(L137:L162,AS12)","v":0},{"$f":"AT12/(AV4-AT25)","v":0},{"$f":"IF(AU12=0,0,(AU12*((LOG(AU12))/LOG(2))))","v":0}]
[12,937,13,960,24,973,14,985,13,1002,0,11211,null,11221,{"$f":"COUNTIF($L$7:$L$500,N13)","v":1},{"$f":"O13/$Q$4","v":6.41025641025641E-3},{"$f":"IF(P13=0,0,(P13*((LOG(P13))/LOG(2))))","v":-4.6701296274758004E-2},null,null,{"$f":"N13","v":11221},{"$f":"COUNTIF(L7:L32,T13)","v":0},{"$f":"U13/(W4-U25)","v":0},{"$f":"IF(V13=0,0,(V13*((LOG(V13))/LOG(2))))","v":0},null,{"$f":"N13","v":11221},{"$f":"COUNTIF(L33:L58,Y13)","v":0},{"$f":"Z13/(AB4-Z25)","v":0},{"$f":"IF(AA13=0,0,(AA13*((LOG(AA13))/LOG(2))))","v":0},null,{"$f":"N13","v":11221},{"$f":"COUNTIF(L59:L84,AD13)","v":0},{"$f":"AE13/(AG4-AE25)","v":0},{"$f":"IF(AF13=0,0,(AF13*((LOG(AF13))/LOG(2))))","v":0},null,{"$f":"N13","v":11221},{"$f":"COUNTIF(L85:L110,AI13)","v":0},{"$f":"AJ13/(AL4-AJ25)","v":0},{"$f":"IF(AK13=0,0,(AK13*((LOG(AK13))/LOG(2))))","v":0},null,{"$f":"N13","v":11221},{"$f":"COUNTIF(L111:L136,AN13)","v":0},{"$f":"AO13/(AQ4-AO25)","v":0},{"$f":"IF(AP13=0,0,(AP13*((LOG(AP13))/LOG(2))))","v":0},null,{"$f":"N13","v":11221},{"$f":"COUNTIF(L137:L162,AS13)","v":1},{"$f":"AT13/(AV4-AT25)","v":0.04},{"$f":"IF(AU13=0,0,(AU13*((LOG(AU13))/LOG(2))))","v":-0.18575424759098899}]
[12,1100,24,1119,13,1132,14,1142,24,1156,0,12112,null,11222,{"$f":"COUNTIF($L$7:$L$500,N14)","v":0},{"$f":"O14/$Q$4","v":0},{"$f":"IF(P14=0,0,(P14*((LOG(P14))/LOG(2))))","v":0},null,null,{"$f":"N14","v":11222},{"$f":"COUNTIF(L7:L32,T14)","v":0},{"$f":"U14/(W4-U25)","v":0},{"$f":"IF(V14=0,0,(V14*((LOG(V14))/LOG(2))))","v":0},null,{"$f":"N14","v":11222},{"$f":"COUNTIF(L33:L58,Y14)","v":0},{"$f":"Z14/(AB4-Z25)","v":0},{"$f":"IF(AA14=0,0,(AA14*((LOG(AA14))/LOG(2))))","v":0},null,{"$f":"N14","v":11222},{"$f":"COUNTIF(L59:L84,AD14)","v":0},{"$f":"AE14/(AG4-AE25)","v":0},{"$f":"IF(AF14=0,0,(AF14*((LOG(AF14))/LOG(2))))","v":0},null,{"$f":"N14","v":11222},{"$f":"COUNTIF(L85:L110,AI14)","v":0},{"$f":"AJ14/(AL4-AJ25)","v":0},{"$f":"IF(AK14=0,0,(AK14*((LOG(AK14))/LOG(2))))","v":0},null,{"$f":"N14","v":11222},{"$f":"COUNTIF(L111:L136,AN14)","v":0},{"$f":"AO14/(AQ4-AO25)","v":0},{"$f":"IF(AP14=0,0,(AP14*((LOG(AP14))/LOG(2))))","v":0},null,{"$f":"N14","v":11222},{"$f":"COUNTIF(L137:L162,AS14)","v":0},{"$f":"AT14/(AV4-AT25)","v":0},{"$f":"IF(AU14=0,0,(AU14*((LOG(AU14))/LOG(2))))","v":0}]
[12,1258,24,1268,13,1277,14,1302,13,1329,0,12111,null,12111,{"$f":"COUNTIF($L$7:$L$500,N15)","v":8},{"$f":"O15/$Q$4","v":5.128205128205128E-2},{"$f":"IF(P15=0,0,(P15*((LOG(P15))/LOG(2))))","v":-0.21976421635191018},null,null,{"$f":"N15","v":12111},{"$f":"COUNTIF(L7:L32,T15)","v":2},{"$f":"U15/(W4-U25)","v":8.3333333333333329E-2},{"$f":"IF(V15=0,0,(V15*((LOG(V15))/LOG(2))))","v":-0.29874687506009634},null,{"$f":"N15","v":12111},{"$f":"COUNTIF(L33:L58,Y15)","v":1},{"$f":"Z15/(AB4-Z25)","v":4.1666666666666664E-2},{"$f":"IF(AA15=0,0,(AA15*((LOG(AA15))/LOG(2))))","v":-0.19104010419671485},null,{"$f":"N15","v":12111},{"$f":"COUNTIF(L59:L84,AD15)","v":0},{"$f":"AE15/(AG4-AE25)","v":0},{"$f":"IF(AF15=0,0,(AF15*((LOG(AF15))/LOG(2))))","v":0},null,{"$f":"N15","v":12111},{"$f":"COUNTIF(L85:L110,AI15)","v":1},{"$f":"AJ15/(AL4-AJ25)","v":0.04},{"$f":"IF(AK15=0,0,(AK15*((LOG(AK15))/LOG(2))))","v":-0.18575424759098899},null,{"$f":"N15","v":12111},{"$f":"COUNTIF(L111:L136,AN15)","v":3},{"$f":"AO15/(AQ4-AO25)","v":0.11538461538461539},{"$f":"IF(AP15=0,0,(AP15*((LOG(AP15))/LOG(2))))","v":-0.35947814047153104},null,{"$f":"N15","v":12111},{"$f":"COUNTIF(L137:L162,AS15)","v":1},{"$f":"AT15/(AV4-AT25)","v":0.04},{"$f":"IF(AU15=0,0,(AU15*((LOG(AU15))/LOG(2))))","v":-0.18575424759098899}]
[12,1434,13,1453,13,1473,23,1486,13,1509,0,11121,null,12112,{"$f":"COUNTIF($L$7:$L$500,N16)","v":8},{"$f":"O16/$Q$4","v":5.128205128205128E-2},{"$f":"IF(P16=0,0,(P16*((LOG(P16))/LOG(2))))","v":-0.21976421635191018},null,null,{"$f":"N16","v":12112},{"$f":"COUNTIF(L7:L32,T16)","v":1},{"$f":"U16/(W4-U25)","v":4.1666666666666664E-2},{"$f":"IF(V16=0,0,(V16*((LOG(V16))/LOG(2))))","v":-0.19104010419671485},null,{"$f":"N16","v":12112},{"$f":"COUNTIF(L33:L58,Y16)","v":1},{"$f":"Z16/(AB4-Z25)","v":4.1666666666666664E-2},{"$f":"IF(AA16=0,0,(AA16*((LOG(AA16))/LOG(2))))","v":-0.19104010419671485},null,{"$f":"N16","v":12112},{"$f":"COUNTIF(L59:L84,AD16)","v":1},{"$f":"AE16/(AG4-AE25)","v":0.04},{"$f":"IF(AF16=0,0,(AF16*((LOG(AF16))/LOG(2))))","v":-0.18575424759098899},null,{"$f":"N16","v":12112},{"$f":"COUNTIF(L85:L110,AI16)","v":3},{"$f":"AJ16/(AL4-AJ25)","v":0.12},{"$f":"IF(AK16=0,0,(AK16*((LOG(AK16))/LOG(2))))","v":-0.36706724268642821},null,{"$f":"N16","v":12112},{"$f":"COUNTIF(L111:L136,AN16)","v":1},{"$f":"AO16/(AQ4-AO25)","v":3.8461538461538464E-2},{"$f":"IF(AP16=0,0,(AP16*((LOG(AP16))/LOG(2))))","v":-0.18078614300542661},null,{"$f":"N16","v":12112},{"$f":"COUNTIF(L137:L162,AS16)","v":1},{"$f":"AT16/(AV4-AT25)","v":0.04},{"$f":"IF(AU16=0,0,(AU16*((LOG(AU16))/LOG(2))))","v":-0.18575424759098899}]
[21,1611,11,1622,11,1641,21,1654,11,1668,1,21121,null,12121,{"$f":"COUNTIF($L$7:$L$500,N17)","v":10},{"$f":"O17/$Q$4","v":6.4102564102564097E-2},{"$f":"IF(P17=0,0,(P17*((LOG(P17))/LOG(2))))","v":-0.2540688541009542},null,null,{"$f":"N17","v":12121},{"$f":"COUNTIF(L7:L32,T17)","v":5},{"$f":"U17/(W4-U25)","v":0.20833333333333334},{"$f":"IF(V17=0,0,(V17*((LOG(V17))/LOG(2))))","v":-0.47146550121537367},null,{"$f":"N17","v":12121},{"$f":"COUNTIF(L33:L58,Y17)","v":1},{"$f":"Z17/(AB4-Z25)","v":4.1666666666666664E-2},{"$f":"IF(AA17=0,0,(AA17*((LOG(AA17))/LOG(2))))","v":-0.19104010419671485},null,{"$f":"N17","v":12121},{"$f":"COUNTIF(L59:L84,AD17)","v":1},{"$f":"AE17/(AG4-AE25)","v":0.04},{"$f":"IF(AF17=0,0,(AF17*((LOG(AF17))/LOG(2))))","v":-0.18575424759098899},null,{"$f":"N17","v":12121},{"$f":"COUNTIF(L85:L110,AI17)","v":3},{"$f":"AJ17/(AL4-AJ25)","v":0.12},{"$f":"IF(AK17=0,0,(AK17*((LOG(AK17))/LOG(2))))","v":-0.36706724268642821},null,{"$f":"N17","v":12121},{"$f":"COUNTIF(L111:L136,AN17)","v":0},{"$f":"AO17/(AQ4-AO25)","v":0},{"$f":"IF(AP17=0,0,(AP17*((LOG(AP17))/LOG(2))))","v":0},null,{"$f":"N17","v":12121},{"$f":"COUNTIF(L137:L162,AS17)","v":0},{"$f":"AT17/(AV4-AT25)","v":0},{"$f":"IF(AU17=0,0,(AU17*((LOG(AU17))/LOG(2))))","v":0}]
[12,1756,13,1762,13,1767,14,1772,13,1780,0,11111,null,12122,{"$f":"COUNTIF($L$7:$L$500,N18)","v":0},{"$f":"O18/$Q$4","v":0},{"$f":"IF(P18=0,0,(P18*((LOG(P18))/LOG(2))))","v":0},null,null,{"$f":"N18","v":12122},{"$f":"COUNTIF(L7:L32,T18)","v":0},{"$f":"U18/(W4-U25)","v":0},{"$f":"IF(V18=0,0,(V18*((LOG(V18))/LOG(2))))","v":0},null,{"$f":"N18","v":12122},{"$f":"COUNTIF(L33:L58,Y18)","v":0},{"$f":"Z18/(AB4-Z25)","v":0},{"$f":"IF(AA18=0,0,(AA18*((LOG(AA18))/LOG(2))))","v":0},null,{"$f":"N18","v":12122},{"$f":"COUNTIF(L59:L84,AD18)","v":0},{"$f":"AE18/(AG4-AE25)","v":0},{"$f":"IF(AF18=0,0,(AF18*((LOG(AF18))/LOG(2))))","v":0},null,{"$f":"N18","v":12122},{"$f":"COUNTIF(L85:L110,AI18)","v":0},{"$f":"AJ18/(AL4-AJ25)","v":0},{"$f":"IF(AK18=0,0,(AK18*((LOG(AK18))/LOG(2))))","v":0},null,{"$f":"N18","v":12122},{"$f":"COUNTIF(L111:L136,AN18)","v":0},{"$f":"AO18/(AQ4-AO25)","v":0},{"$f":"IF(AP18=0,0,(AP18*((LOG(AP18))/LOG(2))))","v":0},null,{"$f":"N18","v":12122},{"$f":"COUNTIF(L137:L162,AS18)","v":0},{"$f":"AT18/(AV4-AT25)","v":0},{"$f":"IF(AU18=0,0,(AU18*((LOG(AU18))/LOG(2))))","v":0}]
[12,1888,13,1890,13,1896,23,1911,13,1924,0,11121,null,12211,{"$f":"COUNTIF($L$7:$L$500,N19)","v":0},{"$f":"O19/$Q$4","v":0},{"$f":"IF(P19=0,0,(P19*((LOG(P19))/LOG(2))))","v":0},null,null,{"$f":"N19","v":12211},{"$f":"COUNTIF(L7:L32,T19)","v":0},{"$f":"U19/(W4-U25)","v":0},{"$f":"IF(V19=0,0,(V19*((LOG(V19))/LOG(2))))","v":0},null,{"$f":"N19","v":12211},{"$f":"COUNTIF(L33:L58,Y19)","v":0},{"$f":"Z19/(AB4-Z25)","v":0},{"$f":"IF(AA19=0,0,(AA19*((LOG(AA19))/LOG(2))))","v":0},null,{"$f":"N19","v":12211},{"$f":"COUNTIF(L59:L84,AD19)","v":0},{"$f":"AE19/(AG4-AE25)","v":0},{"$f":"IF(AF19=0,0,(AF19*((LOG(AF19))/LOG(2))))","v":0},null,{"$f":"N19","v":12211},{"$f":"COUNTIF(L85:L110,AI19)","v":0},{"$f":"AJ19/(AL4-AJ25)","v":0},{"$f":"IF(AK19=0,0,(AK19*((LOG(AK19))/LOG(2))))","v":0},null,{"$f":"N19","v":12211},{"$f":"COUNTIF(L111:L136,AN19)","v":0},{"$f":"AO19/(AQ4-AO25)","v":0},{"$f":"IF(AP19=0,0,(AP19*((LOG(AP19))/LOG(2))))","v":0},null,{"$f":"N19","v":12211},{"$f":"COUNTIF(L137:L162,AS19)","v":0},{"$f":"AT19/(AV4-AT25)","v":0},{"$f":"IF(AU19=0,0,(AU19*((LOG(AU19))/LOG(2))))","v":0}]
[12,2022,13,2043,24,2056,14,2068,13,2076,0,11211,null,12212,{"$f":"COUNTIF($L$7:$L$500,N20)","v":0},{"$f":"O20/$Q$4","v":0},{"$f":"IF(P20=0,0,(P20*((LOG(P20))/LOG(2))))","v":0},null,null,{"$f":"N20","v":12212},{"$f":"COUNTIF(L7:L32,T20)","v":0},{"$f":"U20/(W4-U25)","v":0},{"$f":"IF(V20=0,0,(V20*((LOG(V20))/LOG(2))))","v":0},null,{"$f":"N20","v":12212},{"$f":"COUNTIF(L33:L58,Y20)","v":0},{"$f":"Z20/(AB4-Z25)","v":0},{"$f":"IF(AA20=0,0,(AA20*((LOG(AA20))/LOG(2))))","v":0},null,{"$f":"N20","v":12212},{"$f":"COUNTIF(L59:L84,AD20)","v":0},{"$f":"AE20/(AG4-AE25)","v":0},{"$f":"IF(AF20=0,0,(AF20*((LOG(AF20))/LOG(2))))","v":0},null,{"$f":"N20","v":12212},{"$f":"COUNTIF(L85:L110,AI20)","v":0},{"$f":"AJ20/(AL4-AJ25)","v":0},{"$f":"IF(AK20=0,0,(AK20*((LOG(AK20))/LOG(2))))","v":0},null,{"$f":"N20","v":12212},{"$f":"COUNTIF(L111:L136,AN20)","v":0},{"$f":"AO20/(AQ4-AO25)","v":0},{"$f":"IF(AP20=0,0,(AP20*((LOG(AP20))/LOG(2))))","v":0},null,{"$f":"N20","v":12212},{"$f":"COUNTIF(L137:L162,AS20)","v":0},{"$f":"AT20/(AV4-AT25)","v":0},{"$f":"IF(AU20=0,0,(AU20*((LOG(AU20))/LOG(2))))","v":0}]
[12,2178,13,2190,13,2205,23,2217,13,2231,0,11121,null,12221,{"$f":"COUNTIF($L$7:$L$500,N21)","v":0},{"$f":"O21/$Q$4","v":0},{"$f":"IF(P21=0,0,(P21*((LOG(P21))/LOG(2))))","v":0},null,null,{"$f":"N21","v":12221},{"$f":"COUNTIF(L7:L32,T21)","v":0},{"$f":"U21/(W4-U25)","v":0},{"$f":"IF(V21=0,0,(V21*((LOG(V21))/LOG(2))))","v":0},null,{"$f":"N21","v":12221},{"$f":"COUNTIF(L33:L58,Y21)","v":0},{"$f":"Z21/(AB4-Z25)","v":0},{"$f":"IF(AA21=0,0,(AA21*((LOG(AA21))/LOG(2))))","v":0},null,{"$f":"N21","v":12221},{"$f":"COUNTIF(L59:L84,AD21)","v":0},{"$f":"AE21/(AG4-AE25)","v":0},{"$f":"IF(AF21=0,0,(AF21*((LOG(AF21))/LOG(2))))","v":0},null,{"$f":"N21","v":12221},{"$f":"COUNTIF(L85:L110,AI21)","v":0},{"$f":"AJ21/(AL4-AJ25)","v":0},{"$f":"IF(AK21=0,0,(AK21*((LOG(AK21))/LOG(2))))","v":0},null,{"$f":"N21","v":12221},{"$f":"COUNTIF(L111:L136,AN21)","v":0},{"$f":"AO21/(AQ4-AO25)","v":0},{"$f":"IF(AP21=0,0,(AP21*((LOG(AP21))/LOG(2))))","v":0},null,{"$f":"N21","v":12221},{"$f":"COUNTIF(L137:L162,AS21)","v":0},{"$f":"AT21/(AV4-AT25)","v":0},{"$f":"IF(AU21=0,0,(AU21*((LOG(AU21))/LOG(2))))","v":0}]
[12,2337,13,2345,24,2359,14,2370,24,2384,0,11212,null,12222,{"$f":"COUNTIF($L$7:$L$500,N22)","v":0},{"$f":"O22/$Q$4","v":0},{"$f":"IF(P22=0,0,(P22*((LOG(P22))/LOG(2))))","v":0},null,null,{"$f":"N22","v":12222},{"$f":"COUNTIF(L7:L32,T22)","v":0},{"$f":"U22/(W4-U25)","v":0},{"$f":"IF(V22=0,0,(V22*((LOG(V22))/LOG(2))))","v":0},null,{"$f":"N22","v":12222},{"$f":"COUNTIF(L33:L58,Y22)","v":0},{"$f":"Z22/(AB4-Z25)","v":0},{"$f":"IF(AA22=0,0,(AA22*((LOG(AA22))/LOG(2))))","v":0},null,{"$f":"N22","v":12222},{"$f":"COUNTIF(L59:L84,AD22)","v":0},{"$f":"AE22/(AG4-AE25)","v":0},{"$f":"IF(AF22=0,0,(AF22*((LOG(AF22))/LOG(2))))","v":0},null,{"$f":"N22","v":12222},{"$f":"COUNTIF(L85:L110,AI22)","v":0},{"$f":"AJ22/(AL4-AJ25)","v":0},{"$f":"IF(AK22=0,0,(AK22*((LOG(AK22))/LOG(2))))","v":0},null,{"$f":"N22","v":12222},{"$f":"COUNTIF(L111:L136,AN22)","v":0},{"$f":"AO22/(AQ4-AO25)","v":0},{"$f":"IF(AP22=0,0,(AP22*((LOG(AP22))/LOG(2))))","v":0},null,{"$f":"N22","v":12222},{"$f":"COUNTIF(L137:L162,AS22)","v":0},{"$f":"AT22/(AV4-AT25)","v":0},{"$f":"IF(AU22=0,0,(AU22*((LOG(AU22))/LOG(2))))","v":0}]
[12,2484,13,2506,24,2519,14,2532,13,2541,0,11211,null,21111,{"$f":"COUNTIF($L$7:$L$500,N23)","v":15},{"$f":"O23/$Q$4","v":9.6153846153846159E-2},{"$f":"IF(P23=0,0,(P23*((LOG(P23))/LOG(2))))","v":-0.32485688685132019},null,null,{"$f":"N23","v":21111},{"$f":"COUNTIF(L7:L32,T23)","v":0},{"$f":"U23/(W4-U25)","v":0},{"$f":"IF(V23=0,0,(V23*((LOG(V23))/LOG(2))))","v":0},null,{"$f":"N23","v":21111},{"$f":"COUNTIF(L33:L58,Y23)","v":3},{"$f":"Z23/(AB4-Z25)","v":0.125},{"$f":"IF(AA23=0,0,(AA23*((LOG(AA23))/LOG(2))))","v":-0.375},null,{"$f":"N23","v":21111},{"$f":"COUNTIF(L59:L84,AD23)","v":0},{"$f":"AE23/(AG4-AE25)","v":0},{"$f":"IF(AF23=0,0,(AF23*((LOG(AF23))/LOG(2))))","v":0},null,{"$f":"N23","v":21111},{"$f":"COUNTIF(L85:L110,AI23)","v":4},{"$f":"AJ23/(AL4-AJ25)","v":0.16},{"$f":"IF(AK23=0,0,(AK23*((LOG(AK23))/LOG(2))))","v":-0.42301699036395596},null,{"$f":"N23","v":21111},{"$f":"COUNTIF(L111:L136,AN23)","v":4},{"$f":"AO23/(AQ4-AO25)","v":0.15384615384615385},{"$f":"IF(AP23=0,0,(AP23*((LOG(AP23))/LOG(2))))","v":-0.4154522643293988},null,{"$f":"N23","v":21111},{"$f":"COUNTIF(L137:L162,AS23)","v":4},{"$f":"AT23/(AV4-AT25)","v":0.16},{"$f":"IF(AU23=0,0,(AU23*((LOG(AU23))/LOG(2))))","v":-0.42301699036395596}]
[12,2646,13,2651,13,2672,14,2683,24,2696,0,11112,null,21112,{"$f":"COUNTIF($L$7:$L$500,N24)","v":9},{"$f":"O24/$Q$4","v":5.7692307692307696E-2},{"$f":"IF(P24=0,0,(P24*((LOG(P24))/LOG(2))))","v":-0.23743137792807323},null,null,{"$f":"N24","v":21112},{"$f":"COUNTIF(L7:L32,T24)","v":0},{"$f":"U24/(W4-U25)","v":0},{"$f":"IF(V24=0,0,(V24*((LOG(V24))/LOG(2))))","v":0},null,{"$f":"N24","v":21112},{"$f":"COUNTIF(L33:L58,Y24)","v":1},{"$f":"Z24/(AB4-Z25)","v":4.1666666666666664E-2},{"$f":"IF(AA24=0,0,(AA24*((LOG(AA24))/LOG(2))))","v":-0.19104010419671485},null,{"$f":"N24","v":21112},{"$f":"COUNTIF(L59:L84,AD24)","v":2},{"$f":"AE24/(AG4-AE25)","v":0.08},{"$f":"IF(AF24=0,0,(AF24*((LOG(AF24))/LOG(2))))","v":-0.29150849518197797},null,{"$f":"N24","v":21112},{"$f":"COUNTIF(L85:L110,AI24)","v":2},{"$f":"AJ24/(AL4-AJ25)","v":0.08},{"$f":"IF(AK24=0,0,(AK24*((LOG(AK24))/LOG(2))))","v":-0.29150849518197797},null,{"$f":"N24","v":21112},{"$f":"COUNTIF(L111:L136,AN24)","v":0},{"$f":"AO24/(AQ4-AO25)","v":0},{"$f":"IF(AP24=0,0,(AP24*((LOG(AP24))/LOG(2))))","v":0},null,{"$f":"N24","v":21112},{"$f":"COUNTIF(L137:L162,AS24)","v":4},{"$f":"AT24/(AV4-AT25)","v":0.16},{"$f":"IF(AU24=0,0,(AU24*((LOG(AU24))/LOG(2))))","v":-0.42301699036395596}]
[12,2810,13,2829,24,2842,14,2854,24,2868,0,11212,null,21121,{"$f":"COUNTIF($L$7:$L$500,N25)","v":7},{"$f":"O25/$Q$4","v":4.4871794871794872E-2},{"$f":"IF(P25=0,0,(P25*((LOG(P25))/LOG(2))))","v":-0.20093801972841352},null,null,{"$f":"N25","v":21121},{"$f":"COUNTIF(L7:L32,T25)","v":2},null,null,null,{"$f":"N25","v":21121},{"$f":"COUNTIF(L33:L58,Y25)","v":2},null,null,null,{"$f":"N25","v":21121},{"$f":"COUNTIF(L59:L84,AD25)","v":1},null,null,null,{"$f":"N25","v":21121},{"$f":"COUNTIF(L85:L110,AI25)","v":1},null,null,null,{"$f":"N25","v":21121},{"$f":"COUNTIF(L111:L136,AN25)","v":0},null,null,null,{"$f":"N25","v":21121},{"$f":"COUNTIF(L137:L162,AS25)","v":1}]
[12,2971,24,2980,13,2991,23,3004,13,3015,0,12121,null,21122,{"$f":"COUNTIF($L$7:$L$500,N26)","v":0},{"$f":"O26/$Q$4","v":0},{"$f":"IF(P26=0,0,(P26*((LOG(P26))/LOG(2))))","v":0},null,null,{"$f":"N26","v":21122},{"$f":"COUNTIF(L7:L32,T26)","v":0},{"$f":"U26/(W4-U25)","v":0},{"$f":"IF(V26=0,0,(V26*((LOG(V26))/LOG(2))))","v":0},null,{"$f":"N26","v":21122},{"$f":"COUNTIF(L33:L58,Y26)","v":0},{"$f":"Z26/(AB4-Z25)","v":0},{"$f":"IF(AA26=0,0,(AA26*((LOG(AA26))/LOG(2))))","v":0},null,{"$f":"N26","v":21122},{"$f":"COUNTIF(L59:L84,AD26)","v":0},{"$f":"AE26/(AG4-AE25)","v":0},{"$f":"IF(AF26=0,0,(AF26*((LOG(AF26))/LOG(2))))","v":0},null,{"$f":"N26","v":21122},{"$f":"COUNTIF(L85:L110,AI26)","v":0},{"$f":"AJ26/(AL4-AJ25)","v":0},{"$f":"IF(AK26=0,0,(AK26*((LOG(AK26))/LOG(2))))","v":0},null,{"$f":"N26","v":21122},{"$f":"COUNTIF(L111:L136,AN26)","v":0},{"$f":"AO26/(AQ4-AO25)","v":0},{"$f":"IF(AP26=0,0,(AP26*((LOG(AP26))/LOG(2))))","v":0},null,{"$f":"N26","v":21122},{"$f":"COUNTIF(L137:L162,AS26)","v":0},{"$f":"AT26/(AV4-AT25)","v":0},{"$f":"IF(AU26=0,0,(AU26*((LOG(AU26))/LOG(2))))","v":0}]
[12,3130,13,3149,13,3158,14,3169,13,3176,0,11111,null,21211,{"$f":"COUNTIF($L$7:$L$500,N27)","v":13},{"$f":"O27/$Q$4","v":8.3333333333333329E-2},{"$f":"IF(P27=0,0,(P27*((LOG(P27))/LOG(2))))","v":-0.29874687506009634},null,null,{"$f":"N27","v":21211},{"$f":"COUNTIF(L7:L32,T27)","v":0},{"$f":"U27/(W4-U25)","v":0},{"$f":"IF(V27=0,0,(V27*((LOG(V27))/LOG(2))))","v":0},null,{"$f":"N27","v":21211},{"$f":"COUNTIF(L33:L58,Y27)","v":0},{"$f":"Z27/(AB4-Z25)","v":0},{"$f":"IF(AA27=0,0,(AA27*((LOG(AA27))/LOG(2))))","v":0},null,{"$f":"N27","v":21211},{"$f":"COUNTIF(L59:L84,AD27)","v":6},{"$f":"AE27/(AG4-AE25)","v":0.24},{"$f":"IF(AF27=0,0,(AF27*((LOG(AF27))/LOG(2))))","v":-0.49413448537285637},null,{"$f":"N27","v":21211},{"$f":"COUNTIF(L85:L110,AI27)","v":3},{"$f":"AJ27/(AL4-AJ25)","v":0.12},{"$f":"IF(AK27=0,0,(AK27*((LOG(AK27))/LOG(2))))","v":-0.36706724268642821},null,{"$f":"N27","v":21211},{"$f":"COUNTIF(L111:L136,AN27)","v":1},{"$f":"AO27/(AQ4-AO25)","v":3.8461538461538464E-2},{"$f":"IF(AP27=0,0,(AP27*((LOG(AP27))/LOG(2))))","v":-0.18078614300542661},null,{"$f":"N27","v":21211},{"$f":"COUNTIF(L137:L162,AS27)","v":3},{"$f":"AT27/(AV4-AT25)","v":0.12},{"$f":"IF(AU27=0,0,(AU27*((LOG(AU27))/LOG(2))))","v":-0.36706724268642821}]
[12,3279,24,3288,13,3298,14,3307,13,3316,0,12111,null,21212,{"$f":"COUNTIF($L$7:$L$500,N28)","v":2},{"$f":"O28/$Q$4","v":1.282051282051282E-2},{"$f":"IF(P28=0,0,(P28*((LOG(P28))/LOG(2))))","v":-8.0582079729003178E-2},null,null,{"$f":"N28","v":21212},{"$f":"COUNTIF(L7:L32,T28)","v":0},{"$f":"U28/(W4-U25)","v":0},{"$f":"IF(V28=0,0,(V28*((LOG(V28))/LOG(2))))","v":0},null,{"$f":"N28","v":21212},{"$f":"COUNTIF(L33:L58,Y28)","v":0},{"$f":"Z28/(AB4-Z25)","v":0},{"$f":"IF(AA28=0,0,(AA28*((LOG(AA28))/LOG(2))))","v":0},null,{"$f":"N28","v":21212},{"$f":"COUNTIF(L59:L84,AD28)","v":1},{"$f":"AE28/(AG4-AE25)","v":0.04},{"$f":"IF(AF28=0,0,(AF28*((LOG(AF28))/LOG(2))))","v":-0.18575424759098899},null,{"$f":"N28","v":21212},{"$f":"COUNTIF(L85:L110,AI28)","v":1},{"$f":"AJ28/(AL4-AJ25)","v":0.04},{"$f":"IF(AK28=0,0,(AK28*((LOG(AK28))/LOG(2))))","v":-0.18575424759098899},null,{"$f":"N28","v":21212},{"$f":"COUNTIF(L111:L136,AN28)","v":0},{"$f":"AO28/(AQ4-AO25)","v":0},{"$f":"IF(AP28=0,0,(AP28*((LOG(AP28))/LOG(2))))","v":0},null,{"$f":"N28","v":21212},{"$f":"COUNTIF(L137:L162,AS28)","v":0},{"$f":"AT28/(AV4-AT25)","v":0},{"$f":"IF(AU28=0,0,(AU28*((LOG(AU28))/LOG(2))))","v":0}]
[12,3422,13,3440,13,3449,14,3458,13,3466,0,11111,null,21221,{"$f":"COUNTIF($L$7:$L$500,N29)","v":0},{"$f":"O29/$Q$4","v":0},{"$f":"IF(P29=0,0,(P29*((LOG(P29))/LOG(2))))","v":0},null,null,{"$f":"N29","v":21221},{"$f":"COUNTIF(L7:L32,T29)","v":0},{"$f":"U29/(W4-U25)","v":0},{"$f":"IF(V29=0,0,(V29*((LOG(V29))/LOG(2))))","v":0},null,{"$f":"N29","v":21221},{"$f":"COUNTIF(L33:L58,Y29)","v":0},{"$f":"Z29/(AB4-Z25)","v":0},{"$f":"IF(AA29=0,0,(AA29*((LOG(AA29))/LOG(2))))","v":0},null,{"$f":"N29","v":21221},{"$f":"COUNTIF(L59:L84,AD29)","v":0},{"$f":"AE29/(AG4-AE25)","v":0},{"$f":"IF(AF29=0,0,(AF29*((LOG(AF29))/LOG(2))))","v":0},null,{"$f":"N29","v":21221},{"$f":"COUNTIF(L85:L110,AI29)","v":0},{"$f":"AJ29/(AL4-AJ25)","v":0},{"$f":"IF(AK29=0,0,(AK29*((LOG(AK29))/LOG(2))))","v":0},null,{"$f":"N29","v":21221},{"$f":"COUNTIF(L111:L136,AN29)","v":0},{"$f":"AO29/(AQ4-AO25)","v":0},{"$f":"IF(AP29=0,0,(AP29*((LOG(AP29))/LOG(2))))","v":0},null,{"$f":"N29","v":21221},{"$f":"COUNTIF(L137:L162,AS29)","v":0},{"$f":"AT29/(AV4-AT25)","v":0},{"$f":"IF(AU29=0,0,(AU29*((LOG(AU29))/LOG(2))))","v":0}]
[12,3579,13,3588,13,3596,23,3609,13,3622,0,11121,null,21222,{"$f":"COUNTIF($L$7:$L$500,N30)","v":0},{"$f":"O30/$Q$4","v":0},{"$f":"IF(P30=0,0,(P30*((LOG(P30))/LOG(2))))","v":0},null,null,{"$f":"N30","v":21222},{"$f":"COUNTIF(L7:L32,T30)","v":0},{"$f":"U30/(W4-U25)","v":0},{"$f":"IF(V30=0,0,(V30*((LOG(V30))/LOG(2))))","v":0},null,{"$f":"N30","v":21222},{"$f":"COUNTIF(L33:L58,Y30)","v":0},{"$f":"Z30/(AB4-Z25)","v":0},{"$f":"IF(AA30=0,0,(AA30*((LOG(AA30))/LOG(2))))","v":0},null,{"$f":"N30","v":21222},{"$f":"COUNTIF(L59:L84,AD30)","v":0},{"$f":"AE30/(AG4-AE25)","v":0},{"$f":"IF(AF30=0,0,(AF30*((LOG(AF30))/LOG(2))))","v":0},null,{"$f":"N30","v":21222},{"$f":"COUNTIF(L85:L110,AI30)","v":0},{"$f":"AJ30/(AL4-AJ25)","v":0},{"$f":"IF(AK30=0,0,(AK30*((LOG(AK30))/LOG(2))))","v":0},null,{"$f":"N30","v":21222},{"$f":"COUNTIF(L111:L136,AN30)","v":0},{"$f":"AO30/(AQ4-AO25)","v":0},{"$f":"IF(AP30=0,0,(AP30*((LOG(AP30))/LOG(2))))","v":0},null,{"$f":"N30","v":21222},{"$f":"COUNTIF(L137:L162,AS30)","v":0},{"$f":"AT30/(AV4-AT25)","v":0},{"$f":"IF(AU30=0,0,(AU30*((LOG(AU30))/LOG(2))))","v":0}]
[12,3756,13,3765,24,3778,14,3791,13,3800,0,11211,null,22111,{"$f":"COUNTIF($L$7:$L$500,N31)","v":12},{"$f":"O31/$Q$4","v":7.6923076923076927E-2},{"$f":"IF(P31=0,0,(P31*((LOG(P31))/LOG(2))))","v":-0.28464920908777636},null,null,{"$f":"N31","v":22111},{"$f":"COUNTIF(L7:L32,T31)","v":0},{"$f":"U31/(W4-U25)","v":0},{"$f":"IF(V31=0,0,(V31*((LOG(V31))/LOG(2))))","v":0},null,{"$f":"N31","v":22111},{"$f":"COUNTIF(L33:L58,Y31)","v":0},{"$f":"Z31/(AB4-Z25)","v":0},{"$f":"IF(AA31=0,0,(AA31*((LOG(AA31))/LOG(2))))","v":0},null,{"$f":"N31","v":22111},{"$f":"COUNTIF(L59:L84,AD31)","v":0},{"$f":"AE31/(AG4-AE25)","v":0},{"$f":"IF(AF31=0,0,(AF31*((LOG(AF31))/LOG(2))))","v":0},null,{"$f":"N31","v":22111},{"$f":"COUNTIF(L85:L110,AI31)","v":2},{"$f":"AJ31/(AL4-AJ25)","v":0.08},{"$f":"IF(AK31=0,0,(AK31*((LOG(AK31))/LOG(2))))","v":-0.29150849518197797},null,{"$f":"N31","v":22111},{"$f":"COUNTIF(L111:L136,AN31)","v":3},{"$f":"AO31/(AQ4-AO25)","v":0.11538461538461539},{"$f":"IF(AP31=0,0,(AP31*((LOG(AP31))/LOG(2))))","v":-0.35947814047153104},null,{"$f":"N31","v":22111},{"$f":"COUNTIF(L137:L162,AS31)","v":7},{"$f":"AT31/(AV4-AT25)","v":0.28000000000000003},{"$f":"IF(AU31=0,0,(AU31*((LOG(AU31))/LOG(2))))","v":-0.51422035496079388}]
[12,3909,13,3918,13,3926,14,3934,13,3942,0,11111,null,22112,{"$f":"COUNTIF($L$7:$L$500,N32)","v":6},{"$f":"O32/$Q$4","v":3.8461538461538464E-2},{"$f":"IF(P32=0,0,(P32*((LOG(P32))/LOG(2))))","v":-0.18078614300542661},null,null,{"$f":"N32","v":22112},{"$f":"COUNTIF(L7:L32,T32)","v":0},{"$f":"U32/(W4-U25)","v":0},{"$f":"IF(V32=0,0,(V32*((LOG(V32))/LOG(2))))","v":0},null,{"$f":"N32","v":22112},{"$f":"COUNTIF(L33:L58,Y32)","v":0},{"$f":"Z32/(AB4-Z25)","v":0},{"$f":"IF(AA32=0,0,(AA32*((LOG(AA32))/LOG(2))))","v":0},null,{"$f":"N32","v":22112},{"$f":"COUNTIF(L59:L84,AD32)","v":0},{"$f":"AE32/(AG4-AE25)","v":0},{"$f":"IF(AF32=0,0,(AF32*((LOG(AF32))/LOG(2))))","v":0},null,{"$f":"N32","v":22112},{"$f":"COUNTIF(L85:L110,AI32)","v":0},{"$f":"AJ32/(AL4-AJ25)","v":0},{"$f":"IF(AK32=0,0,(AK32*((LOG(AK32))/LOG(2))))","v":0},null,{"$f":"N32","v":22112},{"$f":"COUNTIF(L111:L136,AN32)","v":5},{"$f":"AO32/(AQ4-AO25)","v":0.19230769230769232},{"$f":"IF(AP32=0,0,(AP32*((LOG(AP32))/LOG(2))))","v":-0.45740608139494804},null,{"$f":"N32","v":22112},{"$f":"COUNTIF(L137:L162,AS32)","v":1},{"$f":"AT32/(AV4-AT25)","v":0.04},{"$f":"IF(AU32=0,0,(AU32*((LOG(AU32))/LOG(2))))","v":-0.18575424759098899}]
[12,4051,13,4060,13,4068,14,4100,13,4126,0,11111,null,22121,{"$f":"COUNTIF($L$7:$L$500,N33)","v":2},{"$f":"O33/$Q$4","v":1.282051282051282E-2},{"$f":"IF(P33=0,0,(P33*((LOG(P33))/LOG(2))))","v":-8.0582079729003178E-2},null,null,{"$f":"N33","v":22121},{"$f":"COUNTIF(L7:L32,T33)","v":0},{"$f":"U33/(W4-U25)","v":0},{"$f":"IF(V33=0,0,(V33*((LOG(V33))/LOG(2))))","v":0},null,{"$f":"N33","v":22121},{"$f":"COUNTIF(L33:L58,Y33)","v":0},{"$f":"Z33/(AB4-Z25)","v":0},{"$f":"IF(AA33=0,0,(AA33*((LOG(AA33))/LOG(2))))","v":0},null,{"$f":"N33","v":22121},{"$f":"COUNTIF(L59:L84,AD33)","v":0},{"$f":"AE33/(AG4-AE25)","v":0},{"$f":"IF(AF33=0,0,(AF33*((LOG(AF33))/LOG(2))))","v":0},null,{"$f":"N33","v":22121},{"$f":"COUNTIF(L85:L110,AI33)","v":0},{"$f":"AJ33/(AL4-AJ25)","v":0},{"$f":"IF(AK33=0,0,(AK33*((LOG(AK33))/LOG(2))))","v":0},null,{"$f":"N33","v":22121},{"$f":"COUNTIF(L111:L136,AN33)","v":1},{"$f":"AO33/(AQ4-AO25)","v":3.8461538461538464E-2},{"$f":"IF(AP33=0,0,(AP33*((LOG(AP33))/LOG(2))))","v":-0.18078614300542661},null,{"$f":"N33","v":22121},{"$f":"COUNTIF(L137:L162,AS33)","v":1},{"$f":"AT33/(AV4-AT25)","v":0.04},{"$f":"IF(AU33=0,0,(AU33*((LOG(AU33))/LOG(2))))","v":-0.18575424759098899}]
[21,4225,11,4236,11,4245,12,4253,24,4266,0,21112,null,22122,{"$f":"COUNTIF($L$7:$L$500,N34)","v":0},{"$f":"O34/$Q$4","v":0},{"$f":"IF(P34=0,0,(P34*((LOG(P34))/LOG(2))))","v":0},null,null,{"$f":"N34","v":22122},{"$f":"COUNTIF(L7:L32,T34)","v":0},{"$f":"U34/(W4-U25)","v":0},{"$f":"IF(V34=0,0,(V34*((LOG(V34))/LOG(2))))","v":0},null,{"$f":"N34","v":22122},{"$f":"COUNTIF(L33:L58,Y34)","v":0},{"$f":"Z34/(AB4-Z25)","v":0},{"$f":"IF(AA34=0,0,(AA34*((LOG(AA34))/LOG(2))))","v":0},null,{"$f":"N34","v":22122},{"$f":"COUNTIF(L59:L84,AD34)","v":0},{"$f":"AE34/(AG4-AE25)","v":0},{"$f":"IF(AF34=0,0,(AF34*((LOG(AF34))/LOG(2))))","v":0},null,{"$f":"N34","v":22122},{"$f":"COUNTIF(L85:L110,AI34)","v":0},{"$f":"AJ34/(AL4-AJ25)","v":0},{"$f":"IF(AK34=0,0,(AK34*((LOG(AK34))/LOG(2))))","v":0},null,{"$f":"N34","v":22122},{"$f":"COUNTIF(L111:L136,AN34)","v":0},{"$f":"AO34/(AQ4-AO25)","v":0},{"$f":"IF(AP34=0,0,(AP34*((LOG(AP34))/LOG(2))))","v":0},null,{"$f":"N34","v":22122},{"$f":"COUNTIF(L137:L162,AS34)","v":0},{"$f":"AT34/(AV4-AT25)","v":0},{"$f":"IF(AU34=0,0,(AU34*((LOG(AU34))/LOG(2))))","v":0}]
[12,4381,13,4398,13,4412,14,4421,24,4434,0,11112,null,22211,{"$f":"COUNTIF($L$7:$L$500,N35)","v":0},{"$f":"O35/$Q$4","v":0},{"$f":"IF(P35=0,0,(P35*((LOG(P35))/LOG(2))))","v":0},null,null,{"$f":"N35","v":22211},{"$f":"COUNTIF(L7:L32,T35)","v":0},{"$f":"U35/(W4-U25)","v":0},{"$f":"IF(V35=0,0,(V35*((LOG(V35))/LOG(2))))","v":0},null,{"$f":"N35","v":22211},{"$f":"COUNTIF(L33:L58,Y35)","v":0},{"$f":"Z35/(AB4-Z25)","v":0},{"$f":"IF(AA35=0,0,(AA35*((LOG(AA35))/LOG(2))))","v":0},null,{"$f":"N35","v":22211},{"$f":"COUNTIF(L59:L84,AD35)","v":0},{"$f":"AE35/(AG4-AE25)","v":0},{"$f":"IF(AF35=0,0,(AF35*((LOG(AF35))/LOG(2))))","v":0},null,{"$f":"N35","v":22211},{"$f":"COUNTIF(L85:L110,AI35)","v":0},{"$f":"AJ35/(AL4-AJ25)","v":0},{"$f":"IF(AK35=0,0,(AK35*((LOG(AK35))/LOG(2))))","v":0},null,{"$f":"N35","v":22211},{"$f":"COUNTIF(L111:L136,AN35)","v":0},{"$f":"AO35/(AQ4-AO25)","v":0},{"$f":"IF(AP35=0,0,(AP35*((LOG(AP35))/LOG(2))))","v":0},null,{"$f":"N35","v":22211},{"$f":"COUNTIF(L137:L162,AS35)","v":0},{"$f":"AT35/(AV4-AT25)","v":0},{"$f":"IF(AU35=0,0,(AU35*((LOG(AU35))/LOG(2))))","v":0}]
[12,4559,13,4568,13,4588,14,4613,13,4623,0,11111,null,22212,{"$f":"COUNTIF($L$7:$L$500,N36)","v":0},{"$f":"O36/$Q$4","v":0},{"$f":"IF(P36=0,0,(P36*((LOG(P36))/LOG(2))))","v":0},null,null,{"$f":"N36","v":22212},{"$f":"COUNTIF(L7:L32,T36)","v":0},{"$f":"U36/(W4-U25)","v":0},{"$f":"IF(V36=0,0,(V36*((LOG(V36))/LOG(2))))","v":0},null,{"$f":"N36","v":22212},{"$f":"COUNTIF(L33:L58,Y36)","v":0},{"$f":"Z36/(AB4-Z25)","v":0},{"$f":"IF(AA36=0,0,(AA36*((LOG(AA36))/LOG(2))))","v":0},null,{"$f":"N36","v":22212},{"$f":"COUNTIF(L59:L84,AD36)","v":0},{"$f":"AE36/(AG4-AE25)","v":0},{"$f":"IF(AF36=0,0,(AF36*((LOG(AF36))/LOG(2))))","v":0},null,{"$f":"N36","v":22212},{"$f":"COUNTIF(L85:L110,AI36)","v":0},{"$f":"AJ36/(AL4-AJ25)","v":0},{"$f":"IF(AK36=0,0,(AK36*((LOG(AK36))/LOG(2))))","v":0},null,{"$f":"N36","v":22212},{"$f":"COUNTIF(L111:L136,AN36)","v":0},{"$f":"AO36/(AQ4-AO25)","v":0},{"$f":"IF(AP36=0,0,(AP36*((LOG(AP36))/LOG(2))))","v":0},null,{"$f":"N36","v":22212},{"$f":"COUNTIF(L137:L162,AS36)","v":0},{"$f":"AT36/(AV4-AT25)","v":0},{"$f":"IF(AU36=0,0,(AU36*((LOG(AU36))/LOG(2))))","v":0}]
[12,4734,13,4739,13,4747,14,4759,24,4772,0,11112,null,22221,{"$f":"COUNTIF($L$7:$L$500,N37)","v":0},{"$f":"O37/$Q$4","v":0},{"$f":"IF(P37=0,0,(P37*((LOG(P37))/LOG(2))))","v":0},null,null,{"$f":"N37","v":22221},{"$f":"COUNTIF(L7:L32,T37)","v":0},{"$f":"U37/(W4-U25)","v":0},{"$f":"IF(V37=0,0,(V37*((LOG(V37))/LOG(2))))","v":0},null,{"$f":"N37","v":22221},{"$f":"COUNTIF(L33:L58,Y37)","v":0},{"$f":"Z37/(AB4-Z25)","v":0},{"$f":"IF(AA37=0,0,(AA37*((LOG(AA37))/LOG(2))))","v":0},null,{"$f":"N37","v":22221},{"$f":"COUNTIF(L59:L84,AD37)","v":0},{"$f":"AE37/(AG4-AE25)","v":0},{"$f":"IF(AF37=0,0,(AF37*((LOG(AF37))/LOG(2))))","v":0},null,{"$f":"N37","v":22221},{"$f":"COUNTIF(L85:L110,AI37)","v":0},{"$f":"AJ37/(AL4-AJ25)","v":0},{"$f":"IF(AK37=0,0,(AK37*((LOG(AK37))/LOG(2))))","v":0},null,{"$f":"N37","v":22221},{"$f":"COUNTIF(L111:L136,AN37)","v":0},{"$f":"AO37/(AQ4-AO25)","v":0},{"$f":"IF(AP37=0,0,(AP37*((LOG(AP37))/LOG(2))))","v":0},null,{"$f":"N37","v":22221},{"$f":"COUNTIF(L137:L162,AS37)","v":0},{"$f":"AT37/(AV4-AT25)","v":0},{"$f":"IF(AU37=0,0,(AU37*((LOG(AU37))/LOG(2))))","v":0}]
[12,4874,24,4891,13,4901,14,4910,13,4914,0,12111,null,22222,{"$f":"COUNTIF($L$7:$L$500,N38)","v":0},{"$f":"O38/$Q$4","v":0},{"$f":"IF(P38=0,0,(P38*((LOG(P38))/LOG(2))))","v":0},null,null,{"$f":"N38","v":22222},{"$f":"COUNTIF(L7:L32,T38)","v":0},{"$f":"U38/(W4-U25)","v":0},{"$f":"IF(V38=0,0,(V38*((LOG(V38))/LOG(2))))","v":0},null,{"$f":"N38","v":22222},{"$f":"COUNTIF(L33:L58,Y38)","v":0},{"$f":"Z38/(AB4-Z25)","v":0},{"$f":"IF(AA38=0,0,(AA38*((LOG(AA38))/LOG(2))))","v":0},null,{"$f":"N38","v":22222},{"$f":"COUNTIF(L59:L84,AD38)","v":0},{"$f":"AE38/(AG4-AE25)","v":0},{"$f":"IF(AF38=0,0,(AF38*((LOG(AF38))/LOG(2))))","v":0},null,{"$f":"N38","v":22222},{"$f":"COUNTIF(L85:L110,AI38)","v":0},{"$f":"AJ38/(AL4-AJ25)","v":0},{"$f":"IF(AK38=0,0,(AK38*((LOG(AK38))/LOG(2))))","v":0},null,{"$f":"N38","v":22222},{"$f":"COUNTIF(L111:L136,AN38)","v":0},{"$f":"AO38/(AQ4-AO25)","v":0},{"$f":"IF(AP38=0,0,(AP38*((LOG(AP38))/LOG(2))))","v":0},null,{"$f":"N38","v":22222},{"$f":"COUNTIF(L137:L162,AS38)","v":0},{"$f":"AT38/(AV4-AT25)","v":0},{"$f":"IF(AU38=0,0,(AU38*((LOG(AU38))/LOG(2))))","v":0}]
[12,5018,13,5038,24,5051,14,5063,24,5075,0,11212,null,null,null,{"$f":"SUM(P7:P38)","v":0.99999999999999989},{"$f":"-SUM(Q7:Q38)","v":3.8302568174768874},null,null,null,null,{"$f":"SUM(V7:V38)","v":1},{"$f":"-SUM(W7:W38)","v":2.8197738350294781},null,null,null,{"$f":"SUM(AA7:AA38)","v":0.99999999999999989},{"$f":"-SUM(AB7:AB38)","v":2.9754128972590443},null,null,null,{"$f":"SUM(AF7:AF38)","v":1},{"$f":"-SUM(AG7:AG38)","v":2.9084930703645582},null,null,null,{"$f":"SUM(AK7:AK38)","v":1},{"$f":"-SUM(AL7:AL38)","v":3.1932696895151085},null,null,null,{"$f":"SUM(AP7:AP38)","v":1},{"$f":"-SUM(AQ7:AQ38)","v":2.9650775843424859},null,null,null,{"$f":"SUM(AU7:AU38)","v":1},{"$f":"-SUM(AV7:AV38)","v":3.0276013115120568}]
[21,5198,11,5209,11,5218,21,5233,11,5242,1,21121,null,null,null,"U=",{"$f":"Q39/(LOG(Q4)/LOG(2))","v":0.52574404300701094},null,null,null,null,"U1=",{"$f":"W39/(LOG(W4)/LOG(2))","v":0.59989575531555361},null,null,null,"U2=",{"$f":"AB39/(LOG(AB4)/LOG(2))","v":0.63300735158364008},null,null,null,"U3=",{"$f":"AG39/(LOG(AG4)/LOG(2))","v":0.61877042250736403},null,null,null,"U4=",{"$f":"AL39/(LOG(AL4)/LOG(2))","v":0.67935552437591262},null,null,null,"U5=",{"$f":"AQ39/(LOG(AQ4)/LOG(2))","v":0.63080855454840323},null,null,null,"U6=",{"$f":"AV39/(LOG(AV4)/LOG(2))","v":0.64411023075717666}]
[12,5331,13,5338,13,5357,23,5370,13,5383,0,11121]
[12,5490,13,5503,24,5516,14,5526,13,5534,0,11211]
[12,5674,24,5686,13,5700,14,5709,24,5721,0,12112,null,"Total Target Seq"]
[12,5824,13,5834,13,5838,14,5858,13,5866,0,11111,null,{"$f":"COUNTIF(L7:L162,G3)","v":7},null,26,26,26,26,26,26]
[12,5999,13,6007,13,6015,23,6027,13,6039,0,11121,null,null,null,"% of reinforcement given in 6 equal intervals based on number of trials "]
[12,6150,13,6161,24,6181,14,6192,13,6201,0,11211,null,null,null,"%_1","%_2","%_3","%_4","%_5","%_6"]
[12,6302,24,6313,13,6322,23,6335,13,6347,0,12121,null,null,"target sequence",{"$f":"$G$3","v":21121},{"$f":"$G$3","v":21121},{"$f":"$G$3","v":21121},{"$f":"$G$3","v":21121},{"$f":"$G$3","v":21121},{"$f":"$G$3","v":21121}]
[12,6454,13,6458,13,6466,23,6481,13,6493,0,11121,null,null,"total reinforcement",{"$f":"U25","v":2},{"$f":"Z25","v":2},{"$f":"AE25","v":1},{"$f":"AJ25","v":1},{"$f":"AO25","v":0},{"$f":"AT25","v":1}]
[12,6600,13,6607,13,6614,14,6619,24,6634,0,11112,null,null,"% target"]
[12,6743,13,6748,13,6757,14,6764,24,6777,0,11112,null,null,"CCRF"]
[21,6882,11,6896,11,6913,12,6922,13,6929,0,21111,null,null,"% CCRf"]
[12,7030,13,7047,13,7051,23,7067,13,7080,0,11121,null,null,"average response rate",{"$f":"J32/P44","v":151.61538461538461},{"$f":"(J58-J32)/Q44","v":153.53846153846155},{"$f":"(J84-J58)/R44","v":151.73076923076923},{"$f":"(J110-J84)/S44","v":149.11538461538461},{"$f":"(J136-J110)/T44","v":160.92307692307693},{"$f":"(J162-J136)/U44","v":155.61538461538461}]
[21,7187,11,7196,11,7200,12,7205,13,7215,0,21111]
[21,7312,11,7321,11,7326,12,7334,13,7359,0,21111]
[12,7458,13,7465,13,7482,23,7496,13,7509,0,11121]
[21,7609,11,7618,11,7626,21,7638,11,7649,1,21121]
[12,7742,13,7747,13,7764,14,7772,24,7785,0,11112]
[12,7888,13,7898,13,7907,14,7919,24,7934,0,11112]
[21,8044,11,8053,22,8066,14,8078,13,8087,0,21211]
[12,8189,13,8193,13,8198,23,8214,13,8222,0,11121]
[12,8323,13,8327,13,8332,14,8341,24,8354,0,11112]
[21,8458,11,8472,22,8484,14,8500,13,8510,0,21211]
[21,8620,11,8630,11,8656,12,8664,24,8677,0,21112]
[12,8781,13,8790,13,8799,23,8816,13,8829,0,11121]
[12,8928,13,8946,24,8956,14,8973,24,8986,0,11212]
[21,9090,11,9103,22,9112,14,9125,13,9134,0,21211]
[21,9255,11,9267,11,9276,21,9289,11,9304,1,21121]
[12,9397,13,9402,13,9406,14,9416,24,9426,0,11112]
[12,9524,24,9537,13,9545,23,9557,13,9571,0,12121]
[12,9673,13,9689,24,9698,14,9709,24,9721,0,11212]
[12,9822,13,9831,13,9859,14,9869,13,9878,0,11111]
[12,9980,13,9993,13,10001,23,10011,13,10023,0,11121]
[12,10138,24,10149,13,10164,14,10175,24,10190,0,12112]
[12,10332,13,10342,13,10350,14,10358,24,10372,0,11112]
[21,10478,11,10487,22,10496,14,10511,24,10521,0,21212]
[21,10626,11,10642,22,10650,14,10663,13,10671,0,21211]
[21,10776,11,10789,22,10796,14,10809,13,10817,0,21211]
[21,10923,11,10936,22,10942,14,10954,13,10964,0,21211]
[12,11082,13,11105,13,11114,14,11124,13,11131,0,11111]
[12,11234,13,11239,13,11245,14,11267,13,11276,0,11111]
[12,11390,13,11415,13,11424,14,11432,13,11440,0,11111]
[12,11552,13,11561,13,11569,14,11574,13,11581,0,11111]
[12,11684,13,11690,24,11700,14,11709,24,11725,0,11212]
[21,11841,11,11852,11,11856,12,11866,24,11879,0,21112]
[12,11990,24,11997,13,12009,23,12022,13,12034,0,12121]
[12,12151,13,12158,13,12163,14,12170,13,12178,0,11111]
[12,12289,24,12298,13,12309,14,12318,13,12324,0,12111]
[21,12431,11,12441,22,12450,14,12463,13,12468,0,21211]
[12,12581,24,12591,13,12602,14,12612,24,12622,0,12112]
[21,12730,11,12743,11,12757,12,12769,13,12779,0,21111]
[21,12881,11,12896,11,12915,12,12923,13,12931,0,21111]
[12,13049,24,13059,13,13071,14,13079,24,13094,0,12112]
[21,13196,11,13209,11,13218,21,13227,11,13240,1,21121]
[12,13336,13,13352,13,13362,23,13374,13,13386,0,11121]
[12,13495,24,13505,13,13515,14,13522,24,13535,0,12112]
[12,13636,13,13657,13,13662,23,13680,13,13693,0,11121]
[12,13795,13,13816,13,13820,23,13836,13,13849,0,11121]
[12,13949,13,13971,13,13989,14,13998,13,14004,0,11111]
[12,14103,13,14108,13,14113,23,14124,13,14136,0,11121]
[12,14234,24,14244,13,14254,23,14264,13,14277,0,12121]
[21,14377,11,14387,11,14397,12,14402,13,14409,0,21111]
[12,14509,24,14520,13,14530,23,14539,13,14552,0,12121]
[21,14663,11,14675,11,14680,12,14685,24,14699,0,21112]
[21,14799,11,14812,11,14836,12,14846,13,14855,0,21111]
[21,14959,22,14976,13,14986,14,14996,13,15002,0,22111]
[21,15108,11,15118,22,15128,14,15139,24,15152,0,21212]
[21,15258,11,15269,22,15277,14,15289,13,15298,0,21211]
[21,15398,22,15419,13,15428,14,15437,13,15442,0,22111]
[21,15553,11,15563,11,15568,12,15575,24,15590,0,21112]
[21,15691,11,15718,22,15730,14,15746,13,15756,0,21211]
[21,15862,22,15879,13,15889,14,15894,13,15899,0,22111]
[21,16009,22,16017,13,16028,14,16032,13,16037,0,22111]
[21,16162,11,16177,11,16188,12,16197,13,16206,0,21111]
[21,16336,11,16348,22,16358,14,16374,13,16382,0,21211]
[21,16481,22,16489,13,16500,23,16508,13,16520,0,22121]
[12,16633,13,16638,13,16645,23,16658,13,16672,0,11121]
[21,16773,22,16782,13,16795,14,16799,24,16812,0,22112]
[12,16932,24,16941,13,16955,14,16963,24,16973,0,12112]
[21,17077,22,17086,13,17102,14,17111,24,17124,0,22112]
[12,17251,13,17259,13,17266,14,17283,13,17292,0,11111]
[21,17398,22,17412,13,17426,14,17444,24,17456,0,22112]
[12,17606,24,17615,13,17633,14,17640,13,17648,0,12111]
[12,17792,24,17801,13,17815,14,17829,13,17836,0,12111]
[12,17956,13,17960,13,17967,23,17979,13,17996,0,11121]
[21,18122,11,18135,11,18153,12,18164,13,18188,0,21111]
[21,18287,22,18318,13,18330,14,18344,24,18355,0,22112]
[21,18454,11,18507,11,18512,12,18517,13,18525,0,21111]
[21,18629,22,18648,13,18658,14,18662,13,18668,0,22111]
[12,18777,13,18785,13,18792,23,18805,13,18817,0,11121]
[21,18961,11,18972,11,18994,12,19015,13,19023,0,21111]
[21,19135,22,19143,13,19155,14,19164,24,19177,0,22112]
[12,19281,13,19292,13,19298,14,19302,13,19309,0,11111]
[12,19440,13,19448,13,19457,14,19464,13,19472,0,11111]
[12,19608,13,19613,13,19618,23,19632,13,19644,0,11121]
[12,19754,13,19758,13,19762,14,19766,13,19789,0,11111]
[12,19905,24,19914,13,19927,14,19934,13,19940,0,12111]
[21,20083,11,20097,22,20107,14,20120,13,20128,0,21211]
[21,20281,11,20297,11,20325,12,20335,24,20349,0,21112]
[12,20513,13,20517,24,20530,23,20538,13,20563,0,11221]
[21,20727,11,20739,11,20744,12,20750,13,20754,0,21111]
[21,20875,11,20886,11,20892,21,20904,11,20916,1,21121]
[21,21020,11,21030,22,21039,14,21050,13,21059,0,21211]
[12,21156,24,21169,13,21179,14,21183,24,21193,0,12112]
[12,21289,13,21294,13,21303,14,21311,24,21324,0,11112]
[21,21426,11,21439,11,21457,12,21468,24,21483,0,21112]
[21,21603,11,21619,11,21628,12,21636,13,21644,0,21111]
[21,21742,22,21752,13,21766,23,21776,13,21790,0,22121]
[21,21890,11,21912,11,21929,12,21937,13,21945,0,21111]
[12,22062,13,22081,13,22089,14,22094,13,22101,0,11111]
[21,22206,22,22212,13,22222,14,22226,13,22236,0,22111]
[21,22344,22,22360,13,22370,14,22374,13,22379,0,22111]
[21,22484,11,22496,11,22500,12,22508,24,22522,0,21112]
[21,22622,22,22629,13,22638,14,22646,13,22650,0,22111]
[21,22764,11,22775,11,22792,12,22797,24,22811,0,21112]
[21,22919,11,22930,11,22935,12,22946,13,22950,0,21111]
[21,23054,22,23073,13,23084,14,23089,13,23103,0,22111]
[21,23214,11,23224,22,23230,14,23243,13,23251,0,21211]
[21,23351,22,23367,13,23380,14,23384,24,23397,0,22112]
[21,23500,22,23520,13,23531,14,23537,13,23545,0,22111]
[12,23674,24,23683,13,23692,14,23701,13,23710,0,12111]
[21,23819,22,23827,13,23835,14,23840,13,23848,0,22111]
[21,23949,22,23966,13,23976,14,23981,13,23986,null,22111]

{"sheet":"!N126810.091","index":9,"n_rows":150,"n_cols":48,"rows_kept":150,"cut":false,"hidden":false,"merged":[[4,39,4,42],[5,39,5,40],[4,44,4,47],[5,44,5,45],[4,24,4,27],[5,24,5,25],[4,29,4,32],[5,29,5,30],[4,34,4,37],[5,34,5,35],[1,1,1,2],[5,13,5,14],[42,13,42,14],[43,13,43,14],[4,19,4,22],[5,19,5,20]]}
["Report for:!N126810.091"]
["Date:","<date>"]
["Hen:","<hen>",null,null,null,"Correct Sequence",{"$f":"Start!J2","v":21121},null,null,null,null,null,null,null,null,"Total Sequences in Data",{"$f":"4994-COUNTBLANK(L7:L5000)","v":144},null,null,null,null,"Total Sequences in Block Data",{"$f":"COUNTA(L7:L30)","v":24},null,null,null,"Total Sequences in Block Data",{"$f":"COUNTA(L31:L54)","v":24},null,null,null,"Total Sequences in Block Data",{"$f":"COUNTA(L55:L78)","v":24},null,null,null,"Total Sequences in Block Data",{"$f":"COUNTA(L79:L102)","v":24},null,null,null,"Total Sequences in Block Data",{"$f":"COUNTA(L103:L126)","v":24},null,null,null,"Total Sequences in Block Data",{"$f":"COUNTA(L127:L150)","v":24}]
[null,null,null,null,null,null,null,null,null,null,null,null,null,null,null,"Total Sequences in Summary",{"$f":"SUM(O7:O38)","v":144},null,null,null,null,"Total Sequences in Block Summary",{"$f":"SUM(U7:U38)","v":24},null,null,null,"Total Sequences in Block Summary",{"$f":"SUM(Z7:Z38)","v":24},null,null,null,"Total Sequences in Block Summary",{"$f":"SUM(AE7:AE38)","v":24},null,null,null,"Total Sequences in Block Summary",{"$f":"SUM(AJ7:AJ38)","v":24},null,null,null,"Total Sequences in Block Summary",{"$f":"SUM(AO7:AO38)","v":24},null,null,null,"Total Sequences in Block Summary",{"$f":"SUM(AT7:AT38)","v":24}]
[null,null,null,null,null,null,null,null,null,null,null,null,null,null,null,null,null,null,null,"Block 1",null,null,null,null,"Block 2",null,null,null,null,"Block 3",null,null,null,null,"Block 4",null,null,null,null,"Block 5",null,null,null,null,"Block 6"]
["Sequence\nComponent\n1","Time\n1","Sequence\nComponent\n2","Time\n2","Sequence\nComponent\n3","Time\n3","Sequence\nComponent\n4","Time\n4","Sequence\nComponent\n5","Time\n5","Correct?\n0=No 1=Yes","Sequence",null,"Frequency",null,"Relative Frequency","Variability",null,null,"Frequency",null,"Relative Frequency","Variability",null,"Frequency",null,"Relative Frequency","Variability",null,"Frequency",null,"Relative Frequency","Variability",null,"Frequency",null,"Relative Frequency","Variability",null,"Frequency",null,"Relative Frequency","Variability",null,"Frequency",null,"Relative Frequency","Variability"]
[12,14,13,29,24,41,14,57,24,72,0,11212,null,11111,{"$f":"COUNTIF($L$7:$L$500,N7)","v":1},{"$f":"O7/$Q$4","v":6.9444444444444441E-3},{"$f":"IF(P7=0,0,(P7*((LOG(P7))/LOG(2))))","v":-4.9791145843349392E-2},null,null,{"$f":"N7","v":11111},{"$f":"COUNTIF(L7:L30,T7)","v":0},{"$f":"U7/(W4-U25)","v":0},{"$f":"IF(V7=0,0,(V7*((LOG(V7))/LOG(2))))","v":0},null,{"$f":"N7","v":11111},{"$f":"COUNTIF(L31:L54,Y7)","v":0},{"$f":"Z7/(AB4-Z25)","v":0},{"$f":"IF(AA7=0,0,(AA7*((LOG(AA7))/LOG(2))))","v":0},null,{"$f":"N7","v":11111},{"$f":"COUNTIF(L55:L78,AD7)","v":0},{"$f":"AE7/(AG4-AE25)","v":0},{"$f":"IF(AF7=0,0,(AF7*((LOG(AF7))/LOG(2))))","v":0},null,{"$f":"N7","v":11111},{"$f":"COUNTIF(L79:L102,AI7)","v":0},{"$f":"AJ7/(AL4-AJ25)","v":0},{"$f":"IF(AK7=0,0,(AK7*((LOG(AK7))/LOG(2))))","v":0},null,{"$f":"N7","v":11111},{"$f":"COUNTIF(L103:L126,AN7)","v":0},{"$f":"AO7/(AQ4-AO25)","v":0},{"$f":"IF(AP7=0,0,(AP7*((LOG(AP7))/LOG(2))))","v":0},null,{"$f":"N7","v":11111},{"$f":"COUNTIF(L127:L150,AS7)","v":1},{"$f":"AT7/(AV4-AT25)","v":4.3478260869565216E-2},{"$f":"IF(AU7=0,0,(AU7*((LOG(AU7))/LOG(2))))","v":-0.19667660678508753}]
[12,170,13,188,24,197,14,210,13,219,0,11211,null,11112,{"$f":"COUNTIF($L$7:$L$500,N8)","v":1},{"$f":"O8/$Q$4","v":6.9444444444444441E-3},{"$f":"IF(P8=0,0,(P8*((LOG(P8))/LOG(2))))","v":-4.9791145843349392E-2},null,null,{"$f":"N8","v":11112},{"$f":"COUNTIF(L7:L30,T8)","v":0},{"$f":"U8/(W4-U25)","v":0},{"$f":"IF(V8=0,0,(V8*((LOG(V8))/LOG(2))))","v":0},null,{"$f":"N8","v":11112},{"$f":"COUNTIF(L31:L54,Y8)","v":0},{"$f":"Z8/(AB4-Z25)","v":0},{"$f":"IF(AA8=0,0,(AA8*((LOG(AA8))/LOG(2))))","v":0},null,{"$f":"N8","v":11112},{"$f":"COUNTIF(L55:L78,AD8)","v":0},{"$f":"AE8/(AG4-AE25)","v":0},{"$f":"IF(AF8=0,0,(AF8*((LOG(AF8))/LOG(2))))","v":0},null,{"$f":"N8","v":11112},{"$f":"COUNTIF(L79:L102,AI8)","v":1},{"$f":"AJ8/(AL4-AJ25)","v":4.3478260869565216E-2},{"$f":"IF(AK8=0,0,(AK8*((LOG(AK8))/LOG(2))))","v":-0.19667660678508753},null,{"$f":"N8","v":11112},{"$f":"COUNTIF(L103:L126,AN8)","v":0},{"$f":"AO8/(AQ4-AO25)","v":0},{"$f":"IF(AP8=0,0,(AP8*((LOG(AP8))/LOG(2))))","v":0},null,{"$f":"N8","v":11112},{"$f":"COUNTIF(L127:L150,AS8)","v":0},{"$f":"AT8/(AV4-AT25)","v":0},{"$f":"IF(AU8=0,0,(AU8*((LOG(AU8))/LOG(2))))","v":0}]
[12,319,24,328,13,339,14,349,24,361,0,12112,null,11121,{"$f":"COUNTIF($L$7:$L$500,N9)","v":3},{"$f":"O9/$Q$4","v":2.0833333333333332E-2},{"$f":"IF(P9=0,0,(P9*((LOG(P9))/LOG(2))))","v":-0.11635338543169074},null,null,{"$f":"N9","v":11121},{"$f":"COUNTIF(L7:L30,T9)","v":1},{"$f":"U9/(W4-U25)","v":4.5454545454545456E-2},{"$f":"IF(V9=0,0,(V9*((LOG(V9))/LOG(2))))","v":-0.20270143721078623},null,{"$f":"N9","v":11121},{"$f":"COUNTIF(L31:L54,Y9)","v":0},{"$f":"Z9/(AB4-Z25)","v":0},{"$f":"IF(AA9=0,0,(AA9*((LOG(AA9))/LOG(2))))","v":0},null,{"$f":"N9","v":11121},{"$f":"COUNTIF(L55:L78,AD9)","v":1},{"$f":"AE9/(AG4-AE25)","v":4.3478260869565216E-2},{"$f":"IF(AF9=0,0,(AF9*((LOG(AF9))/LOG(2))))","v":-0.19667660678508753},null,{"$f":"N9","v":11121},{"$f":"COUNTIF(L79:L102,AI9)","v":0},{"$f":"AJ9/(AL4-AJ25)","v":0},{"$f":"IF(AK9=0,0,(AK9*((LOG(AK9))/LOG(2))))","v":0},null,{"$f":"N9","v":11121},{"$f":"COUNTIF(L103:L126,AN9)","v":0},{"$f":"AO9/(AQ4-AO25)","v":0},{"$f":"IF(AP9=0,0,(AP9*((LOG(AP9))/LOG(2))))","v":0},null,{"$f":"N9","v":11121},{"$f":"COUNTIF(L127:L150,AS9)","v":1},{"$f":"AT9/(AV4-AT25)","v":4.3478260869565216E-2},{"$f":"IF(AU9=0,0,(AU9*((LOG(AU9))/LOG(2))))","v":-0.19667660678508753}]
[12,477,24,489,13,502,23,519,13,532,0,12121,null,11122,{"$f":"COUNTIF($L$7:$L$500,N10)","v":0},{"$f":"O10/$Q$4","v":0},{"$f":"IF(P10=0,0,(P10*((LOG(P10))/LOG(2))))","v":0},null,null,{"$f":"N10","v":11122},{"$f":"COUNTIF(L7:L30,T10)","v":0},{"$f":"U10/(W4-U25)","v":0},{"$f":"IF(V10=0,0,(V10*((LOG(V10))/LOG(2))))","v":0},null,{"$f":"N10","v":11122},{"$f":"COUNTIF(L31:L54,Y10)","v":0},{"$f":"Z10/(AB4-Z25)","v":0},{"$f":"IF(AA10=0,0,(AA10*((LOG(AA10))/LOG(2))))","v":0},null,{"$f":"N10","v":11122},{"$f":"COUNTIF(L55:L78,AD10)","v":0},{"$f":"AE10/(AG4-AE25)","v":0},{"$f":"IF(AF10=0,0,(AF10*((LOG(AF10))/LOG(2))))","v":0},null,{"$f":"N10","v":11122},{"$f":"COUNTIF(L79:L102,AI10)","v":0},{"$f":"AJ10/(AL4-AJ25)","v":0},{"$f":"IF(AK10=0,0,(AK10*((LOG(AK10))/LOG(2))))","v":0},null,{"$f":"N10","v":11122},{"$f":"COUNTIF(L103:L126,AN10)","v":0},{"$f":"AO10/(AQ4-AO25)","v":0},{"$f":"IF(AP10=0,0,(AP10*((LOG(AP10))/LOG(2))))","v":0},null,{"$f":"N10","v":11122},{"$f":"COUNTIF(L127:L150,AS10)","v":0},{"$f":"AT10/(AV4-AT25)","v":0},{"$f":"IF(AU10=0,0,(AU10*((LOG(AU10))/LOG(2))))","v":0}]
[12,650,24,662,13,674,23,688,13,700,0,12121,null,11211,{"$f":"COUNTIF($L$7:$L$500,N11)","v":3},{"$f":"O11/$Q$4","v":2.0833333333333332E-2},{"$f":"IF(P11=0,0,(P11*((LOG(P11))/LOG(2))))","v":-0.11635338543169074},null,null,{"$f":"N11","v":11211},{"$f":"COUNTIF(L7:L30,T11)","v":1},{"$f":"U11/(W4-U25)","v":4.5454545454545456E-2},{"$f":"IF(V11=0,0,(V11*((LOG(V11))/LOG(2))))","v":-0.20270143721078623},null,{"$f":"N11","v":11211},{"$f":"COUNTIF(L31:L54,Y11)","v":0},{"$f":"Z11/(AB4-Z25)","v":0},{"$f":"IF(AA11=0,0,(AA11*((LOG(AA11))/LOG(2))))","v":0},null,{"$f":"N11","v":11211},{"$f":"COUNTIF(L55:L78,AD11)","v":1},{"$f":"AE11/(AG4-AE25)","v":4.3478260869565216E-2},{"$f":"IF(AF11=0,0,(AF11*((LOG(AF11))/LOG(2))))","v":-0.19667660678508753},null,{"$f":"N11","v":11211},{"$f":"COUNTIF(L79:L102,AI11)","v":0},{"$f":"AJ11/(AL4-AJ25)","v":0},{"$f":"IF(AK11=0,0,(AK11*((LOG(AK11))/LOG(2))))","v":0},null,{"$f":"N11","v":11211},{"$f":"COUNTIF(L103:L126,AN11)","v":0},{"$f":"AO11/(AQ4-AO25)","v":0},{"$f":"IF(AP11=0,0,(AP11*((LOG(AP11))/LOG(2))))","v":0},null,{"$f":"N11","v":11211},{"$f":"COUNTIF(L127:L150,AS11)","v":1},{"$f":"AT11/(AV4-AT25)","v":4.3478260869565216E-2},{"$f":"IF(AU11=0,0,(AU11*((LOG(AU11))/LOG(2))))","v":-0.19667660678508753}]
[21,824,11,836,22,844,14,857,24,873,0,21212,null,11212,{"$f":"COUNTIF($L$7:$L$500,N12)","v":1},{"$f":"O12/$Q$4","v":6.9444444444444441E-3},{"$f":"IF(P12=0,0,(P12*((LOG(P12))/LOG(2))))","v":-4.9791145843349392E-2},null,null,{"$f":"N12","v":11212},{"$f":"COUNTIF(L7:L30,T12)","v":1},{"$f":"U12/(W4-U25)","v":4.5454545454545456E-2},{"$f":"IF(V12=0,0,(V12*((LOG(V12))/LOG(2))))","v":-0.20270143721078623},null,{"$f":"N12","v":11212},{"$f":"COUNTIF(L31:L54,Y12)","v":0},{"$f":"Z12/(AB4-Z25)","v":0},{"$f":"IF(AA12=0,0,(AA12*((LOG(AA12))/LOG(2))))","v":0},null,{"$f":"N12","v":11212},{"$f":"COUNTIF(L55:L78,AD12)","v":0},{"$f":"AE12/(AG4-AE25)","v":0},{"$f":"IF(AF12=0,0,(AF12*((LOG(AF12))/LOG(2))))","v":0},null,{"$f":"N12","v":11212},{"$f":"COUNTIF(L79:L102,AI12)","v":0},{"$f":"AJ12/(AL4-AJ25)","v":0},{"$f":"IF(AK12=0,0,(AK12*((LOG(AK12))/LOG(2))))","v":0},null,{"$f":"N12","v":11212},{"$f":"COUNTIF(L103:L126,AN12)","v":0},{"$f":"AO12/(AQ4-AO25)","v":0},{"$f":"IF(AP12=0,0,(AP12*((LOG(AP12))/LOG(2))))","v":0},null,{"$f":"N12","v":11212},{"$f":"COUNTIF(L127:L150,AS12)","v":0},{"$f":"AT12/(AV4-AT25)","v":0},{"$f":"IF(AU12=0,0,(AU12*((LOG(AU12))/LOG(2))))","v":0}]
[21,980,11,993,22,1005,14,1025,24,1039,0,21212,null,11221,{"$f":"COUNTIF($L$7:$L$500,N13)","v":0},{"$f":"O13/$Q$4","v":0},{"$f":"IF(P13=0,0,(P13*((LOG(P13))/LOG(2))))","v":0},null,null,{"$f":"N13","v":11221},{"$f":"COUNTIF(L7:L30,T13)","v":0},{"$f":"U13/(W4-U25)","v":0},{"$f":"IF(V13=0,0,(V13*((LOG(V13))/LOG(2))))","v":0},null,{"$f":"N13","v":11221},{"$f":"COUNTIF(L31:L54,Y13)","v":0},{"$f":"Z13/(AB4-Z25)","v":0},{"$f":"IF(AA13=0,0,(AA13*((LOG(AA13))/LOG(2))))","v":0},null,{"$f":"N13","v":11221},{"$f":"COUNTIF(L55:L78,AD13)","v":0},{"$f":"AE13/(AG4-AE25)","v":0},{"$f":"IF(AF13=0,0,(AF13*((LOG(AF13))/LOG(2))))","v":0},null,{"$f":"N13","v":11221},{"$f":"COUNTIF(L79:L102,AI13)","v":0},{"$f":"AJ13/(AL4-AJ25)","v":0},{"$f":"IF(AK13=0,0,(AK13*((LOG(AK13))/LOG(2))))","v":0},null,{"$f":"N13","v":11221},{"$f":"COUNTIF(L103:L126,AN13)","v":0},{"$f":"AO13/(AQ4-AO25)","v":0},{"$f":"IF(AP13=0,0,(AP13*((LOG(AP13))/LOG(2))))","v":0},null,{"$f":"N13","v":11221},{"$f":"COUNTIF(L127:L150,AS13)","v":0},{"$f":"AT13/(AV4-AT25)","v":0},{"$f":"IF(AU13=0,0,(AU13*((LOG(AU13))/LOG(2))))","v":0}]
[21,1153,22,1165,24,1186,14,1197,13,1206,0,22211,null,11222,{"$f":"COUNTIF($L$7:$L$500,N14)","v":0},{"$f":"O14/$Q$4","v":0},{"$f":"IF(P14=0,0,(P14*((LOG(P14))/LOG(2))))","v":0},null,null,{"$f":"N14","v":11222},{"$f":"COUNTIF(L7:L30,T14)","v":0},{"$f":"U14/(W4-U25)","v":0},{"$f":"IF(V14=0,0,(V14*((LOG(V14))/LOG(2))))","v":0},null,{"$f":"N14","v":11222},{"$f":"COUNTIF(L31:L54,Y14)","v":0},{"$f":"Z14/(AB4-Z25)","v":0},{"$f":"IF(AA14=0,0,(AA14*((LOG(AA14))/LOG(2))))","v":0},null,{"$f":"N14","v":11222},{"$f":"COUNTIF(L55:L78,AD14)","v":0},{"$f":"AE14/(AG4-AE25)","v":0},{"$f":"IF(AF14=0,0,(AF14*((LOG(AF14))/LOG(2))))","v":0},null,{"$f":"N14","v":11222},{"$f":"COUNTIF(L79:L102,AI14)","v":0},{"$f":"AJ14/(AL4-AJ25)","v":0},{"$f":"IF(AK14=0,0,(AK14*((LOG(AK14))/LOG(2))))","v":0},null,{"$f":"N14","v":11222},{"$f":"COUNTIF(L103:L126,AN14)","v":0},{"$f":"AO14/(AQ4-AO25)","v":0},{"$f":"IF(AP14=0,0,(AP14*((LOG(AP14))/LOG(2))))","v":0},null,{"$f":"N14","v":11222},{"$f":"COUNTIF(L127:L150,AS14)","v":0},{"$f":"AT14/(AV4-AT25)","v":0},{"$f":"IF(AU14=0,0,(AU14*((LOG(AU14))/LOG(2))))","v":0}]
[21,1314,22,1333,13,1345,14,1353,24,1363,0,22112,null,12111,{"$f":"COUNTIF($L$7:$L$500,N15)","v":3},{"$f":"O15/$Q$4","v":2.0833333333333332E-2},{"$f":"IF(P15=0,0,(P15*((LOG(P15))/LOG(2))))","v":-0.11635338543169074},null,null,{"$f":"N15","v":12111},{"$f":"COUNTIF(L7:L30,T15)","v":3},{"$f":"U15/(W4-U25)","v":0.13636363636363635},{"$f":"IF(V15=0,0,(V15*((LOG(V15))/LOG(2))))","v":-0.39197306153401923},null,{"$f":"N15","v":12111},{"$f":"COUNTIF(L31:L54,Y15)","v":0},{"$f":"Z15/(AB4-Z25)","v":0},{"$f":"IF(AA15=0,0,(AA15*((LOG(AA15))/LOG(2))))","v":0},null,{"$f":"N15","v":12111},{"$f":"COUNTIF(L55:L78,AD15)","v":0},{"$f":"AE15/(AG4-AE25)","v":0},{"$f":"IF(AF15=0,0,(AF15*((LOG(AF15))/LOG(2))))","v":0},null,{"$f":"N15","v":12111},{"$f":"COUNTIF(L79:L102,AI15)","v":0},{"$f":"AJ15/(AL4-AJ25)","v":0},{"$f":"IF(AK15=0,0,(AK15*((LOG(AK15))/LOG(2))))","v":0},null,{"$f":"N15","v":12111},{"$f":"COUNTIF(L103:L126,AN15)","v":0},{"$f":"AO15/(AQ4-AO25)","v":0},{"$f":"IF(AP15=0,0,(AP15*((LOG(AP15))/LOG(2))))","v":0},null,{"$f":"N15","v":12111},{"$f":"COUNTIF(L127:L150,AS15)","v":0},{"$f":"AT15/(AV4-AT25)","v":0},{"$f":"IF(AU15=0,0,(AU15*((LOG(AU15))/LOG(2))))","v":0}]
[21,1466,22,1474,13,1484,23,1496,24,1523,0,22122,null,12112,{"$f":"COUNTIF($L$7:$L$500,N16)","v":3},{"$f":"O16/$Q$4","v":2.0833333333333332E-2},{"$f":"IF(P16=0,0,(P16*((LOG(P16))/LOG(2))))","v":-0.11635338543169074},null,null,{"$f":"N16","v":12112},{"$f":"COUNTIF(L7:L30,T16)","v":2},{"$f":"U16/(W4-U25)","v":9.0909090909090912E-2},{"$f":"IF(V16=0,0,(V16*((LOG(V16))/LOG(2))))","v":-0.31449378351248153},null,{"$f":"N16","v":12112},{"$f":"COUNTIF(L31:L54,Y16)","v":0},{"$f":"Z16/(AB4-Z25)","v":0},{"$f":"IF(AA16=0,0,(AA16*((LOG(AA16))/LOG(2))))","v":0},null,{"$f":"N16","v":12112},{"$f":"COUNTIF(L55:L78,AD16)","v":0},{"$f":"AE16/(AG4-AE25)","v":0},{"$f":"IF(AF16=0,0,(AF16*((LOG(AF16))/LOG(2))))","v":0},null,{"$f":"N16","v":12112},{"$f":"COUNTIF(L79:L102,AI16)","v":0},{"$f":"AJ16/(AL4-AJ25)","v":0},{"$f":"IF(AK16=0,0,(AK16*((LOG(AK16))/LOG(2))))","v":0},null,{"$f":"N16","v":12112},{"$f":"COUNTIF(L103:L126,AN16)","v":0},{"$f":"AO16/(AQ4-AO25)","v":0},{"$f":"IF(AP16=0,0,(AP16*((LOG(AP16))/LOG(2))))","v":0},null,{"$f":"N16","v":12112},{"$f":"COUNTIF(L127:L150,AS16)","v":1},{"$f":"AT16/(AV4-AT25)","v":4.3478260869565216E-2},{"$f":"IF(AU16=0,0,(AU16*((LOG(AU16))/LOG(2))))","v":-0.19667660678508753}]
[21,1664,11,1675,11,1698,21,1712,11,1728,1,21121,null,12121,{"$f":"COUNTIF($L$7:$L$500,N17)","v":7},{"$f":"O17/$Q$4","v":4.8611111111111112E-2},{"$f":"IF(P17=0,0,(P17*((LOG(P17))/LOG(2))))","v":-0.21206937885897889},null,null,{"$f":"N17","v":12121},{"$f":"COUNTIF(L7:L30,T17)","v":2},{"$f":"U17/(W4-U25)","v":9.0909090909090912E-2},{"$f":"IF(V17=0,0,(V17*((LOG(V17))/LOG(2))))","v":-0.31449378351248153},null,{"$f":"N17","v":12121},{"$f":"COUNTIF(L31:L54,Y17)","v":1},{"$f":"Z17/(AB4-Z25)","v":4.3478260869565216E-2},{"$f":"IF(AA17=0,0,(AA17*((LOG(AA17))/LOG(2))))","v":-0.19667660678508753},null,{"$f":"N17","v":12121},{"$f":"COUNTIF(L55:L78,AD17)","v":0},{"$f":"AE17/(AG4-AE25)","v":0},{"$f":"IF(AF17=0,0,(AF17*((LOG(AF17))/LOG(2))))","v":0},null,{"$f":"N17","v":12121},{"$f":"COUNTIF(L79:L102,AI17)","v":1},{"$f":"AJ17/(AL4-AJ25)","v":4.3478260869565216E-2},{"$f":"IF(AK17=0,0,(AK17*((LOG(AK17))/LOG(2))))","v":-0.19667660678508753},null,{"$f":"N17","v":12121},{"$f":"COUNTIF(L103:L126,AN17)","v":3},{"$f":"AO17/(AQ4-AO25)","v":0.125},{"$f":"IF(AP17=0,0,(AP17*((LOG(AP17))/LOG(2))))","v":-0.375},null,{"$f":"N17","v":12121},{"$f":"COUNTIF(L127:L150,AS17)","v":0},{"$f":"AT17/(AV4-AT25)","v":0},{"$f":"IF(AU17=0,0,(AU17*((LOG(AU17))/LOG(2))))","v":0}]
[21,1831,11,1840,22,1849,14,1861,13,1870,0,21211,null,12122,{"$f":"COUNTIF($L$7:$L$500,N18)","v":0},{"$f":"O18/$Q$4","v":0},{"$f":"IF(P18=0,0,(P18*((LOG(P18))/LOG(2))))","v":0},null,null,{"$f":"N18","v":12122},{"$f":"COUNTIF(L7:L30,T18)","v":0},{"$f":"U18/(W4-U25)","v":0},{"$f":"IF(V18=0,0,(V18*((LOG(V18))/LOG(2))))","v":0},null,{"$f":"N18","v":12122},{"$f":"COUNTIF(L31:L54,Y18)","v":0},{"$f":"Z18/(AB4-Z25)","v":0},{"$f":"IF(AA18=0,0,(AA18*((LOG(AA18))/LOG(2))))","v":0},null,{"$f":"N18","v":12122},{"$f":"COUNTIF(L55:L78,AD18)","v":0},{"$f":"AE18/(AG4-AE25)","v":0},{"$f":"IF(AF18=0,0,(AF18*((LOG(AF18))/LOG(2))))","v":0},null,{"$f":"N18","v":12122},{"$f":"COUNTIF(L79:L102,AI18)","v":0},{"$f":"AJ18/(AL4-AJ25)","v":0},{"$f":"IF(AK18=0,0,(AK18*((LOG(AK18))/LOG(2))))","v":0},null,{"$f":"N18","v":12122},{"$f":"COUNTIF(L103:L126,AN18)","v":0},{"$f":"AO18/(AQ4-AO25)","v":0},{"$f":"IF(AP18=0,0,(AP18*((LOG(AP18))/LOG(2))))","v":0},null,{"$f":"N18","v":12122},{"$f":"COUNTIF(L127:L150,AS18)","v":0},{"$f":"AT18/(AV4-AT25)","v":0},{"$f":"IF(AU18=0,0,(AU18*((LOG(AU18))/LOG(2))))","v":0}]
[21,1978,11,1986,22,2001,14,2012,24,2025,0,21212,null,12211,{"$f":"COUNTIF($L$7:$L$500,N19)","v":0},{"$f":"O19/$Q$4","v":0},{"$f":"IF(P19=0,0,(P19*((LOG(P19))/LOG(2))))","v":0},null,null,{"$f":"N19","v":12211},{"$f":"COUNTIF(L7:L30,T19)","v":0},{"$f":"U19/(W4-U25)","v":0},{"$f":"IF(V19=0,0,(V19*((LOG(V19))/LOG(2))))","v":0},null,{"$f":"N19","v":12211},{"$f":"COUNTIF(L31:L54,Y19)","v":0},{"$f":"Z19/(AB4-Z25)","v":0},{"$f":"IF(AA19=0,0,(AA19*((LOG(AA19))/LOG(2))))","v":0},null,{"$f":"N19","v":12211},{"$f":"COUNTIF(L55:L78,AD19)","v":0},{"$f":"AE19/(AG4-AE25)","v":0},{"$f":"IF(AF19=0,0,(AF19*((LOG(AF19))/LOG(2))))","v":0},null,{"$f":"N19","v":12211},{"$f":"COUNTIF(L79:L102,AI19)","v":0},{"$f":"AJ19/(AL4-AJ25)","v":0},{"$f":"IF(AK19=0,0,(AK19*((LOG(AK19))/LOG(2))))","v":0},null,{"$f":"N19","v":12211},{"$f":"COUNTIF(L103:L126,AN19)","v":0},{"$f":"AO19/(AQ4-AO25)","v":0},{"$f":"IF(AP19=0,0,(AP19*((LOG(AP19))/LOG(2))))","v":0},null,{"$f":"N19","v":12211},{"$f":"COUNTIF(L127:L150,AS19)","v":0},{"$f":"AT19/(AV4-AT25)","v":0},{"$f":"IF(AU19=0,0,(AU19*((LOG(AU19))/LOG(2))))","v":0}]
[21,2132,11,2146,11,2150,12,2171,24,2184,0,21112,null,12212,{"$f":"COUNTIF($L$7:$L$500,N20)","v":0},{"$f":"O20/$Q$4","v":0},{"$f":"IF(P20=0,0,(P20*((LOG(P20))/LOG(2))))","v":0},null,null,{"$f":"N20","v":12212},{"$f":"COUNTIF(L7:L30,T20)","v":0},{"$f":"U20/(W4-U25)","v":0},{"$f":"IF(V20=0,0,(V20*((LOG(V20))/LOG(2))))","v":0},null,{"$f":"N20","v":12212},{"$f":"COUNTIF(L31:L54,Y20)","v":0},{"$f":"Z20/(AB4-Z25)","v":0},{"$f":"IF(AA20=0,0,(AA20*((LOG(AA20))/LOG(2))))","v":0},null,{"$f":"N20","v":12212},{"$f":"COUNTIF(L55:L78,AD20)","v":0},{"$f":"AE20/(AG4-AE25)","v":0},{"$f":"IF(AF20=0,0,(AF20*((LOG(AF20))/LOG(2))))","v":0},null,{"$f":"N20","v":12212},{"$f":"COUNTIF(L79:L102,AI20)","v":0},{"$f":"AJ20/(AL4-AJ25)","v":0},{"$f":"IF(AK20=0,0,(AK20*((LOG(AK20))/LOG(2))))","v":0},null,{"$f":"N20","v":12212},{"$f":"COUNTIF(L103:L126,AN20)","v":0},{"$f":"AO20/(AQ4-AO25)","v":0},{"$f":"IF(AP20=0,0,(AP20*((LOG(AP20))/LOG(2))))","v":0},null,{"$f":"N20","v":12212},{"$f":"COUNTIF(L127:L150,AS20)","v":0},{"$f":"AT20/(AV4-AT25)","v":0},{"$f":"IF(AU20=0,0,(AU20*((LOG(AU20))/LOG(2))))","v":0}]
[21,2293,11,2306,22,2316,14,2329,13,2344,0,21211,null,12221,{"$f":"COUNTIF($L$7:$L$500,N21)","v":0},{"$f":"O21/$Q$4","v":0},{"$f":"IF(P21=0,0,(P21*((LOG(P21))/LOG(2))))","v":0},null,null,{"$f":"N21","v":12221},{"$f":"COUNTIF(L7:L30,T21)","v":0},{"$f":"U21/(W4-U25)","v":0},{"$f":"IF(V21=0,0,(V21*((LOG(V21))/LOG(2))))","v":0},null,{"$f":"N21","v":12221},{"$f":"COUNTIF(L31:L54,Y21)","v":0},{"$f":"Z21/(AB4-Z25)","v":0},{"$f":"IF(AA21=0,0,(AA21*((LOG(AA21))/LOG(2))))","v":0},null,{"$f":"N21","v":12221},{"$f":"COUNTIF(L55:L78,AD21)","v":0},{"$f":"AE21/(AG4-AE25)","v":0},{"$f":"IF(AF21=0,0,(AF21*((LOG(AF21))/LOG(2))))","v":0},null,{"$f":"N21","v":12221},{"$f":"COUNTIF(L79:L102,AI21)","v":0},{"$f":"AJ21/(AL4-AJ25)","v":0},{"$f":"IF(AK21=0,0,(AK21*((LOG(AK21))/LOG(2))))","v":0},null,{"$f":"N21","v":12221},{"$f":"COUNTIF(L103:L126,AN21)","v":0},{"$f":"AO21/(AQ4-AO25)","v":0},{"$f":"IF(AP21=0,0,(AP21*((LOG(AP21))/LOG(2))))","v":0},null,{"$f":"N21","v":12221},{"$f":"COUNTIF(L127:L150,AS21)","v":0},{"$f":"AT21/(AV4-AT25)","v":0},{"$f":"IF(AU21=0,0,(AU21*((LOG(AU21))/LOG(2))))","v":0}]
[12,2467,24,2480,13,2492,14,2500,13,2514,0,12111,null,12222,{"$f":"COUNTIF($L$7:$L$500,N22)","v":0},{"$f":"O22/$Q$4","v":0},{"$f":"IF(P22=0,0,(P22*((LOG(P22))/LOG(2))))","v":0},null,null,{"$f":"N22","v":12222},{"$f":"COUNTIF(L7:L30,T22)","v":0},{"$f":"U22/(W4-U25)","v":0},{"$f":"IF(V22=0,0,(V22*((LOG(V22))/LOG(2))))","v":0},null,{"$f":"N22","v":12222},{"$f":"COUNTIF(L31:L54,Y22)","v":0},{"$f":"Z22/(AB4-Z25)","v":0},{"$f":"IF(AA22=0,0,(AA22*((LOG(AA22))/LOG(2))))","v":0},null,{"$f":"N22","v":12222},{"$f":"COUNTIF(L55:L78,AD22)","v":0},{"$f":"AE22/(AG4-AE25)","v":0},{"$f":"IF(AF22=0,0,(AF22*((LOG(AF22))/LOG(2))))","v":0},null,{"$f":"N22","v":12222},{"$f":"COUNTIF(L79:L102,AI22)","v":0},{"$f":"AJ22/(AL4-AJ25)","v":0},{"$f":"IF(AK22=0,0,(AK22*((LOG(AK22))/LOG(2))))","v":0},null,{"$f":"N22","v":12222},{"$f":"COUNTIF(L103:L126,AN22)","v":0},{"$f":"AO22/(AQ4-AO25)","v":0},{"$f":"IF(AP22=0,0,(AP22*((LOG(AP22))/LOG(2))))","v":0},null,{"$f":"N22","v":12222},{"$f":"COUNTIF(L127:L150,AS22)","v":0},{"$f":"AT22/(AV4-AT25)","v":0},{"$f":"IF(AU22=0,0,(AU22*((LOG(AU22))/LOG(2))))","v":0}]
[12,2653,24,2668,13,2682,14,2696,13,2705,0,12111,null,21111,{"$f":"COUNTIF($L$7:$L$500,N23)","v":0},{"$f":"O23/$Q$4","v":0},{"$f":"IF(P23=0,0,(P23*((LOG(P23))/LOG(2))))","v":0},null,null,{"$f":"N23","v":21111},{"$f":"COUNTIF(L7:L30,T23)","v":0},{"$f":"U23/(W4-U25)","v":0},{"$f":"IF(V23=0,0,(V23*((LOG(V23))/LOG(2))))","v":0},null,{"$f":"N23","v":21111},{"$f":"COUNTIF(L31:L54,Y23)","v":0},{"$f":"Z23/(AB4-Z25)","v":0},{"$f":"IF(AA23=0,0,(AA23*((LOG(AA23))/LOG(2))))","v":0},null,{"$f":"N23","v":21111},{"$f":"COUNTIF(L55:L78,AD23)","v":0},{"$f":"AE23/(AG4-AE25)","v":0},{"$f":"IF(AF23=0,0,(AF23*((LOG(AF23))/LOG(2))))","v":0},null,{"$f":"N23","v":21111},{"$f":"COUNTIF(L79:L102,AI23)","v":0},{"$f":"AJ23/(AL4-AJ25)","v":0},{"$f":"IF(AK23=0,0,(AK23*((LOG(AK23))/LOG(2))))","v":0},null,{"$f":"N23","v":21111},{"$f":"COUNTIF(L103:L126,AN23)","v":0},{"$f":"AO23/(AQ4-AO25)","v":0},{"$f":"IF(AP23=0,0,(AP23*((LOG(AP23))/LOG(2))))","v":0},null,{"$f":"N23","v":21111},{"$f":"COUNTIF(L127:L150,AS23)","v":0},{"$f":"AT23/(AV4-AT25)","v":0},{"$f":"IF(AU23=0,0,(AU23*((LOG(AU23))/LOG(2))))","v":0}]
[12,2826,24,2853,13,2865,14,2874,13,2880,0,12111,null,21112,{"$f":"COUNTIF($L$7:$L$500,N24)","v":1},{"$f":"O24/$Q$4","v":6.9444444444444441E-3},{"$f":"IF(P24=0,0,(P24*((LOG(P24))/LOG(2))))","v":-4.9791145843349392E-2},null,null,{"$f":"N24","v":21112},{"$f":"COUNTIF(L7:L30,T24)","v":1},{"$f":"U24/(W4-U25)","v":4.5454545454545456E-2},{"$f":"IF(V24=0,0,(V24*((LOG(V24))/LOG(2))))","v":-0.20270143721078623},null,{"$f":"N24","v":21112},{"$f":"COUNTIF(L31:L54,Y24)","v":0},{"$f":"Z24/(AB4-Z25)","v":0},{"$f":"IF(AA24=0,0,(AA24*((LOG(AA24))/LOG(2))))","v":0},null,{"$f":"N24","v":21112},{"$f":"COUNTIF(L55:L78,AD24)","v":0},{"$f":"AE24/(AG4-AE25)","v":0},{"$f":"IF(AF24=0,0,(AF24*((LOG(AF24))/LOG(2))))","v":0},null,{"$f":"N24","v":21112},{"$f":"COUNTIF(L79:L102,AI24)","v":0},{"$f":"AJ24/(AL4-AJ25)","v":0},{"$f":"IF(AK24=0,0,(AK24*((LOG(AK24))/LOG(2))))","v":0},null,{"$f":"N24","v":21112},{"$f":"COUNTIF(L103:L126,AN24)","v":0},{"$f":"AO24/(AQ4-AO25)","v":0},{"$f":"IF(AP24=0,0,(AP24*((LOG(AP24))/LOG(2))))","v":0},null,{"$f":"N24","v":21112},{"$f":"COUNTIF(L127:L150,AS24)","v":0},{"$f":"AT24/(AV4-AT25)","v":0},{"$f":"IF(AU24=0,0,(AU24*((LOG(AU24))/LOG(2))))","v":0}]
[21,2992,22,3006,13,3016,14,3024,24,3038,0,22112,null,21121,{"$f":"COUNTIF($L$7:$L$500,N25)","v":6},{"$f":"O25/$Q$4","v":4.1666666666666664E-2},{"$f":"IF(P25=0,0,(P25*((LOG(P25))/LOG(2))))","v":-0.19104010419671485},null,null,{"$f":"N25","v":21121},{"$f":"COUNTIF(L7:L30,T25)","v":2},null,null,null,{"$f":"N25","v":21121},{"$f":"COUNTIF(L31:L54,Y25)","v":1},null,null,null,{"$f":"N25","v":21121},{"$f":"COUNTIF(L55:L78,AD25)","v":1},null,null,null,{"$f":"N25","v":21121},{"$f":"COUNTIF(L79:L102,AI25)","v":1},null,null,null,{"$f":"N25","v":21121},{"$f":"COUNTIF(L103:L126,AN25)","v":0},null,null,null,{"$f":"N25","v":21121},{"$f":"COUNTIF(L127:L150,AS25)","v":1}]
[21,3136,22,3151,13,3161,23,3175,13,3188,0,22121,null,21122,{"$f":"COUNTIF($L$7:$L$500,N26)","v":0},{"$f":"O26/$Q$4","v":0},{"$f":"IF(P26=0,0,(P26*((LOG(P26))/LOG(2))))","v":0},null,null,{"$f":"N26","v":21122},{"$f":"COUNTIF(L7:L30,T26)","v":0},{"$f":"U26/(W4-U25)","v":0},{"$f":"IF(V26=0,0,(V26*((LOG(V26))/LOG(2))))","v":0},null,{"$f":"N26","v":21122},{"$f":"COUNTIF(L31:L54,Y26)","v":0},{"$f":"Z26/(AB4-Z25)","v":0},{"$f":"IF(AA26=0,0,(AA26*((LOG(AA26))/LOG(2))))","v":0},null,{"$f":"N26","v":21122},{"$f":"COUNTIF(L55:L78,AD26)","v":0},{"$f":"AE26/(AG4-AE25)","v":0},{"$f":"IF(AF26=0,0,(AF26*((LOG(AF26))/LOG(2))))","v":0},null,{"$f":"N26","v":21122},{"$f":"COUNTIF(L79:L102,AI26)","v":0},{"$f":"AJ26/(AL4-AJ25)","v":0},{"$f":"IF(AK26=0,0,(AK26*((LOG(AK26))/LOG(2))))","v":0},null,{"$f":"N26","v":21122},{"$f":"COUNTIF(L103:L126,AN26)","v":0},{"$f":"AO26/(AQ4-AO25)","v":0},{"$f":"IF(AP26=0,0,(AP26*((LOG(AP26))/LOG(2))))","v":0},null,{"$f":"N26","v":21122},{"$f":"COUNTIF(L127:L150,AS26)","v":0},{"$f":"AT26/(AV4-AT25)","v":0},{"$f":"IF(AU26=0,0,(AU26*((LOG(AU26))/LOG(2))))","v":0}]
[21,3320,11,3331,11,3340,21,3350,11,3363,1,21121,null,21211,{"$f":"COUNTIF($L$7:$L$500,N27)","v":12},{"$f":"O27/$Q$4","v":8.3333333333333329E-2},{"$f":"IF(P27=0,0,(P27*((LOG(P27))/LOG(2))))","v":-0.29874687506009634},null,null,{"$f":"N27","v":21211},{"$f":"COUNTIF(L7:L30,T27)","v":2},{"$f":"U27/(W4-U25)","v":9.0909090909090912E-2},{"$f":"IF(V27=0,0,(V27*((LOG(V27))/LOG(2))))","v":-0.31449378351248153},null,{"$f":"N27","v":21211},{"$f":"COUNTIF(L31:L54,Y27)","v":2},{"$f":"Z27/(AB4-Z25)","v":8.6956521739130432E-2},{"$f":"IF(AA27=0,0,(AA27*((LOG(AA27))/LOG(2))))","v":-0.30639669183104457},null,{"$f":"N27","v":21211},{"$f":"COUNTIF(L55:L78,AD27)","v":4},{"$f":"AE27/(AG4-AE25)","v":0.17391304347826086},{"$f":"IF(AF27=0,0,(AF27*((LOG(AF27))/LOG(2))))","v":-0.43888034018382832},null,{"$f":"N27","v":21211},{"$f":"COUNTIF(L79:L102,AI27)","v":2},{"$f":"AJ27/(AL4-AJ25)","v":8.6956521739130432E-2},{"$f":"IF(AK27=0,0,(AK27*((LOG(AK27))/LOG(2))))","v":-0.30639669183104457},null,{"$f":"N27","v":21211},{"$f":"COUNTIF(L103:L126,AN27)","v":0},{"$f":"AO27/(AQ4-AO25)","v":0},{"$f":"IF(AP27=0,0,(AP27*((LOG(AP27))/LOG(2))))","v":0},null,{"$f":"N27","v":21211},{"$f":"COUNTIF(L127:L150,AS27)","v":2},{"$f":"AT27/(AV4-AT25)","v":8.6956521739130432E-2},{"$f":"IF(AU27=0,0,(AU27*((LOG(AU27))/LOG(2))))","v":-0.30639669183104457}]
[12,3478,24,3486,13,3498,14,3507,24,3519,0,12112,null,21212,{"$f":"COUNTIF($L$7:$L$500,N28)","v":12},{"$f":"O28/$Q$4","v":8.3333333333333329E-2},{"$f":"IF(P28=0,0,(P28*((LOG(P28))/LOG(2))))","v":-0.29874687506009634},null,null,{"$f":"N28","v":21212},{"$f":"COUNTIF(L7:L30,T28)","v":3},{"$f":"U28/(W4-U25)","v":0.13636363636363635},{"$f":"IF(V28=0,0,(V28*((LOG(V28))/LOG(2))))","v":-0.39197306153401923},null,{"$f":"N28","v":21212},{"$f":"COUNTIF(L31:L54,Y28)","v":2},{"$f":"Z28/(AB4-Z25)","v":8.6956521739130432E-2},{"$f":"IF(AA28=0,0,(AA28*((LOG(AA28))/LOG(2))))","v":-0.30639669183104457},null,{"$f":"N28","v":21212},{"$f":"COUNTIF(L55:L78,AD28)","v":3},{"$f":"AE28/(AG4-AE25)","v":0.13043478260869565},{"$f":"IF(AF28=0,0,(AF28*((LOG(AF28))/LOG(2))))","v":-0.3832955811307639},null,{"$f":"N28","v":21212},{"$f":"COUNTIF(L79:L102,AI28)","v":1},{"$f":"AJ28/(AL4-AJ25)","v":4.3478260869565216E-2},{"$f":"IF(AK28=0,0,(AK28*((LOG(AK28))/LOG(2))))","v":-0.19667660678508753},null,{"$f":"N28","v":21212},{"$f":"COUNTIF(L103:L126,AN28)","v":1},{"$f":"AO28/(AQ4-AO25)","v":4.1666666666666664E-2},{"$f":"IF(AP28=0,0,(AP28*((LOG(AP28))/LOG(2))))","v":-0.19104010419671485},null,{"$f":"N28","v":21212},{"$f":"COUNTIF(L127:L150,AS28)","v":2},{"$f":"AT28/(AV4-AT25)","v":8.6956521739130432E-2},{"$f":"IF(AU28=0,0,(AU28*((LOG(AU28))/LOG(2))))","v":-0.30639669183104457}]
[12,3617,13,3644,13,3664,23,3678,13,3689,0,11121,null,21221,{"$f":"COUNTIF($L$7:$L$500,N29)","v":2},{"$f":"O29/$Q$4","v":1.3888888888888888E-2},{"$f":"IF(P29=0,0,(P29*((LOG(P29))/LOG(2))))","v":-8.5693402797809889E-2},null,null,{"$f":"N29","v":21221},{"$f":"COUNTIF(L7:L30,T29)","v":0},{"$f":"U29/(W4-U25)","v":0},{"$f":"IF(V29=0,0,(V29*((LOG(V29))/LOG(2))))","v":0},null,{"$f":"N29","v":21221},{"$f":"COUNTIF(L31:L54,Y29)","v":1},{"$f":"Z29/(AB4-Z25)","v":4.3478260869565216E-2},{"$f":"IF(AA29=0,0,(AA29*((LOG(AA29))/LOG(2))))","v":-0.19667660678508753},null,{"$f":"N29","v":21221},{"$f":"COUNTIF(L55:L78,AD29)","v":1},{"$f":"AE29/(AG4-AE25)","v":4.3478260869565216E-2},{"$f":"IF(AF29=0,0,(AF29*((LOG(AF29))/LOG(2))))","v":-0.19667660678508753},null,{"$f":"N29","v":21221},{"$f":"COUNTIF(L79:L102,AI29)","v":0},{"$f":"AJ29/(AL4-AJ25)","v":0},{"$f":"IF(AK29=0,0,(AK29*((LOG(AK29))/LOG(2))))","v":0},null,{"$f":"N29","v":21221},{"$f":"COUNTIF(L103:L126,AN29)","v":0},{"$f":"AO29/(AQ4-AO25)","v":0},{"$f":"IF(AP29=0,0,(AP29*((LOG(AP29))/LOG(2))))","v":0},null,{"$f":"N29","v":21221},{"$f":"COUNTIF(L127:L150,AS29)","v":0},{"$f":"AT29/(AV4-AT25)","v":0},{"$f":"IF(AU29=0,0,(AU29*((LOG(AU29))/LOG(2))))","v":0}]
[21,3792,22,3799,13,3809,23,3820,13,3829,0,22121,null,21222,{"$f":"COUNTIF($L$7:$L$500,N30)","v":0},{"$f":"O30/$Q$4","v":0},{"$f":"IF(P30=0,0,(P30*((LOG(P30))/LOG(2))))","v":0},null,null,{"$f":"N30","v":21222},{"$f":"COUNTIF(L7:L30,T30)","v":0},{"$f":"U30/(W4-U25)","v":0},{"$f":"IF(V30=0,0,(V30*((LOG(V30))/LOG(2))))","v":0},null,{"$f":"N30","v":21222},{"$f":"COUNTIF(L31:L54,Y30)","v":0},{"$f":"Z30/(AB4-Z25)","v":0},{"$f":"IF(AA30=0,0,(AA30*((LOG(AA30))/LOG(2))))","v":0},null,{"$f":"N30","v":21222},{"$f":"COUNTIF(L55:L78,AD30)","v":0},{"$f":"AE30/(AG4-AE25)","v":0},{"$f":"IF(AF30=0,0,(AF30*((LOG(AF30))/LOG(2))))","v":0},null,{"$f":"N30","v":21222},{"$f":"COUNTIF(L79:L102,AI30)","v":0},{"$f":"AJ30/(AL4-AJ25)","v":0},{"$f":"IF(AK30=0,0,(AK30*((LOG(AK30))/LOG(2))))","v":0},null,{"$f":"N30","v":21222},{"$f":"COUNTIF(L103:L126,AN30)","v":0},{"$f":"AO30/(AQ4-AO25)","v":0},{"$f":"IF(AP30=0,0,(AP30*((LOG(AP30))/LOG(2))))","v":0},null,{"$f":"N30","v":21222},{"$f":"COUNTIF(L127:L150,AS30)","v":0},{"$f":"AT30/(AV4-AT25)","v":0},{"$f":"IF(AU30=0,0,(AU30*((LOG(AU30))/LOG(2))))","v":0}]
[21,3942,22,3962,13,3972,23,3987,13,4002,0,22121,null,22111,{"$f":"COUNTIF($L$7:$L$500,N31)","v":1},{"$f":"O31/$Q$4","v":6.9444444444444441E-3},{"$f":"IF(P31=0,0,(P31*((LOG(P31))/LOG(2))))","v":-4.9791145843349392E-2},null,null,{"$f":"N31","v":22111},{"$f":"COUNTIF(L7:L30,T31)","v":0},{"$f":"U31/(W4-U25)","v":0},{"$f":"IF(V31=0,0,(V31*((LOG(V31))/LOG(2))))","v":0},null,{"$f":"N31","v":22111},{"$f":"COUNTIF(L31:L54,Y31)","v":0},{"$f":"Z31/(AB4-Z25)","v":0},{"$f":"IF(AA31=0,0,(AA31*((LOG(AA31))/LOG(2))))","v":0},null,{"$f":"N31","v":22111},{"$f":"COUNTIF(L55:L78,AD31)","v":0},{"$f":"AE31/(AG4-AE25)","v":0},{"$f":"IF(AF31=0,0,(AF31*((LOG(AF31))/LOG(2))))","v":0},null,{"$f":"N31","v":22111},{"$f":"COUNTIF(L79:L102,AI31)","v":1},{"$f":"AJ31/(AL4-AJ25)","v":4.3478260869565216E-2},{"$f":"IF(AK31=0,0,(AK31*((LOG(AK31))/LOG(2))))","v":-0.19667660678508753},null,{"$f":"N31","v":22111},{"$f":"COUNTIF(L103:L126,AN31)","v":0},{"$f":"AO31/(AQ4-AO25)","v":0},{"$f":"IF(AP31=0,0,(AP31*((LOG(AP31))/LOG(2))))","v":0},null,{"$f":"N31","v":22111},{"$f":"COUNTIF(L127:L150,AS31)","v":0},{"$f":"AT31/(AV4-AT25)","v":0},{"$f":"IF(AU31=0,0,(AU31*((LOG(AU31))/LOG(2))))","v":0}]
[21,4111,22,4118,24,4134,14,4142,13,4150,0,22211,null,22112,{"$f":"COUNTIF($L$7:$L$500,N32)","v":9},{"$f":"O32/$Q$4","v":6.25E-2},{"$f":"IF(P32=0,0,(P32*((LOG(P32))/LOG(2))))","v":-0.25},null,null,{"$f":"N32","v":22112},{"$f":"COUNTIF(L7:L30,T32)","v":2},{"$f":"U32/(W4-U25)","v":9.0909090909090912E-2},{"$f":"IF(V32=0,0,(V32*((LOG(V32))/LOG(2))))","v":-0.31449378351248153},null,{"$f":"N32","v":22112},{"$f":"COUNTIF(L31:L54,Y32)","v":1},{"$f":"Z32/(AB4-Z25)","v":4.3478260869565216E-2},{"$f":"IF(AA32=0,0,(AA32*((LOG(AA32))/LOG(2))))","v":-0.19667660678508753},null,{"$f":"N32","v":22112},{"$f":"COUNTIF(L55:L78,AD32)","v":3},{"$f":"AE32/(AG4-AE25)","v":0.13043478260869565},{"$f":"IF(AF32=0,0,(AF32*((LOG(AF32))/LOG(2))))","v":-0.3832955811307639},null,{"$f":"N32","v":22112},{"$f":"COUNTIF(L79:L102,AI32)","v":2},{"$f":"AJ32/(AL4-AJ25)","v":8.6956521739130432E-2},{"$f":"IF(AK32=0,0,(AK32*((LOG(AK32))/LOG(2))))","v":-0.30639669183104457},null,{"$f":"N32","v":22112},{"$f":"COUNTIF(L103:L126,AN32)","v":1},{"$f":"AO32/(AQ4-AO25)","v":4.1666666666666664E-2},{"$f":"IF(AP32=0,0,(AP32*((LOG(AP32))/LOG(2))))","v":-0.19104010419671485},null,{"$f":"N32","v":22112},{"$f":"COUNTIF(L127:L150,AS32)","v":0},{"$f":"AT32/(AV4-AT25)","v":0},{"$f":"IF(AU32=0,0,(AU32*((LOG(AU32))/LOG(2))))","v":0}]
[21,4252,22,4267,13,4277,23,4289,13,4306,0,22121,null,22121,{"$f":"COUNTIF($L$7:$L$500,N33)","v":41},{"$f":"O33/$Q$4","v":0.28472222222222221},{"$f":"IF(P33=0,0,(P33*((LOG(P33))/LOG(2))))","v":-0.51602286715134293},null,null,{"$f":"N33","v":22121},{"$f":"COUNTIF(L7:L30,T33)","v":2},{"$f":"U33/(W4-U25)","v":9.0909090909090912E-2},{"$f":"IF(V33=0,0,(V33*((LOG(V33))/LOG(2))))","v":-0.31449378351248153},null,{"$f":"N33","v":22121},{"$f":"COUNTIF(L31:L54,Y33)","v":13},{"$f":"Z33/(AB4-Z25)","v":0.56521739130434778},{"$f":"IF(AA33=0,0,(AA33*((LOG(AA33))/LOG(2))))","v":-0.46524300403943353},null,{"$f":"N33","v":22121},{"$f":"COUNTIF(L55:L78,AD33)","v":6},{"$f":"AE33/(AG4-AE25)","v":0.2608695652173913},{"$f":"IF(AF33=0,0,(AF33*((LOG(AF33))/LOG(2))))","v":-0.50572159704413644},null,{"$f":"N33","v":22121},{"$f":"COUNTIF(L79:L102,AI33)","v":3},{"$f":"AJ33/(AL4-AJ25)","v":0.13043478260869565},{"$f":"IF(AK33=0,0,(AK33*((LOG(AK33))/LOG(2))))","v":-0.3832955811307639},null,{"$f":"N33","v":22121},{"$f":"COUNTIF(L103:L126,AN33)","v":13},{"$f":"AO33/(AQ4-AO25)","v":0.54166666666666663},{"$f":"IF(AP33=0,0,(AP33*((LOG(AP33))/LOG(2))))","v":-0.47911650723086807},null,{"$f":"N33","v":22121},{"$f":"COUNTIF(L127:L150,AS33)","v":4},{"$f":"AT33/(AV4-AT25)","v":0.17391304347826086},{"$f":"IF(AU33=0,0,(AU33*((LOG(AU33))/LOG(2))))","v":-0.43888034018382832}]
[21,4414,22,4420,13,4432,23,4441,13,4453,0,22121,null,22122,{"$f":"COUNTIF($L$7:$L$500,N34)","v":2},{"$f":"O34/$Q$4","v":1.3888888888888888E-2},{"$f":"IF(P34=0,0,(P34*((LOG(P34))/LOG(2))))","v":-8.5693402797809889E-2},null,null,{"$f":"N34","v":22122},{"$f":"COUNTIF(L7:L30,T34)","v":1},{"$f":"U34/(W4-U25)","v":4.5454545454545456E-2},{"$f":"IF(V34=0,0,(V34*((LOG(V34))/LOG(2))))","v":-0.20270143721078623},null,{"$f":"N34","v":22122},{"$f":"COUNTIF(L31:L54,Y34)","v":0},{"$f":"Z34/(AB4-Z25)","v":0},{"$f":"IF(AA34=0,0,(AA34*((LOG(AA34))/LOG(2))))","v":0},null,{"$f":"N34","v":22122},{"$f":"COUNTIF(L55:L78,AD34)","v":1},{"$f":"AE34/(AG4-AE25)","v":4.3478260869565216E-2},{"$f":"IF(AF34=0,0,(AF34*((LOG(AF34))/LOG(2))))","v":-0.19667660678508753},null,{"$f":"N34","v":22122},{"$f":"COUNTIF(L79:L102,AI34)","v":0},{"$f":"AJ34/(AL4-AJ25)","v":0},{"$f":"IF(AK34=0,0,(AK34*((LOG(AK34))/LOG(2))))","v":0},null,{"$f":"N34","v":22122},{"$f":"COUNTIF(L103:L126,AN34)","v":0},{"$f":"AO34/(AQ4-AO25)","v":0},{"$f":"IF(AP34=0,0,(AP34*((LOG(AP34))/LOG(2))))","v":0},null,{"$f":"N34","v":22122},{"$f":"COUNTIF(L127:L150,AS34)","v":0},{"$f":"AT34/(AV4-AT25)","v":0},{"$f":"IF(AU34=0,0,(AU34*((LOG(AU34))/LOG(2))))","v":0}]
[21,4572,11,4586,22,4594,23,4604,13,4619,0,21221,null,22211,{"$f":"COUNTIF($L$7:$L$500,N35)","v":11},{"$f":"O35/$Q$4","v":7.6388888888888895E-2},{"$f":"IF(P35=0,0,(P35*((LOG(P35))/LOG(2))))","v":-0.28344046674204981},null,null,{"$f":"N35","v":22211},{"$f":"COUNTIF(L7:L30,T35)","v":1},{"$f":"U35/(W4-U25)","v":4.5454545454545456E-2},{"$f":"IF(V35=0,0,(V35*((LOG(V35))/LOG(2))))","v":-0.20270143721078623},null,{"$f":"N35","v":22211},{"$f":"COUNTIF(L31:L54,Y35)","v":2},{"$f":"Z35/(AB4-Z25)","v":8.6956521739130432E-2},{"$f":"IF(AA35=0,0,(AA35*((LOG(AA35))/LOG(2))))","v":-0.30639669183104457},null,{"$f":"N35","v":22211},{"$f":"COUNTIF(L55:L78,AD35)","v":1},{"$f":"AE35/(AG4-AE25)","v":4.3478260869565216E-2},{"$f":"IF(AF35=0,0,(AF35*((LOG(AF35))/LOG(2))))","v":-0.19667660678508753},null,{"$f":"N35","v":22211},{"$f":"COUNTIF(L79:L102,AI35)","v":2},{"$f":"AJ35/(AL4-AJ25)","v":8.6956521739130432E-2},{"$f":"IF(AK35=0,0,(AK35*((LOG(AK35))/LOG(2))))","v":-0.30639669183104457},null,{"$f":"N35","v":22211},{"$f":"COUNTIF(L103:L126,AN35)","v":2},{"$f":"AO35/(AQ4-AO25)","v":8.3333333333333329E-2},{"$f":"IF(AP35=0,0,(AP35*((LOG(AP35))/LOG(2))))","v":-0.29874687506009634},null,{"$f":"N35","v":22211},{"$f":"COUNTIF(L127:L150,AS35)","v":3},{"$f":"AT35/(AV4-AT25)","v":0.13043478260869565},{"$f":"IF(AU35=0,0,(AU35*((LOG(AU35))/LOG(2))))","v":-0.3832955811307639}]
[21,4729,22,4740,13,4750,23,4770,13,4781,0,22121,null,22212,{"$f":"COUNTIF($L$7:$L$500,N36)","v":16},{"$f":"O36/$Q$4","v":0.1111111111111111},{"$f":"IF(P36=0,0,(P36*((LOG(P36))/LOG(2))))","v":-0.3522138890491458},null,null,{"$f":"N36","v":22212},{"$f":"COUNTIF(L7:L30,T36)","v":0},{"$f":"U36/(W4-U25)","v":0},{"$f":"IF(V36=0,0,(V36*((LOG(V36))/LOG(2))))","v":0},null,{"$f":"N36","v":22212},{"$f":"COUNTIF(L31:L54,Y36)","v":1},{"$f":"Z36/(AB4-Z25)","v":4.3478260869565216E-2},{"$f":"IF(AA36=0,0,(AA36*((LOG(AA36))/LOG(2))))","v":-0.19667660678508753},null,{"$f":"N36","v":22212},{"$f":"COUNTIF(L55:L78,AD36)","v":1},{"$f":"AE36/(AG4-AE25)","v":4.3478260869565216E-2},{"$f":"IF(AF36=0,0,(AF36*((LOG(AF36))/LOG(2))))","v":-0.19667660678508753},null,{"$f":"N36","v":22212},{"$f":"COUNTIF(L79:L102,AI36)","v":9},{"$f":"AJ36/(AL4-AJ25)","v":0.39130434782608697},{"$f":"IF(AK36=0,0,(AK36*((LOG(AK36))/LOG(2))))","v":-0.5296840257187958},null,{"$f":"N36","v":22212},{"$f":"COUNTIF(L103:L126,AN36)","v":1},{"$f":"AO36/(AQ4-AO25)","v":4.1666666666666664E-2},{"$f":"IF(AP36=0,0,(AP36*((LOG(AP36))/LOG(2))))","v":-0.19104010419671485},null,{"$f":"N36","v":22212},{"$f":"COUNTIF(L127:L150,AS36)","v":4},{"$f":"AT36/(AV4-AT25)","v":0.17391304347826086},{"$f":"IF(AU36=0,0,(AU36*((LOG(AU36))/LOG(2))))","v":-0.43888034018382832}]
[21,4898,22,4912,13,4924,23,4936,13,4949,0,22121,null,22221,{"$f":"COUNTIF($L$7:$L$500,N37)","v":7},{"$f":"O37/$Q$4","v":4.8611111111111112E-2},{"$f":"IF(P37=0,0,(P37*((LOG(P37))/LOG(2))))","v":-0.21206937885897889},null,null,{"$f":"N37","v":22221},{"$f":"COUNTIF(L7:L30,T37)","v":0},{"$f":"U37/(W4-U25)","v":0},{"$f":"IF(V37=0,0,(V37*((LOG(V37))/LOG(2))))","v":0},null,{"$f":"N37","v":22221},{"$f":"COUNTIF(L31:L54,Y37)","v":0},{"$f":"Z37/(AB4-Z25)","v":0},{"$f":"IF(AA37=0,0,(AA37*((LOG(AA37))/LOG(2))))","v":0},null,{"$f":"N37","v":22221},{"$f":"COUNTIF(L55:L78,AD37)","v":1},{"$f":"AE37/(AG4-AE25)","v":4.3478260869565216E-2},{"$f":"IF(AF37=0,0,(AF37*((LOG(AF37))/LOG(2))))","v":-0.19667660678508753},null,{"$f":"N37","v":22221},{"$f":"COUNTIF(L79:L102,AI37)","v":1},{"$f":"AJ37/(AL4-AJ25)","v":4.3478260869565216E-2},{"$f":"IF(AK37=0,0,(AK37*((LOG(AK37))/LOG(2))))","v":-0.19667660678508753},null,{"$f":"N37","v":22221},{"$f":"COUNTIF(L103:L126,AN37)","v":2},{"$f":"AO37/(AQ4-AO25)","v":8.3333333333333329E-2},{"$f":"IF(AP37=0,0,(AP37*((LOG(AP37))/LOG(2))))","v":-0.29874687506009634},null,{"$f":"N37","v":22221},{"$f":"COUNTIF(L127:L150,AS37)","v":3},{"$f":"AT37/(AV4-AT25)","v":0.13043478260869565},{"$f":"IF(AU37=0,0,(AU37*((LOG(AU37))/LOG(2))))","v":-0.3832955811307639}]
[21,5051,22,5068,13,5079,23,5096,13,5109,0,22121,null,22222,{"$f":"COUNTIF($L$7:$L$500,N38)","v":2},{"$f":"O38/$Q$4","v":1.3888888888888888E-2},{"$f":"IF(P38=0,0,(P38*((LOG(P38))/LOG(2))))","v":-8.5693402797809889E-2},null,null,{"$f":"N38","v":22222},{"$f":"COUNTIF(L7:L30,T38)","v":0},{"$f":"U38/(W4-U25)","v":0},{"$f":"IF(V38=0,0,(V38*((LOG(V38))/LOG(2))))","v":0},null,{"$f":"N38","v":22222},{"$f":"COUNTIF(L31:L54,Y38)","v":0},{"$f":"Z38/(AB4-Z25)","v":0},{"$f":"IF(AA38=0,0,(AA38*((LOG(AA38))/LOG(2))))","v":0},null,{"$f":"N38","v":22222},{"$f":"COUNTIF(L55:L78,AD38)","v":0},{"$f":"AE38/(AG4-AE25)","v":0},{"$f":"IF(AF38=0,0,(AF38*((LOG(AF38))/LOG(2))))","v":0},null,{"$f":"N38","v":22222},{"$f":"COUNTIF(L79:L102,AI38)","v":0},{"$f":"AJ38/(AL4-AJ25)","v":0},{"$f":"IF(AK38=0,0,(AK38*((LOG(AK38))/LOG(2))))","v":0},null,{"$f":"N38","v":22222},{"$f":"COUNTIF(L103:L126,AN38)","v":1},{"$f":"AO38/(AQ4-AO25)","v":4.1666666666666664E-2},{"$f":"IF(AP38=0,0,(AP38*((LOG(AP38))/LOG(2))))","v":-0.19104010419671485},null,{"$f":"N38","v":22222},{"$f":"COUNTIF(L127:L150,AS38)","v":1},{"$f":"AT38/(AV4-AT25)","v":4.3478260869565216E-2},{"$f":"IF(AU38=0,0,(AU38*((LOG(AU38))/LOG(2))))","v":-0.19667660678508753}]
[21,5220,22,5228,13,5245,23,5253,13,5265,0,22121,null,null,null,{"$f":"SUM(P7:P38)","v":1},{"$f":"-SUM(Q7:Q38)","v":3.5857993143143427},null,null,null,null,{"$f":"SUM(V7:V38)","v":1},{"$f":"-SUM(W7:W38)","v":3.5726236638951634},null,null,null,{"$f":"SUM(AA7:AA38)","v":1},{"$f":"-SUM(AB7:AB38)","v":2.1711395066729176},null,null,null,{"$f":"SUM(AF7:AF38)","v":0.99999999999999978},{"$f":"-SUM(AG7:AG38)","v":3.0879293469851055},null,null,null,{"$f":"SUM(AK7:AK38)","v":1},{"$f":"-SUM(AL7:AL38)","v":2.8155527162681309},null,null,null,{"$f":"SUM(AP7:AP38)","v":1},{"$f":"-SUM(AQ7:AQ38)","v":2.2157706741379202},null,null,null,{"$f":"SUM(AU7:AU38)","v":1},{"$f":"-SUM(AV7:AV38)","v":3.2405282602167111}]
[21,5379,11,5392,22,5401,14,5414,13,5423,0,21211,null,null,null,"U=",{"$f":"Q39/(LOG(Q4)/LOG(2))","v":0.50011671162432214},null,null,null,null,"U1=",{"$f":"W39/(LOG(W4)/LOG(2))","v":0.77920455474461026},null,null,null,"U2=",{"$f":"AB39/(LOG(AB4)/LOG(2))","v":0.47353484490471298},null,null,null,"U3=",{"$f":"AG39/(LOG(AG4)/LOG(2))","v":0.67349064392553126},null,null,null,"U4=",{"$f":"AL39/(LOG(AL4)/LOG(2))","v":0.61408413172960097},null,null,null,"U5=",{"$f":"AQ39/(LOG(AQ4)/LOG(2))","v":0.48326909408515506},null,null,null,"U6=",{"$f":"AV39/(LOG(AV4)/LOG(2))","v":0.70677312185367214}]
[21,5573,11,5586,22,5595,14,5608,24,5621,0,21212]
[21,5744,11,5755,22,5767,14,5778,24,5791,0,21212]
[21,5897,11,5923,11,5931,21,5944,11,5956,1,21121,null,"Total Target Seq"]
[21,6053,22,6087,13,6098,14,6106,24,6118,0,22112,null,{"$f":"COUNTIF(L7:L150,G3)","v":6},null,24,24,24,24,24,24]
[21,6224,22,6231,13,6239,23,6251,13,6262,0,22121,null,null,null,"% of reinforcement given in 6 equal intervals based on number of trials "]
[21,6369,22,6375,24,6392,14,6402,24,6415,0,22212,null,null,null,"%_1","%_2","%_3","%_4","%_5","%_6"]
[21,6520,22,6528,13,6542,23,6552,13,6567,0,22121,null,null,"target sequence",{"$f":"$G$3","v":21121},{"$f":"$G$3","v":21121},{"$f":"$G$3","v":21121},{"$f":"$G$3","v":21121},{"$f":"$G$3","v":21121},{"$f":"$G$3","v":21121}]
[21,6676,22,6684,13,6692,23,6704,13,6717,0,22121,null,null,"total reinforcement",{"$f":"U25","v":2},{"$f":"Z25","v":1},{"$f":"AE25","v":1},{"$f":"AJ25","v":1},{"$f":"AO25","v":0},{"$f":"AT25","v":1}]
[21,6828,22,6846,13,6855,23,6870,13,6883,0,22121,null,null,"% target"]
[21,7002,11,7014,22,7020,14,7034,13,7058,0,21211,null,null,"CCRF"]
[21,7160,22,7166,13,7194,23,7204,13,7216,0,22121,null,null,"% CCRf"]
[21,7324,22,7332,13,7340,23,7350,13,7362,0,22121,null,null,"average response rate",{"$f":"J30/P44","v":159.54166666666666},{"$f":"(J54-J30)/Q44","v":160.29166666666666},{"$f":"(J78-J54)/R44","v":160.625},{"$f":"(J102-J78)/S44","v":162.70833333333334},{"$f":"(J126-J102)/T44","v":169.45833333333334},{"$f":"(J150-J126)/U44","v":182.45833333333334}]
[21,7469,22,7474,24,7490,14,7503,13,7513,0,22211]
[12,7631,24,7637,13,7650,23,7662,13,7676,0,12121]
[21,7776,22,7797,13,7808,23,7817,13,7832,0,22121]
[21,7938,22,7956,13,7968,23,7978,24,7986,0,22122]
[21,8097,22,8115,13,8129,23,8141,13,8155,0,22121]
[21,8274,11,8286,22,8293,14,8305,24,8317,0,21212]
[21,8419,11,8443,22,8452,14,8465,13,8489,0,21211]
[12,8630,13,8650,13,8664,23,8678,13,8690,0,11121]
[21,8804,22,8811,13,8820,14,8833,24,8846,0,22112]
[21,8950,22,8966,13,8975,23,8983,13,8996,0,22121]
[21,9103,11,9126,22,9139,23,9149,13,9162,0,21221]
[21,9272,22,9280,24,9296,14,9309,13,9318,0,22211]
[21,9421,11,9442,22,9451,14,9463,24,9477,0,21212]
[21,9585,11,9643,11,9652,21,9666,11,9678,1,21121]
[21,9775,11,9784,22,9793,14,9805,24,9819,0,21212]
[21,9947,11,9958,22,9971,14,9984,13,9997,0,21211]
[21,10101,22,10119,13,10130,23,10138,13,10149,0,22121]
[21,10257,22,10265,13,10285,14,10296,24,10305,0,22112]
[12,10440,13,10449,24,10459,14,10472,13,10484,0,11211]
[21,10597,11,10618,22,10626,14,10635,13,10643,0,21211]
[21,10744,22,10752,24,10760,23,10775,13,10787,0,22221]
[21,10896,22,10905,13,10915,23,10923,13,10934,0,22121]
[21,11042,22,11058,13,11066,14,11075,24,11088,0,22112]
[21,11188,22,11193,24,11206,14,11220,24,11233,0,22212]
[21,11345,11,11356,22,11366,14,11379,13,11391,0,21211]
[21,11491,22,11498,13,11507,23,11521,13,11531,0,22121]
[21,11638,22,11646,13,11657,23,11666,13,11679,0,22121]
[21,11785,22,11806,13,11818,14,11836,13,11838,0,22111]
[21,11962,11,11973,22,11986,14,11999,13,12008,0,21211]
[12,12134,24,12144,13,12156,23,12168,13,12180,0,12121]
[21,12280,22,12285,24,12305,14,12316,24,12351,0,22212]
[21,12457,22,12465,24,12480,14,12491,24,12500,0,22212]
[21,12611,22,12618,13,12627,23,12641,13,12654,0,22121]
[21,12764,22,12774,24,12792,14,12803,24,12817,0,22212]
[21,12932,22,12940,24,12952,14,12964,24,12977,0,22212]
[21,13090,22,13115,13,13129,23,13141,13,13154,0,22121]
[21,13254,22,13263,24,13280,14,13289,24,13302,0,22212]
[21,13409,22,13416,24,13431,14,13443,24,13457,0,22212]
[21,13568,22,13576,24,13592,23,13599,13,13611,0,22221]
[21,13720,22,13727,24,13744,14,13753,24,13766,0,22212]
[21,13865,22,13896,24,13929,14,13942,13,13957,0,22211]
[21,14061,22,14075,24,14082,14,14109,24,14118,0,22212]
[21,14218,22,14224,24,14241,14,14250,24,14262,0,22212]
[21,14364,22,14375,24,14392,14,14401,13,14407,0,22211]
[21,14518,11,14528,22,14538,14,14550,13,14559,0,21211]
[21,14689,22,14707,13,14720,14,14746,24,14761,0,22112]
[21,14869,22,14884,13,14896,14,14905,24,14917,0,22112]
[12,15072,13,15081,13,15090,14,15107,24,15120,0,11112]
[21,15241,11,15250,11,15260,21,15271,11,15283,1,21121]
[21,15394,11,15403,22,15412,14,15424,24,15436,0,21212]
[21,15543,22,15552,13,15559,23,15568,13,15580,0,22121]
[21,15686,22,15701,13,15727,23,15737,13,15749,0,22121]
[21,15851,22,15869,13,15883,23,15892,13,15904,0,22121]
[21,16022,11,16034,22,16043,14,16056,24,16066,0,21212]
[21,16178,22,16186,13,16196,23,16205,13,16217,0,22121]
[21,16318,22,16325,13,16336,23,16345,13,16357,0,22121]
[21,16457,22,16472,13,16486,23,16493,13,16505,0,22121]
[21,16606,22,16612,24,16617,23,16633,13,16646,0,22221]
[12,16793,24,16806,13,16822,23,16836,13,16849,0,12121]
[21,16952,22,16962,24,16969,23,16988,13,17000,0,22221]
[21,17100,22,17105,24,17109,23,17121,24,17138,0,22222]
[21,17251,22,17260,13,17273,23,17282,13,17294,0,22121]
[21,17398,22,17418,13,17430,23,17438,13,17448,0,22121]
[21,17548,22,17557,13,17569,23,17579,13,17591,0,22121]
[21,17695,22,17704,24,17717,14,17728,13,17733,0,22211]
[21,17863,22,17872,24,17887,14,17897,24,17908,0,22212]
[21,18032,22,18048,13,18062,23,18072,13,18085,0,22121]
[21,18254,22,18271,13,18283,23,18293,13,18305,0,22121]
[21,18411,22,18420,24,18437,14,18449,13,18457,0,22211]
[21,18603,22,18610,13,18619,23,18631,13,18643,0,22121]
[12,18818,24,18833,13,18844,23,18858,13,18870,0,12121]
[21,19008,22,19024,13,19039,23,19047,13,19059,0,22121]
[12,19244,24,19256,13,19268,23,19281,13,19293,0,12121]
[21,19440,22,19457,13,19470,14,19490,24,19503,0,22112]
[21,19693,11,19703,11,19722,21,19736,11,19748,1,21121]
[21,19844,11,19856,22,19862,14,19873,24,19885,0,21212]
[21,19985,22,19998,24,20011,14,20022,24,20030,0,22212]
[21,20141,22,20156,13,20167,23,20178,13,20187,0,22121]
[21,20297,22,20303,24,20317,14,20325,24,20335,0,22212]
[21,20441,22,20448,24,20465,14,20475,24,20486,0,22212]
[21,20607,22,20614,24,20630,14,20642,24,20656,0,22212]
[21,20761,22,20769,24,20786,23,20801,13,20809,0,22221]
[12,20934,24,20943,13,20952,14,20960,24,20970,0,12112]
[21,21068,22,21073,24,21081,23,21094,24,21113,0,22222]
[21,21253,22,21262,24,21279,14,21292,13,21301,0,22211]
[21,21442,11,21455,22,21463,14,21474,24,21486,0,21212]
[21,21648,22,21655,13,21667,23,21680,13,21694,0,22121]
[21,21822,22,21843,13,21857,23,21869,13,21881,0,22121]
[21,22006,22,22014,13,22024,23,22036,13,22049,0,22121]
[21,22155,22,22172,24,22179,23,22195,13,22205,0,22221]
[12,22370,13,22386,13,22407,23,22420,13,22432,0,11121]
[12,22610,13,22631,13,22653,14,22679,13,22704,0,11111]
[21,22836,22,22843,24,22864,14,22874,13,22881,0,22211]
[21,23032,11,23044,22,23058,14,23072,13,23084,0,21211]
[12,23236,13,23257,24,23269,14,23284,13,23303,0,11211]
[21,23415,22,23423,24,23439,14,23450,13,23464,0,22211]
[21,23653,11,23672,22,23686,14,23698,13,23713,0,21211]
[21,23820,22,23830,24,23839,23,23874,13,23882,0,22221]

{"sheet":"!N127930.091","index":10,"n_rows":141,"n_cols":48,"rows_kept":141,"cut":false,"hidden":false,"merged":[[4,39,4,42],[5,39,5,40],[4,44,4,47],[5,44,5,45],[4,24,4,27],[5,24,5,25],[4,29,4,32],[5,29,5,30],[4,34,4,37],[5,34,5,35],[1,1,1,2],[5,13,5,14],[42,13,42,14],[43,13,43,14],[4,19,4,22],[5,19,5,20]]}
["Report for:!N127930.091"]
["Date:","<date>"]
["Hen:","<hen>",null,null,null,"Correct Sequence",{"$f":"Start!J2","v":21121},null,null,null,null,null,null,null,null,"Total Sequences in Data",{"$f":"4994-COUNTBLANK(L7:L5000)","v":135},null,null,null,null,"Total Sequences in Block Data",{"$f":"COUNTA(L7:L29)","v":23},null,null,null,"Total Sequences in Block Data",{"$f":"COUNTA(L30:L51)","v":22},null,null,null,"Total Sequences in Block Data",{"$f":"COUNTA(L52:L74)","v":23},null,null,null,"Total Sequences in Block Data",{"$f":"COUNTA(L75:L96)","v":22},null,null,null,"Total Sequences in Block Data",{"$f":"COUNTA(L97:L119)","v":23},null,null,null,"Total Sequences in Block Data",{"$f":"COUNTA(L120:L141)","v":22}]
[null,null,null,null,null,null,null,null,null,null,null,null,null,null,null,"Total Sequences in Summary",{"$f":"SUM(O7:O38)","v":134},null,null,null,null,"Total Sequences in Block Summary",{"$f":"SUM(U7:U38)","v":23},null,null,null,"Total Sequences in Block Summary",{"$f":"SUM(Z7:Z38)","v":22},null,null,null,"Total Sequences in Block Summary",{"$f":"SUM(AE7:AE38)","v":23},null,null,null,"Total Sequences in Block Summary",{"$f":"SUM(AJ7:AJ38)","v":22},null,null,null,"Total Sequences in Block Summary",{"$f":"SUM(AO7:AO38)","v":23},null,null,null,"Total Sequences in Block Summary",{"$f":"SUM(AT7:AT38)","v":21}]
[null,null,null,null,null,null,null,null,null,null,null,null,null,null,null,null,null,null,null,"Block 1",null,null,null,null,"Block 2",null,null,null,null,"Block 3",null,null,null,null,"Block 4",null,null,null,null,"Block 5",null,null,null,null,"Block 6"]
["Sequence\nComponent\n1","Time\n1","Sequence\nComponent\n2","Time\n2","Sequence\nComponent\n3","Time\n3","Sequence\nComponent\n4","Time\n4","Sequence\nComponent\n5","Time\n5","Correct?\n0=No 1=Yes","Sequence",null,"Frequency",null,"Relative Frequency","Variability",null,null,"Frequency",null,"Relative Frequency","Variability",null,"Frequency",null,"Relative Frequency","Variability",null,"Frequency",null,"Relative Frequency","Variability",null,"Frequency",null,"Relative Frequency","Variability",null,"Frequency",null,"Relative Frequency","Variability",null,"Frequency",null,"Relative Frequency","Variability"]
[12,14,24,24,24,40,14,56,24,69,1,12212,null,11111,{"$f":"COUNTIF($L$7:$L$500,N7)","v":0},{"$f":"O7/$Q$4","v":0},{"$f":"IF(P7=0,0,(P7*((LOG(P7))/LOG(2))))","v":0},null,null,{"$f":"N7","v":11111},{"$f":"COUNTIF(L7:L29,T7)","v":0},{"$f":"U7/(W4-U25)","v":0},{"$f":"IF(V7=0,0,(V7*((LOG(V7))/LOG(2))))","v":0},null,{"$f":"N7","v":11111},{"$f":"COUNTIF(L30:L51,Y7)","v":0},{"$f":"Z7/(AB4-Z25)","v":0},{"$f":"IF(AA7=0,0,(AA7*((LOG(AA7))/LOG(2))))","v":0},null,{"$f":"N7","v":11111},{"$f":"COUNTIF(L52:L74,AD7)","v":0},{"$f":"AE7/(AG4-AE25)","v":0},{"$f":"IF(AF7=0,0,(AF7*((LOG(AF7))/LOG(2))))","v":0},null,{"$f":"N7","v":11111},{"$f":"COUNTIF(L75:L96,AI7)","v":0},{"$f":"AJ7/(AL4-AJ25)","v":0},{"$f":"IF(AK7=0,0,(AK7*((LOG(AK7))/LOG(2))))","v":0},null,{"$f":"N7","v":11111},{"$f":"COUNTIF(L97:L119,AN7)","v":0},{"$f":"AO7/(AQ4-AO25)","v":0},{"$f":"IF(AP7=0,0,(AP7*((LOG(AP7))/LOG(2))))","v":0},null,{"$f":"N7","v":11111},{"$f":"COUNTIF(L120:L141,AS7)","v":0},{"$f":"AT7/(AV4-AT25)","v":0},{"$f":"IF(AU7=0,0,(AU7*((LOG(AU7))/LOG(2))))","v":0}]
[21,164,22,175,13,187,23,199,13,212,0,22121,null,11112,{"$f":"COUNTIF($L$7:$L$500,N8)","v":0},{"$f":"O8/$Q$4","v":0},{"$f":"IF(P8=0,0,(P8*((LOG(P8))/LOG(2))))","v":0},null,null,{"$f":"N8","v":11112},{"$f":"COUNTIF(L7:L29,T8)","v":0},{"$f":"U8/(W4-U25)","v":0},{"$f":"IF(V8=0,0,(V8*((LOG(V8))/LOG(2))))","v":0},null,{"$f":"N8","v":11112},{"$f":"COUNTIF(L30:L51,Y8)","v":0},{"$f":"Z8/(AB4-Z25)","v":0},{"$f":"IF(AA8=0,0,(AA8*((LOG(AA8))/LOG(2))))","v":0},null,{"$f":"N8","v":11112},{"$f":"COUNTIF(L52:L74,AD8)","v":0},{"$f":"AE8/(AG4-AE25)","v":0},{"$f":"IF(AF8=0,0,(AF8*((LOG(AF8))/LOG(2))))","v":0},null,{"$f":"N8","v":11112},{"$f":"COUNTIF(L75:L96,AI8)","v":0},{"$f":"AJ8/(AL4-AJ25)","v":0},{"$f":"IF(AK8=0,0,(AK8*((LOG(AK8))/LOG(2))))","v":0},null,{"$f":"N8","v":11112},{"$f":"COUNTIF(L97:L119,AN8)","v":0},{"$f":"AO8/(AQ4-AO25)","v":0},{"$f":"IF(AP8=0,0,(AP8*((LOG(AP8))/LOG(2))))","v":0},null,{"$f":"N8","v":11112},{"$f":"COUNTIF(L120:L141,AS8)","v":0},{"$f":"AT8/(AV4-AT25)","v":0},{"$f":"IF(AU8=0,0,(AU8*((LOG(AU8))/LOG(2))))","v":0}]
[12,326,24,332,13,344,23,356,13,371,0,12121,null,11121,{"$f":"COUNTIF($L$7:$L$500,N9)","v":0},{"$f":"O9/$Q$4","v":0},{"$f":"IF(P9=0,0,(P9*((LOG(P9))/LOG(2))))","v":0},null,null,{"$f":"N9","v":11121},{"$f":"COUNTIF(L7:L29,T9)","v":0},{"$f":"U9/(W4-U25)","v":0},{"$f":"IF(V9=0,0,(V9*((LOG(V9))/LOG(2))))","v":0},null,{"$f":"N9","v":11121},{"$f":"COUNTIF(L30:L51,Y9)","v":0},{"$f":"Z9/(AB4-Z25)","v":0},{"$f":"IF(AA9=0,0,(AA9*((LOG(AA9))/LOG(2))))","v":0},null,{"$f":"N9","v":11121},{"$f":"COUNTIF(L52:L74,AD9)","v":0},{"$f":"AE9/(AG4-AE25)","v":0},{"$f":"IF(AF9=0,0,(AF9*((LOG(AF9))/LOG(2))))","v":0},null,{"$f":"N9","v":11121},{"$f":"COUNTIF(L75:L96,AI9)","v":0},{"$f":"AJ9/(AL4-AJ25)","v":0},{"$f":"IF(AK9=0,0,(AK9*((LOG(AK9))/LOG(2))))","v":0},null,{"$f":"N9","v":11121},{"$f":"COUNTIF(L97:L119,AN9)","v":0},{"$f":"AO9/(AQ4-AO25)","v":0},{"$f":"IF(AP9=0,0,(AP9*((LOG(AP9))/LOG(2))))","v":0},null,{"$f":"N9","v":11121},{"$f":"COUNTIF(L120:L141,AS9)","v":0},{"$f":"AT9/(AV4-AT25)","v":0},{"$f":"IF(AU9=0,0,(AU9*((LOG(AU9))/LOG(2))))","v":0}]
[21,478,11,488,22,502,14,516,24,531,0,21212,null,11122,{"$f":"COUNTIF($L$7:$L$500,N10)","v":0},{"$f":"O10/$Q$4","v":0},{"$f":"IF(P10=0,0,(P10*((LOG(P10))/LOG(2))))","v":0},null,null,{"$f":"N10","v":11122},{"$f":"COUNTIF(L7:L29,T10)","v":0},{"$f":"U10/(W4-U25)","v":0},{"$f":"IF(V10=0,0,(V10*((LOG(V10))/LOG(2))))","v":0},null,{"$f":"N10","v":11122},{"$f":"COUNTIF(L30:L51,Y10)","v":0},{"$f":"Z10/(AB4-Z25)","v":0},{"$f":"IF(AA10=0,0,(AA10*((LOG(AA10))/LOG(2))))","v":0},null,{"$f":"N10","v":11122},{"$f":"COUNTIF(L52:L74,AD10)","v":0},{"$f":"AE10/(AG4-AE25)","v":0},{"$f":"IF(AF10=0,0,(AF10*((LOG(AF10))/LOG(2))))","v":0},null,{"$f":"N10","v":11122},{"$f":"COUNTIF(L75:L96,AI10)","v":0},{"$f":"AJ10/(AL4-AJ25)","v":0},{"$f":"IF(AK10=0,0,(AK10*((LOG(AK10))/LOG(2))))","v":0},null,{"$f":"N10","v":11122},{"$f":"COUNTIF(L97:L119,AN10)","v":0},{"$f":"AO10/(AQ4-AO25)","v":0},{"$f":"IF(AP10=0,0,(AP10*((LOG(AP10))/LOG(2))))","v":0},null,{"$f":"N10","v":11122},{"$f":"COUNTIF(L120:L141,AS10)","v":0},{"$f":"AT10/(AV4-AT25)","v":0},{"$f":"IF(AU10=0,0,(AU10*((LOG(AU10))/LOG(2))))","v":0}]
[21,641,22,658,13,667,14,677,24,689,0,22112,null,11211,{"$f":"COUNTIF($L$7:$L$500,N11)","v":0},{"$f":"O11/$Q$4","v":0},{"$f":"IF(P11=0,0,(P11*((LOG(P11))/LOG(2))))","v":0},null,null,{"$f":"N11","v":11211},{"$f":"COUNTIF(L7:L29,T11)","v":0},{"$f":"U11/(W4-U25)","v":0},{"$f":"IF(V11=0,0,(V11*((LOG(V11))/LOG(2))))","v":0},null,{"$f":"N11","v":11211},{"$f":"COUNTIF(L30:L51,Y11)","v":0},{"$f":"Z11/(AB4-Z25)","v":0},{"$f":"IF(AA11=0,0,(AA11*((LOG(AA11))/LOG(2))))","v":0},null,{"$f":"N11","v":11211},{"$f":"COUNTIF(L52:L74,AD11)","v":0},{"$f":"AE11/(AG4-AE25)","v":0},{"$f":"IF(AF11=0,0,(AF11*((LOG(AF11))/LOG(2))))","v":0},null,{"$f":"N11","v":11211},{"$f":"COUNTIF(L75:L96,AI11)","v":0},{"$f":"AJ11/(AL4-AJ25)","v":0},{"$f":"IF(AK11=0,0,(AK11*((LOG(AK11))/LOG(2))))","v":0},null,{"$f":"N11","v":11211},{"$f":"COUNTIF(L97:L119,AN11)","v":0},{"$f":"AO11/(AQ4-AO25)","v":0},{"$f":"IF(AP11=0,0,(AP11*((LOG(AP11))/LOG(2))))","v":0},null,{"$f":"N11","v":11211},{"$f":"COUNTIF(L120:L141,AS11)","v":0},{"$f":"AT11/(AV4-AT25)","v":0},{"$f":"IF(AU11=0,0,(AU11*((LOG(AU11))/LOG(2))))","v":0}]
[21,799,11,812,22,822,14,834,24,847,0,21212,null,11212,{"$f":"COUNTIF($L$7:$L$500,N12)","v":1},{"$f":"O12/$Q$4","v":7.462686567164179E-3},{"$f":"IF(P12=0,0,(P12*((LOG(P12))/LOG(2))))","v":-5.2732008884013228E-2},null,null,{"$f":"N12","v":11212},{"$f":"COUNTIF(L7:L29,T12)","v":0},{"$f":"U12/(W4-U25)","v":0},{"$f":"IF(V12=0,0,(V12*((LOG(V12))/LOG(2))))","v":0},null,{"$f":"N12","v":11212},{"$f":"COUNTIF(L30:L51,Y12)","v":0},{"$f":"Z12/(AB4-Z25)","v":0},{"$f":"IF(AA12=0,0,(AA12*((LOG(AA12))/LOG(2))))","v":0},null,{"$f":"N12","v":11212},{"$f":"COUNTIF(L52:L74,AD12)","v":0},{"$f":"AE12/(AG4-AE25)","v":0},{"$f":"IF(AF12=0,0,(AF12*((LOG(AF12))/LOG(2))))","v":0},null,{"$f":"N12","v":11212},{"$f":"COUNTIF(L75:L96,AI12)","v":0},{"$f":"AJ12/(AL4-AJ25)","v":0},{"$f":"IF(AK12=0,0,(AK12*((LOG(AK12))/LOG(2))))","v":0},null,{"$f":"N12","v":11212},{"$f":"COUNTIF(L97:L119,AN12)","v":1},{"$f":"AO12/(AQ4-AO25)","v":4.3478260869565216E-2},{"$f":"IF(AP12=0,0,(AP12*((LOG(AP12))/LOG(2))))","v":-0.19667660678508753},null,{"$f":"N12","v":11212},{"$f":"COUNTIF(L120:L141,AS12)","v":0},{"$f":"AT12/(AV4-AT25)","v":0},{"$f":"IF(AU12=0,0,(AU12*((LOG(AU12))/LOG(2))))","v":0}]
[21,982,22,990,13,1002,23,1012,13,1025,0,22121,null,11221,{"$f":"COUNTIF($L$7:$L$500,N13)","v":0},{"$f":"O13/$Q$4","v":0},{"$f":"IF(P13=0,0,(P13*((LOG(P13))/LOG(2))))","v":0},null,null,{"$f":"N13","v":11221},{"$f":"COUNTIF(L7:L29,T13)","v":0},{"$f":"U13/(W4-U25)","v":0},{"$f":"IF(V13=0,0,(V13*((LOG(V13))/LOG(2))))","v":0},null,{"$f":"N13","v":11221},{"$f":"COUNTIF(L30:L51,Y13)","v":0},{"$f":"Z13/(AB4-Z25)","v":0},{"$f":"IF(AA13=0,0,(AA13*((LOG(AA13))/LOG(2))))","v":0},null,{"$f":"N13","v":11221},{"$f":"COUNTIF(L52:L74,AD13)","v":0},{"$f":"AE13/(AG4-AE25)","v":0},{"$f":"IF(AF13=0,0,(AF13*((LOG(AF13))/LOG(2))))","v":0},null,{"$f":"N13","v":11221},{"$f":"COUNTIF(L75:L96,AI13)","v":0},{"$f":"AJ13/(AL4-AJ25)","v":0},{"$f":"IF(AK13=0,0,(AK13*((LOG(AK13))/LOG(2))))","v":0},null,{"$f":"N13","v":11221},{"$f":"COUNTIF(L97:L119,AN13)","v":0},{"$f":"AO13/(AQ4-AO25)","v":0},{"$f":"IF(AP13=0,0,(AP13*((LOG(AP13))/LOG(2))))","v":0},null,{"$f":"N13","v":11221},{"$f":"COUNTIF(L120:L141,AS13)","v":0},{"$f":"AT13/(AV4-AT25)","v":0},{"$f":"IF(AU13=0,0,(AU13*((LOG(AU13))/LOG(2))))","v":0}]
[21,1146,22,1167,13,1178,23,1191,13,1203,0,22121,null,11222,{"$f":"COUNTIF($L$7:$L$500,N14)","v":0},{"$f":"O14/$Q$4","v":0},{"$f":"IF(P14=0,0,(P14*((LOG(P14))/LOG(2))))","v":0},null,null,{"$f":"N14","v":11222},{"$f":"COUNTIF(L7:L29,T14)","v":0},{"$f":"U14/(W4-U25)","v":0},{"$f":"IF(V14=0,0,(V14*((LOG(V14))/LOG(2))))","v":0},null,{"$f":"N14","v":11222},{"$f":"COUNTIF(L30:L51,Y14)","v":0},{"$f":"Z14/(AB4-Z25)","v":0},{"$f":"IF(AA14=0,0,(AA14*((LOG(AA14))/LOG(2))))","v":0},null,{"$f":"N14","v":11222},{"$f":"COUNTIF(L52:L74,AD14)","v":0},{"$f":"AE14/(AG4-AE25)","v":0},{"$f":"IF(AF14=0,0,(AF14*((LOG(AF14))/LOG(2))))","v":0},null,{"$f":"N14","v":11222},{"$f":"COUNTIF(L75:L96,AI14)","v":0},{"$f":"AJ14/(AL4-AJ25)","v":0},{"$f":"IF(AK14=0,0,(AK14*((LOG(AK14))/LOG(2))))","v":0},null,{"$f":"N14","v":11222},{"$f":"COUNTIF(L97:L119,AN14)","v":0},{"$f":"AO14/(AQ4-AO25)","v":0},{"$f":"IF(AP14=0,0,(AP14*((LOG(AP14))/LOG(2))))","v":0},null,{"$f":"N14","v":11222},{"$f":"COUNTIF(L120:L141,AS14)","v":0},{"$f":"AT14/(AV4-AT25)","v":0},{"$f":"IF(AU14=0,0,(AU14*((LOG(AU14))/LOG(2))))","v":0}]
[21,1344,11,1357,22,1370,14,1382,24,1393,0,21212,null,12111,{"$f":"COUNTIF($L$7:$L$500,N15)","v":0},{"$f":"O15/$Q$4","v":0},{"$f":"IF(P15=0,0,(P15*((LOG(P15))/LOG(2))))","v":0},null,null,{"$f":"N15","v":12111},{"$f":"COUNTIF(L7:L29,T15)","v":0},{"$f":"U15/(W4-U25)","v":0},{"$f":"IF(V15=0,0,(V15*((LOG(V15))/LOG(2))))","v":0},null,{"$f":"N15","v":12111},{"$f":"COUNTIF(L30:L51,Y15)","v":0},{"$f":"Z15/(AB4-Z25)","v":0},{"$f":"IF(AA15=0,0,(AA15*((LOG(AA15))/LOG(2))))","v":0},null,{"$f":"N15","v":12111},{"$f":"COUNTIF(L52:L74,AD15)","v":0},{"$f":"AE15/(AG4-AE25)","v":0},{"$f":"IF(AF15=0,0,(AF15*((LOG(AF15))/LOG(2))))","v":0},null,{"$f":"N15","v":12111},{"$f":"COUNTIF(L75:L96,AI15)","v":0},{"$f":"AJ15/(AL4-AJ25)","v":0},{"$f":"IF(AK15=0,0,(AK15*((LOG(AK15))/LOG(2))))","v":0},null,{"$f":"N15","v":12111},{"$f":"COUNTIF(L97:L119,AN15)","v":0},{"$f":"AO15/(AQ4-AO25)","v":0},{"$f":"IF(AP15=0,0,(AP15*((LOG(AP15))/LOG(2))))","v":0},null,{"$f":"N15","v":12111},{"$f":"COUNTIF(L120:L141,AS15)","v":0},{"$f":"AT15/(AV4-AT25)","v":0},{"$f":"IF(AU15=0,0,(AU15*((LOG(AU15))/LOG(2))))","v":0}]
[21,1501,22,1521,13,1532,23,1545,13,1558,0,22121,null,12112,{"$f":"COUNTIF($L$7:$L$500,N16)","v":1},{"$f":"O16/$Q$4","v":7.462686567164179E-3},{"$f":"IF(P16=0,0,(P16*((LOG(P16))/LOG(2))))","v":-5.2732008884013228E-2},null,null,{"$f":"N16","v":12112},{"$f":"COUNTIF(L7:L29,T16)","v":0},{"$f":"U16/(W4-U25)","v":0},{"$f":"IF(V16=0,0,(V16*((LOG(V16))/LOG(2))))","v":0},null,{"$f":"N16","v":12112},{"$f":"COUNTIF(L30:L51,Y16)","v":0},{"$f":"Z16/(AB4-Z25)","v":0},{"$f":"IF(AA16=0,0,(AA16*((LOG(AA16))/LOG(2))))","v":0},null,{"$f":"N16","v":12112},{"$f":"COUNTIF(L52:L74,AD16)","v":0},{"$f":"AE16/(AG4-AE25)","v":0},{"$f":"IF(AF16=0,0,(AF16*((LOG(AF16))/LOG(2))))","v":0},null,{"$f":"N16","v":12112},{"$f":"COUNTIF(L75:L96,AI16)","v":0},{"$f":"AJ16/(AL4-AJ25)","v":0},{"$f":"IF(AK16=0,0,(AK16*((LOG(AK16))/LOG(2))))","v":0},null,{"$f":"N16","v":12112},{"$f":"COUNTIF(L97:L119,AN16)","v":0},{"$f":"AO16/(AQ4-AO25)","v":0},{"$f":"IF(AP16=0,0,(AP16*((LOG(AP16))/LOG(2))))","v":0},null,{"$f":"N16","v":12112},{"$f":"COUNTIF(L120:L141,AS16)","v":1},{"$f":"AT16/(AV4-AT25)","v":0.05},{"$f":"IF(AU16=0,0,(AU16*((LOG(AU16))/LOG(2))))","v":-0.21609640474436814}]
[21,1681,22,1700,13,1711,14,1724,24,1738,0,22112,null,12121,{"$f":"COUNTIF($L$7:$L$500,N17)","v":4},{"$f":"O17/$Q$4","v":2.9850746268656716E-2},{"$f":"IF(P17=0,0,(P17*((LOG(P17))/LOG(2))))","v":-0.15122654299873947},null,null,{"$f":"N17","v":12121},{"$f":"COUNTIF(L7:L29,T17)","v":1},{"$f":"U17/(W4-U25)","v":4.3478260869565216E-2},{"$f":"IF(V17=0,0,(V17*((LOG(V17))/LOG(2))))","v":-0.19667660678508753},null,{"$f":"N17","v":12121},{"$f":"COUNTIF(L30:L51,Y17)","v":0},{"$f":"Z17/(AB4-Z25)","v":0},{"$f":"IF(AA17=0,0,(AA17*((LOG(AA17))/LOG(2))))","v":0},null,{"$f":"N17","v":12121},{"$f":"COUNTIF(L52:L74,AD17)","v":0},{"$f":"AE17/(AG4-AE25)","v":0},{"$f":"IF(AF17=0,0,(AF17*((LOG(AF17))/LOG(2))))","v":0},null,{"$f":"N17","v":12121},{"$f":"COUNTIF(L75:L96,AI17)","v":1},{"$f":"AJ17/(AL4-AJ25)","v":4.5454545454545456E-2},{"$f":"IF(AK17=0,0,(AK17*((LOG(AK17))/LOG(2))))","v":-0.20270143721078623},null,{"$f":"N17","v":12121},{"$f":"COUNTIF(L97:L119,AN17)","v":1},{"$f":"AO17/(AQ4-AO25)","v":4.3478260869565216E-2},{"$f":"IF(AP17=0,0,(AP17*((LOG(AP17))/LOG(2))))","v":-0.19667660678508753},null,{"$f":"N17","v":12121},{"$f":"COUNTIF(L120:L141,AS17)","v":1},{"$f":"AT17/(AV4-AT25)","v":0.05},{"$f":"IF(AU17=0,0,(AU17*((LOG(AU17))/LOG(2))))","v":-0.21609640474436814}]
[21,1858,22,1873,13,1891,23,1904,24,1912,0,22122,null,12122,{"$f":"COUNTIF($L$7:$L$500,N18)","v":0},{"$f":"O18/$Q$4","v":0},{"$f":"IF(P18=0,0,(P18*((LOG(P18))/LOG(2))))","v":0},null,null,{"$f":"N18","v":12122},{"$f":"COUNTIF(L7:L29,T18)","v":0},{"$f":"U18/(W4-U25)","v":0},{"$f":"IF(V18=0,0,(V18*((LOG(V18))/LOG(2))))","v":0},null,{"$f":"N18","v":12122},{"$f":"COUNTIF(L30:L51,Y18)","v":0},{"$f":"Z18/(AB4-Z25)","v":0},{"$f":"IF(AA18=0,0,(AA18*((LOG(AA18))/LOG(2))))","v":0},null,{"$f":"N18","v":12122},{"$f":"COUNTIF(L52:L74,AD18)","v":0},{"$f":"AE18/(AG4-AE25)","v":0},{"$f":"IF(AF18=0,0,(AF18*((LOG(AF18))/LOG(2))))","v":0},null,{"$f":"N18","v":12122},{"$f":"COUNTIF(L75:L96,AI18)","v":0},{"$f":"AJ18/(AL4-AJ25)","v":0},{"$f":"IF(AK18=0,0,(AK18*((LOG(AK18))/LOG(2))))","v":0},null,{"$f":"N18","v":12122},{"$f":"COUNTIF(L97:L119,AN18)","v":0},{"$f":"AO18/(AQ4-AO25)","v":0},{"$f":"IF(AP18=0,0,(AP18*((LOG(AP18))/LOG(2))))","v":0},null,{"$f":"N18","v":12122},{"$f":"COUNTIF(L120:L141,AS18)","v":0},{"$f":"AT18/(AV4-AT25)","v":0},{"$f":"IF(AU18=0,0,(AU18*((LOG(AU18))/LOG(2))))","v":0}]
[21,2017,22,2031,13,2042,23,2057,13,2073,0,22121,null,12211,{"$f":"COUNTIF($L$7:$L$500,N19)","v":0},{"$f":"O19/$Q$4","v":0},{"$f":"IF(P19=0,0,(P19*((LOG(P19))/LOG(2))))","v":0},null,null,{"$f":"N19","v":12211},{"$f":"COUNTIF(L7:L29,T19)","v":0},{"$f":"U19/(W4-U25)","v":0},{"$f":"IF(V19=0,0,(V19*((LOG(V19))/LOG(2))))","v":0},null,{"$f":"N19","v":12211},{"$f":"COUNTIF(L30:L51,Y19)","v":0},{"$f":"Z19/(AB4-Z25)","v":0},{"$f":"IF(AA19=0,0,(AA19*((LOG(AA19))/LOG(2))))","v":0},null,{"$f":"N19","v":12211},{"$f":"COUNTIF(L52:L74,AD19)","v":0},{"$f":"AE19/(AG4-AE25)","v":0},{"$f":"IF(AF19=0,0,(AF19*((LOG(AF19))/LOG(2))))","v":0},null,{"$f":"N19","v":12211},{"$f":"COUNTIF(L75:L96,AI19)","v":0},{"$f":"AJ19/(AL4-AJ25)","v":0},{"$f":"IF(AK19=0,0,(AK19*((LOG(AK19))/LOG(2))))","v":0},null,{"$f":"N19","v":12211},{"$f":"COUNTIF(L97:L119,AN19)","v":0},{"$f":"AO19/(AQ4-AO25)","v":0},{"$f":"IF(AP19=0,0,(AP19*((LOG(AP19))/LOG(2))))","v":0},null,{"$f":"N19","v":12211},{"$f":"COUNTIF(L120:L141,AS19)","v":0},{"$f":"AT19/(AV4-AT25)","v":0},{"$f":"IF(AU19=0,0,(AU19*((LOG(AU19))/LOG(2))))","v":0}]
[21,2180,22,2199,13,2211,23,2223,13,2236,0,22121,null,12212,{"$f":"COUNTIF($L$7:$L$500,N20)","v":2},{"$f":"O20/$Q$4","v":1.4925373134328358E-2},{"$f":"IF(P20=0,0,(P20*((LOG(P20))/LOG(2))))","v":-9.0538644633698095E-2},null,null,{"$f":"N20","v":12212},{"$f":"COUNTIF(L7:L29,T20)","v":1},{"$f":"U20/(W4-U25)","v":4.3478260869565216E-2},{"$f":"IF(V20=0,0,(V20*((LOG(V20))/LOG(2))))","v":-0.19667660678508753},null,{"$f":"N20","v":12212},{"$f":"COUNTIF(L30:L51,Y20)","v":0},{"$f":"Z20/(AB4-Z25)","v":0},{"$f":"IF(AA20=0,0,(AA20*((LOG(AA20))/LOG(2))))","v":0},null,{"$f":"N20","v":12212},{"$f":"COUNTIF(L52:L74,AD20)","v":0},{"$f":"AE20/(AG4-AE25)","v":0},{"$f":"IF(AF20=0,0,(AF20*((LOG(AF20))/LOG(2))))","v":0},null,{"$f":"N20","v":12212},{"$f":"COUNTIF(L75:L96,AI20)","v":0},{"$f":"AJ20/(AL4-AJ25)","v":0},{"$f":"IF(AK20=0,0,(AK20*((LOG(AK20))/LOG(2))))","v":0},null,{"$f":"N20","v":12212},{"$f":"COUNTIF(L97:L119,AN20)","v":0},{"$f":"AO20/(AQ4-AO25)","v":0},{"$f":"IF(AP20=0,0,(AP20*((LOG(AP20))/LOG(2))))","v":0},null,{"$f":"N20","v":12212},{"$f":"COUNTIF(L120:L141,AS20)","v":1},{"$f":"AT20/(AV4-AT25)","v":0.05},{"$f":"IF(AU20=0,0,(AU20*((LOG(AU20))/LOG(2))))","v":-0.21609640474436814}]
[21,2384,22,2389,13,2401,14,2410,24,2423,0,22112,null,12221,{"$f":"COUNTIF($L$7:$L$500,N21)","v":1},{"$f":"O21/$Q$4","v":7.462686567164179E-3},{"$f":"IF(P21=0,0,(P21*((LOG(P21))/LOG(2))))","v":-5.2732008884013228E-2},null,null,{"$f":"N21","v":12221},{"$f":"COUNTIF(L7:L29,T21)","v":0},{"$f":"U21/(W4-U25)","v":0},{"$f":"IF(V21=0,0,(V21*((LOG(V21))/LOG(2))))","v":0},null,{"$f":"N21","v":12221},{"$f":"COUNTIF(L30:L51,Y21)","v":0},{"$f":"Z21/(AB4-Z25)","v":0},{"$f":"IF(AA21=0,0,(AA21*((LOG(AA21))/LOG(2))))","v":0},null,{"$f":"N21","v":12221},{"$f":"COUNTIF(L52:L74,AD21)","v":0},{"$f":"AE21/(AG4-AE25)","v":0},{"$f":"IF(AF21=0,0,(AF21*((LOG(AF21))/LOG(2))))","v":0},null,{"$f":"N21","v":12221},{"$f":"COUNTIF(L75:L96,AI21)","v":0},{"$f":"AJ21/(AL4-AJ25)","v":0},{"$f":"IF(AK21=0,0,(AK21*((LOG(AK21))/LOG(2))))","v":0},null,{"$f":"N21","v":12221},{"$f":"COUNTIF(L97:L119,AN21)","v":1},{"$f":"AO21/(AQ4-AO25)","v":4.3478260869565216E-2},{"$f":"IF(AP21=0,0,(AP21*((LOG(AP21))/LOG(2))))","v":-0.19667660678508753},null,{"$f":"N21","v":12221},{"$f":"COUNTIF(L120:L141,AS21)","v":0},{"$f":"AT21/(AV4-AT25)","v":0},{"$f":"IF(AU21=0,0,(AU21*((LOG(AU21))/LOG(2))))","v":0}]
[21,2546,11,2558,22,2567,14,2582,24,2598,0,21212,null,12222,{"$f":"COUNTIF($L$7:$L$500,N22)","v":0},{"$f":"O22/$Q$4","v":0},{"$f":"IF(P22=0,0,(P22*((LOG(P22))/LOG(2))))","v":0},null,null,{"$f":"N22","v":12222},{"$f":"COUNTIF(L7:L29,T22)","v":0},{"$f":"U22/(W4-U25)","v":0},{"$f":"IF(V22=0,0,(V22*((LOG(V22))/LOG(2))))","v":0},null,{"$f":"N22","v":12222},{"$f":"COUNTIF(L30:L51,Y22)","v":0},{"$f":"Z22/(AB4-Z25)","v":0},{"$f":"IF(AA22=0,0,(AA22*((LOG(AA22))/LOG(2))))","v":0},null,{"$f":"N22","v":12222},{"$f":"COUNTIF(L52:L74,AD22)","v":0},{"$f":"AE22/(AG4-AE25)","v":0},{"$f":"IF(AF22=0,0,(AF22*((LOG(AF22))/LOG(2))))","v":0},null,{"$f":"N22","v":12222},{"$f":"COUNTIF(L75:L96,AI22)","v":0},{"$f":"AJ22/(AL4-AJ25)","v":0},{"$f":"IF(AK22=0,0,(AK22*((LOG(AK22))/LOG(2))))","v":0},null,{"$f":"N22","v":12222},{"$f":"COUNTIF(L97:L119,AN22)","v":0},{"$f":"AO22/(AQ4-AO25)","v":0},{"$f":"IF(AP22=0,0,(AP22*((LOG(AP22))/LOG(2))))","v":0},null,{"$f":"N22","v":12222},{"$f":"COUNTIF(L120:L141,AS22)","v":0},{"$f":"AT22/(AV4-AT25)","v":0},{"$f":"IF(AU22=0,0,(AU22*((LOG(AU22))/LOG(2))))","v":0}]
[21,2731,22,2745,13,2757,23,2766,13,2779,0,22121,null,21111,{"$f":"COUNTIF($L$7:$L$500,N23)","v":0},{"$f":"O23/$Q$4","v":0},{"$f":"IF(P23=0,0,(P23*((LOG(P23))/LOG(2))))","v":0},null,null,{"$f":"N23","v":21111},{"$f":"COUNTIF(L7:L29,T23)","v":0},{"$f":"U23/(W4-U25)","v":0},{"$f":"IF(V23=0,0,(V23*((LOG(V23))/LOG(2))))","v":0},null,{"$f":"N23","v":21111},{"$f":"COUNTIF(L30:L51,Y23)","v":0},{"$f":"Z23/(AB4-Z25)","v":0},{"$f":"IF(AA23=0,0,(AA23*((LOG(AA23))/LOG(2))))","v":0},null,{"$f":"N23","v":21111},{"$f":"COUNTIF(L52:L74,AD23)","v":0},{"$f":"AE23/(AG4-AE25)","v":0},{"$f":"IF(AF23=0,0,(AF23*((LOG(AF23))/LOG(2))))","v":0},null,{"$f":"N23","v":21111},{"$f":"COUNTIF(L75:L96,AI23)","v":0},{"$f":"AJ23/(AL4-AJ25)","v":0},{"$f":"IF(AK23=0,0,(AK23*((LOG(AK23))/LOG(2))))","v":0},null,{"$f":"N23","v":21111},{"$f":"COUNTIF(L97:L119,AN23)","v":0},{"$f":"AO23/(AQ4-AO25)","v":0},{"$f":"IF(AP23=0,0,(AP23*((LOG(AP23))/LOG(2))))","v":0},null,{"$f":"N23","v":21111},{"$f":"COUNTIF(L120:L141,AS23)","v":0},{"$f":"AT23/(AV4-AT25)","v":0},{"$f":"IF(AU23=0,0,(AU23*((LOG(AU23))/LOG(2))))","v":0}]
[21,2899,22,2916,13,2928,23,2942,13,2956,0,22121,null,21112,{"$f":"COUNTIF($L$7:$L$500,N24)","v":0},{"$f":"O24/$Q$4","v":0},{"$f":"IF(P24=0,0,(P24*((LOG(P24))/LOG(2))))","v":0},null,null,{"$f":"N24","v":21112},{"$f":"COUNTIF(L7:L29,T24)","v":0},{"$f":"U24/(W4-U25)","v":0},{"$f":"IF(V24=0,0,(V24*((LOG(V24))/LOG(2))))","v":0},null,{"$f":"N24","v":21112},{"$f":"COUNTIF(L30:L51,Y24)","v":0},{"$f":"Z24/(AB4-Z25)","v":0},{"$f":"IF(AA24=0,0,(AA24*((LOG(AA24))/LOG(2))))","v":0},null,{"$f":"N24","v":21112},{"$f":"COUNTIF(L52:L74,AD24)","v":0},{"$f":"AE24/(AG4-AE25)","v":0},{"$f":"IF(AF24=0,0,(AF24*((LOG(AF24))/LOG(2))))","v":0},null,{"$f":"N24","v":21112},{"$f":"COUNTIF(L75:L96,AI24)","v":0},{"$f":"AJ24/(AL4-AJ25)","v":0},{"$f":"IF(AK24=0,0,(AK24*((LOG(AK24))/LOG(2))))","v":0},null,{"$f":"N24","v":21112},{"$f":"COUNTIF(L97:L119,AN24)","v":0},{"$f":"AO24/(AQ4-AO25)","v":0},{"$f":"IF(AP24=0,0,(AP24*((LOG(AP24))/LOG(2))))","v":0},null,{"$f":"N24","v":21112},{"$f":"COUNTIF(L120:L141,AS24)","v":0},{"$f":"AT24/(AV4-AT25)","v":0},{"$f":"IF(AU24=0,0,(AU24*((LOG(AU24))/LOG(2))))","v":0}]
[21,3058,22,3073,13,3086,23,3095,13,3106,0,22121,null,21121,{"$f":"COUNTIF($L$7:$L$500,N25)","v":2},{"$f":"O25/$Q$4","v":1.4925373134328358E-2},{"$f":"IF(P25=0,0,(P25*((LOG(P25))/LOG(2))))","v":-9.0538644633698095E-2},null,null,{"$f":"N25","v":21121},{"$f":"COUNTIF(L7:L29,T25)","v":0},null,null,null,{"$f":"N25","v":21121},{"$f":"COUNTIF(L30:L51,Y25)","v":0},null,null,null,{"$f":"N25","v":21121},{"$f":"COUNTIF(L52:L74,AD25)","v":1},null,null,null,{"$f":"N25","v":21121},{"$f":"COUNTIF(L75:L96,AI25)","v":0},null,null,null,{"$f":"N25","v":21121},{"$f":"COUNTIF(L97:L119,AN25)","v":0},null,null,null,{"$f":"N25","v":21121},{"$f":"COUNTIF(L120:L141,AS25)","v":1}]
[21,3224,11,3242,22,3248,14,3259,24,3273,0,21212,null,21122,{"$f":"COUNTIF($L$7:$L$500,N26)","v":0},{"$f":"O26/$Q$4","v":0},{"$f":"IF(P26=0,0,(P26*((LOG(P26))/LOG(2))))","v":0},null,null,{"$f":"N26","v":21122},{"$f":"COUNTIF(L7:L29,T26)","v":0},{"$f":"U26/(W4-U25)","v":0},{"$f":"IF(V26=0,0,(V26*((LOG(V26))/LOG(2))))","v":0},null,{"$f":"N26","v":21122},{"$f":"COUNTIF(L30:L51,Y26)","v":0},{"$f":"Z26/(AB4-Z25)","v":0},{"$f":"IF(AA26=0,0,(AA26*((LOG(AA26))/LOG(2))))","v":0},null,{"$f":"N26","v":21122},{"$f":"COUNTIF(L52:L74,AD26)","v":0},{"$f":"AE26/(AG4-AE25)","v":0},{"$f":"IF(AF26=0,0,(AF26*((LOG(AF26))/LOG(2))))","v":0},null,{"$f":"N26","v":21122},{"$f":"COUNTIF(L75:L96,AI26)","v":0},{"$f":"AJ26/(AL4-AJ25)","v":0},{"$f":"IF(AK26=0,0,(AK26*((LOG(AK26))/LOG(2))))","v":0},null,{"$f":"N26","v":21122},{"$f":"COUNTIF(L97:L119,AN26)","v":0},{"$f":"AO26/(AQ4-AO25)","v":0},{"$f":"IF(AP26=0,0,(AP26*((LOG(AP26))/LOG(2))))","v":0},null,{"$f":"N26","v":21122},{"$f":"COUNTIF(L120:L141,AS26)","v":0},{"$f":"AT26/(AV4-AT25)","v":0},{"$f":"IF(AU26=0,0,(AU26*((LOG(AU26))/LOG(2))))","v":0}]
[21,3372,22,3381,24,3395,14,3407,24,3416,0,22212,null,21211,{"$f":"COUNTIF($L$7:$L$500,N27)","v":6},{"$f":"O27/$Q$4","v":4.4776119402985072E-2},{"$f":"IF(P27=0,0,(P27*((LOG(P27))/LOG(2))))","v":-0.20064746371955},null,null,{"$f":"N27","v":21211},{"$f":"COUNTIF(L7:L29,T27)","v":0},{"$f":"U27/(W4-U25)","v":0},{"$f":"IF(V27=0,0,(V27*((LOG(V27))/LOG(2))))","v":0},null,{"$f":"N27","v":21211},{"$f":"COUNTIF(L30:L51,Y27)","v":0},{"$f":"Z27/(AB4-Z25)","v":0},{"$f":"IF(AA27=0,0,(AA27*((LOG(AA27))/LOG(2))))","v":0},null,{"$f":"N27","v":21211},{"$f":"COUNTIF(L52:L74,AD27)","v":4},{"$f":"AE27/(AG4-AE25)","v":0.18181818181818182},{"$f":"IF(AF27=0,0,(AF27*((LOG(AF27))/LOG(2))))","v":-0.44716938520678134},null,{"$f":"N27","v":21211},{"$f":"COUNTIF(L75:L96,AI27)","v":0},{"$f":"AJ27/(AL4-AJ25)","v":0},{"$f":"IF(AK27=0,0,(AK27*((LOG(AK27))/LOG(2))))","v":0},null,{"$f":"N27","v":21211},{"$f":"COUNTIF(L97:L119,AN27)","v":1},{"$f":"AO27/(AQ4-AO25)","v":4.3478260869565216E-2},{"$f":"IF(AP27=0,0,(AP27*((LOG(AP27))/LOG(2))))","v":-0.19667660678508753},null,{"$f":"N27","v":21211},{"$f":"COUNTIF(L120:L141,AS27)","v":1},{"$f":"AT27/(AV4-AT25)","v":0.05},{"$f":"IF(AU27=0,0,(AU27*((LOG(AU27))/LOG(2))))","v":-0.21609640474436814}]
[21,3517,22,3524,24,3538,14,3551,24,3564,0,22212,null,21212,{"$f":"COUNTIF($L$7:$L$500,N28)","v":16},{"$f":"O28/$Q$4","v":0.11940298507462686},{"$f":"IF(P28=0,0,(P28*((LOG(P28))/LOG(2))))","v":-0.36610020184570419},null,null,{"$f":"N28","v":21212},{"$f":"COUNTIF(L7:L29,T28)","v":5},{"$f":"U28/(W4-U25)","v":0.21739130434782608},{"$f":"IF(V28=0,0,(V28*((LOG(V28))/LOG(2))))","v":-0.47861605677601093},null,{"$f":"N28","v":21212},{"$f":"COUNTIF(L30:L51,Y28)","v":2},{"$f":"Z28/(AB4-Z25)","v":9.0909090909090912E-2},{"$f":"IF(AA28=0,0,(AA28*((LOG(AA28))/LOG(2))))","v":-0.31449378351248153},null,{"$f":"N28","v":21212},{"$f":"COUNTIF(L52:L74,AD28)","v":1},{"$f":"AE28/(AG4-AE25)","v":4.5454545454545456E-2},{"$f":"IF(AF28=0,0,(AF28*((LOG(AF28))/LOG(2))))","v":-0.20270143721078623},null,{"$f":"N28","v":21212},{"$f":"COUNTIF(L75:L96,AI28)","v":2},{"$f":"AJ28/(AL4-AJ25)","v":9.0909090909090912E-2},{"$f":"IF(AK28=0,0,(AK28*((LOG(AK28))/LOG(2))))","v":-0.31449378351248153},null,{"$f":"N28","v":21212},{"$f":"COUNTIF(L97:L119,AN28)","v":5},{"$f":"AO28/(AQ4-AO25)","v":0.21739130434782608},{"$f":"IF(AP28=0,0,(AP28*((LOG(AP28))/LOG(2))))","v":-0.47861605677601093},null,{"$f":"N28","v":21212},{"$f":"COUNTIF(L120:L141,AS28)","v":1},{"$f":"AT28/(AV4-AT25)","v":0.05},{"$f":"IF(AU28=0,0,(AU28*((LOG(AU28))/LOG(2))))","v":-0.21609640474436814}]
[21,3671,22,3690,13,3702,23,3714,13,3728,0,22121,null,21221,{"$f":"COUNTIF($L$7:$L$500,N29)","v":1},{"$f":"O29/$Q$4","v":7.462686567164179E-3},{"$f":"IF(P29=0,0,(P29*((LOG(P29))/LOG(2))))","v":-5.2732008884013228E-2},null,null,{"$f":"N29","v":21221},{"$f":"COUNTIF(L7:L29,T29)","v":0},{"$f":"U29/(W4-U25)","v":0},{"$f":"IF(V29=0,0,(V29*((LOG(V29))/LOG(2))))","v":0},null,{"$f":"N29","v":21221},{"$f":"COUNTIF(L30:L51,Y29)","v":0},{"$f":"Z29/(AB4-Z25)","v":0},{"$f":"IF(AA29=0,0,(AA29*((LOG(AA29))/LOG(2))))","v":0},null,{"$f":"N29","v":21221},{"$f":"COUNTIF(L52:L74,AD29)","v":0},{"$f":"AE29/(AG4-AE25)","v":0},{"$f":"IF(AF29=0,0,(AF29*((LOG(AF29))/LOG(2))))","v":0},null,{"$f":"N29","v":21221},{"$f":"COUNTIF(L75:L96,AI29)","v":0},{"$f":"AJ29/(AL4-AJ25)","v":0},{"$f":"IF(AK29=0,0,(AK29*((LOG(AK29))/LOG(2))))","v":0},null,{"$f":"N29","v":21221},{"$f":"COUNTIF(L97:L119,AN29)","v":1},{"$f":"AO29/(AQ4-AO25)","v":4.3478260869565216E-2},{"$f":"IF(AP29=0,0,(AP29*((LOG(AP29))/LOG(2))))","v":-0.19667660678508753},null,{"$f":"N29","v":21221},{"$f":"COUNTIF(L120:L141,AS29)","v":0},{"$f":"AT29/(AV4-AT25)","v":0},{"$f":"IF(AU29=0,0,(AU29*((LOG(AU29))/LOG(2))))","v":0}]
[21,3827,22,3846,13,3859,23,3871,13,3885,0,22121,null,21222,{"$f":"COUNTIF($L$7:$L$500,N30)","v":0},{"$f":"O30/$Q$4","v":0},{"$f":"IF(P30=0,0,(P30*((LOG(P30))/LOG(2))))","v":0},null,null,{"$f":"N30","v":21222},{"$f":"COUNTIF(L7:L29,T30)","v":0},{"$f":"U30/(W4-U25)","v":0},{"$f":"IF(V30=0,0,(V30*((LOG(V30))/LOG(2))))","v":0},null,{"$f":"N30","v":21222},{"$f":"COUNTIF(L30:L51,Y30)","v":0},{"$f":"Z30/(AB4-Z25)","v":0},{"$f":"IF(AA30=0,0,(AA30*((LOG(AA30))/LOG(2))))","v":0},null,{"$f":"N30","v":21222},{"$f":"COUNTIF(L52:L74,AD30)","v":0},{"$f":"AE30/(AG4-AE25)","v":0},{"$f":"IF(AF30=0,0,(AF30*((LOG(AF30))/LOG(2))))","v":0},null,{"$f":"N30","v":21222},{"$f":"COUNTIF(L75:L96,AI30)","v":0},{"$f":"AJ30/(AL4-AJ25)","v":0},{"$f":"IF(AK30=0,0,(AK30*((LOG(AK30))/LOG(2))))","v":0},null,{"$f":"N30","v":21222},{"$f":"COUNTIF(L97:L119,AN30)","v":0},{"$f":"AO30/(AQ4-AO25)","v":0},{"$f":"IF(AP30=0,0,(AP30*((LOG(AP30))/LOG(2))))","v":0},null,{"$f":"N30","v":21222},{"$f":"COUNTIF(L120:L141,AS30)","v":0},{"$f":"AT30/(AV4-AT25)","v":0},{"$f":"IF(AU30=0,0,(AU30*((LOG(AU30))/LOG(2))))","v":0}]
[21,3985,22,3999,13,4012,23,4021,13,4033,0,22121,null,22111,{"$f":"COUNTIF($L$7:$L$500,N31)","v":0},{"$f":"O31/$Q$4","v":0},{"$f":"IF(P31=0,0,(P31*((LOG(P31))/LOG(2))))","v":0},null,null,{"$f":"N31","v":22111},{"$f":"COUNTIF(L7:L29,T31)","v":0},{"$f":"U31/(W4-U25)","v":0},{"$f":"IF(V31=0,0,(V31*((LOG(V31))/LOG(2))))","v":0},null,{"$f":"N31","v":22111},{"$f":"COUNTIF(L30:L51,Y31)","v":0},{"$f":"Z31/(AB4-Z25)","v":0},{"$f":"IF(AA31=0,0,(AA31*((LOG(AA31))/LOG(2))))","v":0},null,{"$f":"N31","v":22111},{"$f":"COUNTIF(L52:L74,AD31)","v":0},{"$f":"AE31/(AG4-AE25)","v":0},{"$f":"IF(AF31=0,0,(AF31*((LOG(AF31))/LOG(2))))","v":0},null,{"$f":"N31","v":22111},{"$f":"COUNTIF(L75:L96,AI31)","v":0},{"$f":"AJ31/(AL4-AJ25)","v":0},{"$f":"IF(AK31=0,0,(AK31*((LOG(AK31))/LOG(2))))","v":0},null,{"$f":"N31","v":22111},{"$f":"COUNTIF(L97:L119,AN31)","v":0},{"$f":"AO31/(AQ4-AO25)","v":0},{"$f":"IF(AP31=0,0,(AP31*((LOG(AP31))/LOG(2))))","v":0},null,{"$f":"N31","v":22111},{"$f":"COUNTIF(L120:L141,AS31)","v":0},{"$f":"AT31/(AV4-AT25)","v":0},{"$f":"IF(AU31=0,0,(AU31*((LOG(AU31))/LOG(2))))","v":0}]
[21,4140,22,4157,13,4170,23,4179,13,4192,0,22121,null,22112,{"$f":"COUNTIF($L$7:$L$500,N32)","v":5},{"$f":"O32/$Q$4","v":3.7313432835820892E-2},{"$f":"IF(P32=0,0,(P32*((LOG(P32))/LOG(2))))","v":-0.17702093640188096},null,null,{"$f":"N32","v":22112},{"$f":"COUNTIF(L7:L29,T32)","v":3},{"$f":"U32/(W4-U25)","v":0.13043478260869565},{"$f":"IF(V32=0,0,(V32*((LOG(V32))/LOG(2))))","v":-0.3832955811307639},null,{"$f":"N32","v":22112},{"$f":"COUNTIF(L30:L51,Y32)","v":0},{"$f":"Z32/(AB4-Z25)","v":0},{"$f":"IF(AA32=0,0,(AA32*((LOG(AA32))/LOG(2))))","v":0},null,{"$f":"N32","v":22112},{"$f":"COUNTIF(L52:L74,AD32)","v":0},{"$f":"AE32/(AG4-AE25)","v":0},{"$f":"IF(AF32=0,0,(AF32*((LOG(AF32))/LOG(2))))","v":0},null,{"$f":"N32","v":22112},{"$f":"COUNTIF(L75:L96,AI32)","v":0},{"$f":"AJ32/(AL4-AJ25)","v":0},{"$f":"IF(AK32=0,0,(AK32*((LOG(AK32))/LOG(2))))","v":0},null,{"$f":"N32","v":22112},{"$f":"COUNTIF(L97:L119,AN32)","v":1},{"$f":"AO32/(AQ4-AO25)","v":4.3478260869565216E-2},{"$f":"IF(AP32=0,0,(AP32*((LOG(AP32))/LOG(2))))","v":-0.19667660678508753},null,{"$f":"N32","v":22112},{"$f":"COUNTIF(L120:L141,AS32)","v":1},{"$f":"AT32/(AV4-AT25)","v":0.05},{"$f":"IF(AU32=0,0,(AU32*((LOG(AU32))/LOG(2))))","v":-0.21609640474436814}]
[21,4293,22,4301,24,4318,14,4328,13,4338,0,22211,null,22121,{"$f":"COUNTIF($L$7:$L$500,N33)","v":44},{"$f":"O33/$Q$4","v":0.32835820895522388},{"$f":"IF(P33=0,0,(P33*((LOG(P33))/LOG(2))))","v":-0.52755920268732015},null,null,{"$f":"N33","v":22121},{"$f":"COUNTIF(L7:L29,T33)","v":10},{"$f":"U33/(W4-U25)","v":0.43478260869565216},{"$f":"IF(V33=0,0,(V33*((LOG(V33))/LOG(2))))","v":-0.52244950485636987},null,{"$f":"N33","v":22121},{"$f":"COUNTIF(L30:L51,Y33)","v":9},{"$f":"Z33/(AB4-Z25)","v":0.40909090909090912},{"$f":"IF(AA33=0,0,(AA33*((LOG(AA33))/LOG(2))))","v":-0.52752543430703935},null,{"$f":"N33","v":22121},{"$f":"COUNTIF(L52:L74,AD33)","v":6},{"$f":"AE33/(AG4-AE25)","v":0.27272727272727271},{"$f":"IF(AF33=0,0,(AF33*((LOG(AF33))/LOG(2))))","v":-0.51121885034076575},null,{"$f":"N33","v":22121},{"$f":"COUNTIF(L75:L96,AI33)","v":7},{"$f":"AJ33/(AL4-AJ25)","v":0.31818181818181818},{"$f":"IF(AK33=0,0,(AK33*((LOG(AK33))/LOG(2))))","v":-0.52566076709353871},null,{"$f":"N33","v":22121},{"$f":"COUNTIF(L97:L119,AN33)","v":6},{"$f":"AO33/(AQ4-AO25)","v":0.2608695652173913},{"$f":"IF(AP33=0,0,(AP33*((LOG(AP33))/LOG(2))))","v":-0.50572159704413644},null,{"$f":"N33","v":22121},{"$f":"COUNTIF(L120:L141,AS33)","v":6},{"$f":"AT33/(AV4-AT25)","v":0.3},{"$f":"IF(AU33=0,0,(AU33*((LOG(AU33))/LOG(2))))","v":-0.52108967824986185}]
[21,4445,22,4450,24,4470,14,4482,13,4496,0,22211,null,22122,{"$f":"COUNTIF($L$7:$L$500,N34)","v":1},{"$f":"O34/$Q$4","v":7.462686567164179E-3},{"$f":"IF(P34=0,0,(P34*((LOG(P34))/LOG(2))))","v":-5.2732008884013228E-2},null,null,{"$f":"N34","v":22122},{"$f":"COUNTIF(L7:L29,T34)","v":1},{"$f":"U34/(W4-U25)","v":4.3478260869565216E-2},{"$f":"IF(V34=0,0,(V34*((LOG(V34))/LOG(2))))","v":-0.19667660678508753},null,{"$f":"N34","v":22122},{"$f":"COUNTIF(L30:L51,Y34)","v":0},{"$f":"Z34/(AB4-Z25)","v":0},{"$f":"IF(AA34=0,0,(AA34*((LOG(AA34))/LOG(2))))","v":0},null,{"$f":"N34","v":22122},{"$f":"COUNTIF(L52:L74,AD34)","v":0},{"$f":"AE34/(AG4-AE25)","v":0},{"$f":"IF(AF34=0,0,(AF34*((LOG(AF34))/LOG(2))))","v":0},null,{"$f":"N34","v":22122},{"$f":"COUNTIF(L75:L96,AI34)","v":0},{"$f":"AJ34/(AL4-AJ25)","v":0},{"$f":"IF(AK34=0,0,(AK34*((LOG(AK34))/LOG(2))))","v":0},null,{"$f":"N34","v":22122},{"$f":"COUNTIF(L97:L119,AN34)","v":0},{"$f":"AO34/(AQ4-AO25)","v":0},{"$f":"IF(AP34=0,0,(AP34*((LOG(AP34))/LOG(2))))","v":0},null,{"$f":"N34","v":22122},{"$f":"COUNTIF(L120:L141,AS34)","v":0},{"$f":"AT34/(AV4-AT25)","v":0},{"$f":"IF(AU34=0,0,(AU34*((LOG(AU34))/LOG(2))))","v":0}]
[21,4612,11,4636,22,4644,14,4656,24,4669,0,21212,null,22211,{"$f":"COUNTIF($L$7:$L$500,N35)","v":8},{"$f":"O35/$Q$4","v":5.9701492537313432E-2},{"$f":"IF(P35=0,0,(P35*((LOG(P35))/LOG(2))))","v":-0.2427515934601655},null,null,{"$f":"N35","v":22211},{"$f":"COUNTIF(L7:L29,T35)","v":0},{"$f":"U35/(W4-U25)","v":0},{"$f":"IF(V35=0,0,(V35*((LOG(V35))/LOG(2))))","v":0},null,{"$f":"N35","v":22211},{"$f":"COUNTIF(L30:L51,Y35)","v":2},{"$f":"Z35/(AB4-Z25)","v":9.0909090909090912E-2},{"$f":"IF(AA35=0,0,(AA35*((LOG(AA35))/LOG(2))))","v":-0.31449378351248153},null,{"$f":"N35","v":22211},{"$f":"COUNTIF(L52:L74,AD35)","v":3},{"$f":"AE35/(AG4-AE25)","v":0.13636363636363635},{"$f":"IF(AF35=0,0,(AF35*((LOG(AF35))/LOG(2))))","v":-0.39197306153401923},null,{"$f":"N35","v":22211},{"$f":"COUNTIF(L75:L96,AI35)","v":1},{"$f":"AJ35/(AL4-AJ25)","v":4.5454545454545456E-2},{"$f":"IF(AK35=0,0,(AK35*((LOG(AK35))/LOG(2))))","v":-0.20270143721078623},null,{"$f":"N35","v":22211},{"$f":"COUNTIF(L97:L119,AN35)","v":2},{"$f":"AO35/(AQ4-AO25)","v":8.6956521739130432E-2},{"$f":"IF(AP35=0,0,(AP35*((LOG(AP35))/LOG(2))))","v":-0.30639669183104457},null,{"$f":"N35","v":22211},{"$f":"COUNTIF(L120:L141,AS35)","v":0},{"$f":"AT35/(AV4-AT25)","v":0},{"$f":"IF(AU35=0,0,(AU35*((LOG(AU35))/LOG(2))))","v":0}]
[21,4776,22,4783,13,4794,23,4807,13,4819,0,22121,null,22212,{"$f":"COUNTIF($L$7:$L$500,N36)","v":32},{"$f":"O36/$Q$4","v":0.23880597014925373},{"$f":"IF(P36=0,0,(P36*((LOG(P36))/LOG(2))))","v":-0.49339443354215462},null,null,{"$f":"N36","v":22212},{"$f":"COUNTIF(L7:L29,T36)","v":2},{"$f":"U36/(W4-U25)","v":8.6956521739130432E-2},{"$f":"IF(V36=0,0,(V36*((LOG(V36))/LOG(2))))","v":-0.30639669183104457},null,{"$f":"N36","v":22212},{"$f":"COUNTIF(L30:L51,Y36)","v":8},{"$f":"Z36/(AB4-Z25)","v":0.36363636363636365},{"$f":"IF(AA36=0,0,(AA36*((LOG(AA36))/LOG(2))))","v":-0.53070240677719893},null,{"$f":"N36","v":22212},{"$f":"COUNTIF(L52:L74,AD36)","v":6},{"$f":"AE36/(AG4-AE25)","v":0.27272727272727271},{"$f":"IF(AF36=0,0,(AF36*((LOG(AF36))/LOG(2))))","v":-0.51121885034076575},null,{"$f":"N36","v":22212},{"$f":"COUNTIF(L75:L96,AI36)","v":7},{"$f":"AJ36/(AL4-AJ25)","v":0.31818181818181818},{"$f":"IF(AK36=0,0,(AK36*((LOG(AK36))/LOG(2))))","v":-0.52566076709353871},null,{"$f":"N36","v":22212},{"$f":"COUNTIF(L97:L119,AN36)","v":1},{"$f":"AO36/(AQ4-AO25)","v":4.3478260869565216E-2},{"$f":"IF(AP36=0,0,(AP36*((LOG(AP36))/LOG(2))))","v":-0.19667660678508753},null,{"$f":"N36","v":22212},{"$f":"COUNTIF(L120:L141,AS36)","v":8},{"$f":"AT36/(AV4-AT25)","v":0.4},{"$f":"IF(AU36=0,0,(AU36*((LOG(AU36))/LOG(2))))","v":-0.52877123795494496}]
[21,4924,22,4931,13,4941,23,4953,13,4965,0,22121,null,22221,{"$f":"COUNTIF($L$7:$L$500,N37)","v":7},{"$f":"O37/$Q$4","v":5.2238805970149252E-2},{"$f":"IF(P37=0,0,(P37*((LOG(P37))/LOG(2))))","v":-0.22247119312538191},null,null,{"$f":"N37","v":22221},{"$f":"COUNTIF(L7:L29,T37)","v":0},{"$f":"U37/(W4-U25)","v":0},{"$f":"IF(V37=0,0,(V37*((LOG(V37))/LOG(2))))","v":0},null,{"$f":"N37","v":22221},{"$f":"COUNTIF(L30:L51,Y37)","v":1},{"$f":"Z37/(AB4-Z25)","v":4.5454545454545456E-2},{"$f":"IF(AA37=0,0,(AA37*((LOG(AA37))/LOG(2))))","v":-0.20270143721078623},null,{"$f":"N37","v":22221},{"$f":"COUNTIF(L52:L74,AD37)","v":1},{"$f":"AE37/(AG4-AE25)","v":4.5454545454545456E-2},{"$f":"IF(AF37=0,0,(AF37*((LOG(AF37))/LOG(2))))","v":-0.20270143721078623},null,{"$f":"N37","v":22221},{"$f":"COUNTIF(L75:L96,AI37)","v":2},{"$f":"AJ37/(AL4-AJ25)","v":9.0909090909090912E-2},{"$f":"IF(AK37=0,0,(AK37*((LOG(AK37))/LOG(2))))","v":-0.31449378351248153},null,{"$f":"N37","v":22221},{"$f":"COUNTIF(L97:L119,AN37)","v":3},{"$f":"AO37/(AQ4-AO25)","v":0.13043478260869565},{"$f":"IF(AP37=0,0,(AP37*((LOG(AP37))/LOG(2))))","v":-0.3832955811307639},null,{"$f":"N37","v":22221},{"$f":"COUNTIF(L120:L141,AS37)","v":0},{"$f":"AT37/(AV4-AT25)","v":0},{"$f":"IF(AU37=0,0,(AU37*((LOG(AU37))/LOG(2))))","v":0}]
[21,5072,22,5087,24,5103,14,5112,24,5124,0,22212,null,22222,{"$f":"COUNTIF($L$7:$L$500,N38)","v":3},{"$f":"O38/$Q$4","v":2.2388059701492536E-2},{"$f":"IF(P38=0,0,(P38*((LOG(P38))/LOG(2))))","v":-0.12271179156126753},null,null,{"$f":"N38","v":22222},{"$f":"COUNTIF(L7:L29,T38)","v":0},{"$f":"U38/(W4-U25)","v":0},{"$f":"IF(V38=0,0,(V38*((LOG(V38))/LOG(2))))","v":0},null,{"$f":"N38","v":22222},{"$f":"COUNTIF(L30:L51,Y38)","v":0},{"$f":"Z38/(AB4-Z25)","v":0},{"$f":"IF(AA38=0,0,(AA38*((LOG(AA38))/LOG(2))))","v":0},null,{"$f":"N38","v":22222},{"$f":"COUNTIF(L52:L74,AD38)","v":1},{"$f":"AE38/(AG4-AE25)","v":4.5454545454545456E-2},{"$f":"IF(AF38=0,0,(AF38*((LOG(AF38))/LOG(2))))","v":-0.20270143721078623},null,{"$f":"N38","v":22222},{"$f":"COUNTIF(L75:L96,AI38)","v":2},{"$f":"AJ38/(AL4-AJ25)","v":9.0909090909090912E-2},{"$f":"IF(AK38=0,0,(AK38*((LOG(AK38))/LOG(2))))","v":-0.31449378351248153},null,{"$f":"N38","v":22222},{"$f":"COUNTIF(L97:L119,AN38)","v":0},{"$f":"AO38/(AQ4-AO25)","v":0},{"$f":"IF(AP38=0,0,(AP38*((LOG(AP38))/LOG(2))))","v":0},null,{"$f":"N38","v":22222},{"$f":"COUNTIF(L120:L141,AS38)","v":0},{"$f":"AT38/(AV4-AT25)","v":0},{"$f":"IF(AU38=0,0,(AU38*((LOG(AU38))/LOG(2))))","v":0}]
[21,5240,22,5254,24,5270,14,5281,24,5293,0,22212,null,null,null,{"$f":"SUM(P7:P38)","v":1},{"$f":"-SUM(Q7:Q38)","v":2.9486206930296266},null,null,null,null,{"$f":"SUM(V7:V38)","v":1},{"$f":"-SUM(W7:W38)","v":2.2807876549494521},null,null,null,{"$f":"SUM(AA7:AA38)","v":1},{"$f":"-SUM(AB7:AB38)","v":1.8899168453199875},null,null,null,{"$f":"SUM(AF7:AF38)","v":0.99999999999999989},{"$f":"-SUM(AG7:AG38)","v":2.4696844590546903},null,null,null,{"$f":"SUM(AK7:AK38)","v":1},{"$f":"-SUM(AL7:AL38)","v":2.4002057591460946},null,null,null,{"$f":"SUM(AP7:AP38)","v":0.99999999999999989},{"$f":"-SUM(AQ7:AQ38)","v":3.0507661742775687},null,null,null,{"$f":"SUM(AU7:AU38)","v":1},{"$f":"-SUM(AV7:AV38)","v":2.3464393446710154}]
[21,5396,11,5422,22,5431,14,5443,24,5457,0,21212,null,null,null,"U=",{"$f":"Q39/(LOG(Q4)/LOG(2))","v":0.4172917456252207},null,null,null,null,"U1=",{"$f":"W39/(LOG(W4)/LOG(2))","v":0.504201705891415},null,null,null,"U2=",{"$f":"AB39/(LOG(AB4)/LOG(2))","v":0.42380218084776999},null,null,null,"U3=",{"$f":"AG39/(LOG(AG4)/LOG(2))","v":0.54596012678632655},null,null,null,"U4=",{"$f":"AL39/(LOG(AL4)/LOG(2))","v":0.53823131833996907},null,null,null,"U5=",{"$f":"AQ39/(LOG(AQ4)/LOG(2))","v":0.67441679895477447},null,null,null,"U6=",{"$f":"AV39/(LOG(AV4)/LOG(2))","v":0.53421442915356543}]
[21,5567,22,5580,24,5597,14,5610,24,5621,0,22212]
[21,5722,22,5742,24,5752,14,5764,24,5776,0,22212]
[21,5885,22,5890,24,5907,14,5918,24,5933,0,22212,null,"Total Target Seq"]
[21,6046,22,6051,13,6063,23,6073,13,6085,0,22121,null,{"$f":"COUNTIF(L7:L141,G3)","v":2},null,23,22,23,22,23,22]
[21,6188,22,6205,24,6220,23,6235,13,6248,0,22221,null,null,null,"% of reinforcement given in 6 equal intervals based on number of trials "]
[21,6360,22,6364,24,6379,14,6388,24,6401,0,22212,null,null,null,"%_1","%_2","%_3","%_4","%_5","%_6"]
[21,6501,22,6519,13,6532,23,6541,13,6553,0,22121,null,null,"target sequence",{"$f":"$G$3","v":21121},{"$f":"$G$3","v":21121},{"$f":"$G$3","v":21121},{"$f":"$G$3","v":21121},{"$f":"$G$3","v":21121},{"$f":"$G$3","v":21121}]
[21,6691,22,6707,13,6719,23,6732,13,6745,0,22121,null,null,"total reinforcement",{"$f":"U25","v":0},{"$f":"Z25","v":0},{"$f":"AE25","v":1},{"$f":"AJ25","v":0},{"$f":"AO25","v":0},{"$f":"AT25","v":1}]
[21,6847,22,6855,24,6862,14,6873,24,6882,0,22212,null,null,"% target"]
[21,6989,22,6995,24,7011,14,7023,24,7036,0,22212,null,null,"CCRF"]
[21,7147,22,7178,13,7191,23,7203,13,7215,0,22121,null,null,"% CCRf"]
[21,7321,22,7357,24,7365,14,7380,24,7393,0,22212,null,null,"average response rate",{"$f":"J29/P44","v":162.08695652173913},{"$f":"(J51-J29)/Q44","v":158.5},{"$f":"(J74-J51)/R44","v":166.2608695652174},{"$f":"(J96-J74)/S44","v":173.45454545454547},{"$f":"(J119-J96)/T44","v":218.13043478260869},{"$f":"(J141-J119)/U44","v":-903.27272727272725}]
[21,7493,22,7521,13,7532,23,7543,13,7556,0,22121]
[21,7690,22,7694,24,7711,14,7721,13,7729,0,22211]
[21,7854,11,7867,22,7878,14,7890,13,7900,0,21211]
[21,8008,22,8012,24,8025,14,8038,24,8048,0,22212]
[21,8152,22,8159,24,8170,23,8186,13,8195,0,22221]
[21,8299,22,8303,24,8323,14,8331,13,8340,0,22211]
[21,8444,22,8449,24,8461,14,8472,24,8482,0,22212]
[21,8585,22,8605,13,8614,23,8628,13,8641,0,22121]
[21,8770,22,8790,13,8801,23,8813,13,8826,0,22121]
[21,8945,11,8969,22,8978,14,8991,13,9006,0,21211]
[21,9134,11,9151,22,9160,14,9172,13,9181,0,21211]
[21,9310,22,9317,24,9332,14,9341,24,9358,0,22212]
[21,9462,22,9466,24,9474,23,9492,24,9512,0,22222]
[21,9678,11,9689,11,9711,21,9722,11,9734,1,21121]
[21,9831,22,9839,13,9851,23,9862,13,9874,0,22121]
[21,10003,11,10014,22,10025,14,10038,13,10050,0,21211]
[21,10154,11,10180,22,10189,14,10200,24,10212,0,21212]
[21,10347,22,10360,13,10372,23,10384,13,10395,0,22121]
[21,10497,22,10502,24,10516,14,10525,24,10536,0,22212]
[21,10658,22,10678,13,10690,23,10704,13,10716,0,22121]
[21,10847,22,10851,24,10865,14,10876,13,10884,0,22211]
[21,10993,22,11000,24,11012,14,11025,24,11039,0,22212]
[21,11143,22,11151,24,11165,23,11173,13,11182,0,22221]
[21,11298,22,11306,24,11321,14,11332,24,11344,0,22212]
[21,11444,22,11449,24,11464,23,11483,13,11496,0,22221]
[21,11608,22,11615,24,11622,14,11634,24,11646,0,22212]
[21,11755,22,11765,24,11780,14,11791,24,11807,0,22212]
[21,11915,22,11922,24,11939,14,11948,24,11962,0,22212]
[21,12062,22,12069,24,12081,23,12086,24,12101,0,22222]
[21,12229,11,12239,22,12252,14,12264,24,12277,0,21212]
[21,12384,22,12392,24,12410,14,12421,24,12438,0,22212]
[21,12542,22,12549,24,12576,23,12580,24,12599,0,22222]
[21,12731,22,12739,13,12750,23,12762,13,12774,0,22121]
[21,12880,22,12885,24,12902,14,12913,13,12922,0,22211]
[21,13064,11,13077,22,13086,14,13098,24,13111,0,21212]
[21,13322,22,13332,13,13346,23,13358,13,13370,0,22121]
[21,13474,22,13482,24,13492,14,13502,24,13511,0,22212]
[21,13634,22,13644,13,13656,23,13671,13,13682,0,22121]
[21,13804,22,13820,24,13845,14,13856,24,13868,0,22212]
[21,13971,22,13979,13,14001,23,14013,13,14024,0,22121]
[21,14143,22,14152,13,14163,23,14176,13,14186,0,22121]
[12,14339,24,14351,13,14362,23,14375,13,14386,0,12121]
[21,14535,22,14543,13,14561,23,14574,13,14586,0,22121]
[21,14796,22,14815,13,14827,23,14843,13,14855,0,22121]
[21,15036,22,15041,24,15057,14,15069,24,15082,0,22212]
[21,15266,11,15276,22,15288,14,15299,24,15312,0,21212]
[21,15528,22,15536,24,15553,14,15564,13,15573,0,22211]
[21,15755,22,15764,24,15787,14,15798,13,15825,0,22211]
[21,15967,22,15990,13,16002,23,16015,13,16027,0,22121]
[21,16134,22,16207,24,16211,23,16231,13,16246,0,22221]
[21,16480,11,16492,22,16501,14,16513,24,16522,0,21212]
[21,16646,11,16671,22,16681,14,16693,24,16705,0,21212]
[21,16973,11,16986,22,16995,14,17007,24,17021,0,21212]
[21,17135,22,17140,24,17152,23,17170,13,17185,0,22221]
[21,17310,22,17319,13,17329,23,17337,13,17348,0,22121]
[21,17572,11,17581,22,17593,14,17605,24,17619,0,21212]
[21,17764,22,17791,13,17803,23,17814,13,17827,0,22121]
[21,18039,11,18055,22,18066,14,18079,13,18089,0,21211]
[21,18232,22,18240,13,18253,23,18262,13,18273,0,22121]
[12,18392,24,18401,13,18413,23,18426,13,18437,0,12121]
[21,18667,11,18680,22,18694,23,18710,13,18722,0,21221]
[21,18853,22,18862,13,18875,23,18896,13,18907,0,22121]
[12,19038,13,19044,24,19057,14,19067,24,19081,0,11212]
[21,19279,22,19294,24,19299,23,19319,13,19330,0,22221]
[12,19438,24,19447,24,19462,23,19474,13,19481,0,12221]
[21,19606,22,19626,13,19637,14,19662,24,19674,0,22112]
[21,19824,22,19832,13,19843,23,19858,13,19872,0,22121]
[12,20146,24,20155,13,20166,23,20180,13,20193,0,12121]
[21,20398,11,20411,22,20421,14,20431,24,20444,0,21212]
[21,20555,22,20560,24,20572,14,20584,24,20592,0,22212]
[21,20772,22,20796,13,20808,23,20822,13,20835,0,22121]
[21,20963,11,20974,11,20979,21,20991,11,21003,1,21121]
[21,21104,22,21112,13,21121,23,21130,13,21143,0,22121]
[21,21257,22,21274,13,21283,14,21291,24,21303,0,22112]
[21,21415,22,21434,13,21443,23,21456,13,21467,0,22121]
[21,21585,22,21591,13,21602,23,21608,13,21620,0,22121]
[21,21731,22,21746,24,21762,14,21771,24,21784,0,22212]
[21,21925,22,21934,13,21943,23,21952,13,21963,0,22121]
[21,22115,22,22119,24,22136,14,22144,24,22156,0,22212]
[21,22286,22,22293,24,22313,14,22322,24,22337,0,22212]
[12,22450,24,22459,24,22475,14,22484,24,22494,0,12212]
[21,22616,22,22701,24,22708,14,22717,24,22729,0,22212]
[21,22836,22,22841,24,22858,14,22870,24,22878,0,22212]
[21,22985,22,22993,13,23003,23,23011,13,23020,0,22121]
[21,23122,22,23129,24,23223,14,23236,24,23248,0,22212]
[21,23492,11,23506,22,23518,14,23530,13,23539,0,21211]
[12,23654,24,23667,13,23677,14,23685,24,23699,0,12112]
[21,23815,22,23821,24,23826,14,23839,24,23846,0,22212]
[21,23999,null,null,null,null,null,null,null,null,null,2]

{"sheet":"!N128800.091","index":11,"n_rows":144,"n_cols":48,"rows_kept":144,"cut":false,"hidden":false,"merged":[[4,39,4,42],[5,39,5,40],[4,44,4,47],[5,44,5,45],[4,24,4,27],[5,24,5,25],[4,29,4,32],[5,29,5,30],[4,34,4,37],[5,34,5,35],[1,1,1,2],[5,13,5,14],[42,13,42,14],[43,13,43,14],[4,19,4,22],[5,19,5,20]]}
["Report for:!N128800.091"]
["Date:","<date>"]
["Hen:","<hen>",null,null,null,"Correct Sequence",{"$f":"Start!J2","v":21121},null,null,null,null,null,null,null,null,"Total Sequences in Data",{"$f":"4994-COUNTBLANK(L7:L5000)","v":138},null,null,null,null,"Total Sequences in Block Data",{"$f":"COUNTA(L7:L29)","v":23},null,null,null,"Total Sequences in Block Data",{"$f":"COUNTA(L30:L52)","v":23},null,null,null,"Total Sequences in Block Data",{"$f":"COUNTA(L53:L75)","v":23},null,null,null,"Total Sequences in Block Data",{"$f":"COUNTA(L76:L98)","v":23},null,null,null,"Total Sequences in Block Data",{"$f":"COUNTA(L99:L121)","v":23},null,null,null,"Total Sequences in Block Data",{"$f":"COUNTA(L122:L144)","v":23}]
[null,null,null,null,null,null,null,null,null,null,null,null,null,null,null,"Total Sequences in Summary",{"$f":"SUM(O7:O38)","v":138},null,null,null,null,"Total Sequences in Block Summary",{"$f":"SUM(U7:U38)","v":23},null,null,null,"Total Sequences in Block Summary",{"$f":"SUM(Z7:Z38)","v":23},null,null,null,"Total Sequences in Block Summary",{"$f":"SUM(AE7:AE38)","v":23},null,null,null,"Total Sequences in Block Summary",{"$f":"SUM(AJ7:AJ38)","v":23},null,null,null,"Total Sequences in Block Summary",{"$f":"SUM(AO7:AO38)","v":23},null,null,null,"Total Sequences in Block Summary",{"$f":"SUM(AT7:AT38)","v":23}]
[null,null,null,null,null,null,null,null,null,null,null,null,null,null,null,null,null,null,null,"Block 1",null,null,null,null,"Block 2",null,null,null,null,"Block 3",null,null,null,null,"Block 4",null,null,null,null,"Block 5",null,null,null,null,"Block 6"]
["Sequence\nComponent\n1","Time\n1","Sequence\nComponent\n2","Time\n2","Sequence\nComponent\n3","Time\n3","Sequence\nComponent\n4","Time\n4","Sequence\nComponent\n5","Time\n5","Correct?\n0=No 1=Yes","Sequence",null,"Frequency",null,"Relative Frequency","Variability",null,null,"Frequency",null,"Relative Frequency","Variability",null,"Frequency",null,"Relative Frequency","Variability",null,"Frequency",null,"Relative Frequency","Variability",null,"Frequency",null,"Relative Frequency","Variability",null,"Frequency",null,"Relative Frequency","Variability",null,"Frequency",null,"Relative Frequency","Variability"]
[21,16,11,29,22,42,14,55,24,69,0,21212,null,11111,{"$f":"COUNTIF($L$7:$L$500,N7)","v":0},{"$f":"O7/$Q$4","v":0},{"$f":"IF(P7=0,0,(P7*((LOG(P7))/LOG(2))))","v":0},null,null,{"$f":"N7","v":11111},{"$f":"COUNTIF(L7:L29,T7)","v":0},{"$f":"U7/(W4-U25)","v":0},{"$f":"IF(V7=0,0,(V7*((LOG(V7))/LOG(2))))","v":0},null,{"$f":"N7","v":11111},{"$f":"COUNTIF(L30:L52,Y7)","v":0},{"$f":"Z7/(AB4-Z25)","v":0},{"$f":"IF(AA7=0,0,(AA7*((LOG(AA7))/LOG(2))))","v":0},null,{"$f":"N7","v":11111},{"$f":"COUNTIF(L53:L75,AD7)","v":0},{"$f":"AE7/(AG4-AE25)","v":0},{"$f":"IF(AF7=0,0,(AF7*((LOG(AF7))/LOG(2))))","v":0},null,{"$f":"N7","v":11111},{"$f":"COUNTIF(L76:L98,AI7)","v":0},{"$f":"AJ7/(AL4-AJ25)","v":0},{"$f":"IF(AK7=0,0,(AK7*((LOG(AK7))/LOG(2))))","v":0},null,{"$f":"N7","v":11111},{"$f":"COUNTIF(L99:L121,AN7)","v":0},{"$f":"AO7/(AQ4-AO25)","v":0},{"$f":"IF(AP7=0,0,(AP7*((LOG(AP7))/LOG(2))))","v":0},null,{"$f":"N7","v":11111},{"$f":"COUNTIF(L122:L144,AS7)","v":0},{"$f":"AT7/(AV4-AT25)","v":0},{"$f":"IF(AU7=0,0,(AU7*((LOG(AU7))/LOG(2))))","v":0}]
[21,191,22,217,13,226,14,235,24,247,0,22112,null,11112,{"$f":"COUNTIF($L$7:$L$500,N8)","v":0},{"$f":"O8/$Q$4","v":0},{"$f":"IF(P8=0,0,(P8*((LOG(P8))/LOG(2))))","v":0},null,null,{"$f":"N8","v":11112},{"$f":"COUNTIF(L7:L29,T8)","v":0},{"$f":"U8/(W4-U25)","v":0},{"$f":"IF(V8=0,0,(V8*((LOG(V8))/LOG(2))))","v":0},null,{"$f":"N8","v":11112},{"$f":"COUNTIF(L30:L52,Y8)","v":0},{"$f":"Z8/(AB4-Z25)","v":0},{"$f":"IF(AA8=0,0,(AA8*((LOG(AA8))/LOG(2))))","v":0},null,{"$f":"N8","v":11112},{"$f":"COUNTIF(L53:L75,AD8)","v":0},{"$f":"AE8/(AG4-AE25)","v":0},{"$f":"IF(AF8=0,0,(AF8*((LOG(AF8))/LOG(2))))","v":0},null,{"$f":"N8","v":11112},{"$f":"COUNTIF(L76:L98,AI8)","v":0},{"$f":"AJ8/(AL4-AJ25)","v":0},{"$f":"IF(AK8=0,0,(AK8*((LOG(AK8))/LOG(2))))","v":0},null,{"$f":"N8","v":11112},{"$f":"COUNTIF(L99:L121,AN8)","v":0},{"$f":"AO8/(AQ4-AO25)","v":0},{"$f":"IF(AP8=0,0,(AP8*((LOG(AP8))/LOG(2))))","v":0},null,{"$f":"N8","v":11112},{"$f":"COUNTIF(L122:L144,AS8)","v":0},{"$f":"AT8/(AV4-AT25)","v":0},{"$f":"IF(AU8=0,0,(AU8*((LOG(AU8))/LOG(2))))","v":0}]
[21,350,22,359,13,367,23,378,13,390,0,22121,null,11121,{"$f":"COUNTIF($L$7:$L$500,N9)","v":1},{"$f":"O9/$Q$4","v":7.246376811594203E-3},{"$f":"IF(P9=0,0,(P9*((LOG(P9))/LOG(2))))","v":-5.1511046788247604E-2},null,null,{"$f":"N9","v":11121},{"$f":"COUNTIF(L7:L29,T9)","v":0},{"$f":"U9/(W4-U25)","v":0},{"$f":"IF(V9=0,0,(V9*((LOG(V9))/LOG(2))))","v":0},null,{"$f":"N9","v":11121},{"$f":"COUNTIF(L30:L52,Y9)","v":1},{"$f":"Z9/(AB4-Z25)","v":4.3478260869565216E-2},{"$f":"IF(AA9=0,0,(AA9*((LOG(AA9))/LOG(2))))","v":-0.19667660678508753},null,{"$f":"N9","v":11121},{"$f":"COUNTIF(L53:L75,AD9)","v":0},{"$f":"AE9/(AG4-AE25)","v":0},{"$f":"IF(AF9=0,0,(AF9*((LOG(AF9))/LOG(2))))","v":0},null,{"$f":"N9","v":11121},{"$f":"COUNTIF(L76:L98,AI9)","v":0},{"$f":"AJ9/(AL4-AJ25)","v":0},{"$f":"IF(AK9=0,0,(AK9*((LOG(AK9))/LOG(2))))","v":0},null,{"$f":"N9","v":11121},{"$f":"COUNTIF(L99:L121,AN9)","v":0},{"$f":"AO9/(AQ4-AO25)","v":0},{"$f":"IF(AP9=0,0,(AP9*((LOG(AP9))/LOG(2))))","v":0},null,{"$f":"N9","v":11121},{"$f":"COUNTIF(L122:L144,AS9)","v":0},{"$f":"AT9/(AV4-AT25)","v":0},{"$f":"IF(AU9=0,0,(AU9*((LOG(AU9))/LOG(2))))","v":0}]
[21,514,22,521,13,530,23,543,13,555,0,22121,null,11122,{"$f":"COUNTIF($L$7:$L$500,N10)","v":0},{"$f":"O10/$Q$4","v":0},{"$f":"IF(P10=0,0,(P10*((LOG(P10))/LOG(2))))","v":0},null,null,{"$f":"N10","v":11122},{"$f":"COUNTIF(L7:L29,T10)","v":0},{"$f":"U10/(W4-U25)","v":0},{"$f":"IF(V10=0,0,(V10*((LOG(V10))/LOG(2))))","v":0},null,{"$f":"N10","v":11122},{"$f":"COUNTIF(L30:L52,Y10)","v":0},{"$f":"Z10/(AB4-Z25)","v":0},{"$f":"IF(AA10=0,0,(AA10*((LOG(AA10))/LOG(2))))","v":0},null,{"$f":"N10","v":11122},{"$f":"COUNTIF(L53:L75,AD10)","v":0},{"$f":"AE10/(AG4-AE25)","v":0},{"$f":"IF(AF10=0,0,(AF10*((LOG(AF10))/LOG(2))))","v":0},null,{"$f":"N10","v":11122},{"$f":"COUNTIF(L76:L98,AI10)","v":0},{"$f":"AJ10/(AL4-AJ25)","v":0},{"$f":"IF(AK10=0,0,(AK10*((LOG(AK10))/LOG(2))))","v":0},null,{"$f":"N10","v":11122},{"$f":"COUNTIF(L99:L121,AN10)","v":0},{"$f":"AO10/(AQ4-AO25)","v":0},{"$f":"IF(AP10=0,0,(AP10*((LOG(AP10))/LOG(2))))","v":0},null,{"$f":"N10","v":11122},{"$f":"COUNTIF(L122:L144,AS10)","v":0},{"$f":"AT10/(AV4-AT25)","v":0},{"$f":"IF(AU10=0,0,(AU10*((LOG(AU10))/LOG(2))))","v":0}]
[21,665,22,670,24,678,14,690,24,703,0,22212,null,11211,{"$f":"COUNTIF($L$7:$L$500,N11)","v":0},{"$f":"O11/$Q$4","v":0},{"$f":"IF(P11=0,0,(P11*((LOG(P11))/LOG(2))))","v":0},null,null,{"$f":"N11","v":11211},{"$f":"COUNTIF(L7:L29,T11)","v":0},{"$f":"U11/(W4-U25)","v":0},{"$f":"IF(V11=0,0,(V11*((LOG(V11))/LOG(2))))","v":0},null,{"$f":"N11","v":11211},{"$f":"COUNTIF(L30:L52,Y11)","v":0},{"$f":"Z11/(AB4-Z25)","v":0},{"$f":"IF(AA11=0,0,(AA11*((LOG(AA11))/LOG(2))))","v":0},null,{"$f":"N11","v":11211},{"$f":"COUNTIF(L53:L75,AD11)","v":0},{"$f":"AE11/(AG4-AE25)","v":0},{"$f":"IF(AF11=0,0,(AF11*((LOG(AF11))/LOG(2))))","v":0},null,{"$f":"N11","v":11211},{"$f":"COUNTIF(L76:L98,AI11)","v":0},{"$f":"AJ11/(AL4-AJ25)","v":0},{"$f":"IF(AK11=0,0,(AK11*((LOG(AK11))/LOG(2))))","v":0},null,{"$f":"N11","v":11211},{"$f":"COUNTIF(L99:L121,AN11)","v":0},{"$f":"AO11/(AQ4-AO25)","v":0},{"$f":"IF(AP11=0,0,(AP11*((LOG(AP11))/LOG(2))))","v":0},null,{"$f":"N11","v":11211},{"$f":"COUNTIF(L122:L144,AS11)","v":0},{"$f":"AT11/(AV4-AT25)","v":0},{"$f":"IF(AU11=0,0,(AU11*((LOG(AU11))/LOG(2))))","v":0}]
[21,813,11,823,22,831,14,843,24,855,0,21212,null,11212,{"$f":"COUNTIF($L$7:$L$500,N12)","v":3},{"$f":"O12/$Q$4","v":2.1739130434782608E-2},{"$f":"IF(P12=0,0,(P12*((LOG(P12))/LOG(2))))","v":-0.12007743382732637},null,null,{"$f":"N12","v":11212},{"$f":"COUNTIF(L7:L29,T12)","v":0},{"$f":"U12/(W4-U25)","v":0},{"$f":"IF(V12=0,0,(V12*((LOG(V12))/LOG(2))))","v":0},null,{"$f":"N12","v":11212},{"$f":"COUNTIF(L30:L52,Y12)","v":0},{"$f":"Z12/(AB4-Z25)","v":0},{"$f":"IF(AA12=0,0,(AA12*((LOG(AA12))/LOG(2))))","v":0},null,{"$f":"N12","v":11212},{"$f":"COUNTIF(L53:L75,AD12)","v":1},{"$f":"AE12/(AG4-AE25)","v":4.5454545454545456E-2},{"$f":"IF(AF12=0,0,(AF12*((LOG(AF12))/LOG(2))))","v":-0.20270143721078623},null,{"$f":"N12","v":11212},{"$f":"COUNTIF(L76:L98,AI12)","v":0},{"$f":"AJ12/(AL4-AJ25)","v":0},{"$f":"IF(AK12=0,0,(AK12*((LOG(AK12))/LOG(2))))","v":0},null,{"$f":"N12","v":11212},{"$f":"COUNTIF(L99:L121,AN12)","v":2},{"$f":"AO12/(AQ4-AO25)","v":9.0909090909090912E-2},{"$f":"IF(AP12=0,0,(AP12*((LOG(AP12))/LOG(2))))","v":-0.31449378351248153},null,{"$f":"N12","v":11212},{"$f":"COUNTIF(L122:L144,AS12)","v":0},{"$f":"AT12/(AV4-AT25)","v":0},{"$f":"IF(AU12=0,0,(AU12*((LOG(AU12))/LOG(2))))","v":0}]
[21,996,11,1009,22,1044,14,1056,24,1068,0,21212,null,11221,{"$f":"COUNTIF($L$7:$L$500,N13)","v":0},{"$f":"O13/$Q$4","v":0},{"$f":"IF(P13=0,0,(P13*((LOG(P13))/LOG(2))))","v":0},null,null,{"$f":"N13","v":11221},{"$f":"COUNTIF(L7:L29,T13)","v":0},{"$f":"U13/(W4-U25)","v":0},{"$f":"IF(V13=0,0,(V13*((LOG(V13))/LOG(2))))","v":0},null,{"$f":"N13","v":11221},{"$f":"COUNTIF(L30:L52,Y13)","v":0},{"$f":"Z13/(AB4-Z25)","v":0},{"$f":"IF(AA13=0,0,(AA13*((LOG(AA13))/LOG(2))))","v":0},null,{"$f":"N13","v":11221},{"$f":"COUNTIF(L53:L75,AD13)","v":0},{"$f":"AE13/(AG4-AE25)","v":0},{"$f":"IF(AF13=0,0,(AF13*((LOG(AF13))/LOG(2))))","v":0},null,{"$f":"N13","v":11221},{"$f":"COUNTIF(L76:L98,AI13)","v":0},{"$f":"AJ13/(AL4-AJ25)","v":0},{"$f":"IF(AK13=0,0,(AK13*((LOG(AK13))/LOG(2))))","v":0},null,{"$f":"N13","v":11221},{"$f":"COUNTIF(L99:L121,AN13)","v":0},{"$f":"AO13/(AQ4-AO25)","v":0},{"$f":"IF(AP13=0,0,(AP13*((LOG(AP13))/LOG(2))))","v":0},null,{"$f":"N13","v":11221},{"$f":"COUNTIF(L122:L144,AS13)","v":0},{"$f":"AT13/(AV4-AT25)","v":0},{"$f":"IF(AU13=0,0,(AU13*((LOG(AU13))/LOG(2))))","v":0}]
[21,1207,22,1220,13,1231,23,1244,13,1257,0,22121,null,11222,{"$f":"COUNTIF($L$7:$L$500,N14)","v":0},{"$f":"O14/$Q$4","v":0},{"$f":"IF(P14=0,0,(P14*((LOG(P14))/LOG(2))))","v":0},null,null,{"$f":"N14","v":11222},{"$f":"COUNTIF(L7:L29,T14)","v":0},{"$f":"U14/(W4-U25)","v":0},{"$f":"IF(V14=0,0,(V14*((LOG(V14))/LOG(2))))","v":0},null,{"$f":"N14","v":11222},{"$f":"COUNTIF(L30:L52,Y14)","v":0},{"$f":"Z14/(AB4-Z25)","v":0},{"$f":"IF(AA14=0,0,(AA14*((LOG(AA14))/LOG(2))))","v":0},null,{"$f":"N14","v":11222},{"$f":"COUNTIF(L53:L75,AD14)","v":0},{"$f":"AE14/(AG4-AE25)","v":0},{"$f":"IF(AF14=0,0,(AF14*((LOG(AF14))/LOG(2))))","v":0},null,{"$f":"N14","v":11222},{"$f":"COUNTIF(L76:L98,AI14)","v":0},{"$f":"AJ14/(AL4-AJ25)","v":0},{"$f":"IF(AK14=0,0,(AK14*((LOG(AK14))/LOG(2))))","v":0},null,{"$f":"N14","v":11222},{"$f":"COUNTIF(L99:L121,AN14)","v":0},{"$f":"AO14/(AQ4-AO25)","v":0},{"$f":"IF(AP14=0,0,(AP14*((LOG(AP14))/LOG(2))))","v":0},null,{"$f":"N14","v":11222},{"$f":"COUNTIF(L122:L144,AS14)","v":0},{"$f":"AT14/(AV4-AT25)","v":0},{"$f":"IF(AU14=0,0,(AU14*((LOG(AU14))/LOG(2))))","v":0}]
[21,1406,22,1414,13,1423,23,1436,13,1449,0,22121,null,12111,{"$f":"COUNTIF($L$7:$L$500,N15)","v":1},{"$f":"O15/$Q$4","v":7.246376811594203E-3},{"$f":"IF(P15=0,0,(P15*((LOG(P15))/LOG(2))))","v":-5.1511046788247604E-2},null,null,{"$f":"N15","v":12111},{"$f":"COUNTIF(L7:L29,T15)","v":0},{"$f":"U15/(W4-U25)","v":0},{"$f":"IF(V15=0,0,(V15*((LOG(V15))/LOG(2))))","v":0},null,{"$f":"N15","v":12111},{"$f":"COUNTIF(L30:L52,Y15)","v":0},{"$f":"Z15/(AB4-Z25)","v":0},{"$f":"IF(AA15=0,0,(AA15*((LOG(AA15))/LOG(2))))","v":0},null,{"$f":"N15","v":12111},{"$f":"COUNTIF(L53:L75,AD15)","v":0},{"$f":"AE15/(AG4-AE25)","v":0},{"$f":"IF(AF15=0,0,(AF15*((LOG(AF15))/LOG(2))))","v":0},null,{"$f":"N15","v":12111},{"$f":"COUNTIF(L76:L98,AI15)","v":1},{"$f":"AJ15/(AL4-AJ25)","v":4.5454545454545456E-2},{"$f":"IF(AK15=0,0,(AK15*((LOG(AK15))/LOG(2))))","v":-0.20270143721078623},null,{"$f":"N15","v":12111},{"$f":"COUNTIF(L99:L121,AN15)","v":0},{"$f":"AO15/(AQ4-AO25)","v":0},{"$f":"IF(AP15=0,0,(AP15*((LOG(AP15))/LOG(2))))","v":0},null,{"$f":"N15","v":12111},{"$f":"COUNTIF(L122:L144,AS15)","v":0},{"$f":"AT15/(AV4-AT25)","v":0},{"$f":"IF(AU15=0,0,(AU15*((LOG(AU15))/LOG(2))))","v":0}]
[21,1591,22,1599,24,1613,14,1625,24,1638,0,22212,null,12112,{"$f":"COUNTIF($L$7:$L$500,N16)","v":3},{"$f":"O16/$Q$4","v":2.1739130434782608E-2},{"$f":"IF(P16=0,0,(P16*((LOG(P16))/LOG(2))))","v":-0.12007743382732637},null,null,{"$f":"N16","v":12112},{"$f":"COUNTIF(L7:L29,T16)","v":0},{"$f":"U16/(W4-U25)","v":0},{"$f":"IF(V16=0,0,(V16*((LOG(V16))/LOG(2))))","v":0},null,{"$f":"N16","v":12112},{"$f":"COUNTIF(L30:L52,Y16)","v":1},{"$f":"Z16/(AB4-Z25)","v":4.3478260869565216E-2},{"$f":"IF(AA16=0,0,(AA16*((LOG(AA16))/LOG(2))))","v":-0.19667660678508753},null,{"$f":"N16","v":12112},{"$f":"COUNTIF(L53:L75,AD16)","v":0},{"$f":"AE16/(AG4-AE25)","v":0},{"$f":"IF(AF16=0,0,(AF16*((LOG(AF16))/LOG(2))))","v":0},null,{"$f":"N16","v":12112},{"$f":"COUNTIF(L76:L98,AI16)","v":0},{"$f":"AJ16/(AL4-AJ25)","v":0},{"$f":"IF(AK16=0,0,(AK16*((LOG(AK16))/LOG(2))))","v":0},null,{"$f":"N16","v":12112},{"$f":"COUNTIF(L99:L121,AN16)","v":1},{"$f":"AO16/(AQ4-AO25)","v":4.5454545454545456E-2},{"$f":"IF(AP16=0,0,(AP16*((LOG(AP16))/LOG(2))))","v":-0.20270143721078623},null,{"$f":"N16","v":12112},{"$f":"COUNTIF(L122:L144,AS16)","v":1},{"$f":"AT16/(AV4-AT25)","v":4.3478260869565216E-2},{"$f":"IF(AU16=0,0,(AU16*((LOG(AU16))/LOG(2))))","v":-0.19667660678508753}]
[21,1790,11,1800,22,1811,14,1824,24,1839,0,21212,null,12121,{"$f":"COUNTIF($L$7:$L$500,N17)","v":11},{"$f":"O17/$Q$4","v":7.9710144927536225E-2},{"$f":"IF(P17=0,0,(P17*((LOG(P17))/LOG(2))))","v":-0.2908697189822434},null,null,{"$f":"N17","v":12121},{"$f":"COUNTIF(L7:L29,T17)","v":1},{"$f":"U17/(W4-U25)","v":4.3478260869565216E-2},{"$f":"IF(V17=0,0,(V17*((LOG(V17))/LOG(2))))","v":-0.19667660678508753},null,{"$f":"N17","v":12121},{"$f":"COUNTIF(L30:L52,Y17)","v":1},{"$f":"Z17/(AB4-Z25)","v":4.3478260869565216E-2},{"$f":"IF(AA17=0,0,(AA17*((LOG(AA17))/LOG(2))))","v":-0.19667660678508753},null,{"$f":"N17","v":12121},{"$f":"COUNTIF(L53:L75,AD17)","v":1},{"$f":"AE17/(AG4-AE25)","v":4.5454545454545456E-2},{"$f":"IF(AF17=0,0,(AF17*((LOG(AF17))/LOG(2))))","v":-0.20270143721078623},null,{"$f":"N17","v":12121},{"$f":"COUNTIF(L76:L98,AI17)","v":1},{"$f":"AJ17/(AL4-AJ25)","v":4.5454545454545456E-2},{"$f":"IF(AK17=0,0,(AK17*((LOG(AK17))/LOG(2))))","v":-0.20270143721078623},null,{"$f":"N17","v":12121},{"$f":"COUNTIF(L99:L121,AN17)","v":1},{"$f":"AO17/(AQ4-AO25)","v":4.5454545454545456E-2},{"$f":"IF(AP17=0,0,(AP17*((LOG(AP17))/LOG(2))))","v":-0.20270143721078623},null,{"$f":"N17","v":12121},{"$f":"COUNTIF(L122:L144,AS17)","v":6},{"$f":"AT17/(AV4-AT25)","v":0.2608695652173913},{"$f":"IF(AU17=0,0,(AU17*((LOG(AU17))/LOG(2))))","v":-0.50572159704413644}]
[21,1955,22,1964,13,1975,23,1994,24,2013,0,22122,null,12122,{"$f":"COUNTIF($L$7:$L$500,N18)","v":0},{"$f":"O18/$Q$4","v":0},{"$f":"IF(P18=0,0,(P18*((LOG(P18))/LOG(2))))","v":0},null,null,{"$f":"N18","v":12122},{"$f":"COUNTIF(L7:L29,T18)","v":0},{"$f":"U18/(W4-U25)","v":0},{"$f":"IF(V18=0,0,(V18*((LOG(V18))/LOG(2))))","v":0},null,{"$f":"N18","v":12122},{"$f":"COUNTIF(L30:L52,Y18)","v":0},{"$f":"Z18/(AB4-Z25)","v":0},{"$f":"IF(AA18=0,0,(AA18*((LOG(AA18))/LOG(2))))","v":0},null,{"$f":"N18","v":12122},{"$f":"COUNTIF(L53:L75,AD18)","v":0},{"$f":"AE18/(AG4-AE25)","v":0},{"$f":"IF(AF18=0,0,(AF18*((LOG(AF18))/LOG(2))))","v":0},null,{"$f":"N18","v":12122},{"$f":"COUNTIF(L76:L98,AI18)","v":0},{"$f":"AJ18/(AL4-AJ25)","v":0},{"$f":"IF(AK18=0,0,(AK18*((LOG(AK18))/LOG(2))))","v":0},null,{"$f":"N18","v":12122},{"$f":"COUNTIF(L99:L121,AN18)","v":0},{"$f":"AO18/(AQ4-AO25)","v":0},{"$f":"IF(AP18=0,0,(AP18*((LOG(AP18))/LOG(2))))","v":0},null,{"$f":"N18","v":12122},{"$f":"COUNTIF(L122:L144,AS18)","v":0},{"$f":"AT18/(AV4-AT25)","v":0},{"$f":"IF(AU18=0,0,(AU18*((LOG(AU18))/LOG(2))))","v":0}]
[21,2143,11,2151,22,2163,14,2175,13,2185,0,21211,null,12211,{"$f":"COUNTIF($L$7:$L$500,N19)","v":1},{"$f":"O19/$Q$4","v":7.246376811594203E-3},{"$f":"IF(P19=0,0,(P19*((LOG(P19))/LOG(2))))","v":-5.1511046788247604E-2},null,null,{"$f":"N19","v":12211},{"$f":"COUNTIF(L7:L29,T19)","v":0},{"$f":"U19/(W4-U25)","v":0},{"$f":"IF(V19=0,0,(V19*((LOG(V19))/LOG(2))))","v":0},null,{"$f":"N19","v":12211},{"$f":"COUNTIF(L30:L52,Y19)","v":1},{"$f":"Z19/(AB4-Z25)","v":4.3478260869565216E-2},{"$f":"IF(AA19=0,0,(AA19*((LOG(AA19))/LOG(2))))","v":-0.19667660678508753},null,{"$f":"N19","v":12211},{"$f":"COUNTIF(L53:L75,AD19)","v":0},{"$f":"AE19/(AG4-AE25)","v":0},{"$f":"IF(AF19=0,0,(AF19*((LOG(AF19))/LOG(2))))","v":0},null,{"$f":"N19","v":12211},{"$f":"COUNTIF(L76:L98,AI19)","v":0},{"$f":"AJ19/(AL4-AJ25)","v":0},{"$f":"IF(AK19=0,0,(AK19*((LOG(AK19))/LOG(2))))","v":0},null,{"$f":"N19","v":12211},{"$f":"COUNTIF(L99:L121,AN19)","v":0},{"$f":"AO19/(AQ4-AO25)","v":0},{"$f":"IF(AP19=0,0,(AP19*((LOG(AP19))/LOG(2))))","v":0},null,{"$f":"N19","v":12211},{"$f":"COUNTIF(L122:L144,AS19)","v":0},{"$f":"AT19/(AV4-AT25)","v":0},{"$f":"IF(AU19=0,0,(AU19*((LOG(AU19))/LOG(2))))","v":0}]
[21,2323,11,2332,11,2353,12,2364,24,2377,0,21112,null,12212,{"$f":"COUNTIF($L$7:$L$500,N20)","v":1},{"$f":"O20/$Q$4","v":7.246376811594203E-3},{"$f":"IF(P20=0,0,(P20*((LOG(P20))/LOG(2))))","v":-5.1511046788247604E-2},null,null,{"$f":"N20","v":12212},{"$f":"COUNTIF(L7:L29,T20)","v":0},{"$f":"U20/(W4-U25)","v":0},{"$f":"IF(V20=0,0,(V20*((LOG(V20))/LOG(2))))","v":0},null,{"$f":"N20","v":12212},{"$f":"COUNTIF(L30:L52,Y20)","v":0},{"$f":"Z20/(AB4-Z25)","v":0},{"$f":"IF(AA20=0,0,(AA20*((LOG(AA20))/LOG(2))))","v":0},null,{"$f":"N20","v":12212},{"$f":"COUNTIF(L53:L75,AD20)","v":0},{"$f":"AE20/(AG4-AE25)","v":0},{"$f":"IF(AF20=0,0,(AF20*((LOG(AF20))/LOG(2))))","v":0},null,{"$f":"N20","v":12212},{"$f":"COUNTIF(L76:L98,AI20)","v":0},{"$f":"AJ20/(AL4-AJ25)","v":0},{"$f":"IF(AK20=0,0,(AK20*((LOG(AK20))/LOG(2))))","v":0},null,{"$f":"N20","v":12212},{"$f":"COUNTIF(L99:L121,AN20)","v":0},{"$f":"AO20/(AQ4-AO25)","v":0},{"$f":"IF(AP20=0,0,(AP20*((LOG(AP20))/LOG(2))))","v":0},null,{"$f":"N20","v":12212},{"$f":"COUNTIF(L122:L144,AS20)","v":1},{"$f":"AT20/(AV4-AT25)","v":4.3478260869565216E-2},{"$f":"IF(AU20=0,0,(AU20*((LOG(AU20))/LOG(2))))","v":-0.19667660678508753}]
[21,2509,22,2516,24,2532,14,2545,13,2558,0,22211,null,12221,{"$f":"COUNTIF($L$7:$L$500,N21)","v":0},{"$f":"O21/$Q$4","v":0},{"$f":"IF(P21=0,0,(P21*((LOG(P21))/LOG(2))))","v":0},null,null,{"$f":"N21","v":12221},{"$f":"COUNTIF(L7:L29,T21)","v":0},{"$f":"U21/(W4-U25)","v":0},{"$f":"IF(V21=0,0,(V21*((LOG(V21))/LOG(2))))","v":0},null,{"$f":"N21","v":12221},{"$f":"COUNTIF(L30:L52,Y21)","v":0},{"$f":"Z21/(AB4-Z25)","v":0},{"$f":"IF(AA21=0,0,(AA21*((LOG(AA21))/LOG(2))))","v":0},null,{"$f":"N21","v":12221},{"$f":"COUNTIF(L53:L75,AD21)","v":0},{"$f":"AE21/(AG4-AE25)","v":0},{"$f":"IF(AF21=0,0,(AF21*((LOG(AF21))/LOG(2))))","v":0},null,{"$f":"N21","v":12221},{"$f":"COUNTIF(L76:L98,AI21)","v":0},{"$f":"AJ21/(AL4-AJ25)","v":0},{"$f":"IF(AK21=0,0,(AK21*((LOG(AK21))/LOG(2))))","v":0},null,{"$f":"N21","v":12221},{"$f":"COUNTIF(L99:L121,AN21)","v":0},{"$f":"AO21/(AQ4-AO25)","v":0},{"$f":"IF(AP21=0,0,(AP21*((LOG(AP21))/LOG(2))))","v":0},null,{"$f":"N21","v":12221},{"$f":"COUNTIF(L122:L144,AS21)","v":0},{"$f":"AT21/(AV4-AT25)","v":0},{"$f":"IF(AU21=0,0,(AU21*((LOG(AU21))/LOG(2))))","v":0}]
[21,2684,22,2706,13,2714,14,2723,24,2736,0,22112,null,12222,{"$f":"COUNTIF($L$7:$L$500,N22)","v":0},{"$f":"O22/$Q$4","v":0},{"$f":"IF(P22=0,0,(P22*((LOG(P22))/LOG(2))))","v":0},null,null,{"$f":"N22","v":12222},{"$f":"COUNTIF(L7:L29,T22)","v":0},{"$f":"U22/(W4-U25)","v":0},{"$f":"IF(V22=0,0,(V22*((LOG(V22))/LOG(2))))","v":0},null,{"$f":"N22","v":12222},{"$f":"COUNTIF(L30:L52,Y22)","v":0},{"$f":"Z22/(AB4-Z25)","v":0},{"$f":"IF(AA22=0,0,(AA22*((LOG(AA22))/LOG(2))))","v":0},null,{"$f":"N22","v":12222},{"$f":"COUNTIF(L53:L75,AD22)","v":0},{"$f":"AE22/(AG4-AE25)","v":0},{"$f":"IF(AF22=0,0,(AF22*((LOG(AF22))/LOG(2))))","v":0},null,{"$f":"N22","v":12222},{"$f":"COUNTIF(L76:L98,AI22)","v":0},{"$f":"AJ22/(AL4-AJ25)","v":0},{"$f":"IF(AK22=0,0,(AK22*((LOG(AK22))/LOG(2))))","v":0},null,{"$f":"N22","v":12222},{"$f":"COUNTIF(L99:L121,AN22)","v":0},{"$f":"AO22/(AQ4-AO25)","v":0},{"$f":"IF(AP22=0,0,(AP22*((LOG(AP22))/LOG(2))))","v":0},null,{"$f":"N22","v":12222},{"$f":"COUNTIF(L122:L144,AS22)","v":0},{"$f":"AT22/(AV4-AT25)","v":0},{"$f":"IF(AU22=0,0,(AU22*((LOG(AU22))/LOG(2))))","v":0}]
[21,2856,22,2864,24,2884,14,2893,24,2907,0,22212,null,21111,{"$f":"COUNTIF($L$7:$L$500,N23)","v":0},{"$f":"O23/$Q$4","v":0},{"$f":"IF(P23=0,0,(P23*((LOG(P23))/LOG(2))))","v":0},null,null,{"$f":"N23","v":21111},{"$f":"COUNTIF(L7:L29,T23)","v":0},{"$f":"U23/(W4-U25)","v":0},{"$f":"IF(V23=0,0,(V23*((LOG(V23))/LOG(2))))","v":0},null,{"$f":"N23","v":21111},{"$f":"COUNTIF(L30:L52,Y23)","v":0},{"$f":"Z23/(AB4-Z25)","v":0},{"$f":"IF(AA23=0,0,(AA23*((LOG(AA23))/LOG(2))))","v":0},null,{"$f":"N23","v":21111},{"$f":"COUNTIF(L53:L75,AD23)","v":0},{"$f":"AE23/(AG4-AE25)","v":0},{"$f":"IF(AF23=0,0,(AF23*((LOG(AF23))/LOG(2))))","v":0},null,{"$f":"N23","v":21111},{"$f":"COUNTIF(L76:L98,AI23)","v":0},{"$f":"AJ23/(AL4-AJ25)","v":0},{"$f":"IF(AK23=0,0,(AK23*((LOG(AK23))/LOG(2))))","v":0},null,{"$f":"N23","v":21111},{"$f":"COUNTIF(L99:L121,AN23)","v":0},{"$f":"AO23/(AQ4-AO25)","v":0},{"$f":"IF(AP23=0,0,(AP23*((LOG(AP23))/LOG(2))))","v":0},null,{"$f":"N23","v":21111},{"$f":"COUNTIF(L122:L144,AS23)","v":0},{"$f":"AT23/(AV4-AT25)","v":0},{"$f":"IF(AU23=0,0,(AU23*((LOG(AU23))/LOG(2))))","v":0}]
[21,3013,22,3021,24,3029,14,3037,24,3047,0,22212,null,21112,{"$f":"COUNTIF($L$7:$L$500,N24)","v":1},{"$f":"O24/$Q$4","v":7.246376811594203E-3},{"$f":"IF(P24=0,0,(P24*((LOG(P24))/LOG(2))))","v":-5.1511046788247604E-2},null,null,{"$f":"N24","v":21112},{"$f":"COUNTIF(L7:L29,T24)","v":1},{"$f":"U24/(W4-U25)","v":4.3478260869565216E-2},{"$f":"IF(V24=0,0,(V24*((LOG(V24))/LOG(2))))","v":-0.19667660678508753},null,{"$f":"N24","v":21112},{"$f":"COUNTIF(L30:L52,Y24)","v":0},{"$f":"Z24/(AB4-Z25)","v":0},{"$f":"IF(AA24=0,0,(AA24*((LOG(AA24))/LOG(2))))","v":0},null,{"$f":"N24","v":21112},{"$f":"COUNTIF(L53:L75,AD24)","v":0},{"$f":"AE24/(AG4-AE25)","v":0},{"$f":"IF(AF24=0,0,(AF24*((LOG(AF24))/LOG(2))))","v":0},null,{"$f":"N24","v":21112},{"$f":"COUNTIF(L76:L98,AI24)","v":0},{"$f":"AJ24/(AL4-AJ25)","v":0},{"$f":"IF(AK24=0,0,(AK24*((LOG(AK24))/LOG(2))))","v":0},null,{"$f":"N24","v":21112},{"$f":"COUNTIF(L99:L121,AN24)","v":0},{"$f":"AO24/(AQ4-AO25)","v":0},{"$f":"IF(AP24=0,0,(AP24*((LOG(AP24))/LOG(2))))","v":0},null,{"$f":"N24","v":21112},{"$f":"COUNTIF(L122:L144,AS24)","v":0},{"$f":"AT24/(AV4-AT25)","v":0},{"$f":"IF(AU24=0,0,(AU24*((LOG(AU24))/LOG(2))))","v":0}]
[12,3197,24,3209,13,3230,23,3243,13,3261,0,12121,null,21121,{"$f":"COUNTIF($L$7:$L$500,N25)","v":3},{"$f":"O25/$Q$4","v":2.1739130434782608E-2},{"$f":"IF(P25=0,0,(P25*((LOG(P25))/LOG(2))))","v":-0.12007743382732637},null,null,{"$f":"N25","v":21121},{"$f":"COUNTIF(L7:L29,T25)","v":0},null,null,null,{"$f":"N25","v":21121},{"$f":"COUNTIF(L30:L52,Y25)","v":0},null,null,null,{"$f":"N25","v":21121},{"$f":"COUNTIF(L53:L75,AD25)","v":1},null,null,null,{"$f":"N25","v":21121},{"$f":"COUNTIF(L76:L98,AI25)","v":1},null,null,null,{"$f":"N25","v":21121},{"$f":"COUNTIF(L99:L121,AN25)","v":1},null,null,null,{"$f":"N25","v":21121},{"$f":"COUNTIF(L122:L144,AS25)","v":0}]
[21,3410,11,3420,22,3429,14,3438,24,3451,0,21212,null,21122,{"$f":"COUNTIF($L$7:$L$500,N26)","v":0},{"$f":"O26/$Q$4","v":0},{"$f":"IF(P26=0,0,(P26*((LOG(P26))/LOG(2))))","v":0},null,null,{"$f":"N26","v":21122},{"$f":"COUNTIF(L7:L29,T26)","v":0},{"$f":"U26/(W4-U25)","v":0},{"$f":"IF(V26=0,0,(V26*((LOG(V26))/LOG(2))))","v":0},null,{"$f":"N26","v":21122},{"$f":"COUNTIF(L30:L52,Y26)","v":0},{"$f":"Z26/(AB4-Z25)","v":0},{"$f":"IF(AA26=0,0,(AA26*((LOG(AA26))/LOG(2))))","v":0},null,{"$f":"N26","v":21122},{"$f":"COUNTIF(L53:L75,AD26)","v":0},{"$f":"AE26/(AG4-AE25)","v":0},{"$f":"IF(AF26=0,0,(AF26*((LOG(AF26))/LOG(2))))","v":0},null,{"$f":"N26","v":21122},{"$f":"COUNTIF(L76:L98,AI26)","v":0},{"$f":"AJ26/(AL4-AJ25)","v":0},{"$f":"IF(AK26=0,0,(AK26*((LOG(AK26))/LOG(2))))","v":0},null,{"$f":"N26","v":21122},{"$f":"COUNTIF(L99:L121,AN26)","v":0},{"$f":"AO26/(AQ4-AO25)","v":0},{"$f":"IF(AP26=0,0,(AP26*((LOG(AP26))/LOG(2))))","v":0},null,{"$f":"N26","v":21122},{"$f":"COUNTIF(L122:L144,AS26)","v":0},{"$f":"AT26/(AV4-AT25)","v":0},{"$f":"IF(AU26=0,0,(AU26*((LOG(AU26))/LOG(2))))","v":0}]
[21,3593,22,3611,13,3622,14,3647,24,3669,0,22112,null,21211,{"$f":"COUNTIF($L$7:$L$500,N27)","v":3},{"$f":"O27/$Q$4","v":2.1739130434782608E-2},{"$f":"IF(P27=0,0,(P27*((LOG(P27))/LOG(2))))","v":-0.12007743382732637},null,null,{"$f":"N27","v":21211},{"$f":"COUNTIF(L7:L29,T27)","v":1},{"$f":"U27/(W4-U25)","v":4.3478260869565216E-2},{"$f":"IF(V27=0,0,(V27*((LOG(V27))/LOG(2))))","v":-0.19667660678508753},null,{"$f":"N27","v":21211},{"$f":"COUNTIF(L30:L52,Y27)","v":0},{"$f":"Z27/(AB4-Z25)","v":0},{"$f":"IF(AA27=0,0,(AA27*((LOG(AA27))/LOG(2))))","v":0},null,{"$f":"N27","v":21211},{"$f":"COUNTIF(L53:L75,AD27)","v":0},{"$f":"AE27/(AG4-AE25)","v":0},{"$f":"IF(AF27=0,0,(AF27*((LOG(AF27))/LOG(2))))","v":0},null,{"$f":"N27","v":21211},{"$f":"COUNTIF(L76:L98,AI27)","v":1},{"$f":"AJ27/(AL4-AJ25)","v":4.5454545454545456E-2},{"$f":"IF(AK27=0,0,(AK27*((LOG(AK27))/LOG(2))))","v":-0.20270143721078623},null,{"$f":"N27","v":21211},{"$f":"COUNTIF(L99:L121,AN27)","v":1},{"$f":"AO27/(AQ4-AO25)","v":4.5454545454545456E-2},{"$f":"IF(AP27=0,0,(AP27*((LOG(AP27))/LOG(2))))","v":-0.20270143721078623},null,{"$f":"N27","v":21211},{"$f":"COUNTIF(L122:L144,AS27)","v":0},{"$f":"AT27/(AV4-AT25)","v":0},{"$f":"IF(AU27=0,0,(AU27*((LOG(AU27))/LOG(2))))","v":0}]
[21,3782,22,3791,13,3800,23,3808,13,3819,0,22121,null,21212,{"$f":"COUNTIF($L$7:$L$500,N28)","v":21},{"$f":"O28/$Q$4","v":0.15217391304347827},{"$f":"IF(P28=0,0,(P28*((LOG(P28))/LOG(2))))","v":-0.41333585299990999},null,null,{"$f":"N28","v":21212},{"$f":"COUNTIF(L7:L29,T28)","v":5},{"$f":"U28/(W4-U25)","v":0.21739130434782608},{"$f":"IF(V28=0,0,(V28*((LOG(V28))/LOG(2))))","v":-0.47861605677601093},null,{"$f":"N28","v":21212},{"$f":"COUNTIF(L30:L52,Y28)","v":3},{"$f":"Z28/(AB4-Z25)","v":0.13043478260869565},{"$f":"IF(AA28=0,0,(AA28*((LOG(AA28))/LOG(2))))","v":-0.3832955811307639},null,{"$f":"N28","v":21212},{"$f":"COUNTIF(L53:L75,AD28)","v":2},{"$f":"AE28/(AG4-AE25)","v":9.0909090909090912E-2},{"$f":"IF(AF28=0,0,(AF28*((LOG(AF28))/LOG(2))))","v":-0.31449378351248153},null,{"$f":"N28","v":21212},{"$f":"COUNTIF(L76:L98,AI28)","v":3},{"$f":"AJ28/(AL4-AJ25)","v":0.13636363636363635},{"$f":"IF(AK28=0,0,(AK28*((LOG(AK28))/LOG(2))))","v":-0.39197306153401923},null,{"$f":"N28","v":21212},{"$f":"COUNTIF(L99:L121,AN28)","v":3},{"$f":"AO28/(AQ4-AO25)","v":0.13636363636363635},{"$f":"IF(AP28=0,0,(AP28*((LOG(AP28))/LOG(2))))","v":-0.39197306153401923},null,{"$f":"N28","v":21212},{"$f":"COUNTIF(L122:L144,AS28)","v":5},{"$f":"AT28/(AV4-AT25)","v":0.21739130434782608},{"$f":"IF(AU28=0,0,(AU28*((LOG(AU28))/LOG(2))))","v":-0.47861605677601093}]
[21,3928,22,3935,24,3948,14,3962,24,3975,0,22212,null,21221,{"$f":"COUNTIF($L$7:$L$500,N29)","v":1},{"$f":"O29/$Q$4","v":7.246376811594203E-3},{"$f":"IF(P29=0,0,(P29*((LOG(P29))/LOG(2))))","v":-5.1511046788247604E-2},null,null,{"$f":"N29","v":21221},{"$f":"COUNTIF(L7:L29,T29)","v":0},{"$f":"U29/(W4-U25)","v":0},{"$f":"IF(V29=0,0,(V29*((LOG(V29))/LOG(2))))","v":0},null,{"$f":"N29","v":21221},{"$f":"COUNTIF(L30:L52,Y29)","v":0},{"$f":"Z29/(AB4-Z25)","v":0},{"$f":"IF(AA29=0,0,(AA29*((LOG(AA29))/LOG(2))))","v":0},null,{"$f":"N29","v":21221},{"$f":"COUNTIF(L53:L75,AD29)","v":0},{"$f":"AE29/(AG4-AE25)","v":0},{"$f":"IF(AF29=0,0,(AF29*((LOG(AF29))/LOG(2))))","v":0},null,{"$f":"N29","v":21221},{"$f":"COUNTIF(L76:L98,AI29)","v":0},{"$f":"AJ29/(AL4-AJ25)","v":0},{"$f":"IF(AK29=0,0,(AK29*((LOG(AK29))/LOG(2))))","v":0},null,{"$f":"N29","v":21221},{"$f":"COUNTIF(L99:L121,AN29)","v":1},{"$f":"AO29/(AQ4-AO25)","v":4.5454545454545456E-2},{"$f":"IF(AP29=0,0,(AP29*((LOG(AP29))/LOG(2))))","v":-0.20270143721078623},null,{"$f":"N29","v":21221},{"$f":"COUNTIF(L122:L144,AS29)","v":0},{"$f":"AT29/(AV4-AT25)","v":0},{"$f":"IF(AU29=0,0,(AU29*((LOG(AU29))/LOG(2))))","v":0}]
[21,4102,22,4122,13,4134,14,4143,24,4156,0,22112,null,21222,{"$f":"COUNTIF($L$7:$L$500,N30)","v":0},{"$f":"O30/$Q$4","v":0},{"$f":"IF(P30=0,0,(P30*((LOG(P30))/LOG(2))))","v":0},null,null,{"$f":"N30","v":21222},{"$f":"COUNTIF(L7:L29,T30)","v":0},{"$f":"U30/(W4-U25)","v":0},{"$f":"IF(V30=0,0,(V30*((LOG(V30))/LOG(2))))","v":0},null,{"$f":"N30","v":21222},{"$f":"COUNTIF(L30:L52,Y30)","v":0},{"$f":"Z30/(AB4-Z25)","v":0},{"$f":"IF(AA30=0,0,(AA30*((LOG(AA30))/LOG(2))))","v":0},null,{"$f":"N30","v":21222},{"$f":"COUNTIF(L53:L75,AD30)","v":0},{"$f":"AE30/(AG4-AE25)","v":0},{"$f":"IF(AF30=0,0,(AF30*((LOG(AF30))/LOG(2))))","v":0},null,{"$f":"N30","v":21222},{"$f":"COUNTIF(L76:L98,AI30)","v":0},{"$f":"AJ30/(AL4-AJ25)","v":0},{"$f":"IF(AK30=0,0,(AK30*((LOG(AK30))/LOG(2))))","v":0},null,{"$f":"N30","v":21222},{"$f":"COUNTIF(L99:L121,AN30)","v":0},{"$f":"AO30/(AQ4-AO25)","v":0},{"$f":"IF(AP30=0,0,(AP30*((LOG(AP30))/LOG(2))))","v":0},null,{"$f":"N30","v":21222},{"$f":"COUNTIF(L122:L144,AS30)","v":0},{"$f":"AT30/(AV4-AT25)","v":0},{"$f":"IF(AU30=0,0,(AU30*((LOG(AU30))/LOG(2))))","v":0}]
[21,4281,22,4289,24,4294,14,4305,24,4314,0,22212,null,22111,{"$f":"COUNTIF($L$7:$L$500,N31)","v":0},{"$f":"O31/$Q$4","v":0},{"$f":"IF(P31=0,0,(P31*((LOG(P31))/LOG(2))))","v":0},null,null,{"$f":"N31","v":22111},{"$f":"COUNTIF(L7:L29,T31)","v":0},{"$f":"U31/(W4-U25)","v":0},{"$f":"IF(V31=0,0,(V31*((LOG(V31))/LOG(2))))","v":0},null,{"$f":"N31","v":22111},{"$f":"COUNTIF(L30:L52,Y31)","v":0},{"$f":"Z31/(AB4-Z25)","v":0},{"$f":"IF(AA31=0,0,(AA31*((LOG(AA31))/LOG(2))))","v":0},null,{"$f":"N31","v":22111},{"$f":"COUNTIF(L53:L75,AD31)","v":0},{"$f":"AE31/(AG4-AE25)","v":0},{"$f":"IF(AF31=0,0,(AF31*((LOG(AF31))/LOG(2))))","v":0},null,{"$f":"N31","v":22111},{"$f":"COUNTIF(L76:L98,AI31)","v":0},{"$f":"AJ31/(AL4-AJ25)","v":0},{"$f":"IF(AK31=0,0,(AK31*((LOG(AK31))/LOG(2))))","v":0},null,{"$f":"N31","v":22111},{"$f":"COUNTIF(L99:L121,AN31)","v":0},{"$f":"AO31/(AQ4-AO25)","v":0},{"$f":"IF(AP31=0,0,(AP31*((LOG(AP31))/LOG(2))))","v":0},null,{"$f":"N31","v":22111},{"$f":"COUNTIF(L122:L144,AS31)","v":0},{"$f":"AT31/(AV4-AT25)","v":0},{"$f":"IF(AU31=0,0,(AU31*((LOG(AU31))/LOG(2))))","v":0}]
[21,4431,22,4437,24,4460,14,4469,24,4483,0,22212,null,22112,{"$f":"COUNTIF($L$7:$L$500,N32)","v":5},{"$f":"O32/$Q$4","v":3.6231884057971016E-2},{"$f":"IF(P32=0,0,(P32*((LOG(P32))/LOG(2))))","v":-0.17342740441633359},null,null,{"$f":"N32","v":22112},{"$f":"COUNTIF(L7:L29,T32)","v":3},{"$f":"U32/(W4-U25)","v":0.13043478260869565},{"$f":"IF(V32=0,0,(V32*((LOG(V32))/LOG(2))))","v":-0.3832955811307639},null,{"$f":"N32","v":22112},{"$f":"COUNTIF(L30:L52,Y32)","v":1},{"$f":"Z32/(AB4-Z25)","v":4.3478260869565216E-2},{"$f":"IF(AA32=0,0,(AA32*((LOG(AA32))/LOG(2))))","v":-0.19667660678508753},null,{"$f":"N32","v":22112},{"$f":"COUNTIF(L53:L75,AD32)","v":0},{"$f":"AE32/(AG4-AE25)","v":0},{"$f":"IF(AF32=0,0,(AF32*((LOG(AF32))/LOG(2))))","v":0},null,{"$f":"N32","v":22112},{"$f":"COUNTIF(L76:L98,AI32)","v":0},{"$f":"AJ32/(AL4-AJ25)","v":0},{"$f":"IF(AK32=0,0,(AK32*((LOG(AK32))/LOG(2))))","v":0},null,{"$f":"N32","v":22112},{"$f":"COUNTIF(L99:L121,AN32)","v":0},{"$f":"AO32/(AQ4-AO25)","v":0},{"$f":"IF(AP32=0,0,(AP32*((LOG(AP32))/LOG(2))))","v":0},null,{"$f":"N32","v":22112},{"$f":"COUNTIF(L122:L144,AS32)","v":1},{"$f":"AT32/(AV4-AT25)","v":4.3478260869565216E-2},{"$f":"IF(AU32=0,0,(AU32*((LOG(AU32))/LOG(2))))","v":-0.19667660678508753}]
[21,4611,22,4631,13,4639,23,4654,24,4680,0,22122,null,22121,{"$f":"COUNTIF($L$7:$L$500,N33)","v":30},{"$f":"O33/$Q$4","v":0.21739130434782608},{"$f":"IF(P33=0,0,(P33*((LOG(P33))/LOG(2))))","v":-0.47861605677601093},null,null,{"$f":"N33","v":22121},{"$f":"COUNTIF(L7:L29,T33)","v":5},{"$f":"U33/(W4-U25)","v":0.21739130434782608},{"$f":"IF(V33=0,0,(V33*((LOG(V33))/LOG(2))))","v":-0.47861605677601093},null,{"$f":"N33","v":22121},{"$f":"COUNTIF(L30:L52,Y33)","v":1},{"$f":"Z33/(AB4-Z25)","v":4.3478260869565216E-2},{"$f":"IF(AA33=0,0,(AA33*((LOG(AA33))/LOG(2))))","v":-0.19667660678508753},null,{"$f":"N33","v":22121},{"$f":"COUNTIF(L53:L75,AD33)","v":8},{"$f":"AE33/(AG4-AE25)","v":0.36363636363636365},{"$f":"IF(AF33=0,0,(AF33*((LOG(AF33))/LOG(2))))","v":-0.53070240677719893},null,{"$f":"N33","v":22121},{"$f":"COUNTIF(L76:L98,AI33)","v":5},{"$f":"AJ33/(AL4-AJ25)","v":0.22727272727272727},{"$f":"IF(AK33=0,0,(AK33*((LOG(AK33))/LOG(2))))","v":-0.48579625539771243},null,{"$f":"N33","v":22121},{"$f":"COUNTIF(L99:L121,AN33)","v":7},{"$f":"AO33/(AQ4-AO25)","v":0.31818181818181818},{"$f":"IF(AP33=0,0,(AP33*((LOG(AP33))/LOG(2))))","v":-0.52566076709353871},null,{"$f":"N33","v":22121},{"$f":"COUNTIF(L122:L144,AS33)","v":4},{"$f":"AT33/(AV4-AT25)","v":0.17391304347826086},{"$f":"IF(AU33=0,0,(AU33*((LOG(AU33))/LOG(2))))","v":-0.43888034018382832}]
[21,4821,22,4830,24,4837,23,4856,13,4865,0,22221,null,22122,{"$f":"COUNTIF($L$7:$L$500,N34)","v":3},{"$f":"O34/$Q$4","v":2.1739130434782608E-2},{"$f":"IF(P34=0,0,(P34*((LOG(P34))/LOG(2))))","v":-0.12007743382732637},null,null,{"$f":"N34","v":22122},{"$f":"COUNTIF(L7:L29,T34)","v":1},{"$f":"U34/(W4-U25)","v":4.3478260869565216E-2},{"$f":"IF(V34=0,0,(V34*((LOG(V34))/LOG(2))))","v":-0.19667660678508753},null,{"$f":"N34","v":22122},{"$f":"COUNTIF(L30:L52,Y34)","v":2},{"$f":"Z34/(AB4-Z25)","v":8.6956521739130432E-2},{"$f":"IF(AA34=0,0,(AA34*((LOG(AA34))/LOG(2))))","v":-0.30639669183104457},null,{"$f":"N34","v":22122},{"$f":"COUNTIF(L53:L75,AD34)","v":0},{"$f":"AE34/(AG4-AE25)","v":0},{"$f":"IF(AF34=0,0,(AF34*((LOG(AF34))/LOG(2))))","v":0},null,{"$f":"N34","v":22122},{"$f":"COUNTIF(L76:L98,AI34)","v":0},{"$f":"AJ34/(AL4-AJ25)","v":0},{"$f":"IF(AK34=0,0,(AK34*((LOG(AK34))/LOG(2))))","v":0},null,{"$f":"N34","v":22122},{"$f":"COUNTIF(L99:L121,AN34)","v":0},{"$f":"AO34/(AQ4-AO25)","v":0},{"$f":"IF(AP34=0,0,(AP34*((LOG(AP34))/LOG(2))))","v":0},null,{"$f":"N34","v":22122},{"$f":"COUNTIF(L122:L144,AS34)","v":0},{"$f":"AT34/(AV4-AT25)","v":0},{"$f":"IF(AU34=0,0,(AU34*((LOG(AU34))/LOG(2))))","v":0}]
[21,4982,11,4992,22,5000,14,5010,24,5024,0,21212,null,22211,{"$f":"COUNTIF($L$7:$L$500,N35)","v":4},{"$f":"O35/$Q$4","v":2.8985507246376812E-2},{"$f":"IF(P35=0,0,(P35*((LOG(P35))/LOG(2))))","v":-0.14807317266023678},null,null,{"$f":"N35","v":22211},{"$f":"COUNTIF(L7:L29,T35)","v":1},{"$f":"U35/(W4-U25)","v":4.3478260869565216E-2},{"$f":"IF(V35=0,0,(V35*((LOG(V35))/LOG(2))))","v":-0.19667660678508753},null,{"$f":"N35","v":22211},{"$f":"COUNTIF(L30:L52,Y35)","v":1},{"$f":"Z35/(AB4-Z25)","v":4.3478260869565216E-2},{"$f":"IF(AA35=0,0,(AA35*((LOG(AA35))/LOG(2))))","v":-0.19667660678508753},null,{"$f":"N35","v":22211},{"$f":"COUNTIF(L53:L75,AD35)","v":2},{"$f":"AE35/(AG4-AE25)","v":9.0909090909090912E-2},{"$f":"IF(AF35=0,0,(AF35*((LOG(AF35))/LOG(2))))","v":-0.31449378351248153},null,{"$f":"N35","v":22211},{"$f":"COUNTIF(L76:L98,AI35)","v":0},{"$f":"AJ35/(AL4-AJ25)","v":0},{"$f":"IF(AK35=0,0,(AK35*((LOG(AK35))/LOG(2))))","v":0},null,{"$f":"N35","v":22211},{"$f":"COUNTIF(L99:L121,AN35)","v":0},{"$f":"AO35/(AQ4-AO25)","v":0},{"$f":"IF(AP35=0,0,(AP35*((LOG(AP35))/LOG(2))))","v":0},null,{"$f":"N35","v":22211},{"$f":"COUNTIF(L122:L144,AS35)","v":0},{"$f":"AT35/(AV4-AT25)","v":0},{"$f":"IF(AU35=0,0,(AU35*((LOG(AU35))/LOG(2))))","v":0}]
[21,5124,22,5132,24,5145,14,5154,24,5164,0,22212,null,22212,{"$f":"COUNTIF($L$7:$L$500,N36)","v":33},{"$f":"O36/$Q$4","v":0.2391304347826087},{"$f":"IF(P36=0,0,(P36*((LOG(P36))/LOG(2))))","v":-0.49359638503514941},null,null,{"$f":"N36","v":22212},{"$f":"COUNTIF(L7:L29,T36)","v":5},{"$f":"U36/(W4-U25)","v":0.21739130434782608},{"$f":"IF(V36=0,0,(V36*((LOG(V36))/LOG(2))))","v":-0.47861605677601093},null,{"$f":"N36","v":22212},{"$f":"COUNTIF(L30:L52,Y36)","v":5},{"$f":"Z36/(AB4-Z25)","v":0.21739130434782608},{"$f":"IF(AA36=0,0,(AA36*((LOG(AA36))/LOG(2))))","v":-0.47861605677601093},null,{"$f":"N36","v":22212},{"$f":"COUNTIF(L53:L75,AD36)","v":8},{"$f":"AE36/(AG4-AE25)","v":0.36363636363636365},{"$f":"IF(AF36=0,0,(AF36*((LOG(AF36))/LOG(2))))","v":-0.53070240677719893},null,{"$f":"N36","v":22212},{"$f":"COUNTIF(L76:L98,AI36)","v":7},{"$f":"AJ36/(AL4-AJ25)","v":0.31818181818181818},{"$f":"IF(AK36=0,0,(AK36*((LOG(AK36))/LOG(2))))","v":-0.52566076709353871},null,{"$f":"N36","v":22212},{"$f":"COUNTIF(L99:L121,AN36)","v":5},{"$f":"AO36/(AQ4-AO25)","v":0.22727272727272727},{"$f":"IF(AP36=0,0,(AP36*((LOG(AP36))/LOG(2))))","v":-0.48579625539771243},null,{"$f":"N36","v":22212},{"$f":"COUNTIF(L122:L144,AS36)","v":3},{"$f":"AT36/(AV4-AT25)","v":0.13043478260869565},{"$f":"IF(AU36=0,0,(AU36*((LOG(AU36))/LOG(2))))","v":-0.3832955811307639}]
[21,5272,22,5280,24,5297,14,5306,24,5319,0,22212,null,22221,{"$f":"COUNTIF($L$7:$L$500,N37)","v":10},{"$f":"O37/$Q$4","v":7.2463768115942032E-2},{"$f":"IF(P37=0,0,(P37*((LOG(P37))/LOG(2))))","v":-0.2743910407167251},null,null,{"$f":"N37","v":22221},{"$f":"COUNTIF(L7:L29,T37)","v":0},{"$f":"U37/(W4-U25)","v":0},{"$f":"IF(V37=0,0,(V37*((LOG(V37))/LOG(2))))","v":0},null,{"$f":"N37","v":22221},{"$f":"COUNTIF(L30:L52,Y37)","v":6},{"$f":"Z37/(AB4-Z25)","v":0.2608695652173913},{"$f":"IF(AA37=0,0,(AA37*((LOG(AA37))/LOG(2))))","v":-0.50572159704413644},null,{"$f":"N37","v":22221},{"$f":"COUNTIF(L53:L75,AD37)","v":0},{"$f":"AE37/(AG4-AE25)","v":0},{"$f":"IF(AF37=0,0,(AF37*((LOG(AF37))/LOG(2))))","v":0},null,{"$f":"N37","v":22221},{"$f":"COUNTIF(L76:L98,AI37)","v":1},{"$f":"AJ37/(AL4-AJ25)","v":4.5454545454545456E-2},{"$f":"IF(AK37=0,0,(AK37*((LOG(AK37))/LOG(2))))","v":-0.20270143721078623},null,{"$f":"N37","v":22221},{"$f":"COUNTIF(L99:L121,AN37)","v":1},{"$f":"AO37/(AQ4-AO25)","v":4.5454545454545456E-2},{"$f":"IF(AP37=0,0,(AP37*((LOG(AP37))/LOG(2))))","v":-0.20270143721078623},null,{"$f":"N37","v":22221},{"$f":"COUNTIF(L122:L144,AS37)","v":2},{"$f":"AT37/(AV4-AT25)","v":8.6956521739130432E-2},{"$f":"IF(AU37=0,0,(AU37*((LOG(AU37))/LOG(2))))","v":-0.30639669183104457}]
[21,5426,22,5466,24,5473,14,5486,24,5499,0,22212,null,22222,{"$f":"COUNTIF($L$7:$L$500,N38)","v":3},{"$f":"O38/$Q$4","v":2.1739130434782608E-2},{"$f":"IF(P38=0,0,(P38*((LOG(P38))/LOG(2))))","v":-0.12007743382732637},null,null,{"$f":"N38","v":22222},{"$f":"COUNTIF(L7:L29,T38)","v":0},{"$f":"U38/(W4-U25)","v":0},{"$f":"IF(V38=0,0,(V38*((LOG(V38))/LOG(2))))","v":0},null,{"$f":"N38","v":22222},{"$f":"COUNTIF(L30:L52,Y38)","v":0},{"$f":"Z38/(AB4-Z25)","v":0},{"$f":"IF(AA38=0,0,(AA38*((LOG(AA38))/LOG(2))))","v":0},null,{"$f":"N38","v":22222},{"$f":"COUNTIF(L53:L75,AD38)","v":0},{"$f":"AE38/(AG4-AE25)","v":0},{"$f":"IF(AF38=0,0,(AF38*((LOG(AF38))/LOG(2))))","v":0},null,{"$f":"N38","v":22222},{"$f":"COUNTIF(L76:L98,AI38)","v":3},{"$f":"AJ38/(AL4-AJ25)","v":0.13636363636363635},{"$f":"IF(AK38=0,0,(AK38*((LOG(AK38))/LOG(2))))","v":-0.39197306153401923},null,{"$f":"N38","v":22222},{"$f":"COUNTIF(L99:L121,AN38)","v":0},{"$f":"AO38/(AQ4-AO25)","v":0},{"$f":"IF(AP38=0,0,(AP38*((LOG(AP38))/LOG(2))))","v":0},null,{"$f":"N38","v":22222},{"$f":"COUNTIF(L122:L144,AS38)","v":0},{"$f":"AT38/(AV4-AT25)","v":0},{"$f":"IF(AU38=0,0,(AU38*((LOG(AU38))/LOG(2))))","v":0}]
[21,5614,11,5624,22,5634,14,5646,24,5659,0,21212,null,null,null,{"$f":"SUM(P7:P38)","v":1},{"$f":"-SUM(Q7:Q38)","v":3.3018405152800527},null,null,null,null,{"$f":"SUM(V7:V38)","v":0.99999999999999989},{"$f":"-SUM(W7:W38)","v":2.8025267853842344},null,null,null,{"$f":"SUM(AA7:AA38)","v":1},{"$f":"-SUM(AB7:AB38)","v":3.0507661742775687},null,null,null,{"$f":"SUM(AF7:AF38)","v":1},{"$f":"-SUM(AG7:AG38)","v":2.0957952550009336},null,null,null,{"$f":"SUM(AK7:AK38)","v":0.99999999999999989},{"$f":"-SUM(AL7:AL38)","v":2.6062088944024344},null,null,null,{"$f":"SUM(AP7:AP38)","v":1},{"$f":"-SUM(AQ7:AQ38)","v":2.7314310535916828},null,null,null,{"$f":"SUM(AU7:AU38)","v":1},{"$f":"-SUM(AV7:AV38)","v":2.7029400873210472}]
[12,5764,24,5773,13,5786,14,5794,24,5807,0,12112,null,null,null,"U=",{"$f":"Q39/(LOG(Q4)/LOG(2))","v":0.46449027999497972},null,null,null,null,"U1=",{"$f":"W39/(LOG(W4)/LOG(2))","v":0.6195398256083734},null,null,null,"U2=",{"$f":"AB39/(LOG(AB4)/LOG(2))","v":0.67441679895477447},null,null,null,"U3=",{"$f":"AG39/(LOG(AG4)/LOG(2))","v":0.46330641104510145},null,null,null,"U4=",{"$f":"AL39/(LOG(AL4)/LOG(2))","v":0.57614086415081411},null,null,null,"U5=",{"$f":"AQ39/(LOG(AQ4)/LOG(2))","v":0.60382306689406973},null,null,null,"U6=",{"$f":"AV39/(LOG(AV4)/LOG(2))","v":0.59752471914346883}]
[12,5913,24,5922,24,5932,14,5943,13,5945,0,12211]
[21,6086,22,6095,13,6108,23,6120,24,6147,0,22122]
[12,6289,13,6312,13,6321,23,6329,13,6341,0,11121,null,"Total Target Seq"]
[21,6472,22,6476,24,6484,23,6492,13,6502,0,22221,null,{"$f":"COUNTIF(L7:L144,G3)","v":3},null,23,23,23,23,23,23]
[12,6600,24,6609,13,6619,23,6628,13,6639,0,12121,null,null,null,"% of reinforcement given in 6 equal intervals based on number of trials "]
[21,6751,22,6756,24,6771,23,6788,13,6801,0,22221,null,null,null,"%_1","%_2","%_3","%_4","%_5","%_6"]
[21,6912,22,6919,24,6923,23,6936,13,6948,0,22221,null,null,"target sequence",{"$f":"$G$3","v":21121},{"$f":"$G$3","v":21121},{"$f":"$G$3","v":21121},{"$f":"$G$3","v":21121},{"$f":"$G$3","v":21121},{"$f":"$G$3","v":21121}]
[21,7050,22,7057,13,7068,23,7077,13,7085,0,22121,null,null,"total reinforcement",{"$f":"U25","v":0},{"$f":"Z25","v":0},{"$f":"AE25","v":1},{"$f":"AJ25","v":1},{"$f":"AO25","v":1},{"$f":"AT25","v":0}]
[21,7204,22,7217,24,7221,23,7239,13,7249,0,22221,null,null,"% target"]
[21,7381,22,7400,24,7423,14,7435,13,7445,0,22211,null,null,"CCRF"]
[21,7595,11,7609,22,7618,14,7630,24,7644,0,21212,null,null,"% CCRf"]
[21,7792,22,7802,24,7807,23,7823,13,7836,0,22221,null,null,"average response rate",{"$f":"J29/P44","v":172.82608695652175},{"$f":"(J52-J29)/Q44","v":167.86956521739131},{"$f":"(J75-J52)/R44","v":194.08695652173913},{"$f":"(J98-J75)/S44","v":167.82608695652175},{"$f":"(J121-J98)/T44","v":171.78260869565219},{"$f":"(J144-J121)/U44","v":167.86956521739131}]
[21,7990,11,8023,22,8034,14,8047,24,8061,0,21212]
[21,8192,22,8201,24,8220,14,8232,24,8246,0,22212]
[21,8382,22,8391,13,8404,23,8418,13,8430,0,22121]
[21,8532,22,8537,24,8616,14,8627,24,8639,0,22212]
[21,8818,22,8826,13,8839,23,8848,13,8859,0,22121]
[21,8992,22,9000,24,9018,14,9027,24,9039,0,22212]
[21,9220,22,9235,24,9252,14,9264,24,9278,0,22212]
[21,9380,22,9388,24,9393,14,9403,24,9417,0,22212]
[21,9541,22,9550,13,9562,23,9572,13,9583,0,22121]
[21,9756,22,9773,24,9784,14,9793,24,9807,0,22212]
[12,9910,13,9923,24,9988,14,10000,24,10009,0,11212]
[21,10155,22,10182,13,10195,23,10208,13,10224,0,22121]
[21,10340,22,10349,13,10360,23,10373,13,10385,0,22121]
[21,10537,22,10544,13,10557,23,10567,13,10578,0,22121]
[21,10817,22,10826,13,10838,23,10851,13,10864,0,22121]
[21,10996,22,11005,24,11027,14,11036,13,11050,0,22211]
[12,11243,24,11252,13,11265,23,11281,13,11293,0,12121]
[21,11438,22,11448,13,11461,23,11470,13,11482,0,22121]
[21,11658,11,11669,22,11678,14,11688,24,11701,0,21212]
[21,11805,22,11813,24,11821,14,11832,13,11838,0,22211]
[21,11948,11,11961,11,11972,21,11989,11,11998,1,21121]
[21,12098,22,12104,24,12124,14,12135,24,12149,0,22212]
[21,12257,22,12261,24,12279,14,12291,24,12300,0,22212]
[21,12412,22,12417,24,12425,14,12435,24,12444,0,22212]
[21,12579,11,12590,22,12599,14,12608,24,12622,0,21212]
[21,12732,22,12759,13,12769,23,12778,13,12790,0,22121]
[21,12901,11,12911,11,12932,21,12941,11,12954,1,21121]
[21,13070,22,13092,13,13103,23,13117,13,13130,0,22121]
[21,13237,22,13243,24,13262,14,13273,24,13287,0,22212]
[21,13405,22,13410,24,13430,14,13440,24,13453,0,22212]
[21,13555,22,13559,24,13564,23,13569,24,13587,0,22222]
[21,13689,22,13704,24,13721,14,13733,24,13747,0,22212]
[12,13884,24,13891,13,13905,23,13918,13,13946,0,12121]
[21,14060,22,14084,13,14093,23,14106,13,14120,0,22121]
[21,14245,22,14250,24,14265,23,14274,24,14292,0,22222]
[21,14405,22,14412,24,14420,23,14438,13,14449,0,22221]
[21,14559,11,14588,22,14597,14,14609,24,14623,0,21212]
[21,14727,11,14750,22,14759,14,14770,13,14779,0,21211]
[21,14896,22,14923,24,14932,14,14944,24,14958,0,22212]
[21,15070,22,15087,24,15101,14,15114,24,15126,0,22212]
[21,15238,22,15270,13,15282,23,15296,13,15310,0,22121]
[21,15433,22,15446,13,15457,23,15471,13,15483,0,22121]
[21,15601,22,15617,24,15631,14,15642,24,15651,0,22212]
[21,15758,22,15763,24,15769,23,15788,24,15807,0,22222]
[21,15942,11,15950,22,15963,14,15972,24,15986,0,21212]
[12,16122,24,16131,13,16141,14,16152,13,16160,0,12111]
[12,16303,24,16309,13,16329,23,16343,13,16355,0,12121]
[21,16480,22,16486,13,16501,23,16514,13,16527,0,22121]
[21,16668,22,16673,24,16689,14,16701,24,16715,0,22212]
[12,16836,24,16848,13,16861,14,16870,24,16884,0,12112]
[21,16998,22,17003,13,17016,23,17025,13,17036,0,22121]
[12,17156,13,17157,24,17170,14,17184,24,17199,0,11212]
[21,17306,11,17325,22,17335,23,17354,13,17365,0,21221]
[21,17487,22,17511,13,17522,23,17532,13,17544,0,22121]
[21,17659,22,17669,24,17684,14,17695,24,17709,0,22212]
[21,17837,22,17842,24,17851,14,17861,24,17874,0,22212]
[21,18033,11,18054,22,18073,14,18088,13,18118,0,21211]
[21,18224,22,18246,13,18255,23,18265,13,18276,0,22121]
[21,18386,11,18413,11,18423,21,18435,11,18447,1,21121]
[21,18543,22,18551,13,18561,23,18570,13,18580,0,22121]
[21,18684,11,18706,22,18715,14,18726,24,18739,0,21212]
[21,18875,11,18890,22,18899,14,18911,24,18925,0,21212]
[21,19031,22,19045,24,19065,14,19078,24,19088,0,22212]
[21,19214,22,19219,24,19232,14,19241,24,19250,0,22212]
[12,19387,13,19394,24,19407,14,19420,24,19435,0,11212]
[21,19556,22,19573,13,19588,23,19594,13,19605,0,22121]
[21,19746,22,19754,13,19763,23,19775,13,19786,0,22121]
[21,19917,11,19933,22,19941,14,19953,24,19963,0,21212]
[21,20072,22,20078,24,20087,23,20103,13,20111,0,22221]
[12,20214,24,20223,13,20232,23,20244,13,20256,0,12121]
[12,20378,24,20388,13,20397,23,20410,13,20422,0,12121]
[21,20547,22,20553,13,20562,23,20571,13,20584,0,22121]
[12,20707,24,20720,13,20732,23,20746,13,20760,0,12121]
[21,20873,22,20883,13,20909,23,20918,13,20931,0,22121]
[21,21061,22,21066,24,21086,23,21096,13,21109,0,22221]
[21,21219,22,21224,24,21244,23,21258,13,21278,0,22221]
[21,21405,11,21419,22,21432,14,21441,24,21455,0,21212]
[21,21579,22,21585,24,21596,14,21608,24,21616,0,22212]
[21,21720,22,21725,13,21748,23,21754,13,21765,0,22121]
[21,21922,22,21943,13,21951,23,21964,13,21975,0,22121]
[12,22081,24,22091,24,22097,14,22108,24,22120,0,12212]
[12,22257,24,22266,13,22276,23,22285,13,22296,0,12121]
[12,22408,24,22419,13,22428,23,22437,13,22450,0,12121]
[21,22548,22,22553,13,22569,14,22598,24,22607,0,22112]
[21,22747,11,22765,22,22774,14,22787,24,22795,0,21212]
[21,22901,11,22913,22,22922,14,22934,24,22945,0,21212]
[12,23074,24,23083,13,23097,23,23109,13,23122,0,12121]
[12,23251,24,23265,13,23273,14,23282,24,23294,0,12112]
[21,23443,11,23455,22,23464,14,23476,24,23489,0,21212]
[21,23621,11,23633,22,23646,14,23658,24,23671,0,21212]
[21,23785,22,23790,24,23798,14,23809,24,23817,0,22212]
[21,23918,22,23926,24,23948,14,23959,24,23972,null,22212]

{"sheet":"!N129850.091","index":12,"n_rows":150,"n_cols":48,"rows_kept":150,"cut":false,"hidden":false,"merged":[[4,39,4,42],[5,39,5,40],[4,44,4,47],[5,44,5,45],[4,24,4,27],[5,24,5,25],[4,29,4,32],[5,29,5,30],[4,34,4,37],[5,34,5,35],[1,1,1,2],[5,13,5,14],[42,13,42,14],[43,13,43,14],[4,19,4,22],[5,19,5,20]]}
["Report for:!N129850.091"]
["Date:","<date>"]
["Hen:","<hen>",null,null,null,"Correct Sequence",{"$f":"Start!J2","v":21121},null,null,null,null,null,null,null,null,"Total Sequences in Data",{"$f":"4994-COUNTBLANK(L7:L5000)","v":144},null,null,null,null,"Total Sequences in Block Data",{"$f":"COUNTA(L7:L30)","v":24},null,null,null,"Total Sequences in Block Data",{"$f":"COUNTA(L31:L54)","v":24},null,null,null,"Total Sequences in Block Data",{"$f":"COUNTA(L55:L78)","v":24},null,null,null,"Total Sequences in Block Data",{"$f":"COUNTA(L79:L102)","v":24},null,null,null,"Total Sequences in Block Data",{"$f":"COUNTA(L103:L126)","v":24},null,null,null,"Total Sequences in Block Data",{"$f":"COUNTA(L127:L150)","v":24}]
[null,null,null,null,null,null,null,null,null,null,null,null,null,null,null,"Total Sequences in Summary",{"$f":"SUM(O7:O38)","v":143},null,null,null,null,"Total Sequences in Block Summary",{"$f":"SUM(U7:U38)","v":24},null,null,null,"Total Sequences in Block Summary",{"$f":"SUM(Z7:Z38)","v":24},null,null,null,"Total Sequences in Block Summary",{"$f":"SUM(AE7:AE38)","v":24},null,null,null,"Total Sequences in Block Summary",{"$f":"SUM(AJ7:AJ38)","v":24},null,null,null,"Total Sequences in Block Summary",{"$f":"SUM(AO7:AO38)","v":24},null,null,null,"Total Sequences in Block Summary",{"$f":"SUM(AT7:AT38)","v":23}]
[null,null,null,null,null,null,null,null,null,null,null,null,null,null,null,null,null,null,null,"Block 1",null,null,null,null,"Block 2",null,null,null,null,"Block 3",null,null,null,null,"Block 4",null,null,null,null,"Block 5",null,null,null,null,"Block 6"]
["Sequence\nComponent\n1","Time\n1","Sequence\nComponent\n2","Time\n2","Sequence\nComponent\n3","Time\n3","Sequence\nComponent\n4","Time\n4","Sequence\nComponent\n5","Time\n5","Correct?\n0=No 1=Yes","Sequence",null,"Frequency",null,"Relative Frequency","Variability",null,null,"Frequency",null,"Relative Frequency","Variability",null,"Frequency",null,"Relative Frequency","Variability",null,"Frequency",null,"Relative Frequency","Variability",null,"Frequency",null,"Relative Frequency","Variability",null,"Frequency",null,"Relative Frequency","Variability",null,"Frequency",null,"Relative Frequency","Variability"]
[21,21,11,36,22,49,14,61,24,75,0,21212,null,11111,{"$f":"COUNTIF($L$7:$L$500,N7)","v":1},{"$f":"O7/$Q$4","v":6.993006993006993E-3},{"$f":"IF(P7=0,0,(P7*((LOG(P7))/LOG(2))))","v":-5.0069030327121608E-2},null,null,{"$f":"N7","v":11111},{"$f":"COUNTIF(L7:L30,T7)","v":0},{"$f":"U7/(W4-U25)","v":0},{"$f":"IF(V7=0,0,(V7*((LOG(V7))/LOG(2))))","v":0},null,{"$f":"N7","v":11111},{"$f":"COUNTIF(L31:L54,Y7)","v":0},{"$f":"Z7/(AB4-Z25)","v":0},{"$f":"IF(AA7=0,0,(AA7*((LOG(AA7))/LOG(2))))","v":0},null,{"$f":"N7","v":11111},{"$f":"COUNTIF(L55:L78,AD7)","v":0},{"$f":"AE7/(AG4-AE25)","v":0},{"$f":"IF(AF7=0,0,(AF7*((LOG(AF7))/LOG(2))))","v":0},null,{"$f":"N7","v":11111},{"$f":"COUNTIF(L79:L102,AI7)","v":0},{"$f":"AJ7/(AL4-AJ25)","v":0},{"$f":"IF(AK7=0,0,(AK7*((LOG(AK7))/LOG(2))))","v":0},null,{"$f":"N7","v":11111},{"$f":"COUNTIF(L103:L126,AN7)","v":0},{"$f":"AO7/(AQ4-AO25)","v":0},{"$f":"IF(AP7=0,0,(AP7*((LOG(AP7))/LOG(2))))","v":0},null,{"$f":"N7","v":11111},{"$f":"COUNTIF(L127:L150,AS7)","v":1},{"$f":"AT7/(AV4-AT25)","v":4.3478260869565216E-2},{"$f":"IF(AU7=0,0,(AU7*((LOG(AU7))/LOG(2))))","v":-0.19667660678508753}]
[12,180,24,187,13,202,23,212,13,225,0,12121,null,11112,{"$f":"COUNTIF($L$7:$L$500,N8)","v":1},{"$f":"O8/$Q$4","v":6.993006993006993E-3},{"$f":"IF(P8=0,0,(P8*((LOG(P8))/LOG(2))))","v":-5.0069030327121608E-2},null,null,{"$f":"N8","v":11112},{"$f":"COUNTIF(L7:L30,T8)","v":0},{"$f":"U8/(W4-U25)","v":0},{"$f":"IF(V8=0,0,(V8*((LOG(V8))/LOG(2))))","v":0},null,{"$f":"N8","v":11112},{"$f":"COUNTIF(L31:L54,Y8)","v":0},{"$f":"Z8/(AB4-Z25)","v":0},{"$f":"IF(AA8=0,0,(AA8*((LOG(AA8))/LOG(2))))","v":0},null,{"$f":"N8","v":11112},{"$f":"COUNTIF(L55:L78,AD8)","v":0},{"$f":"AE8/(AG4-AE25)","v":0},{"$f":"IF(AF8=0,0,(AF8*((LOG(AF8))/LOG(2))))","v":0},null,{"$f":"N8","v":11112},{"$f":"COUNTIF(L79:L102,AI8)","v":1},{"$f":"AJ8/(AL4-AJ25)","v":4.1666666666666664E-2},{"$f":"IF(AK8=0,0,(AK8*((LOG(AK8))/LOG(2))))","v":-0.19104010419671485},null,{"$f":"N8","v":11112},{"$f":"COUNTIF(L103:L126,AN8)","v":0},{"$f":"AO8/(AQ4-AO25)","v":0},{"$f":"IF(AP8=0,0,(AP8*((LOG(AP8))/LOG(2))))","v":0},null,{"$f":"N8","v":11112},{"$f":"COUNTIF(L127:L150,AS8)","v":0},{"$f":"AT8/(AV4-AT25)","v":0},{"$f":"IF(AU8=0,0,(AU8*((LOG(AU8))/LOG(2))))","v":0}]
[21,339,11,347,22,355,14,367,24,379,0,21212,null,11121,{"$f":"COUNTIF($L$7:$L$500,N9)","v":1},{"$f":"O9/$Q$4","v":6.993006993006993E-3},{"$f":"IF(P9=0,0,(P9*((LOG(P9))/LOG(2))))","v":-5.0069030327121608E-2},null,null,{"$f":"N9","v":11121},{"$f":"COUNTIF(L7:L30,T9)","v":0},{"$f":"U9/(W4-U25)","v":0},{"$f":"IF(V9=0,0,(V9*((LOG(V9))/LOG(2))))","v":0},null,{"$f":"N9","v":11121},{"$f":"COUNTIF(L31:L54,Y9)","v":0},{"$f":"Z9/(AB4-Z25)","v":0},{"$f":"IF(AA9=0,0,(AA9*((LOG(AA9))/LOG(2))))","v":0},null,{"$f":"N9","v":11121},{"$f":"COUNTIF(L55:L78,AD9)","v":0},{"$f":"AE9/(AG4-AE25)","v":0},{"$f":"IF(AF9=0,0,(AF9*((LOG(AF9))/LOG(2))))","v":0},null,{"$f":"N9","v":11121},{"$f":"COUNTIF(L79:L102,AI9)","v":0},{"$f":"AJ9/(AL4-AJ25)","v":0},{"$f":"IF(AK9=0,0,(AK9*((LOG(AK9))/LOG(2))))","v":0},null,{"$f":"N9","v":11121},{"$f":"COUNTIF(L103:L126,AN9)","v":0},{"$f":"AO9/(AQ4-AO25)","v":0},{"$f":"IF(AP9=0,0,(AP9*((LOG(AP9))/LOG(2))))","v":0},null,{"$f":"N9","v":11121},{"$f":"COUNTIF(L127:L150,AS9)","v":1},{"$f":"AT9/(AV4-AT25)","v":4.3478260869565216E-2},{"$f":"IF(AU9=0,0,(AU9*((LOG(AU9))/LOG(2))))","v":-0.19667660678508753}]
[21,489,22,507,13,519,23,532,13,544,0,22121,null,11122,{"$f":"COUNTIF($L$7:$L$500,N10)","v":0},{"$f":"O10/$Q$4","v":0},{"$f":"IF(P10=0,0,(P10*((LOG(P10))/LOG(2))))","v":0},null,null,{"$f":"N10","v":11122},{"$f":"COUNTIF(L7:L30,T10)","v":0},{"$f":"U10/(W4-U25)","v":0},{"$f":"IF(V10=0,0,(V10*((LOG(V10))/LOG(2))))","v":0},null,{"$f":"N10","v":11122},{"$f":"COUNTIF(L31:L54,Y10)","v":0},{"$f":"Z10/(AB4-Z25)","v":0},{"$f":"IF(AA10=0,0,(AA10*((LOG(AA10))/LOG(2))))","v":0},null,{"$f":"N10","v":11122},{"$f":"COUNTIF(L55:L78,AD10)","v":0},{"$f":"AE10/(AG4-AE25)","v":0},{"$f":"IF(AF10=0,0,(AF10*((LOG(AF10))/LOG(2))))","v":0},null,{"$f":"N10","v":11122},{"$f":"COUNTIF(L79:L102,AI10)","v":0},{"$f":"AJ10/(AL4-AJ25)","v":0},{"$f":"IF(AK10=0,0,(AK10*((LOG(AK10))/LOG(2))))","v":0},null,{"$f":"N10","v":11122},{"$f":"COUNTIF(L103:L126,AN10)","v":0},{"$f":"AO10/(AQ4-AO25)","v":0},{"$f":"IF(AP10=0,0,(AP10*((LOG(AP10))/LOG(2))))","v":0},null,{"$f":"N10","v":11122},{"$f":"COUNTIF(L127:L150,AS10)","v":0},{"$f":"AT10/(AV4-AT25)","v":0},{"$f":"IF(AU10=0,0,(AU10*((LOG(AU10))/LOG(2))))","v":0}]
[21,680,11,692,22,701,14,712,24,725,0,21212,null,11211,{"$f":"COUNTIF($L$7:$L$500,N11)","v":3},{"$f":"O11/$Q$4","v":2.097902097902098E-2},{"$f":"IF(P11=0,0,(P11*((LOG(P11))/LOG(2))))","v":-0.11695612942777413},null,null,{"$f":"N11","v":11211},{"$f":"COUNTIF(L7:L30,T11)","v":0},{"$f":"U11/(W4-U25)","v":0},{"$f":"IF(V11=0,0,(V11*((LOG(V11))/LOG(2))))","v":0},null,{"$f":"N11","v":11211},{"$f":"COUNTIF(L31:L54,Y11)","v":0},{"$f":"Z11/(AB4-Z25)","v":0},{"$f":"IF(AA11=0,0,(AA11*((LOG(AA11))/LOG(2))))","v":0},null,{"$f":"N11","v":11211},{"$f":"COUNTIF(L55:L78,AD11)","v":0},{"$f":"AE11/(AG4-AE25)","v":0},{"$f":"IF(AF11=0,0,(AF11*((LOG(AF11))/LOG(2))))","v":0},null,{"$f":"N11","v":11211},{"$f":"COUNTIF(L79:L102,AI11)","v":0},{"$f":"AJ11/(AL4-AJ25)","v":0},{"$f":"IF(AK11=0,0,(AK11*((LOG(AK11))/LOG(2))))","v":0},null,{"$f":"N11","v":11211},{"$f":"COUNTIF(L103:L126,AN11)","v":2},{"$f":"AO11/(AQ4-AO25)","v":8.6956521739130432E-2},{"$f":"IF(AP11=0,0,(AP11*((LOG(AP11))/LOG(2))))","v":-0.30639669183104457},null,{"$f":"N11","v":11211},{"$f":"COUNTIF(L127:L150,AS11)","v":1},{"$f":"AT11/(AV4-AT25)","v":4.3478260869565216E-2},{"$f":"IF(AU11=0,0,(AU11*((LOG(AU11))/LOG(2))))","v":-0.19667660678508753}]
[21,839,22,847,24,861,14,870,24,883,0,22212,null,11212,{"$f":"COUNTIF($L$7:$L$500,N12)","v":8},{"$f":"O12/$Q$4","v":5.5944055944055944E-2},{"$f":"IF(P12=0,0,(P12*((LOG(P12))/LOG(2))))","v":-0.23272007478480503},null,null,{"$f":"N12","v":11212},{"$f":"COUNTIF(L7:L30,T12)","v":0},{"$f":"U12/(W4-U25)","v":0},{"$f":"IF(V12=0,0,(V12*((LOG(V12))/LOG(2))))","v":0},null,{"$f":"N12","v":11212},{"$f":"COUNTIF(L31:L54,Y12)","v":1},{"$f":"Z12/(AB4-Z25)","v":4.3478260869565216E-2},{"$f":"IF(AA12=0,0,(AA12*((LOG(AA12))/LOG(2))))","v":-0.19667660678508753},null,{"$f":"N12","v":11212},{"$f":"COUNTIF(L55:L78,AD12)","v":1},{"$f":"AE12/(AG4-AE25)","v":4.3478260869565216E-2},{"$f":"IF(AF12=0,0,(AF12*((LOG(AF12))/LOG(2))))","v":-0.19667660678508753},null,{"$f":"N12","v":11212},{"$f":"COUNTIF(L79:L102,AI12)","v":2},{"$f":"AJ12/(AL4-AJ25)","v":8.3333333333333329E-2},{"$f":"IF(AK12=0,0,(AK12*((LOG(AK12))/LOG(2))))","v":-0.29874687506009634},null,{"$f":"N12","v":11212},{"$f":"COUNTIF(L103:L126,AN12)","v":3},{"$f":"AO12/(AQ4-AO25)","v":0.13043478260869565},{"$f":"IF(AP12=0,0,(AP12*((LOG(AP12))/LOG(2))))","v":-0.3832955811307639},null,{"$f":"N12","v":11212},{"$f":"COUNTIF(L127:L150,AS12)","v":1},{"$f":"AT12/(AV4-AT25)","v":4.3478260869565216E-2},{"$f":"IF(AU12=0,0,(AU12*((LOG(AU12))/LOG(2))))","v":-0.19667660678508753}]
[21,989,22,1007,13,1016,23,1028,13,1042,0,22121,null,11221,{"$f":"COUNTIF($L$7:$L$500,N13)","v":0},{"$f":"O13/$Q$4","v":0},{"$f":"IF(P13=0,0,(P13*((LOG(P13))/LOG(2))))","v":0},null,null,{"$f":"N13","v":11221},{"$f":"COUNTIF(L7:L30,T13)","v":0},{"$f":"U13/(W4-U25)","v":0},{"$f":"IF(V13=0,0,(V13*((LOG(V13))/LOG(2))))","v":0},null,{"$f":"N13","v":11221},{"$f":"COUNTIF(L31:L54,Y13)","v":0},{"$f":"Z13/(AB4-Z25)","v":0},{"$f":"IF(AA13=0,0,(AA13*((LOG(AA13))/LOG(2))))","v":0},null,{"$f":"N13","v":11221},{"$f":"COUNTIF(L55:L78,AD13)","v":0},{"$f":"AE13/(AG4-AE25)","v":0},{"$f":"IF(AF13=0,0,(AF13*((LOG(AF13))/LOG(2))))","v":0},null,{"$f":"N13","v":11221},{"$f":"COUNTIF(L79:L102,AI13)","v":0},{"$f":"AJ13/(AL4-AJ25)","v":0},{"$f":"IF(AK13=0,0,(AK13*((LOG(AK13))/LOG(2))))","v":0},null,{"$f":"N13","v":11221},{"$f":"COUNTIF(L103:L126,AN13)","v":0},{"$f":"AO13/(AQ4-AO25)","v":0},{"$f":"IF(AP13=0,0,(AP13*((LOG(AP13))/LOG(2))))","v":0},null,{"$f":"N13","v":11221},{"$f":"COUNTIF(L127:L150,AS13)","v":0},{"$f":"AT13/(AV4-AT25)","v":0},{"$f":"IF(AU13=0,0,(AU13*((LOG(AU13))/LOG(2))))","v":0}]
[21,1172,22,1180,13,1190,23,1199,13,1209,0,22121,null,11222,{"$f":"COUNTIF($L$7:$L$500,N14)","v":0},{"$f":"O14/$Q$4","v":0},{"$f":"IF(P14=0,0,(P14*((LOG(P14))/LOG(2))))","v":0},null,null,{"$f":"N14","v":11222},{"$f":"COUNTIF(L7:L30,T14)","v":0},{"$f":"U14/(W4-U25)","v":0},{"$f":"IF(V14=0,0,(V14*((LOG(V14))/LOG(2))))","v":0},null,{"$f":"N14","v":11222},{"$f":"COUNTIF(L31:L54,Y14)","v":0},{"$f":"Z14/(AB4-Z25)","v":0},{"$f":"IF(AA14=0,0,(AA14*((LOG(AA14))/LOG(2))))","v":0},null,{"$f":"N14","v":11222},{"$f":"COUNTIF(L55:L78,AD14)","v":0},{"$f":"AE14/(AG4-AE25)","v":0},{"$f":"IF(AF14=0,0,(AF14*((LOG(AF14))/LOG(2))))","v":0},null,{"$f":"N14","v":11222},{"$f":"COUNTIF(L79:L102,AI14)","v":0},{"$f":"AJ14/(AL4-AJ25)","v":0},{"$f":"IF(AK14=0,0,(AK14*((LOG(AK14))/LOG(2))))","v":0},null,{"$f":"N14","v":11222},{"$f":"COUNTIF(L103:L126,AN14)","v":0},{"$f":"AO14/(AQ4-AO25)","v":0},{"$f":"IF(AP14=0,0,(AP14*((LOG(AP14))/LOG(2))))","v":0},null,{"$f":"N14","v":11222},{"$f":"COUNTIF(L127:L150,AS14)","v":0},{"$f":"AT14/(AV4-AT25)","v":0},{"$f":"IF(AU14=0,0,(AU14*((LOG(AU14))/LOG(2))))","v":0}]
[21,1348,11,1359,22,1368,14,1381,24,1394,0,21212,null,12111,{"$f":"COUNTIF($L$7:$L$500,N15)","v":0},{"$f":"O15/$Q$4","v":0},{"$f":"IF(P15=0,0,(P15*((LOG(P15))/LOG(2))))","v":0},null,null,{"$f":"N15","v":12111},{"$f":"COUNTIF(L7:L30,T15)","v":0},{"$f":"U15/(W4-U25)","v":0},{"$f":"IF(V15=0,0,(V15*((LOG(V15))/LOG(2))))","v":0},null,{"$f":"N15","v":12111},{"$f":"COUNTIF(L31:L54,Y15)","v":0},{"$f":"Z15/(AB4-Z25)","v":0},{"$f":"IF(AA15=0,0,(AA15*((LOG(AA15))/LOG(2))))","v":0},null,{"$f":"N15","v":12111},{"$f":"COUNTIF(L55:L78,AD15)","v":0},{"$f":"AE15/(AG4-AE25)","v":0},{"$f":"IF(AF15=0,0,(AF15*((LOG(AF15))/LOG(2))))","v":0},null,{"$f":"N15","v":12111},{"$f":"COUNTIF(L79:L102,AI15)","v":0},{"$f":"AJ15/(AL4-AJ25)","v":0},{"$f":"IF(AK15=0,0,(AK15*((LOG(AK15))/LOG(2))))","v":0},null,{"$f":"N15","v":12111},{"$f":"COUNTIF(L103:L126,AN15)","v":0},{"$f":"AO15/(AQ4-AO25)","v":0},{"$f":"IF(AP15=0,0,(AP15*((LOG(AP15))/LOG(2))))","v":0},null,{"$f":"N15","v":12111},{"$f":"COUNTIF(L127:L150,AS15)","v":0},{"$f":"AT15/(AV4-AT25)","v":0},{"$f":"IF(AU15=0,0,(AU15*((LOG(AU15))/LOG(2))))","v":0}]
[21,1543,11,1552,22,1561,14,1583,24,1597,0,21212,null,12112,{"$f":"COUNTIF($L$7:$L$500,N16)","v":5},{"$f":"O16/$Q$4","v":3.4965034965034968E-2},{"$f":"IF(P16=0,0,(P16*((LOG(P16))/LOG(2))))","v":-0.16915885461157437},null,null,{"$f":"N16","v":12112},{"$f":"COUNTIF(L7:L30,T16)","v":0},{"$f":"U16/(W4-U25)","v":0},{"$f":"IF(V16=0,0,(V16*((LOG(V16))/LOG(2))))","v":0},null,{"$f":"N16","v":12112},{"$f":"COUNTIF(L31:L54,Y16)","v":0},{"$f":"Z16/(AB4-Z25)","v":0},{"$f":"IF(AA16=0,0,(AA16*((LOG(AA16))/LOG(2))))","v":0},null,{"$f":"N16","v":12112},{"$f":"COUNTIF(L55:L78,AD16)","v":0},{"$f":"AE16/(AG4-AE25)","v":0},{"$f":"IF(AF16=0,0,(AF16*((LOG(AF16))/LOG(2))))","v":0},null,{"$f":"N16","v":12112},{"$f":"COUNTIF(L79:L102,AI16)","v":0},{"$f":"AJ16/(AL4-AJ25)","v":0},{"$f":"IF(AK16=0,0,(AK16*((LOG(AK16))/LOG(2))))","v":0},null,{"$f":"N16","v":12112},{"$f":"COUNTIF(L103:L126,AN16)","v":2},{"$f":"AO16/(AQ4-AO25)","v":8.6956521739130432E-2},{"$f":"IF(AP16=0,0,(AP16*((LOG(AP16))/LOG(2))))","v":-0.30639669183104457},null,{"$f":"N16","v":12112},{"$f":"COUNTIF(L127:L150,AS16)","v":3},{"$f":"AT16/(AV4-AT25)","v":0.13043478260869565},{"$f":"IF(AU16=0,0,(AU16*((LOG(AU16))/LOG(2))))","v":-0.3832955811307639}]
[21,1714,22,1719,24,1738,14,1750,24,1759,0,22212,null,12121,{"$f":"COUNTIF($L$7:$L$500,N17)","v":24},{"$f":"O17/$Q$4","v":0.16783216783216784},{"$f":"IF(P17=0,0,(P17*((LOG(P17))/LOG(2))))","v":-0.43215253192568948},null,null,{"$f":"N17","v":12121},{"$f":"COUNTIF(L7:L30,T17)","v":1},{"$f":"U17/(W4-U25)","v":4.1666666666666664E-2},{"$f":"IF(V17=0,0,(V17*((LOG(V17))/LOG(2))))","v":-0.19104010419671485},null,{"$f":"N17","v":12121},{"$f":"COUNTIF(L31:L54,Y17)","v":2},{"$f":"Z17/(AB4-Z25)","v":8.6956521739130432E-2},{"$f":"IF(AA17=0,0,(AA17*((LOG(AA17))/LOG(2))))","v":-0.30639669183104457},null,{"$f":"N17","v":12121},{"$f":"COUNTIF(L55:L78,AD17)","v":4},{"$f":"AE17/(AG4-AE25)","v":0.17391304347826086},{"$f":"IF(AF17=0,0,(AF17*((LOG(AF17))/LOG(2))))","v":-0.43888034018382832},null,{"$f":"N17","v":12121},{"$f":"COUNTIF(L79:L102,AI17)","v":7},{"$f":"AJ17/(AL4-AJ25)","v":0.29166666666666669},{"$f":"IF(AK17=0,0,(AK17*((LOG(AK17))/LOG(2))))","v":-0.51846887711020273},null,{"$f":"N17","v":12121},{"$f":"COUNTIF(L103:L126,AN17)","v":6},{"$f":"AO17/(AQ4-AO25)","v":0.2608695652173913},{"$f":"IF(AP17=0,0,(AP17*((LOG(AP17))/LOG(2))))","v":-0.50572159704413644},null,{"$f":"N17","v":12121},{"$f":"COUNTIF(L127:L150,AS17)","v":4},{"$f":"AT17/(AV4-AT25)","v":0.17391304347826086},{"$f":"IF(AU17=0,0,(AU17*((LOG(AU17))/LOG(2))))","v":-0.43888034018382832}]
[21,1865,22,1877,24,1893,23,1918,13,1930,0,22221,null,12122,{"$f":"COUNTIF($L$7:$L$500,N18)","v":0},{"$f":"O18/$Q$4","v":0},{"$f":"IF(P18=0,0,(P18*((LOG(P18))/LOG(2))))","v":0},null,null,{"$f":"N18","v":12122},{"$f":"COUNTIF(L7:L30,T18)","v":0},{"$f":"U18/(W4-U25)","v":0},{"$f":"IF(V18=0,0,(V18*((LOG(V18))/LOG(2))))","v":0},null,{"$f":"N18","v":12122},{"$f":"COUNTIF(L31:L54,Y18)","v":0},{"$f":"Z18/(AB4-Z25)","v":0},{"$f":"IF(AA18=0,0,(AA18*((LOG(AA18))/LOG(2))))","v":0},null,{"$f":"N18","v":12122},{"$f":"COUNTIF(L55:L78,AD18)","v":0},{"$f":"AE18/(AG4-AE25)","v":0},{"$f":"IF(AF18=0,0,(AF18*((LOG(AF18))/LOG(2))))","v":0},null,{"$f":"N18","v":12122},{"$f":"COUNTIF(L79:L102,AI18)","v":0},{"$f":"AJ18/(AL4-AJ25)","v":0},{"$f":"IF(AK18=0,0,(AK18*((LOG(AK18))/LOG(2))))","v":0},null,{"$f":"N18","v":12122},{"$f":"COUNTIF(L103:L126,AN18)","v":0},{"$f":"AO18/(AQ4-AO25)","v":0},{"$f":"IF(AP18=0,0,(AP18*((LOG(AP18))/LOG(2))))","v":0},null,{"$f":"N18","v":12122},{"$f":"COUNTIF(L127:L150,AS18)","v":0},{"$f":"AT18/(AV4-AT25)","v":0},{"$f":"IF(AU18=0,0,(AU18*((LOG(AU18))/LOG(2))))","v":0}]
[21,2035,22,2041,13,2068,23,2082,13,2093,0,22121,null,12211,{"$f":"COUNTIF($L$7:$L$500,N19)","v":2},{"$f":"O19/$Q$4","v":1.3986013986013986E-2},{"$f":"IF(P19=0,0,(P19*((LOG(P19))/LOG(2))))","v":-8.6152046668229218E-2},null,null,{"$f":"N19","v":12211},{"$f":"COUNTIF(L7:L30,T19)","v":0},{"$f":"U19/(W4-U25)","v":0},{"$f":"IF(V19=0,0,(V19*((LOG(V19))/LOG(2))))","v":0},null,{"$f":"N19","v":12211},{"$f":"COUNTIF(L31:L54,Y19)","v":0},{"$f":"Z19/(AB4-Z25)","v":0},{"$f":"IF(AA19=0,0,(AA19*((LOG(AA19))/LOG(2))))","v":0},null,{"$f":"N19","v":12211},{"$f":"COUNTIF(L55:L78,AD19)","v":1},{"$f":"AE19/(AG4-AE25)","v":4.3478260869565216E-2},{"$f":"IF(AF19=0,0,(AF19*((LOG(AF19))/LOG(2))))","v":-0.19667660678508753},null,{"$f":"N19","v":12211},{"$f":"COUNTIF(L79:L102,AI19)","v":0},{"$f":"AJ19/(AL4-AJ25)","v":0},{"$f":"IF(AK19=0,0,(AK19*((LOG(AK19))/LOG(2))))","v":0},null,{"$f":"N19","v":12211},{"$f":"COUNTIF(L103:L126,AN19)","v":0},{"$f":"AO19/(AQ4-AO25)","v":0},{"$f":"IF(AP19=0,0,(AP19*((LOG(AP19))/LOG(2))))","v":0},null,{"$f":"N19","v":12211},{"$f":"COUNTIF(L127:L150,AS19)","v":1},{"$f":"AT19/(AV4-AT25)","v":4.3478260869565216E-2},{"$f":"IF(AU19=0,0,(AU19*((LOG(AU19))/LOG(2))))","v":-0.19667660678508753}]
[21,2197,22,2206,13,2219,23,2228,13,2240,0,22121,null,12212,{"$f":"COUNTIF($L$7:$L$500,N20)","v":4},{"$f":"O20/$Q$4","v":2.7972027972027972E-2},{"$f":"IF(P20=0,0,(P20*((LOG(P20))/LOG(2))))","v":-0.14433206536443047},null,null,{"$f":"N20","v":12212},{"$f":"COUNTIF(L7:L30,T20)","v":0},{"$f":"U20/(W4-U25)","v":0},{"$f":"IF(V20=0,0,(V20*((LOG(V20))/LOG(2))))","v":0},null,{"$f":"N20","v":12212},{"$f":"COUNTIF(L31:L54,Y20)","v":0},{"$f":"Z20/(AB4-Z25)","v":0},{"$f":"IF(AA20=0,0,(AA20*((LOG(AA20))/LOG(2))))","v":0},null,{"$f":"N20","v":12212},{"$f":"COUNTIF(L55:L78,AD20)","v":1},{"$f":"AE20/(AG4-AE25)","v":4.3478260869565216E-2},{"$f":"IF(AF20=0,0,(AF20*((LOG(AF20))/LOG(2))))","v":-0.19667660678508753},null,{"$f":"N20","v":12212},{"$f":"COUNTIF(L79:L102,AI20)","v":2},{"$f":"AJ20/(AL4-AJ25)","v":8.3333333333333329E-2},{"$f":"IF(AK20=0,0,(AK20*((LOG(AK20))/LOG(2))))","v":-0.29874687506009634},null,{"$f":"N20","v":12212},{"$f":"COUNTIF(L103:L126,AN20)","v":0},{"$f":"AO20/(AQ4-AO25)","v":0},{"$f":"IF(AP20=0,0,(AP20*((LOG(AP20))/LOG(2))))","v":0},null,{"$f":"N20","v":12212},{"$f":"COUNTIF(L127:L150,AS20)","v":1},{"$f":"AT20/(AV4-AT25)","v":4.3478260869565216E-2},{"$f":"IF(AU20=0,0,(AU20*((LOG(AU20))/LOG(2))))","v":-0.19667660678508753}]
[21,2364,22,2372,24,2377,14,2388,24,2401,0,22212,null,12221,{"$f":"COUNTIF($L$7:$L$500,N21)","v":2},{"$f":"O21/$Q$4","v":1.3986013986013986E-2},{"$f":"IF(P21=0,0,(P21*((LOG(P21))/LOG(2))))","v":-8.6152046668229218E-2},null,null,{"$f":"N21","v":12221},{"$f":"COUNTIF(L7:L30,T21)","v":0},{"$f":"U21/(W4-U25)","v":0},{"$f":"IF(V21=0,0,(V21*((LOG(V21))/LOG(2))))","v":0},null,{"$f":"N21","v":12221},{"$f":"COUNTIF(L31:L54,Y21)","v":1},{"$f":"Z21/(AB4-Z25)","v":4.3478260869565216E-2},{"$f":"IF(AA21=0,0,(AA21*((LOG(AA21))/LOG(2))))","v":-0.19667660678508753},null,{"$f":"N21","v":12221},{"$f":"COUNTIF(L55:L78,AD21)","v":1},{"$f":"AE21/(AG4-AE25)","v":4.3478260869565216E-2},{"$f":"IF(AF21=0,0,(AF21*((LOG(AF21))/LOG(2))))","v":-0.19667660678508753},null,{"$f":"N21","v":12221},{"$f":"COUNTIF(L79:L102,AI21)","v":0},{"$f":"AJ21/(AL4-AJ25)","v":0},{"$f":"IF(AK21=0,0,(AK21*((LOG(AK21))/LOG(2))))","v":0},null,{"$f":"N21","v":12221},{"$f":"COUNTIF(L103:L126,AN21)","v":0},{"$f":"AO21/(AQ4-AO25)","v":0},{"$f":"IF(AP21=0,0,(AP21*((LOG(AP21))/LOG(2))))","v":0},null,{"$f":"N21","v":12221},{"$f":"COUNTIF(L127:L150,AS21)","v":0},{"$f":"AT21/(AV4-AT25)","v":0},{"$f":"IF(AU21=0,0,(AU21*((LOG(AU21))/LOG(2))))","v":0}]
[21,2518,22,2525,13,2542,23,2551,13,2566,0,22121,null,12222,{"$f":"COUNTIF($L$7:$L$500,N22)","v":0},{"$f":"O22/$Q$4","v":0},{"$f":"IF(P22=0,0,(P22*((LOG(P22))/LOG(2))))","v":0},null,null,{"$f":"N22","v":12222},{"$f":"COUNTIF(L7:L30,T22)","v":0},{"$f":"U22/(W4-U25)","v":0},{"$f":"IF(V22=0,0,(V22*((LOG(V22))/LOG(2))))","v":0},null,{"$f":"N22","v":12222},{"$f":"COUNTIF(L31:L54,Y22)","v":0},{"$f":"Z22/(AB4-Z25)","v":0},{"$f":"IF(AA22=0,0,(AA22*((LOG(AA22))/LOG(2))))","v":0},null,{"$f":"N22","v":12222},{"$f":"COUNTIF(L55:L78,AD22)","v":0},{"$f":"AE22/(AG4-AE25)","v":0},{"$f":"IF(AF22=0,0,(AF22*((LOG(AF22))/LOG(2))))","v":0},null,{"$f":"N22","v":12222},{"$f":"COUNTIF(L79:L102,AI22)","v":0},{"$f":"AJ22/(AL4-AJ25)","v":0},{"$f":"IF(AK22=0,0,(AK22*((LOG(AK22))/LOG(2))))","v":0},null,{"$f":"N22","v":12222},{"$f":"COUNTIF(L103:L126,AN22)","v":0},{"$f":"AO22/(AQ4-AO25)","v":0},{"$f":"IF(AP22=0,0,(AP22*((LOG(AP22))/LOG(2))))","v":0},null,{"$f":"N22","v":12222},{"$f":"COUNTIF(L127:L150,AS22)","v":0},{"$f":"AT22/(AV4-AT25)","v":0},{"$f":"IF(AU22=0,0,(AU22*((LOG(AU22))/LOG(2))))","v":0}]
[21,2679,22,2687,24,2694,14,2705,24,2714,0,22212,null,21111,{"$f":"COUNTIF($L$7:$L$500,N23)","v":1},{"$f":"O23/$Q$4","v":6.993006993006993E-3},{"$f":"IF(P23=0,0,(P23*((LOG(P23))/LOG(2))))","v":-5.0069030327121608E-2},null,null,{"$f":"N23","v":21111},{"$f":"COUNTIF(L7:L30,T23)","v":0},{"$f":"U23/(W4-U25)","v":0},{"$f":"IF(V23=0,0,(V23*((LOG(V23))/LOG(2))))","v":0},null,{"$f":"N23","v":21111},{"$f":"COUNTIF(L31:L54,Y23)","v":0},{"$f":"Z23/(AB4-Z25)","v":0},{"$f":"IF(AA23=0,0,(AA23*((LOG(AA23))/LOG(2))))","v":0},null,{"$f":"N23","v":21111},{"$f":"COUNTIF(L55:L78,AD23)","v":0},{"$f":"AE23/(AG4-AE25)","v":0},{"$f":"IF(AF23=0,0,(AF23*((LOG(AF23))/LOG(2))))","v":0},null,{"$f":"N23","v":21111},{"$f":"COUNTIF(L79:L102,AI23)","v":0},{"$f":"AJ23/(AL4-AJ25)","v":0},{"$f":"IF(AK23=0,0,(AK23*((LOG(AK23))/LOG(2))))","v":0},null,{"$f":"N23","v":21111},{"$f":"COUNTIF(L103:L126,AN23)","v":0},{"$f":"AO23/(AQ4-AO25)","v":0},{"$f":"IF(AP23=0,0,(AP23*((LOG(AP23))/LOG(2))))","v":0},null,{"$f":"N23","v":21111},{"$f":"COUNTIF(L127:L150,AS23)","v":1},{"$f":"AT23/(AV4-AT25)","v":4.3478260869565216E-2},{"$f":"IF(AU23=0,0,(AU23*((LOG(AU23))/LOG(2))))","v":-0.19667660678508753}]
[21,2817,22,2825,24,2843,14,2854,24,2870,0,22212,null,21112,{"$f":"COUNTIF($L$7:$L$500,N24)","v":2},{"$f":"O24/$Q$4","v":1.3986013986013986E-2},{"$f":"IF(P24=0,0,(P24*((LOG(P24))/LOG(2))))","v":-8.6152046668229218E-2},null,null,{"$f":"N24","v":21112},{"$f":"COUNTIF(L7:L30,T24)","v":0},{"$f":"U24/(W4-U25)","v":0},{"$f":"IF(V24=0,0,(V24*((LOG(V24))/LOG(2))))","v":0},null,{"$f":"N24","v":21112},{"$f":"COUNTIF(L31:L54,Y24)","v":0},{"$f":"Z24/(AB4-Z25)","v":0},{"$f":"IF(AA24=0,0,(AA24*((LOG(AA24))/LOG(2))))","v":0},null,{"$f":"N24","v":21112},{"$f":"COUNTIF(L55:L78,AD24)","v":0},{"$f":"AE24/(AG4-AE25)","v":0},{"$f":"IF(AF24=0,0,(AF24*((LOG(AF24))/LOG(2))))","v":0},null,{"$f":"N24","v":21112},{"$f":"COUNTIF(L79:L102,AI24)","v":0},{"$f":"AJ24/(AL4-AJ25)","v":0},{"$f":"IF(AK24=0,0,(AK24*((LOG(AK24))/LOG(2))))","v":0},null,{"$f":"N24","v":21112},{"$f":"COUNTIF(L103:L126,AN24)","v":0},{"$f":"AO24/(AQ4-AO25)","v":0},{"$f":"IF(AP24=0,0,(AP24*((LOG(AP24))/LOG(2))))","v":0},null,{"$f":"N24","v":21112},{"$f":"COUNTIF(L127:L150,AS24)","v":2},{"$f":"AT24/(AV4-AT25)","v":8.6956521739130432E-2},{"$f":"IF(AU24=0,0,(AU24*((LOG(AU24))/LOG(2))))","v":-0.30639669183104457}]
[21,2978,22,2997,13,3015,23,3025,24,3037,0,22122,null,21121,{"$f":"COUNTIF($L$7:$L$500,N25)","v":3},{"$f":"O25/$Q$4","v":2.097902097902098E-2},{"$f":"IF(P25=0,0,(P25*((LOG(P25))/LOG(2))))","v":-0.11695612942777413},null,null,{"$f":"N25","v":21121},{"$f":"COUNTIF(L7:L30,T25)","v":0},null,null,null,{"$f":"N25","v":21121},{"$f":"COUNTIF(L31:L54,Y25)","v":1},null,null,null,{"$f":"N25","v":21121},{"$f":"COUNTIF(L55:L78,AD25)","v":1},null,null,null,{"$f":"N25","v":21121},{"$f":"COUNTIF(L79:L102,AI25)","v":0},null,null,null,{"$f":"N25","v":21121},{"$f":"COUNTIF(L103:L126,AN25)","v":1},null,null,null,{"$f":"N25","v":21121},{"$f":"COUNTIF(L127:L150,AS25)","v":0}]
[21,3143,11,3156,22,3165,14,3178,24,3191,0,21212,null,21122,{"$f":"COUNTIF($L$7:$L$500,N26)","v":0},{"$f":"O26/$Q$4","v":0},{"$f":"IF(P26=0,0,(P26*((LOG(P26))/LOG(2))))","v":0},null,null,{"$f":"N26","v":21122},{"$f":"COUNTIF(L7:L30,T26)","v":0},{"$f":"U26/(W4-U25)","v":0},{"$f":"IF(V26=0,0,(V26*((LOG(V26))/LOG(2))))","v":0},null,{"$f":"N26","v":21122},{"$f":"COUNTIF(L31:L54,Y26)","v":0},{"$f":"Z26/(AB4-Z25)","v":0},{"$f":"IF(AA26=0,0,(AA26*((LOG(AA26))/LOG(2))))","v":0},null,{"$f":"N26","v":21122},{"$f":"COUNTIF(L55:L78,AD26)","v":0},{"$f":"AE26/(AG4-AE25)","v":0},{"$f":"IF(AF26=0,0,(AF26*((LOG(AF26))/LOG(2))))","v":0},null,{"$f":"N26","v":21122},{"$f":"COUNTIF(L79:L102,AI26)","v":0},{"$f":"AJ26/(AL4-AJ25)","v":0},{"$f":"IF(AK26=0,0,(AK26*((LOG(AK26))/LOG(2))))","v":0},null,{"$f":"N26","v":21122},{"$f":"COUNTIF(L103:L126,AN26)","v":0},{"$f":"AO26/(AQ4-AO25)","v":0},{"$f":"IF(AP26=0,0,(AP26*((LOG(AP26))/LOG(2))))","v":0},null,{"$f":"N26","v":21122},{"$f":"COUNTIF(L127:L150,AS26)","v":0},{"$f":"AT26/(AV4-AT25)","v":0},{"$f":"IF(AU26=0,0,(AU26*((LOG(AU26))/LOG(2))))","v":0}]
[21,3297,22,3304,24,3322,14,3334,13,3343,0,22211,null,21211,{"$f":"COUNTIF($L$7:$L$500,N27)","v":4},{"$f":"O27/$Q$4","v":2.7972027972027972E-2},{"$f":"IF(P27=0,0,(P27*((LOG(P27))/LOG(2))))","v":-0.14433206536443047},null,null,{"$f":"N27","v":21211},{"$f":"COUNTIF(L7:L30,T27)","v":0},{"$f":"U27/(W4-U25)","v":0},{"$f":"IF(V27=0,0,(V27*((LOG(V27))/LOG(2))))","v":0},null,{"$f":"N27","v":21211},{"$f":"COUNTIF(L31:L54,Y27)","v":0},{"$f":"Z27/(AB4-Z25)","v":0},{"$f":"IF(AA27=0,0,(AA27*((LOG(AA27))/LOG(2))))","v":0},null,{"$f":"N27","v":21211},{"$f":"COUNTIF(L55:L78,AD27)","v":0},{"$f":"AE27/(AG4-AE25)","v":0},{"$f":"IF(AF27=0,0,(AF27*((LOG(AF27))/LOG(2))))","v":0},null,{"$f":"N27","v":21211},{"$f":"COUNTIF(L79:L102,AI27)","v":2},{"$f":"AJ27/(AL4-AJ25)","v":8.3333333333333329E-2},{"$f":"IF(AK27=0,0,(AK27*((LOG(AK27))/LOG(2))))","v":-0.29874687506009634},null,{"$f":"N27","v":21211},{"$f":"COUNTIF(L103:L126,AN27)","v":1},{"$f":"AO27/(AQ4-AO25)","v":4.3478260869565216E-2},{"$f":"IF(AP27=0,0,(AP27*((LOG(AP27))/LOG(2))))","v":-0.19667660678508753},null,{"$f":"N27","v":21211},{"$f":"COUNTIF(L127:L150,AS27)","v":1},{"$f":"AT27/(AV4-AT25)","v":4.3478260869565216E-2},{"$f":"IF(AU27=0,0,(AU27*((LOG(AU27))/LOG(2))))","v":-0.19667660678508753}]
[21,3444,22,3449,24,3467,14,3477,24,3489,0,22212,null,21212,{"$f":"COUNTIF($L$7:$L$500,N28)","v":18},{"$f":"O28/$Q$4","v":0.12587412587412589},{"$f":"IF(P28=0,0,(P28*((LOG(P28))/LOG(2))))","v":-0.37635688137097473},null,null,{"$f":"N28","v":21212},{"$f":"COUNTIF(L7:L30,T28)","v":6},{"$f":"U28/(W4-U25)","v":0.25},{"$f":"IF(V28=0,0,(V28*((LOG(V28))/LOG(2))))","v":-0.5},null,{"$f":"N28","v":21212},{"$f":"COUNTIF(L31:L54,Y28)","v":4},{"$f":"Z28/(AB4-Z25)","v":0.17391304347826086},{"$f":"IF(AA28=0,0,(AA28*((LOG(AA28))/LOG(2))))","v":-0.43888034018382832},null,{"$f":"N28","v":21212},{"$f":"COUNTIF(L55:L78,AD28)","v":0},{"$f":"AE28/(AG4-AE25)","v":0},{"$f":"IF(AF28=0,0,(AF28*((LOG(AF28))/LOG(2))))","v":0},null,{"$f":"N28","v":21212},{"$f":"COUNTIF(L79:L102,AI28)","v":3},{"$f":"AJ28/(AL4-AJ25)","v":0.125},{"$f":"IF(AK28=0,0,(AK28*((LOG(AK28))/LOG(2))))","v":-0.375},null,{"$f":"N28","v":21212},{"$f":"COUNTIF(L103:L126,AN28)","v":2},{"$f":"AO28/(AQ4-AO25)","v":8.6956521739130432E-2},{"$f":"IF(AP28=0,0,(AP28*((LOG(AP28))/LOG(2))))","v":-0.30639669183104457},null,{"$f":"N28","v":21212},{"$f":"COUNTIF(L127:L150,AS28)","v":3},{"$f":"AT28/(AV4-AT25)","v":0.13043478260869565},{"$f":"IF(AU28=0,0,(AU28*((LOG(AU28))/LOG(2))))","v":-0.3832955811307639}]
[21,3599,22,3614,24,3630,23,3646,13,3659,0,22221,null,21221,{"$f":"COUNTIF($L$7:$L$500,N29)","v":0},{"$f":"O29/$Q$4","v":0},{"$f":"IF(P29=0,0,(P29*((LOG(P29))/LOG(2))))","v":0},null,null,{"$f":"N29","v":21221},{"$f":"COUNTIF(L7:L30,T29)","v":0},{"$f":"U29/(W4-U25)","v":0},{"$f":"IF(V29=0,0,(V29*((LOG(V29))/LOG(2))))","v":0},null,{"$f":"N29","v":21221},{"$f":"COUNTIF(L31:L54,Y29)","v":0},{"$f":"Z29/(AB4-Z25)","v":0},{"$f":"IF(AA29=0,0,(AA29*((LOG(AA29))/LOG(2))))","v":0},null,{"$f":"N29","v":21221},{"$f":"COUNTIF(L55:L78,AD29)","v":0},{"$f":"AE29/(AG4-AE25)","v":0},{"$f":"IF(AF29=0,0,(AF29*((LOG(AF29))/LOG(2))))","v":0},null,{"$f":"N29","v":21221},{"$f":"COUNTIF(L79:L102,AI29)","v":0},{"$f":"AJ29/(AL4-AJ25)","v":0},{"$f":"IF(AK29=0,0,(AK29*((LOG(AK29))/LOG(2))))","v":0},null,{"$f":"N29","v":21221},{"$f":"COUNTIF(L103:L126,AN29)","v":0},{"$f":"AO29/(AQ4-AO25)","v":0},{"$f":"IF(AP29=0,0,(AP29*((LOG(AP29))/LOG(2))))","v":0},null,{"$f":"N29","v":21221},{"$f":"COUNTIF(L127:L150,AS29)","v":0},{"$f":"AT29/(AV4-AT25)","v":0},{"$f":"IF(AU29=0,0,(AU29*((LOG(AU29))/LOG(2))))","v":0}]
[21,3760,22,3765,24,3780,14,3792,24,3802,0,22212,null,21222,{"$f":"COUNTIF($L$7:$L$500,N30)","v":0},{"$f":"O30/$Q$4","v":0},{"$f":"IF(P30=0,0,(P30*((LOG(P30))/LOG(2))))","v":0},null,null,{"$f":"N30","v":21222},{"$f":"COUNTIF(L7:L30,T30)","v":0},{"$f":"U30/(W4-U25)","v":0},{"$f":"IF(V30=0,0,(V30*((LOG(V30))/LOG(2))))","v":0},null,{"$f":"N30","v":21222},{"$f":"COUNTIF(L31:L54,Y30)","v":0},{"$f":"Z30/(AB4-Z25)","v":0},{"$f":"IF(AA30=0,0,(AA30*((LOG(AA30))/LOG(2))))","v":0},null,{"$f":"N30","v":21222},{"$f":"COUNTIF(L55:L78,AD30)","v":0},{"$f":"AE30/(AG4-AE25)","v":0},{"$f":"IF(AF30=0,0,(AF30*((LOG(AF30))/LOG(2))))","v":0},null,{"$f":"N30","v":21222},{"$f":"COUNTIF(L79:L102,AI30)","v":0},{"$f":"AJ30/(AL4-AJ25)","v":0},{"$f":"IF(AK30=0,0,(AK30*((LOG(AK30))/LOG(2))))","v":0},null,{"$f":"N30","v":21222},{"$f":"COUNTIF(L103:L126,AN30)","v":0},{"$f":"AO30/(AQ4-AO25)","v":0},{"$f":"IF(AP30=0,0,(AP30*((LOG(AP30))/LOG(2))))","v":0},null,{"$f":"N30","v":21222},{"$f":"COUNTIF(L127:L150,AS30)","v":0},{"$f":"AT30/(AV4-AT25)","v":0},{"$f":"IF(AU30=0,0,(AU30*((LOG(AU30))/LOG(2))))","v":0}]
[21,3910,22,3918,24,3933,14,3946,24,3959,0,22212,null,22111,{"$f":"COUNTIF($L$7:$L$500,N31)","v":0},{"$f":"O31/$Q$4","v":0},{"$f":"IF(P31=0,0,(P31*((LOG(P31))/LOG(2))))","v":0},null,null,{"$f":"N31","v":22111},{"$f":"COUNTIF(L7:L30,T31)","v":0},{"$f":"U31/(W4-U25)","v":0},{"$f":"IF(V31=0,0,(V31*((LOG(V31))/LOG(2))))","v":0},null,{"$f":"N31","v":22111},{"$f":"COUNTIF(L31:L54,Y31)","v":0},{"$f":"Z31/(AB4-Z25)","v":0},{"$f":"IF(AA31=0,0,(AA31*((LOG(AA31))/LOG(2))))","v":0},null,{"$f":"N31","v":22111},{"$f":"COUNTIF(L55:L78,AD31)","v":0},{"$f":"AE31/(AG4-AE25)","v":0},{"$f":"IF(AF31=0,0,(AF31*((LOG(AF31))/LOG(2))))","v":0},null,{"$f":"N31","v":22111},{"$f":"COUNTIF(L79:L102,AI31)","v":0},{"$f":"AJ31/(AL4-AJ25)","v":0},{"$f":"IF(AK31=0,0,(AK31*((LOG(AK31))/LOG(2))))","v":0},null,{"$f":"N31","v":22111},{"$f":"COUNTIF(L103:L126,AN31)","v":0},{"$f":"AO31/(AQ4-AO25)","v":0},{"$f":"IF(AP31=0,0,(AP31*((LOG(AP31))/LOG(2))))","v":0},null,{"$f":"N31","v":22111},{"$f":"COUNTIF(L127:L150,AS31)","v":0},{"$f":"AT31/(AV4-AT25)","v":0},{"$f":"IF(AU31=0,0,(AU31*((LOG(AU31))/LOG(2))))","v":0}]
[21,4059,22,4064,13,4087,23,4099,13,4111,0,22121,null,22112,{"$f":"COUNTIF($L$7:$L$500,N32)","v":1},{"$f":"O32/$Q$4","v":6.993006993006993E-3},{"$f":"IF(P32=0,0,(P32*((LOG(P32))/LOG(2))))","v":-5.0069030327121608E-2},null,null,{"$f":"N32","v":22112},{"$f":"COUNTIF(L7:L30,T32)","v":0},{"$f":"U32/(W4-U25)","v":0},{"$f":"IF(V32=0,0,(V32*((LOG(V32))/LOG(2))))","v":0},null,{"$f":"N32","v":22112},{"$f":"COUNTIF(L31:L54,Y32)","v":0},{"$f":"Z32/(AB4-Z25)","v":0},{"$f":"IF(AA32=0,0,(AA32*((LOG(AA32))/LOG(2))))","v":0},null,{"$f":"N32","v":22112},{"$f":"COUNTIF(L55:L78,AD32)","v":0},{"$f":"AE32/(AG4-AE25)","v":0},{"$f":"IF(AF32=0,0,(AF32*((LOG(AF32))/LOG(2))))","v":0},null,{"$f":"N32","v":22112},{"$f":"COUNTIF(L79:L102,AI32)","v":0},{"$f":"AJ32/(AL4-AJ25)","v":0},{"$f":"IF(AK32=0,0,(AK32*((LOG(AK32))/LOG(2))))","v":0},null,{"$f":"N32","v":22112},{"$f":"COUNTIF(L103:L126,AN32)","v":1},{"$f":"AO32/(AQ4-AO25)","v":4.3478260869565216E-2},{"$f":"IF(AP32=0,0,(AP32*((LOG(AP32))/LOG(2))))","v":-0.19667660678508753},null,{"$f":"N32","v":22112},{"$f":"COUNTIF(L127:L150,AS32)","v":0},{"$f":"AT32/(AV4-AT25)","v":0},{"$f":"IF(AU32=0,0,(AU32*((LOG(AU32))/LOG(2))))","v":0}]
[21,4214,22,4229,13,4252,23,4260,13,4274,0,22121,null,22121,{"$f":"COUNTIF($L$7:$L$500,N33)","v":27},{"$f":"O33/$Q$4","v":0.1888111888111888},{"$f":"IF(P33=0,0,(P33*((LOG(P33))/LOG(2))))","v":-0.45408785688533465},null,null,{"$f":"N33","v":22121},{"$f":"COUNTIF(L7:L30,T33)","v":6},{"$f":"U33/(W4-U25)","v":0.25},{"$f":"IF(V33=0,0,(V33*((LOG(V33))/LOG(2))))","v":-0.5},null,{"$f":"N33","v":22121},{"$f":"COUNTIF(L31:L54,Y33)","v":7},{"$f":"Z33/(AB4-Z25)","v":0.30434782608695654},{"$f":"IF(AA33=0,0,(AA33*((LOG(AA33))/LOG(2))))","v":-0.52232387991286355},null,{"$f":"N33","v":22121},{"$f":"COUNTIF(L55:L78,AD33)","v":6},{"$f":"AE33/(AG4-AE25)","v":0.2608695652173913},{"$f":"IF(AF33=0,0,(AF33*((LOG(AF33))/LOG(2))))","v":-0.50572159704413644},null,{"$f":"N33","v":22121},{"$f":"COUNTIF(L79:L102,AI33)","v":1},{"$f":"AJ33/(AL4-AJ25)","v":4.1666666666666664E-2},{"$f":"IF(AK33=0,0,(AK33*((LOG(AK33))/LOG(2))))","v":-0.19104010419671485},null,{"$f":"N33","v":22121},{"$f":"COUNTIF(L103:L126,AN33)","v":4},{"$f":"AO33/(AQ4-AO25)","v":0.17391304347826086},{"$f":"IF(AP33=0,0,(AP33*((LOG(AP33))/LOG(2))))","v":-0.43888034018382832},null,{"$f":"N33","v":22121},{"$f":"COUNTIF(L127:L150,AS33)","v":3},{"$f":"AT33/(AV4-AT25)","v":0.13043478260869565},{"$f":"IF(AU33=0,0,(AU33*((LOG(AU33))/LOG(2))))","v":-0.3832955811307639}]
[21,4392,22,4407,13,4419,23,4429,13,4442,0,22121,null,22122,{"$f":"COUNTIF($L$7:$L$500,N34)","v":1},{"$f":"O34/$Q$4","v":6.993006993006993E-3},{"$f":"IF(P34=0,0,(P34*((LOG(P34))/LOG(2))))","v":-5.0069030327121608E-2},null,null,{"$f":"N34","v":22122},{"$f":"COUNTIF(L7:L30,T34)","v":1},{"$f":"U34/(W4-U25)","v":4.1666666666666664E-2},{"$f":"IF(V34=0,0,(V34*((LOG(V34))/LOG(2))))","v":-0.19104010419671485},null,{"$f":"N34","v":22122},{"$f":"COUNTIF(L31:L54,Y34)","v":0},{"$f":"Z34/(AB4-Z25)","v":0},{"$f":"IF(AA34=0,0,(AA34*((LOG(AA34))/LOG(2))))","v":0},null,{"$f":"N34","v":22122},{"$f":"COUNTIF(L55:L78,AD34)","v":0},{"$f":"AE34/(AG4-AE25)","v":0},{"$f":"IF(AF34=0,0,(AF34*((LOG(AF34))/LOG(2))))","v":0},null,{"$f":"N34","v":22122},{"$f":"COUNTIF(L79:L102,AI34)","v":0},{"$f":"AJ34/(AL4-AJ25)","v":0},{"$f":"IF(AK34=0,0,(AK34*((LOG(AK34))/LOG(2))))","v":0},null,{"$f":"N34","v":22122},{"$f":"COUNTIF(L103:L126,AN34)","v":0},{"$f":"AO34/(AQ4-AO25)","v":0},{"$f":"IF(AP34=0,0,(AP34*((LOG(AP34))/LOG(2))))","v":0},null,{"$f":"N34","v":22122},{"$f":"COUNTIF(L127:L150,AS34)","v":0},{"$f":"AT34/(AV4-AT25)","v":0},{"$f":"IF(AU34=0,0,(AU34*((LOG(AU34))/LOG(2))))","v":0}]
[21,4559,22,4578,13,4589,23,4604,13,4615,0,22121,null,22211,{"$f":"COUNTIF($L$7:$L$500,N35)","v":2},{"$f":"O35/$Q$4","v":1.3986013986013986E-2},{"$f":"IF(P35=0,0,(P35*((LOG(P35))/LOG(2))))","v":-8.6152046668229218E-2},null,null,{"$f":"N35","v":22211},{"$f":"COUNTIF(L7:L30,T35)","v":1},{"$f":"U35/(W4-U25)","v":4.1666666666666664E-2},{"$f":"IF(V35=0,0,(V35*((LOG(V35))/LOG(2))))","v":-0.19104010419671485},null,{"$f":"N35","v":22211},{"$f":"COUNTIF(L31:L54,Y35)","v":0},{"$f":"Z35/(AB4-Z25)","v":0},{"$f":"IF(AA35=0,0,(AA35*((LOG(AA35))/LOG(2))))","v":0},null,{"$f":"N35","v":22211},{"$f":"COUNTIF(L55:L78,AD35)","v":0},{"$f":"AE35/(AG4-AE25)","v":0},{"$f":"IF(AF35=0,0,(AF35*((LOG(AF35))/LOG(2))))","v":0},null,{"$f":"N35","v":22211},{"$f":"COUNTIF(L79:L102,AI35)","v":0},{"$f":"AJ35/(AL4-AJ25)","v":0},{"$f":"IF(AK35=0,0,(AK35*((LOG(AK35))/LOG(2))))","v":0},null,{"$f":"N35","v":22211},{"$f":"COUNTIF(L103:L126,AN35)","v":1},{"$f":"AO35/(AQ4-AO25)","v":4.3478260869565216E-2},{"$f":"IF(AP35=0,0,(AP35*((LOG(AP35))/LOG(2))))","v":-0.19667660678508753},null,{"$f":"N35","v":22211},{"$f":"COUNTIF(L127:L150,AS35)","v":0},{"$f":"AT35/(AV4-AT25)","v":0},{"$f":"IF(AU35=0,0,(AU35*((LOG(AU35))/LOG(2))))","v":0}]
[21,4730,22,4736,24,4741,23,4757,13,4768,0,22221,null,22212,{"$f":"COUNTIF($L$7:$L$500,N36)","v":26},{"$f":"O36/$Q$4","v":0.18181818181818182},{"$f":"IF(P36=0,0,(P36*((LOG(P36))/LOG(2))))","v":-0.44716938520678134},null,null,{"$f":"N36","v":22212},{"$f":"COUNTIF(L7:L30,T36)","v":7},{"$f":"U36/(W4-U25)","v":0.29166666666666669},{"$f":"IF(V36=0,0,(V36*((LOG(V36))/LOG(2))))","v":-0.51846887711020273},null,{"$f":"N36","v":22212},{"$f":"COUNTIF(L31:L54,Y36)","v":7},{"$f":"Z36/(AB4-Z25)","v":0.30434782608695654},{"$f":"IF(AA36=0,0,(AA36*((LOG(AA36))/LOG(2))))","v":-0.52232387991286355},null,{"$f":"N36","v":22212},{"$f":"COUNTIF(L55:L78,AD36)","v":8},{"$f":"AE36/(AG4-AE25)","v":0.34782608695652173},{"$f":"IF(AF36=0,0,(AF36*((LOG(AF36))/LOG(2))))","v":-0.52993459341113491},null,{"$f":"N36","v":22212},{"$f":"COUNTIF(L79:L102,AI36)","v":3},{"$f":"AJ36/(AL4-AJ25)","v":0.125},{"$f":"IF(AK36=0,0,(AK36*((LOG(AK36))/LOG(2))))","v":-0.375},null,{"$f":"N36","v":22212},{"$f":"COUNTIF(L103:L126,AN36)","v":1},{"$f":"AO36/(AQ4-AO25)","v":4.3478260869565216E-2},{"$f":"IF(AP36=0,0,(AP36*((LOG(AP36))/LOG(2))))","v":-0.19667660678508753},null,{"$f":"N36","v":22212},{"$f":"COUNTIF(L127:L150,AS36)","v":0},{"$f":"AT36/(AV4-AT25)","v":0},{"$f":"IF(AU36=0,0,(AU36*((LOG(AU36))/LOG(2))))","v":0}]
[21,4872,22,4877,13,4888,23,4894,13,4907,0,22121,null,22221,{"$f":"COUNTIF($L$7:$L$500,N37)","v":7},{"$f":"O37/$Q$4","v":4.8951048951048952E-2},{"$f":"IF(P37=0,0,(P37*((LOG(P37))/LOG(2))))","v":-0.21306024407724125},null,null,{"$f":"N37","v":22221},{"$f":"COUNTIF(L7:L30,T37)","v":2},{"$f":"U37/(W4-U25)","v":8.3333333333333329E-2},{"$f":"IF(V37=0,0,(V37*((LOG(V37))/LOG(2))))","v":-0.29874687506009634},null,{"$f":"N37","v":22221},{"$f":"COUNTIF(L31:L54,Y37)","v":1},{"$f":"Z37/(AB4-Z25)","v":4.3478260869565216E-2},{"$f":"IF(AA37=0,0,(AA37*((LOG(AA37))/LOG(2))))","v":-0.19667660678508753},null,{"$f":"N37","v":22221},{"$f":"COUNTIF(L55:L78,AD37)","v":1},{"$f":"AE37/(AG4-AE25)","v":4.3478260869565216E-2},{"$f":"IF(AF37=0,0,(AF37*((LOG(AF37))/LOG(2))))","v":-0.19667660678508753},null,{"$f":"N37","v":22221},{"$f":"COUNTIF(L79:L102,AI37)","v":3},{"$f":"AJ37/(AL4-AJ25)","v":0.125},{"$f":"IF(AK37=0,0,(AK37*((LOG(AK37))/LOG(2))))","v":-0.375},null,{"$f":"N37","v":22221},{"$f":"COUNTIF(L103:L126,AN37)","v":0},{"$f":"AO37/(AQ4-AO25)","v":0},{"$f":"IF(AP37=0,0,(AP37*((LOG(AP37))/LOG(2))))","v":0},null,{"$f":"N37","v":22221},{"$f":"COUNTIF(L127:L150,AS37)","v":0},{"$f":"AT37/(AV4-AT25)","v":0},{"$f":"IF(AU37=0,0,(AU37*((LOG(AU37))/LOG(2))))","v":0}]
[12,5014,24,5023,13,5037,23,5047,13,5056,0,12121,null,22222,{"$f":"COUNTIF($L$7:$L$500,N38)","v":0},{"$f":"O38/$Q$4","v":0},{"$f":"IF(P38=0,0,(P38*((LOG(P38))/LOG(2))))","v":0},null,null,{"$f":"N38","v":22222},{"$f":"COUNTIF(L7:L30,T38)","v":0},{"$f":"U38/(W4-U25)","v":0},{"$f":"IF(V38=0,0,(V38*((LOG(V38))/LOG(2))))","v":0},null,{"$f":"N38","v":22222},{"$f":"COUNTIF(L31:L54,Y38)","v":0},{"$f":"Z38/(AB4-Z25)","v":0},{"$f":"IF(AA38=0,0,(AA38*((LOG(AA38))/LOG(2))))","v":0},null,{"$f":"N38","v":22222},{"$f":"COUNTIF(L55:L78,AD38)","v":0},{"$f":"AE38/(AG4-AE25)","v":0},{"$f":"IF(AF38=0,0,(AF38*((LOG(AF38))/LOG(2))))","v":0},null,{"$f":"N38","v":22222},{"$f":"COUNTIF(L79:L102,AI38)","v":0},{"$f":"AJ38/(AL4-AJ25)","v":0},{"$f":"IF(AK38=0,0,(AK38*((LOG(AK38))/LOG(2))))","v":0},null,{"$f":"N38","v":22222},{"$f":"COUNTIF(L103:L126,AN38)","v":0},{"$f":"AO38/(AQ4-AO25)","v":0},{"$f":"IF(AP38=0,0,(AP38*((LOG(AP38))/LOG(2))))","v":0},null,{"$f":"N38","v":22222},{"$f":"COUNTIF(L127:L150,AS38)","v":0},{"$f":"AT38/(AV4-AT25)","v":0},{"$f":"IF(AU38=0,0,(AU38*((LOG(AU38))/LOG(2))))","v":0}]
[21,5162,22,5171,24,5179,14,5194,24,5203,0,22212,null,null,null,{"$f":"SUM(P7:P38)","v":1},{"$f":"-SUM(Q7:Q38)","v":3.4923045870824558},null,null,null,null,{"$f":"SUM(V7:V38)","v":1},{"$f":"-SUM(W7:W38)","v":2.3903360647604437},null,null,null,{"$f":"SUM(AA7:AA38)","v":1},{"$f":"-SUM(AB7:AB38)","v":2.379954612195863},null,null,null,{"$f":"SUM(AF7:AF38)","v":1},{"$f":"-SUM(AG7:AG38)","v":2.4579195645645373},null,null,null,{"$f":"SUM(AK7:AK38)","v":1},{"$f":"-SUM(AL7:AL38)","v":2.9217897106839215},null,null,null,{"$f":"SUM(AP7:AP38)","v":0.99999999999999989},{"$f":"-SUM(AQ7:AQ38)","v":3.0337940209922127},null,null,null,{"$f":"SUM(AU7:AU38)","v":1},{"$f":"-SUM(AV7:AV38)","v":3.4685766296878646}]
[21,5317,22,5326,24,5347,14,5358,24,5372,0,22212,null,null,null,"U=",{"$f":"Q39/(LOG(Q4)/LOG(2))","v":0.48776080222886115},null,null,null,null,"U1=",{"$f":"W39/(LOG(W4)/LOG(2))","v":0.52134255501205828},null,null,null,"U2=",{"$f":"AB39/(LOG(AB4)/LOG(2))","v":0.51907831565067908},null,null,null,"U3=",{"$f":"AG39/(LOG(AG4)/LOG(2))","v":0.53608280638673445},null,null,null,"U4=",{"$f":"AL39/(LOG(AL4)/LOG(2))","v":0.63725487617932774},null,null,null,"U5=",{"$f":"AQ39/(LOG(AQ4)/LOG(2))","v":0.66168349697844542},null,null,null,"U6=",{"$f":"AV39/(LOG(AV4)/LOG(2))","v":0.76677995424456791}]
[21,5491,11,5510,22,5519,14,5530,24,5545,0,21212]
[21,5648,22,5656,13,5672,23,5681,13,5693,0,22121]
[21,5806,22,5810,24,5824,14,5836,24,5849,0,22212,null,"Total Target Seq"]
[21,5964,22,5986,13,5995,23,6007,13,6017,0,22121,null,{"$f":"COUNTIF(L7:L150,G3)","v":3},null,24,24,24,24,24,24]
[21,6122,22,6132,24,6136,14,6151,24,6162,0,22212,null,null,null,"% of reinforcement given in 6 equal intervals based on number of trials "]
[12,6300,13,6322,24,6335,14,6344,24,6360,0,11212,null,null,null,"%_1","%_2","%_3","%_4","%_5","%_6"]
[21,6462,11,6489,11,6497,21,6509,11,6521,1,21121,null,null,"target sequence",{"$f":"$G$3","v":21121},{"$f":"$G$3","v":21121},{"$f":"$G$3","v":21121},{"$f":"$G$3","v":21121},{"$f":"$G$3","v":21121},{"$f":"$G$3","v":21121}]
[21,6629,11,6640,22,6650,14,6662,24,6675,0,21212,null,null,"total reinforcement",{"$f":"U25","v":0},{"$f":"Z25","v":1},{"$f":"AE25","v":1},{"$f":"AJ25","v":0},{"$f":"AO25","v":1},{"$f":"AT25","v":0}]
[21,6781,22,6792,24,6811,14,6823,24,6836,0,22212,null,null,"% target"]
[12,6936,24,6947,24,6957,23,6980,13,6992,0,12221,null,null,"CCRF"]
[21,7103,22,7111,24,7130,14,7138,24,7150,0,22212,null,null,"% CCRf"]
[12,7253,24,7264,13,7278,23,7287,13,7298,0,12121,null,null,"average response rate",{"$f":"J30/P44","v":158.41666666666666},{"$f":"(J54-J30)/Q44","v":159.04166666666666},{"$f":"(J78-J54)/R44","v":151.70833333333334},{"$f":"(J102-J78)/S44","v":166.41666666666666},{"$f":"(J126-J102)/T44","v":172.58333333333334},{"$f":"(J150-J126)/U44","v":-808.16666666666663}]
[21,7401,11,7421,22,7427,14,7439,24,7450,0,21212]
[21,7555,11,7580,22,7593,14,7607,24,7619,0,21212]
[21,7756,22,7761,13,7775,23,7785,13,7797,0,22121]
[21,7900,22,7907,13,7918,23,7927,13,7939,0,22121]
[21,8049,22,8053,24,8067,14,8079,24,8088,0,22212]
[21,8196,22,8203,13,8216,23,8225,13,8234,0,22121]
[21,8343,22,8352,24,8358,14,8371,24,8380,0,22212]
[21,8482,22,8490,24,8498,14,8509,24,8518,0,22212]
[12,8624,24,8633,13,8643,23,8651,13,8664,0,12121]
[21,8765,22,8789,24,8809,14,8821,24,8834,0,22212]
[21,8939,11,8967,11,8968,21,8981,11,8993,1,21121]
[12,9082,24,9091,24,9099,14,9111,24,9124,0,12212]
[12,9221,24,9231,24,9249,14,9260,13,9269,0,12211]
[12,9372,24,9381,13,9392,23,9401,13,9413,0,12121]
[21,9541,22,9548,13,9559,23,9573,13,9584,0,22121]
[21,9711,22,9718,13,9729,23,9738,13,9751,0,22121]
[21,9849,22,9854,24,9861,14,9874,24,9883,0,22212]
[12,9983,13,9989,24,10001,14,10012,24,10022,0,11212]
[12,10117,24,10132,13,10141,23,10151,13,10163,0,12121]
[21,10268,22,10286,13,10298,23,10307,13,10320,0,22121]
[21,10435,22,10442,24,10461,14,10473,24,10486,0,22212]
[12,10594,24,10602,24,10607,23,10615,13,10628,0,12221]
[21,10736,22,10757,24,10775,14,10787,24,10801,0,22212]
[21,10901,22,10914,24,10919,23,10929,13,10941,0,22221]
[12,11066,24,11076,13,11091,23,11103,13,11116,0,12121]
[21,11214,22,11219,24,11236,14,11248,24,11260,0,22212]
[12,11362,24,11371,24,11391,14,11401,24,11415,0,12212]
[21,11513,22,11522,24,11527,23,11539,13,11552,0,22221]
[12,11649,24,11658,13,11668,23,11676,13,11688,0,12121]
[12,11792,13,11797,24,11812,14,11821,24,11835,0,11212]
[21,11941,22,11946,24,11953,23,11969,13,11980,0,22221]
[21,12084,22,12089,24,12098,14,12114,24,12126,0,22212]
[12,12233,24,12242,13,12253,23,12264,13,12277,0,12121]
[21,12381,22,12387,24,12406,14,12413,24,12425,0,22212]
[12,12544,24,12553,13,12564,23,12573,13,12585,0,12121]
[21,12709,11,12720,22,12726,14,12738,24,12751,0,21212]
[12,12871,24,12880,13,12889,23,12905,13,12914,0,12121]
[21,13049,22,13068,13,13086,23,13095,13,13108,0,22121]
[12,13265,24,13274,13,13284,23,13294,13,13305,0,12121]
[12,13406,24,13418,24,13426,14,13435,24,13443,0,12212]
[12,13567,24,13582,13,13592,23,13606,13,13618,0,12121]
[21,13721,22,13733,24,13738,23,13756,13,13768,0,22221]
[21,13905,11,13916,22,13924,14,13935,24,13946,0,21212]
[12,14045,13,14055,13,14060,14,14067,24,14080,0,11112]
[21,14243,11,14254,22,14268,14,14281,13,14295,0,21211]
[21,14429,11,14442,22,14448,14,14459,13,14469,0,21211]
[21,14627,11,14643,22,14655,14,14666,24,14679,0,21212]
[21,14828,22,14836,24,14856,14,14866,24,14879,0,22212]
[12,15027,13,15032,24,15045,14,15053,24,15066,0,11212]
[12,15217,24,15226,13,15235,23,15244,13,15254,0,12121]
[21,15387,22,15406,13,15416,23,15425,13,15437,0,22121]
[12,15549,13,15569,24,15578,14,15590,24,15602,0,11212]
[21,15732,11,15754,22,15764,14,15775,13,15798,0,21211]
[21,15927,11,15939,22,15948,14,15959,24,15969,0,21212]
[12,16109,13,16125,24,16132,14,16141,24,16154,0,11212]
[21,16308,22,16319,13,16328,23,16336,13,16347,0,22121]
[12,16448,24,16461,13,16469,14,16473,24,16485,0,12112]
[12,16601,24,16609,13,16622,23,16629,13,16639,0,12121]
[12,16808,24,16816,13,16826,14,16834,24,16846,0,12112]
[21,16998,22,17019,13,17026,23,17037,13,17048,0,22121]
[21,17151,22,17160,24,17179,14,17190,24,17198,0,22212]
[21,17352,11,17372,11,17379,21,17392,11,17404,1,21121]
[12,17510,24,17520,13,17531,23,17542,13,17552,0,12121]
[21,17654,22,17663,24,17691,14,17699,13,17706,0,22211]
[12,17810,13,17815,24,17824,14,17832,24,17844,0,11212]
[12,17984,13,17992,24,18002,14,18014,13,18024,0,11211]
[12,18159,24,18168,13,18180,23,18189,13,18200,0,12121]
[12,18335,24,18367,13,18383,23,18396,13,18411,0,12121]
[12,18507,13,18513,24,18524,14,18533,13,18538,0,11211]
[21,18663,11,18673,22,18681,14,18690,24,18702,0,21212]
[21,18839,22,18860,13,18869,14,18892,24,18907,0,22112]
[21,19025,22,19030,13,19042,23,19051,13,19063,0,22121]
[12,19169,24,19182,13,19192,23,19204,13,19216,0,12121]
[12,19356,24,19366,13,19377,23,19387,13,19396,0,12121]
[21,19502,11,19515,22,19523,14,19532,24,19548,0,21212]
[12,19709,24,19718,13,19728,14,19744,24,19757,0,12112]
[12,19872,13,19876,13,19883,14,19904,13,19912,0,11111]
[12,20008,13,20021,13,20028,23,20041,13,20051,0,11121]
[21,20212,11,20223,11,20232,12,20257,13,20266,0,21111]
[12,20394,24,20411,24,20429,14,20438,13,20446,0,12211]
[12,20568,13,20575,24,20587,14,20596,13,20605,0,11211]
[21,20749,11,20761,11,20771,12,20778,24,20791,0,21112]
[21,20936,22,20943,13,20955,23,20963,13,20972,0,22121]
[12,21142,24,21153,13,21163,23,21176,13,21188,0,12121]
[12,21334,24,21342,13,21351,23,21358,13,21369,0,12121]
[21,21524,11,21543,22,21551,14,21564,24,21576,0,21212]
[21,21859,11,21872,11,21885,12,21893,24,21908,0,21112]
[21,22050,22,22056,13,22065,23,22074,13,22083,0,22121]
[12,22214,24,22224,13,22233,23,22241,13,22252,0,12121]
[21,22389,11,22403,22,22412,14,22424,24,22433,0,21212]
[12,22601,24,22610,13,22619,14,22627,24,22641,0,12112]
[12,22806,13,22831,24,22840,14,22852,24,22864,0,11212]
[21,22998,22,23016,13,23027,23,23036,13,23044,0,22121]
[12,23180,24,23189,24,23207,14,23216,24,23227,0,12212]
[21,23389,11,23399,22,23408,14,23419,13,23428,0,21211]
[12,23579,24,23594,13,23604,23,23613,13,23622,0,12121]
[12,23767,24,23776,13,23785,14,23792,24,23805,0,12112]
[12,23980,24,23992,null,null,null,null,null,null,null,12]

{"sheet":"!N130910.091","index":13,"n_rows":86,"n_cols":48,"rows_kept":86,"cut":false,"hidden":false,"merged":[[4,39,4,42],[5,39,5,40],[4,44,4,47],[5,44,5,45],[4,24,4,27],[5,24,5,25],[4,29,4,32],[5,29,5,30],[4,34,4,37],[5,34,5,35],[1,1,1,2],[5,13,5,14],[42,13,42,14],[43,13,43,14],[4,19,4,22],[5,19,5,20]]}
["Report for:!N130910.091"]
["Date:","<date>"]
["Hen:","<hen>",null,null,null,"Correct Sequence",{"$f":"Start!J2","v":21121},null,null,null,null,null,null,null,null,"Total Sequences in Data",{"$f":"4994-COUNTBLANK(L7:L5000)","v":80},null,null,null,null,"Total Sequences in Block Data",{"$f":"COUNTA(L7:L19)","v":13},null,null,null,"Total Sequences in Block Data",{"$f":"COUNTA(L20:L33)","v":14},null,null,null,"Total Sequences in Block Data",{"$f":"COUNTA(L34:L46)","v":13},null,null,null,"Total Sequences in Block Data",{"$f":"COUNTA(L47:L59)","v":13},null,null,null,"Total Sequences in Block Data",{"$f":"COUNTA(L60:L73)","v":14},null,null,null,"Total Sequences in Block Data",{"$f":"COUNTA(L74:L86)","v":13}]
[null,null,null,null,null,null,null,null,null,null,null,null,null,null,null,"Total Sequences in Summary",{"$f":"SUM(O7:O38)","v":80},null,null,null,null,"Total Sequences in Block Summary",{"$f":"SUM(U7:U38)","v":13},null,null,null,"Total Sequences in Block Summary",{"$f":"SUM(Z7:Z38)","v":14},null,null,null,"Total Sequences in Block Summary",{"$f":"SUM(AE7:AE38)","v":13},null,null,null,"Total Sequences in Block Summary",{"$f":"SUM(AJ7:AJ38)","v":13},null,null,null,"Total Sequences in Block Summary",{"$f":"SUM(AO7:AO38)","v":14},null,null,null,"Total Sequences in Block Summary",{"$f":"SUM(AT7:AT38)","v":13}]
[null,null,null,null,null,null,null,null,null,null,null,null,null,null,null,null,null,null,null,"Block 1",null,null,null,null,"Block 2",null,null,null,null,"Block 3",null,null,null,null,"Block 4",null,null,null,null,"Block 5",null,null,null,null,"Block 6"]
["Sequence\nComponent\n1","Time\n1","Sequence\nComponent\n2","Time\n2","Sequence\nComponent\n3","Time\n3","Sequence\nComponent\n4","Time\n4","Sequence\nComponent\n5","Time\n5","Correct?\n0=No 1=Yes","Sequence",null,"Frequency",null,"Relative Frequency","Variability",null,null,"Frequency",null,"Relative Frequency","Variability",null,"Frequency",null,"Relative Frequency","Variability",null,"Frequency",null,"Relative Frequency","Variability",null,"Frequency",null,"Relative Frequency","Variability",null,"Frequency",null,"Relative Frequency","Variability",null,"Frequency",null,"Relative Frequency","Variability"]
[12,22,24,40,13,57,14,72,13,87,0,12111,null,11111,{"$f":"COUNTIF($L$7:$L$500,N7)","v":15},{"$f":"O7/$Q$4","v":0.1875},{"$f":"IF(P7=0,0,(P7*((LOG(P7))/LOG(2))))","v":-0.45281953111478312},null,null,{"$f":"N7","v":11111},{"$f":"COUNTIF(L7:L19,T7)","v":0},{"$f":"U7/(W4-U25)","v":0},{"$f":"IF(V7=0,0,(V7*((LOG(V7))/LOG(2))))","v":0},null,{"$f":"N7","v":11111},{"$f":"COUNTIF(L20:L33,Y7)","v":0},{"$f":"Z7/(AB4-Z25)","v":0},{"$f":"IF(AA7=0,0,(AA7*((LOG(AA7))/LOG(2))))","v":0},null,{"$f":"N7","v":11111},{"$f":"COUNTIF(L34:L46,AD7)","v":2},{"$f":"AE7/(AG4-AE25)","v":0.15384615384615385},{"$f":"IF(AF7=0,0,(AF7*((LOG(AF7))/LOG(2))))","v":-0.4154522643293988},null,{"$f":"N7","v":11111},{"$f":"COUNTIF(L47:L59,AI7)","v":3},{"$f":"AJ7/(AL4-AJ25)","v":0.23076923076923078},{"$f":"IF(AK7=0,0,(AK7*((LOG(AK7))/LOG(2))))","v":-0.48818705017383146},null,{"$f":"N7","v":11111},{"$f":"COUNTIF(L60:L73,AN7)","v":4},{"$f":"AO7/(AQ4-AO25)","v":0.30769230769230771},{"$f":"IF(AP7=0,0,(AP7*((LOG(AP7))/LOG(2))))","v":-0.52321222096648989},null,{"$f":"N7","v":11111},{"$f":"COUNTIF(L74:L86,AS7)","v":6},{"$f":"AT7/(AV4-AT25)","v":0.46153846153846156},{"$f":"IF(AU7=0,0,(AU7*((LOG(AU7))/LOG(2))))","v":-0.51483563880920125}]
[21,210,22,222,13,240,23,253,24,276,0,22122,null,11112,{"$f":"COUNTIF($L$7:$L$500,N8)","v":3},{"$f":"O8/$Q$4","v":3.7499999999999999E-2},{"$f":"IF(P8=0,0,(P8*((LOG(P8))/LOG(2))))","v":-0.17763620978123273},null,null,{"$f":"N8","v":11112},{"$f":"COUNTIF(L7:L19,T8)","v":0},{"$f":"U8/(W4-U25)","v":0},{"$f":"IF(V8=0,0,(V8*((LOG(V8))/LOG(2))))","v":0},null,{"$f":"N8","v":11112},{"$f":"COUNTIF(L20:L33,Y8)","v":0},{"$f":"Z8/(AB4-Z25)","v":0},{"$f":"IF(AA8=0,0,(AA8*((LOG(AA8))/LOG(2))))","v":0},null,{"$f":"N8","v":11112},{"$f":"COUNTIF(L34:L46,AD8)","v":1},{"$f":"AE8/(AG4-AE25)","v":7.6923076923076927E-2},{"$f":"IF(AF8=0,0,(AF8*((LOG(AF8))/LOG(2))))","v":-0.28464920908777636},null,{"$f":"N8","v":11112},{"$f":"COUNTIF(L47:L59,AI8)","v":1},{"$f":"AJ8/(AL4-AJ25)","v":7.6923076923076927E-2},{"$f":"IF(AK8=0,0,(AK8*((LOG(AK8))/LOG(2))))","v":-0.28464920908777636},null,{"$f":"N8","v":11112},{"$f":"COUNTIF(L60:L73,AN8)","v":1},{"$f":"AO8/(AQ4-AO25)","v":7.6923076923076927E-2},{"$f":"IF(AP8=0,0,(AP8*((LOG(AP8))/LOG(2))))","v":-0.28464920908777636},null,{"$f":"N8","v":11112},{"$f":"COUNTIF(L74:L86,AS8)","v":0},{"$f":"AT8/(AV4-AT25)","v":0},{"$f":"IF(AU8=0,0,(AU8*((LOG(AU8))/LOG(2))))","v":0}]
[21,391,22,407,13,415,23,424,13,435,0,22121,null,11121,{"$f":"COUNTIF($L$7:$L$500,N9)","v":7},{"$f":"O9/$Q$4","v":8.7499999999999994E-2},{"$f":"IF(P9=0,0,(P9*((LOG(P9))/LOG(2))))","v":-0.30752515262260383},null,null,{"$f":"N9","v":11121},{"$f":"COUNTIF(L7:L19,T9)","v":1},{"$f":"U9/(W4-U25)","v":7.6923076923076927E-2},{"$f":"IF(V9=0,0,(V9*((LOG(V9))/LOG(2))))","v":-0.28464920908777636},null,{"$f":"N9","v":11121},{"$f":"COUNTIF(L20:L33,Y9)","v":1},{"$f":"Z9/(AB4-Z25)","v":7.1428571428571425E-2},{"$f":"IF(AA9=0,0,(AA9*((LOG(AA9))/LOG(2))))","v":-0.27195392300411453},null,{"$f":"N9","v":11121},{"$f":"COUNTIF(L34:L46,AD9)","v":2},{"$f":"AE9/(AG4-AE25)","v":0.15384615384615385},{"$f":"IF(AF9=0,0,(AF9*((LOG(AF9))/LOG(2))))","v":-0.4154522643293988},null,{"$f":"N9","v":11121},{"$f":"COUNTIF(L47:L59,AI9)","v":1},{"$f":"AJ9/(AL4-AJ25)","v":7.6923076923076927E-2},{"$f":"IF(AK9=0,0,(AK9*((LOG(AK9))/LOG(2))))","v":-0.28464920908777636},null,{"$f":"N9","v":11121},{"$f":"COUNTIF(L60:L73,AN9)","v":1},{"$f":"AO9/(AQ4-AO25)","v":7.6923076923076927E-2},{"$f":"IF(AP9=0,0,(AP9*((LOG(AP9))/LOG(2))))","v":-0.28464920908777636},null,{"$f":"N9","v":11121},{"$f":"COUNTIF(L74:L86,AS9)","v":1},{"$f":"AT9/(AV4-AT25)","v":7.6923076923076927E-2},{"$f":"IF(AU9=0,0,(AU9*((LOG(AU9))/LOG(2))))","v":-0.28464920908777636}]
[12,548,24,559,13,570,23,578,13,591,0,12121,null,11122,{"$f":"COUNTIF($L$7:$L$500,N10)","v":0},{"$f":"O10/$Q$4","v":0},{"$f":"IF(P10=0,0,(P10*((LOG(P10))/LOG(2))))","v":0},null,null,{"$f":"N10","v":11122},{"$f":"COUNTIF(L7:L19,T10)","v":0},{"$f":"U10/(W4-U25)","v":0},{"$f":"IF(V10=0,0,(V10*((LOG(V10))/LOG(2))))","v":0},null,{"$f":"N10","v":11122},{"$f":"COUNTIF(L20:L33,Y10)","v":0},{"$f":"Z10/(AB4-Z25)","v":0},{"$f":"IF(AA10=0,0,(AA10*((LOG(AA10))/LOG(2))))","v":0},null,{"$f":"N10","v":11122},{"$f":"COUNTIF(L34:L46,AD10)","v":0},{"$f":"AE10/(AG4-AE25)","v":0},{"$f":"IF(AF10=0,0,(AF10*((LOG(AF10))/LOG(2))))","v":0},null,{"$f":"N10","v":11122},{"$f":"COUNTIF(L47:L59,AI10)","v":0},{"$f":"AJ10/(AL4-AJ25)","v":0},{"$f":"IF(AK10=0,0,(AK10*((LOG(AK10))/LOG(2))))","v":0},null,{"$f":"N10","v":11122},{"$f":"COUNTIF(L60:L73,AN10)","v":0},{"$f":"AO10/(AQ4-AO25)","v":0},{"$f":"IF(AP10=0,0,(AP10*((LOG(AP10))/LOG(2))))","v":0},null,{"$f":"N10","v":11122},{"$f":"COUNTIF(L74:L86,AS10)","v":0},{"$f":"AT10/(AV4-AT25)","v":0},{"$f":"IF(AU10=0,0,(AU10*((LOG(AU10))/LOG(2))))","v":0}]
[12,707,24,717,13,727,14,735,24,748,0,12112,null,11211,{"$f":"COUNTIF($L$7:$L$500,N11)","v":11},{"$f":"O11/$Q$4","v":0.13750000000000001},{"$f":"IF(P11=0,0,(P11*((LOG(P11))/LOG(2))))","v":-0.39359326548438395},null,null,{"$f":"N11","v":11211},{"$f":"COUNTIF(L7:L19,T11)","v":1},{"$f":"U11/(W4-U25)","v":7.6923076923076927E-2},{"$f":"IF(V11=0,0,(V11*((LOG(V11))/LOG(2))))","v":-0.28464920908777636},null,{"$f":"N11","v":11211},{"$f":"COUNTIF(L20:L33,Y11)","v":4},{"$f":"Z11/(AB4-Z25)","v":0.2857142857142857},{"$f":"IF(AA11=0,0,(AA11*((LOG(AA11))/LOG(2))))","v":-0.51638712058788683},null,{"$f":"N11","v":11211},{"$f":"COUNTIF(L34:L46,AD11)","v":1},{"$f":"AE11/(AG4-AE25)","v":7.6923076923076927E-2},{"$f":"IF(AF11=0,0,(AF11*((LOG(AF11))/LOG(2))))","v":-0.28464920908777636},null,{"$f":"N11","v":11211},{"$f":"COUNTIF(L47:L59,AI11)","v":0},{"$f":"AJ11/(AL4-AJ25)","v":0},{"$f":"IF(AK11=0,0,(AK11*((LOG(AK11))/LOG(2))))","v":0},null,{"$f":"N11","v":11211},{"$f":"COUNTIF(L60:L73,AN11)","v":4},{"$f":"AO11/(AQ4-AO25)","v":0.30769230769230771},{"$f":"IF(AP11=0,0,(AP11*((LOG(AP11))/LOG(2))))","v":-0.52321222096648989},null,{"$f":"N11","v":11211},{"$f":"COUNTIF(L74:L86,AS11)","v":1},{"$f":"AT11/(AV4-AT25)","v":7.6923076923076927E-2},{"$f":"IF(AU11=0,0,(AU11*((LOG(AU11))/LOG(2))))","v":-0.28464920908777636}]
[12,882,24,897,13,909,14,924,24,938,0,12112,null,11212,{"$f":"COUNTIF($L$7:$L$500,N12)","v":6},{"$f":"O12/$Q$4","v":7.4999999999999997E-2},{"$f":"IF(P12=0,0,(P12*((LOG(P12))/LOG(2))))","v":-0.28027241956246546},null,null,{"$f":"N12","v":11212},{"$f":"COUNTIF(L7:L19,T12)","v":0},{"$f":"U12/(W4-U25)","v":0},{"$f":"IF(V12=0,0,(V12*((LOG(V12))/LOG(2))))","v":0},null,{"$f":"N12","v":11212},{"$f":"COUNTIF(L20:L33,Y12)","v":1},{"$f":"Z12/(AB4-Z25)","v":7.1428571428571425E-2},{"$f":"IF(AA12=0,0,(AA12*((LOG(AA12))/LOG(2))))","v":-0.27195392300411453},null,{"$f":"N12","v":11212},{"$f":"COUNTIF(L34:L46,AD12)","v":1},{"$f":"AE12/(AG4-AE25)","v":7.6923076923076927E-2},{"$f":"IF(AF12=0,0,(AF12*((LOG(AF12))/LOG(2))))","v":-0.28464920908777636},null,{"$f":"N12","v":11212},{"$f":"COUNTIF(L47:L59,AI12)","v":2},{"$f":"AJ12/(AL4-AJ25)","v":0.15384615384615385},{"$f":"IF(AK12=0,0,(AK12*((LOG(AK12))/LOG(2))))","v":-0.4154522643293988},null,{"$f":"N12","v":11212},{"$f":"COUNTIF(L60:L73,AN12)","v":0},{"$f":"AO12/(AQ4-AO25)","v":0},{"$f":"IF(AP12=0,0,(AP12*((LOG(AP12))/LOG(2))))","v":0},null,{"$f":"N12","v":11212},{"$f":"COUNTIF(L74:L86,AS12)","v":2},{"$f":"AT12/(AV4-AT25)","v":0.15384615384615385},{"$f":"IF(AU12=0,0,(AU12*((LOG(AU12))/LOG(2))))","v":-0.4154522643293988}]
[12,1064,13,1072,24,1085,14,1107,13,1122,0,11211,null,11221,{"$f":"COUNTIF($L$7:$L$500,N13)","v":0},{"$f":"O13/$Q$4","v":0},{"$f":"IF(P13=0,0,(P13*((LOG(P13))/LOG(2))))","v":0},null,null,{"$f":"N13","v":11221},{"$f":"COUNTIF(L7:L19,T13)","v":0},{"$f":"U13/(W4-U25)","v":0},{"$f":"IF(V13=0,0,(V13*((LOG(V13))/LOG(2))))","v":0},null,{"$f":"N13","v":11221},{"$f":"COUNTIF(L20:L33,Y13)","v":0},{"$f":"Z13/(AB4-Z25)","v":0},{"$f":"IF(AA13=0,0,(AA13*((LOG(AA13))/LOG(2))))","v":0},null,{"$f":"N13","v":11221},{"$f":"COUNTIF(L34:L46,AD13)","v":0},{"$f":"AE13/(AG4-AE25)","v":0},{"$f":"IF(AF13=0,0,(AF13*((LOG(AF13))/LOG(2))))","v":0},null,{"$f":"N13","v":11221},{"$f":"COUNTIF(L47:L59,AI13)","v":0},{"$f":"AJ13/(AL4-AJ25)","v":0},{"$f":"IF(AK13=0,0,(AK13*((LOG(AK13))/LOG(2))))","v":0},null,{"$f":"N13","v":11221},{"$f":"COUNTIF(L60:L73,AN13)","v":0},{"$f":"AO13/(AQ4-AO25)","v":0},{"$f":"IF(AP13=0,0,(AP13*((LOG(AP13))/LOG(2))))","v":0},null,{"$f":"N13","v":11221},{"$f":"COUNTIF(L74:L86,AS13)","v":0},{"$f":"AT13/(AV4-AT25)","v":0},{"$f":"IF(AU13=0,0,(AU13*((LOG(AU13))/LOG(2))))","v":0}]
[21,1242,11,1255,22,1262,14,1274,24,1283,0,21212,null,11222,{"$f":"COUNTIF($L$7:$L$500,N14)","v":0},{"$f":"O14/$Q$4","v":0},{"$f":"IF(P14=0,0,(P14*((LOG(P14))/LOG(2))))","v":0},null,null,{"$f":"N14","v":11222},{"$f":"COUNTIF(L7:L19,T14)","v":0},{"$f":"U14/(W4-U25)","v":0},{"$f":"IF(V14=0,0,(V14*((LOG(V14))/LOG(2))))","v":0},null,{"$f":"N14","v":11222},{"$f":"COUNTIF(L20:L33,Y14)","v":0},{"$f":"Z14/(AB4-Z25)","v":0},{"$f":"IF(AA14=0,0,(AA14*((LOG(AA14))/LOG(2))))","v":0},null,{"$f":"N14","v":11222},{"$f":"COUNTIF(L34:L46,AD14)","v":0},{"$f":"AE14/(AG4-AE25)","v":0},{"$f":"IF(AF14=0,0,(AF14*((LOG(AF14))/LOG(2))))","v":0},null,{"$f":"N14","v":11222},{"$f":"COUNTIF(L47:L59,AI14)","v":0},{"$f":"AJ14/(AL4-AJ25)","v":0},{"$f":"IF(AK14=0,0,(AK14*((LOG(AK14))/LOG(2))))","v":0},null,{"$f":"N14","v":11222},{"$f":"COUNTIF(L60:L73,AN14)","v":0},{"$f":"AO14/(AQ4-AO25)","v":0},{"$f":"IF(AP14=0,0,(AP14*((LOG(AP14))/LOG(2))))","v":0},null,{"$f":"N14","v":11222},{"$f":"COUNTIF(L74:L86,AS14)","v":0},{"$f":"AT14/(AV4-AT25)","v":0},{"$f":"IF(AU14=0,0,(AU14*((LOG(AU14))/LOG(2))))","v":0}]
[12,1397,13,1407,13,1414,23,1430,13,1442,0,11121,null,12111,{"$f":"COUNTIF($L$7:$L$500,N15)","v":4},{"$f":"O15/$Q$4","v":0.05},{"$f":"IF(P15=0,0,(P15*((LOG(P15))/LOG(2))))","v":-0.21609640474436814},null,null,{"$f":"N15","v":12111},{"$f":"COUNTIF(L7:L19,T15)","v":1},{"$f":"U15/(W4-U25)","v":7.6923076923076927E-2},{"$f":"IF(V15=0,0,(V15*((LOG(V15))/LOG(2))))","v":-0.28464920908777636},null,{"$f":"N15","v":12111},{"$f":"COUNTIF(L20:L33,Y15)","v":1},{"$f":"Z15/(AB4-Z25)","v":7.1428571428571425E-2},{"$f":"IF(AA15=0,0,(AA15*((LOG(AA15))/LOG(2))))","v":-0.27195392300411453},null,{"$f":"N15","v":12111},{"$f":"COUNTIF(L34:L46,AD15)","v":0},{"$f":"AE15/(AG4-AE25)","v":0},{"$f":"IF(AF15=0,0,(AF15*((LOG(AF15))/LOG(2))))","v":0},null,{"$f":"N15","v":12111},{"$f":"COUNTIF(L47:L59,AI15)","v":1},{"$f":"AJ15/(AL4-AJ25)","v":7.6923076923076927E-2},{"$f":"IF(AK15=0,0,(AK15*((LOG(AK15))/LOG(2))))","v":-0.28464920908777636},null,{"$f":"N15","v":12111},{"$f":"COUNTIF(L60:L73,AN15)","v":1},{"$f":"AO15/(AQ4-AO25)","v":7.6923076923076927E-2},{"$f":"IF(AP15=0,0,(AP15*((LOG(AP15))/LOG(2))))","v":-0.28464920908777636},null,{"$f":"N15","v":12111},{"$f":"COUNTIF(L74:L86,AS15)","v":0},{"$f":"AT15/(AV4-AT25)","v":0},{"$f":"IF(AU15=0,0,(AU15*((LOG(AU15))/LOG(2))))","v":0}]
[21,1600,11,1613,22,1625,14,1638,13,1653,0,21211,null,12112,{"$f":"COUNTIF($L$7:$L$500,N16)","v":5},{"$f":"O16/$Q$4","v":6.25E-2},{"$f":"IF(P16=0,0,(P16*((LOG(P16))/LOG(2))))","v":-0.25},null,null,{"$f":"N16","v":12112},{"$f":"COUNTIF(L7:L19,T16)","v":2},{"$f":"U16/(W4-U25)","v":0.15384615384615385},{"$f":"IF(V16=0,0,(V16*((LOG(V16))/LOG(2))))","v":-0.4154522643293988},null,{"$f":"N16","v":12112},{"$f":"COUNTIF(L20:L33,Y16)","v":0},{"$f":"Z16/(AB4-Z25)","v":0},{"$f":"IF(AA16=0,0,(AA16*((LOG(AA16))/LOG(2))))","v":0},null,{"$f":"N16","v":12112},{"$f":"COUNTIF(L34:L46,AD16)","v":2},{"$f":"AE16/(AG4-AE25)","v":0.15384615384615385},{"$f":"IF(AF16=0,0,(AF16*((LOG(AF16))/LOG(2))))","v":-0.4154522643293988},null,{"$f":"N16","v":12112},{"$f":"COUNTIF(L47:L59,AI16)","v":0},{"$f":"AJ16/(AL4-AJ25)","v":0},{"$f":"IF(AK16=0,0,(AK16*((LOG(AK16))/LOG(2))))","v":0},null,{"$f":"N16","v":12112},{"$f":"COUNTIF(L60:L73,AN16)","v":1},{"$f":"AO16/(AQ4-AO25)","v":7.6923076923076927E-2},{"$f":"IF(AP16=0,0,(AP16*((LOG(AP16))/LOG(2))))","v":-0.28464920908777636},null,{"$f":"N16","v":12112},{"$f":"COUNTIF(L74:L86,AS16)","v":0},{"$f":"AT16/(AV4-AT25)","v":0},{"$f":"IF(AU16=0,0,(AU16*((LOG(AU16))/LOG(2))))","v":0}]
[21,1811,22,1819,13,1827,23,1837,13,1849,0,22121,null,12121,{"$f":"COUNTIF($L$7:$L$500,N17)","v":4},{"$f":"O17/$Q$4","v":0.05},{"$f":"IF(P17=0,0,(P17*((LOG(P17))/LOG(2))))","v":-0.21609640474436814},null,null,{"$f":"N17","v":12121},{"$f":"COUNTIF(L7:L19,T17)","v":1},{"$f":"U17/(W4-U25)","v":7.6923076923076927E-2},{"$f":"IF(V17=0,0,(V17*((LOG(V17))/LOG(2))))","v":-0.28464920908777636},null,{"$f":"N17","v":12121},{"$f":"COUNTIF(L20:L33,Y17)","v":1},{"$f":"Z17/(AB4-Z25)","v":7.1428571428571425E-2},{"$f":"IF(AA17=0,0,(AA17*((LOG(AA17))/LOG(2))))","v":-0.27195392300411453},null,{"$f":"N17","v":12121},{"$f":"COUNTIF(L34:L46,AD17)","v":0},{"$f":"AE17/(AG4-AE25)","v":0},{"$f":"IF(AF17=0,0,(AF17*((LOG(AF17))/LOG(2))))","v":0},null,{"$f":"N17","v":12121},{"$f":"COUNTIF(L47:L59,AI17)","v":2},{"$f":"AJ17/(AL4-AJ25)","v":0.15384615384615385},{"$f":"IF(AK17=0,0,(AK17*((LOG(AK17))/LOG(2))))","v":-0.4154522643293988},null,{"$f":"N17","v":12121},{"$f":"COUNTIF(L60:L73,AN17)","v":0},{"$f":"AO17/(AQ4-AO25)","v":0},{"$f":"IF(AP17=0,0,(AP17*((LOG(AP17))/LOG(2))))","v":0},null,{"$f":"N17","v":12121},{"$f":"COUNTIF(L74:L86,AS17)","v":0},{"$f":"AT17/(AV4-AT25)","v":0},{"$f":"IF(AU17=0,0,(AU17*((LOG(AU17))/LOG(2))))","v":0}]
[21,1987,22,2043,24,2050,14,2064,24,2077,0,22212,null,12122,{"$f":"COUNTIF($L$7:$L$500,N18)","v":0},{"$f":"O18/$Q$4","v":0},{"$f":"IF(P18=0,0,(P18*((LOG(P18))/LOG(2))))","v":0},null,null,{"$f":"N18","v":12122},{"$f":"COUNTIF(L7:L19,T18)","v":0},{"$f":"U18/(W4-U25)","v":0},{"$f":"IF(V18=0,0,(V18*((LOG(V18))/LOG(2))))","v":0},null,{"$f":"N18","v":12122},{"$f":"COUNTIF(L20:L33,Y18)","v":0},{"$f":"Z18/(AB4-Z25)","v":0},{"$f":"IF(AA18=0,0,(AA18*((LOG(AA18))/LOG(2))))","v":0},null,{"$f":"N18","v":12122},{"$f":"COUNTIF(L34:L46,AD18)","v":0},{"$f":"AE18/(AG4-AE25)","v":0},{"$f":"IF(AF18=0,0,(AF18*((LOG(AF18))/LOG(2))))","v":0},null,{"$f":"N18","v":12122},{"$f":"COUNTIF(L47:L59,AI18)","v":0},{"$f":"AJ18/(AL4-AJ25)","v":0},{"$f":"IF(AK18=0,0,(AK18*((LOG(AK18))/LOG(2))))","v":0},null,{"$f":"N18","v":12122},{"$f":"COUNTIF(L60:L73,AN18)","v":0},{"$f":"AO18/(AQ4-AO25)","v":0},{"$f":"IF(AP18=0,0,(AP18*((LOG(AP18))/LOG(2))))","v":0},null,{"$f":"N18","v":12122},{"$f":"COUNTIF(L74:L86,AS18)","v":0},{"$f":"AT18/(AV4-AT25)","v":0},{"$f":"IF(AU18=0,0,(AU18*((LOG(AU18))/LOG(2))))","v":0}]
[21,2197,11,2215,22,2224,14,2235,24,2246,0,21212,null,12211,{"$f":"COUNTIF($L$7:$L$500,N19)","v":2},{"$f":"O19/$Q$4","v":2.5000000000000001E-2},{"$f":"IF(P19=0,0,(P19*((LOG(P19))/LOG(2))))","v":-0.13304820237218404},null,null,{"$f":"N19","v":12211},{"$f":"COUNTIF(L7:L19,T19)","v":0},{"$f":"U19/(W4-U25)","v":0},{"$f":"IF(V19=0,0,(V19*((LOG(V19))/LOG(2))))","v":0},null,{"$f":"N19","v":12211},{"$f":"COUNTIF(L20:L33,Y19)","v":1},{"$f":"Z19/(AB4-Z25)","v":7.1428571428571425E-2},{"$f":"IF(AA19=0,0,(AA19*((LOG(AA19))/LOG(2))))","v":-0.27195392300411453},null,{"$f":"N19","v":12211},{"$f":"COUNTIF(L34:L46,AD19)","v":0},{"$f":"AE19/(AG4-AE25)","v":0},{"$f":"IF(AF19=0,0,(AF19*((LOG(AF19))/LOG(2))))","v":0},null,{"$f":"N19","v":12211},{"$f":"COUNTIF(L47:L59,AI19)","v":1},{"$f":"AJ19/(AL4-AJ25)","v":7.6923076923076927E-2},{"$f":"IF(AK19=0,0,(AK19*((LOG(AK19))/LOG(2))))","v":-0.28464920908777636},null,{"$f":"N19","v":12211},{"$f":"COUNTIF(L60:L73,AN19)","v":0},{"$f":"AO19/(AQ4-AO25)","v":0},{"$f":"IF(AP19=0,0,(AP19*((LOG(AP19))/LOG(2))))","v":0},null,{"$f":"N19","v":12211},{"$f":"COUNTIF(L74:L86,AS19)","v":0},{"$f":"AT19/(AV4-AT25)","v":0},{"$f":"IF(AU19=0,0,(AU19*((LOG(AU19))/LOG(2))))","v":0}]
[21,2409,11,2420,22,2432,14,2444,13,2455,0,21211,null,12212,{"$f":"COUNTIF($L$7:$L$500,N20)","v":1},{"$f":"O20/$Q$4","v":1.2500000000000001E-2},{"$f":"IF(P20=0,0,(P20*((LOG(P20))/LOG(2))))","v":-7.902410118609203E-2},null,null,{"$f":"N20","v":12212},{"$f":"COUNTIF(L7:L19,T20)","v":0},{"$f":"U20/(W4-U25)","v":0},{"$f":"IF(V20=0,0,(V20*((LOG(V20))/LOG(2))))","v":0},null,{"$f":"N20","v":12212},{"$f":"COUNTIF(L20:L33,Y20)","v":1},{"$f":"Z20/(AB4-Z25)","v":7.1428571428571425E-2},{"$f":"IF(AA20=0,0,(AA20*((LOG(AA20))/LOG(2))))","v":-0.27195392300411453},null,{"$f":"N20","v":12212},{"$f":"COUNTIF(L34:L46,AD20)","v":0},{"$f":"AE20/(AG4-AE25)","v":0},{"$f":"IF(AF20=0,0,(AF20*((LOG(AF20))/LOG(2))))","v":0},null,{"$f":"N20","v":12212},{"$f":"COUNTIF(L47:L59,AI20)","v":0},{"$f":"AJ20/(AL4-AJ25)","v":0},{"$f":"IF(AK20=0,0,(AK20*((LOG(AK20))/LOG(2))))","v":0},null,{"$f":"N20","v":12212},{"$f":"COUNTIF(L60:L73,AN20)","v":0},{"$f":"AO20/(AQ4-AO25)","v":0},{"$f":"IF(AP20=0,0,(AP20*((LOG(AP20))/LOG(2))))","v":0},null,{"$f":"N20","v":12212},{"$f":"COUNTIF(L74:L86,AS20)","v":0},{"$f":"AT20/(AV4-AT25)","v":0},{"$f":"IF(AU20=0,0,(AU20*((LOG(AU20))/LOG(2))))","v":0}]
[12,2597,13,2623,24,2634,14,2646,13,2662,0,11211,null,12221,{"$f":"COUNTIF($L$7:$L$500,N21)","v":1},{"$f":"O21/$Q$4","v":1.2500000000000001E-2},{"$f":"IF(P21=0,0,(P21*((LOG(P21))/LOG(2))))","v":-7.902410118609203E-2},null,null,{"$f":"N21","v":12221},{"$f":"COUNTIF(L7:L19,T21)","v":0},{"$f":"U21/(W4-U25)","v":0},{"$f":"IF(V21=0,0,(V21*((LOG(V21))/LOG(2))))","v":0},null,{"$f":"N21","v":12221},{"$f":"COUNTIF(L20:L33,Y21)","v":1},{"$f":"Z21/(AB4-Z25)","v":7.1428571428571425E-2},{"$f":"IF(AA21=0,0,(AA21*((LOG(AA21))/LOG(2))))","v":-0.27195392300411453},null,{"$f":"N21","v":12221},{"$f":"COUNTIF(L34:L46,AD21)","v":0},{"$f":"AE21/(AG4-AE25)","v":0},{"$f":"IF(AF21=0,0,(AF21*((LOG(AF21))/LOG(2))))","v":0},null,{"$f":"N21","v":12221},{"$f":"COUNTIF(L47:L59,AI21)","v":0},{"$f":"AJ21/(AL4-AJ25)","v":0},{"$f":"IF(AK21=0,0,(AK21*((LOG(AK21))/LOG(2))))","v":0},null,{"$f":"N21","v":12221},{"$f":"COUNTIF(L60:L73,AN21)","v":0},{"$f":"AO21/(AQ4-AO25)","v":0},{"$f":"IF(AP21=0,0,(AP21*((LOG(AP21))/LOG(2))))","v":0},null,{"$f":"N21","v":12221},{"$f":"COUNTIF(L74:L86,AS21)","v":0},{"$f":"AT21/(AV4-AT25)","v":0},{"$f":"IF(AU21=0,0,(AU21*((LOG(AU21))/LOG(2))))","v":0}]
[12,2791,13,2810,24,2827,14,2838,13,2845,0,11211,null,12222,{"$f":"COUNTIF($L$7:$L$500,N22)","v":0},{"$f":"O22/$Q$4","v":0},{"$f":"IF(P22=0,0,(P22*((LOG(P22))/LOG(2))))","v":0},null,null,{"$f":"N22","v":12222},{"$f":"COUNTIF(L7:L19,T22)","v":0},{"$f":"U22/(W4-U25)","v":0},{"$f":"IF(V22=0,0,(V22*((LOG(V22))/LOG(2))))","v":0},null,{"$f":"N22","v":12222},{"$f":"COUNTIF(L20:L33,Y22)","v":0},{"$f":"Z22/(AB4-Z25)","v":0},{"$f":"IF(AA22=0,0,(AA22*((LOG(AA22))/LOG(2))))","v":0},null,{"$f":"N22","v":12222},{"$f":"COUNTIF(L34:L46,AD22)","v":0},{"$f":"AE22/(AG4-AE25)","v":0},{"$f":"IF(AF22=0,0,(AF22*((LOG(AF22))/LOG(2))))","v":0},null,{"$f":"N22","v":12222},{"$f":"COUNTIF(L47:L59,AI22)","v":0},{"$f":"AJ22/(AL4-AJ25)","v":0},{"$f":"IF(AK22=0,0,(AK22*((LOG(AK22))/LOG(2))))","v":0},null,{"$f":"N22","v":12222},{"$f":"COUNTIF(L60:L73,AN22)","v":0},{"$f":"AO22/(AQ4-AO25)","v":0},{"$f":"IF(AP22=0,0,(AP22*((LOG(AP22))/LOG(2))))","v":0},null,{"$f":"N22","v":12222},{"$f":"COUNTIF(L74:L86,AS22)","v":0},{"$f":"AT22/(AV4-AT25)","v":0},{"$f":"IF(AU22=0,0,(AU22*((LOG(AU22))/LOG(2))))","v":0}]
[12,2969,13,2991,24,3002,14,3014,13,3043,0,11211,null,21111,{"$f":"COUNTIF($L$7:$L$500,N23)","v":1},{"$f":"O23/$Q$4","v":1.2500000000000001E-2},{"$f":"IF(P23=0,0,(P23*((LOG(P23))/LOG(2))))","v":-7.902410118609203E-2},null,null,{"$f":"N23","v":21111},{"$f":"COUNTIF(L7:L19,T23)","v":0},{"$f":"U23/(W4-U25)","v":0},{"$f":"IF(V23=0,0,(V23*((LOG(V23))/LOG(2))))","v":0},null,{"$f":"N23","v":21111},{"$f":"COUNTIF(L20:L33,Y23)","v":0},{"$f":"Z23/(AB4-Z25)","v":0},{"$f":"IF(AA23=0,0,(AA23*((LOG(AA23))/LOG(2))))","v":0},null,{"$f":"N23","v":21111},{"$f":"COUNTIF(L34:L46,AD23)","v":0},{"$f":"AE23/(AG4-AE25)","v":0},{"$f":"IF(AF23=0,0,(AF23*((LOG(AF23))/LOG(2))))","v":0},null,{"$f":"N23","v":21111},{"$f":"COUNTIF(L47:L59,AI23)","v":0},{"$f":"AJ23/(AL4-AJ25)","v":0},{"$f":"IF(AK23=0,0,(AK23*((LOG(AK23))/LOG(2))))","v":0},null,{"$f":"N23","v":21111},{"$f":"COUNTIF(L60:L73,AN23)","v":0},{"$f":"AO23/(AQ4-AO25)","v":0},{"$f":"IF(AP23=0,0,(AP23*((LOG(AP23))/LOG(2))))","v":0},null,{"$f":"N23","v":21111},{"$f":"COUNTIF(L74:L86,AS23)","v":1},{"$f":"AT23/(AV4-AT25)","v":7.6923076923076927E-2},{"$f":"IF(AU23=0,0,(AU23*((LOG(AU23))/LOG(2))))","v":-0.28464920908777636}]
[12,3197,24,3207,24,3214,14,3226,24,3238,0,12212,null,21112,{"$f":"COUNTIF($L$7:$L$500,N24)","v":3},{"$f":"O24/$Q$4","v":3.7499999999999999E-2},{"$f":"IF(P24=0,0,(P24*((LOG(P24))/LOG(2))))","v":-0.17763620978123273},null,null,{"$f":"N24","v":21112},{"$f":"COUNTIF(L7:L19,T24)","v":0},{"$f":"U24/(W4-U25)","v":0},{"$f":"IF(V24=0,0,(V24*((LOG(V24))/LOG(2))))","v":0},null,{"$f":"N24","v":21112},{"$f":"COUNTIF(L20:L33,Y24)","v":1},{"$f":"Z24/(AB4-Z25)","v":7.1428571428571425E-2},{"$f":"IF(AA24=0,0,(AA24*((LOG(AA24))/LOG(2))))","v":-0.27195392300411453},null,{"$f":"N24","v":21112},{"$f":"COUNTIF(L34:L46,AD24)","v":1},{"$f":"AE24/(AG4-AE25)","v":7.6923076923076927E-2},{"$f":"IF(AF24=0,0,(AF24*((LOG(AF24))/LOG(2))))","v":-0.28464920908777636},null,{"$f":"N24","v":21112},{"$f":"COUNTIF(L47:L59,AI24)","v":0},{"$f":"AJ24/(AL4-AJ25)","v":0},{"$f":"IF(AK24=0,0,(AK24*((LOG(AK24))/LOG(2))))","v":0},null,{"$f":"N24","v":21112},{"$f":"COUNTIF(L60:L73,AN24)","v":0},{"$f":"AO24/(AQ4-AO25)","v":0},{"$f":"IF(AP24=0,0,(AP24*((LOG(AP24))/LOG(2))))","v":0},null,{"$f":"N24","v":21112},{"$f":"COUNTIF(L74:L86,AS24)","v":1},{"$f":"AT24/(AV4-AT25)","v":7.6923076923076927E-2},{"$f":"IF(AU24=0,0,(AU24*((LOG(AU24))/LOG(2))))","v":-0.28464920908777636}]
[12,3343,13,3348,13,3355,23,3370,13,3390,0,11121,null,21121,{"$f":"COUNTIF($L$7:$L$500,N25)","v":1},{"$f":"O25/$Q$4","v":1.2500000000000001E-2},{"$f":"IF(P25=0,0,(P25*((LOG(P25))/LOG(2))))","v":-7.902410118609203E-2},null,null,{"$f":"N25","v":21121},{"$f":"COUNTIF(L7:L19,T25)","v":0},null,null,null,{"$f":"N25","v":21121},{"$f":"COUNTIF(L20:L33,Y25)","v":0},null,null,null,{"$f":"N25","v":21121},{"$f":"COUNTIF(L34:L46,AD25)","v":0},null,null,null,{"$f":"N25","v":21121},{"$f":"COUNTIF(L47:L59,AI25)","v":0},null,null,null,{"$f":"N25","v":21121},{"$f":"COUNTIF(L60:L73,AN25)","v":1},null,null,null,{"$f":"N25","v":21121},{"$f":"COUNTIF(L74:L86,AS25)","v":0}]
[12,3515,13,3522,24,3531,14,3541,13,3547,0,11211,null,21122,{"$f":"COUNTIF($L$7:$L$500,N26)","v":0},{"$f":"O26/$Q$4","v":0},{"$f":"IF(P26=0,0,(P26*((LOG(P26))/LOG(2))))","v":0},null,null,{"$f":"N26","v":21122},{"$f":"COUNTIF(L7:L19,T26)","v":0},{"$f":"U26/(W4-U25)","v":0},{"$f":"IF(V26=0,0,(V26*((LOG(V26))/LOG(2))))","v":0},null,{"$f":"N26","v":21122},{"$f":"COUNTIF(L20:L33,Y26)","v":0},{"$f":"Z26/(AB4-Z25)","v":0},{"$f":"IF(AA26=0,0,(AA26*((LOG(AA26))/LOG(2))))","v":0},null,{"$f":"N26","v":21122},{"$f":"COUNTIF(L34:L46,AD26)","v":0},{"$f":"AE26/(AG4-AE25)","v":0},{"$f":"IF(AF26=0,0,(AF26*((LOG(AF26))/LOG(2))))","v":0},null,{"$f":"N26","v":21122},{"$f":"COUNTIF(L47:L59,AI26)","v":0},{"$f":"AJ26/(AL4-AJ25)","v":0},{"$f":"IF(AK26=0,0,(AK26*((LOG(AK26))/LOG(2))))","v":0},null,{"$f":"N26","v":21122},{"$f":"COUNTIF(L60:L73,AN26)","v":0},{"$f":"AO26/(AQ4-AO25)","v":0},{"$f":"IF(AP26=0,0,(AP26*((LOG(AP26))/LOG(2))))","v":0},null,{"$f":"N26","v":21122},{"$f":"COUNTIF(L74:L86,AS26)","v":0},{"$f":"AT26/(AV4-AT25)","v":0},{"$f":"IF(AU26=0,0,(AU26*((LOG(AU26))/LOG(2))))","v":0}]
[12,3700,24,3710,13,3722,14,3735,13,3745,0,12111,null,21211,{"$f":"COUNTIF($L$7:$L$500,N27)","v":4},{"$f":"O27/$Q$4","v":0.05},{"$f":"IF(P27=0,0,(P27*((LOG(P27))/LOG(2))))","v":-0.21609640474436814},null,null,{"$f":"N27","v":21211},{"$f":"COUNTIF(L7:L19,T27)","v":1},{"$f":"U27/(W4-U25)","v":7.6923076923076927E-2},{"$f":"IF(V27=0,0,(V27*((LOG(V27))/LOG(2))))","v":-0.28464920908777636},null,{"$f":"N27","v":21211},{"$f":"COUNTIF(L20:L33,Y27)","v":2},{"$f":"Z27/(AB4-Z25)","v":0.14285714285714285},{"$f":"IF(AA27=0,0,(AA27*((LOG(AA27))/LOG(2))))","v":-0.40105070315108626},null,{"$f":"N27","v":21211},{"$f":"COUNTIF(L34:L46,AD27)","v":1},{"$f":"AE27/(AG4-AE25)","v":7.6923076923076927E-2},{"$f":"IF(AF27=0,0,(AF27*((LOG(AF27))/LOG(2))))","v":-0.28464920908777636},null,{"$f":"N27","v":21211},{"$f":"COUNTIF(L47:L59,AI27)","v":0},{"$f":"AJ27/(AL4-AJ25)","v":0},{"$f":"IF(AK27=0,0,(AK27*((LOG(AK27))/LOG(2))))","v":0},null,{"$f":"N27","v":21211},{"$f":"COUNTIF(L60:L73,AN27)","v":0},{"$f":"AO27/(AQ4-AO25)","v":0},{"$f":"IF(AP27=0,0,(AP27*((LOG(AP27))/LOG(2))))","v":0},null,{"$f":"N27","v":21211},{"$f":"COUNTIF(L74:L86,AS27)","v":0},{"$f":"AT27/(AV4-AT25)","v":0},{"$f":"IF(AU27=0,0,(AU27*((LOG(AU27))/LOG(2))))","v":0}]
[21,3882,11,3891,11,3901,12,3909,24,3921,0,21112,null,21212,{"$f":"COUNTIF($L$7:$L$500,N28)","v":2},{"$f":"O28/$Q$4","v":2.5000000000000001E-2},{"$f":"IF(P28=0,0,(P28*((LOG(P28))/LOG(2))))","v":-0.13304820237218404},null,null,{"$f":"N28","v":21212},{"$f":"COUNTIF(L7:L19,T28)","v":2},{"$f":"U28/(W4-U25)","v":0.15384615384615385},{"$f":"IF(V28=0,0,(V28*((LOG(V28))/LOG(2))))","v":-0.4154522643293988},null,{"$f":"N28","v":21212},{"$f":"COUNTIF(L20:L33,Y28)","v":0},{"$f":"Z28/(AB4-Z25)","v":0},{"$f":"IF(AA28=0,0,(AA28*((LOG(AA28))/LOG(2))))","v":0},null,{"$f":"N28","v":21212},{"$f":"COUNTIF(L34:L46,AD28)","v":0},{"$f":"AE28/(AG4-AE25)","v":0},{"$f":"IF(AF28=0,0,(AF28*((LOG(AF28))/LOG(2))))","v":0},null,{"$f":"N28","v":21212},{"$f":"COUNTIF(L47:L59,AI28)","v":0},{"$f":"AJ28/(AL4-AJ25)","v":0},{"$f":"IF(AK28=0,0,(AK28*((LOG(AK28))/LOG(2))))","v":0},null,{"$f":"N28","v":21212},{"$f":"COUNTIF(L60:L73,AN28)","v":0},{"$f":"AO28/(AQ4-AO25)","v":0},{"$f":"IF(AP28=0,0,(AP28*((LOG(AP28))/LOG(2))))","v":0},null,{"$f":"N28","v":21212},{"$f":"COUNTIF(L74:L86,AS28)","v":0},{"$f":"AT28/(AV4-AT25)","v":0},{"$f":"IF(AU28=0,0,(AU28*((LOG(AU28))/LOG(2))))","v":0}]
[12,4086,13,4111,24,4122,14,4135,24,4147,0,11212,null,21221,{"$f":"COUNTIF($L$7:$L$500,N29)","v":0},{"$f":"O29/$Q$4","v":0},{"$f":"IF(P29=0,0,(P29*((LOG(P29))/LOG(2))))","v":0},null,null,{"$f":"N29","v":21221},{"$f":"COUNTIF(L7:L19,T29)","v":0},{"$f":"U29/(W4-U25)","v":0},{"$f":"IF(V29=0,0,(V29*((LOG(V29))/LOG(2))))","v":0},null,{"$f":"N29","v":21221},{"$f":"COUNTIF(L20:L33,Y29)","v":0},{"$f":"Z29/(AB4-Z25)","v":0},{"$f":"IF(AA29=0,0,(AA29*((LOG(AA29))/LOG(2))))","v":0},null,{"$f":"N29","v":21221},{"$f":"COUNTIF(L34:L46,AD29)","v":0},{"$f":"AE29/(AG4-AE25)","v":0},{"$f":"IF(AF29=0,0,(AF29*((LOG(AF29))/LOG(2))))","v":0},null,{"$f":"N29","v":21221},{"$f":"COUNTIF(L47:L59,AI29)","v":0},{"$f":"AJ29/(AL4-AJ25)","v":0},{"$f":"IF(AK29=0,0,(AK29*((LOG(AK29))/LOG(2))))","v":0},null,{"$f":"N29","v":21221},{"$f":"COUNTIF(L60:L73,AN29)","v":0},{"$f":"AO29/(AQ4-AO25)","v":0},{"$f":"IF(AP29=0,0,(AP29*((LOG(AP29))/LOG(2))))","v":0},null,{"$f":"N29","v":21221},{"$f":"COUNTIF(L74:L86,AS29)","v":0},{"$f":"AT29/(AV4-AT25)","v":0},{"$f":"IF(AU29=0,0,(AU29*((LOG(AU29))/LOG(2))))","v":0}]
[21,4337,11,4355,22,4369,14,4388,13,4400,0,21211,null,21222,{"$f":"COUNTIF($L$7:$L$500,N30)","v":0},{"$f":"O30/$Q$4","v":0},{"$f":"IF(P30=0,0,(P30*((LOG(P30))/LOG(2))))","v":0},null,null,{"$f":"N30","v":21222},{"$f":"COUNTIF(L7:L19,T30)","v":0},{"$f":"U30/(W4-U25)","v":0},{"$f":"IF(V30=0,0,(V30*((LOG(V30))/LOG(2))))","v":0},null,{"$f":"N30","v":21222},{"$f":"COUNTIF(L20:L33,Y30)","v":0},{"$f":"Z30/(AB4-Z25)","v":0},{"$f":"IF(AA30=0,0,(AA30*((LOG(AA30))/LOG(2))))","v":0},null,{"$f":"N30","v":21222},{"$f":"COUNTIF(L34:L46,AD30)","v":0},{"$f":"AE30/(AG4-AE25)","v":0},{"$f":"IF(AF30=0,0,(AF30*((LOG(AF30))/LOG(2))))","v":0},null,{"$f":"N30","v":21222},{"$f":"COUNTIF(L47:L59,AI30)","v":0},{"$f":"AJ30/(AL4-AJ25)","v":0},{"$f":"IF(AK30=0,0,(AK30*((LOG(AK30))/LOG(2))))","v":0},null,{"$f":"N30","v":21222},{"$f":"COUNTIF(L60:L73,AN30)","v":0},{"$f":"AO30/(AQ4-AO25)","v":0},{"$f":"IF(AP30=0,0,(AP30*((LOG(AP30))/LOG(2))))","v":0},null,{"$f":"N30","v":21222},{"$f":"COUNTIF(L74:L86,AS30)","v":0},{"$f":"AT30/(AV4-AT25)","v":0},{"$f":"IF(AU30=0,0,(AU30*((LOG(AU30))/LOG(2))))","v":0}]
[12,4527,24,4537,24,4544,14,4554,13,4561,0,12211,null,22111,{"$f":"COUNTIF($L$7:$L$500,N31)","v":3},{"$f":"O31/$Q$4","v":3.7499999999999999E-2},{"$f":"IF(P31=0,0,(P31*((LOG(P31))/LOG(2))))","v":-0.17763620978123273},null,null,{"$f":"N31","v":22111},{"$f":"COUNTIF(L7:L19,T31)","v":0},{"$f":"U31/(W4-U25)","v":0},{"$f":"IF(V31=0,0,(V31*((LOG(V31))/LOG(2))))","v":0},null,{"$f":"N31","v":22111},{"$f":"COUNTIF(L20:L33,Y31)","v":0},{"$f":"Z31/(AB4-Z25)","v":0},{"$f":"IF(AA31=0,0,(AA31*((LOG(AA31))/LOG(2))))","v":0},null,{"$f":"N31","v":22111},{"$f":"COUNTIF(L34:L46,AD31)","v":0},{"$f":"AE31/(AG4-AE25)","v":0},{"$f":"IF(AF31=0,0,(AF31*((LOG(AF31))/LOG(2))))","v":0},null,{"$f":"N31","v":22111},{"$f":"COUNTIF(L47:L59,AI31)","v":2},{"$f":"AJ31/(AL4-AJ25)","v":0.15384615384615385},{"$f":"IF(AK31=0,0,(AK31*((LOG(AK31))/LOG(2))))","v":-0.4154522643293988},null,{"$f":"N31","v":22111},{"$f":"COUNTIF(L60:L73,AN31)","v":1},{"$f":"AO31/(AQ4-AO25)","v":7.6923076923076927E-2},{"$f":"IF(AP31=0,0,(AP31*((LOG(AP31))/LOG(2))))","v":-0.28464920908777636},null,{"$f":"N31","v":22111},{"$f":"COUNTIF(L74:L86,AS31)","v":0},{"$f":"AT31/(AV4-AT25)","v":0},{"$f":"IF(AU31=0,0,(AU31*((LOG(AU31))/LOG(2))))","v":0}]
[12,4681,24,4695,24,4704,23,4726,13,4735,0,12221,null,22112,{"$f":"COUNTIF($L$7:$L$500,N32)","v":0},{"$f":"O32/$Q$4","v":0},{"$f":"IF(P32=0,0,(P32*((LOG(P32))/LOG(2))))","v":0},null,null,{"$f":"N32","v":22112},{"$f":"COUNTIF(L7:L19,T32)","v":0},{"$f":"U32/(W4-U25)","v":0},{"$f":"IF(V32=0,0,(V32*((LOG(V32))/LOG(2))))","v":0},null,{"$f":"N32","v":22112},{"$f":"COUNTIF(L20:L33,Y32)","v":0},{"$f":"Z32/(AB4-Z25)","v":0},{"$f":"IF(AA32=0,0,(AA32*((LOG(AA32))/LOG(2))))","v":0},null,{"$f":"N32","v":22112},{"$f":"COUNTIF(L34:L46,AD32)","v":0},{"$f":"AE32/(AG4-AE25)","v":0},{"$f":"IF(AF32=0,0,(AF32*((LOG(AF32))/LOG(2))))","v":0},null,{"$f":"N32","v":22112},{"$f":"COUNTIF(L47:L59,AI32)","v":0},{"$f":"AJ32/(AL4-AJ25)","v":0},{"$f":"IF(AK32=0,0,(AK32*((LOG(AK32))/LOG(2))))","v":0},null,{"$f":"N32","v":22112},{"$f":"COUNTIF(L60:L73,AN32)","v":0},{"$f":"AO32/(AQ4-AO25)","v":0},{"$f":"IF(AP32=0,0,(AP32*((LOG(AP32))/LOG(2))))","v":0},null,{"$f":"N32","v":22112},{"$f":"COUNTIF(L74:L86,AS32)","v":0},{"$f":"AT32/(AV4-AT25)","v":0},{"$f":"IF(AU32=0,0,(AU32*((LOG(AU32))/LOG(2))))","v":0}]
[12,4854,24,4860,13,4877,23,4886,13,4899,0,12121,null,22121,{"$f":"COUNTIF($L$7:$L$500,N33)","v":3},{"$f":"O33/$Q$4","v":3.7499999999999999E-2},{"$f":"IF(P33=0,0,(P33*((LOG(P33))/LOG(2))))","v":-0.17763620978123273},null,null,{"$f":"N33","v":22121},{"$f":"COUNTIF(L7:L19,T33)","v":2},{"$f":"U33/(W4-U25)","v":0.15384615384615385},{"$f":"IF(V33=0,0,(V33*((LOG(V33))/LOG(2))))","v":-0.4154522643293988},null,{"$f":"N33","v":22121},{"$f":"COUNTIF(L20:L33,Y33)","v":0},{"$f":"Z33/(AB4-Z25)","v":0},{"$f":"IF(AA33=0,0,(AA33*((LOG(AA33))/LOG(2))))","v":0},null,{"$f":"N33","v":22121},{"$f":"COUNTIF(L34:L46,AD33)","v":1},{"$f":"AE33/(AG4-AE25)","v":7.6923076923076927E-2},{"$f":"IF(AF33=0,0,(AF33*((LOG(AF33))/LOG(2))))","v":-0.28464920908777636},null,{"$f":"N33","v":22121},{"$f":"COUNTIF(L47:L59,AI33)","v":0},{"$f":"AJ33/(AL4-AJ25)","v":0},{"$f":"IF(AK33=0,0,(AK33*((LOG(AK33))/LOG(2))))","v":0},null,{"$f":"N33","v":22121},{"$f":"COUNTIF(L60:L73,AN33)","v":0},{"$f":"AO33/(AQ4-AO25)","v":0},{"$f":"IF(AP33=0,0,(AP33*((LOG(AP33))/LOG(2))))","v":0},null,{"$f":"N33","v":22121},{"$f":"COUNTIF(L74:L86,AS33)","v":0},{"$f":"AT33/(AV4-AT25)","v":0},{"$f":"IF(AU33=0,0,(AU33*((LOG(AU33))/LOG(2))))","v":0}]
[12,5073,24,5082,13,5094,14,5102,24,5115,0,12112,null,22122,{"$f":"COUNTIF($L$7:$L$500,N34)","v":1},{"$f":"O34/$Q$4","v":1.2500000000000001E-2},{"$f":"IF(P34=0,0,(P34*((LOG(P34))/LOG(2))))","v":-7.902410118609203E-2},null,null,{"$f":"N34","v":22122},{"$f":"COUNTIF(L7:L19,T34)","v":1},{"$f":"U34/(W4-U25)","v":7.6923076923076927E-2},{"$f":"IF(V34=0,0,(V34*((LOG(V34))/LOG(2))))","v":-0.28464920908777636},null,{"$f":"N34","v":22122},{"$f":"COUNTIF(L20:L33,Y34)","v":0},{"$f":"Z34/(AB4-Z25)","v":0},{"$f":"IF(AA34=0,0,(AA34*((LOG(AA34))/LOG(2))))","v":0},null,{"$f":"N34","v":22122},{"$f":"COUNTIF(L34:L46,AD34)","v":0},{"$f":"AE34/(AG4-AE25)","v":0},{"$f":"IF(AF34=0,0,(AF34*((LOG(AF34))/LOG(2))))","v":0},null,{"$f":"N34","v":22122},{"$f":"COUNTIF(L47:L59,AI34)","v":0},{"$f":"AJ34/(AL4-AJ25)","v":0},{"$f":"IF(AK34=0,0,(AK34*((LOG(AK34))/LOG(2))))","v":0},null,{"$f":"N34","v":22122},{"$f":"COUNTIF(L60:L73,AN34)","v":0},{"$f":"AO34/(AQ4-AO25)","v":0},{"$f":"IF(AP34=0,0,(AP34*((LOG(AP34))/LOG(2))))","v":0},null,{"$f":"N34","v":22122},{"$f":"COUNTIF(L74:L86,AS34)","v":0},{"$f":"AT34/(AV4-AT25)","v":0},{"$f":"IF(AU34=0,0,(AU34*((LOG(AU34))/LOG(2))))","v":0}]
[21,5268,11,5280,11,5289,12,5299,24,5346,0,21112,null,22211,{"$f":"COUNTIF($L$7:$L$500,N35)","v":1},{"$f":"O35/$Q$4","v":1.2500000000000001E-2},{"$f":"IF(P35=0,0,(P35*((LOG(P35))/LOG(2))))","v":-7.902410118609203E-2},null,null,{"$f":"N35","v":22211},{"$f":"COUNTIF(L7:L19,T35)","v":0},{"$f":"U35/(W4-U25)","v":0},{"$f":"IF(V35=0,0,(V35*((LOG(V35))/LOG(2))))","v":0},null,{"$f":"N35","v":22211},{"$f":"COUNTIF(L20:L33,Y35)","v":0},{"$f":"Z35/(AB4-Z25)","v":0},{"$f":"IF(AA35=0,0,(AA35*((LOG(AA35))/LOG(2))))","v":0},null,{"$f":"N35","v":22211},{"$f":"COUNTIF(L34:L46,AD35)","v":0},{"$f":"AE35/(AG4-AE25)","v":0},{"$f":"IF(AF35=0,0,(AF35*((LOG(AF35))/LOG(2))))","v":0},null,{"$f":"N35","v":22211},{"$f":"COUNTIF(L47:L59,AI35)","v":0},{"$f":"AJ35/(AL4-AJ25)","v":0},{"$f":"IF(AK35=0,0,(AK35*((LOG(AK35))/LOG(2))))","v":0},null,{"$f":"N35","v":22211},{"$f":"COUNTIF(L60:L73,AN35)","v":0},{"$f":"AO35/(AQ4-AO25)","v":0},{"$f":"IF(AP35=0,0,(AP35*((LOG(AP35))/LOG(2))))","v":0},null,{"$f":"N35","v":22211},{"$f":"COUNTIF(L74:L86,AS35)","v":1},{"$f":"AT35/(AV4-AT25)","v":7.6923076923076927E-2},{"$f":"IF(AU35=0,0,(AU35*((LOG(AU35))/LOG(2))))","v":-0.28464920908777636}]
[12,5453,13,5461,24,5471,14,5481,24,5496,0,11212,null,22212,{"$f":"COUNTIF($L$7:$L$500,N36)","v":1},{"$f":"O36/$Q$4","v":1.2500000000000001E-2},{"$f":"IF(P36=0,0,(P36*((LOG(P36))/LOG(2))))","v":-7.902410118609203E-2},null,null,{"$f":"N36","v":22212},{"$f":"COUNTIF(L7:L19,T36)","v":1},{"$f":"U36/(W4-U25)","v":7.6923076923076927E-2},{"$f":"IF(V36=0,0,(V36*((LOG(V36))/LOG(2))))","v":-0.28464920908777636},null,{"$f":"N36","v":22212},{"$f":"COUNTIF(L20:L33,Y36)","v":0},{"$f":"Z36/(AB4-Z25)","v":0},{"$f":"IF(AA36=0,0,(AA36*((LOG(AA36))/LOG(2))))","v":0},null,{"$f":"N36","v":22212},{"$f":"COUNTIF(L34:L46,AD36)","v":0},{"$f":"AE36/(AG4-AE25)","v":0},{"$f":"IF(AF36=0,0,(AF36*((LOG(AF36))/LOG(2))))","v":0},null,{"$f":"N36","v":22212},{"$f":"COUNTIF(L47:L59,AI36)","v":0},{"$f":"AJ36/(AL4-AJ25)","v":0},{"$f":"IF(AK36=0,0,(AK36*((LOG(AK36))/LOG(2))))","v":0},null,{"$f":"N36","v":22212},{"$f":"COUNTIF(L60:L73,AN36)","v":0},{"$f":"AO36/(AQ4-AO25)","v":0},{"$f":"IF(AP36=0,0,(AP36*((LOG(AP36))/LOG(2))))","v":0},null,{"$f":"N36","v":22212},{"$f":"COUNTIF(L74:L86,AS36)","v":0},{"$f":"AT36/(AV4-AT25)","v":0},{"$f":"IF(AU36=0,0,(AU36*((LOG(AU36))/LOG(2))))","v":0}]
[12,5637,13,5650,13,5657,14,5662,13,5677,0,11111,null,22221,{"$f":"COUNTIF($L$7:$L$500,N37)","v":0},{"$f":"O37/$Q$4","v":0},{"$f":"IF(P37=0,0,(P37*((LOG(P37))/LOG(2))))","v":0},null,null,{"$f":"N37","v":22221},{"$f":"COUNTIF(L7:L19,T37)","v":0},{"$f":"U37/(W4-U25)","v":0},{"$f":"IF(V37=0,0,(V37*((LOG(V37))/LOG(2))))","v":0},null,{"$f":"N37","v":22221},{"$f":"COUNTIF(L20:L33,Y37)","v":0},{"$f":"Z37/(AB4-Z25)","v":0},{"$f":"IF(AA37=0,0,(AA37*((LOG(AA37))/LOG(2))))","v":0},null,{"$f":"N37","v":22221},{"$f":"COUNTIF(L34:L46,AD37)","v":0},{"$f":"AE37/(AG4-AE25)","v":0},{"$f":"IF(AF37=0,0,(AF37*((LOG(AF37))/LOG(2))))","v":0},null,{"$f":"N37","v":22221},{"$f":"COUNTIF(L47:L59,AI37)","v":0},{"$f":"AJ37/(AL4-AJ25)","v":0},{"$f":"IF(AK37=0,0,(AK37*((LOG(AK37))/LOG(2))))","v":0},null,{"$f":"N37","v":22221},{"$f":"COUNTIF(L60:L73,AN37)","v":0},{"$f":"AO37/(AQ4-AO25)","v":0},{"$f":"IF(AP37=0,0,(AP37*((LOG(AP37))/LOG(2))))","v":0},null,{"$f":"N37","v":22221},{"$f":"COUNTIF(L74:L86,AS37)","v":0},{"$f":"AT37/(AV4-AT25)","v":0},{"$f":"IF(AU37=0,0,(AU37*((LOG(AU37))/LOG(2))))","v":0}]
[12,5889,13,5898,13,5905,14,5934,13,5945,0,11111,null,22222,{"$f":"COUNTIF($L$7:$L$500,N38)","v":1},{"$f":"O38/$Q$4","v":1.2500000000000001E-2},{"$f":"IF(P38=0,0,(P38*((LOG(P38))/LOG(2))))","v":-7.902410118609203E-2},null,null,{"$f":"N38","v":22222},{"$f":"COUNTIF(L7:L19,T38)","v":0},{"$f":"U38/(W4-U25)","v":0},{"$f":"IF(V38=0,0,(V38*((LOG(V38))/LOG(2))))","v":0},null,{"$f":"N38","v":22222},{"$f":"COUNTIF(L20:L33,Y38)","v":0},{"$f":"Z38/(AB4-Z25)","v":0},{"$f":"IF(AA38=0,0,(AA38*((LOG(AA38))/LOG(2))))","v":0},null,{"$f":"N38","v":22222},{"$f":"COUNTIF(L34:L46,AD38)","v":1},{"$f":"AE38/(AG4-AE25)","v":7.6923076923076927E-2},{"$f":"IF(AF38=0,0,(AF38*((LOG(AF38))/LOG(2))))","v":-0.28464920908777636},null,{"$f":"N38","v":22222},{"$f":"COUNTIF(L47:L59,AI38)","v":0},{"$f":"AJ38/(AL4-AJ25)","v":0},{"$f":"IF(AK38=0,0,(AK38*((LOG(AK38))/LOG(2))))","v":0},null,{"$f":"N38","v":22222},{"$f":"COUNTIF(L60:L73,AN38)","v":0},{"$f":"AO38/(AQ4-AO25)","v":0},{"$f":"IF(AP38=0,0,(AP38*((LOG(AP38))/LOG(2))))","v":0},null,{"$f":"N38","v":22222},{"$f":"COUNTIF(L74:L86,AS38)","v":0},{"$f":"AT38/(AV4-AT25)","v":0},{"$f":"IF(AU38=0,0,(AU38*((LOG(AU38))/LOG(2))))","v":0}]
[21,6104,22,6110,13,6131,23,6143,13,6156,0,22121,null,null,null,{"$f":"SUM(P7:P38)","v":0.99999999999999978},{"$f":"-SUM(Q7:Q38)","v":3.9413336363753748},null,null,null,null,{"$f":"SUM(V7:V38)","v":1},{"$f":"-SUM(W7:W38)","v":3.238901256602631},null,null,null,{"$f":"SUM(AA7:AA38)","v":0.99999999999999978},{"$f":"-SUM(AB7:AB38)","v":3.0930692077718893},null,null,null,{"$f":"SUM(AF7:AF38)","v":1},{"$f":"-SUM(AG7:AG38)","v":3.238901256602631},null,null,null,{"$f":"SUM(AK7:AK38)","v":1},{"$f":"-SUM(AL7:AL38)","v":2.8731406795131336},null,null,null,{"$f":"SUM(AP7:AP38)","v":1},{"$f":"-SUM(AQ7:AQ38)","v":2.4696704873718618},null,null,null,{"$f":"SUM(AU7:AU38)","v":1},{"$f":"-SUM(AV7:AV38)","v":2.353533948577482}]
[12,6294,13,6298,13,6305,23,6318,13,6330,0,11121,null,null,null,"U=",{"$f":"Q39/(LOG(Q4)/LOG(2))","v":0.62343854235906138},null,null,null,null,"U1=",{"$f":"W39/(LOG(W4)/LOG(2))","v":0.87527469795662172},null,null,null,"U2=",{"$f":"AB39/(LOG(AB4)/LOG(2))","v":0.81239318925914739},null,null,null,"U3=",{"$f":"AG39/(LOG(AG4)/LOG(2))","v":0.87527469795662172},null,null,null,"U4=",{"$f":"AL39/(LOG(AL4)/LOG(2))","v":0.77643223464168454},null,null,null,"U5=",{"$f":"AQ39/(LOG(AQ4)/LOG(2))","v":0.64865780520329874},null,null,null,"U6=",{"$f":"AV39/(LOG(AV4)/LOG(2))","v":0.63601467064562123}]
[21,6488,11,6502,22,6511,14,6523,13,6551,0,21211]
[12,6667,13,6674,24,6683,14,6694,13,6701,0,11211]
[12,6869,24,6877,13,6888,14,6901,24,6919,0,12112,null,"Total Target Seq"]
[12,7045,13,7050,13,7057,14,7066,24,7075,0,11112,null,{"$f":"COUNTIF(L7:L86,G3)","v":1},null,13,14,13,13,14,13]
[21,7186,22,7191,24,7197,23,7202,24,7211,0,22222,null,null,null,"% of reinforcement given in 6 equal intervals based on number of trials "]
[12,7323,13,7329,13,7337,23,7352,13,7371,0,11121,null,null,null,"%_1","%_2","%_3","%_4","%_5","%_6"]
[12,7491,13,7497,24,7510,14,7519,24,7532,0,11212,null,null,"target sequence",{"$f":"$G$3","v":21121},{"$f":"$G$3","v":21121},{"$f":"$G$3","v":21121},{"$f":"$G$3","v":21121},{"$f":"$G$3","v":21121},{"$f":"$G$3","v":21121}]
[12,7643,24,7651,13,7674,23,7687,13,7698,0,12121,null,null,"total reinforcement",{"$f":"U25","v":0},{"$f":"Z25","v":0},{"$f":"AE25","v":0},{"$f":"AJ25","v":0},{"$f":"AO25","v":1},{"$f":"AT25","v":0}]
[12,7855,24,7868,13,7888,23,7904,13,7921,0,12121,null,null,"% target"]
[12,8065,13,8072,13,8086,23,8097,13,8112,0,11121,null,null,"CCRF"]
[21,8276,22,8284,13,8293,14,8300,13,8305,0,22111,null,null,"% CCRf"]
[12,8537,13,8547,13,8555,14,8564,13,8571,0,11111,null,null,"average response rate",{"$f":"J19/P44","v":172.76923076923077},{"$f":"(J33-J19)/Q44","v":189.5},{"$f":"(J46-J33)/R44","v":190.15384615384616},{"$f":"(J59-J46)/S44","v":364.69230769230768},{"$f":"(J73-J59)/T44","v":340.64285714285717},{"$f":"(J86-J73)/U44","v":482.15384615384613}]
[12,8710,24,8729,24,8737,14,8759,13,8773,0,12211]
[12,9317,13,9322,13,9326,14,9331,24,9351,0,11112]
[12,10064,24,10081,13,10093,14,10110,13,10119,0,12111]
[12,10236,13,10253,24,10266,14,10278,24,10292,0,11212]
[21,10496,22,10505,13,10519,14,10527,13,10535,0,22111]
[12,11902,13,11911,13,11925,14,11940,13,11948,0,11111]
[12,12085,13,12090,13,12095,14,12105,13,12112,0,11111]
[12,12253,13,12266,13,12271,14,12278,24,12292,0,11112]
[21,12529,11,12543,11,12551,21,12565,11,12578,1,21121]
[21,12673,22,12686,13,12698,14,12708,13,12716,0,22111]
[12,12818,24,12828,13,12847,14,12855,24,12864,0,12112]
[12,13041,13,13053,24,13068,14,13080,13,13096,0,11211]
[12,13970,13,13978,13,13987,14,14000,13,14019,0,11111]
[12,15041,13,15049,13,15057,14,15066,13,15075,0,11111]
[12,15238,13,15246,13,15250,23,15264,13,15277,0,11121]
[12,15763,13,15771,13,15779,14,15788,13,15805,0,11111]
[12,15919,13,15928,24,15938,14,15951,13,15963,0,11211]
[12,16362,24,16377,13,16390,14,16400,13,16409,0,12111]
[12,16539,13,16544,24,16554,14,16567,13,16576,0,11211]
[12,16694,13,16703,24,16713,14,16726,13,16735,0,11211]
[12,16855,13,16864,13,16868,14,16873,13,16881,0,11111]
[12,17665,13,17674,13,17690,14,17699,13,17708,0,11111]
[12,17822,13,17829,24,17843,14,17855,13,17864,0,11211]
[12,17973,13,17977,13,17989,14,17993,13,18012,0,11111]
[12,18715,13,18722,13,18731,23,18747,13,18766,0,11121]
[12,18876,13,18881,13,18888,14,18896,13,18902,0,11111]
[12,19059,13,19064,24,19074,14,19086,24,19098,0,11212]
[21,19261,11,19290,11,19297,12,19304,24,19318,0,21112]
[12,19442,13,19449,24,19455,14,19467,24,19479,0,11212]
[21,19614,22,19621,24,19630,14,19642,13,19647,0,22211]
[12,22081,13,22089,13,22095,14,22102,13,22110,0,11111]
[21,22246,11,22262,11,22270,12,22279,13,22289,0,21111]
[12,22448,13,22453,13,22458,14,22463,13,22468,0,11111]
[12,23114,13,23122,13,23127,14,23136,13,23149,0,11111]

{"sheet":"!N131810.091","index":14,"n_rows":155,"n_cols":48,"rows_kept":155,"cut":false,"hidden":false,"merged":[[4,39,4,42],[5,39,5,40],[4,44,4,47],[5,44,5,45],[4,24,4,27],[5,24,5,25],[4,29,4,32],[5,29,5,30],[4,34,4,37],[5,34,5,35],[1,1,1,2],[5,13,5,14],[42,13,42,14],[43,13,43,14],[4,19,4,22],[5,19,5,20]]}
["Report for:!N131810.091"]
["Date:","<date>"]
["Hen:","<hen>",null,null,null,"Correct Sequence",{"$f":"Start!J2","v":21121},null,null,null,null,null,null,null,null,"Total Sequences in Data",{"$f":"4994-COUNTBLANK(L7:L5000)","v":149},null,null,null,null,"Total Sequences in Block Data",{"$f":"COUNTA(L7:L31)","v":25},null,null,null,"Total Sequences in Block Data",{"$f":"COUNTA(L32:L56)","v":25},null,null,null,"Total Sequences in Block Data",{"$f":"COUNTA(L57:L80)","v":24},null,null,null,"Total Sequences in Block Data",{"$f":"COUNTA(L81:L105)","v":25},null,null,null,"Total Sequences in Block Data",{"$f":"COUNTA(L106:L130)","v":25},null,null,null,"Total Sequences in Block Data",{"$f":"COUNTA(L131:L155)","v":25}]
[null,null,null,null,null,null,null,null,null,null,null,null,null,null,null,"Total Sequences in Summary",{"$f":"SUM(O7:O38)","v":149},null,null,null,null,"Total Sequences in Block Summary",{"$f":"SUM(U7:U38)","v":25},null,null,null,"Total Sequences in Block Summary",{"$f":"SUM(Z7:Z38)","v":25},null,null,null,"Total Sequences in Block Summary",{"$f":"SUM(AE7:AE38)","v":24},null,null,null,"Total Sequences in Block Summary",{"$f":"SUM(AJ7:AJ38)","v":25},null,null,null,"Total Sequences in Block Summary",{"$f":"SUM(AO7:AO38)","v":25},null,null,null,"Total Sequences in Block Summary",{"$f":"SUM(AT7:AT38)","v":25}]
[null,null,null,null,null,null,null,null,null,null,null,null,null,null,null,null,null,null,null,"Block 1",null,null,null,null,"Block 2",null,null,null,null,"Block 3",null,null,null,null,"Block 4",null,null,null,null,"Block 5",null,null,null,null,"Block 6"]
["Sequence\nComponent\n1","Time\n1","Sequence\nComponent\n2","Time\n2","Sequence\nComponent\n3","Time\n3","Sequence\nComponent\n4","Time\n4","Sequence\nComponent\n5","Time\n5","Correct?\n0=No 1=Yes","Sequence",null,"Frequency",null,"Relative Frequency","Variability",null,null,"Frequency",null,"Relative Frequency","Variability",null,"Frequency",null,"Relative Frequency","Variability",null,"Frequency",null,"Relative Frequency","Variability",null,"Frequency",null,"Relative Frequency","Variability",null,"Frequency",null,"Relative Frequency","Variability",null,"Frequency",null,"Relative Frequency","Variability"]
[21,16,11,62,11,78,12,87,13,97,1,21111,null,11111,{"$f":"COUNTIF($L$7:$L$500,N7)","v":9},{"$f":"O7/$Q$4","v":6.0402684563758392E-2},{"$f":"IF(P7=0,0,(P7*((LOG(P7))/LOG(2))))","v":-0.24458517900119894},null,null,{"$f":"N7","v":11111},{"$f":"COUNTIF(L7:L31,T7)","v":2},{"$f":"U7/(W4-U25)","v":8.6956521739130432E-2},{"$f":"IF(V7=0,0,(V7*((LOG(V7))/LOG(2))))","v":-0.30639669183104457},null,{"$f":"N7","v":11111},{"$f":"COUNTIF(L32:L56,Y7)","v":2},{"$f":"Z7/(AB4-Z25)","v":8.6956521739130432E-2},{"$f":"IF(AA7=0,0,(AA7*((LOG(AA7))/LOG(2))))","v":-0.30639669183104457},null,{"$f":"N7","v":11111},{"$f":"COUNTIF(L57:L80,AD7)","v":3},{"$f":"AE7/(AG4-AE25)","v":0.13043478260869565},{"$f":"IF(AF7=0,0,(AF7*((LOG(AF7))/LOG(2))))","v":-0.3832955811307639},null,{"$f":"N7","v":11111},{"$f":"COUNTIF(L81:L105,AI7)","v":1},{"$f":"AJ7/(AL4-AJ25)","v":0.04},{"$f":"IF(AK7=0,0,(AK7*((LOG(AK7))/LOG(2))))","v":-0.18575424759098899},null,{"$f":"N7","v":11111},{"$f":"COUNTIF(L106:L130,AN7)","v":0},{"$f":"AO7/(AQ4-AO25)","v":0},{"$f":"IF(AP7=0,0,(AP7*((LOG(AP7))/LOG(2))))","v":0},null,{"$f":"N7","v":11111},{"$f":"COUNTIF(L131:L155,AS7)","v":1},{"$f":"AT7/(AV4-AT25)","v":4.1666666666666664E-2},{"$f":"IF(AU7=0,0,(AU7*((LOG(AU7))/LOG(2))))","v":-0.19104010419671485}]
[12,186,13,195,13,203,14,212,13,223,0,11111,null,11112,{"$f":"COUNTIF($L$7:$L$500,N8)","v":4},{"$f":"O8/$Q$4","v":2.6845637583892617E-2},{"$f":"IF(P8=0,0,(P8*((LOG(P8))/LOG(2))))","v":-0.14011190658958825},null,null,{"$f":"N8","v":11112},{"$f":"COUNTIF(L7:L31,T8)","v":2},{"$f":"U8/(W4-U25)","v":8.6956521739130432E-2},{"$f":"IF(V8=0,0,(V8*((LOG(V8))/LOG(2))))","v":-0.30639669183104457},null,{"$f":"N8","v":11112},{"$f":"COUNTIF(L32:L56,Y8)","v":0},{"$f":"Z8/(AB4-Z25)","v":0},{"$f":"IF(AA8=0,0,(AA8*((LOG(AA8))/LOG(2))))","v":0},null,{"$f":"N8","v":11112},{"$f":"COUNTIF(L57:L80,AD8)","v":1},{"$f":"AE8/(AG4-AE25)","v":4.3478260869565216E-2},{"$f":"IF(AF8=0,0,(AF8*((LOG(AF8))/LOG(2))))","v":-0.19667660678508753},null,{"$f":"N8","v":11112},{"$f":"COUNTIF(L81:L105,AI8)","v":1},{"$f":"AJ8/(AL4-AJ25)","v":0.04},{"$f":"IF(AK8=0,0,(AK8*((LOG(AK8))/LOG(2))))","v":-0.18575424759098899},null,{"$f":"N8","v":11112},{"$f":"COUNTIF(L106:L130,AN8)","v":0},{"$f":"AO8/(AQ4-AO25)","v":0},{"$f":"IF(AP8=0,0,(AP8*((LOG(AP8))/LOG(2))))","v":0},null,{"$f":"N8","v":11112},{"$f":"COUNTIF(L131:L155,AS8)","v":0},{"$f":"AT8/(AV4-AT25)","v":0},{"$f":"IF(AU8=0,0,(AU8*((LOG(AU8))/LOG(2))))","v":0}]
[12,322,13,328,24,346,14,359,24,373,0,11212,null,11121,{"$f":"COUNTIF($L$7:$L$500,N9)","v":6},{"$f":"O9/$Q$4","v":4.0268456375838924E-2},{"$f":"IF(P9=0,0,(P9*((LOG(P9))/LOG(2))))","v":-0.18661232294259081},null,null,{"$f":"N9","v":11121},{"$f":"COUNTIF(L7:L31,T9)","v":0},{"$f":"U9/(W4-U25)","v":0},{"$f":"IF(V9=0,0,(V9*((LOG(V9))/LOG(2))))","v":0},null,{"$f":"N9","v":11121},{"$f":"COUNTIF(L32:L56,Y9)","v":2},{"$f":"Z9/(AB4-Z25)","v":8.6956521739130432E-2},{"$f":"IF(AA9=0,0,(AA9*((LOG(AA9))/LOG(2))))","v":-0.30639669183104457},null,{"$f":"N9","v":11121},{"$f":"COUNTIF(L57:L80,AD9)","v":0},{"$f":"AE9/(AG4-AE25)","v":0},{"$f":"IF(AF9=0,0,(AF9*((LOG(AF9))/LOG(2))))","v":0},null,{"$f":"N9","v":11121},{"$f":"COUNTIF(L81:L105,AI9)","v":3},{"$f":"AJ9/(AL4-AJ25)","v":0.12},{"$f":"IF(AK9=0,0,(AK9*((LOG(AK9))/LOG(2))))","v":-0.36706724268642821},null,{"$f":"N9","v":11121},{"$f":"COUNTIF(L106:L130,AN9)","v":1},{"$f":"AO9/(AQ4-AO25)","v":4.1666666666666664E-2},{"$f":"IF(AP9=0,0,(AP9*((LOG(AP9))/LOG(2))))","v":-0.19104010419671485},null,{"$f":"N9","v":11121},{"$f":"COUNTIF(L131:L155,AS9)","v":0},{"$f":"AT9/(AV4-AT25)","v":0},{"$f":"IF(AU9=0,0,(AU9*((LOG(AU9))/LOG(2))))","v":0}]
[12,474,24,485,13,498,14,509,13,523,0,12111,null,11122,{"$f":"COUNTIF($L$7:$L$500,N10)","v":0},{"$f":"O10/$Q$4","v":0},{"$f":"IF(P10=0,0,(P10*((LOG(P10))/LOG(2))))","v":0},null,null,{"$f":"N10","v":11122},{"$f":"COUNTIF(L7:L31,T10)","v":0},{"$f":"U10/(W4-U25)","v":0},{"$f":"IF(V10=0,0,(V10*((LOG(V10))/LOG(2))))","v":0},null,{"$f":"N10","v":11122},{"$f":"COUNTIF(L32:L56,Y10)","v":0},{"$f":"Z10/(AB4-Z25)","v":0},{"$f":"IF(AA10=0,0,(AA10*((LOG(AA10))/LOG(2))))","v":0},null,{"$f":"N10","v":11122},{"$f":"COUNTIF(L57:L80,AD10)","v":0},{"$f":"AE10/(AG4-AE25)","v":0},{"$f":"IF(AF10=0,0,(AF10*((LOG(AF10))/LOG(2))))","v":0},null,{"$f":"N10","v":11122},{"$f":"COUNTIF(L81:L105,AI10)","v":0},{"$f":"AJ10/(AL4-AJ25)","v":0},{"$f":"IF(AK10=0,0,(AK10*((LOG(AK10))/LOG(2))))","v":0},null,{"$f":"N10","v":11122},{"$f":"COUNTIF(L106:L130,AN10)","v":0},{"$f":"AO10/(AQ4-AO25)","v":0},{"$f":"IF(AP10=0,0,(AP10*((LOG(AP10))/LOG(2))))","v":0},null,{"$f":"N10","v":11122},{"$f":"COUNTIF(L131:L155,AS10)","v":0},{"$f":"AT10/(AV4-AT25)","v":0},{"$f":"IF(AU10=0,0,(AU10*((LOG(AU10))/LOG(2))))","v":0}]
[21,626,11,644,11,654,21,670,11,685,1,21121,null,11211,{"$f":"COUNTIF($L$7:$L$500,N11)","v":5},{"$f":"O11/$Q$4","v":3.3557046979865772E-2},{"$f":"IF(P11=0,0,(P11*((LOG(P11))/LOG(2))))","v":-0.16433692703271138},null,null,{"$f":"N11","v":11211},{"$f":"COUNTIF(L7:L31,T11)","v":3},{"$f":"U11/(W4-U25)","v":0.13043478260869565},{"$f":"IF(V11=0,0,(V11*((LOG(V11))/LOG(2))))","v":-0.3832955811307639},null,{"$f":"N11","v":11211},{"$f":"COUNTIF(L32:L56,Y11)","v":0},{"$f":"Z11/(AB4-Z25)","v":0},{"$f":"IF(AA11=0,0,(AA11*((LOG(AA11))/LOG(2))))","v":0},null,{"$f":"N11","v":11211},{"$f":"COUNTIF(L57:L80,AD11)","v":1},{"$f":"AE11/(AG4-AE25)","v":4.3478260869565216E-2},{"$f":"IF(AF11=0,0,(AF11*((LOG(AF11))/LOG(2))))","v":-0.19667660678508753},null,{"$f":"N11","v":11211},{"$f":"COUNTIF(L81:L105,AI11)","v":0},{"$f":"AJ11/(AL4-AJ25)","v":0},{"$f":"IF(AK11=0,0,(AK11*((LOG(AK11))/LOG(2))))","v":0},null,{"$f":"N11","v":11211},{"$f":"COUNTIF(L106:L130,AN11)","v":1},{"$f":"AO11/(AQ4-AO25)","v":4.1666666666666664E-2},{"$f":"IF(AP11=0,0,(AP11*((LOG(AP11))/LOG(2))))","v":-0.19104010419671485},null,{"$f":"N11","v":11211},{"$f":"COUNTIF(L131:L155,AS11)","v":0},{"$f":"AT11/(AV4-AT25)","v":0},{"$f":"IF(AU11=0,0,(AU11*((LOG(AU11))/LOG(2))))","v":0}]
[21,787,22,795,13,804,14,813,24,830,0,22112,null,11212,{"$f":"COUNTIF($L$7:$L$500,N12)","v":5},{"$f":"O12/$Q$4","v":3.3557046979865772E-2},{"$f":"IF(P12=0,0,(P12*((LOG(P12))/LOG(2))))","v":-0.16433692703271138},null,null,{"$f":"N12","v":11212},{"$f":"COUNTIF(L7:L31,T12)","v":3},{"$f":"U12/(W4-U25)","v":0.13043478260869565},{"$f":"IF(V12=0,0,(V12*((LOG(V12))/LOG(2))))","v":-0.3832955811307639},null,{"$f":"N12","v":11212},{"$f":"COUNTIF(L32:L56,Y12)","v":1},{"$f":"Z12/(AB4-Z25)","v":4.3478260869565216E-2},{"$f":"IF(AA12=0,0,(AA12*((LOG(AA12))/LOG(2))))","v":-0.19667660678508753},null,{"$f":"N12","v":11212},{"$f":"COUNTIF(L57:L80,AD12)","v":0},{"$f":"AE12/(AG4-AE25)","v":0},{"$f":"IF(AF12=0,0,(AF12*((LOG(AF12))/LOG(2))))","v":0},null,{"$f":"N12","v":11212},{"$f":"COUNTIF(L81:L105,AI12)","v":1},{"$f":"AJ12/(AL4-AJ25)","v":0.04},{"$f":"IF(AK12=0,0,(AK12*((LOG(AK12))/LOG(2))))","v":-0.18575424759098899},null,{"$f":"N12","v":11212},{"$f":"COUNTIF(L106:L130,AN12)","v":0},{"$f":"AO12/(AQ4-AO25)","v":0},{"$f":"IF(AP12=0,0,(AP12*((LOG(AP12))/LOG(2))))","v":0},null,{"$f":"N12","v":11212},{"$f":"COUNTIF(L131:L155,AS12)","v":0},{"$f":"AT12/(AV4-AT25)","v":0},{"$f":"IF(AU12=0,0,(AU12*((LOG(AU12))/LOG(2))))","v":0}]
[12,929,24,940,13,949,14,956,24,971,0,12112,null,11221,{"$f":"COUNTIF($L$7:$L$500,N13)","v":1},{"$f":"O13/$Q$4","v":6.7114093959731542E-3},{"$f":"IF(P13=0,0,(P13*((LOG(P13))/LOG(2))))","v":-4.8450795439343365E-2},null,null,{"$f":"N13","v":11221},{"$f":"COUNTIF(L7:L31,T13)","v":0},{"$f":"U13/(W4-U25)","v":0},{"$f":"IF(V13=0,0,(V13*((LOG(V13))/LOG(2))))","v":0},null,{"$f":"N13","v":11221},{"$f":"COUNTIF(L32:L56,Y13)","v":0},{"$f":"Z13/(AB4-Z25)","v":0},{"$f":"IF(AA13=0,0,(AA13*((LOG(AA13))/LOG(2))))","v":0},null,{"$f":"N13","v":11221},{"$f":"COUNTIF(L57:L80,AD13)","v":1},{"$f":"AE13/(AG4-AE25)","v":4.3478260869565216E-2},{"$f":"IF(AF13=0,0,(AF13*((LOG(AF13))/LOG(2))))","v":-0.19667660678508753},null,{"$f":"N13","v":11221},{"$f":"COUNTIF(L81:L105,AI13)","v":0},{"$f":"AJ13/(AL4-AJ25)","v":0},{"$f":"IF(AK13=0,0,(AK13*((LOG(AK13))/LOG(2))))","v":0},null,{"$f":"N13","v":11221},{"$f":"COUNTIF(L106:L130,AN13)","v":0},{"$f":"AO13/(AQ4-AO25)","v":0},{"$f":"IF(AP13=0,0,(AP13*((LOG(AP13))/LOG(2))))","v":0},null,{"$f":"N13","v":11221},{"$f":"COUNTIF(L131:L155,AS13)","v":0},{"$f":"AT13/(AV4-AT25)","v":0},{"$f":"IF(AU13=0,0,(AU13*((LOG(AU13))/LOG(2))))","v":0}]
[12,1068,13,1080,24,1091,14,1104,13,1113,0,11211,null,11222,{"$f":"COUNTIF($L$7:$L$500,N14)","v":0},{"$f":"O14/$Q$4","v":0},{"$f":"IF(P14=0,0,(P14*((LOG(P14))/LOG(2))))","v":0},null,null,{"$f":"N14","v":11222},{"$f":"COUNTIF(L7:L31,T14)","v":0},{"$f":"U14/(W4-U25)","v":0},{"$f":"IF(V14=0,0,(V14*((LOG(V14))/LOG(2))))","v":0},null,{"$f":"N14","v":11222},{"$f":"COUNTIF(L32:L56,Y14)","v":0},{"$f":"Z14/(AB4-Z25)","v":0},{"$f":"IF(AA14=0,0,(AA14*((LOG(AA14))/LOG(2))))","v":0},null,{"$f":"N14","v":11222},{"$f":"COUNTIF(L57:L80,AD14)","v":0},{"$f":"AE14/(AG4-AE25)","v":0},{"$f":"IF(AF14=0,0,(AF14*((LOG(AF14))/LOG(2))))","v":0},null,{"$f":"N14","v":11222},{"$f":"COUNTIF(L81:L105,AI14)","v":0},{"$f":"AJ14/(AL4-AJ25)","v":0},{"$f":"IF(AK14=0,0,(AK14*((LOG(AK14))/LOG(2))))","v":0},null,{"$f":"N14","v":11222},{"$f":"COUNTIF(L106:L130,AN14)","v":0},{"$f":"AO14/(AQ4-AO25)","v":0},{"$f":"IF(AP14=0,0,(AP14*((LOG(AP14))/LOG(2))))","v":0},null,{"$f":"N14","v":11222},{"$f":"COUNTIF(L131:L155,AS14)","v":0},{"$f":"AT14/(AV4-AT25)","v":0},{"$f":"IF(AU14=0,0,(AU14*((LOG(AU14))/LOG(2))))","v":0}]
[12,1219,13,1226,13,1235,14,1247,24,1265,0,11112,null,12111,{"$f":"COUNTIF($L$7:$L$500,N15)","v":7},{"$f":"O15/$Q$4","v":4.6979865771812082E-2},{"$f":"IF(P15=0,0,(P15*((LOG(P15))/LOG(2))))","v":-0.20726641066330137},null,null,{"$f":"N15","v":12111},{"$f":"COUNTIF(L7:L31,T15)","v":1},{"$f":"U15/(W4-U25)","v":4.3478260869565216E-2},{"$f":"IF(V15=0,0,(V15*((LOG(V15))/LOG(2))))","v":-0.19667660678508753},null,{"$f":"N15","v":12111},{"$f":"COUNTIF(L32:L56,Y15)","v":0},{"$f":"Z15/(AB4-Z25)","v":0},{"$f":"IF(AA15=0,0,(AA15*((LOG(AA15))/LOG(2))))","v":0},null,{"$f":"N15","v":12111},{"$f":"COUNTIF(L57:L80,AD15)","v":0},{"$f":"AE15/(AG4-AE25)","v":0},{"$f":"IF(AF15=0,0,(AF15*((LOG(AF15))/LOG(2))))","v":0},null,{"$f":"N15","v":12111},{"$f":"COUNTIF(L81:L105,AI15)","v":2},{"$f":"AJ15/(AL4-AJ25)","v":0.08},{"$f":"IF(AK15=0,0,(AK15*((LOG(AK15))/LOG(2))))","v":-0.29150849518197797},null,{"$f":"N15","v":12111},{"$f":"COUNTIF(L106:L130,AN15)","v":3},{"$f":"AO15/(AQ4-AO25)","v":0.125},{"$f":"IF(AP15=0,0,(AP15*((LOG(AP15))/LOG(2))))","v":-0.375},null,{"$f":"N15","v":12111},{"$f":"COUNTIF(L131:L155,AS15)","v":1},{"$f":"AT15/(AV4-AT25)","v":4.1666666666666664E-2},{"$f":"IF(AU15=0,0,(AU15*((LOG(AU15))/LOG(2))))","v":-0.19104010419671485}]
[12,1390,24,1406,13,1417,14,1429,24,1444,0,12112,null,12112,{"$f":"COUNTIF($L$7:$L$500,N16)","v":5},{"$f":"O16/$Q$4","v":3.3557046979865772E-2},{"$f":"IF(P16=0,0,(P16*((LOG(P16))/LOG(2))))","v":-0.16433692703271138},null,null,{"$f":"N16","v":12112},{"$f":"COUNTIF(L7:L31,T16)","v":2},{"$f":"U16/(W4-U25)","v":8.6956521739130432E-2},{"$f":"IF(V16=0,0,(V16*((LOG(V16))/LOG(2))))","v":-0.30639669183104457},null,{"$f":"N16","v":12112},{"$f":"COUNTIF(L32:L56,Y16)","v":0},{"$f":"Z16/(AB4-Z25)","v":0},{"$f":"IF(AA16=0,0,(AA16*((LOG(AA16))/LOG(2))))","v":0},null,{"$f":"N16","v":12112},{"$f":"COUNTIF(L57:L80,AD16)","v":2},{"$f":"AE16/(AG4-AE25)","v":8.6956521739130432E-2},{"$f":"IF(AF16=0,0,(AF16*((LOG(AF16))/LOG(2))))","v":-0.30639669183104457},null,{"$f":"N16","v":12112},{"$f":"COUNTIF(L81:L105,AI16)","v":0},{"$f":"AJ16/(AL4-AJ25)","v":0},{"$f":"IF(AK16=0,0,(AK16*((LOG(AK16))/LOG(2))))","v":0},null,{"$f":"N16","v":12112},{"$f":"COUNTIF(L106:L130,AN16)","v":0},{"$f":"AO16/(AQ4-AO25)","v":0},{"$f":"IF(AP16=0,0,(AP16*((LOG(AP16))/LOG(2))))","v":0},null,{"$f":"N16","v":12112},{"$f":"COUNTIF(L131:L155,AS16)","v":1},{"$f":"AT16/(AV4-AT25)","v":4.1666666666666664E-2},{"$f":"IF(AU16=0,0,(AU16*((LOG(AU16))/LOG(2))))","v":-0.19104010419671485}]
[21,1561,11,1584,11,1594,21,1603,11,1619,1,21121,null,12121,{"$f":"COUNTIF($L$7:$L$500,N17)","v":8},{"$f":"O17/$Q$4","v":5.3691275167785234E-2},{"$f":"IF(P17=0,0,(P17*((LOG(P17))/LOG(2))))","v":-0.22653253801139125},null,null,{"$f":"N17","v":12121},{"$f":"COUNTIF(L7:L31,T17)","v":1},{"$f":"U17/(W4-U25)","v":4.3478260869565216E-2},{"$f":"IF(V17=0,0,(V17*((LOG(V17))/LOG(2))))","v":-0.19667660678508753},null,{"$f":"N17","v":12121},{"$f":"COUNTIF(L32:L56,Y17)","v":2},{"$f":"Z17/(AB4-Z25)","v":8.6956521739130432E-2},{"$f":"IF(AA17=0,0,(AA17*((LOG(AA17))/LOG(2))))","v":-0.30639669183104457},null,{"$f":"N17","v":12121},{"$f":"COUNTIF(L57:L80,AD17)","v":0},{"$f":"AE17/(AG4-AE25)","v":0},{"$f":"IF(AF17=0,0,(AF17*((LOG(AF17))/LOG(2))))","v":0},null,{"$f":"N17","v":12121},{"$f":"COUNTIF(L81:L105,AI17)","v":2},{"$f":"AJ17/(AL4-AJ25)","v":0.08},{"$f":"IF(AK17=0,0,(AK17*((LOG(AK17))/LOG(2))))","v":-0.29150849518197797},null,{"$f":"N17","v":12121},{"$f":"COUNTIF(L106:L130,AN17)","v":0},{"$f":"AO17/(AQ4-AO25)","v":0},{"$f":"IF(AP17=0,0,(AP17*((LOG(AP17))/LOG(2))))","v":0},null,{"$f":"N17","v":12121},{"$f":"COUNTIF(L131:L155,AS17)","v":3},{"$f":"AT17/(AV4-AT25)","v":0.125},{"$f":"IF(AU17=0,0,(AU17*((LOG(AU17))/LOG(2))))","v":-0.375}]
[12,1712,13,1719,24,1729,14,1740,24,1755,0,11212,null,12122,{"$f":"COUNTIF($L$7:$L$500,N18)","v":2},{"$f":"O18/$Q$4","v":1.3422818791946308E-2},{"$f":"IF(P18=0,0,(P18*((LOG(P18))/LOG(2))))","v":-8.3478772086740413E-2},null,null,{"$f":"N18","v":12122},{"$f":"COUNTIF(L7:L31,T18)","v":0},{"$f":"U18/(W4-U25)","v":0},{"$f":"IF(V18=0,0,(V18*((LOG(V18))/LOG(2))))","v":0},null,{"$f":"N18","v":12122},{"$f":"COUNTIF(L32:L56,Y18)","v":1},{"$f":"Z18/(AB4-Z25)","v":4.3478260869565216E-2},{"$f":"IF(AA18=0,0,(AA18*((LOG(AA18))/LOG(2))))","v":-0.19667660678508753},null,{"$f":"N18","v":12122},{"$f":"COUNTIF(L57:L80,AD18)","v":0},{"$f":"AE18/(AG4-AE25)","v":0},{"$f":"IF(AF18=0,0,(AF18*((LOG(AF18))/LOG(2))))","v":0},null,{"$f":"N18","v":12122},{"$f":"COUNTIF(L81:L105,AI18)","v":0},{"$f":"AJ18/(AL4-AJ25)","v":0},{"$f":"IF(AK18=0,0,(AK18*((LOG(AK18))/LOG(2))))","v":0},null,{"$f":"N18","v":12122},{"$f":"COUNTIF(L106:L130,AN18)","v":0},{"$f":"AO18/(AQ4-AO25)","v":0},{"$f":"IF(AP18=0,0,(AP18*((LOG(AP18))/LOG(2))))","v":0},null,{"$f":"N18","v":12122},{"$f":"COUNTIF(L131:L155,AS18)","v":1},{"$f":"AT18/(AV4-AT25)","v":4.1666666666666664E-2},{"$f":"IF(AU18=0,0,(AU18*((LOG(AU18))/LOG(2))))","v":-0.19104010419671485}]
[12,1856,13,1865,13,1871,14,1878,24,1895,0,11112,null,12211,{"$f":"COUNTIF($L$7:$L$500,N19)","v":2},{"$f":"O19/$Q$4","v":1.3422818791946308E-2},{"$f":"IF(P19=0,0,(P19*((LOG(P19))/LOG(2))))","v":-8.3478772086740413E-2},null,null,{"$f":"N19","v":12211},{"$f":"COUNTIF(L7:L31,T19)","v":0},{"$f":"U19/(W4-U25)","v":0},{"$f":"IF(V19=0,0,(V19*((LOG(V19))/LOG(2))))","v":0},null,{"$f":"N19","v":12211},{"$f":"COUNTIF(L32:L56,Y19)","v":1},{"$f":"Z19/(AB4-Z25)","v":4.3478260869565216E-2},{"$f":"IF(AA19=0,0,(AA19*((LOG(AA19))/LOG(2))))","v":-0.19667660678508753},null,{"$f":"N19","v":12211},{"$f":"COUNTIF(L57:L80,AD19)","v":1},{"$f":"AE19/(AG4-AE25)","v":4.3478260869565216E-2},{"$f":"IF(AF19=0,0,(AF19*((LOG(AF19))/LOG(2))))","v":-0.19667660678508753},null,{"$f":"N19","v":12211},{"$f":"COUNTIF(L81:L105,AI19)","v":0},{"$f":"AJ19/(AL4-AJ25)","v":0},{"$f":"IF(AK19=0,0,(AK19*((LOG(AK19))/LOG(2))))","v":0},null,{"$f":"N19","v":12211},{"$f":"COUNTIF(L106:L130,AN19)","v":0},{"$f":"AO19/(AQ4-AO25)","v":0},{"$f":"IF(AP19=0,0,(AP19*((LOG(AP19))/LOG(2))))","v":0},null,{"$f":"N19","v":12211},{"$f":"COUNTIF(L131:L155,AS19)","v":0},{"$f":"AT19/(AV4-AT25)","v":0},{"$f":"IF(AU19=0,0,(AU19*((LOG(AU19))/LOG(2))))","v":0}]
[12,2007,13,2015,24,2026,14,2039,24,2054,0,11212,null,12212,{"$f":"COUNTIF($L$7:$L$500,N20)","v":5},{"$f":"O20/$Q$4","v":3.3557046979865772E-2},{"$f":"IF(P20=0,0,(P20*((LOG(P20))/LOG(2))))","v":-0.16433692703271138},null,null,{"$f":"N20","v":12212},{"$f":"COUNTIF(L7:L31,T20)","v":1},{"$f":"U20/(W4-U25)","v":4.3478260869565216E-2},{"$f":"IF(V20=0,0,(V20*((LOG(V20))/LOG(2))))","v":-0.19667660678508753},null,{"$f":"N20","v":12212},{"$f":"COUNTIF(L32:L56,Y20)","v":1},{"$f":"Z20/(AB4-Z25)","v":4.3478260869565216E-2},{"$f":"IF(AA20=0,0,(AA20*((LOG(AA20))/LOG(2))))","v":-0.19667660678508753},null,{"$f":"N20","v":12212},{"$f":"COUNTIF(L57:L80,AD20)","v":2},{"$f":"AE20/(AG4-AE25)","v":8.6956521739130432E-2},{"$f":"IF(AF20=0,0,(AF20*((LOG(AF20))/LOG(2))))","v":-0.30639669183104457},null,{"$f":"N20","v":12212},{"$f":"COUNTIF(L81:L105,AI20)","v":1},{"$f":"AJ20/(AL4-AJ25)","v":0.04},{"$f":"IF(AK20=0,0,(AK20*((LOG(AK20))/LOG(2))))","v":-0.18575424759098899},null,{"$f":"N20","v":12212},{"$f":"COUNTIF(L106:L130,AN20)","v":0},{"$f":"AO20/(AQ4-AO25)","v":0},{"$f":"IF(AP20=0,0,(AP20*((LOG(AP20))/LOG(2))))","v":0},null,{"$f":"N20","v":12212},{"$f":"COUNTIF(L131:L155,AS20)","v":0},{"$f":"AT20/(AV4-AT25)","v":0},{"$f":"IF(AU20=0,0,(AU20*((LOG(AU20))/LOG(2))))","v":0}]
[12,2151,13,2156,24,2171,14,2182,13,2192,0,11211,null,12221,{"$f":"COUNTIF($L$7:$L$500,N21)","v":5},{"$f":"O21/$Q$4","v":3.3557046979865772E-2},{"$f":"IF(P21=0,0,(P21*((LOG(P21))/LOG(2))))","v":-0.16433692703271138},null,null,{"$f":"N21","v":12221},{"$f":"COUNTIF(L7:L31,T21)","v":0},{"$f":"U21/(W4-U25)","v":0},{"$f":"IF(V21=0,0,(V21*((LOG(V21))/LOG(2))))","v":0},null,{"$f":"N21","v":12221},{"$f":"COUNTIF(L32:L56,Y21)","v":3},{"$f":"Z21/(AB4-Z25)","v":0.13043478260869565},{"$f":"IF(AA21=0,0,(AA21*((LOG(AA21))/LOG(2))))","v":-0.3832955811307639},null,{"$f":"N21","v":12221},{"$f":"COUNTIF(L57:L80,AD21)","v":0},{"$f":"AE21/(AG4-AE25)","v":0},{"$f":"IF(AF21=0,0,(AF21*((LOG(AF21))/LOG(2))))","v":0},null,{"$f":"N21","v":12221},{"$f":"COUNTIF(L81:L105,AI21)","v":1},{"$f":"AJ21/(AL4-AJ25)","v":0.04},{"$f":"IF(AK21=0,0,(AK21*((LOG(AK21))/LOG(2))))","v":-0.18575424759098899},null,{"$f":"N21","v":12221},{"$f":"COUNTIF(L106:L130,AN21)","v":1},{"$f":"AO21/(AQ4-AO25)","v":4.1666666666666664E-2},{"$f":"IF(AP21=0,0,(AP21*((LOG(AP21))/LOG(2))))","v":-0.19104010419671485},null,{"$f":"N21","v":12221},{"$f":"COUNTIF(L131:L155,AS21)","v":0},{"$f":"AT21/(AV4-AT25)","v":0},{"$f":"IF(AU21=0,0,(AU21*((LOG(AU21))/LOG(2))))","v":0}]
[12,2309,13,2316,13,2342,14,2352,13,2361,0,11111,null,12222,{"$f":"COUNTIF($L$7:$L$500,N22)","v":0},{"$f":"O22/$Q$4","v":0},{"$f":"IF(P22=0,0,(P22*((LOG(P22))/LOG(2))))","v":0},null,null,{"$f":"N22","v":12222},{"$f":"COUNTIF(L7:L31,T22)","v":0},{"$f":"U22/(W4-U25)","v":0},{"$f":"IF(V22=0,0,(V22*((LOG(V22))/LOG(2))))","v":0},null,{"$f":"N22","v":12222},{"$f":"COUNTIF(L32:L56,Y22)","v":0},{"$f":"Z22/(AB4-Z25)","v":0},{"$f":"IF(AA22=0,0,(AA22*((LOG(AA22))/LOG(2))))","v":0},null,{"$f":"N22","v":12222},{"$f":"COUNTIF(L57:L80,AD22)","v":0},{"$f":"AE22/(AG4-AE25)","v":0},{"$f":"IF(AF22=0,0,(AF22*((LOG(AF22))/LOG(2))))","v":0},null,{"$f":"N22","v":12222},{"$f":"COUNTIF(L81:L105,AI22)","v":0},{"$f":"AJ22/(AL4-AJ25)","v":0},{"$f":"IF(AK22=0,0,(AK22*((LOG(AK22))/LOG(2))))","v":0},null,{"$f":"N22","v":12222},{"$f":"COUNTIF(L106:L130,AN22)","v":0},{"$f":"AO22/(AQ4-AO25)","v":0},{"$f":"IF(AP22=0,0,(AP22*((LOG(AP22))/LOG(2))))","v":0},null,{"$f":"N22","v":12222},{"$f":"COUNTIF(L131:L155,AS22)","v":0},{"$f":"AT22/(AV4-AT25)","v":0},{"$f":"IF(AU22=0,0,(AU22*((LOG(AU22))/LOG(2))))","v":0}]
[12,2459,24,2475,13,2489,23,2501,13,2510,0,12121,null,21111,{"$f":"COUNTIF($L$7:$L$500,N23)","v":6},{"$f":"O23/$Q$4","v":4.0268456375838924E-2},{"$f":"IF(P23=0,0,(P23*((LOG(P23))/LOG(2))))","v":-0.18661232294259081},null,null,{"$f":"N23","v":21111},{"$f":"COUNTIF(L7:L31,T23)","v":1},{"$f":"U23/(W4-U25)","v":4.3478260869565216E-2},{"$f":"IF(V23=0,0,(V23*((LOG(V23))/LOG(2))))","v":-0.19667660678508753},null,{"$f":"N23","v":21111},{"$f":"COUNTIF(L32:L56,Y23)","v":0},{"$f":"Z23/(AB4-Z25)","v":0},{"$f":"IF(AA23=0,0,(AA23*((LOG(AA23))/LOG(2))))","v":0},null,{"$f":"N23","v":21111},{"$f":"COUNTIF(L57:L80,AD23)","v":0},{"$f":"AE23/(AG4-AE25)","v":0},{"$f":"IF(AF23=0,0,(AF23*((LOG(AF23))/LOG(2))))","v":0},null,{"$f":"N23","v":21111},{"$f":"COUNTIF(L81:L105,AI23)","v":1},{"$f":"AJ23/(AL4-AJ25)","v":0.04},{"$f":"IF(AK23=0,0,(AK23*((LOG(AK23))/LOG(2))))","v":-0.18575424759098899},null,{"$f":"N23","v":21111},{"$f":"COUNTIF(L106:L130,AN23)","v":1},{"$f":"AO23/(AQ4-AO25)","v":4.1666666666666664E-2},{"$f":"IF(AP23=0,0,(AP23*((LOG(AP23))/LOG(2))))","v":-0.19104010419671485},null,{"$f":"N23","v":21111},{"$f":"COUNTIF(L131:L155,AS23)","v":3},{"$f":"AT23/(AV4-AT25)","v":0.125},{"$f":"IF(AU23=0,0,(AU23*((LOG(AU23))/LOG(2))))","v":-0.375}]
[21,2619,11,2638,22,2648,14,2661,24,2675,0,21212,null,21112,{"$f":"COUNTIF($L$7:$L$500,N24)","v":1},{"$f":"O24/$Q$4","v":6.7114093959731542E-3},{"$f":"IF(P24=0,0,(P24*((LOG(P24))/LOG(2))))","v":-4.8450795439343365E-2},null,null,{"$f":"N24","v":21112},{"$f":"COUNTIF(L7:L31,T24)","v":0},{"$f":"U24/(W4-U25)","v":0},{"$f":"IF(V24=0,0,(V24*((LOG(V24))/LOG(2))))","v":0},null,{"$f":"N24","v":21112},{"$f":"COUNTIF(L32:L56,Y24)","v":0},{"$f":"Z24/(AB4-Z25)","v":0},{"$f":"IF(AA24=0,0,(AA24*((LOG(AA24))/LOG(2))))","v":0},null,{"$f":"N24","v":21112},{"$f":"COUNTIF(L57:L80,AD24)","v":0},{"$f":"AE24/(AG4-AE25)","v":0},{"$f":"IF(AF24=0,0,(AF24*((LOG(AF24))/LOG(2))))","v":0},null,{"$f":"N24","v":21112},{"$f":"COUNTIF(L81:L105,AI24)","v":1},{"$f":"AJ24/(AL4-AJ25)","v":0.04},{"$f":"IF(AK24=0,0,(AK24*((LOG(AK24))/LOG(2))))","v":-0.18575424759098899},null,{"$f":"N24","v":21112},{"$f":"COUNTIF(L106:L130,AN24)","v":0},{"$f":"AO24/(AQ4-AO25)","v":0},{"$f":"IF(AP24=0,0,(AP24*((LOG(AP24))/LOG(2))))","v":0},null,{"$f":"N24","v":21112},{"$f":"COUNTIF(L131:L155,AS24)","v":0},{"$f":"AT24/(AV4-AT25)","v":0},{"$f":"IF(AU24=0,0,(AU24*((LOG(AU24))/LOG(2))))","v":0}]
[12,2776,24,2786,24,2795,14,2810,24,2826,0,12212,null,21121,{"$f":"COUNTIF($L$7:$L$500,N25)","v":7},{"$f":"O25/$Q$4","v":4.6979865771812082E-2},{"$f":"IF(P25=0,0,(P25*((LOG(P25))/LOG(2))))","v":-0.20726641066330137},null,null,{"$f":"N25","v":21121},{"$f":"COUNTIF(L7:L31,T25)","v":2},null,null,null,{"$f":"N25","v":21121},{"$f":"COUNTIF(L32:L56,Y25)","v":2},null,null,null,{"$f":"N25","v":21121},{"$f":"COUNTIF(L57:L80,AD25)","v":1},null,null,null,{"$f":"N25","v":21121},{"$f":"COUNTIF(L81:L105,AI25)","v":0},null,null,null,{"$f":"N25","v":21121},{"$f":"COUNTIF(L106:L130,AN25)","v":1},null,null,null,{"$f":"N25","v":21121},{"$f":"COUNTIF(L131:L155,AS25)","v":1}]
[21,2945,11,2960,22,2970,14,2982,24,2995,0,21212,null,21122,{"$f":"COUNTIF($L$7:$L$500,N26)","v":0},{"$f":"O26/$Q$4","v":0},{"$f":"IF(P26=0,0,(P26*((LOG(P26))/LOG(2))))","v":0},null,null,{"$f":"N26","v":21122},{"$f":"COUNTIF(L7:L31,T26)","v":0},{"$f":"U26/(W4-U25)","v":0},{"$f":"IF(V26=0,0,(V26*((LOG(V26))/LOG(2))))","v":0},null,{"$f":"N26","v":21122},{"$f":"COUNTIF(L32:L56,Y26)","v":0},{"$f":"Z26/(AB4-Z25)","v":0},{"$f":"IF(AA26=0,0,(AA26*((LOG(AA26))/LOG(2))))","v":0},null,{"$f":"N26","v":21122},{"$f":"COUNTIF(L57:L80,AD26)","v":0},{"$f":"AE26/(AG4-AE25)","v":0},{"$f":"IF(AF26=0,0,(AF26*((LOG(AF26))/LOG(2))))","v":0},null,{"$f":"N26","v":21122},{"$f":"COUNTIF(L81:L105,AI26)","v":0},{"$f":"AJ26/(AL4-AJ25)","v":0},{"$f":"IF(AK26=0,0,(AK26*((LOG(AK26))/LOG(2))))","v":0},null,{"$f":"N26","v":21122},{"$f":"COUNTIF(L106:L130,AN26)","v":0},{"$f":"AO26/(AQ4-AO25)","v":0},{"$f":"IF(AP26=0,0,(AP26*((LOG(AP26))/LOG(2))))","v":0},null,{"$f":"N26","v":21122},{"$f":"COUNTIF(L131:L155,AS26)","v":0},{"$f":"AT26/(AV4-AT25)","v":0},{"$f":"IF(AU26=0,0,(AU26*((LOG(AU26))/LOG(2))))","v":0}]
[21,3102,22,3127,13,3138,23,3153,13,3165,0,22121,null,21211,{"$f":"COUNTIF($L$7:$L$500,N27)","v":12},{"$f":"O27/$Q$4","v":8.0536912751677847E-2},{"$f":"IF(P27=0,0,(P27*((LOG(P27))/LOG(2))))","v":-0.29268773313350377},null,null,{"$f":"N27","v":21211},{"$f":"COUNTIF(L7:L31,T27)","v":1},{"$f":"U27/(W4-U25)","v":4.3478260869565216E-2},{"$f":"IF(V27=0,0,(V27*((LOG(V27))/LOG(2))))","v":-0.19667660678508753},null,{"$f":"N27","v":21211},{"$f":"COUNTIF(L32:L56,Y27)","v":3},{"$f":"Z27/(AB4-Z25)","v":0.13043478260869565},{"$f":"IF(AA27=0,0,(AA27*((LOG(AA27))/LOG(2))))","v":-0.3832955811307639},null,{"$f":"N27","v":21211},{"$f":"COUNTIF(L57:L80,AD27)","v":1},{"$f":"AE27/(AG4-AE25)","v":4.3478260869565216E-2},{"$f":"IF(AF27=0,0,(AF27*((LOG(AF27))/LOG(2))))","v":-0.19667660678508753},null,{"$f":"N27","v":21211},{"$f":"COUNTIF(L81:L105,AI27)","v":3},{"$f":"AJ27/(AL4-AJ25)","v":0.12},{"$f":"IF(AK27=0,0,(AK27*((LOG(AK27))/LOG(2))))","v":-0.36706724268642821},null,{"$f":"N27","v":21211},{"$f":"COUNTIF(L106:L130,AN27)","v":2},{"$f":"AO27/(AQ4-AO25)","v":8.3333333333333329E-2},{"$f":"IF(AP27=0,0,(AP27*((LOG(AP27))/LOG(2))))","v":-0.29874687506009634},null,{"$f":"N27","v":21211},{"$f":"COUNTIF(L131:L155,AS27)","v":2},{"$f":"AT27/(AV4-AT25)","v":8.3333333333333329E-2},{"$f":"IF(AU27=0,0,(AU27*((LOG(AU27))/LOG(2))))","v":-0.29874687506009634}]
[21,3266,22,3271,13,3284,23,3293,13,3304,0,22121,null,21212,{"$f":"COUNTIF($L$7:$L$500,N28)","v":7},{"$f":"O28/$Q$4","v":4.6979865771812082E-2},{"$f":"IF(P28=0,0,(P28*((LOG(P28))/LOG(2))))","v":-0.20726641066330137},null,null,{"$f":"N28","v":21212},{"$f":"COUNTIF(L7:L31,T28)","v":2},{"$f":"U28/(W4-U25)","v":8.6956521739130432E-2},{"$f":"IF(V28=0,0,(V28*((LOG(V28))/LOG(2))))","v":-0.30639669183104457},null,{"$f":"N28","v":21212},{"$f":"COUNTIF(L32:L56,Y28)","v":1},{"$f":"Z28/(AB4-Z25)","v":4.3478260869565216E-2},{"$f":"IF(AA28=0,0,(AA28*((LOG(AA28))/LOG(2))))","v":-0.19667660678508753},null,{"$f":"N28","v":21212},{"$f":"COUNTIF(L57:L80,AD28)","v":1},{"$f":"AE28/(AG4-AE25)","v":4.3478260869565216E-2},{"$f":"IF(AF28=0,0,(AF28*((LOG(AF28))/LOG(2))))","v":-0.19667660678508753},null,{"$f":"N28","v":21212},{"$f":"COUNTIF(L81:L105,AI28)","v":0},{"$f":"AJ28/(AL4-AJ25)","v":0},{"$f":"IF(AK28=0,0,(AK28*((LOG(AK28))/LOG(2))))","v":0},null,{"$f":"N28","v":21212},{"$f":"COUNTIF(L106:L130,AN28)","v":1},{"$f":"AO28/(AQ4-AO25)","v":4.1666666666666664E-2},{"$f":"IF(AP28=0,0,(AP28*((LOG(AP28))/LOG(2))))","v":-0.19104010419671485},null,{"$f":"N28","v":21212},{"$f":"COUNTIF(L131:L155,AS28)","v":2},{"$f":"AT28/(AV4-AT25)","v":8.3333333333333329E-2},{"$f":"IF(AU28=0,0,(AU28*((LOG(AU28))/LOG(2))))","v":-0.29874687506009634}]
[12,3442,13,3467,24,3479,14,3492,13,3502,0,11211,null,21221,{"$f":"COUNTIF($L$7:$L$500,N29)","v":0},{"$f":"O29/$Q$4","v":0},{"$f":"IF(P29=0,0,(P29*((LOG(P29))/LOG(2))))","v":0},null,null,{"$f":"N29","v":21221},{"$f":"COUNTIF(L7:L31,T29)","v":0},{"$f":"U29/(W4-U25)","v":0},{"$f":"IF(V29=0,0,(V29*((LOG(V29))/LOG(2))))","v":0},null,{"$f":"N29","v":21221},{"$f":"COUNTIF(L32:L56,Y29)","v":0},{"$f":"Z29/(AB4-Z25)","v":0},{"$f":"IF(AA29=0,0,(AA29*((LOG(AA29))/LOG(2))))","v":0},null,{"$f":"N29","v":21221},{"$f":"COUNTIF(L57:L80,AD29)","v":0},{"$f":"AE29/(AG4-AE25)","v":0},{"$f":"IF(AF29=0,0,(AF29*((LOG(AF29))/LOG(2))))","v":0},null,{"$f":"N29","v":21221},{"$f":"COUNTIF(L81:L105,AI29)","v":0},{"$f":"AJ29/(AL4-AJ25)","v":0},{"$f":"IF(AK29=0,0,(AK29*((LOG(AK29))/LOG(2))))","v":0},null,{"$f":"N29","v":21221},{"$f":"COUNTIF(L106:L130,AN29)","v":0},{"$f":"AO29/(AQ4-AO25)","v":0},{"$f":"IF(AP29=0,0,(AP29*((LOG(AP29))/LOG(2))))","v":0},null,{"$f":"N29","v":21221},{"$f":"COUNTIF(L131:L155,AS29)","v":0},{"$f":"AT29/(AV4-AT25)","v":0},{"$f":"IF(AU29=0,0,(AU29*((LOG(AU29))/LOG(2))))","v":0}]
[21,3614,22,3620,24,3625,14,3637,13,3654,0,22211,null,21222,{"$f":"COUNTIF($L$7:$L$500,N30)","v":0},{"$f":"O30/$Q$4","v":0},{"$f":"IF(P30=0,0,(P30*((LOG(P30))/LOG(2))))","v":0},null,null,{"$f":"N30","v":21222},{"$f":"COUNTIF(L7:L31,T30)","v":0},{"$f":"U30/(W4-U25)","v":0},{"$f":"IF(V30=0,0,(V30*((LOG(V30))/LOG(2))))","v":0},null,{"$f":"N30","v":21222},{"$f":"COUNTIF(L32:L56,Y30)","v":0},{"$f":"Z30/(AB4-Z25)","v":0},{"$f":"IF(AA30=0,0,(AA30*((LOG(AA30))/LOG(2))))","v":0},null,{"$f":"N30","v":21222},{"$f":"COUNTIF(L57:L80,AD30)","v":0},{"$f":"AE30/(AG4-AE25)","v":0},{"$f":"IF(AF30=0,0,(AF30*((LOG(AF30))/LOG(2))))","v":0},null,{"$f":"N30","v":21222},{"$f":"COUNTIF(L81:L105,AI30)","v":0},{"$f":"AJ30/(AL4-AJ25)","v":0},{"$f":"IF(AK30=0,0,(AK30*((LOG(AK30))/LOG(2))))","v":0},null,{"$f":"N30","v":21222},{"$f":"COUNTIF(L106:L130,AN30)","v":0},{"$f":"AO30/(AQ4-AO25)","v":0},{"$f":"IF(AP30=0,0,(AP30*((LOG(AP30))/LOG(2))))","v":0},null,{"$f":"N30","v":21222},{"$f":"COUNTIF(L131:L155,AS30)","v":0},{"$f":"AT30/(AV4-AT25)","v":0},{"$f":"IF(AU30=0,0,(AU30*((LOG(AU30))/LOG(2))))","v":0}]
[21,3766,11,3787,22,3796,14,3807,13,3816,0,21211,null,22111,{"$f":"COUNTIF($L$7:$L$500,N31)","v":7},{"$f":"O31/$Q$4","v":4.6979865771812082E-2},{"$f":"IF(P31=0,0,(P31*((LOG(P31))/LOG(2))))","v":-0.20726641066330137},null,null,{"$f":"N31","v":22111},{"$f":"COUNTIF(L7:L31,T31)","v":0},{"$f":"U31/(W4-U25)","v":0},{"$f":"IF(V31=0,0,(V31*((LOG(V31))/LOG(2))))","v":0},null,{"$f":"N31","v":22111},{"$f":"COUNTIF(L32:L56,Y31)","v":0},{"$f":"Z31/(AB4-Z25)","v":0},{"$f":"IF(AA31=0,0,(AA31*((LOG(AA31))/LOG(2))))","v":0},null,{"$f":"N31","v":22111},{"$f":"COUNTIF(L57:L80,AD31)","v":0},{"$f":"AE31/(AG4-AE25)","v":0},{"$f":"IF(AF31=0,0,(AF31*((LOG(AF31))/LOG(2))))","v":0},null,{"$f":"N31","v":22111},{"$f":"COUNTIF(L81:L105,AI31)","v":2},{"$f":"AJ31/(AL4-AJ25)","v":0.08},{"$f":"IF(AK31=0,0,(AK31*((LOG(AK31))/LOG(2))))","v":-0.29150849518197797},null,{"$f":"N31","v":22111},{"$f":"COUNTIF(L106:L130,AN31)","v":4},{"$f":"AO31/(AQ4-AO25)","v":0.16666666666666666},{"$f":"IF(AP31=0,0,(AP31*((LOG(AP31))/LOG(2))))","v":-0.43082708345352599},null,{"$f":"N31","v":22111},{"$f":"COUNTIF(L131:L155,AS31)","v":1},{"$f":"AT31/(AV4-AT25)","v":4.1666666666666664E-2},{"$f":"IF(AU31=0,0,(AU31*((LOG(AU31))/LOG(2))))","v":-0.19104010419671485}]
[12,3916,13,3922,13,3932,23,3945,13,3957,0,11121,null,22112,{"$f":"COUNTIF($L$7:$L$500,N32)","v":6},{"$f":"O32/$Q$4","v":4.0268456375838924E-2},{"$f":"IF(P32=0,0,(P32*((LOG(P32))/LOG(2))))","v":-0.18661232294259081},null,null,{"$f":"N32","v":22112},{"$f":"COUNTIF(L7:L31,T32)","v":1},{"$f":"U32/(W4-U25)","v":4.3478260869565216E-2},{"$f":"IF(V32=0,0,(V32*((LOG(V32))/LOG(2))))","v":-0.19667660678508753},null,{"$f":"N32","v":22112},{"$f":"COUNTIF(L32:L56,Y32)","v":1},{"$f":"Z32/(AB4-Z25)","v":4.3478260869565216E-2},{"$f":"IF(AA32=0,0,(AA32*((LOG(AA32))/LOG(2))))","v":-0.19667660678508753},null,{"$f":"N32","v":22112},{"$f":"COUNTIF(L57:L80,AD32)","v":1},{"$f":"AE32/(AG4-AE25)","v":4.3478260869565216E-2},{"$f":"IF(AF32=0,0,(AF32*((LOG(AF32))/LOG(2))))","v":-0.19667660678508753},null,{"$f":"N32","v":22112},{"$f":"COUNTIF(L81:L105,AI32)","v":1},{"$f":"AJ32/(AL4-AJ25)","v":0.04},{"$f":"IF(AK32=0,0,(AK32*((LOG(AK32))/LOG(2))))","v":-0.18575424759098899},null,{"$f":"N32","v":22112},{"$f":"COUNTIF(L106:L130,AN32)","v":0},{"$f":"AO32/(AQ4-AO25)","v":0},{"$f":"IF(AP32=0,0,(AP32*((LOG(AP32))/LOG(2))))","v":0},null,{"$f":"N32","v":22112},{"$f":"COUNTIF(L131:L155,AS32)","v":2},{"$f":"AT32/(AV4-AT25)","v":8.3333333333333329E-2},{"$f":"IF(AU32=0,0,(AU32*((LOG(AU32))/LOG(2))))","v":-0.29874687506009634}]
[21,4065,22,4070,13,4083,14,4093,24,4106,0,22112,null,22121,{"$f":"COUNTIF($L$7:$L$500,N33)","v":19},{"$f":"O33/$Q$4","v":0.12751677852348994},{"$f":"IF(P33=0,0,(P33*((LOG(P33))/LOG(2))))","v":-0.37888308143189897},null,null,{"$f":"N33","v":22121},{"$f":"COUNTIF(L7:L31,T33)","v":2},{"$f":"U33/(W4-U25)","v":8.6956521739130432E-2},{"$f":"IF(V33=0,0,(V33*((LOG(V33))/LOG(2))))","v":-0.30639669183104457},null,{"$f":"N33","v":22121},{"$f":"COUNTIF(L32:L56,Y33)","v":2},{"$f":"Z33/(AB4-Z25)","v":8.6956521739130432E-2},{"$f":"IF(AA33=0,0,(AA33*((LOG(AA33))/LOG(2))))","v":-0.30639669183104457},null,{"$f":"N33","v":22121},{"$f":"COUNTIF(L57:L80,AD33)","v":4},{"$f":"AE33/(AG4-AE25)","v":0.17391304347826086},{"$f":"IF(AF33=0,0,(AF33*((LOG(AF33))/LOG(2))))","v":-0.43888034018382832},null,{"$f":"N33","v":22121},{"$f":"COUNTIF(L81:L105,AI33)","v":4},{"$f":"AJ33/(AL4-AJ25)","v":0.16},{"$f":"IF(AK33=0,0,(AK33*((LOG(AK33))/LOG(2))))","v":-0.42301699036395596},null,{"$f":"N33","v":22121},{"$f":"COUNTIF(L106:L130,AN33)","v":4},{"$f":"AO33/(AQ4-AO25)","v":0.16666666666666666},{"$f":"IF(AP33=0,0,(AP33*((LOG(AP33))/LOG(2))))","v":-0.43082708345352599},null,{"$f":"N33","v":22121},{"$f":"COUNTIF(L131:L155,AS33)","v":3},{"$f":"AT33/(AV4-AT25)","v":0.125},{"$f":"IF(AU33=0,0,(AU33*((LOG(AU33))/LOG(2))))","v":-0.375}]
[12,4210,13,4216,13,4224,14,4230,13,4239,0,11111,null,22122,{"$f":"COUNTIF($L$7:$L$500,N34)","v":0},{"$f":"O34/$Q$4","v":0},{"$f":"IF(P34=0,0,(P34*((LOG(P34))/LOG(2))))","v":0},null,null,{"$f":"N34","v":22122},{"$f":"COUNTIF(L7:L31,T34)","v":0},{"$f":"U34/(W4-U25)","v":0},{"$f":"IF(V34=0,0,(V34*((LOG(V34))/LOG(2))))","v":0},null,{"$f":"N34","v":22122},{"$f":"COUNTIF(L32:L56,Y34)","v":0},{"$f":"Z34/(AB4-Z25)","v":0},{"$f":"IF(AA34=0,0,(AA34*((LOG(AA34))/LOG(2))))","v":0},null,{"$f":"N34","v":22122},{"$f":"COUNTIF(L57:L80,AD34)","v":0},{"$f":"AE34/(AG4-AE25)","v":0},{"$f":"IF(AF34=0,0,(AF34*((LOG(AF34))/LOG(2))))","v":0},null,{"$f":"N34","v":22122},{"$f":"COUNTIF(L81:L105,AI34)","v":0},{"$f":"AJ34/(AL4-AJ25)","v":0},{"$f":"IF(AK34=0,0,(AK34*((LOG(AK34))/LOG(2))))","v":0},null,{"$f":"N34","v":22122},{"$f":"COUNTIF(L106:L130,AN34)","v":0},{"$f":"AO34/(AQ4-AO25)","v":0},{"$f":"IF(AP34=0,0,(AP34*((LOG(AP34))/LOG(2))))","v":0},null,{"$f":"N34","v":22122},{"$f":"COUNTIF(L131:L155,AS34)","v":0},{"$f":"AT34/(AV4-AT25)","v":0},{"$f":"IF(AU34=0,0,(AU34*((LOG(AU34))/LOG(2))))","v":0}]
[12,4339,24,4354,13,4366,23,4378,13,4389,0,12121,null,22211,{"$f":"COUNTIF($L$7:$L$500,N35)","v":7},{"$f":"O35/$Q$4","v":4.6979865771812082E-2},{"$f":"IF(P35=0,0,(P35*((LOG(P35))/LOG(2))))","v":-0.20726641066330137},null,null,{"$f":"N35","v":22211},{"$f":"COUNTIF(L7:L31,T35)","v":1},{"$f":"U35/(W4-U25)","v":4.3478260869565216E-2},{"$f":"IF(V35=0,0,(V35*((LOG(V35))/LOG(2))))","v":-0.19667660678508753},null,{"$f":"N35","v":22211},{"$f":"COUNTIF(L32:L56,Y35)","v":1},{"$f":"Z35/(AB4-Z25)","v":4.3478260869565216E-2},{"$f":"IF(AA35=0,0,(AA35*((LOG(AA35))/LOG(2))))","v":-0.19667660678508753},null,{"$f":"N35","v":22211},{"$f":"COUNTIF(L57:L80,AD35)","v":2},{"$f":"AE35/(AG4-AE25)","v":8.6956521739130432E-2},{"$f":"IF(AF35=0,0,(AF35*((LOG(AF35))/LOG(2))))","v":-0.30639669183104457},null,{"$f":"N35","v":22211},{"$f":"COUNTIF(L81:L105,AI35)","v":1},{"$f":"AJ35/(AL4-AJ25)","v":0.04},{"$f":"IF(AK35=0,0,(AK35*((LOG(AK35))/LOG(2))))","v":-0.18575424759098899},null,{"$f":"N35","v":22211},{"$f":"COUNTIF(L106:L130,AN35)","v":1},{"$f":"AO35/(AQ4-AO25)","v":4.1666666666666664E-2},{"$f":"IF(AP35=0,0,(AP35*((LOG(AP35))/LOG(2))))","v":-0.19104010419671485},null,{"$f":"N35","v":22211},{"$f":"COUNTIF(L131:L155,AS35)","v":1},{"$f":"AT35/(AV4-AT25)","v":4.1666666666666664E-2},{"$f":"IF(AU35=0,0,(AU35*((LOG(AU35))/LOG(2))))","v":-0.19104010419671485}]
[21,4500,22,4507,13,4522,23,4532,13,4544,0,22121,null,22212,{"$f":"COUNTIF($L$7:$L$500,N36)","v":10},{"$f":"O36/$Q$4","v":6.7114093959731544E-2},{"$f":"IF(P36=0,0,(P36*((LOG(P36))/LOG(2))))","v":-0.26155976010569121},null,null,{"$f":"N36","v":22212},{"$f":"COUNTIF(L7:L31,T36)","v":0},{"$f":"U36/(W4-U25)","v":0},{"$f":"IF(V36=0,0,(V36*((LOG(V36))/LOG(2))))","v":0},null,{"$f":"N36","v":22212},{"$f":"COUNTIF(L32:L56,Y36)","v":2},{"$f":"Z36/(AB4-Z25)","v":8.6956521739130432E-2},{"$f":"IF(AA36=0,0,(AA36*((LOG(AA36))/LOG(2))))","v":-0.30639669183104457},null,{"$f":"N36","v":22212},{"$f":"COUNTIF(L57:L80,AD36)","v":2},{"$f":"AE36/(AG4-AE25)","v":8.6956521739130432E-2},{"$f":"IF(AF36=0,0,(AF36*((LOG(AF36))/LOG(2))))","v":-0.30639669183104457},null,{"$f":"N36","v":22212},{"$f":"COUNTIF(L81:L105,AI36)","v":0},{"$f":"AJ36/(AL4-AJ25)","v":0},{"$f":"IF(AK36=0,0,(AK36*((LOG(AK36))/LOG(2))))","v":0},null,{"$f":"N36","v":22212},{"$f":"COUNTIF(L106:L130,AN36)","v":5},{"$f":"AO36/(AQ4-AO25)","v":0.20833333333333334},{"$f":"IF(AP36=0,0,(AP36*((LOG(AP36))/LOG(2))))","v":-0.47146550121537367},null,{"$f":"N36","v":22212},{"$f":"COUNTIF(L131:L155,AS36)","v":1},{"$f":"AT36/(AV4-AT25)","v":4.1666666666666664E-2},{"$f":"IF(AU36=0,0,(AU36*((LOG(AU36))/LOG(2))))","v":-0.19104010419671485}]
[12,4646,24,4655,24,4660,23,4665,13,4676,0,12221,null,22221,{"$f":"COUNTIF($L$7:$L$500,N37)","v":3},{"$f":"O37/$Q$4","v":2.0134228187919462E-2},{"$f":"IF(P37=0,0,(P37*((LOG(P37))/LOG(2))))","v":-0.11344038965921487},null,null,{"$f":"N37","v":22221},{"$f":"COUNTIF(L7:L31,T37)","v":0},{"$f":"U37/(W4-U25)","v":0},{"$f":"IF(V37=0,0,(V37*((LOG(V37))/LOG(2))))","v":0},null,{"$f":"N37","v":22221},{"$f":"COUNTIF(L32:L56,Y37)","v":0},{"$f":"Z37/(AB4-Z25)","v":0},{"$f":"IF(AA37=0,0,(AA37*((LOG(AA37))/LOG(2))))","v":0},null,{"$f":"N37","v":22221},{"$f":"COUNTIF(L57:L80,AD37)","v":1},{"$f":"AE37/(AG4-AE25)","v":4.3478260869565216E-2},{"$f":"IF(AF37=0,0,(AF37*((LOG(AF37))/LOG(2))))","v":-0.19667660678508753},null,{"$f":"N37","v":22221},{"$f":"COUNTIF(L81:L105,AI37)","v":0},{"$f":"AJ37/(AL4-AJ25)","v":0},{"$f":"IF(AK37=0,0,(AK37*((LOG(AK37))/LOG(2))))","v":0},null,{"$f":"N37","v":22221},{"$f":"COUNTIF(L106:L130,AN37)","v":0},{"$f":"AO37/(AQ4-AO25)","v":0},{"$f":"IF(AP37=0,0,(AP37*((LOG(AP37))/LOG(2))))","v":0},null,{"$f":"N37","v":22221},{"$f":"COUNTIF(L131:L155,AS37)","v":2},{"$f":"AT37/(AV4-AT25)","v":8.3333333333333329E-2},{"$f":"IF(AU37=0,0,(AU37*((LOG(AU37))/LOG(2))))","v":-0.29874687506009634}]
[21,4805,22,4826,13,4839,23,4851,13,4865,0,22121,null,22222,{"$f":"COUNTIF($L$7:$L$500,N38)","v":0},{"$f":"O38/$Q$4","v":0},{"$f":"IF(P38=0,0,(P38*((LOG(P38))/LOG(2))))","v":0},null,null,{"$f":"N38","v":22222},{"$f":"COUNTIF(L7:L31,T38)","v":0},{"$f":"U38/(W4-U25)","v":0},{"$f":"IF(V38=0,0,(V38*((LOG(V38))/LOG(2))))","v":0},null,{"$f":"N38","v":22222},{"$f":"COUNTIF(L32:L56,Y38)","v":0},{"$f":"Z38/(AB4-Z25)","v":0},{"$f":"IF(AA38=0,0,(AA38*((LOG(AA38))/LOG(2))))","v":0},null,{"$f":"N38","v":22222},{"$f":"COUNTIF(L57:L80,AD38)","v":0},{"$f":"AE38/(AG4-AE25)","v":0},{"$f":"IF(AF38=0,0,(AF38*((LOG(AF38))/LOG(2))))","v":0},null,{"$f":"N38","v":22222},{"$f":"COUNTIF(L81:L105,AI38)","v":0},{"$f":"AJ38/(AL4-AJ25)","v":0},{"$f":"IF(AK38=0,0,(AK38*((LOG(AK38))/LOG(2))))","v":0},null,{"$f":"N38","v":22222},{"$f":"COUNTIF(L106:L130,AN38)","v":0},{"$f":"AO38/(AQ4-AO25)","v":0},{"$f":"IF(AP38=0,0,(AP38*((LOG(AP38))/LOG(2))))","v":0},null,{"$f":"N38","v":22222},{"$f":"COUNTIF(L131:L155,AS38)","v":0},{"$f":"AT38/(AV4-AT25)","v":0},{"$f":"IF(AU38=0,0,(AU38*((LOG(AU38))/LOG(2))))","v":0}]
[21,4972,22,4977,24,4982,14,4995,24,5004,0,22212,null,null,null,{"$f":"SUM(P7:P38)","v":1.0000000000000002},{"$f":"-SUM(Q7:Q38)","v":4.3395133802924901},null,null,null,null,{"$f":"SUM(V7:V38)","v":0.99999999999999978},{"$f":"-SUM(W7:W38)","v":3.6753108689123635},null,null,null,{"$f":"SUM(AA7:AA38)","v":0.99999999999999978},{"$f":"-SUM(AB7:AB38)","v":3.6753108689123639},null,null,null,{"$f":"SUM(AF7:AF38)","v":0.99999999999999978},{"$f":"-SUM(AG7:AG38)","v":3.6211755429194707},null,null,null,{"$f":"SUM(AK7:AK38)","v":1},{"$f":"-SUM(AL7:AL38)","v":3.7034651896016464},null,null,null,{"$f":"SUM(AP7:AP38)","v":0.99999999999999989},{"$f":"-SUM(AQ7:AQ38)","v":3.1531071683628111},null,null,null,{"$f":"SUM(AU7:AU38)","v":1},{"$f":"-SUM(AV7:AV38)","v":3.6572682296173897}]
[21,5111,11,5127,11,5134,21,5145,11,5157,1,21121,null,null,null,"U=",{"$f":"Q39/(LOG(Q4)/LOG(2))","v":0.6011098602273216},null,null,null,null,"U1=",{"$f":"W39/(LOG(W4)/LOG(2))","v":0.79143511743645401},null,null,null,"U2=",{"$f":"AB39/(LOG(AB4)/LOG(2))","v":0.79143511743645412},null,null,null,"U3=",{"$f":"AG39/(LOG(AG4)/LOG(2))","v":0.78979392794377401},null,null,null,"U4=",{"$f":"AL39/(LOG(AL4)/LOG(2))","v":0.79749782040113149},null,null,null,"U5=",{"$f":"AQ39/(LOG(AQ4)/LOG(2))","v":0.67898467125351902},null,null,null,"U6=",{"$f":"AV39/(LOG(AV4)/LOG(2))","v":0.78754984654139448}]
[21,5260,11,5271,22,5284,14,5296,13,5304,0,21211]
[12,5403,24,5417,24,5425,14,5436,24,5449,0,12212]
[12,5547,13,5548,13,5554,23,5568,13,5577,0,11121,null,"Total Target Seq"]
[21,5681,11,5714,11,5723,21,5737,11,5748,1,21121,null,{"$f":"COUNTIF(L7:L155,G3)","v":7},null,25,25,24,25,25,25]
[21,5844,22,5849,24,5857,14,5870,24,5883,0,22212,null,null,null,"% of reinforcement given in 6 equal intervals based on number of trials "]
[12,5983,13,5988,13,5996,14,6003,13,6012,0,11111,null,null,null,"%_1","%_2","%_3","%_4","%_5","%_6"]
[12,6108,24,6122,13,6134,23,6146,13,6158,0,12121,null,null,"target sequence",{"$f":"$G$3","v":21121},{"$f":"$G$3","v":21121},{"$f":"$G$3","v":21121},{"$f":"$G$3","v":21121},{"$f":"$G$3","v":21121},{"$f":"$G$3","v":21121}]
[12,6257,13,6258,24,6274,14,6287,24,6301,0,11212,null,null,"total reinforcement",{"$f":"U25","v":2},{"$f":"Z25","v":2},{"$f":"AE25","v":1},{"$f":"AJ25","v":0},{"$f":"AO25","v":1},{"$f":"AT25","v":1}]
[21,6402,11,6420,22,6429,14,6441,13,6454,0,21211,null,null,"% target"]
[12,6552,24,6569,13,6590,23,6604,24,6629,0,12122,null,null,"CCRF"]
[21,6732,22,6737,24,6742,14,6756,13,6763,0,22211,null,null,"% CCRf"]
[21,6865,11,6898,22,6907,14,6925,24,6935,0,21212,null,null,"average response rate",{"$f":"J31/P44","v":152.63999999999999},{"$f":"(J56-J31)/Q44","v":148.28},{"$f":"(J80-J56)/R44","v":150.95833333333334},{"$f":"(J105-J80)/S44","v":163.47999999999999},{"$f":"(J130-J105)/T44","v":173.72},{"$f":"(J155-J130)/U44","v":175.92}]
[21,7035,11,7052,22,7063,14,7074,13,7082,0,21211]
[12,7180,24,7192,24,7199,14,7208,13,7226,0,12211]
[12,7326,24,7337,24,7341,23,7362,13,7373,0,12221]
[12,7476,24,7489,24,7493,23,7512,13,7523,0,12221]
[21,7625,22,7630,13,7656,23,7666,13,7678,0,22121]
[21,7800,22,7811,24,7816,14,7828,24,7840,0,22212]
[12,7952,24,7961,13,7974,14,7982,24,7997,0,12112]
[21,8110,22,8118,13,8133,23,8146,13,8160,0,22121]
[12,8267,24,8280,24,8285,14,8294,24,8306,0,12212]
[12,8411,13,8416,24,8429,23,8437,13,8449,0,11221]
[21,8552,22,8578,13,8596,23,8605,13,8617,0,22121]
[21,8722,22,8749,24,8764,14,8775,13,8796,0,22211]
[21,8909,22,8913,24,8918,23,8938,13,8947,0,22221]
[21,9055,22,9072,24,9081,14,9093,24,9104,0,22212]
[21,9217,22,9225,24,9230,14,9250,13,9259,0,22211]
[12,9356,24,9369,24,9373,14,9385,24,9397,0,12212]
[12,9522,24,9531,13,9543,14,9552,24,9569,0,12112]
[12,9684,13,9690,13,9695,14,9705,13,9713,0,11111]
[21,9827,11,9836,11,9841,21,9853,11,9862,1,21121]
[12,9951,13,9968,24,9976,14,9993,13,10002,0,11211]
[12,10102,24,10112,24,10119,14,10132,13,10140,0,12211]
[21,10243,22,10261,13,10272,23,10281,13,10292,0,22121]
[21,10407,22,10411,13,10428,14,10432,24,10445,0,22112]
[21,10552,11,10566,22,10576,14,10587,13,10595,0,21211]
[21,10696,11,10712,22,10721,14,10732,24,10742,0,21212]
[12,10839,13,10844,13,10849,14,10857,24,10872,0,11112]
[12,10977,13,10982,13,10987,14,10994,13,11004,0,11111]
[12,11104,13,11113,13,11121,14,11134,13,11146,0,11111]
[21,11280,11,11292,11,11301,12,11314,24,11327,0,21112]
[21,11453,22,11458,13,11469,23,11484,13,11496,0,22121]
[21,11606,22,11611,24,11616,14,11625,13,11639,0,22211]
[21,11775,11,11794,22,11803,14,11814,13,11823,0,21211]
[12,11928,13,11935,13,11943,14,11951,24,11965,0,11112]
[21,12070,22,12075,13,12088,23,12097,13,12108,0,22121]
[12,12215,24,12225,13,12237,23,12249,13,12258,0,12121]
[12,12407,24,12416,13,12427,14,12436,13,12444,0,12111]
[12,12554,13,12563,13,12571,23,12586,13,12598,0,11121]
[12,12712,13,12719,13,12726,23,12744,13,12757,0,11121]
[21,12886,22,12891,13,12907,14,12917,13,12926,0,22111]
[21,13040,11,13057,22,13064,14,13076,13,13101,0,21211]
[21,13201,22,13206,13,13218,23,13227,13,13236,0,22121]
[21,13388,22,13413,13,13422,14,13431,24,13444,0,22112]
[21,13549,22,13553,13,13579,14,13588,13,13596,0,22111]
[12,13695,24,13706,24,13710,23,13730,13,13739,0,12221]
[21,13885,11,13898,22,13908,14,13920,13,13930,0,21211]
[12,14028,13,14039,13,14046,23,14059,13,14071,0,11121]
[12,14186,13,14194,24,14207,14,14217,24,14229,0,11212]
[12,14346,24,14355,13,14369,23,14378,13,14388,0,12121]
[21,14560,11,14569,11,14577,12,14584,13,14599,0,21111]
[12,14760,24,14769,13,14780,14,14788,13,14796,0,12111]
[12,14901,24,14909,24,14917,14,14929,24,14935,0,12212]
[12,15040,13,15041,13,15046,14,15062,13,15070,0,11111]
[21,15191,22,15198,13,15208,23,15222,13,15233,0,22121]
[21,15339,22,15360,13,15369,23,15380,13,15402,0,22121]
[21,15514,22,15535,13,15547,14,15556,13,15564,0,22111]
[21,15664,22,15669,24,15678,14,15689,24,15699,0,22212]
[12,15806,24,15815,13,15825,14,15831,13,15839,0,12111]
[21,15985,22,15991,24,16014,14,16026,13,16035,0,22211]
[21,16199,11,16218,22,16232,14,16244,13,16253,0,21211]
[12,16390,13,16399,13,16407,23,16418,13,16430,0,11121]
[21,16633,22,16659,13,16672,23,16680,13,16691,0,22121]
[21,16817,22,16821,24,16826,14,16839,24,16848,0,22212]
[21,16975,22,16996,13,17009,23,17018,13,17033,0,22121]
[21,17188,22,17197,13,17210,14,17220,13,17227,0,22111]
[21,17338,22,17343,13,17367,23,17375,13,17384,0,22121]
[21,17532,22,17551,13,17563,14,17571,13,17601,0,22111]
[21,17707,22,17712,24,17719,14,17730,24,17742,0,22212]
[21,17846,22,17851,24,17873,14,17882,24,17891,0,22212]
[12,17998,24,18008,24,18016,23,18021,13,18032,0,12221]
[21,18141,22,18146,24,18158,14,18171,24,18181,0,22212]
[21,18399,11,18413,11,18419,12,18431,13,18438,0,21111]
[21,18550,22,18555,13,18565,14,18573,13,18581,0,22111]
[12,18685,13,18696,24,18702,14,18713,13,18724,0,11211]
[21,18870,11,18886,11,18895,21,18904,11,18916,1,21121]
[21,19011,11,19028,22,19035,14,19054,24,19066,0,21212]
[21,19172,11,19188,22,19197,14,19209,13,19221,0,21211]
[12,19364,24,19372,13,19385,14,19405,13,19414,0,12111]
[12,19543,24,19552,13,19562,14,19567,13,19576,0,12111]
[12,19721,24,19730,13,19741,23,19750,13,19762,0,12121]
[12,19866,24,19875,13,19886,14,19893,24,19905,0,12112]
[12,20035,24,20044,13,20052,14,20064,13,20073,0,12111]
[21,20169,11,20184,11,20188,12,20195,13,20205,0,21111]
[21,20394,11,20406,11,20415,21,20429,11,20440,1,21121]
[12,20546,24,20553,13,20565,23,20581,24,20591,0,12122]
[21,20709,22,20716,13,20726,23,20734,13,20747,0,22121]
[21,20854,22,20861,24,20881,14,20893,13,20901,0,22211]
[21,21027,11,21044,22,21055,14,21067,24,21081,0,21212]
[21,21187,22,21192,24,21197,23,21205,13,21215,0,22221]
[21,21337,22,21342,24,21358,23,21374,13,21384,0,22221]
[21,21491,22,21495,24,21499,14,21511,24,21520,0,22212]
[12,21631,24,21636,13,21650,23,21659,13,21670,0,12121]
[21,21775,22,21801,13,21818,23,21827,13,21839,0,22121]
[12,21964,13,21970,13,21978,14,22000,13,22008,0,11111]
[21,22117,22,22122,13,22142,14,22150,24,22159,0,22112]
[21,22308,22,22341,13,22352,14,22363,24,22376,0,22112]
[21,22485,11,22499,22,22512,14,22526,24,22537,0,21212]
[21,22704,11,22713,11,22722,12,22730,13,22738,0,21111]
[21,22861,11,22871,22,22880,14,22888,13,22896,0,21211]
[12,23004,24,23027,13,23044,23,23057,13,23066,0,12121]
[21,23295,11,23310,11,23326,12,23338,13,23360,0,21111]
[21,23559,22,23577,13,23587,14,23598,13,23621,0,22111]
[21,23723,22,23734,13,23745,23,23750,13,23761,0,22121]
[21,23921,11,23947,22,23955,14,23965,13,23974,null,21211]

{"sheet":"!N201910.091","index":15,"n_rows":142,"n_cols":48,"rows_kept":142,"cut":false,"hidden":false,"merged":[[4,39,4,42],[5,39,5,40],[4,44,4,47],[5,44,5,45],[4,24,4,27],[5,24,5,25],[4,29,4,32],[5,29,5,30],[4,34,4,37],[5,34,5,35],[1,1,1,2],[5,13,5,14],[42,13,42,14],[43,13,43,14],[4,19,4,22],[5,19,5,20]]}
["Report for:!N201910.091"]
["Date:","<date>"]
["Hen:","<hen>",null,null,null,"Correct Sequence",{"$f":"Start!J2","v":21121},null,null,null,null,null,null,null,null,"Total Sequences in Data",{"$f":"4994-COUNTBLANK(L7:L5000)","v":136},null,null,null,null,"Total Sequences in Block Data",{"$f":"COUNTA(L7:L29)","v":23},null,null,null,"Total Sequences in Block Data",{"$f":"COUNTA(L30:L51)","v":22},null,null,null,"Total Sequences in Block Data",{"$f":"COUNTA(L52:L74)","v":23},null,null,null,"Total Sequences in Block Data",{"$f":"COUNTA(L75:L97)","v":23},null,null,null,"Total Sequences in Block Data",{"$f":"COUNTA(L98:L119)","v":22},null,null,null,"Total Sequences in Block Data",{"$f":"COUNTA(L120:L142)","v":23}]
[null,null,null,null,null,null,null,null,null,null,null,null,null,null,null,"Total Sequences in Summary",{"$f":"SUM(O7:O38)","v":136},null,null,null,null,"Total Sequences in Block Summary",{"$f":"SUM(U7:U38)","v":23},null,null,null,"Total Sequences in Block Summary",{"$f":"SUM(Z7:Z38)","v":22},null,null,null,"Total Sequences in Block Summary",{"$f":"SUM(AE7:AE38)","v":23},null,null,null,"Total Sequences in Block Summary",{"$f":"SUM(AJ7:AJ38)","v":23},null,null,null,"Total Sequences in Block Summary",{"$f":"SUM(AO7:AO38)","v":22},null,null,null,"Total Sequences in Block Summary",{"$f":"SUM(AT7:AT38)","v":23}]
[null,null,null,null,null,null,null,null,null,null,null,null,null,null,null,null,null,null,null,"Block 1",null,null,null,null,"Block 2",null,null,null,null,"Block 3",null,null,null,null,"Block 4",null,null,null,null,"Block 5",null,null,null,null,"Block 6"]
["Sequence\nComponent\n1","Time\n1","Sequence\nComponent\n2","Time\n2","Sequence\nComponent\n3","Time\n3","Sequence\nComponent\n4","Time\n4","Sequence\nComponent\n5","Time\n5","Correct?\n0=No 1=Yes","Sequence",null,"Frequency",null,"Relative Frequency","Variability",null,null,"Frequency",null,"Relative Frequency","Variability",null,"Frequency",null,"Relative Frequency","Variability",null,"Frequency",null,"Relative Frequency","Variability",null,"Frequency",null,"Relative Frequency","Variability",null,"Frequency",null,"Relative Frequency","Variability",null,"Frequency",null,"Relative Frequency","Variability"]
[21,14,22,22,13,30,14,32,13,40,0,22111,null,11111,{"$f":"COUNTIF($L$7:$L$500,N7)","v":1},{"$f":"O7/$Q$4","v":7.3529411764705881E-3},{"$f":"IF(P7=0,0,(P7*((LOG(P7))/LOG(2))))","v":-5.2113697362134843E-2},null,null,{"$f":"N7","v":11111},{"$f":"COUNTIF(L7:L29,T7)","v":0},{"$f":"U7/(W4-U25)","v":0},{"$f":"IF(V7=0,0,(V7*((LOG(V7))/LOG(2))))","v":0},null,{"$f":"N7","v":11111},{"$f":"COUNTIF(L30:L51,Y7)","v":0},{"$f":"Z7/(AB4-Z25)","v":0},{"$f":"IF(AA7=0,0,(AA7*((LOG(AA7))/LOG(2))))","v":0},null,{"$f":"N7","v":11111},{"$f":"COUNTIF(L52:L74,AD7)","v":0},{"$f":"AE7/(AG4-AE25)","v":0},{"$f":"IF(AF7=0,0,(AF7*((LOG(AF7))/LOG(2))))","v":0},null,{"$f":"N7","v":11111},{"$f":"COUNTIF(L75:L97,AI7)","v":0},{"$f":"AJ7/(AL4-AJ25)","v":0},{"$f":"IF(AK7=0,0,(AK7*((LOG(AK7))/LOG(2))))","v":0},null,{"$f":"N7","v":11111},{"$f":"COUNTIF(L98:L119,AN7)","v":0},{"$f":"AO7/(AQ4-AO25)","v":0},{"$f":"IF(AP7=0,0,(AP7*((LOG(AP7))/LOG(2))))","v":0},null,{"$f":"N7","v":11111},{"$f":"COUNTIF(L120:L142,AS7)","v":1},{"$f":"AT7/(AV4-AT25)","v":0.05},{"$f":"IF(AU7=0,0,(AU7*((LOG(AU7))/LOG(2))))","v":-0.21609640474436814}]
[12,142,24,152,13,164,23,176,13,188,0,12121,null,11112,{"$f":"COUNTIF($L$7:$L$500,N8)","v":4},{"$f":"O8/$Q$4","v":2.9411764705882353E-2},{"$f":"IF(P8=0,0,(P8*((LOG(P8))/LOG(2))))","v":-0.14963126003677468},null,null,{"$f":"N8","v":11112},{"$f":"COUNTIF(L7:L29,T8)","v":1},{"$f":"U8/(W4-U25)","v":4.5454545454545456E-2},{"$f":"IF(V8=0,0,(V8*((LOG(V8))/LOG(2))))","v":-0.20270143721078623},null,{"$f":"N8","v":11112},{"$f":"COUNTIF(L30:L51,Y8)","v":0},{"$f":"Z8/(AB4-Z25)","v":0},{"$f":"IF(AA8=0,0,(AA8*((LOG(AA8))/LOG(2))))","v":0},null,{"$f":"N8","v":11112},{"$f":"COUNTIF(L52:L74,AD8)","v":0},{"$f":"AE8/(AG4-AE25)","v":0},{"$f":"IF(AF8=0,0,(AF8*((LOG(AF8))/LOG(2))))","v":0},null,{"$f":"N8","v":11112},{"$f":"COUNTIF(L75:L97,AI8)","v":1},{"$f":"AJ8/(AL4-AJ25)","v":4.3478260869565216E-2},{"$f":"IF(AK8=0,0,(AK8*((LOG(AK8))/LOG(2))))","v":-0.19667660678508753},null,{"$f":"N8","v":11112},{"$f":"COUNTIF(L98:L119,AN8)","v":2},{"$f":"AO8/(AQ4-AO25)","v":9.0909090909090912E-2},{"$f":"IF(AP8=0,0,(AP8*((LOG(AP8))/LOG(2))))","v":-0.31449378351248153},null,{"$f":"N8","v":11112},{"$f":"COUNTIF(L120:L142,AS8)","v":0},{"$f":"AT8/(AV4-AT25)","v":0},{"$f":"IF(AU8=0,0,(AU8*((LOG(AU8))/LOG(2))))","v":0}]
[12,289,13,309,24,319,14,331,13,339,0,11211,null,11121,{"$f":"COUNTIF($L$7:$L$500,N9)","v":2},{"$f":"O9/$Q$4","v":1.4705882352941176E-2},{"$f":"IF(P9=0,0,(P9*((LOG(P9))/LOG(2))))","v":-8.9521512371328521E-2},null,null,{"$f":"N9","v":11121},{"$f":"COUNTIF(L7:L29,T9)","v":1},{"$f":"U9/(W4-U25)","v":4.5454545454545456E-2},{"$f":"IF(V9=0,0,(V9*((LOG(V9))/LOG(2))))","v":-0.20270143721078623},null,{"$f":"N9","v":11121},{"$f":"COUNTIF(L30:L51,Y9)","v":0},{"$f":"Z9/(AB4-Z25)","v":0},{"$f":"IF(AA9=0,0,(AA9*((LOG(AA9))/LOG(2))))","v":0},null,{"$f":"N9","v":11121},{"$f":"COUNTIF(L52:L74,AD9)","v":0},{"$f":"AE9/(AG4-AE25)","v":0},{"$f":"IF(AF9=0,0,(AF9*((LOG(AF9))/LOG(2))))","v":0},null,{"$f":"N9","v":11121},{"$f":"COUNTIF(L75:L97,AI9)","v":0},{"$f":"AJ9/(AL4-AJ25)","v":0},{"$f":"IF(AK9=0,0,(AK9*((LOG(AK9))/LOG(2))))","v":0},null,{"$f":"N9","v":11121},{"$f":"COUNTIF(L98:L119,AN9)","v":1},{"$f":"AO9/(AQ4-AO25)","v":4.5454545454545456E-2},{"$f":"IF(AP9=0,0,(AP9*((LOG(AP9))/LOG(2))))","v":-0.20270143721078623},null,{"$f":"N9","v":11121},{"$f":"COUNTIF(L120:L142,AS9)","v":0},{"$f":"AT9/(AV4-AT25)","v":0},{"$f":"IF(AU9=0,0,(AU9*((LOG(AU9))/LOG(2))))","v":0}]
[21,471,22,480,13,491,14,500,13,513,0,22111,null,11122,{"$f":"COUNTIF($L$7:$L$500,N10)","v":0},{"$f":"O10/$Q$4","v":0},{"$f":"IF(P10=0,0,(P10*((LOG(P10))/LOG(2))))","v":0},null,null,{"$f":"N10","v":11122},{"$f":"COUNTIF(L7:L29,T10)","v":0},{"$f":"U10/(W4-U25)","v":0},{"$f":"IF(V10=0,0,(V10*((LOG(V10))/LOG(2))))","v":0},null,{"$f":"N10","v":11122},{"$f":"COUNTIF(L30:L51,Y10)","v":0},{"$f":"Z10/(AB4-Z25)","v":0},{"$f":"IF(AA10=0,0,(AA10*((LOG(AA10))/LOG(2))))","v":0},null,{"$f":"N10","v":11122},{"$f":"COUNTIF(L52:L74,AD10)","v":0},{"$f":"AE10/(AG4-AE25)","v":0},{"$f":"IF(AF10=0,0,(AF10*((LOG(AF10))/LOG(2))))","v":0},null,{"$f":"N10","v":11122},{"$f":"COUNTIF(L75:L97,AI10)","v":0},{"$f":"AJ10/(AL4-AJ25)","v":0},{"$f":"IF(AK10=0,0,(AK10*((LOG(AK10))/LOG(2))))","v":0},null,{"$f":"N10","v":11122},{"$f":"COUNTIF(L98:L119,AN10)","v":0},{"$f":"AO10/(AQ4-AO25)","v":0},{"$f":"IF(AP10=0,0,(AP10*((LOG(AP10))/LOG(2))))","v":0},null,{"$f":"N10","v":11122},{"$f":"COUNTIF(L120:L142,AS10)","v":0},{"$f":"AT10/(AV4-AT25)","v":0},{"$f":"IF(AU10=0,0,(AU10*((LOG(AU10))/LOG(2))))","v":0}]
[12,679,13,689,24,702,14,713,13,725,0,11211,null,11211,{"$f":"COUNTIF($L$7:$L$500,N11)","v":6},{"$f":"O11/$Q$4","v":4.4117647058823532E-2},{"$f":"IF(P11=0,0,(P11*((LOG(P11))/LOG(2))))","v":-0.19863972090569926},null,null,{"$f":"N11","v":11211},{"$f":"COUNTIF(L7:L29,T11)","v":3},{"$f":"U11/(W4-U25)","v":0.13636363636363635},{"$f":"IF(V11=0,0,(V11*((LOG(V11))/LOG(2))))","v":-0.39197306153401923},null,{"$f":"N11","v":11211},{"$f":"COUNTIF(L30:L51,Y11)","v":0},{"$f":"Z11/(AB4-Z25)","v":0},{"$f":"IF(AA11=0,0,(AA11*((LOG(AA11))/LOG(2))))","v":0},null,{"$f":"N11","v":11211},{"$f":"COUNTIF(L52:L74,AD11)","v":1},{"$f":"AE11/(AG4-AE25)","v":4.3478260869565216E-2},{"$f":"IF(AF11=0,0,(AF11*((LOG(AF11))/LOG(2))))","v":-0.19667660678508753},null,{"$f":"N11","v":11211},{"$f":"COUNTIF(L75:L97,AI11)","v":1},{"$f":"AJ11/(AL4-AJ25)","v":4.3478260869565216E-2},{"$f":"IF(AK11=0,0,(AK11*((LOG(AK11))/LOG(2))))","v":-0.19667660678508753},null,{"$f":"N11","v":11211},{"$f":"COUNTIF(L98:L119,AN11)","v":0},{"$f":"AO11/(AQ4-AO25)","v":0},{"$f":"IF(AP11=0,0,(AP11*((LOG(AP11))/LOG(2))))","v":0},null,{"$f":"N11","v":11211},{"$f":"COUNTIF(L120:L142,AS11)","v":1},{"$f":"AT11/(AV4-AT25)","v":0.05},{"$f":"IF(AU11=0,0,(AU11*((LOG(AU11))/LOG(2))))","v":-0.21609640474436814}]
[12,839,13,936,24,948,14,958,13,968,0,11211,null,11212,{"$f":"COUNTIF($L$7:$L$500,N12)","v":3},{"$f":"O12/$Q$4","v":2.2058823529411766E-2},{"$f":"IF(P12=0,0,(P12*((LOG(P12))/LOG(2))))","v":-0.1213786839822614},null,null,{"$f":"N12","v":11212},{"$f":"COUNTIF(L7:L29,T12)","v":0},{"$f":"U12/(W4-U25)","v":0},{"$f":"IF(V12=0,0,(V12*((LOG(V12))/LOG(2))))","v":0},null,{"$f":"N12","v":11212},{"$f":"COUNTIF(L30:L51,Y12)","v":1},{"$f":"Z12/(AB4-Z25)","v":0.05},{"$f":"IF(AA12=0,0,(AA12*((LOG(AA12))/LOG(2))))","v":-0.21609640474436814},null,{"$f":"N12","v":11212},{"$f":"COUNTIF(L52:L74,AD12)","v":1},{"$f":"AE12/(AG4-AE25)","v":4.3478260869565216E-2},{"$f":"IF(AF12=0,0,(AF12*((LOG(AF12))/LOG(2))))","v":-0.19667660678508753},null,{"$f":"N12","v":11212},{"$f":"COUNTIF(L75:L97,AI12)","v":0},{"$f":"AJ12/(AL4-AJ25)","v":0},{"$f":"IF(AK12=0,0,(AK12*((LOG(AK12))/LOG(2))))","v":0},null,{"$f":"N12","v":11212},{"$f":"COUNTIF(L98:L119,AN12)","v":0},{"$f":"AO12/(AQ4-AO25)","v":0},{"$f":"IF(AP12=0,0,(AP12*((LOG(AP12))/LOG(2))))","v":0},null,{"$f":"N12","v":11212},{"$f":"COUNTIF(L120:L142,AS12)","v":1},{"$f":"AT12/(AV4-AT25)","v":0.05},{"$f":"IF(AU12=0,0,(AU12*((LOG(AU12))/LOG(2))))","v":-0.21609640474436814}]
[12,1119,24,1129,13,1141,14,1150,13,1164,0,12111,null,11221,{"$f":"COUNTIF($L$7:$L$500,N13)","v":2},{"$f":"O13/$Q$4","v":1.4705882352941176E-2},{"$f":"IF(P13=0,0,(P13*((LOG(P13))/LOG(2))))","v":-8.9521512371328521E-2},null,null,{"$f":"N13","v":11221},{"$f":"COUNTIF(L7:L29,T13)","v":0},{"$f":"U13/(W4-U25)","v":0},{"$f":"IF(V13=0,0,(V13*((LOG(V13))/LOG(2))))","v":0},null,{"$f":"N13","v":11221},{"$f":"COUNTIF(L30:L51,Y13)","v":0},{"$f":"Z13/(AB4-Z25)","v":0},{"$f":"IF(AA13=0,0,(AA13*((LOG(AA13))/LOG(2))))","v":0},null,{"$f":"N13","v":11221},{"$f":"COUNTIF(L52:L74,AD13)","v":0},{"$f":"AE13/(AG4-AE25)","v":0},{"$f":"IF(AF13=0,0,(AF13*((LOG(AF13))/LOG(2))))","v":0},null,{"$f":"N13","v":11221},{"$f":"COUNTIF(L75:L97,AI13)","v":0},{"$f":"AJ13/(AL4-AJ25)","v":0},{"$f":"IF(AK13=0,0,(AK13*((LOG(AK13))/LOG(2))))","v":0},null,{"$f":"N13","v":11221},{"$f":"COUNTIF(L98:L119,AN13)","v":1},{"$f":"AO13/(AQ4-AO25)","v":4.5454545454545456E-2},{"$f":"IF(AP13=0,0,(AP13*((LOG(AP13))/LOG(2))))","v":-0.20270143721078623},null,{"$f":"N13","v":11221},{"$f":"COUNTIF(L120:L142,AS13)","v":1},{"$f":"AT13/(AV4-AT25)","v":0.05},{"$f":"IF(AU13=0,0,(AU13*((LOG(AU13))/LOG(2))))","v":-0.21609640474436814}]
[12,1301,24,1311,24,1324,14,1337,13,1346,0,12211,null,11222,{"$f":"COUNTIF($L$7:$L$500,N14)","v":0},{"$f":"O14/$Q$4","v":0},{"$f":"IF(P14=0,0,(P14*((LOG(P14))/LOG(2))))","v":0},null,null,{"$f":"N14","v":11222},{"$f":"COUNTIF(L7:L29,T14)","v":0},{"$f":"U14/(W4-U25)","v":0},{"$f":"IF(V14=0,0,(V14*((LOG(V14))/LOG(2))))","v":0},null,{"$f":"N14","v":11222},{"$f":"COUNTIF(L30:L51,Y14)","v":0},{"$f":"Z14/(AB4-Z25)","v":0},{"$f":"IF(AA14=0,0,(AA14*((LOG(AA14))/LOG(2))))","v":0},null,{"$f":"N14","v":11222},{"$f":"COUNTIF(L52:L74,AD14)","v":0},{"$f":"AE14/(AG4-AE25)","v":0},{"$f":"IF(AF14=0,0,(AF14*((LOG(AF14))/LOG(2))))","v":0},null,{"$f":"N14","v":11222},{"$f":"COUNTIF(L75:L97,AI14)","v":0},{"$f":"AJ14/(AL4-AJ25)","v":0},{"$f":"IF(AK14=0,0,(AK14*((LOG(AK14))/LOG(2))))","v":0},null,{"$f":"N14","v":11222},{"$f":"COUNTIF(L98:L119,AN14)","v":0},{"$f":"AO14/(AQ4-AO25)","v":0},{"$f":"IF(AP14=0,0,(AP14*((LOG(AP14))/LOG(2))))","v":0},null,{"$f":"N14","v":11222},{"$f":"COUNTIF(L120:L142,AS14)","v":0},{"$f":"AT14/(AV4-AT25)","v":0},{"$f":"IF(AU14=0,0,(AU14*((LOG(AU14))/LOG(2))))","v":0}]
[21,1481,11,1498,22,1510,14,1523,13,1533,0,21211,null,12111,{"$f":"COUNTIF($L$7:$L$500,N15)","v":2},{"$f":"O15/$Q$4","v":1.4705882352941176E-2},{"$f":"IF(P15=0,0,(P15*((LOG(P15))/LOG(2))))","v":-8.9521512371328521E-2},null,null,{"$f":"N15","v":12111},{"$f":"COUNTIF(L7:L29,T15)","v":1},{"$f":"U15/(W4-U25)","v":4.5454545454545456E-2},{"$f":"IF(V15=0,0,(V15*((LOG(V15))/LOG(2))))","v":-0.20270143721078623},null,{"$f":"N15","v":12111},{"$f":"COUNTIF(L30:L51,Y15)","v":0},{"$f":"Z15/(AB4-Z25)","v":0},{"$f":"IF(AA15=0,0,(AA15*((LOG(AA15))/LOG(2))))","v":0},null,{"$f":"N15","v":12111},{"$f":"COUNTIF(L52:L74,AD15)","v":0},{"$f":"AE15/(AG4-AE25)","v":0},{"$f":"IF(AF15=0,0,(AF15*((LOG(AF15))/LOG(2))))","v":0},null,{"$f":"N15","v":12111},{"$f":"COUNTIF(L75:L97,AI15)","v":0},{"$f":"AJ15/(AL4-AJ25)","v":0},{"$f":"IF(AK15=0,0,(AK15*((LOG(AK15))/LOG(2))))","v":0},null,{"$f":"N15","v":12111},{"$f":"COUNTIF(L98:L119,AN15)","v":0},{"$f":"AO15/(AQ4-AO25)","v":0},{"$f":"IF(AP15=0,0,(AP15*((LOG(AP15))/LOG(2))))","v":0},null,{"$f":"N15","v":12111},{"$f":"COUNTIF(L120:L142,AS15)","v":1},{"$f":"AT15/(AV4-AT25)","v":0.05},{"$f":"IF(AU15=0,0,(AU15*((LOG(AU15))/LOG(2))))","v":-0.21609640474436814}]
[21,1679,22,1684,13,1696,23,1711,13,1723,0,22121,null,12112,{"$f":"COUNTIF($L$7:$L$500,N16)","v":4},{"$f":"O16/$Q$4","v":2.9411764705882353E-2},{"$f":"IF(P16=0,0,(P16*((LOG(P16))/LOG(2))))","v":-0.14963126003677468},null,null,{"$f":"N16","v":12112},{"$f":"COUNTIF(L7:L29,T16)","v":2},{"$f":"U16/(W4-U25)","v":9.0909090909090912E-2},{"$f":"IF(V16=0,0,(V16*((LOG(V16))/LOG(2))))","v":-0.31449378351248153},null,{"$f":"N16","v":12112},{"$f":"COUNTIF(L30:L51,Y16)","v":1},{"$f":"Z16/(AB4-Z25)","v":0.05},{"$f":"IF(AA16=0,0,(AA16*((LOG(AA16))/LOG(2))))","v":-0.21609640474436814},null,{"$f":"N16","v":12112},{"$f":"COUNTIF(L52:L74,AD16)","v":0},{"$f":"AE16/(AG4-AE25)","v":0},{"$f":"IF(AF16=0,0,(AF16*((LOG(AF16))/LOG(2))))","v":0},null,{"$f":"N16","v":12112},{"$f":"COUNTIF(L75:L97,AI16)","v":1},{"$f":"AJ16/(AL4-AJ25)","v":4.3478260869565216E-2},{"$f":"IF(AK16=0,0,(AK16*((LOG(AK16))/LOG(2))))","v":-0.19667660678508753},null,{"$f":"N16","v":12112},{"$f":"COUNTIF(L98:L119,AN16)","v":0},{"$f":"AO16/(AQ4-AO25)","v":0},{"$f":"IF(AP16=0,0,(AP16*((LOG(AP16))/LOG(2))))","v":0},null,{"$f":"N16","v":12112},{"$f":"COUNTIF(L120:L142,AS16)","v":0},{"$f":"AT16/(AV4-AT25)","v":0},{"$f":"IF(AU16=0,0,(AU16*((LOG(AU16))/LOG(2))))","v":0}]
[12,1868,13,1892,13,1915,14,1936,24,1945,0,11112,null,12121,{"$f":"COUNTIF($L$7:$L$500,N17)","v":11},{"$f":"O17/$Q$4","v":8.0882352941176475E-2},{"$f":"IF(P17=0,0,(P17*((LOG(P17))/LOG(2))))","v":-0.2934437018289961},null,null,{"$f":"N17","v":12121},{"$f":"COUNTIF(L7:L29,T17)","v":1},{"$f":"U17/(W4-U25)","v":4.5454545454545456E-2},{"$f":"IF(V17=0,0,(V17*((LOG(V17))/LOG(2))))","v":-0.20270143721078623},null,{"$f":"N17","v":12121},{"$f":"COUNTIF(L30:L51,Y17)","v":1},{"$f":"Z17/(AB4-Z25)","v":0.05},{"$f":"IF(AA17=0,0,(AA17*((LOG(AA17))/LOG(2))))","v":-0.21609640474436814},null,{"$f":"N17","v":12121},{"$f":"COUNTIF(L52:L74,AD17)","v":0},{"$f":"AE17/(AG4-AE25)","v":0},{"$f":"IF(AF17=0,0,(AF17*((LOG(AF17))/LOG(2))))","v":0},null,{"$f":"N17","v":12121},{"$f":"COUNTIF(L75:L97,AI17)","v":2},{"$f":"AJ17/(AL4-AJ25)","v":8.6956521739130432E-2},{"$f":"IF(AK17=0,0,(AK17*((LOG(AK17))/LOG(2))))","v":-0.30639669183104457},null,{"$f":"N17","v":12121},{"$f":"COUNTIF(L98:L119,AN17)","v":5},{"$f":"AO17/(AQ4-AO25)","v":0.22727272727272727},{"$f":"IF(AP17=0,0,(AP17*((LOG(AP17))/LOG(2))))","v":-0.48579625539771243},null,{"$f":"N17","v":12121},{"$f":"COUNTIF(L120:L142,AS17)","v":2},{"$f":"AT17/(AV4-AT25)","v":0.1},{"$f":"IF(AU17=0,0,(AU17*((LOG(AU17))/LOG(2))))","v":-0.33219280948873625}]
[21,2084,11,2097,22,2107,14,2119,13,2127,0,21211,null,12122,{"$f":"COUNTIF($L$7:$L$500,N18)","v":0},{"$f":"O18/$Q$4","v":0},{"$f":"IF(P18=0,0,(P18*((LOG(P18))/LOG(2))))","v":0},null,null,{"$f":"N18","v":12122},{"$f":"COUNTIF(L7:L29,T18)","v":0},{"$f":"U18/(W4-U25)","v":0},{"$f":"IF(V18=0,0,(V18*((LOG(V18))/LOG(2))))","v":0},null,{"$f":"N18","v":12122},{"$f":"COUNTIF(L30:L51,Y18)","v":0},{"$f":"Z18/(AB4-Z25)","v":0},{"$f":"IF(AA18=0,0,(AA18*((LOG(AA18))/LOG(2))))","v":0},null,{"$f":"N18","v":12122},{"$f":"COUNTIF(L52:L74,AD18)","v":0},{"$f":"AE18/(AG4-AE25)","v":0},{"$f":"IF(AF18=0,0,(AF18*((LOG(AF18))/LOG(2))))","v":0},null,{"$f":"N18","v":12122},{"$f":"COUNTIF(L75:L97,AI18)","v":0},{"$f":"AJ18/(AL4-AJ25)","v":0},{"$f":"IF(AK18=0,0,(AK18*((LOG(AK18))/LOG(2))))","v":0},null,{"$f":"N18","v":12122},{"$f":"COUNTIF(L98:L119,AN18)","v":0},{"$f":"AO18/(AQ4-AO25)","v":0},{"$f":"IF(AP18=0,0,(AP18*((LOG(AP18))/LOG(2))))","v":0},null,{"$f":"N18","v":12122},{"$f":"COUNTIF(L120:L142,AS18)","v":0},{"$f":"AT18/(AV4-AT25)","v":0},{"$f":"IF(AU18=0,0,(AU18*((LOG(AU18))/LOG(2))))","v":0}]
[21,2260,11,2275,22,2285,14,2299,13,2323,0,21211,null,12211,{"$f":"COUNTIF($L$7:$L$500,N19)","v":3},{"$f":"O19/$Q$4","v":2.2058823529411766E-2},{"$f":"IF(P19=0,0,(P19*((LOG(P19))/LOG(2))))","v":-0.1213786839822614},null,null,{"$f":"N19","v":12211},{"$f":"COUNTIF(L7:L29,T19)","v":1},{"$f":"U19/(W4-U25)","v":4.5454545454545456E-2},{"$f":"IF(V19=0,0,(V19*((LOG(V19))/LOG(2))))","v":-0.20270143721078623},null,{"$f":"N19","v":12211},{"$f":"COUNTIF(L30:L51,Y19)","v":2},{"$f":"Z19/(AB4-Z25)","v":0.1},{"$f":"IF(AA19=0,0,(AA19*((LOG(AA19))/LOG(2))))","v":-0.33219280948873625},null,{"$f":"N19","v":12211},{"$f":"COUNTIF(L52:L74,AD19)","v":0},{"$f":"AE19/(AG4-AE25)","v":0},{"$f":"IF(AF19=0,0,(AF19*((LOG(AF19))/LOG(2))))","v":0},null,{"$f":"N19","v":12211},{"$f":"COUNTIF(L75:L97,AI19)","v":0},{"$f":"AJ19/(AL4-AJ25)","v":0},{"$f":"IF(AK19=0,0,(AK19*((LOG(AK19))/LOG(2))))","v":0},null,{"$f":"N19","v":12211},{"$f":"COUNTIF(L98:L119,AN19)","v":0},{"$f":"AO19/(AQ4-AO25)","v":0},{"$f":"IF(AP19=0,0,(AP19*((LOG(AP19))/LOG(2))))","v":0},null,{"$f":"N19","v":12211},{"$f":"COUNTIF(L120:L142,AS19)","v":0},{"$f":"AT19/(AV4-AT25)","v":0},{"$f":"IF(AU19=0,0,(AU19*((LOG(AU19))/LOG(2))))","v":0}]
[21,2460,11,2486,22,2495,14,2510,13,2530,0,21211,null,12212,{"$f":"COUNTIF($L$7:$L$500,N20)","v":2},{"$f":"O20/$Q$4","v":1.4705882352941176E-2},{"$f":"IF(P20=0,0,(P20*((LOG(P20))/LOG(2))))","v":-8.9521512371328521E-2},null,null,{"$f":"N20","v":12212},{"$f":"COUNTIF(L7:L29,T20)","v":0},{"$f":"U20/(W4-U25)","v":0},{"$f":"IF(V20=0,0,(V20*((LOG(V20))/LOG(2))))","v":0},null,{"$f":"N20","v":12212},{"$f":"COUNTIF(L30:L51,Y20)","v":2},{"$f":"Z20/(AB4-Z25)","v":0.1},{"$f":"IF(AA20=0,0,(AA20*((LOG(AA20))/LOG(2))))","v":-0.33219280948873625},null,{"$f":"N20","v":12212},{"$f":"COUNTIF(L52:L74,AD20)","v":0},{"$f":"AE20/(AG4-AE25)","v":0},{"$f":"IF(AF20=0,0,(AF20*((LOG(AF20))/LOG(2))))","v":0},null,{"$f":"N20","v":12212},{"$f":"COUNTIF(L75:L97,AI20)","v":0},{"$f":"AJ20/(AL4-AJ25)","v":0},{"$f":"IF(AK20=0,0,(AK20*((LOG(AK20))/LOG(2))))","v":0},null,{"$f":"N20","v":12212},{"$f":"COUNTIF(L98:L119,AN20)","v":0},{"$f":"AO20/(AQ4-AO25)","v":0},{"$f":"IF(AP20=0,0,(AP20*((LOG(AP20))/LOG(2))))","v":0},null,{"$f":"N20","v":12212},{"$f":"COUNTIF(L120:L142,AS20)","v":0},{"$f":"AT20/(AV4-AT25)","v":0},{"$f":"IF(AU20=0,0,(AU20*((LOG(AU20))/LOG(2))))","v":0}]
[21,2670,22,2693,13,2703,23,2716,13,2727,0,22121,null,12221,{"$f":"COUNTIF($L$7:$L$500,N21)","v":1},{"$f":"O21/$Q$4","v":7.3529411764705881E-3},{"$f":"IF(P21=0,0,(P21*((LOG(P21))/LOG(2))))","v":-5.2113697362134843E-2},null,null,{"$f":"N21","v":12221},{"$f":"COUNTIF(L7:L29,T21)","v":0},{"$f":"U21/(W4-U25)","v":0},{"$f":"IF(V21=0,0,(V21*((LOG(V21))/LOG(2))))","v":0},null,{"$f":"N21","v":12221},{"$f":"COUNTIF(L30:L51,Y21)","v":0},{"$f":"Z21/(AB4-Z25)","v":0},{"$f":"IF(AA21=0,0,(AA21*((LOG(AA21))/LOG(2))))","v":0},null,{"$f":"N21","v":12221},{"$f":"COUNTIF(L52:L74,AD21)","v":1},{"$f":"AE21/(AG4-AE25)","v":4.3478260869565216E-2},{"$f":"IF(AF21=0,0,(AF21*((LOG(AF21))/LOG(2))))","v":-0.19667660678508753},null,{"$f":"N21","v":12221},{"$f":"COUNTIF(L75:L97,AI21)","v":0},{"$f":"AJ21/(AL4-AJ25)","v":0},{"$f":"IF(AK21=0,0,(AK21*((LOG(AK21))/LOG(2))))","v":0},null,{"$f":"N21","v":12221},{"$f":"COUNTIF(L98:L119,AN21)","v":0},{"$f":"AO21/(AQ4-AO25)","v":0},{"$f":"IF(AP21=0,0,(AP21*((LOG(AP21))/LOG(2))))","v":0},null,{"$f":"N21","v":12221},{"$f":"COUNTIF(L120:L142,AS21)","v":0},{"$f":"AT21/(AV4-AT25)","v":0},{"$f":"IF(AU21=0,0,(AU21*((LOG(AU21))/LOG(2))))","v":0}]
[12,2873,24,2882,13,2894,14,2903,24,2917,0,12112,null,12222,{"$f":"COUNTIF($L$7:$L$500,N22)","v":0},{"$f":"O22/$Q$4","v":0},{"$f":"IF(P22=0,0,(P22*((LOG(P22))/LOG(2))))","v":0},null,null,{"$f":"N22","v":12222},{"$f":"COUNTIF(L7:L29,T22)","v":0},{"$f":"U22/(W4-U25)","v":0},{"$f":"IF(V22=0,0,(V22*((LOG(V22))/LOG(2))))","v":0},null,{"$f":"N22","v":12222},{"$f":"COUNTIF(L30:L51,Y22)","v":0},{"$f":"Z22/(AB4-Z25)","v":0},{"$f":"IF(AA22=0,0,(AA22*((LOG(AA22))/LOG(2))))","v":0},null,{"$f":"N22","v":12222},{"$f":"COUNTIF(L52:L74,AD22)","v":0},{"$f":"AE22/(AG4-AE25)","v":0},{"$f":"IF(AF22=0,0,(AF22*((LOG(AF22))/LOG(2))))","v":0},null,{"$f":"N22","v":12222},{"$f":"COUNTIF(L75:L97,AI22)","v":0},{"$f":"AJ22/(AL4-AJ25)","v":0},{"$f":"IF(AK22=0,0,(AK22*((LOG(AK22))/LOG(2))))","v":0},null,{"$f":"N22","v":12222},{"$f":"COUNTIF(L98:L119,AN22)","v":0},{"$f":"AO22/(AQ4-AO25)","v":0},{"$f":"IF(AP22=0,0,(AP22*((LOG(AP22))/LOG(2))))","v":0},null,{"$f":"N22","v":12222},{"$f":"COUNTIF(L120:L142,AS22)","v":0},{"$f":"AT22/(AV4-AT25)","v":0},{"$f":"IF(AU22=0,0,(AU22*((LOG(AU22))/LOG(2))))","v":0}]
[21,3026,22,3060,13,3072,14,3080,24,3094,0,22112,null,21111,{"$f":"COUNTIF($L$7:$L$500,N23)","v":0},{"$f":"O23/$Q$4","v":0},{"$f":"IF(P23=0,0,(P23*((LOG(P23))/LOG(2))))","v":0},null,null,{"$f":"N23","v":21111},{"$f":"COUNTIF(L7:L29,T23)","v":0},{"$f":"U23/(W4-U25)","v":0},{"$f":"IF(V23=0,0,(V23*((LOG(V23))/LOG(2))))","v":0},null,{"$f":"N23","v":21111},{"$f":"COUNTIF(L30:L51,Y23)","v":0},{"$f":"Z23/(AB4-Z25)","v":0},{"$f":"IF(AA23=0,0,(AA23*((LOG(AA23))/LOG(2))))","v":0},null,{"$f":"N23","v":21111},{"$f":"COUNTIF(L52:L74,AD23)","v":0},{"$f":"AE23/(AG4-AE25)","v":0},{"$f":"IF(AF23=0,0,(AF23*((LOG(AF23))/LOG(2))))","v":0},null,{"$f":"N23","v":21111},{"$f":"COUNTIF(L75:L97,AI23)","v":0},{"$f":"AJ23/(AL4-AJ25)","v":0},{"$f":"IF(AK23=0,0,(AK23*((LOG(AK23))/LOG(2))))","v":0},null,{"$f":"N23","v":21111},{"$f":"COUNTIF(L98:L119,AN23)","v":0},{"$f":"AO23/(AQ4-AO25)","v":0},{"$f":"IF(AP23=0,0,(AP23*((LOG(AP23))/LOG(2))))","v":0},null,{"$f":"N23","v":21111},{"$f":"COUNTIF(L120:L142,AS23)","v":0},{"$f":"AT23/(AV4-AT25)","v":0},{"$f":"IF(AU23=0,0,(AU23*((LOG(AU23))/LOG(2))))","v":0}]
[21,3218,11,3244,11,3252,21,3262,11,3273,1,21121,null,21112,{"$f":"COUNTIF($L$7:$L$500,N24)","v":2},{"$f":"O24/$Q$4","v":1.4705882352941176E-2},{"$f":"IF(P24=0,0,(P24*((LOG(P24))/LOG(2))))","v":-8.9521512371328521E-2},null,null,{"$f":"N24","v":21112},{"$f":"COUNTIF(L7:L29,T24)","v":0},{"$f":"U24/(W4-U25)","v":0},{"$f":"IF(V24=0,0,(V24*((LOG(V24))/LOG(2))))","v":0},null,{"$f":"N24","v":21112},{"$f":"COUNTIF(L30:L51,Y24)","v":1},{"$f":"Z24/(AB4-Z25)","v":0.05},{"$f":"IF(AA24=0,0,(AA24*((LOG(AA24))/LOG(2))))","v":-0.21609640474436814},null,{"$f":"N24","v":21112},{"$f":"COUNTIF(L52:L74,AD24)","v":0},{"$f":"AE24/(AG4-AE25)","v":0},{"$f":"IF(AF24=0,0,(AF24*((LOG(AF24))/LOG(2))))","v":0},null,{"$f":"N24","v":21112},{"$f":"COUNTIF(L75:L97,AI24)","v":0},{"$f":"AJ24/(AL4-AJ25)","v":0},{"$f":"IF(AK24=0,0,(AK24*((LOG(AK24))/LOG(2))))","v":0},null,{"$f":"N24","v":21112},{"$f":"COUNTIF(L98:L119,AN24)","v":0},{"$f":"AO24/(AQ4-AO25)","v":0},{"$f":"IF(AP24=0,0,(AP24*((LOG(AP24))/LOG(2))))","v":0},null,{"$f":"N24","v":21112},{"$f":"COUNTIF(L120:L142,AS24)","v":1},{"$f":"AT24/(AV4-AT25)","v":0.05},{"$f":"IF(AU24=0,0,(AU24*((LOG(AU24))/LOG(2))))","v":-0.21609640474436814}]
[21,3380,22,3392,13,3404,23,3412,13,3424,0,22121,null,21121,{"$f":"COUNTIF($L$7:$L$500,N25)","v":6},{"$f":"O25/$Q$4","v":4.4117647058823532E-2},{"$f":"IF(P25=0,0,(P25*((LOG(P25))/LOG(2))))","v":-0.19863972090569926},null,null,{"$f":"N25","v":21121},{"$f":"COUNTIF(L7:L29,T25)","v":1},null,null,null,{"$f":"N25","v":21121},{"$f":"COUNTIF(L30:L51,Y25)","v":2},null,null,null,{"$f":"N25","v":21121},{"$f":"COUNTIF(L52:L74,AD25)","v":0},null,null,null,{"$f":"N25","v":21121},{"$f":"COUNTIF(L75:L97,AI25)","v":0},null,null,null,{"$f":"N25","v":21121},{"$f":"COUNTIF(L98:L119,AN25)","v":0},null,null,null,{"$f":"N25","v":21121},{"$f":"COUNTIF(L120:L142,AS25)","v":3}]
[12,3527,13,3533,13,3542,23,3551,13,3562,0,11121,null,21122,{"$f":"COUNTIF($L$7:$L$500,N26)","v":0},{"$f":"O26/$Q$4","v":0},{"$f":"IF(P26=0,0,(P26*((LOG(P26))/LOG(2))))","v":0},null,null,{"$f":"N26","v":21122},{"$f":"COUNTIF(L7:L29,T26)","v":0},{"$f":"U26/(W4-U25)","v":0},{"$f":"IF(V26=0,0,(V26*((LOG(V26))/LOG(2))))","v":0},null,{"$f":"N26","v":21122},{"$f":"COUNTIF(L30:L51,Y26)","v":0},{"$f":"Z26/(AB4-Z25)","v":0},{"$f":"IF(AA26=0,0,(AA26*((LOG(AA26))/LOG(2))))","v":0},null,{"$f":"N26","v":21122},{"$f":"COUNTIF(L52:L74,AD26)","v":0},{"$f":"AE26/(AG4-AE25)","v":0},{"$f":"IF(AF26=0,0,(AF26*((LOG(AF26))/LOG(2))))","v":0},null,{"$f":"N26","v":21122},{"$f":"COUNTIF(L75:L97,AI26)","v":0},{"$f":"AJ26/(AL4-AJ25)","v":0},{"$f":"IF(AK26=0,0,(AK26*((LOG(AK26))/LOG(2))))","v":0},null,{"$f":"N26","v":21122},{"$f":"COUNTIF(L98:L119,AN26)","v":0},{"$f":"AO26/(AQ4-AO25)","v":0},{"$f":"IF(AP26=0,0,(AP26*((LOG(AP26))/LOG(2))))","v":0},null,{"$f":"N26","v":21122},{"$f":"COUNTIF(L120:L142,AS26)","v":0},{"$f":"AT26/(AV4-AT25)","v":0},{"$f":"IF(AU26=0,0,(AU26*((LOG(AU26))/LOG(2))))","v":0}]
[21,3705,11,3715,22,3724,14,3735,13,3744,0,21211,null,21211,{"$f":"COUNTIF($L$7:$L$500,N27)","v":15},{"$f":"O27/$Q$4","v":0.11029411764705882},{"$f":"IF(P27=0,0,(P27*((LOG(P27))/LOG(2))))","v":-0.35079840944578905},null,null,{"$f":"N27","v":21211},{"$f":"COUNTIF(L7:L29,T27)","v":5},{"$f":"U27/(W4-U25)","v":0.22727272727272727},{"$f":"IF(V27=0,0,(V27*((LOG(V27))/LOG(2))))","v":-0.48579625539771243},null,{"$f":"N27","v":21211},{"$f":"COUNTIF(L30:L51,Y27)","v":1},{"$f":"Z27/(AB4-Z25)","v":0.05},{"$f":"IF(AA27=0,0,(AA27*((LOG(AA27))/LOG(2))))","v":-0.21609640474436814},null,{"$f":"N27","v":21211},{"$f":"COUNTIF(L52:L74,AD27)","v":2},{"$f":"AE27/(AG4-AE25)","v":8.6956521739130432E-2},{"$f":"IF(AF27=0,0,(AF27*((LOG(AF27))/LOG(2))))","v":-0.30639669183104457},null,{"$f":"N27","v":21211},{"$f":"COUNTIF(L75:L97,AI27)","v":0},{"$f":"AJ27/(AL4-AJ25)","v":0},{"$f":"IF(AK27=0,0,(AK27*((LOG(AK27))/LOG(2))))","v":0},null,{"$f":"N27","v":21211},{"$f":"COUNTIF(L98:L119,AN27)","v":6},{"$f":"AO27/(AQ4-AO25)","v":0.27272727272727271},{"$f":"IF(AP27=0,0,(AP27*((LOG(AP27))/LOG(2))))","v":-0.51121885034076575},null,{"$f":"N27","v":21211},{"$f":"COUNTIF(L120:L142,AS27)","v":1},{"$f":"AT27/(AV4-AT25)","v":0.05},{"$f":"IF(AU27=0,0,(AU27*((LOG(AU27))/LOG(2))))","v":-0.21609640474436814}]
[21,3865,11,3898,22,3907,14,3918,24,3930,0,21212,null,21212,{"$f":"COUNTIF($L$7:$L$500,N28)","v":11},{"$f":"O28/$Q$4","v":8.0882352941176475E-2},{"$f":"IF(P28=0,0,(P28*((LOG(P28))/LOG(2))))","v":-0.2934437018289961},null,null,{"$f":"N28","v":21212},{"$f":"COUNTIF(L7:L29,T28)","v":1},{"$f":"U28/(W4-U25)","v":4.5454545454545456E-2},{"$f":"IF(V28=0,0,(V28*((LOG(V28))/LOG(2))))","v":-0.20270143721078623},null,{"$f":"N28","v":21212},{"$f":"COUNTIF(L30:L51,Y28)","v":2},{"$f":"Z28/(AB4-Z25)","v":0.1},{"$f":"IF(AA28=0,0,(AA28*((LOG(AA28))/LOG(2))))","v":-0.33219280948873625},null,{"$f":"N28","v":21212},{"$f":"COUNTIF(L52:L74,AD28)","v":2},{"$f":"AE28/(AG4-AE25)","v":8.6956521739130432E-2},{"$f":"IF(AF28=0,0,(AF28*((LOG(AF28))/LOG(2))))","v":-0.30639669183104457},null,{"$f":"N28","v":21212},{"$f":"COUNTIF(L75:L97,AI28)","v":2},{"$f":"AJ28/(AL4-AJ25)","v":8.6956521739130432E-2},{"$f":"IF(AK28=0,0,(AK28*((LOG(AK28))/LOG(2))))","v":-0.30639669183104457},null,{"$f":"N28","v":21212},{"$f":"COUNTIF(L98:L119,AN28)","v":2},{"$f":"AO28/(AQ4-AO25)","v":9.0909090909090912E-2},{"$f":"IF(AP28=0,0,(AP28*((LOG(AP28))/LOG(2))))","v":-0.31449378351248153},null,{"$f":"N28","v":21212},{"$f":"COUNTIF(L120:L142,AS28)","v":2},{"$f":"AT28/(AV4-AT25)","v":0.1},{"$f":"IF(AU28=0,0,(AU28*((LOG(AU28))/LOG(2))))","v":-0.33219280948873625}]
[12,4067,24,4096,13,4105,14,4114,24,4128,0,12112,null,21221,{"$f":"COUNTIF($L$7:$L$500,N29)","v":0},{"$f":"O29/$Q$4","v":0},{"$f":"IF(P29=0,0,(P29*((LOG(P29))/LOG(2))))","v":0},null,null,{"$f":"N29","v":21221},{"$f":"COUNTIF(L7:L29,T29)","v":0},{"$f":"U29/(W4-U25)","v":0},{"$f":"IF(V29=0,0,(V29*((LOG(V29))/LOG(2))))","v":0},null,{"$f":"N29","v":21221},{"$f":"COUNTIF(L30:L51,Y29)","v":0},{"$f":"Z29/(AB4-Z25)","v":0},{"$f":"IF(AA29=0,0,(AA29*((LOG(AA29))/LOG(2))))","v":0},null,{"$f":"N29","v":21221},{"$f":"COUNTIF(L52:L74,AD29)","v":0},{"$f":"AE29/(AG4-AE25)","v":0},{"$f":"IF(AF29=0,0,(AF29*((LOG(AF29))/LOG(2))))","v":0},null,{"$f":"N29","v":21221},{"$f":"COUNTIF(L75:L97,AI29)","v":0},{"$f":"AJ29/(AL4-AJ25)","v":0},{"$f":"IF(AK29=0,0,(AK29*((LOG(AK29))/LOG(2))))","v":0},null,{"$f":"N29","v":21221},{"$f":"COUNTIF(L98:L119,AN29)","v":0},{"$f":"AO29/(AQ4-AO25)","v":0},{"$f":"IF(AP29=0,0,(AP29*((LOG(AP29))/LOG(2))))","v":0},null,{"$f":"N29","v":21221},{"$f":"COUNTIF(L120:L142,AS29)","v":0},{"$f":"AT29/(AV4-AT25)","v":0},{"$f":"IF(AU29=0,0,(AU29*((LOG(AU29))/LOG(2))))","v":0}]
[21,4262,22,4266,24,4273,14,4284,13,4293,0,22211,null,21222,{"$f":"COUNTIF($L$7:$L$500,N30)","v":0},{"$f":"O30/$Q$4","v":0},{"$f":"IF(P30=0,0,(P30*((LOG(P30))/LOG(2))))","v":0},null,null,{"$f":"N30","v":21222},{"$f":"COUNTIF(L7:L29,T30)","v":0},{"$f":"U30/(W4-U25)","v":0},{"$f":"IF(V30=0,0,(V30*((LOG(V30))/LOG(2))))","v":0},null,{"$f":"N30","v":21222},{"$f":"COUNTIF(L30:L51,Y30)","v":0},{"$f":"Z30/(AB4-Z25)","v":0},{"$f":"IF(AA30=0,0,(AA30*((LOG(AA30))/LOG(2))))","v":0},null,{"$f":"N30","v":21222},{"$f":"COUNTIF(L52:L74,AD30)","v":0},{"$f":"AE30/(AG4-AE25)","v":0},{"$f":"IF(AF30=0,0,(AF30*((LOG(AF30))/LOG(2))))","v":0},null,{"$f":"N30","v":21222},{"$f":"COUNTIF(L75:L97,AI30)","v":0},{"$f":"AJ30/(AL4-AJ25)","v":0},{"$f":"IF(AK30=0,0,(AK30*((LOG(AK30))/LOG(2))))","v":0},null,{"$f":"N30","v":21222},{"$f":"COUNTIF(L98:L119,AN30)","v":0},{"$f":"AO30/(AQ4-AO25)","v":0},{"$f":"IF(AP30=0,0,(AP30*((LOG(AP30))/LOG(2))))","v":0},null,{"$f":"N30","v":21222},{"$f":"COUNTIF(L120:L142,AS30)","v":0},{"$f":"AT30/(AV4-AT25)","v":0},{"$f":"IF(AU30=0,0,(AU30*((LOG(AU30))/LOG(2))))","v":0}]
[21,4397,11,4421,11,4438,12,4450,24,4462,0,21112,null,22111,{"$f":"COUNTIF($L$7:$L$500,N31)","v":5},{"$f":"O31/$Q$4","v":3.6764705882352942E-2},{"$f":"IF(P31=0,0,(P31*((LOG(P31))/LOG(2))))","v":-0.17520348332216826},null,null,{"$f":"N31","v":22111},{"$f":"COUNTIF(L7:L29,T31)","v":2},{"$f":"U31/(W4-U25)","v":9.0909090909090912E-2},{"$f":"IF(V31=0,0,(V31*((LOG(V31))/LOG(2))))","v":-0.31449378351248153},null,{"$f":"N31","v":22111},{"$f":"COUNTIF(L30:L51,Y31)","v":0},{"$f":"Z31/(AB4-Z25)","v":0},{"$f":"IF(AA31=0,0,(AA31*((LOG(AA31))/LOG(2))))","v":0},null,{"$f":"N31","v":22111},{"$f":"COUNTIF(L52:L74,AD31)","v":1},{"$f":"AE31/(AG4-AE25)","v":4.3478260869565216E-2},{"$f":"IF(AF31=0,0,(AF31*((LOG(AF31))/LOG(2))))","v":-0.19667660678508753},null,{"$f":"N31","v":22111},{"$f":"COUNTIF(L75:L97,AI31)","v":0},{"$f":"AJ31/(AL4-AJ25)","v":0},{"$f":"IF(AK31=0,0,(AK31*((LOG(AK31))/LOG(2))))","v":0},null,{"$f":"N31","v":22111},{"$f":"COUNTIF(L98:L119,AN31)","v":1},{"$f":"AO31/(AQ4-AO25)","v":4.5454545454545456E-2},{"$f":"IF(AP31=0,0,(AP31*((LOG(AP31))/LOG(2))))","v":-0.20270143721078623},null,{"$f":"N31","v":22111},{"$f":"COUNTIF(L120:L142,AS31)","v":1},{"$f":"AT31/(AV4-AT25)","v":0.05},{"$f":"IF(AU31=0,0,(AU31*((LOG(AU31))/LOG(2))))","v":-0.21609640474436814}]
[12,4598,24,4607,13,4619,23,4630,13,4642,0,12121,null,22112,{"$f":"COUNTIF($L$7:$L$500,N32)","v":6},{"$f":"O32/$Q$4","v":4.4117647058823532E-2},{"$f":"IF(P32=0,0,(P32*((LOG(P32))/LOG(2))))","v":-0.19863972090569926},null,null,{"$f":"N32","v":22112},{"$f":"COUNTIF(L7:L29,T32)","v":1},{"$f":"U32/(W4-U25)","v":4.5454545454545456E-2},{"$f":"IF(V32=0,0,(V32*((LOG(V32))/LOG(2))))","v":-0.20270143721078623},null,{"$f":"N32","v":22112},{"$f":"COUNTIF(L30:L51,Y32)","v":0},{"$f":"Z32/(AB4-Z25)","v":0},{"$f":"IF(AA32=0,0,(AA32*((LOG(AA32))/LOG(2))))","v":0},null,{"$f":"N32","v":22112},{"$f":"COUNTIF(L52:L74,AD32)","v":1},{"$f":"AE32/(AG4-AE25)","v":4.3478260869565216E-2},{"$f":"IF(AF32=0,0,(AF32*((LOG(AF32))/LOG(2))))","v":-0.19667660678508753},null,{"$f":"N32","v":22112},{"$f":"COUNTIF(L75:L97,AI32)","v":2},{"$f":"AJ32/(AL4-AJ25)","v":8.6956521739130432E-2},{"$f":"IF(AK32=0,0,(AK32*((LOG(AK32))/LOG(2))))","v":-0.30639669183104457},null,{"$f":"N32","v":22112},{"$f":"COUNTIF(L98:L119,AN32)","v":0},{"$f":"AO32/(AQ4-AO25)","v":0},{"$f":"IF(AP32=0,0,(AP32*((LOG(AP32))/LOG(2))))","v":0},null,{"$f":"N32","v":22112},{"$f":"COUNTIF(L120:L142,AS32)","v":2},{"$f":"AT32/(AV4-AT25)","v":0.1},{"$f":"IF(AU32=0,0,(AU32*((LOG(AU32))/LOG(2))))","v":-0.33219280948873625}]
[21,4782,11,4793,11,4803,21,4817,11,4828,1,21121,null,22121,{"$f":"COUNTIF($L$7:$L$500,N33)","v":21},{"$f":"O33/$Q$4","v":0.15441176470588236},{"$f":"IF(P33=0,0,(P33*((LOG(P33))/LOG(2))))","v":-0.41616216020517027},null,null,{"$f":"N33","v":22121},{"$f":"COUNTIF(L7:L29,T33)","v":3},{"$f":"U33/(W4-U25)","v":0.13636363636363635},{"$f":"IF(V33=0,0,(V33*((LOG(V33))/LOG(2))))","v":-0.39197306153401923},null,{"$f":"N33","v":22121},{"$f":"COUNTIF(L30:L51,Y33)","v":1},{"$f":"Z33/(AB4-Z25)","v":0.05},{"$f":"IF(AA33=0,0,(AA33*((LOG(AA33))/LOG(2))))","v":-0.21609640474436814},null,{"$f":"N33","v":22121},{"$f":"COUNTIF(L52:L74,AD33)","v":5},{"$f":"AE33/(AG4-AE25)","v":0.21739130434782608},{"$f":"IF(AF33=0,0,(AF33*((LOG(AF33))/LOG(2))))","v":-0.47861605677601093},null,{"$f":"N33","v":22121},{"$f":"COUNTIF(L75:L97,AI33)","v":6},{"$f":"AJ33/(AL4-AJ25)","v":0.2608695652173913},{"$f":"IF(AK33=0,0,(AK33*((LOG(AK33))/LOG(2))))","v":-0.50572159704413644},null,{"$f":"N33","v":22121},{"$f":"COUNTIF(L98:L119,AN33)","v":2},{"$f":"AO33/(AQ4-AO25)","v":9.0909090909090912E-2},{"$f":"IF(AP33=0,0,(AP33*((LOG(AP33))/LOG(2))))","v":-0.31449378351248153},null,{"$f":"N33","v":22121},{"$f":"COUNTIF(L120:L142,AS33)","v":4},{"$f":"AT33/(AV4-AT25)","v":0.2},{"$f":"IF(AU33=0,0,(AU33*((LOG(AU33))/LOG(2))))","v":-0.46438561897747244}]
[21,4929,22,4933,24,4949,14,4961,13,4975,0,22211,null,22122,{"$f":"COUNTIF($L$7:$L$500,N34)","v":0},{"$f":"O34/$Q$4","v":0},{"$f":"IF(P34=0,0,(P34*((LOG(P34))/LOG(2))))","v":0},null,null,{"$f":"N34","v":22122},{"$f":"COUNTIF(L7:L29,T34)","v":0},{"$f":"U34/(W4-U25)","v":0},{"$f":"IF(V34=0,0,(V34*((LOG(V34))/LOG(2))))","v":0},null,{"$f":"N34","v":22122},{"$f":"COUNTIF(L30:L51,Y34)","v":0},{"$f":"Z34/(AB4-Z25)","v":0},{"$f":"IF(AA34=0,0,(AA34*((LOG(AA34))/LOG(2))))","v":0},null,{"$f":"N34","v":22122},{"$f":"COUNTIF(L52:L74,AD34)","v":0},{"$f":"AE34/(AG4-AE25)","v":0},{"$f":"IF(AF34=0,0,(AF34*((LOG(AF34))/LOG(2))))","v":0},null,{"$f":"N34","v":22122},{"$f":"COUNTIF(L75:L97,AI34)","v":0},{"$f":"AJ34/(AL4-AJ25)","v":0},{"$f":"IF(AK34=0,0,(AK34*((LOG(AK34))/LOG(2))))","v":0},null,{"$f":"N34","v":22122},{"$f":"COUNTIF(L98:L119,AN34)","v":0},{"$f":"AO34/(AQ4-AO25)","v":0},{"$f":"IF(AP34=0,0,(AP34*((LOG(AP34))/LOG(2))))","v":0},null,{"$f":"N34","v":22122},{"$f":"COUNTIF(L120:L142,AS34)","v":0},{"$f":"AT34/(AV4-AT25)","v":0},{"$f":"IF(AU34=0,0,(AU34*((LOG(AU34))/LOG(2))))","v":0}]
[21,5074,22,5079,24,5084,23,5089,13,5098,0,22221,null,22211,{"$f":"COUNTIF($L$7:$L$500,N35)","v":9},{"$f":"O35/$Q$4","v":6.6176470588235295E-2},{"$f":"IF(P35=0,0,(P35*((LOG(P35))/LOG(2))))","v":-0.25924882763435475},null,null,{"$f":"N35","v":22211},{"$f":"COUNTIF(L7:L29,T35)","v":0},{"$f":"U35/(W4-U25)","v":0},{"$f":"IF(V35=0,0,(V35*((LOG(V35))/LOG(2))))","v":0},null,{"$f":"N35","v":22211},{"$f":"COUNTIF(L30:L51,Y35)","v":5},{"$f":"Z35/(AB4-Z25)","v":0.25},{"$f":"IF(AA35=0,0,(AA35*((LOG(AA35))/LOG(2))))","v":-0.5},null,{"$f":"N35","v":22211},{"$f":"COUNTIF(L52:L74,AD35)","v":2},{"$f":"AE35/(AG4-AE25)","v":8.6956521739130432E-2},{"$f":"IF(AF35=0,0,(AF35*((LOG(AF35))/LOG(2))))","v":-0.30639669183104457},null,{"$f":"N35","v":22211},{"$f":"COUNTIF(L75:L97,AI35)","v":2},{"$f":"AJ35/(AL4-AJ25)","v":8.6956521739130432E-2},{"$f":"IF(AK35=0,0,(AK35*((LOG(AK35))/LOG(2))))","v":-0.30639669183104457},null,{"$f":"N35","v":22211},{"$f":"COUNTIF(L98:L119,AN35)","v":0},{"$f":"AO35/(AQ4-AO25)","v":0},{"$f":"IF(AP35=0,0,(AP35*((LOG(AP35))/LOG(2))))","v":0},null,{"$f":"N35","v":22211},{"$f":"COUNTIF(L120:L142,AS35)","v":0},{"$f":"AT35/(AV4-AT25)","v":0},{"$f":"IF(AU35=0,0,(AU35*((LOG(AU35))/LOG(2))))","v":0}]
[21,5210,22,5214,24,5230,14,5245,13,5254,0,22211,null,22212,{"$f":"COUNTIF($L$7:$L$500,N36)","v":14},{"$f":"O36/$Q$4","v":0.10294117647058823},{"$f":"IF(P36=0,0,(P36*((LOG(P36))/LOG(2))))","v":-0.33765816815219335},null,null,{"$f":"N36","v":22212},{"$f":"COUNTIF(L7:L29,T36)","v":0},{"$f":"U36/(W4-U25)","v":0},{"$f":"IF(V36=0,0,(V36*((LOG(V36))/LOG(2))))","v":0},null,{"$f":"N36","v":22212},{"$f":"COUNTIF(L30:L51,Y36)","v":1},{"$f":"Z36/(AB4-Z25)","v":0.05},{"$f":"IF(AA36=0,0,(AA36*((LOG(AA36))/LOG(2))))","v":-0.21609640474436814},null,{"$f":"N36","v":22212},{"$f":"COUNTIF(L52:L74,AD36)","v":4},{"$f":"AE36/(AG4-AE25)","v":0.17391304347826086},{"$f":"IF(AF36=0,0,(AF36*((LOG(AF36))/LOG(2))))","v":-0.43888034018382832},null,{"$f":"N36","v":22212},{"$f":"COUNTIF(L75:L97,AI36)","v":5},{"$f":"AJ36/(AL4-AJ25)","v":0.21739130434782608},{"$f":"IF(AK36=0,0,(AK36*((LOG(AK36))/LOG(2))))","v":-0.47861605677601093},null,{"$f":"N36","v":22212},{"$f":"COUNTIF(L98:L119,AN36)","v":2},{"$f":"AO36/(AQ4-AO25)","v":9.0909090909090912E-2},{"$f":"IF(AP36=0,0,(AP36*((LOG(AP36))/LOG(2))))","v":-0.31449378351248153},null,{"$f":"N36","v":22212},{"$f":"COUNTIF(L120:L142,AS36)","v":2},{"$f":"AT36/(AV4-AT25)","v":0.1},{"$f":"IF(AU36=0,0,(AU36*((LOG(AU36))/LOG(2))))","v":-0.33219280948873625}]
[21,5373,11,5391,22,5400,14,5411,13,5418,0,21211,null,22221,{"$f":"COUNTIF($L$7:$L$500,N37)","v":6},{"$f":"O37/$Q$4","v":4.4117647058823532E-2},{"$f":"IF(P37=0,0,(P37*((LOG(P37))/LOG(2))))","v":-0.19863972090569926},null,null,{"$f":"N37","v":22221},{"$f":"COUNTIF(L7:L29,T37)","v":0},{"$f":"U37/(W4-U25)","v":0},{"$f":"IF(V37=0,0,(V37*((LOG(V37))/LOG(2))))","v":0},null,{"$f":"N37","v":22221},{"$f":"COUNTIF(L30:L51,Y37)","v":2},{"$f":"Z37/(AB4-Z25)","v":0.1},{"$f":"IF(AA37=0,0,(AA37*((LOG(AA37))/LOG(2))))","v":-0.33219280948873625},null,{"$f":"N37","v":22221},{"$f":"COUNTIF(L52:L74,AD37)","v":3},{"$f":"AE37/(AG4-AE25)","v":0.13043478260869565},{"$f":"IF(AF37=0,0,(AF37*((LOG(AF37))/LOG(2))))","v":-0.3832955811307639},null,{"$f":"N37","v":22221},{"$f":"COUNTIF(L75:L97,AI37)","v":1},{"$f":"AJ37/(AL4-AJ25)","v":4.3478260869565216E-2},{"$f":"IF(AK37=0,0,(AK37*((LOG(AK37))/LOG(2))))","v":-0.19667660678508753},null,{"$f":"N37","v":22221},{"$f":"COUNTIF(L98:L119,AN37)","v":0},{"$f":"AO37/(AQ4-AO25)","v":0},{"$f":"IF(AP37=0,0,(AP37*((LOG(AP37))/LOG(2))))","v":0},null,{"$f":"N37","v":22221},{"$f":"COUNTIF(L120:L142,AS37)","v":0},{"$f":"AT37/(AV4-AT25)","v":0},{"$f":"IF(AU37=0,0,(AU37*((LOG(AU37))/LOG(2))))","v":0}]
[21,5520,22,5540,24,5546,14,5557,24,5569,0,22212,null,22222,{"$f":"COUNTIF($L$7:$L$500,N38)","v":0},{"$f":"O38/$Q$4","v":0},{"$f":"IF(P38=0,0,(P38*((LOG(P38))/LOG(2))))","v":0},null,null,{"$f":"N38","v":22222},{"$f":"COUNTIF(L7:L29,T38)","v":0},{"$f":"U38/(W4-U25)","v":0},{"$f":"IF(V38=0,0,(V38*((LOG(V38))/LOG(2))))","v":0},null,{"$f":"N38","v":22222},{"$f":"COUNTIF(L30:L51,Y38)","v":0},{"$f":"Z38/(AB4-Z25)","v":0},{"$f":"IF(AA38=0,0,(AA38*((LOG(AA38))/LOG(2))))","v":0},null,{"$f":"N38","v":22222},{"$f":"COUNTIF(L52:L74,AD38)","v":0},{"$f":"AE38/(AG4-AE25)","v":0},{"$f":"IF(AF38=0,0,(AF38*((LOG(AF38))/LOG(2))))","v":0},null,{"$f":"N38","v":22222},{"$f":"COUNTIF(L75:L97,AI38)","v":0},{"$f":"AJ38/(AL4-AJ25)","v":0},{"$f":"IF(AK38=0,0,(AK38*((LOG(AK38))/LOG(2))))","v":0},null,{"$f":"N38","v":22222},{"$f":"COUNTIF(L98:L119,AN38)","v":0},{"$f":"AO38/(AQ4-AO25)","v":0},{"$f":"IF(AP38=0,0,(AP38*((LOG(AP38))/LOG(2))))","v":0},null,{"$f":"N38","v":22222},{"$f":"COUNTIF(L120:L142,AS38)","v":0},{"$f":"AT38/(AV4-AT25)","v":0},{"$f":"IF(AU38=0,0,(AU38*((LOG(AU38))/LOG(2))))","v":0}]
[21,5675,22,5680,24,5701,14,5712,13,5721,0,22211,null,null,null,{"$f":"SUM(P7:P38)","v":0.99999999999999989},{"$f":"-SUM(Q7:Q38)","v":4.014372180659449},null,null,null,null,{"$f":"SUM(V7:V38)","v":1},{"$f":"-SUM(W7:W38)","v":3.3176400059662177},null,null,null,{"$f":"SUM(AA7:AA38)","v":1},{"$f":"-SUM(AB7:AB38)","v":3.3414460711655218},null,null,null,{"$f":"SUM(AF7:AF38)","v":1},{"$f":"-SUM(AG7:AG38)","v":3.2033650875091748},null,null,null,{"$f":"SUM(AK7:AK38)","v":0.99999999999999989},{"$f":"-SUM(AL7:AL38)","v":2.9966308482846755},null,null,null,{"$f":"SUM(AP7:AP38)","v":1},{"$f":"-SUM(AQ7:AQ38)","v":2.8630945514207631},null,null,null,{"$f":"SUM(AU7:AU38)","v":0.99999999999999989},{"$f":"-SUM(AV7:AV38)","v":3.5219280948873619}]
[21,5832,22,5836,24,5855,14,5867,13,5875,0,22211,null,null,null,"U=",{"$f":"Q39/(LOG(Q4)/LOG(2))","v":0.56640468819040057},null,null,null,null,"U1=",{"$f":"W39/(LOG(W4)/LOG(2))","v":0.73341319035631303},null,null,null,"U2=",{"$f":"AB39/(LOG(AB4)/LOG(2))","v":0.74929864541494939},null,null,null,"U3=",{"$f":"AG39/(LOG(AG4)/LOG(2))","v":0.70815103642382848},null,null,null,"U4=",{"$f":"AL39/(LOG(AL4)/LOG(2))","v":0.66244938776006168},null,null,null,"U5=",{"$f":"AQ39/(LOG(AQ4)/LOG(2))","v":0.64203127130709559},null,null,null,"U6=",{"$f":"AV39/(LOG(AV4)/LOG(2))","v":0.77857408146505624}]
[21,5983,11,5997,22,6006,14,6017,24,6023,0,21212]
[21,6133,11,6145,22,6154,14,6166,24,6179,0,21212]
[21,6286,22,6290,13,6302,23,6311,13,6322,0,22121,null,"Total Target Seq"]
[21,6438,22,6442,24,6450,23,6467,13,6478,0,22221,null,{"$f":"COUNTIF(L7:L142,G3)","v":6},null,23,22,23,23,22,23]
[21,6601,11,6615,11,6628,21,6641,11,6653,1,21121,null,null,null,"% of reinforcement given in 6 equal intervals based on number of trials "]
[12,6776,13,6783,24,6794,14,6808,24,6821,0,11212,null,null,null,"%_1","%_2","%_3","%_4","%_5","%_6"]
[12,6921,24,6934,24,6940,14,6951,24,6962,0,12212,null,null,"target sequence",{"$f":"$G$3","v":21121},{"$f":"$G$3","v":21121},{"$f":"$G$3","v":21121},{"$f":"$G$3","v":21121},{"$f":"$G$3","v":21121},{"$f":"$G$3","v":21121}]
[12,7061,24,7074,24,7090,14,7101,13,7109,0,12211,null,null,"total reinforcement",{"$f":"U25","v":1},{"$f":"Z25","v":2},{"$f":"AE25","v":0},{"$f":"AJ25","v":0},{"$f":"AO25","v":0},{"$f":"AT25","v":3}]
[12,7208,24,7233,13,7241,14,7249,24,7262,0,12112,null,null,"% target"]
[12,7364,24,7379,24,7389,14,7399,13,7408,0,12211,null,null,"CCRF"]
[12,7507,24,7517,24,7528,14,7539,24,7552,0,12212,null,null,"% CCRf"]
[21,7670,11,7682,22,7694,14,7706,13,7714,0,21211,null,null,"average response rate",{"$f":"J29/P44","v":179.47826086956522},{"$f":"(J51-J29)/Q44","v":155.63636363636363},{"$f":"(J74-J51)/R44","v":164.04347826086956},{"$f":"(J97-J74)/S44","v":183.78260869565219},{"$f":"(J119-J97)/T44","v":204.95454545454547},{"$f":"(J142-J119)/U44","v":169.78260869565219}]
[12,7814,24,7824,24,7831,23,7848,13,7857,0,12221]
[21,7955,22,7982,13,7993,23,8005,13,8016,0,22121]
[21,8125,22,8141,13,8152,23,8161,13,8172,0,22121]
[21,8278,22,8283,24,8298,23,8315,13,8326,0,22221]
[12,8451,13,8466,24,8475,14,8487,13,8498,0,11211]
[21,8600,22,8605,24,8620,23,8635,13,8648,0,22221]
[21,8750,22,8777,24,8791,14,8800,13,8808,0,22211]
[21,8916,22,8938,13,8947,23,8955,13,8966,0,22121]
[21,9071,22,9086,24,9100,14,9109,24,9118,0,22212]
[21,9224,22,9228,24,9236,23,9251,13,9259,0,22221]
[21,9372,22,9388,13,9396,23,9409,13,9420,0,22121]
[21,9534,22,9539,24,9560,14,9568,24,9581,0,22212]
[21,9685,22,9690,24,9694,14,9704,24,9713,0,22212]
[21,9817,22,9833,24,9850,14,9861,13,9873,0,22211]
[21,10011,11,10022,22,10032,14,10044,24,10055,0,21212]
[21,10176,22,10183,13,10199,23,10210,13,10223,0,22121]
[21,10345,22,10357,13,10368,14,10377,13,10385,0,22111]
[21,10485,22,10490,24,10504,14,10517,24,10527,0,22212]
[12,10664,13,10679,24,10692,14,10704,24,10717,0,11212]
[21,10855,22,10879,13,10891,14,10904,24,10918,0,22112]
[21,11061,11,11092,22,11104,14,11115,13,11124,0,21211]
[21,11263,11,11288,22,11300,14,11311,24,11325,0,21212]
[12,11444,13,11454,13,11466,14,11470,24,11487,0,11112]
[21,11601,11,11644,22,11653,14,11663,24,11678,0,21212]
[21,11826,22,11843,13,11854,23,11866,13,11877,0,22121]
[21,12043,22,12059,24,12076,14,12086,24,12095,0,22212]
[21,12231,22,12235,13,12244,23,12252,13,12260,0,22121]
[21,12391,22,12405,24,12418,14,12429,24,12441,0,22212]
[21,12579,22,12594,13,12610,23,12622,13,12633,0,22121]
[12,12778,24,12791,13,12803,23,12817,13,12828,0,12121]
[21,12930,22,12945,24,12962,14,12974,13,12982,0,22211]
[21,13096,22,13101,24,13120,14,13132,24,13144,0,22212]
[21,13251,22,13309,24,13323,14,13340,13,13357,0,22211]
[21,13466,22,13490,13,13503,23,13511,13,13523,0,22121]
[12,13655,13,13689,24,13698,14,13710,13,13719,0,11211]
[21,13857,22,13872,24,13902,23,13916,13,13926,0,22221]
[21,14086,22,14101,13,14112,14,14115,24,14141,0,22112]
[21,14234,22,14238,13,14253,23,14260,13,14271,0,22121]
[21,14397,22,14412,24,14428,14,14442,24,14455,0,22212]
[21,14583,22,14593,13,14606,23,14616,13,14628,0,22121]
[21,14765,22,14770,24,14789,14,14797,24,14808,0,22212]
[12,14918,24,14927,13,14936,23,14947,13,14955,0,12121]
[21,15097,11,15111,22,15119,14,15127,24,15140,0,21212]
[21,15293,22,15318,13,15327,14,15337,24,15351,0,22112]
[12,15516,24,15525,13,15535,14,15541,24,15552,0,12112]
[21,15777,11,15788,22,15802,14,15813,13,15822,0,21211]
[21,16051,22,16081,13,16094,23,16107,13,16118,0,22121]
[12,16235,24,16248,13,16258,23,16270,13,16279,0,12121]
[12,16432,24,16446,13,16457,23,16471,13,16482,0,12121]
[21,16683,11,16692,22,16701,14,16712,24,16724,0,21212]
[21,16893,22,16928,13,16940,14,16949,13,16958,0,22111]
[21,17057,11,17068,22,17074,14,17082,24,17094,0,21212]
[21,17230,11,17254,22,17263,14,17276,13,17283,0,21211]
[21,17412,22,17427,13,17438,23,17451,13,17460,0,22121]
[21,17559,22,17611,24,17619,14,17632,24,17640,0,22212]
[12,17817,13,17839,24,17876,23,17934,13,17945,0,11221]
[21,18086,22,18091,24,18102,14,18111,24,18123,0,22212]
[12,18278,24,18290,13,18298,23,18311,13,18320,0,12121]
[12,18462,24,18471,13,18481,23,18496,13,18504,0,12121]
[21,18650,11,18695,22,18704,14,18712,13,18720,0,21211]
[12,18883,13,18891,13,18896,23,18908,13,18919,0,11121]
[12,19057,13,19097,13,19102,14,19122,24,19133,0,11112]
[12,19291,13,19321,13,19342,14,19350,24,19364,0,11112]
[21,19477,11,19491,22,19500,14,19508,13,19513,0,21211]
[21,19671,11,19680,22,19689,14,19698,13,19706,0,21211]
[12,19821,24,19831,13,19840,23,19851,13,19862,0,12121]
[21,20022,11,20030,22,20043,14,20053,13,20061,0,21211]
[12,20167,24,20190,13,20199,14,20203,13,20208,0,12111]
[12,20483,13,20501,24,20509,14,20520,13,20529,0,11211]
[12,20658,13,20669,13,20678,14,20686,13,20694,0,11111]
[21,20825,11,20834,22,20842,14,20851,24,20865,0,21212]
[21,21039,11,21061,11,21079,21,21090,11,21103,1,21121]
[21,21225,22,21242,13,21252,14,21261,24,21273,0,22112]
[21,21376,22,21423,24,21431,14,21441,24,21450,0,22212]
[21,21554,11,21572,11,21590,21,21599,11,21610,1,21121]
[21,21722,22,21738,13,21747,23,21758,13,21770,0,22121]
[21,21871,11,21893,22,21901,14,21910,24,21921,0,21212]
[21,22020,22,22026,13,22041,23,22049,13,22058,0,22121]
[12,22187,24,22196,13,22207,23,22220,13,22232,0,12121]
[21,22344,22,22352,24,22365,14,22377,24,22390,0,22212]
[21,22502,22,22523,13,22533,14,22538,24,22551,0,22112]
[12,22678,13,22695,24,22704,14,22715,24,22729,0,11212]
[21,22833,11,22868,22,22878,14,22891,13,22900,0,21211]
[21,23005,11,23025,11,23032,12,23040,24,23053,0,21112]
[21,23182,11,23196,11,23205,21,23218,11,23229,1,21121]
[12,23355,24,23365,13,23379,23,23391,13,23407,0,12121]
[21,23511,22,23539,13,23551,23,23562,13,23573,0,22121]
[21,23672,22,23676,13,23689,14,23693,13,23698,0,22111]
[12,23795,13,23800,24,23809,23,23819,13,23826,0,11221]
[21,23925,22,23929,13,23939,23,23948,13,23966,null,22121]

{"sheet":"!N202920.091","index":16,"n_rows":52,"n_cols":48,"rows_kept":52,"cut":false,"hidden":false,"merged":[[4,39,4,42],[5,39,5,40],[4,44,4,47],[5,44,5,45],[4,24,4,27],[5,24,5,25],[4,29,4,32],[5,29,5,30],[4,34,4,37],[5,34,5,35],[1,1,1,2],[5,13,5,14],[42,13,42,14],[43,13,43,14],[4,19,4,22],[5,19,5,20]]}
["Report for:!N202920.091"]
["Date:","<date>"]
["Hen:","<hen>",null,null,null,"Correct Sequence",{"$f":"Start!J2","v":21121},null,null,null,null,null,null,null,null,"Total Sequences in Data",{"$f":"4994-COUNTBLANK(L7:L5000)","v":21},null,null,null,null,"Total Sequences in Block Data",{"$f":"COUNTA(L7:L10)","v":4},null,null,null,"Total Sequences in Block Data",{"$f":"COUNTA(L11:L13)","v":3},null,null,null,"Total Sequences in Block Data",{"$f":"COUNTA(L14:L17)","v":4},null,null,null,"Total Sequences in Block Data",{"$f":"COUNTA(L18:L20)","v":3},null,null,null,"Total Sequences in Block Data",{"$f":"COUNTA(L21:L24)","v":4},null,null,null,"Total Sequences in Block Data",{"$f":"COUNTA(L25:L27)","v":3}]
[null,null,null,null,null,null,null,null,null,null,null,null,null,null,null,"Total Sequences in Summary",{"$f":"SUM(O7:O38)","v":21},null,null,null,null,"Total Sequences in Block Summary",{"$f":"SUM(U7:U38)","v":4},null,null,null,"Total Sequences in Block Summary",{"$f":"SUM(Z7:Z38)","v":3},null,null,null,"Total Sequences in Block Summary",{"$f":"SUM(AE7:AE38)","v":4},null,null,null,"Total Sequences in Block Summary",{"$f":"SUM(AJ7:AJ38)","v":3},null,null,null,"Total Sequences in Block Summary",{"$f":"SUM(AO7:AO38)","v":4},null,null,null,"Total Sequences in Block Summary",{"$f":"SUM(AT7:AT38)","v":3}]
[null,null,null,null,null,null,null,null,null,null,null,null,null,null,null,null,null,null,null,"Block 1",null,null,null,null,"Block 2",null,null,null,null,"Block 3",null,null,null,null,"Block 4",null,null,null,null,"Block 5",null,null,null,null,"Block 6"]
["Sequence\nComponent\n1","Time\n1","Sequence\nComponent\n2","Time\n2","Sequence\nComponent\n3","Time\n3","Sequence\nComponent\n4","Time\n4","Sequence\nComponent\n5","Time\n5","Correct?\n0=No 1=Yes","Sequence",null,"Frequency",null,"Relative Frequency","Variability",null,null,"Frequency",null,"Relative Frequency","Variability",null,"Frequency",null,"Relative Frequency","Variability",null,"Frequency",null,"Relative Frequency","Variability",null,"Frequency",null,"Relative Frequency","Variability",null,"Frequency",null,"Relative Frequency","Variability",null,"Frequency",null,"Relative Frequency","Variability"]
[12,30,13,55,13,79,23,93,13,113,0,11121,null,11111,{"$f":"COUNTIF($L$7:$L$500,N7)","v":7},{"$f":"O7/$Q$4","v":0.33333333333333331},{"$f":"IF(P7=0,0,(P7*((LOG(P7))/LOG(2))))","v":-0.52832083357371862},null,null,{"$f":"N7","v":11111},{"$f":"COUNTIF(L7:L10,T7)","v":0},{"$f":"U7/(W4-U25)","v":0},{"$f":"IF(V7=0,0,(V7*((LOG(V7))/LOG(2))))","v":0},null,{"$f":"N7","v":11111},{"$f":"COUNTIF(L11:L13,Y7)","v":0},{"$f":"Z7/(AB4-Z25)","v":0},{"$f":"IF(AA7=0,0,(AA7*((LOG(AA7))/LOG(2))))","v":0},null,{"$f":"N7","v":11111},{"$f":"COUNTIF(L14:L17,AD7)","v":1},{"$f":"AE7/(AG4-AE25)","v":0.33333333333333331},{"$f":"IF(AF7=0,0,(AF7*((LOG(AF7))/LOG(2))))","v":-0.52832083357371862},null,{"$f":"N7","v":11111},{"$f":"COUNTIF(L18:L20,AI7)","v":2},{"$f":"AJ7/(AL4-AJ25)","v":0.66666666666666663},{"$f":"IF(AK7=0,0,(AK7*((LOG(AK7))/LOG(2))))","v":-0.38997500048077083},null,{"$f":"N7","v":11111},{"$f":"COUNTIF(L21:L24,AN7)","v":3},{"$f":"AO7/(AQ4-AO25)","v":0.75},{"$f":"IF(AP7=0,0,(AP7*((LOG(AP7))/LOG(2))))","v":-0.31127812445913283},null,{"$f":"N7","v":11111},{"$f":"COUNTIF(L25:L27,AS7)","v":1},{"$f":"AT7/(AV4-AT25)","v":0.33333333333333331},{"$f":"IF(AU7=0,0,(AU7*((LOG(AU7))/LOG(2))))","v":-0.52832083357371862}]
[21,227,22,231,24,241,14,258,24,272,0,22212,null,11112,{"$f":"COUNTIF($L$7:$L$500,N8)","v":2},{"$f":"O8/$Q$4","v":9.5238095238095233E-2},{"$f":"IF(P8=0,0,(P8*((LOG(P8))/LOG(2))))","v":-0.32307784978845333},null,null,{"$f":"N8","v":11112},{"$f":"COUNTIF(L7:L10,T8)","v":1},{"$f":"U8/(W4-U25)","v":0.25},{"$f":"IF(V8=0,0,(V8*((LOG(V8))/LOG(2))))","v":-0.5},null,{"$f":"N8","v":11112},{"$f":"COUNTIF(L11:L13,Y8)","v":0},{"$f":"Z8/(AB4-Z25)","v":0},{"$f":"IF(AA8=0,0,(AA8*((LOG(AA8))/LOG(2))))","v":0},null,{"$f":"N8","v":11112},{"$f":"COUNTIF(L14:L17,AD8)","v":0},{"$f":"AE8/(AG4-AE25)","v":0},{"$f":"IF(AF8=0,0,(AF8*((LOG(AF8))/LOG(2))))","v":0},null,{"$f":"N8","v":11112},{"$f":"COUNTIF(L18:L20,AI8)","v":0},{"$f":"AJ8/(AL4-AJ25)","v":0},{"$f":"IF(AK8=0,0,(AK8*((LOG(AK8))/LOG(2))))","v":0},null,{"$f":"N8","v":11112},{"$f":"COUNTIF(L21:L24,AN8)","v":0},{"$f":"AO8/(AQ4-AO25)","v":0},{"$f":"IF(AP8=0,0,(AP8*((LOG(AP8))/LOG(2))))","v":0},null,{"$f":"N8","v":11112},{"$f":"COUNTIF(L25:L27,AS8)","v":1},{"$f":"AT8/(AV4-AT25)","v":0.33333333333333331},{"$f":"IF(AU8=0,0,(AU8*((LOG(AU8))/LOG(2))))","v":-0.52832083357371862}]
[21,374,11,400,11,421,12,441,13,456,0,21111,null,11121,{"$f":"COUNTIF($L$7:$L$500,N9)","v":4},{"$f":"O9/$Q$4","v":0.19047619047619047},{"$f":"IF(P9=0,0,(P9*((LOG(P9))/LOG(2))))","v":-0.4556795091007162},null,null,{"$f":"N9","v":11121},{"$f":"COUNTIF(L7:L10,T9)","v":1},{"$f":"U9/(W4-U25)","v":0.25},{"$f":"IF(V9=0,0,(V9*((LOG(V9))/LOG(2))))","v":-0.5},null,{"$f":"N9","v":11121},{"$f":"COUNTIF(L11:L13,Y9)","v":1},{"$f":"Z9/(AB4-Z25)","v":0.33333333333333331},{"$f":"IF(AA9=0,0,(AA9*((LOG(AA9))/LOG(2))))","v":-0.52832083357371862},null,{"$f":"N9","v":11121},{"$f":"COUNTIF(L14:L17,AD9)","v":1},{"$f":"AE9/(AG4-AE25)","v":0.33333333333333331},{"$f":"IF(AF9=0,0,(AF9*((LOG(AF9))/LOG(2))))","v":-0.52832083357371862},null,{"$f":"N9","v":11121},{"$f":"COUNTIF(L18:L20,AI9)","v":1},{"$f":"AJ9/(AL4-AJ25)","v":0.33333333333333331},{"$f":"IF(AK9=0,0,(AK9*((LOG(AK9))/LOG(2))))","v":-0.52832083357371862},null,{"$f":"N9","v":11121},{"$f":"COUNTIF(L21:L24,AN9)","v":0},{"$f":"AO9/(AQ4-AO25)","v":0},{"$f":"IF(AP9=0,0,(AP9*((LOG(AP9))/LOG(2))))","v":0},null,{"$f":"N9","v":11121},{"$f":"COUNTIF(L25:L27,AS9)","v":0},{"$f":"AT9/(AV4-AT25)","v":0},{"$f":"IF(AU9=0,0,(AU9*((LOG(AU9))/LOG(2))))","v":0}]
[12,730,13,741,13,749,14,757,24,769,0,11112,null,11122,{"$f":"COUNTIF($L$7:$L$500,N10)","v":0},{"$f":"O10/$Q$4","v":0},{"$f":"IF(P10=0,0,(P10*((LOG(P10))/LOG(2))))","v":0},null,null,{"$f":"N10","v":11122},{"$f":"COUNTIF(L7:L10,T10)","v":0},{"$f":"U10/(W4-U25)","v":0},{"$f":"IF(V10=0,0,(V10*((LOG(V10))/LOG(2))))","v":0},null,{"$f":"N10","v":11122},{"$f":"COUNTIF(L11:L13,Y10)","v":0},{"$f":"Z10/(AB4-Z25)","v":0},{"$f":"IF(AA10=0,0,(AA10*((LOG(AA10))/LOG(2))))","v":0},null,{"$f":"N10","v":11122},{"$f":"COUNTIF(L14:L17,AD10)","v":0},{"$f":"AE10/(AG4-AE25)","v":0},{"$f":"IF(AF10=0,0,(AF10*((LOG(AF10))/LOG(2))))","v":0},null,{"$f":"N10","v":11122},{"$f":"COUNTIF(L18:L20,AI10)","v":0},{"$f":"AJ10/(AL4-AJ25)","v":0},{"$f":"IF(AK10=0,0,(AK10*((LOG(AK10))/LOG(2))))","v":0},null,{"$f":"N10","v":11122},{"$f":"COUNTIF(L21:L24,AN10)","v":0},{"$f":"AO10/(AQ4-AO25)","v":0},{"$f":"IF(AP10=0,0,(AP10*((LOG(AP10))/LOG(2))))","v":0},null,{"$f":"N10","v":11122},{"$f":"COUNTIF(L25:L27,AS10)","v":0},{"$f":"AT10/(AV4-AT25)","v":0},{"$f":"IF(AU10=0,0,(AU10*((LOG(AU10))/LOG(2))))","v":0}]
[12,930,24,939,13,948,14,957,13,964,0,12111,null,11211,{"$f":"COUNTIF($L$7:$L$500,N11)","v":1},{"$f":"O11/$Q$4","v":4.7619047619047616E-2},{"$f":"IF(P11=0,0,(P11*((LOG(P11))/LOG(2))))","v":-0.20915797251327431},null,null,{"$f":"N11","v":11211},{"$f":"COUNTIF(L7:L10,T11)","v":0},{"$f":"U11/(W4-U25)","v":0},{"$f":"IF(V11=0,0,(V11*((LOG(V11))/LOG(2))))","v":0},null,{"$f":"N11","v":11211},{"$f":"COUNTIF(L11:L13,Y11)","v":0},{"$f":"Z11/(AB4-Z25)","v":0},{"$f":"IF(AA11=0,0,(AA11*((LOG(AA11))/LOG(2))))","v":0},null,{"$f":"N11","v":11211},{"$f":"COUNTIF(L14:L17,AD11)","v":0},{"$f":"AE11/(AG4-AE25)","v":0},{"$f":"IF(AF11=0,0,(AF11*((LOG(AF11))/LOG(2))))","v":0},null,{"$f":"N11","v":11211},{"$f":"COUNTIF(L18:L20,AI11)","v":0},{"$f":"AJ11/(AL4-AJ25)","v":0},{"$f":"IF(AK11=0,0,(AK11*((LOG(AK11))/LOG(2))))","v":0},null,{"$f":"N11","v":11211},{"$f":"COUNTIF(L21:L24,AN11)","v":0},{"$f":"AO11/(AQ4-AO25)","v":0},{"$f":"IF(AP11=0,0,(AP11*((LOG(AP11))/LOG(2))))","v":0},null,{"$f":"N11","v":11211},{"$f":"COUNTIF(L25:L27,AS11)","v":1},{"$f":"AT11/(AV4-AT25)","v":0.33333333333333331},{"$f":"IF(AU11=0,0,(AU11*((LOG(AU11))/LOG(2))))","v":-0.52832083357371862}]
[12,1168,13,1176,13,1185,23,1194,13,1203,0,11121,null,11212,{"$f":"COUNTIF($L$7:$L$500,N12)","v":0},{"$f":"O12/$Q$4","v":0},{"$f":"IF(P12=0,0,(P12*((LOG(P12))/LOG(2))))","v":0},null,null,{"$f":"N12","v":11212},{"$f":"COUNTIF(L7:L10,T12)","v":0},{"$f":"U12/(W4-U25)","v":0},{"$f":"IF(V12=0,0,(V12*((LOG(V12))/LOG(2))))","v":0},null,{"$f":"N12","v":11212},{"$f":"COUNTIF(L11:L13,Y12)","v":0},{"$f":"Z12/(AB4-Z25)","v":0},{"$f":"IF(AA12=0,0,(AA12*((LOG(AA12))/LOG(2))))","v":0},null,{"$f":"N12","v":11212},{"$f":"COUNTIF(L14:L17,AD12)","v":0},{"$f":"AE12/(AG4-AE25)","v":0},{"$f":"IF(AF12=0,0,(AF12*((LOG(AF12))/LOG(2))))","v":0},null,{"$f":"N12","v":11212},{"$f":"COUNTIF(L18:L20,AI12)","v":0},{"$f":"AJ12/(AL4-AJ25)","v":0},{"$f":"IF(AK12=0,0,(AK12*((LOG(AK12))/LOG(2))))","v":0},null,{"$f":"N12","v":11212},{"$f":"COUNTIF(L21:L24,AN12)","v":0},{"$f":"AO12/(AQ4-AO25)","v":0},{"$f":"IF(AP12=0,0,(AP12*((LOG(AP12))/LOG(2))))","v":0},null,{"$f":"N12","v":11212},{"$f":"COUNTIF(L25:L27,AS12)","v":0},{"$f":"AT12/(AV4-AT25)","v":0},{"$f":"IF(AU12=0,0,(AU12*((LOG(AU12))/LOG(2))))","v":0}]
[21,1326,11,1338,11,1347,12,1355,13,1375,0,21111,null,11221,{"$f":"COUNTIF($L$7:$L$500,N13)","v":0},{"$f":"O13/$Q$4","v":0},{"$f":"IF(P13=0,0,(P13*((LOG(P13))/LOG(2))))","v":0},null,null,{"$f":"N13","v":11221},{"$f":"COUNTIF(L7:L10,T13)","v":0},{"$f":"U13/(W4-U25)","v":0},{"$f":"IF(V13=0,0,(V13*((LOG(V13))/LOG(2))))","v":0},null,{"$f":"N13","v":11221},{"$f":"COUNTIF(L11:L13,Y13)","v":0},{"$f":"Z13/(AB4-Z25)","v":0},{"$f":"IF(AA13=0,0,(AA13*((LOG(AA13))/LOG(2))))","v":0},null,{"$f":"N13","v":11221},{"$f":"COUNTIF(L14:L17,AD13)","v":0},{"$f":"AE13/(AG4-AE25)","v":0},{"$f":"IF(AF13=0,0,(AF13*((LOG(AF13))/LOG(2))))","v":0},null,{"$f":"N13","v":11221},{"$f":"COUNTIF(L18:L20,AI13)","v":0},{"$f":"AJ13/(AL4-AJ25)","v":0},{"$f":"IF(AK13=0,0,(AK13*((LOG(AK13))/LOG(2))))","v":0},null,{"$f":"N13","v":11221},{"$f":"COUNTIF(L21:L24,AN13)","v":0},{"$f":"AO13/(AQ4-AO25)","v":0},{"$f":"IF(AP13=0,0,(AP13*((LOG(AP13))/LOG(2))))","v":0},null,{"$f":"N13","v":11221},{"$f":"COUNTIF(L25:L27,AS13)","v":0},{"$f":"AT13/(AV4-AT25)","v":0},{"$f":"IF(AU13=0,0,(AU13*((LOG(AU13))/LOG(2))))","v":0}]
[21,1516,11,1526,11,1533,21,1542,11,1554,1,21121,null,11222,{"$f":"COUNTIF($L$7:$L$500,N14)","v":0},{"$f":"O14/$Q$4","v":0},{"$f":"IF(P14=0,0,(P14*((LOG(P14))/LOG(2))))","v":0},null,null,{"$f":"N14","v":11222},{"$f":"COUNTIF(L7:L10,T14)","v":0},{"$f":"U14/(W4-U25)","v":0},{"$f":"IF(V14=0,0,(V14*((LOG(V14))/LOG(2))))","v":0},null,{"$f":"N14","v":11222},{"$f":"COUNTIF(L11:L13,Y14)","v":0},{"$f":"Z14/(AB4-Z25)","v":0},{"$f":"IF(AA14=0,0,(AA14*((LOG(AA14))/LOG(2))))","v":0},null,{"$f":"N14","v":11222},{"$f":"COUNTIF(L14:L17,AD14)","v":0},{"$f":"AE14/(AG4-AE25)","v":0},{"$f":"IF(AF14=0,0,(AF14*((LOG(AF14))/LOG(2))))","v":0},null,{"$f":"N14","v":11222},{"$f":"COUNTIF(L18:L20,AI14)","v":0},{"$f":"AJ14/(AL4-AJ25)","v":0},{"$f":"IF(AK14=0,0,(AK14*((LOG(AK14))/LOG(2))))","v":0},null,{"$f":"N14","v":11222},{"$f":"COUNTIF(L21:L24,AN14)","v":0},{"$f":"AO14/(AQ4-AO25)","v":0},{"$f":"IF(AP14=0,0,(AP14*((LOG(AP14))/LOG(2))))","v":0},null,{"$f":"N14","v":11222},{"$f":"COUNTIF(L25:L27,AS14)","v":0},{"$f":"AT14/(AV4-AT25)","v":0},{"$f":"IF(AU14=0,0,(AU14*((LOG(AU14))/LOG(2))))","v":0}]
[12,1647,13,1651,13,1666,23,1677,13,1685,0,11121,null,12111,{"$f":"COUNTIF($L$7:$L$500,N15)","v":2},{"$f":"O15/$Q$4","v":9.5238095238095233E-2},{"$f":"IF(P15=0,0,(P15*((LOG(P15))/LOG(2))))","v":-0.32307784978845333},null,null,{"$f":"N15","v":12111},{"$f":"COUNTIF(L7:L10,T15)","v":0},{"$f":"U15/(W4-U25)","v":0},{"$f":"IF(V15=0,0,(V15*((LOG(V15))/LOG(2))))","v":0},null,{"$f":"N15","v":12111},{"$f":"COUNTIF(L11:L13,Y15)","v":1},{"$f":"Z15/(AB4-Z25)","v":0.33333333333333331},{"$f":"IF(AA15=0,0,(AA15*((LOG(AA15))/LOG(2))))","v":-0.52832083357371862},null,{"$f":"N15","v":12111},{"$f":"COUNTIF(L14:L17,AD15)","v":0},{"$f":"AE15/(AG4-AE25)","v":0},{"$f":"IF(AF15=0,0,(AF15*((LOG(AF15))/LOG(2))))","v":0},null,{"$f":"N15","v":12111},{"$f":"COUNTIF(L18:L20,AI15)","v":0},{"$f":"AJ15/(AL4-AJ25)","v":0},{"$f":"IF(AK15=0,0,(AK15*((LOG(AK15))/LOG(2))))","v":0},null,{"$f":"N15","v":12111},{"$f":"COUNTIF(L21:L24,AN15)","v":1},{"$f":"AO15/(AQ4-AO25)","v":0.25},{"$f":"IF(AP15=0,0,(AP15*((LOG(AP15))/LOG(2))))","v":-0.5},null,{"$f":"N15","v":12111},{"$f":"COUNTIF(L25:L27,AS15)","v":0},{"$f":"AT15/(AV4-AT25)","v":0},{"$f":"IF(AU15=0,0,(AU15*((LOG(AU15))/LOG(2))))","v":0}]
[21,1817,11,1839,11,1849,12,1858,13,1865,0,21111,null,12112,{"$f":"COUNTIF($L$7:$L$500,N16)","v":0},{"$f":"O16/$Q$4","v":0},{"$f":"IF(P16=0,0,(P16*((LOG(P16))/LOG(2))))","v":0},null,null,{"$f":"N16","v":12112},{"$f":"COUNTIF(L7:L10,T16)","v":0},{"$f":"U16/(W4-U25)","v":0},{"$f":"IF(V16=0,0,(V16*((LOG(V16))/LOG(2))))","v":0},null,{"$f":"N16","v":12112},{"$f":"COUNTIF(L11:L13,Y16)","v":0},{"$f":"Z16/(AB4-Z25)","v":0},{"$f":"IF(AA16=0,0,(AA16*((LOG(AA16))/LOG(2))))","v":0},null,{"$f":"N16","v":12112},{"$f":"COUNTIF(L14:L17,AD16)","v":0},{"$f":"AE16/(AG4-AE25)","v":0},{"$f":"IF(AF16=0,0,(AF16*((LOG(AF16))/LOG(2))))","v":0},null,{"$f":"N16","v":12112},{"$f":"COUNTIF(L18:L20,AI16)","v":0},{"$f":"AJ16/(AL4-AJ25)","v":0},{"$f":"IF(AK16=0,0,(AK16*((LOG(AK16))/LOG(2))))","v":0},null,{"$f":"N16","v":12112},{"$f":"COUNTIF(L21:L24,AN16)","v":0},{"$f":"AO16/(AQ4-AO25)","v":0},{"$f":"IF(AP16=0,0,(AP16*((LOG(AP16))/LOG(2))))","v":0},null,{"$f":"N16","v":12112},{"$f":"COUNTIF(L25:L27,AS16)","v":0},{"$f":"AT16/(AV4-AT25)","v":0},{"$f":"IF(AU16=0,0,(AU16*((LOG(AU16))/LOG(2))))","v":0}]
[12,2534,13,2542,13,2552,14,2561,13,2580,0,11111,null,12121,{"$f":"COUNTIF($L$7:$L$500,N17)","v":0},{"$f":"O17/$Q$4","v":0},{"$f":"IF(P17=0,0,(P17*((LOG(P17))/LOG(2))))","v":0},null,null,{"$f":"N17","v":12121},{"$f":"COUNTIF(L7:L10,T17)","v":0},{"$f":"U17/(W4-U25)","v":0},{"$f":"IF(V17=0,0,(V17*((LOG(V17))/LOG(2))))","v":0},null,{"$f":"N17","v":12121},{"$f":"COUNTIF(L11:L13,Y17)","v":0},{"$f":"Z17/(AB4-Z25)","v":0},{"$f":"IF(AA17=0,0,(AA17*((LOG(AA17))/LOG(2))))","v":0},null,{"$f":"N17","v":12121},{"$f":"COUNTIF(L14:L17,AD17)","v":0},{"$f":"AE17/(AG4-AE25)","v":0},{"$f":"IF(AF17=0,0,(AF17*((LOG(AF17))/LOG(2))))","v":0},null,{"$f":"N17","v":12121},{"$f":"COUNTIF(L18:L20,AI17)","v":0},{"$f":"AJ17/(AL4-AJ25)","v":0},{"$f":"IF(AK17=0,0,(AK17*((LOG(AK17))/LOG(2))))","v":0},null,{"$f":"N17","v":12121},{"$f":"COUNTIF(L21:L24,AN17)","v":0},{"$f":"AO17/(AQ4-AO25)","v":0},{"$f":"IF(AP17=0,0,(AP17*((LOG(AP17))/LOG(2))))","v":0},null,{"$f":"N17","v":12121},{"$f":"COUNTIF(L25:L27,AS17)","v":0},{"$f":"AT17/(AV4-AT25)","v":0},{"$f":"IF(AU17=0,0,(AU17*((LOG(AU17))/LOG(2))))","v":0}]
[12,3119,13,3126,13,3131,14,3140,13,3148,0,11111,null,12122,{"$f":"COUNTIF($L$7:$L$500,N18)","v":0},{"$f":"O18/$Q$4","v":0},{"$f":"IF(P18=0,0,(P18*((LOG(P18))/LOG(2))))","v":0},null,null,{"$f":"N18","v":12122},{"$f":"COUNTIF(L7:L10,T18)","v":0},{"$f":"U18/(W4-U25)","v":0},{"$f":"IF(V18=0,0,(V18*((LOG(V18))/LOG(2))))","v":0},null,{"$f":"N18","v":12122},{"$f":"COUNTIF(L11:L13,Y18)","v":0},{"$f":"Z18/(AB4-Z25)","v":0},{"$f":"IF(AA18=0,0,(AA18*((LOG(AA18))/LOG(2))))","v":0},null,{"$f":"N18","v":12122},{"$f":"COUNTIF(L14:L17,AD18)","v":0},{"$f":"AE18/(AG4-AE25)","v":0},{"$f":"IF(AF18=0,0,(AF18*((LOG(AF18))/LOG(2))))","v":0},null,{"$f":"N18","v":12122},{"$f":"COUNTIF(L18:L20,AI18)","v":0},{"$f":"AJ18/(AL4-AJ25)","v":0},{"$f":"IF(AK18=0,0,(AK18*((LOG(AK18))/LOG(2))))","v":0},null,{"$f":"N18","v":12122},{"$f":"COUNTIF(L21:L24,AN18)","v":0},{"$f":"AO18/(AQ4-AO25)","v":0},{"$f":"IF(AP18=0,0,(AP18*((LOG(AP18))/LOG(2))))","v":0},null,{"$f":"N18","v":12122},{"$f":"COUNTIF(L25:L27,AS18)","v":0},{"$f":"AT18/(AV4-AT25)","v":0},{"$f":"IF(AU18=0,0,(AU18*((LOG(AU18))/LOG(2))))","v":0}]
[12,3276,13,3286,13,3293,23,3304,13,3318,0,11121,null,12211,{"$f":"COUNTIF($L$7:$L$500,N19)","v":0},{"$f":"O19/$Q$4","v":0},{"$f":"IF(P19=0,0,(P19*((LOG(P19))/LOG(2))))","v":0},null,null,{"$f":"N19","v":12211},{"$f":"COUNTIF(L7:L10,T19)","v":0},{"$f":"U19/(W4-U25)","v":0},{"$f":"IF(V19=0,0,(V19*((LOG(V19))/LOG(2))))","v":0},null,{"$f":"N19","v":12211},{"$f":"COUNTIF(L11:L13,Y19)","v":0},{"$f":"Z19/(AB4-Z25)","v":0},{"$f":"IF(AA19=0,0,(AA19*((LOG(AA19))/LOG(2))))","v":0},null,{"$f":"N19","v":12211},{"$f":"COUNTIF(L14:L17,AD19)","v":0},{"$f":"AE19/(AG4-AE25)","v":0},{"$f":"IF(AF19=0,0,(AF19*((LOG(AF19))/LOG(2))))","v":0},null,{"$f":"N19","v":12211},{"$f":"COUNTIF(L18:L20,AI19)","v":0},{"$f":"AJ19/(AL4-AJ25)","v":0},{"$f":"IF(AK19=0,0,(AK19*((LOG(AK19))/LOG(2))))","v":0},null,{"$f":"N19","v":12211},{"$f":"COUNTIF(L21:L24,AN19)","v":0},{"$f":"AO19/(AQ4-AO25)","v":0},{"$f":"IF(AP19=0,0,(AP19*((LOG(AP19))/LOG(2))))","v":0},null,{"$f":"N19","v":12211},{"$f":"COUNTIF(L25:L27,AS19)","v":0},{"$f":"AT19/(AV4-AT25)","v":0},{"$f":"IF(AU19=0,0,(AU19*((LOG(AU19))/LOG(2))))","v":0}]
[12,3722,13,3728,13,3733,14,3737,13,3746,0,11111,null,12212,{"$f":"COUNTIF($L$7:$L$500,N20)","v":0},{"$f":"O20/$Q$4","v":0},{"$f":"IF(P20=0,0,(P20*((LOG(P20))/LOG(2))))","v":0},null,null,{"$f":"N20","v":12212},{"$f":"COUNTIF(L7:L10,T20)","v":0},{"$f":"U20/(W4-U25)","v":0},{"$f":"IF(V20=0,0,(V20*((LOG(V20))/LOG(2))))","v":0},null,{"$f":"N20","v":12212},{"$f":"COUNTIF(L11:L13,Y20)","v":0},{"$f":"Z20/(AB4-Z25)","v":0},{"$f":"IF(AA20=0,0,(AA20*((LOG(AA20))/LOG(2))))","v":0},null,{"$f":"N20","v":12212},{"$f":"COUNTIF(L14:L17,AD20)","v":0},{"$f":"AE20/(AG4-AE25)","v":0},{"$f":"IF(AF20=0,0,(AF20*((LOG(AF20))/LOG(2))))","v":0},null,{"$f":"N20","v":12212},{"$f":"COUNTIF(L18:L20,AI20)","v":0},{"$f":"AJ20/(AL4-AJ25)","v":0},{"$f":"IF(AK20=0,0,(AK20*((LOG(AK20))/LOG(2))))","v":0},null,{"$f":"N20","v":12212},{"$f":"COUNTIF(L21:L24,AN20)","v":0},{"$f":"AO20/(AQ4-AO25)","v":0},{"$f":"IF(AP20=0,0,(AP20*((LOG(AP20))/LOG(2))))","v":0},null,{"$f":"N20","v":12212},{"$f":"COUNTIF(L25:L27,AS20)","v":0},{"$f":"AT20/(AV4-AT25)","v":0},{"$f":"IF(AU20=0,0,(AU20*((LOG(AU20))/LOG(2))))","v":0}]
[12,4042,13,4046,13,4051,14,4060,13,4074,0,11111,null,12221,{"$f":"COUNTIF($L$7:$L$500,N21)","v":0},{"$f":"O21/$Q$4","v":0},{"$f":"IF(P21=0,0,(P21*((LOG(P21))/LOG(2))))","v":0},null,null,{"$f":"N21","v":12221},{"$f":"COUNTIF(L7:L10,T21)","v":0},{"$f":"U21/(W4-U25)","v":0},{"$f":"IF(V21=0,0,(V21*((LOG(V21))/LOG(2))))","v":0},null,{"$f":"N21","v":12221},{"$f":"COUNTIF(L11:L13,Y21)","v":0},{"$f":"Z21/(AB4-Z25)","v":0},{"$f":"IF(AA21=0,0,(AA21*((LOG(AA21))/LOG(2))))","v":0},null,{"$f":"N21","v":12221},{"$f":"COUNTIF(L14:L17,AD21)","v":0},{"$f":"AE21/(AG4-AE25)","v":0},{"$f":"IF(AF21=0,0,(AF21*((LOG(AF21))/LOG(2))))","v":0},null,{"$f":"N21","v":12221},{"$f":"COUNTIF(L18:L20,AI21)","v":0},{"$f":"AJ21/(AL4-AJ25)","v":0},{"$f":"IF(AK21=0,0,(AK21*((LOG(AK21))/LOG(2))))","v":0},null,{"$f":"N21","v":12221},{"$f":"COUNTIF(L21:L24,AN21)","v":0},{"$f":"AO21/(AQ4-AO25)","v":0},{"$f":"IF(AP21=0,0,(AP21*((LOG(AP21))/LOG(2))))","v":0},null,{"$f":"N21","v":12221},{"$f":"COUNTIF(L25:L27,AS21)","v":0},{"$f":"AT21/(AV4-AT25)","v":0},{"$f":"IF(AU21=0,0,(AU21*((LOG(AU21))/LOG(2))))","v":0}]
[12,4337,13,4341,13,4349,14,4362,13,4370,0,11111,null,12222,{"$f":"COUNTIF($L$7:$L$500,N22)","v":0},{"$f":"O22/$Q$4","v":0},{"$f":"IF(P22=0,0,(P22*((LOG(P22))/LOG(2))))","v":0},null,null,{"$f":"N22","v":12222},{"$f":"COUNTIF(L7:L10,T22)","v":0},{"$f":"U22/(W4-U25)","v":0},{"$f":"IF(V22=0,0,(V22*((LOG(V22))/LOG(2))))","v":0},null,{"$f":"N22","v":12222},{"$f":"COUNTIF(L11:L13,Y22)","v":0},{"$f":"Z22/(AB4-Z25)","v":0},{"$f":"IF(AA22=0,0,(AA22*((LOG(AA22))/LOG(2))))","v":0},null,{"$f":"N22","v":12222},{"$f":"COUNTIF(L14:L17,AD22)","v":0},{"$f":"AE22/(AG4-AE25)","v":0},{"$f":"IF(AF22=0,0,(AF22*((LOG(AF22))/LOG(2))))","v":0},null,{"$f":"N22","v":12222},{"$f":"COUNTIF(L18:L20,AI22)","v":0},{"$f":"AJ22/(AL4-AJ25)","v":0},{"$f":"IF(AK22=0,0,(AK22*((LOG(AK22))/LOG(2))))","v":0},null,{"$f":"N22","v":12222},{"$f":"COUNTIF(L21:L24,AN22)","v":0},{"$f":"AO22/(AQ4-AO25)","v":0},{"$f":"IF(AP22=0,0,(AP22*((LOG(AP22))/LOG(2))))","v":0},null,{"$f":"N22","v":12222},{"$f":"COUNTIF(L25:L27,AS22)","v":0},{"$f":"AT22/(AV4-AT25)","v":0},{"$f":"IF(AU22=0,0,(AU22*((LOG(AU22))/LOG(2))))","v":0}]
[12,4616,24,4626,13,4637,14,4651,13,4659,0,12111,null,21111,{"$f":"COUNTIF($L$7:$L$500,N23)","v":3},{"$f":"O23/$Q$4","v":0.14285714285714285},{"$f":"IF(P23=0,0,(P23*((LOG(P23))/LOG(2))))","v":-0.40105070315108626},null,null,{"$f":"N23","v":21111},{"$f":"COUNTIF(L7:L10,T23)","v":1},{"$f":"U23/(W4-U25)","v":0.25},{"$f":"IF(V23=0,0,(V23*((LOG(V23))/LOG(2))))","v":-0.5},null,{"$f":"N23","v":21111},{"$f":"COUNTIF(L11:L13,Y23)","v":1},{"$f":"Z23/(AB4-Z25)","v":0.33333333333333331},{"$f":"IF(AA23=0,0,(AA23*((LOG(AA23))/LOG(2))))","v":-0.52832083357371862},null,{"$f":"N23","v":21111},{"$f":"COUNTIF(L14:L17,AD23)","v":1},{"$f":"AE23/(AG4-AE25)","v":0.33333333333333331},{"$f":"IF(AF23=0,0,(AF23*((LOG(AF23))/LOG(2))))","v":-0.52832083357371862},null,{"$f":"N23","v":21111},{"$f":"COUNTIF(L18:L20,AI23)","v":0},{"$f":"AJ23/(AL4-AJ25)","v":0},{"$f":"IF(AK23=0,0,(AK23*((LOG(AK23))/LOG(2))))","v":0},null,{"$f":"N23","v":21111},{"$f":"COUNTIF(L21:L24,AN23)","v":0},{"$f":"AO23/(AQ4-AO25)","v":0},{"$f":"IF(AP23=0,0,(AP23*((LOG(AP23))/LOG(2))))","v":0},null,{"$f":"N23","v":21111},{"$f":"COUNTIF(L25:L27,AS23)","v":0},{"$f":"AT23/(AV4-AT25)","v":0},{"$f":"IF(AU23=0,0,(AU23*((LOG(AU23))/LOG(2))))","v":0}]
[12,5525,13,5533,13,5544,14,5552,13,5574,0,11111,null,21112,{"$f":"COUNTIF($L$7:$L$500,N24)","v":0},{"$f":"O24/$Q$4","v":0},{"$f":"IF(P24=0,0,(P24*((LOG(P24))/LOG(2))))","v":0},null,null,{"$f":"N24","v":21112},{"$f":"COUNTIF(L7:L10,T24)","v":0},{"$f":"U24/(W4-U25)","v":0},{"$f":"IF(V24=0,0,(V24*((LOG(V24))/LOG(2))))","v":0},null,{"$f":"N24","v":21112},{"$f":"COUNTIF(L11:L13,Y24)","v":0},{"$f":"Z24/(AB4-Z25)","v":0},{"$f":"IF(AA24=0,0,(AA24*((LOG(AA24))/LOG(2))))","v":0},null,{"$f":"N24","v":21112},{"$f":"COUNTIF(L14:L17,AD24)","v":0},{"$f":"AE24/(AG4-AE25)","v":0},{"$f":"IF(AF24=0,0,(AF24*((LOG(AF24))/LOG(2))))","v":0},null,{"$f":"N24","v":21112},{"$f":"COUNTIF(L18:L20,AI24)","v":0},{"$f":"AJ24/(AL4-AJ25)","v":0},{"$f":"IF(AK24=0,0,(AK24*((LOG(AK24))/LOG(2))))","v":0},null,{"$f":"N24","v":21112},{"$f":"COUNTIF(L21:L24,AN24)","v":0},{"$f":"AO24/(AQ4-AO25)","v":0},{"$f":"IF(AP24=0,0,(AP24*((LOG(AP24))/LOG(2))))","v":0},null,{"$f":"N24","v":21112},{"$f":"COUNTIF(L25:L27,AS24)","v":0},{"$f":"AT24/(AV4-AT25)","v":0},{"$f":"IF(AU24=0,0,(AU24*((LOG(AU24))/LOG(2))))","v":0}]
[12,5967,13,5972,13,5976,14,5987,24,6004,0,11112,null,21121,{"$f":"COUNTIF($L$7:$L$500,N25)","v":1},{"$f":"O25/$Q$4","v":4.7619047619047616E-2},{"$f":"IF(P25=0,0,(P25*((LOG(P25))/LOG(2))))","v":-0.20915797251327431},null,null,{"$f":"N25","v":21121},{"$f":"COUNTIF(L7:L10,T25)","v":0},null,null,null,{"$f":"N25","v":21121},{"$f":"COUNTIF(L11:L13,Y25)","v":0},null,null,null,{"$f":"N25","v":21121},{"$f":"COUNTIF(L14:L17,AD25)","v":1},null,null,null,{"$f":"N25","v":21121},{"$f":"COUNTIF(L18:L20,AI25)","v":0},null,null,null,{"$f":"N25","v":21121},{"$f":"COUNTIF(L21:L24,AN25)","v":0},null,null,null,{"$f":"N25","v":21121},{"$f":"COUNTIF(L25:L27,AS25)","v":0}]
[12,6635,13,6643,13,6650,14,6659,13,6667,0,11111,null,21122,{"$f":"COUNTIF($L$7:$L$500,N26)","v":0},{"$f":"O26/$Q$4","v":0},{"$f":"IF(P26=0,0,(P26*((LOG(P26))/LOG(2))))","v":0},null,null,{"$f":"N26","v":21122},{"$f":"COUNTIF(L7:L10,T26)","v":0},{"$f":"U26/(W4-U25)","v":0},{"$f":"IF(V26=0,0,(V26*((LOG(V26))/LOG(2))))","v":0},null,{"$f":"N26","v":21122},{"$f":"COUNTIF(L11:L13,Y26)","v":0},{"$f":"Z26/(AB4-Z25)","v":0},{"$f":"IF(AA26=0,0,(AA26*((LOG(AA26))/LOG(2))))","v":0},null,{"$f":"N26","v":21122},{"$f":"COUNTIF(L14:L17,AD26)","v":0},{"$f":"AE26/(AG4-AE25)","v":0},{"$f":"IF(AF26=0,0,(AF26*((LOG(AF26))/LOG(2))))","v":0},null,{"$f":"N26","v":21122},{"$f":"COUNTIF(L18:L20,AI26)","v":0},{"$f":"AJ26/(AL4-AJ25)","v":0},{"$f":"IF(AK26=0,0,(AK26*((LOG(AK26))/LOG(2))))","v":0},null,{"$f":"N26","v":21122},{"$f":"COUNTIF(L21:L24,AN26)","v":0},{"$f":"AO26/(AQ4-AO25)","v":0},{"$f":"IF(AP26=0,0,(AP26*((LOG(AP26))/LOG(2))))","v":0},null,{"$f":"N26","v":21122},{"$f":"COUNTIF(L25:L27,AS26)","v":0},{"$f":"AT26/(AV4-AT25)","v":0},{"$f":"IF(AU26=0,0,(AU26*((LOG(AU26))/LOG(2))))","v":0}]
[12,10518,13,10525,24,10551,14,10564,13,10596,0,11211,null,21211,{"$f":"COUNTIF($L$7:$L$500,N27)","v":0},{"$f":"O27/$Q$4","v":0},{"$f":"IF(P27=0,0,(P27*((LOG(P27))/LOG(2))))","v":0},null,null,{"$f":"N27","v":21211},{"$f":"COUNTIF(L7:L10,T27)","v":0},{"$f":"U27/(W4-U25)","v":0},{"$f":"IF(V27=0,0,(V27*((LOG(V27))/LOG(2))))","v":0},null,{"$f":"N27","v":21211},{"$f":"COUNTIF(L11:L13,Y27)","v":0},{"$f":"Z27/(AB4-Z25)","v":0},{"$f":"IF(AA27=0,0,(AA27*((LOG(AA27))/LOG(2))))","v":0},null,{"$f":"N27","v":21211},{"$f":"COUNTIF(L14:L17,AD27)","v":0},{"$f":"AE27/(AG4-AE25)","v":0},{"$f":"IF(AF27=0,0,(AF27*((LOG(AF27))/LOG(2))))","v":0},null,{"$f":"N27","v":21211},{"$f":"COUNTIF(L18:L20,AI27)","v":0},{"$f":"AJ27/(AL4-AJ25)","v":0},{"$f":"IF(AK27=0,0,(AK27*((LOG(AK27))/LOG(2))))","v":0},null,{"$f":"N27","v":21211},{"$f":"COUNTIF(L21:L24,AN27)","v":0},{"$f":"AO27/(AQ4-AO25)","v":0},{"$f":"IF(AP27=0,0,(AP27*((LOG(AP27))/LOG(2))))","v":0},null,{"$f":"N27","v":21211},{"$f":"COUNTIF(L25:L27,AS27)","v":0},{"$f":"AT27/(AV4-AT25)","v":0},{"$f":"IF(AU27=0,0,(AU27*((LOG(AU27))/LOG(2))))","v":0}]
[null,null,null,null,null,null,null,null,null,null,null,null,null,21212,{"$f":"COUNTIF($L$7:$L$500,N28)","v":0},{"$f":"O28/$Q$4","v":0},{"$f":"IF(P28=0,0,(P28*((LOG(P28))/LOG(2))))","v":0},null,null,{"$f":"N28","v":21212},{"$f":"COUNTIF(L7:L10,T28)","v":0},{"$f":"U28/(W4-U25)","v":0},{"$f":"IF(V28=0,0,(V28*((LOG(V28))/LOG(2))))","v":0},null,{"$f":"N28","v":21212},{"$f":"COUNTIF(L11:L13,Y28)","v":0},{"$f":"Z28/(AB4-Z25)","v":0},{"$f":"IF(AA28=0,0,(AA28*((LOG(AA28))/LOG(2))))","v":0},null,{"$f":"N28","v":21212},{"$f":"COUNTIF(L14:L17,AD28)","v":0},{"$f":"AE28/(AG4-AE25)","v":0},{"$f":"IF(AF28=0,0,(AF28*((LOG(AF28))/LOG(2))))","v":0},null,{"$f":"N28","v":21212},{"$f":"COUNTIF(L18:L20,AI28)","v":0},{"$f":"AJ28/(AL4-AJ25)","v":0},{"$f":"IF(AK28=0,0,(AK28*((LOG(AK28))/LOG(2))))","v":0},null,{"$f":"N28","v":21212},{"$f":"COUNTIF(L21:L24,AN28)","v":0},{"$f":"AO28/(AQ4-AO25)","v":0},{"$f":"IF(AP28=0,0,(AP28*((LOG(AP28))/LOG(2))))","v":0},null,{"$f":"N28","v":21212},{"$f":"COUNTIF(L25:L27,AS28)","v":0},{"$f":"AT28/(AV4-AT25)","v":0},{"$f":"IF(AU28=0,0,(AU28*((LOG(AU28))/LOG(2))))","v":0}]
[null,null,null,null,null,null,null,null,null,null,null,null,null,21221,{"$f":"COUNTIF($L$7:$L$500,N29)","v":0},{"$f":"O29/$Q$4","v":0},{"$f":"IF(P29=0,0,(P29*((LOG(P29))/LOG(2))))","v":0},null,null,{"$f":"N29","v":21221},{"$f":"COUNTIF(L7:L10,T29)","v":0},{"$f":"U29/(W4-U25)","v":0},{"$f":"IF(V29=0,0,(V29*((LOG(V29))/LOG(2))))","v":0},null,{"$f":"N29","v":21221},{"$f":"COUNTIF(L11:L13,Y29)","v":0},{"$f":"Z29/(AB4-Z25)","v":0},{"$f":"IF(AA29=0,0,(AA29*((LOG(AA29))/LOG(2))))","v":0},null,{"$f":"N29","v":21221},{"$f":"COUNTIF(L14:L17,AD29)","v":0},{"$f":"AE29/(AG4-AE25)","v":0},{"$f":"IF(AF29=0,0,(AF29*((LOG(AF29))/LOG(2))))","v":0},null,{"$f":"N29","v":21221},{"$f":"COUNTIF(L18:L20,AI29)","v":0},{"$f":"AJ29/(AL4-AJ25)","v":0},{"$f":"IF(AK29=0,0,(AK29*((LOG(AK29))/LOG(2))))","v":0},null,{"$f":"N29","v":21221},{"$f":"COUNTIF(L21:L24,AN29)","v":0},{"$f":"AO29/(AQ4-AO25)","v":0},{"$f":"IF(AP29=0,0,(AP29*((LOG(AP29))/LOG(2))))","v":0},null,{"$f":"N29","v":21221},{"$f":"COUNTIF(L25:L27,AS29)","v":0},{"$f":"AT29/(AV4-AT25)","v":0},{"$f":"IF(AU29=0,0,(AU29*((LOG(AU29))/LOG(2))))","v":0}]
[null,null,null,null,null,null,null,null,null,null,null,null,null,21222,{"$f":"COUNTIF($L$7:$L$500,N30)","v":0},{"$f":"O30/$Q$4","v":0},{"$f":"IF(P30=0,0,(P30*((LOG(P30))/LOG(2))))","v":0},null,null,{"$f":"N30","v":21222},{"$f":"COUNTIF(L7:L10,T30)","v":0},{"$f":"U30/(W4-U25)","v":0},{"$f":"IF(V30=0,0,(V30*((LOG(V30))/LOG(2))))","v":0},null,{"$f":"N30","v":21222},{"$f":"COUNTIF(L11:L13,Y30)","v":0},{"$f":"Z30/(AB4-Z25)","v":0},{"$f":"IF(AA30=0,0,(AA30*((LOG(AA30))/LOG(2))))","v":0},null,{"$f":"N30","v":21222},{"$f":"COUNTIF(L14:L17,AD30)","v":0},{"$f":"AE30/(AG4-AE25)","v":0},{"$f":"IF(AF30=0,0,(AF30*((LOG(AF30))/LOG(2))))","v":0},null,{"$f":"N30","v":21222},{"$f":"COUNTIF(L18:L20,AI30)","v":0},{"$f":"AJ30/(AL4-AJ25)","v":0},{"$f":"IF(AK30=0,0,(AK30*((LOG(AK30))/LOG(2))))","v":0},null,{"$f":"N30","v":21222},{"$f":"COUNTIF(L21:L24,AN30)","v":0},{"$f":"AO30/(AQ4-AO25)","v":0},{"$f":"IF(AP30=0,0,(AP30*((LOG(AP30))/LOG(2))))","v":0},null,{"$f":"N30","v":21222},{"$f":"COUNTIF(L25:L27,AS30)","v":0},{"$f":"AT30/(AV4-AT25)","v":0},{"$f":"IF(AU30=0,0,(AU30*((LOG(AU30))/LOG(2))))","v":0}]
[null,null,null,null,null,null,null,null,null,null,null,null,null,22111,{"$f":"COUNTIF($L$7:$L$500,N31)","v":0},{"$f":"O31/$Q$4","v":0},{"$f":"IF(P31=0,0,(P31*((LOG(P31))/LOG(2))))","v":0},null,null,{"$f":"N31","v":22111},{"$f":"COUNTIF(L7:L10,T31)","v":0},{"$f":"U31/(W4-U25)","v":0},{"$f":"IF(V31=0,0,(V31*((LOG(V31))/LOG(2))))","v":0},null,{"$f":"N31","v":22111},{"$f":"COUNTIF(L11:L13,Y31)","v":0},{"$f":"Z31/(AB4-Z25)","v":0},{"$f":"IF(AA31=0,0,(AA31*((LOG(AA31))/LOG(2))))","v":0},null,{"$f":"N31","v":22111},{"$f":"COUNTIF(L14:L17,AD31)","v":0},{"$f":"AE31/(AG4-AE25)","v":0},{"$f":"IF(AF31=0,0,(AF31*((LOG(AF31))/LOG(2))))","v":0},null,{"$f":"N31","v":22111},{"$f":"COUNTIF(L18:L20,AI31)","v":0},{"$f":"AJ31/(AL4-AJ25)","v":0},{"$f":"IF(AK31=0,0,(AK31*((LOG(AK31))/LOG(2))))","v":0},null,{"$f":"N31","v":22111},{"$f":"COUNTIF(L21:L24,AN31)","v":0},{"$f":"AO31/(AQ4-AO25)","v":0},{"$f":"IF(AP31=0,0,(AP31*((LOG(AP31))/LOG(2))))","v":0},null,{"$f":"N31","v":22111},{"$f":"COUNTIF(L25:L27,AS31)","v":0},{"$f":"AT31/(AV4-AT25)","v":0},{"$f":"IF(AU31=0,0,(AU31*((LOG(AU31))/LOG(2))))","v":0}]
[null,null,null,null,null,null,null,null,null,null,null,null,null,22112,{"$f":"COUNTIF($L$7:$L$500,N32)","v":0},{"$f":"O32/$Q$4","v":0},{"$f":"IF(P32=0,0,(P32*((LOG(P32))/LOG(2))))","v":0},null,null,{"$f":"N32","v":22112},{"$f":"COUNTIF(L7:L10,T32)","v":0},{"$f":"U32/(W4-U25)","v":0},{"$f":"IF(V32=0,0,(V32*((LOG(V32))/LOG(2))))","v":0},null,{"$f":"N32","v":22112},{"$f":"COUNTIF(L11:L13,Y32)","v":0},{"$f":"Z32/(AB4-Z25)","v":0},{"$f":"IF(AA32=0,0,(AA32*((LOG(AA32))/LOG(2))))","v":0},null,{"$f":"N32","v":22112},{"$f":"COUNTIF(L14:L17,AD32)","v":0},{"$f":"AE32/(AG4-AE25)","v":0},{"$f":"IF(AF32=0,0,(AF32*((LOG(AF32))/LOG(2))))","v":0},null,{"$f":"N32","v":22112},{"$f":"COUNTIF(L18:L20,AI32)","v":0},{"$f":"AJ32/(AL4-AJ25)","v":0},{"$f":"IF(AK32=0,0,(AK32*((LOG(AK32))/LOG(2))))","v":0},null,{"$f":"N32","v":22112},{"$f":"COUNTIF(L21:L24,AN32)","v":0},{"$f":"AO32/(AQ4-AO25)","v":0},{"$f":"IF(AP32=0,0,(AP32*((LOG(AP32))/LOG(2))))","v":0},null,{"$f":"N32","v":22112},{"$f":"COUNTIF(L25:L27,AS32)","v":0},{"$f":"AT32/(AV4-AT25)","v":0},{"$f":"IF(AU32=0,0,(AU32*((LOG(AU32))/LOG(2))))","v":0}]
[null,null,null,null,null,null,null,null,null,null,null,null,null,22121,{"$f":"COUNTIF($L$7:$L$500,N33)","v":0},{"$f":"O33/$Q$4","v":0},{"$f":"IF(P33=0,0,(P33*((LOG(P33))/LOG(2))))","v":0},null,null,{"$f":"N33","v":22121},{"$f":"COUNTIF(L7:L10,T33)","v":0},{"$f":"U33/(W4-U25)","v":0},{"$f":"IF(V33=0,0,(V33*((LOG(V33))/LOG(2))))","v":0},null,{"$f":"N33","v":22121},{"$f":"COUNTIF(L11:L13,Y33)","v":0},{"$f":"Z33/(AB4-Z25)","v":0},{"$f":"IF(AA33=0,0,(AA33*((LOG(AA33))/LOG(2))))","v":0},null,{"$f":"N33","v":22121},{"$f":"COUNTIF(L14:L17,AD33)","v":0},{"$f":"AE33/(AG4-AE25)","v":0},{"$f":"IF(AF33=0,0,(AF33*((LOG(AF33))/LOG(2))))","v":0},null,{"$f":"N33","v":22121},{"$f":"COUNTIF(L18:L20,AI33)","v":0},{"$f":"AJ33/(AL4-AJ25)","v":0},{"$f":"IF(AK33=0,0,(AK33*((LOG(AK33))/LOG(2))))","v":0},null,{"$f":"N33","v":22121},{"$f":"COUNTIF(L21:L24,AN33)","v":0},{"$f":"AO33/(AQ4-AO25)","v":0},{"$f":"IF(AP33=0,0,(AP33*((LOG(AP33))/LOG(2))))","v":0},null,{"$f":"N33","v":22121},{"$f":"COUNTIF(L25:L27,AS33)","v":0},{"$f":"AT33/(AV4-AT25)","v":0},{"$f":"IF(AU33=0,0,(AU33*((LOG(AU33))/LOG(2))))","v":0}]
[null,null,null,null,null,null,null,null,null,null,null,null,null,22122,{"$f":"COUNTIF($L$7:$L$500,N34)","v":0},{"$f":"O34/$Q$4","v":0},{"$f":"IF(P34=0,0,(P34*((LOG(P34))/LOG(2))))","v":0},null,null,{"$f":"N34","v":22122},{"$f":"COUNTIF(L7:L10,T34)","v":0},{"$f":"U34/(W4-U25)","v":0},{"$f":"IF(V34=0,0,(V34*((LOG(V34))/LOG(2))))","v":0},null,{"$f":"N34","v":22122},{"$f":"COUNTIF(L11:L13,Y34)","v":0},{"$f":"Z34/(AB4-Z25)","v":0},{"$f":"IF(AA34=0,0,(AA34*((LOG(AA34))/LOG(2))))","v":0},null,{"$f":"N34","v":22122},{"$f":"COUNTIF(L14:L17,AD34)","v":0},{"$f":"AE34/(AG4-AE25)","v":0},{"$f":"IF(AF34=0,0,(AF34*((LOG(AF34))/LOG(2))))","v":0},null,{"$f":"N34","v":22122},{"$f":"COUNTIF(L18:L20,AI34)","v":0},{"$f":"AJ34/(AL4-AJ25)","v":0},{"$f":"IF(AK34=0,0,(AK34*((LOG(AK34))/LOG(2))))","v":0},null,{"$f":"N34","v":22122},{"$f":"COUNTIF(L21:L24,AN34)","v":0},{"$f":"AO34/(AQ4-AO25)","v":0},{"$f":"IF(AP34=0,0,(AP34*((LOG(AP34))/LOG(2))))","v":0},null,{"$f":"N34","v":22122},{"$f":"COUNTIF(L25:L27,AS34)","v":0},{"$f":"AT34/(AV4-AT25)","v":0},{"$f":"IF(AU34=0,0,(AU34*((LOG(AU34))/LOG(2))))","v":0}]
[null,null,null,null,null,null,null,null,null,null,null,null,null,22211,{"$f":"COUNTIF($L$7:$L$500,N35)","v":0},{"$f":"O35/$Q$4","v":0},{"$f":"IF(P35=0,0,(P35*((LOG(P35))/LOG(2))))","v":0},null,null,{"$f":"N35","v":22211},{"$f":"COUNTIF(L7:L10,T35)","v":0},{"$f":"U35/(W4-U25)","v":0},{"$f":"IF(V35=0,0,(V35*((LOG(V35))/LOG(2))))","v":0},null,{"$f":"N35","v":22211},{"$f":"COUNTIF(L11:L13,Y35)","v":0},{"$f":"Z35/(AB4-Z25)","v":0},{"$f":"IF(AA35=0,0,(AA35*((LOG(AA35))/LOG(2))))","v":0},null,{"$f":"N35","v":22211},{"$f":"COUNTIF(L14:L17,AD35)","v":0},{"$f":"AE35/(AG4-AE25)","v":0},{"$f":"IF(AF35=0,0,(AF35*((LOG(AF35))/LOG(2))))","v":0},null,{"$f":"N35","v":22211},{"$f":"COUNTIF(L18:L20,AI35)","v":0},{"$f":"AJ35/(AL4-AJ25)","v":0},{"$f":"IF(AK35=0,0,(AK35*((LOG(AK35))/LOG(2))))","v":0},null,{"$f":"N35","v":22211},{"$f":"COUNTIF(L21:L24,AN35)","v":0},{"$f":"AO35/(AQ4-AO25)","v":0},{"$f":"IF(AP35=0,0,(AP35*((LOG(AP35))/LOG(2))))","v":0},null,{"$f":"N35","v":22211},{"$f":"COUNTIF(L25:L27,AS35)","v":0},{"$f":"AT35/(AV4-AT25)","v":0},{"$f":"IF(AU35=0,0,(AU35*((LOG(AU35))/LOG(2))))","v":0}]
[null,null,null,null,null,null,null,null,null,null,null,null,null,22212,{"$f":"COUNTIF($L$7:$L$500,N36)","v":1},{"$f":"O36/$Q$4","v":4.7619047619047616E-2},{"$f":"IF(P36=0,0,(P36*((LOG(P36))/LOG(2))))","v":-0.20915797251327431},null,null,{"$f":"N36","v":22212},{"$f":"COUNTIF(L7:L10,T36)","v":1},{"$f":"U36/(W4-U25)","v":0.25},{"$f":"IF(V36=0,0,(V36*((LOG(V36))/LOG(2))))","v":-0.5},null,{"$f":"N36","v":22212},{"$f":"COUNTIF(L11:L13,Y36)","v":0},{"$f":"Z36/(AB4-Z25)","v":0},{"$f":"IF(AA36=0,0,(AA36*((LOG(AA36))/LOG(2))))","v":0},null,{"$f":"N36","v":22212},{"$f":"COUNTIF(L14:L17,AD36)","v":0},{"$f":"AE36/(AG4-AE25)","v":0},{"$f":"IF(AF36=0,0,(AF36*((LOG(AF36))/LOG(2))))","v":0},null,{"$f":"N36","v":22212},{"$f":"COUNTIF(L18:L20,AI36)","v":0},{"$f":"AJ36/(AL4-AJ25)","v":0},{"$f":"IF(AK36=0,0,(AK36*((LOG(AK36))/LOG(2))))","v":0},null,{"$f":"N36","v":22212},{"$f":"COUNTIF(L21:L24,AN36)","v":0},{"$f":"AO36/(AQ4-AO25)","v":0},{"$f":"IF(AP36=0,0,(AP36*((LOG(AP36))/LOG(2))))","v":0},null,{"$f":"N36","v":22212},{"$f":"COUNTIF(L25:L27,AS36)","v":0},{"$f":"AT36/(AV4-AT25)","v":0},{"$f":"IF(AU36=0,0,(AU36*((LOG(AU36))/LOG(2))))","v":0}]
[null,null,null,null,null,null,null,null,null,null,null,null,null,22221,{"$f":"COUNTIF($L$7:$L$500,N37)","v":0},{"$f":"O37/$Q$4","v":0},{"$f":"IF(P37=0,0,(P37*((LOG(P37))/LOG(2))))","v":0},null,null,{"$f":"N37","v":22221},{"$f":"COUNTIF(L7:L10,T37)","v":0},{"$f":"U37/(W4-U25)","v":0},{"$f":"IF(V37=0,0,(V37*((LOG(V37))/LOG(2))))","v":0},null,{"$f":"N37","v":22221},{"$f":"COUNTIF(L11:L13,Y37)","v":0},{"$f":"Z37/(AB4-Z25)","v":0},{"$f":"IF(AA37=0,0,(AA37*((LOG(AA37))/LOG(2))))","v":0},null,{"$f":"N37","v":22221},{"$f":"COUNTIF(L14:L17,AD37)","v":0},{"$f":"AE37/(AG4-AE25)","v":0},{"$f":"IF(AF37=0,0,(AF37*((LOG(AF37))/LOG(2))))","v":0},null,{"$f":"N37","v":22221},{"$f":"COUNTIF(L18:L20,AI37)","v":0},{"$f":"AJ37/(AL4-AJ25)","v":0},{"$f":"IF(AK37=0,0,(AK37*((LOG(AK37))/LOG(2))))","v":0},null,{"$f":"N37","v":22221},{"$f":"COUNTIF(L21:L24,AN37)","v":0},{"$f":"AO37/(AQ4-AO25)","v":0},{"$f":"IF(AP37=0,0,(AP37*((LOG(AP37))/LOG(2))))","v":0},null,{"$f":"N37","v":22221},{"$f":"COUNTIF(L25:L27,AS37)","v":0},{"$f":"AT37/(AV4-AT25)","v":0},{"$f":"IF(AU37=0,0,(AU37*((LOG(AU37))/LOG(2))))","v":0}]
[null,null,null,null,null,null,null,null,null,null,null,null,null,22222,{"$f":"COUNTIF($L$7:$L$500,N38)","v":0},{"$f":"O38/$Q$4","v":0},{"$f":"IF(P38=0,0,(P38*((LOG(P38))/LOG(2))))","v":0},null,null,{"$f":"N38","v":22222},{"$f":"COUNTIF(L7:L10,T38)","v":0},{"$f":"U38/(W4-U25)","v":0},{"$f":"IF(V38=0,0,(V38*((LOG(V38))/LOG(2))))","v":0},null,{"$f":"N38","v":22222},{"$f":"COUNTIF(L11:L13,Y38)","v":0},{"$f":"Z38/(AB4-Z25)","v":0},{"$f":"IF(AA38=0,0,(AA38*((LOG(AA38))/LOG(2))))","v":0},null,{"$f":"N38","v":22222},{"$f":"COUNTIF(L14:L17,AD38)","v":0},{"$f":"AE38/(AG4-AE25)","v":0},{"$f":"IF(AF38=0,0,(AF38*((LOG(AF38))/LOG(2))))","v":0},null,{"$f":"N38","v":22222},{"$f":"COUNTIF(L18:L20,AI38)","v":0},{"$f":"AJ38/(AL4-AJ25)","v":0},{"$f":"IF(AK38=0,0,(AK38*((LOG(AK38))/LOG(2))))","v":0},null,{"$f":"N38","v":22222},{"$f":"COUNTIF(L21:L24,AN38)","v":0},{"$f":"AO38/(AQ4-AO25)","v":0},{"$f":"IF(AP38=0,0,(AP38*((LOG(AP38))/LOG(2))))","v":0},null,{"$f":"N38","v":22222},{"$f":"COUNTIF(L25:L27,AS38)","v":0},{"$f":"AT38/(AV4-AT25)","v":0},{"$f":"IF(AU38=0,0,(AU38*((LOG(AU38))/LOG(2))))","v":0}]
[null,null,null,null,null,null,null,null,null,null,null,null,null,null,null,{"$f":"SUM(P7:P38)","v":1.0000000000000002},{"$f":"-SUM(Q7:Q38)","v":2.6586806629422504},null,null,null,null,{"$f":"SUM(V7:V38)","v":1},{"$f":"-SUM(W7:W38)","v":2},null,null,null,{"$f":"SUM(AA7:AA38)","v":1},{"$f":"-SUM(AB7:AB38)","v":1.5849625007211559},null,null,null,{"$f":"SUM(AF7:AF38)","v":1},{"$f":"-SUM(AG7:AG38)","v":1.5849625007211559},null,null,null,{"$f":"SUM(AK7:AK38)","v":1},{"$f":"-SUM(AL7:AL38)","v":0.91829583405448945},null,null,null,{"$f":"SUM(AP7:AP38)","v":1},{"$f":"-SUM(AQ7:AQ38)","v":0.81127812445913283},null,null,null,{"$f":"SUM(AU7:AU38)","v":1},{"$f":"-SUM(AV7:AV38)","v":1.5849625007211559}]
[null,null,null,null,null,null,null,null,null,null,null,null,null,null,null,"U=",{"$f":"Q39/(LOG(Q4)/LOG(2))","v":0.6053024877378419},null,null,null,null,"U1=",{"$f":"W39/(LOG(W4)/LOG(2))","v":1},null,null,null,"U2=",{"$f":"AB39/(LOG(AB4)/LOG(2))","v":0.99999999999999989},null,null,null,"U3=",{"$f":"AG39/(LOG(AG4)/LOG(2))","v":0.79248125036057793},null,null,null,"U4=",{"$f":"AL39/(LOG(AL4)/LOG(2))","v":0.57938016428569505},null,null,null,"U5=",{"$f":"AQ39/(LOG(AQ4)/LOG(2))","v":0.40563906222956642},null,null,null,"U6=",{"$f":"AV39/(LOG(AV4)/LOG(2))","v":0.99999999999999989}]
[]
[]
[null,null,null,null,null,null,null,null,null,null,null,null,null,"Total Target Seq"]
[null,null,null,null,null,null,null,null,null,null,null,null,null,{"$f":"COUNTIF(L7:L27,G3)","v":1},null,4,3,4,3,4,3]
[null,null,null,null,null,null,null,null,null,null,null,null,null,null,null,"% of reinforcement given in 6 equal intervals based on number of trials "]
[null,null,null,null,null,null,null,null,null,null,null,null,null,null,null,"%_1","%_2","%_3","%_4","%_5","%_6"]
[null,null,null,null,null,null,null,null,null,null,null,null,null,null,"target sequence",{"$f":"$G$3","v":21121},{"$f":"$G$3","v":21121},{"$f":"$G$3","v":21121},{"$f":"$G$3","v":21121},{"$f":"$G$3","v":21121},{"$f":"$G$3","v":21121}]
[null,null,null,null,null,null,null,null,null,null,null,null,null,null,"total reinforcement",{"$f":"U25","v":0},{"$f":"Z25","v":0},{"$f":"AE25","v":1},{"$f":"AJ25","v":0},{"$f":"AO25","v":0},{"$f":"AT25","v":0}]
[null,null,null,null,null,null,null,null,null,null,null,null,null,null,"% target"]
[null,null,null,null,null,null,null,null,null,null,null,null,null,null,"CCRF"]
[null,null,null,null,null,null,null,null,null,null,null,null,null,null,"% CCRf"]
[null,null,null,null,null,null,null,null,null,null,null,null,null,null,"average response rate",{"$f":"J10/P44","v":192.25},{"$f":"(J13-J10)/Q44","v":202},{"$f":"(J17-J13)/R44","v":301.25},{"$f":"(J20-J17)/S44","v":388.66666666666669},{"$f":"(J24-J20)/T44","v":457},{"$f":"(J27-J24)/U44","v":1674}]

{"sheet":"!N203940.091","index":17,"n_rows":157,"n_cols":48,"rows_kept":157,"cut":false,"hidden":false,"merged":[[4,39,4,42],[5,39,5,40],[4,44,4,47],[5,44,5,45],[4,24,4,27],[5,24,5,25],[4,29,4,32],[5,29,5,30],[4,34,4,37],[5,34,5,35],[1,1,1,2],[5,13,5,14],[42,13,42,14],[43,13,43,14],[4,19,4,22],[5,19,5,20]]}
["Report for:!N203940.091"]
["Date:","<date>"]
["Hen:","<hen>",null,null,null,"Correct Sequence",{"$f":"Start!J2","v":21121},null,null,null,null,null,null,null,null,"Total Sequences in Data",{"$f":"4994-COUNTBLANK(L7:L5000)","v":151},null,null,null,null,"Total Sequences in Block Data",{"$f":"COUNTA(L7:L31)","v":25},null,null,null,"Total Sequences in Block Data",{"$f":"COUNTA(L32:L56)","v":25},null,null,null,"Total Sequences in Block Data",{"$f":"COUNTA(L57:L82)","v":26},null,null,null,"Total Sequences in Block Data",{"$f":"COUNTA(L83:L107)","v":25},null,null,null,"Total Sequences in Block Data",{"$f":"COUNTA(L108:L132)","v":25},null,null,null,"Total Sequences in Block Data",{"$f":"COUNTA(L133:L157)","v":25}]
[null,null,null,null,null,null,null,null,null,null,null,null,null,null,null,"Total Sequences in Summary",{"$f":"SUM(O7:O38)","v":151},null,null,null,null,"Total Sequences in Block Summary",{"$f":"SUM(U7:U38)","v":25},null,null,null,"Total Sequences in Block Summary",{"$f":"SUM(Z7:Z38)","v":25},null,null,null,"Total Sequences in Block Summary",{"$f":"SUM(AE7:AE38)","v":26},null,null,null,"Total Sequences in Block Summary",{"$f":"SUM(AJ7:AJ38)","v":25},null,null,null,"Total Sequences in Block Summary",{"$f":"SUM(AO7:AO38)","v":25},null,null,null,"Total Sequences in Block Summary",{"$f":"SUM(AT7:AT38)","v":25}]
[null,null,null,null,null,null,null,null,null,null,null,null,null,null,null,null,null,null,null,"Block 1",null,null,null,null,"Block 2",null,null,null,null,"Block 3",null,null,null,null,"Block 4",null,null,null,null,"Block 5",null,null,null,null,"Block 6"]
["Sequence\nComponent\n1","Time\n1","Sequence\nComponent\n2","Time\n2","Sequence\nComponent\n3","Time\n3","Sequence\nComponent\n4","Time\n4","Sequence\nComponent\n5","Time\n5","Correct?\n0=No 1=Yes","Sequence",null,"Frequency",null,"Relative Frequency","Variability",null,null,"Frequency",null,"Relative Frequency","Variability",null,"Frequency",null,"Relative Frequency","Variability",null,"Frequency",null,"Relative Frequency","Variability",null,"Frequency",null,"Relative Frequency","Variability",null,"Frequency",null,"Relative Frequency","Variability",null,"Frequency",null,"Relative Frequency","Variability"]
[12,10,13,21,24,41,14,68,13,86,0,11211,null,11111,{"$f":"COUNTIF($L$7:$L$500,N7)","v":4},{"$f":"O7/$Q$4","v":2.6490066225165563E-2},{"$f":"IF(P7=0,0,(P7*((LOG(P7))/LOG(2))))","v":-0.13876568845894247},null,null,{"$f":"N7","v":11111},{"$f":"COUNTIF(L7:L31,T7)","v":1},{"$f":"U7/(W4-U25)","v":4.1666666666666664E-2},{"$f":"IF(V7=0,0,(V7*((LOG(V7))/LOG(2))))","v":-0.19104010419671485},null,{"$f":"N7","v":11111},{"$f":"COUNTIF(L32:L56,Y7)","v":2},{"$f":"Z7/(AB4-Z25)","v":8.3333333333333329E-2},{"$f":"IF(AA7=0,0,(AA7*((LOG(AA7))/LOG(2))))","v":-0.29874687506009634},null,{"$f":"N7","v":11111},{"$f":"COUNTIF(L57:L82,AD7)","v":0},{"$f":"AE7/(AG4-AE25)","v":0},{"$f":"IF(AF7=0,0,(AF7*((LOG(AF7))/LOG(2))))","v":0},null,{"$f":"N7","v":11111},{"$f":"COUNTIF(L83:L107,AI7)","v":1},{"$f":"AJ7/(AL4-AJ25)","v":4.1666666666666664E-2},{"$f":"IF(AK7=0,0,(AK7*((LOG(AK7))/LOG(2))))","v":-0.19104010419671485},null,{"$f":"N7","v":11111},{"$f":"COUNTIF(L108:L132,AN7)","v":0},{"$f":"AO7/(AQ4-AO25)","v":0},{"$f":"IF(AP7=0,0,(AP7*((LOG(AP7))/LOG(2))))","v":0},null,{"$f":"N7","v":11111},{"$f":"COUNTIF(L133:L157,AS7)","v":0},{"$f":"AT7/(AV4-AT25)","v":0},{"$f":"IF(AU7=0,0,(AU7*((LOG(AU7))/LOG(2))))","v":0}]
[12,184,24,198,13,210,23,223,13,234,0,12121,null,11112,{"$f":"COUNTIF($L$7:$L$500,N8)","v":4},{"$f":"O8/$Q$4","v":2.6490066225165563E-2},{"$f":"IF(P8=0,0,(P8*((LOG(P8))/LOG(2))))","v":-0.13876568845894247},null,null,{"$f":"N8","v":11112},{"$f":"COUNTIF(L7:L31,T8)","v":1},{"$f":"U8/(W4-U25)","v":4.1666666666666664E-2},{"$f":"IF(V8=0,0,(V8*((LOG(V8))/LOG(2))))","v":-0.19104010419671485},null,{"$f":"N8","v":11112},{"$f":"COUNTIF(L32:L56,Y8)","v":2},{"$f":"Z8/(AB4-Z25)","v":8.3333333333333329E-2},{"$f":"IF(AA8=0,0,(AA8*((LOG(AA8))/LOG(2))))","v":-0.29874687506009634},null,{"$f":"N8","v":11112},{"$f":"COUNTIF(L57:L82,AD8)","v":1},{"$f":"AE8/(AG4-AE25)","v":4.3478260869565216E-2},{"$f":"IF(AF8=0,0,(AF8*((LOG(AF8))/LOG(2))))","v":-0.19667660678508753},null,{"$f":"N8","v":11112},{"$f":"COUNTIF(L83:L107,AI8)","v":0},{"$f":"AJ8/(AL4-AJ25)","v":0},{"$f":"IF(AK8=0,0,(AK8*((LOG(AK8))/LOG(2))))","v":0},null,{"$f":"N8","v":11112},{"$f":"COUNTIF(L108:L132,AN8)","v":0},{"$f":"AO8/(AQ4-AO25)","v":0},{"$f":"IF(AP8=0,0,(AP8*((LOG(AP8))/LOG(2))))","v":0},null,{"$f":"N8","v":11112},{"$f":"COUNTIF(L133:L157,AS8)","v":0},{"$f":"AT8/(AV4-AT25)","v":0},{"$f":"IF(AU8=0,0,(AU8*((LOG(AU8))/LOG(2))))","v":0}]
[12,339,13,346,24,362,14,373,13,387,0,11211,null,11121,{"$f":"COUNTIF($L$7:$L$500,N9)","v":4},{"$f":"O9/$Q$4","v":2.6490066225165563E-2},{"$f":"IF(P9=0,0,(P9*((LOG(P9))/LOG(2))))","v":-0.13876568845894247},null,null,{"$f":"N9","v":11121},{"$f":"COUNTIF(L7:L31,T9)","v":0},{"$f":"U9/(W4-U25)","v":0},{"$f":"IF(V9=0,0,(V9*((LOG(V9))/LOG(2))))","v":0},null,{"$f":"N9","v":11121},{"$f":"COUNTIF(L32:L56,Y9)","v":3},{"$f":"Z9/(AB4-Z25)","v":0.125},{"$f":"IF(AA9=0,0,(AA9*((LOG(AA9))/LOG(2))))","v":-0.375},null,{"$f":"N9","v":11121},{"$f":"COUNTIF(L57:L82,AD9)","v":0},{"$f":"AE9/(AG4-AE25)","v":0},{"$f":"IF(AF9=0,0,(AF9*((LOG(AF9))/LOG(2))))","v":0},null,{"$f":"N9","v":11121},{"$f":"COUNTIF(L83:L107,AI9)","v":0},{"$f":"AJ9/(AL4-AJ25)","v":0},{"$f":"IF(AK9=0,0,(AK9*((LOG(AK9))/LOG(2))))","v":0},null,{"$f":"N9","v":11121},{"$f":"COUNTIF(L108:L132,AN9)","v":0},{"$f":"AO9/(AQ4-AO25)","v":0},{"$f":"IF(AP9=0,0,(AP9*((LOG(AP9))/LOG(2))))","v":0},null,{"$f":"N9","v":11121},{"$f":"COUNTIF(L133:L157,AS9)","v":1},{"$f":"AT9/(AV4-AT25)","v":4.1666666666666664E-2},{"$f":"IF(AU9=0,0,(AU9*((LOG(AU9))/LOG(2))))","v":-0.19104010419671485}]
[21,495,11,504,22,518,14,530,24,552,0,21212,null,11122,{"$f":"COUNTIF($L$7:$L$500,N10)","v":0},{"$f":"O10/$Q$4","v":0},{"$f":"IF(P10=0,0,(P10*((LOG(P10))/LOG(2))))","v":0},null,null,{"$f":"N10","v":11122},{"$f":"COUNTIF(L7:L31,T10)","v":0},{"$f":"U10/(W4-U25)","v":0},{"$f":"IF(V10=0,0,(V10*((LOG(V10))/LOG(2))))","v":0},null,{"$f":"N10","v":11122},{"$f":"COUNTIF(L32:L56,Y10)","v":0},{"$f":"Z10/(AB4-Z25)","v":0},{"$f":"IF(AA10=0,0,(AA10*((LOG(AA10))/LOG(2))))","v":0},null,{"$f":"N10","v":11122},{"$f":"COUNTIF(L57:L82,AD10)","v":0},{"$f":"AE10/(AG4-AE25)","v":0},{"$f":"IF(AF10=0,0,(AF10*((LOG(AF10))/LOG(2))))","v":0},null,{"$f":"N10","v":11122},{"$f":"COUNTIF(L83:L107,AI10)","v":0},{"$f":"AJ10/(AL4-AJ25)","v":0},{"$f":"IF(AK10=0,0,(AK10*((LOG(AK10))/LOG(2))))","v":0},null,{"$f":"N10","v":11122},{"$f":"COUNTIF(L108:L132,AN10)","v":0},{"$f":"AO10/(AQ4-AO25)","v":0},{"$f":"IF(AP10=0,0,(AP10*((LOG(AP10))/LOG(2))))","v":0},null,{"$f":"N10","v":11122},{"$f":"COUNTIF(L133:L157,AS10)","v":0},{"$f":"AT10/(AV4-AT25)","v":0},{"$f":"IF(AU10=0,0,(AU10*((LOG(AU10))/LOG(2))))","v":0}]
[21,651,22,660,13,670,14,679,24,701,0,22112,null,11211,{"$f":"COUNTIF($L$7:$L$500,N11)","v":5},{"$f":"O11/$Q$4","v":3.3112582781456956E-2},{"$f":"IF(P11=0,0,(P11*((LOG(P11))/LOG(2))))","v":-0.16279723988204359},null,null,{"$f":"N11","v":11211},{"$f":"COUNTIF(L7:L31,T11)","v":2},{"$f":"U11/(W4-U25)","v":8.3333333333333329E-2},{"$f":"IF(V11=0,0,(V11*((LOG(V11))/LOG(2))))","v":-0.29874687506009634},null,{"$f":"N11","v":11211},{"$f":"COUNTIF(L32:L56,Y11)","v":2},{"$f":"Z11/(AB4-Z25)","v":8.3333333333333329E-2},{"$f":"IF(AA11=0,0,(AA11*((LOG(AA11))/LOG(2))))","v":-0.29874687506009634},null,{"$f":"N11","v":11211},{"$f":"COUNTIF(L57:L82,AD11)","v":0},{"$f":"AE11/(AG4-AE25)","v":0},{"$f":"IF(AF11=0,0,(AF11*((LOG(AF11))/LOG(2))))","v":0},null,{"$f":"N11","v":11211},{"$f":"COUNTIF(L83:L107,AI11)","v":0},{"$f":"AJ11/(AL4-AJ25)","v":0},{"$f":"IF(AK11=0,0,(AK11*((LOG(AK11))/LOG(2))))","v":0},null,{"$f":"N11","v":11211},{"$f":"COUNTIF(L108:L132,AN11)","v":0},{"$f":"AO11/(AQ4-AO25)","v":0},{"$f":"IF(AP11=0,0,(AP11*((LOG(AP11))/LOG(2))))","v":0},null,{"$f":"N11","v":11211},{"$f":"COUNTIF(L133:L157,AS11)","v":1},{"$f":"AT11/(AV4-AT25)","v":4.1666666666666664E-2},{"$f":"IF(AU11=0,0,(AU11*((LOG(AU11))/LOG(2))))","v":-0.19104010419671485}]
[21,809,22,817,13,832,14,862,13,878,0,22111,null,11212,{"$f":"COUNTIF($L$7:$L$500,N12)","v":7},{"$f":"O12/$Q$4","v":4.6357615894039736E-2},{"$f":"IF(P12=0,0,(P12*((LOG(P12))/LOG(2))))","v":-0.20541290543624055},null,null,{"$f":"N12","v":11212},{"$f":"COUNTIF(L7:L31,T12)","v":2},{"$f":"U12/(W4-U25)","v":8.3333333333333329E-2},{"$f":"IF(V12=0,0,(V12*((LOG(V12))/LOG(2))))","v":-0.29874687506009634},null,{"$f":"N12","v":11212},{"$f":"COUNTIF(L32:L56,Y12)","v":1},{"$f":"Z12/(AB4-Z25)","v":4.1666666666666664E-2},{"$f":"IF(AA12=0,0,(AA12*((LOG(AA12))/LOG(2))))","v":-0.19104010419671485},null,{"$f":"N12","v":11212},{"$f":"COUNTIF(L57:L82,AD12)","v":2},{"$f":"AE12/(AG4-AE25)","v":8.6956521739130432E-2},{"$f":"IF(AF12=0,0,(AF12*((LOG(AF12))/LOG(2))))","v":-0.30639669183104457},null,{"$f":"N12","v":11212},{"$f":"COUNTIF(L83:L107,AI12)","v":0},{"$f":"AJ12/(AL4-AJ25)","v":0},{"$f":"IF(AK12=0,0,(AK12*((LOG(AK12))/LOG(2))))","v":0},null,{"$f":"N12","v":11212},{"$f":"COUNTIF(L108:L132,AN12)","v":1},{"$f":"AO12/(AQ4-AO25)","v":4.7619047619047616E-2},{"$f":"IF(AP12=0,0,(AP12*((LOG(AP12))/LOG(2))))","v":-0.20915797251327431},null,{"$f":"N12","v":11212},{"$f":"COUNTIF(L133:L157,AS12)","v":1},{"$f":"AT12/(AV4-AT25)","v":4.1666666666666664E-2},{"$f":"IF(AU12=0,0,(AU12*((LOG(AU12))/LOG(2))))","v":-0.19104010419671485}]
[21,996,22,1003,13,1014,23,1027,13,1039,0,22121,null,11221,{"$f":"COUNTIF($L$7:$L$500,N13)","v":1},{"$f":"O13/$Q$4","v":6.6225165562913907E-3},{"$f":"IF(P13=0,0,(P13*((LOG(P13))/LOG(2))))","v":-4.7936455227318403E-2},null,null,{"$f":"N13","v":11221},{"$f":"COUNTIF(L7:L31,T13)","v":0},{"$f":"U13/(W4-U25)","v":0},{"$f":"IF(V13=0,0,(V13*((LOG(V13))/LOG(2))))","v":0},null,{"$f":"N13","v":11221},{"$f":"COUNTIF(L32:L56,Y13)","v":1},{"$f":"Z13/(AB4-Z25)","v":4.1666666666666664E-2},{"$f":"IF(AA13=0,0,(AA13*((LOG(AA13))/LOG(2))))","v":-0.19104010419671485},null,{"$f":"N13","v":11221},{"$f":"COUNTIF(L57:L82,AD13)","v":0},{"$f":"AE13/(AG4-AE25)","v":0},{"$f":"IF(AF13=0,0,(AF13*((LOG(AF13))/LOG(2))))","v":0},null,{"$f":"N13","v":11221},{"$f":"COUNTIF(L83:L107,AI13)","v":0},{"$f":"AJ13/(AL4-AJ25)","v":0},{"$f":"IF(AK13=0,0,(AK13*((LOG(AK13))/LOG(2))))","v":0},null,{"$f":"N13","v":11221},{"$f":"COUNTIF(L108:L132,AN13)","v":0},{"$f":"AO13/(AQ4-AO25)","v":0},{"$f":"IF(AP13=0,0,(AP13*((LOG(AP13))/LOG(2))))","v":0},null,{"$f":"N13","v":11221},{"$f":"COUNTIF(L133:L157,AS13)","v":0},{"$f":"AT13/(AV4-AT25)","v":0},{"$f":"IF(AU13=0,0,(AU13*((LOG(AU13))/LOG(2))))","v":0}]
[21,1166,11,1182,11,1190,21,1203,11,1216,1,21121,null,11222,{"$f":"COUNTIF($L$7:$L$500,N14)","v":0},{"$f":"O14/$Q$4","v":0},{"$f":"IF(P14=0,0,(P14*((LOG(P14))/LOG(2))))","v":0},null,null,{"$f":"N14","v":11222},{"$f":"COUNTIF(L7:L31,T14)","v":0},{"$f":"U14/(W4-U25)","v":0},{"$f":"IF(V14=0,0,(V14*((LOG(V14))/LOG(2))))","v":0},null,{"$f":"N14","v":11222},{"$f":"COUNTIF(L32:L56,Y14)","v":0},{"$f":"Z14/(AB4-Z25)","v":0},{"$f":"IF(AA14=0,0,(AA14*((LOG(AA14))/LOG(2))))","v":0},null,{"$f":"N14","v":11222},{"$f":"COUNTIF(L57:L82,AD14)","v":0},{"$f":"AE14/(AG4-AE25)","v":0},{"$f":"IF(AF14=0,0,(AF14*((LOG(AF14))/LOG(2))))","v":0},null,{"$f":"N14","v":11222},{"$f":"COUNTIF(L83:L107,AI14)","v":0},{"$f":"AJ14/(AL4-AJ25)","v":0},{"$f":"IF(AK14=0,0,(AK14*((LOG(AK14))/LOG(2))))","v":0},null,{"$f":"N14","v":11222},{"$f":"COUNTIF(L108:L132,AN14)","v":0},{"$f":"AO14/(AQ4-AO25)","v":0},{"$f":"IF(AP14=0,0,(AP14*((LOG(AP14))/LOG(2))))","v":0},null,{"$f":"N14","v":11222},{"$f":"COUNTIF(L133:L157,AS14)","v":0},{"$f":"AT14/(AV4-AT25)","v":0},{"$f":"IF(AU14=0,0,(AU14*((LOG(AU14))/LOG(2))))","v":0}]
[21,1318,22,1322,13,1332,23,1341,13,1354,0,22121,null,12111,{"$f":"COUNTIF($L$7:$L$500,N15)","v":3},{"$f":"O15/$Q$4","v":1.9867549668874173E-2},{"$f":"IF(P15=0,0,(P15*((LOG(P15))/LOG(2))))","v":-0.11232004447557463},null,null,{"$f":"N15","v":12111},{"$f":"COUNTIF(L7:L31,T15)","v":2},{"$f":"U15/(W4-U25)","v":8.3333333333333329E-2},{"$f":"IF(V15=0,0,(V15*((LOG(V15))/LOG(2))))","v":-0.29874687506009634},null,{"$f":"N15","v":12111},{"$f":"COUNTIF(L32:L56,Y15)","v":0},{"$f":"Z15/(AB4-Z25)","v":0},{"$f":"IF(AA15=0,0,(AA15*((LOG(AA15))/LOG(2))))","v":0},null,{"$f":"N15","v":12111},{"$f":"COUNTIF(L57:L82,AD15)","v":0},{"$f":"AE15/(AG4-AE25)","v":0},{"$f":"IF(AF15=0,0,(AF15*((LOG(AF15))/LOG(2))))","v":0},null,{"$f":"N15","v":12111},{"$f":"COUNTIF(L83:L107,AI15)","v":0},{"$f":"AJ15/(AL4-AJ25)","v":0},{"$f":"IF(AK15=0,0,(AK15*((LOG(AK15))/LOG(2))))","v":0},null,{"$f":"N15","v":12111},{"$f":"COUNTIF(L108:L132,AN15)","v":0},{"$f":"AO15/(AQ4-AO25)","v":0},{"$f":"IF(AP15=0,0,(AP15*((LOG(AP15))/LOG(2))))","v":0},null,{"$f":"N15","v":12111},{"$f":"COUNTIF(L133:L157,AS15)","v":1},{"$f":"AT15/(AV4-AT25)","v":4.1666666666666664E-2},{"$f":"IF(AU15=0,0,(AU15*((LOG(AU15))/LOG(2))))","v":-0.19104010419671485}]
[12,1477,24,1486,13,1497,14,1510,13,1535,0,12111,null,12112,{"$f":"COUNTIF($L$7:$L$500,N16)","v":1},{"$f":"O16/$Q$4","v":6.6225165562913907E-3},{"$f":"IF(P16=0,0,(P16*((LOG(P16))/LOG(2))))","v":-4.7936455227318403E-2},null,null,{"$f":"N16","v":12112},{"$f":"COUNTIF(L7:L31,T16)","v":1},{"$f":"U16/(W4-U25)","v":4.1666666666666664E-2},{"$f":"IF(V16=0,0,(V16*((LOG(V16))/LOG(2))))","v":-0.19104010419671485},null,{"$f":"N16","v":12112},{"$f":"COUNTIF(L32:L56,Y16)","v":0},{"$f":"Z16/(AB4-Z25)","v":0},{"$f":"IF(AA16=0,0,(AA16*((LOG(AA16))/LOG(2))))","v":0},null,{"$f":"N16","v":12112},{"$f":"COUNTIF(L57:L82,AD16)","v":0},{"$f":"AE16/(AG4-AE25)","v":0},{"$f":"IF(AF16=0,0,(AF16*((LOG(AF16))/LOG(2))))","v":0},null,{"$f":"N16","v":12112},{"$f":"COUNTIF(L83:L107,AI16)","v":0},{"$f":"AJ16/(AL4-AJ25)","v":0},{"$f":"IF(AK16=0,0,(AK16*((LOG(AK16))/LOG(2))))","v":0},null,{"$f":"N16","v":12112},{"$f":"COUNTIF(L108:L132,AN16)","v":0},{"$f":"AO16/(AQ4-AO25)","v":0},{"$f":"IF(AP16=0,0,(AP16*((LOG(AP16))/LOG(2))))","v":0},null,{"$f":"N16","v":12112},{"$f":"COUNTIF(L133:L157,AS16)","v":0},{"$f":"AT16/(AV4-AT25)","v":0},{"$f":"IF(AU16=0,0,(AU16*((LOG(AU16))/LOG(2))))","v":0}]
[12,1654,24,1663,13,1674,23,1687,13,1700,0,12121,null,12121,{"$f":"COUNTIF($L$7:$L$500,N17)","v":13},{"$f":"O17/$Q$4","v":8.6092715231788075E-2},{"$f":"IF(P17=0,0,(P17*((LOG(P17))/LOG(2))))","v":-0.30459301506882008},null,null,{"$f":"N17","v":12121},{"$f":"COUNTIF(L7:L31,T17)","v":3},{"$f":"U17/(W4-U25)","v":0.125},{"$f":"IF(V17=0,0,(V17*((LOG(V17))/LOG(2))))","v":-0.375},null,{"$f":"N17","v":12121},{"$f":"COUNTIF(L32:L56,Y17)","v":0},{"$f":"Z17/(AB4-Z25)","v":0},{"$f":"IF(AA17=0,0,(AA17*((LOG(AA17))/LOG(2))))","v":0},null,{"$f":"N17","v":12121},{"$f":"COUNTIF(L57:L82,AD17)","v":4},{"$f":"AE17/(AG4-AE25)","v":0.17391304347826086},{"$f":"IF(AF17=0,0,(AF17*((LOG(AF17))/LOG(2))))","v":-0.43888034018382832},null,{"$f":"N17","v":12121},{"$f":"COUNTIF(L83:L107,AI17)","v":2},{"$f":"AJ17/(AL4-AJ25)","v":8.3333333333333329E-2},{"$f":"IF(AK17=0,0,(AK17*((LOG(AK17))/LOG(2))))","v":-0.29874687506009634},null,{"$f":"N17","v":12121},{"$f":"COUNTIF(L108:L132,AN17)","v":2},{"$f":"AO17/(AQ4-AO25)","v":9.5238095238095233E-2},{"$f":"IF(AP17=0,0,(AP17*((LOG(AP17))/LOG(2))))","v":-0.32307784978845333},null,{"$f":"N17","v":12121},{"$f":"COUNTIF(L133:L157,AS17)","v":2},{"$f":"AT17/(AV4-AT25)","v":8.3333333333333329E-2},{"$f":"IF(AU17=0,0,(AU17*((LOG(AU17))/LOG(2))))","v":-0.29874687506009634}]
[12,1805,24,1814,13,1825,14,1851,13,1860,0,12111,null,12122,{"$f":"COUNTIF($L$7:$L$500,N18)","v":0},{"$f":"O18/$Q$4","v":0},{"$f":"IF(P18=0,0,(P18*((LOG(P18))/LOG(2))))","v":0},null,null,{"$f":"N18","v":12122},{"$f":"COUNTIF(L7:L31,T18)","v":0},{"$f":"U18/(W4-U25)","v":0},{"$f":"IF(V18=0,0,(V18*((LOG(V18))/LOG(2))))","v":0},null,{"$f":"N18","v":12122},{"$f":"COUNTIF(L32:L56,Y18)","v":0},{"$f":"Z18/(AB4-Z25)","v":0},{"$f":"IF(AA18=0,0,(AA18*((LOG(AA18))/LOG(2))))","v":0},null,{"$f":"N18","v":12122},{"$f":"COUNTIF(L57:L82,AD18)","v":0},{"$f":"AE18/(AG4-AE25)","v":0},{"$f":"IF(AF18=0,0,(AF18*((LOG(AF18))/LOG(2))))","v":0},null,{"$f":"N18","v":12122},{"$f":"COUNTIF(L83:L107,AI18)","v":0},{"$f":"AJ18/(AL4-AJ25)","v":0},{"$f":"IF(AK18=0,0,(AK18*((LOG(AK18))/LOG(2))))","v":0},null,{"$f":"N18","v":12122},{"$f":"COUNTIF(L108:L132,AN18)","v":0},{"$f":"AO18/(AQ4-AO25)","v":0},{"$f":"IF(AP18=0,0,(AP18*((LOG(AP18))/LOG(2))))","v":0},null,{"$f":"N18","v":12122},{"$f":"COUNTIF(L133:L157,AS18)","v":0},{"$f":"AT18/(AV4-AT25)","v":0},{"$f":"IF(AU18=0,0,(AU18*((LOG(AU18))/LOG(2))))","v":0}]
[21,1978,22,1986,13,1997,23,2010,13,2022,0,22121,null,12211,{"$f":"COUNTIF($L$7:$L$500,N19)","v":2},{"$f":"O19/$Q$4","v":1.3245033112582781E-2},{"$f":"IF(P19=0,0,(P19*((LOG(P19))/LOG(2))))","v":-8.2627877342054026E-2},null,null,{"$f":"N19","v":12211},{"$f":"COUNTIF(L7:L31,T19)","v":0},{"$f":"U19/(W4-U25)","v":0},{"$f":"IF(V19=0,0,(V19*((LOG(V19))/LOG(2))))","v":0},null,{"$f":"N19","v":12211},{"$f":"COUNTIF(L32:L56,Y19)","v":1},{"$f":"Z19/(AB4-Z25)","v":4.1666666666666664E-2},{"$f":"IF(AA19=0,0,(AA19*((LOG(AA19))/LOG(2))))","v":-0.19104010419671485},null,{"$f":"N19","v":12211},{"$f":"COUNTIF(L57:L82,AD19)","v":0},{"$f":"AE19/(AG4-AE25)","v":0},{"$f":"IF(AF19=0,0,(AF19*((LOG(AF19))/LOG(2))))","v":0},null,{"$f":"N19","v":12211},{"$f":"COUNTIF(L83:L107,AI19)","v":0},{"$f":"AJ19/(AL4-AJ25)","v":0},{"$f":"IF(AK19=0,0,(AK19*((LOG(AK19))/LOG(2))))","v":0},null,{"$f":"N19","v":12211},{"$f":"COUNTIF(L108:L132,AN19)","v":0},{"$f":"AO19/(AQ4-AO25)","v":0},{"$f":"IF(AP19=0,0,(AP19*((LOG(AP19))/LOG(2))))","v":0},null,{"$f":"N19","v":12211},{"$f":"COUNTIF(L133:L157,AS19)","v":1},{"$f":"AT19/(AV4-AT25)","v":4.1666666666666664E-2},{"$f":"IF(AU19=0,0,(AU19*((LOG(AU19))/LOG(2))))","v":-0.19104010419671485}]
[21,2137,22,2141,24,2148,23,2167,13,2179,0,22221,null,12212,{"$f":"COUNTIF($L$7:$L$500,N20)","v":4},{"$f":"O20/$Q$4","v":2.6490066225165563E-2},{"$f":"IF(P20=0,0,(P20*((LOG(P20))/LOG(2))))","v":-0.13876568845894247},null,null,{"$f":"N20","v":12212},{"$f":"COUNTIF(L7:L31,T20)","v":0},{"$f":"U20/(W4-U25)","v":0},{"$f":"IF(V20=0,0,(V20*((LOG(V20))/LOG(2))))","v":0},null,{"$f":"N20","v":12212},{"$f":"COUNTIF(L32:L56,Y20)","v":1},{"$f":"Z20/(AB4-Z25)","v":4.1666666666666664E-2},{"$f":"IF(AA20=0,0,(AA20*((LOG(AA20))/LOG(2))))","v":-0.19104010419671485},null,{"$f":"N20","v":12212},{"$f":"COUNTIF(L57:L82,AD20)","v":1},{"$f":"AE20/(AG4-AE25)","v":4.3478260869565216E-2},{"$f":"IF(AF20=0,0,(AF20*((LOG(AF20))/LOG(2))))","v":-0.19667660678508753},null,{"$f":"N20","v":12212},{"$f":"COUNTIF(L83:L107,AI20)","v":1},{"$f":"AJ20/(AL4-AJ25)","v":4.1666666666666664E-2},{"$f":"IF(AK20=0,0,(AK20*((LOG(AK20))/LOG(2))))","v":-0.19104010419671485},null,{"$f":"N20","v":12212},{"$f":"COUNTIF(L108:L132,AN20)","v":1},{"$f":"AO20/(AQ4-AO25)","v":4.7619047619047616E-2},{"$f":"IF(AP20=0,0,(AP20*((LOG(AP20))/LOG(2))))","v":-0.20915797251327431},null,{"$f":"N20","v":12212},{"$f":"COUNTIF(L133:L157,AS20)","v":0},{"$f":"AT20/(AV4-AT25)","v":0},{"$f":"IF(AU20=0,0,(AU20*((LOG(AU20))/LOG(2))))","v":0}]
[12,2282,24,2299,13,2311,14,2320,24,2333,0,12112,null,12221,{"$f":"COUNTIF($L$7:$L$500,N21)","v":5},{"$f":"O21/$Q$4","v":3.3112582781456956E-2},{"$f":"IF(P21=0,0,(P21*((LOG(P21))/LOG(2))))","v":-0.16279723988204359},null,null,{"$f":"N21","v":12221},{"$f":"COUNTIF(L7:L31,T21)","v":0},{"$f":"U21/(W4-U25)","v":0},{"$f":"IF(V21=0,0,(V21*((LOG(V21))/LOG(2))))","v":0},null,{"$f":"N21","v":12221},{"$f":"COUNTIF(L32:L56,Y21)","v":0},{"$f":"Z21/(AB4-Z25)","v":0},{"$f":"IF(AA21=0,0,(AA21*((LOG(AA21))/LOG(2))))","v":0},null,{"$f":"N21","v":12221},{"$f":"COUNTIF(L57:L82,AD21)","v":3},{"$f":"AE21/(AG4-AE25)","v":0.13043478260869565},{"$f":"IF(AF21=0,0,(AF21*((LOG(AF21))/LOG(2))))","v":-0.3832955811307639},null,{"$f":"N21","v":12221},{"$f":"COUNTIF(L83:L107,AI21)","v":1},{"$f":"AJ21/(AL4-AJ25)","v":4.1666666666666664E-2},{"$f":"IF(AK21=0,0,(AK21*((LOG(AK21))/LOG(2))))","v":-0.19104010419671485},null,{"$f":"N21","v":12221},{"$f":"COUNTIF(L108:L132,AN21)","v":0},{"$f":"AO21/(AQ4-AO25)","v":0},{"$f":"IF(AP21=0,0,(AP21*((LOG(AP21))/LOG(2))))","v":0},null,{"$f":"N21","v":12221},{"$f":"COUNTIF(L133:L157,AS21)","v":1},{"$f":"AT21/(AV4-AT25)","v":4.1666666666666664E-2},{"$f":"IF(AU21=0,0,(AU21*((LOG(AU21))/LOG(2))))","v":-0.19104010419671485}]
[21,2464,11,2474,22,2486,14,2499,13,2507,0,21211,null,12222,{"$f":"COUNTIF($L$7:$L$500,N22)","v":0},{"$f":"O22/$Q$4","v":0},{"$f":"IF(P22=0,0,(P22*((LOG(P22))/LOG(2))))","v":0},null,null,{"$f":"N22","v":12222},{"$f":"COUNTIF(L7:L31,T22)","v":0},{"$f":"U22/(W4-U25)","v":0},{"$f":"IF(V22=0,0,(V22*((LOG(V22))/LOG(2))))","v":0},null,{"$f":"N22","v":12222},{"$f":"COUNTIF(L32:L56,Y22)","v":0},{"$f":"Z22/(AB4-Z25)","v":0},{"$f":"IF(AA22=0,0,(AA22*((LOG(AA22))/LOG(2))))","v":0},null,{"$f":"N22","v":12222},{"$f":"COUNTIF(L57:L82,AD22)","v":0},{"$f":"AE22/(AG4-AE25)","v":0},{"$f":"IF(AF22=0,0,(AF22*((LOG(AF22))/LOG(2))))","v":0},null,{"$f":"N22","v":12222},{"$f":"COUNTIF(L83:L107,AI22)","v":0},{"$f":"AJ22/(AL4-AJ25)","v":0},{"$f":"IF(AK22=0,0,(AK22*((LOG(AK22))/LOG(2))))","v":0},null,{"$f":"N22","v":12222},{"$f":"COUNTIF(L108:L132,AN22)","v":0},{"$f":"AO22/(AQ4-AO25)","v":0},{"$f":"IF(AP22=0,0,(AP22*((LOG(AP22))/LOG(2))))","v":0},null,{"$f":"N22","v":12222},{"$f":"COUNTIF(L133:L157,AS22)","v":0},{"$f":"AT22/(AV4-AT25)","v":0},{"$f":"IF(AU22=0,0,(AU22*((LOG(AU22))/LOG(2))))","v":0}]
[21,2606,22,2631,24,2650,14,2661,13,2673,0,22211,null,21111,{"$f":"COUNTIF($L$7:$L$500,N23)","v":5},{"$f":"O23/$Q$4","v":3.3112582781456956E-2},{"$f":"IF(P23=0,0,(P23*((LOG(P23))/LOG(2))))","v":-0.16279723988204359},null,null,{"$f":"N23","v":21111},{"$f":"COUNTIF(L7:L31,T23)","v":0},{"$f":"U23/(W4-U25)","v":0},{"$f":"IF(V23=0,0,(V23*((LOG(V23))/LOG(2))))","v":0},null,{"$f":"N23","v":21111},{"$f":"COUNTIF(L32:L56,Y23)","v":0},{"$f":"Z23/(AB4-Z25)","v":0},{"$f":"IF(AA23=0,0,(AA23*((LOG(AA23))/LOG(2))))","v":0},null,{"$f":"N23","v":21111},{"$f":"COUNTIF(L57:L82,AD23)","v":0},{"$f":"AE23/(AG4-AE25)","v":0},{"$f":"IF(AF23=0,0,(AF23*((LOG(AF23))/LOG(2))))","v":0},null,{"$f":"N23","v":21111},{"$f":"COUNTIF(L83:L107,AI23)","v":0},{"$f":"AJ23/(AL4-AJ25)","v":0},{"$f":"IF(AK23=0,0,(AK23*((LOG(AK23))/LOG(2))))","v":0},null,{"$f":"N23","v":21111},{"$f":"COUNTIF(L108:L132,AN23)","v":4},{"$f":"AO23/(AQ4-AO25)","v":0.19047619047619047},{"$f":"IF(AP23=0,0,(AP23*((LOG(AP23))/LOG(2))))","v":-0.4556795091007162},null,{"$f":"N23","v":21111},{"$f":"COUNTIF(L133:L157,AS23)","v":1},{"$f":"AT23/(AV4-AT25)","v":4.1666666666666664E-2},{"$f":"IF(AU23=0,0,(AU23*((LOG(AU23))/LOG(2))))","v":-0.19104010419671485}]
[21,2778,22,2803,13,2815,14,2824,13,2837,0,22111,null,21112,{"$f":"COUNTIF($L$7:$L$500,N24)","v":4},{"$f":"O24/$Q$4","v":2.6490066225165563E-2},{"$f":"IF(P24=0,0,(P24*((LOG(P24))/LOG(2))))","v":-0.13876568845894247},null,null,{"$f":"N24","v":21112},{"$f":"COUNTIF(L7:L31,T24)","v":0},{"$f":"U24/(W4-U25)","v":0},{"$f":"IF(V24=0,0,(V24*((LOG(V24))/LOG(2))))","v":0},null,{"$f":"N24","v":21112},{"$f":"COUNTIF(L32:L56,Y24)","v":0},{"$f":"Z24/(AB4-Z25)","v":0},{"$f":"IF(AA24=0,0,(AA24*((LOG(AA24))/LOG(2))))","v":0},null,{"$f":"N24","v":21112},{"$f":"COUNTIF(L57:L82,AD24)","v":2},{"$f":"AE24/(AG4-AE25)","v":8.6956521739130432E-2},{"$f":"IF(AF24=0,0,(AF24*((LOG(AF24))/LOG(2))))","v":-0.30639669183104457},null,{"$f":"N24","v":21112},{"$f":"COUNTIF(L83:L107,AI24)","v":0},{"$f":"AJ24/(AL4-AJ25)","v":0},{"$f":"IF(AK24=0,0,(AK24*((LOG(AK24))/LOG(2))))","v":0},null,{"$f":"N24","v":21112},{"$f":"COUNTIF(L108:L132,AN24)","v":2},{"$f":"AO24/(AQ4-AO25)","v":9.5238095238095233E-2},{"$f":"IF(AP24=0,0,(AP24*((LOG(AP24))/LOG(2))))","v":-0.32307784978845333},null,{"$f":"N24","v":21112},{"$f":"COUNTIF(L133:L157,AS24)","v":0},{"$f":"AT24/(AV4-AT25)","v":0},{"$f":"IF(AU24=0,0,(AU24*((LOG(AU24))/LOG(2))))","v":0}]
[12,2937,13,2946,13,2954,14,2975,13,2985,0,11111,null,21121,{"$f":"COUNTIF($L$7:$L$500,N25)","v":11},{"$f":"O25/$Q$4","v":7.2847682119205295E-2},{"$f":"IF(P25=0,0,(P25*((LOG(P25))/LOG(2))))","v":-0.27528943263288469},null,null,{"$f":"N25","v":21121},{"$f":"COUNTIF(L7:L31,T25)","v":1},null,null,null,{"$f":"N25","v":21121},{"$f":"COUNTIF(L32:L56,Y25)","v":1},null,null,null,{"$f":"N25","v":21121},{"$f":"COUNTIF(L57:L82,AD25)","v":3},null,null,null,{"$f":"N25","v":21121},{"$f":"COUNTIF(L83:L107,AI25)","v":1},null,null,null,{"$f":"N25","v":21121},{"$f":"COUNTIF(L108:L132,AN25)","v":4},null,null,null,{"$f":"N25","v":21121},{"$f":"COUNTIF(L133:L157,AS25)","v":1}]
[12,3122,24,3136,13,3149,23,3164,13,3176,0,12121,null,21122,{"$f":"COUNTIF($L$7:$L$500,N26)","v":0},{"$f":"O26/$Q$4","v":0},{"$f":"IF(P26=0,0,(P26*((LOG(P26))/LOG(2))))","v":0},null,null,{"$f":"N26","v":21122},{"$f":"COUNTIF(L7:L31,T26)","v":0},{"$f":"U26/(W4-U25)","v":0},{"$f":"IF(V26=0,0,(V26*((LOG(V26))/LOG(2))))","v":0},null,{"$f":"N26","v":21122},{"$f":"COUNTIF(L32:L56,Y26)","v":0},{"$f":"Z26/(AB4-Z25)","v":0},{"$f":"IF(AA26=0,0,(AA26*((LOG(AA26))/LOG(2))))","v":0},null,{"$f":"N26","v":21122},{"$f":"COUNTIF(L57:L82,AD26)","v":0},{"$f":"AE26/(AG4-AE25)","v":0},{"$f":"IF(AF26=0,0,(AF26*((LOG(AF26))/LOG(2))))","v":0},null,{"$f":"N26","v":21122},{"$f":"COUNTIF(L83:L107,AI26)","v":0},{"$f":"AJ26/(AL4-AJ25)","v":0},{"$f":"IF(AK26=0,0,(AK26*((LOG(AK26))/LOG(2))))","v":0},null,{"$f":"N26","v":21122},{"$f":"COUNTIF(L108:L132,AN26)","v":0},{"$f":"AO26/(AQ4-AO25)","v":0},{"$f":"IF(AP26=0,0,(AP26*((LOG(AP26))/LOG(2))))","v":0},null,{"$f":"N26","v":21122},{"$f":"COUNTIF(L133:L157,AS26)","v":0},{"$f":"AT26/(AV4-AT25)","v":0},{"$f":"IF(AU26=0,0,(AU26*((LOG(AU26))/LOG(2))))","v":0}]
[12,3281,13,3301,24,3313,14,3325,24,3338,0,11212,null,21211,{"$f":"COUNTIF($L$7:$L$500,N27)","v":14},{"$f":"O27/$Q$4","v":9.2715231788079472E-2},{"$f":"IF(P27=0,0,(P27*((LOG(P27))/LOG(2))))","v":-0.3181105790844016},null,null,{"$f":"N27","v":21211},{"$f":"COUNTIF(L7:L31,T27)","v":1},{"$f":"U27/(W4-U25)","v":4.1666666666666664E-2},{"$f":"IF(V27=0,0,(V27*((LOG(V27))/LOG(2))))","v":-0.19104010419671485},null,{"$f":"N27","v":21211},{"$f":"COUNTIF(L32:L56,Y27)","v":0},{"$f":"Z27/(AB4-Z25)","v":0},{"$f":"IF(AA27=0,0,(AA27*((LOG(AA27))/LOG(2))))","v":0},null,{"$f":"N27","v":21211},{"$f":"COUNTIF(L57:L82,AD27)","v":0},{"$f":"AE27/(AG4-AE25)","v":0},{"$f":"IF(AF27=0,0,(AF27*((LOG(AF27))/LOG(2))))","v":0},null,{"$f":"N27","v":21211},{"$f":"COUNTIF(L83:L107,AI27)","v":4},{"$f":"AJ27/(AL4-AJ25)","v":0.16666666666666666},{"$f":"IF(AK27=0,0,(AK27*((LOG(AK27))/LOG(2))))","v":-0.43082708345352599},null,{"$f":"N27","v":21211},{"$f":"COUNTIF(L108:L132,AN27)","v":4},{"$f":"AO27/(AQ4-AO25)","v":0.19047619047619047},{"$f":"IF(AP27=0,0,(AP27*((LOG(AP27))/LOG(2))))","v":-0.4556795091007162},null,{"$f":"N27","v":21211},{"$f":"COUNTIF(L133:L157,AS27)","v":5},{"$f":"AT27/(AV4-AT25)","v":0.20833333333333334},{"$f":"IF(AU27=0,0,(AU27*((LOG(AU27))/LOG(2))))","v":-0.47146550121537367}]
[21,3462,11,3474,22,3486,14,3499,24,3513,0,21212,null,21212,{"$f":"COUNTIF($L$7:$L$500,N28)","v":21},{"$f":"O28/$Q$4","v":0.13907284768211919},{"$f":"IF(P28=0,0,(P28*((LOG(P28))/LOG(2))))","v":-0.39581346786405752},null,null,{"$f":"N28","v":21212},{"$f":"COUNTIF(L7:L31,T28)","v":2},{"$f":"U28/(W4-U25)","v":8.3333333333333329E-2},{"$f":"IF(V28=0,0,(V28*((LOG(V28))/LOG(2))))","v":-0.29874687506009634},null,{"$f":"N28","v":21212},{"$f":"COUNTIF(L32:L56,Y28)","v":5},{"$f":"Z28/(AB4-Z25)","v":0.20833333333333334},{"$f":"IF(AA28=0,0,(AA28*((LOG(AA28))/LOG(2))))","v":-0.47146550121537367},null,{"$f":"N28","v":21212},{"$f":"COUNTIF(L57:L82,AD28)","v":6},{"$f":"AE28/(AG4-AE25)","v":0.2608695652173913},{"$f":"IF(AF28=0,0,(AF28*((LOG(AF28))/LOG(2))))","v":-0.50572159704413644},null,{"$f":"N28","v":21212},{"$f":"COUNTIF(L83:L107,AI28)","v":3},{"$f":"AJ28/(AL4-AJ25)","v":0.125},{"$f":"IF(AK28=0,0,(AK28*((LOG(AK28))/LOG(2))))","v":-0.375},null,{"$f":"N28","v":21212},{"$f":"COUNTIF(L108:L132,AN28)","v":2},{"$f":"AO28/(AQ4-AO25)","v":9.5238095238095233E-2},{"$f":"IF(AP28=0,0,(AP28*((LOG(AP28))/LOG(2))))","v":-0.32307784978845333},null,{"$f":"N28","v":21212},{"$f":"COUNTIF(L133:L157,AS28)","v":3},{"$f":"AT28/(AV4-AT25)","v":0.125},{"$f":"IF(AU28=0,0,(AU28*((LOG(AU28))/LOG(2))))","v":-0.375}]
[12,3623,13,3631,13,3653,14,3665,24,3679,0,11112,null,21221,{"$f":"COUNTIF($L$7:$L$500,N29)","v":1},{"$f":"O29/$Q$4","v":6.6225165562913907E-3},{"$f":"IF(P29=0,0,(P29*((LOG(P29))/LOG(2))))","v":-4.7936455227318403E-2},null,null,{"$f":"N29","v":21221},{"$f":"COUNTIF(L7:L31,T29)","v":0},{"$f":"U29/(W4-U25)","v":0},{"$f":"IF(V29=0,0,(V29*((LOG(V29))/LOG(2))))","v":0},null,{"$f":"N29","v":21221},{"$f":"COUNTIF(L32:L56,Y29)","v":0},{"$f":"Z29/(AB4-Z25)","v":0},{"$f":"IF(AA29=0,0,(AA29*((LOG(AA29))/LOG(2))))","v":0},null,{"$f":"N29","v":21221},{"$f":"COUNTIF(L57:L82,AD29)","v":0},{"$f":"AE29/(AG4-AE25)","v":0},{"$f":"IF(AF29=0,0,(AF29*((LOG(AF29))/LOG(2))))","v":0},null,{"$f":"N29","v":21221},{"$f":"COUNTIF(L83:L107,AI29)","v":0},{"$f":"AJ29/(AL4-AJ25)","v":0},{"$f":"IF(AK29=0,0,(AK29*((LOG(AK29))/LOG(2))))","v":0},null,{"$f":"N29","v":21221},{"$f":"COUNTIF(L108:L132,AN29)","v":0},{"$f":"AO29/(AQ4-AO25)","v":0},{"$f":"IF(AP29=0,0,(AP29*((LOG(AP29))/LOG(2))))","v":0},null,{"$f":"N29","v":21221},{"$f":"COUNTIF(L133:L157,AS29)","v":1},{"$f":"AT29/(AV4-AT25)","v":4.1666666666666664E-2},{"$f":"IF(AU29=0,0,(AU29*((LOG(AU29))/LOG(2))))","v":-0.19104010419671485}]
[21,3791,22,3796,13,3808,23,3821,13,3833,0,22121,null,21222,{"$f":"COUNTIF($L$7:$L$500,N30)","v":0},{"$f":"O30/$Q$4","v":0},{"$f":"IF(P30=0,0,(P30*((LOG(P30))/LOG(2))))","v":0},null,null,{"$f":"N30","v":21222},{"$f":"COUNTIF(L7:L31,T30)","v":0},{"$f":"U30/(W4-U25)","v":0},{"$f":"IF(V30=0,0,(V30*((LOG(V30))/LOG(2))))","v":0},null,{"$f":"N30","v":21222},{"$f":"COUNTIF(L32:L56,Y30)","v":0},{"$f":"Z30/(AB4-Z25)","v":0},{"$f":"IF(AA30=0,0,(AA30*((LOG(AA30))/LOG(2))))","v":0},null,{"$f":"N30","v":21222},{"$f":"COUNTIF(L57:L82,AD30)","v":0},{"$f":"AE30/(AG4-AE25)","v":0},{"$f":"IF(AF30=0,0,(AF30*((LOG(AF30))/LOG(2))))","v":0},null,{"$f":"N30","v":21222},{"$f":"COUNTIF(L83:L107,AI30)","v":0},{"$f":"AJ30/(AL4-AJ25)","v":0},{"$f":"IF(AK30=0,0,(AK30*((LOG(AK30))/LOG(2))))","v":0},null,{"$f":"N30","v":21222},{"$f":"COUNTIF(L108:L132,AN30)","v":0},{"$f":"AO30/(AQ4-AO25)","v":0},{"$f":"IF(AP30=0,0,(AP30*((LOG(AP30))/LOG(2))))","v":0},null,{"$f":"N30","v":21222},{"$f":"COUNTIF(L133:L157,AS30)","v":0},{"$f":"AT30/(AV4-AT25)","v":0},{"$f":"IF(AU30=0,0,(AU30*((LOG(AU30))/LOG(2))))","v":0}]
[12,3944,13,3959,24,3969,14,3980,24,3993,0,11212,null,22111,{"$f":"COUNTIF($L$7:$L$500,N31)","v":7},{"$f":"O31/$Q$4","v":4.6357615894039736E-2},{"$f":"IF(P31=0,0,(P31*((LOG(P31))/LOG(2))))","v":-0.20541290543624055},null,null,{"$f":"N31","v":22111},{"$f":"COUNTIF(L7:L31,T31)","v":2},{"$f":"U31/(W4-U25)","v":8.3333333333333329E-2},{"$f":"IF(V31=0,0,(V31*((LOG(V31))/LOG(2))))","v":-0.29874687506009634},null,{"$f":"N31","v":22111},{"$f":"COUNTIF(L32:L56,Y31)","v":0},{"$f":"Z31/(AB4-Z25)","v":0},{"$f":"IF(AA31=0,0,(AA31*((LOG(AA31))/LOG(2))))","v":0},null,{"$f":"N31","v":22111},{"$f":"COUNTIF(L57:L82,AD31)","v":1},{"$f":"AE31/(AG4-AE25)","v":4.3478260869565216E-2},{"$f":"IF(AF31=0,0,(AF31*((LOG(AF31))/LOG(2))))","v":-0.19667660678508753},null,{"$f":"N31","v":22111},{"$f":"COUNTIF(L83:L107,AI31)","v":2},{"$f":"AJ31/(AL4-AJ25)","v":8.3333333333333329E-2},{"$f":"IF(AK31=0,0,(AK31*((LOG(AK31))/LOG(2))))","v":-0.29874687506009634},null,{"$f":"N31","v":22111},{"$f":"COUNTIF(L108:L132,AN31)","v":0},{"$f":"AO31/(AQ4-AO25)","v":0},{"$f":"IF(AP31=0,0,(AP31*((LOG(AP31))/LOG(2))))","v":0},null,{"$f":"N31","v":22111},{"$f":"COUNTIF(L133:L157,AS31)","v":2},{"$f":"AT31/(AV4-AT25)","v":8.3333333333333329E-2},{"$f":"IF(AU31=0,0,(AU31*((LOG(AU31))/LOG(2))))","v":-0.29874687506009634}]
[12,4130,13,4150,13,4160,14,4182,13,4200,0,11111,null,22112,{"$f":"COUNTIF($L$7:$L$500,N32)","v":1},{"$f":"O32/$Q$4","v":6.6225165562913907E-3},{"$f":"IF(P32=0,0,(P32*((LOG(P32))/LOG(2))))","v":-4.7936455227318403E-2},null,null,{"$f":"N32","v":22112},{"$f":"COUNTIF(L7:L31,T32)","v":1},{"$f":"U32/(W4-U25)","v":4.1666666666666664E-2},{"$f":"IF(V32=0,0,(V32*((LOG(V32))/LOG(2))))","v":-0.19104010419671485},null,{"$f":"N32","v":22112},{"$f":"COUNTIF(L32:L56,Y32)","v":0},{"$f":"Z32/(AB4-Z25)","v":0},{"$f":"IF(AA32=0,0,(AA32*((LOG(AA32))/LOG(2))))","v":0},null,{"$f":"N32","v":22112},{"$f":"COUNTIF(L57:L82,AD32)","v":0},{"$f":"AE32/(AG4-AE25)","v":0},{"$f":"IF(AF32=0,0,(AF32*((LOG(AF32))/LOG(2))))","v":0},null,{"$f":"N32","v":22112},{"$f":"COUNTIF(L83:L107,AI32)","v":0},{"$f":"AJ32/(AL4-AJ25)","v":0},{"$f":"IF(AK32=0,0,(AK32*((LOG(AK32))/LOG(2))))","v":0},null,{"$f":"N32","v":22112},{"$f":"COUNTIF(L108:L132,AN32)","v":0},{"$f":"AO32/(AQ4-AO25)","v":0},{"$f":"IF(AP32=0,0,(AP32*((LOG(AP32))/LOG(2))))","v":0},null,{"$f":"N32","v":22112},{"$f":"COUNTIF(L133:L157,AS32)","v":0},{"$f":"AT32/(AV4-AT25)","v":0},{"$f":"IF(AU32=0,0,(AU32*((LOG(AU32))/LOG(2))))","v":0}]
[21,4325,22,4350,13,4375,23,4389,13,4418,0,22121,null,22121,{"$f":"COUNTIF($L$7:$L$500,N33)","v":21},{"$f":"O33/$Q$4","v":0.13907284768211919},{"$f":"IF(P33=0,0,(P33*((LOG(P33))/LOG(2))))","v":-0.39581346786405752},null,null,{"$f":"N33","v":22121},{"$f":"COUNTIF(L7:L31,T33)","v":4},{"$f":"U33/(W4-U25)","v":0.16666666666666666},{"$f":"IF(V33=0,0,(V33*((LOG(V33))/LOG(2))))","v":-0.43082708345352599},null,{"$f":"N33","v":22121},{"$f":"COUNTIF(L32:L56,Y33)","v":4},{"$f":"Z33/(AB4-Z25)","v":0.16666666666666666},{"$f":"IF(AA33=0,0,(AA33*((LOG(AA33))/LOG(2))))","v":-0.43082708345352599},null,{"$f":"N33","v":22121},{"$f":"COUNTIF(L57:L82,AD33)","v":1},{"$f":"AE33/(AG4-AE25)","v":4.3478260869565216E-2},{"$f":"IF(AF33=0,0,(AF33*((LOG(AF33))/LOG(2))))","v":-0.19667660678508753},null,{"$f":"N33","v":22121},{"$f":"COUNTIF(L83:L107,AI33)","v":7},{"$f":"AJ33/(AL4-AJ25)","v":0.29166666666666669},{"$f":"IF(AK33=0,0,(AK33*((LOG(AK33))/LOG(2))))","v":-0.51846887711020273},null,{"$f":"N33","v":22121},{"$f":"COUNTIF(L108:L132,AN33)","v":3},{"$f":"AO33/(AQ4-AO25)","v":0.14285714285714285},{"$f":"IF(AP33=0,0,(AP33*((LOG(AP33))/LOG(2))))","v":-0.40105070315108626},null,{"$f":"N33","v":22121},{"$f":"COUNTIF(L133:L157,AS33)","v":2},{"$f":"AT33/(AV4-AT25)","v":8.3333333333333329E-2},{"$f":"IF(AU33=0,0,(AU33*((LOG(AU33))/LOG(2))))","v":-0.29874687506009634}]
[21,4570,11,4582,11,4592,21,4605,11,4617,1,21121,null,22122,{"$f":"COUNTIF($L$7:$L$500,N34)","v":2},{"$f":"O34/$Q$4","v":1.3245033112582781E-2},{"$f":"IF(P34=0,0,(P34*((LOG(P34))/LOG(2))))","v":-8.2627877342054026E-2},null,null,{"$f":"N34","v":22122},{"$f":"COUNTIF(L7:L31,T34)","v":0},{"$f":"U34/(W4-U25)","v":0},{"$f":"IF(V34=0,0,(V34*((LOG(V34))/LOG(2))))","v":0},null,{"$f":"N34","v":22122},{"$f":"COUNTIF(L32:L56,Y34)","v":1},{"$f":"Z34/(AB4-Z25)","v":4.1666666666666664E-2},{"$f":"IF(AA34=0,0,(AA34*((LOG(AA34))/LOG(2))))","v":-0.19104010419671485},null,{"$f":"N34","v":22122},{"$f":"COUNTIF(L57:L82,AD34)","v":0},{"$f":"AE34/(AG4-AE25)","v":0},{"$f":"IF(AF34=0,0,(AF34*((LOG(AF34))/LOG(2))))","v":0},null,{"$f":"N34","v":22122},{"$f":"COUNTIF(L83:L107,AI34)","v":1},{"$f":"AJ34/(AL4-AJ25)","v":4.1666666666666664E-2},{"$f":"IF(AK34=0,0,(AK34*((LOG(AK34))/LOG(2))))","v":-0.19104010419671485},null,{"$f":"N34","v":22122},{"$f":"COUNTIF(L108:L132,AN34)","v":0},{"$f":"AO34/(AQ4-AO25)","v":0},{"$f":"IF(AP34=0,0,(AP34*((LOG(AP34))/LOG(2))))","v":0},null,{"$f":"N34","v":22122},{"$f":"COUNTIF(L133:L157,AS34)","v":0},{"$f":"AT34/(AV4-AT25)","v":0},{"$f":"IF(AU34=0,0,(AU34*((LOG(AU34))/LOG(2))))","v":0}]
[12,4722,13,4726,13,4731,14,4739,13,4752,0,11111,null,22211,{"$f":"COUNTIF($L$7:$L$500,N35)","v":4},{"$f":"O35/$Q$4","v":2.6490066225165563E-2},{"$f":"IF(P35=0,0,(P35*((LOG(P35))/LOG(2))))","v":-0.13876568845894247},null,null,{"$f":"N35","v":22211},{"$f":"COUNTIF(L7:L31,T35)","v":1},{"$f":"U35/(W4-U25)","v":4.1666666666666664E-2},{"$f":"IF(V35=0,0,(V35*((LOG(V35))/LOG(2))))","v":-0.19104010419671485},null,{"$f":"N35","v":22211},{"$f":"COUNTIF(L32:L56,Y35)","v":0},{"$f":"Z35/(AB4-Z25)","v":0},{"$f":"IF(AA35=0,0,(AA35*((LOG(AA35))/LOG(2))))","v":0},null,{"$f":"N35","v":22211},{"$f":"COUNTIF(L57:L82,AD35)","v":1},{"$f":"AE35/(AG4-AE25)","v":4.3478260869565216E-2},{"$f":"IF(AF35=0,0,(AF35*((LOG(AF35))/LOG(2))))","v":-0.19667660678508753},null,{"$f":"N35","v":22211},{"$f":"COUNTIF(L83:L107,AI35)","v":0},{"$f":"AJ35/(AL4-AJ25)","v":0},{"$f":"IF(AK35=0,0,(AK35*((LOG(AK35))/LOG(2))))","v":0},null,{"$f":"N35","v":22211},{"$f":"COUNTIF(L108:L132,AN35)","v":1},{"$f":"AO35/(AQ4-AO25)","v":4.7619047619047616E-2},{"$f":"IF(AP35=0,0,(AP35*((LOG(AP35))/LOG(2))))","v":-0.20915797251327431},null,{"$f":"N35","v":22211},{"$f":"COUNTIF(L133:L157,AS35)","v":1},{"$f":"AT35/(AV4-AT25)","v":4.1666666666666664E-2},{"$f":"IF(AU35=0,0,(AU35*((LOG(AU35))/LOG(2))))","v":-0.19104010419671485}]
[12,4849,13,4855,13,4860,23,4876,13,4889,0,11121,null,22212,{"$f":"COUNTIF($L$7:$L$500,N36)","v":4},{"$f":"O36/$Q$4","v":2.6490066225165563E-2},{"$f":"IF(P36=0,0,(P36*((LOG(P36))/LOG(2))))","v":-0.13876568845894247},null,null,{"$f":"N36","v":22212},{"$f":"COUNTIF(L7:L31,T36)","v":0},{"$f":"U36/(W4-U25)","v":0},{"$f":"IF(V36=0,0,(V36*((LOG(V36))/LOG(2))))","v":0},null,{"$f":"N36","v":22212},{"$f":"COUNTIF(L32:L56,Y36)","v":1},{"$f":"Z36/(AB4-Z25)","v":4.1666666666666664E-2},{"$f":"IF(AA36=0,0,(AA36*((LOG(AA36))/LOG(2))))","v":-0.19104010419671485},null,{"$f":"N36","v":22212},{"$f":"COUNTIF(L57:L82,AD36)","v":1},{"$f":"AE36/(AG4-AE25)","v":4.3478260869565216E-2},{"$f":"IF(AF36=0,0,(AF36*((LOG(AF36))/LOG(2))))","v":-0.19667660678508753},null,{"$f":"N36","v":22212},{"$f":"COUNTIF(L83:L107,AI36)","v":1},{"$f":"AJ36/(AL4-AJ25)","v":4.1666666666666664E-2},{"$f":"IF(AK36=0,0,(AK36*((LOG(AK36))/LOG(2))))","v":-0.19104010419671485},null,{"$f":"N36","v":22212},{"$f":"COUNTIF(L108:L132,AN36)","v":0},{"$f":"AO36/(AQ4-AO25)","v":0},{"$f":"IF(AP36=0,0,(AP36*((LOG(AP36))/LOG(2))))","v":0},null,{"$f":"N36","v":22212},{"$f":"COUNTIF(L133:L157,AS36)","v":1},{"$f":"AT36/(AV4-AT25)","v":4.1666666666666664E-2},{"$f":"IF(AU36=0,0,(AU36*((LOG(AU36))/LOG(2))))","v":-0.19104010419671485}]
[12,4990,13,4991,24,5004,23,5026,13,5037,0,11221,null,22221,{"$f":"COUNTIF($L$7:$L$500,N37)","v":3},{"$f":"O37/$Q$4","v":1.9867549668874173E-2},{"$f":"IF(P37=0,0,(P37*((LOG(P37))/LOG(2))))","v":-0.11232004447557463},null,null,{"$f":"N37","v":22221},{"$f":"COUNTIF(L7:L31,T37)","v":1},{"$f":"U37/(W4-U25)","v":4.1666666666666664E-2},{"$f":"IF(V37=0,0,(V37*((LOG(V37))/LOG(2))))","v":-0.19104010419671485},null,{"$f":"N37","v":22221},{"$f":"COUNTIF(L32:L56,Y37)","v":0},{"$f":"Z37/(AB4-Z25)","v":0},{"$f":"IF(AA37=0,0,(AA37*((LOG(AA37))/LOG(2))))","v":0},null,{"$f":"N37","v":22221},{"$f":"COUNTIF(L57:L82,AD37)","v":0},{"$f":"AE37/(AG4-AE25)","v":0},{"$f":"IF(AF37=0,0,(AF37*((LOG(AF37))/LOG(2))))","v":0},null,{"$f":"N37","v":22221},{"$f":"COUNTIF(L83:L107,AI37)","v":1},{"$f":"AJ37/(AL4-AJ25)","v":4.1666666666666664E-2},{"$f":"IF(AK37=0,0,(AK37*((LOG(AK37))/LOG(2))))","v":-0.19104010419671485},null,{"$f":"N37","v":22221},{"$f":"COUNTIF(L108:L132,AN37)","v":1},{"$f":"AO37/(AQ4-AO25)","v":4.7619047619047616E-2},{"$f":"IF(AP37=0,0,(AP37*((LOG(AP37))/LOG(2))))","v":-0.20915797251327431},null,{"$f":"N37","v":22221},{"$f":"COUNTIF(L133:L157,AS37)","v":0},{"$f":"AT37/(AV4-AT25)","v":0},{"$f":"IF(AU37=0,0,(AU37*((LOG(AU37))/LOG(2))))","v":0}]
[12,5140,24,5152,24,5156,14,5168,13,5176,0,12211,null,22222,{"$f":"COUNTIF($L$7:$L$500,N38)","v":0},{"$f":"O38/$Q$4","v":0},{"$f":"IF(P38=0,0,(P38*((LOG(P38))/LOG(2))))","v":0},null,null,{"$f":"N38","v":22222},{"$f":"COUNTIF(L7:L31,T38)","v":0},{"$f":"U38/(W4-U25)","v":0},{"$f":"IF(V38=0,0,(V38*((LOG(V38))/LOG(2))))","v":0},null,{"$f":"N38","v":22222},{"$f":"COUNTIF(L32:L56,Y38)","v":0},{"$f":"Z38/(AB4-Z25)","v":0},{"$f":"IF(AA38=0,0,(AA38*((LOG(AA38))/LOG(2))))","v":0},null,{"$f":"N38","v":22222},{"$f":"COUNTIF(L57:L82,AD38)","v":0},{"$f":"AE38/(AG4-AE25)","v":0},{"$f":"IF(AF38=0,0,(AF38*((LOG(AF38))/LOG(2))))","v":0},null,{"$f":"N38","v":22222},{"$f":"COUNTIF(L83:L107,AI38)","v":0},{"$f":"AJ38/(AL4-AJ25)","v":0},{"$f":"IF(AK38=0,0,(AK38*((LOG(AK38))/LOG(2))))","v":0},null,{"$f":"N38","v":22222},{"$f":"COUNTIF(L108:L132,AN38)","v":0},{"$f":"AO38/(AQ4-AO25)","v":0},{"$f":"IF(AP38=0,0,(AP38*((LOG(AP38))/LOG(2))))","v":0},null,{"$f":"N38","v":22222},{"$f":"COUNTIF(L133:L157,AS38)","v":0},{"$f":"AT38/(AV4-AT25)","v":0},{"$f":"IF(AU38=0,0,(AU38*((LOG(AU38))/LOG(2))))","v":0}]
[12,5285,13,5290,13,5297,14,5315,24,5329,0,11112,null,null,null,{"$f":"SUM(P7:P38)","v":1.0000000000000002},{"$f":"-SUM(Q7:Q38)","v":4.1418389767899626},null,null,null,null,{"$f":"SUM(V7:V38)","v":0.99999999999999989},{"$f":"-SUM(W7:W38)","v":3.6368421881310122},null,null,null,{"$f":"SUM(AA7:AA38)","v":0.99999999999999989},{"$f":"-SUM(AB7:AB38)","v":3.3197738350294785},null,null,null,{"$f":"SUM(AF7:AF38)","v":1},{"$f":"-SUM(AG7:AG38)","v":3.1207505427313436},null,null,null,{"$f":"SUM(AK7:AK38)","v":0.99999999999999989},{"$f":"-SUM(AL7:AL38)","v":3.0680303358642105},null,null,null,{"$f":"SUM(AP7:AP38)","v":1},{"$f":"-SUM(AQ7:AQ38)","v":3.1182751607709758},null,null,null,{"$f":"SUM(AU7:AU38)","v":1},{"$f":"-SUM(AV7:AV38)","v":3.6531071683628116}]
[21,5432,22,5438,13,5449,23,5459,13,5470,0,22121,null,null,null,"U=",{"$f":"Q39/(LOG(Q4)/LOG(2))","v":0.57220328593785641},null,null,null,null,"U1=",{"$f":"W39/(LOG(W4)/LOG(2))","v":0.78315133792018576},null,null,null,"U2=",{"$f":"AB39/(LOG(AB4)/LOG(2))","v":0.71487438442630191},null,null,null,"U3=",{"$f":"AG39/(LOG(AG4)/LOG(2))","v":0.66392736209060965},null,null,null,"U4=",{"$f":"AL39/(LOG(AL4)/LOG(2))","v":0.66066437255737709},null,null,null,"U5=",{"$f":"AQ39/(LOG(AQ4)/LOG(2))","v":0.67148400668329999},null,null,null,"U6=",{"$f":"AV39/(LOG(AV4)/LOG(2))","v":0.78665381077186736}]
[12,5572,13,5589,24,5598,14,5607,24,5622,0,11212]
[12,5743,13,5748,13,5766,23,5780,13,5791,0,11121]
[12,5912,13,5925,13,5943,23,5957,13,5969,0,11121,null,"Total Target Seq"]
[21,6117,11,6141,22,6154,14,6164,24,6178,0,21212,null,{"$f":"COUNTIF(L7:L157,G3)","v":11},null,25,25,26,25,25,25]
[12,6314,13,6335,24,6348,14,6359,13,6371,0,11211,null,null,null,"% of reinforcement given in 6 equal intervals based on number of trials "]
[21,6508,11,6521,22,6533,14,6543,24,6556,0,21212,null,null,null,"%_1","%_2","%_3","%_4","%_5","%_6"]
[21,6660,22,6664,13,6677,23,6687,24,6714,0,22122,null,null,"target sequence",{"$f":"$G$3","v":21121},{"$f":"$G$3","v":21121},{"$f":"$G$3","v":21121},{"$f":"$G$3","v":21121},{"$f":"$G$3","v":21121},{"$f":"$G$3","v":21121}]
[21,6825,22,6830,24,6836,14,6848,24,6858,0,22212,null,null,"total reinforcement",{"$f":"U25","v":1},{"$f":"Z25","v":1},{"$f":"AE25","v":3},{"$f":"AJ25","v":1},{"$f":"AO25","v":4},{"$f":"AT25","v":1}]
[12,6986,13,7006,24,7020,14,7031,13,7045,0,11211,null,null,"% target"]
[12,7145,13,7158,13,7163,14,7179,24,7193,0,11112,null,null,"CCRF"]
[21,7336,11,7346,22,7358,14,7369,24,7383,0,21212,null,null,"% CCRf"]
[12,7488,24,7499,24,7511,14,7522,24,7535,0,12212,null,null,"average response rate",{"$f":"J31/P44","v":159.72},{"$f":"(J56-J31)/Q44","v":168.44},{"$f":"(J82-J56)/R44","v":156.92307692307693},{"$f":"(J107-J82)/S44","v":157.96},{"$f":"(J132-J107)/T44","v":154.47999999999999},{"$f":"(J157-J132)/U44","v":155.24}]
[21,7639,22,7643,13,7659,23,7668,13,7685,0,22121]
[21,7791,11,7808,22,7818,14,7829,24,7843,0,21212]
[21,7983,11,7992,22,8003,14,8016,24,8029,0,21212]
[21,8145,22,8170,13,8181,23,8193,13,8204,0,22121]
[21,8320,11,8333,11,8341,21,8352,11,8363,1,21121]
[21,8471,11,8480,22,8493,14,8505,24,8518,0,21212]
[21,8629,11,8648,22,8658,14,8668,24,8680,0,21212]
[21,8780,22,8785,13,8797,23,8806,13,8816,0,22121]
[12,8926,24,8949,13,8960,23,8973,13,8985,0,12121]
[21,9094,11,9109,22,9117,14,9125,24,9138,0,21212]
[21,9244,11,9260,11,9284,21,9298,11,9310,1,21121]
[12,9398,13,9413,24,9427,14,9437,24,9450,0,11212]
[12,9550,24,9560,24,9575,23,9596,13,9606,0,12221]
[12,9706,24,9716,24,9731,23,9749,13,9758,0,12221]
[21,9858,11,9876,22,9885,14,9895,24,9908,0,21212]
[12,10009,24,10019,24,10027,23,10046,13,10057,0,12221]
[12,10186,13,10194,13,10203,14,10220,24,10233,0,11112]
[21,10365,11,10376,11,10392,12,10400,24,10414,0,21112]
[12,10514,24,10533,13,10542,23,10555,13,10567,0,12121]
[12,10665,24,10693,13,10703,23,10715,13,10726,0,12121]
[12,10844,24,10854,13,10866,23,10875,13,10886,0,12121]
[21,10990,22,10997,24,11019,14,11030,13,11039,0,22211]
[21,11149,11,11168,11,11185,21,11199,11,11211,1,21121]
[21,11320,11,11331,22,11341,14,11352,24,11365,0,21212]
[21,11473,11,11486,22,11494,14,11504,24,11517,0,21212]
[21,11631,11,11642,11,11647,12,11651,24,11662,0,21112]
[21,11768,22,11796,13,11807,14,11816,13,11842,0,22111]
[21,11955,22,11960,24,11967,14,11979,24,11992,0,22212]
[12,12093,13,12107,24,12118,14,12127,24,12140,0,11212]
[12,12245,24,12253,24,12263,14,12276,24,12284,0,12212]
[21,12390,22,12395,13,12406,23,12415,13,12426,0,22121]
[21,12530,22,12540,13,12555,14,12563,13,12588,0,22111]
[21,12699,11,12715,22,12724,14,12735,13,12745,0,21211]
[12,12859,13,12865,13,12874,14,12881,13,12893,0,11111]
[21,13002,22,13006,13,13018,14,13026,13,13034,0,22111]
[21,13139,11,13154,22,13163,14,13175,24,13188,0,21212]
[21,13293,22,13307,13,13315,23,13328,13,13348,0,22121]
[21,13457,11,13475,11,13490,21,13503,11,13514,1,21121]
[21,13633,11,13647,22,13654,14,13666,13,13676,0,21211]
[21,13786,22,13790,24,13805,14,13817,24,13831,0,22212]
[21,13947,22,13951,13,13963,23,13972,13,13985,0,22121]
[21,14096,22,14102,13,14119,23,14125,13,14136,0,22121]
[21,14271,11,14285,22,14294,14,14305,24,14319,0,21212]
[12,14419,24,14430,24,14435,14,14448,24,14456,0,12212]
[21,14557,11,14608,22,14621,14,14633,24,14646,0,21212]
[12,14746,24,14755,24,14759,23,14767,13,14778,0,12221]
[21,14877,11,14891,22,14900,14,14911,13,14922,0,21211]
[21,15036,22,15057,13,15068,23,15082,13,15093,0,22121]
[21,15214,11,15224,22,15237,14,15248,13,15257,0,21211]
[21,15391,22,15406,13,15419,23,15428,24,15438,0,22122]
[12,15543,24,15552,13,15570,23,15582,13,15593,0,12121]
[12,15723,24,15733,13,15744,23,15753,13,15764,0,12121]
[21,15880,22,15884,24,15891,23,15908,13,15918,0,22221]
[21,16040,22,16048,13,16061,23,16073,13,16085,0,22121]
[21,16189,22,16194,13,16205,23,16214,13,16233,0,22121]
[21,16369,11,16378,11,16383,21,16419,11,16439,1,21121]
[21,16533,11,16544,22,16553,14,16564,13,16573,0,21211]
[21,16679,22,16684,24,16689,23,16706,13,16715,0,22221]
[12,16817,13,16821,24,16830,14,16844,24,16853,0,11212]
[21,16952,11,16969,22,16978,14,16998,13,17008,0,21211]
[21,17125,11,17134,22,17147,14,17158,13,17172,0,21211]
[12,17271,24,17297,13,17306,23,17317,13,17334,0,12121]
[21,17436,22,17502,24,17516,14,17524,13,17533,0,22211]
[21,17633,11,17654,11,17662,12,17683,24,17694,0,21112]
[21,17809,11,17825,22,17831,14,17841,24,17853,0,21212]
[21,17953,22,17964,13,17976,23,17987,13,17998,0,22121]
[21,18110,11,18138,22,18147,14,18158,24,18179,0,21212]
[12,18292,24,18302,13,18314,23,18324,13,18335,0,12121]
[21,18443,11,18461,11,18467,12,18475,13,18496,0,21111]
[21,18597,11,18617,11,18633,21,18646,11,18656,1,21121]
[21,18759,22,18771,13,18781,23,18796,13,18807,0,22121]
[21,18913,11,18938,11,18945,12,18952,13,18960,0,21111]
[21,19069,22,19075,13,19088,23,19095,13,19104,0,22121]
[21,19205,11,19221,11,19241,12,19249,24,19261,0,21112]
[21,19361,11,19384,11,19388,12,19393,13,19400,0,21111]
[21,19503,11,19517,11,19521,12,19526,13,19533,0,21111]
[12,19632,24,19646,24,19652,14,19662,24,19671,0,12212]
[21,19772,11,19784,11,19792,21,19801,11,19820,1,21121]
[21,19910,11,19923,11,19942,21,19955,11,19967,1,21121]
[21,20056,11,20066,22,20075,14,20086,13,20095,0,21211]
[12,20194,24,20225,13,20234,23,20247,13,20259,0,12121]
[12,20355,24,20366,24,20381,14,20393,13,20411,0,12211]
[21,20511,22,20513,13,20533,14,20541,13,20548,0,22111]
[21,20656,11,20668,22,20676,14,20688,24,20700,0,21212]
[12,20798,24,20808,13,20818,23,20827,13,20838,0,12121]
[12,20944,13,20949,24,20958,14,20967,13,20975,0,11211]
[21,21079,11,21096,11,21101,12,21123,13,21133,0,21111]
[12,21249,24,21258,13,21277,14,21286,13,21294,0,12111]
[21,21407,22,21416,13,21427,23,21436,13,21453,0,22121]
[21,21555,11,21571,22,21579,14,21590,24,21604,0,21212]
[21,21721,11,21730,22,21738,14,21750,13,21759,0,21211]
[12,21857,24,21870,24,21874,23,21881,13,21893,0,12221]
[21,22019,11,22030,22,22047,14,22058,13,22067,0,21211]
[12,22216,13,22237,13,22246,23,22259,13,22270,0,11121]
[21,22376,11,22398,22,22407,14,22418,13,22440,0,21211]
[21,22560,22,22568,13,22582,14,22602,13,22614,0,22111]
[21,22719,11,22740,11,22760,21,22771,11,22782,1,21121]
[21,22875,11,22891,22,22900,14,22911,24,22923,0,21212]
[12,23023,13,23039,24,23046,14,23054,24,23063,0,11212]
[21,23163,11,23178,22,23186,14,23195,13,23202,0,21211]
[21,23303,22,23310,13,23323,23,23332,13,23344,0,22121]
[21,23447,11,23483,22,23491,14,23503,13,23511,0,21211]
[21,23619,11,23637,22,23647,23,23660,13,23670,0,21221]
[21,23780,22,23785,24,23795,14,23807,13,23816,0,22211]
[21,23930,22,23934,24,23953,14,23964,24,23976,null,22212]

{"sheet":"!N204840.091","index":18,"n_rows":135,"n_cols":48,"rows_kept":135,"cut":false,"hidden":false,"merged":[[4,39,4,42],[5,39,5,40],[4,44,4,47],[5,44,5,45],[4,24,4,27],[5,24,5,25],[4,29,4,32],[5,29,5,30],[4,34,4,37],[5,34,5,35],[1,1,1,2],[5,13,5,14],[42,13,42,14],[43,13,43,14],[4,19,4,22],[5,19,5,20]]}
["Report for:!N204840.091"]
["Date:","<date>"]
["Hen:","<hen>",null,null,null,"Correct Sequence",{"$f":"Start!J2","v":21121},null,null,null,null,null,null,null,null,"Total Sequences in Data",{"$f":"4994-COUNTBLANK(L7:L5000)","v":129},null,null,null,null,"Total Sequences in Block Data",{"$f":"COUNTA(L7:L28)","v":22},null,null,null,"Total Sequences in Block Data",{"$f":"COUNTA(L29:L49)","v":21},null,null,null,"Total Sequences in Block Data",{"$f":"COUNTA(L50:L71)","v":22},null,null,null,"Total Sequences in Block Data",{"$f":"COUNTA(L72:L92)","v":21},null,null,null,"Total Sequences in Block Data",{"$f":"COUNTA(L93:L114)","v":22},null,null,null,"Total Sequences in Block Data",{"$f":"COUNTA(L115:L135)","v":21}]
[null,null,null,null,null,null,null,null,null,null,null,null,null,null,null,"Total Sequences in Summary",{"$f":"SUM(O7:O38)","v":129},null,null,null,null,"Total Sequences in Block Summary",{"$f":"SUM(U7:U38)","v":22},null,null,null,"Total Sequences in Block Summary",{"$f":"SUM(Z7:Z38)","v":21},null,null,null,"Total Sequences in Block Summary",{"$f":"SUM(AE7:AE38)","v":22},null,null,null,"Total Sequences in Block Summary",{"$f":"SUM(AJ7:AJ38)","v":21},null,null,null,"Total Sequences in Block Summary",{"$f":"SUM(AO7:AO38)","v":22},null,null,null,"Total Sequences in Block Summary",{"$f":"SUM(AT7:AT38)","v":21}]
[null,null,null,null,null,null,null,null,null,null,null,null,null,null,null,null,null,null,null,"Block 1",null,null,null,null,"Block 2",null,null,null,null,"Block 3",null,null,null,null,"Block 4",null,null,null,null,"Block 5",null,null,null,null,"Block 6"]
["Sequence\nComponent\n1","Time\n1","Sequence\nComponent\n2","Time\n2","Sequence\nComponent\n3","Time\n3","Sequence\nComponent\n4","Time\n4","Sequence\nComponent\n5","Time\n5","Correct?\n0=No 1=Yes","Sequence",null,"Frequency",null,"Relative Frequency","Variability",null,null,"Frequency",null,"Relative Frequency","Variability",null,"Frequency",null,"Relative Frequency","Variability",null,"Frequency",null,"Relative Frequency","Variability",null,"Frequency",null,"Relative Frequency","Variability",null,"Frequency",null,"Relative Frequency","Variability",null,"Frequency",null,"Relative Frequency","Variability"]
[12,14,13,20,13,25,14,34,13,50,0,11111,null,11111,{"$f":"COUNTIF($L$7:$L$500,N7)","v":11},{"$f":"O7/$Q$4","v":8.5271317829457363E-2},{"$f":"IF(P7=0,0,(P7*((LOG(P7))/LOG(2))))","v":-0.3028662946096552},null,null,{"$f":"N7","v":11111},{"$f":"COUNTIF(L7:L28,T7)","v":2},{"$f":"U7/(W4-U25)","v":9.5238095238095233E-2},{"$f":"IF(V7=0,0,(V7*((LOG(V7))/LOG(2))))","v":-0.32307784978845333},null,{"$f":"N7","v":11111},{"$f":"COUNTIF(L29:L49,Y7)","v":2},{"$f":"Z7/(AB4-Z25)","v":9.5238095238095233E-2},{"$f":"IF(AA7=0,0,(AA7*((LOG(AA7))/LOG(2))))","v":-0.32307784978845333},null,{"$f":"N7","v":11111},{"$f":"COUNTIF(L50:L71,AD7)","v":2},{"$f":"AE7/(AG4-AE25)","v":9.0909090909090912E-2},{"$f":"IF(AF7=0,0,(AF7*((LOG(AF7))/LOG(2))))","v":-0.31449378351248153},null,{"$f":"N7","v":11111},{"$f":"COUNTIF(L72:L92,AI7)","v":3},{"$f":"AJ7/(AL4-AJ25)","v":0.15},{"$f":"IF(AK7=0,0,(AK7*((LOG(AK7))/LOG(2))))","v":-0.41054483912493089},null,{"$f":"N7","v":11111},{"$f":"COUNTIF(L93:L114,AN7)","v":0},{"$f":"AO7/(AQ4-AO25)","v":0},{"$f":"IF(AP7=0,0,(AP7*((LOG(AP7))/LOG(2))))","v":0},null,{"$f":"N7","v":11111},{"$f":"COUNTIF(L115:L135,AS7)","v":2},{"$f":"AT7/(AV4-AT25)","v":9.5238095238095233E-2},{"$f":"IF(AU7=0,0,(AU7*((LOG(AU7))/LOG(2))))","v":-0.32307784978845333}]
[12,151,13,160,24,170,14,181,13,190,0,11211,null,11112,{"$f":"COUNTIF($L$7:$L$500,N8)","v":0},{"$f":"O8/$Q$4","v":0},{"$f":"IF(P8=0,0,(P8*((LOG(P8))/LOG(2))))","v":0},null,null,{"$f":"N8","v":11112},{"$f":"COUNTIF(L7:L28,T8)","v":0},{"$f":"U8/(W4-U25)","v":0},{"$f":"IF(V8=0,0,(V8*((LOG(V8))/LOG(2))))","v":0},null,{"$f":"N8","v":11112},{"$f":"COUNTIF(L29:L49,Y8)","v":0},{"$f":"Z8/(AB4-Z25)","v":0},{"$f":"IF(AA8=0,0,(AA8*((LOG(AA8))/LOG(2))))","v":0},null,{"$f":"N8","v":11112},{"$f":"COUNTIF(L50:L71,AD8)","v":0},{"$f":"AE8/(AG4-AE25)","v":0},{"$f":"IF(AF8=0,0,(AF8*((LOG(AF8))/LOG(2))))","v":0},null,{"$f":"N8","v":11112},{"$f":"COUNTIF(L72:L92,AI8)","v":0},{"$f":"AJ8/(AL4-AJ25)","v":0},{"$f":"IF(AK8=0,0,(AK8*((LOG(AK8))/LOG(2))))","v":0},null,{"$f":"N8","v":11112},{"$f":"COUNTIF(L93:L114,AN8)","v":0},{"$f":"AO8/(AQ4-AO25)","v":0},{"$f":"IF(AP8=0,0,(AP8*((LOG(AP8))/LOG(2))))","v":0},null,{"$f":"N8","v":11112},{"$f":"COUNTIF(L115:L135,AS8)","v":0},{"$f":"AT8/(AV4-AT25)","v":0},{"$f":"IF(AU8=0,0,(AU8*((LOG(AU8))/LOG(2))))","v":0}]
[21,329,22,336,13,348,14,357,13,369,0,22111,null,11121,{"$f":"COUNTIF($L$7:$L$500,N9)","v":3},{"$f":"O9/$Q$4","v":2.3255813953488372E-2},{"$f":"IF(P9=0,0,(P9*((LOG(P9))/LOG(2))))","v":-0.12619220359772321},null,null,{"$f":"N9","v":11121},{"$f":"COUNTIF(L7:L28,T9)","v":2},{"$f":"U9/(W4-U25)","v":9.5238095238095233E-2},{"$f":"IF(V9=0,0,(V9*((LOG(V9))/LOG(2))))","v":-0.32307784978845333},null,{"$f":"N9","v":11121},{"$f":"COUNTIF(L29:L49,Y9)","v":0},{"$f":"Z9/(AB4-Z25)","v":0},{"$f":"IF(AA9=0,0,(AA9*((LOG(AA9))/LOG(2))))","v":0},null,{"$f":"N9","v":11121},{"$f":"COUNTIF(L50:L71,AD9)","v":0},{"$f":"AE9/(AG4-AE25)","v":0},{"$f":"IF(AF9=0,0,(AF9*((LOG(AF9))/LOG(2))))","v":0},null,{"$f":"N9","v":11121},{"$f":"COUNTIF(L72:L92,AI9)","v":0},{"$f":"AJ9/(AL4-AJ25)","v":0},{"$f":"IF(AK9=0,0,(AK9*((LOG(AK9))/LOG(2))))","v":0},null,{"$f":"N9","v":11121},{"$f":"COUNTIF(L93:L114,AN9)","v":0},{"$f":"AO9/(AQ4-AO25)","v":0},{"$f":"IF(AP9=0,0,(AP9*((LOG(AP9))/LOG(2))))","v":0},null,{"$f":"N9","v":11121},{"$f":"COUNTIF(L115:L135,AS9)","v":1},{"$f":"AT9/(AV4-AT25)","v":4.7619047619047616E-2},{"$f":"IF(AU9=0,0,(AU9*((LOG(AU9))/LOG(2))))","v":-0.20915797251327431}]
[12,475,13,480,13,484,14,491,13,499,0,11111,null,11122,{"$f":"COUNTIF($L$7:$L$500,N10)","v":1},{"$f":"O10/$Q$4","v":7.7519379844961239E-3},{"$f":"IF(P10=0,0,(P10*((LOG(P10))/LOG(2))))","v":-5.435059887925002E-2},null,null,{"$f":"N10","v":11122},{"$f":"COUNTIF(L7:L28,T10)","v":0},{"$f":"U10/(W4-U25)","v":0},{"$f":"IF(V10=0,0,(V10*((LOG(V10))/LOG(2))))","v":0},null,{"$f":"N10","v":11122},{"$f":"COUNTIF(L29:L49,Y10)","v":0},{"$f":"Z10/(AB4-Z25)","v":0},{"$f":"IF(AA10=0,0,(AA10*((LOG(AA10))/LOG(2))))","v":0},null,{"$f":"N10","v":11122},{"$f":"COUNTIF(L50:L71,AD10)","v":0},{"$f":"AE10/(AG4-AE25)","v":0},{"$f":"IF(AF10=0,0,(AF10*((LOG(AF10))/LOG(2))))","v":0},null,{"$f":"N10","v":11122},{"$f":"COUNTIF(L72:L92,AI10)","v":1},{"$f":"AJ10/(AL4-AJ25)","v":0.05},{"$f":"IF(AK10=0,0,(AK10*((LOG(AK10))/LOG(2))))","v":-0.21609640474436814},null,{"$f":"N10","v":11122},{"$f":"COUNTIF(L93:L114,AN10)","v":0},{"$f":"AO10/(AQ4-AO25)","v":0},{"$f":"IF(AP10=0,0,(AP10*((LOG(AP10))/LOG(2))))","v":0},null,{"$f":"N10","v":11122},{"$f":"COUNTIF(L115:L135,AS10)","v":0},{"$f":"AT10/(AV4-AT25)","v":0},{"$f":"IF(AU10=0,0,(AU10*((LOG(AU10))/LOG(2))))","v":0}]
[12,633,24,646,13,666,14,675,13,692,0,12111,null,11211,{"$f":"COUNTIF($L$7:$L$500,N11)","v":9},{"$f":"O11/$Q$4","v":6.9767441860465115E-2},{"$f":"IF(P11=0,0,(P11*((LOG(P11))/LOG(2))))","v":-0.26799783167308894},null,null,{"$f":"N11","v":11211},{"$f":"COUNTIF(L7:L28,T11)","v":1},{"$f":"U11/(W4-U25)","v":4.7619047619047616E-2},{"$f":"IF(V11=0,0,(V11*((LOG(V11))/LOG(2))))","v":-0.20915797251327431},null,{"$f":"N11","v":11211},{"$f":"COUNTIF(L29:L49,Y11)","v":0},{"$f":"Z11/(AB4-Z25)","v":0},{"$f":"IF(AA11=0,0,(AA11*((LOG(AA11))/LOG(2))))","v":0},null,{"$f":"N11","v":11211},{"$f":"COUNTIF(L50:L71,AD11)","v":2},{"$f":"AE11/(AG4-AE25)","v":9.0909090909090912E-2},{"$f":"IF(AF11=0,0,(AF11*((LOG(AF11))/LOG(2))))","v":-0.31449378351248153},null,{"$f":"N11","v":11211},{"$f":"COUNTIF(L72:L92,AI11)","v":0},{"$f":"AJ11/(AL4-AJ25)","v":0},{"$f":"IF(AK11=0,0,(AK11*((LOG(AK11))/LOG(2))))","v":0},null,{"$f":"N11","v":11211},{"$f":"COUNTIF(L93:L114,AN11)","v":2},{"$f":"AO11/(AQ4-AO25)","v":9.5238095238095233E-2},{"$f":"IF(AP11=0,0,(AP11*((LOG(AP11))/LOG(2))))","v":-0.32307784978845333},null,{"$f":"N11","v":11211},{"$f":"COUNTIF(L115:L135,AS11)","v":4},{"$f":"AT11/(AV4-AT25)","v":0.19047619047619047},{"$f":"IF(AU11=0,0,(AU11*((LOG(AU11))/LOG(2))))","v":-0.4556795091007162}]
[12,823,13,827,13,834,23,847,13,869,0,11121,null,11212,{"$f":"COUNTIF($L$7:$L$500,N12)","v":1},{"$f":"O12/$Q$4","v":7.7519379844961239E-3},{"$f":"IF(P12=0,0,(P12*((LOG(P12))/LOG(2))))","v":-5.435059887925002E-2},null,null,{"$f":"N12","v":11212},{"$f":"COUNTIF(L7:L28,T12)","v":0},{"$f":"U12/(W4-U25)","v":0},{"$f":"IF(V12=0,0,(V12*((LOG(V12))/LOG(2))))","v":0},null,{"$f":"N12","v":11212},{"$f":"COUNTIF(L29:L49,Y12)","v":0},{"$f":"Z12/(AB4-Z25)","v":0},{"$f":"IF(AA12=0,0,(AA12*((LOG(AA12))/LOG(2))))","v":0},null,{"$f":"N12","v":11212},{"$f":"COUNTIF(L50:L71,AD12)","v":0},{"$f":"AE12/(AG4-AE25)","v":0},{"$f":"IF(AF12=0,0,(AF12*((LOG(AF12))/LOG(2))))","v":0},null,{"$f":"N12","v":11212},{"$f":"COUNTIF(L72:L92,AI12)","v":0},{"$f":"AJ12/(AL4-AJ25)","v":0},{"$f":"IF(AK12=0,0,(AK12*((LOG(AK12))/LOG(2))))","v":0},null,{"$f":"N12","v":11212},{"$f":"COUNTIF(L93:L114,AN12)","v":0},{"$f":"AO12/(AQ4-AO25)","v":0},{"$f":"IF(AP12=0,0,(AP12*((LOG(AP12))/LOG(2))))","v":0},null,{"$f":"N12","v":11212},{"$f":"COUNTIF(L115:L135,AS12)","v":1},{"$f":"AT12/(AV4-AT25)","v":4.7619047619047616E-2},{"$f":"IF(AU12=0,0,(AU12*((LOG(AU12))/LOG(2))))","v":-0.20915797251327431}]
[12,987,24,996,13,1006,14,1015,24,1027,0,12112,null,11221,{"$f":"COUNTIF($L$7:$L$500,N13)","v":1},{"$f":"O13/$Q$4","v":7.7519379844961239E-3},{"$f":"IF(P13=0,0,(P13*((LOG(P13))/LOG(2))))","v":-5.435059887925002E-2},null,null,{"$f":"N13","v":11221},{"$f":"COUNTIF(L7:L28,T13)","v":0},{"$f":"U13/(W4-U25)","v":0},{"$f":"IF(V13=0,0,(V13*((LOG(V13))/LOG(2))))","v":0},null,{"$f":"N13","v":11221},{"$f":"COUNTIF(L29:L49,Y13)","v":1},{"$f":"Z13/(AB4-Z25)","v":4.7619047619047616E-2},{"$f":"IF(AA13=0,0,(AA13*((LOG(AA13))/LOG(2))))","v":-0.20915797251327431},null,{"$f":"N13","v":11221},{"$f":"COUNTIF(L50:L71,AD13)","v":0},{"$f":"AE13/(AG4-AE25)","v":0},{"$f":"IF(AF13=0,0,(AF13*((LOG(AF13))/LOG(2))))","v":0},null,{"$f":"N13","v":11221},{"$f":"COUNTIF(L72:L92,AI13)","v":0},{"$f":"AJ13/(AL4-AJ25)","v":0},{"$f":"IF(AK13=0,0,(AK13*((LOG(AK13))/LOG(2))))","v":0},null,{"$f":"N13","v":11221},{"$f":"COUNTIF(L93:L114,AN13)","v":0},{"$f":"AO13/(AQ4-AO25)","v":0},{"$f":"IF(AP13=0,0,(AP13*((LOG(AP13))/LOG(2))))","v":0},null,{"$f":"N13","v":11221},{"$f":"COUNTIF(L115:L135,AS13)","v":0},{"$f":"AT13/(AV4-AT25)","v":0},{"$f":"IF(AU13=0,0,(AU13*((LOG(AU13))/LOG(2))))","v":0}]
[21,1157,22,1163,13,1177,14,1194,13,1203,0,22111,null,11222,{"$f":"COUNTIF($L$7:$L$500,N14)","v":0},{"$f":"O14/$Q$4","v":0},{"$f":"IF(P14=0,0,(P14*((LOG(P14))/LOG(2))))","v":0},null,null,{"$f":"N14","v":11222},{"$f":"COUNTIF(L7:L28,T14)","v":0},{"$f":"U14/(W4-U25)","v":0},{"$f":"IF(V14=0,0,(V14*((LOG(V14))/LOG(2))))","v":0},null,{"$f":"N14","v":11222},{"$f":"COUNTIF(L29:L49,Y14)","v":0},{"$f":"Z14/(AB4-Z25)","v":0},{"$f":"IF(AA14=0,0,(AA14*((LOG(AA14))/LOG(2))))","v":0},null,{"$f":"N14","v":11222},{"$f":"COUNTIF(L50:L71,AD14)","v":0},{"$f":"AE14/(AG4-AE25)","v":0},{"$f":"IF(AF14=0,0,(AF14*((LOG(AF14))/LOG(2))))","v":0},null,{"$f":"N14","v":11222},{"$f":"COUNTIF(L72:L92,AI14)","v":0},{"$f":"AJ14/(AL4-AJ25)","v":0},{"$f":"IF(AK14=0,0,(AK14*((LOG(AK14))/LOG(2))))","v":0},null,{"$f":"N14","v":11222},{"$f":"COUNTIF(L93:L114,AN14)","v":0},{"$f":"AO14/(AQ4-AO25)","v":0},{"$f":"IF(AP14=0,0,(AP14*((LOG(AP14))/LOG(2))))","v":0},null,{"$f":"N14","v":11222},{"$f":"COUNTIF(L115:L135,AS14)","v":0},{"$f":"AT14/(AV4-AT25)","v":0},{"$f":"IF(AU14=0,0,(AU14*((LOG(AU14))/LOG(2))))","v":0}]
[12,1317,24,1324,13,1334,14,1342,13,1364,0,12111,null,12111,{"$f":"COUNTIF($L$7:$L$500,N15)","v":10},{"$f":"O15/$Q$4","v":7.7519379844961239E-2},{"$f":"IF(P15=0,0,(P15*((LOG(P15))/LOG(2))))","v":-0.28599218298727841},null,null,{"$f":"N15","v":12111},{"$f":"COUNTIF(L7:L28,T15)","v":2},{"$f":"U15/(W4-U25)","v":9.5238095238095233E-2},{"$f":"IF(V15=0,0,(V15*((LOG(V15))/LOG(2))))","v":-0.32307784978845333},null,{"$f":"N15","v":12111},{"$f":"COUNTIF(L29:L49,Y15)","v":2},{"$f":"Z15/(AB4-Z25)","v":9.5238095238095233E-2},{"$f":"IF(AA15=0,0,(AA15*((LOG(AA15))/LOG(2))))","v":-0.32307784978845333},null,{"$f":"N15","v":12111},{"$f":"COUNTIF(L50:L71,AD15)","v":1},{"$f":"AE15/(AG4-AE25)","v":4.5454545454545456E-2},{"$f":"IF(AF15=0,0,(AF15*((LOG(AF15))/LOG(2))))","v":-0.20270143721078623},null,{"$f":"N15","v":12111},{"$f":"COUNTIF(L72:L92,AI15)","v":0},{"$f":"AJ15/(AL4-AJ25)","v":0},{"$f":"IF(AK15=0,0,(AK15*((LOG(AK15))/LOG(2))))","v":0},null,{"$f":"N15","v":12111},{"$f":"COUNTIF(L93:L114,AN15)","v":1},{"$f":"AO15/(AQ4-AO25)","v":4.7619047619047616E-2},{"$f":"IF(AP15=0,0,(AP15*((LOG(AP15))/LOG(2))))","v":-0.20915797251327431},null,{"$f":"N15","v":12111},{"$f":"COUNTIF(L115:L135,AS15)","v":4},{"$f":"AT15/(AV4-AT25)","v":0.19047619047619047},{"$f":"IF(AU15=0,0,(AU15*((LOG(AU15))/LOG(2))))","v":-0.4556795091007162}]
[21,1485,22,1492,13,1505,14,1513,13,1530,0,22111,null,12112,{"$f":"COUNTIF($L$7:$L$500,N16)","v":6},{"$f":"O16/$Q$4","v":4.6511627906976744E-2},{"$f":"IF(P16=0,0,(P16*((LOG(P16))/LOG(2))))","v":-0.20587277928846967},null,null,{"$f":"N16","v":12112},{"$f":"COUNTIF(L7:L28,T16)","v":3},{"$f":"U16/(W4-U25)","v":0.14285714285714285},{"$f":"IF(V16=0,0,(V16*((LOG(V16))/LOG(2))))","v":-0.40105070315108626},null,{"$f":"N16","v":12112},{"$f":"COUNTIF(L29:L49,Y16)","v":1},{"$f":"Z16/(AB4-Z25)","v":4.7619047619047616E-2},{"$f":"IF(AA16=0,0,(AA16*((LOG(AA16))/LOG(2))))","v":-0.20915797251327431},null,{"$f":"N16","v":12112},{"$f":"COUNTIF(L50:L71,AD16)","v":1},{"$f":"AE16/(AG4-AE25)","v":4.5454545454545456E-2},{"$f":"IF(AF16=0,0,(AF16*((LOG(AF16))/LOG(2))))","v":-0.20270143721078623},null,{"$f":"N16","v":12112},{"$f":"COUNTIF(L72:L92,AI16)","v":0},{"$f":"AJ16/(AL4-AJ25)","v":0},{"$f":"IF(AK16=0,0,(AK16*((LOG(AK16))/LOG(2))))","v":0},null,{"$f":"N16","v":12112},{"$f":"COUNTIF(L93:L114,AN16)","v":0},{"$f":"AO16/(AQ4-AO25)","v":0},{"$f":"IF(AP16=0,0,(AP16*((LOG(AP16))/LOG(2))))","v":0},null,{"$f":"N16","v":12112},{"$f":"COUNTIF(L115:L135,AS16)","v":1},{"$f":"AT16/(AV4-AT25)","v":4.7619047619047616E-2},{"$f":"IF(AU16=0,0,(AU16*((LOG(AU16))/LOG(2))))","v":-0.20915797251327431}]
[12,1644,24,1651,13,1663,14,1672,24,1685,0,12112,null,12121,{"$f":"COUNTIF($L$7:$L$500,N17)","v":6},{"$f":"O17/$Q$4","v":4.6511627906976744E-2},{"$f":"IF(P17=0,0,(P17*((LOG(P17))/LOG(2))))","v":-0.20587277928846967},null,null,{"$f":"N17","v":12121},{"$f":"COUNTIF(L7:L28,T17)","v":1},{"$f":"U17/(W4-U25)","v":4.7619047619047616E-2},{"$f":"IF(V17=0,0,(V17*((LOG(V17))/LOG(2))))","v":-0.20915797251327431},null,{"$f":"N17","v":12121},{"$f":"COUNTIF(L29:L49,Y17)","v":3},{"$f":"Z17/(AB4-Z25)","v":0.14285714285714285},{"$f":"IF(AA17=0,0,(AA17*((LOG(AA17))/LOG(2))))","v":-0.40105070315108626},null,{"$f":"N17","v":12121},{"$f":"COUNTIF(L50:L71,AD17)","v":1},{"$f":"AE17/(AG4-AE25)","v":4.5454545454545456E-2},{"$f":"IF(AF17=0,0,(AF17*((LOG(AF17))/LOG(2))))","v":-0.20270143721078623},null,{"$f":"N17","v":12121},{"$f":"COUNTIF(L72:L92,AI17)","v":0},{"$f":"AJ17/(AL4-AJ25)","v":0},{"$f":"IF(AK17=0,0,(AK17*((LOG(AK17))/LOG(2))))","v":0},null,{"$f":"N17","v":12121},{"$f":"COUNTIF(L93:L114,AN17)","v":1},{"$f":"AO17/(AQ4-AO25)","v":4.7619047619047616E-2},{"$f":"IF(AP17=0,0,(AP17*((LOG(AP17))/LOG(2))))","v":-0.20915797251327431},null,{"$f":"N17","v":12121},{"$f":"COUNTIF(L115:L135,AS17)","v":0},{"$f":"AT17/(AV4-AT25)","v":0},{"$f":"IF(AU17=0,0,(AU17*((LOG(AU17))/LOG(2))))","v":0}]
[21,1805,22,1813,13,1825,14,1838,24,1854,0,22112,null,12122,{"$f":"COUNTIF($L$7:$L$500,N18)","v":1},{"$f":"O18/$Q$4","v":7.7519379844961239E-3},{"$f":"IF(P18=0,0,(P18*((LOG(P18))/LOG(2))))","v":-5.435059887925002E-2},null,null,{"$f":"N18","v":12122},{"$f":"COUNTIF(L7:L28,T18)","v":0},{"$f":"U18/(W4-U25)","v":0},{"$f":"IF(V18=0,0,(V18*((LOG(V18))/LOG(2))))","v":0},null,{"$f":"N18","v":12122},{"$f":"COUNTIF(L29:L49,Y18)","v":0},{"$f":"Z18/(AB4-Z25)","v":0},{"$f":"IF(AA18=0,0,(AA18*((LOG(AA18))/LOG(2))))","v":0},null,{"$f":"N18","v":12122},{"$f":"COUNTIF(L50:L71,AD18)","v":0},{"$f":"AE18/(AG4-AE25)","v":0},{"$f":"IF(AF18=0,0,(AF18*((LOG(AF18))/LOG(2))))","v":0},null,{"$f":"N18","v":12122},{"$f":"COUNTIF(L72:L92,AI18)","v":0},{"$f":"AJ18/(AL4-AJ25)","v":0},{"$f":"IF(AK18=0,0,(AK18*((LOG(AK18))/LOG(2))))","v":0},null,{"$f":"N18","v":12122},{"$f":"COUNTIF(L93:L114,AN18)","v":0},{"$f":"AO18/(AQ4-AO25)","v":0},{"$f":"IF(AP18=0,0,(AP18*((LOG(AP18))/LOG(2))))","v":0},null,{"$f":"N18","v":12122},{"$f":"COUNTIF(L115:L135,AS18)","v":1},{"$f":"AT18/(AV4-AT25)","v":4.7619047619047616E-2},{"$f":"IF(AU18=0,0,(AU18*((LOG(AU18))/LOG(2))))","v":-0.20915797251327431}]
[12,1977,13,1986,13,1995,23,2009,13,2025,0,11121,null,12211,{"$f":"COUNTIF($L$7:$L$500,N19)","v":2},{"$f":"O19/$Q$4","v":1.5503875968992248E-2},{"$f":"IF(P19=0,0,(P19*((LOG(P19))/LOG(2))))","v":-9.3197321789507806E-2},null,null,{"$f":"N19","v":12211},{"$f":"COUNTIF(L7:L28,T19)","v":0},{"$f":"U19/(W4-U25)","v":0},{"$f":"IF(V19=0,0,(V19*((LOG(V19))/LOG(2))))","v":0},null,{"$f":"N19","v":12211},{"$f":"COUNTIF(L29:L49,Y19)","v":1},{"$f":"Z19/(AB4-Z25)","v":4.7619047619047616E-2},{"$f":"IF(AA19=0,0,(AA19*((LOG(AA19))/LOG(2))))","v":-0.20915797251327431},null,{"$f":"N19","v":12211},{"$f":"COUNTIF(L50:L71,AD19)","v":1},{"$f":"AE19/(AG4-AE25)","v":4.5454545454545456E-2},{"$f":"IF(AF19=0,0,(AF19*((LOG(AF19))/LOG(2))))","v":-0.20270143721078623},null,{"$f":"N19","v":12211},{"$f":"COUNTIF(L72:L92,AI19)","v":0},{"$f":"AJ19/(AL4-AJ25)","v":0},{"$f":"IF(AK19=0,0,(AK19*((LOG(AK19))/LOG(2))))","v":0},null,{"$f":"N19","v":12211},{"$f":"COUNTIF(L93:L114,AN19)","v":0},{"$f":"AO19/(AQ4-AO25)","v":0},{"$f":"IF(AP19=0,0,(AP19*((LOG(AP19))/LOG(2))))","v":0},null,{"$f":"N19","v":12211},{"$f":"COUNTIF(L115:L135,AS19)","v":0},{"$f":"AT19/(AV4-AT25)","v":0},{"$f":"IF(AU19=0,0,(AU19*((LOG(AU19))/LOG(2))))","v":0}]
[21,2166,22,2170,13,2191,23,2205,13,2217,0,22121,null,12212,{"$f":"COUNTIF($L$7:$L$500,N20)","v":6},{"$f":"O20/$Q$4","v":4.6511627906976744E-2},{"$f":"IF(P20=0,0,(P20*((LOG(P20))/LOG(2))))","v":-0.20587277928846967},null,null,{"$f":"N20","v":12212},{"$f":"COUNTIF(L7:L28,T20)","v":1},{"$f":"U20/(W4-U25)","v":4.7619047619047616E-2},{"$f":"IF(V20=0,0,(V20*((LOG(V20))/LOG(2))))","v":-0.20915797251327431},null,{"$f":"N20","v":12212},{"$f":"COUNTIF(L29:L49,Y20)","v":1},{"$f":"Z20/(AB4-Z25)","v":4.7619047619047616E-2},{"$f":"IF(AA20=0,0,(AA20*((LOG(AA20))/LOG(2))))","v":-0.20915797251327431},null,{"$f":"N20","v":12212},{"$f":"COUNTIF(L50:L71,AD20)","v":1},{"$f":"AE20/(AG4-AE25)","v":4.5454545454545456E-2},{"$f":"IF(AF20=0,0,(AF20*((LOG(AF20))/LOG(2))))","v":-0.20270143721078623},null,{"$f":"N20","v":12212},{"$f":"COUNTIF(L72:L92,AI20)","v":1},{"$f":"AJ20/(AL4-AJ25)","v":0.05},{"$f":"IF(AK20=0,0,(AK20*((LOG(AK20))/LOG(2))))","v":-0.21609640474436814},null,{"$f":"N20","v":12212},{"$f":"COUNTIF(L93:L114,AN20)","v":0},{"$f":"AO20/(AQ4-AO25)","v":0},{"$f":"IF(AP20=0,0,(AP20*((LOG(AP20))/LOG(2))))","v":0},null,{"$f":"N20","v":12212},{"$f":"COUNTIF(L115:L135,AS20)","v":2},{"$f":"AT20/(AV4-AT25)","v":9.5238095238095233E-2},{"$f":"IF(AU20=0,0,(AU20*((LOG(AU20))/LOG(2))))","v":-0.32307784978845333}]
[21,2351,22,2360,24,2365,14,2386,13,2395,0,22211,null,12221,{"$f":"COUNTIF($L$7:$L$500,N21)","v":0},{"$f":"O21/$Q$4","v":0},{"$f":"IF(P21=0,0,(P21*((LOG(P21))/LOG(2))))","v":0},null,null,{"$f":"N21","v":12221},{"$f":"COUNTIF(L7:L28,T21)","v":0},{"$f":"U21/(W4-U25)","v":0},{"$f":"IF(V21=0,0,(V21*((LOG(V21))/LOG(2))))","v":0},null,{"$f":"N21","v":12221},{"$f":"COUNTIF(L29:L49,Y21)","v":0},{"$f":"Z21/(AB4-Z25)","v":0},{"$f":"IF(AA21=0,0,(AA21*((LOG(AA21))/LOG(2))))","v":0},null,{"$f":"N21","v":12221},{"$f":"COUNTIF(L50:L71,AD21)","v":0},{"$f":"AE21/(AG4-AE25)","v":0},{"$f":"IF(AF21=0,0,(AF21*((LOG(AF21))/LOG(2))))","v":0},null,{"$f":"N21","v":12221},{"$f":"COUNTIF(L72:L92,AI21)","v":0},{"$f":"AJ21/(AL4-AJ25)","v":0},{"$f":"IF(AK21=0,0,(AK21*((LOG(AK21))/LOG(2))))","v":0},null,{"$f":"N21","v":12221},{"$f":"COUNTIF(L93:L114,AN21)","v":0},{"$f":"AO21/(AQ4-AO25)","v":0},{"$f":"IF(AP21=0,0,(AP21*((LOG(AP21))/LOG(2))))","v":0},null,{"$f":"N21","v":12221},{"$f":"COUNTIF(L115:L135,AS21)","v":0},{"$f":"AT21/(AV4-AT25)","v":0},{"$f":"IF(AU21=0,0,(AU21*((LOG(AU21))/LOG(2))))","v":0}]
[21,2509,11,2522,11,2541,21,2553,11,2565,1,21121,null,12222,{"$f":"COUNTIF($L$7:$L$500,N22)","v":1},{"$f":"O22/$Q$4","v":7.7519379844961239E-3},{"$f":"IF(P22=0,0,(P22*((LOG(P22))/LOG(2))))","v":-5.435059887925002E-2},null,null,{"$f":"N22","v":12222},{"$f":"COUNTIF(L7:L28,T22)","v":0},{"$f":"U22/(W4-U25)","v":0},{"$f":"IF(V22=0,0,(V22*((LOG(V22))/LOG(2))))","v":0},null,{"$f":"N22","v":12222},{"$f":"COUNTIF(L29:L49,Y22)","v":0},{"$f":"Z22/(AB4-Z25)","v":0},{"$f":"IF(AA22=0,0,(AA22*((LOG(AA22))/LOG(2))))","v":0},null,{"$f":"N22","v":12222},{"$f":"COUNTIF(L50:L71,AD22)","v":0},{"$f":"AE22/(AG4-AE25)","v":0},{"$f":"IF(AF22=0,0,(AF22*((LOG(AF22))/LOG(2))))","v":0},null,{"$f":"N22","v":12222},{"$f":"COUNTIF(L72:L92,AI22)","v":1},{"$f":"AJ22/(AL4-AJ25)","v":0.05},{"$f":"IF(AK22=0,0,(AK22*((LOG(AK22))/LOG(2))))","v":-0.21609640474436814},null,{"$f":"N22","v":12222},{"$f":"COUNTIF(L93:L114,AN22)","v":0},{"$f":"AO22/(AQ4-AO25)","v":0},{"$f":"IF(AP22=0,0,(AP22*((LOG(AP22))/LOG(2))))","v":0},null,{"$f":"N22","v":12222},{"$f":"COUNTIF(L115:L135,AS22)","v":0},{"$f":"AT22/(AV4-AT25)","v":0},{"$f":"IF(AU22=0,0,(AU22*((LOG(AU22))/LOG(2))))","v":0}]
[12,2735,24,2743,13,2754,14,2765,24,2775,0,12112,null,21111,{"$f":"COUNTIF($L$7:$L$500,N23)","v":7},{"$f":"O23/$Q$4","v":5.4263565891472867E-2},{"$f":"IF(P23=0,0,(P23*((LOG(P23))/LOG(2))))","v":-0.22811710336092675},null,null,{"$f":"N23","v":21111},{"$f":"COUNTIF(L7:L28,T23)","v":0},{"$f":"U23/(W4-U25)","v":0},{"$f":"IF(V23=0,0,(V23*((LOG(V23))/LOG(2))))","v":0},null,{"$f":"N23","v":21111},{"$f":"COUNTIF(L29:L49,Y23)","v":0},{"$f":"Z23/(AB4-Z25)","v":0},{"$f":"IF(AA23=0,0,(AA23*((LOG(AA23))/LOG(2))))","v":0},null,{"$f":"N23","v":21111},{"$f":"COUNTIF(L50:L71,AD23)","v":2},{"$f":"AE23/(AG4-AE25)","v":9.0909090909090912E-2},{"$f":"IF(AF23=0,0,(AF23*((LOG(AF23))/LOG(2))))","v":-0.31449378351248153},null,{"$f":"N23","v":21111},{"$f":"COUNTIF(L72:L92,AI23)","v":1},{"$f":"AJ23/(AL4-AJ25)","v":0.05},{"$f":"IF(AK23=0,0,(AK23*((LOG(AK23))/LOG(2))))","v":-0.21609640474436814},null,{"$f":"N23","v":21111},{"$f":"COUNTIF(L93:L114,AN23)","v":4},{"$f":"AO23/(AQ4-AO25)","v":0.19047619047619047},{"$f":"IF(AP23=0,0,(AP23*((LOG(AP23))/LOG(2))))","v":-0.4556795091007162},null,{"$f":"N23","v":21111},{"$f":"COUNTIF(L115:L135,AS23)","v":0},{"$f":"AT23/(AV4-AT25)","v":0},{"$f":"IF(AU23=0,0,(AU23*((LOG(AU23))/LOG(2))))","v":0}]
[21,2897,22,2907,13,2916,14,2924,24,2937,0,22112,null,21112,{"$f":"COUNTIF($L$7:$L$500,N24)","v":0},{"$f":"O24/$Q$4","v":0},{"$f":"IF(P24=0,0,(P24*((LOG(P24))/LOG(2))))","v":0},null,null,{"$f":"N24","v":21112},{"$f":"COUNTIF(L7:L28,T24)","v":0},{"$f":"U24/(W4-U25)","v":0},{"$f":"IF(V24=0,0,(V24*((LOG(V24))/LOG(2))))","v":0},null,{"$f":"N24","v":21112},{"$f":"COUNTIF(L29:L49,Y24)","v":0},{"$f":"Z24/(AB4-Z25)","v":0},{"$f":"IF(AA24=0,0,(AA24*((LOG(AA24))/LOG(2))))","v":0},null,{"$f":"N24","v":21112},{"$f":"COUNTIF(L50:L71,AD24)","v":0},{"$f":"AE24/(AG4-AE25)","v":0},{"$f":"IF(AF24=0,0,(AF24*((LOG(AF24))/LOG(2))))","v":0},null,{"$f":"N24","v":21112},{"$f":"COUNTIF(L72:L92,AI24)","v":0},{"$f":"AJ24/(AL4-AJ25)","v":0},{"$f":"IF(AK24=0,0,(AK24*((LOG(AK24))/LOG(2))))","v":0},null,{"$f":"N24","v":21112},{"$f":"COUNTIF(L93:L114,AN24)","v":0},{"$f":"AO24/(AQ4-AO25)","v":0},{"$f":"IF(AP24=0,0,(AP24*((LOG(AP24))/LOG(2))))","v":0},null,{"$f":"N24","v":21112},{"$f":"COUNTIF(L115:L135,AS24)","v":0},{"$f":"AT24/(AV4-AT25)","v":0},{"$f":"IF(AU24=0,0,(AU24*((LOG(AU24))/LOG(2))))","v":0}]
[21,3050,22,3056,24,3074,14,3084,13,3092,0,22211,null,21121,{"$f":"COUNTIF($L$7:$L$500,N25)","v":3},{"$f":"O25/$Q$4","v":2.3255813953488372E-2},{"$f":"IF(P25=0,0,(P25*((LOG(P25))/LOG(2))))","v":-0.12619220359772321},null,null,{"$f":"N25","v":21121},{"$f":"COUNTIF(L7:L28,T25)","v":1},null,null,null,{"$f":"N25","v":21121},{"$f":"COUNTIF(L29:L49,Y25)","v":0},null,null,null,{"$f":"N25","v":21121},{"$f":"COUNTIF(L50:L71,AD25)","v":0},null,null,null,{"$f":"N25","v":21121},{"$f":"COUNTIF(L72:L92,AI25)","v":1},null,null,null,{"$f":"N25","v":21121},{"$f":"COUNTIF(L93:L114,AN25)","v":1},null,null,null,{"$f":"N25","v":21121},{"$f":"COUNTIF(L115:L135,AS25)","v":0}]
[12,3201,24,3211,13,3230,23,3242,13,3257,0,12121,null,21122,{"$f":"COUNTIF($L$7:$L$500,N26)","v":0},{"$f":"O26/$Q$4","v":0},{"$f":"IF(P26=0,0,(P26*((LOG(P26))/LOG(2))))","v":0},null,null,{"$f":"N26","v":21122},{"$f":"COUNTIF(L7:L28,T26)","v":0},{"$f":"U26/(W4-U25)","v":0},{"$f":"IF(V26=0,0,(V26*((LOG(V26))/LOG(2))))","v":0},null,{"$f":"N26","v":21122},{"$f":"COUNTIF(L29:L49,Y26)","v":0},{"$f":"Z26/(AB4-Z25)","v":0},{"$f":"IF(AA26=0,0,(AA26*((LOG(AA26))/LOG(2))))","v":0},null,{"$f":"N26","v":21122},{"$f":"COUNTIF(L50:L71,AD26)","v":0},{"$f":"AE26/(AG4-AE25)","v":0},{"$f":"IF(AF26=0,0,(AF26*((LOG(AF26))/LOG(2))))","v":0},null,{"$f":"N26","v":21122},{"$f":"COUNTIF(L72:L92,AI26)","v":0},{"$f":"AJ26/(AL4-AJ25)","v":0},{"$f":"IF(AK26=0,0,(AK26*((LOG(AK26))/LOG(2))))","v":0},null,{"$f":"N26","v":21122},{"$f":"COUNTIF(L93:L114,AN26)","v":0},{"$f":"AO26/(AQ4-AO25)","v":0},{"$f":"IF(AP26=0,0,(AP26*((LOG(AP26))/LOG(2))))","v":0},null,{"$f":"N26","v":21122},{"$f":"COUNTIF(L115:L135,AS26)","v":0},{"$f":"AT26/(AV4-AT25)","v":0},{"$f":"IF(AU26=0,0,(AU26*((LOG(AU26))/LOG(2))))","v":0}]
[21,3363,22,3368,24,3375,14,3388,24,3398,0,22212,null,21211,{"$f":"COUNTIF($L$7:$L$500,N27)","v":6},{"$f":"O27/$Q$4","v":4.6511627906976744E-2},{"$f":"IF(P27=0,0,(P27*((LOG(P27))/LOG(2))))","v":-0.20587277928846967},null,null,{"$f":"N27","v":21211},{"$f":"COUNTIF(L7:L28,T27)","v":0},{"$f":"U27/(W4-U25)","v":0},{"$f":"IF(V27=0,0,(V27*((LOG(V27))/LOG(2))))","v":0},null,{"$f":"N27","v":21211},{"$f":"COUNTIF(L29:L49,Y27)","v":1},{"$f":"Z27/(AB4-Z25)","v":4.7619047619047616E-2},{"$f":"IF(AA27=0,0,(AA27*((LOG(AA27))/LOG(2))))","v":-0.20915797251327431},null,{"$f":"N27","v":21211},{"$f":"COUNTIF(L50:L71,AD27)","v":3},{"$f":"AE27/(AG4-AE25)","v":0.13636363636363635},{"$f":"IF(AF27=0,0,(AF27*((LOG(AF27))/LOG(2))))","v":-0.39197306153401923},null,{"$f":"N27","v":21211},{"$f":"COUNTIF(L72:L92,AI27)","v":1},{"$f":"AJ27/(AL4-AJ25)","v":0.05},{"$f":"IF(AK27=0,0,(AK27*((LOG(AK27))/LOG(2))))","v":-0.21609640474436814},null,{"$f":"N27","v":21211},{"$f":"COUNTIF(L93:L114,AN27)","v":0},{"$f":"AO27/(AQ4-AO25)","v":0},{"$f":"IF(AP27=0,0,(AP27*((LOG(AP27))/LOG(2))))","v":0},null,{"$f":"N27","v":21211},{"$f":"COUNTIF(L115:L135,AS27)","v":1},{"$f":"AT27/(AV4-AT25)","v":4.7619047619047616E-2},{"$f":"IF(AU27=0,0,(AU27*((LOG(AU27))/LOG(2))))","v":-0.20915797251327431}]
[12,3504,24,3526,24,3533,14,3546,24,3559,0,12212,null,21212,{"$f":"COUNTIF($L$7:$L$500,N28)","v":7},{"$f":"O28/$Q$4","v":5.4263565891472867E-2},{"$f":"IF(P28=0,0,(P28*((LOG(P28))/LOG(2))))","v":-0.22811710336092675},null,null,{"$f":"N28","v":21212},{"$f":"COUNTIF(L7:L28,T28)","v":0},{"$f":"U28/(W4-U25)","v":0},{"$f":"IF(V28=0,0,(V28*((LOG(V28))/LOG(2))))","v":0},null,{"$f":"N28","v":21212},{"$f":"COUNTIF(L29:L49,Y28)","v":2},{"$f":"Z28/(AB4-Z25)","v":9.5238095238095233E-2},{"$f":"IF(AA28=0,0,(AA28*((LOG(AA28))/LOG(2))))","v":-0.32307784978845333},null,{"$f":"N28","v":21212},{"$f":"COUNTIF(L50:L71,AD28)","v":0},{"$f":"AE28/(AG4-AE25)","v":0},{"$f":"IF(AF28=0,0,(AF28*((LOG(AF28))/LOG(2))))","v":0},null,{"$f":"N28","v":21212},{"$f":"COUNTIF(L72:L92,AI28)","v":2},{"$f":"AJ28/(AL4-AJ25)","v":0.1},{"$f":"IF(AK28=0,0,(AK28*((LOG(AK28))/LOG(2))))","v":-0.33219280948873625},null,{"$f":"N28","v":21212},{"$f":"COUNTIF(L93:L114,AN28)","v":2},{"$f":"AO28/(AQ4-AO25)","v":9.5238095238095233E-2},{"$f":"IF(AP28=0,0,(AP28*((LOG(AP28))/LOG(2))))","v":-0.32307784978845333},null,{"$f":"N28","v":21212},{"$f":"COUNTIF(L115:L135,AS28)","v":1},{"$f":"AT28/(AV4-AT25)","v":4.7619047619047616E-2},{"$f":"IF(AU28=0,0,(AU28*((LOG(AU28))/LOG(2))))","v":-0.20915797251327431}]
[21,3678,11,3702,22,3713,14,3726,24,3739,0,21212,null,21221,{"$f":"COUNTIF($L$7:$L$500,N29)","v":0},{"$f":"O29/$Q$4","v":0},{"$f":"IF(P29=0,0,(P29*((LOG(P29))/LOG(2))))","v":0},null,null,{"$f":"N29","v":21221},{"$f":"COUNTIF(L7:L28,T29)","v":0},{"$f":"U29/(W4-U25)","v":0},{"$f":"IF(V29=0,0,(V29*((LOG(V29))/LOG(2))))","v":0},null,{"$f":"N29","v":21221},{"$f":"COUNTIF(L29:L49,Y29)","v":0},{"$f":"Z29/(AB4-Z25)","v":0},{"$f":"IF(AA29=0,0,(AA29*((LOG(AA29))/LOG(2))))","v":0},null,{"$f":"N29","v":21221},{"$f":"COUNTIF(L50:L71,AD29)","v":0},{"$f":"AE29/(AG4-AE25)","v":0},{"$f":"IF(AF29=0,0,(AF29*((LOG(AF29))/LOG(2))))","v":0},null,{"$f":"N29","v":21221},{"$f":"COUNTIF(L72:L92,AI29)","v":0},{"$f":"AJ29/(AL4-AJ25)","v":0},{"$f":"IF(AK29=0,0,(AK29*((LOG(AK29))/LOG(2))))","v":0},null,{"$f":"N29","v":21221},{"$f":"COUNTIF(L93:L114,AN29)","v":0},{"$f":"AO29/(AQ4-AO25)","v":0},{"$f":"IF(AP29=0,0,(AP29*((LOG(AP29))/LOG(2))))","v":0},null,{"$f":"N29","v":21221},{"$f":"COUNTIF(L115:L135,AS29)","v":0},{"$f":"AT29/(AV4-AT25)","v":0},{"$f":"IF(AU29=0,0,(AU29*((LOG(AU29))/LOG(2))))","v":0}]
[21,3857,22,3861,24,3870,14,3878,24,3891,0,22212,null,21222,{"$f":"COUNTIF($L$7:$L$500,N30)","v":0},{"$f":"O30/$Q$4","v":0},{"$f":"IF(P30=0,0,(P30*((LOG(P30))/LOG(2))))","v":0},null,null,{"$f":"N30","v":21222},{"$f":"COUNTIF(L7:L28,T30)","v":0},{"$f":"U30/(W4-U25)","v":0},{"$f":"IF(V30=0,0,(V30*((LOG(V30))/LOG(2))))","v":0},null,{"$f":"N30","v":21222},{"$f":"COUNTIF(L29:L49,Y30)","v":0},{"$f":"Z30/(AB4-Z25)","v":0},{"$f":"IF(AA30=0,0,(AA30*((LOG(AA30))/LOG(2))))","v":0},null,{"$f":"N30","v":21222},{"$f":"COUNTIF(L50:L71,AD30)","v":0},{"$f":"AE30/(AG4-AE25)","v":0},{"$f":"IF(AF30=0,0,(AF30*((LOG(AF30))/LOG(2))))","v":0},null,{"$f":"N30","v":21222},{"$f":"COUNTIF(L72:L92,AI30)","v":0},{"$f":"AJ30/(AL4-AJ25)","v":0},{"$f":"IF(AK30=0,0,(AK30*((LOG(AK30))/LOG(2))))","v":0},null,{"$f":"N30","v":21222},{"$f":"COUNTIF(L93:L114,AN30)","v":0},{"$f":"AO30/(AQ4-AO25)","v":0},{"$f":"IF(AP30=0,0,(AP30*((LOG(AP30))/LOG(2))))","v":0},null,{"$f":"N30","v":21222},{"$f":"COUNTIF(L115:L135,AS30)","v":0},{"$f":"AT30/(AV4-AT25)","v":0},{"$f":"IF(AU30=0,0,(AU30*((LOG(AU30))/LOG(2))))","v":0}]
[21,4005,22,4010,13,4020,14,4028,24,4041,0,22112,null,22111,{"$f":"COUNTIF($L$7:$L$500,N31)","v":9},{"$f":"O31/$Q$4","v":6.9767441860465115E-2},{"$f":"IF(P31=0,0,(P31*((LOG(P31))/LOG(2))))","v":-0.26799783167308894},null,null,{"$f":"N31","v":22111},{"$f":"COUNTIF(L7:L28,T31)","v":3},{"$f":"U31/(W4-U25)","v":0.14285714285714285},{"$f":"IF(V31=0,0,(V31*((LOG(V31))/LOG(2))))","v":-0.40105070315108626},null,{"$f":"N31","v":22111},{"$f":"COUNTIF(L29:L49,Y31)","v":1},{"$f":"Z31/(AB4-Z25)","v":4.7619047619047616E-2},{"$f":"IF(AA31=0,0,(AA31*((LOG(AA31))/LOG(2))))","v":-0.20915797251327431},null,{"$f":"N31","v":22111},{"$f":"COUNTIF(L50:L71,AD31)","v":0},{"$f":"AE31/(AG4-AE25)","v":0},{"$f":"IF(AF31=0,0,(AF31*((LOG(AF31))/LOG(2))))","v":0},null,{"$f":"N31","v":22111},{"$f":"COUNTIF(L72:L92,AI31)","v":1},{"$f":"AJ31/(AL4-AJ25)","v":0.05},{"$f":"IF(AK31=0,0,(AK31*((LOG(AK31))/LOG(2))))","v":-0.21609640474436814},null,{"$f":"N31","v":22111},{"$f":"COUNTIF(L93:L114,AN31)","v":4},{"$f":"AO31/(AQ4-AO25)","v":0.19047619047619047},{"$f":"IF(AP31=0,0,(AP31*((LOG(AP31))/LOG(2))))","v":-0.4556795091007162},null,{"$f":"N31","v":22111},{"$f":"COUNTIF(L115:L135,AS31)","v":0},{"$f":"AT31/(AV4-AT25)","v":0},{"$f":"IF(AU31=0,0,(AU31*((LOG(AU31))/LOG(2))))","v":0}]
[12,4172,24,4183,13,4204,23,4217,13,4229,0,12121,null,22112,{"$f":"COUNTIF($L$7:$L$500,N32)","v":7},{"$f":"O32/$Q$4","v":5.4263565891472867E-2},{"$f":"IF(P32=0,0,(P32*((LOG(P32))/LOG(2))))","v":-0.22811710336092675},null,null,{"$f":"N32","v":22112},{"$f":"COUNTIF(L7:L28,T32)","v":2},{"$f":"U32/(W4-U25)","v":9.5238095238095233E-2},{"$f":"IF(V32=0,0,(V32*((LOG(V32))/LOG(2))))","v":-0.32307784978845333},null,{"$f":"N32","v":22112},{"$f":"COUNTIF(L29:L49,Y32)","v":2},{"$f":"Z32/(AB4-Z25)","v":9.5238095238095233E-2},{"$f":"IF(AA32=0,0,(AA32*((LOG(AA32))/LOG(2))))","v":-0.32307784978845333},null,{"$f":"N32","v":22112},{"$f":"COUNTIF(L50:L71,AD32)","v":2},{"$f":"AE32/(AG4-AE25)","v":9.0909090909090912E-2},{"$f":"IF(AF32=0,0,(AF32*((LOG(AF32))/LOG(2))))","v":-0.31449378351248153},null,{"$f":"N32","v":22112},{"$f":"COUNTIF(L72:L92,AI32)","v":1},{"$f":"AJ32/(AL4-AJ25)","v":0.05},{"$f":"IF(AK32=0,0,(AK32*((LOG(AK32))/LOG(2))))","v":-0.21609640474436814},null,{"$f":"N32","v":22112},{"$f":"COUNTIF(L93:L114,AN32)","v":0},{"$f":"AO32/(AQ4-AO25)","v":0},{"$f":"IF(AP32=0,0,(AP32*((LOG(AP32))/LOG(2))))","v":0},null,{"$f":"N32","v":22112},{"$f":"COUNTIF(L115:L135,AS32)","v":0},{"$f":"AT32/(AV4-AT25)","v":0},{"$f":"IF(AU32=0,0,(AU32*((LOG(AU32))/LOG(2))))","v":0}]
[21,4351,22,4355,13,4366,14,4379,13,4389,0,22111,null,22121,{"$f":"COUNTIF($L$7:$L$500,N33)","v":17},{"$f":"O33/$Q$4","v":0.13178294573643412},{"$f":"IF(P33=0,0,(P33*((LOG(P33))/LOG(2))))","v":-0.38530228713906628},null,null,{"$f":"N33","v":22121},{"$f":"COUNTIF(L7:L28,T33)","v":1},{"$f":"U33/(W4-U25)","v":4.7619047619047616E-2},{"$f":"IF(V33=0,0,(V33*((LOG(V33))/LOG(2))))","v":-0.20915797251327431},null,{"$f":"N33","v":22121},{"$f":"COUNTIF(L29:L49,Y33)","v":3},{"$f":"Z33/(AB4-Z25)","v":0.14285714285714285},{"$f":"IF(AA33=0,0,(AA33*((LOG(AA33))/LOG(2))))","v":-0.40105070315108626},null,{"$f":"N33","v":22121},{"$f":"COUNTIF(L50:L71,AD33)","v":2},{"$f":"AE33/(AG4-AE25)","v":9.0909090909090912E-2},{"$f":"IF(AF33=0,0,(AF33*((LOG(AF33))/LOG(2))))","v":-0.31449378351248153},null,{"$f":"N33","v":22121},{"$f":"COUNTIF(L72:L92,AI33)","v":6},{"$f":"AJ33/(AL4-AJ25)","v":0.3},{"$f":"IF(AK33=0,0,(AK33*((LOG(AK33))/LOG(2))))","v":-0.52108967824986185},null,{"$f":"N33","v":22121},{"$f":"COUNTIF(L93:L114,AN33)","v":3},{"$f":"AO33/(AQ4-AO25)","v":0.14285714285714285},{"$f":"IF(AP33=0,0,(AP33*((LOG(AP33))/LOG(2))))","v":-0.40105070315108626},null,{"$f":"N33","v":22121},{"$f":"COUNTIF(L115:L135,AS33)","v":2},{"$f":"AT33/(AV4-AT25)","v":9.5238095238095233E-2},{"$f":"IF(AU33=0,0,(AU33*((LOG(AU33))/LOG(2))))","v":-0.32307784978845333}]
[12,4498,24,4507,13,4519,14,4527,13,4535,0,12111,null,22122,{"$f":"COUNTIF($L$7:$L$500,N34)","v":2},{"$f":"O34/$Q$4","v":1.5503875968992248E-2},{"$f":"IF(P34=0,0,(P34*((LOG(P34))/LOG(2))))","v":-9.3197321789507806E-2},null,null,{"$f":"N34","v":22122},{"$f":"COUNTIF(L7:L28,T34)","v":0},{"$f":"U34/(W4-U25)","v":0},{"$f":"IF(V34=0,0,(V34*((LOG(V34))/LOG(2))))","v":0},null,{"$f":"N34","v":22122},{"$f":"COUNTIF(L29:L49,Y34)","v":0},{"$f":"Z34/(AB4-Z25)","v":0},{"$f":"IF(AA34=0,0,(AA34*((LOG(AA34))/LOG(2))))","v":0},null,{"$f":"N34","v":22122},{"$f":"COUNTIF(L50:L71,AD34)","v":1},{"$f":"AE34/(AG4-AE25)","v":4.5454545454545456E-2},{"$f":"IF(AF34=0,0,(AF34*((LOG(AF34))/LOG(2))))","v":-0.20270143721078623},null,{"$f":"N34","v":22122},{"$f":"COUNTIF(L72:L92,AI34)","v":1},{"$f":"AJ34/(AL4-AJ25)","v":0.05},{"$f":"IF(AK34=0,0,(AK34*((LOG(AK34))/LOG(2))))","v":-0.21609640474436814},null,{"$f":"N34","v":22122},{"$f":"COUNTIF(L93:L114,AN34)","v":0},{"$f":"AO34/(AQ4-AO25)","v":0},{"$f":"IF(AP34=0,0,(AP34*((LOG(AP34))/LOG(2))))","v":0},null,{"$f":"N34","v":22122},{"$f":"COUNTIF(L115:L135,AS34)","v":0},{"$f":"AT34/(AV4-AT25)","v":0},{"$f":"IF(AU34=0,0,(AU34*((LOG(AU34))/LOG(2))))","v":0}]
[21,4638,22,4644,13,4657,23,4666,13,4677,0,22121,null,22211,{"$f":"COUNTIF($L$7:$L$500,N35)","v":7},{"$f":"O35/$Q$4","v":5.4263565891472867E-2},{"$f":"IF(P35=0,0,(P35*((LOG(P35))/LOG(2))))","v":-0.22811710336092675},null,null,{"$f":"N35","v":22211},{"$f":"COUNTIF(L7:L28,T35)","v":2},{"$f":"U35/(W4-U25)","v":9.5238095238095233E-2},{"$f":"IF(V35=0,0,(V35*((LOG(V35))/LOG(2))))","v":-0.32307784978845333},null,{"$f":"N35","v":22211},{"$f":"COUNTIF(L29:L49,Y35)","v":0},{"$f":"Z35/(AB4-Z25)","v":0},{"$f":"IF(AA35=0,0,(AA35*((LOG(AA35))/LOG(2))))","v":0},null,{"$f":"N35","v":22211},{"$f":"COUNTIF(L50:L71,AD35)","v":3},{"$f":"AE35/(AG4-AE25)","v":0.13636363636363635},{"$f":"IF(AF35=0,0,(AF35*((LOG(AF35))/LOG(2))))","v":-0.39197306153401923},null,{"$f":"N35","v":22211},{"$f":"COUNTIF(L72:L92,AI35)","v":0},{"$f":"AJ35/(AL4-AJ25)","v":0},{"$f":"IF(AK35=0,0,(AK35*((LOG(AK35))/LOG(2))))","v":0},null,{"$f":"N35","v":22211},{"$f":"COUNTIF(L93:L114,AN35)","v":1},{"$f":"AO35/(AQ4-AO25)","v":4.7619047619047616E-2},{"$f":"IF(AP35=0,0,(AP35*((LOG(AP35))/LOG(2))))","v":-0.20915797251327431},null,{"$f":"N35","v":22211},{"$f":"COUNTIF(L115:L135,AS35)","v":1},{"$f":"AT35/(AV4-AT25)","v":4.7619047619047616E-2},{"$f":"IF(AU35=0,0,(AU35*((LOG(AU35))/LOG(2))))","v":-0.20915797251327431}]
[21,4786,22,4793,13,4813,14,4822,24,4836,0,22112,null,22212,{"$f":"COUNTIF($L$7:$L$500,N36)","v":6},{"$f":"O36/$Q$4","v":4.6511627906976744E-2},{"$f":"IF(P36=0,0,(P36*((LOG(P36))/LOG(2))))","v":-0.20587277928846967},null,null,{"$f":"N36","v":22212},{"$f":"COUNTIF(L7:L28,T36)","v":1},{"$f":"U36/(W4-U25)","v":4.7619047619047616E-2},{"$f":"IF(V36=0,0,(V36*((LOG(V36))/LOG(2))))","v":-0.20915797251327431},null,{"$f":"N36","v":22212},{"$f":"COUNTIF(L29:L49,Y36)","v":1},{"$f":"Z36/(AB4-Z25)","v":4.7619047619047616E-2},{"$f":"IF(AA36=0,0,(AA36*((LOG(AA36))/LOG(2))))","v":-0.20915797251327431},null,{"$f":"N36","v":22212},{"$f":"COUNTIF(L50:L71,AD36)","v":0},{"$f":"AE36/(AG4-AE25)","v":0},{"$f":"IF(AF36=0,0,(AF36*((LOG(AF36))/LOG(2))))","v":0},null,{"$f":"N36","v":22212},{"$f":"COUNTIF(L72:L92,AI36)","v":1},{"$f":"AJ36/(AL4-AJ25)","v":0.05},{"$f":"IF(AK36=0,0,(AK36*((LOG(AK36))/LOG(2))))","v":-0.21609640474436814},null,{"$f":"N36","v":22212},{"$f":"COUNTIF(L93:L114,AN36)","v":3},{"$f":"AO36/(AQ4-AO25)","v":0.14285714285714285},{"$f":"IF(AP36=0,0,(AP36*((LOG(AP36))/LOG(2))))","v":-0.40105070315108626},null,{"$f":"N36","v":22212},{"$f":"COUNTIF(L115:L135,AS36)","v":0},{"$f":"AT36/(AV4-AT25)","v":0},{"$f":"IF(AU36=0,0,(AU36*((LOG(AU36))/LOG(2))))","v":0}]
[21,4943,22,4953,13,4966,23,4979,13,4991,0,22121,null,22221,{"$f":"COUNTIF($L$7:$L$500,N37)","v":0},{"$f":"O37/$Q$4","v":0},{"$f":"IF(P37=0,0,(P37*((LOG(P37))/LOG(2))))","v":0},null,null,{"$f":"N37","v":22221},{"$f":"COUNTIF(L7:L28,T37)","v":0},{"$f":"U37/(W4-U25)","v":0},{"$f":"IF(V37=0,0,(V37*((LOG(V37))/LOG(2))))","v":0},null,{"$f":"N37","v":22221},{"$f":"COUNTIF(L29:L49,Y37)","v":0},{"$f":"Z37/(AB4-Z25)","v":0},{"$f":"IF(AA37=0,0,(AA37*((LOG(AA37))/LOG(2))))","v":0},null,{"$f":"N37","v":22221},{"$f":"COUNTIF(L50:L71,AD37)","v":0},{"$f":"AE37/(AG4-AE25)","v":0},{"$f":"IF(AF37=0,0,(AF37*((LOG(AF37))/LOG(2))))","v":0},null,{"$f":"N37","v":22221},{"$f":"COUNTIF(L72:L92,AI37)","v":0},{"$f":"AJ37/(AL4-AJ25)","v":0},{"$f":"IF(AK37=0,0,(AK37*((LOG(AK37))/LOG(2))))","v":0},null,{"$f":"N37","v":22221},{"$f":"COUNTIF(L93:L114,AN37)","v":0},{"$f":"AO37/(AQ4-AO25)","v":0},{"$f":"IF(AP37=0,0,(AP37*((LOG(AP37))/LOG(2))))","v":0},null,{"$f":"N37","v":22221},{"$f":"COUNTIF(L115:L135,AS37)","v":0},{"$f":"AT37/(AV4-AT25)","v":0},{"$f":"IF(AU37=0,0,(AU37*((LOG(AU37))/LOG(2))))","v":0}]
[12,5091,24,5097,24,5105,14,5117,24,5127,0,12212,null,22222,{"$f":"COUNTIF($L$7:$L$500,N38)","v":0},{"$f":"O38/$Q$4","v":0},{"$f":"IF(P38=0,0,(P38*((LOG(P38))/LOG(2))))","v":0},null,null,{"$f":"N38","v":22222},{"$f":"COUNTIF(L7:L28,T38)","v":0},{"$f":"U38/(W4-U25)","v":0},{"$f":"IF(V38=0,0,(V38*((LOG(V38))/LOG(2))))","v":0},null,{"$f":"N38","v":22222},{"$f":"COUNTIF(L29:L49,Y38)","v":0},{"$f":"Z38/(AB4-Z25)","v":0},{"$f":"IF(AA38=0,0,(AA38*((LOG(AA38))/LOG(2))))","v":0},null,{"$f":"N38","v":22222},{"$f":"COUNTIF(L50:L71,AD38)","v":0},{"$f":"AE38/(AG4-AE25)","v":0},{"$f":"IF(AF38=0,0,(AF38*((LOG(AF38))/LOG(2))))","v":0},null,{"$f":"N38","v":22222},{"$f":"COUNTIF(L72:L92,AI38)","v":0},{"$f":"AJ38/(AL4-AJ25)","v":0},{"$f":"IF(AK38=0,0,(AK38*((LOG(AK38))/LOG(2))))","v":0},null,{"$f":"N38","v":22222},{"$f":"COUNTIF(L93:L114,AN38)","v":0},{"$f":"AO38/(AQ4-AO25)","v":0},{"$f":"IF(AP38=0,0,(AP38*((LOG(AP38))/LOG(2))))","v":0},null,{"$f":"N38","v":22222},{"$f":"COUNTIF(L115:L135,AS38)","v":0},{"$f":"AT38/(AV4-AT25)","v":0},{"$f":"IF(AU38=0,0,(AU38*((LOG(AU38))/LOG(2))))","v":0}]
[12,5256,24,5270,13,5289,14,5299,13,5311,0,12111,null,null,null,{"$f":"SUM(P7:P38)","v":1},{"$f":"-SUM(Q7:Q38)","v":4.1625207831389446},null,null,null,null,{"$f":"SUM(V7:V38)","v":0.99999999999999978},{"$f":"-SUM(W7:W38)","v":3.4632805178108108},null,null,null,{"$f":"SUM(AA7:AA38)","v":1},{"$f":"-SUM(AB7:AB38)","v":3.5585186130489062},null,null,null,{"$f":"SUM(AF7:AF38)","v":1},{"$f":"-SUM(AG7:AG38)","v":3.5726236638951638},null,null,null,{"$f":"SUM(AK7:AK38)","v":1.0000000000000002},{"$f":"-SUM(AL7:AL38)","v":3.2086949695628419},null,null,null,{"$f":"SUM(AP7:AP38)","v":1},{"$f":"-SUM(AQ7:AQ38)","v":2.9870900416203345},null,null,null,{"$f":"SUM(AU7:AU38)","v":1},{"$f":"-SUM(AV7:AV38)","v":3.3446983751597124}]
[21,5423,11,5436,22,5448,14,5460,24,5474,0,21212,null,null,null,"U=",{"$f":"Q39/(LOG(Q4)/LOG(2))","v":0.59369360477071886},null,null,null,null,"U1=",{"$f":"W39/(LOG(W4)/LOG(2))","v":0.77661926765212108},null,null,null,"U2=",{"$f":"AB39/(LOG(AB4)/LOG(2))","v":0.81016881762558068},null,null,null,"U3=",{"$f":"AG39/(LOG(AG4)/LOG(2))","v":0.80113879288205747},null,null,null,"U4=",{"$f":"AL39/(LOG(AL4)/LOG(2))","v":0.73052438171303424},null,null,null,"U5=",{"$f":"AQ39/(LOG(AQ4)/LOG(2))","v":0.66983649421518043},null,null,null,"U6=",{"$f":"AV39/(LOG(AV4)/LOG(2))","v":0.76148831088890623}]
[12,5575,13,5581,24,5592,23,5600,13,5611,0,11221]
[12,5718,24,5730,24,5739,14,5761,13,5776,0,12211]
[21,5902,11,5941,22,5950,14,5960,13,5968,0,21211,null,"Total Target Seq"]
[12,6067,13,6073,13,6080,14,6088,13,6096,0,11111,null,{"$f":"COUNTIF(L7:L135,G3)","v":3},null,22,21,22,21,22,21]
[12,6220,24,6230,13,6241,23,6254,13,6264,0,12121,null,null,null,"% of reinforcement given in 6 equal intervals based on number of trials "]
[12,6369,13,6377,13,6386,14,6394,13,6410,0,11111,null,null,null,"%_1","%_2","%_3","%_4","%_5","%_6"]
[12,6553,24,6563,13,6582,14,6607,24,6621,0,12112,null,null,"target sequence",{"$f":"$G$3","v":21121},{"$f":"$G$3","v":21121},{"$f":"$G$3","v":21121},{"$f":"$G$3","v":21121},{"$f":"$G$3","v":21121},{"$f":"$G$3","v":21121}]
[12,6750,24,6759,13,6775,23,6791,13,6807,0,12121,null,null,"total reinforcement",{"$f":"U25","v":1},{"$f":"Z25","v":0},{"$f":"AE25","v":0},{"$f":"AJ25","v":1},{"$f":"AO25","v":1},{"$f":"AT25","v":0}]
[21,6914,22,6920,13,6937,23,6945,13,6964,0,22121,null,null,"% target"]
[21,7092,22,7098,24,7116,14,7134,13,7143,0,22211,null,null,"CCRF"]
[21,7245,22,7249,13,7260,23,7269,24,7278,0,22122,null,null,"% CCRf"]
[21,7393,22,7409,24,7426,14,7437,13,7446,0,22211,null,null,"average response rate",{"$f":"J28/P44","v":161.77272727272728},{"$f":"(J49-J28)/Q44","v":162.14285714285714},{"$f":"(J71-J49)/R44","v":161.31818181818181},{"$f":"(J92-J71)/S44","v":157.42857142857142},{"$f":"(J114-J92)/T44","v":166.81818181818181},{"$f":"(J135-J114)/U44","v":309.8095238095238}]
[21,7553,22,7557,24,7573,14,7591,13,7598,0,22211]
[12,7738,24,7748,13,7759,23,7773,13,7785,0,12121]
[21,7907,11,7917,22,7929,14,7941,13,7971,0,21211]
[12,8074,24,8081,13,8092,14,8099,24,8112,0,12112]
[21,8224,11,8234,11,8239,12,8255,13,8264,0,21111]
[12,8372,13,8381,13,8386,14,8393,13,8401,0,11111]
[21,8503,22,8508,13,8517,14,8527,24,8542,0,22112]
[21,8642,22,8648,13,8665,23,8679,13,8690,0,22121]
[21,8794,22,8798,13,8810,14,8818,24,8828,0,22112]
[12,8933,24,8954,24,8963,14,8981,13,8998,0,12211]
[21,9100,11,9129,22,9137,14,9155,13,9165,0,21211]
[12,9273,24,9284,13,9294,14,9299,13,9304,0,12111]
[12,9434,13,9438,24,9452,14,9463,13,9473,0,11211]
[21,9579,11,9593,22,9602,14,9624,13,9637,0,21211]
[21,9743,22,9752,13,9764,23,9770,13,9781,0,22121]
[12,9894,24,9907,24,9915,14,9926,24,9942,0,12212]
[12,10103,13,10108,13,10113,14,10123,13,10130,0,11111]
[21,10230,11,10244,11,10248,12,10253,13,10260,0,21111]
[12,10460,13,10468,24,10481,14,10499,13,10513,0,11211]
[21,10650,22,10656,13,10666,23,10675,13,10694,0,22121]
[21,10808,11,10823,11,10827,12,10835,13,10843,0,21111]
[21,10947,11,10966,11,10983,21,10994,11,11005,1,21121]
[12,11099,13,11104,13,11110,14,11117,13,11124,0,11111]
[12,11224,24,11233,24,11248,23,11258,24,11282,0,12222]
[21,11387,11,11398,22,11407,14,11425,13,11446,0,21211]
[12,11549,13,11555,13,11560,14,11565,13,11572,0,11111]
[21,11722,22,11742,13,11756,23,11770,13,11789,0,22121]
[12,11896,13,11901,13,11908,23,11920,24,11929,0,11122]
[12,12048,24,12059,24,12068,14,12079,24,12093,0,12212]
[21,12204,22,12208,13,12222,23,12236,24,12271,0,22122]
[21,12379,11,12396,22,12404,14,12417,24,12426,0,21212]
[21,12532,11,12554,22,12565,14,12584,24,12598,0,21212]
[21,12703,22,12709,13,12723,23,12735,13,12747,0,22121]
[21,12855,22,12859,13,12874,23,12883,13,12894,0,22121]
[21,13015,22,13020,24,13026,14,13036,24,13050,0,22212]
[21,13150,22,13158,13,13177,14,13184,24,13199,0,22112]
[21,13307,22,13311,13,13330,14,13337,13,13346,0,22111]
[12,13485,13,13490,13,13495,14,13505,13,13512,0,11111]
[21,13622,22,13626,13,13642,23,13657,13,13675,0,22121]
[21,13787,22,13792,13,13802,23,13811,13,13819,0,22121]
[21,13925,22,13945,13,13956,23,13962,13,13971,0,22121]
[21,14073,22,14081,13,14093,14,14103,13,14110,0,22111]
[21,14213,22,14218,24,14226,14,14246,13,14252,0,22211]
[21,14378,22,14383,13,14395,23,14402,13,14421,0,22121]
[21,14588,11,14598,11,14606,21,14619,11,14638,1,21121]
[21,14737,22,14741,24,14747,14,14759,24,14772,0,22212]
[12,14871,13,14877,24,14890,14,14900,13,14907,0,11211]
[21,15020,11,15030,22,15039,14,15051,24,15065,0,21212]
[21,15171,22,15192,13,15208,14,15216,13,15248,0,22111]
[21,15355,22,15361,13,15375,23,15383,13,15395,0,22121]
[21,15501,11,15514,11,15518,12,15525,13,15533,0,21111]
[21,15637,22,15641,13,15662,14,15670,13,15680,0,22111]
[21,15788,11,15799,22,15809,14,15826,24,15840,0,21212]
[21,16000,11,16021,11,16030,12,16040,13,16050,0,21111]
[12,16163,24,16174,13,16186,23,16195,13,16215,0,12121]
[21,16321,11,16343,11,16348,12,16353,13,16359,0,21111]
[21,16527,11,16544,11,16555,12,16564,13,16598,0,21111]
[12,16729,13,16734,24,16748,14,16764,13,16773,0,11211]
[21,16887,22,16900,24,16908,14,16928,24,16940,0,22212]
[21,17080,22,17086,24,17091,14,17104,24,17121,0,22212]
[21,17276,22,17280,13,17289,14,17294,13,17326,0,22111]
[12,17455,24,17464,13,17473,14,17481,13,17489,0,12111]
[21,17634,22,17655,13,17667,23,17680,13,17701,0,22121]
[21,17841,22,17861,13,17870,23,17879,13,17891,0,22121]
[12,18058,13,18071,24,18080,14,18098,24,18111,0,11212]
[21,18258,11,18273,22,18280,14,18289,13,18297,0,21211]
[12,18411,24,18424,24,18429,14,18439,24,18453,0,12212]
[21,18585,11,18601,22,18611,14,18623,24,18634,0,21212]
[12,18822,24,18837,13,18848,14,18852,13,18857,0,12111]
[12,18962,24,18975,24,18980,14,18991,24,19000,0,12212]
[12,19229,13,19233,13,19241,14,19249,13,19259,0,11111]
[12,19601,24,19610,13,19619,14,19628,24,19641,0,12112]
[12,19995,24,20004,13,20013,14,20021,13,20030,0,12111]
[12,20273,13,20282,24,20295,14,20312,13,20321,0,11211]
[21,20518,22,20526,24,20531,14,20541,13,20549,0,22211]
[12,20977,13,20989,13,20994,14,21002,13,21009,0,11111]
[12,22597,13,22605,24,22632,14,22646,13,22655,0,11211]
[12,22797,13,22802,13,22808,23,22822,13,22834,0,11121]
[12,22962,13,22967,24,22976,14,22985,13,22990,0,11211]
[12,23214,24,23223,13,23237,14,23242,13,23251,0,12111]
[12,23648,24,23657,13,23674,23,23688,24,23695,0,12122]
[12,23804,13,23820,24,23828,14,23844,13,23853,0,11211]
[12,23968,24,23977,13,23983,14,23988,13,23995,null,12111]

{"sheet":"!N206800.091","index":19,"n_rows":152,"n_cols":48,"rows_kept":152,"cut":false,"hidden":false,"merged":[[4,39,4,42],[5,39,5,40],[4,44,4,47],[5,44,5,45],[4,24,4,27],[5,24,5,25],[4,29,4,32],[5,29,5,30],[4,34,4,37],[5,34,5,35],[1,1,1,2],[5,13,5,14],[42,13,42,14],[43,13,43,14],[4,19,4,22],[5,19,5,20]]}
["Report for:!N206800.091"]
["Date:","<date>"]
["Hen:","<hen>",null,null,null,"Correct Sequence",{"$f":"Start!J2","v":21121},null,null,null,null,null,null,null,null,"Total Sequences in Data",{"$f":"4994-COUNTBLANK(L7:L5000)","v":146},null,null,null,null,"Total Sequences in Block Data",{"$f":"COUNTA(L7:L30)","v":24},null,null,null,"Total Sequences in Block Data",{"$f":"COUNTA(L31:L55)","v":25},null,null,null,"Total Sequences in Block Data",{"$f":"COUNTA(L56:L79)","v":24},null,null,null,"Total Sequences in Block Data",{"$f":"COUNTA(L80:L103)","v":24},null,null,null,"Total Sequences in Block Data",{"$f":"COUNTA(L104:L128)","v":25},null,null,null,"Total Sequences in Block Data",{"$f":"COUNTA(L129:L152)","v":24}]
[null,null,null,null,null,null,null,null,null,null,null,null,null,null,null,"Total Sequences in Summary",{"$f":"SUM(O7:O38)","v":145},null,null,null,null,"Total Sequences in Block Summary",{"$f":"SUM(U7:U38)","v":24},null,null,null,"Total Sequences in Block Summary",{"$f":"SUM(Z7:Z38)","v":25},null,null,null,"Total Sequences in Block Summary",{"$f":"SUM(AE7:AE38)","v":24},null,null,null,"Total Sequences in Block Summary",{"$f":"SUM(AJ7:AJ38)","v":24},null,null,null,"Total Sequences in Block Summary",{"$f":"SUM(AO7:AO38)","v":25},null,null,null,"Total Sequences in Block Summary",{"$f":"SUM(AT7:AT38)","v":23}]
[null,null,null,null,null,null,null,null,null,null,null,null,null,null,null,null,null,null,null,"Block 1",null,null,null,null,"Block 2",null,null,null,null,"Block 3",null,null,null,null,"Block 4",null,null,null,null,"Block 5",null,null,null,null,"Block 6"]
["Sequence\nComponent\n1","Time\n1","Sequence\nComponent\n2","Time\n2","Sequence\nComponent\n3","Time\n3","Sequence\nComponent\n4","Time\n4","Sequence\nComponent\n5","Time\n5","Correct?\n0=No 1=Yes","Sequence",null,"Frequency",null,"Relative Frequency","Variability",null,null,"Frequency",null,"Relative Frequency","Variability",null,"Frequency",null,"Relative Frequency","Variability",null,"Frequency",null,"Relative Frequency","Variability",null,"Frequency",null,"Relative Frequency","Variability",null,"Frequency",null,"Relative Frequency","Variability",null,"Frequency",null,"Relative Frequency","Variability"]
[12,33,13,35,13,41,14,50,24,63,0,11112,null,11111,{"$f":"COUNTIF($L$7:$L$500,N7)","v":9},{"$f":"O7/$Q$4","v":6.2068965517241378E-2},{"$f":"IF(P7=0,0,(P7*((LOG(P7))/LOG(2))))","v":-0.24889556411830069},null,null,{"$f":"N7","v":11111},{"$f":"COUNTIF(L7:L30,T7)","v":1},{"$f":"U7/(W4-U25)","v":4.3478260869565216E-2},{"$f":"IF(V7=0,0,(V7*((LOG(V7))/LOG(2))))","v":-0.19667660678508753},null,{"$f":"N7","v":11111},{"$f":"COUNTIF(L31:L55,Y7)","v":4},{"$f":"Z7/(AB4-Z25)","v":0.16},{"$f":"IF(AA7=0,0,(AA7*((LOG(AA7))/LOG(2))))","v":-0.42301699036395596},null,{"$f":"N7","v":11111},{"$f":"COUNTIF(L56:L79,AD7)","v":2},{"$f":"AE7/(AG4-AE25)","v":9.5238095238095233E-2},{"$f":"IF(AF7=0,0,(AF7*((LOG(AF7))/LOG(2))))","v":-0.32307784978845333},null,{"$f":"N7","v":11111},{"$f":"COUNTIF(L80:L103,AI7)","v":0},{"$f":"AJ7/(AL4-AJ25)","v":0},{"$f":"IF(AK7=0,0,(AK7*((LOG(AK7))/LOG(2))))","v":0},null,{"$f":"N7","v":11111},{"$f":"COUNTIF(L104:L128,AN7)","v":1},{"$f":"AO7/(AQ4-AO25)","v":4.1666666666666664E-2},{"$f":"IF(AP7=0,0,(AP7*((LOG(AP7))/LOG(2))))","v":-0.19104010419671485},null,{"$f":"N7","v":11111},{"$f":"COUNTIF(L129:L152,AS7)","v":1},{"$f":"AT7/(AV4-AT25)","v":4.3478260869565216E-2},{"$f":"IF(AU7=0,0,(AU7*((LOG(AU7))/LOG(2))))","v":-0.19667660678508753}]
[12,198,24,215,13,223,14,232,13,242,0,12111,null,11112,{"$f":"COUNTIF($L$7:$L$500,N8)","v":2},{"$f":"O8/$Q$4","v":1.3793103448275862E-2},{"$f":"IF(P8=0,0,(P8*((LOG(P8))/LOG(2))))","v":-8.5240125379516335E-2},null,null,{"$f":"N8","v":11112},{"$f":"COUNTIF(L7:L30,T8)","v":2},{"$f":"U8/(W4-U25)","v":8.6956521739130432E-2},{"$f":"IF(V8=0,0,(V8*((LOG(V8))/LOG(2))))","v":-0.30639669183104457},null,{"$f":"N8","v":11112},{"$f":"COUNTIF(L31:L55,Y8)","v":0},{"$f":"Z8/(AB4-Z25)","v":0},{"$f":"IF(AA8=0,0,(AA8*((LOG(AA8))/LOG(2))))","v":0},null,{"$f":"N8","v":11112},{"$f":"COUNTIF(L56:L79,AD8)","v":0},{"$f":"AE8/(AG4-AE25)","v":0},{"$f":"IF(AF8=0,0,(AF8*((LOG(AF8))/LOG(2))))","v":0},null,{"$f":"N8","v":11112},{"$f":"COUNTIF(L80:L103,AI8)","v":0},{"$f":"AJ8/(AL4-AJ25)","v":0},{"$f":"IF(AK8=0,0,(AK8*((LOG(AK8))/LOG(2))))","v":0},null,{"$f":"N8","v":11112},{"$f":"COUNTIF(L104:L128,AN8)","v":0},{"$f":"AO8/(AQ4-AO25)","v":0},{"$f":"IF(AP8=0,0,(AP8*((LOG(AP8))/LOG(2))))","v":0},null,{"$f":"N8","v":11112},{"$f":"COUNTIF(L129:L152,AS8)","v":0},{"$f":"AT8/(AV4-AT25)","v":0},{"$f":"IF(AU8=0,0,(AU8*((LOG(AU8))/LOG(2))))","v":0}]
[21,349,11,360,22,372,14,384,13,393,0,21211,null,11121,{"$f":"COUNTIF($L$7:$L$500,N9)","v":2},{"$f":"O9/$Q$4","v":1.3793103448275862E-2},{"$f":"IF(P9=0,0,(P9*((LOG(P9))/LOG(2))))","v":-8.5240125379516335E-2},null,null,{"$f":"N9","v":11121},{"$f":"COUNTIF(L7:L30,T9)","v":1},{"$f":"U9/(W4-U25)","v":4.3478260869565216E-2},{"$f":"IF(V9=0,0,(V9*((LOG(V9))/LOG(2))))","v":-0.19667660678508753},null,{"$f":"N9","v":11121},{"$f":"COUNTIF(L31:L55,Y9)","v":1},{"$f":"Z9/(AB4-Z25)","v":0.04},{"$f":"IF(AA9=0,0,(AA9*((LOG(AA9))/LOG(2))))","v":-0.18575424759098899},null,{"$f":"N9","v":11121},{"$f":"COUNTIF(L56:L79,AD9)","v":0},{"$f":"AE9/(AG4-AE25)","v":0},{"$f":"IF(AF9=0,0,(AF9*((LOG(AF9))/LOG(2))))","v":0},null,{"$f":"N9","v":11121},{"$f":"COUNTIF(L80:L103,AI9)","v":0},{"$f":"AJ9/(AL4-AJ25)","v":0},{"$f":"IF(AK9=0,0,(AK9*((LOG(AK9))/LOG(2))))","v":0},null,{"$f":"N9","v":11121},{"$f":"COUNTIF(L104:L128,AN9)","v":0},{"$f":"AO9/(AQ4-AO25)","v":0},{"$f":"IF(AP9=0,0,(AP9*((LOG(AP9))/LOG(2))))","v":0},null,{"$f":"N9","v":11121},{"$f":"COUNTIF(L129:L152,AS9)","v":0},{"$f":"AT9/(AV4-AT25)","v":0},{"$f":"IF(AU9=0,0,(AU9*((LOG(AU9))/LOG(2))))","v":0}]
[12,493,24,507,13,515,14,523,13,532,0,12111,null,11122,{"$f":"COUNTIF($L$7:$L$500,N10)","v":0},{"$f":"O10/$Q$4","v":0},{"$f":"IF(P10=0,0,(P10*((LOG(P10))/LOG(2))))","v":0},null,null,{"$f":"N10","v":11122},{"$f":"COUNTIF(L7:L30,T10)","v":0},{"$f":"U10/(W4-U25)","v":0},{"$f":"IF(V10=0,0,(V10*((LOG(V10))/LOG(2))))","v":0},null,{"$f":"N10","v":11122},{"$f":"COUNTIF(L31:L55,Y10)","v":0},{"$f":"Z10/(AB4-Z25)","v":0},{"$f":"IF(AA10=0,0,(AA10*((LOG(AA10))/LOG(2))))","v":0},null,{"$f":"N10","v":11122},{"$f":"COUNTIF(L56:L79,AD10)","v":0},{"$f":"AE10/(AG4-AE25)","v":0},{"$f":"IF(AF10=0,0,(AF10*((LOG(AF10))/LOG(2))))","v":0},null,{"$f":"N10","v":11122},{"$f":"COUNTIF(L80:L103,AI10)","v":0},{"$f":"AJ10/(AL4-AJ25)","v":0},{"$f":"IF(AK10=0,0,(AK10*((LOG(AK10))/LOG(2))))","v":0},null,{"$f":"N10","v":11122},{"$f":"COUNTIF(L104:L128,AN10)","v":0},{"$f":"AO10/(AQ4-AO25)","v":0},{"$f":"IF(AP10=0,0,(AP10*((LOG(AP10))/LOG(2))))","v":0},null,{"$f":"N10","v":11122},{"$f":"COUNTIF(L129:L152,AS10)","v":0},{"$f":"AT10/(AV4-AT25)","v":0},{"$f":"IF(AU10=0,0,(AU10*((LOG(AU10))/LOG(2))))","v":0}]
[12,633,24,652,13,663,14,672,13,682,0,12111,null,11211,{"$f":"COUNTIF($L$7:$L$500,N11)","v":1},{"$f":"O11/$Q$4","v":6.8965517241379309E-3},{"$f":"IF(P11=0,0,(P11*((LOG(P11))/LOG(2))))","v":-4.9516614413896098E-2},null,null,{"$f":"N11","v":11211},{"$f":"COUNTIF(L7:L30,T11)","v":1},{"$f":"U11/(W4-U25)","v":4.3478260869565216E-2},{"$f":"IF(V11=0,0,(V11*((LOG(V11))/LOG(2))))","v":-0.19667660678508753},null,{"$f":"N11","v":11211},{"$f":"COUNTIF(L31:L55,Y11)","v":0},{"$f":"Z11/(AB4-Z25)","v":0},{"$f":"IF(AA11=0,0,(AA11*((LOG(AA11))/LOG(2))))","v":0},null,{"$f":"N11","v":11211},{"$f":"COUNTIF(L56:L79,AD11)","v":0},{"$f":"AE11/(AG4-AE25)","v":0},{"$f":"IF(AF11=0,0,(AF11*((LOG(AF11))/LOG(2))))","v":0},null,{"$f":"N11","v":11211},{"$f":"COUNTIF(L80:L103,AI11)","v":0},{"$f":"AJ11/(AL4-AJ25)","v":0},{"$f":"IF(AK11=0,0,(AK11*((LOG(AK11))/LOG(2))))","v":0},null,{"$f":"N11","v":11211},{"$f":"COUNTIF(L104:L128,AN11)","v":0},{"$f":"AO11/(AQ4-AO25)","v":0},{"$f":"IF(AP11=0,0,(AP11*((LOG(AP11))/LOG(2))))","v":0},null,{"$f":"N11","v":11211},{"$f":"COUNTIF(L129:L152,AS11)","v":0},{"$f":"AT11/(AV4-AT25)","v":0},{"$f":"IF(AU11=0,0,(AU11*((LOG(AU11))/LOG(2))))","v":0}]
[21,793,11,811,11,823,12,858,13,867,0,21111,null,11212,{"$f":"COUNTIF($L$7:$L$500,N12)","v":0},{"$f":"O12/$Q$4","v":0},{"$f":"IF(P12=0,0,(P12*((LOG(P12))/LOG(2))))","v":0},null,null,{"$f":"N12","v":11212},{"$f":"COUNTIF(L7:L30,T12)","v":0},{"$f":"U12/(W4-U25)","v":0},{"$f":"IF(V12=0,0,(V12*((LOG(V12))/LOG(2))))","v":0},null,{"$f":"N12","v":11212},{"$f":"COUNTIF(L31:L55,Y12)","v":0},{"$f":"Z12/(AB4-Z25)","v":0},{"$f":"IF(AA12=0,0,(AA12*((LOG(AA12))/LOG(2))))","v":0},null,{"$f":"N12","v":11212},{"$f":"COUNTIF(L56:L79,AD12)","v":0},{"$f":"AE12/(AG4-AE25)","v":0},{"$f":"IF(AF12=0,0,(AF12*((LOG(AF12))/LOG(2))))","v":0},null,{"$f":"N12","v":11212},{"$f":"COUNTIF(L80:L103,AI12)","v":0},{"$f":"AJ12/(AL4-AJ25)","v":0},{"$f":"IF(AK12=0,0,(AK12*((LOG(AK12))/LOG(2))))","v":0},null,{"$f":"N12","v":11212},{"$f":"COUNTIF(L104:L128,AN12)","v":0},{"$f":"AO12/(AQ4-AO25)","v":0},{"$f":"IF(AP12=0,0,(AP12*((LOG(AP12))/LOG(2))))","v":0},null,{"$f":"N12","v":11212},{"$f":"COUNTIF(L129:L152,AS12)","v":0},{"$f":"AT12/(AV4-AT25)","v":0},{"$f":"IF(AU12=0,0,(AU12*((LOG(AU12))/LOG(2))))","v":0}]
[21,974,11,983,22,992,14,1001,13,1010,0,21211,null,11221,{"$f":"COUNTIF($L$7:$L$500,N13)","v":0},{"$f":"O13/$Q$4","v":0},{"$f":"IF(P13=0,0,(P13*((LOG(P13))/LOG(2))))","v":0},null,null,{"$f":"N13","v":11221},{"$f":"COUNTIF(L7:L30,T13)","v":0},{"$f":"U13/(W4-U25)","v":0},{"$f":"IF(V13=0,0,(V13*((LOG(V13))/LOG(2))))","v":0},null,{"$f":"N13","v":11221},{"$f":"COUNTIF(L31:L55,Y13)","v":0},{"$f":"Z13/(AB4-Z25)","v":0},{"$f":"IF(AA13=0,0,(AA13*((LOG(AA13))/LOG(2))))","v":0},null,{"$f":"N13","v":11221},{"$f":"COUNTIF(L56:L79,AD13)","v":0},{"$f":"AE13/(AG4-AE25)","v":0},{"$f":"IF(AF13=0,0,(AF13*((LOG(AF13))/LOG(2))))","v":0},null,{"$f":"N13","v":11221},{"$f":"COUNTIF(L80:L103,AI13)","v":0},{"$f":"AJ13/(AL4-AJ25)","v":0},{"$f":"IF(AK13=0,0,(AK13*((LOG(AK13))/LOG(2))))","v":0},null,{"$f":"N13","v":11221},{"$f":"COUNTIF(L104:L128,AN13)","v":0},{"$f":"AO13/(AQ4-AO25)","v":0},{"$f":"IF(AP13=0,0,(AP13*((LOG(AP13))/LOG(2))))","v":0},null,{"$f":"N13","v":11221},{"$f":"COUNTIF(L129:L152,AS13)","v":0},{"$f":"AT13/(AV4-AT25)","v":0},{"$f":"IF(AU13=0,0,(AU13*((LOG(AU13))/LOG(2))))","v":0}]
[12,1127,13,1131,13,1138,14,1147,13,1156,0,11111,null,11222,{"$f":"COUNTIF($L$7:$L$500,N14)","v":0},{"$f":"O14/$Q$4","v":0},{"$f":"IF(P14=0,0,(P14*((LOG(P14))/LOG(2))))","v":0},null,null,{"$f":"N14","v":11222},{"$f":"COUNTIF(L7:L30,T14)","v":0},{"$f":"U14/(W4-U25)","v":0},{"$f":"IF(V14=0,0,(V14*((LOG(V14))/LOG(2))))","v":0},null,{"$f":"N14","v":11222},{"$f":"COUNTIF(L31:L55,Y14)","v":0},{"$f":"Z14/(AB4-Z25)","v":0},{"$f":"IF(AA14=0,0,(AA14*((LOG(AA14))/LOG(2))))","v":0},null,{"$f":"N14","v":11222},{"$f":"COUNTIF(L56:L79,AD14)","v":0},{"$f":"AE14/(AG4-AE25)","v":0},{"$f":"IF(AF14=0,0,(AF14*((LOG(AF14))/LOG(2))))","v":0},null,{"$f":"N14","v":11222},{"$f":"COUNTIF(L80:L103,AI14)","v":0},{"$f":"AJ14/(AL4-AJ25)","v":0},{"$f":"IF(AK14=0,0,(AK14*((LOG(AK14))/LOG(2))))","v":0},null,{"$f":"N14","v":11222},{"$f":"COUNTIF(L104:L128,AN14)","v":0},{"$f":"AO14/(AQ4-AO25)","v":0},{"$f":"IF(AP14=0,0,(AP14*((LOG(AP14))/LOG(2))))","v":0},null,{"$f":"N14","v":11222},{"$f":"COUNTIF(L129:L152,AS14)","v":0},{"$f":"AT14/(AV4-AT25)","v":0},{"$f":"IF(AU14=0,0,(AU14*((LOG(AU14))/LOG(2))))","v":0}]
[21,1267,22,1275,13,1285,14,1294,13,1306,0,22111,null,12111,{"$f":"COUNTIF($L$7:$L$500,N15)","v":8},{"$f":"O15/$Q$4","v":5.5172413793103448E-2},{"$f":"IF(P15=0,0,(P15*((LOG(P15))/LOG(2))))","v":-0.23061567393185844},null,null,{"$f":"N15","v":12111},{"$f":"COUNTIF(L7:L30,T15)","v":3},{"$f":"U15/(W4-U25)","v":0.13043478260869565},{"$f":"IF(V15=0,0,(V15*((LOG(V15))/LOG(2))))","v":-0.3832955811307639},null,{"$f":"N15","v":12111},{"$f":"COUNTIF(L31:L55,Y15)","v":1},{"$f":"Z15/(AB4-Z25)","v":0.04},{"$f":"IF(AA15=0,0,(AA15*((LOG(AA15))/LOG(2))))","v":-0.18575424759098899},null,{"$f":"N15","v":12111},{"$f":"COUNTIF(L56:L79,AD15)","v":1},{"$f":"AE15/(AG4-AE25)","v":4.7619047619047616E-2},{"$f":"IF(AF15=0,0,(AF15*((LOG(AF15))/LOG(2))))","v":-0.20915797251327431},null,{"$f":"N15","v":12111},{"$f":"COUNTIF(L80:L103,AI15)","v":3},{"$f":"AJ15/(AL4-AJ25)","v":0.13043478260869565},{"$f":"IF(AK15=0,0,(AK15*((LOG(AK15))/LOG(2))))","v":-0.3832955811307639},null,{"$f":"N15","v":12111},{"$f":"COUNTIF(L104:L128,AN15)","v":0},{"$f":"AO15/(AQ4-AO25)","v":0},{"$f":"IF(AP15=0,0,(AP15*((LOG(AP15))/LOG(2))))","v":0},null,{"$f":"N15","v":12111},{"$f":"COUNTIF(L129:L152,AS15)","v":0},{"$f":"AT15/(AV4-AT25)","v":0},{"$f":"IF(AU15=0,0,(AU15*((LOG(AU15))/LOG(2))))","v":0}]
[21,1420,11,1435,11,1444,21,1457,11,1469,1,21121,null,12112,{"$f":"COUNTIF($L$7:$L$500,N16)","v":3},{"$f":"O16/$Q$4","v":2.0689655172413793E-2},{"$f":"IF(P16=0,0,(P16*((LOG(P16))/LOG(2))))","v":-0.11575751564056093},null,null,{"$f":"N16","v":12112},{"$f":"COUNTIF(L7:L30,T16)","v":2},{"$f":"U16/(W4-U25)","v":8.6956521739130432E-2},{"$f":"IF(V16=0,0,(V16*((LOG(V16))/LOG(2))))","v":-0.30639669183104457},null,{"$f":"N16","v":12112},{"$f":"COUNTIF(L31:L55,Y16)","v":0},{"$f":"Z16/(AB4-Z25)","v":0},{"$f":"IF(AA16=0,0,(AA16*((LOG(AA16))/LOG(2))))","v":0},null,{"$f":"N16","v":12112},{"$f":"COUNTIF(L56:L79,AD16)","v":1},{"$f":"AE16/(AG4-AE25)","v":4.7619047619047616E-2},{"$f":"IF(AF16=0,0,(AF16*((LOG(AF16))/LOG(2))))","v":-0.20915797251327431},null,{"$f":"N16","v":12112},{"$f":"COUNTIF(L80:L103,AI16)","v":0},{"$f":"AJ16/(AL4-AJ25)","v":0},{"$f":"IF(AK16=0,0,(AK16*((LOG(AK16))/LOG(2))))","v":0},null,{"$f":"N16","v":12112},{"$f":"COUNTIF(L104:L128,AN16)","v":0},{"$f":"AO16/(AQ4-AO25)","v":0},{"$f":"IF(AP16=0,0,(AP16*((LOG(AP16))/LOG(2))))","v":0},null,{"$f":"N16","v":12112},{"$f":"COUNTIF(L129:L152,AS16)","v":0},{"$f":"AT16/(AV4-AT25)","v":0},{"$f":"IF(AU16=0,0,(AU16*((LOG(AU16))/LOG(2))))","v":0}]
[12,1565,13,1575,24,1586,14,1597,13,1610,0,11211,null,12121,{"$f":"COUNTIF($L$7:$L$500,N17)","v":2},{"$f":"O17/$Q$4","v":1.3793103448275862E-2},{"$f":"IF(P17=0,0,(P17*((LOG(P17))/LOG(2))))","v":-8.5240125379516335E-2},null,null,{"$f":"N17","v":12121},{"$f":"COUNTIF(L7:L30,T17)","v":1},{"$f":"U17/(W4-U25)","v":4.3478260869565216E-2},{"$f":"IF(V17=0,0,(V17*((LOG(V17))/LOG(2))))","v":-0.19667660678508753},null,{"$f":"N17","v":12121},{"$f":"COUNTIF(L31:L55,Y17)","v":0},{"$f":"Z17/(AB4-Z25)","v":0},{"$f":"IF(AA17=0,0,(AA17*((LOG(AA17))/LOG(2))))","v":0},null,{"$f":"N17","v":12121},{"$f":"COUNTIF(L56:L79,AD17)","v":0},{"$f":"AE17/(AG4-AE25)","v":0},{"$f":"IF(AF17=0,0,(AF17*((LOG(AF17))/LOG(2))))","v":0},null,{"$f":"N17","v":12121},{"$f":"COUNTIF(L80:L103,AI17)","v":1},{"$f":"AJ17/(AL4-AJ25)","v":4.3478260869565216E-2},{"$f":"IF(AK17=0,0,(AK17*((LOG(AK17))/LOG(2))))","v":-0.19667660678508753},null,{"$f":"N17","v":12121},{"$f":"COUNTIF(L104:L128,AN17)","v":0},{"$f":"AO17/(AQ4-AO25)","v":0},{"$f":"IF(AP17=0,0,(AP17*((LOG(AP17))/LOG(2))))","v":0},null,{"$f":"N17","v":12121},{"$f":"COUNTIF(L129:L152,AS17)","v":0},{"$f":"AT17/(AV4-AT25)","v":0},{"$f":"IF(AU17=0,0,(AU17*((LOG(AU17))/LOG(2))))","v":0}]
[12,1712,13,1719,13,1727,14,1733,24,1744,0,11112,null,12122,{"$f":"COUNTIF($L$7:$L$500,N18)","v":0},{"$f":"O18/$Q$4","v":0},{"$f":"IF(P18=0,0,(P18*((LOG(P18))/LOG(2))))","v":0},null,null,{"$f":"N18","v":12122},{"$f":"COUNTIF(L7:L30,T18)","v":0},{"$f":"U18/(W4-U25)","v":0},{"$f":"IF(V18=0,0,(V18*((LOG(V18))/LOG(2))))","v":0},null,{"$f":"N18","v":12122},{"$f":"COUNTIF(L31:L55,Y18)","v":0},{"$f":"Z18/(AB4-Z25)","v":0},{"$f":"IF(AA18=0,0,(AA18*((LOG(AA18))/LOG(2))))","v":0},null,{"$f":"N18","v":12122},{"$f":"COUNTIF(L56:L79,AD18)","v":0},{"$f":"AE18/(AG4-AE25)","v":0},{"$f":"IF(AF18=0,0,(AF18*((LOG(AF18))/LOG(2))))","v":0},null,{"$f":"N18","v":12122},{"$f":"COUNTIF(L80:L103,AI18)","v":0},{"$f":"AJ18/(AL4-AJ25)","v":0},{"$f":"IF(AK18=0,0,(AK18*((LOG(AK18))/LOG(2))))","v":0},null,{"$f":"N18","v":12122},{"$f":"COUNTIF(L104:L128,AN18)","v":0},{"$f":"AO18/(AQ4-AO25)","v":0},{"$f":"IF(AP18=0,0,(AP18*((LOG(AP18))/LOG(2))))","v":0},null,{"$f":"N18","v":12122},{"$f":"COUNTIF(L129:L152,AS18)","v":0},{"$f":"AT18/(AV4-AT25)","v":0},{"$f":"IF(AU18=0,0,(AU18*((LOG(AU18))/LOG(2))))","v":0}]
[21,1854,22,1859,24,1876,14,1886,13,1895,0,22211,null,12211,{"$f":"COUNTIF($L$7:$L$500,N19)","v":1},{"$f":"O19/$Q$4","v":6.8965517241379309E-3},{"$f":"IF(P19=0,0,(P19*((LOG(P19))/LOG(2))))","v":-4.9516614413896098E-2},null,null,{"$f":"N19","v":12211},{"$f":"COUNTIF(L7:L30,T19)","v":0},{"$f":"U19/(W4-U25)","v":0},{"$f":"IF(V19=0,0,(V19*((LOG(V19))/LOG(2))))","v":0},null,{"$f":"N19","v":12211},{"$f":"COUNTIF(L31:L55,Y19)","v":1},{"$f":"Z19/(AB4-Z25)","v":0.04},{"$f":"IF(AA19=0,0,(AA19*((LOG(AA19))/LOG(2))))","v":-0.18575424759098899},null,{"$f":"N19","v":12211},{"$f":"COUNTIF(L56:L79,AD19)","v":0},{"$f":"AE19/(AG4-AE25)","v":0},{"$f":"IF(AF19=0,0,(AF19*((LOG(AF19))/LOG(2))))","v":0},null,{"$f":"N19","v":12211},{"$f":"COUNTIF(L80:L103,AI19)","v":0},{"$f":"AJ19/(AL4-AJ25)","v":0},{"$f":"IF(AK19=0,0,(AK19*((LOG(AK19))/LOG(2))))","v":0},null,{"$f":"N19","v":12211},{"$f":"COUNTIF(L104:L128,AN19)","v":0},{"$f":"AO19/(AQ4-AO25)","v":0},{"$f":"IF(AP19=0,0,(AP19*((LOG(AP19))/LOG(2))))","v":0},null,{"$f":"N19","v":12211},{"$f":"COUNTIF(L129:L152,AS19)","v":0},{"$f":"AT19/(AV4-AT25)","v":0},{"$f":"IF(AU19=0,0,(AU19*((LOG(AU19))/LOG(2))))","v":0}]
[12,1997,24,2007,13,2018,23,2032,13,2043,0,12121,null,12212,{"$f":"COUNTIF($L$7:$L$500,N20)","v":5},{"$f":"O20/$Q$4","v":3.4482758620689655E-2},{"$f":"IF(P20=0,0,(P20*((LOG(P20))/LOG(2))))","v":-0.16751658603888178},null,null,{"$f":"N20","v":12212},{"$f":"COUNTIF(L7:L30,T20)","v":1},{"$f":"U20/(W4-U25)","v":4.3478260869565216E-2},{"$f":"IF(V20=0,0,(V20*((LOG(V20))/LOG(2))))","v":-0.19667660678508753},null,{"$f":"N20","v":12212},{"$f":"COUNTIF(L31:L55,Y20)","v":2},{"$f":"Z20/(AB4-Z25)","v":0.08},{"$f":"IF(AA20=0,0,(AA20*((LOG(AA20))/LOG(2))))","v":-0.29150849518197797},null,{"$f":"N20","v":12212},{"$f":"COUNTIF(L56:L79,AD20)","v":1},{"$f":"AE20/(AG4-AE25)","v":4.7619047619047616E-2},{"$f":"IF(AF20=0,0,(AF20*((LOG(AF20))/LOG(2))))","v":-0.20915797251327431},null,{"$f":"N20","v":12212},{"$f":"COUNTIF(L80:L103,AI20)","v":0},{"$f":"AJ20/(AL4-AJ25)","v":0},{"$f":"IF(AK20=0,0,(AK20*((LOG(AK20))/LOG(2))))","v":0},null,{"$f":"N20","v":12212},{"$f":"COUNTIF(L104:L128,AN20)","v":1},{"$f":"AO20/(AQ4-AO25)","v":4.1666666666666664E-2},{"$f":"IF(AP20=0,0,(AP20*((LOG(AP20))/LOG(2))))","v":-0.19104010419671485},null,{"$f":"N20","v":12212},{"$f":"COUNTIF(L129:L152,AS20)","v":0},{"$f":"AT20/(AV4-AT25)","v":0},{"$f":"IF(AU20=0,0,(AU20*((LOG(AU20))/LOG(2))))","v":0}]
[12,2150,24,2161,13,2172,14,2180,24,2192,0,12112,null,12221,{"$f":"COUNTIF($L$7:$L$500,N21)","v":0},{"$f":"O21/$Q$4","v":0},{"$f":"IF(P21=0,0,(P21*((LOG(P21))/LOG(2))))","v":0},null,null,{"$f":"N21","v":12221},{"$f":"COUNTIF(L7:L30,T21)","v":0},{"$f":"U21/(W4-U25)","v":0},{"$f":"IF(V21=0,0,(V21*((LOG(V21))/LOG(2))))","v":0},null,{"$f":"N21","v":12221},{"$f":"COUNTIF(L31:L55,Y21)","v":0},{"$f":"Z21/(AB4-Z25)","v":0},{"$f":"IF(AA21=0,0,(AA21*((LOG(AA21))/LOG(2))))","v":0},null,{"$f":"N21","v":12221},{"$f":"COUNTIF(L56:L79,AD21)","v":0},{"$f":"AE21/(AG4-AE25)","v":0},{"$f":"IF(AF21=0,0,(AF21*((LOG(AF21))/LOG(2))))","v":0},null,{"$f":"N21","v":12221},{"$f":"COUNTIF(L80:L103,AI21)","v":0},{"$f":"AJ21/(AL4-AJ25)","v":0},{"$f":"IF(AK21=0,0,(AK21*((LOG(AK21))/LOG(2))))","v":0},null,{"$f":"N21","v":12221},{"$f":"COUNTIF(L104:L128,AN21)","v":0},{"$f":"AO21/(AQ4-AO25)","v":0},{"$f":"IF(AP21=0,0,(AP21*((LOG(AP21))/LOG(2))))","v":0},null,{"$f":"N21","v":12221},{"$f":"COUNTIF(L129:L152,AS21)","v":0},{"$f":"AT21/(AV4-AT25)","v":0},{"$f":"IF(AU21=0,0,(AU21*((LOG(AU21))/LOG(2))))","v":0}]
[12,2304,13,2322,13,2330,23,2345,13,2357,0,11121,null,12222,{"$f":"COUNTIF($L$7:$L$500,N22)","v":0},{"$f":"O22/$Q$4","v":0},{"$f":"IF(P22=0,0,(P22*((LOG(P22))/LOG(2))))","v":0},null,null,{"$f":"N22","v":12222},{"$f":"COUNTIF(L7:L30,T22)","v":0},{"$f":"U22/(W4-U25)","v":0},{"$f":"IF(V22=0,0,(V22*((LOG(V22))/LOG(2))))","v":0},null,{"$f":"N22","v":12222},{"$f":"COUNTIF(L31:L55,Y22)","v":0},{"$f":"Z22/(AB4-Z25)","v":0},{"$f":"IF(AA22=0,0,(AA22*((LOG(AA22))/LOG(2))))","v":0},null,{"$f":"N22","v":12222},{"$f":"COUNTIF(L56:L79,AD22)","v":0},{"$f":"AE22/(AG4-AE25)","v":0},{"$f":"IF(AF22=0,0,(AF22*((LOG(AF22))/LOG(2))))","v":0},null,{"$f":"N22","v":12222},{"$f":"COUNTIF(L80:L103,AI22)","v":0},{"$f":"AJ22/(AL4-AJ25)","v":0},{"$f":"IF(AK22=0,0,(AK22*((LOG(AK22))/LOG(2))))","v":0},null,{"$f":"N22","v":12222},{"$f":"COUNTIF(L104:L128,AN22)","v":0},{"$f":"AO22/(AQ4-AO25)","v":0},{"$f":"IF(AP22=0,0,(AP22*((LOG(AP22))/LOG(2))))","v":0},null,{"$f":"N22","v":12222},{"$f":"COUNTIF(L129:L152,AS22)","v":0},{"$f":"AT22/(AV4-AT25)","v":0},{"$f":"IF(AU22=0,0,(AU22*((LOG(AU22))/LOG(2))))","v":0}]
[21,2460,11,2473,22,2479,14,2489,13,2496,0,21211,null,21111,{"$f":"COUNTIF($L$7:$L$500,N23)","v":12},{"$f":"O23/$Q$4","v":8.2758620689655171E-2},{"$f":"IF(P23=0,0,(P23*((LOG(P23))/LOG(2))))","v":-0.29751282118293337},null,null,{"$f":"N23","v":21111},{"$f":"COUNTIF(L7:L30,T23)","v":3},{"$f":"U23/(W4-U25)","v":0.13043478260869565},{"$f":"IF(V23=0,0,(V23*((LOG(V23))/LOG(2))))","v":-0.3832955811307639},null,{"$f":"N23","v":21111},{"$f":"COUNTIF(L31:L55,Y23)","v":5},{"$f":"Z23/(AB4-Z25)","v":0.2},{"$f":"IF(AA23=0,0,(AA23*((LOG(AA23))/LOG(2))))","v":-0.46438561897747244},null,{"$f":"N23","v":21111},{"$f":"COUNTIF(L56:L79,AD23)","v":0},{"$f":"AE23/(AG4-AE25)","v":0},{"$f":"IF(AF23=0,0,(AF23*((LOG(AF23))/LOG(2))))","v":0},null,{"$f":"N23","v":21111},{"$f":"COUNTIF(L80:L103,AI23)","v":1},{"$f":"AJ23/(AL4-AJ25)","v":4.3478260869565216E-2},{"$f":"IF(AK23=0,0,(AK23*((LOG(AK23))/LOG(2))))","v":-0.19667660678508753},null,{"$f":"N23","v":21111},{"$f":"COUNTIF(L104:L128,AN23)","v":1},{"$f":"AO23/(AQ4-AO25)","v":4.1666666666666664E-2},{"$f":"IF(AP23=0,0,(AP23*((LOG(AP23))/LOG(2))))","v":-0.19104010419671485},null,{"$f":"N23","v":21111},{"$f":"COUNTIF(L129:L152,AS23)","v":2},{"$f":"AT23/(AV4-AT25)","v":8.6956521739130432E-2},{"$f":"IF(AU23=0,0,(AU23*((LOG(AU23))/LOG(2))))","v":-0.30639669183104457}]
[12,2598,24,2616,24,2635,14,2646,24,2660,0,12212,null,21112,{"$f":"COUNTIF($L$7:$L$500,N24)","v":4},{"$f":"O24/$Q$4","v":2.7586206896551724E-2},{"$f":"IF(P24=0,0,(P24*((LOG(P24))/LOG(2))))","v":-0.14289404386248095},null,null,{"$f":"N24","v":21112},{"$f":"COUNTIF(L7:L30,T24)","v":0},{"$f":"U24/(W4-U25)","v":0},{"$f":"IF(V24=0,0,(V24*((LOG(V24))/LOG(2))))","v":0},null,{"$f":"N24","v":21112},{"$f":"COUNTIF(L31:L55,Y24)","v":1},{"$f":"Z24/(AB4-Z25)","v":0.04},{"$f":"IF(AA24=0,0,(AA24*((LOG(AA24))/LOG(2))))","v":-0.18575424759098899},null,{"$f":"N24","v":21112},{"$f":"COUNTIF(L56:L79,AD24)","v":1},{"$f":"AE24/(AG4-AE25)","v":4.7619047619047616E-2},{"$f":"IF(AF24=0,0,(AF24*((LOG(AF24))/LOG(2))))","v":-0.20915797251327431},null,{"$f":"N24","v":21112},{"$f":"COUNTIF(L80:L103,AI24)","v":1},{"$f":"AJ24/(AL4-AJ25)","v":4.3478260869565216E-2},{"$f":"IF(AK24=0,0,(AK24*((LOG(AK24))/LOG(2))))","v":-0.19667660678508753},null,{"$f":"N24","v":21112},{"$f":"COUNTIF(L104:L128,AN24)","v":0},{"$f":"AO24/(AQ4-AO25)","v":0},{"$f":"IF(AP24=0,0,(AP24*((LOG(AP24))/LOG(2))))","v":0},null,{"$f":"N24","v":21112},{"$f":"COUNTIF(L129:L152,AS24)","v":1},{"$f":"AT24/(AV4-AT25)","v":4.3478260869565216E-2},{"$f":"IF(AU24=0,0,(AU24*((LOG(AU24))/LOG(2))))","v":-0.19667660678508753}]
[21,2780,11,2790,11,2797,12,2806,13,2813,0,21111,null,21121,{"$f":"COUNTIF($L$7:$L$500,N25)","v":6},{"$f":"O25/$Q$4","v":4.1379310344827586E-2},{"$f":"IF(P25=0,0,(P25*((LOG(P25))/LOG(2))))","v":-0.19013572093629427},null,null,{"$f":"N25","v":21121},{"$f":"COUNTIF(L7:L30,T25)","v":1},null,null,null,{"$f":"N25","v":21121},{"$f":"COUNTIF(L31:L55,Y25)","v":0},null,null,null,{"$f":"N25","v":21121},{"$f":"COUNTIF(L56:L79,AD25)","v":3},null,null,null,{"$f":"N25","v":21121},{"$f":"COUNTIF(L80:L103,AI25)","v":1},null,null,null,{"$f":"N25","v":21121},{"$f":"COUNTIF(L104:L128,AN25)","v":1},null,null,null,{"$f":"N25","v":21121},{"$f":"COUNTIF(L129:L152,AS25)","v":0}]
[21,2933,11,2944,22,2953,14,2964,13,2972,0,21211,null,21122,{"$f":"COUNTIF($L$7:$L$500,N26)","v":0},{"$f":"O26/$Q$4","v":0},{"$f":"IF(P26=0,0,(P26*((LOG(P26))/LOG(2))))","v":0},null,null,{"$f":"N26","v":21122},{"$f":"COUNTIF(L7:L30,T26)","v":0},{"$f":"U26/(W4-U25)","v":0},{"$f":"IF(V26=0,0,(V26*((LOG(V26))/LOG(2))))","v":0},null,{"$f":"N26","v":21122},{"$f":"COUNTIF(L31:L55,Y26)","v":0},{"$f":"Z26/(AB4-Z25)","v":0},{"$f":"IF(AA26=0,0,(AA26*((LOG(AA26))/LOG(2))))","v":0},null,{"$f":"N26","v":21122},{"$f":"COUNTIF(L56:L79,AD26)","v":0},{"$f":"AE26/(AG4-AE25)","v":0},{"$f":"IF(AF26=0,0,(AF26*((LOG(AF26))/LOG(2))))","v":0},null,{"$f":"N26","v":21122},{"$f":"COUNTIF(L80:L103,AI26)","v":0},{"$f":"AJ26/(AL4-AJ25)","v":0},{"$f":"IF(AK26=0,0,(AK26*((LOG(AK26))/LOG(2))))","v":0},null,{"$f":"N26","v":21122},{"$f":"COUNTIF(L104:L128,AN26)","v":0},{"$f":"AO26/(AQ4-AO25)","v":0},{"$f":"IF(AP26=0,0,(AP26*((LOG(AP26))/LOG(2))))","v":0},null,{"$f":"N26","v":21122},{"$f":"COUNTIF(L129:L152,AS26)","v":0},{"$f":"AT26/(AV4-AT25)","v":0},{"$f":"IF(AU26=0,0,(AU26*((LOG(AU26))/LOG(2))))","v":0}]
[21,3077,11,3091,22,3101,14,3112,13,3119,0,21211,null,21211,{"$f":"COUNTIF($L$7:$L$500,N27)","v":14},{"$f":"O27/$Q$4","v":9.6551724137931033E-2},{"$f":"IF(P27=0,0,(P27*((LOG(P27))/LOG(2))))","v":-0.32562591966484566},null,null,{"$f":"N27","v":21211},{"$f":"COUNTIF(L7:L30,T27)","v":6},{"$f":"U27/(W4-U25)","v":0.2608695652173913},{"$f":"IF(V27=0,0,(V27*((LOG(V27))/LOG(2))))","v":-0.50572159704413644},null,{"$f":"N27","v":21211},{"$f":"COUNTIF(L31:L55,Y27)","v":4},{"$f":"Z27/(AB4-Z25)","v":0.16},{"$f":"IF(AA27=0,0,(AA27*((LOG(AA27))/LOG(2))))","v":-0.42301699036395596},null,{"$f":"N27","v":21211},{"$f":"COUNTIF(L56:L79,AD27)","v":1},{"$f":"AE27/(AG4-AE25)","v":4.7619047619047616E-2},{"$f":"IF(AF27=0,0,(AF27*((LOG(AF27))/LOG(2))))","v":-0.20915797251327431},null,{"$f":"N27","v":21211},{"$f":"COUNTIF(L80:L103,AI27)","v":1},{"$f":"AJ27/(AL4-AJ25)","v":4.3478260869565216E-2},{"$f":"IF(AK27=0,0,(AK27*((LOG(AK27))/LOG(2))))","v":-0.19667660678508753},null,{"$f":"N27","v":21211},{"$f":"COUNTIF(L104:L128,AN27)","v":1},{"$f":"AO27/(AQ4-AO25)","v":4.1666666666666664E-2},{"$f":"IF(AP27=0,0,(AP27*((LOG(AP27))/LOG(2))))","v":-0.19104010419671485},null,{"$f":"N27","v":21211},{"$f":"COUNTIF(L129:L152,AS27)","v":1},{"$f":"AT27/(AV4-AT25)","v":4.3478260869565216E-2},{"$f":"IF(AU27=0,0,(AU27*((LOG(AU27))/LOG(2))))","v":-0.19667660678508753}]
[21,3242,11,3252,22,3263,14,3274,13,3283,0,21211,null,21212,{"$f":"COUNTIF($L$7:$L$500,N28)","v":7},{"$f":"O28/$Q$4","v":4.8275862068965517E-2},{"$f":"IF(P28=0,0,(P28*((LOG(P28))/LOG(2))))","v":-0.21108882190138839},null,null,{"$f":"N28","v":21212},{"$f":"COUNTIF(L7:L30,T28)","v":0},{"$f":"U28/(W4-U25)","v":0},{"$f":"IF(V28=0,0,(V28*((LOG(V28))/LOG(2))))","v":0},null,{"$f":"N28","v":21212},{"$f":"COUNTIF(L31:L55,Y28)","v":0},{"$f":"Z28/(AB4-Z25)","v":0},{"$f":"IF(AA28=0,0,(AA28*((LOG(AA28))/LOG(2))))","v":0},null,{"$f":"N28","v":21212},{"$f":"COUNTIF(L56:L79,AD28)","v":0},{"$f":"AE28/(AG4-AE25)","v":0},{"$f":"IF(AF28=0,0,(AF28*((LOG(AF28))/LOG(2))))","v":0},null,{"$f":"N28","v":21212},{"$f":"COUNTIF(L80:L103,AI28)","v":1},{"$f":"AJ28/(AL4-AJ25)","v":4.3478260869565216E-2},{"$f":"IF(AK28=0,0,(AK28*((LOG(AK28))/LOG(2))))","v":-0.19667660678508753},null,{"$f":"N28","v":21212},{"$f":"COUNTIF(L104:L128,AN28)","v":2},{"$f":"AO28/(AQ4-AO25)","v":8.3333333333333329E-2},{"$f":"IF(AP28=0,0,(AP28*((LOG(AP28))/LOG(2))))","v":-0.29874687506009634},null,{"$f":"N28","v":21212},{"$f":"COUNTIF(L129:L152,AS28)","v":4},{"$f":"AT28/(AV4-AT25)","v":0.17391304347826086},{"$f":"IF(AU28=0,0,(AU28*((LOG(AU28))/LOG(2))))","v":-0.43888034018382832}]
[21,3404,11,3414,11,3423,12,3430,13,3452,0,21111,null,21221,{"$f":"COUNTIF($L$7:$L$500,N29)","v":0},{"$f":"O29/$Q$4","v":0},{"$f":"IF(P29=0,0,(P29*((LOG(P29))/LOG(2))))","v":0},null,null,{"$f":"N29","v":21221},{"$f":"COUNTIF(L7:L30,T29)","v":0},{"$f":"U29/(W4-U25)","v":0},{"$f":"IF(V29=0,0,(V29*((LOG(V29))/LOG(2))))","v":0},null,{"$f":"N29","v":21221},{"$f":"COUNTIF(L31:L55,Y29)","v":0},{"$f":"Z29/(AB4-Z25)","v":0},{"$f":"IF(AA29=0,0,(AA29*((LOG(AA29))/LOG(2))))","v":0},null,{"$f":"N29","v":21221},{"$f":"COUNTIF(L56:L79,AD29)","v":0},{"$f":"AE29/(AG4-AE25)","v":0},{"$f":"IF(AF29=0,0,(AF29*((LOG(AF29))/LOG(2))))","v":0},null,{"$f":"N29","v":21221},{"$f":"COUNTIF(L80:L103,AI29)","v":0},{"$f":"AJ29/(AL4-AJ25)","v":0},{"$f":"IF(AK29=0,0,(AK29*((LOG(AK29))/LOG(2))))","v":0},null,{"$f":"N29","v":21221},{"$f":"COUNTIF(L104:L128,AN29)","v":0},{"$f":"AO29/(AQ4-AO25)","v":0},{"$f":"IF(AP29=0,0,(AP29*((LOG(AP29))/LOG(2))))","v":0},null,{"$f":"N29","v":21221},{"$f":"COUNTIF(L129:L152,AS29)","v":0},{"$f":"AT29/(AV4-AT25)","v":0},{"$f":"IF(AU29=0,0,(AU29*((LOG(AU29))/LOG(2))))","v":0}]
[12,3593,24,3603,13,3616,14,3625,24,3637,0,12112,null,21222,{"$f":"COUNTIF($L$7:$L$500,N30)","v":0},{"$f":"O30/$Q$4","v":0},{"$f":"IF(P30=0,0,(P30*((LOG(P30))/LOG(2))))","v":0},null,null,{"$f":"N30","v":21222},{"$f":"COUNTIF(L7:L30,T30)","v":0},{"$f":"U30/(W4-U25)","v":0},{"$f":"IF(V30=0,0,(V30*((LOG(V30))/LOG(2))))","v":0},null,{"$f":"N30","v":21222},{"$f":"COUNTIF(L31:L55,Y30)","v":0},{"$f":"Z30/(AB4-Z25)","v":0},{"$f":"IF(AA30=0,0,(AA30*((LOG(AA30))/LOG(2))))","v":0},null,{"$f":"N30","v":21222},{"$f":"COUNTIF(L56:L79,AD30)","v":0},{"$f":"AE30/(AG4-AE25)","v":0},{"$f":"IF(AF30=0,0,(AF30*((LOG(AF30))/LOG(2))))","v":0},null,{"$f":"N30","v":21222},{"$f":"COUNTIF(L80:L103,AI30)","v":0},{"$f":"AJ30/(AL4-AJ25)","v":0},{"$f":"IF(AK30=0,0,(AK30*((LOG(AK30))/LOG(2))))","v":0},null,{"$f":"N30","v":21222},{"$f":"COUNTIF(L104:L128,AN30)","v":0},{"$f":"AO30/(AQ4-AO25)","v":0},{"$f":"IF(AP30=0,0,(AP30*((LOG(AP30))/LOG(2))))","v":0},null,{"$f":"N30","v":21222},{"$f":"COUNTIF(L129:L152,AS30)","v":0},{"$f":"AT30/(AV4-AT25)","v":0},{"$f":"IF(AU30=0,0,(AU30*((LOG(AU30))/LOG(2))))","v":0}]
[21,3741,11,3762,22,3774,14,3784,13,3793,0,21211,null,22111,{"$f":"COUNTIF($L$7:$L$500,N31)","v":12},{"$f":"O31/$Q$4","v":8.2758620689655171E-2},{"$f":"IF(P31=0,0,(P31*((LOG(P31))/LOG(2))))","v":-0.29751282118293337},null,null,{"$f":"N31","v":22111},{"$f":"COUNTIF(L7:L30,T31)","v":1},{"$f":"U31/(W4-U25)","v":4.3478260869565216E-2},{"$f":"IF(V31=0,0,(V31*((LOG(V31))/LOG(2))))","v":-0.19667660678508753},null,{"$f":"N31","v":22111},{"$f":"COUNTIF(L31:L55,Y31)","v":1},{"$f":"Z31/(AB4-Z25)","v":0.04},{"$f":"IF(AA31=0,0,(AA31*((LOG(AA31))/LOG(2))))","v":-0.18575424759098899},null,{"$f":"N31","v":22111},{"$f":"COUNTIF(L56:L79,AD31)","v":3},{"$f":"AE31/(AG4-AE25)","v":0.14285714285714285},{"$f":"IF(AF31=0,0,(AF31*((LOG(AF31))/LOG(2))))","v":-0.40105070315108626},null,{"$f":"N31","v":22111},{"$f":"COUNTIF(L80:L103,AI31)","v":2},{"$f":"AJ31/(AL4-AJ25)","v":8.6956521739130432E-2},{"$f":"IF(AK31=0,0,(AK31*((LOG(AK31))/LOG(2))))","v":-0.30639669183104457},null,{"$f":"N31","v":22111},{"$f":"COUNTIF(L104:L128,AN31)","v":2},{"$f":"AO31/(AQ4-AO25)","v":8.3333333333333329E-2},{"$f":"IF(AP31=0,0,(AP31*((LOG(AP31))/LOG(2))))","v":-0.29874687506009634},null,{"$f":"N31","v":22111},{"$f":"COUNTIF(L129:L152,AS31)","v":3},{"$f":"AT31/(AV4-AT25)","v":0.13043478260869565},{"$f":"IF(AU31=0,0,(AU31*((LOG(AU31))/LOG(2))))","v":-0.3832955811307639}]
[21,3904,22,3908,24,3925,14,3933,13,3944,0,22211,null,22112,{"$f":"COUNTIF($L$7:$L$500,N32)","v":11},{"$f":"O32/$Q$4","v":7.586206896551724E-2},{"$f":"IF(P32=0,0,(P32*((LOG(P32))/LOG(2))))","v":-0.28224311851830353},null,null,{"$f":"N32","v":22112},{"$f":"COUNTIF(L7:L30,T32)","v":0},{"$f":"U32/(W4-U25)","v":0},{"$f":"IF(V32=0,0,(V32*((LOG(V32))/LOG(2))))","v":0},null,{"$f":"N32","v":22112},{"$f":"COUNTIF(L31:L55,Y32)","v":0},{"$f":"Z32/(AB4-Z25)","v":0},{"$f":"IF(AA32=0,0,(AA32*((LOG(AA32))/LOG(2))))","v":0},null,{"$f":"N32","v":22112},{"$f":"COUNTIF(L56:L79,AD32)","v":4},{"$f":"AE32/(AG4-AE25)","v":0.19047619047619047},{"$f":"IF(AF32=0,0,(AF32*((LOG(AF32))/LOG(2))))","v":-0.4556795091007162},null,{"$f":"N32","v":22112},{"$f":"COUNTIF(L80:L103,AI32)","v":3},{"$f":"AJ32/(AL4-AJ25)","v":0.13043478260869565},{"$f":"IF(AK32=0,0,(AK32*((LOG(AK32))/LOG(2))))","v":-0.3832955811307639},null,{"$f":"N32","v":22112},{"$f":"COUNTIF(L104:L128,AN32)","v":2},{"$f":"AO32/(AQ4-AO25)","v":8.3333333333333329E-2},{"$f":"IF(AP32=0,0,(AP32*((LOG(AP32))/LOG(2))))","v":-0.29874687506009634},null,{"$f":"N32","v":22112},{"$f":"COUNTIF(L129:L152,AS32)","v":2},{"$f":"AT32/(AV4-AT25)","v":8.6956521739130432E-2},{"$f":"IF(AU32=0,0,(AU32*((LOG(AU32))/LOG(2))))","v":-0.30639669183104457}]
[12,4042,24,4058,24,4063,14,4074,24,4083,0,12212,null,22121,{"$f":"COUNTIF($L$7:$L$500,N33)","v":16},{"$f":"O33/$Q$4","v":0.1103448275862069},{"$f":"IF(P33=0,0,(P33*((LOG(P33))/LOG(2))))","v":-0.35088652027750999},null,null,{"$f":"N33","v":22121},{"$f":"COUNTIF(L7:L30,T33)","v":0},{"$f":"U33/(W4-U25)","v":0},{"$f":"IF(V33=0,0,(V33*((LOG(V33))/LOG(2))))","v":0},null,{"$f":"N33","v":22121},{"$f":"COUNTIF(L31:L55,Y33)","v":1},{"$f":"Z33/(AB4-Z25)","v":0.04},{"$f":"IF(AA33=0,0,(AA33*((LOG(AA33))/LOG(2))))","v":-0.18575424759098899},null,{"$f":"N33","v":22121},{"$f":"COUNTIF(L56:L79,AD33)","v":4},{"$f":"AE33/(AG4-AE25)","v":0.19047619047619047},{"$f":"IF(AF33=0,0,(AF33*((LOG(AF33))/LOG(2))))","v":-0.4556795091007162},null,{"$f":"N33","v":22121},{"$f":"COUNTIF(L80:L103,AI33)","v":3},{"$f":"AJ33/(AL4-AJ25)","v":0.13043478260869565},{"$f":"IF(AK33=0,0,(AK33*((LOG(AK33))/LOG(2))))","v":-0.3832955811307639},null,{"$f":"N33","v":22121},{"$f":"COUNTIF(L104:L128,AN33)","v":4},{"$f":"AO33/(AQ4-AO25)","v":0.16666666666666666},{"$f":"IF(AP33=0,0,(AP33*((LOG(AP33))/LOG(2))))","v":-0.43082708345352599},null,{"$f":"N33","v":22121},{"$f":"COUNTIF(L129:L152,AS33)","v":4},{"$f":"AT33/(AV4-AT25)","v":0.17391304347826086},{"$f":"IF(AU33=0,0,(AU33*((LOG(AU33))/LOG(2))))","v":-0.43888034018382832}]
[21,4187,22,4188,24,4195,14,4210,24,4219,0,22212,null,22122,{"$f":"COUNTIF($L$7:$L$500,N34)","v":0},{"$f":"O34/$Q$4","v":0},{"$f":"IF(P34=0,0,(P34*((LOG(P34))/LOG(2))))","v":0},null,null,{"$f":"N34","v":22122},{"$f":"COUNTIF(L7:L30,T34)","v":0},{"$f":"U34/(W4-U25)","v":0},{"$f":"IF(V34=0,0,(V34*((LOG(V34))/LOG(2))))","v":0},null,{"$f":"N34","v":22122},{"$f":"COUNTIF(L31:L55,Y34)","v":0},{"$f":"Z34/(AB4-Z25)","v":0},{"$f":"IF(AA34=0,0,(AA34*((LOG(AA34))/LOG(2))))","v":0},null,{"$f":"N34","v":22122},{"$f":"COUNTIF(L56:L79,AD34)","v":0},{"$f":"AE34/(AG4-AE25)","v":0},{"$f":"IF(AF34=0,0,(AF34*((LOG(AF34))/LOG(2))))","v":0},null,{"$f":"N34","v":22122},{"$f":"COUNTIF(L80:L103,AI34)","v":0},{"$f":"AJ34/(AL4-AJ25)","v":0},{"$f":"IF(AK34=0,0,(AK34*((LOG(AK34))/LOG(2))))","v":0},null,{"$f":"N34","v":22122},{"$f":"COUNTIF(L104:L128,AN34)","v":0},{"$f":"AO34/(AQ4-AO25)","v":0},{"$f":"IF(AP34=0,0,(AP34*((LOG(AP34))/LOG(2))))","v":0},null,{"$f":"N34","v":22122},{"$f":"COUNTIF(L129:L152,AS34)","v":0},{"$f":"AT34/(AV4-AT25)","v":0},{"$f":"IF(AU34=0,0,(AU34*((LOG(AU34))/LOG(2))))","v":0}]
[21,4319,22,4324,24,4346,23,4364,13,4375,0,22221,null,22211,{"$f":"COUNTIF($L$7:$L$500,N35)","v":11},{"$f":"O35/$Q$4","v":7.586206896551724E-2},{"$f":"IF(P35=0,0,(P35*((LOG(P35))/LOG(2))))","v":-0.28224311851830353},null,null,{"$f":"N35","v":22211},{"$f":"COUNTIF(L7:L30,T35)","v":1},{"$f":"U35/(W4-U25)","v":4.3478260869565216E-2},{"$f":"IF(V35=0,0,(V35*((LOG(V35))/LOG(2))))","v":-0.19667660678508753},null,{"$f":"N35","v":22211},{"$f":"COUNTIF(L31:L55,Y35)","v":2},{"$f":"Z35/(AB4-Z25)","v":0.08},{"$f":"IF(AA35=0,0,(AA35*((LOG(AA35))/LOG(2))))","v":-0.29150849518197797},null,{"$f":"N35","v":22211},{"$f":"COUNTIF(L56:L79,AD35)","v":1},{"$f":"AE35/(AG4-AE25)","v":4.7619047619047616E-2},{"$f":"IF(AF35=0,0,(AF35*((LOG(AF35))/LOG(2))))","v":-0.20915797251327431},null,{"$f":"N35","v":22211},{"$f":"COUNTIF(L80:L103,AI35)","v":1},{"$f":"AJ35/(AL4-AJ25)","v":4.3478260869565216E-2},{"$f":"IF(AK35=0,0,(AK35*((LOG(AK35))/LOG(2))))","v":-0.19667660678508753},null,{"$f":"N35","v":22211},{"$f":"COUNTIF(L104:L128,AN35)","v":4},{"$f":"AO35/(AQ4-AO25)","v":0.16666666666666666},{"$f":"IF(AP35=0,0,(AP35*((LOG(AP35))/LOG(2))))","v":-0.43082708345352599},null,{"$f":"N35","v":22211},{"$f":"COUNTIF(L129:L152,AS35)","v":2},{"$f":"AT35/(AV4-AT25)","v":8.6956521739130432E-2},{"$f":"IF(AU35=0,0,(AU35*((LOG(AU35))/LOG(2))))","v":-0.30639669183104457}]
[21,4475,11,4498,11,4511,12,4524,24,4536,0,21112,null,22212,{"$f":"COUNTIF($L$7:$L$500,N36)","v":13},{"$f":"O36/$Q$4","v":8.9655172413793102E-2},{"$f":"IF(P36=0,0,(P36*((LOG(P36))/LOG(2))))","v":-0.31195242644386173},null,null,{"$f":"N36","v":22212},{"$f":"COUNTIF(L7:L30,T36)","v":0},{"$f":"U36/(W4-U25)","v":0},{"$f":"IF(V36=0,0,(V36*((LOG(V36))/LOG(2))))","v":0},null,{"$f":"N36","v":22212},{"$f":"COUNTIF(L31:L55,Y36)","v":1},{"$f":"Z36/(AB4-Z25)","v":0.04},{"$f":"IF(AA36=0,0,(AA36*((LOG(AA36))/LOG(2))))","v":-0.18575424759098899},null,{"$f":"N36","v":22212},{"$f":"COUNTIF(L56:L79,AD36)","v":1},{"$f":"AE36/(AG4-AE25)","v":4.7619047619047616E-2},{"$f":"IF(AF36=0,0,(AF36*((LOG(AF36))/LOG(2))))","v":-0.20915797251327431},null,{"$f":"N36","v":22212},{"$f":"COUNTIF(L80:L103,AI36)","v":3},{"$f":"AJ36/(AL4-AJ25)","v":0.13043478260869565},{"$f":"IF(AK36=0,0,(AK36*((LOG(AK36))/LOG(2))))","v":-0.3832955811307639},null,{"$f":"N36","v":22212},{"$f":"COUNTIF(L104:L128,AN36)","v":6},{"$f":"AO36/(AQ4-AO25)","v":0.25},{"$f":"IF(AP36=0,0,(AP36*((LOG(AP36))/LOG(2))))","v":-0.5},null,{"$f":"N36","v":22212},{"$f":"COUNTIF(L129:L152,AS36)","v":2},{"$f":"AT36/(AV4-AT25)","v":8.6956521739130432E-2},{"$f":"IF(AU36=0,0,(AU36*((LOG(AU36))/LOG(2))))","v":-0.30639669183104457}]
[21,4654,11,4668,11,4676,12,4684,13,4692,0,21111,null,22221,{"$f":"COUNTIF($L$7:$L$500,N37)","v":6},{"$f":"O37/$Q$4","v":4.1379310344827586E-2},{"$f":"IF(P37=0,0,(P37*((LOG(P37))/LOG(2))))","v":-0.19013572093629427},null,null,{"$f":"N37","v":22221},{"$f":"COUNTIF(L7:L30,T37)","v":0},{"$f":"U37/(W4-U25)","v":0},{"$f":"IF(V37=0,0,(V37*((LOG(V37))/LOG(2))))","v":0},null,{"$f":"N37","v":22221},{"$f":"COUNTIF(L31:L55,Y37)","v":1},{"$f":"Z37/(AB4-Z25)","v":0.04},{"$f":"IF(AA37=0,0,(AA37*((LOG(AA37))/LOG(2))))","v":-0.18575424759098899},null,{"$f":"N37","v":22221},{"$f":"COUNTIF(L56:L79,AD37)","v":1},{"$f":"AE37/(AG4-AE25)","v":4.7619047619047616E-2},{"$f":"IF(AF37=0,0,(AF37*((LOG(AF37))/LOG(2))))","v":-0.20915797251327431},null,{"$f":"N37","v":22221},{"$f":"COUNTIF(L80:L103,AI37)","v":3},{"$f":"AJ37/(AL4-AJ25)","v":0.13043478260869565},{"$f":"IF(AK37=0,0,(AK37*((LOG(AK37))/LOG(2))))","v":-0.3832955811307639},null,{"$f":"N37","v":22221},{"$f":"COUNTIF(L104:L128,AN37)","v":0},{"$f":"AO37/(AQ4-AO25)","v":0},{"$f":"IF(AP37=0,0,(AP37*((LOG(AP37))/LOG(2))))","v":0},null,{"$f":"N37","v":22221},{"$f":"COUNTIF(L129:L152,AS37)","v":1},{"$f":"AT37/(AV4-AT25)","v":4.3478260869565216E-2},{"$f":"IF(AU37=0,0,(AU37*((LOG(AU37))/LOG(2))))","v":-0.19667660678508753}]
[21,4793,11,4808,22,4815,14,4825,13,4833,0,21211,null,22222,{"$f":"COUNTIF($L$7:$L$500,N38)","v":0},{"$f":"O38/$Q$4","v":0},{"$f":"IF(P38=0,0,(P38*((LOG(P38))/LOG(2))))","v":0},null,null,{"$f":"N38","v":22222},{"$f":"COUNTIF(L7:L30,T38)","v":0},{"$f":"U38/(W4-U25)","v":0},{"$f":"IF(V38=0,0,(V38*((LOG(V38))/LOG(2))))","v":0},null,{"$f":"N38","v":22222},{"$f":"COUNTIF(L31:L55,Y38)","v":0},{"$f":"Z38/(AB4-Z25)","v":0},{"$f":"IF(AA38=0,0,(AA38*((LOG(AA38))/LOG(2))))","v":0},null,{"$f":"N38","v":22222},{"$f":"COUNTIF(L56:L79,AD38)","v":0},{"$f":"AE38/(AG4-AE25)","v":0},{"$f":"IF(AF38=0,0,(AF38*((LOG(AF38))/LOG(2))))","v":0},null,{"$f":"N38","v":22222},{"$f":"COUNTIF(L80:L103,AI38)","v":0},{"$f":"AJ38/(AL4-AJ25)","v":0},{"$f":"IF(AK38=0,0,(AK38*((LOG(AK38))/LOG(2))))","v":0},null,{"$f":"N38","v":22222},{"$f":"COUNTIF(L104:L128,AN38)","v":0},{"$f":"AO38/(AQ4-AO25)","v":0},{"$f":"IF(AP38=0,0,(AP38*((LOG(AP38))/LOG(2))))","v":0},null,{"$f":"N38","v":22222},{"$f":"COUNTIF(L129:L152,AS38)","v":0},{"$f":"AT38/(AV4-AT25)","v":0},{"$f":"IF(AU38=0,0,(AU38*((LOG(AU38))/LOG(2))))","v":0}]
[12,4933,24,4943,24,4962,14,4971,24,4981,0,12212,null,null,null,{"$f":"SUM(P7:P38)","v":0.99999999999999989},{"$f":"-SUM(Q7:Q38)","v":3.9997699981210921},null,null,null,null,{"$f":"SUM(V7:V38)","v":1},{"$f":"-SUM(W7:W38)","v":3.2618423904633662},null,null,null,{"$f":"SUM(AA7:AA38)","v":1.0000000000000002},{"$f":"-SUM(AB7:AB38)","v":3.3794705707972517},null,null,null,{"$f":"SUM(AF7:AF38)","v":1},{"$f":"-SUM(AG7:AG38)","v":3.308751351247166},null,null,null,{"$f":"SUM(AK7:AK38)","v":1},{"$f":"-SUM(AL7:AL38)","v":3.4029342381953898},null,null,null,{"$f":"SUM(AP7:AP38)","v":0.99999999999999989},{"$f":"-SUM(AQ7:AQ38)","v":3.0220552088742005},null,null,null,{"$f":"SUM(AU7:AU38)","v":1},{"$f":"-SUM(AV7:AV38)","v":3.2733494559629492}]
[21,5095,11,5106,11,5113,12,5121,13,5134,0,21111,null,null,null,"U=",{"$f":"Q39/(LOG(Q4)/LOG(2))","v":0.55707808385534485},null,null,null,null,"U1=",{"$f":"W39/(LOG(W4)/LOG(2))","v":0.71142182514040631},null,null,null,"U2=",{"$f":"AB39/(LOG(AB4)/LOG(2))","v":0.72772937677064253},null,null,null,"U3=",{"$f":"AG39/(LOG(AG4)/LOG(2))","v":0.72165287081993401},null,null,null,"U4=",{"$f":"AL39/(LOG(AL4)/LOG(2))","v":0.74219456269492967},null,null,null,"U5=",{"$f":"AQ39/(LOG(AQ4)/LOG(2))","v":0.65076416783285473},null,null,null,"U6=",{"$f":"AV39/(LOG(AV4)/LOG(2))","v":0.7236221119023164}]
[12,5254,13,5260,13,5267,14,5275,13,5282,0,11111]
[21,5414,11,5424,11,5432,12,5457,13,5466,0,21111]
[21,5585,11,5595,22,5605,14,5615,13,5623,0,21211,null,"Total Target Seq"]
[21,5746,22,5751,13,5768,23,5777,13,5786,0,22121,null,{"$f":"COUNTIF(L7:L152,G3)","v":6},null,24,25,24,24,25,24]
[12,5885,13,5893,13,5898,14,5906,13,5914,0,11111,null,null,null,"% of reinforcement given in 6 equal intervals based on number of trials "]
[21,6034,22,6039,13,6049,14,6057,13,6064,0,22111,null,null,null,"%_1","%_2","%_3","%_4","%_5","%_6"]
[12,6168,13,6173,13,6178,14,6186,13,6194,0,11111,null,null,"target sequence",{"$f":"$G$3","v":21121},{"$f":"$G$3","v":21121},{"$f":"$G$3","v":21121},{"$f":"$G$3","v":21121},{"$f":"$G$3","v":21121},{"$f":"$G$3","v":21121}]
[21,6303,22,6308,24,6313,14,6324,13,6332,0,22211,null,null,"total reinforcement",{"$f":"U25","v":1},{"$f":"Z25","v":0},{"$f":"AE25","v":3},{"$f":"AJ25","v":1},{"$f":"AO25","v":1},{"$f":"AT25","v":0}]
[21,6451,11,6467,22,6476,14,6487,13,6495,0,21211,null,null,"% target"]
[12,6610,13,6624,13,6631,14,6640,13,6648,0,11111,null,null,"CCRF"]
[21,6754,11,6784,11,6805,12,6813,13,6838,0,21111,null,null,"% CCRf"]
[21,6963,11,6973,11,6982,12,6989,13,6997,0,21111,null,null,"average response rate",{"$f":"J30/P44","v":151.54166666666666},{"$f":"(J55-J30)/Q44","v":153.76},{"$f":"(J79-J55)/R44","v":161.95833333333334},{"$f":"(J103-J79)/S44","v":173.29166666666666},{"$f":"(J128-J103)/T44","v":163.63999999999999},{"$f":"(J152-J128)/U44","v":-817.41666666666663}]
[12,7126,13,7132,13,7137,23,7147,13,7159,0,11121]
[12,7270,24,7279,24,7297,14,7307,13,7315,0,12211]
[12,7428,24,7438,13,7449,14,7458,13,7481,0,12111]
[21,7584,22,7589,24,7594,23,7599,13,7609,0,22221]
[21,7719,22,7723,13,7734,14,7739,13,7747,0,22111]
[21,7869,22,7874,13,7895,14,7920,24,7934,0,22112]
[21,8050,11,8062,11,8069,21,8084,11,8095,1,21121]
[21,8206,11,8222,22,8232,14,8243,13,8252,0,21211]
[21,8370,22,8382,13,8393,23,8402,13,8413,0,22121]
[21,8535,22,8562,13,8576,14,8584,13,8592,0,22111]
[12,8708,13,8713,13,8722,14,8727,13,8741,0,11111]
[12,8840,24,8862,24,8867,14,8880,24,8889,0,12212]
[21,8997,22,9003,13,9013,14,9020,13,9028,0,22111]
[21,9139,22,9145,13,9158,23,9170,13,9182,0,22121]
[21,9305,11,9323,11,9341,21,9353,11,9365,1,21121]
[21,9477,11,9504,11,9539,12,9548,24,9560,0,21112]
[21,9686,22,9704,13,9715,23,9728,13,9739,0,22121]
[21,9861,22,9866,24,9886,14,9896,24,9905,0,22212]
[12,10005,13,10011,13,10017,14,10023,13,10031,0,11111]
[21,10144,22,10150,13,10162,23,10171,13,10182,0,22121]
[12,10310,24,10330,13,10340,14,10357,13,10367,0,12111]
[21,10488,22,10512,13,10527,14,10535,24,10548,0,22112]
[12,10688,24,10695,13,10704,14,10711,24,10723,0,12112]
[21,10866,11,10874,11,10882,21,10892,11,10903,1,21121]
[21,11001,22,11018,24,11041,14,11051,13,11057,0,22211]
[21,11157,22,11162,13,11174,14,11183,24,11197,0,22112]
[21,11312,22,11331,13,11348,14,11355,24,11368,0,22112]
[21,11469,22,11491,13,11503,14,11510,13,11518,0,22111]
[12,11655,24,11665,13,11676,14,11684,13,11693,0,12111]
[21,11795,11,11814,11,11833,12,11841,24,11850,0,21112]
[12,11971,24,11981,13,11992,23,12006,13,12016,0,12121]
[21,12118,22,12126,24,12143,23,12160,13,12171,0,22221]
[21,12281,11,12307,22,12316,14,12327,24,12339,0,21212]
[12,12448,24,12462,13,12471,14,12479,13,12486,0,12111]
[21,12588,22,12595,24,12617,14,12628,13,12636,0,22211]
[21,12756,11,12768,11,12789,12,12798,13,12821,0,21111]
[21,12955,22,12969,13,12978,23,12986,13,12995,0,22121]
[21,13119,22,13162,13,13171,23,13180,13,13191,0,22121]
[21,13298,22,13303,24,13322,14,13342,24,13349,0,22212]
[12,13493,24,13502,13,13513,14,13523,13,13537,0,12111]
[21,13643,22,13664,13,13673,14,13682,24,13691,0,22112]
[21,13797,22,13818,13,13828,14,13837,13,13859,0,22111]
[21,13980,22,13997,24,14013,14,14021,24,14033,0,22212]
[21,14132,22,14180,13,14220,23,14226,13,14238,0,22121]
[21,14386,11,14398,22,14414,14,14423,13,14440,0,21211]
[21,14540,22,14548,24,14573,23,14590,13,14601,0,22221]
[21,14702,22,14753,24,14762,23,14787,13,14796,0,22221]
[21,14956,22,14972,13,14983,14,14992,24,15001,0,22112]
[21,15148,11,15158,11,15163,21,15170,11,15179,1,21121]
[21,15282,22,15290,24,15310,14,15319,24,15332,0,22212]
[21,15456,22,15494,13,15505,14,15514,24,15527,0,22112]
[21,15637,22,15642,24,15663,14,15674,13,15683,0,22211]
[21,15784,22,15789,24,15806,14,15819,24,15827,0,22212]
[21,15956,22,15960,13,15971,14,15980,24,15997,0,22112]
[21,16104,11,16137,22,16146,14,16158,24,16172,0,21212]
[21,16288,22,16293,13,16307,23,16316,13,16328,0,22121]
[21,16448,22,16453,24,16468,14,16479,24,16488,0,22212]
[21,16590,22,16598,24,16617,14,16628,24,16640,0,22212]
[21,16759,22,16777,13,16787,14,16795,13,16803,0,22111]
[21,16915,11,16927,11,16932,21,16941,11,16953,1,21121]
[21,17051,22,17070,13,17082,23,17091,13,17103,0,22121]
[12,17207,24,17216,24,17238,14,17249,24,17262,0,12212]
[21,17372,22,17378,24,17399,14,17410,13,17420,0,22211]
[21,17523,22,17529,13,17543,23,17552,13,17563,0,22121]
[21,17680,22,17689,24,17708,14,17720,24,17729,0,22212]
[21,17832,22,17841,24,17865,14,17877,13,17891,0,22211]
[21,17994,22,18016,13,18028,14,18035,13,18043,0,22111]
[21,18174,22,18201,13,18212,14,18222,24,18239,0,22112]
[21,18346,22,18351,24,18356,14,18366,13,18376,0,22211]
[21,18488,11,18497,11,18517,12,18545,13,18571,0,21111]
[21,18701,11,18711,22,18717,14,18728,24,18740,0,21212]
[21,18847,22,18886,24,18891,14,18901,24,18918,0,22212]
[21,19024,22,19031,24,19041,14,19059,24,19073,0,22212]
[21,19214,22,19241,13,19250,23,19265,13,19274,0,22121]
[21,19387,11,19397,22,19404,14,19415,13,19423,0,21211]
[12,19560,13,19567,13,19582,14,19609,13,19618,0,11111]
[21,19725,22,19734,13,19749,23,19755,13,19767,0,22121]
[21,19877,22,19882,24,19886,14,19895,24,19905,0,22212]
[21,20020,11,20043,11,20052,12,20060,24,20075,0,21112]
[21,20191,11,20225,22,20240,14,20253,13,20263,0,21211]
[21,20367,22,20400,24,20411,14,20424,13,20449,0,22211]
[21,20552,22,20565,24,20582,14,20595,24,20604,0,22212]
[21,20756,11,20766,11,20774,12,20792,13,20814,0,21111]
[21,20941,11,20974,22,20983,14,20995,24,21009,0,21212]
[21,21169,22,21185,13,21195,14,21200,24,21213,0,22112]
[21,21362,11,21396,22,21407,14,21418,24,21434,0,21212]
[21,21583,22,21605,13,21614,14,21621,13,21640,0,22111]
[21,21772,22,21780,13,21813,23,21820,13,21832,0,22121]
[21,21980,22,21986,13,21998,23,22011,13,22023,0,22121]
[12,22184,13,22203,13,22208,14,22216,13,22222,0,11111]
[21,22338,22,22344,13,22355,23,22365,13,22376,0,22121]
[21,22513,11,22523,22,22532,14,22543,24,22557,0,21212]
[21,22707,22,22721,13,22739,14,22761,13,22786,0,22111]
[21,22889,22,22893,24,22914,23,22919,13,22945,0,22221]
[21,23046,11,23060,11,23065,12,23071,13,23078,0,21111]
[21,23251,22,23273,13,23283,14,23293,24,23306,0,22112]
[21,23461,11,23477,22,23486,14,23496,24,23510,0,21212]
[21,23614,22,23619,13,23636,14,23642,13,23646,0,22111]
[21,23805,22,23813,24,23833,14,23845,13,23853,0,22211]
[21,23982,11,23991,null,null,null,null,null,null,null,21]

{"sheet":"!N207740.091","index":20,"n_rows":143,"n_cols":48,"rows_kept":143,"cut":false,"hidden":false,"merged":[[4,39,4,42],[5,39,5,40],[4,44,4,47],[5,44,5,45],[4,24,4,27],[5,24,5,25],[4,29,4,32],[5,29,5,30],[4,34,4,37],[5,34,5,35],[1,1,1,2],[5,13,5,14],[42,13,42,14],[43,13,43,14],[4,19,4,22],[5,19,5,20]]}
["Report for:!N207740.091"]
["Date:","<date>"]
["Hen:","<hen>",null,null,null,"Correct Sequence",{"$f":"Start!J2","v":21121},null,null,null,null,null,null,null,null,"Total Sequences in Data",{"$f":"4994-COUNTBLANK(L7:L5000)","v":137},null,null,null,null,"Total Sequences in Block Data",{"$f":"COUNTA(L7:L29)","v":23},null,null,null,"Total Sequences in Block Data",{"$f":"COUNTA(L30:L52)","v":23},null,null,null,"Total Sequences in Block Data",{"$f":"COUNTA(L53:L74)","v":22},null,null,null,"Total Sequences in Block Data",{"$f":"COUNTA(L75:L97)","v":23},null,null,null,"Total Sequences in Block Data",{"$f":"COUNTA(L98:L120)","v":23},null,null,null,"Total Sequences in Block Data",{"$f":"COUNTA(L121:L143)","v":23}]
[null,null,null,null,null,null,null,null,null,null,null,null,null,null,null,"Total Sequences in Summary",{"$f":"SUM(O7:O38)","v":137},null,null,null,null,"Total Sequences in Block Summary",{"$f":"SUM(U7:U38)","v":23},null,null,null,"Total Sequences in Block Summary",{"$f":"SUM(Z7:Z38)","v":23},null,null,null,"Total Sequences in Block Summary",{"$f":"SUM(AE7:AE38)","v":22},null,null,null,"Total Sequences in Block Summary",{"$f":"SUM(AJ7:AJ38)","v":23},null,null,null,"Total Sequences in Block Summary",{"$f":"SUM(AO7:AO38)","v":23},null,null,null,"Total Sequences in Block Summary",{"$f":"SUM(AT7:AT38)","v":23}]
[null,null,null,null,null,null,null,null,null,null,null,null,null,null,null,null,null,null,null,"Block 1",null,null,null,null,"Block 2",null,null,null,null,"Block 3",null,null,null,null,"Block 4",null,null,null,null,"Block 5",null,null,null,null,"Block 6"]
["Sequence\nComponent\n1","Time\n1","Sequence\nComponent\n2","Time\n2","Sequence\nComponent\n3","Time\n3","Sequence\nComponent\n4","Time\n4","Sequence\nComponent\n5","Time\n5","Correct?\n0=No 1=Yes","Sequence",null,"Frequency",null,"Relative Frequency","Variability",null,null,"Frequency",null,"Relative Frequency","Variability",null,"Frequency",null,"Relative Frequency","Variability",null,"Frequency",null,"Relative Frequency","Variability",null,"Frequency",null,"Relative Frequency","Variability",null,"Frequency",null,"Relative Frequency","Variability",null,"Frequency",null,"Relative Frequency","Variability"]
[21,19,11,31,22,45,14,56,24,78,0,21212,null,11111,{"$f":"COUNTIF($L$7:$L$500,N7)","v":5},{"$f":"O7/$Q$4","v":3.6496350364963501E-2},{"$f":"IF(P7=0,0,(P7*((LOG(P7))/LOG(2))))","v":-0.17431036452821766},null,null,{"$f":"N7","v":11111},{"$f":"COUNTIF(L7:L29,T7)","v":1},{"$f":"U7/(W4-U25)","v":4.5454545454545456E-2},{"$f":"IF(V7=0,0,(V7*((LOG(V7))/LOG(2))))","v":-0.20270143721078623},null,{"$f":"N7","v":11111},{"$f":"COUNTIF(L30:L52,Y7)","v":0},{"$f":"Z7/(AB4-Z25)","v":0},{"$f":"IF(AA7=0,0,(AA7*((LOG(AA7))/LOG(2))))","v":0},null,{"$f":"N7","v":11111},{"$f":"COUNTIF(L53:L74,AD7)","v":0},{"$f":"AE7/(AG4-AE25)","v":0},{"$f":"IF(AF7=0,0,(AF7*((LOG(AF7))/LOG(2))))","v":0},null,{"$f":"N7","v":11111},{"$f":"COUNTIF(L75:L97,AI7)","v":1},{"$f":"AJ7/(AL4-AJ25)","v":4.5454545454545456E-2},{"$f":"IF(AK7=0,0,(AK7*((LOG(AK7))/LOG(2))))","v":-0.20270143721078623},null,{"$f":"N7","v":11111},{"$f":"COUNTIF(L98:L120,AN7)","v":0},{"$f":"AO7/(AQ4-AO25)","v":0},{"$f":"IF(AP7=0,0,(AP7*((LOG(AP7))/LOG(2))))","v":0},null,{"$f":"N7","v":11111},{"$f":"COUNTIF(L121:L143,AS7)","v":3},{"$f":"AT7/(AV4-AT25)","v":0.13043478260869565},{"$f":"IF(AU7=0,0,(AU7*((LOG(AU7))/LOG(2))))","v":-0.3832955811307639}]
[12,187,24,223,13,241,14,257,13,266,0,12111,null,11112,{"$f":"COUNTIF($L$7:$L$500,N8)","v":4},{"$f":"O8/$Q$4","v":2.9197080291970802E-2},{"$f":"IF(P8=0,0,(P8*((LOG(P8))/LOG(2))))","v":-0.14884765205724165},null,null,{"$f":"N8","v":11112},{"$f":"COUNTIF(L7:L29,T8)","v":1},{"$f":"U8/(W4-U25)","v":4.5454545454545456E-2},{"$f":"IF(V8=0,0,(V8*((LOG(V8))/LOG(2))))","v":-0.20270143721078623},null,{"$f":"N8","v":11112},{"$f":"COUNTIF(L30:L52,Y8)","v":0},{"$f":"Z8/(AB4-Z25)","v":0},{"$f":"IF(AA8=0,0,(AA8*((LOG(AA8))/LOG(2))))","v":0},null,{"$f":"N8","v":11112},{"$f":"COUNTIF(L53:L74,AD8)","v":0},{"$f":"AE8/(AG4-AE25)","v":0},{"$f":"IF(AF8=0,0,(AF8*((LOG(AF8))/LOG(2))))","v":0},null,{"$f":"N8","v":11112},{"$f":"COUNTIF(L75:L97,AI8)","v":3},{"$f":"AJ8/(AL4-AJ25)","v":0.13636363636363635},{"$f":"IF(AK8=0,0,(AK8*((LOG(AK8))/LOG(2))))","v":-0.39197306153401923},null,{"$f":"N8","v":11112},{"$f":"COUNTIF(L98:L120,AN8)","v":0},{"$f":"AO8/(AQ4-AO25)","v":0},{"$f":"IF(AP8=0,0,(AP8*((LOG(AP8))/LOG(2))))","v":0},null,{"$f":"N8","v":11112},{"$f":"COUNTIF(L121:L143,AS8)","v":0},{"$f":"AT8/(AV4-AT25)","v":0},{"$f":"IF(AU8=0,0,(AU8*((LOG(AU8))/LOG(2))))","v":0}]
[21,417,22,423,13,436,14,444,24,456,0,22112,null,11121,{"$f":"COUNTIF($L$7:$L$500,N9)","v":3},{"$f":"O9/$Q$4","v":2.1897810218978103E-2},{"$f":"IF(P9=0,0,(P9*((LOG(P9))/LOG(2))))","v":-0.12072415143589862},null,null,{"$f":"N9","v":11121},{"$f":"COUNTIF(L7:L29,T9)","v":0},{"$f":"U9/(W4-U25)","v":0},{"$f":"IF(V9=0,0,(V9*((LOG(V9))/LOG(2))))","v":0},null,{"$f":"N9","v":11121},{"$f":"COUNTIF(L30:L52,Y9)","v":0},{"$f":"Z9/(AB4-Z25)","v":0},{"$f":"IF(AA9=0,0,(AA9*((LOG(AA9))/LOG(2))))","v":0},null,{"$f":"N9","v":11121},{"$f":"COUNTIF(L53:L74,AD9)","v":1},{"$f":"AE9/(AG4-AE25)","v":4.7619047619047616E-2},{"$f":"IF(AF9=0,0,(AF9*((LOG(AF9))/LOG(2))))","v":-0.20915797251327431},null,{"$f":"N9","v":11121},{"$f":"COUNTIF(L75:L97,AI9)","v":0},{"$f":"AJ9/(AL4-AJ25)","v":0},{"$f":"IF(AK9=0,0,(AK9*((LOG(AK9))/LOG(2))))","v":0},null,{"$f":"N9","v":11121},{"$f":"COUNTIF(L98:L120,AN9)","v":1},{"$f":"AO9/(AQ4-AO25)","v":4.3478260869565216E-2},{"$f":"IF(AP9=0,0,(AP9*((LOG(AP9))/LOG(2))))","v":-0.19667660678508753},null,{"$f":"N9","v":11121},{"$f":"COUNTIF(L121:L143,AS9)","v":1},{"$f":"AT9/(AV4-AT25)","v":4.3478260869565216E-2},{"$f":"IF(AU9=0,0,(AU9*((LOG(AU9))/LOG(2))))","v":-0.19667660678508753}]
[12,566,13,574,13,580,14,588,24,599,0,11112,null,11122,{"$f":"COUNTIF($L$7:$L$500,N10)","v":0},{"$f":"O10/$Q$4","v":0},{"$f":"IF(P10=0,0,(P10*((LOG(P10))/LOG(2))))","v":0},null,null,{"$f":"N10","v":11122},{"$f":"COUNTIF(L7:L29,T10)","v":0},{"$f":"U10/(W4-U25)","v":0},{"$f":"IF(V10=0,0,(V10*((LOG(V10))/LOG(2))))","v":0},null,{"$f":"N10","v":11122},{"$f":"COUNTIF(L30:L52,Y10)","v":0},{"$f":"Z10/(AB4-Z25)","v":0},{"$f":"IF(AA10=0,0,(AA10*((LOG(AA10))/LOG(2))))","v":0},null,{"$f":"N10","v":11122},{"$f":"COUNTIF(L53:L74,AD10)","v":0},{"$f":"AE10/(AG4-AE25)","v":0},{"$f":"IF(AF10=0,0,(AF10*((LOG(AF10))/LOG(2))))","v":0},null,{"$f":"N10","v":11122},{"$f":"COUNTIF(L75:L97,AI10)","v":0},{"$f":"AJ10/(AL4-AJ25)","v":0},{"$f":"IF(AK10=0,0,(AK10*((LOG(AK10))/LOG(2))))","v":0},null,{"$f":"N10","v":11122},{"$f":"COUNTIF(L98:L120,AN10)","v":0},{"$f":"AO10/(AQ4-AO25)","v":0},{"$f":"IF(AP10=0,0,(AP10*((LOG(AP10))/LOG(2))))","v":0},null,{"$f":"N10","v":11122},{"$f":"COUNTIF(L121:L143,AS10)","v":0},{"$f":"AT10/(AV4-AT25)","v":0},{"$f":"IF(AU10=0,0,(AU10*((LOG(AU10))/LOG(2))))","v":0}]
[21,717,22,721,13,735,14,743,24,757,0,22112,null,11211,{"$f":"COUNTIF($L$7:$L$500,N11)","v":1},{"$f":"O11/$Q$4","v":7.2992700729927005E-3},{"$f":"IF(P11=0,0,(P11*((LOG(P11))/LOG(2))))","v":-5.1810453160295811E-2},null,null,{"$f":"N11","v":11211},{"$f":"COUNTIF(L7:L29,T11)","v":0},{"$f":"U11/(W4-U25)","v":0},{"$f":"IF(V11=0,0,(V11*((LOG(V11))/LOG(2))))","v":0},null,{"$f":"N11","v":11211},{"$f":"COUNTIF(L30:L52,Y11)","v":0},{"$f":"Z11/(AB4-Z25)","v":0},{"$f":"IF(AA11=0,0,(AA11*((LOG(AA11))/LOG(2))))","v":0},null,{"$f":"N11","v":11211},{"$f":"COUNTIF(L53:L74,AD11)","v":0},{"$f":"AE11/(AG4-AE25)","v":0},{"$f":"IF(AF11=0,0,(AF11*((LOG(AF11))/LOG(2))))","v":0},null,{"$f":"N11","v":11211},{"$f":"COUNTIF(L75:L97,AI11)","v":0},{"$f":"AJ11/(AL4-AJ25)","v":0},{"$f":"IF(AK11=0,0,(AK11*((LOG(AK11))/LOG(2))))","v":0},null,{"$f":"N11","v":11211},{"$f":"COUNTIF(L98:L120,AN11)","v":1},{"$f":"AO11/(AQ4-AO25)","v":4.3478260869565216E-2},{"$f":"IF(AP11=0,0,(AP11*((LOG(AP11))/LOG(2))))","v":-0.19667660678508753},null,{"$f":"N11","v":11211},{"$f":"COUNTIF(L121:L143,AS11)","v":0},{"$f":"AT11/(AV4-AT25)","v":0},{"$f":"IF(AU11=0,0,(AU11*((LOG(AU11))/LOG(2))))","v":0}]
[12,867,24,876,13,898,14,904,13,913,0,12111,null,11212,{"$f":"COUNTIF($L$7:$L$500,N12)","v":1},{"$f":"O12/$Q$4","v":7.2992700729927005E-3},{"$f":"IF(P12=0,0,(P12*((LOG(P12))/LOG(2))))","v":-5.1810453160295811E-2},null,null,{"$f":"N12","v":11212},{"$f":"COUNTIF(L7:L29,T12)","v":0},{"$f":"U12/(W4-U25)","v":0},{"$f":"IF(V12=0,0,(V12*((LOG(V12))/LOG(2))))","v":0},null,{"$f":"N12","v":11212},{"$f":"COUNTIF(L30:L52,Y12)","v":0},{"$f":"Z12/(AB4-Z25)","v":0},{"$f":"IF(AA12=0,0,(AA12*((LOG(AA12))/LOG(2))))","v":0},null,{"$f":"N12","v":11212},{"$f":"COUNTIF(L53:L74,AD12)","v":0},{"$f":"AE12/(AG4-AE25)","v":0},{"$f":"IF(AF12=0,0,(AF12*((LOG(AF12))/LOG(2))))","v":0},null,{"$f":"N12","v":11212},{"$f":"COUNTIF(L75:L97,AI12)","v":0},{"$f":"AJ12/(AL4-AJ25)","v":0},{"$f":"IF(AK12=0,0,(AK12*((LOG(AK12))/LOG(2))))","v":0},null,{"$f":"N12","v":11212},{"$f":"COUNTIF(L98:L120,AN12)","v":1},{"$f":"AO12/(AQ4-AO25)","v":4.3478260869565216E-2},{"$f":"IF(AP12=0,0,(AP12*((LOG(AP12))/LOG(2))))","v":-0.19667660678508753},null,{"$f":"N12","v":11212},{"$f":"COUNTIF(L121:L143,AS12)","v":0},{"$f":"AT12/(AV4-AT25)","v":0},{"$f":"IF(AU12=0,0,(AU12*((LOG(AU12))/LOG(2))))","v":0}]
[21,1046,11,1057,11,1064,12,1075,13,1084,0,21111,null,11221,{"$f":"COUNTIF($L$7:$L$500,N13)","v":0},{"$f":"O13/$Q$4","v":0},{"$f":"IF(P13=0,0,(P13*((LOG(P13))/LOG(2))))","v":0},null,null,{"$f":"N13","v":11221},{"$f":"COUNTIF(L7:L29,T13)","v":0},{"$f":"U13/(W4-U25)","v":0},{"$f":"IF(V13=0,0,(V13*((LOG(V13))/LOG(2))))","v":0},null,{"$f":"N13","v":11221},{"$f":"COUNTIF(L30:L52,Y13)","v":0},{"$f":"Z13/(AB4-Z25)","v":0},{"$f":"IF(AA13=0,0,(AA13*((LOG(AA13))/LOG(2))))","v":0},null,{"$f":"N13","v":11221},{"$f":"COUNTIF(L53:L74,AD13)","v":0},{"$f":"AE13/(AG4-AE25)","v":0},{"$f":"IF(AF13=0,0,(AF13*((LOG(AF13))/LOG(2))))","v":0},null,{"$f":"N13","v":11221},{"$f":"COUNTIF(L75:L97,AI13)","v":0},{"$f":"AJ13/(AL4-AJ25)","v":0},{"$f":"IF(AK13=0,0,(AK13*((LOG(AK13))/LOG(2))))","v":0},null,{"$f":"N13","v":11221},{"$f":"COUNTIF(L98:L120,AN13)","v":0},{"$f":"AO13/(AQ4-AO25)","v":0},{"$f":"IF(AP13=0,0,(AP13*((LOG(AP13))/LOG(2))))","v":0},null,{"$f":"N13","v":11221},{"$f":"COUNTIF(L121:L143,AS13)","v":0},{"$f":"AT13/(AV4-AT25)","v":0},{"$f":"IF(AU13=0,0,(AU13*((LOG(AU13))/LOG(2))))","v":0}]
[21,1211,11,1224,11,1229,12,1235,13,1243,0,21111,null,11222,{"$f":"COUNTIF($L$7:$L$500,N14)","v":0},{"$f":"O14/$Q$4","v":0},{"$f":"IF(P14=0,0,(P14*((LOG(P14))/LOG(2))))","v":0},null,null,{"$f":"N14","v":11222},{"$f":"COUNTIF(L7:L29,T14)","v":0},{"$f":"U14/(W4-U25)","v":0},{"$f":"IF(V14=0,0,(V14*((LOG(V14))/LOG(2))))","v":0},null,{"$f":"N14","v":11222},{"$f":"COUNTIF(L30:L52,Y14)","v":0},{"$f":"Z14/(AB4-Z25)","v":0},{"$f":"IF(AA14=0,0,(AA14*((LOG(AA14))/LOG(2))))","v":0},null,{"$f":"N14","v":11222},{"$f":"COUNTIF(L53:L74,AD14)","v":0},{"$f":"AE14/(AG4-AE25)","v":0},{"$f":"IF(AF14=0,0,(AF14*((LOG(AF14))/LOG(2))))","v":0},null,{"$f":"N14","v":11222},{"$f":"COUNTIF(L75:L97,AI14)","v":0},{"$f":"AJ14/(AL4-AJ25)","v":0},{"$f":"IF(AK14=0,0,(AK14*((LOG(AK14))/LOG(2))))","v":0},null,{"$f":"N14","v":11222},{"$f":"COUNTIF(L98:L120,AN14)","v":0},{"$f":"AO14/(AQ4-AO25)","v":0},{"$f":"IF(AP14=0,0,(AP14*((LOG(AP14))/LOG(2))))","v":0},null,{"$f":"N14","v":11222},{"$f":"COUNTIF(L121:L143,AS14)","v":0},{"$f":"AT14/(AV4-AT25)","v":0},{"$f":"IF(AU14=0,0,(AU14*((LOG(AU14))/LOG(2))))","v":0}]
[21,1360,22,1368,13,1385,14,1393,13,1401,0,22111,null,12111,{"$f":"COUNTIF($L$7:$L$500,N15)","v":8},{"$f":"O15/$Q$4","v":5.8394160583941604E-2},{"$f":"IF(P15=0,0,(P15*((LOG(P15))/LOG(2))))","v":-0.23930114353054169},null,null,{"$f":"N15","v":12111},{"$f":"COUNTIF(L7:L29,T15)","v":4},{"$f":"U15/(W4-U25)","v":0.18181818181818182},{"$f":"IF(V15=0,0,(V15*((LOG(V15))/LOG(2))))","v":-0.44716938520678134},null,{"$f":"N15","v":12111},{"$f":"COUNTIF(L30:L52,Y15)","v":1},{"$f":"Z15/(AB4-Z25)","v":4.3478260869565216E-2},{"$f":"IF(AA15=0,0,(AA15*((LOG(AA15))/LOG(2))))","v":-0.19667660678508753},null,{"$f":"N15","v":12111},{"$f":"COUNTIF(L53:L74,AD15)","v":0},{"$f":"AE15/(AG4-AE25)","v":0},{"$f":"IF(AF15=0,0,(AF15*((LOG(AF15))/LOG(2))))","v":0},null,{"$f":"N15","v":12111},{"$f":"COUNTIF(L75:L97,AI15)","v":0},{"$f":"AJ15/(AL4-AJ25)","v":0},{"$f":"IF(AK15=0,0,(AK15*((LOG(AK15))/LOG(2))))","v":0},null,{"$f":"N15","v":12111},{"$f":"COUNTIF(L98:L120,AN15)","v":2},{"$f":"AO15/(AQ4-AO25)","v":8.6956521739130432E-2},{"$f":"IF(AP15=0,0,(AP15*((LOG(AP15))/LOG(2))))","v":-0.30639669183104457},null,{"$f":"N15","v":12111},{"$f":"COUNTIF(L121:L143,AS15)","v":1},{"$f":"AT15/(AV4-AT25)","v":4.3478260869565216E-2},{"$f":"IF(AU15=0,0,(AU15*((LOG(AU15))/LOG(2))))","v":-0.19667660678508753}]
[21,1528,22,1553,13,1565,23,1581,13,1592,0,22121,null,12112,{"$f":"COUNTIF($L$7:$L$500,N16)","v":0},{"$f":"O16/$Q$4","v":0},{"$f":"IF(P16=0,0,(P16*((LOG(P16))/LOG(2))))","v":0},null,null,{"$f":"N16","v":12112},{"$f":"COUNTIF(L7:L29,T16)","v":0},{"$f":"U16/(W4-U25)","v":0},{"$f":"IF(V16=0,0,(V16*((LOG(V16))/LOG(2))))","v":0},null,{"$f":"N16","v":12112},{"$f":"COUNTIF(L30:L52,Y16)","v":0},{"$f":"Z16/(AB4-Z25)","v":0},{"$f":"IF(AA16=0,0,(AA16*((LOG(AA16))/LOG(2))))","v":0},null,{"$f":"N16","v":12112},{"$f":"COUNTIF(L53:L74,AD16)","v":0},{"$f":"AE16/(AG4-AE25)","v":0},{"$f":"IF(AF16=0,0,(AF16*((LOG(AF16))/LOG(2))))","v":0},null,{"$f":"N16","v":12112},{"$f":"COUNTIF(L75:L97,AI16)","v":0},{"$f":"AJ16/(AL4-AJ25)","v":0},{"$f":"IF(AK16=0,0,(AK16*((LOG(AK16))/LOG(2))))","v":0},null,{"$f":"N16","v":12112},{"$f":"COUNTIF(L98:L120,AN16)","v":0},{"$f":"AO16/(AQ4-AO25)","v":0},{"$f":"IF(AP16=0,0,(AP16*((LOG(AP16))/LOG(2))))","v":0},null,{"$f":"N16","v":12112},{"$f":"COUNTIF(L121:L143,AS16)","v":0},{"$f":"AT16/(AV4-AT25)","v":0},{"$f":"IF(AU16=0,0,(AU16*((LOG(AU16))/LOG(2))))","v":0}]
[21,1711,11,1720,11,1725,12,1729,13,1737,0,21111,null,12121,{"$f":"COUNTIF($L$7:$L$500,N17)","v":7},{"$f":"O17/$Q$4","v":5.1094890510948905E-2},{"$f":"IF(P17=0,0,(P17*((LOG(P17))/LOG(2))))","v":-0.21923167975416394},null,null,{"$f":"N17","v":12121},{"$f":"COUNTIF(L7:L29,T17)","v":0},{"$f":"U17/(W4-U25)","v":0},{"$f":"IF(V17=0,0,(V17*((LOG(V17))/LOG(2))))","v":0},null,{"$f":"N17","v":12121},{"$f":"COUNTIF(L30:L52,Y17)","v":1},{"$f":"Z17/(AB4-Z25)","v":4.3478260869565216E-2},{"$f":"IF(AA17=0,0,(AA17*((LOG(AA17))/LOG(2))))","v":-0.19667660678508753},null,{"$f":"N17","v":12121},{"$f":"COUNTIF(L53:L74,AD17)","v":1},{"$f":"AE17/(AG4-AE25)","v":4.7619047619047616E-2},{"$f":"IF(AF17=0,0,(AF17*((LOG(AF17))/LOG(2))))","v":-0.20915797251327431},null,{"$f":"N17","v":12121},{"$f":"COUNTIF(L75:L97,AI17)","v":2},{"$f":"AJ17/(AL4-AJ25)","v":9.0909090909090912E-2},{"$f":"IF(AK17=0,0,(AK17*((LOG(AK17))/LOG(2))))","v":-0.31449378351248153},null,{"$f":"N17","v":12121},{"$f":"COUNTIF(L98:L120,AN17)","v":2},{"$f":"AO17/(AQ4-AO25)","v":8.6956521739130432E-2},{"$f":"IF(AP17=0,0,(AP17*((LOG(AP17))/LOG(2))))","v":-0.30639669183104457},null,{"$f":"N17","v":12121},{"$f":"COUNTIF(L121:L143,AS17)","v":1},{"$f":"AT17/(AV4-AT25)","v":4.3478260869565216E-2},{"$f":"IF(AU17=0,0,(AU17*((LOG(AU17))/LOG(2))))","v":-0.19667660678508753}]
[21,1848,22,1853,24,1858,23,1884,13,1893,0,22221,null,12122,{"$f":"COUNTIF($L$7:$L$500,N18)","v":0},{"$f":"O18/$Q$4","v":0},{"$f":"IF(P18=0,0,(P18*((LOG(P18))/LOG(2))))","v":0},null,null,{"$f":"N18","v":12122},{"$f":"COUNTIF(L7:L29,T18)","v":0},{"$f":"U18/(W4-U25)","v":0},{"$f":"IF(V18=0,0,(V18*((LOG(V18))/LOG(2))))","v":0},null,{"$f":"N18","v":12122},{"$f":"COUNTIF(L30:L52,Y18)","v":0},{"$f":"Z18/(AB4-Z25)","v":0},{"$f":"IF(AA18=0,0,(AA18*((LOG(AA18))/LOG(2))))","v":0},null,{"$f":"N18","v":12122},{"$f":"COUNTIF(L53:L74,AD18)","v":0},{"$f":"AE18/(AG4-AE25)","v":0},{"$f":"IF(AF18=0,0,(AF18*((LOG(AF18))/LOG(2))))","v":0},null,{"$f":"N18","v":12122},{"$f":"COUNTIF(L75:L97,AI18)","v":0},{"$f":"AJ18/(AL4-AJ25)","v":0},{"$f":"IF(AK18=0,0,(AK18*((LOG(AK18))/LOG(2))))","v":0},null,{"$f":"N18","v":12122},{"$f":"COUNTIF(L98:L120,AN18)","v":0},{"$f":"AO18/(AQ4-AO25)","v":0},{"$f":"IF(AP18=0,0,(AP18*((LOG(AP18))/LOG(2))))","v":0},null,{"$f":"N18","v":12122},{"$f":"COUNTIF(L121:L143,AS18)","v":0},{"$f":"AT18/(AV4-AT25)","v":0},{"$f":"IF(AU18=0,0,(AU18*((LOG(AU18))/LOG(2))))","v":0}]
[12,2071,13,2076,13,2081,14,2089,13,2097,0,11111,null,12211,{"$f":"COUNTIF($L$7:$L$500,N19)","v":0},{"$f":"O19/$Q$4","v":0},{"$f":"IF(P19=0,0,(P19*((LOG(P19))/LOG(2))))","v":0},null,null,{"$f":"N19","v":12211},{"$f":"COUNTIF(L7:L29,T19)","v":0},{"$f":"U19/(W4-U25)","v":0},{"$f":"IF(V19=0,0,(V19*((LOG(V19))/LOG(2))))","v":0},null,{"$f":"N19","v":12211},{"$f":"COUNTIF(L30:L52,Y19)","v":0},{"$f":"Z19/(AB4-Z25)","v":0},{"$f":"IF(AA19=0,0,(AA19*((LOG(AA19))/LOG(2))))","v":0},null,{"$f":"N19","v":12211},{"$f":"COUNTIF(L53:L74,AD19)","v":0},{"$f":"AE19/(AG4-AE25)","v":0},{"$f":"IF(AF19=0,0,(AF19*((LOG(AF19))/LOG(2))))","v":0},null,{"$f":"N19","v":12211},{"$f":"COUNTIF(L75:L97,AI19)","v":0},{"$f":"AJ19/(AL4-AJ25)","v":0},{"$f":"IF(AK19=0,0,(AK19*((LOG(AK19))/LOG(2))))","v":0},null,{"$f":"N19","v":12211},{"$f":"COUNTIF(L98:L120,AN19)","v":0},{"$f":"AO19/(AQ4-AO25)","v":0},{"$f":"IF(AP19=0,0,(AP19*((LOG(AP19))/LOG(2))))","v":0},null,{"$f":"N19","v":12211},{"$f":"COUNTIF(L121:L143,AS19)","v":0},{"$f":"AT19/(AV4-AT25)","v":0},{"$f":"IF(AU19=0,0,(AU19*((LOG(AU19))/LOG(2))))","v":0}]
[21,2205,11,2218,22,2224,14,2235,24,2249,0,21212,null,12212,{"$f":"COUNTIF($L$7:$L$500,N20)","v":1},{"$f":"O20/$Q$4","v":7.2992700729927005E-3},{"$f":"IF(P20=0,0,(P20*((LOG(P20))/LOG(2))))","v":-5.1810453160295811E-2},null,null,{"$f":"N20","v":12212},{"$f":"COUNTIF(L7:L29,T20)","v":0},{"$f":"U20/(W4-U25)","v":0},{"$f":"IF(V20=0,0,(V20*((LOG(V20))/LOG(2))))","v":0},null,{"$f":"N20","v":12212},{"$f":"COUNTIF(L30:L52,Y20)","v":0},{"$f":"Z20/(AB4-Z25)","v":0},{"$f":"IF(AA20=0,0,(AA20*((LOG(AA20))/LOG(2))))","v":0},null,{"$f":"N20","v":12212},{"$f":"COUNTIF(L53:L74,AD20)","v":0},{"$f":"AE20/(AG4-AE25)","v":0},{"$f":"IF(AF20=0,0,(AF20*((LOG(AF20))/LOG(2))))","v":0},null,{"$f":"N20","v":12212},{"$f":"COUNTIF(L75:L97,AI20)","v":0},{"$f":"AJ20/(AL4-AJ25)","v":0},{"$f":"IF(AK20=0,0,(AK20*((LOG(AK20))/LOG(2))))","v":0},null,{"$f":"N20","v":12212},{"$f":"COUNTIF(L98:L120,AN20)","v":1},{"$f":"AO20/(AQ4-AO25)","v":4.3478260869565216E-2},{"$f":"IF(AP20=0,0,(AP20*((LOG(AP20))/LOG(2))))","v":-0.19667660678508753},null,{"$f":"N20","v":12212},{"$f":"COUNTIF(L121:L143,AS20)","v":0},{"$f":"AT20/(AV4-AT25)","v":0},{"$f":"IF(AU20=0,0,(AU20*((LOG(AU20))/LOG(2))))","v":0}]
[21,2368,11,2381,11,2388,21,2402,11,2413,1,21121,null,12221,{"$f":"COUNTIF($L$7:$L$500,N21)","v":0},{"$f":"O21/$Q$4","v":0},{"$f":"IF(P21=0,0,(P21*((LOG(P21))/LOG(2))))","v":0},null,null,{"$f":"N21","v":12221},{"$f":"COUNTIF(L7:L29,T21)","v":0},{"$f":"U21/(W4-U25)","v":0},{"$f":"IF(V21=0,0,(V21*((LOG(V21))/LOG(2))))","v":0},null,{"$f":"N21","v":12221},{"$f":"COUNTIF(L30:L52,Y21)","v":0},{"$f":"Z21/(AB4-Z25)","v":0},{"$f":"IF(AA21=0,0,(AA21*((LOG(AA21))/LOG(2))))","v":0},null,{"$f":"N21","v":12221},{"$f":"COUNTIF(L53:L74,AD21)","v":0},{"$f":"AE21/(AG4-AE25)","v":0},{"$f":"IF(AF21=0,0,(AF21*((LOG(AF21))/LOG(2))))","v":0},null,{"$f":"N21","v":12221},{"$f":"COUNTIF(L75:L97,AI21)","v":0},{"$f":"AJ21/(AL4-AJ25)","v":0},{"$f":"IF(AK21=0,0,(AK21*((LOG(AK21))/LOG(2))))","v":0},null,{"$f":"N21","v":12221},{"$f":"COUNTIF(L98:L120,AN21)","v":0},{"$f":"AO21/(AQ4-AO25)","v":0},{"$f":"IF(AP21=0,0,(AP21*((LOG(AP21))/LOG(2))))","v":0},null,{"$f":"N21","v":12221},{"$f":"COUNTIF(L121:L143,AS21)","v":0},{"$f":"AT21/(AV4-AT25)","v":0},{"$f":"IF(AU21=0,0,(AU21*((LOG(AU21))/LOG(2))))","v":0}]
[21,2509,22,2530,13,2546,23,2560,13,2578,0,22121,null,12222,{"$f":"COUNTIF($L$7:$L$500,N22)","v":0},{"$f":"O22/$Q$4","v":0},{"$f":"IF(P22=0,0,(P22*((LOG(P22))/LOG(2))))","v":0},null,null,{"$f":"N22","v":12222},{"$f":"COUNTIF(L7:L29,T22)","v":0},{"$f":"U22/(W4-U25)","v":0},{"$f":"IF(V22=0,0,(V22*((LOG(V22))/LOG(2))))","v":0},null,{"$f":"N22","v":12222},{"$f":"COUNTIF(L30:L52,Y22)","v":0},{"$f":"Z22/(AB4-Z25)","v":0},{"$f":"IF(AA22=0,0,(AA22*((LOG(AA22))/LOG(2))))","v":0},null,{"$f":"N22","v":12222},{"$f":"COUNTIF(L53:L74,AD22)","v":0},{"$f":"AE22/(AG4-AE25)","v":0},{"$f":"IF(AF22=0,0,(AF22*((LOG(AF22))/LOG(2))))","v":0},null,{"$f":"N22","v":12222},{"$f":"COUNTIF(L75:L97,AI22)","v":0},{"$f":"AJ22/(AL4-AJ25)","v":0},{"$f":"IF(AK22=0,0,(AK22*((LOG(AK22))/LOG(2))))","v":0},null,{"$f":"N22","v":12222},{"$f":"COUNTIF(L98:L120,AN22)","v":0},{"$f":"AO22/(AQ4-AO25)","v":0},{"$f":"IF(AP22=0,0,(AP22*((LOG(AP22))/LOG(2))))","v":0},null,{"$f":"N22","v":12222},{"$f":"COUNTIF(L121:L143,AS22)","v":0},{"$f":"AT22/(AV4-AT25)","v":0},{"$f":"IF(AU22=0,0,(AU22*((LOG(AU22))/LOG(2))))","v":0}]
[12,2684,24,2693,13,2712,14,2720,13,2728,0,12111,null,21111,{"$f":"COUNTIF($L$7:$L$500,N23)","v":5},{"$f":"O23/$Q$4","v":3.6496350364963501E-2},{"$f":"IF(P23=0,0,(P23*((LOG(P23))/LOG(2))))","v":-0.17431036452821766},null,null,{"$f":"N23","v":21111},{"$f":"COUNTIF(L7:L29,T23)","v":4},{"$f":"U23/(W4-U25)","v":0.18181818181818182},{"$f":"IF(V23=0,0,(V23*((LOG(V23))/LOG(2))))","v":-0.44716938520678134},null,{"$f":"N23","v":21111},{"$f":"COUNTIF(L30:L52,Y23)","v":0},{"$f":"Z23/(AB4-Z25)","v":0},{"$f":"IF(AA23=0,0,(AA23*((LOG(AA23))/LOG(2))))","v":0},null,{"$f":"N23","v":21111},{"$f":"COUNTIF(L53:L74,AD23)","v":0},{"$f":"AE23/(AG4-AE25)","v":0},{"$f":"IF(AF23=0,0,(AF23*((LOG(AF23))/LOG(2))))","v":0},null,{"$f":"N23","v":21111},{"$f":"COUNTIF(L75:L97,AI23)","v":0},{"$f":"AJ23/(AL4-AJ25)","v":0},{"$f":"IF(AK23=0,0,(AK23*((LOG(AK23))/LOG(2))))","v":0},null,{"$f":"N23","v":21111},{"$f":"COUNTIF(L98:L120,AN23)","v":0},{"$f":"AO23/(AQ4-AO25)","v":0},{"$f":"IF(AP23=0,0,(AP23*((LOG(AP23))/LOG(2))))","v":0},null,{"$f":"N23","v":21111},{"$f":"COUNTIF(L121:L143,AS23)","v":1},{"$f":"AT23/(AV4-AT25)","v":4.3478260869565216E-2},{"$f":"IF(AU23=0,0,(AU23*((LOG(AU23))/LOG(2))))","v":-0.19667660678508753}]
[12,2829,24,2849,13,2858,14,2863,13,2867,0,12111,null,21112,{"$f":"COUNTIF($L$7:$L$500,N24)","v":1},{"$f":"O24/$Q$4","v":7.2992700729927005E-3},{"$f":"IF(P24=0,0,(P24*((LOG(P24))/LOG(2))))","v":-5.1810453160295811E-2},null,null,{"$f":"N24","v":21112},{"$f":"COUNTIF(L7:L29,T24)","v":0},{"$f":"U24/(W4-U25)","v":0},{"$f":"IF(V24=0,0,(V24*((LOG(V24))/LOG(2))))","v":0},null,{"$f":"N24","v":21112},{"$f":"COUNTIF(L30:L52,Y24)","v":0},{"$f":"Z24/(AB4-Z25)","v":0},{"$f":"IF(AA24=0,0,(AA24*((LOG(AA24))/LOG(2))))","v":0},null,{"$f":"N24","v":21112},{"$f":"COUNTIF(L53:L74,AD24)","v":0},{"$f":"AE24/(AG4-AE25)","v":0},{"$f":"IF(AF24=0,0,(AF24*((LOG(AF24))/LOG(2))))","v":0},null,{"$f":"N24","v":21112},{"$f":"COUNTIF(L75:L97,AI24)","v":0},{"$f":"AJ24/(AL4-AJ25)","v":0},{"$f":"IF(AK24=0,0,(AK24*((LOG(AK24))/LOG(2))))","v":0},null,{"$f":"N24","v":21112},{"$f":"COUNTIF(L98:L120,AN24)","v":1},{"$f":"AO24/(AQ4-AO25)","v":4.3478260869565216E-2},{"$f":"IF(AP24=0,0,(AP24*((LOG(AP24))/LOG(2))))","v":-0.19667660678508753},null,{"$f":"N24","v":21112},{"$f":"COUNTIF(L121:L143,AS24)","v":0},{"$f":"AT24/(AV4-AT25)","v":0},{"$f":"IF(AU24=0,0,(AU24*((LOG(AU24))/LOG(2))))","v":0}]
[21,2991,11,3010,11,3026,12,3035,13,3044,0,21111,null,21121,{"$f":"COUNTIF($L$7:$L$500,N25)","v":3},{"$f":"O25/$Q$4","v":2.1897810218978103E-2},{"$f":"IF(P25=0,0,(P25*((LOG(P25))/LOG(2))))","v":-0.12072415143589862},null,null,{"$f":"N25","v":21121},{"$f":"COUNTIF(L7:L29,T25)","v":1},null,null,null,{"$f":"N25","v":21121},{"$f":"COUNTIF(L30:L52,Y25)","v":0},null,null,null,{"$f":"N25","v":21121},{"$f":"COUNTIF(L53:L74,AD25)","v":1},null,null,null,{"$f":"N25","v":21121},{"$f":"COUNTIF(L75:L97,AI25)","v":1},null,null,null,{"$f":"N25","v":21121},{"$f":"COUNTIF(L98:L120,AN25)","v":0},null,null,null,{"$f":"N25","v":21121},{"$f":"COUNTIF(L121:L143,AS25)","v":0}]
[21,3162,11,3189,22,3196,14,3207,24,3220,0,21212,null,21122,{"$f":"COUNTIF($L$7:$L$500,N26)","v":0},{"$f":"O26/$Q$4","v":0},{"$f":"IF(P26=0,0,(P26*((LOG(P26))/LOG(2))))","v":0},null,null,{"$f":"N26","v":21122},{"$f":"COUNTIF(L7:L29,T26)","v":0},{"$f":"U26/(W4-U25)","v":0},{"$f":"IF(V26=0,0,(V26*((LOG(V26))/LOG(2))))","v":0},null,{"$f":"N26","v":21122},{"$f":"COUNTIF(L30:L52,Y26)","v":0},{"$f":"Z26/(AB4-Z25)","v":0},{"$f":"IF(AA26=0,0,(AA26*((LOG(AA26))/LOG(2))))","v":0},null,{"$f":"N26","v":21122},{"$f":"COUNTIF(L53:L74,AD26)","v":0},{"$f":"AE26/(AG4-AE25)","v":0},{"$f":"IF(AF26=0,0,(AF26*((LOG(AF26))/LOG(2))))","v":0},null,{"$f":"N26","v":21122},{"$f":"COUNTIF(L75:L97,AI26)","v":0},{"$f":"AJ26/(AL4-AJ25)","v":0},{"$f":"IF(AK26=0,0,(AK26*((LOG(AK26))/LOG(2))))","v":0},null,{"$f":"N26","v":21122},{"$f":"COUNTIF(L98:L120,AN26)","v":0},{"$f":"AO26/(AQ4-AO25)","v":0},{"$f":"IF(AP26=0,0,(AP26*((LOG(AP26))/LOG(2))))","v":0},null,{"$f":"N26","v":21122},{"$f":"COUNTIF(L121:L143,AS26)","v":0},{"$f":"AT26/(AV4-AT25)","v":0},{"$f":"IF(AU26=0,0,(AU26*((LOG(AU26))/LOG(2))))","v":0}]
[21,3329,22,3360,13,3369,14,3377,24,3388,0,22112,null,21211,{"$f":"COUNTIF($L$7:$L$500,N27)","v":11},{"$f":"O27/$Q$4","v":8.0291970802919707E-2},{"$f":"IF(P27=0,0,(P27*((LOG(P27))/LOG(2))))","v":-0.29215040224493083},null,null,{"$f":"N27","v":21211},{"$f":"COUNTIF(L7:L29,T27)","v":0},{"$f":"U27/(W4-U25)","v":0},{"$f":"IF(V27=0,0,(V27*((LOG(V27))/LOG(2))))","v":0},null,{"$f":"N27","v":21211},{"$f":"COUNTIF(L30:L52,Y27)","v":3},{"$f":"Z27/(AB4-Z25)","v":0.13043478260869565},{"$f":"IF(AA27=0,0,(AA27*((LOG(AA27))/LOG(2))))","v":-0.3832955811307639},null,{"$f":"N27","v":21211},{"$f":"COUNTIF(L53:L74,AD27)","v":1},{"$f":"AE27/(AG4-AE25)","v":4.7619047619047616E-2},{"$f":"IF(AF27=0,0,(AF27*((LOG(AF27))/LOG(2))))","v":-0.20915797251327431},null,{"$f":"N27","v":21211},{"$f":"COUNTIF(L75:L97,AI27)","v":3},{"$f":"AJ27/(AL4-AJ25)","v":0.13636363636363635},{"$f":"IF(AK27=0,0,(AK27*((LOG(AK27))/LOG(2))))","v":-0.39197306153401923},null,{"$f":"N27","v":21211},{"$f":"COUNTIF(L98:L120,AN27)","v":2},{"$f":"AO27/(AQ4-AO25)","v":8.6956521739130432E-2},{"$f":"IF(AP27=0,0,(AP27*((LOG(AP27))/LOG(2))))","v":-0.30639669183104457},null,{"$f":"N27","v":21211},{"$f":"COUNTIF(L121:L143,AS27)","v":2},{"$f":"AT27/(AV4-AT25)","v":8.6956521739130432E-2},{"$f":"IF(AU27=0,0,(AU27*((LOG(AU27))/LOG(2))))","v":-0.30639669183104457}]
[21,3505,22,3509,24,3526,14,3536,13,3543,0,22211,null,21212,{"$f":"COUNTIF($L$7:$L$500,N28)","v":4},{"$f":"O28/$Q$4","v":2.9197080291970802E-2},{"$f":"IF(P28=0,0,(P28*((LOG(P28))/LOG(2))))","v":-0.14884765205724165},null,null,{"$f":"N28","v":21212},{"$f":"COUNTIF(L7:L29,T28)","v":3},{"$f":"U28/(W4-U25)","v":0.13636363636363635},{"$f":"IF(V28=0,0,(V28*((LOG(V28))/LOG(2))))","v":-0.39197306153401923},null,{"$f":"N28","v":21212},{"$f":"COUNTIF(L30:L52,Y28)","v":0},{"$f":"Z28/(AB4-Z25)","v":0},{"$f":"IF(AA28=0,0,(AA28*((LOG(AA28))/LOG(2))))","v":0},null,{"$f":"N28","v":21212},{"$f":"COUNTIF(L53:L74,AD28)","v":0},{"$f":"AE28/(AG4-AE25)","v":0},{"$f":"IF(AF28=0,0,(AF28*((LOG(AF28))/LOG(2))))","v":0},null,{"$f":"N28","v":21212},{"$f":"COUNTIF(L75:L97,AI28)","v":0},{"$f":"AJ28/(AL4-AJ25)","v":0},{"$f":"IF(AK28=0,0,(AK28*((LOG(AK28))/LOG(2))))","v":0},null,{"$f":"N28","v":21212},{"$f":"COUNTIF(L98:L120,AN28)","v":0},{"$f":"AO28/(AQ4-AO25)","v":0},{"$f":"IF(AP28=0,0,(AP28*((LOG(AP28))/LOG(2))))","v":0},null,{"$f":"N28","v":21212},{"$f":"COUNTIF(L121:L143,AS28)","v":1},{"$f":"AT28/(AV4-AT25)","v":4.3478260869565216E-2},{"$f":"IF(AU28=0,0,(AU28*((LOG(AU28))/LOG(2))))","v":-0.19667660678508753}]
[21,3643,22,3649,13,3662,23,3672,13,3683,0,22121,null,21221,{"$f":"COUNTIF($L$7:$L$500,N29)","v":0},{"$f":"O29/$Q$4","v":0},{"$f":"IF(P29=0,0,(P29*((LOG(P29))/LOG(2))))","v":0},null,null,{"$f":"N29","v":21221},{"$f":"COUNTIF(L7:L29,T29)","v":0},{"$f":"U29/(W4-U25)","v":0},{"$f":"IF(V29=0,0,(V29*((LOG(V29))/LOG(2))))","v":0},null,{"$f":"N29","v":21221},{"$f":"COUNTIF(L30:L52,Y29)","v":0},{"$f":"Z29/(AB4-Z25)","v":0},{"$f":"IF(AA29=0,0,(AA29*((LOG(AA29))/LOG(2))))","v":0},null,{"$f":"N29","v":21221},{"$f":"COUNTIF(L53:L74,AD29)","v":0},{"$f":"AE29/(AG4-AE25)","v":0},{"$f":"IF(AF29=0,0,(AF29*((LOG(AF29))/LOG(2))))","v":0},null,{"$f":"N29","v":21221},{"$f":"COUNTIF(L75:L97,AI29)","v":0},{"$f":"AJ29/(AL4-AJ25)","v":0},{"$f":"IF(AK29=0,0,(AK29*((LOG(AK29))/LOG(2))))","v":0},null,{"$f":"N29","v":21221},{"$f":"COUNTIF(L98:L120,AN29)","v":0},{"$f":"AO29/(AQ4-AO25)","v":0},{"$f":"IF(AP29=0,0,(AP29*((LOG(AP29))/LOG(2))))","v":0},null,{"$f":"N29","v":21221},{"$f":"COUNTIF(L121:L143,AS29)","v":0},{"$f":"AT29/(AV4-AT25)","v":0},{"$f":"IF(AU29=0,0,(AU29*((LOG(AU29))/LOG(2))))","v":0}]
[12,3786,24,3798,13,3809,14,3814,13,3820,0,12111,null,21222,{"$f":"COUNTIF($L$7:$L$500,N30)","v":0},{"$f":"O30/$Q$4","v":0},{"$f":"IF(P30=0,0,(P30*((LOG(P30))/LOG(2))))","v":0},null,null,{"$f":"N30","v":21222},{"$f":"COUNTIF(L7:L29,T30)","v":0},{"$f":"U30/(W4-U25)","v":0},{"$f":"IF(V30=0,0,(V30*((LOG(V30))/LOG(2))))","v":0},null,{"$f":"N30","v":21222},{"$f":"COUNTIF(L30:L52,Y30)","v":0},{"$f":"Z30/(AB4-Z25)","v":0},{"$f":"IF(AA30=0,0,(AA30*((LOG(AA30))/LOG(2))))","v":0},null,{"$f":"N30","v":21222},{"$f":"COUNTIF(L53:L74,AD30)","v":0},{"$f":"AE30/(AG4-AE25)","v":0},{"$f":"IF(AF30=0,0,(AF30*((LOG(AF30))/LOG(2))))","v":0},null,{"$f":"N30","v":21222},{"$f":"COUNTIF(L75:L97,AI30)","v":0},{"$f":"AJ30/(AL4-AJ25)","v":0},{"$f":"IF(AK30=0,0,(AK30*((LOG(AK30))/LOG(2))))","v":0},null,{"$f":"N30","v":21222},{"$f":"COUNTIF(L98:L120,AN30)","v":0},{"$f":"AO30/(AQ4-AO25)","v":0},{"$f":"IF(AP30=0,0,(AP30*((LOG(AP30))/LOG(2))))","v":0},null,{"$f":"N30","v":21222},{"$f":"COUNTIF(L121:L143,AS30)","v":0},{"$f":"AT30/(AV4-AT25)","v":0},{"$f":"IF(AU30=0,0,(AU30*((LOG(AU30))/LOG(2))))","v":0}]
[21,3948,22,3956,13,3968,23,3974,13,3985,0,22121,null,22111,{"$f":"COUNTIF($L$7:$L$500,N31)","v":10},{"$f":"O31/$Q$4","v":7.2992700729927001E-2},{"$f":"IF(P31=0,0,(P31*((LOG(P31))/LOG(2))))","v":-0.27562802832650835},null,null,{"$f":"N31","v":22111},{"$f":"COUNTIF(L7:L29,T31)","v":1},{"$f":"U31/(W4-U25)","v":4.5454545454545456E-2},{"$f":"IF(V31=0,0,(V31*((LOG(V31))/LOG(2))))","v":-0.20270143721078623},null,{"$f":"N31","v":22111},{"$f":"COUNTIF(L30:L52,Y31)","v":1},{"$f":"Z31/(AB4-Z25)","v":4.3478260869565216E-2},{"$f":"IF(AA31=0,0,(AA31*((LOG(AA31))/LOG(2))))","v":-0.19667660678508753},null,{"$f":"N31","v":22111},{"$f":"COUNTIF(L53:L74,AD31)","v":2},{"$f":"AE31/(AG4-AE25)","v":9.5238095238095233E-2},{"$f":"IF(AF31=0,0,(AF31*((LOG(AF31))/LOG(2))))","v":-0.32307784978845333},null,{"$f":"N31","v":22111},{"$f":"COUNTIF(L75:L97,AI31)","v":3},{"$f":"AJ31/(AL4-AJ25)","v":0.13636363636363635},{"$f":"IF(AK31=0,0,(AK31*((LOG(AK31))/LOG(2))))","v":-0.39197306153401923},null,{"$f":"N31","v":22111},{"$f":"COUNTIF(L98:L120,AN31)","v":1},{"$f":"AO31/(AQ4-AO25)","v":4.3478260869565216E-2},{"$f":"IF(AP31=0,0,(AP31*((LOG(AP31))/LOG(2))))","v":-0.19667660678508753},null,{"$f":"N31","v":22111},{"$f":"COUNTIF(L121:L143,AS31)","v":2},{"$f":"AT31/(AV4-AT25)","v":8.6956521739130432E-2},{"$f":"IF(AU31=0,0,(AU31*((LOG(AU31))/LOG(2))))","v":-0.30639669183104457}]
[21,4107,11,4117,22,4134,14,4147,13,4155,0,21211,null,22112,{"$f":"COUNTIF($L$7:$L$500,N32)","v":5},{"$f":"O32/$Q$4","v":3.6496350364963501E-2},{"$f":"IF(P32=0,0,(P32*((LOG(P32))/LOG(2))))","v":-0.17431036452821766},null,null,{"$f":"N32","v":22112},{"$f":"COUNTIF(L7:L29,T32)","v":3},{"$f":"U32/(W4-U25)","v":0.13636363636363635},{"$f":"IF(V32=0,0,(V32*((LOG(V32))/LOG(2))))","v":-0.39197306153401923},null,{"$f":"N32","v":22112},{"$f":"COUNTIF(L30:L52,Y32)","v":1},{"$f":"Z32/(AB4-Z25)","v":4.3478260869565216E-2},{"$f":"IF(AA32=0,0,(AA32*((LOG(AA32))/LOG(2))))","v":-0.19667660678508753},null,{"$f":"N32","v":22112},{"$f":"COUNTIF(L53:L74,AD32)","v":0},{"$f":"AE32/(AG4-AE25)","v":0},{"$f":"IF(AF32=0,0,(AF32*((LOG(AF32))/LOG(2))))","v":0},null,{"$f":"N32","v":22112},{"$f":"COUNTIF(L75:L97,AI32)","v":1},{"$f":"AJ32/(AL4-AJ25)","v":4.5454545454545456E-2},{"$f":"IF(AK32=0,0,(AK32*((LOG(AK32))/LOG(2))))","v":-0.20270143721078623},null,{"$f":"N32","v":22112},{"$f":"COUNTIF(L98:L120,AN32)","v":0},{"$f":"AO32/(AQ4-AO25)","v":0},{"$f":"IF(AP32=0,0,(AP32*((LOG(AP32))/LOG(2))))","v":0},null,{"$f":"N32","v":22112},{"$f":"COUNTIF(L121:L143,AS32)","v":0},{"$f":"AT32/(AV4-AT25)","v":0},{"$f":"IF(AU32=0,0,(AU32*((LOG(AU32))/LOG(2))))","v":0}]
[12,4281,24,4289,13,4303,23,4313,13,4340,0,12121,null,22121,{"$f":"COUNTIF($L$7:$L$500,N33)","v":29},{"$f":"O33/$Q$4","v":0.21167883211678831},{"$f":"IF(P33=0,0,(P33*((LOG(P33))/LOG(2))))","v":-0.474171398154421},null,null,{"$f":"N33","v":22121},{"$f":"COUNTIF(L7:L29,T33)","v":3},{"$f":"U33/(W4-U25)","v":0.13636363636363635},{"$f":"IF(V33=0,0,(V33*((LOG(V33))/LOG(2))))","v":-0.39197306153401923},null,{"$f":"N33","v":22121},{"$f":"COUNTIF(L30:L52,Y33)","v":8},{"$f":"Z33/(AB4-Z25)","v":0.34782608695652173},{"$f":"IF(AA33=0,0,(AA33*((LOG(AA33))/LOG(2))))","v":-0.52993459341113491},null,{"$f":"N33","v":22121},{"$f":"COUNTIF(L53:L74,AD33)","v":4},{"$f":"AE33/(AG4-AE25)","v":0.19047619047619047},{"$f":"IF(AF33=0,0,(AF33*((LOG(AF33))/LOG(2))))","v":-0.4556795091007162},null,{"$f":"N33","v":22121},{"$f":"COUNTIF(L75:L97,AI33)","v":4},{"$f":"AJ33/(AL4-AJ25)","v":0.18181818181818182},{"$f":"IF(AK33=0,0,(AK33*((LOG(AK33))/LOG(2))))","v":-0.44716938520678134},null,{"$f":"N33","v":22121},{"$f":"COUNTIF(L98:L120,AN33)","v":3},{"$f":"AO33/(AQ4-AO25)","v":0.13043478260869565},{"$f":"IF(AP33=0,0,(AP33*((LOG(AP33))/LOG(2))))","v":-0.3832955811307639},null,{"$f":"N33","v":22121},{"$f":"COUNTIF(L121:L143,AS33)","v":7},{"$f":"AT33/(AV4-AT25)","v":0.30434782608695654},{"$f":"IF(AU33=0,0,(AU33*((LOG(AU33))/LOG(2))))","v":-0.52232387991286355}]
[21,4457,22,4476,13,4492,14,4499,24,4512,0,22112,null,22122,{"$f":"COUNTIF($L$7:$L$500,N34)","v":1},{"$f":"O34/$Q$4","v":7.2992700729927005E-3},{"$f":"IF(P34=0,0,(P34*((LOG(P34))/LOG(2))))","v":-5.1810453160295811E-2},null,null,{"$f":"N34","v":22122},{"$f":"COUNTIF(L7:L29,T34)","v":0},{"$f":"U34/(W4-U25)","v":0},{"$f":"IF(V34=0,0,(V34*((LOG(V34))/LOG(2))))","v":0},null,{"$f":"N34","v":22122},{"$f":"COUNTIF(L30:L52,Y34)","v":0},{"$f":"Z34/(AB4-Z25)","v":0},{"$f":"IF(AA34=0,0,(AA34*((LOG(AA34))/LOG(2))))","v":0},null,{"$f":"N34","v":22122},{"$f":"COUNTIF(L53:L74,AD34)","v":0},{"$f":"AE34/(AG4-AE25)","v":0},{"$f":"IF(AF34=0,0,(AF34*((LOG(AF34))/LOG(2))))","v":0},null,{"$f":"N34","v":22122},{"$f":"COUNTIF(L75:L97,AI34)","v":0},{"$f":"AJ34/(AL4-AJ25)","v":0},{"$f":"IF(AK34=0,0,(AK34*((LOG(AK34))/LOG(2))))","v":0},null,{"$f":"N34","v":22122},{"$f":"COUNTIF(L98:L120,AN34)","v":1},{"$f":"AO34/(AQ4-AO25)","v":4.3478260869565216E-2},{"$f":"IF(AP34=0,0,(AP34*((LOG(AP34))/LOG(2))))","v":-0.19667660678508753},null,{"$f":"N34","v":22122},{"$f":"COUNTIF(L121:L143,AS34)","v":0},{"$f":"AT34/(AV4-AT25)","v":0},{"$f":"IF(AU34=0,0,(AU34*((LOG(AU34))/LOG(2))))","v":0}]
[21,4645,22,4654,24,4674,14,4692,24,4707,0,22212,null,22211,{"$f":"COUNTIF($L$7:$L$500,N35)","v":12},{"$f":"O35/$Q$4","v":8.7591240875912413E-2},{"$f":"IF(P35=0,0,(P35*((LOG(P35))/LOG(2))))","v":-0.30771412399176973},null,null,{"$f":"N35","v":22211},{"$f":"COUNTIF(L7:L29,T35)","v":1},{"$f":"U35/(W4-U25)","v":4.5454545454545456E-2},{"$f":"IF(V35=0,0,(V35*((LOG(V35))/LOG(2))))","v":-0.20270143721078623},null,{"$f":"N35","v":22211},{"$f":"COUNTIF(L30:L52,Y35)","v":3},{"$f":"Z35/(AB4-Z25)","v":0.13043478260869565},{"$f":"IF(AA35=0,0,(AA35*((LOG(AA35))/LOG(2))))","v":-0.3832955811307639},null,{"$f":"N35","v":22211},{"$f":"COUNTIF(L53:L74,AD35)","v":4},{"$f":"AE35/(AG4-AE25)","v":0.19047619047619047},{"$f":"IF(AF35=0,0,(AF35*((LOG(AF35))/LOG(2))))","v":-0.4556795091007162},null,{"$f":"N35","v":22211},{"$f":"COUNTIF(L75:L97,AI35)","v":2},{"$f":"AJ35/(AL4-AJ25)","v":9.0909090909090912E-2},{"$f":"IF(AK35=0,0,(AK35*((LOG(AK35))/LOG(2))))","v":-0.31449378351248153},null,{"$f":"N35","v":22211},{"$f":"COUNTIF(L98:L120,AN35)","v":1},{"$f":"AO35/(AQ4-AO25)","v":4.3478260869565216E-2},{"$f":"IF(AP35=0,0,(AP35*((LOG(AP35))/LOG(2))))","v":-0.19667660678508753},null,{"$f":"N35","v":22211},{"$f":"COUNTIF(L121:L143,AS35)","v":1},{"$f":"AT35/(AV4-AT25)","v":4.3478260869565216E-2},{"$f":"IF(AU35=0,0,(AU35*((LOG(AU35))/LOG(2))))","v":-0.19667660678508753}]
[21,4833,11,4849,22,4867,14,4875,13,4886,0,21211,null,22212,{"$f":"COUNTIF($L$7:$L$500,N36)","v":15},{"$f":"O36/$Q$4","v":0.10948905109489052},{"$f":"IF(P36=0,0,(P36*((LOG(P36))/LOG(2))))","v":-0.34939505335970894},null,null,{"$f":"N36","v":22212},{"$f":"COUNTIF(L7:L29,T36)","v":0},{"$f":"U36/(W4-U25)","v":0},{"$f":"IF(V36=0,0,(V36*((LOG(V36))/LOG(2))))","v":0},null,{"$f":"N36","v":22212},{"$f":"COUNTIF(L30:L52,Y36)","v":2},{"$f":"Z36/(AB4-Z25)","v":8.6956521739130432E-2},{"$f":"IF(AA36=0,0,(AA36*((LOG(AA36))/LOG(2))))","v":-0.30639669183104457},null,{"$f":"N36","v":22212},{"$f":"COUNTIF(L53:L74,AD36)","v":7},{"$f":"AE36/(AG4-AE25)","v":0.33333333333333331},{"$f":"IF(AF36=0,0,(AF36*((LOG(AF36))/LOG(2))))","v":-0.52832083357371862},null,{"$f":"N36","v":22212},{"$f":"COUNTIF(L75:L97,AI36)","v":1},{"$f":"AJ36/(AL4-AJ25)","v":4.5454545454545456E-2},{"$f":"IF(AK36=0,0,(AK36*((LOG(AK36))/LOG(2))))","v":-0.20270143721078623},null,{"$f":"N36","v":22212},{"$f":"COUNTIF(L98:L120,AN36)","v":5},{"$f":"AO36/(AQ4-AO25)","v":0.21739130434782608},{"$f":"IF(AP36=0,0,(AP36*((LOG(AP36))/LOG(2))))","v":-0.47861605677601093},null,{"$f":"N36","v":22212},{"$f":"COUNTIF(L121:L143,AS36)","v":0},{"$f":"AT36/(AV4-AT25)","v":0},{"$f":"IF(AU36=0,0,(AU36*((LOG(AU36))/LOG(2))))","v":0}]
[21,4990,22,5012,13,5022,23,5031,13,5043,0,22121,null,22221,{"$f":"COUNTIF($L$7:$L$500,N37)","v":9},{"$f":"O37/$Q$4","v":6.569343065693431E-2},{"$f":"IF(P37=0,0,(P37*((LOG(P37))/LOG(2))))","v":-0.2580508301727294},null,null,{"$f":"N37","v":22221},{"$f":"COUNTIF(L7:L29,T37)","v":1},{"$f":"U37/(W4-U25)","v":4.5454545454545456E-2},{"$f":"IF(V37=0,0,(V37*((LOG(V37))/LOG(2))))","v":-0.20270143721078623},null,{"$f":"N37","v":22221},{"$f":"COUNTIF(L30:L52,Y37)","v":3},{"$f":"Z37/(AB4-Z25)","v":0.13043478260869565},{"$f":"IF(AA37=0,0,(AA37*((LOG(AA37))/LOG(2))))","v":-0.3832955811307639},null,{"$f":"N37","v":22221},{"$f":"COUNTIF(L53:L74,AD37)","v":1},{"$f":"AE37/(AG4-AE25)","v":4.7619047619047616E-2},{"$f":"IF(AF37=0,0,(AF37*((LOG(AF37))/LOG(2))))","v":-0.20915797251327431},null,{"$f":"N37","v":22221},{"$f":"COUNTIF(L75:L97,AI37)","v":2},{"$f":"AJ37/(AL4-AJ25)","v":9.0909090909090912E-2},{"$f":"IF(AK37=0,0,(AK37*((LOG(AK37))/LOG(2))))","v":-0.31449378351248153},null,{"$f":"N37","v":22221},{"$f":"COUNTIF(L98:L120,AN37)","v":0},{"$f":"AO37/(AQ4-AO25)","v":0},{"$f":"IF(AP37=0,0,(AP37*((LOG(AP37))/LOG(2))))","v":0},null,{"$f":"N37","v":22221},{"$f":"COUNTIF(L121:L143,AS37)","v":2},{"$f":"AT37/(AV4-AT25)","v":8.6956521739130432E-2},{"$f":"IF(AU37=0,0,(AU37*((LOG(AU37))/LOG(2))))","v":-0.30639669183104457}]
[21,5174,22,5188,13,5198,23,5209,13,5227,0,22121,null,22222,{"$f":"COUNTIF($L$7:$L$500,N38)","v":2},{"$f":"O38/$Q$4","v":1.4598540145985401E-2},{"$f":"IF(P38=0,0,(P38*((LOG(P38))/LOG(2))))","v":-8.9022366174606238E-2},null,null,{"$f":"N38","v":22222},{"$f":"COUNTIF(L7:L29,T38)","v":0},{"$f":"U38/(W4-U25)","v":0},{"$f":"IF(V38=0,0,(V38*((LOG(V38))/LOG(2))))","v":0},null,{"$f":"N38","v":22222},{"$f":"COUNTIF(L30:L52,Y38)","v":0},{"$f":"Z38/(AB4-Z25)","v":0},{"$f":"IF(AA38=0,0,(AA38*((LOG(AA38))/LOG(2))))","v":0},null,{"$f":"N38","v":22222},{"$f":"COUNTIF(L53:L74,AD38)","v":0},{"$f":"AE38/(AG4-AE25)","v":0},{"$f":"IF(AF38=0,0,(AF38*((LOG(AF38))/LOG(2))))","v":0},null,{"$f":"N38","v":22222},{"$f":"COUNTIF(L75:L97,AI38)","v":0},{"$f":"AJ38/(AL4-AJ25)","v":0},{"$f":"IF(AK38=0,0,(AK38*((LOG(AK38))/LOG(2))))","v":0},null,{"$f":"N38","v":22222},{"$f":"COUNTIF(L98:L120,AN38)","v":1},{"$f":"AO38/(AQ4-AO25)","v":4.3478260869565216E-2},{"$f":"IF(AP38=0,0,(AP38*((LOG(AP38))/LOG(2))))","v":-0.19667660678508753},null,{"$f":"N38","v":22222},{"$f":"COUNTIF(L121:L143,AS38)","v":1},{"$f":"AT38/(AV4-AT25)","v":4.3478260869565216E-2},{"$f":"IF(AU38=0,0,(AU38*((LOG(AU38))/LOG(2))))","v":-0.19667660678508753}]
[21,5352,22,5371,13,5382,14,5387,13,5394,0,22111,null,null,null,{"$f":"SUM(P7:P38)","v":0.99999999999999989},{"$f":"-SUM(Q7:Q38)","v":3.8257919920817924},null,null,null,null,{"$f":"SUM(V7:V38)","v":0.99999999999999978},{"$f":"-SUM(W7:W38)","v":3.0837651410695512},null,null,null,{"$f":"SUM(AA7:AA38)","v":1},{"$f":"-SUM(AB7:AB38)","v":2.7729244557748216},null,null,null,{"$f":"SUM(AF7:AF38)","v":1},{"$f":"-SUM(AG7:AG38)","v":2.5993895916167014},null,null,null,{"$f":"SUM(AK7:AK38)","v":1},{"$f":"-SUM(AL7:AL38)","v":3.174674231978643},null,null,null,{"$f":"SUM(AP7:AP38)","v":0.99999999999999989},{"$f":"-SUM(AQ7:AQ38)","v":3.5511911744656968},null,null,null,{"$f":"SUM(AU7:AU38)","v":1},{"$f":"-SUM(AV7:AV38)","v":3.201545784032374}]
[21,5518,22,5523,24,5529,23,5551,13,5562,0,22221,null,null,null,"U=",{"$f":"Q39/(LOG(Q4)/LOG(2))","v":0.53899333609183808},null,null,null,null,"U1=",{"$f":"W39/(LOG(W4)/LOG(2))","v":0.68171170662102121},null,null,null,"U2=",{"$f":"AB39/(LOG(AB4)/LOG(2))","v":0.61299579462195675},null,null,null,"U3=",{"$f":"AG39/(LOG(AG4)/LOG(2))","v":0.58289706265549079},null,null,null,"U4=",{"$f":"AL39/(LOG(AL4)/LOG(2))","v":0.70180850020806718},null,null,null,"U5=",{"$f":"AQ39/(LOG(AQ4)/LOG(2))","v":0.78504311623513423},null,null,null,"U6=",{"$f":"AV39/(LOG(AV4)/LOG(2))","v":0.70774885259292841}]
[21,5708,11,5718,22,5727,14,5736,13,5740,0,21211]
[21,5855,22,5859,24,5876,23,5893,13,5904,0,22221]
[21,6021,22,6026,24,6045,14,6055,13,6062,0,22211,null,"Total Target Seq"]
[21,6183,22,6188,13,6201,23,6207,13,6218,0,22121,null,{"$f":"COUNTIF(L7:L143,G3)","v":3},null,23,23,22,23,23,23]
[21,6351,22,6368,13,6380,23,6389,13,6399,0,22121,null,null,null,"% of reinforcement given in 6 equal intervals based on number of trials "]
[21,6534,22,6539,24,6546,23,6563,13,6572,0,22221,null,null,null,"%_1","%_2","%_3","%_4","%_5","%_6"]
[21,6737,22,6754,13,6763,23,6776,13,6788,0,22121,null,null,"target sequence",{"$f":"$G$3","v":21121},{"$f":"$G$3","v":21121},{"$f":"$G$3","v":21121},{"$f":"$G$3","v":21121},{"$f":"$G$3","v":21121},{"$f":"$G$3","v":21121}]
[21,6901,22,6937,13,6949,23,6963,13,6974,0,22121,null,null,"total reinforcement",{"$f":"U25","v":1},{"$f":"Z25","v":0},{"$f":"AE25","v":1},{"$f":"AJ25","v":1},{"$f":"AO25","v":0},{"$f":"AT25","v":0}]
[21,7109,22,7126,13,7139,23,7148,13,7160,0,22121,null,null,"% target"]
[21,7263,22,7268,24,7273,14,7290,24,7296,0,22212,null,null,"CCRF"]
[21,7421,22,7425,24,7438,14,7447,13,7454,0,22211,null,null,"% CCRf"]
[21,7587,22,7595,24,7608,14,7620,13,7628,0,22211,null,null,"average response rate",{"$f":"J29/P44","v":160.13043478260869},{"$f":"(J52-J29)/Q44","v":171.52173913043478},{"$f":"(J74-J52)/R44","v":174.5},{"$f":"(J97-J74)/S44","v":179.52173913043478},{"$f":"(J120-J97)/T44","v":168.13043478260869},{"$f":"(J143-J120)/U44","v":192.69565217391303}]
[21,7772,22,7788,13,7797,23,7807,13,7816,0,22121]
[21,7943,22,7958,24,7964,23,7980,13,7995,0,22221]
[21,8136,22,8144,24,8160,14,8170,24,8182,0,22212]
[21,8292,22,8301,24,8315,14,8327,24,8334,0,22212]
[21,8489,11,8512,22,8521,14,8532,13,8541,0,21211]
[21,8672,22,8677,13,8691,23,8699,13,8710,0,22121]
[12,8862,24,8870,13,8879,23,8889,13,8901,0,12121]
[21,9043,22,9048,24,9061,14,9074,24,9080,0,22212]
[21,9208,22,9216,24,9243,14,9252,13,9262,0,22211]
[21,9475,11,9486,11,9493,21,9504,11,9515,1,21121]
[21,9610,22,9614,24,9636,14,9647,24,9662,0,22212]
[21,9766,22,9771,24,9789,14,9799,24,9808,0,22212]
[21,9957,22,9979,13,9989,23,10002,13,10018,0,22121]
[21,10176,22,10180,24,10201,14,10209,13,10217,0,22211]
[21,10335,22,10344,24,10361,14,10370,24,10377,0,22212]
[21,10508,22,10513,24,10533,14,10542,13,10550,0,22211]
[21,10662,22,10670,13,10680,14,10684,13,10692,0,22111]
[21,10832,22,10840,24,10856,14,10866,13,10877,0,22211]
[21,11008,22,11015,24,11019,14,11031,24,11040,0,22212]
[21,11147,22,11165,13,11175,14,11180,13,11187,0,22111]
[21,11291,22,11296,13,11305,23,11314,13,11328,0,22121]
[12,11434,13,11439,13,11446,23,11455,13,11467,0,11121]
[12,11594,13,11598,13,11602,14,11610,24,11626,0,11112]
[21,11738,22,11744,13,11754,14,11759,13,11767,0,22111]
[12,11868,24,11877,13,11892,23,11901,13,11912,0,12121]
[21,12037,11,12047,22,12054,14,12066,13,12073,0,21211]
[21,12180,22,12199,13,12213,14,12218,13,12225,0,22111]
[12,12362,24,12368,13,12378,23,12387,13,12397,0,12121]
[12,12532,13,12547,13,12552,14,12556,13,12560,0,11111]
[21,12675,22,12680,13,12692,23,12702,13,12713,0,22121]
[21,12862,22,12866,13,12883,14,12887,13,12893,0,22111]
[12,13049,13,13054,13,13058,14,13063,24,13077,0,11112]
[21,13215,11,13227,22,13236,14,13246,13,13251,0,21211]
[21,13452,22,13520,24,13528,14,13544,13,13554,0,22211]
[21,13697,22,13703,13,13724,23,13735,13,13746,0,22121]
[21,13872,11,13891,22,13898,14,13909,13,13917,0,21211]
[21,14142,22,14148,13,14160,14,14171,24,14186,0,22112]
[21,14310,22,14315,24,14331,23,14336,13,14345,0,22221]
[21,14533,22,14539,24,14560,14,14569,13,14577,0,22211]
[21,14724,22,14729,13,14741,23,14748,13,14759,0,22121]
[12,14879,13,14883,13,14888,14,14896,24,14910,0,11112]
[21,15013,22,15045,24,15054,23,15061,13,15070,0,22221]
[21,15290,11,15298,11,15312,21,15327,11,15336,1,21121]
[21,15429,22,15433,13,15444,23,15453,13,15466,0,22121]
[21,15568,22,15573,24,15577,14,15586,24,15596,0,22212]
[12,15695,24,15707,24,15711,14,15721,24,15730,0,12212]
[21,15841,22,15846,13,15863,23,15870,13,15882,0,22121]
[12,15985,13,15991,24,16004,14,16014,24,16023,0,11212]
[12,16137,13,16142,24,16151,14,16162,13,16183,0,11211]
[21,16293,22,16297,24,16321,14,16330,24,16340,0,22212]
[12,16451,13,16456,13,16461,23,16475,13,16486,0,11121]
[21,16633,22,16638,13,16650,23,16664,24,16674,0,22122]
[21,16806,22,16810,13,16819,14,16825,13,16832,0,22111]
[12,16977,24,16983,13,16994,23,17003,13,17014,0,12121]
[21,17163,11,17172,22,17181,14,17193,13,17202,0,21211]
[21,17307,11,17327,22,17333,14,17349,13,17356,0,21211]
[21,17499,22,17506,24,17524,14,17533,13,17542,0,22211]
[21,17665,22,17674,24,17689,14,17697,24,17708,0,22212]
[21,17850,22,17858,24,17873,14,17882,24,17891,0,22212]
[21,17993,22,18030,24,18035,23,18049,24,18060,0,22222]
[12,18181,24,18190,13,18199,14,18203,13,18212,0,12111]
[12,18345,24,18354,13,18365,23,18378,13,18389,0,12121]
[21,18509,22,18521,13,18537,23,18550,13,18561,0,22121]
[21,18705,22,18710,24,18722,14,18736,24,18745,0,22212]
[12,18881,24,18895,13,18905,14,18913,13,18923,0,12111]
[21,19058,22,19060,24,19080,14,19090,24,19099,0,22212]
[21,19221,22,19226,13,19237,23,19246,13,19258,0,22121]
[21,19422,11,19434,11,19442,12,19450,24,19463,0,21112]
[21,19574,22,19579,24,19601,23,19613,13,19623,0,22221]
[12,19804,24,19814,13,19823,23,19834,13,19845,0,12121]
[12,19961,13,19969,13,19979,23,19988,13,19997,0,11121]
[21,20129,22,20133,24,20150,14,20159,13,20168,0,22211]
[21,20325,22,20342,13,20352,23,20361,13,20370,0,22121]
[21,20627,22,20635,13,20645,23,20654,13,20667,0,22121]
[12,20788,13,20792,13,20797,14,20801,13,20806,0,11111]
[21,20929,22,20934,13,20967,23,20979,13,20997,0,22121]
[12,21398,13,21403,13,21408,14,21417,13,21426,0,11111]
[12,21551,24,21560,13,21569,14,21574,13,21582,0,12111]
[21,21686,22,21692,13,21702,23,21712,13,21727,0,22121]
[21,21854,22,21859,24,21863,23,21879,13,21888,0,22221]
[21,21996,22,22001,24,22015,23,22019,24,22038,0,22222]
[21,22196,22,22216,13,22231,14,22236,13,22244,0,22111]
[21,22360,22,22386,13,22399,23,22414,13,22423,0,22121]
[21,22621,11,22635,22,22645,14,22655,13,22663,0,21211]
[21,22776,22,22801,13,22811,23,22831,13,22843,0,22121]
[12,22959,13,22969,13,22973,14,22980,13,22988,0,11111]
[21,23161,22,23185,13,23196,23,23209,13,23221,0,22121]
[21,23353,11,23385,22,23395,14,23406,24,23419,0,21212]
[21,23539,11,23556,11,23561,12,23566,13,23573,0,21111]
[21,23703,22,23708,13,23719,14,23724,13,23729,0,22111]
[21,23857,11,23871,22,23877,14,23888,13,23895,0,21211]

{"sheet":"!N210800.091","index":21,"n_rows":150,"n_cols":48,"rows_kept":150,"cut":false,"hidden":false,"merged":[[4,39,4,42],[5,39,5,40],[4,44,4,47],[5,44,5,45],[4,24,4,27],[5,24,5,25],[4,29,4,32],[5,29,5,30],[4,34,4,37],[5,34,5,35],[1,1,1,2],[5,13,5,14],[42,13,42,14],[43,13,43,14],[4,19,4,22],[5,19,5,20]]}
["Report for:!N210800.091"]
["Date:","<date>"]
["Hen:","<hen>",null,null,null,"Correct Sequence",{"$f":"Start!J2","v":21121},null,null,null,null,null,null,null,null,"Total Sequences in Data",{"$f":"4994-COUNTBLANK(L7:L5000)","v":144},null,null,null,null,"Total Sequences in Block Data",{"$f":"COUNTA(L7:L30)","v":24},null,null,null,"Total Sequences in Block Data",{"$f":"COUNTA(L31:L54)","v":24},null,null,null,"Total Sequences in Block Data",{"$f":"COUNTA(L55:L78)","v":24},null,null,null,"Total Sequences in Block Data",{"$f":"COUNTA(L79:L102)","v":24},null,null,null,"Total Sequences in Block Data",{"$f":"COUNTA(L103:L126)","v":24},null,null,null,"Total Sequences in Block Data",{"$f":"COUNTA(L127:L150)","v":24}]
[null,null,null,null,null,null,null,null,null,null,null,null,null,null,null,"Total Sequences in Summary",{"$f":"SUM(O7:O38)","v":143},null,null,null,null,"Total Sequences in Block Summary",{"$f":"SUM(U7:U38)","v":24},null,null,null,"Total Sequences in Block Summary",{"$f":"SUM(Z7:Z38)","v":24},null,null,null,"Total Sequences in Block Summary",{"$f":"SUM(AE7:AE38)","v":24},null,null,null,"Total Sequences in Block Summary",{"$f":"SUM(AJ7:AJ38)","v":24},null,null,null,"Total Sequences in Block Summary",{"$f":"SUM(AO7:AO38)","v":24},null,null,null,"Total Sequences in Block Summary",{"$f":"SUM(AT7:AT38)","v":23}]
[null,null,null,null,null,null,null,null,null,null,null,null,null,null,null,null,null,null,null,"Block 1",null,null,null,null,"Block 2",null,null,null,null,"Block 3",null,null,null,null,"Block 4",null,null,null,null,"Block 5",null,null,null,null,"Block 6"]
["Sequence\nComponent\n1","Time\n1","Sequence\nComponent\n2","Time\n2","Sequence\nComponent\n3","Time\n3","Sequence\nComponent\n4","Time\n4","Sequence\nComponent\n5","Time\n5","Correct?\n0=No 1=Yes","Sequence",null,"Frequency",null,"Relative Frequency","Variability",null,null,"Frequency",null,"Relative Frequency","Variability",null,"Frequency",null,"Relative Frequency","Variability",null,"Frequency",null,"Relative Frequency","Variability",null,"Frequency",null,"Relative Frequency","Variability",null,"Frequency",null,"Relative Frequency","Variability",null,"Frequency",null,"Relative Frequency","Variability"]
[21,15,11,29,22,40,14,52,24,65,0,21212,null,11111,{"$f":"COUNTIF($L$7:$L$500,N7)","v":2},{"$f":"O7/$Q$4","v":1.3986013986013986E-2},{"$f":"IF(P7=0,0,(P7*((LOG(P7))/LOG(2))))","v":-8.6152046668229218E-2},null,null,{"$f":"N7","v":11111},{"$f":"COUNTIF(L7:L30,T7)","v":0},{"$f":"U7/(W4-U25)","v":0},{"$f":"IF(V7=0,0,(V7*((LOG(V7))/LOG(2))))","v":0},null,{"$f":"N7","v":11111},{"$f":"COUNTIF(L31:L54,Y7)","v":0},{"$f":"Z7/(AB4-Z25)","v":0},{"$f":"IF(AA7=0,0,(AA7*((LOG(AA7))/LOG(2))))","v":0},null,{"$f":"N7","v":11111},{"$f":"COUNTIF(L55:L78,AD7)","v":0},{"$f":"AE7/(AG4-AE25)","v":0},{"$f":"IF(AF7=0,0,(AF7*((LOG(AF7))/LOG(2))))","v":0},null,{"$f":"N7","v":11111},{"$f":"COUNTIF(L79:L102,AI7)","v":0},{"$f":"AJ7/(AL4-AJ25)","v":0},{"$f":"IF(AK7=0,0,(AK7*((LOG(AK7))/LOG(2))))","v":0},null,{"$f":"N7","v":11111},{"$f":"COUNTIF(L103:L126,AN7)","v":1},{"$f":"AO7/(AQ4-AO25)","v":4.1666666666666664E-2},{"$f":"IF(AP7=0,0,(AP7*((LOG(AP7))/LOG(2))))","v":-0.19104010419671485},null,{"$f":"N7","v":11111},{"$f":"COUNTIF(L127:L150,AS7)","v":1},{"$f":"AT7/(AV4-AT25)","v":4.7619047619047616E-2},{"$f":"IF(AU7=0,0,(AU7*((LOG(AU7))/LOG(2))))","v":-0.20915797251327431}]
[21,176,11,186,22,200,14,209,24,223,0,21212,null,11112,{"$f":"COUNTIF($L$7:$L$500,N8)","v":0},{"$f":"O8/$Q$4","v":0},{"$f":"IF(P8=0,0,(P8*((LOG(P8))/LOG(2))))","v":0},null,null,{"$f":"N8","v":11112},{"$f":"COUNTIF(L7:L30,T8)","v":0},{"$f":"U8/(W4-U25)","v":0},{"$f":"IF(V8=0,0,(V8*((LOG(V8))/LOG(2))))","v":0},null,{"$f":"N8","v":11112},{"$f":"COUNTIF(L31:L54,Y8)","v":0},{"$f":"Z8/(AB4-Z25)","v":0},{"$f":"IF(AA8=0,0,(AA8*((LOG(AA8))/LOG(2))))","v":0},null,{"$f":"N8","v":11112},{"$f":"COUNTIF(L55:L78,AD8)","v":0},{"$f":"AE8/(AG4-AE25)","v":0},{"$f":"IF(AF8=0,0,(AF8*((LOG(AF8))/LOG(2))))","v":0},null,{"$f":"N8","v":11112},{"$f":"COUNTIF(L79:L102,AI8)","v":0},{"$f":"AJ8/(AL4-AJ25)","v":0},{"$f":"IF(AK8=0,0,(AK8*((LOG(AK8))/LOG(2))))","v":0},null,{"$f":"N8","v":11112},{"$f":"COUNTIF(L103:L126,AN8)","v":0},{"$f":"AO8/(AQ4-AO25)","v":0},{"$f":"IF(AP8=0,0,(AP8*((LOG(AP8))/LOG(2))))","v":0},null,{"$f":"N8","v":11112},{"$f":"COUNTIF(L127:L150,AS8)","v":0},{"$f":"AT8/(AV4-AT25)","v":0},{"$f":"IF(AU8=0,0,(AU8*((LOG(AU8))/LOG(2))))","v":0}]
[12,325,24,336,13,345,23,358,13,367,0,12121,null,11121,{"$f":"COUNTIF($L$7:$L$500,N9)","v":3},{"$f":"O9/$Q$4","v":2.097902097902098E-2},{"$f":"IF(P9=0,0,(P9*((LOG(P9))/LOG(2))))","v":-0.11695612942777413},null,null,{"$f":"N9","v":11121},{"$f":"COUNTIF(L7:L30,T9)","v":0},{"$f":"U9/(W4-U25)","v":0},{"$f":"IF(V9=0,0,(V9*((LOG(V9))/LOG(2))))","v":0},null,{"$f":"N9","v":11121},{"$f":"COUNTIF(L31:L54,Y9)","v":0},{"$f":"Z9/(AB4-Z25)","v":0},{"$f":"IF(AA9=0,0,(AA9*((LOG(AA9))/LOG(2))))","v":0},null,{"$f":"N9","v":11121},{"$f":"COUNTIF(L55:L78,AD9)","v":0},{"$f":"AE9/(AG4-AE25)","v":0},{"$f":"IF(AF9=0,0,(AF9*((LOG(AF9))/LOG(2))))","v":0},null,{"$f":"N9","v":11121},{"$f":"COUNTIF(L79:L102,AI9)","v":0},{"$f":"AJ9/(AL4-AJ25)","v":0},{"$f":"IF(AK9=0,0,(AK9*((LOG(AK9))/LOG(2))))","v":0},null,{"$f":"N9","v":11121},{"$f":"COUNTIF(L103:L126,AN9)","v":2},{"$f":"AO9/(AQ4-AO25)","v":8.3333333333333329E-2},{"$f":"IF(AP9=0,0,(AP9*((LOG(AP9))/LOG(2))))","v":-0.29874687506009634},null,{"$f":"N9","v":11121},{"$f":"COUNTIF(L127:L150,AS9)","v":1},{"$f":"AT9/(AV4-AT25)","v":4.7619047619047616E-2},{"$f":"IF(AU9=0,0,(AU9*((LOG(AU9))/LOG(2))))","v":-0.20915797251327431}]
[21,494,22,499,13,508,23,522,13,531,0,22121,null,11122,{"$f":"COUNTIF($L$7:$L$500,N10)","v":0},{"$f":"O10/$Q$4","v":0},{"$f":"IF(P10=0,0,(P10*((LOG(P10))/LOG(2))))","v":0},null,null,{"$f":"N10","v":11122},{"$f":"COUNTIF(L7:L30,T10)","v":0},{"$f":"U10/(W4-U25)","v":0},{"$f":"IF(V10=0,0,(V10*((LOG(V10))/LOG(2))))","v":0},null,{"$f":"N10","v":11122},{"$f":"COUNTIF(L31:L54,Y10)","v":0},{"$f":"Z10/(AB4-Z25)","v":0},{"$f":"IF(AA10=0,0,(AA10*((LOG(AA10))/LOG(2))))","v":0},null,{"$f":"N10","v":11122},{"$f":"COUNTIF(L55:L78,AD10)","v":0},{"$f":"AE10/(AG4-AE25)","v":0},{"$f":"IF(AF10=0,0,(AF10*((LOG(AF10))/LOG(2))))","v":0},null,{"$f":"N10","v":11122},{"$f":"COUNTIF(L79:L102,AI10)","v":0},{"$f":"AJ10/(AL4-AJ25)","v":0},{"$f":"IF(AK10=0,0,(AK10*((LOG(AK10))/LOG(2))))","v":0},null,{"$f":"N10","v":11122},{"$f":"COUNTIF(L103:L126,AN10)","v":0},{"$f":"AO10/(AQ4-AO25)","v":0},{"$f":"IF(AP10=0,0,(AP10*((LOG(AP10))/LOG(2))))","v":0},null,{"$f":"N10","v":11122},{"$f":"COUNTIF(L127:L150,AS10)","v":0},{"$f":"AT10/(AV4-AT25)","v":0},{"$f":"IF(AU10=0,0,(AU10*((LOG(AU10))/LOG(2))))","v":0}]
[12,639,24,653,13,665,23,674,13,686,0,12121,null,11211,{"$f":"COUNTIF($L$7:$L$500,N11)","v":5},{"$f":"O11/$Q$4","v":3.4965034965034968E-2},{"$f":"IF(P11=0,0,(P11*((LOG(P11))/LOG(2))))","v":-0.16915885461157437},null,null,{"$f":"N11","v":11211},{"$f":"COUNTIF(L7:L30,T11)","v":0},{"$f":"U11/(W4-U25)","v":0},{"$f":"IF(V11=0,0,(V11*((LOG(V11))/LOG(2))))","v":0},null,{"$f":"N11","v":11211},{"$f":"COUNTIF(L31:L54,Y11)","v":0},{"$f":"Z11/(AB4-Z25)","v":0},{"$f":"IF(AA11=0,0,(AA11*((LOG(AA11))/LOG(2))))","v":0},null,{"$f":"N11","v":11211},{"$f":"COUNTIF(L55:L78,AD11)","v":0},{"$f":"AE11/(AG4-AE25)","v":0},{"$f":"IF(AF11=0,0,(AF11*((LOG(AF11))/LOG(2))))","v":0},null,{"$f":"N11","v":11211},{"$f":"COUNTIF(L79:L102,AI11)","v":1},{"$f":"AJ11/(AL4-AJ25)","v":4.3478260869565216E-2},{"$f":"IF(AK11=0,0,(AK11*((LOG(AK11))/LOG(2))))","v":-0.19667660678508753},null,{"$f":"N11","v":11211},{"$f":"COUNTIF(L103:L126,AN11)","v":2},{"$f":"AO11/(AQ4-AO25)","v":8.3333333333333329E-2},{"$f":"IF(AP11=0,0,(AP11*((LOG(AP11))/LOG(2))))","v":-0.29874687506009634},null,{"$f":"N11","v":11211},{"$f":"COUNTIF(L127:L150,AS11)","v":2},{"$f":"AT11/(AV4-AT25)","v":9.5238095238095233E-2},{"$f":"IF(AU11=0,0,(AU11*((LOG(AU11))/LOG(2))))","v":-0.32307784978845333}]
[21,805,22,835,13,848,23,862,13,873,0,22121,null,11212,{"$f":"COUNTIF($L$7:$L$500,N12)","v":4},{"$f":"O12/$Q$4","v":2.7972027972027972E-2},{"$f":"IF(P12=0,0,(P12*((LOG(P12))/LOG(2))))","v":-0.14433206536443047},null,null,{"$f":"N12","v":11212},{"$f":"COUNTIF(L7:L30,T12)","v":1},{"$f":"U12/(W4-U25)","v":4.1666666666666664E-2},{"$f":"IF(V12=0,0,(V12*((LOG(V12))/LOG(2))))","v":-0.19104010419671485},null,{"$f":"N12","v":11212},{"$f":"COUNTIF(L31:L54,Y12)","v":0},{"$f":"Z12/(AB4-Z25)","v":0},{"$f":"IF(AA12=0,0,(AA12*((LOG(AA12))/LOG(2))))","v":0},null,{"$f":"N12","v":11212},{"$f":"COUNTIF(L55:L78,AD12)","v":0},{"$f":"AE12/(AG4-AE25)","v":0},{"$f":"IF(AF12=0,0,(AF12*((LOG(AF12))/LOG(2))))","v":0},null,{"$f":"N12","v":11212},{"$f":"COUNTIF(L79:L102,AI12)","v":1},{"$f":"AJ12/(AL4-AJ25)","v":4.3478260869565216E-2},{"$f":"IF(AK12=0,0,(AK12*((LOG(AK12))/LOG(2))))","v":-0.19667660678508753},null,{"$f":"N12","v":11212},{"$f":"COUNTIF(L103:L126,AN12)","v":1},{"$f":"AO12/(AQ4-AO25)","v":4.1666666666666664E-2},{"$f":"IF(AP12=0,0,(AP12*((LOG(AP12))/LOG(2))))","v":-0.19104010419671485},null,{"$f":"N12","v":11212},{"$f":"COUNTIF(L127:L150,AS12)","v":1},{"$f":"AT12/(AV4-AT25)","v":4.7619047619047616E-2},{"$f":"IF(AU12=0,0,(AU12*((LOG(AU12))/LOG(2))))","v":-0.20915797251327431}]
[21,973,22,986,13,995,23,1004,13,1013,0,22121,null,11221,{"$f":"COUNTIF($L$7:$L$500,N13)","v":0},{"$f":"O13/$Q$4","v":0},{"$f":"IF(P13=0,0,(P13*((LOG(P13))/LOG(2))))","v":0},null,null,{"$f":"N13","v":11221},{"$f":"COUNTIF(L7:L30,T13)","v":0},{"$f":"U13/(W4-U25)","v":0},{"$f":"IF(V13=0,0,(V13*((LOG(V13))/LOG(2))))","v":0},null,{"$f":"N13","v":11221},{"$f":"COUNTIF(L31:L54,Y13)","v":0},{"$f":"Z13/(AB4-Z25)","v":0},{"$f":"IF(AA13=0,0,(AA13*((LOG(AA13))/LOG(2))))","v":0},null,{"$f":"N13","v":11221},{"$f":"COUNTIF(L55:L78,AD13)","v":0},{"$f":"AE13/(AG4-AE25)","v":0},{"$f":"IF(AF13=0,0,(AF13*((LOG(AF13))/LOG(2))))","v":0},null,{"$f":"N13","v":11221},{"$f":"COUNTIF(L79:L102,AI13)","v":0},{"$f":"AJ13/(AL4-AJ25)","v":0},{"$f":"IF(AK13=0,0,(AK13*((LOG(AK13))/LOG(2))))","v":0},null,{"$f":"N13","v":11221},{"$f":"COUNTIF(L103:L126,AN13)","v":0},{"$f":"AO13/(AQ4-AO25)","v":0},{"$f":"IF(AP13=0,0,(AP13*((LOG(AP13))/LOG(2))))","v":0},null,{"$f":"N13","v":11221},{"$f":"COUNTIF(L127:L150,AS13)","v":0},{"$f":"AT13/(AV4-AT25)","v":0},{"$f":"IF(AU13=0,0,(AU13*((LOG(AU13))/LOG(2))))","v":0}]
[21,1118,22,1135,13,1143,23,1154,13,1165,0,22121,null,11222,{"$f":"COUNTIF($L$7:$L$500,N14)","v":1},{"$f":"O14/$Q$4","v":6.993006993006993E-3},{"$f":"IF(P14=0,0,(P14*((LOG(P14))/LOG(2))))","v":-5.0069030327121608E-2},null,null,{"$f":"N14","v":11222},{"$f":"COUNTIF(L7:L30,T14)","v":0},{"$f":"U14/(W4-U25)","v":0},{"$f":"IF(V14=0,0,(V14*((LOG(V14))/LOG(2))))","v":0},null,{"$f":"N14","v":11222},{"$f":"COUNTIF(L31:L54,Y14)","v":0},{"$f":"Z14/(AB4-Z25)","v":0},{"$f":"IF(AA14=0,0,(AA14*((LOG(AA14))/LOG(2))))","v":0},null,{"$f":"N14","v":11222},{"$f":"COUNTIF(L55:L78,AD14)","v":0},{"$f":"AE14/(AG4-AE25)","v":0},{"$f":"IF(AF14=0,0,(AF14*((LOG(AF14))/LOG(2))))","v":0},null,{"$f":"N14","v":11222},{"$f":"COUNTIF(L79:L102,AI14)","v":0},{"$f":"AJ14/(AL4-AJ25)","v":0},{"$f":"IF(AK14=0,0,(AK14*((LOG(AK14))/LOG(2))))","v":0},null,{"$f":"N14","v":11222},{"$f":"COUNTIF(L103:L126,AN14)","v":1},{"$f":"AO14/(AQ4-AO25)","v":4.1666666666666664E-2},{"$f":"IF(AP14=0,0,(AP14*((LOG(AP14))/LOG(2))))","v":-0.19104010419671485},null,{"$f":"N14","v":11222},{"$f":"COUNTIF(L127:L150,AS14)","v":0},{"$f":"AT14/(AV4-AT25)","v":0},{"$f":"IF(AU14=0,0,(AU14*((LOG(AU14))/LOG(2))))","v":0}]
[21,1269,22,1289,13,1298,23,1312,13,1321,0,22121,null,12111,{"$f":"COUNTIF($L$7:$L$500,N15)","v":3},{"$f":"O15/$Q$4","v":2.097902097902098E-2},{"$f":"IF(P15=0,0,(P15*((LOG(P15))/LOG(2))))","v":-0.11695612942777413},null,null,{"$f":"N15","v":12111},{"$f":"COUNTIF(L7:L30,T15)","v":0},{"$f":"U15/(W4-U25)","v":0},{"$f":"IF(V15=0,0,(V15*((LOG(V15))/LOG(2))))","v":0},null,{"$f":"N15","v":12111},{"$f":"COUNTIF(L31:L54,Y15)","v":0},{"$f":"Z15/(AB4-Z25)","v":0},{"$f":"IF(AA15=0,0,(AA15*((LOG(AA15))/LOG(2))))","v":0},null,{"$f":"N15","v":12111},{"$f":"COUNTIF(L55:L78,AD15)","v":1},{"$f":"AE15/(AG4-AE25)","v":4.3478260869565216E-2},{"$f":"IF(AF15=0,0,(AF15*((LOG(AF15))/LOG(2))))","v":-0.19667660678508753},null,{"$f":"N15","v":12111},{"$f":"COUNTIF(L79:L102,AI15)","v":0},{"$f":"AJ15/(AL4-AJ25)","v":0},{"$f":"IF(AK15=0,0,(AK15*((LOG(AK15))/LOG(2))))","v":0},null,{"$f":"N15","v":12111},{"$f":"COUNTIF(L103:L126,AN15)","v":1},{"$f":"AO15/(AQ4-AO25)","v":4.1666666666666664E-2},{"$f":"IF(AP15=0,0,(AP15*((LOG(AP15))/LOG(2))))","v":-0.19104010419671485},null,{"$f":"N15","v":12111},{"$f":"COUNTIF(L127:L150,AS15)","v":1},{"$f":"AT15/(AV4-AT25)","v":4.7619047619047616E-2},{"$f":"IF(AU15=0,0,(AU15*((LOG(AU15))/LOG(2))))","v":-0.20915797251327431}]
[21,1456,11,1466,22,1476,14,1487,24,1501,0,21212,null,12112,{"$f":"COUNTIF($L$7:$L$500,N16)","v":1},{"$f":"O16/$Q$4","v":6.993006993006993E-3},{"$f":"IF(P16=0,0,(P16*((LOG(P16))/LOG(2))))","v":-5.0069030327121608E-2},null,null,{"$f":"N16","v":12112},{"$f":"COUNTIF(L7:L30,T16)","v":0},{"$f":"U16/(W4-U25)","v":0},{"$f":"IF(V16=0,0,(V16*((LOG(V16))/LOG(2))))","v":0},null,{"$f":"N16","v":12112},{"$f":"COUNTIF(L31:L54,Y16)","v":0},{"$f":"Z16/(AB4-Z25)","v":0},{"$f":"IF(AA16=0,0,(AA16*((LOG(AA16))/LOG(2))))","v":0},null,{"$f":"N16","v":12112},{"$f":"COUNTIF(L55:L78,AD16)","v":0},{"$f":"AE16/(AG4-AE25)","v":0},{"$f":"IF(AF16=0,0,(AF16*((LOG(AF16))/LOG(2))))","v":0},null,{"$f":"N16","v":12112},{"$f":"COUNTIF(L79:L102,AI16)","v":0},{"$f":"AJ16/(AL4-AJ25)","v":0},{"$f":"IF(AK16=0,0,(AK16*((LOG(AK16))/LOG(2))))","v":0},null,{"$f":"N16","v":12112},{"$f":"COUNTIF(L103:L126,AN16)","v":0},{"$f":"AO16/(AQ4-AO25)","v":0},{"$f":"IF(AP16=0,0,(AP16*((LOG(AP16))/LOG(2))))","v":0},null,{"$f":"N16","v":12112},{"$f":"COUNTIF(L127:L150,AS16)","v":1},{"$f":"AT16/(AV4-AT25)","v":4.7619047619047616E-2},{"$f":"IF(AU16=0,0,(AU16*((LOG(AU16))/LOG(2))))","v":-0.20915797251327431}]
[21,1601,22,1607,13,1621,23,1629,13,1638,0,22121,null,12121,{"$f":"COUNTIF($L$7:$L$500,N17)","v":8},{"$f":"O17/$Q$4","v":5.5944055944055944E-2},{"$f":"IF(P17=0,0,(P17*((LOG(P17))/LOG(2))))","v":-0.23272007478480503},null,null,{"$f":"N17","v":12121},{"$f":"COUNTIF(L7:L30,T17)","v":2},{"$f":"U17/(W4-U25)","v":8.3333333333333329E-2},{"$f":"IF(V17=0,0,(V17*((LOG(V17))/LOG(2))))","v":-0.29874687506009634},null,{"$f":"N17","v":12121},{"$f":"COUNTIF(L31:L54,Y17)","v":2},{"$f":"Z17/(AB4-Z25)","v":8.6956521739130432E-2},{"$f":"IF(AA17=0,0,(AA17*((LOG(AA17))/LOG(2))))","v":-0.30639669183104457},null,{"$f":"N17","v":12121},{"$f":"COUNTIF(L55:L78,AD17)","v":1},{"$f":"AE17/(AG4-AE25)","v":4.3478260869565216E-2},{"$f":"IF(AF17=0,0,(AF17*((LOG(AF17))/LOG(2))))","v":-0.19667660678508753},null,{"$f":"N17","v":12121},{"$f":"COUNTIF(L79:L102,AI17)","v":0},{"$f":"AJ17/(AL4-AJ25)","v":0},{"$f":"IF(AK17=0,0,(AK17*((LOG(AK17))/LOG(2))))","v":0},null,{"$f":"N17","v":12121},{"$f":"COUNTIF(L103:L126,AN17)","v":2},{"$f":"AO17/(AQ4-AO25)","v":8.3333333333333329E-2},{"$f":"IF(AP17=0,0,(AP17*((LOG(AP17))/LOG(2))))","v":-0.29874687506009634},null,{"$f":"N17","v":12121},{"$f":"COUNTIF(L127:L150,AS17)","v":1},{"$f":"AT17/(AV4-AT25)","v":4.7619047619047616E-2},{"$f":"IF(AU17=0,0,(AU17*((LOG(AU17))/LOG(2))))","v":-0.20915797251327431}]
[21,1757,22,1763,24,1781,14,1790,24,1803,0,22212,null,12122,{"$f":"COUNTIF($L$7:$L$500,N18)","v":0},{"$f":"O18/$Q$4","v":0},{"$f":"IF(P18=0,0,(P18*((LOG(P18))/LOG(2))))","v":0},null,null,{"$f":"N18","v":12122},{"$f":"COUNTIF(L7:L30,T18)","v":0},{"$f":"U18/(W4-U25)","v":0},{"$f":"IF(V18=0,0,(V18*((LOG(V18))/LOG(2))))","v":0},null,{"$f":"N18","v":12122},{"$f":"COUNTIF(L31:L54,Y18)","v":0},{"$f":"Z18/(AB4-Z25)","v":0},{"$f":"IF(AA18=0,0,(AA18*((LOG(AA18))/LOG(2))))","v":0},null,{"$f":"N18","v":12122},{"$f":"COUNTIF(L55:L78,AD18)","v":0},{"$f":"AE18/(AG4-AE25)","v":0},{"$f":"IF(AF18=0,0,(AF18*((LOG(AF18))/LOG(2))))","v":0},null,{"$f":"N18","v":12122},{"$f":"COUNTIF(L79:L102,AI18)","v":0},{"$f":"AJ18/(AL4-AJ25)","v":0},{"$f":"IF(AK18=0,0,(AK18*((LOG(AK18))/LOG(2))))","v":0},null,{"$f":"N18","v":12122},{"$f":"COUNTIF(L103:L126,AN18)","v":0},{"$f":"AO18/(AQ4-AO25)","v":0},{"$f":"IF(AP18=0,0,(AP18*((LOG(AP18))/LOG(2))))","v":0},null,{"$f":"N18","v":12122},{"$f":"COUNTIF(L127:L150,AS18)","v":0},{"$f":"AT18/(AV4-AT25)","v":0},{"$f":"IF(AU18=0,0,(AU18*((LOG(AU18))/LOG(2))))","v":0}]
[21,1917,22,1927,24,1943,23,1960,13,1971,0,22221,null,12211,{"$f":"COUNTIF($L$7:$L$500,N19)","v":2},{"$f":"O19/$Q$4","v":1.3986013986013986E-2},{"$f":"IF(P19=0,0,(P19*((LOG(P19))/LOG(2))))","v":-8.6152046668229218E-2},null,null,{"$f":"N19","v":12211},{"$f":"COUNTIF(L7:L30,T19)","v":0},{"$f":"U19/(W4-U25)","v":0},{"$f":"IF(V19=0,0,(V19*((LOG(V19))/LOG(2))))","v":0},null,{"$f":"N19","v":12211},{"$f":"COUNTIF(L31:L54,Y19)","v":0},{"$f":"Z19/(AB4-Z25)","v":0},{"$f":"IF(AA19=0,0,(AA19*((LOG(AA19))/LOG(2))))","v":0},null,{"$f":"N19","v":12211},{"$f":"COUNTIF(L55:L78,AD19)","v":0},{"$f":"AE19/(AG4-AE25)","v":0},{"$f":"IF(AF19=0,0,(AF19*((LOG(AF19))/LOG(2))))","v":0},null,{"$f":"N19","v":12211},{"$f":"COUNTIF(L79:L102,AI19)","v":0},{"$f":"AJ19/(AL4-AJ25)","v":0},{"$f":"IF(AK19=0,0,(AK19*((LOG(AK19))/LOG(2))))","v":0},null,{"$f":"N19","v":12211},{"$f":"COUNTIF(L103:L126,AN19)","v":0},{"$f":"AO19/(AQ4-AO25)","v":0},{"$f":"IF(AP19=0,0,(AP19*((LOG(AP19))/LOG(2))))","v":0},null,{"$f":"N19","v":12211},{"$f":"COUNTIF(L127:L150,AS19)","v":2},{"$f":"AT19/(AV4-AT25)","v":9.5238095238095233E-2},{"$f":"IF(AU19=0,0,(AU19*((LOG(AU19))/LOG(2))))","v":-0.32307784978845333}]
[21,2103,22,2109,13,2121,23,2134,13,2144,0,22121,null,12212,{"$f":"COUNTIF($L$7:$L$500,N20)","v":1},{"$f":"O20/$Q$4","v":6.993006993006993E-3},{"$f":"IF(P20=0,0,(P20*((LOG(P20))/LOG(2))))","v":-5.0069030327121608E-2},null,null,{"$f":"N20","v":12212},{"$f":"COUNTIF(L7:L30,T20)","v":0},{"$f":"U20/(W4-U25)","v":0},{"$f":"IF(V20=0,0,(V20*((LOG(V20))/LOG(2))))","v":0},null,{"$f":"N20","v":12212},{"$f":"COUNTIF(L31:L54,Y20)","v":0},{"$f":"Z20/(AB4-Z25)","v":0},{"$f":"IF(AA20=0,0,(AA20*((LOG(AA20))/LOG(2))))","v":0},null,{"$f":"N20","v":12212},{"$f":"COUNTIF(L55:L78,AD20)","v":0},{"$f":"AE20/(AG4-AE25)","v":0},{"$f":"IF(AF20=0,0,(AF20*((LOG(AF20))/LOG(2))))","v":0},null,{"$f":"N20","v":12212},{"$f":"COUNTIF(L79:L102,AI20)","v":0},{"$f":"AJ20/(AL4-AJ25)","v":0},{"$f":"IF(AK20=0,0,(AK20*((LOG(AK20))/LOG(2))))","v":0},null,{"$f":"N20","v":12212},{"$f":"COUNTIF(L103:L126,AN20)","v":0},{"$f":"AO20/(AQ4-AO25)","v":0},{"$f":"IF(AP20=0,0,(AP20*((LOG(AP20))/LOG(2))))","v":0},null,{"$f":"N20","v":12212},{"$f":"COUNTIF(L127:L150,AS20)","v":1},{"$f":"AT20/(AV4-AT25)","v":4.7619047619047616E-2},{"$f":"IF(AU20=0,0,(AU20*((LOG(AU20))/LOG(2))))","v":-0.20915797251327431}]
[21,2261,11,2275,22,2282,14,2294,24,2305,0,21212,null,12221,{"$f":"COUNTIF($L$7:$L$500,N21)","v":1},{"$f":"O21/$Q$4","v":6.993006993006993E-3},{"$f":"IF(P21=0,0,(P21*((LOG(P21))/LOG(2))))","v":-5.0069030327121608E-2},null,null,{"$f":"N21","v":12221},{"$f":"COUNTIF(L7:L30,T21)","v":0},{"$f":"U21/(W4-U25)","v":0},{"$f":"IF(V21=0,0,(V21*((LOG(V21))/LOG(2))))","v":0},null,{"$f":"N21","v":12221},{"$f":"COUNTIF(L31:L54,Y21)","v":1},{"$f":"Z21/(AB4-Z25)","v":4.3478260869565216E-2},{"$f":"IF(AA21=0,0,(AA21*((LOG(AA21))/LOG(2))))","v":-0.19667660678508753},null,{"$f":"N21","v":12221},{"$f":"COUNTIF(L55:L78,AD21)","v":0},{"$f":"AE21/(AG4-AE25)","v":0},{"$f":"IF(AF21=0,0,(AF21*((LOG(AF21))/LOG(2))))","v":0},null,{"$f":"N21","v":12221},{"$f":"COUNTIF(L79:L102,AI21)","v":0},{"$f":"AJ21/(AL4-AJ25)","v":0},{"$f":"IF(AK21=0,0,(AK21*((LOG(AK21))/LOG(2))))","v":0},null,{"$f":"N21","v":12221},{"$f":"COUNTIF(L103:L126,AN21)","v":0},{"$f":"AO21/(AQ4-AO25)","v":0},{"$f":"IF(AP21=0,0,(AP21*((LOG(AP21))/LOG(2))))","v":0},null,{"$f":"N21","v":12221},{"$f":"COUNTIF(L127:L150,AS21)","v":0},{"$f":"AT21/(AV4-AT25)","v":0},{"$f":"IF(AU21=0,0,(AU21*((LOG(AU21))/LOG(2))))","v":0}]
[21,2408,22,2414,13,2428,23,2436,13,2447,0,22121,null,12222,{"$f":"COUNTIF($L$7:$L$500,N22)","v":0},{"$f":"O22/$Q$4","v":0},{"$f":"IF(P22=0,0,(P22*((LOG(P22))/LOG(2))))","v":0},null,null,{"$f":"N22","v":12222},{"$f":"COUNTIF(L7:L30,T22)","v":0},{"$f":"U22/(W4-U25)","v":0},{"$f":"IF(V22=0,0,(V22*((LOG(V22))/LOG(2))))","v":0},null,{"$f":"N22","v":12222},{"$f":"COUNTIF(L31:L54,Y22)","v":0},{"$f":"Z22/(AB4-Z25)","v":0},{"$f":"IF(AA22=0,0,(AA22*((LOG(AA22))/LOG(2))))","v":0},null,{"$f":"N22","v":12222},{"$f":"COUNTIF(L55:L78,AD22)","v":0},{"$f":"AE22/(AG4-AE25)","v":0},{"$f":"IF(AF22=0,0,(AF22*((LOG(AF22))/LOG(2))))","v":0},null,{"$f":"N22","v":12222},{"$f":"COUNTIF(L79:L102,AI22)","v":0},{"$f":"AJ22/(AL4-AJ25)","v":0},{"$f":"IF(AK22=0,0,(AK22*((LOG(AK22))/LOG(2))))","v":0},null,{"$f":"N22","v":12222},{"$f":"COUNTIF(L103:L126,AN22)","v":0},{"$f":"AO22/(AQ4-AO25)","v":0},{"$f":"IF(AP22=0,0,(AP22*((LOG(AP22))/LOG(2))))","v":0},null,{"$f":"N22","v":12222},{"$f":"COUNTIF(L127:L150,AS22)","v":0},{"$f":"AT22/(AV4-AT25)","v":0},{"$f":"IF(AU22=0,0,(AU22*((LOG(AU22))/LOG(2))))","v":0}]
[21,2594,22,2611,13,2620,23,2633,13,2645,0,22121,null,21111,{"$f":"COUNTIF($L$7:$L$500,N23)","v":0},{"$f":"O23/$Q$4","v":0},{"$f":"IF(P23=0,0,(P23*((LOG(P23))/LOG(2))))","v":0},null,null,{"$f":"N23","v":21111},{"$f":"COUNTIF(L7:L30,T23)","v":0},{"$f":"U23/(W4-U25)","v":0},{"$f":"IF(V23=0,0,(V23*((LOG(V23))/LOG(2))))","v":0},null,{"$f":"N23","v":21111},{"$f":"COUNTIF(L31:L54,Y23)","v":0},{"$f":"Z23/(AB4-Z25)","v":0},{"$f":"IF(AA23=0,0,(AA23*((LOG(AA23))/LOG(2))))","v":0},null,{"$f":"N23","v":21111},{"$f":"COUNTIF(L55:L78,AD23)","v":0},{"$f":"AE23/(AG4-AE25)","v":0},{"$f":"IF(AF23=0,0,(AF23*((LOG(AF23))/LOG(2))))","v":0},null,{"$f":"N23","v":21111},{"$f":"COUNTIF(L79:L102,AI23)","v":0},{"$f":"AJ23/(AL4-AJ25)","v":0},{"$f":"IF(AK23=0,0,(AK23*((LOG(AK23))/LOG(2))))","v":0},null,{"$f":"N23","v":21111},{"$f":"COUNTIF(L103:L126,AN23)","v":0},{"$f":"AO23/(AQ4-AO25)","v":0},{"$f":"IF(AP23=0,0,(AP23*((LOG(AP23))/LOG(2))))","v":0},null,{"$f":"N23","v":21111},{"$f":"COUNTIF(L127:L150,AS23)","v":0},{"$f":"AT23/(AV4-AT25)","v":0},{"$f":"IF(AU23=0,0,(AU23*((LOG(AU23))/LOG(2))))","v":0}]
[21,2754,22,2762,24,2773,14,2782,24,2791,0,22212,null,21112,{"$f":"COUNTIF($L$7:$L$500,N24)","v":3},{"$f":"O24/$Q$4","v":2.097902097902098E-2},{"$f":"IF(P24=0,0,(P24*((LOG(P24))/LOG(2))))","v":-0.11695612942777413},null,null,{"$f":"N24","v":21112},{"$f":"COUNTIF(L7:L30,T24)","v":0},{"$f":"U24/(W4-U25)","v":0},{"$f":"IF(V24=0,0,(V24*((LOG(V24))/LOG(2))))","v":0},null,{"$f":"N24","v":21112},{"$f":"COUNTIF(L31:L54,Y24)","v":1},{"$f":"Z24/(AB4-Z25)","v":4.3478260869565216E-2},{"$f":"IF(AA24=0,0,(AA24*((LOG(AA24))/LOG(2))))","v":-0.19667660678508753},null,{"$f":"N24","v":21112},{"$f":"COUNTIF(L55:L78,AD24)","v":0},{"$f":"AE24/(AG4-AE25)","v":0},{"$f":"IF(AF24=0,0,(AF24*((LOG(AF24))/LOG(2))))","v":0},null,{"$f":"N24","v":21112},{"$f":"COUNTIF(L79:L102,AI24)","v":1},{"$f":"AJ24/(AL4-AJ25)","v":4.3478260869565216E-2},{"$f":"IF(AK24=0,0,(AK24*((LOG(AK24))/LOG(2))))","v":-0.19667660678508753},null,{"$f":"N24","v":21112},{"$f":"COUNTIF(L103:L126,AN24)","v":0},{"$f":"AO24/(AQ4-AO25)","v":0},{"$f":"IF(AP24=0,0,(AP24*((LOG(AP24))/LOG(2))))","v":0},null,{"$f":"N24","v":21112},{"$f":"COUNTIF(L127:L150,AS24)","v":1},{"$f":"AT24/(AV4-AT25)","v":4.7619047619047616E-2},{"$f":"IF(AU24=0,0,(AU24*((LOG(AU24))/LOG(2))))","v":-0.20915797251327431}]
[21,2905,11,2914,22,2923,14,2935,24,2949,0,21212,null,21121,{"$f":"COUNTIF($L$7:$L$500,N25)","v":5},{"$f":"O25/$Q$4","v":3.4965034965034968E-2},{"$f":"IF(P25=0,0,(P25*((LOG(P25))/LOG(2))))","v":-0.16915885461157437},null,null,{"$f":"N25","v":21121},{"$f":"COUNTIF(L7:L30,T25)","v":0},null,null,null,{"$f":"N25","v":21121},{"$f":"COUNTIF(L31:L54,Y25)","v":1},null,null,null,{"$f":"N25","v":21121},{"$f":"COUNTIF(L55:L78,AD25)","v":1},null,null,null,{"$f":"N25","v":21121},{"$f":"COUNTIF(L79:L102,AI25)","v":1},null,null,null,{"$f":"N25","v":21121},{"$f":"COUNTIF(L103:L126,AN25)","v":0},null,null,null,{"$f":"N25","v":21121},{"$f":"COUNTIF(L127:L150,AS25)","v":2}]
[12,3088,13,3095,24,3108,14,3118,24,3132,0,11212,null,21122,{"$f":"COUNTIF($L$7:$L$500,N26)","v":0},{"$f":"O26/$Q$4","v":0},{"$f":"IF(P26=0,0,(P26*((LOG(P26))/LOG(2))))","v":0},null,null,{"$f":"N26","v":21122},{"$f":"COUNTIF(L7:L30,T26)","v":0},{"$f":"U26/(W4-U25)","v":0},{"$f":"IF(V26=0,0,(V26*((LOG(V26))/LOG(2))))","v":0},null,{"$f":"N26","v":21122},{"$f":"COUNTIF(L31:L54,Y26)","v":0},{"$f":"Z26/(AB4-Z25)","v":0},{"$f":"IF(AA26=0,0,(AA26*((LOG(AA26))/LOG(2))))","v":0},null,{"$f":"N26","v":21122},{"$f":"COUNTIF(L55:L78,AD26)","v":0},{"$f":"AE26/(AG4-AE25)","v":0},{"$f":"IF(AF26=0,0,(AF26*((LOG(AF26))/LOG(2))))","v":0},null,{"$f":"N26","v":21122},{"$f":"COUNTIF(L79:L102,AI26)","v":0},{"$f":"AJ26/(AL4-AJ25)","v":0},{"$f":"IF(AK26=0,0,(AK26*((LOG(AK26))/LOG(2))))","v":0},null,{"$f":"N26","v":21122},{"$f":"COUNTIF(L103:L126,AN26)","v":0},{"$f":"AO26/(AQ4-AO25)","v":0},{"$f":"IF(AP26=0,0,(AP26*((LOG(AP26))/LOG(2))))","v":0},null,{"$f":"N26","v":21122},{"$f":"COUNTIF(L127:L150,AS26)","v":0},{"$f":"AT26/(AV4-AT25)","v":0},{"$f":"IF(AU26=0,0,(AU26*((LOG(AU26))/LOG(2))))","v":0}]
[21,3250,22,3270,24,3289,14,3297,13,3316,0,22211,null,21211,{"$f":"COUNTIF($L$7:$L$500,N27)","v":5},{"$f":"O27/$Q$4","v":3.4965034965034968E-2},{"$f":"IF(P27=0,0,(P27*((LOG(P27))/LOG(2))))","v":-0.16915885461157437},null,null,{"$f":"N27","v":21211},{"$f":"COUNTIF(L7:L30,T27)","v":0},{"$f":"U27/(W4-U25)","v":0},{"$f":"IF(V27=0,0,(V27*((LOG(V27))/LOG(2))))","v":0},null,{"$f":"N27","v":21211},{"$f":"COUNTIF(L31:L54,Y27)","v":1},{"$f":"Z27/(AB4-Z25)","v":4.3478260869565216E-2},{"$f":"IF(AA27=0,0,(AA27*((LOG(AA27))/LOG(2))))","v":-0.19667660678508753},null,{"$f":"N27","v":21211},{"$f":"COUNTIF(L55:L78,AD27)","v":1},{"$f":"AE27/(AG4-AE25)","v":4.3478260869565216E-2},{"$f":"IF(AF27=0,0,(AF27*((LOG(AF27))/LOG(2))))","v":-0.19667660678508753},null,{"$f":"N27","v":21211},{"$f":"COUNTIF(L79:L102,AI27)","v":0},{"$f":"AJ27/(AL4-AJ25)","v":0},{"$f":"IF(AK27=0,0,(AK27*((LOG(AK27))/LOG(2))))","v":0},null,{"$f":"N27","v":21211},{"$f":"COUNTIF(L103:L126,AN27)","v":3},{"$f":"AO27/(AQ4-AO25)","v":0.125},{"$f":"IF(AP27=0,0,(AP27*((LOG(AP27))/LOG(2))))","v":-0.375},null,{"$f":"N27","v":21211},{"$f":"COUNTIF(L127:L150,AS27)","v":0},{"$f":"AT27/(AV4-AT25)","v":0},{"$f":"IF(AU27=0,0,(AU27*((LOG(AU27))/LOG(2))))","v":0}]
[21,3425,22,3472,13,3483,23,3495,13,3507,0,22121,null,21212,{"$f":"COUNTIF($L$7:$L$500,N28)","v":20},{"$f":"O28/$Q$4","v":0.13986013986013987},{"$f":"IF(P28=0,0,(P28*((LOG(P28))/LOG(2))))","v":-0.39691513872601775},null,null,{"$f":"N28","v":21212},{"$f":"COUNTIF(L7:L30,T28)","v":5},{"$f":"U28/(W4-U25)","v":0.20833333333333334},{"$f":"IF(V28=0,0,(V28*((LOG(V28))/LOG(2))))","v":-0.47146550121537367},null,{"$f":"N28","v":21212},{"$f":"COUNTIF(L31:L54,Y28)","v":5},{"$f":"Z28/(AB4-Z25)","v":0.21739130434782608},{"$f":"IF(AA28=0,0,(AA28*((LOG(AA28))/LOG(2))))","v":-0.47861605677601093},null,{"$f":"N28","v":21212},{"$f":"COUNTIF(L55:L78,AD28)","v":1},{"$f":"AE28/(AG4-AE25)","v":4.3478260869565216E-2},{"$f":"IF(AF28=0,0,(AF28*((LOG(AF28))/LOG(2))))","v":-0.19667660678508753},null,{"$f":"N28","v":21212},{"$f":"COUNTIF(L79:L102,AI28)","v":2},{"$f":"AJ28/(AL4-AJ25)","v":8.6956521739130432E-2},{"$f":"IF(AK28=0,0,(AK28*((LOG(AK28))/LOG(2))))","v":-0.30639669183104457},null,{"$f":"N28","v":21212},{"$f":"COUNTIF(L103:L126,AN28)","v":3},{"$f":"AO28/(AQ4-AO25)","v":0.125},{"$f":"IF(AP28=0,0,(AP28*((LOG(AP28))/LOG(2))))","v":-0.375},null,{"$f":"N28","v":21212},{"$f":"COUNTIF(L127:L150,AS28)","v":4},{"$f":"AT28/(AV4-AT25)","v":0.19047619047619047},{"$f":"IF(AU28=0,0,(AU28*((LOG(AU28))/LOG(2))))","v":-0.4556795091007162}]
[21,3621,22,3625,13,3637,23,3650,24,3674,0,22122,null,21221,{"$f":"COUNTIF($L$7:$L$500,N29)","v":2},{"$f":"O29/$Q$4","v":1.3986013986013986E-2},{"$f":"IF(P29=0,0,(P29*((LOG(P29))/LOG(2))))","v":-8.6152046668229218E-2},null,null,{"$f":"N29","v":21221},{"$f":"COUNTIF(L7:L30,T29)","v":0},{"$f":"U29/(W4-U25)","v":0},{"$f":"IF(V29=0,0,(V29*((LOG(V29))/LOG(2))))","v":0},null,{"$f":"N29","v":21221},{"$f":"COUNTIF(L31:L54,Y29)","v":0},{"$f":"Z29/(AB4-Z25)","v":0},{"$f":"IF(AA29=0,0,(AA29*((LOG(AA29))/LOG(2))))","v":0},null,{"$f":"N29","v":21221},{"$f":"COUNTIF(L55:L78,AD29)","v":1},{"$f":"AE29/(AG4-AE25)","v":4.3478260869565216E-2},{"$f":"IF(AF29=0,0,(AF29*((LOG(AF29))/LOG(2))))","v":-0.19667660678508753},null,{"$f":"N29","v":21221},{"$f":"COUNTIF(L79:L102,AI29)","v":0},{"$f":"AJ29/(AL4-AJ25)","v":0},{"$f":"IF(AK29=0,0,(AK29*((LOG(AK29))/LOG(2))))","v":0},null,{"$f":"N29","v":21221},{"$f":"COUNTIF(L103:L126,AN29)","v":1},{"$f":"AO29/(AQ4-AO25)","v":4.1666666666666664E-2},{"$f":"IF(AP29=0,0,(AP29*((LOG(AP29))/LOG(2))))","v":-0.19104010419671485},null,{"$f":"N29","v":21221},{"$f":"COUNTIF(L127:L150,AS29)","v":0},{"$f":"AT29/(AV4-AT25)","v":0},{"$f":"IF(AU29=0,0,(AU29*((LOG(AU29))/LOG(2))))","v":0}]
[21,3810,22,3814,13,3823,23,3831,13,3841,0,22121,null,21222,{"$f":"COUNTIF($L$7:$L$500,N30)","v":0},{"$f":"O30/$Q$4","v":0},{"$f":"IF(P30=0,0,(P30*((LOG(P30))/LOG(2))))","v":0},null,null,{"$f":"N30","v":21222},{"$f":"COUNTIF(L7:L30,T30)","v":0},{"$f":"U30/(W4-U25)","v":0},{"$f":"IF(V30=0,0,(V30*((LOG(V30))/LOG(2))))","v":0},null,{"$f":"N30","v":21222},{"$f":"COUNTIF(L31:L54,Y30)","v":0},{"$f":"Z30/(AB4-Z25)","v":0},{"$f":"IF(AA30=0,0,(AA30*((LOG(AA30))/LOG(2))))","v":0},null,{"$f":"N30","v":21222},{"$f":"COUNTIF(L55:L78,AD30)","v":0},{"$f":"AE30/(AG4-AE25)","v":0},{"$f":"IF(AF30=0,0,(AF30*((LOG(AF30))/LOG(2))))","v":0},null,{"$f":"N30","v":21222},{"$f":"COUNTIF(L79:L102,AI30)","v":0},{"$f":"AJ30/(AL4-AJ25)","v":0},{"$f":"IF(AK30=0,0,(AK30*((LOG(AK30))/LOG(2))))","v":0},null,{"$f":"N30","v":21222},{"$f":"COUNTIF(L103:L126,AN30)","v":0},{"$f":"AO30/(AQ4-AO25)","v":0},{"$f":"IF(AP30=0,0,(AP30*((LOG(AP30))/LOG(2))))","v":0},null,{"$f":"N30","v":21222},{"$f":"COUNTIF(L127:L150,AS30)","v":0},{"$f":"AT30/(AV4-AT25)","v":0},{"$f":"IF(AU30=0,0,(AU30*((LOG(AU30))/LOG(2))))","v":0}]
[21,3976,11,3999,22,4012,14,4023,24,4037,0,21212,null,22111,{"$f":"COUNTIF($L$7:$L$500,N31)","v":8},{"$f":"O31/$Q$4","v":5.5944055944055944E-2},{"$f":"IF(P31=0,0,(P31*((LOG(P31))/LOG(2))))","v":-0.23272007478480503},null,null,{"$f":"N31","v":22111},{"$f":"COUNTIF(L7:L30,T31)","v":0},{"$f":"U31/(W4-U25)","v":0},{"$f":"IF(V31=0,0,(V31*((LOG(V31))/LOG(2))))","v":0},null,{"$f":"N31","v":22111},{"$f":"COUNTIF(L31:L54,Y31)","v":3},{"$f":"Z31/(AB4-Z25)","v":0.13043478260869565},{"$f":"IF(AA31=0,0,(AA31*((LOG(AA31))/LOG(2))))","v":-0.3832955811307639},null,{"$f":"N31","v":22111},{"$f":"COUNTIF(L55:L78,AD31)","v":0},{"$f":"AE31/(AG4-AE25)","v":0},{"$f":"IF(AF31=0,0,(AF31*((LOG(AF31))/LOG(2))))","v":0},null,{"$f":"N31","v":22111},{"$f":"COUNTIF(L79:L102,AI31)","v":1},{"$f":"AJ31/(AL4-AJ25)","v":4.3478260869565216E-2},{"$f":"IF(AK31=0,0,(AK31*((LOG(AK31))/LOG(2))))","v":-0.19667660678508753},null,{"$f":"N31","v":22111},{"$f":"COUNTIF(L103:L126,AN31)","v":2},{"$f":"AO31/(AQ4-AO25)","v":8.3333333333333329E-2},{"$f":"IF(AP31=0,0,(AP31*((LOG(AP31))/LOG(2))))","v":-0.29874687506009634},null,{"$f":"N31","v":22111},{"$f":"COUNTIF(L127:L150,AS31)","v":2},{"$f":"AT31/(AV4-AT25)","v":9.5238095238095233E-2},{"$f":"IF(AU31=0,0,(AU31*((LOG(AU31))/LOG(2))))","v":-0.32307784978845333}]
[12,4217,24,4224,13,4234,23,4248,13,4259,0,12121,null,22112,{"$f":"COUNTIF($L$7:$L$500,N32)","v":12},{"$f":"O32/$Q$4","v":8.3916083916083919E-2},{"$f":"IF(P32=0,0,(P32*((LOG(P32))/LOG(2))))","v":-0.29999234987892864},null,null,{"$f":"N32","v":22112},{"$f":"COUNTIF(L7:L30,T32)","v":0},{"$f":"U32/(W4-U25)","v":0},{"$f":"IF(V32=0,0,(V32*((LOG(V32))/LOG(2))))","v":0},null,{"$f":"N32","v":22112},{"$f":"COUNTIF(L31:L54,Y32)","v":6},{"$f":"Z32/(AB4-Z25)","v":0.2608695652173913},{"$f":"IF(AA32=0,0,(AA32*((LOG(AA32))/LOG(2))))","v":-0.50572159704413644},null,{"$f":"N32","v":22112},{"$f":"COUNTIF(L55:L78,AD32)","v":3},{"$f":"AE32/(AG4-AE25)","v":0.13043478260869565},{"$f":"IF(AF32=0,0,(AF32*((LOG(AF32))/LOG(2))))","v":-0.3832955811307639},null,{"$f":"N32","v":22112},{"$f":"COUNTIF(L79:L102,AI32)","v":2},{"$f":"AJ32/(AL4-AJ25)","v":8.6956521739130432E-2},{"$f":"IF(AK32=0,0,(AK32*((LOG(AK32))/LOG(2))))","v":-0.30639669183104457},null,{"$f":"N32","v":22112},{"$f":"COUNTIF(L103:L126,AN32)","v":0},{"$f":"AO32/(AQ4-AO25)","v":0},{"$f":"IF(AP32=0,0,(AP32*((LOG(AP32))/LOG(2))))","v":0},null,{"$f":"N32","v":22112},{"$f":"COUNTIF(L127:L150,AS32)","v":1},{"$f":"AT32/(AV4-AT25)","v":4.7619047619047616E-2},{"$f":"IF(AU32=0,0,(AU32*((LOG(AU32))/LOG(2))))","v":-0.20915797251327431}]
[12,4386,24,4395,24,4403,23,4413,13,4432,0,12221,null,22121,{"$f":"COUNTIF($L$7:$L$500,N33)","v":32},{"$f":"O33/$Q$4","v":0.22377622377622378},{"$f":"IF(P33=0,0,(P33*((LOG(P33))/LOG(2))))","v":-0.48332785158677249},null,null,{"$f":"N33","v":22121},{"$f":"COUNTIF(L7:L30,T33)","v":11},{"$f":"U33/(W4-U25)","v":0.45833333333333331},{"$f":"IF(V33=0,0,(V33*((LOG(V33))/LOG(2))))","v":-0.51586832095510204},null,{"$f":"N33","v":22121},{"$f":"COUNTIF(L31:L54,Y33)","v":1},{"$f":"Z33/(AB4-Z25)","v":4.3478260869565216E-2},{"$f":"IF(AA33=0,0,(AA33*((LOG(AA33))/LOG(2))))","v":-0.19667660678508753},null,{"$f":"N33","v":22121},{"$f":"COUNTIF(L55:L78,AD33)","v":10},{"$f":"AE33/(AG4-AE25)","v":0.43478260869565216},{"$f":"IF(AF33=0,0,(AF33*((LOG(AF33))/LOG(2))))","v":-0.52244950485636987},null,{"$f":"N33","v":22121},{"$f":"COUNTIF(L79:L102,AI33)","v":6},{"$f":"AJ33/(AL4-AJ25)","v":0.2608695652173913},{"$f":"IF(AK33=0,0,(AK33*((LOG(AK33))/LOG(2))))","v":-0.50572159704413644},null,{"$f":"N33","v":22121},{"$f":"COUNTIF(L103:L126,AN33)","v":2},{"$f":"AO33/(AQ4-AO25)","v":8.3333333333333329E-2},{"$f":"IF(AP33=0,0,(AP33*((LOG(AP33))/LOG(2))))","v":-0.29874687506009634},null,{"$f":"N33","v":22121},{"$f":"COUNTIF(L127:L150,AS33)","v":2},{"$f":"AT33/(AV4-AT25)","v":9.5238095238095233E-2},{"$f":"IF(AU33=0,0,(AU33*((LOG(AU33))/LOG(2))))","v":-0.32307784978845333}]
[21,4542,22,4561,24,4579,14,4588,24,4600,0,22212,null,22122,{"$f":"COUNTIF($L$7:$L$500,N34)","v":1},{"$f":"O34/$Q$4","v":6.993006993006993E-3},{"$f":"IF(P34=0,0,(P34*((LOG(P34))/LOG(2))))","v":-5.0069030327121608E-2},null,null,{"$f":"N34","v":22122},{"$f":"COUNTIF(L7:L30,T34)","v":1},{"$f":"U34/(W4-U25)","v":4.1666666666666664E-2},{"$f":"IF(V34=0,0,(V34*((LOG(V34))/LOG(2))))","v":-0.19104010419671485},null,{"$f":"N34","v":22122},{"$f":"COUNTIF(L31:L54,Y34)","v":0},{"$f":"Z34/(AB4-Z25)","v":0},{"$f":"IF(AA34=0,0,(AA34*((LOG(AA34))/LOG(2))))","v":0},null,{"$f":"N34","v":22122},{"$f":"COUNTIF(L55:L78,AD34)","v":0},{"$f":"AE34/(AG4-AE25)","v":0},{"$f":"IF(AF34=0,0,(AF34*((LOG(AF34))/LOG(2))))","v":0},null,{"$f":"N34","v":22122},{"$f":"COUNTIF(L79:L102,AI34)","v":0},{"$f":"AJ34/(AL4-AJ25)","v":0},{"$f":"IF(AK34=0,0,(AK34*((LOG(AK34))/LOG(2))))","v":0},null,{"$f":"N34","v":22122},{"$f":"COUNTIF(L103:L126,AN34)","v":0},{"$f":"AO34/(AQ4-AO25)","v":0},{"$f":"IF(AP34=0,0,(AP34*((LOG(AP34))/LOG(2))))","v":0},null,{"$f":"N34","v":22122},{"$f":"COUNTIF(L127:L150,AS34)","v":0},{"$f":"AT34/(AV4-AT25)","v":0},{"$f":"IF(AU34=0,0,(AU34*((LOG(AU34))/LOG(2))))","v":0}]
[21,4708,22,4720,13,4744,14,4749,24,4761,0,22112,null,22211,{"$f":"COUNTIF($L$7:$L$500,N35)","v":5},{"$f":"O35/$Q$4","v":3.4965034965034968E-2},{"$f":"IF(P35=0,0,(P35*((LOG(P35))/LOG(2))))","v":-0.16915885461157437},null,null,{"$f":"N35","v":22211},{"$f":"COUNTIF(L7:L30,T35)","v":1},{"$f":"U35/(W4-U25)","v":4.1666666666666664E-2},{"$f":"IF(V35=0,0,(V35*((LOG(V35))/LOG(2))))","v":-0.19104010419671485},null,{"$f":"N35","v":22211},{"$f":"COUNTIF(L31:L54,Y35)","v":0},{"$f":"Z35/(AB4-Z25)","v":0},{"$f":"IF(AA35=0,0,(AA35*((LOG(AA35))/LOG(2))))","v":0},null,{"$f":"N35","v":22211},{"$f":"COUNTIF(L55:L78,AD35)","v":2},{"$f":"AE35/(AG4-AE25)","v":8.6956521739130432E-2},{"$f":"IF(AF35=0,0,(AF35*((LOG(AF35))/LOG(2))))","v":-0.30639669183104457},null,{"$f":"N35","v":22211},{"$f":"COUNTIF(L79:L102,AI35)","v":2},{"$f":"AJ35/(AL4-AJ25)","v":8.6956521739130432E-2},{"$f":"IF(AK35=0,0,(AK35*((LOG(AK35))/LOG(2))))","v":-0.30639669183104457},null,{"$f":"N35","v":22211},{"$f":"COUNTIF(L103:L126,AN35)","v":0},{"$f":"AO35/(AQ4-AO25)","v":0},{"$f":"IF(AP35=0,0,(AP35*((LOG(AP35))/LOG(2))))","v":0},null,{"$f":"N35","v":22211},{"$f":"COUNTIF(L127:L150,AS35)","v":0},{"$f":"AT35/(AV4-AT25)","v":0},{"$f":"IF(AU35=0,0,(AU35*((LOG(AU35))/LOG(2))))","v":0}]
[21,4881,11,4913,11,4918,12,4927,24,4940,0,21112,null,22212,{"$f":"COUNTIF($L$7:$L$500,N36)","v":17},{"$f":"O36/$Q$4","v":0.11888111888111888},{"$f":"IF(P36=0,0,(P36*((LOG(P36))/LOG(2))))","v":-0.36525135960822969},null,null,{"$f":"N36","v":22212},{"$f":"COUNTIF(L7:L30,T36)","v":2},{"$f":"U36/(W4-U25)","v":8.3333333333333329E-2},{"$f":"IF(V36=0,0,(V36*((LOG(V36))/LOG(2))))","v":-0.29874687506009634},null,{"$f":"N36","v":22212},{"$f":"COUNTIF(L31:L54,Y36)","v":3},{"$f":"Z36/(AB4-Z25)","v":0.13043478260869565},{"$f":"IF(AA36=0,0,(AA36*((LOG(AA36))/LOG(2))))","v":-0.3832955811307639},null,{"$f":"N36","v":22212},{"$f":"COUNTIF(L55:L78,AD36)","v":3},{"$f":"AE36/(AG4-AE25)","v":0.13043478260869565},{"$f":"IF(AF36=0,0,(AF36*((LOG(AF36))/LOG(2))))","v":-0.3832955811307639},null,{"$f":"N36","v":22212},{"$f":"COUNTIF(L79:L102,AI36)","v":6},{"$f":"AJ36/(AL4-AJ25)","v":0.2608695652173913},{"$f":"IF(AK36=0,0,(AK36*((LOG(AK36))/LOG(2))))","v":-0.50572159704413644},null,{"$f":"N36","v":22212},{"$f":"COUNTIF(L103:L126,AN36)","v":3},{"$f":"AO36/(AQ4-AO25)","v":0.125},{"$f":"IF(AP36=0,0,(AP36*((LOG(AP36))/LOG(2))))","v":-0.375},null,{"$f":"N36","v":22212},{"$f":"COUNTIF(L127:L150,AS36)","v":0},{"$f":"AT36/(AV4-AT25)","v":0},{"$f":"IF(AU36=0,0,(AU36*((LOG(AU36))/LOG(2))))","v":0}]
[21,5043,22,5049,24,5068,14,5077,24,5086,0,22212,null,22221,{"$f":"COUNTIF($L$7:$L$500,N37)","v":2},{"$f":"O37/$Q$4","v":1.3986013986013986E-2},{"$f":"IF(P37=0,0,(P37*((LOG(P37))/LOG(2))))","v":-8.6152046668229218E-2},null,null,{"$f":"N37","v":22221},{"$f":"COUNTIF(L7:L30,T37)","v":1},{"$f":"U37/(W4-U25)","v":4.1666666666666664E-2},{"$f":"IF(V37=0,0,(V37*((LOG(V37))/LOG(2))))","v":-0.19104010419671485},null,{"$f":"N37","v":22221},{"$f":"COUNTIF(L31:L54,Y37)","v":0},{"$f":"Z37/(AB4-Z25)","v":0},{"$f":"IF(AA37=0,0,(AA37*((LOG(AA37))/LOG(2))))","v":0},null,{"$f":"N37","v":22221},{"$f":"COUNTIF(L55:L78,AD37)","v":0},{"$f":"AE37/(AG4-AE25)","v":0},{"$f":"IF(AF37=0,0,(AF37*((LOG(AF37))/LOG(2))))","v":0},null,{"$f":"N37","v":22221},{"$f":"COUNTIF(L79:L102,AI37)","v":1},{"$f":"AJ37/(AL4-AJ25)","v":4.3478260869565216E-2},{"$f":"IF(AK37=0,0,(AK37*((LOG(AK37))/LOG(2))))","v":-0.19667660678508753},null,{"$f":"N37","v":22221},{"$f":"COUNTIF(L103:L126,AN37)","v":0},{"$f":"AO37/(AQ4-AO25)","v":0},{"$f":"IF(AP37=0,0,(AP37*((LOG(AP37))/LOG(2))))","v":0},null,{"$f":"N37","v":22221},{"$f":"COUNTIF(L127:L150,AS37)","v":0},{"$f":"AT37/(AV4-AT25)","v":0},{"$f":"IF(AU37=0,0,(AU37*((LOG(AU37))/LOG(2))))","v":0}]
[21,5219,11,5248,11,5261,21,5275,11,5287,1,21121,null,22222,{"$f":"COUNTIF($L$7:$L$500,N38)","v":0},{"$f":"O38/$Q$4","v":0},{"$f":"IF(P38=0,0,(P38*((LOG(P38))/LOG(2))))","v":0},null,null,{"$f":"N38","v":22222},{"$f":"COUNTIF(L7:L30,T38)","v":0},{"$f":"U38/(W4-U25)","v":0},{"$f":"IF(V38=0,0,(V38*((LOG(V38))/LOG(2))))","v":0},null,{"$f":"N38","v":22222},{"$f":"COUNTIF(L31:L54,Y38)","v":0},{"$f":"Z38/(AB4-Z25)","v":0},{"$f":"IF(AA38=0,0,(AA38*((LOG(AA38))/LOG(2))))","v":0},null,{"$f":"N38","v":22222},{"$f":"COUNTIF(L55:L78,AD38)","v":0},{"$f":"AE38/(AG4-AE25)","v":0},{"$f":"IF(AF38=0,0,(AF38*((LOG(AF38))/LOG(2))))","v":0},null,{"$f":"N38","v":22222},{"$f":"COUNTIF(L79:L102,AI38)","v":0},{"$f":"AJ38/(AL4-AJ25)","v":0},{"$f":"IF(AK38=0,0,(AK38*((LOG(AK38))/LOG(2))))","v":0},null,{"$f":"N38","v":22222},{"$f":"COUNTIF(L103:L126,AN38)","v":0},{"$f":"AO38/(AQ4-AO25)","v":0},{"$f":"IF(AP38=0,0,(AP38*((LOG(AP38))/LOG(2))))","v":0},null,{"$f":"N38","v":22222},{"$f":"COUNTIF(L127:L150,AS38)","v":0},{"$f":"AT38/(AV4-AT25)","v":0},{"$f":"IF(AU38=0,0,(AU38*((LOG(AU38))/LOG(2))))","v":0}]
[21,5379,11,5389,22,5398,14,5409,24,5422,0,21212,null,null,null,{"$f":"SUM(P7:P38)","v":1.0000000000000002},{"$f":"-SUM(Q7:Q38)","v":3.7777160597721329},null,null,null,null,{"$f":"SUM(V7:V38)","v":1},{"$f":"-SUM(W7:W38)","v":2.348987989077528},null,null,null,{"$f":"SUM(AA7:AA38)","v":0.99999999999999989},{"$f":"-SUM(AB7:AB38)","v":2.8440319350530698},null,null,null,{"$f":"SUM(AF7:AF38)","v":0.99999999999999989},{"$f":"-SUM(AG7:AG38)","v":2.57882039287438},null,null,null,{"$f":"SUM(AK7:AK38)","v":1},{"$f":"-SUM(AL7:AL38)","v":2.9140163035068443},null,null,null,{"$f":"SUM(AP7:AP38)","v":1},{"$f":"-SUM(AQ7:AQ38)","v":3.5739348962840563},null,null,null,{"$f":"SUM(AU7:AU38)","v":0.99999999999999989},{"$f":"-SUM(AV7:AV38)","v":3.6304126608739984}]
[21,5534,22,5551,24,5569,14,5581,24,5595,0,22212,null,null,null,"U=",{"$f":"Q39/(LOG(Q4)/LOG(2))","v":0.52762345607622751},null,null,null,null,"U1=",{"$f":"W39/(LOG(W4)/LOG(2))","v":0.51232436224027178},null,null,null,"U2=",{"$f":"AB39/(LOG(AB4)/LOG(2))","v":0.62029557157899107},null,null,null,"U3=",{"$f":"AG39/(LOG(AG4)/LOG(2))","v":0.56245179594571704},null,null,null,"U4=",{"$f":"AL39/(LOG(AL4)/LOG(2))","v":0.63555946271065611},null,null,null,"U5=",{"$f":"AQ39/(LOG(AQ4)/LOG(2))","v":0.77949054015641828},null,null,null,"U6=",{"$f":"AV39/(LOG(AV4)/LOG(2))","v":0.80255619269520673}]
[21,5725,22,5730,13,5749,14,5759,24,5771,0,22112]
[21,5873,11,5903,22,5915,14,5926,24,5939,0,21212]
[21,6044,22,6057,13,6066,14,6072,13,6077,0,22111,null,"Total Target Seq"]
[21,6187,22,6205,13,6214,14,6221,24,6233,0,22112,null,{"$f":"COUNTIF(L7:L150,G3)","v":5},null,24,24,24,24,24,24]
[21,6339,22,6346,13,6372,14,6377,13,6382,0,22111,null,null,null,"% of reinforcement given in 6 equal intervals based on number of trials "]
[21,6491,22,6496,13,6508,14,6516,24,6531,0,22112,null,null,null,"%_1","%_2","%_3","%_4","%_5","%_6"]
[21,6665,22,6686,13,6695,14,6703,24,6714,0,22112,null,null,"target sequence",{"$f":"$G$3","v":21121},{"$f":"$G$3","v":21121},{"$f":"$G$3","v":21121},{"$f":"$G$3","v":21121},{"$f":"$G$3","v":21121},{"$f":"$G$3","v":21121}]
[21,6823,11,6864,22,6874,14,6886,13,6907,0,21211,null,null,"total reinforcement",{"$f":"U25","v":0},{"$f":"Z25","v":1},{"$f":"AE25","v":1},{"$f":"AJ25","v":1},{"$f":"AO25","v":0},{"$f":"AT25","v":2}]
[21,7043,22,7048,13,7059,23,7072,13,7083,0,22121,null,null,"% target"]
[21,7217,11,7226,22,7236,14,7247,24,7261,0,21212,null,null,"CCRF"]
[21,7390,11,7403,22,7412,14,7421,24,7435,0,21212,null,null,"% CCRf"]
[21,7535,22,7570,13,7579,14,7592,24,7605,0,22112,null,null,"average response rate",{"$f":"J30/P44","v":160.04166666666666},{"$f":"(J54-J30)/Q44","v":169.58333333333334},{"$f":"(J78-J54)/R44","v":166.16666666666666},{"$f":"(J102-J78)/S44","v":161.5},{"$f":"(J126-J102)/T44","v":171.25},{"$f":"(J150-J126)/U44","v":-828.54166666666663}]
[21,7719,22,7739,13,7748,14,7756,13,7764,0,22111]
[12,7862,24,7881,13,7892,23,7900,13,7911,0,12121]
[21,8024,22,8038,24,8054,14,8063,24,8072,0,22212]
[21,8178,22,8196,24,8205,14,8216,13,8225,0,22211]
[21,8335,22,8341,13,8355,23,8364,13,8376,0,22121]
[21,8491,22,8516,13,8525,23,8537,13,8549,0,22121]
[21,8672,11,8699,22,8709,23,8727,13,8737,0,21221]
[21,8900,11,8912,22,8921,14,8930,24,8944,0,21212]
[21,9050,22,9055,13,9079,23,9085,13,9096,0,22121]
[21,9226,22,9241,13,9250,23,9259,13,9270,0,22121]
[21,9376,22,9390,24,9398,14,9408,24,9416,0,22212]
[21,9534,22,9556,13,9567,23,9581,13,9594,0,22121]
[21,9710,11,9728,22,9736,14,9750,13,9758,0,21211]
[12,9883,24,9894,13,9903,23,9916,13,9926,0,12121]
[21,10035,22,10057,24,10080,14,10090,24,10100,0,22212]
[21,10249,22,10257,13,10266,14,10276,24,10290,0,22112]
[21,10411,22,10418,13,10427,23,10437,13,10446,0,22121]
[21,10575,11,10585,11,10593,21,10607,11,10619,1,21121]
[21,10713,22,10734,13,10743,23,10752,13,10764,0,22121]
[21,10874,22,10879,13,10888,23,10896,13,10908,0,22121]
[21,11045,22,11049,13,11060,23,11067,13,11078,0,22121]
[21,11204,22,11209,13,11219,14,11232,24,11247,0,22112]
[21,11360,22,11371,24,11386,14,11398,13,11411,0,22211]
[21,11557,22,11564,13,11576,14,11584,24,11597,0,22112]
[12,11708,24,11717,13,11726,14,11731,13,11736,0,12111]
[21,11854,22,11871,13,11880,23,11889,13,11899,0,22121]
[21,12022,22,12037,13,12047,23,12056,13,12069,0,22121]
[21,12182,22,12193,24,12211,14,12220,13,12228,0,22211]
[21,12336,11,12360,11,12361,12,12366,24,12380,0,21112]
[21,12500,11,12531,11,12541,21,12554,11,12565,1,21121]
[21,12684,11,12694,22,12704,14,12715,24,12729,0,21212]
[21,12846,22,12851,24,12868,14,12874,24,12883,0,22212]
[21,12990,22,13003,24,13034,14,13045,24,13058,0,22212]
[21,13199,22,13204,13,13215,14,13230,24,13241,0,22112]
[21,13347,22,13374,13,13383,23,13392,13,13404,0,22121]
[21,13529,22,13545,13,13557,23,13568,13,13580,0,22121]
[21,13683,22,13691,24,13709,14,13720,13,13733,0,22211]
[21,13861,11,13874,22,13883,14,13893,24,13906,0,21212]
[21,14026,22,14032,13,14059,23,14067,13,14079,0,22121]
[12,14201,13,14209,24,14220,14,14234,13,14241,0,11211]
[21,14340,22,14348,13,14361,14,14367,24,14376,0,22112]
[21,14485,22,14495,24,14509,14,14519,24,14530,0,22212]
[21,14645,22,14650,24,14667,14,14679,24,14692,0,22212]
[21,14796,22,14801,24,14818,14,14829,24,14842,0,22212]
[21,14946,22,14952,24,14968,14,14977,24,14986,0,22212]
[21,15108,22,15122,13,15130,14,15139,13,15144,0,22111]
[12,15247,13,15249,24,15266,14,15278,24,15291,0,11212]
[21,15405,22,15424,13,15437,23,15445,13,15456,0,22121]
[21,15570,22,15579,24,15587,23,15595,13,15607,0,22221]
[21,15713,22,15733,13,15749,23,15763,13,15775,0,22121]
[21,15897,11,15929,22,15938,14,15949,24,15963,0,21212]
[21,16069,11,16112,22,16135,14,16145,13,16153,0,21211]
[21,16263,22,16271,13,16285,14,16289,13,16295,0,22111]
[12,16484,13,16507,24,16520,14,16528,13,16537,0,11211]
[21,16687,11,16695,22,16704,23,16720,13,16731,0,21221]
[21,16842,22,16848,24,16867,14,16876,24,16886,0,22212]
[21,17009,11,17018,22,17027,14,17036,24,17050,0,21212]
[21,17159,11,17183,22,17189,14,17198,24,17207,0,21212]
[21,17325,22,17329,13,17346,14,17351,13,17360,0,22111]
[12,17469,13,17474,13,17483,14,17488,13,17496,0,11111]
[12,17620,24,17629,13,17638,14,17645,13,17652,0,12111]
[12,17764,24,17778,13,17787,23,17796,13,17807,0,12121]
[21,17944,22,17952,13,17964,23,17981,13,17993,0,22121]
[21,18107,22,18116,24,18121,14,18138,24,18150,0,22212]
[12,18257,13,18262,24,18274,14,18285,24,18297,0,11212]
[21,18412,22,18421,13,18429,23,18439,13,18449,0,22121]
[12,18574,13,18578,13,18583,23,18597,13,18609,0,11121]
[21,18721,11,18738,22,18747,14,18755,13,18765,0,21211]
[12,18918,24,18925,13,18939,23,18953,13,18965,0,12121]
[21,19108,22,19117,24,19134,14,19152,24,19166,0,22212]
[12,19310,13,19312,13,19324,23,19338,13,19349,0,11121]
[21,19460,11,19503,22,19517,14,19530,13,19536,0,21211]
[12,19652,13,19658,24,19667,23,19681,24,19698,0,11222]
[12,19851,13,19858,24,19868,14,19877,13,19885,0,11211]
[21,20032,11,20049,22,20060,14,20069,24,20081,0,21212]
[21,20240,11,20257,22,20267,14,20278,24,20289,0,21212]
[12,20423,24,20432,24,20449,14,20462,13,20471,0,12211]
[12,20606,13,20628,24,20637,14,20646,13,20655,0,11211]
[12,20774,13,20779,13,20798,23,20811,13,20820,0,11121]
[21,20980,11,20989,11,20994,12,20999,24,21012,0,21112]
[21,21150,22,21159,13,21170,23,21178,13,21193,0,22121]
[12,21369,13,21375,24,21388,14,21397,13,21407,0,11211]
[21,21564,11,21578,22,21588,14,21603,24,21617,0,21212]
[21,21765,11,21778,11,21783,21,21799,11,21811,1,21121]
[12,21914,24,21924,24,21941,14,21950,13,21958,0,12211]
[21,22066,22,22082,13,22091,14,22096,13,22104,0,22111]
[12,22237,24,22251,13,22260,23,22273,13,22285,0,12121]
[12,22393,24,22404,24,22409,14,22422,24,22434,0,12212]
[21,22539,22,22556,13,22566,23,22575,13,22586,0,22121]
[12,22711,24,22721,13,22732,14,22737,13,22741,0,12111]
[12,22876,24,22886,13,22895,14,22906,24,22918,0,12112]
[21,23045,11,23066,11,23070,21,23080,11,23089,1,21121]
[12,23202,13,23209,13,23217,14,23224,13,23232,0,11111]
[21,23332,22,23355,13,23364,14,23372,24,23385,0,22112]
[12,23509,13,23515,24,23529,14,23542,24,23558,0,11212]
[21,23681,11,23696,22,23702,14,23711,24,23722,0,21212]
[21,23821,22,23827,13,23837,14,23848,13,23857,0,22111]
[21,23969,11,23996,null,null,null,null,null,null,null,21]

{"sheet":"!N211820.091","index":22,"n_rows":160,"n_cols":48,"rows_kept":160,"cut":false,"hidden":false,"merged":[[4,39,4,42],[5,39,5,40],[4,44,4,47],[5,44,5,45],[4,24,4,27],[5,24,5,25],[4,29,4,32],[5,29,5,30],[4,34,4,37],[5,34,5,35],[1,1,1,2],[5,13,5,14],[42,13,42,14],[43,13,43,14],[4,19,4,22],[5,19,5,20]]}
["Report for:!N211820.091"]
["Date:","<date>"]
["Hen:","<hen>",null,null,null,"Correct Sequence",{"$f":"Start!J2","v":21121},null,null,null,null,null,null,null,null,"Total Sequences in Data",{"$f":"4994-COUNTBLANK(L7:L5000)","v":154},null,null,null,null,"Total Sequences in Block Data",{"$f":"COUNTA(L7:L32)","v":26},null,null,null,"Total Sequences in Block Data",{"$f":"COUNTA(L33:L57)","v":25},null,null,null,"Total Sequences in Block Data",{"$f":"COUNTA(L58:L83)","v":26},null,null,null,"Total Sequences in Block Data",{"$f":"COUNTA(L84:L109)","v":26},null,null,null,"Total Sequences in Block Data",{"$f":"COUNTA(L110:L134)","v":25},null,null,null,"Total Sequences in Block Data",{"$f":"COUNTA(L135:L160)","v":26}]
[null,null,null,null,null,null,null,null,null,null,null,null,null,null,null,"Total Sequences in Summary",{"$f":"SUM(O7:O38)","v":153},null,null,null,null,"Total Sequences in Block Summary",{"$f":"SUM(U7:U38)","v":26},null,null,null,"Total Sequences in Block Summary",{"$f":"SUM(Z7:Z38)","v":25},null,null,null,"Total Sequences in Block Summary",{"$f":"SUM(AE7:AE38)","v":26},null,null,null,"Total Sequences in Block Summary",{"$f":"SUM(AJ7:AJ38)","v":26},null,null,null,"Total Sequences in Block Summary",{"$f":"SUM(AO7:AO38)","v":25},null,null,null,"Total Sequences in Block Summary",{"$f":"SUM(AT7:AT38)","v":25}]
[null,null,null,null,null,null,null,null,null,null,null,null,null,null,null,null,null,null,null,"Block 1",null,null,null,null,"Block 2",null,null,null,null,"Block 3",null,null,null,null,"Block 4",null,null,null,null,"Block 5",null,null,null,null,"Block 6"]
["Sequence\nComponent\n1","Time\n1","Sequence\nComponent\n2","Time\n2","Sequence\nComponent\n3","Time\n3","Sequence\nComponent\n4","Time\n4","Sequence\nComponent\n5","Time\n5","Correct?\n0=No 1=Yes","Sequence",null,"Frequency",null,"Relative Frequency","Variability",null,null,"Frequency",null,"Relative Frequency","Variability",null,"Frequency",null,"Relative Frequency","Variability",null,"Frequency",null,"Relative Frequency","Variability",null,"Frequency",null,"Relative Frequency","Variability",null,"Frequency",null,"Relative Frequency","Variability",null,"Frequency",null,"Relative Frequency","Variability"]
[12,8,13,18,13,26,23,39,13,51,0,11121,null,11111,{"$f":"COUNTIF($L$7:$L$500,N7)","v":1},{"$f":"O7/$Q$4","v":6.5359477124183009E-3},{"$f":"IF(P7=0,0,(P7*((LOG(P7))/LOG(2))))","v":-4.743390746857943E-2},null,null,{"$f":"N7","v":11111},{"$f":"COUNTIF(L7:L32,T7)","v":1},{"$f":"U7/(W4-U25)","v":0.04},{"$f":"IF(V7=0,0,(V7*((LOG(V7))/LOG(2))))","v":-0.18575424759098899},null,{"$f":"N7","v":11111},{"$f":"COUNTIF(L33:L57,Y7)","v":0},{"$f":"Z7/(AB4-Z25)","v":0},{"$f":"IF(AA7=0,0,(AA7*((LOG(AA7))/LOG(2))))","v":0},null,{"$f":"N7","v":11111},{"$f":"COUNTIF(L58:L83,AD7)","v":0},{"$f":"AE7/(AG4-AE25)","v":0},{"$f":"IF(AF7=0,0,(AF7*((LOG(AF7))/LOG(2))))","v":0},null,{"$f":"N7","v":11111},{"$f":"COUNTIF(L84:L109,AI7)","v":0},{"$f":"AJ7/(AL4-AJ25)","v":0},{"$f":"IF(AK7=0,0,(AK7*((LOG(AK7))/LOG(2))))","v":0},null,{"$f":"N7","v":11111},{"$f":"COUNTIF(L110:L134,AN7)","v":0},{"$f":"AO7/(AQ4-AO25)","v":0},{"$f":"IF(AP7=0,0,(AP7*((LOG(AP7))/LOG(2))))","v":0},null,{"$f":"N7","v":11111},{"$f":"COUNTIF(L135:L160,AS7)","v":0},{"$f":"AT7/(AV4-AT25)","v":0},{"$f":"IF(AU7=0,0,(AU7*((LOG(AU7))/LOG(2))))","v":0}]
[12,152,24,169,13,179,23,191,13,202,0,12121,null,11112,{"$f":"COUNTIF($L$7:$L$500,N8)","v":3},{"$f":"O8/$Q$4","v":1.9607843137254902E-2},{"$f":"IF(P8=0,0,(P8*((LOG(P8))/LOG(2))))","v":-0.11122402631316657},null,null,{"$f":"N8","v":11112},{"$f":"COUNTIF(L7:L32,T8)","v":1},{"$f":"U8/(W4-U25)","v":0.04},{"$f":"IF(V8=0,0,(V8*((LOG(V8))/LOG(2))))","v":-0.18575424759098899},null,{"$f":"N8","v":11112},{"$f":"COUNTIF(L33:L57,Y8)","v":0},{"$f":"Z8/(AB4-Z25)","v":0},{"$f":"IF(AA8=0,0,(AA8*((LOG(AA8))/LOG(2))))","v":0},null,{"$f":"N8","v":11112},{"$f":"COUNTIF(L58:L83,AD8)","v":2},{"$f":"AE8/(AG4-AE25)","v":0.08},{"$f":"IF(AF8=0,0,(AF8*((LOG(AF8))/LOG(2))))","v":-0.29150849518197797},null,{"$f":"N8","v":11112},{"$f":"COUNTIF(L84:L109,AI8)","v":0},{"$f":"AJ8/(AL4-AJ25)","v":0},{"$f":"IF(AK8=0,0,(AK8*((LOG(AK8))/LOG(2))))","v":0},null,{"$f":"N8","v":11112},{"$f":"COUNTIF(L110:L134,AN8)","v":0},{"$f":"AO8/(AQ4-AO25)","v":0},{"$f":"IF(AP8=0,0,(AP8*((LOG(AP8))/LOG(2))))","v":0},null,{"$f":"N8","v":11112},{"$f":"COUNTIF(L135:L160,AS8)","v":0},{"$f":"AT8/(AV4-AT25)","v":0},{"$f":"IF(AU8=0,0,(AU8*((LOG(AU8))/LOG(2))))","v":0}]
[21,303,11,317,11,323,21,336,11,346,1,21121,null,11121,{"$f":"COUNTIF($L$7:$L$500,N9)","v":9},{"$f":"O9/$Q$4","v":5.8823529411764705E-2},{"$f":"IF(P9=0,0,(P9*((LOG(P9))/LOG(2))))","v":-0.24043899066178465},null,null,{"$f":"N9","v":11121},{"$f":"COUNTIF(L7:L32,T9)","v":2},{"$f":"U9/(W4-U25)","v":0.08},{"$f":"IF(V9=0,0,(V9*((LOG(V9))/LOG(2))))","v":-0.29150849518197797},null,{"$f":"N9","v":11121},{"$f":"COUNTIF(L33:L57,Y9)","v":1},{"$f":"Z9/(AB4-Z25)","v":0.04},{"$f":"IF(AA9=0,0,(AA9*((LOG(AA9))/LOG(2))))","v":-0.18575424759098899},null,{"$f":"N9","v":11121},{"$f":"COUNTIF(L58:L83,AD9)","v":4},{"$f":"AE9/(AG4-AE25)","v":0.16},{"$f":"IF(AF9=0,0,(AF9*((LOG(AF9))/LOG(2))))","v":-0.42301699036395596},null,{"$f":"N9","v":11121},{"$f":"COUNTIF(L84:L109,AI9)","v":1},{"$f":"AJ9/(AL4-AJ25)","v":0.04},{"$f":"IF(AK9=0,0,(AK9*((LOG(AK9))/LOG(2))))","v":-0.18575424759098899},null,{"$f":"N9","v":11121},{"$f":"COUNTIF(L110:L134,AN9)","v":0},{"$f":"AO9/(AQ4-AO25)","v":0},{"$f":"IF(AP9=0,0,(AP9*((LOG(AP9))/LOG(2))))","v":0},null,{"$f":"N9","v":11121},{"$f":"COUNTIF(L135:L160,AS9)","v":1},{"$f":"AT9/(AV4-AT25)","v":0.04},{"$f":"IF(AU9=0,0,(AU9*((LOG(AU9))/LOG(2))))","v":-0.18575424759098899}]
[12,473,13,478,24,488,14,500,13,513,0,11211,null,11122,{"$f":"COUNTIF($L$7:$L$500,N10)","v":0},{"$f":"O10/$Q$4","v":0},{"$f":"IF(P10=0,0,(P10*((LOG(P10))/LOG(2))))","v":0},null,null,{"$f":"N10","v":11122},{"$f":"COUNTIF(L7:L32,T10)","v":0},{"$f":"U10/(W4-U25)","v":0},{"$f":"IF(V10=0,0,(V10*((LOG(V10))/LOG(2))))","v":0},null,{"$f":"N10","v":11122},{"$f":"COUNTIF(L33:L57,Y10)","v":0},{"$f":"Z10/(AB4-Z25)","v":0},{"$f":"IF(AA10=0,0,(AA10*((LOG(AA10))/LOG(2))))","v":0},null,{"$f":"N10","v":11122},{"$f":"COUNTIF(L58:L83,AD10)","v":0},{"$f":"AE10/(AG4-AE25)","v":0},{"$f":"IF(AF10=0,0,(AF10*((LOG(AF10))/LOG(2))))","v":0},null,{"$f":"N10","v":11122},{"$f":"COUNTIF(L84:L109,AI10)","v":0},{"$f":"AJ10/(AL4-AJ25)","v":0},{"$f":"IF(AK10=0,0,(AK10*((LOG(AK10))/LOG(2))))","v":0},null,{"$f":"N10","v":11122},{"$f":"COUNTIF(L110:L134,AN10)","v":0},{"$f":"AO10/(AQ4-AO25)","v":0},{"$f":"IF(AP10=0,0,(AP10*((LOG(AP10))/LOG(2))))","v":0},null,{"$f":"N10","v":11122},{"$f":"COUNTIF(L135:L160,AS10)","v":0},{"$f":"AT10/(AV4-AT25)","v":0},{"$f":"IF(AU10=0,0,(AU10*((LOG(AU10))/LOG(2))))","v":0}]
[12,613,13,618,13,623,14,632,24,644,0,11112,null,11211,{"$f":"COUNTIF($L$7:$L$500,N11)","v":8},{"$f":"O11/$Q$4","v":5.2287581699346407E-2},{"$f":"IF(P11=0,0,(P11*((LOG(P11))/LOG(2))))","v":-0.22260851465059614},null,null,{"$f":"N11","v":11211},{"$f":"COUNTIF(L7:L32,T11)","v":1},{"$f":"U11/(W4-U25)","v":0.04},{"$f":"IF(V11=0,0,(V11*((LOG(V11))/LOG(2))))","v":-0.18575424759098899},null,{"$f":"N11","v":11211},{"$f":"COUNTIF(L33:L57,Y11)","v":1},{"$f":"Z11/(AB4-Z25)","v":0.04},{"$f":"IF(AA11=0,0,(AA11*((LOG(AA11))/LOG(2))))","v":-0.18575424759098899},null,{"$f":"N11","v":11211},{"$f":"COUNTIF(L58:L83,AD11)","v":1},{"$f":"AE11/(AG4-AE25)","v":0.04},{"$f":"IF(AF11=0,0,(AF11*((LOG(AF11))/LOG(2))))","v":-0.18575424759098899},null,{"$f":"N11","v":11211},{"$f":"COUNTIF(L84:L109,AI11)","v":2},{"$f":"AJ11/(AL4-AJ25)","v":0.08},{"$f":"IF(AK11=0,0,(AK11*((LOG(AK11))/LOG(2))))","v":-0.29150849518197797},null,{"$f":"N11","v":11211},{"$f":"COUNTIF(L110:L134,AN11)","v":0},{"$f":"AO11/(AQ4-AO25)","v":0},{"$f":"IF(AP11=0,0,(AP11*((LOG(AP11))/LOG(2))))","v":0},null,{"$f":"N11","v":11211},{"$f":"COUNTIF(L135:L160,AS11)","v":3},{"$f":"AT11/(AV4-AT25)","v":0.12},{"$f":"IF(AU11=0,0,(AU11*((LOG(AU11))/LOG(2))))","v":-0.36706724268642821}]
[12,753,13,757,13,766,14,771,13,779,0,11111,null,11212,{"$f":"COUNTIF($L$7:$L$500,N12)","v":7},{"$f":"O12/$Q$4","v":4.5751633986928102E-2},{"$f":"IF(P12=0,0,(P12*((LOG(P12))/LOG(2))))","v":-0.20359627741467537},null,null,{"$f":"N12","v":11212},{"$f":"COUNTIF(L7:L32,T12)","v":0},{"$f":"U12/(W4-U25)","v":0},{"$f":"IF(V12=0,0,(V12*((LOG(V12))/LOG(2))))","v":0},null,{"$f":"N12","v":11212},{"$f":"COUNTIF(L33:L57,Y12)","v":2},{"$f":"Z12/(AB4-Z25)","v":0.08},{"$f":"IF(AA12=0,0,(AA12*((LOG(AA12))/LOG(2))))","v":-0.29150849518197797},null,{"$f":"N12","v":11212},{"$f":"COUNTIF(L58:L83,AD12)","v":2},{"$f":"AE12/(AG4-AE25)","v":0.08},{"$f":"IF(AF12=0,0,(AF12*((LOG(AF12))/LOG(2))))","v":-0.29150849518197797},null,{"$f":"N12","v":11212},{"$f":"COUNTIF(L84:L109,AI12)","v":1},{"$f":"AJ12/(AL4-AJ25)","v":0.04},{"$f":"IF(AK12=0,0,(AK12*((LOG(AK12))/LOG(2))))","v":-0.18575424759098899},null,{"$f":"N12","v":11212},{"$f":"COUNTIF(L110:L134,AN12)","v":1},{"$f":"AO12/(AQ4-AO25)","v":4.3478260869565216E-2},{"$f":"IF(AP12=0,0,(AP12*((LOG(AP12))/LOG(2))))","v":-0.19667660678508753},null,{"$f":"N12","v":11212},{"$f":"COUNTIF(L135:L160,AS12)","v":1},{"$f":"AT12/(AV4-AT25)","v":0.04},{"$f":"IF(AU12=0,0,(AU12*((LOG(AU12))/LOG(2))))","v":-0.18575424759098899}]
[12,878,24,891,13,899,14,907,13,931,0,12111,null,11221,{"$f":"COUNTIF($L$7:$L$500,N13)","v":1},{"$f":"O13/$Q$4","v":6.5359477124183009E-3},{"$f":"IF(P13=0,0,(P13*((LOG(P13))/LOG(2))))","v":-4.743390746857943E-2},null,null,{"$f":"N13","v":11221},{"$f":"COUNTIF(L7:L32,T13)","v":0},{"$f":"U13/(W4-U25)","v":0},{"$f":"IF(V13=0,0,(V13*((LOG(V13))/LOG(2))))","v":0},null,{"$f":"N13","v":11221},{"$f":"COUNTIF(L33:L57,Y13)","v":0},{"$f":"Z13/(AB4-Z25)","v":0},{"$f":"IF(AA13=0,0,(AA13*((LOG(AA13))/LOG(2))))","v":0},null,{"$f":"N13","v":11221},{"$f":"COUNTIF(L58:L83,AD13)","v":0},{"$f":"AE13/(AG4-AE25)","v":0},{"$f":"IF(AF13=0,0,(AF13*((LOG(AF13))/LOG(2))))","v":0},null,{"$f":"N13","v":11221},{"$f":"COUNTIF(L84:L109,AI13)","v":1},{"$f":"AJ13/(AL4-AJ25)","v":0.04},{"$f":"IF(AK13=0,0,(AK13*((LOG(AK13))/LOG(2))))","v":-0.18575424759098899},null,{"$f":"N13","v":11221},{"$f":"COUNTIF(L110:L134,AN13)","v":0},{"$f":"AO13/(AQ4-AO25)","v":0},{"$f":"IF(AP13=0,0,(AP13*((LOG(AP13))/LOG(2))))","v":0},null,{"$f":"N13","v":11221},{"$f":"COUNTIF(L135:L160,AS13)","v":0},{"$f":"AT13/(AV4-AT25)","v":0},{"$f":"IF(AU13=0,0,(AU13*((LOG(AU13))/LOG(2))))","v":0}]
[12,1034,13,1041,13,1046,23,1060,13,1070,0,11121,null,11222,{"$f":"COUNTIF($L$7:$L$500,N14)","v":0},{"$f":"O14/$Q$4","v":0},{"$f":"IF(P14=0,0,(P14*((LOG(P14))/LOG(2))))","v":0},null,null,{"$f":"N14","v":11222},{"$f":"COUNTIF(L7:L32,T14)","v":0},{"$f":"U14/(W4-U25)","v":0},{"$f":"IF(V14=0,0,(V14*((LOG(V14))/LOG(2))))","v":0},null,{"$f":"N14","v":11222},{"$f":"COUNTIF(L33:L57,Y14)","v":0},{"$f":"Z14/(AB4-Z25)","v":0},{"$f":"IF(AA14=0,0,(AA14*((LOG(AA14))/LOG(2))))","v":0},null,{"$f":"N14","v":11222},{"$f":"COUNTIF(L58:L83,AD14)","v":0},{"$f":"AE14/(AG4-AE25)","v":0},{"$f":"IF(AF14=0,0,(AF14*((LOG(AF14))/LOG(2))))","v":0},null,{"$f":"N14","v":11222},{"$f":"COUNTIF(L84:L109,AI14)","v":0},{"$f":"AJ14/(AL4-AJ25)","v":0},{"$f":"IF(AK14=0,0,(AK14*((LOG(AK14))/LOG(2))))","v":0},null,{"$f":"N14","v":11222},{"$f":"COUNTIF(L110:L134,AN14)","v":0},{"$f":"AO14/(AQ4-AO25)","v":0},{"$f":"IF(AP14=0,0,(AP14*((LOG(AP14))/LOG(2))))","v":0},null,{"$f":"N14","v":11222},{"$f":"COUNTIF(L135:L160,AS14)","v":0},{"$f":"AT14/(AV4-AT25)","v":0},{"$f":"IF(AU14=0,0,(AU14*((LOG(AU14))/LOG(2))))","v":0}]
[21,1175,22,1196,13,1205,23,1218,13,1229,0,22121,null,12111,{"$f":"COUNTIF($L$7:$L$500,N15)","v":3},{"$f":"O15/$Q$4","v":1.9607843137254902E-2},{"$f":"IF(P15=0,0,(P15*((LOG(P15))/LOG(2))))","v":-0.11122402631316657},null,null,{"$f":"N15","v":12111},{"$f":"COUNTIF(L7:L32,T15)","v":1},{"$f":"U15/(W4-U25)","v":0.04},{"$f":"IF(V15=0,0,(V15*((LOG(V15))/LOG(2))))","v":-0.18575424759098899},null,{"$f":"N15","v":12111},{"$f":"COUNTIF(L33:L57,Y15)","v":0},{"$f":"Z15/(AB4-Z25)","v":0},{"$f":"IF(AA15=0,0,(AA15*((LOG(AA15))/LOG(2))))","v":0},null,{"$f":"N15","v":12111},{"$f":"COUNTIF(L58:L83,AD15)","v":0},{"$f":"AE15/(AG4-AE25)","v":0},{"$f":"IF(AF15=0,0,(AF15*((LOG(AF15))/LOG(2))))","v":0},null,{"$f":"N15","v":12111},{"$f":"COUNTIF(L84:L109,AI15)","v":0},{"$f":"AJ15/(AL4-AJ25)","v":0},{"$f":"IF(AK15=0,0,(AK15*((LOG(AK15))/LOG(2))))","v":0},null,{"$f":"N15","v":12111},{"$f":"COUNTIF(L110:L134,AN15)","v":2},{"$f":"AO15/(AQ4-AO25)","v":8.6956521739130432E-2},{"$f":"IF(AP15=0,0,(AP15*((LOG(AP15))/LOG(2))))","v":-0.30639669183104457},null,{"$f":"N15","v":12111},{"$f":"COUNTIF(L135:L160,AS15)","v":0},{"$f":"AT15/(AV4-AT25)","v":0},{"$f":"IF(AU15=0,0,(AU15*((LOG(AU15))/LOG(2))))","v":0}]
[21,1343,22,1347,13,1358,14,1367,13,1377,0,22111,null,12112,{"$f":"COUNTIF($L$7:$L$500,N16)","v":8},{"$f":"O16/$Q$4","v":5.2287581699346407E-2},{"$f":"IF(P16=0,0,(P16*((LOG(P16))/LOG(2))))","v":-0.22260851465059614},null,null,{"$f":"N16","v":12112},{"$f":"COUNTIF(L7:L32,T16)","v":1},{"$f":"U16/(W4-U25)","v":0.04},{"$f":"IF(V16=0,0,(V16*((LOG(V16))/LOG(2))))","v":-0.18575424759098899},null,{"$f":"N16","v":12112},{"$f":"COUNTIF(L33:L57,Y16)","v":1},{"$f":"Z16/(AB4-Z25)","v":0.04},{"$f":"IF(AA16=0,0,(AA16*((LOG(AA16))/LOG(2))))","v":-0.18575424759098899},null,{"$f":"N16","v":12112},{"$f":"COUNTIF(L58:L83,AD16)","v":1},{"$f":"AE16/(AG4-AE25)","v":0.04},{"$f":"IF(AF16=0,0,(AF16*((LOG(AF16))/LOG(2))))","v":-0.18575424759098899},null,{"$f":"N16","v":12112},{"$f":"COUNTIF(L84:L109,AI16)","v":1},{"$f":"AJ16/(AL4-AJ25)","v":0.04},{"$f":"IF(AK16=0,0,(AK16*((LOG(AK16))/LOG(2))))","v":-0.18575424759098899},null,{"$f":"N16","v":12112},{"$f":"COUNTIF(L110:L134,AN16)","v":1},{"$f":"AO16/(AQ4-AO25)","v":4.3478260869565216E-2},{"$f":"IF(AP16=0,0,(AP16*((LOG(AP16))/LOG(2))))","v":-0.19667660678508753},null,{"$f":"N16","v":12112},{"$f":"COUNTIF(L135:L160,AS16)","v":3},{"$f":"AT16/(AV4-AT25)","v":0.12},{"$f":"IF(AU16=0,0,(AU16*((LOG(AU16))/LOG(2))))","v":-0.36706724268642821}]
[21,1490,22,1496,13,1509,23,1523,13,1534,0,22121,null,12121,{"$f":"COUNTIF($L$7:$L$500,N17)","v":19},{"$f":"O17/$Q$4","v":0.12418300653594772},{"$f":"IF(P17=0,0,(P17*((LOG(P17))/LOG(2))))","v":-0.37372383173681212},null,null,{"$f":"N17","v":12121},{"$f":"COUNTIF(L7:L32,T17)","v":2},{"$f":"U17/(W4-U25)","v":0.08},{"$f":"IF(V17=0,0,(V17*((LOG(V17))/LOG(2))))","v":-0.29150849518197797},null,{"$f":"N17","v":12121},{"$f":"COUNTIF(L33:L57,Y17)","v":1},{"$f":"Z17/(AB4-Z25)","v":0.04},{"$f":"IF(AA17=0,0,(AA17*((LOG(AA17))/LOG(2))))","v":-0.18575424759098899},null,{"$f":"N17","v":12121},{"$f":"COUNTIF(L58:L83,AD17)","v":6},{"$f":"AE17/(AG4-AE25)","v":0.24},{"$f":"IF(AF17=0,0,(AF17*((LOG(AF17))/LOG(2))))","v":-0.49413448537285637},null,{"$f":"N17","v":12121},{"$f":"COUNTIF(L84:L109,AI17)","v":4},{"$f":"AJ17/(AL4-AJ25)","v":0.16},{"$f":"IF(AK17=0,0,(AK17*((LOG(AK17))/LOG(2))))","v":-0.42301699036395596},null,{"$f":"N17","v":12121},{"$f":"COUNTIF(L110:L134,AN17)","v":2},{"$f":"AO17/(AQ4-AO25)","v":8.6956521739130432E-2},{"$f":"IF(AP17=0,0,(AP17*((LOG(AP17))/LOG(2))))","v":-0.30639669183104457},null,{"$f":"N17","v":12121},{"$f":"COUNTIF(L135:L160,AS17)","v":4},{"$f":"AT17/(AV4-AT25)","v":0.16},{"$f":"IF(AU17=0,0,(AU17*((LOG(AU17))/LOG(2))))","v":-0.42301699036395596}]
[21,1643,22,1652,24,1672,14,1684,13,1703,0,22211,null,12122,{"$f":"COUNTIF($L$7:$L$500,N18)","v":1},{"$f":"O18/$Q$4","v":6.5359477124183009E-3},{"$f":"IF(P18=0,0,(P18*((LOG(P18))/LOG(2))))","v":-4.743390746857943E-2},null,null,{"$f":"N18","v":12122},{"$f":"COUNTIF(L7:L32,T18)","v":0},{"$f":"U18/(W4-U25)","v":0},{"$f":"IF(V18=0,0,(V18*((LOG(V18))/LOG(2))))","v":0},null,{"$f":"N18","v":12122},{"$f":"COUNTIF(L33:L57,Y18)","v":0},{"$f":"Z18/(AB4-Z25)","v":0},{"$f":"IF(AA18=0,0,(AA18*((LOG(AA18))/LOG(2))))","v":0},null,{"$f":"N18","v":12122},{"$f":"COUNTIF(L58:L83,AD18)","v":0},{"$f":"AE18/(AG4-AE25)","v":0},{"$f":"IF(AF18=0,0,(AF18*((LOG(AF18))/LOG(2))))","v":0},null,{"$f":"N18","v":12122},{"$f":"COUNTIF(L84:L109,AI18)","v":0},{"$f":"AJ18/(AL4-AJ25)","v":0},{"$f":"IF(AK18=0,0,(AK18*((LOG(AK18))/LOG(2))))","v":0},null,{"$f":"N18","v":12122},{"$f":"COUNTIF(L110:L134,AN18)","v":1},{"$f":"AO18/(AQ4-AO25)","v":4.3478260869565216E-2},{"$f":"IF(AP18=0,0,(AP18*((LOG(AP18))/LOG(2))))","v":-0.19667660678508753},null,{"$f":"N18","v":12122},{"$f":"COUNTIF(L135:L160,AS18)","v":0},{"$f":"AT18/(AV4-AT25)","v":0},{"$f":"IF(AU18=0,0,(AU18*((LOG(AU18))/LOG(2))))","v":0}]
[21,1810,22,1815,13,1824,23,1832,13,1844,0,22121,null,12211,{"$f":"COUNTIF($L$7:$L$500,N19)","v":6},{"$f":"O19/$Q$4","v":3.9215686274509803E-2},{"$f":"IF(P19=0,0,(P19*((LOG(P19))/LOG(2))))","v":-0.18323236635182338},null,null,{"$f":"N19","v":12211},{"$f":"COUNTIF(L7:L32,T19)","v":0},{"$f":"U19/(W4-U25)","v":0},{"$f":"IF(V19=0,0,(V19*((LOG(V19))/LOG(2))))","v":0},null,{"$f":"N19","v":12211},{"$f":"COUNTIF(L33:L57,Y19)","v":0},{"$f":"Z19/(AB4-Z25)","v":0},{"$f":"IF(AA19=0,0,(AA19*((LOG(AA19))/LOG(2))))","v":0},null,{"$f":"N19","v":12211},{"$f":"COUNTIF(L58:L83,AD19)","v":2},{"$f":"AE19/(AG4-AE25)","v":0.08},{"$f":"IF(AF19=0,0,(AF19*((LOG(AF19))/LOG(2))))","v":-0.29150849518197797},null,{"$f":"N19","v":12211},{"$f":"COUNTIF(L84:L109,AI19)","v":1},{"$f":"AJ19/(AL4-AJ25)","v":0.04},{"$f":"IF(AK19=0,0,(AK19*((LOG(AK19))/LOG(2))))","v":-0.18575424759098899},null,{"$f":"N19","v":12211},{"$f":"COUNTIF(L110:L134,AN19)","v":1},{"$f":"AO19/(AQ4-AO25)","v":4.3478260869565216E-2},{"$f":"IF(AP19=0,0,(AP19*((LOG(AP19))/LOG(2))))","v":-0.19667660678508753},null,{"$f":"N19","v":12211},{"$f":"COUNTIF(L135:L160,AS19)","v":2},{"$f":"AT19/(AV4-AT25)","v":0.08},{"$f":"IF(AU19=0,0,(AU19*((LOG(AU19))/LOG(2))))","v":-0.29150849518197797}]
[21,1960,22,1964,13,1977,23,1986,13,1997,0,22121,null,12212,{"$f":"COUNTIF($L$7:$L$500,N20)","v":3},{"$f":"O20/$Q$4","v":1.9607843137254902E-2},{"$f":"IF(P20=0,0,(P20*((LOG(P20))/LOG(2))))","v":-0.11122402631316657},null,null,{"$f":"N20","v":12212},{"$f":"COUNTIF(L7:L32,T20)","v":0},{"$f":"U20/(W4-U25)","v":0},{"$f":"IF(V20=0,0,(V20*((LOG(V20))/LOG(2))))","v":0},null,{"$f":"N20","v":12212},{"$f":"COUNTIF(L33:L57,Y20)","v":1},{"$f":"Z20/(AB4-Z25)","v":0.04},{"$f":"IF(AA20=0,0,(AA20*((LOG(AA20))/LOG(2))))","v":-0.18575424759098899},null,{"$f":"N20","v":12212},{"$f":"COUNTIF(L58:L83,AD20)","v":1},{"$f":"AE20/(AG4-AE25)","v":0.04},{"$f":"IF(AF20=0,0,(AF20*((LOG(AF20))/LOG(2))))","v":-0.18575424759098899},null,{"$f":"N20","v":12212},{"$f":"COUNTIF(L84:L109,AI20)","v":1},{"$f":"AJ20/(AL4-AJ25)","v":0.04},{"$f":"IF(AK20=0,0,(AK20*((LOG(AK20))/LOG(2))))","v":-0.18575424759098899},null,{"$f":"N20","v":12212},{"$f":"COUNTIF(L110:L134,AN20)","v":0},{"$f":"AO20/(AQ4-AO25)","v":0},{"$f":"IF(AP20=0,0,(AP20*((LOG(AP20))/LOG(2))))","v":0},null,{"$f":"N20","v":12212},{"$f":"COUNTIF(L135:L160,AS20)","v":0},{"$f":"AT20/(AV4-AT25)","v":0},{"$f":"IF(AU20=0,0,(AU20*((LOG(AU20))/LOG(2))))","v":0}]
[21,2111,22,2116,13,2125,23,2137,13,2149,0,22121,null,12221,{"$f":"COUNTIF($L$7:$L$500,N21)","v":1},{"$f":"O21/$Q$4","v":6.5359477124183009E-3},{"$f":"IF(P21=0,0,(P21*((LOG(P21))/LOG(2))))","v":-4.743390746857943E-2},null,null,{"$f":"N21","v":12221},{"$f":"COUNTIF(L7:L32,T21)","v":0},{"$f":"U21/(W4-U25)","v":0},{"$f":"IF(V21=0,0,(V21*((LOG(V21))/LOG(2))))","v":0},null,{"$f":"N21","v":12221},{"$f":"COUNTIF(L33:L57,Y21)","v":0},{"$f":"Z21/(AB4-Z25)","v":0},{"$f":"IF(AA21=0,0,(AA21*((LOG(AA21))/LOG(2))))","v":0},null,{"$f":"N21","v":12221},{"$f":"COUNTIF(L58:L83,AD21)","v":0},{"$f":"AE21/(AG4-AE25)","v":0},{"$f":"IF(AF21=0,0,(AF21*((LOG(AF21))/LOG(2))))","v":0},null,{"$f":"N21","v":12221},{"$f":"COUNTIF(L84:L109,AI21)","v":1},{"$f":"AJ21/(AL4-AJ25)","v":0.04},{"$f":"IF(AK21=0,0,(AK21*((LOG(AK21))/LOG(2))))","v":-0.18575424759098899},null,{"$f":"N21","v":12221},{"$f":"COUNTIF(L110:L134,AN21)","v":0},{"$f":"AO21/(AQ4-AO25)","v":0},{"$f":"IF(AP21=0,0,(AP21*((LOG(AP21))/LOG(2))))","v":0},null,{"$f":"N21","v":12221},{"$f":"COUNTIF(L135:L160,AS21)","v":0},{"$f":"AT21/(AV4-AT25)","v":0},{"$f":"IF(AU21=0,0,(AU21*((LOG(AU21))/LOG(2))))","v":0}]
[21,2269,11,2281,22,2290,14,2302,24,2312,0,21212,null,12222,{"$f":"COUNTIF($L$7:$L$500,N22)","v":0},{"$f":"O22/$Q$4","v":0},{"$f":"IF(P22=0,0,(P22*((LOG(P22))/LOG(2))))","v":0},null,null,{"$f":"N22","v":12222},{"$f":"COUNTIF(L7:L32,T22)","v":0},{"$f":"U22/(W4-U25)","v":0},{"$f":"IF(V22=0,0,(V22*((LOG(V22))/LOG(2))))","v":0},null,{"$f":"N22","v":12222},{"$f":"COUNTIF(L33:L57,Y22)","v":0},{"$f":"Z22/(AB4-Z25)","v":0},{"$f":"IF(AA22=0,0,(AA22*((LOG(AA22))/LOG(2))))","v":0},null,{"$f":"N22","v":12222},{"$f":"COUNTIF(L58:L83,AD22)","v":0},{"$f":"AE22/(AG4-AE25)","v":0},{"$f":"IF(AF22=0,0,(AF22*((LOG(AF22))/LOG(2))))","v":0},null,{"$f":"N22","v":12222},{"$f":"COUNTIF(L84:L109,AI22)","v":0},{"$f":"AJ22/(AL4-AJ25)","v":0},{"$f":"IF(AK22=0,0,(AK22*((LOG(AK22))/LOG(2))))","v":0},null,{"$f":"N22","v":12222},{"$f":"COUNTIF(L110:L134,AN22)","v":0},{"$f":"AO22/(AQ4-AO25)","v":0},{"$f":"IF(AP22=0,0,(AP22*((LOG(AP22))/LOG(2))))","v":0},null,{"$f":"N22","v":12222},{"$f":"COUNTIF(L135:L160,AS22)","v":0},{"$f":"AT22/(AV4-AT25)","v":0},{"$f":"IF(AU22=0,0,(AU22*((LOG(AU22))/LOG(2))))","v":0}]
[21,2418,22,2425,13,2439,14,2447,24,2459,0,22112,null,21111,{"$f":"COUNTIF($L$7:$L$500,N23)","v":2},{"$f":"O23/$Q$4","v":1.3071895424836602E-2},{"$f":"IF(P23=0,0,(P23*((LOG(P23))/LOG(2))))","v":-8.1795919512322249E-2},null,null,{"$f":"N23","v":21111},{"$f":"COUNTIF(L7:L32,T23)","v":1},{"$f":"U23/(W4-U25)","v":0.04},{"$f":"IF(V23=0,0,(V23*((LOG(V23))/LOG(2))))","v":-0.18575424759098899},null,{"$f":"N23","v":21111},{"$f":"COUNTIF(L33:L57,Y23)","v":1},{"$f":"Z23/(AB4-Z25)","v":0.04},{"$f":"IF(AA23=0,0,(AA23*((LOG(AA23))/LOG(2))))","v":-0.18575424759098899},null,{"$f":"N23","v":21111},{"$f":"COUNTIF(L58:L83,AD23)","v":0},{"$f":"AE23/(AG4-AE25)","v":0},{"$f":"IF(AF23=0,0,(AF23*((LOG(AF23))/LOG(2))))","v":0},null,{"$f":"N23","v":21111},{"$f":"COUNTIF(L84:L109,AI23)","v":0},{"$f":"AJ23/(AL4-AJ25)","v":0},{"$f":"IF(AK23=0,0,(AK23*((LOG(AK23))/LOG(2))))","v":0},null,{"$f":"N23","v":21111},{"$f":"COUNTIF(L110:L134,AN23)","v":0},{"$f":"AO23/(AQ4-AO25)","v":0},{"$f":"IF(AP23=0,0,(AP23*((LOG(AP23))/LOG(2))))","v":0},null,{"$f":"N23","v":21111},{"$f":"COUNTIF(L135:L160,AS23)","v":0},{"$f":"AT23/(AV4-AT25)","v":0},{"$f":"IF(AU23=0,0,(AU23*((LOG(AU23))/LOG(2))))","v":0}]
[12,2568,24,2577,13,2588,14,2595,24,2609,0,12112,null,21112,{"$f":"COUNTIF($L$7:$L$500,N24)","v":3},{"$f":"O24/$Q$4","v":1.9607843137254902E-2},{"$f":"IF(P24=0,0,(P24*((LOG(P24))/LOG(2))))","v":-0.11122402631316657},null,null,{"$f":"N24","v":21112},{"$f":"COUNTIF(L7:L32,T24)","v":0},{"$f":"U24/(W4-U25)","v":0},{"$f":"IF(V24=0,0,(V24*((LOG(V24))/LOG(2))))","v":0},null,{"$f":"N24","v":21112},{"$f":"COUNTIF(L33:L57,Y24)","v":0},{"$f":"Z24/(AB4-Z25)","v":0},{"$f":"IF(AA24=0,0,(AA24*((LOG(AA24))/LOG(2))))","v":0},null,{"$f":"N24","v":21112},{"$f":"COUNTIF(L58:L83,AD24)","v":2},{"$f":"AE24/(AG4-AE25)","v":0.08},{"$f":"IF(AF24=0,0,(AF24*((LOG(AF24))/LOG(2))))","v":-0.29150849518197797},null,{"$f":"N24","v":21112},{"$f":"COUNTIF(L84:L109,AI24)","v":0},{"$f":"AJ24/(AL4-AJ25)","v":0},{"$f":"IF(AK24=0,0,(AK24*((LOG(AK24))/LOG(2))))","v":0},null,{"$f":"N24","v":21112},{"$f":"COUNTIF(L110:L134,AN24)","v":1},{"$f":"AO24/(AQ4-AO25)","v":4.3478260869565216E-2},{"$f":"IF(AP24=0,0,(AP24*((LOG(AP24))/LOG(2))))","v":-0.19667660678508753},null,{"$f":"N24","v":21112},{"$f":"COUNTIF(L135:L160,AS24)","v":0},{"$f":"AT24/(AV4-AT25)","v":0},{"$f":"IF(AU24=0,0,(AU24*((LOG(AU24))/LOG(2))))","v":0}]
[21,2736,22,2743,13,2757,14,2761,24,2775,0,22112,null,21121,{"$f":"COUNTIF($L$7:$L$500,N25)","v":5},{"$f":"O25/$Q$4","v":3.2679738562091505E-2},{"$f":"IF(P25=0,0,(P25*((LOG(P25))/LOG(2))))","v":-0.1612895342420029},null,null,{"$f":"N25","v":21121},{"$f":"COUNTIF(L7:L32,T25)","v":1},null,null,null,{"$f":"N25","v":21121},{"$f":"COUNTIF(L33:L57,Y25)","v":0},null,null,null,{"$f":"N25","v":21121},{"$f":"COUNTIF(L58:L83,AD25)","v":1},null,null,null,{"$f":"N25","v":21121},{"$f":"COUNTIF(L84:L109,AI25)","v":1},null,null,null,{"$f":"N25","v":21121},{"$f":"COUNTIF(L110:L134,AN25)","v":2},null,null,null,{"$f":"N25","v":21121},{"$f":"COUNTIF(L135:L160,AS25)","v":0}]
[21,2879,11,2902,22,2913,14,2923,24,2937,0,21212,null,21122,{"$f":"COUNTIF($L$7:$L$500,N26)","v":0},{"$f":"O26/$Q$4","v":0},{"$f":"IF(P26=0,0,(P26*((LOG(P26))/LOG(2))))","v":0},null,null,{"$f":"N26","v":21122},{"$f":"COUNTIF(L7:L32,T26)","v":0},{"$f":"U26/(W4-U25)","v":0},{"$f":"IF(V26=0,0,(V26*((LOG(V26))/LOG(2))))","v":0},null,{"$f":"N26","v":21122},{"$f":"COUNTIF(L33:L57,Y26)","v":0},{"$f":"Z26/(AB4-Z25)","v":0},{"$f":"IF(AA26=0,0,(AA26*((LOG(AA26))/LOG(2))))","v":0},null,{"$f":"N26","v":21122},{"$f":"COUNTIF(L58:L83,AD26)","v":0},{"$f":"AE26/(AG4-AE25)","v":0},{"$f":"IF(AF26=0,0,(AF26*((LOG(AF26))/LOG(2))))","v":0},null,{"$f":"N26","v":21122},{"$f":"COUNTIF(L84:L109,AI26)","v":0},{"$f":"AJ26/(AL4-AJ25)","v":0},{"$f":"IF(AK26=0,0,(AK26*((LOG(AK26))/LOG(2))))","v":0},null,{"$f":"N26","v":21122},{"$f":"COUNTIF(L110:L134,AN26)","v":0},{"$f":"AO26/(AQ4-AO25)","v":0},{"$f":"IF(AP26=0,0,(AP26*((LOG(AP26))/LOG(2))))","v":0},null,{"$f":"N26","v":21122},{"$f":"COUNTIF(L135:L160,AS26)","v":0},{"$f":"AT26/(AV4-AT25)","v":0},{"$f":"IF(AU26=0,0,(AU26*((LOG(AU26))/LOG(2))))","v":0}]
[21,3051,11,3065,22,3072,14,3082,24,3096,0,21212,null,21211,{"$f":"COUNTIF($L$7:$L$500,N27)","v":5},{"$f":"O27/$Q$4","v":3.2679738562091505E-2},{"$f":"IF(P27=0,0,(P27*((LOG(P27))/LOG(2))))","v":-0.1612895342420029},null,null,{"$f":"N27","v":21211},{"$f":"COUNTIF(L7:L32,T27)","v":1},{"$f":"U27/(W4-U25)","v":0.04},{"$f":"IF(V27=0,0,(V27*((LOG(V27))/LOG(2))))","v":-0.18575424759098899},null,{"$f":"N27","v":21211},{"$f":"COUNTIF(L33:L57,Y27)","v":2},{"$f":"Z27/(AB4-Z25)","v":0.08},{"$f":"IF(AA27=0,0,(AA27*((LOG(AA27))/LOG(2))))","v":-0.29150849518197797},null,{"$f":"N27","v":21211},{"$f":"COUNTIF(L58:L83,AD27)","v":1},{"$f":"AE27/(AG4-AE25)","v":0.04},{"$f":"IF(AF27=0,0,(AF27*((LOG(AF27))/LOG(2))))","v":-0.18575424759098899},null,{"$f":"N27","v":21211},{"$f":"COUNTIF(L84:L109,AI27)","v":1},{"$f":"AJ27/(AL4-AJ25)","v":0.04},{"$f":"IF(AK27=0,0,(AK27*((LOG(AK27))/LOG(2))))","v":-0.18575424759098899},null,{"$f":"N27","v":21211},{"$f":"COUNTIF(L110:L134,AN27)","v":0},{"$f":"AO27/(AQ4-AO25)","v":0},{"$f":"IF(AP27=0,0,(AP27*((LOG(AP27))/LOG(2))))","v":0},null,{"$f":"N27","v":21211},{"$f":"COUNTIF(L135:L160,AS27)","v":0},{"$f":"AT27/(AV4-AT25)","v":0},{"$f":"IF(AU27=0,0,(AU27*((LOG(AU27))/LOG(2))))","v":0}]
[21,3218,22,3239,13,3249,23,3258,13,3270,0,22121,null,21212,{"$f":"COUNTIF($L$7:$L$500,N28)","v":10},{"$f":"O28/$Q$4","v":6.535947712418301E-2},{"$f":"IF(P28=0,0,(P28*((LOG(P28))/LOG(2))))","v":-0.25721959135982286},null,null,{"$f":"N28","v":21212},{"$f":"COUNTIF(L7:L32,T28)","v":3},{"$f":"U28/(W4-U25)","v":0.12},{"$f":"IF(V28=0,0,(V28*((LOG(V28))/LOG(2))))","v":-0.36706724268642821},null,{"$f":"N28","v":21212},{"$f":"COUNTIF(L33:L57,Y28)","v":1},{"$f":"Z28/(AB4-Z25)","v":0.04},{"$f":"IF(AA28=0,0,(AA28*((LOG(AA28))/LOG(2))))","v":-0.18575424759098899},null,{"$f":"N28","v":21212},{"$f":"COUNTIF(L58:L83,AD28)","v":1},{"$f":"AE28/(AG4-AE25)","v":0.04},{"$f":"IF(AF28=0,0,(AF28*((LOG(AF28))/LOG(2))))","v":-0.18575424759098899},null,{"$f":"N28","v":21212},{"$f":"COUNTIF(L84:L109,AI28)","v":3},{"$f":"AJ28/(AL4-AJ25)","v":0.12},{"$f":"IF(AK28=0,0,(AK28*((LOG(AK28))/LOG(2))))","v":-0.36706724268642821},null,{"$f":"N28","v":21212},{"$f":"COUNTIF(L110:L134,AN28)","v":1},{"$f":"AO28/(AQ4-AO25)","v":4.3478260869565216E-2},{"$f":"IF(AP28=0,0,(AP28*((LOG(AP28))/LOG(2))))","v":-0.19667660678508753},null,{"$f":"N28","v":21212},{"$f":"COUNTIF(L135:L160,AS28)","v":1},{"$f":"AT28/(AV4-AT25)","v":0.04},{"$f":"IF(AU28=0,0,(AU28*((LOG(AU28))/LOG(2))))","v":-0.18575424759098899}]
[21,3397,11,3423,22,3437,14,3447,13,3460,0,21211,null,21221,{"$f":"COUNTIF($L$7:$L$500,N29)","v":0},{"$f":"O29/$Q$4","v":0},{"$f":"IF(P29=0,0,(P29*((LOG(P29))/LOG(2))))","v":0},null,null,{"$f":"N29","v":21221},{"$f":"COUNTIF(L7:L32,T29)","v":0},{"$f":"U29/(W4-U25)","v":0},{"$f":"IF(V29=0,0,(V29*((LOG(V29))/LOG(2))))","v":0},null,{"$f":"N29","v":21221},{"$f":"COUNTIF(L33:L57,Y29)","v":0},{"$f":"Z29/(AB4-Z25)","v":0},{"$f":"IF(AA29=0,0,(AA29*((LOG(AA29))/LOG(2))))","v":0},null,{"$f":"N29","v":21221},{"$f":"COUNTIF(L58:L83,AD29)","v":0},{"$f":"AE29/(AG4-AE25)","v":0},{"$f":"IF(AF29=0,0,(AF29*((LOG(AF29))/LOG(2))))","v":0},null,{"$f":"N29","v":21221},{"$f":"COUNTIF(L84:L109,AI29)","v":0},{"$f":"AJ29/(AL4-AJ25)","v":0},{"$f":"IF(AK29=0,0,(AK29*((LOG(AK29))/LOG(2))))","v":0},null,{"$f":"N29","v":21221},{"$f":"COUNTIF(L110:L134,AN29)","v":0},{"$f":"AO29/(AQ4-AO25)","v":0},{"$f":"IF(AP29=0,0,(AP29*((LOG(AP29))/LOG(2))))","v":0},null,{"$f":"N29","v":21221},{"$f":"COUNTIF(L135:L160,AS29)","v":0},{"$f":"AT29/(AV4-AT25)","v":0},{"$f":"IF(AU29=0,0,(AU29*((LOG(AU29))/LOG(2))))","v":0}]
[21,3564,22,3570,24,3596,14,3605,24,3616,0,22212,null,21222,{"$f":"COUNTIF($L$7:$L$500,N30)","v":0},{"$f":"O30/$Q$4","v":0},{"$f":"IF(P30=0,0,(P30*((LOG(P30))/LOG(2))))","v":0},null,null,{"$f":"N30","v":21222},{"$f":"COUNTIF(L7:L32,T30)","v":0},{"$f":"U30/(W4-U25)","v":0},{"$f":"IF(V30=0,0,(V30*((LOG(V30))/LOG(2))))","v":0},null,{"$f":"N30","v":21222},{"$f":"COUNTIF(L33:L57,Y30)","v":0},{"$f":"Z30/(AB4-Z25)","v":0},{"$f":"IF(AA30=0,0,(AA30*((LOG(AA30))/LOG(2))))","v":0},null,{"$f":"N30","v":21222},{"$f":"COUNTIF(L58:L83,AD30)","v":0},{"$f":"AE30/(AG4-AE25)","v":0},{"$f":"IF(AF30=0,0,(AF30*((LOG(AF30))/LOG(2))))","v":0},null,{"$f":"N30","v":21222},{"$f":"COUNTIF(L84:L109,AI30)","v":0},{"$f":"AJ30/(AL4-AJ25)","v":0},{"$f":"IF(AK30=0,0,(AK30*((LOG(AK30))/LOG(2))))","v":0},null,{"$f":"N30","v":21222},{"$f":"COUNTIF(L110:L134,AN30)","v":0},{"$f":"AO30/(AQ4-AO25)","v":0},{"$f":"IF(AP30=0,0,(AP30*((LOG(AP30))/LOG(2))))","v":0},null,{"$f":"N30","v":21222},{"$f":"COUNTIF(L135:L160,AS30)","v":0},{"$f":"AT30/(AV4-AT25)","v":0},{"$f":"IF(AU30=0,0,(AU30*((LOG(AU30))/LOG(2))))","v":0}]
[12,3732,24,3760,13,3770,23,3786,13,3797,0,12121,null,22111,{"$f":"COUNTIF($L$7:$L$500,N31)","v":10},{"$f":"O31/$Q$4","v":6.535947712418301E-2},{"$f":"IF(P31=0,0,(P31*((LOG(P31))/LOG(2))))","v":-0.25721959135982286},null,null,{"$f":"N31","v":22111},{"$f":"COUNTIF(L7:L32,T31)","v":1},{"$f":"U31/(W4-U25)","v":0.04},{"$f":"IF(V31=0,0,(V31*((LOG(V31))/LOG(2))))","v":-0.18575424759098899},null,{"$f":"N31","v":22111},{"$f":"COUNTIF(L33:L57,Y31)","v":2},{"$f":"Z31/(AB4-Z25)","v":0.08},{"$f":"IF(AA31=0,0,(AA31*((LOG(AA31))/LOG(2))))","v":-0.29150849518197797},null,{"$f":"N31","v":22111},{"$f":"COUNTIF(L58:L83,AD31)","v":0},{"$f":"AE31/(AG4-AE25)","v":0},{"$f":"IF(AF31=0,0,(AF31*((LOG(AF31))/LOG(2))))","v":0},null,{"$f":"N31","v":22111},{"$f":"COUNTIF(L84:L109,AI31)","v":1},{"$f":"AJ31/(AL4-AJ25)","v":0.04},{"$f":"IF(AK31=0,0,(AK31*((LOG(AK31))/LOG(2))))","v":-0.18575424759098899},null,{"$f":"N31","v":22111},{"$f":"COUNTIF(L110:L134,AN31)","v":2},{"$f":"AO31/(AQ4-AO25)","v":8.6956521739130432E-2},{"$f":"IF(AP31=0,0,(AP31*((LOG(AP31))/LOG(2))))","v":-0.30639669183104457},null,{"$f":"N31","v":22111},{"$f":"COUNTIF(L135:L160,AS31)","v":4},{"$f":"AT31/(AV4-AT25)","v":0.16},{"$f":"IF(AU31=0,0,(AU31*((LOG(AU31))/LOG(2))))","v":-0.42301699036395596}]
[21,3900,11,3916,11,3921,12,3927,13,3933,0,21111,null,22112,{"$f":"COUNTIF($L$7:$L$500,N32)","v":13},{"$f":"O32/$Q$4","v":8.4967320261437912E-2},{"$f":"IF(P32=0,0,(P32*((LOG(P32))/LOG(2))))","v":-0.30222435045209328},null,null,{"$f":"N32","v":22112},{"$f":"COUNTIF(L7:L32,T32)","v":2},{"$f":"U32/(W4-U25)","v":0.08},{"$f":"IF(V32=0,0,(V32*((LOG(V32))/LOG(2))))","v":-0.29150849518197797},null,{"$f":"N32","v":22112},{"$f":"COUNTIF(L33:L57,Y32)","v":2},{"$f":"Z32/(AB4-Z25)","v":0.08},{"$f":"IF(AA32=0,0,(AA32*((LOG(AA32))/LOG(2))))","v":-0.29150849518197797},null,{"$f":"N32","v":22112},{"$f":"COUNTIF(L58:L83,AD32)","v":1},{"$f":"AE32/(AG4-AE25)","v":0.04},{"$f":"IF(AF32=0,0,(AF32*((LOG(AF32))/LOG(2))))","v":-0.18575424759098899},null,{"$f":"N32","v":22112},{"$f":"COUNTIF(L84:L109,AI32)","v":3},{"$f":"AJ32/(AL4-AJ25)","v":0.12},{"$f":"IF(AK32=0,0,(AK32*((LOG(AK32))/LOG(2))))","v":-0.36706724268642821},null,{"$f":"N32","v":22112},{"$f":"COUNTIF(L110:L134,AN32)","v":1},{"$f":"AO32/(AQ4-AO25)","v":4.3478260869565216E-2},{"$f":"IF(AP32=0,0,(AP32*((LOG(AP32))/LOG(2))))","v":-0.19667660678508753},null,{"$f":"N32","v":22112},{"$f":"COUNTIF(L135:L160,AS32)","v":4},{"$f":"AT32/(AV4-AT25)","v":0.16},{"$f":"IF(AU32=0,0,(AU32*((LOG(AU32))/LOG(2))))","v":-0.42301699036395596}]
[21,4036,22,4043,13,4064,23,4074,13,4087,0,22121,null,22121,{"$f":"COUNTIF($L$7:$L$500,N33)","v":22},{"$f":"O33/$Q$4","v":0.1437908496732026},{"$f":"IF(P33=0,0,(P33*((LOG(P33))/LOG(2))))","v":-0.40232050280534504},null,null,{"$f":"N33","v":22121},{"$f":"COUNTIF(L7:L32,T33)","v":6},{"$f":"U33/(W4-U25)","v":0.24},{"$f":"IF(V33=0,0,(V33*((LOG(V33))/LOG(2))))","v":-0.49413448537285637},null,{"$f":"N33","v":22121},{"$f":"COUNTIF(L33:L57,Y33)","v":5},{"$f":"Z33/(AB4-Z25)","v":0.2},{"$f":"IF(AA33=0,0,(AA33*((LOG(AA33))/LOG(2))))","v":-0.46438561897747244},null,{"$f":"N33","v":22121},{"$f":"COUNTIF(L58:L83,AD33)","v":1},{"$f":"AE33/(AG4-AE25)","v":0.04},{"$f":"IF(AF33=0,0,(AF33*((LOG(AF33))/LOG(2))))","v":-0.18575424759098899},null,{"$f":"N33","v":22121},{"$f":"COUNTIF(L84:L109,AI33)","v":3},{"$f":"AJ33/(AL4-AJ25)","v":0.12},{"$f":"IF(AK33=0,0,(AK33*((LOG(AK33))/LOG(2))))","v":-0.36706724268642821},null,{"$f":"N33","v":22121},{"$f":"COUNTIF(L110:L134,AN33)","v":7},{"$f":"AO33/(AQ4-AO25)","v":0.30434782608695654},{"$f":"IF(AP33=0,0,(AP33*((LOG(AP33))/LOG(2))))","v":-0.52232387991286355},null,{"$f":"N33","v":22121},{"$f":"COUNTIF(L135:L160,AS33)","v":0},{"$f":"AT33/(AV4-AT25)","v":0},{"$f":"IF(AU33=0,0,(AU33*((LOG(AU33))/LOG(2))))","v":0}]
[21,4192,22,4197,24,4214,14,4226,24,4238,0,22212,null,22122,{"$f":"COUNTIF($L$7:$L$500,N34)","v":0},{"$f":"O34/$Q$4","v":0},{"$f":"IF(P34=0,0,(P34*((LOG(P34))/LOG(2))))","v":0},null,null,{"$f":"N34","v":22122},{"$f":"COUNTIF(L7:L32,T34)","v":0},{"$f":"U34/(W4-U25)","v":0},{"$f":"IF(V34=0,0,(V34*((LOG(V34))/LOG(2))))","v":0},null,{"$f":"N34","v":22122},{"$f":"COUNTIF(L33:L57,Y34)","v":0},{"$f":"Z34/(AB4-Z25)","v":0},{"$f":"IF(AA34=0,0,(AA34*((LOG(AA34))/LOG(2))))","v":0},null,{"$f":"N34","v":22122},{"$f":"COUNTIF(L58:L83,AD34)","v":0},{"$f":"AE34/(AG4-AE25)","v":0},{"$f":"IF(AF34=0,0,(AF34*((LOG(AF34))/LOG(2))))","v":0},null,{"$f":"N34","v":22122},{"$f":"COUNTIF(L84:L109,AI34)","v":0},{"$f":"AJ34/(AL4-AJ25)","v":0},{"$f":"IF(AK34=0,0,(AK34*((LOG(AK34))/LOG(2))))","v":0},null,{"$f":"N34","v":22122},{"$f":"COUNTIF(L110:L134,AN34)","v":0},{"$f":"AO34/(AQ4-AO25)","v":0},{"$f":"IF(AP34=0,0,(AP34*((LOG(AP34))/LOG(2))))","v":0},null,{"$f":"N34","v":22122},{"$f":"COUNTIF(L135:L160,AS34)","v":0},{"$f":"AT34/(AV4-AT25)","v":0},{"$f":"IF(AU34=0,0,(AU34*((LOG(AU34))/LOG(2))))","v":0}]
[12,4339,13,4345,24,4354,14,4364,24,4377,0,11212,null,22211,{"$f":"COUNTIF($L$7:$L$500,N35)","v":7},{"$f":"O35/$Q$4","v":4.5751633986928102E-2},{"$f":"IF(P35=0,0,(P35*((LOG(P35))/LOG(2))))","v":-0.20359627741467537},null,null,{"$f":"N35","v":22211},{"$f":"COUNTIF(L7:L32,T35)","v":1},{"$f":"U35/(W4-U25)","v":0.04},{"$f":"IF(V35=0,0,(V35*((LOG(V35))/LOG(2))))","v":-0.18575424759098899},null,{"$f":"N35","v":22211},{"$f":"COUNTIF(L33:L57,Y35)","v":2},{"$f":"Z35/(AB4-Z25)","v":0.08},{"$f":"IF(AA35=0,0,(AA35*((LOG(AA35))/LOG(2))))","v":-0.29150849518197797},null,{"$f":"N35","v":22211},{"$f":"COUNTIF(L58:L83,AD35)","v":0},{"$f":"AE35/(AG4-AE25)","v":0},{"$f":"IF(AF35=0,0,(AF35*((LOG(AF35))/LOG(2))))","v":0},null,{"$f":"N35","v":22211},{"$f":"COUNTIF(L84:L109,AI35)","v":0},{"$f":"AJ35/(AL4-AJ25)","v":0},{"$f":"IF(AK35=0,0,(AK35*((LOG(AK35))/LOG(2))))","v":0},null,{"$f":"N35","v":22211},{"$f":"COUNTIF(L110:L134,AN35)","v":2},{"$f":"AO35/(AQ4-AO25)","v":8.6956521739130432E-2},{"$f":"IF(AP35=0,0,(AP35*((LOG(AP35))/LOG(2))))","v":-0.30639669183104457},null,{"$f":"N35","v":22211},{"$f":"COUNTIF(L135:L160,AS35)","v":2},{"$f":"AT35/(AV4-AT25)","v":0.08},{"$f":"IF(AU35=0,0,(AU35*((LOG(AU35))/LOG(2))))","v":-0.29150849518197797}]
[21,4494,22,4499,13,4531,23,4545,13,4557,0,22121,null,22212,{"$f":"COUNTIF($L$7:$L$500,N36)","v":6},{"$f":"O36/$Q$4","v":3.9215686274509803E-2},{"$f":"IF(P36=0,0,(P36*((LOG(P36))/LOG(2))))","v":-0.18323236635182338},null,null,{"$f":"N36","v":22212},{"$f":"COUNTIF(L7:L32,T36)","v":1},{"$f":"U36/(W4-U25)","v":0.04},{"$f":"IF(V36=0,0,(V36*((LOG(V36))/LOG(2))))","v":-0.18575424759098899},null,{"$f":"N36","v":22212},{"$f":"COUNTIF(L33:L57,Y36)","v":3},{"$f":"Z36/(AB4-Z25)","v":0.12},{"$f":"IF(AA36=0,0,(AA36*((LOG(AA36))/LOG(2))))","v":-0.36706724268642821},null,{"$f":"N36","v":22212},{"$f":"COUNTIF(L58:L83,AD36)","v":0},{"$f":"AE36/(AG4-AE25)","v":0},{"$f":"IF(AF36=0,0,(AF36*((LOG(AF36))/LOG(2))))","v":0},null,{"$f":"N36","v":22212},{"$f":"COUNTIF(L84:L109,AI36)","v":1},{"$f":"AJ36/(AL4-AJ25)","v":0.04},{"$f":"IF(AK36=0,0,(AK36*((LOG(AK36))/LOG(2))))","v":-0.18575424759098899},null,{"$f":"N36","v":22212},{"$f":"COUNTIF(L110:L134,AN36)","v":1},{"$f":"AO36/(AQ4-AO25)","v":4.3478260869565216E-2},{"$f":"IF(AP36=0,0,(AP36*((LOG(AP36))/LOG(2))))","v":-0.19667660678508753},null,{"$f":"N36","v":22212},{"$f":"COUNTIF(L135:L160,AS36)","v":0},{"$f":"AT36/(AV4-AT25)","v":0},{"$f":"IF(AU36=0,0,(AU36*((LOG(AU36))/LOG(2))))","v":0}]
[12,4668,24,4676,13,4686,23,4700,13,4710,0,12121,null,22221,{"$f":"COUNTIF($L$7:$L$500,N37)","v":0},{"$f":"O37/$Q$4","v":0},{"$f":"IF(P37=0,0,(P37*((LOG(P37))/LOG(2))))","v":0},null,null,{"$f":"N37","v":22221},{"$f":"COUNTIF(L7:L32,T37)","v":0},{"$f":"U37/(W4-U25)","v":0},{"$f":"IF(V37=0,0,(V37*((LOG(V37))/LOG(2))))","v":0},null,{"$f":"N37","v":22221},{"$f":"COUNTIF(L33:L57,Y37)","v":0},{"$f":"Z37/(AB4-Z25)","v":0},{"$f":"IF(AA37=0,0,(AA37*((LOG(AA37))/LOG(2))))","v":0},null,{"$f":"N37","v":22221},{"$f":"COUNTIF(L58:L83,AD37)","v":0},{"$f":"AE37/(AG4-AE25)","v":0},{"$f":"IF(AF37=0,0,(AF37*((LOG(AF37))/LOG(2))))","v":0},null,{"$f":"N37","v":22221},{"$f":"COUNTIF(L84:L109,AI37)","v":0},{"$f":"AJ37/(AL4-AJ25)","v":0},{"$f":"IF(AK37=0,0,(AK37*((LOG(AK37))/LOG(2))))","v":0},null,{"$f":"N37","v":22221},{"$f":"COUNTIF(L110:L134,AN37)","v":0},{"$f":"AO37/(AQ4-AO25)","v":0},{"$f":"IF(AP37=0,0,(AP37*((LOG(AP37))/LOG(2))))","v":0},null,{"$f":"N37","v":22221},{"$f":"COUNTIF(L135:L160,AS37)","v":0},{"$f":"AT37/(AV4-AT25)","v":0},{"$f":"IF(AU37=0,0,(AU37*((LOG(AU37))/LOG(2))))","v":0}]
[21,4815,22,4821,24,4836,14,4846,13,4869,0,22211,null,22222,{"$f":"COUNTIF($L$7:$L$500,N38)","v":0},{"$f":"O38/$Q$4","v":0},{"$f":"IF(P38=0,0,(P38*((LOG(P38))/LOG(2))))","v":0},null,null,{"$f":"N38","v":22222},{"$f":"COUNTIF(L7:L32,T38)","v":0},{"$f":"U38/(W4-U25)","v":0},{"$f":"IF(V38=0,0,(V38*((LOG(V38))/LOG(2))))","v":0},null,{"$f":"N38","v":22222},{"$f":"COUNTIF(L33:L57,Y38)","v":0},{"$f":"Z38/(AB4-Z25)","v":0},{"$f":"IF(AA38=0,0,(AA38*((LOG(AA38))/LOG(2))))","v":0},null,{"$f":"N38","v":22222},{"$f":"COUNTIF(L58:L83,AD38)","v":0},{"$f":"AE38/(AG4-AE25)","v":0},{"$f":"IF(AF38=0,0,(AF38*((LOG(AF38))/LOG(2))))","v":0},null,{"$f":"N38","v":22222},{"$f":"COUNTIF(L84:L109,AI38)","v":0},{"$f":"AJ38/(AL4-AJ25)","v":0},{"$f":"IF(AK38=0,0,(AK38*((LOG(AK38))/LOG(2))))","v":0},null,{"$f":"N38","v":22222},{"$f":"COUNTIF(L110:L134,AN38)","v":0},{"$f":"AO38/(AQ4-AO25)","v":0},{"$f":"IF(AP38=0,0,(AP38*((LOG(AP38))/LOG(2))))","v":0},null,{"$f":"N38","v":22222},{"$f":"COUNTIF(L135:L160,AS38)","v":0},{"$f":"AT38/(AV4-AT25)","v":0},{"$f":"IF(AU38=0,0,(AU38*((LOG(AU38))/LOG(2))))","v":0}]
[21,4991,22,4996,13,5008,23,5018,13,5030,0,22121,null,null,null,{"$f":"SUM(P7:P38)","v":1},{"$f":"-SUM(Q7:Q38)","v":4.0910278983331834},null,null,null,null,{"$f":"SUM(V7:V38)","v":1},{"$f":"-SUM(W7:W38)","v":3.5932696895151079},null,null,null,{"$f":"SUM(AA7:AA38)","v":1},{"$f":"-SUM(AB7:AB38)","v":3.5892750707107135},null,null,null,{"$f":"SUM(AF7:AF38)","v":1},{"$f":"-SUM(AG7:AG38)","v":3.3834651896016461},null,null,null,{"$f":"SUM(AK7:AK38)","v":1},{"$f":"-SUM(AL7:AL38)","v":3.6732696895151085},null,null,null,{"$f":"SUM(AP7:AP38)","v":0.99999999999999978},{"$f":"-SUM(AQ7:AQ38)","v":3.3213235015177429},null,null,null,{"$f":"SUM(AU7:AU38)","v":1},{"$f":"-SUM(AV7:AV38)","v":3.1434651896016468}]
[21,5144,22,5149,24,5174,14,5184,24,5194,0,22212,null,null,null,"U=",{"$f":"Q39/(LOG(Q4)/LOG(2))","v":0.56370528722016333},null,null,null,null,"U1=",{"$f":"W39/(LOG(W4)/LOG(2))","v":0.76445394579725778},null,null,null,"U2=",{"$f":"AB39/(LOG(AB4)/LOG(2))","v":0.77290831671616222},null,null,null,"U3=",{"$f":"AG39/(LOG(AG4)/LOG(2))","v":0.71981886642293191},null,null,null,"U4=",{"$f":"AL39/(LOG(AL4)/LOG(2))","v":0.78147363008152693},null,null,null,"U5=",{"$f":"AQ39/(LOG(AQ4)/LOG(2))","v":0.7152080869409656},null,null,null,"U6=",{"$f":"AV39/(LOG(AV4)/LOG(2))","v":0.67690838414058152}]
[12,5319,24,5328,13,5338,14,5346,24,5355,0,12112]
[12,5464,24,5478,24,5483,14,5495,24,5508,0,12212]
[21,5690,11,5699,22,5709,14,5719,13,5728,0,21211,null,"Total Target Seq"]
[21,5834,22,5842,13,5852,23,5862,13,5874,0,22121,null,{"$f":"COUNTIF(L7:L160,G3)","v":5},null,26,25,26,26,25,26]
[21,6016,22,6020,13,6032,23,6045,13,6054,0,22121,null,null,null,"% of reinforcement given in 6 equal intervals based on number of trials "]
[21,6153,22,6159,24,6175,14,6184,13,6189,0,22211,null,null,null,"%_1","%_2","%_3","%_4","%_5","%_6"]
[21,6297,22,6305,13,6314,14,6319,24,6330,0,22112,null,null,"target sequence",{"$f":"$G$3","v":21121},{"$f":"$G$3","v":21121},{"$f":"$G$3","v":21121},{"$f":"$G$3","v":21121},{"$f":"$G$3","v":21121},{"$f":"$G$3","v":21121}]
[21,6444,11,6464,11,6469,12,6478,13,6486,0,21111,null,null,"total reinforcement",{"$f":"U25","v":1},{"$f":"Z25","v":0},{"$f":"AE25","v":1},{"$f":"AJ25","v":1},{"$f":"AO25","v":2},{"$f":"AT25","v":0}]
[21,6616,22,6620,13,6628,14,6638,13,6643,0,22111,null,null,"% target"]
[12,6766,13,6768,13,6774,23,6785,13,6795,0,11121,null,null,"CCRF"]
[21,6904,11,6925,22,6935,14,6947,24,6958,0,21212,null,null,"% CCRf"]
[12,7079,13,7084,24,7098,14,7111,24,7125,0,11212,null,null,"average response rate",{"$f":"J32/P44","v":151.26923076923077},{"$f":"(J57-J32)/Q44","v":157.68},{"$f":"(J83-J57)/R44","v":159.76923076923077},{"$f":"(J109-J83)/S44","v":150.26923076923077},{"$f":"(J134-J109)/T44","v":149.80000000000001},{"$f":"(J160-J134)/U44","v":-756.96153846153845}]
[21,7237,22,7243,13,7252,14,7257,24,7266,0,22112]
[12,7373,13,7391,24,7405,14,7415,13,7431,0,11211]
[21,7535,22,7540,13,7561,14,7566,13,7571,0,22111]
[21,7682,11,7695,22,7705,14,7717,13,7726,0,21211]
[21,7837,22,7846,24,7851,14,7865,24,7875,0,22212]
[12,7991,13,7996,13,8001,23,8016,13,8025,0,11121]
[21,8142,22,8147,13,8156,23,8166,13,8176,0,22121]
[21,8302,11,8311,11,8320,12,8327,24,8337,0,21112]
[12,8452,13,8466,24,8475,14,8485,13,8532,0,11211]
[12,8663,24,8678,13,8690,23,8704,13,8717,0,12121]
[12,8857,24,8867,24,8892,14,8903,13,8926,0,12211]
[12,9031,24,9041,24,9048,14,9057,13,9061,0,12211]
[12,9181,24,9189,13,9198,23,9210,13,9220,0,12121]
[12,9334,24,9344,13,9352,23,9364,13,9375,0,12121]
[12,9493,13,9504,13,9513,14,9519,24,9532,0,11112]
[12,9641,13,9650,24,9661,14,9671,24,9680,0,11212]
[21,9819,11,9828,11,9841,21,9851,11,9865,1,21121]
[12,9962,13,9967,24,9977,14,9986,24,9996,0,11212]
[12,10095,24,10110,13,10120,23,10129,13,10140,0,12121]
[12,10245,24,10259,24,10267,14,10278,24,10288,0,12212]
[21,10407,22,10412,13,10420,14,10433,24,10446,0,22112]
[12,10556,24,10580,13,10588,14,10597,24,10612,0,12112]
[12,10716,13,10735,13,10751,14,10760,24,10777,0,11112]
[21,10912,11,10920,11,10926,12,10931,24,10944,0,21112]
[12,11044,13,11054,13,11056,23,11072,13,11082,0,11121]
[12,11184,13,11197,13,11206,23,11218,13,11228,0,11121]
[12,11355,24,11375,13,11386,23,11399,13,11410,0,12121]
[12,11532,13,11541,13,11550,23,11559,13,11572,0,11121]
[12,11671,24,11692,13,11701,23,11715,13,11725,0,12121]
[21,11830,11,11849,22,11855,14,11864,13,11870,0,21211]
[21,11978,11,11999,22,12005,14,12018,24,12029,0,21212]
[12,12140,24,12151,13,12160,14,12166,24,12176,0,12112]
[12,12294,24,12303,13,12312,23,12321,13,12331,0,12121]
[12,12438,24,12452,24,12471,14,12484,13,12494,0,12211]
[21,12598,11,12614,11,12628,21,12638,11,12650,1,21121]
[21,12756,11,12765,22,12774,14,12786,24,12801,0,21212]
[12,12915,13,12934,24,12945,14,12958,13,12967,0,11211]
[21,13071,11,13086,22,13093,14,13102,24,13113,0,21212]
[21,13217,22,13242,13,13251,14,13262,13,13270,0,22111]
[21,13379,11,13394,22,13415,14,13424,24,13432,0,21212]
[12,13541,24,13553,13,13563,23,13573,13,13585,0,12121]
[12,13690,13,13702,13,13707,23,13717,13,13726,0,11121]
[12,13832,13,13838,24,13848,23,13866,13,13877,0,11221]
[12,13997,13,14011,24,14023,14,14036,13,14055,0,11211]
[12,14152,24,14166,24,14173,23,14181,13,14190,0,12221]
[12,14300,24,14310,13,14322,23,14331,13,14339,0,12121]
[21,14447,22,14454,24,14460,14,14470,24,14480,0,22212]
[21,14599,22,14603,13,14612,23,14626,13,14639,0,22121]
[12,14738,24,14751,24,14756,14,14765,24,14775,0,12212]
[21,14883,11,14902,22,14912,14,14924,13,14943,0,21211]
[21,15043,22,15048,13,15061,23,15069,13,15078,0,22121]
[21,15185,22,15190,13,15202,23,15213,13,15226,0,22121]
[12,15326,24,15340,13,15349,23,15358,13,15371,0,12121]
[21,15471,22,15476,13,15485,14,15491,24,15500,0,22112]
[21,15605,22,15609,13,15625,14,15630,24,15646,0,22112]
[12,15756,13,15767,24,15776,14,15785,24,15798,0,11212]
[21,15898,22,15907,13,15917,14,15927,24,15936,0,22112]
[21,16045,22,16050,13,16078,23,16086,13,16099,0,22121]
[12,16201,13,16207,24,16217,14,16226,24,16239,0,11212]
[21,16349,22,16368,13,16377,14,16382,13,16390,0,22111]
[21,16488,22,16492,24,16514,14,16523,13,16530,0,22211]
[21,16661,11,16672,11,16682,21,16696,11,16708,1,21121]
[21,16800,22,16806,13,16815,23,16824,13,16837,0,22121]
[21,16949,11,16961,22,16971,14,16983,24,16996,0,21212]
[21,17101,22,17108,24,17118,14,17128,24,17137,0,22212]
[21,17250,22,17255,13,17265,14,17270,24,17279,0,22112]
[21,17379,22,17388,13,17401,23,17408,13,17418,0,22121]
[21,17523,11,17538,11,17543,12,17548,24,17560,0,21112]
[12,17672,24,17682,13,17692,23,17704,24,17714,0,12122]
[21,17816,22,17836,13,17846,23,17858,13,17870,0,22121]
[21,17976,11,17988,11,17993,21,18005,11,18018,1,21121]
[21,18114,22,18152,13,18164,23,18176,13,18188,0,22121]
[21,18300,22,18305,13,18322,14,18327,13,18331,0,22111]
[12,18432,24,18442,24,18458,14,18467,13,18476,0,12211]
[12,18578,24,18589,13,18628,14,18638,13,18644,0,12111]
[12,18745,24,18759,13,18768,14,18773,13,18779,0,12111]
[21,18896,22,18901,13,18911,23,18920,13,18932,0,22121]
[12,19034,24,19048,13,19057,23,19070,13,19080,0,12121]
[12,19186,24,19196,13,19205,23,19214,13,19224,0,12121]
[21,19332,22,19337,24,19353,14,19364,13,19370,0,22211]
[12,19483,24,19492,13,19508,14,19513,24,19526,0,12112]
[21,19647,22,19653,13,19661,23,19672,13,19681,0,22121]
[12,19804,13,19817,24,19824,14,19837,24,19852,0,11212]
[12,19962,24,19973,13,19990,23,20010,13,20023,0,12121]
[21,20129,22,20145,13,20154,14,20159,13,20164,0,22111]
[12,20271,24,20280,13,20292,14,20296,24,20310,0,12112]
[12,20426,24,20434,13,20443,23,20458,13,20469,0,12121]
[12,20584,13,20589,13,20598,23,20612,13,20623,0,11121]
[12,20745,24,20755,24,20772,14,20786,13,20790,0,12211]
[12,20903,24,20913,13,20925,14,20930,24,20943,0,12112]
[21,21047,22,21052,13,21066,14,21071,13,21127,0,22111]
[12,21226,13,21233,24,21247,14,21260,13,21271,0,11211]
[21,21376,11,21385,22,21395,14,21404,24,21413,0,21212]
[21,21524,22,21547,13,21556,14,21565,13,21578,0,22111]
[21,21694,22,21710,24,21727,14,21741,13,21750,0,22211]
[12,21875,24,21884,13,21894,14,21903,24,21916,0,12112]
[12,22021,24,22051,24,22065,14,22075,13,22084,0,12211]
[21,22211,22,22239,13,22250,14,22259,24,22273,0,22112]
[12,22396,24,22408,13,22417,23,22426,13,22438,0,12121]
[12,22543,24,22552,13,22562,23,22575,13,22586,0,12121]
[21,22691,22,22696,24,22713,14,22725,13,22730,0,22211]
[12,22906,13,22924,24,22937,14,22950,13,22960,0,11211]
[21,23093,22,23098,13,23108,14,23113,24,23123,0,22112]
[21,23246,22,23250,13,23265,14,23271,13,23279,0,22111]
[12,23446,13,23450,24,23462,14,23474,13,23495,0,11211]
[21,23599,22,23624,13,23636,14,23640,24,23649,0,22112]
[21,23792,22,23810,13,23820,14,23830,24,23844,0,22112]
[21,23986,null,null,null,null,null,null,null,null,null,2]

{"sheet":"!N212840.091","index":23,"n_rows":154,"n_cols":48,"rows_kept":154,"cut":false,"hidden":false,"merged":[[4,39,4,42],[5,39,5,40],[4,44,4,47],[5,44,5,45],[4,24,4,27],[5,24,5,25],[4,29,4,32],[5,29,5,30],[4,34,4,37],[5,34,5,35],[1,1,1,2],[5,13,5,14],[42,13,42,14],[43,13,43,14],[4,19,4,22],[5,19,5,20]]}
["Report for:!N212840.091"]
["Date:","<date>"]
["Hen:","<hen>",null,null,null,"Correct Sequence",{"$f":"Start!J2","v":21121},null,null,null,null,null,null,null,null,"Total Sequences in Data",{"$f":"4994-COUNTBLANK(L7:L5000)","v":148},null,null,null,null,"Total Sequences in Block Data",{"$f":"COUNTA(L7:L31)","v":25},null,null,null,"Total Sequences in Block Data",{"$f":"COUNTA(L32:L55)","v":24},null,null,null,"Total Sequences in Block Data",{"$f":"COUNTA(L56:L80)","v":25},null,null,null,"Total Sequences in Block Data",{"$f":"COUNTA(L81:L105)","v":25},null,null,null,"Total Sequences in Block Data",{"$f":"COUNTA(L106:L129)","v":24},null,null,null,"Total Sequences in Block Data",{"$f":"COUNTA(L130:L154)","v":25}]
[null,null,null,null,null,null,null,null,null,null,null,null,null,null,null,"Total Sequences in Summary",{"$f":"SUM(O7:O38)","v":148},null,null,null,null,"Total Sequences in Block Summary",{"$f":"SUM(U7:U38)","v":25},null,null,null,"Total Sequences in Block Summary",{"$f":"SUM(Z7:Z38)","v":24},null,null,null,"Total Sequences in Block Summary",{"$f":"SUM(AE7:AE38)","v":25},null,null,null,"Total Sequences in Block Summary",{"$f":"SUM(AJ7:AJ38)","v":25},null,null,null,"Total Sequences in Block Summary",{"$f":"SUM(AO7:AO38)","v":24},null,null,null,"Total Sequences in Block Summary",{"$f":"SUM(AT7:AT38)","v":25}]
[null,null,null,null,null,null,null,null,null,null,null,null,null,null,null,null,null,null,null,"Block 1",null,null,null,null,"Block 2",null,null,null,null,"Block 3",null,null,null,null,"Block 4",null,null,null,null,"Block 5",null,null,null,null,"Block 6"]
["Sequence\nComponent\n1","Time\n1","Sequence\nComponent\n2","Time\n2","Sequence\nComponent\n3","Time\n3","Sequence\nComponent\n4","Time\n4","Sequence\nComponent\n5","Time\n5","Correct?\n0=No 1=Yes","Sequence",null,"Frequency",null,"Relative Frequency","Variability",null,null,"Frequency",null,"Relative Frequency","Variability",null,"Frequency",null,"Relative Frequency","Variability",null,"Frequency",null,"Relative Frequency","Variability",null,"Frequency",null,"Relative Frequency","Variability",null,"Frequency",null,"Relative Frequency","Variability",null,"Frequency",null,"Relative Frequency","Variability"]
[21,11,11,24,22,33,14,42,24,53,0,21212,null,11111,{"$f":"COUNTIF($L$7:$L$500,N7)","v":0},{"$f":"O7/$Q$4","v":0},{"$f":"IF(P7=0,0,(P7*((LOG(P7))/LOG(2))))","v":0},null,null,{"$f":"N7","v":11111},{"$f":"COUNTIF(L7:L31,T7)","v":0},{"$f":"U7/(W4-U25)","v":0},{"$f":"IF(V7=0,0,(V7*((LOG(V7))/LOG(2))))","v":0},null,{"$f":"N7","v":11111},{"$f":"COUNTIF(L32:L55,Y7)","v":0},{"$f":"Z7/(AB4-Z25)","v":0},{"$f":"IF(AA7=0,0,(AA7*((LOG(AA7))/LOG(2))))","v":0},null,{"$f":"N7","v":11111},{"$f":"COUNTIF(L56:L80,AD7)","v":0},{"$f":"AE7/(AG4-AE25)","v":0},{"$f":"IF(AF7=0,0,(AF7*((LOG(AF7))/LOG(2))))","v":0},null,{"$f":"N7","v":11111},{"$f":"COUNTIF(L81:L105,AI7)","v":0},{"$f":"AJ7/(AL4-AJ25)","v":0},{"$f":"IF(AK7=0,0,(AK7*((LOG(AK7))/LOG(2))))","v":0},null,{"$f":"N7","v":11111},{"$f":"COUNTIF(L106:L129,AN7)","v":0},{"$f":"AO7/(AQ4-AO25)","v":0},{"$f":"IF(AP7=0,0,(AP7*((LOG(AP7))/LOG(2))))","v":0},null,{"$f":"N7","v":11111},{"$f":"COUNTIF(L130:L154,AS7)","v":0},{"$f":"AT7/(AV4-AT25)","v":0},{"$f":"IF(AU7=0,0,(AU7*((LOG(AU7))/LOG(2))))","v":0}]
[21,163,11,171,22,180,14,190,24,205,0,21212,null,11112,{"$f":"COUNTIF($L$7:$L$500,N8)","v":2},{"$f":"O8/$Q$4","v":1.3513513513513514E-2},{"$f":"IF(P8=0,0,(P8*((LOG(P8))/LOG(2))))","v":-8.3911531967958794E-2},null,null,{"$f":"N8","v":11112},{"$f":"COUNTIF(L7:L31,T8)","v":0},{"$f":"U8/(W4-U25)","v":0},{"$f":"IF(V8=0,0,(V8*((LOG(V8))/LOG(2))))","v":0},null,{"$f":"N8","v":11112},{"$f":"COUNTIF(L32:L55,Y8)","v":0},{"$f":"Z8/(AB4-Z25)","v":0},{"$f":"IF(AA8=0,0,(AA8*((LOG(AA8))/LOG(2))))","v":0},null,{"$f":"N8","v":11112},{"$f":"COUNTIF(L56:L80,AD8)","v":1},{"$f":"AE8/(AG4-AE25)","v":4.3478260869565216E-2},{"$f":"IF(AF8=0,0,(AF8*((LOG(AF8))/LOG(2))))","v":-0.19667660678508753},null,{"$f":"N8","v":11112},{"$f":"COUNTIF(L81:L105,AI8)","v":1},{"$f":"AJ8/(AL4-AJ25)","v":4.3478260869565216E-2},{"$f":"IF(AK8=0,0,(AK8*((LOG(AK8))/LOG(2))))","v":-0.19667660678508753},null,{"$f":"N8","v":11112},{"$f":"COUNTIF(L106:L129,AN8)","v":0},{"$f":"AO8/(AQ4-AO25)","v":0},{"$f":"IF(AP8=0,0,(AP8*((LOG(AP8))/LOG(2))))","v":0},null,{"$f":"N8","v":11112},{"$f":"COUNTIF(L130:L154,AS8)","v":0},{"$f":"AT8/(AV4-AT25)","v":0},{"$f":"IF(AU8=0,0,(AU8*((LOG(AU8))/LOG(2))))","v":0}]
[21,318,11,327,22,340,14,350,13,359,0,21211,null,11121,{"$f":"COUNTIF($L$7:$L$500,N9)","v":4},{"$f":"O9/$Q$4","v":2.7027027027027029E-2},{"$f":"IF(P9=0,0,(P9*((LOG(P9))/LOG(2))))","v":-0.14079603690889056},null,null,{"$f":"N9","v":11121},{"$f":"COUNTIF(L7:L31,T9)","v":2},{"$f":"U9/(W4-U25)","v":8.3333333333333329E-2},{"$f":"IF(V9=0,0,(V9*((LOG(V9))/LOG(2))))","v":-0.29874687506009634},null,{"$f":"N9","v":11121},{"$f":"COUNTIF(L32:L55,Y9)","v":1},{"$f":"Z9/(AB4-Z25)","v":4.5454545454545456E-2},{"$f":"IF(AA9=0,0,(AA9*((LOG(AA9))/LOG(2))))","v":-0.20270143721078623},null,{"$f":"N9","v":11121},{"$f":"COUNTIF(L56:L80,AD9)","v":0},{"$f":"AE9/(AG4-AE25)","v":0},{"$f":"IF(AF9=0,0,(AF9*((LOG(AF9))/LOG(2))))","v":0},null,{"$f":"N9","v":11121},{"$f":"COUNTIF(L81:L105,AI9)","v":1},{"$f":"AJ9/(AL4-AJ25)","v":4.3478260869565216E-2},{"$f":"IF(AK9=0,0,(AK9*((LOG(AK9))/LOG(2))))","v":-0.19667660678508753},null,{"$f":"N9","v":11121},{"$f":"COUNTIF(L106:L129,AN9)","v":0},{"$f":"AO9/(AQ4-AO25)","v":0},{"$f":"IF(AP9=0,0,(AP9*((LOG(AP9))/LOG(2))))","v":0},null,{"$f":"N9","v":11121},{"$f":"COUNTIF(L130:L154,AS9)","v":0},{"$f":"AT9/(AV4-AT25)","v":0},{"$f":"IF(AU9=0,0,(AU9*((LOG(AU9))/LOG(2))))","v":0}]
[21,479,11,493,22,501,14,511,24,524,0,21212,null,11122,{"$f":"COUNTIF($L$7:$L$500,N10)","v":0},{"$f":"O10/$Q$4","v":0},{"$f":"IF(P10=0,0,(P10*((LOG(P10))/LOG(2))))","v":0},null,null,{"$f":"N10","v":11122},{"$f":"COUNTIF(L7:L31,T10)","v":0},{"$f":"U10/(W4-U25)","v":0},{"$f":"IF(V10=0,0,(V10*((LOG(V10))/LOG(2))))","v":0},null,{"$f":"N10","v":11122},{"$f":"COUNTIF(L32:L55,Y10)","v":0},{"$f":"Z10/(AB4-Z25)","v":0},{"$f":"IF(AA10=0,0,(AA10*((LOG(AA10))/LOG(2))))","v":0},null,{"$f":"N10","v":11122},{"$f":"COUNTIF(L56:L80,AD10)","v":0},{"$f":"AE10/(AG4-AE25)","v":0},{"$f":"IF(AF10=0,0,(AF10*((LOG(AF10))/LOG(2))))","v":0},null,{"$f":"N10","v":11122},{"$f":"COUNTIF(L81:L105,AI10)","v":0},{"$f":"AJ10/(AL4-AJ25)","v":0},{"$f":"IF(AK10=0,0,(AK10*((LOG(AK10))/LOG(2))))","v":0},null,{"$f":"N10","v":11122},{"$f":"COUNTIF(L106:L129,AN10)","v":0},{"$f":"AO10/(AQ4-AO25)","v":0},{"$f":"IF(AP10=0,0,(AP10*((LOG(AP10))/LOG(2))))","v":0},null,{"$f":"N10","v":11122},{"$f":"COUNTIF(L130:L154,AS10)","v":0},{"$f":"AT10/(AV4-AT25)","v":0},{"$f":"IF(AU10=0,0,(AU10*((LOG(AU10))/LOG(2))))","v":0}]
[21,644,22,652,13,660,14,667,24,680,0,22112,null,11211,{"$f":"COUNTIF($L$7:$L$500,N11)","v":3},{"$f":"O11/$Q$4","v":2.0270270270270271E-2},{"$f":"IF(P11=0,0,(P11*((LOG(P11))/LOG(2))))","v":-0.11400994996434717},null,null,{"$f":"N11","v":11211},{"$f":"COUNTIF(L7:L31,T11)","v":1},{"$f":"U11/(W4-U25)","v":4.1666666666666664E-2},{"$f":"IF(V11=0,0,(V11*((LOG(V11))/LOG(2))))","v":-0.19104010419671485},null,{"$f":"N11","v":11211},{"$f":"COUNTIF(L32:L55,Y11)","v":0},{"$f":"Z11/(AB4-Z25)","v":0},{"$f":"IF(AA11=0,0,(AA11*((LOG(AA11))/LOG(2))))","v":0},null,{"$f":"N11","v":11211},{"$f":"COUNTIF(L56:L80,AD11)","v":1},{"$f":"AE11/(AG4-AE25)","v":4.3478260869565216E-2},{"$f":"IF(AF11=0,0,(AF11*((LOG(AF11))/LOG(2))))","v":-0.19667660678508753},null,{"$f":"N11","v":11211},{"$f":"COUNTIF(L81:L105,AI11)","v":1},{"$f":"AJ11/(AL4-AJ25)","v":4.3478260869565216E-2},{"$f":"IF(AK11=0,0,(AK11*((LOG(AK11))/LOG(2))))","v":-0.19667660678508753},null,{"$f":"N11","v":11211},{"$f":"COUNTIF(L106:L129,AN11)","v":0},{"$f":"AO11/(AQ4-AO25)","v":0},{"$f":"IF(AP11=0,0,(AP11*((LOG(AP11))/LOG(2))))","v":0},null,{"$f":"N11","v":11211},{"$f":"COUNTIF(L130:L154,AS11)","v":0},{"$f":"AT11/(AV4-AT25)","v":0},{"$f":"IF(AU11=0,0,(AU11*((LOG(AU11))/LOG(2))))","v":0}]
[21,797,11,805,11,810,21,823,11,834,1,21121,null,11212,{"$f":"COUNTIF($L$7:$L$500,N12)","v":4},{"$f":"O12/$Q$4","v":2.7027027027027029E-2},{"$f":"IF(P12=0,0,(P12*((LOG(P12))/LOG(2))))","v":-0.14079603690889056},null,null,{"$f":"N12","v":11212},{"$f":"COUNTIF(L7:L31,T12)","v":2},{"$f":"U12/(W4-U25)","v":8.3333333333333329E-2},{"$f":"IF(V12=0,0,(V12*((LOG(V12))/LOG(2))))","v":-0.29874687506009634},null,{"$f":"N12","v":11212},{"$f":"COUNTIF(L32:L55,Y12)","v":0},{"$f":"Z12/(AB4-Z25)","v":0},{"$f":"IF(AA12=0,0,(AA12*((LOG(AA12))/LOG(2))))","v":0},null,{"$f":"N12","v":11212},{"$f":"COUNTIF(L56:L80,AD12)","v":1},{"$f":"AE12/(AG4-AE25)","v":4.3478260869565216E-2},{"$f":"IF(AF12=0,0,(AF12*((LOG(AF12))/LOG(2))))","v":-0.19667660678508753},null,{"$f":"N12","v":11212},{"$f":"COUNTIF(L81:L105,AI12)","v":0},{"$f":"AJ12/(AL4-AJ25)","v":0},{"$f":"IF(AK12=0,0,(AK12*((LOG(AK12))/LOG(2))))","v":0},null,{"$f":"N12","v":11212},{"$f":"COUNTIF(L106:L129,AN12)","v":0},{"$f":"AO12/(AQ4-AO25)","v":0},{"$f":"IF(AP12=0,0,(AP12*((LOG(AP12))/LOG(2))))","v":0},null,{"$f":"N12","v":11212},{"$f":"COUNTIF(L130:L154,AS12)","v":1},{"$f":"AT12/(AV4-AT25)","v":0.04},{"$f":"IF(AU12=0,0,(AU12*((LOG(AU12))/LOG(2))))","v":-0.18575424759098899}]
[12,932,24,940,13,949,23,958,13,969,0,12121,null,11221,{"$f":"COUNTIF($L$7:$L$500,N13)","v":4},{"$f":"O13/$Q$4","v":2.7027027027027029E-2},{"$f":"IF(P13=0,0,(P13*((LOG(P13))/LOG(2))))","v":-0.14079603690889056},null,null,{"$f":"N13","v":11221},{"$f":"COUNTIF(L7:L31,T13)","v":0},{"$f":"U13/(W4-U25)","v":0},{"$f":"IF(V13=0,0,(V13*((LOG(V13))/LOG(2))))","v":0},null,{"$f":"N13","v":11221},{"$f":"COUNTIF(L32:L55,Y13)","v":0},{"$f":"Z13/(AB4-Z25)","v":0},{"$f":"IF(AA13=0,0,(AA13*((LOG(AA13))/LOG(2))))","v":0},null,{"$f":"N13","v":11221},{"$f":"COUNTIF(L56:L80,AD13)","v":0},{"$f":"AE13/(AG4-AE25)","v":0},{"$f":"IF(AF13=0,0,(AF13*((LOG(AF13))/LOG(2))))","v":0},null,{"$f":"N13","v":11221},{"$f":"COUNTIF(L81:L105,AI13)","v":0},{"$f":"AJ13/(AL4-AJ25)","v":0},{"$f":"IF(AK13=0,0,(AK13*((LOG(AK13))/LOG(2))))","v":0},null,{"$f":"N13","v":11221},{"$f":"COUNTIF(L106:L129,AN13)","v":1},{"$f":"AO13/(AQ4-AO25)","v":4.1666666666666664E-2},{"$f":"IF(AP13=0,0,(AP13*((LOG(AP13))/LOG(2))))","v":-0.19104010419671485},null,{"$f":"N13","v":11221},{"$f":"COUNTIF(L130:L154,AS13)","v":3},{"$f":"AT13/(AV4-AT25)","v":0.12},{"$f":"IF(AU13=0,0,(AU13*((LOG(AU13))/LOG(2))))","v":-0.36706724268642821}]
[12,1072,13,1077,24,1087,14,1096,24,1106,0,11212,null,11222,{"$f":"COUNTIF($L$7:$L$500,N14)","v":8},{"$f":"O14/$Q$4","v":5.4054054054054057E-2},{"$f":"IF(P14=0,0,(P14*((LOG(P14))/LOG(2))))","v":-0.22753801976372701},null,null,{"$f":"N14","v":11222},{"$f":"COUNTIF(L7:L31,T14)","v":0},{"$f":"U14/(W4-U25)","v":0},{"$f":"IF(V14=0,0,(V14*((LOG(V14))/LOG(2))))","v":0},null,{"$f":"N14","v":11222},{"$f":"COUNTIF(L32:L55,Y14)","v":0},{"$f":"Z14/(AB4-Z25)","v":0},{"$f":"IF(AA14=0,0,(AA14*((LOG(AA14))/LOG(2))))","v":0},null,{"$f":"N14","v":11222},{"$f":"COUNTIF(L56:L80,AD14)","v":0},{"$f":"AE14/(AG4-AE25)","v":0},{"$f":"IF(AF14=0,0,(AF14*((LOG(AF14))/LOG(2))))","v":0},null,{"$f":"N14","v":11222},{"$f":"COUNTIF(L81:L105,AI14)","v":0},{"$f":"AJ14/(AL4-AJ25)","v":0},{"$f":"IF(AK14=0,0,(AK14*((LOG(AK14))/LOG(2))))","v":0},null,{"$f":"N14","v":11222},{"$f":"COUNTIF(L106:L129,AN14)","v":5},{"$f":"AO14/(AQ4-AO25)","v":0.20833333333333334},{"$f":"IF(AP14=0,0,(AP14*((LOG(AP14))/LOG(2))))","v":-0.47146550121537367},null,{"$f":"N14","v":11222},{"$f":"COUNTIF(L130:L154,AS14)","v":3},{"$f":"AT14/(AV4-AT25)","v":0.12},{"$f":"IF(AU14=0,0,(AU14*((LOG(AU14))/LOG(2))))","v":-0.36706724268642821}]
[21,1214,22,1222,24,1240,14,1251,24,1269,0,22212,null,12111,{"$f":"COUNTIF($L$7:$L$500,N15)","v":0},{"$f":"O15/$Q$4","v":0},{"$f":"IF(P15=0,0,(P15*((LOG(P15))/LOG(2))))","v":0},null,null,{"$f":"N15","v":12111},{"$f":"COUNTIF(L7:L31,T15)","v":0},{"$f":"U15/(W4-U25)","v":0},{"$f":"IF(V15=0,0,(V15*((LOG(V15))/LOG(2))))","v":0},null,{"$f":"N15","v":12111},{"$f":"COUNTIF(L32:L55,Y15)","v":0},{"$f":"Z15/(AB4-Z25)","v":0},{"$f":"IF(AA15=0,0,(AA15*((LOG(AA15))/LOG(2))))","v":0},null,{"$f":"N15","v":12111},{"$f":"COUNTIF(L56:L80,AD15)","v":0},{"$f":"AE15/(AG4-AE25)","v":0},{"$f":"IF(AF15=0,0,(AF15*((LOG(AF15))/LOG(2))))","v":0},null,{"$f":"N15","v":12111},{"$f":"COUNTIF(L81:L105,AI15)","v":0},{"$f":"AJ15/(AL4-AJ25)","v":0},{"$f":"IF(AK15=0,0,(AK15*((LOG(AK15))/LOG(2))))","v":0},null,{"$f":"N15","v":12111},{"$f":"COUNTIF(L106:L129,AN15)","v":0},{"$f":"AO15/(AQ4-AO25)","v":0},{"$f":"IF(AP15=0,0,(AP15*((LOG(AP15))/LOG(2))))","v":0},null,{"$f":"N15","v":12111},{"$f":"COUNTIF(L130:L154,AS15)","v":0},{"$f":"AT15/(AV4-AT25)","v":0},{"$f":"IF(AU15=0,0,(AU15*((LOG(AU15))/LOG(2))))","v":0}]
[21,1394,22,1401,13,1413,23,1423,13,1435,0,22121,null,12112,{"$f":"COUNTIF($L$7:$L$500,N16)","v":3},{"$f":"O16/$Q$4","v":2.0270270270270271E-2},{"$f":"IF(P16=0,0,(P16*((LOG(P16))/LOG(2))))","v":-0.11400994996434717},null,null,{"$f":"N16","v":12112},{"$f":"COUNTIF(L7:L31,T16)","v":0},{"$f":"U16/(W4-U25)","v":0},{"$f":"IF(V16=0,0,(V16*((LOG(V16))/LOG(2))))","v":0},null,{"$f":"N16","v":12112},{"$f":"COUNTIF(L32:L55,Y16)","v":1},{"$f":"Z16/(AB4-Z25)","v":4.5454545454545456E-2},{"$f":"IF(AA16=0,0,(AA16*((LOG(AA16))/LOG(2))))","v":-0.20270143721078623},null,{"$f":"N16","v":12112},{"$f":"COUNTIF(L56:L80,AD16)","v":1},{"$f":"AE16/(AG4-AE25)","v":4.3478260869565216E-2},{"$f":"IF(AF16=0,0,(AF16*((LOG(AF16))/LOG(2))))","v":-0.19667660678508753},null,{"$f":"N16","v":12112},{"$f":"COUNTIF(L81:L105,AI16)","v":0},{"$f":"AJ16/(AL4-AJ25)","v":0},{"$f":"IF(AK16=0,0,(AK16*((LOG(AK16))/LOG(2))))","v":0},null,{"$f":"N16","v":12112},{"$f":"COUNTIF(L106:L129,AN16)","v":1},{"$f":"AO16/(AQ4-AO25)","v":4.1666666666666664E-2},{"$f":"IF(AP16=0,0,(AP16*((LOG(AP16))/LOG(2))))","v":-0.19104010419671485},null,{"$f":"N16","v":12112},{"$f":"COUNTIF(L130:L154,AS16)","v":0},{"$f":"AT16/(AV4-AT25)","v":0},{"$f":"IF(AU16=0,0,(AU16*((LOG(AU16))/LOG(2))))","v":0}]
[21,1601,11,1612,11,1617,12,1623,24,1633,0,21112,null,12121,{"$f":"COUNTIF($L$7:$L$500,N17)","v":14},{"$f":"O17/$Q$4","v":9.45945945945946E-2},{"$f":"IF(P17=0,0,(P17*((LOG(P17))/LOG(2))))","v":-0.3218201230405327},null,null,{"$f":"N17","v":12121},{"$f":"COUNTIF(L7:L31,T17)","v":2},{"$f":"U17/(W4-U25)","v":8.3333333333333329E-2},{"$f":"IF(V17=0,0,(V17*((LOG(V17))/LOG(2))))","v":-0.29874687506009634},null,{"$f":"N17","v":12121},{"$f":"COUNTIF(L32:L55,Y17)","v":4},{"$f":"Z17/(AB4-Z25)","v":0.18181818181818182},{"$f":"IF(AA17=0,0,(AA17*((LOG(AA17))/LOG(2))))","v":-0.44716938520678134},null,{"$f":"N17","v":12121},{"$f":"COUNTIF(L56:L80,AD17)","v":2},{"$f":"AE17/(AG4-AE25)","v":8.6956521739130432E-2},{"$f":"IF(AF17=0,0,(AF17*((LOG(AF17))/LOG(2))))","v":-0.30639669183104457},null,{"$f":"N17","v":12121},{"$f":"COUNTIF(L81:L105,AI17)","v":1},{"$f":"AJ17/(AL4-AJ25)","v":4.3478260869565216E-2},{"$f":"IF(AK17=0,0,(AK17*((LOG(AK17))/LOG(2))))","v":-0.19667660678508753},null,{"$f":"N17","v":12121},{"$f":"COUNTIF(L106:L129,AN17)","v":2},{"$f":"AO17/(AQ4-AO25)","v":8.3333333333333329E-2},{"$f":"IF(AP17=0,0,(AP17*((LOG(AP17))/LOG(2))))","v":-0.29874687506009634},null,{"$f":"N17","v":12121},{"$f":"COUNTIF(L130:L154,AS17)","v":3},{"$f":"AT17/(AV4-AT25)","v":0.12},{"$f":"IF(AU17=0,0,(AU17*((LOG(AU17))/LOG(2))))","v":-0.36706724268642821}]
[21,1746,11,1777,22,1787,14,1798,13,1806,0,21211,null,12122,{"$f":"COUNTIF($L$7:$L$500,N18)","v":4},{"$f":"O18/$Q$4","v":2.7027027027027029E-2},{"$f":"IF(P18=0,0,(P18*((LOG(P18))/LOG(2))))","v":-0.14079603690889056},null,null,{"$f":"N18","v":12122},{"$f":"COUNTIF(L7:L31,T18)","v":0},{"$f":"U18/(W4-U25)","v":0},{"$f":"IF(V18=0,0,(V18*((LOG(V18))/LOG(2))))","v":0},null,{"$f":"N18","v":12122},{"$f":"COUNTIF(L32:L55,Y18)","v":0},{"$f":"Z18/(AB4-Z25)","v":0},{"$f":"IF(AA18=0,0,(AA18*((LOG(AA18))/LOG(2))))","v":0},null,{"$f":"N18","v":12122},{"$f":"COUNTIF(L56:L80,AD18)","v":0},{"$f":"AE18/(AG4-AE25)","v":0},{"$f":"IF(AF18=0,0,(AF18*((LOG(AF18))/LOG(2))))","v":0},null,{"$f":"N18","v":12122},{"$f":"COUNTIF(L81:L105,AI18)","v":0},{"$f":"AJ18/(AL4-AJ25)","v":0},{"$f":"IF(AK18=0,0,(AK18*((LOG(AK18))/LOG(2))))","v":0},null,{"$f":"N18","v":12122},{"$f":"COUNTIF(L106:L129,AN18)","v":3},{"$f":"AO18/(AQ4-AO25)","v":0.125},{"$f":"IF(AP18=0,0,(AP18*((LOG(AP18))/LOG(2))))","v":-0.375},null,{"$f":"N18","v":12122},{"$f":"COUNTIF(L130:L154,AS18)","v":1},{"$f":"AT18/(AV4-AT25)","v":0.04},{"$f":"IF(AU18=0,0,(AU18*((LOG(AU18))/LOG(2))))","v":-0.18575424759098899}]
[12,1933,13,1952,24,1960,14,1969,24,1983,0,11212,null,12211,{"$f":"COUNTIF($L$7:$L$500,N19)","v":1},{"$f":"O19/$Q$4","v":6.7567567567567571E-3},{"$f":"IF(P19=0,0,(P19*((LOG(P19))/LOG(2))))","v":-4.8712522740736154E-2},null,null,{"$f":"N19","v":12211},{"$f":"COUNTIF(L7:L31,T19)","v":0},{"$f":"U19/(W4-U25)","v":0},{"$f":"IF(V19=0,0,(V19*((LOG(V19))/LOG(2))))","v":0},null,{"$f":"N19","v":12211},{"$f":"COUNTIF(L32:L55,Y19)","v":1},{"$f":"Z19/(AB4-Z25)","v":4.5454545454545456E-2},{"$f":"IF(AA19=0,0,(AA19*((LOG(AA19))/LOG(2))))","v":-0.20270143721078623},null,{"$f":"N19","v":12211},{"$f":"COUNTIF(L56:L80,AD19)","v":0},{"$f":"AE19/(AG4-AE25)","v":0},{"$f":"IF(AF19=0,0,(AF19*((LOG(AF19))/LOG(2))))","v":0},null,{"$f":"N19","v":12211},{"$f":"COUNTIF(L81:L105,AI19)","v":0},{"$f":"AJ19/(AL4-AJ25)","v":0},{"$f":"IF(AK19=0,0,(AK19*((LOG(AK19))/LOG(2))))","v":0},null,{"$f":"N19","v":12211},{"$f":"COUNTIF(L106:L129,AN19)","v":0},{"$f":"AO19/(AQ4-AO25)","v":0},{"$f":"IF(AP19=0,0,(AP19*((LOG(AP19))/LOG(2))))","v":0},null,{"$f":"N19","v":12211},{"$f":"COUNTIF(L130:L154,AS19)","v":0},{"$f":"AT19/(AV4-AT25)","v":0},{"$f":"IF(AU19=0,0,(AU19*((LOG(AU19))/LOG(2))))","v":0}]
[21,2095,11,2118,22,2127,14,2138,24,2151,0,21212,null,12212,{"$f":"COUNTIF($L$7:$L$500,N20)","v":12},{"$f":"O20/$Q$4","v":8.1081081081081086E-2},{"$f":"IF(P20=0,0,(P20*((LOG(P20))/LOG(2))))","v":-0.29387763769522651},null,null,{"$f":"N20","v":12212},{"$f":"COUNTIF(L7:L31,T20)","v":1},{"$f":"U20/(W4-U25)","v":4.1666666666666664E-2},{"$f":"IF(V20=0,0,(V20*((LOG(V20))/LOG(2))))","v":-0.19104010419671485},null,{"$f":"N20","v":12212},{"$f":"COUNTIF(L32:L55,Y20)","v":0},{"$f":"Z20/(AB4-Z25)","v":0},{"$f":"IF(AA20=0,0,(AA20*((LOG(AA20))/LOG(2))))","v":0},null,{"$f":"N20","v":12212},{"$f":"COUNTIF(L56:L80,AD20)","v":0},{"$f":"AE20/(AG4-AE25)","v":0},{"$f":"IF(AF20=0,0,(AF20*((LOG(AF20))/LOG(2))))","v":0},null,{"$f":"N20","v":12212},{"$f":"COUNTIF(L81:L105,AI20)","v":2},{"$f":"AJ20/(AL4-AJ25)","v":8.6956521739130432E-2},{"$f":"IF(AK20=0,0,(AK20*((LOG(AK20))/LOG(2))))","v":-0.30639669183104457},null,{"$f":"N20","v":12212},{"$f":"COUNTIF(L106:L129,AN20)","v":3},{"$f":"AO20/(AQ4-AO25)","v":0.125},{"$f":"IF(AP20=0,0,(AP20*((LOG(AP20))/LOG(2))))","v":-0.375},null,{"$f":"N20","v":12212},{"$f":"COUNTIF(L130:L154,AS20)","v":6},{"$f":"AT20/(AV4-AT25)","v":0.24},{"$f":"IF(AU20=0,0,(AU20*((LOG(AU20))/LOG(2))))","v":-0.49413448537285637}]
[12,2260,24,2275,13,2284,23,2293,13,2305,0,12121,null,12221,{"$f":"COUNTIF($L$7:$L$500,N21)","v":3},{"$f":"O21/$Q$4","v":2.0270270270270271E-2},{"$f":"IF(P21=0,0,(P21*((LOG(P21))/LOG(2))))","v":-0.11400994996434717},null,null,{"$f":"N21","v":12221},{"$f":"COUNTIF(L7:L31,T21)","v":0},{"$f":"U21/(W4-U25)","v":0},{"$f":"IF(V21=0,0,(V21*((LOG(V21))/LOG(2))))","v":0},null,{"$f":"N21","v":12221},{"$f":"COUNTIF(L32:L55,Y21)","v":0},{"$f":"Z21/(AB4-Z25)","v":0},{"$f":"IF(AA21=0,0,(AA21*((LOG(AA21))/LOG(2))))","v":0},null,{"$f":"N21","v":12221},{"$f":"COUNTIF(L56:L80,AD21)","v":0},{"$f":"AE21/(AG4-AE25)","v":0},{"$f":"IF(AF21=0,0,(AF21*((LOG(AF21))/LOG(2))))","v":0},null,{"$f":"N21","v":12221},{"$f":"COUNTIF(L81:L105,AI21)","v":0},{"$f":"AJ21/(AL4-AJ25)","v":0},{"$f":"IF(AK21=0,0,(AK21*((LOG(AK21))/LOG(2))))","v":0},null,{"$f":"N21","v":12221},{"$f":"COUNTIF(L106:L129,AN21)","v":2},{"$f":"AO21/(AQ4-AO25)","v":8.3333333333333329E-2},{"$f":"IF(AP21=0,0,(AP21*((LOG(AP21))/LOG(2))))","v":-0.29874687506009634},null,{"$f":"N21","v":12221},{"$f":"COUNTIF(L130:L154,AS21)","v":1},{"$f":"AT21/(AV4-AT25)","v":0.04},{"$f":"IF(AU21=0,0,(AU21*((LOG(AU21))/LOG(2))))","v":-0.18575424759098899}]
[21,2427,22,2432,24,2451,14,2463,24,2475,0,22212,null,12222,{"$f":"COUNTIF($L$7:$L$500,N22)","v":9},{"$f":"O22/$Q$4","v":6.0810810810810814E-2},{"$f":"IF(P22=0,0,(P22*((LOG(P22))/LOG(2))))","v":-0.24564699511945767},null,null,{"$f":"N22","v":12222},{"$f":"COUNTIF(L7:L31,T22)","v":0},{"$f":"U22/(W4-U25)","v":0},{"$f":"IF(V22=0,0,(V22*((LOG(V22))/LOG(2))))","v":0},null,{"$f":"N22","v":12222},{"$f":"COUNTIF(L32:L55,Y22)","v":0},{"$f":"Z22/(AB4-Z25)","v":0},{"$f":"IF(AA22=0,0,(AA22*((LOG(AA22))/LOG(2))))","v":0},null,{"$f":"N22","v":12222},{"$f":"COUNTIF(L56:L80,AD22)","v":0},{"$f":"AE22/(AG4-AE25)","v":0},{"$f":"IF(AF22=0,0,(AF22*((LOG(AF22))/LOG(2))))","v":0},null,{"$f":"N22","v":12222},{"$f":"COUNTIF(L81:L105,AI22)","v":1},{"$f":"AJ22/(AL4-AJ25)","v":4.3478260869565216E-2},{"$f":"IF(AK22=0,0,(AK22*((LOG(AK22))/LOG(2))))","v":-0.19667660678508753},null,{"$f":"N22","v":12222},{"$f":"COUNTIF(L106:L129,AN22)","v":5},{"$f":"AO22/(AQ4-AO25)","v":0.20833333333333334},{"$f":"IF(AP22=0,0,(AP22*((LOG(AP22))/LOG(2))))","v":-0.47146550121537367},null,{"$f":"N22","v":12222},{"$f":"COUNTIF(L130:L154,AS22)","v":3},{"$f":"AT22/(AV4-AT25)","v":0.12},{"$f":"IF(AU22=0,0,(AU22*((LOG(AU22))/LOG(2))))","v":-0.36706724268642821}]
[12,2598,13,2603,13,2608,23,2618,13,2629,0,11121,null,21111,{"$f":"COUNTIF($L$7:$L$500,N23)","v":2},{"$f":"O23/$Q$4","v":1.3513513513513514E-2},{"$f":"IF(P23=0,0,(P23*((LOG(P23))/LOG(2))))","v":-8.3911531967958794E-2},null,null,{"$f":"N23","v":21111},{"$f":"COUNTIF(L7:L31,T23)","v":0},{"$f":"U23/(W4-U25)","v":0},{"$f":"IF(V23=0,0,(V23*((LOG(V23))/LOG(2))))","v":0},null,{"$f":"N23","v":21111},{"$f":"COUNTIF(L32:L55,Y23)","v":1},{"$f":"Z23/(AB4-Z25)","v":4.5454545454545456E-2},{"$f":"IF(AA23=0,0,(AA23*((LOG(AA23))/LOG(2))))","v":-0.20270143721078623},null,{"$f":"N23","v":21111},{"$f":"COUNTIF(L56:L80,AD23)","v":1},{"$f":"AE23/(AG4-AE25)","v":4.3478260869565216E-2},{"$f":"IF(AF23=0,0,(AF23*((LOG(AF23))/LOG(2))))","v":-0.19667660678508753},null,{"$f":"N23","v":21111},{"$f":"COUNTIF(L81:L105,AI23)","v":0},{"$f":"AJ23/(AL4-AJ25)","v":0},{"$f":"IF(AK23=0,0,(AK23*((LOG(AK23))/LOG(2))))","v":0},null,{"$f":"N23","v":21111},{"$f":"COUNTIF(L106:L129,AN23)","v":0},{"$f":"AO23/(AQ4-AO25)","v":0},{"$f":"IF(AP23=0,0,(AP23*((LOG(AP23))/LOG(2))))","v":0},null,{"$f":"N23","v":21111},{"$f":"COUNTIF(L130:L154,AS23)","v":0},{"$f":"AT23/(AV4-AT25)","v":0},{"$f":"IF(AU23=0,0,(AU23*((LOG(AU23))/LOG(2))))","v":0}]
[21,2730,22,2736,13,2755,23,2764,13,2774,0,22121,null,21112,{"$f":"COUNTIF($L$7:$L$500,N24)","v":3},{"$f":"O24/$Q$4","v":2.0270270270270271E-2},{"$f":"IF(P24=0,0,(P24*((LOG(P24))/LOG(2))))","v":-0.11400994996434717},null,null,{"$f":"N24","v":21112},{"$f":"COUNTIF(L7:L31,T24)","v":1},{"$f":"U24/(W4-U25)","v":4.1666666666666664E-2},{"$f":"IF(V24=0,0,(V24*((LOG(V24))/LOG(2))))","v":-0.19104010419671485},null,{"$f":"N24","v":21112},{"$f":"COUNTIF(L32:L55,Y24)","v":1},{"$f":"Z24/(AB4-Z25)","v":4.5454545454545456E-2},{"$f":"IF(AA24=0,0,(AA24*((LOG(AA24))/LOG(2))))","v":-0.20270143721078623},null,{"$f":"N24","v":21112},{"$f":"COUNTIF(L56:L80,AD24)","v":1},{"$f":"AE24/(AG4-AE25)","v":4.3478260869565216E-2},{"$f":"IF(AF24=0,0,(AF24*((LOG(AF24))/LOG(2))))","v":-0.19667660678508753},null,{"$f":"N24","v":21112},{"$f":"COUNTIF(L81:L105,AI24)","v":0},{"$f":"AJ24/(AL4-AJ25)","v":0},{"$f":"IF(AK24=0,0,(AK24*((LOG(AK24))/LOG(2))))","v":0},null,{"$f":"N24","v":21112},{"$f":"COUNTIF(L106:L129,AN24)","v":0},{"$f":"AO24/(AQ4-AO25)","v":0},{"$f":"IF(AP24=0,0,(AP24*((LOG(AP24))/LOG(2))))","v":0},null,{"$f":"N24","v":21112},{"$f":"COUNTIF(L130:L154,AS24)","v":0},{"$f":"AT24/(AV4-AT25)","v":0},{"$f":"IF(AU24=0,0,(AU24*((LOG(AU24))/LOG(2))))","v":0}]
[21,2896,11,2912,22,2922,14,2934,24,2944,0,21212,null,21121,{"$f":"COUNTIF($L$7:$L$500,N25)","v":7},{"$f":"O25/$Q$4","v":4.72972972972973E-2},{"$f":"IF(P25=0,0,(P25*((LOG(P25))/LOG(2))))","v":-0.20820735881756364},null,null,{"$f":"N25","v":21121},{"$f":"COUNTIF(L7:L31,T25)","v":1},null,null,null,{"$f":"N25","v":21121},{"$f":"COUNTIF(L32:L55,Y25)","v":2},null,null,null,{"$f":"N25","v":21121},{"$f":"COUNTIF(L56:L80,AD25)","v":2},null,null,null,{"$f":"N25","v":21121},{"$f":"COUNTIF(L81:L105,AI25)","v":2},null,null,null,{"$f":"N25","v":21121},{"$f":"COUNTIF(L106:L129,AN25)","v":0},null,null,null,{"$f":"N25","v":21121},{"$f":"COUNTIF(L130:L154,AS25)","v":0}]
[12,3082,13,3098,13,3106,23,3119,13,3132,0,11121,null,21122,{"$f":"COUNTIF($L$7:$L$500,N26)","v":0},{"$f":"O26/$Q$4","v":0},{"$f":"IF(P26=0,0,(P26*((LOG(P26))/LOG(2))))","v":0},null,null,{"$f":"N26","v":21122},{"$f":"COUNTIF(L7:L31,T26)","v":0},{"$f":"U26/(W4-U25)","v":0},{"$f":"IF(V26=0,0,(V26*((LOG(V26))/LOG(2))))","v":0},null,{"$f":"N26","v":21122},{"$f":"COUNTIF(L32:L55,Y26)","v":0},{"$f":"Z26/(AB4-Z25)","v":0},{"$f":"IF(AA26=0,0,(AA26*((LOG(AA26))/LOG(2))))","v":0},null,{"$f":"N26","v":21122},{"$f":"COUNTIF(L56:L80,AD26)","v":0},{"$f":"AE26/(AG4-AE25)","v":0},{"$f":"IF(AF26=0,0,(AF26*((LOG(AF26))/LOG(2))))","v":0},null,{"$f":"N26","v":21122},{"$f":"COUNTIF(L81:L105,AI26)","v":0},{"$f":"AJ26/(AL4-AJ25)","v":0},{"$f":"IF(AK26=0,0,(AK26*((LOG(AK26))/LOG(2))))","v":0},null,{"$f":"N26","v":21122},{"$f":"COUNTIF(L106:L129,AN26)","v":0},{"$f":"AO26/(AQ4-AO25)","v":0},{"$f":"IF(AP26=0,0,(AP26*((LOG(AP26))/LOG(2))))","v":0},null,{"$f":"N26","v":21122},{"$f":"COUNTIF(L130:L154,AS26)","v":0},{"$f":"AT26/(AV4-AT25)","v":0},{"$f":"IF(AU26=0,0,(AU26*((LOG(AU26))/LOG(2))))","v":0}]
[12,3241,24,3252,24,3266,14,3275,24,3287,0,12212,null,21211,{"$f":"COUNTIF($L$7:$L$500,N27)","v":8},{"$f":"O27/$Q$4","v":5.4054054054054057E-2},{"$f":"IF(P27=0,0,(P27*((LOG(P27))/LOG(2))))","v":-0.22753801976372701},null,null,{"$f":"N27","v":21211},{"$f":"COUNTIF(L7:L31,T27)","v":2},{"$f":"U27/(W4-U25)","v":8.3333333333333329E-2},{"$f":"IF(V27=0,0,(V27*((LOG(V27))/LOG(2))))","v":-0.29874687506009634},null,{"$f":"N27","v":21211},{"$f":"COUNTIF(L32:L55,Y27)","v":2},{"$f":"Z27/(AB4-Z25)","v":9.0909090909090912E-2},{"$f":"IF(AA27=0,0,(AA27*((LOG(AA27))/LOG(2))))","v":-0.31449378351248153},null,{"$f":"N27","v":21211},{"$f":"COUNTIF(L56:L80,AD27)","v":1},{"$f":"AE27/(AG4-AE25)","v":4.3478260869565216E-2},{"$f":"IF(AF27=0,0,(AF27*((LOG(AF27))/LOG(2))))","v":-0.19667660678508753},null,{"$f":"N27","v":21211},{"$f":"COUNTIF(L81:L105,AI27)","v":3},{"$f":"AJ27/(AL4-AJ25)","v":0.13043478260869565},{"$f":"IF(AK27=0,0,(AK27*((LOG(AK27))/LOG(2))))","v":-0.3832955811307639},null,{"$f":"N27","v":21211},{"$f":"COUNTIF(L106:L129,AN27)","v":0},{"$f":"AO27/(AQ4-AO25)","v":0},{"$f":"IF(AP27=0,0,(AP27*((LOG(AP27))/LOG(2))))","v":0},null,{"$f":"N27","v":21211},{"$f":"COUNTIF(L130:L154,AS27)","v":0},{"$f":"AT27/(AV4-AT25)","v":0},{"$f":"IF(AU27=0,0,(AU27*((LOG(AU27))/LOG(2))))","v":0}]
[21,3406,22,3427,13,3436,14,3441,24,3454,0,22112,null,21212,{"$f":"COUNTIF($L$7:$L$500,N28)","v":15},{"$f":"O28/$Q$4","v":0.10135135135135136},{"$f":"IF(P28=0,0,(P28*((LOG(P28))/LOG(2))))","v":-0.33471919966423291},null,null,{"$f":"N28","v":21212},{"$f":"COUNTIF(L7:L31,T28)","v":6},{"$f":"U28/(W4-U25)","v":0.25},{"$f":"IF(V28=0,0,(V28*((LOG(V28))/LOG(2))))","v":-0.5},null,{"$f":"N28","v":21212},{"$f":"COUNTIF(L32:L55,Y28)","v":4},{"$f":"Z28/(AB4-Z25)","v":0.18181818181818182},{"$f":"IF(AA28=0,0,(AA28*((LOG(AA28))/LOG(2))))","v":-0.44716938520678134},null,{"$f":"N28","v":21212},{"$f":"COUNTIF(L56:L80,AD28)","v":3},{"$f":"AE28/(AG4-AE25)","v":0.13043478260869565},{"$f":"IF(AF28=0,0,(AF28*((LOG(AF28))/LOG(2))))","v":-0.3832955811307639},null,{"$f":"N28","v":21212},{"$f":"COUNTIF(L81:L105,AI28)","v":2},{"$f":"AJ28/(AL4-AJ25)","v":8.6956521739130432E-2},{"$f":"IF(AK28=0,0,(AK28*((LOG(AK28))/LOG(2))))","v":-0.30639669183104457},null,{"$f":"N28","v":21212},{"$f":"COUNTIF(L106:L129,AN28)","v":0},{"$f":"AO28/(AQ4-AO25)","v":0},{"$f":"IF(AP28=0,0,(AP28*((LOG(AP28))/LOG(2))))","v":0},null,{"$f":"N28","v":21212},{"$f":"COUNTIF(L130:L154,AS28)","v":0},{"$f":"AT28/(AV4-AT25)","v":0},{"$f":"IF(AU28=0,0,(AU28*((LOG(AU28))/LOG(2))))","v":0}]
[21,3561,11,3599,22,3613,14,3623,24,3635,0,21212,null,21221,{"$f":"COUNTIF($L$7:$L$500,N29)","v":0},{"$f":"O29/$Q$4","v":0},{"$f":"IF(P29=0,0,(P29*((LOG(P29))/LOG(2))))","v":0},null,null,{"$f":"N29","v":21221},{"$f":"COUNTIF(L7:L31,T29)","v":0},{"$f":"U29/(W4-U25)","v":0},{"$f":"IF(V29=0,0,(V29*((LOG(V29))/LOG(2))))","v":0},null,{"$f":"N29","v":21221},{"$f":"COUNTIF(L32:L55,Y29)","v":0},{"$f":"Z29/(AB4-Z25)","v":0},{"$f":"IF(AA29=0,0,(AA29*((LOG(AA29))/LOG(2))))","v":0},null,{"$f":"N29","v":21221},{"$f":"COUNTIF(L56:L80,AD29)","v":0},{"$f":"AE29/(AG4-AE25)","v":0},{"$f":"IF(AF29=0,0,(AF29*((LOG(AF29))/LOG(2))))","v":0},null,{"$f":"N29","v":21221},{"$f":"COUNTIF(L81:L105,AI29)","v":0},{"$f":"AJ29/(AL4-AJ25)","v":0},{"$f":"IF(AK29=0,0,(AK29*((LOG(AK29))/LOG(2))))","v":0},null,{"$f":"N29","v":21221},{"$f":"COUNTIF(L106:L129,AN29)","v":0},{"$f":"AO29/(AQ4-AO25)","v":0},{"$f":"IF(AP29=0,0,(AP29*((LOG(AP29))/LOG(2))))","v":0},null,{"$f":"N29","v":21221},{"$f":"COUNTIF(L130:L154,AS29)","v":0},{"$f":"AT29/(AV4-AT25)","v":0},{"$f":"IF(AU29=0,0,(AU29*((LOG(AU29))/LOG(2))))","v":0}]
[21,3764,22,3789,13,3798,14,3810,24,3821,0,22112,null,21222,{"$f":"COUNTIF($L$7:$L$500,N30)","v":2},{"$f":"O30/$Q$4","v":1.3513513513513514E-2},{"$f":"IF(P30=0,0,(P30*((LOG(P30))/LOG(2))))","v":-8.3911531967958794E-2},null,null,{"$f":"N30","v":21222},{"$f":"COUNTIF(L7:L31,T30)","v":0},{"$f":"U30/(W4-U25)","v":0},{"$f":"IF(V30=0,0,(V30*((LOG(V30))/LOG(2))))","v":0},null,{"$f":"N30","v":21222},{"$f":"COUNTIF(L32:L55,Y30)","v":0},{"$f":"Z30/(AB4-Z25)","v":0},{"$f":"IF(AA30=0,0,(AA30*((LOG(AA30))/LOG(2))))","v":0},null,{"$f":"N30","v":21222},{"$f":"COUNTIF(L56:L80,AD30)","v":0},{"$f":"AE30/(AG4-AE25)","v":0},{"$f":"IF(AF30=0,0,(AF30*((LOG(AF30))/LOG(2))))","v":0},null,{"$f":"N30","v":21222},{"$f":"COUNTIF(L81:L105,AI30)","v":0},{"$f":"AJ30/(AL4-AJ25)","v":0},{"$f":"IF(AK30=0,0,(AK30*((LOG(AK30))/LOG(2))))","v":0},null,{"$f":"N30","v":21222},{"$f":"COUNTIF(L106:L129,AN30)","v":0},{"$f":"AO30/(AQ4-AO25)","v":0},{"$f":"IF(AP30=0,0,(AP30*((LOG(AP30))/LOG(2))))","v":0},null,{"$f":"N30","v":21222},{"$f":"COUNTIF(L130:L154,AS30)","v":2},{"$f":"AT30/(AV4-AT25)","v":0.08},{"$f":"IF(AU30=0,0,(AU30*((LOG(AU30))/LOG(2))))","v":-0.29150849518197797}]
[12,3975,13,3981,24,3993,14,4004,13,4022,0,11211,null,22111,{"$f":"COUNTIF($L$7:$L$500,N31)","v":5},{"$f":"O31/$Q$4","v":3.3783783783783786E-2},{"$f":"IF(P31=0,0,(P31*((LOG(P31))/LOG(2))))","v":-0.1651190969845131},null,null,{"$f":"N31","v":22111},{"$f":"COUNTIF(L7:L31,T31)","v":0},{"$f":"U31/(W4-U25)","v":0},{"$f":"IF(V31=0,0,(V31*((LOG(V31))/LOG(2))))","v":0},null,{"$f":"N31","v":22111},{"$f":"COUNTIF(L32:L55,Y31)","v":0},{"$f":"Z31/(AB4-Z25)","v":0},{"$f":"IF(AA31=0,0,(AA31*((LOG(AA31))/LOG(2))))","v":0},null,{"$f":"N31","v":22111},{"$f":"COUNTIF(L56:L80,AD31)","v":3},{"$f":"AE31/(AG4-AE25)","v":0.13043478260869565},{"$f":"IF(AF31=0,0,(AF31*((LOG(AF31))/LOG(2))))","v":-0.3832955811307639},null,{"$f":"N31","v":22111},{"$f":"COUNTIF(L81:L105,AI31)","v":2},{"$f":"AJ31/(AL4-AJ25)","v":8.6956521739130432E-2},{"$f":"IF(AK31=0,0,(AK31*((LOG(AK31))/LOG(2))))","v":-0.30639669183104457},null,{"$f":"N31","v":22111},{"$f":"COUNTIF(L106:L129,AN31)","v":0},{"$f":"AO31/(AQ4-AO25)","v":0},{"$f":"IF(AP31=0,0,(AP31*((LOG(AP31))/LOG(2))))","v":0},null,{"$f":"N31","v":22111},{"$f":"COUNTIF(L130:L154,AS31)","v":0},{"$f":"AT31/(AV4-AT25)","v":0},{"$f":"IF(AU31=0,0,(AU31*((LOG(AU31))/LOG(2))))","v":0}]
[21,4147,11,4164,11,4168,12,4173,24,4188,0,21112,null,22112,{"$f":"COUNTIF($L$7:$L$500,N32)","v":10},{"$f":"O32/$Q$4","v":6.7567567567567571E-2},{"$f":"IF(P32=0,0,(P32*((LOG(P32))/LOG(2))))","v":-0.26267062640145861},null,null,{"$f":"N32","v":22112},{"$f":"COUNTIF(L7:L31,T32)","v":3},{"$f":"U32/(W4-U25)","v":0.125},{"$f":"IF(V32=0,0,(V32*((LOG(V32))/LOG(2))))","v":-0.375},null,{"$f":"N32","v":22112},{"$f":"COUNTIF(L32:L55,Y32)","v":3},{"$f":"Z32/(AB4-Z25)","v":0.13636363636363635},{"$f":"IF(AA32=0,0,(AA32*((LOG(AA32))/LOG(2))))","v":-0.39197306153401923},null,{"$f":"N32","v":22112},{"$f":"COUNTIF(L56:L80,AD32)","v":1},{"$f":"AE32/(AG4-AE25)","v":4.3478260869565216E-2},{"$f":"IF(AF32=0,0,(AF32*((LOG(AF32))/LOG(2))))","v":-0.19667660678508753},null,{"$f":"N32","v":22112},{"$f":"COUNTIF(L81:L105,AI32)","v":3},{"$f":"AJ32/(AL4-AJ25)","v":0.13043478260869565},{"$f":"IF(AK32=0,0,(AK32*((LOG(AK32))/LOG(2))))","v":-0.3832955811307639},null,{"$f":"N32","v":22112},{"$f":"COUNTIF(L106:L129,AN32)","v":0},{"$f":"AO32/(AQ4-AO25)","v":0},{"$f":"IF(AP32=0,0,(AP32*((LOG(AP32))/LOG(2))))","v":0},null,{"$f":"N32","v":22112},{"$f":"COUNTIF(L130:L154,AS32)","v":0},{"$f":"AT32/(AV4-AT25)","v":0},{"$f":"IF(AU32=0,0,(AU32*((LOG(AU32))/LOG(2))))","v":0}]
[21,4299,22,4331,13,4340,14,4345,24,4359,0,22112,null,22121,{"$f":"COUNTIF($L$7:$L$500,N33)","v":11},{"$f":"O33/$Q$4","v":7.4324324324324328E-2},{"$f":"IF(P33=0,0,(P33*((LOG(P33))/LOG(2))))","v":-0.27871783254667687},null,null,{"$f":"N33","v":22121},{"$f":"COUNTIF(L7:L31,T33)","v":2},{"$f":"U33/(W4-U25)","v":8.3333333333333329E-2},{"$f":"IF(V33=0,0,(V33*((LOG(V33))/LOG(2))))","v":-0.29874687506009634},null,{"$f":"N33","v":22121},{"$f":"COUNTIF(L32:L55,Y33)","v":4},{"$f":"Z33/(AB4-Z25)","v":0.18181818181818182},{"$f":"IF(AA33=0,0,(AA33*((LOG(AA33))/LOG(2))))","v":-0.44716938520678134},null,{"$f":"N33","v":22121},{"$f":"COUNTIF(L56:L80,AD33)","v":2},{"$f":"AE33/(AG4-AE25)","v":8.6956521739130432E-2},{"$f":"IF(AF33=0,0,(AF33*((LOG(AF33))/LOG(2))))","v":-0.30639669183104457},null,{"$f":"N33","v":22121},{"$f":"COUNTIF(L81:L105,AI33)","v":3},{"$f":"AJ33/(AL4-AJ25)","v":0.13043478260869565},{"$f":"IF(AK33=0,0,(AK33*((LOG(AK33))/LOG(2))))","v":-0.3832955811307639},null,{"$f":"N33","v":22121},{"$f":"COUNTIF(L106:L129,AN33)","v":0},{"$f":"AO33/(AQ4-AO25)","v":0},{"$f":"IF(AP33=0,0,(AP33*((LOG(AP33))/LOG(2))))","v":0},null,{"$f":"N33","v":22121},{"$f":"COUNTIF(L130:L154,AS33)","v":0},{"$f":"AT33/(AV4-AT25)","v":0},{"$f":"IF(AU33=0,0,(AU33*((LOG(AU33))/LOG(2))))","v":0}]
[21,4471,11,4482,22,4489,14,4499,13,4513,0,21211,null,22122,{"$f":"COUNTIF($L$7:$L$500,N34)","v":1},{"$f":"O34/$Q$4","v":6.7567567567567571E-3},{"$f":"IF(P34=0,0,(P34*((LOG(P34))/LOG(2))))","v":-4.8712522740736154E-2},null,null,{"$f":"N34","v":22122},{"$f":"COUNTIF(L7:L31,T34)","v":0},{"$f":"U34/(W4-U25)","v":0},{"$f":"IF(V34=0,0,(V34*((LOG(V34))/LOG(2))))","v":0},null,{"$f":"N34","v":22122},{"$f":"COUNTIF(L32:L55,Y34)","v":0},{"$f":"Z34/(AB4-Z25)","v":0},{"$f":"IF(AA34=0,0,(AA34*((LOG(AA34))/LOG(2))))","v":0},null,{"$f":"N34","v":22122},{"$f":"COUNTIF(L56:L80,AD34)","v":0},{"$f":"AE34/(AG4-AE25)","v":0},{"$f":"IF(AF34=0,0,(AF34*((LOG(AF34))/LOG(2))))","v":0},null,{"$f":"N34","v":22122},{"$f":"COUNTIF(L81:L105,AI34)","v":1},{"$f":"AJ34/(AL4-AJ25)","v":4.3478260869565216E-2},{"$f":"IF(AK34=0,0,(AK34*((LOG(AK34))/LOG(2))))","v":-0.19667660678508753},null,{"$f":"N34","v":22122},{"$f":"COUNTIF(L106:L129,AN34)","v":0},{"$f":"AO34/(AQ4-AO25)","v":0},{"$f":"IF(AP34=0,0,(AP34*((LOG(AP34))/LOG(2))))","v":0},null,{"$f":"N34","v":22122},{"$f":"COUNTIF(L130:L154,AS34)","v":0},{"$f":"AT34/(AV4-AT25)","v":0},{"$f":"IF(AU34=0,0,(AU34*((LOG(AU34))/LOG(2))))","v":0}]
[21,4616,11,4639,11,4646,21,4655,11,4665,1,21121,null,22211,{"$f":"COUNTIF($L$7:$L$500,N35)","v":3},{"$f":"O35/$Q$4","v":2.0270270270270271E-2},{"$f":"IF(P35=0,0,(P35*((LOG(P35))/LOG(2))))","v":-0.11400994996434717},null,null,{"$f":"N35","v":22211},{"$f":"COUNTIF(L7:L31,T35)","v":0},{"$f":"U35/(W4-U25)","v":0},{"$f":"IF(V35=0,0,(V35*((LOG(V35))/LOG(2))))","v":0},null,{"$f":"N35","v":22211},{"$f":"COUNTIF(L32:L55,Y35)","v":0},{"$f":"Z35/(AB4-Z25)","v":0},{"$f":"IF(AA35=0,0,(AA35*((LOG(AA35))/LOG(2))))","v":0},null,{"$f":"N35","v":22211},{"$f":"COUNTIF(L56:L80,AD35)","v":2},{"$f":"AE35/(AG4-AE25)","v":8.6956521739130432E-2},{"$f":"IF(AF35=0,0,(AF35*((LOG(AF35))/LOG(2))))","v":-0.30639669183104457},null,{"$f":"N35","v":22211},{"$f":"COUNTIF(L81:L105,AI35)","v":1},{"$f":"AJ35/(AL4-AJ25)","v":4.3478260869565216E-2},{"$f":"IF(AK35=0,0,(AK35*((LOG(AK35))/LOG(2))))","v":-0.19667660678508753},null,{"$f":"N35","v":22211},{"$f":"COUNTIF(L106:L129,AN35)","v":0},{"$f":"AO35/(AQ4-AO25)","v":0},{"$f":"IF(AP35=0,0,(AP35*((LOG(AP35))/LOG(2))))","v":0},null,{"$f":"N35","v":22211},{"$f":"COUNTIF(L130:L154,AS35)","v":0},{"$f":"AT35/(AV4-AT25)","v":0},{"$f":"IF(AU35=0,0,(AU35*((LOG(AU35))/LOG(2))))","v":0}]
[21,4771,11,4789,22,4803,14,4816,24,4840,0,21212,null,22212,{"$f":"COUNTIF($L$7:$L$500,N36)","v":8},{"$f":"O36/$Q$4","v":5.4054054054054057E-2},{"$f":"IF(P36=0,0,(P36*((LOG(P36))/LOG(2))))","v":-0.22753801976372701},null,null,{"$f":"N36","v":22212},{"$f":"COUNTIF(L7:L31,T36)","v":2},{"$f":"U36/(W4-U25)","v":8.3333333333333329E-2},{"$f":"IF(V36=0,0,(V36*((LOG(V36))/LOG(2))))","v":-0.29874687506009634},null,{"$f":"N36","v":22212},{"$f":"COUNTIF(L32:L55,Y36)","v":0},{"$f":"Z36/(AB4-Z25)","v":0},{"$f":"IF(AA36=0,0,(AA36*((LOG(AA36))/LOG(2))))","v":0},null,{"$f":"N36","v":22212},{"$f":"COUNTIF(L56:L80,AD36)","v":3},{"$f":"AE36/(AG4-AE25)","v":0.13043478260869565},{"$f":"IF(AF36=0,0,(AF36*((LOG(AF36))/LOG(2))))","v":-0.3832955811307639},null,{"$f":"N36","v":22212},{"$f":"COUNTIF(L81:L105,AI36)","v":1},{"$f":"AJ36/(AL4-AJ25)","v":4.3478260869565216E-2},{"$f":"IF(AK36=0,0,(AK36*((LOG(AK36))/LOG(2))))","v":-0.19667660678508753},null,{"$f":"N36","v":22212},{"$f":"COUNTIF(L106:L129,AN36)","v":0},{"$f":"AO36/(AQ4-AO25)","v":0},{"$f":"IF(AP36=0,0,(AP36*((LOG(AP36))/LOG(2))))","v":0},null,{"$f":"N36","v":22212},{"$f":"COUNTIF(L130:L154,AS36)","v":2},{"$f":"AT36/(AV4-AT25)","v":0.08},{"$f":"IF(AU36=0,0,(AU36*((LOG(AU36))/LOG(2))))","v":-0.29150849518197797}]
[21,4957,11,4968,22,4977,14,4985,13,4993,0,21211,null,22221,{"$f":"COUNTIF($L$7:$L$500,N37)","v":0},{"$f":"O37/$Q$4","v":0},{"$f":"IF(P37=0,0,(P37*((LOG(P37))/LOG(2))))","v":0},null,null,{"$f":"N37","v":22221},{"$f":"COUNTIF(L7:L31,T37)","v":0},{"$f":"U37/(W4-U25)","v":0},{"$f":"IF(V37=0,0,(V37*((LOG(V37))/LOG(2))))","v":0},null,{"$f":"N37","v":22221},{"$f":"COUNTIF(L32:L55,Y37)","v":0},{"$f":"Z37/(AB4-Z25)","v":0},{"$f":"IF(AA37=0,0,(AA37*((LOG(AA37))/LOG(2))))","v":0},null,{"$f":"N37","v":22221},{"$f":"COUNTIF(L56:L80,AD37)","v":0},{"$f":"AE37/(AG4-AE25)","v":0},{"$f":"IF(AF37=0,0,(AF37*((LOG(AF37))/LOG(2))))","v":0},null,{"$f":"N37","v":22221},{"$f":"COUNTIF(L81:L105,AI37)","v":0},{"$f":"AJ37/(AL4-AJ25)","v":0},{"$f":"IF(AK37=0,0,(AK37*((LOG(AK37))/LOG(2))))","v":0},null,{"$f":"N37","v":22221},{"$f":"COUNTIF(L106:L129,AN37)","v":0},{"$f":"AO37/(AQ4-AO25)","v":0},{"$f":"IF(AP37=0,0,(AP37*((LOG(AP37))/LOG(2))))","v":0},null,{"$f":"N37","v":22221},{"$f":"COUNTIF(L130:L154,AS37)","v":0},{"$f":"AT37/(AV4-AT25)","v":0},{"$f":"IF(AU37=0,0,(AU37*((LOG(AU37))/LOG(2))))","v":0}]
[21,5102,22,5107,13,5118,23,5127,13,5139,0,22121,null,22222,{"$f":"COUNTIF($L$7:$L$500,N38)","v":2},{"$f":"O38/$Q$4","v":1.3513513513513514E-2},{"$f":"IF(P38=0,0,(P38*((LOG(P38))/LOG(2))))","v":-8.3911531967958794E-2},null,null,{"$f":"N38","v":22222},{"$f":"COUNTIF(L7:L31,T38)","v":0},{"$f":"U38/(W4-U25)","v":0},{"$f":"IF(V38=0,0,(V38*((LOG(V38))/LOG(2))))","v":0},null,{"$f":"N38","v":22222},{"$f":"COUNTIF(L32:L55,Y38)","v":0},{"$f":"Z38/(AB4-Z25)","v":0},{"$f":"IF(AA38=0,0,(AA38*((LOG(AA38))/LOG(2))))","v":0},null,{"$f":"N38","v":22222},{"$f":"COUNTIF(L56:L80,AD38)","v":0},{"$f":"AE38/(AG4-AE25)","v":0},{"$f":"IF(AF38=0,0,(AF38*((LOG(AF38))/LOG(2))))","v":0},null,{"$f":"N38","v":22222},{"$f":"COUNTIF(L81:L105,AI38)","v":0},{"$f":"AJ38/(AL4-AJ25)","v":0},{"$f":"IF(AK38=0,0,(AK38*((LOG(AK38))/LOG(2))))","v":0},null,{"$f":"N38","v":22222},{"$f":"COUNTIF(L106:L129,AN38)","v":2},{"$f":"AO38/(AQ4-AO25)","v":8.3333333333333329E-2},{"$f":"IF(AP38=0,0,(AP38*((LOG(AP38))/LOG(2))))","v":-0.29874687506009634},null,{"$f":"N38","v":22222},{"$f":"COUNTIF(L130:L154,AS38)","v":0},{"$f":"AT38/(AV4-AT25)","v":0},{"$f":"IF(AU38=0,0,(AU38*((LOG(AU38))/LOG(2))))","v":0}]
[21,5252,11,5284,11,5288,12,5293,13,5316,0,21111,null,null,null,{"$f":"SUM(P7:P38)","v":0.99999999999999989},{"$f":"-SUM(Q7:Q38)","v":4.3596980003714476},null,null,null,null,{"$f":"SUM(V7:V38)","v":1},{"$f":"-SUM(W7:W38)","v":3.2406015629507228},null,null,null,{"$f":"SUM(AA7:AA38)","v":1},{"$f":"-SUM(AB7:AB38)","v":3.061482186720776},null,null,null,{"$f":"SUM(AF7:AF38)","v":0.99999999999999989},{"$f":"-SUM(AG7:AG38)","v":3.6424896731661254},null,null,null,{"$f":"SUM(AK7:AK38)","v":1},{"$f":"-SUM(AL7:AL38)","v":3.6424896731661258},null,null,null,{"$f":"SUM(AP7:AP38)","v":1},{"$f":"-SUM(AQ7:AQ38)","v":2.9712518360044657},null,null,null,{"$f":"SUM(AU7:AU38)","v":0.99999999999999989},{"$f":"-SUM(AV7:AV38)","v":3.1026831892554925}]
[12,5461,24,5469,13,5481,23,5495,13,5506,0,12121,null,null,null,"U=",{"$f":"Q39/(LOG(Q4)/LOG(2))","v":0.60471963396785344},null,null,null,null,"U1=",{"$f":"W39/(LOG(W4)/LOG(2))","v":0.69782556360943748},null,null,null,"U2=",{"$f":"AB39/(LOG(AB4)/LOG(2))","v":0.66772240476105182},null,null,null,"U3=",{"$f":"AG39/(LOG(AG4)/LOG(2))","v":0.78436745762853255},null,null,null,"U4=",{"$f":"AL39/(LOG(AL4)/LOG(2))","v":0.78436745762853266},null,null,null,"U5=",{"$f":"AQ39/(LOG(AQ4)/LOG(2))","v":0.64804277800246479},null,null,null,"U6=",{"$f":"AV39/(LOG(AV4)/LOG(2))","v":0.66812645837036666}]
[21,5642,11,5652,22,5661,14,5672,24,5686,0,21212]
[12,5829,13,5834,13,5848,23,5857,13,5866,0,11121]
[21,5981,11,5991,11,6007,21,6020,11,6030,1,21121,null,"Total Target Seq"]
[21,6143,11,6153,22,6162,14,6173,24,6186,0,21212,null,{"$f":"COUNTIF(L7:L154,G3)","v":7},null,25,24,25,25,24,25]
[12,6284,24,6294,13,6307,23,6316,13,6325,0,12121,null,null,null,"% of reinforcement given in 6 equal intervals based on number of trials "]
[21,6438,22,6459,13,6473,14,6481,24,6498,0,22112,null,null,null,"%_1","%_2","%_3","%_4","%_5","%_6"]
[21,6605,22,6611,13,6625,23,6634,13,6643,0,22121,null,null,"target sequence",{"$f":"$G$3","v":21121},{"$f":"$G$3","v":21121},{"$f":"$G$3","v":21121},{"$f":"$G$3","v":21121},{"$f":"$G$3","v":21121},{"$f":"$G$3","v":21121}]
[12,6758,24,6766,13,6774,23,6786,13,6798,0,12121,null,null,"total reinforcement",{"$f":"U25","v":1},{"$f":"Z25","v":2},{"$f":"AE25","v":2},{"$f":"AJ25","v":2},{"$f":"AO25","v":0},{"$f":"AT25","v":0}]
[21,6909,22,6926,13,6935,14,6940,24,6952,0,22112,null,null,"% target"]
[21,7105,11,7113,22,7123,14,7133,24,7147,0,21212,null,null,"CCRF"]
[21,7254,22,7298,13,7307,23,7316,13,7329,0,22121,null,null,"% CCRf"]
[12,7464,24,7473,13,7483,23,7495,13,7504,0,12121,null,null,"average response rate",{"$f":"J31/P44","v":160.88},{"$f":"(J55-J31)/Q44","v":166.375},{"$f":"(J80-J55)/R44","v":154.96},{"$f":"(J105-J80)/S44","v":172.72},{"$f":"(J129-J105)/T44","v":160.04166666666666},{"$f":"(J154-J129)/U44","v":156.91999999999999}]
[12,7656,24,7665,13,7673,14,7681,24,7695,0,12112]
[21,7818,22,7823,13,7833,23,7842,13,7852,0,22121]
[12,7969,24,7979,24,7996,14,8005,13,8015,0,12211]
[21,8135,11,8153,22,8162,14,8173,24,8186,0,21212]
[21,8292,22,8299,24,8333,14,8342,24,8351,0,22212]
[21,8466,11,8488,22,8499,14,8508,24,8520,0,21212]
[12,8659,13,8663,13,8668,14,8673,24,8685,0,11112]
[21,8797,22,8805,13,8814,23,8824,13,8836,0,22121]
[21,8946,22,8954,24,8971,14,8980,13,8984,0,22211]
[21,9115,22,9121,13,9138,14,9146,13,9167,0,22111]
[21,9285,22,9290,24,9305,14,9314,24,9324,0,22212]
[21,9429,22,9453,13,9462,14,9466,13,9475,0,22111]
[21,9602,22,9620,13,9628,14,9632,13,9637,0,22111]
[21,9743,22,9751,13,9764,23,9772,13,9781,0,22121]
[12,9885,13,9893,24,9914,14,9927,13,9937,0,11211]
[21,10040,11,10056,11,10060,12,10065,13,10070,0,21111]
[21,10196,22,10203,13,10215,14,10223,24,10235,0,22112]
[12,10343,24,10359,13,10368,23,10381,13,10393,0,12121]
[21,10498,11,10517,11,10555,21,10567,11,10577,1,21121]
[21,10670,22,10674,24,10687,14,10695,24,10708,0,22212]
[21,10826,11,10836,22,10879,14,10888,13,10893,0,21211]
[21,10994,11,11004,11,11014,21,11027,11,11039,1,21121]
[21,11133,11,11143,22,11151,14,11160,24,11172,0,21212]
[12,11269,24,11280,13,11289,23,11298,13,11308,0,12121]
[21,11412,11,11426,11,11430,12,11437,24,11449,0,21112]
[12,11551,24,11561,13,11570,14,11574,24,11587,0,12112]
[21,11700,22,11710,24,11728,14,11737,13,11743,0,22211]
[12,11844,13,11854,24,11864,14,11877,24,11889,0,11212]
[21,11991,11,12001,22,12021,14,12030,24,12043,0,21212]
[21,12149,22,12154,24,12169,14,12183,13,12187,0,22211]
[21,12288,22,12300,13,12313,14,12321,24,12332,0,22112]
[12,12431,13,12442,24,12456,14,12468,13,12480,0,11211]
[12,12583,13,12603,13,12613,14,12622,24,12634,0,11112]
[21,12735,11,12752,22,12765,14,12778,13,12784,0,21211]
[12,12883,24,12895,13,12903,23,12915,13,12925,0,12121]
[21,13039,22,13048,13,13060,14,13063,13,13069,0,22111]
[21,13185,22,13192,13,13201,23,13212,13,13221,0,22121]
[21,13325,22,13349,13,13358,14,13362,13,13367,0,22111]
[12,13494,13,13499,13,13504,23,13518,13,13528,0,11121]
[21,13632,11,13643,22,13652,14,13661,24,13671,0,21212]
[21,13775,11,13785,22,13795,14,13803,13,13810,0,21211]
[12,13913,24,13925,24,13929,14,13942,24,13956,0,12212]
[21,14064,11,14074,22,14082,14,14093,13,14102,0,21211]
[21,14211,22,14229,13,14238,14,14242,24,14254,0,22112]
[21,14367,22,14389,13,14401,14,14409,24,14421,0,22112]
[21,14554,11,14578,11,14583,21,14593,11,14605,1,21121]
[21,14709,22,14723,24,14738,14,14749,24,14762,0,22212]
[21,14865,11,14878,11,14882,21,14891,11,14903,1,21121]
[21,15001,22,15022,13,15031,23,15046,13,15054,0,22121]
[21,15154,22,15159,13,15172,23,15181,13,15190,0,22121]
[21,15833,22,15840,13,15855,23,15878,24,15885,0,22122]
[12,15985,24,15993,24,16021,23,16037,24,16052,0,12222]
[12,16150,24,16169,24,16187,14,16199,24,16207,0,12212]
[12,16314,24,16333,24,16359,14,16375,24,16399,0,12212]
[12,16496,24,16504,24,16512,23,16525,13,16537,0,12221]
[12,16636,24,16646,24,16679,23,16690,24,16702,0,12222]
[12,16800,24,16818,13,16828,23,16836,24,16848,0,12122]
[12,16945,24,16964,13,16976,23,16988,24,16996,0,12122]
[12,17093,24,17118,13,17146,23,17154,24,17175,0,12122]
[12,17271,24,17297,13,17309,23,17317,13,17331,0,12121]
[12,17429,24,17441,24,17449,23,17461,24,17473,0,12222]
[12,17571,13,17580,24,17590,23,17602,24,17610,0,11222]
[12,17707,24,17750,24,17762,23,17778,24,17793,0,12222]
[12,17893,24,17905,24,17916,14,17927,24,17943,0,12212]
[12,18046,24,18067,13,18088,14,18097,24,18108,0,12112]
[21,18223,22,18234,24,18242,23,18277,24,18285,0,22222]
[21,18418,22,18425,24,18444,23,18455,24,18463,0,22222]
[12,18564,24,18597,24,18622,23,18629,13,18641,0,12221]
[12,18738,13,18753,24,18778,23,18801,24,18809,0,11222]
[12,18910,24,18937,24,18949,23,18954,24,18979,0,12222]
[12,19076,24,19088,24,19096,14,19109,24,19120,0,12212]
[12,19218,13,19235,24,19243,23,19256,24,19263,0,11222]
[12,19360,24,19372,13,19383,23,19394,13,19425,0,12121]
[12,19523,24,19557,24,19570,23,19581,24,19589,0,12222]
[12,19686,13,19706,24,19724,23,19732,24,19745,0,11222]
[12,19842,13,19860,24,19868,23,19879,24,19886,0,11222]
[12,19984,13,20004,24,20017,23,20036,13,20048,0,11221]
[12,20146,24,20157,24,20169,23,20181,24,20189,0,12222]
[12,20287,13,20308,24,20319,23,20331,13,20342,0,11221]
[21,20451,22,20459,24,20466,14,20477,24,20488,0,22212]
[12,20592,24,20604,24,20616,14,20628,24,20640,0,12212]
[21,20753,11,20764,22,20782,23,20794,24,20803,0,21222]
[12,20900,13,20907,24,20928,14,20939,24,20952,0,11212]
[12,21056,24,21092,13,21103,23,21121,13,21136,0,12121]
[21,21246,22,21253,24,21283,14,21294,24,21306,0,22212]
[12,21405,13,21428,24,21440,23,21475,13,21483,0,11221]
[12,21582,24,21596,13,21612,23,21621,24,21633,0,12122]
[12,21731,24,21758,24,21766,14,21777,24,21797,0,12212]
[12,21894,24,21908,24,21915,14,21928,24,21944,0,12212]
[12,22042,13,22049,24,22061,23,22068,24,22081,0,11222]
[12,22178,24,22197,24,22204,14,22215,24,22227,0,12212]
[12,22325,24,22343,24,22351,14,22362,24,22373,0,12212]
[12,22472,24,22483,24,22491,14,22500,24,22512,0,12212]
[12,22610,24,22622,24,22637,23,22650,13,22666,0,12221]
[12,22763,13,22774,24,22790,23,22797,24,22809,0,11222]
[12,22907,24,22919,24,22929,23,22950,24,22962,0,12222]
[12,23110,24,23119,24,23142,23,23165,24,23173,0,12222]
[12,23275,24,23283,13,23312,23,23328,13,23346,0,12121]
[21,23456,11,23464,22,23472,23,23478,24,23486,0,21222]
[12,23584,13,23592,24,23603,23,23611,13,23621,0,11221]
[12,23727,24,23740,13,23760,23,23768,13,23791,0,12121]
[12,23888,13,23912,24,23931,23,23952,24,23971,null,11222]

{"sheet":"!N213820.091","index":24,"n_rows":155,"n_cols":48,"rows_kept":155,"cut":false,"hidden":false,"merged":[[4,39,4,42],[5,39,5,40],[4,44,4,47],[5,44,5,45],[4,24,4,27],[5,24,5,25],[4,29,4,32],[5,29,5,30],[4,34,4,37],[5,34,5,35],[1,1,1,2],[5,13,5,14],[42,13,42,14],[43,13,43,14],[4,19,4,22],[5,19,5,20]]}
["Report for:!N213820.091"]
["Date:","<date>"]
["Hen:","<hen>",null,null,null,"Correct Sequence",{"$f":"Start!J2","v":21121},null,null,null,null,null,null,null,null,"Total Sequences in Data",{"$f":"4994-COUNTBLANK(L7:L5000)","v":149},null,null,null,null,"Total Sequences in Block Data",{"$f":"COUNTA(L7:L31)","v":25},null,null,null,"Total Sequences in Block Data",{"$f":"COUNTA(L32:L56)","v":25},null,null,null,"Total Sequences in Block Data",{"$f":"COUNTA(L57:L80)","v":24},null,null,null,"Total Sequences in Block Data",{"$f":"COUNTA(L81:L105)","v":25},null,null,null,"Total Sequences in Block Data",{"$f":"COUNTA(L106:L130)","v":25},null,null,null,"Total Sequences in Block Data",{"$f":"COUNTA(L131:L155)","v":25}]
[null,null,null,null,null,null,null,null,null,null,null,null,null,null,null,"Total Sequences in Summary",{"$f":"SUM(O7:O38)","v":149},null,null,null,null,"Total Sequences in Block Summary",{"$f":"SUM(U7:U38)","v":25},null,null,null,"Total Sequences in Block Summary",{"$f":"SUM(Z7:Z38)","v":25},null,null,null,"Total Sequences in Block Summary",{"$f":"SUM(AE7:AE38)","v":24},null,null,null,"Total Sequences in Block Summary",{"$f":"SUM(AJ7:AJ38)","v":25},null,null,null,"Total Sequences in Block Summary",{"$f":"SUM(AO7:AO38)","v":25},null,null,null,"Total Sequences in Block Summary",{"$f":"SUM(AT7:AT38)","v":25}]
[null,null,null,null,null,null,null,null,null,null,null,null,null,null,null,null,null,null,null,"Block 1",null,null,null,null,"Block 2",null,null,null,null,"Block 3",null,null,null,null,"Block 4",null,null,null,null,"Block 5",null,null,null,null,"Block 6"]
["Sequence\nComponent\n1","Time\n1","Sequence\nComponent\n2","Time\n2","Sequence\nComponent\n3","Time\n3","Sequence\nComponent\n4","Time\n4","Sequence\nComponent\n5","Time\n5","Correct?\n0=No 1=Yes","Sequence",null,"Frequency",null,"Relative Frequency","Variability",null,null,"Frequency",null,"Relative Frequency","Variability",null,"Frequency",null,"Relative Frequency","Variability",null,"Frequency",null,"Relative Frequency","Variability",null,"Frequency",null,"Relative Frequency","Variability",null,"Frequency",null,"Relative Frequency","Variability",null,"Frequency",null,"Relative Frequency","Variability"]
[21,24,11,33,11,41,12,61,13,69,0,21111,null,11111,{"$f":"COUNTIF($L$7:$L$500,N7)","v":1},{"$f":"O7/$Q$4","v":6.7114093959731542E-3},{"$f":"IF(P7=0,0,(P7*((LOG(P7))/LOG(2))))","v":-4.8450795439343365E-2},null,null,{"$f":"N7","v":11111},{"$f":"COUNTIF(L7:L31,T7)","v":1},{"$f":"U7/(W4-U25)","v":0.04},{"$f":"IF(V7=0,0,(V7*((LOG(V7))/LOG(2))))","v":-0.18575424759098899},null,{"$f":"N7","v":11111},{"$f":"COUNTIF(L32:L56,Y7)","v":0},{"$f":"Z7/(AB4-Z25)","v":0},{"$f":"IF(AA7=0,0,(AA7*((LOG(AA7))/LOG(2))))","v":0},null,{"$f":"N7","v":11111},{"$f":"COUNTIF(L57:L80,AD7)","v":0},{"$f":"AE7/(AG4-AE25)","v":0},{"$f":"IF(AF7=0,0,(AF7*((LOG(AF7))/LOG(2))))","v":0},null,{"$f":"N7","v":11111},{"$f":"COUNTIF(L81:L105,AI7)","v":0},{"$f":"AJ7/(AL4-AJ25)","v":0},{"$f":"IF(AK7=0,0,(AK7*((LOG(AK7))/LOG(2))))","v":0},null,{"$f":"N7","v":11111},{"$f":"COUNTIF(L106:L130,AN7)","v":0},{"$f":"AO7/(AQ4-AO25)","v":0},{"$f":"IF(AP7=0,0,(AP7*((LOG(AP7))/LOG(2))))","v":0},null,{"$f":"N7","v":11111},{"$f":"COUNTIF(L131:L155,AS7)","v":0},{"$f":"AT7/(AV4-AT25)","v":0},{"$f":"IF(AU7=0,0,(AU7*((LOG(AU7))/LOG(2))))","v":0}]
[21,218,22,228,13,242,23,254,13,263,0,22121,null,11112,{"$f":"COUNTIF($L$7:$L$500,N8)","v":1},{"$f":"O8/$Q$4","v":6.7114093959731542E-3},{"$f":"IF(P8=0,0,(P8*((LOG(P8))/LOG(2))))","v":-4.8450795439343365E-2},null,null,{"$f":"N8","v":11112},{"$f":"COUNTIF(L7:L31,T8)","v":0},{"$f":"U8/(W4-U25)","v":0},{"$f":"IF(V8=0,0,(V8*((LOG(V8))/LOG(2))))","v":0},null,{"$f":"N8","v":11112},{"$f":"COUNTIF(L32:L56,Y8)","v":1},{"$f":"Z8/(AB4-Z25)","v":0.04},{"$f":"IF(AA8=0,0,(AA8*((LOG(AA8))/LOG(2))))","v":-0.18575424759098899},null,{"$f":"N8","v":11112},{"$f":"COUNTIF(L57:L80,AD8)","v":0},{"$f":"AE8/(AG4-AE25)","v":0},{"$f":"IF(AF8=0,0,(AF8*((LOG(AF8))/LOG(2))))","v":0},null,{"$f":"N8","v":11112},{"$f":"COUNTIF(L81:L105,AI8)","v":0},{"$f":"AJ8/(AL4-AJ25)","v":0},{"$f":"IF(AK8=0,0,(AK8*((LOG(AK8))/LOG(2))))","v":0},null,{"$f":"N8","v":11112},{"$f":"COUNTIF(L106:L130,AN8)","v":0},{"$f":"AO8/(AQ4-AO25)","v":0},{"$f":"IF(AP8=0,0,(AP8*((LOG(AP8))/LOG(2))))","v":0},null,{"$f":"N8","v":11112},{"$f":"COUNTIF(L131:L155,AS8)","v":0},{"$f":"AT8/(AV4-AT25)","v":0},{"$f":"IF(AU8=0,0,(AU8*((LOG(AU8))/LOG(2))))","v":0}]
[21,384,11,392,11,397,12,401,24,413,0,21112,null,11121,{"$f":"COUNTIF($L$7:$L$500,N9)","v":5},{"$f":"O9/$Q$4","v":3.3557046979865772E-2},{"$f":"IF(P9=0,0,(P9*((LOG(P9))/LOG(2))))","v":-0.16433692703271138},null,null,{"$f":"N9","v":11121},{"$f":"COUNTIF(L7:L31,T9)","v":1},{"$f":"U9/(W4-U25)","v":0.04},{"$f":"IF(V9=0,0,(V9*((LOG(V9))/LOG(2))))","v":-0.18575424759098899},null,{"$f":"N9","v":11121},{"$f":"COUNTIF(L32:L56,Y9)","v":1},{"$f":"Z9/(AB4-Z25)","v":0.04},{"$f":"IF(AA9=0,0,(AA9*((LOG(AA9))/LOG(2))))","v":-0.18575424759098899},null,{"$f":"N9","v":11121},{"$f":"COUNTIF(L57:L80,AD9)","v":3},{"$f":"AE9/(AG4-AE25)","v":0.13043478260869565},{"$f":"IF(AF9=0,0,(AF9*((LOG(AF9))/LOG(2))))","v":-0.3832955811307639},null,{"$f":"N9","v":11121},{"$f":"COUNTIF(L81:L105,AI9)","v":0},{"$f":"AJ9/(AL4-AJ25)","v":0},{"$f":"IF(AK9=0,0,(AK9*((LOG(AK9))/LOG(2))))","v":0},null,{"$f":"N9","v":11121},{"$f":"COUNTIF(L106:L130,AN9)","v":0},{"$f":"AO9/(AQ4-AO25)","v":0},{"$f":"IF(AP9=0,0,(AP9*((LOG(AP9))/LOG(2))))","v":0},null,{"$f":"N9","v":11121},{"$f":"COUNTIF(L131:L155,AS9)","v":0},{"$f":"AT9/(AV4-AT25)","v":0},{"$f":"IF(AU9=0,0,(AU9*((LOG(AU9))/LOG(2))))","v":0}]
[12,519,24,529,13,538,23,550,13,560,0,12121,null,11122,{"$f":"COUNTIF($L$7:$L$500,N10)","v":0},{"$f":"O10/$Q$4","v":0},{"$f":"IF(P10=0,0,(P10*((LOG(P10))/LOG(2))))","v":0},null,null,{"$f":"N10","v":11122},{"$f":"COUNTIF(L7:L31,T10)","v":0},{"$f":"U10/(W4-U25)","v":0},{"$f":"IF(V10=0,0,(V10*((LOG(V10))/LOG(2))))","v":0},null,{"$f":"N10","v":11122},{"$f":"COUNTIF(L32:L56,Y10)","v":0},{"$f":"Z10/(AB4-Z25)","v":0},{"$f":"IF(AA10=0,0,(AA10*((LOG(AA10))/LOG(2))))","v":0},null,{"$f":"N10","v":11122},{"$f":"COUNTIF(L57:L80,AD10)","v":0},{"$f":"AE10/(AG4-AE25)","v":0},{"$f":"IF(AF10=0,0,(AF10*((LOG(AF10))/LOG(2))))","v":0},null,{"$f":"N10","v":11122},{"$f":"COUNTIF(L81:L105,AI10)","v":0},{"$f":"AJ10/(AL4-AJ25)","v":0},{"$f":"IF(AK10=0,0,(AK10*((LOG(AK10))/LOG(2))))","v":0},null,{"$f":"N10","v":11122},{"$f":"COUNTIF(L106:L130,AN10)","v":0},{"$f":"AO10/(AQ4-AO25)","v":0},{"$f":"IF(AP10=0,0,(AP10*((LOG(AP10))/LOG(2))))","v":0},null,{"$f":"N10","v":11122},{"$f":"COUNTIF(L131:L155,AS10)","v":0},{"$f":"AT10/(AV4-AT25)","v":0},{"$f":"IF(AU10=0,0,(AU10*((LOG(AU10))/LOG(2))))","v":0}]
[12,739,13,748,24,762,14,773,13,786,0,11211,null,11211,{"$f":"COUNTIF($L$7:$L$500,N11)","v":5},{"$f":"O11/$Q$4","v":3.3557046979865772E-2},{"$f":"IF(P11=0,0,(P11*((LOG(P11))/LOG(2))))","v":-0.16433692703271138},null,null,{"$f":"N11","v":11211},{"$f":"COUNTIF(L7:L31,T11)","v":2},{"$f":"U11/(W4-U25)","v":0.08},{"$f":"IF(V11=0,0,(V11*((LOG(V11))/LOG(2))))","v":-0.29150849518197797},null,{"$f":"N11","v":11211},{"$f":"COUNTIF(L32:L56,Y11)","v":0},{"$f":"Z11/(AB4-Z25)","v":0},{"$f":"IF(AA11=0,0,(AA11*((LOG(AA11))/LOG(2))))","v":0},null,{"$f":"N11","v":11211},{"$f":"COUNTIF(L57:L80,AD11)","v":2},{"$f":"AE11/(AG4-AE25)","v":8.6956521739130432E-2},{"$f":"IF(AF11=0,0,(AF11*((LOG(AF11))/LOG(2))))","v":-0.30639669183104457},null,{"$f":"N11","v":11211},{"$f":"COUNTIF(L81:L105,AI11)","v":0},{"$f":"AJ11/(AL4-AJ25)","v":0},{"$f":"IF(AK11=0,0,(AK11*((LOG(AK11))/LOG(2))))","v":0},null,{"$f":"N11","v":11211},{"$f":"COUNTIF(L106:L130,AN11)","v":0},{"$f":"AO11/(AQ4-AO25)","v":0},{"$f":"IF(AP11=0,0,(AP11*((LOG(AP11))/LOG(2))))","v":0},null,{"$f":"N11","v":11211},{"$f":"COUNTIF(L131:L155,AS11)","v":1},{"$f":"AT11/(AV4-AT25)","v":4.3478260869565216E-2},{"$f":"IF(AU11=0,0,(AU11*((LOG(AU11))/LOG(2))))","v":-0.19667660678508753}]
[21,922,22,938,13,947,14,951,13,958,0,22111,null,11212,{"$f":"COUNTIF($L$7:$L$500,N12)","v":9},{"$f":"O12/$Q$4","v":6.0402684563758392E-2},{"$f":"IF(P12=0,0,(P12*((LOG(P12))/LOG(2))))","v":-0.24458517900119894},null,null,{"$f":"N12","v":11212},{"$f":"COUNTIF(L7:L31,T12)","v":0},{"$f":"U12/(W4-U25)","v":0},{"$f":"IF(V12=0,0,(V12*((LOG(V12))/LOG(2))))","v":0},null,{"$f":"N12","v":11212},{"$f":"COUNTIF(L32:L56,Y12)","v":1},{"$f":"Z12/(AB4-Z25)","v":0.04},{"$f":"IF(AA12=0,0,(AA12*((LOG(AA12))/LOG(2))))","v":-0.18575424759098899},null,{"$f":"N12","v":11212},{"$f":"COUNTIF(L57:L80,AD12)","v":0},{"$f":"AE12/(AG4-AE25)","v":0},{"$f":"IF(AF12=0,0,(AF12*((LOG(AF12))/LOG(2))))","v":0},null,{"$f":"N12","v":11212},{"$f":"COUNTIF(L81:L105,AI12)","v":1},{"$f":"AJ12/(AL4-AJ25)","v":4.1666666666666664E-2},{"$f":"IF(AK12=0,0,(AK12*((LOG(AK12))/LOG(2))))","v":-0.19104010419671485},null,{"$f":"N12","v":11212},{"$f":"COUNTIF(L106:L130,AN12)","v":2},{"$f":"AO12/(AQ4-AO25)","v":8.3333333333333329E-2},{"$f":"IF(AP12=0,0,(AP12*((LOG(AP12))/LOG(2))))","v":-0.29874687506009634},null,{"$f":"N12","v":11212},{"$f":"COUNTIF(L131:L155,AS12)","v":5},{"$f":"AT12/(AV4-AT25)","v":0.21739130434782608},{"$f":"IF(AU12=0,0,(AU12*((LOG(AU12))/LOG(2))))","v":-0.47861605677601093}]
[21,1062,22,1078,13,1088,14,1093,24,1103,0,22112,null,11221,{"$f":"COUNTIF($L$7:$L$500,N13)","v":1},{"$f":"O13/$Q$4","v":6.7114093959731542E-3},{"$f":"IF(P13=0,0,(P13*((LOG(P13))/LOG(2))))","v":-4.8450795439343365E-2},null,null,{"$f":"N13","v":11221},{"$f":"COUNTIF(L7:L31,T13)","v":0},{"$f":"U13/(W4-U25)","v":0},{"$f":"IF(V13=0,0,(V13*((LOG(V13))/LOG(2))))","v":0},null,{"$f":"N13","v":11221},{"$f":"COUNTIF(L32:L56,Y13)","v":0},{"$f":"Z13/(AB4-Z25)","v":0},{"$f":"IF(AA13=0,0,(AA13*((LOG(AA13))/LOG(2))))","v":0},null,{"$f":"N13","v":11221},{"$f":"COUNTIF(L57:L80,AD13)","v":0},{"$f":"AE13/(AG4-AE25)","v":0},{"$f":"IF(AF13=0,0,(AF13*((LOG(AF13))/LOG(2))))","v":0},null,{"$f":"N13","v":11221},{"$f":"COUNTIF(L81:L105,AI13)","v":0},{"$f":"AJ13/(AL4-AJ25)","v":0},{"$f":"IF(AK13=0,0,(AK13*((LOG(AK13))/LOG(2))))","v":0},null,{"$f":"N13","v":11221},{"$f":"COUNTIF(L106:L130,AN13)","v":0},{"$f":"AO13/(AQ4-AO25)","v":0},{"$f":"IF(AP13=0,0,(AP13*((LOG(AP13))/LOG(2))))","v":0},null,{"$f":"N13","v":11221},{"$f":"COUNTIF(L131:L155,AS13)","v":1},{"$f":"AT13/(AV4-AT25)","v":4.3478260869565216E-2},{"$f":"IF(AU13=0,0,(AU13*((LOG(AU13))/LOG(2))))","v":-0.19667660678508753}]
[12,1262,13,1272,13,1282,14,1291,13,1301,0,11111,null,11222,{"$f":"COUNTIF($L$7:$L$500,N14)","v":0},{"$f":"O14/$Q$4","v":0},{"$f":"IF(P14=0,0,(P14*((LOG(P14))/LOG(2))))","v":0},null,null,{"$f":"N14","v":11222},{"$f":"COUNTIF(L7:L31,T14)","v":0},{"$f":"U14/(W4-U25)","v":0},{"$f":"IF(V14=0,0,(V14*((LOG(V14))/LOG(2))))","v":0},null,{"$f":"N14","v":11222},{"$f":"COUNTIF(L32:L56,Y14)","v":0},{"$f":"Z14/(AB4-Z25)","v":0},{"$f":"IF(AA14=0,0,(AA14*((LOG(AA14))/LOG(2))))","v":0},null,{"$f":"N14","v":11222},{"$f":"COUNTIF(L57:L80,AD14)","v":0},{"$f":"AE14/(AG4-AE25)","v":0},{"$f":"IF(AF14=0,0,(AF14*((LOG(AF14))/LOG(2))))","v":0},null,{"$f":"N14","v":11222},{"$f":"COUNTIF(L81:L105,AI14)","v":0},{"$f":"AJ14/(AL4-AJ25)","v":0},{"$f":"IF(AK14=0,0,(AK14*((LOG(AK14))/LOG(2))))","v":0},null,{"$f":"N14","v":11222},{"$f":"COUNTIF(L106:L130,AN14)","v":0},{"$f":"AO14/(AQ4-AO25)","v":0},{"$f":"IF(AP14=0,0,(AP14*((LOG(AP14))/LOG(2))))","v":0},null,{"$f":"N14","v":11222},{"$f":"COUNTIF(L131:L155,AS14)","v":0},{"$f":"AT14/(AV4-AT25)","v":0},{"$f":"IF(AU14=0,0,(AU14*((LOG(AU14))/LOG(2))))","v":0}]
[21,1427,11,1439,11,1443,12,1448,13,1469,0,21111,null,12111,{"$f":"COUNTIF($L$7:$L$500,N15)","v":0},{"$f":"O15/$Q$4","v":0},{"$f":"IF(P15=0,0,(P15*((LOG(P15))/LOG(2))))","v":0},null,null,{"$f":"N15","v":12111},{"$f":"COUNTIF(L7:L31,T15)","v":0},{"$f":"U15/(W4-U25)","v":0},{"$f":"IF(V15=0,0,(V15*((LOG(V15))/LOG(2))))","v":0},null,{"$f":"N15","v":12111},{"$f":"COUNTIF(L32:L56,Y15)","v":0},{"$f":"Z15/(AB4-Z25)","v":0},{"$f":"IF(AA15=0,0,(AA15*((LOG(AA15))/LOG(2))))","v":0},null,{"$f":"N15","v":12111},{"$f":"COUNTIF(L57:L80,AD15)","v":0},{"$f":"AE15/(AG4-AE25)","v":0},{"$f":"IF(AF15=0,0,(AF15*((LOG(AF15))/LOG(2))))","v":0},null,{"$f":"N15","v":12111},{"$f":"COUNTIF(L81:L105,AI15)","v":0},{"$f":"AJ15/(AL4-AJ25)","v":0},{"$f":"IF(AK15=0,0,(AK15*((LOG(AK15))/LOG(2))))","v":0},null,{"$f":"N15","v":12111},{"$f":"COUNTIF(L106:L130,AN15)","v":0},{"$f":"AO15/(AQ4-AO25)","v":0},{"$f":"IF(AP15=0,0,(AP15*((LOG(AP15))/LOG(2))))","v":0},null,{"$f":"N15","v":12111},{"$f":"COUNTIF(L131:L155,AS15)","v":0},{"$f":"AT15/(AV4-AT25)","v":0},{"$f":"IF(AU15=0,0,(AU15*((LOG(AU15))/LOG(2))))","v":0}]
[21,1585,22,1591,13,1603,14,1609,13,1614,0,22111,null,12112,{"$f":"COUNTIF($L$7:$L$500,N16)","v":3},{"$f":"O16/$Q$4","v":2.0134228187919462E-2},{"$f":"IF(P16=0,0,(P16*((LOG(P16))/LOG(2))))","v":-0.11344038965921487},null,null,{"$f":"N16","v":12112},{"$f":"COUNTIF(L7:L31,T16)","v":0},{"$f":"U16/(W4-U25)","v":0},{"$f":"IF(V16=0,0,(V16*((LOG(V16))/LOG(2))))","v":0},null,{"$f":"N16","v":12112},{"$f":"COUNTIF(L32:L56,Y16)","v":1},{"$f":"Z16/(AB4-Z25)","v":0.04},{"$f":"IF(AA16=0,0,(AA16*((LOG(AA16))/LOG(2))))","v":-0.18575424759098899},null,{"$f":"N16","v":12112},{"$f":"COUNTIF(L57:L80,AD16)","v":0},{"$f":"AE16/(AG4-AE25)","v":0},{"$f":"IF(AF16=0,0,(AF16*((LOG(AF16))/LOG(2))))","v":0},null,{"$f":"N16","v":12112},{"$f":"COUNTIF(L81:L105,AI16)","v":1},{"$f":"AJ16/(AL4-AJ25)","v":4.1666666666666664E-2},{"$f":"IF(AK16=0,0,(AK16*((LOG(AK16))/LOG(2))))","v":-0.19104010419671485},null,{"$f":"N16","v":12112},{"$f":"COUNTIF(L106:L130,AN16)","v":1},{"$f":"AO16/(AQ4-AO25)","v":4.1666666666666664E-2},{"$f":"IF(AP16=0,0,(AP16*((LOG(AP16))/LOG(2))))","v":-0.19104010419671485},null,{"$f":"N16","v":12112},{"$f":"COUNTIF(L131:L155,AS16)","v":0},{"$f":"AT16/(AV4-AT25)","v":0},{"$f":"IF(AU16=0,0,(AU16*((LOG(AU16))/LOG(2))))","v":0}]
[21,1736,22,1744,13,1755,14,1763,13,1772,0,22111,null,12121,{"$f":"COUNTIF($L$7:$L$500,N17)","v":17},{"$f":"O17/$Q$4","v":0.11409395973154363},{"$f":"IF(P17=0,0,(P17*((LOG(P17))/LOG(2))))","v":-0.35730870165504008},null,null,{"$f":"N17","v":12121},{"$f":"COUNTIF(L7:L31,T17)","v":1},{"$f":"U17/(W4-U25)","v":0.04},{"$f":"IF(V17=0,0,(V17*((LOG(V17))/LOG(2))))","v":-0.18575424759098899},null,{"$f":"N17","v":12121},{"$f":"COUNTIF(L32:L56,Y17)","v":1},{"$f":"Z17/(AB4-Z25)","v":0.04},{"$f":"IF(AA17=0,0,(AA17*((LOG(AA17))/LOG(2))))","v":-0.18575424759098899},null,{"$f":"N17","v":12121},{"$f":"COUNTIF(L57:L80,AD17)","v":1},{"$f":"AE17/(AG4-AE25)","v":4.3478260869565216E-2},{"$f":"IF(AF17=0,0,(AF17*((LOG(AF17))/LOG(2))))","v":-0.19667660678508753},null,{"$f":"N17","v":12121},{"$f":"COUNTIF(L81:L105,AI17)","v":5},{"$f":"AJ17/(AL4-AJ25)","v":0.20833333333333334},{"$f":"IF(AK17=0,0,(AK17*((LOG(AK17))/LOG(2))))","v":-0.47146550121537367},null,{"$f":"N17","v":12121},{"$f":"COUNTIF(L106:L130,AN17)","v":6},{"$f":"AO17/(AQ4-AO25)","v":0.25},{"$f":"IF(AP17=0,0,(AP17*((LOG(AP17))/LOG(2))))","v":-0.5},null,{"$f":"N17","v":12121},{"$f":"COUNTIF(L131:L155,AS17)","v":3},{"$f":"AT17/(AV4-AT25)","v":0.13043478260869565},{"$f":"IF(AU17=0,0,(AU17*((LOG(AU17))/LOG(2))))","v":-0.3832955811307639}]
[21,1906,11,1916,11,1923,12,1931,13,1940,0,21111,null,12122,{"$f":"COUNTIF($L$7:$L$500,N18)","v":1},{"$f":"O18/$Q$4","v":6.7114093959731542E-3},{"$f":"IF(P18=0,0,(P18*((LOG(P18))/LOG(2))))","v":-4.8450795439343365E-2},null,null,{"$f":"N18","v":12122},{"$f":"COUNTIF(L7:L31,T18)","v":0},{"$f":"U18/(W4-U25)","v":0},{"$f":"IF(V18=0,0,(V18*((LOG(V18))/LOG(2))))","v":0},null,{"$f":"N18","v":12122},{"$f":"COUNTIF(L32:L56,Y18)","v":0},{"$f":"Z18/(AB4-Z25)","v":0},{"$f":"IF(AA18=0,0,(AA18*((LOG(AA18))/LOG(2))))","v":0},null,{"$f":"N18","v":12122},{"$f":"COUNTIF(L57:L80,AD18)","v":0},{"$f":"AE18/(AG4-AE25)","v":0},{"$f":"IF(AF18=0,0,(AF18*((LOG(AF18))/LOG(2))))","v":0},null,{"$f":"N18","v":12122},{"$f":"COUNTIF(L81:L105,AI18)","v":0},{"$f":"AJ18/(AL4-AJ25)","v":0},{"$f":"IF(AK18=0,0,(AK18*((LOG(AK18))/LOG(2))))","v":0},null,{"$f":"N18","v":12122},{"$f":"COUNTIF(L106:L130,AN18)","v":0},{"$f":"AO18/(AQ4-AO25)","v":0},{"$f":"IF(AP18=0,0,(AP18*((LOG(AP18))/LOG(2))))","v":0},null,{"$f":"N18","v":12122},{"$f":"COUNTIF(L131:L155,AS18)","v":1},{"$f":"AT18/(AV4-AT25)","v":4.3478260869565216E-2},{"$f":"IF(AU18=0,0,(AU18*((LOG(AU18))/LOG(2))))","v":-0.19667660678508753}]
[12,2060,13,2065,24,2075,14,2085,13,2094,0,11211,null,12211,{"$f":"COUNTIF($L$7:$L$500,N19)","v":1},{"$f":"O19/$Q$4","v":6.7114093959731542E-3},{"$f":"IF(P19=0,0,(P19*((LOG(P19))/LOG(2))))","v":-4.8450795439343365E-2},null,null,{"$f":"N19","v":12211},{"$f":"COUNTIF(L7:L31,T19)","v":0},{"$f":"U19/(W4-U25)","v":0},{"$f":"IF(V19=0,0,(V19*((LOG(V19))/LOG(2))))","v":0},null,{"$f":"N19","v":12211},{"$f":"COUNTIF(L32:L56,Y19)","v":0},{"$f":"Z19/(AB4-Z25)","v":0},{"$f":"IF(AA19=0,0,(AA19*((LOG(AA19))/LOG(2))))","v":0},null,{"$f":"N19","v":12211},{"$f":"COUNTIF(L57:L80,AD19)","v":0},{"$f":"AE19/(AG4-AE25)","v":0},{"$f":"IF(AF19=0,0,(AF19*((LOG(AF19))/LOG(2))))","v":0},null,{"$f":"N19","v":12211},{"$f":"COUNTIF(L81:L105,AI19)","v":1},{"$f":"AJ19/(AL4-AJ25)","v":4.1666666666666664E-2},{"$f":"IF(AK19=0,0,(AK19*((LOG(AK19))/LOG(2))))","v":-0.19104010419671485},null,{"$f":"N19","v":12211},{"$f":"COUNTIF(L106:L130,AN19)","v":0},{"$f":"AO19/(AQ4-AO25)","v":0},{"$f":"IF(AP19=0,0,(AP19*((LOG(AP19))/LOG(2))))","v":0},null,{"$f":"N19","v":12211},{"$f":"COUNTIF(L131:L155,AS19)","v":0},{"$f":"AT19/(AV4-AT25)","v":0},{"$f":"IF(AU19=0,0,(AU19*((LOG(AU19))/LOG(2))))","v":0}]
[21,2222,22,2227,13,2236,14,2244,13,2250,0,22111,null,12212,{"$f":"COUNTIF($L$7:$L$500,N20)","v":6},{"$f":"O20/$Q$4","v":4.0268456375838924E-2},{"$f":"IF(P20=0,0,(P20*((LOG(P20))/LOG(2))))","v":-0.18661232294259081},null,null,{"$f":"N20","v":12212},{"$f":"COUNTIF(L7:L31,T20)","v":0},{"$f":"U20/(W4-U25)","v":0},{"$f":"IF(V20=0,0,(V20*((LOG(V20))/LOG(2))))","v":0},null,{"$f":"N20","v":12212},{"$f":"COUNTIF(L32:L56,Y20)","v":0},{"$f":"Z20/(AB4-Z25)","v":0},{"$f":"IF(AA20=0,0,(AA20*((LOG(AA20))/LOG(2))))","v":0},null,{"$f":"N20","v":12212},{"$f":"COUNTIF(L57:L80,AD20)","v":1},{"$f":"AE20/(AG4-AE25)","v":4.3478260869565216E-2},{"$f":"IF(AF20=0,0,(AF20*((LOG(AF20))/LOG(2))))","v":-0.19667660678508753},null,{"$f":"N20","v":12212},{"$f":"COUNTIF(L81:L105,AI20)","v":2},{"$f":"AJ20/(AL4-AJ25)","v":8.3333333333333329E-2},{"$f":"IF(AK20=0,0,(AK20*((LOG(AK20))/LOG(2))))","v":-0.29874687506009634},null,{"$f":"N20","v":12212},{"$f":"COUNTIF(L106:L130,AN20)","v":1},{"$f":"AO20/(AQ4-AO25)","v":4.1666666666666664E-2},{"$f":"IF(AP20=0,0,(AP20*((LOG(AP20))/LOG(2))))","v":-0.19104010419671485},null,{"$f":"N20","v":12212},{"$f":"COUNTIF(L131:L155,AS20)","v":2},{"$f":"AT20/(AV4-AT25)","v":8.6956521739130432E-2},{"$f":"IF(AU20=0,0,(AU20*((LOG(AU20))/LOG(2))))","v":-0.30639669183104457}]
[21,2374,11,2386,11,2392,12,2400,13,2425,0,21111,null,12221,{"$f":"COUNTIF($L$7:$L$500,N21)","v":1},{"$f":"O21/$Q$4","v":6.7114093959731542E-3},{"$f":"IF(P21=0,0,(P21*((LOG(P21))/LOG(2))))","v":-4.8450795439343365E-2},null,null,{"$f":"N21","v":12221},{"$f":"COUNTIF(L7:L31,T21)","v":0},{"$f":"U21/(W4-U25)","v":0},{"$f":"IF(V21=0,0,(V21*((LOG(V21))/LOG(2))))","v":0},null,{"$f":"N21","v":12221},{"$f":"COUNTIF(L32:L56,Y21)","v":0},{"$f":"Z21/(AB4-Z25)","v":0},{"$f":"IF(AA21=0,0,(AA21*((LOG(AA21))/LOG(2))))","v":0},null,{"$f":"N21","v":12221},{"$f":"COUNTIF(L57:L80,AD21)","v":0},{"$f":"AE21/(AG4-AE25)","v":0},{"$f":"IF(AF21=0,0,(AF21*((LOG(AF21))/LOG(2))))","v":0},null,{"$f":"N21","v":12221},{"$f":"COUNTIF(L81:L105,AI21)","v":0},{"$f":"AJ21/(AL4-AJ25)","v":0},{"$f":"IF(AK21=0,0,(AK21*((LOG(AK21))/LOG(2))))","v":0},null,{"$f":"N21","v":12221},{"$f":"COUNTIF(L106:L130,AN21)","v":0},{"$f":"AO21/(AQ4-AO25)","v":0},{"$f":"IF(AP21=0,0,(AP21*((LOG(AP21))/LOG(2))))","v":0},null,{"$f":"N21","v":12221},{"$f":"COUNTIF(L131:L155,AS21)","v":1},{"$f":"AT21/(AV4-AT25)","v":4.3478260869565216E-2},{"$f":"IF(AU21=0,0,(AU21*((LOG(AU21))/LOG(2))))","v":-0.19667660678508753}]
[21,2537,22,2542,13,2552,23,2561,24,2586,0,22122,null,12222,{"$f":"COUNTIF($L$7:$L$500,N22)","v":0},{"$f":"O22/$Q$4","v":0},{"$f":"IF(P22=0,0,(P22*((LOG(P22))/LOG(2))))","v":0},null,null,{"$f":"N22","v":12222},{"$f":"COUNTIF(L7:L31,T22)","v":0},{"$f":"U22/(W4-U25)","v":0},{"$f":"IF(V22=0,0,(V22*((LOG(V22))/LOG(2))))","v":0},null,{"$f":"N22","v":12222},{"$f":"COUNTIF(L32:L56,Y22)","v":0},{"$f":"Z22/(AB4-Z25)","v":0},{"$f":"IF(AA22=0,0,(AA22*((LOG(AA22))/LOG(2))))","v":0},null,{"$f":"N22","v":12222},{"$f":"COUNTIF(L57:L80,AD22)","v":0},{"$f":"AE22/(AG4-AE25)","v":0},{"$f":"IF(AF22=0,0,(AF22*((LOG(AF22))/LOG(2))))","v":0},null,{"$f":"N22","v":12222},{"$f":"COUNTIF(L81:L105,AI22)","v":0},{"$f":"AJ22/(AL4-AJ25)","v":0},{"$f":"IF(AK22=0,0,(AK22*((LOG(AK22))/LOG(2))))","v":0},null,{"$f":"N22","v":12222},{"$f":"COUNTIF(L106:L130,AN22)","v":0},{"$f":"AO22/(AQ4-AO25)","v":0},{"$f":"IF(AP22=0,0,(AP22*((LOG(AP22))/LOG(2))))","v":0},null,{"$f":"N22","v":12222},{"$f":"COUNTIF(L131:L155,AS22)","v":0},{"$f":"AT22/(AV4-AT25)","v":0},{"$f":"IF(AU22=0,0,(AU22*((LOG(AU22))/LOG(2))))","v":0}]
[21,2695,22,2713,13,2722,14,2730,13,2737,0,22111,null,21111,{"$f":"COUNTIF($L$7:$L$500,N23)","v":6},{"$f":"O23/$Q$4","v":4.0268456375838924E-2},{"$f":"IF(P23=0,0,(P23*((LOG(P23))/LOG(2))))","v":-0.18661232294259081},null,null,{"$f":"N23","v":21111},{"$f":"COUNTIF(L7:L31,T23)","v":4},{"$f":"U23/(W4-U25)","v":0.16},{"$f":"IF(V23=0,0,(V23*((LOG(V23))/LOG(2))))","v":-0.42301699036395596},null,{"$f":"N23","v":21111},{"$f":"COUNTIF(L32:L56,Y23)","v":2},{"$f":"Z23/(AB4-Z25)","v":0.08},{"$f":"IF(AA23=0,0,(AA23*((LOG(AA23))/LOG(2))))","v":-0.29150849518197797},null,{"$f":"N23","v":21111},{"$f":"COUNTIF(L57:L80,AD23)","v":0},{"$f":"AE23/(AG4-AE25)","v":0},{"$f":"IF(AF23=0,0,(AF23*((LOG(AF23))/LOG(2))))","v":0},null,{"$f":"N23","v":21111},{"$f":"COUNTIF(L81:L105,AI23)","v":0},{"$f":"AJ23/(AL4-AJ25)","v":0},{"$f":"IF(AK23=0,0,(AK23*((LOG(AK23))/LOG(2))))","v":0},null,{"$f":"N23","v":21111},{"$f":"COUNTIF(L106:L130,AN23)","v":0},{"$f":"AO23/(AQ4-AO25)","v":0},{"$f":"IF(AP23=0,0,(AP23*((LOG(AP23))/LOG(2))))","v":0},null,{"$f":"N23","v":21111},{"$f":"COUNTIF(L131:L155,AS23)","v":0},{"$f":"AT23/(AV4-AT25)","v":0},{"$f":"IF(AU23=0,0,(AU23*((LOG(AU23))/LOG(2))))","v":0}]
[21,2859,11,2877,22,2890,14,2902,13,2920,0,21211,null,21112,{"$f":"COUNTIF($L$7:$L$500,N24)","v":2},{"$f":"O24/$Q$4","v":1.3422818791946308E-2},{"$f":"IF(P24=0,0,(P24*((LOG(P24))/LOG(2))))","v":-8.3478772086740413E-2},null,null,{"$f":"N24","v":21112},{"$f":"COUNTIF(L7:L31,T24)","v":1},{"$f":"U24/(W4-U25)","v":0.04},{"$f":"IF(V24=0,0,(V24*((LOG(V24))/LOG(2))))","v":-0.18575424759098899},null,{"$f":"N24","v":21112},{"$f":"COUNTIF(L32:L56,Y24)","v":1},{"$f":"Z24/(AB4-Z25)","v":0.04},{"$f":"IF(AA24=0,0,(AA24*((LOG(AA24))/LOG(2))))","v":-0.18575424759098899},null,{"$f":"N24","v":21112},{"$f":"COUNTIF(L57:L80,AD24)","v":0},{"$f":"AE24/(AG4-AE25)","v":0},{"$f":"IF(AF24=0,0,(AF24*((LOG(AF24))/LOG(2))))","v":0},null,{"$f":"N24","v":21112},{"$f":"COUNTIF(L81:L105,AI24)","v":0},{"$f":"AJ24/(AL4-AJ25)","v":0},{"$f":"IF(AK24=0,0,(AK24*((LOG(AK24))/LOG(2))))","v":0},null,{"$f":"N24","v":21112},{"$f":"COUNTIF(L106:L130,AN24)","v":0},{"$f":"AO24/(AQ4-AO25)","v":0},{"$f":"IF(AP24=0,0,(AP24*((LOG(AP24))/LOG(2))))","v":0},null,{"$f":"N24","v":21112},{"$f":"COUNTIF(L131:L155,AS24)","v":0},{"$f":"AT24/(AV4-AT25)","v":0},{"$f":"IF(AU24=0,0,(AU24*((LOG(AU24))/LOG(2))))","v":0}]
[21,3036,22,3056,13,3071,14,3076,13,3084,0,22111,null,21121,{"$f":"COUNTIF($L$7:$L$500,N25)","v":5},{"$f":"O25/$Q$4","v":3.3557046979865772E-2},{"$f":"IF(P25=0,0,(P25*((LOG(P25))/LOG(2))))","v":-0.16433692703271138},null,null,{"$f":"N25","v":21121},{"$f":"COUNTIF(L7:L31,T25)","v":0},null,null,null,{"$f":"N25","v":21121},{"$f":"COUNTIF(L32:L56,Y25)","v":0},null,null,null,{"$f":"N25","v":21121},{"$f":"COUNTIF(L57:L80,AD25)","v":1},null,null,null,{"$f":"N25","v":21121},{"$f":"COUNTIF(L81:L105,AI25)","v":1},null,null,null,{"$f":"N25","v":21121},{"$f":"COUNTIF(L106:L130,AN25)","v":1},null,null,null,{"$f":"N25","v":21121},{"$f":"COUNTIF(L131:L155,AS25)","v":2}]
[21,3207,22,3227,13,3239,14,3249,13,3258,0,22111,null,21122,{"$f":"COUNTIF($L$7:$L$500,N26)","v":0},{"$f":"O26/$Q$4","v":0},{"$f":"IF(P26=0,0,(P26*((LOG(P26))/LOG(2))))","v":0},null,null,{"$f":"N26","v":21122},{"$f":"COUNTIF(L7:L31,T26)","v":0},{"$f":"U26/(W4-U25)","v":0},{"$f":"IF(V26=0,0,(V26*((LOG(V26))/LOG(2))))","v":0},null,{"$f":"N26","v":21122},{"$f":"COUNTIF(L32:L56,Y26)","v":0},{"$f":"Z26/(AB4-Z25)","v":0},{"$f":"IF(AA26=0,0,(AA26*((LOG(AA26))/LOG(2))))","v":0},null,{"$f":"N26","v":21122},{"$f":"COUNTIF(L57:L80,AD26)","v":0},{"$f":"AE26/(AG4-AE25)","v":0},{"$f":"IF(AF26=0,0,(AF26*((LOG(AF26))/LOG(2))))","v":0},null,{"$f":"N26","v":21122},{"$f":"COUNTIF(L81:L105,AI26)","v":0},{"$f":"AJ26/(AL4-AJ25)","v":0},{"$f":"IF(AK26=0,0,(AK26*((LOG(AK26))/LOG(2))))","v":0},null,{"$f":"N26","v":21122},{"$f":"COUNTIF(L106:L130,AN26)","v":0},{"$f":"AO26/(AQ4-AO25)","v":0},{"$f":"IF(AP26=0,0,(AP26*((LOG(AP26))/LOG(2))))","v":0},null,{"$f":"N26","v":21122},{"$f":"COUNTIF(L131:L155,AS26)","v":0},{"$f":"AT26/(AV4-AT25)","v":0},{"$f":"IF(AU26=0,0,(AU26*((LOG(AU26))/LOG(2))))","v":0}]
[21,3365,22,3379,13,3392,14,3398,13,3406,0,22111,null,21211,{"$f":"COUNTIF($L$7:$L$500,N27)","v":4},{"$f":"O27/$Q$4","v":2.6845637583892617E-2},{"$f":"IF(P27=0,0,(P27*((LOG(P27))/LOG(2))))","v":-0.14011190658958825},null,null,{"$f":"N27","v":21211},{"$f":"COUNTIF(L7:L31,T27)","v":1},{"$f":"U27/(W4-U25)","v":0.04},{"$f":"IF(V27=0,0,(V27*((LOG(V27))/LOG(2))))","v":-0.18575424759098899},null,{"$f":"N27","v":21211},{"$f":"COUNTIF(L32:L56,Y27)","v":1},{"$f":"Z27/(AB4-Z25)","v":0.04},{"$f":"IF(AA27=0,0,(AA27*((LOG(AA27))/LOG(2))))","v":-0.18575424759098899},null,{"$f":"N27","v":21211},{"$f":"COUNTIF(L57:L80,AD27)","v":0},{"$f":"AE27/(AG4-AE25)","v":0},{"$f":"IF(AF27=0,0,(AF27*((LOG(AF27))/LOG(2))))","v":0},null,{"$f":"N27","v":21211},{"$f":"COUNTIF(L81:L105,AI27)","v":0},{"$f":"AJ27/(AL4-AJ25)","v":0},{"$f":"IF(AK27=0,0,(AK27*((LOG(AK27))/LOG(2))))","v":0},null,{"$f":"N27","v":21211},{"$f":"COUNTIF(L106:L130,AN27)","v":2},{"$f":"AO27/(AQ4-AO25)","v":8.3333333333333329E-2},{"$f":"IF(AP27=0,0,(AP27*((LOG(AP27))/LOG(2))))","v":-0.29874687506009634},null,{"$f":"N27","v":21211},{"$f":"COUNTIF(L131:L155,AS27)","v":0},{"$f":"AT27/(AV4-AT25)","v":0},{"$f":"IF(AU27=0,0,(AU27*((LOG(AU27))/LOG(2))))","v":0}]
[21,3519,22,3525,13,3537,23,3548,13,3559,0,22121,null,21212,{"$f":"COUNTIF($L$7:$L$500,N28)","v":10},{"$f":"O28/$Q$4","v":6.7114093959731544E-2},{"$f":"IF(P28=0,0,(P28*((LOG(P28))/LOG(2))))","v":-0.26155976010569121},null,null,{"$f":"N28","v":21212},{"$f":"COUNTIF(L7:L31,T28)","v":0},{"$f":"U28/(W4-U25)","v":0},{"$f":"IF(V28=0,0,(V28*((LOG(V28))/LOG(2))))","v":0},null,{"$f":"N28","v":21212},{"$f":"COUNTIF(L32:L56,Y28)","v":0},{"$f":"Z28/(AB4-Z25)","v":0},{"$f":"IF(AA28=0,0,(AA28*((LOG(AA28))/LOG(2))))","v":0},null,{"$f":"N28","v":21212},{"$f":"COUNTIF(L57:L80,AD28)","v":4},{"$f":"AE28/(AG4-AE25)","v":0.17391304347826086},{"$f":"IF(AF28=0,0,(AF28*((LOG(AF28))/LOG(2))))","v":-0.43888034018382832},null,{"$f":"N28","v":21212},{"$f":"COUNTIF(L81:L105,AI28)","v":2},{"$f":"AJ28/(AL4-AJ25)","v":8.3333333333333329E-2},{"$f":"IF(AK28=0,0,(AK28*((LOG(AK28))/LOG(2))))","v":-0.29874687506009634},null,{"$f":"N28","v":21212},{"$f":"COUNTIF(L106:L130,AN28)","v":2},{"$f":"AO28/(AQ4-AO25)","v":8.3333333333333329E-2},{"$f":"IF(AP28=0,0,(AP28*((LOG(AP28))/LOG(2))))","v":-0.29874687506009634},null,{"$f":"N28","v":21212},{"$f":"COUNTIF(L131:L155,AS28)","v":2},{"$f":"AT28/(AV4-AT25)","v":8.6956521739130432E-2},{"$f":"IF(AU28=0,0,(AU28*((LOG(AU28))/LOG(2))))","v":-0.30639669183104457}]
[21,3671,22,3679,13,3692,14,3697,13,3701,0,22111,null,21221,{"$f":"COUNTIF($L$7:$L$500,N29)","v":2},{"$f":"O29/$Q$4","v":1.3422818791946308E-2},{"$f":"IF(P29=0,0,(P29*((LOG(P29))/LOG(2))))","v":-8.3478772086740413E-2},null,null,{"$f":"N29","v":21221},{"$f":"COUNTIF(L7:L31,T29)","v":0},{"$f":"U29/(W4-U25)","v":0},{"$f":"IF(V29=0,0,(V29*((LOG(V29))/LOG(2))))","v":0},null,{"$f":"N29","v":21221},{"$f":"COUNTIF(L32:L56,Y29)","v":0},{"$f":"Z29/(AB4-Z25)","v":0},{"$f":"IF(AA29=0,0,(AA29*((LOG(AA29))/LOG(2))))","v":0},null,{"$f":"N29","v":21221},{"$f":"COUNTIF(L57:L80,AD29)","v":0},{"$f":"AE29/(AG4-AE25)","v":0},{"$f":"IF(AF29=0,0,(AF29*((LOG(AF29))/LOG(2))))","v":0},null,{"$f":"N29","v":21221},{"$f":"COUNTIF(L81:L105,AI29)","v":1},{"$f":"AJ29/(AL4-AJ25)","v":4.1666666666666664E-2},{"$f":"IF(AK29=0,0,(AK29*((LOG(AK29))/LOG(2))))","v":-0.19104010419671485},null,{"$f":"N29","v":21221},{"$f":"COUNTIF(L106:L130,AN29)","v":1},{"$f":"AO29/(AQ4-AO25)","v":4.1666666666666664E-2},{"$f":"IF(AP29=0,0,(AP29*((LOG(AP29))/LOG(2))))","v":-0.19104010419671485},null,{"$f":"N29","v":21221},{"$f":"COUNTIF(L131:L155,AS29)","v":0},{"$f":"AT29/(AV4-AT25)","v":0},{"$f":"IF(AU29=0,0,(AU29*((LOG(AU29))/LOG(2))))","v":0}]
[12,3802,13,3806,13,3811,23,3821,13,3832,0,11121,null,21222,{"$f":"COUNTIF($L$7:$L$500,N30)","v":0},{"$f":"O30/$Q$4","v":0},{"$f":"IF(P30=0,0,(P30*((LOG(P30))/LOG(2))))","v":0},null,null,{"$f":"N30","v":21222},{"$f":"COUNTIF(L7:L31,T30)","v":0},{"$f":"U30/(W4-U25)","v":0},{"$f":"IF(V30=0,0,(V30*((LOG(V30))/LOG(2))))","v":0},null,{"$f":"N30","v":21222},{"$f":"COUNTIF(L32:L56,Y30)","v":0},{"$f":"Z30/(AB4-Z25)","v":0},{"$f":"IF(AA30=0,0,(AA30*((LOG(AA30))/LOG(2))))","v":0},null,{"$f":"N30","v":21222},{"$f":"COUNTIF(L57:L80,AD30)","v":0},{"$f":"AE30/(AG4-AE25)","v":0},{"$f":"IF(AF30=0,0,(AF30*((LOG(AF30))/LOG(2))))","v":0},null,{"$f":"N30","v":21222},{"$f":"COUNTIF(L81:L105,AI30)","v":0},{"$f":"AJ30/(AL4-AJ25)","v":0},{"$f":"IF(AK30=0,0,(AK30*((LOG(AK30))/LOG(2))))","v":0},null,{"$f":"N30","v":21222},{"$f":"COUNTIF(L106:L130,AN30)","v":0},{"$f":"AO30/(AQ4-AO25)","v":0},{"$f":"IF(AP30=0,0,(AP30*((LOG(AP30))/LOG(2))))","v":0},null,{"$f":"N30","v":21222},{"$f":"COUNTIF(L131:L155,AS30)","v":0},{"$f":"AT30/(AV4-AT25)","v":0},{"$f":"IF(AU30=0,0,(AU30*((LOG(AU30))/LOG(2))))","v":0}]
[21,3958,22,3978,13,3987,14,3996,24,4008,0,22112,null,22111,{"$f":"COUNTIF($L$7:$L$500,N31)","v":14},{"$f":"O31/$Q$4","v":9.3959731543624164E-2},{"$f":"IF(P31=0,0,(P31*((LOG(P31))/LOG(2))))","v":-0.32057308978297855},null,null,{"$f":"N31","v":22111},{"$f":"COUNTIF(L7:L31,T31)","v":9},{"$f":"U31/(W4-U25)","v":0.36},{"$f":"IF(V31=0,0,(V31*((LOG(V31))/LOG(2))))","v":-0.53061522779966841},null,{"$f":"N31","v":22111},{"$f":"COUNTIF(L32:L56,Y31)","v":2},{"$f":"Z31/(AB4-Z25)","v":0.08},{"$f":"IF(AA31=0,0,(AA31*((LOG(AA31))/LOG(2))))","v":-0.29150849518197797},null,{"$f":"N31","v":22111},{"$f":"COUNTIF(L57:L80,AD31)","v":1},{"$f":"AE31/(AG4-AE25)","v":4.3478260869565216E-2},{"$f":"IF(AF31=0,0,(AF31*((LOG(AF31))/LOG(2))))","v":-0.19667660678508753},null,{"$f":"N31","v":22111},{"$f":"COUNTIF(L81:L105,AI31)","v":0},{"$f":"AJ31/(AL4-AJ25)","v":0},{"$f":"IF(AK31=0,0,(AK31*((LOG(AK31))/LOG(2))))","v":0},null,{"$f":"N31","v":22111},{"$f":"COUNTIF(L106:L130,AN31)","v":1},{"$f":"AO31/(AQ4-AO25)","v":4.1666666666666664E-2},{"$f":"IF(AP31=0,0,(AP31*((LOG(AP31))/LOG(2))))","v":-0.19104010419671485},null,{"$f":"N31","v":22111},{"$f":"COUNTIF(L131:L155,AS31)","v":1},{"$f":"AT31/(AV4-AT25)","v":4.3478260869565216E-2},{"$f":"IF(AU31=0,0,(AU31*((LOG(AU31))/LOG(2))))","v":-0.19667660678508753}]
[21,4129,22,4145,13,4154,23,4163,13,4175,0,22121,null,22112,{"$f":"COUNTIF($L$7:$L$500,N32)","v":8},{"$f":"O32/$Q$4","v":5.3691275167785234E-2},{"$f":"IF(P32=0,0,(P32*((LOG(P32))/LOG(2))))","v":-0.22653253801139125},null,null,{"$f":"N32","v":22112},{"$f":"COUNTIF(L7:L31,T32)","v":2},{"$f":"U32/(W4-U25)","v":0.08},{"$f":"IF(V32=0,0,(V32*((LOG(V32))/LOG(2))))","v":-0.29150849518197797},null,{"$f":"N32","v":22112},{"$f":"COUNTIF(L32:L56,Y32)","v":3},{"$f":"Z32/(AB4-Z25)","v":0.12},{"$f":"IF(AA32=0,0,(AA32*((LOG(AA32))/LOG(2))))","v":-0.36706724268642821},null,{"$f":"N32","v":22112},{"$f":"COUNTIF(L57:L80,AD32)","v":1},{"$f":"AE32/(AG4-AE25)","v":4.3478260869565216E-2},{"$f":"IF(AF32=0,0,(AF32*((LOG(AF32))/LOG(2))))","v":-0.19667660678508753},null,{"$f":"N32","v":22112},{"$f":"COUNTIF(L81:L105,AI32)","v":0},{"$f":"AJ32/(AL4-AJ25)","v":0},{"$f":"IF(AK32=0,0,(AK32*((LOG(AK32))/LOG(2))))","v":0},null,{"$f":"N32","v":22112},{"$f":"COUNTIF(L106:L130,AN32)","v":1},{"$f":"AO32/(AQ4-AO25)","v":4.1666666666666664E-2},{"$f":"IF(AP32=0,0,(AP32*((LOG(AP32))/LOG(2))))","v":-0.19104010419671485},null,{"$f":"N32","v":22112},{"$f":"COUNTIF(L131:L155,AS32)","v":1},{"$f":"AT32/(AV4-AT25)","v":4.3478260869565216E-2},{"$f":"IF(AU32=0,0,(AU32*((LOG(AU32))/LOG(2))))","v":-0.19667660678508753}]
[21,4295,22,4310,13,4320,14,4330,24,4342,0,22112,null,22121,{"$f":"COUNTIF($L$7:$L$500,N33)","v":28},{"$f":"O33/$Q$4","v":0.18791946308724833},{"$f":"IF(P33=0,0,(P33*((LOG(P33))/LOG(2))))","v":-0.45322671647870882},null,null,{"$f":"N33","v":22121},{"$f":"COUNTIF(L7:L31,T33)","v":2},{"$f":"U33/(W4-U25)","v":0.08},{"$f":"IF(V33=0,0,(V33*((LOG(V33))/LOG(2))))","v":-0.29150849518197797},null,{"$f":"N33","v":22121},{"$f":"COUNTIF(L32:L56,Y33)","v":8},{"$f":"Z33/(AB4-Z25)","v":0.32},{"$f":"IF(AA33=0,0,(AA33*((LOG(AA33))/LOG(2))))","v":-0.52603398072791185},null,{"$f":"N33","v":22121},{"$f":"COUNTIF(L57:L80,AD33)","v":8},{"$f":"AE33/(AG4-AE25)","v":0.34782608695652173},{"$f":"IF(AF33=0,0,(AF33*((LOG(AF33))/LOG(2))))","v":-0.52993459341113491},null,{"$f":"N33","v":22121},{"$f":"COUNTIF(L81:L105,AI33)","v":4},{"$f":"AJ33/(AL4-AJ25)","v":0.16666666666666666},{"$f":"IF(AK33=0,0,(AK33*((LOG(AK33))/LOG(2))))","v":-0.43082708345352599},null,{"$f":"N33","v":22121},{"$f":"COUNTIF(L106:L130,AN33)","v":4},{"$f":"AO33/(AQ4-AO25)","v":0.16666666666666666},{"$f":"IF(AP33=0,0,(AP33*((LOG(AP33))/LOG(2))))","v":-0.43082708345352599},null,{"$f":"N33","v":22121},{"$f":"COUNTIF(L131:L155,AS33)","v":2},{"$f":"AT33/(AV4-AT25)","v":8.6956521739130432E-2},{"$f":"IF(AU33=0,0,(AU33*((LOG(AU33))/LOG(2))))","v":-0.30639669183104457}]
[21,4458,22,4462,13,4473,14,4477,24,4487,0,22112,null,22122,{"$f":"COUNTIF($L$7:$L$500,N34)","v":1},{"$f":"O34/$Q$4","v":6.7114093959731542E-3},{"$f":"IF(P34=0,0,(P34*((LOG(P34))/LOG(2))))","v":-4.8450795439343365E-2},null,null,{"$f":"N34","v":22122},{"$f":"COUNTIF(L7:L31,T34)","v":1},{"$f":"U34/(W4-U25)","v":0.04},{"$f":"IF(V34=0,0,(V34*((LOG(V34))/LOG(2))))","v":-0.18575424759098899},null,{"$f":"N34","v":22122},{"$f":"COUNTIF(L32:L56,Y34)","v":0},{"$f":"Z34/(AB4-Z25)","v":0},{"$f":"IF(AA34=0,0,(AA34*((LOG(AA34))/LOG(2))))","v":0},null,{"$f":"N34","v":22122},{"$f":"COUNTIF(L57:L80,AD34)","v":0},{"$f":"AE34/(AG4-AE25)","v":0},{"$f":"IF(AF34=0,0,(AF34*((LOG(AF34))/LOG(2))))","v":0},null,{"$f":"N34","v":22122},{"$f":"COUNTIF(L81:L105,AI34)","v":0},{"$f":"AJ34/(AL4-AJ25)","v":0},{"$f":"IF(AK34=0,0,(AK34*((LOG(AK34))/LOG(2))))","v":0},null,{"$f":"N34","v":22122},{"$f":"COUNTIF(L106:L130,AN34)","v":0},{"$f":"AO34/(AQ4-AO25)","v":0},{"$f":"IF(AP34=0,0,(AP34*((LOG(AP34))/LOG(2))))","v":0},null,{"$f":"N34","v":22122},{"$f":"COUNTIF(L131:L155,AS34)","v":0},{"$f":"AT34/(AV4-AT25)","v":0},{"$f":"IF(AU34=0,0,(AU34*((LOG(AU34))/LOG(2))))","v":0}]
[12,4631,13,4636,13,4644,14,4651,24,4666,0,11112,null,22211,{"$f":"COUNTIF($L$7:$L$500,N35)","v":1},{"$f":"O35/$Q$4","v":6.7114093959731542E-3},{"$f":"IF(P35=0,0,(P35*((LOG(P35))/LOG(2))))","v":-4.8450795439343365E-2},null,null,{"$f":"N35","v":22211},{"$f":"COUNTIF(L7:L31,T35)","v":0},{"$f":"U35/(W4-U25)","v":0},{"$f":"IF(V35=0,0,(V35*((LOG(V35))/LOG(2))))","v":0},null,{"$f":"N35","v":22211},{"$f":"COUNTIF(L32:L56,Y35)","v":0},{"$f":"Z35/(AB4-Z25)","v":0},{"$f":"IF(AA35=0,0,(AA35*((LOG(AA35))/LOG(2))))","v":0},null,{"$f":"N35","v":22211},{"$f":"COUNTIF(L57:L80,AD35)","v":0},{"$f":"AE35/(AG4-AE25)","v":0},{"$f":"IF(AF35=0,0,(AF35*((LOG(AF35))/LOG(2))))","v":0},null,{"$f":"N35","v":22211},{"$f":"COUNTIF(L81:L105,AI35)","v":1},{"$f":"AJ35/(AL4-AJ25)","v":4.1666666666666664E-2},{"$f":"IF(AK35=0,0,(AK35*((LOG(AK35))/LOG(2))))","v":-0.19104010419671485},null,{"$f":"N35","v":22211},{"$f":"COUNTIF(L106:L130,AN35)","v":0},{"$f":"AO35/(AQ4-AO25)","v":0},{"$f":"IF(AP35=0,0,(AP35*((LOG(AP35))/LOG(2))))","v":0},null,{"$f":"N35","v":22211},{"$f":"COUNTIF(L131:L155,AS35)","v":0},{"$f":"AT35/(AV4-AT25)","v":0},{"$f":"IF(AU35=0,0,(AU35*((LOG(AU35))/LOG(2))))","v":0}]
[21,4796,11,4816,11,4827,12,4835,24,4849,0,21112,null,22212,{"$f":"COUNTIF($L$7:$L$500,N36)","v":17},{"$f":"O36/$Q$4","v":0.11409395973154363},{"$f":"IF(P36=0,0,(P36*((LOG(P36))/LOG(2))))","v":-0.35730870165504008},null,null,{"$f":"N36","v":22212},{"$f":"COUNTIF(L7:L31,T36)","v":0},{"$f":"U36/(W4-U25)","v":0},{"$f":"IF(V36=0,0,(V36*((LOG(V36))/LOG(2))))","v":0},null,{"$f":"N36","v":22212},{"$f":"COUNTIF(L32:L56,Y36)","v":3},{"$f":"Z36/(AB4-Z25)","v":0.12},{"$f":"IF(AA36=0,0,(AA36*((LOG(AA36))/LOG(2))))","v":-0.36706724268642821},null,{"$f":"N36","v":22212},{"$f":"COUNTIF(L57:L80,AD36)","v":2},{"$f":"AE36/(AG4-AE25)","v":8.6956521739130432E-2},{"$f":"IF(AF36=0,0,(AF36*((LOG(AF36))/LOG(2))))","v":-0.30639669183104457},null,{"$f":"N36","v":22212},{"$f":"COUNTIF(L81:L105,AI36)","v":6},{"$f":"AJ36/(AL4-AJ25)","v":0.25},{"$f":"IF(AK36=0,0,(AK36*((LOG(AK36))/LOG(2))))","v":-0.5},null,{"$f":"N36","v":22212},{"$f":"COUNTIF(L106:L130,AN36)","v":3},{"$f":"AO36/(AQ4-AO25)","v":0.125},{"$f":"IF(AP36=0,0,(AP36*((LOG(AP36))/LOG(2))))","v":-0.375},null,{"$f":"N36","v":22212},{"$f":"COUNTIF(L131:L155,AS36)","v":3},{"$f":"AT36/(AV4-AT25)","v":0.13043478260869565},{"$f":"IF(AU36=0,0,(AU36*((LOG(AU36))/LOG(2))))","v":-0.3832955811307639}]
[21,4957,11,4981,11,4986,12,4991,13,4995,0,21111,null,22221,{"$f":"COUNTIF($L$7:$L$500,N37)","v":0},{"$f":"O37/$Q$4","v":0},{"$f":"IF(P37=0,0,(P37*((LOG(P37))/LOG(2))))","v":0},null,null,{"$f":"N37","v":22221},{"$f":"COUNTIF(L7:L31,T37)","v":0},{"$f":"U37/(W4-U25)","v":0},{"$f":"IF(V37=0,0,(V37*((LOG(V37))/LOG(2))))","v":0},null,{"$f":"N37","v":22221},{"$f":"COUNTIF(L32:L56,Y37)","v":0},{"$f":"Z37/(AB4-Z25)","v":0},{"$f":"IF(AA37=0,0,(AA37*((LOG(AA37))/LOG(2))))","v":0},null,{"$f":"N37","v":22221},{"$f":"COUNTIF(L57:L80,AD37)","v":0},{"$f":"AE37/(AG4-AE25)","v":0},{"$f":"IF(AF37=0,0,(AF37*((LOG(AF37))/LOG(2))))","v":0},null,{"$f":"N37","v":22221},{"$f":"COUNTIF(L81:L105,AI37)","v":0},{"$f":"AJ37/(AL4-AJ25)","v":0},{"$f":"IF(AK37=0,0,(AK37*((LOG(AK37))/LOG(2))))","v":0},null,{"$f":"N37","v":22221},{"$f":"COUNTIF(L106:L130,AN37)","v":0},{"$f":"AO37/(AQ4-AO25)","v":0},{"$f":"IF(AP37=0,0,(AP37*((LOG(AP37))/LOG(2))))","v":0},null,{"$f":"N37","v":22221},{"$f":"COUNTIF(L131:L155,AS37)","v":0},{"$f":"AT37/(AV4-AT25)","v":0},{"$f":"IF(AU37=0,0,(AU37*((LOG(AU37))/LOG(2))))","v":0}]
[21,5101,22,5118,13,5130,14,5139,13,5152,0,22111,null,22222,{"$f":"COUNTIF($L$7:$L$500,N38)","v":0},{"$f":"O38/$Q$4","v":0},{"$f":"IF(P38=0,0,(P38*((LOG(P38))/LOG(2))))","v":0},null,null,{"$f":"N38","v":22222},{"$f":"COUNTIF(L7:L31,T38)","v":0},{"$f":"U38/(W4-U25)","v":0},{"$f":"IF(V38=0,0,(V38*((LOG(V38))/LOG(2))))","v":0},null,{"$f":"N38","v":22222},{"$f":"COUNTIF(L32:L56,Y38)","v":0},{"$f":"Z38/(AB4-Z25)","v":0},{"$f":"IF(AA38=0,0,(AA38*((LOG(AA38))/LOG(2))))","v":0},null,{"$f":"N38","v":22222},{"$f":"COUNTIF(L57:L80,AD38)","v":0},{"$f":"AE38/(AG4-AE25)","v":0},{"$f":"IF(AF38=0,0,(AF38*((LOG(AF38))/LOG(2))))","v":0},null,{"$f":"N38","v":22222},{"$f":"COUNTIF(L81:L105,AI38)","v":0},{"$f":"AJ38/(AL4-AJ25)","v":0},{"$f":"IF(AK38=0,0,(AK38*((LOG(AK38))/LOG(2))))","v":0},null,{"$f":"N38","v":22222},{"$f":"COUNTIF(L106:L130,AN38)","v":0},{"$f":"AO38/(AQ4-AO25)","v":0},{"$f":"IF(AP38=0,0,(AP38*((LOG(AP38))/LOG(2))))","v":0},null,{"$f":"N38","v":22222},{"$f":"COUNTIF(L131:L155,AS38)","v":0},{"$f":"AT38/(AV4-AT25)","v":0},{"$f":"IF(AU38=0,0,(AU38*((LOG(AU38))/LOG(2))))","v":0}]
[12,5288,24,5296,13,5310,23,5322,13,5334,0,12121,null,null,null,{"$f":"SUM(P7:P38)","v":0.99999999999999978},{"$f":"-SUM(Q7:Q38)","v":3.8954463176103951},null,null,null,null,{"$f":"SUM(V7:V38)","v":0.99999999999999989},{"$f":"-SUM(W7:W38)","v":2.9426831892554923},null,null,null,{"$f":"SUM(AA7:AA38)","v":1},{"$f":"-SUM(AB7:AB38)","v":3.1434651896016472},null,null,null,{"$f":"SUM(AF7:AF38)","v":1},{"$f":"-SUM(AG7:AG38)","v":2.7516103255281665},null,null,null,{"$f":"SUM(AK7:AK38)","v":0.99999999999999989},{"$f":"-SUM(AL7:AL38)","v":2.9549868557726668},null,null,null,{"$f":"SUM(AP7:AP38)","v":0.99999999999999989},{"$f":"-SUM(AQ7:AQ38)","v":3.1572682296173897},null,null,null,{"$f":"SUM(AU7:AU38)","v":0.99999999999999989},{"$f":"-SUM(AV7:AV38)","v":3.3444569352411979}]
[21,5468,11,5478,22,5484,14,5493,13,5510,0,21211,null,null,null,"U=",{"$f":"Q39/(LOG(Q4)/LOG(2))","v":0.5395976429375573},null,null,null,null,"U1=",{"$f":"W39/(LOG(W4)/LOG(2))","v":0.63367233372449516},null,null,null,"U2=",{"$f":"AB39/(LOG(AB4)/LOG(2))","v":0.67690838414058163},null,null,null,"U3=",{"$f":"AG39/(LOG(AG4)/LOG(2))","v":0.6001380218693988},null,null,null,"U4=",{"$f":"AL39/(LOG(AL4)/LOG(2))","v":0.63632178409814499},null,null,null,"U5=",{"$f":"AQ39/(LOG(AQ4)/LOG(2))","v":0.67988070702304626},null,null,null,"U6=",{"$f":"AV39/(LOG(AV4)/LOG(2))","v":0.72018960074718386}]
[21,5622,22,5627,13,5640,23,5649,13,5659,0,22121]
[21,5767,22,5809,13,5820,23,5829,13,5840,0,22121]
[21,5950,22,5954,24,5966,14,5978,24,5988,0,22212,null,"Total Target Seq"]
[21,6115,22,6119,13,6129,14,6137,24,6148,0,22112,null,{"$f":"COUNTIF(L7:L155,G3)","v":5},null,25,25,24,25,25,25]
[21,6251,22,6274,13,6283,23,6293,13,6303,0,22121,null,null,null,"% of reinforcement given in 6 equal intervals based on number of trials "]
[21,6425,22,6430,13,6440,23,6449,13,6456,0,22121,null,null,null,"%_1","%_2","%_3","%_4","%_5","%_6"]
[12,6572,13,6583,13,6588,23,6597,13,6606,0,11121,null,null,"target sequence",{"$f":"$G$3","v":21121},{"$f":"$G$3","v":21121},{"$f":"$G$3","v":21121},{"$f":"$G$3","v":21121},{"$f":"$G$3","v":21121},{"$f":"$G$3","v":21121}]
[21,6727,11,6752,11,6756,12,6760,13,6766,0,21111,null,null,"total reinforcement",{"$f":"U25","v":0},{"$f":"Z25","v":0},{"$f":"AE25","v":1},{"$f":"AJ25","v":1},{"$f":"AO25","v":1},{"$f":"AT25","v":2}]
[12,6884,24,6894,13,6905,14,6909,24,6921,0,12112,null,null,"% target"]
[12,7050,13,7054,24,7064,14,7076,24,7090,0,11212,null,null,"CCRF"]
[21,7204,22,7209,24,7221,14,7230,24,7239,0,22212,null,null,"% CCRf"]
[21,7349,22,7359,13,7377,23,7390,13,7399,0,22121,null,null,"average response rate",{"$f":"J31/P44","v":160.32},{"$f":"(J56-J31)/Q44","v":162.36000000000001},{"$f":"(J80-J56)/R44","v":168.08333333333334},{"$f":"(J105-J80)/S44","v":157.4},{"$f":"(J130-J105)/T44","v":161.63999999999999},{"$f":"(J155-J130)/U44","v":155.52000000000001}]
[21,7502,22,7533,13,7542,23,7549,13,7558,0,22121]
[21,7666,22,7671,24,7676,14,7699,24,7711,0,22212]
[21,7815,22,7837,13,7846,23,7855,13,7866,0,22121]
[21,8009,22,8024,13,8035,14,8055,13,8067,0,22111]
[12,8186,13,8191,13,8196,23,8205,13,8217,0,11121]
[12,8349,13,8355,24,8364,14,8373,13,8381,0,11211]
[21,8485,22,8487,13,8506,14,8511,13,8524,0,22111]
[21,8652,22,8668,13,8678,23,8686,13,8697,0,22121]
[21,8836,22,8859,24,8872,14,8881,24,8893,0,22212]
[21,9003,11,9019,22,9026,14,9035,24,9047,0,21212]
[12,9159,13,9175,13,9194,23,9207,13,9217,0,11121]
[21,9351,22,9356,13,9370,23,9379,13,9390,0,22121]
[21,9495,22,9535,24,9540,14,9549,24,9561,0,22212]
[12,9690,13,9709,13,9714,23,9727,13,9739,0,11121]
[21,9842,22,9871,13,9881,23,9890,13,9903,0,22121]
[21,10048,22,10069,13,10080,23,10094,13,10104,0,22121]
[12,10216,13,10240,24,10249,14,10260,13,10275,0,11211]
[12,10382,24,10403,24,10428,14,10440,24,10450,0,12212]
[12,10566,24,10579,13,10597,23,10609,13,10620,0,12121]
[21,10723,22,10729,13,10742,23,10756,13,10766,0,22121]
[21,10885,22,10889,13,10901,14,10906,24,10918,0,22112]
[21,11067,11,11077,22,11086,14,11098,24,11112,0,21212]
[21,11223,22,11254,13,11263,23,11274,13,11286,0,22121]
[21,11431,11,11440,11,11446,21,11458,11,11470,1,21121]
[21,11568,11,11587,22,11599,14,11612,24,11621,0,21212]
[21,11748,11,11761,22,11771,14,11783,24,11798,0,21212]
[21,11907,22,11928,13,11939,23,11953,13,11964,0,22121]
[21,12071,22,12076,13,12084,23,12093,13,12101,0,22121]
[12,12208,24,12218,13,12228,23,12236,13,12247,0,12121]
[12,12356,24,12372,24,12377,14,12385,24,12397,0,12212]
[21,12502,22,12506,24,12514,14,12525,24,12536,0,22212]
[21,12638,22,12642,13,12652,23,12664,13,12672,0,22121]
[12,12776,24,12789,24,12815,14,12825,13,12831,0,12211]
[21,12950,22,12954,24,12971,14,12984,24,12993,0,22212]
[21,13102,11,13112,22,13121,14,13129,24,13142,0,21212]
[12,13252,24,13261,13,13275,23,13285,13,13295,0,12121]
[21,13397,22,13404,24,13423,14,13434,24,13442,0,22212]
[21,13569,11,13584,11,13598,21,13611,11,13622,1,21121]
[21,13734,22,13741,13,13753,23,13765,13,13777,0,22121]
[21,13887,22,13895,13,13903,23,13912,13,13923,0,22121]
[21,14035,22,14073,24,14084,14,14095,24,14109,0,22212]
[21,14210,22,14215,24,14237,14,14245,24,14256,0,22212]
[12,14363,24,14369,13,14382,23,14391,13,14403,0,12121]
[12,14536,24,14549,13,14558,23,14567,13,14575,0,12121]
[21,14696,11,14717,22,14724,14,14735,24,14746,0,21212]
[12,14855,24,14864,13,14877,23,14886,13,14894,0,12121]
[21,15001,11,15028,22,15042,23,15051,13,15063,0,21221]
[12,15169,24,15195,13,15203,14,15208,24,15217,0,12112]
[12,15366,13,15371,24,15381,14,15393,24,15407,0,11212]
[21,15508,22,15516,24,15524,14,15538,13,15544,0,22211]
[21,15650,22,15667,24,15685,14,15693,24,15706,0,22212]
[12,15816,24,15830,24,15850,14,15860,24,15872,0,12212]
[21,15982,22,15990,13,16016,23,16026,13,16036,0,22121]
[12,16164,24,16179,13,16190,23,16203,13,16215,0,12121]
[21,16360,11,16370,22,16378,14,16387,13,16396,0,21211]
[12,16512,24,16521,13,16562,23,16574,13,16583,0,12121]
[21,16700,11,16708,22,16718,23,16742,13,16751,0,21221]
[21,16883,22,16888,13,16902,14,16910,24,16921,0,22112]
[21,17026,11,17052,22,17062,14,17072,24,17085,0,21212]
[12,17214,24,17224,13,17237,23,17249,13,17261,0,12121]
[21,17392,11,17405,11,17410,21,17419,11,17431,1,21121]
[12,17525,24,17533,13,17543,14,17549,24,17558,0,12112]
[12,17659,24,17673,24,17695,14,17707,24,17720,0,12212]
[21,17855,22,17861,13,17869,23,17878,13,17888,0,22121]
[21,17990,22,17998,24,18022,14,18030,24,18040,0,22212]
[21,18139,22,18145,13,18176,23,18184,13,18193,0,22121]
[21,18327,22,18331,13,18340,23,18348,13,18362,0,22121]
[21,18469,22,18499,13,18507,23,18516,13,18527,0,22121]
[21,18633,22,18652,13,18661,14,18705,13,18709,0,22111]
[12,18815,24,18827,13,18836,23,18845,13,18854,0,12121]
[21,18953,22,18958,24,18973,14,18985,24,18995,0,22212]
[12,19116,13,19122,24,19129,14,19140,24,19153,0,11212]
[12,19263,24,19275,13,19288,23,19299,13,19311,0,12121]
[21,19414,22,19435,24,19455,14,19463,24,19481,0,22212]
[12,19583,13,19597,24,19603,14,19611,24,19623,0,11212]
[21,19722,11,19736,22,19745,14,19755,13,19759,0,21211]
[21,19862,11,19881,22,19889,14,19899,24,19911,0,21212]
[12,20034,24,20043,13,20055,23,20068,13,20077,0,12121]
[12,20179,13,20185,24,20197,14,20206,13,20212,0,11211]
[12,20325,13,20341,24,20350,14,20359,24,20373,0,11212]
[12,20485,13,20491,24,20500,14,20509,24,20522,0,11212]
[12,20626,24,20636,13,20645,23,20655,13,20665,0,12121]
[21,20799,11,20809,22,20817,14,20829,24,20842,0,21212]
[12,20960,24,20981,13,20990,23,21003,13,21013,0,12121]
[12,21116,24,21128,24,21133,23,21147,13,21156,0,12221]
[12,21274,24,21291,24,21299,14,21308,24,21320,0,12212]
[21,21449,11,21465,22,21475,14,21488,24,21503,0,21212]
[12,21637,24,21646,13,21657,23,21668,13,21679,0,12121]
[12,21789,13,21797,24,21807,14,21824,24,21836,0,11212]
[21,21938,22,21945,13,21958,14,21967,24,21980,0,22112]
[21,22086,22,22108,13,22120,14,22137,13,22148,0,22111]
[21,22286,11,22295,11,22299,21,22311,11,22323,1,21121]
[21,22417,22,22422,24,22441,14,22450,24,22459,0,22212]
[12,22559,13,22563,24,22569,14,22578,24,22589,0,11212]
[21,22700,22,22719,13,22730,23,22744,13,22757,0,22121]
[21,22888,22,22893,24,22910,14,22920,24,22929,0,22212]
[12,23032,13,23034,24,23048,23,23052,13,23061,0,11221]
[12,23160,24,23174,13,23185,23,23194,24,23213,0,12122]
[12,23326,13,23347,24,23355,14,23364,24,23378,0,11212]
[21,23492,22,23498,13,23517,23,23522,13,23534,0,22121]
[21,23635,11,23660,11,23662,21,23674,11,23683,1,21121]
[21,23779,22,23784,24,23800,14,23809,24,23818,0,22212]
[12,23916,24,23925,24,23942,14,23951,24,23965,null,12212]

{"sheet":"!N214830.091","index":25,"n_rows":163,"n_cols":48,"rows_kept":163,"cut":false,"hidden":false,"merged":[[4,39,4,42],[5,39,5,40],[4,44,4,47],[5,44,5,45],[4,24,4,27],[5,24,5,25],[4,29,4,32],[5,29,5,30],[4,34,4,37],[5,34,5,35],[1,1,1,2],[5,13,5,14],[42,13,42,14],[43,13,43,14],[4,19,4,22],[5,19,5,20]]}
["Report for:!N214830.091"]
["Date:","<date>"]
["Hen:","<hen>",null,null,null,"Correct Sequence",{"$f":"Start!J2","v":21121},null,null,null,null,null,null,null,null,"Total Sequences in Data",{"$f":"4994-COUNTBLANK(L7:L5000)","v":157},null,null,null,null,"Total Sequences in Block Data",{"$f":"COUNTA(L7:L32)","v":26},null,null,null,"Total Sequences in Block Data",{"$f":"COUNTA(L33:L58)","v":26},null,null,null,"Total Sequences in Block Data",{"$f":"COUNTA(L59:L85)","v":27},null,null,null,"Total Sequences in Block Data",{"$f":"COUNTA(L86:L111)","v":26},null,null,null,"Total Sequences in Block Data",{"$f":"COUNTA(L112:L137)","v":26},null,null,null,"Total Sequences in Block Data",{"$f":"COUNTA(L138:L163)","v":26}]
[null,null,null,null,null,null,null,null,null,null,null,null,null,null,null,"Total Sequences in Summary",{"$f":"SUM(O7:O38)","v":157},null,null,null,null,"Total Sequences in Block Summary",{"$f":"SUM(U7:U38)","v":26},null,null,null,"Total Sequences in Block Summary",{"$f":"SUM(Z7:Z38)","v":26},null,null,null,"Total Sequences in Block Summary",{"$f":"SUM(AE7:AE38)","v":27},null,null,null,"Total Sequences in Block Summary",{"$f":"SUM(AJ7:AJ38)","v":26},null,null,null,"Total Sequences in Block Summary",{"$f":"SUM(AO7:AO38)","v":26},null,null,null,"Total Sequences in Block Summary",{"$f":"SUM(AT7:AT38)","v":26}]
[null,null,null,null,null,null,null,null,null,null,null,null,null,null,null,null,null,null,null,"Block 1",null,null,null,null,"Block 2",null,null,null,null,"Block 3",null,null,null,null,"Block 4",null,null,null,null,"Block 5",null,null,null,null,"Block 6"]
["Sequence\nComponent\n1","Time\n1","Sequence\nComponent\n2","Time\n2","Sequence\nComponent\n3","Time\n3","Sequence\nComponent\n4","Time\n4","Sequence\nComponent\n5","Time\n5","Correct?\n0=No 1=Yes","Sequence",null,"Frequency",null,"Relative Frequency","Variability",null,null,"Frequency",null,"Relative Frequency","Variability",null,"Frequency",null,"Relative Frequency","Variability",null,"Frequency",null,"Relative Frequency","Variability",null,"Frequency",null,"Relative Frequency","Variability",null,"Frequency",null,"Relative Frequency","Variability",null,"Frequency",null,"Relative Frequency","Variability"]
[12,39,13,48,13,53,23,63,13,75,0,11121,null,11111,{"$f":"COUNTIF($L$7:$L$500,N7)","v":2},{"$f":"O7/$Q$4","v":1.2738853503184714E-2},{"$f":"IF(P7=0,0,(P7*((LOG(P7))/LOG(2))))","v":-8.0186251578237291E-2},null,null,{"$f":"N7","v":11111},{"$f":"COUNTIF(L7:L32,T7)","v":2},{"$f":"U7/(W4-U25)","v":8.6956521739130432E-2},{"$f":"IF(V7=0,0,(V7*((LOG(V7))/LOG(2))))","v":-0.30639669183104457},null,{"$f":"N7","v":11111},{"$f":"COUNTIF(L33:L58,Y7)","v":0},{"$f":"Z7/(AB4-Z25)","v":0},{"$f":"IF(AA7=0,0,(AA7*((LOG(AA7))/LOG(2))))","v":0},null,{"$f":"N7","v":11111},{"$f":"COUNTIF(L59:L85,AD7)","v":0},{"$f":"AE7/(AG4-AE25)","v":0},{"$f":"IF(AF7=0,0,(AF7*((LOG(AF7))/LOG(2))))","v":0},null,{"$f":"N7","v":11111},{"$f":"COUNTIF(L86:L111,AI7)","v":0},{"$f":"AJ7/(AL4-AJ25)","v":0},{"$f":"IF(AK7=0,0,(AK7*((LOG(AK7))/LOG(2))))","v":0},null,{"$f":"N7","v":11111},{"$f":"COUNTIF(L112:L137,AN7)","v":0},{"$f":"AO7/(AQ4-AO25)","v":0},{"$f":"IF(AP7=0,0,(AP7*((LOG(AP7))/LOG(2))))","v":0},null,{"$f":"N7","v":11111},{"$f":"COUNTIF(L138:L163,AS7)","v":0},{"$f":"AT7/(AV4-AT25)","v":0},{"$f":"IF(AU7=0,0,(AU7*((LOG(AU7))/LOG(2))))","v":0}]
[21,185,11,272,22,281,14,290,13,299,0,21211,null,11112,{"$f":"COUNTIF($L$7:$L$500,N8)","v":0},{"$f":"O8/$Q$4","v":0},{"$f":"IF(P8=0,0,(P8*((LOG(P8))/LOG(2))))","v":0},null,null,{"$f":"N8","v":11112},{"$f":"COUNTIF(L7:L32,T8)","v":0},{"$f":"U8/(W4-U25)","v":0},{"$f":"IF(V8=0,0,(V8*((LOG(V8))/LOG(2))))","v":0},null,{"$f":"N8","v":11112},{"$f":"COUNTIF(L33:L58,Y8)","v":0},{"$f":"Z8/(AB4-Z25)","v":0},{"$f":"IF(AA8=0,0,(AA8*((LOG(AA8))/LOG(2))))","v":0},null,{"$f":"N8","v":11112},{"$f":"COUNTIF(L59:L85,AD8)","v":0},{"$f":"AE8/(AG4-AE25)","v":0},{"$f":"IF(AF8=0,0,(AF8*((LOG(AF8))/LOG(2))))","v":0},null,{"$f":"N8","v":11112},{"$f":"COUNTIF(L86:L111,AI8)","v":0},{"$f":"AJ8/(AL4-AJ25)","v":0},{"$f":"IF(AK8=0,0,(AK8*((LOG(AK8))/LOG(2))))","v":0},null,{"$f":"N8","v":11112},{"$f":"COUNTIF(L112:L137,AN8)","v":0},{"$f":"AO8/(AQ4-AO25)","v":0},{"$f":"IF(AP8=0,0,(AP8*((LOG(AP8))/LOG(2))))","v":0},null,{"$f":"N8","v":11112},{"$f":"COUNTIF(L138:L163,AS8)","v":0},{"$f":"AT8/(AV4-AT25)","v":0},{"$f":"IF(AU8=0,0,(AU8*((LOG(AU8))/LOG(2))))","v":0}]
[12,418,24,431,13,444,14,456,24,467,0,12112,null,11121,{"$f":"COUNTIF($L$7:$L$500,N9)","v":9},{"$f":"O9/$Q$4","v":5.7324840764331211E-2},{"$f":"IF(P9=0,0,(P9*((LOG(P9))/LOG(2))))","v":-0.23644752692384602},null,null,{"$f":"N9","v":11121},{"$f":"COUNTIF(L7:L32,T9)","v":2},{"$f":"U9/(W4-U25)","v":8.6956521739130432E-2},{"$f":"IF(V9=0,0,(V9*((LOG(V9))/LOG(2))))","v":-0.30639669183104457},null,{"$f":"N9","v":11121},{"$f":"COUNTIF(L33:L58,Y9)","v":2},{"$f":"Z9/(AB4-Z25)","v":0.08},{"$f":"IF(AA9=0,0,(AA9*((LOG(AA9))/LOG(2))))","v":-0.29150849518197797},null,{"$f":"N9","v":11121},{"$f":"COUNTIF(L59:L85,AD9)","v":1},{"$f":"AE9/(AG4-AE25)","v":3.8461538461538464E-2},{"$f":"IF(AF9=0,0,(AF9*((LOG(AF9))/LOG(2))))","v":-0.18078614300542661},null,{"$f":"N9","v":11121},{"$f":"COUNTIF(L86:L111,AI9)","v":1},{"$f":"AJ9/(AL4-AJ25)","v":0.04},{"$f":"IF(AK9=0,0,(AK9*((LOG(AK9))/LOG(2))))","v":-0.18575424759098899},null,{"$f":"N9","v":11121},{"$f":"COUNTIF(L112:L137,AN9)","v":2},{"$f":"AO9/(AQ4-AO25)","v":8.3333333333333329E-2},{"$f":"IF(AP9=0,0,(AP9*((LOG(AP9))/LOG(2))))","v":-0.29874687506009634},null,{"$f":"N9","v":11121},{"$f":"COUNTIF(L138:L163,AS9)","v":1},{"$f":"AT9/(AV4-AT25)","v":3.8461538461538464E-2},{"$f":"IF(AU9=0,0,(AU9*((LOG(AU9))/LOG(2))))","v":-0.18078614300542661}]
[21,580,11,602,22,617,14,627,24,644,0,21212,null,11122,{"$f":"COUNTIF($L$7:$L$500,N10)","v":0},{"$f":"O10/$Q$4","v":0},{"$f":"IF(P10=0,0,(P10*((LOG(P10))/LOG(2))))","v":0},null,null,{"$f":"N10","v":11122},{"$f":"COUNTIF(L7:L32,T10)","v":0},{"$f":"U10/(W4-U25)","v":0},{"$f":"IF(V10=0,0,(V10*((LOG(V10))/LOG(2))))","v":0},null,{"$f":"N10","v":11122},{"$f":"COUNTIF(L33:L58,Y10)","v":0},{"$f":"Z10/(AB4-Z25)","v":0},{"$f":"IF(AA10=0,0,(AA10*((LOG(AA10))/LOG(2))))","v":0},null,{"$f":"N10","v":11122},{"$f":"COUNTIF(L59:L85,AD10)","v":0},{"$f":"AE10/(AG4-AE25)","v":0},{"$f":"IF(AF10=0,0,(AF10*((LOG(AF10))/LOG(2))))","v":0},null,{"$f":"N10","v":11122},{"$f":"COUNTIF(L86:L111,AI10)","v":0},{"$f":"AJ10/(AL4-AJ25)","v":0},{"$f":"IF(AK10=0,0,(AK10*((LOG(AK10))/LOG(2))))","v":0},null,{"$f":"N10","v":11122},{"$f":"COUNTIF(L112:L137,AN10)","v":0},{"$f":"AO10/(AQ4-AO25)","v":0},{"$f":"IF(AP10=0,0,(AP10*((LOG(AP10))/LOG(2))))","v":0},null,{"$f":"N10","v":11122},{"$f":"COUNTIF(L138:L163,AS10)","v":0},{"$f":"AT10/(AV4-AT25)","v":0},{"$f":"IF(AU10=0,0,(AU10*((LOG(AU10))/LOG(2))))","v":0}]
[12,752,24,769,13,787,14,796,24,808,0,12112,null,11211,{"$f":"COUNTIF($L$7:$L$500,N11)","v":12},{"$f":"O11/$Q$4","v":7.6433121019108277E-2},{"$f":"IF(P11=0,0,(P11*((LOG(P11))/LOG(2))))","v":-0.28354075782194682},null,null,{"$f":"N11","v":11211},{"$f":"COUNTIF(L7:L32,T11)","v":2},{"$f":"U11/(W4-U25)","v":8.6956521739130432E-2},{"$f":"IF(V11=0,0,(V11*((LOG(V11))/LOG(2))))","v":-0.30639669183104457},null,{"$f":"N11","v":11211},{"$f":"COUNTIF(L33:L58,Y11)","v":2},{"$f":"Z11/(AB4-Z25)","v":0.08},{"$f":"IF(AA11=0,0,(AA11*((LOG(AA11))/LOG(2))))","v":-0.29150849518197797},null,{"$f":"N11","v":11211},{"$f":"COUNTIF(L59:L85,AD11)","v":1},{"$f":"AE11/(AG4-AE25)","v":3.8461538461538464E-2},{"$f":"IF(AF11=0,0,(AF11*((LOG(AF11))/LOG(2))))","v":-0.18078614300542661},null,{"$f":"N11","v":11211},{"$f":"COUNTIF(L86:L111,AI11)","v":1},{"$f":"AJ11/(AL4-AJ25)","v":0.04},{"$f":"IF(AK11=0,0,(AK11*((LOG(AK11))/LOG(2))))","v":-0.18575424759098899},null,{"$f":"N11","v":11211},{"$f":"COUNTIF(L112:L137,AN11)","v":2},{"$f":"AO11/(AQ4-AO25)","v":8.3333333333333329E-2},{"$f":"IF(AP11=0,0,(AP11*((LOG(AP11))/LOG(2))))","v":-0.29874687506009634},null,{"$f":"N11","v":11211},{"$f":"COUNTIF(L138:L163,AS11)","v":4},{"$f":"AT11/(AV4-AT25)","v":0.15384615384615385},{"$f":"IF(AU11=0,0,(AU11*((LOG(AU11))/LOG(2))))","v":-0.4154522643293988}]
[12,931,13,940,13,945,23,957,13,968,0,11121,null,11212,{"$f":"COUNTIF($L$7:$L$500,N12)","v":17},{"$f":"O12/$Q$4","v":0.10828025477707007},{"$f":"IF(P12=0,0,(P12*((LOG(P12))/LOG(2))))","v":-0.34727187534969356},null,null,{"$f":"N12","v":11212},{"$f":"COUNTIF(L7:L32,T12)","v":1},{"$f":"U12/(W4-U25)","v":4.3478260869565216E-2},{"$f":"IF(V12=0,0,(V12*((LOG(V12))/LOG(2))))","v":-0.19667660678508753},null,{"$f":"N12","v":11212},{"$f":"COUNTIF(L33:L58,Y12)","v":4},{"$f":"Z12/(AB4-Z25)","v":0.16},{"$f":"IF(AA12=0,0,(AA12*((LOG(AA12))/LOG(2))))","v":-0.42301699036395596},null,{"$f":"N12","v":11212},{"$f":"COUNTIF(L59:L85,AD12)","v":3},{"$f":"AE12/(AG4-AE25)","v":0.11538461538461539},{"$f":"IF(AF12=0,0,(AF12*((LOG(AF12))/LOG(2))))","v":-0.35947814047153104},null,{"$f":"N12","v":11212},{"$f":"COUNTIF(L86:L111,AI12)","v":5},{"$f":"AJ12/(AL4-AJ25)","v":0.2},{"$f":"IF(AK12=0,0,(AK12*((LOG(AK12))/LOG(2))))","v":-0.46438561897747244},null,{"$f":"N12","v":11212},{"$f":"COUNTIF(L112:L137,AN12)","v":2},{"$f":"AO12/(AQ4-AO25)","v":8.3333333333333329E-2},{"$f":"IF(AP12=0,0,(AP12*((LOG(AP12))/LOG(2))))","v":-0.29874687506009634},null,{"$f":"N12","v":11212},{"$f":"COUNTIF(L138:L163,AS12)","v":2},{"$f":"AT12/(AV4-AT25)","v":7.6923076923076927E-2},{"$f":"IF(AU12=0,0,(AU12*((LOG(AU12))/LOG(2))))","v":-0.28464920908777636}]
[21,1083,22,1128,24,1136,14,1145,13,1153,0,22211,null,11221,{"$f":"COUNTIF($L$7:$L$500,N13)","v":1},{"$f":"O13/$Q$4","v":6.369426751592357E-3},{"$f":"IF(P13=0,0,(P13*((LOG(P13))/LOG(2))))","v":-4.6462552540710994E-2},null,null,{"$f":"N13","v":11221},{"$f":"COUNTIF(L7:L32,T13)","v":0},{"$f":"U13/(W4-U25)","v":0},{"$f":"IF(V13=0,0,(V13*((LOG(V13))/LOG(2))))","v":0},null,{"$f":"N13","v":11221},{"$f":"COUNTIF(L33:L58,Y13)","v":1},{"$f":"Z13/(AB4-Z25)","v":0.04},{"$f":"IF(AA13=0,0,(AA13*((LOG(AA13))/LOG(2))))","v":-0.18575424759098899},null,{"$f":"N13","v":11221},{"$f":"COUNTIF(L59:L85,AD13)","v":0},{"$f":"AE13/(AG4-AE25)","v":0},{"$f":"IF(AF13=0,0,(AF13*((LOG(AF13))/LOG(2))))","v":0},null,{"$f":"N13","v":11221},{"$f":"COUNTIF(L86:L111,AI13)","v":0},{"$f":"AJ13/(AL4-AJ25)","v":0},{"$f":"IF(AK13=0,0,(AK13*((LOG(AK13))/LOG(2))))","v":0},null,{"$f":"N13","v":11221},{"$f":"COUNTIF(L112:L137,AN13)","v":0},{"$f":"AO13/(AQ4-AO25)","v":0},{"$f":"IF(AP13=0,0,(AP13*((LOG(AP13))/LOG(2))))","v":0},null,{"$f":"N13","v":11221},{"$f":"COUNTIF(L138:L163,AS13)","v":0},{"$f":"AT13/(AV4-AT25)","v":0},{"$f":"IF(AU13=0,0,(AU13*((LOG(AU13))/LOG(2))))","v":0}]
[12,1295,13,1299,13,1304,14,1326,13,1342,0,11111,null,11222,{"$f":"COUNTIF($L$7:$L$500,N14)","v":1},{"$f":"O14/$Q$4","v":6.369426751592357E-3},{"$f":"IF(P14=0,0,(P14*((LOG(P14))/LOG(2))))","v":-4.6462552540710994E-2},null,null,{"$f":"N14","v":11222},{"$f":"COUNTIF(L7:L32,T14)","v":0},{"$f":"U14/(W4-U25)","v":0},{"$f":"IF(V14=0,0,(V14*((LOG(V14))/LOG(2))))","v":0},null,{"$f":"N14","v":11222},{"$f":"COUNTIF(L33:L58,Y14)","v":0},{"$f":"Z14/(AB4-Z25)","v":0},{"$f":"IF(AA14=0,0,(AA14*((LOG(AA14))/LOG(2))))","v":0},null,{"$f":"N14","v":11222},{"$f":"COUNTIF(L59:L85,AD14)","v":0},{"$f":"AE14/(AG4-AE25)","v":0},{"$f":"IF(AF14=0,0,(AF14*((LOG(AF14))/LOG(2))))","v":0},null,{"$f":"N14","v":11222},{"$f":"COUNTIF(L86:L111,AI14)","v":1},{"$f":"AJ14/(AL4-AJ25)","v":0.04},{"$f":"IF(AK14=0,0,(AK14*((LOG(AK14))/LOG(2))))","v":-0.18575424759098899},null,{"$f":"N14","v":11222},{"$f":"COUNTIF(L112:L137,AN14)","v":0},{"$f":"AO14/(AQ4-AO25)","v":0},{"$f":"IF(AP14=0,0,(AP14*((LOG(AP14))/LOG(2))))","v":0},null,{"$f":"N14","v":11222},{"$f":"COUNTIF(L138:L163,AS14)","v":0},{"$f":"AT14/(AV4-AT25)","v":0},{"$f":"IF(AU14=0,0,(AU14*((LOG(AU14))/LOG(2))))","v":0}]
[21,1461,11,1495,11,1497,21,1510,11,1523,1,21121,null,12111,{"$f":"COUNTIF($L$7:$L$500,N15)","v":1},{"$f":"O15/$Q$4","v":6.369426751592357E-3},{"$f":"IF(P15=0,0,(P15*((LOG(P15))/LOG(2))))","v":-4.6462552540710994E-2},null,null,{"$f":"N15","v":12111},{"$f":"COUNTIF(L7:L32,T15)","v":1},{"$f":"U15/(W4-U25)","v":4.3478260869565216E-2},{"$f":"IF(V15=0,0,(V15*((LOG(V15))/LOG(2))))","v":-0.19667660678508753},null,{"$f":"N15","v":12111},{"$f":"COUNTIF(L33:L58,Y15)","v":0},{"$f":"Z15/(AB4-Z25)","v":0},{"$f":"IF(AA15=0,0,(AA15*((LOG(AA15))/LOG(2))))","v":0},null,{"$f":"N15","v":12111},{"$f":"COUNTIF(L59:L85,AD15)","v":0},{"$f":"AE15/(AG4-AE25)","v":0},{"$f":"IF(AF15=0,0,(AF15*((LOG(AF15))/LOG(2))))","v":0},null,{"$f":"N15","v":12111},{"$f":"COUNTIF(L86:L111,AI15)","v":0},{"$f":"AJ15/(AL4-AJ25)","v":0},{"$f":"IF(AK15=0,0,(AK15*((LOG(AK15))/LOG(2))))","v":0},null,{"$f":"N15","v":12111},{"$f":"COUNTIF(L112:L137,AN15)","v":0},{"$f":"AO15/(AQ4-AO25)","v":0},{"$f":"IF(AP15=0,0,(AP15*((LOG(AP15))/LOG(2))))","v":0},null,{"$f":"N15","v":12111},{"$f":"COUNTIF(L138:L163,AS15)","v":0},{"$f":"AT15/(AV4-AT25)","v":0},{"$f":"IF(AU15=0,0,(AU15*((LOG(AU15))/LOG(2))))","v":0}]
[12,1645,24,1658,13,1668,23,1682,13,1694,0,12121,null,12112,{"$f":"COUNTIF($L$7:$L$500,N16)","v":8},{"$f":"O16/$Q$4","v":5.0955414012738856E-2},{"$f":"IF(P16=0,0,(P16*((LOG(P16))/LOG(2))))","v":-0.2188341782874714},null,null,{"$f":"N16","v":12112},{"$f":"COUNTIF(L7:L32,T16)","v":3},{"$f":"U16/(W4-U25)","v":0.13043478260869565},{"$f":"IF(V16=0,0,(V16*((LOG(V16))/LOG(2))))","v":-0.3832955811307639},null,{"$f":"N16","v":12112},{"$f":"COUNTIF(L33:L58,Y16)","v":3},{"$f":"Z16/(AB4-Z25)","v":0.12},{"$f":"IF(AA16=0,0,(AA16*((LOG(AA16))/LOG(2))))","v":-0.36706724268642821},null,{"$f":"N16","v":12112},{"$f":"COUNTIF(L59:L85,AD16)","v":2},{"$f":"AE16/(AG4-AE25)","v":7.6923076923076927E-2},{"$f":"IF(AF16=0,0,(AF16*((LOG(AF16))/LOG(2))))","v":-0.28464920908777636},null,{"$f":"N16","v":12112},{"$f":"COUNTIF(L86:L111,AI16)","v":0},{"$f":"AJ16/(AL4-AJ25)","v":0},{"$f":"IF(AK16=0,0,(AK16*((LOG(AK16))/LOG(2))))","v":0},null,{"$f":"N16","v":12112},{"$f":"COUNTIF(L112:L137,AN16)","v":0},{"$f":"AO16/(AQ4-AO25)","v":0},{"$f":"IF(AP16=0,0,(AP16*((LOG(AP16))/LOG(2))))","v":0},null,{"$f":"N16","v":12112},{"$f":"COUNTIF(L138:L163,AS16)","v":0},{"$f":"AT16/(AV4-AT25)","v":0},{"$f":"IF(AU16=0,0,(AU16*((LOG(AU16))/LOG(2))))","v":0}]
[12,1812,13,1817,24,1827,14,1836,13,1845,0,11211,null,12121,{"$f":"COUNTIF($L$7:$L$500,N17)","v":30},{"$f":"O17/$Q$4","v":0.19108280254777071},{"$f":"IF(P17=0,0,(P17*((LOG(P17))/LOG(2))))","v":-0.45625416941715446},null,null,{"$f":"N17","v":12121},{"$f":"COUNTIF(L7:L32,T17)","v":5},{"$f":"U17/(W4-U25)","v":0.21739130434782608},{"$f":"IF(V17=0,0,(V17*((LOG(V17))/LOG(2))))","v":-0.47861605677601093},null,{"$f":"N17","v":12121},{"$f":"COUNTIF(L33:L58,Y17)","v":4},{"$f":"Z17/(AB4-Z25)","v":0.16},{"$f":"IF(AA17=0,0,(AA17*((LOG(AA17))/LOG(2))))","v":-0.42301699036395596},null,{"$f":"N17","v":12121},{"$f":"COUNTIF(L59:L85,AD17)","v":7},{"$f":"AE17/(AG4-AE25)","v":0.26923076923076922},{"$f":"IF(AF17=0,0,(AF17*((LOG(AF17))/LOG(2))))","v":-0.50967667586863141},null,{"$f":"N17","v":12121},{"$f":"COUNTIF(L86:L111,AI17)","v":4},{"$f":"AJ17/(AL4-AJ25)","v":0.16},{"$f":"IF(AK17=0,0,(AK17*((LOG(AK17))/LOG(2))))","v":-0.42301699036395596},null,{"$f":"N17","v":12121},{"$f":"COUNTIF(L112:L137,AN17)","v":5},{"$f":"AO17/(AQ4-AO25)","v":0.20833333333333334},{"$f":"IF(AP17=0,0,(AP17*((LOG(AP17))/LOG(2))))","v":-0.47146550121537367},null,{"$f":"N17","v":12121},{"$f":"COUNTIF(L138:L163,AS17)","v":5},{"$f":"AT17/(AV4-AT25)","v":0.19230769230769232},{"$f":"IF(AU17=0,0,(AU17*((LOG(AU17))/LOG(2))))","v":-0.45740608139494804}]
[12,1957,13,1962,13,1980,14,1999,13,2009,0,11111,null,12122,{"$f":"COUNTIF($L$7:$L$500,N18)","v":0},{"$f":"O18/$Q$4","v":0},{"$f":"IF(P18=0,0,(P18*((LOG(P18))/LOG(2))))","v":0},null,null,{"$f":"N18","v":12122},{"$f":"COUNTIF(L7:L32,T18)","v":0},{"$f":"U18/(W4-U25)","v":0},{"$f":"IF(V18=0,0,(V18*((LOG(V18))/LOG(2))))","v":0},null,{"$f":"N18","v":12122},{"$f":"COUNTIF(L33:L58,Y18)","v":0},{"$f":"Z18/(AB4-Z25)","v":0},{"$f":"IF(AA18=0,0,(AA18*((LOG(AA18))/LOG(2))))","v":0},null,{"$f":"N18","v":12122},{"$f":"COUNTIF(L59:L85,AD18)","v":0},{"$f":"AE18/(AG4-AE25)","v":0},{"$f":"IF(AF18=0,0,(AF18*((LOG(AF18))/LOG(2))))","v":0},null,{"$f":"N18","v":12122},{"$f":"COUNTIF(L86:L111,AI18)","v":0},{"$f":"AJ18/(AL4-AJ25)","v":0},{"$f":"IF(AK18=0,0,(AK18*((LOG(AK18))/LOG(2))))","v":0},null,{"$f":"N18","v":12122},{"$f":"COUNTIF(L112:L137,AN18)","v":0},{"$f":"AO18/(AQ4-AO25)","v":0},{"$f":"IF(AP18=0,0,(AP18*((LOG(AP18))/LOG(2))))","v":0},null,{"$f":"N18","v":12122},{"$f":"COUNTIF(L138:L163,AS18)","v":0},{"$f":"AT18/(AV4-AT25)","v":0},{"$f":"IF(AU18=0,0,(AU18*((LOG(AU18))/LOG(2))))","v":0}]
[12,2132,13,2134,24,2147,14,2159,13,2177,0,11211,null,12211,{"$f":"COUNTIF($L$7:$L$500,N19)","v":2},{"$f":"O19/$Q$4","v":1.2738853503184714E-2},{"$f":"IF(P19=0,0,(P19*((LOG(P19))/LOG(2))))","v":-8.0186251578237291E-2},null,null,{"$f":"N19","v":12211},{"$f":"COUNTIF(L7:L32,T19)","v":0},{"$f":"U19/(W4-U25)","v":0},{"$f":"IF(V19=0,0,(V19*((LOG(V19))/LOG(2))))","v":0},null,{"$f":"N19","v":12211},{"$f":"COUNTIF(L33:L58,Y19)","v":0},{"$f":"Z19/(AB4-Z25)","v":0},{"$f":"IF(AA19=0,0,(AA19*((LOG(AA19))/LOG(2))))","v":0},null,{"$f":"N19","v":12211},{"$f":"COUNTIF(L59:L85,AD19)","v":1},{"$f":"AE19/(AG4-AE25)","v":3.8461538461538464E-2},{"$f":"IF(AF19=0,0,(AF19*((LOG(AF19))/LOG(2))))","v":-0.18078614300542661},null,{"$f":"N19","v":12211},{"$f":"COUNTIF(L86:L111,AI19)","v":1},{"$f":"AJ19/(AL4-AJ25)","v":0.04},{"$f":"IF(AK19=0,0,(AK19*((LOG(AK19))/LOG(2))))","v":-0.18575424759098899},null,{"$f":"N19","v":12211},{"$f":"COUNTIF(L112:L137,AN19)","v":0},{"$f":"AO19/(AQ4-AO25)","v":0},{"$f":"IF(AP19=0,0,(AP19*((LOG(AP19))/LOG(2))))","v":0},null,{"$f":"N19","v":12211},{"$f":"COUNTIF(L138:L163,AS19)","v":0},{"$f":"AT19/(AV4-AT25)","v":0},{"$f":"IF(AU19=0,0,(AU19*((LOG(AU19))/LOG(2))))","v":0}]
[12,2299,24,2310,13,2320,23,2330,13,2342,0,12121,null,12212,{"$f":"COUNTIF($L$7:$L$500,N20)","v":9},{"$f":"O20/$Q$4","v":5.7324840764331211E-2},{"$f":"IF(P20=0,0,(P20*((LOG(P20))/LOG(2))))","v":-0.23644752692384602},null,null,{"$f":"N20","v":12212},{"$f":"COUNTIF(L7:L32,T20)","v":2},{"$f":"U20/(W4-U25)","v":8.6956521739130432E-2},{"$f":"IF(V20=0,0,(V20*((LOG(V20))/LOG(2))))","v":-0.30639669183104457},null,{"$f":"N20","v":12212},{"$f":"COUNTIF(L33:L58,Y20)","v":0},{"$f":"Z20/(AB4-Z25)","v":0},{"$f":"IF(AA20=0,0,(AA20*((LOG(AA20))/LOG(2))))","v":0},null,{"$f":"N20","v":12212},{"$f":"COUNTIF(L59:L85,AD20)","v":2},{"$f":"AE20/(AG4-AE25)","v":7.6923076923076927E-2},{"$f":"IF(AF20=0,0,(AF20*((LOG(AF20))/LOG(2))))","v":-0.28464920908777636},null,{"$f":"N20","v":12212},{"$f":"COUNTIF(L86:L111,AI20)","v":1},{"$f":"AJ20/(AL4-AJ25)","v":0.04},{"$f":"IF(AK20=0,0,(AK20*((LOG(AK20))/LOG(2))))","v":-0.18575424759098899},null,{"$f":"N20","v":12212},{"$f":"COUNTIF(L112:L137,AN20)","v":2},{"$f":"AO20/(AQ4-AO25)","v":8.3333333333333329E-2},{"$f":"IF(AP20=0,0,(AP20*((LOG(AP20))/LOG(2))))","v":-0.29874687506009634},null,{"$f":"N20","v":12212},{"$f":"COUNTIF(L138:L163,AS20)","v":2},{"$f":"AT20/(AV4-AT25)","v":7.6923076923076927E-2},{"$f":"IF(AU20=0,0,(AU20*((LOG(AU20))/LOG(2))))","v":-0.28464920908777636}]
[21,2454,11,2474,11,2483,21,2492,11,2505,1,21121,null,12221,{"$f":"COUNTIF($L$7:$L$500,N21)","v":2},{"$f":"O21/$Q$4","v":1.2738853503184714E-2},{"$f":"IF(P21=0,0,(P21*((LOG(P21))/LOG(2))))","v":-8.0186251578237291E-2},null,null,{"$f":"N21","v":12221},{"$f":"COUNTIF(L7:L32,T21)","v":0},{"$f":"U21/(W4-U25)","v":0},{"$f":"IF(V21=0,0,(V21*((LOG(V21))/LOG(2))))","v":0},null,{"$f":"N21","v":12221},{"$f":"COUNTIF(L33:L58,Y21)","v":0},{"$f":"Z21/(AB4-Z25)","v":0},{"$f":"IF(AA21=0,0,(AA21*((LOG(AA21))/LOG(2))))","v":0},null,{"$f":"N21","v":12221},{"$f":"COUNTIF(L59:L85,AD21)","v":0},{"$f":"AE21/(AG4-AE25)","v":0},{"$f":"IF(AF21=0,0,(AF21*((LOG(AF21))/LOG(2))))","v":0},null,{"$f":"N21","v":12221},{"$f":"COUNTIF(L86:L111,AI21)","v":0},{"$f":"AJ21/(AL4-AJ25)","v":0},{"$f":"IF(AK21=0,0,(AK21*((LOG(AK21))/LOG(2))))","v":0},null,{"$f":"N21","v":12221},{"$f":"COUNTIF(L112:L137,AN21)","v":1},{"$f":"AO21/(AQ4-AO25)","v":4.1666666666666664E-2},{"$f":"IF(AP21=0,0,(AP21*((LOG(AP21))/LOG(2))))","v":-0.19104010419671485},null,{"$f":"N21","v":12221},{"$f":"COUNTIF(L138:L163,AS21)","v":1},{"$f":"AT21/(AV4-AT25)","v":3.8461538461538464E-2},{"$f":"IF(AU21=0,0,(AU21*((LOG(AU21))/LOG(2))))","v":-0.18078614300542661}]
[12,2612,24,2625,13,2637,23,2646,13,2659,0,12121,null,12222,{"$f":"COUNTIF($L$7:$L$500,N22)","v":0},{"$f":"O22/$Q$4","v":0},{"$f":"IF(P22=0,0,(P22*((LOG(P22))/LOG(2))))","v":0},null,null,{"$f":"N22","v":12222},{"$f":"COUNTIF(L7:L32,T22)","v":0},{"$f":"U22/(W4-U25)","v":0},{"$f":"IF(V22=0,0,(V22*((LOG(V22))/LOG(2))))","v":0},null,{"$f":"N22","v":12222},{"$f":"COUNTIF(L33:L58,Y22)","v":0},{"$f":"Z22/(AB4-Z25)","v":0},{"$f":"IF(AA22=0,0,(AA22*((LOG(AA22))/LOG(2))))","v":0},null,{"$f":"N22","v":12222},{"$f":"COUNTIF(L59:L85,AD22)","v":0},{"$f":"AE22/(AG4-AE25)","v":0},{"$f":"IF(AF22=0,0,(AF22*((LOG(AF22))/LOG(2))))","v":0},null,{"$f":"N22","v":12222},{"$f":"COUNTIF(L86:L111,AI22)","v":0},{"$f":"AJ22/(AL4-AJ25)","v":0},{"$f":"IF(AK22=0,0,(AK22*((LOG(AK22))/LOG(2))))","v":0},null,{"$f":"N22","v":12222},{"$f":"COUNTIF(L112:L137,AN22)","v":0},{"$f":"AO22/(AQ4-AO25)","v":0},{"$f":"IF(AP22=0,0,(AP22*((LOG(AP22))/LOG(2))))","v":0},null,{"$f":"N22","v":12222},{"$f":"COUNTIF(L138:L163,AS22)","v":0},{"$f":"AT22/(AV4-AT25)","v":0},{"$f":"IF(AU22=0,0,(AU22*((LOG(AU22))/LOG(2))))","v":0}]
[21,2764,11,2791,22,2805,14,2814,24,2828,0,21212,null,21111,{"$f":"COUNTIF($L$7:$L$500,N23)","v":0},{"$f":"O23/$Q$4","v":0},{"$f":"IF(P23=0,0,(P23*((LOG(P23))/LOG(2))))","v":0},null,null,{"$f":"N23","v":21111},{"$f":"COUNTIF(L7:L32,T23)","v":0},{"$f":"U23/(W4-U25)","v":0},{"$f":"IF(V23=0,0,(V23*((LOG(V23))/LOG(2))))","v":0},null,{"$f":"N23","v":21111},{"$f":"COUNTIF(L33:L58,Y23)","v":0},{"$f":"Z23/(AB4-Z25)","v":0},{"$f":"IF(AA23=0,0,(AA23*((LOG(AA23))/LOG(2))))","v":0},null,{"$f":"N23","v":21111},{"$f":"COUNTIF(L59:L85,AD23)","v":0},{"$f":"AE23/(AG4-AE25)","v":0},{"$f":"IF(AF23=0,0,(AF23*((LOG(AF23))/LOG(2))))","v":0},null,{"$f":"N23","v":21111},{"$f":"COUNTIF(L86:L111,AI23)","v":0},{"$f":"AJ23/(AL4-AJ25)","v":0},{"$f":"IF(AK23=0,0,(AK23*((LOG(AK23))/LOG(2))))","v":0},null,{"$f":"N23","v":21111},{"$f":"COUNTIF(L112:L137,AN23)","v":0},{"$f":"AO23/(AQ4-AO25)","v":0},{"$f":"IF(AP23=0,0,(AP23*((LOG(AP23))/LOG(2))))","v":0},null,{"$f":"N23","v":21111},{"$f":"COUNTIF(L138:L163,AS23)","v":0},{"$f":"AT23/(AV4-AT25)","v":0},{"$f":"IF(AU23=0,0,(AU23*((LOG(AU23))/LOG(2))))","v":0}]
[12,2929,24,2939,13,2950,23,2959,13,2970,0,12121,null,21112,{"$f":"COUNTIF($L$7:$L$500,N24)","v":0},{"$f":"O24/$Q$4","v":0},{"$f":"IF(P24=0,0,(P24*((LOG(P24))/LOG(2))))","v":0},null,null,{"$f":"N24","v":21112},{"$f":"COUNTIF(L7:L32,T24)","v":0},{"$f":"U24/(W4-U25)","v":0},{"$f":"IF(V24=0,0,(V24*((LOG(V24))/LOG(2))))","v":0},null,{"$f":"N24","v":21112},{"$f":"COUNTIF(L33:L58,Y24)","v":0},{"$f":"Z24/(AB4-Z25)","v":0},{"$f":"IF(AA24=0,0,(AA24*((LOG(AA24))/LOG(2))))","v":0},null,{"$f":"N24","v":21112},{"$f":"COUNTIF(L59:L85,AD24)","v":0},{"$f":"AE24/(AG4-AE25)","v":0},{"$f":"IF(AF24=0,0,(AF24*((LOG(AF24))/LOG(2))))","v":0},null,{"$f":"N24","v":21112},{"$f":"COUNTIF(L86:L111,AI24)","v":0},{"$f":"AJ24/(AL4-AJ25)","v":0},{"$f":"IF(AK24=0,0,(AK24*((LOG(AK24))/LOG(2))))","v":0},null,{"$f":"N24","v":21112},{"$f":"COUNTIF(L112:L137,AN24)","v":0},{"$f":"AO24/(AQ4-AO25)","v":0},{"$f":"IF(AP24=0,0,(AP24*((LOG(AP24))/LOG(2))))","v":0},null,{"$f":"N24","v":21112},{"$f":"COUNTIF(L138:L163,AS24)","v":0},{"$f":"AT24/(AV4-AT25)","v":0},{"$f":"IF(AU24=0,0,(AU24*((LOG(AU24))/LOG(2))))","v":0}]
[12,3082,24,3092,24,3100,14,3109,24,3123,0,12212,null,21121,{"$f":"COUNTIF($L$7:$L$500,N25)","v":8},{"$f":"O25/$Q$4","v":5.0955414012738856E-2},{"$f":"IF(P25=0,0,(P25*((LOG(P25))/LOG(2))))","v":-0.2188341782874714},null,null,{"$f":"N25","v":21121},{"$f":"COUNTIF(L7:L32,T25)","v":3},null,null,null,{"$f":"N25","v":21121},{"$f":"COUNTIF(L33:L58,Y25)","v":1},null,null,null,{"$f":"N25","v":21121},{"$f":"COUNTIF(L59:L85,AD25)","v":1},null,null,null,{"$f":"N25","v":21121},{"$f":"COUNTIF(L86:L111,AI25)","v":1},null,null,null,{"$f":"N25","v":21121},{"$f":"COUNTIF(L112:L137,AN25)","v":2},null,null,null,{"$f":"N25","v":21121},{"$f":"COUNTIF(L138:L163,AS25)","v":0}]
[12,3220,24,3238,24,3252,14,3262,24,3276,0,12212,null,21122,{"$f":"COUNTIF($L$7:$L$500,N26)","v":0},{"$f":"O26/$Q$4","v":0},{"$f":"IF(P26=0,0,(P26*((LOG(P26))/LOG(2))))","v":0},null,null,{"$f":"N26","v":21122},{"$f":"COUNTIF(L7:L32,T26)","v":0},{"$f":"U26/(W4-U25)","v":0},{"$f":"IF(V26=0,0,(V26*((LOG(V26))/LOG(2))))","v":0},null,{"$f":"N26","v":21122},{"$f":"COUNTIF(L33:L58,Y26)","v":0},{"$f":"Z26/(AB4-Z25)","v":0},{"$f":"IF(AA26=0,0,(AA26*((LOG(AA26))/LOG(2))))","v":0},null,{"$f":"N26","v":21122},{"$f":"COUNTIF(L59:L85,AD26)","v":0},{"$f":"AE26/(AG4-AE25)","v":0},{"$f":"IF(AF26=0,0,(AF26*((LOG(AF26))/LOG(2))))","v":0},null,{"$f":"N26","v":21122},{"$f":"COUNTIF(L86:L111,AI26)","v":0},{"$f":"AJ26/(AL4-AJ25)","v":0},{"$f":"IF(AK26=0,0,(AK26*((LOG(AK26))/LOG(2))))","v":0},null,{"$f":"N26","v":21122},{"$f":"COUNTIF(L112:L137,AN26)","v":0},{"$f":"AO26/(AQ4-AO25)","v":0},{"$f":"IF(AP26=0,0,(AP26*((LOG(AP26))/LOG(2))))","v":0},null,{"$f":"N26","v":21122},{"$f":"COUNTIF(L138:L163,AS26)","v":0},{"$f":"AT26/(AV4-AT25)","v":0},{"$f":"IF(AU26=0,0,(AU26*((LOG(AU26))/LOG(2))))","v":0}]
[12,3378,13,3389,24,3400,14,3409,24,3422,0,11212,null,21211,{"$f":"COUNTIF($L$7:$L$500,N27)","v":11},{"$f":"O27/$Q$4","v":7.0063694267515922E-2},{"$f":"IF(P27=0,0,(P27*((LOG(P27))/LOG(2))))","v":-0.26870751868023968},null,null,{"$f":"N27","v":21211},{"$f":"COUNTIF(L7:L32,T27)","v":1},{"$f":"U27/(W4-U25)","v":4.3478260869565216E-2},{"$f":"IF(V27=0,0,(V27*((LOG(V27))/LOG(2))))","v":-0.19667660678508753},null,{"$f":"N27","v":21211},{"$f":"COUNTIF(L33:L58,Y27)","v":2},{"$f":"Z27/(AB4-Z25)","v":0.08},{"$f":"IF(AA27=0,0,(AA27*((LOG(AA27))/LOG(2))))","v":-0.29150849518197797},null,{"$f":"N27","v":21211},{"$f":"COUNTIF(L59:L85,AD27)","v":1},{"$f":"AE27/(AG4-AE25)","v":3.8461538461538464E-2},{"$f":"IF(AF27=0,0,(AF27*((LOG(AF27))/LOG(2))))","v":-0.18078614300542661},null,{"$f":"N27","v":21211},{"$f":"COUNTIF(L86:L111,AI27)","v":1},{"$f":"AJ27/(AL4-AJ25)","v":0.04},{"$f":"IF(AK27=0,0,(AK27*((LOG(AK27))/LOG(2))))","v":-0.18575424759098899},null,{"$f":"N27","v":21211},{"$f":"COUNTIF(L112:L137,AN27)","v":2},{"$f":"AO27/(AQ4-AO25)","v":8.3333333333333329E-2},{"$f":"IF(AP27=0,0,(AP27*((LOG(AP27))/LOG(2))))","v":-0.29874687506009634},null,{"$f":"N27","v":21211},{"$f":"COUNTIF(L138:L163,AS27)","v":4},{"$f":"AT27/(AV4-AT25)","v":0.15384615384615385},{"$f":"IF(AU27=0,0,(AU27*((LOG(AU27))/LOG(2))))","v":-0.4154522643293988}]
[12,3532,24,3545,13,3553,14,3558,13,3564,0,12111,null,21212,{"$f":"COUNTIF($L$7:$L$500,N28)","v":11},{"$f":"O28/$Q$4","v":7.0063694267515922E-2},{"$f":"IF(P28=0,0,(P28*((LOG(P28))/LOG(2))))","v":-0.26870751868023968},null,null,{"$f":"N28","v":21212},{"$f":"COUNTIF(L7:L32,T28)","v":2},{"$f":"U28/(W4-U25)","v":8.6956521739130432E-2},{"$f":"IF(V28=0,0,(V28*((LOG(V28))/LOG(2))))","v":-0.30639669183104457},null,{"$f":"N28","v":21212},{"$f":"COUNTIF(L33:L58,Y28)","v":4},{"$f":"Z28/(AB4-Z25)","v":0.16},{"$f":"IF(AA28=0,0,(AA28*((LOG(AA28))/LOG(2))))","v":-0.42301699036395596},null,{"$f":"N28","v":21212},{"$f":"COUNTIF(L59:L85,AD28)","v":1},{"$f":"AE28/(AG4-AE25)","v":3.8461538461538464E-2},{"$f":"IF(AF28=0,0,(AF28*((LOG(AF28))/LOG(2))))","v":-0.18078614300542661},null,{"$f":"N28","v":21212},{"$f":"COUNTIF(L86:L111,AI28)","v":2},{"$f":"AJ28/(AL4-AJ25)","v":0.08},{"$f":"IF(AK28=0,0,(AK28*((LOG(AK28))/LOG(2))))","v":-0.29150849518197797},null,{"$f":"N28","v":21212},{"$f":"COUNTIF(L112:L137,AN28)","v":0},{"$f":"AO28/(AQ4-AO25)","v":0},{"$f":"IF(AP28=0,0,(AP28*((LOG(AP28))/LOG(2))))","v":0},null,{"$f":"N28","v":21212},{"$f":"COUNTIF(L138:L163,AS28)","v":2},{"$f":"AT28/(AV4-AT25)","v":7.6923076923076927E-2},{"$f":"IF(AU28=0,0,(AU28*((LOG(AU28))/LOG(2))))","v":-0.28464920908777636}]
[21,3671,11,3695,11,3721,21,3735,11,3748,1,21121,null,21221,{"$f":"COUNTIF($L$7:$L$500,N29)","v":0},{"$f":"O29/$Q$4","v":0},{"$f":"IF(P29=0,0,(P29*((LOG(P29))/LOG(2))))","v":0},null,null,{"$f":"N29","v":21221},{"$f":"COUNTIF(L7:L32,T29)","v":0},{"$f":"U29/(W4-U25)","v":0},{"$f":"IF(V29=0,0,(V29*((LOG(V29))/LOG(2))))","v":0},null,{"$f":"N29","v":21221},{"$f":"COUNTIF(L33:L58,Y29)","v":0},{"$f":"Z29/(AB4-Z25)","v":0},{"$f":"IF(AA29=0,0,(AA29*((LOG(AA29))/LOG(2))))","v":0},null,{"$f":"N29","v":21221},{"$f":"COUNTIF(L59:L85,AD29)","v":0},{"$f":"AE29/(AG4-AE25)","v":0},{"$f":"IF(AF29=0,0,(AF29*((LOG(AF29))/LOG(2))))","v":0},null,{"$f":"N29","v":21221},{"$f":"COUNTIF(L86:L111,AI29)","v":0},{"$f":"AJ29/(AL4-AJ25)","v":0},{"$f":"IF(AK29=0,0,(AK29*((LOG(AK29))/LOG(2))))","v":0},null,{"$f":"N29","v":21221},{"$f":"COUNTIF(L112:L137,AN29)","v":0},{"$f":"AO29/(AQ4-AO25)","v":0},{"$f":"IF(AP29=0,0,(AP29*((LOG(AP29))/LOG(2))))","v":0},null,{"$f":"N29","v":21221},{"$f":"COUNTIF(L138:L163,AS29)","v":0},{"$f":"AT29/(AV4-AT25)","v":0},{"$f":"IF(AU29=0,0,(AU29*((LOG(AU29))/LOG(2))))","v":0}]
[21,3845,22,3850,24,3869,14,3879,24,3893,0,22212,null,21222,{"$f":"COUNTIF($L$7:$L$500,N30)","v":0},{"$f":"O30/$Q$4","v":0},{"$f":"IF(P30=0,0,(P30*((LOG(P30))/LOG(2))))","v":0},null,null,{"$f":"N30","v":21222},{"$f":"COUNTIF(L7:L32,T30)","v":0},{"$f":"U30/(W4-U25)","v":0},{"$f":"IF(V30=0,0,(V30*((LOG(V30))/LOG(2))))","v":0},null,{"$f":"N30","v":21222},{"$f":"COUNTIF(L33:L58,Y30)","v":0},{"$f":"Z30/(AB4-Z25)","v":0},{"$f":"IF(AA30=0,0,(AA30*((LOG(AA30))/LOG(2))))","v":0},null,{"$f":"N30","v":21222},{"$f":"COUNTIF(L59:L85,AD30)","v":0},{"$f":"AE30/(AG4-AE25)","v":0},{"$f":"IF(AF30=0,0,(AF30*((LOG(AF30))/LOG(2))))","v":0},null,{"$f":"N30","v":21222},{"$f":"COUNTIF(L86:L111,AI30)","v":0},{"$f":"AJ30/(AL4-AJ25)","v":0},{"$f":"IF(AK30=0,0,(AK30*((LOG(AK30))/LOG(2))))","v":0},null,{"$f":"N30","v":21222},{"$f":"COUNTIF(L112:L137,AN30)","v":0},{"$f":"AO30/(AQ4-AO25)","v":0},{"$f":"IF(AP30=0,0,(AP30*((LOG(AP30))/LOG(2))))","v":0},null,{"$f":"N30","v":21222},{"$f":"COUNTIF(L138:L163,AS30)","v":0},{"$f":"AT30/(AV4-AT25)","v":0},{"$f":"IF(AU30=0,0,(AU30*((LOG(AU30))/LOG(2))))","v":0}]
[12,3990,24,4003,13,4012,23,4021,13,4033,0,12121,null,22111,{"$f":"COUNTIF($L$7:$L$500,N31)","v":0},{"$f":"O31/$Q$4","v":0},{"$f":"IF(P31=0,0,(P31*((LOG(P31))/LOG(2))))","v":0},null,null,{"$f":"N31","v":22111},{"$f":"COUNTIF(L7:L32,T31)","v":0},{"$f":"U31/(W4-U25)","v":0},{"$f":"IF(V31=0,0,(V31*((LOG(V31))/LOG(2))))","v":0},null,{"$f":"N31","v":22111},{"$f":"COUNTIF(L33:L58,Y31)","v":0},{"$f":"Z31/(AB4-Z25)","v":0},{"$f":"IF(AA31=0,0,(AA31*((LOG(AA31))/LOG(2))))","v":0},null,{"$f":"N31","v":22111},{"$f":"COUNTIF(L59:L85,AD31)","v":0},{"$f":"AE31/(AG4-AE25)","v":0},{"$f":"IF(AF31=0,0,(AF31*((LOG(AF31))/LOG(2))))","v":0},null,{"$f":"N31","v":22111},{"$f":"COUNTIF(L86:L111,AI31)","v":0},{"$f":"AJ31/(AL4-AJ25)","v":0},{"$f":"IF(AK31=0,0,(AK31*((LOG(AK31))/LOG(2))))","v":0},null,{"$f":"N31","v":22111},{"$f":"COUNTIF(L112:L137,AN31)","v":0},{"$f":"AO31/(AQ4-AO25)","v":0},{"$f":"IF(AP31=0,0,(AP31*((LOG(AP31))/LOG(2))))","v":0},null,{"$f":"N31","v":22111},{"$f":"COUNTIF(L138:L163,AS31)","v":0},{"$f":"AT31/(AV4-AT25)","v":0},{"$f":"IF(AU31=0,0,(AU31*((LOG(AU31))/LOG(2))))","v":0}]
[12,4132,24,4147,13,4156,14,4161,24,4173,0,12112,null,22112,{"$f":"COUNTIF($L$7:$L$500,N32)","v":3},{"$f":"O32/$Q$4","v":1.9108280254777069E-2},{"$f":"IF(P32=0,0,(P32*((LOG(P32))/LOG(2))))","v":-0.10910174996504084},null,null,{"$f":"N32","v":22112},{"$f":"COUNTIF(L7:L32,T32)","v":0},{"$f":"U32/(W4-U25)","v":0},{"$f":"IF(V32=0,0,(V32*((LOG(V32))/LOG(2))))","v":0},null,{"$f":"N32","v":22112},{"$f":"COUNTIF(L33:L58,Y32)","v":0},{"$f":"Z32/(AB4-Z25)","v":0},{"$f":"IF(AA32=0,0,(AA32*((LOG(AA32))/LOG(2))))","v":0},null,{"$f":"N32","v":22112},{"$f":"COUNTIF(L59:L85,AD32)","v":1},{"$f":"AE32/(AG4-AE25)","v":3.8461538461538464E-2},{"$f":"IF(AF32=0,0,(AF32*((LOG(AF32))/LOG(2))))","v":-0.18078614300542661},null,{"$f":"N32","v":22112},{"$f":"COUNTIF(L86:L111,AI32)","v":2},{"$f":"AJ32/(AL4-AJ25)","v":0.08},{"$f":"IF(AK32=0,0,(AK32*((LOG(AK32))/LOG(2))))","v":-0.29150849518197797},null,{"$f":"N32","v":22112},{"$f":"COUNTIF(L112:L137,AN32)","v":0},{"$f":"AO32/(AQ4-AO25)","v":0},{"$f":"IF(AP32=0,0,(AP32*((LOG(AP32))/LOG(2))))","v":0},null,{"$f":"N32","v":22112},{"$f":"COUNTIF(L138:L163,AS32)","v":0},{"$f":"AT32/(AV4-AT25)","v":0},{"$f":"IF(AU32=0,0,(AU32*((LOG(AU32))/LOG(2))))","v":0}]
[12,4278,13,4283,13,4287,23,4297,13,4305,0,11121,null,22121,{"$f":"COUNTIF($L$7:$L$500,N33)","v":20},{"$f":"O33/$Q$4","v":0.12738853503184713},{"$f":"IF(P33=0,0,(P33*((LOG(P33))/LOG(2))))","v":-0.37868696229353688},null,null,{"$f":"N33","v":22121},{"$f":"COUNTIF(L7:L32,T33)","v":0},{"$f":"U33/(W4-U25)","v":0},{"$f":"IF(V33=0,0,(V33*((LOG(V33))/LOG(2))))","v":0},null,{"$f":"N33","v":22121},{"$f":"COUNTIF(L33:L58,Y33)","v":2},{"$f":"Z33/(AB4-Z25)","v":0.08},{"$f":"IF(AA33=0,0,(AA33*((LOG(AA33))/LOG(2))))","v":-0.29150849518197797},null,{"$f":"N33","v":22121},{"$f":"COUNTIF(L59:L85,AD33)","v":4},{"$f":"AE33/(AG4-AE25)","v":0.15384615384615385},{"$f":"IF(AF33=0,0,(AF33*((LOG(AF33))/LOG(2))))","v":-0.4154522643293988},null,{"$f":"N33","v":22121},{"$f":"COUNTIF(L86:L111,AI33)","v":4},{"$f":"AJ33/(AL4-AJ25)","v":0.16},{"$f":"IF(AK33=0,0,(AK33*((LOG(AK33))/LOG(2))))","v":-0.42301699036395596},null,{"$f":"N33","v":22121},{"$f":"COUNTIF(L112:L137,AN33)","v":5},{"$f":"AO33/(AQ4-AO25)","v":0.20833333333333334},{"$f":"IF(AP33=0,0,(AP33*((LOG(AP33))/LOG(2))))","v":-0.47146550121537367},null,{"$f":"N33","v":22121},{"$f":"COUNTIF(L138:L163,AS33)","v":5},{"$f":"AT33/(AV4-AT25)","v":0.19230769230769232},{"$f":"IF(AU33=0,0,(AU33*((LOG(AU33))/LOG(2))))","v":-0.45740608139494804}]
[12,4404,24,4417,13,4425,14,4429,24,4438,0,12112,null,22122,{"$f":"COUNTIF($L$7:$L$500,N34)","v":0},{"$f":"O34/$Q$4","v":0},{"$f":"IF(P34=0,0,(P34*((LOG(P34))/LOG(2))))","v":0},null,null,{"$f":"N34","v":22122},{"$f":"COUNTIF(L7:L32,T34)","v":0},{"$f":"U34/(W4-U25)","v":0},{"$f":"IF(V34=0,0,(V34*((LOG(V34))/LOG(2))))","v":0},null,{"$f":"N34","v":22122},{"$f":"COUNTIF(L33:L58,Y34)","v":0},{"$f":"Z34/(AB4-Z25)","v":0},{"$f":"IF(AA34=0,0,(AA34*((LOG(AA34))/LOG(2))))","v":0},null,{"$f":"N34","v":22122},{"$f":"COUNTIF(L59:L85,AD34)","v":0},{"$f":"AE34/(AG4-AE25)","v":0},{"$f":"IF(AF34=0,0,(AF34*((LOG(AF34))/LOG(2))))","v":0},null,{"$f":"N34","v":22122},{"$f":"COUNTIF(L86:L111,AI34)","v":0},{"$f":"AJ34/(AL4-AJ25)","v":0},{"$f":"IF(AK34=0,0,(AK34*((LOG(AK34))/LOG(2))))","v":0},null,{"$f":"N34","v":22122},{"$f":"COUNTIF(L112:L137,AN34)","v":0},{"$f":"AO34/(AQ4-AO25)","v":0},{"$f":"IF(AP34=0,0,(AP34*((LOG(AP34))/LOG(2))))","v":0},null,{"$f":"N34","v":22122},{"$f":"COUNTIF(L138:L163,AS34)","v":0},{"$f":"AT34/(AV4-AT25)","v":0},{"$f":"IF(AU34=0,0,(AU34*((LOG(AU34))/LOG(2))))","v":0}]
[12,4536,13,4555,13,4569,23,4582,13,4592,0,11121,null,22211,{"$f":"COUNTIF($L$7:$L$500,N35)","v":4},{"$f":"O35/$Q$4","v":2.5477707006369428E-2},{"$f":"IF(P35=0,0,(P35*((LOG(P35))/LOG(2))))","v":-0.13489479615010516},null,null,{"$f":"N35","v":22211},{"$f":"COUNTIF(L7:L32,T35)","v":1},{"$f":"U35/(W4-U25)","v":4.3478260869565216E-2},{"$f":"IF(V35=0,0,(V35*((LOG(V35))/LOG(2))))","v":-0.19667660678508753},null,{"$f":"N35","v":22211},{"$f":"COUNTIF(L33:L58,Y35)","v":1},{"$f":"Z35/(AB4-Z25)","v":0.04},{"$f":"IF(AA35=0,0,(AA35*((LOG(AA35))/LOG(2))))","v":-0.18575424759098899},null,{"$f":"N35","v":22211},{"$f":"COUNTIF(L59:L85,AD35)","v":0},{"$f":"AE35/(AG4-AE25)","v":0},{"$f":"IF(AF35=0,0,(AF35*((LOG(AF35))/LOG(2))))","v":0},null,{"$f":"N35","v":22211},{"$f":"COUNTIF(L86:L111,AI35)","v":1},{"$f":"AJ35/(AL4-AJ25)","v":0.04},{"$f":"IF(AK35=0,0,(AK35*((LOG(AK35))/LOG(2))))","v":-0.18575424759098899},null,{"$f":"N35","v":22211},{"$f":"COUNTIF(L112:L137,AN35)","v":1},{"$f":"AO35/(AQ4-AO25)","v":4.1666666666666664E-2},{"$f":"IF(AP35=0,0,(AP35*((LOG(AP35))/LOG(2))))","v":-0.19104010419671485},null,{"$f":"N35","v":22211},{"$f":"COUNTIF(L138:L163,AS35)","v":0},{"$f":"AT35/(AV4-AT25)","v":0},{"$f":"IF(AU35=0,0,(AU35*((LOG(AU35))/LOG(2))))","v":0}]
[12,4709,24,4734,13,4743,14,4751,24,4764,0,12112,null,22212,{"$f":"COUNTIF($L$7:$L$500,N36)","v":3},{"$f":"O36/$Q$4","v":1.9108280254777069E-2},{"$f":"IF(P36=0,0,(P36*((LOG(P36))/LOG(2))))","v":-0.10910174996504084},null,null,{"$f":"N36","v":22212},{"$f":"COUNTIF(L7:L32,T36)","v":1},{"$f":"U36/(W4-U25)","v":4.3478260869565216E-2},{"$f":"IF(V36=0,0,(V36*((LOG(V36))/LOG(2))))","v":-0.19667660678508753},null,{"$f":"N36","v":22212},{"$f":"COUNTIF(L33:L58,Y36)","v":0},{"$f":"Z36/(AB4-Z25)","v":0},{"$f":"IF(AA36=0,0,(AA36*((LOG(AA36))/LOG(2))))","v":0},null,{"$f":"N36","v":22212},{"$f":"COUNTIF(L59:L85,AD36)","v":1},{"$f":"AE36/(AG4-AE25)","v":3.8461538461538464E-2},{"$f":"IF(AF36=0,0,(AF36*((LOG(AF36))/LOG(2))))","v":-0.18078614300542661},null,{"$f":"N36","v":22212},{"$f":"COUNTIF(L86:L111,AI36)","v":1},{"$f":"AJ36/(AL4-AJ25)","v":0.04},{"$f":"IF(AK36=0,0,(AK36*((LOG(AK36))/LOG(2))))","v":-0.18575424759098899},null,{"$f":"N36","v":22212},{"$f":"COUNTIF(L112:L137,AN36)","v":0},{"$f":"AO36/(AQ4-AO25)","v":0},{"$f":"IF(AP36=0,0,(AP36*((LOG(AP36))/LOG(2))))","v":0},null,{"$f":"N36","v":22212},{"$f":"COUNTIF(L138:L163,AS36)","v":0},{"$f":"AT36/(AV4-AT25)","v":0},{"$f":"IF(AU36=0,0,(AU36*((LOG(AU36))/LOG(2))))","v":0}]
[12,4866,24,4876,13,4885,14,4890,24,4899,0,12112,null,22221,{"$f":"COUNTIF($L$7:$L$500,N37)","v":3},{"$f":"O37/$Q$4","v":1.9108280254777069E-2},{"$f":"IF(P37=0,0,(P37*((LOG(P37))/LOG(2))))","v":-0.10910174996504084},null,null,{"$f":"N37","v":22221},{"$f":"COUNTIF(L7:L32,T37)","v":0},{"$f":"U37/(W4-U25)","v":0},{"$f":"IF(V37=0,0,(V37*((LOG(V37))/LOG(2))))","v":0},null,{"$f":"N37","v":22221},{"$f":"COUNTIF(L33:L58,Y37)","v":0},{"$f":"Z37/(AB4-Z25)","v":0},{"$f":"IF(AA37=0,0,(AA37*((LOG(AA37))/LOG(2))))","v":0},null,{"$f":"N37","v":22221},{"$f":"COUNTIF(L59:L85,AD37)","v":1},{"$f":"AE37/(AG4-AE25)","v":3.8461538461538464E-2},{"$f":"IF(AF37=0,0,(AF37*((LOG(AF37))/LOG(2))))","v":-0.18078614300542661},null,{"$f":"N37","v":22221},{"$f":"COUNTIF(L86:L111,AI37)","v":0},{"$f":"AJ37/(AL4-AJ25)","v":0},{"$f":"IF(AK37=0,0,(AK37*((LOG(AK37))/LOG(2))))","v":0},null,{"$f":"N37","v":22221},{"$f":"COUNTIF(L112:L137,AN37)","v":2},{"$f":"AO37/(AQ4-AO25)","v":8.3333333333333329E-2},{"$f":"IF(AP37=0,0,(AP37*((LOG(AP37))/LOG(2))))","v":-0.29874687506009634},null,{"$f":"N37","v":22221},{"$f":"COUNTIF(L138:L163,AS37)","v":0},{"$f":"AT37/(AV4-AT25)","v":0},{"$f":"IF(AU37=0,0,(AU37*((LOG(AU37))/LOG(2))))","v":0}]
[21,5002,11,5018,22,5030,14,5041,24,5054,0,21212,null,22222,{"$f":"COUNTIF($L$7:$L$500,N38)","v":0},{"$f":"O38/$Q$4","v":0},{"$f":"IF(P38=0,0,(P38*((LOG(P38))/LOG(2))))","v":0},null,null,{"$f":"N38","v":22222},{"$f":"COUNTIF(L7:L32,T38)","v":0},{"$f":"U38/(W4-U25)","v":0},{"$f":"IF(V38=0,0,(V38*((LOG(V38))/LOG(2))))","v":0},null,{"$f":"N38","v":22222},{"$f":"COUNTIF(L33:L58,Y38)","v":0},{"$f":"Z38/(AB4-Z25)","v":0},{"$f":"IF(AA38=0,0,(AA38*((LOG(AA38))/LOG(2))))","v":0},null,{"$f":"N38","v":22222},{"$f":"COUNTIF(L59:L85,AD38)","v":0},{"$f":"AE38/(AG4-AE25)","v":0},{"$f":"IF(AF38=0,0,(AF38*((LOG(AF38))/LOG(2))))","v":0},null,{"$f":"N38","v":22222},{"$f":"COUNTIF(L86:L111,AI38)","v":0},{"$f":"AJ38/(AL4-AJ25)","v":0},{"$f":"IF(AK38=0,0,(AK38*((LOG(AK38))/LOG(2))))","v":0},null,{"$f":"N38","v":22222},{"$f":"COUNTIF(L112:L137,AN38)","v":0},{"$f":"AO38/(AQ4-AO25)","v":0},{"$f":"IF(AP38=0,0,(AP38*((LOG(AP38))/LOG(2))))","v":0},null,{"$f":"N38","v":22222},{"$f":"COUNTIF(L138:L163,AS38)","v":0},{"$f":"AT38/(AV4-AT25)","v":0},{"$f":"IF(AU38=0,0,(AU38*((LOG(AU38))/LOG(2))))","v":0}]
[21,5160,22,5168,13,5177,23,5184,13,5194,0,22121,null,null,null,{"$f":"SUM(P7:P38)","v":0.99999999999999989},{"$f":"-SUM(Q7:Q38)","v":3.7558786710675172},null,null,null,null,{"$f":"SUM(V7:V38)","v":0.99999999999999978},{"$f":"-SUM(W7:W38)","v":3.3772781309874356},null,null,null,{"$f":"SUM(AA7:AA38)","v":1},{"$f":"-SUM(AB7:AB38)","v":3.173660689688186},null,null,null,{"$f":"SUM(AF7:AF38)","v":1},{"$f":"-SUM(AG7:AG38)","v":3.3001946428885263},null,null,null,{"$f":"SUM(AK7:AK38)","v":1},{"$f":"-SUM(AL7:AL38)","v":3.3794705707972517},null,null,null,{"$f":"SUM(AP7:AP38)","v":1},{"$f":"-SUM(AQ7:AQ38)","v":3.1174924611847548},null,null,null,{"$f":"SUM(AU7:AU38)","v":1},{"$f":"-SUM(AV7:AV38)","v":2.9612366047228762}]
[21,5298,22,5310,13,5322,23,5331,13,5343,0,22121,null,null,null,"U=",{"$f":"Q39/(LOG(Q4)/LOG(2))","v":0.5148833366886415},null,null,null,null,"U1=",{"$f":"W39/(LOG(W4)/LOG(2))","v":0.71850259411965522},null,null,null,"U2=",{"$f":"AB39/(LOG(AB4)/LOG(2))","v":0.67518378704860638},null,null,null,"U3=",{"$f":"AG39/(LOG(AG4)/LOG(2))","v":0.69406366425850063},null,null,null,"U4=",{"$f":"AL39/(LOG(AL4)/LOG(2))","v":0.71896902703684695},null,null,null,"U5=",{"$f":"AQ39/(LOG(AQ4)/LOG(2))","v":0.66323421809941785},null,null,null,"U6=",{"$f":"AV39/(LOG(AV4)/LOG(2))","v":0.62999140129255238}]
[12,5466,24,5472,13,5481,23,5492,13,5504,0,12121]
[12,5612,13,5622,24,5628,14,5640,24,5653,0,11212]
[21,5756,11,5771,22,5780,14,5789,13,5805,0,21211,null,"Total Target Seq"]
[12,5915,13,5934,24,5943,14,5955,13,5970,0,11211,null,{"$f":"COUNTIF(L7:L163,G3)","v":8},null,26,26,27,26,26,26]
[12,6079,13,6083,24,6093,14,6101,24,6112,0,11212,null,null,null,"% of reinforcement given in 6 equal intervals based on number of trials "]
[21,6214,11,6229,22,6237,14,6247,24,6260,0,21212,null,null,null,"%_1","%_2","%_3","%_4","%_5","%_6"]
[21,6362,11,6380,22,6390,14,6399,13,6413,0,21211,null,null,"target sequence",{"$f":"$G$3","v":21121},{"$f":"$G$3","v":21121},{"$f":"$G$3","v":21121},{"$f":"$G$3","v":21121},{"$f":"$G$3","v":21121},{"$f":"$G$3","v":21121}]
[21,6515,22,6521,24,6538,14,6556,13,6581,0,22211,null,null,"total reinforcement",{"$f":"U25","v":3},{"$f":"Z25","v":1},{"$f":"AE25","v":1},{"$f":"AJ25","v":1},{"$f":"AO25","v":2},{"$f":"AT25","v":0}]
[21,6687,11,6705,22,6714,14,6724,24,6737,0,21212,null,null,"% target"]
[12,6836,24,6846,13,6853,23,6861,13,6871,0,12121,null,null,"CCRF"]
[12,6971,13,6982,24,6990,14,7005,24,7021,0,11212,null,null,"% CCRf"]
[21,7126,11,7143,22,7151,14,7167,24,7178,0,21212,null,null,"average response rate",{"$f":"J32/P44","v":160.5},{"$f":"(J58-J32)/Q44","v":151.57692307692307},{"$f":"(J85-J58)/R44","v":152.4814814814815},{"$f":"(J111-J85)/S44","v":151.07692307692307},{"$f":"(J137-J111)/T44","v":145.34615384615384},{"$f":"(J163-J137)/U44","v":152.76923076923077}]
[12,7282,24,7299,13,7307,23,7316,13,7328,0,12121]
[12,7431,13,7442,24,7452,14,7461,13,7470,0,11211]
[12,7580,24,7591,13,7599,23,7613,13,7625,0,12121]
[12,7726,13,7756,24,7775,23,7805,13,7823,0,11221]
[21,7930,11,7943,11,7954,21,7966,11,7978,1,21121]
[12,8076,13,8086,24,8094,14,8102,24,8114,0,11212]
[12,8214,13,8227,24,8237,14,8250,24,8261,0,11212]
[21,8364,22,8370,13,8380,23,8388,13,8399,0,22121]
[12,8496,13,8507,13,8512,23,8518,13,8526,0,11121]
[12,8630,24,8644,13,8653,23,8665,13,8676,0,12121]
[12,8798,24,8809,13,8817,23,8830,13,8842,0,12121]
[12,8965,24,8973,13,8982,23,8991,13,9002,0,12121]
[12,9104,24,9133,13,9144,23,9153,13,9164,0,12121]
[12,9271,13,9282,24,9291,14,9301,24,9308,0,11212]
[12,9408,24,9446,13,9456,14,9465,24,9477,0,12112]
[21,9584,11,9619,22,9624,14,9637,13,9652,0,21211]
[21,9783,22,9802,13,9811,23,9824,13,9836,0,22121]
[12,9946,24,9955,13,9965,23,9973,13,9983,0,12121]
[21,10086,22,10104,13,10115,23,10124,13,10135,0,22121]
[12,10245,24,10261,24,10274,14,10283,13,10292,0,12211]
[12,10394,24,10403,24,10420,14,10430,24,10442,0,12212]
[12,10547,13,10560,24,10572,14,10582,13,10599,0,11211]
[21,10703,22,10719,24,10725,23,10743,13,10752,0,22221]
[12,10854,24,10861,13,10870,14,10875,24,10889,0,12112]
[12,10989,24,11017,13,11029,23,11038,13,11050,0,12121]
[12,11160,24,11173,13,11182,23,11191,13,11203,0,12121]
[21,11316,22,11333,13,11342,14,11346,24,11361,0,22112]
[21,11477,11,11490,22,11499,14,11508,24,11520,0,21212]
[21,11625,22,11639,24,11643,14,11664,24,11673,0,22212]
[21,11775,11,11791,11,11796,21,11805,11,11815,1,21121]
[21,11911,22,11916,13,11929,23,11938,13,11950,0,22121]
[12,12048,24,12061,24,12068,14,12077,24,12091,0,12212]
[12,12188,13,12197,24,12210,14,12218,24,12231,0,11212]
[21,12335,22,12341,13,12351,23,12360,13,12369,0,22121]
[12,12468,24,12481,24,12503,14,12515,13,12525,0,12211]
[12,12631,13,12639,24,12651,14,12660,24,12673,0,11212]
[12,12776,13,12785,24,12796,14,12806,24,12818,0,11212]
[21,12943,11,12957,22,12965,14,12975,24,12987,0,21212]
[21,13090,22,13096,13,13108,23,13116,13,13126,0,22121]
[12,13224,13,13233,24,13243,14,13252,24,13265,0,11212]
[12,13367,24,13383,13,13395,23,13409,13,13421,0,12121]
[12,13521,13,13530,13,13536,23,13546,13,13557,0,11121]
[21,13661,22,13666,24,13690,14,13699,24,13710,0,22212]
[12,13834,13,13838,24,13862,14,13876,13,13887,0,11211]
[12,14002,24,14015,13,14024,23,14038,13,14047,0,12121]
[12,14148,13,14158,24,14167,14,14177,24,14186,0,11212]
[21,14295,22,14321,13,14332,14,14340,24,14354,0,22112]
[12,14453,13,14462,24,14482,23,14493,24,14502,0,11222]
[12,14613,13,14619,24,14628,14,14636,24,14648,0,11212]
[21,14756,22,14764,24,14768,14,14781,13,14804,0,22211]
[21,14907,11,14926,22,14932,14,14986,13,14994,0,21211]
[21,15095,11,15109,22,15118,14,15128,24,15141,0,21212]
[21,15246,22,15274,13,15284,23,15294,13,15306,0,22121]
[12,15421,24,15428,13,15436,23,15445,13,15458,0,12121]
[21,15560,22,15565,13,15579,14,15584,24,15593,0,22112]
[12,15692,24,15702,13,15713,23,15721,13,15734,0,12121]
[21,15837,11,15851,11,15855,21,15870,11,15881,1,21121]
[21,15970,22,15974,13,15983,23,15992,13,16002,0,22121]
[12,16103,24,16119,24,16137,14,16145,24,16159,0,12212]
[21,16279,22,16284,13,16295,23,16302,13,16315,0,22121]
[21,16421,11,16438,22,16450,14,16460,13,16478,0,21211]
[21,16589,22,16595,24,16603,14,16611,13,16616,0,22211]
[12,16728,13,16732,24,16745,14,16757,13,16777,0,11211]
[21,16879,22,16888,24,16893,23,16917,13,16930,0,22221]
[21,17035,11,17049,11,17058,21,17064,11,17075,1,21121]
[21,17170,22,17175,13,17188,23,17194,13,17206,0,22121]
[12,17308,24,17319,24,17329,14,17342,24,17351,0,12212]
[12,17458,24,17471,13,17479,23,17491,13,17499,0,12121]
[21,17606,22,17614,13,17627,23,17633,13,17643,0,22121]
[21,17744,22,17749,13,17763,23,17772,13,17782,0,22121]
[12,17879,13,17891,13,17896,23,17905,13,17916,0,11121]
[21,18021,22,18029,24,18039,23,18045,13,18056,0,22221]
[12,18155,24,18163,13,18177,23,18186,13,18198,0,12121]
[21,18320,11,18338,22,18346,14,18358,13,18380,0,21211]
[21,18485,11,18497,11,18504,21,18513,11,18525,1,21121]
[12,18623,24,18631,13,18642,23,18653,13,18667,0,12121]
[12,18765,24,18777,13,18785,23,18796,13,18805,0,12121]
[12,18901,13,18907,24,18915,14,18923,24,18931,0,11212]
[12,19035,13,19046,13,19051,23,19061,13,19073,0,11121]
[21,19180,22,19191,13,19199,23,19207,13,19218,0,22121]
[12,19320,24,19332,24,19337,14,19348,24,19356,0,12212]
[12,19454,13,19463,24,19472,14,19481,13,19500,0,11211]
[12,19596,24,19617,24,19621,23,19627,13,19644,0,12221]
[12,19749,24,19758,13,19768,23,19777,13,19789,0,12121]
[12,19888,13,19900,24,19914,14,19925,24,19938,0,11212]
[21,20044,22,20053,13,20065,23,20076,13,20088,0,22121]
[12,20189,24,20210,13,20219,23,20227,13,20236,0,12121]
[21,20339,11,20352,22,20358,14,20388,24,20400,0,21212]
[12,20500,13,20513,24,20519,14,20531,13,20551,0,11211]
[12,20652,24,20669,24,20678,14,20691,24,20706,0,12212]
[12,20803,13,20808,24,20817,14,20826,24,20834,0,11212]
[12,20931,24,20944,24,20949,14,20957,24,20965,0,12212]
[21,21069,11,21086,22,21096,14,21108,13,21126,0,21211]
[21,21225,22,21232,13,21242,23,21251,13,21260,0,22121]
[21,21369,11,21381,22,21389,14,21400,13,21419,0,21211]
[21,21522,11,21532,22,21541,14,21552,13,21569,0,21211]
[12,21674,13,21688,24,21696,14,21706,24,21719,0,11212]
[12,21835,13,21847,13,21852,23,21863,13,21875,0,11121]
[12,21973,13,21978,24,21996,14,22005,13,22020,0,11211]
[12,22130,13,22136,24,22144,14,22157,13,22174,0,11211]
[12,22284,24,22290,13,22299,23,22309,13,22321,0,12121]
[21,22433,22,22451,13,22461,23,22473,13,22485,0,22121]
[21,22586,11,22598,22,22604,14,22614,24,22623,0,21212]
[12,22726,24,22733,13,22742,23,22751,13,22764,0,12121]
[21,22864,22,22873,13,22883,23,22890,13,22899,0,22121]
[12,23005,24,23015,13,23025,23,23033,13,23052,0,12121]
[12,23160,13,23185,24,23214,14,23224,13,23241,0,11211]
[12,23347,24,23362,24,23367,23,23387,13,23396,0,12221]
[12,23527,24,23535,13,23543,23,23555,13,23566,0,12121]
[21,23732,11,23741,22,23749,14,23761,13,23777,0,21211]
[21,23880,22,23885,13,23895,23,23901,13,23910,0,22121]

{"sheet":"!N216810.091","index":26,"n_rows":160,"n_cols":48,"rows_kept":160,"cut":false,"hidden":false,"merged":[[4,39,4,42],[5,39,5,40],[4,44,4,47],[5,44,5,45],[4,24,4,27],[5,24,5,25],[4,29,4,32],[5,29,5,30],[4,34,4,37],[5,34,5,35],[1,1,1,2],[5,13,5,14],[42,13,42,14],[43,13,43,14],[4,19,4,22],[5,19,5,20]]}
["Report for:!N216810.091"]
["Date:","<date>"]
["Hen:","<hen>",null,null,null,"Correct Sequence",{"$f":"Start!J2","v":21121},null,null,null,null,null,null,null,null,"Total Sequences in Data",{"$f":"4994-COUNTBLANK(L7:L5000)","v":154},null,null,null,null,"Total Sequences in Block Data",{"$f":"COUNTA(L7:L32)","v":26},null,null,null,"Total Sequences in Block Data",{"$f":"COUNTA(L33:L57)","v":25},null,null,null,"Total Sequences in Block Data",{"$f":"COUNTA(L58:L83)","v":26},null,null,null,"Total Sequences in Block Data",{"$f":"COUNTA(L84:L109)","v":26},null,null,null,"Total Sequences in Block Data",{"$f":"COUNTA(L110:L134)","v":25},null,null,null,"Total Sequences in Block Data",{"$f":"COUNTA(L135:L160)","v":26}]
[null,null,null,null,null,null,null,null,null,null,null,null,null,null,null,"Total Sequences in Summary",{"$f":"SUM(O7:O38)","v":154},null,null,null,null,"Total Sequences in Block Summary",{"$f":"SUM(U7:U38)","v":26},null,null,null,"Total Sequences in Block Summary",{"$f":"SUM(Z7:Z38)","v":25},null,null,null,"Total Sequences in Block Summary",{"$f":"SUM(AE7:AE38)","v":26},null,null,null,"Total Sequences in Block Summary",{"$f":"SUM(AJ7:AJ38)","v":26},null,null,null,"Total Sequences in Block Summary",{"$f":"SUM(AO7:AO38)","v":25},null,null,null,"Total Sequences in Block Summary",{"$f":"SUM(AT7:AT38)","v":26}]
[null,null,null,null,null,null,null,null,null,null,null,null,null,null,null,null,null,null,null,"Block 1",null,null,null,null,"Block 2",null,null,null,null,"Block 3",null,null,null,null,"Block 4",null,null,null,null,"Block 5",null,null,null,null,"Block 6"]
["Sequence\nComponent\n1","Time\n1","Sequence\nComponent\n2","Time\n2","Sequence\nComponent\n3","Time\n3","Sequence\nComponent\n4","Time\n4","Sequence\nComponent\n5","Time\n5","Correct?\n0=No 1=Yes","Sequence",null,"Frequency",null,"Relative Frequency","Variability",null,null,"Frequency",null,"Relative Frequency","Variability",null,"Frequency",null,"Relative Frequency","Variability",null,"Frequency",null,"Relative Frequency","Variability",null,"Frequency",null,"Relative Frequency","Variability",null,"Frequency",null,"Relative Frequency","Variability",null,"Frequency",null,"Relative Frequency","Variability"]
[21,34,11,43,22,56,14,68,24,80,0,21212,null,11111,{"$f":"COUNTIF($L$7:$L$500,N7)","v":0},{"$f":"O7/$Q$4","v":0},{"$f":"IF(P7=0,0,(P7*((LOG(P7))/LOG(2))))","v":0},null,null,{"$f":"N7","v":11111},{"$f":"COUNTIF(L7:L32,T7)","v":0},{"$f":"U7/(W4-U25)","v":0},{"$f":"IF(V7=0,0,(V7*((LOG(V7))/LOG(2))))","v":0},null,{"$f":"N7","v":11111},{"$f":"COUNTIF(L33:L57,Y7)","v":0},{"$f":"Z7/(AB4-Z25)","v":0},{"$f":"IF(AA7=0,0,(AA7*((LOG(AA7))/LOG(2))))","v":0},null,{"$f":"N7","v":11111},{"$f":"COUNTIF(L58:L83,AD7)","v":0},{"$f":"AE7/(AG4-AE25)","v":0},{"$f":"IF(AF7=0,0,(AF7*((LOG(AF7))/LOG(2))))","v":0},null,{"$f":"N7","v":11111},{"$f":"COUNTIF(L84:L109,AI7)","v":0},{"$f":"AJ7/(AL4-AJ25)","v":0},{"$f":"IF(AK7=0,0,(AK7*((LOG(AK7))/LOG(2))))","v":0},null,{"$f":"N7","v":11111},{"$f":"COUNTIF(L110:L134,AN7)","v":0},{"$f":"AO7/(AQ4-AO25)","v":0},{"$f":"IF(AP7=0,0,(AP7*((LOG(AP7))/LOG(2))))","v":0},null,{"$f":"N7","v":11111},{"$f":"COUNTIF(L135:L160,AS7)","v":0},{"$f":"AT7/(AV4-AT25)","v":0},{"$f":"IF(AU7=0,0,(AU7*((LOG(AU7))/LOG(2))))","v":0}]
[12,197,13,203,24,214,14,226,24,239,0,11212,null,11112,{"$f":"COUNTIF($L$7:$L$500,N8)","v":3},{"$f":"O8/$Q$4","v":1.948051948051948E-2},{"$f":"IF(P8=0,0,(P8*((LOG(P8))/LOG(2))))","v":-0.11068488389559245},null,null,{"$f":"N8","v":11112},{"$f":"COUNTIF(L7:L32,T8)","v":2},{"$f":"U8/(W4-U25)","v":0.08},{"$f":"IF(V8=0,0,(V8*((LOG(V8))/LOG(2))))","v":-0.29150849518197797},null,{"$f":"N8","v":11112},{"$f":"COUNTIF(L33:L57,Y8)","v":0},{"$f":"Z8/(AB4-Z25)","v":0},{"$f":"IF(AA8=0,0,(AA8*((LOG(AA8))/LOG(2))))","v":0},null,{"$f":"N8","v":11112},{"$f":"COUNTIF(L58:L83,AD8)","v":0},{"$f":"AE8/(AG4-AE25)","v":0},{"$f":"IF(AF8=0,0,(AF8*((LOG(AF8))/LOG(2))))","v":0},null,{"$f":"N8","v":11112},{"$f":"COUNTIF(L84:L109,AI8)","v":0},{"$f":"AJ8/(AL4-AJ25)","v":0},{"$f":"IF(AK8=0,0,(AK8*((LOG(AK8))/LOG(2))))","v":0},null,{"$f":"N8","v":11112},{"$f":"COUNTIF(L110:L134,AN8)","v":1},{"$f":"AO8/(AQ4-AO25)","v":0.04},{"$f":"IF(AP8=0,0,(AP8*((LOG(AP8))/LOG(2))))","v":-0.18575424759098899},null,{"$f":"N8","v":11112},{"$f":"COUNTIF(L135:L160,AS8)","v":0},{"$f":"AT8/(AV4-AT25)","v":0},{"$f":"IF(AU8=0,0,(AU8*((LOG(AU8))/LOG(2))))","v":0}]
[12,341,24,350,13,360,23,370,13,382,0,12121,null,11121,{"$f":"COUNTIF($L$7:$L$500,N9)","v":10},{"$f":"O9/$Q$4","v":6.4935064935064929E-2},{"$f":"IF(P9=0,0,(P9*((LOG(P9))/LOG(2))))","v":-0.25615963933815183},null,null,{"$f":"N9","v":11121},{"$f":"COUNTIF(L7:L32,T9)","v":1},{"$f":"U9/(W4-U25)","v":0.04},{"$f":"IF(V9=0,0,(V9*((LOG(V9))/LOG(2))))","v":-0.18575424759098899},null,{"$f":"N9","v":11121},{"$f":"COUNTIF(L33:L57,Y9)","v":2},{"$f":"Z9/(AB4-Z25)","v":0.08},{"$f":"IF(AA9=0,0,(AA9*((LOG(AA9))/LOG(2))))","v":-0.29150849518197797},null,{"$f":"N9","v":11121},{"$f":"COUNTIF(L58:L83,AD9)","v":0},{"$f":"AE9/(AG4-AE25)","v":0},{"$f":"IF(AF9=0,0,(AF9*((LOG(AF9))/LOG(2))))","v":0},null,{"$f":"N9","v":11121},{"$f":"COUNTIF(L84:L109,AI9)","v":0},{"$f":"AJ9/(AL4-AJ25)","v":0},{"$f":"IF(AK9=0,0,(AK9*((LOG(AK9))/LOG(2))))","v":0},null,{"$f":"N9","v":11121},{"$f":"COUNTIF(L110:L134,AN9)","v":3},{"$f":"AO9/(AQ4-AO25)","v":0.12},{"$f":"IF(AP9=0,0,(AP9*((LOG(AP9))/LOG(2))))","v":-0.36706724268642821},null,{"$f":"N9","v":11121},{"$f":"COUNTIF(L135:L160,AS9)","v":4},{"$f":"AT9/(AV4-AT25)","v":0.16},{"$f":"IF(AU9=0,0,(AU9*((LOG(AU9))/LOG(2))))","v":-0.42301699036395596}]
[21,493,22,501,13,516,14,520,24,533,0,22112,null,11122,{"$f":"COUNTIF($L$7:$L$500,N10)","v":0},{"$f":"O10/$Q$4","v":0},{"$f":"IF(P10=0,0,(P10*((LOG(P10))/LOG(2))))","v":0},null,null,{"$f":"N10","v":11122},{"$f":"COUNTIF(L7:L32,T10)","v":0},{"$f":"U10/(W4-U25)","v":0},{"$f":"IF(V10=0,0,(V10*((LOG(V10))/LOG(2))))","v":0},null,{"$f":"N10","v":11122},{"$f":"COUNTIF(L33:L57,Y10)","v":0},{"$f":"Z10/(AB4-Z25)","v":0},{"$f":"IF(AA10=0,0,(AA10*((LOG(AA10))/LOG(2))))","v":0},null,{"$f":"N10","v":11122},{"$f":"COUNTIF(L58:L83,AD10)","v":0},{"$f":"AE10/(AG4-AE25)","v":0},{"$f":"IF(AF10=0,0,(AF10*((LOG(AF10))/LOG(2))))","v":0},null,{"$f":"N10","v":11122},{"$f":"COUNTIF(L84:L109,AI10)","v":0},{"$f":"AJ10/(AL4-AJ25)","v":0},{"$f":"IF(AK10=0,0,(AK10*((LOG(AK10))/LOG(2))))","v":0},null,{"$f":"N10","v":11122},{"$f":"COUNTIF(L110:L134,AN10)","v":0},{"$f":"AO10/(AQ4-AO25)","v":0},{"$f":"IF(AP10=0,0,(AP10*((LOG(AP10))/LOG(2))))","v":0},null,{"$f":"N10","v":11122},{"$f":"COUNTIF(L135:L160,AS10)","v":0},{"$f":"AT10/(AV4-AT25)","v":0},{"$f":"IF(AU10=0,0,(AU10*((LOG(AU10))/LOG(2))))","v":0}]
[12,641,24,651,13,662,23,676,13,687,0,12121,null,11211,{"$f":"COUNTIF($L$7:$L$500,N11)","v":10},{"$f":"O11/$Q$4","v":6.4935064935064929E-2},{"$f":"IF(P11=0,0,(P11*((LOG(P11))/LOG(2))))","v":-0.25615963933815183},null,null,{"$f":"N11","v":11211},{"$f":"COUNTIF(L7:L32,T11)","v":1},{"$f":"U11/(W4-U25)","v":0.04},{"$f":"IF(V11=0,0,(V11*((LOG(V11))/LOG(2))))","v":-0.18575424759098899},null,{"$f":"N11","v":11211},{"$f":"COUNTIF(L33:L57,Y11)","v":1},{"$f":"Z11/(AB4-Z25)","v":0.04},{"$f":"IF(AA11=0,0,(AA11*((LOG(AA11))/LOG(2))))","v":-0.18575424759098899},null,{"$f":"N11","v":11211},{"$f":"COUNTIF(L58:L83,AD11)","v":4},{"$f":"AE11/(AG4-AE25)","v":0.15384615384615385},{"$f":"IF(AF11=0,0,(AF11*((LOG(AF11))/LOG(2))))","v":-0.4154522643293988},null,{"$f":"N11","v":11211},{"$f":"COUNTIF(L84:L109,AI11)","v":0},{"$f":"AJ11/(AL4-AJ25)","v":0},{"$f":"IF(AK11=0,0,(AK11*((LOG(AK11))/LOG(2))))","v":0},null,{"$f":"N11","v":11211},{"$f":"COUNTIF(L110:L134,AN11)","v":2},{"$f":"AO11/(AQ4-AO25)","v":0.08},{"$f":"IF(AP11=0,0,(AP11*((LOG(AP11))/LOG(2))))","v":-0.29150849518197797},null,{"$f":"N11","v":11211},{"$f":"COUNTIF(L135:L160,AS11)","v":2},{"$f":"AT11/(AV4-AT25)","v":0.08},{"$f":"IF(AU11=0,0,(AU11*((LOG(AU11))/LOG(2))))","v":-0.29150849518197797}]
[21,796,11,807,11,811,21,820,11,832,1,21121,null,11212,{"$f":"COUNTIF($L$7:$L$500,N12)","v":16},{"$f":"O12/$Q$4","v":0.1038961038961039},{"$f":"IF(P12=0,0,(P12*((LOG(P12))/LOG(2))))","v":-0.33940639383843135},null,null,{"$f":"N12","v":11212},{"$f":"COUNTIF(L7:L32,T12)","v":2},{"$f":"U12/(W4-U25)","v":0.08},{"$f":"IF(V12=0,0,(V12*((LOG(V12))/LOG(2))))","v":-0.29150849518197797},null,{"$f":"N12","v":11212},{"$f":"COUNTIF(L33:L57,Y12)","v":2},{"$f":"Z12/(AB4-Z25)","v":0.08},{"$f":"IF(AA12=0,0,(AA12*((LOG(AA12))/LOG(2))))","v":-0.29150849518197797},null,{"$f":"N12","v":11212},{"$f":"COUNTIF(L58:L83,AD12)","v":4},{"$f":"AE12/(AG4-AE25)","v":0.15384615384615385},{"$f":"IF(AF12=0,0,(AF12*((LOG(AF12))/LOG(2))))","v":-0.4154522643293988},null,{"$f":"N12","v":11212},{"$f":"COUNTIF(L84:L109,AI12)","v":2},{"$f":"AJ12/(AL4-AJ25)","v":7.6923076923076927E-2},{"$f":"IF(AK12=0,0,(AK12*((LOG(AK12))/LOG(2))))","v":-0.28464920908777636},null,{"$f":"N12","v":11212},{"$f":"COUNTIF(L110:L134,AN12)","v":2},{"$f":"AO12/(AQ4-AO25)","v":0.08},{"$f":"IF(AP12=0,0,(AP12*((LOG(AP12))/LOG(2))))","v":-0.29150849518197797},null,{"$f":"N12","v":11212},{"$f":"COUNTIF(L135:L160,AS12)","v":4},{"$f":"AT12/(AV4-AT25)","v":0.16},{"$f":"IF(AU12=0,0,(AU12*((LOG(AU12))/LOG(2))))","v":-0.42301699036395596}]
[12,934,24,942,13,954,23,964,13,976,0,12121,null,11221,{"$f":"COUNTIF($L$7:$L$500,N13)","v":1},{"$f":"O13/$Q$4","v":6.4935064935064939E-3},{"$f":"IF(P13=0,0,(P13*((LOG(P13))/LOG(2))))","v":-4.7186925588927932E-2},null,null,{"$f":"N13","v":11221},{"$f":"COUNTIF(L7:L32,T13)","v":0},{"$f":"U13/(W4-U25)","v":0},{"$f":"IF(V13=0,0,(V13*((LOG(V13))/LOG(2))))","v":0},null,{"$f":"N13","v":11221},{"$f":"COUNTIF(L33:L57,Y13)","v":1},{"$f":"Z13/(AB4-Z25)","v":0.04},{"$f":"IF(AA13=0,0,(AA13*((LOG(AA13))/LOG(2))))","v":-0.18575424759098899},null,{"$f":"N13","v":11221},{"$f":"COUNTIF(L58:L83,AD13)","v":0},{"$f":"AE13/(AG4-AE25)","v":0},{"$f":"IF(AF13=0,0,(AF13*((LOG(AF13))/LOG(2))))","v":0},null,{"$f":"N13","v":11221},{"$f":"COUNTIF(L84:L109,AI13)","v":0},{"$f":"AJ13/(AL4-AJ25)","v":0},{"$f":"IF(AK13=0,0,(AK13*((LOG(AK13))/LOG(2))))","v":0},null,{"$f":"N13","v":11221},{"$f":"COUNTIF(L110:L134,AN13)","v":0},{"$f":"AO13/(AQ4-AO25)","v":0},{"$f":"IF(AP13=0,0,(AP13*((LOG(AP13))/LOG(2))))","v":0},null,{"$f":"N13","v":11221},{"$f":"COUNTIF(L135:L160,AS13)","v":0},{"$f":"AT13/(AV4-AT25)","v":0},{"$f":"IF(AU13=0,0,(AU13*((LOG(AU13))/LOG(2))))","v":0}]
[12,1087,24,1094,13,1103,23,1115,13,1125,0,12121,null,11222,{"$f":"COUNTIF($L$7:$L$500,N14)","v":0},{"$f":"O14/$Q$4","v":0},{"$f":"IF(P14=0,0,(P14*((LOG(P14))/LOG(2))))","v":0},null,null,{"$f":"N14","v":11222},{"$f":"COUNTIF(L7:L32,T14)","v":0},{"$f":"U14/(W4-U25)","v":0},{"$f":"IF(V14=0,0,(V14*((LOG(V14))/LOG(2))))","v":0},null,{"$f":"N14","v":11222},{"$f":"COUNTIF(L33:L57,Y14)","v":0},{"$f":"Z14/(AB4-Z25)","v":0},{"$f":"IF(AA14=0,0,(AA14*((LOG(AA14))/LOG(2))))","v":0},null,{"$f":"N14","v":11222},{"$f":"COUNTIF(L58:L83,AD14)","v":0},{"$f":"AE14/(AG4-AE25)","v":0},{"$f":"IF(AF14=0,0,(AF14*((LOG(AF14))/LOG(2))))","v":0},null,{"$f":"N14","v":11222},{"$f":"COUNTIF(L84:L109,AI14)","v":0},{"$f":"AJ14/(AL4-AJ25)","v":0},{"$f":"IF(AK14=0,0,(AK14*((LOG(AK14))/LOG(2))))","v":0},null,{"$f":"N14","v":11222},{"$f":"COUNTIF(L110:L134,AN14)","v":0},{"$f":"AO14/(AQ4-AO25)","v":0},{"$f":"IF(AP14=0,0,(AP14*((LOG(AP14))/LOG(2))))","v":0},null,{"$f":"N14","v":11222},{"$f":"COUNTIF(L135:L160,AS14)","v":0},{"$f":"AT14/(AV4-AT25)","v":0},{"$f":"IF(AU14=0,0,(AU14*((LOG(AU14))/LOG(2))))","v":0}]
[12,1230,24,1239,13,1248,23,1258,13,1268,0,12121,null,12111,{"$f":"COUNTIF($L$7:$L$500,N15)","v":3},{"$f":"O15/$Q$4","v":1.948051948051948E-2},{"$f":"IF(P15=0,0,(P15*((LOG(P15))/LOG(2))))","v":-0.11068488389559245},null,null,{"$f":"N15","v":12111},{"$f":"COUNTIF(L7:L32,T15)","v":0},{"$f":"U15/(W4-U25)","v":0},{"$f":"IF(V15=0,0,(V15*((LOG(V15))/LOG(2))))","v":0},null,{"$f":"N15","v":12111},{"$f":"COUNTIF(L33:L57,Y15)","v":0},{"$f":"Z15/(AB4-Z25)","v":0},{"$f":"IF(AA15=0,0,(AA15*((LOG(AA15))/LOG(2))))","v":0},null,{"$f":"N15","v":12111},{"$f":"COUNTIF(L58:L83,AD15)","v":1},{"$f":"AE15/(AG4-AE25)","v":3.8461538461538464E-2},{"$f":"IF(AF15=0,0,(AF15*((LOG(AF15))/LOG(2))))","v":-0.18078614300542661},null,{"$f":"N15","v":12111},{"$f":"COUNTIF(L84:L109,AI15)","v":0},{"$f":"AJ15/(AL4-AJ25)","v":0},{"$f":"IF(AK15=0,0,(AK15*((LOG(AK15))/LOG(2))))","v":0},null,{"$f":"N15","v":12111},{"$f":"COUNTIF(L110:L134,AN15)","v":1},{"$f":"AO15/(AQ4-AO25)","v":0.04},{"$f":"IF(AP15=0,0,(AP15*((LOG(AP15))/LOG(2))))","v":-0.18575424759098899},null,{"$f":"N15","v":12111},{"$f":"COUNTIF(L135:L160,AS15)","v":1},{"$f":"AT15/(AV4-AT25)","v":0.04},{"$f":"IF(AU15=0,0,(AU15*((LOG(AU15))/LOG(2))))","v":-0.18575424759098899}]
[21,1380,11,1396,22,1404,14,1415,24,1426,0,21212,null,12112,{"$f":"COUNTIF($L$7:$L$500,N16)","v":9},{"$f":"O16/$Q$4","v":5.844155844155844E-2},{"$f":"IF(P16=0,0,(P16*((LOG(P16))/LOG(2))))","v":-0.23942697307320324},null,null,{"$f":"N16","v":12112},{"$f":"COUNTIF(L7:L32,T16)","v":0},{"$f":"U16/(W4-U25)","v":0},{"$f":"IF(V16=0,0,(V16*((LOG(V16))/LOG(2))))","v":0},null,{"$f":"N16","v":12112},{"$f":"COUNTIF(L33:L57,Y16)","v":4},{"$f":"Z16/(AB4-Z25)","v":0.16},{"$f":"IF(AA16=0,0,(AA16*((LOG(AA16))/LOG(2))))","v":-0.42301699036395596},null,{"$f":"N16","v":12112},{"$f":"COUNTIF(L58:L83,AD16)","v":0},{"$f":"AE16/(AG4-AE25)","v":0},{"$f":"IF(AF16=0,0,(AF16*((LOG(AF16))/LOG(2))))","v":0},null,{"$f":"N16","v":12112},{"$f":"COUNTIF(L84:L109,AI16)","v":2},{"$f":"AJ16/(AL4-AJ25)","v":7.6923076923076927E-2},{"$f":"IF(AK16=0,0,(AK16*((LOG(AK16))/LOG(2))))","v":-0.28464920908777636},null,{"$f":"N16","v":12112},{"$f":"COUNTIF(L110:L134,AN16)","v":1},{"$f":"AO16/(AQ4-AO25)","v":0.04},{"$f":"IF(AP16=0,0,(AP16*((LOG(AP16))/LOG(2))))","v":-0.18575424759098899},null,{"$f":"N16","v":12112},{"$f":"COUNTIF(L135:L160,AS16)","v":2},{"$f":"AT16/(AV4-AT25)","v":0.08},{"$f":"IF(AU16=0,0,(AU16*((LOG(AU16))/LOG(2))))","v":-0.29150849518197797}]
[21,1548,11,1561,11,1576,12,1593,24,1605,0,21112,null,12121,{"$f":"COUNTIF($L$7:$L$500,N17)","v":41},{"$f":"O17/$Q$4","v":0.26623376623376621},{"$f":"IF(P17=0,0,(P17*((LOG(P17))/LOG(2))))","v":-0.50830270116330867},null,null,{"$f":"N17","v":12121},{"$f":"COUNTIF(L7:L32,T17)","v":7},{"$f":"U17/(W4-U25)","v":0.28000000000000003},{"$f":"IF(V17=0,0,(V17*((LOG(V17))/LOG(2))))","v":-0.51422035496079388},null,{"$f":"N17","v":12121},{"$f":"COUNTIF(L33:L57,Y17)","v":9},{"$f":"Z17/(AB4-Z25)","v":0.36},{"$f":"IF(AA17=0,0,(AA17*((LOG(AA17))/LOG(2))))","v":-0.53061522779966841},null,{"$f":"N17","v":12121},{"$f":"COUNTIF(L58:L83,AD17)","v":10},{"$f":"AE17/(AG4-AE25)","v":0.38461538461538464},{"$f":"IF(AF17=0,0,(AF17*((LOG(AF17))/LOG(2))))","v":-0.53019677817451139},null,{"$f":"N17","v":12121},{"$f":"COUNTIF(L84:L109,AI17)","v":7},{"$f":"AJ17/(AL4-AJ25)","v":0.26923076923076922},{"$f":"IF(AK17=0,0,(AK17*((LOG(AK17))/LOG(2))))","v":-0.50967667586863141},null,{"$f":"N17","v":12121},{"$f":"COUNTIF(L110:L134,AN17)","v":5},{"$f":"AO17/(AQ4-AO25)","v":0.2},{"$f":"IF(AP17=0,0,(AP17*((LOG(AP17))/LOG(2))))","v":-0.46438561897747244},null,{"$f":"N17","v":12121},{"$f":"COUNTIF(L135:L160,AS17)","v":3},{"$f":"AT17/(AV4-AT25)","v":0.12},{"$f":"IF(AU17=0,0,(AU17*((LOG(AU17))/LOG(2))))","v":-0.36706724268642821}]
[21,1728,11,1736,22,1745,14,1757,24,1772,0,21212,null,12122,{"$f":"COUNTIF($L$7:$L$500,N18)","v":1},{"$f":"O18/$Q$4","v":6.4935064935064939E-3},{"$f":"IF(P18=0,0,(P18*((LOG(P18))/LOG(2))))","v":-4.7186925588927932E-2},null,null,{"$f":"N18","v":12122},{"$f":"COUNTIF(L7:L32,T18)","v":0},{"$f":"U18/(W4-U25)","v":0},{"$f":"IF(V18=0,0,(V18*((LOG(V18))/LOG(2))))","v":0},null,{"$f":"N18","v":12122},{"$f":"COUNTIF(L33:L57,Y18)","v":0},{"$f":"Z18/(AB4-Z25)","v":0},{"$f":"IF(AA18=0,0,(AA18*((LOG(AA18))/LOG(2))))","v":0},null,{"$f":"N18","v":12122},{"$f":"COUNTIF(L58:L83,AD18)","v":0},{"$f":"AE18/(AG4-AE25)","v":0},{"$f":"IF(AF18=0,0,(AF18*((LOG(AF18))/LOG(2))))","v":0},null,{"$f":"N18","v":12122},{"$f":"COUNTIF(L84:L109,AI18)","v":1},{"$f":"AJ18/(AL4-AJ25)","v":3.8461538461538464E-2},{"$f":"IF(AK18=0,0,(AK18*((LOG(AK18))/LOG(2))))","v":-0.18078614300542661},null,{"$f":"N18","v":12122},{"$f":"COUNTIF(L110:L134,AN18)","v":0},{"$f":"AO18/(AQ4-AO25)","v":0},{"$f":"IF(AP18=0,0,(AP18*((LOG(AP18))/LOG(2))))","v":0},null,{"$f":"N18","v":12122},{"$f":"COUNTIF(L135:L160,AS18)","v":0},{"$f":"AT18/(AV4-AT25)","v":0},{"$f":"IF(AU18=0,0,(AU18*((LOG(AU18))/LOG(2))))","v":0}]
[12,1870,24,1879,13,1889,23,1898,13,1908,0,12121,null,12211,{"$f":"COUNTIF($L$7:$L$500,N19)","v":0},{"$f":"O19/$Q$4","v":0},{"$f":"IF(P19=0,0,(P19*((LOG(P19))/LOG(2))))","v":0},null,null,{"$f":"N19","v":12211},{"$f":"COUNTIF(L7:L32,T19)","v":0},{"$f":"U19/(W4-U25)","v":0},{"$f":"IF(V19=0,0,(V19*((LOG(V19))/LOG(2))))","v":0},null,{"$f":"N19","v":12211},{"$f":"COUNTIF(L33:L57,Y19)","v":0},{"$f":"Z19/(AB4-Z25)","v":0},{"$f":"IF(AA19=0,0,(AA19*((LOG(AA19))/LOG(2))))","v":0},null,{"$f":"N19","v":12211},{"$f":"COUNTIF(L58:L83,AD19)","v":0},{"$f":"AE19/(AG4-AE25)","v":0},{"$f":"IF(AF19=0,0,(AF19*((LOG(AF19))/LOG(2))))","v":0},null,{"$f":"N19","v":12211},{"$f":"COUNTIF(L84:L109,AI19)","v":0},{"$f":"AJ19/(AL4-AJ25)","v":0},{"$f":"IF(AK19=0,0,(AK19*((LOG(AK19))/LOG(2))))","v":0},null,{"$f":"N19","v":12211},{"$f":"COUNTIF(L110:L134,AN19)","v":0},{"$f":"AO19/(AQ4-AO25)","v":0},{"$f":"IF(AP19=0,0,(AP19*((LOG(AP19))/LOG(2))))","v":0},null,{"$f":"N19","v":12211},{"$f":"COUNTIF(L135:L160,AS19)","v":0},{"$f":"AT19/(AV4-AT25)","v":0},{"$f":"IF(AU19=0,0,(AU19*((LOG(AU19))/LOG(2))))","v":0}]
[21,2030,22,2034,13,2045,14,2055,24,2068,0,22112,null,12212,{"$f":"COUNTIF($L$7:$L$500,N20)","v":6},{"$f":"O20/$Q$4","v":3.896103896103896E-2},{"$f":"IF(P20=0,0,(P20*((LOG(P20))/LOG(2))))","v":-0.18240872883014592},null,null,{"$f":"N20","v":12212},{"$f":"COUNTIF(L7:L32,T20)","v":0},{"$f":"U20/(W4-U25)","v":0},{"$f":"IF(V20=0,0,(V20*((LOG(V20))/LOG(2))))","v":0},null,{"$f":"N20","v":12212},{"$f":"COUNTIF(L33:L57,Y20)","v":1},{"$f":"Z20/(AB4-Z25)","v":0.04},{"$f":"IF(AA20=0,0,(AA20*((LOG(AA20))/LOG(2))))","v":-0.18575424759098899},null,{"$f":"N20","v":12212},{"$f":"COUNTIF(L58:L83,AD20)","v":1},{"$f":"AE20/(AG4-AE25)","v":3.8461538461538464E-2},{"$f":"IF(AF20=0,0,(AF20*((LOG(AF20))/LOG(2))))","v":-0.18078614300542661},null,{"$f":"N20","v":12212},{"$f":"COUNTIF(L84:L109,AI20)","v":0},{"$f":"AJ20/(AL4-AJ25)","v":0},{"$f":"IF(AK20=0,0,(AK20*((LOG(AK20))/LOG(2))))","v":0},null,{"$f":"N20","v":12212},{"$f":"COUNTIF(L110:L134,AN20)","v":2},{"$f":"AO20/(AQ4-AO25)","v":0.08},{"$f":"IF(AP20=0,0,(AP20*((LOG(AP20))/LOG(2))))","v":-0.29150849518197797},null,{"$f":"N20","v":12212},{"$f":"COUNTIF(L135:L160,AS20)","v":2},{"$f":"AT20/(AV4-AT25)","v":0.08},{"$f":"IF(AU20=0,0,(AU20*((LOG(AU20))/LOG(2))))","v":-0.29150849518197797}]
[12,2167,13,2173,13,2179,14,2197,24,2209,0,11112,null,12221,{"$f":"COUNTIF($L$7:$L$500,N21)","v":0},{"$f":"O21/$Q$4","v":0},{"$f":"IF(P21=0,0,(P21*((LOG(P21))/LOG(2))))","v":0},null,null,{"$f":"N21","v":12221},{"$f":"COUNTIF(L7:L32,T21)","v":0},{"$f":"U21/(W4-U25)","v":0},{"$f":"IF(V21=0,0,(V21*((LOG(V21))/LOG(2))))","v":0},null,{"$f":"N21","v":12221},{"$f":"COUNTIF(L33:L57,Y21)","v":0},{"$f":"Z21/(AB4-Z25)","v":0},{"$f":"IF(AA21=0,0,(AA21*((LOG(AA21))/LOG(2))))","v":0},null,{"$f":"N21","v":12221},{"$f":"COUNTIF(L58:L83,AD21)","v":0},{"$f":"AE21/(AG4-AE25)","v":0},{"$f":"IF(AF21=0,0,(AF21*((LOG(AF21))/LOG(2))))","v":0},null,{"$f":"N21","v":12221},{"$f":"COUNTIF(L84:L109,AI21)","v":0},{"$f":"AJ21/(AL4-AJ25)","v":0},{"$f":"IF(AK21=0,0,(AK21*((LOG(AK21))/LOG(2))))","v":0},null,{"$f":"N21","v":12221},{"$f":"COUNTIF(L110:L134,AN21)","v":0},{"$f":"AO21/(AQ4-AO25)","v":0},{"$f":"IF(AP21=0,0,(AP21*((LOG(AP21))/LOG(2))))","v":0},null,{"$f":"N21","v":12221},{"$f":"COUNTIF(L135:L160,AS21)","v":0},{"$f":"AT21/(AV4-AT25)","v":0},{"$f":"IF(AU21=0,0,(AU21*((LOG(AU21))/LOG(2))))","v":0}]
[21,2316,11,2330,22,2339,14,2351,24,2363,0,21212,null,12222,{"$f":"COUNTIF($L$7:$L$500,N22)","v":0},{"$f":"O22/$Q$4","v":0},{"$f":"IF(P22=0,0,(P22*((LOG(P22))/LOG(2))))","v":0},null,null,{"$f":"N22","v":12222},{"$f":"COUNTIF(L7:L32,T22)","v":0},{"$f":"U22/(W4-U25)","v":0},{"$f":"IF(V22=0,0,(V22*((LOG(V22))/LOG(2))))","v":0},null,{"$f":"N22","v":12222},{"$f":"COUNTIF(L33:L57,Y22)","v":0},{"$f":"Z22/(AB4-Z25)","v":0},{"$f":"IF(AA22=0,0,(AA22*((LOG(AA22))/LOG(2))))","v":0},null,{"$f":"N22","v":12222},{"$f":"COUNTIF(L58:L83,AD22)","v":0},{"$f":"AE22/(AG4-AE25)","v":0},{"$f":"IF(AF22=0,0,(AF22*((LOG(AF22))/LOG(2))))","v":0},null,{"$f":"N22","v":12222},{"$f":"COUNTIF(L84:L109,AI22)","v":0},{"$f":"AJ22/(AL4-AJ25)","v":0},{"$f":"IF(AK22=0,0,(AK22*((LOG(AK22))/LOG(2))))","v":0},null,{"$f":"N22","v":12222},{"$f":"COUNTIF(L110:L134,AN22)","v":0},{"$f":"AO22/(AQ4-AO25)","v":0},{"$f":"IF(AP22=0,0,(AP22*((LOG(AP22))/LOG(2))))","v":0},null,{"$f":"N22","v":12222},{"$f":"COUNTIF(L135:L160,AS22)","v":0},{"$f":"AT22/(AV4-AT25)","v":0},{"$f":"IF(AU22=0,0,(AU22*((LOG(AU22))/LOG(2))))","v":0}]
[21,2472,11,2493,22,2499,14,2511,24,2525,0,21212,null,21111,{"$f":"COUNTIF($L$7:$L$500,N23)","v":0},{"$f":"O23/$Q$4","v":0},{"$f":"IF(P23=0,0,(P23*((LOG(P23))/LOG(2))))","v":0},null,null,{"$f":"N23","v":21111},{"$f":"COUNTIF(L7:L32,T23)","v":0},{"$f":"U23/(W4-U25)","v":0},{"$f":"IF(V23=0,0,(V23*((LOG(V23))/LOG(2))))","v":0},null,{"$f":"N23","v":21111},{"$f":"COUNTIF(L33:L57,Y23)","v":0},{"$f":"Z23/(AB4-Z25)","v":0},{"$f":"IF(AA23=0,0,(AA23*((LOG(AA23))/LOG(2))))","v":0},null,{"$f":"N23","v":21111},{"$f":"COUNTIF(L58:L83,AD23)","v":0},{"$f":"AE23/(AG4-AE25)","v":0},{"$f":"IF(AF23=0,0,(AF23*((LOG(AF23))/LOG(2))))","v":0},null,{"$f":"N23","v":21111},{"$f":"COUNTIF(L84:L109,AI23)","v":0},{"$f":"AJ23/(AL4-AJ25)","v":0},{"$f":"IF(AK23=0,0,(AK23*((LOG(AK23))/LOG(2))))","v":0},null,{"$f":"N23","v":21111},{"$f":"COUNTIF(L110:L134,AN23)","v":0},{"$f":"AO23/(AQ4-AO25)","v":0},{"$f":"IF(AP23=0,0,(AP23*((LOG(AP23))/LOG(2))))","v":0},null,{"$f":"N23","v":21111},{"$f":"COUNTIF(L135:L160,AS23)","v":0},{"$f":"AT23/(AV4-AT25)","v":0},{"$f":"IF(AU23=0,0,(AU23*((LOG(AU23))/LOG(2))))","v":0}]
[21,2636,11,2649,22,2655,14,2665,24,2677,0,21212,null,21112,{"$f":"COUNTIF($L$7:$L$500,N24)","v":1},{"$f":"O24/$Q$4","v":6.4935064935064939E-3},{"$f":"IF(P24=0,0,(P24*((LOG(P24))/LOG(2))))","v":-4.7186925588927932E-2},null,null,{"$f":"N24","v":21112},{"$f":"COUNTIF(L7:L32,T24)","v":1},{"$f":"U24/(W4-U25)","v":0.04},{"$f":"IF(V24=0,0,(V24*((LOG(V24))/LOG(2))))","v":-0.18575424759098899},null,{"$f":"N24","v":21112},{"$f":"COUNTIF(L33:L57,Y24)","v":0},{"$f":"Z24/(AB4-Z25)","v":0},{"$f":"IF(AA24=0,0,(AA24*((LOG(AA24))/LOG(2))))","v":0},null,{"$f":"N24","v":21112},{"$f":"COUNTIF(L58:L83,AD24)","v":0},{"$f":"AE24/(AG4-AE25)","v":0},{"$f":"IF(AF24=0,0,(AF24*((LOG(AF24))/LOG(2))))","v":0},null,{"$f":"N24","v":21112},{"$f":"COUNTIF(L84:L109,AI24)","v":0},{"$f":"AJ24/(AL4-AJ25)","v":0},{"$f":"IF(AK24=0,0,(AK24*((LOG(AK24))/LOG(2))))","v":0},null,{"$f":"N24","v":21112},{"$f":"COUNTIF(L110:L134,AN24)","v":0},{"$f":"AO24/(AQ4-AO25)","v":0},{"$f":"IF(AP24=0,0,(AP24*((LOG(AP24))/LOG(2))))","v":0},null,{"$f":"N24","v":21112},{"$f":"COUNTIF(L135:L160,AS24)","v":0},{"$f":"AT24/(AV4-AT25)","v":0},{"$f":"IF(AU24=0,0,(AU24*((LOG(AU24))/LOG(2))))","v":0}]
[12,2781,13,2793,13,2814,14,2829,24,2842,0,11112,null,21121,{"$f":"COUNTIF($L$7:$L$500,N25)","v":2},{"$f":"O25/$Q$4","v":1.2987012987012988E-2},{"$f":"IF(P25=0,0,(P25*((LOG(P25))/LOG(2))))","v":-8.1386838190842872E-2},null,null,{"$f":"N25","v":21121},{"$f":"COUNTIF(L7:L32,T25)","v":1},null,null,null,{"$f":"N25","v":21121},{"$f":"COUNTIF(L33:L57,Y25)","v":0},null,null,null,{"$f":"N25","v":21121},{"$f":"COUNTIF(L58:L83,AD25)","v":0},null,null,null,{"$f":"N25","v":21121},{"$f":"COUNTIF(L84:L109,AI25)","v":0},null,null,null,{"$f":"N25","v":21121},{"$f":"COUNTIF(L110:L134,AN25)","v":0},null,null,null,{"$f":"N25","v":21121},{"$f":"COUNTIF(L135:L160,AS25)","v":1}]
[21,2961,11,2976,22,2986,14,2997,24,3011,0,21212,null,21122,{"$f":"COUNTIF($L$7:$L$500,N26)","v":0},{"$f":"O26/$Q$4","v":0},{"$f":"IF(P26=0,0,(P26*((LOG(P26))/LOG(2))))","v":0},null,null,{"$f":"N26","v":21122},{"$f":"COUNTIF(L7:L32,T26)","v":0},{"$f":"U26/(W4-U25)","v":0},{"$f":"IF(V26=0,0,(V26*((LOG(V26))/LOG(2))))","v":0},null,{"$f":"N26","v":21122},{"$f":"COUNTIF(L33:L57,Y26)","v":0},{"$f":"Z26/(AB4-Z25)","v":0},{"$f":"IF(AA26=0,0,(AA26*((LOG(AA26))/LOG(2))))","v":0},null,{"$f":"N26","v":21122},{"$f":"COUNTIF(L58:L83,AD26)","v":0},{"$f":"AE26/(AG4-AE25)","v":0},{"$f":"IF(AF26=0,0,(AF26*((LOG(AF26))/LOG(2))))","v":0},null,{"$f":"N26","v":21122},{"$f":"COUNTIF(L84:L109,AI26)","v":0},{"$f":"AJ26/(AL4-AJ25)","v":0},{"$f":"IF(AK26=0,0,(AK26*((LOG(AK26))/LOG(2))))","v":0},null,{"$f":"N26","v":21122},{"$f":"COUNTIF(L110:L134,AN26)","v":0},{"$f":"AO26/(AQ4-AO25)","v":0},{"$f":"IF(AP26=0,0,(AP26*((LOG(AP26))/LOG(2))))","v":0},null,{"$f":"N26","v":21122},{"$f":"COUNTIF(L135:L160,AS26)","v":0},{"$f":"AT26/(AV4-AT25)","v":0},{"$f":"IF(AU26=0,0,(AU26*((LOG(AU26))/LOG(2))))","v":0}]
[21,3126,11,3140,22,3149,14,3159,24,3172,0,21212,null,21211,{"$f":"COUNTIF($L$7:$L$500,N27)","v":4},{"$f":"O27/$Q$4","v":2.5974025974025976E-2},{"$f":"IF(P27=0,0,(P27*((LOG(P27))/LOG(2))))","v":-0.13679965040765979},null,null,{"$f":"N27","v":21211},{"$f":"COUNTIF(L7:L32,T27)","v":0},{"$f":"U27/(W4-U25)","v":0},{"$f":"IF(V27=0,0,(V27*((LOG(V27))/LOG(2))))","v":0},null,{"$f":"N27","v":21211},{"$f":"COUNTIF(L33:L57,Y27)","v":0},{"$f":"Z27/(AB4-Z25)","v":0},{"$f":"IF(AA27=0,0,(AA27*((LOG(AA27))/LOG(2))))","v":0},null,{"$f":"N27","v":21211},{"$f":"COUNTIF(L58:L83,AD27)","v":2},{"$f":"AE27/(AG4-AE25)","v":7.6923076923076927E-2},{"$f":"IF(AF27=0,0,(AF27*((LOG(AF27))/LOG(2))))","v":-0.28464920908777636},null,{"$f":"N27","v":21211},{"$f":"COUNTIF(L84:L109,AI27)","v":2},{"$f":"AJ27/(AL4-AJ25)","v":7.6923076923076927E-2},{"$f":"IF(AK27=0,0,(AK27*((LOG(AK27))/LOG(2))))","v":-0.28464920908777636},null,{"$f":"N27","v":21211},{"$f":"COUNTIF(L110:L134,AN27)","v":0},{"$f":"AO27/(AQ4-AO25)","v":0},{"$f":"IF(AP27=0,0,(AP27*((LOG(AP27))/LOG(2))))","v":0},null,{"$f":"N27","v":21211},{"$f":"COUNTIF(L135:L160,AS27)","v":0},{"$f":"AT27/(AV4-AT25)","v":0},{"$f":"IF(AU27=0,0,(AU27*((LOG(AU27))/LOG(2))))","v":0}]
[12,3280,13,3294,24,3301,14,3312,24,3324,0,11212,null,21212,{"$f":"COUNTIF($L$7:$L$500,N28)","v":24},{"$f":"O28/$Q$4","v":0.15584415584415584},{"$f":"IF(P28=0,0,(P28*((LOG(P28))/LOG(2))))","v":-0.41794660363227198},null,null,{"$f":"N28","v":21212},{"$f":"COUNTIF(L7:L32,T28)","v":8},{"$f":"U28/(W4-U25)","v":0.32},{"$f":"IF(V28=0,0,(V28*((LOG(V28))/LOG(2))))","v":-0.52603398072791185},null,{"$f":"N28","v":21212},{"$f":"COUNTIF(L33:L57,Y28)","v":3},{"$f":"Z28/(AB4-Z25)","v":0.12},{"$f":"IF(AA28=0,0,(AA28*((LOG(AA28))/LOG(2))))","v":-0.36706724268642821},null,{"$f":"N28","v":21212},{"$f":"COUNTIF(L58:L83,AD28)","v":3},{"$f":"AE28/(AG4-AE25)","v":0.11538461538461539},{"$f":"IF(AF28=0,0,(AF28*((LOG(AF28))/LOG(2))))","v":-0.35947814047153104},null,{"$f":"N28","v":21212},{"$f":"COUNTIF(L84:L109,AI28)","v":4},{"$f":"AJ28/(AL4-AJ25)","v":0.15384615384615385},{"$f":"IF(AK28=0,0,(AK28*((LOG(AK28))/LOG(2))))","v":-0.4154522643293988},null,{"$f":"N28","v":21212},{"$f":"COUNTIF(L110:L134,AN28)","v":4},{"$f":"AO28/(AQ4-AO25)","v":0.16},{"$f":"IF(AP28=0,0,(AP28*((LOG(AP28))/LOG(2))))","v":-0.42301699036395596},null,{"$f":"N28","v":21212},{"$f":"COUNTIF(L135:L160,AS28)","v":2},{"$f":"AT28/(AV4-AT25)","v":0.08},{"$f":"IF(AU28=0,0,(AU28*((LOG(AU28))/LOG(2))))","v":-0.29150849518197797}]
[21,3432,22,3448,13,3461,23,3470,13,3482,0,22121,null,21221,{"$f":"COUNTIF($L$7:$L$500,N29)","v":1},{"$f":"O29/$Q$4","v":6.4935064935064939E-3},{"$f":"IF(P29=0,0,(P29*((LOG(P29))/LOG(2))))","v":-4.7186925588927932E-2},null,null,{"$f":"N29","v":21221},{"$f":"COUNTIF(L7:L32,T29)","v":0},{"$f":"U29/(W4-U25)","v":0},{"$f":"IF(V29=0,0,(V29*((LOG(V29))/LOG(2))))","v":0},null,{"$f":"N29","v":21221},{"$f":"COUNTIF(L33:L57,Y29)","v":0},{"$f":"Z29/(AB4-Z25)","v":0},{"$f":"IF(AA29=0,0,(AA29*((LOG(AA29))/LOG(2))))","v":0},null,{"$f":"N29","v":21221},{"$f":"COUNTIF(L58:L83,AD29)","v":0},{"$f":"AE29/(AG4-AE25)","v":0},{"$f":"IF(AF29=0,0,(AF29*((LOG(AF29))/LOG(2))))","v":0},null,{"$f":"N29","v":21221},{"$f":"COUNTIF(L84:L109,AI29)","v":1},{"$f":"AJ29/(AL4-AJ25)","v":3.8461538461538464E-2},{"$f":"IF(AK29=0,0,(AK29*((LOG(AK29))/LOG(2))))","v":-0.18078614300542661},null,{"$f":"N29","v":21221},{"$f":"COUNTIF(L110:L134,AN29)","v":0},{"$f":"AO29/(AQ4-AO25)","v":0},{"$f":"IF(AP29=0,0,(AP29*((LOG(AP29))/LOG(2))))","v":0},null,{"$f":"N29","v":21221},{"$f":"COUNTIF(L135:L160,AS29)","v":0},{"$f":"AT29/(AV4-AT25)","v":0},{"$f":"IF(AU29=0,0,(AU29*((LOG(AU29))/LOG(2))))","v":0}]
[12,3586,13,3591,24,3601,14,3611,13,3616,0,11211,null,21222,{"$f":"COUNTIF($L$7:$L$500,N30)","v":0},{"$f":"O30/$Q$4","v":0},{"$f":"IF(P30=0,0,(P30*((LOG(P30))/LOG(2))))","v":0},null,null,{"$f":"N30","v":21222},{"$f":"COUNTIF(L7:L32,T30)","v":0},{"$f":"U30/(W4-U25)","v":0},{"$f":"IF(V30=0,0,(V30*((LOG(V30))/LOG(2))))","v":0},null,{"$f":"N30","v":21222},{"$f":"COUNTIF(L33:L57,Y30)","v":0},{"$f":"Z30/(AB4-Z25)","v":0},{"$f":"IF(AA30=0,0,(AA30*((LOG(AA30))/LOG(2))))","v":0},null,{"$f":"N30","v":21222},{"$f":"COUNTIF(L58:L83,AD30)","v":0},{"$f":"AE30/(AG4-AE25)","v":0},{"$f":"IF(AF30=0,0,(AF30*((LOG(AF30))/LOG(2))))","v":0},null,{"$f":"N30","v":21222},{"$f":"COUNTIF(L84:L109,AI30)","v":0},{"$f":"AJ30/(AL4-AJ25)","v":0},{"$f":"IF(AK30=0,0,(AK30*((LOG(AK30))/LOG(2))))","v":0},null,{"$f":"N30","v":21222},{"$f":"COUNTIF(L110:L134,AN30)","v":0},{"$f":"AO30/(AQ4-AO25)","v":0},{"$f":"IF(AP30=0,0,(AP30*((LOG(AP30))/LOG(2))))","v":0},null,{"$f":"N30","v":21222},{"$f":"COUNTIF(L135:L160,AS30)","v":0},{"$f":"AT30/(AV4-AT25)","v":0},{"$f":"IF(AU30=0,0,(AU30*((LOG(AU30))/LOG(2))))","v":0}]
[12,3714,13,3720,13,3731,23,3740,13,3749,0,11121,null,22111,{"$f":"COUNTIF($L$7:$L$500,N31)","v":0},{"$f":"O31/$Q$4","v":0},{"$f":"IF(P31=0,0,(P31*((LOG(P31))/LOG(2))))","v":0},null,null,{"$f":"N31","v":22111},{"$f":"COUNTIF(L7:L32,T31)","v":0},{"$f":"U31/(W4-U25)","v":0},{"$f":"IF(V31=0,0,(V31*((LOG(V31))/LOG(2))))","v":0},null,{"$f":"N31","v":22111},{"$f":"COUNTIF(L33:L57,Y31)","v":0},{"$f":"Z31/(AB4-Z25)","v":0},{"$f":"IF(AA31=0,0,(AA31*((LOG(AA31))/LOG(2))))","v":0},null,{"$f":"N31","v":22111},{"$f":"COUNTIF(L58:L83,AD31)","v":0},{"$f":"AE31/(AG4-AE25)","v":0},{"$f":"IF(AF31=0,0,(AF31*((LOG(AF31))/LOG(2))))","v":0},null,{"$f":"N31","v":22111},{"$f":"COUNTIF(L84:L109,AI31)","v":0},{"$f":"AJ31/(AL4-AJ25)","v":0},{"$f":"IF(AK31=0,0,(AK31*((LOG(AK31))/LOG(2))))","v":0},null,{"$f":"N31","v":22111},{"$f":"COUNTIF(L110:L134,AN31)","v":0},{"$f":"AO31/(AQ4-AO25)","v":0},{"$f":"IF(AP31=0,0,(AP31*((LOG(AP31))/LOG(2))))","v":0},null,{"$f":"N31","v":22111},{"$f":"COUNTIF(L135:L160,AS31)","v":0},{"$f":"AT31/(AV4-AT25)","v":0},{"$f":"IF(AU31=0,0,(AU31*((LOG(AU31))/LOG(2))))","v":0}]
[12,3861,24,3870,13,3880,23,3888,13,3902,0,12121,null,22112,{"$f":"COUNTIF($L$7:$L$500,N32)","v":5},{"$f":"O32/$Q$4","v":3.2467532467532464E-2},{"$f":"IF(P32=0,0,(P32*((LOG(P32))/LOG(2))))","v":-0.1605473521366084},null,null,{"$f":"N32","v":22112},{"$f":"COUNTIF(L7:L32,T32)","v":2},{"$f":"U32/(W4-U25)","v":0.08},{"$f":"IF(V32=0,0,(V32*((LOG(V32))/LOG(2))))","v":-0.29150849518197797},null,{"$f":"N32","v":22112},{"$f":"COUNTIF(L33:L57,Y32)","v":0},{"$f":"Z32/(AB4-Z25)","v":0},{"$f":"IF(AA32=0,0,(AA32*((LOG(AA32))/LOG(2))))","v":0},null,{"$f":"N32","v":22112},{"$f":"COUNTIF(L58:L83,AD32)","v":0},{"$f":"AE32/(AG4-AE25)","v":0},{"$f":"IF(AF32=0,0,(AF32*((LOG(AF32))/LOG(2))))","v":0},null,{"$f":"N32","v":22112},{"$f":"COUNTIF(L84:L109,AI32)","v":1},{"$f":"AJ32/(AL4-AJ25)","v":3.8461538461538464E-2},{"$f":"IF(AK32=0,0,(AK32*((LOG(AK32))/LOG(2))))","v":-0.18078614300542661},null,{"$f":"N32","v":22112},{"$f":"COUNTIF(L110:L134,AN32)","v":2},{"$f":"AO32/(AQ4-AO25)","v":0.08},{"$f":"IF(AP32=0,0,(AP32*((LOG(AP32))/LOG(2))))","v":-0.29150849518197797},null,{"$f":"N32","v":22112},{"$f":"COUNTIF(L135:L160,AS32)","v":0},{"$f":"AT32/(AV4-AT25)","v":0},{"$f":"IF(AU32=0,0,(AU32*((LOG(AU32))/LOG(2))))","v":0}]
[21,4005,22,4012,13,4025,23,4034,13,4045,0,22121,null,22121,{"$f":"COUNTIF($L$7:$L$500,N33)","v":13},{"$f":"O33/$Q$4","v":8.4415584415584416E-2},{"$f":"IF(P33=0,0,(P33*((LOG(P33))/LOG(2))))","v":-0.30105525125454236},null,null,{"$f":"N33","v":22121},{"$f":"COUNTIF(L7:L32,T33)","v":1},{"$f":"U33/(W4-U25)","v":0.04},{"$f":"IF(V33=0,0,(V33*((LOG(V33))/LOG(2))))","v":-0.18575424759098899},null,{"$f":"N33","v":22121},{"$f":"COUNTIF(L33:L57,Y33)","v":1},{"$f":"Z33/(AB4-Z25)","v":0.04},{"$f":"IF(AA33=0,0,(AA33*((LOG(AA33))/LOG(2))))","v":-0.18575424759098899},null,{"$f":"N33","v":22121},{"$f":"COUNTIF(L58:L83,AD33)","v":1},{"$f":"AE33/(AG4-AE25)","v":3.8461538461538464E-2},{"$f":"IF(AF33=0,0,(AF33*((LOG(AF33))/LOG(2))))","v":-0.18078614300542661},null,{"$f":"N33","v":22121},{"$f":"COUNTIF(L84:L109,AI33)","v":4},{"$f":"AJ33/(AL4-AJ25)","v":0.15384615384615385},{"$f":"IF(AK33=0,0,(AK33*((LOG(AK33))/LOG(2))))","v":-0.4154522643293988},null,{"$f":"N33","v":22121},{"$f":"COUNTIF(L110:L134,AN33)","v":2},{"$f":"AO33/(AQ4-AO25)","v":0.08},{"$f":"IF(AP33=0,0,(AP33*((LOG(AP33))/LOG(2))))","v":-0.29150849518197797},null,{"$f":"N33","v":22121},{"$f":"COUNTIF(L135:L160,AS33)","v":4},{"$f":"AT33/(AV4-AT25)","v":0.16},{"$f":"IF(AU33=0,0,(AU33*((LOG(AU33))/LOG(2))))","v":-0.42301699036395596}]
[21,4151,11,4164,22,4175,14,4185,24,4197,0,21212,null,22122,{"$f":"COUNTIF($L$7:$L$500,N34)","v":1},{"$f":"O34/$Q$4","v":6.4935064935064939E-3},{"$f":"IF(P34=0,0,(P34*((LOG(P34))/LOG(2))))","v":-4.7186925588927932E-2},null,null,{"$f":"N34","v":22122},{"$f":"COUNTIF(L7:L32,T34)","v":0},{"$f":"U34/(W4-U25)","v":0},{"$f":"IF(V34=0,0,(V34*((LOG(V34))/LOG(2))))","v":0},null,{"$f":"N34","v":22122},{"$f":"COUNTIF(L33:L57,Y34)","v":0},{"$f":"Z34/(AB4-Z25)","v":0},{"$f":"IF(AA34=0,0,(AA34*((LOG(AA34))/LOG(2))))","v":0},null,{"$f":"N34","v":22122},{"$f":"COUNTIF(L58:L83,AD34)","v":0},{"$f":"AE34/(AG4-AE25)","v":0},{"$f":"IF(AF34=0,0,(AF34*((LOG(AF34))/LOG(2))))","v":0},null,{"$f":"N34","v":22122},{"$f":"COUNTIF(L84:L109,AI34)","v":1},{"$f":"AJ34/(AL4-AJ25)","v":3.8461538461538464E-2},{"$f":"IF(AK34=0,0,(AK34*((LOG(AK34))/LOG(2))))","v":-0.18078614300542661},null,{"$f":"N34","v":22122},{"$f":"COUNTIF(L110:L134,AN34)","v":0},{"$f":"AO34/(AQ4-AO25)","v":0},{"$f":"IF(AP34=0,0,(AP34*((LOG(AP34))/LOG(2))))","v":0},null,{"$f":"N34","v":22122},{"$f":"COUNTIF(L135:L160,AS34)","v":0},{"$f":"AT34/(AV4-AT25)","v":0},{"$f":"IF(AU34=0,0,(AU34*((LOG(AU34))/LOG(2))))","v":0}]
[12,4300,24,4309,13,4318,14,4330,24,4338,0,12112,null,22211,{"$f":"COUNTIF($L$7:$L$500,N35)","v":0},{"$f":"O35/$Q$4","v":0},{"$f":"IF(P35=0,0,(P35*((LOG(P35))/LOG(2))))","v":0},null,null,{"$f":"N35","v":22211},{"$f":"COUNTIF(L7:L32,T35)","v":0},{"$f":"U35/(W4-U25)","v":0},{"$f":"IF(V35=0,0,(V35*((LOG(V35))/LOG(2))))","v":0},null,{"$f":"N35","v":22211},{"$f":"COUNTIF(L33:L57,Y35)","v":0},{"$f":"Z35/(AB4-Z25)","v":0},{"$f":"IF(AA35=0,0,(AA35*((LOG(AA35))/LOG(2))))","v":0},null,{"$f":"N35","v":22211},{"$f":"COUNTIF(L58:L83,AD35)","v":0},{"$f":"AE35/(AG4-AE25)","v":0},{"$f":"IF(AF35=0,0,(AF35*((LOG(AF35))/LOG(2))))","v":0},null,{"$f":"N35","v":22211},{"$f":"COUNTIF(L84:L109,AI35)","v":0},{"$f":"AJ35/(AL4-AJ25)","v":0},{"$f":"IF(AK35=0,0,(AK35*((LOG(AK35))/LOG(2))))","v":0},null,{"$f":"N35","v":22211},{"$f":"COUNTIF(L110:L134,AN35)","v":0},{"$f":"AO35/(AQ4-AO25)","v":0},{"$f":"IF(AP35=0,0,(AP35*((LOG(AP35))/LOG(2))))","v":0},null,{"$f":"N35","v":22211},{"$f":"COUNTIF(L135:L160,AS35)","v":0},{"$f":"AT35/(AV4-AT25)","v":0},{"$f":"IF(AU35=0,0,(AU35*((LOG(AU35))/LOG(2))))","v":0}]
[12,4455,24,4464,13,4474,23,4488,13,4501,0,12121,null,22212,{"$f":"COUNTIF($L$7:$L$500,N36)","v":3},{"$f":"O36/$Q$4","v":1.948051948051948E-2},{"$f":"IF(P36=0,0,(P36*((LOG(P36))/LOG(2))))","v":-0.11068488389559245},null,null,{"$f":"N36","v":22212},{"$f":"COUNTIF(L7:L32,T36)","v":0},{"$f":"U36/(W4-U25)","v":0},{"$f":"IF(V36=0,0,(V36*((LOG(V36))/LOG(2))))","v":0},null,{"$f":"N36","v":22212},{"$f":"COUNTIF(L33:L57,Y36)","v":1},{"$f":"Z36/(AB4-Z25)","v":0.04},{"$f":"IF(AA36=0,0,(AA36*((LOG(AA36))/LOG(2))))","v":-0.18575424759098899},null,{"$f":"N36","v":22212},{"$f":"COUNTIF(L58:L83,AD36)","v":0},{"$f":"AE36/(AG4-AE25)","v":0},{"$f":"IF(AF36=0,0,(AF36*((LOG(AF36))/LOG(2))))","v":0},null,{"$f":"N36","v":22212},{"$f":"COUNTIF(L84:L109,AI36)","v":1},{"$f":"AJ36/(AL4-AJ25)","v":3.8461538461538464E-2},{"$f":"IF(AK36=0,0,(AK36*((LOG(AK36))/LOG(2))))","v":-0.18078614300542661},null,{"$f":"N36","v":22212},{"$f":"COUNTIF(L110:L134,AN36)","v":0},{"$f":"AO36/(AQ4-AO25)","v":0},{"$f":"IF(AP36=0,0,(AP36*((LOG(AP36))/LOG(2))))","v":0},null,{"$f":"N36","v":22212},{"$f":"COUNTIF(L135:L160,AS36)","v":1},{"$f":"AT36/(AV4-AT25)","v":0.04},{"$f":"IF(AU36=0,0,(AU36*((LOG(AU36))/LOG(2))))","v":-0.18575424759098899}]
[12,4620,24,4627,13,4637,23,4646,13,4657,0,12121,null,22221,{"$f":"COUNTIF($L$7:$L$500,N37)","v":0},{"$f":"O37/$Q$4","v":0},{"$f":"IF(P37=0,0,(P37*((LOG(P37))/LOG(2))))","v":0},null,null,{"$f":"N37","v":22221},{"$f":"COUNTIF(L7:L32,T37)","v":0},{"$f":"U37/(W4-U25)","v":0},{"$f":"IF(V37=0,0,(V37*((LOG(V37))/LOG(2))))","v":0},null,{"$f":"N37","v":22221},{"$f":"COUNTIF(L33:L57,Y37)","v":0},{"$f":"Z37/(AB4-Z25)","v":0},{"$f":"IF(AA37=0,0,(AA37*((LOG(AA37))/LOG(2))))","v":0},null,{"$f":"N37","v":22221},{"$f":"COUNTIF(L58:L83,AD37)","v":0},{"$f":"AE37/(AG4-AE25)","v":0},{"$f":"IF(AF37=0,0,(AF37*((LOG(AF37))/LOG(2))))","v":0},null,{"$f":"N37","v":22221},{"$f":"COUNTIF(L84:L109,AI37)","v":0},{"$f":"AJ37/(AL4-AJ25)","v":0},{"$f":"IF(AK37=0,0,(AK37*((LOG(AK37))/LOG(2))))","v":0},null,{"$f":"N37","v":22221},{"$f":"COUNTIF(L110:L134,AN37)","v":0},{"$f":"AO37/(AQ4-AO25)","v":0},{"$f":"IF(AP37=0,0,(AP37*((LOG(AP37))/LOG(2))))","v":0},null,{"$f":"N37","v":22221},{"$f":"COUNTIF(L135:L160,AS37)","v":0},{"$f":"AT37/(AV4-AT25)","v":0},{"$f":"IF(AU37=0,0,(AU37*((LOG(AU37))/LOG(2))))","v":0}]
[12,4762,13,4790,24,4800,14,4810,24,4820,0,11212,null,22222,{"$f":"COUNTIF($L$7:$L$500,N38)","v":0},{"$f":"O38/$Q$4","v":0},{"$f":"IF(P38=0,0,(P38*((LOG(P38))/LOG(2))))","v":0},null,null,{"$f":"N38","v":22222},{"$f":"COUNTIF(L7:L32,T38)","v":0},{"$f":"U38/(W4-U25)","v":0},{"$f":"IF(V38=0,0,(V38*((LOG(V38))/LOG(2))))","v":0},null,{"$f":"N38","v":22222},{"$f":"COUNTIF(L33:L57,Y38)","v":0},{"$f":"Z38/(AB4-Z25)","v":0},{"$f":"IF(AA38=0,0,(AA38*((LOG(AA38))/LOG(2))))","v":0},null,{"$f":"N38","v":22222},{"$f":"COUNTIF(L58:L83,AD38)","v":0},{"$f":"AE38/(AG4-AE25)","v":0},{"$f":"IF(AF38=0,0,(AF38*((LOG(AF38))/LOG(2))))","v":0},null,{"$f":"N38","v":22222},{"$f":"COUNTIF(L84:L109,AI38)","v":0},{"$f":"AJ38/(AL4-AJ25)","v":0},{"$f":"IF(AK38=0,0,(AK38*((LOG(AK38))/LOG(2))))","v":0},null,{"$f":"N38","v":22222},{"$f":"COUNTIF(L110:L134,AN38)","v":0},{"$f":"AO38/(AQ4-AO25)","v":0},{"$f":"IF(AP38=0,0,(AP38*((LOG(AP38))/LOG(2))))","v":0},null,{"$f":"N38","v":22222},{"$f":"COUNTIF(L135:L160,AS38)","v":0},{"$f":"AT38/(AV4-AT25)","v":0},{"$f":"IF(AU38=0,0,(AU38*((LOG(AU38))/LOG(2))))","v":0}]
[12,4927,24,4940,24,4947,14,4958,24,4972,0,12212,null,null,null,{"$f":"SUM(P7:P38)","v":0.99999999999999978},{"$f":"-SUM(Q7:Q38)","v":3.4475890508347353},null,null,null,null,{"$f":"SUM(V7:V38)","v":1},{"$f":"-SUM(W7:W38)","v":2.6577968115985957},null,null,null,{"$f":"SUM(AA7:AA38)","v":1},{"$f":"-SUM(AB7:AB38)","v":2.832487689168953},null,null,null,{"$f":"SUM(AF7:AF38)","v":1.0000000000000002},{"$f":"-SUM(AG7:AG38)","v":2.547587085408896},null,null,null,{"$f":"SUM(AK7:AK38)","v":1},{"$f":"-SUM(AL7:AL38)","v":3.098459546817891},null,null,null,{"$f":"SUM(AP7:AP38)","v":0.99999999999999989},{"$f":"-SUM(AQ7:AQ38)","v":3.2692750707107132},null,null,null,{"$f":"SUM(AU7:AU38)","v":1},{"$f":"-SUM(AV7:AV38)","v":3.1736606896881856}]
[12,5077,24,5093,13,5108,14,5124,24,5134,0,12112,null,null,null,"U=",{"$f":"Q39/(LOG(Q4)/LOG(2))","v":0.47443103379021956},null,null,null,null,"U1=",{"$f":"W39/(LOG(W4)/LOG(2))","v":0.56543578281431273},null,null,null,"U2=",{"$f":"AB39/(LOG(AB4)/LOG(2))","v":0.60994302437827164},null,null,null,"U3=",{"$f":"AG39/(LOG(AG4)/LOG(2))","v":0.54198909850425736},null,null,null,"U4=",{"$f":"AL39/(LOG(AL4)/LOG(2))","v":0.65918504068024841},null,null,null,"U5=",{"$f":"AQ39/(LOG(AQ4)/LOG(2))","v":0.70400006742441923},null,null,null,"U6=",{"$f":"AV39/(LOG(AV4)/LOG(2))","v":0.67518378704860627}]
[12,5251,24,5261,13,5270,14,5279,24,5288,0,12112]
[12,5395,24,5407,13,5417,23,5426,13,5457,0,12121]
[12,5562,13,5564,24,5578,14,5587,24,5601,0,11212,null,"Total Target Seq"]
[12,5706,24,5716,13,5726,23,5738,13,5752,0,12121,null,{"$f":"COUNTIF(L7:L160,G3)","v":2},null,26,25,26,26,25,26]
[12,5862,24,5869,13,5877,14,5895,24,5904,0,12112,null,null,null,"% of reinforcement given in 6 equal intervals based on number of trials "]
[12,6014,24,6024,13,6033,23,6042,13,6054,0,12121,null,null,null,"%_1","%_2","%_3","%_4","%_5","%_6"]
[12,6187,24,6200,13,6209,23,6222,13,6234,0,12121,null,null,"target sequence",{"$f":"$G$3","v":21121},{"$f":"$G$3","v":21121},{"$f":"$G$3","v":21121},{"$f":"$G$3","v":21121},{"$f":"$G$3","v":21121},{"$f":"$G$3","v":21121}]
[12,6358,13,6366,24,6375,23,6396,13,6408,0,11221,null,null,"total reinforcement",{"$f":"U25","v":1},{"$f":"Z25","v":0},{"$f":"AE25","v":0},{"$f":"AJ25","v":0},{"$f":"AO25","v":0},{"$f":"AT25","v":1}]
[12,6531,24,6537,13,6546,23,6555,13,6573,0,12121,null,null,"% target"]
[21,6673,22,6678,24,6702,14,6718,24,6730,0,22212,null,null,"CCRF"]
[12,6833,13,6849,24,6859,14,6870,13,6896,0,11211,null,null,"% CCRf"]
[12,7001,13,7006,13,7015,23,7028,13,7038,0,11121,null,null,"average response rate",{"$f":"J32/P44","v":150.07692307692307},{"$f":"(J57-J32)/Q44","v":154.08000000000001},{"$f":"(J83-J57)/R44","v":152.96153846153845},{"$f":"(J109-J83)/S44","v":162.61538461538461},{"$f":"(J134-J109)/T44","v":155.24},{"$f":"(J160-J134)/U44","v":156.53846153846155}]
[12,7138,24,7151,13,7163,23,7175,13,7188,0,12121]
[12,7290,24,7312,13,7326,23,7334,13,7344,0,12121]
[21,7450,11,7462,22,7471,14,7480,24,7490,0,21212]
[21,7592,11,7601,22,7610,14,7619,24,7625,0,21212]
[12,7725,13,7730,13,7735,23,7744,13,7754,0,11121]
[12,7859,24,7868,13,7882,14,7886,13,7895,0,12111]
[21,8000,11,8016,22,8024,14,8033,24,8044,0,21212]
[12,8144,24,8158,24,8166,14,8175,24,8188,0,12212]
[12,8291,24,8300,13,8310,23,8319,13,8332,0,12121]
[12,8434,13,8445,24,8463,14,8489,24,8503,0,11212]
[12,8612,13,8617,24,8626,14,8638,13,8661,0,11211]
[12,8762,24,8776,13,8786,23,8798,13,8809,0,12121]
[21,8924,11,8933,22,8942,14,8956,13,8971,0,21211]
[21,9076,11,9086,22,9096,14,9105,13,9121,0,21211]
[21,9220,11,9236,22,9243,14,9252,24,9266,0,21212]
[12,9363,13,9368,24,9377,14,9386,24,9399,0,11212]
[12,9505,13,9522,24,9532,14,9542,13,9563,0,11211]
[12,9679,24,9685,13,9695,23,9702,13,9715,0,12121]
[12,9864,24,9874,13,9884,23,9897,13,9911,0,12121]
[12,10011,24,10043,13,10053,23,10063,13,10071,0,12121]
[21,10186,11,10199,22,10208,14,10220,24,10233,0,21212]
[12,10334,24,10355,13,10369,23,10382,13,10394,0,12121]
[12,10507,13,10511,24,10517,14,10526,24,10537,0,11212]
[21,10638,22,10645,13,10655,23,10663,13,10673,0,22121]
[12,10781,24,10798,13,10806,23,10816,13,10828,0,12121]
[12,10938,13,10948,24,10954,14,10964,13,10968,0,11211]
[12,11074,24,11083,13,11097,23,11107,13,11119,0,12121]
[12,11229,24,11235,13,11244,23,11254,13,11266,0,12121]
[12,11384,13,11388,24,11395,14,11405,24,11421,0,11212]
[12,11535,24,11546,13,11574,23,11588,13,11596,0,12121]
[12,11702,13,11707,24,11713,14,11722,13,11731,0,11211]
[21,11838,11,11848,22,11854,14,11865,24,11879,0,21212]
[12,11990,24,11996,13,12006,23,12016,13,12026,0,12121]
[12,12128,24,12149,13,12167,23,12176,13,12188,0,12121]
[21,12298,11,12307,22,12316,23,12332,13,12344,0,21221]
[12,12456,24,12464,13,12473,14,12478,24,12488,0,12112]
[12,12600,13,12634,24,12641,14,12651,24,12666,0,11212]
[12,12781,24,12788,13,12800,23,12809,13,12822,0,12121]
[12,12934,24,12943,13,12956,23,12962,13,12974,0,12121]
[21,13105,22,13125,13,13142,23,13152,13,13164,0,22121]
[12,13272,24,13281,13,13290,23,13298,13,13306,0,12121]
[21,13424,11,13435,22,13443,14,13453,24,13467,0,21212]
[21,13593,11,13605,22,13611,14,13622,13,13655,0,21211]
[12,13768,24,13778,13,13788,23,13797,24,13807,0,12122]
[12,13913,24,13940,13,13952,14,13958,24,13969,0,12112]
[21,14074,22,14095,13,14104,23,14114,13,14126,0,22121]
[21,14227,22,14235,13,14244,23,14252,24,14270,0,22122]
[21,14380,22,14398,13,14411,14,14416,24,14426,0,22112]
[12,14550,24,14563,13,14577,23,14589,13,14602,0,12121]
[12,14715,13,14720,24,14731,14,14741,24,14752,0,11212]
[21,14869,22,14879,24,14897,14,14906,24,14916,0,22212]
[21,15021,22,15043,13,15056,23,15065,13,15079,0,22121]
[21,15197,11,15207,22,15215,14,15224,24,15235,0,21212]
[21,15341,11,15378,22,15389,14,15401,24,15417,0,21212]
[21,15573,11,15587,22,15597,14,15609,13,15628,0,21211]
[12,15732,24,15757,13,15767,23,15776,13,15787,0,12121]
[21,15905,22,15926,13,15935,23,15945,13,15959,0,22121]
[21,16081,11,16097,22,16107,14,16118,24,16129,0,21212]
[21,16244,11,16254,22,16260,14,16277,24,16286,0,21212]
[12,16391,13,16411,13,16427,23,16440,13,16455,0,11121]
[12,16571,13,16582,24,16591,14,16603,24,16612,0,11212]
[12,16709,13,16721,13,16726,23,16734,13,16745,0,11121]
[21,16849,22,16868,13,16881,14,16885,24,16895,0,22112]
[21,17013,22,17019,13,17032,14,17043,24,17052,0,22112]
[12,17183,24,17192,13,17201,23,17216,13,17228,0,12121]
[21,17333,22,17342,13,17354,23,17361,13,17373,0,22121]
[12,17475,13,17494,13,17499,23,17508,13,17520,0,11121]
[12,17631,13,17651,24,17659,14,17673,13,17684,0,11211]
[21,17791,22,17799,13,17808,23,17815,13,17828,0,22121]
[21,17934,11,17950,22,17957,14,17966,24,17975,0,21212]
[12,18079,24,18097,13,18110,14,18115,13,18120,0,12111]
[12,18264,24,18280,13,18290,23,18303,13,18314,0,12121]
[12,18423,24,18429,13,18439,14,18443,24,18453,0,12112]
[12,18555,24,18568,13,18577,23,18585,13,18595,0,12121]
[21,18704,11,18719,22,18727,14,18735,24,18748,0,21212]
[12,18855,24,18870,24,18876,14,18884,24,18897,0,12212]
[12,18998,13,18999,13,19018,14,19026,24,19043,0,11112]
[12,19152,24,19165,13,19174,23,19185,13,19194,0,12121]
[12,19295,24,19322,24,19328,14,19341,24,19350,0,12212]
[12,19464,24,19478,13,19486,23,19500,13,19514,0,12121]
[12,19629,13,19644,24,19653,14,19663,24,19671,0,11212]
[12,19787,13,19796,24,19811,14,19824,13,19840,0,11211]
[21,19947,11,19956,22,19965,14,19974,24,19986,0,21212]
[12,20106,24,20113,13,20123,14,20141,24,20153,0,12112]
[12,20253,24,20275,13,20289,23,20299,13,20312,0,12121]
[12,20433,24,20448,13,20457,23,20472,13,20482,0,12121]
[12,20599,13,20620,13,20624,23,20635,13,20648,0,11121]
[12,20753,13,20762,13,20766,23,20776,13,20789,0,11121]
[21,20897,11,20907,22,20916,14,20929,24,20937,0,21212]
[21,21046,22,21076,13,21086,23,21100,13,21113,0,22121]
[12,21216,24,21235,24,21261,14,21271,24,21279,0,12212]
[12,21410,13,21416,24,21426,14,21439,24,21471,0,11212]
[21,21573,22,21578,13,21587,23,21595,13,21608,0,22121]
[12,21737,13,21742,13,21747,23,21757,13,21770,0,11121]
[21,21876,22,21881,24,21886,14,21899,24,21905,0,22212]
[12,22010,13,22019,24,22036,14,22048,13,22063,0,11211]
[21,22182,11,22194,11,22199,21,22207,11,22219,1,21121]
[21,22318,22,22340,13,22350,23,22359,13,22372,0,22121]
[12,22472,24,22482,24,22487,14,22495,24,22506,0,12212]
[12,22603,13,22610,24,22620,14,22629,24,22638,0,11212]
[12,22746,24,22755,13,22764,14,22779,13,22793,0,12111]
[12,22899,13,22903,24,22913,14,22922,24,22930,0,11212]
[12,23033,24,23063,13,23072,14,23077,24,23090,0,12112]
[12,23185,13,23190,13,23195,23,23205,13,23215,0,11121]
[12,23345,13,23358,24,23368,14,23378,24,23391,0,11212]
[21,23534,22,23542,13,23553,23,23561,13,23574,0,22121]
[12,23692,24,23711,13,23720,23,23732,13,23745,0,12121]
[12,23859,13,23877,24,23887,14,23896,13,23910,0,11211]

{"sheet":"!N217850.091","index":27,"n_rows":156,"n_cols":48,"rows_kept":156,"cut":false,"hidden":false,"merged":[[4,39,4,42],[5,39,5,40],[4,44,4,47],[5,44,5,45],[4,24,4,27],[5,24,5,25],[4,29,4,32],[5,29,5,30],[4,34,4,37],[5,34,5,35],[1,1,1,2],[5,13,5,14],[42,13,42,14],[43,13,43,14],[4,19,4,22],[5,19,5,20]]}
["Report for:!N217850.091"]
["Date:","<date>"]
["Hen:","<hen>",null,null,null,"Correct Sequence",{"$f":"Start!J2","v":21121},null,null,null,null,null,null,null,null,"Total Sequences in Data",{"$f":"4994-COUNTBLANK(L7:L5000)","v":150},null,null,null,null,"Total Sequences in Block Data",{"$f":"COUNTA(L7:L31)","v":25},null,null,null,"Total Sequences in Block Data",{"$f":"COUNTA(L32:L56)","v":25},null,null,null,"Total Sequences in Block Data",{"$f":"COUNTA(L57:L81)","v":25},null,null,null,"Total Sequences in Block Data",{"$f":"COUNTA(L82:L106)","v":25},null,null,null,"Total Sequences in Block Data",{"$f":"COUNTA(L107:L131)","v":25},null,null,null,"Total Sequences in Block Data",{"$f":"COUNTA(L132:L156)","v":25}]
[null,null,null,null,null,null,null,null,null,null,null,null,null,null,null,"Total Sequences in Summary",{"$f":"SUM(O7:O38)","v":150},null,null,null,null,"Total Sequences in Block Summary",{"$f":"SUM(U7:U38)","v":25},null,null,null,"Total Sequences in Block Summary",{"$f":"SUM(Z7:Z38)","v":25},null,null,null,"Total Sequences in Block Summary",{"$f":"SUM(AE7:AE38)","v":25},null,null,null,"Total Sequences in Block Summary",{"$f":"SUM(AJ7:AJ38)","v":25},null,null,null,"Total Sequences in Block Summary",{"$f":"SUM(AO7:AO38)","v":25},null,null,null,"Total Sequences in Block Summary",{"$f":"SUM(AT7:AT38)","v":25}]
[null,null,null,null,null,null,null,null,null,null,null,null,null,null,null,null,null,null,null,"Block 1",null,null,null,null,"Block 2",null,null,null,null,"Block 3",null,null,null,null,"Block 4",null,null,null,null,"Block 5",null,null,null,null,"Block 6"]
["Sequence\nComponent\n1","Time\n1","Sequence\nComponent\n2","Time\n2","Sequence\nComponent\n3","Time\n3","Sequence\nComponent\n4","Time\n4","Sequence\nComponent\n5","Time\n5","Correct?\n0=No 1=Yes","Sequence",null,"Frequency",null,"Relative Frequency","Variability",null,null,"Frequency",null,"Relative Frequency","Variability",null,"Frequency",null,"Relative Frequency","Variability",null,"Frequency",null,"Relative Frequency","Variability",null,"Frequency",null,"Relative Frequency","Variability",null,"Frequency",null,"Relative Frequency","Variability",null,"Frequency",null,"Relative Frequency","Variability"]
[12,15,13,20,24,30,14,38,13,50,0,11211,null,11111,{"$f":"COUNTIF($L$7:$L$500,N7)","v":12},{"$f":"O7/$Q$4","v":0.08},{"$f":"IF(P7=0,0,(P7*((LOG(P7))/LOG(2))))","v":-0.29150849518197797},null,null,{"$f":"N7","v":11111},{"$f":"COUNTIF(L7:L31,T7)","v":5},{"$f":"U7/(W4-U25)","v":0.21739130434782608},{"$f":"IF(V7=0,0,(V7*((LOG(V7))/LOG(2))))","v":-0.47861605677601093},null,{"$f":"N7","v":11111},{"$f":"COUNTIF(L32:L56,Y7)","v":2},{"$f":"Z7/(AB4-Z25)","v":8.3333333333333329E-2},{"$f":"IF(AA7=0,0,(AA7*((LOG(AA7))/LOG(2))))","v":-0.29874687506009634},null,{"$f":"N7","v":11111},{"$f":"COUNTIF(L57:L81,AD7)","v":0},{"$f":"AE7/(AG4-AE25)","v":0},{"$f":"IF(AF7=0,0,(AF7*((LOG(AF7))/LOG(2))))","v":0},null,{"$f":"N7","v":11111},{"$f":"COUNTIF(L82:L106,AI7)","v":0},{"$f":"AJ7/(AL4-AJ25)","v":0},{"$f":"IF(AK7=0,0,(AK7*((LOG(AK7))/LOG(2))))","v":0},null,{"$f":"N7","v":11111},{"$f":"COUNTIF(L107:L131,AN7)","v":3},{"$f":"AO7/(AQ4-AO25)","v":0.125},{"$f":"IF(AP7=0,0,(AP7*((LOG(AP7))/LOG(2))))","v":-0.375},null,{"$f":"N7","v":11111},{"$f":"COUNTIF(L132:L156,AS7)","v":2},{"$f":"AT7/(AV4-AT25)","v":0.08},{"$f":"IF(AU7=0,0,(AU7*((LOG(AU7))/LOG(2))))","v":-0.29150849518197797}]
[12,149,24,171,24,180,14,190,24,199,0,12212,null,11112,{"$f":"COUNTIF($L$7:$L$500,N8)","v":12},{"$f":"O8/$Q$4","v":0.08},{"$f":"IF(P8=0,0,(P8*((LOG(P8))/LOG(2))))","v":-0.29150849518197797},null,null,{"$f":"N8","v":11112},{"$f":"COUNTIF(L7:L31,T8)","v":1},{"$f":"U8/(W4-U25)","v":4.3478260869565216E-2},{"$f":"IF(V8=0,0,(V8*((LOG(V8))/LOG(2))))","v":-0.19667660678508753},null,{"$f":"N8","v":11112},{"$f":"COUNTIF(L32:L56,Y8)","v":0},{"$f":"Z8/(AB4-Z25)","v":0},{"$f":"IF(AA8=0,0,(AA8*((LOG(AA8))/LOG(2))))","v":0},null,{"$f":"N8","v":11112},{"$f":"COUNTIF(L57:L81,AD8)","v":3},{"$f":"AE8/(AG4-AE25)","v":0.13043478260869565},{"$f":"IF(AF8=0,0,(AF8*((LOG(AF8))/LOG(2))))","v":-0.3832955811307639},null,{"$f":"N8","v":11112},{"$f":"COUNTIF(L82:L106,AI8)","v":3},{"$f":"AJ8/(AL4-AJ25)","v":0.12},{"$f":"IF(AK8=0,0,(AK8*((LOG(AK8))/LOG(2))))","v":-0.36706724268642821},null,{"$f":"N8","v":11112},{"$f":"COUNTIF(L107:L131,AN8)","v":3},{"$f":"AO8/(AQ4-AO25)","v":0.125},{"$f":"IF(AP8=0,0,(AP8*((LOG(AP8))/LOG(2))))","v":-0.375},null,{"$f":"N8","v":11112},{"$f":"COUNTIF(L132:L156,AS8)","v":2},{"$f":"AT8/(AV4-AT25)","v":0.08},{"$f":"IF(AU8=0,0,(AU8*((LOG(AU8))/LOG(2))))","v":-0.29150849518197797}]
[12,339,13,345,24,357,14,369,13,381,0,11211,null,11121,{"$f":"COUNTIF($L$7:$L$500,N9)","v":15},{"$f":"O9/$Q$4","v":0.1},{"$f":"IF(P9=0,0,(P9*((LOG(P9))/LOG(2))))","v":-0.33219280948873625},null,null,{"$f":"N9","v":11121},{"$f":"COUNTIF(L7:L31,T9)","v":2},{"$f":"U9/(W4-U25)","v":8.6956521739130432E-2},{"$f":"IF(V9=0,0,(V9*((LOG(V9))/LOG(2))))","v":-0.30639669183104457},null,{"$f":"N9","v":11121},{"$f":"COUNTIF(L32:L56,Y9)","v":2},{"$f":"Z9/(AB4-Z25)","v":8.3333333333333329E-2},{"$f":"IF(AA9=0,0,(AA9*((LOG(AA9))/LOG(2))))","v":-0.29874687506009634},null,{"$f":"N9","v":11121},{"$f":"COUNTIF(L57:L81,AD9)","v":4},{"$f":"AE9/(AG4-AE25)","v":0.17391304347826086},{"$f":"IF(AF9=0,0,(AF9*((LOG(AF9))/LOG(2))))","v":-0.43888034018382832},null,{"$f":"N9","v":11121},{"$f":"COUNTIF(L82:L106,AI9)","v":2},{"$f":"AJ9/(AL4-AJ25)","v":0.08},{"$f":"IF(AK9=0,0,(AK9*((LOG(AK9))/LOG(2))))","v":-0.29150849518197797},null,{"$f":"N9","v":11121},{"$f":"COUNTIF(L107:L131,AN9)","v":3},{"$f":"AO9/(AQ4-AO25)","v":0.125},{"$f":"IF(AP9=0,0,(AP9*((LOG(AP9))/LOG(2))))","v":-0.375},null,{"$f":"N9","v":11121},{"$f":"COUNTIF(L132:L156,AS9)","v":2},{"$f":"AT9/(AV4-AT25)","v":0.08},{"$f":"IF(AU9=0,0,(AU9*((LOG(AU9))/LOG(2))))","v":-0.29150849518197797}]
[21,496,11,507,11,512,21,521,11,532,1,21121,null,11122,{"$f":"COUNTIF($L$7:$L$500,N10)","v":0},{"$f":"O10/$Q$4","v":0},{"$f":"IF(P10=0,0,(P10*((LOG(P10))/LOG(2))))","v":0},null,null,{"$f":"N10","v":11122},{"$f":"COUNTIF(L7:L31,T10)","v":0},{"$f":"U10/(W4-U25)","v":0},{"$f":"IF(V10=0,0,(V10*((LOG(V10))/LOG(2))))","v":0},null,{"$f":"N10","v":11122},{"$f":"COUNTIF(L32:L56,Y10)","v":0},{"$f":"Z10/(AB4-Z25)","v":0},{"$f":"IF(AA10=0,0,(AA10*((LOG(AA10))/LOG(2))))","v":0},null,{"$f":"N10","v":11122},{"$f":"COUNTIF(L57:L81,AD10)","v":0},{"$f":"AE10/(AG4-AE25)","v":0},{"$f":"IF(AF10=0,0,(AF10*((LOG(AF10))/LOG(2))))","v":0},null,{"$f":"N10","v":11122},{"$f":"COUNTIF(L82:L106,AI10)","v":0},{"$f":"AJ10/(AL4-AJ25)","v":0},{"$f":"IF(AK10=0,0,(AK10*((LOG(AK10))/LOG(2))))","v":0},null,{"$f":"N10","v":11122},{"$f":"COUNTIF(L107:L131,AN10)","v":0},{"$f":"AO10/(AQ4-AO25)","v":0},{"$f":"IF(AP10=0,0,(AP10*((LOG(AP10))/LOG(2))))","v":0},null,{"$f":"N10","v":11122},{"$f":"COUNTIF(L132:L156,AS10)","v":0},{"$f":"AT10/(AV4-AT25)","v":0},{"$f":"IF(AU10=0,0,(AU10*((LOG(AU10))/LOG(2))))","v":0}]
[12,620,13,627,24,635,14,643,24,652,0,11212,null,11211,{"$f":"COUNTIF($L$7:$L$500,N11)","v":16},{"$f":"O11/$Q$4","v":0.10666666666666667},{"$f":"IF(P11=0,0,(P11*((LOG(P11))/LOG(2))))","v":-0.34440732698622734},null,null,{"$f":"N11","v":11211},{"$f":"COUNTIF(L7:L31,T11)","v":5},{"$f":"U11/(W4-U25)","v":0.21739130434782608},{"$f":"IF(V11=0,0,(V11*((LOG(V11))/LOG(2))))","v":-0.47861605677601093},null,{"$f":"N11","v":11211},{"$f":"COUNTIF(L32:L56,Y11)","v":1},{"$f":"Z11/(AB4-Z25)","v":4.1666666666666664E-2},{"$f":"IF(AA11=0,0,(AA11*((LOG(AA11))/LOG(2))))","v":-0.19104010419671485},null,{"$f":"N11","v":11211},{"$f":"COUNTIF(L57:L81,AD11)","v":3},{"$f":"AE11/(AG4-AE25)","v":0.13043478260869565},{"$f":"IF(AF11=0,0,(AF11*((LOG(AF11))/LOG(2))))","v":-0.3832955811307639},null,{"$f":"N11","v":11211},{"$f":"COUNTIF(L82:L106,AI11)","v":3},{"$f":"AJ11/(AL4-AJ25)","v":0.12},{"$f":"IF(AK11=0,0,(AK11*((LOG(AK11))/LOG(2))))","v":-0.36706724268642821},null,{"$f":"N11","v":11211},{"$f":"COUNTIF(L107:L131,AN11)","v":2},{"$f":"AO11/(AQ4-AO25)","v":8.3333333333333329E-2},{"$f":"IF(AP11=0,0,(AP11*((LOG(AP11))/LOG(2))))","v":-0.29874687506009634},null,{"$f":"N11","v":11211},{"$f":"COUNTIF(L132:L156,AS11)","v":2},{"$f":"AT11/(AV4-AT25)","v":0.08},{"$f":"IF(AU11=0,0,(AU11*((LOG(AU11))/LOG(2))))","v":-0.29150849518197797}]
[12,749,13,754,24,768,14,777,13,788,0,11211,null,11212,{"$f":"COUNTIF($L$7:$L$500,N12)","v":15},{"$f":"O12/$Q$4","v":0.1},{"$f":"IF(P12=0,0,(P12*((LOG(P12))/LOG(2))))","v":-0.33219280948873625},null,null,{"$f":"N12","v":11212},{"$f":"COUNTIF(L7:L31,T12)","v":1},{"$f":"U12/(W4-U25)","v":4.3478260869565216E-2},{"$f":"IF(V12=0,0,(V12*((LOG(V12))/LOG(2))))","v":-0.19667660678508753},null,{"$f":"N12","v":11212},{"$f":"COUNTIF(L32:L56,Y12)","v":6},{"$f":"Z12/(AB4-Z25)","v":0.25},{"$f":"IF(AA12=0,0,(AA12*((LOG(AA12))/LOG(2))))","v":-0.5},null,{"$f":"N12","v":11212},{"$f":"COUNTIF(L57:L81,AD12)","v":2},{"$f":"AE12/(AG4-AE25)","v":8.6956521739130432E-2},{"$f":"IF(AF12=0,0,(AF12*((LOG(AF12))/LOG(2))))","v":-0.30639669183104457},null,{"$f":"N12","v":11212},{"$f":"COUNTIF(L82:L106,AI12)","v":2},{"$f":"AJ12/(AL4-AJ25)","v":0.08},{"$f":"IF(AK12=0,0,(AK12*((LOG(AK12))/LOG(2))))","v":-0.29150849518197797},null,{"$f":"N12","v":11212},{"$f":"COUNTIF(L107:L131,AN12)","v":2},{"$f":"AO12/(AQ4-AO25)","v":8.3333333333333329E-2},{"$f":"IF(AP12=0,0,(AP12*((LOG(AP12))/LOG(2))))","v":-0.29874687506009634},null,{"$f":"N12","v":11212},{"$f":"COUNTIF(L132:L156,AS12)","v":2},{"$f":"AT12/(AV4-AT25)","v":0.08},{"$f":"IF(AU12=0,0,(AU12*((LOG(AU12))/LOG(2))))","v":-0.29150849518197797}]
[21,890,11,921,11,928,21,936,11,945,1,21121,null,11221,{"$f":"COUNTIF($L$7:$L$500,N13)","v":1},{"$f":"O13/$Q$4","v":6.6666666666666671E-3},{"$f":"IF(P13=0,0,(P13*((LOG(P13))/LOG(2))))","v":-4.819212460330588E-2},null,null,{"$f":"N13","v":11221},{"$f":"COUNTIF(L7:L31,T13)","v":0},{"$f":"U13/(W4-U25)","v":0},{"$f":"IF(V13=0,0,(V13*((LOG(V13))/LOG(2))))","v":0},null,{"$f":"N13","v":11221},{"$f":"COUNTIF(L32:L56,Y13)","v":0},{"$f":"Z13/(AB4-Z25)","v":0},{"$f":"IF(AA13=0,0,(AA13*((LOG(AA13))/LOG(2))))","v":0},null,{"$f":"N13","v":11221},{"$f":"COUNTIF(L57:L81,AD13)","v":0},{"$f":"AE13/(AG4-AE25)","v":0},{"$f":"IF(AF13=0,0,(AF13*((LOG(AF13))/LOG(2))))","v":0},null,{"$f":"N13","v":11221},{"$f":"COUNTIF(L82:L106,AI13)","v":0},{"$f":"AJ13/(AL4-AJ25)","v":0},{"$f":"IF(AK13=0,0,(AK13*((LOG(AK13))/LOG(2))))","v":0},null,{"$f":"N13","v":11221},{"$f":"COUNTIF(L107:L131,AN13)","v":1},{"$f":"AO13/(AQ4-AO25)","v":4.1666666666666664E-2},{"$f":"IF(AP13=0,0,(AP13*((LOG(AP13))/LOG(2))))","v":-0.19104010419671485},null,{"$f":"N13","v":11221},{"$f":"COUNTIF(L132:L156,AS13)","v":0},{"$f":"AT13/(AV4-AT25)","v":0},{"$f":"IF(AU13=0,0,(AU13*((LOG(AU13))/LOG(2))))","v":0}]
[12,1041,24,1049,24,1057,14,1064,24,1077,0,12212,null,11222,{"$f":"COUNTIF($L$7:$L$500,N14)","v":0},{"$f":"O14/$Q$4","v":0},{"$f":"IF(P14=0,0,(P14*((LOG(P14))/LOG(2))))","v":0},null,null,{"$f":"N14","v":11222},{"$f":"COUNTIF(L7:L31,T14)","v":0},{"$f":"U14/(W4-U25)","v":0},{"$f":"IF(V14=0,0,(V14*((LOG(V14))/LOG(2))))","v":0},null,{"$f":"N14","v":11222},{"$f":"COUNTIF(L32:L56,Y14)","v":0},{"$f":"Z14/(AB4-Z25)","v":0},{"$f":"IF(AA14=0,0,(AA14*((LOG(AA14))/LOG(2))))","v":0},null,{"$f":"N14","v":11222},{"$f":"COUNTIF(L57:L81,AD14)","v":0},{"$f":"AE14/(AG4-AE25)","v":0},{"$f":"IF(AF14=0,0,(AF14*((LOG(AF14))/LOG(2))))","v":0},null,{"$f":"N14","v":11222},{"$f":"COUNTIF(L82:L106,AI14)","v":0},{"$f":"AJ14/(AL4-AJ25)","v":0},{"$f":"IF(AK14=0,0,(AK14*((LOG(AK14))/LOG(2))))","v":0},null,{"$f":"N14","v":11222},{"$f":"COUNTIF(L107:L131,AN14)","v":0},{"$f":"AO14/(AQ4-AO25)","v":0},{"$f":"IF(AP14=0,0,(AP14*((LOG(AP14))/LOG(2))))","v":0},null,{"$f":"N14","v":11222},{"$f":"COUNTIF(L132:L156,AS14)","v":0},{"$f":"AT14/(AV4-AT25)","v":0},{"$f":"IF(AU14=0,0,(AU14*((LOG(AU14))/LOG(2))))","v":0}]
[12,1196,24,1204,13,1213,14,1217,24,1228,0,12112,null,12111,{"$f":"COUNTIF($L$7:$L$500,N15)","v":12},{"$f":"O15/$Q$4","v":0.08},{"$f":"IF(P15=0,0,(P15*((LOG(P15))/LOG(2))))","v":-0.29150849518197797},null,null,{"$f":"N15","v":12111},{"$f":"COUNTIF(L7:L31,T15)","v":1},{"$f":"U15/(W4-U25)","v":4.3478260869565216E-2},{"$f":"IF(V15=0,0,(V15*((LOG(V15))/LOG(2))))","v":-0.19667660678508753},null,{"$f":"N15","v":12111},{"$f":"COUNTIF(L32:L56,Y15)","v":2},{"$f":"Z15/(AB4-Z25)","v":8.3333333333333329E-2},{"$f":"IF(AA15=0,0,(AA15*((LOG(AA15))/LOG(2))))","v":-0.29874687506009634},null,{"$f":"N15","v":12111},{"$f":"COUNTIF(L57:L81,AD15)","v":1},{"$f":"AE15/(AG4-AE25)","v":4.3478260869565216E-2},{"$f":"IF(AF15=0,0,(AF15*((LOG(AF15))/LOG(2))))","v":-0.19667660678508753},null,{"$f":"N15","v":12111},{"$f":"COUNTIF(L82:L106,AI15)","v":0},{"$f":"AJ15/(AL4-AJ25)","v":0},{"$f":"IF(AK15=0,0,(AK15*((LOG(AK15))/LOG(2))))","v":0},null,{"$f":"N15","v":12111},{"$f":"COUNTIF(L107:L131,AN15)","v":3},{"$f":"AO15/(AQ4-AO25)","v":0.125},{"$f":"IF(AP15=0,0,(AP15*((LOG(AP15))/LOG(2))))","v":-0.375},null,{"$f":"N15","v":12111},{"$f":"COUNTIF(L132:L156,AS15)","v":5},{"$f":"AT15/(AV4-AT25)","v":0.2},{"$f":"IF(AU15=0,0,(AU15*((LOG(AU15))/LOG(2))))","v":-0.46438561897747244}]
[12,1340,13,1350,13,1354,14,1358,13,1363,0,11111,null,12112,{"$f":"COUNTIF($L$7:$L$500,N16)","v":9},{"$f":"O16/$Q$4","v":0.06},{"$f":"IF(P16=0,0,(P16*((LOG(P16))/LOG(2))))","v":-0.2435336213432141},null,null,{"$f":"N16","v":12112},{"$f":"COUNTIF(L7:L31,T16)","v":2},{"$f":"U16/(W4-U25)","v":8.6956521739130432E-2},{"$f":"IF(V16=0,0,(V16*((LOG(V16))/LOG(2))))","v":-0.30639669183104457},null,{"$f":"N16","v":12112},{"$f":"COUNTIF(L32:L56,Y16)","v":2},{"$f":"Z16/(AB4-Z25)","v":8.3333333333333329E-2},{"$f":"IF(AA16=0,0,(AA16*((LOG(AA16))/LOG(2))))","v":-0.29874687506009634},null,{"$f":"N16","v":12112},{"$f":"COUNTIF(L57:L81,AD16)","v":2},{"$f":"AE16/(AG4-AE25)","v":8.6956521739130432E-2},{"$f":"IF(AF16=0,0,(AF16*((LOG(AF16))/LOG(2))))","v":-0.30639669183104457},null,{"$f":"N16","v":12112},{"$f":"COUNTIF(L82:L106,AI16)","v":0},{"$f":"AJ16/(AL4-AJ25)","v":0},{"$f":"IF(AK16=0,0,(AK16*((LOG(AK16))/LOG(2))))","v":0},null,{"$f":"N16","v":12112},{"$f":"COUNTIF(L107:L131,AN16)","v":1},{"$f":"AO16/(AQ4-AO25)","v":4.1666666666666664E-2},{"$f":"IF(AP16=0,0,(AP16*((LOG(AP16))/LOG(2))))","v":-0.19104010419671485},null,{"$f":"N16","v":12112},{"$f":"COUNTIF(L132:L156,AS16)","v":2},{"$f":"AT16/(AV4-AT25)","v":0.08},{"$f":"IF(AU16=0,0,(AU16*((LOG(AU16))/LOG(2))))","v":-0.29150849518197797}]
[12,1477,13,1481,13,1485,14,1494,13,1509,0,11111,null,12121,{"$f":"COUNTIF($L$7:$L$500,N17)","v":20},{"$f":"O17/$Q$4","v":0.13333333333333333},{"$f":"IF(P17=0,0,(P17*((LOG(P17))/LOG(2))))","v":-0.3875854127478025},null,null,{"$f":"N17","v":12121},{"$f":"COUNTIF(L7:L31,T17)","v":2},{"$f":"U17/(W4-U25)","v":8.6956521739130432E-2},{"$f":"IF(V17=0,0,(V17*((LOG(V17))/LOG(2))))","v":-0.30639669183104457},null,{"$f":"N17","v":12121},{"$f":"COUNTIF(L32:L56,Y17)","v":2},{"$f":"Z17/(AB4-Z25)","v":8.3333333333333329E-2},{"$f":"IF(AA17=0,0,(AA17*((LOG(AA17))/LOG(2))))","v":-0.29874687506009634},null,{"$f":"N17","v":12121},{"$f":"COUNTIF(L57:L81,AD17)","v":4},{"$f":"AE17/(AG4-AE25)","v":0.17391304347826086},{"$f":"IF(AF17=0,0,(AF17*((LOG(AF17))/LOG(2))))","v":-0.43888034018382832},null,{"$f":"N17","v":12121},{"$f":"COUNTIF(L82:L106,AI17)","v":5},{"$f":"AJ17/(AL4-AJ25)","v":0.2},{"$f":"IF(AK17=0,0,(AK17*((LOG(AK17))/LOG(2))))","v":-0.46438561897747244},null,{"$f":"N17","v":12121},{"$f":"COUNTIF(L107:L131,AN17)","v":4},{"$f":"AO17/(AQ4-AO25)","v":0.16666666666666666},{"$f":"IF(AP17=0,0,(AP17*((LOG(AP17))/LOG(2))))","v":-0.43082708345352599},null,{"$f":"N17","v":12121},{"$f":"COUNTIF(L132:L156,AS17)","v":3},{"$f":"AT17/(AV4-AT25)","v":0.12},{"$f":"IF(AU17=0,0,(AU17*((LOG(AU17))/LOG(2))))","v":-0.36706724268642821}]
[21,1632,11,1642,22,1654,14,1665,13,1675,0,21211,null,12122,{"$f":"COUNTIF($L$7:$L$500,N18)","v":0},{"$f":"O18/$Q$4","v":0},{"$f":"IF(P18=0,0,(P18*((LOG(P18))/LOG(2))))","v":0},null,null,{"$f":"N18","v":12122},{"$f":"COUNTIF(L7:L31,T18)","v":0},{"$f":"U18/(W4-U25)","v":0},{"$f":"IF(V18=0,0,(V18*((LOG(V18))/LOG(2))))","v":0},null,{"$f":"N18","v":12122},{"$f":"COUNTIF(L32:L56,Y18)","v":0},{"$f":"Z18/(AB4-Z25)","v":0},{"$f":"IF(AA18=0,0,(AA18*((LOG(AA18))/LOG(2))))","v":0},null,{"$f":"N18","v":12122},{"$f":"COUNTIF(L57:L81,AD18)","v":0},{"$f":"AE18/(AG4-AE25)","v":0},{"$f":"IF(AF18=0,0,(AF18*((LOG(AF18))/LOG(2))))","v":0},null,{"$f":"N18","v":12122},{"$f":"COUNTIF(L82:L106,AI18)","v":0},{"$f":"AJ18/(AL4-AJ25)","v":0},{"$f":"IF(AK18=0,0,(AK18*((LOG(AK18))/LOG(2))))","v":0},null,{"$f":"N18","v":12122},{"$f":"COUNTIF(L107:L131,AN18)","v":0},{"$f":"AO18/(AQ4-AO25)","v":0},{"$f":"IF(AP18=0,0,(AP18*((LOG(AP18))/LOG(2))))","v":0},null,{"$f":"N18","v":12122},{"$f":"COUNTIF(L132:L156,AS18)","v":0},{"$f":"AT18/(AV4-AT25)","v":0},{"$f":"IF(AU18=0,0,(AU18*((LOG(AU18))/LOG(2))))","v":0}]
[12,1776,13,1780,13,1788,14,1793,13,1803,0,11111,null,12211,{"$f":"COUNTIF($L$7:$L$500,N19)","v":0},{"$f":"O19/$Q$4","v":0},{"$f":"IF(P19=0,0,(P19*((LOG(P19))/LOG(2))))","v":0},null,null,{"$f":"N19","v":12211},{"$f":"COUNTIF(L7:L31,T19)","v":0},{"$f":"U19/(W4-U25)","v":0},{"$f":"IF(V19=0,0,(V19*((LOG(V19))/LOG(2))))","v":0},null,{"$f":"N19","v":12211},{"$f":"COUNTIF(L32:L56,Y19)","v":0},{"$f":"Z19/(AB4-Z25)","v":0},{"$f":"IF(AA19=0,0,(AA19*((LOG(AA19))/LOG(2))))","v":0},null,{"$f":"N19","v":12211},{"$f":"COUNTIF(L57:L81,AD19)","v":0},{"$f":"AE19/(AG4-AE25)","v":0},{"$f":"IF(AF19=0,0,(AF19*((LOG(AF19))/LOG(2))))","v":0},null,{"$f":"N19","v":12211},{"$f":"COUNTIF(L82:L106,AI19)","v":0},{"$f":"AJ19/(AL4-AJ25)","v":0},{"$f":"IF(AK19=0,0,(AK19*((LOG(AK19))/LOG(2))))","v":0},null,{"$f":"N19","v":12211},{"$f":"COUNTIF(L107:L131,AN19)","v":0},{"$f":"AO19/(AQ4-AO25)","v":0},{"$f":"IF(AP19=0,0,(AP19*((LOG(AP19))/LOG(2))))","v":0},null,{"$f":"N19","v":12211},{"$f":"COUNTIF(L132:L156,AS19)","v":0},{"$f":"AT19/(AV4-AT25)","v":0},{"$f":"IF(AU19=0,0,(AU19*((LOG(AU19))/LOG(2))))","v":0}]
[21,1913,11,1927,22,1936,14,1948,24,1960,0,21212,null,12212,{"$f":"COUNTIF($L$7:$L$500,N20)","v":6},{"$f":"O20/$Q$4","v":0.04},{"$f":"IF(P20=0,0,(P20*((LOG(P20))/LOG(2))))","v":-0.18575424759098899},null,null,{"$f":"N20","v":12212},{"$f":"COUNTIF(L7:L31,T20)","v":2},{"$f":"U20/(W4-U25)","v":8.6956521739130432E-2},{"$f":"IF(V20=0,0,(V20*((LOG(V20))/LOG(2))))","v":-0.30639669183104457},null,{"$f":"N20","v":12212},{"$f":"COUNTIF(L32:L56,Y20)","v":0},{"$f":"Z20/(AB4-Z25)","v":0},{"$f":"IF(AA20=0,0,(AA20*((LOG(AA20))/LOG(2))))","v":0},null,{"$f":"N20","v":12212},{"$f":"COUNTIF(L57:L81,AD20)","v":1},{"$f":"AE20/(AG4-AE25)","v":4.3478260869565216E-2},{"$f":"IF(AF20=0,0,(AF20*((LOG(AF20))/LOG(2))))","v":-0.19667660678508753},null,{"$f":"N20","v":12212},{"$f":"COUNTIF(L82:L106,AI20)","v":2},{"$f":"AJ20/(AL4-AJ25)","v":0.08},{"$f":"IF(AK20=0,0,(AK20*((LOG(AK20))/LOG(2))))","v":-0.29150849518197797},null,{"$f":"N20","v":12212},{"$f":"COUNTIF(L107:L131,AN20)","v":1},{"$f":"AO20/(AQ4-AO25)","v":4.1666666666666664E-2},{"$f":"IF(AP20=0,0,(AP20*((LOG(AP20))/LOG(2))))","v":-0.19104010419671485},null,{"$f":"N20","v":12212},{"$f":"COUNTIF(L132:L156,AS20)","v":0},{"$f":"AT20/(AV4-AT25)","v":0},{"$f":"IF(AU20=0,0,(AU20*((LOG(AU20))/LOG(2))))","v":0}]
[12,2063,24,2073,13,2082,23,2092,13,2104,0,12121,null,12221,{"$f":"COUNTIF($L$7:$L$500,N21)","v":1},{"$f":"O21/$Q$4","v":6.6666666666666671E-3},{"$f":"IF(P21=0,0,(P21*((LOG(P21))/LOG(2))))","v":-4.819212460330588E-2},null,null,{"$f":"N21","v":12221},{"$f":"COUNTIF(L7:L31,T21)","v":0},{"$f":"U21/(W4-U25)","v":0},{"$f":"IF(V21=0,0,(V21*((LOG(V21))/LOG(2))))","v":0},null,{"$f":"N21","v":12221},{"$f":"COUNTIF(L32:L56,Y21)","v":0},{"$f":"Z21/(AB4-Z25)","v":0},{"$f":"IF(AA21=0,0,(AA21*((LOG(AA21))/LOG(2))))","v":0},null,{"$f":"N21","v":12221},{"$f":"COUNTIF(L57:L81,AD21)","v":0},{"$f":"AE21/(AG4-AE25)","v":0},{"$f":"IF(AF21=0,0,(AF21*((LOG(AF21))/LOG(2))))","v":0},null,{"$f":"N21","v":12221},{"$f":"COUNTIF(L82:L106,AI21)","v":0},{"$f":"AJ21/(AL4-AJ25)","v":0},{"$f":"IF(AK21=0,0,(AK21*((LOG(AK21))/LOG(2))))","v":0},null,{"$f":"N21","v":12221},{"$f":"COUNTIF(L107:L131,AN21)","v":0},{"$f":"AO21/(AQ4-AO25)","v":0},{"$f":"IF(AP21=0,0,(AP21*((LOG(AP21))/LOG(2))))","v":0},null,{"$f":"N21","v":12221},{"$f":"COUNTIF(L132:L156,AS21)","v":1},{"$f":"AT21/(AV4-AT25)","v":0.04},{"$f":"IF(AU21=0,0,(AU21*((LOG(AU21))/LOG(2))))","v":-0.18575424759098899}]
[12,2211,13,2217,24,2230,14,2241,13,2250,0,11211,null,12222,{"$f":"COUNTIF($L$7:$L$500,N22)","v":0},{"$f":"O22/$Q$4","v":0},{"$f":"IF(P22=0,0,(P22*((LOG(P22))/LOG(2))))","v":0},null,null,{"$f":"N22","v":12222},{"$f":"COUNTIF(L7:L31,T22)","v":0},{"$f":"U22/(W4-U25)","v":0},{"$f":"IF(V22=0,0,(V22*((LOG(V22))/LOG(2))))","v":0},null,{"$f":"N22","v":12222},{"$f":"COUNTIF(L32:L56,Y22)","v":0},{"$f":"Z22/(AB4-Z25)","v":0},{"$f":"IF(AA22=0,0,(AA22*((LOG(AA22))/LOG(2))))","v":0},null,{"$f":"N22","v":12222},{"$f":"COUNTIF(L57:L81,AD22)","v":0},{"$f":"AE22/(AG4-AE25)","v":0},{"$f":"IF(AF22=0,0,(AF22*((LOG(AF22))/LOG(2))))","v":0},null,{"$f":"N22","v":12222},{"$f":"COUNTIF(L82:L106,AI22)","v":0},{"$f":"AJ22/(AL4-AJ25)","v":0},{"$f":"IF(AK22=0,0,(AK22*((LOG(AK22))/LOG(2))))","v":0},null,{"$f":"N22","v":12222},{"$f":"COUNTIF(L107:L131,AN22)","v":0},{"$f":"AO22/(AQ4-AO25)","v":0},{"$f":"IF(AP22=0,0,(AP22*((LOG(AP22))/LOG(2))))","v":0},null,{"$f":"N22","v":12222},{"$f":"COUNTIF(L132:L156,AS22)","v":0},{"$f":"AT22/(AV4-AT25)","v":0},{"$f":"IF(AU22=0,0,(AU22*((LOG(AU22))/LOG(2))))","v":0}]
[12,2358,13,2366,13,2388,14,2412,13,2422,0,11111,null,21111,{"$f":"COUNTIF($L$7:$L$500,N23)","v":0},{"$f":"O23/$Q$4","v":0},{"$f":"IF(P23=0,0,(P23*((LOG(P23))/LOG(2))))","v":0},null,null,{"$f":"N23","v":21111},{"$f":"COUNTIF(L7:L31,T23)","v":0},{"$f":"U23/(W4-U25)","v":0},{"$f":"IF(V23=0,0,(V23*((LOG(V23))/LOG(2))))","v":0},null,{"$f":"N23","v":21111},{"$f":"COUNTIF(L32:L56,Y23)","v":0},{"$f":"Z23/(AB4-Z25)","v":0},{"$f":"IF(AA23=0,0,(AA23*((LOG(AA23))/LOG(2))))","v":0},null,{"$f":"N23","v":21111},{"$f":"COUNTIF(L57:L81,AD23)","v":0},{"$f":"AE23/(AG4-AE25)","v":0},{"$f":"IF(AF23=0,0,(AF23*((LOG(AF23))/LOG(2))))","v":0},null,{"$f":"N23","v":21111},{"$f":"COUNTIF(L82:L106,AI23)","v":0},{"$f":"AJ23/(AL4-AJ25)","v":0},{"$f":"IF(AK23=0,0,(AK23*((LOG(AK23))/LOG(2))))","v":0},null,{"$f":"N23","v":21111},{"$f":"COUNTIF(L107:L131,AN23)","v":0},{"$f":"AO23/(AQ4-AO25)","v":0},{"$f":"IF(AP23=0,0,(AP23*((LOG(AP23))/LOG(2))))","v":0},null,{"$f":"N23","v":21111},{"$f":"COUNTIF(L132:L156,AS23)","v":0},{"$f":"AT23/(AV4-AT25)","v":0},{"$f":"IF(AU23=0,0,(AU23*((LOG(AU23))/LOG(2))))","v":0}]
[12,2534,13,2548,24,2557,14,2569,13,2584,0,11211,null,21112,{"$f":"COUNTIF($L$7:$L$500,N24)","v":2},{"$f":"O24/$Q$4","v":1.3333333333333334E-2},{"$f":"IF(P24=0,0,(P24*((LOG(P24))/LOG(2))))","v":-8.3050915873278425E-2},null,null,{"$f":"N24","v":21112},{"$f":"COUNTIF(L7:L31,T24)","v":0},{"$f":"U24/(W4-U25)","v":0},{"$f":"IF(V24=0,0,(V24*((LOG(V24))/LOG(2))))","v":0},null,{"$f":"N24","v":21112},{"$f":"COUNTIF(L32:L56,Y24)","v":0},{"$f":"Z24/(AB4-Z25)","v":0},{"$f":"IF(AA24=0,0,(AA24*((LOG(AA24))/LOG(2))))","v":0},null,{"$f":"N24","v":21112},{"$f":"COUNTIF(L57:L81,AD24)","v":0},{"$f":"AE24/(AG4-AE25)","v":0},{"$f":"IF(AF24=0,0,(AF24*((LOG(AF24))/LOG(2))))","v":0},null,{"$f":"N24","v":21112},{"$f":"COUNTIF(L82:L106,AI24)","v":1},{"$f":"AJ24/(AL4-AJ25)","v":0.04},{"$f":"IF(AK24=0,0,(AK24*((LOG(AK24))/LOG(2))))","v":-0.18575424759098899},null,{"$f":"N24","v":21112},{"$f":"COUNTIF(L107:L131,AN24)","v":0},{"$f":"AO24/(AQ4-AO25)","v":0},{"$f":"IF(AP24=0,0,(AP24*((LOG(AP24))/LOG(2))))","v":0},null,{"$f":"N24","v":21112},{"$f":"COUNTIF(L132:L156,AS24)","v":1},{"$f":"AT24/(AV4-AT25)","v":0.04},{"$f":"IF(AU24=0,0,(AU24*((LOG(AU24))/LOG(2))))","v":-0.18575424759098899}]
[12,2701,13,2706,13,2711,14,2718,24,2731,0,11112,null,21121,{"$f":"COUNTIF($L$7:$L$500,N25)","v":6},{"$f":"O25/$Q$4","v":0.04},{"$f":"IF(P25=0,0,(P25*((LOG(P25))/LOG(2))))","v":-0.18575424759098899},null,null,{"$f":"N25","v":21121},{"$f":"COUNTIF(L7:L31,T25)","v":2},null,null,null,{"$f":"N25","v":21121},{"$f":"COUNTIF(L32:L56,Y25)","v":1},null,null,null,{"$f":"N25","v":21121},{"$f":"COUNTIF(L57:L81,AD25)","v":2},null,null,null,{"$f":"N25","v":21121},{"$f":"COUNTIF(L82:L106,AI25)","v":0},null,null,null,{"$f":"N25","v":21121},{"$f":"COUNTIF(L107:L131,AN25)","v":1},null,null,null,{"$f":"N25","v":21121},{"$f":"COUNTIF(L132:L156,AS25)","v":0}]
[12,2837,24,2845,13,2853,23,2863,13,2875,0,12121,null,21122,{"$f":"COUNTIF($L$7:$L$500,N26)","v":0},{"$f":"O26/$Q$4","v":0},{"$f":"IF(P26=0,0,(P26*((LOG(P26))/LOG(2))))","v":0},null,null,{"$f":"N26","v":21122},{"$f":"COUNTIF(L7:L31,T26)","v":0},{"$f":"U26/(W4-U25)","v":0},{"$f":"IF(V26=0,0,(V26*((LOG(V26))/LOG(2))))","v":0},null,{"$f":"N26","v":21122},{"$f":"COUNTIF(L32:L56,Y26)","v":0},{"$f":"Z26/(AB4-Z25)","v":0},{"$f":"IF(AA26=0,0,(AA26*((LOG(AA26))/LOG(2))))","v":0},null,{"$f":"N26","v":21122},{"$f":"COUNTIF(L57:L81,AD26)","v":0},{"$f":"AE26/(AG4-AE25)","v":0},{"$f":"IF(AF26=0,0,(AF26*((LOG(AF26))/LOG(2))))","v":0},null,{"$f":"N26","v":21122},{"$f":"COUNTIF(L82:L106,AI26)","v":0},{"$f":"AJ26/(AL4-AJ25)","v":0},{"$f":"IF(AK26=0,0,(AK26*((LOG(AK26))/LOG(2))))","v":0},null,{"$f":"N26","v":21122},{"$f":"COUNTIF(L107:L131,AN26)","v":0},{"$f":"AO26/(AQ4-AO25)","v":0},{"$f":"IF(AP26=0,0,(AP26*((LOG(AP26))/LOG(2))))","v":0},null,{"$f":"N26","v":21122},{"$f":"COUNTIF(L132:L156,AS26)","v":0},{"$f":"AT26/(AV4-AT25)","v":0},{"$f":"IF(AU26=0,0,(AU26*((LOG(AU26))/LOG(2))))","v":0}]
[12,2981,13,2987,13,2992,23,3001,13,3011,0,11121,null,21211,{"$f":"COUNTIF($L$7:$L$500,N27)","v":8},{"$f":"O27/$Q$4","v":5.3333333333333337E-2},{"$f":"IF(P27=0,0,(P27*((LOG(P27))/LOG(2))))","v":-0.22553699682644698},null,null,{"$f":"N27","v":21211},{"$f":"COUNTIF(L7:L31,T27)","v":1},{"$f":"U27/(W4-U25)","v":4.3478260869565216E-2},{"$f":"IF(V27=0,0,(V27*((LOG(V27))/LOG(2))))","v":-0.19667660678508753},null,{"$f":"N27","v":21211},{"$f":"COUNTIF(L32:L56,Y27)","v":2},{"$f":"Z27/(AB4-Z25)","v":8.3333333333333329E-2},{"$f":"IF(AA27=0,0,(AA27*((LOG(AA27))/LOG(2))))","v":-0.29874687506009634},null,{"$f":"N27","v":21211},{"$f":"COUNTIF(L57:L81,AD27)","v":1},{"$f":"AE27/(AG4-AE25)","v":4.3478260869565216E-2},{"$f":"IF(AF27=0,0,(AF27*((LOG(AF27))/LOG(2))))","v":-0.19667660678508753},null,{"$f":"N27","v":21211},{"$f":"COUNTIF(L82:L106,AI27)","v":2},{"$f":"AJ27/(AL4-AJ25)","v":0.08},{"$f":"IF(AK27=0,0,(AK27*((LOG(AK27))/LOG(2))))","v":-0.29150849518197797},null,{"$f":"N27","v":21211},{"$f":"COUNTIF(L107:L131,AN27)","v":1},{"$f":"AO27/(AQ4-AO25)","v":4.1666666666666664E-2},{"$f":"IF(AP27=0,0,(AP27*((LOG(AP27))/LOG(2))))","v":-0.19104010419671485},null,{"$f":"N27","v":21211},{"$f":"COUNTIF(L132:L156,AS27)","v":1},{"$f":"AT27/(AV4-AT25)","v":0.04},{"$f":"IF(AU27=0,0,(AU27*((LOG(AU27))/LOG(2))))","v":-0.18575424759098899}]
[12,3148,13,3161,13,3171,23,3181,13,3192,0,11121,null,21212,{"$f":"COUNTIF($L$7:$L$500,N28)","v":6},{"$f":"O28/$Q$4","v":0.04},{"$f":"IF(P28=0,0,(P28*((LOG(P28))/LOG(2))))","v":-0.18575424759098899},null,null,{"$f":"N28","v":21212},{"$f":"COUNTIF(L7:L31,T28)","v":1},{"$f":"U28/(W4-U25)","v":4.3478260869565216E-2},{"$f":"IF(V28=0,0,(V28*((LOG(V28))/LOG(2))))","v":-0.19667660678508753},null,{"$f":"N28","v":21212},{"$f":"COUNTIF(L32:L56,Y28)","v":3},{"$f":"Z28/(AB4-Z25)","v":0.125},{"$f":"IF(AA28=0,0,(AA28*((LOG(AA28))/LOG(2))))","v":-0.375},null,{"$f":"N28","v":21212},{"$f":"COUNTIF(L57:L81,AD28)","v":1},{"$f":"AE28/(AG4-AE25)","v":4.3478260869565216E-2},{"$f":"IF(AF28=0,0,(AF28*((LOG(AF28))/LOG(2))))","v":-0.19667660678508753},null,{"$f":"N28","v":21212},{"$f":"COUNTIF(L82:L106,AI28)","v":0},{"$f":"AJ28/(AL4-AJ25)","v":0},{"$f":"IF(AK28=0,0,(AK28*((LOG(AK28))/LOG(2))))","v":0},null,{"$f":"N28","v":21212},{"$f":"COUNTIF(L107:L131,AN28)","v":0},{"$f":"AO28/(AQ4-AO25)","v":0},{"$f":"IF(AP28=0,0,(AP28*((LOG(AP28))/LOG(2))))","v":0},null,{"$f":"N28","v":21212},{"$f":"COUNTIF(L132:L156,AS28)","v":1},{"$f":"AT28/(AV4-AT25)","v":0.04},{"$f":"IF(AU28=0,0,(AU28*((LOG(AU28))/LOG(2))))","v":-0.18575424759098899}]
[12,3303,13,3308,13,3317,14,3321,13,3329,0,11111,null,21221,{"$f":"COUNTIF($L$7:$L$500,N29)","v":0},{"$f":"O29/$Q$4","v":0},{"$f":"IF(P29=0,0,(P29*((LOG(P29))/LOG(2))))","v":0},null,null,{"$f":"N29","v":21221},{"$f":"COUNTIF(L7:L31,T29)","v":0},{"$f":"U29/(W4-U25)","v":0},{"$f":"IF(V29=0,0,(V29*((LOG(V29))/LOG(2))))","v":0},null,{"$f":"N29","v":21221},{"$f":"COUNTIF(L32:L56,Y29)","v":0},{"$f":"Z29/(AB4-Z25)","v":0},{"$f":"IF(AA29=0,0,(AA29*((LOG(AA29))/LOG(2))))","v":0},null,{"$f":"N29","v":21221},{"$f":"COUNTIF(L57:L81,AD29)","v":0},{"$f":"AE29/(AG4-AE25)","v":0},{"$f":"IF(AF29=0,0,(AF29*((LOG(AF29))/LOG(2))))","v":0},null,{"$f":"N29","v":21221},{"$f":"COUNTIF(L82:L106,AI29)","v":0},{"$f":"AJ29/(AL4-AJ25)","v":0},{"$f":"IF(AK29=0,0,(AK29*((LOG(AK29))/LOG(2))))","v":0},null,{"$f":"N29","v":21221},{"$f":"COUNTIF(L107:L131,AN29)","v":0},{"$f":"AO29/(AQ4-AO25)","v":0},{"$f":"IF(AP29=0,0,(AP29*((LOG(AP29))/LOG(2))))","v":0},null,{"$f":"N29","v":21221},{"$f":"COUNTIF(L132:L156,AS29)","v":0},{"$f":"AT29/(AV4-AT25)","v":0},{"$f":"IF(AU29=0,0,(AU29*((LOG(AU29))/LOG(2))))","v":0}]
[12,3484,24,3491,13,3500,14,3508,24,3518,0,12112,null,21222,{"$f":"COUNTIF($L$7:$L$500,N30)","v":0},{"$f":"O30/$Q$4","v":0},{"$f":"IF(P30=0,0,(P30*((LOG(P30))/LOG(2))))","v":0},null,null,{"$f":"N30","v":21222},{"$f":"COUNTIF(L7:L31,T30)","v":0},{"$f":"U30/(W4-U25)","v":0},{"$f":"IF(V30=0,0,(V30*((LOG(V30))/LOG(2))))","v":0},null,{"$f":"N30","v":21222},{"$f":"COUNTIF(L32:L56,Y30)","v":0},{"$f":"Z30/(AB4-Z25)","v":0},{"$f":"IF(AA30=0,0,(AA30*((LOG(AA30))/LOG(2))))","v":0},null,{"$f":"N30","v":21222},{"$f":"COUNTIF(L57:L81,AD30)","v":0},{"$f":"AE30/(AG4-AE25)","v":0},{"$f":"IF(AF30=0,0,(AF30*((LOG(AF30))/LOG(2))))","v":0},null,{"$f":"N30","v":21222},{"$f":"COUNTIF(L82:L106,AI30)","v":0},{"$f":"AJ30/(AL4-AJ25)","v":0},{"$f":"IF(AK30=0,0,(AK30*((LOG(AK30))/LOG(2))))","v":0},null,{"$f":"N30","v":21222},{"$f":"COUNTIF(L107:L131,AN30)","v":0},{"$f":"AO30/(AQ4-AO25)","v":0},{"$f":"IF(AP30=0,0,(AP30*((LOG(AP30))/LOG(2))))","v":0},null,{"$f":"N30","v":21222},{"$f":"COUNTIF(L132:L156,AS30)","v":0},{"$f":"AT30/(AV4-AT25)","v":0},{"$f":"IF(AU30=0,0,(AU30*((LOG(AU30))/LOG(2))))","v":0}]
[12,3656,24,3665,13,3678,14,3690,13,3699,0,12111,null,22111,{"$f":"COUNTIF($L$7:$L$500,N31)","v":1},{"$f":"O31/$Q$4","v":6.6666666666666671E-3},{"$f":"IF(P31=0,0,(P31*((LOG(P31))/LOG(2))))","v":-4.819212460330588E-2},null,null,{"$f":"N31","v":22111},{"$f":"COUNTIF(L7:L31,T31)","v":0},{"$f":"U31/(W4-U25)","v":0},{"$f":"IF(V31=0,0,(V31*((LOG(V31))/LOG(2))))","v":0},null,{"$f":"N31","v":22111},{"$f":"COUNTIF(L32:L56,Y31)","v":1},{"$f":"Z31/(AB4-Z25)","v":4.1666666666666664E-2},{"$f":"IF(AA31=0,0,(AA31*((LOG(AA31))/LOG(2))))","v":-0.19104010419671485},null,{"$f":"N31","v":22111},{"$f":"COUNTIF(L57:L81,AD31)","v":0},{"$f":"AE31/(AG4-AE25)","v":0},{"$f":"IF(AF31=0,0,(AF31*((LOG(AF31))/LOG(2))))","v":0},null,{"$f":"N31","v":22111},{"$f":"COUNTIF(L82:L106,AI31)","v":0},{"$f":"AJ31/(AL4-AJ25)","v":0},{"$f":"IF(AK31=0,0,(AK31*((LOG(AK31))/LOG(2))))","v":0},null,{"$f":"N31","v":22111},{"$f":"COUNTIF(L107:L131,AN31)","v":0},{"$f":"AO31/(AQ4-AO25)","v":0},{"$f":"IF(AP31=0,0,(AP31*((LOG(AP31))/LOG(2))))","v":0},null,{"$f":"N31","v":22111},{"$f":"COUNTIF(L132:L156,AS31)","v":0},{"$f":"AT31/(AV4-AT25)","v":0},{"$f":"IF(AU31=0,0,(AU31*((LOG(AU31))/LOG(2))))","v":0}]
[12,3809,13,3813,24,3822,14,3831,24,3844,0,11212,null,22112,{"$f":"COUNTIF($L$7:$L$500,N32)","v":0},{"$f":"O32/$Q$4","v":0},{"$f":"IF(P32=0,0,(P32*((LOG(P32))/LOG(2))))","v":0},null,null,{"$f":"N32","v":22112},{"$f":"COUNTIF(L7:L31,T32)","v":0},{"$f":"U32/(W4-U25)","v":0},{"$f":"IF(V32=0,0,(V32*((LOG(V32))/LOG(2))))","v":0},null,{"$f":"N32","v":22112},{"$f":"COUNTIF(L32:L56,Y32)","v":0},{"$f":"Z32/(AB4-Z25)","v":0},{"$f":"IF(AA32=0,0,(AA32*((LOG(AA32))/LOG(2))))","v":0},null,{"$f":"N32","v":22112},{"$f":"COUNTIF(L57:L81,AD32)","v":0},{"$f":"AE32/(AG4-AE25)","v":0},{"$f":"IF(AF32=0,0,(AF32*((LOG(AF32))/LOG(2))))","v":0},null,{"$f":"N32","v":22112},{"$f":"COUNTIF(L82:L106,AI32)","v":0},{"$f":"AJ32/(AL4-AJ25)","v":0},{"$f":"IF(AK32=0,0,(AK32*((LOG(AK32))/LOG(2))))","v":0},null,{"$f":"N32","v":22112},{"$f":"COUNTIF(L107:L131,AN32)","v":0},{"$f":"AO32/(AQ4-AO25)","v":0},{"$f":"IF(AP32=0,0,(AP32*((LOG(AP32))/LOG(2))))","v":0},null,{"$f":"N32","v":22112},{"$f":"COUNTIF(L132:L156,AS32)","v":0},{"$f":"AT32/(AV4-AT25)","v":0},{"$f":"IF(AU32=0,0,(AU32*((LOG(AU32))/LOG(2))))","v":0}]
[21,3950,22,3959,13,3972,23,3977,13,3986,0,22121,null,22121,{"$f":"COUNTIF($L$7:$L$500,N33)","v":7},{"$f":"O33/$Q$4","v":4.6666666666666669E-2},{"$f":"IF(P33=0,0,(P33*((LOG(P33))/LOG(2))))","v":-0.20633497586045293},null,null,{"$f":"N33","v":22121},{"$f":"COUNTIF(L7:L31,T33)","v":0},{"$f":"U33/(W4-U25)","v":0},{"$f":"IF(V33=0,0,(V33*((LOG(V33))/LOG(2))))","v":0},null,{"$f":"N33","v":22121},{"$f":"COUNTIF(L32:L56,Y33)","v":1},{"$f":"Z33/(AB4-Z25)","v":4.1666666666666664E-2},{"$f":"IF(AA33=0,0,(AA33*((LOG(AA33))/LOG(2))))","v":-0.19104010419671485},null,{"$f":"N33","v":22121},{"$f":"COUNTIF(L57:L81,AD33)","v":1},{"$f":"AE33/(AG4-AE25)","v":4.3478260869565216E-2},{"$f":"IF(AF33=0,0,(AF33*((LOG(AF33))/LOG(2))))","v":-0.19667660678508753},null,{"$f":"N33","v":22121},{"$f":"COUNTIF(L82:L106,AI33)","v":4},{"$f":"AJ33/(AL4-AJ25)","v":0.16},{"$f":"IF(AK33=0,0,(AK33*((LOG(AK33))/LOG(2))))","v":-0.42301699036395596},null,{"$f":"N33","v":22121},{"$f":"COUNTIF(L107:L131,AN33)","v":0},{"$f":"AO33/(AQ4-AO25)","v":0},{"$f":"IF(AP33=0,0,(AP33*((LOG(AP33))/LOG(2))))","v":0},null,{"$f":"N33","v":22121},{"$f":"COUNTIF(L132:L156,AS33)","v":1},{"$f":"AT33/(AV4-AT25)","v":0.04},{"$f":"IF(AU33=0,0,(AU33*((LOG(AU33))/LOG(2))))","v":-0.18575424759098899}]
[12,4097,24,4103,13,4112,14,4120,24,4132,0,12112,null,22122,{"$f":"COUNTIF($L$7:$L$500,N34)","v":0},{"$f":"O34/$Q$4","v":0},{"$f":"IF(P34=0,0,(P34*((LOG(P34))/LOG(2))))","v":0},null,null,{"$f":"N34","v":22122},{"$f":"COUNTIF(L7:L31,T34)","v":0},{"$f":"U34/(W4-U25)","v":0},{"$f":"IF(V34=0,0,(V34*((LOG(V34))/LOG(2))))","v":0},null,{"$f":"N34","v":22122},{"$f":"COUNTIF(L32:L56,Y34)","v":0},{"$f":"Z34/(AB4-Z25)","v":0},{"$f":"IF(AA34=0,0,(AA34*((LOG(AA34))/LOG(2))))","v":0},null,{"$f":"N34","v":22122},{"$f":"COUNTIF(L57:L81,AD34)","v":0},{"$f":"AE34/(AG4-AE25)","v":0},{"$f":"IF(AF34=0,0,(AF34*((LOG(AF34))/LOG(2))))","v":0},null,{"$f":"N34","v":22122},{"$f":"COUNTIF(L82:L106,AI34)","v":0},{"$f":"AJ34/(AL4-AJ25)","v":0},{"$f":"IF(AK34=0,0,(AK34*((LOG(AK34))/LOG(2))))","v":0},null,{"$f":"N34","v":22122},{"$f":"COUNTIF(L107:L131,AN34)","v":0},{"$f":"AO34/(AQ4-AO25)","v":0},{"$f":"IF(AP34=0,0,(AP34*((LOG(AP34))/LOG(2))))","v":0},null,{"$f":"N34","v":22122},{"$f":"COUNTIF(L132:L156,AS34)","v":0},{"$f":"AT34/(AV4-AT25)","v":0},{"$f":"IF(AU34=0,0,(AU34*((LOG(AU34))/LOG(2))))","v":0}]
[12,4267,13,4272,24,4279,14,4292,24,4304,0,11212,null,22211,{"$f":"COUNTIF($L$7:$L$500,N35)","v":0},{"$f":"O35/$Q$4","v":0},{"$f":"IF(P35=0,0,(P35*((LOG(P35))/LOG(2))))","v":0},null,null,{"$f":"N35","v":22211},{"$f":"COUNTIF(L7:L31,T35)","v":0},{"$f":"U35/(W4-U25)","v":0},{"$f":"IF(V35=0,0,(V35*((LOG(V35))/LOG(2))))","v":0},null,{"$f":"N35","v":22211},{"$f":"COUNTIF(L32:L56,Y35)","v":0},{"$f":"Z35/(AB4-Z25)","v":0},{"$f":"IF(AA35=0,0,(AA35*((LOG(AA35))/LOG(2))))","v":0},null,{"$f":"N35","v":22211},{"$f":"COUNTIF(L57:L81,AD35)","v":0},{"$f":"AE35/(AG4-AE25)","v":0},{"$f":"IF(AF35=0,0,(AF35*((LOG(AF35))/LOG(2))))","v":0},null,{"$f":"N35","v":22211},{"$f":"COUNTIF(L82:L106,AI35)","v":0},{"$f":"AJ35/(AL4-AJ25)","v":0},{"$f":"IF(AK35=0,0,(AK35*((LOG(AK35))/LOG(2))))","v":0},null,{"$f":"N35","v":22211},{"$f":"COUNTIF(L107:L131,AN35)","v":0},{"$f":"AO35/(AQ4-AO25)","v":0},{"$f":"IF(AP35=0,0,(AP35*((LOG(AP35))/LOG(2))))","v":0},null,{"$f":"N35","v":22211},{"$f":"COUNTIF(L132:L156,AS35)","v":0},{"$f":"AT35/(AV4-AT25)","v":0},{"$f":"IF(AU35=0,0,(AU35*((LOG(AU35))/LOG(2))))","v":0}]
[21,4418,11,4429,22,4435,14,4448,24,4457,0,21212,null,22212,{"$f":"COUNTIF($L$7:$L$500,N36)","v":0},{"$f":"O36/$Q$4","v":0},{"$f":"IF(P36=0,0,(P36*((LOG(P36))/LOG(2))))","v":0},null,null,{"$f":"N36","v":22212},{"$f":"COUNTIF(L7:L31,T36)","v":0},{"$f":"U36/(W4-U25)","v":0},{"$f":"IF(V36=0,0,(V36*((LOG(V36))/LOG(2))))","v":0},null,{"$f":"N36","v":22212},{"$f":"COUNTIF(L32:L56,Y36)","v":0},{"$f":"Z36/(AB4-Z25)","v":0},{"$f":"IF(AA36=0,0,(AA36*((LOG(AA36))/LOG(2))))","v":0},null,{"$f":"N36","v":22212},{"$f":"COUNTIF(L57:L81,AD36)","v":0},{"$f":"AE36/(AG4-AE25)","v":0},{"$f":"IF(AF36=0,0,(AF36*((LOG(AF36))/LOG(2))))","v":0},null,{"$f":"N36","v":22212},{"$f":"COUNTIF(L82:L106,AI36)","v":0},{"$f":"AJ36/(AL4-AJ25)","v":0},{"$f":"IF(AK36=0,0,(AK36*((LOG(AK36))/LOG(2))))","v":0},null,{"$f":"N36","v":22212},{"$f":"COUNTIF(L107:L131,AN36)","v":0},{"$f":"AO36/(AQ4-AO25)","v":0},{"$f":"IF(AP36=0,0,(AP36*((LOG(AP36))/LOG(2))))","v":0},null,{"$f":"N36","v":22212},{"$f":"COUNTIF(L132:L156,AS36)","v":0},{"$f":"AT36/(AV4-AT25)","v":0},{"$f":"IF(AU36=0,0,(AU36*((LOG(AU36))/LOG(2))))","v":0}]
[12,4568,24,4581,13,4589,14,4598,24,4611,0,12112,null,22221,{"$f":"COUNTIF($L$7:$L$500,N37)","v":1},{"$f":"O37/$Q$4","v":6.6666666666666671E-3},{"$f":"IF(P37=0,0,(P37*((LOG(P37))/LOG(2))))","v":-4.819212460330588E-2},null,null,{"$f":"N37","v":22221},{"$f":"COUNTIF(L7:L31,T37)","v":0},{"$f":"U37/(W4-U25)","v":0},{"$f":"IF(V37=0,0,(V37*((LOG(V37))/LOG(2))))","v":0},null,{"$f":"N37","v":22221},{"$f":"COUNTIF(L32:L56,Y37)","v":0},{"$f":"Z37/(AB4-Z25)","v":0},{"$f":"IF(AA37=0,0,(AA37*((LOG(AA37))/LOG(2))))","v":0},null,{"$f":"N37","v":22221},{"$f":"COUNTIF(L57:L81,AD37)","v":0},{"$f":"AE37/(AG4-AE25)","v":0},{"$f":"IF(AF37=0,0,(AF37*((LOG(AF37))/LOG(2))))","v":0},null,{"$f":"N37","v":22221},{"$f":"COUNTIF(L82:L106,AI37)","v":1},{"$f":"AJ37/(AL4-AJ25)","v":0.04},{"$f":"IF(AK37=0,0,(AK37*((LOG(AK37))/LOG(2))))","v":-0.18575424759098899},null,{"$f":"N37","v":22221},{"$f":"COUNTIF(L107:L131,AN37)","v":0},{"$f":"AO37/(AQ4-AO25)","v":0},{"$f":"IF(AP37=0,0,(AP37*((LOG(AP37))/LOG(2))))","v":0},null,{"$f":"N37","v":22221},{"$f":"COUNTIF(L132:L156,AS37)","v":0},{"$f":"AT37/(AV4-AT25)","v":0},{"$f":"IF(AU37=0,0,(AU37*((LOG(AU37))/LOG(2))))","v":0}]
[12,4753,24,4761,13,4773,14,4789,13,4797,0,12111,null,22222,{"$f":"COUNTIF($L$7:$L$500,N38)","v":0},{"$f":"O38/$Q$4","v":0},{"$f":"IF(P38=0,0,(P38*((LOG(P38))/LOG(2))))","v":0},null,null,{"$f":"N38","v":22222},{"$f":"COUNTIF(L7:L31,T38)","v":0},{"$f":"U38/(W4-U25)","v":0},{"$f":"IF(V38=0,0,(V38*((LOG(V38))/LOG(2))))","v":0},null,{"$f":"N38","v":22222},{"$f":"COUNTIF(L32:L56,Y38)","v":0},{"$f":"Z38/(AB4-Z25)","v":0},{"$f":"IF(AA38=0,0,(AA38*((LOG(AA38))/LOG(2))))","v":0},null,{"$f":"N38","v":22222},{"$f":"COUNTIF(L57:L81,AD38)","v":0},{"$f":"AE38/(AG4-AE25)","v":0},{"$f":"IF(AF38=0,0,(AF38*((LOG(AF38))/LOG(2))))","v":0},null,{"$f":"N38","v":22222},{"$f":"COUNTIF(L82:L106,AI38)","v":0},{"$f":"AJ38/(AL4-AJ25)","v":0},{"$f":"IF(AK38=0,0,(AK38*((LOG(AK38))/LOG(2))))","v":0},null,{"$f":"N38","v":22222},{"$f":"COUNTIF(L107:L131,AN38)","v":0},{"$f":"AO38/(AQ4-AO25)","v":0},{"$f":"IF(AP38=0,0,(AP38*((LOG(AP38))/LOG(2))))","v":0},null,{"$f":"N38","v":22222},{"$f":"COUNTIF(L132:L156,AS38)","v":0},{"$f":"AT38/(AV4-AT25)","v":0},{"$f":"IF(AU38=0,0,(AU38*((LOG(AU38))/LOG(2))))","v":0}]
[21,4931,22,4938,13,4949,14,4954,13,4961,0,22111,null,null,null,{"$f":"SUM(P7:P38)","v":1},{"$f":"-SUM(Q7:Q38)","v":3.7793915953470187},null,null,null,null,{"$f":"SUM(V7:V38)","v":0.99999999999999978},{"$f":"-SUM(W7:W38)","v":3.166201914801638},null,null,null,{"$f":"SUM(AA7:AA38)","v":1},{"$f":"-SUM(AB7:AB38)","v":3.2406015629507228},null,null,null,{"$f":"SUM(AF7:AF38)","v":0.99999999999999989},{"$f":"-SUM(AG7:AG38)","v":3.2405282602167116},null,null,null,{"$f":"SUM(AK7:AK38)","v":1},{"$f":"-SUM(AL7:AL38)","v":3.1590795706241743},null,null,null,{"$f":"SUM(AP7:AP38)","v":0.99999999999999978},{"$f":"-SUM(AQ7:AQ38)","v":3.2924812503605785},null,null,null,{"$f":"SUM(AU7:AU38)","v":1.0000000000000002},{"$f":"-SUM(AV7:AV38)","v":3.5092750707107125}]
[21,5094,11,5106,22,5112,14,5128,13,5148,0,21211,null,null,null,"U=",{"$f":"Q39/(LOG(Q4)/LOG(2))","v":0.52282285075374613},null,null,null,null,"U1=",{"$f":"W39/(LOG(W4)/LOG(2))","v":0.68180447141607792},null,null,null,"U2=",{"$f":"AB39/(LOG(AB4)/LOG(2))","v":0.69782556360943748},null,null,null,"U3=",{"$f":"AG39/(LOG(AG4)/LOG(2))","v":0.69780977872484684},null,null,null,"U4=",{"$f":"AL39/(LOG(AL4)/LOG(2))","v":0.68027075807819581},null,null,null,"U5=",{"$f":"AQ39/(LOG(AQ4)/LOG(2))","v":0.70899724621323768},null,null,null,"U6=",{"$f":"AV39/(LOG(AV4)/LOG(2))","v":0.75568125439322631}]
[12,5278,24,5291,13,5301,14,5319,13,5328,0,12111]
[21,5435,11,5451,22,5458,14,5469,13,5477,0,21211]
[12,5576,13,5616,24,5624,14,5633,24,5642,0,11212,null,"Total Target Seq"]
[12,5813,13,5817,13,5822,14,5834,13,5846,0,11111,null,{"$f":"COUNTIF(L7:L156,G3)","v":6},null,25,25,25,25,25,25]
[12,5945,13,5947,13,5952,23,5962,13,5971,0,11121,null,null,null,"% of reinforcement given in 6 equal intervals based on number of trials "]
[21,6115,11,6125,11,6134,21,6148,11,6160,1,21121,null,null,null,"%_1","%_2","%_3","%_4","%_5","%_6"]
[12,6262,13,6272,24,6280,14,6290,24,6304,0,11212,null,null,"target sequence",{"$f":"$G$3","v":21121},{"$f":"$G$3","v":21121},{"$f":"$G$3","v":21121},{"$f":"$G$3","v":21121},{"$f":"$G$3","v":21121},{"$f":"$G$3","v":21121}]
[12,6414,24,6421,13,6431,23,6441,13,6454,0,12121,null,null,"total reinforcement",{"$f":"U25","v":2},{"$f":"Z25","v":1},{"$f":"AE25","v":2},{"$f":"AJ25","v":0},{"$f":"AO25","v":1},{"$f":"AT25","v":0}]
[21,6579,11,6594,22,6602,14,6616,24,6629,0,21212,null,null,"% target"]
[12,6749,13,6754,24,6763,14,6772,24,6785,0,11212,null,null,"CCRF"]
[12,6889,13,6893,24,6903,14,6912,13,6922,0,11211,null,null,"% CCRf"]
[12,7044,24,7051,13,7060,23,7070,13,7082,0,12121,null,null,"average response rate",{"$f":"J31/P44","v":147.96},{"$f":"(J56-J31)/Q44","v":160.24},{"$f":"(J81-J56)/R44","v":152.88},{"$f":"(J106-J81)/S44","v":165.08},{"$f":"(J131-J106)/T44","v":165.48},{"$f":"(J156-J131)/U44","v":167.16}]
[12,7194,13,7199,24,7215,14,7224,24,7235,0,11212]
[21,7353,11,7369,22,7376,14,7393,24,7405,0,21212]
[12,7523,13,7527,13,7532,14,7537,13,7541,0,11111]
[12,7669,13,7674,13,7681,23,7694,13,7705,0,11121]
[12,7835,13,7842,13,7846,23,7855,13,7865,0,11121]
[12,7988,13,7998,13,8002,23,8013,13,8023,0,11121]
[12,8166,24,8188,13,8199,14,8215,13,8230,0,12111]
[12,8347,13,8352,24,8360,14,8372,13,8387,0,11211]
[12,8490,24,8520,13,8531,23,8537,13,8547,0,12121]
[21,8669,11,8678,11,8685,21,8696,11,8708,1,21121]
[21,8797,22,8805,13,8817,23,8827,13,8839,0,22121]
[21,8950,11,8959,22,8967,14,8978,24,8990,0,21212]
[12,9093,24,9115,24,9123,14,9132,24,9140,0,12212]
[12,9239,13,9244,24,9254,14,9262,13,9270,0,11211]
[12,9399,13,9404,13,9410,14,9414,24,9427,0,11112]
[21,9537,11,9547,22,9554,14,9563,13,9571,0,21211]
[12,9677,24,9684,13,9693,14,9697,24,9707,0,12112]
[12,9823,24,9833,13,9847,14,9857,24,9868,0,12112]
[21,9979,11,9998,11,10003,21,10013,11,10025,1,21121]
[12,10128,24,10136,13,10147,23,10160,13,10176,0,12121]
[12,10276,13,10280,13,10290,23,10300,13,10316,0,11121]
[12,10416,13,10420,24,10430,14,10438,24,10449,0,11212]
[12,10555,13,10563,13,10577,14,10584,24,10590,0,11112]
[12,10712,24,10721,13,10730,23,10739,13,10751,0,12121]
[12,10885,24,10895,13,10907,23,10921,13,10933,0,12121]
[12,11038,13,11045,13,11049,14,11054,24,11067,0,11112]
[12,11181,13,11195,24,11204,14,11216,13,11236,0,11211]
[12,11354,13,11359,24,11368,14,11377,24,11386,0,11212]
[12,11491,13,11500,13,11505,23,11514,13,11527,0,11121]
[12,11666,13,11671,13,11675,23,11685,13,11696,0,11121]
[21,11801,22,11809,13,11820,23,11828,13,11837,0,22121]
[21,11946,22,11968,13,11977,23,11986,13,11997,0,22121]
[21,12102,22,12120,13,12129,23,12135,13,12148,0,22121]
[21,12291,11,12300,11,12314,12,12325,24,12340,0,21112]
[12,12451,13,12459,24,12469,14,12482,13,12492,0,11211]
[12,12624,24,12633,13,12641,23,12648,13,12659,0,12121]
[12,12776,24,12782,13,12792,23,12800,13,12817,0,12121]
[12,12925,13,12936,24,12945,14,12954,24,12964,0,11212]
[12,13080,13,13095,24,13107,14,13118,13,13132,0,11211]
[12,13251,13,13260,24,13270,14,13278,13,13287,0,11211]
[21,13399,22,13404,24,13416,23,13421,13,13430,0,22221]
[12,13538,13,13552,13,13561,14,13570,24,13583,0,11112]
[12,13686,13,13692,13,13696,14,13701,24,13712,0,11112]
[21,13853,11,13862,22,13875,14,13887,13,13900,0,21211]
[21,14018,22,14024,13,14035,23,14049,13,14060,0,22121]
[12,14196,24,14203,24,14220,14,14247,24,14259,0,12212]
[12,14373,13,14395,24,14404,14,14417,24,14426,0,11212]
[12,14524,24,14537,24,14544,14,14555,24,14569,0,12212]
[12,14688,24,14697,13,14706,23,14718,13,14730,0,12121]
[12,14866,13,14878,13,14886,14,14890,24,14902,0,11112]
[12,15024,24,15039,13,15051,23,15064,13,15077,0,12121]
[12,15213,13,15217,13,15227,23,15241,13,15252,0,11121]
[21,15391,11,15400,22,15422,14,15435,13,15452,0,21211]
[12,15615,24,15625,13,15634,23,15642,13,15654,0,12121]
[12,15770,13,15782,13,15798,14,15803,24,15812,0,11112]
[12,15939,13,15951,24,15960,14,15969,13,15978,0,11211]
[12,16085,13,16097,24,16106,14,16116,24,16128,0,11212]
[12,16241,24,16253,13,16262,23,16271,13,16280,0,12121]
[12,16389,13,16393,13,16406,23,16415,13,16424,0,11121]
[12,16530,24,16542,13,16551,23,16562,13,16573,0,12121]
[21,16726,11,16736,11,16741,21,16750,11,16761,1,21121]
[12,16865,24,16873,13,16881,23,16890,13,16902,0,12121]
[12,17000,13,17013,24,17021,23,17028,13,17040,0,11221]
[12,17160,24,17175,13,17184,14,17192,13,17198,0,12111]
[12,17354,13,17359,13,17386,23,17397,13,17409,0,11121]
[12,17562,13,17575,13,17583,14,17591,24,17604,0,11112]
[12,17713,13,17717,13,17721,14,17725,24,17737,0,11112]
[12,17867,13,17882,13,17887,23,17895,13,17906,0,11121]
[12,18021,13,18025,13,18030,14,18034,13,18038,0,11111]
[12,18140,24,18152,13,18159,23,18169,13,18182,0,12121]
[12,18334,13,18338,24,18351,14,18360,24,18368,0,11212]
[12,18511,24,18523,13,18531,14,18543,13,18559,0,12111]
[12,18704,13,18710,13,18715,14,18719,13,18723,0,11111]
[12,18854,24,18866,13,18875,14,18903,13,18921,0,12111]
[12,19078,13,19082,13,19089,14,19094,13,19102,0,11111]
[12,19236,24,19247,13,19257,14,19267,24,19280,0,12112]
[21,19432,11,19443,22,19451,14,19462,13,19480,0,21211]
[12,19581,13,19598,24,19606,14,19614,13,19622,0,11211]
[12,19748,24,19755,24,19773,14,19782,24,19791,0,12212]
[21,19925,11,19936,11,19947,12,19957,24,19971,0,21112]
[12,20107,24,20122,13,20131,14,20146,13,20156,0,12111]
[12,20399,13,20407,13,20411,23,20422,13,20435,0,11121]
[12,20548,24,20558,13,20566,23,20579,13,20591,0,12121]
[21,20738,22,20745,13,20753,23,20762,13,20775,0,22121]
[12,20884,24,20897,13,20908,14,20918,24,20930,0,12112]
[12,21050,24,21059,24,21064,23,21069,13,21077,0,12221]
[12,21217,13,21227,24,21233,14,21243,13,21261,0,11211]
[12,21384,13,21388,24,21397,14,21405,13,21409,0,11211]
[12,21536,13,21541,24,21550,14,21560,24,21572,0,11212]
[12,21698,24,21708,13,21718,14,21728,13,21737,0,12111]
[12,21855,24,21865,13,21874,23,21886,13,21898,0,12121]
[12,22042,13,22053,13,22058,14,22080,13,22095,0,11111]
[12,22196,13,22201,13,22205,14,22209,13,22214,0,11111]
[12,22312,13,22318,13,22323,14,22327,24,22337,0,11112]
[12,22466,24,22476,13,22486,23,22500,13,22512,0,12121]
[12,22656,24,22669,13,22678,14,22682,24,22697,0,12112]
[12,22798,13,22802,24,22812,14,22820,24,22842,0,11212]
[21,22976,11,22989,22,22996,14,23004,24,23013,0,21212]
[12,23176,24,23191,13,23200,14,23205,13,23211,0,12111]
[12,23357,13,23362,13,23367,14,23376,24,23389,0,11112]
[12,23521,24,23536,13,23545,14,23550,13,23554,0,12111]
[21,23657,11,23672,22,23682,14,23692,13,23700,0,21211]
[12,23803,13,23813,13,23817,23,23827,13,23839,0,11121]
[12,23942,24,23952,13,23961,14,23966,13,23970,null,12111]

{"sheet":"!N218830.091","index":28,"n_rows":152,"n_cols":48,"rows_kept":152,"cut":false,"hidden":false,"merged":[[4,39,4,42],[5,39,5,40],[4,44,4,47],[5,44,5,45],[4,24,4,27],[5,24,5,25],[4,29,4,32],[5,29,5,30],[4,34,4,37],[5,34,5,35],[1,1,1,2],[5,13,5,14],[42,13,42,14],[43,13,43,14],[4,19,4,22],[5,19,5,20]]}
["Report for:!N218830.091"]
["Date:","<date>"]
["Hen:","<hen>",null,null,null,"Correct Sequence",{"$f":"Start!J2","v":21121},null,null,null,null,null,null,null,null,"Total Sequences in Data",{"$f":"4994-COUNTBLANK(L7:L5000)","v":146},null,null,null,null,"Total Sequences in Block Data",{"$f":"COUNTA(L7:L30)","v":24},null,null,null,"Total Sequences in Block Data",{"$f":"COUNTA(L31:L55)","v":25},null,null,null,"Total Sequences in Block Data",{"$f":"COUNTA(L56:L79)","v":24},null,null,null,"Total Sequences in Block Data",{"$f":"COUNTA(L80:L103)","v":24},null,null,null,"Total Sequences in Block Data",{"$f":"COUNTA(L104:L128)","v":25},null,null,null,"Total Sequences in Block Data",{"$f":"COUNTA(L129:L152)","v":24}]
[null,null,null,null,null,null,null,null,null,null,null,null,null,null,null,"Total Sequences in Summary",{"$f":"SUM(O7:O38)","v":146},null,null,null,null,"Total Sequences in Block Summary",{"$f":"SUM(U7:U38)","v":24},null,null,null,"Total Sequences in Block Summary",{"$f":"SUM(Z7:Z38)","v":25},null,null,null,"Total Sequences in Block Summary",{"$f":"SUM(AE7:AE38)","v":24},null,null,null,"Total Sequences in Block Summary",{"$f":"SUM(AJ7:AJ38)","v":24},null,null,null,"Total Sequences in Block Summary",{"$f":"SUM(AO7:AO38)","v":25},null,null,null,"Total Sequences in Block Summary",{"$f":"SUM(AT7:AT38)","v":24}]
[null,null,null,null,null,null,null,null,null,null,null,null,null,null,null,null,null,null,null,"Block 1",null,null,null,null,"Block 2",null,null,null,null,"Block 3",null,null,null,null,"Block 4",null,null,null,null,"Block 5",null,null,null,null,"Block 6"]
["Sequence\nComponent\n1","Time\n1","Sequence\nComponent\n2","Time\n2","Sequence\nComponent\n3","Time\n3","Sequence\nComponent\n4","Time\n4","Sequence\nComponent\n5","Time\n5","Correct?\n0=No 1=Yes","Sequence",null,"Frequency",null,"Relative Frequency","Variability",null,null,"Frequency",null,"Relative Frequency","Variability",null,"Frequency",null,"Relative Frequency","Variability",null,"Frequency",null,"Relative Frequency","Variability",null,"Frequency",null,"Relative Frequency","Variability",null,"Frequency",null,"Relative Frequency","Variability",null,"Frequency",null,"Relative Frequency","Variability"]
[12,10,24,23,13,33,14,41,13,49,0,12111,null,11111,{"$f":"COUNTIF($L$7:$L$500,N7)","v":3},{"$f":"O7/$Q$4","v":2.0547945205479451E-2},{"$f":"IF(P7=0,0,(P7*((LOG(P7))/LOG(2))))","v":-0.11516839845531907},null,null,{"$f":"N7","v":11111},{"$f":"COUNTIF(L7:L30,T7)","v":2},{"$f":"U7/(W4-U25)","v":9.0909090909090912E-2},{"$f":"IF(V7=0,0,(V7*((LOG(V7))/LOG(2))))","v":-0.31449378351248153},null,{"$f":"N7","v":11111},{"$f":"COUNTIF(L31:L55,Y7)","v":1},{"$f":"Z7/(AB4-Z25)","v":0.04},{"$f":"IF(AA7=0,0,(AA7*((LOG(AA7))/LOG(2))))","v":-0.18575424759098899},null,{"$f":"N7","v":11111},{"$f":"COUNTIF(L56:L79,AD7)","v":0},{"$f":"AE7/(AG4-AE25)","v":0},{"$f":"IF(AF7=0,0,(AF7*((LOG(AF7))/LOG(2))))","v":0},null,{"$f":"N7","v":11111},{"$f":"COUNTIF(L80:L103,AI7)","v":0},{"$f":"AJ7/(AL4-AJ25)","v":0},{"$f":"IF(AK7=0,0,(AK7*((LOG(AK7))/LOG(2))))","v":0},null,{"$f":"N7","v":11111},{"$f":"COUNTIF(L104:L128,AN7)","v":0},{"$f":"AO7/(AQ4-AO25)","v":0},{"$f":"IF(AP7=0,0,(AP7*((LOG(AP7))/LOG(2))))","v":0},null,{"$f":"N7","v":11111},{"$f":"COUNTIF(L129:L152,AS7)","v":0},{"$f":"AT7/(AV4-AT25)","v":0},{"$f":"IF(AU7=0,0,(AU7*((LOG(AU7))/LOG(2))))","v":0}]
[12,151,13,160,24,172,14,180,13,188,0,11211,null,11112,{"$f":"COUNTIF($L$7:$L$500,N8)","v":5},{"$f":"O8/$Q$4","v":3.4246575342465752E-2},{"$f":"IF(P8=0,0,(P8*((LOG(P8))/LOG(2))))","v":-0.16670878301344708},null,null,{"$f":"N8","v":11112},{"$f":"COUNTIF(L7:L30,T8)","v":1},{"$f":"U8/(W4-U25)","v":4.5454545454545456E-2},{"$f":"IF(V8=0,0,(V8*((LOG(V8))/LOG(2))))","v":-0.20270143721078623},null,{"$f":"N8","v":11112},{"$f":"COUNTIF(L31:L55,Y8)","v":0},{"$f":"Z8/(AB4-Z25)","v":0},{"$f":"IF(AA8=0,0,(AA8*((LOG(AA8))/LOG(2))))","v":0},null,{"$f":"N8","v":11112},{"$f":"COUNTIF(L56:L79,AD8)","v":1},{"$f":"AE8/(AG4-AE25)","v":4.5454545454545456E-2},{"$f":"IF(AF8=0,0,(AF8*((LOG(AF8))/LOG(2))))","v":-0.20270143721078623},null,{"$f":"N8","v":11112},{"$f":"COUNTIF(L80:L103,AI8)","v":1},{"$f":"AJ8/(AL4-AJ25)","v":4.3478260869565216E-2},{"$f":"IF(AK8=0,0,(AK8*((LOG(AK8))/LOG(2))))","v":-0.19667660678508753},null,{"$f":"N8","v":11112},{"$f":"COUNTIF(L104:L128,AN8)","v":0},{"$f":"AO8/(AQ4-AO25)","v":0},{"$f":"IF(AP8=0,0,(AP8*((LOG(AP8))/LOG(2))))","v":0},null,{"$f":"N8","v":11112},{"$f":"COUNTIF(L129:L152,AS8)","v":2},{"$f":"AT8/(AV4-AT25)","v":8.6956521739130432E-2},{"$f":"IF(AU8=0,0,(AU8*((LOG(AU8))/LOG(2))))","v":-0.30639669183104457}]
[21,316,11,329,11,338,21,351,11,362,1,21121,null,11121,{"$f":"COUNTIF($L$7:$L$500,N9)","v":9},{"$f":"O9/$Q$4","v":6.1643835616438353E-2},{"$f":"IF(P9=0,0,(P9*((LOG(P9))/LOG(2))))","v":-0.24780202751328315},null,null,{"$f":"N9","v":11121},{"$f":"COUNTIF(L7:L30,T9)","v":1},{"$f":"U9/(W4-U25)","v":4.5454545454545456E-2},{"$f":"IF(V9=0,0,(V9*((LOG(V9))/LOG(2))))","v":-0.20270143721078623},null,{"$f":"N9","v":11121},{"$f":"COUNTIF(L31:L55,Y9)","v":2},{"$f":"Z9/(AB4-Z25)","v":0.08},{"$f":"IF(AA9=0,0,(AA9*((LOG(AA9))/LOG(2))))","v":-0.29150849518197797},null,{"$f":"N9","v":11121},{"$f":"COUNTIF(L56:L79,AD9)","v":2},{"$f":"AE9/(AG4-AE25)","v":9.0909090909090912E-2},{"$f":"IF(AF9=0,0,(AF9*((LOG(AF9))/LOG(2))))","v":-0.31449378351248153},null,{"$f":"N9","v":11121},{"$f":"COUNTIF(L80:L103,AI9)","v":1},{"$f":"AJ9/(AL4-AJ25)","v":4.3478260869565216E-2},{"$f":"IF(AK9=0,0,(AK9*((LOG(AK9))/LOG(2))))","v":-0.19667660678508753},null,{"$f":"N9","v":11121},{"$f":"COUNTIF(L104:L128,AN9)","v":2},{"$f":"AO9/(AQ4-AO25)","v":8.6956521739130432E-2},{"$f":"IF(AP9=0,0,(AP9*((LOG(AP9))/LOG(2))))","v":-0.30639669183104457},null,{"$f":"N9","v":11121},{"$f":"COUNTIF(L129:L152,AS9)","v":1},{"$f":"AT9/(AV4-AT25)","v":4.3478260869565216E-2},{"$f":"IF(AU9=0,0,(AU9*((LOG(AU9))/LOG(2))))","v":-0.19667660678508753}]
[12,455,13,461,24,474,14,486,13,496,0,11211,null,11122,{"$f":"COUNTIF($L$7:$L$500,N10)","v":0},{"$f":"O10/$Q$4","v":0},{"$f":"IF(P10=0,0,(P10*((LOG(P10))/LOG(2))))","v":0},null,null,{"$f":"N10","v":11122},{"$f":"COUNTIF(L7:L30,T10)","v":0},{"$f":"U10/(W4-U25)","v":0},{"$f":"IF(V10=0,0,(V10*((LOG(V10))/LOG(2))))","v":0},null,{"$f":"N10","v":11122},{"$f":"COUNTIF(L31:L55,Y10)","v":0},{"$f":"Z10/(AB4-Z25)","v":0},{"$f":"IF(AA10=0,0,(AA10*((LOG(AA10))/LOG(2))))","v":0},null,{"$f":"N10","v":11122},{"$f":"COUNTIF(L56:L79,AD10)","v":0},{"$f":"AE10/(AG4-AE25)","v":0},{"$f":"IF(AF10=0,0,(AF10*((LOG(AF10))/LOG(2))))","v":0},null,{"$f":"N10","v":11122},{"$f":"COUNTIF(L80:L103,AI10)","v":0},{"$f":"AJ10/(AL4-AJ25)","v":0},{"$f":"IF(AK10=0,0,(AK10*((LOG(AK10))/LOG(2))))","v":0},null,{"$f":"N10","v":11122},{"$f":"COUNTIF(L104:L128,AN10)","v":0},{"$f":"AO10/(AQ4-AO25)","v":0},{"$f":"IF(AP10=0,0,(AP10*((LOG(AP10))/LOG(2))))","v":0},null,{"$f":"N10","v":11122},{"$f":"COUNTIF(L129:L152,AS10)","v":0},{"$f":"AT10/(AV4-AT25)","v":0},{"$f":"IF(AU10=0,0,(AU10*((LOG(AU10))/LOG(2))))","v":0}]
[12,602,13,608,24,621,14,634,13,644,0,11211,null,11211,{"$f":"COUNTIF($L$7:$L$500,N11)","v":13},{"$f":"O11/$Q$4","v":8.9041095890410954E-2},{"$f":"IF(P11=0,0,(P11*((LOG(P11))/LOG(2))))","v":-0.31069865020278103},null,null,{"$f":"N11","v":11211},{"$f":"COUNTIF(L7:L30,T11)","v":3},{"$f":"U11/(W4-U25)","v":0.13636363636363635},{"$f":"IF(V11=0,0,(V11*((LOG(V11))/LOG(2))))","v":-0.39197306153401923},null,{"$f":"N11","v":11211},{"$f":"COUNTIF(L31:L55,Y11)","v":6},{"$f":"Z11/(AB4-Z25)","v":0.24},{"$f":"IF(AA11=0,0,(AA11*((LOG(AA11))/LOG(2))))","v":-0.49413448537285637},null,{"$f":"N11","v":11211},{"$f":"COUNTIF(L56:L79,AD11)","v":0},{"$f":"AE11/(AG4-AE25)","v":0},{"$f":"IF(AF11=0,0,(AF11*((LOG(AF11))/LOG(2))))","v":0},null,{"$f":"N11","v":11211},{"$f":"COUNTIF(L80:L103,AI11)","v":3},{"$f":"AJ11/(AL4-AJ25)","v":0.13043478260869565},{"$f":"IF(AK11=0,0,(AK11*((LOG(AK11))/LOG(2))))","v":-0.3832955811307639},null,{"$f":"N11","v":11211},{"$f":"COUNTIF(L104:L128,AN11)","v":1},{"$f":"AO11/(AQ4-AO25)","v":4.3478260869565216E-2},{"$f":"IF(AP11=0,0,(AP11*((LOG(AP11))/LOG(2))))","v":-0.19667660678508753},null,{"$f":"N11","v":11211},{"$f":"COUNTIF(L129:L152,AS11)","v":0},{"$f":"AT11/(AV4-AT25)","v":0},{"$f":"IF(AU11=0,0,(AU11*((LOG(AU11))/LOG(2))))","v":0}]
[12,750,13,755,13,759,14,765,13,774,0,11111,null,11212,{"$f":"COUNTIF($L$7:$L$500,N12)","v":6},{"$f":"O12/$Q$4","v":4.1095890410958902E-2},{"$f":"IF(P12=0,0,(P12*((LOG(P12))/LOG(2))))","v":-0.18924090649967923},null,null,{"$f":"N12","v":11212},{"$f":"COUNTIF(L7:L30,T12)","v":0},{"$f":"U12/(W4-U25)","v":0},{"$f":"IF(V12=0,0,(V12*((LOG(V12))/LOG(2))))","v":0},null,{"$f":"N12","v":11212},{"$f":"COUNTIF(L31:L55,Y12)","v":0},{"$f":"Z12/(AB4-Z25)","v":0},{"$f":"IF(AA12=0,0,(AA12*((LOG(AA12))/LOG(2))))","v":0},null,{"$f":"N12","v":11212},{"$f":"COUNTIF(L56:L79,AD12)","v":1},{"$f":"AE12/(AG4-AE25)","v":4.5454545454545456E-2},{"$f":"IF(AF12=0,0,(AF12*((LOG(AF12))/LOG(2))))","v":-0.20270143721078623},null,{"$f":"N12","v":11212},{"$f":"COUNTIF(L80:L103,AI12)","v":3},{"$f":"AJ12/(AL4-AJ25)","v":0.13043478260869565},{"$f":"IF(AK12=0,0,(AK12*((LOG(AK12))/LOG(2))))","v":-0.3832955811307639},null,{"$f":"N12","v":11212},{"$f":"COUNTIF(L104:L128,AN12)","v":1},{"$f":"AO12/(AQ4-AO25)","v":4.3478260869565216E-2},{"$f":"IF(AP12=0,0,(AP12*((LOG(AP12))/LOG(2))))","v":-0.19667660678508753},null,{"$f":"N12","v":11212},{"$f":"COUNTIF(L129:L152,AS12)","v":1},{"$f":"AT12/(AV4-AT25)","v":4.3478260869565216E-2},{"$f":"IF(AU12=0,0,(AU12*((LOG(AU12))/LOG(2))))","v":-0.19667660678508753}]
[12,880,13,886,13,890,14,897,13,902,0,11111,null,11221,{"$f":"COUNTIF($L$7:$L$500,N13)","v":1},{"$f":"O13/$Q$4","v":6.8493150684931503E-3},{"$f":"IF(P13=0,0,(P13*((LOG(P13))/LOG(2))))","v":-4.9245373690959021E-2},null,null,{"$f":"N13","v":11221},{"$f":"COUNTIF(L7:L30,T13)","v":0},{"$f":"U13/(W4-U25)","v":0},{"$f":"IF(V13=0,0,(V13*((LOG(V13))/LOG(2))))","v":0},null,{"$f":"N13","v":11221},{"$f":"COUNTIF(L31:L55,Y13)","v":0},{"$f":"Z13/(AB4-Z25)","v":0},{"$f":"IF(AA13=0,0,(AA13*((LOG(AA13))/LOG(2))))","v":0},null,{"$f":"N13","v":11221},{"$f":"COUNTIF(L56:L79,AD13)","v":0},{"$f":"AE13/(AG4-AE25)","v":0},{"$f":"IF(AF13=0,0,(AF13*((LOG(AF13))/LOG(2))))","v":0},null,{"$f":"N13","v":11221},{"$f":"COUNTIF(L80:L103,AI13)","v":0},{"$f":"AJ13/(AL4-AJ25)","v":0},{"$f":"IF(AK13=0,0,(AK13*((LOG(AK13))/LOG(2))))","v":0},null,{"$f":"N13","v":11221},{"$f":"COUNTIF(L104:L128,AN13)","v":1},{"$f":"AO13/(AQ4-AO25)","v":4.3478260869565216E-2},{"$f":"IF(AP13=0,0,(AP13*((LOG(AP13))/LOG(2))))","v":-0.19667660678508753},null,{"$f":"N13","v":11221},{"$f":"COUNTIF(L129:L152,AS13)","v":0},{"$f":"AT13/(AV4-AT25)","v":0},{"$f":"IF(AU13=0,0,(AU13*((LOG(AU13))/LOG(2))))","v":0}]
[12,1006,24,1014,13,1024,14,1028,13,1034,0,12111,null,11222,{"$f":"COUNTIF($L$7:$L$500,N14)","v":2},{"$f":"O14/$Q$4","v":1.3698630136986301E-2},{"$f":"IF(P14=0,0,(P14*((LOG(P14))/LOG(2))))","v":-8.4792117244931728E-2},null,null,{"$f":"N14","v":11222},{"$f":"COUNTIF(L7:L30,T14)","v":0},{"$f":"U14/(W4-U25)","v":0},{"$f":"IF(V14=0,0,(V14*((LOG(V14))/LOG(2))))","v":0},null,{"$f":"N14","v":11222},{"$f":"COUNTIF(L31:L55,Y14)","v":0},{"$f":"Z14/(AB4-Z25)","v":0},{"$f":"IF(AA14=0,0,(AA14*((LOG(AA14))/LOG(2))))","v":0},null,{"$f":"N14","v":11222},{"$f":"COUNTIF(L56:L79,AD14)","v":1},{"$f":"AE14/(AG4-AE25)","v":4.5454545454545456E-2},{"$f":"IF(AF14=0,0,(AF14*((LOG(AF14))/LOG(2))))","v":-0.20270143721078623},null,{"$f":"N14","v":11222},{"$f":"COUNTIF(L80:L103,AI14)","v":0},{"$f":"AJ14/(AL4-AJ25)","v":0},{"$f":"IF(AK14=0,0,(AK14*((LOG(AK14))/LOG(2))))","v":0},null,{"$f":"N14","v":11222},{"$f":"COUNTIF(L104:L128,AN14)","v":1},{"$f":"AO14/(AQ4-AO25)","v":4.3478260869565216E-2},{"$f":"IF(AP14=0,0,(AP14*((LOG(AP14))/LOG(2))))","v":-0.19667660678508753},null,{"$f":"N14","v":11222},{"$f":"COUNTIF(L129:L152,AS14)","v":0},{"$f":"AT14/(AV4-AT25)","v":0},{"$f":"IF(AU14=0,0,(AU14*((LOG(AU14))/LOG(2))))","v":0}]
[12,1176,13,1181,13,1192,23,1202,13,1215,0,11121,null,12111,{"$f":"COUNTIF($L$7:$L$500,N15)","v":11},{"$f":"O15/$Q$4","v":7.5342465753424653E-2},{"$f":"IF(P15=0,0,(P15*((LOG(P15))/LOG(2))))","v":-0.28105700234705422},null,null,{"$f":"N15","v":12111},{"$f":"COUNTIF(L7:L30,T15)","v":6},{"$f":"U15/(W4-U25)","v":0.27272727272727271},{"$f":"IF(V15=0,0,(V15*((LOG(V15))/LOG(2))))","v":-0.51121885034076575},null,{"$f":"N15","v":12111},{"$f":"COUNTIF(L31:L55,Y15)","v":0},{"$f":"Z15/(AB4-Z25)","v":0},{"$f":"IF(AA15=0,0,(AA15*((LOG(AA15))/LOG(2))))","v":0},null,{"$f":"N15","v":12111},{"$f":"COUNTIF(L56:L79,AD15)","v":2},{"$f":"AE15/(AG4-AE25)","v":9.0909090909090912E-2},{"$f":"IF(AF15=0,0,(AF15*((LOG(AF15))/LOG(2))))","v":-0.31449378351248153},null,{"$f":"N15","v":12111},{"$f":"COUNTIF(L80:L103,AI15)","v":1},{"$f":"AJ15/(AL4-AJ25)","v":4.3478260869565216E-2},{"$f":"IF(AK15=0,0,(AK15*((LOG(AK15))/LOG(2))))","v":-0.19667660678508753},null,{"$f":"N15","v":12111},{"$f":"COUNTIF(L104:L128,AN15)","v":0},{"$f":"AO15/(AQ4-AO25)","v":0},{"$f":"IF(AP15=0,0,(AP15*((LOG(AP15))/LOG(2))))","v":0},null,{"$f":"N15","v":12111},{"$f":"COUNTIF(L129:L152,AS15)","v":2},{"$f":"AT15/(AV4-AT25)","v":8.6956521739130432E-2},{"$f":"IF(AU15=0,0,(AU15*((LOG(AU15))/LOG(2))))","v":-0.30639669183104457}]
[21,1324,22,1325,13,1340,23,1348,13,1359,0,22121,null,12112,{"$f":"COUNTIF($L$7:$L$500,N16)","v":8},{"$f":"O16/$Q$4","v":5.4794520547945202E-2},{"$f":"IF(P16=0,0,(P16*((LOG(P16))/LOG(2))))","v":-0.22957942788383656},null,null,{"$f":"N16","v":12112},{"$f":"COUNTIF(L7:L30,T16)","v":1},{"$f":"U16/(W4-U25)","v":4.5454545454545456E-2},{"$f":"IF(V16=0,0,(V16*((LOG(V16))/LOG(2))))","v":-0.20270143721078623},null,{"$f":"N16","v":12112},{"$f":"COUNTIF(L31:L55,Y16)","v":1},{"$f":"Z16/(AB4-Z25)","v":0.04},{"$f":"IF(AA16=0,0,(AA16*((LOG(AA16))/LOG(2))))","v":-0.18575424759098899},null,{"$f":"N16","v":12112},{"$f":"COUNTIF(L56:L79,AD16)","v":2},{"$f":"AE16/(AG4-AE25)","v":9.0909090909090912E-2},{"$f":"IF(AF16=0,0,(AF16*((LOG(AF16))/LOG(2))))","v":-0.31449378351248153},null,{"$f":"N16","v":12112},{"$f":"COUNTIF(L80:L103,AI16)","v":0},{"$f":"AJ16/(AL4-AJ25)","v":0},{"$f":"IF(AK16=0,0,(AK16*((LOG(AK16))/LOG(2))))","v":0},null,{"$f":"N16","v":12112},{"$f":"COUNTIF(L104:L128,AN16)","v":2},{"$f":"AO16/(AQ4-AO25)","v":8.6956521739130432E-2},{"$f":"IF(AP16=0,0,(AP16*((LOG(AP16))/LOG(2))))","v":-0.30639669183104457},null,{"$f":"N16","v":12112},{"$f":"COUNTIF(L129:L152,AS16)","v":2},{"$f":"AT16/(AV4-AT25)","v":8.6956521739130432E-2},{"$f":"IF(AU16=0,0,(AU16*((LOG(AU16))/LOG(2))))","v":-0.30639669183104457}]
[12,1470,24,1487,24,1495,14,1507,13,1517,0,12211,null,12121,{"$f":"COUNTIF($L$7:$L$500,N17)","v":16},{"$f":"O17/$Q$4","v":0.1095890410958904},{"$f":"IF(P17=0,0,(P17*((LOG(P17))/LOG(2))))","v":-0.34956981467178266},null,null,{"$f":"N17","v":12121},{"$f":"COUNTIF(L7:L30,T17)","v":0},{"$f":"U17/(W4-U25)","v":0},{"$f":"IF(V17=0,0,(V17*((LOG(V17))/LOG(2))))","v":0},null,{"$f":"N17","v":12121},{"$f":"COUNTIF(L31:L55,Y17)","v":2},{"$f":"Z17/(AB4-Z25)","v":0.08},{"$f":"IF(AA17=0,0,(AA17*((LOG(AA17))/LOG(2))))","v":-0.29150849518197797},null,{"$f":"N17","v":12121},{"$f":"COUNTIF(L56:L79,AD17)","v":0},{"$f":"AE17/(AG4-AE25)","v":0},{"$f":"IF(AF17=0,0,(AF17*((LOG(AF17))/LOG(2))))","v":0},null,{"$f":"N17","v":12121},{"$f":"COUNTIF(L80:L103,AI17)","v":3},{"$f":"AJ17/(AL4-AJ25)","v":0.13043478260869565},{"$f":"IF(AK17=0,0,(AK17*((LOG(AK17))/LOG(2))))","v":-0.3832955811307639},null,{"$f":"N17","v":12121},{"$f":"COUNTIF(L104:L128,AN17)","v":4},{"$f":"AO17/(AQ4-AO25)","v":0.17391304347826086},{"$f":"IF(AP17=0,0,(AP17*((LOG(AP17))/LOG(2))))","v":-0.43888034018382832},null,{"$f":"N17","v":12121},{"$f":"COUNTIF(L129:L152,AS17)","v":7},{"$f":"AT17/(AV4-AT25)","v":0.30434782608695654},{"$f":"IF(AU17=0,0,(AU17*((LOG(AU17))/LOG(2))))","v":-0.52232387991286355}]
[12,1627,13,1638,13,1647,14,1651,24,1664,0,11112,null,12122,{"$f":"COUNTIF($L$7:$L$500,N18)","v":0},{"$f":"O18/$Q$4","v":0},{"$f":"IF(P18=0,0,(P18*((LOG(P18))/LOG(2))))","v":0},null,null,{"$f":"N18","v":12122},{"$f":"COUNTIF(L7:L30,T18)","v":0},{"$f":"U18/(W4-U25)","v":0},{"$f":"IF(V18=0,0,(V18*((LOG(V18))/LOG(2))))","v":0},null,{"$f":"N18","v":12122},{"$f":"COUNTIF(L31:L55,Y18)","v":0},{"$f":"Z18/(AB4-Z25)","v":0},{"$f":"IF(AA18=0,0,(AA18*((LOG(AA18))/LOG(2))))","v":0},null,{"$f":"N18","v":12122},{"$f":"COUNTIF(L56:L79,AD18)","v":0},{"$f":"AE18/(AG4-AE25)","v":0},{"$f":"IF(AF18=0,0,(AF18*((LOG(AF18))/LOG(2))))","v":0},null,{"$f":"N18","v":12122},{"$f":"COUNTIF(L80:L103,AI18)","v":0},{"$f":"AJ18/(AL4-AJ25)","v":0},{"$f":"IF(AK18=0,0,(AK18*((LOG(AK18))/LOG(2))))","v":0},null,{"$f":"N18","v":12122},{"$f":"COUNTIF(L104:L128,AN18)","v":0},{"$f":"AO18/(AQ4-AO25)","v":0},{"$f":"IF(AP18=0,0,(AP18*((LOG(AP18))/LOG(2))))","v":0},null,{"$f":"N18","v":12122},{"$f":"COUNTIF(L129:L152,AS18)","v":0},{"$f":"AT18/(AV4-AT25)","v":0},{"$f":"IF(AU18=0,0,(AU18*((LOG(AU18))/LOG(2))))","v":0}]
[21,1802,11,1812,11,1816,12,1821,24,1832,0,21112,null,12211,{"$f":"COUNTIF($L$7:$L$500,N19)","v":3},{"$f":"O19/$Q$4","v":2.0547945205479451E-2},{"$f":"IF(P19=0,0,(P19*((LOG(P19))/LOG(2))))","v":-0.11516839845531907},null,null,{"$f":"N19","v":12211},{"$f":"COUNTIF(L7:L30,T19)","v":2},{"$f":"U19/(W4-U25)","v":9.0909090909090912E-2},{"$f":"IF(V19=0,0,(V19*((LOG(V19))/LOG(2))))","v":-0.31449378351248153},null,{"$f":"N19","v":12211},{"$f":"COUNTIF(L31:L55,Y19)","v":1},{"$f":"Z19/(AB4-Z25)","v":0.04},{"$f":"IF(AA19=0,0,(AA19*((LOG(AA19))/LOG(2))))","v":-0.18575424759098899},null,{"$f":"N19","v":12211},{"$f":"COUNTIF(L56:L79,AD19)","v":0},{"$f":"AE19/(AG4-AE25)","v":0},{"$f":"IF(AF19=0,0,(AF19*((LOG(AF19))/LOG(2))))","v":0},null,{"$f":"N19","v":12211},{"$f":"COUNTIF(L80:L103,AI19)","v":0},{"$f":"AJ19/(AL4-AJ25)","v":0},{"$f":"IF(AK19=0,0,(AK19*((LOG(AK19))/LOG(2))))","v":0},null,{"$f":"N19","v":12211},{"$f":"COUNTIF(L104:L128,AN19)","v":0},{"$f":"AO19/(AQ4-AO25)","v":0},{"$f":"IF(AP19=0,0,(AP19*((LOG(AP19))/LOG(2))))","v":0},null,{"$f":"N19","v":12211},{"$f":"COUNTIF(L129:L152,AS19)","v":0},{"$f":"AT19/(AV4-AT25)","v":0},{"$f":"IF(AU19=0,0,(AU19*((LOG(AU19))/LOG(2))))","v":0}]
[21,1937,22,1951,13,1972,23,1981,13,1990,0,22121,null,12212,{"$f":"COUNTIF($L$7:$L$500,N20)","v":2},{"$f":"O20/$Q$4","v":1.3698630136986301E-2},{"$f":"IF(P20=0,0,(P20*((LOG(P20))/LOG(2))))","v":-8.4792117244931728E-2},null,null,{"$f":"N20","v":12212},{"$f":"COUNTIF(L7:L30,T20)","v":0},{"$f":"U20/(W4-U25)","v":0},{"$f":"IF(V20=0,0,(V20*((LOG(V20))/LOG(2))))","v":0},null,{"$f":"N20","v":12212},{"$f":"COUNTIF(L31:L55,Y20)","v":0},{"$f":"Z20/(AB4-Z25)","v":0},{"$f":"IF(AA20=0,0,(AA20*((LOG(AA20))/LOG(2))))","v":0},null,{"$f":"N20","v":12212},{"$f":"COUNTIF(L56:L79,AD20)","v":1},{"$f":"AE20/(AG4-AE25)","v":4.5454545454545456E-2},{"$f":"IF(AF20=0,0,(AF20*((LOG(AF20))/LOG(2))))","v":-0.20270143721078623},null,{"$f":"N20","v":12212},{"$f":"COUNTIF(L80:L103,AI20)","v":0},{"$f":"AJ20/(AL4-AJ25)","v":0},{"$f":"IF(AK20=0,0,(AK20*((LOG(AK20))/LOG(2))))","v":0},null,{"$f":"N20","v":12212},{"$f":"COUNTIF(L104:L128,AN20)","v":0},{"$f":"AO20/(AQ4-AO25)","v":0},{"$f":"IF(AP20=0,0,(AP20*((LOG(AP20))/LOG(2))))","v":0},null,{"$f":"N20","v":12212},{"$f":"COUNTIF(L129:L152,AS20)","v":1},{"$f":"AT20/(AV4-AT25)","v":4.3478260869565216E-2},{"$f":"IF(AU20=0,0,(AU20*((LOG(AU20))/LOG(2))))","v":-0.19667660678508753}]
[12,2122,24,2128,13,2147,14,2156,24,2170,0,12112,null,12221,{"$f":"COUNTIF($L$7:$L$500,N21)","v":4},{"$f":"O21/$Q$4","v":2.7397260273972601E-2},{"$f":"IF(P21=0,0,(P21*((LOG(P21))/LOG(2))))","v":-0.14218697421589085},null,null,{"$f":"N21","v":12221},{"$f":"COUNTIF(L7:L30,T21)","v":1},{"$f":"U21/(W4-U25)","v":4.5454545454545456E-2},{"$f":"IF(V21=0,0,(V21*((LOG(V21))/LOG(2))))","v":-0.20270143721078623},null,{"$f":"N21","v":12221},{"$f":"COUNTIF(L31:L55,Y21)","v":0},{"$f":"Z21/(AB4-Z25)","v":0},{"$f":"IF(AA21=0,0,(AA21*((LOG(AA21))/LOG(2))))","v":0},null,{"$f":"N21","v":12221},{"$f":"COUNTIF(L56:L79,AD21)","v":2},{"$f":"AE21/(AG4-AE25)","v":9.0909090909090912E-2},{"$f":"IF(AF21=0,0,(AF21*((LOG(AF21))/LOG(2))))","v":-0.31449378351248153},null,{"$f":"N21","v":12221},{"$f":"COUNTIF(L80:L103,AI21)","v":1},{"$f":"AJ21/(AL4-AJ25)","v":4.3478260869565216E-2},{"$f":"IF(AK21=0,0,(AK21*((LOG(AK21))/LOG(2))))","v":-0.19667660678508753},null,{"$f":"N21","v":12221},{"$f":"COUNTIF(L104:L128,AN21)","v":0},{"$f":"AO21/(AQ4-AO25)","v":0},{"$f":"IF(AP21=0,0,(AP21*((LOG(AP21))/LOG(2))))","v":0},null,{"$f":"N21","v":12221},{"$f":"COUNTIF(L129:L152,AS21)","v":0},{"$f":"AT21/(AV4-AT25)","v":0},{"$f":"IF(AU21=0,0,(AU21*((LOG(AU21))/LOG(2))))","v":0}]
[21,2275,11,2299,11,2306,21,2316,11,2328,1,21121,null,12222,{"$f":"COUNTIF($L$7:$L$500,N22)","v":0},{"$f":"O22/$Q$4","v":0},{"$f":"IF(P22=0,0,(P22*((LOG(P22))/LOG(2))))","v":0},null,null,{"$f":"N22","v":12222},{"$f":"COUNTIF(L7:L30,T22)","v":0},{"$f":"U22/(W4-U25)","v":0},{"$f":"IF(V22=0,0,(V22*((LOG(V22))/LOG(2))))","v":0},null,{"$f":"N22","v":12222},{"$f":"COUNTIF(L31:L55,Y22)","v":0},{"$f":"Z22/(AB4-Z25)","v":0},{"$f":"IF(AA22=0,0,(AA22*((LOG(AA22))/LOG(2))))","v":0},null,{"$f":"N22","v":12222},{"$f":"COUNTIF(L56:L79,AD22)","v":0},{"$f":"AE22/(AG4-AE25)","v":0},{"$f":"IF(AF22=0,0,(AF22*((LOG(AF22))/LOG(2))))","v":0},null,{"$f":"N22","v":12222},{"$f":"COUNTIF(L80:L103,AI22)","v":0},{"$f":"AJ22/(AL4-AJ25)","v":0},{"$f":"IF(AK22=0,0,(AK22*((LOG(AK22))/LOG(2))))","v":0},null,{"$f":"N22","v":12222},{"$f":"COUNTIF(L104:L128,AN22)","v":0},{"$f":"AO22/(AQ4-AO25)","v":0},{"$f":"IF(AP22=0,0,(AP22*((LOG(AP22))/LOG(2))))","v":0},null,{"$f":"N22","v":12222},{"$f":"COUNTIF(L129:L152,AS22)","v":0},{"$f":"AT22/(AV4-AT25)","v":0},{"$f":"IF(AU22=0,0,(AU22*((LOG(AU22))/LOG(2))))","v":0}]
[12,2421,24,2434,24,2439,23,2447,13,2466,0,12221,null,21111,{"$f":"COUNTIF($L$7:$L$500,N23)","v":1},{"$f":"O23/$Q$4","v":6.8493150684931503E-3},{"$f":"IF(P23=0,0,(P23*((LOG(P23))/LOG(2))))","v":-4.9245373690959021E-2},null,null,{"$f":"N23","v":21111},{"$f":"COUNTIF(L7:L30,T23)","v":0},{"$f":"U23/(W4-U25)","v":0},{"$f":"IF(V23=0,0,(V23*((LOG(V23))/LOG(2))))","v":0},null,{"$f":"N23","v":21111},{"$f":"COUNTIF(L31:L55,Y23)","v":1},{"$f":"Z23/(AB4-Z25)","v":0.04},{"$f":"IF(AA23=0,0,(AA23*((LOG(AA23))/LOG(2))))","v":-0.18575424759098899},null,{"$f":"N23","v":21111},{"$f":"COUNTIF(L56:L79,AD23)","v":0},{"$f":"AE23/(AG4-AE25)","v":0},{"$f":"IF(AF23=0,0,(AF23*((LOG(AF23))/LOG(2))))","v":0},null,{"$f":"N23","v":21111},{"$f":"COUNTIF(L80:L103,AI23)","v":0},{"$f":"AJ23/(AL4-AJ25)","v":0},{"$f":"IF(AK23=0,0,(AK23*((LOG(AK23))/LOG(2))))","v":0},null,{"$f":"N23","v":21111},{"$f":"COUNTIF(L104:L128,AN23)","v":0},{"$f":"AO23/(AQ4-AO25)","v":0},{"$f":"IF(AP23=0,0,(AP23*((LOG(AP23))/LOG(2))))","v":0},null,{"$f":"N23","v":21111},{"$f":"COUNTIF(L129:L152,AS23)","v":0},{"$f":"AT23/(AV4-AT25)","v":0},{"$f":"IF(AU23=0,0,(AU23*((LOG(AU23))/LOG(2))))","v":0}]
[12,2576,24,2587,24,2592,14,2601,13,2610,0,12211,null,21112,{"$f":"COUNTIF($L$7:$L$500,N24)","v":3},{"$f":"O24/$Q$4","v":2.0547945205479451E-2},{"$f":"IF(P24=0,0,(P24*((LOG(P24))/LOG(2))))","v":-0.11516839845531907},null,null,{"$f":"N24","v":21112},{"$f":"COUNTIF(L7:L30,T24)","v":1},{"$f":"U24/(W4-U25)","v":4.5454545454545456E-2},{"$f":"IF(V24=0,0,(V24*((LOG(V24))/LOG(2))))","v":-0.20270143721078623},null,{"$f":"N24","v":21112},{"$f":"COUNTIF(L31:L55,Y24)","v":0},{"$f":"Z24/(AB4-Z25)","v":0},{"$f":"IF(AA24=0,0,(AA24*((LOG(AA24))/LOG(2))))","v":0},null,{"$f":"N24","v":21112},{"$f":"COUNTIF(L56:L79,AD24)","v":1},{"$f":"AE24/(AG4-AE25)","v":4.5454545454545456E-2},{"$f":"IF(AF24=0,0,(AF24*((LOG(AF24))/LOG(2))))","v":-0.20270143721078623},null,{"$f":"N24","v":21112},{"$f":"COUNTIF(L80:L103,AI24)","v":0},{"$f":"AJ24/(AL4-AJ25)","v":0},{"$f":"IF(AK24=0,0,(AK24*((LOG(AK24))/LOG(2))))","v":0},null,{"$f":"N24","v":21112},{"$f":"COUNTIF(L104:L128,AN24)","v":0},{"$f":"AO24/(AQ4-AO25)","v":0},{"$f":"IF(AP24=0,0,(AP24*((LOG(AP24))/LOG(2))))","v":0},null,{"$f":"N24","v":21112},{"$f":"COUNTIF(L129:L152,AS24)","v":1},{"$f":"AT24/(AV4-AT25)","v":4.3478260869565216E-2},{"$f":"IF(AU24=0,0,(AU24*((LOG(AU24))/LOG(2))))","v":-0.19667660678508753}]
[12,2733,24,2740,13,2749,14,2759,13,2767,0,12111,null,21121,{"$f":"COUNTIF($L$7:$L$500,N25)","v":8},{"$f":"O25/$Q$4","v":5.4794520547945202E-2},{"$f":"IF(P25=0,0,(P25*((LOG(P25))/LOG(2))))","v":-0.22957942788383656},null,null,{"$f":"N25","v":21121},{"$f":"COUNTIF(L7:L30,T25)","v":2},null,null,null,{"$f":"N25","v":21121},{"$f":"COUNTIF(L31:L55,Y25)","v":0},null,null,null,{"$f":"N25","v":21121},{"$f":"COUNTIF(L56:L79,AD25)","v":2},null,null,null,{"$f":"N25","v":21121},{"$f":"COUNTIF(L80:L103,AI25)","v":1},null,null,null,{"$f":"N25","v":21121},{"$f":"COUNTIF(L104:L128,AN25)","v":2},null,null,null,{"$f":"N25","v":21121},{"$f":"COUNTIF(L129:L152,AS25)","v":1}]
[21,2873,22,2878,13,2893,14,2898,13,2903,0,22111,null,21122,{"$f":"COUNTIF($L$7:$L$500,N26)","v":0},{"$f":"O26/$Q$4","v":0},{"$f":"IF(P26=0,0,(P26*((LOG(P26))/LOG(2))))","v":0},null,null,{"$f":"N26","v":21122},{"$f":"COUNTIF(L7:L30,T26)","v":0},{"$f":"U26/(W4-U25)","v":0},{"$f":"IF(V26=0,0,(V26*((LOG(V26))/LOG(2))))","v":0},null,{"$f":"N26","v":21122},{"$f":"COUNTIF(L31:L55,Y26)","v":0},{"$f":"Z26/(AB4-Z25)","v":0},{"$f":"IF(AA26=0,0,(AA26*((LOG(AA26))/LOG(2))))","v":0},null,{"$f":"N26","v":21122},{"$f":"COUNTIF(L56:L79,AD26)","v":0},{"$f":"AE26/(AG4-AE25)","v":0},{"$f":"IF(AF26=0,0,(AF26*((LOG(AF26))/LOG(2))))","v":0},null,{"$f":"N26","v":21122},{"$f":"COUNTIF(L80:L103,AI26)","v":0},{"$f":"AJ26/(AL4-AJ25)","v":0},{"$f":"IF(AK26=0,0,(AK26*((LOG(AK26))/LOG(2))))","v":0},null,{"$f":"N26","v":21122},{"$f":"COUNTIF(L104:L128,AN26)","v":0},{"$f":"AO26/(AQ4-AO25)","v":0},{"$f":"IF(AP26=0,0,(AP26*((LOG(AP26))/LOG(2))))","v":0},null,{"$f":"N26","v":21122},{"$f":"COUNTIF(L129:L152,AS26)","v":0},{"$f":"AT26/(AV4-AT25)","v":0},{"$f":"IF(AU26=0,0,(AU26*((LOG(AU26))/LOG(2))))","v":0}]
[12,3015,24,3022,13,3032,14,3037,13,3044,0,12111,null,21211,{"$f":"COUNTIF($L$7:$L$500,N27)","v":15},{"$f":"O27/$Q$4","v":0.10273972602739725},{"$f":"IF(P27=0,0,(P27*((LOG(P27))/LOG(2))))","v":-0.33728773595255124},null,null,{"$f":"N27","v":21211},{"$f":"COUNTIF(L7:L30,T27)","v":0},{"$f":"U27/(W4-U25)","v":0},{"$f":"IF(V27=0,0,(V27*((LOG(V27))/LOG(2))))","v":0},null,{"$f":"N27","v":21211},{"$f":"COUNTIF(L31:L55,Y27)","v":4},{"$f":"Z27/(AB4-Z25)","v":0.16},{"$f":"IF(AA27=0,0,(AA27*((LOG(AA27))/LOG(2))))","v":-0.42301699036395596},null,{"$f":"N27","v":21211},{"$f":"COUNTIF(L56:L79,AD27)","v":2},{"$f":"AE27/(AG4-AE25)","v":9.0909090909090912E-2},{"$f":"IF(AF27=0,0,(AF27*((LOG(AF27))/LOG(2))))","v":-0.31449378351248153},null,{"$f":"N27","v":21211},{"$f":"COUNTIF(L80:L103,AI27)","v":3},{"$f":"AJ27/(AL4-AJ25)","v":0.13043478260869565},{"$f":"IF(AK27=0,0,(AK27*((LOG(AK27))/LOG(2))))","v":-0.3832955811307639},null,{"$f":"N27","v":21211},{"$f":"COUNTIF(L104:L128,AN27)","v":3},{"$f":"AO27/(AQ4-AO25)","v":0.13043478260869565},{"$f":"IF(AP27=0,0,(AP27*((LOG(AP27))/LOG(2))))","v":-0.3832955811307639},null,{"$f":"N27","v":21211},{"$f":"COUNTIF(L129:L152,AS27)","v":3},{"$f":"AT27/(AV4-AT25)","v":0.13043478260869565},{"$f":"IF(AU27=0,0,(AU27*((LOG(AU27))/LOG(2))))","v":-0.3832955811307639}]
[12,3147,24,3162,13,3179,14,3186,13,3195,0,12111,null,21212,{"$f":"COUNTIF($L$7:$L$500,N28)","v":10},{"$f":"O28/$Q$4","v":6.8493150684931503E-2},{"$f":"IF(P28=0,0,(P28*((LOG(P28))/LOG(2))))","v":-0.26492441534196265},null,null,{"$f":"N28","v":21212},{"$f":"COUNTIF(L7:L30,T28)","v":0},{"$f":"U28/(W4-U25)","v":0},{"$f":"IF(V28=0,0,(V28*((LOG(V28))/LOG(2))))","v":0},null,{"$f":"N28","v":21212},{"$f":"COUNTIF(L31:L55,Y28)","v":2},{"$f":"Z28/(AB4-Z25)","v":0.08},{"$f":"IF(AA28=0,0,(AA28*((LOG(AA28))/LOG(2))))","v":-0.29150849518197797},null,{"$f":"N28","v":21212},{"$f":"COUNTIF(L56:L79,AD28)","v":3},{"$f":"AE28/(AG4-AE25)","v":0.13636363636363635},{"$f":"IF(AF28=0,0,(AF28*((LOG(AF28))/LOG(2))))","v":-0.39197306153401923},null,{"$f":"N28","v":21212},{"$f":"COUNTIF(L80:L103,AI28)","v":1},{"$f":"AJ28/(AL4-AJ25)","v":4.3478260869565216E-2},{"$f":"IF(AK28=0,0,(AK28*((LOG(AK28))/LOG(2))))","v":-0.19667660678508753},null,{"$f":"N28","v":21212},{"$f":"COUNTIF(L104:L128,AN28)","v":3},{"$f":"AO28/(AQ4-AO25)","v":0.13043478260869565},{"$f":"IF(AP28=0,0,(AP28*((LOG(AP28))/LOG(2))))","v":-0.3832955811307639},null,{"$f":"N28","v":21212},{"$f":"COUNTIF(L129:L152,AS28)","v":1},{"$f":"AT28/(AV4-AT25)","v":4.3478260869565216E-2},{"$f":"IF(AU28=0,0,(AU28*((LOG(AU28))/LOG(2))))","v":-0.19667660678508753}]
[21,3311,22,3317,24,3322,14,3333,24,3342,0,22212,null,21221,{"$f":"COUNTIF($L$7:$L$500,N29)","v":0},{"$f":"O29/$Q$4","v":0},{"$f":"IF(P29=0,0,(P29*((LOG(P29))/LOG(2))))","v":0},null,null,{"$f":"N29","v":21221},{"$f":"COUNTIF(L7:L30,T29)","v":0},{"$f":"U29/(W4-U25)","v":0},{"$f":"IF(V29=0,0,(V29*((LOG(V29))/LOG(2))))","v":0},null,{"$f":"N29","v":21221},{"$f":"COUNTIF(L31:L55,Y29)","v":0},{"$f":"Z29/(AB4-Z25)","v":0},{"$f":"IF(AA29=0,0,(AA29*((LOG(AA29))/LOG(2))))","v":0},null,{"$f":"N29","v":21221},{"$f":"COUNTIF(L56:L79,AD29)","v":0},{"$f":"AE29/(AG4-AE25)","v":0},{"$f":"IF(AF29=0,0,(AF29*((LOG(AF29))/LOG(2))))","v":0},null,{"$f":"N29","v":21221},{"$f":"COUNTIF(L80:L103,AI29)","v":0},{"$f":"AJ29/(AL4-AJ25)","v":0},{"$f":"IF(AK29=0,0,(AK29*((LOG(AK29))/LOG(2))))","v":0},null,{"$f":"N29","v":21221},{"$f":"COUNTIF(L104:L128,AN29)","v":0},{"$f":"AO29/(AQ4-AO25)","v":0},{"$f":"IF(AP29=0,0,(AP29*((LOG(AP29))/LOG(2))))","v":0},null,{"$f":"N29","v":21221},{"$f":"COUNTIF(L129:L152,AS29)","v":0},{"$f":"AT29/(AV4-AT25)","v":0},{"$f":"IF(AU29=0,0,(AU29*((LOG(AU29))/LOG(2))))","v":0}]
[12,3451,24,3457,13,3467,14,3472,13,3477,0,12111,null,21222,{"$f":"COUNTIF($L$7:$L$500,N30)","v":0},{"$f":"O30/$Q$4","v":0},{"$f":"IF(P30=0,0,(P30*((LOG(P30))/LOG(2))))","v":0},null,null,{"$f":"N30","v":21222},{"$f":"COUNTIF(L7:L30,T30)","v":0},{"$f":"U30/(W4-U25)","v":0},{"$f":"IF(V30=0,0,(V30*((LOG(V30))/LOG(2))))","v":0},null,{"$f":"N30","v":21222},{"$f":"COUNTIF(L31:L55,Y30)","v":0},{"$f":"Z30/(AB4-Z25)","v":0},{"$f":"IF(AA30=0,0,(AA30*((LOG(AA30))/LOG(2))))","v":0},null,{"$f":"N30","v":21222},{"$f":"COUNTIF(L56:L79,AD30)","v":0},{"$f":"AE30/(AG4-AE25)","v":0},{"$f":"IF(AF30=0,0,(AF30*((LOG(AF30))/LOG(2))))","v":0},null,{"$f":"N30","v":21222},{"$f":"COUNTIF(L80:L103,AI30)","v":0},{"$f":"AJ30/(AL4-AJ25)","v":0},{"$f":"IF(AK30=0,0,(AK30*((LOG(AK30))/LOG(2))))","v":0},null,{"$f":"N30","v":21222},{"$f":"COUNTIF(L104:L128,AN30)","v":0},{"$f":"AO30/(AQ4-AO25)","v":0},{"$f":"IF(AP30=0,0,(AP30*((LOG(AP30))/LOG(2))))","v":0},null,{"$f":"N30","v":21222},{"$f":"COUNTIF(L129:L152,AS30)","v":0},{"$f":"AT30/(AV4-AT25)","v":0},{"$f":"IF(AU30=0,0,(AU30*((LOG(AU30))/LOG(2))))","v":0}]
[21,3597,11,3606,11,3612,12,3616,13,3625,0,21111,null,22111,{"$f":"COUNTIF($L$7:$L$500,N31)","v":2},{"$f":"O31/$Q$4","v":1.3698630136986301E-2},{"$f":"IF(P31=0,0,(P31*((LOG(P31))/LOG(2))))","v":-8.4792117244931728E-2},null,null,{"$f":"N31","v":22111},{"$f":"COUNTIF(L7:L30,T31)","v":1},{"$f":"U31/(W4-U25)","v":4.5454545454545456E-2},{"$f":"IF(V31=0,0,(V31*((LOG(V31))/LOG(2))))","v":-0.20270143721078623},null,{"$f":"N31","v":22111},{"$f":"COUNTIF(L31:L55,Y31)","v":0},{"$f":"Z31/(AB4-Z25)","v":0},{"$f":"IF(AA31=0,0,(AA31*((LOG(AA31))/LOG(2))))","v":0},null,{"$f":"N31","v":22111},{"$f":"COUNTIF(L56:L79,AD31)","v":1},{"$f":"AE31/(AG4-AE25)","v":4.5454545454545456E-2},{"$f":"IF(AF31=0,0,(AF31*((LOG(AF31))/LOG(2))))","v":-0.20270143721078623},null,{"$f":"N31","v":22111},{"$f":"COUNTIF(L80:L103,AI31)","v":0},{"$f":"AJ31/(AL4-AJ25)","v":0},{"$f":"IF(AK31=0,0,(AK31*((LOG(AK31))/LOG(2))))","v":0},null,{"$f":"N31","v":22111},{"$f":"COUNTIF(L104:L128,AN31)","v":0},{"$f":"AO31/(AQ4-AO25)","v":0},{"$f":"IF(AP31=0,0,(AP31*((LOG(AP31))/LOG(2))))","v":0},null,{"$f":"N31","v":22111},{"$f":"COUNTIF(L129:L152,AS31)","v":0},{"$f":"AT31/(AV4-AT25)","v":0},{"$f":"IF(AU31=0,0,(AU31*((LOG(AU31))/LOG(2))))","v":0}]
[21,3749,11,3761,22,3771,14,3785,13,3800,0,21211,null,22112,{"$f":"COUNTIF($L$7:$L$500,N32)","v":3},{"$f":"O32/$Q$4","v":2.0547945205479451E-2},{"$f":"IF(P32=0,0,(P32*((LOG(P32))/LOG(2))))","v":-0.11516839845531907},null,null,{"$f":"N32","v":22112},{"$f":"COUNTIF(L7:L30,T32)","v":0},{"$f":"U32/(W4-U25)","v":0},{"$f":"IF(V32=0,0,(V32*((LOG(V32))/LOG(2))))","v":0},null,{"$f":"N32","v":22112},{"$f":"COUNTIF(L31:L55,Y32)","v":0},{"$f":"Z32/(AB4-Z25)","v":0},{"$f":"IF(AA32=0,0,(AA32*((LOG(AA32))/LOG(2))))","v":0},null,{"$f":"N32","v":22112},{"$f":"COUNTIF(L56:L79,AD32)","v":0},{"$f":"AE32/(AG4-AE25)","v":0},{"$f":"IF(AF32=0,0,(AF32*((LOG(AF32))/LOG(2))))","v":0},null,{"$f":"N32","v":22112},{"$f":"COUNTIF(L80:L103,AI32)","v":1},{"$f":"AJ32/(AL4-AJ25)","v":4.3478260869565216E-2},{"$f":"IF(AK32=0,0,(AK32*((LOG(AK32))/LOG(2))))","v":-0.19667660678508753},null,{"$f":"N32","v":22112},{"$f":"COUNTIF(L104:L128,AN32)","v":1},{"$f":"AO32/(AQ4-AO25)","v":4.3478260869565216E-2},{"$f":"IF(AP32=0,0,(AP32*((LOG(AP32))/LOG(2))))","v":-0.19667660678508753},null,{"$f":"N32","v":22112},{"$f":"COUNTIF(L129:L152,AS32)","v":1},{"$f":"AT32/(AV4-AT25)","v":4.3478260869565216E-2},{"$f":"IF(AU32=0,0,(AU32*((LOG(AU32))/LOG(2))))","v":-0.19667660678508753}]
[12,3914,24,3928,24,3934,14,3947,13,3963,0,12211,null,22121,{"$f":"COUNTIF($L$7:$L$500,N33)","v":15},{"$f":"O33/$Q$4","v":0.10273972602739725},{"$f":"IF(P33=0,0,(P33*((LOG(P33))/LOG(2))))","v":-0.33728773595255124},null,null,{"$f":"N33","v":22121},{"$f":"COUNTIF(L7:L30,T33)","v":2},{"$f":"U33/(W4-U25)","v":9.0909090909090912E-2},{"$f":"IF(V33=0,0,(V33*((LOG(V33))/LOG(2))))","v":-0.31449378351248153},null,{"$f":"N33","v":22121},{"$f":"COUNTIF(L31:L55,Y33)","v":2},{"$f":"Z33/(AB4-Z25)","v":0.08},{"$f":"IF(AA33=0,0,(AA33*((LOG(AA33))/LOG(2))))","v":-0.29150849518197797},null,{"$f":"N33","v":22121},{"$f":"COUNTIF(L56:L79,AD33)","v":3},{"$f":"AE33/(AG4-AE25)","v":0.13636363636363635},{"$f":"IF(AF33=0,0,(AF33*((LOG(AF33))/LOG(2))))","v":-0.39197306153401923},null,{"$f":"N33","v":22121},{"$f":"COUNTIF(L80:L103,AI33)","v":4},{"$f":"AJ33/(AL4-AJ25)","v":0.17391304347826086},{"$f":"IF(AK33=0,0,(AK33*((LOG(AK33))/LOG(2))))","v":-0.43888034018382832},null,{"$f":"N33","v":22121},{"$f":"COUNTIF(L104:L128,AN33)","v":3},{"$f":"AO33/(AQ4-AO25)","v":0.13043478260869565},{"$f":"IF(AP33=0,0,(AP33*((LOG(AP33))/LOG(2))))","v":-0.3832955811307639},null,{"$f":"N33","v":22121},{"$f":"COUNTIF(L129:L152,AS33)","v":1},{"$f":"AT33/(AV4-AT25)","v":4.3478260869565216E-2},{"$f":"IF(AU33=0,0,(AU33*((LOG(AU33))/LOG(2))))","v":-0.19667660678508753}]
[21,4069,11,4080,22,4090,14,4099,24,4113,0,21212,null,22122,{"$f":"COUNTIF($L$7:$L$500,N34)","v":0},{"$f":"O34/$Q$4","v":0},{"$f":"IF(P34=0,0,(P34*((LOG(P34))/LOG(2))))","v":0},null,null,{"$f":"N34","v":22122},{"$f":"COUNTIF(L7:L30,T34)","v":0},{"$f":"U34/(W4-U25)","v":0},{"$f":"IF(V34=0,0,(V34*((LOG(V34))/LOG(2))))","v":0},null,{"$f":"N34","v":22122},{"$f":"COUNTIF(L31:L55,Y34)","v":0},{"$f":"Z34/(AB4-Z25)","v":0},{"$f":"IF(AA34=0,0,(AA34*((LOG(AA34))/LOG(2))))","v":0},null,{"$f":"N34","v":22122},{"$f":"COUNTIF(L56:L79,AD34)","v":0},{"$f":"AE34/(AG4-AE25)","v":0},{"$f":"IF(AF34=0,0,(AF34*((LOG(AF34))/LOG(2))))","v":0},null,{"$f":"N34","v":22122},{"$f":"COUNTIF(L80:L103,AI34)","v":0},{"$f":"AJ34/(AL4-AJ25)","v":0},{"$f":"IF(AK34=0,0,(AK34*((LOG(AK34))/LOG(2))))","v":0},null,{"$f":"N34","v":22122},{"$f":"COUNTIF(L104:L128,AN34)","v":0},{"$f":"AO34/(AQ4-AO25)","v":0},{"$f":"IF(AP34=0,0,(AP34*((LOG(AP34))/LOG(2))))","v":0},null,{"$f":"N34","v":22122},{"$f":"COUNTIF(L129:L152,AS34)","v":0},{"$f":"AT34/(AV4-AT25)","v":0},{"$f":"IF(AU34=0,0,(AU34*((LOG(AU34))/LOG(2))))","v":0}]
[12,4218,13,4223,24,4234,14,4249,13,4257,0,11211,null,22211,{"$f":"COUNTIF($L$7:$L$500,N35)","v":2},{"$f":"O35/$Q$4","v":1.3698630136986301E-2},{"$f":"IF(P35=0,0,(P35*((LOG(P35))/LOG(2))))","v":-8.4792117244931728E-2},null,null,{"$f":"N35","v":22211},{"$f":"COUNTIF(L7:L30,T35)","v":0},{"$f":"U35/(W4-U25)","v":0},{"$f":"IF(V35=0,0,(V35*((LOG(V35))/LOG(2))))","v":0},null,{"$f":"N35","v":22211},{"$f":"COUNTIF(L31:L55,Y35)","v":1},{"$f":"Z35/(AB4-Z25)","v":0.04},{"$f":"IF(AA35=0,0,(AA35*((LOG(AA35))/LOG(2))))","v":-0.18575424759098899},null,{"$f":"N35","v":22211},{"$f":"COUNTIF(L56:L79,AD35)","v":0},{"$f":"AE35/(AG4-AE25)","v":0},{"$f":"IF(AF35=0,0,(AF35*((LOG(AF35))/LOG(2))))","v":0},null,{"$f":"N35","v":22211},{"$f":"COUNTIF(L80:L103,AI35)","v":1},{"$f":"AJ35/(AL4-AJ25)","v":4.3478260869565216E-2},{"$f":"IF(AK35=0,0,(AK35*((LOG(AK35))/LOG(2))))","v":-0.19667660678508753},null,{"$f":"N35","v":22211},{"$f":"COUNTIF(L104:L128,AN35)","v":0},{"$f":"AO35/(AQ4-AO25)","v":0},{"$f":"IF(AP35=0,0,(AP35*((LOG(AP35))/LOG(2))))","v":0},null,{"$f":"N35","v":22211},{"$f":"COUNTIF(L129:L152,AS35)","v":0},{"$f":"AT35/(AV4-AT25)","v":0},{"$f":"IF(AU35=0,0,(AU35*((LOG(AU35))/LOG(2))))","v":0}]
[12,4372,13,4377,13,4381,14,4386,13,4395,0,11111,null,22212,{"$f":"COUNTIF($L$7:$L$500,N36)","v":3},{"$f":"O36/$Q$4","v":2.0547945205479451E-2},{"$f":"IF(P36=0,0,(P36*((LOG(P36))/LOG(2))))","v":-0.11516839845531907},null,null,{"$f":"N36","v":22212},{"$f":"COUNTIF(L7:L30,T36)","v":1},{"$f":"U36/(W4-U25)","v":4.5454545454545456E-2},{"$f":"IF(V36=0,0,(V36*((LOG(V36))/LOG(2))))","v":-0.20270143721078623},null,{"$f":"N36","v":22212},{"$f":"COUNTIF(L31:L55,Y36)","v":1},{"$f":"Z36/(AB4-Z25)","v":0.04},{"$f":"IF(AA36=0,0,(AA36*((LOG(AA36))/LOG(2))))","v":-0.18575424759098899},null,{"$f":"N36","v":22212},{"$f":"COUNTIF(L56:L79,AD36)","v":0},{"$f":"AE36/(AG4-AE25)","v":0},{"$f":"IF(AF36=0,0,(AF36*((LOG(AF36))/LOG(2))))","v":0},null,{"$f":"N36","v":22212},{"$f":"COUNTIF(L80:L103,AI36)","v":0},{"$f":"AJ36/(AL4-AJ25)","v":0},{"$f":"IF(AK36=0,0,(AK36*((LOG(AK36))/LOG(2))))","v":0},null,{"$f":"N36","v":22212},{"$f":"COUNTIF(L104:L128,AN36)","v":1},{"$f":"AO36/(AQ4-AO25)","v":4.3478260869565216E-2},{"$f":"IF(AP36=0,0,(AP36*((LOG(AP36))/LOG(2))))","v":-0.19667660678508753},null,{"$f":"N36","v":22212},{"$f":"COUNTIF(L129:L152,AS36)","v":0},{"$f":"AT36/(AV4-AT25)","v":0},{"$f":"IF(AU36=0,0,(AU36*((LOG(AU36))/LOG(2))))","v":0}]
[12,4511,13,4515,13,4520,23,4529,13,4546,0,11121,null,22221,{"$f":"COUNTIF($L$7:$L$500,N37)","v":1},{"$f":"O37/$Q$4","v":6.8493150684931503E-3},{"$f":"IF(P37=0,0,(P37*((LOG(P37))/LOG(2))))","v":-4.9245373690959021E-2},null,null,{"$f":"N37","v":22221},{"$f":"COUNTIF(L7:L30,T37)","v":0},{"$f":"U37/(W4-U25)","v":0},{"$f":"IF(V37=0,0,(V37*((LOG(V37))/LOG(2))))","v":0},null,{"$f":"N37","v":22221},{"$f":"COUNTIF(L31:L55,Y37)","v":1},{"$f":"Z37/(AB4-Z25)","v":0.04},{"$f":"IF(AA37=0,0,(AA37*((LOG(AA37))/LOG(2))))","v":-0.18575424759098899},null,{"$f":"N37","v":22221},{"$f":"COUNTIF(L56:L79,AD37)","v":0},{"$f":"AE37/(AG4-AE25)","v":0},{"$f":"IF(AF37=0,0,(AF37*((LOG(AF37))/LOG(2))))","v":0},null,{"$f":"N37","v":22221},{"$f":"COUNTIF(L80:L103,AI37)","v":0},{"$f":"AJ37/(AL4-AJ25)","v":0},{"$f":"IF(AK37=0,0,(AK37*((LOG(AK37))/LOG(2))))","v":0},null,{"$f":"N37","v":22221},{"$f":"COUNTIF(L104:L128,AN37)","v":0},{"$f":"AO37/(AQ4-AO25)","v":0},{"$f":"IF(AP37=0,0,(AP37*((LOG(AP37))/LOG(2))))","v":0},null,{"$f":"N37","v":22221},{"$f":"COUNTIF(L129:L152,AS37)","v":0},{"$f":"AT37/(AV4-AT25)","v":0},{"$f":"IF(AU37=0,0,(AU37*((LOG(AU37))/LOG(2))))","v":0}]
[21,4677,22,4681,24,4686,23,4691,13,4706,0,22221,null,22222,{"$f":"COUNTIF($L$7:$L$500,N38)","v":0},{"$f":"O38/$Q$4","v":0},{"$f":"IF(P38=0,0,(P38*((LOG(P38))/LOG(2))))","v":0},null,null,{"$f":"N38","v":22222},{"$f":"COUNTIF(L7:L30,T38)","v":0},{"$f":"U38/(W4-U25)","v":0},{"$f":"IF(V38=0,0,(V38*((LOG(V38))/LOG(2))))","v":0},null,{"$f":"N38","v":22222},{"$f":"COUNTIF(L31:L55,Y38)","v":0},{"$f":"Z38/(AB4-Z25)","v":0},{"$f":"IF(AA38=0,0,(AA38*((LOG(AA38))/LOG(2))))","v":0},null,{"$f":"N38","v":22222},{"$f":"COUNTIF(L56:L79,AD38)","v":0},{"$f":"AE38/(AG4-AE25)","v":0},{"$f":"IF(AF38=0,0,(AF38*((LOG(AF38))/LOG(2))))","v":0},null,{"$f":"N38","v":22222},{"$f":"COUNTIF(L80:L103,AI38)","v":0},{"$f":"AJ38/(AL4-AJ25)","v":0},{"$f":"IF(AK38=0,0,(AK38*((LOG(AK38))/LOG(2))))","v":0},null,{"$f":"N38","v":22222},{"$f":"COUNTIF(L104:L128,AN38)","v":0},{"$f":"AO38/(AQ4-AO25)","v":0},{"$f":"IF(AP38=0,0,(AP38*((LOG(AP38))/LOG(2))))","v":0},null,{"$f":"N38","v":22222},{"$f":"COUNTIF(L129:L152,AS38)","v":0},{"$f":"AT38/(AV4-AT25)","v":0},{"$f":"IF(AU38=0,0,(AU38*((LOG(AU38))/LOG(2))))","v":0}]
[12,4820,13,4838,24,4851,14,4868,13,4877,0,11211,null,null,null,{"$f":"SUM(P7:P38)","v":0.99999999999999989},{"$f":"-SUM(Q7:Q38)","v":4.1486694838078559},null,null,null,null,{"$f":"SUM(V7:V38)","v":0.99999999999999978},{"$f":"-SUM(W7:W38)","v":3.2655833228877325},null,null,null,{"$f":"SUM(AA7:AA38)","v":1},{"$f":"-SUM(AB7:AB38)","v":3.3834651896016465},null,null,null,{"$f":"SUM(AF7:AF38)","v":1},{"$f":"-SUM(AG7:AG38)","v":3.5726236638951634},null,null,null,{"$f":"SUM(AK7:AK38)","v":0.99999999999999989},{"$f":"-SUM(AL7:AL38)","v":3.348798912202497},null,null,null,{"$f":"SUM(AP7:AP38)","v":1},{"$f":"-SUM(AQ7:AQ38)","v":3.3816201079487347},null,null,null,{"$f":"SUM(AU7:AU38)","v":0.99999999999999989},{"$f":"-SUM(AV7:AV38)","v":3.201545784032374}]
[12,4996,13,5001,24,5011,14,5021,13,5042,0,11211,null,null,null,"U=",{"$f":"Q39/(LOG(Q4)/LOG(2))","v":0.57701957117770164},null,null,null,null,"U1=",{"$f":"W39/(LOG(W4)/LOG(2))","v":0.71223773855818839},null,null,null,"U2=",{"$f":"AB39/(LOG(AB4)/LOG(2))","v":0.7285895711093886},null,null,null,"U3=",{"$f":"AG39/(LOG(AG4)/LOG(2))","v":0.77920455474461026},null,null,null,"U4=",{"$f":"AL39/(LOG(AL4)/LOG(2))","v":0.73038741574784394},null,null,null,"U5=",{"$f":"AQ39/(LOG(AQ4)/LOG(2))","v":0.72819225440156832},null,null,null,"U6=",{"$f":"AV39/(LOG(AV4)/LOG(2))","v":0.69827087648564445}]
[12,5153,13,5157,24,5167,14,5178,13,5183,0,11211]
[12,5295,24,5302,13,5313,14,5320,24,5344,0,12112]
[21,5452,22,5458,13,5468,23,5474,13,5486,0,22121,null,"Total Target Seq"]
[21,5606,22,5610,24,5615,14,5629,24,5643,0,22212,null,{"$f":"COUNTIF(L7:L152,G3)","v":8},null,24,25,24,24,25,24]
[12,5751,13,5773,24,5783,14,5795,13,5805,0,11211,null,null,null,"% of reinforcement given in 6 equal intervals based on number of trials "]
[12,5921,24,5934,13,5943,23,5952,13,5962,0,12121,null,null,null,"%_1","%_2","%_3","%_4","%_5","%_6"]
[21,6094,11,6107,22,6117,14,6129,13,6137,0,21211,null,null,"target sequence",{"$f":"$G$3","v":21121},{"$f":"$G$3","v":21121},{"$f":"$G$3","v":21121},{"$f":"$G$3","v":21121},{"$f":"$G$3","v":21121},{"$f":"$G$3","v":21121}]
[21,6260,11,6270,22,6279,14,6292,13,6306,0,21211,null,null,"total reinforcement",{"$f":"U25","v":2},{"$f":"Z25","v":0},{"$f":"AE25","v":2},{"$f":"AJ25","v":1},{"$f":"AO25","v":2},{"$f":"AT25","v":1}]
[12,6419,24,6446,13,6455,23,6465,13,6478,0,12121,null,null,"% target"]
[21,6599,22,6605,24,6610,14,6622,13,6630,0,22211,null,null,"CCRF"]
[21,6757,11,6771,22,6780,14,6791,13,6808,0,21211,null,null,"% CCRf"]
[21,6923,22,6937,13,6946,23,6955,13,6974,0,22121,null,null,"average response rate",{"$f":"J30/P44","v":144.875},{"$f":"(J55-J30)/Q44","v":161.32},{"$f":"(J79-J55)/R44","v":166.66666666666666},{"$f":"(J103-J79)/S44","v":164.75},{"$f":"(J128-J103)/T44","v":166.92},{"$f":"(J152-J128)/U44","v":175.58333333333334}]
[12,7114,13,7119,13,7125,23,7140,13,7149,0,11121]
[12,7265,13,7267,24,7280,14,7289,13,7348,0,11211]
[21,7470,11,7480,22,7489,14,7498,24,7510,0,21212]
[21,7644,22,7648,13,7657,23,7669,13,7682,0,22121]
[21,7782,22,7790,13,7799,23,7808,13,7825,0,22121]
[12,7954,24,7967,24,7972,23,7980,13,7988,0,12221]
[21,8159,11,8168,11,8179,21,8193,11,8205,1,21121]
[21,8307,11,8317,22,8328,14,8340,24,8354,0,21212]
[12,8451,13,8456,24,8469,23,8477,24,8495,0,11222]
[21,8600,11,8610,22,8619,14,8635,24,8648,0,21212]
[21,8753,22,8776,13,8786,14,8790,13,8795,0,22111]
[12,8909,24,8916,13,8924,14,8929,13,8933,0,12111]
[21,9052,11,9063,22,9072,14,9081,24,9097,0,21212]
[12,9235,24,9245,13,9259,14,9275,13,9306,0,12111]
[21,9445,11,9456,11,9460,12,9465,24,9477,0,21112]
[21,9628,11,9638,22,9652,14,9663,13,9675,0,21211]
[12,9789,24,9799,24,9805,23,9810,13,9823,0,12221]
[12,9950,13,9955,13,9965,23,9978,13,9990,0,11121]
[12,10133,24,10143,13,10152,14,10157,24,10169,0,12112]
[12,10280,24,10292,24,10300,14,10313,24,10325,0,12212]
[21,10480,11,10490,22,10506,14,10519,13,10530,0,21211]
[12,10664,13,10676,24,10690,14,10699,24,10714,0,11212]
[12,10857,13,10868,13,10872,23,10886,13,10899,0,11121]
[21,11000,22,11006,13,11018,23,11027,13,11036,0,22121]
[21,11202,11,11210,11,11228,21,11241,11,11252,1,21121]
[12,11346,24,11355,13,11364,14,11369,24,11380,0,12112]
[12,11480,13,11486,13,11491,14,11497,24,11510,0,11112]
[12,11618,13,11622,24,11630,14,11638,24,11653,0,11212]
[12,11755,24,11762,13,11769,14,11777,13,11782,0,12111]
[21,11900,11,11908,11,11913,21,11925,11,11935,1,21121]
[21,12029,22,12034,13,12046,23,12053,13,12065,0,22121]
[21,12170,22,12175,13,12186,23,12192,13,12201,0,22121]
[21,12325,11,12340,22,12352,14,12364,13,12377,0,21211]
[21,12496,22,12502,13,12511,14,12515,24,12522,0,22112]
[12,12684,24,12693,13,12701,23,12714,13,12726,0,12121]
[12,12840,24,12855,13,12870,23,12882,13,12895,0,12121]
[12,13020,24,13033,24,13039,23,13043,13,13051,0,12221]
[21,13162,11,13172,22,13181,14,13191,24,13202,0,21212]
[21,13313,22,13318,13,13328,23,13337,13,13346,0,22121]
[12,13490,13,13495,24,13507,14,13529,24,13542,0,11212]
[12,13678,24,13688,13,13699,23,13710,13,13721,0,12121]
[12,13867,13,13876,24,13891,14,13902,13,13913,0,11211]
[12,14035,13,14052,24,14060,14,14072,24,14085,0,11212]
[12,14222,13,14240,13,14261,14,14271,24,14283,0,11112]
[21,14400,22,14413,24,14437,14,14446,13,14451,0,22211]
[12,14588,13,14597,13,14602,23,14612,13,14629,0,11121]
[21,14762,22,14769,13,14778,23,14788,13,14797,0,22121]
[12,14913,13,14918,24,14927,14,14936,13,14944,0,11211]
[21,15078,11,15087,22,15096,14,15107,13,15117,0,21211]
[21,15244,11,15255,22,15265,14,15275,13,15292,0,21211]
[12,15425,13,15434,24,15442,14,15453,13,15464,0,11211]
[21,15586,22,15597,13,15606,23,15613,13,15624,0,22121]
[12,15727,13,15729,24,15742,23,15747,13,15755,0,11221]
[21,15896,11,15904,22,15913,14,15924,24,15945,0,21212]
[21,16068,11,16077,22,16087,14,16097,24,16114,0,21212]
[21,16242,11,16255,22,16262,14,16275,24,16288,0,21212]
[12,16416,24,16426,13,16435,23,16446,13,16457,0,12121]
[12,16563,13,16568,24,16576,23,16587,24,16608,0,11222]
[12,16747,24,16757,13,16765,23,16779,13,16793,0,12121]
[12,16964,13,16972,24,16982,14,16992,24,17007,0,11212]
[12,17121,24,17130,13,17139,14,17143,24,17154,0,12112]
[21,17310,11,17320,11,17328,21,17341,11,17353,1,21121]
[12,17441,13,17449,24,17459,14,17468,13,17475,0,11211]
[12,17576,13,17586,13,17594,23,17607,13,17618,0,11121]
[21,17739,11,17751,22,17765,14,17776,13,17787,0,21211]
[21,17890,22,17896,13,17909,23,17921,13,17930,0,22121]
[21,18039,11,18049,11,18053,21,18062,11,18071,1,21121]
[21,18203,11,18213,22,18222,14,18234,13,18251,0,21211]
[12,18389,24,18399,13,18408,23,18425,13,18436,0,12121]
[21,18536,22,18543,13,18552,23,18561,13,18569,0,22121]
[12,18681,24,18693,13,18699,14,18703,24,18716,0,12112]
[21,18845,22,18850,13,18897,14,18902,24,18915,0,22112]
[12,19052,24,19083,13,19092,23,19106,13,19130,0,12121]
[12,19235,13,19239,13,19243,23,19253,13,19262,0,11121]
[21,19383,22,19388,24,19395,14,19405,24,19414,0,22212]
[21,19564,11,19577,22,19591,14,19602,13,19637,0,21211]
[21,19745,11,19758,22,19764,14,19773,24,19784,0,21212]
[12,19899,24,19911,13,19918,14,19922,24,19934,0,12112]
[12,20065,24,20080,13,20089,23,20102,13,20114,0,12121]
[12,20285,24,20299,13,20308,23,20320,13,20332,0,12121]
[12,20439,24,20448,13,20457,23,20466,13,20478,0,12121]
[21,20612,11,20622,11,20627,21,20635,11,20644,1,21121]
[12,20753,24,20762,13,20770,23,20779,13,20792,0,12121]
[21,20910,11,20929,22,20938,14,20947,13,20952,0,21211]
[12,21053,13,21057,13,21062,23,21070,13,21080,0,11121]
[12,21254,24,21266,13,21276,14,21284,24,21293,0,12112]
[21,21419,11,21428,22,21442,14,21453,13,21468,0,21211]
[12,21575,24,21586,13,21594,23,21606,13,21617,0,12121]
[21,21732,22,21737,13,21746,23,21754,13,21762,0,22121]
[12,21870,13,21882,13,21886,14,21891,24,21900,0,11112]
[21,22018,22,22026,13,22036,14,22053,24,22062,0,22112]
[12,22170,13,22180,13,22185,14,22189,24,22200,0,11112]
[12,22346,13,22350,24,22367,14,22378,24,22397,0,11212]
[12,22565,24,22577,13,22588,14,22602,13,22620,0,12111]
[21,22765,11,22781,11,22792,12,22814,24,22826,0,21112]
[12,22926,24,22937,24,22945,14,22954,24,22962,0,12212]
[21,23114,11,23123,22,23137,14,23148,13,23173,0,21211]
[12,23378,24,23391,13,23399,14,23413,13,23434,0,12111]
[12,23599,24,23609,13,23621,23,23629,13,23638,0,12121]
[12,23803,24,23818,13,23827,23,23839,13,23851,0,12121]

{"sheet":"!N219920.091","index":29,"n_rows":158,"n_cols":48,"rows_kept":158,"cut":false,"hidden":false,"merged":[[4,39,4,42],[5,39,5,40],[4,44,4,47],[5,44,5,45],[4,24,4,27],[5,24,5,25],[4,29,4,32],[5,29,5,30],[4,34,4,37],[5,34,5,35],[1,1,1,2],[5,13,5,14],[42,13,42,14],[43,13,43,14],[4,19,4,22],[5,19,5,20]]}
["Report for:!N219920.091"]
["Date:","<date>"]
["Hen:","<hen>",null,null,null,"Correct Sequence",{"$f":"Start!J2","v":21121},null,null,null,null,null,null,null,null,"Total Sequences in Data",{"$f":"4994-COUNTBLANK(L7:L5000)","v":152},null,null,null,null,"Total Sequences in Block Data",{"$f":"COUNTA(L7:L31)","v":25},null,null,null,"Total Sequences in Block Data",{"$f":"COUNTA(L32:L57)","v":26},null,null,null,"Total Sequences in Block Data",{"$f":"COUNTA(L58:L82)","v":25},null,null,null,"Total Sequences in Block Data",{"$f":"COUNTA(L83:L107)","v":25},null,null,null,"Total Sequences in Block Data",{"$f":"COUNTA(L108:L133)","v":26},null,null,null,"Total Sequences in Block Data",{"$f":"COUNTA(L134:L158)","v":25}]
[null,null,null,null,null,null,null,null,null,null,null,null,null,null,null,"Total Sequences in Summary",{"$f":"SUM(O7:O38)","v":152},null,null,null,null,"Total Sequences in Block Summary",{"$f":"SUM(U7:U38)","v":25},null,null,null,"Total Sequences in Block Summary",{"$f":"SUM(Z7:Z38)","v":26},null,null,null,"Total Sequences in Block Summary",{"$f":"SUM(AE7:AE38)","v":25},null,null,null,"Total Sequences in Block Summary",{"$f":"SUM(AJ7:AJ38)","v":25},null,null,null,"Total Sequences in Block Summary",{"$f":"SUM(AO7:AO38)","v":26},null,null,null,"Total Sequences in Block Summary",{"$f":"SUM(AT7:AT38)","v":25}]
[null,null,null,null,null,null,null,null,null,null,null,null,null,null,null,null,null,null,null,"Block 1",null,null,null,null,"Block 2",null,null,null,null,"Block 3",null,null,null,null,"Block 4",null,null,null,null,"Block 5",null,null,null,null,"Block 6"]
["Sequence\nComponent\n1","Time\n1","Sequence\nComponent\n2","Time\n2","Sequence\nComponent\n3","Time\n3","Sequence\nComponent\n4","Time\n4","Sequence\nComponent\n5","Time\n5","Correct?\n0=No 1=Yes","Sequence",null,"Frequency",null,"Relative Frequency","Variability",null,null,"Frequency",null,"Relative Frequency","Variability",null,"Frequency",null,"Relative Frequency","Variability",null,"Frequency",null,"Relative Frequency","Variability",null,"Frequency",null,"Relative Frequency","Variability",null,"Frequency",null,"Relative Frequency","Variability",null,"Frequency",null,"Relative Frequency","Variability"]
[12,17,13,24,13,41,14,51,13,92,0,11111,null,11111,{"$f":"COUNTIF($L$7:$L$500,N7)","v":3},{"$f":"O7/$Q$4","v":1.9736842105263157E-2},{"$f":"IF(P7=0,0,(P7*((LOG(P7))/LOG(2))))","v":-0.11176904630373216},null,null,{"$f":"N7","v":11111},{"$f":"COUNTIF(L7:L31,T7)","v":1},{"$f":"U7/(W4-U25)","v":4.5454545454545456E-2},{"$f":"IF(V7=0,0,(V7*((LOG(V7))/LOG(2))))","v":-0.20270143721078623},null,{"$f":"N7","v":11111},{"$f":"COUNTIF(L32:L57,Y7)","v":1},{"$f":"Z7/(AB4-Z25)","v":0.04},{"$f":"IF(AA7=0,0,(AA7*((LOG(AA7))/LOG(2))))","v":-0.18575424759098899},null,{"$f":"N7","v":11111},{"$f":"COUNTIF(L58:L82,AD7)","v":0},{"$f":"AE7/(AG4-AE25)","v":0},{"$f":"IF(AF7=0,0,(AF7*((LOG(AF7))/LOG(2))))","v":0},null,{"$f":"N7","v":11111},{"$f":"COUNTIF(L83:L107,AI7)","v":0},{"$f":"AJ7/(AL4-AJ25)","v":0},{"$f":"IF(AK7=0,0,(AK7*((LOG(AK7))/LOG(2))))","v":0},null,{"$f":"N7","v":11111},{"$f":"COUNTIF(L108:L133,AN7)","v":0},{"$f":"AO7/(AQ4-AO25)","v":0},{"$f":"IF(AP7=0,0,(AP7*((LOG(AP7))/LOG(2))))","v":0},null,{"$f":"N7","v":11111},{"$f":"COUNTIF(L134:L158,AS7)","v":1},{"$f":"AT7/(AV4-AT25)","v":0.04},{"$f":"IF(AU7=0,0,(AU7*((LOG(AU7))/LOG(2))))","v":-0.18575424759098899}]
[12,217,13,226,24,234,14,245,13,257,0,11211,null,11112,{"$f":"COUNTIF($L$7:$L$500,N8)","v":8},{"$f":"O8/$Q$4","v":5.2631578947368418E-2},{"$f":"IF(P8=0,0,(P8*((LOG(P8))/LOG(2))))","v":-0.22357513228650452},null,null,{"$f":"N8","v":11112},{"$f":"COUNTIF(L7:L31,T8)","v":0},{"$f":"U8/(W4-U25)","v":0},{"$f":"IF(V8=0,0,(V8*((LOG(V8))/LOG(2))))","v":0},null,{"$f":"N8","v":11112},{"$f":"COUNTIF(L32:L57,Y8)","v":1},{"$f":"Z8/(AB4-Z25)","v":0.04},{"$f":"IF(AA8=0,0,(AA8*((LOG(AA8))/LOG(2))))","v":-0.18575424759098899},null,{"$f":"N8","v":11112},{"$f":"COUNTIF(L58:L82,AD8)","v":3},{"$f":"AE8/(AG4-AE25)","v":0.125},{"$f":"IF(AF8=0,0,(AF8*((LOG(AF8))/LOG(2))))","v":-0.375},null,{"$f":"N8","v":11112},{"$f":"COUNTIF(L83:L107,AI8)","v":0},{"$f":"AJ8/(AL4-AJ25)","v":0},{"$f":"IF(AK8=0,0,(AK8*((LOG(AK8))/LOG(2))))","v":0},null,{"$f":"N8","v":11112},{"$f":"COUNTIF(L108:L133,AN8)","v":2},{"$f":"AO8/(AQ4-AO25)","v":8.3333333333333329E-2},{"$f":"IF(AP8=0,0,(AP8*((LOG(AP8))/LOG(2))))","v":-0.29874687506009634},null,{"$f":"N8","v":11112},{"$f":"COUNTIF(L134:L158,AS8)","v":2},{"$f":"AT8/(AV4-AT25)","v":0.08},{"$f":"IF(AU8=0,0,(AU8*((LOG(AU8))/LOG(2))))","v":-0.29150849518197797}]
[12,368,13,372,24,381,14,404,13,418,0,11211,null,11121,{"$f":"COUNTIF($L$7:$L$500,N9)","v":15},{"$f":"O9/$Q$4","v":9.8684210526315791E-2},{"$f":"IF(P9=0,0,(P9*((LOG(P9))/LOG(2))))","v":-0.32970759057582899},null,null,{"$f":"N9","v":11121},{"$f":"COUNTIF(L7:L31,T9)","v":1},{"$f":"U9/(W4-U25)","v":4.5454545454545456E-2},{"$f":"IF(V9=0,0,(V9*((LOG(V9))/LOG(2))))","v":-0.20270143721078623},null,{"$f":"N9","v":11121},{"$f":"COUNTIF(L32:L57,Y9)","v":3},{"$f":"Z9/(AB4-Z25)","v":0.12},{"$f":"IF(AA9=0,0,(AA9*((LOG(AA9))/LOG(2))))","v":-0.36706724268642821},null,{"$f":"N9","v":11121},{"$f":"COUNTIF(L58:L82,AD9)","v":5},{"$f":"AE9/(AG4-AE25)","v":0.20833333333333334},{"$f":"IF(AF9=0,0,(AF9*((LOG(AF9))/LOG(2))))","v":-0.47146550121537367},null,{"$f":"N9","v":11121},{"$f":"COUNTIF(L83:L107,AI9)","v":3},{"$f":"AJ9/(AL4-AJ25)","v":0.13043478260869565},{"$f":"IF(AK9=0,0,(AK9*((LOG(AK9))/LOG(2))))","v":-0.3832955811307639},null,{"$f":"N9","v":11121},{"$f":"COUNTIF(L108:L133,AN9)","v":1},{"$f":"AO9/(AQ4-AO25)","v":4.1666666666666664E-2},{"$f":"IF(AP9=0,0,(AP9*((LOG(AP9))/LOG(2))))","v":-0.19104010419671485},null,{"$f":"N9","v":11121},{"$f":"COUNTIF(L134:L158,AS9)","v":2},{"$f":"AT9/(AV4-AT25)","v":0.08},{"$f":"IF(AU9=0,0,(AU9*((LOG(AU9))/LOG(2))))","v":-0.29150849518197797}]
[12,527,13,552,24,563,14,573,13,586,0,11211,null,11122,{"$f":"COUNTIF($L$7:$L$500,N10)","v":0},{"$f":"O10/$Q$4","v":0},{"$f":"IF(P10=0,0,(P10*((LOG(P10))/LOG(2))))","v":0},null,null,{"$f":"N10","v":11122},{"$f":"COUNTIF(L7:L31,T10)","v":0},{"$f":"U10/(W4-U25)","v":0},{"$f":"IF(V10=0,0,(V10*((LOG(V10))/LOG(2))))","v":0},null,{"$f":"N10","v":11122},{"$f":"COUNTIF(L32:L57,Y10)","v":0},{"$f":"Z10/(AB4-Z25)","v":0},{"$f":"IF(AA10=0,0,(AA10*((LOG(AA10))/LOG(2))))","v":0},null,{"$f":"N10","v":11122},{"$f":"COUNTIF(L58:L82,AD10)","v":0},{"$f":"AE10/(AG4-AE25)","v":0},{"$f":"IF(AF10=0,0,(AF10*((LOG(AF10))/LOG(2))))","v":0},null,{"$f":"N10","v":11122},{"$f":"COUNTIF(L83:L107,AI10)","v":0},{"$f":"AJ10/(AL4-AJ25)","v":0},{"$f":"IF(AK10=0,0,(AK10*((LOG(AK10))/LOG(2))))","v":0},null,{"$f":"N10","v":11122},{"$f":"COUNTIF(L108:L133,AN10)","v":0},{"$f":"AO10/(AQ4-AO25)","v":0},{"$f":"IF(AP10=0,0,(AP10*((LOG(AP10))/LOG(2))))","v":0},null,{"$f":"N10","v":11122},{"$f":"COUNTIF(L134:L158,AS10)","v":0},{"$f":"AT10/(AV4-AT25)","v":0},{"$f":"IF(AU10=0,0,(AU10*((LOG(AU10))/LOG(2))))","v":0}]
[12,690,24,721,13,733,14,745,24,758,0,12112,null,11211,{"$f":"COUNTIF($L$7:$L$500,N11)","v":17},{"$f":"O11/$Q$4","v":0.1118421052631579},{"$f":"IF(P11=0,0,(P11*((LOG(P11))/LOG(2))))","v":-0.35347302254792884},null,null,{"$f":"N11","v":11211},{"$f":"COUNTIF(L7:L31,T11)","v":5},{"$f":"U11/(W4-U25)","v":0.22727272727272727},{"$f":"IF(V11=0,0,(V11*((LOG(V11))/LOG(2))))","v":-0.48579625539771243},null,{"$f":"N11","v":11211},{"$f":"COUNTIF(L32:L57,Y11)","v":3},{"$f":"Z11/(AB4-Z25)","v":0.12},{"$f":"IF(AA11=0,0,(AA11*((LOG(AA11))/LOG(2))))","v":-0.36706724268642821},null,{"$f":"N11","v":11211},{"$f":"COUNTIF(L58:L82,AD11)","v":2},{"$f":"AE11/(AG4-AE25)","v":8.3333333333333329E-2},{"$f":"IF(AF11=0,0,(AF11*((LOG(AF11))/LOG(2))))","v":-0.29874687506009634},null,{"$f":"N11","v":11211},{"$f":"COUNTIF(L83:L107,AI11)","v":3},{"$f":"AJ11/(AL4-AJ25)","v":0.13043478260869565},{"$f":"IF(AK11=0,0,(AK11*((LOG(AK11))/LOG(2))))","v":-0.3832955811307639},null,{"$f":"N11","v":11211},{"$f":"COUNTIF(L108:L133,AN11)","v":1},{"$f":"AO11/(AQ4-AO25)","v":4.1666666666666664E-2},{"$f":"IF(AP11=0,0,(AP11*((LOG(AP11))/LOG(2))))","v":-0.19104010419671485},null,{"$f":"N11","v":11211},{"$f":"COUNTIF(L134:L158,AS11)","v":3},{"$f":"AT11/(AV4-AT25)","v":0.12},{"$f":"IF(AU11=0,0,(AU11*((LOG(AU11))/LOG(2))))","v":-0.36706724268642821}]
[21,879,11,900,11,910,21,925,11,936,1,21121,null,11212,{"$f":"COUNTIF($L$7:$L$500,N12)","v":18},{"$f":"O12/$Q$4","v":0.11842105263157894},{"$f":"IF(P12=0,0,(P12*((LOG(P12))/LOG(2))))","v":-0.36450029747383494},null,null,{"$f":"N12","v":11212},{"$f":"COUNTIF(L7:L31,T12)","v":5},{"$f":"U12/(W4-U25)","v":0.22727272727272727},{"$f":"IF(V12=0,0,(V12*((LOG(V12))/LOG(2))))","v":-0.48579625539771243},null,{"$f":"N12","v":11212},{"$f":"COUNTIF(L32:L57,Y12)","v":3},{"$f":"Z12/(AB4-Z25)","v":0.12},{"$f":"IF(AA12=0,0,(AA12*((LOG(AA12))/LOG(2))))","v":-0.36706724268642821},null,{"$f":"N12","v":11212},{"$f":"COUNTIF(L58:L82,AD12)","v":4},{"$f":"AE12/(AG4-AE25)","v":0.16666666666666666},{"$f":"IF(AF12=0,0,(AF12*((LOG(AF12))/LOG(2))))","v":-0.43082708345352599},null,{"$f":"N12","v":11212},{"$f":"COUNTIF(L83:L107,AI12)","v":4},{"$f":"AJ12/(AL4-AJ25)","v":0.17391304347826086},{"$f":"IF(AK12=0,0,(AK12*((LOG(AK12))/LOG(2))))","v":-0.43888034018382832},null,{"$f":"N12","v":11212},{"$f":"COUNTIF(L108:L133,AN12)","v":2},{"$f":"AO12/(AQ4-AO25)","v":8.3333333333333329E-2},{"$f":"IF(AP12=0,0,(AP12*((LOG(AP12))/LOG(2))))","v":-0.29874687506009634},null,{"$f":"N12","v":11212},{"$f":"COUNTIF(L134:L158,AS12)","v":0},{"$f":"AT12/(AV4-AT25)","v":0},{"$f":"IF(AU12=0,0,(AU12*((LOG(AU12))/LOG(2))))","v":0}]
[12,1023,13,1058,24,1066,14,1078,13,1093,0,11211,null,11221,{"$f":"COUNTIF($L$7:$L$500,N13)","v":1},{"$f":"O13/$Q$4","v":6.5789473684210523E-3},{"$f":"IF(P13=0,0,(P13*((LOG(P13))/LOG(2))))","v":-4.7683733641076219E-2},null,null,{"$f":"N13","v":11221},{"$f":"COUNTIF(L7:L31,T13)","v":0},{"$f":"U13/(W4-U25)","v":0},{"$f":"IF(V13=0,0,(V13*((LOG(V13))/LOG(2))))","v":0},null,{"$f":"N13","v":11221},{"$f":"COUNTIF(L32:L57,Y13)","v":0},{"$f":"Z13/(AB4-Z25)","v":0},{"$f":"IF(AA13=0,0,(AA13*((LOG(AA13))/LOG(2))))","v":0},null,{"$f":"N13","v":11221},{"$f":"COUNTIF(L58:L82,AD13)","v":0},{"$f":"AE13/(AG4-AE25)","v":0},{"$f":"IF(AF13=0,0,(AF13*((LOG(AF13))/LOG(2))))","v":0},null,{"$f":"N13","v":11221},{"$f":"COUNTIF(L83:L107,AI13)","v":0},{"$f":"AJ13/(AL4-AJ25)","v":0},{"$f":"IF(AK13=0,0,(AK13*((LOG(AK13))/LOG(2))))","v":0},null,{"$f":"N13","v":11221},{"$f":"COUNTIF(L108:L133,AN13)","v":1},{"$f":"AO13/(AQ4-AO25)","v":4.1666666666666664E-2},{"$f":"IF(AP13=0,0,(AP13*((LOG(AP13))/LOG(2))))","v":-0.19104010419671485},null,{"$f":"N13","v":11221},{"$f":"COUNTIF(L134:L158,AS13)","v":0},{"$f":"AT13/(AV4-AT25)","v":0},{"$f":"IF(AU13=0,0,(AU13*((LOG(AU13))/LOG(2))))","v":0}]
[21,1235,11,1248,11,1257,21,1271,11,1284,1,21121,null,11222,{"$f":"COUNTIF($L$7:$L$500,N14)","v":0},{"$f":"O14/$Q$4","v":0},{"$f":"IF(P14=0,0,(P14*((LOG(P14))/LOG(2))))","v":0},null,null,{"$f":"N14","v":11222},{"$f":"COUNTIF(L7:L31,T14)","v":0},{"$f":"U14/(W4-U25)","v":0},{"$f":"IF(V14=0,0,(V14*((LOG(V14))/LOG(2))))","v":0},null,{"$f":"N14","v":11222},{"$f":"COUNTIF(L32:L57,Y14)","v":0},{"$f":"Z14/(AB4-Z25)","v":0},{"$f":"IF(AA14=0,0,(AA14*((LOG(AA14))/LOG(2))))","v":0},null,{"$f":"N14","v":11222},{"$f":"COUNTIF(L58:L82,AD14)","v":0},{"$f":"AE14/(AG4-AE25)","v":0},{"$f":"IF(AF14=0,0,(AF14*((LOG(AF14))/LOG(2))))","v":0},null,{"$f":"N14","v":11222},{"$f":"COUNTIF(L83:L107,AI14)","v":0},{"$f":"AJ14/(AL4-AJ25)","v":0},{"$f":"IF(AK14=0,0,(AK14*((LOG(AK14))/LOG(2))))","v":0},null,{"$f":"N14","v":11222},{"$f":"COUNTIF(L108:L133,AN14)","v":0},{"$f":"AO14/(AQ4-AO25)","v":0},{"$f":"IF(AP14=0,0,(AP14*((LOG(AP14))/LOG(2))))","v":0},null,{"$f":"N14","v":11222},{"$f":"COUNTIF(L134:L158,AS14)","v":0},{"$f":"AT14/(AV4-AT25)","v":0},{"$f":"IF(AU14=0,0,(AU14*((LOG(AU14))/LOG(2))))","v":0}]
[21,1408,11,1418,22,1424,14,1435,13,1449,0,21211,null,12111,{"$f":"COUNTIF($L$7:$L$500,N15)","v":7},{"$f":"O15/$Q$4","v":4.6052631578947366E-2},{"$f":"IF(P15=0,0,(P15*((LOG(P15))/LOG(2))))","v":-0.20450005355067019},null,null,{"$f":"N15","v":12111},{"$f":"COUNTIF(L7:L31,T15)","v":0},{"$f":"U15/(W4-U25)","v":0},{"$f":"IF(V15=0,0,(V15*((LOG(V15))/LOG(2))))","v":0},null,{"$f":"N15","v":12111},{"$f":"COUNTIF(L32:L57,Y15)","v":0},{"$f":"Z15/(AB4-Z25)","v":0},{"$f":"IF(AA15=0,0,(AA15*((LOG(AA15))/LOG(2))))","v":0},null,{"$f":"N15","v":12111},{"$f":"COUNTIF(L58:L82,AD15)","v":2},{"$f":"AE15/(AG4-AE25)","v":8.3333333333333329E-2},{"$f":"IF(AF15=0,0,(AF15*((LOG(AF15))/LOG(2))))","v":-0.29874687506009634},null,{"$f":"N15","v":12111},{"$f":"COUNTIF(L83:L107,AI15)","v":1},{"$f":"AJ15/(AL4-AJ25)","v":4.3478260869565216E-2},{"$f":"IF(AK15=0,0,(AK15*((LOG(AK15))/LOG(2))))","v":-0.19667660678508753},null,{"$f":"N15","v":12111},{"$f":"COUNTIF(L108:L133,AN15)","v":0},{"$f":"AO15/(AQ4-AO25)","v":0},{"$f":"IF(AP15=0,0,(AP15*((LOG(AP15))/LOG(2))))","v":0},null,{"$f":"N15","v":12111},{"$f":"COUNTIF(L134:L158,AS15)","v":4},{"$f":"AT15/(AV4-AT25)","v":0.16},{"$f":"IF(AU15=0,0,(AU15*((LOG(AU15))/LOG(2))))","v":-0.42301699036395596}]
[12,1554,24,1561,13,1572,23,1581,13,1592,0,12121,null,12112,{"$f":"COUNTIF($L$7:$L$500,N16)","v":12},{"$f":"O16/$Q$4","v":7.8947368421052627E-2},{"$f":"IF(P16=0,0,(P16*((LOG(P16))/LOG(2))))","v":-0.28918144837282334},null,null,{"$f":"N16","v":12112},{"$f":"COUNTIF(L7:L31,T16)","v":2},{"$f":"U16/(W4-U25)","v":9.0909090909090912E-2},{"$f":"IF(V16=0,0,(V16*((LOG(V16))/LOG(2))))","v":-0.31449378351248153},null,{"$f":"N16","v":12112},{"$f":"COUNTIF(L32:L57,Y16)","v":1},{"$f":"Z16/(AB4-Z25)","v":0.04},{"$f":"IF(AA16=0,0,(AA16*((LOG(AA16))/LOG(2))))","v":-0.18575424759098899},null,{"$f":"N16","v":12112},{"$f":"COUNTIF(L58:L82,AD16)","v":2},{"$f":"AE16/(AG4-AE25)","v":8.3333333333333329E-2},{"$f":"IF(AF16=0,0,(AF16*((LOG(AF16))/LOG(2))))","v":-0.29874687506009634},null,{"$f":"N16","v":12112},{"$f":"COUNTIF(L83:L107,AI16)","v":1},{"$f":"AJ16/(AL4-AJ25)","v":4.3478260869565216E-2},{"$f":"IF(AK16=0,0,(AK16*((LOG(AK16))/LOG(2))))","v":-0.19667660678508753},null,{"$f":"N16","v":12112},{"$f":"COUNTIF(L108:L133,AN16)","v":1},{"$f":"AO16/(AQ4-AO25)","v":4.1666666666666664E-2},{"$f":"IF(AP16=0,0,(AP16*((LOG(AP16))/LOG(2))))","v":-0.19104010419671485},null,{"$f":"N16","v":12112},{"$f":"COUNTIF(L134:L158,AS16)","v":5},{"$f":"AT16/(AV4-AT25)","v":0.2},{"$f":"IF(AU16=0,0,(AU16*((LOG(AU16))/LOG(2))))","v":-0.46438561897747244}]
[12,1737,24,1744,13,1754,23,1763,13,1774,0,12121,null,12121,{"$f":"COUNTIF($L$7:$L$500,N17)","v":21},{"$f":"O17/$Q$4","v":0.13815789473684212},{"$f":"IF(P17=0,0,(P17*((LOG(P17))/LOG(2))))","v":-0.39452507831553507},null,null,{"$f":"N17","v":12121},{"$f":"COUNTIF(L7:L31,T17)","v":2},{"$f":"U17/(W4-U25)","v":9.0909090909090912E-2},{"$f":"IF(V17=0,0,(V17*((LOG(V17))/LOG(2))))","v":-0.31449378351248153},null,{"$f":"N17","v":12121},{"$f":"COUNTIF(L32:L57,Y17)","v":2},{"$f":"Z17/(AB4-Z25)","v":0.08},{"$f":"IF(AA17=0,0,(AA17*((LOG(AA17))/LOG(2))))","v":-0.29150849518197797},null,{"$f":"N17","v":12121},{"$f":"COUNTIF(L58:L82,AD17)","v":1},{"$f":"AE17/(AG4-AE25)","v":4.1666666666666664E-2},{"$f":"IF(AF17=0,0,(AF17*((LOG(AF17))/LOG(2))))","v":-0.19104010419671485},null,{"$f":"N17","v":12121},{"$f":"COUNTIF(L83:L107,AI17)","v":6},{"$f":"AJ17/(AL4-AJ25)","v":0.2608695652173913},{"$f":"IF(AK17=0,0,(AK17*((LOG(AK17))/LOG(2))))","v":-0.50572159704413644},null,{"$f":"N17","v":12121},{"$f":"COUNTIF(L108:L133,AN17)","v":8},{"$f":"AO17/(AQ4-AO25)","v":0.33333333333333331},{"$f":"IF(AP17=0,0,(AP17*((LOG(AP17))/LOG(2))))","v":-0.52832083357371862},null,{"$f":"N17","v":12121},{"$f":"COUNTIF(L134:L158,AS17)","v":2},{"$f":"AT17/(AV4-AT25)","v":0.08},{"$f":"IF(AU17=0,0,(AU17*((LOG(AU17))/LOG(2))))","v":-0.29150849518197797}]
[21,1876,22,1897,13,1907,23,1916,13,1928,0,22121,null,12122,{"$f":"COUNTIF($L$7:$L$500,N18)","v":0},{"$f":"O18/$Q$4","v":0},{"$f":"IF(P18=0,0,(P18*((LOG(P18))/LOG(2))))","v":0},null,null,{"$f":"N18","v":12122},{"$f":"COUNTIF(L7:L31,T18)","v":0},{"$f":"U18/(W4-U25)","v":0},{"$f":"IF(V18=0,0,(V18*((LOG(V18))/LOG(2))))","v":0},null,{"$f":"N18","v":12122},{"$f":"COUNTIF(L32:L57,Y18)","v":0},{"$f":"Z18/(AB4-Z25)","v":0},{"$f":"IF(AA18=0,0,(AA18*((LOG(AA18))/LOG(2))))","v":0},null,{"$f":"N18","v":12122},{"$f":"COUNTIF(L58:L82,AD18)","v":0},{"$f":"AE18/(AG4-AE25)","v":0},{"$f":"IF(AF18=0,0,(AF18*((LOG(AF18))/LOG(2))))","v":0},null,{"$f":"N18","v":12122},{"$f":"COUNTIF(L83:L107,AI18)","v":0},{"$f":"AJ18/(AL4-AJ25)","v":0},{"$f":"IF(AK18=0,0,(AK18*((LOG(AK18))/LOG(2))))","v":0},null,{"$f":"N18","v":12122},{"$f":"COUNTIF(L108:L133,AN18)","v":0},{"$f":"AO18/(AQ4-AO25)","v":0},{"$f":"IF(AP18=0,0,(AP18*((LOG(AP18))/LOG(2))))","v":0},null,{"$f":"N18","v":12122},{"$f":"COUNTIF(L134:L158,AS18)","v":0},{"$f":"AT18/(AV4-AT25)","v":0},{"$f":"IF(AU18=0,0,(AU18*((LOG(AU18))/LOG(2))))","v":0}]
[12,2033,13,2040,24,2050,14,2060,24,2073,0,11212,null,12211,{"$f":"COUNTIF($L$7:$L$500,N19)","v":3},{"$f":"O19/$Q$4","v":1.9736842105263157E-2},{"$f":"IF(P19=0,0,(P19*((LOG(P19))/LOG(2))))","v":-0.11176904630373216},null,null,{"$f":"N19","v":12211},{"$f":"COUNTIF(L7:L31,T19)","v":1},{"$f":"U19/(W4-U25)","v":4.5454545454545456E-2},{"$f":"IF(V19=0,0,(V19*((LOG(V19))/LOG(2))))","v":-0.20270143721078623},null,{"$f":"N19","v":12211},{"$f":"COUNTIF(L32:L57,Y19)","v":1},{"$f":"Z19/(AB4-Z25)","v":0.04},{"$f":"IF(AA19=0,0,(AA19*((LOG(AA19))/LOG(2))))","v":-0.18575424759098899},null,{"$f":"N19","v":12211},{"$f":"COUNTIF(L58:L82,AD19)","v":0},{"$f":"AE19/(AG4-AE25)","v":0},{"$f":"IF(AF19=0,0,(AF19*((LOG(AF19))/LOG(2))))","v":0},null,{"$f":"N19","v":12211},{"$f":"COUNTIF(L83:L107,AI19)","v":1},{"$f":"AJ19/(AL4-AJ25)","v":4.3478260869565216E-2},{"$f":"IF(AK19=0,0,(AK19*((LOG(AK19))/LOG(2))))","v":-0.19667660678508753},null,{"$f":"N19","v":12211},{"$f":"COUNTIF(L108:L133,AN19)","v":0},{"$f":"AO19/(AQ4-AO25)","v":0},{"$f":"IF(AP19=0,0,(AP19*((LOG(AP19))/LOG(2))))","v":0},null,{"$f":"N19","v":12211},{"$f":"COUNTIF(L134:L158,AS19)","v":0},{"$f":"AT19/(AV4-AT25)","v":0},{"$f":"IF(AU19=0,0,(AU19*((LOG(AU19))/LOG(2))))","v":0}]
[21,2176,11,2190,11,2202,21,2211,11,2222,1,21121,null,12212,{"$f":"COUNTIF($L$7:$L$500,N20)","v":5},{"$f":"O20/$Q$4","v":3.2894736842105261E-2},{"$f":"IF(P20=0,0,(P20*((LOG(P20))/LOG(2))))","v":-0.1620394545577705},null,null,{"$f":"N20","v":12212},{"$f":"COUNTIF(L7:L31,T20)","v":2},{"$f":"U20/(W4-U25)","v":9.0909090909090912E-2},{"$f":"IF(V20=0,0,(V20*((LOG(V20))/LOG(2))))","v":-0.31449378351248153},null,{"$f":"N20","v":12212},{"$f":"COUNTIF(L32:L57,Y20)","v":0},{"$f":"Z20/(AB4-Z25)","v":0},{"$f":"IF(AA20=0,0,(AA20*((LOG(AA20))/LOG(2))))","v":0},null,{"$f":"N20","v":12212},{"$f":"COUNTIF(L58:L82,AD20)","v":1},{"$f":"AE20/(AG4-AE25)","v":4.1666666666666664E-2},{"$f":"IF(AF20=0,0,(AF20*((LOG(AF20))/LOG(2))))","v":-0.19104010419671485},null,{"$f":"N20","v":12212},{"$f":"COUNTIF(L83:L107,AI20)","v":1},{"$f":"AJ20/(AL4-AJ25)","v":4.3478260869565216E-2},{"$f":"IF(AK20=0,0,(AK20*((LOG(AK20))/LOG(2))))","v":-0.19667660678508753},null,{"$f":"N20","v":12212},{"$f":"COUNTIF(L108:L133,AN20)","v":0},{"$f":"AO20/(AQ4-AO25)","v":0},{"$f":"IF(AP20=0,0,(AP20*((LOG(AP20))/LOG(2))))","v":0},null,{"$f":"N20","v":12212},{"$f":"COUNTIF(L134:L158,AS20)","v":1},{"$f":"AT20/(AV4-AT25)","v":0.04},{"$f":"IF(AU20=0,0,(AU20*((LOG(AU20))/LOG(2))))","v":-0.18575424759098899}]
[12,2311,24,2329,24,2349,14,2360,13,2374,0,12211,null,12221,{"$f":"COUNTIF($L$7:$L$500,N21)","v":0},{"$f":"O21/$Q$4","v":0},{"$f":"IF(P21=0,0,(P21*((LOG(P21))/LOG(2))))","v":0},null,null,{"$f":"N21","v":12221},{"$f":"COUNTIF(L7:L31,T21)","v":0},{"$f":"U21/(W4-U25)","v":0},{"$f":"IF(V21=0,0,(V21*((LOG(V21))/LOG(2))))","v":0},null,{"$f":"N21","v":12221},{"$f":"COUNTIF(L32:L57,Y21)","v":0},{"$f":"Z21/(AB4-Z25)","v":0},{"$f":"IF(AA21=0,0,(AA21*((LOG(AA21))/LOG(2))))","v":0},null,{"$f":"N21","v":12221},{"$f":"COUNTIF(L58:L82,AD21)","v":0},{"$f":"AE21/(AG4-AE25)","v":0},{"$f":"IF(AF21=0,0,(AF21*((LOG(AF21))/LOG(2))))","v":0},null,{"$f":"N21","v":12221},{"$f":"COUNTIF(L83:L107,AI21)","v":0},{"$f":"AJ21/(AL4-AJ25)","v":0},{"$f":"IF(AK21=0,0,(AK21*((LOG(AK21))/LOG(2))))","v":0},null,{"$f":"N21","v":12221},{"$f":"COUNTIF(L108:L133,AN21)","v":0},{"$f":"AO21/(AQ4-AO25)","v":0},{"$f":"IF(AP21=0,0,(AP21*((LOG(AP21))/LOG(2))))","v":0},null,{"$f":"N21","v":12221},{"$f":"COUNTIF(L134:L158,AS21)","v":0},{"$f":"AT21/(AV4-AT25)","v":0},{"$f":"IF(AU21=0,0,(AU21*((LOG(AU21))/LOG(2))))","v":0}]
[12,2475,13,2485,24,2493,14,2502,24,2513,0,11212,null,12222,{"$f":"COUNTIF($L$7:$L$500,N22)","v":0},{"$f":"O22/$Q$4","v":0},{"$f":"IF(P22=0,0,(P22*((LOG(P22))/LOG(2))))","v":0},null,null,{"$f":"N22","v":12222},{"$f":"COUNTIF(L7:L31,T22)","v":0},{"$f":"U22/(W4-U25)","v":0},{"$f":"IF(V22=0,0,(V22*((LOG(V22))/LOG(2))))","v":0},null,{"$f":"N22","v":12222},{"$f":"COUNTIF(L32:L57,Y22)","v":0},{"$f":"Z22/(AB4-Z25)","v":0},{"$f":"IF(AA22=0,0,(AA22*((LOG(AA22))/LOG(2))))","v":0},null,{"$f":"N22","v":12222},{"$f":"COUNTIF(L58:L82,AD22)","v":0},{"$f":"AE22/(AG4-AE25)","v":0},{"$f":"IF(AF22=0,0,(AF22*((LOG(AF22))/LOG(2))))","v":0},null,{"$f":"N22","v":12222},{"$f":"COUNTIF(L83:L107,AI22)","v":0},{"$f":"AJ22/(AL4-AJ25)","v":0},{"$f":"IF(AK22=0,0,(AK22*((LOG(AK22))/LOG(2))))","v":0},null,{"$f":"N22","v":12222},{"$f":"COUNTIF(L108:L133,AN22)","v":0},{"$f":"AO22/(AQ4-AO25)","v":0},{"$f":"IF(AP22=0,0,(AP22*((LOG(AP22))/LOG(2))))","v":0},null,{"$f":"N22","v":12222},{"$f":"COUNTIF(L134:L158,AS22)","v":0},{"$f":"AT22/(AV4-AT25)","v":0},{"$f":"IF(AU22=0,0,(AU22*((LOG(AU22))/LOG(2))))","v":0}]
[12,2611,24,2622,24,2638,14,2647,24,2656,0,12212,null,21111,{"$f":"COUNTIF($L$7:$L$500,N23)","v":0},{"$f":"O23/$Q$4","v":0},{"$f":"IF(P23=0,0,(P23*((LOG(P23))/LOG(2))))","v":0},null,null,{"$f":"N23","v":21111},{"$f":"COUNTIF(L7:L31,T23)","v":0},{"$f":"U23/(W4-U25)","v":0},{"$f":"IF(V23=0,0,(V23*((LOG(V23))/LOG(2))))","v":0},null,{"$f":"N23","v":21111},{"$f":"COUNTIF(L32:L57,Y23)","v":0},{"$f":"Z23/(AB4-Z25)","v":0},{"$f":"IF(AA23=0,0,(AA23*((LOG(AA23))/LOG(2))))","v":0},null,{"$f":"N23","v":21111},{"$f":"COUNTIF(L58:L82,AD23)","v":0},{"$f":"AE23/(AG4-AE25)","v":0},{"$f":"IF(AF23=0,0,(AF23*((LOG(AF23))/LOG(2))))","v":0},null,{"$f":"N23","v":21111},{"$f":"COUNTIF(L83:L107,AI23)","v":0},{"$f":"AJ23/(AL4-AJ25)","v":0},{"$f":"IF(AK23=0,0,(AK23*((LOG(AK23))/LOG(2))))","v":0},null,{"$f":"N23","v":21111},{"$f":"COUNTIF(L108:L133,AN23)","v":0},{"$f":"AO23/(AQ4-AO25)","v":0},{"$f":"IF(AP23=0,0,(AP23*((LOG(AP23))/LOG(2))))","v":0},null,{"$f":"N23","v":21111},{"$f":"COUNTIF(L134:L158,AS23)","v":0},{"$f":"AT23/(AV4-AT25)","v":0},{"$f":"IF(AU23=0,0,(AU23*((LOG(AU23))/LOG(2))))","v":0}]
[12,2754,13,2762,24,2771,14,2780,24,2792,0,11212,null,21112,{"$f":"COUNTIF($L$7:$L$500,N24)","v":2},{"$f":"O24/$Q$4","v":1.3157894736842105E-2},{"$f":"IF(P24=0,0,(P24*((LOG(P24))/LOG(2))))","v":-8.2209572545310333E-2},null,null,{"$f":"N24","v":21112},{"$f":"COUNTIF(L7:L31,T24)","v":0},{"$f":"U24/(W4-U25)","v":0},{"$f":"IF(V24=0,0,(V24*((LOG(V24))/LOG(2))))","v":0},null,{"$f":"N24","v":21112},{"$f":"COUNTIF(L32:L57,Y24)","v":2},{"$f":"Z24/(AB4-Z25)","v":0.08},{"$f":"IF(AA24=0,0,(AA24*((LOG(AA24))/LOG(2))))","v":-0.29150849518197797},null,{"$f":"N24","v":21112},{"$f":"COUNTIF(L58:L82,AD24)","v":0},{"$f":"AE24/(AG4-AE25)","v":0},{"$f":"IF(AF24=0,0,(AF24*((LOG(AF24))/LOG(2))))","v":0},null,{"$f":"N24","v":21112},{"$f":"COUNTIF(L83:L107,AI24)","v":0},{"$f":"AJ24/(AL4-AJ25)","v":0},{"$f":"IF(AK24=0,0,(AK24*((LOG(AK24))/LOG(2))))","v":0},null,{"$f":"N24","v":21112},{"$f":"COUNTIF(L108:L133,AN24)","v":0},{"$f":"AO24/(AQ4-AO25)","v":0},{"$f":"IF(AP24=0,0,(AP24*((LOG(AP24))/LOG(2))))","v":0},null,{"$f":"N24","v":21112},{"$f":"COUNTIF(L134:L158,AS24)","v":0},{"$f":"AT24/(AV4-AT25)","v":0},{"$f":"IF(AU24=0,0,(AU24*((LOG(AU24))/LOG(2))))","v":0}]
[12,2892,13,2898,24,2909,14,2917,24,2926,0,11212,null,21121,{"$f":"COUNTIF($L$7:$L$500,N25)","v":9},{"$f":"O25/$Q$4","v":5.921052631578947E-2},{"$f":"IF(P25=0,0,(P25*((LOG(P25))/LOG(2))))","v":-0.24146067505270694},null,null,{"$f":"N25","v":21121},{"$f":"COUNTIF(L7:L31,T25)","v":3},null,null,null,{"$f":"N25","v":21121},{"$f":"COUNTIF(L32:L57,Y25)","v":1},null,null,null,{"$f":"N25","v":21121},{"$f":"COUNTIF(L58:L82,AD25)","v":1},null,null,null,{"$f":"N25","v":21121},{"$f":"COUNTIF(L83:L107,AI25)","v":2},null,null,null,{"$f":"N25","v":21121},{"$f":"COUNTIF(L108:L133,AN25)","v":2},null,null,null,{"$f":"N25","v":21121},{"$f":"COUNTIF(L134:L158,AS25)","v":0}]
[12,3034,13,3047,24,3054,14,3065,13,3078,0,11211,null,21122,{"$f":"COUNTIF($L$7:$L$500,N26)","v":0},{"$f":"O26/$Q$4","v":0},{"$f":"IF(P26=0,0,(P26*((LOG(P26))/LOG(2))))","v":0},null,null,{"$f":"N26","v":21122},{"$f":"COUNTIF(L7:L31,T26)","v":0},{"$f":"U26/(W4-U25)","v":0},{"$f":"IF(V26=0,0,(V26*((LOG(V26))/LOG(2))))","v":0},null,{"$f":"N26","v":21122},{"$f":"COUNTIF(L32:L57,Y26)","v":0},{"$f":"Z26/(AB4-Z25)","v":0},{"$f":"IF(AA26=0,0,(AA26*((LOG(AA26))/LOG(2))))","v":0},null,{"$f":"N26","v":21122},{"$f":"COUNTIF(L58:L82,AD26)","v":0},{"$f":"AE26/(AG4-AE25)","v":0},{"$f":"IF(AF26=0,0,(AF26*((LOG(AF26))/LOG(2))))","v":0},null,{"$f":"N26","v":21122},{"$f":"COUNTIF(L83:L107,AI26)","v":0},{"$f":"AJ26/(AL4-AJ25)","v":0},{"$f":"IF(AK26=0,0,(AK26*((LOG(AK26))/LOG(2))))","v":0},null,{"$f":"N26","v":21122},{"$f":"COUNTIF(L108:L133,AN26)","v":0},{"$f":"AO26/(AQ4-AO25)","v":0},{"$f":"IF(AP26=0,0,(AP26*((LOG(AP26))/LOG(2))))","v":0},null,{"$f":"N26","v":21122},{"$f":"COUNTIF(L134:L158,AS26)","v":0},{"$f":"AT26/(AV4-AT25)","v":0},{"$f":"IF(AU26=0,0,(AU26*((LOG(AU26))/LOG(2))))","v":0}]
[12,3174,24,3189,13,3200,14,3214,24,3226,0,12112,null,21211,{"$f":"COUNTIF($L$7:$L$500,N27)","v":6},{"$f":"O27/$Q$4","v":3.9473684210526314E-2},{"$f":"IF(P27=0,0,(P27*((LOG(P27))/LOG(2))))","v":-0.184064408396938},null,null,{"$f":"N27","v":21211},{"$f":"COUNTIF(L7:L31,T27)","v":1},{"$f":"U27/(W4-U25)","v":4.5454545454545456E-2},{"$f":"IF(V27=0,0,(V27*((LOG(V27))/LOG(2))))","v":-0.20270143721078623},null,{"$f":"N27","v":21211},{"$f":"COUNTIF(L32:L57,Y27)","v":0},{"$f":"Z27/(AB4-Z25)","v":0},{"$f":"IF(AA27=0,0,(AA27*((LOG(AA27))/LOG(2))))","v":0},null,{"$f":"N27","v":21211},{"$f":"COUNTIF(L58:L82,AD27)","v":2},{"$f":"AE27/(AG4-AE25)","v":8.3333333333333329E-2},{"$f":"IF(AF27=0,0,(AF27*((LOG(AF27))/LOG(2))))","v":-0.29874687506009634},null,{"$f":"N27","v":21211},{"$f":"COUNTIF(L83:L107,AI27)","v":1},{"$f":"AJ27/(AL4-AJ25)","v":4.3478260869565216E-2},{"$f":"IF(AK27=0,0,(AK27*((LOG(AK27))/LOG(2))))","v":-0.19667660678508753},null,{"$f":"N27","v":21211},{"$f":"COUNTIF(L108:L133,AN27)","v":2},{"$f":"AO27/(AQ4-AO25)","v":8.3333333333333329E-2},{"$f":"IF(AP27=0,0,(AP27*((LOG(AP27))/LOG(2))))","v":-0.29874687506009634},null,{"$f":"N27","v":21211},{"$f":"COUNTIF(L134:L158,AS27)","v":0},{"$f":"AT27/(AV4-AT25)","v":0},{"$f":"IF(AU27=0,0,(AU27*((LOG(AU27))/LOG(2))))","v":0}]
[12,3330,24,3344,24,3348,14,3358,24,3367,0,12212,null,21212,{"$f":"COUNTIF($L$7:$L$500,N28)","v":12},{"$f":"O28/$Q$4","v":7.8947368421052627E-2},{"$f":"IF(P28=0,0,(P28*((LOG(P28))/LOG(2))))","v":-0.28918144837282334},null,null,{"$f":"N28","v":21212},{"$f":"COUNTIF(L7:L31,T28)","v":1},{"$f":"U28/(W4-U25)","v":4.5454545454545456E-2},{"$f":"IF(V28=0,0,(V28*((LOG(V28))/LOG(2))))","v":-0.20270143721078623},null,{"$f":"N28","v":21212},{"$f":"COUNTIF(L32:L57,Y28)","v":3},{"$f":"Z28/(AB4-Z25)","v":0.12},{"$f":"IF(AA28=0,0,(AA28*((LOG(AA28))/LOG(2))))","v":-0.36706724268642821},null,{"$f":"N28","v":21212},{"$f":"COUNTIF(L58:L82,AD28)","v":2},{"$f":"AE28/(AG4-AE25)","v":8.3333333333333329E-2},{"$f":"IF(AF28=0,0,(AF28*((LOG(AF28))/LOG(2))))","v":-0.29874687506009634},null,{"$f":"N28","v":21212},{"$f":"COUNTIF(L83:L107,AI28)","v":1},{"$f":"AJ28/(AL4-AJ25)","v":4.3478260869565216E-2},{"$f":"IF(AK28=0,0,(AK28*((LOG(AK28))/LOG(2))))","v":-0.19667660678508753},null,{"$f":"N28","v":21212},{"$f":"COUNTIF(L108:L133,AN28)","v":2},{"$f":"AO28/(AQ4-AO25)","v":8.3333333333333329E-2},{"$f":"IF(AP28=0,0,(AP28*((LOG(AP28))/LOG(2))))","v":-0.29874687506009634},null,{"$f":"N28","v":21212},{"$f":"COUNTIF(L134:L158,AS28)","v":3},{"$f":"AT28/(AV4-AT25)","v":0.12},{"$f":"IF(AU28=0,0,(AU28*((LOG(AU28))/LOG(2))))","v":-0.36706724268642821}]
[12,3470,13,3476,24,3490,14,3501,24,3516,0,11212,null,21221,{"$f":"COUNTIF($L$7:$L$500,N29)","v":1},{"$f":"O29/$Q$4","v":6.5789473684210523E-3},{"$f":"IF(P29=0,0,(P29*((LOG(P29))/LOG(2))))","v":-4.7683733641076219E-2},null,null,{"$f":"N29","v":21221},{"$f":"COUNTIF(L7:L31,T29)","v":0},{"$f":"U29/(W4-U25)","v":0},{"$f":"IF(V29=0,0,(V29*((LOG(V29))/LOG(2))))","v":0},null,{"$f":"N29","v":21221},{"$f":"COUNTIF(L32:L57,Y29)","v":0},{"$f":"Z29/(AB4-Z25)","v":0},{"$f":"IF(AA29=0,0,(AA29*((LOG(AA29))/LOG(2))))","v":0},null,{"$f":"N29","v":21221},{"$f":"COUNTIF(L58:L82,AD29)","v":0},{"$f":"AE29/(AG4-AE25)","v":0},{"$f":"IF(AF29=0,0,(AF29*((LOG(AF29))/LOG(2))))","v":0},null,{"$f":"N29","v":21221},{"$f":"COUNTIF(L83:L107,AI29)","v":0},{"$f":"AJ29/(AL4-AJ25)","v":0},{"$f":"IF(AK29=0,0,(AK29*((LOG(AK29))/LOG(2))))","v":0},null,{"$f":"N29","v":21221},{"$f":"COUNTIF(L108:L133,AN29)","v":0},{"$f":"AO29/(AQ4-AO25)","v":0},{"$f":"IF(AP29=0,0,(AP29*((LOG(AP29))/LOG(2))))","v":0},null,{"$f":"N29","v":21221},{"$f":"COUNTIF(L134:L158,AS29)","v":1},{"$f":"AT29/(AV4-AT25)","v":0.04},{"$f":"IF(AU29=0,0,(AU29*((LOG(AU29))/LOG(2))))","v":-0.18575424759098899}]
[21,3620,11,3632,22,3641,14,3650,24,3664,0,21212,null,21222,{"$f":"COUNTIF($L$7:$L$500,N30)","v":0},{"$f":"O30/$Q$4","v":0},{"$f":"IF(P30=0,0,(P30*((LOG(P30))/LOG(2))))","v":0},null,null,{"$f":"N30","v":21222},{"$f":"COUNTIF(L7:L31,T30)","v":0},{"$f":"U30/(W4-U25)","v":0},{"$f":"IF(V30=0,0,(V30*((LOG(V30))/LOG(2))))","v":0},null,{"$f":"N30","v":21222},{"$f":"COUNTIF(L32:L57,Y30)","v":0},{"$f":"Z30/(AB4-Z25)","v":0},{"$f":"IF(AA30=0,0,(AA30*((LOG(AA30))/LOG(2))))","v":0},null,{"$f":"N30","v":21222},{"$f":"COUNTIF(L58:L82,AD30)","v":0},{"$f":"AE30/(AG4-AE25)","v":0},{"$f":"IF(AF30=0,0,(AF30*((LOG(AF30))/LOG(2))))","v":0},null,{"$f":"N30","v":21222},{"$f":"COUNTIF(L83:L107,AI30)","v":0},{"$f":"AJ30/(AL4-AJ25)","v":0},{"$f":"IF(AK30=0,0,(AK30*((LOG(AK30))/LOG(2))))","v":0},null,{"$f":"N30","v":21222},{"$f":"COUNTIF(L108:L133,AN30)","v":0},{"$f":"AO30/(AQ4-AO25)","v":0},{"$f":"IF(AP30=0,0,(AP30*((LOG(AP30))/LOG(2))))","v":0},null,{"$f":"N30","v":21222},{"$f":"COUNTIF(L134:L158,AS30)","v":0},{"$f":"AT30/(AV4-AT25)","v":0},{"$f":"IF(AU30=0,0,(AU30*((LOG(AU30))/LOG(2))))","v":0}]
[12,3760,13,3766,13,3772,23,3785,13,3797,0,11121,null,22111,{"$f":"COUNTIF($L$7:$L$500,N31)","v":1},{"$f":"O31/$Q$4","v":6.5789473684210523E-3},{"$f":"IF(P31=0,0,(P31*((LOG(P31))/LOG(2))))","v":-4.7683733641076219E-2},null,null,{"$f":"N31","v":22111},{"$f":"COUNTIF(L7:L31,T31)","v":0},{"$f":"U31/(W4-U25)","v":0},{"$f":"IF(V31=0,0,(V31*((LOG(V31))/LOG(2))))","v":0},null,{"$f":"N31","v":22111},{"$f":"COUNTIF(L32:L57,Y31)","v":0},{"$f":"Z31/(AB4-Z25)","v":0},{"$f":"IF(AA31=0,0,(AA31*((LOG(AA31))/LOG(2))))","v":0},null,{"$f":"N31","v":22111},{"$f":"COUNTIF(L58:L82,AD31)","v":0},{"$f":"AE31/(AG4-AE25)","v":0},{"$f":"IF(AF31=0,0,(AF31*((LOG(AF31))/LOG(2))))","v":0},null,{"$f":"N31","v":22111},{"$f":"COUNTIF(L83:L107,AI31)","v":0},{"$f":"AJ31/(AL4-AJ25)","v":0},{"$f":"IF(AK31=0,0,(AK31*((LOG(AK31))/LOG(2))))","v":0},null,{"$f":"N31","v":22111},{"$f":"COUNTIF(L108:L133,AN31)","v":1},{"$f":"AO31/(AQ4-AO25)","v":4.1666666666666664E-2},{"$f":"IF(AP31=0,0,(AP31*((LOG(AP31))/LOG(2))))","v":-0.19104010419671485},null,{"$f":"N31","v":22111},{"$f":"COUNTIF(L134:L158,AS31)","v":0},{"$f":"AT31/(AV4-AT25)","v":0},{"$f":"IF(AU31=0,0,(AU31*((LOG(AU31))/LOG(2))))","v":0}]
[12,3898,13,3909,13,3914,23,3924,13,3936,0,11121,null,22112,{"$f":"COUNTIF($L$7:$L$500,N32)","v":2},{"$f":"O32/$Q$4","v":1.3157894736842105E-2},{"$f":"IF(P32=0,0,(P32*((LOG(P32))/LOG(2))))","v":-8.2209572545310333E-2},null,null,{"$f":"N32","v":22112},{"$f":"COUNTIF(L7:L31,T32)","v":0},{"$f":"U32/(W4-U25)","v":0},{"$f":"IF(V32=0,0,(V32*((LOG(V32))/LOG(2))))","v":0},null,{"$f":"N32","v":22112},{"$f":"COUNTIF(L32:L57,Y32)","v":2},{"$f":"Z32/(AB4-Z25)","v":0.08},{"$f":"IF(AA32=0,0,(AA32*((LOG(AA32))/LOG(2))))","v":-0.29150849518197797},null,{"$f":"N32","v":22112},{"$f":"COUNTIF(L58:L82,AD32)","v":0},{"$f":"AE32/(AG4-AE25)","v":0},{"$f":"IF(AF32=0,0,(AF32*((LOG(AF32))/LOG(2))))","v":0},null,{"$f":"N32","v":22112},{"$f":"COUNTIF(L83:L107,AI32)","v":0},{"$f":"AJ32/(AL4-AJ25)","v":0},{"$f":"IF(AK32=0,0,(AK32*((LOG(AK32))/LOG(2))))","v":0},null,{"$f":"N32","v":22112},{"$f":"COUNTIF(L108:L133,AN32)","v":0},{"$f":"AO32/(AQ4-AO25)","v":0},{"$f":"IF(AP32=0,0,(AP32*((LOG(AP32))/LOG(2))))","v":0},null,{"$f":"N32","v":22112},{"$f":"COUNTIF(L134:L158,AS32)","v":0},{"$f":"AT32/(AV4-AT25)","v":0},{"$f":"IF(AU32=0,0,(AU32*((LOG(AU32))/LOG(2))))","v":0}]
[21,4048,22,4050,13,4064,14,4072,24,4086,0,22112,null,22121,{"$f":"COUNTIF($L$7:$L$500,N33)","v":6},{"$f":"O33/$Q$4","v":3.9473684210526314E-2},{"$f":"IF(P33=0,0,(P33*((LOG(P33))/LOG(2))))","v":-0.184064408396938},null,null,{"$f":"N33","v":22121},{"$f":"COUNTIF(L7:L31,T33)","v":1},{"$f":"U33/(W4-U25)","v":4.5454545454545456E-2},{"$f":"IF(V33=0,0,(V33*((LOG(V33))/LOG(2))))","v":-0.20270143721078623},null,{"$f":"N33","v":22121},{"$f":"COUNTIF(L32:L57,Y33)","v":2},{"$f":"Z33/(AB4-Z25)","v":0.08},{"$f":"IF(AA33=0,0,(AA33*((LOG(AA33))/LOG(2))))","v":-0.29150849518197797},null,{"$f":"N33","v":22121},{"$f":"COUNTIF(L58:L82,AD33)","v":0},{"$f":"AE33/(AG4-AE25)","v":0},{"$f":"IF(AF33=0,0,(AF33*((LOG(AF33))/LOG(2))))","v":0},null,{"$f":"N33","v":22121},{"$f":"COUNTIF(L83:L107,AI33)","v":0},{"$f":"AJ33/(AL4-AJ25)","v":0},{"$f":"IF(AK33=0,0,(AK33*((LOG(AK33))/LOG(2))))","v":0},null,{"$f":"N33","v":22121},{"$f":"COUNTIF(L108:L133,AN33)","v":3},{"$f":"AO33/(AQ4-AO25)","v":0.125},{"$f":"IF(AP33=0,0,(AP33*((LOG(AP33))/LOG(2))))","v":-0.375},null,{"$f":"N33","v":22121},{"$f":"COUNTIF(L134:L158,AS33)","v":0},{"$f":"AT33/(AV4-AT25)","v":0},{"$f":"IF(AU33=0,0,(AU33*((LOG(AU33))/LOG(2))))","v":0}]
[21,4187,11,4203,11,4216,12,4220,24,4232,0,21112,null,22122,{"$f":"COUNTIF($L$7:$L$500,N34)","v":0},{"$f":"O34/$Q$4","v":0},{"$f":"IF(P34=0,0,(P34*((LOG(P34))/LOG(2))))","v":0},null,null,{"$f":"N34","v":22122},{"$f":"COUNTIF(L7:L31,T34)","v":0},{"$f":"U34/(W4-U25)","v":0},{"$f":"IF(V34=0,0,(V34*((LOG(V34))/LOG(2))))","v":0},null,{"$f":"N34","v":22122},{"$f":"COUNTIF(L32:L57,Y34)","v":0},{"$f":"Z34/(AB4-Z25)","v":0},{"$f":"IF(AA34=0,0,(AA34*((LOG(AA34))/LOG(2))))","v":0},null,{"$f":"N34","v":22122},{"$f":"COUNTIF(L58:L82,AD34)","v":0},{"$f":"AE34/(AG4-AE25)","v":0},{"$f":"IF(AF34=0,0,(AF34*((LOG(AF34))/LOG(2))))","v":0},null,{"$f":"N34","v":22122},{"$f":"COUNTIF(L83:L107,AI34)","v":0},{"$f":"AJ34/(AL4-AJ25)","v":0},{"$f":"IF(AK34=0,0,(AK34*((LOG(AK34))/LOG(2))))","v":0},null,{"$f":"N34","v":22122},{"$f":"COUNTIF(L108:L133,AN34)","v":0},{"$f":"AO34/(AQ4-AO25)","v":0},{"$f":"IF(AP34=0,0,(AP34*((LOG(AP34))/LOG(2))))","v":0},null,{"$f":"N34","v":22122},{"$f":"COUNTIF(L134:L158,AS34)","v":0},{"$f":"AT34/(AV4-AT25)","v":0},{"$f":"IF(AU34=0,0,(AU34*((LOG(AU34))/LOG(2))))","v":0}]
[21,4336,22,4338,24,4349,14,4358,24,4371,0,22212,null,22211,{"$f":"COUNTIF($L$7:$L$500,N35)","v":0},{"$f":"O35/$Q$4","v":0},{"$f":"IF(P35=0,0,(P35*((LOG(P35))/LOG(2))))","v":0},null,null,{"$f":"N35","v":22211},{"$f":"COUNTIF(L7:L31,T35)","v":0},{"$f":"U35/(W4-U25)","v":0},{"$f":"IF(V35=0,0,(V35*((LOG(V35))/LOG(2))))","v":0},null,{"$f":"N35","v":22211},{"$f":"COUNTIF(L32:L57,Y35)","v":0},{"$f":"Z35/(AB4-Z25)","v":0},{"$f":"IF(AA35=0,0,(AA35*((LOG(AA35))/LOG(2))))","v":0},null,{"$f":"N35","v":22211},{"$f":"COUNTIF(L58:L82,AD35)","v":0},{"$f":"AE35/(AG4-AE25)","v":0},{"$f":"IF(AF35=0,0,(AF35*((LOG(AF35))/LOG(2))))","v":0},null,{"$f":"N35","v":22211},{"$f":"COUNTIF(L83:L107,AI35)","v":0},{"$f":"AJ35/(AL4-AJ25)","v":0},{"$f":"IF(AK35=0,0,(AK35*((LOG(AK35))/LOG(2))))","v":0},null,{"$f":"N35","v":22211},{"$f":"COUNTIF(L108:L133,AN35)","v":0},{"$f":"AO35/(AQ4-AO25)","v":0},{"$f":"IF(AP35=0,0,(AP35*((LOG(AP35))/LOG(2))))","v":0},null,{"$f":"N35","v":22211},{"$f":"COUNTIF(L134:L158,AS35)","v":0},{"$f":"AT35/(AV4-AT25)","v":0},{"$f":"IF(AU35=0,0,(AU35*((LOG(AU35))/LOG(2))))","v":0}]
[12,4472,13,4476,13,4481,14,4486,24,4496,0,11112,null,22212,{"$f":"COUNTIF($L$7:$L$500,N36)","v":2},{"$f":"O36/$Q$4","v":1.3157894736842105E-2},{"$f":"IF(P36=0,0,(P36*((LOG(P36))/LOG(2))))","v":-8.2209572545310333E-2},null,null,{"$f":"N36","v":22212},{"$f":"COUNTIF(L7:L31,T36)","v":0},{"$f":"U36/(W4-U25)","v":0},{"$f":"IF(V36=0,0,(V36*((LOG(V36))/LOG(2))))","v":0},null,{"$f":"N36","v":22212},{"$f":"COUNTIF(L32:L57,Y36)","v":1},{"$f":"Z36/(AB4-Z25)","v":0.04},{"$f":"IF(AA36=0,0,(AA36*((LOG(AA36))/LOG(2))))","v":-0.18575424759098899},null,{"$f":"N36","v":22212},{"$f":"COUNTIF(L58:L82,AD36)","v":0},{"$f":"AE36/(AG4-AE25)","v":0},{"$f":"IF(AF36=0,0,(AF36*((LOG(AF36))/LOG(2))))","v":0},null,{"$f":"N36","v":22212},{"$f":"COUNTIF(L83:L107,AI36)","v":1},{"$f":"AJ36/(AL4-AJ25)","v":4.3478260869565216E-2},{"$f":"IF(AK36=0,0,(AK36*((LOG(AK36))/LOG(2))))","v":-0.19667660678508753},null,{"$f":"N36","v":22212},{"$f":"COUNTIF(L108:L133,AN36)","v":0},{"$f":"AO36/(AQ4-AO25)","v":0},{"$f":"IF(AP36=0,0,(AP36*((LOG(AP36))/LOG(2))))","v":0},null,{"$f":"N36","v":22212},{"$f":"COUNTIF(L134:L158,AS36)","v":0},{"$f":"AT36/(AV4-AT25)","v":0},{"$f":"IF(AU36=0,0,(AU36*((LOG(AU36))/LOG(2))))","v":0}]
[12,4594,13,4599,24,4616,14,4625,24,4639,0,11212,null,22221,{"$f":"COUNTIF($L$7:$L$500,N37)","v":1},{"$f":"O37/$Q$4","v":6.5789473684210523E-3},{"$f":"IF(P37=0,0,(P37*((LOG(P37))/LOG(2))))","v":-4.7683733641076219E-2},null,null,{"$f":"N37","v":22221},{"$f":"COUNTIF(L7:L31,T37)","v":0},{"$f":"U37/(W4-U25)","v":0},{"$f":"IF(V37=0,0,(V37*((LOG(V37))/LOG(2))))","v":0},null,{"$f":"N37","v":22221},{"$f":"COUNTIF(L32:L57,Y37)","v":0},{"$f":"Z37/(AB4-Z25)","v":0},{"$f":"IF(AA37=0,0,(AA37*((LOG(AA37))/LOG(2))))","v":0},null,{"$f":"N37","v":22221},{"$f":"COUNTIF(L58:L82,AD37)","v":0},{"$f":"AE37/(AG4-AE25)","v":0},{"$f":"IF(AF37=0,0,(AF37*((LOG(AF37))/LOG(2))))","v":0},null,{"$f":"N37","v":22221},{"$f":"COUNTIF(L83:L107,AI37)","v":0},{"$f":"AJ37/(AL4-AJ25)","v":0},{"$f":"IF(AK37=0,0,(AK37*((LOG(AK37))/LOG(2))))","v":0},null,{"$f":"N37","v":22221},{"$f":"COUNTIF(L108:L133,AN37)","v":0},{"$f":"AO37/(AQ4-AO25)","v":0},{"$f":"IF(AP37=0,0,(AP37*((LOG(AP37))/LOG(2))))","v":0},null,{"$f":"N37","v":22221},{"$f":"COUNTIF(L134:L158,AS37)","v":1},{"$f":"AT37/(AV4-AT25)","v":0.04},{"$f":"IF(AU37=0,0,(AU37*((LOG(AU37))/LOG(2))))","v":-0.18575424759098899}]
[21,4739,22,4748,13,4759,23,4768,13,4784,0,22121,null,22222,{"$f":"COUNTIF($L$7:$L$500,N38)","v":0},{"$f":"O38/$Q$4","v":0},{"$f":"IF(P38=0,0,(P38*((LOG(P38))/LOG(2))))","v":0},null,null,{"$f":"N38","v":22222},{"$f":"COUNTIF(L7:L31,T38)","v":0},{"$f":"U38/(W4-U25)","v":0},{"$f":"IF(V38=0,0,(V38*((LOG(V38))/LOG(2))))","v":0},null,{"$f":"N38","v":22222},{"$f":"COUNTIF(L32:L57,Y38)","v":0},{"$f":"Z38/(AB4-Z25)","v":0},{"$f":"IF(AA38=0,0,(AA38*((LOG(AA38))/LOG(2))))","v":0},null,{"$f":"N38","v":22222},{"$f":"COUNTIF(L58:L82,AD38)","v":0},{"$f":"AE38/(AG4-AE25)","v":0},{"$f":"IF(AF38=0,0,(AF38*((LOG(AF38))/LOG(2))))","v":0},null,{"$f":"N38","v":22222},{"$f":"COUNTIF(L83:L107,AI38)","v":0},{"$f":"AJ38/(AL4-AJ25)","v":0},{"$f":"IF(AK38=0,0,(AK38*((LOG(AK38))/LOG(2))))","v":0},null,{"$f":"N38","v":22222},{"$f":"COUNTIF(L108:L133,AN38)","v":0},{"$f":"AO38/(AQ4-AO25)","v":0},{"$f":"IF(AP38=0,0,(AP38*((LOG(AP38))/LOG(2))))","v":0},null,{"$f":"N38","v":22222},{"$f":"COUNTIF(L134:L158,AS38)","v":0},{"$f":"AT38/(AV4-AT25)","v":0},{"$f":"IF(AU38=0,0,(AU38*((LOG(AU38))/LOG(2))))","v":0}]
[21,4888,11,4899,22,4909,14,4918,24,4927,0,21212,null,null,null,{"$f":"SUM(P7:P38)","v":1.0000000000000002},{"$f":"-SUM(Q7:Q38)","v":3.8811747627080031},null,null,null,null,{"$f":"SUM(V7:V38)","v":0.99999999999999989},{"$f":"-SUM(W7:W38)","v":3.1312824845975862},null,null,null,{"$f":"SUM(AA7:AA38)","v":0.99999999999999989},{"$f":"-SUM(AB7:AB38)","v":3.5630741894285696},null,null,null,{"$f":"SUM(AF7:AF38)","v":1},{"$f":"-SUM(AG7:AG38)","v":3.1531071683628111},null,null,null,{"$f":"SUM(AK7:AK38)","v":0.99999999999999978},{"$f":"-SUM(AL7:AL38)","v":3.0879293469851059},null,null,null,{"$f":"SUM(AP7:AP38)","v":1},{"$f":"-SUM(AQ7:AQ38)","v":3.0535088547976783},null,null,null,{"$f":"SUM(AU7:AU38)","v":1},{"$f":"-SUM(AV7:AV38)","v":3.239079570624174}]
[12,5059,24,5072,13,5084,14,5099,24,5112,0,12112,null,null,null,"U=",{"$f":"Q39/(LOG(Q4)/LOG(2))","v":0.53548752460743165},null,null,null,null,"U1=",{"$f":"W39/(LOG(W4)/LOG(2))","v":0.67428498141099535},null,null,null,"U2=",{"$f":"AB39/(LOG(AB4)/LOG(2))","v":0.75802997231877656},null,null,null,"U3=",{"$f":"AG39/(LOG(AG4)/LOG(2))","v":0.67898467125351902},null,null,null,"U4=",{"$f":"AL39/(LOG(AL4)/LOG(2))","v":0.66494939136668274},null,null,null,"U5=",{"$f":"AQ39/(LOG(AQ4)/LOG(2))","v":0.64962195834845549},null,null,null,"U6=",{"$f":"AV39/(LOG(AV4)/LOG(2))","v":0.69749782040113151}]
[21,5214,11,5230,11,5243,21,5252,11,5263,1,21121]
[21,5360,22,5381,13,5390,14,5398,24,5410,0,22112]
[12,5514,24,5524,13,5534,23,5545,13,5556,0,12121,null,"Total Target Seq"]
[21,5660,22,5661,13,5674,23,5684,13,5695,0,22121,null,{"$f":"COUNTIF(L7:L158,G3)","v":9},null,25,26,25,25,26,25]
[12,5794,13,5799,13,5804,23,5813,13,5822,0,11121,null,null,null,"% of reinforcement given in 6 equal intervals based on number of trials "]
[21,5924,11,5935,22,5944,14,5952,24,5960,0,21212,null,null,null,"%_1","%_2","%_3","%_4","%_5","%_6"]
[12,6064,13,6072,13,6077,14,6081,13,6086,0,11111,null,null,"target sequence",{"$f":"$G$3","v":21121},{"$f":"$G$3","v":21121},{"$f":"$G$3","v":21121},{"$f":"$G$3","v":21121},{"$f":"$G$3","v":21121},{"$f":"$G$3","v":21121}]
[12,6182,13,6184,24,6200,14,6208,24,6222,0,11212,null,null,"total reinforcement",{"$f":"U25","v":3},{"$f":"Z25","v":1},{"$f":"AE25","v":1},{"$f":"AJ25","v":2},{"$f":"AO25","v":2},{"$f":"AT25","v":0}]
[12,6327,13,6341,24,6353,14,6365,13,6375,0,11211,null,null,"% target"]
[12,6473,13,6487,24,6498,14,6506,24,6522,0,11212,null,null,"CCRF"]
[12,6623,13,6629,24,6638,14,6647,13,6666,0,11211,null,null,"% CCRf"]
[21,6767,11,6790,11,6798,12,6809,24,6822,0,21112,null,null,"average response rate",{"$f":"J31/P44","v":151.88},{"$f":"(J57-J31)/Q44","v":144.15384615384616},{"$f":"(J82-J57)/R44","v":147.12},{"$f":"(J107-J82)/S44","v":157.32},{"$f":"(J133-J107)/T44","v":163.46153846153845},{"$f":"(J158-J133)/U44","v":180.16}]
[12,6930,13,6943,24,6952,14,6963,13,6983,0,11211]
[12,7082,24,7088,24,7094,14,7109,13,7118,0,12211]
[21,7217,11,7229,22,7235,14,7246,24,7254,0,21212]
[12,7349,24,7367,13,7380,23,7393,13,7406,0,12121]
[12,7505,13,7521,13,7525,23,7534,13,7545,0,11121]
[12,7650,24,7657,13,7667,14,7683,13,7702,0,12111]
[21,7805,11,7817,22,7825,14,7834,24,7845,0,21212]
[12,7946,24,7955,13,7966,23,7974,13,7983,0,12121]
[12,8090,13,8097,13,8111,23,8124,13,8132,0,11121]
[12,8234,13,8249,13,8264,14,8274,24,8287,0,11112]
[12,8398,24,8414,13,8422,14,8424,24,8435,0,12112]
[12,8531,24,8556,13,8566,14,8580,13,8602,0,12111]
[21,8729,11,8735,11,8741,21,8753,11,8764,1,21121]
[12,8852,24,8869,24,8882,14,8891,24,8899,0,12212]
[12,8997,13,9003,13,9007,14,9011,24,9020,0,11112]
[12,9120,13,9125,13,9138,14,9147,24,9156,0,11112]
[12,9261,13,9271,13,9276,23,9288,13,9300,0,11121]
[12,9398,13,9399,13,9405,23,9414,13,9423,0,11121]
[12,9521,13,9531,24,9544,14,9553,24,9565,0,11212]
[12,9673,13,9689,24,9705,14,9717,13,9730,0,11211]
[12,9836,13,9845,13,9859,23,9869,13,9878,0,11121]
[12,9980,13,9989,13,9994,23,10007,13,10017,0,11121]
[12,10151,13,10156,24,10169,14,10180,13,10194,0,11211]
[12,10293,13,10295,24,10311,14,10320,24,10328,0,11212]
[12,10427,13,10435,24,10448,14,10456,24,10469,0,11212]
[12,10577,13,10581,24,10595,14,10606,24,10624,0,11212]
[21,10735,11,10743,22,10756,14,10767,13,10781,0,21211]
[21,10884,11,10893,22,10902,14,10912,13,10917,0,21211]
[21,11019,11,11032,22,11041,14,11049,24,11061,0,21212]
[12,11171,24,11184,13,11195,14,11208,24,11223,0,12112]
[12,11349,24,11360,13,11369,23,11379,13,11390,0,12121]
[12,11491,13,11500,13,11508,23,11517,13,11526,0,11121]
[12,11626,13,11645,24,11656,14,11666,24,11677,0,11212]
[12,11775,13,11785,13,11799,23,11812,13,11821,0,11121]
[21,11921,11,11931,22,11940,14,11948,13,11955,0,21211]
[12,12059,24,12073,13,12082,23,12091,13,12101,0,12121]
[12,12223,24,12236,13,12248,14,12249,13,12280,0,12111]
[12,12399,13,12413,24,12425,14,12434,13,12447,0,11211]
[12,12557,24,12582,13,12601,23,12613,13,12624,0,12121]
[21,12727,22,12758,24,12766,14,12776,24,12787,0,22212]
[12,12893,13,12901,24,12926,14,12939,13,12957,0,11211]
[12,13085,24,13104,13,13116,23,13129,13,13141,0,12121]
[21,13269,11,13281,11,13300,21,13313,11,13325,1,21121]
[12,13415,24,13436,13,13447,23,13462,13,13476,0,12121]
[21,13577,11,13591,11,13596,21,13610,11,13623,1,21121]
[12,13718,24,13727,13,13739,23,13752,13,13765,0,12121]
[12,13860,13,13866,13,13872,23,13880,13,13893,0,11121]
[12,14002,13,14007,24,14018,14,14026,24,14039,0,11212]
[12,14137,13,14156,24,14167,14,14178,13,14194,0,11211]
[12,14304,13,14315,24,14326,14,14341,24,14353,0,11212]
[21,14474,11,14482,22,14492,14,14501,24,14510,0,21212]
[12,14618,24,14633,24,14641,14,14649,24,14658,0,12212]
[12,14772,24,14783,13,14796,14,14815,24,14829,0,12112]
[12,14931,13,14945,24,14954,14,14964,24,14979,0,11212]
[12,15091,24,15113,24,15132,14,15145,13,15156,0,12211]
[21,15300,11,15312,22,15322,14,15332,13,15347,0,21211]
[21,15467,11,15476,11,15481,21,15490,11,15498,1,21121]
[12,15588,24,15598,13,15608,23,15616,13,15626,0,12121]
[12,15721,24,15735,13,15744,23,15759,13,15772,0,12121]
[12,15893,24,15906,13,15915,23,15927,13,15938,0,12121]
[12,16042,24,16067,13,16078,23,16087,13,16098,0,12121]
[12,16198,13,16206,24,16215,14,16227,24,16237,0,11212]
[21,16359,11,16374,22,16387,14,16399,13,16413,0,21211]
[12,16518,24,16533,13,16550,23,16563,13,16575,0,12121]
[21,16720,11,16729,11,16743,21,16754,11,16765,1,21121]
[21,16858,22,16862,13,16871,23,16879,13,16891,0,22121]
[12,16998,24,17011,13,17019,23,17031,13,17040,0,12121]
[21,17153,22,17161,13,17204,14,17212,13,17221,0,22111]
[12,17350,24,17364,13,17373,23,17388,13,17399,0,12121]
[12,17497,13,17504,24,17516,14,17527,13,17536,0,11211]
[21,17650,11,17659,22,17674,14,17686,24,17706,0,21212]
[12,17808,13,17814,13,17859,14,17865,24,17897,0,11112]
[12,18027,24,18040,13,18051,14,18066,24,18080,0,12112]
[12,18184,24,18236,13,18247,23,18263,13,18277,0,12121]
[12,18386,13,18399,24,18418,14,18427,24,18439,0,11212]
[21,18562,11,18574,22,18584,14,18593,24,18610,0,21212]
[12,18712,13,18721,13,18728,14,18735,24,18748,0,11112]
[12,18853,13,18862,24,18878,23,18884,13,18898,0,11221]
[12,18996,13,19001,13,19009,23,19018,13,19031,0,11121]
[21,19182,22,19192,13,19201,23,19216,13,19228,0,22121]
[21,19363,22,19372,13,19381,23,19396,13,19406,0,22121]
[12,19577,24,19586,13,19595,23,19604,13,19616,0,12121]
[12,19725,13,19745,24,19753,14,19762,13,19778,0,11211]
[12,19877,13,19895,24,19905,14,19914,13,19932,0,11211]
[21,20045,11,20059,22,20068,23,20088,13,20098,0,21221]
[12,20246,24,20261,13,20270,14,20286,13,20304,0,12111]
[12,20404,13,20419,13,20440,14,20457,24,20470,0,11112]
[12,20604,13,20618,13,20630,14,20651,13,20665,0,11111]
[21,20781,11,20793,22,20814,14,20823,24,20831,0,21212]
[12,20955,24,20968,24,20984,14,20994,24,21012,0,12212]
[12,21146,24,21161,13,21172,14,21192,13,21206,0,12111]
[12,21329,24,21340,13,21349,14,21355,24,21369,0,12112]
[12,21494,24,21516,13,21525,14,21527,24,21542,0,12112]
[12,21676,24,21690,13,21701,14,21715,24,21727,0,12112]
[12,21837,13,21846,24,21855,14,21865,13,21882,0,11211]
[21,22031,11,22050,22,22059,14,22068,24,22076,0,21212]
[12,22189,24,22210,13,22220,14,22233,24,22251,0,12112]
[12,22377,13,22379,13,22394,14,22402,24,22415,0,11112]
[12,22549,13,22576,13,22588,23,22602,13,22612,0,11121]
[12,22750,24,22763,13,22776,14,22799,13,22809,0,12111]
[21,22911,22,22933,24,22938,23,22947,13,22957,0,22221]
[12,23109,24,23141,13,23153,14,23167,13,23183,0,12111]
[12,23316,24,23329,13,23341,23,23360,13,23371,0,12121]
[21,23491,11,23506,22,23517,14,23526,24,23535,0,21212]
[12,23662,13,23684,13,23694,23,23703,13,23714,0,11121]
[12,23834,24,23863,13,23880,14,23893,24,23910,0,12112]

{"sheet":"!N220840.091","index":30,"n_rows":52,"n_cols":48,"rows_kept":52,"cut":false,"hidden":false,"merged":[[4,39,4,42],[5,39,5,40],[4,44,4,47],[5,44,5,45],[4,24,4,27],[5,24,5,25],[4,29,4,32],[5,29,5,30],[4,34,4,37],[5,34,5,35],[1,1,1,2],[5,13,5,14],[42,13,42,14],[43,13,43,14],[4,19,4,22],[5,19,5,20]]}
["Report for:!N220840.091"]
["Date:","<date>"]
["Hen:","<hen>",null,null,null,"Correct Sequence",{"$f":"Start!J2","v":21121},null,null,null,null,null,null,null,null,"Total Sequences in Data",{"$f":"4994-COUNTBLANK(L7:L5000)","v":26},null,null,null,null,"Total Sequences in Block Data",{"$f":"COUNTA(L7:L10)","v":4},null,null,null,"Total Sequences in Block Data",{"$f":"COUNTA(L11:L15)","v":5},null,null,null,"Total Sequences in Block Data",{"$f":"COUNTA(L16:L19)","v":4},null,null,null,"Total Sequences in Block Data",{"$f":"COUNTA(L20:L23)","v":4},null,null,null,"Total Sequences in Block Data",{"$f":"COUNTA(L24:L28)","v":5},null,null,null,"Total Sequences in Block Data",{"$f":"COUNTA(L29:L32)","v":4}]
[null,null,null,null,null,null,null,null,null,null,null,null,null,null,null,"Total Sequences in Summary",{"$f":"SUM(O7:O38)","v":26},null,null,null,null,"Total Sequences in Block Summary",{"$f":"SUM(U7:U38)","v":4},null,null,null,"Total Sequences in Block Summary",{"$f":"SUM(Z7:Z38)","v":5},null,null,null,"Total Sequences in Block Summary",{"$f":"SUM(AE7:AE38)","v":4},null,null,null,"Total Sequences in Block Summary",{"$f":"SUM(AJ7:AJ38)","v":4},null,null,null,"Total Sequences in Block Summary",{"$f":"SUM(AO7:AO38)","v":5},null,null,null,"Total Sequences in Block Summary",{"$f":"SUM(AT7:AT38)","v":4}]
[null,null,null,null,null,null,null,null,null,null,null,null,null,null,null,null,null,null,null,"Block 1",null,null,null,null,"Block 2",null,null,null,null,"Block 3",null,null,null,null,"Block 4",null,null,null,null,"Block 5",null,null,null,null,"Block 6"]
["Sequence\nComponent\n1","Time\n1","Sequence\nComponent\n2","Time\n2","Sequence\nComponent\n3","Time\n3","Sequence\nComponent\n4","Time\n4","Sequence\nComponent\n5","Time\n5","Correct?\n0=No 1=Yes","Sequence",null,"Frequency",null,"Relative Frequency","Variability",null,null,"Frequency",null,"Relative Frequency","Variability",null,"Frequency",null,"Relative Frequency","Variability",null,"Frequency",null,"Relative Frequency","Variability",null,"Frequency",null,"Relative Frequency","Variability",null,"Frequency",null,"Relative Frequency","Variability",null,"Frequency",null,"Relative Frequency","Variability"]
[12,69,13,75,13,81,14,98,13,107,0,11111,null,11111,{"$f":"COUNTIF($L$7:$L$500,N7)","v":8},{"$f":"O7/$Q$4","v":0.30769230769230771},{"$f":"IF(P7=0,0,(P7*((LOG(P7))/LOG(2))))","v":-0.52321222096648989},null,null,{"$f":"N7","v":11111},{"$f":"COUNTIF(L7:L10,T7)","v":1},{"$f":"U7/(W4-U25)","v":0.25},{"$f":"IF(V7=0,0,(V7*((LOG(V7))/LOG(2))))","v":-0.5},null,{"$f":"N7","v":11111},{"$f":"COUNTIF(L11:L15,Y7)","v":1},{"$f":"Z7/(AB4-Z25)","v":0.2},{"$f":"IF(AA7=0,0,(AA7*((LOG(AA7))/LOG(2))))","v":-0.46438561897747244},null,{"$f":"N7","v":11111},{"$f":"COUNTIF(L16:L19,AD7)","v":2},{"$f":"AE7/(AG4-AE25)","v":0.5},{"$f":"IF(AF7=0,0,(AF7*((LOG(AF7))/LOG(2))))","v":-0.5},null,{"$f":"N7","v":11111},{"$f":"COUNTIF(L20:L23,AI7)","v":1},{"$f":"AJ7/(AL4-AJ25)","v":0.25},{"$f":"IF(AK7=0,0,(AK7*((LOG(AK7))/LOG(2))))","v":-0.5},null,{"$f":"N7","v":11111},{"$f":"COUNTIF(L24:L28,AN7)","v":1},{"$f":"AO7/(AQ4-AO25)","v":0.2},{"$f":"IF(AP7=0,0,(AP7*((LOG(AP7))/LOG(2))))","v":-0.46438561897747244},null,{"$f":"N7","v":11111},{"$f":"COUNTIF(L29:L32,AS7)","v":2},{"$f":"AT7/(AV4-AT25)","v":0.5},{"$f":"IF(AU7=0,0,(AU7*((LOG(AU7))/LOG(2))))","v":-0.5}]
[12,210,13,215,24,225,14,234,13,242,0,11211,null,11112,{"$f":"COUNTIF($L$7:$L$500,N8)","v":0},{"$f":"O8/$Q$4","v":0},{"$f":"IF(P8=0,0,(P8*((LOG(P8))/LOG(2))))","v":0},null,null,{"$f":"N8","v":11112},{"$f":"COUNTIF(L7:L10,T8)","v":0},{"$f":"U8/(W4-U25)","v":0},{"$f":"IF(V8=0,0,(V8*((LOG(V8))/LOG(2))))","v":0},null,{"$f":"N8","v":11112},{"$f":"COUNTIF(L11:L15,Y8)","v":0},{"$f":"Z8/(AB4-Z25)","v":0},{"$f":"IF(AA8=0,0,(AA8*((LOG(AA8))/LOG(2))))","v":0},null,{"$f":"N8","v":11112},{"$f":"COUNTIF(L16:L19,AD8)","v":0},{"$f":"AE8/(AG4-AE25)","v":0},{"$f":"IF(AF8=0,0,(AF8*((LOG(AF8))/LOG(2))))","v":0},null,{"$f":"N8","v":11112},{"$f":"COUNTIF(L20:L23,AI8)","v":0},{"$f":"AJ8/(AL4-AJ25)","v":0},{"$f":"IF(AK8=0,0,(AK8*((LOG(AK8))/LOG(2))))","v":0},null,{"$f":"N8","v":11112},{"$f":"COUNTIF(L24:L28,AN8)","v":0},{"$f":"AO8/(AQ4-AO25)","v":0},{"$f":"IF(AP8=0,0,(AP8*((LOG(AP8))/LOG(2))))","v":0},null,{"$f":"N8","v":11112},{"$f":"COUNTIF(L29:L32,AS8)","v":0},{"$f":"AT8/(AV4-AT25)","v":0},{"$f":"IF(AU8=0,0,(AU8*((LOG(AU8))/LOG(2))))","v":0}]
[12,341,13,357,24,364,14,372,13,382,0,11211,null,11121,{"$f":"COUNTIF($L$7:$L$500,N9)","v":5},{"$f":"O9/$Q$4","v":0.19230769230769232},{"$f":"IF(P9=0,0,(P9*((LOG(P9))/LOG(2))))","v":-0.45740608139494804},null,null,{"$f":"N9","v":11121},{"$f":"COUNTIF(L7:L10,T9)","v":0},{"$f":"U9/(W4-U25)","v":0},{"$f":"IF(V9=0,0,(V9*((LOG(V9))/LOG(2))))","v":0},null,{"$f":"N9","v":11121},{"$f":"COUNTIF(L11:L15,Y9)","v":2},{"$f":"Z9/(AB4-Z25)","v":0.4},{"$f":"IF(AA9=0,0,(AA9*((LOG(AA9))/LOG(2))))","v":-0.52877123795494496},null,{"$f":"N9","v":11121},{"$f":"COUNTIF(L16:L19,AD9)","v":0},{"$f":"AE9/(AG4-AE25)","v":0},{"$f":"IF(AF9=0,0,(AF9*((LOG(AF9))/LOG(2))))","v":0},null,{"$f":"N9","v":11121},{"$f":"COUNTIF(L20:L23,AI9)","v":1},{"$f":"AJ9/(AL4-AJ25)","v":0.25},{"$f":"IF(AK9=0,0,(AK9*((LOG(AK9))/LOG(2))))","v":-0.5},null,{"$f":"N9","v":11121},{"$f":"COUNTIF(L24:L28,AN9)","v":2},{"$f":"AO9/(AQ4-AO25)","v":0.4},{"$f":"IF(AP9=0,0,(AP9*((LOG(AP9))/LOG(2))))","v":-0.52877123795494496},null,{"$f":"N9","v":11121},{"$f":"COUNTIF(L29:L32,AS9)","v":0},{"$f":"AT9/(AV4-AT25)","v":0},{"$f":"IF(AU9=0,0,(AU9*((LOG(AU9))/LOG(2))))","v":0}]
[12,489,13,498,24,506,14,515,13,524,0,11211,null,11122,{"$f":"COUNTIF($L$7:$L$500,N10)","v":0},{"$f":"O10/$Q$4","v":0},{"$f":"IF(P10=0,0,(P10*((LOG(P10))/LOG(2))))","v":0},null,null,{"$f":"N10","v":11122},{"$f":"COUNTIF(L7:L10,T10)","v":0},{"$f":"U10/(W4-U25)","v":0},{"$f":"IF(V10=0,0,(V10*((LOG(V10))/LOG(2))))","v":0},null,{"$f":"N10","v":11122},{"$f":"COUNTIF(L11:L15,Y10)","v":0},{"$f":"Z10/(AB4-Z25)","v":0},{"$f":"IF(AA10=0,0,(AA10*((LOG(AA10))/LOG(2))))","v":0},null,{"$f":"N10","v":11122},{"$f":"COUNTIF(L16:L19,AD10)","v":0},{"$f":"AE10/(AG4-AE25)","v":0},{"$f":"IF(AF10=0,0,(AF10*((LOG(AF10))/LOG(2))))","v":0},null,{"$f":"N10","v":11122},{"$f":"COUNTIF(L20:L23,AI10)","v":0},{"$f":"AJ10/(AL4-AJ25)","v":0},{"$f":"IF(AK10=0,0,(AK10*((LOG(AK10))/LOG(2))))","v":0},null,{"$f":"N10","v":11122},{"$f":"COUNTIF(L24:L28,AN10)","v":0},{"$f":"AO10/(AQ4-AO25)","v":0},{"$f":"IF(AP10=0,0,(AP10*((LOG(AP10))/LOG(2))))","v":0},null,{"$f":"N10","v":11122},{"$f":"COUNTIF(L29:L32,AS10)","v":0},{"$f":"AT10/(AV4-AT25)","v":0},{"$f":"IF(AU10=0,0,(AU10*((LOG(AU10))/LOG(2))))","v":0}]
[12,627,13,637,13,641,23,651,13,659,0,11121,null,11211,{"$f":"COUNTIF($L$7:$L$500,N11)","v":3},{"$f":"O11/$Q$4","v":0.11538461538461539},{"$f":"IF(P11=0,0,(P11*((LOG(P11))/LOG(2))))","v":-0.35947814047153104},null,null,{"$f":"N11","v":11211},{"$f":"COUNTIF(L7:L10,T11)","v":3},{"$f":"U11/(W4-U25)","v":0.75},{"$f":"IF(V11=0,0,(V11*((LOG(V11))/LOG(2))))","v":-0.31127812445913283},null,{"$f":"N11","v":11211},{"$f":"COUNTIF(L11:L15,Y11)","v":0},{"$f":"Z11/(AB4-Z25)","v":0},{"$f":"IF(AA11=0,0,(AA11*((LOG(AA11))/LOG(2))))","v":0},null,{"$f":"N11","v":11211},{"$f":"COUNTIF(L16:L19,AD11)","v":0},{"$f":"AE11/(AG4-AE25)","v":0},{"$f":"IF(AF11=0,0,(AF11*((LOG(AF11))/LOG(2))))","v":0},null,{"$f":"N11","v":11211},{"$f":"COUNTIF(L20:L23,AI11)","v":0},{"$f":"AJ11/(AL4-AJ25)","v":0},{"$f":"IF(AK11=0,0,(AK11*((LOG(AK11))/LOG(2))))","v":0},null,{"$f":"N11","v":11211},{"$f":"COUNTIF(L24:L28,AN11)","v":0},{"$f":"AO11/(AQ4-AO25)","v":0},{"$f":"IF(AP11=0,0,(AP11*((LOG(AP11))/LOG(2))))","v":0},null,{"$f":"N11","v":11211},{"$f":"COUNTIF(L29:L32,AS11)","v":0},{"$f":"AT11/(AV4-AT25)","v":0},{"$f":"IF(AU11=0,0,(AU11*((LOG(AU11))/LOG(2))))","v":0}]
[12,827,24,844,13,851,14,864,13,877,0,12111,null,11212,{"$f":"COUNTIF($L$7:$L$500,N12)","v":2},{"$f":"O12/$Q$4","v":7.6923076923076927E-2},{"$f":"IF(P12=0,0,(P12*((LOG(P12))/LOG(2))))","v":-0.28464920908777636},null,null,{"$f":"N12","v":11212},{"$f":"COUNTIF(L7:L10,T12)","v":0},{"$f":"U12/(W4-U25)","v":0},{"$f":"IF(V12=0,0,(V12*((LOG(V12))/LOG(2))))","v":0},null,{"$f":"N12","v":11212},{"$f":"COUNTIF(L11:L15,Y12)","v":1},{"$f":"Z12/(AB4-Z25)","v":0.2},{"$f":"IF(AA12=0,0,(AA12*((LOG(AA12))/LOG(2))))","v":-0.46438561897747244},null,{"$f":"N12","v":11212},{"$f":"COUNTIF(L16:L19,AD12)","v":0},{"$f":"AE12/(AG4-AE25)","v":0},{"$f":"IF(AF12=0,0,(AF12*((LOG(AF12))/LOG(2))))","v":0},null,{"$f":"N12","v":11212},{"$f":"COUNTIF(L20:L23,AI12)","v":0},{"$f":"AJ12/(AL4-AJ25)","v":0},{"$f":"IF(AK12=0,0,(AK12*((LOG(AK12))/LOG(2))))","v":0},null,{"$f":"N12","v":11212},{"$f":"COUNTIF(L24:L28,AN12)","v":1},{"$f":"AO12/(AQ4-AO25)","v":0.2},{"$f":"IF(AP12=0,0,(AP12*((LOG(AP12))/LOG(2))))","v":-0.46438561897747244},null,{"$f":"N12","v":11212},{"$f":"COUNTIF(L29:L32,AS12)","v":0},{"$f":"AT12/(AV4-AT25)","v":0},{"$f":"IF(AU12=0,0,(AU12*((LOG(AU12))/LOG(2))))","v":0}]
[12,1007,13,1016,13,1029,23,1038,13,1047,0,11121,null,11221,{"$f":"COUNTIF($L$7:$L$500,N13)","v":0},{"$f":"O13/$Q$4","v":0},{"$f":"IF(P13=0,0,(P13*((LOG(P13))/LOG(2))))","v":0},null,null,{"$f":"N13","v":11221},{"$f":"COUNTIF(L7:L10,T13)","v":0},{"$f":"U13/(W4-U25)","v":0},{"$f":"IF(V13=0,0,(V13*((LOG(V13))/LOG(2))))","v":0},null,{"$f":"N13","v":11221},{"$f":"COUNTIF(L11:L15,Y13)","v":0},{"$f":"Z13/(AB4-Z25)","v":0},{"$f":"IF(AA13=0,0,(AA13*((LOG(AA13))/LOG(2))))","v":0},null,{"$f":"N13","v":11221},{"$f":"COUNTIF(L16:L19,AD13)","v":0},{"$f":"AE13/(AG4-AE25)","v":0},{"$f":"IF(AF13=0,0,(AF13*((LOG(AF13))/LOG(2))))","v":0},null,{"$f":"N13","v":11221},{"$f":"COUNTIF(L20:L23,AI13)","v":0},{"$f":"AJ13/(AL4-AJ25)","v":0},{"$f":"IF(AK13=0,0,(AK13*((LOG(AK13))/LOG(2))))","v":0},null,{"$f":"N13","v":11221},{"$f":"COUNTIF(L24:L28,AN13)","v":0},{"$f":"AO13/(AQ4-AO25)","v":0},{"$f":"IF(AP13=0,0,(AP13*((LOG(AP13))/LOG(2))))","v":0},null,{"$f":"N13","v":11221},{"$f":"COUNTIF(L29:L32,AS13)","v":0},{"$f":"AT13/(AV4-AT25)","v":0},{"$f":"IF(AU13=0,0,(AU13*((LOG(AU13))/LOG(2))))","v":0}]
[12,1206,13,1215,24,1223,14,1230,24,1247,0,11212,null,11222,{"$f":"COUNTIF($L$7:$L$500,N14)","v":0},{"$f":"O14/$Q$4","v":0},{"$f":"IF(P14=0,0,(P14*((LOG(P14))/LOG(2))))","v":0},null,null,{"$f":"N14","v":11222},{"$f":"COUNTIF(L7:L10,T14)","v":0},{"$f":"U14/(W4-U25)","v":0},{"$f":"IF(V14=0,0,(V14*((LOG(V14))/LOG(2))))","v":0},null,{"$f":"N14","v":11222},{"$f":"COUNTIF(L11:L15,Y14)","v":0},{"$f":"Z14/(AB4-Z25)","v":0},{"$f":"IF(AA14=0,0,(AA14*((LOG(AA14))/LOG(2))))","v":0},null,{"$f":"N14","v":11222},{"$f":"COUNTIF(L16:L19,AD14)","v":0},{"$f":"AE14/(AG4-AE25)","v":0},{"$f":"IF(AF14=0,0,(AF14*((LOG(AF14))/LOG(2))))","v":0},null,{"$f":"N14","v":11222},{"$f":"COUNTIF(L20:L23,AI14)","v":0},{"$f":"AJ14/(AL4-AJ25)","v":0},{"$f":"IF(AK14=0,0,(AK14*((LOG(AK14))/LOG(2))))","v":0},null,{"$f":"N14","v":11222},{"$f":"COUNTIF(L24:L28,AN14)","v":0},{"$f":"AO14/(AQ4-AO25)","v":0},{"$f":"IF(AP14=0,0,(AP14*((LOG(AP14))/LOG(2))))","v":0},null,{"$f":"N14","v":11222},{"$f":"COUNTIF(L29:L32,AS14)","v":0},{"$f":"AT14/(AV4-AT25)","v":0},{"$f":"IF(AU14=0,0,(AU14*((LOG(AU14))/LOG(2))))","v":0}]
[12,1533,13,1541,13,1556,14,1570,13,1583,0,11111,null,12111,{"$f":"COUNTIF($L$7:$L$500,N15)","v":2},{"$f":"O15/$Q$4","v":7.6923076923076927E-2},{"$f":"IF(P15=0,0,(P15*((LOG(P15))/LOG(2))))","v":-0.28464920908777636},null,null,{"$f":"N15","v":12111},{"$f":"COUNTIF(L7:L10,T15)","v":0},{"$f":"U15/(W4-U25)","v":0},{"$f":"IF(V15=0,0,(V15*((LOG(V15))/LOG(2))))","v":0},null,{"$f":"N15","v":12111},{"$f":"COUNTIF(L11:L15,Y15)","v":1},{"$f":"Z15/(AB4-Z25)","v":0.2},{"$f":"IF(AA15=0,0,(AA15*((LOG(AA15))/LOG(2))))","v":-0.46438561897747244},null,{"$f":"N15","v":12111},{"$f":"COUNTIF(L16:L19,AD15)","v":0},{"$f":"AE15/(AG4-AE25)","v":0},{"$f":"IF(AF15=0,0,(AF15*((LOG(AF15))/LOG(2))))","v":0},null,{"$f":"N15","v":12111},{"$f":"COUNTIF(L20:L23,AI15)","v":1},{"$f":"AJ15/(AL4-AJ25)","v":0.25},{"$f":"IF(AK15=0,0,(AK15*((LOG(AK15))/LOG(2))))","v":-0.5},null,{"$f":"N15","v":12111},{"$f":"COUNTIF(L24:L28,AN15)","v":0},{"$f":"AO15/(AQ4-AO25)","v":0},{"$f":"IF(AP15=0,0,(AP15*((LOG(AP15))/LOG(2))))","v":0},null,{"$f":"N15","v":12111},{"$f":"COUNTIF(L29:L32,AS15)","v":0},{"$f":"AT15/(AV4-AT25)","v":0},{"$f":"IF(AU15=0,0,(AU15*((LOG(AU15))/LOG(2))))","v":0}]
[21,2027,11,2037,11,2046,12,2054,24,2065,0,21112,null,12112,{"$f":"COUNTIF($L$7:$L$500,N16)","v":0},{"$f":"O16/$Q$4","v":0},{"$f":"IF(P16=0,0,(P16*((LOG(P16))/LOG(2))))","v":0},null,null,{"$f":"N16","v":12112},{"$f":"COUNTIF(L7:L10,T16)","v":0},{"$f":"U16/(W4-U25)","v":0},{"$f":"IF(V16=0,0,(V16*((LOG(V16))/LOG(2))))","v":0},null,{"$f":"N16","v":12112},{"$f":"COUNTIF(L11:L15,Y16)","v":0},{"$f":"Z16/(AB4-Z25)","v":0},{"$f":"IF(AA16=0,0,(AA16*((LOG(AA16))/LOG(2))))","v":0},null,{"$f":"N16","v":12112},{"$f":"COUNTIF(L16:L19,AD16)","v":0},{"$f":"AE16/(AG4-AE25)","v":0},{"$f":"IF(AF16=0,0,(AF16*((LOG(AF16))/LOG(2))))","v":0},null,{"$f":"N16","v":12112},{"$f":"COUNTIF(L20:L23,AI16)","v":0},{"$f":"AJ16/(AL4-AJ25)","v":0},{"$f":"IF(AK16=0,0,(AK16*((LOG(AK16))/LOG(2))))","v":0},null,{"$f":"N16","v":12112},{"$f":"COUNTIF(L24:L28,AN16)","v":0},{"$f":"AO16/(AQ4-AO25)","v":0},{"$f":"IF(AP16=0,0,(AP16*((LOG(AP16))/LOG(2))))","v":0},null,{"$f":"N16","v":12112},{"$f":"COUNTIF(L29:L32,AS16)","v":0},{"$f":"AT16/(AV4-AT25)","v":0},{"$f":"IF(AU16=0,0,(AU16*((LOG(AU16))/LOG(2))))","v":0}]
[12,2283,13,2289,13,2304,14,2329,13,2338,0,11111,null,12121,{"$f":"COUNTIF($L$7:$L$500,N17)","v":1},{"$f":"O17/$Q$4","v":3.8461538461538464E-2},{"$f":"IF(P17=0,0,(P17*((LOG(P17))/LOG(2))))","v":-0.18078614300542661},null,null,{"$f":"N17","v":12121},{"$f":"COUNTIF(L7:L10,T17)","v":0},{"$f":"U17/(W4-U25)","v":0},{"$f":"IF(V17=0,0,(V17*((LOG(V17))/LOG(2))))","v":0},null,{"$f":"N17","v":12121},{"$f":"COUNTIF(L11:L15,Y17)","v":0},{"$f":"Z17/(AB4-Z25)","v":0},{"$f":"IF(AA17=0,0,(AA17*((LOG(AA17))/LOG(2))))","v":0},null,{"$f":"N17","v":12121},{"$f":"COUNTIF(L16:L19,AD17)","v":0},{"$f":"AE17/(AG4-AE25)","v":0},{"$f":"IF(AF17=0,0,(AF17*((LOG(AF17))/LOG(2))))","v":0},null,{"$f":"N17","v":12121},{"$f":"COUNTIF(L20:L23,AI17)","v":0},{"$f":"AJ17/(AL4-AJ25)","v":0},{"$f":"IF(AK17=0,0,(AK17*((LOG(AK17))/LOG(2))))","v":0},null,{"$f":"N17","v":12121},{"$f":"COUNTIF(L24:L28,AN17)","v":0},{"$f":"AO17/(AQ4-AO25)","v":0},{"$f":"IF(AP17=0,0,(AP17*((LOG(AP17))/LOG(2))))","v":0},null,{"$f":"N17","v":12121},{"$f":"COUNTIF(L29:L32,AS17)","v":1},{"$f":"AT17/(AV4-AT25)","v":0.25},{"$f":"IF(AU17=0,0,(AU17*((LOG(AU17))/LOG(2))))","v":-0.5}]
[21,2463,22,2468,13,2476,14,2484,13,2489,0,22111,null,12122,{"$f":"COUNTIF($L$7:$L$500,N18)","v":0},{"$f":"O18/$Q$4","v":0},{"$f":"IF(P18=0,0,(P18*((LOG(P18))/LOG(2))))","v":0},null,null,{"$f":"N18","v":12122},{"$f":"COUNTIF(L7:L10,T18)","v":0},{"$f":"U18/(W4-U25)","v":0},{"$f":"IF(V18=0,0,(V18*((LOG(V18))/LOG(2))))","v":0},null,{"$f":"N18","v":12122},{"$f":"COUNTIF(L11:L15,Y18)","v":0},{"$f":"Z18/(AB4-Z25)","v":0},{"$f":"IF(AA18=0,0,(AA18*((LOG(AA18))/LOG(2))))","v":0},null,{"$f":"N18","v":12122},{"$f":"COUNTIF(L16:L19,AD18)","v":0},{"$f":"AE18/(AG4-AE25)","v":0},{"$f":"IF(AF18=0,0,(AF18*((LOG(AF18))/LOG(2))))","v":0},null,{"$f":"N18","v":12122},{"$f":"COUNTIF(L20:L23,AI18)","v":0},{"$f":"AJ18/(AL4-AJ25)","v":0},{"$f":"IF(AK18=0,0,(AK18*((LOG(AK18))/LOG(2))))","v":0},null,{"$f":"N18","v":12122},{"$f":"COUNTIF(L24:L28,AN18)","v":0},{"$f":"AO18/(AQ4-AO25)","v":0},{"$f":"IF(AP18=0,0,(AP18*((LOG(AP18))/LOG(2))))","v":0},null,{"$f":"N18","v":12122},{"$f":"COUNTIF(L29:L32,AS18)","v":0},{"$f":"AT18/(AV4-AT25)","v":0},{"$f":"IF(AU18=0,0,(AU18*((LOG(AU18))/LOG(2))))","v":0}]
[12,2642,13,2651,13,2666,14,2681,13,2693,0,11111,null,12211,{"$f":"COUNTIF($L$7:$L$500,N19)","v":0},{"$f":"O19/$Q$4","v":0},{"$f":"IF(P19=0,0,(P19*((LOG(P19))/LOG(2))))","v":0},null,null,{"$f":"N19","v":12211},{"$f":"COUNTIF(L7:L10,T19)","v":0},{"$f":"U19/(W4-U25)","v":0},{"$f":"IF(V19=0,0,(V19*((LOG(V19))/LOG(2))))","v":0},null,{"$f":"N19","v":12211},{"$f":"COUNTIF(L11:L15,Y19)","v":0},{"$f":"Z19/(AB4-Z25)","v":0},{"$f":"IF(AA19=0,0,(AA19*((LOG(AA19))/LOG(2))))","v":0},null,{"$f":"N19","v":12211},{"$f":"COUNTIF(L16:L19,AD19)","v":0},{"$f":"AE19/(AG4-AE25)","v":0},{"$f":"IF(AF19=0,0,(AF19*((LOG(AF19))/LOG(2))))","v":0},null,{"$f":"N19","v":12211},{"$f":"COUNTIF(L20:L23,AI19)","v":0},{"$f":"AJ19/(AL4-AJ25)","v":0},{"$f":"IF(AK19=0,0,(AK19*((LOG(AK19))/LOG(2))))","v":0},null,{"$f":"N19","v":12211},{"$f":"COUNTIF(L24:L28,AN19)","v":0},{"$f":"AO19/(AQ4-AO25)","v":0},{"$f":"IF(AP19=0,0,(AP19*((LOG(AP19))/LOG(2))))","v":0},null,{"$f":"N19","v":12211},{"$f":"COUNTIF(L29:L32,AS19)","v":0},{"$f":"AT19/(AV4-AT25)","v":0},{"$f":"IF(AU19=0,0,(AU19*((LOG(AU19))/LOG(2))))","v":0}]
[21,2856,11,2868,11,2877,12,2893,13,2902,0,21111,null,12212,{"$f":"COUNTIF($L$7:$L$500,N20)","v":0},{"$f":"O20/$Q$4","v":0},{"$f":"IF(P20=0,0,(P20*((LOG(P20))/LOG(2))))","v":0},null,null,{"$f":"N20","v":12212},{"$f":"COUNTIF(L7:L10,T20)","v":0},{"$f":"U20/(W4-U25)","v":0},{"$f":"IF(V20=0,0,(V20*((LOG(V20))/LOG(2))))","v":0},null,{"$f":"N20","v":12212},{"$f":"COUNTIF(L11:L15,Y20)","v":0},{"$f":"Z20/(AB4-Z25)","v":0},{"$f":"IF(AA20=0,0,(AA20*((LOG(AA20))/LOG(2))))","v":0},null,{"$f":"N20","v":12212},{"$f":"COUNTIF(L16:L19,AD20)","v":0},{"$f":"AE20/(AG4-AE25)","v":0},{"$f":"IF(AF20=0,0,(AF20*((LOG(AF20))/LOG(2))))","v":0},null,{"$f":"N20","v":12212},{"$f":"COUNTIF(L20:L23,AI20)","v":0},{"$f":"AJ20/(AL4-AJ25)","v":0},{"$f":"IF(AK20=0,0,(AK20*((LOG(AK20))/LOG(2))))","v":0},null,{"$f":"N20","v":12212},{"$f":"COUNTIF(L24:L28,AN20)","v":0},{"$f":"AO20/(AQ4-AO25)","v":0},{"$f":"IF(AP20=0,0,(AP20*((LOG(AP20))/LOG(2))))","v":0},null,{"$f":"N20","v":12212},{"$f":"COUNTIF(L29:L32,AS20)","v":0},{"$f":"AT20/(AV4-AT25)","v":0},{"$f":"IF(AU20=0,0,(AU20*((LOG(AU20))/LOG(2))))","v":0}]
[12,3252,13,3259,13,3264,14,3268,13,3277,0,11111,null,12221,{"$f":"COUNTIF($L$7:$L$500,N21)","v":0},{"$f":"O21/$Q$4","v":0},{"$f":"IF(P21=0,0,(P21*((LOG(P21))/LOG(2))))","v":0},null,null,{"$f":"N21","v":12221},{"$f":"COUNTIF(L7:L10,T21)","v":0},{"$f":"U21/(W4-U25)","v":0},{"$f":"IF(V21=0,0,(V21*((LOG(V21))/LOG(2))))","v":0},null,{"$f":"N21","v":12221},{"$f":"COUNTIF(L11:L15,Y21)","v":0},{"$f":"Z21/(AB4-Z25)","v":0},{"$f":"IF(AA21=0,0,(AA21*((LOG(AA21))/LOG(2))))","v":0},null,{"$f":"N21","v":12221},{"$f":"COUNTIF(L16:L19,AD21)","v":0},{"$f":"AE21/(AG4-AE25)","v":0},{"$f":"IF(AF21=0,0,(AF21*((LOG(AF21))/LOG(2))))","v":0},null,{"$f":"N21","v":12221},{"$f":"COUNTIF(L20:L23,AI21)","v":0},{"$f":"AJ21/(AL4-AJ25)","v":0},{"$f":"IF(AK21=0,0,(AK21*((LOG(AK21))/LOG(2))))","v":0},null,{"$f":"N21","v":12221},{"$f":"COUNTIF(L24:L28,AN21)","v":0},{"$f":"AO21/(AQ4-AO25)","v":0},{"$f":"IF(AP21=0,0,(AP21*((LOG(AP21))/LOG(2))))","v":0},null,{"$f":"N21","v":12221},{"$f":"COUNTIF(L29:L32,AS21)","v":0},{"$f":"AT21/(AV4-AT25)","v":0},{"$f":"IF(AU21=0,0,(AU21*((LOG(AU21))/LOG(2))))","v":0}]
[12,3571,13,3575,13,3581,23,3591,13,3603,0,11121,null,12222,{"$f":"COUNTIF($L$7:$L$500,N22)","v":0},{"$f":"O22/$Q$4","v":0},{"$f":"IF(P22=0,0,(P22*((LOG(P22))/LOG(2))))","v":0},null,null,{"$f":"N22","v":12222},{"$f":"COUNTIF(L7:L10,T22)","v":0},{"$f":"U22/(W4-U25)","v":0},{"$f":"IF(V22=0,0,(V22*((LOG(V22))/LOG(2))))","v":0},null,{"$f":"N22","v":12222},{"$f":"COUNTIF(L11:L15,Y22)","v":0},{"$f":"Z22/(AB4-Z25)","v":0},{"$f":"IF(AA22=0,0,(AA22*((LOG(AA22))/LOG(2))))","v":0},null,{"$f":"N22","v":12222},{"$f":"COUNTIF(L16:L19,AD22)","v":0},{"$f":"AE22/(AG4-AE25)","v":0},{"$f":"IF(AF22=0,0,(AF22*((LOG(AF22))/LOG(2))))","v":0},null,{"$f":"N22","v":12222},{"$f":"COUNTIF(L20:L23,AI22)","v":0},{"$f":"AJ22/(AL4-AJ25)","v":0},{"$f":"IF(AK22=0,0,(AK22*((LOG(AK22))/LOG(2))))","v":0},null,{"$f":"N22","v":12222},{"$f":"COUNTIF(L24:L28,AN22)","v":0},{"$f":"AO22/(AQ4-AO25)","v":0},{"$f":"IF(AP22=0,0,(AP22*((LOG(AP22))/LOG(2))))","v":0},null,{"$f":"N22","v":12222},{"$f":"COUNTIF(L29:L32,AS22)","v":0},{"$f":"AT22/(AV4-AT25)","v":0},{"$f":"IF(AU22=0,0,(AU22*((LOG(AU22))/LOG(2))))","v":0}]
[12,3933,24,3948,13,3957,14,3971,13,3986,0,12111,null,21111,{"$f":"COUNTIF($L$7:$L$500,N23)","v":2},{"$f":"O23/$Q$4","v":7.6923076923076927E-2},{"$f":"IF(P23=0,0,(P23*((LOG(P23))/LOG(2))))","v":-0.28464920908777636},null,null,{"$f":"N23","v":21111},{"$f":"COUNTIF(L7:L10,T23)","v":0},{"$f":"U23/(W4-U25)","v":0},{"$f":"IF(V23=0,0,(V23*((LOG(V23))/LOG(2))))","v":0},null,{"$f":"N23","v":21111},{"$f":"COUNTIF(L11:L15,Y23)","v":0},{"$f":"Z23/(AB4-Z25)","v":0},{"$f":"IF(AA23=0,0,(AA23*((LOG(AA23))/LOG(2))))","v":0},null,{"$f":"N23","v":21111},{"$f":"COUNTIF(L16:L19,AD23)","v":0},{"$f":"AE23/(AG4-AE25)","v":0},{"$f":"IF(AF23=0,0,(AF23*((LOG(AF23))/LOG(2))))","v":0},null,{"$f":"N23","v":21111},{"$f":"COUNTIF(L20:L23,AI23)","v":1},{"$f":"AJ23/(AL4-AJ25)","v":0.25},{"$f":"IF(AK23=0,0,(AK23*((LOG(AK23))/LOG(2))))","v":-0.5},null,{"$f":"N23","v":21111},{"$f":"COUNTIF(L24:L28,AN23)","v":0},{"$f":"AO23/(AQ4-AO25)","v":0},{"$f":"IF(AP23=0,0,(AP23*((LOG(AP23))/LOG(2))))","v":0},null,{"$f":"N23","v":21111},{"$f":"COUNTIF(L29:L32,AS23)","v":1},{"$f":"AT23/(AV4-AT25)","v":0.25},{"$f":"IF(AU23=0,0,(AU23*((LOG(AU23))/LOG(2))))","v":-0.5}]
[21,4592,22,4599,13,4613,14,4619,24,4631,0,22112,null,21112,{"$f":"COUNTIF($L$7:$L$500,N24)","v":1},{"$f":"O24/$Q$4","v":3.8461538461538464E-2},{"$f":"IF(P24=0,0,(P24*((LOG(P24))/LOG(2))))","v":-0.18078614300542661},null,null,{"$f":"N24","v":21112},{"$f":"COUNTIF(L7:L10,T24)","v":0},{"$f":"U24/(W4-U25)","v":0},{"$f":"IF(V24=0,0,(V24*((LOG(V24))/LOG(2))))","v":0},null,{"$f":"N24","v":21112},{"$f":"COUNTIF(L11:L15,Y24)","v":0},{"$f":"Z24/(AB4-Z25)","v":0},{"$f":"IF(AA24=0,0,(AA24*((LOG(AA24))/LOG(2))))","v":0},null,{"$f":"N24","v":21112},{"$f":"COUNTIF(L16:L19,AD24)","v":1},{"$f":"AE24/(AG4-AE25)","v":0.25},{"$f":"IF(AF24=0,0,(AF24*((LOG(AF24))/LOG(2))))","v":-0.5},null,{"$f":"N24","v":21112},{"$f":"COUNTIF(L20:L23,AI24)","v":0},{"$f":"AJ24/(AL4-AJ25)","v":0},{"$f":"IF(AK24=0,0,(AK24*((LOG(AK24))/LOG(2))))","v":0},null,{"$f":"N24","v":21112},{"$f":"COUNTIF(L24:L28,AN24)","v":0},{"$f":"AO24/(AQ4-AO25)","v":0},{"$f":"IF(AP24=0,0,(AP24*((LOG(AP24))/LOG(2))))","v":0},null,{"$f":"N24","v":21112},{"$f":"COUNTIF(L29:L32,AS24)","v":0},{"$f":"AT24/(AV4-AT25)","v":0},{"$f":"IF(AU24=0,0,(AU24*((LOG(AU24))/LOG(2))))","v":0}]
[12,5584,13,5589,13,5606,14,5622,13,5636,0,11111,null,21121,{"$f":"COUNTIF($L$7:$L$500,N25)","v":0},{"$f":"O25/$Q$4","v":0},{"$f":"IF(P25=0,0,(P25*((LOG(P25))/LOG(2))))","v":0},null,null,{"$f":"N25","v":21121},{"$f":"COUNTIF(L7:L10,T25)","v":0},null,null,null,{"$f":"N25","v":21121},{"$f":"COUNTIF(L11:L15,Y25)","v":0},null,null,null,{"$f":"N25","v":21121},{"$f":"COUNTIF(L16:L19,AD25)","v":0},null,null,null,{"$f":"N25","v":21121},{"$f":"COUNTIF(L20:L23,AI25)","v":0},null,null,null,{"$f":"N25","v":21121},{"$f":"COUNTIF(L24:L28,AN25)","v":0},null,null,null,{"$f":"N25","v":21121},{"$f":"COUNTIF(L29:L32,AS25)","v":0}]
[12,5972,13,5977,13,5983,23,5995,13,6005,0,11121,null,21122,{"$f":"COUNTIF($L$7:$L$500,N26)","v":0},{"$f":"O26/$Q$4","v":0},{"$f":"IF(P26=0,0,(P26*((LOG(P26))/LOG(2))))","v":0},null,null,{"$f":"N26","v":21122},{"$f":"COUNTIF(L7:L10,T26)","v":0},{"$f":"U26/(W4-U25)","v":0},{"$f":"IF(V26=0,0,(V26*((LOG(V26))/LOG(2))))","v":0},null,{"$f":"N26","v":21122},{"$f":"COUNTIF(L11:L15,Y26)","v":0},{"$f":"Z26/(AB4-Z25)","v":0},{"$f":"IF(AA26=0,0,(AA26*((LOG(AA26))/LOG(2))))","v":0},null,{"$f":"N26","v":21122},{"$f":"COUNTIF(L16:L19,AD26)","v":0},{"$f":"AE26/(AG4-AE25)","v":0},{"$f":"IF(AF26=0,0,(AF26*((LOG(AF26))/LOG(2))))","v":0},null,{"$f":"N26","v":21122},{"$f":"COUNTIF(L20:L23,AI26)","v":0},{"$f":"AJ26/(AL4-AJ25)","v":0},{"$f":"IF(AK26=0,0,(AK26*((LOG(AK26))/LOG(2))))","v":0},null,{"$f":"N26","v":21122},{"$f":"COUNTIF(L24:L28,AN26)","v":0},{"$f":"AO26/(AQ4-AO25)","v":0},{"$f":"IF(AP26=0,0,(AP26*((LOG(AP26))/LOG(2))))","v":0},null,{"$f":"N26","v":21122},{"$f":"COUNTIF(L29:L32,AS26)","v":0},{"$f":"AT26/(AV4-AT25)","v":0},{"$f":"IF(AU26=0,0,(AU26*((LOG(AU26))/LOG(2))))","v":0}]
[12,6347,13,6352,24,6362,14,6371,24,6383,0,11212,null,21211,{"$f":"COUNTIF($L$7:$L$500,N27)","v":0},{"$f":"O27/$Q$4","v":0},{"$f":"IF(P27=0,0,(P27*((LOG(P27))/LOG(2))))","v":0},null,null,{"$f":"N27","v":21211},{"$f":"COUNTIF(L7:L10,T27)","v":0},{"$f":"U27/(W4-U25)","v":0},{"$f":"IF(V27=0,0,(V27*((LOG(V27))/LOG(2))))","v":0},null,{"$f":"N27","v":21211},{"$f":"COUNTIF(L11:L15,Y27)","v":0},{"$f":"Z27/(AB4-Z25)","v":0},{"$f":"IF(AA27=0,0,(AA27*((LOG(AA27))/LOG(2))))","v":0},null,{"$f":"N27","v":21211},{"$f":"COUNTIF(L16:L19,AD27)","v":0},{"$f":"AE27/(AG4-AE25)","v":0},{"$f":"IF(AF27=0,0,(AF27*((LOG(AF27))/LOG(2))))","v":0},null,{"$f":"N27","v":21211},{"$f":"COUNTIF(L20:L23,AI27)","v":0},{"$f":"AJ27/(AL4-AJ25)","v":0},{"$f":"IF(AK27=0,0,(AK27*((LOG(AK27))/LOG(2))))","v":0},null,{"$f":"N27","v":21211},{"$f":"COUNTIF(L24:L28,AN27)","v":0},{"$f":"AO27/(AQ4-AO25)","v":0},{"$f":"IF(AP27=0,0,(AP27*((LOG(AP27))/LOG(2))))","v":0},null,{"$f":"N27","v":21211},{"$f":"COUNTIF(L29:L32,AS27)","v":0},{"$f":"AT27/(AV4-AT25)","v":0},{"$f":"IF(AU27=0,0,(AU27*((LOG(AU27))/LOG(2))))","v":0}]
[12,7963,13,7978,13,7988,23,7997,13,8006,0,11121,null,21212,{"$f":"COUNTIF($L$7:$L$500,N28)","v":0},{"$f":"O28/$Q$4","v":0},{"$f":"IF(P28=0,0,(P28*((LOG(P28))/LOG(2))))","v":0},null,null,{"$f":"N28","v":21212},{"$f":"COUNTIF(L7:L10,T28)","v":0},{"$f":"U28/(W4-U25)","v":0},{"$f":"IF(V28=0,0,(V28*((LOG(V28))/LOG(2))))","v":0},null,{"$f":"N28","v":21212},{"$f":"COUNTIF(L11:L15,Y28)","v":0},{"$f":"Z28/(AB4-Z25)","v":0},{"$f":"IF(AA28=0,0,(AA28*((LOG(AA28))/LOG(2))))","v":0},null,{"$f":"N28","v":21212},{"$f":"COUNTIF(L16:L19,AD28)","v":0},{"$f":"AE28/(AG4-AE25)","v":0},{"$f":"IF(AF28=0,0,(AF28*((LOG(AF28))/LOG(2))))","v":0},null,{"$f":"N28","v":21212},{"$f":"COUNTIF(L20:L23,AI28)","v":0},{"$f":"AJ28/(AL4-AJ25)","v":0},{"$f":"IF(AK28=0,0,(AK28*((LOG(AK28))/LOG(2))))","v":0},null,{"$f":"N28","v":21212},{"$f":"COUNTIF(L24:L28,AN28)","v":0},{"$f":"AO28/(AQ4-AO25)","v":0},{"$f":"IF(AP28=0,0,(AP28*((LOG(AP28))/LOG(2))))","v":0},null,{"$f":"N28","v":21212},{"$f":"COUNTIF(L29:L32,AS28)","v":0},{"$f":"AT28/(AV4-AT25)","v":0},{"$f":"IF(AU28=0,0,(AU28*((LOG(AU28))/LOG(2))))","v":0}]
[21,20380,11,20398,11,20424,12,20446,13,20465,0,21111,null,21221,{"$f":"COUNTIF($L$7:$L$500,N29)","v":0},{"$f":"O29/$Q$4","v":0},{"$f":"IF(P29=0,0,(P29*((LOG(P29))/LOG(2))))","v":0},null,null,{"$f":"N29","v":21221},{"$f":"COUNTIF(L7:L10,T29)","v":0},{"$f":"U29/(W4-U25)","v":0},{"$f":"IF(V29=0,0,(V29*((LOG(V29))/LOG(2))))","v":0},null,{"$f":"N29","v":21221},{"$f":"COUNTIF(L11:L15,Y29)","v":0},{"$f":"Z29/(AB4-Z25)","v":0},{"$f":"IF(AA29=0,0,(AA29*((LOG(AA29))/LOG(2))))","v":0},null,{"$f":"N29","v":21221},{"$f":"COUNTIF(L16:L19,AD29)","v":0},{"$f":"AE29/(AG4-AE25)","v":0},{"$f":"IF(AF29=0,0,(AF29*((LOG(AF29))/LOG(2))))","v":0},null,{"$f":"N29","v":21221},{"$f":"COUNTIF(L20:L23,AI29)","v":0},{"$f":"AJ29/(AL4-AJ25)","v":0},{"$f":"IF(AK29=0,0,(AK29*((LOG(AK29))/LOG(2))))","v":0},null,{"$f":"N29","v":21221},{"$f":"COUNTIF(L24:L28,AN29)","v":0},{"$f":"AO29/(AQ4-AO25)","v":0},{"$f":"IF(AP29=0,0,(AP29*((LOG(AP29))/LOG(2))))","v":0},null,{"$f":"N29","v":21221},{"$f":"COUNTIF(L29:L32,AS29)","v":0},{"$f":"AT29/(AV4-AT25)","v":0},{"$f":"IF(AU29=0,0,(AU29*((LOG(AU29))/LOG(2))))","v":0}]
[12,20631,24,20648,13,20659,23,20673,13,20685,0,12121,null,21222,{"$f":"COUNTIF($L$7:$L$500,N30)","v":0},{"$f":"O30/$Q$4","v":0},{"$f":"IF(P30=0,0,(P30*((LOG(P30))/LOG(2))))","v":0},null,null,{"$f":"N30","v":21222},{"$f":"COUNTIF(L7:L10,T30)","v":0},{"$f":"U30/(W4-U25)","v":0},{"$f":"IF(V30=0,0,(V30*((LOG(V30))/LOG(2))))","v":0},null,{"$f":"N30","v":21222},{"$f":"COUNTIF(L11:L15,Y30)","v":0},{"$f":"Z30/(AB4-Z25)","v":0},{"$f":"IF(AA30=0,0,(AA30*((LOG(AA30))/LOG(2))))","v":0},null,{"$f":"N30","v":21222},{"$f":"COUNTIF(L16:L19,AD30)","v":0},{"$f":"AE30/(AG4-AE25)","v":0},{"$f":"IF(AF30=0,0,(AF30*((LOG(AF30))/LOG(2))))","v":0},null,{"$f":"N30","v":21222},{"$f":"COUNTIF(L20:L23,AI30)","v":0},{"$f":"AJ30/(AL4-AJ25)","v":0},{"$f":"IF(AK30=0,0,(AK30*((LOG(AK30))/LOG(2))))","v":0},null,{"$f":"N30","v":21222},{"$f":"COUNTIF(L24:L28,AN30)","v":0},{"$f":"AO30/(AQ4-AO25)","v":0},{"$f":"IF(AP30=0,0,(AP30*((LOG(AP30))/LOG(2))))","v":0},null,{"$f":"N30","v":21222},{"$f":"COUNTIF(L29:L32,AS30)","v":0},{"$f":"AT30/(AV4-AT25)","v":0},{"$f":"IF(AU30=0,0,(AU30*((LOG(AU30))/LOG(2))))","v":0}]
[12,20817,13,20821,13,20828,14,20845,13,20864,0,11111,null,22111,{"$f":"COUNTIF($L$7:$L$500,N31)","v":1},{"$f":"O31/$Q$4","v":3.8461538461538464E-2},{"$f":"IF(P31=0,0,(P31*((LOG(P31))/LOG(2))))","v":-0.18078614300542661},null,null,{"$f":"N31","v":22111},{"$f":"COUNTIF(L7:L10,T31)","v":0},{"$f":"U31/(W4-U25)","v":0},{"$f":"IF(V31=0,0,(V31*((LOG(V31))/LOG(2))))","v":0},null,{"$f":"N31","v":22111},{"$f":"COUNTIF(L11:L15,Y31)","v":0},{"$f":"Z31/(AB4-Z25)","v":0},{"$f":"IF(AA31=0,0,(AA31*((LOG(AA31))/LOG(2))))","v":0},null,{"$f":"N31","v":22111},{"$f":"COUNTIF(L16:L19,AD31)","v":1},{"$f":"AE31/(AG4-AE25)","v":0.25},{"$f":"IF(AF31=0,0,(AF31*((LOG(AF31))/LOG(2))))","v":-0.5},null,{"$f":"N31","v":22111},{"$f":"COUNTIF(L20:L23,AI31)","v":0},{"$f":"AJ31/(AL4-AJ25)","v":0},{"$f":"IF(AK31=0,0,(AK31*((LOG(AK31))/LOG(2))))","v":0},null,{"$f":"N31","v":22111},{"$f":"COUNTIF(L24:L28,AN31)","v":0},{"$f":"AO31/(AQ4-AO25)","v":0},{"$f":"IF(AP31=0,0,(AP31*((LOG(AP31))/LOG(2))))","v":0},null,{"$f":"N31","v":22111},{"$f":"COUNTIF(L29:L32,AS31)","v":0},{"$f":"AT31/(AV4-AT25)","v":0},{"$f":"IF(AU31=0,0,(AU31*((LOG(AU31))/LOG(2))))","v":0}]
[12,23859,13,23875,13,23894,14,23910,13,23934,null,11111,null,22112,{"$f":"COUNTIF($L$7:$L$500,N32)","v":1},{"$f":"O32/$Q$4","v":3.8461538461538464E-2},{"$f":"IF(P32=0,0,(P32*((LOG(P32))/LOG(2))))","v":-0.18078614300542661},null,null,{"$f":"N32","v":22112},{"$f":"COUNTIF(L7:L10,T32)","v":0},{"$f":"U32/(W4-U25)","v":0},{"$f":"IF(V32=0,0,(V32*((LOG(V32))/LOG(2))))","v":0},null,{"$f":"N32","v":22112},{"$f":"COUNTIF(L11:L15,Y32)","v":0},{"$f":"Z32/(AB4-Z25)","v":0},{"$f":"IF(AA32=0,0,(AA32*((LOG(AA32))/LOG(2))))","v":0},null,{"$f":"N32","v":22112},{"$f":"COUNTIF(L16:L19,AD32)","v":0},{"$f":"AE32/(AG4-AE25)","v":0},{"$f":"IF(AF32=0,0,(AF32*((LOG(AF32))/LOG(2))))","v":0},null,{"$f":"N32","v":22112},{"$f":"COUNTIF(L20:L23,AI32)","v":0},{"$f":"AJ32/(AL4-AJ25)","v":0},{"$f":"IF(AK32=0,0,(AK32*((LOG(AK32))/LOG(2))))","v":0},null,{"$f":"N32","v":22112},{"$f":"COUNTIF(L24:L28,AN32)","v":1},{"$f":"AO32/(AQ4-AO25)","v":0.2},{"$f":"IF(AP32=0,0,(AP32*((LOG(AP32))/LOG(2))))","v":-0.46438561897747244},null,{"$f":"N32","v":22112},{"$f":"COUNTIF(L29:L32,AS32)","v":0},{"$f":"AT32/(AV4-AT25)","v":0},{"$f":"IF(AU32=0,0,(AU32*((LOG(AU32))/LOG(2))))","v":0}]
[null,null,null,null,null,null,null,null,null,null,null,null,null,22121,{"$f":"COUNTIF($L$7:$L$500,N33)","v":0},{"$f":"O33/$Q$4","v":0},{"$f":"IF(P33=0,0,(P33*((LOG(P33))/LOG(2))))","v":0},null,null,{"$f":"N33","v":22121},{"$f":"COUNTIF(L7:L10,T33)","v":0},{"$f":"U33/(W4-U25)","v":0},{"$f":"IF(V33=0,0,(V33*((LOG(V33))/LOG(2))))","v":0},null,{"$f":"N33","v":22121},{"$f":"COUNTIF(L11:L15,Y33)","v":0},{"$f":"Z33/(AB4-Z25)","v":0},{"$f":"IF(AA33=0,0,(AA33*((LOG(AA33))/LOG(2))))","v":0},null,{"$f":"N33","v":22121},{"$f":"COUNTIF(L16:L19,AD33)","v":0},{"$f":"AE33/(AG4-AE25)","v":0},{"$f":"IF(AF33=0,0,(AF33*((LOG(AF33))/LOG(2))))","v":0},null,{"$f":"N33","v":22121},{"$f":"COUNTIF(L20:L23,AI33)","v":0},{"$f":"AJ33/(AL4-AJ25)","v":0},{"$f":"IF(AK33=0,0,(AK33*((LOG(AK33))/LOG(2))))","v":0},null,{"$f":"N33","v":22121},{"$f":"COUNTIF(L24:L28,AN33)","v":0},{"$f":"AO33/(AQ4-AO25)","v":0},{"$f":"IF(AP33=0,0,(AP33*((LOG(AP33))/LOG(2))))","v":0},null,{"$f":"N33","v":22121},{"$f":"COUNTIF(L29:L32,AS33)","v":0},{"$f":"AT33/(AV4-AT25)","v":0},{"$f":"IF(AU33=0,0,(AU33*((LOG(AU33))/LOG(2))))","v":0}]
[null,null,null,null,null,null,null,null,null,null,null,null,null,22122,{"$f":"COUNTIF($L$7:$L$500,N34)","v":0},{"$f":"O34/$Q$4","v":0},{"$f":"IF(P34=0,0,(P34*((LOG(P34))/LOG(2))))","v":0},null,null,{"$f":"N34","v":22122},{"$f":"COUNTIF(L7:L10,T34)","v":0},{"$f":"U34/(W4-U25)","v":0},{"$f":"IF(V34=0,0,(V34*((LOG(V34))/LOG(2))))","v":0},null,{"$f":"N34","v":22122},{"$f":"COUNTIF(L11:L15,Y34)","v":0},{"$f":"Z34/(AB4-Z25)","v":0},{"$f":"IF(AA34=0,0,(AA34*((LOG(AA34))/LOG(2))))","v":0},null,{"$f":"N34","v":22122},{"$f":"COUNTIF(L16:L19,AD34)","v":0},{"$f":"AE34/(AG4-AE25)","v":0},{"$f":"IF(AF34=0,0,(AF34*((LOG(AF34))/LOG(2))))","v":0},null,{"$f":"N34","v":22122},{"$f":"COUNTIF(L20:L23,AI34)","v":0},{"$f":"AJ34/(AL4-AJ25)","v":0},{"$f":"IF(AK34=0,0,(AK34*((LOG(AK34))/LOG(2))))","v":0},null,{"$f":"N34","v":22122},{"$f":"COUNTIF(L24:L28,AN34)","v":0},{"$f":"AO34/(AQ4-AO25)","v":0},{"$f":"IF(AP34=0,0,(AP34*((LOG(AP34))/LOG(2))))","v":0},null,{"$f":"N34","v":22122},{"$f":"COUNTIF(L29:L32,AS34)","v":0},{"$f":"AT34/(AV4-AT25)","v":0},{"$f":"IF(AU34=0,0,(AU34*((LOG(AU34))/LOG(2))))","v":0}]
[null,null,null,null,null,null,null,null,null,null,null,null,null,22211,{"$f":"COUNTIF($L$7:$L$500,N35)","v":0},{"$f":"O35/$Q$4","v":0},{"$f":"IF(P35=0,0,(P35*((LOG(P35))/LOG(2))))","v":0},null,null,{"$f":"N35","v":22211},{"$f":"COUNTIF(L7:L10,T35)","v":0},{"$f":"U35/(W4-U25)","v":0},{"$f":"IF(V35=0,0,(V35*((LOG(V35))/LOG(2))))","v":0},null,{"$f":"N35","v":22211},{"$f":"COUNTIF(L11:L15,Y35)","v":0},{"$f":"Z35/(AB4-Z25)","v":0},{"$f":"IF(AA35=0,0,(AA35*((LOG(AA35))/LOG(2))))","v":0},null,{"$f":"N35","v":22211},{"$f":"COUNTIF(L16:L19,AD35)","v":0},{"$f":"AE35/(AG4-AE25)","v":0},{"$f":"IF(AF35=0,0,(AF35*((LOG(AF35))/LOG(2))))","v":0},null,{"$f":"N35","v":22211},{"$f":"COUNTIF(L20:L23,AI35)","v":0},{"$f":"AJ35/(AL4-AJ25)","v":0},{"$f":"IF(AK35=0,0,(AK35*((LOG(AK35))/LOG(2))))","v":0},null,{"$f":"N35","v":22211},{"$f":"COUNTIF(L24:L28,AN35)","v":0},{"$f":"AO35/(AQ4-AO25)","v":0},{"$f":"IF(AP35=0,0,(AP35*((LOG(AP35))/LOG(2))))","v":0},null,{"$f":"N35","v":22211},{"$f":"COUNTIF(L29:L32,AS35)","v":0},{"$f":"AT35/(AV4-AT25)","v":0},{"$f":"IF(AU35=0,0,(AU35*((LOG(AU35))/LOG(2))))","v":0}]
[null,null,null,null,null,null,null,null,null,null,null,null,null,22212,{"$f":"COUNTIF($L$7:$L$500,N36)","v":0},{"$f":"O36/$Q$4","v":0},{"$f":"IF(P36=0,0,(P36*((LOG(P36))/LOG(2))))","v":0},null,null,{"$f":"N36","v":22212},{"$f":"COUNTIF(L7:L10,T36)","v":0},{"$f":"U36/(W4-U25)","v":0},{"$f":"IF(V36=0,0,(V36*((LOG(V36))/LOG(2))))","v":0},null,{"$f":"N36","v":22212},{"$f":"COUNTIF(L11:L15,Y36)","v":0},{"$f":"Z36/(AB4-Z25)","v":0},{"$f":"IF(AA36=0,0,(AA36*((LOG(AA36))/LOG(2))))","v":0},null,{"$f":"N36","v":22212},{"$f":"COUNTIF(L16:L19,AD36)","v":0},{"$f":"AE36/(AG4-AE25)","v":0},{"$f":"IF(AF36=0,0,(AF36*((LOG(AF36))/LOG(2))))","v":0},null,{"$f":"N36","v":22212},{"$f":"COUNTIF(L20:L23,AI36)","v":0},{"$f":"AJ36/(AL4-AJ25)","v":0},{"$f":"IF(AK36=0,0,(AK36*((LOG(AK36))/LOG(2))))","v":0},null,{"$f":"N36","v":22212},{"$f":"COUNTIF(L24:L28,AN36)","v":0},{"$f":"AO36/(AQ4-AO25)","v":0},{"$f":"IF(AP36=0,0,(AP36*((LOG(AP36))/LOG(2))))","v":0},null,{"$f":"N36","v":22212},{"$f":"COUNTIF(L29:L32,AS36)","v":0},{"$f":"AT36/(AV4-AT25)","v":0},{"$f":"IF(AU36=0,0,(AU36*((LOG(AU36))/LOG(2))))","v":0}]
[null,null,null,null,null,null,null,null,null,null,null,null,null,22221,{"$f":"COUNTIF($L$7:$L$500,N37)","v":0},{"$f":"O37/$Q$4","v":0},{"$f":"IF(P37=0,0,(P37*((LOG(P37))/LOG(2))))","v":0},null,null,{"$f":"N37","v":22221},{"$f":"COUNTIF(L7:L10,T37)","v":0},{"$f":"U37/(W4-U25)","v":0},{"$f":"IF(V37=0,0,(V37*((LOG(V37))/LOG(2))))","v":0},null,{"$f":"N37","v":22221},{"$f":"COUNTIF(L11:L15,Y37)","v":0},{"$f":"Z37/(AB4-Z25)","v":0},{"$f":"IF(AA37=0,0,(AA37*((LOG(AA37))/LOG(2))))","v":0},null,{"$f":"N37","v":22221},{"$f":"COUNTIF(L16:L19,AD37)","v":0},{"$f":"AE37/(AG4-AE25)","v":0},{"$f":"IF(AF37=0,0,(AF37*((LOG(AF37))/LOG(2))))","v":0},null,{"$f":"N37","v":22221},{"$f":"COUNTIF(L20:L23,AI37)","v":0},{"$f":"AJ37/(AL4-AJ25)","v":0},{"$f":"IF(AK37=0,0,(AK37*((LOG(AK37))/LOG(2))))","v":0},null,{"$f":"N37","v":22221},{"$f":"COUNTIF(L24:L28,AN37)","v":0},{"$f":"AO37/(AQ4-AO25)","v":0},{"$f":"IF(AP37=0,0,(AP37*((LOG(AP37))/LOG(2))))","v":0},null,{"$f":"N37","v":22221},{"$f":"COUNTIF(L29:L32,AS37)","v":0},{"$f":"AT37/(AV4-AT25)","v":0},{"$f":"IF(AU37=0,0,(AU37*((LOG(AU37))/LOG(2))))","v":0}]
[null,null,null,null,null,null,null,null,null,null,null,null,null,22222,{"$f":"COUNTIF($L$7:$L$500,N38)","v":0},{"$f":"O38/$Q$4","v":0},{"$f":"IF(P38=0,0,(P38*((LOG(P38))/LOG(2))))","v":0},null,null,{"$f":"N38","v":22222},{"$f":"COUNTIF(L7:L10,T38)","v":0},{"$f":"U38/(W4-U25)","v":0},{"$f":"IF(V38=0,0,(V38*((LOG(V38))/LOG(2))))","v":0},null,{"$f":"N38","v":22222},{"$f":"COUNTIF(L11:L15,Y38)","v":0},{"$f":"Z38/(AB4-Z25)","v":0},{"$f":"IF(AA38=0,0,(AA38*((LOG(AA38))/LOG(2))))","v":0},null,{"$f":"N38","v":22222},{"$f":"COUNTIF(L16:L19,AD38)","v":0},{"$f":"AE38/(AG4-AE25)","v":0},{"$f":"IF(AF38=0,0,(AF38*((LOG(AF38))/LOG(2))))","v":0},null,{"$f":"N38","v":22222},{"$f":"COUNTIF(L20:L23,AI38)","v":0},{"$f":"AJ38/(AL4-AJ25)","v":0},{"$f":"IF(AK38=0,0,(AK38*((LOG(AK38))/LOG(2))))","v":0},null,{"$f":"N38","v":22222},{"$f":"COUNTIF(L24:L28,AN38)","v":0},{"$f":"AO38/(AQ4-AO25)","v":0},{"$f":"IF(AP38=0,0,(AP38*((LOG(AP38))/LOG(2))))","v":0},null,{"$f":"N38","v":22222},{"$f":"COUNTIF(L29:L32,AS38)","v":0},{"$f":"AT38/(AV4-AT25)","v":0},{"$f":"IF(AU38=0,0,(AU38*((LOG(AU38))/LOG(2))))","v":0}]
[null,null,null,null,null,null,null,null,null,null,null,null,null,null,null,{"$f":"SUM(P7:P38)","v":0.99999999999999989},{"$f":"-SUM(Q7:Q38)","v":2.917188642118004},null,null,null,null,{"$f":"SUM(V7:V38)","v":1},{"$f":"-SUM(W7:W38)","v":0.81127812445913283},null,null,null,{"$f":"SUM(AA7:AA38)","v":1},{"$f":"-SUM(AB7:AB38)","v":1.9219280948873623},null,null,null,{"$f":"SUM(AF7:AF38)","v":1},{"$f":"-SUM(AG7:AG38)","v":1.5},null,null,null,{"$f":"SUM(AK7:AK38)","v":1},{"$f":"-SUM(AL7:AL38)","v":2},null,null,null,{"$f":"SUM(AP7:AP38)","v":1},{"$f":"-SUM(AQ7:AQ38)","v":1.9219280948873623},null,null,null,{"$f":"SUM(AU7:AU38)","v":1},{"$f":"-SUM(AV7:AV38)","v":1.5}]
[null,null,null,null,null,null,null,null,null,null,null,null,null,null,null,"U=",{"$f":"Q39/(LOG(Q4)/LOG(2))","v":0.62062037108129964},null,null,null,null,"U1=",{"$f":"W39/(LOG(W4)/LOG(2))","v":0.40563906222956642},null,null,null,"U2=",{"$f":"AB39/(LOG(AB4)/LOG(2))","v":0.82772937677064262},null,null,null,"U3=",{"$f":"AG39/(LOG(AG4)/LOG(2))","v":0.75},null,null,null,"U4=",{"$f":"AL39/(LOG(AL4)/LOG(2))","v":1},null,null,null,"U5=",{"$f":"AQ39/(LOG(AQ4)/LOG(2))","v":0.82772937677064262},null,null,null,"U6=",{"$f":"AV39/(LOG(AV4)/LOG(2))","v":0.75}]
[]
[]
[null,null,null,null,null,null,null,null,null,null,null,null,null,"Total Target Seq"]
[null,null,null,null,null,null,null,null,null,null,null,null,null,{"$f":"COUNTIF(L7:L32,G3)","v":0},null,4,5,4,4,5,4]
[null,null,null,null,null,null,null,null,null,null,null,null,null,null,null,"% of reinforcement given in 6 equal intervals based on number of trials "]
[null,null,null,null,null,null,null,null,null,null,null,null,null,null,null,"%_1","%_2","%_3","%_4","%_5","%_6"]
[null,null,null,null,null,null,null,null,null,null,null,null,null,null,"target sequence",{"$f":"$G$3","v":21121},{"$f":"$G$3","v":21121},{"$f":"$G$3","v":21121},{"$f":"$G$3","v":21121},{"$f":"$G$3","v":21121},{"$f":"$G$3","v":21121}]
[null,null,null,null,null,null,null,null,null,null,null,null,null,null,"total reinforcement",{"$f":"U25","v":0},{"$f":"Z25","v":0},{"$f":"AE25","v":0},{"$f":"AJ25","v":0},{"$f":"AO25","v":0},{"$f":"AT25","v":0}]
[null,null,null,null,null,null,null,null,null,null,null,null,null,null,"% target"]
[null,null,null,null,null,null,null,null,null,null,null,null,null,null,"CCRF"]
[null,null,null,null,null,null,null,null,null,null,null,null,null,null,"% CCRf"]
[null,null,null,null,null,null,null,null,null,null,null,null,null,null,"average response rate",{"$f":"J10/P44","v":131},{"$f":"(J15-J10)/Q44","v":211.8},{"$f":"(J19-J15)/R44","v":277.5},{"$f":"(J23-J19)/S44","v":323.25},{"$f":"(J28-J23)/T44","v":804},{"$f":"(J32-J28)/U44","v":3982}]

{"sheet":"!N221830.091","index":31,"n_rows":152,"n_cols":48,"rows_kept":152,"cut":false,"hidden":false,"merged":[[4,39,4,42],[5,39,5,40],[4,44,4,47],[5,44,5,45],[4,24,4,27],[5,24,5,25],[4,29,4,32],[5,29,5,30],[4,34,4,37],[5,34,5,35],[1,1,1,2],[5,13,5,14],[42,13,42,14],[43,13,43,14],[4,19,4,22],[5,19,5,20]]}
["Report for:!N221830.091"]
["Date:","<date>"]
["Hen:","<hen>",null,null,null,"Correct Sequence",{"$f":"Start!J2","v":21121},null,null,null,null,null,null,null,null,"Total Sequences in Data",{"$f":"4994-COUNTBLANK(L7:L5000)","v":146},null,null,null,null,"Total Sequences in Block Data",{"$f":"COUNTA(L7:L30)","v":24},null,null,null,"Total Sequences in Block Data",{"$f":"COUNTA(L31:L55)","v":25},null,null,null,"Total Sequences in Block Data",{"$f":"COUNTA(L56:L79)","v":24},null,null,null,"Total Sequences in Block Data",{"$f":"COUNTA(L80:L103)","v":24},null,null,null,"Total Sequences in Block Data",{"$f":"COUNTA(L104:L128)","v":25},null,null,null,"Total Sequences in Block Data",{"$f":"COUNTA(L129:L152)","v":24}]
[null,null,null,null,null,null,null,null,null,null,null,null,null,null,null,"Total Sequences in Summary",{"$f":"SUM(O7:O38)","v":146},null,null,null,null,"Total Sequences in Block Summary",{"$f":"SUM(U7:U38)","v":24},null,null,null,"Total Sequences in Block Summary",{"$f":"SUM(Z7:Z38)","v":25},null,null,null,"Total Sequences in Block Summary",{"$f":"SUM(AE7:AE38)","v":24},null,null,null,"Total Sequences in Block Summary",{"$f":"SUM(AJ7:AJ38)","v":24},null,null,null,"Total Sequences in Block Summary",{"$f":"SUM(AO7:AO38)","v":25},null,null,null,"Total Sequences in Block Summary",{"$f":"SUM(AT7:AT38)","v":24}]
[null,null,null,null,null,null,null,null,null,null,null,null,null,null,null,null,null,null,null,"Block 1",null,null,null,null,"Block 2",null,null,null,null,"Block 3",null,null,null,null,"Block 4",null,null,null,null,"Block 5",null,null,null,null,"Block 6"]
["Sequence\nComponent\n1","Time\n1","Sequence\nComponent\n2","Time\n2","Sequence\nComponent\n3","Time\n3","Sequence\nComponent\n4","Time\n4","Sequence\nComponent\n5","Time\n5","Correct?\n0=No 1=Yes","Sequence",null,"Frequency",null,"Relative Frequency","Variability",null,null,"Frequency",null,"Relative Frequency","Variability",null,"Frequency",null,"Relative Frequency","Variability",null,"Frequency",null,"Relative Frequency","Variability",null,"Frequency",null,"Relative Frequency","Variability",null,"Frequency",null,"Relative Frequency","Variability",null,"Frequency",null,"Relative Frequency","Variability"]
[12,7,13,17,24,32,14,44,13,57,0,11211,null,11111,{"$f":"COUNTIF($L$7:$L$500,N7)","v":7},{"$f":"O7/$Q$4","v":4.7945205479452052E-2},{"$f":"IF(P7=0,0,(P7*((LOG(P7))/LOG(2))))","v":-0.21011840724491021},null,null,{"$f":"N7","v":11111},{"$f":"COUNTIF(L7:L30,T7)","v":1},{"$f":"U7/(W4-U25)","v":4.1666666666666664E-2},{"$f":"IF(V7=0,0,(V7*((LOG(V7))/LOG(2))))","v":-0.19104010419671485},null,{"$f":"N7","v":11111},{"$f":"COUNTIF(L31:L55,Y7)","v":4},{"$f":"Z7/(AB4-Z25)","v":0.16},{"$f":"IF(AA7=0,0,(AA7*((LOG(AA7))/LOG(2))))","v":-0.42301699036395596},null,{"$f":"N7","v":11111},{"$f":"COUNTIF(L56:L79,AD7)","v":1},{"$f":"AE7/(AG4-AE25)","v":4.3478260869565216E-2},{"$f":"IF(AF7=0,0,(AF7*((LOG(AF7))/LOG(2))))","v":-0.19667660678508753},null,{"$f":"N7","v":11111},{"$f":"COUNTIF(L80:L103,AI7)","v":1},{"$f":"AJ7/(AL4-AJ25)","v":4.1666666666666664E-2},{"$f":"IF(AK7=0,0,(AK7*((LOG(AK7))/LOG(2))))","v":-0.19104010419671485},null,{"$f":"N7","v":11111},{"$f":"COUNTIF(L104:L128,AN7)","v":0},{"$f":"AO7/(AQ4-AO25)","v":0},{"$f":"IF(AP7=0,0,(AP7*((LOG(AP7))/LOG(2))))","v":0},null,{"$f":"N7","v":11111},{"$f":"COUNTIF(L129:L152,AS7)","v":0},{"$f":"AT7/(AV4-AT25)","v":0},{"$f":"IF(AU7=0,0,(AU7*((LOG(AU7))/LOG(2))))","v":0}]
[12,163,13,172,24,181,14,190,13,206,0,11211,null,11112,{"$f":"COUNTIF($L$7:$L$500,N8)","v":2},{"$f":"O8/$Q$4","v":1.3698630136986301E-2},{"$f":"IF(P8=0,0,(P8*((LOG(P8))/LOG(2))))","v":-8.4792117244931728E-2},null,null,{"$f":"N8","v":11112},{"$f":"COUNTIF(L7:L30,T8)","v":0},{"$f":"U8/(W4-U25)","v":0},{"$f":"IF(V8=0,0,(V8*((LOG(V8))/LOG(2))))","v":0},null,{"$f":"N8","v":11112},{"$f":"COUNTIF(L31:L55,Y8)","v":0},{"$f":"Z8/(AB4-Z25)","v":0},{"$f":"IF(AA8=0,0,(AA8*((LOG(AA8))/LOG(2))))","v":0},null,{"$f":"N8","v":11112},{"$f":"COUNTIF(L56:L79,AD8)","v":0},{"$f":"AE8/(AG4-AE25)","v":0},{"$f":"IF(AF8=0,0,(AF8*((LOG(AF8))/LOG(2))))","v":0},null,{"$f":"N8","v":11112},{"$f":"COUNTIF(L80:L103,AI8)","v":1},{"$f":"AJ8/(AL4-AJ25)","v":4.1666666666666664E-2},{"$f":"IF(AK8=0,0,(AK8*((LOG(AK8))/LOG(2))))","v":-0.19104010419671485},null,{"$f":"N8","v":11112},{"$f":"COUNTIF(L104:L128,AN8)","v":1},{"$f":"AO8/(AQ4-AO25)","v":4.5454545454545456E-2},{"$f":"IF(AP8=0,0,(AP8*((LOG(AP8))/LOG(2))))","v":-0.20270143721078623},null,{"$f":"N8","v":11112},{"$f":"COUNTIF(L129:L152,AS8)","v":0},{"$f":"AT8/(AV4-AT25)","v":0},{"$f":"IF(AU8=0,0,(AU8*((LOG(AU8))/LOG(2))))","v":0}]
[12,356,24,364,13,373,23,386,13,396,0,12121,null,11121,{"$f":"COUNTIF($L$7:$L$500,N9)","v":26},{"$f":"O9/$Q$4","v":0.17808219178082191},{"$f":"IF(P9=0,0,(P9*((LOG(P9))/LOG(2))))","v":-0.44331510862474005},null,null,{"$f":"N9","v":11121},{"$f":"COUNTIF(L7:L30,T9)","v":1},{"$f":"U9/(W4-U25)","v":4.1666666666666664E-2},{"$f":"IF(V9=0,0,(V9*((LOG(V9))/LOG(2))))","v":-0.19104010419671485},null,{"$f":"N9","v":11121},{"$f":"COUNTIF(L31:L55,Y9)","v":9},{"$f":"Z9/(AB4-Z25)","v":0.36},{"$f":"IF(AA9=0,0,(AA9*((LOG(AA9))/LOG(2))))","v":-0.53061522779966841},null,{"$f":"N9","v":11121},{"$f":"COUNTIF(L56:L79,AD9)","v":6},{"$f":"AE9/(AG4-AE25)","v":0.2608695652173913},{"$f":"IF(AF9=0,0,(AF9*((LOG(AF9))/LOG(2))))","v":-0.50572159704413644},null,{"$f":"N9","v":11121},{"$f":"COUNTIF(L80:L103,AI9)","v":6},{"$f":"AJ9/(AL4-AJ25)","v":0.25},{"$f":"IF(AK9=0,0,(AK9*((LOG(AK9))/LOG(2))))","v":-0.5},null,{"$f":"N9","v":11121},{"$f":"COUNTIF(L104:L128,AN9)","v":2},{"$f":"AO9/(AQ4-AO25)","v":9.0909090909090912E-2},{"$f":"IF(AP9=0,0,(AP9*((LOG(AP9))/LOG(2))))","v":-0.31449378351248153},null,{"$f":"N9","v":11121},{"$f":"COUNTIF(L129:L152,AS9)","v":2},{"$f":"AT9/(AV4-AT25)","v":9.5238095238095233E-2},{"$f":"IF(AU9=0,0,(AU9*((LOG(AU9))/LOG(2))))","v":-0.32307784978845333}]
[12,522,24,530,13,539,23,551,13,561,0,12121,null,11122,{"$f":"COUNTIF($L$7:$L$500,N10)","v":0},{"$f":"O10/$Q$4","v":0},{"$f":"IF(P10=0,0,(P10*((LOG(P10))/LOG(2))))","v":0},null,null,{"$f":"N10","v":11122},{"$f":"COUNTIF(L7:L30,T10)","v":0},{"$f":"U10/(W4-U25)","v":0},{"$f":"IF(V10=0,0,(V10*((LOG(V10))/LOG(2))))","v":0},null,{"$f":"N10","v":11122},{"$f":"COUNTIF(L31:L55,Y10)","v":0},{"$f":"Z10/(AB4-Z25)","v":0},{"$f":"IF(AA10=0,0,(AA10*((LOG(AA10))/LOG(2))))","v":0},null,{"$f":"N10","v":11122},{"$f":"COUNTIF(L56:L79,AD10)","v":0},{"$f":"AE10/(AG4-AE25)","v":0},{"$f":"IF(AF10=0,0,(AF10*((LOG(AF10))/LOG(2))))","v":0},null,{"$f":"N10","v":11122},{"$f":"COUNTIF(L80:L103,AI10)","v":0},{"$f":"AJ10/(AL4-AJ25)","v":0},{"$f":"IF(AK10=0,0,(AK10*((LOG(AK10))/LOG(2))))","v":0},null,{"$f":"N10","v":11122},{"$f":"COUNTIF(L104:L128,AN10)","v":0},{"$f":"AO10/(AQ4-AO25)","v":0},{"$f":"IF(AP10=0,0,(AP10*((LOG(AP10))/LOG(2))))","v":0},null,{"$f":"N10","v":11122},{"$f":"COUNTIF(L129:L152,AS10)","v":0},{"$f":"AT10/(AV4-AT25)","v":0},{"$f":"IF(AU10=0,0,(AU10*((LOG(AU10))/LOG(2))))","v":0}]
[12,663,24,683,13,696,23,706,13,717,0,12121,null,11211,{"$f":"COUNTIF($L$7:$L$500,N11)","v":17},{"$f":"O11/$Q$4","v":0.11643835616438356},{"$f":"IF(P11=0,0,(P11*((LOG(P11))/LOG(2))))","v":-0.36123389862811311},null,null,{"$f":"N11","v":11211},{"$f":"COUNTIF(L7:L30,T11)","v":2},{"$f":"U11/(W4-U25)","v":8.3333333333333329E-2},{"$f":"IF(V11=0,0,(V11*((LOG(V11))/LOG(2))))","v":-0.29874687506009634},null,{"$f":"N11","v":11211},{"$f":"COUNTIF(L31:L55,Y11)","v":2},{"$f":"Z11/(AB4-Z25)","v":0.08},{"$f":"IF(AA11=0,0,(AA11*((LOG(AA11))/LOG(2))))","v":-0.29150849518197797},null,{"$f":"N11","v":11211},{"$f":"COUNTIF(L56:L79,AD11)","v":3},{"$f":"AE11/(AG4-AE25)","v":0.13043478260869565},{"$f":"IF(AF11=0,0,(AF11*((LOG(AF11))/LOG(2))))","v":-0.3832955811307639},null,{"$f":"N11","v":11211},{"$f":"COUNTIF(L80:L103,AI11)","v":5},{"$f":"AJ11/(AL4-AJ25)","v":0.20833333333333334},{"$f":"IF(AK11=0,0,(AK11*((LOG(AK11))/LOG(2))))","v":-0.47146550121537367},null,{"$f":"N11","v":11211},{"$f":"COUNTIF(L104:L128,AN11)","v":2},{"$f":"AO11/(AQ4-AO25)","v":9.0909090909090912E-2},{"$f":"IF(AP11=0,0,(AP11*((LOG(AP11))/LOG(2))))","v":-0.31449378351248153},null,{"$f":"N11","v":11211},{"$f":"COUNTIF(L129:L152,AS11)","v":3},{"$f":"AT11/(AV4-AT25)","v":0.14285714285714285},{"$f":"IF(AU11=0,0,(AU11*((LOG(AU11))/LOG(2))))","v":-0.40105070315108626}]
[12,857,24,866,13,876,14,899,13,913,0,12111,null,11212,{"$f":"COUNTIF($L$7:$L$500,N12)","v":17},{"$f":"O12/$Q$4","v":0.11643835616438356},{"$f":"IF(P12=0,0,(P12*((LOG(P12))/LOG(2))))","v":-0.36123389862811311},null,null,{"$f":"N12","v":11212},{"$f":"COUNTIF(L7:L30,T12)","v":1},{"$f":"U12/(W4-U25)","v":4.1666666666666664E-2},{"$f":"IF(V12=0,0,(V12*((LOG(V12))/LOG(2))))","v":-0.19104010419671485},null,{"$f":"N12","v":11212},{"$f":"COUNTIF(L31:L55,Y12)","v":3},{"$f":"Z12/(AB4-Z25)","v":0.12},{"$f":"IF(AA12=0,0,(AA12*((LOG(AA12))/LOG(2))))","v":-0.36706724268642821},null,{"$f":"N12","v":11212},{"$f":"COUNTIF(L56:L79,AD12)","v":6},{"$f":"AE12/(AG4-AE25)","v":0.2608695652173913},{"$f":"IF(AF12=0,0,(AF12*((LOG(AF12))/LOG(2))))","v":-0.50572159704413644},null,{"$f":"N12","v":11212},{"$f":"COUNTIF(L80:L103,AI12)","v":2},{"$f":"AJ12/(AL4-AJ25)","v":8.3333333333333329E-2},{"$f":"IF(AK12=0,0,(AK12*((LOG(AK12))/LOG(2))))","v":-0.29874687506009634},null,{"$f":"N12","v":11212},{"$f":"COUNTIF(L104:L128,AN12)","v":2},{"$f":"AO12/(AQ4-AO25)","v":9.0909090909090912E-2},{"$f":"IF(AP12=0,0,(AP12*((LOG(AP12))/LOG(2))))","v":-0.31449378351248153},null,{"$f":"N12","v":11212},{"$f":"COUNTIF(L129:L152,AS12)","v":3},{"$f":"AT12/(AV4-AT25)","v":0.14285714285714285},{"$f":"IF(AU12=0,0,(AU12*((LOG(AU12))/LOG(2))))","v":-0.40105070315108626}]
[12,1046,24,1055,13,1066,14,1080,24,1092,0,12112,null,11221,{"$f":"COUNTIF($L$7:$L$500,N13)","v":1},{"$f":"O13/$Q$4","v":6.8493150684931503E-3},{"$f":"IF(P13=0,0,(P13*((LOG(P13))/LOG(2))))","v":-4.9245373690959021E-2},null,null,{"$f":"N13","v":11221},{"$f":"COUNTIF(L7:L30,T13)","v":0},{"$f":"U13/(W4-U25)","v":0},{"$f":"IF(V13=0,0,(V13*((LOG(V13))/LOG(2))))","v":0},null,{"$f":"N13","v":11221},{"$f":"COUNTIF(L31:L55,Y13)","v":0},{"$f":"Z13/(AB4-Z25)","v":0},{"$f":"IF(AA13=0,0,(AA13*((LOG(AA13))/LOG(2))))","v":0},null,{"$f":"N13","v":11221},{"$f":"COUNTIF(L56:L79,AD13)","v":0},{"$f":"AE13/(AG4-AE25)","v":0},{"$f":"IF(AF13=0,0,(AF13*((LOG(AF13))/LOG(2))))","v":0},null,{"$f":"N13","v":11221},{"$f":"COUNTIF(L80:L103,AI13)","v":1},{"$f":"AJ13/(AL4-AJ25)","v":4.1666666666666664E-2},{"$f":"IF(AK13=0,0,(AK13*((LOG(AK13))/LOG(2))))","v":-0.19104010419671485},null,{"$f":"N13","v":11221},{"$f":"COUNTIF(L104:L128,AN13)","v":0},{"$f":"AO13/(AQ4-AO25)","v":0},{"$f":"IF(AP13=0,0,(AP13*((LOG(AP13))/LOG(2))))","v":0},null,{"$f":"N13","v":11221},{"$f":"COUNTIF(L129:L152,AS13)","v":0},{"$f":"AT13/(AV4-AT25)","v":0},{"$f":"IF(AU13=0,0,(AU13*((LOG(AU13))/LOG(2))))","v":0}]
[21,1213,22,1233,13,1246,14,1255,13,1268,0,22111,null,11222,{"$f":"COUNTIF($L$7:$L$500,N14)","v":0},{"$f":"O14/$Q$4","v":0},{"$f":"IF(P14=0,0,(P14*((LOG(P14))/LOG(2))))","v":0},null,null,{"$f":"N14","v":11222},{"$f":"COUNTIF(L7:L30,T14)","v":0},{"$f":"U14/(W4-U25)","v":0},{"$f":"IF(V14=0,0,(V14*((LOG(V14))/LOG(2))))","v":0},null,{"$f":"N14","v":11222},{"$f":"COUNTIF(L31:L55,Y14)","v":0},{"$f":"Z14/(AB4-Z25)","v":0},{"$f":"IF(AA14=0,0,(AA14*((LOG(AA14))/LOG(2))))","v":0},null,{"$f":"N14","v":11222},{"$f":"COUNTIF(L56:L79,AD14)","v":0},{"$f":"AE14/(AG4-AE25)","v":0},{"$f":"IF(AF14=0,0,(AF14*((LOG(AF14))/LOG(2))))","v":0},null,{"$f":"N14","v":11222},{"$f":"COUNTIF(L80:L103,AI14)","v":0},{"$f":"AJ14/(AL4-AJ25)","v":0},{"$f":"IF(AK14=0,0,(AK14*((LOG(AK14))/LOG(2))))","v":0},null,{"$f":"N14","v":11222},{"$f":"COUNTIF(L104:L128,AN14)","v":0},{"$f":"AO14/(AQ4-AO25)","v":0},{"$f":"IF(AP14=0,0,(AP14*((LOG(AP14))/LOG(2))))","v":0},null,{"$f":"N14","v":11222},{"$f":"COUNTIF(L129:L152,AS14)","v":0},{"$f":"AT14/(AV4-AT25)","v":0},{"$f":"IF(AU14=0,0,(AU14*((LOG(AU14))/LOG(2))))","v":0}]
[12,1390,24,1414,13,1425,14,1447,13,1460,0,12111,null,12111,{"$f":"COUNTIF($L$7:$L$500,N15)","v":6},{"$f":"O15/$Q$4","v":4.1095890410958902E-2},{"$f":"IF(P15=0,0,(P15*((LOG(P15))/LOG(2))))","v":-0.18924090649967923},null,null,{"$f":"N15","v":12111},{"$f":"COUNTIF(L7:L30,T15)","v":3},{"$f":"U15/(W4-U25)","v":0.125},{"$f":"IF(V15=0,0,(V15*((LOG(V15))/LOG(2))))","v":-0.375},null,{"$f":"N15","v":12111},{"$f":"COUNTIF(L31:L55,Y15)","v":1},{"$f":"Z15/(AB4-Z25)","v":0.04},{"$f":"IF(AA15=0,0,(AA15*((LOG(AA15))/LOG(2))))","v":-0.18575424759098899},null,{"$f":"N15","v":12111},{"$f":"COUNTIF(L56:L79,AD15)","v":0},{"$f":"AE15/(AG4-AE25)","v":0},{"$f":"IF(AF15=0,0,(AF15*((LOG(AF15))/LOG(2))))","v":0},null,{"$f":"N15","v":12111},{"$f":"COUNTIF(L80:L103,AI15)","v":0},{"$f":"AJ15/(AL4-AJ25)","v":0},{"$f":"IF(AK15=0,0,(AK15*((LOG(AK15))/LOG(2))))","v":0},null,{"$f":"N15","v":12111},{"$f":"COUNTIF(L104:L128,AN15)","v":2},{"$f":"AO15/(AQ4-AO25)","v":9.0909090909090912E-2},{"$f":"IF(AP15=0,0,(AP15*((LOG(AP15))/LOG(2))))","v":-0.31449378351248153},null,{"$f":"N15","v":12111},{"$f":"COUNTIF(L129:L152,AS15)","v":0},{"$f":"AT15/(AV4-AT25)","v":0},{"$f":"IF(AU15=0,0,(AU15*((LOG(AU15))/LOG(2))))","v":0}]
[12,1594,13,1596,24,1608,14,1618,24,1633,0,11212,null,12112,{"$f":"COUNTIF($L$7:$L$500,N16)","v":5},{"$f":"O16/$Q$4","v":3.4246575342465752E-2},{"$f":"IF(P16=0,0,(P16*((LOG(P16))/LOG(2))))","v":-0.16670878301344708},null,null,{"$f":"N16","v":12112},{"$f":"COUNTIF(L7:L30,T16)","v":3},{"$f":"U16/(W4-U25)","v":0.125},{"$f":"IF(V16=0,0,(V16*((LOG(V16))/LOG(2))))","v":-0.375},null,{"$f":"N16","v":12112},{"$f":"COUNTIF(L31:L55,Y16)","v":0},{"$f":"Z16/(AB4-Z25)","v":0},{"$f":"IF(AA16=0,0,(AA16*((LOG(AA16))/LOG(2))))","v":0},null,{"$f":"N16","v":12112},{"$f":"COUNTIF(L56:L79,AD16)","v":0},{"$f":"AE16/(AG4-AE25)","v":0},{"$f":"IF(AF16=0,0,(AF16*((LOG(AF16))/LOG(2))))","v":0},null,{"$f":"N16","v":12112},{"$f":"COUNTIF(L80:L103,AI16)","v":1},{"$f":"AJ16/(AL4-AJ25)","v":4.1666666666666664E-2},{"$f":"IF(AK16=0,0,(AK16*((LOG(AK16))/LOG(2))))","v":-0.19104010419671485},null,{"$f":"N16","v":12112},{"$f":"COUNTIF(L104:L128,AN16)","v":1},{"$f":"AO16/(AQ4-AO25)","v":4.5454545454545456E-2},{"$f":"IF(AP16=0,0,(AP16*((LOG(AP16))/LOG(2))))","v":-0.20270143721078623},null,{"$f":"N16","v":12112},{"$f":"COUNTIF(L129:L152,AS16)","v":0},{"$f":"AT16/(AV4-AT25)","v":0},{"$f":"IF(AU16=0,0,(AU16*((LOG(AU16))/LOG(2))))","v":0}]
[12,1765,24,1780,13,1792,14,1804,24,1819,0,12112,null,12121,{"$f":"COUNTIF($L$7:$L$500,N17)","v":22},{"$f":"O17/$Q$4","v":0.15068493150684931},{"$f":"IF(P17=0,0,(P17*((LOG(P17))/LOG(2))))","v":-0.41142907318725913},null,null,{"$f":"N17","v":12121},{"$f":"COUNTIF(L7:L30,T17)","v":5},{"$f":"U17/(W4-U25)","v":0.20833333333333334},{"$f":"IF(V17=0,0,(V17*((LOG(V17))/LOG(2))))","v":-0.47146550121537367},null,{"$f":"N17","v":12121},{"$f":"COUNTIF(L31:L55,Y17)","v":1},{"$f":"Z17/(AB4-Z25)","v":0.04},{"$f":"IF(AA17=0,0,(AA17*((LOG(AA17))/LOG(2))))","v":-0.18575424759098899},null,{"$f":"N17","v":12121},{"$f":"COUNTIF(L56:L79,AD17)","v":2},{"$f":"AE17/(AG4-AE25)","v":8.6956521739130432E-2},{"$f":"IF(AF17=0,0,(AF17*((LOG(AF17))/LOG(2))))","v":-0.30639669183104457},null,{"$f":"N17","v":12121},{"$f":"COUNTIF(L80:L103,AI17)","v":6},{"$f":"AJ17/(AL4-AJ25)","v":0.25},{"$f":"IF(AK17=0,0,(AK17*((LOG(AK17))/LOG(2))))","v":-0.5},null,{"$f":"N17","v":12121},{"$f":"COUNTIF(L104:L128,AN17)","v":5},{"$f":"AO17/(AQ4-AO25)","v":0.22727272727272727},{"$f":"IF(AP17=0,0,(AP17*((LOG(AP17))/LOG(2))))","v":-0.48579625539771243},null,{"$f":"N17","v":12121},{"$f":"COUNTIF(L129:L152,AS17)","v":3},{"$f":"AT17/(AV4-AT25)","v":0.14285714285714285},{"$f":"IF(AU17=0,0,(AU17*((LOG(AU17))/LOG(2))))","v":-0.40105070315108626}]
[21,1948,11,1961,22,1970,14,1979,13,1990,0,21211,null,12122,{"$f":"COUNTIF($L$7:$L$500,N18)","v":0},{"$f":"O18/$Q$4","v":0},{"$f":"IF(P18=0,0,(P18*((LOG(P18))/LOG(2))))","v":0},null,null,{"$f":"N18","v":12122},{"$f":"COUNTIF(L7:L30,T18)","v":0},{"$f":"U18/(W4-U25)","v":0},{"$f":"IF(V18=0,0,(V18*((LOG(V18))/LOG(2))))","v":0},null,{"$f":"N18","v":12122},{"$f":"COUNTIF(L31:L55,Y18)","v":0},{"$f":"Z18/(AB4-Z25)","v":0},{"$f":"IF(AA18=0,0,(AA18*((LOG(AA18))/LOG(2))))","v":0},null,{"$f":"N18","v":12122},{"$f":"COUNTIF(L56:L79,AD18)","v":0},{"$f":"AE18/(AG4-AE25)","v":0},{"$f":"IF(AF18=0,0,(AF18*((LOG(AF18))/LOG(2))))","v":0},null,{"$f":"N18","v":12122},{"$f":"COUNTIF(L80:L103,AI18)","v":0},{"$f":"AJ18/(AL4-AJ25)","v":0},{"$f":"IF(AK18=0,0,(AK18*((LOG(AK18))/LOG(2))))","v":0},null,{"$f":"N18","v":12122},{"$f":"COUNTIF(L104:L128,AN18)","v":0},{"$f":"AO18/(AQ4-AO25)","v":0},{"$f":"IF(AP18=0,0,(AP18*((LOG(AP18))/LOG(2))))","v":0},null,{"$f":"N18","v":12122},{"$f":"COUNTIF(L129:L152,AS18)","v":0},{"$f":"AT18/(AV4-AT25)","v":0},{"$f":"IF(AU18=0,0,(AU18*((LOG(AU18))/LOG(2))))","v":0}]
[12,2114,24,2123,13,2132,14,2148,13,2163,0,12111,null,12211,{"$f":"COUNTIF($L$7:$L$500,N19)","v":1},{"$f":"O19/$Q$4","v":6.8493150684931503E-3},{"$f":"IF(P19=0,0,(P19*((LOG(P19))/LOG(2))))","v":-4.9245373690959021E-2},null,null,{"$f":"N19","v":12211},{"$f":"COUNTIF(L7:L30,T19)","v":0},{"$f":"U19/(W4-U25)","v":0},{"$f":"IF(V19=0,0,(V19*((LOG(V19))/LOG(2))))","v":0},null,{"$f":"N19","v":12211},{"$f":"COUNTIF(L31:L55,Y19)","v":0},{"$f":"Z19/(AB4-Z25)","v":0},{"$f":"IF(AA19=0,0,(AA19*((LOG(AA19))/LOG(2))))","v":0},null,{"$f":"N19","v":12211},{"$f":"COUNTIF(L56:L79,AD19)","v":0},{"$f":"AE19/(AG4-AE25)","v":0},{"$f":"IF(AF19=0,0,(AF19*((LOG(AF19))/LOG(2))))","v":0},null,{"$f":"N19","v":12211},{"$f":"COUNTIF(L80:L103,AI19)","v":0},{"$f":"AJ19/(AL4-AJ25)","v":0},{"$f":"IF(AK19=0,0,(AK19*((LOG(AK19))/LOG(2))))","v":0},null,{"$f":"N19","v":12211},{"$f":"COUNTIF(L104:L128,AN19)","v":0},{"$f":"AO19/(AQ4-AO25)","v":0},{"$f":"IF(AP19=0,0,(AP19*((LOG(AP19))/LOG(2))))","v":0},null,{"$f":"N19","v":12211},{"$f":"COUNTIF(L129:L152,AS19)","v":1},{"$f":"AT19/(AV4-AT25)","v":4.7619047619047616E-2},{"$f":"IF(AU19=0,0,(AU19*((LOG(AU19))/LOG(2))))","v":-0.20915797251327431}]
[21,2302,11,2311,22,2321,14,2331,13,2345,0,21211,null,12212,{"$f":"COUNTIF($L$7:$L$500,N20)","v":2},{"$f":"O20/$Q$4","v":1.3698630136986301E-2},{"$f":"IF(P20=0,0,(P20*((LOG(P20))/LOG(2))))","v":-8.4792117244931728E-2},null,null,{"$f":"N20","v":12212},{"$f":"COUNTIF(L7:L30,T20)","v":0},{"$f":"U20/(W4-U25)","v":0},{"$f":"IF(V20=0,0,(V20*((LOG(V20))/LOG(2))))","v":0},null,{"$f":"N20","v":12212},{"$f":"COUNTIF(L31:L55,Y20)","v":0},{"$f":"Z20/(AB4-Z25)","v":0},{"$f":"IF(AA20=0,0,(AA20*((LOG(AA20))/LOG(2))))","v":0},null,{"$f":"N20","v":12212},{"$f":"COUNTIF(L56:L79,AD20)","v":1},{"$f":"AE20/(AG4-AE25)","v":4.3478260869565216E-2},{"$f":"IF(AF20=0,0,(AF20*((LOG(AF20))/LOG(2))))","v":-0.19667660678508753},null,{"$f":"N20","v":12212},{"$f":"COUNTIF(L80:L103,AI20)","v":0},{"$f":"AJ20/(AL4-AJ25)","v":0},{"$f":"IF(AK20=0,0,(AK20*((LOG(AK20))/LOG(2))))","v":0},null,{"$f":"N20","v":12212},{"$f":"COUNTIF(L104:L128,AN20)","v":0},{"$f":"AO20/(AQ4-AO25)","v":0},{"$f":"IF(AP20=0,0,(AP20*((LOG(AP20))/LOG(2))))","v":0},null,{"$f":"N20","v":12212},{"$f":"COUNTIF(L129:L152,AS20)","v":1},{"$f":"AT20/(AV4-AT25)","v":4.7619047619047616E-2},{"$f":"IF(AU20=0,0,(AU20*((LOG(AU20))/LOG(2))))","v":-0.20915797251327431}]
[12,2471,13,2489,13,2508,14,2531,13,2544,0,11111,null,12221,{"$f":"COUNTIF($L$7:$L$500,N21)","v":0},{"$f":"O21/$Q$4","v":0},{"$f":"IF(P21=0,0,(P21*((LOG(P21))/LOG(2))))","v":0},null,null,{"$f":"N21","v":12221},{"$f":"COUNTIF(L7:L30,T21)","v":0},{"$f":"U21/(W4-U25)","v":0},{"$f":"IF(V21=0,0,(V21*((LOG(V21))/LOG(2))))","v":0},null,{"$f":"N21","v":12221},{"$f":"COUNTIF(L31:L55,Y21)","v":0},{"$f":"Z21/(AB4-Z25)","v":0},{"$f":"IF(AA21=0,0,(AA21*((LOG(AA21))/LOG(2))))","v":0},null,{"$f":"N21","v":12221},{"$f":"COUNTIF(L56:L79,AD21)","v":0},{"$f":"AE21/(AG4-AE25)","v":0},{"$f":"IF(AF21=0,0,(AF21*((LOG(AF21))/LOG(2))))","v":0},null,{"$f":"N21","v":12221},{"$f":"COUNTIF(L80:L103,AI21)","v":0},{"$f":"AJ21/(AL4-AJ25)","v":0},{"$f":"IF(AK21=0,0,(AK21*((LOG(AK21))/LOG(2))))","v":0},null,{"$f":"N21","v":12221},{"$f":"COUNTIF(L104:L128,AN21)","v":0},{"$f":"AO21/(AQ4-AO25)","v":0},{"$f":"IF(AP21=0,0,(AP21*((LOG(AP21))/LOG(2))))","v":0},null,{"$f":"N21","v":12221},{"$f":"COUNTIF(L129:L152,AS21)","v":0},{"$f":"AT21/(AV4-AT25)","v":0},{"$f":"IF(AU21=0,0,(AU21*((LOG(AU21))/LOG(2))))","v":0}]
[21,2644,22,2672,13,2687,14,2702,13,2714,0,22111,null,12222,{"$f":"COUNTIF($L$7:$L$500,N22)","v":0},{"$f":"O22/$Q$4","v":0},{"$f":"IF(P22=0,0,(P22*((LOG(P22))/LOG(2))))","v":0},null,null,{"$f":"N22","v":12222},{"$f":"COUNTIF(L7:L30,T22)","v":0},{"$f":"U22/(W4-U25)","v":0},{"$f":"IF(V22=0,0,(V22*((LOG(V22))/LOG(2))))","v":0},null,{"$f":"N22","v":12222},{"$f":"COUNTIF(L31:L55,Y22)","v":0},{"$f":"Z22/(AB4-Z25)","v":0},{"$f":"IF(AA22=0,0,(AA22*((LOG(AA22))/LOG(2))))","v":0},null,{"$f":"N22","v":12222},{"$f":"COUNTIF(L56:L79,AD22)","v":0},{"$f":"AE22/(AG4-AE25)","v":0},{"$f":"IF(AF22=0,0,(AF22*((LOG(AF22))/LOG(2))))","v":0},null,{"$f":"N22","v":12222},{"$f":"COUNTIF(L80:L103,AI22)","v":0},{"$f":"AJ22/(AL4-AJ25)","v":0},{"$f":"IF(AK22=0,0,(AK22*((LOG(AK22))/LOG(2))))","v":0},null,{"$f":"N22","v":12222},{"$f":"COUNTIF(L104:L128,AN22)","v":0},{"$f":"AO22/(AQ4-AO25)","v":0},{"$f":"IF(AP22=0,0,(AP22*((LOG(AP22))/LOG(2))))","v":0},null,{"$f":"N22","v":12222},{"$f":"COUNTIF(L129:L152,AS22)","v":0},{"$f":"AT22/(AV4-AT25)","v":0},{"$f":"IF(AU22=0,0,(AU22*((LOG(AU22))/LOG(2))))","v":0}]
[21,2826,11,2837,22,2846,14,2857,13,2867,0,21211,null,21111,{"$f":"COUNTIF($L$7:$L$500,N23)","v":3},{"$f":"O23/$Q$4","v":2.0547945205479451E-2},{"$f":"IF(P23=0,0,(P23*((LOG(P23))/LOG(2))))","v":-0.11516839845531907},null,null,{"$f":"N23","v":21111},{"$f":"COUNTIF(L7:L30,T23)","v":1},{"$f":"U23/(W4-U25)","v":4.1666666666666664E-2},{"$f":"IF(V23=0,0,(V23*((LOG(V23))/LOG(2))))","v":-0.19104010419671485},null,{"$f":"N23","v":21111},{"$f":"COUNTIF(L31:L55,Y23)","v":2},{"$f":"Z23/(AB4-Z25)","v":0.08},{"$f":"IF(AA23=0,0,(AA23*((LOG(AA23))/LOG(2))))","v":-0.29150849518197797},null,{"$f":"N23","v":21111},{"$f":"COUNTIF(L56:L79,AD23)","v":0},{"$f":"AE23/(AG4-AE25)","v":0},{"$f":"IF(AF23=0,0,(AF23*((LOG(AF23))/LOG(2))))","v":0},null,{"$f":"N23","v":21111},{"$f":"COUNTIF(L80:L103,AI23)","v":0},{"$f":"AJ23/(AL4-AJ25)","v":0},{"$f":"IF(AK23=0,0,(AK23*((LOG(AK23))/LOG(2))))","v":0},null,{"$f":"N23","v":21111},{"$f":"COUNTIF(L104:L128,AN23)","v":0},{"$f":"AO23/(AQ4-AO25)","v":0},{"$f":"IF(AP23=0,0,(AP23*((LOG(AP23))/LOG(2))))","v":0},null,{"$f":"N23","v":21111},{"$f":"COUNTIF(L129:L152,AS23)","v":0},{"$f":"AT23/(AV4-AT25)","v":0},{"$f":"IF(AU23=0,0,(AU23*((LOG(AU23))/LOG(2))))","v":0}]
[12,3002,24,3012,13,3020,14,3030,24,3043,0,12112,null,21112,{"$f":"COUNTIF($L$7:$L$500,N24)","v":2},{"$f":"O24/$Q$4","v":1.3698630136986301E-2},{"$f":"IF(P24=0,0,(P24*((LOG(P24))/LOG(2))))","v":-8.4792117244931728E-2},null,null,{"$f":"N24","v":21112},{"$f":"COUNTIF(L7:L30,T24)","v":1},{"$f":"U24/(W4-U25)","v":4.1666666666666664E-2},{"$f":"IF(V24=0,0,(V24*((LOG(V24))/LOG(2))))","v":-0.19104010419671485},null,{"$f":"N24","v":21112},{"$f":"COUNTIF(L31:L55,Y24)","v":1},{"$f":"Z24/(AB4-Z25)","v":0.04},{"$f":"IF(AA24=0,0,(AA24*((LOG(AA24))/LOG(2))))","v":-0.18575424759098899},null,{"$f":"N24","v":21112},{"$f":"COUNTIF(L56:L79,AD24)","v":0},{"$f":"AE24/(AG4-AE25)","v":0},{"$f":"IF(AF24=0,0,(AF24*((LOG(AF24))/LOG(2))))","v":0},null,{"$f":"N24","v":21112},{"$f":"COUNTIF(L80:L103,AI24)","v":0},{"$f":"AJ24/(AL4-AJ25)","v":0},{"$f":"IF(AK24=0,0,(AK24*((LOG(AK24))/LOG(2))))","v":0},null,{"$f":"N24","v":21112},{"$f":"COUNTIF(L104:L128,AN24)","v":0},{"$f":"AO24/(AQ4-AO25)","v":0},{"$f":"IF(AP24=0,0,(AP24*((LOG(AP24))/LOG(2))))","v":0},null,{"$f":"N24","v":21112},{"$f":"COUNTIF(L129:L152,AS24)","v":0},{"$f":"AT24/(AV4-AT25)","v":0},{"$f":"IF(AU24=0,0,(AU24*((LOG(AU24))/LOG(2))))","v":0}]
[21,3174,11,3182,11,3194,12,3210,13,3221,0,21111,null,21121,{"$f":"COUNTIF($L$7:$L$500,N25)","v":7},{"$f":"O25/$Q$4","v":4.7945205479452052E-2},{"$f":"IF(P25=0,0,(P25*((LOG(P25))/LOG(2))))","v":-0.21011840724491021},null,null,{"$f":"N25","v":21121},{"$f":"COUNTIF(L7:L30,T25)","v":0},null,null,null,{"$f":"N25","v":21121},{"$f":"COUNTIF(L31:L55,Y25)","v":0},null,null,null,{"$f":"N25","v":21121},{"$f":"COUNTIF(L56:L79,AD25)","v":1},null,null,null,{"$f":"N25","v":21121},{"$f":"COUNTIF(L80:L103,AI25)","v":0},null,null,null,{"$f":"N25","v":21121},{"$f":"COUNTIF(L104:L128,AN25)","v":3},null,null,null,{"$f":"N25","v":21121},{"$f":"COUNTIF(L129:L152,AS25)","v":3}]
[21,3357,11,3364,11,3372,12,3377,24,3387,0,21112,null,21122,{"$f":"COUNTIF($L$7:$L$500,N26)","v":0},{"$f":"O26/$Q$4","v":0},{"$f":"IF(P26=0,0,(P26*((LOG(P26))/LOG(2))))","v":0},null,null,{"$f":"N26","v":21122},{"$f":"COUNTIF(L7:L30,T26)","v":0},{"$f":"U26/(W4-U25)","v":0},{"$f":"IF(V26=0,0,(V26*((LOG(V26))/LOG(2))))","v":0},null,{"$f":"N26","v":21122},{"$f":"COUNTIF(L31:L55,Y26)","v":0},{"$f":"Z26/(AB4-Z25)","v":0},{"$f":"IF(AA26=0,0,(AA26*((LOG(AA26))/LOG(2))))","v":0},null,{"$f":"N26","v":21122},{"$f":"COUNTIF(L56:L79,AD26)","v":0},{"$f":"AE26/(AG4-AE25)","v":0},{"$f":"IF(AF26=0,0,(AF26*((LOG(AF26))/LOG(2))))","v":0},null,{"$f":"N26","v":21122},{"$f":"COUNTIF(L80:L103,AI26)","v":0},{"$f":"AJ26/(AL4-AJ25)","v":0},{"$f":"IF(AK26=0,0,(AK26*((LOG(AK26))/LOG(2))))","v":0},null,{"$f":"N26","v":21122},{"$f":"COUNTIF(L104:L128,AN26)","v":0},{"$f":"AO26/(AQ4-AO25)","v":0},{"$f":"IF(AP26=0,0,(AP26*((LOG(AP26))/LOG(2))))","v":0},null,{"$f":"N26","v":21122},{"$f":"COUNTIF(L129:L152,AS26)","v":0},{"$f":"AT26/(AV4-AT25)","v":0},{"$f":"IF(AU26=0,0,(AU26*((LOG(AU26))/LOG(2))))","v":0}]
[21,3490,22,3492,24,3501,14,3511,13,3527,0,22211,null,21211,{"$f":"COUNTIF($L$7:$L$500,N27)","v":10},{"$f":"O27/$Q$4","v":6.8493150684931503E-2},{"$f":"IF(P27=0,0,(P27*((LOG(P27))/LOG(2))))","v":-0.26492441534196265},null,null,{"$f":"N27","v":21211},{"$f":"COUNTIF(L7:L30,T27)","v":3},{"$f":"U27/(W4-U25)","v":0.125},{"$f":"IF(V27=0,0,(V27*((LOG(V27))/LOG(2))))","v":-0.375},null,{"$f":"N27","v":21211},{"$f":"COUNTIF(L31:L55,Y27)","v":2},{"$f":"Z27/(AB4-Z25)","v":0.08},{"$f":"IF(AA27=0,0,(AA27*((LOG(AA27))/LOG(2))))","v":-0.29150849518197797},null,{"$f":"N27","v":21211},{"$f":"COUNTIF(L56:L79,AD27)","v":2},{"$f":"AE27/(AG4-AE25)","v":8.6956521739130432E-2},{"$f":"IF(AF27=0,0,(AF27*((LOG(AF27))/LOG(2))))","v":-0.30639669183104457},null,{"$f":"N27","v":21211},{"$f":"COUNTIF(L80:L103,AI27)","v":1},{"$f":"AJ27/(AL4-AJ25)","v":4.1666666666666664E-2},{"$f":"IF(AK27=0,0,(AK27*((LOG(AK27))/LOG(2))))","v":-0.19104010419671485},null,{"$f":"N27","v":21211},{"$f":"COUNTIF(L104:L128,AN27)","v":2},{"$f":"AO27/(AQ4-AO25)","v":9.0909090909090912E-2},{"$f":"IF(AP27=0,0,(AP27*((LOG(AP27))/LOG(2))))","v":-0.31449378351248153},null,{"$f":"N27","v":21211},{"$f":"COUNTIF(L129:L152,AS27)","v":0},{"$f":"AT27/(AV4-AT25)","v":0},{"$f":"IF(AU27=0,0,(AU27*((LOG(AU27))/LOG(2))))","v":0}]
[12,3635,24,3652,13,3663,23,3686,13,3697,0,12121,null,21212,{"$f":"COUNTIF($L$7:$L$500,N28)","v":11},{"$f":"O28/$Q$4","v":7.5342465753424653E-2},{"$f":"IF(P28=0,0,(P28*((LOG(P28))/LOG(2))))","v":-0.28105700234705422},null,null,{"$f":"N28","v":21212},{"$f":"COUNTIF(L7:L30,T28)","v":0},{"$f":"U28/(W4-U25)","v":0},{"$f":"IF(V28=0,0,(V28*((LOG(V28))/LOG(2))))","v":0},null,{"$f":"N28","v":21212},{"$f":"COUNTIF(L31:L55,Y28)","v":0},{"$f":"Z28/(AB4-Z25)","v":0},{"$f":"IF(AA28=0,0,(AA28*((LOG(AA28))/LOG(2))))","v":0},null,{"$f":"N28","v":21212},{"$f":"COUNTIF(L56:L79,AD28)","v":2},{"$f":"AE28/(AG4-AE25)","v":8.6956521739130432E-2},{"$f":"IF(AF28=0,0,(AF28*((LOG(AF28))/LOG(2))))","v":-0.30639669183104457},null,{"$f":"N28","v":21212},{"$f":"COUNTIF(L80:L103,AI28)","v":0},{"$f":"AJ28/(AL4-AJ25)","v":0},{"$f":"IF(AK28=0,0,(AK28*((LOG(AK28))/LOG(2))))","v":0},null,{"$f":"N28","v":21212},{"$f":"COUNTIF(L104:L128,AN28)","v":4},{"$f":"AO28/(AQ4-AO25)","v":0.18181818181818182},{"$f":"IF(AP28=0,0,(AP28*((LOG(AP28))/LOG(2))))","v":-0.44716938520678134},null,{"$f":"N28","v":21212},{"$f":"COUNTIF(L129:L152,AS28)","v":5},{"$f":"AT28/(AV4-AT25)","v":0.23809523809523808},{"$f":"IF(AU28=0,0,(AU28*((LOG(AU28))/LOG(2))))","v":-0.49294983997414238}]
[12,3846,24,3861,13,3872,23,3893,13,3903,0,12121,null,21221,{"$f":"COUNTIF($L$7:$L$500,N29)","v":1},{"$f":"O29/$Q$4","v":6.8493150684931503E-3},{"$f":"IF(P29=0,0,(P29*((LOG(P29))/LOG(2))))","v":-4.9245373690959021E-2},null,null,{"$f":"N29","v":21221},{"$f":"COUNTIF(L7:L30,T29)","v":0},{"$f":"U29/(W4-U25)","v":0},{"$f":"IF(V29=0,0,(V29*((LOG(V29))/LOG(2))))","v":0},null,{"$f":"N29","v":21221},{"$f":"COUNTIF(L31:L55,Y29)","v":0},{"$f":"Z29/(AB4-Z25)","v":0},{"$f":"IF(AA29=0,0,(AA29*((LOG(AA29))/LOG(2))))","v":0},null,{"$f":"N29","v":21221},{"$f":"COUNTIF(L56:L79,AD29)","v":0},{"$f":"AE29/(AG4-AE25)","v":0},{"$f":"IF(AF29=0,0,(AF29*((LOG(AF29))/LOG(2))))","v":0},null,{"$f":"N29","v":21221},{"$f":"COUNTIF(L80:L103,AI29)","v":0},{"$f":"AJ29/(AL4-AJ25)","v":0},{"$f":"IF(AK29=0,0,(AK29*((LOG(AK29))/LOG(2))))","v":0},null,{"$f":"N29","v":21221},{"$f":"COUNTIF(L104:L128,AN29)","v":1},{"$f":"AO29/(AQ4-AO25)","v":4.5454545454545456E-2},{"$f":"IF(AP29=0,0,(AP29*((LOG(AP29))/LOG(2))))","v":-0.20270143721078623},null,{"$f":"N29","v":21221},{"$f":"COUNTIF(L129:L152,AS29)","v":0},{"$f":"AT29/(AV4-AT25)","v":0},{"$f":"IF(AU29=0,0,(AU29*((LOG(AU29))/LOG(2))))","v":0}]
[12,4020,13,4040,13,4048,23,4059,13,4070,0,11121,null,21222,{"$f":"COUNTIF($L$7:$L$500,N30)","v":0},{"$f":"O30/$Q$4","v":0},{"$f":"IF(P30=0,0,(P30*((LOG(P30))/LOG(2))))","v":0},null,null,{"$f":"N30","v":21222},{"$f":"COUNTIF(L7:L30,T30)","v":0},{"$f":"U30/(W4-U25)","v":0},{"$f":"IF(V30=0,0,(V30*((LOG(V30))/LOG(2))))","v":0},null,{"$f":"N30","v":21222},{"$f":"COUNTIF(L31:L55,Y30)","v":0},{"$f":"Z30/(AB4-Z25)","v":0},{"$f":"IF(AA30=0,0,(AA30*((LOG(AA30))/LOG(2))))","v":0},null,{"$f":"N30","v":21222},{"$f":"COUNTIF(L56:L79,AD30)","v":0},{"$f":"AE30/(AG4-AE25)","v":0},{"$f":"IF(AF30=0,0,(AF30*((LOG(AF30))/LOG(2))))","v":0},null,{"$f":"N30","v":21222},{"$f":"COUNTIF(L80:L103,AI30)","v":0},{"$f":"AJ30/(AL4-AJ25)","v":0},{"$f":"IF(AK30=0,0,(AK30*((LOG(AK30))/LOG(2))))","v":0},null,{"$f":"N30","v":21222},{"$f":"COUNTIF(L104:L128,AN30)","v":0},{"$f":"AO30/(AQ4-AO25)","v":0},{"$f":"IF(AP30=0,0,(AP30*((LOG(AP30))/LOG(2))))","v":0},null,{"$f":"N30","v":21222},{"$f":"COUNTIF(L129:L152,AS30)","v":0},{"$f":"AT30/(AV4-AT25)","v":0},{"$f":"IF(AU30=0,0,(AU30*((LOG(AU30))/LOG(2))))","v":0}]
[12,4253,24,4268,13,4277,14,4292,13,4306,0,12111,null,22111,{"$f":"COUNTIF($L$7:$L$500,N31)","v":2},{"$f":"O31/$Q$4","v":1.3698630136986301E-2},{"$f":"IF(P31=0,0,(P31*((LOG(P31))/LOG(2))))","v":-8.4792117244931728E-2},null,null,{"$f":"N31","v":22111},{"$f":"COUNTIF(L7:L30,T31)","v":2},{"$f":"U31/(W4-U25)","v":8.3333333333333329E-2},{"$f":"IF(V31=0,0,(V31*((LOG(V31))/LOG(2))))","v":-0.29874687506009634},null,{"$f":"N31","v":22111},{"$f":"COUNTIF(L31:L55,Y31)","v":0},{"$f":"Z31/(AB4-Z25)","v":0},{"$f":"IF(AA31=0,0,(AA31*((LOG(AA31))/LOG(2))))","v":0},null,{"$f":"N31","v":22111},{"$f":"COUNTIF(L56:L79,AD31)","v":0},{"$f":"AE31/(AG4-AE25)","v":0},{"$f":"IF(AF31=0,0,(AF31*((LOG(AF31))/LOG(2))))","v":0},null,{"$f":"N31","v":22111},{"$f":"COUNTIF(L80:L103,AI31)","v":0},{"$f":"AJ31/(AL4-AJ25)","v":0},{"$f":"IF(AK31=0,0,(AK31*((LOG(AK31))/LOG(2))))","v":0},null,{"$f":"N31","v":22111},{"$f":"COUNTIF(L104:L128,AN31)","v":0},{"$f":"AO31/(AQ4-AO25)","v":0},{"$f":"IF(AP31=0,0,(AP31*((LOG(AP31))/LOG(2))))","v":0},null,{"$f":"N31","v":22111},{"$f":"COUNTIF(L129:L152,AS31)","v":0},{"$f":"AT31/(AV4-AT25)","v":0},{"$f":"IF(AU31=0,0,(AU31*((LOG(AU31))/LOG(2))))","v":0}]
[12,4439,13,4458,13,4472,23,4484,13,4493,0,11121,null,22112,{"$f":"COUNTIF($L$7:$L$500,N32)","v":0},{"$f":"O32/$Q$4","v":0},{"$f":"IF(P32=0,0,(P32*((LOG(P32))/LOG(2))))","v":0},null,null,{"$f":"N32","v":22112},{"$f":"COUNTIF(L7:L30,T32)","v":0},{"$f":"U32/(W4-U25)","v":0},{"$f":"IF(V32=0,0,(V32*((LOG(V32))/LOG(2))))","v":0},null,{"$f":"N32","v":22112},{"$f":"COUNTIF(L31:L55,Y32)","v":0},{"$f":"Z32/(AB4-Z25)","v":0},{"$f":"IF(AA32=0,0,(AA32*((LOG(AA32))/LOG(2))))","v":0},null,{"$f":"N32","v":22112},{"$f":"COUNTIF(L56:L79,AD32)","v":0},{"$f":"AE32/(AG4-AE25)","v":0},{"$f":"IF(AF32=0,0,(AF32*((LOG(AF32))/LOG(2))))","v":0},null,{"$f":"N32","v":22112},{"$f":"COUNTIF(L80:L103,AI32)","v":0},{"$f":"AJ32/(AL4-AJ25)","v":0},{"$f":"IF(AK32=0,0,(AK32*((LOG(AK32))/LOG(2))))","v":0},null,{"$f":"N32","v":22112},{"$f":"COUNTIF(L104:L128,AN32)","v":0},{"$f":"AO32/(AQ4-AO25)","v":0},{"$f":"IF(AP32=0,0,(AP32*((LOG(AP32))/LOG(2))))","v":0},null,{"$f":"N32","v":22112},{"$f":"COUNTIF(L129:L152,AS32)","v":0},{"$f":"AT32/(AV4-AT25)","v":0},{"$f":"IF(AU32=0,0,(AU32*((LOG(AU32))/LOG(2))))","v":0}]
[12,4638,13,4653,24,4663,14,4671,24,4684,0,11212,null,22121,{"$f":"COUNTIF($L$7:$L$500,N33)","v":3},{"$f":"O33/$Q$4","v":2.0547945205479451E-2},{"$f":"IF(P33=0,0,(P33*((LOG(P33))/LOG(2))))","v":-0.11516839845531907},null,null,{"$f":"N33","v":22121},{"$f":"COUNTIF(L7:L30,T33)","v":0},{"$f":"U33/(W4-U25)","v":0},{"$f":"IF(V33=0,0,(V33*((LOG(V33))/LOG(2))))","v":0},null,{"$f":"N33","v":22121},{"$f":"COUNTIF(L31:L55,Y33)","v":0},{"$f":"Z33/(AB4-Z25)","v":0},{"$f":"IF(AA33=0,0,(AA33*((LOG(AA33))/LOG(2))))","v":0},null,{"$f":"N33","v":22121},{"$f":"COUNTIF(L56:L79,AD33)","v":0},{"$f":"AE33/(AG4-AE25)","v":0},{"$f":"IF(AF33=0,0,(AF33*((LOG(AF33))/LOG(2))))","v":0},null,{"$f":"N33","v":22121},{"$f":"COUNTIF(L80:L103,AI33)","v":0},{"$f":"AJ33/(AL4-AJ25)","v":0},{"$f":"IF(AK33=0,0,(AK33*((LOG(AK33))/LOG(2))))","v":0},null,{"$f":"N33","v":22121},{"$f":"COUNTIF(L104:L128,AN33)","v":0},{"$f":"AO33/(AQ4-AO25)","v":0},{"$f":"IF(AP33=0,0,(AP33*((LOG(AP33))/LOG(2))))","v":0},null,{"$f":"N33","v":22121},{"$f":"COUNTIF(L129:L152,AS33)","v":3},{"$f":"AT33/(AV4-AT25)","v":0.14285714285714285},{"$f":"IF(AU33=0,0,(AU33*((LOG(AU33))/LOG(2))))","v":-0.40105070315108626}]
[12,4789,13,4795,13,4806,14,4821,13,4831,0,11111,null,22122,{"$f":"COUNTIF($L$7:$L$500,N34)","v":0},{"$f":"O34/$Q$4","v":0},{"$f":"IF(P34=0,0,(P34*((LOG(P34))/LOG(2))))","v":0},null,null,{"$f":"N34","v":22122},{"$f":"COUNTIF(L7:L30,T34)","v":0},{"$f":"U34/(W4-U25)","v":0},{"$f":"IF(V34=0,0,(V34*((LOG(V34))/LOG(2))))","v":0},null,{"$f":"N34","v":22122},{"$f":"COUNTIF(L31:L55,Y34)","v":0},{"$f":"Z34/(AB4-Z25)","v":0},{"$f":"IF(AA34=0,0,(AA34*((LOG(AA34))/LOG(2))))","v":0},null,{"$f":"N34","v":22122},{"$f":"COUNTIF(L56:L79,AD34)","v":0},{"$f":"AE34/(AG4-AE25)","v":0},{"$f":"IF(AF34=0,0,(AF34*((LOG(AF34))/LOG(2))))","v":0},null,{"$f":"N34","v":22122},{"$f":"COUNTIF(L80:L103,AI34)","v":0},{"$f":"AJ34/(AL4-AJ25)","v":0},{"$f":"IF(AK34=0,0,(AK34*((LOG(AK34))/LOG(2))))","v":0},null,{"$f":"N34","v":22122},{"$f":"COUNTIF(L104:L128,AN34)","v":0},{"$f":"AO34/(AQ4-AO25)","v":0},{"$f":"IF(AP34=0,0,(AP34*((LOG(AP34))/LOG(2))))","v":0},null,{"$f":"N34","v":22122},{"$f":"COUNTIF(L129:L152,AS34)","v":0},{"$f":"AT34/(AV4-AT25)","v":0},{"$f":"IF(AU34=0,0,(AU34*((LOG(AU34))/LOG(2))))","v":0}]
[12,4947,13,4961,13,4978,23,4992,13,5002,0,11121,null,22211,{"$f":"COUNTIF($L$7:$L$500,N35)","v":1},{"$f":"O35/$Q$4","v":6.8493150684931503E-3},{"$f":"IF(P35=0,0,(P35*((LOG(P35))/LOG(2))))","v":-4.9245373690959021E-2},null,null,{"$f":"N35","v":22211},{"$f":"COUNTIF(L7:L30,T35)","v":1},{"$f":"U35/(W4-U25)","v":4.1666666666666664E-2},{"$f":"IF(V35=0,0,(V35*((LOG(V35))/LOG(2))))","v":-0.19104010419671485},null,{"$f":"N35","v":22211},{"$f":"COUNTIF(L31:L55,Y35)","v":0},{"$f":"Z35/(AB4-Z25)","v":0},{"$f":"IF(AA35=0,0,(AA35*((LOG(AA35))/LOG(2))))","v":0},null,{"$f":"N35","v":22211},{"$f":"COUNTIF(L56:L79,AD35)","v":0},{"$f":"AE35/(AG4-AE25)","v":0},{"$f":"IF(AF35=0,0,(AF35*((LOG(AF35))/LOG(2))))","v":0},null,{"$f":"N35","v":22211},{"$f":"COUNTIF(L80:L103,AI35)","v":0},{"$f":"AJ35/(AL4-AJ25)","v":0},{"$f":"IF(AK35=0,0,(AK35*((LOG(AK35))/LOG(2))))","v":0},null,{"$f":"N35","v":22211},{"$f":"COUNTIF(L104:L128,AN35)","v":0},{"$f":"AO35/(AQ4-AO25)","v":0},{"$f":"IF(AP35=0,0,(AP35*((LOG(AP35))/LOG(2))))","v":0},null,{"$f":"N35","v":22211},{"$f":"COUNTIF(L129:L152,AS35)","v":0},{"$f":"AT35/(AV4-AT25)","v":0},{"$f":"IF(AU35=0,0,(AU35*((LOG(AU35))/LOG(2))))","v":0}]
[12,5105,13,5119,13,5121,23,5135,13,5147,0,11121,null,22212,{"$f":"COUNTIF($L$7:$L$500,N36)","v":0},{"$f":"O36/$Q$4","v":0},{"$f":"IF(P36=0,0,(P36*((LOG(P36))/LOG(2))))","v":0},null,null,{"$f":"N36","v":22212},{"$f":"COUNTIF(L7:L30,T36)","v":0},{"$f":"U36/(W4-U25)","v":0},{"$f":"IF(V36=0,0,(V36*((LOG(V36))/LOG(2))))","v":0},null,{"$f":"N36","v":22212},{"$f":"COUNTIF(L31:L55,Y36)","v":0},{"$f":"Z36/(AB4-Z25)","v":0},{"$f":"IF(AA36=0,0,(AA36*((LOG(AA36))/LOG(2))))","v":0},null,{"$f":"N36","v":22212},{"$f":"COUNTIF(L56:L79,AD36)","v":0},{"$f":"AE36/(AG4-AE25)","v":0},{"$f":"IF(AF36=0,0,(AF36*((LOG(AF36))/LOG(2))))","v":0},null,{"$f":"N36","v":22212},{"$f":"COUNTIF(L80:L103,AI36)","v":0},{"$f":"AJ36/(AL4-AJ25)","v":0},{"$f":"IF(AK36=0,0,(AK36*((LOG(AK36))/LOG(2))))","v":0},null,{"$f":"N36","v":22212},{"$f":"COUNTIF(L104:L128,AN36)","v":0},{"$f":"AO36/(AQ4-AO25)","v":0},{"$f":"IF(AP36=0,0,(AP36*((LOG(AP36))/LOG(2))))","v":0},null,{"$f":"N36","v":22212},{"$f":"COUNTIF(L129:L152,AS36)","v":0},{"$f":"AT36/(AV4-AT25)","v":0},{"$f":"IF(AU36=0,0,(AU36*((LOG(AU36))/LOG(2))))","v":0}]
[12,5259,13,5287,13,5292,23,5302,13,5314,0,11121,null,22221,{"$f":"COUNTIF($L$7:$L$500,N37)","v":0},{"$f":"O37/$Q$4","v":0},{"$f":"IF(P37=0,0,(P37*((LOG(P37))/LOG(2))))","v":0},null,null,{"$f":"N37","v":22221},{"$f":"COUNTIF(L7:L30,T37)","v":0},{"$f":"U37/(W4-U25)","v":0},{"$f":"IF(V37=0,0,(V37*((LOG(V37))/LOG(2))))","v":0},null,{"$f":"N37","v":22221},{"$f":"COUNTIF(L31:L55,Y37)","v":0},{"$f":"Z37/(AB4-Z25)","v":0},{"$f":"IF(AA37=0,0,(AA37*((LOG(AA37))/LOG(2))))","v":0},null,{"$f":"N37","v":22221},{"$f":"COUNTIF(L56:L79,AD37)","v":0},{"$f":"AE37/(AG4-AE25)","v":0},{"$f":"IF(AF37=0,0,(AF37*((LOG(AF37))/LOG(2))))","v":0},null,{"$f":"N37","v":22221},{"$f":"COUNTIF(L80:L103,AI37)","v":0},{"$f":"AJ37/(AL4-AJ25)","v":0},{"$f":"IF(AK37=0,0,(AK37*((LOG(AK37))/LOG(2))))","v":0},null,{"$f":"N37","v":22221},{"$f":"COUNTIF(L104:L128,AN37)","v":0},{"$f":"AO37/(AQ4-AO25)","v":0},{"$f":"IF(AP37=0,0,(AP37*((LOG(AP37))/LOG(2))))","v":0},null,{"$f":"N37","v":22221},{"$f":"COUNTIF(L129:L152,AS37)","v":0},{"$f":"AT37/(AV4-AT25)","v":0},{"$f":"IF(AU37=0,0,(AU37*((LOG(AU37))/LOG(2))))","v":0}]
[21,5421,11,5429,11,5442,12,5443,24,5458,0,21112,null,22222,{"$f":"COUNTIF($L$7:$L$500,N38)","v":0},{"$f":"O38/$Q$4","v":0},{"$f":"IF(P38=0,0,(P38*((LOG(P38))/LOG(2))))","v":0},null,null,{"$f":"N38","v":22222},{"$f":"COUNTIF(L7:L30,T38)","v":0},{"$f":"U38/(W4-U25)","v":0},{"$f":"IF(V38=0,0,(V38*((LOG(V38))/LOG(2))))","v":0},null,{"$f":"N38","v":22222},{"$f":"COUNTIF(L31:L55,Y38)","v":0},{"$f":"Z38/(AB4-Z25)","v":0},{"$f":"IF(AA38=0,0,(AA38*((LOG(AA38))/LOG(2))))","v":0},null,{"$f":"N38","v":22222},{"$f":"COUNTIF(L56:L79,AD38)","v":0},{"$f":"AE38/(AG4-AE25)","v":0},{"$f":"IF(AF38=0,0,(AF38*((LOG(AF38))/LOG(2))))","v":0},null,{"$f":"N38","v":22222},{"$f":"COUNTIF(L80:L103,AI38)","v":0},{"$f":"AJ38/(AL4-AJ25)","v":0},{"$f":"IF(AK38=0,0,(AK38*((LOG(AK38))/LOG(2))))","v":0},null,{"$f":"N38","v":22222},{"$f":"COUNTIF(L104:L128,AN38)","v":0},{"$f":"AO38/(AQ4-AO25)","v":0},{"$f":"IF(AP38=0,0,(AP38*((LOG(AP38))/LOG(2))))","v":0},null,{"$f":"N38","v":22222},{"$f":"COUNTIF(L129:L152,AS38)","v":0},{"$f":"AT38/(AV4-AT25)","v":0},{"$f":"IF(AU38=0,0,(AU38*((LOG(AU38))/LOG(2))))","v":0}]
[12,5588,13,5602,13,5603,23,5616,13,5626,0,11121,null,null,null,{"$f":"SUM(P7:P38)","v":1},{"$f":"-SUM(Q7:Q38)","v":3.6658666614143907},null,null,null,null,{"$f":"SUM(V7:V38)","v":0.99999999999999989},{"$f":"-SUM(W7:W38)","v":3.3401998765158556},null,null,null,{"$f":"SUM(AA7:AA38)","v":1},{"$f":"-SUM(AB7:AB38)","v":2.7524876891689534},null,null,null,{"$f":"SUM(AF7:AF38)","v":0.99999999999999978},{"$f":"-SUM(AG7:AG38)","v":2.707282064282345},null,null,null,{"$f":"SUM(AK7:AK38)","v":0.99999999999999989},{"$f":"-SUM(AL7:AL38)","v":2.7254128972590443},null,null,null,{"$f":"SUM(AP7:AP38)","v":1},{"$f":"-SUM(AQ7:AQ38)","v":3.1135388697992599},null,null,null,{"$f":"SUM(AU7:AU38)","v":1},{"$f":"-SUM(AV7:AV38)","v":2.8385464473934898}]
[21,5728,11,5742,11,5744,12,5752,13,5765,0,21111,null,null,null,"U=",{"$f":"Q39/(LOG(Q4)/LOG(2))","v":0.5098687223023749},null,null,null,null,"U1=",{"$f":"W39/(LOG(W4)/LOG(2))","v":0.72851192915765062},null,null,null,"U2=",{"$f":"AB39/(LOG(AB4)/LOG(2))","v":0.59271596205533605},null,null,null,"U3=",{"$f":"AG39/(LOG(AG4)/LOG(2))","v":0.59046983783542917},null,null,null,"U4=",{"$f":"AL39/(LOG(AL4)/LOG(2))","v":0.59442425032492019},null,null,null,"U5=",{"$f":"AQ39/(LOG(AQ4)/LOG(2))","v":0.67046410193643369},null,null,null,"U6=",{"$f":"AV39/(LOG(AV4)/LOG(2))","v":0.61909916317680302}]
[12,5881,13,5894,24,5907,14,5918,13,5939,0,11211]
[12,6045,13,6046,24,6060,14,6070,24,6085,0,11212]
[12,6196,13,6212,13,6229,23,6252,13,6264,0,11121,null,"Total Target Seq"]
[12,6369,13,6391,24,6404,14,6413,24,6425,0,11212,null,{"$f":"COUNTIF(L7:L152,G3)","v":7},null,24,25,24,24,25,24]
[21,6526,11,6535,11,6537,12,6550,13,6568,0,21111,null,null,null,"% of reinforcement given in 6 equal intervals based on number of trials "]
[21,6674,11,6710,22,6723,14,6733,13,6750,0,21211,null,null,null,"%_1","%_2","%_3","%_4","%_5","%_6"]
[12,6883,13,6902,24,6914,14,6925,13,6936,0,11211,null,null,"target sequence",{"$f":"$G$3","v":21121},{"$f":"$G$3","v":21121},{"$f":"$G$3","v":21121},{"$f":"$G$3","v":21121},{"$f":"$G$3","v":21121},{"$f":"$G$3","v":21121}]
[21,7060,11,7069,22,7078,14,7087,13,7106,0,21211,null,null,"total reinforcement",{"$f":"U25","v":0},{"$f":"Z25","v":0},{"$f":"AE25","v":1},{"$f":"AJ25","v":0},{"$f":"AO25","v":3},{"$f":"AT25","v":3}]
[12,7220,13,7231,13,7245,23,7257,13,7267,0,11121,null,null,"% target"]
[12,7378,13,7415,13,7425,23,7438,13,7449,0,11121,null,null,"CCRF"]
[12,7558,13,7559,13,7571,14,7589,13,7602,0,11111,null,null,"% CCRf"]
[12,7721,13,7740,13,7756,14,7769,13,7793,0,11111,null,null,"average response rate",{"$f":"J30/P44","v":169.58333333333334},{"$f":"(J55-J30)/Q44","v":168.36},{"$f":"(J79-J55)/R44","v":160.875},{"$f":"(J103-J79)/S44","v":171.875},{"$f":"(J128-J103)/T44","v":163.4},{"$f":"(J152-J128)/U44","v":151.875}]
[12,7917,24,7929,13,7935,23,7948,13,7957,0,12121]
[12,8063,13,8076,13,8090,14,8104,13,8118,0,11111]
[12,8231,13,8250,13,8259,23,8271,13,8279,0,11121]
[12,8382,13,8397,13,8410,14,8416,13,8421,0,11111]
[12,8537,13,8539,24,8552,14,8562,24,8580,0,11212]
[12,8710,13,8724,24,8735,14,8746,13,8760,0,11211]
[12,8888,13,8909,13,8911,23,8923,13,8934,0,11121]
[12,9043,13,9058,24,9075,14,9083,24,9099,0,11212]
[12,9214,13,9215,24,9228,14,9239,24,9260,0,11212]
[12,9385,13,9399,13,9419,23,9437,13,9448,0,11121]
[12,9545,13,9554,24,9567,14,9579,24,9590,0,11212]
[21,9711,11,9721,11,9739,21,9751,11,9762,1,21121]
[12,9875,13,9884,24,9895,14,9908,13,9929,0,11211]
[21,10033,11,10043,22,10052,14,10061,24,10073,0,21212]
[12,10188,13,10197,13,10212,23,10224,13,10238,0,11121]
[12,10337,13,10350,24,10363,14,10373,24,10393,0,11212]
[12,10502,13,10524,13,10538,23,10550,13,10561,0,11121]
[12,10696,13,10706,24,10716,14,10726,13,10742,0,11211]
[12,10842,13,10844,13,10862,23,10874,13,10883,0,11121]
[12,10983,13,10992,13,11001,23,11013,13,11022,0,11121]
[12,11119,13,11130,24,11142,14,11151,24,11176,0,11212]
[12,11291,24,11310,13,11320,23,11330,13,11342,0,12121]
[21,11448,11,11462,22,11476,14,11488,13,11502,0,21211]
[21,11606,11,11623,22,11632,14,11643,13,11656,0,21211]
[12,11775,24,11793,24,11798,14,11814,24,11828,0,12212]
[21,11941,11,11949,22,11959,14,11970,24,11986,0,21212]
[12,12095,24,12105,13,12119,23,12130,13,12140,0,12121]
[12,12264,24,12275,13,12283,23,12300,13,12309,0,12121]
[12,12437,13,12454,13,12467,14,12482,24,12500,0,11112]
[12,12626,24,12638,13,12646,23,12660,13,12671,0,12121]
[12,12794,13,12806,24,12818,14,12826,13,12840,0,11211]
[12,12956,24,12965,13,12974,23,12987,13,12999,0,12121]
[12,13122,13,13130,24,13144,23,13163,13,13174,0,11221]
[12,13301,13,13303,24,13315,14,13328,13,13339,0,11211]
[12,13439,13,13458,24,13470,14,13476,13,13500,0,11211]
[12,13631,24,13645,13,13653,23,13665,13,13674,0,12121]
[12,13812,24,13821,13,13830,14,13844,24,13857,0,12112]
[12,13982,13,13997,24,14008,14,14017,13,14030,0,11211]
[12,14150,13,14167,13,14179,23,14190,13,14198,0,11121]
[12,14320,13,14334,13,14345,14,14360,13,14375,0,11111]
[12,14488,24,14505,13,14515,23,14527,13,14536,0,12121]
[12,14667,13,14681,24,14693,14,14705,24,14730,0,11212]
[12,14871,24,14884,13,14893,23,14905,13,14917,0,12121]
[12,15038,13,15052,13,15063,23,15072,13,15082,0,11121]
[12,15188,13,15196,13,15217,23,15231,13,15243,0,11121]
[12,15358,13,15367,13,15376,23,15386,13,15394,0,11121]
[21,15515,11,15523,22,15533,14,15545,13,15560,0,21211]
[12,15702,13,15715,24,15725,14,15736,13,15750,0,11211]
[12,15881,13,15892,24,15904,14,15914,24,15928,0,11212]
[12,16056,13,16064,13,16079,23,16089,13,16099,0,11121]
[12,16215,13,16225,13,16241,23,16254,13,16265,0,11121]
[12,16374,13,16382,24,16395,14,16403,24,16413,0,11212]
[12,16538,13,16596,13,16602,14,16607,24,16619,0,11112]
[21,16784,11,16792,11,16805,21,16816,11,16828,1,21121]
[12,16921,24,16930,13,16939,14,16965,13,16977,0,12111]
[12,17073,13,17082,13,17089,23,17098,13,17106,0,11121]
[21,17210,11,17219,11,17230,21,17239,11,17248,1,21121]
[12,17337,24,17346,13,17355,23,17364,13,17376,0,12121]
[12,17474,13,17484,24,17493,14,17501,24,17514,0,11212]
[21,17612,11,17622,22,17631,14,17639,24,17651,0,21212]
[12,17750,24,17770,13,17778,23,17793,13,17805,0,12121]
[12,17934,24,17946,13,17957,23,17977,13,17989,0,12121]
[12,18117,24,18128,13,18136,14,18149,24,18160,0,12112]
[12,18311,13,18322,13,18332,23,18342,13,18353,0,11121]
[21,18474,11,18483,22,18495,14,18507,13,18523,0,21211]
[21,18635,11,18643,22,18654,14,18662,24,18672,0,21212]
[12,18803,13,18814,24,18823,14,18833,13,18847,0,11211]
[21,18988,11,18997,22,19010,14,19019,24,19033,0,21212]
[21,19151,11,19179,22,19188,14,19200,13,19216,0,21211]
[21,19329,11,19339,22,19349,23,19371,13,19382,0,21221]
[12,19525,13,19542,24,19553,14,19566,13,19581,0,11211]
[12,19730,24,19742,13,19754,14,19769,13,19794,0,12111]
[21,19894,11,19903,11,19917,21,19928,11,19940,1,21121]
[12,20036,24,20046,13,20054,23,20062,13,20071,0,12121]
[12,20167,24,20181,13,20189,23,20201,13,20211,0,12121]
[21,20313,11,20323,22,20332,14,20341,24,20350,0,21212]
[12,20475,13,20485,13,20496,23,20505,13,20514,0,11121]
[21,20632,22,20639,13,20648,23,20659,13,20671,0,22121]
[21,20783,11,20792,22,20801,14,20810,24,20819,0,21212]
[21,20933,11,20941,11,20954,21,20963,11,20975,1,21121]
[21,21063,11,21077,22,21085,14,21096,24,21110,0,21212]
[12,21207,24,21225,24,21240,14,21252,13,21280,0,12211]
[21,21385,11,21394,22,21403,14,21412,24,21420,0,21212]
[21,21524,11,21533,22,21542,14,21550,24,21560,0,21212]
[21,21672,11,21681,11,21698,21,21706,11,21720,1,21121]
[21,21825,11,21835,22,21843,14,21855,24,21870,0,21212]
[12,21971,13,21986,24,22001,14,22007,24,22015,0,11212]
[12,22128,13,22145,24,22154,14,22163,13,22173,0,11211]
[12,22271,13,22285,24,22296,14,22305,24,22318,0,11212]
[21,22420,11,22435,11,22449,21,22458,11,22470,1,21121]
[21,22562,22,22571,13,22579,23,22588,13,22598,0,22121]
[12,22709,24,22719,13,22728,23,22737,13,22750,0,12121]
[12,22853,13,22871,24,22879,14,22891,13,22955,0,11211]
[12,23052,13,23063,24,23072,14,23081,24,23093,0,11212]
[12,23191,24,23209,24,23216,14,23225,24,23241,0,12212]
[21,23347,22,23364,13,23371,23,23382,13,23394,0,22121]
[12,23511,24,23520,13,23528,23,23538,13,23549,0,12121]
[12,23653,13,23671,24,23685,14,23698,13,23709,0,11211]
[12,23807,13,23816,13,23826,23,23835,13,23844,0,11121]
[12,23952,24,23969,13,23977,23,23986,13,23995,null,12121]

{"sheet":"!N223850.091","index":32,"n_rows":163,"n_cols":48,"rows_kept":163,"cut":false,"hidden":false,"merged":[[4,39,4,42],[5,39,5,40],[4,44,4,47],[5,44,5,45],[4,24,4,27],[5,24,5,25],[4,29,4,32],[5,29,5,30],[4,34,4,37],[5,34,5,35],[1,1,1,2],[5,13,5,14],[42,13,42,14],[43,13,43,14],[4,19,4,22],[5,19,5,20]]}
["Report for:!N223850.091"]
["Date:","<date>"]
["Hen:","<hen>",null,null,null,"Correct Sequence",{"$f":"Start!J2","v":21121},null,null,null,null,null,null,null,null,"Total Sequences in Data",{"$f":"4994-COUNTBLANK(L7:L5000)","v":157},null,null,null,null,"Total Sequences in Block Data",{"$f":"COUNTA(L7:L32)","v":26},null,null,null,"Total Sequences in Block Data",{"$f":"COUNTA(L33:L58)","v":26},null,null,null,"Total Sequences in Block Data",{"$f":"COUNTA(L59:L85)","v":27},null,null,null,"Total Sequences in Block Data",{"$f":"COUNTA(L86:L111)","v":26},null,null,null,"Total Sequences in Block Data",{"$f":"COUNTA(L112:L137)","v":26},null,null,null,"Total Sequences in Block Data",{"$f":"COUNTA(L138:L163)","v":26}]
[null,null,null,null,null,null,null,null,null,null,null,null,null,null,null,"Total Sequences in Summary",{"$f":"SUM(O7:O38)","v":156},null,null,null,null,"Total Sequences in Block Summary",{"$f":"SUM(U7:U38)","v":26},null,null,null,"Total Sequences in Block Summary",{"$f":"SUM(Z7:Z38)","v":26},null,null,null,"Total Sequences in Block Summary",{"$f":"SUM(AE7:AE38)","v":27},null,null,null,"Total Sequences in Block Summary",{"$f":"SUM(AJ7:AJ38)","v":26},null,null,null,"Total Sequences in Block Summary",{"$f":"SUM(AO7:AO38)","v":26},null,null,null,"Total Sequences in Block Summary",{"$f":"SUM(AT7:AT38)","v":25}]
[null,null,null,null,null,null,null,null,null,null,null,null,null,null,null,null,null,null,null,"Block 1",null,null,null,null,"Block 2",null,null,null,null,"Block 3",null,null,null,null,"Block 4",null,null,null,null,"Block 5",null,null,null,null,"Block 6"]
["Sequence\nComponent\n1","Time\n1","Sequence\nComponent\n2","Time\n2","Sequence\nComponent\n3","Time\n3","Sequence\nComponent\n4","Time\n4","Sequence\nComponent\n5","Time\n5","Correct?\n0=No 1=Yes","Sequence",null,"Frequency",null,"Relative Frequency","Variability",null,null,"Frequency",null,"Relative Frequency","Variability",null,"Frequency",null,"Relative Frequency","Variability",null,"Frequency",null,"Relative Frequency","Variability",null,"Frequency",null,"Relative Frequency","Variability",null,"Frequency",null,"Relative Frequency","Variability",null,"Frequency",null,"Relative Frequency","Variability"]
[12,9,13,27,24,47,14,57,13,72,0,11211,null,11111,{"$f":"COUNTIF($L$7:$L$500,N7)","v":10},{"$f":"O7/$Q$4","v":6.4102564102564097E-2},{"$f":"IF(P7=0,0,(P7*((LOG(P7))/LOG(2))))","v":-0.2540688541009542},null,null,{"$f":"N7","v":11111},{"$f":"COUNTIF(L7:L32,T7)","v":2},{"$f":"U7/(W4-U25)","v":8.3333333333333329E-2},{"$f":"IF(V7=0,0,(V7*((LOG(V7))/LOG(2))))","v":-0.29874687506009634},null,{"$f":"N7","v":11111},{"$f":"COUNTIF(L33:L58,Y7)","v":1},{"$f":"Z7/(AB4-Z25)","v":3.8461538461538464E-2},{"$f":"IF(AA7=0,0,(AA7*((LOG(AA7))/LOG(2))))","v":-0.18078614300542661},null,{"$f":"N7","v":11111},{"$f":"COUNTIF(L59:L85,AD7)","v":4},{"$f":"AE7/(AG4-AE25)","v":0.16},{"$f":"IF(AF7=0,0,(AF7*((LOG(AF7))/LOG(2))))","v":-0.42301699036395596},null,{"$f":"N7","v":11111},{"$f":"COUNTIF(L86:L111,AI7)","v":3},{"$f":"AJ7/(AL4-AJ25)","v":0.13636363636363635},{"$f":"IF(AK7=0,0,(AK7*((LOG(AK7))/LOG(2))))","v":-0.39197306153401923},null,{"$f":"N7","v":11111},{"$f":"COUNTIF(L112:L137,AN7)","v":0},{"$f":"AO7/(AQ4-AO25)","v":0},{"$f":"IF(AP7=0,0,(AP7*((LOG(AP7))/LOG(2))))","v":0},null,{"$f":"N7","v":11111},{"$f":"COUNTIF(L138:L163,AS7)","v":0},{"$f":"AT7/(AV4-AT25)","v":0},{"$f":"IF(AU7=0,0,(AU7*((LOG(AU7))/LOG(2))))","v":0}]
[21,201,11,210,11,219,12,236,24,250,0,21112,null,11112,{"$f":"COUNTIF($L$7:$L$500,N8)","v":17},{"$f":"O8/$Q$4","v":0.10897435897435898},{"$f":"IF(P8=0,0,(P8*((LOG(P8))/LOG(2))))","v":-0.34849339371411825},null,null,{"$f":"N8","v":11112},{"$f":"COUNTIF(L7:L32,T8)","v":1},{"$f":"U8/(W4-U25)","v":4.1666666666666664E-2},{"$f":"IF(V8=0,0,(V8*((LOG(V8))/LOG(2))))","v":-0.19104010419671485},null,{"$f":"N8","v":11112},{"$f":"COUNTIF(L33:L58,Y8)","v":7},{"$f":"Z8/(AB4-Z25)","v":0.26923076923076922},{"$f":"IF(AA8=0,0,(AA8*((LOG(AA8))/LOG(2))))","v":-0.50967667586863141},null,{"$f":"N8","v":11112},{"$f":"COUNTIF(L59:L85,AD8)","v":3},{"$f":"AE8/(AG4-AE25)","v":0.12},{"$f":"IF(AF8=0,0,(AF8*((LOG(AF8))/LOG(2))))","v":-0.36706724268642821},null,{"$f":"N8","v":11112},{"$f":"COUNTIF(L86:L111,AI8)","v":2},{"$f":"AJ8/(AL4-AJ25)","v":9.0909090909090912E-2},{"$f":"IF(AK8=0,0,(AK8*((LOG(AK8))/LOG(2))))","v":-0.31449378351248153},null,{"$f":"N8","v":11112},{"$f":"COUNTIF(L112:L137,AN8)","v":3},{"$f":"AO8/(AQ4-AO25)","v":0.15},{"$f":"IF(AP8=0,0,(AP8*((LOG(AP8))/LOG(2))))","v":-0.41054483912493089},null,{"$f":"N8","v":11112},{"$f":"COUNTIF(L138:L163,AS8)","v":1},{"$f":"AT8/(AV4-AT25)","v":4.3478260869565216E-2},{"$f":"IF(AU8=0,0,(AU8*((LOG(AU8))/LOG(2))))","v":-0.19667660678508753}]
[21,366,11,378,22,390,14,401,13,415,0,21211,null,11121,{"$f":"COUNTIF($L$7:$L$500,N9)","v":23},{"$f":"O9/$Q$4","v":0.14743589743589744},{"$f":"IF(P9=0,0,(P9*((LOG(P9))/LOG(2))))","v":-0.40719439772128468},null,null,{"$f":"N9","v":11121},{"$f":"COUNTIF(L7:L32,T9)","v":4},{"$f":"U9/(W4-U25)","v":0.16666666666666666},{"$f":"IF(V9=0,0,(V9*((LOG(V9))/LOG(2))))","v":-0.43082708345352599},null,{"$f":"N9","v":11121},{"$f":"COUNTIF(L33:L58,Y9)","v":5},{"$f":"Z9/(AB4-Z25)","v":0.19230769230769232},{"$f":"IF(AA9=0,0,(AA9*((LOG(AA9))/LOG(2))))","v":-0.45740608139494804},null,{"$f":"N9","v":11121},{"$f":"COUNTIF(L59:L85,AD9)","v":7},{"$f":"AE9/(AG4-AE25)","v":0.28000000000000003},{"$f":"IF(AF9=0,0,(AF9*((LOG(AF9))/LOG(2))))","v":-0.51422035496079388},null,{"$f":"N9","v":11121},{"$f":"COUNTIF(L86:L111,AI9)","v":2},{"$f":"AJ9/(AL4-AJ25)","v":9.0909090909090912E-2},{"$f":"IF(AK9=0,0,(AK9*((LOG(AK9))/LOG(2))))","v":-0.31449378351248153},null,{"$f":"N9","v":11121},{"$f":"COUNTIF(L112:L137,AN9)","v":3},{"$f":"AO9/(AQ4-AO25)","v":0.15},{"$f":"IF(AP9=0,0,(AP9*((LOG(AP9))/LOG(2))))","v":-0.41054483912493089},null,{"$f":"N9","v":11121},{"$f":"COUNTIF(L138:L163,AS9)","v":2},{"$f":"AT9/(AV4-AT25)","v":8.6956521739130432E-2},{"$f":"IF(AU9=0,0,(AU9*((LOG(AU9))/LOG(2))))","v":-0.30639669183104457}]
[12,557,13,565,24,579,14,590,13,612,0,11211,null,11122,{"$f":"COUNTIF($L$7:$L$500,N10)","v":0},{"$f":"O10/$Q$4","v":0},{"$f":"IF(P10=0,0,(P10*((LOG(P10))/LOG(2))))","v":0},null,null,{"$f":"N10","v":11122},{"$f":"COUNTIF(L7:L32,T10)","v":0},{"$f":"U10/(W4-U25)","v":0},{"$f":"IF(V10=0,0,(V10*((LOG(V10))/LOG(2))))","v":0},null,{"$f":"N10","v":11122},{"$f":"COUNTIF(L33:L58,Y10)","v":0},{"$f":"Z10/(AB4-Z25)","v":0},{"$f":"IF(AA10=0,0,(AA10*((LOG(AA10))/LOG(2))))","v":0},null,{"$f":"N10","v":11122},{"$f":"COUNTIF(L59:L85,AD10)","v":0},{"$f":"AE10/(AG4-AE25)","v":0},{"$f":"IF(AF10=0,0,(AF10*((LOG(AF10))/LOG(2))))","v":0},null,{"$f":"N10","v":11122},{"$f":"COUNTIF(L86:L111,AI10)","v":0},{"$f":"AJ10/(AL4-AJ25)","v":0},{"$f":"IF(AK10=0,0,(AK10*((LOG(AK10))/LOG(2))))","v":0},null,{"$f":"N10","v":11122},{"$f":"COUNTIF(L112:L137,AN10)","v":0},{"$f":"AO10/(AQ4-AO25)","v":0},{"$f":"IF(AP10=0,0,(AP10*((LOG(AP10))/LOG(2))))","v":0},null,{"$f":"N10","v":11122},{"$f":"COUNTIF(L138:L163,AS10)","v":0},{"$f":"AT10/(AV4-AT25)","v":0},{"$f":"IF(AU10=0,0,(AU10*((LOG(AU10))/LOG(2))))","v":0}]
[12,723,24,740,13,753,14,767,13,785,0,12111,null,11211,{"$f":"COUNTIF($L$7:$L$500,N11)","v":18},{"$f":"O11/$Q$4","v":0.11538461538461539},{"$f":"IF(P11=0,0,(P11*((LOG(P11))/LOG(2))))","v":-0.35947814047153104},null,null,{"$f":"N11","v":11211},{"$f":"COUNTIF(L7:L32,T11)","v":5},{"$f":"U11/(W4-U25)","v":0.20833333333333334},{"$f":"IF(V11=0,0,(V11*((LOG(V11))/LOG(2))))","v":-0.47146550121537367},null,{"$f":"N11","v":11211},{"$f":"COUNTIF(L33:L58,Y11)","v":5},{"$f":"Z11/(AB4-Z25)","v":0.19230769230769232},{"$f":"IF(AA11=0,0,(AA11*((LOG(AA11))/LOG(2))))","v":-0.45740608139494804},null,{"$f":"N11","v":11211},{"$f":"COUNTIF(L59:L85,AD11)","v":4},{"$f":"AE11/(AG4-AE25)","v":0.16},{"$f":"IF(AF11=0,0,(AF11*((LOG(AF11))/LOG(2))))","v":-0.42301699036395596},null,{"$f":"N11","v":11211},{"$f":"COUNTIF(L86:L111,AI11)","v":0},{"$f":"AJ11/(AL4-AJ25)","v":0},{"$f":"IF(AK11=0,0,(AK11*((LOG(AK11))/LOG(2))))","v":0},null,{"$f":"N11","v":11211},{"$f":"COUNTIF(L112:L137,AN11)","v":1},{"$f":"AO11/(AQ4-AO25)","v":0.05},{"$f":"IF(AP11=0,0,(AP11*((LOG(AP11))/LOG(2))))","v":-0.21609640474436814},null,{"$f":"N11","v":11211},{"$f":"COUNTIF(L138:L163,AS11)","v":3},{"$f":"AT11/(AV4-AT25)","v":0.13043478260869565},{"$f":"IF(AU11=0,0,(AU11*((LOG(AU11))/LOG(2))))","v":-0.3832955811307639}]
[12,892,13,903,24,912,14,923,13,937,0,11211,null,11212,{"$f":"COUNTIF($L$7:$L$500,N12)","v":9},{"$f":"O12/$Q$4","v":5.7692307692307696E-2},{"$f":"IF(P12=0,0,(P12*((LOG(P12))/LOG(2))))","v":-0.23743137792807323},null,null,{"$f":"N12","v":11212},{"$f":"COUNTIF(L7:L32,T12)","v":1},{"$f":"U12/(W4-U25)","v":4.1666666666666664E-2},{"$f":"IF(V12=0,0,(V12*((LOG(V12))/LOG(2))))","v":-0.19104010419671485},null,{"$f":"N12","v":11212},{"$f":"COUNTIF(L33:L58,Y12)","v":0},{"$f":"Z12/(AB4-Z25)","v":0},{"$f":"IF(AA12=0,0,(AA12*((LOG(AA12))/LOG(2))))","v":0},null,{"$f":"N12","v":11212},{"$f":"COUNTIF(L59:L85,AD12)","v":1},{"$f":"AE12/(AG4-AE25)","v":0.04},{"$f":"IF(AF12=0,0,(AF12*((LOG(AF12))/LOG(2))))","v":-0.18575424759098899},null,{"$f":"N12","v":11212},{"$f":"COUNTIF(L86:L111,AI12)","v":2},{"$f":"AJ12/(AL4-AJ25)","v":9.0909090909090912E-2},{"$f":"IF(AK12=0,0,(AK12*((LOG(AK12))/LOG(2))))","v":-0.31449378351248153},null,{"$f":"N12","v":11212},{"$f":"COUNTIF(L112:L137,AN12)","v":4},{"$f":"AO12/(AQ4-AO25)","v":0.2},{"$f":"IF(AP12=0,0,(AP12*((LOG(AP12))/LOG(2))))","v":-0.46438561897747244},null,{"$f":"N12","v":11212},{"$f":"COUNTIF(L138:L163,AS12)","v":1},{"$f":"AT12/(AV4-AT25)","v":4.3478260869565216E-2},{"$f":"IF(AU12=0,0,(AU12*((LOG(AU12))/LOG(2))))","v":-0.19667660678508753}]
[12,1069,13,1074,13,1079,14,1086,13,1102,0,11111,null,11221,{"$f":"COUNTIF($L$7:$L$500,N13)","v":1},{"$f":"O13/$Q$4","v":6.41025641025641E-3},{"$f":"IF(P13=0,0,(P13*((LOG(P13))/LOG(2))))","v":-4.6701296274758004E-2},null,null,{"$f":"N13","v":11221},{"$f":"COUNTIF(L7:L32,T13)","v":0},{"$f":"U13/(W4-U25)","v":0},{"$f":"IF(V13=0,0,(V13*((LOG(V13))/LOG(2))))","v":0},null,{"$f":"N13","v":11221},{"$f":"COUNTIF(L33:L58,Y13)","v":0},{"$f":"Z13/(AB4-Z25)","v":0},{"$f":"IF(AA13=0,0,(AA13*((LOG(AA13))/LOG(2))))","v":0},null,{"$f":"N13","v":11221},{"$f":"COUNTIF(L59:L85,AD13)","v":0},{"$f":"AE13/(AG4-AE25)","v":0},{"$f":"IF(AF13=0,0,(AF13*((LOG(AF13))/LOG(2))))","v":0},null,{"$f":"N13","v":11221},{"$f":"COUNTIF(L86:L111,AI13)","v":1},{"$f":"AJ13/(AL4-AJ25)","v":4.5454545454545456E-2},{"$f":"IF(AK13=0,0,(AK13*((LOG(AK13))/LOG(2))))","v":-0.20270143721078623},null,{"$f":"N13","v":11221},{"$f":"COUNTIF(L112:L137,AN13)","v":0},{"$f":"AO13/(AQ4-AO25)","v":0},{"$f":"IF(AP13=0,0,(AP13*((LOG(AP13))/LOG(2))))","v":0},null,{"$f":"N13","v":11221},{"$f":"COUNTIF(L138:L163,AS13)","v":0},{"$f":"AT13/(AV4-AT25)","v":0},{"$f":"IF(AU13=0,0,(AU13*((LOG(AU13))/LOG(2))))","v":0}]
[12,1211,13,1232,24,1243,14,1260,13,1275,0,11211,null,11222,{"$f":"COUNTIF($L$7:$L$500,N14)","v":0},{"$f":"O14/$Q$4","v":0},{"$f":"IF(P14=0,0,(P14*((LOG(P14))/LOG(2))))","v":0},null,null,{"$f":"N14","v":11222},{"$f":"COUNTIF(L7:L32,T14)","v":0},{"$f":"U14/(W4-U25)","v":0},{"$f":"IF(V14=0,0,(V14*((LOG(V14))/LOG(2))))","v":0},null,{"$f":"N14","v":11222},{"$f":"COUNTIF(L33:L58,Y14)","v":0},{"$f":"Z14/(AB4-Z25)","v":0},{"$f":"IF(AA14=0,0,(AA14*((LOG(AA14))/LOG(2))))","v":0},null,{"$f":"N14","v":11222},{"$f":"COUNTIF(L59:L85,AD14)","v":0},{"$f":"AE14/(AG4-AE25)","v":0},{"$f":"IF(AF14=0,0,(AF14*((LOG(AF14))/LOG(2))))","v":0},null,{"$f":"N14","v":11222},{"$f":"COUNTIF(L86:L111,AI14)","v":0},{"$f":"AJ14/(AL4-AJ25)","v":0},{"$f":"IF(AK14=0,0,(AK14*((LOG(AK14))/LOG(2))))","v":0},null,{"$f":"N14","v":11222},{"$f":"COUNTIF(L112:L137,AN14)","v":0},{"$f":"AO14/(AQ4-AO25)","v":0},{"$f":"IF(AP14=0,0,(AP14*((LOG(AP14))/LOG(2))))","v":0},null,{"$f":"N14","v":11222},{"$f":"COUNTIF(L138:L163,AS14)","v":0},{"$f":"AT14/(AV4-AT25)","v":0},{"$f":"IF(AU14=0,0,(AU14*((LOG(AU14))/LOG(2))))","v":0}]
[21,1392,22,1393,13,1405,23,1419,13,1431,0,22121,null,12111,{"$f":"COUNTIF($L$7:$L$500,N15)","v":1},{"$f":"O15/$Q$4","v":6.41025641025641E-3},{"$f":"IF(P15=0,0,(P15*((LOG(P15))/LOG(2))))","v":-4.6701296274758004E-2},null,null,{"$f":"N15","v":12111},{"$f":"COUNTIF(L7:L32,T15)","v":1},{"$f":"U15/(W4-U25)","v":4.1666666666666664E-2},{"$f":"IF(V15=0,0,(V15*((LOG(V15))/LOG(2))))","v":-0.19104010419671485},null,{"$f":"N15","v":12111},{"$f":"COUNTIF(L33:L58,Y15)","v":0},{"$f":"Z15/(AB4-Z25)","v":0},{"$f":"IF(AA15=0,0,(AA15*((LOG(AA15))/LOG(2))))","v":0},null,{"$f":"N15","v":12111},{"$f":"COUNTIF(L59:L85,AD15)","v":0},{"$f":"AE15/(AG4-AE25)","v":0},{"$f":"IF(AF15=0,0,(AF15*((LOG(AF15))/LOG(2))))","v":0},null,{"$f":"N15","v":12111},{"$f":"COUNTIF(L86:L111,AI15)","v":0},{"$f":"AJ15/(AL4-AJ25)","v":0},{"$f":"IF(AK15=0,0,(AK15*((LOG(AK15))/LOG(2))))","v":0},null,{"$f":"N15","v":12111},{"$f":"COUNTIF(L112:L137,AN15)","v":0},{"$f":"AO15/(AQ4-AO25)","v":0},{"$f":"IF(AP15=0,0,(AP15*((LOG(AP15))/LOG(2))))","v":0},null,{"$f":"N15","v":12111},{"$f":"COUNTIF(L138:L163,AS15)","v":0},{"$f":"AT15/(AV4-AT25)","v":0},{"$f":"IF(AU15=0,0,(AU15*((LOG(AU15))/LOG(2))))","v":0}]
[21,1551,11,1567,22,1578,14,1589,13,1603,0,21211,null,12112,{"$f":"COUNTIF($L$7:$L$500,N16)","v":7},{"$f":"O16/$Q$4","v":4.4871794871794872E-2},{"$f":"IF(P16=0,0,(P16*((LOG(P16))/LOG(2))))","v":-0.20093801972841352},null,null,{"$f":"N16","v":12112},{"$f":"COUNTIF(L7:L32,T16)","v":1},{"$f":"U16/(W4-U25)","v":4.1666666666666664E-2},{"$f":"IF(V16=0,0,(V16*((LOG(V16))/LOG(2))))","v":-0.19104010419671485},null,{"$f":"N16","v":12112},{"$f":"COUNTIF(L33:L58,Y16)","v":1},{"$f":"Z16/(AB4-Z25)","v":3.8461538461538464E-2},{"$f":"IF(AA16=0,0,(AA16*((LOG(AA16))/LOG(2))))","v":-0.18078614300542661},null,{"$f":"N16","v":12112},{"$f":"COUNTIF(L59:L85,AD16)","v":1},{"$f":"AE16/(AG4-AE25)","v":0.04},{"$f":"IF(AF16=0,0,(AF16*((LOG(AF16))/LOG(2))))","v":-0.18575424759098899},null,{"$f":"N16","v":12112},{"$f":"COUNTIF(L86:L111,AI16)","v":1},{"$f":"AJ16/(AL4-AJ25)","v":4.5454545454545456E-2},{"$f":"IF(AK16=0,0,(AK16*((LOG(AK16))/LOG(2))))","v":-0.20270143721078623},null,{"$f":"N16","v":12112},{"$f":"COUNTIF(L112:L137,AN16)","v":2},{"$f":"AO16/(AQ4-AO25)","v":0.1},{"$f":"IF(AP16=0,0,(AP16*((LOG(AP16))/LOG(2))))","v":-0.33219280948873625},null,{"$f":"N16","v":12112},{"$f":"COUNTIF(L138:L163,AS16)","v":1},{"$f":"AT16/(AV4-AT25)","v":4.3478260869565216E-2},{"$f":"IF(AU16=0,0,(AU16*((LOG(AU16))/LOG(2))))","v":-0.19667660678508753}]
[12,1732,24,1751,13,1759,23,1779,13,1790,0,12121,null,12121,{"$f":"COUNTIF($L$7:$L$500,N17)","v":11},{"$f":"O17/$Q$4","v":7.0512820512820512E-2},{"$f":"IF(P17=0,0,(P17*((LOG(P17))/LOG(2))))","v":-0.26977997822099015},null,null,{"$f":"N17","v":12121},{"$f":"COUNTIF(L7:L32,T17)","v":3},{"$f":"U17/(W4-U25)","v":0.125},{"$f":"IF(V17=0,0,(V17*((LOG(V17))/LOG(2))))","v":-0.375},null,{"$f":"N17","v":12121},{"$f":"COUNTIF(L33:L58,Y17)","v":3},{"$f":"Z17/(AB4-Z25)","v":0.11538461538461539},{"$f":"IF(AA17=0,0,(AA17*((LOG(AA17))/LOG(2))))","v":-0.35947814047153104},null,{"$f":"N17","v":12121},{"$f":"COUNTIF(L59:L85,AD17)","v":0},{"$f":"AE17/(AG4-AE25)","v":0},{"$f":"IF(AF17=0,0,(AF17*((LOG(AF17))/LOG(2))))","v":0},null,{"$f":"N17","v":12121},{"$f":"COUNTIF(L86:L111,AI17)","v":2},{"$f":"AJ17/(AL4-AJ25)","v":9.0909090909090912E-2},{"$f":"IF(AK17=0,0,(AK17*((LOG(AK17))/LOG(2))))","v":-0.31449378351248153},null,{"$f":"N17","v":12121},{"$f":"COUNTIF(L112:L137,AN17)","v":1},{"$f":"AO17/(AQ4-AO25)","v":0.05},{"$f":"IF(AP17=0,0,(AP17*((LOG(AP17))/LOG(2))))","v":-0.21609640474436814},null,{"$f":"N17","v":12121},{"$f":"COUNTIF(L138:L163,AS17)","v":2},{"$f":"AT17/(AV4-AT25)","v":8.6956521739130432E-2},{"$f":"IF(AU17=0,0,(AU17*((LOG(AU17))/LOG(2))))","v":-0.30639669183104457}]
[12,1911,13,1918,13,1934,14,1949,13,1970,0,11111,null,12122,{"$f":"COUNTIF($L$7:$L$500,N18)","v":0},{"$f":"O18/$Q$4","v":0},{"$f":"IF(P18=0,0,(P18*((LOG(P18))/LOG(2))))","v":0},null,null,{"$f":"N18","v":12122},{"$f":"COUNTIF(L7:L32,T18)","v":0},{"$f":"U18/(W4-U25)","v":0},{"$f":"IF(V18=0,0,(V18*((LOG(V18))/LOG(2))))","v":0},null,{"$f":"N18","v":12122},{"$f":"COUNTIF(L33:L58,Y18)","v":0},{"$f":"Z18/(AB4-Z25)","v":0},{"$f":"IF(AA18=0,0,(AA18*((LOG(AA18))/LOG(2))))","v":0},null,{"$f":"N18","v":12122},{"$f":"COUNTIF(L59:L85,AD18)","v":0},{"$f":"AE18/(AG4-AE25)","v":0},{"$f":"IF(AF18=0,0,(AF18*((LOG(AF18))/LOG(2))))","v":0},null,{"$f":"N18","v":12122},{"$f":"COUNTIF(L86:L111,AI18)","v":0},{"$f":"AJ18/(AL4-AJ25)","v":0},{"$f":"IF(AK18=0,0,(AK18*((LOG(AK18))/LOG(2))))","v":0},null,{"$f":"N18","v":12122},{"$f":"COUNTIF(L112:L137,AN18)","v":0},{"$f":"AO18/(AQ4-AO25)","v":0},{"$f":"IF(AP18=0,0,(AP18*((LOG(AP18))/LOG(2))))","v":0},null,{"$f":"N18","v":12122},{"$f":"COUNTIF(L138:L163,AS18)","v":0},{"$f":"AT18/(AV4-AT25)","v":0},{"$f":"IF(AU18=0,0,(AU18*((LOG(AU18))/LOG(2))))","v":0}]
[12,2094,13,2103,13,2111,23,2120,13,2131,0,11121,null,12211,{"$f":"COUNTIF($L$7:$L$500,N19)","v":0},{"$f":"O19/$Q$4","v":0},{"$f":"IF(P19=0,0,(P19*((LOG(P19))/LOG(2))))","v":0},null,null,{"$f":"N19","v":12211},{"$f":"COUNTIF(L7:L32,T19)","v":0},{"$f":"U19/(W4-U25)","v":0},{"$f":"IF(V19=0,0,(V19*((LOG(V19))/LOG(2))))","v":0},null,{"$f":"N19","v":12211},{"$f":"COUNTIF(L33:L58,Y19)","v":0},{"$f":"Z19/(AB4-Z25)","v":0},{"$f":"IF(AA19=0,0,(AA19*((LOG(AA19))/LOG(2))))","v":0},null,{"$f":"N19","v":12211},{"$f":"COUNTIF(L59:L85,AD19)","v":0},{"$f":"AE19/(AG4-AE25)","v":0},{"$f":"IF(AF19=0,0,(AF19*((LOG(AF19))/LOG(2))))","v":0},null,{"$f":"N19","v":12211},{"$f":"COUNTIF(L86:L111,AI19)","v":0},{"$f":"AJ19/(AL4-AJ25)","v":0},{"$f":"IF(AK19=0,0,(AK19*((LOG(AK19))/LOG(2))))","v":0},null,{"$f":"N19","v":12211},{"$f":"COUNTIF(L112:L137,AN19)","v":0},{"$f":"AO19/(AQ4-AO25)","v":0},{"$f":"IF(AP19=0,0,(AP19*((LOG(AP19))/LOG(2))))","v":0},null,{"$f":"N19","v":12211},{"$f":"COUNTIF(L138:L163,AS19)","v":0},{"$f":"AT19/(AV4-AT25)","v":0},{"$f":"IF(AU19=0,0,(AU19*((LOG(AU19))/LOG(2))))","v":0}]
[12,2253,24,2262,13,2274,23,2289,13,2299,0,12121,null,12212,{"$f":"COUNTIF($L$7:$L$500,N20)","v":1},{"$f":"O20/$Q$4","v":6.41025641025641E-3},{"$f":"IF(P20=0,0,(P20*((LOG(P20))/LOG(2))))","v":-4.6701296274758004E-2},null,null,{"$f":"N20","v":12212},{"$f":"COUNTIF(L7:L32,T20)","v":0},{"$f":"U20/(W4-U25)","v":0},{"$f":"IF(V20=0,0,(V20*((LOG(V20))/LOG(2))))","v":0},null,{"$f":"N20","v":12212},{"$f":"COUNTIF(L33:L58,Y20)","v":0},{"$f":"Z20/(AB4-Z25)","v":0},{"$f":"IF(AA20=0,0,(AA20*((LOG(AA20))/LOG(2))))","v":0},null,{"$f":"N20","v":12212},{"$f":"COUNTIF(L59:L85,AD20)","v":0},{"$f":"AE20/(AG4-AE25)","v":0},{"$f":"IF(AF20=0,0,(AF20*((LOG(AF20))/LOG(2))))","v":0},null,{"$f":"N20","v":12212},{"$f":"COUNTIF(L86:L111,AI20)","v":1},{"$f":"AJ20/(AL4-AJ25)","v":4.5454545454545456E-2},{"$f":"IF(AK20=0,0,(AK20*((LOG(AK20))/LOG(2))))","v":-0.20270143721078623},null,{"$f":"N20","v":12212},{"$f":"COUNTIF(L112:L137,AN20)","v":0},{"$f":"AO20/(AQ4-AO25)","v":0},{"$f":"IF(AP20=0,0,(AP20*((LOG(AP20))/LOG(2))))","v":0},null,{"$f":"N20","v":12212},{"$f":"COUNTIF(L138:L163,AS20)","v":0},{"$f":"AT20/(AV4-AT25)","v":0},{"$f":"IF(AU20=0,0,(AU20*((LOG(AU20))/LOG(2))))","v":0}]
[12,2453,24,2464,13,2475,14,2504,24,2517,0,12112,null,12221,{"$f":"COUNTIF($L$7:$L$500,N21)","v":0},{"$f":"O21/$Q$4","v":0},{"$f":"IF(P21=0,0,(P21*((LOG(P21))/LOG(2))))","v":0},null,null,{"$f":"N21","v":12221},{"$f":"COUNTIF(L7:L32,T21)","v":0},{"$f":"U21/(W4-U25)","v":0},{"$f":"IF(V21=0,0,(V21*((LOG(V21))/LOG(2))))","v":0},null,{"$f":"N21","v":12221},{"$f":"COUNTIF(L33:L58,Y21)","v":0},{"$f":"Z21/(AB4-Z25)","v":0},{"$f":"IF(AA21=0,0,(AA21*((LOG(AA21))/LOG(2))))","v":0},null,{"$f":"N21","v":12221},{"$f":"COUNTIF(L59:L85,AD21)","v":0},{"$f":"AE21/(AG4-AE25)","v":0},{"$f":"IF(AF21=0,0,(AF21*((LOG(AF21))/LOG(2))))","v":0},null,{"$f":"N21","v":12221},{"$f":"COUNTIF(L86:L111,AI21)","v":0},{"$f":"AJ21/(AL4-AJ25)","v":0},{"$f":"IF(AK21=0,0,(AK21*((LOG(AK21))/LOG(2))))","v":0},null,{"$f":"N21","v":12221},{"$f":"COUNTIF(L112:L137,AN21)","v":0},{"$f":"AO21/(AQ4-AO25)","v":0},{"$f":"IF(AP21=0,0,(AP21*((LOG(AP21))/LOG(2))))","v":0},null,{"$f":"N21","v":12221},{"$f":"COUNTIF(L138:L163,AS21)","v":0},{"$f":"AT21/(AV4-AT25)","v":0},{"$f":"IF(AU21=0,0,(AU21*((LOG(AU21))/LOG(2))))","v":0}]
[12,2638,13,2643,24,2657,14,2665,24,2678,0,11212,null,12222,{"$f":"COUNTIF($L$7:$L$500,N22)","v":0},{"$f":"O22/$Q$4","v":0},{"$f":"IF(P22=0,0,(P22*((LOG(P22))/LOG(2))))","v":0},null,null,{"$f":"N22","v":12222},{"$f":"COUNTIF(L7:L32,T22)","v":0},{"$f":"U22/(W4-U25)","v":0},{"$f":"IF(V22=0,0,(V22*((LOG(V22))/LOG(2))))","v":0},null,{"$f":"N22","v":12222},{"$f":"COUNTIF(L33:L58,Y22)","v":0},{"$f":"Z22/(AB4-Z25)","v":0},{"$f":"IF(AA22=0,0,(AA22*((LOG(AA22))/LOG(2))))","v":0},null,{"$f":"N22","v":12222},{"$f":"COUNTIF(L59:L85,AD22)","v":0},{"$f":"AE22/(AG4-AE25)","v":0},{"$f":"IF(AF22=0,0,(AF22*((LOG(AF22))/LOG(2))))","v":0},null,{"$f":"N22","v":12222},{"$f":"COUNTIF(L86:L111,AI22)","v":0},{"$f":"AJ22/(AL4-AJ25)","v":0},{"$f":"IF(AK22=0,0,(AK22*((LOG(AK22))/LOG(2))))","v":0},null,{"$f":"N22","v":12222},{"$f":"COUNTIF(L112:L137,AN22)","v":0},{"$f":"AO22/(AQ4-AO25)","v":0},{"$f":"IF(AP22=0,0,(AP22*((LOG(AP22))/LOG(2))))","v":0},null,{"$f":"N22","v":12222},{"$f":"COUNTIF(L138:L163,AS22)","v":0},{"$f":"AT22/(AV4-AT25)","v":0},{"$f":"IF(AU22=0,0,(AU22*((LOG(AU22))/LOG(2))))","v":0}]
[21,2782,11,2800,11,2816,12,2829,13,2842,0,21111,null,21111,{"$f":"COUNTIF($L$7:$L$500,N23)","v":6},{"$f":"O23/$Q$4","v":3.8461538461538464E-2},{"$f":"IF(P23=0,0,(P23*((LOG(P23))/LOG(2))))","v":-0.18078614300542661},null,null,{"$f":"N23","v":21111},{"$f":"COUNTIF(L7:L32,T23)","v":2},{"$f":"U23/(W4-U25)","v":8.3333333333333329E-2},{"$f":"IF(V23=0,0,(V23*((LOG(V23))/LOG(2))))","v":-0.29874687506009634},null,{"$f":"N23","v":21111},{"$f":"COUNTIF(L33:L58,Y23)","v":2},{"$f":"Z23/(AB4-Z25)","v":7.6923076923076927E-2},{"$f":"IF(AA23=0,0,(AA23*((LOG(AA23))/LOG(2))))","v":-0.28464920908777636},null,{"$f":"N23","v":21111},{"$f":"COUNTIF(L59:L85,AD23)","v":1},{"$f":"AE23/(AG4-AE25)","v":0.04},{"$f":"IF(AF23=0,0,(AF23*((LOG(AF23))/LOG(2))))","v":-0.18575424759098899},null,{"$f":"N23","v":21111},{"$f":"COUNTIF(L86:L111,AI23)","v":0},{"$f":"AJ23/(AL4-AJ25)","v":0},{"$f":"IF(AK23=0,0,(AK23*((LOG(AK23))/LOG(2))))","v":0},null,{"$f":"N23","v":21111},{"$f":"COUNTIF(L112:L137,AN23)","v":1},{"$f":"AO23/(AQ4-AO25)","v":0.05},{"$f":"IF(AP23=0,0,(AP23*((LOG(AP23))/LOG(2))))","v":-0.21609640474436814},null,{"$f":"N23","v":21111},{"$f":"COUNTIF(L138:L163,AS23)","v":0},{"$f":"AT23/(AV4-AT25)","v":0},{"$f":"IF(AU23=0,0,(AU23*((LOG(AU23))/LOG(2))))","v":0}]
[12,2981,13,2991,13,3007,14,3018,24,3032,0,11112,null,21112,{"$f":"COUNTIF($L$7:$L$500,N24)","v":5},{"$f":"O24/$Q$4","v":3.2051282051282048E-2},{"$f":"IF(P24=0,0,(P24*((LOG(P24))/LOG(2))))","v":-0.15908570910175915},null,null,{"$f":"N24","v":21112},{"$f":"COUNTIF(L7:L32,T24)","v":1},{"$f":"U24/(W4-U25)","v":4.1666666666666664E-2},{"$f":"IF(V24=0,0,(V24*((LOG(V24))/LOG(2))))","v":-0.19104010419671485},null,{"$f":"N24","v":21112},{"$f":"COUNTIF(L33:L58,Y24)","v":1},{"$f":"Z24/(AB4-Z25)","v":3.8461538461538464E-2},{"$f":"IF(AA24=0,0,(AA24*((LOG(AA24))/LOG(2))))","v":-0.18078614300542661},null,{"$f":"N24","v":21112},{"$f":"COUNTIF(L59:L85,AD24)","v":0},{"$f":"AE24/(AG4-AE25)","v":0},{"$f":"IF(AF24=0,0,(AF24*((LOG(AF24))/LOG(2))))","v":0},null,{"$f":"N24","v":21112},{"$f":"COUNTIF(L86:L111,AI24)","v":2},{"$f":"AJ24/(AL4-AJ25)","v":9.0909090909090912E-2},{"$f":"IF(AK24=0,0,(AK24*((LOG(AK24))/LOG(2))))","v":-0.31449378351248153},null,{"$f":"N24","v":21112},{"$f":"COUNTIF(L112:L137,AN24)","v":0},{"$f":"AO24/(AQ4-AO25)","v":0},{"$f":"IF(AP24=0,0,(AP24*((LOG(AP24))/LOG(2))))","v":0},null,{"$f":"N24","v":21112},{"$f":"COUNTIF(L138:L163,AS24)","v":1},{"$f":"AT24/(AV4-AT25)","v":4.3478260869565216E-2},{"$f":"IF(AU24=0,0,(AU24*((LOG(AU24))/LOG(2))))","v":-0.19667660678508753}]
[12,3146,13,3160,13,3168,23,3179,13,3189,0,11121,null,21121,{"$f":"COUNTIF($L$7:$L$500,N25)","v":16},{"$f":"O25/$Q$4","v":0.10256410256410256},{"$f":"IF(P25=0,0,(P25*((LOG(P25))/LOG(2))))","v":-0.33696433013971777},null,null,{"$f":"N25","v":21121},{"$f":"COUNTIF(L7:L32,T25)","v":2},null,null,null,{"$f":"N25","v":21121},{"$f":"COUNTIF(L33:L58,Y25)","v":0},null,null,null,{"$f":"N25","v":21121},{"$f":"COUNTIF(L59:L85,AD25)","v":2},null,null,null,{"$f":"N25","v":21121},{"$f":"COUNTIF(L86:L111,AI25)","v":4},null,null,null,{"$f":"N25","v":21121},{"$f":"COUNTIF(L112:L137,AN25)","v":6},null,null,null,{"$f":"N25","v":21121},{"$f":"COUNTIF(L138:L163,AS25)","v":2}]
[21,3311,11,3325,11,3341,12,3357,13,3372,0,21111,null,21122,{"$f":"COUNTIF($L$7:$L$500,N26)","v":0},{"$f":"O26/$Q$4","v":0},{"$f":"IF(P26=0,0,(P26*((LOG(P26))/LOG(2))))","v":0},null,null,{"$f":"N26","v":21122},{"$f":"COUNTIF(L7:L32,T26)","v":0},{"$f":"U26/(W4-U25)","v":0},{"$f":"IF(V26=0,0,(V26*((LOG(V26))/LOG(2))))","v":0},null,{"$f":"N26","v":21122},{"$f":"COUNTIF(L33:L58,Y26)","v":0},{"$f":"Z26/(AB4-Z25)","v":0},{"$f":"IF(AA26=0,0,(AA26*((LOG(AA26))/LOG(2))))","v":0},null,{"$f":"N26","v":21122},{"$f":"COUNTIF(L59:L85,AD26)","v":0},{"$f":"AE26/(AG4-AE25)","v":0},{"$f":"IF(AF26=0,0,(AF26*((LOG(AF26))/LOG(2))))","v":0},null,{"$f":"N26","v":21122},{"$f":"COUNTIF(L86:L111,AI26)","v":0},{"$f":"AJ26/(AL4-AJ25)","v":0},{"$f":"IF(AK26=0,0,(AK26*((LOG(AK26))/LOG(2))))","v":0},null,{"$f":"N26","v":21122},{"$f":"COUNTIF(L112:L137,AN26)","v":0},{"$f":"AO26/(AQ4-AO25)","v":0},{"$f":"IF(AP26=0,0,(AP26*((LOG(AP26))/LOG(2))))","v":0},null,{"$f":"N26","v":21122},{"$f":"COUNTIF(L138:L163,AS26)","v":0},{"$f":"AT26/(AV4-AT25)","v":0},{"$f":"IF(AU26=0,0,(AU26*((LOG(AU26))/LOG(2))))","v":0}]
[12,3490,13,3503,24,3512,14,3523,13,3534,0,11211,null,21211,{"$f":"COUNTIF($L$7:$L$500,N27)","v":15},{"$f":"O27/$Q$4","v":9.6153846153846159E-2},{"$f":"IF(P27=0,0,(P27*((LOG(P27))/LOG(2))))","v":-0.32485688685132019},null,null,{"$f":"N27","v":21211},{"$f":"COUNTIF(L7:L32,T27)","v":2},{"$f":"U27/(W4-U25)","v":8.3333333333333329E-2},{"$f":"IF(V27=0,0,(V27*((LOG(V27))/LOG(2))))","v":-0.29874687506009634},null,{"$f":"N27","v":21211},{"$f":"COUNTIF(L33:L58,Y27)","v":1},{"$f":"Z27/(AB4-Z25)","v":3.8461538461538464E-2},{"$f":"IF(AA27=0,0,(AA27*((LOG(AA27))/LOG(2))))","v":-0.18078614300542661},null,{"$f":"N27","v":21211},{"$f":"COUNTIF(L59:L85,AD27)","v":2},{"$f":"AE27/(AG4-AE25)","v":0.08},{"$f":"IF(AF27=0,0,(AF27*((LOG(AF27))/LOG(2))))","v":-0.29150849518197797},null,{"$f":"N27","v":21211},{"$f":"COUNTIF(L86:L111,AI27)","v":4},{"$f":"AJ27/(AL4-AJ25)","v":0.18181818181818182},{"$f":"IF(AK27=0,0,(AK27*((LOG(AK27))/LOG(2))))","v":-0.44716938520678134},null,{"$f":"N27","v":21211},{"$f":"COUNTIF(L112:L137,AN27)","v":3},{"$f":"AO27/(AQ4-AO25)","v":0.15},{"$f":"IF(AP27=0,0,(AP27*((LOG(AP27))/LOG(2))))","v":-0.41054483912493089},null,{"$f":"N27","v":21211},{"$f":"COUNTIF(L138:L163,AS27)","v":3},{"$f":"AT27/(AV4-AT25)","v":0.13043478260869565},{"$f":"IF(AU27=0,0,(AU27*((LOG(AU27))/LOG(2))))","v":-0.3832955811307639}]
[12,3653,13,3659,13,3672,23,3681,13,3691,0,11121,null,21212,{"$f":"COUNTIF($L$7:$L$500,N28)","v":12},{"$f":"O28/$Q$4","v":7.6923076923076927E-2},{"$f":"IF(P28=0,0,(P28*((LOG(P28))/LOG(2))))","v":-0.28464920908777636},null,null,{"$f":"N28","v":21212},{"$f":"COUNTIF(L7:L32,T28)","v":0},{"$f":"U28/(W4-U25)","v":0},{"$f":"IF(V28=0,0,(V28*((LOG(V28))/LOG(2))))","v":0},null,{"$f":"N28","v":21212},{"$f":"COUNTIF(L33:L58,Y28)","v":0},{"$f":"Z28/(AB4-Z25)","v":0},{"$f":"IF(AA28=0,0,(AA28*((LOG(AA28))/LOG(2))))","v":0},null,{"$f":"N28","v":21212},{"$f":"COUNTIF(L59:L85,AD28)","v":1},{"$f":"AE28/(AG4-AE25)","v":0.04},{"$f":"IF(AF28=0,0,(AF28*((LOG(AF28))/LOG(2))))","v":-0.18575424759098899},null,{"$f":"N28","v":21212},{"$f":"COUNTIF(L86:L111,AI28)","v":2},{"$f":"AJ28/(AL4-AJ25)","v":9.0909090909090912E-2},{"$f":"IF(AK28=0,0,(AK28*((LOG(AK28))/LOG(2))))","v":-0.31449378351248153},null,{"$f":"N28","v":21212},{"$f":"COUNTIF(L112:L137,AN28)","v":2},{"$f":"AO28/(AQ4-AO25)","v":0.1},{"$f":"IF(AP28=0,0,(AP28*((LOG(AP28))/LOG(2))))","v":-0.33219280948873625},null,{"$f":"N28","v":21212},{"$f":"COUNTIF(L138:L163,AS28)","v":7},{"$f":"AT28/(AV4-AT25)","v":0.30434782608695654},{"$f":"IF(AU28=0,0,(AU28*((LOG(AU28))/LOG(2))))","v":-0.52232387991286355}]
[12,3815,13,3819,13,3833,23,3844,13,3853,0,11121,null,21221,{"$f":"COUNTIF($L$7:$L$500,N29)","v":0},{"$f":"O29/$Q$4","v":0},{"$f":"IF(P29=0,0,(P29*((LOG(P29))/LOG(2))))","v":0},null,null,{"$f":"N29","v":21221},{"$f":"COUNTIF(L7:L32,T29)","v":0},{"$f":"U29/(W4-U25)","v":0},{"$f":"IF(V29=0,0,(V29*((LOG(V29))/LOG(2))))","v":0},null,{"$f":"N29","v":21221},{"$f":"COUNTIF(L33:L58,Y29)","v":0},{"$f":"Z29/(AB4-Z25)","v":0},{"$f":"IF(AA29=0,0,(AA29*((LOG(AA29))/LOG(2))))","v":0},null,{"$f":"N29","v":21221},{"$f":"COUNTIF(L59:L85,AD29)","v":0},{"$f":"AE29/(AG4-AE25)","v":0},{"$f":"IF(AF29=0,0,(AF29*((LOG(AF29))/LOG(2))))","v":0},null,{"$f":"N29","v":21221},{"$f":"COUNTIF(L86:L111,AI29)","v":0},{"$f":"AJ29/(AL4-AJ25)","v":0},{"$f":"IF(AK29=0,0,(AK29*((LOG(AK29))/LOG(2))))","v":0},null,{"$f":"N29","v":21221},{"$f":"COUNTIF(L112:L137,AN29)","v":0},{"$f":"AO29/(AQ4-AO25)","v":0},{"$f":"IF(AP29=0,0,(AP29*((LOG(AP29))/LOG(2))))","v":0},null,{"$f":"N29","v":21221},{"$f":"COUNTIF(L138:L163,AS29)","v":0},{"$f":"AT29/(AV4-AT25)","v":0},{"$f":"IF(AU29=0,0,(AU29*((LOG(AU29))/LOG(2))))","v":0}]
[21,3975,11,3988,11,4003,21,4012,11,4024,1,21121,null,21222,{"$f":"COUNTIF($L$7:$L$500,N30)","v":0},{"$f":"O30/$Q$4","v":0},{"$f":"IF(P30=0,0,(P30*((LOG(P30))/LOG(2))))","v":0},null,null,{"$f":"N30","v":21222},{"$f":"COUNTIF(L7:L32,T30)","v":0},{"$f":"U30/(W4-U25)","v":0},{"$f":"IF(V30=0,0,(V30*((LOG(V30))/LOG(2))))","v":0},null,{"$f":"N30","v":21222},{"$f":"COUNTIF(L33:L58,Y30)","v":0},{"$f":"Z30/(AB4-Z25)","v":0},{"$f":"IF(AA30=0,0,(AA30*((LOG(AA30))/LOG(2))))","v":0},null,{"$f":"N30","v":21222},{"$f":"COUNTIF(L59:L85,AD30)","v":0},{"$f":"AE30/(AG4-AE25)","v":0},{"$f":"IF(AF30=0,0,(AF30*((LOG(AF30))/LOG(2))))","v":0},null,{"$f":"N30","v":21222},{"$f":"COUNTIF(L86:L111,AI30)","v":0},{"$f":"AJ30/(AL4-AJ25)","v":0},{"$f":"IF(AK30=0,0,(AK30*((LOG(AK30))/LOG(2))))","v":0},null,{"$f":"N30","v":21222},{"$f":"COUNTIF(L112:L137,AN30)","v":0},{"$f":"AO30/(AQ4-AO25)","v":0},{"$f":"IF(AP30=0,0,(AP30*((LOG(AP30))/LOG(2))))","v":0},null,{"$f":"N30","v":21222},{"$f":"COUNTIF(L138:L163,AS30)","v":0},{"$f":"AT30/(AV4-AT25)","v":0},{"$f":"IF(AU30=0,0,(AU30*((LOG(AU30))/LOG(2))))","v":0}]
[12,4128,24,4140,13,4150,23,4158,13,4170,0,12121,null,22111,{"$f":"COUNTIF($L$7:$L$500,N31)","v":0},{"$f":"O31/$Q$4","v":0},{"$f":"IF(P31=0,0,(P31*((LOG(P31))/LOG(2))))","v":0},null,null,{"$f":"N31","v":22111},{"$f":"COUNTIF(L7:L32,T31)","v":0},{"$f":"U31/(W4-U25)","v":0},{"$f":"IF(V31=0,0,(V31*((LOG(V31))/LOG(2))))","v":0},null,{"$f":"N31","v":22111},{"$f":"COUNTIF(L33:L58,Y31)","v":0},{"$f":"Z31/(AB4-Z25)","v":0},{"$f":"IF(AA31=0,0,(AA31*((LOG(AA31))/LOG(2))))","v":0},null,{"$f":"N31","v":22111},{"$f":"COUNTIF(L59:L85,AD31)","v":0},{"$f":"AE31/(AG4-AE25)","v":0},{"$f":"IF(AF31=0,0,(AF31*((LOG(AF31))/LOG(2))))","v":0},null,{"$f":"N31","v":22111},{"$f":"COUNTIF(L86:L111,AI31)","v":0},{"$f":"AJ31/(AL4-AJ25)","v":0},{"$f":"IF(AK31=0,0,(AK31*((LOG(AK31))/LOG(2))))","v":0},null,{"$f":"N31","v":22111},{"$f":"COUNTIF(L112:L137,AN31)","v":0},{"$f":"AO31/(AQ4-AO25)","v":0},{"$f":"IF(AP31=0,0,(AP31*((LOG(AP31))/LOG(2))))","v":0},null,{"$f":"N31","v":22111},{"$f":"COUNTIF(L138:L163,AS31)","v":0},{"$f":"AT31/(AV4-AT25)","v":0},{"$f":"IF(AU31=0,0,(AU31*((LOG(AU31))/LOG(2))))","v":0}]
[21,4280,11,4292,11,4304,21,4317,11,4327,1,21121,null,22112,{"$f":"COUNTIF($L$7:$L$500,N32)","v":2},{"$f":"O32/$Q$4","v":1.282051282051282E-2},{"$f":"IF(P32=0,0,(P32*((LOG(P32))/LOG(2))))","v":-8.0582079729003178E-2},null,null,{"$f":"N32","v":22112},{"$f":"COUNTIF(L7:L32,T32)","v":0},{"$f":"U32/(W4-U25)","v":0},{"$f":"IF(V32=0,0,(V32*((LOG(V32))/LOG(2))))","v":0},null,{"$f":"N32","v":22112},{"$f":"COUNTIF(L33:L58,Y32)","v":0},{"$f":"Z32/(AB4-Z25)","v":0},{"$f":"IF(AA32=0,0,(AA32*((LOG(AA32))/LOG(2))))","v":0},null,{"$f":"N32","v":22112},{"$f":"COUNTIF(L59:L85,AD32)","v":1},{"$f":"AE32/(AG4-AE25)","v":0.04},{"$f":"IF(AF32=0,0,(AF32*((LOG(AF32))/LOG(2))))","v":-0.18575424759098899},null,{"$f":"N32","v":22112},{"$f":"COUNTIF(L86:L111,AI32)","v":0},{"$f":"AJ32/(AL4-AJ25)","v":0},{"$f":"IF(AK32=0,0,(AK32*((LOG(AK32))/LOG(2))))","v":0},null,{"$f":"N32","v":22112},{"$f":"COUNTIF(L112:L137,AN32)","v":0},{"$f":"AO32/(AQ4-AO25)","v":0},{"$f":"IF(AP32=0,0,(AP32*((LOG(AP32))/LOG(2))))","v":0},null,{"$f":"N32","v":22112},{"$f":"COUNTIF(L138:L163,AS32)","v":1},{"$f":"AT32/(AV4-AT25)","v":4.3478260869565216E-2},{"$f":"IF(AU32=0,0,(AU32*((LOG(AU32))/LOG(2))))","v":-0.19667660678508753}]
[12,4419,24,4439,13,4446,23,4456,13,4466,0,12121,null,22121,{"$f":"COUNTIF($L$7:$L$500,N33)","v":2},{"$f":"O33/$Q$4","v":1.282051282051282E-2},{"$f":"IF(P33=0,0,(P33*((LOG(P33))/LOG(2))))","v":-8.0582079729003178E-2},null,null,{"$f":"N33","v":22121},{"$f":"COUNTIF(L7:L32,T33)","v":1},{"$f":"U33/(W4-U25)","v":4.1666666666666664E-2},{"$f":"IF(V33=0,0,(V33*((LOG(V33))/LOG(2))))","v":-0.19104010419671485},null,{"$f":"N33","v":22121},{"$f":"COUNTIF(L33:L58,Y33)","v":0},{"$f":"Z33/(AB4-Z25)","v":0},{"$f":"IF(AA33=0,0,(AA33*((LOG(AA33))/LOG(2))))","v":0},null,{"$f":"N33","v":22121},{"$f":"COUNTIF(L59:L85,AD33)","v":0},{"$f":"AE33/(AG4-AE25)","v":0},{"$f":"IF(AF33=0,0,(AF33*((LOG(AF33))/LOG(2))))","v":0},null,{"$f":"N33","v":22121},{"$f":"COUNTIF(L86:L111,AI33)","v":0},{"$f":"AJ33/(AL4-AJ25)","v":0},{"$f":"IF(AK33=0,0,(AK33*((LOG(AK33))/LOG(2))))","v":0},null,{"$f":"N33","v":22121},{"$f":"COUNTIF(L112:L137,AN33)","v":0},{"$f":"AO33/(AQ4-AO25)","v":0},{"$f":"IF(AP33=0,0,(AP33*((LOG(AP33))/LOG(2))))","v":0},null,{"$f":"N33","v":22121},{"$f":"COUNTIF(L138:L163,AS33)","v":1},{"$f":"AT33/(AV4-AT25)","v":4.3478260869565216E-2},{"$f":"IF(AU33=0,0,(AU33*((LOG(AU33))/LOG(2))))","v":-0.19667660678508753}]
[12,4566,24,4588,13,4597,23,4606,13,4616,0,12121,null,22122,{"$f":"COUNTIF($L$7:$L$500,N34)","v":0},{"$f":"O34/$Q$4","v":0},{"$f":"IF(P34=0,0,(P34*((LOG(P34))/LOG(2))))","v":0},null,null,{"$f":"N34","v":22122},{"$f":"COUNTIF(L7:L32,T34)","v":0},{"$f":"U34/(W4-U25)","v":0},{"$f":"IF(V34=0,0,(V34*((LOG(V34))/LOG(2))))","v":0},null,{"$f":"N34","v":22122},{"$f":"COUNTIF(L33:L58,Y34)","v":0},{"$f":"Z34/(AB4-Z25)","v":0},{"$f":"IF(AA34=0,0,(AA34*((LOG(AA34))/LOG(2))))","v":0},null,{"$f":"N34","v":22122},{"$f":"COUNTIF(L59:L85,AD34)","v":0},{"$f":"AE34/(AG4-AE25)","v":0},{"$f":"IF(AF34=0,0,(AF34*((LOG(AF34))/LOG(2))))","v":0},null,{"$f":"N34","v":22122},{"$f":"COUNTIF(L86:L111,AI34)","v":0},{"$f":"AJ34/(AL4-AJ25)","v":0},{"$f":"IF(AK34=0,0,(AK34*((LOG(AK34))/LOG(2))))","v":0},null,{"$f":"N34","v":22122},{"$f":"COUNTIF(L112:L137,AN34)","v":0},{"$f":"AO34/(AQ4-AO25)","v":0},{"$f":"IF(AP34=0,0,(AP34*((LOG(AP34))/LOG(2))))","v":0},null,{"$f":"N34","v":22122},{"$f":"COUNTIF(L138:L163,AS34)","v":0},{"$f":"AT34/(AV4-AT25)","v":0},{"$f":"IF(AU34=0,0,(AU34*((LOG(AU34))/LOG(2))))","v":0}]
[12,4721,13,4735,24,4742,14,4751,13,4761,0,11211,null,22211,{"$f":"COUNTIF($L$7:$L$500,N35)","v":0},{"$f":"O35/$Q$4","v":0},{"$f":"IF(P35=0,0,(P35*((LOG(P35))/LOG(2))))","v":0},null,null,{"$f":"N35","v":22211},{"$f":"COUNTIF(L7:L32,T35)","v":0},{"$f":"U35/(W4-U25)","v":0},{"$f":"IF(V35=0,0,(V35*((LOG(V35))/LOG(2))))","v":0},null,{"$f":"N35","v":22211},{"$f":"COUNTIF(L33:L58,Y35)","v":0},{"$f":"Z35/(AB4-Z25)","v":0},{"$f":"IF(AA35=0,0,(AA35*((LOG(AA35))/LOG(2))))","v":0},null,{"$f":"N35","v":22211},{"$f":"COUNTIF(L59:L85,AD35)","v":0},{"$f":"AE35/(AG4-AE25)","v":0},{"$f":"IF(AF35=0,0,(AF35*((LOG(AF35))/LOG(2))))","v":0},null,{"$f":"N35","v":22211},{"$f":"COUNTIF(L86:L111,AI35)","v":0},{"$f":"AJ35/(AL4-AJ25)","v":0},{"$f":"IF(AK35=0,0,(AK35*((LOG(AK35))/LOG(2))))","v":0},null,{"$f":"N35","v":22211},{"$f":"COUNTIF(L112:L137,AN35)","v":0},{"$f":"AO35/(AQ4-AO25)","v":0},{"$f":"IF(AP35=0,0,(AP35*((LOG(AP35))/LOG(2))))","v":0},null,{"$f":"N35","v":22211},{"$f":"COUNTIF(L138:L163,AS35)","v":0},{"$f":"AT35/(AV4-AT25)","v":0},{"$f":"IF(AU35=0,0,(AU35*((LOG(AU35))/LOG(2))))","v":0}]
[12,4876,13,4885,24,4891,14,4901,13,4916,0,11211,null,22212,{"$f":"COUNTIF($L$7:$L$500,N36)","v":0},{"$f":"O36/$Q$4","v":0},{"$f":"IF(P36=0,0,(P36*((LOG(P36))/LOG(2))))","v":0},null,null,{"$f":"N36","v":22212},{"$f":"COUNTIF(L7:L32,T36)","v":0},{"$f":"U36/(W4-U25)","v":0},{"$f":"IF(V36=0,0,(V36*((LOG(V36))/LOG(2))))","v":0},null,{"$f":"N36","v":22212},{"$f":"COUNTIF(L33:L58,Y36)","v":0},{"$f":"Z36/(AB4-Z25)","v":0},{"$f":"IF(AA36=0,0,(AA36*((LOG(AA36))/LOG(2))))","v":0},null,{"$f":"N36","v":22212},{"$f":"COUNTIF(L59:L85,AD36)","v":0},{"$f":"AE36/(AG4-AE25)","v":0},{"$f":"IF(AF36=0,0,(AF36*((LOG(AF36))/LOG(2))))","v":0},null,{"$f":"N36","v":22212},{"$f":"COUNTIF(L86:L111,AI36)","v":0},{"$f":"AJ36/(AL4-AJ25)","v":0},{"$f":"IF(AK36=0,0,(AK36*((LOG(AK36))/LOG(2))))","v":0},null,{"$f":"N36","v":22212},{"$f":"COUNTIF(L112:L137,AN36)","v":0},{"$f":"AO36/(AQ4-AO25)","v":0},{"$f":"IF(AP36=0,0,(AP36*((LOG(AP36))/LOG(2))))","v":0},null,{"$f":"N36","v":22212},{"$f":"COUNTIF(L138:L163,AS36)","v":0},{"$f":"AT36/(AV4-AT25)","v":0},{"$f":"IF(AU36=0,0,(AU36*((LOG(AU36))/LOG(2))))","v":0}]
[12,5014,13,5019,13,5024,14,5030,24,5043,0,11112,null,22221,{"$f":"COUNTIF($L$7:$L$500,N37)","v":0},{"$f":"O37/$Q$4","v":0},{"$f":"IF(P37=0,0,(P37*((LOG(P37))/LOG(2))))","v":0},null,null,{"$f":"N37","v":22221},{"$f":"COUNTIF(L7:L32,T37)","v":0},{"$f":"U37/(W4-U25)","v":0},{"$f":"IF(V37=0,0,(V37*((LOG(V37))/LOG(2))))","v":0},null,{"$f":"N37","v":22221},{"$f":"COUNTIF(L33:L58,Y37)","v":0},{"$f":"Z37/(AB4-Z25)","v":0},{"$f":"IF(AA37=0,0,(AA37*((LOG(AA37))/LOG(2))))","v":0},null,{"$f":"N37","v":22221},{"$f":"COUNTIF(L59:L85,AD37)","v":0},{"$f":"AE37/(AG4-AE25)","v":0},{"$f":"IF(AF37=0,0,(AF37*((LOG(AF37))/LOG(2))))","v":0},null,{"$f":"N37","v":22221},{"$f":"COUNTIF(L86:L111,AI37)","v":0},{"$f":"AJ37/(AL4-AJ25)","v":0},{"$f":"IF(AK37=0,0,(AK37*((LOG(AK37))/LOG(2))))","v":0},null,{"$f":"N37","v":22221},{"$f":"COUNTIF(L112:L137,AN37)","v":0},{"$f":"AO37/(AQ4-AO25)","v":0},{"$f":"IF(AP37=0,0,(AP37*((LOG(AP37))/LOG(2))))","v":0},null,{"$f":"N37","v":22221},{"$f":"COUNTIF(L138:L163,AS37)","v":0},{"$f":"AT37/(AV4-AT25)","v":0},{"$f":"IF(AU37=0,0,(AU37*((LOG(AU37))/LOG(2))))","v":0}]
[21,5147,11,5157,11,5174,12,5193,13,5207,0,21111,null,22222,{"$f":"COUNTIF($L$7:$L$500,N38)","v":0},{"$f":"O38/$Q$4","v":0},{"$f":"IF(P38=0,0,(P38*((LOG(P38))/LOG(2))))","v":0},null,null,{"$f":"N38","v":22222},{"$f":"COUNTIF(L7:L32,T38)","v":0},{"$f":"U38/(W4-U25)","v":0},{"$f":"IF(V38=0,0,(V38*((LOG(V38))/LOG(2))))","v":0},null,{"$f":"N38","v":22222},{"$f":"COUNTIF(L33:L58,Y38)","v":0},{"$f":"Z38/(AB4-Z25)","v":0},{"$f":"IF(AA38=0,0,(AA38*((LOG(AA38))/LOG(2))))","v":0},null,{"$f":"N38","v":22222},{"$f":"COUNTIF(L59:L85,AD38)","v":0},{"$f":"AE38/(AG4-AE25)","v":0},{"$f":"IF(AF38=0,0,(AF38*((LOG(AF38))/LOG(2))))","v":0},null,{"$f":"N38","v":22222},{"$f":"COUNTIF(L86:L111,AI38)","v":0},{"$f":"AJ38/(AL4-AJ25)","v":0},{"$f":"IF(AK38=0,0,(AK38*((LOG(AK38))/LOG(2))))","v":0},null,{"$f":"N38","v":22222},{"$f":"COUNTIF(L112:L137,AN38)","v":0},{"$f":"AO38/(AQ4-AO25)","v":0},{"$f":"IF(AP38=0,0,(AP38*((LOG(AP38))/LOG(2))))","v":0},null,{"$f":"N38","v":22222},{"$f":"COUNTIF(L138:L163,AS38)","v":0},{"$f":"AT38/(AV4-AT25)","v":0},{"$f":"IF(AU38=0,0,(AU38*((LOG(AU38))/LOG(2))))","v":0}]
[12,5332,13,5342,24,5352,14,5362,13,5378,0,11211,null,null,null,{"$f":"SUM(P7:P38)","v":0.99999999999999978},{"$f":"-SUM(Q7:Q38)","v":3.6649944883536456},null,null,null,null,{"$f":"SUM(V7:V38)","v":0.99999999999999989},{"$f":"-SUM(W7:W38)","v":3.3197738350294781},null,null,null,{"$f":"SUM(AA7:AA38)","v":1},{"$f":"-SUM(AB7:AB38)","v":2.7917607602395411},null,null,null,{"$f":"SUM(AF7:AF38)","v":1.0000000000000002},{"$f":"-SUM(AG7:AG38)","v":2.9476013115120563},null,null,null,{"$f":"SUM(AK7:AK38)","v":1},{"$f":"-SUM(AL7:AL38)","v":3.3342094594480485},null,null,null,{"$f":"SUM(AP7:AP38)","v":1.0000000000000002},{"$f":"-SUM(AQ7:AQ38)","v":3.0086949695628422},null,null,null,{"$f":"SUM(AU7:AU38)","v":1},{"$f":"-SUM(AV7:AV38)","v":3.081768066547006}]
[12,5480,13,5489,13,5503,14,5511,24,5524,0,11112,null,null,null,"U=",{"$f":"Q39/(LOG(Q4)/LOG(2))","v":0.5030600066067461},null,null,null,null,"U1=",{"$f":"W39/(LOG(W4)/LOG(2))","v":0.7062687820922352},null,null,null,"U2=",{"$f":"AB39/(LOG(AB4)/LOG(2))","v":0.59393608420609934},null,null,null,"U3=",{"$f":"AG39/(LOG(AG4)/LOG(2))","v":0.61990978969973554},null,null,null,"U4=",{"$f":"AL39/(LOG(AL4)/LOG(2))","v":0.70933990421786464},null,null,null,"U5=",{"$f":"AQ39/(LOG(AQ4)/LOG(2))","v":0.64008798112035081},null,null,null,"U6=",{"$f":"AV39/(LOG(AV4)/LOG(2))","v":0.66362263184047987}]
[12,5630,13,5641,24,5650,14,5660,13,5673,0,11211]
[21,5779,11,5792,11,5809,12,5823,24,5836,0,21112]
[21,5938,11,5951,11,5968,12,5977,13,5994,0,21111,null,"Total Target Seq"]
[21,6099,11,6112,22,6123,14,6132,13,6145,0,21211,null,{"$f":"COUNTIF(L7:L163,G3)","v":16},null,26,26,27,26,26,26]
[12,6250,13,6255,13,6268,23,6280,13,6290,0,11121,null,null,null,"% of reinforcement given in 6 equal intervals based on number of trials "]
[12,6398,13,6403,13,6410,14,6414,24,6424,0,11112,null,null,null,"%_1","%_2","%_3","%_4","%_5","%_6"]
[12,6527,24,6552,13,6567,23,6576,13,6586,0,12121,null,null,"target sequence",{"$f":"$G$3","v":21121},{"$f":"$G$3","v":21121},{"$f":"$G$3","v":21121},{"$f":"$G$3","v":21121},{"$f":"$G$3","v":21121},{"$f":"$G$3","v":21121}]
[12,6692,13,6702,13,6706,23,6715,13,6727,0,11121,null,null,"total reinforcement",{"$f":"U25","v":2},{"$f":"Z25","v":0},{"$f":"AE25","v":2},{"$f":"AJ25","v":4},{"$f":"AO25","v":6},{"$f":"AT25","v":2}]
[12,6838,13,6849,13,6865,14,6878,24,6891,0,11112,null,null,"% target"]
[12,7009,13,7022,13,7040,14,7055,24,7068,0,11112,null,null,"CCRF"]
[12,7175,13,7185,13,7202,23,7214,13,7223,0,11121,null,null,"% CCRf"]
[12,7345,24,7355,13,7364,14,7378,24,7389,0,12112,null,null,"average response rate",{"$f":"J32/P44","v":166.42307692307693},{"$f":"(J58-J32)/Q44","v":154.76923076923077},{"$f":"(J85-J58)/R44","v":154.2962962962963},{"$f":"(J111-J85)/S44","v":147.84615384615384},{"$f":"(J137-J111)/T44","v":141.84615384615384},{"$f":"(J163-J137)/U44","v":-771.11538461538464}]
[12,7498,13,7503,13,7512,14,7528,13,7542,0,11111]
[12,7641,13,7649,13,7659,23,7668,13,7675,0,11121]
[12,7779,13,7789,24,7800,14,7808,13,7817,0,11211]
[12,7920,13,7928,13,7933,14,7946,24,7959,0,11112]
[12,8062,13,8143,13,8153,23,8167,13,8177,0,11121]
[12,8298,13,8307,13,8323,14,8339,24,8351,0,11112]
[12,8450,13,8455,13,8464,14,8470,13,8477,0,11111]
[12,8588,13,8598,24,8609,14,8618,13,8629,0,11211]
[12,8736,13,8744,13,8756,14,8765,13,8782,0,11111]
[12,8888,13,8903,24,8916,14,8924,24,8937,0,11212]
[12,9051,13,9062,13,9072,14,9090,13,9105,0,11111]
[21,9227,11,9236,11,9245,12,9262,13,9275,0,21111]
[12,9388,13,9393,13,9402,23,9413,13,9427,0,11121]
[12,9542,13,9552,13,9563,14,9572,24,9586,0,11112]
[12,9721,13,9731,13,9742,23,9754,13,9765,0,11121]
[21,9905,11,9915,11,9924,21,9936,11,9946,1,21121]
[12,10048,24,10060,13,10071,14,10083,24,10094,0,12112]
[12,10205,13,10210,13,10216,23,10226,13,10235,0,11121]
[12,10362,13,10372,24,10382,14,10390,13,10403,0,11211]
[12,10512,13,10522,24,10532,14,10541,13,10553,0,11211]
[12,10658,13,10668,13,10682,14,10698,13,10709,0,11111]
[21,10813,11,10823,11,10836,21,10845,11,10856,1,21121]
[21,10948,22,10967,13,10976,14,10989,24,11001,0,22112]
[12,11100,13,11107,13,11116,23,11125,13,11135,0,11121]
[12,11262,13,11272,13,11289,14,11298,24,11310,0,11112]
[12,11415,13,11420,13,11425,14,11435,24,11447,0,11112]
[21,11552,11,11563,22,11573,14,11582,24,11595,0,21212]
[21,11696,11,11705,22,11715,14,11724,13,11735,0,21211]
[12,11851,13,11856,13,11870,23,11879,13,11891,0,11121]
[21,12013,11,12022,22,12031,14,12042,13,12052,0,21211]
[12,12165,13,12171,13,12179,23,12188,13,12196,0,11121]
[12,12296,13,12305,13,12321,23,12329,13,12341,0,11121]
[12,12452,13,12483,24,12493,14,12502,13,12517,0,11211]
[12,12638,13,12651,13,12658,14,12670,13,12691,0,11111]
[21,12823,11,12832,22,12844,14,12856,13,12869,0,21211]
[12,12986,13,13001,13,13010,14,13023,13,13033,0,11111]
[21,13135,11,13145,11,13158,21,13168,11,13176,1,21121]
[21,13266,11,13276,22,13285,14,13293,24,13305,0,21212]
[21,13407,11,13417,22,13427,14,13435,13,13448,0,21211]
[12,13544,13,13556,24,13573,23,13593,13,13601,0,11221]
[21,13700,11,13710,11,13724,21,13735,11,13746,1,21121]
[12,13840,24,13853,24,13861,14,13869,24,13880,0,12212]
[12,13980,24,14000,13,14011,14,14021,24,14038,0,12112]
[12,14152,13,14165,24,14174,14,14184,24,14206,0,11212]
[12,14304,13,14310,13,14315,14,14324,13,14345,0,11111]
[21,14447,11,14458,11,14467,21,14476,11,14486,1,21121]
[12,14589,24,14598,13,14607,23,14619,13,14631,0,12121]
[21,14752,11,14761,22,14770,14,14779,13,14792,0,21211]
[12,14889,13,14894,13,14905,14,14911,24,14919,0,11112]
[12,15017,13,15025,13,15035,23,15045,13,15053,0,11121]
[21,15156,11,15169,11,15182,21,15194,11,15206,1,21121]
[21,15309,11,15323,11,15341,12,15361,24,15373,0,21112]
[12,15472,13,15479,13,15488,14,15499,24,15507,0,11112]
[21,15605,11,15614,11,15623,12,15632,24,15640,0,21112]
[12,15738,13,15745,24,15758,14,15766,24,15778,0,11212]
[12,15876,13,15881,13,15893,23,15902,13,15912,0,11121]
[12,16029,24,16044,13,16051,23,16064,13,16075,0,12121]
[21,16176,11,16186,22,16196,14,16206,13,16216,0,21211]
[21,16325,11,16335,22,16343,14,16352,24,16361,0,21212]
[12,16461,13,16470,13,16480,23,16489,13,16498,0,11121]
[12,16595,13,16599,13,16607,14,16612,24,16620,0,11112]
[12,16718,13,16723,13,16728,14,16733,24,16744,0,11112]
[12,16849,13,16863,24,16872,14,16884,24,16910,0,11212]
[21,17010,11,17020,11,17029,21,17039,11,17051,1,21121]
[21,17144,11,17153,22,17162,14,17172,24,17192,0,21212]
[12,17291,13,17299,24,17307,14,17315,13,17328,0,11211]
[12,17427,13,17431,13,17441,14,17445,24,17454,0,11112]
[12,17555,13,17564,13,17577,23,17587,13,17599,0,11121]
[21,17710,11,17719,11,17729,21,17739,11,17750,1,21121]
[21,17845,11,17855,22,17863,14,17871,24,17882,0,21212]
[12,17982,13,17987,13,18009,23,18017,13,18026,0,11121]
[12,18131,24,18143,13,18152,23,18162,13,18173,0,12121]
[21,18273,11,18282,11,18292,21,18301,11,18309,1,21121]
[12,18408,24,18418,13,18429,14,18440,24,18449,0,12112]
[21,18567,11,18575,22,18587,14,18599,13,18618,0,21211]
[21,18716,11,18726,11,18736,21,18745,11,18754,1,21121]
[21,18848,11,18857,11,18868,21,18878,11,18890,1,21121]
[21,18984,11,18993,22,19003,14,19014,13,19029,0,21211]
[12,19127,13,19142,24,19151,14,19160,24,19169,0,11212]
[12,19270,13,19275,24,19285,14,19292,24,19301,0,11212]
[12,19424,24,19436,13,19447,14,19462,24,19470,0,12112]
[12,19569,13,19578,24,19587,14,19596,24,19606,0,11212]
[21,19706,11,19720,11,19730,12,19741,13,19765,0,21111]
[21,19864,11,19875,11,19884,21,19894,11,19903,1,21121]
[21,19992,11,20007,22,20016,14,20027,13,20049,0,21211]
[12,20149,13,20160,24,20174,14,20183,24,20192,0,11212]
[21,20320,22,20327,13,20337,23,20352,13,20361,0,22121]
[21,20482,22,20487,13,20496,14,20511,24,20524,0,22112]
[12,20630,13,20644,24,20657,14,20669,13,20691,0,11211]
[12,20798,13,20808,24,20817,14,20826,13,20842,0,11211]
[12,20940,13,20957,13,20972,23,20982,13,20993,0,11121]
[21,21093,11,21111,22,21119,14,21128,24,21140,0,21212]
[12,21242,13,21251,13,21262,14,21276,24,21288,0,11112]
[12,21387,24,21410,13,21419,23,21428,13,21439,0,12121]
[21,21544,11,21553,22,21563,14,21573,24,21589,0,21212]
[21,21691,11,21699,22,21709,14,21717,24,21735,0,21212]
[21,21834,11,21844,11,21854,12,21874,24,21897,0,21112]
[21,22015,11,22025,11,22036,21,22051,11,22064,1,21121]
[21,22156,11,22166,22,22179,14,22191,24,22207,0,21212]
[12,22314,13,22324,24,22334,14,22347,13,22361,0,11211]
[12,22467,24,22490,13,22500,14,22510,24,22519,0,12112]
[21,22637,11,22649,22,22661,14,22672,13,22686,0,21211]
[21,22786,11,22798,22,22807,14,22818,13,22833,0,21211]
[21,22932,11,22941,22,22950,14,22960,13,22971,0,21211]
[21,23071,11,23081,22,23089,14,23101,24,23119,0,21212]
[12,23218,13,23226,13,23233,23,23244,13,23254,0,11121]
[21,23352,11,23361,22,23372,14,23381,24,23400,0,21212]
[21,23514,11,23524,11,23535,21,23545,11,23558,1,21121]
[12,23659,24,23670,13,23679,23,23693,13,23705,0,12121]
[21,23817,11,23835,22,23843,14,23853,24,23870,0,21212]
[12,23978,13,23997,null,null,null,null,null,null,null,11]

{"sheet":"!N224910.091","index":33,"n_rows":57,"n_cols":48,"rows_kept":57,"cut":false,"hidden":false,"merged":[[4,39,4,42],[5,39,5,40],[4,44,4,47],[5,44,5,45],[4,24,4,27],[5,24,5,25],[4,29,4,32],[5,29,5,30],[4,34,4,37],[5,34,5,35],[1,1,1,2],[5,13,5,14],[42,13,42,14],[43,13,43,14],[4,19,4,22],[5,19,5,20]]}
["Report for:!N224910.091"]
["Date:","<date>"]
["Hen:","<hen>",null,null,null,"Correct Sequence",{"$f":"Start!J2","v":21121},null,null,null,null,null,null,null,null,"Total Sequences in Data",{"$f":"4994-COUNTBLANK(L7:L5000)","v":51},null,null,null,null,"Total Sequences in Block Data",{"$f":"COUNTA(L7:L15)","v":9},null,null,null,"Total Sequences in Block Data",{"$f":"COUNTA(L16:L23)","v":8},null,null,null,"Total Sequences in Block Data",{"$f":"COUNTA(L24:L32)","v":9},null,null,null,"Total Sequences in Block Data",{"$f":"COUNTA(L33:L40)","v":8},null,null,null,"Total Sequences in Block Data",{"$f":"COUNTA(L41:L49)","v":9},null,null,null,"Total Sequences in Block Data",{"$f":"COUNTA(L50:L57)","v":8}]
[null,null,null,null,null,null,null,null,null,null,null,null,null,null,null,"Total Sequences in Summary",{"$f":"SUM(O7:O38)","v":51},null,null,null,null,"Total Sequences in Block Summary",{"$f":"SUM(U7:U38)","v":9},null,null,null,"Total Sequences in Block Summary",{"$f":"SUM(Z7:Z38)","v":8},null,null,null,"Total Sequences in Block Summary",{"$f":"SUM(AE7:AE38)","v":9},null,null,null,"Total Sequences in Block Summary",{"$f":"SUM(AJ7:AJ38)","v":8},null,null,null,"Total Sequences in Block Summary",{"$f":"SUM(AO7:AO38)","v":9},null,null,null,"Total Sequences in Block Summary",{"$f":"SUM(AT7:AT38)","v":8}]
[null,null,null,null,null,null,null,null,null,null,null,null,null,null,null,null,null,null,null,"Block 1",null,null,null,null,"Block 2",null,null,null,null,"Block 3",null,null,null,null,"Block 4",null,null,null,null,"Block 5",null,null,null,null,"Block 6"]
["Sequence\nComponent\n1","Time\n1","Sequence\nComponent\n2","Time\n2","Sequence\nComponent\n3","Time\n3","Sequence\nComponent\n4","Time\n4","Sequence\nComponent\n5","Time\n5","Correct?\n0=No 1=Yes","Sequence",null,"Frequency",null,"Relative Frequency","Variability",null,null,"Frequency",null,"Relative Frequency","Variability",null,"Frequency",null,"Relative Frequency","Variability",null,"Frequency",null,"Relative Frequency","Variability",null,"Frequency",null,"Relative Frequency","Variability",null,"Frequency",null,"Relative Frequency","Variability",null,"Frequency",null,"Relative Frequency","Variability"]
[12,104,13,112,24,122,14,133,24,147,0,11212,null,11111,{"$f":"COUNTIF($L$7:$L$500,N7)","v":6},{"$f":"O7/$Q$4","v":0.11764705882352941},{"$f":"IF(P7=0,0,(P7*((LOG(P7))/LOG(2))))","v":-0.36323092250003997},null,null,{"$f":"N7","v":11111},{"$f":"COUNTIF(L7:L15,T7)","v":3},{"$f":"U7/(W4-U25)","v":0.33333333333333331},{"$f":"IF(V7=0,0,(V7*((LOG(V7))/LOG(2))))","v":-0.52832083357371862},null,{"$f":"N7","v":11111},{"$f":"COUNTIF(L16:L23,Y7)","v":1},{"$f":"Z7/(AB4-Z25)","v":0.125},{"$f":"IF(AA7=0,0,(AA7*((LOG(AA7))/LOG(2))))","v":-0.375},null,{"$f":"N7","v":11111},{"$f":"COUNTIF(L24:L32,AD7)","v":2},{"$f":"AE7/(AG4-AE25)","v":0.22222222222222221},{"$f":"IF(AF7=0,0,(AF7*((LOG(AF7))/LOG(2))))","v":-0.48220555587606945},null,{"$f":"N7","v":11111},{"$f":"COUNTIF(L33:L40,AI7)","v":0},{"$f":"AJ7/(AL4-AJ25)","v":0},{"$f":"IF(AK7=0,0,(AK7*((LOG(AK7))/LOG(2))))","v":0},null,{"$f":"N7","v":11111},{"$f":"COUNTIF(L41:L49,AN7)","v":0},{"$f":"AO7/(AQ4-AO25)","v":0},{"$f":"IF(AP7=0,0,(AP7*((LOG(AP7))/LOG(2))))","v":0},null,{"$f":"N7","v":11111},{"$f":"COUNTIF(L50:L57,AS7)","v":0},{"$f":"AT7/(AV4-AT25)","v":0},{"$f":"IF(AU7=0,0,(AU7*((LOG(AU7))/LOG(2))))","v":0}]
[12,660,13,664,13,669,23,679,13,687,0,11121,null,11112,{"$f":"COUNTIF($L$7:$L$500,N8)","v":0},{"$f":"O8/$Q$4","v":0},{"$f":"IF(P8=0,0,(P8*((LOG(P8))/LOG(2))))","v":0},null,null,{"$f":"N8","v":11112},{"$f":"COUNTIF(L7:L15,T8)","v":0},{"$f":"U8/(W4-U25)","v":0},{"$f":"IF(V8=0,0,(V8*((LOG(V8))/LOG(2))))","v":0},null,{"$f":"N8","v":11112},{"$f":"COUNTIF(L16:L23,Y8)","v":0},{"$f":"Z8/(AB4-Z25)","v":0},{"$f":"IF(AA8=0,0,(AA8*((LOG(AA8))/LOG(2))))","v":0},null,{"$f":"N8","v":11112},{"$f":"COUNTIF(L24:L32,AD8)","v":0},{"$f":"AE8/(AG4-AE25)","v":0},{"$f":"IF(AF8=0,0,(AF8*((LOG(AF8))/LOG(2))))","v":0},null,{"$f":"N8","v":11112},{"$f":"COUNTIF(L33:L40,AI8)","v":0},{"$f":"AJ8/(AL4-AJ25)","v":0},{"$f":"IF(AK8=0,0,(AK8*((LOG(AK8))/LOG(2))))","v":0},null,{"$f":"N8","v":11112},{"$f":"COUNTIF(L41:L49,AN8)","v":0},{"$f":"AO8/(AQ4-AO25)","v":0},{"$f":"IF(AP8=0,0,(AP8*((LOG(AP8))/LOG(2))))","v":0},null,{"$f":"N8","v":11112},{"$f":"COUNTIF(L50:L57,AS8)","v":0},{"$f":"AT8/(AV4-AT25)","v":0},{"$f":"IF(AU8=0,0,(AU8*((LOG(AU8))/LOG(2))))","v":0}]
[12,914,24,926,13,935,23,943,13,954,0,12121,null,11121,{"$f":"COUNTIF($L$7:$L$500,N9)","v":7},{"$f":"O9/$Q$4","v":0.13725490196078433},{"$f":"IF(P9=0,0,(P9*((LOG(P9))/LOG(2))))","v":-0.39324495959602429},null,null,{"$f":"N9","v":11121},{"$f":"COUNTIF(L7:L15,T9)","v":1},{"$f":"U9/(W4-U25)","v":0.1111111111111111},{"$f":"IF(V9=0,0,(V9*((LOG(V9))/LOG(2))))","v":-0.3522138890491458},null,{"$f":"N9","v":11121},{"$f":"COUNTIF(L16:L23,Y9)","v":1},{"$f":"Z9/(AB4-Z25)","v":0.125},{"$f":"IF(AA9=0,0,(AA9*((LOG(AA9))/LOG(2))))","v":-0.375},null,{"$f":"N9","v":11121},{"$f":"COUNTIF(L24:L32,AD9)","v":0},{"$f":"AE9/(AG4-AE25)","v":0},{"$f":"IF(AF9=0,0,(AF9*((LOG(AF9))/LOG(2))))","v":0},null,{"$f":"N9","v":11121},{"$f":"COUNTIF(L33:L40,AI9)","v":1},{"$f":"AJ9/(AL4-AJ25)","v":0.125},{"$f":"IF(AK9=0,0,(AK9*((LOG(AK9))/LOG(2))))","v":-0.375},null,{"$f":"N9","v":11121},{"$f":"COUNTIF(L41:L49,AN9)","v":2},{"$f":"AO9/(AQ4-AO25)","v":0.25},{"$f":"IF(AP9=0,0,(AP9*((LOG(AP9))/LOG(2))))","v":-0.5},null,{"$f":"N9","v":11121},{"$f":"COUNTIF(L50:L57,AS9)","v":2},{"$f":"AT9/(AV4-AT25)","v":0.2857142857142857},{"$f":"IF(AU9=0,0,(AU9*((LOG(AU9))/LOG(2))))","v":-0.51638712058788683}]
[12,14758,13,14778,13,14789,14,14838,13,14854,0,11111,null,11122,{"$f":"COUNTIF($L$7:$L$500,N10)","v":0},{"$f":"O10/$Q$4","v":0},{"$f":"IF(P10=0,0,(P10*((LOG(P10))/LOG(2))))","v":0},null,null,{"$f":"N10","v":11122},{"$f":"COUNTIF(L7:L15,T10)","v":0},{"$f":"U10/(W4-U25)","v":0},{"$f":"IF(V10=0,0,(V10*((LOG(V10))/LOG(2))))","v":0},null,{"$f":"N10","v":11122},{"$f":"COUNTIF(L16:L23,Y10)","v":0},{"$f":"Z10/(AB4-Z25)","v":0},{"$f":"IF(AA10=0,0,(AA10*((LOG(AA10))/LOG(2))))","v":0},null,{"$f":"N10","v":11122},{"$f":"COUNTIF(L24:L32,AD10)","v":0},{"$f":"AE10/(AG4-AE25)","v":0},{"$f":"IF(AF10=0,0,(AF10*((LOG(AF10))/LOG(2))))","v":0},null,{"$f":"N10","v":11122},{"$f":"COUNTIF(L33:L40,AI10)","v":0},{"$f":"AJ10/(AL4-AJ25)","v":0},{"$f":"IF(AK10=0,0,(AK10*((LOG(AK10))/LOG(2))))","v":0},null,{"$f":"N10","v":11122},{"$f":"COUNTIF(L41:L49,AN10)","v":0},{"$f":"AO10/(AQ4-AO25)","v":0},{"$f":"IF(AP10=0,0,(AP10*((LOG(AP10))/LOG(2))))","v":0},null,{"$f":"N10","v":11122},{"$f":"COUNTIF(L50:L57,AS10)","v":0},{"$f":"AT10/(AV4-AT25)","v":0},{"$f":"IF(AU10=0,0,(AU10*((LOG(AU10))/LOG(2))))","v":0}]
[21,14969,11,14984,11,15001,12,15015,13,15031,0,21111,null,11211,{"$f":"COUNTIF($L$7:$L$500,N11)","v":4},{"$f":"O11/$Q$4","v":7.8431372549019607E-2},{"$f":"IF(P11=0,0,(P11*((LOG(P11))/LOG(2))))","v":-0.2880333601546271},null,null,{"$f":"N11","v":11211},{"$f":"COUNTIF(L7:L15,T11)","v":1},{"$f":"U11/(W4-U25)","v":0.1111111111111111},{"$f":"IF(V11=0,0,(V11*((LOG(V11))/LOG(2))))","v":-0.3522138890491458},null,{"$f":"N11","v":11211},{"$f":"COUNTIF(L16:L23,Y11)","v":1},{"$f":"Z11/(AB4-Z25)","v":0.125},{"$f":"IF(AA11=0,0,(AA11*((LOG(AA11))/LOG(2))))","v":-0.375},null,{"$f":"N11","v":11211},{"$f":"COUNTIF(L24:L32,AD11)","v":0},{"$f":"AE11/(AG4-AE25)","v":0},{"$f":"IF(AF11=0,0,(AF11*((LOG(AF11))/LOG(2))))","v":0},null,{"$f":"N11","v":11211},{"$f":"COUNTIF(L33:L40,AI11)","v":1},{"$f":"AJ11/(AL4-AJ25)","v":0.125},{"$f":"IF(AK11=0,0,(AK11*((LOG(AK11))/LOG(2))))","v":-0.375},null,{"$f":"N11","v":11211},{"$f":"COUNTIF(L41:L49,AN11)","v":1},{"$f":"AO11/(AQ4-AO25)","v":0.125},{"$f":"IF(AP11=0,0,(AP11*((LOG(AP11))/LOG(2))))","v":-0.375},null,{"$f":"N11","v":11211},{"$f":"COUNTIF(L50:L57,AS11)","v":0},{"$f":"AT11/(AV4-AT25)","v":0},{"$f":"IF(AU11=0,0,(AU11*((LOG(AU11))/LOG(2))))","v":0}]
[21,15148,11,15160,11,15178,12,15188,13,15210,0,21111,null,11212,{"$f":"COUNTIF($L$7:$L$500,N12)","v":1},{"$f":"O12/$Q$4","v":1.9607843137254902E-2},{"$f":"IF(P12=0,0,(P12*((LOG(P12))/LOG(2))))","v":-0.11122402631316657},null,null,{"$f":"N12","v":11212},{"$f":"COUNTIF(L7:L15,T12)","v":1},{"$f":"U12/(W4-U25)","v":0.1111111111111111},{"$f":"IF(V12=0,0,(V12*((LOG(V12))/LOG(2))))","v":-0.3522138890491458},null,{"$f":"N12","v":11212},{"$f":"COUNTIF(L16:L23,Y12)","v":0},{"$f":"Z12/(AB4-Z25)","v":0},{"$f":"IF(AA12=0,0,(AA12*((LOG(AA12))/LOG(2))))","v":0},null,{"$f":"N12","v":11212},{"$f":"COUNTIF(L24:L32,AD12)","v":0},{"$f":"AE12/(AG4-AE25)","v":0},{"$f":"IF(AF12=0,0,(AF12*((LOG(AF12))/LOG(2))))","v":0},null,{"$f":"N12","v":11212},{"$f":"COUNTIF(L33:L40,AI12)","v":0},{"$f":"AJ12/(AL4-AJ25)","v":0},{"$f":"IF(AK12=0,0,(AK12*((LOG(AK12))/LOG(2))))","v":0},null,{"$f":"N12","v":11212},{"$f":"COUNTIF(L41:L49,AN12)","v":0},{"$f":"AO12/(AQ4-AO25)","v":0},{"$f":"IF(AP12=0,0,(AP12*((LOG(AP12))/LOG(2))))","v":0},null,{"$f":"N12","v":11212},{"$f":"COUNTIF(L50:L57,AS12)","v":0},{"$f":"AT12/(AV4-AT25)","v":0},{"$f":"IF(AU12=0,0,(AU12*((LOG(AU12))/LOG(2))))","v":0}]
[12,15314,13,15319,13,15326,14,15336,13,15341,0,11111,null,11221,{"$f":"COUNTIF($L$7:$L$500,N13)","v":0},{"$f":"O13/$Q$4","v":0},{"$f":"IF(P13=0,0,(P13*((LOG(P13))/LOG(2))))","v":0},null,null,{"$f":"N13","v":11221},{"$f":"COUNTIF(L7:L15,T13)","v":0},{"$f":"U13/(W4-U25)","v":0},{"$f":"IF(V13=0,0,(V13*((LOG(V13))/LOG(2))))","v":0},null,{"$f":"N13","v":11221},{"$f":"COUNTIF(L16:L23,Y13)","v":0},{"$f":"Z13/(AB4-Z25)","v":0},{"$f":"IF(AA13=0,0,(AA13*((LOG(AA13))/LOG(2))))","v":0},null,{"$f":"N13","v":11221},{"$f":"COUNTIF(L24:L32,AD13)","v":0},{"$f":"AE13/(AG4-AE25)","v":0},{"$f":"IF(AF13=0,0,(AF13*((LOG(AF13))/LOG(2))))","v":0},null,{"$f":"N13","v":11221},{"$f":"COUNTIF(L33:L40,AI13)","v":0},{"$f":"AJ13/(AL4-AJ25)","v":0},{"$f":"IF(AK13=0,0,(AK13*((LOG(AK13))/LOG(2))))","v":0},null,{"$f":"N13","v":11221},{"$f":"COUNTIF(L41:L49,AN13)","v":0},{"$f":"AO13/(AQ4-AO25)","v":0},{"$f":"IF(AP13=0,0,(AP13*((LOG(AP13))/LOG(2))))","v":0},null,{"$f":"N13","v":11221},{"$f":"COUNTIF(L50:L57,AS13)","v":0},{"$f":"AT13/(AV4-AT25)","v":0},{"$f":"IF(AU13=0,0,(AU13*((LOG(AU13))/LOG(2))))","v":0}]
[12,15451,13,15457,13,15480,14,15497,13,15508,0,11111,null,11222,{"$f":"COUNTIF($L$7:$L$500,N14)","v":0},{"$f":"O14/$Q$4","v":0},{"$f":"IF(P14=0,0,(P14*((LOG(P14))/LOG(2))))","v":0},null,null,{"$f":"N14","v":11222},{"$f":"COUNTIF(L7:L15,T14)","v":0},{"$f":"U14/(W4-U25)","v":0},{"$f":"IF(V14=0,0,(V14*((LOG(V14))/LOG(2))))","v":0},null,{"$f":"N14","v":11222},{"$f":"COUNTIF(L16:L23,Y14)","v":0},{"$f":"Z14/(AB4-Z25)","v":0},{"$f":"IF(AA14=0,0,(AA14*((LOG(AA14))/LOG(2))))","v":0},null,{"$f":"N14","v":11222},{"$f":"COUNTIF(L24:L32,AD14)","v":0},{"$f":"AE14/(AG4-AE25)","v":0},{"$f":"IF(AF14=0,0,(AF14*((LOG(AF14))/LOG(2))))","v":0},null,{"$f":"N14","v":11222},{"$f":"COUNTIF(L33:L40,AI14)","v":0},{"$f":"AJ14/(AL4-AJ25)","v":0},{"$f":"IF(AK14=0,0,(AK14*((LOG(AK14))/LOG(2))))","v":0},null,{"$f":"N14","v":11222},{"$f":"COUNTIF(L41:L49,AN14)","v":0},{"$f":"AO14/(AQ4-AO25)","v":0},{"$f":"IF(AP14=0,0,(AP14*((LOG(AP14))/LOG(2))))","v":0},null,{"$f":"N14","v":11222},{"$f":"COUNTIF(L50:L57,AS14)","v":0},{"$f":"AT14/(AV4-AT25)","v":0},{"$f":"IF(AU14=0,0,(AU14*((LOG(AU14))/LOG(2))))","v":0}]
[12,15615,13,15617,24,15630,14,15639,13,15657,0,11211,null,12111,{"$f":"COUNTIF($L$7:$L$500,N15)","v":6},{"$f":"O15/$Q$4","v":0.11764705882352941},{"$f":"IF(P15=0,0,(P15*((LOG(P15))/LOG(2))))","v":-0.36323092250003997},null,null,{"$f":"N15","v":12111},{"$f":"COUNTIF(L7:L15,T15)","v":0},{"$f":"U15/(W4-U25)","v":0},{"$f":"IF(V15=0,0,(V15*((LOG(V15))/LOG(2))))","v":0},null,{"$f":"N15","v":12111},{"$f":"COUNTIF(L16:L23,Y15)","v":3},{"$f":"Z15/(AB4-Z25)","v":0.375},{"$f":"IF(AA15=0,0,(AA15*((LOG(AA15))/LOG(2))))","v":-0.53063906222956647},null,{"$f":"N15","v":12111},{"$f":"COUNTIF(L24:L32,AD15)","v":2},{"$f":"AE15/(AG4-AE25)","v":0.22222222222222221},{"$f":"IF(AF15=0,0,(AF15*((LOG(AF15))/LOG(2))))","v":-0.48220555587606945},null,{"$f":"N15","v":12111},{"$f":"COUNTIF(L33:L40,AI15)","v":1},{"$f":"AJ15/(AL4-AJ25)","v":0.125},{"$f":"IF(AK15=0,0,(AK15*((LOG(AK15))/LOG(2))))","v":-0.375},null,{"$f":"N15","v":12111},{"$f":"COUNTIF(L41:L49,AN15)","v":0},{"$f":"AO15/(AQ4-AO25)","v":0},{"$f":"IF(AP15=0,0,(AP15*((LOG(AP15))/LOG(2))))","v":0},null,{"$f":"N15","v":12111},{"$f":"COUNTIF(L50:L57,AS15)","v":0},{"$f":"AT15/(AV4-AT25)","v":0},{"$f":"IF(AU15=0,0,(AU15*((LOG(AU15))/LOG(2))))","v":0}]
[12,15785,13,15787,24,15820,14,15829,13,15840,0,11211,null,12112,{"$f":"COUNTIF($L$7:$L$500,N16)","v":0},{"$f":"O16/$Q$4","v":0},{"$f":"IF(P16=0,0,(P16*((LOG(P16))/LOG(2))))","v":0},null,null,{"$f":"N16","v":12112},{"$f":"COUNTIF(L7:L15,T16)","v":0},{"$f":"U16/(W4-U25)","v":0},{"$f":"IF(V16=0,0,(V16*((LOG(V16))/LOG(2))))","v":0},null,{"$f":"N16","v":12112},{"$f":"COUNTIF(L16:L23,Y16)","v":0},{"$f":"Z16/(AB4-Z25)","v":0},{"$f":"IF(AA16=0,0,(AA16*((LOG(AA16))/LOG(2))))","v":0},null,{"$f":"N16","v":12112},{"$f":"COUNTIF(L24:L32,AD16)","v":0},{"$f":"AE16/(AG4-AE25)","v":0},{"$f":"IF(AF16=0,0,(AF16*((LOG(AF16))/LOG(2))))","v":0},null,{"$f":"N16","v":12112},{"$f":"COUNTIF(L33:L40,AI16)","v":0},{"$f":"AJ16/(AL4-AJ25)","v":0},{"$f":"IF(AK16=0,0,(AK16*((LOG(AK16))/LOG(2))))","v":0},null,{"$f":"N16","v":12112},{"$f":"COUNTIF(L41:L49,AN16)","v":0},{"$f":"AO16/(AQ4-AO25)","v":0},{"$f":"IF(AP16=0,0,(AP16*((LOG(AP16))/LOG(2))))","v":0},null,{"$f":"N16","v":12112},{"$f":"COUNTIF(L50:L57,AS16)","v":0},{"$f":"AT16/(AV4-AT25)","v":0},{"$f":"IF(AU16=0,0,(AU16*((LOG(AU16))/LOG(2))))","v":0}]
[12,15970,13,16008,13,16020,23,16034,13,16058,0,11121,null,12121,{"$f":"COUNTIF($L$7:$L$500,N17)","v":2},{"$f":"O17/$Q$4","v":3.9215686274509803E-2},{"$f":"IF(P17=0,0,(P17*((LOG(P17))/LOG(2))))","v":-0.18323236635182338},null,null,{"$f":"N17","v":12121},{"$f":"COUNTIF(L7:L15,T17)","v":1},{"$f":"U17/(W4-U25)","v":0.1111111111111111},{"$f":"IF(V17=0,0,(V17*((LOG(V17))/LOG(2))))","v":-0.3522138890491458},null,{"$f":"N17","v":12121},{"$f":"COUNTIF(L16:L23,Y17)","v":0},{"$f":"Z17/(AB4-Z25)","v":0},{"$f":"IF(AA17=0,0,(AA17*((LOG(AA17))/LOG(2))))","v":0},null,{"$f":"N17","v":12121},{"$f":"COUNTIF(L24:L32,AD17)","v":1},{"$f":"AE17/(AG4-AE25)","v":0.1111111111111111},{"$f":"IF(AF17=0,0,(AF17*((LOG(AF17))/LOG(2))))","v":-0.3522138890491458},null,{"$f":"N17","v":12121},{"$f":"COUNTIF(L33:L40,AI17)","v":0},{"$f":"AJ17/(AL4-AJ25)","v":0},{"$f":"IF(AK17=0,0,(AK17*((LOG(AK17))/LOG(2))))","v":0},null,{"$f":"N17","v":12121},{"$f":"COUNTIF(L41:L49,AN17)","v":0},{"$f":"AO17/(AQ4-AO25)","v":0},{"$f":"IF(AP17=0,0,(AP17*((LOG(AP17))/LOG(2))))","v":0},null,{"$f":"N17","v":12121},{"$f":"COUNTIF(L50:L57,AS17)","v":0},{"$f":"AT17/(AV4-AT25)","v":0},{"$f":"IF(AU17=0,0,(AU17*((LOG(AU17))/LOG(2))))","v":0}]
[12,16218,24,16228,13,16236,14,16249,13,16266,0,12111,null,12122,{"$f":"COUNTIF($L$7:$L$500,N18)","v":0},{"$f":"O18/$Q$4","v":0},{"$f":"IF(P18=0,0,(P18*((LOG(P18))/LOG(2))))","v":0},null,null,{"$f":"N18","v":12122},{"$f":"COUNTIF(L7:L15,T18)","v":0},{"$f":"U18/(W4-U25)","v":0},{"$f":"IF(V18=0,0,(V18*((LOG(V18))/LOG(2))))","v":0},null,{"$f":"N18","v":12122},{"$f":"COUNTIF(L16:L23,Y18)","v":0},{"$f":"Z18/(AB4-Z25)","v":0},{"$f":"IF(AA18=0,0,(AA18*((LOG(AA18))/LOG(2))))","v":0},null,{"$f":"N18","v":12122},{"$f":"COUNTIF(L24:L32,AD18)","v":0},{"$f":"AE18/(AG4-AE25)","v":0},{"$f":"IF(AF18=0,0,(AF18*((LOG(AF18))/LOG(2))))","v":0},null,{"$f":"N18","v":12122},{"$f":"COUNTIF(L33:L40,AI18)","v":0},{"$f":"AJ18/(AL4-AJ25)","v":0},{"$f":"IF(AK18=0,0,(AK18*((LOG(AK18))/LOG(2))))","v":0},null,{"$f":"N18","v":12122},{"$f":"COUNTIF(L41:L49,AN18)","v":0},{"$f":"AO18/(AQ4-AO25)","v":0},{"$f":"IF(AP18=0,0,(AP18*((LOG(AP18))/LOG(2))))","v":0},null,{"$f":"N18","v":12122},{"$f":"COUNTIF(L50:L57,AS18)","v":0},{"$f":"AT18/(AV4-AT25)","v":0},{"$f":"IF(AU18=0,0,(AU18*((LOG(AU18))/LOG(2))))","v":0}]
[21,16415,11,16426,11,16437,12,16455,13,16467,0,21111,null,12211,{"$f":"COUNTIF($L$7:$L$500,N19)","v":0},{"$f":"O19/$Q$4","v":0},{"$f":"IF(P19=0,0,(P19*((LOG(P19))/LOG(2))))","v":0},null,null,{"$f":"N19","v":12211},{"$f":"COUNTIF(L7:L15,T19)","v":0},{"$f":"U19/(W4-U25)","v":0},{"$f":"IF(V19=0,0,(V19*((LOG(V19))/LOG(2))))","v":0},null,{"$f":"N19","v":12211},{"$f":"COUNTIF(L16:L23,Y19)","v":0},{"$f":"Z19/(AB4-Z25)","v":0},{"$f":"IF(AA19=0,0,(AA19*((LOG(AA19))/LOG(2))))","v":0},null,{"$f":"N19","v":12211},{"$f":"COUNTIF(L24:L32,AD19)","v":0},{"$f":"AE19/(AG4-AE25)","v":0},{"$f":"IF(AF19=0,0,(AF19*((LOG(AF19))/LOG(2))))","v":0},null,{"$f":"N19","v":12211},{"$f":"COUNTIF(L33:L40,AI19)","v":0},{"$f":"AJ19/(AL4-AJ25)","v":0},{"$f":"IF(AK19=0,0,(AK19*((LOG(AK19))/LOG(2))))","v":0},null,{"$f":"N19","v":12211},{"$f":"COUNTIF(L41:L49,AN19)","v":0},{"$f":"AO19/(AQ4-AO25)","v":0},{"$f":"IF(AP19=0,0,(AP19*((LOG(AP19))/LOG(2))))","v":0},null,{"$f":"N19","v":12211},{"$f":"COUNTIF(L50:L57,AS19)","v":0},{"$f":"AT19/(AV4-AT25)","v":0},{"$f":"IF(AU19=0,0,(AU19*((LOG(AU19))/LOG(2))))","v":0}]
[21,16583,11,16635,11,16648,12,16667,13,16686,0,21111,null,12212,{"$f":"COUNTIF($L$7:$L$500,N20)","v":0},{"$f":"O20/$Q$4","v":0},{"$f":"IF(P20=0,0,(P20*((LOG(P20))/LOG(2))))","v":0},null,null,{"$f":"N20","v":12212},{"$f":"COUNTIF(L7:L15,T20)","v":0},{"$f":"U20/(W4-U25)","v":0},{"$f":"IF(V20=0,0,(V20*((LOG(V20))/LOG(2))))","v":0},null,{"$f":"N20","v":12212},{"$f":"COUNTIF(L16:L23,Y20)","v":0},{"$f":"Z20/(AB4-Z25)","v":0},{"$f":"IF(AA20=0,0,(AA20*((LOG(AA20))/LOG(2))))","v":0},null,{"$f":"N20","v":12212},{"$f":"COUNTIF(L24:L32,AD20)","v":0},{"$f":"AE20/(AG4-AE25)","v":0},{"$f":"IF(AF20=0,0,(AF20*((LOG(AF20))/LOG(2))))","v":0},null,{"$f":"N20","v":12212},{"$f":"COUNTIF(L33:L40,AI20)","v":0},{"$f":"AJ20/(AL4-AJ25)","v":0},{"$f":"IF(AK20=0,0,(AK20*((LOG(AK20))/LOG(2))))","v":0},null,{"$f":"N20","v":12212},{"$f":"COUNTIF(L41:L49,AN20)","v":0},{"$f":"AO20/(AQ4-AO25)","v":0},{"$f":"IF(AP20=0,0,(AP20*((LOG(AP20))/LOG(2))))","v":0},null,{"$f":"N20","v":12212},{"$f":"COUNTIF(L50:L57,AS20)","v":0},{"$f":"AT20/(AV4-AT25)","v":0},{"$f":"IF(AU20=0,0,(AU20*((LOG(AU20))/LOG(2))))","v":0}]
[12,16821,24,16830,13,16839,14,16854,13,16867,0,12111,null,12221,{"$f":"COUNTIF($L$7:$L$500,N21)","v":0},{"$f":"O21/$Q$4","v":0},{"$f":"IF(P21=0,0,(P21*((LOG(P21))/LOG(2))))","v":0},null,null,{"$f":"N21","v":12221},{"$f":"COUNTIF(L7:L15,T21)","v":0},{"$f":"U21/(W4-U25)","v":0},{"$f":"IF(V21=0,0,(V21*((LOG(V21))/LOG(2))))","v":0},null,{"$f":"N21","v":12221},{"$f":"COUNTIF(L16:L23,Y21)","v":0},{"$f":"Z21/(AB4-Z25)","v":0},{"$f":"IF(AA21=0,0,(AA21*((LOG(AA21))/LOG(2))))","v":0},null,{"$f":"N21","v":12221},{"$f":"COUNTIF(L24:L32,AD21)","v":0},{"$f":"AE21/(AG4-AE25)","v":0},{"$f":"IF(AF21=0,0,(AF21*((LOG(AF21))/LOG(2))))","v":0},null,{"$f":"N21","v":12221},{"$f":"COUNTIF(L33:L40,AI21)","v":0},{"$f":"AJ21/(AL4-AJ25)","v":0},{"$f":"IF(AK21=0,0,(AK21*((LOG(AK21))/LOG(2))))","v":0},null,{"$f":"N21","v":12221},{"$f":"COUNTIF(L41:L49,AN21)","v":0},{"$f":"AO21/(AQ4-AO25)","v":0},{"$f":"IF(AP21=0,0,(AP21*((LOG(AP21))/LOG(2))))","v":0},null,{"$f":"N21","v":12221},{"$f":"COUNTIF(L50:L57,AS21)","v":0},{"$f":"AT21/(AV4-AT25)","v":0},{"$f":"IF(AU21=0,0,(AU21*((LOG(AU21))/LOG(2))))","v":0}]
[12,17004,13,17019,13,17033,14,17056,13,17071,0,11111,null,12222,{"$f":"COUNTIF($L$7:$L$500,N22)","v":0},{"$f":"O22/$Q$4","v":0},{"$f":"IF(P22=0,0,(P22*((LOG(P22))/LOG(2))))","v":0},null,null,{"$f":"N22","v":12222},{"$f":"COUNTIF(L7:L15,T22)","v":0},{"$f":"U22/(W4-U25)","v":0},{"$f":"IF(V22=0,0,(V22*((LOG(V22))/LOG(2))))","v":0},null,{"$f":"N22","v":12222},{"$f":"COUNTIF(L16:L23,Y22)","v":0},{"$f":"Z22/(AB4-Z25)","v":0},{"$f":"IF(AA22=0,0,(AA22*((LOG(AA22))/LOG(2))))","v":0},null,{"$f":"N22","v":12222},{"$f":"COUNTIF(L24:L32,AD22)","v":0},{"$f":"AE22/(AG4-AE25)","v":0},{"$f":"IF(AF22=0,0,(AF22*((LOG(AF22))/LOG(2))))","v":0},null,{"$f":"N22","v":12222},{"$f":"COUNTIF(L33:L40,AI22)","v":0},{"$f":"AJ22/(AL4-AJ25)","v":0},{"$f":"IF(AK22=0,0,(AK22*((LOG(AK22))/LOG(2))))","v":0},null,{"$f":"N22","v":12222},{"$f":"COUNTIF(L41:L49,AN22)","v":0},{"$f":"AO22/(AQ4-AO25)","v":0},{"$f":"IF(AP22=0,0,(AP22*((LOG(AP22))/LOG(2))))","v":0},null,{"$f":"N22","v":12222},{"$f":"COUNTIF(L50:L57,AS22)","v":0},{"$f":"AT22/(AV4-AT25)","v":0},{"$f":"IF(AU22=0,0,(AU22*((LOG(AU22))/LOG(2))))","v":0}]
[12,17204,24,17220,13,17232,14,17247,13,17261,0,12111,null,21111,{"$f":"COUNTIF($L$7:$L$500,N23)","v":10},{"$f":"O23/$Q$4","v":0.19607843137254902},{"$f":"IF(P23=0,0,(P23*((LOG(P23))/LOG(2))))","v":-0.46088181315375165},null,null,{"$f":"N23","v":21111},{"$f":"COUNTIF(L7:L15,T23)","v":2},{"$f":"U23/(W4-U25)","v":0.22222222222222221},{"$f":"IF(V23=0,0,(V23*((LOG(V23))/LOG(2))))","v":-0.48220555587606945},null,{"$f":"N23","v":21111},{"$f":"COUNTIF(L16:L23,Y23)","v":2},{"$f":"Z23/(AB4-Z25)","v":0.25},{"$f":"IF(AA23=0,0,(AA23*((LOG(AA23))/LOG(2))))","v":-0.5},null,{"$f":"N23","v":21111},{"$f":"COUNTIF(L24:L32,AD23)","v":1},{"$f":"AE23/(AG4-AE25)","v":0.1111111111111111},{"$f":"IF(AF23=0,0,(AF23*((LOG(AF23))/LOG(2))))","v":-0.3522138890491458},null,{"$f":"N23","v":21111},{"$f":"COUNTIF(L33:L40,AI23)","v":4},{"$f":"AJ23/(AL4-AJ25)","v":0.5},{"$f":"IF(AK23=0,0,(AK23*((LOG(AK23))/LOG(2))))","v":-0.5},null,{"$f":"N23","v":21111},{"$f":"COUNTIF(L41:L49,AN23)","v":1},{"$f":"AO23/(AQ4-AO25)","v":0.125},{"$f":"IF(AP23=0,0,(AP23*((LOG(AP23))/LOG(2))))","v":-0.375},null,{"$f":"N23","v":21111},{"$f":"COUNTIF(L50:L57,AS23)","v":0},{"$f":"AT23/(AV4-AT25)","v":0},{"$f":"IF(AU23=0,0,(AU23*((LOG(AU23))/LOG(2))))","v":0}]
[12,17444,13,17450,13,17462,14,17478,13,17488,0,11111,null,21112,{"$f":"COUNTIF($L$7:$L$500,N24)","v":0},{"$f":"O24/$Q$4","v":0},{"$f":"IF(P24=0,0,(P24*((LOG(P24))/LOG(2))))","v":0},null,null,{"$f":"N24","v":21112},{"$f":"COUNTIF(L7:L15,T24)","v":0},{"$f":"U24/(W4-U25)","v":0},{"$f":"IF(V24=0,0,(V24*((LOG(V24))/LOG(2))))","v":0},null,{"$f":"N24","v":21112},{"$f":"COUNTIF(L16:L23,Y24)","v":0},{"$f":"Z24/(AB4-Z25)","v":0},{"$f":"IF(AA24=0,0,(AA24*((LOG(AA24))/LOG(2))))","v":0},null,{"$f":"N24","v":21112},{"$f":"COUNTIF(L24:L32,AD24)","v":0},{"$f":"AE24/(AG4-AE25)","v":0},{"$f":"IF(AF24=0,0,(AF24*((LOG(AF24))/LOG(2))))","v":0},null,{"$f":"N24","v":21112},{"$f":"COUNTIF(L33:L40,AI24)","v":0},{"$f":"AJ24/(AL4-AJ25)","v":0},{"$f":"IF(AK24=0,0,(AK24*((LOG(AK24))/LOG(2))))","v":0},null,{"$f":"N24","v":21112},{"$f":"COUNTIF(L41:L49,AN24)","v":0},{"$f":"AO24/(AQ4-AO25)","v":0},{"$f":"IF(AP24=0,0,(AP24*((LOG(AP24))/LOG(2))))","v":0},null,{"$f":"N24","v":21112},{"$f":"COUNTIF(L50:L57,AS24)","v":0},{"$f":"AT24/(AV4-AT25)","v":0},{"$f":"IF(AU24=0,0,(AU24*((LOG(AU24))/LOG(2))))","v":0}]
[12,17659,24,17669,13,17686,14,17701,13,17714,0,12111,null,21121,{"$f":"COUNTIF($L$7:$L$500,N25)","v":2},{"$f":"O25/$Q$4","v":3.9215686274509803E-2},{"$f":"IF(P25=0,0,(P25*((LOG(P25))/LOG(2))))","v":-0.18323236635182338},null,null,{"$f":"N25","v":21121},{"$f":"COUNTIF(L7:L15,T25)","v":0},null,null,null,{"$f":"N25","v":21121},{"$f":"COUNTIF(L16:L23,Y25)","v":0},null,null,null,{"$f":"N25","v":21121},{"$f":"COUNTIF(L24:L32,AD25)","v":0},null,null,null,{"$f":"N25","v":21121},{"$f":"COUNTIF(L33:L40,AI25)","v":0},null,null,null,{"$f":"N25","v":21121},{"$f":"COUNTIF(L41:L49,AN25)","v":1},null,null,null,{"$f":"N25","v":21121},{"$f":"COUNTIF(L50:L57,AS25)","v":1}]
[21,17890,11,17905,11,17923,12,17937,13,17957,0,21111,null,21122,{"$f":"COUNTIF($L$7:$L$500,N26)","v":0},{"$f":"O26/$Q$4","v":0},{"$f":"IF(P26=0,0,(P26*((LOG(P26))/LOG(2))))","v":0},null,null,{"$f":"N26","v":21122},{"$f":"COUNTIF(L7:L15,T26)","v":0},{"$f":"U26/(W4-U25)","v":0},{"$f":"IF(V26=0,0,(V26*((LOG(V26))/LOG(2))))","v":0},null,{"$f":"N26","v":21122},{"$f":"COUNTIF(L16:L23,Y26)","v":0},{"$f":"Z26/(AB4-Z25)","v":0},{"$f":"IF(AA26=0,0,(AA26*((LOG(AA26))/LOG(2))))","v":0},null,{"$f":"N26","v":21122},{"$f":"COUNTIF(L24:L32,AD26)","v":0},{"$f":"AE26/(AG4-AE25)","v":0},{"$f":"IF(AF26=0,0,(AF26*((LOG(AF26))/LOG(2))))","v":0},null,{"$f":"N26","v":21122},{"$f":"COUNTIF(L33:L40,AI26)","v":0},{"$f":"AJ26/(AL4-AJ25)","v":0},{"$f":"IF(AK26=0,0,(AK26*((LOG(AK26))/LOG(2))))","v":0},null,{"$f":"N26","v":21122},{"$f":"COUNTIF(L41:L49,AN26)","v":0},{"$f":"AO26/(AQ4-AO25)","v":0},{"$f":"IF(AP26=0,0,(AP26*((LOG(AP26))/LOG(2))))","v":0},null,{"$f":"N26","v":21122},{"$f":"COUNTIF(L50:L57,AS26)","v":0},{"$f":"AT26/(AV4-AT25)","v":0},{"$f":"IF(AU26=0,0,(AU26*((LOG(AU26))/LOG(2))))","v":0}]
[12,18106,24,18115,13,18124,14,18136,13,18160,0,12111,null,21211,{"$f":"COUNTIF($L$7:$L$500,N27)","v":10},{"$f":"O27/$Q$4","v":0.19607843137254902},{"$f":"IF(P27=0,0,(P27*((LOG(P27))/LOG(2))))","v":-0.46088181315375165},null,null,{"$f":"N27","v":21211},{"$f":"COUNTIF(L7:L15,T27)","v":0},{"$f":"U27/(W4-U25)","v":0},{"$f":"IF(V27=0,0,(V27*((LOG(V27))/LOG(2))))","v":0},null,{"$f":"N27","v":21211},{"$f":"COUNTIF(L16:L23,Y27)","v":0},{"$f":"Z27/(AB4-Z25)","v":0},{"$f":"IF(AA27=0,0,(AA27*((LOG(AA27))/LOG(2))))","v":0},null,{"$f":"N27","v":21211},{"$f":"COUNTIF(L24:L32,AD27)","v":3},{"$f":"AE27/(AG4-AE25)","v":0.33333333333333331},{"$f":"IF(AF27=0,0,(AF27*((LOG(AF27))/LOG(2))))","v":-0.52832083357371862},null,{"$f":"N27","v":21211},{"$f":"COUNTIF(L33:L40,AI27)","v":1},{"$f":"AJ27/(AL4-AJ25)","v":0.125},{"$f":"IF(AK27=0,0,(AK27*((LOG(AK27))/LOG(2))))","v":-0.375},null,{"$f":"N27","v":21211},{"$f":"COUNTIF(L41:L49,AN27)","v":3},{"$f":"AO27/(AQ4-AO25)","v":0.375},{"$f":"IF(AP27=0,0,(AP27*((LOG(AP27))/LOG(2))))","v":-0.53063906222956647},null,{"$f":"N27","v":21211},{"$f":"COUNTIF(L50:L57,AS27)","v":3},{"$f":"AT27/(AV4-AT25)","v":0.42857142857142855},{"$f":"IF(AU27=0,0,(AU27*((LOG(AU27))/LOG(2))))","v":-0.52388246628704915}]
[12,18325,13,18339,13,18349,14,18367,13,18379,0,11111,null,21212,{"$f":"COUNTIF($L$7:$L$500,N28)","v":2},{"$f":"O28/$Q$4","v":3.9215686274509803E-2},{"$f":"IF(P28=0,0,(P28*((LOG(P28))/LOG(2))))","v":-0.18323236635182338},null,null,{"$f":"N28","v":21212},{"$f":"COUNTIF(L7:L15,T28)","v":0},{"$f":"U28/(W4-U25)","v":0},{"$f":"IF(V28=0,0,(V28*((LOG(V28))/LOG(2))))","v":0},null,{"$f":"N28","v":21212},{"$f":"COUNTIF(L16:L23,Y28)","v":0},{"$f":"Z28/(AB4-Z25)","v":0},{"$f":"IF(AA28=0,0,(AA28*((LOG(AA28))/LOG(2))))","v":0},null,{"$f":"N28","v":21212},{"$f":"COUNTIF(L24:L32,AD28)","v":0},{"$f":"AE28/(AG4-AE25)","v":0},{"$f":"IF(AF28=0,0,(AF28*((LOG(AF28))/LOG(2))))","v":0},null,{"$f":"N28","v":21212},{"$f":"COUNTIF(L33:L40,AI28)","v":0},{"$f":"AJ28/(AL4-AJ25)","v":0},{"$f":"IF(AK28=0,0,(AK28*((LOG(AK28))/LOG(2))))","v":0},null,{"$f":"N28","v":21212},{"$f":"COUNTIF(L41:L49,AN28)","v":0},{"$f":"AO28/(AQ4-AO25)","v":0},{"$f":"IF(AP28=0,0,(AP28*((LOG(AP28))/LOG(2))))","v":0},null,{"$f":"N28","v":21212},{"$f":"COUNTIF(L50:L57,AS28)","v":2},{"$f":"AT28/(AV4-AT25)","v":0.2857142857142857},{"$f":"IF(AU28=0,0,(AU28*((LOG(AU28))/LOG(2))))","v":-0.51638712058788683}]
[12,18530,24,18544,13,18557,23,18573,13,18599,0,12121,null,21221,{"$f":"COUNTIF($L$7:$L$500,N29)","v":0},{"$f":"O29/$Q$4","v":0},{"$f":"IF(P29=0,0,(P29*((LOG(P29))/LOG(2))))","v":0},null,null,{"$f":"N29","v":21221},{"$f":"COUNTIF(L7:L15,T29)","v":0},{"$f":"U29/(W4-U25)","v":0},{"$f":"IF(V29=0,0,(V29*((LOG(V29))/LOG(2))))","v":0},null,{"$f":"N29","v":21221},{"$f":"COUNTIF(L16:L23,Y29)","v":0},{"$f":"Z29/(AB4-Z25)","v":0},{"$f":"IF(AA29=0,0,(AA29*((LOG(AA29))/LOG(2))))","v":0},null,{"$f":"N29","v":21221},{"$f":"COUNTIF(L24:L32,AD29)","v":0},{"$f":"AE29/(AG4-AE25)","v":0},{"$f":"IF(AF29=0,0,(AF29*((LOG(AF29))/LOG(2))))","v":0},null,{"$f":"N29","v":21221},{"$f":"COUNTIF(L33:L40,AI29)","v":0},{"$f":"AJ29/(AL4-AJ25)","v":0},{"$f":"IF(AK29=0,0,(AK29*((LOG(AK29))/LOG(2))))","v":0},null,{"$f":"N29","v":21221},{"$f":"COUNTIF(L41:L49,AN29)","v":0},{"$f":"AO29/(AQ4-AO25)","v":0},{"$f":"IF(AP29=0,0,(AP29*((LOG(AP29))/LOG(2))))","v":0},null,{"$f":"N29","v":21221},{"$f":"COUNTIF(L50:L57,AS29)","v":0},{"$f":"AT29/(AV4-AT25)","v":0},{"$f":"IF(AU29=0,0,(AU29*((LOG(AU29))/LOG(2))))","v":0}]
[21,18739,11,18754,22,18764,14,18773,13,18784,0,21211,null,21222,{"$f":"COUNTIF($L$7:$L$500,N30)","v":0},{"$f":"O30/$Q$4","v":0},{"$f":"IF(P30=0,0,(P30*((LOG(P30))/LOG(2))))","v":0},null,null,{"$f":"N30","v":21222},{"$f":"COUNTIF(L7:L15,T30)","v":0},{"$f":"U30/(W4-U25)","v":0},{"$f":"IF(V30=0,0,(V30*((LOG(V30))/LOG(2))))","v":0},null,{"$f":"N30","v":21222},{"$f":"COUNTIF(L16:L23,Y30)","v":0},{"$f":"Z30/(AB4-Z25)","v":0},{"$f":"IF(AA30=0,0,(AA30*((LOG(AA30))/LOG(2))))","v":0},null,{"$f":"N30","v":21222},{"$f":"COUNTIF(L24:L32,AD30)","v":0},{"$f":"AE30/(AG4-AE25)","v":0},{"$f":"IF(AF30=0,0,(AF30*((LOG(AF30))/LOG(2))))","v":0},null,{"$f":"N30","v":21222},{"$f":"COUNTIF(L33:L40,AI30)","v":0},{"$f":"AJ30/(AL4-AJ25)","v":0},{"$f":"IF(AK30=0,0,(AK30*((LOG(AK30))/LOG(2))))","v":0},null,{"$f":"N30","v":21222},{"$f":"COUNTIF(L41:L49,AN30)","v":0},{"$f":"AO30/(AQ4-AO25)","v":0},{"$f":"IF(AP30=0,0,(AP30*((LOG(AP30))/LOG(2))))","v":0},null,{"$f":"N30","v":21222},{"$f":"COUNTIF(L50:L57,AS30)","v":0},{"$f":"AT30/(AV4-AT25)","v":0},{"$f":"IF(AU30=0,0,(AU30*((LOG(AU30))/LOG(2))))","v":0}]
[21,18918,11,18928,22,18937,14,18946,13,18961,0,21211,null,22111,{"$f":"COUNTIF($L$7:$L$500,N31)","v":1},{"$f":"O31/$Q$4","v":1.9607843137254902E-2},{"$f":"IF(P31=0,0,(P31*((LOG(P31))/LOG(2))))","v":-0.11122402631316657},null,null,{"$f":"N31","v":22111},{"$f":"COUNTIF(L7:L15,T31)","v":0},{"$f":"U31/(W4-U25)","v":0},{"$f":"IF(V31=0,0,(V31*((LOG(V31))/LOG(2))))","v":0},null,{"$f":"N31","v":22111},{"$f":"COUNTIF(L16:L23,Y31)","v":0},{"$f":"Z31/(AB4-Z25)","v":0},{"$f":"IF(AA31=0,0,(AA31*((LOG(AA31))/LOG(2))))","v":0},null,{"$f":"N31","v":22111},{"$f":"COUNTIF(L24:L32,AD31)","v":0},{"$f":"AE31/(AG4-AE25)","v":0},{"$f":"IF(AF31=0,0,(AF31*((LOG(AF31))/LOG(2))))","v":0},null,{"$f":"N31","v":22111},{"$f":"COUNTIF(L33:L40,AI31)","v":0},{"$f":"AJ31/(AL4-AJ25)","v":0},{"$f":"IF(AK31=0,0,(AK31*((LOG(AK31))/LOG(2))))","v":0},null,{"$f":"N31","v":22111},{"$f":"COUNTIF(L41:L49,AN31)","v":1},{"$f":"AO31/(AQ4-AO25)","v":0.125},{"$f":"IF(AP31=0,0,(AP31*((LOG(AP31))/LOG(2))))","v":-0.375},null,{"$f":"N31","v":22111},{"$f":"COUNTIF(L50:L57,AS31)","v":0},{"$f":"AT31/(AV4-AT25)","v":0},{"$f":"IF(AU31=0,0,(AU31*((LOG(AU31))/LOG(2))))","v":0}]
[21,19081,11,19093,22,19103,14,19113,13,19127,0,21211,null,22112,{"$f":"COUNTIF($L$7:$L$500,N32)","v":0},{"$f":"O32/$Q$4","v":0},{"$f":"IF(P32=0,0,(P32*((LOG(P32))/LOG(2))))","v":0},null,null,{"$f":"N32","v":22112},{"$f":"COUNTIF(L7:L15,T32)","v":0},{"$f":"U32/(W4-U25)","v":0},{"$f":"IF(V32=0,0,(V32*((LOG(V32))/LOG(2))))","v":0},null,{"$f":"N32","v":22112},{"$f":"COUNTIF(L16:L23,Y32)","v":0},{"$f":"Z32/(AB4-Z25)","v":0},{"$f":"IF(AA32=0,0,(AA32*((LOG(AA32))/LOG(2))))","v":0},null,{"$f":"N32","v":22112},{"$f":"COUNTIF(L24:L32,AD32)","v":0},{"$f":"AE32/(AG4-AE25)","v":0},{"$f":"IF(AF32=0,0,(AF32*((LOG(AF32))/LOG(2))))","v":0},null,{"$f":"N32","v":22112},{"$f":"COUNTIF(L33:L40,AI32)","v":0},{"$f":"AJ32/(AL4-AJ25)","v":0},{"$f":"IF(AK32=0,0,(AK32*((LOG(AK32))/LOG(2))))","v":0},null,{"$f":"N32","v":22112},{"$f":"COUNTIF(L41:L49,AN32)","v":0},{"$f":"AO32/(AQ4-AO25)","v":0},{"$f":"IF(AP32=0,0,(AP32*((LOG(AP32))/LOG(2))))","v":0},null,{"$f":"N32","v":22112},{"$f":"COUNTIF(L50:L57,AS32)","v":0},{"$f":"AT32/(AV4-AT25)","v":0},{"$f":"IF(AU32=0,0,(AU32*((LOG(AU32))/LOG(2))))","v":0}]
[21,19269,11,19293,11,19301,12,19318,13,19330,0,21111,null,22121,{"$f":"COUNTIF($L$7:$L$500,N33)","v":0},{"$f":"O33/$Q$4","v":0},{"$f":"IF(P33=0,0,(P33*((LOG(P33))/LOG(2))))","v":0},null,null,{"$f":"N33","v":22121},{"$f":"COUNTIF(L7:L15,T33)","v":0},{"$f":"U33/(W4-U25)","v":0},{"$f":"IF(V33=0,0,(V33*((LOG(V33))/LOG(2))))","v":0},null,{"$f":"N33","v":22121},{"$f":"COUNTIF(L16:L23,Y33)","v":0},{"$f":"Z33/(AB4-Z25)","v":0},{"$f":"IF(AA33=0,0,(AA33*((LOG(AA33))/LOG(2))))","v":0},null,{"$f":"N33","v":22121},{"$f":"COUNTIF(L24:L32,AD33)","v":0},{"$f":"AE33/(AG4-AE25)","v":0},{"$f":"IF(AF33=0,0,(AF33*((LOG(AF33))/LOG(2))))","v":0},null,{"$f":"N33","v":22121},{"$f":"COUNTIF(L33:L40,AI33)","v":0},{"$f":"AJ33/(AL4-AJ25)","v":0},{"$f":"IF(AK33=0,0,(AK33*((LOG(AK33))/LOG(2))))","v":0},null,{"$f":"N33","v":22121},{"$f":"COUNTIF(L41:L49,AN33)","v":0},{"$f":"AO33/(AQ4-AO25)","v":0},{"$f":"IF(AP33=0,0,(AP33*((LOG(AP33))/LOG(2))))","v":0},null,{"$f":"N33","v":22121},{"$f":"COUNTIF(L50:L57,AS33)","v":0},{"$f":"AT33/(AV4-AT25)","v":0},{"$f":"IF(AU33=0,0,(AU33*((LOG(AU33))/LOG(2))))","v":0}]
[21,19451,11,19462,22,19472,14,19482,13,19497,0,21211,null,22122,{"$f":"COUNTIF($L$7:$L$500,N34)","v":0},{"$f":"O34/$Q$4","v":0},{"$f":"IF(P34=0,0,(P34*((LOG(P34))/LOG(2))))","v":0},null,null,{"$f":"N34","v":22122},{"$f":"COUNTIF(L7:L15,T34)","v":0},{"$f":"U34/(W4-U25)","v":0},{"$f":"IF(V34=0,0,(V34*((LOG(V34))/LOG(2))))","v":0},null,{"$f":"N34","v":22122},{"$f":"COUNTIF(L16:L23,Y34)","v":0},{"$f":"Z34/(AB4-Z25)","v":0},{"$f":"IF(AA34=0,0,(AA34*((LOG(AA34))/LOG(2))))","v":0},null,{"$f":"N34","v":22122},{"$f":"COUNTIF(L24:L32,AD34)","v":0},{"$f":"AE34/(AG4-AE25)","v":0},{"$f":"IF(AF34=0,0,(AF34*((LOG(AF34))/LOG(2))))","v":0},null,{"$f":"N34","v":22122},{"$f":"COUNTIF(L33:L40,AI34)","v":0},{"$f":"AJ34/(AL4-AJ25)","v":0},{"$f":"IF(AK34=0,0,(AK34*((LOG(AK34))/LOG(2))))","v":0},null,{"$f":"N34","v":22122},{"$f":"COUNTIF(L41:L49,AN34)","v":0},{"$f":"AO34/(AQ4-AO25)","v":0},{"$f":"IF(AP34=0,0,(AP34*((LOG(AP34))/LOG(2))))","v":0},null,{"$f":"N34","v":22122},{"$f":"COUNTIF(L50:L57,AS34)","v":0},{"$f":"AT34/(AV4-AT25)","v":0},{"$f":"IF(AU34=0,0,(AU34*((LOG(AU34))/LOG(2))))","v":0}]
[12,19625,13,19632,13,19650,23,19661,13,19680,0,11121,null,22211,{"$f":"COUNTIF($L$7:$L$500,N35)","v":0},{"$f":"O35/$Q$4","v":0},{"$f":"IF(P35=0,0,(P35*((LOG(P35))/LOG(2))))","v":0},null,null,{"$f":"N35","v":22211},{"$f":"COUNTIF(L7:L15,T35)","v":0},{"$f":"U35/(W4-U25)","v":0},{"$f":"IF(V35=0,0,(V35*((LOG(V35))/LOG(2))))","v":0},null,{"$f":"N35","v":22211},{"$f":"COUNTIF(L16:L23,Y35)","v":0},{"$f":"Z35/(AB4-Z25)","v":0},{"$f":"IF(AA35=0,0,(AA35*((LOG(AA35))/LOG(2))))","v":0},null,{"$f":"N35","v":22211},{"$f":"COUNTIF(L24:L32,AD35)","v":0},{"$f":"AE35/(AG4-AE25)","v":0},{"$f":"IF(AF35=0,0,(AF35*((LOG(AF35))/LOG(2))))","v":0},null,{"$f":"N35","v":22211},{"$f":"COUNTIF(L33:L40,AI35)","v":0},{"$f":"AJ35/(AL4-AJ25)","v":0},{"$f":"IF(AK35=0,0,(AK35*((LOG(AK35))/LOG(2))))","v":0},null,{"$f":"N35","v":22211},{"$f":"COUNTIF(L41:L49,AN35)","v":0},{"$f":"AO35/(AQ4-AO25)","v":0},{"$f":"IF(AP35=0,0,(AP35*((LOG(AP35))/LOG(2))))","v":0},null,{"$f":"N35","v":22211},{"$f":"COUNTIF(L50:L57,AS35)","v":0},{"$f":"AT35/(AV4-AT25)","v":0},{"$f":"IF(AU35=0,0,(AU35*((LOG(AU35))/LOG(2))))","v":0}]
[21,19802,11,19813,11,19830,12,19846,13,19868,0,21111,null,22212,{"$f":"COUNTIF($L$7:$L$500,N36)","v":0},{"$f":"O36/$Q$4","v":0},{"$f":"IF(P36=0,0,(P36*((LOG(P36))/LOG(2))))","v":0},null,null,{"$f":"N36","v":22212},{"$f":"COUNTIF(L7:L15,T36)","v":0},{"$f":"U36/(W4-U25)","v":0},{"$f":"IF(V36=0,0,(V36*((LOG(V36))/LOG(2))))","v":0},null,{"$f":"N36","v":22212},{"$f":"COUNTIF(L16:L23,Y36)","v":0},{"$f":"Z36/(AB4-Z25)","v":0},{"$f":"IF(AA36=0,0,(AA36*((LOG(AA36))/LOG(2))))","v":0},null,{"$f":"N36","v":22212},{"$f":"COUNTIF(L24:L32,AD36)","v":0},{"$f":"AE36/(AG4-AE25)","v":0},{"$f":"IF(AF36=0,0,(AF36*((LOG(AF36))/LOG(2))))","v":0},null,{"$f":"N36","v":22212},{"$f":"COUNTIF(L33:L40,AI36)","v":0},{"$f":"AJ36/(AL4-AJ25)","v":0},{"$f":"IF(AK36=0,0,(AK36*((LOG(AK36))/LOG(2))))","v":0},null,{"$f":"N36","v":22212},{"$f":"COUNTIF(L41:L49,AN36)","v":0},{"$f":"AO36/(AQ4-AO25)","v":0},{"$f":"IF(AP36=0,0,(AP36*((LOG(AP36))/LOG(2))))","v":0},null,{"$f":"N36","v":22212},{"$f":"COUNTIF(L50:L57,AS36)","v":0},{"$f":"AT36/(AV4-AT25)","v":0},{"$f":"IF(AU36=0,0,(AU36*((LOG(AU36))/LOG(2))))","v":0}]
[21,19988,11,20000,11,20018,12,20034,13,20049,0,21111,null,22221,{"$f":"COUNTIF($L$7:$L$500,N37)","v":0},{"$f":"O37/$Q$4","v":0},{"$f":"IF(P37=0,0,(P37*((LOG(P37))/LOG(2))))","v":0},null,null,{"$f":"N37","v":22221},{"$f":"COUNTIF(L7:L15,T37)","v":0},{"$f":"U37/(W4-U25)","v":0},{"$f":"IF(V37=0,0,(V37*((LOG(V37))/LOG(2))))","v":0},null,{"$f":"N37","v":22221},{"$f":"COUNTIF(L16:L23,Y37)","v":0},{"$f":"Z37/(AB4-Z25)","v":0},{"$f":"IF(AA37=0,0,(AA37*((LOG(AA37))/LOG(2))))","v":0},null,{"$f":"N37","v":22221},{"$f":"COUNTIF(L24:L32,AD37)","v":0},{"$f":"AE37/(AG4-AE25)","v":0},{"$f":"IF(AF37=0,0,(AF37*((LOG(AF37))/LOG(2))))","v":0},null,{"$f":"N37","v":22221},{"$f":"COUNTIF(L33:L40,AI37)","v":0},{"$f":"AJ37/(AL4-AJ25)","v":0},{"$f":"IF(AK37=0,0,(AK37*((LOG(AK37))/LOG(2))))","v":0},null,{"$f":"N37","v":22221},{"$f":"COUNTIF(L41:L49,AN37)","v":0},{"$f":"AO37/(AQ4-AO25)","v":0},{"$f":"IF(AP37=0,0,(AP37*((LOG(AP37))/LOG(2))))","v":0},null,{"$f":"N37","v":22221},{"$f":"COUNTIF(L50:L57,AS37)","v":0},{"$f":"AT37/(AV4-AT25)","v":0},{"$f":"IF(AU37=0,0,(AU37*((LOG(AU37))/LOG(2))))","v":0}]
[21,20164,11,20179,11,20200,12,20209,13,20232,0,21111,null,22222,{"$f":"COUNTIF($L$7:$L$500,N38)","v":0},{"$f":"O38/$Q$4","v":0},{"$f":"IF(P38=0,0,(P38*((LOG(P38))/LOG(2))))","v":0},null,null,{"$f":"N38","v":22222},{"$f":"COUNTIF(L7:L15,T38)","v":0},{"$f":"U38/(W4-U25)","v":0},{"$f":"IF(V38=0,0,(V38*((LOG(V38))/LOG(2))))","v":0},null,{"$f":"N38","v":22222},{"$f":"COUNTIF(L16:L23,Y38)","v":0},{"$f":"Z38/(AB4-Z25)","v":0},{"$f":"IF(AA38=0,0,(AA38*((LOG(AA38))/LOG(2))))","v":0},null,{"$f":"N38","v":22222},{"$f":"COUNTIF(L24:L32,AD38)","v":0},{"$f":"AE38/(AG4-AE25)","v":0},{"$f":"IF(AF38=0,0,(AF38*((LOG(AF38))/LOG(2))))","v":0},null,{"$f":"N38","v":22222},{"$f":"COUNTIF(L33:L40,AI38)","v":0},{"$f":"AJ38/(AL4-AJ25)","v":0},{"$f":"IF(AK38=0,0,(AK38*((LOG(AK38))/LOG(2))))","v":0},null,{"$f":"N38","v":22222},{"$f":"COUNTIF(L41:L49,AN38)","v":0},{"$f":"AO38/(AQ4-AO25)","v":0},{"$f":"IF(AP38=0,0,(AP38*((LOG(AP38))/LOG(2))))","v":0},null,{"$f":"N38","v":22222},{"$f":"COUNTIF(L50:L57,AS38)","v":0},{"$f":"AT38/(AV4-AT25)","v":0},{"$f":"IF(AU38=0,0,(AU38*((LOG(AU38))/LOG(2))))","v":0}]
[12,20548,24,20573,13,20586,14,20604,13,20606,0,12111,null,null,null,{"$f":"SUM(P7:P38)","v":0.99999999999999989},{"$f":"-SUM(Q7:Q38)","v":3.1016489427400376},null,null,null,null,{"$f":"SUM(V7:V38)","v":1},{"$f":"-SUM(W7:W38)","v":2.419381945646371},null,null,null,{"$f":"SUM(AA7:AA38)","v":1},{"$f":"-SUM(AB7:AB38)","v":2.1556390622295662},null,null,null,{"$f":"SUM(AF7:AF38)","v":1},{"$f":"-SUM(AG7:AG38)","v":2.1971597234241491},null,null,null,{"$f":"SUM(AK7:AK38)","v":1},{"$f":"-SUM(AL7:AL38)","v":2},null,null,null,{"$f":"SUM(AP7:AP38)","v":1},{"$f":"-SUM(AQ7:AQ38)","v":2.1556390622295662},null,null,null,{"$f":"SUM(AU7:AU38)","v":0.99999999999999989},{"$f":"-SUM(AV7:AV38)","v":1.5566567074628228}]
[12,20786,13,20795,24,20810,14,20823,13,20824,0,11211,null,null,null,"U=",{"$f":"Q39/(LOG(Q4)/LOG(2))","v":0.5467941410864009},null,null,null,null,"U1=",{"$f":"W39/(LOG(W4)/LOG(2))","v":0.76323002738094914},null,null,null,"U2=",{"$f":"AB39/(LOG(AB4)/LOG(2))","v":0.71854635407652212},null,null,null,"U3=",{"$f":"AG39/(LOG(AG4)/LOG(2))","v":0.69312672142856502},null,null,null,"U4=",{"$f":"AL39/(LOG(AL4)/LOG(2))","v":0.66666666666666663},null,null,null,"U5=",{"$f":"AQ39/(LOG(AQ4)/LOG(2))","v":0.68002841116075396},null,null,null,"U6=",{"$f":"AV39/(LOG(AV4)/LOG(2))","v":0.51888556915427431}]
[12,20992,13,21010,13,21031,23,21062,13,21083,0,11121]
[21,21224,11,21234,22,21244,14,21253,13,21267,0,21211]
[21,21398,11,21409,22,21417,14,21426,13,21444,0,21211,null,"Total Target Seq"]
[12,21585,13,21603,13,21618,23,21628,13,21646,0,11121,null,{"$f":"COUNTIF(L7:L57,G3)","v":2},null,9,8,9,8,9,8]
[21,21760,22,21762,13,21785,14,21790,13,21795,0,22111,null,null,null,"% of reinforcement given in 6 equal intervals based on number of trials "]
[12,21913,13,21918,24,21929,14,21940,13,21960,0,11211,null,null,null,"%_1","%_2","%_3","%_4","%_5","%_6"]
[21,22100,11,22112,11,22134,12,22154,13,22168,0,21111,null,null,"target sequence",{"$f":"$G$3","v":21121},{"$f":"$G$3","v":21121},{"$f":"$G$3","v":21121},{"$f":"$G$3","v":21121},{"$f":"$G$3","v":21121},{"$f":"$G$3","v":21121}]
[21,22275,11,22288,22,22302,14,22312,13,22324,0,21211,null,null,"total reinforcement",{"$f":"U25","v":0},{"$f":"Z25","v":0},{"$f":"AE25","v":0},{"$f":"AJ25","v":0},{"$f":"AO25","v":1},{"$f":"AT25","v":1}]
[21,22445,11,22458,11,22463,21,22472,11,22483,1,21121,null,null,"% target"]
[21,22645,11,22654,22,22666,14,22676,24,22693,0,21212,null,null,"CCRF"]
[21,22832,11,22862,22,22872,14,22882,24,22898,0,21212,null,null,"% CCRf"]
[21,23026,11,23040,22,23050,14,23061,13,23074,0,21211,null,null,"average response rate",{"$f":"J15/P44","v":1739.6666666666667},{"$f":"(J23-J15)/Q44","v":200.5},{"$f":"(J32-J23)/R44","v":207.33333333333334},{"$f":"(J40-J32)/S44","v":212.125},{"$f":"(J49-J40)/T44","v":184.33333333333334},{"$f":"(J57-J49)/U44","v":187.875}]
[12,23200,13,23212,13,23224,23,23233,13,23247,0,11121]
[21,23371,11,23384,22,23394,14,23406,13,23421,0,21211]
[12,23535,13,23562,13,23583,23,23593,13,23615,0,11121]
[21,23724,11,23769,11,23781,21,23795,11,23816,1,21121]
[21,23938,11,23948,22,23960,14,23971,13,23986,null,21211]