{"text_format":"1","workbook":"xlsx","n_sheets":34,"sheets":["Sample Report","Summary","Start","!MC01920.091","!MC02930.091","!MC03730.091","!MC04920.091","!MC05800.091","!MC07910.091","!MC08900.091","!MC09900.091","!MC10900.091","!MC11840.091","!MC12800.091","!MC14850.091","!MC20850.091","!MC24850.091","!N102830.091","!N104A00.091","!N105830.091","!N106650.091","!N107720.091","!N108810.091","!N109710.091","!N110820.091","!N111900.091","!N112640.091","!N113830.091","!N114750.091","!N115810.091","!N116750.091","!N117850.091","!N118850.091","!N119750.091"],"not_rendered":{"charts":0,"images":0,"macros":1,"external_links":0,"defined_names":0,"comments":0,"pivot_tables":0},"unopened":[],"bounds":{"document_bytes":16777216,"sheet_cells":100000,"rows_first":2000,"rows_last":500,"rows_between":2000,"halvings":0,"cell_chars":16384,"cell_head_chars":4096},"cells_cut":0,"cells_raw":0,"read":"whole","date_system":"1900"}

{"sheet":"Sample Report","index":0,"n_rows":12,"n_cols":11,"rows_kept":12,"cut":false,"hidden":true,"merged":[[7,0,7,6]]}
[]
["Date"]
["Hen"]
["Program"]
["Start at 999999"]
["Sequence component 1","Time 1","Seqeunce Component 2","Time 2","Seqeunce Component 3","Time 3","Correct   0 = No 1=Yes",null,null,"Seqeunce","Time"]
[12,7,12,42,13,18,"if 77 new line,                                  if 31 or 41 = yes new line on 77, ",null,null,"=string of Seqeunce compponent 1, 2 & 3","=time 3"]
["This continues until ther is a 1 on its own to indicate start of summary data"]
[null,null,null,null,null,null,null,null,null,"10-19 =1"]
["Summary Data ",null,null,null,null,null,null,null,null,"20-29 =2"]
["Correct","Incorrect","Rft","total","Av Correct","Av Incorrect","Percent correct","Time",null,"in this example the seqeunce would be 111"]
[40,33,40,73,23.95,15,54,806]

{"sheet":"Summary","index":1,"n_rows":33,"n_cols":24,"rows_kept":33,"cut":false,"hidden":false,"merged":[]}
[]
["Day","Date","Average Response Rate","Target %","RF for non correct sequence","U Value",null,null,null,null,"Block 1","Block 2","Block 3","Block 4","Block 5","Block 6"]
[1,{"$f":"'!MC01920.091'!B2:C2","v":"<date>"},{"$f":"('!MC01920.091'!D7/60)/'!MC01920.091'!Q3","v":1.5789473684210526E-3},{"$f":"'!MC01920.091'!N20/'!MC01920.091'!Q3","v":0.21052631578947367},{"$f":"SUM('!MC01920.091'!L20:Q20)/'!MC01920.091'!Q3","v":0.65263157894736845},{"$f":"'!MC01920.091'!Q16","v":0.18558448583864748},null,null,null,"Average Response Rate",{"$f":"AVERAGE(C3:C7)","v":6.0607629482156422E-3},{"$f":"AVERAGE(C8:C12)","v":1.8619685827469805E-2},{"$f":"AVERAGE(C13:C17)","v":1.564348350062636E-2},{"$f":"AVERAGE(C18:C22)","v":2.1397962111300774E-2},{"$f":"AVERAGE(C23:C27)","v":1.4517444730210684E-2},{"$f":"AVERAGE(C28:C32)","v":1.0069868116379745E-2}]
[2,{"$f":"'!MC02930.091'!B2:C2","v":"<date>"},{"$f":"('!MC02930.091'!D7/60)/'!MC02930.091'!Q3","v":3.092783505154639E-3},{"$f":"'!MC02930.091'!N20/'!MC02930.091'!Q3","v":0.41237113402061853},{"$f":"SUM('!MC02930.091'!L20:Q20)/'!MC02930.091'!Q3","v":0.96907216494845361},{"$f":"'!MC02930.091'!Q16","v":0.25108410354594601},null,null,null,"Target %",{"$f":"AVERAGE(D3:D7)","v":0.56234338914224025},{"$f":"AVERAGE(D8:D12)","v":0.7641161239031421},{"$f":"AVERAGE(D13:D17)","v":0.84325198610912899},{"$f":"AVERAGE(D18:D22)","v":0.83343625761512841},{"$f":"AVERAGE(D23:D27)","v":0.84786844361312441},{"$f":"AVERAGE(D28:D32)","v":0.95834088392227934}]
[3,{"$f":"'!MC03730.091'!B2:C2","v":"<date>"},{"$f":"('!MC03730.091'!D7/60)/'!MC03730.091'!Q3","v":5.7213930348258713E-3},{"$f":"'!MC03730.091'!N20/'!MC03730.091'!Q3","v":0.59701492537313428},{"$f":"SUM('!MC03730.091'!L20:Q20)/'!MC03730.091'!Q3","v":1.2537313432835822},{"$f":"'!MC03730.091'!Q16","v":0.23702003002133018},null,null,null,"CCRF",{"$f":"AVERAGE(E3:E7)","v":1.1237079788227997},{"$f":"AVERAGE(E8:E12)","v":1.31936499732519},{"$f":"AVERAGE(E13:E17)","v":1.4726059654631081},{"$f":"AVERAGE(E18:E22)","v":1.4148760740909867},{"$f":"AVERAGE(E23:E27)","v":1.4833177460837035},{"$f":"AVERAGE(E28:E32)","v":1.6167170039263064}]
[4,{"$f":"'!MC04920.091'!B2:C2","v":"<date>"},{"$f":"('!MC04920.091'!D7/60)/'!MC04920.091'!Q3","v":6.7901234567901226E-3},{"$f":"'!MC04920.091'!N20/'!MC04920.091'!Q3","v":0.7407407407407407},{"$f":"SUM('!MC04920.091'!L20:Q20)/'!MC04920.091'!Q3","v":1.2962962962962963},{"$f":"'!MC04920.091'!Q16","v":0.2018430608991113},null,null,null,"U Value",{"$f":"AVERAGE(F3:F7)","v":0.20225173891149542},{"$f":"AVERAGE(F8:F12)","v":0.16263182412961097},{"$f":"AVERAGE(F13:F17)","v":0.13517361265082245},{"$f":"AVERAGE(F18:F22)","v":0.12754145369073905},{"$f":"AVERAGE(F23:F27)","v":0.12384649719473702},{"$f":"AVERAGE(F28:F32)","v":4.6629013625898608E-2}]
[5,{"$f":"'!MC05800.091'!B2:C2","v":"<date>"},{"$f":"('!MC05800.091'!D7/60)/'!MC05800.091'!Q3","v":1.3120567375886525E-2},{"$f":"'!MC05800.091'!N20/'!MC05800.091'!Q3","v":0.85106382978723405},{"$f":"SUM('!MC05800.091'!L20:Q20)/'!MC05800.091'!Q3","v":1.446808510638298},{"$f":"'!MC05800.091'!Q16","v":0.13572701425244202}]
[6,{"$f":"'!MC07910.091'!B2:C2","v":"<date>"},{"$f":"('!MC07910.091'!D7/60)/'!MC07910.091'!Q3","v":5.1282051282051282E-3},{"$f":"'!MC07910.091'!N20/'!MC07910.091'!Q3","v":0.76923076923076927},{"$f":"SUM('!MC07910.091'!L20:Q20)/'!MC07910.091'!Q3","v":1.3076923076923077},{"$f":"'!MC07910.091'!Q16","v":0.19276302968427539}]
[7,{"$f":"'!MC08900.091'!B2:C2","v":"<date>"},{"$f":"('!MC08900.091'!D7/60)/'!MC08900.091'!Q3","v":5.7291666666666663E-3},{"$f":"'!MC08900.091'!N20/'!MC08900.091'!Q3","v":0.625},{"$f":"SUM('!MC08900.091'!L20:Q20)/'!MC08900.091'!Q3","v":1.140625},{"$f":"'!MC08900.091'!Q16","v":0.19304511152080228},{"$f":"K3","v":6.0607629482156422E-3},1.8619685827469805E-2,1.564348350062636E-2,2.1397962111300774E-2,1.4517444730210684E-2,1.0069868116379745E-2,{"$f":"K4","v":0.56234338914224025},0.7641161239031421,0.84325198610912899,0.83343625761512841,0.84786844361312441,0.95834088392227934,{"$f":"K6","v":0.20225173891149542},0.16263182412961097,0.13517361265082245,0.12754145369073905,0.12384649719473702,4.6629013625898608E-2]
[8,{"$f":"'!MC09900.091'!B2:C2","v":"<date>"},{"$f":"('!MC09900.091'!D7/60)/'!MC09900.091'!Q3","v":3.9080459770114942E-2},{"$f":"'!MC09900.091'!N20/'!MC09900.091'!Q3","v":0.68965517241379315},{"$f":"SUM('!MC09900.091'!L20:Q20)/'!MC09900.091'!Q3","v":1.2241379310344827},{"$f":"'!MC09900.091'!Q16","v":0.19302521097417563}]
[9,{"$f":"'!MC10900.091'!B2:C2","v":"<date>"},{"$f":"('!MC10900.091'!D7/60)/'!MC10900.091'!Q3","v":3.0065359477124184E-2},{"$f":"'!MC10900.091'!N20/'!MC10900.091'!Q3","v":0.78431372549019607},{"$f":"SUM('!MC10900.091'!L20:Q20)/'!MC10900.091'!Q3","v":1.3529411764705883},{"$f":"'!MC10900.091'!Q16","v":0.17427469026277878}]
[10,{"$f":"'!MC11840.091'!B2:C2","v":"<date>"},{"$f":"('!MC11840.091'!D7/60)/'!MC11840.091'!Q3","v":1.3095238095238096E-2},{"$f":"'!MC11840.091'!N20/'!MC11840.091'!Q3","v":0.95238095238095233},{"$f":"SUM('!MC11840.091'!L20:Q20)/'!MC11840.091'!Q3","v":1.5714285714285714},{"$f":"'!MC11840.091'!Q16","v":6.0051078206022804E-2}]
[11,{"$f":"'!MC12800.091'!B2:C2","v":"<date>"},{"$f":"('!MC12800.091'!D7/60)/'!MC12800.091'!Q3","v":1.0227272727272727E-2},{"$f":"'!MC12800.091'!N20/'!MC12800.091'!Q3","v":0.90909090909090906},{"$f":"SUM('!MC12800.091'!L20:Q20)/'!MC12800.091'!Q3","v":1.75},{"$f":"'!MC12800.091'!Q16","v":8.0502333873212623E-2}]
[12,{"$f":"'!MC14850.091'!B2:C2","v":"<date>"},{"$f":"('!MC14850.091'!D7/60)/'!MC14850.091'!Q3","v":9.1836734693877559E-3},{"$f":"'!MC14850.091'!N20/'!MC14850.091'!Q3","v":0.81632653061224492},{"$f":"SUM('!MC14850.091'!L20:Q20)/'!MC14850.091'!Q3","v":1.3877551020408163},{"$f":"'!MC14850.091'!Q16","v":0.16950380008157168}]
[13,{"$f":"'!MC20850.091'!B2:C2","v":"<date>"},{"$f":"('!MC20850.091'!D7/60)/'!MC20850.091'!Q3","v":4.2460317460317462E-2},{"$f":"'!MC20850.091'!N20/'!MC20850.091'!Q3","v":0.95238095238095233},{"$f":"SUM('!MC20850.091'!L20:Q20)/'!MC20850.091'!Q3","v":1.5714285714285714},{"$f":"'!MC20850.091'!Q16","v":5.1220172329100477E-2}]
[14,{"$f":"'!MC24850.091'!B2:C2","v":"<date>"},{"$f":"('!MC24850.091'!D7/60)/'!MC24850.091'!Q3","v":8.9743589743589737E-3},{"$f":"'!MC24850.091'!N20/'!MC24850.091'!Q3","v":0.76923076923076927},{"$f":"SUM('!MC24850.091'!L20:Q20)/'!MC24850.091'!Q3","v":1.3269230769230769},{"$f":"'!MC24850.091'!Q16","v":0.19578775232569931}]
[15,{"$f":"'!N102830.091'!B2:C2","v":"<date>"},{"$f":"('!N102830.091'!D7/60)/'!N102830.091'!Q3","v":7.3717948717948725E-3},{"$f":"'!N102830.091'!N20/'!N102830.091'!Q3","v":0.76923076923076927},{"$f":"SUM('!N102830.091'!L20:Q20)/'!N102830.091'!Q3","v":1.3269230769230769},{"$f":"'!N102830.091'!Q16","v":0.17885400464452808}]
[16,{"$f":"'!N104A00.091'!B2:C2","v":"<date>"},{"$f":"('!N104A00.091'!D7/60)/'!N104A00.091'!Q3","v":1.2403100775193798E-2},{"$f":"'!N104A00.091'!N20/'!N104A00.091'!Q3","v":0.93023255813953487},{"$f":"SUM('!N104A00.091'!L20:Q20)/'!N104A00.091'!Q3","v":1.5348837209302326},{"$f":"'!N104A00.091'!Q16","v":7.9082455473912391E-2}]
[17,{"$f":"'!N105830.091'!B2:C2","v":"<date>"},{"$f":"('!N105830.091'!D7/60)/'!N105830.091'!Q3","v":3.7096774193548385E-2},{"$f":"'!N105830.091'!N20/'!N105830.091'!Q3","v":0.64516129032258063},{"$f":"SUM('!N105830.091'!L20:Q20)/'!N105830.091'!Q3","v":1.1774193548387097},{"$f":"'!N105830.091'!Q16","v":0.19929675632433805}]
[18,{"$f":"'!N106650.091'!B2:C2","v":"<date>"},{"$f":"('!N106650.091'!D7/60)/'!N106650.091'!Q3","v":2.9259259259259259E-2},{"$f":"'!N106650.091'!N20/'!N106650.091'!Q3","v":0.88888888888888884},{"$f":"SUM('!N106650.091'!L20:Q20)/'!N106650.091'!Q3","v":1.4888888888888889},{"$f":"'!N106650.091'!Q16","v":9.163725357329465E-2}]
[19,{"$f":"'!N107720.091'!B2:C2","v":"<date>"},{"$f":"('!N107720.091'!D7/60)/'!N107720.091'!Q3","v":9.0277777777777787E-3},{"$f":"'!N107720.091'!N20/'!N107720.091'!Q3","v":0.83333333333333337},{"$f":"SUM('!N107720.091'!L20:Q20)/'!N107720.091'!Q3","v":1.4166666666666667},{"$f":"'!N107720.091'!Q16","v":0.14487022166482005}]
[20,{"$f":"'!N108810.091'!B2:C2","v":"<date>"},{"$f":"('!N108810.091'!D7/60)/'!N108810.091'!Q3","v":1.9202898550724636E-2},{"$f":"'!N108810.091'!N20/'!N108810.091'!Q3","v":0.86956521739130432},{"$f":"SUM('!N108810.091'!L20:Q20)/'!N108810.091'!Q3","v":1.4565217391304348},{"$f":"'!N108810.091'!Q16","v":0.1228205814173301}]
[21,{"$f":"'!N109710.091'!B2:C2","v":"<date>"},{"$f":"('!N109710.091'!D7/60)/'!N109710.091'!Q3","v":1.1111111111111112E-2},{"$f":"'!N109710.091'!N20/'!N109710.091'!Q3","v":0.83333333333333337},{"$f":"SUM('!N109710.091'!L20:Q20)/'!N109710.091'!Q3","v":1.4166666666666667},{"$f":"'!N109710.091'!Q16","v":0.14805866806651544}]
[22,{"$f":"'!N110820.091'!B2:C2","v":"<date>"},{"$f":"('!N110820.091'!D7/60)/'!N110820.091'!Q3","v":1.4285714285714285E-2},{"$f":"'!N110820.091'!N20/'!N110820.091'!Q3","v":0.95238095238095233},{"$f":"SUM('!N110820.091'!L20:Q20)/'!N110820.091'!Q3","v":1.8095238095238095},{"$f":"'!N110820.091'!Q16","v":6.0051078206022804E-2}]
[23,{"$f":"'!N111900.091'!B2:C2","v":"<date>"},{"$f":"('!N111900.091'!D7/60)/'!N111900.091'!Q3","v":1.8910256410256409E-2},{"$f":"'!N111900.091'!N20/'!N111900.091'!Q3","v":0.76923076923076927},{"$f":"SUM('!N111900.091'!L20:Q20)/'!N111900.091'!Q3","v":1.3269230769230769},{"$f":"'!N111900.091'!Q16","v":0.16956022935167889}]
[24,{"$f":"'!N112640.091'!B2:C2","v":"<date>"},{"$f":"('!N112640.091'!D7/60)/'!N112640.091'!Q3","v":7.4468085106382973E-3},{"$f":"'!N112640.091'!N20/'!N112640.091'!Q3","v":0.85106382978723405},{"$f":"SUM('!N112640.091'!L20:Q20)/'!N112640.091'!Q3","v":1.446808510638298},{"$f":"'!N112640.091'!Q16","v":0.12517454506511366}]
[25,{"$f":"'!N113830.091'!B2:C2","v":"<date>"},{"$f":"('!N113830.091'!D7/60)/'!N113830.091'!Q3","v":2.0833333333333332E-2},{"$f":"'!N113830.091'!N20/'!N113830.091'!Q3","v":0.83333333333333337},{"$f":"SUM('!N113830.091'!L20:Q20)/'!N113830.091'!Q3","v":1.4166666666666667},{"$f":"'!N113830.091'!Q16","v":0.11638796528435423}]
[26,{"$f":"'!N114750.091'!B2:C2","v":"<date>"},{"$f":"('!N114750.091'!D7/60)/'!N114750.091'!Q3","v":7.9545454545454537E-3},{"$f":"'!N114750.091'!N20/'!N114750.091'!Q3","v":0.90909090909090906},{"$f":"SUM('!N114750.091'!L20:Q20)/'!N114750.091'!Q3","v":1.7272727272727273},{"$f":"'!N114750.091'!Q16","v":9.4011534449557815E-2}]
[27,{"$f":"'!N115810.091'!B2:C2","v":"<date>"},{"$f":"('!N115810.091'!D7/60)/'!N115810.091'!Q3","v":1.0416666666666668E-2},{"$f":"'!N115810.091'!N20/'!N115810.091'!Q3","v":1},{"$f":"SUM('!N115810.091'!L20:Q20)/'!N115810.091'!Q3","v":1.625},{"$f":"'!N115810.091'!Q16","v":0}]
[28,{"$f":"'!N116750.091'!B2:C2","v":"<date>"},{"$f":"('!N116750.091'!D7/60)/'!N116750.091'!Q3","v":1.5476190476190477E-2},{"$f":"'!N116750.091'!N20/'!N116750.091'!Q3","v":0.95238095238095233},{"$f":"SUM('!N116750.091'!L20:Q20)/'!N116750.091'!Q3","v":1.5714285714285714},{"$f":"'!N116750.091'!Q16","v":6.0051078206022804E-2}]
[29,{"$f":"'!N117850.091'!B2:C2","v":"<date>"},{"$f":"('!N117850.091'!D7/60)/'!N117850.091'!Q3","v":8.7499999999999991E-3},{"$f":"'!N117850.091'!N20/'!N117850.091'!Q3","v":1},{"$f":"SUM('!N117850.091'!L20:Q20)/'!N117850.091'!Q3","v":1.625},{"$f":"'!N117850.091'!Q16","v":0}]
[30,{"$f":"'!N118850.091'!B2:C2","v":"<date>"},{"$f":"('!N118850.091'!D7/60)/'!N118850.091'!Q3","v":7.7519379844961239E-3},{"$f":"'!N118850.091'!N20/'!N118850.091'!Q3","v":0.93023255813953487},{"$f":"SUM('!N118850.091'!L20:Q20)/'!N118850.091'!Q3","v":1.5348837209302326},{"$f":"'!N118850.091'!Q16","v":7.9082455473912391E-2}]
[null,{"$f":"'!N119750.091'!B2:C2","v":"<date>"},{"$f":"('!N119750.091'!D7/60)/'!N119750.091'!Q3","v":1.292517006802721E-2},{"$f":"'!N119750.091'!N20/'!N119750.091'!Q3","v":0.81632653061224492},{"$f":"SUM('!N119750.091'!L20:Q20)/'!N119750.091'!Q3","v":1.3673469387755102},{"$f":"'!N119750.091'!Q16","v":0.13900679635273633}]

{"sheet":"Start","index":2,"n_rows":37,"n_cols":10,"rows_kept":37,"cut":false,"hidden":false,"merged":[]}
[null,null,null,null,null,"Use Folder 51",null,"Auto Clean Up",null,"Correct sequence"]
[null,null,null,null,null,false,null,true,null,12]
[]
["Working with Folder",null,null,null,null,null,"Process All/Or Pick A number: ALL or an integer"]
["E:\\Hen Data\\Raw Data\\91_17\\phase 4 con\\",null,null,null,null,null,"ALL"]
["Filenames:"]
["!MC14850.091",null,null,null,null,null,"Paint Cells"]
["!MC20850.091",null,null,null,null,null,false]
["!MC24850.091"]
["!N102830.091"]
["!N104A00.091"]
["!N105830.091"]
["!N106650.091"]
["!N107720.091"]
["!N108810.091"]
["!N109710.091"]
["!N110820.091"]
["!N111900.091"]
["!N112640.091"]
["!N113830.091"]
["!N114750.091"]
["!N115810.091"]
["!N116750.091"]
["!N117850.091"]
["!N118850.091"]
["!N119750.091"]
["!MC01920.091"]
["!MC02930.091"]
["!MC03730.091"]
["!MC04920.091"]
["!MC05800.091"]
["!MC07910.091"]
["!MC08900.091"]
["!MC09900.091"]
["!MC10900.091"]
["!MC11840.091"]
["!MC12800.091"]

{"sheet":"!MC01920.091","index":3,"n_rows":196,"n_cols":48,"rows_kept":196,"cut":false,"hidden":false,"merged":[[4,39,4,42],[5,39,5,40],[4,44,4,47],[5,44,5,45],[4,24,4,27],[5,24,5,25],[4,29,4,32],[5,29,5,30],[4,34,4,37],[5,34,5,35],[1,1,1,2],[5,13,5,14],[18,13,18,14],[19,13,19,14],[4,19,4,22],[5,19,5,20]]}
["Report for:!MC01920.091"]
["Date:","<date>"]
["Hen:","<hen>",null,null,null,"Correct Sequence",{"$f":"Start!J2","v":12},null,null,null,null,null,null,null,null,"Total Sequences in Data",{"$f":"4994-COUNTBLANK(L7:L5000)","v":190},null,null,null,null,"Total Sequences in Block Data",{"$f":"COUNTA(L7:L38)","v":32},null,null,null,"Total Sequences in Block Data",{"$f":"COUNTA(L39:L69)","v":31},null,null,null,"Total Sequences in Block Data",{"$f":"COUNTA(L70:L101)","v":32},null,null,null,"Total Sequences in Block Data",{"$f":"COUNTA(L102:L133)","v":32},null,null,null,"Total Sequences in Block Data",{"$f":"COUNTA(L134:L164)","v":31},null,null,null,"Total Sequences in Block Data",{"$f":"COUNTA(L165:L196)","v":32}]
[null,null,null,null,null,null,null,null,null,null,null,null,null,null,null,"Total Sequences in Summary",{"$f":"SUM(O7:O14)","v":190},null,null,null,null,"Total Sequences in Block Summary",{"$f":"SUM(U7:U14)","v":32},null,null,null,"Total Sequences in Block Summary",{"$f":"SUM(Z7:Z14)","v":31},null,null,null,"Total Sequences in Block Summary",{"$f":"SUM(AE7:AE14)","v":32},null,null,null,"Total Sequences in Block Summary",{"$f":"SUM(AJ7:AJ14)","v":32},null,null,null,"Total Sequences in Block Summary",{"$f":"SUM(AO7:AO14)","v":31},null,null,null,"Total Sequences in Block Summary",{"$f":"SUM(AT7:AT14)","v":32}]
[null,null,null,null,null,null,null,null,null,null,null,null,null,null,null,null,null,null,null,"Block 1",null,null,null,null,"Block 2",null,null,null,null,"Block 3",null,null,null,null,"Block 4",null,null,null,null,"Block 5",null,null,null,null,"Block 6"]
["Sequence\nComponent\n1","Time\n1","Sequence\nComponent\n2","Time\n2","Sequence\nComponent\n3","Time\n3","Sequence\nComponent\n4","Time\n4","Sequence\nComponent\n5","Time\n5","Correct?\n0=No 1=Yes","Sequence",null,"Frequency",null,"Relative Frequency","Variability",null,null,"Frequency",null,"Relative Frequency","Variability",null,"Frequency",null,"Relative Frequency","Variability",null,"Frequency",null,"Relative Frequency","Variability",null,"Frequency",null,"Relative Frequency","Variability",null,"Frequency",null,"Relative Frequency","Variability",null,"Frequency",null,"Relative Frequency","Variability"]
[22,7,23,18,null,null,null,null,null,null,0,22,null,11,{"$f":"COUNTIF($L$7:$L$500,N7)","v":1},{"$f":"O7/$Q$4","v":5.263157894736842E-3},{"$f":"IF(P7=0,0,(P7*((LOG(P7))/LOG(2))))","v":-3.9841345307004991E-2},null,null,{"$f":"N7","v":11},{"$f":"COUNTIF(L7:L38,T7)","v":0},{"$f":"U7/(W4-U8)","v":0},{"$f":"IF(V7=0,0,(V7*((LOG(V7))/LOG(2))))","v":0},null,{"$f":"N7","v":11},{"$f":"COUNTIF(L39:L69,Y7)","v":0},{"$f":"Z7/(AB4-Z8)","v":0},{"$f":"IF(AA7=0,0,(AA7*((LOG(AA7))/LOG(2))))","v":0},null,{"$f":"N7","v":11},{"$f":"COUNTIF(L70:L101,AD7)","v":0},{"$f":"AE7/(AG4-AE8)","v":0},{"$f":"IF(AF7=0,0,(AF7*((LOG(AF7))/LOG(2))))","v":0},null,{"$f":"N7","v":11},{"$f":"COUNTIF(L102:L133,AI7)","v":0},{"$f":"AJ7/(AL4-AJ8)","v":0},{"$f":"IF(AK7=0,0,(AK7*((LOG(AK7))/LOG(2))))","v":0},null,{"$f":"N7","v":11},{"$f":"COUNTIF(L134:L164,AN7)","v":1},{"$f":"AO7/(AQ4-AO8)","v":4.5454545454545456E-2},{"$f":"IF(AP7=0,0,(AP7*((LOG(AP7))/LOG(2))))","v":-0.20270143721078623},null,{"$f":"N7","v":11},{"$f":"COUNTIF(L165:L196,AS7)","v":0},{"$f":"AT7/(AV4-AT8)","v":0},{"$f":"IF(AU7=0,0,(AU7*((LOG(AU7))/LOG(2))))","v":0}]
[22,116,23,123,null,null,null,null,null,null,0,22,null,12,{"$f":"COUNTIF($L$7:$L$500,N8)","v":40},{"$f":"O8/$Q$4","v":0.21052631578947367},{"$f":"IF(P8=0,0,(P8*((LOG(P8))/LOG(2))))","v":-0.47324789756707064},null,null,{"$f":"N8","v":12},{"$f":"COUNTIF(L7:L38,T8)","v":0},null,null,null,{"$f":"N8","v":12},{"$f":"COUNTIF(L39:L69,Y8)","v":4},null,null,null,{"$f":"N8","v":12},{"$f":"COUNTIF(L70:L101,AD8)","v":4},null,null,null,{"$f":"N8","v":12},{"$f":"COUNTIF(L102:L133,AI8)","v":7},null,null,null,{"$f":"N8","v":12},{"$f":"COUNTIF(L134:L164,AN8)","v":9},null,null,null,{"$f":"N8","v":12},{"$f":"COUNTIF(L165:L196,AS8)","v":16}]
[22,228,14,241,null,null,null,null,null,null,0,21,null,21,{"$f":"COUNTIF($L$7:$L$500,N9)","v":35},{"$f":"O9/$Q$4","v":0.18421052631578946},{"$f":"IF(P9=0,0,(P9*((LOG(P9))/LOG(2))))","v":-0.44957916157110184},null,null,{"$f":"N9","v":21},{"$f":"COUNTIF(L7:L38,T9)","v":5},{"$f":"U9/(W4-U8)","v":0.15625},{"$f":"IF(V9=0,0,(V9*((LOG(V9))/LOG(2))))","v":-0.41844873517384967},null,{"$f":"N9","v":21},{"$f":"COUNTIF(L39:L69,Y9)","v":7},{"$f":"Z9/(AB4-Z8)","v":0.25925925925925924},{"$f":"IF(AA9=0,0,(AA9*((LOG(AA9))/LOG(2))))","v":-0.5049158541015204},null,{"$f":"N9","v":21},{"$f":"COUNTIF(L70:L101,AD9)","v":5},{"$f":"AE9/(AG4-AE8)","v":0.17857142857142858},{"$f":"IF(AF9=0,0,(AF9*((LOG(AF9))/LOG(2))))","v":-0.44382621913754317},null,{"$f":"N9","v":21},{"$f":"COUNTIF(L102:L133,AI9)","v":4},{"$f":"AJ9/(AL4-AJ8)","v":0.16},{"$f":"IF(AK9=0,0,(AK9*((LOG(AK9))/LOG(2))))","v":-0.42301699036395596},null,{"$f":"N9","v":21},{"$f":"COUNTIF(L134:L164,AN9)","v":7},{"$f":"AO9/(AQ4-AO8)","v":0.31818181818181818},{"$f":"IF(AP9=0,0,(AP9*((LOG(AP9))/LOG(2))))","v":-0.52566076709353871},null,{"$f":"N9","v":21},{"$f":"COUNTIF(L165:L196,AS9)","v":7},{"$f":"AT9/(AV4-AT8)","v":0.4375},{"$f":"IF(AU9=0,0,(AU9*((LOG(AU9))/LOG(2))))","v":-0.52178222159979815}]
[22,348,14,359,null,null,null,null,null,null,0,21,null,22,{"$f":"COUNTIF($L$7:$L$500,N10)","v":114},{"$f":"O10/$Q$4","v":0.6},{"$f":"IF(P10=0,0,(P10*((LOG(P10))/LOG(2))))","v":-0.44217935649972373},null,null,{"$f":"N10","v":22},{"$f":"COUNTIF(L7:L38,T10)","v":27},{"$f":"U10/(W4-U8)","v":0.84375},{"$f":"IF(V10=0,0,(V10*((LOG(V10))/LOG(2))))","v":-0.20681367004957343},null,{"$f":"N10","v":22},{"$f":"COUNTIF(L39:L69,Y10)","v":20},{"$f":"Z10/(AB4-Z8)","v":0.7407407407407407},{"$f":"IF(AA10=0,0,(AA10*((LOG(AA10))/LOG(2))))","v":-0.32071067205637499},null,{"$f":"N10","v":22},{"$f":"COUNTIF(L70:L101,AD10)","v":23},{"$f":"AE10/(AG4-AE8)","v":0.8214285714285714},{"$f":"IF(AF10=0,0,(AF10*((LOG(AF10))/LOG(2))))","v":-0.23311565064334283},null,{"$f":"N10","v":22},{"$f":"COUNTIF(L102:L133,AI10)","v":21},{"$f":"AJ10/(AL4-AJ8)","v":0.84},{"$f":"IF(AK10=0,0,(AK10*((LOG(AK10))/LOG(2))))","v":-0.21129256427661014},null,{"$f":"N10","v":22},{"$f":"COUNTIF(L134:L164,AN10)","v":14},{"$f":"AO10/(AQ4-AO8)","v":0.63636363636363635},{"$f":"IF(AP10=0,0,(AP10*((LOG(AP10))/LOG(2))))","v":-0.41495789782344106},null,{"$f":"N10","v":22},{"$f":"COUNTIF(L165:L196,AS10)","v":9},{"$f":"AT10/(AV4-AT8)","v":0.5625},{"$f":"IF(AU10=0,0,(AU10*((LOG(AU10))/LOG(2))))","v":-0.4669171866886993}]
[22,473,23,496,null,null,null,null,null,null,0,22,null,null,null,null,null,null,null,{"$f":"N11","v":0},{"$f":"COUNTIF(L7:L38,T11)","v":0},{"$f":"U11/(W4-U8)","v":0},{"$f":"IF(V11=0,0,(V11*((LOG(V11))/LOG(2))))","v":0},null,{"$f":"N11","v":0},{"$f":"COUNTIF(L39:L69,Y11)","v":0},{"$f":"Z11/(AB4-Z8)","v":0},{"$f":"IF(AA11=0,0,(AA11*((LOG(AA11))/LOG(2))))","v":0},null,{"$f":"N11","v":0},{"$f":"COUNTIF(L70:L101,AD11)","v":0},{"$f":"AE11/(AG4-AE8)","v":0},{"$f":"IF(AF11=0,0,(AF11*((LOG(AF11))/LOG(2))))","v":0},null,{"$f":"N11","v":0},{"$f":"COUNTIF(L102:L133,AI11)","v":0},{"$f":"AJ11/(AL4-AJ8)","v":0},{"$f":"IF(AK11=0,0,(AK11*((LOG(AK11))/LOG(2))))","v":0},null,{"$f":"N11","v":0},{"$f":"COUNTIF(L134:L164,AN11)","v":0},{"$f":"AO11/(AQ4-AO8)","v":0},{"$f":"IF(AP11=0,0,(AP11*((LOG(AP11))/LOG(2))))","v":0},null,{"$f":"N11","v":0},{"$f":"COUNTIF(L165:L196,AS11)","v":0},{"$f":"AT11/(AV4-AT8)","v":0},{"$f":"IF(AU11=0,0,(AU11*((LOG(AU11))/LOG(2))))","v":0}]
[22,594,23,599,null,null,null,null,null,null,0,22,null,null,null,null,null,null,null,{"$f":"N12","v":0},{"$f":"COUNTIF(L7:L38,T12)","v":0},{"$f":"U12/(W4-U8)","v":0},{"$f":"IF(V12=0,0,(V12*((LOG(V12))/LOG(2))))","v":0},null,{"$f":"N12","v":0},{"$f":"COUNTIF(L39:L69,Y12)","v":0},{"$f":"Z12/(AB4-Z8)","v":0},{"$f":"IF(AA12=0,0,(AA12*((LOG(AA12))/LOG(2))))","v":0},null,{"$f":"N12","v":0},{"$f":"COUNTIF(L70:L101,AD12)","v":0},{"$f":"AE12/(AG4-AE8)","v":0},{"$f":"IF(AF12=0,0,(AF12*((LOG(AF12))/LOG(2))))","v":0},null,{"$f":"N12","v":0},{"$f":"COUNTIF(L102:L133,AI12)","v":0},{"$f":"AJ12/(AL4-AJ8)","v":0},{"$f":"IF(AK12=0,0,(AK12*((LOG(AK12))/LOG(2))))","v":0},null,{"$f":"N12","v":0},{"$f":"COUNTIF(L134:L164,AN12)","v":0},{"$f":"AO12/(AQ4-AO8)","v":0},{"$f":"IF(AP12=0,0,(AP12*((LOG(AP12))/LOG(2))))","v":0},null,{"$f":"N12","v":0},{"$f":"COUNTIF(L165:L196,AS12)","v":0},{"$f":"AT12/(AV4-AT8)","v":0},{"$f":"IF(AU12=0,0,(AU12*((LOG(AU12))/LOG(2))))","v":0}]
[22,706,23,715,null,null,null,null,null,null,0,22,null,null,null,null,null,null,null,{"$f":"N13","v":0},{"$f":"COUNTIF(L7:L38,T13)","v":0},{"$f":"U13/(W4-U8)","v":0},{"$f":"IF(V13=0,0,(V13*((LOG(V13))/LOG(2))))","v":0},null,{"$f":"N13","v":0},{"$f":"COUNTIF(L39:L69,Y13)","v":0},{"$f":"Z13/(AB4-Z8)","v":0},{"$f":"IF(AA13=0,0,(AA13*((LOG(AA13))/LOG(2))))","v":0},null,{"$f":"N13","v":0},{"$f":"COUNTIF(L70:L101,AD13)","v":0},{"$f":"AE13/(AG4-AE8)","v":0},{"$f":"IF(AF13=0,0,(AF13*((LOG(AF13))/LOG(2))))","v":0},null,{"$f":"N13","v":0},{"$f":"COUNTIF(L102:L133,AI13)","v":0},{"$f":"AJ13/(AL4-AJ8)","v":0},{"$f":"IF(AK13=0,0,(AK13*((LOG(AK13))/LOG(2))))","v":0},null,{"$f":"N13","v":0},{"$f":"COUNTIF(L134:L164,AN13)","v":0},{"$f":"AO13/(AQ4-AO8)","v":0},{"$f":"IF(AP13=0,0,(AP13*((LOG(AP13))/LOG(2))))","v":0},null,{"$f":"N13","v":0},{"$f":"COUNTIF(L165:L196,AS13)","v":0},{"$f":"AT13/(AV4-AT8)","v":0},{"$f":"IF(AU13=0,0,(AU13*((LOG(AU13))/LOG(2))))","v":0}]
[22,816,23,821,null,null,null,null,null,null,0,22,null,null,null,null,null,null,null,{"$f":"N14","v":0},{"$f":"COUNTIF(L7:L38,T14)","v":0},{"$f":"U14/(W4-U8)","v":0},{"$f":"IF(V14=0,0,(V14*((LOG(V14))/LOG(2))))","v":0},null,{"$f":"N14","v":0},{"$f":"COUNTIF(L39:L69,Y14)","v":0},{"$f":"Z14/(AB4-Z8)","v":0},{"$f":"IF(AA14=0,0,(AA14*((LOG(AA14))/LOG(2))))","v":0},null,{"$f":"N14","v":0},{"$f":"COUNTIF(L70:L101,AD14)","v":0},{"$f":"AE14/(AG4-AE8)","v":0},{"$f":"IF(AF14=0,0,(AF14*((LOG(AF14))/LOG(2))))","v":0},null,{"$f":"N14","v":0},{"$f":"COUNTIF(L102:L133,AI14)","v":0},{"$f":"AJ14/(AL4-AJ8)","v":0},{"$f":"IF(AK14=0,0,(AK14*((LOG(AK14))/LOG(2))))","v":0},null,{"$f":"N14","v":0},{"$f":"COUNTIF(L134:L164,AN14)","v":0},{"$f":"AO14/(AQ4-AO8)","v":0},{"$f":"IF(AP14=0,0,(AP14*((LOG(AP14))/LOG(2))))","v":0},null,{"$f":"N14","v":0},{"$f":"COUNTIF(L165:L196,AS14)","v":0},{"$f":"AT14/(AV4-AT8)","v":0},{"$f":"IF(AU14=0,0,(AU14*((LOG(AU14))/LOG(2))))","v":0}]
[22,920,23,925,null,null,null,null,null,null,0,22,null,null,null,{"$f":"SUM(P7:P14)","v":1},{"$f":"-SUM(Q7:Q14)","v":1.404847760944901},null,null,null,null,{"$f":"SUM(V7:V14)","v":1},{"$f":"-SUM(W7:W14)","v":0.62526240522342313},null,null,null,{"$f":"SUM(AA7:AA14)","v":1},{"$f":"-SUM(AB7:AB14)","v":0.82562652615789545},null,null,null,{"$f":"SUM(AF7:AF14)","v":1},{"$f":"-SUM(AG7:AG14)","v":0.676941869780886},null,null,null,{"$f":"SUM(AK7:AK14)","v":1},{"$f":"-SUM(AL7:AL14)","v":0.63430955464056615},null,null,null,{"$f":"SUM(AP7:AP14)","v":1},{"$f":"-SUM(AQ7:AQ14)","v":1.1433201021277659},null,null,null,{"$f":"SUM(AU7:AU14)","v":1},{"$f":"-SUM(AV7:AV14)","v":0.98869940828849745}]
[22,1026,23,1032,null,null,null,null,null,null,0,22,null,null,null,"U=",{"$f":"Q15/(LOG(Q4)/LOG(2))","v":0.18558448583864748},null,null,null,null,"U1=",{"$f":"W15/(LOG(W4)/LOG(2))","v":0.12505248104468464},null,null,null,"U2=",{"$f":"AB15/(LOG(AB4)/LOG(2))","v":0.16665196016292338},null,null,null,"U3=",{"$f":"AG15/(LOG(AG4)/LOG(2))","v":0.1353883739561772},null,null,null,"U4=",{"$f":"AL15/(LOG(AL4)/LOG(2))","v":0.12686191092811322},null,null,null,"U5=",{"$f":"AQ15/(LOG(AQ4)/LOG(2))","v":0.23077811828544267},null,null,null,"U6=",{"$f":"AV15/(LOG(AV4)/LOG(2))","v":0.19773988165769948}]
[22,1130,23,1153,null,null,null,null,null,null,0,22]
[22,1255,23,1273,null,null,null,null,null,null,0,22]
[22,1381,23,1406,null,null,null,null,null,null,0,22,null,"Total Target Seq"]
[22,1516,14,1528,null,null,null,null,null,null,0,21,null,{"$f":"COUNTIF(L7:L196,G3)","v":40},null,32,31,32,32,31,32]
[22,1629,23,1637,null,null,null,null,null,null,0,22,null,null,null,"% of reinforcement given in 6 equal intervals based on number of trials "]
[22,1734,23,1739,null,null,null,null,null,null,0,22,null,null,null,"%_1","%_2","%_3","%_4","%_5","%_6"]
[22,1839,23,1845,null,null,null,null,null,null,0,22,null,null,"target sequence",{"$f":"$G$3","v":12},{"$f":"$G$3","v":12},{"$f":"$G$3","v":12},{"$f":"$G$3","v":12},{"$f":"$G$3","v":12},{"$f":"$G$3","v":12}]
[22,1944,23,1950,null,null,null,null,null,null,0,22,null,null,"total reinforcement",{"$f":"U8","v":0},{"$f":"Z8","v":4},{"$f":"AE8","v":4},{"$f":"AJ8","v":7},{"$f":"AO8","v":9},{"$f":"AT8","v":16}]
[22,2047,23,2057,null,null,null,null,null,null,0,22,null,null,"% target"]
[22,2166,14,2179,null,null,null,null,null,null,0,21,null,null,"CCRF"]
[22,2279,14,2297,null,null,null,null,null,null,0,21,null,null,"% CCRf"]
[22,2398,23,2418,null,null,null,null,null,null,0,22,null,null,"average response rate",{"$f":"D38/P20","v":113.28125},{"$f":"(D69-D38)/Q20","v":112.38709677419355},{"$f":"(D101-D69)/R20","v":114.6875},{"$f":"(D133-D101)/S20","v":115.875},{"$f":"(D164-D133)/T20","v":117.35483870967742},{"$f":"(D196-D164)/U20","v":113.84375}]
[22,2564,23,2578,null,null,null,null,null,null,0,22]
[22,2681,23,2687,null,null,null,null,null,null,0,22]
[22,2787,23,2791,null,null,null,null,null,null,0,22]
[22,2900,23,2908,null,null,null,null,null,null,0,22]
[22,3013,23,3023,null,null,null,null,null,null,0,22]
[22,3131,23,3157,null,null,null,null,null,null,0,22]
[22,3257,23,3262,null,null,null,null,null,null,0,22]
[22,3360,23,3371,null,null,null,null,null,null,0,22]
[22,3473,23,3493,null,null,null,null,null,null,0,22]
[22,3608,23,3625,null,null,null,null,null,null,0,22]
[22,3730,14,3742,null,null,null,null,null,null,0,21]
[22,3845,23,3853,null,null,null,null,null,null,0,22]
[22,3957,23,3975,null,null,null,null,null,null,0,22]
[11,4077,21,4086,null,null,null,null,null,null,0,12]
[22,4183,14,4196,null,null,null,null,null,null,0,21]
[22,4336,23,4366,null,null,null,null,null,null,0,22]
[22,4470,23,4475,null,null,null,null,null,null,0,22]
[22,4576,23,4581,null,null,null,null,null,null,0,22]
[11,4702,21,4713,null,null,null,null,null,null,0,12]
[22,4803,23,4807,null,null,null,null,null,null,0,22]
[22,4910,23,4918,null,null,null,null,null,null,0,22]
[22,5019,23,5025,null,null,null,null,null,null,0,22]
[22,5125,14,5147,null,null,null,null,null,null,0,21]
[22,5248,23,5253,null,null,null,null,null,null,0,22]
[22,5358,23,5366,null,null,null,null,null,null,0,22]
[22,5467,23,5473,null,null,null,null,null,null,0,22]
[22,5570,14,5582,null,null,null,null,null,null,0,21]
[11,5684,21,5692,null,null,null,null,null,null,0,12]
[22,5782,23,5787,null,null,null,null,null,null,0,22]
[22,5892,23,5900,null,null,null,null,null,null,0,22]
[22,5999,23,6004,null,null,null,null,null,null,0,22]
[22,6101,23,6106,null,null,null,null,null,null,0,22]
[22,6204,23,6209,null,null,null,null,null,null,0,22]
[22,6305,23,6319,null,null,null,null,null,null,0,22]
[11,6418,21,6427,null,null,null,null,null,null,0,12]
[22,6520,23,6563,null,null,null,null,null,null,0,22]
[22,6669,14,6680,null,null,null,null,null,null,0,21]
[22,6772,14,6792,null,null,null,null,null,null,0,21]
[22,6894,14,6901,null,null,null,null,null,null,0,21]
[22,6999,23,7004,null,null,null,null,null,null,0,22]
[22,7102,23,7109,null,null,null,null,null,null,0,22]
[22,7210,23,7217,null,null,null,null,null,null,0,22]
[22,7320,23,7325,null,null,null,null,null,null,0,22]
[22,7436,23,7444,null,null,null,null,null,null,0,22]
[22,7569,23,7581,null,null,null,null,null,null,0,22]
[22,7681,23,7693,null,null,null,null,null,null,0,22]
[22,7803,23,7811,null,null,null,null,null,null,0,22]
[22,7909,14,7926,null,null,null,null,null,null,0,21]
[22,8027,14,8044,null,null,null,null,null,null,0,21]
[11,8160,21,8183,null,null,null,null,null,null,0,12]
[22,8271,23,8276,null,null,null,null,null,null,0,22]
[22,8381,23,8387,null,null,null,null,null,null,0,22]
[22,8489,14,8499,null,null,null,null,null,null,0,21]
[22,8601,23,8606,null,null,null,null,null,null,0,22]
[22,8711,23,8718,null,null,null,null,null,null,0,22]
[22,8825,23,8833,null,null,null,null,null,null,0,22]
[22,8938,23,8960,null,null,null,null,null,null,0,22]
[22,9067,23,9075,null,null,null,null,null,null,0,22]
[22,9179,23,9185,null,null,null,null,null,null,0,22]
[22,9295,23,9303,null,null,null,null,null,null,0,22]
[11,9410,21,9420,null,null,null,null,null,null,0,12]
[22,9509,23,9537,null,null,null,null,null,null,0,22]
[22,9640,14,9650,null,null,null,null,null,null,0,21]
[22,9760,23,9768,null,null,null,null,null,null,0,22]
[22,9873,14,9885,null,null,null,null,null,null,0,21]
[22,10007,23,10018,null,null,null,null,null,null,0,22]
[22,10118,23,10138,null,null,null,null,null,null,0,22]
[22,10246,23,10254,null,null,null,null,null,null,0,22]
[11,10354,21,10364,null,null,null,null,null,null,0,12]
[22,10457,23,10467,null,null,null,null,null,null,0,22]
[22,10564,23,10569,null,null,null,null,null,null,0,22]
[22,10667,23,10671,null,null,null,null,null,null,0,22]
[11,10771,21,10779,null,null,null,null,null,null,0,12]
[22,10869,23,10898,null,null,null,null,null,null,0,22]
[22,11000,23,11008,null,null,null,null,null,null,0,22]
[22,11108,23,11113,null,null,null,null,null,null,0,22]
[11,11211,21,11224,null,null,null,null,null,null,0,12]
[22,11313,23,11318,null,null,null,null,null,null,0,22]
[22,11433,23,11441,null,null,null,null,null,null,0,22]
[11,11541,21,11550,null,null,null,null,null,null,0,12]
[22,11641,14,11652,null,null,null,null,null,null,0,21]
[22,11751,23,11755,null,null,null,null,null,null,0,22]
[22,11859,23,11880,null,null,null,null,null,null,0,22]
[22,11979,23,11984,null,null,null,null,null,null,0,22]
[11,12082,21,12091,null,null,null,null,null,null,0,12]
[11,12225,21,12283,null,null,null,null,null,null,0,12]
[22,12371,23,12375,null,null,null,null,null,null,0,22]
[11,12474,21,12493,null,null,null,null,null,null,0,12]
[22,12581,23,12585,null,null,null,null,null,null,0,22]
[11,12686,21,12697,null,null,null,null,null,null,0,12]
[11,12802,21,12849,null,null,null,null,null,null,0,12]
[22,12936,23,12940,null,null,null,null,null,null,0,22]
[22,13038,23,13043,null,null,null,null,null,null,0,22]
[22,13150,23,13160,null,null,null,null,null,null,0,22]
[22,13261,14,13272,null,null,null,null,null,null,0,21]
[22,13377,23,13387,null,null,null,null,null,null,0,22]
[22,13490,23,13512,null,null,null,null,null,null,0,22]
[22,13624,14,13635,null,null,null,null,null,null,0,21]
[22,13748,23,13756,null,null,null,null,null,null,0,22]
[22,13857,23,13887,null,null,null,null,null,null,0,22]
[22,13997,23,14004,null,null,null,null,null,null,0,22]
[22,14110,23,14117,null,null,null,null,null,null,0,22]
[22,14236,23,14245,null,null,null,null,null,null,0,22]
[22,14346,23,14374,null,null,null,null,null,null,0,22]
[22,14473,14,14487,null,null,null,null,null,null,0,21]
[11,14585,21,14597,null,null,null,null,null,null,0,12]
[22,14686,23,14691,null,null,null,null,null,null,0,22]
[22,14787,23,14791,null,null,null,null,null,null,0,22]
[22,14892,14,14904,null,null,null,null,null,null,0,21]
[22,15008,14,15020,null,null,null,null,null,null,0,21]
[22,15122,23,15141,null,null,null,null,null,null,0,22]
[22,15247,23,15266,null,null,null,null,null,null,0,22]
[22,15392,23,15400,null,null,null,null,null,null,0,22]
[22,15512,23,15519,null,null,null,null,null,null,0,22]
[22,15629,23,15638,null,null,null,null,null,null,0,22]
[22,15734,23,15740,null,null,null,null,null,null,0,22]
[22,15856,23,15864,null,null,null,null,null,null,0,22]
[22,15974,23,15994,null,null,null,null,null,null,0,22]
[11,16109,21,16122,null,null,null,null,null,null,0,12]
[22,16223,14,16242,null,null,null,null,null,null,0,21]
[22,16381,14,16411,null,null,null,null,null,null,0,21]
[11,16512,21,16523,null,null,null,null,null,null,0,12]
[22,16611,23,16636,null,null,null,null,null,null,0,22]
[11,16734,21,16744,null,null,null,null,null,null,0,12]
[22,16832,23,16839,null,null,null,null,null,null,0,22]
[11,16941,21,16956,null,null,null,null,null,null,0,12]
[22,17116,23,17124,null,null,null,null,null,null,0,22]
[11,17219,21,17232,null,null,null,null,null,null,0,12]
[22,17324,14,17335,null,null,null,null,null,null,0,21]
[11,17432,12,17439,null,null,null,null,null,null,0,11]
[11,17536,21,17548,null,null,null,null,null,null,0,12]
[11,17649,21,17658,null,null,null,null,null,null,0,12]
[22,17746,23,17777,null,null,null,null,null,null,0,22]
[22,17888,14,17898,null,null,null,null,null,null,0,21]
[11,18010,21,18020,null,null,null,null,null,null,0,12]
[22,18111,14,18125,null,null,null,null,null,null,0,21]
[11,18228,21,18240,null,null,null,null,null,null,0,12]
[22,18415,23,18435,null,null,null,null,null,null,0,22]
[11,18531,21,18542,null,null,null,null,null,null,0,12]
[22,18631,14,18643,null,null,null,null,null,null,0,21]
[11,18742,21,18752,null,null,null,null,null,null,0,12]
[11,18855,21,18912,null,null,null,null,null,null,0,12]
[22,19000,23,19004,null,null,null,null,null,null,0,22]
[22,19109,23,19117,null,null,null,null,null,null,0,22]
[22,19217,23,19222,null,null,null,null,null,null,0,22]
[11,19319,21,19337,null,null,null,null,null,null,0,12]
[22,19428,14,19438,null,null,null,null,null,null,0,21]
[11,19542,21,19554,null,null,null,null,null,null,0,12]
[22,19647,23,19659,null,null,null,null,null,null,0,22]
[11,19755,21,19764,null,null,null,null,null,null,0,12]
[11,19862,21,19871,null,null,null,null,null,null,0,12]
[22,19960,23,19978,null,null,null,null,null,null,0,22]
[11,20075,21,20086,null,null,null,null,null,null,0,12]
[22,20178,14,20186,null,null,null,null,null,null,0,21]
[11,20284,21,20296,null,null,null,null,null,null,0,12]
[22,20382,14,20393,null,null,null,null,null,null,0,21]
[11,20492,21,20503,null,null,null,null,null,null,0,12]
[11,20605,21,20628,null,null,null,null,null,null,0,12]
[22,20717,23,20721,null,null,null,null,null,null,0,22]
[22,20825,14,20837,null,null,null,null,null,null,0,21]
[22,20934,14,20948,null,null,null,null,null,null,0,21]
[22,21055,23,21075,null,null,null,null,null,null,0,22]
[22,21180,23,21214,null,null,null,null,null,null,0,22]
[11,21309,21,21321,null,null,null,null,null,null,0,12]
[11,21425,21,21433,null,null,null,null,null,null,0,12]
[11,21544,21,21556,null,null,null,null,null,null,0,12]
[22,21648,14,21658,null,null,null,null,null,null,0,21]
[11,21757,21,21768,null,null,null,null,null,null,1,12]

{"sheet":"!MC02930.091","index":4,"n_rows":103,"n_cols":48,"rows_kept":103,"cut":false,"hidden":false,"merged":[[4,39,4,42],[5,39,5,40],[4,44,4,47],[5,44,5,45],[4,24,4,27],[5,24,5,25],[4,29,4,32],[5,29,5,30],[4,34,4,37],[5,34,5,35],[1,1,1,2],[5,13,5,14],[18,13,18,14],[19,13,19,14],[4,19,4,22],[5,19,5,20]]}
["Report for:!MC02930.091"]
["Date:","<date>"]
["Hen:","<hen>",null,null,null,"Correct Sequence",{"$f":"Start!J2","v":12},null,null,null,null,null,null,null,null,"Total Sequences in Data",{"$f":"4994-COUNTBLANK(L7:L5000)","v":97},null,null,null,null,"Total Sequences in Block Data",{"$f":"COUNTA(L7:L22)","v":16},null,null,null,"Total Sequences in Block Data",{"$f":"COUNTA(L23:L38)","v":16},null,null,null,"Total Sequences in Block Data",{"$f":"COUNTA(L39:L55)","v":17},null,null,null,"Total Sequences in Block Data",{"$f":"COUNTA(L56:L71)","v":16},null,null,null,"Total Sequences in Block Data",{"$f":"COUNTA(L72:L87)","v":16},null,null,null,"Total Sequences in Block Data",{"$f":"COUNTA(L88:L103)","v":16}]
[null,null,null,null,null,null,null,null,null,null,null,null,null,null,null,"Total Sequences in Summary",{"$f":"SUM(O7:O14)","v":97},null,null,null,null,"Total Sequences in Block Summary",{"$f":"SUM(U7:U14)","v":16},null,null,null,"Total Sequences in Block Summary",{"$f":"SUM(Z7:Z14)","v":16},null,null,null,"Total Sequences in Block Summary",{"$f":"SUM(AE7:AE14)","v":17},null,null,null,"Total Sequences in Block Summary",{"$f":"SUM(AJ7:AJ14)","v":16},null,null,null,"Total Sequences in Block Summary",{"$f":"SUM(AO7:AO14)","v":16},null,null,null,"Total Sequences in Block Summary",{"$f":"SUM(AT7:AT14)","v":16}]
[null,null,null,null,null,null,null,null,null,null,null,null,null,null,null,null,null,null,null,"Block 1",null,null,null,null,"Block 2",null,null,null,null,"Block 3",null,null,null,null,"Block 4",null,null,null,null,"Block 5",null,null,null,null,"Block 6"]
["Sequence\nComponent\n1","Time\n1","Sequence\nComponent\n2","Time\n2","Sequence\nComponent\n3","Time\n3","Sequence\nComponent\n4","Time\n4","Sequence\nComponent\n5","Time\n5","Correct?\n0=No 1=Yes","Sequence",null,"Frequency",null,"Relative Frequency","Variability",null,null,"Frequency",null,"Relative Frequency","Variability",null,"Frequency",null,"Relative Frequency","Variability",null,"Frequency",null,"Relative Frequency","Variability",null,"Frequency",null,"Relative Frequency","Variability",null,"Frequency",null,"Relative Frequency","Variability",null,"Frequency",null,"Relative Frequency","Variability"]
[22,6,14,18,null,null,null,null,null,null,0,21,null,11,{"$f":"COUNTIF($L$7:$L$500,N7)","v":2},{"$f":"O7/$Q$4","v":2.0618556701030927E-2},{"$f":"IF(P7=0,0,(P7*((LOG(P7))/LOG(2))))","v":-0.11546212045746655},null,null,{"$f":"N7","v":11},{"$f":"COUNTIF(L7:L22,T7)","v":0},{"$f":"U7/(W4-U8)","v":0},{"$f":"IF(V7=0,0,(V7*((LOG(V7))/LOG(2))))","v":0},null,{"$f":"N7","v":11},{"$f":"COUNTIF(L23:L38,Y7)","v":0},{"$f":"Z7/(AB4-Z8)","v":0},{"$f":"IF(AA7=0,0,(AA7*((LOG(AA7))/LOG(2))))","v":0},null,{"$f":"N7","v":11},{"$f":"COUNTIF(L39:L55,AD7)","v":0},{"$f":"AE7/(AG4-AE8)","v":0},{"$f":"IF(AF7=0,0,(AF7*((LOG(AF7))/LOG(2))))","v":0},null,{"$f":"N7","v":11},{"$f":"COUNTIF(L56:L71,AI7)","v":1},{"$f":"AJ7/(AL4-AJ8)","v":0.125},{"$f":"IF(AK7=0,0,(AK7*((LOG(AK7))/LOG(2))))","v":-0.375},null,{"$f":"N7","v":11},{"$f":"COUNTIF(L72:L87,AN7)","v":0},{"$f":"AO7/(AQ4-AO8)","v":0},{"$f":"IF(AP7=0,0,(AP7*((LOG(AP7))/LOG(2))))","v":0},null,{"$f":"N7","v":11},{"$f":"COUNTIF(L88:L103,AS7)","v":1},{"$f":"AT7/(AV4-AT8)","v":0.125},{"$f":"IF(AU7=0,0,(AU7*((LOG(AU7))/LOG(2))))","v":-0.375}]
[22,126,23,152,null,null,null,null,null,null,0,22,null,12,{"$f":"COUNTIF($L$7:$L$500,N8)","v":40},{"$f":"O8/$Q$4","v":0.41237113402061853},{"$f":"IF(P8=0,0,(P8*((LOG(P8))/LOG(2))))","v":-0.52700401950505782},null,null,{"$f":"N8","v":12},{"$f":"COUNTIF(L7:L22,T8)","v":1},null,null,null,{"$f":"N8","v":12},{"$f":"COUNTIF(L23:L38,Y8)","v":5},null,null,null,{"$f":"N8","v":12},{"$f":"COUNTIF(L39:L55,AD8)","v":9},null,null,null,{"$f":"N8","v":12},{"$f":"COUNTIF(L56:L71,AI8)","v":8},null,null,null,{"$f":"N8","v":12},{"$f":"COUNTIF(L72:L87,AN8)","v":9},null,null,null,{"$f":"N8","v":12},{"$f":"COUNTIF(L88:L103,AS8)","v":8}]
[22,256,23,264,null,null,null,null,null,null,0,22,null,21,{"$f":"COUNTIF($L$7:$L$500,N9)","v":33},{"$f":"O9/$Q$4","v":0.34020618556701032},{"$f":"IF(P9=0,0,(P9*((LOG(P9))/LOG(2))))","v":-0.52919709127161085},null,null,{"$f":"N9","v":21},{"$f":"COUNTIF(L7:L22,T9)","v":5},{"$f":"U9/(W4-U8)","v":0.33333333333333331},{"$f":"IF(V9=0,0,(V9*((LOG(V9))/LOG(2))))","v":-0.52832083357371862},null,{"$f":"N9","v":21},{"$f":"COUNTIF(L23:L38,Y9)","v":8},{"$f":"Z9/(AB4-Z8)","v":0.72727272727272729},{"$f":"IF(AA9=0,0,(AA9*((LOG(AA9))/LOG(2))))","v":-0.33413208628167068},null,{"$f":"N9","v":21},{"$f":"COUNTIF(L39:L55,AD9)","v":5},{"$f":"AE9/(AG4-AE8)","v":0.625},{"$f":"IF(AF9=0,0,(AF9*((LOG(AF9))/LOG(2))))","v":-0.42379494069539858},null,{"$f":"N9","v":21},{"$f":"COUNTIF(L56:L71,AI9)","v":5},{"$f":"AJ9/(AL4-AJ8)","v":0.625},{"$f":"IF(AK9=0,0,(AK9*((LOG(AK9))/LOG(2))))","v":-0.42379494069539858},null,{"$f":"N9","v":21},{"$f":"COUNTIF(L72:L87,AN9)","v":5},{"$f":"AO9/(AQ4-AO8)","v":0.7142857142857143},{"$f":"IF(AP9=0,0,(AP9*((LOG(AP9))/LOG(2))))","v":-0.34673344797874411},null,{"$f":"N9","v":21},{"$f":"COUNTIF(L88:L103,AS9)","v":5},{"$f":"AT9/(AV4-AT8)","v":0.625},{"$f":"IF(AU9=0,0,(AU9*((LOG(AU9))/LOG(2))))","v":-0.42379494069539858}]
[22,366,23,372,null,null,null,null,null,null,0,22,null,22,{"$f":"COUNTIF($L$7:$L$500,N10)","v":22},{"$f":"O10/$Q$4","v":0.22680412371134021},{"$f":"IF(P10=0,0,(P10*((LOG(P10))/LOG(2))))","v":-0.48546996822779659},null,null,{"$f":"N10","v":22},{"$f":"COUNTIF(L7:L22,T10)","v":10},{"$f":"U10/(W4-U8)","v":0.66666666666666663},{"$f":"IF(V10=0,0,(V10*((LOG(V10))/LOG(2))))","v":-0.38997500048077083},null,{"$f":"N10","v":22},{"$f":"COUNTIF(L23:L38,Y10)","v":3},{"$f":"Z10/(AB4-Z8)","v":0.27272727272727271},{"$f":"IF(AA10=0,0,(AA10*((LOG(AA10))/LOG(2))))","v":-0.51121885034076575},null,{"$f":"N10","v":22},{"$f":"COUNTIF(L39:L55,AD10)","v":3},{"$f":"AE10/(AG4-AE8)","v":0.375},{"$f":"IF(AF10=0,0,(AF10*((LOG(AF10))/LOG(2))))","v":-0.53063906222956647},null,{"$f":"N10","v":22},{"$f":"COUNTIF(L56:L71,AI10)","v":2},{"$f":"AJ10/(AL4-AJ8)","v":0.25},{"$f":"IF(AK10=0,0,(AK10*((LOG(AK10))/LOG(2))))","v":-0.5},null,{"$f":"N10","v":22},{"$f":"COUNTIF(L72:L87,AN10)","v":2},{"$f":"AO10/(AQ4-AO8)","v":0.2857142857142857},{"$f":"IF(AP10=0,0,(AP10*((LOG(AP10))/LOG(2))))","v":-0.51638712058788683},null,{"$f":"N10","v":22},{"$f":"COUNTIF(L88:L103,AS10)","v":2},{"$f":"AT10/(AV4-AT8)","v":0.25},{"$f":"IF(AU10=0,0,(AU10*((LOG(AU10))/LOG(2))))","v":-0.5}]
[22,488,23,501,null,null,null,null,null,null,0,22,null,null,null,null,null,null,null,{"$f":"N11","v":0},{"$f":"COUNTIF(L7:L22,T11)","v":0},{"$f":"U11/(W4-U8)","v":0},{"$f":"IF(V11=0,0,(V11*((LOG(V11))/LOG(2))))","v":0},null,{"$f":"N11","v":0},{"$f":"COUNTIF(L23:L38,Y11)","v":0},{"$f":"Z11/(AB4-Z8)","v":0},{"$f":"IF(AA11=0,0,(AA11*((LOG(AA11))/LOG(2))))","v":0},null,{"$f":"N11","v":0},{"$f":"COUNTIF(L39:L55,AD11)","v":0},{"$f":"AE11/(AG4-AE8)","v":0},{"$f":"IF(AF11=0,0,(AF11*((LOG(AF11))/LOG(2))))","v":0},null,{"$f":"N11","v":0},{"$f":"COUNTIF(L56:L71,AI11)","v":0},{"$f":"AJ11/(AL4-AJ8)","v":0},{"$f":"IF(AK11=0,0,(AK11*((LOG(AK11))/LOG(2))))","v":0},null,{"$f":"N11","v":0},{"$f":"COUNTIF(L72:L87,AN11)","v":0},{"$f":"AO11/(AQ4-AO8)","v":0},{"$f":"IF(AP11=0,0,(AP11*((LOG(AP11))/LOG(2))))","v":0},null,{"$f":"N11","v":0},{"$f":"COUNTIF(L88:L103,AS11)","v":0},{"$f":"AT11/(AV4-AT8)","v":0},{"$f":"IF(AU11=0,0,(AU11*((LOG(AU11))/LOG(2))))","v":0}]
[22,605,23,612,null,null,null,null,null,null,0,22,null,null,null,null,null,null,null,{"$f":"N12","v":0},{"$f":"COUNTIF(L7:L22,T12)","v":0},{"$f":"U12/(W4-U8)","v":0},{"$f":"IF(V12=0,0,(V12*((LOG(V12))/LOG(2))))","v":0},null,{"$f":"N12","v":0},{"$f":"COUNTIF(L23:L38,Y12)","v":0},{"$f":"Z12/(AB4-Z8)","v":0},{"$f":"IF(AA12=0,0,(AA12*((LOG(AA12))/LOG(2))))","v":0},null,{"$f":"N12","v":0},{"$f":"COUNTIF(L39:L55,AD12)","v":0},{"$f":"AE12/(AG4-AE8)","v":0},{"$f":"IF(AF12=0,0,(AF12*((LOG(AF12))/LOG(2))))","v":0},null,{"$f":"N12","v":0},{"$f":"COUNTIF(L56:L71,AI12)","v":0},{"$f":"AJ12/(AL4-AJ8)","v":0},{"$f":"IF(AK12=0,0,(AK12*((LOG(AK12))/LOG(2))))","v":0},null,{"$f":"N12","v":0},{"$f":"COUNTIF(L72:L87,AN12)","v":0},{"$f":"AO12/(AQ4-AO8)","v":0},{"$f":"IF(AP12=0,0,(AP12*((LOG(AP12))/LOG(2))))","v":0},null,{"$f":"N12","v":0},{"$f":"COUNTIF(L88:L103,AS12)","v":0},{"$f":"AT12/(AV4-AT8)","v":0},{"$f":"IF(AU12=0,0,(AU12*((LOG(AU12))/LOG(2))))","v":0}]
[22,725,14,736,null,null,null,null,null,null,0,21,null,null,null,null,null,null,null,{"$f":"N13","v":0},{"$f":"COUNTIF(L7:L22,T13)","v":0},{"$f":"U13/(W4-U8)","v":0},{"$f":"IF(V13=0,0,(V13*((LOG(V13))/LOG(2))))","v":0},null,{"$f":"N13","v":0},{"$f":"COUNTIF(L23:L38,Y13)","v":0},{"$f":"Z13/(AB4-Z8)","v":0},{"$f":"IF(AA13=0,0,(AA13*((LOG(AA13))/LOG(2))))","v":0},null,{"$f":"N13","v":0},{"$f":"COUNTIF(L39:L55,AD13)","v":0},{"$f":"AE13/(AG4-AE8)","v":0},{"$f":"IF(AF13=0,0,(AF13*((LOG(AF13))/LOG(2))))","v":0},null,{"$f":"N13","v":0},{"$f":"COUNTIF(L56:L71,AI13)","v":0},{"$f":"AJ13/(AL4-AJ8)","v":0},{"$f":"IF(AK13=0,0,(AK13*((LOG(AK13))/LOG(2))))","v":0},null,{"$f":"N13","v":0},{"$f":"COUNTIF(L72:L87,AN13)","v":0},{"$f":"AO13/(AQ4-AO8)","v":0},{"$f":"IF(AP13=0,0,(AP13*((LOG(AP13))/LOG(2))))","v":0},null,{"$f":"N13","v":0},{"$f":"COUNTIF(L88:L103,AS13)","v":0},{"$f":"AT13/(AV4-AT8)","v":0},{"$f":"IF(AU13=0,0,(AU13*((LOG(AU13))/LOG(2))))","v":0}]
[11,874,21,892,null,null,null,null,null,null,0,12,null,null,null,null,null,null,null,{"$f":"N14","v":0},{"$f":"COUNTIF(L7:L22,T14)","v":0},{"$f":"U14/(W4-U8)","v":0},{"$f":"IF(V14=0,0,(V14*((LOG(V14))/LOG(2))))","v":0},null,{"$f":"N14","v":0},{"$f":"COUNTIF(L23:L38,Y14)","v":0},{"$f":"Z14/(AB4-Z8)","v":0},{"$f":"IF(AA14=0,0,(AA14*((LOG(AA14))/LOG(2))))","v":0},null,{"$f":"N14","v":0},{"$f":"COUNTIF(L39:L55,AD14)","v":0},{"$f":"AE14/(AG4-AE8)","v":0},{"$f":"IF(AF14=0,0,(AF14*((LOG(AF14))/LOG(2))))","v":0},null,{"$f":"N14","v":0},{"$f":"COUNTIF(L56:L71,AI14)","v":0},{"$f":"AJ14/(AL4-AJ8)","v":0},{"$f":"IF(AK14=0,0,(AK14*((LOG(AK14))/LOG(2))))","v":0},null,{"$f":"N14","v":0},{"$f":"COUNTIF(L72:L87,AN14)","v":0},{"$f":"AO14/(AQ4-AO8)","v":0},{"$f":"IF(AP14=0,0,(AP14*((LOG(AP14))/LOG(2))))","v":0},null,{"$f":"N14","v":0},{"$f":"COUNTIF(L88:L103,AS14)","v":0},{"$f":"AT14/(AV4-AT8)","v":0},{"$f":"IF(AU14=0,0,(AU14*((LOG(AU14))/LOG(2))))","v":0}]
[22,983,14,999,null,null,null,null,null,null,0,21,null,null,null,{"$f":"SUM(P7:P14)","v":0.99999999999999989},{"$f":"-SUM(Q7:Q14)","v":1.6571331994619316},null,null,null,null,{"$f":"SUM(V7:V14)","v":1},{"$f":"-SUM(W7:W14)","v":0.91829583405448945},null,null,null,{"$f":"SUM(AA7:AA14)","v":1},{"$f":"-SUM(AB7:AB14)","v":0.84535093662243643},null,null,null,{"$f":"SUM(AF7:AF14)","v":1},{"$f":"-SUM(AG7:AG14)","v":0.95443400292496505},null,null,null,{"$f":"SUM(AK7:AK14)","v":1},{"$f":"-SUM(AL7:AL14)","v":1.2987949406953985},null,null,null,{"$f":"SUM(AP7:AP14)","v":1},{"$f":"-SUM(AQ7:AQ14)","v":0.863120568566631},null,null,null,{"$f":"SUM(AU7:AU14)","v":1},{"$f":"-SUM(AV7:AV14)","v":1.2987949406953985}]
[22,1101,23,1110,null,null,null,null,null,null,0,22,null,null,null,"U=",{"$f":"Q15/(LOG(Q4)/LOG(2))","v":0.25108410354594601},null,null,null,null,"U1=",{"$f":"W15/(LOG(W4)/LOG(2))","v":0.22957395851362236},null,null,null,"U2=",{"$f":"AB15/(LOG(AB4)/LOG(2))","v":0.21133773415560911},null,null,null,"U3=",{"$f":"AG15/(LOG(AG4)/LOG(2))","v":0.23350279623166126},null,null,null,"U4=",{"$f":"AL15/(LOG(AL4)/LOG(2))","v":0.32469873517384962},null,null,null,"U5=",{"$f":"AQ15/(LOG(AQ4)/LOG(2))","v":0.21578014214165775},null,null,null,"U6=",{"$f":"AV15/(LOG(AV4)/LOG(2))","v":0.32469873517384962}]
[22,1220,14,1232,null,null,null,null,null,null,0,21]
[22,1339,23,1349,null,null,null,null,null,null,0,22]
[22,1456,23,1469,null,null,null,null,null,null,0,22,null,"Total Target Seq"]
[22,1573,23,1582,null,null,null,null,null,null,0,22,null,{"$f":"COUNTIF(L7:L103,G3)","v":40},null,16,16,17,16,16,16]
[22,1680,23,1686,null,null,null,null,null,null,0,22,null,null,null,"% of reinforcement given in 6 equal intervals based on number of trials "]
[22,1789,14,1810,null,null,null,null,null,null,0,21,null,null,null,"%_1","%_2","%_3","%_4","%_5","%_6"]
[22,1917,14,1930,null,null,null,null,null,null,0,21,null,null,"target sequence",{"$f":"$G$3","v":12},{"$f":"$G$3","v":12},{"$f":"$G$3","v":12},{"$f":"$G$3","v":12},{"$f":"$G$3","v":12},{"$f":"$G$3","v":12}]
[22,2030,23,2038,null,null,null,null,null,null,0,22,null,null,"total reinforcement",{"$f":"U8","v":1},{"$f":"Z8","v":5},{"$f":"AE8","v":9},{"$f":"AJ8","v":8},{"$f":"AO8","v":9},{"$f":"AT8","v":8}]
[22,2154,14,2166,null,null,null,null,null,null,0,21,null,null,"% target"]
[22,2264,14,2280,null,null,null,null,null,null,0,21,null,null,"CCRF"]
[11,2382,21,2393,null,null,null,null,null,null,0,12,null,null,"% CCRf"]
[22,2483,14,2502,null,null,null,null,null,null,0,21,null,null,"average response rate",{"$f":"D22/P20","v":113.125},{"$f":"(D38-D22)/Q20","v":112.9375},{"$f":"(D55-D38)/R20","v":110.64705882352941},{"$f":"(D71-D55)/S20","v":104.375},{"$f":"(D87-D71)/T20","v":112.3125},{"$f":"(D103-D87)/U20","v":113.8125}]
[22,2604,14,2616,null,null,null,null,null,null,0,21]
[11,2716,21,2745,null,null,null,null,null,null,0,12]
[22,2836,14,2849,null,null,null,null,null,null,0,21]
[11,2946,21,2960,null,null,null,null,null,null,0,12]
[22,3051,14,3064,null,null,null,null,null,null,0,21]
[11,3176,21,3196,null,null,null,null,null,null,0,12]
[22,3286,23,3294,null,null,null,null,null,null,0,22]
[22,3401,14,3412,null,null,null,null,null,null,0,21]
[11,3513,21,3522,null,null,null,null,null,null,0,12]
[22,3612,23,3617,null,null,null,null,null,null,0,22]
[22,3718,14,3727,null,null,null,null,null,null,0,21]
[22,3836,23,3850,null,null,null,null,null,null,0,22]
[11,3946,21,3960,null,null,null,null,null,null,0,12]
[22,4049,14,4059,null,null,null,null,null,null,0,21]
[22,4167,23,4177,null,null,null,null,null,null,0,22]
[11,4276,21,4286,null,null,null,null,null,null,0,12]
[11,4376,21,4407,null,null,null,null,null,null,0,12]
[22,4495,23,4500,null,null,null,null,null,null,0,22]
[11,4594,21,4607,null,null,null,null,null,null,0,12]
[22,4695,14,4706,null,null,null,null,null,null,0,21]
[22,4805,14,4813,null,null,null,null,null,null,0,21]
[11,4908,21,4920,null,null,null,null,null,null,0,12]
[11,5010,21,5019,null,null,null,null,null,null,0,12]
[11,5128,21,5191,null,null,null,null,null,null,0,12]
[11,5279,21,5288,null,null,null,null,null,null,0,12]
[22,5379,14,5390,null,null,null,null,null,null,0,21]
[11,5487,21,5498,null,null,null,null,null,null,0,12]
[22,5586,14,5598,null,null,null,null,null,null,0,21]
[11,5696,21,5712,null,null,null,null,null,null,0,12]
[22,5800,23,5805,null,null,null,null,null,null,0,22]
[22,5911,23,5919,null,null,null,null,null,null,0,22]
[11,6017,21,6025,null,null,null,null,null,null,0,12]
[22,6116,14,6128,null,null,null,null,null,null,0,21]
[11,6223,21,6235,null,null,null,null,null,null,0,12]
[11,6338,21,6355,null,null,null,null,null,null,0,12]
[22,6443,14,6455,null,null,null,null,null,null,0,21]
[11,6550,21,6570,null,null,null,null,null,null,0,12]
[11,6656,21,6667,null,null,null,null,null,null,0,12]
[11,6753,21,6762,null,null,null,null,null,null,0,12]
[22,6852,14,6863,null,null,null,null,null,null,0,21]
[11,6955,12,6960,null,null,null,null,null,null,0,11]
[11,7056,21,7069,null,null,null,null,null,null,0,12]
[22,7157,14,7168,null,null,null,null,null,null,0,21]
[11,7265,21,7277,null,null,null,null,null,null,0,12]
[11,7379,21,7471,null,null,null,null,null,null,0,12]
[22,7561,14,7572,null,null,null,null,null,null,0,21]
[22,7679,23,7686,null,null,null,null,null,null,0,22]
[11,7781,21,7791,null,null,null,null,null,null,0,12]
[22,7896,23,7904,null,null,null,null,null,null,0,22]
[11,8004,21,8013,null,null,null,null,null,null,0,12]
[22,8101,14,8112,null,null,null,null,null,null,0,21]
[11,8207,21,8219,null,null,null,null,null,null,0,12]
[11,8323,21,8332,null,null,null,null,null,null,0,12]
[22,8423,14,8436,null,null,null,null,null,null,0,21]
[11,8535,21,8545,null,null,null,null,null,null,0,12]
[22,8634,14,8646,null,null,null,null,null,null,0,21]
[11,8744,21,8753,null,null,null,null,null,null,0,12]
[22,8846,14,8859,null,null,null,null,null,null,0,21]
[11,8956,21,8965,null,null,null,null,null,null,0,12]
[22,9063,23,9074,null,null,null,null,null,null,0,22]
[22,9175,14,9185,null,null,null,null,null,null,0,21]
[11,9284,21,9297,null,null,null,null,null,null,0,12]
[22,9386,14,9398,null,null,null,null,null,null,0,21]
[22,9568,23,9588,null,null,null,null,null,null,0,22]
[11,9686,21,9698,null,null,null,null,null,null,0,12]
[11,9788,21,9797,null,null,null,null,null,null,0,12]
[22,9891,14,9904,null,null,null,null,null,null,0,21]
[11,9999,21,10011,null,null,null,null,null,null,0,12]
[22,10109,14,10123,null,null,null,null,null,null,0,21]
[11,10222,21,10231,null,null,null,null,null,null,0,12]
[11,10321,12,10329,null,null,null,null,null,null,0,11]
[11,10439,21,10450,null,null,null,null,null,null,0,12]
[22,10566,14,10579,null,null,null,null,null,null,0,21]
[11,10678,21,10687,null,null,null,null,null,null,0,12]
[11,10775,21,10786,null,null,null,null,null,null,1,12]

{"sheet":"!MC03730.091","index":5,"n_rows":73,"n_cols":48,"rows_kept":73,"cut":false,"hidden":false,"merged":[[4,39,4,42],[5,39,5,40],[4,44,4,47],[5,44,5,45],[4,24,4,27],[5,24,5,25],[4,29,4,32],[5,29,5,30],[4,34,4,37],[5,34,5,35],[1,1,1,2],[5,13,5,14],[18,13,18,14],[19,13,19,14],[4,19,4,22],[5,19,5,20]]}
["Report for:!MC03730.091"]
["Date:","<date>"]
["Hen:","<hen>",null,null,null,"Correct Sequence",{"$f":"Start!J2","v":12},null,null,null,null,null,null,null,null,"Total Sequences in Data",{"$f":"4994-COUNTBLANK(L7:L5000)","v":67},null,null,null,null,"Total Sequences in Block Data",{"$f":"COUNTA(L7:L17)","v":11},null,null,null,"Total Sequences in Block Data",{"$f":"COUNTA(L18:L28)","v":11},null,null,null,"Total Sequences in Block Data",{"$f":"COUNTA(L29:L40)","v":12},null,null,null,"Total Sequences in Block Data",{"$f":"COUNTA(L41:L51)","v":11},null,null,null,"Total Sequences in Block Data",{"$f":"COUNTA(L52:L62)","v":11},null,null,null,"Total Sequences in Block Data",{"$f":"COUNTA(L63:L73)","v":11}]
[null,null,null,null,null,null,null,null,null,null,null,null,null,null,null,"Total Sequences in Summary",{"$f":"SUM(O7:O14)","v":67},null,null,null,null,"Total Sequences in Block Summary",{"$f":"SUM(U7:U14)","v":11},null,null,null,"Total Sequences in Block Summary",{"$f":"SUM(Z7:Z14)","v":11},null,null,null,"Total Sequences in Block Summary",{"$f":"SUM(AE7:AE14)","v":12},null,null,null,"Total Sequences in Block Summary",{"$f":"SUM(AJ7:AJ14)","v":11},null,null,null,"Total Sequences in Block Summary",{"$f":"SUM(AO7:AO14)","v":11},null,null,null,"Total Sequences in Block Summary",{"$f":"SUM(AT7:AT14)","v":11}]
[null,null,null,null,null,null,null,null,null,null,null,null,null,null,null,null,null,null,null,"Block 1",null,null,null,null,"Block 2",null,null,null,null,"Block 3",null,null,null,null,"Block 4",null,null,null,null,"Block 5",null,null,null,null,"Block 6"]
["Sequence\nComponent\n1","Time\n1","Sequence\nComponent\n2","Time\n2","Sequence\nComponent\n3","Time\n3","Sequence\nComponent\n4","Time\n4","Sequence\nComponent\n5","Time\n5","Correct?\n0=No 1=Yes","Sequence",null,"Frequency",null,"Relative Frequency","Variability",null,null,"Frequency",null,"Relative Frequency","Variability",null,"Frequency",null,"Relative Frequency","Variability",null,"Frequency",null,"Relative Frequency","Variability",null,"Frequency",null,"Relative Frequency","Variability",null,"Frequency",null,"Relative Frequency","Variability",null,"Frequency",null,"Relative Frequency","Variability"]
[22,11,14,23,null,null,null,null,null,null,0,21,null,11,{"$f":"COUNTIF($L$7:$L$500,N7)","v":1},{"$f":"O7/$Q$4","v":1.4925373134328358E-2},{"$f":"IF(P7=0,0,(P7*((LOG(P7))/LOG(2))))","v":-9.0538644633698095E-2},null,null,{"$f":"N7","v":11},{"$f":"COUNTIF(L7:L17,T7)","v":1},{"$f":"U7/(W4-U8)","v":0.14285714285714285},{"$f":"IF(V7=0,0,(V7*((LOG(V7))/LOG(2))))","v":-0.40105070315108626},null,{"$f":"N7","v":11},{"$f":"COUNTIF(L18:L28,Y7)","v":0},{"$f":"Z7/(AB4-Z8)","v":0},{"$f":"IF(AA7=0,0,(AA7*((LOG(AA7))/LOG(2))))","v":0},null,{"$f":"N7","v":11},{"$f":"COUNTIF(L29:L40,AD7)","v":0},{"$f":"AE7/(AG4-AE8)","v":0},{"$f":"IF(AF7=0,0,(AF7*((LOG(AF7))/LOG(2))))","v":0},null,{"$f":"N7","v":11},{"$f":"COUNTIF(L41:L51,AI7)","v":0},{"$f":"AJ7/(AL4-AJ8)","v":0},{"$f":"IF(AK7=0,0,(AK7*((LOG(AK7))/LOG(2))))","v":0},null,{"$f":"N7","v":11},{"$f":"COUNTIF(L52:L62,AN7)","v":0},{"$f":"AO7/(AQ4-AO8)","v":0},{"$f":"IF(AP7=0,0,(AP7*((LOG(AP7))/LOG(2))))","v":0},null,{"$f":"N7","v":11},{"$f":"COUNTIF(L63:L73,AS7)","v":0},{"$f":"AT7/(AV4-AT8)","v":0},{"$f":"IF(AU7=0,0,(AU7*((LOG(AU7))/LOG(2))))","v":0}]
[22,122,23,128,null,null,null,null,null,null,0,22,null,12,{"$f":"COUNTIF($L$7:$L$500,N8)","v":40},{"$f":"O8/$Q$4","v":0.59701492537313428},{"$f":"IF(P8=0,0,(P8*((LOG(P8))/LOG(2))))","v":-0.4442752809375583},null,null,{"$f":"N8","v":12},{"$f":"COUNTIF(L7:L17,T8)","v":4},null,null,null,{"$f":"N8","v":12},{"$f":"COUNTIF(L18:L28,Y8)","v":6},null,null,null,{"$f":"N8","v":12},{"$f":"COUNTIF(L29:L40,AD8)","v":7},null,null,null,{"$f":"N8","v":12},{"$f":"COUNTIF(L41:L51,AI8)","v":8},null,null,null,{"$f":"N8","v":12},{"$f":"COUNTIF(L52:L62,AN8)","v":8},null,null,null,{"$f":"N8","v":12},{"$f":"COUNTIF(L63:L73,AS8)","v":7}]
[22,234,14,247,null,null,null,null,null,null,0,21,null,21,{"$f":"COUNTIF($L$7:$L$500,N9)","v":16},{"$f":"O9/$Q$4","v":0.23880597014925373},{"$f":"IF(P9=0,0,(P9*((LOG(P9))/LOG(2))))","v":-0.49339443354215462},null,null,{"$f":"N9","v":21},{"$f":"COUNTIF(L7:L17,T9)","v":4},{"$f":"U9/(W4-U8)","v":0.5714285714285714},{"$f":"IF(V9=0,0,(V9*((LOG(V9))/LOG(2))))","v":-0.46134566974720237},null,{"$f":"N9","v":21},{"$f":"COUNTIF(L18:L28,Y9)","v":3},{"$f":"Z9/(AB4-Z8)","v":0.6},{"$f":"IF(AA9=0,0,(AA9*((LOG(AA9))/LOG(2))))","v":-0.44217935649972373},null,{"$f":"N9","v":21},{"$f":"COUNTIF(L29:L40,AD9)","v":3},{"$f":"AE9/(AG4-AE8)","v":0.6},{"$f":"IF(AF9=0,0,(AF9*((LOG(AF9))/LOG(2))))","v":-0.44217935649972373},null,{"$f":"N9","v":21},{"$f":"COUNTIF(L41:L51,AI9)","v":1},{"$f":"AJ9/(AL4-AJ8)","v":0.33333333333333331},{"$f":"IF(AK9=0,0,(AK9*((LOG(AK9))/LOG(2))))","v":-0.52832083357371862},null,{"$f":"N9","v":21},{"$f":"COUNTIF(L52:L62,AN9)","v":1},{"$f":"AO9/(AQ4-AO8)","v":0.33333333333333331},{"$f":"IF(AP9=0,0,(AP9*((LOG(AP9))/LOG(2))))","v":-0.52832083357371862},null,{"$f":"N9","v":21},{"$f":"COUNTIF(L63:L73,AS9)","v":4},{"$f":"AT9/(AV4-AT8)","v":1},{"$f":"IF(AU9=0,0,(AU9*((LOG(AU9))/LOG(2))))","v":0}]
[22,349,23,367,null,null,null,null,null,null,0,22,null,22,{"$f":"COUNTIF($L$7:$L$500,N10)","v":10},{"$f":"O10/$Q$4","v":0.14925373134328357},{"$f":"IF(P10=0,0,(P10*((LOG(P10))/LOG(2))))","v":-0.40957628292095671},null,null,{"$f":"N10","v":22},{"$f":"COUNTIF(L7:L17,T10)","v":2},{"$f":"U10/(W4-U8)","v":0.2857142857142857},{"$f":"IF(V10=0,0,(V10*((LOG(V10))/LOG(2))))","v":-0.51638712058788683},null,{"$f":"N10","v":22},{"$f":"COUNTIF(L18:L28,Y10)","v":2},{"$f":"Z10/(AB4-Z8)","v":0.4},{"$f":"IF(AA10=0,0,(AA10*((LOG(AA10))/LOG(2))))","v":-0.52877123795494496},null,{"$f":"N10","v":22},{"$f":"COUNTIF(L29:L40,AD10)","v":2},{"$f":"AE10/(AG4-AE8)","v":0.4},{"$f":"IF(AF10=0,0,(AF10*((LOG(AF10))/LOG(2))))","v":-0.52877123795494496},null,{"$f":"N10","v":22},{"$f":"COUNTIF(L41:L51,AI10)","v":2},{"$f":"AJ10/(AL4-AJ8)","v":0.66666666666666663},{"$f":"IF(AK10=0,0,(AK10*((LOG(AK10))/LOG(2))))","v":-0.38997500048077083},null,{"$f":"N10","v":22},{"$f":"COUNTIF(L52:L62,AN10)","v":2},{"$f":"AO10/(AQ4-AO8)","v":0.66666666666666663},{"$f":"IF(AP10=0,0,(AP10*((LOG(AP10))/LOG(2))))","v":-0.38997500048077083},null,{"$f":"N10","v":22},{"$f":"COUNTIF(L63:L73,AS10)","v":0},{"$f":"AT10/(AV4-AT8)","v":0},{"$f":"IF(AU10=0,0,(AU10*((LOG(AU10))/LOG(2))))","v":0}]
[11,482,21,494,null,null,null,null,null,null,0,12,null,null,null,null,null,null,null,{"$f":"N11","v":0},{"$f":"COUNTIF(L7:L17,T11)","v":0},{"$f":"U11/(W4-U8)","v":0},{"$f":"IF(V11=0,0,(V11*((LOG(V11))/LOG(2))))","v":0},null,{"$f":"N11","v":0},{"$f":"COUNTIF(L18:L28,Y11)","v":0},{"$f":"Z11/(AB4-Z8)","v":0},{"$f":"IF(AA11=0,0,(AA11*((LOG(AA11))/LOG(2))))","v":0},null,{"$f":"N11","v":0},{"$f":"COUNTIF(L29:L40,AD11)","v":0},{"$f":"AE11/(AG4-AE8)","v":0},{"$f":"IF(AF11=0,0,(AF11*((LOG(AF11))/LOG(2))))","v":0},null,{"$f":"N11","v":0},{"$f":"COUNTIF(L41:L51,AI11)","v":0},{"$f":"AJ11/(AL4-AJ8)","v":0},{"$f":"IF(AK11=0,0,(AK11*((LOG(AK11))/LOG(2))))","v":0},null,{"$f":"N11","v":0},{"$f":"COUNTIF(L52:L62,AN11)","v":0},{"$f":"AO11/(AQ4-AO8)","v":0},{"$f":"IF(AP11=0,0,(AP11*((LOG(AP11))/LOG(2))))","v":0},null,{"$f":"N11","v":0},{"$f":"COUNTIF(L63:L73,AS11)","v":0},{"$f":"AT11/(AV4-AT8)","v":0},{"$f":"IF(AU11=0,0,(AU11*((LOG(AU11))/LOG(2))))","v":0}]
[22,583,14,595,null,null,null,null,null,null,0,21,null,null,null,null,null,null,null,{"$f":"N12","v":0},{"$f":"COUNTIF(L7:L17,T12)","v":0},{"$f":"U12/(W4-U8)","v":0},{"$f":"IF(V12=0,0,(V12*((LOG(V12))/LOG(2))))","v":0},null,{"$f":"N12","v":0},{"$f":"COUNTIF(L18:L28,Y12)","v":0},{"$f":"Z12/(AB4-Z8)","v":0},{"$f":"IF(AA12=0,0,(AA12*((LOG(AA12))/LOG(2))))","v":0},null,{"$f":"N12","v":0},{"$f":"COUNTIF(L29:L40,AD12)","v":0},{"$f":"AE12/(AG4-AE8)","v":0},{"$f":"IF(AF12=0,0,(AF12*((LOG(AF12))/LOG(2))))","v":0},null,{"$f":"N12","v":0},{"$f":"COUNTIF(L41:L51,AI12)","v":0},{"$f":"AJ12/(AL4-AJ8)","v":0},{"$f":"IF(AK12=0,0,(AK12*((LOG(AK12))/LOG(2))))","v":0},null,{"$f":"N12","v":0},{"$f":"COUNTIF(L52:L62,AN12)","v":0},{"$f":"AO12/(AQ4-AO8)","v":0},{"$f":"IF(AP12=0,0,(AP12*((LOG(AP12))/LOG(2))))","v":0},null,{"$f":"N12","v":0},{"$f":"COUNTIF(L63:L73,AS12)","v":0},{"$f":"AT12/(AV4-AT8)","v":0},{"$f":"IF(AU12=0,0,(AU12*((LOG(AU12))/LOG(2))))","v":0}]
[11,694,21,706,null,null,null,null,null,null,0,12,null,null,null,null,null,null,null,{"$f":"N13","v":0},{"$f":"COUNTIF(L7:L17,T13)","v":0},{"$f":"U13/(W4-U8)","v":0},{"$f":"IF(V13=0,0,(V13*((LOG(V13))/LOG(2))))","v":0},null,{"$f":"N13","v":0},{"$f":"COUNTIF(L18:L28,Y13)","v":0},{"$f":"Z13/(AB4-Z8)","v":0},{"$f":"IF(AA13=0,0,(AA13*((LOG(AA13))/LOG(2))))","v":0},null,{"$f":"N13","v":0},{"$f":"COUNTIF(L29:L40,AD13)","v":0},{"$f":"AE13/(AG4-AE8)","v":0},{"$f":"IF(AF13=0,0,(AF13*((LOG(AF13))/LOG(2))))","v":0},null,{"$f":"N13","v":0},{"$f":"COUNTIF(L41:L51,AI13)","v":0},{"$f":"AJ13/(AL4-AJ8)","v":0},{"$f":"IF(AK13=0,0,(AK13*((LOG(AK13))/LOG(2))))","v":0},null,{"$f":"N13","v":0},{"$f":"COUNTIF(L52:L62,AN13)","v":0},{"$f":"AO13/(AQ4-AO8)","v":0},{"$f":"IF(AP13=0,0,(AP13*((LOG(AP13))/LOG(2))))","v":0},null,{"$f":"N13","v":0},{"$f":"COUNTIF(L63:L73,AS13)","v":0},{"$f":"AT13/(AV4-AT8)","v":0},{"$f":"IF(AU13=0,0,(AU13*((LOG(AU13))/LOG(2))))","v":0}]
[22,798,14,811,null,null,null,null,null,null,0,21,null,null,null,null,null,null,null,{"$f":"N14","v":0},{"$f":"COUNTIF(L7:L17,T14)","v":0},{"$f":"U14/(W4-U8)","v":0},{"$f":"IF(V14=0,0,(V14*((LOG(V14))/LOG(2))))","v":0},null,{"$f":"N14","v":0},{"$f":"COUNTIF(L18:L28,Y14)","v":0},{"$f":"Z14/(AB4-Z8)","v":0},{"$f":"IF(AA14=0,0,(AA14*((LOG(AA14))/LOG(2))))","v":0},null,{"$f":"N14","v":0},{"$f":"COUNTIF(L29:L40,AD14)","v":0},{"$f":"AE14/(AG4-AE8)","v":0},{"$f":"IF(AF14=0,0,(AF14*((LOG(AF14))/LOG(2))))","v":0},null,{"$f":"N14","v":0},{"$f":"COUNTIF(L41:L51,AI14)","v":0},{"$f":"AJ14/(AL4-AJ8)","v":0},{"$f":"IF(AK14=0,0,(AK14*((LOG(AK14))/LOG(2))))","v":0},null,{"$f":"N14","v":0},{"$f":"COUNTIF(L52:L62,AN14)","v":0},{"$f":"AO14/(AQ4-AO8)","v":0},{"$f":"IF(AP14=0,0,(AP14*((LOG(AP14))/LOG(2))))","v":0},null,{"$f":"N14","v":0},{"$f":"COUNTIF(L63:L73,AS14)","v":0},{"$f":"AT14/(AV4-AT8)","v":0},{"$f":"IF(AU14=0,0,(AU14*((LOG(AU14))/LOG(2))))","v":0}]
[11,909,21,920,null,null,null,null,null,null,0,12,null,null,null,{"$f":"SUM(P7:P14)","v":1},{"$f":"-SUM(Q7:Q14)","v":1.4377846420343676},null,null,null,null,{"$f":"SUM(V7:V14)","v":0.99999999999999989},{"$f":"-SUM(W7:W14)","v":1.3787834934861753},null,null,null,{"$f":"SUM(AA7:AA14)","v":1},{"$f":"-SUM(AB7:AB14)","v":0.97095059445466869},null,null,null,{"$f":"SUM(AF7:AF14)","v":1},{"$f":"-SUM(AG7:AG14)","v":0.97095059445466869},null,null,null,{"$f":"SUM(AK7:AK14)","v":1},{"$f":"-SUM(AL7:AL14)","v":0.91829583405448945},null,null,null,{"$f":"SUM(AP7:AP14)","v":1},{"$f":"-SUM(AQ7:AQ14)","v":0.91829583405448945},null,null,null,{"$f":"SUM(AU7:AU14)","v":1},{"$f":"-SUM(AV7:AV14)","v":0}]
[11,1009,12,1060,null,null,null,null,null,null,0,11,null,null,null,"U=",{"$f":"Q15/(LOG(Q4)/LOG(2))","v":0.23702003002133018},null,null,null,null,"U1=",{"$f":"W15/(LOG(W4)/LOG(2))","v":0.3985578110745519},null,null,null,"U2=",{"$f":"AB15/(LOG(AB4)/LOG(2))","v":0.28066766494928874},null,null,null,"U3=",{"$f":"AG15/(LOG(AG4)/LOG(2))","v":0.27083981889890085},null,null,null,"U4=",{"$f":"AL15/(LOG(AL4)/LOG(2))","v":0.26544702577940094},null,null,null,"U5=",{"$f":"AQ15/(LOG(AQ4)/LOG(2))","v":0.26544702577940094},null,null,null,"U6=",{"$f":"AV15/(LOG(AV4)/LOG(2))","v":0}]
[11,1157,21,1168,null,null,null,null,null,null,0,12]
[22,1256,14,1268,null,null,null,null,null,null,0,21]
[11,1365,21,1382,null,null,null,null,null,null,0,12,null,"Total Target Seq"]
[22,1473,23,1485,null,null,null,null,null,null,0,22,null,{"$f":"COUNTIF(L7:L73,G3)","v":40},null,11,11,12,11,11,11]
[11,1583,21,1593,null,null,null,null,null,null,0,12,null,null,null,"% of reinforcement given in 6 equal intervals based on number of trials "]
[22,1684,14,1695,null,null,null,null,null,null,0,21,null,null,null,"%_1","%_2","%_3","%_4","%_5","%_6"]
[22,1803,23,1815,null,null,null,null,null,null,0,22,null,null,"target sequence",{"$f":"$G$3","v":12},{"$f":"$G$3","v":12},{"$f":"$G$3","v":12},{"$f":"$G$3","v":12},{"$f":"$G$3","v":12},{"$f":"$G$3","v":12}]
[11,1915,21,1924,null,null,null,null,null,null,0,12,null,null,"total reinforcement",{"$f":"U8","v":4},{"$f":"Z8","v":6},{"$f":"AE8","v":7},{"$f":"AJ8","v":8},{"$f":"AO8","v":8},{"$f":"AT8","v":7}]
[11,2011,21,2021,null,null,null,null,null,null,0,12,null,null,"% target"]
[11,2107,21,2119,null,null,null,null,null,null,0,12,null,null,"CCRF"]
[22,2214,14,2226,null,null,null,null,null,null,0,21,null,null,"% CCRf"]
[11,2322,21,2330,null,null,null,null,null,null,0,12,null,null,"average response rate",{"$f":"D17/P20","v":106.18181818181819},{"$f":"(D28-D17)/Q20","v":105.63636363636364},{"$f":"(D40-D28)/R20","v":106.75},{"$f":"(D51-D40)/S20","v":107.18181818181819},{"$f":"(D62-D51)/T20","v":109.45454545454545},{"$f":"(D73-D62)/U20","v":106.45454545454545}]
[22,2420,23,2428,null,null,null,null,null,null,0,22]
[11,2526,21,2535,null,null,null,null,null,null,0,12]
[11,2622,21,2631,null,null,null,null,null,null,0,12]
[22,2729,14,2740,null,null,null,null,null,null,0,21]
[11,2835,21,2847,null,null,null,null,null,null,0,12]
[22,2938,14,2950,null,null,null,null,null,null,0,21]
[11,3050,21,3070,null,null,null,null,null,null,0,12]
[22,3163,23,3186,null,null,null,null,null,null,0,22]
[11,3283,21,3291,null,null,null,null,null,null,0,12]
[22,3387,14,3400,null,null,null,null,null,null,0,21]
[11,3498,21,3506,null,null,null,null,null,null,0,12]
[11,3596,21,3611,null,null,null,null,null,null,0,12]
[11,3713,21,3778,null,null,null,null,null,null,0,12]
[22,3866,23,3871,null,null,null,null,null,null,0,22]
[11,3971,21,3979,null,null,null,null,null,null,0,12]
[22,4067,23,4074,null,null,null,null,null,null,0,22]
[11,4172,21,4181,null,null,null,null,null,null,0,12]
[11,4267,21,4278,null,null,null,null,null,null,0,12]
[11,4365,21,4383,null,null,null,null,null,null,0,12]
[11,4473,21,4482,null,null,null,null,null,null,0,12]
[11,4568,21,4577,null,null,null,null,null,null,0,12]
[22,4667,14,4680,null,null,null,null,null,null,0,21]
[11,4779,21,4790,null,null,null,null,null,null,0,12]
[11,4878,21,4890,null,null,null,null,null,null,0,12]
[11,4979,21,4987,null,null,null,null,null,null,0,12]
[22,5076,23,5088,null,null,null,null,null,null,0,22]
[11,5186,21,5198,null,null,null,null,null,null,0,12]
[11,5285,21,5312,null,null,null,null,null,null,0,12]
[11,5430,21,5441,null,null,null,null,null,null,0,12]
[22,5533,14,5544,null,null,null,null,null,null,0,21]
[22,5646,23,5658,null,null,null,null,null,null,0,22]
[11,5755,21,5765,null,null,null,null,null,null,0,12]
[11,5852,21,5879,null,null,null,null,null,null,0,12]
[11,5983,21,5994,null,null,null,null,null,null,0,12]
[22,6086,14,6099,null,null,null,null,null,null,0,21]
[11,6195,21,6207,null,null,null,null,null,null,0,12]
[11,6297,21,6305,null,null,null,null,null,null,0,12]
[22,6393,14,6407,null,null,null,null,null,null,0,21]
[11,6503,21,6514,null,null,null,null,null,null,0,12]
[11,6602,21,6613,null,null,null,null,null,null,0,12]
[22,6707,14,6719,null,null,null,null,null,null,0,21]
[11,6816,21,6826,null,null,null,null,null,null,0,12]
[22,6923,14,6939,null,null,null,null,null,null,0,21]
[11,7036,21,7045,null,null,null,null,null,null,0,12]
[11,7149,21,7165,null,null,null,null,null,null,1,12]

{"sheet":"!MC04920.091","index":6,"n_rows":60,"n_cols":48,"rows_kept":60,"cut":false,"hidden":false,"merged":[[4,39,4,42],[5,39,5,40],[4,44,4,47],[5,44,5,45],[4,24,4,27],[5,24,5,25],[4,29,4,32],[5,29,5,30],[4,34,4,37],[5,34,5,35],[1,1,1,2],[5,13,5,14],[18,13,18,14],[19,13,19,14],[4,19,4,22],[5,19,5,20]]}
["Report for:!MC04920.091"]
["Date:","<date>"]
["Hen:","<hen>",null,null,null,"Correct Sequence",{"$f":"Start!J2","v":12},null,null,null,null,null,null,null,null,"Total Sequences in Data",{"$f":"4994-COUNTBLANK(L7:L5000)","v":54},null,null,null,null,"Total Sequences in Block Data",{"$f":"COUNTA(L7:L15)","v":9},null,null,null,"Total Sequences in Block Data",{"$f":"COUNTA(L16:L24)","v":9},null,null,null,"Total Sequences in Block Data",{"$f":"COUNTA(L25:L33)","v":9},null,null,null,"Total Sequences in Block Data",{"$f":"COUNTA(L34:L42)","v":9},null,null,null,"Total Sequences in Block Data",{"$f":"COUNTA(L43:L51)","v":9},null,null,null,"Total Sequences in Block Data",{"$f":"COUNTA(L52:L60)","v":9}]
[null,null,null,null,null,null,null,null,null,null,null,null,null,null,null,"Total Sequences in Summary",{"$f":"SUM(O7:O14)","v":54},null,null,null,null,"Total Sequences in Block Summary",{"$f":"SUM(U7:U14)","v":9},null,null,null,"Total Sequences in Block Summary",{"$f":"SUM(Z7:Z14)","v":9},null,null,null,"Total Sequences in Block Summary",{"$f":"SUM(AE7:AE14)","v":9},null,null,null,"Total Sequences in Block Summary",{"$f":"SUM(AJ7:AJ14)","v":9},null,null,null,"Total Sequences in Block Summary",{"$f":"SUM(AO7:AO14)","v":9},null,null,null,"Total Sequences in Block Summary",{"$f":"SUM(AT7:AT14)","v":9}]
[null,null,null,null,null,null,null,null,null,null,null,null,null,null,null,null,null,null,null,"Block 1",null,null,null,null,"Block 2",null,null,null,null,"Block 3",null,null,null,null,"Block 4",null,null,null,null,"Block 5",null,null,null,null,"Block 6"]
["Sequence\nComponent\n1","Time\n1","Sequence\nComponent\n2","Time\n2","Sequence\nComponent\n3","Time\n3","Sequence\nComponent\n4","Time\n4","Sequence\nComponent\n5","Time\n5","Correct?\n0=No 1=Yes","Sequence",null,"Frequency",null,"Relative Frequency","Variability",null,null,"Frequency",null,"Relative Frequency","Variability",null,"Frequency",null,"Relative Frequency","Variability",null,"Frequency",null,"Relative Frequency","Variability",null,"Frequency",null,"Relative Frequency","Variability",null,"Frequency",null,"Relative Frequency","Variability",null,"Frequency",null,"Relative Frequency","Variability"]
[22,8,14,22,null,null,null,null,null,null,0,21,null,11,{"$f":"COUNTIF($L$7:$L$500,N7)","v":1},{"$f":"O7/$Q$4","v":1.8518518518518517E-2},{"$f":"IF(P7=0,0,(P7*((LOG(P7))/LOG(2))))","v":-0.10657199078080498},null,null,{"$f":"N7","v":11},{"$f":"COUNTIF(L7:L15,T7)","v":0},{"$f":"U7/(W4-U8)","v":0},{"$f":"IF(V7=0,0,(V7*((LOG(V7))/LOG(2))))","v":0},null,{"$f":"N7","v":11},{"$f":"COUNTIF(L16:L24,Y7)","v":0},{"$f":"Z7/(AB4-Z8)","v":0},{"$f":"IF(AA7=0,0,(AA7*((LOG(AA7))/LOG(2))))","v":0},null,{"$f":"N7","v":11},{"$f":"COUNTIF(L25:L33,AD7)","v":0},{"$f":"AE7/(AG4-AE8)","v":0},{"$f":"IF(AF7=0,0,(AF7*((LOG(AF7))/LOG(2))))","v":0},null,{"$f":"N7","v":11},{"$f":"COUNTIF(L34:L42,AI7)","v":0},{"$f":"AJ7/(AL4-AJ8)","v":0},{"$f":"IF(AK7=0,0,(AK7*((LOG(AK7))/LOG(2))))","v":0},null,{"$f":"N7","v":11},{"$f":"COUNTIF(L43:L51,AN7)","v":1},{"$f":"AO7/(AQ4-AO8)","v":0.25},{"$f":"IF(AP7=0,0,(AP7*((LOG(AP7))/LOG(2))))","v":-0.5},null,{"$f":"N7","v":11},{"$f":"COUNTIF(L52:L60,AS7)","v":0},{"$f":"AT7/(AV4-AT8)","v":0},{"$f":"IF(AU7=0,0,(AU7*((LOG(AU7))/LOG(2))))","v":0}]
[11,122,21,136,null,null,null,null,null,null,0,12,null,12,{"$f":"COUNTIF($L$7:$L$500,N8)","v":40},{"$f":"O8/$Q$4","v":0.7407407407407407},{"$f":"IF(P8=0,0,(P8*((LOG(P8))/LOG(2))))","v":-0.32071067205637499},null,null,{"$f":"N8","v":12},{"$f":"COUNTIF(L7:L15,T8)","v":7},null,null,null,{"$f":"N8","v":12},{"$f":"COUNTIF(L16:L24,Y8)","v":7},null,null,null,{"$f":"N8","v":12},{"$f":"COUNTIF(L25:L33,AD8)","v":7},null,null,null,{"$f":"N8","v":12},{"$f":"COUNTIF(L34:L42,AI8)","v":8},null,null,null,{"$f":"N8","v":12},{"$f":"COUNTIF(L43:L51,AN8)","v":5},null,null,null,{"$f":"N8","v":12},{"$f":"COUNTIF(L52:L60,AS8)","v":6}]
[11,263,21,274,null,null,null,null,null,null,0,12,null,21,{"$f":"COUNTIF($L$7:$L$500,N9)","v":7},{"$f":"O9/$Q$4","v":0.12962962962962962},{"$f":"IF(P9=0,0,(P9*((LOG(P9))/LOG(2))))","v":-0.38208755668038979},null,null,{"$f":"N9","v":21},{"$f":"COUNTIF(L7:L15,T9)","v":2},{"$f":"U9/(W4-U8)","v":1},{"$f":"IF(V9=0,0,(V9*((LOG(V9))/LOG(2))))","v":0},null,{"$f":"N9","v":21},{"$f":"COUNTIF(L16:L24,Y9)","v":1},{"$f":"Z9/(AB4-Z8)","v":0.5},{"$f":"IF(AA9=0,0,(AA9*((LOG(AA9))/LOG(2))))","v":-0.5},null,{"$f":"N9","v":21},{"$f":"COUNTIF(L25:L33,AD9)","v":0},{"$f":"AE9/(AG4-AE8)","v":0},{"$f":"IF(AF9=0,0,(AF9*((LOG(AF9))/LOG(2))))","v":0},null,{"$f":"N9","v":21},{"$f":"COUNTIF(L34:L42,AI9)","v":1},{"$f":"AJ9/(AL4-AJ8)","v":1},{"$f":"IF(AK9=0,0,(AK9*((LOG(AK9))/LOG(2))))","v":0},null,{"$f":"N9","v":21},{"$f":"COUNTIF(L43:L51,AN9)","v":2},{"$f":"AO9/(AQ4-AO8)","v":0.5},{"$f":"IF(AP9=0,0,(AP9*((LOG(AP9))/LOG(2))))","v":-0.5},null,{"$f":"N9","v":21},{"$f":"COUNTIF(L52:L60,AS9)","v":1},{"$f":"AT9/(AV4-AT8)","v":0.33333333333333331},{"$f":"IF(AU9=0,0,(AU9*((LOG(AU9))/LOG(2))))","v":-0.52832083357371862}]
[11,362,21,391,null,null,null,null,null,null,0,12,null,22,{"$f":"COUNTIF($L$7:$L$500,N10)","v":6},{"$f":"O10/$Q$4","v":0.1111111111111111},{"$f":"IF(P10=0,0,(P10*((LOG(P10))/LOG(2))))","v":-0.3522138890491458},null,null,{"$f":"N10","v":22},{"$f":"COUNTIF(L7:L15,T10)","v":0},{"$f":"U10/(W4-U8)","v":0},{"$f":"IF(V10=0,0,(V10*((LOG(V10))/LOG(2))))","v":0},null,{"$f":"N10","v":22},{"$f":"COUNTIF(L16:L24,Y10)","v":1},{"$f":"Z10/(AB4-Z8)","v":0.5},{"$f":"IF(AA10=0,0,(AA10*((LOG(AA10))/LOG(2))))","v":-0.5},null,{"$f":"N10","v":22},{"$f":"COUNTIF(L25:L33,AD10)","v":2},{"$f":"AE10/(AG4-AE8)","v":1},{"$f":"IF(AF10=0,0,(AF10*((LOG(AF10))/LOG(2))))","v":0},null,{"$f":"N10","v":22},{"$f":"COUNTIF(L34:L42,AI10)","v":0},{"$f":"AJ10/(AL4-AJ8)","v":0},{"$f":"IF(AK10=0,0,(AK10*((LOG(AK10))/LOG(2))))","v":0},null,{"$f":"N10","v":22},{"$f":"COUNTIF(L43:L51,AN10)","v":1},{"$f":"AO10/(AQ4-AO8)","v":0.25},{"$f":"IF(AP10=0,0,(AP10*((LOG(AP10))/LOG(2))))","v":-0.5},null,{"$f":"N10","v":22},{"$f":"COUNTIF(L52:L60,AS10)","v":2},{"$f":"AT10/(AV4-AT8)","v":0.66666666666666663},{"$f":"IF(AU10=0,0,(AU10*((LOG(AU10))/LOG(2))))","v":-0.38997500048077083}]
[22,484,14,500,null,null,null,null,null,null,0,21,null,null,null,null,null,null,null,{"$f":"N11","v":0},{"$f":"COUNTIF(L7:L15,T11)","v":0},{"$f":"U11/(W4-U8)","v":0},{"$f":"IF(V11=0,0,(V11*((LOG(V11))/LOG(2))))","v":0},null,{"$f":"N11","v":0},{"$f":"COUNTIF(L16:L24,Y11)","v":0},{"$f":"Z11/(AB4-Z8)","v":0},{"$f":"IF(AA11=0,0,(AA11*((LOG(AA11))/LOG(2))))","v":0},null,{"$f":"N11","v":0},{"$f":"COUNTIF(L25:L33,AD11)","v":0},{"$f":"AE11/(AG4-AE8)","v":0},{"$f":"IF(AF11=0,0,(AF11*((LOG(AF11))/LOG(2))))","v":0},null,{"$f":"N11","v":0},{"$f":"COUNTIF(L34:L42,AI11)","v":0},{"$f":"AJ11/(AL4-AJ8)","v":0},{"$f":"IF(AK11=0,0,(AK11*((LOG(AK11))/LOG(2))))","v":0},null,{"$f":"N11","v":0},{"$f":"COUNTIF(L43:L51,AN11)","v":0},{"$f":"AO11/(AQ4-AO8)","v":0},{"$f":"IF(AP11=0,0,(AP11*((LOG(AP11))/LOG(2))))","v":0},null,{"$f":"N11","v":0},{"$f":"COUNTIF(L52:L60,AS11)","v":0},{"$f":"AT11/(AV4-AT8)","v":0},{"$f":"IF(AU11=0,0,(AU11*((LOG(AU11))/LOG(2))))","v":0}]
[11,597,21,607,null,null,null,null,null,null,0,12,null,null,null,null,null,null,null,{"$f":"N12","v":0},{"$f":"COUNTIF(L7:L15,T12)","v":0},{"$f":"U12/(W4-U8)","v":0},{"$f":"IF(V12=0,0,(V12*((LOG(V12))/LOG(2))))","v":0},null,{"$f":"N12","v":0},{"$f":"COUNTIF(L16:L24,Y12)","v":0},{"$f":"Z12/(AB4-Z8)","v":0},{"$f":"IF(AA12=0,0,(AA12*((LOG(AA12))/LOG(2))))","v":0},null,{"$f":"N12","v":0},{"$f":"COUNTIF(L25:L33,AD12)","v":0},{"$f":"AE12/(AG4-AE8)","v":0},{"$f":"IF(AF12=0,0,(AF12*((LOG(AF12))/LOG(2))))","v":0},null,{"$f":"N12","v":0},{"$f":"COUNTIF(L34:L42,AI12)","v":0},{"$f":"AJ12/(AL4-AJ8)","v":0},{"$f":"IF(AK12=0,0,(AK12*((LOG(AK12))/LOG(2))))","v":0},null,{"$f":"N12","v":0},{"$f":"COUNTIF(L43:L51,AN12)","v":0},{"$f":"AO12/(AQ4-AO8)","v":0},{"$f":"IF(AP12=0,0,(AP12*((LOG(AP12))/LOG(2))))","v":0},null,{"$f":"N12","v":0},{"$f":"COUNTIF(L52:L60,AS12)","v":0},{"$f":"AT12/(AV4-AT8)","v":0},{"$f":"IF(AU12=0,0,(AU12*((LOG(AU12))/LOG(2))))","v":0}]
[11,694,21,723,null,null,null,null,null,null,0,12,null,null,null,null,null,null,null,{"$f":"N13","v":0},{"$f":"COUNTIF(L7:L15,T13)","v":0},{"$f":"U13/(W4-U8)","v":0},{"$f":"IF(V13=0,0,(V13*((LOG(V13))/LOG(2))))","v":0},null,{"$f":"N13","v":0},{"$f":"COUNTIF(L16:L24,Y13)","v":0},{"$f":"Z13/(AB4-Z8)","v":0},{"$f":"IF(AA13=0,0,(AA13*((LOG(AA13))/LOG(2))))","v":0},null,{"$f":"N13","v":0},{"$f":"COUNTIF(L25:L33,AD13)","v":0},{"$f":"AE13/(AG4-AE8)","v":0},{"$f":"IF(AF13=0,0,(AF13*((LOG(AF13))/LOG(2))))","v":0},null,{"$f":"N13","v":0},{"$f":"COUNTIF(L34:L42,AI13)","v":0},{"$f":"AJ13/(AL4-AJ8)","v":0},{"$f":"IF(AK13=0,0,(AK13*((LOG(AK13))/LOG(2))))","v":0},null,{"$f":"N13","v":0},{"$f":"COUNTIF(L43:L51,AN13)","v":0},{"$f":"AO13/(AQ4-AO8)","v":0},{"$f":"IF(AP13=0,0,(AP13*((LOG(AP13))/LOG(2))))","v":0},null,{"$f":"N13","v":0},{"$f":"COUNTIF(L52:L60,AS13)","v":0},{"$f":"AT13/(AV4-AT8)","v":0},{"$f":"IF(AU13=0,0,(AU13*((LOG(AU13))/LOG(2))))","v":0}]
[11,809,21,821,null,null,null,null,null,null,0,12,null,null,null,null,null,null,null,{"$f":"N14","v":0},{"$f":"COUNTIF(L7:L15,T14)","v":0},{"$f":"U14/(W4-U8)","v":0},{"$f":"IF(V14=0,0,(V14*((LOG(V14))/LOG(2))))","v":0},null,{"$f":"N14","v":0},{"$f":"COUNTIF(L16:L24,Y14)","v":0},{"$f":"Z14/(AB4-Z8)","v":0},{"$f":"IF(AA14=0,0,(AA14*((LOG(AA14))/LOG(2))))","v":0},null,{"$f":"N14","v":0},{"$f":"COUNTIF(L25:L33,AD14)","v":0},{"$f":"AE14/(AG4-AE8)","v":0},{"$f":"IF(AF14=0,0,(AF14*((LOG(AF14))/LOG(2))))","v":0},null,{"$f":"N14","v":0},{"$f":"COUNTIF(L34:L42,AI14)","v":0},{"$f":"AJ14/(AL4-AJ8)","v":0},{"$f":"IF(AK14=0,0,(AK14*((LOG(AK14))/LOG(2))))","v":0},null,{"$f":"N14","v":0},{"$f":"COUNTIF(L43:L51,AN14)","v":0},{"$f":"AO14/(AQ4-AO8)","v":0},{"$f":"IF(AP14=0,0,(AP14*((LOG(AP14))/LOG(2))))","v":0},null,{"$f":"N14","v":0},{"$f":"COUNTIF(L52:L60,AS14)","v":0},{"$f":"AT14/(AV4-AT8)","v":0},{"$f":"IF(AU14=0,0,(AU14*((LOG(AU14))/LOG(2))))","v":0}]
[11,910,21,934,null,null,null,null,null,null,0,12,null,null,null,{"$f":"SUM(P7:P14)","v":1},{"$f":"-SUM(Q7:Q14)","v":1.1615841085667156},null,null,null,null,{"$f":"SUM(V7:V14)","v":1},{"$f":"-SUM(W7:W14)","v":0},null,null,null,{"$f":"SUM(AA7:AA14)","v":1},{"$f":"-SUM(AB7:AB14)","v":1},null,null,null,{"$f":"SUM(AF7:AF14)","v":1},{"$f":"-SUM(AG7:AG14)","v":0},null,null,null,{"$f":"SUM(AK7:AK14)","v":1},{"$f":"-SUM(AL7:AL14)","v":0},null,null,null,{"$f":"SUM(AP7:AP14)","v":1},{"$f":"-SUM(AQ7:AQ14)","v":1.5},null,null,null,{"$f":"SUM(AU7:AU14)","v":1},{"$f":"-SUM(AV7:AV14)","v":0.91829583405448945}]
[11,1023,21,1033,null,null,null,null,null,null,0,12,null,null,null,"U=",{"$f":"Q15/(LOG(Q4)/LOG(2))","v":0.2018430608991113},null,null,null,null,"U1=",{"$f":"W15/(LOG(W4)/LOG(2))","v":0},null,null,null,"U2=",{"$f":"AB15/(LOG(AB4)/LOG(2))","v":0.31546487678572877},null,null,null,"U3=",{"$f":"AG15/(LOG(AG4)/LOG(2))","v":0},null,null,null,"U4=",{"$f":"AL15/(LOG(AL4)/LOG(2))","v":0},null,null,null,"U5=",{"$f":"AQ15/(LOG(AQ4)/LOG(2))","v":0.47319731517859309},null,null,null,"U6=",{"$f":"AV15/(LOG(AV4)/LOG(2))","v":0.28969008214284753}]
[11,1121,21,1129,null,null,null,null,null,null,0,12]
[11,1216,21,1238,null,null,null,null,null,null,0,12]
[22,1332,23,1342,null,null,null,null,null,null,0,22,null,"Total Target Seq"]
[11,1438,21,1449,null,null,null,null,null,null,0,12,null,{"$f":"COUNTIF(L7:L60,G3)","v":40},null,9,9,9,9,9,9]
[11,1535,21,1544,null,null,null,null,null,null,0,12,null,null,null,"% of reinforcement given in 6 equal intervals based on number of trials "]
[11,1633,21,1651,null,null,null,null,null,null,0,12,null,null,null,"%_1","%_2","%_3","%_4","%_5","%_6"]
[11,1737,21,1746,null,null,null,null,null,null,0,12,null,null,"target sequence",{"$f":"$G$3","v":12},{"$f":"$G$3","v":12},{"$f":"$G$3","v":12},{"$f":"$G$3","v":12},{"$f":"$G$3","v":12},{"$f":"$G$3","v":12}]
[22,1841,14,1853,null,null,null,null,null,null,0,21,null,null,"total reinforcement",{"$f":"U8","v":7},{"$f":"Z8","v":7},{"$f":"AE8","v":7},{"$f":"AJ8","v":8},{"$f":"AO8","v":5},{"$f":"AT8","v":6}]
[11,1950,21,1961,null,null,null,null,null,null,0,12,null,null,"% target"]
[11,2047,21,2080,null,null,null,null,null,null,0,12,null,null,"CCRF"]
[11,2168,21,2177,null,null,null,null,null,null,0,12,null,null,"% CCRf"]
[11,2264,21,2277,null,null,null,null,null,null,0,12,null,null,"average response rate",{"$f":"D15/P20","v":103.77777777777777},{"$f":"(D24-D15)/Q20","v":102.11111111111111},{"$f":"(D33-D24)/R20","v":110.33333333333333},{"$f":"(D42-D33)/S20","v":113.66666666666667},{"$f":"(D51-D42)/T20","v":109.66666666666667},{"$f":"(D60-D51)/U20","v":111}]
[11,2368,21,2423,null,null,null,null,null,null,0,12]
[22,2513,23,2522,null,null,null,null,null,null,0,22]
[22,2623,23,2631,null,null,null,null,null,null,0,22]
[11,2727,21,2738,null,null,null,null,null,null,0,12]
[11,2824,21,2846,null,null,null,null,null,null,0,12]
[11,2932,21,2942,null,null,null,null,null,null,0,12]
[11,3031,21,3076,null,null,null,null,null,null,0,12]
[11,3182,21,3208,null,null,null,null,null,null,0,12]
[11,3298,21,3321,null,null,null,null,null,null,0,12]
[11,3408,21,3418,null,null,null,null,null,null,0,12]
[11,3526,21,3556,null,null,null,null,null,null,0,12]
[22,3644,14,3653,null,null,null,null,null,null,0,21]
[11,3749,21,3766,null,null,null,null,null,null,0,12]
[11,3854,21,3869,null,null,null,null,null,null,0,12]
[22,3963,14,3972,null,null,null,null,null,null,0,21]
[11,4069,21,4080,null,null,null,null,null,null,0,12]
[11,4167,21,4175,null,null,null,null,null,null,0,12]
[11,4273,21,4284,null,null,null,null,null,null,0,12]
[11,4372,21,4381,null,null,null,null,null,null,0,12]
[11,4486,21,4530,null,null,null,null,null,null,0,12]
[22,4619,14,4630,null,null,null,null,null,null,0,21]
[11,4728,12,4735,null,null,null,null,null,null,0,11]
[22,4845,23,4856,null,null,null,null,null,null,0,22]
[11,4954,21,4970,null,null,null,null,null,null,0,12]
[22,5066,14,5078,null,null,null,null,null,null,0,21]
[11,5174,21,5197,null,null,null,null,null,null,0,12]
[11,5286,21,5301,null,null,null,null,null,null,0,12]
[22,5400,23,5440,null,null,null,null,null,null,0,22]
[11,5537,21,5547,null,null,null,null,null,null,0,12]
[22,5646,23,5655,null,null,null,null,null,null,0,22]
[11,5751,21,5759,null,null,null,null,null,null,0,12]
[11,5846,21,5855,null,null,null,null,null,null,1,12]

{"sheet":"!MC05800.091","index":7,"n_rows":53,"n_cols":48,"rows_kept":53,"cut":false,"hidden":false,"merged":[[4,39,4,42],[5,39,5,40],[4,44,4,47],[5,44,5,45],[4,24,4,27],[5,24,5,25],[4,29,4,32],[5,29,5,30],[4,34,4,37],[5,34,5,35],[1,1,1,2],[5,13,5,14],[18,13,18,14],[19,13,19,14],[4,19,4,22],[5,19,5,20]]}
["Report for:!MC05800.091"]
["Date:","<date>"]
["Hen:","<hen>",null,null,null,"Correct Sequence",{"$f":"Start!J2","v":12},null,null,null,null,null,null,null,null,"Total Sequences in Data",{"$f":"4994-COUNTBLANK(L7:L5000)","v":47},null,null,null,null,"Total Sequences in Block Data",{"$f":"COUNTA(L7:L14)","v":8},null,null,null,"Total Sequences in Block Data",{"$f":"COUNTA(L15:L22)","v":8},null,null,null,"Total Sequences in Block Data",{"$f":"COUNTA(L23:L29)","v":7},null,null,null,"Total Sequences in Block Data",{"$f":"COUNTA(L30:L37)","v":8},null,null,null,"Total Sequences in Block Data",{"$f":"COUNTA(L38:L45)","v":8},null,null,null,"Total Sequences in Block Data",{"$f":"COUNTA(L46:L53)","v":8}]
[null,null,null,null,null,null,null,null,null,null,null,null,null,null,null,"Total Sequences in Summary",{"$f":"SUM(O7:O14)","v":47},null,null,null,null,"Total Sequences in Block Summary",{"$f":"SUM(U7:U14)","v":8},null,null,null,"Total Sequences in Block Summary",{"$f":"SUM(Z7:Z14)","v":8},null,null,null,"Total Sequences in Block Summary",{"$f":"SUM(AE7:AE14)","v":7},null,null,null,"Total Sequences in Block Summary",{"$f":"SUM(AJ7:AJ14)","v":8},null,null,null,"Total Sequences in Block Summary",{"$f":"SUM(AO7:AO14)","v":8},null,null,null,"Total Sequences in Block Summary",{"$f":"SUM(AT7:AT14)","v":8}]
[null,null,null,null,null,null,null,null,null,null,null,null,null,null,null,null,null,null,null,"Block 1",null,null,null,null,"Block 2",null,null,null,null,"Block 3",null,null,null,null,"Block 4",null,null,null,null,"Block 5",null,null,null,null,"Block 6"]
["Sequence\nComponent\n1","Time\n1","Sequence\nComponent\n2","Time\n2","Sequence\nComponent\n3","Time\n3","Sequence\nComponent\n4","Time\n4","Sequence\nComponent\n5","Time\n5","Correct?\n0=No 1=Yes","Sequence",null,"Frequency",null,"Relative Frequency","Variability",null,null,"Frequency",null,"Relative Frequency","Variability",null,"Frequency",null,"Relative Frequency","Variability",null,"Frequency",null,"Relative Frequency","Variability",null,"Frequency",null,"Relative Frequency","Variability",null,"Frequency",null,"Relative Frequency","Variability",null,"Frequency",null,"Relative Frequency","Variability"]
[22,24,14,37,null,null,null,null,null,null,0,21,null,11,{"$f":"COUNTIF($L$7:$L$500,N7)","v":0},{"$f":"O7/$Q$4","v":0},{"$f":"IF(P7=0,0,(P7*((LOG(P7))/LOG(2))))","v":0},null,null,{"$f":"N7","v":11},{"$f":"COUNTIF(L7:L14,T7)","v":0},{"$f":"U7/(W4-U8)","v":0},{"$f":"IF(V7=0,0,(V7*((LOG(V7))/LOG(2))))","v":0},null,{"$f":"N7","v":11},{"$f":"COUNTIF(L15:L22,Y7)","v":0},{"$f":"Z7/(AB4-Z8)","v":{"$error":"#DIV/0!"}},{"$f":"IF(AA7=0,0,(AA7*((LOG(AA7))/LOG(2))))","v":{"$error":"#DIV/0!"}},null,{"$f":"N7","v":11},{"$f":"COUNTIF(L23:L29,AD7)","v":0},{"$f":"AE7/(AG4-AE8)","v":0},{"$f":"IF(AF7=0,0,(AF7*((LOG(AF7))/LOG(2))))","v":0},null,{"$f":"N7","v":11},{"$f":"COUNTIF(L30:L37,AI7)","v":0},{"$f":"AJ7/(AL4-AJ8)","v":0},{"$f":"IF(AK7=0,0,(AK7*((LOG(AK7))/LOG(2))))","v":0},null,{"$f":"N7","v":11},{"$f":"COUNTIF(L38:L45,AN7)","v":0},{"$f":"AO7/(AQ4-AO8)","v":{"$error":"#DIV/0!"}},{"$f":"IF(AP7=0,0,(AP7*((LOG(AP7))/LOG(2))))","v":{"$error":"#DIV/0!"}},null,{"$f":"N7","v":11},{"$f":"COUNTIF(L46:L53,AS7)","v":0},{"$f":"AT7/(AV4-AT8)","v":0},{"$f":"IF(AU7=0,0,(AU7*((LOG(AU7))/LOG(2))))","v":0}]
[22,135,23,144,null,null,null,null,null,null,0,22,null,12,{"$f":"COUNTIF($L$7:$L$500,N8)","v":40},{"$f":"O8/$Q$4","v":0.85106382978723405},{"$f":"IF(P8=0,0,(P8*((LOG(P8))/LOG(2))))","v":-0.19800915471512767},null,null,{"$f":"N8","v":12},{"$f":"COUNTIF(L7:L14,T8)","v":4},null,null,null,{"$f":"N8","v":12},{"$f":"COUNTIF(L15:L22,Y8)","v":8},null,null,null,{"$f":"N8","v":12},{"$f":"COUNTIF(L23:L29,AD8)","v":6},null,null,null,{"$f":"N8","v":12},{"$f":"COUNTIF(L30:L37,AI8)","v":7},null,null,null,{"$f":"N8","v":12},{"$f":"COUNTIF(L38:L45,AN8)","v":8},null,null,null,{"$f":"N8","v":12},{"$f":"COUNTIF(L46:L53,AS8)","v":7}]
[11,241,21,253,null,null,null,null,null,null,0,12,null,21,{"$f":"COUNTIF($L$7:$L$500,N9)","v":4},{"$f":"O9/$Q$4","v":8.5106382978723402E-2},{"$f":"IF(P9=0,0,(P9*((LOG(P9))/LOG(2))))","v":-0.30251820014277764},null,null,{"$f":"N9","v":21},{"$f":"COUNTIF(L7:L14,T9)","v":2},{"$f":"U9/(W4-U8)","v":0.5},{"$f":"IF(V9=0,0,(V9*((LOG(V9))/LOG(2))))","v":-0.5},null,{"$f":"N9","v":21},{"$f":"COUNTIF(L15:L22,Y9)","v":0},{"$f":"Z9/(AB4-Z8)","v":{"$error":"#DIV/0!"}},{"$f":"IF(AA9=0,0,(AA9*((LOG(AA9))/LOG(2))))","v":{"$error":"#DIV/0!"}},null,{"$f":"N9","v":21},{"$f":"COUNTIF(L23:L29,AD9)","v":1},{"$f":"AE9/(AG4-AE8)","v":1},{"$f":"IF(AF9=0,0,(AF9*((LOG(AF9))/LOG(2))))","v":0},null,{"$f":"N9","v":21},{"$f":"COUNTIF(L30:L37,AI9)","v":0},{"$f":"AJ9/(AL4-AJ8)","v":0},{"$f":"IF(AK9=0,0,(AK9*((LOG(AK9))/LOG(2))))","v":0},null,{"$f":"N9","v":21},{"$f":"COUNTIF(L38:L45,AN9)","v":0},{"$f":"AO9/(AQ4-AO8)","v":{"$error":"#DIV/0!"}},{"$f":"IF(AP9=0,0,(AP9*((LOG(AP9))/LOG(2))))","v":{"$error":"#DIV/0!"}},null,{"$f":"N9","v":21},{"$f":"COUNTIF(L46:L53,AS9)","v":1},{"$f":"AT9/(AV4-AT8)","v":1},{"$f":"IF(AU9=0,0,(AU9*((LOG(AU9))/LOG(2))))","v":0}]
[11,341,21,403,null,null,null,null,null,null,0,12,null,22,{"$f":"COUNTIF($L$7:$L$500,N10)","v":3},{"$f":"O10/$Q$4","v":6.3829787234042548E-2},{"$f":"IF(P10=0,0,(P10*((LOG(P10))/LOG(2))))","v":-0.2533804053802009},null,null,{"$f":"N10","v":22},{"$f":"COUNTIF(L7:L14,T10)","v":2},{"$f":"U10/(W4-U8)","v":0.5},{"$f":"IF(V10=0,0,(V10*((LOG(V10))/LOG(2))))","v":-0.5},null,{"$f":"N10","v":22},{"$f":"COUNTIF(L15:L22,Y10)","v":0},{"$f":"Z10/(AB4-Z8)","v":{"$error":"#DIV/0!"}},{"$f":"IF(AA10=0,0,(AA10*((LOG(AA10))/LOG(2))))","v":{"$error":"#DIV/0!"}},null,{"$f":"N10","v":22},{"$f":"COUNTIF(L23:L29,AD10)","v":0},{"$f":"AE10/(AG4-AE8)","v":0},{"$f":"IF(AF10=0,0,(AF10*((LOG(AF10))/LOG(2))))","v":0},null,{"$f":"N10","v":22},{"$f":"COUNTIF(L30:L37,AI10)","v":1},{"$f":"AJ10/(AL4-AJ8)","v":1},{"$f":"IF(AK10=0,0,(AK10*((LOG(AK10))/LOG(2))))","v":0},null,{"$f":"N10","v":22},{"$f":"COUNTIF(L38:L45,AN10)","v":0},{"$f":"AO10/(AQ4-AO8)","v":{"$error":"#DIV/0!"}},{"$f":"IF(AP10=0,0,(AP10*((LOG(AP10))/LOG(2))))","v":{"$error":"#DIV/0!"}},null,{"$f":"N10","v":22},{"$f":"COUNTIF(L46:L53,AS10)","v":0},{"$f":"AT10/(AV4-AT8)","v":0},{"$f":"IF(AU10=0,0,(AU10*((LOG(AU10))/LOG(2))))","v":0}]
[22,494,14,514,null,null,null,null,null,null,0,21,null,null,null,null,null,null,null,{"$f":"N11","v":0},{"$f":"COUNTIF(L7:L14,T11)","v":0},{"$f":"U11/(W4-U8)","v":0},{"$f":"IF(V11=0,0,(V11*((LOG(V11))/LOG(2))))","v":0},null,{"$f":"N11","v":0},{"$f":"COUNTIF(L15:L22,Y11)","v":0},{"$f":"Z11/(AB4-Z8)","v":{"$error":"#DIV/0!"}},{"$f":"IF(AA11=0,0,(AA11*((LOG(AA11))/LOG(2))))","v":{"$error":"#DIV/0!"}},null,{"$f":"N11","v":0},{"$f":"COUNTIF(L23:L29,AD11)","v":0},{"$f":"AE11/(AG4-AE8)","v":0},{"$f":"IF(AF11=0,0,(AF11*((LOG(AF11))/LOG(2))))","v":0},null,{"$f":"N11","v":0},{"$f":"COUNTIF(L30:L37,AI11)","v":0},{"$f":"AJ11/(AL4-AJ8)","v":0},{"$f":"IF(AK11=0,0,(AK11*((LOG(AK11))/LOG(2))))","v":0},null,{"$f":"N11","v":0},{"$f":"COUNTIF(L38:L45,AN11)","v":0},{"$f":"AO11/(AQ4-AO8)","v":{"$error":"#DIV/0!"}},{"$f":"IF(AP11=0,0,(AP11*((LOG(AP11))/LOG(2))))","v":{"$error":"#DIV/0!"}},null,{"$f":"N11","v":0},{"$f":"COUNTIF(L46:L53,AS11)","v":0},{"$f":"AT11/(AV4-AT8)","v":0},{"$f":"IF(AU11=0,0,(AU11*((LOG(AU11))/LOG(2))))","v":0}]
[22,612,23,617,null,null,null,null,null,null,0,22,null,null,null,null,null,null,null,{"$f":"N12","v":0},{"$f":"COUNTIF(L7:L14,T12)","v":0},{"$f":"U12/(W4-U8)","v":0},{"$f":"IF(V12=0,0,(V12*((LOG(V12))/LOG(2))))","v":0},null,{"$f":"N12","v":0},{"$f":"COUNTIF(L15:L22,Y12)","v":0},{"$f":"Z12/(AB4-Z8)","v":{"$error":"#DIV/0!"}},{"$f":"IF(AA12=0,0,(AA12*((LOG(AA12))/LOG(2))))","v":{"$error":"#DIV/0!"}},null,{"$f":"N12","v":0},{"$f":"COUNTIF(L23:L29,AD12)","v":0},{"$f":"AE12/(AG4-AE8)","v":0},{"$f":"IF(AF12=0,0,(AF12*((LOG(AF12))/LOG(2))))","v":0},null,{"$f":"N12","v":0},{"$f":"COUNTIF(L30:L37,AI12)","v":0},{"$f":"AJ12/(AL4-AJ8)","v":0},{"$f":"IF(AK12=0,0,(AK12*((LOG(AK12))/LOG(2))))","v":0},null,{"$f":"N12","v":0},{"$f":"COUNTIF(L38:L45,AN12)","v":0},{"$f":"AO12/(AQ4-AO8)","v":{"$error":"#DIV/0!"}},{"$f":"IF(AP12=0,0,(AP12*((LOG(AP12))/LOG(2))))","v":{"$error":"#DIV/0!"}},null,{"$f":"N12","v":0},{"$f":"COUNTIF(L46:L53,AS12)","v":0},{"$f":"AT12/(AV4-AT8)","v":0},{"$f":"IF(AU12=0,0,(AU12*((LOG(AU12))/LOG(2))))","v":0}]
[11,715,21,728,null,null,null,null,null,null,0,12,null,null,null,null,null,null,null,{"$f":"N13","v":0},{"$f":"COUNTIF(L7:L14,T13)","v":0},{"$f":"U13/(W4-U8)","v":0},{"$f":"IF(V13=0,0,(V13*((LOG(V13))/LOG(2))))","v":0},null,{"$f":"N13","v":0},{"$f":"COUNTIF(L15:L22,Y13)","v":0},{"$f":"Z13/(AB4-Z8)","v":{"$error":"#DIV/0!"}},{"$f":"IF(AA13=0,0,(AA13*((LOG(AA13))/LOG(2))))","v":{"$error":"#DIV/0!"}},null,{"$f":"N13","v":0},{"$f":"COUNTIF(L23:L29,AD13)","v":0},{"$f":"AE13/(AG4-AE8)","v":0},{"$f":"IF(AF13=0,0,(AF13*((LOG(AF13))/LOG(2))))","v":0},null,{"$f":"N13","v":0},{"$f":"COUNTIF(L30:L37,AI13)","v":0},{"$f":"AJ13/(AL4-AJ8)","v":0},{"$f":"IF(AK13=0,0,(AK13*((LOG(AK13))/LOG(2))))","v":0},null,{"$f":"N13","v":0},{"$f":"COUNTIF(L38:L45,AN13)","v":0},{"$f":"AO13/(AQ4-AO8)","v":{"$error":"#DIV/0!"}},{"$f":"IF(AP13=0,0,(AP13*((LOG(AP13))/LOG(2))))","v":{"$error":"#DIV/0!"}},null,{"$f":"N13","v":0},{"$f":"COUNTIF(L46:L53,AS13)","v":0},{"$f":"AT13/(AV4-AT8)","v":0},{"$f":"IF(AU13=0,0,(AU13*((LOG(AU13))/LOG(2))))","v":0}]
[11,816,21,833,null,null,null,null,null,null,0,12,null,null,null,null,null,null,null,{"$f":"N14","v":0},{"$f":"COUNTIF(L7:L14,T14)","v":0},{"$f":"U14/(W4-U8)","v":0},{"$f":"IF(V14=0,0,(V14*((LOG(V14))/LOG(2))))","v":0},null,{"$f":"N14","v":0},{"$f":"COUNTIF(L15:L22,Y14)","v":0},{"$f":"Z14/(AB4-Z8)","v":{"$error":"#DIV/0!"}},{"$f":"IF(AA14=0,0,(AA14*((LOG(AA14))/LOG(2))))","v":{"$error":"#DIV/0!"}},null,{"$f":"N14","v":0},{"$f":"COUNTIF(L23:L29,AD14)","v":0},{"$f":"AE14/(AG4-AE8)","v":0},{"$f":"IF(AF14=0,0,(AF14*((LOG(AF14))/LOG(2))))","v":0},null,{"$f":"N14","v":0},{"$f":"COUNTIF(L30:L37,AI14)","v":0},{"$f":"AJ14/(AL4-AJ8)","v":0},{"$f":"IF(AK14=0,0,(AK14*((LOG(AK14))/LOG(2))))","v":0},null,{"$f":"N14","v":0},{"$f":"COUNTIF(L38:L45,AN14)","v":0},{"$f":"AO14/(AQ4-AO8)","v":{"$error":"#DIV/0!"}},{"$f":"IF(AP14=0,0,(AP14*((LOG(AP14))/LOG(2))))","v":{"$error":"#DIV/0!"}},null,{"$f":"N14","v":0},{"$f":"COUNTIF(L46:L53,AS14)","v":0},{"$f":"AT14/(AV4-AT8)","v":0},{"$f":"IF(AU14=0,0,(AU14*((LOG(AU14))/LOG(2))))","v":0}]
[11,920,21,928,null,null,null,null,null,null,0,12,null,null,null,{"$f":"SUM(P7:P14)","v":1},{"$f":"-SUM(Q7:Q14)","v":0.75390776023810624},null,null,null,null,{"$f":"SUM(V7:V14)","v":1},{"$f":"-SUM(W7:W14)","v":1},null,null,null,{"$f":"SUM(AA7:AA14)","v":{"$error":"#DIV/0!"}},{"$f":"-SUM(AB7:AB14)","v":{"$error":"#DIV/0!"}},null,null,null,{"$f":"SUM(AF7:AF14)","v":1},{"$f":"-SUM(AG7:AG14)","v":0},null,null,null,{"$f":"SUM(AK7:AK14)","v":1},{"$f":"-SUM(AL7:AL14)","v":0},null,null,null,{"$f":"SUM(AP7:AP14)","v":{"$error":"#DIV/0!"}},{"$f":"-SUM(AQ7:AQ14)","v":{"$error":"#DIV/0!"}},null,null,null,{"$f":"SUM(AU7:AU14)","v":1},{"$f":"-SUM(AV7:AV14)","v":0}]
[11,1015,21,1026,null,null,null,null,null,null,0,12,null,null,null,"U=",{"$f":"Q15/(LOG(Q4)/LOG(2))","v":0.13572701425244202},null,null,null,null,"U1=",{"$f":"W15/(LOG(W4)/LOG(2))","v":0.33333333333333331},null,null,null,"U2=",{"$f":"AB15/(LOG(AB4)/LOG(2))","v":{"$error":"#DIV/0!"}},null,null,null,"U3=",{"$f":"AG15/(LOG(AG4)/LOG(2))","v":0},null,null,null,"U4=",{"$f":"AL15/(LOG(AL4)/LOG(2))","v":0},null,null,null,"U5=",{"$f":"AQ15/(LOG(AQ4)/LOG(2))","v":{"$error":"#DIV/0!"}},null,null,null,"U6=",{"$f":"AV15/(LOG(AV4)/LOG(2))","v":0}]
[11,1112,21,1124,null,null,null,null,null,null,0,12]
[11,1211,21,1220,null,null,null,null,null,null,0,12]
[11,1307,21,1318,null,null,null,null,null,null,0,12,null,"Total Target Seq"]
[11,1405,21,1417,null,null,null,null,null,null,0,12,null,{"$f":"COUNTIF(L7:L53,G3)","v":40},null,8,8,7,8,8,8]
[11,1504,21,1513,null,null,null,null,null,null,0,12,null,null,null,"% of reinforcement given in 6 equal intervals based on number of trials "]
[11,1599,21,1611,null,null,null,null,null,null,0,12,null,null,null,"%_1","%_2","%_3","%_4","%_5","%_6"]
[11,1700,21,1745,null,null,null,null,null,null,0,12,null,null,"target sequence",{"$f":"$G$3","v":12},{"$f":"$G$3","v":12},{"$f":"$G$3","v":12},{"$f":"$G$3","v":12},{"$f":"$G$3","v":12},{"$f":"$G$3","v":12}]
[11,1831,21,1840,null,null,null,null,null,null,0,12,null,null,"total reinforcement",{"$f":"U8","v":4},{"$f":"Z8","v":8},{"$f":"AE8","v":6},{"$f":"AJ8","v":7},{"$f":"AO8","v":8},{"$f":"AT8","v":7}]
[11,1930,21,1938,null,null,null,null,null,null,0,12,null,null,"% target"]
[11,2023,21,2032,null,null,null,null,null,null,0,12,null,null,"CCRF"]
[11,2120,21,2156,null,null,null,null,null,null,0,12,null,null,"% CCRf"]
[22,2245,14,2261,null,null,null,null,null,null,0,21,null,null,"average response rate",{"$f":"D14/P20","v":104.125},{"$f":"(D22-D14)/Q20","v":97.25},{"$f":"(D29-D22)/R20","v":108.14285714285714},{"$f":"(D37-D29)/S20","v":99.125},{"$f":"(D45-D37)/T20","v":100.75},{"$f":"(D53-D45)/U20","v":101.5}]
[11,2357,21,2368,null,null,null,null,null,null,0,12]
[11,2454,21,2463,null,null,null,null,null,null,0,12]
[22,2552,23,2559,null,null,null,null,null,null,0,22]
[11,2656,21,2666,null,null,null,null,null,null,0,12]
[11,2753,21,2764,null,null,null,null,null,null,0,12]
[11,2851,21,2860,null,null,null,null,null,null,0,12]
[11,2947,21,2964,null,null,null,null,null,null,0,12]
[11,3052,21,3061,null,null,null,null,null,null,0,12]
[11,3150,21,3161,null,null,null,null,null,null,0,12]
[11,3246,21,3255,null,null,null,null,null,null,0,12]
[11,3345,21,3364,null,null,null,null,null,null,0,12]
[11,3453,21,3461,null,null,null,null,null,null,0,12]
[11,3551,21,3581,null,null,null,null,null,null,0,12]
[11,3668,21,3679,null,null,null,null,null,null,0,12]
[11,3766,21,3775,null,null,null,null,null,null,0,12]
[11,3861,21,3872,null,null,null,null,null,null,0,12]
[11,3959,21,3967,null,null,null,null,null,null,0,12]
[11,4055,21,4066,null,null,null,null,null,null,0,12]
[11,4152,21,4160,null,null,null,null,null,null,0,12]
[11,4246,21,4255,null,null,null,null,null,null,0,12]
[11,4347,21,4355,null,null,null,null,null,null,0,12]
[22,4446,14,4459,null,null,null,null,null,null,0,21]
[11,4554,21,4563,null,null,null,null,null,null,0,12]
[11,4650,21,4684,null,null,null,null,null,null,0,12]
[11,4771,21,4779,null,null,null,null,null,null,1,12]

{"sheet":"!MC07910.091","index":8,"n_rows":58,"n_cols":48,"rows_kept":58,"cut":false,"hidden":false,"merged":[[4,39,4,42],[5,39,5,40],[4,44,4,47],[5,44,5,45],[4,24,4,27],[5,24,5,25],[4,29,4,32],[5,29,5,30],[4,34,4,37],[5,34,5,35],[1,1,1,2],[5,13,5,14],[18,13,18,14],[19,13,19,14],[4,19,4,22],[5,19,5,20]]}
["Report for:!MC07910.091"]
["Date:","<date>"]
["Hen:","<hen>",null,null,null,"Correct Sequence",{"$f":"Start!J2","v":12},null,null,null,null,null,null,null,null,"Total Sequences in Data",{"$f":"4994-COUNTBLANK(L7:L5000)","v":52},null,null,null,null,"Total Sequences in Block Data",{"$f":"COUNTA(L7:L15)","v":9},null,null,null,"Total Sequences in Block Data",{"$f":"COUNTA(L16:L23)","v":8},null,null,null,"Total Sequences in Block Data",{"$f":"COUNTA(L24:L32)","v":9},null,null,null,"Total Sequences in Block Data",{"$f":"COUNTA(L33:L41)","v":9},null,null,null,"Total Sequences in Block Data",{"$f":"COUNTA(L42:L49)","v":8},null,null,null,"Total Sequences in Block Data",{"$f":"COUNTA(L50:L58)","v":9}]
[null,null,null,null,null,null,null,null,null,null,null,null,null,null,null,"Total Sequences in Summary",{"$f":"SUM(O7:O14)","v":52},null,null,null,null,"Total Sequences in Block Summary",{"$f":"SUM(U7:U14)","v":9},null,null,null,"Total Sequences in Block Summary",{"$f":"SUM(Z7:Z14)","v":8},null,null,null,"Total Sequences in Block Summary",{"$f":"SUM(AE7:AE14)","v":9},null,null,null,"Total Sequences in Block Summary",{"$f":"SUM(AJ7:AJ14)","v":9},null,null,null,"Total Sequences in Block Summary",{"$f":"SUM(AO7:AO14)","v":8},null,null,null,"Total Sequences in Block Summary",{"$f":"SUM(AT7:AT14)","v":9}]
[null,null,null,null,null,null,null,null,null,null,null,null,null,null,null,null,null,null,null,"Block 1",null,null,null,null,"Block 2",null,null,null,null,"Block 3",null,null,null,null,"Block 4",null,null,null,null,"Block 5",null,null,null,null,"Block 6"]
["Sequence\nComponent\n1","Time\n1","Sequence\nComponent\n2","Time\n2","Sequence\nComponent\n3","Time\n3","Sequence\nComponent\n4","Time\n4","Sequence\nComponent\n5","Time\n5","Correct?\n0=No 1=Yes","Sequence",null,"Frequency",null,"Relative Frequency","Variability",null,null,"Frequency",null,"Relative Frequency","Variability",null,"Frequency",null,"Relative Frequency","Variability",null,"Frequency",null,"Relative Frequency","Variability",null,"Frequency",null,"Relative Frequency","Variability",null,"Frequency",null,"Relative Frequency","Variability",null,"Frequency",null,"Relative Frequency","Variability"]
[22,7,23,16,null,null,null,null,null,null,0,22,null,11,{"$f":"COUNTIF($L$7:$L$500,N7)","v":2},{"$f":"O7/$Q$4","v":3.8461538461538464E-2},{"$f":"IF(P7=0,0,(P7*((LOG(P7))/LOG(2))))","v":-0.18078614300542661},null,null,{"$f":"N7","v":11},{"$f":"COUNTIF(L7:L15,T7)","v":0},{"$f":"U7/(W4-U8)","v":0},{"$f":"IF(V7=0,0,(V7*((LOG(V7))/LOG(2))))","v":0},null,{"$f":"N7","v":11},{"$f":"COUNTIF(L16:L23,Y7)","v":2},{"$f":"Z7/(AB4-Z8)","v":0.5},{"$f":"IF(AA7=0,0,(AA7*((LOG(AA7))/LOG(2))))","v":-0.5},null,{"$f":"N7","v":11},{"$f":"COUNTIF(L24:L32,AD7)","v":0},{"$f":"AE7/(AG4-AE8)","v":0},{"$f":"IF(AF7=0,0,(AF7*((LOG(AF7))/LOG(2))))","v":0},null,{"$f":"N7","v":11},{"$f":"COUNTIF(L33:L41,AI7)","v":0},{"$f":"AJ7/(AL4-AJ8)","v":0},{"$f":"IF(AK7=0,0,(AK7*((LOG(AK7))/LOG(2))))","v":0},null,{"$f":"N7","v":11},{"$f":"COUNTIF(L42:L49,AN7)","v":0},{"$f":"AO7/(AQ4-AO8)","v":{"$error":"#DIV/0!"}},{"$f":"IF(AP7=0,0,(AP7*((LOG(AP7))/LOG(2))))","v":{"$error":"#DIV/0!"}},null,{"$f":"N7","v":11},{"$f":"COUNTIF(L50:L58,AS7)","v":0},{"$f":"AT7/(AV4-AT8)","v":0},{"$f":"IF(AU7=0,0,(AU7*((LOG(AU7))/LOG(2))))","v":0}]
[11,115,21,127,null,null,null,null,null,null,0,12,null,12,{"$f":"COUNTIF($L$7:$L$500,N8)","v":40},{"$f":"O8/$Q$4","v":0.76923076923076927},{"$f":"IF(P8=0,0,(P8*((LOG(P8))/LOG(2))))","v":-0.29116278711825366},null,null,{"$f":"N8","v":12},{"$f":"COUNTIF(L7:L15,T8)","v":6},null,null,null,{"$f":"N8","v":12},{"$f":"COUNTIF(L16:L23,Y8)","v":4},null,null,null,{"$f":"N8","v":12},{"$f":"COUNTIF(L24:L32,AD8)","v":8},null,null,null,{"$f":"N8","v":12},{"$f":"COUNTIF(L33:L41,AI8)","v":7},null,null,null,{"$f":"N8","v":12},{"$f":"COUNTIF(L42:L49,AN8)","v":8},null,null,null,{"$f":"N8","v":12},{"$f":"COUNTIF(L50:L58,AS8)","v":7}]
[22,221,14,237,null,null,null,null,null,null,0,21,null,21,{"$f":"COUNTIF($L$7:$L$500,N9)","v":3},{"$f":"O9/$Q$4","v":5.7692307692307696E-2},{"$f":"IF(P9=0,0,(P9*((LOG(P9))/LOG(2))))","v":-0.23743137792807323},null,null,{"$f":"N9","v":21},{"$f":"COUNTIF(L7:L15,T9)","v":1},{"$f":"U9/(W4-U8)","v":0.33333333333333331},{"$f":"IF(V9=0,0,(V9*((LOG(V9))/LOG(2))))","v":-0.52832083357371862},null,{"$f":"N9","v":21},{"$f":"COUNTIF(L16:L23,Y9)","v":0},{"$f":"Z9/(AB4-Z8)","v":0},{"$f":"IF(AA9=0,0,(AA9*((LOG(AA9))/LOG(2))))","v":0},null,{"$f":"N9","v":21},{"$f":"COUNTIF(L24:L32,AD9)","v":1},{"$f":"AE9/(AG4-AE8)","v":1},{"$f":"IF(AF9=0,0,(AF9*((LOG(AF9))/LOG(2))))","v":0},null,{"$f":"N9","v":21},{"$f":"COUNTIF(L33:L41,AI9)","v":0},{"$f":"AJ9/(AL4-AJ8)","v":0},{"$f":"IF(AK9=0,0,(AK9*((LOG(AK9))/LOG(2))))","v":0},null,{"$f":"N9","v":21},{"$f":"COUNTIF(L42:L49,AN9)","v":0},{"$f":"AO9/(AQ4-AO8)","v":{"$error":"#DIV/0!"}},{"$f":"IF(AP9=0,0,(AP9*((LOG(AP9))/LOG(2))))","v":{"$error":"#DIV/0!"}},null,{"$f":"N9","v":21},{"$f":"COUNTIF(L50:L58,AS9)","v":1},{"$f":"AT9/(AV4-AT8)","v":0.5},{"$f":"IF(AU9=0,0,(AU9*((LOG(AU9))/LOG(2))))","v":-0.5}]
[11,334,21,346,null,null,null,null,null,null,0,12,null,22,{"$f":"COUNTIF($L$7:$L$500,N10)","v":7},{"$f":"O10/$Q$4","v":0.13461538461538461},{"$f":"IF(P10=0,0,(P10*((LOG(P10))/LOG(2))))","v":-0.38945372254970029},null,null,{"$f":"N10","v":22},{"$f":"COUNTIF(L7:L15,T10)","v":2},{"$f":"U10/(W4-U8)","v":0.66666666666666663},{"$f":"IF(V10=0,0,(V10*((LOG(V10))/LOG(2))))","v":-0.38997500048077083},null,{"$f":"N10","v":22},{"$f":"COUNTIF(L16:L23,Y10)","v":2},{"$f":"Z10/(AB4-Z8)","v":0.5},{"$f":"IF(AA10=0,0,(AA10*((LOG(AA10))/LOG(2))))","v":-0.5},null,{"$f":"N10","v":22},{"$f":"COUNTIF(L24:L32,AD10)","v":0},{"$f":"AE10/(AG4-AE8)","v":0},{"$f":"IF(AF10=0,0,(AF10*((LOG(AF10))/LOG(2))))","v":0},null,{"$f":"N10","v":22},{"$f":"COUNTIF(L33:L41,AI10)","v":2},{"$f":"AJ10/(AL4-AJ8)","v":1},{"$f":"IF(AK10=0,0,(AK10*((LOG(AK10))/LOG(2))))","v":0},null,{"$f":"N10","v":22},{"$f":"COUNTIF(L42:L49,AN10)","v":0},{"$f":"AO10/(AQ4-AO8)","v":{"$error":"#DIV/0!"}},{"$f":"IF(AP10=0,0,(AP10*((LOG(AP10))/LOG(2))))","v":{"$error":"#DIV/0!"}},null,{"$f":"N10","v":22},{"$f":"COUNTIF(L50:L58,AS10)","v":1},{"$f":"AT10/(AV4-AT8)","v":0.5},{"$f":"IF(AU10=0,0,(AU10*((LOG(AU10))/LOG(2))))","v":-0.5}]
[11,434,21,446,null,null,null,null,null,null,0,12,null,null,null,null,null,null,null,{"$f":"N11","v":0},{"$f":"COUNTIF(L7:L15,T11)","v":0},{"$f":"U11/(W4-U8)","v":0},{"$f":"IF(V11=0,0,(V11*((LOG(V11))/LOG(2))))","v":0},null,{"$f":"N11","v":0},{"$f":"COUNTIF(L16:L23,Y11)","v":0},{"$f":"Z11/(AB4-Z8)","v":0},{"$f":"IF(AA11=0,0,(AA11*((LOG(AA11))/LOG(2))))","v":0},null,{"$f":"N11","v":0},{"$f":"COUNTIF(L24:L32,AD11)","v":0},{"$f":"AE11/(AG4-AE8)","v":0},{"$f":"IF(AF11=0,0,(AF11*((LOG(AF11))/LOG(2))))","v":0},null,{"$f":"N11","v":0},{"$f":"COUNTIF(L33:L41,AI11)","v":0},{"$f":"AJ11/(AL4-AJ8)","v":0},{"$f":"IF(AK11=0,0,(AK11*((LOG(AK11))/LOG(2))))","v":0},null,{"$f":"N11","v":0},{"$f":"COUNTIF(L42:L49,AN11)","v":0},{"$f":"AO11/(AQ4-AO8)","v":{"$error":"#DIV/0!"}},{"$f":"IF(AP11=0,0,(AP11*((LOG(AP11))/LOG(2))))","v":{"$error":"#DIV/0!"}},null,{"$f":"N11","v":0},{"$f":"COUNTIF(L50:L58,AS11)","v":0},{"$f":"AT11/(AV4-AT8)","v":0},{"$f":"IF(AU11=0,0,(AU11*((LOG(AU11))/LOG(2))))","v":0}]
[11,533,21,545,null,null,null,null,null,null,0,12,null,null,null,null,null,null,null,{"$f":"N12","v":0},{"$f":"COUNTIF(L7:L15,T12)","v":0},{"$f":"U12/(W4-U8)","v":0},{"$f":"IF(V12=0,0,(V12*((LOG(V12))/LOG(2))))","v":0},null,{"$f":"N12","v":0},{"$f":"COUNTIF(L16:L23,Y12)","v":0},{"$f":"Z12/(AB4-Z8)","v":0},{"$f":"IF(AA12=0,0,(AA12*((LOG(AA12))/LOG(2))))","v":0},null,{"$f":"N12","v":0},{"$f":"COUNTIF(L24:L32,AD12)","v":0},{"$f":"AE12/(AG4-AE8)","v":0},{"$f":"IF(AF12=0,0,(AF12*((LOG(AF12))/LOG(2))))","v":0},null,{"$f":"N12","v":0},{"$f":"COUNTIF(L33:L41,AI12)","v":0},{"$f":"AJ12/(AL4-AJ8)","v":0},{"$f":"IF(AK12=0,0,(AK12*((LOG(AK12))/LOG(2))))","v":0},null,{"$f":"N12","v":0},{"$f":"COUNTIF(L42:L49,AN12)","v":0},{"$f":"AO12/(AQ4-AO8)","v":{"$error":"#DIV/0!"}},{"$f":"IF(AP12=0,0,(AP12*((LOG(AP12))/LOG(2))))","v":{"$error":"#DIV/0!"}},null,{"$f":"N12","v":0},{"$f":"COUNTIF(L50:L58,AS12)","v":0},{"$f":"AT12/(AV4-AT8)","v":0},{"$f":"IF(AU12=0,0,(AU12*((LOG(AU12))/LOG(2))))","v":0}]
[22,642,23,659,null,null,null,null,null,null,0,22,null,null,null,null,null,null,null,{"$f":"N13","v":0},{"$f":"COUNTIF(L7:L15,T13)","v":0},{"$f":"U13/(W4-U8)","v":0},{"$f":"IF(V13=0,0,(V13*((LOG(V13))/LOG(2))))","v":0},null,{"$f":"N13","v":0},{"$f":"COUNTIF(L16:L23,Y13)","v":0},{"$f":"Z13/(AB4-Z8)","v":0},{"$f":"IF(AA13=0,0,(AA13*((LOG(AA13))/LOG(2))))","v":0},null,{"$f":"N13","v":0},{"$f":"COUNTIF(L24:L32,AD13)","v":0},{"$f":"AE13/(AG4-AE8)","v":0},{"$f":"IF(AF13=0,0,(AF13*((LOG(AF13))/LOG(2))))","v":0},null,{"$f":"N13","v":0},{"$f":"COUNTIF(L33:L41,AI13)","v":0},{"$f":"AJ13/(AL4-AJ8)","v":0},{"$f":"IF(AK13=0,0,(AK13*((LOG(AK13))/LOG(2))))","v":0},null,{"$f":"N13","v":0},{"$f":"COUNTIF(L42:L49,AN13)","v":0},{"$f":"AO13/(AQ4-AO8)","v":{"$error":"#DIV/0!"}},{"$f":"IF(AP13=0,0,(AP13*((LOG(AP13))/LOG(2))))","v":{"$error":"#DIV/0!"}},null,{"$f":"N13","v":0},{"$f":"COUNTIF(L50:L58,AS13)","v":0},{"$f":"AT13/(AV4-AT8)","v":0},{"$f":"IF(AU13=0,0,(AU13*((LOG(AU13))/LOG(2))))","v":0}]
[11,754,21,766,null,null,null,null,null,null,0,12,null,null,null,null,null,null,null,{"$f":"N14","v":0},{"$f":"COUNTIF(L7:L15,T14)","v":0},{"$f":"U14/(W4-U8)","v":0},{"$f":"IF(V14=0,0,(V14*((LOG(V14))/LOG(2))))","v":0},null,{"$f":"N14","v":0},{"$f":"COUNTIF(L16:L23,Y14)","v":0},{"$f":"Z14/(AB4-Z8)","v":0},{"$f":"IF(AA14=0,0,(AA14*((LOG(AA14))/LOG(2))))","v":0},null,{"$f":"N14","v":0},{"$f":"COUNTIF(L24:L32,AD14)","v":0},{"$f":"AE14/(AG4-AE8)","v":0},{"$f":"IF(AF14=0,0,(AF14*((LOG(AF14))/LOG(2))))","v":0},null,{"$f":"N14","v":0},{"$f":"COUNTIF(L33:L41,AI14)","v":0},{"$f":"AJ14/(AL4-AJ8)","v":0},{"$f":"IF(AK14=0,0,(AK14*((LOG(AK14))/LOG(2))))","v":0},null,{"$f":"N14","v":0},{"$f":"COUNTIF(L42:L49,AN14)","v":0},{"$f":"AO14/(AQ4-AO8)","v":{"$error":"#DIV/0!"}},{"$f":"IF(AP14=0,0,(AP14*((LOG(AP14))/LOG(2))))","v":{"$error":"#DIV/0!"}},null,{"$f":"N14","v":0},{"$f":"COUNTIF(L50:L58,AS14)","v":0},{"$f":"AT14/(AV4-AT8)","v":0},{"$f":"IF(AU14=0,0,(AU14*((LOG(AU14))/LOG(2))))","v":0}]
[11,852,21,861,null,null,null,null,null,null,0,12,null,null,null,{"$f":"SUM(P7:P14)","v":1},{"$f":"-SUM(Q7:Q14)","v":1.0988340306014539},null,null,null,null,{"$f":"SUM(V7:V14)","v":1},{"$f":"-SUM(W7:W14)","v":0.91829583405448945},null,null,null,{"$f":"SUM(AA7:AA14)","v":1},{"$f":"-SUM(AB7:AB14)","v":1},null,null,null,{"$f":"SUM(AF7:AF14)","v":1},{"$f":"-SUM(AG7:AG14)","v":0},null,null,null,{"$f":"SUM(AK7:AK14)","v":1},{"$f":"-SUM(AL7:AL14)","v":0},null,null,null,{"$f":"SUM(AP7:AP14)","v":{"$error":"#DIV/0!"}},{"$f":"-SUM(AQ7:AQ14)","v":{"$error":"#DIV/0!"}},null,null,null,{"$f":"SUM(AU7:AU14)","v":1},{"$f":"-SUM(AV7:AV14)","v":1}]
[11,946,12,955,null,null,null,null,null,null,0,11,null,null,null,"U=",{"$f":"Q15/(LOG(Q4)/LOG(2))","v":0.19276302968427539},null,null,null,null,"U1=",{"$f":"W15/(LOG(W4)/LOG(2))","v":0.28969008214284753},null,null,null,"U2=",{"$f":"AB15/(LOG(AB4)/LOG(2))","v":0.33333333333333331},null,null,null,"U3=",{"$f":"AG15/(LOG(AG4)/LOG(2))","v":0},null,null,null,"U4=",{"$f":"AL15/(LOG(AL4)/LOG(2))","v":0},null,null,null,"U5=",{"$f":"AQ15/(LOG(AQ4)/LOG(2))","v":{"$error":"#DIV/0!"}},null,null,null,"U6=",{"$f":"AV15/(LOG(AV4)/LOG(2))","v":0.31546487678572877}]
[11,1051,21,1064,null,null,null,null,null,null,0,12]
[11,1149,21,1160,null,null,null,null,null,null,0,12]
[11,1256,21,1267,null,null,null,null,null,null,0,12,null,"Total Target Seq"]
[11,1349,12,1354,null,null,null,null,null,null,0,11,null,{"$f":"COUNTIF(L7:L58,G3)","v":40},null,9,8,9,9,8,9]
[22,1458,23,1472,null,null,null,null,null,null,0,22,null,null,null,"% of reinforcement given in 6 equal intervals based on number of trials "]
[11,1567,21,1579,null,null,null,null,null,null,0,12,null,null,null,"%_1","%_2","%_3","%_4","%_5","%_6"]
[22,1689,23,1698,null,null,null,null,null,null,0,22,null,null,"target sequence",{"$f":"$G$3","v":12},{"$f":"$G$3","v":12},{"$f":"$G$3","v":12},{"$f":"$G$3","v":12},{"$f":"$G$3","v":12},{"$f":"$G$3","v":12}]
[11,1795,21,1806,null,null,null,null,null,null,0,12,null,null,"total reinforcement",{"$f":"U8","v":6},{"$f":"Z8","v":4},{"$f":"AE8","v":8},{"$f":"AJ8","v":7},{"$f":"AO8","v":8},{"$f":"AT8","v":7}]
[11,1893,21,1904,null,null,null,null,null,null,0,12,null,null,"% target"]
[11,1989,21,2001,null,null,null,null,null,null,0,12,null,null,"CCRF"]
[11,2086,21,2098,null,null,null,null,null,null,0,12,null,null,"% CCRf"]
[11,2187,21,2196,null,null,null,null,null,null,0,12,null,null,"average response rate",{"$f":"D15/P20","v":95.666666666666671},{"$f":"(D23-D15)/Q20","v":104.625},{"$f":"(D32-D23)/R20","v":103.22222222222223},{"$f":"(D41-D32)/S20","v":115},{"$f":"(D49-D41)/T20","v":101.25},{"$f":"(D58-D49)/U20","v":106.77777777777777}]
[22,2287,14,2316,null,null,null,null,null,null,0,21]
[11,2411,21,2422,null,null,null,null,null,null,0,12]
[11,2508,21,2518,null,null,null,null,null,null,0,12]
[11,2607,21,2627,null,null,null,null,null,null,0,12]
[11,2715,21,2725,null,null,null,null,null,null,0,12]
[11,2812,21,2896,null,null,null,null,null,null,0,12]
[22,2985,23,2991,null,null,null,null,null,null,0,22]
[11,3086,21,3097,null,null,null,null,null,null,0,12]
[11,3184,21,3244,null,null,null,null,null,null,0,12]
[11,3332,21,3341,null,null,null,null,null,null,0,12]
[11,3426,21,3456,null,null,null,null,null,null,0,12]
[11,3547,21,3564,null,null,null,null,null,null,0,12]
[22,3654,23,3662,null,null,null,null,null,null,0,22]
[11,3757,21,3768,null,null,null,null,null,null,0,12]
[11,3854,21,3877,null,null,null,null,null,null,0,12]
[11,3964,21,3975,null,null,null,null,null,null,0,12]
[11,4061,21,4081,null,null,null,null,null,null,0,12]
[11,4167,21,4175,null,null,null,null,null,null,0,12]
[11,4260,21,4272,null,null,null,null,null,null,0,12]
[11,4359,21,4377,null,null,null,null,null,null,0,12]
[11,4464,21,4472,null,null,null,null,null,null,0,12]
[22,4562,14,4573,null,null,null,null,null,null,0,21]
[22,4680,23,4692,null,null,null,null,null,null,0,22]
[11,4787,21,4799,null,null,null,null,null,null,0,12]
[11,4885,21,4893,null,null,null,null,null,null,0,12]
[11,4981,21,5047,null,null,null,null,null,null,0,12]
[11,5137,21,5145,null,null,null,null,null,null,0,12]
[11,5233,21,5241,null,null,null,null,null,null,0,12]
[11,5327,21,5338,null,null,null,null,null,null,0,12]
[11,5424,21,5433,null,null,null,null,null,null,1,12]

{"sheet":"!MC08900.091","index":9,"n_rows":70,"n_cols":48,"rows_kept":70,"cut":false,"hidden":false,"merged":[[4,39,4,42],[5,39,5,40],[4,44,4,47],[5,44,5,45],[4,24,4,27],[5,24,5,25],[4,29,4,32],[5,29,5,30],[4,34,4,37],[5,34,5,35],[1,1,1,2],[5,13,5,14],[18,13,18,14],[19,13,19,14],[4,19,4,22],[5,19,5,20]]}
["Report for:!MC08900.091"]
["Date:","<date>"]
["Hen:","<hen>",null,null,null,"Correct Sequence",{"$f":"Start!J2","v":12},null,null,null,null,null,null,null,null,"Total Sequences in Data",{"$f":"4994-COUNTBLANK(L7:L5000)","v":64},null,null,null,null,"Total Sequences in Block Data",{"$f":"COUNTA(L7:L17)","v":11},null,null,null,"Total Sequences in Block Data",{"$f":"COUNTA(L18:L27)","v":10},null,null,null,"Total Sequences in Block Data",{"$f":"COUNTA(L28:L38)","v":11},null,null,null,"Total Sequences in Block Data",{"$f":"COUNTA(L39:L49)","v":11},null,null,null,"Total Sequences in Block Data",{"$f":"COUNTA(L50:L59)","v":10},null,null,null,"Total Sequences in Block Data",{"$f":"COUNTA(L60:L70)","v":11}]
[null,null,null,null,null,null,null,null,null,null,null,null,null,null,null,"Total Sequences in Summary",{"$f":"SUM(O7:O14)","v":64},null,null,null,null,"Total Sequences in Block Summary",{"$f":"SUM(U7:U14)","v":11},null,null,null,"Total Sequences in Block Summary",{"$f":"SUM(Z7:Z14)","v":10},null,null,null,"Total Sequences in Block Summary",{"$f":"SUM(AE7:AE14)","v":11},null,null,null,"Total Sequences in Block Summary",{"$f":"SUM(AJ7:AJ14)","v":11},null,null,null,"Total Sequences in Block Summary",{"$f":"SUM(AO7:AO14)","v":10},null,null,null,"Total Sequences in Block Summary",{"$f":"SUM(AT7:AT14)","v":11}]
[null,null,null,null,null,null,null,null,null,null,null,null,null,null,null,null,null,null,null,"Block 1",null,null,null,null,"Block 2",null,null,null,null,"Block 3",null,null,null,null,"Block 4",null,null,null,null,"Block 5",null,null,null,null,"Block 6"]
["Sequence\nComponent\n1","Time\n1","Sequence\nComponent\n2","Time\n2","Sequence\nComponent\n3","Time\n3","Sequence\nComponent\n4","Time\n4","Sequence\nComponent\n5","Time\n5","Correct?\n0=No 1=Yes","Sequence",null,"Frequency",null,"Relative Frequency","Variability",null,null,"Frequency",null,"Relative Frequency","Variability",null,"Frequency",null,"Relative Frequency","Variability",null,"Frequency",null,"Relative Frequency","Variability",null,"Frequency",null,"Relative Frequency","Variability",null,"Frequency",null,"Relative Frequency","Variability",null,"Frequency",null,"Relative Frequency","Variability"]
[11,13,21,22,null,null,null,null,null,null,0,12,null,11,{"$f":"COUNTIF($L$7:$L$500,N7)","v":0},{"$f":"O7/$Q$4","v":0},{"$f":"IF(P7=0,0,(P7*((LOG(P7))/LOG(2))))","v":0},null,null,{"$f":"N7","v":11},{"$f":"COUNTIF(L7:L17,T7)","v":0},{"$f":"U7/(W4-U8)","v":0},{"$f":"IF(V7=0,0,(V7*((LOG(V7))/LOG(2))))","v":0},null,{"$f":"N7","v":11},{"$f":"COUNTIF(L18:L27,Y7)","v":0},{"$f":"Z7/(AB4-Z8)","v":0},{"$f":"IF(AA7=0,0,(AA7*((LOG(AA7))/LOG(2))))","v":0},null,{"$f":"N7","v":11},{"$f":"COUNTIF(L28:L38,AD7)","v":0},{"$f":"AE7/(AG4-AE8)","v":0},{"$f":"IF(AF7=0,0,(AF7*((LOG(AF7))/LOG(2))))","v":0},null,{"$f":"N7","v":11},{"$f":"COUNTIF(L39:L49,AI7)","v":0},{"$f":"AJ7/(AL4-AJ8)","v":0},{"$f":"IF(AK7=0,0,(AK7*((LOG(AK7))/LOG(2))))","v":0},null,{"$f":"N7","v":11},{"$f":"COUNTIF(L50:L59,AN7)","v":0},{"$f":"AO7/(AQ4-AO8)","v":{"$error":"#DIV/0!"}},{"$f":"IF(AP7=0,0,(AP7*((LOG(AP7))/LOG(2))))","v":{"$error":"#DIV/0!"}},null,{"$f":"N7","v":11},{"$f":"COUNTIF(L60:L70,AS7)","v":0},{"$f":"AT7/(AV4-AT8)","v":0},{"$f":"IF(AU7=0,0,(AU7*((LOG(AU7))/LOG(2))))","v":0}]
[22,117,23,132,null,null,null,null,null,null,0,22,null,12,{"$f":"COUNTIF($L$7:$L$500,N8)","v":40},{"$f":"O8/$Q$4","v":0.625},{"$f":"IF(P8=0,0,(P8*((LOG(P8))/LOG(2))))","v":-0.42379494069539858},null,null,{"$f":"N8","v":12},{"$f":"COUNTIF(L7:L17,T8)","v":6},null,null,null,{"$f":"N8","v":12},{"$f":"COUNTIF(L18:L27,Y8)","v":6},null,null,null,{"$f":"N8","v":12},{"$f":"COUNTIF(L28:L38,AD8)","v":3},null,null,null,{"$f":"N8","v":12},{"$f":"COUNTIF(L39:L49,AI8)","v":9},null,null,null,{"$f":"N8","v":12},{"$f":"COUNTIF(L50:L59,AN8)","v":10},null,null,null,{"$f":"N8","v":12},{"$f":"COUNTIF(L60:L70,AS8)","v":6}]
[11,230,21,242,null,null,null,null,null,null,0,12,null,21,{"$f":"COUNTIF($L$7:$L$500,N9)","v":3},{"$f":"O9/$Q$4","v":4.6875E-2},{"$f":"IF(P9=0,0,(P9*((LOG(P9))/LOG(2))))","v":-0.20695488277869581},null,null,{"$f":"N9","v":21},{"$f":"COUNTIF(L7:L17,T9)","v":0},{"$f":"U9/(W4-U8)","v":0},{"$f":"IF(V9=0,0,(V9*((LOG(V9))/LOG(2))))","v":0},null,{"$f":"N9","v":21},{"$f":"COUNTIF(L18:L27,Y9)","v":0},{"$f":"Z9/(AB4-Z8)","v":0},{"$f":"IF(AA9=0,0,(AA9*((LOG(AA9))/LOG(2))))","v":0},null,{"$f":"N9","v":21},{"$f":"COUNTIF(L28:L38,AD9)","v":1},{"$f":"AE9/(AG4-AE8)","v":0.125},{"$f":"IF(AF9=0,0,(AF9*((LOG(AF9))/LOG(2))))","v":-0.375},null,{"$f":"N9","v":21},{"$f":"COUNTIF(L39:L49,AI9)","v":0},{"$f":"AJ9/(AL4-AJ8)","v":0},{"$f":"IF(AK9=0,0,(AK9*((LOG(AK9))/LOG(2))))","v":0},null,{"$f":"N9","v":21},{"$f":"COUNTIF(L50:L59,AN9)","v":0},{"$f":"AO9/(AQ4-AO8)","v":{"$error":"#DIV/0!"}},{"$f":"IF(AP9=0,0,(AP9*((LOG(AP9))/LOG(2))))","v":{"$error":"#DIV/0!"}},null,{"$f":"N9","v":21},{"$f":"COUNTIF(L60:L70,AS9)","v":2},{"$f":"AT9/(AV4-AT8)","v":0.4},{"$f":"IF(AU9=0,0,(AU9*((LOG(AU9))/LOG(2))))","v":-0.52877123795494496}]
[22,341,23,351,null,null,null,null,null,null,0,22,null,22,{"$f":"COUNTIF($L$7:$L$500,N10)","v":21},{"$f":"O10/$Q$4","v":0.328125},{"$f":"IF(P10=0,0,(P10*((LOG(P10))/LOG(2))))","v":-0.52752084565071922},null,null,{"$f":"N10","v":22},{"$f":"COUNTIF(L7:L17,T10)","v":5},{"$f":"U10/(W4-U8)","v":1},{"$f":"IF(V10=0,0,(V10*((LOG(V10))/LOG(2))))","v":0},null,{"$f":"N10","v":22},{"$f":"COUNTIF(L18:L27,Y10)","v":4},{"$f":"Z10/(AB4-Z8)","v":1},{"$f":"IF(AA10=0,0,(AA10*((LOG(AA10))/LOG(2))))","v":0},null,{"$f":"N10","v":22},{"$f":"COUNTIF(L28:L38,AD10)","v":7},{"$f":"AE10/(AG4-AE8)","v":0.875},{"$f":"IF(AF10=0,0,(AF10*((LOG(AF10))/LOG(2))))","v":-0.1685644431995964},null,{"$f":"N10","v":22},{"$f":"COUNTIF(L39:L49,AI10)","v":2},{"$f":"AJ10/(AL4-AJ8)","v":1},{"$f":"IF(AK10=0,0,(AK10*((LOG(AK10))/LOG(2))))","v":0},null,{"$f":"N10","v":22},{"$f":"COUNTIF(L50:L59,AN10)","v":0},{"$f":"AO10/(AQ4-AO8)","v":{"$error":"#DIV/0!"}},{"$f":"IF(AP10=0,0,(AP10*((LOG(AP10))/LOG(2))))","v":{"$error":"#DIV/0!"}},null,{"$f":"N10","v":22},{"$f":"COUNTIF(L60:L70,AS10)","v":3},{"$f":"AT10/(AV4-AT8)","v":0.6},{"$f":"IF(AU10=0,0,(AU10*((LOG(AU10))/LOG(2))))","v":-0.44217935649972373}]
[11,447,21,459,null,null,null,null,null,null,0,12,null,null,null,null,null,null,null,{"$f":"N11","v":0},{"$f":"COUNTIF(L7:L17,T11)","v":0},{"$f":"U11/(W4-U8)","v":0},{"$f":"IF(V11=0,0,(V11*((LOG(V11))/LOG(2))))","v":0},null,{"$f":"N11","v":0},{"$f":"COUNTIF(L18:L27,Y11)","v":0},{"$f":"Z11/(AB4-Z8)","v":0},{"$f":"IF(AA11=0,0,(AA11*((LOG(AA11))/LOG(2))))","v":0},null,{"$f":"N11","v":0},{"$f":"COUNTIF(L28:L38,AD11)","v":0},{"$f":"AE11/(AG4-AE8)","v":0},{"$f":"IF(AF11=0,0,(AF11*((LOG(AF11))/LOG(2))))","v":0},null,{"$f":"N11","v":0},{"$f":"COUNTIF(L39:L49,AI11)","v":0},{"$f":"AJ11/(AL4-AJ8)","v":0},{"$f":"IF(AK11=0,0,(AK11*((LOG(AK11))/LOG(2))))","v":0},null,{"$f":"N11","v":0},{"$f":"COUNTIF(L50:L59,AN11)","v":0},{"$f":"AO11/(AQ4-AO8)","v":{"$error":"#DIV/0!"}},{"$f":"IF(AP11=0,0,(AP11*((LOG(AP11))/LOG(2))))","v":{"$error":"#DIV/0!"}},null,{"$f":"N11","v":0},{"$f":"COUNTIF(L60:L70,AS11)","v":0},{"$f":"AT11/(AV4-AT8)","v":0},{"$f":"IF(AU11=0,0,(AU11*((LOG(AU11))/LOG(2))))","v":0}]
[11,546,21,555,null,null,null,null,null,null,0,12,null,null,null,null,null,null,null,{"$f":"N12","v":0},{"$f":"COUNTIF(L7:L17,T12)","v":0},{"$f":"U12/(W4-U8)","v":0},{"$f":"IF(V12=0,0,(V12*((LOG(V12))/LOG(2))))","v":0},null,{"$f":"N12","v":0},{"$f":"COUNTIF(L18:L27,Y12)","v":0},{"$f":"Z12/(AB4-Z8)","v":0},{"$f":"IF(AA12=0,0,(AA12*((LOG(AA12))/LOG(2))))","v":0},null,{"$f":"N12","v":0},{"$f":"COUNTIF(L28:L38,AD12)","v":0},{"$f":"AE12/(AG4-AE8)","v":0},{"$f":"IF(AF12=0,0,(AF12*((LOG(AF12))/LOG(2))))","v":0},null,{"$f":"N12","v":0},{"$f":"COUNTIF(L39:L49,AI12)","v":0},{"$f":"AJ12/(AL4-AJ8)","v":0},{"$f":"IF(AK12=0,0,(AK12*((LOG(AK12))/LOG(2))))","v":0},null,{"$f":"N12","v":0},{"$f":"COUNTIF(L50:L59,AN12)","v":0},{"$f":"AO12/(AQ4-AO8)","v":{"$error":"#DIV/0!"}},{"$f":"IF(AP12=0,0,(AP12*((LOG(AP12))/LOG(2))))","v":{"$error":"#DIV/0!"}},null,{"$f":"N12","v":0},{"$f":"COUNTIF(L60:L70,AS12)","v":0},{"$f":"AT12/(AV4-AT8)","v":0},{"$f":"IF(AU12=0,0,(AU12*((LOG(AU12))/LOG(2))))","v":0}]
[11,642,21,650,null,null,null,null,null,null,0,12,null,null,null,null,null,null,null,{"$f":"N13","v":0},{"$f":"COUNTIF(L7:L17,T13)","v":0},{"$f":"U13/(W4-U8)","v":0},{"$f":"IF(V13=0,0,(V13*((LOG(V13))/LOG(2))))","v":0},null,{"$f":"N13","v":0},{"$f":"COUNTIF(L18:L27,Y13)","v":0},{"$f":"Z13/(AB4-Z8)","v":0},{"$f":"IF(AA13=0,0,(AA13*((LOG(AA13))/LOG(2))))","v":0},null,{"$f":"N13","v":0},{"$f":"COUNTIF(L28:L38,AD13)","v":0},{"$f":"AE13/(AG4-AE8)","v":0},{"$f":"IF(AF13=0,0,(AF13*((LOG(AF13))/LOG(2))))","v":0},null,{"$f":"N13","v":0},{"$f":"COUNTIF(L39:L49,AI13)","v":0},{"$f":"AJ13/(AL4-AJ8)","v":0},{"$f":"IF(AK13=0,0,(AK13*((LOG(AK13))/LOG(2))))","v":0},null,{"$f":"N13","v":0},{"$f":"COUNTIF(L50:L59,AN13)","v":0},{"$f":"AO13/(AQ4-AO8)","v":{"$error":"#DIV/0!"}},{"$f":"IF(AP13=0,0,(AP13*((LOG(AP13))/LOG(2))))","v":{"$error":"#DIV/0!"}},null,{"$f":"N13","v":0},{"$f":"COUNTIF(L60:L70,AS13)","v":0},{"$f":"AT13/(AV4-AT8)","v":0},{"$f":"IF(AU13=0,0,(AU13*((LOG(AU13))/LOG(2))))","v":0}]
[11,739,21,759,null,null,null,null,null,null,0,12,null,null,null,null,null,null,null,{"$f":"N14","v":0},{"$f":"COUNTIF(L7:L17,T14)","v":0},{"$f":"U14/(W4-U8)","v":0},{"$f":"IF(V14=0,0,(V14*((LOG(V14))/LOG(2))))","v":0},null,{"$f":"N14","v":0},{"$f":"COUNTIF(L18:L27,Y14)","v":0},{"$f":"Z14/(AB4-Z8)","v":0},{"$f":"IF(AA14=0,0,(AA14*((LOG(AA14))/LOG(2))))","v":0},null,{"$f":"N14","v":0},{"$f":"COUNTIF(L28:L38,AD14)","v":0},{"$f":"AE14/(AG4-AE8)","v":0},{"$f":"IF(AF14=0,0,(AF14*((LOG(AF14))/LOG(2))))","v":0},null,{"$f":"N14","v":0},{"$f":"COUNTIF(L39:L49,AI14)","v":0},{"$f":"AJ14/(AL4-AJ8)","v":0},{"$f":"IF(AK14=0,0,(AK14*((LOG(AK14))/LOG(2))))","v":0},null,{"$f":"N14","v":0},{"$f":"COUNTIF(L50:L59,AN14)","v":0},{"$f":"AO14/(AQ4-AO8)","v":{"$error":"#DIV/0!"}},{"$f":"IF(AP14=0,0,(AP14*((LOG(AP14))/LOG(2))))","v":{"$error":"#DIV/0!"}},null,{"$f":"N14","v":0},{"$f":"COUNTIF(L60:L70,AS14)","v":0},{"$f":"AT14/(AV4-AT8)","v":0},{"$f":"IF(AU14=0,0,(AU14*((LOG(AU14))/LOG(2))))","v":0}]
[22,859,23,866,null,null,null,null,null,null,0,22,null,null,null,{"$f":"SUM(P7:P14)","v":1},{"$f":"-SUM(Q7:Q14)","v":1.1582706691248137},null,null,null,null,{"$f":"SUM(V7:V14)","v":1},{"$f":"-SUM(W7:W14)","v":0},null,null,null,{"$f":"SUM(AA7:AA14)","v":1},{"$f":"-SUM(AB7:AB14)","v":0},null,null,null,{"$f":"SUM(AF7:AF14)","v":1},{"$f":"-SUM(AG7:AG14)","v":0.5435644431995964},null,null,null,{"$f":"SUM(AK7:AK14)","v":1},{"$f":"-SUM(AL7:AL14)","v":0},null,null,null,{"$f":"SUM(AP7:AP14)","v":{"$error":"#DIV/0!"}},{"$f":"-SUM(AQ7:AQ14)","v":{"$error":"#DIV/0!"}},null,null,null,{"$f":"SUM(AU7:AU14)","v":1},{"$f":"-SUM(AV7:AV14)","v":0.97095059445466869}]
[22,971,23,981,null,null,null,null,null,null,0,22,null,null,null,"U=",{"$f":"Q15/(LOG(Q4)/LOG(2))","v":0.19304511152080228},null,null,null,null,"U1=",{"$f":"W15/(LOG(W4)/LOG(2))","v":0},null,null,null,"U2=",{"$f":"AB15/(LOG(AB4)/LOG(2))","v":0},null,null,null,"U3=",{"$f":"AG15/(LOG(AG4)/LOG(2))","v":0.15712536136607072},null,null,null,"U4=",{"$f":"AL15/(LOG(AL4)/LOG(2))","v":0},null,null,null,"U5=",{"$f":"AQ15/(LOG(AQ4)/LOG(2))","v":{"$error":"#DIV/0!"}},null,null,null,"U6=",{"$f":"AV15/(LOG(AV4)/LOG(2))","v":0.28066766494928874}]
[22,1086,23,1096,null,null,null,null,null,null,0,22]
[22,1202,23,1211,null,null,null,null,null,null,0,22]
[11,1307,21,1320,null,null,null,null,null,null,0,12,null,"Total Target Seq"]
[11,1406,21,1419,null,null,null,null,null,null,0,12,null,{"$f":"COUNTIF(L7:L70,G3)","v":40},null,11,10,11,11,10,11]
[11,1505,21,1526,null,null,null,null,null,null,0,12,null,null,null,"% of reinforcement given in 6 equal intervals based on number of trials "]
[22,1624,23,1667,null,null,null,null,null,null,0,22,null,null,null,"%_1","%_2","%_3","%_4","%_5","%_6"]
[11,1764,21,1787,null,null,null,null,null,null,0,12,null,null,"target sequence",{"$f":"$G$3","v":12},{"$f":"$G$3","v":12},{"$f":"$G$3","v":12},{"$f":"$G$3","v":12},{"$f":"$G$3","v":12},{"$f":"$G$3","v":12}]
[22,1883,23,1892,null,null,null,null,null,null,0,22,null,null,"total reinforcement",{"$f":"U8","v":6},{"$f":"Z8","v":6},{"$f":"AE8","v":3},{"$f":"AJ8","v":9},{"$f":"AO8","v":10},{"$f":"AT8","v":6}]
[11,1989,21,1998,null,null,null,null,null,null,0,12,null,null,"% target"]
[11,2086,21,2106,null,null,null,null,null,null,0,12,null,null,"CCRF"]
[22,2201,23,2209,null,null,null,null,null,null,0,22,null,null,"% CCRf"]
[22,2315,23,2323,null,null,null,null,null,null,0,22,null,null,"average response rate",{"$f":"D17/P20","v":99.63636363636364},{"$f":"(D27-D17)/Q20","v":111.3},{"$f":"(D38-D27)/R20","v":111.45454545454545},{"$f":"(D49-D38)/S20","v":105.81818181818181},{"$f":"(D59-D49)/T20","v":107.3},{"$f":"(D70-D59)/U20","v":112.36363636363636}]
[22,2439,23,2449,null,null,null,null,null,null,0,22]
[22,2549,23,2553,null,null,null,null,null,null,0,22]
[22,2662,23,2671,null,null,null,null,null,null,0,22]
[22,2778,23,2786,null,null,null,null,null,null,0,22]
[22,2885,14,2897,null,null,null,null,null,null,0,21]
[22,3007,23,3015,null,null,null,null,null,null,0,22]
[22,3121,23,3129,null,null,null,null,null,null,0,22]
[11,3225,21,3239,null,null,null,null,null,null,0,12]
[11,3326,21,3338,null,null,null,null,null,null,0,12]
[11,3424,21,3435,null,null,null,null,null,null,0,12]
[22,3528,23,3537,null,null,null,null,null,null,0,22]
[11,3633,21,3645,null,null,null,null,null,null,0,12]
[22,3744,23,3753,null,null,null,null,null,null,0,22]
[11,3848,21,3859,null,null,null,null,null,null,0,12]
[11,3951,21,3967,null,null,null,null,null,null,0,12]
[11,4057,21,4071,null,null,null,null,null,null,0,12]
[11,4160,21,4169,null,null,null,null,null,null,0,12]
[11,4254,21,4277,null,null,null,null,null,null,0,12]
[11,4363,21,4378,null,null,null,null,null,null,0,12]
[11,4468,21,4504,null,null,null,null,null,null,0,12]
[11,4591,21,4599,null,null,null,null,null,null,0,12]
[11,4686,21,4694,null,null,null,null,null,null,0,12]
[11,4779,21,4845,null,null,null,null,null,null,0,12]
[11,4932,21,4945,null,null,null,null,null,null,0,12]
[11,5034,21,5051,null,null,null,null,null,null,0,12]
[11,5138,21,5146,null,null,null,null,null,null,0,12]
[11,5232,21,5242,null,null,null,null,null,null,0,12]
[11,5330,21,5347,null,null,null,null,null,null,0,12]
[11,5434,21,5442,null,null,null,null,null,null,0,12]
[11,5528,21,5567,null,null,null,null,null,null,0,12]
[11,5663,21,5672,null,null,null,null,null,null,0,12]
[22,5760,23,5767,null,null,null,null,null,null,0,22]
[22,5878,23,5892,null,null,null,null,null,null,0,22]
[11,5987,21,5998,null,null,null,null,null,null,0,12]
[22,6126,23,6150,null,null,null,null,null,null,0,22]
[11,6247,21,6260,null,null,null,null,null,null,0,12]
[11,6346,21,6354,null,null,null,null,null,null,0,12]
[11,6443,21,6492,null,null,null,null,null,null,0,12]
[22,6581,14,6599,null,null,null,null,null,null,0,21]
[11,6695,21,6704,null,null,null,null,null,null,0,12]
[22,6790,14,6804,null,null,null,null,null,null,0,21]
[11,6899,21,6908,null,null,null,null,null,null,1,12]

{"sheet":"!MC09900.091","index":10,"n_rows":64,"n_cols":48,"rows_kept":64,"cut":false,"hidden":false,"merged":[[4,39,4,42],[5,39,5,40],[4,44,4,47],[5,44,5,45],[4,24,4,27],[5,24,5,25],[4,29,4,32],[5,29,5,30],[4,34,4,37],[5,34,5,35],[1,1,1,2],[5,13,5,14],[18,13,18,14],[19,13,19,14],[4,19,4,22],[5,19,5,20]]}
["Report for:!MC09900.091"]
["Date:","<date>"]
["Hen:","<hen>",null,null,null,"Correct Sequence",{"$f":"Start!J2","v":12},null,null,null,null,null,null,null,null,"Total Sequences in Data",{"$f":"4994-COUNTBLANK(L7:L5000)","v":58},null,null,null,null,"Total Sequences in Block Data",{"$f":"COUNTA(L7:L16)","v":10},null,null,null,"Total Sequences in Block Data",{"$f":"COUNTA(L17:L25)","v":9},null,null,null,"Total Sequences in Block Data",{"$f":"COUNTA(L26:L35)","v":10},null,null,null,"Total Sequences in Block Data",{"$f":"COUNTA(L36:L45)","v":10},null,null,null,"Total Sequences in Block Data",{"$f":"COUNTA(L46:L54)","v":9},null,null,null,"Total Sequences in Block Data",{"$f":"COUNTA(L55:L64)","v":10}]
[null,null,null,null,null,null,null,null,null,null,null,null,null,null,null,"Total Sequences in Summary",{"$f":"SUM(O7:O14)","v":58},null,null,null,null,"Total Sequences in Block Summary",{"$f":"SUM(U7:U14)","v":10},null,null,null,"Total Sequences in Block Summary",{"$f":"SUM(Z7:Z14)","v":9},null,null,null,"Total Sequences in Block Summary",{"$f":"SUM(AE7:AE14)","v":10},null,null,null,"Total Sequences in Block Summary",{"$f":"SUM(AJ7:AJ14)","v":10},null,null,null,"Total Sequences in Block Summary",{"$f":"SUM(AO7:AO14)","v":9},null,null,null,"Total Sequences in Block Summary",{"$f":"SUM(AT7:AT14)","v":10}]
[null,null,null,null,null,null,null,null,null,null,null,null,null,null,null,null,null,null,null,"Block 1",null,null,null,null,"Block 2",null,null,null,null,"Block 3",null,null,null,null,"Block 4",null,null,null,null,"Block 5",null,null,null,null,"Block 6"]
["Sequence\nComponent\n1","Time\n1","Sequence\nComponent\n2","Time\n2","Sequence\nComponent\n3","Time\n3","Sequence\nComponent\n4","Time\n4","Sequence\nComponent\n5","Time\n5","Correct?\n0=No 1=Yes","Sequence",null,"Frequency",null,"Relative Frequency","Variability",null,null,"Frequency",null,"Relative Frequency","Variability",null,"Frequency",null,"Relative Frequency","Variability",null,"Frequency",null,"Relative Frequency","Variability",null,"Frequency",null,"Relative Frequency","Variability",null,"Frequency",null,"Relative Frequency","Variability",null,"Frequency",null,"Relative Frequency","Variability"]
[22,20,23,136,null,null,null,null,null,null,0,22,null,11,{"$f":"COUNTIF($L$7:$L$500,N7)","v":0},{"$f":"O7/$Q$4","v":0},{"$f":"IF(P7=0,0,(P7*((LOG(P7))/LOG(2))))","v":0},null,null,{"$f":"N7","v":11},{"$f":"COUNTIF(L7:L16,T7)","v":0},{"$f":"U7/(W4-U8)","v":0},{"$f":"IF(V7=0,0,(V7*((LOG(V7))/LOG(2))))","v":0},null,{"$f":"N7","v":11},{"$f":"COUNTIF(L17:L25,Y7)","v":0},{"$f":"Z7/(AB4-Z8)","v":0},{"$f":"IF(AA7=0,0,(AA7*((LOG(AA7))/LOG(2))))","v":0},null,{"$f":"N7","v":11},{"$f":"COUNTIF(L26:L35,AD7)","v":0},{"$f":"AE7/(AG4-AE8)","v":0},{"$f":"IF(AF7=0,0,(AF7*((LOG(AF7))/LOG(2))))","v":0},null,{"$f":"N7","v":11},{"$f":"COUNTIF(L36:L45,AI7)","v":0},{"$f":"AJ7/(AL4-AJ8)","v":0},{"$f":"IF(AK7=0,0,(AK7*((LOG(AK7))/LOG(2))))","v":0},null,{"$f":"N7","v":11},{"$f":"COUNTIF(L46:L54,AN7)","v":0},{"$f":"AO7/(AQ4-AO8)","v":0},{"$f":"IF(AP7=0,0,(AP7*((LOG(AP7))/LOG(2))))","v":0},null,{"$f":"N7","v":11},{"$f":"COUNTIF(L55:L64,AS7)","v":0},{"$f":"AT7/(AV4-AT8)","v":0},{"$f":"IF(AU7=0,0,(AU7*((LOG(AU7))/LOG(2))))","v":0}]
[22,239,23,277,null,null,null,null,null,null,0,22,null,12,{"$f":"COUNTIF($L$7:$L$500,N8)","v":40},{"$f":"O8/$Q$4","v":0.68965517241379315},{"$f":"IF(P8=0,0,(P8*((LOG(P8))/LOG(2))))","v":-0.36969165533807569},null,null,{"$f":"N8","v":12},{"$f":"COUNTIF(L7:L16,T8)","v":4},null,null,null,{"$f":"N8","v":12},{"$f":"COUNTIF(L17:L25,Y8)","v":8},null,null,null,{"$f":"N8","v":12},{"$f":"COUNTIF(L26:L35,AD8)","v":4},null,null,null,{"$f":"N8","v":12},{"$f":"COUNTIF(L36:L45,AI8)","v":9},null,null,null,{"$f":"N8","v":12},{"$f":"COUNTIF(L46:L54,AN8)","v":6},null,null,null,{"$f":"N8","v":12},{"$f":"COUNTIF(L55:L64,AS8)","v":9}]
[22,388,14,418,null,null,null,null,null,null,0,21,null,21,{"$f":"COUNTIF($L$7:$L$500,N9)","v":4},{"$f":"O9/$Q$4","v":6.8965517241379309E-2},{"$f":"IF(P9=0,0,(P9*((LOG(P9))/LOG(2))))","v":-0.26606765483638428},null,null,{"$f":"N9","v":21},{"$f":"COUNTIF(L7:L16,T9)","v":1},{"$f":"U9/(W4-U8)","v":0.16666666666666666},{"$f":"IF(V9=0,0,(V9*((LOG(V9))/LOG(2))))","v":-0.43082708345352599},null,{"$f":"N9","v":21},{"$f":"COUNTIF(L17:L25,Y9)","v":0},{"$f":"Z9/(AB4-Z8)","v":0},{"$f":"IF(AA9=0,0,(AA9*((LOG(AA9))/LOG(2))))","v":0},null,{"$f":"N9","v":21},{"$f":"COUNTIF(L26:L35,AD9)","v":1},{"$f":"AE9/(AG4-AE8)","v":0.16666666666666666},{"$f":"IF(AF9=0,0,(AF9*((LOG(AF9))/LOG(2))))","v":-0.43082708345352599},null,{"$f":"N9","v":21},{"$f":"COUNTIF(L36:L45,AI9)","v":0},{"$f":"AJ9/(AL4-AJ8)","v":0},{"$f":"IF(AK9=0,0,(AK9*((LOG(AK9))/LOG(2))))","v":0},null,{"$f":"N9","v":21},{"$f":"COUNTIF(L46:L54,AN9)","v":1},{"$f":"AO9/(AQ4-AO8)","v":0.33333333333333331},{"$f":"IF(AP9=0,0,(AP9*((LOG(AP9))/LOG(2))))","v":-0.52832083357371862},null,{"$f":"N9","v":21},{"$f":"COUNTIF(L55:L64,AS9)","v":1},{"$f":"AT9/(AV4-AT8)","v":1},{"$f":"IF(AU9=0,0,(AU9*((LOG(AU9))/LOG(2))))","v":0}]
[22,524,23,534,null,null,null,null,null,null,0,22,null,22,{"$f":"COUNTIF($L$7:$L$500,N10)","v":14},{"$f":"O10/$Q$4","v":0.2413793103448276},{"$f":"IF(P10=0,0,(P10*((LOG(P10))/LOG(2))))","v":-0.49497870729275095},null,null,{"$f":"N10","v":22},{"$f":"COUNTIF(L7:L16,T10)","v":5},{"$f":"U10/(W4-U8)","v":0.83333333333333337},{"$f":"IF(V10=0,0,(V10*((LOG(V10))/LOG(2))))","v":-0.21919533819482812},null,{"$f":"N10","v":22},{"$f":"COUNTIF(L17:L25,Y10)","v":1},{"$f":"Z10/(AB4-Z8)","v":1},{"$f":"IF(AA10=0,0,(AA10*((LOG(AA10))/LOG(2))))","v":0},null,{"$f":"N10","v":22},{"$f":"COUNTIF(L26:L35,AD10)","v":5},{"$f":"AE10/(AG4-AE8)","v":0.83333333333333337},{"$f":"IF(AF10=0,0,(AF10*((LOG(AF10))/LOG(2))))","v":-0.21919533819482812},null,{"$f":"N10","v":22},{"$f":"COUNTIF(L36:L45,AI10)","v":1},{"$f":"AJ10/(AL4-AJ8)","v":1},{"$f":"IF(AK10=0,0,(AK10*((LOG(AK10))/LOG(2))))","v":0},null,{"$f":"N10","v":22},{"$f":"COUNTIF(L46:L54,AN10)","v":2},{"$f":"AO10/(AQ4-AO8)","v":0.66666666666666663},{"$f":"IF(AP10=0,0,(AP10*((LOG(AP10))/LOG(2))))","v":-0.38997500048077083},null,{"$f":"N10","v":22},{"$f":"COUNTIF(L55:L64,AS10)","v":0},{"$f":"AT10/(AV4-AT8)","v":0},{"$f":"IF(AU10=0,0,(AU10*((LOG(AU10))/LOG(2))))","v":0}]
[11,632,21,645,null,null,null,null,null,null,0,12,null,null,null,null,null,null,null,{"$f":"N11","v":0},{"$f":"COUNTIF(L7:L16,T11)","v":0},{"$f":"U11/(W4-U8)","v":0},{"$f":"IF(V11=0,0,(V11*((LOG(V11))/LOG(2))))","v":0},null,{"$f":"N11","v":0},{"$f":"COUNTIF(L17:L25,Y11)","v":0},{"$f":"Z11/(AB4-Z8)","v":0},{"$f":"IF(AA11=0,0,(AA11*((LOG(AA11))/LOG(2))))","v":0},null,{"$f":"N11","v":0},{"$f":"COUNTIF(L26:L35,AD11)","v":0},{"$f":"AE11/(AG4-AE8)","v":0},{"$f":"IF(AF11=0,0,(AF11*((LOG(AF11))/LOG(2))))","v":0},null,{"$f":"N11","v":0},{"$f":"COUNTIF(L36:L45,AI11)","v":0},{"$f":"AJ11/(AL4-AJ8)","v":0},{"$f":"IF(AK11=0,0,(AK11*((LOG(AK11))/LOG(2))))","v":0},null,{"$f":"N11","v":0},{"$f":"COUNTIF(L46:L54,AN11)","v":0},{"$f":"AO11/(AQ4-AO8)","v":0},{"$f":"IF(AP11=0,0,(AP11*((LOG(AP11))/LOG(2))))","v":0},null,{"$f":"N11","v":0},{"$f":"COUNTIF(L55:L64,AS11)","v":0},{"$f":"AT11/(AV4-AT8)","v":0},{"$f":"IF(AU11=0,0,(AU11*((LOG(AU11))/LOG(2))))","v":0}]
[11,732,21,741,null,null,null,null,null,null,0,12,null,null,null,null,null,null,null,{"$f":"N12","v":0},{"$f":"COUNTIF(L7:L16,T12)","v":0},{"$f":"U12/(W4-U8)","v":0},{"$f":"IF(V12=0,0,(V12*((LOG(V12))/LOG(2))))","v":0},null,{"$f":"N12","v":0},{"$f":"COUNTIF(L17:L25,Y12)","v":0},{"$f":"Z12/(AB4-Z8)","v":0},{"$f":"IF(AA12=0,0,(AA12*((LOG(AA12))/LOG(2))))","v":0},null,{"$f":"N12","v":0},{"$f":"COUNTIF(L26:L35,AD12)","v":0},{"$f":"AE12/(AG4-AE8)","v":0},{"$f":"IF(AF12=0,0,(AF12*((LOG(AF12))/LOG(2))))","v":0},null,{"$f":"N12","v":0},{"$f":"COUNTIF(L36:L45,AI12)","v":0},{"$f":"AJ12/(AL4-AJ8)","v":0},{"$f":"IF(AK12=0,0,(AK12*((LOG(AK12))/LOG(2))))","v":0},null,{"$f":"N12","v":0},{"$f":"COUNTIF(L46:L54,AN12)","v":0},{"$f":"AO12/(AQ4-AO8)","v":0},{"$f":"IF(AP12=0,0,(AP12*((LOG(AP12))/LOG(2))))","v":0},null,{"$f":"N12","v":0},{"$f":"COUNTIF(L55:L64,AS12)","v":0},{"$f":"AT12/(AV4-AT8)","v":0},{"$f":"IF(AU12=0,0,(AU12*((LOG(AU12))/LOG(2))))","v":0}]
[22,836,23,845,null,null,null,null,null,null,0,22,null,null,null,null,null,null,null,{"$f":"N13","v":0},{"$f":"COUNTIF(L7:L16,T13)","v":0},{"$f":"U13/(W4-U8)","v":0},{"$f":"IF(V13=0,0,(V13*((LOG(V13))/LOG(2))))","v":0},null,{"$f":"N13","v":0},{"$f":"COUNTIF(L17:L25,Y13)","v":0},{"$f":"Z13/(AB4-Z8)","v":0},{"$f":"IF(AA13=0,0,(AA13*((LOG(AA13))/LOG(2))))","v":0},null,{"$f":"N13","v":0},{"$f":"COUNTIF(L26:L35,AD13)","v":0},{"$f":"AE13/(AG4-AE8)","v":0},{"$f":"IF(AF13=0,0,(AF13*((LOG(AF13))/LOG(2))))","v":0},null,{"$f":"N13","v":0},{"$f":"COUNTIF(L36:L45,AI13)","v":0},{"$f":"AJ13/(AL4-AJ8)","v":0},{"$f":"IF(AK13=0,0,(AK13*((LOG(AK13))/LOG(2))))","v":0},null,{"$f":"N13","v":0},{"$f":"COUNTIF(L46:L54,AN13)","v":0},{"$f":"AO13/(AQ4-AO8)","v":0},{"$f":"IF(AP13=0,0,(AP13*((LOG(AP13))/LOG(2))))","v":0},null,{"$f":"N13","v":0},{"$f":"COUNTIF(L55:L64,AS13)","v":0},{"$f":"AT13/(AV4-AT8)","v":0},{"$f":"IF(AU13=0,0,(AU13*((LOG(AU13))/LOG(2))))","v":0}]
[11,941,21,954,null,null,null,null,null,null,0,12,null,null,null,null,null,null,null,{"$f":"N14","v":0},{"$f":"COUNTIF(L7:L16,T14)","v":0},{"$f":"U14/(W4-U8)","v":0},{"$f":"IF(V14=0,0,(V14*((LOG(V14))/LOG(2))))","v":0},null,{"$f":"N14","v":0},{"$f":"COUNTIF(L17:L25,Y14)","v":0},{"$f":"Z14/(AB4-Z8)","v":0},{"$f":"IF(AA14=0,0,(AA14*((LOG(AA14))/LOG(2))))","v":0},null,{"$f":"N14","v":0},{"$f":"COUNTIF(L26:L35,AD14)","v":0},{"$f":"AE14/(AG4-AE8)","v":0},{"$f":"IF(AF14=0,0,(AF14*((LOG(AF14))/LOG(2))))","v":0},null,{"$f":"N14","v":0},{"$f":"COUNTIF(L36:L45,AI14)","v":0},{"$f":"AJ14/(AL4-AJ8)","v":0},{"$f":"IF(AK14=0,0,(AK14*((LOG(AK14))/LOG(2))))","v":0},null,{"$f":"N14","v":0},{"$f":"COUNTIF(L46:L54,AN14)","v":0},{"$f":"AO14/(AQ4-AO8)","v":0},{"$f":"IF(AP14=0,0,(AP14*((LOG(AP14))/LOG(2))))","v":0},null,{"$f":"N14","v":0},{"$f":"COUNTIF(L55:L64,AS14)","v":0},{"$f":"AT14/(AV4-AT8)","v":0},{"$f":"IF(AU14=0,0,(AU14*((LOG(AU14))/LOG(2))))","v":0}]
[11,1041,21,1051,null,null,null,null,null,null,0,12,null,null,null,{"$f":"SUM(P7:P14)","v":1},{"$f":"-SUM(Q7:Q14)","v":1.1307380174672108},null,null,null,null,{"$f":"SUM(V7:V14)","v":1},{"$f":"-SUM(W7:W14)","v":0.65002242164835411},null,null,null,{"$f":"SUM(AA7:AA14)","v":1},{"$f":"-SUM(AB7:AB14)","v":0},null,null,null,{"$f":"SUM(AF7:AF14)","v":1},{"$f":"-SUM(AG7:AG14)","v":0.65002242164835411},null,null,null,{"$f":"SUM(AK7:AK14)","v":1},{"$f":"-SUM(AL7:AL14)","v":0},null,null,null,{"$f":"SUM(AP7:AP14)","v":1},{"$f":"-SUM(AQ7:AQ14)","v":0.91829583405448945},null,null,null,{"$f":"SUM(AU7:AU14)","v":1},{"$f":"-SUM(AV7:AV14)","v":0}]
[22,1147,23,1154,null,null,null,null,null,null,0,22,null,null,null,"U=",{"$f":"Q15/(LOG(Q4)/LOG(2))","v":0.19302521097417563},null,null,null,null,"U1=",{"$f":"W15/(LOG(W4)/LOG(2))","v":0.1956762467702946},null,null,null,"U2=",{"$f":"AB15/(LOG(AB4)/LOG(2))","v":0},null,null,null,"U3=",{"$f":"AG15/(LOG(AG4)/LOG(2))","v":0.1956762467702946},null,null,null,"U4=",{"$f":"AL15/(LOG(AL4)/LOG(2))","v":0},null,null,null,"U5=",{"$f":"AQ15/(LOG(AQ4)/LOG(2))","v":0.28969008214284753},null,null,null,"U6=",{"$f":"AV15/(LOG(AV4)/LOG(2))","v":0}]
[11,1250,21,1262,null,null,null,null,null,null,0,12]
[11,1350,21,1359,null,null,null,null,null,null,0,12]
[11,1446,21,1457,null,null,null,null,null,null,0,12,null,"Total Target Seq"]
[11,1541,21,1554,null,null,null,null,null,null,0,12,null,{"$f":"COUNTIF(L7:L64,G3)","v":40},null,10,9,10,10,9,10]
[11,1640,21,1651,null,null,null,null,null,null,0,12,null,null,null,"% of reinforcement given in 6 equal intervals based on number of trials "]
[11,1735,21,1747,null,null,null,null,null,null,0,12,null,null,null,"%_1","%_2","%_3","%_4","%_5","%_6"]
[11,1835,21,1844,null,null,null,null,null,null,0,12,null,null,"target sequence",{"$f":"$G$3","v":12},{"$f":"$G$3","v":12},{"$f":"$G$3","v":12},{"$f":"$G$3","v":12},{"$f":"$G$3","v":12},{"$f":"$G$3","v":12}]
[11,1930,21,1939,null,null,null,null,null,null,0,12,null,null,"total reinforcement",{"$f":"U8","v":4},{"$f":"Z8","v":8},{"$f":"AE8","v":4},{"$f":"AJ8","v":9},{"$f":"AO8","v":6},{"$f":"AT8","v":9}]
[22,2031,23,2051,null,null,null,null,null,null,0,22,null,null,"% target"]
[11,2146,21,2155,null,null,null,null,null,null,0,12,null,null,"CCRF"]
[11,2243,21,2268,null,null,null,null,null,null,0,12,null,null,"% CCRf"]
[11,2358,21,2395,null,null,null,null,null,null,0,12,null,null,"average response rate",{"$f":"D16/P20","v":115.4},{"$f":"(D25-D16)/Q20","v":99.666666666666671},{"$f":"(D35-D25)/R20","v":112.7},{"$f":"(D45-D35)/S20","v":106.5},{"$f":"(D54-D45)/T20","v":108.22222222222223},{"$f":"(D64-D54)/U20","v":106.6}]
[22,2495,14,2504,null,null,null,null,null,null,0,21]
[22,2609,23,2618,null,null,null,null,null,null,0,22]
[11,2714,21,2723,null,null,null,null,null,null,0,12]
[22,2817,23,2830,null,null,null,null,null,null,0,22]
[22,2939,23,2950,null,null,null,null,null,null,0,22]
[22,3054,23,3062,null,null,null,null,null,null,0,22]
[22,3170,23,3178,null,null,null,null,null,null,0,22]
[11,3279,21,3291,null,null,null,null,null,null,0,12]
[11,3379,21,3390,null,null,null,null,null,null,0,12]
[11,3477,21,3487,null,null,null,null,null,null,0,12]
[11,3575,21,3584,null,null,null,null,null,null,0,12]
[11,3669,21,3677,null,null,null,null,null,null,0,12]
[11,3764,21,3773,null,null,null,null,null,null,0,12]
[22,3886,23,3904,null,null,null,null,null,null,0,22]
[11,4000,21,4009,null,null,null,null,null,null,0,12]
[11,4111,21,4120,null,null,null,null,null,null,0,12]
[11,4206,21,4243,null,null,null,null,null,null,0,12]
[22,4343,23,4370,null,null,null,null,null,null,0,22]
[11,4466,21,4478,null,null,null,null,null,null,0,12]
[11,4570,21,4578,null,null,null,null,null,null,0,12]
[22,4673,14,4685,null,null,null,null,null,null,0,21]
[11,4781,21,4792,null,null,null,null,null,null,0,12]
[22,4895,23,4903,null,null,null,null,null,null,0,22]
[11,4999,21,5011,null,null,null,null,null,null,0,12]
[11,5098,21,5118,null,null,null,null,null,null,0,12]
[11,5208,21,5217,null,null,null,null,null,null,0,12]
[11,5301,21,5313,null,null,null,null,null,null,0,12]
[11,5401,21,5473,null,null,null,null,null,null,0,12]
[11,5561,21,5571,null,null,null,null,null,null,0,12]
[11,5657,21,5674,null,null,null,null,null,null,0,12]
[11,5762,21,5777,null,null,null,null,null,null,0,12]
[11,5865,21,5873,null,null,null,null,null,null,0,12]
[11,5960,21,5972,null,null,null,null,null,null,0,12]
[22,6060,14,6077,null,null,null,null,null,null,0,21]
[11,6172,21,6183,null,null,null,null,null,null,0,12]
[11,6274,21,6283,null,null,null,null,null,null,1,12]

{"sheet":"!MC10900.091","index":11,"n_rows":57,"n_cols":48,"rows_kept":57,"cut":false,"hidden":false,"merged":[[4,39,4,42],[5,39,5,40],[4,44,4,47],[5,44,5,45],[4,24,4,27],[5,24,5,25],[4,29,4,32],[5,29,5,30],[4,34,4,37],[5,34,5,35],[1,1,1,2],[5,13,5,14],[18,13,18,14],[19,13,19,14],[4,19,4,22],[5,19,5,20]]}
["Report for:!MC10900.091"]
["Date:","<date>"]
["Hen:","<hen>",null,null,null,"Correct Sequence",{"$f":"Start!J2","v":12},null,null,null,null,null,null,null,null,"Total Sequences in Data",{"$f":"4994-COUNTBLANK(L7:L5000)","v":51},null,null,null,null,"Total Sequences in Block Data",{"$f":"COUNTA(L7:L15)","v":9},null,null,null,"Total Sequences in Block Data",{"$f":"COUNTA(L16:L23)","v":8},null,null,null,"Total Sequences in Block Data",{"$f":"COUNTA(L24:L32)","v":9},null,null,null,"Total Sequences in Block Data",{"$f":"COUNTA(L33:L40)","v":8},null,null,null,"Total Sequences in Block Data",{"$f":"COUNTA(L41:L49)","v":9},null,null,null,"Total Sequences in Block Data",{"$f":"COUNTA(L50:L57)","v":8}]
[null,null,null,null,null,null,null,null,null,null,null,null,null,null,null,"Total Sequences in Summary",{"$f":"SUM(O7:O14)","v":51},null,null,null,null,"Total Sequences in Block Summary",{"$f":"SUM(U7:U14)","v":9},null,null,null,"Total Sequences in Block Summary",{"$f":"SUM(Z7:Z14)","v":8},null,null,null,"Total Sequences in Block Summary",{"$f":"SUM(AE7:AE14)","v":9},null,null,null,"Total Sequences in Block Summary",{"$f":"SUM(AJ7:AJ14)","v":8},null,null,null,"Total Sequences in Block Summary",{"$f":"SUM(AO7:AO14)","v":9},null,null,null,"Total Sequences in Block Summary",{"$f":"SUM(AT7:AT14)","v":8}]
[null,null,null,null,null,null,null,null,null,null,null,null,null,null,null,null,null,null,null,"Block 1",null,null,null,null,"Block 2",null,null,null,null,"Block 3",null,null,null,null,"Block 4",null,null,null,null,"Block 5",null,null,null,null,"Block 6"]
["Sequence\nComponent\n1","Time\n1","Sequence\nComponent\n2","Time\n2","Sequence\nComponent\n3","Time\n3","Sequence\nComponent\n4","Time\n4","Sequence\nComponent\n5","Time\n5","Correct?\n0=No 1=Yes","Sequence",null,"Frequency",null,"Relative Frequency","Variability",null,null,"Frequency",null,"Relative Frequency","Variability",null,"Frequency",null,"Relative Frequency","Variability",null,"Frequency",null,"Relative Frequency","Variability",null,"Frequency",null,"Relative Frequency","Variability",null,"Frequency",null,"Relative Frequency","Variability",null,"Frequency",null,"Relative Frequency","Variability"]
[22,53,23,92,null,null,null,null,null,null,0,22,null,11,{"$f":"COUNTIF($L$7:$L$500,N7)","v":1},{"$f":"O7/$Q$4","v":1.9607843137254902E-2},{"$f":"IF(P7=0,0,(P7*((LOG(P7))/LOG(2))))","v":-0.11122402631316657},null,null,{"$f":"N7","v":11},{"$f":"COUNTIF(L7:L15,T7)","v":1},{"$f":"U7/(W4-U8)","v":0.25},{"$f":"IF(V7=0,0,(V7*((LOG(V7))/LOG(2))))","v":-0.5},null,{"$f":"N7","v":11},{"$f":"COUNTIF(L16:L23,Y7)","v":0},{"$f":"Z7/(AB4-Z8)","v":{"$error":"#DIV/0!"}},{"$f":"IF(AA7=0,0,(AA7*((LOG(AA7))/LOG(2))))","v":{"$error":"#DIV/0!"}},null,{"$f":"N7","v":11},{"$f":"COUNTIF(L24:L32,AD7)","v":0},{"$f":"AE7/(AG4-AE8)","v":{"$error":"#DIV/0!"}},{"$f":"IF(AF7=0,0,(AF7*((LOG(AF7))/LOG(2))))","v":{"$error":"#DIV/0!"}},null,{"$f":"N7","v":11},{"$f":"COUNTIF(L33:L40,AI7)","v":0},{"$f":"AJ7/(AL4-AJ8)","v":0},{"$f":"IF(AK7=0,0,(AK7*((LOG(AK7))/LOG(2))))","v":0},null,{"$f":"N7","v":11},{"$f":"COUNTIF(L41:L49,AN7)","v":0},{"$f":"AO7/(AQ4-AO8)","v":0},{"$f":"IF(AP7=0,0,(AP7*((LOG(AP7))/LOG(2))))","v":0},null,{"$f":"N7","v":11},{"$f":"COUNTIF(L50:L57,AS7)","v":0},{"$f":"AT7/(AV4-AT8)","v":0},{"$f":"IF(AU7=0,0,(AU7*((LOG(AU7))/LOG(2))))","v":0}]
[11,200,21,229,null,null,null,null,null,null,0,12,null,12,{"$f":"COUNTIF($L$7:$L$500,N8)","v":40},{"$f":"O8/$Q$4","v":0.78431372549019607},{"$f":"IF(P8=0,0,(P8*((LOG(P8))/LOG(2))))","v":-0.2748998016346143},null,null,{"$f":"N8","v":12},{"$f":"COUNTIF(L7:L15,T8)","v":5},null,null,null,{"$f":"N8","v":12},{"$f":"COUNTIF(L16:L23,Y8)","v":8},null,null,null,{"$f":"N8","v":12},{"$f":"COUNTIF(L24:L32,AD8)","v":9},null,null,null,{"$f":"N8","v":12},{"$f":"COUNTIF(L33:L40,AI8)","v":5},null,null,null,{"$f":"N8","v":12},{"$f":"COUNTIF(L41:L49,AN8)","v":7},null,null,null,{"$f":"N8","v":12},{"$f":"COUNTIF(L50:L57,AS8)","v":6}]
[22,347,23,367,null,null,null,null,null,null,0,22,null,21,{"$f":"COUNTIF($L$7:$L$500,N9)","v":2},{"$f":"O9/$Q$4","v":3.9215686274509803E-2},{"$f":"IF(P9=0,0,(P9*((LOG(P9))/LOG(2))))","v":-0.18323236635182338},null,null,{"$f":"N9","v":21},{"$f":"COUNTIF(L7:L15,T9)","v":1},{"$f":"U9/(W4-U8)","v":0.25},{"$f":"IF(V9=0,0,(V9*((LOG(V9))/LOG(2))))","v":-0.5},null,{"$f":"N9","v":21},{"$f":"COUNTIF(L16:L23,Y9)","v":0},{"$f":"Z9/(AB4-Z8)","v":{"$error":"#DIV/0!"}},{"$f":"IF(AA9=0,0,(AA9*((LOG(AA9))/LOG(2))))","v":{"$error":"#DIV/0!"}},null,{"$f":"N9","v":21},{"$f":"COUNTIF(L24:L32,AD9)","v":0},{"$f":"AE9/(AG4-AE8)","v":{"$error":"#DIV/0!"}},{"$f":"IF(AF9=0,0,(AF9*((LOG(AF9))/LOG(2))))","v":{"$error":"#DIV/0!"}},null,{"$f":"N9","v":21},{"$f":"COUNTIF(L33:L40,AI9)","v":0},{"$f":"AJ9/(AL4-AJ8)","v":0},{"$f":"IF(AK9=0,0,(AK9*((LOG(AK9))/LOG(2))))","v":0},null,{"$f":"N9","v":21},{"$f":"COUNTIF(L41:L49,AN9)","v":1},{"$f":"AO9/(AQ4-AO8)","v":0.5},{"$f":"IF(AP9=0,0,(AP9*((LOG(AP9))/LOG(2))))","v":-0.5},null,{"$f":"N9","v":21},{"$f":"COUNTIF(L50:L57,AS9)","v":0},{"$f":"AT9/(AV4-AT8)","v":0},{"$f":"IF(AU9=0,0,(AU9*((LOG(AU9))/LOG(2))))","v":0}]
[22,472,14,489,null,null,null,null,null,null,0,21,null,22,{"$f":"COUNTIF($L$7:$L$500,N10)","v":8},{"$f":"O10/$Q$4","v":0.15686274509803921},{"$f":"IF(P10=0,0,(P10*((LOG(P10))/LOG(2))))","v":-0.419203975211215},null,null,{"$f":"N10","v":22},{"$f":"COUNTIF(L7:L15,T10)","v":2},{"$f":"U10/(W4-U8)","v":0.5},{"$f":"IF(V10=0,0,(V10*((LOG(V10))/LOG(2))))","v":-0.5},null,{"$f":"N10","v":22},{"$f":"COUNTIF(L16:L23,Y10)","v":0},{"$f":"Z10/(AB4-Z8)","v":{"$error":"#DIV/0!"}},{"$f":"IF(AA10=0,0,(AA10*((LOG(AA10))/LOG(2))))","v":{"$error":"#DIV/0!"}},null,{"$f":"N10","v":22},{"$f":"COUNTIF(L24:L32,AD10)","v":0},{"$f":"AE10/(AG4-AE8)","v":{"$error":"#DIV/0!"}},{"$f":"IF(AF10=0,0,(AF10*((LOG(AF10))/LOG(2))))","v":{"$error":"#DIV/0!"}},null,{"$f":"N10","v":22},{"$f":"COUNTIF(L33:L40,AI10)","v":3},{"$f":"AJ10/(AL4-AJ8)","v":1},{"$f":"IF(AK10=0,0,(AK10*((LOG(AK10))/LOG(2))))","v":0},null,{"$f":"N10","v":22},{"$f":"COUNTIF(L41:L49,AN10)","v":1},{"$f":"AO10/(AQ4-AO8)","v":0.5},{"$f":"IF(AP10=0,0,(AP10*((LOG(AP10))/LOG(2))))","v":-0.5},null,{"$f":"N10","v":22},{"$f":"COUNTIF(L50:L57,AS10)","v":2},{"$f":"AT10/(AV4-AT8)","v":1},{"$f":"IF(AU10=0,0,(AU10*((LOG(AU10))/LOG(2))))","v":0}]
[11,589,21,598,null,null,null,null,null,null,0,12,null,null,null,null,null,null,null,{"$f":"N11","v":0},{"$f":"COUNTIF(L7:L15,T11)","v":0},{"$f":"U11/(W4-U8)","v":0},{"$f":"IF(V11=0,0,(V11*((LOG(V11))/LOG(2))))","v":0},null,{"$f":"N11","v":0},{"$f":"COUNTIF(L16:L23,Y11)","v":0},{"$f":"Z11/(AB4-Z8)","v":{"$error":"#DIV/0!"}},{"$f":"IF(AA11=0,0,(AA11*((LOG(AA11))/LOG(2))))","v":{"$error":"#DIV/0!"}},null,{"$f":"N11","v":0},{"$f":"COUNTIF(L24:L32,AD11)","v":0},{"$f":"AE11/(AG4-AE8)","v":{"$error":"#DIV/0!"}},{"$f":"IF(AF11=0,0,(AF11*((LOG(AF11))/LOG(2))))","v":{"$error":"#DIV/0!"}},null,{"$f":"N11","v":0},{"$f":"COUNTIF(L33:L40,AI11)","v":0},{"$f":"AJ11/(AL4-AJ8)","v":0},{"$f":"IF(AK11=0,0,(AK11*((LOG(AK11))/LOG(2))))","v":0},null,{"$f":"N11","v":0},{"$f":"COUNTIF(L41:L49,AN11)","v":0},{"$f":"AO11/(AQ4-AO8)","v":0},{"$f":"IF(AP11=0,0,(AP11*((LOG(AP11))/LOG(2))))","v":0},null,{"$f":"N11","v":0},{"$f":"COUNTIF(L50:L57,AS11)","v":0},{"$f":"AT11/(AV4-AT8)","v":0},{"$f":"IF(AU11=0,0,(AU11*((LOG(AU11))/LOG(2))))","v":0}]
[11,692,21,742,null,null,null,null,null,null,0,12,null,null,null,null,null,null,null,{"$f":"N12","v":0},{"$f":"COUNTIF(L7:L15,T12)","v":0},{"$f":"U12/(W4-U8)","v":0},{"$f":"IF(V12=0,0,(V12*((LOG(V12))/LOG(2))))","v":0},null,{"$f":"N12","v":0},{"$f":"COUNTIF(L16:L23,Y12)","v":0},{"$f":"Z12/(AB4-Z8)","v":{"$error":"#DIV/0!"}},{"$f":"IF(AA12=0,0,(AA12*((LOG(AA12))/LOG(2))))","v":{"$error":"#DIV/0!"}},null,{"$f":"N12","v":0},{"$f":"COUNTIF(L24:L32,AD12)","v":0},{"$f":"AE12/(AG4-AE8)","v":{"$error":"#DIV/0!"}},{"$f":"IF(AF12=0,0,(AF12*((LOG(AF12))/LOG(2))))","v":{"$error":"#DIV/0!"}},null,{"$f":"N12","v":0},{"$f":"COUNTIF(L33:L40,AI12)","v":0},{"$f":"AJ12/(AL4-AJ8)","v":0},{"$f":"IF(AK12=0,0,(AK12*((LOG(AK12))/LOG(2))))","v":0},null,{"$f":"N12","v":0},{"$f":"COUNTIF(L41:L49,AN12)","v":0},{"$f":"AO12/(AQ4-AO8)","v":0},{"$f":"IF(AP12=0,0,(AP12*((LOG(AP12))/LOG(2))))","v":0},null,{"$f":"N12","v":0},{"$f":"COUNTIF(L50:L57,AS12)","v":0},{"$f":"AT12/(AV4-AT8)","v":0},{"$f":"IF(AU12=0,0,(AU12*((LOG(AU12))/LOG(2))))","v":0}]
[11,829,21,838,null,null,null,null,null,null,0,12,null,null,null,null,null,null,null,{"$f":"N13","v":0},{"$f":"COUNTIF(L7:L15,T13)","v":0},{"$f":"U13/(W4-U8)","v":0},{"$f":"IF(V13=0,0,(V13*((LOG(V13))/LOG(2))))","v":0},null,{"$f":"N13","v":0},{"$f":"COUNTIF(L16:L23,Y13)","v":0},{"$f":"Z13/(AB4-Z8)","v":{"$error":"#DIV/0!"}},{"$f":"IF(AA13=0,0,(AA13*((LOG(AA13))/LOG(2))))","v":{"$error":"#DIV/0!"}},null,{"$f":"N13","v":0},{"$f":"COUNTIF(L24:L32,AD13)","v":0},{"$f":"AE13/(AG4-AE8)","v":{"$error":"#DIV/0!"}},{"$f":"IF(AF13=0,0,(AF13*((LOG(AF13))/LOG(2))))","v":{"$error":"#DIV/0!"}},null,{"$f":"N13","v":0},{"$f":"COUNTIF(L33:L40,AI13)","v":0},{"$f":"AJ13/(AL4-AJ8)","v":0},{"$f":"IF(AK13=0,0,(AK13*((LOG(AK13))/LOG(2))))","v":0},null,{"$f":"N13","v":0},{"$f":"COUNTIF(L41:L49,AN13)","v":0},{"$f":"AO13/(AQ4-AO8)","v":0},{"$f":"IF(AP13=0,0,(AP13*((LOG(AP13))/LOG(2))))","v":0},null,{"$f":"N13","v":0},{"$f":"COUNTIF(L50:L57,AS13)","v":0},{"$f":"AT13/(AV4-AT8)","v":0},{"$f":"IF(AU13=0,0,(AU13*((LOG(AU13))/LOG(2))))","v":0}]
[11,939,12,981,null,null,null,null,null,null,0,11,null,null,null,null,null,null,null,{"$f":"N14","v":0},{"$f":"COUNTIF(L7:L15,T14)","v":0},{"$f":"U14/(W4-U8)","v":0},{"$f":"IF(V14=0,0,(V14*((LOG(V14))/LOG(2))))","v":0},null,{"$f":"N14","v":0},{"$f":"COUNTIF(L16:L23,Y14)","v":0},{"$f":"Z14/(AB4-Z8)","v":{"$error":"#DIV/0!"}},{"$f":"IF(AA14=0,0,(AA14*((LOG(AA14))/LOG(2))))","v":{"$error":"#DIV/0!"}},null,{"$f":"N14","v":0},{"$f":"COUNTIF(L24:L32,AD14)","v":0},{"$f":"AE14/(AG4-AE8)","v":{"$error":"#DIV/0!"}},{"$f":"IF(AF14=0,0,(AF14*((LOG(AF14))/LOG(2))))","v":{"$error":"#DIV/0!"}},null,{"$f":"N14","v":0},{"$f":"COUNTIF(L33:L40,AI14)","v":0},{"$f":"AJ14/(AL4-AJ8)","v":0},{"$f":"IF(AK14=0,0,(AK14*((LOG(AK14))/LOG(2))))","v":0},null,{"$f":"N14","v":0},{"$f":"COUNTIF(L41:L49,AN14)","v":0},{"$f":"AO14/(AQ4-AO8)","v":0},{"$f":"IF(AP14=0,0,(AP14*((LOG(AP14))/LOG(2))))","v":0},null,{"$f":"N14","v":0},{"$f":"COUNTIF(L50:L57,AS14)","v":0},{"$f":"AT14/(AV4-AT8)","v":0},{"$f":"IF(AU14=0,0,(AU14*((LOG(AU14))/LOG(2))))","v":0}]
[11,1079,21,1091,null,null,null,null,null,null,0,12,null,null,null,{"$f":"SUM(P7:P14)","v":1},{"$f":"-SUM(Q7:Q14)","v":0.98856016951081926},null,null,null,null,{"$f":"SUM(V7:V14)","v":1},{"$f":"-SUM(W7:W14)","v":1.5},null,null,null,{"$f":"SUM(AA7:AA14)","v":{"$error":"#DIV/0!"}},{"$f":"-SUM(AB7:AB14)","v":{"$error":"#DIV/0!"}},null,null,null,{"$f":"SUM(AF7:AF14)","v":{"$error":"#DIV/0!"}},{"$f":"-SUM(AG7:AG14)","v":{"$error":"#DIV/0!"}},null,null,null,{"$f":"SUM(AK7:AK14)","v":1},{"$f":"-SUM(AL7:AL14)","v":0},null,null,null,{"$f":"SUM(AP7:AP14)","v":1},{"$f":"-SUM(AQ7:AQ14)","v":1},null,null,null,{"$f":"SUM(AU7:AU14)","v":1},{"$f":"-SUM(AV7:AV14)","v":0}]
[11,1180,21,1189,null,null,null,null,null,null,0,12,null,null,null,"U=",{"$f":"Q15/(LOG(Q4)/LOG(2))","v":0.17427469026277878},null,null,null,null,"U1=",{"$f":"W15/(LOG(W4)/LOG(2))","v":0.47319731517859309},null,null,null,"U2=",{"$f":"AB15/(LOG(AB4)/LOG(2))","v":{"$error":"#DIV/0!"}},null,null,null,"U3=",{"$f":"AG15/(LOG(AG4)/LOG(2))","v":{"$error":"#DIV/0!"}},null,null,null,"U4=",{"$f":"AL15/(LOG(AL4)/LOG(2))","v":0},null,null,null,"U5=",{"$f":"AQ15/(LOG(AQ4)/LOG(2))","v":0.31546487678572877},null,null,null,"U6=",{"$f":"AV15/(LOG(AV4)/LOG(2))","v":0}]
[11,1282,21,1291,null,null,null,null,null,null,0,12]
[11,1379,21,1388,null,null,null,null,null,null,0,12]
[11,1478,21,1487,null,null,null,null,null,null,0,12,null,"Total Target Seq"]
[11,1574,21,1595,null,null,null,null,null,null,0,12,null,{"$f":"COUNTIF(L7:L57,G3)","v":40},null,9,8,9,8,9,8]
[11,1684,21,1694,null,null,null,null,null,null,0,12,null,null,null,"% of reinforcement given in 6 equal intervals based on number of trials "]
[11,1780,21,1787,null,null,null,null,null,null,0,12,null,null,null,"%_1","%_2","%_3","%_4","%_5","%_6"]
[11,1873,21,1885,null,null,null,null,null,null,0,12,null,null,"target sequence",{"$f":"$G$3","v":12},{"$f":"$G$3","v":12},{"$f":"$G$3","v":12},{"$f":"$G$3","v":12},{"$f":"$G$3","v":12},{"$f":"$G$3","v":12}]
[11,1973,21,1981,null,null,null,null,null,null,0,12,null,null,"total reinforcement",{"$f":"U8","v":5},{"$f":"Z8","v":8},{"$f":"AE8","v":9},{"$f":"AJ8","v":5},{"$f":"AO8","v":7},{"$f":"AT8","v":6}]
[11,2070,21,2078,null,null,null,null,null,null,0,12,null,null,"% target"]
[11,2176,21,2195,null,null,null,null,null,null,0,12,null,null,"CCRF"]
[11,2282,21,2294,null,null,null,null,null,null,0,12,null,null,"% CCRf"]
[11,2380,21,2405,null,null,null,null,null,null,0,12,null,null,"average response rate",{"$f":"D15/P20","v":121.22222222222223},{"$f":"(D23-D15)/Q20","v":99.25},{"$f":"(D32-D23)/R20","v":105.77777777777777},{"$f":"(D40-D32)/S20","v":106.375},{"$f":"(D49-D40)/T20","v":102.66666666666667},{"$f":"(D57-D49)/U20","v":105.875}]
[11,2492,21,2538,null,null,null,null,null,null,0,12]
[11,2624,21,2634,null,null,null,null,null,null,0,12]
[11,2722,21,2741,null,null,null,null,null,null,0,12]
[11,2828,21,2837,null,null,null,null,null,null,0,12]
[22,2932,23,2941,null,null,null,null,null,null,0,22]
[11,3038,21,3050,null,null,null,null,null,null,0,12]
[22,3145,23,3154,null,null,null,null,null,null,0,22]
[11,3251,21,3260,null,null,null,null,null,null,0,12]
[22,3359,23,3368,null,null,null,null,null,null,0,22]
[11,3469,21,3480,null,null,null,null,null,null,0,12]
[11,3567,21,3579,null,null,null,null,null,null,0,12]
[11,3667,21,3688,null,null,null,null,null,null,0,12]
[11,3775,21,3799,null,null,null,null,null,null,0,12]
[11,3888,21,3897,null,null,null,null,null,null,0,12]
[11,3983,21,3994,null,null,null,null,null,null,0,12]
[11,4081,21,4092,null,null,null,null,null,null,0,12]
[11,4181,21,4190,null,null,null,null,null,null,0,12]
[11,4276,21,4285,null,null,null,null,null,null,0,12]
[22,4374,14,4383,null,null,null,null,null,null,0,21]
[11,4480,21,4491,null,null,null,null,null,null,0,12]
[22,4588,23,4612,null,null,null,null,null,null,0,22]
[11,4709,21,4719,null,null,null,null,null,null,0,12]
[22,4816,23,4824,null,null,null,null,null,null,0,22]
[22,4928,23,4938,null,null,null,null,null,null,0,22]
[11,5037,21,5049,null,null,null,null,null,null,0,12]
[11,5135,21,5145,null,null,null,null,null,null,0,12]
[11,5232,21,5243,null,null,null,null,null,null,0,12]
[11,5330,21,5363,null,null,null,null,null,null,0,12]
[11,5450,21,5459,null,null,null,null,null,null,1,12]

{"sheet":"!MC11840.091","index":12,"n_rows":48,"n_cols":48,"rows_kept":48,"cut":false,"hidden":false,"merged":[[4,39,4,42],[5,39,5,40],[4,44,4,47],[5,44,5,45],[4,24,4,27],[5,24,5,25],[4,29,4,32],[5,29,5,30],[4,34,4,37],[5,34,5,35],[1,1,1,2],[5,13,5,14],[18,13,18,14],[19,13,19,14],[4,19,4,22],[5,19,5,20]]}
["Report for:!MC11840.091"]
["Date:","<date>"]
["Hen:","<hen>",null,null,null,"Correct Sequence",{"$f":"Start!J2","v":12},null,null,null,null,null,null,null,null,"Total Sequences in Data",{"$f":"4994-COUNTBLANK(L7:L5000)","v":42},null,null,null,null,"Total Sequences in Block Data",{"$f":"COUNTA(L7:L13)","v":7},null,null,null,"Total Sequences in Block Data",{"$f":"COUNTA(L14:L20)","v":7},null,null,null,"Total Sequences in Block Data",{"$f":"COUNTA(L21:L27)","v":7},null,null,null,"Total Sequences in Block Data",{"$f":"COUNTA(L28:L34)","v":7},null,null,null,"Total Sequences in Block Data",{"$f":"COUNTA(L35:L41)","v":7},null,null,null,"Total Sequences in Block Data",{"$f":"COUNTA(L42:L48)","v":7}]
[null,null,null,null,null,null,null,null,null,null,null,null,null,null,null,"Total Sequences in Summary",{"$f":"SUM(O7:O14)","v":42},null,null,null,null,"Total Sequences in Block Summary",{"$f":"SUM(U7:U14)","v":7},null,null,null,"Total Sequences in Block Summary",{"$f":"SUM(Z7:Z14)","v":7},null,null,null,"Total Sequences in Block Summary",{"$f":"SUM(AE7:AE14)","v":7},null,null,null,"Total Sequences in Block Summary",{"$f":"SUM(AJ7:AJ14)","v":7},null,null,null,"Total Sequences in Block Summary",{"$f":"SUM(AO7:AO14)","v":7},null,null,null,"Total Sequences in Block Summary",{"$f":"SUM(AT7:AT14)","v":7}]
[null,null,null,null,null,null,null,null,null,null,null,null,null,null,null,null,null,null,null,"Block 1",null,null,null,null,"Block 2",null,null,null,null,"Block 3",null,null,null,null,"Block 4",null,null,null,null,"Block 5",null,null,null,null,"Block 6"]
["Sequence\nComponent\n1","Time\n1","Sequence\nComponent\n2","Time\n2","Sequence\nComponent\n3","Time\n3","Sequence\nComponent\n4","Time\n4","Sequence\nComponent\n5","Time\n5","Correct?\n0=No 1=Yes","Sequence",null,"Frequency",null,"Relative Frequency","Variability",null,null,"Frequency",null,"Relative Frequency","Variability",null,"Frequency",null,"Relative Frequency","Variability",null,"Frequency",null,"Relative Frequency","Variability",null,"Frequency",null,"Relative Frequency","Variability",null,"Frequency",null,"Relative Frequency","Variability",null,"Frequency",null,"Relative Frequency","Variability"]
[22,10,14,33,null,null,null,null,null,null,0,21,null,11,{"$f":"COUNTIF($L$7:$L$500,N7)","v":0},{"$f":"O7/$Q$4","v":0},{"$f":"IF(P7=0,0,(P7*((LOG(P7))/LOG(2))))","v":0},null,null,{"$f":"N7","v":11},{"$f":"COUNTIF(L7:L13,T7)","v":0},{"$f":"U7/(W4-U8)","v":0},{"$f":"IF(V7=0,0,(V7*((LOG(V7))/LOG(2))))","v":0},null,{"$f":"N7","v":11},{"$f":"COUNTIF(L14:L20,Y7)","v":0},{"$f":"Z7/(AB4-Z8)","v":{"$error":"#DIV/0!"}},{"$f":"IF(AA7=0,0,(AA7*((LOG(AA7))/LOG(2))))","v":{"$error":"#DIV/0!"}},null,{"$f":"N7","v":11},{"$f":"COUNTIF(L21:L27,AD7)","v":0},{"$f":"AE7/(AG4-AE8)","v":{"$error":"#DIV/0!"}},{"$f":"IF(AF7=0,0,(AF7*((LOG(AF7))/LOG(2))))","v":{"$error":"#DIV/0!"}},null,{"$f":"N7","v":11},{"$f":"COUNTIF(L28:L34,AI7)","v":0},{"$f":"AJ7/(AL4-AJ8)","v":{"$error":"#DIV/0!"}},{"$f":"IF(AK7=0,0,(AK7*((LOG(AK7))/LOG(2))))","v":{"$error":"#DIV/0!"}},null,{"$f":"N7","v":11},{"$f":"COUNTIF(L35:L41,AN7)","v":0},{"$f":"AO7/(AQ4-AO8)","v":{"$error":"#DIV/0!"}},{"$f":"IF(AP7=0,0,(AP7*((LOG(AP7))/LOG(2))))","v":{"$error":"#DIV/0!"}},null,{"$f":"N7","v":11},{"$f":"COUNTIF(L42:L48,AS7)","v":0},{"$f":"AT7/(AV4-AT8)","v":{"$error":"#DIV/0!"}},{"$f":"IF(AU7=0,0,(AU7*((LOG(AU7))/LOG(2))))","v":{"$error":"#DIV/0!"}}]
[22,142,23,150,null,null,null,null,null,null,0,22,null,12,{"$f":"COUNTIF($L$7:$L$500,N8)","v":40},{"$f":"O8/$Q$4","v":0.95238095238095233},{"$f":"IF(P8=0,0,(P8*((LOG(P8))/LOG(2))))","v":-6.7037455134664775E-2},null,null,{"$f":"N8","v":12},{"$f":"COUNTIF(L7:L13,T8)","v":5},null,null,null,{"$f":"N8","v":12},{"$f":"COUNTIF(L14:L20,Y8)","v":7},null,null,null,{"$f":"N8","v":12},{"$f":"COUNTIF(L21:L27,AD8)","v":7},null,null,null,{"$f":"N8","v":12},{"$f":"COUNTIF(L28:L34,AI8)","v":7},null,null,null,{"$f":"N8","v":12},{"$f":"COUNTIF(L35:L41,AN8)","v":7},null,null,null,{"$f":"N8","v":12},{"$f":"COUNTIF(L42:L48,AS8)","v":7}]
[11,246,21,314,null,null,null,null,null,null,0,12,null,21,{"$f":"COUNTIF($L$7:$L$500,N9)","v":1},{"$f":"O9/$Q$4","v":2.3809523809523808E-2},{"$f":"IF(P9=0,0,(P9*((LOG(P9))/LOG(2))))","v":-0.12838851006616095},null,null,{"$f":"N9","v":21},{"$f":"COUNTIF(L7:L13,T9)","v":1},{"$f":"U9/(W4-U8)","v":0.5},{"$f":"IF(V9=0,0,(V9*((LOG(V9))/LOG(2))))","v":-0.5},null,{"$f":"N9","v":21},{"$f":"COUNTIF(L14:L20,Y9)","v":0},{"$f":"Z9/(AB4-Z8)","v":{"$error":"#DIV/0!"}},{"$f":"IF(AA9=0,0,(AA9*((LOG(AA9))/LOG(2))))","v":{"$error":"#DIV/0!"}},null,{"$f":"N9","v":21},{"$f":"COUNTIF(L21:L27,AD9)","v":0},{"$f":"AE9/(AG4-AE8)","v":{"$error":"#DIV/0!"}},{"$f":"IF(AF9=0,0,(AF9*((LOG(AF9))/LOG(2))))","v":{"$error":"#DIV/0!"}},null,{"$f":"N9","v":21},{"$f":"COUNTIF(L28:L34,AI9)","v":0},{"$f":"AJ9/(AL4-AJ8)","v":{"$error":"#DIV/0!"}},{"$f":"IF(AK9=0,0,(AK9*((LOG(AK9))/LOG(2))))","v":{"$error":"#DIV/0!"}},null,{"$f":"N9","v":21},{"$f":"COUNTIF(L35:L41,AN9)","v":0},{"$f":"AO9/(AQ4-AO8)","v":{"$error":"#DIV/0!"}},{"$f":"IF(AP9=0,0,(AP9*((LOG(AP9))/LOG(2))))","v":{"$error":"#DIV/0!"}},null,{"$f":"N9","v":21},{"$f":"COUNTIF(L42:L48,AS9)","v":0},{"$f":"AT9/(AV4-AT8)","v":{"$error":"#DIV/0!"}},{"$f":"IF(AU9=0,0,(AU9*((LOG(AU9))/LOG(2))))","v":{"$error":"#DIV/0!"}}]
[11,400,21,415,null,null,null,null,null,null,0,12,null,22,{"$f":"COUNTIF($L$7:$L$500,N10)","v":1},{"$f":"O10/$Q$4","v":2.3809523809523808E-2},{"$f":"IF(P10=0,0,(P10*((LOG(P10))/LOG(2))))","v":-0.12838851006616095},null,null,{"$f":"N10","v":22},{"$f":"COUNTIF(L7:L13,T10)","v":1},{"$f":"U10/(W4-U8)","v":0.5},{"$f":"IF(V10=0,0,(V10*((LOG(V10))/LOG(2))))","v":-0.5},null,{"$f":"N10","v":22},{"$f":"COUNTIF(L14:L20,Y10)","v":0},{"$f":"Z10/(AB4-Z8)","v":{"$error":"#DIV/0!"}},{"$f":"IF(AA10=0,0,(AA10*((LOG(AA10))/LOG(2))))","v":{"$error":"#DIV/0!"}},null,{"$f":"N10","v":22},{"$f":"COUNTIF(L21:L27,AD10)","v":0},{"$f":"AE10/(AG4-AE8)","v":{"$error":"#DIV/0!"}},{"$f":"IF(AF10=0,0,(AF10*((LOG(AF10))/LOG(2))))","v":{"$error":"#DIV/0!"}},null,{"$f":"N10","v":22},{"$f":"COUNTIF(L28:L34,AI10)","v":0},{"$f":"AJ10/(AL4-AJ8)","v":{"$error":"#DIV/0!"}},{"$f":"IF(AK10=0,0,(AK10*((LOG(AK10))/LOG(2))))","v":{"$error":"#DIV/0!"}},null,{"$f":"N10","v":22},{"$f":"COUNTIF(L35:L41,AN10)","v":0},{"$f":"AO10/(AQ4-AO8)","v":{"$error":"#DIV/0!"}},{"$f":"IF(AP10=0,0,(AP10*((LOG(AP10))/LOG(2))))","v":{"$error":"#DIV/0!"}},null,{"$f":"N10","v":22},{"$f":"COUNTIF(L42:L48,AS10)","v":0},{"$f":"AT10/(AV4-AT8)","v":{"$error":"#DIV/0!"}},{"$f":"IF(AU10=0,0,(AU10*((LOG(AU10))/LOG(2))))","v":{"$error":"#DIV/0!"}}]
[11,502,21,511,null,null,null,null,null,null,0,12,null,null,null,null,null,null,null,{"$f":"N11","v":0},{"$f":"COUNTIF(L7:L13,T11)","v":0},{"$f":"U11/(W4-U8)","v":0},{"$f":"IF(V11=0,0,(V11*((LOG(V11))/LOG(2))))","v":0},null,{"$f":"N11","v":0},{"$f":"COUNTIF(L14:L20,Y11)","v":0},{"$f":"Z11/(AB4-Z8)","v":{"$error":"#DIV/0!"}},{"$f":"IF(AA11=0,0,(AA11*((LOG(AA11))/LOG(2))))","v":{"$error":"#DIV/0!"}},null,{"$f":"N11","v":0},{"$f":"COUNTIF(L21:L27,AD11)","v":0},{"$f":"AE11/(AG4-AE8)","v":{"$error":"#DIV/0!"}},{"$f":"IF(AF11=0,0,(AF11*((LOG(AF11))/LOG(2))))","v":{"$error":"#DIV/0!"}},null,{"$f":"N11","v":0},{"$f":"COUNTIF(L28:L34,AI11)","v":0},{"$f":"AJ11/(AL4-AJ8)","v":{"$error":"#DIV/0!"}},{"$f":"IF(AK11=0,0,(AK11*((LOG(AK11))/LOG(2))))","v":{"$error":"#DIV/0!"}},null,{"$f":"N11","v":0},{"$f":"COUNTIF(L35:L41,AN11)","v":0},{"$f":"AO11/(AQ4-AO8)","v":{"$error":"#DIV/0!"}},{"$f":"IF(AP11=0,0,(AP11*((LOG(AP11))/LOG(2))))","v":{"$error":"#DIV/0!"}},null,{"$f":"N11","v":0},{"$f":"COUNTIF(L42:L48,AS11)","v":0},{"$f":"AT11/(AV4-AT8)","v":{"$error":"#DIV/0!"}},{"$f":"IF(AU11=0,0,(AU11*((LOG(AU11))/LOG(2))))","v":{"$error":"#DIV/0!"}}]
[11,597,21,608,null,null,null,null,null,null,0,12,null,null,null,null,null,null,null,{"$f":"N12","v":0},{"$f":"COUNTIF(L7:L13,T12)","v":0},{"$f":"U12/(W4-U8)","v":0},{"$f":"IF(V12=0,0,(V12*((LOG(V12))/LOG(2))))","v":0},null,{"$f":"N12","v":0},{"$f":"COUNTIF(L14:L20,Y12)","v":0},{"$f":"Z12/(AB4-Z8)","v":{"$error":"#DIV/0!"}},{"$f":"IF(AA12=0,0,(AA12*((LOG(AA12))/LOG(2))))","v":{"$error":"#DIV/0!"}},null,{"$f":"N12","v":0},{"$f":"COUNTIF(L21:L27,AD12)","v":0},{"$f":"AE12/(AG4-AE8)","v":{"$error":"#DIV/0!"}},{"$f":"IF(AF12=0,0,(AF12*((LOG(AF12))/LOG(2))))","v":{"$error":"#DIV/0!"}},null,{"$f":"N12","v":0},{"$f":"COUNTIF(L28:L34,AI12)","v":0},{"$f":"AJ12/(AL4-AJ8)","v":{"$error":"#DIV/0!"}},{"$f":"IF(AK12=0,0,(AK12*((LOG(AK12))/LOG(2))))","v":{"$error":"#DIV/0!"}},null,{"$f":"N12","v":0},{"$f":"COUNTIF(L35:L41,AN12)","v":0},{"$f":"AO12/(AQ4-AO8)","v":{"$error":"#DIV/0!"}},{"$f":"IF(AP12=0,0,(AP12*((LOG(AP12))/LOG(2))))","v":{"$error":"#DIV/0!"}},null,{"$f":"N12","v":0},{"$f":"COUNTIF(L42:L48,AS12)","v":0},{"$f":"AT12/(AV4-AT8)","v":{"$error":"#DIV/0!"}},{"$f":"IF(AU12=0,0,(AU12*((LOG(AU12))/LOG(2))))","v":{"$error":"#DIV/0!"}}]
[11,697,21,705,null,null,null,null,null,null,0,12,null,null,null,null,null,null,null,{"$f":"N13","v":0},{"$f":"COUNTIF(L7:L13,T13)","v":0},{"$f":"U13/(W4-U8)","v":0},{"$f":"IF(V13=0,0,(V13*((LOG(V13))/LOG(2))))","v":0},null,{"$f":"N13","v":0},{"$f":"COUNTIF(L14:L20,Y13)","v":0},{"$f":"Z13/(AB4-Z8)","v":{"$error":"#DIV/0!"}},{"$f":"IF(AA13=0,0,(AA13*((LOG(AA13))/LOG(2))))","v":{"$error":"#DIV/0!"}},null,{"$f":"N13","v":0},{"$f":"COUNTIF(L21:L27,AD13)","v":0},{"$f":"AE13/(AG4-AE8)","v":{"$error":"#DIV/0!"}},{"$f":"IF(AF13=0,0,(AF13*((LOG(AF13))/LOG(2))))","v":{"$error":"#DIV/0!"}},null,{"$f":"N13","v":0},{"$f":"COUNTIF(L28:L34,AI13)","v":0},{"$f":"AJ13/(AL4-AJ8)","v":{"$error":"#DIV/0!"}},{"$f":"IF(AK13=0,0,(AK13*((LOG(AK13))/LOG(2))))","v":{"$error":"#DIV/0!"}},null,{"$f":"N13","v":0},{"$f":"COUNTIF(L35:L41,AN13)","v":0},{"$f":"AO13/(AQ4-AO8)","v":{"$error":"#DIV/0!"}},{"$f":"IF(AP13=0,0,(AP13*((LOG(AP13))/LOG(2))))","v":{"$error":"#DIV/0!"}},null,{"$f":"N13","v":0},{"$f":"COUNTIF(L42:L48,AS13)","v":0},{"$f":"AT13/(AV4-AT8)","v":{"$error":"#DIV/0!"}},{"$f":"IF(AU13=0,0,(AU13*((LOG(AU13))/LOG(2))))","v":{"$error":"#DIV/0!"}}]
[11,792,21,801,null,null,null,null,null,null,0,12,null,null,null,null,null,null,null,{"$f":"N14","v":0},{"$f":"COUNTIF(L7:L13,T14)","v":0},{"$f":"U14/(W4-U8)","v":0},{"$f":"IF(V14=0,0,(V14*((LOG(V14))/LOG(2))))","v":0},null,{"$f":"N14","v":0},{"$f":"COUNTIF(L14:L20,Y14)","v":0},{"$f":"Z14/(AB4-Z8)","v":{"$error":"#DIV/0!"}},{"$f":"IF(AA14=0,0,(AA14*((LOG(AA14))/LOG(2))))","v":{"$error":"#DIV/0!"}},null,{"$f":"N14","v":0},{"$f":"COUNTIF(L21:L27,AD14)","v":0},{"$f":"AE14/(AG4-AE8)","v":{"$error":"#DIV/0!"}},{"$f":"IF(AF14=0,0,(AF14*((LOG(AF14))/LOG(2))))","v":{"$error":"#DIV/0!"}},null,{"$f":"N14","v":0},{"$f":"COUNTIF(L28:L34,AI14)","v":0},{"$f":"AJ14/(AL4-AJ8)","v":{"$error":"#DIV/0!"}},{"$f":"IF(AK14=0,0,(AK14*((LOG(AK14))/LOG(2))))","v":{"$error":"#DIV/0!"}},null,{"$f":"N14","v":0},{"$f":"COUNTIF(L35:L41,AN14)","v":0},{"$f":"AO14/(AQ4-AO8)","v":{"$error":"#DIV/0!"}},{"$f":"IF(AP14=0,0,(AP14*((LOG(AP14))/LOG(2))))","v":{"$error":"#DIV/0!"}},null,{"$f":"N14","v":0},{"$f":"COUNTIF(L42:L48,AS14)","v":0},{"$f":"AT14/(AV4-AT8)","v":{"$error":"#DIV/0!"}},{"$f":"IF(AU14=0,0,(AU14*((LOG(AU14))/LOG(2))))","v":{"$error":"#DIV/0!"}}]
[11,888,21,897,null,null,null,null,null,null,0,12,null,null,null,{"$f":"SUM(P7:P14)","v":1},{"$f":"-SUM(Q7:Q14)","v":0.3238144752669867},null,null,null,null,{"$f":"SUM(V7:V14)","v":1},{"$f":"-SUM(W7:W14)","v":1},null,null,null,{"$f":"SUM(AA7:AA14)","v":{"$error":"#DIV/0!"}},{"$f":"-SUM(AB7:AB14)","v":{"$error":"#DIV/0!"}},null,null,null,{"$f":"SUM(AF7:AF14)","v":{"$error":"#DIV/0!"}},{"$f":"-SUM(AG7:AG14)","v":{"$error":"#DIV/0!"}},null,null,null,{"$f":"SUM(AK7:AK14)","v":{"$error":"#DIV/0!"}},{"$f":"-SUM(AL7:AL14)","v":{"$error":"#DIV/0!"}},null,null,null,{"$f":"SUM(AP7:AP14)","v":{"$error":"#DIV/0!"}},{"$f":"-SUM(AQ7:AQ14)","v":{"$error":"#DIV/0!"}},null,null,null,{"$f":"SUM(AU7:AU14)","v":{"$error":"#DIV/0!"}},{"$f":"-SUM(AV7:AV14)","v":{"$error":"#DIV/0!"}}]
[11,987,21,995,null,null,null,null,null,null,0,12,null,null,null,"U=",{"$f":"Q15/(LOG(Q4)/LOG(2))","v":6.0051078206022804E-2},null,null,null,null,"U1=",{"$f":"W15/(LOG(W4)/LOG(2))","v":0.35620718710802218},null,null,null,"U2=",{"$f":"AB15/(LOG(AB4)/LOG(2))","v":{"$error":"#DIV/0!"}},null,null,null,"U3=",{"$f":"AG15/(LOG(AG4)/LOG(2))","v":{"$error":"#DIV/0!"}},null,null,null,"U4=",{"$f":"AL15/(LOG(AL4)/LOG(2))","v":{"$error":"#DIV/0!"}},null,null,null,"U5=",{"$f":"AQ15/(LOG(AQ4)/LOG(2))","v":{"$error":"#DIV/0!"}},null,null,null,"U6=",{"$f":"AV15/(LOG(AV4)/LOG(2))","v":{"$error":"#DIV/0!"}}]
[11,1082,21,1094,null,null,null,null,null,null,0,12]
[11,1181,21,1190,null,null,null,null,null,null,0,12]
[11,1274,21,1285,null,null,null,null,null,null,0,12,null,"Total Target Seq"]
[11,1370,21,1380,null,null,null,null,null,null,0,12,null,{"$f":"COUNTIF(L7:L48,G3)","v":40},null,7,7,7,7,7,7]
[11,1467,21,1475,null,null,null,null,null,null,0,12,null,null,null,"% of reinforcement given in 6 equal intervals based on number of trials "]
[11,1561,21,1570,null,null,null,null,null,null,0,12,null,null,null,"%_1","%_2","%_3","%_4","%_5","%_6"]
[11,1658,21,1666,null,null,null,null,null,null,0,12,null,null,"target sequence",{"$f":"$G$3","v":12},{"$f":"$G$3","v":12},{"$f":"$G$3","v":12},{"$f":"$G$3","v":12},{"$f":"$G$3","v":12},{"$f":"$G$3","v":12}]
[11,1753,21,1761,null,null,null,null,null,null,0,12,null,null,"total reinforcement",{"$f":"U8","v":5},{"$f":"Z8","v":7},{"$f":"AE8","v":7},{"$f":"AJ8","v":7},{"$f":"AO8","v":7},{"$f":"AT8","v":7}]
[11,1849,21,1858,null,null,null,null,null,null,0,12,null,null,"% target"]
[11,1944,21,1953,null,null,null,null,null,null,0,12,null,null,"CCRF"]
[11,2039,21,2047,null,null,null,null,null,null,0,12,null,null,"% CCRf"]
[11,2136,21,2144,null,null,null,null,null,null,0,12,null,null,"average response rate",{"$f":"D13/P20","v":100.71428571428571},{"$f":"(D20-D13)/Q20","v":96.428571428571431},{"$f":"(D27-D20)/R20","v":95.285714285714292},{"$f":"(D34-D27)/S20","v":96.142857142857139},{"$f":"(D41-D34)/T20","v":97.428571428571431},{"$f":"(D48-D41)/U20","v":98.285714285714292}]
[11,2230,21,2239,null,null,null,null,null,null,0,12]
[11,2328,21,2337,null,null,null,null,null,null,0,12]
[11,2423,21,2433,null,null,null,null,null,null,0,12]
[11,2520,21,2529,null,null,null,null,null,null,0,12]
[11,2615,21,2623,null,null,null,null,null,null,0,12]
[11,2711,21,2720,null,null,null,null,null,null,0,12]
[11,2806,21,2814,null,null,null,null,null,null,0,12]
[11,2902,21,2911,null,null,null,null,null,null,0,12]
[11,2997,21,3006,null,null,null,null,null,null,0,12]
[11,3092,21,3101,null,null,null,null,null,null,0,12]
[11,3188,21,3196,null,null,null,null,null,null,0,12]
[11,3286,21,3297,null,null,null,null,null,null,0,12]
[11,3393,21,3402,null,null,null,null,null,null,0,12]
[11,3487,21,3496,null,null,null,null,null,null,0,12]
[11,3581,21,3593,null,null,null,null,null,null,0,12]
[11,3680,21,3688,null,null,null,null,null,null,0,12]
[11,3775,21,3785,null,null,null,null,null,null,0,12]
[11,3872,21,3895,null,null,null,null,null,null,0,12]
[11,3983,21,3991,null,null,null,null,null,null,0,12]
[11,4081,21,4090,null,null,null,null,null,null,1,12]

{"sheet":"!MC12800.091","index":13,"n_rows":50,"n_cols":48,"rows_kept":50,"cut":false,"hidden":false,"merged":[[4,39,4,42],[5,39,5,40],[4,44,4,47],[5,44,5,45],[4,24,4,27],[5,24,5,25],[4,29,4,32],[5,29,5,30],[4,34,4,37],[5,34,5,35],[1,1,1,2],[5,13,5,14],[18,13,18,14],[19,13,19,14],[4,19,4,22],[5,19,5,20]]}
["Report for:!MC12800.091"]
["Date:","<date>"]
["Hen:","<hen>",null,null,null,"Correct Sequence",{"$f":"Start!J2","v":12},null,null,null,null,null,null,null,null,"Total Sequences in Data",{"$f":"4994-COUNTBLANK(L7:L5000)","v":44},null,null,null,null,"Total Sequences in Block Data",{"$f":"COUNTA(L7:L13)","v":7},null,null,null,"Total Sequences in Block Data",{"$f":"COUNTA(L14:L21)","v":8},null,null,null,"Total Sequences in Block Data",{"$f":"COUNTA(L22:L28)","v":7},null,null,null,"Total Sequences in Block Data",{"$f":"COUNTA(L29:L35)","v":7},null,null,null,"Total Sequences in Block Data",{"$f":"COUNTA(L36:L43)","v":8},null,null,null,"Total Sequences in Block Data",{"$f":"COUNTA(L44:L50)","v":7}]
[null,null,null,null,null,null,null,null,null,null,null,null,null,null,null,"Total Sequences in Summary",{"$f":"SUM(O7:O14)","v":44},null,null,null,null,"Total Sequences in Block Summary",{"$f":"SUM(U7:U14)","v":7},null,null,null,"Total Sequences in Block Summary",{"$f":"SUM(Z7:Z14)","v":8},null,null,null,"Total Sequences in Block Summary",{"$f":"SUM(AE7:AE14)","v":7},null,null,null,"Total Sequences in Block Summary",{"$f":"SUM(AJ7:AJ14)","v":7},null,null,null,"Total Sequences in Block Summary",{"$f":"SUM(AO7:AO14)","v":8},null,null,null,"Total Sequences in Block Summary",{"$f":"SUM(AT7:AT14)","v":7}]
[null,null,null,null,null,null,null,null,null,null,null,null,null,null,null,null,null,null,null,"Block 1",null,null,null,null,"Block 2",null,null,null,null,"Block 3",null,null,null,null,"Block 4",null,null,null,null,"Block 5",null,null,null,null,"Block 6"]
["Sequence\nComponent\n1","Time\n1","Sequence\nComponent\n2","Time\n2","Sequence\nComponent\n3","Time\n3","Sequence\nComponent\n4","Time\n4","Sequence\nComponent\n5","Time\n5","Correct?\n0=No 1=Yes","Sequence",null,"Frequency",null,"Relative Frequency","Variability",null,null,"Frequency",null,"Relative Frequency","Variability",null,"Frequency",null,"Relative Frequency","Variability",null,"Frequency",null,"Relative Frequency","Variability",null,"Frequency",null,"Relative Frequency","Variability",null,"Frequency",null,"Relative Frequency","Variability",null,"Frequency",null,"Relative Frequency","Variability"]
[11,7,21,27,null,null,null,null,null,null,0,12,null,11,{"$f":"COUNTIF($L$7:$L$500,N7)","v":0},{"$f":"O7/$Q$4","v":0},{"$f":"IF(P7=0,0,(P7*((LOG(P7))/LOG(2))))","v":0},null,null,{"$f":"N7","v":11},{"$f":"COUNTIF(L7:L13,T7)","v":0},{"$f":"U7/(W4-U8)","v":{"$error":"#DIV/0!"}},{"$f":"IF(V7=0,0,(V7*((LOG(V7))/LOG(2))))","v":{"$error":"#DIV/0!"}},null,{"$f":"N7","v":11},{"$f":"COUNTIF(L14:L21,Y7)","v":0},{"$f":"Z7/(AB4-Z8)","v":0},{"$f":"IF(AA7=0,0,(AA7*((LOG(AA7))/LOG(2))))","v":0},null,{"$f":"N7","v":11},{"$f":"COUNTIF(L22:L28,AD7)","v":0},{"$f":"AE7/(AG4-AE8)","v":{"$error":"#DIV/0!"}},{"$f":"IF(AF7=0,0,(AF7*((LOG(AF7))/LOG(2))))","v":{"$error":"#DIV/0!"}},null,{"$f":"N7","v":11},{"$f":"COUNTIF(L29:L35,AI7)","v":0},{"$f":"AJ7/(AL4-AJ8)","v":{"$error":"#DIV/0!"}},{"$f":"IF(AK7=0,0,(AK7*((LOG(AK7))/LOG(2))))","v":{"$error":"#DIV/0!"}},null,{"$f":"N7","v":11},{"$f":"COUNTIF(L36:L43,AN7)","v":0},{"$f":"AO7/(AQ4-AO8)","v":{"$error":"#DIV/0!"}},{"$f":"IF(AP7=0,0,(AP7*((LOG(AP7))/LOG(2))))","v":{"$error":"#DIV/0!"}},null,{"$f":"N7","v":11},{"$f":"COUNTIF(L44:L50,AS7)","v":0},{"$f":"AT7/(AV4-AT8)","v":0},{"$f":"IF(AU7=0,0,(AU7*((LOG(AU7))/LOG(2))))","v":0}]
[11,115,21,124,null,null,null,null,null,null,0,12,null,12,{"$f":"COUNTIF($L$7:$L$500,N8)","v":40},{"$f":"O8/$Q$4","v":0.90909090909090906},{"$f":"IF(P8=0,0,(P8*((LOG(P8))/LOG(2))))","v":-0.12500320340903179},null,null,{"$f":"N8","v":12},{"$f":"COUNTIF(L7:L13,T8)","v":7},null,null,null,{"$f":"N8","v":12},{"$f":"COUNTIF(L14:L21,Y8)","v":6},null,null,null,{"$f":"N8","v":12},{"$f":"COUNTIF(L22:L28,AD8)","v":7},null,null,null,{"$f":"N8","v":12},{"$f":"COUNTIF(L29:L35,AI8)","v":7},null,null,null,{"$f":"N8","v":12},{"$f":"COUNTIF(L36:L43,AN8)","v":8},null,null,null,{"$f":"N8","v":12},{"$f":"COUNTIF(L44:L50,AS8)","v":5}]
[11,213,21,222,null,null,null,null,null,null,0,12,null,21,{"$f":"COUNTIF($L$7:$L$500,N9)","v":0},{"$f":"O9/$Q$4","v":0},{"$f":"IF(P9=0,0,(P9*((LOG(P9))/LOG(2))))","v":0},null,null,{"$f":"N9","v":21},{"$f":"COUNTIF(L7:L13,T9)","v":0},{"$f":"U9/(W4-U8)","v":{"$error":"#DIV/0!"}},{"$f":"IF(V9=0,0,(V9*((LOG(V9))/LOG(2))))","v":{"$error":"#DIV/0!"}},null,{"$f":"N9","v":21},{"$f":"COUNTIF(L14:L21,Y9)","v":0},{"$f":"Z9/(AB4-Z8)","v":0},{"$f":"IF(AA9=0,0,(AA9*((LOG(AA9))/LOG(2))))","v":0},null,{"$f":"N9","v":21},{"$f":"COUNTIF(L22:L28,AD9)","v":0},{"$f":"AE9/(AG4-AE8)","v":{"$error":"#DIV/0!"}},{"$f":"IF(AF9=0,0,(AF9*((LOG(AF9))/LOG(2))))","v":{"$error":"#DIV/0!"}},null,{"$f":"N9","v":21},{"$f":"COUNTIF(L29:L35,AI9)","v":0},{"$f":"AJ9/(AL4-AJ8)","v":{"$error":"#DIV/0!"}},{"$f":"IF(AK9=0,0,(AK9*((LOG(AK9))/LOG(2))))","v":{"$error":"#DIV/0!"}},null,{"$f":"N9","v":21},{"$f":"COUNTIF(L36:L43,AN9)","v":0},{"$f":"AO9/(AQ4-AO8)","v":{"$error":"#DIV/0!"}},{"$f":"IF(AP9=0,0,(AP9*((LOG(AP9))/LOG(2))))","v":{"$error":"#DIV/0!"}},null,{"$f":"N9","v":21},{"$f":"COUNTIF(L44:L50,AS9)","v":0},{"$f":"AT9/(AV4-AT8)","v":0},{"$f":"IF(AU9=0,0,(AU9*((LOG(AU9))/LOG(2))))","v":0}]
[11,310,21,319,null,null,null,null,null,null,0,12,null,22,{"$f":"COUNTIF($L$7:$L$500,N10)","v":4},{"$f":"O10/$Q$4","v":9.0909090909090912E-2},{"$f":"IF(P10=0,0,(P10*((LOG(P10))/LOG(2))))","v":-0.31449378351248153},null,null,{"$f":"N10","v":22},{"$f":"COUNTIF(L7:L13,T10)","v":0},{"$f":"U10/(W4-U8)","v":{"$error":"#DIV/0!"}},{"$f":"IF(V10=0,0,(V10*((LOG(V10))/LOG(2))))","v":{"$error":"#DIV/0!"}},null,{"$f":"N10","v":22},{"$f":"COUNTIF(L14:L21,Y10)","v":2},{"$f":"Z10/(AB4-Z8)","v":1},{"$f":"IF(AA10=0,0,(AA10*((LOG(AA10))/LOG(2))))","v":0},null,{"$f":"N10","v":22},{"$f":"COUNTIF(L22:L28,AD10)","v":0},{"$f":"AE10/(AG4-AE8)","v":{"$error":"#DIV/0!"}},{"$f":"IF(AF10=0,0,(AF10*((LOG(AF10))/LOG(2))))","v":{"$error":"#DIV/0!"}},null,{"$f":"N10","v":22},{"$f":"COUNTIF(L29:L35,AI10)","v":0},{"$f":"AJ10/(AL4-AJ8)","v":{"$error":"#DIV/0!"}},{"$f":"IF(AK10=0,0,(AK10*((LOG(AK10))/LOG(2))))","v":{"$error":"#DIV/0!"}},null,{"$f":"N10","v":22},{"$f":"COUNTIF(L36:L43,AN10)","v":0},{"$f":"AO10/(AQ4-AO8)","v":{"$error":"#DIV/0!"}},{"$f":"IF(AP10=0,0,(AP10*((LOG(AP10))/LOG(2))))","v":{"$error":"#DIV/0!"}},null,{"$f":"N10","v":22},{"$f":"COUNTIF(L44:L50,AS10)","v":2},{"$f":"AT10/(AV4-AT8)","v":1},{"$f":"IF(AU10=0,0,(AU10*((LOG(AU10))/LOG(2))))","v":0}]
[11,406,21,418,null,null,null,null,null,null,0,12,null,null,null,null,null,null,null,{"$f":"N11","v":0},{"$f":"COUNTIF(L7:L13,T11)","v":0},{"$f":"U11/(W4-U8)","v":{"$error":"#DIV/0!"}},{"$f":"IF(V11=0,0,(V11*((LOG(V11))/LOG(2))))","v":{"$error":"#DIV/0!"}},null,{"$f":"N11","v":0},{"$f":"COUNTIF(L14:L21,Y11)","v":0},{"$f":"Z11/(AB4-Z8)","v":0},{"$f":"IF(AA11=0,0,(AA11*((LOG(AA11))/LOG(2))))","v":0},null,{"$f":"N11","v":0},{"$f":"COUNTIF(L22:L28,AD11)","v":0},{"$f":"AE11/(AG4-AE8)","v":{"$error":"#DIV/0!"}},{"$f":"IF(AF11=0,0,(AF11*((LOG(AF11))/LOG(2))))","v":{"$error":"#DIV/0!"}},null,{"$f":"N11","v":0},{"$f":"COUNTIF(L29:L35,AI11)","v":0},{"$f":"AJ11/(AL4-AJ8)","v":{"$error":"#DIV/0!"}},{"$f":"IF(AK11=0,0,(AK11*((LOG(AK11))/LOG(2))))","v":{"$error":"#DIV/0!"}},null,{"$f":"N11","v":0},{"$f":"COUNTIF(L36:L43,AN11)","v":0},{"$f":"AO11/(AQ4-AO8)","v":{"$error":"#DIV/0!"}},{"$f":"IF(AP11=0,0,(AP11*((LOG(AP11))/LOG(2))))","v":{"$error":"#DIV/0!"}},null,{"$f":"N11","v":0},{"$f":"COUNTIF(L44:L50,AS11)","v":0},{"$f":"AT11/(AV4-AT8)","v":0},{"$f":"IF(AU11=0,0,(AU11*((LOG(AU11))/LOG(2))))","v":0}]
[11,503,21,512,null,null,null,null,null,null,0,12,null,null,null,null,null,null,null,{"$f":"N12","v":0},{"$f":"COUNTIF(L7:L13,T12)","v":0},{"$f":"U12/(W4-U8)","v":{"$error":"#DIV/0!"}},{"$f":"IF(V12=0,0,(V12*((LOG(V12))/LOG(2))))","v":{"$error":"#DIV/0!"}},null,{"$f":"N12","v":0},{"$f":"COUNTIF(L14:L21,Y12)","v":0},{"$f":"Z12/(AB4-Z8)","v":0},{"$f":"IF(AA12=0,0,(AA12*((LOG(AA12))/LOG(2))))","v":0},null,{"$f":"N12","v":0},{"$f":"COUNTIF(L22:L28,AD12)","v":0},{"$f":"AE12/(AG4-AE8)","v":{"$error":"#DIV/0!"}},{"$f":"IF(AF12=0,0,(AF12*((LOG(AF12))/LOG(2))))","v":{"$error":"#DIV/0!"}},null,{"$f":"N12","v":0},{"$f":"COUNTIF(L29:L35,AI12)","v":0},{"$f":"AJ12/(AL4-AJ8)","v":{"$error":"#DIV/0!"}},{"$f":"IF(AK12=0,0,(AK12*((LOG(AK12))/LOG(2))))","v":{"$error":"#DIV/0!"}},null,{"$f":"N12","v":0},{"$f":"COUNTIF(L36:L43,AN12)","v":0},{"$f":"AO12/(AQ4-AO8)","v":{"$error":"#DIV/0!"}},{"$f":"IF(AP12=0,0,(AP12*((LOG(AP12))/LOG(2))))","v":{"$error":"#DIV/0!"}},null,{"$f":"N12","v":0},{"$f":"COUNTIF(L44:L50,AS12)","v":0},{"$f":"AT12/(AV4-AT8)","v":0},{"$f":"IF(AU12=0,0,(AU12*((LOG(AU12))/LOG(2))))","v":0}]
[11,599,21,609,null,null,null,null,null,null,0,12,null,null,null,null,null,null,null,{"$f":"N13","v":0},{"$f":"COUNTIF(L7:L13,T13)","v":0},{"$f":"U13/(W4-U8)","v":{"$error":"#DIV/0!"}},{"$f":"IF(V13=0,0,(V13*((LOG(V13))/LOG(2))))","v":{"$error":"#DIV/0!"}},null,{"$f":"N13","v":0},{"$f":"COUNTIF(L14:L21,Y13)","v":0},{"$f":"Z13/(AB4-Z8)","v":0},{"$f":"IF(AA13=0,0,(AA13*((LOG(AA13))/LOG(2))))","v":0},null,{"$f":"N13","v":0},{"$f":"COUNTIF(L22:L28,AD13)","v":0},{"$f":"AE13/(AG4-AE8)","v":{"$error":"#DIV/0!"}},{"$f":"IF(AF13=0,0,(AF13*((LOG(AF13))/LOG(2))))","v":{"$error":"#DIV/0!"}},null,{"$f":"N13","v":0},{"$f":"COUNTIF(L29:L35,AI13)","v":0},{"$f":"AJ13/(AL4-AJ8)","v":{"$error":"#DIV/0!"}},{"$f":"IF(AK13=0,0,(AK13*((LOG(AK13))/LOG(2))))","v":{"$error":"#DIV/0!"}},null,{"$f":"N13","v":0},{"$f":"COUNTIF(L36:L43,AN13)","v":0},{"$f":"AO13/(AQ4-AO8)","v":{"$error":"#DIV/0!"}},{"$f":"IF(AP13=0,0,(AP13*((LOG(AP13))/LOG(2))))","v":{"$error":"#DIV/0!"}},null,{"$f":"N13","v":0},{"$f":"COUNTIF(L44:L50,AS13)","v":0},{"$f":"AT13/(AV4-AT8)","v":0},{"$f":"IF(AU13=0,0,(AU13*((LOG(AU13))/LOG(2))))","v":0}]
[11,697,21,706,null,null,null,null,null,null,0,12,null,null,null,null,null,null,null,{"$f":"N14","v":0},{"$f":"COUNTIF(L7:L13,T14)","v":0},{"$f":"U14/(W4-U8)","v":{"$error":"#DIV/0!"}},{"$f":"IF(V14=0,0,(V14*((LOG(V14))/LOG(2))))","v":{"$error":"#DIV/0!"}},null,{"$f":"N14","v":0},{"$f":"COUNTIF(L14:L21,Y14)","v":0},{"$f":"Z14/(AB4-Z8)","v":0},{"$f":"IF(AA14=0,0,(AA14*((LOG(AA14))/LOG(2))))","v":0},null,{"$f":"N14","v":0},{"$f":"COUNTIF(L22:L28,AD14)","v":0},{"$f":"AE14/(AG4-AE8)","v":{"$error":"#DIV/0!"}},{"$f":"IF(AF14=0,0,(AF14*((LOG(AF14))/LOG(2))))","v":{"$error":"#DIV/0!"}},null,{"$f":"N14","v":0},{"$f":"COUNTIF(L29:L35,AI14)","v":0},{"$f":"AJ14/(AL4-AJ8)","v":{"$error":"#DIV/0!"}},{"$f":"IF(AK14=0,0,(AK14*((LOG(AK14))/LOG(2))))","v":{"$error":"#DIV/0!"}},null,{"$f":"N14","v":0},{"$f":"COUNTIF(L36:L43,AN14)","v":0},{"$f":"AO14/(AQ4-AO8)","v":{"$error":"#DIV/0!"}},{"$f":"IF(AP14=0,0,(AP14*((LOG(AP14))/LOG(2))))","v":{"$error":"#DIV/0!"}},null,{"$f":"N14","v":0},{"$f":"COUNTIF(L44:L50,AS14)","v":0},{"$f":"AT14/(AV4-AT8)","v":0},{"$f":"IF(AU14=0,0,(AU14*((LOG(AU14))/LOG(2))))","v":0}]
[11,795,21,804,null,null,null,null,null,null,0,12,null,null,null,{"$f":"SUM(P7:P14)","v":1},{"$f":"-SUM(Q7:Q14)","v":0.43949698692151329},null,null,null,null,{"$f":"SUM(V7:V14)","v":{"$error":"#DIV/0!"}},{"$f":"-SUM(W7:W14)","v":{"$error":"#DIV/0!"}},null,null,null,{"$f":"SUM(AA7:AA14)","v":1},{"$f":"-SUM(AB7:AB14)","v":0},null,null,null,{"$f":"SUM(AF7:AF14)","v":{"$error":"#DIV/0!"}},{"$f":"-SUM(AG7:AG14)","v":{"$error":"#DIV/0!"}},null,null,null,{"$f":"SUM(AK7:AK14)","v":{"$error":"#DIV/0!"}},{"$f":"-SUM(AL7:AL14)","v":{"$error":"#DIV/0!"}},null,null,null,{"$f":"SUM(AP7:AP14)","v":{"$error":"#DIV/0!"}},{"$f":"-SUM(AQ7:AQ14)","v":{"$error":"#DIV/0!"}},null,null,null,{"$f":"SUM(AU7:AU14)","v":1},{"$f":"-SUM(AV7:AV14)","v":0}]
[11,891,21,900,null,null,null,null,null,null,0,12,null,null,null,"U=",{"$f":"Q15/(LOG(Q4)/LOG(2))","v":8.0502333873212623E-2},null,null,null,null,"U1=",{"$f":"W15/(LOG(W4)/LOG(2))","v":{"$error":"#DIV/0!"}},null,null,null,"U2=",{"$f":"AB15/(LOG(AB4)/LOG(2))","v":0},null,null,null,"U3=",{"$f":"AG15/(LOG(AG4)/LOG(2))","v":{"$error":"#DIV/0!"}},null,null,null,"U4=",{"$f":"AL15/(LOG(AL4)/LOG(2))","v":{"$error":"#DIV/0!"}},null,null,null,"U5=",{"$f":"AQ15/(LOG(AQ4)/LOG(2))","v":{"$error":"#DIV/0!"}},null,null,null,"U6=",{"$f":"AV15/(LOG(AV4)/LOG(2))","v":0}]
[11,986,21,996,null,null,null,null,null,null,0,12]
[11,1084,21,1093,null,null,null,null,null,null,0,12]
[11,1180,21,1189,null,null,null,null,null,null,0,12,null,"Total Target Seq"]
[22,1291,23,1308,null,null,null,null,null,null,0,22,null,{"$f":"COUNTIF(L7:L50,G3)","v":40},null,7,8,7,7,8,7]
[22,1414,23,1427,null,null,null,null,null,null,0,22,null,null,null,"% of reinforcement given in 6 equal intervals based on number of trials "]
[11,1525,21,1535,null,null,null,null,null,null,0,12,null,null,null,"%_1","%_2","%_3","%_4","%_5","%_6"]
[11,1622,21,1691,null,null,null,null,null,null,0,12,null,null,"target sequence",{"$f":"$G$3","v":12},{"$f":"$G$3","v":12},{"$f":"$G$3","v":12},{"$f":"$G$3","v":12},{"$f":"$G$3","v":12},{"$f":"$G$3","v":12}]
[11,1787,21,1803,null,null,null,null,null,null,0,12,null,null,"total reinforcement",{"$f":"U8","v":7},{"$f":"Z8","v":6},{"$f":"AE8","v":7},{"$f":"AJ8","v":7},{"$f":"AO8","v":8},{"$f":"AT8","v":5}]
[11,1890,21,1900,null,null,null,null,null,null,0,12,null,null,"% target"]
[11,1986,21,1996,null,null,null,null,null,null,0,12,null,null,"CCRF"]
[11,2080,21,2090,null,null,null,null,null,null,0,12,null,null,"% CCRf"]
[11,2176,21,2185,null,null,null,null,null,null,0,12,null,null,"average response rate",{"$f":"D13/P20","v":87},{"$f":"(D21-D13)/Q20","v":102.25},{"$f":"(D28-D21)/R20","v":108.28571428571429},{"$f":"(D35-D28)/S20","v":99.428571428571431},{"$f":"(D43-D35)/T20","v":97.875},{"$f":"(D50-D43)/U20","v":105.57142857142857}]
[11,2271,21,2280,null,null,null,null,null,null,0,12]
[11,2366,21,2375,null,null,null,null,null,null,0,12]
[11,2461,21,2470,null,null,null,null,null,null,0,12]
[11,2557,21,2583,null,null,null,null,null,null,0,12]
[11,2675,21,2690,null,null,null,null,null,null,0,12]
[11,2778,21,2787,null,null,null,null,null,null,0,12]
[11,2872,21,2881,null,null,null,null,null,null,0,12]
[11,2968,21,2977,null,null,null,null,null,null,0,12]
[11,3064,21,3075,null,null,null,null,null,null,0,12]
[11,3161,21,3170,null,null,null,null,null,null,0,12]
[11,3256,21,3269,null,null,null,null,null,null,0,12]
[11,3356,21,3365,null,null,null,null,null,null,0,12]
[11,3451,21,3460,null,null,null,null,null,null,0,12]
[11,3547,21,3556,null,null,null,null,null,null,0,12]
[11,3647,21,3664,null,null,null,null,null,null,0,12]
[11,3751,21,3759,null,null,null,null,null,null,0,12]
[11,3845,21,3855,null,null,null,null,null,null,0,12]
[22,3966,23,3974,null,null,null,null,null,null,0,22]
[22,4082,23,4095,null,null,null,null,null,null,0,22]
[11,4192,21,4204,null,null,null,null,null,null,0,12]
[11,4293,21,4308,null,null,null,null,null,null,0,12]
[11,4394,21,4403,null,null,null,null,null,null,1,12]

{"sheet":"!MC14850.091","index":14,"n_rows":55,"n_cols":48,"rows_kept":55,"cut":false,"hidden":false,"merged":[[4,39,4,42],[5,39,5,40],[4,44,4,47],[5,44,5,45],[4,24,4,27],[5,24,5,25],[4,29,4,32],[5,29,5,30],[4,34,4,37],[5,34,5,35],[1,1,1,2],[5,13,5,14],[18,13,18,14],[19,13,19,14],[4,19,4,22],[5,19,5,20]]}
["Report for:!MC14850.091"]
["Date:","<date>"]
["Hen:","<hen>",null,null,null,"Correct Sequence",{"$f":"Start!J2","v":12},null,null,null,null,null,null,null,null,"Total Sequences in Data",{"$f":"4994-COUNTBLANK(L7:L5000)","v":49},null,null,null,null,"Total Sequences in Block Data",{"$f":"COUNTA(L7:L14)","v":8},null,null,null,"Total Sequences in Block Data",{"$f":"COUNTA(L15:L22)","v":8},null,null,null,"Total Sequences in Block Data",{"$f":"COUNTA(L23:L31)","v":9},null,null,null,"Total Sequences in Block Data",{"$f":"COUNTA(L32:L39)","v":8},null,null,null,"Total Sequences in Block Data",{"$f":"COUNTA(L40:L47)","v":8},null,null,null,"Total Sequences in Block Data",{"$f":"COUNTA(L48:L55)","v":8}]
[null,null,null,null,null,null,null,null,null,null,null,null,null,null,null,"Total Sequences in Summary",{"$f":"SUM(O7:O14)","v":49},null,null,null,null,"Total Sequences in Block Summary",{"$f":"SUM(U7:U14)","v":8},null,null,null,"Total Sequences in Block Summary",{"$f":"SUM(Z7:Z14)","v":8},null,null,null,"Total Sequences in Block Summary",{"$f":"SUM(AE7:AE14)","v":9},null,null,null,"Total Sequences in Block Summary",{"$f":"SUM(AJ7:AJ14)","v":8},null,null,null,"Total Sequences in Block Summary",{"$f":"SUM(AO7:AO14)","v":8},null,null,null,"Total Sequences in Block Summary",{"$f":"SUM(AT7:AT14)","v":8}]
[null,null,null,null,null,null,null,null,null,null,null,null,null,null,null,null,null,null,null,"Block 1",null,null,null,null,"Block 2",null,null,null,null,"Block 3",null,null,null,null,"Block 4",null,null,null,null,"Block 5",null,null,null,null,"Block 6"]
["Sequence\nComponent\n1","Time\n1","Sequence\nComponent\n2","Time\n2","Sequence\nComponent\n3","Time\n3","Sequence\nComponent\n4","Time\n4","Sequence\nComponent\n5","Time\n5","Correct?\n0=No 1=Yes","Sequence",null,"Frequency",null,"Relative Frequency","Variability",null,null,"Frequency",null,"Relative Frequency","Variability",null,"Frequency",null,"Relative Frequency","Variability",null,"Frequency",null,"Relative Frequency","Variability",null,"Frequency",null,"Relative Frequency","Variability",null,"Frequency",null,"Relative Frequency","Variability",null,"Frequency",null,"Relative Frequency","Variability"]
[22,16,23,27,null,null,null,null,null,null,0,22,null,11,{"$f":"COUNTIF($L$7:$L$500,N7)","v":2},{"$f":"O7/$Q$4","v":4.0816326530612242E-2},{"$f":"IF(P7=0,0,(P7*((LOG(P7))/LOG(2))))","v":-0.18835550384143707},null,null,{"$f":"N7","v":11},{"$f":"COUNTIF(L7:L14,T7)","v":0},{"$f":"U7/(W4-U8)","v":0},{"$f":"IF(V7=0,0,(V7*((LOG(V7))/LOG(2))))","v":0},null,{"$f":"N7","v":11},{"$f":"COUNTIF(L15:L22,Y7)","v":0},{"$f":"Z7/(AB4-Z8)","v":{"$error":"#DIV/0!"}},{"$f":"IF(AA7=0,0,(AA7*((LOG(AA7))/LOG(2))))","v":{"$error":"#DIV/0!"}},null,{"$f":"N7","v":11},{"$f":"COUNTIF(L23:L31,AD7)","v":0},{"$f":"AE7/(AG4-AE8)","v":{"$error":"#DIV/0!"}},{"$f":"IF(AF7=0,0,(AF7*((LOG(AF7))/LOG(2))))","v":{"$error":"#DIV/0!"}},null,{"$f":"N7","v":11},{"$f":"COUNTIF(L32:L39,AI7)","v":2},{"$f":"AJ7/(AL4-AJ8)","v":0.66666666666666663},{"$f":"IF(AK7=0,0,(AK7*((LOG(AK7))/LOG(2))))","v":-0.38997500048077083},null,{"$f":"N7","v":11},{"$f":"COUNTIF(L40:L47,AN7)","v":0},{"$f":"AO7/(AQ4-AO8)","v":0},{"$f":"IF(AP7=0,0,(AP7*((LOG(AP7))/LOG(2))))","v":0},null,{"$f":"N7","v":11},{"$f":"COUNTIF(L48:L55,AS7)","v":0},{"$f":"AT7/(AV4-AT8)","v":0},{"$f":"IF(AU7=0,0,(AU7*((LOG(AU7))/LOG(2))))","v":0}]
[22,144,23,218,null,null,null,null,null,null,0,22,null,12,{"$f":"COUNTIF($L$7:$L$500,N8)","v":40},{"$f":"O8/$Q$4","v":0.81632653061224492},{"$f":"IF(P8=0,0,(P8*((LOG(P8))/LOG(2))))","v":-0.23900550957375172},null,null,{"$f":"N8","v":12},{"$f":"COUNTIF(L7:L14,T8)","v":4},null,null,null,{"$f":"N8","v":12},{"$f":"COUNTIF(L15:L22,Y8)","v":8},null,null,null,{"$f":"N8","v":12},{"$f":"COUNTIF(L23:L31,AD8)","v":9},null,null,null,{"$f":"N8","v":12},{"$f":"COUNTIF(L32:L39,AI8)","v":5},null,null,null,{"$f":"N8","v":12},{"$f":"COUNTIF(L40:L47,AN8)","v":7},null,null,null,{"$f":"N8","v":12},{"$f":"COUNTIF(L48:L55,AS8)","v":7}]
[11,320,21,330,null,null,null,null,null,null,0,12,null,21,{"$f":"COUNTIF($L$7:$L$500,N9)","v":2},{"$f":"O9/$Q$4","v":4.0816326530612242E-2},{"$f":"IF(P9=0,0,(P9*((LOG(P9))/LOG(2))))","v":-0.18835550384143707},null,null,{"$f":"N9","v":21},{"$f":"COUNTIF(L7:L14,T9)","v":0},{"$f":"U9/(W4-U8)","v":0},{"$f":"IF(V9=0,0,(V9*((LOG(V9))/LOG(2))))","v":0},null,{"$f":"N9","v":21},{"$f":"COUNTIF(L15:L22,Y9)","v":0},{"$f":"Z9/(AB4-Z8)","v":{"$error":"#DIV/0!"}},{"$f":"IF(AA9=0,0,(AA9*((LOG(AA9))/LOG(2))))","v":{"$error":"#DIV/0!"}},null,{"$f":"N9","v":21},{"$f":"COUNTIF(L23:L31,AD9)","v":0},{"$f":"AE9/(AG4-AE8)","v":{"$error":"#DIV/0!"}},{"$f":"IF(AF9=0,0,(AF9*((LOG(AF9))/LOG(2))))","v":{"$error":"#DIV/0!"}},null,{"$f":"N9","v":21},{"$f":"COUNTIF(L32:L39,AI9)","v":0},{"$f":"AJ9/(AL4-AJ8)","v":0},{"$f":"IF(AK9=0,0,(AK9*((LOG(AK9))/LOG(2))))","v":0},null,{"$f":"N9","v":21},{"$f":"COUNTIF(L40:L47,AN9)","v":1},{"$f":"AO9/(AQ4-AO8)","v":1},{"$f":"IF(AP9=0,0,(AP9*((LOG(AP9))/LOG(2))))","v":0},null,{"$f":"N9","v":21},{"$f":"COUNTIF(L48:L55,AS9)","v":1},{"$f":"AT9/(AV4-AT8)","v":1},{"$f":"IF(AU9=0,0,(AU9*((LOG(AU9))/LOG(2))))","v":0}]
[11,418,21,430,null,null,null,null,null,null,0,12,null,22,{"$f":"COUNTIF($L$7:$L$500,N10)","v":5},{"$f":"O10/$Q$4","v":0.10204081632653061},{"$f":"IF(P10=0,0,(P10*((LOG(P10))/LOG(2))))","v":-0.33599813767631082},null,null,{"$f":"N10","v":22},{"$f":"COUNTIF(L7:L14,T10)","v":4},{"$f":"U10/(W4-U8)","v":1},{"$f":"IF(V10=0,0,(V10*((LOG(V10))/LOG(2))))","v":0},null,{"$f":"N10","v":22},{"$f":"COUNTIF(L15:L22,Y10)","v":0},{"$f":"Z10/(AB4-Z8)","v":{"$error":"#DIV/0!"}},{"$f":"IF(AA10=0,0,(AA10*((LOG(AA10))/LOG(2))))","v":{"$error":"#DIV/0!"}},null,{"$f":"N10","v":22},{"$f":"COUNTIF(L23:L31,AD10)","v":0},{"$f":"AE10/(AG4-AE8)","v":{"$error":"#DIV/0!"}},{"$f":"IF(AF10=0,0,(AF10*((LOG(AF10))/LOG(2))))","v":{"$error":"#DIV/0!"}},null,{"$f":"N10","v":22},{"$f":"COUNTIF(L32:L39,AI10)","v":1},{"$f":"AJ10/(AL4-AJ8)","v":0.33333333333333331},{"$f":"IF(AK10=0,0,(AK10*((LOG(AK10))/LOG(2))))","v":-0.52832083357371862},null,{"$f":"N10","v":22},{"$f":"COUNTIF(L40:L47,AN10)","v":0},{"$f":"AO10/(AQ4-AO8)","v":0},{"$f":"IF(AP10=0,0,(AP10*((LOG(AP10))/LOG(2))))","v":0},null,{"$f":"N10","v":22},{"$f":"COUNTIF(L48:L55,AS10)","v":0},{"$f":"AT10/(AV4-AT8)","v":0},{"$f":"IF(AU10=0,0,(AU10*((LOG(AU10))/LOG(2))))","v":0}]
[11,516,21,526,null,null,null,null,null,null,0,12,null,null,null,null,null,null,null,{"$f":"N11","v":0},{"$f":"COUNTIF(L7:L14,T11)","v":0},{"$f":"U11/(W4-U8)","v":0},{"$f":"IF(V11=0,0,(V11*((LOG(V11))/LOG(2))))","v":0},null,{"$f":"N11","v":0},{"$f":"COUNTIF(L15:L22,Y11)","v":0},{"$f":"Z11/(AB4-Z8)","v":{"$error":"#DIV/0!"}},{"$f":"IF(AA11=0,0,(AA11*((LOG(AA11))/LOG(2))))","v":{"$error":"#DIV/0!"}},null,{"$f":"N11","v":0},{"$f":"COUNTIF(L23:L31,AD11)","v":0},{"$f":"AE11/(AG4-AE8)","v":{"$error":"#DIV/0!"}},{"$f":"IF(AF11=0,0,(AF11*((LOG(AF11))/LOG(2))))","v":{"$error":"#DIV/0!"}},null,{"$f":"N11","v":0},{"$f":"COUNTIF(L32:L39,AI11)","v":0},{"$f":"AJ11/(AL4-AJ8)","v":0},{"$f":"IF(AK11=0,0,(AK11*((LOG(AK11))/LOG(2))))","v":0},null,{"$f":"N11","v":0},{"$f":"COUNTIF(L40:L47,AN11)","v":0},{"$f":"AO11/(AQ4-AO8)","v":0},{"$f":"IF(AP11=0,0,(AP11*((LOG(AP11))/LOG(2))))","v":0},null,{"$f":"N11","v":0},{"$f":"COUNTIF(L48:L55,AS11)","v":0},{"$f":"AT11/(AV4-AT8)","v":0},{"$f":"IF(AU11=0,0,(AU11*((LOG(AU11))/LOG(2))))","v":0}]
[22,621,23,630,null,null,null,null,null,null,0,22,null,null,null,null,null,null,null,{"$f":"N12","v":0},{"$f":"COUNTIF(L7:L14,T12)","v":0},{"$f":"U12/(W4-U8)","v":0},{"$f":"IF(V12=0,0,(V12*((LOG(V12))/LOG(2))))","v":0},null,{"$f":"N12","v":0},{"$f":"COUNTIF(L15:L22,Y12)","v":0},{"$f":"Z12/(AB4-Z8)","v":{"$error":"#DIV/0!"}},{"$f":"IF(AA12=0,0,(AA12*((LOG(AA12))/LOG(2))))","v":{"$error":"#DIV/0!"}},null,{"$f":"N12","v":0},{"$f":"COUNTIF(L23:L31,AD12)","v":0},{"$f":"AE12/(AG4-AE8)","v":{"$error":"#DIV/0!"}},{"$f":"IF(AF12=0,0,(AF12*((LOG(AF12))/LOG(2))))","v":{"$error":"#DIV/0!"}},null,{"$f":"N12","v":0},{"$f":"COUNTIF(L32:L39,AI12)","v":0},{"$f":"AJ12/(AL4-AJ8)","v":0},{"$f":"IF(AK12=0,0,(AK12*((LOG(AK12))/LOG(2))))","v":0},null,{"$f":"N12","v":0},{"$f":"COUNTIF(L40:L47,AN12)","v":0},{"$f":"AO12/(AQ4-AO8)","v":0},{"$f":"IF(AP12=0,0,(AP12*((LOG(AP12))/LOG(2))))","v":0},null,{"$f":"N12","v":0},{"$f":"COUNTIF(L48:L55,AS12)","v":0},{"$f":"AT12/(AV4-AT8)","v":0},{"$f":"IF(AU12=0,0,(AU12*((LOG(AU12))/LOG(2))))","v":0}]
[22,735,23,749,null,null,null,null,null,null,0,22,null,null,null,null,null,null,null,{"$f":"N13","v":0},{"$f":"COUNTIF(L7:L14,T13)","v":0},{"$f":"U13/(W4-U8)","v":0},{"$f":"IF(V13=0,0,(V13*((LOG(V13))/LOG(2))))","v":0},null,{"$f":"N13","v":0},{"$f":"COUNTIF(L15:L22,Y13)","v":0},{"$f":"Z13/(AB4-Z8)","v":{"$error":"#DIV/0!"}},{"$f":"IF(AA13=0,0,(AA13*((LOG(AA13))/LOG(2))))","v":{"$error":"#DIV/0!"}},null,{"$f":"N13","v":0},{"$f":"COUNTIF(L23:L31,AD13)","v":0},{"$f":"AE13/(AG4-AE8)","v":{"$error":"#DIV/0!"}},{"$f":"IF(AF13=0,0,(AF13*((LOG(AF13))/LOG(2))))","v":{"$error":"#DIV/0!"}},null,{"$f":"N13","v":0},{"$f":"COUNTIF(L32:L39,AI13)","v":0},{"$f":"AJ13/(AL4-AJ8)","v":0},{"$f":"IF(AK13=0,0,(AK13*((LOG(AK13))/LOG(2))))","v":0},null,{"$f":"N13","v":0},{"$f":"COUNTIF(L40:L47,AN13)","v":0},{"$f":"AO13/(AQ4-AO8)","v":0},{"$f":"IF(AP13=0,0,(AP13*((LOG(AP13))/LOG(2))))","v":0},null,{"$f":"N13","v":0},{"$f":"COUNTIF(L48:L55,AS13)","v":0},{"$f":"AT13/(AV4-AT8)","v":0},{"$f":"IF(AU13=0,0,(AU13*((LOG(AU13))/LOG(2))))","v":0}]
[11,846,21,858,null,null,null,null,null,null,0,12,null,null,null,null,null,null,null,{"$f":"N14","v":0},{"$f":"COUNTIF(L7:L14,T14)","v":0},{"$f":"U14/(W4-U8)","v":0},{"$f":"IF(V14=0,0,(V14*((LOG(V14))/LOG(2))))","v":0},null,{"$f":"N14","v":0},{"$f":"COUNTIF(L15:L22,Y14)","v":0},{"$f":"Z14/(AB4-Z8)","v":{"$error":"#DIV/0!"}},{"$f":"IF(AA14=0,0,(AA14*((LOG(AA14))/LOG(2))))","v":{"$error":"#DIV/0!"}},null,{"$f":"N14","v":0},{"$f":"COUNTIF(L23:L31,AD14)","v":0},{"$f":"AE14/(AG4-AE8)","v":{"$error":"#DIV/0!"}},{"$f":"IF(AF14=0,0,(AF14*((LOG(AF14))/LOG(2))))","v":{"$error":"#DIV/0!"}},null,{"$f":"N14","v":0},{"$f":"COUNTIF(L32:L39,AI14)","v":0},{"$f":"AJ14/(AL4-AJ8)","v":0},{"$f":"IF(AK14=0,0,(AK14*((LOG(AK14))/LOG(2))))","v":0},null,{"$f":"N14","v":0},{"$f":"COUNTIF(L40:L47,AN14)","v":0},{"$f":"AO14/(AQ4-AO8)","v":0},{"$f":"IF(AP14=0,0,(AP14*((LOG(AP14))/LOG(2))))","v":0},null,{"$f":"N14","v":0},{"$f":"COUNTIF(L48:L55,AS14)","v":0},{"$f":"AT14/(AV4-AT8)","v":0},{"$f":"IF(AU14=0,0,(AU14*((LOG(AU14))/LOG(2))))","v":0}]
[11,944,21,954,null,null,null,null,null,null,0,12,null,null,null,{"$f":"SUM(P7:P14)","v":1},{"$f":"-SUM(Q7:Q14)","v":0.95171465493293672},null,null,null,null,{"$f":"SUM(V7:V14)","v":1},{"$f":"-SUM(W7:W14)","v":0},null,null,null,{"$f":"SUM(AA7:AA14)","v":{"$error":"#DIV/0!"}},{"$f":"-SUM(AB7:AB14)","v":{"$error":"#DIV/0!"}},null,null,null,{"$f":"SUM(AF7:AF14)","v":{"$error":"#DIV/0!"}},{"$f":"-SUM(AG7:AG14)","v":{"$error":"#DIV/0!"}},null,null,null,{"$f":"SUM(AK7:AK14)","v":1},{"$f":"-SUM(AL7:AL14)","v":0.91829583405448945},null,null,null,{"$f":"SUM(AP7:AP14)","v":1},{"$f":"-SUM(AQ7:AQ14)","v":0},null,null,null,{"$f":"SUM(AU7:AU14)","v":1},{"$f":"-SUM(AV7:AV14)","v":0}]
[11,1042,21,1051,null,null,null,null,null,null,0,12,null,null,null,"U=",{"$f":"Q15/(LOG(Q4)/LOG(2))","v":0.16950380008157168},null,null,null,null,"U1=",{"$f":"W15/(LOG(W4)/LOG(2))","v":0},null,null,null,"U2=",{"$f":"AB15/(LOG(AB4)/LOG(2))","v":{"$error":"#DIV/0!"}},null,null,null,"U3=",{"$f":"AG15/(LOG(AG4)/LOG(2))","v":{"$error":"#DIV/0!"}},null,null,null,"U4=",{"$f":"AL15/(LOG(AL4)/LOG(2))","v":0.30609861135149646},null,null,null,"U5=",{"$f":"AQ15/(LOG(AQ4)/LOG(2))","v":0},null,null,null,"U6=",{"$f":"AV15/(LOG(AV4)/LOG(2))","v":0}]
[11,1137,21,1146,null,null,null,null,null,null,0,12]
[11,1233,21,1243,null,null,null,null,null,null,0,12]
[11,1330,21,1339,null,null,null,null,null,null,0,12,null,"Total Target Seq"]
[11,1425,21,1434,null,null,null,null,null,null,0,12,null,{"$f":"COUNTIF(L7:L55,G3)","v":40},null,8,8,9,8,8,8]
[11,1521,21,1530,null,null,null,null,null,null,0,12,null,null,null,"% of reinforcement given in 6 equal intervals based on number of trials "]
[11,1617,21,1629,null,null,null,null,null,null,0,12,null,null,null,"%_1","%_2","%_3","%_4","%_5","%_6"]
[11,1714,21,1724,null,null,null,null,null,null,0,12,null,null,"target sequence",{"$f":"$G$3","v":12},{"$f":"$G$3","v":12},{"$f":"$G$3","v":12},{"$f":"$G$3","v":12},{"$f":"$G$3","v":12},{"$f":"$G$3","v":12}]
[11,1810,21,1819,null,null,null,null,null,null,0,12,null,null,"total reinforcement",{"$f":"U8","v":4},{"$f":"Z8","v":8},{"$f":"AE8","v":9},{"$f":"AJ8","v":5},{"$f":"AO8","v":7},{"$f":"AT8","v":7}]
[11,1904,21,1912,null,null,null,null,null,null,0,12,null,null,"% target"]
[11,1999,21,2008,null,null,null,null,null,null,0,12,null,null,"CCRF"]
[11,2093,21,2101,null,null,null,null,null,null,0,12,null,null,"% CCRf"]
[11,2187,21,2196,null,null,null,null,null,null,0,12,null,null,"average response rate",{"$f":"D14/P20","v":107.25},{"$f":"(D22-D14)/Q20","v":96.375},{"$f":"(D31-D22)/R20","v":94.555555555555557},{"$f":"(D39-D31)/S20","v":97.125},{"$f":"(D47-D39)/T20","v":102.5},{"$f":"(D55-D47)/U20","v":100.125}]
[11,2281,21,2290,null,null,null,null,null,null,0,12]
[11,2377,21,2385,null,null,null,null,null,null,0,12]
[11,2471,21,2480,null,null,null,null,null,null,0,12]
[11,2565,21,2575,null,null,null,null,null,null,0,12]
[11,2660,21,2669,null,null,null,null,null,null,0,12]
[11,2755,21,2763,null,null,null,null,null,null,0,12]
[11,2849,21,2858,null,null,null,null,null,null,0,12]
[11,2943,12,2950,null,null,null,null,null,null,0,11]
[11,3042,12,3046,null,null,null,null,null,null,0,11]
[11,3143,21,3155,null,null,null,null,null,null,0,12]
[22,3250,23,3257,null,null,null,null,null,null,0,22]
[11,3352,21,3361,null,null,null,null,null,null,0,12]
[11,3459,21,3469,null,null,null,null,null,null,0,12]
[11,3555,21,3578,null,null,null,null,null,null,0,12]
[11,3663,21,3672,null,null,null,null,null,null,0,12]
[22,3764,14,3775,null,null,null,null,null,null,0,21]
[11,3873,21,3885,null,null,null,null,null,null,0,12]
[11,3971,21,3983,null,null,null,null,null,null,0,12]
[11,4067,21,4077,null,null,null,null,null,null,0,12]
[22,4167,14,4177,null,null,null,null,null,null,0,21]
[11,4275,21,4284,null,null,null,null,null,null,0,12]
[11,4369,21,4379,null,null,null,null,null,null,0,12]
[11,4466,21,4498,null,null,null,null,null,null,0,12]
[11,4584,21,4593,null,null,null,null,null,null,0,12]
[11,4679,21,4688,null,null,null,null,null,null,0,12]
[11,4774,21,4783,null,null,null,null,null,null,0,12]
[11,4870,21,4878,null,null,null,null,null,null,1,12]

{"sheet":"!MC20850.091","index":15,"n_rows":48,"n_cols":48,"rows_kept":48,"cut":false,"hidden":false,"merged":[[4,39,4,42],[5,39,5,40],[4,44,4,47],[5,44,5,45],[4,24,4,27],[5,24,5,25],[4,29,4,32],[5,29,5,30],[4,34,4,37],[5,34,5,35],[1,1,1,2],[5,13,5,14],[18,13,18,14],[19,13,19,14],[4,19,4,22],[5,19,5,20]]}
["Report for:!MC20850.091"]
["Date:","<date>"]
["Hen:","<hen>",null,null,null,"Correct Sequence",{"$f":"Start!J2","v":12},null,null,null,null,null,null,null,null,"Total Sequences in Data",{"$f":"4994-COUNTBLANK(L7:L5000)","v":42},null,null,null,null,"Total Sequences in Block Data",{"$f":"COUNTA(L7:L13)","v":7},null,null,null,"Total Sequences in Block Data",{"$f":"COUNTA(L14:L20)","v":7},null,null,null,"Total Sequences in Block Data",{"$f":"COUNTA(L21:L27)","v":7},null,null,null,"Total Sequences in Block Data",{"$f":"COUNTA(L28:L34)","v":7},null,null,null,"Total Sequences in Block Data",{"$f":"COUNTA(L35:L41)","v":7},null,null,null,"Total Sequences in Block Data",{"$f":"COUNTA(L42:L48)","v":7}]
[null,null,null,null,null,null,null,null,null,null,null,null,null,null,null,"Total Sequences in Summary",{"$f":"SUM(O7:O14)","v":42},null,null,null,null,"Total Sequences in Block Summary",{"$f":"SUM(U7:U14)","v":7},null,null,null,"Total Sequences in Block Summary",{"$f":"SUM(Z7:Z14)","v":7},null,null,null,"Total Sequences in Block Summary",{"$f":"SUM(AE7:AE14)","v":7},null,null,null,"Total Sequences in Block Summary",{"$f":"SUM(AJ7:AJ14)","v":7},null,null,null,"Total Sequences in Block Summary",{"$f":"SUM(AO7:AO14)","v":7},null,null,null,"Total Sequences in Block Summary",{"$f":"SUM(AT7:AT14)","v":7}]
[null,null,null,null,null,null,null,null,null,null,null,null,null,null,null,null,null,null,null,"Block 1",null,null,null,null,"Block 2",null,null,null,null,"Block 3",null,null,null,null,"Block 4",null,null,null,null,"Block 5",null,null,null,null,"Block 6"]
["Sequence\nComponent\n1","Time\n1","Sequence\nComponent\n2","Time\n2","Sequence\nComponent\n3","Time\n3","Sequence\nComponent\n4","Time\n4","Sequence\nComponent\n5","Time\n5","Correct?\n0=No 1=Yes","Sequence",null,"Frequency",null,"Relative Frequency","Variability",null,null,"Frequency",null,"Relative Frequency","Variability",null,"Frequency",null,"Relative Frequency","Variability",null,"Frequency",null,"Relative Frequency","Variability",null,"Frequency",null,"Relative Frequency","Variability",null,"Frequency",null,"Relative Frequency","Variability",null,"Frequency",null,"Relative Frequency","Variability"]
[11,17,21,107,null,null,null,null,null,null,0,12,null,11,{"$f":"COUNTIF($L$7:$L$500,N7)","v":0},{"$f":"O7/$Q$4","v":0},{"$f":"IF(P7=0,0,(P7*((LOG(P7))/LOG(2))))","v":0},null,null,{"$f":"N7","v":11},{"$f":"COUNTIF(L7:L13,T7)","v":0},{"$f":"U7/(W4-U8)","v":{"$error":"#DIV/0!"}},{"$f":"IF(V7=0,0,(V7*((LOG(V7))/LOG(2))))","v":{"$error":"#DIV/0!"}},null,{"$f":"N7","v":11},{"$f":"COUNTIF(L14:L20,Y7)","v":0},{"$f":"Z7/(AB4-Z8)","v":0},{"$f":"IF(AA7=0,0,(AA7*((LOG(AA7))/LOG(2))))","v":0},null,{"$f":"N7","v":11},{"$f":"COUNTIF(L21:L27,AD7)","v":0},{"$f":"AE7/(AG4-AE8)","v":0},{"$f":"IF(AF7=0,0,(AF7*((LOG(AF7))/LOG(2))))","v":0},null,{"$f":"N7","v":11},{"$f":"COUNTIF(L28:L34,AI7)","v":0},{"$f":"AJ7/(AL4-AJ8)","v":{"$error":"#DIV/0!"}},{"$f":"IF(AK7=0,0,(AK7*((LOG(AK7))/LOG(2))))","v":{"$error":"#DIV/0!"}},null,{"$f":"N7","v":11},{"$f":"COUNTIF(L35:L41,AN7)","v":0},{"$f":"AO7/(AQ4-AO8)","v":{"$error":"#DIV/0!"}},{"$f":"IF(AP7=0,0,(AP7*((LOG(AP7))/LOG(2))))","v":{"$error":"#DIV/0!"}},null,{"$f":"N7","v":11},{"$f":"COUNTIF(L42:L48,AS7)","v":0},{"$f":"AT7/(AV4-AT8)","v":{"$error":"#DIV/0!"}},{"$f":"IF(AU7=0,0,(AU7*((LOG(AU7))/LOG(2))))","v":{"$error":"#DIV/0!"}}]
[11,197,21,212,null,null,null,null,null,null,0,12,null,12,{"$f":"COUNTIF($L$7:$L$500,N8)","v":40},{"$f":"O8/$Q$4","v":0.95238095238095233},{"$f":"IF(P8=0,0,(P8*((LOG(P8))/LOG(2))))","v":-6.7037455134664775E-2},null,null,{"$f":"N8","v":12},{"$f":"COUNTIF(L7:L13,T8)","v":7},null,null,null,{"$f":"N8","v":12},{"$f":"COUNTIF(L14:L20,Y8)","v":6},null,null,null,{"$f":"N8","v":12},{"$f":"COUNTIF(L21:L27,AD8)","v":6},null,null,null,{"$f":"N8","v":12},{"$f":"COUNTIF(L28:L34,AI8)","v":7},null,null,null,{"$f":"N8","v":12},{"$f":"COUNTIF(L35:L41,AN8)","v":7},null,null,null,{"$f":"N8","v":12},{"$f":"COUNTIF(L42:L48,AS8)","v":7}]
[11,298,21,312,null,null,null,null,null,null,0,12,null,21,{"$f":"COUNTIF($L$7:$L$500,N9)","v":0},{"$f":"O9/$Q$4","v":0},{"$f":"IF(P9=0,0,(P9*((LOG(P9))/LOG(2))))","v":0},null,null,{"$f":"N9","v":21},{"$f":"COUNTIF(L7:L13,T9)","v":0},{"$f":"U9/(W4-U8)","v":{"$error":"#DIV/0!"}},{"$f":"IF(V9=0,0,(V9*((LOG(V9))/LOG(2))))","v":{"$error":"#DIV/0!"}},null,{"$f":"N9","v":21},{"$f":"COUNTIF(L14:L20,Y9)","v":0},{"$f":"Z9/(AB4-Z8)","v":0},{"$f":"IF(AA9=0,0,(AA9*((LOG(AA9))/LOG(2))))","v":0},null,{"$f":"N9","v":21},{"$f":"COUNTIF(L21:L27,AD9)","v":0},{"$f":"AE9/(AG4-AE8)","v":0},{"$f":"IF(AF9=0,0,(AF9*((LOG(AF9))/LOG(2))))","v":0},null,{"$f":"N9","v":21},{"$f":"COUNTIF(L28:L34,AI9)","v":0},{"$f":"AJ9/(AL4-AJ8)","v":{"$error":"#DIV/0!"}},{"$f":"IF(AK9=0,0,(AK9*((LOG(AK9))/LOG(2))))","v":{"$error":"#DIV/0!"}},null,{"$f":"N9","v":21},{"$f":"COUNTIF(L35:L41,AN9)","v":0},{"$f":"AO9/(AQ4-AO8)","v":{"$error":"#DIV/0!"}},{"$f":"IF(AP9=0,0,(AP9*((LOG(AP9))/LOG(2))))","v":{"$error":"#DIV/0!"}},null,{"$f":"N9","v":21},{"$f":"COUNTIF(L42:L48,AS9)","v":0},{"$f":"AT9/(AV4-AT8)","v":{"$error":"#DIV/0!"}},{"$f":"IF(AU9=0,0,(AU9*((LOG(AU9))/LOG(2))))","v":{"$error":"#DIV/0!"}}]
[11,401,21,474,null,null,null,null,null,null,0,12,null,22,{"$f":"COUNTIF($L$7:$L$500,N10)","v":2},{"$f":"O10/$Q$4","v":4.7619047619047616E-2},{"$f":"IF(P10=0,0,(P10*((LOG(P10))/LOG(2))))","v":-0.20915797251327431},null,null,{"$f":"N10","v":22},{"$f":"COUNTIF(L7:L13,T10)","v":0},{"$f":"U10/(W4-U8)","v":{"$error":"#DIV/0!"}},{"$f":"IF(V10=0,0,(V10*((LOG(V10))/LOG(2))))","v":{"$error":"#DIV/0!"}},null,{"$f":"N10","v":22},{"$f":"COUNTIF(L14:L20,Y10)","v":1},{"$f":"Z10/(AB4-Z8)","v":1},{"$f":"IF(AA10=0,0,(AA10*((LOG(AA10))/LOG(2))))","v":0},null,{"$f":"N10","v":22},{"$f":"COUNTIF(L21:L27,AD10)","v":1},{"$f":"AE10/(AG4-AE8)","v":1},{"$f":"IF(AF10=0,0,(AF10*((LOG(AF10))/LOG(2))))","v":0},null,{"$f":"N10","v":22},{"$f":"COUNTIF(L28:L34,AI10)","v":0},{"$f":"AJ10/(AL4-AJ8)","v":{"$error":"#DIV/0!"}},{"$f":"IF(AK10=0,0,(AK10*((LOG(AK10))/LOG(2))))","v":{"$error":"#DIV/0!"}},null,{"$f":"N10","v":22},{"$f":"COUNTIF(L35:L41,AN10)","v":0},{"$f":"AO10/(AQ4-AO8)","v":{"$error":"#DIV/0!"}},{"$f":"IF(AP10=0,0,(AP10*((LOG(AP10))/LOG(2))))","v":{"$error":"#DIV/0!"}},null,{"$f":"N10","v":22},{"$f":"COUNTIF(L42:L48,AS10)","v":0},{"$f":"AT10/(AV4-AT8)","v":{"$error":"#DIV/0!"}},{"$f":"IF(AU10=0,0,(AU10*((LOG(AU10))/LOG(2))))","v":{"$error":"#DIV/0!"}}]
[11,561,21,571,null,null,null,null,null,null,0,12,null,null,null,null,null,null,null,{"$f":"N11","v":0},{"$f":"COUNTIF(L7:L13,T11)","v":0},{"$f":"U11/(W4-U8)","v":{"$error":"#DIV/0!"}},{"$f":"IF(V11=0,0,(V11*((LOG(V11))/LOG(2))))","v":{"$error":"#DIV/0!"}},null,{"$f":"N11","v":0},{"$f":"COUNTIF(L14:L20,Y11)","v":0},{"$f":"Z11/(AB4-Z8)","v":0},{"$f":"IF(AA11=0,0,(AA11*((LOG(AA11))/LOG(2))))","v":0},null,{"$f":"N11","v":0},{"$f":"COUNTIF(L21:L27,AD11)","v":0},{"$f":"AE11/(AG4-AE8)","v":0},{"$f":"IF(AF11=0,0,(AF11*((LOG(AF11))/LOG(2))))","v":0},null,{"$f":"N11","v":0},{"$f":"COUNTIF(L28:L34,AI11)","v":0},{"$f":"AJ11/(AL4-AJ8)","v":{"$error":"#DIV/0!"}},{"$f":"IF(AK11=0,0,(AK11*((LOG(AK11))/LOG(2))))","v":{"$error":"#DIV/0!"}},null,{"$f":"N11","v":0},{"$f":"COUNTIF(L35:L41,AN11)","v":0},{"$f":"AO11/(AQ4-AO8)","v":{"$error":"#DIV/0!"}},{"$f":"IF(AP11=0,0,(AP11*((LOG(AP11))/LOG(2))))","v":{"$error":"#DIV/0!"}},null,{"$f":"N11","v":0},{"$f":"COUNTIF(L42:L48,AS11)","v":0},{"$f":"AT11/(AV4-AT8)","v":{"$error":"#DIV/0!"}},{"$f":"IF(AU11=0,0,(AU11*((LOG(AU11))/LOG(2))))","v":{"$error":"#DIV/0!"}}]
[11,658,21,671,null,null,null,null,null,null,0,12,null,null,null,null,null,null,null,{"$f":"N12","v":0},{"$f":"COUNTIF(L7:L13,T12)","v":0},{"$f":"U12/(W4-U8)","v":{"$error":"#DIV/0!"}},{"$f":"IF(V12=0,0,(V12*((LOG(V12))/LOG(2))))","v":{"$error":"#DIV/0!"}},null,{"$f":"N12","v":0},{"$f":"COUNTIF(L14:L20,Y12)","v":0},{"$f":"Z12/(AB4-Z8)","v":0},{"$f":"IF(AA12=0,0,(AA12*((LOG(AA12))/LOG(2))))","v":0},null,{"$f":"N12","v":0},{"$f":"COUNTIF(L21:L27,AD12)","v":0},{"$f":"AE12/(AG4-AE8)","v":0},{"$f":"IF(AF12=0,0,(AF12*((LOG(AF12))/LOG(2))))","v":0},null,{"$f":"N12","v":0},{"$f":"COUNTIF(L28:L34,AI12)","v":0},{"$f":"AJ12/(AL4-AJ8)","v":{"$error":"#DIV/0!"}},{"$f":"IF(AK12=0,0,(AK12*((LOG(AK12))/LOG(2))))","v":{"$error":"#DIV/0!"}},null,{"$f":"N12","v":0},{"$f":"COUNTIF(L35:L41,AN12)","v":0},{"$f":"AO12/(AQ4-AO8)","v":{"$error":"#DIV/0!"}},{"$f":"IF(AP12=0,0,(AP12*((LOG(AP12))/LOG(2))))","v":{"$error":"#DIV/0!"}},null,{"$f":"N12","v":0},{"$f":"COUNTIF(L42:L48,AS12)","v":0},{"$f":"AT12/(AV4-AT8)","v":{"$error":"#DIV/0!"}},{"$f":"IF(AU12=0,0,(AU12*((LOG(AU12))/LOG(2))))","v":{"$error":"#DIV/0!"}}]
[11,759,21,771,null,null,null,null,null,null,0,12,null,null,null,null,null,null,null,{"$f":"N13","v":0},{"$f":"COUNTIF(L7:L13,T13)","v":0},{"$f":"U13/(W4-U8)","v":{"$error":"#DIV/0!"}},{"$f":"IF(V13=0,0,(V13*((LOG(V13))/LOG(2))))","v":{"$error":"#DIV/0!"}},null,{"$f":"N13","v":0},{"$f":"COUNTIF(L14:L20,Y13)","v":0},{"$f":"Z13/(AB4-Z8)","v":0},{"$f":"IF(AA13=0,0,(AA13*((LOG(AA13))/LOG(2))))","v":0},null,{"$f":"N13","v":0},{"$f":"COUNTIF(L21:L27,AD13)","v":0},{"$f":"AE13/(AG4-AE8)","v":0},{"$f":"IF(AF13=0,0,(AF13*((LOG(AF13))/LOG(2))))","v":0},null,{"$f":"N13","v":0},{"$f":"COUNTIF(L28:L34,AI13)","v":0},{"$f":"AJ13/(AL4-AJ8)","v":{"$error":"#DIV/0!"}},{"$f":"IF(AK13=0,0,(AK13*((LOG(AK13))/LOG(2))))","v":{"$error":"#DIV/0!"}},null,{"$f":"N13","v":0},{"$f":"COUNTIF(L35:L41,AN13)","v":0},{"$f":"AO13/(AQ4-AO8)","v":{"$error":"#DIV/0!"}},{"$f":"IF(AP13=0,0,(AP13*((LOG(AP13))/LOG(2))))","v":{"$error":"#DIV/0!"}},null,{"$f":"N13","v":0},{"$f":"COUNTIF(L42:L48,AS13)","v":0},{"$f":"AT13/(AV4-AT8)","v":{"$error":"#DIV/0!"}},{"$f":"IF(AU13=0,0,(AU13*((LOG(AU13))/LOG(2))))","v":{"$error":"#DIV/0!"}}]
[22,871,23,880,null,null,null,null,null,null,0,22,null,null,null,null,null,null,null,{"$f":"N14","v":0},{"$f":"COUNTIF(L7:L13,T14)","v":0},{"$f":"U14/(W4-U8)","v":{"$error":"#DIV/0!"}},{"$f":"IF(V14=0,0,(V14*((LOG(V14))/LOG(2))))","v":{"$error":"#DIV/0!"}},null,{"$f":"N14","v":0},{"$f":"COUNTIF(L14:L20,Y14)","v":0},{"$f":"Z14/(AB4-Z8)","v":0},{"$f":"IF(AA14=0,0,(AA14*((LOG(AA14))/LOG(2))))","v":0},null,{"$f":"N14","v":0},{"$f":"COUNTIF(L21:L27,AD14)","v":0},{"$f":"AE14/(AG4-AE8)","v":0},{"$f":"IF(AF14=0,0,(AF14*((LOG(AF14))/LOG(2))))","v":0},null,{"$f":"N14","v":0},{"$f":"COUNTIF(L28:L34,AI14)","v":0},{"$f":"AJ14/(AL4-AJ8)","v":{"$error":"#DIV/0!"}},{"$f":"IF(AK14=0,0,(AK14*((LOG(AK14))/LOG(2))))","v":{"$error":"#DIV/0!"}},null,{"$f":"N14","v":0},{"$f":"COUNTIF(L35:L41,AN14)","v":0},{"$f":"AO14/(AQ4-AO8)","v":{"$error":"#DIV/0!"}},{"$f":"IF(AP14=0,0,(AP14*((LOG(AP14))/LOG(2))))","v":{"$error":"#DIV/0!"}},null,{"$f":"N14","v":0},{"$f":"COUNTIF(L42:L48,AS14)","v":0},{"$f":"AT14/(AV4-AT8)","v":{"$error":"#DIV/0!"}},{"$f":"IF(AU14=0,0,(AU14*((LOG(AU14))/LOG(2))))","v":{"$error":"#DIV/0!"}}]
[11,977,21,992,null,null,null,null,null,null,0,12,null,null,null,{"$f":"SUM(P7:P14)","v":1},{"$f":"-SUM(Q7:Q14)","v":0.27619542764793908},null,null,null,null,{"$f":"SUM(V7:V14)","v":{"$error":"#DIV/0!"}},{"$f":"-SUM(W7:W14)","v":{"$error":"#DIV/0!"}},null,null,null,{"$f":"SUM(AA7:AA14)","v":1},{"$f":"-SUM(AB7:AB14)","v":0},null,null,null,{"$f":"SUM(AF7:AF14)","v":1},{"$f":"-SUM(AG7:AG14)","v":0},null,null,null,{"$f":"SUM(AK7:AK14)","v":{"$error":"#DIV/0!"}},{"$f":"-SUM(AL7:AL14)","v":{"$error":"#DIV/0!"}},null,null,null,{"$f":"SUM(AP7:AP14)","v":{"$error":"#DIV/0!"}},{"$f":"-SUM(AQ7:AQ14)","v":{"$error":"#DIV/0!"}},null,null,null,{"$f":"SUM(AU7:AU14)","v":{"$error":"#DIV/0!"}},{"$f":"-SUM(AV7:AV14)","v":{"$error":"#DIV/0!"}}]
[11,1079,21,1090,null,null,null,null,null,null,0,12,null,null,null,"U=",{"$f":"Q15/(LOG(Q4)/LOG(2))","v":5.1220172329100477E-2},null,null,null,null,"U1=",{"$f":"W15/(LOG(W4)/LOG(2))","v":{"$error":"#DIV/0!"}},null,null,null,"U2=",{"$f":"AB15/(LOG(AB4)/LOG(2))","v":0},null,null,null,"U3=",{"$f":"AG15/(LOG(AG4)/LOG(2))","v":0},null,null,null,"U4=",{"$f":"AL15/(LOG(AL4)/LOG(2))","v":{"$error":"#DIV/0!"}},null,null,null,"U5=",{"$f":"AQ15/(LOG(AQ4)/LOG(2))","v":{"$error":"#DIV/0!"}},null,null,null,"U6=",{"$f":"AV15/(LOG(AV4)/LOG(2))","v":{"$error":"#DIV/0!"}}]
[11,1176,21,1189,null,null,null,null,null,null,0,12]
[11,1276,21,1287,null,null,null,null,null,null,0,12]
[11,1375,21,1387,null,null,null,null,null,null,0,12,null,"Total Target Seq"]
[11,1472,21,1482,null,null,null,null,null,null,0,12,null,{"$f":"COUNTIF(L7:L48,G3)","v":40},null,7,7,7,7,7,7]
[22,1582,23,1590,null,null,null,null,null,null,0,22,null,null,null,"% of reinforcement given in 6 equal intervals based on number of trials "]
[11,1689,21,1705,null,null,null,null,null,null,0,12,null,null,null,"%_1","%_2","%_3","%_4","%_5","%_6"]
[11,1790,21,1800,null,null,null,null,null,null,0,12,null,null,"target sequence",{"$f":"$G$3","v":12},{"$f":"$G$3","v":12},{"$f":"$G$3","v":12},{"$f":"$G$3","v":12},{"$f":"$G$3","v":12},{"$f":"$G$3","v":12}]
[11,1887,21,1901,null,null,null,null,null,null,0,12,null,null,"total reinforcement",{"$f":"U8","v":7},{"$f":"Z8","v":6},{"$f":"AE8","v":6},{"$f":"AJ8","v":7},{"$f":"AO8","v":7},{"$f":"AT8","v":7}]
[11,1993,21,2008,null,null,null,null,null,null,0,12,null,null,"% target"]
[11,2095,21,2108,null,null,null,null,null,null,0,12,null,null,"CCRF"]
[11,2195,21,2208,null,null,null,null,null,null,0,12,null,null,"% CCRf"]
[11,2294,21,2306,null,null,null,null,null,null,0,12,null,null,"average response rate",{"$f":"D13/P20","v":110.14285714285714},{"$f":"(D20-D13)/Q20","v":101.57142857142857},{"$f":"(D27-D20)/R20","v":103.71428571428571},{"$f":"(D34-D27)/S20","v":96.714285714285708},{"$f":"(D41-D34)/T20","v":96.714285714285708},{"$f":"(D48-D41)/U20","v":98.714285714285708}]
[11,2394,21,2404,null,null,null,null,null,null,0,12]
[11,2490,21,2500,null,null,null,null,null,null,0,12]
[11,2586,21,2596,null,null,null,null,null,null,0,12]
[11,2682,21,2695,null,null,null,null,null,null,0,12]
[11,2779,21,2789,null,null,null,null,null,null,0,12]
[11,2875,21,2885,null,null,null,null,null,null,0,12]
[11,2971,21,2982,null,null,null,null,null,null,0,12]
[11,3069,21,3079,null,null,null,null,null,null,0,12]
[11,3164,21,3174,null,null,null,null,null,null,0,12]
[11,3262,21,3272,null,null,null,null,null,null,0,12]
[11,3357,21,3367,null,null,null,null,null,null,0,12]
[11,3455,21,3465,null,null,null,null,null,null,0,12]
[11,3552,21,3562,null,null,null,null,null,null,0,12]
[11,3647,21,3657,null,null,null,null,null,null,0,12]
[11,3743,21,3753,null,null,null,null,null,null,0,12]
[11,3841,21,3851,null,null,null,null,null,null,0,12]
[11,3938,21,3950,null,null,null,null,null,null,0,12]
[11,4035,21,4045,null,null,null,null,null,null,0,12]
[11,4132,21,4156,null,null,null,null,null,null,0,12]
[11,4241,21,4253,null,null,null,null,null,null,1,12]

{"sheet":"!MC24850.091","index":16,"n_rows":58,"n_cols":48,"rows_kept":58,"cut":false,"hidden":false,"merged":[[4,39,4,42],[5,39,5,40],[4,44,4,47],[5,44,5,45],[4,24,4,27],[5,24,5,25],[4,29,4,32],[5,29,5,30],[4,34,4,37],[5,34,5,35],[1,1,1,2],[5,13,5,14],[18,13,18,14],[19,13,19,14],[4,19,4,22],[5,19,5,20]]}
["Report for:!MC24850.091"]
["Date:","<date>"]
["Hen:","<hen>",null,null,null,"Correct Sequence",{"$f":"Start!J2","v":12},null,null,null,null,null,null,null,null,"Total Sequences in Data",{"$f":"4994-COUNTBLANK(L7:L5000)","v":52},null,null,null,null,"Total Sequences in Block Data",{"$f":"COUNTA(L7:L15)","v":9},null,null,null,"Total Sequences in Block Data",{"$f":"COUNTA(L16:L23)","v":8},null,null,null,"Total Sequences in Block Data",{"$f":"COUNTA(L24:L32)","v":9},null,null,null,"Total Sequences in Block Data",{"$f":"COUNTA(L33:L41)","v":9},null,null,null,"Total Sequences in Block Data",{"$f":"COUNTA(L42:L49)","v":8},null,null,null,"Total Sequences in Block Data",{"$f":"COUNTA(L50:L58)","v":9}]
[null,null,null,null,null,null,null,null,null,null,null,null,null,null,null,"Total Sequences in Summary",{"$f":"SUM(O7:O14)","v":52},null,null,null,null,"Total Sequences in Block Summary",{"$f":"SUM(U7:U14)","v":9},null,null,null,"Total Sequences in Block Summary",{"$f":"SUM(Z7:Z14)","v":8},null,null,null,"Total Sequences in Block Summary",{"$f":"SUM(AE7:AE14)","v":9},null,null,null,"Total Sequences in Block Summary",{"$f":"SUM(AJ7:AJ14)","v":9},null,null,null,"Total Sequences in Block Summary",{"$f":"SUM(AO7:AO14)","v":8},null,null,null,"Total Sequences in Block Summary",{"$f":"SUM(AT7:AT14)","v":9}]
[null,null,null,null,null,null,null,null,null,null,null,null,null,null,null,null,null,null,null,"Block 1",null,null,null,null,"Block 2",null,null,null,null,"Block 3",null,null,null,null,"Block 4",null,null,null,null,"Block 5",null,null,null,null,"Block 6"]
["Sequence\nComponent\n1","Time\n1","Sequence\nComponent\n2","Time\n2","Sequence\nComponent\n3","Time\n3","Sequence\nComponent\n4","Time\n4","Sequence\nComponent\n5","Time\n5","Correct?\n0=No 1=Yes","Sequence",null,"Frequency",null,"Relative Frequency","Variability",null,null,"Frequency",null,"Relative Frequency","Variability",null,"Frequency",null,"Relative Frequency","Variability",null,"Frequency",null,"Relative Frequency","Variability",null,"Frequency",null,"Relative Frequency","Variability",null,"Frequency",null,"Relative Frequency","Variability",null,"Frequency",null,"Relative Frequency","Variability"]
[22,17,14,28,null,null,null,null,null,null,0,21,null,11,{"$f":"COUNTIF($L$7:$L$500,N7)","v":4},{"$f":"O7/$Q$4","v":7.6923076923076927E-2},{"$f":"IF(P7=0,0,(P7*((LOG(P7))/LOG(2))))","v":-0.28464920908777636},null,null,{"$f":"N7","v":11},{"$f":"COUNTIF(L7:L15,T7)","v":0},{"$f":"U7/(W4-U8)","v":0},{"$f":"IF(V7=0,0,(V7*((LOG(V7))/LOG(2))))","v":0},null,{"$f":"N7","v":11},{"$f":"COUNTIF(L16:L23,Y7)","v":1},{"$f":"Z7/(AB4-Z8)","v":0.5},{"$f":"IF(AA7=0,0,(AA7*((LOG(AA7))/LOG(2))))","v":-0.5},null,{"$f":"N7","v":11},{"$f":"COUNTIF(L24:L32,AD7)","v":1},{"$f":"AE7/(AG4-AE8)","v":0.5},{"$f":"IF(AF7=0,0,(AF7*((LOG(AF7))/LOG(2))))","v":-0.5},null,{"$f":"N7","v":11},{"$f":"COUNTIF(L33:L41,AI7)","v":1},{"$f":"AJ7/(AL4-AJ8)","v":0.33333333333333331},{"$f":"IF(AK7=0,0,(AK7*((LOG(AK7))/LOG(2))))","v":-0.52832083357371862},null,{"$f":"N7","v":11},{"$f":"COUNTIF(L42:L49,AN7)","v":0},{"$f":"AO7/(AQ4-AO8)","v":{"$error":"#DIV/0!"}},{"$f":"IF(AP7=0,0,(AP7*((LOG(AP7))/LOG(2))))","v":{"$error":"#DIV/0!"}},null,{"$f":"N7","v":11},{"$f":"COUNTIF(L50:L58,AS7)","v":1},{"$f":"AT7/(AV4-AT8)","v":0.5},{"$f":"IF(AU7=0,0,(AU7*((LOG(AU7))/LOG(2))))","v":-0.5}]
[11,132,21,146,null,null,null,null,null,null,0,12,null,12,{"$f":"COUNTIF($L$7:$L$500,N8)","v":40},{"$f":"O8/$Q$4","v":0.76923076923076927},{"$f":"IF(P8=0,0,(P8*((LOG(P8))/LOG(2))))","v":-0.29116278711825366},null,null,{"$f":"N8","v":12},{"$f":"COUNTIF(L7:L15,T8)","v":6},null,null,null,{"$f":"N8","v":12},{"$f":"COUNTIF(L16:L23,Y8)","v":6},null,null,null,{"$f":"N8","v":12},{"$f":"COUNTIF(L24:L32,AD8)","v":7},null,null,null,{"$f":"N8","v":12},{"$f":"COUNTIF(L33:L41,AI8)","v":6},null,null,null,{"$f":"N8","v":12},{"$f":"COUNTIF(L42:L49,AN8)","v":8},null,null,null,{"$f":"N8","v":12},{"$f":"COUNTIF(L50:L58,AS8)","v":7}]
[22,248,23,263,null,null,null,null,null,null,0,22,null,21,{"$f":"COUNTIF($L$7:$L$500,N9)","v":2},{"$f":"O9/$Q$4","v":3.8461538461538464E-2},{"$f":"IF(P9=0,0,(P9*((LOG(P9))/LOG(2))))","v":-0.18078614300542661},null,null,{"$f":"N9","v":21},{"$f":"COUNTIF(L7:L15,T9)","v":1},{"$f":"U9/(W4-U8)","v":0.33333333333333331},{"$f":"IF(V9=0,0,(V9*((LOG(V9))/LOG(2))))","v":-0.52832083357371862},null,{"$f":"N9","v":21},{"$f":"COUNTIF(L16:L23,Y9)","v":0},{"$f":"Z9/(AB4-Z8)","v":0},{"$f":"IF(AA9=0,0,(AA9*((LOG(AA9))/LOG(2))))","v":0},null,{"$f":"N9","v":21},{"$f":"COUNTIF(L24:L32,AD9)","v":1},{"$f":"AE9/(AG4-AE8)","v":0.5},{"$f":"IF(AF9=0,0,(AF9*((LOG(AF9))/LOG(2))))","v":-0.5},null,{"$f":"N9","v":21},{"$f":"COUNTIF(L33:L41,AI9)","v":0},{"$f":"AJ9/(AL4-AJ8)","v":0},{"$f":"IF(AK9=0,0,(AK9*((LOG(AK9))/LOG(2))))","v":0},null,{"$f":"N9","v":21},{"$f":"COUNTIF(L42:L49,AN9)","v":0},{"$f":"AO9/(AQ4-AO8)","v":{"$error":"#DIV/0!"}},{"$f":"IF(AP9=0,0,(AP9*((LOG(AP9))/LOG(2))))","v":{"$error":"#DIV/0!"}},null,{"$f":"N9","v":21},{"$f":"COUNTIF(L50:L58,AS9)","v":0},{"$f":"AT9/(AV4-AT8)","v":0},{"$f":"IF(AU9=0,0,(AU9*((LOG(AU9))/LOG(2))))","v":0}]
[11,378,21,391,null,null,null,null,null,null,0,12,null,22,{"$f":"COUNTIF($L$7:$L$500,N10)","v":6},{"$f":"O10/$Q$4","v":0.11538461538461539},{"$f":"IF(P10=0,0,(P10*((LOG(P10))/LOG(2))))","v":-0.35947814047153104},null,null,{"$f":"N10","v":22},{"$f":"COUNTIF(L7:L15,T10)","v":2},{"$f":"U10/(W4-U8)","v":0.66666666666666663},{"$f":"IF(V10=0,0,(V10*((LOG(V10))/LOG(2))))","v":-0.38997500048077083},null,{"$f":"N10","v":22},{"$f":"COUNTIF(L16:L23,Y10)","v":1},{"$f":"Z10/(AB4-Z8)","v":0.5},{"$f":"IF(AA10=0,0,(AA10*((LOG(AA10))/LOG(2))))","v":-0.5},null,{"$f":"N10","v":22},{"$f":"COUNTIF(L24:L32,AD10)","v":0},{"$f":"AE10/(AG4-AE8)","v":0},{"$f":"IF(AF10=0,0,(AF10*((LOG(AF10))/LOG(2))))","v":0},null,{"$f":"N10","v":22},{"$f":"COUNTIF(L33:L41,AI10)","v":2},{"$f":"AJ10/(AL4-AJ8)","v":0.66666666666666663},{"$f":"IF(AK10=0,0,(AK10*((LOG(AK10))/LOG(2))))","v":-0.38997500048077083},null,{"$f":"N10","v":22},{"$f":"COUNTIF(L42:L49,AN10)","v":0},{"$f":"AO10/(AQ4-AO8)","v":{"$error":"#DIV/0!"}},{"$f":"IF(AP10=0,0,(AP10*((LOG(AP10))/LOG(2))))","v":{"$error":"#DIV/0!"}},null,{"$f":"N10","v":22},{"$f":"COUNTIF(L50:L58,AS10)","v":1},{"$f":"AT10/(AV4-AT8)","v":0.5},{"$f":"IF(AU10=0,0,(AU10*((LOG(AU10))/LOG(2))))","v":-0.5}]
[22,487,23,501,null,null,null,null,null,null,0,22,null,null,null,null,null,null,null,{"$f":"N11","v":0},{"$f":"COUNTIF(L7:L15,T11)","v":0},{"$f":"U11/(W4-U8)","v":0},{"$f":"IF(V11=0,0,(V11*((LOG(V11))/LOG(2))))","v":0},null,{"$f":"N11","v":0},{"$f":"COUNTIF(L16:L23,Y11)","v":0},{"$f":"Z11/(AB4-Z8)","v":0},{"$f":"IF(AA11=0,0,(AA11*((LOG(AA11))/LOG(2))))","v":0},null,{"$f":"N11","v":0},{"$f":"COUNTIF(L24:L32,AD11)","v":0},{"$f":"AE11/(AG4-AE8)","v":0},{"$f":"IF(AF11=0,0,(AF11*((LOG(AF11))/LOG(2))))","v":0},null,{"$f":"N11","v":0},{"$f":"COUNTIF(L33:L41,AI11)","v":0},{"$f":"AJ11/(AL4-AJ8)","v":0},{"$f":"IF(AK11=0,0,(AK11*((LOG(AK11))/LOG(2))))","v":0},null,{"$f":"N11","v":0},{"$f":"COUNTIF(L42:L49,AN11)","v":0},{"$f":"AO11/(AQ4-AO8)","v":{"$error":"#DIV/0!"}},{"$f":"IF(AP11=0,0,(AP11*((LOG(AP11))/LOG(2))))","v":{"$error":"#DIV/0!"}},null,{"$f":"N11","v":0},{"$f":"COUNTIF(L50:L58,AS11)","v":0},{"$f":"AT11/(AV4-AT8)","v":0},{"$f":"IF(AU11=0,0,(AU11*((LOG(AU11))/LOG(2))))","v":0}]
[11,600,21,613,null,null,null,null,null,null,0,12,null,null,null,null,null,null,null,{"$f":"N12","v":0},{"$f":"COUNTIF(L7:L15,T12)","v":0},{"$f":"U12/(W4-U8)","v":0},{"$f":"IF(V12=0,0,(V12*((LOG(V12))/LOG(2))))","v":0},null,{"$f":"N12","v":0},{"$f":"COUNTIF(L16:L23,Y12)","v":0},{"$f":"Z12/(AB4-Z8)","v":0},{"$f":"IF(AA12=0,0,(AA12*((LOG(AA12))/LOG(2))))","v":0},null,{"$f":"N12","v":0},{"$f":"COUNTIF(L24:L32,AD12)","v":0},{"$f":"AE12/(AG4-AE8)","v":0},{"$f":"IF(AF12=0,0,(AF12*((LOG(AF12))/LOG(2))))","v":0},null,{"$f":"N12","v":0},{"$f":"COUNTIF(L33:L41,AI12)","v":0},{"$f":"AJ12/(AL4-AJ8)","v":0},{"$f":"IF(AK12=0,0,(AK12*((LOG(AK12))/LOG(2))))","v":0},null,{"$f":"N12","v":0},{"$f":"COUNTIF(L42:L49,AN12)","v":0},{"$f":"AO12/(AQ4-AO8)","v":{"$error":"#DIV/0!"}},{"$f":"IF(AP12=0,0,(AP12*((LOG(AP12))/LOG(2))))","v":{"$error":"#DIV/0!"}},null,{"$f":"N12","v":0},{"$f":"COUNTIF(L50:L58,AS12)","v":0},{"$f":"AT12/(AV4-AT8)","v":0},{"$f":"IF(AU12=0,0,(AU12*((LOG(AU12))/LOG(2))))","v":0}]
[11,700,21,710,null,null,null,null,null,null,0,12,null,null,null,null,null,null,null,{"$f":"N13","v":0},{"$f":"COUNTIF(L7:L15,T13)","v":0},{"$f":"U13/(W4-U8)","v":0},{"$f":"IF(V13=0,0,(V13*((LOG(V13))/LOG(2))))","v":0},null,{"$f":"N13","v":0},{"$f":"COUNTIF(L16:L23,Y13)","v":0},{"$f":"Z13/(AB4-Z8)","v":0},{"$f":"IF(AA13=0,0,(AA13*((LOG(AA13))/LOG(2))))","v":0},null,{"$f":"N13","v":0},{"$f":"COUNTIF(L24:L32,AD13)","v":0},{"$f":"AE13/(AG4-AE8)","v":0},{"$f":"IF(AF13=0,0,(AF13*((LOG(AF13))/LOG(2))))","v":0},null,{"$f":"N13","v":0},{"$f":"COUNTIF(L33:L41,AI13)","v":0},{"$f":"AJ13/(AL4-AJ8)","v":0},{"$f":"IF(AK13=0,0,(AK13*((LOG(AK13))/LOG(2))))","v":0},null,{"$f":"N13","v":0},{"$f":"COUNTIF(L42:L49,AN13)","v":0},{"$f":"AO13/(AQ4-AO8)","v":{"$error":"#DIV/0!"}},{"$f":"IF(AP13=0,0,(AP13*((LOG(AP13))/LOG(2))))","v":{"$error":"#DIV/0!"}},null,{"$f":"N13","v":0},{"$f":"COUNTIF(L50:L58,AS13)","v":0},{"$f":"AT13/(AV4-AT8)","v":0},{"$f":"IF(AU13=0,0,(AU13*((LOG(AU13))/LOG(2))))","v":0}]
[11,792,21,831,null,null,null,null,null,null,0,12,null,null,null,null,null,null,null,{"$f":"N14","v":0},{"$f":"COUNTIF(L7:L15,T14)","v":0},{"$f":"U14/(W4-U8)","v":0},{"$f":"IF(V14=0,0,(V14*((LOG(V14))/LOG(2))))","v":0},null,{"$f":"N14","v":0},{"$f":"COUNTIF(L16:L23,Y14)","v":0},{"$f":"Z14/(AB4-Z8)","v":0},{"$f":"IF(AA14=0,0,(AA14*((LOG(AA14))/LOG(2))))","v":0},null,{"$f":"N14","v":0},{"$f":"COUNTIF(L24:L32,AD14)","v":0},{"$f":"AE14/(AG4-AE8)","v":0},{"$f":"IF(AF14=0,0,(AF14*((LOG(AF14))/LOG(2))))","v":0},null,{"$f":"N14","v":0},{"$f":"COUNTIF(L33:L41,AI14)","v":0},{"$f":"AJ14/(AL4-AJ8)","v":0},{"$f":"IF(AK14=0,0,(AK14*((LOG(AK14))/LOG(2))))","v":0},null,{"$f":"N14","v":0},{"$f":"COUNTIF(L42:L49,AN14)","v":0},{"$f":"AO14/(AQ4-AO8)","v":{"$error":"#DIV/0!"}},{"$f":"IF(AP14=0,0,(AP14*((LOG(AP14))/LOG(2))))","v":{"$error":"#DIV/0!"}},null,{"$f":"N14","v":0},{"$f":"COUNTIF(L50:L58,AS14)","v":0},{"$f":"AT14/(AV4-AT8)","v":0},{"$f":"IF(AU14=0,0,(AU14*((LOG(AU14))/LOG(2))))","v":0}]
[11,918,21,927,null,null,null,null,null,null,0,12,null,null,null,{"$f":"SUM(P7:P14)","v":1},{"$f":"-SUM(Q7:Q14)","v":1.1160762796829875},null,null,null,null,{"$f":"SUM(V7:V14)","v":1},{"$f":"-SUM(W7:W14)","v":0.91829583405448945},null,null,null,{"$f":"SUM(AA7:AA14)","v":1},{"$f":"-SUM(AB7:AB14)","v":1},null,null,null,{"$f":"SUM(AF7:AF14)","v":1},{"$f":"-SUM(AG7:AG14)","v":1},null,null,null,{"$f":"SUM(AK7:AK14)","v":1},{"$f":"-SUM(AL7:AL14)","v":0.91829583405448945},null,null,null,{"$f":"SUM(AP7:AP14)","v":{"$error":"#DIV/0!"}},{"$f":"-SUM(AQ7:AQ14)","v":{"$error":"#DIV/0!"}},null,null,null,{"$f":"SUM(AU7:AU14)","v":1},{"$f":"-SUM(AV7:AV14)","v":1}]
[11,1012,21,1024,null,null,null,null,null,null,0,12,null,null,null,"U=",{"$f":"Q15/(LOG(Q4)/LOG(2))","v":0.19578775232569931},null,null,null,null,"U1=",{"$f":"W15/(LOG(W4)/LOG(2))","v":0.28969008214284753},null,null,null,"U2=",{"$f":"AB15/(LOG(AB4)/LOG(2))","v":0.33333333333333331},null,null,null,"U3=",{"$f":"AG15/(LOG(AG4)/LOG(2))","v":0.31546487678572877},null,null,null,"U4=",{"$f":"AL15/(LOG(AL4)/LOG(2))","v":0.28969008214284753},null,null,null,"U5=",{"$f":"AQ15/(LOG(AQ4)/LOG(2))","v":{"$error":"#DIV/0!"}},null,null,null,"U6=",{"$f":"AV15/(LOG(AV4)/LOG(2))","v":0.31546487678572877}]
[11,1111,21,1120,null,null,null,null,null,null,0,12]
[11,1202,12,1206,null,null,null,null,null,null,0,11]
[11,1303,21,1314,null,null,null,null,null,null,0,12,null,"Total Target Seq"]
[11,1398,21,1408,null,null,null,null,null,null,0,12,null,{"$f":"COUNTIF(L7:L58,G3)","v":40},null,9,8,9,9,8,9]
[11,1495,21,1506,null,null,null,null,null,null,0,12,null,null,null,"% of reinforcement given in 6 equal intervals based on number of trials "]
[11,1593,21,1602,null,null,null,null,null,null,0,12,null,null,null,"%_1","%_2","%_3","%_4","%_5","%_6"]
[22,1696,23,1708,null,null,null,null,null,null,0,22,null,null,"target sequence",{"$f":"$G$3","v":12},{"$f":"$G$3","v":12},{"$f":"$G$3","v":12},{"$f":"$G$3","v":12},{"$f":"$G$3","v":12},{"$f":"$G$3","v":12}]
[22,1811,14,1821,null,null,null,null,null,null,0,21,null,null,"total reinforcement",{"$f":"U8","v":6},{"$f":"Z8","v":6},{"$f":"AE8","v":7},{"$f":"AJ8","v":6},{"$f":"AO8","v":8},{"$f":"AT8","v":7}]
[11,1918,21,1930,null,null,null,null,null,null,0,12,null,null,"% target"]
[11,2019,21,2029,null,null,null,null,null,null,0,12,null,null,"CCRF"]
[11,2116,21,2125,null,null,null,null,null,null,0,12,null,null,"% CCRf"]
[11,2212,21,2221,null,null,null,null,null,null,0,12,null,null,"average response rate",{"$f":"D15/P20","v":103},{"$f":"(D23-D15)/Q20","v":97.625},{"$f":"(D32-D23)/R20","v":98.666666666666671},{"$f":"(D41-D32)/S20","v":105},{"$f":"(D49-D41)/T20","v":107.25},{"$f":"(D58-D49)/U20","v":101.44444444444444}]
[11,2307,21,2317,null,null,null,null,null,null,0,12]
[11,2404,21,2414,null,null,null,null,null,null,0,12]
[11,2499,21,2509,null,null,null,null,null,null,0,12]
[11,2591,12,2596,null,null,null,null,null,null,0,11]
[11,2690,21,2702,null,null,null,null,null,null,0,12]
[11,2792,21,2817,null,null,null,null,null,null,0,12]
[11,2905,21,2914,null,null,null,null,null,null,0,12]
[11,3000,21,3009,null,null,null,null,null,null,0,12]
[11,3105,21,3117,null,null,null,null,null,null,0,12]
[11,3199,12,3203,null,null,null,null,null,null,0,11]
[11,3301,21,3311,null,null,null,null,null,null,0,12]
[22,3408,23,3417,null,null,null,null,null,null,0,22]
[22,3526,23,3541,null,null,null,null,null,null,0,22]
[11,3637,21,3652,null,null,null,null,null,null,0,12]
[11,3747,21,3760,null,null,null,null,null,null,0,12]
[11,3848,21,3858,null,null,null,null,null,null,0,12]
[11,3946,21,3959,null,null,null,null,null,null,0,12]
[11,4052,21,4098,null,null,null,null,null,null,0,12]
[11,4185,21,4194,null,null,null,null,null,null,0,12]
[11,4286,21,4295,null,null,null,null,null,null,0,12]
[11,4386,21,4399,null,null,null,null,null,null,0,12]
[11,4484,21,4493,null,null,null,null,null,null,0,12]
[11,4581,21,4590,null,null,null,null,null,null,0,12]
[11,4677,21,4686,null,null,null,null,null,null,0,12]
[11,4777,21,4786,null,null,null,null,null,null,0,12]
[22,4882,23,4908,null,null,null,null,null,null,0,22]
[11,5000,12,5005,null,null,null,null,null,null,0,11]
[11,5100,21,5110,null,null,null,null,null,null,0,12]
[11,5201,21,5214,null,null,null,null,null,null,0,12]
[11,5302,21,5312,null,null,null,null,null,null,1,12]

{"sheet":"!N102830.091","index":17,"n_rows":58,"n_cols":48,"rows_kept":58,"cut":false,"hidden":false,"merged":[[4,39,4,42],[5,39,5,40],[4,44,4,47],[5,44,5,45],[4,24,4,27],[5,24,5,25],[4,29,4,32],[5,29,5,30],[4,34,4,37],[5,34,5,35],[1,1,1,2],[5,13,5,14],[18,13,18,14],[19,13,19,14],[4,19,4,22],[5,19,5,20]]}
["Report for:!N102830.091"]
["Date:","<date>"]
["Hen:","<hen>",null,null,null,"Correct Sequence",{"$f":"Start!J2","v":12},null,null,null,null,null,null,null,null,"Total Sequences in Data",{"$f":"4994-COUNTBLANK(L7:L5000)","v":52},null,null,null,null,"Total Sequences in Block Data",{"$f":"COUNTA(L7:L15)","v":9},null,null,null,"Total Sequences in Block Data",{"$f":"COUNTA(L16:L23)","v":8},null,null,null,"Total Sequences in Block Data",{"$f":"COUNTA(L24:L32)","v":9},null,null,null,"Total Sequences in Block Data",{"$f":"COUNTA(L33:L41)","v":9},null,null,null,"Total Sequences in Block Data",{"$f":"COUNTA(L42:L49)","v":8},null,null,null,"Total Sequences in Block Data",{"$f":"COUNTA(L50:L58)","v":9}]
[null,null,null,null,null,null,null,null,null,null,null,null,null,null,null,"Total Sequences in Summary",{"$f":"SUM(O7:O14)","v":52},null,null,null,null,"Total Sequences in Block Summary",{"$f":"SUM(U7:U14)","v":9},null,null,null,"Total Sequences in Block Summary",{"$f":"SUM(Z7:Z14)","v":8},null,null,null,"Total Sequences in Block Summary",{"$f":"SUM(AE7:AE14)","v":9},null,null,null,"Total Sequences in Block Summary",{"$f":"SUM(AJ7:AJ14)","v":9},null,null,null,"Total Sequences in Block Summary",{"$f":"SUM(AO7:AO14)","v":8},null,null,null,"Total Sequences in Block Summary",{"$f":"SUM(AT7:AT14)","v":9}]
[null,null,null,null,null,null,null,null,null,null,null,null,null,null,null,null,null,null,null,"Block 1",null,null,null,null,"Block 2",null,null,null,null,"Block 3",null,null,null,null,"Block 4",null,null,null,null,"Block 5",null,null,null,null,"Block 6"]
["Sequence\nComponent\n1","Time\n1","Sequence\nComponent\n2","Time\n2","Sequence\nComponent\n3","Time\n3","Sequence\nComponent\n4","Time\n4","Sequence\nComponent\n5","Time\n5","Correct?\n0=No 1=Yes","Sequence",null,"Frequency",null,"Relative Frequency","Variability",null,null,"Frequency",null,"Relative Frequency","Variability",null,"Frequency",null,"Relative Frequency","Variability",null,"Frequency",null,"Relative Frequency","Variability",null,"Frequency",null,"Relative Frequency","Variability",null,"Frequency",null,"Relative Frequency","Variability",null,"Frequency",null,"Relative Frequency","Variability"]
[11,11,21,23,null,null,null,null,null,null,0,12,null,11,{"$f":"COUNTIF($L$7:$L$500,N7)","v":2},{"$f":"O7/$Q$4","v":3.8461538461538464E-2},{"$f":"IF(P7=0,0,(P7*((LOG(P7))/LOG(2))))","v":-0.18078614300542661},null,null,{"$f":"N7","v":11},{"$f":"COUNTIF(L7:L15,T7)","v":0},{"$f":"U7/(W4-U8)","v":{"$error":"#DIV/0!"}},{"$f":"IF(V7=0,0,(V7*((LOG(V7))/LOG(2))))","v":{"$error":"#DIV/0!"}},null,{"$f":"N7","v":11},{"$f":"COUNTIF(L16:L23,Y7)","v":0},{"$f":"Z7/(AB4-Z8)","v":0},{"$f":"IF(AA7=0,0,(AA7*((LOG(AA7))/LOG(2))))","v":0},null,{"$f":"N7","v":11},{"$f":"COUNTIF(L24:L32,AD7)","v":0},{"$f":"AE7/(AG4-AE8)","v":0},{"$f":"IF(AF7=0,0,(AF7*((LOG(AF7))/LOG(2))))","v":0},null,{"$f":"N7","v":11},{"$f":"COUNTIF(L33:L41,AI7)","v":1},{"$f":"AJ7/(AL4-AJ8)","v":0.25},{"$f":"IF(AK7=0,0,(AK7*((LOG(AK7))/LOG(2))))","v":-0.5},null,{"$f":"N7","v":11},{"$f":"COUNTIF(L42:L49,AN7)","v":0},{"$f":"AO7/(AQ4-AO8)","v":0},{"$f":"IF(AP7=0,0,(AP7*((LOG(AP7))/LOG(2))))","v":0},null,{"$f":"N7","v":11},{"$f":"COUNTIF(L50:L58,AS7)","v":1},{"$f":"AT7/(AV4-AT8)","v":0.33333333333333331},{"$f":"IF(AU7=0,0,(AU7*((LOG(AU7))/LOG(2))))","v":-0.52832083357371862}]
[11,115,21,129,null,null,null,null,null,null,0,12,null,12,{"$f":"COUNTIF($L$7:$L$500,N8)","v":40},{"$f":"O8/$Q$4","v":0.76923076923076927},{"$f":"IF(P8=0,0,(P8*((LOG(P8))/LOG(2))))","v":-0.29116278711825366},null,null,{"$f":"N8","v":12},{"$f":"COUNTIF(L7:L15,T8)","v":9},null,null,null,{"$f":"N8","v":12},{"$f":"COUNTIF(L16:L23,Y8)","v":6},null,null,null,{"$f":"N8","v":12},{"$f":"COUNTIF(L24:L32,AD8)","v":8},null,null,null,{"$f":"N8","v":12},{"$f":"COUNTIF(L33:L41,AI8)","v":5},null,null,null,{"$f":"N8","v":12},{"$f":"COUNTIF(L42:L49,AN8)","v":6},null,null,null,{"$f":"N8","v":12},{"$f":"COUNTIF(L50:L58,AS8)","v":6}]
[11,228,21,237,null,null,null,null,null,null,0,12,null,21,{"$f":"COUNTIF($L$7:$L$500,N9)","v":1},{"$f":"O9/$Q$4","v":1.9230769230769232E-2},{"$f":"IF(P9=0,0,(P9*((LOG(P9))/LOG(2))))","v":-0.10962384073348255},null,null,{"$f":"N9","v":21},{"$f":"COUNTIF(L7:L15,T9)","v":0},{"$f":"U9/(W4-U8)","v":{"$error":"#DIV/0!"}},{"$f":"IF(V9=0,0,(V9*((LOG(V9))/LOG(2))))","v":{"$error":"#DIV/0!"}},null,{"$f":"N9","v":21},{"$f":"COUNTIF(L16:L23,Y9)","v":0},{"$f":"Z9/(AB4-Z8)","v":0},{"$f":"IF(AA9=0,0,(AA9*((LOG(AA9))/LOG(2))))","v":0},null,{"$f":"N9","v":21},{"$f":"COUNTIF(L24:L32,AD9)","v":0},{"$f":"AE9/(AG4-AE8)","v":0},{"$f":"IF(AF9=0,0,(AF9*((LOG(AF9))/LOG(2))))","v":0},null,{"$f":"N9","v":21},{"$f":"COUNTIF(L33:L41,AI9)","v":0},{"$f":"AJ9/(AL4-AJ8)","v":0},{"$f":"IF(AK9=0,0,(AK9*((LOG(AK9))/LOG(2))))","v":0},null,{"$f":"N9","v":21},{"$f":"COUNTIF(L42:L49,AN9)","v":1},{"$f":"AO9/(AQ4-AO8)","v":0.5},{"$f":"IF(AP9=0,0,(AP9*((LOG(AP9))/LOG(2))))","v":-0.5},null,{"$f":"N9","v":21},{"$f":"COUNTIF(L50:L58,AS9)","v":0},{"$f":"AT9/(AV4-AT8)","v":0},{"$f":"IF(AU9=0,0,(AU9*((LOG(AU9))/LOG(2))))","v":0}]
[11,324,21,335,null,null,null,null,null,null,0,12,null,22,{"$f":"COUNTIF($L$7:$L$500,N10)","v":9},{"$f":"O10/$Q$4","v":0.17307692307692307},{"$f":"IF(P10=0,0,(P10*((LOG(P10))/LOG(2))))","v":-0.43797370096709648},null,null,{"$f":"N10","v":22},{"$f":"COUNTIF(L7:L15,T10)","v":0},{"$f":"U10/(W4-U8)","v":{"$error":"#DIV/0!"}},{"$f":"IF(V10=0,0,(V10*((LOG(V10))/LOG(2))))","v":{"$error":"#DIV/0!"}},null,{"$f":"N10","v":22},{"$f":"COUNTIF(L16:L23,Y10)","v":2},{"$f":"Z10/(AB4-Z8)","v":1},{"$f":"IF(AA10=0,0,(AA10*((LOG(AA10))/LOG(2))))","v":0},null,{"$f":"N10","v":22},{"$f":"COUNTIF(L24:L32,AD10)","v":1},{"$f":"AE10/(AG4-AE8)","v":1},{"$f":"IF(AF10=0,0,(AF10*((LOG(AF10))/LOG(2))))","v":0},null,{"$f":"N10","v":22},{"$f":"COUNTIF(L33:L41,AI10)","v":3},{"$f":"AJ10/(AL4-AJ8)","v":0.75},{"$f":"IF(AK10=0,0,(AK10*((LOG(AK10))/LOG(2))))","v":-0.31127812445913283},null,{"$f":"N10","v":22},{"$f":"COUNTIF(L42:L49,AN10)","v":1},{"$f":"AO10/(AQ4-AO8)","v":0.5},{"$f":"IF(AP10=0,0,(AP10*((LOG(AP10))/LOG(2))))","v":-0.5},null,{"$f":"N10","v":22},{"$f":"COUNTIF(L50:L58,AS10)","v":2},{"$f":"AT10/(AV4-AT8)","v":0.66666666666666663},{"$f":"IF(AU10=0,0,(AU10*((LOG(AU10))/LOG(2))))","v":-0.38997500048077083}]
[11,422,21,436,null,null,null,null,null,null,0,12,null,null,null,null,null,null,null,{"$f":"N11","v":0},{"$f":"COUNTIF(L7:L15,T11)","v":0},{"$f":"U11/(W4-U8)","v":{"$error":"#DIV/0!"}},{"$f":"IF(V11=0,0,(V11*((LOG(V11))/LOG(2))))","v":{"$error":"#DIV/0!"}},null,{"$f":"N11","v":0},{"$f":"COUNTIF(L16:L23,Y11)","v":0},{"$f":"Z11/(AB4-Z8)","v":0},{"$f":"IF(AA11=0,0,(AA11*((LOG(AA11))/LOG(2))))","v":0},null,{"$f":"N11","v":0},{"$f":"COUNTIF(L24:L32,AD11)","v":0},{"$f":"AE11/(AG4-AE8)","v":0},{"$f":"IF(AF11=0,0,(AF11*((LOG(AF11))/LOG(2))))","v":0},null,{"$f":"N11","v":0},{"$f":"COUNTIF(L33:L41,AI11)","v":0},{"$f":"AJ11/(AL4-AJ8)","v":0},{"$f":"IF(AK11=0,0,(AK11*((LOG(AK11))/LOG(2))))","v":0},null,{"$f":"N11","v":0},{"$f":"COUNTIF(L42:L49,AN11)","v":0},{"$f":"AO11/(AQ4-AO8)","v":0},{"$f":"IF(AP11=0,0,(AP11*((LOG(AP11))/LOG(2))))","v":0},null,{"$f":"N11","v":0},{"$f":"COUNTIF(L50:L58,AS11)","v":0},{"$f":"AT11/(AV4-AT8)","v":0},{"$f":"IF(AU11=0,0,(AU11*((LOG(AU11))/LOG(2))))","v":0}]
[11,526,21,540,null,null,null,null,null,null,0,12,null,null,null,null,null,null,null,{"$f":"N12","v":0},{"$f":"COUNTIF(L7:L15,T12)","v":0},{"$f":"U12/(W4-U8)","v":{"$error":"#DIV/0!"}},{"$f":"IF(V12=0,0,(V12*((LOG(V12))/LOG(2))))","v":{"$error":"#DIV/0!"}},null,{"$f":"N12","v":0},{"$f":"COUNTIF(L16:L23,Y12)","v":0},{"$f":"Z12/(AB4-Z8)","v":0},{"$f":"IF(AA12=0,0,(AA12*((LOG(AA12))/LOG(2))))","v":0},null,{"$f":"N12","v":0},{"$f":"COUNTIF(L24:L32,AD12)","v":0},{"$f":"AE12/(AG4-AE8)","v":0},{"$f":"IF(AF12=0,0,(AF12*((LOG(AF12))/LOG(2))))","v":0},null,{"$f":"N12","v":0},{"$f":"COUNTIF(L33:L41,AI12)","v":0},{"$f":"AJ12/(AL4-AJ8)","v":0},{"$f":"IF(AK12=0,0,(AK12*((LOG(AK12))/LOG(2))))","v":0},null,{"$f":"N12","v":0},{"$f":"COUNTIF(L42:L49,AN12)","v":0},{"$f":"AO12/(AQ4-AO8)","v":0},{"$f":"IF(AP12=0,0,(AP12*((LOG(AP12))/LOG(2))))","v":0},null,{"$f":"N12","v":0},{"$f":"COUNTIF(L50:L58,AS12)","v":0},{"$f":"AT12/(AV4-AT8)","v":0},{"$f":"IF(AU12=0,0,(AU12*((LOG(AU12))/LOG(2))))","v":0}]
[11,627,21,636,null,null,null,null,null,null,0,12,null,null,null,null,null,null,null,{"$f":"N13","v":0},{"$f":"COUNTIF(L7:L15,T13)","v":0},{"$f":"U13/(W4-U8)","v":{"$error":"#DIV/0!"}},{"$f":"IF(V13=0,0,(V13*((LOG(V13))/LOG(2))))","v":{"$error":"#DIV/0!"}},null,{"$f":"N13","v":0},{"$f":"COUNTIF(L16:L23,Y13)","v":0},{"$f":"Z13/(AB4-Z8)","v":0},{"$f":"IF(AA13=0,0,(AA13*((LOG(AA13))/LOG(2))))","v":0},null,{"$f":"N13","v":0},{"$f":"COUNTIF(L24:L32,AD13)","v":0},{"$f":"AE13/(AG4-AE8)","v":0},{"$f":"IF(AF13=0,0,(AF13*((LOG(AF13))/LOG(2))))","v":0},null,{"$f":"N13","v":0},{"$f":"COUNTIF(L33:L41,AI13)","v":0},{"$f":"AJ13/(AL4-AJ8)","v":0},{"$f":"IF(AK13=0,0,(AK13*((LOG(AK13))/LOG(2))))","v":0},null,{"$f":"N13","v":0},{"$f":"COUNTIF(L42:L49,AN13)","v":0},{"$f":"AO13/(AQ4-AO8)","v":0},{"$f":"IF(AP13=0,0,(AP13*((LOG(AP13))/LOG(2))))","v":0},null,{"$f":"N13","v":0},{"$f":"COUNTIF(L50:L58,AS13)","v":0},{"$f":"AT13/(AV4-AT8)","v":0},{"$f":"IF(AU13=0,0,(AU13*((LOG(AU13))/LOG(2))))","v":0}]
[11,726,21,739,null,null,null,null,null,null,0,12,null,null,null,null,null,null,null,{"$f":"N14","v":0},{"$f":"COUNTIF(L7:L15,T14)","v":0},{"$f":"U14/(W4-U8)","v":{"$error":"#DIV/0!"}},{"$f":"IF(V14=0,0,(V14*((LOG(V14))/LOG(2))))","v":{"$error":"#DIV/0!"}},null,{"$f":"N14","v":0},{"$f":"COUNTIF(L16:L23,Y14)","v":0},{"$f":"Z14/(AB4-Z8)","v":0},{"$f":"IF(AA14=0,0,(AA14*((LOG(AA14))/LOG(2))))","v":0},null,{"$f":"N14","v":0},{"$f":"COUNTIF(L24:L32,AD14)","v":0},{"$f":"AE14/(AG4-AE8)","v":0},{"$f":"IF(AF14=0,0,(AF14*((LOG(AF14))/LOG(2))))","v":0},null,{"$f":"N14","v":0},{"$f":"COUNTIF(L33:L41,AI14)","v":0},{"$f":"AJ14/(AL4-AJ8)","v":0},{"$f":"IF(AK14=0,0,(AK14*((LOG(AK14))/LOG(2))))","v":0},null,{"$f":"N14","v":0},{"$f":"COUNTIF(L42:L49,AN14)","v":0},{"$f":"AO14/(AQ4-AO8)","v":0},{"$f":"IF(AP14=0,0,(AP14*((LOG(AP14))/LOG(2))))","v":0},null,{"$f":"N14","v":0},{"$f":"COUNTIF(L50:L58,AS14)","v":0},{"$f":"AT14/(AV4-AT8)","v":0},{"$f":"IF(AU14=0,0,(AU14*((LOG(AU14))/LOG(2))))","v":0}]
[11,825,21,851,null,null,null,null,null,null,0,12,null,null,null,{"$f":"SUM(P7:P14)","v":1},{"$f":"-SUM(Q7:Q14)","v":1.0195464718242593},null,null,null,null,{"$f":"SUM(V7:V14)","v":{"$error":"#DIV/0!"}},{"$f":"-SUM(W7:W14)","v":{"$error":"#DIV/0!"}},null,null,null,{"$f":"SUM(AA7:AA14)","v":1},{"$f":"-SUM(AB7:AB14)","v":0},null,null,null,{"$f":"SUM(AF7:AF14)","v":1},{"$f":"-SUM(AG7:AG14)","v":0},null,null,null,{"$f":"SUM(AK7:AK14)","v":1},{"$f":"-SUM(AL7:AL14)","v":0.81127812445913283},null,null,null,{"$f":"SUM(AP7:AP14)","v":1},{"$f":"-SUM(AQ7:AQ14)","v":1},null,null,null,{"$f":"SUM(AU7:AU14)","v":1},{"$f":"-SUM(AV7:AV14)","v":0.91829583405448945}]
[22,949,23,969,null,null,null,null,null,null,0,22,null,null,null,"U=",{"$f":"Q15/(LOG(Q4)/LOG(2))","v":0.17885400464452808},null,null,null,null,"U1=",{"$f":"W15/(LOG(W4)/LOG(2))","v":{"$error":"#DIV/0!"}},null,null,null,"U2=",{"$f":"AB15/(LOG(AB4)/LOG(2))","v":0},null,null,null,"U3=",{"$f":"AG15/(LOG(AG4)/LOG(2))","v":0},null,null,null,"U4=",{"$f":"AL15/(LOG(AL4)/LOG(2))","v":0.25592975357145742},null,null,null,"U5=",{"$f":"AQ15/(LOG(AQ4)/LOG(2))","v":0.33333333333333331},null,null,null,"U6=",{"$f":"AV15/(LOG(AV4)/LOG(2))","v":0.28969008214284753}]
[11,1065,21,1078,null,null,null,null,null,null,0,12]
[11,1167,21,1179,null,null,null,null,null,null,0,12]
[22,1278,23,1286,null,null,null,null,null,null,0,22,null,"Total Target Seq"]
[11,1383,21,1397,null,null,null,null,null,null,0,12,null,{"$f":"COUNTIF(L7:L58,G3)","v":40},null,9,8,9,9,8,9]
[11,1489,21,1501,null,null,null,null,null,null,0,12,null,null,null,"% of reinforcement given in 6 equal intervals based on number of trials "]
[11,1593,21,1606,null,null,null,null,null,null,0,12,null,null,null,"%_1","%_2","%_3","%_4","%_5","%_6"]
[11,1695,21,1706,null,null,null,null,null,null,0,12,null,null,"target sequence",{"$f":"$G$3","v":12},{"$f":"$G$3","v":12},{"$f":"$G$3","v":12},{"$f":"$G$3","v":12},{"$f":"$G$3","v":12},{"$f":"$G$3","v":12}]
[11,1793,21,1805,null,null,null,null,null,null,0,12,null,null,"total reinforcement",{"$f":"U8","v":9},{"$f":"Z8","v":6},{"$f":"AE8","v":8},{"$f":"AJ8","v":5},{"$f":"AO8","v":6},{"$f":"AT8","v":6}]
[11,1891,21,1903,null,null,null,null,null,null,0,12,null,null,"% target"]
[11,1990,21,2003,null,null,null,null,null,null,0,12,null,null,"CCRF"]
[11,2091,21,2103,null,null,null,null,null,null,0,12,null,null,"% CCRf"]
[11,2187,21,2198,null,null,null,null,null,null,0,12,null,null,"average response rate",{"$f":"D15/P20","v":94.555555555555557},{"$f":"(D23-D15)/Q20","v":106.875},{"$f":"(D32-D23)/R20","v":103.77777777777777},{"$f":"(D41-D32)/S20","v":108.22222222222223},{"$f":"(D49-D41)/T20","v":112.375},{"$f":"(D58-D49)/U20","v":106.22222222222223}]
[22,2293,23,2302,null,null,null,null,null,null,0,22]
[11,2398,21,2411,null,null,null,null,null,null,0,12]
[11,2497,21,2507,null,null,null,null,null,null,0,12]
[11,2592,21,2640,null,null,null,null,null,null,0,12]
[22,2734,23,2748,null,null,null,null,null,null,0,22]
[11,2846,21,2858,null,null,null,null,null,null,0,12]
[22,2957,23,2971,null,null,null,null,null,null,0,22]
[11,3074,21,3086,null,null,null,null,null,null,0,12]
[11,3172,21,3192,null,null,null,null,null,null,0,12]
[11,3273,12,3278,null,null,null,null,null,null,0,11]
[11,3382,21,3395,null,null,null,null,null,null,0,12]
[22,3494,23,3503,null,null,null,null,null,null,0,22]
[11,3599,21,3614,null,null,null,null,null,null,0,12]
[11,3700,21,3714,null,null,null,null,null,null,0,12]
[11,3805,21,3815,null,null,null,null,null,null,0,12]
[11,3902,21,3914,null,null,null,null,null,null,0,12]
[22,4055,14,4076,null,null,null,null,null,null,0,21]
[22,4185,23,4193,null,null,null,null,null,null,0,22]
[11,4291,21,4303,null,null,null,null,null,null,0,12]
[11,4393,21,4403,null,null,null,null,null,null,0,12]
[11,4492,21,4513,null,null,null,null,null,null,0,12]
[11,4597,21,4612,null,null,null,null,null,null,0,12]
[11,4697,21,4708,null,null,null,null,null,null,0,12]
[22,4807,23,4814,null,null,null,null,null,null,0,22]
[11,4909,21,4922,null,null,null,null,null,null,0,12]
[11,5014,21,5025,null,null,null,null,null,null,0,12]
[11,5120,21,5144,null,null,null,null,null,null,0,12]
[11,5226,12,5231,null,null,null,null,null,null,0,11]
[22,5338,23,5353,null,null,null,null,null,null,0,22]
[11,5454,21,5469,null,null,null,null,null,null,1,12]

{"sheet":"!N104A00.091","index":18,"n_rows":49,"n_cols":48,"rows_kept":49,"cut":false,"hidden":false,"merged":[[4,39,4,42],[5,39,5,40],[4,44,4,47],[5,44,5,45],[4,24,4,27],[5,24,5,25],[4,29,4,32],[5,29,5,30],[4,34,4,37],[5,34,5,35],[1,1,1,2],[5,13,5,14],[18,13,18,14],[19,13,19,14],[4,19,4,22],[5,19,5,20]]}
["Report for:!N104A00.091"]
["Date:","<date>"]
["Hen:","<hen>",null,null,null,"Correct Sequence",{"$f":"Start!J2","v":12},null,null,null,null,null,null,null,null,"Total Sequences in Data",{"$f":"4994-COUNTBLANK(L7:L5000)","v":43},null,null,null,null,"Total Sequences in Block Data",{"$f":"COUNTA(L7:L13)","v":7},null,null,null,"Total Sequences in Block Data",{"$f":"COUNTA(L14:L20)","v":7},null,null,null,"Total Sequences in Block Data",{"$f":"COUNTA(L21:L28)","v":8},null,null,null,"Total Sequences in Block Data",{"$f":"COUNTA(L29:L35)","v":7},null,null,null,"Total Sequences in Block Data",{"$f":"COUNTA(L36:L42)","v":7},null,null,null,"Total Sequences in Block Data",{"$f":"COUNTA(L43:L49)","v":7}]
[null,null,null,null,null,null,null,null,null,null,null,null,null,null,null,"Total Sequences in Summary",{"$f":"SUM(O7:O14)","v":43},null,null,null,null,"Total Sequences in Block Summary",{"$f":"SUM(U7:U14)","v":7},null,null,null,"Total Sequences in Block Summary",{"$f":"SUM(Z7:Z14)","v":7},null,null,null,"Total Sequences in Block Summary",{"$f":"SUM(AE7:AE14)","v":8},null,null,null,"Total Sequences in Block Summary",{"$f":"SUM(AJ7:AJ14)","v":7},null,null,null,"Total Sequences in Block Summary",{"$f":"SUM(AO7:AO14)","v":7},null,null,null,"Total Sequences in Block Summary",{"$f":"SUM(AT7:AT14)","v":7}]
[null,null,null,null,null,null,null,null,null,null,null,null,null,null,null,null,null,null,null,"Block 1",null,null,null,null,"Block 2",null,null,null,null,"Block 3",null,null,null,null,"Block 4",null,null,null,null,"Block 5",null,null,null,null,"Block 6"]
["Sequence\nComponent\n1","Time\n1","Sequence\nComponent\n2","Time\n2","Sequence\nComponent\n3","Time\n3","Sequence\nComponent\n4","Time\n4","Sequence\nComponent\n5","Time\n5","Correct?\n0=No 1=Yes","Sequence",null,"Frequency",null,"Relative Frequency","Variability",null,null,"Frequency",null,"Relative Frequency","Variability",null,"Frequency",null,"Relative Frequency","Variability",null,"Frequency",null,"Relative Frequency","Variability",null,"Frequency",null,"Relative Frequency","Variability",null,"Frequency",null,"Relative Frequency","Variability",null,"Frequency",null,"Relative Frequency","Variability"]
[11,18,21,32,null,null,null,null,null,null,0,12,null,11,{"$f":"COUNTIF($L$7:$L$500,N7)","v":1},{"$f":"O7/$Q$4","v":2.3255813953488372E-2},{"$f":"IF(P7=0,0,(P7*((LOG(P7))/LOG(2))))","v":-0.12619220359772321},null,null,{"$f":"N7","v":11},{"$f":"COUNTIF(L7:L13,T7)","v":1},{"$f":"U7/(W4-U8)","v":1},{"$f":"IF(V7=0,0,(V7*((LOG(V7))/LOG(2))))","v":0},null,{"$f":"N7","v":11},{"$f":"COUNTIF(L14:L20,Y7)","v":0},{"$f":"Z7/(AB4-Z8)","v":0},{"$f":"IF(AA7=0,0,(AA7*((LOG(AA7))/LOG(2))))","v":0},null,{"$f":"N7","v":11},{"$f":"COUNTIF(L21:L28,AD7)","v":0},{"$f":"AE7/(AG4-AE8)","v":{"$error":"#DIV/0!"}},{"$f":"IF(AF7=0,0,(AF7*((LOG(AF7))/LOG(2))))","v":{"$error":"#DIV/0!"}},null,{"$f":"N7","v":11},{"$f":"COUNTIF(L29:L35,AI7)","v":0},{"$f":"AJ7/(AL4-AJ8)","v":{"$error":"#DIV/0!"}},{"$f":"IF(AK7=0,0,(AK7*((LOG(AK7))/LOG(2))))","v":{"$error":"#DIV/0!"}},null,{"$f":"N7","v":11},{"$f":"COUNTIF(L36:L42,AN7)","v":0},{"$f":"AO7/(AQ4-AO8)","v":0},{"$f":"IF(AP7=0,0,(AP7*((LOG(AP7))/LOG(2))))","v":0},null,{"$f":"N7","v":11},{"$f":"COUNTIF(L43:L49,AS7)","v":0},{"$f":"AT7/(AV4-AT8)","v":{"$error":"#DIV/0!"}},{"$f":"IF(AU7=0,0,(AU7*((LOG(AU7))/LOG(2))))","v":{"$error":"#DIV/0!"}}]
[11,120,21,136,null,null,null,null,null,null,0,12,null,12,{"$f":"COUNTIF($L$7:$L$500,N8)","v":40},{"$f":"O8/$Q$4","v":0.93023255813953487},{"$f":"IF(P8=0,0,(P8*((LOG(P8))/LOG(2))))","v":-9.7057357967195917E-2},null,null,{"$f":"N8","v":12},{"$f":"COUNTIF(L7:L13,T8)","v":6},null,null,null,{"$f":"N8","v":12},{"$f":"COUNTIF(L14:L20,Y8)","v":6},null,null,null,{"$f":"N8","v":12},{"$f":"COUNTIF(L21:L28,AD8)","v":8},null,null,null,{"$f":"N8","v":12},{"$f":"COUNTIF(L29:L35,AI8)","v":7},null,null,null,{"$f":"N8","v":12},{"$f":"COUNTIF(L36:L42,AN8)","v":6},null,null,null,{"$f":"N8","v":12},{"$f":"COUNTIF(L43:L49,AS8)","v":7}]
[11,250,21,287,null,null,null,null,null,null,0,12,null,21,{"$f":"COUNTIF($L$7:$L$500,N9)","v":0},{"$f":"O9/$Q$4","v":0},{"$f":"IF(P9=0,0,(P9*((LOG(P9))/LOG(2))))","v":0},null,null,{"$f":"N9","v":21},{"$f":"COUNTIF(L7:L13,T9)","v":0},{"$f":"U9/(W4-U8)","v":0},{"$f":"IF(V9=0,0,(V9*((LOG(V9))/LOG(2))))","v":0},null,{"$f":"N9","v":21},{"$f":"COUNTIF(L14:L20,Y9)","v":0},{"$f":"Z9/(AB4-Z8)","v":0},{"$f":"IF(AA9=0,0,(AA9*((LOG(AA9))/LOG(2))))","v":0},null,{"$f":"N9","v":21},{"$f":"COUNTIF(L21:L28,AD9)","v":0},{"$f":"AE9/(AG4-AE8)","v":{"$error":"#DIV/0!"}},{"$f":"IF(AF9=0,0,(AF9*((LOG(AF9))/LOG(2))))","v":{"$error":"#DIV/0!"}},null,{"$f":"N9","v":21},{"$f":"COUNTIF(L29:L35,AI9)","v":0},{"$f":"AJ9/(AL4-AJ8)","v":{"$error":"#DIV/0!"}},{"$f":"IF(AK9=0,0,(AK9*((LOG(AK9))/LOG(2))))","v":{"$error":"#DIV/0!"}},null,{"$f":"N9","v":21},{"$f":"COUNTIF(L36:L42,AN9)","v":0},{"$f":"AO9/(AQ4-AO8)","v":0},{"$f":"IF(AP9=0,0,(AP9*((LOG(AP9))/LOG(2))))","v":0},null,{"$f":"N9","v":21},{"$f":"COUNTIF(L43:L49,AS9)","v":0},{"$f":"AT9/(AV4-AT8)","v":{"$error":"#DIV/0!"}},{"$f":"IF(AU9=0,0,(AU9*((LOG(AU9))/LOG(2))))","v":{"$error":"#DIV/0!"}}]
[11,375,21,388,null,null,null,null,null,null,0,12,null,22,{"$f":"COUNTIF($L$7:$L$500,N10)","v":2},{"$f":"O10/$Q$4","v":4.6511627906976744E-2},{"$f":"IF(P10=0,0,(P10*((LOG(P10))/LOG(2))))","v":-0.20587277928846967},null,null,{"$f":"N10","v":22},{"$f":"COUNTIF(L7:L13,T10)","v":0},{"$f":"U10/(W4-U8)","v":0},{"$f":"IF(V10=0,0,(V10*((LOG(V10))/LOG(2))))","v":0},null,{"$f":"N10","v":22},{"$f":"COUNTIF(L14:L20,Y10)","v":1},{"$f":"Z10/(AB4-Z8)","v":1},{"$f":"IF(AA10=0,0,(AA10*((LOG(AA10))/LOG(2))))","v":0},null,{"$f":"N10","v":22},{"$f":"COUNTIF(L21:L28,AD10)","v":0},{"$f":"AE10/(AG4-AE8)","v":{"$error":"#DIV/0!"}},{"$f":"IF(AF10=0,0,(AF10*((LOG(AF10))/LOG(2))))","v":{"$error":"#DIV/0!"}},null,{"$f":"N10","v":22},{"$f":"COUNTIF(L29:L35,AI10)","v":0},{"$f":"AJ10/(AL4-AJ8)","v":{"$error":"#DIV/0!"}},{"$f":"IF(AK10=0,0,(AK10*((LOG(AK10))/LOG(2))))","v":{"$error":"#DIV/0!"}},null,{"$f":"N10","v":22},{"$f":"COUNTIF(L36:L42,AN10)","v":1},{"$f":"AO10/(AQ4-AO8)","v":1},{"$f":"IF(AP10=0,0,(AP10*((LOG(AP10))/LOG(2))))","v":0},null,{"$f":"N10","v":22},{"$f":"COUNTIF(L43:L49,AS10)","v":0},{"$f":"AT10/(AV4-AT8)","v":{"$error":"#DIV/0!"}},{"$f":"IF(AU10=0,0,(AU10*((LOG(AU10))/LOG(2))))","v":{"$error":"#DIV/0!"}}]
[11,473,21,486,null,null,null,null,null,null,0,12,null,null,null,null,null,null,null,{"$f":"N11","v":0},{"$f":"COUNTIF(L7:L13,T11)","v":0},{"$f":"U11/(W4-U8)","v":0},{"$f":"IF(V11=0,0,(V11*((LOG(V11))/LOG(2))))","v":0},null,{"$f":"N11","v":0},{"$f":"COUNTIF(L14:L20,Y11)","v":0},{"$f":"Z11/(AB4-Z8)","v":0},{"$f":"IF(AA11=0,0,(AA11*((LOG(AA11))/LOG(2))))","v":0},null,{"$f":"N11","v":0},{"$f":"COUNTIF(L21:L28,AD11)","v":0},{"$f":"AE11/(AG4-AE8)","v":{"$error":"#DIV/0!"}},{"$f":"IF(AF11=0,0,(AF11*((LOG(AF11))/LOG(2))))","v":{"$error":"#DIV/0!"}},null,{"$f":"N11","v":0},{"$f":"COUNTIF(L29:L35,AI11)","v":0},{"$f":"AJ11/(AL4-AJ8)","v":{"$error":"#DIV/0!"}},{"$f":"IF(AK11=0,0,(AK11*((LOG(AK11))/LOG(2))))","v":{"$error":"#DIV/0!"}},null,{"$f":"N11","v":0},{"$f":"COUNTIF(L36:L42,AN11)","v":0},{"$f":"AO11/(AQ4-AO8)","v":0},{"$f":"IF(AP11=0,0,(AP11*((LOG(AP11))/LOG(2))))","v":0},null,{"$f":"N11","v":0},{"$f":"COUNTIF(L43:L49,AS11)","v":0},{"$f":"AT11/(AV4-AT8)","v":{"$error":"#DIV/0!"}},{"$f":"IF(AU11=0,0,(AU11*((LOG(AU11))/LOG(2))))","v":{"$error":"#DIV/0!"}}]
[11,577,21,590,null,null,null,null,null,null,0,12,null,null,null,null,null,null,null,{"$f":"N12","v":0},{"$f":"COUNTIF(L7:L13,T12)","v":0},{"$f":"U12/(W4-U8)","v":0},{"$f":"IF(V12=0,0,(V12*((LOG(V12))/LOG(2))))","v":0},null,{"$f":"N12","v":0},{"$f":"COUNTIF(L14:L20,Y12)","v":0},{"$f":"Z12/(AB4-Z8)","v":0},{"$f":"IF(AA12=0,0,(AA12*((LOG(AA12))/LOG(2))))","v":0},null,{"$f":"N12","v":0},{"$f":"COUNTIF(L21:L28,AD12)","v":0},{"$f":"AE12/(AG4-AE8)","v":{"$error":"#DIV/0!"}},{"$f":"IF(AF12=0,0,(AF12*((LOG(AF12))/LOG(2))))","v":{"$error":"#DIV/0!"}},null,{"$f":"N12","v":0},{"$f":"COUNTIF(L29:L35,AI12)","v":0},{"$f":"AJ12/(AL4-AJ8)","v":{"$error":"#DIV/0!"}},{"$f":"IF(AK12=0,0,(AK12*((LOG(AK12))/LOG(2))))","v":{"$error":"#DIV/0!"}},null,{"$f":"N12","v":0},{"$f":"COUNTIF(L36:L42,AN12)","v":0},{"$f":"AO12/(AQ4-AO8)","v":0},{"$f":"IF(AP12=0,0,(AP12*((LOG(AP12))/LOG(2))))","v":0},null,{"$f":"N12","v":0},{"$f":"COUNTIF(L43:L49,AS12)","v":0},{"$f":"AT12/(AV4-AT8)","v":{"$error":"#DIV/0!"}},{"$f":"IF(AU12=0,0,(AU12*((LOG(AU12))/LOG(2))))","v":{"$error":"#DIV/0!"}}]
[11,679,12,704,null,null,null,null,null,null,0,11,null,null,null,null,null,null,null,{"$f":"N13","v":0},{"$f":"COUNTIF(L7:L13,T13)","v":0},{"$f":"U13/(W4-U8)","v":0},{"$f":"IF(V13=0,0,(V13*((LOG(V13))/LOG(2))))","v":0},null,{"$f":"N13","v":0},{"$f":"COUNTIF(L14:L20,Y13)","v":0},{"$f":"Z13/(AB4-Z8)","v":0},{"$f":"IF(AA13=0,0,(AA13*((LOG(AA13))/LOG(2))))","v":0},null,{"$f":"N13","v":0},{"$f":"COUNTIF(L21:L28,AD13)","v":0},{"$f":"AE13/(AG4-AE8)","v":{"$error":"#DIV/0!"}},{"$f":"IF(AF13=0,0,(AF13*((LOG(AF13))/LOG(2))))","v":{"$error":"#DIV/0!"}},null,{"$f":"N13","v":0},{"$f":"COUNTIF(L29:L35,AI13)","v":0},{"$f":"AJ13/(AL4-AJ8)","v":{"$error":"#DIV/0!"}},{"$f":"IF(AK13=0,0,(AK13*((LOG(AK13))/LOG(2))))","v":{"$error":"#DIV/0!"}},null,{"$f":"N13","v":0},{"$f":"COUNTIF(L36:L42,AN13)","v":0},{"$f":"AO13/(AQ4-AO8)","v":0},{"$f":"IF(AP13=0,0,(AP13*((LOG(AP13))/LOG(2))))","v":0},null,{"$f":"N13","v":0},{"$f":"COUNTIF(L43:L49,AS13)","v":0},{"$f":"AT13/(AV4-AT8)","v":{"$error":"#DIV/0!"}},{"$f":"IF(AU13=0,0,(AU13*((LOG(AU13))/LOG(2))))","v":{"$error":"#DIV/0!"}}]
[11,798,21,813,null,null,null,null,null,null,0,12,null,null,null,null,null,null,null,{"$f":"N14","v":0},{"$f":"COUNTIF(L7:L13,T14)","v":0},{"$f":"U14/(W4-U8)","v":0},{"$f":"IF(V14=0,0,(V14*((LOG(V14))/LOG(2))))","v":0},null,{"$f":"N14","v":0},{"$f":"COUNTIF(L14:L20,Y14)","v":0},{"$f":"Z14/(AB4-Z8)","v":0},{"$f":"IF(AA14=0,0,(AA14*((LOG(AA14))/LOG(2))))","v":0},null,{"$f":"N14","v":0},{"$f":"COUNTIF(L21:L28,AD14)","v":0},{"$f":"AE14/(AG4-AE8)","v":{"$error":"#DIV/0!"}},{"$f":"IF(AF14=0,0,(AF14*((LOG(AF14))/LOG(2))))","v":{"$error":"#DIV/0!"}},null,{"$f":"N14","v":0},{"$f":"COUNTIF(L29:L35,AI14)","v":0},{"$f":"AJ14/(AL4-AJ8)","v":{"$error":"#DIV/0!"}},{"$f":"IF(AK14=0,0,(AK14*((LOG(AK14))/LOG(2))))","v":{"$error":"#DIV/0!"}},null,{"$f":"N14","v":0},{"$f":"COUNTIF(L36:L42,AN14)","v":0},{"$f":"AO14/(AQ4-AO8)","v":0},{"$f":"IF(AP14=0,0,(AP14*((LOG(AP14))/LOG(2))))","v":0},null,{"$f":"N14","v":0},{"$f":"COUNTIF(L43:L49,AS14)","v":0},{"$f":"AT14/(AV4-AT8)","v":{"$error":"#DIV/0!"}},{"$f":"IF(AU14=0,0,(AU14*((LOG(AU14))/LOG(2))))","v":{"$error":"#DIV/0!"}}]
[11,898,21,910,null,null,null,null,null,null,0,12,null,null,null,{"$f":"SUM(P7:P14)","v":1},{"$f":"-SUM(Q7:Q14)","v":0.4291223408533888},null,null,null,null,{"$f":"SUM(V7:V14)","v":1},{"$f":"-SUM(W7:W14)","v":0},null,null,null,{"$f":"SUM(AA7:AA14)","v":1},{"$f":"-SUM(AB7:AB14)","v":0},null,null,null,{"$f":"SUM(AF7:AF14)","v":{"$error":"#DIV/0!"}},{"$f":"-SUM(AG7:AG14)","v":{"$error":"#DIV/0!"}},null,null,null,{"$f":"SUM(AK7:AK14)","v":{"$error":"#DIV/0!"}},{"$f":"-SUM(AL7:AL14)","v":{"$error":"#DIV/0!"}},null,null,null,{"$f":"SUM(AP7:AP14)","v":1},{"$f":"-SUM(AQ7:AQ14)","v":0},null,null,null,{"$f":"SUM(AU7:AU14)","v":{"$error":"#DIV/0!"}},{"$f":"-SUM(AV7:AV14)","v":{"$error":"#DIV/0!"}}]
[22,1008,23,1020,null,null,null,null,null,null,0,22,null,null,null,"U=",{"$f":"Q15/(LOG(Q4)/LOG(2))","v":7.9082455473912391E-2},null,null,null,null,"U1=",{"$f":"W15/(LOG(W4)/LOG(2))","v":0},null,null,null,"U2=",{"$f":"AB15/(LOG(AB4)/LOG(2))","v":0},null,null,null,"U3=",{"$f":"AG15/(LOG(AG4)/LOG(2))","v":{"$error":"#DIV/0!"}},null,null,null,"U4=",{"$f":"AL15/(LOG(AL4)/LOG(2))","v":{"$error":"#DIV/0!"}},null,null,null,"U5=",{"$f":"AQ15/(LOG(AQ4)/LOG(2))","v":0},null,null,null,"U6=",{"$f":"AV15/(LOG(AV4)/LOG(2))","v":{"$error":"#DIV/0!"}}]
[11,1119,21,1145,null,null,null,null,null,null,0,12]
[11,1231,21,1241,null,null,null,null,null,null,0,12]
[11,1328,21,1338,null,null,null,null,null,null,0,12,null,"Total Target Seq"]
[11,1427,21,1466,null,null,null,null,null,null,0,12,null,{"$f":"COUNTIF(L7:L49,G3)","v":40},null,7,7,8,7,7,7]
[11,1555,21,1565,null,null,null,null,null,null,0,12,null,null,null,"% of reinforcement given in 6 equal intervals based on number of trials "]
[11,1650,21,1663,null,null,null,null,null,null,0,12,null,null,null,"%_1","%_2","%_3","%_4","%_5","%_6"]
[11,1747,21,1757,null,null,null,null,null,null,0,12,null,null,"target sequence",{"$f":"$G$3","v":12},{"$f":"$G$3","v":12},{"$f":"$G$3","v":12},{"$f":"$G$3","v":12},{"$f":"$G$3","v":12},{"$f":"$G$3","v":12}]
[11,1847,21,1892,null,null,null,null,null,null,0,12,null,null,"total reinforcement",{"$f":"U8","v":6},{"$f":"Z8","v":6},{"$f":"AE8","v":8},{"$f":"AJ8","v":7},{"$f":"AO8","v":6},{"$f":"AT8","v":7}]
[11,1982,21,1992,null,null,null,null,null,null,0,12,null,null,"% target"]
[11,2080,21,2099,null,null,null,null,null,null,0,12,null,null,"CCRF"]
[11,2186,21,2209,null,null,null,null,null,null,0,12,null,null,"% CCRf"]
[11,2294,21,2308,null,null,null,null,null,null,0,12,null,null,"average response rate",{"$f":"D13/P20","v":100.57142857142857},{"$f":"(D20-D13)/Q20","v":108.85714285714286},{"$f":"(D28-D20)/R20","v":105.25},{"$f":"(D35-D28)/S20","v":100.42857142857143},{"$f":"(D42-D35)/T20","v":103.42857142857143},{"$f":"(D49-D42)/U20","v":111.57142857142857}]
[11,2395,21,2406,null,null,null,null,null,null,0,12]
[11,2495,21,2517,null,null,null,null,null,null,0,12]
[11,2604,21,2614,null,null,null,null,null,null,0,12]
[11,2700,21,2714,null,null,null,null,null,null,0,12]
[11,2800,21,2813,null,null,null,null,null,null,0,12]
[11,2901,21,2915,null,null,null,null,null,null,0,12]
[11,3001,21,3011,null,null,null,null,null,null,0,12]
[11,3098,21,3109,null,null,null,null,null,null,0,12]
[11,3195,21,3224,null,null,null,null,null,null,0,12]
[11,3313,21,3322,null,null,null,null,null,null,0,12]
[11,3409,21,3421,null,null,null,null,null,null,0,12]
[11,3508,21,3517,null,null,null,null,null,null,0,12]
[11,3610,21,3620,null,null,null,null,null,null,0,12]
[22,3719,23,3735,null,null,null,null,null,null,0,22]
[11,3834,21,3849,null,null,null,null,null,null,0,12]
[11,3937,21,3951,null,null,null,null,null,null,0,12]
[11,4047,21,4061,null,null,null,null,null,null,0,12]
[11,4149,21,4168,null,null,null,null,null,null,0,12]
[11,4255,21,4302,null,null,null,null,null,null,0,12]
[11,4392,21,4412,null,null,null,null,null,null,0,12]
[11,4503,21,4516,null,null,null,null,null,null,1,12]

{"sheet":"!N105830.091","index":19,"n_rows":68,"n_cols":48,"rows_kept":68,"cut":false,"hidden":false,"merged":[[4,39,4,42],[5,39,5,40],[4,44,4,47],[5,44,5,45],[4,24,4,27],[5,24,5,25],[4,29,4,32],[5,29,5,30],[4,34,4,37],[5,34,5,35],[1,1,1,2],[5,13,5,14],[18,13,18,14],[19,13,19,14],[4,19,4,22],[5,19,5,20]]}
["Report for:!N105830.091"]
["Date:","<date>"]
["Hen:","<hen>",null,null,null,"Correct Sequence",{"$f":"Start!J2","v":12},null,null,null,null,null,null,null,null,"Total Sequences in Data",{"$f":"4994-COUNTBLANK(L7:L5000)","v":62},null,null,null,null,"Total Sequences in Block Data",{"$f":"COUNTA(L7:L16)","v":10},null,null,null,"Total Sequences in Block Data",{"$f":"COUNTA(L17:L27)","v":11},null,null,null,"Total Sequences in Block Data",{"$f":"COUNTA(L28:L37)","v":10},null,null,null,"Total Sequences in Block Data",{"$f":"COUNTA(L38:L47)","v":10},null,null,null,"Total Sequences in Block Data",{"$f":"COUNTA(L48:L58)","v":11},null,null,null,"Total Sequences in Block Data",{"$f":"COUNTA(L59:L68)","v":10}]
[null,null,null,null,null,null,null,null,null,null,null,null,null,null,null,"Total Sequences in Summary",{"$f":"SUM(O7:O14)","v":62},null,null,null,null,"Total Sequences in Block Summary",{"$f":"SUM(U7:U14)","v":10},null,null,null,"Total Sequences in Block Summary",{"$f":"SUM(Z7:Z14)","v":11},null,null,null,"Total Sequences in Block Summary",{"$f":"SUM(AE7:AE14)","v":10},null,null,null,"Total Sequences in Block Summary",{"$f":"SUM(AJ7:AJ14)","v":10},null,null,null,"Total Sequences in Block Summary",{"$f":"SUM(AO7:AO14)","v":11},null,null,null,"Total Sequences in Block Summary",{"$f":"SUM(AT7:AT14)","v":10}]
[null,null,null,null,null,null,null,null,null,null,null,null,null,null,null,null,null,null,null,"Block 1",null,null,null,null,"Block 2",null,null,null,null,"Block 3",null,null,null,null,"Block 4",null,null,null,null,"Block 5",null,null,null,null,"Block 6"]
["Sequence\nComponent\n1","Time\n1","Sequence\nComponent\n2","Time\n2","Sequence\nComponent\n3","Time\n3","Sequence\nComponent\n4","Time\n4","Sequence\nComponent\n5","Time\n5","Correct?\n0=No 1=Yes","Sequence",null,"Frequency",null,"Relative Frequency","Variability",null,null,"Frequency",null,"Relative Frequency","Variability",null,"Frequency",null,"Relative Frequency","Variability",null,"Frequency",null,"Relative Frequency","Variability",null,"Frequency",null,"Relative Frequency","Variability",null,"Frequency",null,"Relative Frequency","Variability",null,"Frequency",null,"Relative Frequency","Variability"]
[11,19,21,138,null,null,null,null,null,null,0,12,null,11,{"$f":"COUNTIF($L$7:$L$500,N7)","v":1},{"$f":"O7/$Q$4","v":1.6129032258064516E-2},{"$f":"IF(P7=0,0,(P7*((LOG(P7))/LOG(2))))","v":-9.603542436107862E-2},null,null,{"$f":"N7","v":11},{"$f":"COUNTIF(L7:L16,T7)","v":1},{"$f":"U7/(W4-U8)","v":1},{"$f":"IF(V7=0,0,(V7*((LOG(V7))/LOG(2))))","v":0},null,{"$f":"N7","v":11},{"$f":"COUNTIF(L17:L27,Y7)","v":0},{"$f":"Z7/(AB4-Z8)","v":{"$error":"#DIV/0!"}},{"$f":"IF(AA7=0,0,(AA7*((LOG(AA7))/LOG(2))))","v":{"$error":"#DIV/0!"}},null,{"$f":"N7","v":11},{"$f":"COUNTIF(L28:L37,AD7)","v":0},{"$f":"AE7/(AG4-AE8)","v":0},{"$f":"IF(AF7=0,0,(AF7*((LOG(AF7))/LOG(2))))","v":0},null,{"$f":"N7","v":11},{"$f":"COUNTIF(L38:L47,AI7)","v":0},{"$f":"AJ7/(AL4-AJ8)","v":0},{"$f":"IF(AK7=0,0,(AK7*((LOG(AK7))/LOG(2))))","v":0},null,{"$f":"N7","v":11},{"$f":"COUNTIF(L48:L58,AN7)","v":0},{"$f":"AO7/(AQ4-AO8)","v":0},{"$f":"IF(AP7=0,0,(AP7*((LOG(AP7))/LOG(2))))","v":0},null,{"$f":"N7","v":11},{"$f":"COUNTIF(L59:L68,AS7)","v":0},{"$f":"AT7/(AV4-AT8)","v":0},{"$f":"IF(AU7=0,0,(AU7*((LOG(AU7))/LOG(2))))","v":0}]
[11,228,21,246,null,null,null,null,null,null,0,12,null,12,{"$f":"COUNTIF($L$7:$L$500,N8)","v":40},{"$f":"O8/$Q$4","v":0.64516129032258063},{"$f":"IF(P8=0,0,(P8*((LOG(P8))/LOG(2))))","v":-0.40791497774162117},null,null,{"$f":"N8","v":12},{"$f":"COUNTIF(L7:L16,T8)","v":9},null,null,null,{"$f":"N8","v":12},{"$f":"COUNTIF(L17:L27,Y8)","v":11},null,null,null,{"$f":"N8","v":12},{"$f":"COUNTIF(L28:L37,AD8)","v":2},null,null,null,{"$f":"N8","v":12},{"$f":"COUNTIF(L38:L47,AI8)","v":5},null,null,null,{"$f":"N8","v":12},{"$f":"COUNTIF(L48:L58,AN8)","v":7},null,null,null,{"$f":"N8","v":12},{"$f":"COUNTIF(L59:L68,AS8)","v":6}]
[11,337,21,360,null,null,null,null,null,null,0,12,null,21,{"$f":"COUNTIF($L$7:$L$500,N9)","v":2},{"$f":"O9/$Q$4","v":3.2258064516129031E-2},{"$f":"IF(P9=0,0,(P9*((LOG(P9))/LOG(2))))","v":-0.15981278420602821},null,null,{"$f":"N9","v":21},{"$f":"COUNTIF(L7:L16,T9)","v":0},{"$f":"U9/(W4-U8)","v":0},{"$f":"IF(V9=0,0,(V9*((LOG(V9))/LOG(2))))","v":0},null,{"$f":"N9","v":21},{"$f":"COUNTIF(L17:L27,Y9)","v":0},{"$f":"Z9/(AB4-Z8)","v":{"$error":"#DIV/0!"}},{"$f":"IF(AA9=0,0,(AA9*((LOG(AA9))/LOG(2))))","v":{"$error":"#DIV/0!"}},null,{"$f":"N9","v":21},{"$f":"COUNTIF(L28:L37,AD9)","v":1},{"$f":"AE9/(AG4-AE8)","v":0.125},{"$f":"IF(AF9=0,0,(AF9*((LOG(AF9))/LOG(2))))","v":-0.375},null,{"$f":"N9","v":21},{"$f":"COUNTIF(L38:L47,AI9)","v":0},{"$f":"AJ9/(AL4-AJ8)","v":0},{"$f":"IF(AK9=0,0,(AK9*((LOG(AK9))/LOG(2))))","v":0},null,{"$f":"N9","v":21},{"$f":"COUNTIF(L48:L58,AN9)","v":1},{"$f":"AO9/(AQ4-AO8)","v":0.25},{"$f":"IF(AP9=0,0,(AP9*((LOG(AP9))/LOG(2))))","v":-0.5},null,{"$f":"N9","v":21},{"$f":"COUNTIF(L59:L68,AS9)","v":0},{"$f":"AT9/(AV4-AT8)","v":0},{"$f":"IF(AU9=0,0,(AU9*((LOG(AU9))/LOG(2))))","v":0}]
[11,451,21,463,null,null,null,null,null,null,0,12,null,22,{"$f":"COUNTIF($L$7:$L$500,N10)","v":19},{"$f":"O10/$Q$4","v":0.30645161290322581},{"$f":"IF(P10=0,0,(P10*((LOG(P10))/LOG(2))))","v":-0.52288882486971777},null,null,{"$f":"N10","v":22},{"$f":"COUNTIF(L7:L16,T10)","v":0},{"$f":"U10/(W4-U8)","v":0},{"$f":"IF(V10=0,0,(V10*((LOG(V10))/LOG(2))))","v":0},null,{"$f":"N10","v":22},{"$f":"COUNTIF(L17:L27,Y10)","v":0},{"$f":"Z10/(AB4-Z8)","v":{"$error":"#DIV/0!"}},{"$f":"IF(AA10=0,0,(AA10*((LOG(AA10))/LOG(2))))","v":{"$error":"#DIV/0!"}},null,{"$f":"N10","v":22},{"$f":"COUNTIF(L28:L37,AD10)","v":7},{"$f":"AE10/(AG4-AE8)","v":0.875},{"$f":"IF(AF10=0,0,(AF10*((LOG(AF10))/LOG(2))))","v":-0.1685644431995964},null,{"$f":"N10","v":22},{"$f":"COUNTIF(L38:L47,AI10)","v":5},{"$f":"AJ10/(AL4-AJ8)","v":1},{"$f":"IF(AK10=0,0,(AK10*((LOG(AK10))/LOG(2))))","v":0},null,{"$f":"N10","v":22},{"$f":"COUNTIF(L48:L58,AN10)","v":3},{"$f":"AO10/(AQ4-AO8)","v":0.75},{"$f":"IF(AP10=0,0,(AP10*((LOG(AP10))/LOG(2))))","v":-0.31127812445913283},null,{"$f":"N10","v":22},{"$f":"COUNTIF(L59:L68,AS10)","v":4},{"$f":"AT10/(AV4-AT8)","v":1},{"$f":"IF(AU10=0,0,(AU10*((LOG(AU10))/LOG(2))))","v":0}]
[11,551,21,564,null,null,null,null,null,null,0,12,null,null,null,null,null,null,null,{"$f":"N11","v":0},{"$f":"COUNTIF(L7:L16,T11)","v":0},{"$f":"U11/(W4-U8)","v":0},{"$f":"IF(V11=0,0,(V11*((LOG(V11))/LOG(2))))","v":0},null,{"$f":"N11","v":0},{"$f":"COUNTIF(L17:L27,Y11)","v":0},{"$f":"Z11/(AB4-Z8)","v":{"$error":"#DIV/0!"}},{"$f":"IF(AA11=0,0,(AA11*((LOG(AA11))/LOG(2))))","v":{"$error":"#DIV/0!"}},null,{"$f":"N11","v":0},{"$f":"COUNTIF(L28:L37,AD11)","v":0},{"$f":"AE11/(AG4-AE8)","v":0},{"$f":"IF(AF11=0,0,(AF11*((LOG(AF11))/LOG(2))))","v":0},null,{"$f":"N11","v":0},{"$f":"COUNTIF(L38:L47,AI11)","v":0},{"$f":"AJ11/(AL4-AJ8)","v":0},{"$f":"IF(AK11=0,0,(AK11*((LOG(AK11))/LOG(2))))","v":0},null,{"$f":"N11","v":0},{"$f":"COUNTIF(L48:L58,AN11)","v":0},{"$f":"AO11/(AQ4-AO8)","v":0},{"$f":"IF(AP11=0,0,(AP11*((LOG(AP11))/LOG(2))))","v":0},null,{"$f":"N11","v":0},{"$f":"COUNTIF(L59:L68,AS11)","v":0},{"$f":"AT11/(AV4-AT8)","v":0},{"$f":"IF(AU11=0,0,(AU11*((LOG(AU11))/LOG(2))))","v":0}]
[11,661,21,672,null,null,null,null,null,null,0,12,null,null,null,null,null,null,null,{"$f":"N12","v":0},{"$f":"COUNTIF(L7:L16,T12)","v":0},{"$f":"U12/(W4-U8)","v":0},{"$f":"IF(V12=0,0,(V12*((LOG(V12))/LOG(2))))","v":0},null,{"$f":"N12","v":0},{"$f":"COUNTIF(L17:L27,Y12)","v":0},{"$f":"Z12/(AB4-Z8)","v":{"$error":"#DIV/0!"}},{"$f":"IF(AA12=0,0,(AA12*((LOG(AA12))/LOG(2))))","v":{"$error":"#DIV/0!"}},null,{"$f":"N12","v":0},{"$f":"COUNTIF(L28:L37,AD12)","v":0},{"$f":"AE12/(AG4-AE8)","v":0},{"$f":"IF(AF12=0,0,(AF12*((LOG(AF12))/LOG(2))))","v":0},null,{"$f":"N12","v":0},{"$f":"COUNTIF(L38:L47,AI12)","v":0},{"$f":"AJ12/(AL4-AJ8)","v":0},{"$f":"IF(AK12=0,0,(AK12*((LOG(AK12))/LOG(2))))","v":0},null,{"$f":"N12","v":0},{"$f":"COUNTIF(L48:L58,AN12)","v":0},{"$f":"AO12/(AQ4-AO8)","v":0},{"$f":"IF(AP12=0,0,(AP12*((LOG(AP12))/LOG(2))))","v":0},null,{"$f":"N12","v":0},{"$f":"COUNTIF(L59:L68,AS12)","v":0},{"$f":"AT12/(AV4-AT8)","v":0},{"$f":"IF(AU12=0,0,(AU12*((LOG(AU12))/LOG(2))))","v":0}]
[11,758,21,772,null,null,null,null,null,null,0,12,null,null,null,null,null,null,null,{"$f":"N13","v":0},{"$f":"COUNTIF(L7:L16,T13)","v":0},{"$f":"U13/(W4-U8)","v":0},{"$f":"IF(V13=0,0,(V13*((LOG(V13))/LOG(2))))","v":0},null,{"$f":"N13","v":0},{"$f":"COUNTIF(L17:L27,Y13)","v":0},{"$f":"Z13/(AB4-Z8)","v":{"$error":"#DIV/0!"}},{"$f":"IF(AA13=0,0,(AA13*((LOG(AA13))/LOG(2))))","v":{"$error":"#DIV/0!"}},null,{"$f":"N13","v":0},{"$f":"COUNTIF(L28:L37,AD13)","v":0},{"$f":"AE13/(AG4-AE8)","v":0},{"$f":"IF(AF13=0,0,(AF13*((LOG(AF13))/LOG(2))))","v":0},null,{"$f":"N13","v":0},{"$f":"COUNTIF(L38:L47,AI13)","v":0},{"$f":"AJ13/(AL4-AJ8)","v":0},{"$f":"IF(AK13=0,0,(AK13*((LOG(AK13))/LOG(2))))","v":0},null,{"$f":"N13","v":0},{"$f":"COUNTIF(L48:L58,AN13)","v":0},{"$f":"AO13/(AQ4-AO8)","v":0},{"$f":"IF(AP13=0,0,(AP13*((LOG(AP13))/LOG(2))))","v":0},null,{"$f":"N13","v":0},{"$f":"COUNTIF(L59:L68,AS13)","v":0},{"$f":"AT13/(AV4-AT8)","v":0},{"$f":"IF(AU13=0,0,(AU13*((LOG(AU13))/LOG(2))))","v":0}]
[11,860,12,878,null,null,null,null,null,null,0,11,null,null,null,null,null,null,null,{"$f":"N14","v":0},{"$f":"COUNTIF(L7:L16,T14)","v":0},{"$f":"U14/(W4-U8)","v":0},{"$f":"IF(V14=0,0,(V14*((LOG(V14))/LOG(2))))","v":0},null,{"$f":"N14","v":0},{"$f":"COUNTIF(L17:L27,Y14)","v":0},{"$f":"Z14/(AB4-Z8)","v":{"$error":"#DIV/0!"}},{"$f":"IF(AA14=0,0,(AA14*((LOG(AA14))/LOG(2))))","v":{"$error":"#DIV/0!"}},null,{"$f":"N14","v":0},{"$f":"COUNTIF(L28:L37,AD14)","v":0},{"$f":"AE14/(AG4-AE8)","v":0},{"$f":"IF(AF14=0,0,(AF14*((LOG(AF14))/LOG(2))))","v":0},null,{"$f":"N14","v":0},{"$f":"COUNTIF(L38:L47,AI14)","v":0},{"$f":"AJ14/(AL4-AJ8)","v":0},{"$f":"IF(AK14=0,0,(AK14*((LOG(AK14))/LOG(2))))","v":0},null,{"$f":"N14","v":0},{"$f":"COUNTIF(L48:L58,AN14)","v":0},{"$f":"AO14/(AQ4-AO8)","v":0},{"$f":"IF(AP14=0,0,(AP14*((LOG(AP14))/LOG(2))))","v":0},null,{"$f":"N14","v":0},{"$f":"COUNTIF(L59:L68,AS14)","v":0},{"$f":"AT14/(AV4-AT8)","v":0},{"$f":"IF(AU14=0,0,(AU14*((LOG(AU14))/LOG(2))))","v":0}]
[11,975,21,988,null,null,null,null,null,null,0,12,null,null,null,{"$f":"SUM(P7:P14)","v":1},{"$f":"-SUM(Q7:Q14)","v":1.1866520111784458},null,null,null,null,{"$f":"SUM(V7:V14)","v":1},{"$f":"-SUM(W7:W14)","v":0},null,null,null,{"$f":"SUM(AA7:AA14)","v":{"$error":"#DIV/0!"}},{"$f":"-SUM(AB7:AB14)","v":{"$error":"#DIV/0!"}},null,null,null,{"$f":"SUM(AF7:AF14)","v":1},{"$f":"-SUM(AG7:AG14)","v":0.5435644431995964},null,null,null,{"$f":"SUM(AK7:AK14)","v":1},{"$f":"-SUM(AL7:AL14)","v":0},null,null,null,{"$f":"SUM(AP7:AP14)","v":1},{"$f":"-SUM(AQ7:AQ14)","v":0.81127812445913283},null,null,null,{"$f":"SUM(AU7:AU14)","v":1},{"$f":"-SUM(AV7:AV14)","v":0}]
[11,1075,21,1086,null,null,null,null,null,null,0,12,null,null,null,"U=",{"$f":"Q15/(LOG(Q4)/LOG(2))","v":0.19929675632433805},null,null,null,null,"U1=",{"$f":"W15/(LOG(W4)/LOG(2))","v":0},null,null,null,"U2=",{"$f":"AB15/(LOG(AB4)/LOG(2))","v":{"$error":"#DIV/0!"}},null,null,null,"U3=",{"$f":"AG15/(LOG(AG4)/LOG(2))","v":0.16362920197946887},null,null,null,"U4=",{"$f":"AL15/(LOG(AL4)/LOG(2))","v":0},null,null,null,"U5=",{"$f":"AQ15/(LOG(AQ4)/LOG(2))","v":0.23451197014228101},null,null,null,"U6=",{"$f":"AV15/(LOG(AV4)/LOG(2))","v":0}]
[11,1173,21,1186,null,null,null,null,null,null,0,12]
[11,1274,21,1287,null,null,null,null,null,null,0,12]
[11,1374,21,1385,null,null,null,null,null,null,0,12,null,"Total Target Seq"]
[11,1472,21,1547,null,null,null,null,null,null,0,12,null,{"$f":"COUNTIF(L7:L68,G3)","v":40},null,10,11,10,10,11,10]
[11,1639,21,1686,null,null,null,null,null,null,0,12,null,null,null,"% of reinforcement given in 6 equal intervals based on number of trials "]
[11,1774,21,1783,null,null,null,null,null,null,0,12,null,null,null,"%_1","%_2","%_3","%_4","%_5","%_6"]
[11,1869,21,1898,null,null,null,null,null,null,0,12,null,null,"target sequence",{"$f":"$G$3","v":12},{"$f":"$G$3","v":12},{"$f":"$G$3","v":12},{"$f":"$G$3","v":12},{"$f":"$G$3","v":12},{"$f":"$G$3","v":12}]
[11,1991,21,2003,null,null,null,null,null,null,0,12,null,null,"total reinforcement",{"$f":"U8","v":9},{"$f":"Z8","v":11},{"$f":"AE8","v":2},{"$f":"AJ8","v":5},{"$f":"AO8","v":7},{"$f":"AT8","v":6}]
[11,2089,21,2102,null,null,null,null,null,null,0,12,null,null,"% target"]
[11,2190,21,2201,null,null,null,null,null,null,0,12,null,null,"CCRF"]
[11,2287,21,2313,null,null,null,null,null,null,0,12,null,null,"% CCRf"]
[11,2400,21,2420,null,null,null,null,null,null,0,12,null,null,"average response rate",{"$f":"D16/P20","v":108.6},{"$f":"(D27-D16)/Q20","v":111.54545454545455},{"$f":"(D37-D27)/R20","v":120.3},{"$f":"(D47-D37)/S20","v":118.4},{"$f":"(D58-D47)/T20","v":113.72727272727273},{"$f":"(D68-D58)/U20","v":114.9}]
[22,2520,14,2537,null,null,null,null,null,null,0,21]
[22,2647,23,2671,null,null,null,null,null,null,0,22]
[11,2769,21,2780,null,null,null,null,null,null,0,12]
[22,2879,23,2895,null,null,null,null,null,null,0,22]
[22,3007,23,3023,null,null,null,null,null,null,0,22]
[22,3139,23,3150,null,null,null,null,null,null,0,22]
[22,3259,23,3270,null,null,null,null,null,null,0,22]
[22,3379,23,3393,null,null,null,null,null,null,0,22]
[22,3506,23,3516,null,null,null,null,null,null,0,22]
[22,3638,23,3650,null,null,null,null,null,null,0,22]
[22,3761,23,3772,null,null,null,null,null,null,0,22]
[22,3891,23,3901,null,null,null,null,null,null,0,22]
[22,4016,23,4024,null,null,null,null,null,null,0,22]
[22,4135,23,4144,null,null,null,null,null,null,0,22]
[11,4242,21,4254,null,null,null,null,null,null,0,12]
[11,4340,21,4364,null,null,null,null,null,null,0,12]
[11,4452,21,4502,null,null,null,null,null,null,0,12]
[11,4591,21,4600,null,null,null,null,null,null,0,12]
[11,4691,21,4700,null,null,null,null,null,null,0,12]
[22,4796,23,4859,null,null,null,null,null,null,0,22]
[11,4962,21,4975,null,null,null,null,null,null,0,12]
[22,5075,14,5092,null,null,null,null,null,null,0,21]
[11,5186,21,5200,null,null,null,null,null,null,0,12]
[11,5287,21,5301,null,null,null,null,null,null,0,12]
[22,5401,23,5414,null,null,null,null,null,null,0,22]
[11,5510,21,5539,null,null,null,null,null,null,0,12]
[11,5626,21,5636,null,null,null,null,null,null,0,12]
[11,5721,21,5731,null,null,null,null,null,null,0,12]
[11,5818,21,5838,null,null,null,null,null,null,0,12]
[22,5938,23,5951,null,null,null,null,null,null,0,22]
[22,6060,23,6068,null,null,null,null,null,null,0,22]
[22,6181,23,6188,null,null,null,null,null,null,0,22]
[11,6286,21,6302,null,null,null,null,null,null,0,12]
[22,6400,23,6408,null,null,null,null,null,null,0,22]
[11,6506,21,6520,null,null,null,null,null,null,0,12]
[22,6620,23,6642,null,null,null,null,null,null,0,22]
[11,6740,21,6754,null,null,null,null,null,null,0,12]
[11,6840,21,6853,null,null,null,null,null,null,0,12]
[11,6944,21,6988,null,null,null,null,null,null,0,12]
[11,7079,21,7100,null,null,null,null,null,null,1,12]

{"sheet":"!N106650.091","index":20,"n_rows":51,"n_cols":48,"rows_kept":51,"cut":false,"hidden":false,"merged":[[4,39,4,42],[5,39,5,40],[4,44,4,47],[5,44,5,45],[4,24,4,27],[5,24,5,25],[4,29,4,32],[5,29,5,30],[4,34,4,37],[5,34,5,35],[1,1,1,2],[5,13,5,14],[18,13,18,14],[19,13,19,14],[4,19,4,22],[5,19,5,20]]}
["Report for:!N106650.091"]
["Date:","<date>"]
["Hen:","<hen>",null,null,null,"Correct Sequence",{"$f":"Start!J2","v":12},null,null,null,null,null,null,null,null,"Total Sequences in Data",{"$f":"4994-COUNTBLANK(L7:L5000)","v":45},null,null,null,null,"Total Sequences in Block Data",{"$f":"COUNTA(L7:L14)","v":8},null,null,null,"Total Sequences in Block Data",{"$f":"COUNTA(L15:L21)","v":7},null,null,null,"Total Sequences in Block Data",{"$f":"COUNTA(L22:L29)","v":8},null,null,null,"Total Sequences in Block Data",{"$f":"COUNTA(L30:L36)","v":7},null,null,null,"Total Sequences in Block Data",{"$f":"COUNTA(L37:L44)","v":8},null,null,null,"Total Sequences in Block Data",{"$f":"COUNTA(L45:L51)","v":7}]
[null,null,null,null,null,null,null,null,null,null,null,null,null,null,null,"Total Sequences in Summary",{"$f":"SUM(O7:O14)","v":45},null,null,null,null,"Total Sequences in Block Summary",{"$f":"SUM(U7:U14)","v":8},null,null,null,"Total Sequences in Block Summary",{"$f":"SUM(Z7:Z14)","v":7},null,null,null,"Total Sequences in Block Summary",{"$f":"SUM(AE7:AE14)","v":8},null,null,null,"Total Sequences in Block Summary",{"$f":"SUM(AJ7:AJ14)","v":7},null,null,null,"Total Sequences in Block Summary",{"$f":"SUM(AO7:AO14)","v":8},null,null,null,"Total Sequences in Block Summary",{"$f":"SUM(AT7:AT14)","v":7}]
[null,null,null,null,null,null,null,null,null,null,null,null,null,null,null,null,null,null,null,"Block 1",null,null,null,null,"Block 2",null,null,null,null,"Block 3",null,null,null,null,"Block 4",null,null,null,null,"Block 5",null,null,null,null,"Block 6"]
["Sequence\nComponent\n1","Time\n1","Sequence\nComponent\n2","Time\n2","Sequence\nComponent\n3","Time\n3","Sequence\nComponent\n4","Time\n4","Sequence\nComponent\n5","Time\n5","Correct?\n0=No 1=Yes","Sequence",null,"Frequency",null,"Relative Frequency","Variability",null,null,"Frequency",null,"Relative Frequency","Variability",null,"Frequency",null,"Relative Frequency","Variability",null,"Frequency",null,"Relative Frequency","Variability",null,"Frequency",null,"Relative Frequency","Variability",null,"Frequency",null,"Relative Frequency","Variability",null,"Frequency",null,"Relative Frequency","Variability"]
[11,10,21,79,null,null,null,null,null,null,0,12,null,11,{"$f":"COUNTIF($L$7:$L$500,N7)","v":0},{"$f":"O7/$Q$4","v":0},{"$f":"IF(P7=0,0,(P7*((LOG(P7))/LOG(2))))","v":0},null,null,{"$f":"N7","v":11},{"$f":"COUNTIF(L7:L14,T7)","v":0},{"$f":"U7/(W4-U8)","v":{"$error":"#DIV/0!"}},{"$f":"IF(V7=0,0,(V7*((LOG(V7))/LOG(2))))","v":{"$error":"#DIV/0!"}},null,{"$f":"N7","v":11},{"$f":"COUNTIF(L15:L21,Y7)","v":0},{"$f":"Z7/(AB4-Z8)","v":0},{"$f":"IF(AA7=0,0,(AA7*((LOG(AA7))/LOG(2))))","v":0},null,{"$f":"N7","v":11},{"$f":"COUNTIF(L22:L29,AD7)","v":0},{"$f":"AE7/(AG4-AE8)","v":0},{"$f":"IF(AF7=0,0,(AF7*((LOG(AF7))/LOG(2))))","v":0},null,{"$f":"N7","v":11},{"$f":"COUNTIF(L30:L36,AI7)","v":0},{"$f":"AJ7/(AL4-AJ8)","v":{"$error":"#DIV/0!"}},{"$f":"IF(AK7=0,0,(AK7*((LOG(AK7))/LOG(2))))","v":{"$error":"#DIV/0!"}},null,{"$f":"N7","v":11},{"$f":"COUNTIF(L37:L44,AN7)","v":0},{"$f":"AO7/(AQ4-AO8)","v":0},{"$f":"IF(AP7=0,0,(AP7*((LOG(AP7))/LOG(2))))","v":0},null,{"$f":"N7","v":11},{"$f":"COUNTIF(L45:L51,AS7)","v":0},{"$f":"AT7/(AV4-AT8)","v":{"$error":"#DIV/0!"}},{"$f":"IF(AU7=0,0,(AU7*((LOG(AU7))/LOG(2))))","v":{"$error":"#DIV/0!"}}]
[11,173,21,183,null,null,null,null,null,null,0,12,null,12,{"$f":"COUNTIF($L$7:$L$500,N8)","v":40},{"$f":"O8/$Q$4","v":0.88888888888888884},{"$f":"IF(P8=0,0,(P8*((LOG(P8))/LOG(2))))","v":-0.15104444572649992},null,null,{"$f":"N8","v":12},{"$f":"COUNTIF(L7:L14,T8)","v":8},null,null,null,{"$f":"N8","v":12},{"$f":"COUNTIF(L15:L21,Y8)","v":6},null,null,null,{"$f":"N8","v":12},{"$f":"COUNTIF(L22:L29,AD8)","v":5},null,null,null,{"$f":"N8","v":12},{"$f":"COUNTIF(L30:L36,AI8)","v":7},null,null,null,{"$f":"N8","v":12},{"$f":"COUNTIF(L37:L44,AN8)","v":7},null,null,null,{"$f":"N8","v":12},{"$f":"COUNTIF(L45:L51,AS8)","v":7}]
[11,274,21,285,null,null,null,null,null,null,0,12,null,21,{"$f":"COUNTIF($L$7:$L$500,N9)","v":0},{"$f":"O9/$Q$4","v":0},{"$f":"IF(P9=0,0,(P9*((LOG(P9))/LOG(2))))","v":0},null,null,{"$f":"N9","v":21},{"$f":"COUNTIF(L7:L14,T9)","v":0},{"$f":"U9/(W4-U8)","v":{"$error":"#DIV/0!"}},{"$f":"IF(V9=0,0,(V9*((LOG(V9))/LOG(2))))","v":{"$error":"#DIV/0!"}},null,{"$f":"N9","v":21},{"$f":"COUNTIF(L15:L21,Y9)","v":0},{"$f":"Z9/(AB4-Z8)","v":0},{"$f":"IF(AA9=0,0,(AA9*((LOG(AA9))/LOG(2))))","v":0},null,{"$f":"N9","v":21},{"$f":"COUNTIF(L22:L29,AD9)","v":0},{"$f":"AE9/(AG4-AE8)","v":0},{"$f":"IF(AF9=0,0,(AF9*((LOG(AF9))/LOG(2))))","v":0},null,{"$f":"N9","v":21},{"$f":"COUNTIF(L30:L36,AI9)","v":0},{"$f":"AJ9/(AL4-AJ8)","v":{"$error":"#DIV/0!"}},{"$f":"IF(AK9=0,0,(AK9*((LOG(AK9))/LOG(2))))","v":{"$error":"#DIV/0!"}},null,{"$f":"N9","v":21},{"$f":"COUNTIF(L37:L44,AN9)","v":0},{"$f":"AO9/(AQ4-AO8)","v":0},{"$f":"IF(AP9=0,0,(AP9*((LOG(AP9))/LOG(2))))","v":0},null,{"$f":"N9","v":21},{"$f":"COUNTIF(L45:L51,AS9)","v":0},{"$f":"AT9/(AV4-AT8)","v":{"$error":"#DIV/0!"}},{"$f":"IF(AU9=0,0,(AU9*((LOG(AU9))/LOG(2))))","v":{"$error":"#DIV/0!"}}]
[11,372,21,385,null,null,null,null,null,null,0,12,null,22,{"$f":"COUNTIF($L$7:$L$500,N10)","v":5},{"$f":"O10/$Q$4","v":0.1111111111111111},{"$f":"IF(P10=0,0,(P10*((LOG(P10))/LOG(2))))","v":-0.3522138890491458},null,null,{"$f":"N10","v":22},{"$f":"COUNTIF(L7:L14,T10)","v":0},{"$f":"U10/(W4-U8)","v":{"$error":"#DIV/0!"}},{"$f":"IF(V10=0,0,(V10*((LOG(V10))/LOG(2))))","v":{"$error":"#DIV/0!"}},null,{"$f":"N10","v":22},{"$f":"COUNTIF(L15:L21,Y10)","v":1},{"$f":"Z10/(AB4-Z8)","v":1},{"$f":"IF(AA10=0,0,(AA10*((LOG(AA10))/LOG(2))))","v":0},null,{"$f":"N10","v":22},{"$f":"COUNTIF(L22:L29,AD10)","v":3},{"$f":"AE10/(AG4-AE8)","v":1},{"$f":"IF(AF10=0,0,(AF10*((LOG(AF10))/LOG(2))))","v":0},null,{"$f":"N10","v":22},{"$f":"COUNTIF(L30:L36,AI10)","v":0},{"$f":"AJ10/(AL4-AJ8)","v":{"$error":"#DIV/0!"}},{"$f":"IF(AK10=0,0,(AK10*((LOG(AK10))/LOG(2))))","v":{"$error":"#DIV/0!"}},null,{"$f":"N10","v":22},{"$f":"COUNTIF(L37:L44,AN10)","v":1},{"$f":"AO10/(AQ4-AO8)","v":1},{"$f":"IF(AP10=0,0,(AP10*((LOG(AP10))/LOG(2))))","v":0},null,{"$f":"N10","v":22},{"$f":"COUNTIF(L45:L51,AS10)","v":0},{"$f":"AT10/(AV4-AT8)","v":{"$error":"#DIV/0!"}},{"$f":"IF(AU10=0,0,(AU10*((LOG(AU10))/LOG(2))))","v":{"$error":"#DIV/0!"}}]
[11,473,21,497,null,null,null,null,null,null,0,12,null,null,null,null,null,null,null,{"$f":"N11","v":0},{"$f":"COUNTIF(L7:L14,T11)","v":0},{"$f":"U11/(W4-U8)","v":{"$error":"#DIV/0!"}},{"$f":"IF(V11=0,0,(V11*((LOG(V11))/LOG(2))))","v":{"$error":"#DIV/0!"}},null,{"$f":"N11","v":0},{"$f":"COUNTIF(L15:L21,Y11)","v":0},{"$f":"Z11/(AB4-Z8)","v":0},{"$f":"IF(AA11=0,0,(AA11*((LOG(AA11))/LOG(2))))","v":0},null,{"$f":"N11","v":0},{"$f":"COUNTIF(L22:L29,AD11)","v":0},{"$f":"AE11/(AG4-AE8)","v":0},{"$f":"IF(AF11=0,0,(AF11*((LOG(AF11))/LOG(2))))","v":0},null,{"$f":"N11","v":0},{"$f":"COUNTIF(L30:L36,AI11)","v":0},{"$f":"AJ11/(AL4-AJ8)","v":{"$error":"#DIV/0!"}},{"$f":"IF(AK11=0,0,(AK11*((LOG(AK11))/LOG(2))))","v":{"$error":"#DIV/0!"}},null,{"$f":"N11","v":0},{"$f":"COUNTIF(L37:L44,AN11)","v":0},{"$f":"AO11/(AQ4-AO8)","v":0},{"$f":"IF(AP11=0,0,(AP11*((LOG(AP11))/LOG(2))))","v":0},null,{"$f":"N11","v":0},{"$f":"COUNTIF(L45:L51,AS11)","v":0},{"$f":"AT11/(AV4-AT8)","v":{"$error":"#DIV/0!"}},{"$f":"IF(AU11=0,0,(AU11*((LOG(AU11))/LOG(2))))","v":{"$error":"#DIV/0!"}}]
[11,585,21,611,null,null,null,null,null,null,0,12,null,null,null,null,null,null,null,{"$f":"N12","v":0},{"$f":"COUNTIF(L7:L14,T12)","v":0},{"$f":"U12/(W4-U8)","v":{"$error":"#DIV/0!"}},{"$f":"IF(V12=0,0,(V12*((LOG(V12))/LOG(2))))","v":{"$error":"#DIV/0!"}},null,{"$f":"N12","v":0},{"$f":"COUNTIF(L15:L21,Y12)","v":0},{"$f":"Z12/(AB4-Z8)","v":0},{"$f":"IF(AA12=0,0,(AA12*((LOG(AA12))/LOG(2))))","v":0},null,{"$f":"N12","v":0},{"$f":"COUNTIF(L22:L29,AD12)","v":0},{"$f":"AE12/(AG4-AE8)","v":0},{"$f":"IF(AF12=0,0,(AF12*((LOG(AF12))/LOG(2))))","v":0},null,{"$f":"N12","v":0},{"$f":"COUNTIF(L30:L36,AI12)","v":0},{"$f":"AJ12/(AL4-AJ8)","v":{"$error":"#DIV/0!"}},{"$f":"IF(AK12=0,0,(AK12*((LOG(AK12))/LOG(2))))","v":{"$error":"#DIV/0!"}},null,{"$f":"N12","v":0},{"$f":"COUNTIF(L37:L44,AN12)","v":0},{"$f":"AO12/(AQ4-AO8)","v":0},{"$f":"IF(AP12=0,0,(AP12*((LOG(AP12))/LOG(2))))","v":0},null,{"$f":"N12","v":0},{"$f":"COUNTIF(L45:L51,AS12)","v":0},{"$f":"AT12/(AV4-AT8)","v":{"$error":"#DIV/0!"}},{"$f":"IF(AU12=0,0,(AU12*((LOG(AU12))/LOG(2))))","v":{"$error":"#DIV/0!"}}]
[11,699,21,710,null,null,null,null,null,null,0,12,null,null,null,null,null,null,null,{"$f":"N13","v":0},{"$f":"COUNTIF(L7:L14,T13)","v":0},{"$f":"U13/(W4-U8)","v":{"$error":"#DIV/0!"}},{"$f":"IF(V13=0,0,(V13*((LOG(V13))/LOG(2))))","v":{"$error":"#DIV/0!"}},null,{"$f":"N13","v":0},{"$f":"COUNTIF(L15:L21,Y13)","v":0},{"$f":"Z13/(AB4-Z8)","v":0},{"$f":"IF(AA13=0,0,(AA13*((LOG(AA13))/LOG(2))))","v":0},null,{"$f":"N13","v":0},{"$f":"COUNTIF(L22:L29,AD13)","v":0},{"$f":"AE13/(AG4-AE8)","v":0},{"$f":"IF(AF13=0,0,(AF13*((LOG(AF13))/LOG(2))))","v":0},null,{"$f":"N13","v":0},{"$f":"COUNTIF(L30:L36,AI13)","v":0},{"$f":"AJ13/(AL4-AJ8)","v":{"$error":"#DIV/0!"}},{"$f":"IF(AK13=0,0,(AK13*((LOG(AK13))/LOG(2))))","v":{"$error":"#DIV/0!"}},null,{"$f":"N13","v":0},{"$f":"COUNTIF(L37:L44,AN13)","v":0},{"$f":"AO13/(AQ4-AO8)","v":0},{"$f":"IF(AP13=0,0,(AP13*((LOG(AP13))/LOG(2))))","v":0},null,{"$f":"N13","v":0},{"$f":"COUNTIF(L45:L51,AS13)","v":0},{"$f":"AT13/(AV4-AT8)","v":{"$error":"#DIV/0!"}},{"$f":"IF(AU13=0,0,(AU13*((LOG(AU13))/LOG(2))))","v":{"$error":"#DIV/0!"}}]
[11,797,21,809,null,null,null,null,null,null,0,12,null,null,null,null,null,null,null,{"$f":"N14","v":0},{"$f":"COUNTIF(L7:L14,T14)","v":0},{"$f":"U14/(W4-U8)","v":{"$error":"#DIV/0!"}},{"$f":"IF(V14=0,0,(V14*((LOG(V14))/LOG(2))))","v":{"$error":"#DIV/0!"}},null,{"$f":"N14","v":0},{"$f":"COUNTIF(L15:L21,Y14)","v":0},{"$f":"Z14/(AB4-Z8)","v":0},{"$f":"IF(AA14=0,0,(AA14*((LOG(AA14))/LOG(2))))","v":0},null,{"$f":"N14","v":0},{"$f":"COUNTIF(L22:L29,AD14)","v":0},{"$f":"AE14/(AG4-AE8)","v":0},{"$f":"IF(AF14=0,0,(AF14*((LOG(AF14))/LOG(2))))","v":0},null,{"$f":"N14","v":0},{"$f":"COUNTIF(L30:L36,AI14)","v":0},{"$f":"AJ14/(AL4-AJ8)","v":{"$error":"#DIV/0!"}},{"$f":"IF(AK14=0,0,(AK14*((LOG(AK14))/LOG(2))))","v":{"$error":"#DIV/0!"}},null,{"$f":"N14","v":0},{"$f":"COUNTIF(L37:L44,AN14)","v":0},{"$f":"AO14/(AQ4-AO8)","v":0},{"$f":"IF(AP14=0,0,(AP14*((LOG(AP14))/LOG(2))))","v":0},null,{"$f":"N14","v":0},{"$f":"COUNTIF(L45:L51,AS14)","v":0},{"$f":"AT14/(AV4-AT8)","v":{"$error":"#DIV/0!"}},{"$f":"IF(AU14=0,0,(AU14*((LOG(AU14))/LOG(2))))","v":{"$error":"#DIV/0!"}}]
[11,895,21,923,null,null,null,null,null,null,0,12,null,null,null,{"$f":"SUM(P7:P14)","v":1},{"$f":"-SUM(Q7:Q14)","v":0.50325833477564574},null,null,null,null,{"$f":"SUM(V7:V14)","v":{"$error":"#DIV/0!"}},{"$f":"-SUM(W7:W14)","v":{"$error":"#DIV/0!"}},null,null,null,{"$f":"SUM(AA7:AA14)","v":1},{"$f":"-SUM(AB7:AB14)","v":0},null,null,null,{"$f":"SUM(AF7:AF14)","v":1},{"$f":"-SUM(AG7:AG14)","v":0},null,null,null,{"$f":"SUM(AK7:AK14)","v":{"$error":"#DIV/0!"}},{"$f":"-SUM(AL7:AL14)","v":{"$error":"#DIV/0!"}},null,null,null,{"$f":"SUM(AP7:AP14)","v":1},{"$f":"-SUM(AQ7:AQ14)","v":0},null,null,null,{"$f":"SUM(AU7:AU14)","v":{"$error":"#DIV/0!"}},{"$f":"-SUM(AV7:AV14)","v":{"$error":"#DIV/0!"}}]
[11,1009,21,1032,null,null,null,null,null,null,0,12,null,null,null,"U=",{"$f":"Q15/(LOG(Q4)/LOG(2))","v":9.163725357329465E-2},null,null,null,null,"U1=",{"$f":"W15/(LOG(W4)/LOG(2))","v":{"$error":"#DIV/0!"}},null,null,null,"U2=",{"$f":"AB15/(LOG(AB4)/LOG(2))","v":0},null,null,null,"U3=",{"$f":"AG15/(LOG(AG4)/LOG(2))","v":0},null,null,null,"U4=",{"$f":"AL15/(LOG(AL4)/LOG(2))","v":{"$error":"#DIV/0!"}},null,null,null,"U5=",{"$f":"AQ15/(LOG(AQ4)/LOG(2))","v":0},null,null,null,"U6=",{"$f":"AV15/(LOG(AV4)/LOG(2))","v":{"$error":"#DIV/0!"}}]
[22,1129,23,1136,null,null,null,null,null,null,0,22]
[11,1232,21,1247,null,null,null,null,null,null,0,12]
[11,1332,21,1361,null,null,null,null,null,null,0,12,null,"Total Target Seq"]
[11,1463,21,1474,null,null,null,null,null,null,0,12,null,{"$f":"COUNTIF(L7:L51,G3)","v":40},null,8,7,8,7,8,7]
[11,1561,21,1704,null,null,null,null,null,null,0,12,null,null,null,"% of reinforcement given in 6 equal intervals based on number of trials "]
[22,1810,23,1822,null,null,null,null,null,null,0,22,null,null,null,"%_1","%_2","%_3","%_4","%_5","%_6"]
[11,1918,21,1932,null,null,null,null,null,null,0,12,null,null,"target sequence",{"$f":"$G$3","v":12},{"$f":"$G$3","v":12},{"$f":"$G$3","v":12},{"$f":"$G$3","v":12},{"$f":"$G$3","v":12},{"$f":"$G$3","v":12}]
[11,2019,21,2029,null,null,null,null,null,null,0,12,null,null,"total reinforcement",{"$f":"U8","v":8},{"$f":"Z8","v":6},{"$f":"AE8","v":5},{"$f":"AJ8","v":7},{"$f":"AO8","v":7},{"$f":"AT8","v":7}]
[11,2116,21,2175,null,null,null,null,null,null,0,12,null,null,"% target"]
[22,2282,23,2294,null,null,null,null,null,null,0,22,null,null,"CCRF"]
[11,2393,21,2408,null,null,null,null,null,null,0,12,null,null,"% CCRf"]
[11,2496,21,2509,null,null,null,null,null,null,0,12,null,null,"average response rate",{"$f":"D14/P20","v":101.125},{"$f":"(D21-D14)/Q20","v":127.85714285714286},{"$f":"(D29-D21)/R20","v":114.625},{"$f":"(D36-D29)/S20","v":118},{"$f":"(D44-D36)/T20","v":107.75},{"$f":"(D51-D44)/U20","v":107.71428571428571}]
[22,2609,23,2621,null,null,null,null,null,null,0,22]
[11,2722,21,2736,null,null,null,null,null,null,0,12]
[11,2824,21,2858,null,null,null,null,null,null,0,12]
[11,2946,21,2969,null,null,null,null,null,null,0,12]
[11,3057,21,3100,null,null,null,null,null,null,0,12]
[11,3188,21,3202,null,null,null,null,null,null,0,12]
[11,3288,21,3307,null,null,null,null,null,null,0,12]
[11,3393,21,3447,null,null,null,null,null,null,0,12]
[11,3534,21,3546,null,null,null,null,null,null,0,12]
[11,3639,21,3648,null,null,null,null,null,null,0,12]
[11,3735,21,3751,null,null,null,null,null,null,0,12]
[11,3839,21,3850,null,null,null,null,null,null,0,12]
[22,3944,23,3952,null,null,null,null,null,null,0,22]
[11,4055,21,4078,null,null,null,null,null,null,0,12]
[11,4173,21,4186,null,null,null,null,null,null,0,12]
[11,4277,21,4309,null,null,null,null,null,null,0,12]
[11,4396,21,4425,null,null,null,null,null,null,0,12]
[11,4515,21,4525,null,null,null,null,null,null,0,12]
[11,4614,21,4624,null,null,null,null,null,null,0,12]
[11,4714,21,4725,null,null,null,null,null,null,0,12]
[11,4810,21,4830,null,null,null,null,null,null,0,12]
[11,4917,21,4961,null,null,null,null,null,null,0,12]
[11,5048,21,5063,null,null,null,null,null,null,1,12]

{"sheet":"!N107720.091","index":21,"n_rows":54,"n_cols":48,"rows_kept":54,"cut":false,"hidden":false,"merged":[[4,39,4,42],[5,39,5,40],[4,44,4,47],[5,44,5,45],[4,24,4,27],[5,24,5,25],[4,29,4,32],[5,29,5,30],[4,34,4,37],[5,34,5,35],[1,1,1,2],[5,13,5,14],[18,13,18,14],[19,13,19,14],[4,19,4,22],[5,19,5,20]]}
["Report for:!N107720.091"]
["Date:","<date>"]
["Hen:","<hen>",null,null,null,"Correct Sequence",{"$f":"Start!J2","v":12},null,null,null,null,null,null,null,null,"Total Sequences in Data",{"$f":"4994-COUNTBLANK(L7:L5000)","v":48},null,null,null,null,"Total Sequences in Block Data",{"$f":"COUNTA(L7:L14)","v":8},null,null,null,"Total Sequences in Block Data",{"$f":"COUNTA(L15:L22)","v":8},null,null,null,"Total Sequences in Block Data",{"$f":"COUNTA(L23:L30)","v":8},null,null,null,"Total Sequences in Block Data",{"$f":"COUNTA(L31:L38)","v":8},null,null,null,"Total Sequences in Block Data",{"$f":"COUNTA(L39:L46)","v":8},null,null,null,"Total Sequences in Block Data",{"$f":"COUNTA(L47:L54)","v":8}]
[null,null,null,null,null,null,null,null,null,null,null,null,null,null,null,"Total Sequences in Summary",{"$f":"SUM(O7:O14)","v":48},null,null,null,null,"Total Sequences in Block Summary",{"$f":"SUM(U7:U14)","v":8},null,null,null,"Total Sequences in Block Summary",{"$f":"SUM(Z7:Z14)","v":8},null,null,null,"Total Sequences in Block Summary",{"$f":"SUM(AE7:AE14)","v":8},null,null,null,"Total Sequences in Block Summary",{"$f":"SUM(AJ7:AJ14)","v":8},null,null,null,"Total Sequences in Block Summary",{"$f":"SUM(AO7:AO14)","v":8},null,null,null,"Total Sequences in Block Summary",{"$f":"SUM(AT7:AT14)","v":8}]
[null,null,null,null,null,null,null,null,null,null,null,null,null,null,null,null,null,null,null,"Block 1",null,null,null,null,"Block 2",null,null,null,null,"Block 3",null,null,null,null,"Block 4",null,null,null,null,"Block 5",null,null,null,null,"Block 6"]
["Sequence\nComponent\n1","Time\n1","Sequence\nComponent\n2","Time\n2","Sequence\nComponent\n3","Time\n3","Sequence\nComponent\n4","Time\n4","Sequence\nComponent\n5","Time\n5","Correct?\n0=No 1=Yes","Sequence",null,"Frequency",null,"Relative Frequency","Variability",null,null,"Frequency",null,"Relative Frequency","Variability",null,"Frequency",null,"Relative Frequency","Variability",null,"Frequency",null,"Relative Frequency","Variability",null,"Frequency",null,"Relative Frequency","Variability",null,"Frequency",null,"Relative Frequency","Variability",null,"Frequency",null,"Relative Frequency","Variability"]
[22,11,14,26,null,null,null,null,null,null,0,21,null,11,{"$f":"COUNTIF($L$7:$L$500,N7)","v":0},{"$f":"O7/$Q$4","v":0},{"$f":"IF(P7=0,0,(P7*((LOG(P7))/LOG(2))))","v":0},null,null,{"$f":"N7","v":11},{"$f":"COUNTIF(L7:L14,T7)","v":0},{"$f":"U7/(W4-U8)","v":0},{"$f":"IF(V7=0,0,(V7*((LOG(V7))/LOG(2))))","v":0},null,{"$f":"N7","v":11},{"$f":"COUNTIF(L15:L22,Y7)","v":0},{"$f":"Z7/(AB4-Z8)","v":{"$error":"#DIV/0!"}},{"$f":"IF(AA7=0,0,(AA7*((LOG(AA7))/LOG(2))))","v":{"$error":"#DIV/0!"}},null,{"$f":"N7","v":11},{"$f":"COUNTIF(L23:L30,AD7)","v":0},{"$f":"AE7/(AG4-AE8)","v":0},{"$f":"IF(AF7=0,0,(AF7*((LOG(AF7))/LOG(2))))","v":0},null,{"$f":"N7","v":11},{"$f":"COUNTIF(L31:L38,AI7)","v":0},{"$f":"AJ7/(AL4-AJ8)","v":{"$error":"#DIV/0!"}},{"$f":"IF(AK7=0,0,(AK7*((LOG(AK7))/LOG(2))))","v":{"$error":"#DIV/0!"}},null,{"$f":"N7","v":11},{"$f":"COUNTIF(L39:L46,AN7)","v":0},{"$f":"AO7/(AQ4-AO8)","v":0},{"$f":"IF(AP7=0,0,(AP7*((LOG(AP7))/LOG(2))))","v":0},null,{"$f":"N7","v":11},{"$f":"COUNTIF(L47:L54,AS7)","v":0},{"$f":"AT7/(AV4-AT8)","v":0},{"$f":"IF(AU7=0,0,(AU7*((LOG(AU7))/LOG(2))))","v":0}]
[11,124,21,137,null,null,null,null,null,null,0,12,null,12,{"$f":"COUNTIF($L$7:$L$500,N8)","v":40},{"$f":"O8/$Q$4","v":0.83333333333333337},{"$f":"IF(P8=0,0,(P8*((LOG(P8))/LOG(2))))","v":-0.21919533819482812},null,null,{"$f":"N8","v":12},{"$f":"COUNTIF(L7:L14,T8)","v":5},null,null,null,{"$f":"N8","v":12},{"$f":"COUNTIF(L15:L22,Y8)","v":8},null,null,null,{"$f":"N8","v":12},{"$f":"COUNTIF(L23:L30,AD8)","v":7},null,null,null,{"$f":"N8","v":12},{"$f":"COUNTIF(L31:L38,AI8)","v":8},null,null,null,{"$f":"N8","v":12},{"$f":"COUNTIF(L39:L46,AN8)","v":7},null,null,null,{"$f":"N8","v":12},{"$f":"COUNTIF(L47:L54,AS8)","v":5}]
[22,233,14,244,null,null,null,null,null,null,0,21,null,21,{"$f":"COUNTIF($L$7:$L$500,N9)","v":3},{"$f":"O9/$Q$4","v":6.25E-2},{"$f":"IF(P9=0,0,(P9*((LOG(P9))/LOG(2))))","v":-0.25},null,null,{"$f":"N9","v":21},{"$f":"COUNTIF(L7:L14,T9)","v":3},{"$f":"U9/(W4-U8)","v":1},{"$f":"IF(V9=0,0,(V9*((LOG(V9))/LOG(2))))","v":0},null,{"$f":"N9","v":21},{"$f":"COUNTIF(L15:L22,Y9)","v":0},{"$f":"Z9/(AB4-Z8)","v":{"$error":"#DIV/0!"}},{"$f":"IF(AA9=0,0,(AA9*((LOG(AA9))/LOG(2))))","v":{"$error":"#DIV/0!"}},null,{"$f":"N9","v":21},{"$f":"COUNTIF(L23:L30,AD9)","v":0},{"$f":"AE9/(AG4-AE8)","v":0},{"$f":"IF(AF9=0,0,(AF9*((LOG(AF9))/LOG(2))))","v":0},null,{"$f":"N9","v":21},{"$f":"COUNTIF(L31:L38,AI9)","v":0},{"$f":"AJ9/(AL4-AJ8)","v":{"$error":"#DIV/0!"}},{"$f":"IF(AK9=0,0,(AK9*((LOG(AK9))/LOG(2))))","v":{"$error":"#DIV/0!"}},null,{"$f":"N9","v":21},{"$f":"COUNTIF(L39:L46,AN9)","v":0},{"$f":"AO9/(AQ4-AO8)","v":0},{"$f":"IF(AP9=0,0,(AP9*((LOG(AP9))/LOG(2))))","v":0},null,{"$f":"N9","v":21},{"$f":"COUNTIF(L47:L54,AS9)","v":0},{"$f":"AT9/(AV4-AT8)","v":0},{"$f":"IF(AU9=0,0,(AU9*((LOG(AU9))/LOG(2))))","v":0}]
[11,340,21,351,null,null,null,null,null,null,0,12,null,22,{"$f":"COUNTIF($L$7:$L$500,N10)","v":5},{"$f":"O10/$Q$4","v":0.10416666666666667},{"$f":"IF(P10=0,0,(P10*((LOG(P10))/LOG(2))))","v":-0.33989941727435352},null,null,{"$f":"N10","v":22},{"$f":"COUNTIF(L7:L14,T10)","v":0},{"$f":"U10/(W4-U8)","v":0},{"$f":"IF(V10=0,0,(V10*((LOG(V10))/LOG(2))))","v":0},null,{"$f":"N10","v":22},{"$f":"COUNTIF(L15:L22,Y10)","v":0},{"$f":"Z10/(AB4-Z8)","v":{"$error":"#DIV/0!"}},{"$f":"IF(AA10=0,0,(AA10*((LOG(AA10))/LOG(2))))","v":{"$error":"#DIV/0!"}},null,{"$f":"N10","v":22},{"$f":"COUNTIF(L23:L30,AD10)","v":1},{"$f":"AE10/(AG4-AE8)","v":1},{"$f":"IF(AF10=0,0,(AF10*((LOG(AF10))/LOG(2))))","v":0},null,{"$f":"N10","v":22},{"$f":"COUNTIF(L31:L38,AI10)","v":0},{"$f":"AJ10/(AL4-AJ8)","v":{"$error":"#DIV/0!"}},{"$f":"IF(AK10=0,0,(AK10*((LOG(AK10))/LOG(2))))","v":{"$error":"#DIV/0!"}},null,{"$f":"N10","v":22},{"$f":"COUNTIF(L39:L46,AN10)","v":1},{"$f":"AO10/(AQ4-AO8)","v":1},{"$f":"IF(AP10=0,0,(AP10*((LOG(AP10))/LOG(2))))","v":0},null,{"$f":"N10","v":22},{"$f":"COUNTIF(L47:L54,AS10)","v":3},{"$f":"AT10/(AV4-AT8)","v":1},{"$f":"IF(AU10=0,0,(AU10*((LOG(AU10))/LOG(2))))","v":0}]
[22,455,14,473,null,null,null,null,null,null,0,21,null,null,null,null,null,null,null,{"$f":"N11","v":0},{"$f":"COUNTIF(L7:L14,T11)","v":0},{"$f":"U11/(W4-U8)","v":0},{"$f":"IF(V11=0,0,(V11*((LOG(V11))/LOG(2))))","v":0},null,{"$f":"N11","v":0},{"$f":"COUNTIF(L15:L22,Y11)","v":0},{"$f":"Z11/(AB4-Z8)","v":{"$error":"#DIV/0!"}},{"$f":"IF(AA11=0,0,(AA11*((LOG(AA11))/LOG(2))))","v":{"$error":"#DIV/0!"}},null,{"$f":"N11","v":0},{"$f":"COUNTIF(L23:L30,AD11)","v":0},{"$f":"AE11/(AG4-AE8)","v":0},{"$f":"IF(AF11=0,0,(AF11*((LOG(AF11))/LOG(2))))","v":0},null,{"$f":"N11","v":0},{"$f":"COUNTIF(L31:L38,AI11)","v":0},{"$f":"AJ11/(AL4-AJ8)","v":{"$error":"#DIV/0!"}},{"$f":"IF(AK11=0,0,(AK11*((LOG(AK11))/LOG(2))))","v":{"$error":"#DIV/0!"}},null,{"$f":"N11","v":0},{"$f":"COUNTIF(L39:L46,AN11)","v":0},{"$f":"AO11/(AQ4-AO8)","v":0},{"$f":"IF(AP11=0,0,(AP11*((LOG(AP11))/LOG(2))))","v":0},null,{"$f":"N11","v":0},{"$f":"COUNTIF(L47:L54,AS11)","v":0},{"$f":"AT11/(AV4-AT8)","v":0},{"$f":"IF(AU11=0,0,(AU11*((LOG(AU11))/LOG(2))))","v":0}]
[11,573,21,597,null,null,null,null,null,null,0,12,null,null,null,null,null,null,null,{"$f":"N12","v":0},{"$f":"COUNTIF(L7:L14,T12)","v":0},{"$f":"U12/(W4-U8)","v":0},{"$f":"IF(V12=0,0,(V12*((LOG(V12))/LOG(2))))","v":0},null,{"$f":"N12","v":0},{"$f":"COUNTIF(L15:L22,Y12)","v":0},{"$f":"Z12/(AB4-Z8)","v":{"$error":"#DIV/0!"}},{"$f":"IF(AA12=0,0,(AA12*((LOG(AA12))/LOG(2))))","v":{"$error":"#DIV/0!"}},null,{"$f":"N12","v":0},{"$f":"COUNTIF(L23:L30,AD12)","v":0},{"$f":"AE12/(AG4-AE8)","v":0},{"$f":"IF(AF12=0,0,(AF12*((LOG(AF12))/LOG(2))))","v":0},null,{"$f":"N12","v":0},{"$f":"COUNTIF(L31:L38,AI12)","v":0},{"$f":"AJ12/(AL4-AJ8)","v":{"$error":"#DIV/0!"}},{"$f":"IF(AK12=0,0,(AK12*((LOG(AK12))/LOG(2))))","v":{"$error":"#DIV/0!"}},null,{"$f":"N12","v":0},{"$f":"COUNTIF(L39:L46,AN12)","v":0},{"$f":"AO12/(AQ4-AO8)","v":0},{"$f":"IF(AP12=0,0,(AP12*((LOG(AP12))/LOG(2))))","v":0},null,{"$f":"N12","v":0},{"$f":"COUNTIF(L47:L54,AS12)","v":0},{"$f":"AT12/(AV4-AT8)","v":0},{"$f":"IF(AU12=0,0,(AU12*((LOG(AU12))/LOG(2))))","v":0}]
[11,687,21,700,null,null,null,null,null,null,0,12,null,null,null,null,null,null,null,{"$f":"N13","v":0},{"$f":"COUNTIF(L7:L14,T13)","v":0},{"$f":"U13/(W4-U8)","v":0},{"$f":"IF(V13=0,0,(V13*((LOG(V13))/LOG(2))))","v":0},null,{"$f":"N13","v":0},{"$f":"COUNTIF(L15:L22,Y13)","v":0},{"$f":"Z13/(AB4-Z8)","v":{"$error":"#DIV/0!"}},{"$f":"IF(AA13=0,0,(AA13*((LOG(AA13))/LOG(2))))","v":{"$error":"#DIV/0!"}},null,{"$f":"N13","v":0},{"$f":"COUNTIF(L23:L30,AD13)","v":0},{"$f":"AE13/(AG4-AE8)","v":0},{"$f":"IF(AF13=0,0,(AF13*((LOG(AF13))/LOG(2))))","v":0},null,{"$f":"N13","v":0},{"$f":"COUNTIF(L31:L38,AI13)","v":0},{"$f":"AJ13/(AL4-AJ8)","v":{"$error":"#DIV/0!"}},{"$f":"IF(AK13=0,0,(AK13*((LOG(AK13))/LOG(2))))","v":{"$error":"#DIV/0!"}},null,{"$f":"N13","v":0},{"$f":"COUNTIF(L39:L46,AN13)","v":0},{"$f":"AO13/(AQ4-AO8)","v":0},{"$f":"IF(AP13=0,0,(AP13*((LOG(AP13))/LOG(2))))","v":0},null,{"$f":"N13","v":0},{"$f":"COUNTIF(L47:L54,AS13)","v":0},{"$f":"AT13/(AV4-AT8)","v":0},{"$f":"IF(AU13=0,0,(AU13*((LOG(AU13))/LOG(2))))","v":0}]
[11,792,21,817,null,null,null,null,null,null,0,12,null,null,null,null,null,null,null,{"$f":"N14","v":0},{"$f":"COUNTIF(L7:L14,T14)","v":0},{"$f":"U14/(W4-U8)","v":0},{"$f":"IF(V14=0,0,(V14*((LOG(V14))/LOG(2))))","v":0},null,{"$f":"N14","v":0},{"$f":"COUNTIF(L15:L22,Y14)","v":0},{"$f":"Z14/(AB4-Z8)","v":{"$error":"#DIV/0!"}},{"$f":"IF(AA14=0,0,(AA14*((LOG(AA14))/LOG(2))))","v":{"$error":"#DIV/0!"}},null,{"$f":"N14","v":0},{"$f":"COUNTIF(L23:L30,AD14)","v":0},{"$f":"AE14/(AG4-AE8)","v":0},{"$f":"IF(AF14=0,0,(AF14*((LOG(AF14))/LOG(2))))","v":0},null,{"$f":"N14","v":0},{"$f":"COUNTIF(L31:L38,AI14)","v":0},{"$f":"AJ14/(AL4-AJ8)","v":{"$error":"#DIV/0!"}},{"$f":"IF(AK14=0,0,(AK14*((LOG(AK14))/LOG(2))))","v":{"$error":"#DIV/0!"}},null,{"$f":"N14","v":0},{"$f":"COUNTIF(L39:L46,AN14)","v":0},{"$f":"AO14/(AQ4-AO8)","v":0},{"$f":"IF(AP14=0,0,(AP14*((LOG(AP14))/LOG(2))))","v":0},null,{"$f":"N14","v":0},{"$f":"COUNTIF(L47:L54,AS14)","v":0},{"$f":"AT14/(AV4-AT8)","v":0},{"$f":"IF(AU14=0,0,(AU14*((LOG(AU14))/LOG(2))))","v":0}]
[11,904,21,917,null,null,null,null,null,null,0,12,null,null,null,{"$f":"SUM(P7:P14)","v":1},{"$f":"-SUM(Q7:Q14)","v":0.80909475546918164},null,null,null,null,{"$f":"SUM(V7:V14)","v":1},{"$f":"-SUM(W7:W14)","v":0},null,null,null,{"$f":"SUM(AA7:AA14)","v":{"$error":"#DIV/0!"}},{"$f":"-SUM(AB7:AB14)","v":{"$error":"#DIV/0!"}},null,null,null,{"$f":"SUM(AF7:AF14)","v":1},{"$f":"-SUM(AG7:AG14)","v":0},null,null,null,{"$f":"SUM(AK7:AK14)","v":{"$error":"#DIV/0!"}},{"$f":"-SUM(AL7:AL14)","v":{"$error":"#DIV/0!"}},null,null,null,{"$f":"SUM(AP7:AP14)","v":1},{"$f":"-SUM(AQ7:AQ14)","v":0},null,null,null,{"$f":"SUM(AU7:AU14)","v":1},{"$f":"-SUM(AV7:AV14)","v":0}]
[11,1004,21,1015,null,null,null,null,null,null,0,12,null,null,null,"U=",{"$f":"Q15/(LOG(Q4)/LOG(2))","v":0.14487022166482005},null,null,null,null,"U1=",{"$f":"W15/(LOG(W4)/LOG(2))","v":0},null,null,null,"U2=",{"$f":"AB15/(LOG(AB4)/LOG(2))","v":{"$error":"#DIV/0!"}},null,null,null,"U3=",{"$f":"AG15/(LOG(AG4)/LOG(2))","v":0},null,null,null,"U4=",{"$f":"AL15/(LOG(AL4)/LOG(2))","v":{"$error":"#DIV/0!"}},null,null,null,"U5=",{"$f":"AQ15/(LOG(AQ4)/LOG(2))","v":0},null,null,null,"U6=",{"$f":"AV15/(LOG(AV4)/LOG(2))","v":0}]
[11,1102,21,1136,null,null,null,null,null,null,0,12]
[11,1222,21,1235,null,null,null,null,null,null,0,12]
[11,1325,21,1335,null,null,null,null,null,null,0,12,null,"Total Target Seq"]
[11,1424,21,1445,null,null,null,null,null,null,0,12,null,{"$f":"COUNTIF(L7:L54,G3)","v":40},null,8,8,8,8,8,8]
[11,1534,21,1553,null,null,null,null,null,null,0,12,null,null,null,"% of reinforcement given in 6 equal intervals based on number of trials "]
[11,1641,21,1655,null,null,null,null,null,null,0,12,null,null,null,"%_1","%_2","%_3","%_4","%_5","%_6"]
[11,1742,21,1755,null,null,null,null,null,null,0,12,null,null,"target sequence",{"$f":"$G$3","v":12},{"$f":"$G$3","v":12},{"$f":"$G$3","v":12},{"$f":"$G$3","v":12},{"$f":"$G$3","v":12},{"$f":"$G$3","v":12}]
[11,1844,21,1857,null,null,null,null,null,null,0,12,null,null,"total reinforcement",{"$f":"U8","v":5},{"$f":"Z8","v":8},{"$f":"AE8","v":7},{"$f":"AJ8","v":8},{"$f":"AO8","v":7},{"$f":"AT8","v":5}]
[11,1944,21,1963,null,null,null,null,null,null,0,12,null,null,"% target"]
[11,2051,21,2064,null,null,null,null,null,null,0,12,null,null,"CCRF"]
[11,2152,21,2162,null,null,null,null,null,null,0,12,null,null,"% CCRf"]
[22,2263,23,2272,null,null,null,null,null,null,0,22,null,null,"average response rate",{"$f":"D14/P20","v":102.125},{"$f":"(D22-D14)/Q20","v":104.75},{"$f":"(D30-D22)/R20","v":103.25},{"$f":"(D38-D30)/S20","v":107.375},{"$f":"(D46-D38)/T20","v":103.25},{"$f":"(D54-D46)/U20","v":110.375}]
[11,2371,21,2384,null,null,null,null,null,null,0,12]
[11,2471,21,2481,null,null,null,null,null,null,0,12]
[11,2566,21,2579,null,null,null,null,null,null,0,12]
[11,2676,21,2720,null,null,null,null,null,null,0,12]
[11,2814,21,2826,null,null,null,null,null,null,0,12]
[11,2912,21,2930,null,null,null,null,null,null,0,12]
[11,3018,21,3028,null,null,null,null,null,null,0,12]
[11,3115,21,3141,null,null,null,null,null,null,0,12]
[11,3225,21,3239,null,null,null,null,null,null,0,12]
[11,3328,21,3340,null,null,null,null,null,null,0,12]
[11,3429,21,3441,null,null,null,null,null,null,0,12]
[11,3527,21,3556,null,null,null,null,null,null,0,12]
[11,3642,21,3653,null,null,null,null,null,null,0,12]
[22,3749,23,3757,null,null,null,null,null,null,0,22]
[11,3855,21,3868,null,null,null,null,null,null,0,12]
[11,3954,21,3968,null,null,null,null,null,null,0,12]
[11,4053,21,4065,null,null,null,null,null,null,0,12]
[11,4151,21,4166,null,null,null,null,null,null,0,12]
[22,4264,23,4276,null,null,null,null,null,null,0,22]
[11,4374,21,4386,null,null,null,null,null,null,0,12]
[22,4487,23,4499,null,null,null,null,null,null,0,22]
[11,4598,21,4613,null,null,null,null,null,null,0,12]
[11,4701,21,4718,null,null,null,null,null,null,0,12]
[22,4817,23,4838,null,null,null,null,null,null,0,22]
[11,4935,21,4952,null,null,null,null,null,null,0,12]
[11,5040,21,5049,null,null,null,null,null,null,1,12]

{"sheet":"!N108810.091","index":22,"n_rows":52,"n_cols":48,"rows_kept":52,"cut":false,"hidden":false,"merged":[[4,39,4,42],[5,39,5,40],[4,44,4,47],[5,44,5,45],[4,24,4,27],[5,24,5,25],[4,29,4,32],[5,29,5,30],[4,34,4,37],[5,34,5,35],[1,1,1,2],[5,13,5,14],[18,13,18,14],[19,13,19,14],[4,19,4,22],[5,19,5,20]]}
["Report for:!N108810.091"]
["Date:","<date>"]
["Hen:","<hen>",null,null,null,"Correct Sequence",{"$f":"Start!J2","v":12},null,null,null,null,null,null,null,null,"Total Sequences in Data",{"$f":"4994-COUNTBLANK(L7:L5000)","v":46},null,null,null,null,"Total Sequences in Block Data",{"$f":"COUNTA(L7:L14)","v":8},null,null,null,"Total Sequences in Block Data",{"$f":"COUNTA(L15:L21)","v":7},null,null,null,"Total Sequences in Block Data",{"$f":"COUNTA(L22:L29)","v":8},null,null,null,"Total Sequences in Block Data",{"$f":"COUNTA(L30:L37)","v":8},null,null,null,"Total Sequences in Block Data",{"$f":"COUNTA(L38:L44)","v":7},null,null,null,"Total Sequences in Block Data",{"$f":"COUNTA(L45:L52)","v":8}]
[null,null,null,null,null,null,null,null,null,null,null,null,null,null,null,"Total Sequences in Summary",{"$f":"SUM(O7:O14)","v":46},null,null,null,null,"Total Sequences in Block Summary",{"$f":"SUM(U7:U14)","v":8},null,null,null,"Total Sequences in Block Summary",{"$f":"SUM(Z7:Z14)","v":7},null,null,null,"Total Sequences in Block Summary",{"$f":"SUM(AE7:AE14)","v":8},null,null,null,"Total Sequences in Block Summary",{"$f":"SUM(AJ7:AJ14)","v":8},null,null,null,"Total Sequences in Block Summary",{"$f":"SUM(AO7:AO14)","v":7},null,null,null,"Total Sequences in Block Summary",{"$f":"SUM(AT7:AT14)","v":8}]
[null,null,null,null,null,null,null,null,null,null,null,null,null,null,null,null,null,null,null,"Block 1",null,null,null,null,"Block 2",null,null,null,null,"Block 3",null,null,null,null,"Block 4",null,null,null,null,"Block 5",null,null,null,null,"Block 6"]
["Sequence\nComponent\n1","Time\n1","Sequence\nComponent\n2","Time\n2","Sequence\nComponent\n3","Time\n3","Sequence\nComponent\n4","Time\n4","Sequence\nComponent\n5","Time\n5","Correct?\n0=No 1=Yes","Sequence",null,"Frequency",null,"Relative Frequency","Variability",null,null,"Frequency",null,"Relative Frequency","Variability",null,"Frequency",null,"Relative Frequency","Variability",null,"Frequency",null,"Relative Frequency","Variability",null,"Frequency",null,"Relative Frequency","Variability",null,"Frequency",null,"Relative Frequency","Variability",null,"Frequency",null,"Relative Frequency","Variability"]
[11,14,21,53,null,null,null,null,null,null,0,12,null,11,{"$f":"COUNTIF($L$7:$L$500,N7)","v":4},{"$f":"O7/$Q$4","v":8.6956521739130432E-2},{"$f":"IF(P7=0,0,(P7*((LOG(P7))/LOG(2))))","v":-0.30639669183104457},null,null,{"$f":"N7","v":11},{"$f":"COUNTIF(L7:L14,T7)","v":1},{"$f":"U7/(W4-U8)","v":1},{"$f":"IF(V7=0,0,(V7*((LOG(V7))/LOG(2))))","v":0},null,{"$f":"N7","v":11},{"$f":"COUNTIF(L15:L21,Y7)","v":0},{"$f":"Z7/(AB4-Z8)","v":{"$error":"#DIV/0!"}},{"$f":"IF(AA7=0,0,(AA7*((LOG(AA7))/LOG(2))))","v":{"$error":"#DIV/0!"}},null,{"$f":"N7","v":11},{"$f":"COUNTIF(L22:L29,AD7)","v":0},{"$f":"AE7/(AG4-AE8)","v":0},{"$f":"IF(AF7=0,0,(AF7*((LOG(AF7))/LOG(2))))","v":0},null,{"$f":"N7","v":11},{"$f":"COUNTIF(L30:L37,AI7)","v":1},{"$f":"AJ7/(AL4-AJ8)","v":1},{"$f":"IF(AK7=0,0,(AK7*((LOG(AK7))/LOG(2))))","v":0},null,{"$f":"N7","v":11},{"$f":"COUNTIF(L38:L44,AN7)","v":1},{"$f":"AO7/(AQ4-AO8)","v":1},{"$f":"IF(AP7=0,0,(AP7*((LOG(AP7))/LOG(2))))","v":0},null,{"$f":"N7","v":11},{"$f":"COUNTIF(L45:L52,AS7)","v":1},{"$f":"AT7/(AV4-AT8)","v":0.5},{"$f":"IF(AU7=0,0,(AU7*((LOG(AU7))/LOG(2))))","v":-0.5}]
[11,141,21,156,null,null,null,null,null,null,0,12,null,12,{"$f":"COUNTIF($L$7:$L$500,N8)","v":40},{"$f":"O8/$Q$4","v":0.86956521739130432},{"$f":"IF(P8=0,0,(P8*((LOG(P8))/LOG(2))))","v":-0.17533379232143528},null,null,{"$f":"N8","v":12},{"$f":"COUNTIF(L7:L14,T8)","v":7},null,null,null,{"$f":"N8","v":12},{"$f":"COUNTIF(L15:L21,Y8)","v":7},null,null,null,{"$f":"N8","v":12},{"$f":"COUNTIF(L22:L29,AD8)","v":7},null,null,null,{"$f":"N8","v":12},{"$f":"COUNTIF(L30:L37,AI8)","v":7},null,null,null,{"$f":"N8","v":12},{"$f":"COUNTIF(L38:L44,AN8)","v":6},null,null,null,{"$f":"N8","v":12},{"$f":"COUNTIF(L45:L52,AS8)","v":6}]
[11,251,21,273,null,null,null,null,null,null,0,12,null,21,{"$f":"COUNTIF($L$7:$L$500,N9)","v":0},{"$f":"O9/$Q$4","v":0},{"$f":"IF(P9=0,0,(P9*((LOG(P9))/LOG(2))))","v":0},null,null,{"$f":"N9","v":21},{"$f":"COUNTIF(L7:L14,T9)","v":0},{"$f":"U9/(W4-U8)","v":0},{"$f":"IF(V9=0,0,(V9*((LOG(V9))/LOG(2))))","v":0},null,{"$f":"N9","v":21},{"$f":"COUNTIF(L15:L21,Y9)","v":0},{"$f":"Z9/(AB4-Z8)","v":{"$error":"#DIV/0!"}},{"$f":"IF(AA9=0,0,(AA9*((LOG(AA9))/LOG(2))))","v":{"$error":"#DIV/0!"}},null,{"$f":"N9","v":21},{"$f":"COUNTIF(L22:L29,AD9)","v":0},{"$f":"AE9/(AG4-AE8)","v":0},{"$f":"IF(AF9=0,0,(AF9*((LOG(AF9))/LOG(2))))","v":0},null,{"$f":"N9","v":21},{"$f":"COUNTIF(L30:L37,AI9)","v":0},{"$f":"AJ9/(AL4-AJ8)","v":0},{"$f":"IF(AK9=0,0,(AK9*((LOG(AK9))/LOG(2))))","v":0},null,{"$f":"N9","v":21},{"$f":"COUNTIF(L38:L44,AN9)","v":0},{"$f":"AO9/(AQ4-AO8)","v":0},{"$f":"IF(AP9=0,0,(AP9*((LOG(AP9))/LOG(2))))","v":0},null,{"$f":"N9","v":21},{"$f":"COUNTIF(L45:L52,AS9)","v":0},{"$f":"AT9/(AV4-AT8)","v":0},{"$f":"IF(AU9=0,0,(AU9*((LOG(AU9))/LOG(2))))","v":0}]
[11,368,21,379,null,null,null,null,null,null,0,12,null,22,{"$f":"COUNTIF($L$7:$L$500,N10)","v":2},{"$f":"O10/$Q$4","v":4.3478260869565216E-2},{"$f":"IF(P10=0,0,(P10*((LOG(P10))/LOG(2))))","v":-0.19667660678508753},null,null,{"$f":"N10","v":22},{"$f":"COUNTIF(L7:L14,T10)","v":0},{"$f":"U10/(W4-U8)","v":0},{"$f":"IF(V10=0,0,(V10*((LOG(V10))/LOG(2))))","v":0},null,{"$f":"N10","v":22},{"$f":"COUNTIF(L15:L21,Y10)","v":0},{"$f":"Z10/(AB4-Z8)","v":{"$error":"#DIV/0!"}},{"$f":"IF(AA10=0,0,(AA10*((LOG(AA10))/LOG(2))))","v":{"$error":"#DIV/0!"}},null,{"$f":"N10","v":22},{"$f":"COUNTIF(L22:L29,AD10)","v":1},{"$f":"AE10/(AG4-AE8)","v":1},{"$f":"IF(AF10=0,0,(AF10*((LOG(AF10))/LOG(2))))","v":0},null,{"$f":"N10","v":22},{"$f":"COUNTIF(L30:L37,AI10)","v":0},{"$f":"AJ10/(AL4-AJ8)","v":0},{"$f":"IF(AK10=0,0,(AK10*((LOG(AK10))/LOG(2))))","v":0},null,{"$f":"N10","v":22},{"$f":"COUNTIF(L38:L44,AN10)","v":0},{"$f":"AO10/(AQ4-AO8)","v":0},{"$f":"IF(AP10=0,0,(AP10*((LOG(AP10))/LOG(2))))","v":0},null,{"$f":"N10","v":22},{"$f":"COUNTIF(L45:L52,AS10)","v":1},{"$f":"AT10/(AV4-AT8)","v":0.5},{"$f":"IF(AU10=0,0,(AU10*((LOG(AU10))/LOG(2))))","v":-0.5}]
[11,466,21,479,null,null,null,null,null,null,0,12,null,null,null,null,null,null,null,{"$f":"N11","v":0},{"$f":"COUNTIF(L7:L14,T11)","v":0},{"$f":"U11/(W4-U8)","v":0},{"$f":"IF(V11=0,0,(V11*((LOG(V11))/LOG(2))))","v":0},null,{"$f":"N11","v":0},{"$f":"COUNTIF(L15:L21,Y11)","v":0},{"$f":"Z11/(AB4-Z8)","v":{"$error":"#DIV/0!"}},{"$f":"IF(AA11=0,0,(AA11*((LOG(AA11))/LOG(2))))","v":{"$error":"#DIV/0!"}},null,{"$f":"N11","v":0},{"$f":"COUNTIF(L22:L29,AD11)","v":0},{"$f":"AE11/(AG4-AE8)","v":0},{"$f":"IF(AF11=0,0,(AF11*((LOG(AF11))/LOG(2))))","v":0},null,{"$f":"N11","v":0},{"$f":"COUNTIF(L30:L37,AI11)","v":0},{"$f":"AJ11/(AL4-AJ8)","v":0},{"$f":"IF(AK11=0,0,(AK11*((LOG(AK11))/LOG(2))))","v":0},null,{"$f":"N11","v":0},{"$f":"COUNTIF(L38:L44,AN11)","v":0},{"$f":"AO11/(AQ4-AO8)","v":0},{"$f":"IF(AP11=0,0,(AP11*((LOG(AP11))/LOG(2))))","v":0},null,{"$f":"N11","v":0},{"$f":"COUNTIF(L45:L52,AS11)","v":0},{"$f":"AT11/(AV4-AT8)","v":0},{"$f":"IF(AU11=0,0,(AU11*((LOG(AU11))/LOG(2))))","v":0}]
[11,568,21,577,null,null,null,null,null,null,0,12,null,null,null,null,null,null,null,{"$f":"N12","v":0},{"$f":"COUNTIF(L7:L14,T12)","v":0},{"$f":"U12/(W4-U8)","v":0},{"$f":"IF(V12=0,0,(V12*((LOG(V12))/LOG(2))))","v":0},null,{"$f":"N12","v":0},{"$f":"COUNTIF(L15:L21,Y12)","v":0},{"$f":"Z12/(AB4-Z8)","v":{"$error":"#DIV/0!"}},{"$f":"IF(AA12=0,0,(AA12*((LOG(AA12))/LOG(2))))","v":{"$error":"#DIV/0!"}},null,{"$f":"N12","v":0},{"$f":"COUNTIF(L22:L29,AD12)","v":0},{"$f":"AE12/(AG4-AE8)","v":0},{"$f":"IF(AF12=0,0,(AF12*((LOG(AF12))/LOG(2))))","v":0},null,{"$f":"N12","v":0},{"$f":"COUNTIF(L30:L37,AI12)","v":0},{"$f":"AJ12/(AL4-AJ8)","v":0},{"$f":"IF(AK12=0,0,(AK12*((LOG(AK12))/LOG(2))))","v":0},null,{"$f":"N12","v":0},{"$f":"COUNTIF(L38:L44,AN12)","v":0},{"$f":"AO12/(AQ4-AO8)","v":0},{"$f":"IF(AP12=0,0,(AP12*((LOG(AP12))/LOG(2))))","v":0},null,{"$f":"N12","v":0},{"$f":"COUNTIF(L45:L52,AS12)","v":0},{"$f":"AT12/(AV4-AT8)","v":0},{"$f":"IF(AU12=0,0,(AU12*((LOG(AU12))/LOG(2))))","v":0}]
[11,669,12,674,null,null,null,null,null,null,0,11,null,null,null,null,null,null,null,{"$f":"N13","v":0},{"$f":"COUNTIF(L7:L14,T13)","v":0},{"$f":"U13/(W4-U8)","v":0},{"$f":"IF(V13=0,0,(V13*((LOG(V13))/LOG(2))))","v":0},null,{"$f":"N13","v":0},{"$f":"COUNTIF(L15:L21,Y13)","v":0},{"$f":"Z13/(AB4-Z8)","v":{"$error":"#DIV/0!"}},{"$f":"IF(AA13=0,0,(AA13*((LOG(AA13))/LOG(2))))","v":{"$error":"#DIV/0!"}},null,{"$f":"N13","v":0},{"$f":"COUNTIF(L22:L29,AD13)","v":0},{"$f":"AE13/(AG4-AE8)","v":0},{"$f":"IF(AF13=0,0,(AF13*((LOG(AF13))/LOG(2))))","v":0},null,{"$f":"N13","v":0},{"$f":"COUNTIF(L30:L37,AI13)","v":0},{"$f":"AJ13/(AL4-AJ8)","v":0},{"$f":"IF(AK13=0,0,(AK13*((LOG(AK13))/LOG(2))))","v":0},null,{"$f":"N13","v":0},{"$f":"COUNTIF(L38:L44,AN13)","v":0},{"$f":"AO13/(AQ4-AO8)","v":0},{"$f":"IF(AP13=0,0,(AP13*((LOG(AP13))/LOG(2))))","v":0},null,{"$f":"N13","v":0},{"$f":"COUNTIF(L45:L52,AS13)","v":0},{"$f":"AT13/(AV4-AT8)","v":0},{"$f":"IF(AU13=0,0,(AU13*((LOG(AU13))/LOG(2))))","v":0}]
[11,772,21,785,null,null,null,null,null,null,0,12,null,null,null,null,null,null,null,{"$f":"N14","v":0},{"$f":"COUNTIF(L7:L14,T14)","v":0},{"$f":"U14/(W4-U8)","v":0},{"$f":"IF(V14=0,0,(V14*((LOG(V14))/LOG(2))))","v":0},null,{"$f":"N14","v":0},{"$f":"COUNTIF(L15:L21,Y14)","v":0},{"$f":"Z14/(AB4-Z8)","v":{"$error":"#DIV/0!"}},{"$f":"IF(AA14=0,0,(AA14*((LOG(AA14))/LOG(2))))","v":{"$error":"#DIV/0!"}},null,{"$f":"N14","v":0},{"$f":"COUNTIF(L22:L29,AD14)","v":0},{"$f":"AE14/(AG4-AE8)","v":0},{"$f":"IF(AF14=0,0,(AF14*((LOG(AF14))/LOG(2))))","v":0},null,{"$f":"N14","v":0},{"$f":"COUNTIF(L30:L37,AI14)","v":0},{"$f":"AJ14/(AL4-AJ8)","v":0},{"$f":"IF(AK14=0,0,(AK14*((LOG(AK14))/LOG(2))))","v":0},null,{"$f":"N14","v":0},{"$f":"COUNTIF(L38:L44,AN14)","v":0},{"$f":"AO14/(AQ4-AO8)","v":0},{"$f":"IF(AP14=0,0,(AP14*((LOG(AP14))/LOG(2))))","v":0},null,{"$f":"N14","v":0},{"$f":"COUNTIF(L45:L52,AS14)","v":0},{"$f":"AT14/(AV4-AT8)","v":0},{"$f":"IF(AU14=0,0,(AU14*((LOG(AU14))/LOG(2))))","v":0}]
[11,873,21,909,null,null,null,null,null,null,0,12,null,null,null,{"$f":"SUM(P7:P14)","v":1},{"$f":"-SUM(Q7:Q14)","v":0.67840709093756746},null,null,null,null,{"$f":"SUM(V7:V14)","v":1},{"$f":"-SUM(W7:W14)","v":0},null,null,null,{"$f":"SUM(AA7:AA14)","v":{"$error":"#DIV/0!"}},{"$f":"-SUM(AB7:AB14)","v":{"$error":"#DIV/0!"}},null,null,null,{"$f":"SUM(AF7:AF14)","v":1},{"$f":"-SUM(AG7:AG14)","v":0},null,null,null,{"$f":"SUM(AK7:AK14)","v":1},{"$f":"-SUM(AL7:AL14)","v":0},null,null,null,{"$f":"SUM(AP7:AP14)","v":1},{"$f":"-SUM(AQ7:AQ14)","v":0},null,null,null,{"$f":"SUM(AU7:AU14)","v":1},{"$f":"-SUM(AV7:AV14)","v":1}]
[11,1004,21,1016,null,null,null,null,null,null,0,12,null,null,null,"U=",{"$f":"Q15/(LOG(Q4)/LOG(2))","v":0.1228205814173301},null,null,null,null,"U1=",{"$f":"W15/(LOG(W4)/LOG(2))","v":0},null,null,null,"U2=",{"$f":"AB15/(LOG(AB4)/LOG(2))","v":{"$error":"#DIV/0!"}},null,null,null,"U3=",{"$f":"AG15/(LOG(AG4)/LOG(2))","v":0},null,null,null,"U4=",{"$f":"AL15/(LOG(AL4)/LOG(2))","v":0},null,null,null,"U5=",{"$f":"AQ15/(LOG(AQ4)/LOG(2))","v":0},null,null,null,"U6=",{"$f":"AV15/(LOG(AV4)/LOG(2))","v":0.33333333333333331}]
[11,1104,21,1114,null,null,null,null,null,null,0,12]
[11,1204,21,1213,null,null,null,null,null,null,0,12]
[11,1300,21,1324,null,null,null,null,null,null,0,12,null,"Total Target Seq"]
[11,1411,21,1425,null,null,null,null,null,null,0,12,null,{"$f":"COUNTIF(L7:L52,G3)","v":40},null,8,7,8,8,7,8]
[11,1513,21,1528,null,null,null,null,null,null,0,12,null,null,null,"% of reinforcement given in 6 equal intervals based on number of trials "]
[11,1615,21,1664,null,null,null,null,null,null,0,12,null,null,null,"%_1","%_2","%_3","%_4","%_5","%_6"]
[11,1754,21,1769,null,null,null,null,null,null,0,12,null,null,"target sequence",{"$f":"$G$3","v":12},{"$f":"$G$3","v":12},{"$f":"$G$3","v":12},{"$f":"$G$3","v":12},{"$f":"$G$3","v":12},{"$f":"$G$3","v":12}]
[11,1858,21,1872,null,null,null,null,null,null,0,12,null,null,"total reinforcement",{"$f":"U8","v":7},{"$f":"Z8","v":7},{"$f":"AE8","v":7},{"$f":"AJ8","v":7},{"$f":"AO8","v":6},{"$f":"AT8","v":6}]
[22,1980,23,1993,null,null,null,null,null,null,0,22,null,null,"% target"]
[11,2091,21,2136,null,null,null,null,null,null,0,12,null,null,"CCRF"]
[11,2224,21,2317,null,null,null,null,null,null,0,12,null,null,"% CCRf"]
[11,2405,21,2418,null,null,null,null,null,null,0,12,null,null,"average response rate",{"$f":"D14/P20","v":98.125},{"$f":"(D21-D14)/Q20","v":106.14285714285714},{"$f":"(D29-D21)/R20","v":127.375},{"$f":"(D37-D29)/S20","v":108.375},{"$f":"(D44-D37)/T20","v":112.28571428571429},{"$f":"(D52-D44)/U20","v":106.375}]
[11,2507,21,2547,null,null,null,null,null,null,0,12]
[11,2636,21,2649,null,null,null,null,null,null,0,12]
[11,2737,21,2746,null,null,null,null,null,null,0,12]
[11,2834,21,2847,null,null,null,null,null,null,0,12]
[11,2933,12,2941,null,null,null,null,null,null,0,11]
[11,3038,21,3052,null,null,null,null,null,null,0,12]
[11,3141,21,3155,null,null,null,null,null,null,0,12]
[11,3241,21,3268,null,null,null,null,null,null,0,12]
[11,3355,21,3414,null,null,null,null,null,null,0,12]
[11,3499,21,3524,null,null,null,null,null,null,0,12]
[11,3617,21,3639,null,null,null,null,null,null,0,12]
[11,3727,21,3743,null,null,null,null,null,null,0,12]
[11,3830,12,3838,null,null,null,null,null,null,0,11]
[11,3961,21,3996,null,null,null,null,null,null,0,12]
[11,4084,21,4100,null,null,null,null,null,null,0,12]
[11,4186,21,4200,null,null,null,null,null,null,0,12]
[11,4287,21,4305,null,null,null,null,null,null,0,12]
[11,4395,21,4409,null,null,null,null,null,null,0,12]
[11,4501,21,4515,null,null,null,null,null,null,0,12]
[11,4604,12,4608,null,null,null,null,null,null,0,11]
[11,4706,21,4719,null,null,null,null,null,null,0,12]
[11,4811,21,4829,null,null,null,null,null,null,0,12]
[22,4931,23,4942,null,null,null,null,null,null,0,22]
[11,5041,21,5051,null,null,null,null,null,null,1,12]

{"sheet":"!N109710.091","index":23,"n_rows":54,"n_cols":48,"rows_kept":54,"cut":false,"hidden":false,"merged":[[4,39,4,42],[5,39,5,40],[4,44,4,47],[5,44,5,45],[4,24,4,27],[5,24,5,25],[4,29,4,32],[5,29,5,30],[4,34,4,37],[5,34,5,35],[1,1,1,2],[5,13,5,14],[18,13,18,14],[19,13,19,14],[4,19,4,22],[5,19,5,20]]}
["Report for:!N109710.091"]
["Date:","<date>"]
["Hen:","<hen>",null,null,null,"Correct Sequence",{"$f":"Start!J2","v":12},null,null,null,null,null,null,null,null,"Total Sequences in Data",{"$f":"4994-COUNTBLANK(L7:L5000)","v":48},null,null,null,null,"Total Sequences in Block Data",{"$f":"COUNTA(L7:L14)","v":8},null,null,null,"Total Sequences in Block Data",{"$f":"COUNTA(L15:L22)","v":8},null,null,null,"Total Sequences in Block Data",{"$f":"COUNTA(L23:L30)","v":8},null,null,null,"Total Sequences in Block Data",{"$f":"COUNTA(L31:L38)","v":8},null,null,null,"Total Sequences in Block Data",{"$f":"COUNTA(L39:L46)","v":8},null,null,null,"Total Sequences in Block Data",{"$f":"COUNTA(L47:L54)","v":8}]
[null,null,null,null,null,null,null,null,null,null,null,null,null,null,null,"Total Sequences in Summary",{"$f":"SUM(O7:O14)","v":48},null,null,null,null,"Total Sequences in Block Summary",{"$f":"SUM(U7:U14)","v":8},null,null,null,"Total Sequences in Block Summary",{"$f":"SUM(Z7:Z14)","v":8},null,null,null,"Total Sequences in Block Summary",{"$f":"SUM(AE7:AE14)","v":8},null,null,null,"Total Sequences in Block Summary",{"$f":"SUM(AJ7:AJ14)","v":8},null,null,null,"Total Sequences in Block Summary",{"$f":"SUM(AO7:AO14)","v":8},null,null,null,"Total Sequences in Block Summary",{"$f":"SUM(AT7:AT14)","v":8}]
[null,null,null,null,null,null,null,null,null,null,null,null,null,null,null,null,null,null,null,"Block 1",null,null,null,null,"Block 2",null,null,null,null,"Block 3",null,null,null,null,"Block 4",null,null,null,null,"Block 5",null,null,null,null,"Block 6"]
["Sequence\nComponent\n1","Time\n1","Sequence\nComponent\n2","Time\n2","Sequence\nComponent\n3","Time\n3","Sequence\nComponent\n4","Time\n4","Sequence\nComponent\n5","Time\n5","Correct?\n0=No 1=Yes","Sequence",null,"Frequency",null,"Relative Frequency","Variability",null,null,"Frequency",null,"Relative Frequency","Variability",null,"Frequency",null,"Relative Frequency","Variability",null,"Frequency",null,"Relative Frequency","Variability",null,"Frequency",null,"Relative Frequency","Variability",null,"Frequency",null,"Relative Frequency","Variability",null,"Frequency",null,"Relative Frequency","Variability"]
[11,22,21,32,null,null,null,null,null,null,0,12,null,11,{"$f":"COUNTIF($L$7:$L$500,N7)","v":6},{"$f":"O7/$Q$4","v":0.125},{"$f":"IF(P7=0,0,(P7*((LOG(P7))/LOG(2))))","v":-0.375},null,null,{"$f":"N7","v":11},{"$f":"COUNTIF(L7:L14,T7)","v":2},{"$f":"U7/(W4-U8)","v":1},{"$f":"IF(V7=0,0,(V7*((LOG(V7))/LOG(2))))","v":0},null,{"$f":"N7","v":11},{"$f":"COUNTIF(L15:L22,Y7)","v":0},{"$f":"Z7/(AB4-Z8)","v":{"$error":"#DIV/0!"}},{"$f":"IF(AA7=0,0,(AA7*((LOG(AA7))/LOG(2))))","v":{"$error":"#DIV/0!"}},null,{"$f":"N7","v":11},{"$f":"COUNTIF(L23:L30,AD7)","v":1},{"$f":"AE7/(AG4-AE8)","v":1},{"$f":"IF(AF7=0,0,(AF7*((LOG(AF7))/LOG(2))))","v":0},null,{"$f":"N7","v":11},{"$f":"COUNTIF(L31:L38,AI7)","v":2},{"$f":"AJ7/(AL4-AJ8)","v":1},{"$f":"IF(AK7=0,0,(AK7*((LOG(AK7))/LOG(2))))","v":0},null,{"$f":"N7","v":11},{"$f":"COUNTIF(L39:L46,AN7)","v":0},{"$f":"AO7/(AQ4-AO8)","v":0},{"$f":"IF(AP7=0,0,(AP7*((LOG(AP7))/LOG(2))))","v":0},null,{"$f":"N7","v":11},{"$f":"COUNTIF(L47:L54,AS7)","v":1},{"$f":"AT7/(AV4-AT8)","v":1},{"$f":"IF(AU7=0,0,(AU7*((LOG(AU7))/LOG(2))))","v":0}]
[11,118,21,132,null,null,null,null,null,null,0,12,null,12,{"$f":"COUNTIF($L$7:$L$500,N8)","v":40},{"$f":"O8/$Q$4","v":0.83333333333333337},{"$f":"IF(P8=0,0,(P8*((LOG(P8))/LOG(2))))","v":-0.21919533819482812},null,null,{"$f":"N8","v":12},{"$f":"COUNTIF(L7:L14,T8)","v":6},null,null,null,{"$f":"N8","v":12},{"$f":"COUNTIF(L15:L22,Y8)","v":8},null,null,null,{"$f":"N8","v":12},{"$f":"COUNTIF(L23:L30,AD8)","v":7},null,null,null,{"$f":"N8","v":12},{"$f":"COUNTIF(L31:L38,AI8)","v":6},null,null,null,{"$f":"N8","v":12},{"$f":"COUNTIF(L39:L46,AN8)","v":6},null,null,null,{"$f":"N8","v":12},{"$f":"COUNTIF(L47:L54,AS8)","v":7}]
[11,222,21,243,null,null,null,null,null,null,0,12,null,21,{"$f":"COUNTIF($L$7:$L$500,N9)","v":1},{"$f":"O9/$Q$4","v":2.0833333333333332E-2},{"$f":"IF(P9=0,0,(P9*((LOG(P9))/LOG(2))))","v":-0.11635338543169074},null,null,{"$f":"N9","v":21},{"$f":"COUNTIF(L7:L14,T9)","v":0},{"$f":"U9/(W4-U8)","v":0},{"$f":"IF(V9=0,0,(V9*((LOG(V9))/LOG(2))))","v":0},null,{"$f":"N9","v":21},{"$f":"COUNTIF(L15:L22,Y9)","v":0},{"$f":"Z9/(AB4-Z8)","v":{"$error":"#DIV/0!"}},{"$f":"IF(AA9=0,0,(AA9*((LOG(AA9))/LOG(2))))","v":{"$error":"#DIV/0!"}},null,{"$f":"N9","v":21},{"$f":"COUNTIF(L23:L30,AD9)","v":0},{"$f":"AE9/(AG4-AE8)","v":0},{"$f":"IF(AF9=0,0,(AF9*((LOG(AF9))/LOG(2))))","v":0},null,{"$f":"N9","v":21},{"$f":"COUNTIF(L31:L38,AI9)","v":0},{"$f":"AJ9/(AL4-AJ8)","v":0},{"$f":"IF(AK9=0,0,(AK9*((LOG(AK9))/LOG(2))))","v":0},null,{"$f":"N9","v":21},{"$f":"COUNTIF(L39:L46,AN9)","v":1},{"$f":"AO9/(AQ4-AO8)","v":0.5},{"$f":"IF(AP9=0,0,(AP9*((LOG(AP9))/LOG(2))))","v":-0.5},null,{"$f":"N9","v":21},{"$f":"COUNTIF(L47:L54,AS9)","v":0},{"$f":"AT9/(AV4-AT8)","v":0},{"$f":"IF(AU9=0,0,(AU9*((LOG(AU9))/LOG(2))))","v":0}]
[11,331,12,337,null,null,null,null,null,null,0,11,null,22,{"$f":"COUNTIF($L$7:$L$500,N10)","v":1},{"$f":"O10/$Q$4","v":2.0833333333333332E-2},{"$f":"IF(P10=0,0,(P10*((LOG(P10))/LOG(2))))","v":-0.11635338543169074},null,null,{"$f":"N10","v":22},{"$f":"COUNTIF(L7:L14,T10)","v":0},{"$f":"U10/(W4-U8)","v":0},{"$f":"IF(V10=0,0,(V10*((LOG(V10))/LOG(2))))","v":0},null,{"$f":"N10","v":22},{"$f":"COUNTIF(L15:L22,Y10)","v":0},{"$f":"Z10/(AB4-Z8)","v":{"$error":"#DIV/0!"}},{"$f":"IF(AA10=0,0,(AA10*((LOG(AA10))/LOG(2))))","v":{"$error":"#DIV/0!"}},null,{"$f":"N10","v":22},{"$f":"COUNTIF(L23:L30,AD10)","v":0},{"$f":"AE10/(AG4-AE8)","v":0},{"$f":"IF(AF10=0,0,(AF10*((LOG(AF10))/LOG(2))))","v":0},null,{"$f":"N10","v":22},{"$f":"COUNTIF(L31:L38,AI10)","v":0},{"$f":"AJ10/(AL4-AJ8)","v":0},{"$f":"IF(AK10=0,0,(AK10*((LOG(AK10))/LOG(2))))","v":0},null,{"$f":"N10","v":22},{"$f":"COUNTIF(L39:L46,AN10)","v":1},{"$f":"AO10/(AQ4-AO8)","v":0.5},{"$f":"IF(AP10=0,0,(AP10*((LOG(AP10))/LOG(2))))","v":-0.5},null,{"$f":"N10","v":22},{"$f":"COUNTIF(L47:L54,AS10)","v":0},{"$f":"AT10/(AV4-AT8)","v":0},{"$f":"IF(AU10=0,0,(AU10*((LOG(AU10))/LOG(2))))","v":0}]
[11,442,21,515,null,null,null,null,null,null,0,12,null,null,null,null,null,null,null,{"$f":"N11","v":0},{"$f":"COUNTIF(L7:L14,T11)","v":0},{"$f":"U11/(W4-U8)","v":0},{"$f":"IF(V11=0,0,(V11*((LOG(V11))/LOG(2))))","v":0},null,{"$f":"N11","v":0},{"$f":"COUNTIF(L15:L22,Y11)","v":0},{"$f":"Z11/(AB4-Z8)","v":{"$error":"#DIV/0!"}},{"$f":"IF(AA11=0,0,(AA11*((LOG(AA11))/LOG(2))))","v":{"$error":"#DIV/0!"}},null,{"$f":"N11","v":0},{"$f":"COUNTIF(L23:L30,AD11)","v":0},{"$f":"AE11/(AG4-AE8)","v":0},{"$f":"IF(AF11=0,0,(AF11*((LOG(AF11))/LOG(2))))","v":0},null,{"$f":"N11","v":0},{"$f":"COUNTIF(L31:L38,AI11)","v":0},{"$f":"AJ11/(AL4-AJ8)","v":0},{"$f":"IF(AK11=0,0,(AK11*((LOG(AK11))/LOG(2))))","v":0},null,{"$f":"N11","v":0},{"$f":"COUNTIF(L39:L46,AN11)","v":0},{"$f":"AO11/(AQ4-AO8)","v":0},{"$f":"IF(AP11=0,0,(AP11*((LOG(AP11))/LOG(2))))","v":0},null,{"$f":"N11","v":0},{"$f":"COUNTIF(L47:L54,AS11)","v":0},{"$f":"AT11/(AV4-AT8)","v":0},{"$f":"IF(AU11=0,0,(AU11*((LOG(AU11))/LOG(2))))","v":0}]
[11,606,21,629,null,null,null,null,null,null,0,12,null,null,null,null,null,null,null,{"$f":"N12","v":0},{"$f":"COUNTIF(L7:L14,T12)","v":0},{"$f":"U12/(W4-U8)","v":0},{"$f":"IF(V12=0,0,(V12*((LOG(V12))/LOG(2))))","v":0},null,{"$f":"N12","v":0},{"$f":"COUNTIF(L15:L22,Y12)","v":0},{"$f":"Z12/(AB4-Z8)","v":{"$error":"#DIV/0!"}},{"$f":"IF(AA12=0,0,(AA12*((LOG(AA12))/LOG(2))))","v":{"$error":"#DIV/0!"}},null,{"$f":"N12","v":0},{"$f":"COUNTIF(L23:L30,AD12)","v":0},{"$f":"AE12/(AG4-AE8)","v":0},{"$f":"IF(AF12=0,0,(AF12*((LOG(AF12))/LOG(2))))","v":0},null,{"$f":"N12","v":0},{"$f":"COUNTIF(L31:L38,AI12)","v":0},{"$f":"AJ12/(AL4-AJ8)","v":0},{"$f":"IF(AK12=0,0,(AK12*((LOG(AK12))/LOG(2))))","v":0},null,{"$f":"N12","v":0},{"$f":"COUNTIF(L39:L46,AN12)","v":0},{"$f":"AO12/(AQ4-AO8)","v":0},{"$f":"IF(AP12=0,0,(AP12*((LOG(AP12))/LOG(2))))","v":0},null,{"$f":"N12","v":0},{"$f":"COUNTIF(L47:L54,AS12)","v":0},{"$f":"AT12/(AV4-AT8)","v":0},{"$f":"IF(AU12=0,0,(AU12*((LOG(AU12))/LOG(2))))","v":0}]
[11,716,12,724,null,null,null,null,null,null,0,11,null,null,null,null,null,null,null,{"$f":"N13","v":0},{"$f":"COUNTIF(L7:L14,T13)","v":0},{"$f":"U13/(W4-U8)","v":0},{"$f":"IF(V13=0,0,(V13*((LOG(V13))/LOG(2))))","v":0},null,{"$f":"N13","v":0},{"$f":"COUNTIF(L15:L22,Y13)","v":0},{"$f":"Z13/(AB4-Z8)","v":{"$error":"#DIV/0!"}},{"$f":"IF(AA13=0,0,(AA13*((LOG(AA13))/LOG(2))))","v":{"$error":"#DIV/0!"}},null,{"$f":"N13","v":0},{"$f":"COUNTIF(L23:L30,AD13)","v":0},{"$f":"AE13/(AG4-AE8)","v":0},{"$f":"IF(AF13=0,0,(AF13*((LOG(AF13))/LOG(2))))","v":0},null,{"$f":"N13","v":0},{"$f":"COUNTIF(L31:L38,AI13)","v":0},{"$f":"AJ13/(AL4-AJ8)","v":0},{"$f":"IF(AK13=0,0,(AK13*((LOG(AK13))/LOG(2))))","v":0},null,{"$f":"N13","v":0},{"$f":"COUNTIF(L39:L46,AN13)","v":0},{"$f":"AO13/(AQ4-AO8)","v":0},{"$f":"IF(AP13=0,0,(AP13*((LOG(AP13))/LOG(2))))","v":0},null,{"$f":"N13","v":0},{"$f":"COUNTIF(L47:L54,AS13)","v":0},{"$f":"AT13/(AV4-AT8)","v":0},{"$f":"IF(AU13=0,0,(AU13*((LOG(AU13))/LOG(2))))","v":0}]
[11,822,21,843,null,null,null,null,null,null,0,12,null,null,null,null,null,null,null,{"$f":"N14","v":0},{"$f":"COUNTIF(L7:L14,T14)","v":0},{"$f":"U14/(W4-U8)","v":0},{"$f":"IF(V14=0,0,(V14*((LOG(V14))/LOG(2))))","v":0},null,{"$f":"N14","v":0},{"$f":"COUNTIF(L15:L22,Y14)","v":0},{"$f":"Z14/(AB4-Z8)","v":{"$error":"#DIV/0!"}},{"$f":"IF(AA14=0,0,(AA14*((LOG(AA14))/LOG(2))))","v":{"$error":"#DIV/0!"}},null,{"$f":"N14","v":0},{"$f":"COUNTIF(L23:L30,AD14)","v":0},{"$f":"AE14/(AG4-AE8)","v":0},{"$f":"IF(AF14=0,0,(AF14*((LOG(AF14))/LOG(2))))","v":0},null,{"$f":"N14","v":0},{"$f":"COUNTIF(L31:L38,AI14)","v":0},{"$f":"AJ14/(AL4-AJ8)","v":0},{"$f":"IF(AK14=0,0,(AK14*((LOG(AK14))/LOG(2))))","v":0},null,{"$f":"N14","v":0},{"$f":"COUNTIF(L39:L46,AN14)","v":0},{"$f":"AO14/(AQ4-AO8)","v":0},{"$f":"IF(AP14=0,0,(AP14*((LOG(AP14))/LOG(2))))","v":0},null,{"$f":"N14","v":0},{"$f":"COUNTIF(L47:L54,AS14)","v":0},{"$f":"AT14/(AV4-AT8)","v":0},{"$f":"IF(AU14=0,0,(AU14*((LOG(AU14))/LOG(2))))","v":0}]
[11,934,21,949,null,null,null,null,null,null,0,12,null,null,null,{"$f":"SUM(P7:P14)","v":1},{"$f":"-SUM(Q7:Q14)","v":0.8269021090582096},null,null,null,null,{"$f":"SUM(V7:V14)","v":1},{"$f":"-SUM(W7:W14)","v":0},null,null,null,{"$f":"SUM(AA7:AA14)","v":{"$error":"#DIV/0!"}},{"$f":"-SUM(AB7:AB14)","v":{"$error":"#DIV/0!"}},null,null,null,{"$f":"SUM(AF7:AF14)","v":1},{"$f":"-SUM(AG7:AG14)","v":0},null,null,null,{"$f":"SUM(AK7:AK14)","v":1},{"$f":"-SUM(AL7:AL14)","v":0},null,null,null,{"$f":"SUM(AP7:AP14)","v":1},{"$f":"-SUM(AQ7:AQ14)","v":1},null,null,null,{"$f":"SUM(AU7:AU14)","v":1},{"$f":"-SUM(AV7:AV14)","v":0}]
[11,1038,21,1050,null,null,null,null,null,null,0,12,null,null,null,"U=",{"$f":"Q15/(LOG(Q4)/LOG(2))","v":0.14805866806651544},null,null,null,null,"U1=",{"$f":"W15/(LOG(W4)/LOG(2))","v":0},null,null,null,"U2=",{"$f":"AB15/(LOG(AB4)/LOG(2))","v":{"$error":"#DIV/0!"}},null,null,null,"U3=",{"$f":"AG15/(LOG(AG4)/LOG(2))","v":0},null,null,null,"U4=",{"$f":"AL15/(LOG(AL4)/LOG(2))","v":0},null,null,null,"U5=",{"$f":"AQ15/(LOG(AQ4)/LOG(2))","v":0.33333333333333331},null,null,null,"U6=",{"$f":"AV15/(LOG(AV4)/LOG(2))","v":0}]
[11,1139,21,1166,null,null,null,null,null,null,0,12]
[11,1260,21,1297,null,null,null,null,null,null,0,12]
[11,1388,21,1403,null,null,null,null,null,null,0,12,null,"Total Target Seq"]
[11,1497,21,1510,null,null,null,null,null,null,0,12,null,{"$f":"COUNTIF(L7:L54,G3)","v":40},null,8,8,8,8,8,8]
[11,1600,21,1617,null,null,null,null,null,null,0,12,null,null,null,"% of reinforcement given in 6 equal intervals based on number of trials "]
[11,1710,21,1725,null,null,null,null,null,null,0,12,null,null,null,"%_1","%_2","%_3","%_4","%_5","%_6"]
[11,1814,21,1830,null,null,null,null,null,null,0,12,null,null,"target sequence",{"$f":"$G$3","v":12},{"$f":"$G$3","v":12},{"$f":"$G$3","v":12},{"$f":"$G$3","v":12},{"$f":"$G$3","v":12},{"$f":"$G$3","v":12}]
[11,1923,21,1981,null,null,null,null,null,null,0,12,null,null,"total reinforcement",{"$f":"U8","v":6},{"$f":"Z8","v":8},{"$f":"AE8","v":7},{"$f":"AJ8","v":6},{"$f":"AO8","v":6},{"$f":"AT8","v":7}]
[11,2069,12,2077,null,null,null,null,null,null,0,11,null,null,"% target"]
[11,2177,21,2191,null,null,null,null,null,null,0,12,null,null,"CCRF"]
[11,2282,21,2303,null,null,null,null,null,null,0,12,null,null,"% CCRf"]
[11,2394,21,2417,null,null,null,null,null,null,0,12,null,null,"average response rate",{"$f":"D14/P20","v":105.375},{"$f":"(D22-D14)/Q20","v":110.25},{"$f":"(D30-D22)/R20","v":111.625},{"$f":"(D38-D30)/S20","v":106.875},{"$f":"(D46-D38)/T20","v":120.125},{"$f":"(D54-D46)/U20","v":116}]
[11,2505,21,2516,null,null,null,null,null,null,0,12]
[11,2603,21,2618,null,null,null,null,null,null,0,12]
[11,2708,21,2735,null,null,null,null,null,null,0,12]
[11,2828,21,2842,null,null,null,null,null,null,0,12]
[11,2931,21,2945,null,null,null,null,null,null,0,12]
[11,3036,21,3052,null,null,null,null,null,null,0,12]
[11,3142,12,3159,null,null,null,null,null,null,0,11]
[11,3260,21,3273,null,null,null,null,null,null,0,12]
[11,3365,21,3379,null,null,null,null,null,null,0,12]
[11,3468,12,3473,null,null,null,null,null,null,0,11]
[22,3596,23,3637,null,null,null,null,null,null,0,22]
[11,3738,21,3753,null,null,null,null,null,null,0,12]
[11,3842,21,3863,null,null,null,null,null,null,0,12]
[11,3954,21,3966,null,null,null,null,null,null,0,12]
[11,4074,21,4105,null,null,null,null,null,null,0,12]
[11,4195,21,4208,null,null,null,null,null,null,0,12]
[22,4309,14,4318,null,null,null,null,null,null,0,21]
[11,4418,21,4434,null,null,null,null,null,null,0,12]
[11,4525,21,4548,null,null,null,null,null,null,0,12]
[11,4641,12,4684,null,null,null,null,null,null,0,11]
[11,4783,21,4794,null,null,null,null,null,null,0,12]
[11,4899,21,4912,null,null,null,null,null,null,0,12]
[11,5005,21,5014,null,null,null,null,null,null,0,12]
[11,5124,21,5153,null,null,null,null,null,null,0,12]
[11,5244,21,5256,null,null,null,null,null,null,0,12]
[11,5349,21,5362,null,null,null,null,null,null,1,12]

{"sheet":"!N110820.091","index":24,"n_rows":48,"n_cols":48,"rows_kept":48,"cut":false,"hidden":false,"merged":[[4,39,4,42],[5,39,5,40],[4,44,4,47],[5,44,5,45],[4,24,4,27],[5,24,5,25],[4,29,4,32],[5,29,5,30],[4,34,4,37],[5,34,5,35],[1,1,1,2],[5,13,5,14],[18,13,18,14],[19,13,19,14],[4,19,4,22],[5,19,5,20]]}
["Report for:!N110820.091"]
["Date:","<date>"]
["Hen:","<hen>",null,null,null,"Correct Sequence",{"$f":"Start!J2","v":12},null,null,null,null,null,null,null,null,"Total Sequences in Data",{"$f":"4994-COUNTBLANK(L7:L5000)","v":42},null,null,null,null,"Total Sequences in Block Data",{"$f":"COUNTA(L7:L13)","v":7},null,null,null,"Total Sequences in Block Data",{"$f":"COUNTA(L14:L20)","v":7},null,null,null,"Total Sequences in Block Data",{"$f":"COUNTA(L21:L27)","v":7},null,null,null,"Total Sequences in Block Data",{"$f":"COUNTA(L28:L34)","v":7},null,null,null,"Total Sequences in Block Data",{"$f":"COUNTA(L35:L41)","v":7},null,null,null,"Total Sequences in Block Data",{"$f":"COUNTA(L42:L48)","v":7}]
[null,null,null,null,null,null,null,null,null,null,null,null,null,null,null,"Total Sequences in Summary",{"$f":"SUM(O7:O14)","v":42},null,null,null,null,"Total Sequences in Block Summary",{"$f":"SUM(U7:U14)","v":7},null,null,null,"Total Sequences in Block Summary",{"$f":"SUM(Z7:Z14)","v":7},null,null,null,"Total Sequences in Block Summary",{"$f":"SUM(AE7:AE14)","v":7},null,null,null,"Total Sequences in Block Summary",{"$f":"SUM(AJ7:AJ14)","v":7},null,null,null,"Total Sequences in Block Summary",{"$f":"SUM(AO7:AO14)","v":7},null,null,null,"Total Sequences in Block Summary",{"$f":"SUM(AT7:AT14)","v":7}]
[null,null,null,null,null,null,null,null,null,null,null,null,null,null,null,null,null,null,null,"Block 1",null,null,null,null,"Block 2",null,null,null,null,"Block 3",null,null,null,null,"Block 4",null,null,null,null,"Block 5",null,null,null,null,"Block 6"]
["Sequence\nComponent\n1","Time\n1","Sequence\nComponent\n2","Time\n2","Sequence\nComponent\n3","Time\n3","Sequence\nComponent\n4","Time\n4","Sequence\nComponent\n5","Time\n5","Correct?\n0=No 1=Yes","Sequence",null,"Frequency",null,"Relative Frequency","Variability",null,null,"Frequency",null,"Relative Frequency","Variability",null,"Frequency",null,"Relative Frequency","Variability",null,"Frequency",null,"Relative Frequency","Variability",null,"Frequency",null,"Relative Frequency","Variability",null,"Frequency",null,"Relative Frequency","Variability",null,"Frequency",null,"Relative Frequency","Variability"]
[11,13,12,36,null,null,null,null,null,null,0,11,null,11,{"$f":"COUNTIF($L$7:$L$500,N7)","v":1},{"$f":"O7/$Q$4","v":2.3809523809523808E-2},{"$f":"IF(P7=0,0,(P7*((LOG(P7))/LOG(2))))","v":-0.12838851006616095},null,null,{"$f":"N7","v":11},{"$f":"COUNTIF(L7:L13,T7)","v":1},{"$f":"U7/(W4-U8)","v":1},{"$f":"IF(V7=0,0,(V7*((LOG(V7))/LOG(2))))","v":0},null,{"$f":"N7","v":11},{"$f":"COUNTIF(L14:L20,Y7)","v":0},{"$f":"Z7/(AB4-Z8)","v":0},{"$f":"IF(AA7=0,0,(AA7*((LOG(AA7))/LOG(2))))","v":0},null,{"$f":"N7","v":11},{"$f":"COUNTIF(L21:L27,AD7)","v":0},{"$f":"AE7/(AG4-AE8)","v":{"$error":"#DIV/0!"}},{"$f":"IF(AF7=0,0,(AF7*((LOG(AF7))/LOG(2))))","v":{"$error":"#DIV/0!"}},null,{"$f":"N7","v":11},{"$f":"COUNTIF(L28:L34,AI7)","v":0},{"$f":"AJ7/(AL4-AJ8)","v":{"$error":"#DIV/0!"}},{"$f":"IF(AK7=0,0,(AK7*((LOG(AK7))/LOG(2))))","v":{"$error":"#DIV/0!"}},null,{"$f":"N7","v":11},{"$f":"COUNTIF(L35:L41,AN7)","v":0},{"$f":"AO7/(AQ4-AO8)","v":{"$error":"#DIV/0!"}},{"$f":"IF(AP7=0,0,(AP7*((LOG(AP7))/LOG(2))))","v":{"$error":"#DIV/0!"}},null,{"$f":"N7","v":11},{"$f":"COUNTIF(L42:L48,AS7)","v":0},{"$f":"AT7/(AV4-AT8)","v":{"$error":"#DIV/0!"}},{"$f":"IF(AU7=0,0,(AU7*((LOG(AU7))/LOG(2))))","v":{"$error":"#DIV/0!"}}]
[11,140,21,153,null,null,null,null,null,null,0,12,null,12,{"$f":"COUNTIF($L$7:$L$500,N8)","v":40},{"$f":"O8/$Q$4","v":0.95238095238095233},{"$f":"IF(P8=0,0,(P8*((LOG(P8))/LOG(2))))","v":-6.7037455134664775E-2},null,null,{"$f":"N8","v":12},{"$f":"COUNTIF(L7:L13,T8)","v":6},null,null,null,{"$f":"N8","v":12},{"$f":"COUNTIF(L14:L20,Y8)","v":6},null,null,null,{"$f":"N8","v":12},{"$f":"COUNTIF(L21:L27,AD8)","v":7},null,null,null,{"$f":"N8","v":12},{"$f":"COUNTIF(L28:L34,AI8)","v":7},null,null,null,{"$f":"N8","v":12},{"$f":"COUNTIF(L35:L41,AN8)","v":7},null,null,null,{"$f":"N8","v":12},{"$f":"COUNTIF(L42:L48,AS8)","v":7}]
[11,240,21,251,null,null,null,null,null,null,0,12,null,21,{"$f":"COUNTIF($L$7:$L$500,N9)","v":0},{"$f":"O9/$Q$4","v":0},{"$f":"IF(P9=0,0,(P9*((LOG(P9))/LOG(2))))","v":0},null,null,{"$f":"N9","v":21},{"$f":"COUNTIF(L7:L13,T9)","v":0},{"$f":"U9/(W4-U8)","v":0},{"$f":"IF(V9=0,0,(V9*((LOG(V9))/LOG(2))))","v":0},null,{"$f":"N9","v":21},{"$f":"COUNTIF(L14:L20,Y9)","v":0},{"$f":"Z9/(AB4-Z8)","v":0},{"$f":"IF(AA9=0,0,(AA9*((LOG(AA9))/LOG(2))))","v":0},null,{"$f":"N9","v":21},{"$f":"COUNTIF(L21:L27,AD9)","v":0},{"$f":"AE9/(AG4-AE8)","v":{"$error":"#DIV/0!"}},{"$f":"IF(AF9=0,0,(AF9*((LOG(AF9))/LOG(2))))","v":{"$error":"#DIV/0!"}},null,{"$f":"N9","v":21},{"$f":"COUNTIF(L28:L34,AI9)","v":0},{"$f":"AJ9/(AL4-AJ8)","v":{"$error":"#DIV/0!"}},{"$f":"IF(AK9=0,0,(AK9*((LOG(AK9))/LOG(2))))","v":{"$error":"#DIV/0!"}},null,{"$f":"N9","v":21},{"$f":"COUNTIF(L35:L41,AN9)","v":0},{"$f":"AO9/(AQ4-AO8)","v":{"$error":"#DIV/0!"}},{"$f":"IF(AP9=0,0,(AP9*((LOG(AP9))/LOG(2))))","v":{"$error":"#DIV/0!"}},null,{"$f":"N9","v":21},{"$f":"COUNTIF(L42:L48,AS9)","v":0},{"$f":"AT9/(AV4-AT8)","v":{"$error":"#DIV/0!"}},{"$f":"IF(AU9=0,0,(AU9*((LOG(AU9))/LOG(2))))","v":{"$error":"#DIV/0!"}}]
[11,340,21,353,null,null,null,null,null,null,0,12,null,22,{"$f":"COUNTIF($L$7:$L$500,N10)","v":1},{"$f":"O10/$Q$4","v":2.3809523809523808E-2},{"$f":"IF(P10=0,0,(P10*((LOG(P10))/LOG(2))))","v":-0.12838851006616095},null,null,{"$f":"N10","v":22},{"$f":"COUNTIF(L7:L13,T10)","v":0},{"$f":"U10/(W4-U8)","v":0},{"$f":"IF(V10=0,0,(V10*((LOG(V10))/LOG(2))))","v":0},null,{"$f":"N10","v":22},{"$f":"COUNTIF(L14:L20,Y10)","v":1},{"$f":"Z10/(AB4-Z8)","v":1},{"$f":"IF(AA10=0,0,(AA10*((LOG(AA10))/LOG(2))))","v":0},null,{"$f":"N10","v":22},{"$f":"COUNTIF(L21:L27,AD10)","v":0},{"$f":"AE10/(AG4-AE8)","v":{"$error":"#DIV/0!"}},{"$f":"IF(AF10=0,0,(AF10*((LOG(AF10))/LOG(2))))","v":{"$error":"#DIV/0!"}},null,{"$f":"N10","v":22},{"$f":"COUNTIF(L28:L34,AI10)","v":0},{"$f":"AJ10/(AL4-AJ8)","v":{"$error":"#DIV/0!"}},{"$f":"IF(AK10=0,0,(AK10*((LOG(AK10))/LOG(2))))","v":{"$error":"#DIV/0!"}},null,{"$f":"N10","v":22},{"$f":"COUNTIF(L35:L41,AN10)","v":0},{"$f":"AO10/(AQ4-AO8)","v":{"$error":"#DIV/0!"}},{"$f":"IF(AP10=0,0,(AP10*((LOG(AP10))/LOG(2))))","v":{"$error":"#DIV/0!"}},null,{"$f":"N10","v":22},{"$f":"COUNTIF(L42:L48,AS10)","v":0},{"$f":"AT10/(AV4-AT8)","v":{"$error":"#DIV/0!"}},{"$f":"IF(AU10=0,0,(AU10*((LOG(AU10))/LOG(2))))","v":{"$error":"#DIV/0!"}}]
[11,446,21,484,null,null,null,null,null,null,0,12,null,null,null,null,null,null,null,{"$f":"N11","v":0},{"$f":"COUNTIF(L7:L13,T11)","v":0},{"$f":"U11/(W4-U8)","v":0},{"$f":"IF(V11=0,0,(V11*((LOG(V11))/LOG(2))))","v":0},null,{"$f":"N11","v":0},{"$f":"COUNTIF(L14:L20,Y11)","v":0},{"$f":"Z11/(AB4-Z8)","v":0},{"$f":"IF(AA11=0,0,(AA11*((LOG(AA11))/LOG(2))))","v":0},null,{"$f":"N11","v":0},{"$f":"COUNTIF(L21:L27,AD11)","v":0},{"$f":"AE11/(AG4-AE8)","v":{"$error":"#DIV/0!"}},{"$f":"IF(AF11=0,0,(AF11*((LOG(AF11))/LOG(2))))","v":{"$error":"#DIV/0!"}},null,{"$f":"N11","v":0},{"$f":"COUNTIF(L28:L34,AI11)","v":0},{"$f":"AJ11/(AL4-AJ8)","v":{"$error":"#DIV/0!"}},{"$f":"IF(AK11=0,0,(AK11*((LOG(AK11))/LOG(2))))","v":{"$error":"#DIV/0!"}},null,{"$f":"N11","v":0},{"$f":"COUNTIF(L35:L41,AN11)","v":0},{"$f":"AO11/(AQ4-AO8)","v":{"$error":"#DIV/0!"}},{"$f":"IF(AP11=0,0,(AP11*((LOG(AP11))/LOG(2))))","v":{"$error":"#DIV/0!"}},null,{"$f":"N11","v":0},{"$f":"COUNTIF(L42:L48,AS11)","v":0},{"$f":"AT11/(AV4-AT8)","v":{"$error":"#DIV/0!"}},{"$f":"IF(AU11=0,0,(AU11*((LOG(AU11))/LOG(2))))","v":{"$error":"#DIV/0!"}}]
[11,575,21,587,null,null,null,null,null,null,0,12,null,null,null,null,null,null,null,{"$f":"N12","v":0},{"$f":"COUNTIF(L7:L13,T12)","v":0},{"$f":"U12/(W4-U8)","v":0},{"$f":"IF(V12=0,0,(V12*((LOG(V12))/LOG(2))))","v":0},null,{"$f":"N12","v":0},{"$f":"COUNTIF(L14:L20,Y12)","v":0},{"$f":"Z12/(AB4-Z8)","v":0},{"$f":"IF(AA12=0,0,(AA12*((LOG(AA12))/LOG(2))))","v":0},null,{"$f":"N12","v":0},{"$f":"COUNTIF(L21:L27,AD12)","v":0},{"$f":"AE12/(AG4-AE8)","v":{"$error":"#DIV/0!"}},{"$f":"IF(AF12=0,0,(AF12*((LOG(AF12))/LOG(2))))","v":{"$error":"#DIV/0!"}},null,{"$f":"N12","v":0},{"$f":"COUNTIF(L28:L34,AI12)","v":0},{"$f":"AJ12/(AL4-AJ8)","v":{"$error":"#DIV/0!"}},{"$f":"IF(AK12=0,0,(AK12*((LOG(AK12))/LOG(2))))","v":{"$error":"#DIV/0!"}},null,{"$f":"N12","v":0},{"$f":"COUNTIF(L35:L41,AN12)","v":0},{"$f":"AO12/(AQ4-AO8)","v":{"$error":"#DIV/0!"}},{"$f":"IF(AP12=0,0,(AP12*((LOG(AP12))/LOG(2))))","v":{"$error":"#DIV/0!"}},null,{"$f":"N12","v":0},{"$f":"COUNTIF(L42:L48,AS12)","v":0},{"$f":"AT12/(AV4-AT8)","v":{"$error":"#DIV/0!"}},{"$f":"IF(AU12=0,0,(AU12*((LOG(AU12))/LOG(2))))","v":{"$error":"#DIV/0!"}}]
[11,678,21,688,null,null,null,null,null,null,0,12,null,null,null,null,null,null,null,{"$f":"N13","v":0},{"$f":"COUNTIF(L7:L13,T13)","v":0},{"$f":"U13/(W4-U8)","v":0},{"$f":"IF(V13=0,0,(V13*((LOG(V13))/LOG(2))))","v":0},null,{"$f":"N13","v":0},{"$f":"COUNTIF(L14:L20,Y13)","v":0},{"$f":"Z13/(AB4-Z8)","v":0},{"$f":"IF(AA13=0,0,(AA13*((LOG(AA13))/LOG(2))))","v":0},null,{"$f":"N13","v":0},{"$f":"COUNTIF(L21:L27,AD13)","v":0},{"$f":"AE13/(AG4-AE8)","v":{"$error":"#DIV/0!"}},{"$f":"IF(AF13=0,0,(AF13*((LOG(AF13))/LOG(2))))","v":{"$error":"#DIV/0!"}},null,{"$f":"N13","v":0},{"$f":"COUNTIF(L28:L34,AI13)","v":0},{"$f":"AJ13/(AL4-AJ8)","v":{"$error":"#DIV/0!"}},{"$f":"IF(AK13=0,0,(AK13*((LOG(AK13))/LOG(2))))","v":{"$error":"#DIV/0!"}},null,{"$f":"N13","v":0},{"$f":"COUNTIF(L35:L41,AN13)","v":0},{"$f":"AO13/(AQ4-AO8)","v":{"$error":"#DIV/0!"}},{"$f":"IF(AP13=0,0,(AP13*((LOG(AP13))/LOG(2))))","v":{"$error":"#DIV/0!"}},null,{"$f":"N13","v":0},{"$f":"COUNTIF(L42:L48,AS13)","v":0},{"$f":"AT13/(AV4-AT8)","v":{"$error":"#DIV/0!"}},{"$f":"IF(AU13=0,0,(AU13*((LOG(AU13))/LOG(2))))","v":{"$error":"#DIV/0!"}}]
[11,779,21,791,null,null,null,null,null,null,0,12,null,null,null,null,null,null,null,{"$f":"N14","v":0},{"$f":"COUNTIF(L7:L13,T14)","v":0},{"$f":"U14/(W4-U8)","v":0},{"$f":"IF(V14=0,0,(V14*((LOG(V14))/LOG(2))))","v":0},null,{"$f":"N14","v":0},{"$f":"COUNTIF(L14:L20,Y14)","v":0},{"$f":"Z14/(AB4-Z8)","v":0},{"$f":"IF(AA14=0,0,(AA14*((LOG(AA14))/LOG(2))))","v":0},null,{"$f":"N14","v":0},{"$f":"COUNTIF(L21:L27,AD14)","v":0},{"$f":"AE14/(AG4-AE8)","v":{"$error":"#DIV/0!"}},{"$f":"IF(AF14=0,0,(AF14*((LOG(AF14))/LOG(2))))","v":{"$error":"#DIV/0!"}},null,{"$f":"N14","v":0},{"$f":"COUNTIF(L28:L34,AI14)","v":0},{"$f":"AJ14/(AL4-AJ8)","v":{"$error":"#DIV/0!"}},{"$f":"IF(AK14=0,0,(AK14*((LOG(AK14))/LOG(2))))","v":{"$error":"#DIV/0!"}},null,{"$f":"N14","v":0},{"$f":"COUNTIF(L35:L41,AN14)","v":0},{"$f":"AO14/(AQ4-AO8)","v":{"$error":"#DIV/0!"}},{"$f":"IF(AP14=0,0,(AP14*((LOG(AP14))/LOG(2))))","v":{"$error":"#DIV/0!"}},null,{"$f":"N14","v":0},{"$f":"COUNTIF(L42:L48,AS14)","v":0},{"$f":"AT14/(AV4-AT8)","v":{"$error":"#DIV/0!"}},{"$f":"IF(AU14=0,0,(AU14*((LOG(AU14))/LOG(2))))","v":{"$error":"#DIV/0!"}}]
[11,879,21,906,null,null,null,null,null,null,0,12,null,null,null,{"$f":"SUM(P7:P14)","v":1},{"$f":"-SUM(Q7:Q14)","v":0.3238144752669867},null,null,null,null,{"$f":"SUM(V7:V14)","v":1},{"$f":"-SUM(W7:W14)","v":0},null,null,null,{"$f":"SUM(AA7:AA14)","v":1},{"$f":"-SUM(AB7:AB14)","v":0},null,null,null,{"$f":"SUM(AF7:AF14)","v":{"$error":"#DIV/0!"}},{"$f":"-SUM(AG7:AG14)","v":{"$error":"#DIV/0!"}},null,null,null,{"$f":"SUM(AK7:AK14)","v":{"$error":"#DIV/0!"}},{"$f":"-SUM(AL7:AL14)","v":{"$error":"#DIV/0!"}},null,null,null,{"$f":"SUM(AP7:AP14)","v":{"$error":"#DIV/0!"}},{"$f":"-SUM(AQ7:AQ14)","v":{"$error":"#DIV/0!"}},null,null,null,{"$f":"SUM(AU7:AU14)","v":{"$error":"#DIV/0!"}},{"$f":"-SUM(AV7:AV14)","v":{"$error":"#DIV/0!"}}]
[11,992,21,1015,null,null,null,null,null,null,0,12,null,null,null,"U=",{"$f":"Q15/(LOG(Q4)/LOG(2))","v":6.0051078206022804E-2},null,null,null,null,"U1=",{"$f":"W15/(LOG(W4)/LOG(2))","v":0},null,null,null,"U2=",{"$f":"AB15/(LOG(AB4)/LOG(2))","v":0},null,null,null,"U3=",{"$f":"AG15/(LOG(AG4)/LOG(2))","v":{"$error":"#DIV/0!"}},null,null,null,"U4=",{"$f":"AL15/(LOG(AL4)/LOG(2))","v":{"$error":"#DIV/0!"}},null,null,null,"U5=",{"$f":"AQ15/(LOG(AQ4)/LOG(2))","v":{"$error":"#DIV/0!"}},null,null,null,"U6=",{"$f":"AV15/(LOG(AV4)/LOG(2))","v":{"$error":"#DIV/0!"}}]
[11,1105,21,1119,null,null,null,null,null,null,0,12]
[11,1207,21,1221,null,null,null,null,null,null,0,12]
[11,1312,21,1324,null,null,null,null,null,null,0,12,null,"Total Target Seq"]
[22,1424,23,1437,null,null,null,null,null,null,0,22,null,{"$f":"COUNTIF(L7:L48,G3)","v":40},null,7,7,7,7,7,7]
[11,1538,21,1550,null,null,null,null,null,null,0,12,null,null,null,"% of reinforcement given in 6 equal intervals based on number of trials "]
[11,1638,21,1651,null,null,null,null,null,null,0,12,null,null,null,"%_1","%_2","%_3","%_4","%_5","%_6"]
[11,1737,21,1750,null,null,null,null,null,null,0,12,null,null,"target sequence",{"$f":"$G$3","v":12},{"$f":"$G$3","v":12},{"$f":"$G$3","v":12},{"$f":"$G$3","v":12},{"$f":"$G$3","v":12},{"$f":"$G$3","v":12}]
[11,1837,21,1850,null,null,null,null,null,null,0,12,null,null,"total reinforcement",{"$f":"U8","v":6},{"$f":"Z8","v":6},{"$f":"AE8","v":7},{"$f":"AJ8","v":7},{"$f":"AO8","v":7},{"$f":"AT8","v":7}]
[11,1939,21,1950,null,null,null,null,null,null,0,12,null,null,"% target"]
[11,2072,21,2094,null,null,null,null,null,null,0,12,null,null,"CCRF"]
[11,2182,21,2206,null,null,null,null,null,null,0,12,null,null,"% CCRf"]
[11,2293,21,2307,null,null,null,null,null,null,0,12,null,null,"average response rate",{"$f":"D13/P20","v":98.285714285714292},{"$f":"(D20-D13)/Q20","v":107},{"$f":"(D27-D20)/R20","v":109.85714285714286},{"$f":"(D34-D27)/S20","v":102.28571428571429},{"$f":"(D41-D34)/T20","v":101.57142857142857},{"$f":"(D48-D41)/U20","v":109.42857142857143}]
[11,2394,21,2416,null,null,null,null,null,null,0,12]
[11,2504,21,2516,null,null,null,null,null,null,0,12]
[11,2605,21,2629,null,null,null,null,null,null,0,12]
[11,2718,21,2727,null,null,null,null,null,null,0,12]
[11,2816,21,2825,null,null,null,null,null,null,0,12]
[11,2913,21,2922,null,null,null,null,null,null,0,12]
[11,3011,21,3022,null,null,null,null,null,null,0,12]
[11,3109,21,3135,null,null,null,null,null,null,0,12]
[11,3225,21,3238,null,null,null,null,null,null,0,12]
[11,3324,21,3334,null,null,null,null,null,null,0,12]
[11,3421,21,3434,null,null,null,null,null,null,0,12]
[11,3521,21,3533,null,null,null,null,null,null,0,12]
[11,3620,21,3633,null,null,null,null,null,null,0,12]
[11,3727,21,3742,null,null,null,null,null,null,0,12]
[11,3830,21,3843,null,null,null,null,null,null,0,12]
[11,3929,21,3939,null,null,null,null,null,null,0,12]
[11,4027,21,4038,null,null,null,null,null,null,0,12]
[11,4123,21,4136,null,null,null,null,null,null,0,12]
[11,4224,21,4254,null,null,null,null,null,null,0,12]
[11,4344,21,4399,null,null,null,null,null,null,1,12]

{"sheet":"!N111900.091","index":25,"n_rows":58,"n_cols":48,"rows_kept":58,"cut":false,"hidden":false,"merged":[[4,39,4,42],[5,39,5,40],[4,44,4,47],[5,44,5,45],[4,24,4,27],[5,24,5,25],[4,29,4,32],[5,29,5,30],[4,34,4,37],[5,34,5,35],[1,1,1,2],[5,13,5,14],[18,13,18,14],[19,13,19,14],[4,19,4,22],[5,19,5,20]]}
["Report for:!N111900.091"]
["Date:","<date>"]
["Hen:","<hen>",null,null,null,"Correct Sequence",{"$f":"Start!J2","v":12},null,null,null,null,null,null,null,null,"Total Sequences in Data",{"$f":"4994-COUNTBLANK(L7:L5000)","v":52},null,null,null,null,"Total Sequences in Block Data",{"$f":"COUNTA(L7:L15)","v":9},null,null,null,"Total Sequences in Block Data",{"$f":"COUNTA(L16:L23)","v":8},null,null,null,"Total Sequences in Block Data",{"$f":"COUNTA(L24:L32)","v":9},null,null,null,"Total Sequences in Block Data",{"$f":"COUNTA(L33:L41)","v":9},null,null,null,"Total Sequences in Block Data",{"$f":"COUNTA(L42:L49)","v":8},null,null,null,"Total Sequences in Block Data",{"$f":"COUNTA(L50:L58)","v":9}]
[null,null,null,null,null,null,null,null,null,null,null,null,null,null,null,"Total Sequences in Summary",{"$f":"SUM(O7:O14)","v":52},null,null,null,null,"Total Sequences in Block Summary",{"$f":"SUM(U7:U14)","v":9},null,null,null,"Total Sequences in Block Summary",{"$f":"SUM(Z7:Z14)","v":8},null,null,null,"Total Sequences in Block Summary",{"$f":"SUM(AE7:AE14)","v":9},null,null,null,"Total Sequences in Block Summary",{"$f":"SUM(AJ7:AJ14)","v":9},null,null,null,"Total Sequences in Block Summary",{"$f":"SUM(AO7:AO14)","v":8},null,null,null,"Total Sequences in Block Summary",{"$f":"SUM(AT7:AT14)","v":9}]
[null,null,null,null,null,null,null,null,null,null,null,null,null,null,null,null,null,null,null,"Block 1",null,null,null,null,"Block 2",null,null,null,null,"Block 3",null,null,null,null,"Block 4",null,null,null,null,"Block 5",null,null,null,null,"Block 6"]
["Sequence\nComponent\n1","Time\n1","Sequence\nComponent\n2","Time\n2","Sequence\nComponent\n3","Time\n3","Sequence\nComponent\n4","Time\n4","Sequence\nComponent\n5","Time\n5","Correct?\n0=No 1=Yes","Sequence",null,"Frequency",null,"Relative Frequency","Variability",null,null,"Frequency",null,"Relative Frequency","Variability",null,"Frequency",null,"Relative Frequency","Variability",null,"Frequency",null,"Relative Frequency","Variability",null,"Frequency",null,"Relative Frequency","Variability",null,"Frequency",null,"Relative Frequency","Variability",null,"Frequency",null,"Relative Frequency","Variability"]
[22,24,23,59,null,null,null,null,null,null,0,22,null,11,{"$f":"COUNTIF($L$7:$L$500,N7)","v":0},{"$f":"O7/$Q$4","v":0},{"$f":"IF(P7=0,0,(P7*((LOG(P7))/LOG(2))))","v":0},null,null,{"$f":"N7","v":11},{"$f":"COUNTIF(L7:L15,T7)","v":0},{"$f":"U7/(W4-U8)","v":0},{"$f":"IF(V7=0,0,(V7*((LOG(V7))/LOG(2))))","v":0},null,{"$f":"N7","v":11},{"$f":"COUNTIF(L16:L23,Y7)","v":0},{"$f":"Z7/(AB4-Z8)","v":0},{"$f":"IF(AA7=0,0,(AA7*((LOG(AA7))/LOG(2))))","v":0},null,{"$f":"N7","v":11},{"$f":"COUNTIF(L24:L32,AD7)","v":0},{"$f":"AE7/(AG4-AE8)","v":0},{"$f":"IF(AF7=0,0,(AF7*((LOG(AF7))/LOG(2))))","v":0},null,{"$f":"N7","v":11},{"$f":"COUNTIF(L33:L41,AI7)","v":0},{"$f":"AJ7/(AL4-AJ8)","v":0},{"$f":"IF(AK7=0,0,(AK7*((LOG(AK7))/LOG(2))))","v":0},null,{"$f":"N7","v":11},{"$f":"COUNTIF(L42:L49,AN7)","v":0},{"$f":"AO7/(AQ4-AO8)","v":0},{"$f":"IF(AP7=0,0,(AP7*((LOG(AP7))/LOG(2))))","v":0},null,{"$f":"N7","v":11},{"$f":"COUNTIF(L50:L58,AS7)","v":0},{"$f":"AT7/(AV4-AT8)","v":0},{"$f":"IF(AU7=0,0,(AU7*((LOG(AU7))/LOG(2))))","v":0}]
[22,162,14,170,null,null,null,null,null,null,0,21,null,12,{"$f":"COUNTIF($L$7:$L$500,N8)","v":40},{"$f":"O8/$Q$4","v":0.76923076923076927},{"$f":"IF(P8=0,0,(P8*((LOG(P8))/LOG(2))))","v":-0.29116278711825366},null,null,{"$f":"N8","v":12},{"$f":"COUNTIF(L7:L15,T8)","v":5},null,null,null,{"$f":"N8","v":12},{"$f":"COUNTIF(L16:L23,Y8)","v":7},null,null,null,{"$f":"N8","v":12},{"$f":"COUNTIF(L24:L32,AD8)","v":8},null,null,null,{"$f":"N8","v":12},{"$f":"COUNTIF(L33:L41,AI8)","v":7},null,null,null,{"$f":"N8","v":12},{"$f":"COUNTIF(L42:L49,AN8)","v":7},null,null,null,{"$f":"N8","v":12},{"$f":"COUNTIF(L50:L58,AS8)","v":6}]
[11,269,21,282,null,null,null,null,null,null,0,12,null,21,{"$f":"COUNTIF($L$7:$L$500,N9)","v":3},{"$f":"O9/$Q$4","v":5.7692307692307696E-2},{"$f":"IF(P9=0,0,(P9*((LOG(P9))/LOG(2))))","v":-0.23743137792807323},null,null,{"$f":"N9","v":21},{"$f":"COUNTIF(L7:L15,T9)","v":1},{"$f":"U9/(W4-U8)","v":0.25},{"$f":"IF(V9=0,0,(V9*((LOG(V9))/LOG(2))))","v":-0.5},null,{"$f":"N9","v":21},{"$f":"COUNTIF(L16:L23,Y9)","v":1},{"$f":"Z9/(AB4-Z8)","v":1},{"$f":"IF(AA9=0,0,(AA9*((LOG(AA9))/LOG(2))))","v":0},null,{"$f":"N9","v":21},{"$f":"COUNTIF(L24:L32,AD9)","v":0},{"$f":"AE9/(AG4-AE8)","v":0},{"$f":"IF(AF9=0,0,(AF9*((LOG(AF9))/LOG(2))))","v":0},null,{"$f":"N9","v":21},{"$f":"COUNTIF(L33:L41,AI9)","v":0},{"$f":"AJ9/(AL4-AJ8)","v":0},{"$f":"IF(AK9=0,0,(AK9*((LOG(AK9))/LOG(2))))","v":0},null,{"$f":"N9","v":21},{"$f":"COUNTIF(L42:L49,AN9)","v":1},{"$f":"AO9/(AQ4-AO8)","v":1},{"$f":"IF(AP9=0,0,(AP9*((LOG(AP9))/LOG(2))))","v":0},null,{"$f":"N9","v":21},{"$f":"COUNTIF(L50:L58,AS9)","v":0},{"$f":"AT9/(AV4-AT8)","v":0},{"$f":"IF(AU9=0,0,(AU9*((LOG(AU9))/LOG(2))))","v":0}]
[22,374,23,406,null,null,null,null,null,null,0,22,null,22,{"$f":"COUNTIF($L$7:$L$500,N10)","v":9},{"$f":"O10/$Q$4","v":0.17307692307692307},{"$f":"IF(P10=0,0,(P10*((LOG(P10))/LOG(2))))","v":-0.43797370096709648},null,null,{"$f":"N10","v":22},{"$f":"COUNTIF(L7:L15,T10)","v":3},{"$f":"U10/(W4-U8)","v":0.75},{"$f":"IF(V10=0,0,(V10*((LOG(V10))/LOG(2))))","v":-0.31127812445913283},null,{"$f":"N10","v":22},{"$f":"COUNTIF(L16:L23,Y10)","v":0},{"$f":"Z10/(AB4-Z8)","v":0},{"$f":"IF(AA10=0,0,(AA10*((LOG(AA10))/LOG(2))))","v":0},null,{"$f":"N10","v":22},{"$f":"COUNTIF(L24:L32,AD10)","v":1},{"$f":"AE10/(AG4-AE8)","v":1},{"$f":"IF(AF10=0,0,(AF10*((LOG(AF10))/LOG(2))))","v":0},null,{"$f":"N10","v":22},{"$f":"COUNTIF(L33:L41,AI10)","v":2},{"$f":"AJ10/(AL4-AJ8)","v":1},{"$f":"IF(AK10=0,0,(AK10*((LOG(AK10))/LOG(2))))","v":0},null,{"$f":"N10","v":22},{"$f":"COUNTIF(L42:L49,AN10)","v":0},{"$f":"AO10/(AQ4-AO8)","v":0},{"$f":"IF(AP10=0,0,(AP10*((LOG(AP10))/LOG(2))))","v":0},null,{"$f":"N10","v":22},{"$f":"COUNTIF(L50:L58,AS10)","v":3},{"$f":"AT10/(AV4-AT8)","v":1},{"$f":"IF(AU10=0,0,(AU10*((LOG(AU10))/LOG(2))))","v":0}]
[11,503,21,513,null,null,null,null,null,null,0,12,null,null,null,null,null,null,null,{"$f":"N11","v":0},{"$f":"COUNTIF(L7:L15,T11)","v":0},{"$f":"U11/(W4-U8)","v":0},{"$f":"IF(V11=0,0,(V11*((LOG(V11))/LOG(2))))","v":0},null,{"$f":"N11","v":0},{"$f":"COUNTIF(L16:L23,Y11)","v":0},{"$f":"Z11/(AB4-Z8)","v":0},{"$f":"IF(AA11=0,0,(AA11*((LOG(AA11))/LOG(2))))","v":0},null,{"$f":"N11","v":0},{"$f":"COUNTIF(L24:L32,AD11)","v":0},{"$f":"AE11/(AG4-AE8)","v":0},{"$f":"IF(AF11=0,0,(AF11*((LOG(AF11))/LOG(2))))","v":0},null,{"$f":"N11","v":0},{"$f":"COUNTIF(L33:L41,AI11)","v":0},{"$f":"AJ11/(AL4-AJ8)","v":0},{"$f":"IF(AK11=0,0,(AK11*((LOG(AK11))/LOG(2))))","v":0},null,{"$f":"N11","v":0},{"$f":"COUNTIF(L42:L49,AN11)","v":0},{"$f":"AO11/(AQ4-AO8)","v":0},{"$f":"IF(AP11=0,0,(AP11*((LOG(AP11))/LOG(2))))","v":0},null,{"$f":"N11","v":0},{"$f":"COUNTIF(L50:L58,AS11)","v":0},{"$f":"AT11/(AV4-AT8)","v":0},{"$f":"IF(AU11=0,0,(AU11*((LOG(AU11))/LOG(2))))","v":0}]
[11,600,21,649,null,null,null,null,null,null,0,12,null,null,null,null,null,null,null,{"$f":"N12","v":0},{"$f":"COUNTIF(L7:L15,T12)","v":0},{"$f":"U12/(W4-U8)","v":0},{"$f":"IF(V12=0,0,(V12*((LOG(V12))/LOG(2))))","v":0},null,{"$f":"N12","v":0},{"$f":"COUNTIF(L16:L23,Y12)","v":0},{"$f":"Z12/(AB4-Z8)","v":0},{"$f":"IF(AA12=0,0,(AA12*((LOG(AA12))/LOG(2))))","v":0},null,{"$f":"N12","v":0},{"$f":"COUNTIF(L24:L32,AD12)","v":0},{"$f":"AE12/(AG4-AE8)","v":0},{"$f":"IF(AF12=0,0,(AF12*((LOG(AF12))/LOG(2))))","v":0},null,{"$f":"N12","v":0},{"$f":"COUNTIF(L33:L41,AI12)","v":0},{"$f":"AJ12/(AL4-AJ8)","v":0},{"$f":"IF(AK12=0,0,(AK12*((LOG(AK12))/LOG(2))))","v":0},null,{"$f":"N12","v":0},{"$f":"COUNTIF(L42:L49,AN12)","v":0},{"$f":"AO12/(AQ4-AO8)","v":0},{"$f":"IF(AP12=0,0,(AP12*((LOG(AP12))/LOG(2))))","v":0},null,{"$f":"N12","v":0},{"$f":"COUNTIF(L50:L58,AS12)","v":0},{"$f":"AT12/(AV4-AT8)","v":0},{"$f":"IF(AU12=0,0,(AU12*((LOG(AU12))/LOG(2))))","v":0}]
[11,734,21,744,null,null,null,null,null,null,0,12,null,null,null,null,null,null,null,{"$f":"N13","v":0},{"$f":"COUNTIF(L7:L15,T13)","v":0},{"$f":"U13/(W4-U8)","v":0},{"$f":"IF(V13=0,0,(V13*((LOG(V13))/LOG(2))))","v":0},null,{"$f":"N13","v":0},{"$f":"COUNTIF(L16:L23,Y13)","v":0},{"$f":"Z13/(AB4-Z8)","v":0},{"$f":"IF(AA13=0,0,(AA13*((LOG(AA13))/LOG(2))))","v":0},null,{"$f":"N13","v":0},{"$f":"COUNTIF(L24:L32,AD13)","v":0},{"$f":"AE13/(AG4-AE8)","v":0},{"$f":"IF(AF13=0,0,(AF13*((LOG(AF13))/LOG(2))))","v":0},null,{"$f":"N13","v":0},{"$f":"COUNTIF(L33:L41,AI13)","v":0},{"$f":"AJ13/(AL4-AJ8)","v":0},{"$f":"IF(AK13=0,0,(AK13*((LOG(AK13))/LOG(2))))","v":0},null,{"$f":"N13","v":0},{"$f":"COUNTIF(L42:L49,AN13)","v":0},{"$f":"AO13/(AQ4-AO8)","v":0},{"$f":"IF(AP13=0,0,(AP13*((LOG(AP13))/LOG(2))))","v":0},null,{"$f":"N13","v":0},{"$f":"COUNTIF(L50:L58,AS13)","v":0},{"$f":"AT13/(AV4-AT8)","v":0},{"$f":"IF(AU13=0,0,(AU13*((LOG(AU13))/LOG(2))))","v":0}]
[22,838,23,849,null,null,null,null,null,null,0,22,null,null,null,null,null,null,null,{"$f":"N14","v":0},{"$f":"COUNTIF(L7:L15,T14)","v":0},{"$f":"U14/(W4-U8)","v":0},{"$f":"IF(V14=0,0,(V14*((LOG(V14))/LOG(2))))","v":0},null,{"$f":"N14","v":0},{"$f":"COUNTIF(L16:L23,Y14)","v":0},{"$f":"Z14/(AB4-Z8)","v":0},{"$f":"IF(AA14=0,0,(AA14*((LOG(AA14))/LOG(2))))","v":0},null,{"$f":"N14","v":0},{"$f":"COUNTIF(L24:L32,AD14)","v":0},{"$f":"AE14/(AG4-AE8)","v":0},{"$f":"IF(AF14=0,0,(AF14*((LOG(AF14))/LOG(2))))","v":0},null,{"$f":"N14","v":0},{"$f":"COUNTIF(L33:L41,AI14)","v":0},{"$f":"AJ14/(AL4-AJ8)","v":0},{"$f":"IF(AK14=0,0,(AK14*((LOG(AK14))/LOG(2))))","v":0},null,{"$f":"N14","v":0},{"$f":"COUNTIF(L42:L49,AN14)","v":0},{"$f":"AO14/(AQ4-AO8)","v":0},{"$f":"IF(AP14=0,0,(AP14*((LOG(AP14))/LOG(2))))","v":0},null,{"$f":"N14","v":0},{"$f":"COUNTIF(L50:L58,AS14)","v":0},{"$f":"AT14/(AV4-AT8)","v":0},{"$f":"IF(AU14=0,0,(AU14*((LOG(AU14))/LOG(2))))","v":0}]
[11,946,21,958,null,null,null,null,null,null,0,12,null,null,null,{"$f":"SUM(P7:P14)","v":1},{"$f":"-SUM(Q7:Q14)","v":0.96656786601342337},null,null,null,null,{"$f":"SUM(V7:V14)","v":1},{"$f":"-SUM(W7:W14)","v":0.81127812445913283},null,null,null,{"$f":"SUM(AA7:AA14)","v":1},{"$f":"-SUM(AB7:AB14)","v":0},null,null,null,{"$f":"SUM(AF7:AF14)","v":1},{"$f":"-SUM(AG7:AG14)","v":0},null,null,null,{"$f":"SUM(AK7:AK14)","v":1},{"$f":"-SUM(AL7:AL14)","v":0},null,null,null,{"$f":"SUM(AP7:AP14)","v":1},{"$f":"-SUM(AQ7:AQ14)","v":0},null,null,null,{"$f":"SUM(AU7:AU14)","v":1},{"$f":"-SUM(AV7:AV14)","v":0}]
[11,1044,21,1057,null,null,null,null,null,null,0,12,null,null,null,"U=",{"$f":"Q15/(LOG(Q4)/LOG(2))","v":0.16956022935167889},null,null,null,null,"U1=",{"$f":"W15/(LOG(W4)/LOG(2))","v":0.25592975357145742},null,null,null,"U2=",{"$f":"AB15/(LOG(AB4)/LOG(2))","v":0},null,null,null,"U3=",{"$f":"AG15/(LOG(AG4)/LOG(2))","v":0},null,null,null,"U4=",{"$f":"AL15/(LOG(AL4)/LOG(2))","v":0},null,null,null,"U5=",{"$f":"AQ15/(LOG(AQ4)/LOG(2))","v":0},null,null,null,"U6=",{"$f":"AV15/(LOG(AV4)/LOG(2))","v":0}]
[11,1144,21,1154,null,null,null,null,null,null,0,12]
[22,1251,14,1279,null,null,null,null,null,null,0,21]
[11,1375,21,1404,null,null,null,null,null,null,0,12,null,"Total Target Seq"]
[11,1489,21,1501,null,null,null,null,null,null,0,12,null,{"$f":"COUNTIF(L7:L58,G3)","v":40},null,9,8,9,9,8,9]
[11,1593,21,1612,null,null,null,null,null,null,0,12,null,null,null,"% of reinforcement given in 6 equal intervals based on number of trials "]
[11,1697,21,1713,null,null,null,null,null,null,0,12,null,null,null,"%_1","%_2","%_3","%_4","%_5","%_6"]
[11,1798,21,1809,null,null,null,null,null,null,0,12,null,null,"target sequence",{"$f":"$G$3","v":12},{"$f":"$G$3","v":12},{"$f":"$G$3","v":12},{"$f":"$G$3","v":12},{"$f":"$G$3","v":12},{"$f":"$G$3","v":12}]
[11,1897,21,1910,null,null,null,null,null,null,0,12,null,null,"total reinforcement",{"$f":"U8","v":5},{"$f":"Z8","v":7},{"$f":"AE8","v":8},{"$f":"AJ8","v":7},{"$f":"AO8","v":7},{"$f":"AT8","v":6}]
[11,1994,21,2006,null,null,null,null,null,null,0,12,null,null,"% target"]
[11,2090,21,2103,null,null,null,null,null,null,0,12,null,null,"CCRF"]
[11,2190,21,2201,null,null,null,null,null,null,0,12,null,null,"% CCRf"]
[11,2292,21,2304,null,null,null,null,null,null,0,12,null,null,"average response rate",{"$f":"D15/P20","v":106.44444444444444},{"$f":"(D23-D15)/Q20","v":106.375},{"$f":"(D32-D23)/R20","v":106.44444444444444},{"$f":"(D41-D32)/S20","v":115.55555555555556},{"$f":"(D49-D41)/T20","v":111.125},{"$f":"(D58-D49)/U20","v":106.55555555555556}]
[11,2390,21,2399,null,null,null,null,null,null,0,12]
[11,2484,21,2497,null,null,null,null,null,null,0,12]
[22,2613,23,2650,null,null,null,null,null,null,0,22]
[11,2747,21,2767,null,null,null,null,null,null,0,12]
[11,2853,21,2864,null,null,null,null,null,null,0,12]
[11,2954,21,3021,null,null,null,null,null,null,0,12]
[22,3116,23,3127,null,null,null,null,null,null,0,22]
[11,3226,21,3235,null,null,null,null,null,null,0,12]
[11,3322,21,3348,null,null,null,null,null,null,0,12]
[22,3462,23,3470,null,null,null,null,null,null,0,22]
[11,3567,21,3589,null,null,null,null,null,null,0,12]
[11,3676,21,3709,null,null,null,null,null,null,0,12]
[11,3794,21,3807,null,null,null,null,null,null,0,12]
[22,3902,14,3920,null,null,null,null,null,null,0,21]
[11,4016,21,4048,null,null,null,null,null,null,0,12]
[11,4140,21,4149,null,null,null,null,null,null,0,12]
[11,4240,21,4251,null,null,null,null,null,null,0,12]
[11,4341,21,4350,null,null,null,null,null,null,0,12]
[11,4436,21,4445,null,null,null,null,null,null,0,12]
[11,4536,21,4593,null,null,null,null,null,null,0,12]
[11,4684,21,4696,null,null,null,null,null,null,0,12]
[22,4793,23,4808,null,null,null,null,null,null,0,22]
[11,4905,21,4916,null,null,null,null,null,null,0,12]
[11,5002,21,5015,null,null,null,null,null,null,0,12]
[11,5102,21,5111,null,null,null,null,null,null,0,12]
[22,5205,23,5214,null,null,null,null,null,null,0,22]
[22,5332,23,5341,null,null,null,null,null,null,0,22]
[11,5436,21,5463,null,null,null,null,null,null,0,12]
[11,5549,21,5558,null,null,null,null,null,null,0,12]
[11,5645,21,5655,null,null,null,null,null,null,1,12]

{"sheet":"!N112640.091","index":26,"n_rows":53,"n_cols":48,"rows_kept":53,"cut":false,"hidden":false,"merged":[[4,39,4,42],[5,39,5,40],[4,44,4,47],[5,44,5,45],[4,24,4,27],[5,24,5,25],[4,29,4,32],[5,29,5,30],[4,34,4,37],[5,34,5,35],[1,1,1,2],[5,13,5,14],[18,13,18,14],[19,13,19,14],[4,19,4,22],[5,19,5,20]]}
["Report for:!N112640.091"]
["Date:","<date>"]
["Hen:","<hen>",null,null,null,"Correct Sequence",{"$f":"Start!J2","v":12},null,null,null,null,null,null,null,null,"Total Sequences in Data",{"$f":"4994-COUNTBLANK(L7:L5000)","v":47},null,null,null,null,"Total Sequences in Block Data",{"$f":"COUNTA(L7:L14)","v":8},null,null,null,"Total Sequences in Block Data",{"$f":"COUNTA(L15:L22)","v":8},null,null,null,"Total Sequences in Block Data",{"$f":"COUNTA(L23:L29)","v":7},null,null,null,"Total Sequences in Block Data",{"$f":"COUNTA(L30:L37)","v":8},null,null,null,"Total Sequences in Block Data",{"$f":"COUNTA(L38:L45)","v":8},null,null,null,"Total Sequences in Block Data",{"$f":"COUNTA(L46:L53)","v":8}]
[null,null,null,null,null,null,null,null,null,null,null,null,null,null,null,"Total Sequences in Summary",{"$f":"SUM(O7:O14)","v":47},null,null,null,null,"Total Sequences in Block Summary",{"$f":"SUM(U7:U14)","v":8},null,null,null,"Total Sequences in Block Summary",{"$f":"SUM(Z7:Z14)","v":8},null,null,null,"Total Sequences in Block Summary",{"$f":"SUM(AE7:AE14)","v":7},null,null,null,"Total Sequences in Block Summary",{"$f":"SUM(AJ7:AJ14)","v":8},null,null,null,"Total Sequences in Block Summary",{"$f":"SUM(AO7:AO14)","v":8},null,null,null,"Total Sequences in Block Summary",{"$f":"SUM(AT7:AT14)","v":8}]
[null,null,null,null,null,null,null,null,null,null,null,null,null,null,null,null,null,null,null,"Block 1",null,null,null,null,"Block 2",null,null,null,null,"Block 3",null,null,null,null,"Block 4",null,null,null,null,"Block 5",null,null,null,null,"Block 6"]
["Sequence\nComponent\n1","Time\n1","Sequence\nComponent\n2","Time\n2","Sequence\nComponent\n3","Time\n3","Sequence\nComponent\n4","Time\n4","Sequence\nComponent\n5","Time\n5","Correct?\n0=No 1=Yes","Sequence",null,"Frequency",null,"Relative Frequency","Variability",null,null,"Frequency",null,"Relative Frequency","Variability",null,"Frequency",null,"Relative Frequency","Variability",null,"Frequency",null,"Relative Frequency","Variability",null,"Frequency",null,"Relative Frequency","Variability",null,"Frequency",null,"Relative Frequency","Variability",null,"Frequency",null,"Relative Frequency","Variability"]
[22,13,23,21,null,null,null,null,null,null,0,22,null,11,{"$f":"COUNTIF($L$7:$L$500,N7)","v":1},{"$f":"O7/$Q$4","v":2.1276595744680851E-2},{"$f":"IF(P7=0,0,(P7*((LOG(P7))/LOG(2))))","v":-0.11818274152505612},null,null,{"$f":"N7","v":11},{"$f":"COUNTIF(L7:L14,T7)","v":0},{"$f":"U7/(W4-U8)","v":0},{"$f":"IF(V7=0,0,(V7*((LOG(V7))/LOG(2))))","v":0},null,{"$f":"N7","v":11},{"$f":"COUNTIF(L15:L22,Y7)","v":0},{"$f":"Z7/(AB4-Z8)","v":0},{"$f":"IF(AA7=0,0,(AA7*((LOG(AA7))/LOG(2))))","v":0},null,{"$f":"N7","v":11},{"$f":"COUNTIF(L23:L29,AD7)","v":0},{"$f":"AE7/(AG4-AE8)","v":0},{"$f":"IF(AF7=0,0,(AF7*((LOG(AF7))/LOG(2))))","v":0},null,{"$f":"N7","v":11},{"$f":"COUNTIF(L30:L37,AI7)","v":1},{"$f":"AJ7/(AL4-AJ8)","v":1},{"$f":"IF(AK7=0,0,(AK7*((LOG(AK7))/LOG(2))))","v":0},null,{"$f":"N7","v":11},{"$f":"COUNTIF(L38:L45,AN7)","v":0},{"$f":"AO7/(AQ4-AO8)","v":0},{"$f":"IF(AP7=0,0,(AP7*((LOG(AP7))/LOG(2))))","v":0},null,{"$f":"N7","v":11},{"$f":"COUNTIF(L46:L53,AS7)","v":0},{"$f":"AT7/(AV4-AT8)","v":{"$error":"#DIV/0!"}},{"$f":"IF(AU7=0,0,(AU7*((LOG(AU7))/LOG(2))))","v":{"$error":"#DIV/0!"}}]
[22,127,23,138,null,null,null,null,null,null,0,22,null,12,{"$f":"COUNTIF($L$7:$L$500,N8)","v":40},{"$f":"O8/$Q$4","v":0.85106382978723405},{"$f":"IF(P8=0,0,(P8*((LOG(P8))/LOG(2))))","v":-0.19800915471512767},null,null,{"$f":"N8","v":12},{"$f":"COUNTIF(L7:L14,T8)","v":5},null,null,null,{"$f":"N8","v":12},{"$f":"COUNTIF(L15:L22,Y8)","v":7},null,null,null,{"$f":"N8","v":12},{"$f":"COUNTIF(L23:L29,AD8)","v":6},null,null,null,{"$f":"N8","v":12},{"$f":"COUNTIF(L30:L37,AI8)","v":7},null,null,null,{"$f":"N8","v":12},{"$f":"COUNTIF(L38:L45,AN8)","v":7},null,null,null,{"$f":"N8","v":12},{"$f":"COUNTIF(L46:L53,AS8)","v":8}]
[11,237,21,251,null,null,null,null,null,null,0,12,null,21,{"$f":"COUNTIF($L$7:$L$500,N9)","v":0},{"$f":"O9/$Q$4","v":0},{"$f":"IF(P9=0,0,(P9*((LOG(P9))/LOG(2))))","v":0},null,null,{"$f":"N9","v":21},{"$f":"COUNTIF(L7:L14,T9)","v":0},{"$f":"U9/(W4-U8)","v":0},{"$f":"IF(V9=0,0,(V9*((LOG(V9))/LOG(2))))","v":0},null,{"$f":"N9","v":21},{"$f":"COUNTIF(L15:L22,Y9)","v":0},{"$f":"Z9/(AB4-Z8)","v":0},{"$f":"IF(AA9=0,0,(AA9*((LOG(AA9))/LOG(2))))","v":0},null,{"$f":"N9","v":21},{"$f":"COUNTIF(L23:L29,AD9)","v":0},{"$f":"AE9/(AG4-AE8)","v":0},{"$f":"IF(AF9=0,0,(AF9*((LOG(AF9))/LOG(2))))","v":0},null,{"$f":"N9","v":21},{"$f":"COUNTIF(L30:L37,AI9)","v":0},{"$f":"AJ9/(AL4-AJ8)","v":0},{"$f":"IF(AK9=0,0,(AK9*((LOG(AK9))/LOG(2))))","v":0},null,{"$f":"N9","v":21},{"$f":"COUNTIF(L38:L45,AN9)","v":0},{"$f":"AO9/(AQ4-AO8)","v":0},{"$f":"IF(AP9=0,0,(AP9*((LOG(AP9))/LOG(2))))","v":0},null,{"$f":"N9","v":21},{"$f":"COUNTIF(L46:L53,AS9)","v":0},{"$f":"AT9/(AV4-AT8)","v":{"$error":"#DIV/0!"}},{"$f":"IF(AU9=0,0,(AU9*((LOG(AU9))/LOG(2))))","v":{"$error":"#DIV/0!"}}]
[11,338,21,351,null,null,null,null,null,null,0,12,null,22,{"$f":"COUNTIF($L$7:$L$500,N10)","v":6},{"$f":"O10/$Q$4","v":0.1276595744680851},{"$f":"IF(P10=0,0,(P10*((LOG(P10))/LOG(2))))","v":-0.37910123629231673},null,null,{"$f":"N10","v":22},{"$f":"COUNTIF(L7:L14,T10)","v":3},{"$f":"U10/(W4-U8)","v":1},{"$f":"IF(V10=0,0,(V10*((LOG(V10))/LOG(2))))","v":0},null,{"$f":"N10","v":22},{"$f":"COUNTIF(L15:L22,Y10)","v":1},{"$f":"Z10/(AB4-Z8)","v":1},{"$f":"IF(AA10=0,0,(AA10*((LOG(AA10))/LOG(2))))","v":0},null,{"$f":"N10","v":22},{"$f":"COUNTIF(L23:L29,AD10)","v":1},{"$f":"AE10/(AG4-AE8)","v":1},{"$f":"IF(AF10=0,0,(AF10*((LOG(AF10))/LOG(2))))","v":0},null,{"$f":"N10","v":22},{"$f":"COUNTIF(L30:L37,AI10)","v":0},{"$f":"AJ10/(AL4-AJ8)","v":0},{"$f":"IF(AK10=0,0,(AK10*((LOG(AK10))/LOG(2))))","v":0},null,{"$f":"N10","v":22},{"$f":"COUNTIF(L38:L45,AN10)","v":1},{"$f":"AO10/(AQ4-AO8)","v":1},{"$f":"IF(AP10=0,0,(AP10*((LOG(AP10))/LOG(2))))","v":0},null,{"$f":"N10","v":22},{"$f":"COUNTIF(L46:L53,AS10)","v":0},{"$f":"AT10/(AV4-AT8)","v":{"$error":"#DIV/0!"}},{"$f":"IF(AU10=0,0,(AU10*((LOG(AU10))/LOG(2))))","v":{"$error":"#DIV/0!"}}]
[11,438,21,451,null,null,null,null,null,null,0,12,null,null,null,null,null,null,null,{"$f":"N11","v":0},{"$f":"COUNTIF(L7:L14,T11)","v":0},{"$f":"U11/(W4-U8)","v":0},{"$f":"IF(V11=0,0,(V11*((LOG(V11))/LOG(2))))","v":0},null,{"$f":"N11","v":0},{"$f":"COUNTIF(L15:L22,Y11)","v":0},{"$f":"Z11/(AB4-Z8)","v":0},{"$f":"IF(AA11=0,0,(AA11*((LOG(AA11))/LOG(2))))","v":0},null,{"$f":"N11","v":0},{"$f":"COUNTIF(L23:L29,AD11)","v":0},{"$f":"AE11/(AG4-AE8)","v":0},{"$f":"IF(AF11=0,0,(AF11*((LOG(AF11))/LOG(2))))","v":0},null,{"$f":"N11","v":0},{"$f":"COUNTIF(L30:L37,AI11)","v":0},{"$f":"AJ11/(AL4-AJ8)","v":0},{"$f":"IF(AK11=0,0,(AK11*((LOG(AK11))/LOG(2))))","v":0},null,{"$f":"N11","v":0},{"$f":"COUNTIF(L38:L45,AN11)","v":0},{"$f":"AO11/(AQ4-AO8)","v":0},{"$f":"IF(AP11=0,0,(AP11*((LOG(AP11))/LOG(2))))","v":0},null,{"$f":"N11","v":0},{"$f":"COUNTIF(L46:L53,AS11)","v":0},{"$f":"AT11/(AV4-AT8)","v":{"$error":"#DIV/0!"}},{"$f":"IF(AU11=0,0,(AU11*((LOG(AU11))/LOG(2))))","v":{"$error":"#DIV/0!"}}]
[11,537,21,553,null,null,null,null,null,null,0,12,null,null,null,null,null,null,null,{"$f":"N12","v":0},{"$f":"COUNTIF(L7:L14,T12)","v":0},{"$f":"U12/(W4-U8)","v":0},{"$f":"IF(V12=0,0,(V12*((LOG(V12))/LOG(2))))","v":0},null,{"$f":"N12","v":0},{"$f":"COUNTIF(L15:L22,Y12)","v":0},{"$f":"Z12/(AB4-Z8)","v":0},{"$f":"IF(AA12=0,0,(AA12*((LOG(AA12))/LOG(2))))","v":0},null,{"$f":"N12","v":0},{"$f":"COUNTIF(L23:L29,AD12)","v":0},{"$f":"AE12/(AG4-AE8)","v":0},{"$f":"IF(AF12=0,0,(AF12*((LOG(AF12))/LOG(2))))","v":0},null,{"$f":"N12","v":0},{"$f":"COUNTIF(L30:L37,AI12)","v":0},{"$f":"AJ12/(AL4-AJ8)","v":0},{"$f":"IF(AK12=0,0,(AK12*((LOG(AK12))/LOG(2))))","v":0},null,{"$f":"N12","v":0},{"$f":"COUNTIF(L38:L45,AN12)","v":0},{"$f":"AO12/(AQ4-AO8)","v":0},{"$f":"IF(AP12=0,0,(AP12*((LOG(AP12))/LOG(2))))","v":0},null,{"$f":"N12","v":0},{"$f":"COUNTIF(L46:L53,AS12)","v":0},{"$f":"AT12/(AV4-AT8)","v":{"$error":"#DIV/0!"}},{"$f":"IF(AU12=0,0,(AU12*((LOG(AU12))/LOG(2))))","v":{"$error":"#DIV/0!"}}]
[22,650,23,660,null,null,null,null,null,null,0,22,null,null,null,null,null,null,null,{"$f":"N13","v":0},{"$f":"COUNTIF(L7:L14,T13)","v":0},{"$f":"U13/(W4-U8)","v":0},{"$f":"IF(V13=0,0,(V13*((LOG(V13))/LOG(2))))","v":0},null,{"$f":"N13","v":0},{"$f":"COUNTIF(L15:L22,Y13)","v":0},{"$f":"Z13/(AB4-Z8)","v":0},{"$f":"IF(AA13=0,0,(AA13*((LOG(AA13))/LOG(2))))","v":0},null,{"$f":"N13","v":0},{"$f":"COUNTIF(L23:L29,AD13)","v":0},{"$f":"AE13/(AG4-AE8)","v":0},{"$f":"IF(AF13=0,0,(AF13*((LOG(AF13))/LOG(2))))","v":0},null,{"$f":"N13","v":0},{"$f":"COUNTIF(L30:L37,AI13)","v":0},{"$f":"AJ13/(AL4-AJ8)","v":0},{"$f":"IF(AK13=0,0,(AK13*((LOG(AK13))/LOG(2))))","v":0},null,{"$f":"N13","v":0},{"$f":"COUNTIF(L38:L45,AN13)","v":0},{"$f":"AO13/(AQ4-AO8)","v":0},{"$f":"IF(AP13=0,0,(AP13*((LOG(AP13))/LOG(2))))","v":0},null,{"$f":"N13","v":0},{"$f":"COUNTIF(L46:L53,AS13)","v":0},{"$f":"AT13/(AV4-AT8)","v":{"$error":"#DIV/0!"}},{"$f":"IF(AU13=0,0,(AU13*((LOG(AU13))/LOG(2))))","v":{"$error":"#DIV/0!"}}]
[11,758,21,768,null,null,null,null,null,null,0,12,null,null,null,null,null,null,null,{"$f":"N14","v":0},{"$f":"COUNTIF(L7:L14,T14)","v":0},{"$f":"U14/(W4-U8)","v":0},{"$f":"IF(V14=0,0,(V14*((LOG(V14))/LOG(2))))","v":0},null,{"$f":"N14","v":0},{"$f":"COUNTIF(L15:L22,Y14)","v":0},{"$f":"Z14/(AB4-Z8)","v":0},{"$f":"IF(AA14=0,0,(AA14*((LOG(AA14))/LOG(2))))","v":0},null,{"$f":"N14","v":0},{"$f":"COUNTIF(L23:L29,AD14)","v":0},{"$f":"AE14/(AG4-AE8)","v":0},{"$f":"IF(AF14=0,0,(AF14*((LOG(AF14))/LOG(2))))","v":0},null,{"$f":"N14","v":0},{"$f":"COUNTIF(L30:L37,AI14)","v":0},{"$f":"AJ14/(AL4-AJ8)","v":0},{"$f":"IF(AK14=0,0,(AK14*((LOG(AK14))/LOG(2))))","v":0},null,{"$f":"N14","v":0},{"$f":"COUNTIF(L38:L45,AN14)","v":0},{"$f":"AO14/(AQ4-AO8)","v":0},{"$f":"IF(AP14=0,0,(AP14*((LOG(AP14))/LOG(2))))","v":0},null,{"$f":"N14","v":0},{"$f":"COUNTIF(L46:L53,AS14)","v":0},{"$f":"AT14/(AV4-AT8)","v":{"$error":"#DIV/0!"}},{"$f":"IF(AU14=0,0,(AU14*((LOG(AU14))/LOG(2))))","v":{"$error":"#DIV/0!"}}]
[11,854,21,869,null,null,null,null,null,null,0,12,null,null,null,{"$f":"SUM(P7:P14)","v":1},{"$f":"-SUM(Q7:Q14)","v":0.69529313253250047},null,null,null,null,{"$f":"SUM(V7:V14)","v":1},{"$f":"-SUM(W7:W14)","v":0},null,null,null,{"$f":"SUM(AA7:AA14)","v":1},{"$f":"-SUM(AB7:AB14)","v":0},null,null,null,{"$f":"SUM(AF7:AF14)","v":1},{"$f":"-SUM(AG7:AG14)","v":0},null,null,null,{"$f":"SUM(AK7:AK14)","v":1},{"$f":"-SUM(AL7:AL14)","v":0},null,null,null,{"$f":"SUM(AP7:AP14)","v":1},{"$f":"-SUM(AQ7:AQ14)","v":0},null,null,null,{"$f":"SUM(AU7:AU14)","v":{"$error":"#DIV/0!"}},{"$f":"-SUM(AV7:AV14)","v":{"$error":"#DIV/0!"}}]
[22,964,23,972,null,null,null,null,null,null,0,22,null,null,null,"U=",{"$f":"Q15/(LOG(Q4)/LOG(2))","v":0.12517454506511366},null,null,null,null,"U1=",{"$f":"W15/(LOG(W4)/LOG(2))","v":0},null,null,null,"U2=",{"$f":"AB15/(LOG(AB4)/LOG(2))","v":0},null,null,null,"U3=",{"$f":"AG15/(LOG(AG4)/LOG(2))","v":0},null,null,null,"U4=",{"$f":"AL15/(LOG(AL4)/LOG(2))","v":0},null,null,null,"U5=",{"$f":"AQ15/(LOG(AQ4)/LOG(2))","v":0},null,null,null,"U6=",{"$f":"AV15/(LOG(AV4)/LOG(2))","v":{"$error":"#DIV/0!"}}]
[11,1072,21,1086,null,null,null,null,null,null,0,12]
[11,1173,21,1187,null,null,null,null,null,null,0,12]
[11,1273,21,1287,null,null,null,null,null,null,0,12,null,"Total Target Seq"]
[11,1374,21,1384,null,null,null,null,null,null,0,12,null,{"$f":"COUNTIF(L7:L53,G3)","v":40},null,8,8,7,8,8,8]
[11,1470,21,1483,null,null,null,null,null,null,0,12,null,null,null,"% of reinforcement given in 6 equal intervals based on number of trials "]
[11,1568,21,1582,null,null,null,null,null,null,0,12,null,null,null,"%_1","%_2","%_3","%_4","%_5","%_6"]
[11,1667,21,1680,null,null,null,null,null,null,0,12,null,null,"target sequence",{"$f":"$G$3","v":12},{"$f":"$G$3","v":12},{"$f":"$G$3","v":12},{"$f":"$G$3","v":12},{"$f":"$G$3","v":12},{"$f":"$G$3","v":12}]
[11,1767,21,1777,null,null,null,null,null,null,0,12,null,null,"total reinforcement",{"$f":"U8","v":5},{"$f":"Z8","v":7},{"$f":"AE8","v":6},{"$f":"AJ8","v":7},{"$f":"AO8","v":7},{"$f":"AT8","v":8}]
[11,1861,21,1872,null,null,null,null,null,null,0,12,null,null,"% target"]
[11,1968,21,1978,null,null,null,null,null,null,0,12,null,null,"CCRF"]
[11,2066,21,2079,null,null,null,null,null,null,0,12,null,null,"% CCRf"]
[22,2180,23,2189,null,null,null,null,null,null,0,22,null,null,"average response rate",{"$f":"D14/P20","v":96},{"$f":"(D22-D14)/Q20","v":101.75},{"$f":"(D29-D22)/R20","v":102},{"$f":"(D37-D29)/S20","v":98.875},{"$f":"(D45-D37)/T20","v":100},{"$f":"(D53-D45)/U20","v":101.25}]
[11,2283,21,2296,null,null,null,null,null,null,0,12]
[11,2378,12,2382,null,null,null,null,null,null,0,11]
[11,2482,21,2495,null,null,null,null,null,null,0,12]
[11,2584,21,2598,null,null,null,null,null,null,0,12]
[11,2685,21,2696,null,null,null,null,null,null,0,12]
[11,2782,21,2792,null,null,null,null,null,null,0,12]
[11,2878,21,2888,null,null,null,null,null,null,0,12]
[11,2977,21,2988,null,null,null,null,null,null,0,12]
[11,3075,21,3087,null,null,null,null,null,null,0,12]
[11,3175,21,3185,null,null,null,null,null,null,0,12]
[11,3272,21,3285,null,null,null,null,null,null,0,12]
[11,3369,21,3382,null,null,null,null,null,null,0,12]
[11,3469,21,3481,null,null,null,null,null,null,0,12]
[11,3567,21,3578,null,null,null,null,null,null,0,12]
[11,3667,21,3680,null,null,null,null,null,null,0,12]
[11,3766,21,3777,null,null,null,null,null,null,0,12]
[22,3876,23,3887,null,null,null,null,null,null,0,22]
[11,3984,21,3997,null,null,null,null,null,null,0,12]
[11,4084,21,4097,null,null,null,null,null,null,0,12]
[11,4186,21,4198,null,null,null,null,null,null,0,12]
[11,4284,21,4296,null,null,null,null,null,null,0,12]
[11,4383,21,4397,null,null,null,null,null,null,0,12]
[11,4482,21,4495,null,null,null,null,null,null,0,12]
[11,4582,21,4595,null,null,null,null,null,null,0,12]
[11,4684,21,4697,null,null,null,null,null,null,1,12]

{"sheet":"!N113830.091","index":27,"n_rows":54,"n_cols":48,"rows_kept":54,"cut":false,"hidden":false,"merged":[[4,39,4,42],[5,39,5,40],[4,44,4,47],[5,44,5,45],[4,24,4,27],[5,24,5,25],[4,29,4,32],[5,29,5,30],[4,34,4,37],[5,34,5,35],[1,1,1,2],[5,13,5,14],[18,13,18,14],[19,13,19,14],[4,19,4,22],[5,19,5,20]]}
["Report for:!N113830.091"]
["Date:","<date>"]
["Hen:","<hen>",null,null,null,"Correct Sequence",{"$f":"Start!J2","v":12},null,null,null,null,null,null,null,null,"Total Sequences in Data",{"$f":"4994-COUNTBLANK(L7:L5000)","v":48},null,null,null,null,"Total Sequences in Block Data",{"$f":"COUNTA(L7:L14)","v":8},null,null,null,"Total Sequences in Block Data",{"$f":"COUNTA(L15:L22)","v":8},null,null,null,"Total Sequences in Block Data",{"$f":"COUNTA(L23:L30)","v":8},null,null,null,"Total Sequences in Block Data",{"$f":"COUNTA(L31:L38)","v":8},null,null,null,"Total Sequences in Block Data",{"$f":"COUNTA(L39:L46)","v":8},null,null,null,"Total Sequences in Block Data",{"$f":"COUNTA(L47:L54)","v":8}]
[null,null,null,null,null,null,null,null,null,null,null,null,null,null,null,"Total Sequences in Summary",{"$f":"SUM(O7:O14)","v":48},null,null,null,null,"Total Sequences in Block Summary",{"$f":"SUM(U7:U14)","v":8},null,null,null,"Total Sequences in Block Summary",{"$f":"SUM(Z7:Z14)","v":8},null,null,null,"Total Sequences in Block Summary",{"$f":"SUM(AE7:AE14)","v":8},null,null,null,"Total Sequences in Block Summary",{"$f":"SUM(AJ7:AJ14)","v":8},null,null,null,"Total Sequences in Block Summary",{"$f":"SUM(AO7:AO14)","v":8},null,null,null,"Total Sequences in Block Summary",{"$f":"SUM(AT7:AT14)","v":8}]
[null,null,null,null,null,null,null,null,null,null,null,null,null,null,null,null,null,null,null,"Block 1",null,null,null,null,"Block 2",null,null,null,null,"Block 3",null,null,null,null,"Block 4",null,null,null,null,"Block 5",null,null,null,null,"Block 6"]
["Sequence\nComponent\n1","Time\n1","Sequence\nComponent\n2","Time\n2","Sequence\nComponent\n3","Time\n3","Sequence\nComponent\n4","Time\n4","Sequence\nComponent\n5","Time\n5","Correct?\n0=No 1=Yes","Sequence",null,"Frequency",null,"Relative Frequency","Variability",null,null,"Frequency",null,"Relative Frequency","Variability",null,"Frequency",null,"Relative Frequency","Variability",null,"Frequency",null,"Relative Frequency","Variability",null,"Frequency",null,"Relative Frequency","Variability",null,"Frequency",null,"Relative Frequency","Variability",null,"Frequency",null,"Relative Frequency","Variability"]
[22,48,23,60,null,null,null,null,null,null,0,22,null,11,{"$f":"COUNTIF($L$7:$L$500,N7)","v":0},{"$f":"O7/$Q$4","v":0},{"$f":"IF(P7=0,0,(P7*((LOG(P7))/LOG(2))))","v":0},null,null,{"$f":"N7","v":11},{"$f":"COUNTIF(L7:L14,T7)","v":0},{"$f":"U7/(W4-U8)","v":0},{"$f":"IF(V7=0,0,(V7*((LOG(V7))/LOG(2))))","v":0},null,{"$f":"N7","v":11},{"$f":"COUNTIF(L15:L22,Y7)","v":0},{"$f":"Z7/(AB4-Z8)","v":0},{"$f":"IF(AA7=0,0,(AA7*((LOG(AA7))/LOG(2))))","v":0},null,{"$f":"N7","v":11},{"$f":"COUNTIF(L23:L30,AD7)","v":0},{"$f":"AE7/(AG4-AE8)","v":0},{"$f":"IF(AF7=0,0,(AF7*((LOG(AF7))/LOG(2))))","v":0},null,{"$f":"N7","v":11},{"$f":"COUNTIF(L31:L38,AI7)","v":0},{"$f":"AJ7/(AL4-AJ8)","v":{"$error":"#DIV/0!"}},{"$f":"IF(AK7=0,0,(AK7*((LOG(AK7))/LOG(2))))","v":{"$error":"#DIV/0!"}},null,{"$f":"N7","v":11},{"$f":"COUNTIF(L39:L46,AN7)","v":0},{"$f":"AO7/(AQ4-AO8)","v":{"$error":"#DIV/0!"}},{"$f":"IF(AP7=0,0,(AP7*((LOG(AP7))/LOG(2))))","v":{"$error":"#DIV/0!"}},null,{"$f":"N7","v":11},{"$f":"COUNTIF(L47:L54,AS7)","v":0},{"$f":"AT7/(AV4-AT8)","v":0},{"$f":"IF(AU7=0,0,(AU7*((LOG(AU7))/LOG(2))))","v":0}]
[22,169,23,183,null,null,null,null,null,null,0,22,null,12,{"$f":"COUNTIF($L$7:$L$500,N8)","v":40},{"$f":"O8/$Q$4","v":0.83333333333333337},{"$f":"IF(P8=0,0,(P8*((LOG(P8))/LOG(2))))","v":-0.21919533819482812},null,null,{"$f":"N8","v":12},{"$f":"COUNTIF(L7:L14,T8)","v":4},null,null,null,{"$f":"N8","v":12},{"$f":"COUNTIF(L15:L22,Y8)","v":7},null,null,null,{"$f":"N8","v":12},{"$f":"COUNTIF(L23:L30,AD8)","v":6},null,null,null,{"$f":"N8","v":12},{"$f":"COUNTIF(L31:L38,AI8)","v":8},null,null,null,{"$f":"N8","v":12},{"$f":"COUNTIF(L39:L46,AN8)","v":8},null,null,null,{"$f":"N8","v":12},{"$f":"COUNTIF(L47:L54,AS8)","v":7}]
[11,283,21,299,null,null,null,null,null,null,0,12,null,21,{"$f":"COUNTIF($L$7:$L$500,N9)","v":0},{"$f":"O9/$Q$4","v":0},{"$f":"IF(P9=0,0,(P9*((LOG(P9))/LOG(2))))","v":0},null,null,{"$f":"N9","v":21},{"$f":"COUNTIF(L7:L14,T9)","v":0},{"$f":"U9/(W4-U8)","v":0},{"$f":"IF(V9=0,0,(V9*((LOG(V9))/LOG(2))))","v":0},null,{"$f":"N9","v":21},{"$f":"COUNTIF(L15:L22,Y9)","v":0},{"$f":"Z9/(AB4-Z8)","v":0},{"$f":"IF(AA9=0,0,(AA9*((LOG(AA9))/LOG(2))))","v":0},null,{"$f":"N9","v":21},{"$f":"COUNTIF(L23:L30,AD9)","v":0},{"$f":"AE9/(AG4-AE8)","v":0},{"$f":"IF(AF9=0,0,(AF9*((LOG(AF9))/LOG(2))))","v":0},null,{"$f":"N9","v":21},{"$f":"COUNTIF(L31:L38,AI9)","v":0},{"$f":"AJ9/(AL4-AJ8)","v":{"$error":"#DIV/0!"}},{"$f":"IF(AK9=0,0,(AK9*((LOG(AK9))/LOG(2))))","v":{"$error":"#DIV/0!"}},null,{"$f":"N9","v":21},{"$f":"COUNTIF(L39:L46,AN9)","v":0},{"$f":"AO9/(AQ4-AO8)","v":{"$error":"#DIV/0!"}},{"$f":"IF(AP9=0,0,(AP9*((LOG(AP9))/LOG(2))))","v":{"$error":"#DIV/0!"}},null,{"$f":"N9","v":21},{"$f":"COUNTIF(L47:L54,AS9)","v":0},{"$f":"AT9/(AV4-AT8)","v":0},{"$f":"IF(AU9=0,0,(AU9*((LOG(AU9))/LOG(2))))","v":0}]
[22,401,23,412,null,null,null,null,null,null,0,22,null,22,{"$f":"COUNTIF($L$7:$L$500,N10)","v":8},{"$f":"O10/$Q$4","v":0.16666666666666666},{"$f":"IF(P10=0,0,(P10*((LOG(P10))/LOG(2))))","v":-0.43082708345352599},null,null,{"$f":"N10","v":22},{"$f":"COUNTIF(L7:L14,T10)","v":4},{"$f":"U10/(W4-U8)","v":1},{"$f":"IF(V10=0,0,(V10*((LOG(V10))/LOG(2))))","v":0},null,{"$f":"N10","v":22},{"$f":"COUNTIF(L15:L22,Y10)","v":1},{"$f":"Z10/(AB4-Z8)","v":1},{"$f":"IF(AA10=0,0,(AA10*((LOG(AA10))/LOG(2))))","v":0},null,{"$f":"N10","v":22},{"$f":"COUNTIF(L23:L30,AD10)","v":2},{"$f":"AE10/(AG4-AE8)","v":1},{"$f":"IF(AF10=0,0,(AF10*((LOG(AF10))/LOG(2))))","v":0},null,{"$f":"N10","v":22},{"$f":"COUNTIF(L31:L38,AI10)","v":0},{"$f":"AJ10/(AL4-AJ8)","v":{"$error":"#DIV/0!"}},{"$f":"IF(AK10=0,0,(AK10*((LOG(AK10))/LOG(2))))","v":{"$error":"#DIV/0!"}},null,{"$f":"N10","v":22},{"$f":"COUNTIF(L39:L46,AN10)","v":0},{"$f":"AO10/(AQ4-AO8)","v":{"$error":"#DIV/0!"}},{"$f":"IF(AP10=0,0,(AP10*((LOG(AP10))/LOG(2))))","v":{"$error":"#DIV/0!"}},null,{"$f":"N10","v":22},{"$f":"COUNTIF(L47:L54,AS10)","v":1},{"$f":"AT10/(AV4-AT8)","v":1},{"$f":"IF(AU10=0,0,(AU10*((LOG(AU10))/LOG(2))))","v":0}]
[22,526,23,536,null,null,null,null,null,null,0,22,null,null,null,null,null,null,null,{"$f":"N11","v":0},{"$f":"COUNTIF(L7:L14,T11)","v":0},{"$f":"U11/(W4-U8)","v":0},{"$f":"IF(V11=0,0,(V11*((LOG(V11))/LOG(2))))","v":0},null,{"$f":"N11","v":0},{"$f":"COUNTIF(L15:L22,Y11)","v":0},{"$f":"Z11/(AB4-Z8)","v":0},{"$f":"IF(AA11=0,0,(AA11*((LOG(AA11))/LOG(2))))","v":0},null,{"$f":"N11","v":0},{"$f":"COUNTIF(L23:L30,AD11)","v":0},{"$f":"AE11/(AG4-AE8)","v":0},{"$f":"IF(AF11=0,0,(AF11*((LOG(AF11))/LOG(2))))","v":0},null,{"$f":"N11","v":0},{"$f":"COUNTIF(L31:L38,AI11)","v":0},{"$f":"AJ11/(AL4-AJ8)","v":{"$error":"#DIV/0!"}},{"$f":"IF(AK11=0,0,(AK11*((LOG(AK11))/LOG(2))))","v":{"$error":"#DIV/0!"}},null,{"$f":"N11","v":0},{"$f":"COUNTIF(L39:L46,AN11)","v":0},{"$f":"AO11/(AQ4-AO8)","v":{"$error":"#DIV/0!"}},{"$f":"IF(AP11=0,0,(AP11*((LOG(AP11))/LOG(2))))","v":{"$error":"#DIV/0!"}},null,{"$f":"N11","v":0},{"$f":"COUNTIF(L47:L54,AS11)","v":0},{"$f":"AT11/(AV4-AT8)","v":0},{"$f":"IF(AU11=0,0,(AU11*((LOG(AU11))/LOG(2))))","v":0}]
[11,640,21,660,null,null,null,null,null,null,0,12,null,null,null,null,null,null,null,{"$f":"N12","v":0},{"$f":"COUNTIF(L7:L14,T12)","v":0},{"$f":"U12/(W4-U8)","v":0},{"$f":"IF(V12=0,0,(V12*((LOG(V12))/LOG(2))))","v":0},null,{"$f":"N12","v":0},{"$f":"COUNTIF(L15:L22,Y12)","v":0},{"$f":"Z12/(AB4-Z8)","v":0},{"$f":"IF(AA12=0,0,(AA12*((LOG(AA12))/LOG(2))))","v":0},null,{"$f":"N12","v":0},{"$f":"COUNTIF(L23:L30,AD12)","v":0},{"$f":"AE12/(AG4-AE8)","v":0},{"$f":"IF(AF12=0,0,(AF12*((LOG(AF12))/LOG(2))))","v":0},null,{"$f":"N12","v":0},{"$f":"COUNTIF(L31:L38,AI12)","v":0},{"$f":"AJ12/(AL4-AJ8)","v":{"$error":"#DIV/0!"}},{"$f":"IF(AK12=0,0,(AK12*((LOG(AK12))/LOG(2))))","v":{"$error":"#DIV/0!"}},null,{"$f":"N12","v":0},{"$f":"COUNTIF(L39:L46,AN12)","v":0},{"$f":"AO12/(AQ4-AO8)","v":{"$error":"#DIV/0!"}},{"$f":"IF(AP12=0,0,(AP12*((LOG(AP12))/LOG(2))))","v":{"$error":"#DIV/0!"}},null,{"$f":"N12","v":0},{"$f":"COUNTIF(L47:L54,AS12)","v":0},{"$f":"AT12/(AV4-AT8)","v":0},{"$f":"IF(AU12=0,0,(AU12*((LOG(AU12))/LOG(2))))","v":0}]
[11,752,21,765,null,null,null,null,null,null,0,12,null,null,null,null,null,null,null,{"$f":"N13","v":0},{"$f":"COUNTIF(L7:L14,T13)","v":0},{"$f":"U13/(W4-U8)","v":0},{"$f":"IF(V13=0,0,(V13*((LOG(V13))/LOG(2))))","v":0},null,{"$f":"N13","v":0},{"$f":"COUNTIF(L15:L22,Y13)","v":0},{"$f":"Z13/(AB4-Z8)","v":0},{"$f":"IF(AA13=0,0,(AA13*((LOG(AA13))/LOG(2))))","v":0},null,{"$f":"N13","v":0},{"$f":"COUNTIF(L23:L30,AD13)","v":0},{"$f":"AE13/(AG4-AE8)","v":0},{"$f":"IF(AF13=0,0,(AF13*((LOG(AF13))/LOG(2))))","v":0},null,{"$f":"N13","v":0},{"$f":"COUNTIF(L31:L38,AI13)","v":0},{"$f":"AJ13/(AL4-AJ8)","v":{"$error":"#DIV/0!"}},{"$f":"IF(AK13=0,0,(AK13*((LOG(AK13))/LOG(2))))","v":{"$error":"#DIV/0!"}},null,{"$f":"N13","v":0},{"$f":"COUNTIF(L39:L46,AN13)","v":0},{"$f":"AO13/(AQ4-AO8)","v":{"$error":"#DIV/0!"}},{"$f":"IF(AP13=0,0,(AP13*((LOG(AP13))/LOG(2))))","v":{"$error":"#DIV/0!"}},null,{"$f":"N13","v":0},{"$f":"COUNTIF(L47:L54,AS13)","v":0},{"$f":"AT13/(AV4-AT8)","v":0},{"$f":"IF(AU13=0,0,(AU13*((LOG(AU13))/LOG(2))))","v":0}]
[11,869,21,896,null,null,null,null,null,null,0,12,null,null,null,null,null,null,null,{"$f":"N14","v":0},{"$f":"COUNTIF(L7:L14,T14)","v":0},{"$f":"U14/(W4-U8)","v":0},{"$f":"IF(V14=0,0,(V14*((LOG(V14))/LOG(2))))","v":0},null,{"$f":"N14","v":0},{"$f":"COUNTIF(L15:L22,Y14)","v":0},{"$f":"Z14/(AB4-Z8)","v":0},{"$f":"IF(AA14=0,0,(AA14*((LOG(AA14))/LOG(2))))","v":0},null,{"$f":"N14","v":0},{"$f":"COUNTIF(L23:L30,AD14)","v":0},{"$f":"AE14/(AG4-AE8)","v":0},{"$f":"IF(AF14=0,0,(AF14*((LOG(AF14))/LOG(2))))","v":0},null,{"$f":"N14","v":0},{"$f":"COUNTIF(L31:L38,AI14)","v":0},{"$f":"AJ14/(AL4-AJ8)","v":{"$error":"#DIV/0!"}},{"$f":"IF(AK14=0,0,(AK14*((LOG(AK14))/LOG(2))))","v":{"$error":"#DIV/0!"}},null,{"$f":"N14","v":0},{"$f":"COUNTIF(L39:L46,AN14)","v":0},{"$f":"AO14/(AQ4-AO8)","v":{"$error":"#DIV/0!"}},{"$f":"IF(AP14=0,0,(AP14*((LOG(AP14))/LOG(2))))","v":{"$error":"#DIV/0!"}},null,{"$f":"N14","v":0},{"$f":"COUNTIF(L47:L54,AS14)","v":0},{"$f":"AT14/(AV4-AT8)","v":0},{"$f":"IF(AU14=0,0,(AU14*((LOG(AU14))/LOG(2))))","v":0}]
[11,986,21,1000,null,null,null,null,null,null,0,12,null,null,null,{"$f":"SUM(P7:P14)","v":1},{"$f":"-SUM(Q7:Q14)","v":0.65002242164835411},null,null,null,null,{"$f":"SUM(V7:V14)","v":1},{"$f":"-SUM(W7:W14)","v":0},null,null,null,{"$f":"SUM(AA7:AA14)","v":1},{"$f":"-SUM(AB7:AB14)","v":0},null,null,null,{"$f":"SUM(AF7:AF14)","v":1},{"$f":"-SUM(AG7:AG14)","v":0},null,null,null,{"$f":"SUM(AK7:AK14)","v":{"$error":"#DIV/0!"}},{"$f":"-SUM(AL7:AL14)","v":{"$error":"#DIV/0!"}},null,null,null,{"$f":"SUM(AP7:AP14)","v":{"$error":"#DIV/0!"}},{"$f":"-SUM(AQ7:AQ14)","v":{"$error":"#DIV/0!"}},null,null,null,{"$f":"SUM(AU7:AU14)","v":1},{"$f":"-SUM(AV7:AV14)","v":0}]
[11,1091,21,1100,null,null,null,null,null,null,0,12,null,null,null,"U=",{"$f":"Q15/(LOG(Q4)/LOG(2))","v":0.11638796528435423},null,null,null,null,"U1=",{"$f":"W15/(LOG(W4)/LOG(2))","v":0},null,null,null,"U2=",{"$f":"AB15/(LOG(AB4)/LOG(2))","v":0},null,null,null,"U3=",{"$f":"AG15/(LOG(AG4)/LOG(2))","v":0},null,null,null,"U4=",{"$f":"AL15/(LOG(AL4)/LOG(2))","v":{"$error":"#DIV/0!"}},null,null,null,"U5=",{"$f":"AQ15/(LOG(AQ4)/LOG(2))","v":{"$error":"#DIV/0!"}},null,null,null,"U6=",{"$f":"AV15/(LOG(AV4)/LOG(2))","v":0}]
[11,1191,21,1207,null,null,null,null,null,null,0,12]
[11,1298,21,1308,null,null,null,null,null,null,0,12]
[11,1397,21,1411,null,null,null,null,null,null,0,12,null,"Total Target Seq"]
[11,1506,21,1517,null,null,null,null,null,null,0,12,null,{"$f":"COUNTIF(L7:L54,G3)","v":40},null,8,8,8,8,8,8]
[11,1606,21,1618,null,null,null,null,null,null,0,12,null,null,null,"% of reinforcement given in 6 equal intervals based on number of trials "]
[22,1716,23,1725,null,null,null,null,null,null,0,22,null,null,null,"%_1","%_2","%_3","%_4","%_5","%_6"]
[22,1835,23,1847,null,null,null,null,null,null,0,22,null,null,"target sequence",{"$f":"$G$3","v":12},{"$f":"$G$3","v":12},{"$f":"$G$3","v":12},{"$f":"$G$3","v":12},{"$f":"$G$3","v":12},{"$f":"$G$3","v":12}]
[11,1944,21,1958,null,null,null,null,null,null,0,12,null,null,"total reinforcement",{"$f":"U8","v":4},{"$f":"Z8","v":7},{"$f":"AE8","v":6},{"$f":"AJ8","v":8},{"$f":"AO8","v":8},{"$f":"AT8","v":7}]
[11,2049,21,2062,null,null,null,null,null,null,0,12,null,null,"% target"]
[11,2155,21,2176,null,null,null,null,null,null,0,12,null,null,"CCRF"]
[11,2266,21,2279,null,null,null,null,null,null,0,12,null,null,"% CCRf"]
[11,2372,21,2383,null,null,null,null,null,null,0,12,null,null,"average response rate",{"$f":"D14/P20","v":112},{"$f":"(D22-D14)/Q20","v":103.625},{"$f":"(D30-D22)/R20","v":109},{"$f":"(D38-D30)/S20","v":104.625},{"$f":"(D46-D38)/T20","v":101.5},{"$f":"(D54-D46)/U20","v":103.625}]
[11,2472,21,2485,null,null,null,null,null,null,0,12]
[22,2586,23,2597,null,null,null,null,null,null,0,22]
[11,2696,21,2722,null,null,null,null,null,null,0,12]
[11,2812,21,2822,null,null,null,null,null,null,0,12]
[11,2910,21,2926,null,null,null,null,null,null,0,12]
[11,3014,21,3026,null,null,null,null,null,null,0,12]
[11,3118,21,3130,null,null,null,null,null,null,0,12]
[11,3218,21,3232,null,null,null,null,null,null,0,12]
[11,3319,21,3332,null,null,null,null,null,null,0,12]
[11,3420,21,3434,null,null,null,null,null,null,0,12]
[11,3522,21,3535,null,null,null,null,null,null,0,12]
[11,3623,21,3637,null,null,null,null,null,null,0,12]
[11,3725,21,3738,null,null,null,null,null,null,0,12]
[11,3828,21,3840,null,null,null,null,null,null,0,12]
[11,3928,21,3938,null,null,null,null,null,null,0,12]
[11,4027,21,4048,null,null,null,null,null,null,0,12]
[11,4136,21,4149,null,null,null,null,null,null,0,12]
[11,4236,21,4246,null,null,null,null,null,null,0,12]
[22,4345,23,4355,null,null,null,null,null,null,0,22]
[11,4452,21,4462,null,null,null,null,null,null,0,12]
[11,4553,21,4566,null,null,null,null,null,null,0,12]
[11,4656,21,4666,null,null,null,null,null,null,0,12]
[11,4757,21,4770,null,null,null,null,null,null,0,12]
[11,4860,21,4871,null,null,null,null,null,null,0,12]
[11,4959,21,4973,null,null,null,null,null,null,0,12]
[11,5063,21,5075,null,null,null,null,null,null,1,12]

{"sheet":"!N114750.091","index":28,"n_rows":50,"n_cols":48,"rows_kept":50,"cut":false,"hidden":false,"merged":[[4,39,4,42],[5,39,5,40],[4,44,4,47],[5,44,5,45],[4,24,4,27],[5,24,5,25],[4,29,4,32],[5,29,5,30],[4,34,4,37],[5,34,5,35],[1,1,1,2],[5,13,5,14],[18,13,18,14],[19,13,19,14],[4,19,4,22],[5,19,5,20]]}
["Report for:!N114750.091"]
["Date:","<date>"]
["Hen:","<hen>",null,null,null,"Correct Sequence",{"$f":"Start!J2","v":12},null,null,null,null,null,null,null,null,"Total Sequences in Data",{"$f":"4994-COUNTBLANK(L7:L5000)","v":44},null,null,null,null,"Total Sequences in Block Data",{"$f":"COUNTA(L7:L13)","v":7},null,null,null,"Total Sequences in Block Data",{"$f":"COUNTA(L14:L21)","v":8},null,null,null,"Total Sequences in Block Data",{"$f":"COUNTA(L22:L28)","v":7},null,null,null,"Total Sequences in Block Data",{"$f":"COUNTA(L29:L35)","v":7},null,null,null,"Total Sequences in Block Data",{"$f":"COUNTA(L36:L43)","v":8},null,null,null,"Total Sequences in Block Data",{"$f":"COUNTA(L44:L50)","v":7}]
[null,null,null,null,null,null,null,null,null,null,null,null,null,null,null,"Total Sequences in Summary",{"$f":"SUM(O7:O14)","v":44},null,null,null,null,"Total Sequences in Block Summary",{"$f":"SUM(U7:U14)","v":7},null,null,null,"Total Sequences in Block Summary",{"$f":"SUM(Z7:Z14)","v":8},null,null,null,"Total Sequences in Block Summary",{"$f":"SUM(AE7:AE14)","v":7},null,null,null,"Total Sequences in Block Summary",{"$f":"SUM(AJ7:AJ14)","v":7},null,null,null,"Total Sequences in Block Summary",{"$f":"SUM(AO7:AO14)","v":8},null,null,null,"Total Sequences in Block Summary",{"$f":"SUM(AT7:AT14)","v":7}]
[null,null,null,null,null,null,null,null,null,null,null,null,null,null,null,null,null,null,null,"Block 1",null,null,null,null,"Block 2",null,null,null,null,"Block 3",null,null,null,null,"Block 4",null,null,null,null,"Block 5",null,null,null,null,"Block 6"]
["Sequence\nComponent\n1","Time\n1","Sequence\nComponent\n2","Time\n2","Sequence\nComponent\n3","Time\n3","Sequence\nComponent\n4","Time\n4","Sequence\nComponent\n5","Time\n5","Correct?\n0=No 1=Yes","Sequence",null,"Frequency",null,"Relative Frequency","Variability",null,null,"Frequency",null,"Relative Frequency","Variability",null,"Frequency",null,"Relative Frequency","Variability",null,"Frequency",null,"Relative Frequency","Variability",null,"Frequency",null,"Relative Frequency","Variability",null,"Frequency",null,"Relative Frequency","Variability",null,"Frequency",null,"Relative Frequency","Variability"]
[11,11,21,21,null,null,null,null,null,null,0,12,null,11,{"$f":"COUNTIF($L$7:$L$500,N7)","v":0},{"$f":"O7/$Q$4","v":0},{"$f":"IF(P7=0,0,(P7*((LOG(P7))/LOG(2))))","v":0},null,null,{"$f":"N7","v":11},{"$f":"COUNTIF(L7:L13,T7)","v":0},{"$f":"U7/(W4-U8)","v":{"$error":"#DIV/0!"}},{"$f":"IF(V7=0,0,(V7*((LOG(V7))/LOG(2))))","v":{"$error":"#DIV/0!"}},null,{"$f":"N7","v":11},{"$f":"COUNTIF(L14:L21,Y7)","v":0},{"$f":"Z7/(AB4-Z8)","v":0},{"$f":"IF(AA7=0,0,(AA7*((LOG(AA7))/LOG(2))))","v":0},null,{"$f":"N7","v":11},{"$f":"COUNTIF(L22:L28,AD7)","v":0},{"$f":"AE7/(AG4-AE8)","v":0},{"$f":"IF(AF7=0,0,(AF7*((LOG(AF7))/LOG(2))))","v":0},null,{"$f":"N7","v":11},{"$f":"COUNTIF(L29:L35,AI7)","v":0},{"$f":"AJ7/(AL4-AJ8)","v":{"$error":"#DIV/0!"}},{"$f":"IF(AK7=0,0,(AK7*((LOG(AK7))/LOG(2))))","v":{"$error":"#DIV/0!"}},null,{"$f":"N7","v":11},{"$f":"COUNTIF(L36:L43,AN7)","v":0},{"$f":"AO7/(AQ4-AO8)","v":{"$error":"#DIV/0!"}},{"$f":"IF(AP7=0,0,(AP7*((LOG(AP7))/LOG(2))))","v":{"$error":"#DIV/0!"}},null,{"$f":"N7","v":11},{"$f":"COUNTIF(L44:L50,AS7)","v":0},{"$f":"AT7/(AV4-AT8)","v":0},{"$f":"IF(AU7=0,0,(AU7*((LOG(AU7))/LOG(2))))","v":0}]
[11,109,21,123,null,null,null,null,null,null,0,12,null,12,{"$f":"COUNTIF($L$7:$L$500,N8)","v":40},{"$f":"O8/$Q$4","v":0.90909090909090906},{"$f":"IF(P8=0,0,(P8*((LOG(P8))/LOG(2))))","v":-0.12500320340903179},null,null,{"$f":"N8","v":12},{"$f":"COUNTIF(L7:L13,T8)","v":7},null,null,null,{"$f":"N8","v":12},{"$f":"COUNTIF(L14:L21,Y8)","v":6},null,null,null,{"$f":"N8","v":12},{"$f":"COUNTIF(L22:L28,AD8)","v":6},null,null,null,{"$f":"N8","v":12},{"$f":"COUNTIF(L29:L35,AI8)","v":7},null,null,null,{"$f":"N8","v":12},{"$f":"COUNTIF(L36:L43,AN8)","v":8},null,null,null,{"$f":"N8","v":12},{"$f":"COUNTIF(L44:L50,AS8)","v":6}]
[11,211,21,225,null,null,null,null,null,null,0,12,null,21,{"$f":"COUNTIF($L$7:$L$500,N9)","v":1},{"$f":"O9/$Q$4","v":2.2727272727272728E-2},{"$f":"IF(P9=0,0,(P9*((LOG(P9))/LOG(2))))","v":-0.12407799133266585},null,null,{"$f":"N9","v":21},{"$f":"COUNTIF(L7:L13,T9)","v":0},{"$f":"U9/(W4-U8)","v":{"$error":"#DIV/0!"}},{"$f":"IF(V9=0,0,(V9*((LOG(V9))/LOG(2))))","v":{"$error":"#DIV/0!"}},null,{"$f":"N9","v":21},{"$f":"COUNTIF(L14:L21,Y9)","v":1},{"$f":"Z9/(AB4-Z8)","v":0.5},{"$f":"IF(AA9=0,0,(AA9*((LOG(AA9))/LOG(2))))","v":-0.5},null,{"$f":"N9","v":21},{"$f":"COUNTIF(L22:L28,AD9)","v":0},{"$f":"AE9/(AG4-AE8)","v":0},{"$f":"IF(AF9=0,0,(AF9*((LOG(AF9))/LOG(2))))","v":0},null,{"$f":"N9","v":21},{"$f":"COUNTIF(L29:L35,AI9)","v":0},{"$f":"AJ9/(AL4-AJ8)","v":{"$error":"#DIV/0!"}},{"$f":"IF(AK9=0,0,(AK9*((LOG(AK9))/LOG(2))))","v":{"$error":"#DIV/0!"}},null,{"$f":"N9","v":21},{"$f":"COUNTIF(L36:L43,AN9)","v":0},{"$f":"AO9/(AQ4-AO8)","v":{"$error":"#DIV/0!"}},{"$f":"IF(AP9=0,0,(AP9*((LOG(AP9))/LOG(2))))","v":{"$error":"#DIV/0!"}},null,{"$f":"N9","v":21},{"$f":"COUNTIF(L44:L50,AS9)","v":0},{"$f":"AT9/(AV4-AT8)","v":0},{"$f":"IF(AU9=0,0,(AU9*((LOG(AU9))/LOG(2))))","v":0}]
[11,312,21,322,null,null,null,null,null,null,0,12,null,22,{"$f":"COUNTIF($L$7:$L$500,N10)","v":3},{"$f":"O10/$Q$4","v":6.8181818181818177E-2},{"$f":"IF(P10=0,0,(P10*((LOG(P10))/LOG(2))))","v":-0.26416834894882779},null,null,{"$f":"N10","v":22},{"$f":"COUNTIF(L7:L13,T10)","v":0},{"$f":"U10/(W4-U8)","v":{"$error":"#DIV/0!"}},{"$f":"IF(V10=0,0,(V10*((LOG(V10))/LOG(2))))","v":{"$error":"#DIV/0!"}},null,{"$f":"N10","v":22},{"$f":"COUNTIF(L14:L21,Y10)","v":1},{"$f":"Z10/(AB4-Z8)","v":0.5},{"$f":"IF(AA10=0,0,(AA10*((LOG(AA10))/LOG(2))))","v":-0.5},null,{"$f":"N10","v":22},{"$f":"COUNTIF(L22:L28,AD10)","v":1},{"$f":"AE10/(AG4-AE8)","v":1},{"$f":"IF(AF10=0,0,(AF10*((LOG(AF10))/LOG(2))))","v":0},null,{"$f":"N10","v":22},{"$f":"COUNTIF(L29:L35,AI10)","v":0},{"$f":"AJ10/(AL4-AJ8)","v":{"$error":"#DIV/0!"}},{"$f":"IF(AK10=0,0,(AK10*((LOG(AK10))/LOG(2))))","v":{"$error":"#DIV/0!"}},null,{"$f":"N10","v":22},{"$f":"COUNTIF(L36:L43,AN10)","v":0},{"$f":"AO10/(AQ4-AO8)","v":{"$error":"#DIV/0!"}},{"$f":"IF(AP10=0,0,(AP10*((LOG(AP10))/LOG(2))))","v":{"$error":"#DIV/0!"}},null,{"$f":"N10","v":22},{"$f":"COUNTIF(L44:L50,AS10)","v":1},{"$f":"AT10/(AV4-AT8)","v":1},{"$f":"IF(AU10=0,0,(AU10*((LOG(AU10))/LOG(2))))","v":0}]
[11,409,21,422,null,null,null,null,null,null,0,12,null,null,null,null,null,null,null,{"$f":"N11","v":0},{"$f":"COUNTIF(L7:L13,T11)","v":0},{"$f":"U11/(W4-U8)","v":{"$error":"#DIV/0!"}},{"$f":"IF(V11=0,0,(V11*((LOG(V11))/LOG(2))))","v":{"$error":"#DIV/0!"}},null,{"$f":"N11","v":0},{"$f":"COUNTIF(L14:L21,Y11)","v":0},{"$f":"Z11/(AB4-Z8)","v":0},{"$f":"IF(AA11=0,0,(AA11*((LOG(AA11))/LOG(2))))","v":0},null,{"$f":"N11","v":0},{"$f":"COUNTIF(L22:L28,AD11)","v":0},{"$f":"AE11/(AG4-AE8)","v":0},{"$f":"IF(AF11=0,0,(AF11*((LOG(AF11))/LOG(2))))","v":0},null,{"$f":"N11","v":0},{"$f":"COUNTIF(L29:L35,AI11)","v":0},{"$f":"AJ11/(AL4-AJ8)","v":{"$error":"#DIV/0!"}},{"$f":"IF(AK11=0,0,(AK11*((LOG(AK11))/LOG(2))))","v":{"$error":"#DIV/0!"}},null,{"$f":"N11","v":0},{"$f":"COUNTIF(L36:L43,AN11)","v":0},{"$f":"AO11/(AQ4-AO8)","v":{"$error":"#DIV/0!"}},{"$f":"IF(AP11=0,0,(AP11*((LOG(AP11))/LOG(2))))","v":{"$error":"#DIV/0!"}},null,{"$f":"N11","v":0},{"$f":"COUNTIF(L44:L50,AS11)","v":0},{"$f":"AT11/(AV4-AT8)","v":0},{"$f":"IF(AU11=0,0,(AU11*((LOG(AU11))/LOG(2))))","v":0}]
[11,509,21,519,null,null,null,null,null,null,0,12,null,null,null,null,null,null,null,{"$f":"N12","v":0},{"$f":"COUNTIF(L7:L13,T12)","v":0},{"$f":"U12/(W4-U8)","v":{"$error":"#DIV/0!"}},{"$f":"IF(V12=0,0,(V12*((LOG(V12))/LOG(2))))","v":{"$error":"#DIV/0!"}},null,{"$f":"N12","v":0},{"$f":"COUNTIF(L14:L21,Y12)","v":0},{"$f":"Z12/(AB4-Z8)","v":0},{"$f":"IF(AA12=0,0,(AA12*((LOG(AA12))/LOG(2))))","v":0},null,{"$f":"N12","v":0},{"$f":"COUNTIF(L22:L28,AD12)","v":0},{"$f":"AE12/(AG4-AE8)","v":0},{"$f":"IF(AF12=0,0,(AF12*((LOG(AF12))/LOG(2))))","v":0},null,{"$f":"N12","v":0},{"$f":"COUNTIF(L29:L35,AI12)","v":0},{"$f":"AJ12/(AL4-AJ8)","v":{"$error":"#DIV/0!"}},{"$f":"IF(AK12=0,0,(AK12*((LOG(AK12))/LOG(2))))","v":{"$error":"#DIV/0!"}},null,{"$f":"N12","v":0},{"$f":"COUNTIF(L36:L43,AN12)","v":0},{"$f":"AO12/(AQ4-AO8)","v":{"$error":"#DIV/0!"}},{"$f":"IF(AP12=0,0,(AP12*((LOG(AP12))/LOG(2))))","v":{"$error":"#DIV/0!"}},null,{"$f":"N12","v":0},{"$f":"COUNTIF(L44:L50,AS12)","v":0},{"$f":"AT12/(AV4-AT8)","v":0},{"$f":"IF(AU12=0,0,(AU12*((LOG(AU12))/LOG(2))))","v":0}]
[11,613,21,623,null,null,null,null,null,null,0,12,null,null,null,null,null,null,null,{"$f":"N13","v":0},{"$f":"COUNTIF(L7:L13,T13)","v":0},{"$f":"U13/(W4-U8)","v":{"$error":"#DIV/0!"}},{"$f":"IF(V13=0,0,(V13*((LOG(V13))/LOG(2))))","v":{"$error":"#DIV/0!"}},null,{"$f":"N13","v":0},{"$f":"COUNTIF(L14:L21,Y13)","v":0},{"$f":"Z13/(AB4-Z8)","v":0},{"$f":"IF(AA13=0,0,(AA13*((LOG(AA13))/LOG(2))))","v":0},null,{"$f":"N13","v":0},{"$f":"COUNTIF(L22:L28,AD13)","v":0},{"$f":"AE13/(AG4-AE8)","v":0},{"$f":"IF(AF13=0,0,(AF13*((LOG(AF13))/LOG(2))))","v":0},null,{"$f":"N13","v":0},{"$f":"COUNTIF(L29:L35,AI13)","v":0},{"$f":"AJ13/(AL4-AJ8)","v":{"$error":"#DIV/0!"}},{"$f":"IF(AK13=0,0,(AK13*((LOG(AK13))/LOG(2))))","v":{"$error":"#DIV/0!"}},null,{"$f":"N13","v":0},{"$f":"COUNTIF(L36:L43,AN13)","v":0},{"$f":"AO13/(AQ4-AO8)","v":{"$error":"#DIV/0!"}},{"$f":"IF(AP13=0,0,(AP13*((LOG(AP13))/LOG(2))))","v":{"$error":"#DIV/0!"}},null,{"$f":"N13","v":0},{"$f":"COUNTIF(L44:L50,AS13)","v":0},{"$f":"AT13/(AV4-AT8)","v":0},{"$f":"IF(AU13=0,0,(AU13*((LOG(AU13))/LOG(2))))","v":0}]
[22,722,23,738,null,null,null,null,null,null,0,22,null,null,null,null,null,null,null,{"$f":"N14","v":0},{"$f":"COUNTIF(L7:L13,T14)","v":0},{"$f":"U14/(W4-U8)","v":{"$error":"#DIV/0!"}},{"$f":"IF(V14=0,0,(V14*((LOG(V14))/LOG(2))))","v":{"$error":"#DIV/0!"}},null,{"$f":"N14","v":0},{"$f":"COUNTIF(L14:L21,Y14)","v":0},{"$f":"Z14/(AB4-Z8)","v":0},{"$f":"IF(AA14=0,0,(AA14*((LOG(AA14))/LOG(2))))","v":0},null,{"$f":"N14","v":0},{"$f":"COUNTIF(L22:L28,AD14)","v":0},{"$f":"AE14/(AG4-AE8)","v":0},{"$f":"IF(AF14=0,0,(AF14*((LOG(AF14))/LOG(2))))","v":0},null,{"$f":"N14","v":0},{"$f":"COUNTIF(L29:L35,AI14)","v":0},{"$f":"AJ14/(AL4-AJ8)","v":{"$error":"#DIV/0!"}},{"$f":"IF(AK14=0,0,(AK14*((LOG(AK14))/LOG(2))))","v":{"$error":"#DIV/0!"}},null,{"$f":"N14","v":0},{"$f":"COUNTIF(L36:L43,AN14)","v":0},{"$f":"AO14/(AQ4-AO8)","v":{"$error":"#DIV/0!"}},{"$f":"IF(AP14=0,0,(AP14*((LOG(AP14))/LOG(2))))","v":{"$error":"#DIV/0!"}},null,{"$f":"N14","v":0},{"$f":"COUNTIF(L44:L50,AS14)","v":0},{"$f":"AT14/(AV4-AT8)","v":0},{"$f":"IF(AU14=0,0,(AU14*((LOG(AU14))/LOG(2))))","v":0}]
[11,836,21,850,null,null,null,null,null,null,0,12,null,null,null,{"$f":"SUM(P7:P14)","v":1},{"$f":"-SUM(Q7:Q14)","v":0.51324954369052544},null,null,null,null,{"$f":"SUM(V7:V14)","v":{"$error":"#DIV/0!"}},{"$f":"-SUM(W7:W14)","v":{"$error":"#DIV/0!"}},null,null,null,{"$f":"SUM(AA7:AA14)","v":1},{"$f":"-SUM(AB7:AB14)","v":1},null,null,null,{"$f":"SUM(AF7:AF14)","v":1},{"$f":"-SUM(AG7:AG14)","v":0},null,null,null,{"$f":"SUM(AK7:AK14)","v":{"$error":"#DIV/0!"}},{"$f":"-SUM(AL7:AL14)","v":{"$error":"#DIV/0!"}},null,null,null,{"$f":"SUM(AP7:AP14)","v":{"$error":"#DIV/0!"}},{"$f":"-SUM(AQ7:AQ14)","v":{"$error":"#DIV/0!"}},null,null,null,{"$f":"SUM(AU7:AU14)","v":1},{"$f":"-SUM(AV7:AV14)","v":0}]
[11,937,21,950,null,null,null,null,null,null,0,12,null,null,null,"U=",{"$f":"Q15/(LOG(Q4)/LOG(2))","v":9.4011534449557815E-2},null,null,null,null,"U1=",{"$f":"W15/(LOG(W4)/LOG(2))","v":{"$error":"#DIV/0!"}},null,null,null,"U2=",{"$f":"AB15/(LOG(AB4)/LOG(2))","v":0.33333333333333331},null,null,null,"U3=",{"$f":"AG15/(LOG(AG4)/LOG(2))","v":0},null,null,null,"U4=",{"$f":"AL15/(LOG(AL4)/LOG(2))","v":{"$error":"#DIV/0!"}},null,null,null,"U5=",{"$f":"AQ15/(LOG(AQ4)/LOG(2))","v":{"$error":"#DIV/0!"}},null,null,null,"U6=",{"$f":"AV15/(LOG(AV4)/LOG(2))","v":0}]
[11,1038,21,1051,null,null,null,null,null,null,0,12]
[11,1138,21,1151,null,null,null,null,null,null,0,12]
[11,1240,21,1253,null,null,null,null,null,null,0,12,null,"Total Target Seq"]
[22,1355,14,1373,null,null,null,null,null,null,0,21,null,{"$f":"COUNTIF(L7:L50,G3)","v":40},null,7,8,7,7,8,7]
[11,1471,21,1481,null,null,null,null,null,null,0,12,null,null,null,"% of reinforcement given in 6 equal intervals based on number of trials "]
[11,1570,21,1580,null,null,null,null,null,null,0,12,null,null,null,"%_1","%_2","%_3","%_4","%_5","%_6"]
[11,1668,21,1682,null,null,null,null,null,null,0,12,null,null,"target sequence",{"$f":"$G$3","v":12},{"$f":"$G$3","v":12},{"$f":"$G$3","v":12},{"$f":"$G$3","v":12},{"$f":"$G$3","v":12},{"$f":"$G$3","v":12}]
[11,1770,21,1783,null,null,null,null,null,null,0,12,null,null,"total reinforcement",{"$f":"U8","v":7},{"$f":"Z8","v":6},{"$f":"AE8","v":6},{"$f":"AJ8","v":7},{"$f":"AO8","v":8},{"$f":"AT8","v":6}]
[22,1886,23,1898,null,null,null,null,null,null,0,22,null,null,"% target"]
[11,1997,21,2010,null,null,null,null,null,null,0,12,null,null,"CCRF"]
[11,2098,21,2112,null,null,null,null,null,null,0,12,null,null,"% CCRf"]
[11,2200,21,2214,null,null,null,null,null,null,0,12,null,null,"average response rate",{"$f":"D13/P20","v":89},{"$f":"(D21-D13)/Q20","v":107.25},{"$f":"(D28-D21)/R20","v":104.71428571428571},{"$f":"(D35-D28)/S20","v":101.14285714285714},{"$f":"(D43-D35)/T20","v":99.75},{"$f":"(D50-D43)/U20","v":104.57142857142857}]
[11,2305,21,2317,null,null,null,null,null,null,0,12]
[11,2405,21,2420,null,null,null,null,null,null,0,12]
[11,2508,21,2517,null,null,null,null,null,null,0,12]
[11,2607,21,2622,null,null,null,null,null,null,0,12]
[11,2711,21,2723,null,null,null,null,null,null,0,12]
[11,2811,21,2823,null,null,null,null,null,null,0,12]
[11,2910,21,2922,null,null,null,null,null,null,0,12]
[11,3009,21,3019,null,null,null,null,null,null,0,12]
[11,3105,21,3118,null,null,null,null,null,null,0,12]
[11,3207,21,3219,null,null,null,null,null,null,0,12]
[11,3306,21,3318,null,null,null,null,null,null,0,12]
[11,3406,21,3418,null,null,null,null,null,null,0,12]
[11,3505,21,3517,null,null,null,null,null,null,0,12]
[11,3604,21,3616,null,null,null,null,null,null,0,12]
[11,3708,21,3720,null,null,null,null,null,null,0,12]
[11,3810,21,3820,null,null,null,null,null,null,0,12]
[11,3909,21,3922,null,null,null,null,null,null,0,12]
[11,4014,21,4025,null,null,null,null,null,null,0,12]
[11,4114,21,4124,null,null,null,null,null,null,0,12]
[22,4224,23,4237,null,null,null,null,null,null,0,22]
[11,4337,21,4350,null,null,null,null,null,null,0,12]
[11,4438,21,4452,null,null,null,null,null,null,1,12]

{"sheet":"!N115810.091","index":29,"n_rows":46,"n_cols":48,"rows_kept":46,"cut":false,"hidden":false,"merged":[[4,39,4,42],[5,39,5,40],[4,44,4,47],[5,44,5,45],[4,24,4,27],[5,24,5,25],[4,29,4,32],[5,29,5,30],[4,34,4,37],[5,34,5,35],[1,1,1,2],[5,13,5,14],[18,13,18,14],[19,13,19,14],[4,19,4,22],[5,19,5,20]]}
["Report for:!N115810.091"]
["Date:","<date>"]
["Hen:","<hen>",null,null,null,"Correct Sequence",{"$f":"Start!J2","v":12},null,null,null,null,null,null,null,null,"Total Sequences in Data",{"$f":"4994-COUNTBLANK(L7:L5000)","v":40},null,null,null,null,"Total Sequences in Block Data",{"$f":"COUNTA(L7:L13)","v":7},null,null,null,"Total Sequences in Block Data",{"$f":"COUNTA(L14:L19)","v":6},null,null,null,"Total Sequences in Block Data",{"$f":"COUNTA(L20:L26)","v":7},null,null,null,"Total Sequences in Block Data",{"$f":"COUNTA(L27:L33)","v":7},null,null,null,"Total Sequences in Block Data",{"$f":"COUNTA(L34:L39)","v":6},null,null,null,"Total Sequences in Block Data",{"$f":"COUNTA(L40:L46)","v":7}]
[null,null,null,null,null,null,null,null,null,null,null,null,null,null,null,"Total Sequences in Summary",{"$f":"SUM(O7:O14)","v":40},null,null,null,null,"Total Sequences in Block Summary",{"$f":"SUM(U7:U14)","v":7},null,null,null,"Total Sequences in Block Summary",{"$f":"SUM(Z7:Z14)","v":6},null,null,null,"Total Sequences in Block Summary",{"$f":"SUM(AE7:AE14)","v":7},null,null,null,"Total Sequences in Block Summary",{"$f":"SUM(AJ7:AJ14)","v":7},null,null,null,"Total Sequences in Block Summary",{"$f":"SUM(AO7:AO14)","v":6},null,null,null,"Total Sequences in Block Summary",{"$f":"SUM(AT7:AT14)","v":7}]
[null,null,null,null,null,null,null,null,null,null,null,null,null,null,null,null,null,null,null,"Block 1",null,null,null,null,"Block 2",null,null,null,null,"Block 3",null,null,null,null,"Block 4",null,null,null,null,"Block 5",null,null,null,null,"Block 6"]
["Sequence\nComponent\n1","Time\n1","Sequence\nComponent\n2","Time\n2","Sequence\nComponent\n3","Time\n3","Sequence\nComponent\n4","Time\n4","Sequence\nComponent\n5","Time\n5","Correct?\n0=No 1=Yes","Sequence",null,"Frequency",null,"Relative Frequency","Variability",null,null,"Frequency",null,"Relative Frequency","Variability",null,"Frequency",null,"Relative Frequency","Variability",null,"Frequency",null,"Relative Frequency","Variability",null,"Frequency",null,"Relative Frequency","Variability",null,"Frequency",null,"Relative Frequency","Variability",null,"Frequency",null,"Relative Frequency","Variability"]
[11,15,21,25,null,null,null,null,null,null,0,12,null,11,{"$f":"COUNTIF($L$7:$L$500,N7)","v":0},{"$f":"O7/$Q$4","v":0},{"$f":"IF(P7=0,0,(P7*((LOG(P7))/LOG(2))))","v":0},null,null,{"$f":"N7","v":11},{"$f":"COUNTIF(L7:L13,T7)","v":0},{"$f":"U7/(W4-U8)","v":{"$error":"#DIV/0!"}},{"$f":"IF(V7=0,0,(V7*((LOG(V7))/LOG(2))))","v":{"$error":"#DIV/0!"}},null,{"$f":"N7","v":11},{"$f":"COUNTIF(L14:L19,Y7)","v":0},{"$f":"Z7/(AB4-Z8)","v":{"$error":"#DIV/0!"}},{"$f":"IF(AA7=0,0,(AA7*((LOG(AA7))/LOG(2))))","v":{"$error":"#DIV/0!"}},null,{"$f":"N7","v":11},{"$f":"COUNTIF(L20:L26,AD7)","v":0},{"$f":"AE7/(AG4-AE8)","v":{"$error":"#DIV/0!"}},{"$f":"IF(AF7=0,0,(AF7*((LOG(AF7))/LOG(2))))","v":{"$error":"#DIV/0!"}},null,{"$f":"N7","v":11},{"$f":"COUNTIF(L27:L33,AI7)","v":0},{"$f":"AJ7/(AL4-AJ8)","v":{"$error":"#DIV/0!"}},{"$f":"IF(AK7=0,0,(AK7*((LOG(AK7))/LOG(2))))","v":{"$error":"#DIV/0!"}},null,{"$f":"N7","v":11},{"$f":"COUNTIF(L34:L39,AN7)","v":0},{"$f":"AO7/(AQ4-AO8)","v":{"$error":"#DIV/0!"}},{"$f":"IF(AP7=0,0,(AP7*((LOG(AP7))/LOG(2))))","v":{"$error":"#DIV/0!"}},null,{"$f":"N7","v":11},{"$f":"COUNTIF(L40:L46,AS7)","v":0},{"$f":"AT7/(AV4-AT8)","v":{"$error":"#DIV/0!"}},{"$f":"IF(AU7=0,0,(AU7*((LOG(AU7))/LOG(2))))","v":{"$error":"#DIV/0!"}}]
[11,115,21,137,null,null,null,null,null,null,0,12,null,12,{"$f":"COUNTIF($L$7:$L$500,N8)","v":40},{"$f":"O8/$Q$4","v":1},{"$f":"IF(P8=0,0,(P8*((LOG(P8))/LOG(2))))","v":0},null,null,{"$f":"N8","v":12},{"$f":"COUNTIF(L7:L13,T8)","v":7},null,null,null,{"$f":"N8","v":12},{"$f":"COUNTIF(L14:L19,Y8)","v":6},null,null,null,{"$f":"N8","v":12},{"$f":"COUNTIF(L20:L26,AD8)","v":7},null,null,null,{"$f":"N8","v":12},{"$f":"COUNTIF(L27:L33,AI8)","v":7},null,null,null,{"$f":"N8","v":12},{"$f":"COUNTIF(L34:L39,AN8)","v":6},null,null,null,{"$f":"N8","v":12},{"$f":"COUNTIF(L40:L46,AS8)","v":7}]
[11,224,21,237,null,null,null,null,null,null,0,12,null,21,{"$f":"COUNTIF($L$7:$L$500,N9)","v":0},{"$f":"O9/$Q$4","v":0},{"$f":"IF(P9=0,0,(P9*((LOG(P9))/LOG(2))))","v":0},null,null,{"$f":"N9","v":21},{"$f":"COUNTIF(L7:L13,T9)","v":0},{"$f":"U9/(W4-U8)","v":{"$error":"#DIV/0!"}},{"$f":"IF(V9=0,0,(V9*((LOG(V9))/LOG(2))))","v":{"$error":"#DIV/0!"}},null,{"$f":"N9","v":21},{"$f":"COUNTIF(L14:L19,Y9)","v":0},{"$f":"Z9/(AB4-Z8)","v":{"$error":"#DIV/0!"}},{"$f":"IF(AA9=0,0,(AA9*((LOG(AA9))/LOG(2))))","v":{"$error":"#DIV/0!"}},null,{"$f":"N9","v":21},{"$f":"COUNTIF(L20:L26,AD9)","v":0},{"$f":"AE9/(AG4-AE8)","v":{"$error":"#DIV/0!"}},{"$f":"IF(AF9=0,0,(AF9*((LOG(AF9))/LOG(2))))","v":{"$error":"#DIV/0!"}},null,{"$f":"N9","v":21},{"$f":"COUNTIF(L27:L33,AI9)","v":0},{"$f":"AJ9/(AL4-AJ8)","v":{"$error":"#DIV/0!"}},{"$f":"IF(AK9=0,0,(AK9*((LOG(AK9))/LOG(2))))","v":{"$error":"#DIV/0!"}},null,{"$f":"N9","v":21},{"$f":"COUNTIF(L34:L39,AN9)","v":0},{"$f":"AO9/(AQ4-AO8)","v":{"$error":"#DIV/0!"}},{"$f":"IF(AP9=0,0,(AP9*((LOG(AP9))/LOG(2))))","v":{"$error":"#DIV/0!"}},null,{"$f":"N9","v":21},{"$f":"COUNTIF(L40:L46,AS9)","v":0},{"$f":"AT9/(AV4-AT8)","v":{"$error":"#DIV/0!"}},{"$f":"IF(AU9=0,0,(AU9*((LOG(AU9))/LOG(2))))","v":{"$error":"#DIV/0!"}}]
[11,326,21,336,null,null,null,null,null,null,0,12,null,22,{"$f":"COUNTIF($L$7:$L$500,N10)","v":0},{"$f":"O10/$Q$4","v":0},{"$f":"IF(P10=0,0,(P10*((LOG(P10))/LOG(2))))","v":0},null,null,{"$f":"N10","v":22},{"$f":"COUNTIF(L7:L13,T10)","v":0},{"$f":"U10/(W4-U8)","v":{"$error":"#DIV/0!"}},{"$f":"IF(V10=0,0,(V10*((LOG(V10))/LOG(2))))","v":{"$error":"#DIV/0!"}},null,{"$f":"N10","v":22},{"$f":"COUNTIF(L14:L19,Y10)","v":0},{"$f":"Z10/(AB4-Z8)","v":{"$error":"#DIV/0!"}},{"$f":"IF(AA10=0,0,(AA10*((LOG(AA10))/LOG(2))))","v":{"$error":"#DIV/0!"}},null,{"$f":"N10","v":22},{"$f":"COUNTIF(L20:L26,AD10)","v":0},{"$f":"AE10/(AG4-AE8)","v":{"$error":"#DIV/0!"}},{"$f":"IF(AF10=0,0,(AF10*((LOG(AF10))/LOG(2))))","v":{"$error":"#DIV/0!"}},null,{"$f":"N10","v":22},{"$f":"COUNTIF(L27:L33,AI10)","v":0},{"$f":"AJ10/(AL4-AJ8)","v":{"$error":"#DIV/0!"}},{"$f":"IF(AK10=0,0,(AK10*((LOG(AK10))/LOG(2))))","v":{"$error":"#DIV/0!"}},null,{"$f":"N10","v":22},{"$f":"COUNTIF(L34:L39,AN10)","v":0},{"$f":"AO10/(AQ4-AO8)","v":{"$error":"#DIV/0!"}},{"$f":"IF(AP10=0,0,(AP10*((LOG(AP10))/LOG(2))))","v":{"$error":"#DIV/0!"}},null,{"$f":"N10","v":22},{"$f":"COUNTIF(L40:L46,AS10)","v":0},{"$f":"AT10/(AV4-AT8)","v":{"$error":"#DIV/0!"}},{"$f":"IF(AU10=0,0,(AU10*((LOG(AU10))/LOG(2))))","v":{"$error":"#DIV/0!"}}]
[11,422,21,435,null,null,null,null,null,null,0,12,null,null,null,null,null,null,null,{"$f":"N11","v":0},{"$f":"COUNTIF(L7:L13,T11)","v":0},{"$f":"U11/(W4-U8)","v":{"$error":"#DIV/0!"}},{"$f":"IF(V11=0,0,(V11*((LOG(V11))/LOG(2))))","v":{"$error":"#DIV/0!"}},null,{"$f":"N11","v":0},{"$f":"COUNTIF(L14:L19,Y11)","v":0},{"$f":"Z11/(AB4-Z8)","v":{"$error":"#DIV/0!"}},{"$f":"IF(AA11=0,0,(AA11*((LOG(AA11))/LOG(2))))","v":{"$error":"#DIV/0!"}},null,{"$f":"N11","v":0},{"$f":"COUNTIF(L20:L26,AD11)","v":0},{"$f":"AE11/(AG4-AE8)","v":{"$error":"#DIV/0!"}},{"$f":"IF(AF11=0,0,(AF11*((LOG(AF11))/LOG(2))))","v":{"$error":"#DIV/0!"}},null,{"$f":"N11","v":0},{"$f":"COUNTIF(L27:L33,AI11)","v":0},{"$f":"AJ11/(AL4-AJ8)","v":{"$error":"#DIV/0!"}},{"$f":"IF(AK11=0,0,(AK11*((LOG(AK11))/LOG(2))))","v":{"$error":"#DIV/0!"}},null,{"$f":"N11","v":0},{"$f":"COUNTIF(L34:L39,AN11)","v":0},{"$f":"AO11/(AQ4-AO8)","v":{"$error":"#DIV/0!"}},{"$f":"IF(AP11=0,0,(AP11*((LOG(AP11))/LOG(2))))","v":{"$error":"#DIV/0!"}},null,{"$f":"N11","v":0},{"$f":"COUNTIF(L40:L46,AS11)","v":0},{"$f":"AT11/(AV4-AT8)","v":{"$error":"#DIV/0!"}},{"$f":"IF(AU11=0,0,(AU11*((LOG(AU11))/LOG(2))))","v":{"$error":"#DIV/0!"}}]
[11,522,21,535,null,null,null,null,null,null,0,12,null,null,null,null,null,null,null,{"$f":"N12","v":0},{"$f":"COUNTIF(L7:L13,T12)","v":0},{"$f":"U12/(W4-U8)","v":{"$error":"#DIV/0!"}},{"$f":"IF(V12=0,0,(V12*((LOG(V12))/LOG(2))))","v":{"$error":"#DIV/0!"}},null,{"$f":"N12","v":0},{"$f":"COUNTIF(L14:L19,Y12)","v":0},{"$f":"Z12/(AB4-Z8)","v":{"$error":"#DIV/0!"}},{"$f":"IF(AA12=0,0,(AA12*((LOG(AA12))/LOG(2))))","v":{"$error":"#DIV/0!"}},null,{"$f":"N12","v":0},{"$f":"COUNTIF(L20:L26,AD12)","v":0},{"$f":"AE12/(AG4-AE8)","v":{"$error":"#DIV/0!"}},{"$f":"IF(AF12=0,0,(AF12*((LOG(AF12))/LOG(2))))","v":{"$error":"#DIV/0!"}},null,{"$f":"N12","v":0},{"$f":"COUNTIF(L27:L33,AI12)","v":0},{"$f":"AJ12/(AL4-AJ8)","v":{"$error":"#DIV/0!"}},{"$f":"IF(AK12=0,0,(AK12*((LOG(AK12))/LOG(2))))","v":{"$error":"#DIV/0!"}},null,{"$f":"N12","v":0},{"$f":"COUNTIF(L34:L39,AN12)","v":0},{"$f":"AO12/(AQ4-AO8)","v":{"$error":"#DIV/0!"}},{"$f":"IF(AP12=0,0,(AP12*((LOG(AP12))/LOG(2))))","v":{"$error":"#DIV/0!"}},null,{"$f":"N12","v":0},{"$f":"COUNTIF(L40:L46,AS12)","v":0},{"$f":"AT12/(AV4-AT8)","v":{"$error":"#DIV/0!"}},{"$f":"IF(AU12=0,0,(AU12*((LOG(AU12))/LOG(2))))","v":{"$error":"#DIV/0!"}}]
[11,622,21,634,null,null,null,null,null,null,0,12,null,null,null,null,null,null,null,{"$f":"N13","v":0},{"$f":"COUNTIF(L7:L13,T13)","v":0},{"$f":"U13/(W4-U8)","v":{"$error":"#DIV/0!"}},{"$f":"IF(V13=0,0,(V13*((LOG(V13))/LOG(2))))","v":{"$error":"#DIV/0!"}},null,{"$f":"N13","v":0},{"$f":"COUNTIF(L14:L19,Y13)","v":0},{"$f":"Z13/(AB4-Z8)","v":{"$error":"#DIV/0!"}},{"$f":"IF(AA13=0,0,(AA13*((LOG(AA13))/LOG(2))))","v":{"$error":"#DIV/0!"}},null,{"$f":"N13","v":0},{"$f":"COUNTIF(L20:L26,AD13)","v":0},{"$f":"AE13/(AG4-AE8)","v":{"$error":"#DIV/0!"}},{"$f":"IF(AF13=0,0,(AF13*((LOG(AF13))/LOG(2))))","v":{"$error":"#DIV/0!"}},null,{"$f":"N13","v":0},{"$f":"COUNTIF(L27:L33,AI13)","v":0},{"$f":"AJ13/(AL4-AJ8)","v":{"$error":"#DIV/0!"}},{"$f":"IF(AK13=0,0,(AK13*((LOG(AK13))/LOG(2))))","v":{"$error":"#DIV/0!"}},null,{"$f":"N13","v":0},{"$f":"COUNTIF(L34:L39,AN13)","v":0},{"$f":"AO13/(AQ4-AO8)","v":{"$error":"#DIV/0!"}},{"$f":"IF(AP13=0,0,(AP13*((LOG(AP13))/LOG(2))))","v":{"$error":"#DIV/0!"}},null,{"$f":"N13","v":0},{"$f":"COUNTIF(L40:L46,AS13)","v":0},{"$f":"AT13/(AV4-AT8)","v":{"$error":"#DIV/0!"}},{"$f":"IF(AU13=0,0,(AU13*((LOG(AU13))/LOG(2))))","v":{"$error":"#DIV/0!"}}]
[11,726,21,739,null,null,null,null,null,null,0,12,null,null,null,null,null,null,null,{"$f":"N14","v":0},{"$f":"COUNTIF(L7:L13,T14)","v":0},{"$f":"U14/(W4-U8)","v":{"$error":"#DIV/0!"}},{"$f":"IF(V14=0,0,(V14*((LOG(V14))/LOG(2))))","v":{"$error":"#DIV/0!"}},null,{"$f":"N14","v":0},{"$f":"COUNTIF(L14:L19,Y14)","v":0},{"$f":"Z14/(AB4-Z8)","v":{"$error":"#DIV/0!"}},{"$f":"IF(AA14=0,0,(AA14*((LOG(AA14))/LOG(2))))","v":{"$error":"#DIV/0!"}},null,{"$f":"N14","v":0},{"$f":"COUNTIF(L20:L26,AD14)","v":0},{"$f":"AE14/(AG4-AE8)","v":{"$error":"#DIV/0!"}},{"$f":"IF(AF14=0,0,(AF14*((LOG(AF14))/LOG(2))))","v":{"$error":"#DIV/0!"}},null,{"$f":"N14","v":0},{"$f":"COUNTIF(L27:L33,AI14)","v":0},{"$f":"AJ14/(AL4-AJ8)","v":{"$error":"#DIV/0!"}},{"$f":"IF(AK14=0,0,(AK14*((LOG(AK14))/LOG(2))))","v":{"$error":"#DIV/0!"}},null,{"$f":"N14","v":0},{"$f":"COUNTIF(L34:L39,AN14)","v":0},{"$f":"AO14/(AQ4-AO8)","v":{"$error":"#DIV/0!"}},{"$f":"IF(AP14=0,0,(AP14*((LOG(AP14))/LOG(2))))","v":{"$error":"#DIV/0!"}},null,{"$f":"N14","v":0},{"$f":"COUNTIF(L40:L46,AS14)","v":0},{"$f":"AT14/(AV4-AT8)","v":{"$error":"#DIV/0!"}},{"$f":"IF(AU14=0,0,(AU14*((LOG(AU14))/LOG(2))))","v":{"$error":"#DIV/0!"}}]
[11,830,21,842,null,null,null,null,null,null,0,12,null,null,null,{"$f":"SUM(P7:P14)","v":1},{"$f":"-SUM(Q7:Q14)","v":0},null,null,null,null,{"$f":"SUM(V7:V14)","v":{"$error":"#DIV/0!"}},{"$f":"-SUM(W7:W14)","v":{"$error":"#DIV/0!"}},null,null,null,{"$f":"SUM(AA7:AA14)","v":{"$error":"#DIV/0!"}},{"$f":"-SUM(AB7:AB14)","v":{"$error":"#DIV/0!"}},null,null,null,{"$f":"SUM(AF7:AF14)","v":{"$error":"#DIV/0!"}},{"$f":"-SUM(AG7:AG14)","v":{"$error":"#DIV/0!"}},null,null,null,{"$f":"SUM(AK7:AK14)","v":{"$error":"#DIV/0!"}},{"$f":"-SUM(AL7:AL14)","v":{"$error":"#DIV/0!"}},null,null,null,{"$f":"SUM(AP7:AP14)","v":{"$error":"#DIV/0!"}},{"$f":"-SUM(AQ7:AQ14)","v":{"$error":"#DIV/0!"}},null,null,null,{"$f":"SUM(AU7:AU14)","v":{"$error":"#DIV/0!"}},{"$f":"-SUM(AV7:AV14)","v":{"$error":"#DIV/0!"}}]
[11,930,21,943,null,null,null,null,null,null,0,12,null,null,null,"U=",{"$f":"Q15/(LOG(Q4)/LOG(2))","v":0},null,null,null,null,"U1=",{"$f":"W15/(LOG(W4)/LOG(2))","v":{"$error":"#DIV/0!"}},null,null,null,"U2=",{"$f":"AB15/(LOG(AB4)/LOG(2))","v":{"$error":"#DIV/0!"}},null,null,null,"U3=",{"$f":"AG15/(LOG(AG4)/LOG(2))","v":{"$error":"#DIV/0!"}},null,null,null,"U4=",{"$f":"AL15/(LOG(AL4)/LOG(2))","v":{"$error":"#DIV/0!"}},null,null,null,"U5=",{"$f":"AQ15/(LOG(AQ4)/LOG(2))","v":{"$error":"#DIV/0!"}},null,null,null,"U6=",{"$f":"AV15/(LOG(AV4)/LOG(2))","v":{"$error":"#DIV/0!"}}]
[11,1029,21,1042,null,null,null,null,null,null,0,12]
[11,1129,21,1142,null,null,null,null,null,null,0,12]
[11,1230,21,1243,null,null,null,null,null,null,0,12,null,"Total Target Seq"]
[11,1333,21,1346,null,null,null,null,null,null,0,12,null,{"$f":"COUNTIF(L7:L46,G3)","v":40},null,7,6,7,7,6,7]
[11,1435,21,1449,null,null,null,null,null,null,0,12,null,null,null,"% of reinforcement given in 6 equal intervals based on number of trials "]
[11,1536,21,1563,null,null,null,null,null,null,0,12,null,null,null,"%_1","%_2","%_3","%_4","%_5","%_6"]
[11,1654,21,1663,null,null,null,null,null,null,0,12,null,null,"target sequence",{"$f":"$G$3","v":12},{"$f":"$G$3","v":12},{"$f":"$G$3","v":12},{"$f":"$G$3","v":12},{"$f":"$G$3","v":12},{"$f":"$G$3","v":12}]
[11,1751,21,1765,null,null,null,null,null,null,0,12,null,null,"total reinforcement",{"$f":"U8","v":7},{"$f":"Z8","v":6},{"$f":"AE8","v":7},{"$f":"AJ8","v":7},{"$f":"AO8","v":6},{"$f":"AT8","v":7}]
[11,1856,21,1869,null,null,null,null,null,null,0,12,null,null,"% target"]
[11,1958,21,1984,null,null,null,null,null,null,0,12,null,null,"CCRF"]
[11,2073,21,2086,null,null,null,null,null,null,0,12,null,null,"% CCRf"]
[11,2173,21,2187,null,null,null,null,null,null,0,12,null,null,"average response rate",{"$f":"D13/P20","v":90.571428571428569},{"$f":"(D19-D13)/Q20","v":101.5},{"$f":"(D26-D19)/R20","v":105.85714285714286},{"$f":"(D33-D26)/S20","v":108.85714285714286},{"$f":"(D39-D33)/T20","v":99.5},{"$f":"(D46-D39)/U20","v":101.28571428571429}]
[11,2275,21,2299,null,null,null,null,null,null,0,12]
[11,2387,21,2400,null,null,null,null,null,null,0,12]
[11,2488,21,2500,null,null,null,null,null,null,0,12]
[11,2587,21,2601,null,null,null,null,null,null,0,12]
[11,2692,21,2746,null,null,null,null,null,null,0,12]
[11,2840,21,2848,null,null,null,null,null,null,0,12]
[11,2938,21,2947,null,null,null,null,null,null,0,12]
[11,3035,21,3047,null,null,null,null,null,null,0,12]
[11,3136,21,3146,null,null,null,null,null,null,0,12]
[11,3234,21,3246,null,null,null,null,null,null,0,12]
[11,3334,21,3343,null,null,null,null,null,null,0,12]
[11,3431,21,3442,null,null,null,null,null,null,0,12]
[11,3533,21,3545,null,null,null,null,null,null,0,12]
[11,3632,21,3643,null,null,null,null,null,null,0,12]
[11,3736,21,3748,null,null,null,null,null,null,0,12]
[11,3835,21,3847,null,null,null,null,null,null,0,12]
[11,3940,21,3951,null,null,null,null,null,null,0,12]
[11,4038,21,4052,null,null,null,null,null,null,1,12]

{"sheet":"!N116750.091","index":30,"n_rows":48,"n_cols":48,"rows_kept":48,"cut":false,"hidden":false,"merged":[[4,39,4,42],[5,39,5,40],[4,44,4,47],[5,44,5,45],[4,24,4,27],[5,24,5,25],[4,29,4,32],[5,29,5,30],[4,34,4,37],[5,34,5,35],[1,1,1,2],[5,13,5,14],[18,13,18,14],[19,13,19,14],[4,19,4,22],[5,19,5,20]]}
["Report for:!N116750.091"]
["Date:","<date>"]
["Hen:","<hen>",null,null,null,"Correct Sequence",{"$f":"Start!J2","v":12},null,null,null,null,null,null,null,null,"Total Sequences in Data",{"$f":"4994-COUNTBLANK(L7:L5000)","v":42},null,null,null,null,"Total Sequences in Block Data",{"$f":"COUNTA(L7:L13)","v":7},null,null,null,"Total Sequences in Block Data",{"$f":"COUNTA(L14:L20)","v":7},null,null,null,"Total Sequences in Block Data",{"$f":"COUNTA(L21:L27)","v":7},null,null,null,"Total Sequences in Block Data",{"$f":"COUNTA(L28:L34)","v":7},null,null,null,"Total Sequences in Block Data",{"$f":"COUNTA(L35:L41)","v":7},null,null,null,"Total Sequences in Block Data",{"$f":"COUNTA(L42:L48)","v":7}]
[null,null,null,null,null,null,null,null,null,null,null,null,null,null,null,"Total Sequences in Summary",{"$f":"SUM(O7:O14)","v":42},null,null,null,null,"Total Sequences in Block Summary",{"$f":"SUM(U7:U14)","v":7},null,null,null,"Total Sequences in Block Summary",{"$f":"SUM(Z7:Z14)","v":7},null,null,null,"Total Sequences in Block Summary",{"$f":"SUM(AE7:AE14)","v":7},null,null,null,"Total Sequences in Block Summary",{"$f":"SUM(AJ7:AJ14)","v":7},null,null,null,"Total Sequences in Block Summary",{"$f":"SUM(AO7:AO14)","v":7},null,null,null,"Total Sequences in Block Summary",{"$f":"SUM(AT7:AT14)","v":7}]
[null,null,null,null,null,null,null,null,null,null,null,null,null,null,null,null,null,null,null,"Block 1",null,null,null,null,"Block 2",null,null,null,null,"Block 3",null,null,null,null,"Block 4",null,null,null,null,"Block 5",null,null,null,null,"Block 6"]
["Sequence\nComponent\n1","Time\n1","Sequence\nComponent\n2","Time\n2","Sequence\nComponent\n3","Time\n3","Sequence\nComponent\n4","Time\n4","Sequence\nComponent\n5","Time\n5","Correct?\n0=No 1=Yes","Sequence",null,"Frequency",null,"Relative Frequency","Variability",null,null,"Frequency",null,"Relative Frequency","Variability",null,"Frequency",null,"Relative Frequency","Variability",null,"Frequency",null,"Relative Frequency","Variability",null,"Frequency",null,"Relative Frequency","Variability",null,"Frequency",null,"Relative Frequency","Variability",null,"Frequency",null,"Relative Frequency","Variability"]
[22,26,23,39,null,null,null,null,null,null,0,22,null,11,{"$f":"COUNTIF($L$7:$L$500,N7)","v":1},{"$f":"O7/$Q$4","v":2.3809523809523808E-2},{"$f":"IF(P7=0,0,(P7*((LOG(P7))/LOG(2))))","v":-0.12838851006616095},null,null,{"$f":"N7","v":11},{"$f":"COUNTIF(L7:L13,T7)","v":0},{"$f":"U7/(W4-U8)","v":0},{"$f":"IF(V7=0,0,(V7*((LOG(V7))/LOG(2))))","v":0},null,{"$f":"N7","v":11},{"$f":"COUNTIF(L14:L20,Y7)","v":0},{"$f":"Z7/(AB4-Z8)","v":{"$error":"#DIV/0!"}},{"$f":"IF(AA7=0,0,(AA7*((LOG(AA7))/LOG(2))))","v":{"$error":"#DIV/0!"}},null,{"$f":"N7","v":11},{"$f":"COUNTIF(L21:L27,AD7)","v":0},{"$f":"AE7/(AG4-AE8)","v":{"$error":"#DIV/0!"}},{"$f":"IF(AF7=0,0,(AF7*((LOG(AF7))/LOG(2))))","v":{"$error":"#DIV/0!"}},null,{"$f":"N7","v":11},{"$f":"COUNTIF(L28:L34,AI7)","v":0},{"$f":"AJ7/(AL4-AJ8)","v":{"$error":"#DIV/0!"}},{"$f":"IF(AK7=0,0,(AK7*((LOG(AK7))/LOG(2))))","v":{"$error":"#DIV/0!"}},null,{"$f":"N7","v":11},{"$f":"COUNTIF(L35:L41,AN7)","v":1},{"$f":"AO7/(AQ4-AO8)","v":1},{"$f":"IF(AP7=0,0,(AP7*((LOG(AP7))/LOG(2))))","v":0},null,{"$f":"N7","v":11},{"$f":"COUNTIF(L42:L48,AS7)","v":0},{"$f":"AT7/(AV4-AT8)","v":{"$error":"#DIV/0!"}},{"$f":"IF(AU7=0,0,(AU7*((LOG(AU7))/LOG(2))))","v":{"$error":"#DIV/0!"}}]
[11,138,21,167,null,null,null,null,null,null,0,12,null,12,{"$f":"COUNTIF($L$7:$L$500,N8)","v":40},{"$f":"O8/$Q$4","v":0.95238095238095233},{"$f":"IF(P8=0,0,(P8*((LOG(P8))/LOG(2))))","v":-6.7037455134664775E-2},null,null,{"$f":"N8","v":12},{"$f":"COUNTIF(L7:L13,T8)","v":6},null,null,null,{"$f":"N8","v":12},{"$f":"COUNTIF(L14:L20,Y8)","v":7},null,null,null,{"$f":"N8","v":12},{"$f":"COUNTIF(L21:L27,AD8)","v":7},null,null,null,{"$f":"N8","v":12},{"$f":"COUNTIF(L28:L34,AI8)","v":7},null,null,null,{"$f":"N8","v":12},{"$f":"COUNTIF(L35:L41,AN8)","v":6},null,null,null,{"$f":"N8","v":12},{"$f":"COUNTIF(L42:L48,AS8)","v":7}]
[11,259,21,272,null,null,null,null,null,null,0,12,null,21,{"$f":"COUNTIF($L$7:$L$500,N9)","v":0},{"$f":"O9/$Q$4","v":0},{"$f":"IF(P9=0,0,(P9*((LOG(P9))/LOG(2))))","v":0},null,null,{"$f":"N9","v":21},{"$f":"COUNTIF(L7:L13,T9)","v":0},{"$f":"U9/(W4-U8)","v":0},{"$f":"IF(V9=0,0,(V9*((LOG(V9))/LOG(2))))","v":0},null,{"$f":"N9","v":21},{"$f":"COUNTIF(L14:L20,Y9)","v":0},{"$f":"Z9/(AB4-Z8)","v":{"$error":"#DIV/0!"}},{"$f":"IF(AA9=0,0,(AA9*((LOG(AA9))/LOG(2))))","v":{"$error":"#DIV/0!"}},null,{"$f":"N9","v":21},{"$f":"COUNTIF(L21:L27,AD9)","v":0},{"$f":"AE9/(AG4-AE8)","v":{"$error":"#DIV/0!"}},{"$f":"IF(AF9=0,0,(AF9*((LOG(AF9))/LOG(2))))","v":{"$error":"#DIV/0!"}},null,{"$f":"N9","v":21},{"$f":"COUNTIF(L28:L34,AI9)","v":0},{"$f":"AJ9/(AL4-AJ8)","v":{"$error":"#DIV/0!"}},{"$f":"IF(AK9=0,0,(AK9*((LOG(AK9))/LOG(2))))","v":{"$error":"#DIV/0!"}},null,{"$f":"N9","v":21},{"$f":"COUNTIF(L35:L41,AN9)","v":0},{"$f":"AO9/(AQ4-AO8)","v":0},{"$f":"IF(AP9=0,0,(AP9*((LOG(AP9))/LOG(2))))","v":0},null,{"$f":"N9","v":21},{"$f":"COUNTIF(L42:L48,AS9)","v":0},{"$f":"AT9/(AV4-AT8)","v":{"$error":"#DIV/0!"}},{"$f":"IF(AU9=0,0,(AU9*((LOG(AU9))/LOG(2))))","v":{"$error":"#DIV/0!"}}]
[11,361,21,376,null,null,null,null,null,null,0,12,null,22,{"$f":"COUNTIF($L$7:$L$500,N10)","v":1},{"$f":"O10/$Q$4","v":2.3809523809523808E-2},{"$f":"IF(P10=0,0,(P10*((LOG(P10))/LOG(2))))","v":-0.12838851006616095},null,null,{"$f":"N10","v":22},{"$f":"COUNTIF(L7:L13,T10)","v":1},{"$f":"U10/(W4-U8)","v":1},{"$f":"IF(V10=0,0,(V10*((LOG(V10))/LOG(2))))","v":0},null,{"$f":"N10","v":22},{"$f":"COUNTIF(L14:L20,Y10)","v":0},{"$f":"Z10/(AB4-Z8)","v":{"$error":"#DIV/0!"}},{"$f":"IF(AA10=0,0,(AA10*((LOG(AA10))/LOG(2))))","v":{"$error":"#DIV/0!"}},null,{"$f":"N10","v":22},{"$f":"COUNTIF(L21:L27,AD10)","v":0},{"$f":"AE10/(AG4-AE8)","v":{"$error":"#DIV/0!"}},{"$f":"IF(AF10=0,0,(AF10*((LOG(AF10))/LOG(2))))","v":{"$error":"#DIV/0!"}},null,{"$f":"N10","v":22},{"$f":"COUNTIF(L28:L34,AI10)","v":0},{"$f":"AJ10/(AL4-AJ8)","v":{"$error":"#DIV/0!"}},{"$f":"IF(AK10=0,0,(AK10*((LOG(AK10))/LOG(2))))","v":{"$error":"#DIV/0!"}},null,{"$f":"N10","v":22},{"$f":"COUNTIF(L35:L41,AN10)","v":0},{"$f":"AO10/(AQ4-AO8)","v":0},{"$f":"IF(AP10=0,0,(AP10*((LOG(AP10))/LOG(2))))","v":0},null,{"$f":"N10","v":22},{"$f":"COUNTIF(L42:L48,AS10)","v":0},{"$f":"AT10/(AV4-AT8)","v":{"$error":"#DIV/0!"}},{"$f":"IF(AU10=0,0,(AU10*((LOG(AU10))/LOG(2))))","v":{"$error":"#DIV/0!"}}]
[11,468,21,492,null,null,null,null,null,null,0,12,null,null,null,null,null,null,null,{"$f":"N11","v":0},{"$f":"COUNTIF(L7:L13,T11)","v":0},{"$f":"U11/(W4-U8)","v":0},{"$f":"IF(V11=0,0,(V11*((LOG(V11))/LOG(2))))","v":0},null,{"$f":"N11","v":0},{"$f":"COUNTIF(L14:L20,Y11)","v":0},{"$f":"Z11/(AB4-Z8)","v":{"$error":"#DIV/0!"}},{"$f":"IF(AA11=0,0,(AA11*((LOG(AA11))/LOG(2))))","v":{"$error":"#DIV/0!"}},null,{"$f":"N11","v":0},{"$f":"COUNTIF(L21:L27,AD11)","v":0},{"$f":"AE11/(AG4-AE8)","v":{"$error":"#DIV/0!"}},{"$f":"IF(AF11=0,0,(AF11*((LOG(AF11))/LOG(2))))","v":{"$error":"#DIV/0!"}},null,{"$f":"N11","v":0},{"$f":"COUNTIF(L28:L34,AI11)","v":0},{"$f":"AJ11/(AL4-AJ8)","v":{"$error":"#DIV/0!"}},{"$f":"IF(AK11=0,0,(AK11*((LOG(AK11))/LOG(2))))","v":{"$error":"#DIV/0!"}},null,{"$f":"N11","v":0},{"$f":"COUNTIF(L35:L41,AN11)","v":0},{"$f":"AO11/(AQ4-AO8)","v":0},{"$f":"IF(AP11=0,0,(AP11*((LOG(AP11))/LOG(2))))","v":0},null,{"$f":"N11","v":0},{"$f":"COUNTIF(L42:L48,AS11)","v":0},{"$f":"AT11/(AV4-AT8)","v":{"$error":"#DIV/0!"}},{"$f":"IF(AU11=0,0,(AU11*((LOG(AU11))/LOG(2))))","v":{"$error":"#DIV/0!"}}]
[11,584,21,598,null,null,null,null,null,null,0,12,null,null,null,null,null,null,null,{"$f":"N12","v":0},{"$f":"COUNTIF(L7:L13,T12)","v":0},{"$f":"U12/(W4-U8)","v":0},{"$f":"IF(V12=0,0,(V12*((LOG(V12))/LOG(2))))","v":0},null,{"$f":"N12","v":0},{"$f":"COUNTIF(L14:L20,Y12)","v":0},{"$f":"Z12/(AB4-Z8)","v":{"$error":"#DIV/0!"}},{"$f":"IF(AA12=0,0,(AA12*((LOG(AA12))/LOG(2))))","v":{"$error":"#DIV/0!"}},null,{"$f":"N12","v":0},{"$f":"COUNTIF(L21:L27,AD12)","v":0},{"$f":"AE12/(AG4-AE8)","v":{"$error":"#DIV/0!"}},{"$f":"IF(AF12=0,0,(AF12*((LOG(AF12))/LOG(2))))","v":{"$error":"#DIV/0!"}},null,{"$f":"N12","v":0},{"$f":"COUNTIF(L28:L34,AI12)","v":0},{"$f":"AJ12/(AL4-AJ8)","v":{"$error":"#DIV/0!"}},{"$f":"IF(AK12=0,0,(AK12*((LOG(AK12))/LOG(2))))","v":{"$error":"#DIV/0!"}},null,{"$f":"N12","v":0},{"$f":"COUNTIF(L35:L41,AN12)","v":0},{"$f":"AO12/(AQ4-AO8)","v":0},{"$f":"IF(AP12=0,0,(AP12*((LOG(AP12))/LOG(2))))","v":0},null,{"$f":"N12","v":0},{"$f":"COUNTIF(L42:L48,AS12)","v":0},{"$f":"AT12/(AV4-AT8)","v":{"$error":"#DIV/0!"}},{"$f":"IF(AU12=0,0,(AU12*((LOG(AU12))/LOG(2))))","v":{"$error":"#DIV/0!"}}]
[11,688,21,701,null,null,null,null,null,null,0,12,null,null,null,null,null,null,null,{"$f":"N13","v":0},{"$f":"COUNTIF(L7:L13,T13)","v":0},{"$f":"U13/(W4-U8)","v":0},{"$f":"IF(V13=0,0,(V13*((LOG(V13))/LOG(2))))","v":0},null,{"$f":"N13","v":0},{"$f":"COUNTIF(L14:L20,Y13)","v":0},{"$f":"Z13/(AB4-Z8)","v":{"$error":"#DIV/0!"}},{"$f":"IF(AA13=0,0,(AA13*((LOG(AA13))/LOG(2))))","v":{"$error":"#DIV/0!"}},null,{"$f":"N13","v":0},{"$f":"COUNTIF(L21:L27,AD13)","v":0},{"$f":"AE13/(AG4-AE8)","v":{"$error":"#DIV/0!"}},{"$f":"IF(AF13=0,0,(AF13*((LOG(AF13))/LOG(2))))","v":{"$error":"#DIV/0!"}},null,{"$f":"N13","v":0},{"$f":"COUNTIF(L28:L34,AI13)","v":0},{"$f":"AJ13/(AL4-AJ8)","v":{"$error":"#DIV/0!"}},{"$f":"IF(AK13=0,0,(AK13*((LOG(AK13))/LOG(2))))","v":{"$error":"#DIV/0!"}},null,{"$f":"N13","v":0},{"$f":"COUNTIF(L35:L41,AN13)","v":0},{"$f":"AO13/(AQ4-AO8)","v":0},{"$f":"IF(AP13=0,0,(AP13*((LOG(AP13))/LOG(2))))","v":0},null,{"$f":"N13","v":0},{"$f":"COUNTIF(L42:L48,AS13)","v":0},{"$f":"AT13/(AV4-AT8)","v":{"$error":"#DIV/0!"}},{"$f":"IF(AU13=0,0,(AU13*((LOG(AU13))/LOG(2))))","v":{"$error":"#DIV/0!"}}]
[11,789,21,816,null,null,null,null,null,null,0,12,null,null,null,null,null,null,null,{"$f":"N14","v":0},{"$f":"COUNTIF(L7:L13,T14)","v":0},{"$f":"U14/(W4-U8)","v":0},{"$f":"IF(V14=0,0,(V14*((LOG(V14))/LOG(2))))","v":0},null,{"$f":"N14","v":0},{"$f":"COUNTIF(L14:L20,Y14)","v":0},{"$f":"Z14/(AB4-Z8)","v":{"$error":"#DIV/0!"}},{"$f":"IF(AA14=0,0,(AA14*((LOG(AA14))/LOG(2))))","v":{"$error":"#DIV/0!"}},null,{"$f":"N14","v":0},{"$f":"COUNTIF(L21:L27,AD14)","v":0},{"$f":"AE14/(AG4-AE8)","v":{"$error":"#DIV/0!"}},{"$f":"IF(AF14=0,0,(AF14*((LOG(AF14))/LOG(2))))","v":{"$error":"#DIV/0!"}},null,{"$f":"N14","v":0},{"$f":"COUNTIF(L28:L34,AI14)","v":0},{"$f":"AJ14/(AL4-AJ8)","v":{"$error":"#DIV/0!"}},{"$f":"IF(AK14=0,0,(AK14*((LOG(AK14))/LOG(2))))","v":{"$error":"#DIV/0!"}},null,{"$f":"N14","v":0},{"$f":"COUNTIF(L35:L41,AN14)","v":0},{"$f":"AO14/(AQ4-AO8)","v":0},{"$f":"IF(AP14=0,0,(AP14*((LOG(AP14))/LOG(2))))","v":0},null,{"$f":"N14","v":0},{"$f":"COUNTIF(L42:L48,AS14)","v":0},{"$f":"AT14/(AV4-AT8)","v":{"$error":"#DIV/0!"}},{"$f":"IF(AU14=0,0,(AU14*((LOG(AU14))/LOG(2))))","v":{"$error":"#DIV/0!"}}]
[11,910,21,924,null,null,null,null,null,null,0,12,null,null,null,{"$f":"SUM(P7:P14)","v":1},{"$f":"-SUM(Q7:Q14)","v":0.3238144752669867},null,null,null,null,{"$f":"SUM(V7:V14)","v":1},{"$f":"-SUM(W7:W14)","v":0},null,null,null,{"$f":"SUM(AA7:AA14)","v":{"$error":"#DIV/0!"}},{"$f":"-SUM(AB7:AB14)","v":{"$error":"#DIV/0!"}},null,null,null,{"$f":"SUM(AF7:AF14)","v":{"$error":"#DIV/0!"}},{"$f":"-SUM(AG7:AG14)","v":{"$error":"#DIV/0!"}},null,null,null,{"$f":"SUM(AK7:AK14)","v":{"$error":"#DIV/0!"}},{"$f":"-SUM(AL7:AL14)","v":{"$error":"#DIV/0!"}},null,null,null,{"$f":"SUM(AP7:AP14)","v":1},{"$f":"-SUM(AQ7:AQ14)","v":0},null,null,null,{"$f":"SUM(AU7:AU14)","v":{"$error":"#DIV/0!"}},{"$f":"-SUM(AV7:AV14)","v":{"$error":"#DIV/0!"}}]
[11,1013,21,1027,null,null,null,null,null,null,0,12,null,null,null,"U=",{"$f":"Q15/(LOG(Q4)/LOG(2))","v":6.0051078206022804E-2},null,null,null,null,"U1=",{"$f":"W15/(LOG(W4)/LOG(2))","v":0},null,null,null,"U2=",{"$f":"AB15/(LOG(AB4)/LOG(2))","v":{"$error":"#DIV/0!"}},null,null,null,"U3=",{"$f":"AG15/(LOG(AG4)/LOG(2))","v":{"$error":"#DIV/0!"}},null,null,null,"U4=",{"$f":"AL15/(LOG(AL4)/LOG(2))","v":{"$error":"#DIV/0!"}},null,null,null,"U5=",{"$f":"AQ15/(LOG(AQ4)/LOG(2))","v":0},null,null,null,"U6=",{"$f":"AV15/(LOG(AV4)/LOG(2))","v":{"$error":"#DIV/0!"}}]
[11,1115,21,1138,null,null,null,null,null,null,0,12]
[11,1229,21,1242,null,null,null,null,null,null,0,12]
[11,1331,21,1344,null,null,null,null,null,null,0,12,null,"Total Target Seq"]
[11,1433,21,1446,null,null,null,null,null,null,0,12,null,{"$f":"COUNTIF(L7:L48,G3)","v":40},null,7,7,7,7,7,7]
[11,1534,21,1548,null,null,null,null,null,null,0,12,null,null,null,"% of reinforcement given in 6 equal intervals based on number of trials "]
[11,1640,21,1654,null,null,null,null,null,null,0,12,null,null,null,"%_1","%_2","%_3","%_4","%_5","%_6"]
[11,1742,21,1759,null,null,null,null,null,null,0,12,null,null,"target sequence",{"$f":"$G$3","v":12},{"$f":"$G$3","v":12},{"$f":"$G$3","v":12},{"$f":"$G$3","v":12},{"$f":"$G$3","v":12},{"$f":"$G$3","v":12}]
[11,1850,21,1862,null,null,null,null,null,null,0,12,null,null,"total reinforcement",{"$f":"U8","v":6},{"$f":"Z8","v":7},{"$f":"AE8","v":7},{"$f":"AJ8","v":7},{"$f":"AO8","v":6},{"$f":"AT8","v":7}]
[11,1951,21,1966,null,null,null,null,null,null,0,12,null,null,"% target"]
[11,2055,21,2064,null,null,null,null,null,null,0,12,null,null,"CCRF"]
[11,2152,21,2170,null,null,null,null,null,null,0,12,null,null,"% CCRf"]
[11,2259,21,2272,null,null,null,null,null,null,0,12,null,null,"average response rate",{"$f":"D13/P20","v":100.14285714285714},{"$f":"(D20-D13)/Q20","v":106.42857142857143},{"$f":"(D27-D20)/R20","v":103.42857142857143},{"$f":"(D34-D27)/S20","v":110.28571428571429},{"$f":"(D41-D34)/T20","v":105.85714285714286},{"$f":"(D48-D41)/U20","v":103.14285714285714}]
[11,2362,21,2375,null,null,null,null,null,null,0,12]
[11,2464,21,2477,null,null,null,null,null,null,0,12]
[11,2567,21,2637,null,null,null,null,null,null,0,12]
[11,2728,21,2741,null,null,null,null,null,null,0,12]
[11,2834,21,2845,null,null,null,null,null,null,0,12]
[11,2933,21,2942,null,null,null,null,null,null,0,12]
[11,3029,21,3041,null,null,null,null,null,null,0,12]
[11,3130,21,3143,null,null,null,null,null,null,0,12]
[11,3234,21,3263,null,null,null,null,null,null,0,12]
[11,3357,12,3362,null,null,null,null,null,null,0,11]
[11,3461,21,3480,null,null,null,null,null,null,0,12]
[11,3569,21,3579,null,null,null,null,null,null,0,12]
[11,3668,21,3683,null,null,null,null,null,null,0,12]
[11,3772,21,3788,null,null,null,null,null,null,0,12]
[11,3875,21,3889,null,null,null,null,null,null,0,12]
[11,3977,21,3993,null,null,null,null,null,null,0,12]
[11,4083,21,4096,null,null,null,null,null,null,0,12]
[11,4186,21,4201,null,null,null,null,null,null,0,12]
[11,4288,21,4302,null,null,null,null,null,null,0,12]
[11,4389,21,4405,null,null,null,null,null,null,1,12]

{"sheet":"!N117850.091","index":31,"n_rows":46,"n_cols":48,"rows_kept":46,"cut":false,"hidden":false,"merged":[[4,39,4,42],[5,39,5,40],[4,44,4,47],[5,44,5,45],[4,24,4,27],[5,24,5,25],[4,29,4,32],[5,29,5,30],[4,34,4,37],[5,34,5,35],[1,1,1,2],[5,13,5,14],[18,13,18,14],[19,13,19,14],[4,19,4,22],[5,19,5,20]]}
["Report for:!N117850.091"]
["Date:","<date>"]
["Hen:","<hen>",null,null,null,"Correct Sequence",{"$f":"Start!J2","v":12},null,null,null,null,null,null,null,null,"Total Sequences in Data",{"$f":"4994-COUNTBLANK(L7:L5000)","v":40},null,null,null,null,"Total Sequences in Block Data",{"$f":"COUNTA(L7:L13)","v":7},null,null,null,"Total Sequences in Block Data",{"$f":"COUNTA(L14:L19)","v":6},null,null,null,"Total Sequences in Block Data",{"$f":"COUNTA(L20:L26)","v":7},null,null,null,"Total Sequences in Block Data",{"$f":"COUNTA(L27:L33)","v":7},null,null,null,"Total Sequences in Block Data",{"$f":"COUNTA(L34:L39)","v":6},null,null,null,"Total Sequences in Block Data",{"$f":"COUNTA(L40:L46)","v":7}]
[null,null,null,null,null,null,null,null,null,null,null,null,null,null,null,"Total Sequences in Summary",{"$f":"SUM(O7:O14)","v":40},null,null,null,null,"Total Sequences in Block Summary",{"$f":"SUM(U7:U14)","v":7},null,null,null,"Total Sequences in Block Summary",{"$f":"SUM(Z7:Z14)","v":6},null,null,null,"Total Sequences in Block Summary",{"$f":"SUM(AE7:AE14)","v":7},null,null,null,"Total Sequences in Block Summary",{"$f":"SUM(AJ7:AJ14)","v":7},null,null,null,"Total Sequences in Block Summary",{"$f":"SUM(AO7:AO14)","v":6},null,null,null,"Total Sequences in Block Summary",{"$f":"SUM(AT7:AT14)","v":7}]
[null,null,null,null,null,null,null,null,null,null,null,null,null,null,null,null,null,null,null,"Block 1",null,null,null,null,"Block 2",null,null,null,null,"Block 3",null,null,null,null,"Block 4",null,null,null,null,"Block 5",null,null,null,null,"Block 6"]
["Sequence\nComponent\n1","Time\n1","Sequence\nComponent\n2","Time\n2","Sequence\nComponent\n3","Time\n3","Sequence\nComponent\n4","Time\n4","Sequence\nComponent\n5","Time\n5","Correct?\n0=No 1=Yes","Sequence",null,"Frequency",null,"Relative Frequency","Variability",null,null,"Frequency",null,"Relative Frequency","Variability",null,"Frequency",null,"Relative Frequency","Variability",null,"Frequency",null,"Relative Frequency","Variability",null,"Frequency",null,"Relative Frequency","Variability",null,"Frequency",null,"Relative Frequency","Variability",null,"Frequency",null,"Relative Frequency","Variability"]
[11,12,21,21,null,null,null,null,null,null,0,12,null,11,{"$f":"COUNTIF($L$7:$L$500,N7)","v":0},{"$f":"O7/$Q$4","v":0},{"$f":"IF(P7=0,0,(P7*((LOG(P7))/LOG(2))))","v":0},null,null,{"$f":"N7","v":11},{"$f":"COUNTIF(L7:L13,T7)","v":0},{"$f":"U7/(W4-U8)","v":{"$error":"#DIV/0!"}},{"$f":"IF(V7=0,0,(V7*((LOG(V7))/LOG(2))))","v":{"$error":"#DIV/0!"}},null,{"$f":"N7","v":11},{"$f":"COUNTIF(L14:L19,Y7)","v":0},{"$f":"Z7/(AB4-Z8)","v":{"$error":"#DIV/0!"}},{"$f":"IF(AA7=0,0,(AA7*((LOG(AA7))/LOG(2))))","v":{"$error":"#DIV/0!"}},null,{"$f":"N7","v":11},{"$f":"COUNTIF(L20:L26,AD7)","v":0},{"$f":"AE7/(AG4-AE8)","v":{"$error":"#DIV/0!"}},{"$f":"IF(AF7=0,0,(AF7*((LOG(AF7))/LOG(2))))","v":{"$error":"#DIV/0!"}},null,{"$f":"N7","v":11},{"$f":"COUNTIF(L27:L33,AI7)","v":0},{"$f":"AJ7/(AL4-AJ8)","v":{"$error":"#DIV/0!"}},{"$f":"IF(AK7=0,0,(AK7*((LOG(AK7))/LOG(2))))","v":{"$error":"#DIV/0!"}},null,{"$f":"N7","v":11},{"$f":"COUNTIF(L34:L39,AN7)","v":0},{"$f":"AO7/(AQ4-AO8)","v":{"$error":"#DIV/0!"}},{"$f":"IF(AP7=0,0,(AP7*((LOG(AP7))/LOG(2))))","v":{"$error":"#DIV/0!"}},null,{"$f":"N7","v":11},{"$f":"COUNTIF(L40:L46,AS7)","v":0},{"$f":"AT7/(AV4-AT8)","v":{"$error":"#DIV/0!"}},{"$f":"IF(AU7=0,0,(AU7*((LOG(AU7))/LOG(2))))","v":{"$error":"#DIV/0!"}}]
[11,110,21,124,null,null,null,null,null,null,0,12,null,12,{"$f":"COUNTIF($L$7:$L$500,N8)","v":40},{"$f":"O8/$Q$4","v":1},{"$f":"IF(P8=0,0,(P8*((LOG(P8))/LOG(2))))","v":0},null,null,{"$f":"N8","v":12},{"$f":"COUNTIF(L7:L13,T8)","v":7},null,null,null,{"$f":"N8","v":12},{"$f":"COUNTIF(L14:L19,Y8)","v":6},null,null,null,{"$f":"N8","v":12},{"$f":"COUNTIF(L20:L26,AD8)","v":7},null,null,null,{"$f":"N8","v":12},{"$f":"COUNTIF(L27:L33,AI8)","v":7},null,null,null,{"$f":"N8","v":12},{"$f":"COUNTIF(L34:L39,AN8)","v":6},null,null,null,{"$f":"N8","v":12},{"$f":"COUNTIF(L40:L46,AS8)","v":7}]
[11,235,21,267,null,null,null,null,null,null,0,12,null,21,{"$f":"COUNTIF($L$7:$L$500,N9)","v":0},{"$f":"O9/$Q$4","v":0},{"$f":"IF(P9=0,0,(P9*((LOG(P9))/LOG(2))))","v":0},null,null,{"$f":"N9","v":21},{"$f":"COUNTIF(L7:L13,T9)","v":0},{"$f":"U9/(W4-U8)","v":{"$error":"#DIV/0!"}},{"$f":"IF(V9=0,0,(V9*((LOG(V9))/LOG(2))))","v":{"$error":"#DIV/0!"}},null,{"$f":"N9","v":21},{"$f":"COUNTIF(L14:L19,Y9)","v":0},{"$f":"Z9/(AB4-Z8)","v":{"$error":"#DIV/0!"}},{"$f":"IF(AA9=0,0,(AA9*((LOG(AA9))/LOG(2))))","v":{"$error":"#DIV/0!"}},null,{"$f":"N9","v":21},{"$f":"COUNTIF(L20:L26,AD9)","v":0},{"$f":"AE9/(AG4-AE8)","v":{"$error":"#DIV/0!"}},{"$f":"IF(AF9=0,0,(AF9*((LOG(AF9))/LOG(2))))","v":{"$error":"#DIV/0!"}},null,{"$f":"N9","v":21},{"$f":"COUNTIF(L27:L33,AI9)","v":0},{"$f":"AJ9/(AL4-AJ8)","v":{"$error":"#DIV/0!"}},{"$f":"IF(AK9=0,0,(AK9*((LOG(AK9))/LOG(2))))","v":{"$error":"#DIV/0!"}},null,{"$f":"N9","v":21},{"$f":"COUNTIF(L34:L39,AN9)","v":0},{"$f":"AO9/(AQ4-AO8)","v":{"$error":"#DIV/0!"}},{"$f":"IF(AP9=0,0,(AP9*((LOG(AP9))/LOG(2))))","v":{"$error":"#DIV/0!"}},null,{"$f":"N9","v":21},{"$f":"COUNTIF(L40:L46,AS9)","v":0},{"$f":"AT9/(AV4-AT8)","v":{"$error":"#DIV/0!"}},{"$f":"IF(AU9=0,0,(AU9*((LOG(AU9))/LOG(2))))","v":{"$error":"#DIV/0!"}}]
[11,357,21,369,null,null,null,null,null,null,0,12,null,22,{"$f":"COUNTIF($L$7:$L$500,N10)","v":0},{"$f":"O10/$Q$4","v":0},{"$f":"IF(P10=0,0,(P10*((LOG(P10))/LOG(2))))","v":0},null,null,{"$f":"N10","v":22},{"$f":"COUNTIF(L7:L13,T10)","v":0},{"$f":"U10/(W4-U8)","v":{"$error":"#DIV/0!"}},{"$f":"IF(V10=0,0,(V10*((LOG(V10))/LOG(2))))","v":{"$error":"#DIV/0!"}},null,{"$f":"N10","v":22},{"$f":"COUNTIF(L14:L19,Y10)","v":0},{"$f":"Z10/(AB4-Z8)","v":{"$error":"#DIV/0!"}},{"$f":"IF(AA10=0,0,(AA10*((LOG(AA10))/LOG(2))))","v":{"$error":"#DIV/0!"}},null,{"$f":"N10","v":22},{"$f":"COUNTIF(L20:L26,AD10)","v":0},{"$f":"AE10/(AG4-AE8)","v":{"$error":"#DIV/0!"}},{"$f":"IF(AF10=0,0,(AF10*((LOG(AF10))/LOG(2))))","v":{"$error":"#DIV/0!"}},null,{"$f":"N10","v":22},{"$f":"COUNTIF(L27:L33,AI10)","v":0},{"$f":"AJ10/(AL4-AJ8)","v":{"$error":"#DIV/0!"}},{"$f":"IF(AK10=0,0,(AK10*((LOG(AK10))/LOG(2))))","v":{"$error":"#DIV/0!"}},null,{"$f":"N10","v":22},{"$f":"COUNTIF(L34:L39,AN10)","v":0},{"$f":"AO10/(AQ4-AO8)","v":{"$error":"#DIV/0!"}},{"$f":"IF(AP10=0,0,(AP10*((LOG(AP10))/LOG(2))))","v":{"$error":"#DIV/0!"}},null,{"$f":"N10","v":22},{"$f":"COUNTIF(L40:L46,AS10)","v":0},{"$f":"AT10/(AV4-AT8)","v":{"$error":"#DIV/0!"}},{"$f":"IF(AU10=0,0,(AU10*((LOG(AU10))/LOG(2))))","v":{"$error":"#DIV/0!"}}]
[11,457,21,490,null,null,null,null,null,null,0,12,null,null,null,null,null,null,null,{"$f":"N11","v":0},{"$f":"COUNTIF(L7:L13,T11)","v":0},{"$f":"U11/(W4-U8)","v":{"$error":"#DIV/0!"}},{"$f":"IF(V11=0,0,(V11*((LOG(V11))/LOG(2))))","v":{"$error":"#DIV/0!"}},null,{"$f":"N11","v":0},{"$f":"COUNTIF(L14:L19,Y11)","v":0},{"$f":"Z11/(AB4-Z8)","v":{"$error":"#DIV/0!"}},{"$f":"IF(AA11=0,0,(AA11*((LOG(AA11))/LOG(2))))","v":{"$error":"#DIV/0!"}},null,{"$f":"N11","v":0},{"$f":"COUNTIF(L20:L26,AD11)","v":0},{"$f":"AE11/(AG4-AE8)","v":{"$error":"#DIV/0!"}},{"$f":"IF(AF11=0,0,(AF11*((LOG(AF11))/LOG(2))))","v":{"$error":"#DIV/0!"}},null,{"$f":"N11","v":0},{"$f":"COUNTIF(L27:L33,AI11)","v":0},{"$f":"AJ11/(AL4-AJ8)","v":{"$error":"#DIV/0!"}},{"$f":"IF(AK11=0,0,(AK11*((LOG(AK11))/LOG(2))))","v":{"$error":"#DIV/0!"}},null,{"$f":"N11","v":0},{"$f":"COUNTIF(L34:L39,AN11)","v":0},{"$f":"AO11/(AQ4-AO8)","v":{"$error":"#DIV/0!"}},{"$f":"IF(AP11=0,0,(AP11*((LOG(AP11))/LOG(2))))","v":{"$error":"#DIV/0!"}},null,{"$f":"N11","v":0},{"$f":"COUNTIF(L40:L46,AS11)","v":0},{"$f":"AT11/(AV4-AT8)","v":{"$error":"#DIV/0!"}},{"$f":"IF(AU11=0,0,(AU11*((LOG(AU11))/LOG(2))))","v":{"$error":"#DIV/0!"}}]
[11,578,21,604,null,null,null,null,null,null,0,12,null,null,null,null,null,null,null,{"$f":"N12","v":0},{"$f":"COUNTIF(L7:L13,T12)","v":0},{"$f":"U12/(W4-U8)","v":{"$error":"#DIV/0!"}},{"$f":"IF(V12=0,0,(V12*((LOG(V12))/LOG(2))))","v":{"$error":"#DIV/0!"}},null,{"$f":"N12","v":0},{"$f":"COUNTIF(L14:L19,Y12)","v":0},{"$f":"Z12/(AB4-Z8)","v":{"$error":"#DIV/0!"}},{"$f":"IF(AA12=0,0,(AA12*((LOG(AA12))/LOG(2))))","v":{"$error":"#DIV/0!"}},null,{"$f":"N12","v":0},{"$f":"COUNTIF(L20:L26,AD12)","v":0},{"$f":"AE12/(AG4-AE8)","v":{"$error":"#DIV/0!"}},{"$f":"IF(AF12=0,0,(AF12*((LOG(AF12))/LOG(2))))","v":{"$error":"#DIV/0!"}},null,{"$f":"N12","v":0},{"$f":"COUNTIF(L27:L33,AI12)","v":0},{"$f":"AJ12/(AL4-AJ8)","v":{"$error":"#DIV/0!"}},{"$f":"IF(AK12=0,0,(AK12*((LOG(AK12))/LOG(2))))","v":{"$error":"#DIV/0!"}},null,{"$f":"N12","v":0},{"$f":"COUNTIF(L34:L39,AN12)","v":0},{"$f":"AO12/(AQ4-AO8)","v":{"$error":"#DIV/0!"}},{"$f":"IF(AP12=0,0,(AP12*((LOG(AP12))/LOG(2))))","v":{"$error":"#DIV/0!"}},null,{"$f":"N12","v":0},{"$f":"COUNTIF(L40:L46,AS12)","v":0},{"$f":"AT12/(AV4-AT8)","v":{"$error":"#DIV/0!"}},{"$f":"IF(AU12=0,0,(AU12*((LOG(AU12))/LOG(2))))","v":{"$error":"#DIV/0!"}}]
[11,691,21,706,null,null,null,null,null,null,0,12,null,null,null,null,null,null,null,{"$f":"N13","v":0},{"$f":"COUNTIF(L7:L13,T13)","v":0},{"$f":"U13/(W4-U8)","v":{"$error":"#DIV/0!"}},{"$f":"IF(V13=0,0,(V13*((LOG(V13))/LOG(2))))","v":{"$error":"#DIV/0!"}},null,{"$f":"N13","v":0},{"$f":"COUNTIF(L14:L19,Y13)","v":0},{"$f":"Z13/(AB4-Z8)","v":{"$error":"#DIV/0!"}},{"$f":"IF(AA13=0,0,(AA13*((LOG(AA13))/LOG(2))))","v":{"$error":"#DIV/0!"}},null,{"$f":"N13","v":0},{"$f":"COUNTIF(L20:L26,AD13)","v":0},{"$f":"AE13/(AG4-AE8)","v":{"$error":"#DIV/0!"}},{"$f":"IF(AF13=0,0,(AF13*((LOG(AF13))/LOG(2))))","v":{"$error":"#DIV/0!"}},null,{"$f":"N13","v":0},{"$f":"COUNTIF(L27:L33,AI13)","v":0},{"$f":"AJ13/(AL4-AJ8)","v":{"$error":"#DIV/0!"}},{"$f":"IF(AK13=0,0,(AK13*((LOG(AK13))/LOG(2))))","v":{"$error":"#DIV/0!"}},null,{"$f":"N13","v":0},{"$f":"COUNTIF(L34:L39,AN13)","v":0},{"$f":"AO13/(AQ4-AO8)","v":{"$error":"#DIV/0!"}},{"$f":"IF(AP13=0,0,(AP13*((LOG(AP13))/LOG(2))))","v":{"$error":"#DIV/0!"}},null,{"$f":"N13","v":0},{"$f":"COUNTIF(L40:L46,AS13)","v":0},{"$f":"AT13/(AV4-AT8)","v":{"$error":"#DIV/0!"}},{"$f":"IF(AU13=0,0,(AU13*((LOG(AU13))/LOG(2))))","v":{"$error":"#DIV/0!"}}]
[11,793,21,805,null,null,null,null,null,null,0,12,null,null,null,null,null,null,null,{"$f":"N14","v":0},{"$f":"COUNTIF(L7:L13,T14)","v":0},{"$f":"U14/(W4-U8)","v":{"$error":"#DIV/0!"}},{"$f":"IF(V14=0,0,(V14*((LOG(V14))/LOG(2))))","v":{"$error":"#DIV/0!"}},null,{"$f":"N14","v":0},{"$f":"COUNTIF(L14:L19,Y14)","v":0},{"$f":"Z14/(AB4-Z8)","v":{"$error":"#DIV/0!"}},{"$f":"IF(AA14=0,0,(AA14*((LOG(AA14))/LOG(2))))","v":{"$error":"#DIV/0!"}},null,{"$f":"N14","v":0},{"$f":"COUNTIF(L20:L26,AD14)","v":0},{"$f":"AE14/(AG4-AE8)","v":{"$error":"#DIV/0!"}},{"$f":"IF(AF14=0,0,(AF14*((LOG(AF14))/LOG(2))))","v":{"$error":"#DIV/0!"}},null,{"$f":"N14","v":0},{"$f":"COUNTIF(L27:L33,AI14)","v":0},{"$f":"AJ14/(AL4-AJ8)","v":{"$error":"#DIV/0!"}},{"$f":"IF(AK14=0,0,(AK14*((LOG(AK14))/LOG(2))))","v":{"$error":"#DIV/0!"}},null,{"$f":"N14","v":0},{"$f":"COUNTIF(L34:L39,AN14)","v":0},{"$f":"AO14/(AQ4-AO8)","v":{"$error":"#DIV/0!"}},{"$f":"IF(AP14=0,0,(AP14*((LOG(AP14))/LOG(2))))","v":{"$error":"#DIV/0!"}},null,{"$f":"N14","v":0},{"$f":"COUNTIF(L40:L46,AS14)","v":0},{"$f":"AT14/(AV4-AT8)","v":{"$error":"#DIV/0!"}},{"$f":"IF(AU14=0,0,(AU14*((LOG(AU14))/LOG(2))))","v":{"$error":"#DIV/0!"}}]
[11,894,21,920,null,null,null,null,null,null,0,12,null,null,null,{"$f":"SUM(P7:P14)","v":1},{"$f":"-SUM(Q7:Q14)","v":0},null,null,null,null,{"$f":"SUM(V7:V14)","v":{"$error":"#DIV/0!"}},{"$f":"-SUM(W7:W14)","v":{"$error":"#DIV/0!"}},null,null,null,{"$f":"SUM(AA7:AA14)","v":{"$error":"#DIV/0!"}},{"$f":"-SUM(AB7:AB14)","v":{"$error":"#DIV/0!"}},null,null,null,{"$f":"SUM(AF7:AF14)","v":{"$error":"#DIV/0!"}},{"$f":"-SUM(AG7:AG14)","v":{"$error":"#DIV/0!"}},null,null,null,{"$f":"SUM(AK7:AK14)","v":{"$error":"#DIV/0!"}},{"$f":"-SUM(AL7:AL14)","v":{"$error":"#DIV/0!"}},null,null,null,{"$f":"SUM(AP7:AP14)","v":{"$error":"#DIV/0!"}},{"$f":"-SUM(AQ7:AQ14)","v":{"$error":"#DIV/0!"}},null,null,null,{"$f":"SUM(AU7:AU14)","v":{"$error":"#DIV/0!"}},{"$f":"-SUM(AV7:AV14)","v":{"$error":"#DIV/0!"}}]
[11,1007,21,1020,null,null,null,null,null,null,0,12,null,null,null,"U=",{"$f":"Q15/(LOG(Q4)/LOG(2))","v":0},null,null,null,null,"U1=",{"$f":"W15/(LOG(W4)/LOG(2))","v":{"$error":"#DIV/0!"}},null,null,null,"U2=",{"$f":"AB15/(LOG(AB4)/LOG(2))","v":{"$error":"#DIV/0!"}},null,null,null,"U3=",{"$f":"AG15/(LOG(AG4)/LOG(2))","v":{"$error":"#DIV/0!"}},null,null,null,"U4=",{"$f":"AL15/(LOG(AL4)/LOG(2))","v":{"$error":"#DIV/0!"}},null,null,null,"U5=",{"$f":"AQ15/(LOG(AQ4)/LOG(2))","v":{"$error":"#DIV/0!"}},null,null,null,"U6=",{"$f":"AV15/(LOG(AV4)/LOG(2))","v":{"$error":"#DIV/0!"}}]
[11,1108,21,1122,null,null,null,null,null,null,0,12]
[11,1209,21,1223,null,null,null,null,null,null,0,12]
[11,1339,21,1348,null,null,null,null,null,null,0,12,null,"Total Target Seq"]
[11,1434,21,1447,null,null,null,null,null,null,0,12,null,{"$f":"COUNTIF(L7:L46,G3)","v":40},null,7,6,7,7,6,7]
[11,1537,21,1549,null,null,null,null,null,null,0,12,null,null,null,"% of reinforcement given in 6 equal intervals based on number of trials "]
[11,1637,21,1651,null,null,null,null,null,null,0,12,null,null,null,"%_1","%_2","%_3","%_4","%_5","%_6"]
[11,1741,21,1799,null,null,null,null,null,null,0,12,null,null,"target sequence",{"$f":"$G$3","v":12},{"$f":"$G$3","v":12},{"$f":"$G$3","v":12},{"$f":"$G$3","v":12},{"$f":"$G$3","v":12},{"$f":"$G$3","v":12}]
[11,1887,21,1899,null,null,null,null,null,null,0,12,null,null,"total reinforcement",{"$f":"U8","v":7},{"$f":"Z8","v":6},{"$f":"AE8","v":7},{"$f":"AJ8","v":7},{"$f":"AO8","v":6},{"$f":"AT8","v":7}]
[11,1987,21,2000,null,null,null,null,null,null,0,12,null,null,"% target"]
[11,2088,21,2100,null,null,null,null,null,null,0,12,null,null,"CCRF"]
[11,2188,21,2209,null,null,null,null,null,null,0,12,null,null,"% CCRf"]
[11,2296,21,2308,null,null,null,null,null,null,0,12,null,null,"average response rate",{"$f":"D13/P20","v":100.85714285714286},{"$f":"(D19-D13)/Q20","v":107},{"$f":"(D26-D19)/R20","v":107.42857142857143},{"$f":"(D33-D26)/S20","v":110.42857142857143},{"$f":"(D39-D33)/T20","v":107},{"$f":"(D46-D39)/U20","v":105}]
[11,2396,21,2442,null,null,null,null,null,null,0,12]
[11,2529,21,2543,null,null,null,null,null,null,0,12]
[11,2636,21,2668,null,null,null,null,null,null,0,12]
[11,2761,21,2772,null,null,null,null,null,null,0,12]
[11,2859,21,2873,null,null,null,null,null,null,0,12]
[11,2961,21,2998,null,null,null,null,null,null,0,12]
[11,3091,21,3103,null,null,null,null,null,null,0,12]
[11,3192,21,3204,null,null,null,null,null,null,0,12]
[11,3293,21,3306,null,null,null,null,null,null,0,12]
[11,3393,21,3418,null,null,null,null,null,null,0,12]
[11,3506,21,3515,null,null,null,null,null,null,0,12]
[11,3602,21,3614,null,null,null,null,null,null,0,12]
[11,3700,21,3732,null,null,null,null,null,null,0,12]
[11,3824,21,3833,null,null,null,null,null,null,0,12]
[11,3927,21,3938,null,null,null,null,null,null,0,12]
[11,4025,21,4050,null,null,null,null,null,null,0,12]
[11,4136,21,4149,null,null,null,null,null,null,0,12]
[11,4237,21,4250,null,null,null,null,null,null,1,12]

{"sheet":"!N118850.091","index":32,"n_rows":49,"n_cols":48,"rows_kept":49,"cut":false,"hidden":false,"merged":[[4,39,4,42],[5,39,5,40],[4,44,4,47],[5,44,5,45],[4,24,4,27],[5,24,5,25],[4,29,4,32],[5,29,5,30],[4,34,4,37],[5,34,5,35],[1,1,1,2],[5,13,5,14],[18,13,18,14],[19,13,19,14],[4,19,4,22],[5,19,5,20]]}
["Report for:!N118850.091"]
["Date:","<date>"]
["Hen:","<hen>",null,null,null,"Correct Sequence",{"$f":"Start!J2","v":12},null,null,null,null,null,null,null,null,"Total Sequences in Data",{"$f":"4994-COUNTBLANK(L7:L5000)","v":43},null,null,null,null,"Total Sequences in Block Data",{"$f":"COUNTA(L7:L13)","v":7},null,null,null,"Total Sequences in Block Data",{"$f":"COUNTA(L14:L20)","v":7},null,null,null,"Total Sequences in Block Data",{"$f":"COUNTA(L21:L28)","v":8},null,null,null,"Total Sequences in Block Data",{"$f":"COUNTA(L29:L35)","v":7},null,null,null,"Total Sequences in Block Data",{"$f":"COUNTA(L36:L42)","v":7},null,null,null,"Total Sequences in Block Data",{"$f":"COUNTA(L43:L49)","v":7}]
[null,null,null,null,null,null,null,null,null,null,null,null,null,null,null,"Total Sequences in Summary",{"$f":"SUM(O7:O14)","v":43},null,null,null,null,"Total Sequences in Block Summary",{"$f":"SUM(U7:U14)","v":7},null,null,null,"Total Sequences in Block Summary",{"$f":"SUM(Z7:Z14)","v":7},null,null,null,"Total Sequences in Block Summary",{"$f":"SUM(AE7:AE14)","v":8},null,null,null,"Total Sequences in Block Summary",{"$f":"SUM(AJ7:AJ14)","v":7},null,null,null,"Total Sequences in Block Summary",{"$f":"SUM(AO7:AO14)","v":7},null,null,null,"Total Sequences in Block Summary",{"$f":"SUM(AT7:AT14)","v":7}]
[null,null,null,null,null,null,null,null,null,null,null,null,null,null,null,null,null,null,null,"Block 1",null,null,null,null,"Block 2",null,null,null,null,"Block 3",null,null,null,null,"Block 4",null,null,null,null,"Block 5",null,null,null,null,"Block 6"]
["Sequence\nComponent\n1","Time\n1","Sequence\nComponent\n2","Time\n2","Sequence\nComponent\n3","Time\n3","Sequence\nComponent\n4","Time\n4","Sequence\nComponent\n5","Time\n5","Correct?\n0=No 1=Yes","Sequence",null,"Frequency",null,"Relative Frequency","Variability",null,null,"Frequency",null,"Relative Frequency","Variability",null,"Frequency",null,"Relative Frequency","Variability",null,"Frequency",null,"Relative Frequency","Variability",null,"Frequency",null,"Relative Frequency","Variability",null,"Frequency",null,"Relative Frequency","Variability",null,"Frequency",null,"Relative Frequency","Variability"]
[11,10,21,20,null,null,null,null,null,null,0,12,null,11,{"$f":"COUNTIF($L$7:$L$500,N7)","v":0},{"$f":"O7/$Q$4","v":0},{"$f":"IF(P7=0,0,(P7*((LOG(P7))/LOG(2))))","v":0},null,null,{"$f":"N7","v":11},{"$f":"COUNTIF(L7:L13,T7)","v":0},{"$f":"U7/(W4-U8)","v":0},{"$f":"IF(V7=0,0,(V7*((LOG(V7))/LOG(2))))","v":0},null,{"$f":"N7","v":11},{"$f":"COUNTIF(L14:L20,Y7)","v":0},{"$f":"Z7/(AB4-Z8)","v":0},{"$f":"IF(AA7=0,0,(AA7*((LOG(AA7))/LOG(2))))","v":0},null,{"$f":"N7","v":11},{"$f":"COUNTIF(L21:L28,AD7)","v":0},{"$f":"AE7/(AG4-AE8)","v":{"$error":"#DIV/0!"}},{"$f":"IF(AF7=0,0,(AF7*((LOG(AF7))/LOG(2))))","v":{"$error":"#DIV/0!"}},null,{"$f":"N7","v":11},{"$f":"COUNTIF(L29:L35,AI7)","v":0},{"$f":"AJ7/(AL4-AJ8)","v":{"$error":"#DIV/0!"}},{"$f":"IF(AK7=0,0,(AK7*((LOG(AK7))/LOG(2))))","v":{"$error":"#DIV/0!"}},null,{"$f":"N7","v":11},{"$f":"COUNTIF(L36:L42,AN7)","v":0},{"$f":"AO7/(AQ4-AO8)","v":{"$error":"#DIV/0!"}},{"$f":"IF(AP7=0,0,(AP7*((LOG(AP7))/LOG(2))))","v":{"$error":"#DIV/0!"}},null,{"$f":"N7","v":11},{"$f":"COUNTIF(L43:L49,AS7)","v":0},{"$f":"AT7/(AV4-AT8)","v":{"$error":"#DIV/0!"}},{"$f":"IF(AU7=0,0,(AU7*((LOG(AU7))/LOG(2))))","v":{"$error":"#DIV/0!"}}]
[22,118,23,132,null,null,null,null,null,null,0,22,null,12,{"$f":"COUNTIF($L$7:$L$500,N8)","v":40},{"$f":"O8/$Q$4","v":0.93023255813953487},{"$f":"IF(P8=0,0,(P8*((LOG(P8))/LOG(2))))","v":-9.7057357967195917E-2},null,null,{"$f":"N8","v":12},{"$f":"COUNTIF(L7:L13,T8)","v":5},null,null,null,{"$f":"N8","v":12},{"$f":"COUNTIF(L14:L20,Y8)","v":6},null,null,null,{"$f":"N8","v":12},{"$f":"COUNTIF(L21:L28,AD8)","v":8},null,null,null,{"$f":"N8","v":12},{"$f":"COUNTIF(L29:L35,AI8)","v":7},null,null,null,{"$f":"N8","v":12},{"$f":"COUNTIF(L36:L42,AN8)","v":7},null,null,null,{"$f":"N8","v":12},{"$f":"COUNTIF(L43:L49,AS8)","v":7}]
[11,231,21,245,null,null,null,null,null,null,0,12,null,21,{"$f":"COUNTIF($L$7:$L$500,N9)","v":1},{"$f":"O9/$Q$4","v":2.3255813953488372E-2},{"$f":"IF(P9=0,0,(P9*((LOG(P9))/LOG(2))))","v":-0.12619220359772321},null,null,{"$f":"N9","v":21},{"$f":"COUNTIF(L7:L13,T9)","v":1},{"$f":"U9/(W4-U8)","v":0.5},{"$f":"IF(V9=0,0,(V9*((LOG(V9))/LOG(2))))","v":-0.5},null,{"$f":"N9","v":21},{"$f":"COUNTIF(L14:L20,Y9)","v":0},{"$f":"Z9/(AB4-Z8)","v":0},{"$f":"IF(AA9=0,0,(AA9*((LOG(AA9))/LOG(2))))","v":0},null,{"$f":"N9","v":21},{"$f":"COUNTIF(L21:L28,AD9)","v":0},{"$f":"AE9/(AG4-AE8)","v":{"$error":"#DIV/0!"}},{"$f":"IF(AF9=0,0,(AF9*((LOG(AF9))/LOG(2))))","v":{"$error":"#DIV/0!"}},null,{"$f":"N9","v":21},{"$f":"COUNTIF(L29:L35,AI9)","v":0},{"$f":"AJ9/(AL4-AJ8)","v":{"$error":"#DIV/0!"}},{"$f":"IF(AK9=0,0,(AK9*((LOG(AK9))/LOG(2))))","v":{"$error":"#DIV/0!"}},null,{"$f":"N9","v":21},{"$f":"COUNTIF(L36:L42,AN9)","v":0},{"$f":"AO9/(AQ4-AO8)","v":{"$error":"#DIV/0!"}},{"$f":"IF(AP9=0,0,(AP9*((LOG(AP9))/LOG(2))))","v":{"$error":"#DIV/0!"}},null,{"$f":"N9","v":21},{"$f":"COUNTIF(L43:L49,AS9)","v":0},{"$f":"AT9/(AV4-AT8)","v":{"$error":"#DIV/0!"}},{"$f":"IF(AU9=0,0,(AU9*((LOG(AU9))/LOG(2))))","v":{"$error":"#DIV/0!"}}]
[11,332,21,346,null,null,null,null,null,null,0,12,null,22,{"$f":"COUNTIF($L$7:$L$500,N10)","v":2},{"$f":"O10/$Q$4","v":4.6511627906976744E-2},{"$f":"IF(P10=0,0,(P10*((LOG(P10))/LOG(2))))","v":-0.20587277928846967},null,null,{"$f":"N10","v":22},{"$f":"COUNTIF(L7:L13,T10)","v":1},{"$f":"U10/(W4-U8)","v":0.5},{"$f":"IF(V10=0,0,(V10*((LOG(V10))/LOG(2))))","v":-0.5},null,{"$f":"N10","v":22},{"$f":"COUNTIF(L14:L20,Y10)","v":1},{"$f":"Z10/(AB4-Z8)","v":1},{"$f":"IF(AA10=0,0,(AA10*((LOG(AA10))/LOG(2))))","v":0},null,{"$f":"N10","v":22},{"$f":"COUNTIF(L21:L28,AD10)","v":0},{"$f":"AE10/(AG4-AE8)","v":{"$error":"#DIV/0!"}},{"$f":"IF(AF10=0,0,(AF10*((LOG(AF10))/LOG(2))))","v":{"$error":"#DIV/0!"}},null,{"$f":"N10","v":22},{"$f":"COUNTIF(L29:L35,AI10)","v":0},{"$f":"AJ10/(AL4-AJ8)","v":{"$error":"#DIV/0!"}},{"$f":"IF(AK10=0,0,(AK10*((LOG(AK10))/LOG(2))))","v":{"$error":"#DIV/0!"}},null,{"$f":"N10","v":22},{"$f":"COUNTIF(L36:L42,AN10)","v":0},{"$f":"AO10/(AQ4-AO8)","v":{"$error":"#DIV/0!"}},{"$f":"IF(AP10=0,0,(AP10*((LOG(AP10))/LOG(2))))","v":{"$error":"#DIV/0!"}},null,{"$f":"N10","v":22},{"$f":"COUNTIF(L43:L49,AS10)","v":0},{"$f":"AT10/(AV4-AT8)","v":{"$error":"#DIV/0!"}},{"$f":"IF(AU10=0,0,(AU10*((LOG(AU10))/LOG(2))))","v":{"$error":"#DIV/0!"}}]
[11,433,21,447,null,null,null,null,null,null,0,12,null,null,null,null,null,null,null,{"$f":"N11","v":0},{"$f":"COUNTIF(L7:L13,T11)","v":0},{"$f":"U11/(W4-U8)","v":0},{"$f":"IF(V11=0,0,(V11*((LOG(V11))/LOG(2))))","v":0},null,{"$f":"N11","v":0},{"$f":"COUNTIF(L14:L20,Y11)","v":0},{"$f":"Z11/(AB4-Z8)","v":0},{"$f":"IF(AA11=0,0,(AA11*((LOG(AA11))/LOG(2))))","v":0},null,{"$f":"N11","v":0},{"$f":"COUNTIF(L21:L28,AD11)","v":0},{"$f":"AE11/(AG4-AE8)","v":{"$error":"#DIV/0!"}},{"$f":"IF(AF11=0,0,(AF11*((LOG(AF11))/LOG(2))))","v":{"$error":"#DIV/0!"}},null,{"$f":"N11","v":0},{"$f":"COUNTIF(L29:L35,AI11)","v":0},{"$f":"AJ11/(AL4-AJ8)","v":{"$error":"#DIV/0!"}},{"$f":"IF(AK11=0,0,(AK11*((LOG(AK11))/LOG(2))))","v":{"$error":"#DIV/0!"}},null,{"$f":"N11","v":0},{"$f":"COUNTIF(L36:L42,AN11)","v":0},{"$f":"AO11/(AQ4-AO8)","v":{"$error":"#DIV/0!"}},{"$f":"IF(AP11=0,0,(AP11*((LOG(AP11))/LOG(2))))","v":{"$error":"#DIV/0!"}},null,{"$f":"N11","v":0},{"$f":"COUNTIF(L43:L49,AS11)","v":0},{"$f":"AT11/(AV4-AT8)","v":{"$error":"#DIV/0!"}},{"$f":"IF(AU11=0,0,(AU11*((LOG(AU11))/LOG(2))))","v":{"$error":"#DIV/0!"}}]
[11,538,21,550,null,null,null,null,null,null,0,12,null,null,null,null,null,null,null,{"$f":"N12","v":0},{"$f":"COUNTIF(L7:L13,T12)","v":0},{"$f":"U12/(W4-U8)","v":0},{"$f":"IF(V12=0,0,(V12*((LOG(V12))/LOG(2))))","v":0},null,{"$f":"N12","v":0},{"$f":"COUNTIF(L14:L20,Y12)","v":0},{"$f":"Z12/(AB4-Z8)","v":0},{"$f":"IF(AA12=0,0,(AA12*((LOG(AA12))/LOG(2))))","v":0},null,{"$f":"N12","v":0},{"$f":"COUNTIF(L21:L28,AD12)","v":0},{"$f":"AE12/(AG4-AE8)","v":{"$error":"#DIV/0!"}},{"$f":"IF(AF12=0,0,(AF12*((LOG(AF12))/LOG(2))))","v":{"$error":"#DIV/0!"}},null,{"$f":"N12","v":0},{"$f":"COUNTIF(L29:L35,AI12)","v":0},{"$f":"AJ12/(AL4-AJ8)","v":{"$error":"#DIV/0!"}},{"$f":"IF(AK12=0,0,(AK12*((LOG(AK12))/LOG(2))))","v":{"$error":"#DIV/0!"}},null,{"$f":"N12","v":0},{"$f":"COUNTIF(L36:L42,AN12)","v":0},{"$f":"AO12/(AQ4-AO8)","v":{"$error":"#DIV/0!"}},{"$f":"IF(AP12=0,0,(AP12*((LOG(AP12))/LOG(2))))","v":{"$error":"#DIV/0!"}},null,{"$f":"N12","v":0},{"$f":"COUNTIF(L43:L49,AS12)","v":0},{"$f":"AT12/(AV4-AT8)","v":{"$error":"#DIV/0!"}},{"$f":"IF(AU12=0,0,(AU12*((LOG(AU12))/LOG(2))))","v":{"$error":"#DIV/0!"}}]
[22,658,14,669,null,null,null,null,null,null,0,21,null,null,null,null,null,null,null,{"$f":"N13","v":0},{"$f":"COUNTIF(L7:L13,T13)","v":0},{"$f":"U13/(W4-U8)","v":0},{"$f":"IF(V13=0,0,(V13*((LOG(V13))/LOG(2))))","v":0},null,{"$f":"N13","v":0},{"$f":"COUNTIF(L14:L20,Y13)","v":0},{"$f":"Z13/(AB4-Z8)","v":0},{"$f":"IF(AA13=0,0,(AA13*((LOG(AA13))/LOG(2))))","v":0},null,{"$f":"N13","v":0},{"$f":"COUNTIF(L21:L28,AD13)","v":0},{"$f":"AE13/(AG4-AE8)","v":{"$error":"#DIV/0!"}},{"$f":"IF(AF13=0,0,(AF13*((LOG(AF13))/LOG(2))))","v":{"$error":"#DIV/0!"}},null,{"$f":"N13","v":0},{"$f":"COUNTIF(L29:L35,AI13)","v":0},{"$f":"AJ13/(AL4-AJ8)","v":{"$error":"#DIV/0!"}},{"$f":"IF(AK13=0,0,(AK13*((LOG(AK13))/LOG(2))))","v":{"$error":"#DIV/0!"}},null,{"$f":"N13","v":0},{"$f":"COUNTIF(L36:L42,AN13)","v":0},{"$f":"AO13/(AQ4-AO8)","v":{"$error":"#DIV/0!"}},{"$f":"IF(AP13=0,0,(AP13*((LOG(AP13))/LOG(2))))","v":{"$error":"#DIV/0!"}},null,{"$f":"N13","v":0},{"$f":"COUNTIF(L43:L49,AS13)","v":0},{"$f":"AT13/(AV4-AT8)","v":{"$error":"#DIV/0!"}},{"$f":"IF(AU13=0,0,(AU13*((LOG(AU13))/LOG(2))))","v":{"$error":"#DIV/0!"}}]
[11,765,21,781,null,null,null,null,null,null,0,12,null,null,null,null,null,null,null,{"$f":"N14","v":0},{"$f":"COUNTIF(L7:L13,T14)","v":0},{"$f":"U14/(W4-U8)","v":0},{"$f":"IF(V14=0,0,(V14*((LOG(V14))/LOG(2))))","v":0},null,{"$f":"N14","v":0},{"$f":"COUNTIF(L14:L20,Y14)","v":0},{"$f":"Z14/(AB4-Z8)","v":0},{"$f":"IF(AA14=0,0,(AA14*((LOG(AA14))/LOG(2))))","v":0},null,{"$f":"N14","v":0},{"$f":"COUNTIF(L21:L28,AD14)","v":0},{"$f":"AE14/(AG4-AE8)","v":{"$error":"#DIV/0!"}},{"$f":"IF(AF14=0,0,(AF14*((LOG(AF14))/LOG(2))))","v":{"$error":"#DIV/0!"}},null,{"$f":"N14","v":0},{"$f":"COUNTIF(L29:L35,AI14)","v":0},{"$f":"AJ14/(AL4-AJ8)","v":{"$error":"#DIV/0!"}},{"$f":"IF(AK14=0,0,(AK14*((LOG(AK14))/LOG(2))))","v":{"$error":"#DIV/0!"}},null,{"$f":"N14","v":0},{"$f":"COUNTIF(L36:L42,AN14)","v":0},{"$f":"AO14/(AQ4-AO8)","v":{"$error":"#DIV/0!"}},{"$f":"IF(AP14=0,0,(AP14*((LOG(AP14))/LOG(2))))","v":{"$error":"#DIV/0!"}},null,{"$f":"N14","v":0},{"$f":"COUNTIF(L43:L49,AS14)","v":0},{"$f":"AT14/(AV4-AT8)","v":{"$error":"#DIV/0!"}},{"$f":"IF(AU14=0,0,(AU14*((LOG(AU14))/LOG(2))))","v":{"$error":"#DIV/0!"}}]
[11,870,21,894,null,null,null,null,null,null,0,12,null,null,null,{"$f":"SUM(P7:P14)","v":1},{"$f":"-SUM(Q7:Q14)","v":0.4291223408533888},null,null,null,null,{"$f":"SUM(V7:V14)","v":1},{"$f":"-SUM(W7:W14)","v":1},null,null,null,{"$f":"SUM(AA7:AA14)","v":1},{"$f":"-SUM(AB7:AB14)","v":0},null,null,null,{"$f":"SUM(AF7:AF14)","v":{"$error":"#DIV/0!"}},{"$f":"-SUM(AG7:AG14)","v":{"$error":"#DIV/0!"}},null,null,null,{"$f":"SUM(AK7:AK14)","v":{"$error":"#DIV/0!"}},{"$f":"-SUM(AL7:AL14)","v":{"$error":"#DIV/0!"}},null,null,null,{"$f":"SUM(AP7:AP14)","v":{"$error":"#DIV/0!"}},{"$f":"-SUM(AQ7:AQ14)","v":{"$error":"#DIV/0!"}},null,null,null,{"$f":"SUM(AU7:AU14)","v":{"$error":"#DIV/0!"}},{"$f":"-SUM(AV7:AV14)","v":{"$error":"#DIV/0!"}}]
[22,996,23,1008,null,null,null,null,null,null,0,22,null,null,null,"U=",{"$f":"Q15/(LOG(Q4)/LOG(2))","v":7.9082455473912391E-2},null,null,null,null,"U1=",{"$f":"W15/(LOG(W4)/LOG(2))","v":0.35620718710802218},null,null,null,"U2=",{"$f":"AB15/(LOG(AB4)/LOG(2))","v":0},null,null,null,"U3=",{"$f":"AG15/(LOG(AG4)/LOG(2))","v":{"$error":"#DIV/0!"}},null,null,null,"U4=",{"$f":"AL15/(LOG(AL4)/LOG(2))","v":{"$error":"#DIV/0!"}},null,null,null,"U5=",{"$f":"AQ15/(LOG(AQ4)/LOG(2))","v":{"$error":"#DIV/0!"}},null,null,null,"U6=",{"$f":"AV15/(LOG(AV4)/LOG(2))","v":{"$error":"#DIV/0!"}}]
[11,1105,21,1119,null,null,null,null,null,null,0,12]
[11,1209,21,1222,null,null,null,null,null,null,0,12]
[11,1313,21,1336,null,null,null,null,null,null,0,12,null,"Total Target Seq"]
[11,1425,21,1439,null,null,null,null,null,null,0,12,null,{"$f":"COUNTIF(L7:L49,G3)","v":40},null,7,7,8,7,7,7]
[11,1527,21,1541,null,null,null,null,null,null,0,12,null,null,null,"% of reinforcement given in 6 equal intervals based on number of trials "]
[11,1628,21,1643,null,null,null,null,null,null,0,12,null,null,null,"%_1","%_2","%_3","%_4","%_5","%_6"]
[11,1733,21,1771,null,null,null,null,null,null,0,12,null,null,"target sequence",{"$f":"$G$3","v":12},{"$f":"$G$3","v":12},{"$f":"$G$3","v":12},{"$f":"$G$3","v":12},{"$f":"$G$3","v":12},{"$f":"$G$3","v":12}]
[11,1861,21,1892,null,null,null,null,null,null,0,12,null,null,"total reinforcement",{"$f":"U8","v":5},{"$f":"Z8","v":6},{"$f":"AE8","v":8},{"$f":"AJ8","v":7},{"$f":"AO8","v":7},{"$f":"AT8","v":7}]
[11,1981,21,2010,null,null,null,null,null,null,0,12,null,null,"% target"]
[11,2098,21,2110,null,null,null,null,null,null,0,12,null,null,"CCRF"]
[11,2197,21,2210,null,null,null,null,null,null,0,12,null,null,"% CCRf"]
[11,2297,21,2309,null,null,null,null,null,null,0,12,null,null,"average response rate",{"$f":"D13/P20","v":95.571428571428569},{"$f":"(D20-D13)/Q20","v":110},{"$f":"(D28-D20)/R20","v":108.75},{"$f":"(D35-D28)/S20","v":103.14285714285714},{"$f":"(D42-D35)/T20","v":103.14285714285714},{"$f":"(D49-D42)/U20","v":105.85714285714286}]
[11,2398,21,2410,null,null,null,null,null,null,0,12]
[11,2500,21,2513,null,null,null,null,null,null,0,12]
[11,2601,21,2614,null,null,null,null,null,null,0,12]
[11,2704,21,2716,null,null,null,null,null,null,0,12]
[11,2806,21,2828,null,null,null,null,null,null,0,12]
[11,2915,21,2928,null,null,null,null,null,null,0,12]
[11,3019,21,3031,null,null,null,null,null,null,0,12]
[11,3118,21,3131,null,null,null,null,null,null,0,12]
[11,3222,21,3233,null,null,null,null,null,null,0,12]
[11,3326,21,3338,null,null,null,null,null,null,0,12]
[11,3427,21,3448,null,null,null,null,null,null,0,12]
[11,3537,21,3550,null,null,null,null,null,null,0,12]
[11,3638,21,3649,null,null,null,null,null,null,0,12]
[11,3741,21,3753,null,null,null,null,null,null,0,12]
[11,3840,21,3865,null,null,null,null,null,null,0,12]
[11,3953,21,3977,null,null,null,null,null,null,0,12]
[11,4063,21,4076,null,null,null,null,null,null,0,12]
[11,4163,21,4186,null,null,null,null,null,null,0,12]
[11,4273,21,4287,null,null,null,null,null,null,0,12]
[11,4375,21,4386,null,null,null,null,null,null,0,12]
[11,4473,21,4494,null,null,null,null,null,null,1,12]

{"sheet":"!N119750.091","index":33,"n_rows":55,"n_cols":48,"rows_kept":55,"cut":false,"hidden":false,"merged":[[4,39,4,42],[5,39,5,40],[4,44,4,47],[5,44,5,45],[4,24,4,27],[5,24,5,25],[4,29,4,32],[5,29,5,30],[4,34,4,37],[5,34,5,35],[1,1,1,2],[5,13,5,14],[18,13,18,14],[19,13,19,14],[4,19,4,22],[5,19,5,20]]}
["Report for:!N119750.091"]
["Date:","<date>"]
["Hen:","<hen>",null,null,null,"Correct Sequence",{"$f":"Start!J2","v":12},null,null,null,null,null,null,null,null,"Total Sequences in Data",{"$f":"4994-COUNTBLANK(L7:L5000)","v":49},null,null,null,null,"Total Sequences in Block Data",{"$f":"COUNTA(L7:L14)","v":8},null,null,null,"Total Sequences in Block Data",{"$f":"COUNTA(L15:L22)","v":8},null,null,null,"Total Sequences in Block Data",{"$f":"COUNTA(L23:L31)","v":9},null,null,null,"Total Sequences in Block Data",{"$f":"COUNTA(L32:L39)","v":8},null,null,null,"Total Sequences in Block Data",{"$f":"COUNTA(L40:L47)","v":8},null,null,null,"Total Sequences in Block Data",{"$f":"COUNTA(L48:L55)","v":8}]
[null,null,null,null,null,null,null,null,null,null,null,null,null,null,null,"Total Sequences in Summary",{"$f":"SUM(O7:O14)","v":49},null,null,null,null,"Total Sequences in Block Summary",{"$f":"SUM(U7:U14)","v":8},null,null,null,"Total Sequences in Block Summary",{"$f":"SUM(Z7:Z14)","v":8},null,null,null,"Total Sequences in Block Summary",{"$f":"SUM(AE7:AE14)","v":9},null,null,null,"Total Sequences in Block Summary",{"$f":"SUM(AJ7:AJ14)","v":8},null,null,null,"Total Sequences in Block Summary",{"$f":"SUM(AO7:AO14)","v":8},null,null,null,"Total Sequences in Block Summary",{"$f":"SUM(AT7:AT14)","v":8}]
[null,null,null,null,null,null,null,null,null,null,null,null,null,null,null,null,null,null,null,"Block 1",null,null,null,null,"Block 2",null,null,null,null,"Block 3",null,null,null,null,"Block 4",null,null,null,null,"Block 5",null,null,null,null,"Block 6"]
["Sequence\nComponent\n1","Time\n1","Sequence\nComponent\n2","Time\n2","Sequence\nComponent\n3","Time\n3","Sequence\nComponent\n4","Time\n4","Sequence\nComponent\n5","Time\n5","Correct?\n0=No 1=Yes","Sequence",null,"Frequency",null,"Relative Frequency","Variability",null,null,"Frequency",null,"Relative Frequency","Variability",null,"Frequency",null,"Relative Frequency","Variability",null,"Frequency",null,"Relative Frequency","Variability",null,"Frequency",null,"Relative Frequency","Variability",null,"Frequency",null,"Relative Frequency","Variability",null,"Frequency",null,"Relative Frequency","Variability"]
[11,23,21,38,null,null,null,null,null,null,0,12,null,11,{"$f":"COUNTIF($L$7:$L$500,N7)","v":8},{"$f":"O7/$Q$4","v":0.16326530612244897},{"$f":"IF(P7=0,0,(P7*((LOG(P7))/LOG(2))))","v":-0.42689140312085033},null,null,{"$f":"N7","v":11},{"$f":"COUNTIF(L7:L14,T7)","v":0},{"$f":"U7/(W4-U8)","v":{"$error":"#DIV/0!"}},{"$f":"IF(V7=0,0,(V7*((LOG(V7))/LOG(2))))","v":{"$error":"#DIV/0!"}},null,{"$f":"N7","v":11},{"$f":"COUNTIF(L15:L22,Y7)","v":4},{"$f":"Z7/(AB4-Z8)","v":0.8},{"$f":"IF(AA7=0,0,(AA7*((LOG(AA7))/LOG(2))))","v":-0.25754247590988982},null,{"$f":"N7","v":11},{"$f":"COUNTIF(L23:L31,AD7)","v":3},{"$f":"AE7/(AG4-AE8)","v":1},{"$f":"IF(AF7=0,0,(AF7*((LOG(AF7))/LOG(2))))","v":0},null,{"$f":"N7","v":11},{"$f":"COUNTIF(L32:L39,AI7)","v":1},{"$f":"AJ7/(AL4-AJ8)","v":1},{"$f":"IF(AK7=0,0,(AK7*((LOG(AK7))/LOG(2))))","v":0},null,{"$f":"N7","v":11},{"$f":"COUNTIF(L40:L47,AN7)","v":0},{"$f":"AO7/(AQ4-AO8)","v":{"$error":"#DIV/0!"}},{"$f":"IF(AP7=0,0,(AP7*((LOG(AP7))/LOG(2))))","v":{"$error":"#DIV/0!"}},null,{"$f":"N7","v":11},{"$f":"COUNTIF(L48:L55,AS7)","v":0},{"$f":"AT7/(AV4-AT8)","v":{"$error":"#DIV/0!"}},{"$f":"IF(AU7=0,0,(AU7*((LOG(AU7))/LOG(2))))","v":{"$error":"#DIV/0!"}}]
[11,127,21,140,null,null,null,null,null,null,0,12,null,12,{"$f":"COUNTIF($L$7:$L$500,N8)","v":40},{"$f":"O8/$Q$4","v":0.81632653061224492},{"$f":"IF(P8=0,0,(P8*((LOG(P8))/LOG(2))))","v":-0.23900550957375172},null,null,{"$f":"N8","v":12},{"$f":"COUNTIF(L7:L14,T8)","v":8},null,null,null,{"$f":"N8","v":12},{"$f":"COUNTIF(L15:L22,Y8)","v":3},null,null,null,{"$f":"N8","v":12},{"$f":"COUNTIF(L23:L31,AD8)","v":6},null,null,null,{"$f":"N8","v":12},{"$f":"COUNTIF(L32:L39,AI8)","v":7},null,null,null,{"$f":"N8","v":12},{"$f":"COUNTIF(L40:L47,AN8)","v":8},null,null,null,{"$f":"N8","v":12},{"$f":"COUNTIF(L48:L55,AS8)","v":8}]
[11,246,21,305,null,null,null,null,null,null,0,12,null,21,{"$f":"COUNTIF($L$7:$L$500,N9)","v":1},{"$f":"O9/$Q$4","v":2.0408163265306121E-2},{"$f":"IF(P9=0,0,(P9*((LOG(P9))/LOG(2))))","v":-0.11458591518602465},null,null,{"$f":"N9","v":21},{"$f":"COUNTIF(L7:L14,T9)","v":0},{"$f":"U9/(W4-U8)","v":{"$error":"#DIV/0!"}},{"$f":"IF(V9=0,0,(V9*((LOG(V9))/LOG(2))))","v":{"$error":"#DIV/0!"}},null,{"$f":"N9","v":21},{"$f":"COUNTIF(L15:L22,Y9)","v":1},{"$f":"Z9/(AB4-Z8)","v":0.2},{"$f":"IF(AA9=0,0,(AA9*((LOG(AA9))/LOG(2))))","v":-0.46438561897747244},null,{"$f":"N9","v":21},{"$f":"COUNTIF(L23:L31,AD9)","v":0},{"$f":"AE9/(AG4-AE8)","v":0},{"$f":"IF(AF9=0,0,(AF9*((LOG(AF9))/LOG(2))))","v":0},null,{"$f":"N9","v":21},{"$f":"COUNTIF(L32:L39,AI9)","v":0},{"$f":"AJ9/(AL4-AJ8)","v":0},{"$f":"IF(AK9=0,0,(AK9*((LOG(AK9))/LOG(2))))","v":0},null,{"$f":"N9","v":21},{"$f":"COUNTIF(L40:L47,AN9)","v":0},{"$f":"AO9/(AQ4-AO8)","v":{"$error":"#DIV/0!"}},{"$f":"IF(AP9=0,0,(AP9*((LOG(AP9))/LOG(2))))","v":{"$error":"#DIV/0!"}},null,{"$f":"N9","v":21},{"$f":"COUNTIF(L48:L55,AS9)","v":0},{"$f":"AT9/(AV4-AT8)","v":{"$error":"#DIV/0!"}},{"$f":"IF(AU9=0,0,(AU9*((LOG(AU9))/LOG(2))))","v":{"$error":"#DIV/0!"}}]
[11,395,21,422,null,null,null,null,null,null,0,12,null,22,{"$f":"COUNTIF($L$7:$L$500,N10)","v":0},{"$f":"O10/$Q$4","v":0},{"$f":"IF(P10=0,0,(P10*((LOG(P10))/LOG(2))))","v":0},null,null,{"$f":"N10","v":22},{"$f":"COUNTIF(L7:L14,T10)","v":0},{"$f":"U10/(W4-U8)","v":{"$error":"#DIV/0!"}},{"$f":"IF(V10=0,0,(V10*((LOG(V10))/LOG(2))))","v":{"$error":"#DIV/0!"}},null,{"$f":"N10","v":22},{"$f":"COUNTIF(L15:L22,Y10)","v":0},{"$f":"Z10/(AB4-Z8)","v":0},{"$f":"IF(AA10=0,0,(AA10*((LOG(AA10))/LOG(2))))","v":0},null,{"$f":"N10","v":22},{"$f":"COUNTIF(L23:L31,AD10)","v":0},{"$f":"AE10/(AG4-AE8)","v":0},{"$f":"IF(AF10=0,0,(AF10*((LOG(AF10))/LOG(2))))","v":0},null,{"$f":"N10","v":22},{"$f":"COUNTIF(L32:L39,AI10)","v":0},{"$f":"AJ10/(AL4-AJ8)","v":0},{"$f":"IF(AK10=0,0,(AK10*((LOG(AK10))/LOG(2))))","v":0},null,{"$f":"N10","v":22},{"$f":"COUNTIF(L40:L47,AN10)","v":0},{"$f":"AO10/(AQ4-AO8)","v":{"$error":"#DIV/0!"}},{"$f":"IF(AP10=0,0,(AP10*((LOG(AP10))/LOG(2))))","v":{"$error":"#DIV/0!"}},null,{"$f":"N10","v":22},{"$f":"COUNTIF(L48:L55,AS10)","v":0},{"$f":"AT10/(AV4-AT8)","v":{"$error":"#DIV/0!"}},{"$f":"IF(AU10=0,0,(AU10*((LOG(AU10))/LOG(2))))","v":{"$error":"#DIV/0!"}}]
[11,510,21,535,null,null,null,null,null,null,0,12,null,null,null,null,null,null,null,{"$f":"N11","v":0},{"$f":"COUNTIF(L7:L14,T11)","v":0},{"$f":"U11/(W4-U8)","v":{"$error":"#DIV/0!"}},{"$f":"IF(V11=0,0,(V11*((LOG(V11))/LOG(2))))","v":{"$error":"#DIV/0!"}},null,{"$f":"N11","v":0},{"$f":"COUNTIF(L15:L22,Y11)","v":0},{"$f":"Z11/(AB4-Z8)","v":0},{"$f":"IF(AA11=0,0,(AA11*((LOG(AA11))/LOG(2))))","v":0},null,{"$f":"N11","v":0},{"$f":"COUNTIF(L23:L31,AD11)","v":0},{"$f":"AE11/(AG4-AE8)","v":0},{"$f":"IF(AF11=0,0,(AF11*((LOG(AF11))/LOG(2))))","v":0},null,{"$f":"N11","v":0},{"$f":"COUNTIF(L32:L39,AI11)","v":0},{"$f":"AJ11/(AL4-AJ8)","v":0},{"$f":"IF(AK11=0,0,(AK11*((LOG(AK11))/LOG(2))))","v":0},null,{"$f":"N11","v":0},{"$f":"COUNTIF(L40:L47,AN11)","v":0},{"$f":"AO11/(AQ4-AO8)","v":{"$error":"#DIV/0!"}},{"$f":"IF(AP11=0,0,(AP11*((LOG(AP11))/LOG(2))))","v":{"$error":"#DIV/0!"}},null,{"$f":"N11","v":0},{"$f":"COUNTIF(L48:L55,AS11)","v":0},{"$f":"AT11/(AV4-AT8)","v":{"$error":"#DIV/0!"}},{"$f":"IF(AU11=0,0,(AU11*((LOG(AU11))/LOG(2))))","v":{"$error":"#DIV/0!"}}]
[11,625,21,635,null,null,null,null,null,null,0,12,null,null,null,null,null,null,null,{"$f":"N12","v":0},{"$f":"COUNTIF(L7:L14,T12)","v":0},{"$f":"U12/(W4-U8)","v":{"$error":"#DIV/0!"}},{"$f":"IF(V12=0,0,(V12*((LOG(V12))/LOG(2))))","v":{"$error":"#DIV/0!"}},null,{"$f":"N12","v":0},{"$f":"COUNTIF(L15:L22,Y12)","v":0},{"$f":"Z12/(AB4-Z8)","v":0},{"$f":"IF(AA12=0,0,(AA12*((LOG(AA12))/LOG(2))))","v":0},null,{"$f":"N12","v":0},{"$f":"COUNTIF(L23:L31,AD12)","v":0},{"$f":"AE12/(AG4-AE8)","v":0},{"$f":"IF(AF12=0,0,(AF12*((LOG(AF12))/LOG(2))))","v":0},null,{"$f":"N12","v":0},{"$f":"COUNTIF(L32:L39,AI12)","v":0},{"$f":"AJ12/(AL4-AJ8)","v":0},{"$f":"IF(AK12=0,0,(AK12*((LOG(AK12))/LOG(2))))","v":0},null,{"$f":"N12","v":0},{"$f":"COUNTIF(L40:L47,AN12)","v":0},{"$f":"AO12/(AQ4-AO8)","v":{"$error":"#DIV/0!"}},{"$f":"IF(AP12=0,0,(AP12*((LOG(AP12))/LOG(2))))","v":{"$error":"#DIV/0!"}},null,{"$f":"N12","v":0},{"$f":"COUNTIF(L48:L55,AS12)","v":0},{"$f":"AT12/(AV4-AT8)","v":{"$error":"#DIV/0!"}},{"$f":"IF(AU12=0,0,(AU12*((LOG(AU12))/LOG(2))))","v":{"$error":"#DIV/0!"}}]
[11,726,21,741,null,null,null,null,null,null,0,12,null,null,null,null,null,null,null,{"$f":"N13","v":0},{"$f":"COUNTIF(L7:L14,T13)","v":0},{"$f":"U13/(W4-U8)","v":{"$error":"#DIV/0!"}},{"$f":"IF(V13=0,0,(V13*((LOG(V13))/LOG(2))))","v":{"$error":"#DIV/0!"}},null,{"$f":"N13","v":0},{"$f":"COUNTIF(L15:L22,Y13)","v":0},{"$f":"Z13/(AB4-Z8)","v":0},{"$f":"IF(AA13=0,0,(AA13*((LOG(AA13))/LOG(2))))","v":0},null,{"$f":"N13","v":0},{"$f":"COUNTIF(L23:L31,AD13)","v":0},{"$f":"AE13/(AG4-AE8)","v":0},{"$f":"IF(AF13=0,0,(AF13*((LOG(AF13))/LOG(2))))","v":0},null,{"$f":"N13","v":0},{"$f":"COUNTIF(L32:L39,AI13)","v":0},{"$f":"AJ13/(AL4-AJ8)","v":0},{"$f":"IF(AK13=0,0,(AK13*((LOG(AK13))/LOG(2))))","v":0},null,{"$f":"N13","v":0},{"$f":"COUNTIF(L40:L47,AN13)","v":0},{"$f":"AO13/(AQ4-AO8)","v":{"$error":"#DIV/0!"}},{"$f":"IF(AP13=0,0,(AP13*((LOG(AP13))/LOG(2))))","v":{"$error":"#DIV/0!"}},null,{"$f":"N13","v":0},{"$f":"COUNTIF(L48:L55,AS13)","v":0},{"$f":"AT13/(AV4-AT8)","v":{"$error":"#DIV/0!"}},{"$f":"IF(AU13=0,0,(AU13*((LOG(AU13))/LOG(2))))","v":{"$error":"#DIV/0!"}}]
[11,833,21,845,null,null,null,null,null,null,0,12,null,null,null,null,null,null,null,{"$f":"N14","v":0},{"$f":"COUNTIF(L7:L14,T14)","v":0},{"$f":"U14/(W4-U8)","v":{"$error":"#DIV/0!"}},{"$f":"IF(V14=0,0,(V14*((LOG(V14))/LOG(2))))","v":{"$error":"#DIV/0!"}},null,{"$f":"N14","v":0},{"$f":"COUNTIF(L15:L22,Y14)","v":0},{"$f":"Z14/(AB4-Z8)","v":0},{"$f":"IF(AA14=0,0,(AA14*((LOG(AA14))/LOG(2))))","v":0},null,{"$f":"N14","v":0},{"$f":"COUNTIF(L23:L31,AD14)","v":0},{"$f":"AE14/(AG4-AE8)","v":0},{"$f":"IF(AF14=0,0,(AF14*((LOG(AF14))/LOG(2))))","v":0},null,{"$f":"N14","v":0},{"$f":"COUNTIF(L32:L39,AI14)","v":0},{"$f":"AJ14/(AL4-AJ8)","v":0},{"$f":"IF(AK14=0,0,(AK14*((LOG(AK14))/LOG(2))))","v":0},null,{"$f":"N14","v":0},{"$f":"COUNTIF(L40:L47,AN14)","v":0},{"$f":"AO14/(AQ4-AO8)","v":{"$error":"#DIV/0!"}},{"$f":"IF(AP14=0,0,(AP14*((LOG(AP14))/LOG(2))))","v":{"$error":"#DIV/0!"}},null,{"$f":"N14","v":0},{"$f":"COUNTIF(L48:L55,AS14)","v":0},{"$f":"AT14/(AV4-AT8)","v":{"$error":"#DIV/0!"}},{"$f":"IF(AU14=0,0,(AU14*((LOG(AU14))/LOG(2))))","v":{"$error":"#DIV/0!"}}]
[11,941,21,953,null,null,null,null,null,null,0,12,null,null,null,{"$f":"SUM(P7:P14)","v":1},{"$f":"-SUM(Q7:Q14)","v":0.78048282788062673},null,null,null,null,{"$f":"SUM(V7:V14)","v":{"$error":"#DIV/0!"}},{"$f":"-SUM(W7:W14)","v":{"$error":"#DIV/0!"}},null,null,null,{"$f":"SUM(AA7:AA14)","v":1},{"$f":"-SUM(AB7:AB14)","v":0.72192809488736231},null,null,null,{"$f":"SUM(AF7:AF14)","v":1},{"$f":"-SUM(AG7:AG14)","v":0},null,null,null,{"$f":"SUM(AK7:AK14)","v":1},{"$f":"-SUM(AL7:AL14)","v":0},null,null,null,{"$f":"SUM(AP7:AP14)","v":{"$error":"#DIV/0!"}},{"$f":"-SUM(AQ7:AQ14)","v":{"$error":"#DIV/0!"}},null,null,null,{"$f":"SUM(AU7:AU14)","v":{"$error":"#DIV/0!"}},{"$f":"-SUM(AV7:AV14)","v":{"$error":"#DIV/0!"}}]
[11,1050,21,1064,null,null,null,null,null,null,0,12,null,null,null,"U=",{"$f":"Q15/(LOG(Q4)/LOG(2))","v":0.13900679635273633},null,null,null,null,"U1=",{"$f":"W15/(LOG(W4)/LOG(2))","v":{"$error":"#DIV/0!"}},null,null,null,"U2=",{"$f":"AB15/(LOG(AB4)/LOG(2))","v":0.24064269829578744},null,null,null,"U3=",{"$f":"AG15/(LOG(AG4)/LOG(2))","v":0},null,null,null,"U4=",{"$f":"AL15/(LOG(AL4)/LOG(2))","v":0},null,null,null,"U5=",{"$f":"AQ15/(LOG(AQ4)/LOG(2))","v":{"$error":"#DIV/0!"}},null,null,null,"U6=",{"$f":"AV15/(LOG(AV4)/LOG(2))","v":{"$error":"#DIV/0!"}}]
[22,1181,14,1211,null,null,null,null,null,null,0,21]
[11,1309,12,1319,null,null,null,null,null,null,0,11]
[11,1421,21,1436,null,null,null,null,null,null,0,12,null,"Total Target Seq"]
[11,1526,12,1539,null,null,null,null,null,null,0,11,null,{"$f":"COUNTIF(L7:L55,G3)","v":40},null,8,8,9,8,8,8]
[11,1641,12,1648,null,null,null,null,null,null,0,11,null,null,null,"% of reinforcement given in 6 equal intervals based on number of trials "]
[11,1750,12,1759,null,null,null,null,null,null,0,11,null,null,null,"%_1","%_2","%_3","%_4","%_5","%_6"]
[11,1862,12,1872,null,null,null,null,null,null,0,11,null,null,"target sequence",{"$f":"$G$3","v":12},{"$f":"$G$3","v":12},{"$f":"$G$3","v":12},{"$f":"$G$3","v":12},{"$f":"$G$3","v":12},{"$f":"$G$3","v":12}]
[11,1982,12,1991,null,null,null,null,null,null,0,11,null,null,"total reinforcement",{"$f":"U8","v":8},{"$f":"Z8","v":3},{"$f":"AE8","v":6},{"$f":"AJ8","v":7},{"$f":"AO8","v":8},{"$f":"AT8","v":8}]
[11,2096,21,2178,null,null,null,null,null,null,0,12,null,null,"% target"]
[11,2271,21,2283,null,null,null,null,null,null,0,12,null,null,"CCRF"]
[11,2375,21,2391,null,null,null,null,null,null,0,12,null,null,"% CCRf"]
[11,2482,21,2519,null,null,null,null,null,null,0,12,null,null,"average response rate",{"$f":"D14/P20","v":105.625},{"$f":"(D22-D14)/Q20","v":114.25},{"$f":"(D31-D22)/R20","v":122.22222222222223},{"$f":"(D39-D31)/S20","v":127.625},{"$f":"(D47-D39)/T20","v":108},{"$f":"(D55-D47)/U20","v":103}]
[11,2607,12,2617,null,null,null,null,null,null,0,11]
[11,2719,21,2751,null,null,null,null,null,null,0,12]
[11,2845,21,2859,null,null,null,null,null,null,0,12]
[11,2955,21,2969,null,null,null,null,null,null,0,12]
[11,3059,21,3073,null,null,null,null,null,null,0,12]
[11,3163,21,3177,null,null,null,null,null,null,0,12]
[11,3268,21,3282,null,null,null,null,null,null,0,12]
[11,3371,21,3384,null,null,null,null,null,null,0,12]
[11,3476,21,3519,null,null,null,null,null,null,0,12]
[11,3615,12,3766,null,null,null,null,null,null,0,11]
[11,3867,21,3880,null,null,null,null,null,null,0,12]
[11,3968,21,3983,null,null,null,null,null,null,0,12]
[11,4074,21,4088,null,null,null,null,null,null,0,12]
[11,4176,21,4190,null,null,null,null,null,null,0,12]
[11,4289,21,4321,null,null,null,null,null,null,0,12]
[11,4411,21,4435,null,null,null,null,null,null,0,12]
[11,4522,21,4536,null,null,null,null,null,null,0,12]
[11,4626,21,4641,null,null,null,null,null,null,0,12]
[11,4730,21,4744,null,null,null,null,null,null,0,12]
[11,4837,21,4851,null,null,null,null,null,null,0,12]
[11,4941,21,4951,null,null,null,null,null,null,0,12]
[11,5039,21,5053,null,null,null,null,null,null,0,12]
[11,5141,21,5154,null,null,null,null,null,null,0,12]
[11,5246,21,5260,null,null,null,null,null,null,0,12]
[11,5349,21,5363,null,null,null,null,null,null,0,12]
[11,5454,21,5467,null,null,null,null,null,null,0,12]
[11,5555,21,5568,null,null,null,null,null,null,1,12]