{"text_format":"1","workbook":"xlsx","n_sheets":26,"sheets":["Sample Report","Summary","Start","!MB08840.091","!MB09920.091","!MB10800.091","!MB11720.091","!MB12810.091","!MB13900.091","!MB14800.091","!MB15850.091","!MB16900.091","!MB17940.091","!MB18920.091","!MB19830.091","!MB20920.091","!MB21800.091","!MB22840.091","!MB23850.091","!MB24820.091","!MB25800.091","!MB26840.091","!MB27910.091","!MB28920.091","!MB29C10.091","!MB30940.091"],"not_rendered":{"charts":0,"images":0,"macros":1,"external_links":0,"defined_names":0,"comments":0,"pivot_tables":0},"unopened":[],"bounds":{"document_bytes":16777216,"sheet_cells":100000,"rows_first":2000,"rows_last":500,"rows_between":2000,"halvings":0,"cell_chars":16384,"cell_head_chars":4096},"cells_cut":0,"cells_raw":0,"read":"whole","date_system":"1900"}

{"sheet":"Sample Report","index":0,"n_rows":12,"n_cols":11,"rows_kept":12,"cut":false,"hidden":true,"merged":[[7,0,7,6]]}
[]
["Date"]
["Hen"]
["Program"]
["Start at 999999"]
["Sequence component 1","Time 1","Seqeunce Component 2","Time 2","Seqeunce Component 3","Time 3","Correct   0 = No 1=Yes",null,null,"Seqeunce","Time"]
[12,7,12,42,13,18,"if 77 new line,                                  if 31 or 41 = yes new line on 77, ",null,null,"=string of Seqeunce compponent 1, 2 & 3","=time 3"]
["This continues until ther is a 1 on its own to indicate start of summary data"]
[null,null,null,null,null,null,null,null,null,"10-19 =1"]
["Summary Data ",null,null,null,null,null,null,null,null,"20-29 =2"]
["Correct","Incorrect","Rft","total","Av Correct","Av Incorrect","Percent correct","Time",null,"in this example the seqeunce would be 111"]
[40,33,40,73,23.95,15,54,806]

{"sheet":"Summary","index":1,"n_rows":32,"n_cols":24,"rows_kept":32,"cut":false,"hidden":false,"merged":[]}
[]
["Day","Date","Average Response Rate","Target %","RF for non correct sequence","U Value",null,null,null,null,"Block 1","Block 2","Block 3","Block 4","Block 5","Block 6"]
[1,{"$f":"'!MB08840.091'!B2:C2","v":"<date>"},{"$f":"('!MB08840.091'!H129/60)/'!MB08840.091'!Q3","v":3.1730352303523039},{"$f":"'!MB08840.091'!N28/'!MB08840.091'!Q3","v":0},{"$f":"SUM('!MB08840.091'!L28:Q28)/'!MB08840.091'!Q3","v":18.398373983739837},{"$f":"'!MB08840.091'!Q24","v":0.15862502418230157},null,null,null,"Average Response Rate",{"$f":"AVERAGE(C3:C6)","v":3.0388936415207231},{"$f":"AVERAGE(C7:C10)","v":2.7703051322482661},{"$f":"AVERAGE(C11:C14)","v":2.6445309207434176},{"$f":"AVERAGE(C11:C14)","v":2.6445309207434176},{"$f":"AVERAGE(C15:C19)","v":2.4651636955314786},{"$f":"AVERAGE(C20:C23)","v":2.2366864634886494}]
[2,{"$f":"'!MB09920.091'!B2:C2","v":"<date>"},{"$f":"('!MB09920.091'!H119/60)/'!MB09920.091'!Q3","v":3.527286135693215},{"$f":"'!MB09920.091'!N28/'!MB09920.091'!Q3","v":0},{"$f":"SUM('!MB09920.091'!L28:Q28)/'!MB09920.091'!Q3","v":10.168141592920353},{"$f":"'!MB09920.091'!Q24","v":0.1933947146612302},null,null,null,"Target %",{"$f":"AVERAGE(D3:D6)","v":0},{"$f":"AVERAGE(D7:D10)","v":1.953125E-3},{"$f":"AVERAGE(D11:D14)","v":4.0591646356836708E-2},{"$f":"AVERAGE(D11:D14)","v":4.0591646356836708E-2},{"$f":"AVERAGE(D15:D19)","v":0.20158357932463705},{"$f":"AVERAGE(D20:D23)","v":0.34488098224228902}]
[3,{"$f":"'!MB10800.091'!B2:C2","v":"<date>"},{"$f":"('!MB10800.091'!H160/60)/'!MB10800.091'!Q3","v":2.5879870129870133},{"$f":"'!MB10800.091'!N28/'!MB10800.091'!Q3","v":0},{"$f":"SUM('!MB10800.091'!L28:Q28)/'!MB10800.091'!Q3","v":7.5454545454545459},{"$f":"'!MB10800.091'!Q24","v":0.14998080399733069},null,null,null,"CCRF",{"$f":"AVERAGE(E3:E6)","v":11.108927782327244},{"$f":"AVERAGE(E7:E10)","v":13.400852724891656},{"$f":"AVERAGE(E11:E14)","v":14.711875725628984},{"$f":"AVERAGE(E11:E14)","v":14.711875725628984},{"$f":"AVERAGE(E15:E19)","v":11.555616407482532},{"$f":"AVERAGE(E20:E23)","v":20.714790728258279}]
[4,{"$f":"'!MB11720.091'!B2:C2","v":"<date>"},{"$f":"('!MB11720.091'!H145/60)/'!MB11720.091'!Q3","v":2.86726618705036},{"$f":"'!MB11720.091'!N28/'!MB11720.091'!Q3","v":0},{"$f":"SUM('!MB11720.091'!L28:Q28)/'!MB11720.091'!Q3","v":8.3237410071942453},{"$f":"'!MB11720.091'!Q24","v":0.15492071972504287},null,null,null,"U Value",{"$f":"AVERAGE(F3:F6)","v":0.16423031564147633},{"$f":"AVERAGE(F7:F10)","v":0.27988323159625483},{"$f":"AVERAGE(F11:F14)","v":0.35973880601620833},{"$f":"AVERAGE(F11:F14)","v":0.35973880601620833},{"$f":"AVERAGE(F15:F19)","v":0.4574764767535533},{"$f":"AVERAGE(F20:F23)","v":0.36078778927246424}]
[5,{"$f":"'!MB12810.091'!B2:C2","v":"<date>"},{"$f":"('!MB12810.091'!H164/60)/'!MB12810.091'!Q3","v":2.5298523206751051},{"$f":"'!MB12810.091'!N28/'!MB12810.091'!Q3","v":0},{"$f":"SUM('!MB12810.091'!L28:Q28)/'!MB12810.091'!Q3","v":13.69620253164557},{"$f":"'!MB12810.091'!Q24","v":0.22831611292019866}]
[6,{"$f":"'!MB13900.091'!B2:C2","v":"<date>"},{"$f":"('!MB13900.091'!H162/60)/'!MB13900.091'!Q3","v":2.5574786324786323},{"$f":"'!MB13900.091'!N28/'!MB13900.091'!Q3","v":0},{"$f":"SUM('!MB13900.091'!L28:Q28)/'!MB13900.091'!Q3","v":14.506410256410257},{"$f":"'!MB13900.091'!Q24","v":0.23444043483488483}]
[7,{"$f":"'!MB14800.091'!B2:C2","v":"<date>"},{"$f":"('!MB14800.091'!H134/60)/'!MB14800.091'!Q3","v":3.1227864583333331},{"$f":"'!MB14800.091'!N28/'!MB14800.091'!Q3","v":7.8125E-3},{"$f":"SUM('!MB14800.091'!L28:Q28)/'!MB14800.091'!Q3","v":9.8828125},{"$f":"'!MB14800.091'!Q24","v":0.33223932079006202},{"$f":"K3","v":3.0388936415207231},{"$f":"L3","v":2.7703051322482661},{"$f":"M3","v":2.6445309207434176},{"$f":"N3","v":2.6445309207434176},{"$f":"O3","v":2.4651636955314786},{"$f":"P3","v":2.2366864634886494},{"$f":"K4","v":0},{"$f":"L4","v":1.953125E-3},{"$f":"M4","v":4.0591646356836708E-2},{"$f":"N4","v":4.0591646356836708E-2},{"$f":"O4","v":0.20158357932463705},{"$f":"P4","v":0.34488098224228902},{"$f":"K6","v":0.16423031564147633},{"$f":"L6","v":0.27988323159625483},{"$f":"M6","v":0.35973880601620833},{"$f":"N6","v":0.35973880601620833},{"$f":"O6","v":0.4574764767535533},{"$f":"P6","v":0.36078778927246424}]
[8,{"$f":"'!MB15850.091'!B2:C2","v":"<date>"},{"$f":"('!MB15850.091'!H145/60)/'!MB15850.091'!Q3","v":2.8711031175059949},{"$f":"'!MB15850.091'!N28/'!MB15850.091'!Q3","v":0},{"$f":"SUM('!MB15850.091'!L28:Q28)/'!MB15850.091'!Q3","v":15.517985611510792},{"$f":"'!MB15850.091'!Q24","v":0.32453705783987397}]
[9,{"$f":"'!MB16900.091'!B2:C2","v":"<date>"},{"$f":"('!MB16900.091'!H141/60)/'!MB16900.091'!Q3","v":2.9470370370370373},{"$f":"'!MB16900.091'!N28/'!MB16900.091'!Q3","v":0},{"$f":"SUM('!MB16900.091'!L28:Q28)/'!MB16900.091'!Q3","v":15.97037037037037},{"$f":"'!MB16900.091'!Q24","v":0.33058826405364389}]
[10,{"$f":"'!MB17940.091'!B2:C2","v":"<date>"},{"$f":"('!MB17940.091'!H152/60)/'!MB17940.091'!Q3","v":2.7363013698630136},{"$f":"'!MB17940.091'!N28/'!MB17940.091'!Q3","v":2.7397260273972601E-2},{"$f":"SUM('!MB17940.091'!L28:Q28)/'!MB17940.091'!Q3","v":14.821917808219178},{"$f":"'!MB17940.091'!Q24","v":0.34147516441099401}]
[11,{"$f":"'!MB18920.091'!B2:C2","v":"<date>"},{"$f":"('!MB18920.091'!H169/60)/'!MB18920.091'!Q3","v":2.4431492842535789},{"$f":"'!MB18920.091'!N28/'!MB18920.091'!Q3","v":3.6809815950920248E-2},{"$f":"SUM('!MB18920.091'!L28:Q28)/'!MB18920.091'!Q3","v":13.993865030674847},{"$f":"'!MB18920.091'!Q24","v":0.32218289299660191}]
[12,{"$f":"'!MB19830.091'!B2:C2","v":"<date>"},{"$f":"('!MB19830.091'!H169/60)/'!MB19830.091'!Q3","v":2.4516359918200408},{"$f":"'!MB19830.091'!N28/'!MB19830.091'!Q3","v":9.815950920245399E-2},{"$f":"SUM('!MB19830.091'!L28:Q28)/'!MB19830.091'!Q3","v":14.061349693251534},{"$f":"'!MB19830.091'!Q24","v":0.44470890260359341}]
[13,{"$f":"'!MB20920.091'!B2:C2","v":"<date>"},{"$f":"('!MB20920.091'!H176/60)/'!MB20920.091'!Q3","v":2.3496078431372549},{"$f":"'!MB20920.091'!N28/'!MB20920.091'!Q3","v":0.14117647058823529},{"$f":"SUM('!MB20920.091'!L28:Q28)/'!MB20920.091'!Q3","v":13.488235294117647},{"$f":"'!MB20920.091'!Q24","v":0.4787534277103061}]
[14,{"$f":"'!MB21800.091'!B2:C2","v":"<date>"},{"$f":"('!MB21800.091'!H129/60)/'!MB21800.091'!Q3","v":3.2486449864498645},{"$f":"'!MB21800.091'!N28/'!MB21800.091'!Q3","v":0.17073170731707318},{"$f":"SUM('!MB21800.091'!L28:Q28)/'!MB21800.091'!Q3","v":10.349593495934959},{"$f":"'!MB21800.091'!Q24","v":0.52374230955857559}]
[15,{"$f":"'!MB22840.091'!B2:C2","v":"<date>"},{"$f":"('!MB22840.091'!H186/60)/'!MB22840.091'!Q3","v":2.1702777777777778},{"$f":"'!MB22840.091'!N28/'!MB22840.091'!Q3","v":0.22222222222222221},{"$f":"SUM('!MB22840.091'!L28:Q28)/'!MB22840.091'!Q3","v":12.344444444444445},{"$f":"'!MB22840.091'!Q24","v":0.43662241416591235}]
[16,{"$f":"'!MB23850.091'!B2:C2","v":"<date>"},{"$f":"('!MB23850.091'!H170/60)/'!MB23850.091'!Q3","v":2.2901422764227641},{"$f":"'!MB23850.091'!N28/'!MB23850.091'!Q3","v":0.24390243902439024},{"$f":"SUM('!MB23850.091'!L28:Q28)/'!MB23850.091'!Q3","v":14.067073170731707},{"$f":"'!MB23850.091'!Q24","v":0.44535533753596457}]
[17,{"$f":"'!MB24820.091'!B2:C2","v":"<date>"},{"$f":"('!MB24820.091'!H180/60)/'!MB24820.091'!Q3","v":2.2671455938697318},{"$f":"'!MB24820.091'!N28/'!MB24820.091'!Q3","v":0.22988505747126436},{"$f":"SUM('!MB24820.091'!L28:Q28)/'!MB24820.091'!Q3","v":7.5287356321839081},{"$f":"'!MB24820.091'!Q24","v":0.40290889479700798}]
[18,{"$f":"'!MB25800.091'!B2:C2","v":"<date>"},{"$f":"('!MB25800.091'!H181/60)/'!MB25800.091'!Q3","v":2.263352272727273},{"$f":"'!MB25800.091'!N28/'!MB25800.091'!Q3","v":0.14772727272727273},{"$f":"SUM('!MB25800.091'!L28:Q28)/'!MB25800.091'!Q3","v":13.051136363636363},{"$f":"'!MB25800.091'!Q24","v":0.39724438281558305}]
[19,{"$f":"'!MB26840.091'!B2:C2","v":"<date>"},{"$f":"('!MB26840.091'!H173/60)/'!MB26840.091'!Q3","v":2.2924151696606785},{"$f":"'!MB26840.091'!N28/'!MB26840.091'!Q3","v":0.23952095808383234},{"$f":"SUM('!MB26840.091'!L28:Q28)/'!MB26840.091'!Q3","v":13.281437125748504},{"$f":"'!MB26840.091'!Q24","v":0.37924991272878328}]
[20,{"$f":"'!MB27910.091'!B2:C2","v":"<date>"},{"$f":"('!MB27910.091'!H105/60)/'!MB27910.091'!Q3","v":2.2488215488215486},{"$f":"'!MB27910.091'!N28/'!MB27910.091'!Q3","v":0.40404040404040403},{"$f":"SUM('!MB27910.091'!L28:Q28)/'!MB27910.091'!Q3","v":23.070707070707069},{"$f":"'!MB27910.091'!Q24","v":0.40905947440316626}]
[21,{"$f":"'!MB28920.091'!B2:C2","v":"<date>"},{"$f":"('!MB28920.091'!H74/60)/'!MB28920.091'!Q3","v":2.142156862745098},{"$f":"'!MB28920.091'!N28/'!MB28920.091'!Q3","v":0.58823529411764708},{"$f":"SUM('!MB28920.091'!L28:Q28)/'!MB28920.091'!Q3","v":33.455882352941174},{"$f":"'!MB28920.091'!Q24","v":0.2575973871423245}]
[22,{"$f":"'!MB29C10.091'!B2:C2","v":"<date>"},{"$f":"('!MB29C10.091'!H94/60)/'!MB29C10.091'!Q3","v":2.2736742424242427},{"$f":"'!MB29C10.091'!N28/'!MB29C10.091'!Q3","v":0.45454545454545453},{"$f":"SUM('!MB29C10.091'!L28:Q28)/'!MB29C10.091'!Q3","v":25.920454545454547},{"$f":"'!MB29C10.091'!Q24","v":0.3632911068001724}]
[23,{"$f":"'!MB30940.091'!B2:C2","v":"<date>"},{"$f":"('!MB30940.091'!H72/60)/'!MB30940.091'!Q3","v":2.0616161616161617},{"$f":"'!MB30940.091'!N28/'!MB30940.091'!Q3","v":0.60606060606060608},{"$f":"SUM('!MB30940.091'!L28:Q28)/'!MB30940.091'!Q3","v":34.454545454545453},{"$f":"'!MB30940.091'!Q24","v":0.25167673686719483}]
[24]
[25,null,null,null,null,null,{"$f":"23/6","v":3.8333333333333335}]
[26]
[27]
[28]
[29]
[30]

{"sheet":"Start","index":2,"n_rows":29,"n_cols":10,"rows_kept":29,"cut":false,"hidden":false,"merged":[]}
[null,null,null,null,null,"Use Folder 51",null,"Auto Clean Up",null,"Correct sequence"]
[null,null,null,null,null,false,null,true,null,2212]
[]
["Working with Folder",null,null,null,null,null,"Process All/Or Pick A number: ALL or an integer"]
["E:\\Hen Data\\Raw Data\\91_17\\phase 3 var\\",null,null,null,null,null,"ALL"]
["Filenames:"]
["!MB21800.091",null,null,null,null,null,"Paint Cells"]
["!MB22840.091",null,null,null,null,null,false]
["!MB08840.091"]
["!MB09920.091"]
["!MB10800.091"]
["!MB11720.091"]
["!MB12810.091"]
["!MB13900.091"]
["!MB14800.091"]
["!MB15850.091"]
["!MB16900.091"]
["!MB17940.091"]
["!MB18920.091"]
["!MB19830.091"]
["!MB20920.091"]
["!MB29C10.091"]
["!MB30940.091"]
["!MB23850.091"]
["!MB24820.091"]
["!MB25800.091"]
["!MB26840.091"]
["!MB27910.091"]
["!MB28920.091"]

{"sheet":"!MB08840.091","index":3,"n_rows":129,"n_cols":48,"rows_kept":129,"cut":false,"hidden":false,"merged":[[4,39,4,42],[5,39,5,40],[4,44,4,47],[5,44,5,45],[4,24,4,27],[5,24,5,25],[4,29,4,32],[5,29,5,30],[4,34,4,37],[5,34,5,35],[1,1,1,2],[5,13,5,14],[26,13,26,14],[27,13,27,14],[4,19,4,22],[5,19,5,20]]}
["Report for:!MB08840.091"]
["Date:","<date>"]
["Hen:","<hen>",null,null,null,"Correct Sequence",{"$f":"Start!J2","v":2212},null,null,null,null,null,null,null,null,"Total Sequences in Data",{"$f":"4994-COUNTBLANK(L7:L5000)","v":123},null,null,null,null,"Total Sequences in Block Data",{"$f":"COUNTA(L7:L27)","v":21},null,null,null,"Total Sequences in Block Data",{"$f":"COUNTA(L28:L47)","v":20},null,null,null,"Total Sequences in Block Data",{"$f":"COUNTA(L48:L68)","v":21},null,null,null,"Total Sequences in Block Data",{"$f":"COUNTA(L69:L88)","v":20},null,null,null,"Total Sequences in Block Data",{"$f":"COUNTA(L89:L109)","v":21},null,null,null,"Total Sequences in Block Data",{"$f":"COUNTA(L110:L129)","v":20}]
[null,null,null,null,null,null,null,null,null,null,null,null,null,null,null,"Total Sequences in Summary",{"$f":"SUM(O7:O22)","v":123},null,null,null,null,"Total Sequences in Block Summary",{"$f":"SUM(U7:U22)","v":21},null,null,null,"Total Sequences in Block Summary",{"$f":"SUM(Z7:Z22)","v":20},null,null,null,"Total Sequences in Block Summary",{"$f":"SUM(AE7:AE22)","v":21},null,null,null,"Total Sequences in Block Summary",{"$f":"SUM(AJ7:AJ22)","v":20},null,null,null,"Total Sequences in Block Summary",{"$f":"SUM(AO7:AO22)","v":21},null,null,null,"Total Sequences in Block Summary",{"$f":"SUM(AT7:AT22)","v":20}]
[null,null,null,null,null,null,null,null,null,null,null,null,null,null,null,null,null,null,null,"Block 1",null,null,null,null,"Block 2",null,null,null,null,"Block 3",null,null,null,null,"Block 4",null,null,null,null,"Block 5",null,null,null,null,"Block 6"]
["Sequence\nComponent\n1","Time\n1","Sequence\nComponent\n2","Time\n2","Sequence\nComponent\n3","Time\n3","Sequence\nComponent\n4","Time\n4","Sequence\nComponent\n5","Time\n5","Correct?\n0=No 1=Yes","Sequence",null,"Frequency",null,"Relative Frequency","Variability",null,null,"Frequency",null,"Relative Frequency","Variability",null,"Frequency",null,"Relative Frequency","Variability",null,"Frequency",null,"Relative Frequency","Variability",null,"Frequency",null,"Relative Frequency","Variability",null,"Frequency",null,"Relative Frequency","Variability",null,"Frequency",null,"Relative Frequency","Variability"]
[12,19,14,24,13,31,14,38,null,null,0,1111,null,1111,{"$f":"COUNTIF($L$7:$L$500,N7)","v":64},{"$f":"O7/$Q$4","v":0.52032520325203258},{"$f":"IF(P7=0,0,(P7*((LOG(P7))/LOG(2))))","v":-0.49041405155862883},null,null,{"$f":"N7","v":1111},{"$f":"COUNTIF(L7:L27,T7)","v":17},{"$f":"U7/(W4-U20)","v":0.80952380952380953},{"$f":"IF(V7=0,0,(V7*((LOG(V7))/LOG(2))))","v":-0.24678704218967404},null,{"$f":"N7","v":1111},{"$f":"COUNTIF(L28:L47,Y7)","v":10},{"$f":"Z7/(AB4-Z20)","v":0.5},{"$f":"IF(AA7=0,0,(AA7*((LOG(AA7))/LOG(2))))","v":-0.5},null,{"$f":"N7","v":1111},{"$f":"COUNTIF(L48:L68,AD7)","v":12},{"$f":"AE7/(AG4-AE20)","v":0.5714285714285714},{"$f":"IF(AF7=0,0,(AF7*((LOG(AF7))/LOG(2))))","v":-0.46134566974720237},null,{"$f":"N7","v":1111},{"$f":"COUNTIF(L69:L88,AI7)","v":9},{"$f":"AJ7/(AL4-AJ20)","v":0.45},{"$f":"IF(AK7=0,0,(AK7*((LOG(AK7))/LOG(2))))","v":-0.51840139205027258},null,{"$f":"N7","v":1111},{"$f":"COUNTIF(L89:L109,AN7)","v":8},{"$f":"AO7/(AQ4-AO20)","v":0.38095238095238093},{"$f":"IF(AP7=0,0,(AP7*((LOG(AP7))/LOG(2))))","v":-0.53040663724905157},null,{"$f":"N7","v":1111},{"$f":"COUNTIF(L110:L129,AS7)","v":8},{"$f":"AT7/(AV4-AT20)","v":0.4},{"$f":"IF(AU7=0,0,(AU7*((LOG(AU7))/LOG(2))))","v":-0.52877123795494496}]
[12,135,14,141,13,146,14,150,null,null,0,1111,null,1112,{"$f":"COUNTIF($L$7:$L$500,N8)","v":0},{"$f":"O8/$Q$4","v":0},{"$f":"IF(P8=0,0,(P8*((LOG(P8))/LOG(2))))","v":0},null,null,{"$f":"N8","v":1112},{"$f":"COUNTIF(L7:L27,T8)","v":0},{"$f":"U8/(W4-U20)","v":0},{"$f":"IF(V8=0,0,(V8*((LOG(V8))/LOG(2))))","v":0},null,{"$f":"N8","v":1112},{"$f":"COUNTIF(L28:L47,Y8)","v":0},{"$f":"Z8/(AB4-Z20)","v":0},{"$f":"IF(AA8=0,0,(AA8*((LOG(AA8))/LOG(2))))","v":0},null,{"$f":"N8","v":1112},{"$f":"COUNTIF(L48:L68,AD8)","v":0},{"$f":"AE8/(AG4-AE20)","v":0},{"$f":"IF(AF8=0,0,(AF8*((LOG(AF8))/LOG(2))))","v":0},null,{"$f":"N8","v":1112},{"$f":"COUNTIF(L69:L88,AI8)","v":0},{"$f":"AJ8/(AL4-AJ20)","v":0},{"$f":"IF(AK8=0,0,(AK8*((LOG(AK8))/LOG(2))))","v":0},null,{"$f":"N8","v":1112},{"$f":"COUNTIF(L89:L109,AN8)","v":0},{"$f":"AO8/(AQ4-AO20)","v":0},{"$f":"IF(AP8=0,0,(AP8*((LOG(AP8))/LOG(2))))","v":0},null,{"$f":"N8","v":1112},{"$f":"COUNTIF(L110:L129,AS8)","v":0},{"$f":"AT8/(AV4-AT20)","v":0},{"$f":"IF(AU8=0,0,(AU8*((LOG(AU8))/LOG(2))))","v":0}]
[12,254,14,260,13,266,14,274,null,null,0,1111,null,1121,{"$f":"COUNTIF($L$7:$L$500,N9)","v":0},{"$f":"O9/$Q$4","v":0},{"$f":"IF(P9=0,0,(P9*((LOG(P9))/LOG(2))))","v":0},null,null,{"$f":"N9","v":1121},{"$f":"COUNTIF(L7:L27,T9)","v":0},{"$f":"U9/(W4-U20)","v":0},{"$f":"IF(V9=0,0,(V9*((LOG(V9))/LOG(2))))","v":0},null,{"$f":"N9","v":1121},{"$f":"COUNTIF(L28:L47,Y9)","v":0},{"$f":"Z9/(AB4-Z20)","v":0},{"$f":"IF(AA9=0,0,(AA9*((LOG(AA9))/LOG(2))))","v":0},null,{"$f":"N9","v":1121},{"$f":"COUNTIF(L48:L68,AD9)","v":0},{"$f":"AE9/(AG4-AE20)","v":0},{"$f":"IF(AF9=0,0,(AF9*((LOG(AF9))/LOG(2))))","v":0},null,{"$f":"N9","v":1121},{"$f":"COUNTIF(L69:L88,AI9)","v":0},{"$f":"AJ9/(AL4-AJ20)","v":0},{"$f":"IF(AK9=0,0,(AK9*((LOG(AK9))/LOG(2))))","v":0},null,{"$f":"N9","v":1121},{"$f":"COUNTIF(L89:L109,AN9)","v":0},{"$f":"AO9/(AQ4-AO20)","v":0},{"$f":"IF(AP9=0,0,(AP9*((LOG(AP9))/LOG(2))))","v":0},null,{"$f":"N9","v":1121},{"$f":"COUNTIF(L110:L129,AS9)","v":0},{"$f":"AT9/(AV4-AT20)","v":0},{"$f":"IF(AU9=0,0,(AU9*((LOG(AU9))/LOG(2))))","v":0}]
[12,374,14,380,13,385,14,392,null,null,0,1111,null,1122,{"$f":"COUNTIF($L$7:$L$500,N10)","v":0},{"$f":"O10/$Q$4","v":0},{"$f":"IF(P10=0,0,(P10*((LOG(P10))/LOG(2))))","v":0},null,null,{"$f":"N10","v":1122},{"$f":"COUNTIF(L7:L27,T10)","v":0},{"$f":"U10/(W4-U20)","v":0},{"$f":"IF(V10=0,0,(V10*((LOG(V10))/LOG(2))))","v":0},null,{"$f":"N10","v":1122},{"$f":"COUNTIF(L28:L47,Y10)","v":0},{"$f":"Z10/(AB4-Z20)","v":0},{"$f":"IF(AA10=0,0,(AA10*((LOG(AA10))/LOG(2))))","v":0},null,{"$f":"N10","v":1122},{"$f":"COUNTIF(L48:L68,AD10)","v":0},{"$f":"AE10/(AG4-AE20)","v":0},{"$f":"IF(AF10=0,0,(AF10*((LOG(AF10))/LOG(2))))","v":0},null,{"$f":"N10","v":1122},{"$f":"COUNTIF(L69:L88,AI10)","v":0},{"$f":"AJ10/(AL4-AJ20)","v":0},{"$f":"IF(AK10=0,0,(AK10*((LOG(AK10))/LOG(2))))","v":0},null,{"$f":"N10","v":1122},{"$f":"COUNTIF(L89:L109,AN10)","v":0},{"$f":"AO10/(AQ4-AO20)","v":0},{"$f":"IF(AP10=0,0,(AP10*((LOG(AP10))/LOG(2))))","v":0},null,{"$f":"N10","v":1122},{"$f":"COUNTIF(L110:L129,AS10)","v":0},{"$f":"AT10/(AV4-AT20)","v":0},{"$f":"IF(AU10=0,0,(AU10*((LOG(AU10))/LOG(2))))","v":0}]
[12,490,14,496,13,501,14,508,null,null,0,1111,null,1211,{"$f":"COUNTIF($L$7:$L$500,N11)","v":0},{"$f":"O11/$Q$4","v":0},{"$f":"IF(P11=0,0,(P11*((LOG(P11))/LOG(2))))","v":0},null,null,{"$f":"N11","v":1211},{"$f":"COUNTIF(L7:L27,T11)","v":0},{"$f":"U11/(W4-U20)","v":0},{"$f":"IF(V11=0,0,(V11*((LOG(V11))/LOG(2))))","v":0},null,{"$f":"N11","v":1211},{"$f":"COUNTIF(L28:L47,Y11)","v":0},{"$f":"Z11/(AB4-Z20)","v":0},{"$f":"IF(AA11=0,0,(AA11*((LOG(AA11))/LOG(2))))","v":0},null,{"$f":"N11","v":1211},{"$f":"COUNTIF(L48:L68,AD11)","v":0},{"$f":"AE11/(AG4-AE20)","v":0},{"$f":"IF(AF11=0,0,(AF11*((LOG(AF11))/LOG(2))))","v":0},null,{"$f":"N11","v":1211},{"$f":"COUNTIF(L69:L88,AI11)","v":0},{"$f":"AJ11/(AL4-AJ20)","v":0},{"$f":"IF(AK11=0,0,(AK11*((LOG(AK11))/LOG(2))))","v":0},null,{"$f":"N11","v":1211},{"$f":"COUNTIF(L89:L109,AN11)","v":0},{"$f":"AO11/(AQ4-AO20)","v":0},{"$f":"IF(AP11=0,0,(AP11*((LOG(AP11))/LOG(2))))","v":0},null,{"$f":"N11","v":1211},{"$f":"COUNTIF(L110:L129,AS11)","v":0},{"$f":"AT11/(AV4-AT20)","v":0},{"$f":"IF(AU11=0,0,(AU11*((LOG(AU11))/LOG(2))))","v":0}]
[12,615,14,620,13,626,14,631,null,null,0,1111,null,1212,{"$f":"COUNTIF($L$7:$L$500,N12)","v":0},{"$f":"O12/$Q$4","v":0},{"$f":"IF(P12=0,0,(P12*((LOG(P12))/LOG(2))))","v":0},null,null,{"$f":"N12","v":1212},{"$f":"COUNTIF(L7:L27,T12)","v":0},{"$f":"U12/(W4-U20)","v":0},{"$f":"IF(V12=0,0,(V12*((LOG(V12))/LOG(2))))","v":0},null,{"$f":"N12","v":1212},{"$f":"COUNTIF(L28:L47,Y12)","v":0},{"$f":"Z12/(AB4-Z20)","v":0},{"$f":"IF(AA12=0,0,(AA12*((LOG(AA12))/LOG(2))))","v":0},null,{"$f":"N12","v":1212},{"$f":"COUNTIF(L48:L68,AD12)","v":0},{"$f":"AE12/(AG4-AE20)","v":0},{"$f":"IF(AF12=0,0,(AF12*((LOG(AF12))/LOG(2))))","v":0},null,{"$f":"N12","v":1212},{"$f":"COUNTIF(L69:L88,AI12)","v":0},{"$f":"AJ12/(AL4-AJ20)","v":0},{"$f":"IF(AK12=0,0,(AK12*((LOG(AK12))/LOG(2))))","v":0},null,{"$f":"N12","v":1212},{"$f":"COUNTIF(L89:L109,AN12)","v":0},{"$f":"AO12/(AQ4-AO20)","v":0},{"$f":"IF(AP12=0,0,(AP12*((LOG(AP12))/LOG(2))))","v":0},null,{"$f":"N12","v":1212},{"$f":"COUNTIF(L110:L129,AS12)","v":0},{"$f":"AT12/(AV4-AT20)","v":0},{"$f":"IF(AU12=0,0,(AU12*((LOG(AU12))/LOG(2))))","v":0}]
[12,744,14,748,13,755,14,760,null,null,0,1111,null,1221,{"$f":"COUNTIF($L$7:$L$500,N13)","v":0},{"$f":"O13/$Q$4","v":0},{"$f":"IF(P13=0,0,(P13*((LOG(P13))/LOG(2))))","v":0},null,null,{"$f":"N13","v":1221},{"$f":"COUNTIF(L7:L27,T13)","v":0},{"$f":"U13/(W4-U20)","v":0},{"$f":"IF(V13=0,0,(V13*((LOG(V13))/LOG(2))))","v":0},null,{"$f":"N13","v":1221},{"$f":"COUNTIF(L28:L47,Y13)","v":0},{"$f":"Z13/(AB4-Z20)","v":0},{"$f":"IF(AA13=0,0,(AA13*((LOG(AA13))/LOG(2))))","v":0},null,{"$f":"N13","v":1221},{"$f":"COUNTIF(L48:L68,AD13)","v":0},{"$f":"AE13/(AG4-AE20)","v":0},{"$f":"IF(AF13=0,0,(AF13*((LOG(AF13))/LOG(2))))","v":0},null,{"$f":"N13","v":1221},{"$f":"COUNTIF(L69:L88,AI13)","v":0},{"$f":"AJ13/(AL4-AJ20)","v":0},{"$f":"IF(AK13=0,0,(AK13*((LOG(AK13))/LOG(2))))","v":0},null,{"$f":"N13","v":1221},{"$f":"COUNTIF(L89:L109,AN13)","v":0},{"$f":"AO13/(AQ4-AO20)","v":0},{"$f":"IF(AP13=0,0,(AP13*((LOG(AP13))/LOG(2))))","v":0},null,{"$f":"N13","v":1221},{"$f":"COUNTIF(L110:L129,AS13)","v":0},{"$f":"AT13/(AV4-AT20)","v":0},{"$f":"IF(AU13=0,0,(AU13*((LOG(AU13))/LOG(2))))","v":0}]
[21,873,12,892,13,898,14,904,null,null,0,2111,null,1222,{"$f":"COUNTIF($L$7:$L$500,N14)","v":0},{"$f":"O14/$Q$4","v":0},{"$f":"IF(P14=0,0,(P14*((LOG(P14))/LOG(2))))","v":0},null,null,{"$f":"N14","v":1222},{"$f":"COUNTIF(L7:L27,T14)","v":0},{"$f":"U14/(W4-U20)","v":0},{"$f":"IF(V14=0,0,(V14*((LOG(V14))/LOG(2))))","v":0},null,{"$f":"N14","v":1222},{"$f":"COUNTIF(L28:L47,Y14)","v":0},{"$f":"Z14/(AB4-Z20)","v":0},{"$f":"IF(AA14=0,0,(AA14*((LOG(AA14))/LOG(2))))","v":0},null,{"$f":"N14","v":1222},{"$f":"COUNTIF(L48:L68,AD14)","v":0},{"$f":"AE14/(AG4-AE20)","v":0},{"$f":"IF(AF14=0,0,(AF14*((LOG(AF14))/LOG(2))))","v":0},null,{"$f":"N14","v":1222},{"$f":"COUNTIF(L69:L88,AI14)","v":0},{"$f":"AJ14/(AL4-AJ20)","v":0},{"$f":"IF(AK14=0,0,(AK14*((LOG(AK14))/LOG(2))))","v":0},null,{"$f":"N14","v":1222},{"$f":"COUNTIF(L89:L109,AN14)","v":0},{"$f":"AO14/(AQ4-AO20)","v":0},{"$f":"IF(AP14=0,0,(AP14*((LOG(AP14))/LOG(2))))","v":0},null,{"$f":"N14","v":1222},{"$f":"COUNTIF(L110:L129,AS14)","v":0},{"$f":"AT14/(AV4-AT20)","v":0},{"$f":"IF(AU14=0,0,(AU14*((LOG(AU14))/LOG(2))))","v":0}]
[12,999,14,1006,13,1012,14,1020,null,null,0,1111,null,2111,{"$f":"COUNTIF($L$7:$L$500,N15)","v":2},{"$f":"O15/$Q$4","v":1.6260162601626018E-2},{"$f":"IF(P15=0,0,(P15*((LOG(P15))/LOG(2))))","v":-9.662625211933723E-2},null,null,{"$f":"N15","v":2111},{"$f":"COUNTIF(L7:L27,T15)","v":1},{"$f":"U15/(W4-U20)","v":4.7619047619047616E-2},{"$f":"IF(V15=0,0,(V15*((LOG(V15))/LOG(2))))","v":-0.20915797251327431},null,{"$f":"N15","v":2111},{"$f":"COUNTIF(L28:L47,Y15)","v":0},{"$f":"Z15/(AB4-Z20)","v":0},{"$f":"IF(AA15=0,0,(AA15*((LOG(AA15))/LOG(2))))","v":0},null,{"$f":"N15","v":2111},{"$f":"COUNTIF(L48:L68,AD15)","v":0},{"$f":"AE15/(AG4-AE20)","v":0},{"$f":"IF(AF15=0,0,(AF15*((LOG(AF15))/LOG(2))))","v":0},null,{"$f":"N15","v":2111},{"$f":"COUNTIF(L69:L88,AI15)","v":0},{"$f":"AJ15/(AL4-AJ20)","v":0},{"$f":"IF(AK15=0,0,(AK15*((LOG(AK15))/LOG(2))))","v":0},null,{"$f":"N15","v":2111},{"$f":"COUNTIF(L89:L109,AN15)","v":1},{"$f":"AO15/(AQ4-AO20)","v":4.7619047619047616E-2},{"$f":"IF(AP15=0,0,(AP15*((LOG(AP15))/LOG(2))))","v":-0.20915797251327431},null,{"$f":"N15","v":2111},{"$f":"COUNTIF(L110:L129,AS15)","v":0},{"$f":"AT15/(AV4-AT20)","v":0},{"$f":"IF(AU15=0,0,(AU15*((LOG(AU15))/LOG(2))))","v":0}]
[21,1119,21,1124,22,1130,23,1138,null,null,0,2222,null,2112,{"$f":"COUNTIF($L$7:$L$500,N16)","v":0},{"$f":"O16/$Q$4","v":0},{"$f":"IF(P16=0,0,(P16*((LOG(P16))/LOG(2))))","v":0},null,null,{"$f":"N16","v":2112},{"$f":"COUNTIF(L7:L27,T16)","v":0},{"$f":"U16/(W4-U20)","v":0},{"$f":"IF(V16=0,0,(V16*((LOG(V16))/LOG(2))))","v":0},null,{"$f":"N16","v":2112},{"$f":"COUNTIF(L28:L47,Y16)","v":0},{"$f":"Z16/(AB4-Z20)","v":0},{"$f":"IF(AA16=0,0,(AA16*((LOG(AA16))/LOG(2))))","v":0},null,{"$f":"N16","v":2112},{"$f":"COUNTIF(L48:L68,AD16)","v":0},{"$f":"AE16/(AG4-AE20)","v":0},{"$f":"IF(AF16=0,0,(AF16*((LOG(AF16))/LOG(2))))","v":0},null,{"$f":"N16","v":2112},{"$f":"COUNTIF(L69:L88,AI16)","v":0},{"$f":"AJ16/(AL4-AJ20)","v":0},{"$f":"IF(AK16=0,0,(AK16*((LOG(AK16))/LOG(2))))","v":0},null,{"$f":"N16","v":2112},{"$f":"COUNTIF(L89:L109,AN16)","v":0},{"$f":"AO16/(AQ4-AO20)","v":0},{"$f":"IF(AP16=0,0,(AP16*((LOG(AP16))/LOG(2))))","v":0},null,{"$f":"N16","v":2112},{"$f":"COUNTIF(L110:L129,AS16)","v":0},{"$f":"AT16/(AV4-AT20)","v":0},{"$f":"IF(AU16=0,0,(AU16*((LOG(AU16))/LOG(2))))","v":0}]
[12,1235,14,1245,13,1253,14,1265,null,null,0,1111,null,2121,{"$f":"COUNTIF($L$7:$L$500,N17)","v":0},{"$f":"O17/$Q$4","v":0},{"$f":"IF(P17=0,0,(P17*((LOG(P17))/LOG(2))))","v":0},null,null,{"$f":"N17","v":2121},{"$f":"COUNTIF(L7:L27,T17)","v":0},{"$f":"U17/(W4-U20)","v":0},{"$f":"IF(V17=0,0,(V17*((LOG(V17))/LOG(2))))","v":0},null,{"$f":"N17","v":2121},{"$f":"COUNTIF(L28:L47,Y17)","v":0},{"$f":"Z17/(AB4-Z20)","v":0},{"$f":"IF(AA17=0,0,(AA17*((LOG(AA17))/LOG(2))))","v":0},null,{"$f":"N17","v":2121},{"$f":"COUNTIF(L48:L68,AD17)","v":0},{"$f":"AE17/(AG4-AE20)","v":0},{"$f":"IF(AF17=0,0,(AF17*((LOG(AF17))/LOG(2))))","v":0},null,{"$f":"N17","v":2121},{"$f":"COUNTIF(L69:L88,AI17)","v":0},{"$f":"AJ17/(AL4-AJ20)","v":0},{"$f":"IF(AK17=0,0,(AK17*((LOG(AK17))/LOG(2))))","v":0},null,{"$f":"N17","v":2121},{"$f":"COUNTIF(L89:L109,AN17)","v":0},{"$f":"AO17/(AQ4-AO20)","v":0},{"$f":"IF(AP17=0,0,(AP17*((LOG(AP17))/LOG(2))))","v":0},null,{"$f":"N17","v":2121},{"$f":"COUNTIF(L110:L129,AS17)","v":0},{"$f":"AT17/(AV4-AT20)","v":0},{"$f":"IF(AU17=0,0,(AU17*((LOG(AU17))/LOG(2))))","v":0}]
[21,1373,21,1382,22,1392,23,1407,null,null,0,2222,null,2122,{"$f":"COUNTIF($L$7:$L$500,N18)","v":0},{"$f":"O18/$Q$4","v":0},{"$f":"IF(P18=0,0,(P18*((LOG(P18))/LOG(2))))","v":0},null,null,{"$f":"N18","v":2122},{"$f":"COUNTIF(L7:L27,T18)","v":0},{"$f":"U18/(W4-U20)","v":0},{"$f":"IF(V18=0,0,(V18*((LOG(V18))/LOG(2))))","v":0},null,{"$f":"N18","v":2122},{"$f":"COUNTIF(L28:L47,Y18)","v":0},{"$f":"Z18/(AB4-Z20)","v":0},{"$f":"IF(AA18=0,0,(AA18*((LOG(AA18))/LOG(2))))","v":0},null,{"$f":"N18","v":2122},{"$f":"COUNTIF(L48:L68,AD18)","v":0},{"$f":"AE18/(AG4-AE20)","v":0},{"$f":"IF(AF18=0,0,(AF18*((LOG(AF18))/LOG(2))))","v":0},null,{"$f":"N18","v":2122},{"$f":"COUNTIF(L69:L88,AI18)","v":0},{"$f":"AJ18/(AL4-AJ20)","v":0},{"$f":"IF(AK18=0,0,(AK18*((LOG(AK18))/LOG(2))))","v":0},null,{"$f":"N18","v":2122},{"$f":"COUNTIF(L89:L109,AN18)","v":0},{"$f":"AO18/(AQ4-AO20)","v":0},{"$f":"IF(AP18=0,0,(AP18*((LOG(AP18))/LOG(2))))","v":0},null,{"$f":"N18","v":2122},{"$f":"COUNTIF(L110:L129,AS18)","v":0},{"$f":"AT18/(AV4-AT20)","v":0},{"$f":"IF(AU18=0,0,(AU18*((LOG(AU18))/LOG(2))))","v":0}]
[12,1515,14,1522,13,1530,14,1542,null,null,0,1111,null,2211,{"$f":"COUNTIF($L$7:$L$500,N19)","v":0},{"$f":"O19/$Q$4","v":0},{"$f":"IF(P19=0,0,(P19*((LOG(P19))/LOG(2))))","v":0},null,null,{"$f":"N19","v":2211},{"$f":"COUNTIF(L7:L27,T19)","v":0},{"$f":"U19/(W4-U20)","v":0},{"$f":"IF(V19=0,0,(V19*((LOG(V19))/LOG(2))))","v":0},null,{"$f":"N19","v":2211},{"$f":"COUNTIF(L28:L47,Y19)","v":0},{"$f":"Z19/(AB4-Z20)","v":0},{"$f":"IF(AA19=0,0,(AA19*((LOG(AA19))/LOG(2))))","v":0},null,{"$f":"N19","v":2211},{"$f":"COUNTIF(L48:L68,AD19)","v":0},{"$f":"AE19/(AG4-AE20)","v":0},{"$f":"IF(AF19=0,0,(AF19*((LOG(AF19))/LOG(2))))","v":0},null,{"$f":"N19","v":2211},{"$f":"COUNTIF(L69:L88,AI19)","v":0},{"$f":"AJ19/(AL4-AJ20)","v":0},{"$f":"IF(AK19=0,0,(AK19*((LOG(AK19))/LOG(2))))","v":0},null,{"$f":"N19","v":2211},{"$f":"COUNTIF(L89:L109,AN19)","v":0},{"$f":"AO19/(AQ4-AO20)","v":0},{"$f":"IF(AP19=0,0,(AP19*((LOG(AP19))/LOG(2))))","v":0},null,{"$f":"N19","v":2211},{"$f":"COUNTIF(L110:L129,AS19)","v":0},{"$f":"AT19/(AV4-AT20)","v":0},{"$f":"IF(AU19=0,0,(AU19*((LOG(AU19))/LOG(2))))","v":0}]
[12,1679,14,1686,13,1692,14,1707,null,null,0,1111,null,2212,{"$f":"COUNTIF($L$7:$L$500,N20)","v":0},{"$f":"O20/$Q$4","v":0},{"$f":"IF(P20=0,0,(P20*((LOG(P20))/LOG(2))))","v":0},null,null,{"$f":"N20","v":2212},{"$f":"COUNTIF(L7:L27,T20)","v":0},null,null,null,{"$f":"N20","v":2212},{"$f":"COUNTIF(L28:L47,Y20)","v":0},null,null,null,{"$f":"N20","v":2212},{"$f":"COUNTIF(L48:L68,AD20)","v":0},null,null,null,{"$f":"N20","v":2212},{"$f":"COUNTIF(L69:L88,AI20)","v":0},null,null,null,{"$f":"N20","v":2212},{"$f":"COUNTIF(L89:L109,AN20)","v":0},null,null,null,{"$f":"N20","v":2212},{"$f":"COUNTIF(L110:L129,AS20)","v":0}]
[12,1814,14,1821,13,1828,14,1836,null,null,0,1111,null,2221,{"$f":"COUNTIF($L$7:$L$500,N21)","v":0},{"$f":"O21/$Q$4","v":0},{"$f":"IF(P21=0,0,(P21*((LOG(P21))/LOG(2))))","v":0},null,null,{"$f":"N21","v":2221},{"$f":"COUNTIF(L7:L27,T21)","v":0},{"$f":"U21/(W4-U20)","v":0},{"$f":"IF(V21=0,0,(V21*((LOG(V21))/LOG(2))))","v":0},null,{"$f":"N21","v":2221},{"$f":"COUNTIF(L28:L47,Y21)","v":0},{"$f":"Z21/(AB4-Z20)","v":0},{"$f":"IF(AA21=0,0,(AA21*((LOG(AA21))/LOG(2))))","v":0},null,{"$f":"N21","v":2221},{"$f":"COUNTIF(L48:L68,AD21)","v":0},{"$f":"AE21/(AG4-AE20)","v":0},{"$f":"IF(AF21=0,0,(AF21*((LOG(AF21))/LOG(2))))","v":0},null,{"$f":"N21","v":2221},{"$f":"COUNTIF(L69:L88,AI21)","v":0},{"$f":"AJ21/(AL4-AJ20)","v":0},{"$f":"IF(AK21=0,0,(AK21*((LOG(AK21))/LOG(2))))","v":0},null,{"$f":"N21","v":2221},{"$f":"COUNTIF(L89:L109,AN21)","v":0},{"$f":"AO21/(AQ4-AO20)","v":0},{"$f":"IF(AP21=0,0,(AP21*((LOG(AP21))/LOG(2))))","v":0},null,{"$f":"N21","v":2221},{"$f":"COUNTIF(L110:L129,AS21)","v":0},{"$f":"AT21/(AV4-AT20)","v":0},{"$f":"IF(AU21=0,0,(AU21*((LOG(AU21))/LOG(2))))","v":0}]
[12,1945,14,1951,13,1956,14,1960,null,null,0,1111,null,2222,{"$f":"COUNTIF($L$7:$L$500,N22)","v":57},{"$f":"O22/$Q$4","v":0.46341463414634149},{"$f":"IF(P22=0,0,(P22*((LOG(P22))/LOG(2))))","v":-0.51421622761745034},null,null,{"$f":"N22","v":2222},{"$f":"COUNTIF(L7:L27,T22)","v":3},{"$f":"U22/(W4-U20)","v":0.14285714285714285},{"$f":"IF(V22=0,0,(V22*((LOG(V22))/LOG(2))))","v":-0.40105070315108626},null,{"$f":"N22","v":2222},{"$f":"COUNTIF(L28:L47,Y22)","v":10},{"$f":"Z22/(AB4-Z20)","v":0.5},{"$f":"IF(AA22=0,0,(AA22*((LOG(AA22))/LOG(2))))","v":-0.5},null,{"$f":"N22","v":2222},{"$f":"COUNTIF(L48:L68,AD22)","v":9},{"$f":"AE22/(AG4-AE20)","v":0.42857142857142855},{"$f":"IF(AF22=0,0,(AF22*((LOG(AF22))/LOG(2))))","v":-0.52388246628704915},null,{"$f":"N22","v":2222},{"$f":"COUNTIF(L69:L88,AI22)","v":11},{"$f":"AJ22/(AL4-AJ20)","v":0.55000000000000004},{"$f":"IF(AK22=0,0,(AK22*((LOG(AK22))/LOG(2))))","v":-0.47437306193753576},null,{"$f":"N22","v":2222},{"$f":"COUNTIF(L89:L109,AN22)","v":12},{"$f":"AO22/(AQ4-AO20)","v":0.5714285714285714},{"$f":"IF(AP22=0,0,(AP22*((LOG(AP22))/LOG(2))))","v":-0.46134566974720237},null,{"$f":"N22","v":2222},{"$f":"COUNTIF(L110:L129,AS22)","v":12},{"$f":"AT22/(AV4-AT20)","v":0.6},{"$f":"IF(AU22=0,0,(AU22*((LOG(AU22))/LOG(2))))","v":-0.44217935649972373}]
[21,2079,21,2084,22,2092,23,2099,null,null,0,2222,null,null,null,{"$f":"SUM(P7:P22)","v":1},{"$f":"-SUM(Q7:Q22)","v":1.1012565312954163},null,null,null,null,{"$f":"SUM(V7:V22)","v":1},{"$f":"-SUM(W7:W22)","v":0.85699571785403461},null,null,null,{"$f":"SUM(AA7:AA22)","v":1},{"$f":"-SUM(AB7:AB22)","v":1},null,null,null,{"$f":"SUM(AF7:AF22)","v":1},{"$f":"-SUM(AG7:AG22)","v":0.98522813603425152},null,null,null,{"$f":"SUM(AK7:AK22)","v":1},{"$f":"-SUM(AL7:AL22)","v":0.99277445398780828},null,null,null,{"$f":"SUM(AP7:AP22)","v":1},{"$f":"-SUM(AQ7:AQ22)","v":1.2009102795095283},null,null,null,{"$f":"SUM(AU7:AU22)","v":1},{"$f":"-SUM(AV7:AV22)","v":0.97095059445466869}]
[12,2222,14,2231,13,2236,14,2244,null,null,0,1111,null,null,null,"U=",{"$f":"Q23/(LOG(Q4)/LOG(2))","v":0.15862502418230157},null,null,null,null,"U1=",{"$f":"W23/(LOG(W4)/LOG(2))","v":0.19511242821605179},null,null,null,"U2=",{"$f":"AB23/(LOG(AB4)/LOG(2))","v":0.23137821315975915},null,null,null,"U3=",{"$f":"AG23/(LOG(AG4)/LOG(2))","v":0.22430713475415345},null,null,null,"U4=",{"$f":"AL23/(LOG(AL4)/LOG(2))","v":0.22970637923435461},null,null,null,"U5=",{"$f":"AQ23/(LOG(AQ4)/LOG(2))","v":0.27341154199866163},null,null,null,"U6=",{"$f":"AV23/(LOG(AV4)/LOG(2))","v":0.22465681361132719}]
[12,2347,14,2349,13,2356,14,2362,null,null,0,1111]
[12,2478,14,2483,13,2489,14,2497,null,null,0,1111]
[12,2603,14,2608,13,2612,14,2618,null,null,0,1111,null,"Total Target Seq"]
[21,2727,21,2733,22,2748,23,2755,null,null,0,2222,null,{"$f":"COUNTIF(L7:L129,G3)","v":0},null,21,20,21,20,21,20]
[12,2877,14,2881,13,2886,14,2894,null,null,0,1111,null,null,null,"% of reinforcement given in 6 equal intervals based on number of trials "]
[21,2999,21,3004,22,3012,23,3020,null,null,0,2222,null,null,null,"%_1","%_2","%_3","%_4","%_5","%_6"]
[12,3125,14,3130,13,3136,14,3143,null,null,0,1111,null,null,"target sequence",{"$f":"$G$3","v":2212},{"$f":"$G$3","v":2212},{"$f":"$G$3","v":2212},{"$f":"$G$3","v":2212},{"$f":"$G$3","v":2212},{"$f":"$G$3","v":2212}]
[12,3251,14,3256,13,3261,14,3267,null,null,0,1111,null,null,"total reinforcement",{"$f":"U20","v":0},{"$f":"Z20","v":0},{"$f":"AE20","v":0},{"$f":"AJ20","v":0},{"$f":"AO20","v":0},{"$f":"AT20","v":0}]
[21,3389,21,3393,22,3401,23,3418,null,null,0,2222,null,null,"% target"]
[12,3525,14,3528,13,3533,14,3538,null,null,0,1111,null,null,"CCRF"]
[21,3641,21,3647,22,3653,23,3661,null,null,0,2222,null,null,"% CCRf"]
[21,3768,21,3773,22,3782,23,3793,null,null,0,2222,null,null,"average response rate",{"$f":"H27/P28","v":124.66666666666667},{"$f":"(H47-H27)/Q28","v":134.69999999999999},{"$f":"(H68-H47)/R28","v":154.57142857142858},{"$f":"(H88-H68)/S28","v":225.7},{"$f":"(H109-H88)/T28","v":206.71428571428572},{"$f":"(H129-H109)/U28","v":300.2}]
[12,3905,14,3910,13,3911,14,3915,null,null,0,1111]
[21,4031,21,4035,22,4040,23,4044,null,null,0,2222]
[21,4192,21,4199,22,4207,23,4242,null,null,0,2222]
[12,4343,14,4347,13,4352,14,4356,null,null,0,1111]
[12,4469,14,4473,13,4478,14,4483,null,null,0,1111]
[21,4590,21,4596,22,4604,23,4612,null,null,0,2222]
[12,4729,14,4735,13,4740,14,4746,null,null,0,1111]
[21,4904,21,4909,22,4914,23,4922,null,null,0,2222]
[21,5025,21,5030,22,5037,23,5043,null,null,0,2222]
[12,5167,14,5172,13,5176,14,5181,null,null,0,1111]
[12,5298,14,5303,13,5307,14,5312,null,null,0,1111]
[21,5457,21,5465,22,5473,23,5489,null,null,0,2222]
[12,5597,14,5601,13,5606,14,5610,null,null,0,1111]
[21,5719,21,5726,22,5740,23,5748,null,null,0,2222]
[12,5852,14,5858,13,5863,14,5870,null,null,0,1111]
[12,5979,14,5983,13,5988,14,5992,null,null,0,1111]
[12,6155,14,6163,13,6190,14,6198,null,null,0,1111]
[12,6298,14,6301,13,6306,14,6311,null,null,0,1111]
[12,6426,14,6430,13,6435,14,6439,null,null,0,1111]
[21,6615,21,6622,22,6630,23,6638,null,null,0,2222]
[21,6798,21,6812,22,6833,23,6858,null,null,0,2222]
[12,6961,14,6969,13,6975,14,6981,null,null,0,1111]
[21,7090,21,7095,22,7101,23,7107,null,null,0,2222]
[12,7221,14,7226,13,7231,14,7236,null,null,0,1111]
[12,7489,14,7494,13,7499,14,7503,null,null,0,1111]
[21,7686,21,7690,22,7696,23,7704,null,null,0,2222]
[21,7826,21,7830,22,7835,23,7840,null,null,0,2222]
[12,7936,14,7941,13,7947,14,7956,null,null,0,1111]
[12,8064,14,8070,13,8074,14,8080,null,null,0,1111]
[21,8201,21,8205,22,8210,23,8217,null,null,0,2222]
[21,8338,21,8342,22,8350,23,8358,null,null,0,2222]
[12,8543,14,8547,13,8553,14,8558,null,null,0,1111]
[21,8657,21,8665,22,8670,23,8683,null,null,0,2222]
[12,9014,14,9018,13,9038,14,9043,null,null,0,1111]
[12,9168,14,9173,13,9177,14,9181,null,null,0,1111]
[12,9366,14,9370,13,9375,14,9380,null,null,0,1111]
[21,9498,21,9508,22,9515,23,9522,null,null,0,2222]
[12,9628,14,9634,13,9638,14,9643,null,null,0,1111]
[21,9888,21,9912,22,9927,23,9935,null,null,0,2222]
[21,10109,21,10115,22,10120,23,10128,null,null,0,2222]
[12,10235,14,10243,13,10248,14,10254,null,null,0,1111]
[12,10404,14,10408,13,10413,14,10417,null,null,0,1111]
[12,10804,14,10812,13,10818,14,10826,null,null,0,1111]
[21,10948,21,10955,22,10960,23,10968,null,null,0,2222]
[21,11067,21,11074,22,11095,23,11121,null,null,0,2222]
[21,11232,21,11237,22,11242,23,11248,null,null,0,2222]
[12,12066,14,12071,13,12075,14,12081,null,null,0,1111]
[12,12205,14,12211,13,12216,14,12222,null,null,0,1111]
[21,12414,21,12419,22,12429,23,12450,null,null,0,2222]
[21,12580,21,12585,22,12597,23,12605,null,null,0,2222]
[21,12870,21,12894,22,12940,23,12954,null,null,0,2222]
[21,13058,21,13063,22,13067,23,13072,null,null,0,2222]
[21,13179,21,13184,22,13191,23,13202,null,null,0,2222]
[12,13333,14,13341,13,13345,14,13349,null,null,0,1111]
[21,13528,21,13535,22,13542,23,13578,null,null,0,2222]
[12,14104,14,14109,13,14113,14,14117,null,null,0,1111]
[21,14217,21,14221,22,14226,23,14232,null,null,0,2222]
[21,14341,21,14346,22,14350,23,14354,null,null,0,2222]
[21,14470,21,14481,22,14489,23,14515,null,null,0,2222]
[12,14624,14,14629,13,14633,14,14639,null,null,0,1111]
[21,14752,21,14757,22,14761,23,14767,null,null,0,2222]
[12,14866,14,14871,13,14876,14,14880,null,null,0,1111]
[12,14990,14,14994,13,15000,14,15003,null,null,0,1111]
[21,15150,21,15160,22,15183,23,15191,null,null,0,2222]
[21,15350,21,15355,22,15361,23,15369,null,null,0,2222]
[21,15479,21,15486,22,15491,23,15504,null,null,0,2222]
[12,15663,14,15667,13,15671,14,15675,null,null,0,1111]
[12,15876,14,15881,13,15887,14,15892,null,null,0,1111]
[12,16459,14,16463,13,16468,14,16476,null,null,0,1111]
[21,16682,21,16686,22,16693,23,16717,null,null,0,2222]
[21,16909,12,16923,13,16928,14,16932,null,null,0,2111]
[21,17181,21,17186,22,17193,23,17199,null,null,0,2222]
[21,17393,21,17400,22,17405,23,17413,null,null,0,2222]
[12,17899,14,17904,13,17910,14,17916,null,null,0,1111]
[21,18201,21,18207,22,18212,23,18221,null,null,0,2222]
[21,18526,21,18535,22,18552,23,18563,null,null,0,2222]
[12,19066,14,19070,13,19074,14,19078,null,null,0,1111]
[12,19244,14,19248,13,19252,14,19257,null,null,0,1111]
[12,20083,14,20087,13,20092,14,20097,null,null,0,1111]
[21,20207,21,20218,22,20225,23,20233,null,null,0,2222]
[12,20410,14,20414,13,20419,14,20426,null,null,0,1111]
[12,20659,14,20664,13,20671,14,20679,null,null,0,1111]
[21,20837,21,20845,22,20864,23,20873,null,null,0,2222]
[21,20979,21,20984,22,20992,23,21000,null,null,0,2222]
[21,21204,21,21209,22,21214,23,21235,null,null,0,2222]
[12,21381,14,21386,13,21390,14,21395,null,null,0,1111]
[21,21649,21,21656,22,21668,23,21683,null,null,0,2222]
[21,21969,21,21983,22,22011,23,22018,null,null,0,2222]
[21,22118,21,22125,22,22157,23,22167,null,null,0,2222]
[21,22495,21,22502,22,22544,23,22550,null,null,0,2222]
[21,23081,21,23087,22,23095,23,23110,null,null,0,2222]
[21,23230,21,23239,22,23259,23,23266,null,null,0,2222]
[12,23402,14,23407,13,23411,14,23417,null,null,0,1111]

{"sheet":"!MB09920.091","index":4,"n_rows":119,"n_cols":48,"rows_kept":119,"cut":false,"hidden":false,"merged":[[4,39,4,42],[5,39,5,40],[4,44,4,47],[5,44,5,45],[4,24,4,27],[5,24,5,25],[4,29,4,32],[5,29,5,30],[4,34,4,37],[5,34,5,35],[1,1,1,2],[5,13,5,14],[26,13,26,14],[27,13,27,14],[4,19,4,22],[5,19,5,20]]}
["Report for:!MB09920.091"]
["Date:","<date>"]
["Hen:","<hen>",null,null,null,"Correct Sequence",{"$f":"Start!J2","v":2212},null,null,null,null,null,null,null,null,"Total Sequences in Data",{"$f":"4994-COUNTBLANK(L7:L5000)","v":113},null,null,null,null,"Total Sequences in Block Data",{"$f":"COUNTA(L7:L25)","v":19},null,null,null,"Total Sequences in Block Data",{"$f":"COUNTA(L26:L44)","v":19},null,null,null,"Total Sequences in Block Data",{"$f":"COUNTA(L45:L62)","v":18},null,null,null,"Total Sequences in Block Data",{"$f":"COUNTA(L63:L81)","v":19},null,null,null,"Total Sequences in Block Data",{"$f":"COUNTA(L82:L100)","v":19},null,null,null,"Total Sequences in Block Data",{"$f":"COUNTA(L101:L119)","v":19}]
[null,null,null,null,null,null,null,null,null,null,null,null,null,null,null,"Total Sequences in Summary",{"$f":"SUM(O7:O22)","v":113},null,null,null,null,"Total Sequences in Block Summary",{"$f":"SUM(U7:U22)","v":19},null,null,null,"Total Sequences in Block Summary",{"$f":"SUM(Z7:Z22)","v":19},null,null,null,"Total Sequences in Block Summary",{"$f":"SUM(AE7:AE22)","v":18},null,null,null,"Total Sequences in Block Summary",{"$f":"SUM(AJ7:AJ22)","v":19},null,null,null,"Total Sequences in Block Summary",{"$f":"SUM(AO7:AO22)","v":19},null,null,null,"Total Sequences in Block Summary",{"$f":"SUM(AT7:AT22)","v":19}]
[null,null,null,null,null,null,null,null,null,null,null,null,null,null,null,null,null,null,null,"Block 1",null,null,null,null,"Block 2",null,null,null,null,"Block 3",null,null,null,null,"Block 4",null,null,null,null,"Block 5",null,null,null,null,"Block 6"]
["Sequence\nComponent\n1","Time\n1","Sequence\nComponent\n2","Time\n2","Sequence\nComponent\n3","Time\n3","Sequence\nComponent\n4","Time\n4","Sequence\nComponent\n5","Time\n5","Correct?\n0=No 1=Yes","Sequence",null,"Frequency",null,"Relative Frequency","Variability",null,null,"Frequency",null,"Relative Frequency","Variability",null,"Frequency",null,"Relative Frequency","Variability",null,"Frequency",null,"Relative Frequency","Variability",null,"Frequency",null,"Relative Frequency","Variability",null,"Frequency",null,"Relative Frequency","Variability",null,"Frequency",null,"Relative Frequency","Variability"]
[12,15,14,22,13,29,14,37,null,null,0,1111,null,1111,{"$f":"COUNTIF($L$7:$L$500,N7)","v":56},{"$f":"O7/$Q$4","v":0.49557522123893805},{"$f":"IF(P7=0,0,(P7*((LOG(P7))/LOG(2))))","v":-0.5019304978763246},null,null,{"$f":"N7","v":1111},{"$f":"COUNTIF(L7:L25,T7)","v":9},{"$f":"U7/(W4-U20)","v":0.47368421052631576},{"$f":"IF(V7=0,0,(V7*((LOG(V7))/LOG(2))))","v":-0.51063276884270825},null,{"$f":"N7","v":1111},{"$f":"COUNTIF(L26:L44,Y7)","v":15},{"$f":"Z7/(AB4-Z20)","v":0.78947368421052633},{"$f":"IF(AA7=0,0,(AA7*((LOG(AA7))/LOG(2))))","v":-0.26923967197505283},null,{"$f":"N7","v":1111},{"$f":"COUNTIF(L45:L62,AD7)","v":8},{"$f":"AE7/(AG4-AE20)","v":0.44444444444444442},{"$f":"IF(AF7=0,0,(AF7*((LOG(AF7))/LOG(2))))","v":-0.51996666730769447},null,{"$f":"N7","v":1111},{"$f":"COUNTIF(L63:L81,AI7)","v":11},{"$f":"AJ7/(AL4-AJ20)","v":0.57894736842105265},{"$f":"IF(AK7=0,0,(AK7*((LOG(AK7))/LOG(2))))","v":-0.45649762330890375},null,{"$f":"N7","v":1111},{"$f":"COUNTIF(L82:L100,AN7)","v":5},{"$f":"AO7/(AQ4-AO20)","v":0.26315789473684209},{"$f":"IF(AP7=0,0,(AP7*((LOG(AP7))/LOG(2))))","v":-0.50684195225163764},null,{"$f":"N7","v":1111},{"$f":"COUNTIF(L101:L119,AS7)","v":8},{"$f":"AT7/(AV4-AT20)","v":0.42105263157894735},{"$f":"IF(AU7=0,0,(AU7*((LOG(AU7))/LOG(2))))","v":-0.52544316355519383}]
[12,137,14,143,13,149,14,154,null,null,0,1111,null,1112,{"$f":"COUNTIF($L$7:$L$500,N8)","v":1},{"$f":"O8/$Q$4","v":8.8495575221238937E-3},{"$f":"IF(P8=0,0,(P8*((LOG(P8))/LOG(2))))","v":-6.0355566039072467E-2},null,null,{"$f":"N8","v":1112},{"$f":"COUNTIF(L7:L25,T8)","v":1},{"$f":"U8/(W4-U20)","v":5.2631578947368418E-2},{"$f":"IF(V8=0,0,(V8*((LOG(V8))/LOG(2))))","v":-0.22357513228650452},null,{"$f":"N8","v":1112},{"$f":"COUNTIF(L26:L44,Y8)","v":0},{"$f":"Z8/(AB4-Z20)","v":0},{"$f":"IF(AA8=0,0,(AA8*((LOG(AA8))/LOG(2))))","v":0},null,{"$f":"N8","v":1112},{"$f":"COUNTIF(L45:L62,AD8)","v":0},{"$f":"AE8/(AG4-AE20)","v":0},{"$f":"IF(AF8=0,0,(AF8*((LOG(AF8))/LOG(2))))","v":0},null,{"$f":"N8","v":1112},{"$f":"COUNTIF(L63:L81,AI8)","v":0},{"$f":"AJ8/(AL4-AJ20)","v":0},{"$f":"IF(AK8=0,0,(AK8*((LOG(AK8))/LOG(2))))","v":0},null,{"$f":"N8","v":1112},{"$f":"COUNTIF(L82:L100,AN8)","v":0},{"$f":"AO8/(AQ4-AO20)","v":0},{"$f":"IF(AP8=0,0,(AP8*((LOG(AP8))/LOG(2))))","v":0},null,{"$f":"N8","v":1112},{"$f":"COUNTIF(L101:L119,AS8)","v":0},{"$f":"AT8/(AV4-AT20)","v":0},{"$f":"IF(AU8=0,0,(AU8*((LOG(AU8))/LOG(2))))","v":0}]
[12,267,14,271,13,275,14,280,null,null,0,1111,null,1121,{"$f":"COUNTIF($L$7:$L$500,N9)","v":0},{"$f":"O9/$Q$4","v":0},{"$f":"IF(P9=0,0,(P9*((LOG(P9))/LOG(2))))","v":0},null,null,{"$f":"N9","v":1121},{"$f":"COUNTIF(L7:L25,T9)","v":0},{"$f":"U9/(W4-U20)","v":0},{"$f":"IF(V9=0,0,(V9*((LOG(V9))/LOG(2))))","v":0},null,{"$f":"N9","v":1121},{"$f":"COUNTIF(L26:L44,Y9)","v":0},{"$f":"Z9/(AB4-Z20)","v":0},{"$f":"IF(AA9=0,0,(AA9*((LOG(AA9))/LOG(2))))","v":0},null,{"$f":"N9","v":1121},{"$f":"COUNTIF(L45:L62,AD9)","v":0},{"$f":"AE9/(AG4-AE20)","v":0},{"$f":"IF(AF9=0,0,(AF9*((LOG(AF9))/LOG(2))))","v":0},null,{"$f":"N9","v":1121},{"$f":"COUNTIF(L63:L81,AI9)","v":0},{"$f":"AJ9/(AL4-AJ20)","v":0},{"$f":"IF(AK9=0,0,(AK9*((LOG(AK9))/LOG(2))))","v":0},null,{"$f":"N9","v":1121},{"$f":"COUNTIF(L82:L100,AN9)","v":0},{"$f":"AO9/(AQ4-AO20)","v":0},{"$f":"IF(AP9=0,0,(AP9*((LOG(AP9))/LOG(2))))","v":0},null,{"$f":"N9","v":1121},{"$f":"COUNTIF(L101:L119,AS9)","v":0},{"$f":"AT9/(AV4-AT20)","v":0},{"$f":"IF(AU9=0,0,(AU9*((LOG(AU9))/LOG(2))))","v":0}]
[12,387,14,392,13,397,23,409,null,null,0,1112,null,1122,{"$f":"COUNTIF($L$7:$L$500,N10)","v":1},{"$f":"O10/$Q$4","v":8.8495575221238937E-3},{"$f":"IF(P10=0,0,(P10*((LOG(P10))/LOG(2))))","v":-6.0355566039072467E-2},null,null,{"$f":"N10","v":1122},{"$f":"COUNTIF(L7:L25,T10)","v":1},{"$f":"U10/(W4-U20)","v":5.2631578947368418E-2},{"$f":"IF(V10=0,0,(V10*((LOG(V10))/LOG(2))))","v":-0.22357513228650452},null,{"$f":"N10","v":1122},{"$f":"COUNTIF(L26:L44,Y10)","v":0},{"$f":"Z10/(AB4-Z20)","v":0},{"$f":"IF(AA10=0,0,(AA10*((LOG(AA10))/LOG(2))))","v":0},null,{"$f":"N10","v":1122},{"$f":"COUNTIF(L45:L62,AD10)","v":0},{"$f":"AE10/(AG4-AE20)","v":0},{"$f":"IF(AF10=0,0,(AF10*((LOG(AF10))/LOG(2))))","v":0},null,{"$f":"N10","v":1122},{"$f":"COUNTIF(L63:L81,AI10)","v":0},{"$f":"AJ10/(AL4-AJ20)","v":0},{"$f":"IF(AK10=0,0,(AK10*((LOG(AK10))/LOG(2))))","v":0},null,{"$f":"N10","v":1122},{"$f":"COUNTIF(L82:L100,AN10)","v":0},{"$f":"AO10/(AQ4-AO20)","v":0},{"$f":"IF(AP10=0,0,(AP10*((LOG(AP10))/LOG(2))))","v":0},null,{"$f":"N10","v":1122},{"$f":"COUNTIF(L101:L119,AS10)","v":0},{"$f":"AT10/(AV4-AT20)","v":0},{"$f":"IF(AU10=0,0,(AU10*((LOG(AU10))/LOG(2))))","v":0}]
[12,510,14,523,13,531,14,543,null,null,0,1111,null,1211,{"$f":"COUNTIF($L$7:$L$500,N11)","v":0},{"$f":"O11/$Q$4","v":0},{"$f":"IF(P11=0,0,(P11*((LOG(P11))/LOG(2))))","v":0},null,null,{"$f":"N11","v":1211},{"$f":"COUNTIF(L7:L25,T11)","v":0},{"$f":"U11/(W4-U20)","v":0},{"$f":"IF(V11=0,0,(V11*((LOG(V11))/LOG(2))))","v":0},null,{"$f":"N11","v":1211},{"$f":"COUNTIF(L26:L44,Y11)","v":0},{"$f":"Z11/(AB4-Z20)","v":0},{"$f":"IF(AA11=0,0,(AA11*((LOG(AA11))/LOG(2))))","v":0},null,{"$f":"N11","v":1211},{"$f":"COUNTIF(L45:L62,AD11)","v":0},{"$f":"AE11/(AG4-AE20)","v":0},{"$f":"IF(AF11=0,0,(AF11*((LOG(AF11))/LOG(2))))","v":0},null,{"$f":"N11","v":1211},{"$f":"COUNTIF(L63:L81,AI11)","v":0},{"$f":"AJ11/(AL4-AJ20)","v":0},{"$f":"IF(AK11=0,0,(AK11*((LOG(AK11))/LOG(2))))","v":0},null,{"$f":"N11","v":1211},{"$f":"COUNTIF(L82:L100,AN11)","v":0},{"$f":"AO11/(AQ4-AO20)","v":0},{"$f":"IF(AP11=0,0,(AP11*((LOG(AP11))/LOG(2))))","v":0},null,{"$f":"N11","v":1211},{"$f":"COUNTIF(L101:L119,AS11)","v":0},{"$f":"AT11/(AV4-AT20)","v":0},{"$f":"IF(AU11=0,0,(AU11*((LOG(AU11))/LOG(2))))","v":0}]
[12,646,14,655,13,661,14,668,null,null,0,1111,null,1212,{"$f":"COUNTIF($L$7:$L$500,N12)","v":0},{"$f":"O12/$Q$4","v":0},{"$f":"IF(P12=0,0,(P12*((LOG(P12))/LOG(2))))","v":0},null,null,{"$f":"N12","v":1212},{"$f":"COUNTIF(L7:L25,T12)","v":0},{"$f":"U12/(W4-U20)","v":0},{"$f":"IF(V12=0,0,(V12*((LOG(V12))/LOG(2))))","v":0},null,{"$f":"N12","v":1212},{"$f":"COUNTIF(L26:L44,Y12)","v":0},{"$f":"Z12/(AB4-Z20)","v":0},{"$f":"IF(AA12=0,0,(AA12*((LOG(AA12))/LOG(2))))","v":0},null,{"$f":"N12","v":1212},{"$f":"COUNTIF(L45:L62,AD12)","v":0},{"$f":"AE12/(AG4-AE20)","v":0},{"$f":"IF(AF12=0,0,(AF12*((LOG(AF12))/LOG(2))))","v":0},null,{"$f":"N12","v":1212},{"$f":"COUNTIF(L63:L81,AI12)","v":0},{"$f":"AJ12/(AL4-AJ20)","v":0},{"$f":"IF(AK12=0,0,(AK12*((LOG(AK12))/LOG(2))))","v":0},null,{"$f":"N12","v":1212},{"$f":"COUNTIF(L82:L100,AN12)","v":0},{"$f":"AO12/(AQ4-AO20)","v":0},{"$f":"IF(AP12=0,0,(AP12*((LOG(AP12))/LOG(2))))","v":0},null,{"$f":"N12","v":1212},{"$f":"COUNTIF(L101:L119,AS12)","v":0},{"$f":"AT12/(AV4-AT20)","v":0},{"$f":"IF(AU12=0,0,(AU12*((LOG(AU12))/LOG(2))))","v":0}]
[12,777,14,787,24,805,23,812,null,null,0,1122,null,1221,{"$f":"COUNTIF($L$7:$L$500,N13)","v":0},{"$f":"O13/$Q$4","v":0},{"$f":"IF(P13=0,0,(P13*((LOG(P13))/LOG(2))))","v":0},null,null,{"$f":"N13","v":1221},{"$f":"COUNTIF(L7:L25,T13)","v":0},{"$f":"U13/(W4-U20)","v":0},{"$f":"IF(V13=0,0,(V13*((LOG(V13))/LOG(2))))","v":0},null,{"$f":"N13","v":1221},{"$f":"COUNTIF(L26:L44,Y13)","v":0},{"$f":"Z13/(AB4-Z20)","v":0},{"$f":"IF(AA13=0,0,(AA13*((LOG(AA13))/LOG(2))))","v":0},null,{"$f":"N13","v":1221},{"$f":"COUNTIF(L45:L62,AD13)","v":0},{"$f":"AE13/(AG4-AE20)","v":0},{"$f":"IF(AF13=0,0,(AF13*((LOG(AF13))/LOG(2))))","v":0},null,{"$f":"N13","v":1221},{"$f":"COUNTIF(L63:L81,AI13)","v":0},{"$f":"AJ13/(AL4-AJ20)","v":0},{"$f":"IF(AK13=0,0,(AK13*((LOG(AK13))/LOG(2))))","v":0},null,{"$f":"N13","v":1221},{"$f":"COUNTIF(L82:L100,AN13)","v":0},{"$f":"AO13/(AQ4-AO20)","v":0},{"$f":"IF(AP13=0,0,(AP13*((LOG(AP13))/LOG(2))))","v":0},null,{"$f":"N13","v":1221},{"$f":"COUNTIF(L101:L119,AS13)","v":0},{"$f":"AT13/(AV4-AT20)","v":0},{"$f":"IF(AU13=0,0,(AU13*((LOG(AU13))/LOG(2))))","v":0}]
[21,1019,21,1024,22,1038,23,1046,null,null,0,2222,null,1222,{"$f":"COUNTIF($L$7:$L$500,N14)","v":1},{"$f":"O14/$Q$4","v":8.8495575221238937E-3},{"$f":"IF(P14=0,0,(P14*((LOG(P14))/LOG(2))))","v":-6.0355566039072467E-2},null,null,{"$f":"N14","v":1222},{"$f":"COUNTIF(L7:L25,T14)","v":0},{"$f":"U14/(W4-U20)","v":0},{"$f":"IF(V14=0,0,(V14*((LOG(V14))/LOG(2))))","v":0},null,{"$f":"N14","v":1222},{"$f":"COUNTIF(L26:L44,Y14)","v":0},{"$f":"Z14/(AB4-Z20)","v":0},{"$f":"IF(AA14=0,0,(AA14*((LOG(AA14))/LOG(2))))","v":0},null,{"$f":"N14","v":1222},{"$f":"COUNTIF(L45:L62,AD14)","v":1},{"$f":"AE14/(AG4-AE20)","v":5.5555555555555552E-2},{"$f":"IF(AF14=0,0,(AF14*((LOG(AF14))/LOG(2))))","v":-0.23166250008012845},null,{"$f":"N14","v":1222},{"$f":"COUNTIF(L63:L81,AI14)","v":0},{"$f":"AJ14/(AL4-AJ20)","v":0},{"$f":"IF(AK14=0,0,(AK14*((LOG(AK14))/LOG(2))))","v":0},null,{"$f":"N14","v":1222},{"$f":"COUNTIF(L82:L100,AN14)","v":0},{"$f":"AO14/(AQ4-AO20)","v":0},{"$f":"IF(AP14=0,0,(AP14*((LOG(AP14))/LOG(2))))","v":0},null,{"$f":"N14","v":1222},{"$f":"COUNTIF(L101:L119,AS14)","v":0},{"$f":"AT14/(AV4-AT20)","v":0},{"$f":"IF(AU14=0,0,(AU14*((LOG(AU14))/LOG(2))))","v":0}]
[21,1148,21,1154,22,1159,23,1166,null,null,0,2222,null,2111,{"$f":"COUNTIF($L$7:$L$500,N15)","v":1},{"$f":"O15/$Q$4","v":8.8495575221238937E-3},{"$f":"IF(P15=0,0,(P15*((LOG(P15))/LOG(2))))","v":-6.0355566039072467E-2},null,null,{"$f":"N15","v":2111},{"$f":"COUNTIF(L7:L25,T15)","v":0},{"$f":"U15/(W4-U20)","v":0},{"$f":"IF(V15=0,0,(V15*((LOG(V15))/LOG(2))))","v":0},null,{"$f":"N15","v":2111},{"$f":"COUNTIF(L26:L44,Y15)","v":0},{"$f":"Z15/(AB4-Z20)","v":0},{"$f":"IF(AA15=0,0,(AA15*((LOG(AA15))/LOG(2))))","v":0},null,{"$f":"N15","v":2111},{"$f":"COUNTIF(L45:L62,AD15)","v":0},{"$f":"AE15/(AG4-AE20)","v":0},{"$f":"IF(AF15=0,0,(AF15*((LOG(AF15))/LOG(2))))","v":0},null,{"$f":"N15","v":2111},{"$f":"COUNTIF(L63:L81,AI15)","v":0},{"$f":"AJ15/(AL4-AJ20)","v":0},{"$f":"IF(AK15=0,0,(AK15*((LOG(AK15))/LOG(2))))","v":0},null,{"$f":"N15","v":2111},{"$f":"COUNTIF(L82:L100,AN15)","v":1},{"$f":"AO15/(AQ4-AO20)","v":5.2631578947368418E-2},{"$f":"IF(AP15=0,0,(AP15*((LOG(AP15))/LOG(2))))","v":-0.22357513228650452},null,{"$f":"N15","v":2111},{"$f":"COUNTIF(L101:L119,AS15)","v":0},{"$f":"AT15/(AV4-AT20)","v":0},{"$f":"IF(AU15=0,0,(AU15*((LOG(AU15))/LOG(2))))","v":0}]
[21,1285,21,1292,22,1341,23,1350,null,null,0,2222,null,2112,{"$f":"COUNTIF($L$7:$L$500,N16)","v":0},{"$f":"O16/$Q$4","v":0},{"$f":"IF(P16=0,0,(P16*((LOG(P16))/LOG(2))))","v":0},null,null,{"$f":"N16","v":2112},{"$f":"COUNTIF(L7:L25,T16)","v":0},{"$f":"U16/(W4-U20)","v":0},{"$f":"IF(V16=0,0,(V16*((LOG(V16))/LOG(2))))","v":0},null,{"$f":"N16","v":2112},{"$f":"COUNTIF(L26:L44,Y16)","v":0},{"$f":"Z16/(AB4-Z20)","v":0},{"$f":"IF(AA16=0,0,(AA16*((LOG(AA16))/LOG(2))))","v":0},null,{"$f":"N16","v":2112},{"$f":"COUNTIF(L45:L62,AD16)","v":0},{"$f":"AE16/(AG4-AE20)","v":0},{"$f":"IF(AF16=0,0,(AF16*((LOG(AF16))/LOG(2))))","v":0},null,{"$f":"N16","v":2112},{"$f":"COUNTIF(L63:L81,AI16)","v":0},{"$f":"AJ16/(AL4-AJ20)","v":0},{"$f":"IF(AK16=0,0,(AK16*((LOG(AK16))/LOG(2))))","v":0},null,{"$f":"N16","v":2112},{"$f":"COUNTIF(L82:L100,AN16)","v":0},{"$f":"AO16/(AQ4-AO20)","v":0},{"$f":"IF(AP16=0,0,(AP16*((LOG(AP16))/LOG(2))))","v":0},null,{"$f":"N16","v":2112},{"$f":"COUNTIF(L101:L119,AS16)","v":0},{"$f":"AT16/(AV4-AT20)","v":0},{"$f":"IF(AU16=0,0,(AU16*((LOG(AU16))/LOG(2))))","v":0}]
[21,1485,21,1490,22,1496,23,1504,null,null,0,2222,null,2121,{"$f":"COUNTIF($L$7:$L$500,N17)","v":0},{"$f":"O17/$Q$4","v":0},{"$f":"IF(P17=0,0,(P17*((LOG(P17))/LOG(2))))","v":0},null,null,{"$f":"N17","v":2121},{"$f":"COUNTIF(L7:L25,T17)","v":0},{"$f":"U17/(W4-U20)","v":0},{"$f":"IF(V17=0,0,(V17*((LOG(V17))/LOG(2))))","v":0},null,{"$f":"N17","v":2121},{"$f":"COUNTIF(L26:L44,Y17)","v":0},{"$f":"Z17/(AB4-Z20)","v":0},{"$f":"IF(AA17=0,0,(AA17*((LOG(AA17))/LOG(2))))","v":0},null,{"$f":"N17","v":2121},{"$f":"COUNTIF(L45:L62,AD17)","v":0},{"$f":"AE17/(AG4-AE20)","v":0},{"$f":"IF(AF17=0,0,(AF17*((LOG(AF17))/LOG(2))))","v":0},null,{"$f":"N17","v":2121},{"$f":"COUNTIF(L63:L81,AI17)","v":0},{"$f":"AJ17/(AL4-AJ20)","v":0},{"$f":"IF(AK17=0,0,(AK17*((LOG(AK17))/LOG(2))))","v":0},null,{"$f":"N17","v":2121},{"$f":"COUNTIF(L82:L100,AN17)","v":0},{"$f":"AO17/(AQ4-AO20)","v":0},{"$f":"IF(AP17=0,0,(AP17*((LOG(AP17))/LOG(2))))","v":0},null,{"$f":"N17","v":2121},{"$f":"COUNTIF(L101:L119,AS17)","v":0},{"$f":"AT17/(AV4-AT20)","v":0},{"$f":"IF(AU17=0,0,(AU17*((LOG(AU17))/LOG(2))))","v":0}]
[21,1634,21,1639,22,1648,23,1655,null,null,0,2222,null,2122,{"$f":"COUNTIF($L$7:$L$500,N18)","v":0},{"$f":"O18/$Q$4","v":0},{"$f":"IF(P18=0,0,(P18*((LOG(P18))/LOG(2))))","v":0},null,null,{"$f":"N18","v":2122},{"$f":"COUNTIF(L7:L25,T18)","v":0},{"$f":"U18/(W4-U20)","v":0},{"$f":"IF(V18=0,0,(V18*((LOG(V18))/LOG(2))))","v":0},null,{"$f":"N18","v":2122},{"$f":"COUNTIF(L26:L44,Y18)","v":0},{"$f":"Z18/(AB4-Z20)","v":0},{"$f":"IF(AA18=0,0,(AA18*((LOG(AA18))/LOG(2))))","v":0},null,{"$f":"N18","v":2122},{"$f":"COUNTIF(L45:L62,AD18)","v":0},{"$f":"AE18/(AG4-AE20)","v":0},{"$f":"IF(AF18=0,0,(AF18*((LOG(AF18))/LOG(2))))","v":0},null,{"$f":"N18","v":2122},{"$f":"COUNTIF(L63:L81,AI18)","v":0},{"$f":"AJ18/(AL4-AJ20)","v":0},{"$f":"IF(AK18=0,0,(AK18*((LOG(AK18))/LOG(2))))","v":0},null,{"$f":"N18","v":2122},{"$f":"COUNTIF(L82:L100,AN18)","v":0},{"$f":"AO18/(AQ4-AO20)","v":0},{"$f":"IF(AP18=0,0,(AP18*((LOG(AP18))/LOG(2))))","v":0},null,{"$f":"N18","v":2122},{"$f":"COUNTIF(L101:L119,AS18)","v":0},{"$f":"AT18/(AV4-AT20)","v":0},{"$f":"IF(AU18=0,0,(AU18*((LOG(AU18))/LOG(2))))","v":0}]
[12,1821,14,1827,13,1832,14,1837,null,null,0,1111,null,2211,{"$f":"COUNTIF($L$7:$L$500,N19)","v":0},{"$f":"O19/$Q$4","v":0},{"$f":"IF(P19=0,0,(P19*((LOG(P19))/LOG(2))))","v":0},null,null,{"$f":"N19","v":2211},{"$f":"COUNTIF(L7:L25,T19)","v":0},{"$f":"U19/(W4-U20)","v":0},{"$f":"IF(V19=0,0,(V19*((LOG(V19))/LOG(2))))","v":0},null,{"$f":"N19","v":2211},{"$f":"COUNTIF(L26:L44,Y19)","v":0},{"$f":"Z19/(AB4-Z20)","v":0},{"$f":"IF(AA19=0,0,(AA19*((LOG(AA19))/LOG(2))))","v":0},null,{"$f":"N19","v":2211},{"$f":"COUNTIF(L45:L62,AD19)","v":0},{"$f":"AE19/(AG4-AE20)","v":0},{"$f":"IF(AF19=0,0,(AF19*((LOG(AF19))/LOG(2))))","v":0},null,{"$f":"N19","v":2211},{"$f":"COUNTIF(L63:L81,AI19)","v":0},{"$f":"AJ19/(AL4-AJ20)","v":0},{"$f":"IF(AK19=0,0,(AK19*((LOG(AK19))/LOG(2))))","v":0},null,{"$f":"N19","v":2211},{"$f":"COUNTIF(L82:L100,AN19)","v":0},{"$f":"AO19/(AQ4-AO20)","v":0},{"$f":"IF(AP19=0,0,(AP19*((LOG(AP19))/LOG(2))))","v":0},null,{"$f":"N19","v":2211},{"$f":"COUNTIF(L101:L119,AS19)","v":0},{"$f":"AT19/(AV4-AT20)","v":0},{"$f":"IF(AU19=0,0,(AU19*((LOG(AU19))/LOG(2))))","v":0}]
[21,1976,21,1981,22,1987,23,1992,null,null,0,2222,null,2212,{"$f":"COUNTIF($L$7:$L$500,N20)","v":0},{"$f":"O20/$Q$4","v":0},{"$f":"IF(P20=0,0,(P20*((LOG(P20))/LOG(2))))","v":0},null,null,{"$f":"N20","v":2212},{"$f":"COUNTIF(L7:L25,T20)","v":0},null,null,null,{"$f":"N20","v":2212},{"$f":"COUNTIF(L26:L44,Y20)","v":0},null,null,null,{"$f":"N20","v":2212},{"$f":"COUNTIF(L45:L62,AD20)","v":0},null,null,null,{"$f":"N20","v":2212},{"$f":"COUNTIF(L63:L81,AI20)","v":0},null,null,null,{"$f":"N20","v":2212},{"$f":"COUNTIF(L82:L100,AN20)","v":0},null,null,null,{"$f":"N20","v":2212},{"$f":"COUNTIF(L101:L119,AS20)","v":0}]
[12,2108,14,2114,13,2123,14,2130,null,null,0,1111,null,2221,{"$f":"COUNTIF($L$7:$L$500,N21)","v":1},{"$f":"O21/$Q$4","v":8.8495575221238937E-3},{"$f":"IF(P21=0,0,(P21*((LOG(P21))/LOG(2))))","v":-6.0355566039072467E-2},null,null,{"$f":"N21","v":2221},{"$f":"COUNTIF(L7:L25,T21)","v":0},{"$f":"U21/(W4-U20)","v":0},{"$f":"IF(V21=0,0,(V21*((LOG(V21))/LOG(2))))","v":0},null,{"$f":"N21","v":2221},{"$f":"COUNTIF(L26:L44,Y21)","v":0},{"$f":"Z21/(AB4-Z20)","v":0},{"$f":"IF(AA21=0,0,(AA21*((LOG(AA21))/LOG(2))))","v":0},null,{"$f":"N21","v":2221},{"$f":"COUNTIF(L45:L62,AD21)","v":1},{"$f":"AE21/(AG4-AE20)","v":5.5555555555555552E-2},{"$f":"IF(AF21=0,0,(AF21*((LOG(AF21))/LOG(2))))","v":-0.23166250008012845},null,{"$f":"N21","v":2221},{"$f":"COUNTIF(L63:L81,AI21)","v":0},{"$f":"AJ21/(AL4-AJ20)","v":0},{"$f":"IF(AK21=0,0,(AK21*((LOG(AK21))/LOG(2))))","v":0},null,{"$f":"N21","v":2221},{"$f":"COUNTIF(L82:L100,AN21)","v":0},{"$f":"AO21/(AQ4-AO20)","v":0},{"$f":"IF(AP21=0,0,(AP21*((LOG(AP21))/LOG(2))))","v":0},null,{"$f":"N21","v":2221},{"$f":"COUNTIF(L101:L119,AS21)","v":0},{"$f":"AT21/(AV4-AT20)","v":0},{"$f":"IF(AU21=0,0,(AU21*((LOG(AU21))/LOG(2))))","v":0}]
[21,2436,21,2445,22,2452,23,2473,null,null,0,2222,null,2222,{"$f":"COUNTIF($L$7:$L$500,N22)","v":52},{"$f":"O22/$Q$4","v":0.46017699115044247},{"$f":"IF(P22=0,0,(P22*((LOG(P22))/LOG(2))))","v":-0.51527823630312353},null,null,{"$f":"N22","v":2222},{"$f":"COUNTIF(L7:L25,T22)","v":8},{"$f":"U22/(W4-U20)","v":0.42105263157894735},{"$f":"IF(V22=0,0,(V22*((LOG(V22))/LOG(2))))","v":-0.52544316355519383},null,{"$f":"N22","v":2222},{"$f":"COUNTIF(L26:L44,Y22)","v":4},{"$f":"Z22/(AB4-Z20)","v":0.21052631578947367},{"$f":"IF(AA22=0,0,(AA22*((LOG(AA22))/LOG(2))))","v":-0.47324789756707064},null,{"$f":"N22","v":2222},{"$f":"COUNTIF(L45:L62,AD22)","v":8},{"$f":"AE22/(AG4-AE20)","v":0.44444444444444442},{"$f":"IF(AF22=0,0,(AF22*((LOG(AF22))/LOG(2))))","v":-0.51996666730769447},null,{"$f":"N22","v":2222},{"$f":"COUNTIF(L63:L81,AI22)","v":8},{"$f":"AJ22/(AL4-AJ20)","v":0.42105263157894735},{"$f":"IF(AK22=0,0,(AK22*((LOG(AK22))/LOG(2))))","v":-0.52544316355519383},null,{"$f":"N22","v":2222},{"$f":"COUNTIF(L82:L100,AN22)","v":13},{"$f":"AO22/(AQ4-AO20)","v":0.68421052631578949},{"$f":"IF(AP22=0,0,(AP22*((LOG(AP22))/LOG(2))))","v":-0.37459691257539013},null,{"$f":"N22","v":2222},{"$f":"COUNTIF(L101:L119,AS22)","v":11},{"$f":"AT22/(AV4-AT20)","v":0.57894736842105265},{"$f":"IF(AU22=0,0,(AU22*((LOG(AU22))/LOG(2))))","v":-0.45649762330890375}]
[12,2860,14,2865,13,2870,14,2875,null,null,0,1111,null,null,null,{"$f":"SUM(P7:P22)","v":1},{"$f":"-SUM(Q7:Q22)","v":1.3189865643748102},null,null,null,null,{"$f":"SUM(V7:V22)","v":1},{"$f":"-SUM(W7:W22)","v":1.4832261969709111},null,null,null,{"$f":"SUM(AA7:AA22)","v":1},{"$f":"-SUM(AB7:AB22)","v":0.74248756954212347},null,null,null,{"$f":"SUM(AF7:AF22)","v":1},{"$f":"-SUM(AG7:AG22)","v":1.5032583347756459},null,null,null,{"$f":"SUM(AK7:AK22)","v":1},{"$f":"-SUM(AL7:AL22)","v":0.98194078686409758},null,null,null,{"$f":"SUM(AP7:AP22)","v":1},{"$f":"-SUM(AQ7:AQ22)","v":1.1050139971135322},null,null,null,{"$f":"SUM(AU7:AU22)","v":1},{"$f":"-SUM(AV7:AV22)","v":0.98194078686409758}]
[12,2995,14,2999,13,3004,14,3009,null,null,0,1111,null,null,null,"U=",{"$f":"Q23/(LOG(Q4)/LOG(2))","v":0.1933947146612302},null,null,null,null,"U1=",{"$f":"W23/(LOG(W4)/LOG(2))","v":0.34916466730585355},null,null,null,"U2=",{"$f":"AB23/(LOG(AB4)/LOG(2))","v":0.17478819193414755},null,null,null,"U3=",{"$f":"AG23/(LOG(AG4)/LOG(2))","v":0.36050008915164955},null,null,null,"U4=",{"$f":"AL23/(LOG(AL4)/LOG(2))","v":0.23115761362605894},null,null,null,"U5=",{"$f":"AQ23/(LOG(AQ4)/LOG(2))","v":0.26013014431542214},null,null,null,"U6=",{"$f":"AV23/(LOG(AV4)/LOG(2))","v":0.23115761362605894}]
[21,3159,21,3165,22,3171,23,3178,null,null,0,2222]
[12,3566,14,3571,13,3577,14,3585,null,null,0,1111]
[12,3771,14,3779,13,3784,14,3788,null,null,0,1111,null,"Total Target Seq"]
[12,3963,14,3968,13,3972,14,3979,null,null,0,1111,null,{"$f":"COUNTIF(L7:L119,G3)","v":0},null,19,19,18,19,19,19]
[21,4248,21,4253,22,4259,23,4278,null,null,0,2222,null,null,null,"% of reinforcement given in 6 equal intervals based on number of trials "]
[12,4402,14,4407,13,4411,14,4416,null,null,0,1111,null,null,null,"%_1","%_2","%_3","%_4","%_5","%_6"]
[12,4739,14,4744,13,4751,14,4761,null,null,0,1111,null,null,"target sequence",{"$f":"$G$3","v":2212},{"$f":"$G$3","v":2212},{"$f":"$G$3","v":2212},{"$f":"$G$3","v":2212},{"$f":"$G$3","v":2212},{"$f":"$G$3","v":2212}]
[12,4875,14,4879,13,4883,14,4892,null,null,0,1111,null,null,"total reinforcement",{"$f":"U20","v":0},{"$f":"Z20","v":0},{"$f":"AE20","v":0},{"$f":"AJ20","v":0},{"$f":"AO20","v":0},{"$f":"AT20","v":0}]
[21,5009,21,5016,22,5022,23,5030,null,null,0,2222,null,null,"% target"]
[12,5439,14,5445,13,5449,14,5457,null,null,0,1111,null,null,"CCRF"]
[12,5699,14,5704,13,5709,14,5715,null,null,0,1111,null,null,"% CCRf"]
[12,6244,14,6248,13,6254,14,6260,null,null,0,1111,null,null,"average response rate",{"$f":"H25/P28","v":167.26315789473685},{"$f":"(H44-H25)/Q28","v":229.73684210526315},{"$f":"(H62-H44)/R28","v":217.55555555555554},{"$f":"(H81-H62)/S28","v":302.68421052631578},{"$f":"(H100-H81)/T28","v":148.52631578947367},{"$f":"(H119-H100)/U28","v":204.36842105263159}]
[21,6377,21,6382,22,6394,23,6421,null,null,0,2222]
[12,6568,14,6575,13,6582,14,6590,null,null,0,1111]
[12,6796,14,6801,13,6807,14,6814,null,null,0,1111]
[12,6963,14,6968,13,6972,14,6977,null,null,0,1111]
[12,7095,14,7099,13,7104,14,7108,null,null,0,1111]
[12,7231,14,7235,13,7239,14,7244,null,null,0,1111]
[12,7372,14,7378,13,7382,14,7388,null,null,0,1111]
[21,7511,21,7516,22,7521,23,7543,null,null,0,2222]
[12,7665,14,7670,13,7674,14,7680,null,null,0,1111]
[21,7789,21,7794,22,7799,23,7805,null,null,0,2222]
[12,7916,14,7921,13,7925,14,7929,null,null,0,1111]
[12,8050,14,8056,13,8060,14,8065,null,null,0,1111]
[21,8210,21,8216,22,8222,14,8237,null,null,0,2221]
[12,8485,14,8491,13,8496,14,8501,null,null,0,1111]
[21,8627,21,8669,22,8713,23,8741,null,null,0,2222]
[12,8885,14,8890,13,8894,14,8901,null,null,0,1111]
[12,9222,14,9226,13,9232,14,9237,null,null,0,1111]
[21,9383,21,9389,22,9402,23,9419,null,null,0,2222]
[21,9717,21,9722,22,9733,23,9742,null,null,0,2222]
[21,9901,21,9906,22,9911,23,9917,null,null,0,2222]
[21,10367,21,10378,22,10393,23,10399,null,null,0,2222]
[12,10500,23,10517,24,10528,23,10546,null,null,0,1222]
[21,10658,21,10665,22,10674,23,10680,null,null,0,2222]
[12,10828,14,10832,13,10839,14,10845,null,null,0,1111]
[21,11014,21,11021,22,11026,23,11032,null,null,0,2222]
[12,11446,14,11451,13,11455,14,11459,null,null,0,1111]
[12,11941,14,11945,13,11949,14,11954,null,null,0,1111]
[21,12059,21,12069,22,12075,23,12080,null,null,0,2222]
[12,12341,14,12354,13,12360,14,12367,null,null,0,1111]
[12,12796,14,12802,13,12806,14,12811,null,null,0,1111]
[12,12963,14,12968,13,12976,14,12981,null,null,0,1111]
[21,13140,21,13144,22,13153,23,13158,null,null,0,2222]
[21,13469,21,13473,22,13479,23,13486,null,null,0,2222]
[12,13734,14,13739,13,13743,14,13747,null,null,0,1111]
[21,13902,21,13907,22,13912,23,13938,null,null,0,2222]
[21,14048,21,14053,22,14057,23,14062,null,null,0,2222]
[21,14986,21,14991,22,14996,23,15002,null,null,0,2222]
[12,15398,14,15403,13,15407,14,15414,null,null,0,1111]
[12,15862,14,15867,13,15872,14,15878,null,null,0,1111]
[21,16037,21,16042,22,16048,23,16062,null,null,0,2222]
[12,16451,14,16456,13,16460,14,16464,null,null,0,1111]
[12,16572,14,16577,13,16582,14,16590,null,null,0,1111]
[12,16699,14,16710,13,16715,14,16722,null,null,0,1111]
[12,17000,14,17005,13,17009,14,17014,null,null,0,1111]
[21,17142,21,17155,22,17170,23,17210,null,null,0,2222]
[21,17503,12,17538,13,17543,14,17547,null,null,0,2111]
[12,17656,14,17661,13,17669,14,17679,null,null,0,1111]
[21,17794,21,17801,22,17823,23,17851,null,null,0,2222]
[21,17954,21,17972,22,17979,23,18000,null,null,0,2222]
[21,18101,21,18107,22,18120,23,18138,null,null,0,2222]
[12,18244,14,18245,13,18251,14,18256,null,null,0,1111]
[12,18364,14,18368,13,18374,14,18382,null,null,0,1111]
[12,18490,14,18496,13,18502,14,18512,null,null,0,1111]
[21,18623,21,18628,22,18648,23,18657,null,null,0,2222]
[21,18767,21,18772,22,18778,23,18785,null,null,0,2222]
[21,18922,21,18926,22,18930,23,18956,null,null,0,2222]
[21,19062,21,19067,22,19072,23,19078,null,null,0,2222]
[21,19195,21,19200,22,19205,23,19262,null,null,0,2222]
[21,19371,21,19376,22,19385,23,19394,null,null,0,2222]
[21,19506,21,19511,22,19516,23,19530,null,null,0,2222]
[12,19633,14,19637,13,19643,14,19649,null,null,0,1111]
[21,19755,21,19756,22,19765,23,19771,null,null,0,2222]
[21,19878,21,19883,22,19891,23,19898,null,null,0,2222]
[21,20015,21,20019,22,20024,23,20032,null,null,0,2222]
[12,20165,14,20180,13,20188,14,20197,null,null,0,1111]
[21,20306,21,20311,22,20316,23,20322,null,null,0,2222]
[21,20517,21,20524,22,20548,23,20601,null,null,0,2222]
[21,20698,21,20704,22,20710,23,20717,null,null,0,2222]
[21,20826,21,20831,22,20837,23,20847,null,null,0,2222]
[21,21102,21,21108,22,21123,23,21138,null,null,0,2222]
[12,21235,14,21241,13,21246,14,21252,null,null,0,1111]
[21,21363,21,21368,22,21374,23,21425,null,null,0,2222]
[12,21542,14,21550,13,21556,14,21564,null,null,0,1111]
[12,22000,14,22006,13,22010,14,22017,null,null,0,1111]
[21,22125,21,22130,22,22134,23,22142,null,null,0,2222]
[12,22253,14,22259,13,22264,14,22268,null,null,0,1111]
[21,22377,21,22381,22,22386,23,22395,null,null,0,2222]
[21,22828,21,22833,22,22861,23,22869,null,null,0,2222]
[12,22974,14,22979,13,22984,14,22989,null,null,0,1111]
[12,23228,14,23232,13,23236,14,23241,null,null,0,1111]
[21,23348,21,23354,22,23360,23,23368,null,null,0,2222]
[21,23748,21,23755,22,23763,23,23780,null,null,0,2222]
[12,23896,14,23901,13,23909,14,23915,null,null,null,1111]

{"sheet":"!MB10800.091","index":5,"n_rows":160,"n_cols":48,"rows_kept":160,"cut":false,"hidden":false,"merged":[[4,39,4,42],[5,39,5,40],[4,44,4,47],[5,44,5,45],[4,24,4,27],[5,24,5,25],[4,29,4,32],[5,29,5,30],[4,34,4,37],[5,34,5,35],[1,1,1,2],[5,13,5,14],[26,13,26,14],[27,13,27,14],[4,19,4,22],[5,19,5,20]]}
["Report for:!MB10800.091"]
["Date:","<date>"]
["Hen:","<hen>",null,null,null,"Correct Sequence",{"$f":"Start!J2","v":2212},null,null,null,null,null,null,null,null,"Total Sequences in Data",{"$f":"4994-COUNTBLANK(L7:L5000)","v":154},null,null,null,null,"Total Sequences in Block Data",{"$f":"COUNTA(L7:L32)","v":26},null,null,null,"Total Sequences in Block Data",{"$f":"COUNTA(L33:L57)","v":25},null,null,null,"Total Sequences in Block Data",{"$f":"COUNTA(L58:L83)","v":26},null,null,null,"Total Sequences in Block Data",{"$f":"COUNTA(L84:L109)","v":26},null,null,null,"Total Sequences in Block Data",{"$f":"COUNTA(L110:L134)","v":25},null,null,null,"Total Sequences in Block Data",{"$f":"COUNTA(L135:L160)","v":26}]
[null,null,null,null,null,null,null,null,null,null,null,null,null,null,null,"Total Sequences in Summary",{"$f":"SUM(O7:O22)","v":154},null,null,null,null,"Total Sequences in Block Summary",{"$f":"SUM(U7:U22)","v":26},null,null,null,"Total Sequences in Block Summary",{"$f":"SUM(Z7:Z22)","v":25},null,null,null,"Total Sequences in Block Summary",{"$f":"SUM(AE7:AE22)","v":26},null,null,null,"Total Sequences in Block Summary",{"$f":"SUM(AJ7:AJ22)","v":26},null,null,null,"Total Sequences in Block Summary",{"$f":"SUM(AO7:AO22)","v":25},null,null,null,"Total Sequences in Block Summary",{"$f":"SUM(AT7:AT22)","v":26}]
[null,null,null,null,null,null,null,null,null,null,null,null,null,null,null,null,null,null,null,"Block 1",null,null,null,null,"Block 2",null,null,null,null,"Block 3",null,null,null,null,"Block 4",null,null,null,null,"Block 5",null,null,null,null,"Block 6"]
["Sequence\nComponent\n1","Time\n1","Sequence\nComponent\n2","Time\n2","Sequence\nComponent\n3","Time\n3","Sequence\nComponent\n4","Time\n4","Sequence\nComponent\n5","Time\n5","Correct?\n0=No 1=Yes","Sequence",null,"Frequency",null,"Relative Frequency","Variability",null,null,"Frequency",null,"Relative Frequency","Variability",null,"Frequency",null,"Relative Frequency","Variability",null,"Frequency",null,"Relative Frequency","Variability",null,"Frequency",null,"Relative Frequency","Variability",null,"Frequency",null,"Relative Frequency","Variability",null,"Frequency",null,"Relative Frequency","Variability"]
[12,23,14,29,13,34,14,42,null,null,0,1111,null,1111,{"$f":"COUNTIF($L$7:$L$500,N7)","v":106},{"$f":"O7/$Q$4","v":0.68831168831168832},{"$f":"IF(P7=0,0,(P7*((LOG(P7))/LOG(2))))","v":-0.37090782551922358},null,null,{"$f":"N7","v":1111},{"$f":"COUNTIF(L7:L32,T7)","v":19},{"$f":"U7/(W4-U20)","v":0.73076923076923073},{"$f":"IF(V7=0,0,(V7*((LOG(V7))/LOG(2))))","v":-0.33068199574048568},null,{"$f":"N7","v":1111},{"$f":"COUNTIF(L33:L57,Y7)","v":13},{"$f":"Z7/(AB4-Z20)","v":0.52},{"$f":"IF(AA7=0,0,(AA7*((LOG(AA7))/LOG(2))))","v":-0.49057656524948895},null,{"$f":"N7","v":1111},{"$f":"COUNTIF(L58:L83,AD7)","v":17},{"$f":"AE7/(AG4-AE20)","v":0.65384615384615385},{"$f":"IF(AF7=0,0,(AF7*((LOG(AF7))/LOG(2))))","v":-0.40079257335164603},null,{"$f":"N7","v":1111},{"$f":"COUNTIF(L84:L109,AI7)","v":15},{"$f":"AJ7/(AL4-AJ20)","v":0.57692307692307687},{"$f":"IF(AK7=0,0,(AK7*((LOG(AK7))/LOG(2))))","v":-0.45781680146110021},null,{"$f":"N7","v":1111},{"$f":"COUNTIF(L110:L134,AN7)","v":20},{"$f":"AO7/(AQ4-AO20)","v":0.8},{"$f":"IF(AP7=0,0,(AP7*((LOG(AP7))/LOG(2))))","v":-0.25754247590988982},null,{"$f":"N7","v":1111},{"$f":"COUNTIF(L135:L160,AS7)","v":22},{"$f":"AT7/(AV4-AT20)","v":0.84615384615384615},{"$f":"IF(AU7=0,0,(AU7*((LOG(AU7))/LOG(2))))","v":-0.20392993034936494}]
[12,135,14,140,13,144,14,149,null,null,0,1111,null,1112,{"$f":"COUNTIF($L$7:$L$500,N8)","v":0},{"$f":"O8/$Q$4","v":0},{"$f":"IF(P8=0,0,(P8*((LOG(P8))/LOG(2))))","v":0},null,null,{"$f":"N8","v":1112},{"$f":"COUNTIF(L7:L32,T8)","v":0},{"$f":"U8/(W4-U20)","v":0},{"$f":"IF(V8=0,0,(V8*((LOG(V8))/LOG(2))))","v":0},null,{"$f":"N8","v":1112},{"$f":"COUNTIF(L33:L57,Y8)","v":0},{"$f":"Z8/(AB4-Z20)","v":0},{"$f":"IF(AA8=0,0,(AA8*((LOG(AA8))/LOG(2))))","v":0},null,{"$f":"N8","v":1112},{"$f":"COUNTIF(L58:L83,AD8)","v":0},{"$f":"AE8/(AG4-AE20)","v":0},{"$f":"IF(AF8=0,0,(AF8*((LOG(AF8))/LOG(2))))","v":0},null,{"$f":"N8","v":1112},{"$f":"COUNTIF(L84:L109,AI8)","v":0},{"$f":"AJ8/(AL4-AJ20)","v":0},{"$f":"IF(AK8=0,0,(AK8*((LOG(AK8))/LOG(2))))","v":0},null,{"$f":"N8","v":1112},{"$f":"COUNTIF(L110:L134,AN8)","v":0},{"$f":"AO8/(AQ4-AO20)","v":0},{"$f":"IF(AP8=0,0,(AP8*((LOG(AP8))/LOG(2))))","v":0},null,{"$f":"N8","v":1112},{"$f":"COUNTIF(L135:L160,AS8)","v":0},{"$f":"AT8/(AV4-AT20)","v":0},{"$f":"IF(AU8=0,0,(AU8*((LOG(AU8))/LOG(2))))","v":0}]
[12,248,14,253,13,260,14,268,null,null,0,1111,null,1121,{"$f":"COUNTIF($L$7:$L$500,N9)","v":0},{"$f":"O9/$Q$4","v":0},{"$f":"IF(P9=0,0,(P9*((LOG(P9))/LOG(2))))","v":0},null,null,{"$f":"N9","v":1121},{"$f":"COUNTIF(L7:L32,T9)","v":0},{"$f":"U9/(W4-U20)","v":0},{"$f":"IF(V9=0,0,(V9*((LOG(V9))/LOG(2))))","v":0},null,{"$f":"N9","v":1121},{"$f":"COUNTIF(L33:L57,Y9)","v":0},{"$f":"Z9/(AB4-Z20)","v":0},{"$f":"IF(AA9=0,0,(AA9*((LOG(AA9))/LOG(2))))","v":0},null,{"$f":"N9","v":1121},{"$f":"COUNTIF(L58:L83,AD9)","v":0},{"$f":"AE9/(AG4-AE20)","v":0},{"$f":"IF(AF9=0,0,(AF9*((LOG(AF9))/LOG(2))))","v":0},null,{"$f":"N9","v":1121},{"$f":"COUNTIF(L84:L109,AI9)","v":0},{"$f":"AJ9/(AL4-AJ20)","v":0},{"$f":"IF(AK9=0,0,(AK9*((LOG(AK9))/LOG(2))))","v":0},null,{"$f":"N9","v":1121},{"$f":"COUNTIF(L110:L134,AN9)","v":0},{"$f":"AO9/(AQ4-AO20)","v":0},{"$f":"IF(AP9=0,0,(AP9*((LOG(AP9))/LOG(2))))","v":0},null,{"$f":"N9","v":1121},{"$f":"COUNTIF(L135:L160,AS9)","v":0},{"$f":"AT9/(AV4-AT20)","v":0},{"$f":"IF(AU9=0,0,(AU9*((LOG(AU9))/LOG(2))))","v":0}]
[12,376,14,380,13,386,14,391,null,null,0,1111,null,1122,{"$f":"COUNTIF($L$7:$L$500,N10)","v":0},{"$f":"O10/$Q$4","v":0},{"$f":"IF(P10=0,0,(P10*((LOG(P10))/LOG(2))))","v":0},null,null,{"$f":"N10","v":1122},{"$f":"COUNTIF(L7:L32,T10)","v":0},{"$f":"U10/(W4-U20)","v":0},{"$f":"IF(V10=0,0,(V10*((LOG(V10))/LOG(2))))","v":0},null,{"$f":"N10","v":1122},{"$f":"COUNTIF(L33:L57,Y10)","v":0},{"$f":"Z10/(AB4-Z20)","v":0},{"$f":"IF(AA10=0,0,(AA10*((LOG(AA10))/LOG(2))))","v":0},null,{"$f":"N10","v":1122},{"$f":"COUNTIF(L58:L83,AD10)","v":0},{"$f":"AE10/(AG4-AE20)","v":0},{"$f":"IF(AF10=0,0,(AF10*((LOG(AF10))/LOG(2))))","v":0},null,{"$f":"N10","v":1122},{"$f":"COUNTIF(L84:L109,AI10)","v":0},{"$f":"AJ10/(AL4-AJ20)","v":0},{"$f":"IF(AK10=0,0,(AK10*((LOG(AK10))/LOG(2))))","v":0},null,{"$f":"N10","v":1122},{"$f":"COUNTIF(L110:L134,AN10)","v":0},{"$f":"AO10/(AQ4-AO20)","v":0},{"$f":"IF(AP10=0,0,(AP10*((LOG(AP10))/LOG(2))))","v":0},null,{"$f":"N10","v":1122},{"$f":"COUNTIF(L135:L160,AS10)","v":0},{"$f":"AT10/(AV4-AT20)","v":0},{"$f":"IF(AU10=0,0,(AU10*((LOG(AU10))/LOG(2))))","v":0}]
[21,497,21,506,22,512,23,520,null,null,0,2222,null,1211,{"$f":"COUNTIF($L$7:$L$500,N11)","v":0},{"$f":"O11/$Q$4","v":0},{"$f":"IF(P11=0,0,(P11*((LOG(P11))/LOG(2))))","v":0},null,null,{"$f":"N11","v":1211},{"$f":"COUNTIF(L7:L32,T11)","v":0},{"$f":"U11/(W4-U20)","v":0},{"$f":"IF(V11=0,0,(V11*((LOG(V11))/LOG(2))))","v":0},null,{"$f":"N11","v":1211},{"$f":"COUNTIF(L33:L57,Y11)","v":0},{"$f":"Z11/(AB4-Z20)","v":0},{"$f":"IF(AA11=0,0,(AA11*((LOG(AA11))/LOG(2))))","v":0},null,{"$f":"N11","v":1211},{"$f":"COUNTIF(L58:L83,AD11)","v":0},{"$f":"AE11/(AG4-AE20)","v":0},{"$f":"IF(AF11=0,0,(AF11*((LOG(AF11))/LOG(2))))","v":0},null,{"$f":"N11","v":1211},{"$f":"COUNTIF(L84:L109,AI11)","v":0},{"$f":"AJ11/(AL4-AJ20)","v":0},{"$f":"IF(AK11=0,0,(AK11*((LOG(AK11))/LOG(2))))","v":0},null,{"$f":"N11","v":1211},{"$f":"COUNTIF(L110:L134,AN11)","v":0},{"$f":"AO11/(AQ4-AO20)","v":0},{"$f":"IF(AP11=0,0,(AP11*((LOG(AP11))/LOG(2))))","v":0},null,{"$f":"N11","v":1211},{"$f":"COUNTIF(L135:L160,AS11)","v":0},{"$f":"AT11/(AV4-AT20)","v":0},{"$f":"IF(AU11=0,0,(AU11*((LOG(AU11))/LOG(2))))","v":0}]
[21,620,21,629,22,635,23,649,null,null,0,2222,null,1212,{"$f":"COUNTIF($L$7:$L$500,N12)","v":0},{"$f":"O12/$Q$4","v":0},{"$f":"IF(P12=0,0,(P12*((LOG(P12))/LOG(2))))","v":0},null,null,{"$f":"N12","v":1212},{"$f":"COUNTIF(L7:L32,T12)","v":0},{"$f":"U12/(W4-U20)","v":0},{"$f":"IF(V12=0,0,(V12*((LOG(V12))/LOG(2))))","v":0},null,{"$f":"N12","v":1212},{"$f":"COUNTIF(L33:L57,Y12)","v":0},{"$f":"Z12/(AB4-Z20)","v":0},{"$f":"IF(AA12=0,0,(AA12*((LOG(AA12))/LOG(2))))","v":0},null,{"$f":"N12","v":1212},{"$f":"COUNTIF(L58:L83,AD12)","v":0},{"$f":"AE12/(AG4-AE20)","v":0},{"$f":"IF(AF12=0,0,(AF12*((LOG(AF12))/LOG(2))))","v":0},null,{"$f":"N12","v":1212},{"$f":"COUNTIF(L84:L109,AI12)","v":0},{"$f":"AJ12/(AL4-AJ20)","v":0},{"$f":"IF(AK12=0,0,(AK12*((LOG(AK12))/LOG(2))))","v":0},null,{"$f":"N12","v":1212},{"$f":"COUNTIF(L110:L134,AN12)","v":0},{"$f":"AO12/(AQ4-AO20)","v":0},{"$f":"IF(AP12=0,0,(AP12*((LOG(AP12))/LOG(2))))","v":0},null,{"$f":"N12","v":1212},{"$f":"COUNTIF(L135:L160,AS12)","v":0},{"$f":"AT12/(AV4-AT20)","v":0},{"$f":"IF(AU12=0,0,(AU12*((LOG(AU12))/LOG(2))))","v":0}]
[21,759,21,765,22,786,23,795,null,null,0,2222,null,1221,{"$f":"COUNTIF($L$7:$L$500,N13)","v":0},{"$f":"O13/$Q$4","v":0},{"$f":"IF(P13=0,0,(P13*((LOG(P13))/LOG(2))))","v":0},null,null,{"$f":"N13","v":1221},{"$f":"COUNTIF(L7:L32,T13)","v":0},{"$f":"U13/(W4-U20)","v":0},{"$f":"IF(V13=0,0,(V13*((LOG(V13))/LOG(2))))","v":0},null,{"$f":"N13","v":1221},{"$f":"COUNTIF(L33:L57,Y13)","v":0},{"$f":"Z13/(AB4-Z20)","v":0},{"$f":"IF(AA13=0,0,(AA13*((LOG(AA13))/LOG(2))))","v":0},null,{"$f":"N13","v":1221},{"$f":"COUNTIF(L58:L83,AD13)","v":0},{"$f":"AE13/(AG4-AE20)","v":0},{"$f":"IF(AF13=0,0,(AF13*((LOG(AF13))/LOG(2))))","v":0},null,{"$f":"N13","v":1221},{"$f":"COUNTIF(L84:L109,AI13)","v":0},{"$f":"AJ13/(AL4-AJ20)","v":0},{"$f":"IF(AK13=0,0,(AK13*((LOG(AK13))/LOG(2))))","v":0},null,{"$f":"N13","v":1221},{"$f":"COUNTIF(L110:L134,AN13)","v":0},{"$f":"AO13/(AQ4-AO20)","v":0},{"$f":"IF(AP13=0,0,(AP13*((LOG(AP13))/LOG(2))))","v":0},null,{"$f":"N13","v":1221},{"$f":"COUNTIF(L135:L160,AS13)","v":0},{"$f":"AT13/(AV4-AT20)","v":0},{"$f":"IF(AU13=0,0,(AU13*((LOG(AU13))/LOG(2))))","v":0}]
[12,897,14,902,13,911,14,919,null,null,0,1111,null,1222,{"$f":"COUNTIF($L$7:$L$500,N14)","v":3},{"$f":"O14/$Q$4","v":1.948051948051948E-2},{"$f":"IF(P14=0,0,(P14*((LOG(P14))/LOG(2))))","v":-0.11068488389559245},null,null,{"$f":"N14","v":1222},{"$f":"COUNTIF(L7:L32,T14)","v":0},{"$f":"U14/(W4-U20)","v":0},{"$f":"IF(V14=0,0,(V14*((LOG(V14))/LOG(2))))","v":0},null,{"$f":"N14","v":1222},{"$f":"COUNTIF(L33:L57,Y14)","v":1},{"$f":"Z14/(AB4-Z20)","v":0.04},{"$f":"IF(AA14=0,0,(AA14*((LOG(AA14))/LOG(2))))","v":-0.18575424759098899},null,{"$f":"N14","v":1222},{"$f":"COUNTIF(L58:L83,AD14)","v":0},{"$f":"AE14/(AG4-AE20)","v":0},{"$f":"IF(AF14=0,0,(AF14*((LOG(AF14))/LOG(2))))","v":0},null,{"$f":"N14","v":1222},{"$f":"COUNTIF(L84:L109,AI14)","v":1},{"$f":"AJ14/(AL4-AJ20)","v":3.8461538461538464E-2},{"$f":"IF(AK14=0,0,(AK14*((LOG(AK14))/LOG(2))))","v":-0.18078614300542661},null,{"$f":"N14","v":1222},{"$f":"COUNTIF(L110:L134,AN14)","v":0},{"$f":"AO14/(AQ4-AO20)","v":0},{"$f":"IF(AP14=0,0,(AP14*((LOG(AP14))/LOG(2))))","v":0},null,{"$f":"N14","v":1222},{"$f":"COUNTIF(L135:L160,AS14)","v":1},{"$f":"AT14/(AV4-AT20)","v":3.8461538461538464E-2},{"$f":"IF(AU14=0,0,(AU14*((LOG(AU14))/LOG(2))))","v":-0.18078614300542661}]
[12,1097,14,1108,13,1116,14,1123,null,null,0,1111,null,2111,{"$f":"COUNTIF($L$7:$L$500,N15)","v":1},{"$f":"O15/$Q$4","v":6.4935064935064939E-3},{"$f":"IF(P15=0,0,(P15*((LOG(P15))/LOG(2))))","v":-4.7186925588927932E-2},null,null,{"$f":"N15","v":2111},{"$f":"COUNTIF(L7:L32,T15)","v":0},{"$f":"U15/(W4-U20)","v":0},{"$f":"IF(V15=0,0,(V15*((LOG(V15))/LOG(2))))","v":0},null,{"$f":"N15","v":2111},{"$f":"COUNTIF(L33:L57,Y15)","v":0},{"$f":"Z15/(AB4-Z20)","v":0},{"$f":"IF(AA15=0,0,(AA15*((LOG(AA15))/LOG(2))))","v":0},null,{"$f":"N15","v":2111},{"$f":"COUNTIF(L58:L83,AD15)","v":0},{"$f":"AE15/(AG4-AE20)","v":0},{"$f":"IF(AF15=0,0,(AF15*((LOG(AF15))/LOG(2))))","v":0},null,{"$f":"N15","v":2111},{"$f":"COUNTIF(L84:L109,AI15)","v":1},{"$f":"AJ15/(AL4-AJ20)","v":3.8461538461538464E-2},{"$f":"IF(AK15=0,0,(AK15*((LOG(AK15))/LOG(2))))","v":-0.18078614300542661},null,{"$f":"N15","v":2111},{"$f":"COUNTIF(L110:L134,AN15)","v":0},{"$f":"AO15/(AQ4-AO20)","v":0},{"$f":"IF(AP15=0,0,(AP15*((LOG(AP15))/LOG(2))))","v":0},null,{"$f":"N15","v":2111},{"$f":"COUNTIF(L135:L160,AS15)","v":0},{"$f":"AT15/(AV4-AT20)","v":0},{"$f":"IF(AU15=0,0,(AU15*((LOG(AU15))/LOG(2))))","v":0}]
[12,1240,14,1246,13,1251,14,1256,null,null,0,1111,null,2112,{"$f":"COUNTIF($L$7:$L$500,N16)","v":0},{"$f":"O16/$Q$4","v":0},{"$f":"IF(P16=0,0,(P16*((LOG(P16))/LOG(2))))","v":0},null,null,{"$f":"N16","v":2112},{"$f":"COUNTIF(L7:L32,T16)","v":0},{"$f":"U16/(W4-U20)","v":0},{"$f":"IF(V16=0,0,(V16*((LOG(V16))/LOG(2))))","v":0},null,{"$f":"N16","v":2112},{"$f":"COUNTIF(L33:L57,Y16)","v":0},{"$f":"Z16/(AB4-Z20)","v":0},{"$f":"IF(AA16=0,0,(AA16*((LOG(AA16))/LOG(2))))","v":0},null,{"$f":"N16","v":2112},{"$f":"COUNTIF(L58:L83,AD16)","v":0},{"$f":"AE16/(AG4-AE20)","v":0},{"$f":"IF(AF16=0,0,(AF16*((LOG(AF16))/LOG(2))))","v":0},null,{"$f":"N16","v":2112},{"$f":"COUNTIF(L84:L109,AI16)","v":0},{"$f":"AJ16/(AL4-AJ20)","v":0},{"$f":"IF(AK16=0,0,(AK16*((LOG(AK16))/LOG(2))))","v":0},null,{"$f":"N16","v":2112},{"$f":"COUNTIF(L110:L134,AN16)","v":0},{"$f":"AO16/(AQ4-AO20)","v":0},{"$f":"IF(AP16=0,0,(AP16*((LOG(AP16))/LOG(2))))","v":0},null,{"$f":"N16","v":2112},{"$f":"COUNTIF(L135:L160,AS16)","v":0},{"$f":"AT16/(AV4-AT20)","v":0},{"$f":"IF(AU16=0,0,(AU16*((LOG(AU16))/LOG(2))))","v":0}]
[12,1352,14,1359,13,1363,14,1368,null,null,0,1111,null,2121,{"$f":"COUNTIF($L$7:$L$500,N17)","v":0},{"$f":"O17/$Q$4","v":0},{"$f":"IF(P17=0,0,(P17*((LOG(P17))/LOG(2))))","v":0},null,null,{"$f":"N17","v":2121},{"$f":"COUNTIF(L7:L32,T17)","v":0},{"$f":"U17/(W4-U20)","v":0},{"$f":"IF(V17=0,0,(V17*((LOG(V17))/LOG(2))))","v":0},null,{"$f":"N17","v":2121},{"$f":"COUNTIF(L33:L57,Y17)","v":0},{"$f":"Z17/(AB4-Z20)","v":0},{"$f":"IF(AA17=0,0,(AA17*((LOG(AA17))/LOG(2))))","v":0},null,{"$f":"N17","v":2121},{"$f":"COUNTIF(L58:L83,AD17)","v":0},{"$f":"AE17/(AG4-AE20)","v":0},{"$f":"IF(AF17=0,0,(AF17*((LOG(AF17))/LOG(2))))","v":0},null,{"$f":"N17","v":2121},{"$f":"COUNTIF(L84:L109,AI17)","v":0},{"$f":"AJ17/(AL4-AJ20)","v":0},{"$f":"IF(AK17=0,0,(AK17*((LOG(AK17))/LOG(2))))","v":0},null,{"$f":"N17","v":2121},{"$f":"COUNTIF(L110:L134,AN17)","v":0},{"$f":"AO17/(AQ4-AO20)","v":0},{"$f":"IF(AP17=0,0,(AP17*((LOG(AP17))/LOG(2))))","v":0},null,{"$f":"N17","v":2121},{"$f":"COUNTIF(L135:L160,AS17)","v":0},{"$f":"AT17/(AV4-AT20)","v":0},{"$f":"IF(AU17=0,0,(AU17*((LOG(AU17))/LOG(2))))","v":0}]
[21,1497,21,1503,22,1509,23,1522,null,null,0,2222,null,2122,{"$f":"COUNTIF($L$7:$L$500,N18)","v":0},{"$f":"O18/$Q$4","v":0},{"$f":"IF(P18=0,0,(P18*((LOG(P18))/LOG(2))))","v":0},null,null,{"$f":"N18","v":2122},{"$f":"COUNTIF(L7:L32,T18)","v":0},{"$f":"U18/(W4-U20)","v":0},{"$f":"IF(V18=0,0,(V18*((LOG(V18))/LOG(2))))","v":0},null,{"$f":"N18","v":2122},{"$f":"COUNTIF(L33:L57,Y18)","v":0},{"$f":"Z18/(AB4-Z20)","v":0},{"$f":"IF(AA18=0,0,(AA18*((LOG(AA18))/LOG(2))))","v":0},null,{"$f":"N18","v":2122},{"$f":"COUNTIF(L58:L83,AD18)","v":0},{"$f":"AE18/(AG4-AE20)","v":0},{"$f":"IF(AF18=0,0,(AF18*((LOG(AF18))/LOG(2))))","v":0},null,{"$f":"N18","v":2122},{"$f":"COUNTIF(L84:L109,AI18)","v":0},{"$f":"AJ18/(AL4-AJ20)","v":0},{"$f":"IF(AK18=0,0,(AK18*((LOG(AK18))/LOG(2))))","v":0},null,{"$f":"N18","v":2122},{"$f":"COUNTIF(L110:L134,AN18)","v":0},{"$f":"AO18/(AQ4-AO20)","v":0},{"$f":"IF(AP18=0,0,(AP18*((LOG(AP18))/LOG(2))))","v":0},null,{"$f":"N18","v":2122},{"$f":"COUNTIF(L135:L160,AS18)","v":0},{"$f":"AT18/(AV4-AT20)","v":0},{"$f":"IF(AU18=0,0,(AU18*((LOG(AU18))/LOG(2))))","v":0}]
[12,1694,14,1703,13,1716,14,1724,null,null,0,1111,null,2211,{"$f":"COUNTIF($L$7:$L$500,N19)","v":1},{"$f":"O19/$Q$4","v":6.4935064935064939E-3},{"$f":"IF(P19=0,0,(P19*((LOG(P19))/LOG(2))))","v":-4.7186925588927932E-2},null,null,{"$f":"N19","v":2211},{"$f":"COUNTIF(L7:L32,T19)","v":0},{"$f":"U19/(W4-U20)","v":0},{"$f":"IF(V19=0,0,(V19*((LOG(V19))/LOG(2))))","v":0},null,{"$f":"N19","v":2211},{"$f":"COUNTIF(L33:L57,Y19)","v":1},{"$f":"Z19/(AB4-Z20)","v":0.04},{"$f":"IF(AA19=0,0,(AA19*((LOG(AA19))/LOG(2))))","v":-0.18575424759098899},null,{"$f":"N19","v":2211},{"$f":"COUNTIF(L58:L83,AD19)","v":0},{"$f":"AE19/(AG4-AE20)","v":0},{"$f":"IF(AF19=0,0,(AF19*((LOG(AF19))/LOG(2))))","v":0},null,{"$f":"N19","v":2211},{"$f":"COUNTIF(L84:L109,AI19)","v":0},{"$f":"AJ19/(AL4-AJ20)","v":0},{"$f":"IF(AK19=0,0,(AK19*((LOG(AK19))/LOG(2))))","v":0},null,{"$f":"N19","v":2211},{"$f":"COUNTIF(L110:L134,AN19)","v":0},{"$f":"AO19/(AQ4-AO20)","v":0},{"$f":"IF(AP19=0,0,(AP19*((LOG(AP19))/LOG(2))))","v":0},null,{"$f":"N19","v":2211},{"$f":"COUNTIF(L135:L160,AS19)","v":0},{"$f":"AT19/(AV4-AT20)","v":0},{"$f":"IF(AU19=0,0,(AU19*((LOG(AU19))/LOG(2))))","v":0}]
[12,1836,14,1840,13,1845,14,1850,null,null,0,1111,null,2212,{"$f":"COUNTIF($L$7:$L$500,N20)","v":0},{"$f":"O20/$Q$4","v":0},{"$f":"IF(P20=0,0,(P20*((LOG(P20))/LOG(2))))","v":0},null,null,{"$f":"N20","v":2212},{"$f":"COUNTIF(L7:L32,T20)","v":0},null,null,null,{"$f":"N20","v":2212},{"$f":"COUNTIF(L33:L57,Y20)","v":0},null,null,null,{"$f":"N20","v":2212},{"$f":"COUNTIF(L58:L83,AD20)","v":0},null,null,null,{"$f":"N20","v":2212},{"$f":"COUNTIF(L84:L109,AI20)","v":0},null,null,null,{"$f":"N20","v":2212},{"$f":"COUNTIF(L110:L134,AN20)","v":0},null,null,null,{"$f":"N20","v":2212},{"$f":"COUNTIF(L135:L160,AS20)","v":0}]
[21,1971,21,1976,22,1981,23,1987,null,null,0,2222,null,2221,{"$f":"COUNTIF($L$7:$L$500,N21)","v":0},{"$f":"O21/$Q$4","v":0},{"$f":"IF(P21=0,0,(P21*((LOG(P21))/LOG(2))))","v":0},null,null,{"$f":"N21","v":2221},{"$f":"COUNTIF(L7:L32,T21)","v":0},{"$f":"U21/(W4-U20)","v":0},{"$f":"IF(V21=0,0,(V21*((LOG(V21))/LOG(2))))","v":0},null,{"$f":"N21","v":2221},{"$f":"COUNTIF(L33:L57,Y21)","v":0},{"$f":"Z21/(AB4-Z20)","v":0},{"$f":"IF(AA21=0,0,(AA21*((LOG(AA21))/LOG(2))))","v":0},null,{"$f":"N21","v":2221},{"$f":"COUNTIF(L58:L83,AD21)","v":0},{"$f":"AE21/(AG4-AE20)","v":0},{"$f":"IF(AF21=0,0,(AF21*((LOG(AF21))/LOG(2))))","v":0},null,{"$f":"N21","v":2221},{"$f":"COUNTIF(L84:L109,AI21)","v":0},{"$f":"AJ21/(AL4-AJ20)","v":0},{"$f":"IF(AK21=0,0,(AK21*((LOG(AK21))/LOG(2))))","v":0},null,{"$f":"N21","v":2221},{"$f":"COUNTIF(L110:L134,AN21)","v":0},{"$f":"AO21/(AQ4-AO20)","v":0},{"$f":"IF(AP21=0,0,(AP21*((LOG(AP21))/LOG(2))))","v":0},null,{"$f":"N21","v":2221},{"$f":"COUNTIF(L135:L160,AS21)","v":0},{"$f":"AT21/(AV4-AT20)","v":0},{"$f":"IF(AU21=0,0,(AU21*((LOG(AU21))/LOG(2))))","v":0}]
[12,2099,14,2103,13,2108,14,2115,null,null,0,1111,null,2222,{"$f":"COUNTIF($L$7:$L$500,N22)","v":43},{"$f":"O22/$Q$4","v":0.2792207792207792},{"$f":"IF(P22=0,0,(P22*((LOG(P22))/LOG(2))))","v":-0.51391192725773083},null,null,{"$f":"N22","v":2222},{"$f":"COUNTIF(L7:L32,T22)","v":7},{"$f":"U22/(W4-U20)","v":0.26923076923076922},{"$f":"IF(V22=0,0,(V22*((LOG(V22))/LOG(2))))","v":-0.50967667586863141},null,{"$f":"N22","v":2222},{"$f":"COUNTIF(L33:L57,Y22)","v":10},{"$f":"Z22/(AB4-Z20)","v":0.4},{"$f":"IF(AA22=0,0,(AA22*((LOG(AA22))/LOG(2))))","v":-0.52877123795494496},null,{"$f":"N22","v":2222},{"$f":"COUNTIF(L58:L83,AD22)","v":9},{"$f":"AE22/(AG4-AE20)","v":0.34615384615384615},{"$f":"IF(AF22=0,0,(AF22*((LOG(AF22))/LOG(2))))","v":-0.52979355578034681},null,{"$f":"N22","v":2222},{"$f":"COUNTIF(L84:L109,AI22)","v":9},{"$f":"AJ22/(AL4-AJ20)","v":0.34615384615384615},{"$f":"IF(AK22=0,0,(AK22*((LOG(AK22))/LOG(2))))","v":-0.52979355578034681},null,{"$f":"N22","v":2222},{"$f":"COUNTIF(L110:L134,AN22)","v":5},{"$f":"AO22/(AQ4-AO20)","v":0.2},{"$f":"IF(AP22=0,0,(AP22*((LOG(AP22))/LOG(2))))","v":-0.46438561897747244},null,{"$f":"N22","v":2222},{"$f":"COUNTIF(L135:L160,AS22)","v":3},{"$f":"AT22/(AV4-AT20)","v":0.11538461538461539},{"$f":"IF(AU22=0,0,(AU22*((LOG(AU22))/LOG(2))))","v":-0.35947814047153104}]
[12,2239,14,2244,13,2249,14,2254,null,null,0,1111,null,null,null,{"$f":"SUM(P7:P22)","v":0.99999999999999978},{"$f":"-SUM(Q7:Q22)","v":1.0898784878504026},null,null,null,null,{"$f":"SUM(V7:V22)","v":1},{"$f":"-SUM(W7:W22)","v":0.84035867160911715},null,null,null,{"$f":"SUM(AA7:AA22)","v":1},{"$f":"-SUM(AB7:AB22)","v":1.3908562983864119},null,null,null,{"$f":"SUM(AF7:AF22)","v":1},{"$f":"-SUM(AG7:AG22)","v":0.93058612913199279},null,null,null,{"$f":"SUM(AK7:AK22)","v":0.99999999999999989},{"$f":"-SUM(AL7:AL22)","v":1.3491826432523002},null,null,null,{"$f":"SUM(AP7:AP22)","v":1},{"$f":"-SUM(AQ7:AQ22)","v":0.72192809488736231},null,null,null,{"$f":"SUM(AU7:AU22)","v":1},{"$f":"-SUM(AV7:AV22)","v":0.74419421382632256}]
[12,2361,14,2365,13,2370,14,2375,null,null,0,1111,null,null,null,"U=",{"$f":"Q23/(LOG(Q4)/LOG(2))","v":0.14998080399733069},null,null,null,null,"U1=",{"$f":"W23/(LOG(W4)/LOG(2))","v":0.17878299095418637},null,null,null,"U2=",{"$f":"AB23/(LOG(AB4)/LOG(2))","v":0.29950460168187998},null,null,null,"U3=",{"$f":"AG23/(LOG(AG4)/LOG(2))","v":0.19797852646433187},null,null,null,"U4=",{"$f":"AL23/(LOG(AL4)/LOG(2))","v":0.28703328287462193},null,null,null,"U5=",{"$f":"AQ23/(LOG(AQ4)/LOG(2))","v":0.15545875354128552},null,null,null,"U6=",{"$f":"AV23/(LOG(AV4)/LOG(2))","v":0.15832438206879781}]
[12,2548,14,2555,13,2559,14,2567,null,null,0,1111]
[21,2692,21,2697,22,2703,23,2714,null,null,0,2222]
[12,2833,14,2838,13,2843,14,2848,null,null,0,1111,null,"Total Target Seq"]
[12,2964,14,2972,13,2976,14,2985,null,null,0,1111,null,{"$f":"COUNTIF(L7:L160,G3)","v":0},null,26,25,26,26,25,26]
[12,3232,14,3239,13,3246,14,3256,null,null,0,1111,null,null,null,"% of reinforcement given in 6 equal intervals based on number of trials "]
[12,3372,14,3377,13,3383,14,3392,null,null,0,1111,null,null,null,"%_1","%_2","%_3","%_4","%_5","%_6"]
[21,3505,21,3515,22,3527,23,3543,null,null,0,2222,null,null,"target sequence",{"$f":"$G$3","v":2212},{"$f":"$G$3","v":2212},{"$f":"$G$3","v":2212},{"$f":"$G$3","v":2212},{"$f":"$G$3","v":2212},{"$f":"$G$3","v":2212}]
[12,3654,14,3659,13,3666,14,3670,null,null,0,1111,null,null,"total reinforcement",{"$f":"U20","v":0},{"$f":"Z20","v":0},{"$f":"AE20","v":0},{"$f":"AJ20","v":0},{"$f":"AO20","v":0},{"$f":"AT20","v":0}]
[12,3785,14,3789,13,3793,14,3801,null,null,0,1111,null,null,"% target"]
[12,3942,14,3951,13,3956,14,3964,null,null,0,1111,null,null,"CCRF"]
[12,4140,14,4149,13,4155,14,4162,null,null,0,1111,null,null,"% CCRf"]
[21,4274,21,4279,22,4283,23,4296,null,null,0,2222,null,null,"average response rate",{"$f":"H32/P28","v":141.15384615384616},{"$f":"(H57-H32)/Q28","v":148.44},{"$f":"(H83-H57)/R28","v":139.53846153846155},{"$f":"(H109-H83)/S28","v":171.11538461538461},{"$f":"(H134-H109)/T28","v":128.96},{"$f":"(H160-H134)/U28","v":201.19230769230768}]
[12,4410,14,4414,13,4419,14,4423,null,null,0,1111]
[12,4528,14,4533,13,4537,14,4542,null,null,0,1111]
[21,4715,21,4722,22,4727,23,4744,null,null,0,2222]
[12,4856,14,4861,13,4869,14,4878,null,null,0,1111]
[12,4982,14,4989,13,4996,14,5005,null,null,0,1111]
[21,5142,21,5147,22,5154,23,5163,null,null,0,2222]
[12,5284,14,5289,13,5294,14,5302,null,null,0,1111]
[12,5424,14,5428,13,5432,14,5437,null,null,0,1111]
[12,5558,14,5563,13,5567,14,5572,null,null,0,1111]
[21,5676,21,5688,22,5705,23,5711,null,null,0,2222]
[21,5876,21,5890,11,5903,12,5908,null,null,0,2211]
[12,6004,14,6013,13,6021,14,6029,null,null,0,1111]
[21,6169,21,6174,22,6182,23,6190,null,null,0,2222]
[21,6306,21,6407,22,6441,23,6465,null,null,0,2222]
[21,6587,21,6593,22,6598,23,6611,null,null,0,2222]
[12,6713,14,6714,13,6721,14,6727,null,null,0,1111]
[12,6847,23,6861,24,6867,23,6874,null,null,0,1222]
[21,6977,21,6982,22,6988,23,6995,null,null,0,2222]
[21,7105,21,7110,22,7116,23,7122,null,null,0,2222]
[21,7234,21,7239,22,7245,23,7253,null,null,0,2222]
[12,7363,14,7368,13,7375,14,7381,null,null,0,1111]
[12,7486,14,7493,13,7499,14,7508,null,null,0,1111]
[12,7623,14,7628,13,7633,14,7641,null,null,0,1111]
[21,7752,21,7758,22,7764,23,7774,null,null,0,2222]
[21,7913,21,7917,22,7922,23,7927,null,null,0,2222]
[21,8066,21,8072,22,8083,23,8103,null,null,0,2222]
[12,8254,14,8259,13,8264,14,8274,null,null,0,1111]
[12,8395,14,8400,13,8406,14,8411,null,null,0,1111]
[12,8537,14,8541,13,8545,14,8552,null,null,0,1111]
[21,8676,21,8681,22,8687,23,8709,null,null,0,2222]
[12,8839,14,8843,13,8848,14,8853,null,null,0,1111]
[12,8964,14,8969,13,8973,14,8977,null,null,0,1111]
[21,9106,21,9112,22,9119,23,9126,null,null,0,2222]
[12,9224,14,9231,13,9239,14,9248,null,null,0,1111]
[21,9357,21,9361,22,9367,23,9375,null,null,0,2222]
[21,9488,21,9493,22,9498,23,9504,null,null,0,2222]
[12,9613,14,9618,13,9622,14,9627,null,null,0,1111]
[12,9758,14,9766,13,9771,14,9778,null,null,0,1111]
[12,9896,14,9905,13,9910,14,9915,null,null,0,1111]
[12,10042,14,10047,13,10051,14,10056,null,null,0,1111]
[12,10161,14,10165,13,10170,14,10174,null,null,0,1111]
[21,10282,21,10287,22,10293,23,10302,null,null,0,2222]
[12,10431,14,10435,13,10439,14,10444,null,null,0,1111]
[12,10568,14,10573,13,10578,14,10587,null,null,0,1111]
[21,10708,21,10714,22,10719,23,10724,null,null,0,2222]
[12,10832,14,10837,13,10842,14,10849,null,null,0,1111]
[12,10994,14,10999,13,11003,14,11009,null,null,0,1111]
[21,11162,21,11168,22,11177,23,11193,null,null,0,2222]
[12,11298,14,11304,13,11308,14,11314,null,null,0,1111]
[12,11493,14,11500,13,11505,14,11510,null,null,0,1111]
[12,11623,23,11642,24,11647,23,11654,null,null,0,1222]
[21,11798,21,11807,22,11830,23,11841,null,null,0,2222]
[12,11976,14,11984,13,11991,14,11999,null,null,0,1111]
[12,12127,14,12132,13,12136,14,12142,null,null,0,1111]
[21,12451,21,12507,22,12515,23,12533,null,null,0,2222]
[21,12653,21,12658,22,12664,23,12678,null,null,0,2222]
[21,12807,21,12812,22,12818,23,12835,null,null,0,2222]
[21,13017,21,13023,22,13031,23,13045,null,null,0,2222]
[12,13495,14,13499,13,13505,14,13513,null,null,0,1111]
[21,13668,21,13674,22,13690,23,13709,null,null,0,2222]
[12,13864,14,13868,13,13872,14,13877,null,null,0,1111]
[12,14036,14,14040,13,14045,14,14052,null,null,0,1111]
[12,14192,14,14197,13,14201,14,14207,null,null,0,1111]
[12,14303,14,14308,13,14312,14,14319,null,null,0,1111]
[21,14438,21,14444,22,14450,23,14457,null,null,0,2222]
[12,14568,14,14573,13,14578,14,14584,null,null,0,1111]
[21,14690,12,14725,13,14730,14,14734,null,null,0,2111]
[12,14837,14,14842,13,14847,14,14855,null,null,0,1111]
[12,14955,14,14962,13,14967,14,14971,null,null,0,1111]
[12,15074,14,15079,13,15084,14,15089,null,null,0,1111]
[12,15209,14,15213,13,15218,14,15224,null,null,0,1111]
[21,15316,21,15332,22,15339,23,15344,null,null,0,2222]
[12,15444,14,15448,13,15453,14,15458,null,null,0,1111]
[12,15567,14,15572,13,15580,14,15587,null,null,0,1111]
[12,15687,14,15692,13,15696,14,15700,null,null,0,1111]
[12,15816,14,15821,13,15826,14,15832,null,null,0,1111]
[12,15944,14,15950,13,15955,14,15959,null,null,0,1111]
[12,16072,14,16076,13,16080,14,16085,null,null,0,1111]
[12,16193,14,16201,13,16206,14,16213,null,null,0,1111]
[12,16315,14,16320,13,16324,14,16328,null,null,0,1111]
[12,16434,14,16440,13,16445,14,16453,null,null,0,1111]
[12,16568,14,16573,13,16577,14,16583,null,null,0,1111]
[21,16692,21,16697,22,16702,23,16708,null,null,0,2222]
[21,16810,21,16816,22,16821,23,16827,null,null,0,2222]
[12,16934,14,16939,13,16943,14,16947,null,null,0,1111]
[12,17052,14,17056,13,17061,14,17066,null,null,0,1111]
[21,17168,21,17176,22,17182,23,17189,null,null,0,2222]
[12,17306,14,17310,13,17316,14,17321,null,null,0,1111]
[12,17425,14,17430,13,17434,14,17439,null,null,0,1111]
[21,17561,21,17571,22,17579,23,17586,null,null,0,2222]
[12,17689,14,17694,13,17701,14,17712,null,null,0,1111]
[12,17824,14,17829,13,17834,14,17838,null,null,0,1111]
[12,17949,14,17954,13,17958,14,17963,null,null,0,1111]
[12,18077,14,18083,13,18087,14,18092,null,null,0,1111]
[12,18208,14,18215,13,18222,14,18228,null,null,0,1111]
[12,18337,14,18343,13,18348,14,18357,null,null,0,1111]
[12,18464,14,18469,13,18473,14,18478,null,null,0,1111]
[21,18656,21,18663,22,18672,23,18682,null,null,0,2222]
[12,18800,14,18804,13,18810,14,18814,null,null,0,1111]
[12,18963,14,18969,13,18974,14,18978,null,null,0,1111]
[21,19110,21,19117,22,19122,23,19130,null,null,0,2222]
[12,19248,23,19268,24,19272,23,19278,null,null,0,1222]
[12,19388,14,19394,13,19398,14,19402,null,null,0,1111]
[12,19610,14,19615,13,19620,14,19626,null,null,0,1111]
[12,19747,14,19751,13,19755,14,19761,null,null,0,1111]
[21,19873,21,19880,22,19886,23,19892,null,null,0,2222]
[12,19998,14,20003,13,20007,14,20012,null,null,0,1111]
[12,20149,14,20154,13,20159,14,20167,null,null,0,1111]
[12,20282,14,20291,13,20294,14,20301,null,null,0,1111]
[12,20438,14,20442,13,20447,14,20452,null,null,0,1111]
[12,20627,14,20631,13,20636,14,20642,null,null,0,1111]
[12,20958,14,20965,13,20972,14,20980,null,null,0,1111]
[12,21102,14,21107,13,21111,14,21116,null,null,0,1111]
[21,21283,21,21290,22,21296,23,21301,null,null,0,2222]
[12,21442,14,21448,13,21452,14,21459,null,null,0,1111]
[12,21590,14,21594,13,21601,14,21608,null,null,0,1111]
[12,21714,14,21720,13,21724,14,21730,null,null,0,1111]
[12,21964,14,21969,13,21973,14,21980,null,null,0,1111]
[12,22100,14,22105,13,22112,14,22127,null,null,0,1111]
[12,22236,14,22241,13,22245,14,22249,null,null,0,1111]
[12,22364,14,22369,13,22373,14,22384,null,null,0,1111]
[12,22555,14,22560,13,22566,14,22571,null,null,0,1111]
[12,22702,14,22707,13,22712,14,22716,null,null,0,1111]
[12,23885,14,23890,13,23898,14,23913,null,null,null,1111]

{"sheet":"!MB11720.091","index":6,"n_rows":145,"n_cols":48,"rows_kept":145,"cut":false,"hidden":false,"merged":[[4,39,4,42],[5,39,5,40],[4,44,4,47],[5,44,5,45],[4,24,4,27],[5,24,5,25],[4,29,4,32],[5,29,5,30],[4,34,4,37],[5,34,5,35],[1,1,1,2],[5,13,5,14],[26,13,26,14],[27,13,27,14],[4,19,4,22],[5,19,5,20]]}
["Report for:!MB11720.091"]
["Date:","<date>"]
["Hen:","<hen>",null,null,null,"Correct Sequence",{"$f":"Start!J2","v":2212},null,null,null,null,null,null,null,null,"Total Sequences in Data",{"$f":"4994-COUNTBLANK(L7:L5000)","v":139},null,null,null,null,"Total Sequences in Block Data",{"$f":"COUNTA(L7:L29)","v":23},null,null,null,"Total Sequences in Block Data",{"$f":"COUNTA(L30:L52)","v":23},null,null,null,"Total Sequences in Block Data",{"$f":"COUNTA(L53:L76)","v":24},null,null,null,"Total Sequences in Block Data",{"$f":"COUNTA(L77:L99)","v":23},null,null,null,"Total Sequences in Block Data",{"$f":"COUNTA(L100:L122)","v":23},null,null,null,"Total Sequences in Block Data",{"$f":"COUNTA(L123:L145)","v":23}]
[null,null,null,null,null,null,null,null,null,null,null,null,null,null,null,"Total Sequences in Summary",{"$f":"SUM(O7:O22)","v":139},null,null,null,null,"Total Sequences in Block Summary",{"$f":"SUM(U7:U22)","v":23},null,null,null,"Total Sequences in Block Summary",{"$f":"SUM(Z7:Z22)","v":23},null,null,null,"Total Sequences in Block Summary",{"$f":"SUM(AE7:AE22)","v":24},null,null,null,"Total Sequences in Block Summary",{"$f":"SUM(AJ7:AJ22)","v":23},null,null,null,"Total Sequences in Block Summary",{"$f":"SUM(AO7:AO22)","v":23},null,null,null,"Total Sequences in Block Summary",{"$f":"SUM(AT7:AT22)","v":23}]
[null,null,null,null,null,null,null,null,null,null,null,null,null,null,null,null,null,null,null,"Block 1",null,null,null,null,"Block 2",null,null,null,null,"Block 3",null,null,null,null,"Block 4",null,null,null,null,"Block 5",null,null,null,null,"Block 6"]
["Sequence\nComponent\n1","Time\n1","Sequence\nComponent\n2","Time\n2","Sequence\nComponent\n3","Time\n3","Sequence\nComponent\n4","Time\n4","Sequence\nComponent\n5","Time\n5","Correct?\n0=No 1=Yes","Sequence",null,"Frequency",null,"Relative Frequency","Variability",null,null,"Frequency",null,"Relative Frequency","Variability",null,"Frequency",null,"Relative Frequency","Variability",null,"Frequency",null,"Relative Frequency","Variability",null,"Frequency",null,"Relative Frequency","Variability",null,"Frequency",null,"Relative Frequency","Variability",null,"Frequency",null,"Relative Frequency","Variability"]
[21,8,12,23,13,32,14,40,null,null,0,2111,null,1111,{"$f":"COUNTIF($L$7:$L$500,N7)","v":114},{"$f":"O7/$Q$4","v":0.82014388489208634},{"$f":"IF(P7=0,0,(P7*((LOG(P7))/LOG(2))))","v":-0.23460302644387981},null,null,{"$f":"N7","v":1111},{"$f":"COUNTIF(L7:L29,T7)","v":17},{"$f":"U7/(W4-U20)","v":0.73913043478260865},{"$f":"IF(V7=0,0,(V7*((LOG(V7))/LOG(2))))","v":-0.3223341283353674},null,{"$f":"N7","v":1111},{"$f":"COUNTIF(L30:L52,Y7)","v":17},{"$f":"Z7/(AB4-Z20)","v":0.73913043478260865},{"$f":"IF(AA7=0,0,(AA7*((LOG(AA7))/LOG(2))))","v":-0.3223341283353674},null,{"$f":"N7","v":1111},{"$f":"COUNTIF(L53:L76,AD7)","v":21},{"$f":"AE7/(AG4-AE20)","v":0.875},{"$f":"IF(AF7=0,0,(AF7*((LOG(AF7))/LOG(2))))","v":-0.1685644431995964},null,{"$f":"N7","v":1111},{"$f":"COUNTIF(L77:L99,AI7)","v":19},{"$f":"AJ7/(AL4-AJ20)","v":0.82608695652173914},{"$f":"IF(AK7=0,0,(AK7*((LOG(AK7))/LOG(2))))","v":-0.22769801781109217},null,{"$f":"N7","v":1111},{"$f":"COUNTIF(L100:L122,AN7)","v":19},{"$f":"AO7/(AQ4-AO20)","v":0.82608695652173914},{"$f":"IF(AP7=0,0,(AP7*((LOG(AP7))/LOG(2))))","v":-0.22769801781109217},null,{"$f":"N7","v":1111},{"$f":"COUNTIF(L123:L145,AS7)","v":21},{"$f":"AT7/(AV4-AT20)","v":0.91304347826086951},{"$f":"IF(AU7=0,0,(AU7*((LOG(AU7))/LOG(2))))","v":-0.11983196516710025}]
[12,149,14,153,13,158,14,162,null,null,0,1111,null,1112,{"$f":"COUNTIF($L$7:$L$500,N8)","v":0},{"$f":"O8/$Q$4","v":0},{"$f":"IF(P8=0,0,(P8*((LOG(P8))/LOG(2))))","v":0},null,null,{"$f":"N8","v":1112},{"$f":"COUNTIF(L7:L29,T8)","v":0},{"$f":"U8/(W4-U20)","v":0},{"$f":"IF(V8=0,0,(V8*((LOG(V8))/LOG(2))))","v":0},null,{"$f":"N8","v":1112},{"$f":"COUNTIF(L30:L52,Y8)","v":0},{"$f":"Z8/(AB4-Z20)","v":0},{"$f":"IF(AA8=0,0,(AA8*((LOG(AA8))/LOG(2))))","v":0},null,{"$f":"N8","v":1112},{"$f":"COUNTIF(L53:L76,AD8)","v":0},{"$f":"AE8/(AG4-AE20)","v":0},{"$f":"IF(AF8=0,0,(AF8*((LOG(AF8))/LOG(2))))","v":0},null,{"$f":"N8","v":1112},{"$f":"COUNTIF(L77:L99,AI8)","v":0},{"$f":"AJ8/(AL4-AJ20)","v":0},{"$f":"IF(AK8=0,0,(AK8*((LOG(AK8))/LOG(2))))","v":0},null,{"$f":"N8","v":1112},{"$f":"COUNTIF(L100:L122,AN8)","v":0},{"$f":"AO8/(AQ4-AO20)","v":0},{"$f":"IF(AP8=0,0,(AP8*((LOG(AP8))/LOG(2))))","v":0},null,{"$f":"N8","v":1112},{"$f":"COUNTIF(L123:L145,AS8)","v":0},{"$f":"AT8/(AV4-AT20)","v":0},{"$f":"IF(AU8=0,0,(AU8*((LOG(AU8))/LOG(2))))","v":0}]
[12,271,14,277,13,282,14,288,null,null,0,1111,null,1121,{"$f":"COUNTIF($L$7:$L$500,N9)","v":0},{"$f":"O9/$Q$4","v":0},{"$f":"IF(P9=0,0,(P9*((LOG(P9))/LOG(2))))","v":0},null,null,{"$f":"N9","v":1121},{"$f":"COUNTIF(L7:L29,T9)","v":0},{"$f":"U9/(W4-U20)","v":0},{"$f":"IF(V9=0,0,(V9*((LOG(V9))/LOG(2))))","v":0},null,{"$f":"N9","v":1121},{"$f":"COUNTIF(L30:L52,Y9)","v":0},{"$f":"Z9/(AB4-Z20)","v":0},{"$f":"IF(AA9=0,0,(AA9*((LOG(AA9))/LOG(2))))","v":0},null,{"$f":"N9","v":1121},{"$f":"COUNTIF(L53:L76,AD9)","v":0},{"$f":"AE9/(AG4-AE20)","v":0},{"$f":"IF(AF9=0,0,(AF9*((LOG(AF9))/LOG(2))))","v":0},null,{"$f":"N9","v":1121},{"$f":"COUNTIF(L77:L99,AI9)","v":0},{"$f":"AJ9/(AL4-AJ20)","v":0},{"$f":"IF(AK9=0,0,(AK9*((LOG(AK9))/LOG(2))))","v":0},null,{"$f":"N9","v":1121},{"$f":"COUNTIF(L100:L122,AN9)","v":0},{"$f":"AO9/(AQ4-AO20)","v":0},{"$f":"IF(AP9=0,0,(AP9*((LOG(AP9))/LOG(2))))","v":0},null,{"$f":"N9","v":1121},{"$f":"COUNTIF(L123:L145,AS9)","v":0},{"$f":"AT9/(AV4-AT20)","v":0},{"$f":"IF(AU9=0,0,(AU9*((LOG(AU9))/LOG(2))))","v":0}]
[12,392,14,397,13,402,14,410,null,null,0,1111,null,1122,{"$f":"COUNTIF($L$7:$L$500,N10)","v":1},{"$f":"O10/$Q$4","v":7.1942446043165471E-3},{"$f":"IF(P10=0,0,(P10*((LOG(P10))/LOG(2))))","v":-5.1215403400888537E-2},null,null,{"$f":"N10","v":1122},{"$f":"COUNTIF(L7:L29,T10)","v":1},{"$f":"U10/(W4-U20)","v":4.3478260869565216E-2},{"$f":"IF(V10=0,0,(V10*((LOG(V10))/LOG(2))))","v":-0.19667660678508753},null,{"$f":"N10","v":1122},{"$f":"COUNTIF(L30:L52,Y10)","v":0},{"$f":"Z10/(AB4-Z20)","v":0},{"$f":"IF(AA10=0,0,(AA10*((LOG(AA10))/LOG(2))))","v":0},null,{"$f":"N10","v":1122},{"$f":"COUNTIF(L53:L76,AD10)","v":0},{"$f":"AE10/(AG4-AE20)","v":0},{"$f":"IF(AF10=0,0,(AF10*((LOG(AF10))/LOG(2))))","v":0},null,{"$f":"N10","v":1122},{"$f":"COUNTIF(L77:L99,AI10)","v":0},{"$f":"AJ10/(AL4-AJ20)","v":0},{"$f":"IF(AK10=0,0,(AK10*((LOG(AK10))/LOG(2))))","v":0},null,{"$f":"N10","v":1122},{"$f":"COUNTIF(L100:L122,AN10)","v":0},{"$f":"AO10/(AQ4-AO20)","v":0},{"$f":"IF(AP10=0,0,(AP10*((LOG(AP10))/LOG(2))))","v":0},null,{"$f":"N10","v":1122},{"$f":"COUNTIF(L123:L145,AS10)","v":0},{"$f":"AT10/(AV4-AT20)","v":0},{"$f":"IF(AU10=0,0,(AU10*((LOG(AU10))/LOG(2))))","v":0}]
[12,511,14,517,13,525,14,534,null,null,0,1111,null,1211,{"$f":"COUNTIF($L$7:$L$500,N11)","v":1},{"$f":"O11/$Q$4","v":7.1942446043165471E-3},{"$f":"IF(P11=0,0,(P11*((LOG(P11))/LOG(2))))","v":-5.1215403400888537E-2},null,null,{"$f":"N11","v":1211},{"$f":"COUNTIF(L7:L29,T11)","v":0},{"$f":"U11/(W4-U20)","v":0},{"$f":"IF(V11=0,0,(V11*((LOG(V11))/LOG(2))))","v":0},null,{"$f":"N11","v":1211},{"$f":"COUNTIF(L30:L52,Y11)","v":0},{"$f":"Z11/(AB4-Z20)","v":0},{"$f":"IF(AA11=0,0,(AA11*((LOG(AA11))/LOG(2))))","v":0},null,{"$f":"N11","v":1211},{"$f":"COUNTIF(L53:L76,AD11)","v":0},{"$f":"AE11/(AG4-AE20)","v":0},{"$f":"IF(AF11=0,0,(AF11*((LOG(AF11))/LOG(2))))","v":0},null,{"$f":"N11","v":1211},{"$f":"COUNTIF(L77:L99,AI11)","v":0},{"$f":"AJ11/(AL4-AJ20)","v":0},{"$f":"IF(AK11=0,0,(AK11*((LOG(AK11))/LOG(2))))","v":0},null,{"$f":"N11","v":1211},{"$f":"COUNTIF(L100:L122,AN11)","v":1},{"$f":"AO11/(AQ4-AO20)","v":4.3478260869565216E-2},{"$f":"IF(AP11=0,0,(AP11*((LOG(AP11))/LOG(2))))","v":-0.19667660678508753},null,{"$f":"N11","v":1211},{"$f":"COUNTIF(L123:L145,AS11)","v":0},{"$f":"AT11/(AV4-AT20)","v":0},{"$f":"IF(AU11=0,0,(AU11*((LOG(AU11))/LOG(2))))","v":0}]
[12,639,14,644,13,649,14,654,null,null,0,1111,null,1212,{"$f":"COUNTIF($L$7:$L$500,N12)","v":0},{"$f":"O12/$Q$4","v":0},{"$f":"IF(P12=0,0,(P12*((LOG(P12))/LOG(2))))","v":0},null,null,{"$f":"N12","v":1212},{"$f":"COUNTIF(L7:L29,T12)","v":0},{"$f":"U12/(W4-U20)","v":0},{"$f":"IF(V12=0,0,(V12*((LOG(V12))/LOG(2))))","v":0},null,{"$f":"N12","v":1212},{"$f":"COUNTIF(L30:L52,Y12)","v":0},{"$f":"Z12/(AB4-Z20)","v":0},{"$f":"IF(AA12=0,0,(AA12*((LOG(AA12))/LOG(2))))","v":0},null,{"$f":"N12","v":1212},{"$f":"COUNTIF(L53:L76,AD12)","v":0},{"$f":"AE12/(AG4-AE20)","v":0},{"$f":"IF(AF12=0,0,(AF12*((LOG(AF12))/LOG(2))))","v":0},null,{"$f":"N12","v":1212},{"$f":"COUNTIF(L77:L99,AI12)","v":0},{"$f":"AJ12/(AL4-AJ20)","v":0},{"$f":"IF(AK12=0,0,(AK12*((LOG(AK12))/LOG(2))))","v":0},null,{"$f":"N12","v":1212},{"$f":"COUNTIF(L100:L122,AN12)","v":0},{"$f":"AO12/(AQ4-AO20)","v":0},{"$f":"IF(AP12=0,0,(AP12*((LOG(AP12))/LOG(2))))","v":0},null,{"$f":"N12","v":1212},{"$f":"COUNTIF(L123:L145,AS12)","v":0},{"$f":"AT12/(AV4-AT20)","v":0},{"$f":"IF(AU12=0,0,(AU12*((LOG(AU12))/LOG(2))))","v":0}]
[12,765,14,769,13,775,14,780,null,null,0,1111,null,1221,{"$f":"COUNTIF($L$7:$L$500,N13)","v":1},{"$f":"O13/$Q$4","v":7.1942446043165471E-3},{"$f":"IF(P13=0,0,(P13*((LOG(P13))/LOG(2))))","v":-5.1215403400888537E-2},null,null,{"$f":"N13","v":1221},{"$f":"COUNTIF(L7:L29,T13)","v":0},{"$f":"U13/(W4-U20)","v":0},{"$f":"IF(V13=0,0,(V13*((LOG(V13))/LOG(2))))","v":0},null,{"$f":"N13","v":1221},{"$f":"COUNTIF(L30:L52,Y13)","v":0},{"$f":"Z13/(AB4-Z20)","v":0},{"$f":"IF(AA13=0,0,(AA13*((LOG(AA13))/LOG(2))))","v":0},null,{"$f":"N13","v":1221},{"$f":"COUNTIF(L53:L76,AD13)","v":0},{"$f":"AE13/(AG4-AE20)","v":0},{"$f":"IF(AF13=0,0,(AF13*((LOG(AF13))/LOG(2))))","v":0},null,{"$f":"N13","v":1221},{"$f":"COUNTIF(L77:L99,AI13)","v":0},{"$f":"AJ13/(AL4-AJ20)","v":0},{"$f":"IF(AK13=0,0,(AK13*((LOG(AK13))/LOG(2))))","v":0},null,{"$f":"N13","v":1221},{"$f":"COUNTIF(L100:L122,AN13)","v":1},{"$f":"AO13/(AQ4-AO20)","v":4.3478260869565216E-2},{"$f":"IF(AP13=0,0,(AP13*((LOG(AP13))/LOG(2))))","v":-0.19667660678508753},null,{"$f":"N13","v":1221},{"$f":"COUNTIF(L123:L145,AS13)","v":0},{"$f":"AT13/(AV4-AT20)","v":0},{"$f":"IF(AU13=0,0,(AU13*((LOG(AU13))/LOG(2))))","v":0}]
[12,895,14,902,13,905,14,914,null,null,0,1111,null,1222,{"$f":"COUNTIF($L$7:$L$500,N14)","v":3},{"$f":"O14/$Q$4","v":2.1582733812949641E-2},{"$f":"IF(P14=0,0,(P14*((LOG(P14))/LOG(2))))","v":-0.11943838644609391},null,null,{"$f":"N14","v":1222},{"$f":"COUNTIF(L7:L29,T14)","v":1},{"$f":"U14/(W4-U20)","v":4.3478260869565216E-2},{"$f":"IF(V14=0,0,(V14*((LOG(V14))/LOG(2))))","v":-0.19667660678508753},null,{"$f":"N14","v":1222},{"$f":"COUNTIF(L30:L52,Y14)","v":0},{"$f":"Z14/(AB4-Z20)","v":0},{"$f":"IF(AA14=0,0,(AA14*((LOG(AA14))/LOG(2))))","v":0},null,{"$f":"N14","v":1222},{"$f":"COUNTIF(L53:L76,AD14)","v":1},{"$f":"AE14/(AG4-AE20)","v":4.1666666666666664E-2},{"$f":"IF(AF14=0,0,(AF14*((LOG(AF14))/LOG(2))))","v":-0.19104010419671485},null,{"$f":"N14","v":1222},{"$f":"COUNTIF(L77:L99,AI14)","v":1},{"$f":"AJ14/(AL4-AJ20)","v":4.3478260869565216E-2},{"$f":"IF(AK14=0,0,(AK14*((LOG(AK14))/LOG(2))))","v":-0.19667660678508753},null,{"$f":"N14","v":1222},{"$f":"COUNTIF(L100:L122,AN14)","v":0},{"$f":"AO14/(AQ4-AO20)","v":0},{"$f":"IF(AP14=0,0,(AP14*((LOG(AP14))/LOG(2))))","v":0},null,{"$f":"N14","v":1222},{"$f":"COUNTIF(L123:L145,AS14)","v":0},{"$f":"AT14/(AV4-AT20)","v":0},{"$f":"IF(AU14=0,0,(AU14*((LOG(AU14))/LOG(2))))","v":0}]
[12,1018,14,1026,24,1046,23,1052,null,null,0,1122,null,2111,{"$f":"COUNTIF($L$7:$L$500,N15)","v":1},{"$f":"O15/$Q$4","v":7.1942446043165471E-3},{"$f":"IF(P15=0,0,(P15*((LOG(P15))/LOG(2))))","v":-5.1215403400888537E-2},null,null,{"$f":"N15","v":2111},{"$f":"COUNTIF(L7:L29,T15)","v":1},{"$f":"U15/(W4-U20)","v":4.3478260869565216E-2},{"$f":"IF(V15=0,0,(V15*((LOG(V15))/LOG(2))))","v":-0.19667660678508753},null,{"$f":"N15","v":2111},{"$f":"COUNTIF(L30:L52,Y15)","v":0},{"$f":"Z15/(AB4-Z20)","v":0},{"$f":"IF(AA15=0,0,(AA15*((LOG(AA15))/LOG(2))))","v":0},null,{"$f":"N15","v":2111},{"$f":"COUNTIF(L53:L76,AD15)","v":0},{"$f":"AE15/(AG4-AE20)","v":0},{"$f":"IF(AF15=0,0,(AF15*((LOG(AF15))/LOG(2))))","v":0},null,{"$f":"N15","v":2111},{"$f":"COUNTIF(L77:L99,AI15)","v":0},{"$f":"AJ15/(AL4-AJ20)","v":0},{"$f":"IF(AK15=0,0,(AK15*((LOG(AK15))/LOG(2))))","v":0},null,{"$f":"N15","v":2111},{"$f":"COUNTIF(L100:L122,AN15)","v":0},{"$f":"AO15/(AQ4-AO20)","v":0},{"$f":"IF(AP15=0,0,(AP15*((LOG(AP15))/LOG(2))))","v":0},null,{"$f":"N15","v":2111},{"$f":"COUNTIF(L123:L145,AS15)","v":0},{"$f":"AT15/(AV4-AT20)","v":0},{"$f":"IF(AU15=0,0,(AU15*((LOG(AU15))/LOG(2))))","v":0}]
[21,1160,21,1165,11,1178,12,1182,null,null,0,2211,null,2112,{"$f":"COUNTIF($L$7:$L$500,N16)","v":0},{"$f":"O16/$Q$4","v":0},{"$f":"IF(P16=0,0,(P16*((LOG(P16))/LOG(2))))","v":0},null,null,{"$f":"N16","v":2112},{"$f":"COUNTIF(L7:L29,T16)","v":0},{"$f":"U16/(W4-U20)","v":0},{"$f":"IF(V16=0,0,(V16*((LOG(V16))/LOG(2))))","v":0},null,{"$f":"N16","v":2112},{"$f":"COUNTIF(L30:L52,Y16)","v":0},{"$f":"Z16/(AB4-Z20)","v":0},{"$f":"IF(AA16=0,0,(AA16*((LOG(AA16))/LOG(2))))","v":0},null,{"$f":"N16","v":2112},{"$f":"COUNTIF(L53:L76,AD16)","v":0},{"$f":"AE16/(AG4-AE20)","v":0},{"$f":"IF(AF16=0,0,(AF16*((LOG(AF16))/LOG(2))))","v":0},null,{"$f":"N16","v":2112},{"$f":"COUNTIF(L77:L99,AI16)","v":0},{"$f":"AJ16/(AL4-AJ20)","v":0},{"$f":"IF(AK16=0,0,(AK16*((LOG(AK16))/LOG(2))))","v":0},null,{"$f":"N16","v":2112},{"$f":"COUNTIF(L100:L122,AN16)","v":0},{"$f":"AO16/(AQ4-AO20)","v":0},{"$f":"IF(AP16=0,0,(AP16*((LOG(AP16))/LOG(2))))","v":0},null,{"$f":"N16","v":2112},{"$f":"COUNTIF(L123:L145,AS16)","v":0},{"$f":"AT16/(AV4-AT20)","v":0},{"$f":"IF(AU16=0,0,(AU16*((LOG(AU16))/LOG(2))))","v":0}]
[12,1275,14,1284,13,1292,14,1300,null,null,0,1111,null,2121,{"$f":"COUNTIF($L$7:$L$500,N17)","v":0},{"$f":"O17/$Q$4","v":0},{"$f":"IF(P17=0,0,(P17*((LOG(P17))/LOG(2))))","v":0},null,null,{"$f":"N17","v":2121},{"$f":"COUNTIF(L7:L29,T17)","v":0},{"$f":"U17/(W4-U20)","v":0},{"$f":"IF(V17=0,0,(V17*((LOG(V17))/LOG(2))))","v":0},null,{"$f":"N17","v":2121},{"$f":"COUNTIF(L30:L52,Y17)","v":0},{"$f":"Z17/(AB4-Z20)","v":0},{"$f":"IF(AA17=0,0,(AA17*((LOG(AA17))/LOG(2))))","v":0},null,{"$f":"N17","v":2121},{"$f":"COUNTIF(L53:L76,AD17)","v":0},{"$f":"AE17/(AG4-AE20)","v":0},{"$f":"IF(AF17=0,0,(AF17*((LOG(AF17))/LOG(2))))","v":0},null,{"$f":"N17","v":2121},{"$f":"COUNTIF(L77:L99,AI17)","v":0},{"$f":"AJ17/(AL4-AJ20)","v":0},{"$f":"IF(AK17=0,0,(AK17*((LOG(AK17))/LOG(2))))","v":0},null,{"$f":"N17","v":2121},{"$f":"COUNTIF(L100:L122,AN17)","v":0},{"$f":"AO17/(AQ4-AO20)","v":0},{"$f":"IF(AP17=0,0,(AP17*((LOG(AP17))/LOG(2))))","v":0},null,{"$f":"N17","v":2121},{"$f":"COUNTIF(L123:L145,AS17)","v":0},{"$f":"AT17/(AV4-AT20)","v":0},{"$f":"IF(AU17=0,0,(AU17*((LOG(AU17))/LOG(2))))","v":0}]
[21,1410,21,1415,22,1422,23,1432,null,null,0,2222,null,2122,{"$f":"COUNTIF($L$7:$L$500,N18)","v":0},{"$f":"O18/$Q$4","v":0},{"$f":"IF(P18=0,0,(P18*((LOG(P18))/LOG(2))))","v":0},null,null,{"$f":"N18","v":2122},{"$f":"COUNTIF(L7:L29,T18)","v":0},{"$f":"U18/(W4-U20)","v":0},{"$f":"IF(V18=0,0,(V18*((LOG(V18))/LOG(2))))","v":0},null,{"$f":"N18","v":2122},{"$f":"COUNTIF(L30:L52,Y18)","v":0},{"$f":"Z18/(AB4-Z20)","v":0},{"$f":"IF(AA18=0,0,(AA18*((LOG(AA18))/LOG(2))))","v":0},null,{"$f":"N18","v":2122},{"$f":"COUNTIF(L53:L76,AD18)","v":0},{"$f":"AE18/(AG4-AE20)","v":0},{"$f":"IF(AF18=0,0,(AF18*((LOG(AF18))/LOG(2))))","v":0},null,{"$f":"N18","v":2122},{"$f":"COUNTIF(L77:L99,AI18)","v":0},{"$f":"AJ18/(AL4-AJ20)","v":0},{"$f":"IF(AK18=0,0,(AK18*((LOG(AK18))/LOG(2))))","v":0},null,{"$f":"N18","v":2122},{"$f":"COUNTIF(L100:L122,AN18)","v":0},{"$f":"AO18/(AQ4-AO20)","v":0},{"$f":"IF(AP18=0,0,(AP18*((LOG(AP18))/LOG(2))))","v":0},null,{"$f":"N18","v":2122},{"$f":"COUNTIF(L123:L145,AS18)","v":0},{"$f":"AT18/(AV4-AT20)","v":0},{"$f":"IF(AU18=0,0,(AU18*((LOG(AU18))/LOG(2))))","v":0}]
[12,1535,14,1543,13,1549,14,1557,null,null,0,1111,null,2211,{"$f":"COUNTIF($L$7:$L$500,N19)","v":3},{"$f":"O19/$Q$4","v":2.1582733812949641E-2},{"$f":"IF(P19=0,0,(P19*((LOG(P19))/LOG(2))))","v":-0.11943838644609391},null,null,{"$f":"N19","v":2211},{"$f":"COUNTIF(L7:L29,T19)","v":1},{"$f":"U19/(W4-U20)","v":4.3478260869565216E-2},{"$f":"IF(V19=0,0,(V19*((LOG(V19))/LOG(2))))","v":-0.19667660678508753},null,{"$f":"N19","v":2211},{"$f":"COUNTIF(L30:L52,Y19)","v":0},{"$f":"Z19/(AB4-Z20)","v":0},{"$f":"IF(AA19=0,0,(AA19*((LOG(AA19))/LOG(2))))","v":0},null,{"$f":"N19","v":2211},{"$f":"COUNTIF(L53:L76,AD19)","v":0},{"$f":"AE19/(AG4-AE20)","v":0},{"$f":"IF(AF19=0,0,(AF19*((LOG(AF19))/LOG(2))))","v":0},null,{"$f":"N19","v":2211},{"$f":"COUNTIF(L77:L99,AI19)","v":0},{"$f":"AJ19/(AL4-AJ20)","v":0},{"$f":"IF(AK19=0,0,(AK19*((LOG(AK19))/LOG(2))))","v":0},null,{"$f":"N19","v":2211},{"$f":"COUNTIF(L100:L122,AN19)","v":1},{"$f":"AO19/(AQ4-AO20)","v":4.3478260869565216E-2},{"$f":"IF(AP19=0,0,(AP19*((LOG(AP19))/LOG(2))))","v":-0.19667660678508753},null,{"$f":"N19","v":2211},{"$f":"COUNTIF(L123:L145,AS19)","v":1},{"$f":"AT19/(AV4-AT20)","v":4.3478260869565216E-2},{"$f":"IF(AU19=0,0,(AU19*((LOG(AU19))/LOG(2))))","v":-0.19667660678508753}]
[12,1654,14,1660,13,1665,14,1670,null,null,0,1111,null,2212,{"$f":"COUNTIF($L$7:$L$500,N20)","v":0},{"$f":"O20/$Q$4","v":0},{"$f":"IF(P20=0,0,(P20*((LOG(P20))/LOG(2))))","v":0},null,null,{"$f":"N20","v":2212},{"$f":"COUNTIF(L7:L29,T20)","v":0},null,null,null,{"$f":"N20","v":2212},{"$f":"COUNTIF(L30:L52,Y20)","v":0},null,null,null,{"$f":"N20","v":2212},{"$f":"COUNTIF(L53:L76,AD20)","v":0},null,null,null,{"$f":"N20","v":2212},{"$f":"COUNTIF(L77:L99,AI20)","v":0},null,null,null,{"$f":"N20","v":2212},{"$f":"COUNTIF(L100:L122,AN20)","v":0},null,null,null,{"$f":"N20","v":2212},{"$f":"COUNTIF(L123:L145,AS20)","v":0}]
[12,1778,14,1785,13,1790,14,1795,null,null,0,1111,null,2221,{"$f":"COUNTIF($L$7:$L$500,N21)","v":3},{"$f":"O21/$Q$4","v":2.1582733812949641E-2},{"$f":"IF(P21=0,0,(P21*((LOG(P21))/LOG(2))))","v":-0.11943838644609391},null,null,{"$f":"N21","v":2221},{"$f":"COUNTIF(L7:L29,T21)","v":0},{"$f":"U21/(W4-U20)","v":0},{"$f":"IF(V21=0,0,(V21*((LOG(V21))/LOG(2))))","v":0},null,{"$f":"N21","v":2221},{"$f":"COUNTIF(L30:L52,Y21)","v":3},{"$f":"Z21/(AB4-Z20)","v":0.13043478260869565},{"$f":"IF(AA21=0,0,(AA21*((LOG(AA21))/LOG(2))))","v":-0.3832955811307639},null,{"$f":"N21","v":2221},{"$f":"COUNTIF(L53:L76,AD21)","v":0},{"$f":"AE21/(AG4-AE20)","v":0},{"$f":"IF(AF21=0,0,(AF21*((LOG(AF21))/LOG(2))))","v":0},null,{"$f":"N21","v":2221},{"$f":"COUNTIF(L77:L99,AI21)","v":0},{"$f":"AJ21/(AL4-AJ20)","v":0},{"$f":"IF(AK21=0,0,(AK21*((LOG(AK21))/LOG(2))))","v":0},null,{"$f":"N21","v":2221},{"$f":"COUNTIF(L100:L122,AN21)","v":0},{"$f":"AO21/(AQ4-AO20)","v":0},{"$f":"IF(AP21=0,0,(AP21*((LOG(AP21))/LOG(2))))","v":0},null,{"$f":"N21","v":2221},{"$f":"COUNTIF(L123:L145,AS21)","v":0},{"$f":"AT21/(AV4-AT20)","v":0},{"$f":"IF(AU21=0,0,(AU21*((LOG(AU21))/LOG(2))))","v":0}]
[12,1932,14,1937,13,1942,14,1947,null,null,0,1111,null,2222,{"$f":"COUNTIF($L$7:$L$500,N22)","v":12},{"$f":"O22/$Q$4","v":8.6330935251798566E-2},{"$f":"IF(P22=0,0,(P22*((LOG(P22))/LOG(2))))","v":-0.30509167528077857},null,null,{"$f":"N22","v":2222},{"$f":"COUNTIF(L7:L29,T22)","v":2},{"$f":"U22/(W4-U20)","v":8.6956521739130432E-2},{"$f":"IF(V22=0,0,(V22*((LOG(V22))/LOG(2))))","v":-0.30639669183104457},null,{"$f":"N22","v":2222},{"$f":"COUNTIF(L30:L52,Y22)","v":3},{"$f":"Z22/(AB4-Z20)","v":0.13043478260869565},{"$f":"IF(AA22=0,0,(AA22*((LOG(AA22))/LOG(2))))","v":-0.3832955811307639},null,{"$f":"N22","v":2222},{"$f":"COUNTIF(L53:L76,AD22)","v":2},{"$f":"AE22/(AG4-AE20)","v":8.3333333333333329E-2},{"$f":"IF(AF22=0,0,(AF22*((LOG(AF22))/LOG(2))))","v":-0.29874687506009634},null,{"$f":"N22","v":2222},{"$f":"COUNTIF(L77:L99,AI22)","v":3},{"$f":"AJ22/(AL4-AJ20)","v":0.13043478260869565},{"$f":"IF(AK22=0,0,(AK22*((LOG(AK22))/LOG(2))))","v":-0.3832955811307639},null,{"$f":"N22","v":2222},{"$f":"COUNTIF(L100:L122,AN22)","v":1},{"$f":"AO22/(AQ4-AO20)","v":4.3478260869565216E-2},{"$f":"IF(AP22=0,0,(AP22*((LOG(AP22))/LOG(2))))","v":-0.19667660678508753},null,{"$f":"N22","v":2222},{"$f":"COUNTIF(L123:L145,AS22)","v":1},{"$f":"AT22/(AV4-AT20)","v":4.3478260869565216E-2},{"$f":"IF(AU22=0,0,(AU22*((LOG(AU22))/LOG(2))))","v":-0.19667660678508753}]
[12,2052,23,2071,24,2075,23,2085,null,null,0,1222,null,null,null,{"$f":"SUM(P7:P22)","v":0.99999999999999978},{"$f":"-SUM(Q7:Q22)","v":1.1028714746664945},null,null,null,null,{"$f":"SUM(V7:V22)","v":0.99999999999999978},{"$f":"-SUM(W7:W22)","v":1.4154372473067622},null,null,null,{"$f":"SUM(AA7:AA22)","v":1},{"$f":"-SUM(AB7:AB22)","v":1.0889252905968951},null,null,null,{"$f":"SUM(AF7:AF22)","v":1},{"$f":"-SUM(AG7:AG22)","v":0.65835142245640754},null,null,null,{"$f":"SUM(AK7:AK22)","v":1},{"$f":"-SUM(AL7:AL22)","v":0.80767020572694359},null,null,null,{"$f":"SUM(AP7:AP22)","v":0.99999999999999989},{"$f":"-SUM(AQ7:AQ22)","v":1.0144044449514424},null,null,null,{"$f":"SUM(AU7:AU22)","v":0.99999999999999989},{"$f":"-SUM(AV7:AV22)","v":0.51318517873727532}]
[12,2194,14,2199,13,2203,14,2211,null,null,0,1111,null,null,null,"U=",{"$f":"Q23/(LOG(Q4)/LOG(2))","v":0.15492071972504287},null,null,null,null,"U1=",{"$f":"W23/(LOG(W4)/LOG(2))","v":0.31290325213994319},null,null,null,"U2=",{"$f":"AB23/(LOG(AB4)/LOG(2))","v":0.24072297476523627},null,null,null,"U3=",{"$f":"AG23/(LOG(AG4)/LOG(2))","v":0.14358927087252235},null,null,null,"U4=",{"$f":"AL23/(LOG(AL4)/LOG(2))","v":0.17854739551991317},null,null,null,"U5=",{"$f":"AQ23/(LOG(AQ4)/LOG(2))","v":0.22424904418367986},null,null,null,"U6=",{"$f":"AV23/(LOG(AV4)/LOG(2))","v":0.11344714269915647}]
[12,2317,14,2323,13,2327,14,2332,null,null,0,1111]
[21,2455,21,2470,22,2478,23,2492,null,null,0,2222]
[12,2611,14,2615,13,2620,14,2629,null,null,0,1111,null,"Total Target Seq"]
[12,2738,14,2743,13,2749,14,2753,null,null,0,1111,null,{"$f":"COUNTIF(L7:L145,G3)","v":0},null,23,23,24,23,23,23]
[12,2857,14,2863,13,2868,14,2873,null,null,0,1111,null,null,null,"% of reinforcement given in 6 equal intervals based on number of trials "]
[12,2981,14,2987,13,2994,14,2999,null,null,0,1111,null,null,null,"%_1","%_2","%_3","%_4","%_5","%_6"]
[12,3111,14,3117,13,3122,14,3131,null,null,0,1111,null,null,"target sequence",{"$f":"$G$3","v":2212},{"$f":"$G$3","v":2212},{"$f":"$G$3","v":2212},{"$f":"$G$3","v":2212},{"$f":"$G$3","v":2212},{"$f":"$G$3","v":2212}]
[21,3257,21,3262,22,3269,14,3284,null,null,0,2221,null,null,"total reinforcement",{"$f":"U20","v":0},{"$f":"Z20","v":0},{"$f":"AE20","v":0},{"$f":"AJ20","v":0},{"$f":"AO20","v":0},{"$f":"AT20","v":0}]
[21,3398,21,3403,22,3409,23,3415,null,null,0,2222,null,null,"% target"]
[12,3658,14,3663,13,3667,14,3688,null,null,0,1111,null,null,"CCRF"]
[12,3801,14,3806,13,3812,14,3819,null,null,0,1111,null,null,"% CCRf"]
[21,3966,21,3973,22,4003,14,4069,null,null,0,2221,null,null,"average response rate",{"$f":"H29/P28","v":124.91304347826087},{"$f":"(H52-H29)/Q28","v":153.69565217391303},{"$f":"(H76-H52)/R28","v":184.79166666666666},{"$f":"(H99-H76)/S28","v":180.08695652173913},{"$f":"(H122-H99)/T28","v":211.2608695652174},{"$f":"(H145-H122)/U28","v":176.91304347826087}]
[21,4185,21,4194,22,4204,23,4222,null,null,0,2222]
[12,4323,14,4335,13,4349,14,4365,null,null,0,1111]
[12,4484,14,4490,13,4497,14,4506,null,null,0,1111]
[12,4624,14,4630,13,4635,14,4640,null,null,0,1111]
[12,4756,14,4761,13,4766,14,4770,null,null,0,1111]
[21,4916,21,4923,22,4930,23,4937,null,null,0,2222]
[12,5042,14,5047,13,5053,14,5058,null,null,0,1111]
[12,5161,14,5169,13,5174,14,5183,null,null,0,1111]
[12,5293,14,5297,13,5302,14,5306,null,null,0,1111]
[21,5420,21,5425,22,5436,14,5450,null,null,0,2221]
[12,5613,14,5617,13,5622,14,5626,null,null,0,1111]
[12,5737,14,5743,13,5747,14,5754,null,null,0,1111]
[12,5860,14,5865,13,5869,14,5874,null,null,0,1111]
[12,6001,14,6006,13,6013,14,6018,null,null,0,1111]
[12,6258,14,6264,13,6269,14,6275,null,null,0,1111]
[12,6386,14,6392,13,6397,14,6408,null,null,0,1111]
[12,6572,14,6579,13,6585,14,6593,null,null,0,1111]
[12,6716,14,6721,13,6726,14,6733,null,null,0,1111]
[12,6842,14,6847,13,6851,14,6855,null,null,0,1111]
[12,7050,14,7055,13,7060,14,7069,null,null,0,1111]
[12,7160,14,7169,13,7175,14,7180,null,null,0,1111]
[12,7429,14,7441,13,7449,14,7457,null,null,0,1111]
[12,7561,14,7582,13,7587,14,7591,null,null,0,1111]
[12,7754,14,7758,13,7762,14,7766,null,null,0,1111]
[12,7869,14,7873,13,7877,14,7881,null,null,0,1111]
[12,8051,14,8056,13,8060,14,8065,null,null,0,1111]
[21,8257,21,8264,22,8274,23,8282,null,null,0,2222]
[12,8478,14,8484,13,8490,14,8497,null,null,0,1111]
[12,8640,14,8647,13,8654,14,8662,null,null,0,1111]
[12,8772,14,8777,13,8782,14,8790,null,null,0,1111]
[12,8947,14,8952,13,8956,14,8964,null,null,0,1111]
[12,9401,14,9408,13,9418,14,9425,null,null,0,1111]
[21,9552,21,9609,22,9615,23,9624,null,null,0,2222]
[12,9729,14,9733,13,9737,14,9741,null,null,0,1111]
[12,9856,14,9860,13,9864,14,9872,null,null,0,1111]
[12,10046,14,10051,13,10056,14,10060,null,null,0,1111]
[12,10185,14,10191,13,10196,14,10202,null,null,0,1111]
[12,10321,14,10325,13,10329,14,10333,null,null,0,1111]
[12,10674,14,10679,13,10685,14,10693,null,null,0,1111]
[12,10815,23,10833,24,10837,23,10843,null,null,0,1222]
[12,11005,14,11011,13,11015,14,11020,null,null,0,1111]
[12,11166,14,11170,13,11175,14,11179,null,null,0,1111]
[12,11448,14,11458,13,11465,14,11471,null,null,0,1111]
[12,11610,14,11617,13,11621,14,11626,null,null,0,1111]
[12,11766,14,11772,13,11777,14,11781,null,null,0,1111]
[12,11991,14,11996,13,12000,14,12007,null,null,0,1111]
[12,12134,14,12138,13,12143,14,12148,null,null,0,1111]
[12,12280,14,12287,13,12292,14,12297,null,null,0,1111]
[12,12522,14,12528,13,12532,14,12540,null,null,0,1111]
[12,12707,14,12712,13,12716,14,12722,null,null,0,1111]
[12,12861,14,12869,13,12877,14,12884,null,null,0,1111]
[12,12997,14,13002,13,13007,14,13012,null,null,0,1111]
[12,13158,14,13162,13,13167,14,13171,null,null,0,1111]
[12,13316,14,13324,13,13331,14,13339,null,null,0,1111]
[21,13471,21,13476,22,13481,23,13486,null,null,0,2222]
[12,13601,14,13607,13,13611,14,13617,null,null,0,1111]
[21,13765,21,13770,22,13775,23,13790,null,null,0,2222]
[12,14027,14,14033,13,14037,14,14045,null,null,0,1111]
[12,14145,14,14152,13,14157,14,14163,null,null,0,1111]
[21,14350,21,14371,22,14384,23,14391,null,null,0,2222]
[12,14655,14,14659,13,14668,14,14675,null,null,0,1111]
[12,14820,14,14826,13,14830,14,14836,null,null,0,1111]
[12,14960,23,14972,24,14978,23,14985,null,null,0,1222]
[12,15311,14,15319,13,15324,14,15329,null,null,0,1111]
[12,15436,14,15441,13,15446,14,15451,null,null,0,1111]
[12,15569,14,15573,13,15578,14,15586,null,null,0,1111]
[12,15842,14,15847,13,15851,14,15856,null,null,0,1111]
[12,15976,14,15982,13,15986,14,15991,null,null,0,1111]
[12,16206,14,16211,13,16216,14,16221,null,null,0,1111]
[12,16326,14,16332,13,16340,14,16347,null,null,0,1111]
[12,16687,14,16692,13,16697,14,16705,null,null,0,1111]
[12,16802,23,16823,24,16829,14,16842,null,null,0,1221]
[12,16973,14,16979,13,16984,14,16992,null,null,0,1111]
[12,17123,14,17155,13,17161,14,17170,null,null,0,1111]
[12,17385,14,17390,13,17395,14,17401,null,null,0,1111]
[12,17729,14,17733,13,17738,14,17743,null,null,0,1111]
[12,18246,14,18251,13,18258,14,18267,null,null,0,1111]
[12,18692,23,18708,13,18723,14,18730,null,null,0,1211]
[12,18828,14,18838,13,18852,14,18858,null,null,0,1111]
[12,18956,14,18961,13,18966,14,18971,null,null,0,1111]
[12,19070,14,19080,13,19085,14,19092,null,null,0,1111]
[12,19193,14,19203,13,19207,14,19212,null,null,0,1111]
[21,19330,21,19335,22,19340,23,19344,null,null,0,2222]
[12,19469,14,19477,13,19484,14,19491,null,null,0,1111]
[21,19700,21,19706,11,19719,12,19724,null,null,0,2211]
[12,19829,14,19835,13,19839,14,19844,null,null,0,1111]
[21,20041,21,20046,22,20053,23,20064,null,null,0,2222]
[12,20162,14,20167,13,20172,14,20177,null,null,0,1111]
[12,20305,14,20310,13,20314,14,20319,null,null,0,1111]
[12,20429,14,20434,13,20439,14,20444,null,null,0,1111]
[12,20612,14,20616,13,20621,14,20629,null,null,0,1111]
[12,20739,14,20744,13,20766,14,20771,null,null,0,1111]
[12,20877,14,20885,13,20890,14,20898,null,null,0,1111]
[12,21014,14,21019,13,21023,14,21029,null,null,0,1111]
[12,21169,14,21174,13,21179,14,21186,null,null,0,1111]
[12,21300,14,21304,13,21308,14,21313,null,null,0,1111]
[12,21472,14,21479,13,21485,14,21492,null,null,0,1111]
[21,21608,21,21614,11,21626,12,21630,null,null,0,2211]
[12,21740,14,21745,13,21750,14,21756,null,null,0,1111]
[12,21872,14,21878,13,21882,14,21887,null,null,0,1111]
[12,22012,14,22016,13,22020,14,22026,null,null,0,1111]
[12,22330,14,22335,13,22340,14,22345,null,null,0,1111]
[12,22468,14,22472,13,22476,14,22482,null,null,0,1111]
[12,22706,14,22711,13,22717,14,22722,null,null,0,1111]
[12,23104,14,23112,13,23119,14,23126,null,null,0,1111]
[12,23261,14,23269,13,23276,14,23281,null,null,0,1111]
[12,23444,14,23448,13,23453,14,23458,null,null,0,1111]
[12,23696,14,23701,13,23707,14,23711,null,null,0,1111]
[12,23899,14,23904,13,23909,14,23913,null,null,null,1111]

{"sheet":"!MB12810.091","index":7,"n_rows":164,"n_cols":48,"rows_kept":164,"cut":false,"hidden":false,"merged":[[4,39,4,42],[5,39,5,40],[4,44,4,47],[5,44,5,45],[4,24,4,27],[5,24,5,25],[4,29,4,32],[5,29,5,30],[4,34,4,37],[5,34,5,35],[1,1,1,2],[5,13,5,14],[26,13,26,14],[27,13,27,14],[4,19,4,22],[5,19,5,20]]}
["Report for:!MB12810.091"]
["Date:","<date>"]
["Hen:","<hen>",null,null,null,"Correct Sequence",{"$f":"Start!J2","v":2212},null,null,null,null,null,null,null,null,"Total Sequences in Data",{"$f":"4994-COUNTBLANK(L7:L5000)","v":158},null,null,null,null,"Total Sequences in Block Data",{"$f":"COUNTA(L7:L32)","v":26},null,null,null,"Total Sequences in Block Data",{"$f":"COUNTA(L33:L59)","v":27},null,null,null,"Total Sequences in Block Data",{"$f":"COUNTA(L60:L85)","v":26},null,null,null,"Total Sequences in Block Data",{"$f":"COUNTA(L86:L111)","v":26},null,null,null,"Total Sequences in Block Data",{"$f":"COUNTA(L112:L138)","v":27},null,null,null,"Total Sequences in Block Data",{"$f":"COUNTA(L139:L164)","v":26}]
[null,null,null,null,null,null,null,null,null,null,null,null,null,null,null,"Total Sequences in Summary",{"$f":"SUM(O7:O22)","v":158},null,null,null,null,"Total Sequences in Block Summary",{"$f":"SUM(U7:U22)","v":26},null,null,null,"Total Sequences in Block Summary",{"$f":"SUM(Z7:Z22)","v":27},null,null,null,"Total Sequences in Block Summary",{"$f":"SUM(AE7:AE22)","v":26},null,null,null,"Total Sequences in Block Summary",{"$f":"SUM(AJ7:AJ22)","v":26},null,null,null,"Total Sequences in Block Summary",{"$f":"SUM(AO7:AO22)","v":27},null,null,null,"Total Sequences in Block Summary",{"$f":"SUM(AT7:AT22)","v":26}]
[null,null,null,null,null,null,null,null,null,null,null,null,null,null,null,null,null,null,null,"Block 1",null,null,null,null,"Block 2",null,null,null,null,"Block 3",null,null,null,null,"Block 4",null,null,null,null,"Block 5",null,null,null,null,"Block 6"]
["Sequence\nComponent\n1","Time\n1","Sequence\nComponent\n2","Time\n2","Sequence\nComponent\n3","Time\n3","Sequence\nComponent\n4","Time\n4","Sequence\nComponent\n5","Time\n5","Correct?\n0=No 1=Yes","Sequence",null,"Frequency",null,"Relative Frequency","Variability",null,null,"Frequency",null,"Relative Frequency","Variability",null,"Frequency",null,"Relative Frequency","Variability",null,"Frequency",null,"Relative Frequency","Variability",null,"Frequency",null,"Relative Frequency","Variability",null,"Frequency",null,"Relative Frequency","Variability",null,"Frequency",null,"Relative Frequency","Variability"]
[12,16,14,25,13,32,14,40,null,null,0,1111,null,1111,{"$f":"COUNTIF($L$7:$L$500,N7)","v":104},{"$f":"O7/$Q$4","v":0.65822784810126578},{"$f":"IF(P7=0,0,(P7*((LOG(P7))/LOG(2))))","v":-0.39713586787180455},null,null,{"$f":"N7","v":1111},{"$f":"COUNTIF(L7:L32,T7)","v":21},{"$f":"U7/(W4-U20)","v":0.80769230769230771},{"$f":"IF(V7=0,0,(V7*((LOG(V7))/LOG(2))))","v":-0.24886800779265264},null,{"$f":"N7","v":1111},{"$f":"COUNTIF(L33:L59,Y7)","v":19},{"$f":"Z7/(AB4-Z20)","v":0.70370370370370372},{"$f":"IF(AA7=0,0,(AA7*((LOG(AA7))/LOG(2))))","v":-0.35674962169176955},null,{"$f":"N7","v":1111},{"$f":"COUNTIF(L60:L85,AD7)","v":20},{"$f":"AE7/(AG4-AE20)","v":0.76923076923076927},{"$f":"IF(AF7=0,0,(AF7*((LOG(AF7))/LOG(2))))","v":-0.29116278711825366},null,{"$f":"N7","v":1111},{"$f":"COUNTIF(L86:L111,AI7)","v":12},{"$f":"AJ7/(AL4-AJ20)","v":0.46153846153846156},{"$f":"IF(AK7=0,0,(AK7*((LOG(AK7))/LOG(2))))","v":-0.51483563880920125},null,{"$f":"N7","v":1111},{"$f":"COUNTIF(L112:L138,AN7)","v":11},{"$f":"AO7/(AQ4-AO20)","v":0.40740740740740738},{"$f":"IF(AP7=0,0,(AP7*((LOG(AP7))/LOG(2))))","v":-0.52777832291806981},null,{"$f":"N7","v":1111},{"$f":"COUNTIF(L139:L164,AS7)","v":21},{"$f":"AT7/(AV4-AT20)","v":0.80769230769230771},{"$f":"IF(AU7=0,0,(AU7*((LOG(AU7))/LOG(2))))","v":-0.24886800779265264}]
[12,144,14,150,13,156,14,163,null,null,0,1111,null,1112,{"$f":"COUNTIF($L$7:$L$500,N8)","v":2},{"$f":"O8/$Q$4","v":1.2658227848101266E-2},{"$f":"IF(P8=0,0,(P8*((LOG(P8))/LOG(2))))","v":-7.9794693014900039E-2},null,null,{"$f":"N8","v":1112},{"$f":"COUNTIF(L7:L32,T8)","v":0},{"$f":"U8/(W4-U20)","v":0},{"$f":"IF(V8=0,0,(V8*((LOG(V8))/LOG(2))))","v":0},null,{"$f":"N8","v":1112},{"$f":"COUNTIF(L33:L59,Y8)","v":1},{"$f":"Z8/(AB4-Z20)","v":3.7037037037037035E-2},{"$f":"IF(AA8=0,0,(AA8*((LOG(AA8))/LOG(2))))","v":-0.1761069445245729},null,{"$f":"N8","v":1112},{"$f":"COUNTIF(L60:L85,AD8)","v":1},{"$f":"AE8/(AG4-AE20)","v":3.8461538461538464E-2},{"$f":"IF(AF8=0,0,(AF8*((LOG(AF8))/LOG(2))))","v":-0.18078614300542661},null,{"$f":"N8","v":1112},{"$f":"COUNTIF(L86:L111,AI8)","v":0},{"$f":"AJ8/(AL4-AJ20)","v":0},{"$f":"IF(AK8=0,0,(AK8*((LOG(AK8))/LOG(2))))","v":0},null,{"$f":"N8","v":1112},{"$f":"COUNTIF(L112:L138,AN8)","v":0},{"$f":"AO8/(AQ4-AO20)","v":0},{"$f":"IF(AP8=0,0,(AP8*((LOG(AP8))/LOG(2))))","v":0},null,{"$f":"N8","v":1112},{"$f":"COUNTIF(L139:L164,AS8)","v":0},{"$f":"AT8/(AV4-AT20)","v":0},{"$f":"IF(AU8=0,0,(AU8*((LOG(AU8))/LOG(2))))","v":0}]
[12,270,14,281,13,286,14,291,null,null,0,1111,null,1121,{"$f":"COUNTIF($L$7:$L$500,N9)","v":0},{"$f":"O9/$Q$4","v":0},{"$f":"IF(P9=0,0,(P9*((LOG(P9))/LOG(2))))","v":0},null,null,{"$f":"N9","v":1121},{"$f":"COUNTIF(L7:L32,T9)","v":0},{"$f":"U9/(W4-U20)","v":0},{"$f":"IF(V9=0,0,(V9*((LOG(V9))/LOG(2))))","v":0},null,{"$f":"N9","v":1121},{"$f":"COUNTIF(L33:L59,Y9)","v":0},{"$f":"Z9/(AB4-Z20)","v":0},{"$f":"IF(AA9=0,0,(AA9*((LOG(AA9))/LOG(2))))","v":0},null,{"$f":"N9","v":1121},{"$f":"COUNTIF(L60:L85,AD9)","v":0},{"$f":"AE9/(AG4-AE20)","v":0},{"$f":"IF(AF9=0,0,(AF9*((LOG(AF9))/LOG(2))))","v":0},null,{"$f":"N9","v":1121},{"$f":"COUNTIF(L86:L111,AI9)","v":0},{"$f":"AJ9/(AL4-AJ20)","v":0},{"$f":"IF(AK9=0,0,(AK9*((LOG(AK9))/LOG(2))))","v":0},null,{"$f":"N9","v":1121},{"$f":"COUNTIF(L112:L138,AN9)","v":0},{"$f":"AO9/(AQ4-AO20)","v":0},{"$f":"IF(AP9=0,0,(AP9*((LOG(AP9))/LOG(2))))","v":0},null,{"$f":"N9","v":1121},{"$f":"COUNTIF(L139:L164,AS9)","v":0},{"$f":"AT9/(AV4-AT20)","v":0},{"$f":"IF(AU9=0,0,(AU9*((LOG(AU9))/LOG(2))))","v":0}]
[12,388,14,396,13,402,14,408,null,null,0,1111,null,1122,{"$f":"COUNTIF($L$7:$L$500,N10)","v":2},{"$f":"O10/$Q$4","v":1.2658227848101266E-2},{"$f":"IF(P10=0,0,(P10*((LOG(P10))/LOG(2))))","v":-7.9794693014900039E-2},null,null,{"$f":"N10","v":1122},{"$f":"COUNTIF(L7:L32,T10)","v":0},{"$f":"U10/(W4-U20)","v":0},{"$f":"IF(V10=0,0,(V10*((LOG(V10))/LOG(2))))","v":0},null,{"$f":"N10","v":1122},{"$f":"COUNTIF(L33:L59,Y10)","v":0},{"$f":"Z10/(AB4-Z20)","v":0},{"$f":"IF(AA10=0,0,(AA10*((LOG(AA10))/LOG(2))))","v":0},null,{"$f":"N10","v":1122},{"$f":"COUNTIF(L60:L85,AD10)","v":1},{"$f":"AE10/(AG4-AE20)","v":3.8461538461538464E-2},{"$f":"IF(AF10=0,0,(AF10*((LOG(AF10))/LOG(2))))","v":-0.18078614300542661},null,{"$f":"N10","v":1122},{"$f":"COUNTIF(L86:L111,AI10)","v":0},{"$f":"AJ10/(AL4-AJ20)","v":0},{"$f":"IF(AK10=0,0,(AK10*((LOG(AK10))/LOG(2))))","v":0},null,{"$f":"N10","v":1122},{"$f":"COUNTIF(L112:L138,AN10)","v":1},{"$f":"AO10/(AQ4-AO20)","v":3.7037037037037035E-2},{"$f":"IF(AP10=0,0,(AP10*((LOG(AP10))/LOG(2))))","v":-0.1761069445245729},null,{"$f":"N10","v":1122},{"$f":"COUNTIF(L139:L164,AS10)","v":0},{"$f":"AT10/(AV4-AT20)","v":0},{"$f":"IF(AU10=0,0,(AU10*((LOG(AU10))/LOG(2))))","v":0}]
[12,526,14,534,13,540,14,548,null,null,0,1111,null,1211,{"$f":"COUNTIF($L$7:$L$500,N11)","v":1},{"$f":"O11/$Q$4","v":6.3291139240506328E-3},{"$f":"IF(P11=0,0,(P11*((LOG(P11))/LOG(2))))","v":-4.6226460431500652E-2},null,null,{"$f":"N11","v":1211},{"$f":"COUNTIF(L7:L32,T11)","v":0},{"$f":"U11/(W4-U20)","v":0},{"$f":"IF(V11=0,0,(V11*((LOG(V11))/LOG(2))))","v":0},null,{"$f":"N11","v":1211},{"$f":"COUNTIF(L33:L59,Y11)","v":1},{"$f":"Z11/(AB4-Z20)","v":3.7037037037037035E-2},{"$f":"IF(AA11=0,0,(AA11*((LOG(AA11))/LOG(2))))","v":-0.1761069445245729},null,{"$f":"N11","v":1211},{"$f":"COUNTIF(L60:L85,AD11)","v":0},{"$f":"AE11/(AG4-AE20)","v":0},{"$f":"IF(AF11=0,0,(AF11*((LOG(AF11))/LOG(2))))","v":0},null,{"$f":"N11","v":1211},{"$f":"COUNTIF(L86:L111,AI11)","v":0},{"$f":"AJ11/(AL4-AJ20)","v":0},{"$f":"IF(AK11=0,0,(AK11*((LOG(AK11))/LOG(2))))","v":0},null,{"$f":"N11","v":1211},{"$f":"COUNTIF(L112:L138,AN11)","v":0},{"$f":"AO11/(AQ4-AO20)","v":0},{"$f":"IF(AP11=0,0,(AP11*((LOG(AP11))/LOG(2))))","v":0},null,{"$f":"N11","v":1211},{"$f":"COUNTIF(L139:L164,AS11)","v":0},{"$f":"AT11/(AV4-AT20)","v":0},{"$f":"IF(AU11=0,0,(AU11*((LOG(AU11))/LOG(2))))","v":0}]
[12,651,14,656,13,663,14,671,null,null,0,1111,null,1212,{"$f":"COUNTIF($L$7:$L$500,N12)","v":0},{"$f":"O12/$Q$4","v":0},{"$f":"IF(P12=0,0,(P12*((LOG(P12))/LOG(2))))","v":0},null,null,{"$f":"N12","v":1212},{"$f":"COUNTIF(L7:L32,T12)","v":0},{"$f":"U12/(W4-U20)","v":0},{"$f":"IF(V12=0,0,(V12*((LOG(V12))/LOG(2))))","v":0},null,{"$f":"N12","v":1212},{"$f":"COUNTIF(L33:L59,Y12)","v":0},{"$f":"Z12/(AB4-Z20)","v":0},{"$f":"IF(AA12=0,0,(AA12*((LOG(AA12))/LOG(2))))","v":0},null,{"$f":"N12","v":1212},{"$f":"COUNTIF(L60:L85,AD12)","v":0},{"$f":"AE12/(AG4-AE20)","v":0},{"$f":"IF(AF12=0,0,(AF12*((LOG(AF12))/LOG(2))))","v":0},null,{"$f":"N12","v":1212},{"$f":"COUNTIF(L86:L111,AI12)","v":0},{"$f":"AJ12/(AL4-AJ20)","v":0},{"$f":"IF(AK12=0,0,(AK12*((LOG(AK12))/LOG(2))))","v":0},null,{"$f":"N12","v":1212},{"$f":"COUNTIF(L112:L138,AN12)","v":0},{"$f":"AO12/(AQ4-AO20)","v":0},{"$f":"IF(AP12=0,0,(AP12*((LOG(AP12))/LOG(2))))","v":0},null,{"$f":"N12","v":1212},{"$f":"COUNTIF(L139:L164,AS12)","v":0},{"$f":"AT12/(AV4-AT20)","v":0},{"$f":"IF(AU12=0,0,(AU12*((LOG(AU12))/LOG(2))))","v":0}]
[12,789,14,795,13,803,14,811,null,null,0,1111,null,1221,{"$f":"COUNTIF($L$7:$L$500,N13)","v":1},{"$f":"O13/$Q$4","v":6.3291139240506328E-3},{"$f":"IF(P13=0,0,(P13*((LOG(P13))/LOG(2))))","v":-4.6226460431500652E-2},null,null,{"$f":"N13","v":1221},{"$f":"COUNTIF(L7:L32,T13)","v":1},{"$f":"U13/(W4-U20)","v":3.8461538461538464E-2},{"$f":"IF(V13=0,0,(V13*((LOG(V13))/LOG(2))))","v":-0.18078614300542661},null,{"$f":"N13","v":1221},{"$f":"COUNTIF(L33:L59,Y13)","v":0},{"$f":"Z13/(AB4-Z20)","v":0},{"$f":"IF(AA13=0,0,(AA13*((LOG(AA13))/LOG(2))))","v":0},null,{"$f":"N13","v":1221},{"$f":"COUNTIF(L60:L85,AD13)","v":0},{"$f":"AE13/(AG4-AE20)","v":0},{"$f":"IF(AF13=0,0,(AF13*((LOG(AF13))/LOG(2))))","v":0},null,{"$f":"N13","v":1221},{"$f":"COUNTIF(L86:L111,AI13)","v":0},{"$f":"AJ13/(AL4-AJ20)","v":0},{"$f":"IF(AK13=0,0,(AK13*((LOG(AK13))/LOG(2))))","v":0},null,{"$f":"N13","v":1221},{"$f":"COUNTIF(L112:L138,AN13)","v":0},{"$f":"AO13/(AQ4-AO20)","v":0},{"$f":"IF(AP13=0,0,(AP13*((LOG(AP13))/LOG(2))))","v":0},null,{"$f":"N13","v":1221},{"$f":"COUNTIF(L139:L164,AS13)","v":0},{"$f":"AT13/(AV4-AT20)","v":0},{"$f":"IF(AU13=0,0,(AU13*((LOG(AU13))/LOG(2))))","v":0}]
[12,911,14,916,13,921,14,925,null,null,0,1111,null,1222,{"$f":"COUNTIF($L$7:$L$500,N14)","v":6},{"$f":"O14/$Q$4","v":3.7974683544303799E-2},{"$f":"IF(P14=0,0,(P14*((LOG(P14))/LOG(2))))","v":-0.17919562965022584},null,null,{"$f":"N14","v":1222},{"$f":"COUNTIF(L7:L32,T14)","v":0},{"$f":"U14/(W4-U20)","v":0},{"$f":"IF(V14=0,0,(V14*((LOG(V14))/LOG(2))))","v":0},null,{"$f":"N14","v":1222},{"$f":"COUNTIF(L33:L59,Y14)","v":1},{"$f":"Z14/(AB4-Z20)","v":3.7037037037037035E-2},{"$f":"IF(AA14=0,0,(AA14*((LOG(AA14))/LOG(2))))","v":-0.1761069445245729},null,{"$f":"N14","v":1222},{"$f":"COUNTIF(L60:L85,AD14)","v":1},{"$f":"AE14/(AG4-AE20)","v":3.8461538461538464E-2},{"$f":"IF(AF14=0,0,(AF14*((LOG(AF14))/LOG(2))))","v":-0.18078614300542661},null,{"$f":"N14","v":1222},{"$f":"COUNTIF(L86:L111,AI14)","v":1},{"$f":"AJ14/(AL4-AJ20)","v":3.8461538461538464E-2},{"$f":"IF(AK14=0,0,(AK14*((LOG(AK14))/LOG(2))))","v":-0.18078614300542661},null,{"$f":"N14","v":1222},{"$f":"COUNTIF(L112:L138,AN14)","v":3},{"$f":"AO14/(AQ4-AO20)","v":0.1111111111111111},{"$f":"IF(AP14=0,0,(AP14*((LOG(AP14))/LOG(2))))","v":-0.3522138890491458},null,{"$f":"N14","v":1222},{"$f":"COUNTIF(L139:L164,AS14)","v":0},{"$f":"AT14/(AV4-AT20)","v":0},{"$f":"IF(AU14=0,0,(AU14*((LOG(AU14))/LOG(2))))","v":0}]
[12,1036,14,1041,13,1048,14,1056,null,null,0,1111,null,2111,{"$f":"COUNTIF($L$7:$L$500,N15)","v":9},{"$f":"O15/$Q$4","v":5.6962025316455694E-2},{"$f":"IF(P15=0,0,(P15*((LOG(P15))/LOG(2))))","v":-0.23547279570008298},null,null,{"$f":"N15","v":2111},{"$f":"COUNTIF(L7:L32,T15)","v":1},{"$f":"U15/(W4-U20)","v":3.8461538461538464E-2},{"$f":"IF(V15=0,0,(V15*((LOG(V15))/LOG(2))))","v":-0.18078614300542661},null,{"$f":"N15","v":2111},{"$f":"COUNTIF(L33:L59,Y15)","v":2},{"$f":"Z15/(AB4-Z20)","v":7.407407407407407E-2},{"$f":"IF(AA15=0,0,(AA15*((LOG(AA15))/LOG(2))))","v":-0.27813981497507173},null,{"$f":"N15","v":2111},{"$f":"COUNTIF(L60:L85,AD15)","v":0},{"$f":"AE15/(AG4-AE20)","v":0},{"$f":"IF(AF15=0,0,(AF15*((LOG(AF15))/LOG(2))))","v":0},null,{"$f":"N15","v":2111},{"$f":"COUNTIF(L86:L111,AI15)","v":0},{"$f":"AJ15/(AL4-AJ20)","v":0},{"$f":"IF(AK15=0,0,(AK15*((LOG(AK15))/LOG(2))))","v":0},null,{"$f":"N15","v":2111},{"$f":"COUNTIF(L112:L138,AN15)","v":3},{"$f":"AO15/(AQ4-AO20)","v":0.1111111111111111},{"$f":"IF(AP15=0,0,(AP15*((LOG(AP15))/LOG(2))))","v":-0.3522138890491458},null,{"$f":"N15","v":2111},{"$f":"COUNTIF(L139:L164,AS15)","v":3},{"$f":"AT15/(AV4-AT20)","v":0.11538461538461539},{"$f":"IF(AU15=0,0,(AU15*((LOG(AU15))/LOG(2))))","v":-0.35947814047153104}]
[12,1196,14,1202,13,1207,14,1215,null,null,0,1111,null,2112,{"$f":"COUNTIF($L$7:$L$500,N16)","v":0},{"$f":"O16/$Q$4","v":0},{"$f":"IF(P16=0,0,(P16*((LOG(P16))/LOG(2))))","v":0},null,null,{"$f":"N16","v":2112},{"$f":"COUNTIF(L7:L32,T16)","v":0},{"$f":"U16/(W4-U20)","v":0},{"$f":"IF(V16=0,0,(V16*((LOG(V16))/LOG(2))))","v":0},null,{"$f":"N16","v":2112},{"$f":"COUNTIF(L33:L59,Y16)","v":0},{"$f":"Z16/(AB4-Z20)","v":0},{"$f":"IF(AA16=0,0,(AA16*((LOG(AA16))/LOG(2))))","v":0},null,{"$f":"N16","v":2112},{"$f":"COUNTIF(L60:L85,AD16)","v":0},{"$f":"AE16/(AG4-AE20)","v":0},{"$f":"IF(AF16=0,0,(AF16*((LOG(AF16))/LOG(2))))","v":0},null,{"$f":"N16","v":2112},{"$f":"COUNTIF(L86:L111,AI16)","v":0},{"$f":"AJ16/(AL4-AJ20)","v":0},{"$f":"IF(AK16=0,0,(AK16*((LOG(AK16))/LOG(2))))","v":0},null,{"$f":"N16","v":2112},{"$f":"COUNTIF(L112:L138,AN16)","v":0},{"$f":"AO16/(AQ4-AO20)","v":0},{"$f":"IF(AP16=0,0,(AP16*((LOG(AP16))/LOG(2))))","v":0},null,{"$f":"N16","v":2112},{"$f":"COUNTIF(L139:L164,AS16)","v":0},{"$f":"AT16/(AV4-AT20)","v":0},{"$f":"IF(AU16=0,0,(AU16*((LOG(AU16))/LOG(2))))","v":0}]
[21,1367,21,1372,22,1378,23,1384,null,null,0,2222,null,2121,{"$f":"COUNTIF($L$7:$L$500,N17)","v":0},{"$f":"O17/$Q$4","v":0},{"$f":"IF(P17=0,0,(P17*((LOG(P17))/LOG(2))))","v":0},null,null,{"$f":"N17","v":2121},{"$f":"COUNTIF(L7:L32,T17)","v":0},{"$f":"U17/(W4-U20)","v":0},{"$f":"IF(V17=0,0,(V17*((LOG(V17))/LOG(2))))","v":0},null,{"$f":"N17","v":2121},{"$f":"COUNTIF(L33:L59,Y17)","v":0},{"$f":"Z17/(AB4-Z20)","v":0},{"$f":"IF(AA17=0,0,(AA17*((LOG(AA17))/LOG(2))))","v":0},null,{"$f":"N17","v":2121},{"$f":"COUNTIF(L60:L85,AD17)","v":0},{"$f":"AE17/(AG4-AE20)","v":0},{"$f":"IF(AF17=0,0,(AF17*((LOG(AF17))/LOG(2))))","v":0},null,{"$f":"N17","v":2121},{"$f":"COUNTIF(L86:L111,AI17)","v":0},{"$f":"AJ17/(AL4-AJ20)","v":0},{"$f":"IF(AK17=0,0,(AK17*((LOG(AK17))/LOG(2))))","v":0},null,{"$f":"N17","v":2121},{"$f":"COUNTIF(L112:L138,AN17)","v":0},{"$f":"AO17/(AQ4-AO20)","v":0},{"$f":"IF(AP17=0,0,(AP17*((LOG(AP17))/LOG(2))))","v":0},null,{"$f":"N17","v":2121},{"$f":"COUNTIF(L139:L164,AS17)","v":0},{"$f":"AT17/(AV4-AT20)","v":0},{"$f":"IF(AU17=0,0,(AU17*((LOG(AU17))/LOG(2))))","v":0}]
[12,1498,14,1505,13,1513,14,1521,null,null,0,1111,null,2122,{"$f":"COUNTIF($L$7:$L$500,N18)","v":0},{"$f":"O18/$Q$4","v":0},{"$f":"IF(P18=0,0,(P18*((LOG(P18))/LOG(2))))","v":0},null,null,{"$f":"N18","v":2122},{"$f":"COUNTIF(L7:L32,T18)","v":0},{"$f":"U18/(W4-U20)","v":0},{"$f":"IF(V18=0,0,(V18*((LOG(V18))/LOG(2))))","v":0},null,{"$f":"N18","v":2122},{"$f":"COUNTIF(L33:L59,Y18)","v":0},{"$f":"Z18/(AB4-Z20)","v":0},{"$f":"IF(AA18=0,0,(AA18*((LOG(AA18))/LOG(2))))","v":0},null,{"$f":"N18","v":2122},{"$f":"COUNTIF(L60:L85,AD18)","v":0},{"$f":"AE18/(AG4-AE20)","v":0},{"$f":"IF(AF18=0,0,(AF18*((LOG(AF18))/LOG(2))))","v":0},null,{"$f":"N18","v":2122},{"$f":"COUNTIF(L86:L111,AI18)","v":0},{"$f":"AJ18/(AL4-AJ20)","v":0},{"$f":"IF(AK18=0,0,(AK18*((LOG(AK18))/LOG(2))))","v":0},null,{"$f":"N18","v":2122},{"$f":"COUNTIF(L112:L138,AN18)","v":0},{"$f":"AO18/(AQ4-AO20)","v":0},{"$f":"IF(AP18=0,0,(AP18*((LOG(AP18))/LOG(2))))","v":0},null,{"$f":"N18","v":2122},{"$f":"COUNTIF(L139:L164,AS18)","v":0},{"$f":"AT18/(AV4-AT20)","v":0},{"$f":"IF(AU18=0,0,(AU18*((LOG(AU18))/LOG(2))))","v":0}]
[21,1654,21,1661,22,1669,14,1683,null,null,0,2221,null,2211,{"$f":"COUNTIF($L$7:$L$500,N19)","v":3},{"$f":"O19/$Q$4","v":1.8987341772151899E-2},{"$f":"IF(P19=0,0,(P19*((LOG(P19))/LOG(2))))","v":-0.10858515659726482},null,null,{"$f":"N19","v":2211},{"$f":"COUNTIF(L7:L32,T19)","v":0},{"$f":"U19/(W4-U20)","v":0},{"$f":"IF(V19=0,0,(V19*((LOG(V19))/LOG(2))))","v":0},null,{"$f":"N19","v":2211},{"$f":"COUNTIF(L33:L59,Y19)","v":0},{"$f":"Z19/(AB4-Z20)","v":0},{"$f":"IF(AA19=0,0,(AA19*((LOG(AA19))/LOG(2))))","v":0},null,{"$f":"N19","v":2211},{"$f":"COUNTIF(L60:L85,AD19)","v":0},{"$f":"AE19/(AG4-AE20)","v":0},{"$f":"IF(AF19=0,0,(AF19*((LOG(AF19))/LOG(2))))","v":0},null,{"$f":"N19","v":2211},{"$f":"COUNTIF(L86:L111,AI19)","v":2},{"$f":"AJ19/(AL4-AJ20)","v":7.6923076923076927E-2},{"$f":"IF(AK19=0,0,(AK19*((LOG(AK19))/LOG(2))))","v":-0.28464920908777636},null,{"$f":"N19","v":2211},{"$f":"COUNTIF(L112:L138,AN19)","v":1},{"$f":"AO19/(AQ4-AO20)","v":3.7037037037037035E-2},{"$f":"IF(AP19=0,0,(AP19*((LOG(AP19))/LOG(2))))","v":-0.1761069445245729},null,{"$f":"N19","v":2211},{"$f":"COUNTIF(L139:L164,AS19)","v":0},{"$f":"AT19/(AV4-AT20)","v":0},{"$f":"IF(AU19=0,0,(AU19*((LOG(AU19))/LOG(2))))","v":0}]
[12,1801,14,1807,13,1813,14,1821,null,null,0,1111,null,2212,{"$f":"COUNTIF($L$7:$L$500,N20)","v":0},{"$f":"O20/$Q$4","v":0},{"$f":"IF(P20=0,0,(P20*((LOG(P20))/LOG(2))))","v":0},null,null,{"$f":"N20","v":2212},{"$f":"COUNTIF(L7:L32,T20)","v":0},null,null,null,{"$f":"N20","v":2212},{"$f":"COUNTIF(L33:L59,Y20)","v":0},null,null,null,{"$f":"N20","v":2212},{"$f":"COUNTIF(L60:L85,AD20)","v":0},null,null,null,{"$f":"N20","v":2212},{"$f":"COUNTIF(L86:L111,AI20)","v":0},null,null,null,{"$f":"N20","v":2212},{"$f":"COUNTIF(L112:L138,AN20)","v":0},null,null,null,{"$f":"N20","v":2212},{"$f":"COUNTIF(L139:L164,AS20)","v":0}]
[12,1936,14,1944,13,1952,14,1960,null,null,0,1111,null,2221,{"$f":"COUNTIF($L$7:$L$500,N21)","v":1},{"$f":"O21/$Q$4","v":6.3291139240506328E-3},{"$f":"IF(P21=0,0,(P21*((LOG(P21))/LOG(2))))","v":-4.6226460431500652E-2},null,null,{"$f":"N21","v":2221},{"$f":"COUNTIF(L7:L32,T21)","v":1},{"$f":"U21/(W4-U20)","v":3.8461538461538464E-2},{"$f":"IF(V21=0,0,(V21*((LOG(V21))/LOG(2))))","v":-0.18078614300542661},null,{"$f":"N21","v":2221},{"$f":"COUNTIF(L33:L59,Y21)","v":0},{"$f":"Z21/(AB4-Z20)","v":0},{"$f":"IF(AA21=0,0,(AA21*((LOG(AA21))/LOG(2))))","v":0},null,{"$f":"N21","v":2221},{"$f":"COUNTIF(L60:L85,AD21)","v":0},{"$f":"AE21/(AG4-AE20)","v":0},{"$f":"IF(AF21=0,0,(AF21*((LOG(AF21))/LOG(2))))","v":0},null,{"$f":"N21","v":2221},{"$f":"COUNTIF(L86:L111,AI21)","v":0},{"$f":"AJ21/(AL4-AJ20)","v":0},{"$f":"IF(AK21=0,0,(AK21*((LOG(AK21))/LOG(2))))","v":0},null,{"$f":"N21","v":2221},{"$f":"COUNTIF(L112:L138,AN21)","v":0},{"$f":"AO21/(AQ4-AO20)","v":0},{"$f":"IF(AP21=0,0,(AP21*((LOG(AP21))/LOG(2))))","v":0},null,{"$f":"N21","v":2221},{"$f":"COUNTIF(L139:L164,AS21)","v":0},{"$f":"AT21/(AV4-AT20)","v":0},{"$f":"IF(AU21=0,0,(AU21*((LOG(AU21))/LOG(2))))","v":0}]
[12,2069,23,2082,24,2088,14,2107,null,null,0,1221,null,2222,{"$f":"COUNTIF($L$7:$L$500,N22)","v":29},{"$f":"O22/$Q$4","v":0.18354430379746836},{"$f":"IF(P22=0,0,(P22*((LOG(P22))/LOG(2))))","v":-0.4489126129014962},null,null,{"$f":"N22","v":2222},{"$f":"COUNTIF(L7:L32,T22)","v":2},{"$f":"U22/(W4-U20)","v":7.6923076923076927E-2},{"$f":"IF(V22=0,0,(V22*((LOG(V22))/LOG(2))))","v":-0.28464920908777636},null,{"$f":"N22","v":2222},{"$f":"COUNTIF(L33:L59,Y22)","v":3},{"$f":"Z22/(AB4-Z20)","v":0.1111111111111111},{"$f":"IF(AA22=0,0,(AA22*((LOG(AA22))/LOG(2))))","v":-0.3522138890491458},null,{"$f":"N22","v":2222},{"$f":"COUNTIF(L60:L85,AD22)","v":3},{"$f":"AE22/(AG4-AE20)","v":0.11538461538461539},{"$f":"IF(AF22=0,0,(AF22*((LOG(AF22))/LOG(2))))","v":-0.35947814047153104},null,{"$f":"N22","v":2222},{"$f":"COUNTIF(L86:L111,AI22)","v":11},{"$f":"AJ22/(AL4-AJ20)","v":0.42307692307692307},{"$f":"IF(AK22=0,0,(AK22*((LOG(AK22))/LOG(2))))","v":-0.52504188825160547},null,{"$f":"N22","v":2222},{"$f":"COUNTIF(L112:L138,AN22)","v":8},{"$f":"AO22/(AQ4-AO20)","v":0.29629629629629628},{"$f":"IF(AP22=0,0,(AP22*((LOG(AP22))/LOG(2))))","v":-0.51996666730769436},null,{"$f":"N22","v":2222},{"$f":"COUNTIF(L139:L164,AS22)","v":2},{"$f":"AT22/(AV4-AT20)","v":7.6923076923076927E-2},{"$f":"IF(AU22=0,0,(AU22*((LOG(AU22))/LOG(2))))","v":-0.28464920908777636}]
[21,2257,21,2263,22,2268,23,2274,null,null,0,2222,null,null,null,{"$f":"SUM(P7:P22)","v":0.99999999999999989},{"$f":"-SUM(Q7:Q22)","v":1.6675708300451766},null,null,null,null,{"$f":"SUM(V7:V22)","v":1},{"$f":"-SUM(W7:W22)","v":1.0758756458967089},null,null,null,{"$f":"SUM(AA7:AA22)","v":0.99999999999999978},{"$f":"-SUM(AB7:AB22)","v":1.5154241592897058},null,null,null,{"$f":"SUM(AF7:AF22)","v":1},{"$f":"-SUM(AG7:AG22)","v":1.1929993566060646},null,null,null,{"$f":"SUM(AK7:AK22)","v":1},{"$f":"-SUM(AL7:AL22)","v":1.5053128791540096},null,null,null,{"$f":"SUM(AP7:AP22)","v":1},{"$f":"-SUM(AQ7:AQ22)","v":2.1043866573732015},null,null,null,{"$f":"SUM(AU7:AU22)","v":1},{"$f":"-SUM(AV7:AV22)","v":0.89299535735196001}]
[12,2378,14,2383,13,2387,14,2394,null,null,0,1111,null,null,null,"U=",{"$f":"Q23/(LOG(Q4)/LOG(2))","v":0.22831611292019866},null,null,null,null,"U1=",{"$f":"W23/(LOG(W4)/LOG(2))","v":0.22888829777870043},null,null,null,"U2=",{"$f":"AB23/(LOG(AB4)/LOG(2))","v":0.31870873045896242},null,null,null,"U3=",{"$f":"AG23/(LOG(AG4)/LOG(2))","v":0.25380590500964162},null,null,null,"U4=",{"$f":"AL23/(LOG(AL4)/LOG(2))","v":0.32024937440306622},null,null,null,"U5=",{"$f":"AQ23/(LOG(AQ4)/LOG(2))","v":0.44257338505184574},null,null,null,"U6=",{"$f":"AV23/(LOG(AV4)/LOG(2))","v":0.18998123811810477}]
[12,2521,14,2530,13,2537,14,2546,null,null,0,1111]
[12,2835,14,2843,13,2852,14,2861,null,null,0,1111]
[12,3085,14,3092,13,3100,14,3108,null,null,0,1111,null,"Total Target Seq"]
[21,3221,12,3242,13,3248,14,3255,null,null,0,2111,null,{"$f":"COUNTIF(L7:L164,G3)","v":0},null,26,27,26,26,27,26]
[12,3379,14,3385,13,3389,14,3394,null,null,0,1111,null,null,null,"% of reinforcement given in 6 equal intervals based on number of trials "]
[12,3499,14,3505,13,3510,14,3540,null,null,0,1111,null,null,null,"%_1","%_2","%_3","%_4","%_5","%_6"]
[12,3642,14,3651,13,3656,14,3662,null,null,0,1111,null,null,"target sequence",{"$f":"$G$3","v":2212},{"$f":"$G$3","v":2212},{"$f":"$G$3","v":2212},{"$f":"$G$3","v":2212},{"$f":"$G$3","v":2212},{"$f":"$G$3","v":2212}]
[12,3782,14,3787,13,3792,14,3797,null,null,0,1111,null,null,"total reinforcement",{"$f":"U20","v":0},{"$f":"Z20","v":0},{"$f":"AE20","v":0},{"$f":"AJ20","v":0},{"$f":"AO20","v":0},{"$f":"AT20","v":0}]
[12,3901,14,3907,13,3911,14,3916,null,null,0,1111,null,null,"% target"]
[12,4039,14,4043,13,4049,14,4053,null,null,0,1111,null,null,"CCRF"]
[12,4156,14,4163,13,4168,14,4172,null,null,0,1111,null,null,"% CCRf"]
[12,4346,14,4351,13,4356,14,4362,null,null,0,1111,null,null,"average response rate",{"$f":"H32/P28","v":146.03846153846155},{"$f":"(H59-H32)/Q28","v":147.2962962962963},{"$f":"(H85-H59)/R28","v":134.65384615384616},{"$f":"(H111-H85)/S28","v":134.65384615384616},{"$f":"(H138-H111)/T28","v":155.03703703703704},{"$f":"(H164-H138)/U28","v":193.11538461538461}]
[12,4467,14,4472,13,4477,14,4482,null,null,0,1111]
[21,4613,21,4618,22,4623,23,4631,null,null,0,2222]
[21,4734,21,4739,22,4751,23,4761,null,null,0,2222]
[12,4888,14,4893,13,4897,14,4902,null,null,0,1111]
[12,5007,14,5012,13,5018,14,5025,null,null,0,1111]
[12,5149,14,5153,13,5158,14,5167,null,null,0,1111]
[12,5280,14,5286,13,5291,14,5296,null,null,0,1111]
[12,5444,14,5454,13,5462,14,5470,null,null,0,1111]
[21,5624,12,5641,13,5649,14,5657,null,null,0,2111]
[12,5769,14,5779,13,5787,14,5796,null,null,0,1111]
[12,6009,23,6023,24,6028,23,6034,null,null,0,1222]
[12,6152,14,6158,13,6164,14,6173,null,null,0,1111]
[21,6341,12,6356,13,6361,14,6368,null,null,0,2111]
[12,6507,14,6512,13,6517,14,6522,null,null,0,1111]
[12,6649,14,6655,13,6660,14,6667,null,null,0,1111]
[12,6783,14,6788,13,6794,14,6798,null,null,0,1111]
[12,6962,14,6967,13,6971,14,6978,null,null,0,1111]
[12,7100,14,7105,13,7111,23,7143,null,null,0,1112]
[12,7242,23,7260,13,7277,14,7281,null,null,0,1211]
[12,7391,14,7397,13,7402,14,7408,null,null,0,1111]
[21,7524,21,7529,22,7535,23,7542,null,null,0,2222]
[12,7643,14,7648,13,7654,14,7660,null,null,0,1111]
[12,7759,14,7764,13,7769,14,7774,null,null,0,1111]
[12,7889,14,7893,13,7898,14,7904,null,null,0,1111]
[12,8003,14,8010,13,8015,14,8024,null,null,0,1111]
[12,8131,14,8136,13,8141,14,8150,null,null,0,1111]
[12,8261,14,8268,13,8272,14,8282,null,null,0,1111]
[12,8384,14,8389,13,8395,14,8400,null,null,0,1111]
[12,8503,14,8508,13,8512,14,8518,null,null,0,1111]
[12,8620,14,8625,13,8632,23,8647,null,null,0,1112]
[12,8756,14,8765,13,8785,14,8793,null,null,0,1111]
[12,8899,14,8906,13,8910,14,8918,null,null,0,1111]
[12,9023,14,9029,13,9034,14,9042,null,null,0,1111]
[12,9176,14,9184,13,9192,14,9199,null,null,0,1111]
[12,9310,14,9318,13,9323,14,9328,null,null,0,1111]
[21,9458,21,9483,22,9491,23,9500,null,null,0,2222]
[21,9610,21,9629,22,9634,23,9639,null,null,0,2222]
[12,9744,14,9749,13,9754,14,9758,null,null,0,1111]
[12,9873,14,9878,13,9884,14,9888,null,null,0,1111]
[12,10057,14,10065,13,10072,14,10079,null,null,0,1111]
[12,10188,14,10195,13,10199,14,10204,null,null,0,1111]
[12,10313,14,10317,13,10322,14,10327,null,null,0,1111]
[12,10434,23,10447,24,10452,23,10458,null,null,0,1222]
[12,10561,14,10567,24,10582,23,10588,null,null,0,1122]
[12,10702,14,10707,13,10712,14,10720,null,null,0,1111]
[12,10833,14,10840,13,10845,14,10853,null,null,0,1111]
[12,10980,14,10986,13,10991,14,10999,null,null,0,1111]
[21,11108,21,11118,22,11133,23,11145,null,null,0,2222]
[12,11248,14,11262,13,11268,14,11275,null,null,0,1111]
[21,11382,21,11388,11,11405,12,11410,null,null,0,2211]
[12,11510,14,11515,13,11521,14,11525,null,null,0,1111]
[12,11636,14,11641,13,11646,14,11651,null,null,0,1111]
[12,11764,14,11768,13,11773,14,11778,null,null,0,1111]
[21,11886,21,11892,22,11898,23,11907,null,null,0,2222]
[12,12006,14,12007,13,12013,14,12019,null,null,0,1111]
[12,12140,14,12145,13,12151,14,12156,null,null,0,1111]
[21,12274,21,12279,22,12285,23,12295,null,null,0,2222]
[21,12405,21,12411,22,12417,23,12425,null,null,0,2222]
[21,12538,21,12544,22,12554,23,12562,null,null,0,2222]
[12,12674,14,12679,13,12685,14,12690,null,null,0,1111]
[21,12801,21,12807,22,12814,23,12822,null,null,0,2222]
[12,12949,14,12955,13,12960,14,12969,null,null,0,1111]
[12,13085,14,13089,13,13094,14,13103,null,null,0,1111]
[21,13212,21,13218,22,13224,23,13232,null,null,0,2222]
[21,13344,21,13348,22,13353,23,13358,null,null,0,2222]
[21,13472,21,13477,22,13482,23,13487,null,null,0,2222]
[21,13598,21,13604,22,13609,23,13616,null,null,0,2222]
[21,13741,21,13749,22,13757,23,13769,null,null,0,2222]
[12,13883,14,13888,13,13893,14,13901,null,null,0,1111]
[12,14022,23,14039,24,14050,23,14061,null,null,0,1222]
[21,14173,21,14177,22,14182,23,14189,null,null,0,2222]
[12,14316,14,14323,13,14328,14,14338,null,null,0,1111]
[12,14452,14,14457,13,14462,14,14467,null,null,0,1111]
[21,14614,21,14622,11,14641,12,14649,null,null,0,2211]
[12,14758,14,14763,13,14768,14,14776,null,null,0,1111]
[12,14886,14,14891,13,14903,14,14908,null,null,0,1111]
[21,15041,12,15054,13,15060,14,15065,null,null,0,2111]
[12,15179,14,15184,24,15197,23,15211,null,null,0,1122]
[12,15320,14,15326,13,15330,14,15337,null,null,0,1111]
[21,15446,21,15451,22,15457,23,15462,null,null,0,2222]
[12,15639,14,15646,13,15650,14,15655,null,null,0,1111]
[12,15766,14,15771,13,15775,14,15780,null,null,0,1111]
[21,15877,12,15890,13,15896,14,15900,null,null,0,2111]
[12,16009,23,16023,24,16031,23,16037,null,null,0,1222]
[21,16170,21,16175,22,16183,23,16189,null,null,0,2222]
[12,16317,14,16323,13,16328,14,16332,null,null,0,1111]
[21,16546,21,16555,22,16569,23,16582,null,null,0,2222]
[21,16711,21,16717,22,16723,23,16736,null,null,0,2222]
[21,16877,21,16884,22,16920,23,16928,null,null,0,2222]
[12,17051,23,17063,24,17068,23,17073,null,null,0,1222]
[12,17270,14,17275,13,17280,14,17286,null,null,0,1111]
[21,17430,21,17435,22,17444,23,17455,null,null,0,2222]
[12,17564,14,17569,13,17577,14,17585,null,null,0,1111]
[21,17722,21,17731,22,17749,23,17757,null,null,0,2222]
[21,17882,12,17895,13,17900,14,17905,null,null,0,2111]
[12,18022,14,18038,13,18046,14,18050,null,null,0,1111]
[12,18167,14,18171,13,18175,14,18180,null,null,0,1111]
[12,18348,14,18354,13,18359,14,18367,null,null,0,1111]
[12,18472,23,18488,24,18493,23,18499,null,null,0,1222]
[21,18632,21,18636,11,18651,12,18656,null,null,0,2211]
[12,18760,14,18765,13,18769,14,18773,null,null,0,1111]
[21,18947,21,18952,22,18957,23,18962,null,null,0,2222]
[12,19076,14,19081,13,19086,14,19090,null,null,0,1111]
[12,19272,14,19277,13,19282,14,19288,null,null,0,1111]
[12,19406,14,19431,13,19436,14,19445,null,null,0,1111]
[12,19720,14,19725,13,19729,14,19734,null,null,0,1111]
[12,19871,14,19876,13,19881,14,19887,null,null,0,1111]
[12,20025,14,20030,13,20038,14,20042,null,null,0,1111]
[12,20323,14,20329,13,20334,14,20338,null,null,0,1111]
[12,20489,14,20493,13,20499,14,20504,null,null,0,1111]
[12,20711,14,20715,13,20719,14,20724,null,null,0,1111]
[12,20907,14,20913,13,20921,14,20930,null,null,0,1111]
[12,21173,14,21177,13,21182,14,21188,null,null,0,1111]
[21,21363,12,21375,13,21380,14,21386,null,null,0,2111]
[21,21524,12,21536,13,21541,14,21545,null,null,0,2111]
[21,21668,12,21680,13,21685,14,21690,null,null,0,2111]
[12,21821,14,21826,13,21831,14,21835,null,null,0,1111]
[12,21980,14,21985,13,21990,14,21996,null,null,0,1111]
[12,22275,14,22280,13,22285,14,22290,null,null,0,1111]
[21,22535,21,22567,22,22578,23,22587,null,null,0,2222]
[12,22698,14,22706,13,22711,14,22716,null,null,0,1111]
[12,22844,14,22849,13,22854,14,22859,null,null,0,1111]
[12,23065,14,23071,13,23075,14,23080,null,null,0,1111]
[21,23257,21,23266,22,23274,23,23288,null,null,0,2222]
[12,23443,14,23448,13,23453,14,23458,null,null,0,1111]
[12,23648,14,23655,13,23662,14,23669,null,null,0,1111]
[12,23826,14,23832,13,23837,14,23842,null,null,0,1111]
[12,23969,14,23974,13,23978,14,23983,null,null,null,1111]

{"sheet":"!MB13900.091","index":8,"n_rows":162,"n_cols":48,"rows_kept":162,"cut":false,"hidden":false,"merged":[[4,39,4,42],[5,39,5,40],[4,44,4,47],[5,44,5,45],[4,24,4,27],[5,24,5,25],[4,29,4,32],[5,29,5,30],[4,34,4,37],[5,34,5,35],[1,1,1,2],[5,13,5,14],[26,13,26,14],[27,13,27,14],[4,19,4,22],[5,19,5,20]]}
["Report for:!MB13900.091"]
["Date:","<date>"]
["Hen:","<hen>",null,null,null,"Correct Sequence",{"$f":"Start!J2","v":2212},null,null,null,null,null,null,null,null,"Total Sequences in Data",{"$f":"4994-COUNTBLANK(L7:L5000)","v":156},null,null,null,null,"Total Sequences in Block Data",{"$f":"COUNTA(L7:L32)","v":26},null,null,null,"Total Sequences in Block Data",{"$f":"COUNTA(L33:L58)","v":26},null,null,null,"Total Sequences in Block Data",{"$f":"COUNTA(L59:L84)","v":26},null,null,null,"Total Sequences in Block Data",{"$f":"COUNTA(L85:L110)","v":26},null,null,null,"Total Sequences in Block Data",{"$f":"COUNTA(L111:L136)","v":26},null,null,null,"Total Sequences in Block Data",{"$f":"COUNTA(L137:L162)","v":26}]
[null,null,null,null,null,null,null,null,null,null,null,null,null,null,null,"Total Sequences in Summary",{"$f":"SUM(O7:O22)","v":156},null,null,null,null,"Total Sequences in Block Summary",{"$f":"SUM(U7:U22)","v":26},null,null,null,"Total Sequences in Block Summary",{"$f":"SUM(Z7:Z22)","v":26},null,null,null,"Total Sequences in Block Summary",{"$f":"SUM(AE7:AE22)","v":26},null,null,null,"Total Sequences in Block Summary",{"$f":"SUM(AJ7:AJ22)","v":26},null,null,null,"Total Sequences in Block Summary",{"$f":"SUM(AO7:AO22)","v":26},null,null,null,"Total Sequences in Block Summary",{"$f":"SUM(AT7:AT22)","v":26}]
[null,null,null,null,null,null,null,null,null,null,null,null,null,null,null,null,null,null,null,"Block 1",null,null,null,null,"Block 2",null,null,null,null,"Block 3",null,null,null,null,"Block 4",null,null,null,null,"Block 5",null,null,null,null,"Block 6"]
["Sequence\nComponent\n1","Time\n1","Sequence\nComponent\n2","Time\n2","Sequence\nComponent\n3","Time\n3","Sequence\nComponent\n4","Time\n4","Sequence\nComponent\n5","Time\n5","Correct?\n0=No 1=Yes","Sequence",null,"Frequency",null,"Relative Frequency","Variability",null,null,"Frequency",null,"Relative Frequency","Variability",null,"Frequency",null,"Relative Frequency","Variability",null,"Frequency",null,"Relative Frequency","Variability",null,"Frequency",null,"Relative Frequency","Variability",null,"Frequency",null,"Relative Frequency","Variability",null,"Frequency",null,"Relative Frequency","Variability"]
[12,20,14,29,13,37,14,45,null,null,0,1111,null,1111,{"$f":"COUNTIF($L$7:$L$500,N7)","v":104},{"$f":"O7/$Q$4","v":0.66666666666666663},{"$f":"IF(P7=0,0,(P7*((LOG(P7))/LOG(2))))","v":-0.38997500048077083},null,null,{"$f":"N7","v":1111},{"$f":"COUNTIF(L7:L32,T7)","v":20},{"$f":"U7/(W4-U20)","v":0.76923076923076927},{"$f":"IF(V7=0,0,(V7*((LOG(V7))/LOG(2))))","v":-0.29116278711825366},null,{"$f":"N7","v":1111},{"$f":"COUNTIF(L33:L58,Y7)","v":17},{"$f":"Z7/(AB4-Z20)","v":0.65384615384615385},{"$f":"IF(AA7=0,0,(AA7*((LOG(AA7))/LOG(2))))","v":-0.40079257335164603},null,{"$f":"N7","v":1111},{"$f":"COUNTIF(L59:L84,AD7)","v":20},{"$f":"AE7/(AG4-AE20)","v":0.76923076923076927},{"$f":"IF(AF7=0,0,(AF7*((LOG(AF7))/LOG(2))))","v":-0.29116278711825366},null,{"$f":"N7","v":1111},{"$f":"COUNTIF(L85:L110,AI7)","v":13},{"$f":"AJ7/(AL4-AJ20)","v":0.5},{"$f":"IF(AK7=0,0,(AK7*((LOG(AK7))/LOG(2))))","v":-0.5},null,{"$f":"N7","v":1111},{"$f":"COUNTIF(L111:L136,AN7)","v":17},{"$f":"AO7/(AQ4-AO20)","v":0.65384615384615385},{"$f":"IF(AP7=0,0,(AP7*((LOG(AP7))/LOG(2))))","v":-0.40079257335164603},null,{"$f":"N7","v":1111},{"$f":"COUNTIF(L137:L162,AS7)","v":17},{"$f":"AT7/(AV4-AT20)","v":0.65384615384615385},{"$f":"IF(AU7=0,0,(AU7*((LOG(AU7))/LOG(2))))","v":-0.40079257335164603}]
[12,149,14,160,13,183,14,190,null,null,0,1111,null,1112,{"$f":"COUNTIF($L$7:$L$500,N8)","v":0},{"$f":"O8/$Q$4","v":0},{"$f":"IF(P8=0,0,(P8*((LOG(P8))/LOG(2))))","v":0},null,null,{"$f":"N8","v":1112},{"$f":"COUNTIF(L7:L32,T8)","v":0},{"$f":"U8/(W4-U20)","v":0},{"$f":"IF(V8=0,0,(V8*((LOG(V8))/LOG(2))))","v":0},null,{"$f":"N8","v":1112},{"$f":"COUNTIF(L33:L58,Y8)","v":0},{"$f":"Z8/(AB4-Z20)","v":0},{"$f":"IF(AA8=0,0,(AA8*((LOG(AA8))/LOG(2))))","v":0},null,{"$f":"N8","v":1112},{"$f":"COUNTIF(L59:L84,AD8)","v":0},{"$f":"AE8/(AG4-AE20)","v":0},{"$f":"IF(AF8=0,0,(AF8*((LOG(AF8))/LOG(2))))","v":0},null,{"$f":"N8","v":1112},{"$f":"COUNTIF(L85:L110,AI8)","v":0},{"$f":"AJ8/(AL4-AJ20)","v":0},{"$f":"IF(AK8=0,0,(AK8*((LOG(AK8))/LOG(2))))","v":0},null,{"$f":"N8","v":1112},{"$f":"COUNTIF(L111:L136,AN8)","v":0},{"$f":"AO8/(AQ4-AO20)","v":0},{"$f":"IF(AP8=0,0,(AP8*((LOG(AP8))/LOG(2))))","v":0},null,{"$f":"N8","v":1112},{"$f":"COUNTIF(L137:L162,AS8)","v":0},{"$f":"AT8/(AV4-AT20)","v":0},{"$f":"IF(AU8=0,0,(AU8*((LOG(AU8))/LOG(2))))","v":0}]
[12,302,14,306,13,312,14,321,null,null,0,1111,null,1121,{"$f":"COUNTIF($L$7:$L$500,N9)","v":0},{"$f":"O9/$Q$4","v":0},{"$f":"IF(P9=0,0,(P9*((LOG(P9))/LOG(2))))","v":0},null,null,{"$f":"N9","v":1121},{"$f":"COUNTIF(L7:L32,T9)","v":0},{"$f":"U9/(W4-U20)","v":0},{"$f":"IF(V9=0,0,(V9*((LOG(V9))/LOG(2))))","v":0},null,{"$f":"N9","v":1121},{"$f":"COUNTIF(L33:L58,Y9)","v":0},{"$f":"Z9/(AB4-Z20)","v":0},{"$f":"IF(AA9=0,0,(AA9*((LOG(AA9))/LOG(2))))","v":0},null,{"$f":"N9","v":1121},{"$f":"COUNTIF(L59:L84,AD9)","v":0},{"$f":"AE9/(AG4-AE20)","v":0},{"$f":"IF(AF9=0,0,(AF9*((LOG(AF9))/LOG(2))))","v":0},null,{"$f":"N9","v":1121},{"$f":"COUNTIF(L85:L110,AI9)","v":0},{"$f":"AJ9/(AL4-AJ20)","v":0},{"$f":"IF(AK9=0,0,(AK9*((LOG(AK9))/LOG(2))))","v":0},null,{"$f":"N9","v":1121},{"$f":"COUNTIF(L111:L136,AN9)","v":0},{"$f":"AO9/(AQ4-AO20)","v":0},{"$f":"IF(AP9=0,0,(AP9*((LOG(AP9))/LOG(2))))","v":0},null,{"$f":"N9","v":1121},{"$f":"COUNTIF(L137:L162,AS9)","v":0},{"$f":"AT9/(AV4-AT20)","v":0},{"$f":"IF(AU9=0,0,(AU9*((LOG(AU9))/LOG(2))))","v":0}]
[12,440,14,446,13,450,14,459,null,null,0,1111,null,1122,{"$f":"COUNTIF($L$7:$L$500,N10)","v":1},{"$f":"O10/$Q$4","v":6.41025641025641E-3},{"$f":"IF(P10=0,0,(P10*((LOG(P10))/LOG(2))))","v":-4.6701296274758004E-2},null,null,{"$f":"N10","v":1122},{"$f":"COUNTIF(L7:L32,T10)","v":0},{"$f":"U10/(W4-U20)","v":0},{"$f":"IF(V10=0,0,(V10*((LOG(V10))/LOG(2))))","v":0},null,{"$f":"N10","v":1122},{"$f":"COUNTIF(L33:L58,Y10)","v":0},{"$f":"Z10/(AB4-Z20)","v":0},{"$f":"IF(AA10=0,0,(AA10*((LOG(AA10))/LOG(2))))","v":0},null,{"$f":"N10","v":1122},{"$f":"COUNTIF(L59:L84,AD10)","v":0},{"$f":"AE10/(AG4-AE20)","v":0},{"$f":"IF(AF10=0,0,(AF10*((LOG(AF10))/LOG(2))))","v":0},null,{"$f":"N10","v":1122},{"$f":"COUNTIF(L85:L110,AI10)","v":1},{"$f":"AJ10/(AL4-AJ20)","v":3.8461538461538464E-2},{"$f":"IF(AK10=0,0,(AK10*((LOG(AK10))/LOG(2))))","v":-0.18078614300542661},null,{"$f":"N10","v":1122},{"$f":"COUNTIF(L111:L136,AN10)","v":0},{"$f":"AO10/(AQ4-AO20)","v":0},{"$f":"IF(AP10=0,0,(AP10*((LOG(AP10))/LOG(2))))","v":0},null,{"$f":"N10","v":1122},{"$f":"COUNTIF(L137:L162,AS10)","v":0},{"$f":"AT10/(AV4-AT20)","v":0},{"$f":"IF(AU10=0,0,(AU10*((LOG(AU10))/LOG(2))))","v":0}]
[21,574,12,588,13,593,14,599,null,null,0,2111,null,1211,{"$f":"COUNTIF($L$7:$L$500,N11)","v":3},{"$f":"O11/$Q$4","v":1.9230769230769232E-2},{"$f":"IF(P11=0,0,(P11*((LOG(P11))/LOG(2))))","v":-0.10962384073348255},null,null,{"$f":"N11","v":1211},{"$f":"COUNTIF(L7:L32,T11)","v":0},{"$f":"U11/(W4-U20)","v":0},{"$f":"IF(V11=0,0,(V11*((LOG(V11))/LOG(2))))","v":0},null,{"$f":"N11","v":1211},{"$f":"COUNTIF(L33:L58,Y11)","v":1},{"$f":"Z11/(AB4-Z20)","v":3.8461538461538464E-2},{"$f":"IF(AA11=0,0,(AA11*((LOG(AA11))/LOG(2))))","v":-0.18078614300542661},null,{"$f":"N11","v":1211},{"$f":"COUNTIF(L59:L84,AD11)","v":0},{"$f":"AE11/(AG4-AE20)","v":0},{"$f":"IF(AF11=0,0,(AF11*((LOG(AF11))/LOG(2))))","v":0},null,{"$f":"N11","v":1211},{"$f":"COUNTIF(L85:L110,AI11)","v":1},{"$f":"AJ11/(AL4-AJ20)","v":3.8461538461538464E-2},{"$f":"IF(AK11=0,0,(AK11*((LOG(AK11))/LOG(2))))","v":-0.18078614300542661},null,{"$f":"N11","v":1211},{"$f":"COUNTIF(L111:L136,AN11)","v":1},{"$f":"AO11/(AQ4-AO20)","v":3.8461538461538464E-2},{"$f":"IF(AP11=0,0,(AP11*((LOG(AP11))/LOG(2))))","v":-0.18078614300542661},null,{"$f":"N11","v":1211},{"$f":"COUNTIF(L137:L162,AS11)","v":0},{"$f":"AT11/(AV4-AT20)","v":0},{"$f":"IF(AU11=0,0,(AU11*((LOG(AU11))/LOG(2))))","v":0}]
[12,700,14,705,13,710,14,716,null,null,0,1111,null,1212,{"$f":"COUNTIF($L$7:$L$500,N12)","v":0},{"$f":"O12/$Q$4","v":0},{"$f":"IF(P12=0,0,(P12*((LOG(P12))/LOG(2))))","v":0},null,null,{"$f":"N12","v":1212},{"$f":"COUNTIF(L7:L32,T12)","v":0},{"$f":"U12/(W4-U20)","v":0},{"$f":"IF(V12=0,0,(V12*((LOG(V12))/LOG(2))))","v":0},null,{"$f":"N12","v":1212},{"$f":"COUNTIF(L33:L58,Y12)","v":0},{"$f":"Z12/(AB4-Z20)","v":0},{"$f":"IF(AA12=0,0,(AA12*((LOG(AA12))/LOG(2))))","v":0},null,{"$f":"N12","v":1212},{"$f":"COUNTIF(L59:L84,AD12)","v":0},{"$f":"AE12/(AG4-AE20)","v":0},{"$f":"IF(AF12=0,0,(AF12*((LOG(AF12))/LOG(2))))","v":0},null,{"$f":"N12","v":1212},{"$f":"COUNTIF(L85:L110,AI12)","v":0},{"$f":"AJ12/(AL4-AJ20)","v":0},{"$f":"IF(AK12=0,0,(AK12*((LOG(AK12))/LOG(2))))","v":0},null,{"$f":"N12","v":1212},{"$f":"COUNTIF(L111:L136,AN12)","v":0},{"$f":"AO12/(AQ4-AO20)","v":0},{"$f":"IF(AP12=0,0,(AP12*((LOG(AP12))/LOG(2))))","v":0},null,{"$f":"N12","v":1212},{"$f":"COUNTIF(L137:L162,AS12)","v":0},{"$f":"AT12/(AV4-AT20)","v":0},{"$f":"IF(AU12=0,0,(AU12*((LOG(AU12))/LOG(2))))","v":0}]
[12,819,14,825,13,834,14,842,null,null,0,1111,null,1221,{"$f":"COUNTIF($L$7:$L$500,N13)","v":0},{"$f":"O13/$Q$4","v":0},{"$f":"IF(P13=0,0,(P13*((LOG(P13))/LOG(2))))","v":0},null,null,{"$f":"N13","v":1221},{"$f":"COUNTIF(L7:L32,T13)","v":0},{"$f":"U13/(W4-U20)","v":0},{"$f":"IF(V13=0,0,(V13*((LOG(V13))/LOG(2))))","v":0},null,{"$f":"N13","v":1221},{"$f":"COUNTIF(L33:L58,Y13)","v":0},{"$f":"Z13/(AB4-Z20)","v":0},{"$f":"IF(AA13=0,0,(AA13*((LOG(AA13))/LOG(2))))","v":0},null,{"$f":"N13","v":1221},{"$f":"COUNTIF(L59:L84,AD13)","v":0},{"$f":"AE13/(AG4-AE20)","v":0},{"$f":"IF(AF13=0,0,(AF13*((LOG(AF13))/LOG(2))))","v":0},null,{"$f":"N13","v":1221},{"$f":"COUNTIF(L85:L110,AI13)","v":0},{"$f":"AJ13/(AL4-AJ20)","v":0},{"$f":"IF(AK13=0,0,(AK13*((LOG(AK13))/LOG(2))))","v":0},null,{"$f":"N13","v":1221},{"$f":"COUNTIF(L111:L136,AN13)","v":0},{"$f":"AO13/(AQ4-AO20)","v":0},{"$f":"IF(AP13=0,0,(AP13*((LOG(AP13))/LOG(2))))","v":0},null,{"$f":"N13","v":1221},{"$f":"COUNTIF(L137:L162,AS13)","v":0},{"$f":"AT13/(AV4-AT20)","v":0},{"$f":"IF(AU13=0,0,(AU13*((LOG(AU13))/LOG(2))))","v":0}]
[12,944,14,950,13,958,14,965,null,null,0,1111,null,1222,{"$f":"COUNTIF($L$7:$L$500,N14)","v":7},{"$f":"O14/$Q$4","v":4.4871794871794872E-2},{"$f":"IF(P14=0,0,(P14*((LOG(P14))/LOG(2))))","v":-0.20093801972841352},null,null,{"$f":"N14","v":1222},{"$f":"COUNTIF(L7:L32,T14)","v":0},{"$f":"U14/(W4-U20)","v":0},{"$f":"IF(V14=0,0,(V14*((LOG(V14))/LOG(2))))","v":0},null,{"$f":"N14","v":1222},{"$f":"COUNTIF(L33:L58,Y14)","v":1},{"$f":"Z14/(AB4-Z20)","v":3.8461538461538464E-2},{"$f":"IF(AA14=0,0,(AA14*((LOG(AA14))/LOG(2))))","v":-0.18078614300542661},null,{"$f":"N14","v":1222},{"$f":"COUNTIF(L59:L84,AD14)","v":0},{"$f":"AE14/(AG4-AE20)","v":0},{"$f":"IF(AF14=0,0,(AF14*((LOG(AF14))/LOG(2))))","v":0},null,{"$f":"N14","v":1222},{"$f":"COUNTIF(L85:L110,AI14)","v":3},{"$f":"AJ14/(AL4-AJ20)","v":0.11538461538461539},{"$f":"IF(AK14=0,0,(AK14*((LOG(AK14))/LOG(2))))","v":-0.35947814047153104},null,{"$f":"N14","v":1222},{"$f":"COUNTIF(L111:L136,AN14)","v":1},{"$f":"AO14/(AQ4-AO20)","v":3.8461538461538464E-2},{"$f":"IF(AP14=0,0,(AP14*((LOG(AP14))/LOG(2))))","v":-0.18078614300542661},null,{"$f":"N14","v":1222},{"$f":"COUNTIF(L137:L162,AS14)","v":2},{"$f":"AT14/(AV4-AT20)","v":7.6923076923076927E-2},{"$f":"IF(AU14=0,0,(AU14*((LOG(AU14))/LOG(2))))","v":-0.28464920908777636}]
[12,1070,14,1076,13,1084,14,1092,null,null,0,1111,null,2111,{"$f":"COUNTIF($L$7:$L$500,N15)","v":15},{"$f":"O15/$Q$4","v":9.6153846153846159E-2},{"$f":"IF(P15=0,0,(P15*((LOG(P15))/LOG(2))))","v":-0.32485688685132019},null,null,{"$f":"N15","v":2111},{"$f":"COUNTIF(L7:L32,T15)","v":2},{"$f":"U15/(W4-U20)","v":7.6923076923076927E-2},{"$f":"IF(V15=0,0,(V15*((LOG(V15))/LOG(2))))","v":-0.28464920908777636},null,{"$f":"N15","v":2111},{"$f":"COUNTIF(L33:L58,Y15)","v":1},{"$f":"Z15/(AB4-Z20)","v":3.8461538461538464E-2},{"$f":"IF(AA15=0,0,(AA15*((LOG(AA15))/LOG(2))))","v":-0.18078614300542661},null,{"$f":"N15","v":2111},{"$f":"COUNTIF(L59:L84,AD15)","v":2},{"$f":"AE15/(AG4-AE20)","v":7.6923076923076927E-2},{"$f":"IF(AF15=0,0,(AF15*((LOG(AF15))/LOG(2))))","v":-0.28464920908777636},null,{"$f":"N15","v":2111},{"$f":"COUNTIF(L85:L110,AI15)","v":2},{"$f":"AJ15/(AL4-AJ20)","v":7.6923076923076927E-2},{"$f":"IF(AK15=0,0,(AK15*((LOG(AK15))/LOG(2))))","v":-0.28464920908777636},null,{"$f":"N15","v":2111},{"$f":"COUNTIF(L111:L136,AN15)","v":4},{"$f":"AO15/(AQ4-AO20)","v":0.15384615384615385},{"$f":"IF(AP15=0,0,(AP15*((LOG(AP15))/LOG(2))))","v":-0.4154522643293988},null,{"$f":"N15","v":2111},{"$f":"COUNTIF(L137:L162,AS15)","v":4},{"$f":"AT15/(AV4-AT20)","v":0.15384615384615385},{"$f":"IF(AU15=0,0,(AU15*((LOG(AU15))/LOG(2))))","v":-0.4154522643293988}]
[21,1206,21,1212,22,1221,23,1229,null,null,0,2222,null,2112,{"$f":"COUNTIF($L$7:$L$500,N16)","v":0},{"$f":"O16/$Q$4","v":0},{"$f":"IF(P16=0,0,(P16*((LOG(P16))/LOG(2))))","v":0},null,null,{"$f":"N16","v":2112},{"$f":"COUNTIF(L7:L32,T16)","v":0},{"$f":"U16/(W4-U20)","v":0},{"$f":"IF(V16=0,0,(V16*((LOG(V16))/LOG(2))))","v":0},null,{"$f":"N16","v":2112},{"$f":"COUNTIF(L33:L58,Y16)","v":0},{"$f":"Z16/(AB4-Z20)","v":0},{"$f":"IF(AA16=0,0,(AA16*((LOG(AA16))/LOG(2))))","v":0},null,{"$f":"N16","v":2112},{"$f":"COUNTIF(L59:L84,AD16)","v":0},{"$f":"AE16/(AG4-AE20)","v":0},{"$f":"IF(AF16=0,0,(AF16*((LOG(AF16))/LOG(2))))","v":0},null,{"$f":"N16","v":2112},{"$f":"COUNTIF(L85:L110,AI16)","v":0},{"$f":"AJ16/(AL4-AJ20)","v":0},{"$f":"IF(AK16=0,0,(AK16*((LOG(AK16))/LOG(2))))","v":0},null,{"$f":"N16","v":2112},{"$f":"COUNTIF(L111:L136,AN16)","v":0},{"$f":"AO16/(AQ4-AO20)","v":0},{"$f":"IF(AP16=0,0,(AP16*((LOG(AP16))/LOG(2))))","v":0},null,{"$f":"N16","v":2112},{"$f":"COUNTIF(L137:L162,AS16)","v":0},{"$f":"AT16/(AV4-AT20)","v":0},{"$f":"IF(AU16=0,0,(AU16*((LOG(AU16))/LOG(2))))","v":0}]
[12,1342,14,1347,13,1352,14,1359,null,null,0,1111,null,2121,{"$f":"COUNTIF($L$7:$L$500,N17)","v":0},{"$f":"O17/$Q$4","v":0},{"$f":"IF(P17=0,0,(P17*((LOG(P17))/LOG(2))))","v":0},null,null,{"$f":"N17","v":2121},{"$f":"COUNTIF(L7:L32,T17)","v":0},{"$f":"U17/(W4-U20)","v":0},{"$f":"IF(V17=0,0,(V17*((LOG(V17))/LOG(2))))","v":0},null,{"$f":"N17","v":2121},{"$f":"COUNTIF(L33:L58,Y17)","v":0},{"$f":"Z17/(AB4-Z20)","v":0},{"$f":"IF(AA17=0,0,(AA17*((LOG(AA17))/LOG(2))))","v":0},null,{"$f":"N17","v":2121},{"$f":"COUNTIF(L59:L84,AD17)","v":0},{"$f":"AE17/(AG4-AE20)","v":0},{"$f":"IF(AF17=0,0,(AF17*((LOG(AF17))/LOG(2))))","v":0},null,{"$f":"N17","v":2121},{"$f":"COUNTIF(L85:L110,AI17)","v":0},{"$f":"AJ17/(AL4-AJ20)","v":0},{"$f":"IF(AK17=0,0,(AK17*((LOG(AK17))/LOG(2))))","v":0},null,{"$f":"N17","v":2121},{"$f":"COUNTIF(L111:L136,AN17)","v":0},{"$f":"AO17/(AQ4-AO20)","v":0},{"$f":"IF(AP17=0,0,(AP17*((LOG(AP17))/LOG(2))))","v":0},null,{"$f":"N17","v":2121},{"$f":"COUNTIF(L137:L162,AS17)","v":0},{"$f":"AT17/(AV4-AT20)","v":0},{"$f":"IF(AU17=0,0,(AU17*((LOG(AU17))/LOG(2))))","v":0}]
[21,1473,21,1479,22,1484,23,1491,null,null,0,2222,null,2122,{"$f":"COUNTIF($L$7:$L$500,N18)","v":1},{"$f":"O18/$Q$4","v":6.41025641025641E-3},{"$f":"IF(P18=0,0,(P18*((LOG(P18))/LOG(2))))","v":-4.6701296274758004E-2},null,null,{"$f":"N18","v":2122},{"$f":"COUNTIF(L7:L32,T18)","v":0},{"$f":"U18/(W4-U20)","v":0},{"$f":"IF(V18=0,0,(V18*((LOG(V18))/LOG(2))))","v":0},null,{"$f":"N18","v":2122},{"$f":"COUNTIF(L33:L58,Y18)","v":0},{"$f":"Z18/(AB4-Z20)","v":0},{"$f":"IF(AA18=0,0,(AA18*((LOG(AA18))/LOG(2))))","v":0},null,{"$f":"N18","v":2122},{"$f":"COUNTIF(L59:L84,AD18)","v":1},{"$f":"AE18/(AG4-AE20)","v":3.8461538461538464E-2},{"$f":"IF(AF18=0,0,(AF18*((LOG(AF18))/LOG(2))))","v":-0.18078614300542661},null,{"$f":"N18","v":2122},{"$f":"COUNTIF(L85:L110,AI18)","v":0},{"$f":"AJ18/(AL4-AJ20)","v":0},{"$f":"IF(AK18=0,0,(AK18*((LOG(AK18))/LOG(2))))","v":0},null,{"$f":"N18","v":2122},{"$f":"COUNTIF(L111:L136,AN18)","v":0},{"$f":"AO18/(AQ4-AO20)","v":0},{"$f":"IF(AP18=0,0,(AP18*((LOG(AP18))/LOG(2))))","v":0},null,{"$f":"N18","v":2122},{"$f":"COUNTIF(L137:L162,AS18)","v":0},{"$f":"AT18/(AV4-AT20)","v":0},{"$f":"IF(AU18=0,0,(AU18*((LOG(AU18))/LOG(2))))","v":0}]
[12,1591,14,1597,13,1602,14,1609,null,null,0,1111,null,2211,{"$f":"COUNTIF($L$7:$L$500,N19)","v":3},{"$f":"O19/$Q$4","v":1.9230769230769232E-2},{"$f":"IF(P19=0,0,(P19*((LOG(P19))/LOG(2))))","v":-0.10962384073348255},null,null,{"$f":"N19","v":2211},{"$f":"COUNTIF(L7:L32,T19)","v":1},{"$f":"U19/(W4-U20)","v":3.8461538461538464E-2},{"$f":"IF(V19=0,0,(V19*((LOG(V19))/LOG(2))))","v":-0.18078614300542661},null,{"$f":"N19","v":2211},{"$f":"COUNTIF(L33:L58,Y19)","v":1},{"$f":"Z19/(AB4-Z20)","v":3.8461538461538464E-2},{"$f":"IF(AA19=0,0,(AA19*((LOG(AA19))/LOG(2))))","v":-0.18078614300542661},null,{"$f":"N19","v":2211},{"$f":"COUNTIF(L59:L84,AD19)","v":1},{"$f":"AE19/(AG4-AE20)","v":3.8461538461538464E-2},{"$f":"IF(AF19=0,0,(AF19*((LOG(AF19))/LOG(2))))","v":-0.18078614300542661},null,{"$f":"N19","v":2211},{"$f":"COUNTIF(L85:L110,AI19)","v":0},{"$f":"AJ19/(AL4-AJ20)","v":0},{"$f":"IF(AK19=0,0,(AK19*((LOG(AK19))/LOG(2))))","v":0},null,{"$f":"N19","v":2211},{"$f":"COUNTIF(L111:L136,AN19)","v":0},{"$f":"AO19/(AQ4-AO20)","v":0},{"$f":"IF(AP19=0,0,(AP19*((LOG(AP19))/LOG(2))))","v":0},null,{"$f":"N19","v":2211},{"$f":"COUNTIF(L137:L162,AS19)","v":0},{"$f":"AT19/(AV4-AT20)","v":0},{"$f":"IF(AU19=0,0,(AU19*((LOG(AU19))/LOG(2))))","v":0}]
[12,1701,14,1706,13,1712,14,1720,null,null,0,1111,null,2212,{"$f":"COUNTIF($L$7:$L$500,N20)","v":0},{"$f":"O20/$Q$4","v":0},{"$f":"IF(P20=0,0,(P20*((LOG(P20))/LOG(2))))","v":0},null,null,{"$f":"N20","v":2212},{"$f":"COUNTIF(L7:L32,T20)","v":0},null,null,null,{"$f":"N20","v":2212},{"$f":"COUNTIF(L33:L58,Y20)","v":0},null,null,null,{"$f":"N20","v":2212},{"$f":"COUNTIF(L59:L84,AD20)","v":0},null,null,null,{"$f":"N20","v":2212},{"$f":"COUNTIF(L85:L110,AI20)","v":0},null,null,null,{"$f":"N20","v":2212},{"$f":"COUNTIF(L111:L136,AN20)","v":0},null,null,null,{"$f":"N20","v":2212},{"$f":"COUNTIF(L137:L162,AS20)","v":0}]
[12,1830,14,1834,13,1839,14,1844,null,null,0,1111,null,2221,{"$f":"COUNTIF($L$7:$L$500,N21)","v":3},{"$f":"O21/$Q$4","v":1.9230769230769232E-2},{"$f":"IF(P21=0,0,(P21*((LOG(P21))/LOG(2))))","v":-0.10962384073348255},null,null,{"$f":"N21","v":2221},{"$f":"COUNTIF(L7:L32,T21)","v":0},{"$f":"U21/(W4-U20)","v":0},{"$f":"IF(V21=0,0,(V21*((LOG(V21))/LOG(2))))","v":0},null,{"$f":"N21","v":2221},{"$f":"COUNTIF(L33:L58,Y21)","v":1},{"$f":"Z21/(AB4-Z20)","v":3.8461538461538464E-2},{"$f":"IF(AA21=0,0,(AA21*((LOG(AA21))/LOG(2))))","v":-0.18078614300542661},null,{"$f":"N21","v":2221},{"$f":"COUNTIF(L59:L84,AD21)","v":0},{"$f":"AE21/(AG4-AE20)","v":0},{"$f":"IF(AF21=0,0,(AF21*((LOG(AF21))/LOG(2))))","v":0},null,{"$f":"N21","v":2221},{"$f":"COUNTIF(L85:L110,AI21)","v":1},{"$f":"AJ21/(AL4-AJ20)","v":3.8461538461538464E-2},{"$f":"IF(AK21=0,0,(AK21*((LOG(AK21))/LOG(2))))","v":-0.18078614300542661},null,{"$f":"N21","v":2221},{"$f":"COUNTIF(L111:L136,AN21)","v":0},{"$f":"AO21/(AQ4-AO20)","v":0},{"$f":"IF(AP21=0,0,(AP21*((LOG(AP21))/LOG(2))))","v":0},null,{"$f":"N21","v":2221},{"$f":"COUNTIF(L137:L162,AS21)","v":1},{"$f":"AT21/(AV4-AT20)","v":3.8461538461538464E-2},{"$f":"IF(AU21=0,0,(AU21*((LOG(AU21))/LOG(2))))","v":-0.18078614300542661}]
[12,1953,14,1958,13,1963,14,1972,null,null,0,1111,null,2222,{"$f":"COUNTIF($L$7:$L$500,N22)","v":19},{"$f":"O22/$Q$4","v":0.12179487179487179},{"$f":"IF(P22=0,0,(P22*((LOG(P22))/LOG(2))))","v":-0.369948842326632},null,null,{"$f":"N22","v":2222},{"$f":"COUNTIF(L7:L32,T22)","v":3},{"$f":"U22/(W4-U20)","v":0.11538461538461539},{"$f":"IF(V22=0,0,(V22*((LOG(V22))/LOG(2))))","v":-0.35947814047153104},null,{"$f":"N22","v":2222},{"$f":"COUNTIF(L33:L58,Y22)","v":4},{"$f":"Z22/(AB4-Z20)","v":0.15384615384615385},{"$f":"IF(AA22=0,0,(AA22*((LOG(AA22))/LOG(2))))","v":-0.4154522643293988},null,{"$f":"N22","v":2222},{"$f":"COUNTIF(L59:L84,AD22)","v":2},{"$f":"AE22/(AG4-AE20)","v":7.6923076923076927E-2},{"$f":"IF(AF22=0,0,(AF22*((LOG(AF22))/LOG(2))))","v":-0.28464920908777636},null,{"$f":"N22","v":2222},{"$f":"COUNTIF(L85:L110,AI22)","v":5},{"$f":"AJ22/(AL4-AJ20)","v":0.19230769230769232},{"$f":"IF(AK22=0,0,(AK22*((LOG(AK22))/LOG(2))))","v":-0.45740608139494804},null,{"$f":"N22","v":2222},{"$f":"COUNTIF(L111:L136,AN22)","v":3},{"$f":"AO22/(AQ4-AO20)","v":0.11538461538461539},{"$f":"IF(AP22=0,0,(AP22*((LOG(AP22))/LOG(2))))","v":-0.35947814047153104},null,{"$f":"N22","v":2222},{"$f":"COUNTIF(L137:L162,AS22)","v":2},{"$f":"AT22/(AV4-AT20)","v":7.6923076923076927E-2},{"$f":"IF(AU22=0,0,(AU22*((LOG(AU22))/LOG(2))))","v":-0.28464920908777636}]
[12,2078,14,2083,13,2088,14,2096,null,null,0,1111,null,null,null,{"$f":"SUM(P7:P22)","v":1},{"$f":"-SUM(Q7:Q22)","v":1.7079928641371003},null,null,null,null,{"$f":"SUM(V7:V22)","v":1},{"$f":"-SUM(W7:W22)","v":1.1160762796829875},null,null,null,{"$f":"SUM(AA7:AA22)","v":0.99999999999999989},{"$f":"-SUM(AB7:AB22)","v":1.7201755527081779},null,null,null,{"$f":"SUM(AF7:AF22)","v":1},{"$f":"-SUM(AG7:AG22)","v":1.2220334913046595},null,null,null,{"$f":"SUM(AK7:AK22)","v":0.99999999999999989},{"$f":"-SUM(AL7:AL22)","v":2.1438918599705352},null,null,null,{"$f":"SUM(AP7:AP22)","v":1},{"$f":"-SUM(AQ7:AQ22)","v":1.5372952641634292},null,null,null,{"$f":"SUM(AU7:AU22)","v":1},{"$f":"-SUM(AV7:AV22)","v":1.5663293988620239}]
[12,2204,14,2209,13,2214,14,2220,null,null,0,1111,null,null,null,"U=",{"$f":"Q23/(LOG(Q4)/LOG(2))","v":0.23444043483488483},null,null,null,null,"U1=",{"$f":"W23/(LOG(W4)/LOG(2))","v":0.23744082396707519},null,null,null,"U2=",{"$f":"AB23/(LOG(AB4)/LOG(2))","v":0.36596056025764012},null,null,null,"U3=",{"$f":"AG23/(LOG(AG4)/LOG(2))","v":0.25998280258510448},null,null,null,"U4=",{"$f":"AL23/(LOG(AL4)/LOG(2))","v":0.45610453245391086},null,null,null,"U5=",{"$f":"AQ23/(LOG(AQ4)/LOG(2))","v":0.32705350059704452},null,null,null,"U6=",{"$f":"AV23/(LOG(AV4)/LOG(2))","v":0.33323039817250727}]
[12,2324,14,2329,13,2334,14,2342,null,null,0,1111]
[12,2462,14,2466,13,2471,14,2476,null,null,0,1111]
[12,2586,14,2592,13,2601,14,2606,null,null,0,1111,null,"Total Target Seq"]
[21,2719,21,2725,11,2763,12,2771,null,null,0,2211,null,{"$f":"COUNTIF(L7:L162,G3)","v":0},null,26,26,26,26,26,26]
[12,2882,14,2888,13,2892,14,2901,null,null,0,1111,null,null,null,"% of reinforcement given in 6 equal intervals based on number of trials "]
[21,3010,12,3025,13,3030,14,3036,null,null,0,2111,null,null,null,"%_1","%_2","%_3","%_4","%_5","%_6"]
[12,3151,14,3156,13,3160,14,3169,null,null,0,1111,null,null,"target sequence",{"$f":"$G$3","v":2212},{"$f":"$G$3","v":2212},{"$f":"$G$3","v":2212},{"$f":"$G$3","v":2212},{"$f":"$G$3","v":2212},{"$f":"$G$3","v":2212}]
[21,3282,21,3288,22,3296,23,3305,null,null,0,2222,null,null,"total reinforcement",{"$f":"U20","v":0},{"$f":"Z20","v":0},{"$f":"AE20","v":0},{"$f":"AJ20","v":0},{"$f":"AO20","v":0},{"$f":"AT20","v":0}]
[21,3415,21,3419,22,3429,23,3434,null,null,0,2222,null,null,"% target"]
[21,3535,12,3549,13,3556,14,3563,null,null,0,2111,null,null,"CCRF"]
[12,3676,14,3681,13,3685,14,3690,null,null,0,1111,null,null,"% CCRf"]
[12,3807,14,3811,13,3816,14,3823,null,null,0,1111,null,null,"average response rate",{"$f":"H32/P28","v":127.11538461538461},{"$f":"(H58-H32)/Q28","v":165.19230769230768},{"$f":"(H84-H58)/R28","v":131.96153846153845},{"$f":"(H110-H84)/S28","v":149.34615384615384},{"$f":"(H136-H110)/T28","v":148.69230769230768},{"$f":"(H162-H136)/U28","v":198.38461538461539}]
[21,3929,21,3934,11,3949,12,3954,null,null,0,2211]
[12,4063,14,4068,13,4072,14,4077,null,null,0,1111]
[12,4186,14,4191,13,4195,14,4201,null,null,0,1111]
[12,5160,14,5168,13,5182,14,5190,null,null,0,1111]
[12,5309,14,5314,13,5320,14,5327,null,null,0,1111]
[12,5435,23,5452,13,5469,14,5474,null,null,0,1211]
[12,5589,14,5595,13,5603,14,5612,null,null,0,1111]
[12,5715,14,5721,13,5728,14,5733,null,null,0,1111]
[21,5843,21,5848,22,5853,14,5867,null,null,0,2221]
[12,5978,14,5986,13,5991,14,5999,null,null,0,1111]
[21,6112,21,6117,22,6122,23,6131,null,null,0,2222]
[12,6243,14,6248,13,6255,14,6263,null,null,0,1111]
[12,6376,14,6381,13,6387,14,6392,null,null,0,1111]
[12,6496,14,6502,13,6511,14,6518,null,null,0,1111]
[21,6647,21,6651,22,6658,23,6666,null,null,0,2222]
[12,6781,14,6786,13,6791,14,6796,null,null,0,1111]
[12,6902,14,6909,13,6923,14,6932,null,null,0,1111]
[12,7045,14,7050,13,7054,14,7062,null,null,0,1111]
[12,7176,23,7188,24,7197,23,7220,null,null,0,1222]
[21,7328,21,7333,22,7339,23,7345,null,null,0,2222]
[12,7457,14,7462,13,7467,14,7472,null,null,0,1111]
[12,7585,14,7590,13,7594,14,7600,null,null,0,1111]
[21,7706,21,7711,22,7716,23,7721,null,null,0,2222]
[12,7830,14,7839,13,7847,14,7854,null,null,0,1111]
[12,7963,14,7968,13,7972,14,7980,null,null,0,1111]
[21,8083,12,8099,13,8104,14,8112,null,null,0,2111]
[21,8222,12,8235,24,8250,23,8258,null,null,0,2122]
[12,8369,14,8376,13,8381,14,8388,null,null,0,1111]
[21,8502,12,8514,13,8519,14,8524,null,null,0,2111]
[12,8629,14,8636,13,8641,14,8647,null,null,0,1111]
[12,8779,14,8784,13,8790,14,8798,null,null,0,1111]
[12,8905,14,8910,13,8918,14,8924,null,null,0,1111]
[21,9052,21,9056,22,9060,23,9066,null,null,0,2222]
[21,9199,21,9206,11,9220,12,9224,null,null,0,2211]
[12,9336,14,9341,13,9345,14,9351,null,null,0,1111]
[12,9469,14,9475,13,9484,14,9493,null,null,0,1111]
[12,9597,14,9602,13,9606,14,9620,null,null,0,1111]
[12,9738,14,9743,13,9748,14,9753,null,null,0,1111]
[12,9858,14,9863,13,9867,14,9872,null,null,0,1111]
[12,9977,14,9990,13,9998,14,10006,null,null,0,1111]
[12,10115,14,10144,13,10151,14,10158,null,null,0,1111]
[12,10264,14,10269,13,10273,14,10278,null,null,0,1111]
[12,10387,14,10392,13,10396,14,10400,null,null,0,1111]
[12,10510,14,10515,13,10520,14,10524,null,null,0,1111]
[12,10628,14,10633,13,10641,14,10649,null,null,0,1111]
[12,10756,14,10765,13,10771,14,10776,null,null,0,1111]
[12,10880,14,10893,13,10898,14,10907,null,null,0,1111]
[12,11011,14,11021,13,11026,14,11031,null,null,0,1111]
[12,11151,14,11162,13,11169,14,11176,null,null,0,1111]
[12,11296,14,11302,13,11306,14,11310,null,null,0,1111]
[12,11418,23,11430,24,11438,23,11472,null,null,0,1222]
[12,11589,14,11594,13,11596,14,11602,null,null,0,1111]
[21,11821,21,11828,22,11835,23,11841,null,null,0,2222]
[21,11947,21,11956,22,11966,23,11974,null,null,0,2222]
[12,12077,23,12090,24,12098,23,12103,null,null,0,1222]
[12,12224,14,12229,13,12233,14,12238,null,null,0,1111]
[21,12370,12,12381,13,12391,14,12398,null,null,0,2111]
[12,12508,23,12520,13,12533,14,12537,null,null,0,1211]
[12,12648,14,12653,13,12657,14,12662,null,null,0,1111]
[21,12795,21,12800,22,12805,14,12822,null,null,0,2221]
[12,12956,14,12962,13,12969,14,12976,null,null,0,1111]
[12,13083,14,13091,24,13103,23,13108,null,null,0,1122]
[21,13226,21,13233,22,13237,23,13244,null,null,0,2222]
[12,13375,14,13381,13,13386,14,13391,null,null,0,1111]
[12,13499,14,13505,13,13510,14,13513,null,null,0,1111]
[12,13717,14,13722,13,13727,14,13734,null,null,0,1111]
[12,13863,14,13867,13,13872,14,13877,null,null,0,1111]
[21,14035,21,14048,22,14063,23,14072,null,null,0,2222]
[12,14172,23,14193,24,14198,23,14204,null,null,0,1222]
[12,14353,14,14358,13,14364,14,14370,null,null,0,1111]
[21,14484,12,14496,13,14501,14,14508,null,null,0,2111]
[21,14624,21,14632,22,14638,23,14643,null,null,0,2222]
[12,14760,14,14764,13,14771,14,14777,null,null,0,1111]
[12,14900,14,14904,13,14910,14,14914,null,null,0,1111]
[12,15022,14,15026,13,15030,14,15035,null,null,0,1111]
[12,15150,14,15155,13,15160,14,15167,null,null,0,1111]
[12,15269,14,15287,13,15290,14,15295,null,null,0,1111]
[12,15462,14,15466,13,15473,14,15480,null,null,0,1111]
[12,15590,14,15608,13,15612,14,15616,null,null,0,1111]
[12,15722,14,15739,13,15744,14,15750,null,null,0,1111]
[12,15859,14,15863,13,15868,14,15872,null,null,0,1111]
[12,16096,14,16103,13,16110,14,16119,null,null,0,1111]
[12,16226,14,16232,13,16236,14,16241,null,null,0,1111]
[12,16367,23,16378,13,16390,14,16395,null,null,0,1211]
[12,16514,23,16527,24,16535,23,16552,null,null,0,1222]
[12,16665,14,16672,13,16677,14,16681,null,null,0,1111]
[12,16792,14,16814,13,16818,14,16823,null,null,0,1111]
[12,16970,14,16975,13,16979,14,16985,null,null,0,1111]
[12,17116,14,17121,13,17126,14,17131,null,null,0,1111]
[21,17320,21,17328,22,17341,23,17349,null,null,0,2222]
[21,17454,12,17467,13,17472,14,17477,null,null,0,2111]
[21,17595,21,17604,22,17610,23,17616,null,null,0,2222]
[21,17729,12,17747,13,17756,14,17760,null,null,0,2111]
[21,17875,12,17893,13,17898,14,17904,null,null,0,2111]
[21,18026,21,18035,22,18042,23,18047,null,null,0,2222]
[12,18181,14,18189,13,18197,14,18205,null,null,0,1111]
[12,18341,14,18345,13,18349,14,18356,null,null,0,1111]
[12,18502,14,18506,13,18511,14,18517,null,null,0,1111]
[12,18631,14,18635,13,18640,14,18645,null,null,0,1111]
[21,18760,12,18771,13,18776,14,18780,null,null,0,2111]
[12,18897,14,18904,13,18909,14,18915,null,null,0,1111]
[21,19077,21,19082,22,19087,23,19096,null,null,0,2222]
[12,19216,14,19225,13,19232,14,19240,null,null,0,1111]
[12,19398,14,19403,13,19407,14,19413,null,null,0,1111]
[12,19543,14,19547,13,19552,14,19559,null,null,0,1111]
[12,19722,14,19728,13,19734,14,19742,null,null,0,1111]
[12,20135,14,20140,13,20145,14,20150,null,null,0,1111]
[12,20349,14,20353,13,20357,14,20362,null,null,0,1111]
[12,20497,23,20509,24,20515,23,20522,null,null,0,1222]
[12,20663,14,20669,13,20674,14,20681,null,null,0,1111]
[12,20931,14,20936,13,20942,14,20948,null,null,0,1111]
[21,21073,21,21077,22,21082,14,21093,null,null,0,2221]
[21,21203,12,21215,13,21224,14,21228,null,null,0,2111]
[12,21470,14,21474,13,21479,14,21492,null,null,0,1111]
[12,21619,14,21624,13,21629,14,21634,null,null,0,1111]
[21,21746,12,21757,13,21766,14,21771,null,null,0,2111]
[12,21916,23,21928,24,21933,23,21947,null,null,0,1222]
[12,22068,14,22073,13,22078,14,22082,null,null,0,1111]
[12,22288,14,22292,13,22296,14,22301,null,null,0,1111]
[12,22424,14,22443,13,22447,14,22451,null,null,0,1111]
[12,22760,14,22765,13,22770,14,22775,null,null,0,1111]
[12,22929,14,22934,13,22939,14,22944,null,null,0,1111]
[21,23368,21,23376,22,23406,23,23428,null,null,0,2222]
[21,23525,12,23538,13,23543,14,23549,null,null,0,2111]
[12,23772,14,23778,13,23782,14,23787,null,null,0,1111]
[21,23914,12,23929,13,23933,14,23938,null,null,null,2111]

{"sheet":"!MB14800.091","index":9,"n_rows":134,"n_cols":48,"rows_kept":134,"cut":false,"hidden":false,"merged":[[4,39,4,42],[5,39,5,40],[4,44,4,47],[5,44,5,45],[4,24,4,27],[5,24,5,25],[4,29,4,32],[5,29,5,30],[4,34,4,37],[5,34,5,35],[1,1,1,2],[5,13,5,14],[26,13,26,14],[27,13,27,14],[4,19,4,22],[5,19,5,20]]}
["Report for:!MB14800.091"]
["Date:","<date>"]
["Hen:","<hen>",null,null,null,"Correct Sequence",{"$f":"Start!J2","v":2212},null,null,null,null,null,null,null,null,"Total Sequences in Data",{"$f":"4994-COUNTBLANK(L7:L5000)","v":128},null,null,null,null,"Total Sequences in Block Data",{"$f":"COUNTA(L7:L27)","v":21},null,null,null,"Total Sequences in Block Data",{"$f":"COUNTA(L28:L49)","v":22},null,null,null,"Total Sequences in Block Data",{"$f":"COUNTA(L50:L70)","v":21},null,null,null,"Total Sequences in Block Data",{"$f":"COUNTA(L71:L91)","v":21},null,null,null,"Total Sequences in Block Data",{"$f":"COUNTA(L92:L113)","v":22},null,null,null,"Total Sequences in Block Data",{"$f":"COUNTA(L114:L134)","v":21}]
[null,null,null,null,null,null,null,null,null,null,null,null,null,null,null,"Total Sequences in Summary",{"$f":"SUM(O7:O22)","v":128},null,null,null,null,"Total Sequences in Block Summary",{"$f":"SUM(U7:U22)","v":21},null,null,null,"Total Sequences in Block Summary",{"$f":"SUM(Z7:Z22)","v":22},null,null,null,"Total Sequences in Block Summary",{"$f":"SUM(AE7:AE22)","v":21},null,null,null,"Total Sequences in Block Summary",{"$f":"SUM(AJ7:AJ22)","v":21},null,null,null,"Total Sequences in Block Summary",{"$f":"SUM(AO7:AO22)","v":22},null,null,null,"Total Sequences in Block Summary",{"$f":"SUM(AT7:AT22)","v":21}]
[null,null,null,null,null,null,null,null,null,null,null,null,null,null,null,null,null,null,null,"Block 1",null,null,null,null,"Block 2",null,null,null,null,"Block 3",null,null,null,null,"Block 4",null,null,null,null,"Block 5",null,null,null,null,"Block 6"]
["Sequence\nComponent\n1","Time\n1","Sequence\nComponent\n2","Time\n2","Sequence\nComponent\n3","Time\n3","Sequence\nComponent\n4","Time\n4","Sequence\nComponent\n5","Time\n5","Correct?\n0=No 1=Yes","Sequence",null,"Frequency",null,"Relative Frequency","Variability",null,null,"Frequency",null,"Relative Frequency","Variability",null,"Frequency",null,"Relative Frequency","Variability",null,"Frequency",null,"Relative Frequency","Variability",null,"Frequency",null,"Relative Frequency","Variability",null,"Frequency",null,"Relative Frequency","Variability",null,"Frequency",null,"Relative Frequency","Variability"]
[12,17,14,25,13,31,14,39,null,null,0,1111,null,1111,{"$f":"COUNTIF($L$7:$L$500,N7)","v":47},{"$f":"O7/$Q$4","v":0.3671875},{"$f":"IF(P7=0,0,(P7*((LOG(P7))/LOG(2))))","v":-0.53073690602461754},null,null,{"$f":"N7","v":1111},{"$f":"COUNTIF(L7:L27,T7)","v":18},{"$f":"U7/(W4-U20)","v":0.8571428571428571},{"$f":"IF(V7=0,0,(V7*((LOG(V7))/LOG(2))))","v":-0.19062207543124113},null,{"$f":"N7","v":1111},{"$f":"COUNTIF(L28:L49,Y7)","v":12},{"$f":"Z7/(AB4-Z20)","v":0.54545454545454541},{"$f":"IF(AA7=0,0,(AA7*((LOG(AA7))/LOG(2))))","v":-0.47698315522698609},null,{"$f":"N7","v":1111},{"$f":"COUNTIF(L50:L70,AD7)","v":8},{"$f":"AE7/(AG4-AE20)","v":0.38095238095238093},{"$f":"IF(AF7=0,0,(AF7*((LOG(AF7))/LOG(2))))","v":-0.53040663724905157},null,{"$f":"N7","v":1111},{"$f":"COUNTIF(L71:L91,AI7)","v":6},{"$f":"AJ7/(AL4-AJ20)","v":0.2857142857142857},{"$f":"IF(AK7=0,0,(AK7*((LOG(AK7))/LOG(2))))","v":-0.51638712058788683},null,{"$f":"N7","v":1111},{"$f":"COUNTIF(L92:L113,AN7)","v":1},{"$f":"AO7/(AQ4-AO20)","v":4.7619047619047616E-2},{"$f":"IF(AP7=0,0,(AP7*((LOG(AP7))/LOG(2))))","v":-0.20915797251327431},null,{"$f":"N7","v":1111},{"$f":"COUNTIF(L114:L134,AS7)","v":2},{"$f":"AT7/(AV4-AT20)","v":9.5238095238095233E-2},{"$f":"IF(AU7=0,0,(AU7*((LOG(AU7))/LOG(2))))","v":-0.32307784978845333}]
[12,142,14,151,13,156,14,160,null,null,0,1111,null,1112,{"$f":"COUNTIF($L$7:$L$500,N8)","v":1},{"$f":"O8/$Q$4","v":7.8125E-3},{"$f":"IF(P8=0,0,(P8*((LOG(P8))/LOG(2))))","v":-5.46875E-2},null,null,{"$f":"N8","v":1112},{"$f":"COUNTIF(L7:L27,T8)","v":0},{"$f":"U8/(W4-U20)","v":0},{"$f":"IF(V8=0,0,(V8*((LOG(V8))/LOG(2))))","v":0},null,{"$f":"N8","v":1112},{"$f":"COUNTIF(L28:L49,Y8)","v":0},{"$f":"Z8/(AB4-Z20)","v":0},{"$f":"IF(AA8=0,0,(AA8*((LOG(AA8))/LOG(2))))","v":0},null,{"$f":"N8","v":1112},{"$f":"COUNTIF(L50:L70,AD8)","v":0},{"$f":"AE8/(AG4-AE20)","v":0},{"$f":"IF(AF8=0,0,(AF8*((LOG(AF8))/LOG(2))))","v":0},null,{"$f":"N8","v":1112},{"$f":"COUNTIF(L71:L91,AI8)","v":0},{"$f":"AJ8/(AL4-AJ20)","v":0},{"$f":"IF(AK8=0,0,(AK8*((LOG(AK8))/LOG(2))))","v":0},null,{"$f":"N8","v":1112},{"$f":"COUNTIF(L92:L113,AN8)","v":0},{"$f":"AO8/(AQ4-AO20)","v":0},{"$f":"IF(AP8=0,0,(AP8*((LOG(AP8))/LOG(2))))","v":0},null,{"$f":"N8","v":1112},{"$f":"COUNTIF(L114:L134,AS8)","v":1},{"$f":"AT8/(AV4-AT20)","v":4.7619047619047616E-2},{"$f":"IF(AU8=0,0,(AU8*((LOG(AU8))/LOG(2))))","v":-0.20915797251327431}]
[12,272,14,276,13,282,14,290,null,null,0,1111,null,1121,{"$f":"COUNTIF($L$7:$L$500,N9)","v":0},{"$f":"O9/$Q$4","v":0},{"$f":"IF(P9=0,0,(P9*((LOG(P9))/LOG(2))))","v":0},null,null,{"$f":"N9","v":1121},{"$f":"COUNTIF(L7:L27,T9)","v":0},{"$f":"U9/(W4-U20)","v":0},{"$f":"IF(V9=0,0,(V9*((LOG(V9))/LOG(2))))","v":0},null,{"$f":"N9","v":1121},{"$f":"COUNTIF(L28:L49,Y9)","v":0},{"$f":"Z9/(AB4-Z20)","v":0},{"$f":"IF(AA9=0,0,(AA9*((LOG(AA9))/LOG(2))))","v":0},null,{"$f":"N9","v":1121},{"$f":"COUNTIF(L50:L70,AD9)","v":0},{"$f":"AE9/(AG4-AE20)","v":0},{"$f":"IF(AF9=0,0,(AF9*((LOG(AF9))/LOG(2))))","v":0},null,{"$f":"N9","v":1121},{"$f":"COUNTIF(L71:L91,AI9)","v":0},{"$f":"AJ9/(AL4-AJ20)","v":0},{"$f":"IF(AK9=0,0,(AK9*((LOG(AK9))/LOG(2))))","v":0},null,{"$f":"N9","v":1121},{"$f":"COUNTIF(L92:L113,AN9)","v":0},{"$f":"AO9/(AQ4-AO20)","v":0},{"$f":"IF(AP9=0,0,(AP9*((LOG(AP9))/LOG(2))))","v":0},null,{"$f":"N9","v":1121},{"$f":"COUNTIF(L114:L134,AS9)","v":0},{"$f":"AT9/(AV4-AT20)","v":0},{"$f":"IF(AU9=0,0,(AU9*((LOG(AU9))/LOG(2))))","v":0}]
[12,398,14,405,13,411,14,417,null,null,0,1111,null,1122,{"$f":"COUNTIF($L$7:$L$500,N10)","v":0},{"$f":"O10/$Q$4","v":0},{"$f":"IF(P10=0,0,(P10*((LOG(P10))/LOG(2))))","v":0},null,null,{"$f":"N10","v":1122},{"$f":"COUNTIF(L7:L27,T10)","v":0},{"$f":"U10/(W4-U20)","v":0},{"$f":"IF(V10=0,0,(V10*((LOG(V10))/LOG(2))))","v":0},null,{"$f":"N10","v":1122},{"$f":"COUNTIF(L28:L49,Y10)","v":0},{"$f":"Z10/(AB4-Z20)","v":0},{"$f":"IF(AA10=0,0,(AA10*((LOG(AA10))/LOG(2))))","v":0},null,{"$f":"N10","v":1122},{"$f":"COUNTIF(L50:L70,AD10)","v":0},{"$f":"AE10/(AG4-AE20)","v":0},{"$f":"IF(AF10=0,0,(AF10*((LOG(AF10))/LOG(2))))","v":0},null,{"$f":"N10","v":1122},{"$f":"COUNTIF(L71:L91,AI10)","v":0},{"$f":"AJ10/(AL4-AJ20)","v":0},{"$f":"IF(AK10=0,0,(AK10*((LOG(AK10))/LOG(2))))","v":0},null,{"$f":"N10","v":1122},{"$f":"COUNTIF(L92:L113,AN10)","v":0},{"$f":"AO10/(AQ4-AO20)","v":0},{"$f":"IF(AP10=0,0,(AP10*((LOG(AP10))/LOG(2))))","v":0},null,{"$f":"N10","v":1122},{"$f":"COUNTIF(L114:L134,AS10)","v":0},{"$f":"AT10/(AV4-AT20)","v":0},{"$f":"IF(AU10=0,0,(AU10*((LOG(AU10))/LOG(2))))","v":0}]
[12,527,14,532,13,536,14,542,null,null,0,1111,null,1211,{"$f":"COUNTIF($L$7:$L$500,N11)","v":0},{"$f":"O11/$Q$4","v":0},{"$f":"IF(P11=0,0,(P11*((LOG(P11))/LOG(2))))","v":0},null,null,{"$f":"N11","v":1211},{"$f":"COUNTIF(L7:L27,T11)","v":0},{"$f":"U11/(W4-U20)","v":0},{"$f":"IF(V11=0,0,(V11*((LOG(V11))/LOG(2))))","v":0},null,{"$f":"N11","v":1211},{"$f":"COUNTIF(L28:L49,Y11)","v":0},{"$f":"Z11/(AB4-Z20)","v":0},{"$f":"IF(AA11=0,0,(AA11*((LOG(AA11))/LOG(2))))","v":0},null,{"$f":"N11","v":1211},{"$f":"COUNTIF(L50:L70,AD11)","v":0},{"$f":"AE11/(AG4-AE20)","v":0},{"$f":"IF(AF11=0,0,(AF11*((LOG(AF11))/LOG(2))))","v":0},null,{"$f":"N11","v":1211},{"$f":"COUNTIF(L71:L91,AI11)","v":0},{"$f":"AJ11/(AL4-AJ20)","v":0},{"$f":"IF(AK11=0,0,(AK11*((LOG(AK11))/LOG(2))))","v":0},null,{"$f":"N11","v":1211},{"$f":"COUNTIF(L92:L113,AN11)","v":0},{"$f":"AO11/(AQ4-AO20)","v":0},{"$f":"IF(AP11=0,0,(AP11*((LOG(AP11))/LOG(2))))","v":0},null,{"$f":"N11","v":1211},{"$f":"COUNTIF(L114:L134,AS11)","v":0},{"$f":"AT11/(AV4-AT20)","v":0},{"$f":"IF(AU11=0,0,(AU11*((LOG(AU11))/LOG(2))))","v":0}]
[12,665,14,671,13,677,14,683,null,null,0,1111,null,1212,{"$f":"COUNTIF($L$7:$L$500,N12)","v":0},{"$f":"O12/$Q$4","v":0},{"$f":"IF(P12=0,0,(P12*((LOG(P12))/LOG(2))))","v":0},null,null,{"$f":"N12","v":1212},{"$f":"COUNTIF(L7:L27,T12)","v":0},{"$f":"U12/(W4-U20)","v":0},{"$f":"IF(V12=0,0,(V12*((LOG(V12))/LOG(2))))","v":0},null,{"$f":"N12","v":1212},{"$f":"COUNTIF(L28:L49,Y12)","v":0},{"$f":"Z12/(AB4-Z20)","v":0},{"$f":"IF(AA12=0,0,(AA12*((LOG(AA12))/LOG(2))))","v":0},null,{"$f":"N12","v":1212},{"$f":"COUNTIF(L50:L70,AD12)","v":0},{"$f":"AE12/(AG4-AE20)","v":0},{"$f":"IF(AF12=0,0,(AF12*((LOG(AF12))/LOG(2))))","v":0},null,{"$f":"N12","v":1212},{"$f":"COUNTIF(L71:L91,AI12)","v":0},{"$f":"AJ12/(AL4-AJ20)","v":0},{"$f":"IF(AK12=0,0,(AK12*((LOG(AK12))/LOG(2))))","v":0},null,{"$f":"N12","v":1212},{"$f":"COUNTIF(L92:L113,AN12)","v":0},{"$f":"AO12/(AQ4-AO20)","v":0},{"$f":"IF(AP12=0,0,(AP12*((LOG(AP12))/LOG(2))))","v":0},null,{"$f":"N12","v":1212},{"$f":"COUNTIF(L114:L134,AS12)","v":0},{"$f":"AT12/(AV4-AT20)","v":0},{"$f":"IF(AU12=0,0,(AU12*((LOG(AU12))/LOG(2))))","v":0}]
[12,791,14,796,13,801,14,807,null,null,0,1111,null,1221,{"$f":"COUNTIF($L$7:$L$500,N13)","v":2},{"$f":"O13/$Q$4","v":1.5625E-2},{"$f":"IF(P13=0,0,(P13*((LOG(P13))/LOG(2))))","v":-9.375E-2},null,null,{"$f":"N13","v":1221},{"$f":"COUNTIF(L7:L27,T13)","v":0},{"$f":"U13/(W4-U20)","v":0},{"$f":"IF(V13=0,0,(V13*((LOG(V13))/LOG(2))))","v":0},null,{"$f":"N13","v":1221},{"$f":"COUNTIF(L28:L49,Y13)","v":1},{"$f":"Z13/(AB4-Z20)","v":4.5454545454545456E-2},{"$f":"IF(AA13=0,0,(AA13*((LOG(AA13))/LOG(2))))","v":-0.20270143721078623},null,{"$f":"N13","v":1221},{"$f":"COUNTIF(L50:L70,AD13)","v":1},{"$f":"AE13/(AG4-AE20)","v":4.7619047619047616E-2},{"$f":"IF(AF13=0,0,(AF13*((LOG(AF13))/LOG(2))))","v":-0.20915797251327431},null,{"$f":"N13","v":1221},{"$f":"COUNTIF(L71:L91,AI13)","v":0},{"$f":"AJ13/(AL4-AJ20)","v":0},{"$f":"IF(AK13=0,0,(AK13*((LOG(AK13))/LOG(2))))","v":0},null,{"$f":"N13","v":1221},{"$f":"COUNTIF(L92:L113,AN13)","v":0},{"$f":"AO13/(AQ4-AO20)","v":0},{"$f":"IF(AP13=0,0,(AP13*((LOG(AP13))/LOG(2))))","v":0},null,{"$f":"N13","v":1221},{"$f":"COUNTIF(L114:L134,AS13)","v":0},{"$f":"AT13/(AV4-AT20)","v":0},{"$f":"IF(AU13=0,0,(AU13*((LOG(AU13))/LOG(2))))","v":0}]
[12,928,14,933,13,937,14,942,null,null,0,1111,null,1222,{"$f":"COUNTIF($L$7:$L$500,N14)","v":3},{"$f":"O14/$Q$4","v":2.34375E-2},{"$f":"IF(P14=0,0,(P14*((LOG(P14))/LOG(2))))","v":-0.12691494138934789},null,null,{"$f":"N14","v":1222},{"$f":"COUNTIF(L7:L27,T14)","v":0},{"$f":"U14/(W4-U20)","v":0},{"$f":"IF(V14=0,0,(V14*((LOG(V14))/LOG(2))))","v":0},null,{"$f":"N14","v":1222},{"$f":"COUNTIF(L28:L49,Y14)","v":0},{"$f":"Z14/(AB4-Z20)","v":0},{"$f":"IF(AA14=0,0,(AA14*((LOG(AA14))/LOG(2))))","v":0},null,{"$f":"N14","v":1222},{"$f":"COUNTIF(L50:L70,AD14)","v":0},{"$f":"AE14/(AG4-AE20)","v":0},{"$f":"IF(AF14=0,0,(AF14*((LOG(AF14))/LOG(2))))","v":0},null,{"$f":"N14","v":1222},{"$f":"COUNTIF(L71:L91,AI14)","v":1},{"$f":"AJ14/(AL4-AJ20)","v":4.7619047619047616E-2},{"$f":"IF(AK14=0,0,(AK14*((LOG(AK14))/LOG(2))))","v":-0.20915797251327431},null,{"$f":"N14","v":1222},{"$f":"COUNTIF(L92:L113,AN14)","v":2},{"$f":"AO14/(AQ4-AO20)","v":9.5238095238095233E-2},{"$f":"IF(AP14=0,0,(AP14*((LOG(AP14))/LOG(2))))","v":-0.32307784978845333},null,{"$f":"N14","v":1222},{"$f":"COUNTIF(L114:L134,AS14)","v":0},{"$f":"AT14/(AV4-AT20)","v":0},{"$f":"IF(AU14=0,0,(AU14*((LOG(AU14))/LOG(2))))","v":0}]
[12,1045,14,1050,13,1054,14,1061,null,null,0,1111,null,2111,{"$f":"COUNTIF($L$7:$L$500,N15)","v":35},{"$f":"O15/$Q$4","v":0.2734375},{"$f":"IF(P15=0,0,(P15*((LOG(P15))/LOG(2))))","v":-0.51152417505411074},null,null,{"$f":"N15","v":2111},{"$f":"COUNTIF(L7:L27,T15)","v":2},{"$f":"U15/(W4-U20)","v":9.5238095238095233E-2},{"$f":"IF(V15=0,0,(V15*((LOG(V15))/LOG(2))))","v":-0.32307784978845333},null,{"$f":"N15","v":2111},{"$f":"COUNTIF(L28:L49,Y15)","v":6},{"$f":"Z15/(AB4-Z20)","v":0.27272727272727271},{"$f":"IF(AA15=0,0,(AA15*((LOG(AA15))/LOG(2))))","v":-0.51121885034076575},null,{"$f":"N15","v":2111},{"$f":"COUNTIF(L50:L70,AD15)","v":6},{"$f":"AE15/(AG4-AE20)","v":0.2857142857142857},{"$f":"IF(AF15=0,0,(AF15*((LOG(AF15))/LOG(2))))","v":-0.51638712058788683},null,{"$f":"N15","v":2111},{"$f":"COUNTIF(L71:L91,AI15)","v":6},{"$f":"AJ15/(AL4-AJ20)","v":0.2857142857142857},{"$f":"IF(AK15=0,0,(AK15*((LOG(AK15))/LOG(2))))","v":-0.51638712058788683},null,{"$f":"N15","v":2111},{"$f":"COUNTIF(L92:L113,AN15)","v":5},{"$f":"AO15/(AQ4-AO20)","v":0.23809523809523808},{"$f":"IF(AP15=0,0,(AP15*((LOG(AP15))/LOG(2))))","v":-0.49294983997414238},null,{"$f":"N15","v":2111},{"$f":"COUNTIF(L114:L134,AS15)","v":10},{"$f":"AT15/(AV4-AT20)","v":0.47619047619047616},{"$f":"IF(AU15=0,0,(AU15*((LOG(AU15))/LOG(2))))","v":-0.50970920375780859}]
[12,1166,14,1171,13,1176,14,1181,null,null,0,1111,null,2112,{"$f":"COUNTIF($L$7:$L$500,N16)","v":0},{"$f":"O16/$Q$4","v":0},{"$f":"IF(P16=0,0,(P16*((LOG(P16))/LOG(2))))","v":0},null,null,{"$f":"N16","v":2112},{"$f":"COUNTIF(L7:L27,T16)","v":0},{"$f":"U16/(W4-U20)","v":0},{"$f":"IF(V16=0,0,(V16*((LOG(V16))/LOG(2))))","v":0},null,{"$f":"N16","v":2112},{"$f":"COUNTIF(L28:L49,Y16)","v":0},{"$f":"Z16/(AB4-Z20)","v":0},{"$f":"IF(AA16=0,0,(AA16*((LOG(AA16))/LOG(2))))","v":0},null,{"$f":"N16","v":2112},{"$f":"COUNTIF(L50:L70,AD16)","v":0},{"$f":"AE16/(AG4-AE20)","v":0},{"$f":"IF(AF16=0,0,(AF16*((LOG(AF16))/LOG(2))))","v":0},null,{"$f":"N16","v":2112},{"$f":"COUNTIF(L71:L91,AI16)","v":0},{"$f":"AJ16/(AL4-AJ20)","v":0},{"$f":"IF(AK16=0,0,(AK16*((LOG(AK16))/LOG(2))))","v":0},null,{"$f":"N16","v":2112},{"$f":"COUNTIF(L92:L113,AN16)","v":0},{"$f":"AO16/(AQ4-AO20)","v":0},{"$f":"IF(AP16=0,0,(AP16*((LOG(AP16))/LOG(2))))","v":0},null,{"$f":"N16","v":2112},{"$f":"COUNTIF(L114:L134,AS16)","v":0},{"$f":"AT16/(AV4-AT20)","v":0},{"$f":"IF(AU16=0,0,(AU16*((LOG(AU16))/LOG(2))))","v":0}]
[12,1295,14,1300,13,1305,14,1313,null,null,0,1111,null,2121,{"$f":"COUNTIF($L$7:$L$500,N17)","v":0},{"$f":"O17/$Q$4","v":0},{"$f":"IF(P17=0,0,(P17*((LOG(P17))/LOG(2))))","v":0},null,null,{"$f":"N17","v":2121},{"$f":"COUNTIF(L7:L27,T17)","v":0},{"$f":"U17/(W4-U20)","v":0},{"$f":"IF(V17=0,0,(V17*((LOG(V17))/LOG(2))))","v":0},null,{"$f":"N17","v":2121},{"$f":"COUNTIF(L28:L49,Y17)","v":0},{"$f":"Z17/(AB4-Z20)","v":0},{"$f":"IF(AA17=0,0,(AA17*((LOG(AA17))/LOG(2))))","v":0},null,{"$f":"N17","v":2121},{"$f":"COUNTIF(L50:L70,AD17)","v":0},{"$f":"AE17/(AG4-AE20)","v":0},{"$f":"IF(AF17=0,0,(AF17*((LOG(AF17))/LOG(2))))","v":0},null,{"$f":"N17","v":2121},{"$f":"COUNTIF(L71:L91,AI17)","v":0},{"$f":"AJ17/(AL4-AJ20)","v":0},{"$f":"IF(AK17=0,0,(AK17*((LOG(AK17))/LOG(2))))","v":0},null,{"$f":"N17","v":2121},{"$f":"COUNTIF(L92:L113,AN17)","v":0},{"$f":"AO17/(AQ4-AO20)","v":0},{"$f":"IF(AP17=0,0,(AP17*((LOG(AP17))/LOG(2))))","v":0},null,{"$f":"N17","v":2121},{"$f":"COUNTIF(L114:L134,AS17)","v":0},{"$f":"AT17/(AV4-AT20)","v":0},{"$f":"IF(AU17=0,0,(AU17*((LOG(AU17))/LOG(2))))","v":0}]
[12,1425,14,1429,13,1433,14,1441,null,null,0,1111,null,2122,{"$f":"COUNTIF($L$7:$L$500,N18)","v":1},{"$f":"O18/$Q$4","v":7.8125E-3},{"$f":"IF(P18=0,0,(P18*((LOG(P18))/LOG(2))))","v":-5.46875E-2},null,null,{"$f":"N18","v":2122},{"$f":"COUNTIF(L7:L27,T18)","v":0},{"$f":"U18/(W4-U20)","v":0},{"$f":"IF(V18=0,0,(V18*((LOG(V18))/LOG(2))))","v":0},null,{"$f":"N18","v":2122},{"$f":"COUNTIF(L28:L49,Y18)","v":0},{"$f":"Z18/(AB4-Z20)","v":0},{"$f":"IF(AA18=0,0,(AA18*((LOG(AA18))/LOG(2))))","v":0},null,{"$f":"N18","v":2122},{"$f":"COUNTIF(L50:L70,AD18)","v":0},{"$f":"AE18/(AG4-AE20)","v":0},{"$f":"IF(AF18=0,0,(AF18*((LOG(AF18))/LOG(2))))","v":0},null,{"$f":"N18","v":2122},{"$f":"COUNTIF(L71:L91,AI18)","v":0},{"$f":"AJ18/(AL4-AJ20)","v":0},{"$f":"IF(AK18=0,0,(AK18*((LOG(AK18))/LOG(2))))","v":0},null,{"$f":"N18","v":2122},{"$f":"COUNTIF(L92:L113,AN18)","v":0},{"$f":"AO18/(AQ4-AO20)","v":0},{"$f":"IF(AP18=0,0,(AP18*((LOG(AP18))/LOG(2))))","v":0},null,{"$f":"N18","v":2122},{"$f":"COUNTIF(L114:L134,AS18)","v":1},{"$f":"AT18/(AV4-AT20)","v":4.7619047619047616E-2},{"$f":"IF(AU18=0,0,(AU18*((LOG(AU18))/LOG(2))))","v":-0.20915797251327431}]
[12,1553,14,1557,13,1562,14,1571,null,null,0,1111,null,2211,{"$f":"COUNTIF($L$7:$L$500,N19)","v":13},{"$f":"O19/$Q$4","v":0.1015625},{"$f":"IF(P19=0,0,(P19*((LOG(P19))/LOG(2))))","v":-0.33511159112629535},null,null,{"$f":"N19","v":2211},{"$f":"COUNTIF(L7:L27,T19)","v":1},{"$f":"U19/(W4-U20)","v":4.7619047619047616E-2},{"$f":"IF(V19=0,0,(V19*((LOG(V19))/LOG(2))))","v":-0.20915797251327431},null,{"$f":"N19","v":2211},{"$f":"COUNTIF(L28:L49,Y19)","v":1},{"$f":"Z19/(AB4-Z20)","v":4.5454545454545456E-2},{"$f":"IF(AA19=0,0,(AA19*((LOG(AA19))/LOG(2))))","v":-0.20270143721078623},null,{"$f":"N19","v":2211},{"$f":"COUNTIF(L50:L70,AD19)","v":5},{"$f":"AE19/(AG4-AE20)","v":0.23809523809523808},{"$f":"IF(AF19=0,0,(AF19*((LOG(AF19))/LOG(2))))","v":-0.49294983997414238},null,{"$f":"N19","v":2211},{"$f":"COUNTIF(L71:L91,AI19)","v":2},{"$f":"AJ19/(AL4-AJ20)","v":9.5238095238095233E-2},{"$f":"IF(AK19=0,0,(AK19*((LOG(AK19))/LOG(2))))","v":-0.32307784978845333},null,{"$f":"N19","v":2211},{"$f":"COUNTIF(L92:L113,AN19)","v":3},{"$f":"AO19/(AQ4-AO20)","v":0.14285714285714285},{"$f":"IF(AP19=0,0,(AP19*((LOG(AP19))/LOG(2))))","v":-0.40105070315108626},null,{"$f":"N19","v":2211},{"$f":"COUNTIF(L114:L134,AS19)","v":1},{"$f":"AT19/(AV4-AT20)","v":4.7619047619047616E-2},{"$f":"IF(AU19=0,0,(AU19*((LOG(AU19))/LOG(2))))","v":-0.20915797251327431}]
[12,1693,14,1698,13,1703,14,1707,null,null,0,1111,null,2212,{"$f":"COUNTIF($L$7:$L$500,N20)","v":1},{"$f":"O20/$Q$4","v":7.8125E-3},{"$f":"IF(P20=0,0,(P20*((LOG(P20))/LOG(2))))","v":-5.46875E-2},null,null,{"$f":"N20","v":2212},{"$f":"COUNTIF(L7:L27,T20)","v":0},null,null,null,{"$f":"N20","v":2212},{"$f":"COUNTIF(L28:L49,Y20)","v":0},null,null,null,{"$f":"N20","v":2212},{"$f":"COUNTIF(L50:L70,AD20)","v":0},null,null,null,{"$f":"N20","v":2212},{"$f":"COUNTIF(L71:L91,AI20)","v":0},null,null,null,{"$f":"N20","v":2212},{"$f":"COUNTIF(L92:L113,AN20)","v":1},null,null,null,{"$f":"N20","v":2212},{"$f":"COUNTIF(L114:L134,AS20)","v":0}]
[21,1823,21,1829,11,1844,12,1849,null,null,0,2211,null,2221,{"$f":"COUNTIF($L$7:$L$500,N21)","v":3},{"$f":"O21/$Q$4","v":2.34375E-2},{"$f":"IF(P21=0,0,(P21*((LOG(P21))/LOG(2))))","v":-0.12691494138934789},null,null,{"$f":"N21","v":2221},{"$f":"COUNTIF(L7:L27,T21)","v":0},{"$f":"U21/(W4-U20)","v":0},{"$f":"IF(V21=0,0,(V21*((LOG(V21))/LOG(2))))","v":0},null,{"$f":"N21","v":2221},{"$f":"COUNTIF(L28:L49,Y21)","v":1},{"$f":"Z21/(AB4-Z20)","v":4.5454545454545456E-2},{"$f":"IF(AA21=0,0,(AA21*((LOG(AA21))/LOG(2))))","v":-0.20270143721078623},null,{"$f":"N21","v":2221},{"$f":"COUNTIF(L50:L70,AD21)","v":0},{"$f":"AE21/(AG4-AE20)","v":0},{"$f":"IF(AF21=0,0,(AF21*((LOG(AF21))/LOG(2))))","v":0},null,{"$f":"N21","v":2221},{"$f":"COUNTIF(L71:L91,AI21)","v":1},{"$f":"AJ21/(AL4-AJ20)","v":4.7619047619047616E-2},{"$f":"IF(AK21=0,0,(AK21*((LOG(AK21))/LOG(2))))","v":-0.20915797251327431},null,{"$f":"N21","v":2221},{"$f":"COUNTIF(L92:L113,AN21)","v":1},{"$f":"AO21/(AQ4-AO20)","v":4.7619047619047616E-2},{"$f":"IF(AP21=0,0,(AP21*((LOG(AP21))/LOG(2))))","v":-0.20915797251327431},null,{"$f":"N21","v":2221},{"$f":"COUNTIF(L114:L134,AS21)","v":0},{"$f":"AT21/(AV4-AT20)","v":0},{"$f":"IF(AU21=0,0,(AU21*((LOG(AU21))/LOG(2))))","v":0}]
[21,1969,12,1989,13,1994,14,2001,null,null,0,2111,null,2222,{"$f":"COUNTIF($L$7:$L$500,N22)","v":22},{"$f":"O22/$Q$4","v":0.171875},{"$f":"IF(P22=0,0,(P22*((LOG(P22))/LOG(2))))","v":-0.43666019054671451},null,null,{"$f":"N22","v":2222},{"$f":"COUNTIF(L7:L27,T22)","v":0},{"$f":"U22/(W4-U20)","v":0},{"$f":"IF(V22=0,0,(V22*((LOG(V22))/LOG(2))))","v":0},null,{"$f":"N22","v":2222},{"$f":"COUNTIF(L28:L49,Y22)","v":1},{"$f":"Z22/(AB4-Z20)","v":4.5454545454545456E-2},{"$f":"IF(AA22=0,0,(AA22*((LOG(AA22))/LOG(2))))","v":-0.20270143721078623},null,{"$f":"N22","v":2222},{"$f":"COUNTIF(L50:L70,AD22)","v":1},{"$f":"AE22/(AG4-AE20)","v":4.7619047619047616E-2},{"$f":"IF(AF22=0,0,(AF22*((LOG(AF22))/LOG(2))))","v":-0.20915797251327431},null,{"$f":"N22","v":2222},{"$f":"COUNTIF(L71:L91,AI22)","v":5},{"$f":"AJ22/(AL4-AJ20)","v":0.23809523809523808},{"$f":"IF(AK22=0,0,(AK22*((LOG(AK22))/LOG(2))))","v":-0.49294983997414238},null,{"$f":"N22","v":2222},{"$f":"COUNTIF(L92:L113,AN22)","v":9},{"$f":"AO22/(AQ4-AO20)","v":0.42857142857142855},{"$f":"IF(AP22=0,0,(AP22*((LOG(AP22))/LOG(2))))","v":-0.52388246628704915},null,{"$f":"N22","v":2222},{"$f":"COUNTIF(L114:L134,AS22)","v":6},{"$f":"AT22/(AV4-AT20)","v":0.2857142857142857},{"$f":"IF(AU22=0,0,(AU22*((LOG(AU22))/LOG(2))))","v":-0.51638712058788683}]
[12,2127,14,2133,13,2142,14,2152,null,null,0,1111,null,null,null,{"$f":"SUM(P7:P22)","v":1},{"$f":"-SUM(Q7:Q22)","v":2.3256752455304341},null,null,null,null,{"$f":"SUM(V7:V22)","v":1},{"$f":"-SUM(W7:W22)","v":0.72285789773296871},null,null,null,{"$f":"SUM(AA7:AA22)","v":0.99999999999999978},{"$f":"-SUM(AB7:AB22)","v":1.7990077544108969},null,null,null,{"$f":"SUM(AF7:AF22)","v":1},{"$f":"-SUM(AG7:AG22)","v":1.9580595428376295},null,null,null,{"$f":"SUM(AK7:AK22)","v":1},{"$f":"-SUM(AL7:AL22)","v":2.2671178759649182},null,null,null,{"$f":"SUM(AP7:AP22)","v":1},{"$f":"-SUM(AQ7:AQ22)","v":2.1592768042272796},null,null,null,{"$f":"SUM(AU7:AU22)","v":1},{"$f":"-SUM(AV7:AV22)","v":1.9766480916739719}]
[12,2290,14,2295,13,2303,14,2312,null,null,0,1111,null,null,null,"U=",{"$f":"Q23/(LOG(Q4)/LOG(2))","v":0.33223932079006202},null,null,null,null,"U1=",{"$f":"W23/(LOG(W4)/LOG(2))","v":0.16457323734942159},null,null,null,"U2=",{"$f":"AB23/(LOG(AB4)/LOG(2))","v":0.4034163786461723},null,null,null,"U3=",{"$f":"AG23/(LOG(AG4)/LOG(2))","v":0.44579190308128513},null,null,null,"U4=",{"$f":"AL23/(LOG(AL4)/LOG(2))","v":0.51615529064624077},null,null,null,"U5=",{"$f":"AQ23/(LOG(AQ4)/LOG(2))","v":0.48420448812423017},null,null,null,"U6=",{"$f":"AV23/(LOG(AV4)/LOG(2))","v":0.45002396261777072}]
[12,2422,14,2427,13,2432,14,2438,null,null,0,1111]
[12,2556,14,2560,13,2565,14,2572,null,null,0,1111]
[21,2724,12,2738,13,2743,14,2750,null,null,0,2111,null,"Total Target Seq"]
[12,2852,23,2880,24,2888,14,2904,null,null,0,1221,null,{"$f":"COUNTIF(L7:L134,G3)","v":1},null,21,22,21,21,22,21]
[12,3048,14,3053,13,3059,14,3064,null,null,0,1111,null,null,null,"% of reinforcement given in 6 equal intervals based on number of trials "]
[12,3188,14,3194,13,3203,14,3212,null,null,0,1111,null,null,null,"%_1","%_2","%_3","%_4","%_5","%_6"]
[21,3405,21,3413,22,3421,14,3440,null,null,0,2221,null,null,"target sequence",{"$f":"$G$3","v":2212},{"$f":"$G$3","v":2212},{"$f":"$G$3","v":2212},{"$f":"$G$3","v":2212},{"$f":"$G$3","v":2212},{"$f":"$G$3","v":2212}]
[21,3559,12,3572,13,3576,14,3581,null,null,0,2111,null,null,"total reinforcement",{"$f":"U20","v":0},{"$f":"Z20","v":0},{"$f":"AE20","v":0},{"$f":"AJ20","v":0},{"$f":"AO20","v":1},{"$f":"AT20","v":0}]
[12,3715,14,3719,13,3724,14,3732,null,null,0,1111,null,null,"% target"]
[12,3857,14,3863,13,3868,14,3876,null,null,0,1111,null,null,"CCRF"]
[21,4005,12,4021,13,4025,14,4030,null,null,0,2111,null,null,"% CCRf"]
[12,4143,14,4149,13,4154,14,4160,null,null,0,1111,null,null,"average response rate",{"$f":"H27/P28","v":130.95238095238096},{"$f":"(H49-H27)/Q28","v":163.86363636363637},{"$f":"(H70-H49)/R28","v":179.47619047619048},{"$f":"(H91-H70)/S28","v":210.76190476190476},{"$f":"(H113-H91)/T28","v":212.59090909090909},{"$f":"(H134-H113)/U28","v":226.47619047619048}]
[21,4298,12,4311,13,4316,14,4324,null,null,0,2111]
[21,4483,12,4497,13,4502,14,4507,null,null,0,2111]
[12,4652,14,4656,13,4661,14,4669,null,null,0,1111]
[12,4889,14,4895,13,4900,14,4905,null,null,0,1111]
[12,5020,14,5043,13,5049,14,5053,null,null,0,1111]
[21,5172,21,5188,22,5195,23,5203,null,null,0,2222]
[12,5311,14,5316,13,5321,14,5328,null,null,0,1111]
[21,5440,12,5452,13,5457,14,5461,null,null,0,2111]
[12,5664,14,5669,13,5673,14,5678,null,null,0,1111]
[21,5812,21,5820,11,5836,12,5841,null,null,0,2211]
[21,6059,12,6070,13,6075,14,6079,null,null,0,2111]
[12,6201,14,6206,13,6211,14,6217,null,null,0,1111]
[12,6334,14,6339,13,6347,14,6355,null,null,0,1111]
[21,6473,12,6487,13,6491,14,6496,null,null,0,2111]
[12,6629,14,6636,13,6643,14,6650,null,null,0,1111]
[21,6841,12,6856,13,6861,14,6865,null,null,0,2111]
[12,6971,14,6977,13,6990,14,6996,null,null,0,1111]
[21,7126,21,7134,11,7147,12,7151,null,null,0,2211]
[12,7270,23,7281,24,7289,14,7301,null,null,0,1221]
[21,7467,12,7480,13,7484,14,7492,null,null,0,2111]
[21,7628,21,7637,11,7649,12,7657,null,null,0,2211]
[21,7857,12,7874,13,7879,14,7886,null,null,0,2111]
[21,7991,21,8002,11,8022,12,8031,null,null,0,2211]
[12,8169,14,8174,13,8182,14,8190,null,null,0,1111]
[21,8303,21,8308,11,8320,12,8325,null,null,0,2211]
[12,8479,14,8484,13,8488,14,8496,null,null,0,1111]
[21,8596,12,8619,13,8625,14,8632,null,null,0,2111]
[12,8959,14,8964,13,8969,14,8975,null,null,0,1111]
[12,9235,14,9239,13,9244,14,9249,null,null,0,1111]
[12,9431,14,9436,13,9443,14,9451,null,null,0,1111]
[21,9583,21,9605,11,9619,12,9624,null,null,0,2211]
[21,9779,12,9791,13,9795,14,9800,null,null,0,2111]
[21,9934,21,9939,22,9946,23,9979,null,null,0,2222]
[12,10108,14,10114,13,10119,14,10124,null,null,0,1111]
[21,10441,12,10460,13,10470,14,10475,null,null,0,2111]
[12,10586,14,10592,13,10598,14,10603,null,null,0,1111]
[21,10851,12,10864,13,10869,14,10874,null,null,0,2111]
[12,11472,14,11480,13,11485,14,11492,null,null,0,1111]
[21,11623,21,11628,11,11642,12,11646,null,null,0,2211]
[12,12063,14,12071,13,12077,14,12085,null,null,0,1111]
[21,12228,21,12235,22,12244,23,12252,null,null,0,2222]
[21,12417,21,12433,11,12450,12,12455,null,null,0,2211]
[21,12609,21,12621,22,12638,14,12652,null,null,0,2221]
[12,12847,14,12852,13,12857,14,12867,null,null,0,1111]
[12,13005,14,13011,13,13016,14,13023,null,null,0,1111]
[21,13154,12,13168,13,13173,14,13178,null,null,0,2111]
[21,13360,21,13368,22,13377,23,13388,null,null,0,2222]
[12,13512,14,13519,13,13523,14,13528,null,null,0,1111]
[21,13658,12,13673,13,13677,14,13682,null,null,0,2111]
[21,13795,12,13809,13,13819,14,13824,null,null,0,2111]
[21,13929,21,13937,22,13945,23,13952,null,null,0,2222]
[12,14060,23,14073,24,14080,23,14088,null,null,0,1222]
[21,14212,12,14226,13,14231,14,14236,null,null,0,2111]
[21,14365,21,14393,22,14401,23,14411,null,null,0,2222]
[21,14529,21,14537,22,14542,23,14550,null,null,0,2222]
[21,14699,12,14716,13,14720,14,14727,null,null,0,2111]
[21,14844,12,14859,13,14864,14,14868,null,null,0,2111]
[21,15045,21,15052,22,15058,23,15066,null,null,0,2222]
[12,15397,14,15408,13,15415,14,15422,null,null,0,1111]
[21,15593,21,15599,11,15614,12,15618,null,null,0,2211]
[21,15842,12,15857,13,15862,14,15868,null,null,0,2111]
[21,16278,21,16295,22,16358,23,16376,null,null,0,2222]
[21,16478,21,16484,11,16499,21,16515,null,null,0,2212]
[21,16612,21,16637,22,16647,23,16656,null,null,0,2222]
[21,16778,12,16807,13,16811,14,16818,null,null,0,2111]
[12,16950,23,16966,24,16973,23,16982,null,null,0,1222]
[21,17098,21,17104,22,17118,23,17126,null,null,0,2222]
[21,17252,21,17258,22,17267,23,17272,null,null,0,2222]
[21,17406,21,17411,22,17420,23,17426,null,null,0,2222]
[21,17535,21,17541,11,17554,12,17559,null,null,0,2211]
[21,17681,12,17694,13,17699,14,17703,null,null,0,2111]
[21,17965,21,17973,22,17981,23,18002,null,null,0,2222]
[12,18138,23,18152,24,18158,23,18166,null,null,0,1222]
[21,18538,21,18545,22,18556,23,18566,null,null,0,2222]
[21,18867,21,18874,22,18884,14,18900,null,null,0,2221]
[21,19047,21,19053,22,19059,23,19067,null,null,0,2222]
[21,19197,21,19204,11,19217,12,19227,null,null,0,2211]
[21,19390,12,19404,13,19408,14,19413,null,null,0,2111]
[21,19574,12,19590,13,19595,14,19599,null,null,0,2111]
[21,19751,12,19764,13,19769,14,19774,null,null,0,2111]
[21,20099,12,20115,13,20120,14,20129,null,null,0,2111]
[21,20251,21,20257,22,20263,23,20275,null,null,0,2222]
[21,20395,12,20408,13,20413,14,20418,null,null,0,2111]
[12,20730,14,20735,13,20741,14,20749,null,null,0,1111]
[12,20877,14,20882,13,20887,14,20891,null,null,0,1111]
[21,21001,12,21035,13,21045,14,21054,null,null,0,2111]
[21,21428,21,21444,22,21452,23,21460,null,null,0,2222]
[21,21594,12,21608,13,21615,14,21621,null,null,0,2111]
[12,21756,14,21765,13,21773,23,21786,null,null,0,1112]
[21,21909,21,21920,11,21935,12,21941,null,null,0,2211]
[21,22060,12,22077,13,22084,14,22090,null,null,0,2111]
[21,22487,12,22502,13,22507,14,22511,null,null,0,2111]
[21,23028,21,23036,22,23042,23,23051,null,null,0,2222]
[21,23193,21,23199,22,23208,23,23217,null,null,0,2222]
[21,23458,21,23466,22,23482,23,23491,null,null,0,2222]
[21,23677,21,23686,22,23702,23,23712,null,null,0,2222]
[21,23811,12,23826,13,23835,14,23840,null,null,0,2111]
[21,23949,12,23966,24,23978,23,23983,null,null,null,2122]

{"sheet":"!MB15850.091","index":10,"n_rows":145,"n_cols":48,"rows_kept":145,"cut":false,"hidden":false,"merged":[[4,39,4,42],[5,39,5,40],[4,44,4,47],[5,44,5,45],[4,24,4,27],[5,24,5,25],[4,29,4,32],[5,29,5,30],[4,34,4,37],[5,34,5,35],[1,1,1,2],[5,13,5,14],[26,13,26,14],[27,13,27,14],[4,19,4,22],[5,19,5,20]]}
["Report for:!MB15850.091"]
["Date:","<date>"]
["Hen:","<hen>",null,null,null,"Correct Sequence",{"$f":"Start!J2","v":2212},null,null,null,null,null,null,null,null,"Total Sequences in Data",{"$f":"4994-COUNTBLANK(L7:L5000)","v":139},null,null,null,null,"Total Sequences in Block Data",{"$f":"COUNTA(L7:L29)","v":23},null,null,null,"Total Sequences in Block Data",{"$f":"COUNTA(L30:L52)","v":23},null,null,null,"Total Sequences in Block Data",{"$f":"COUNTA(L53:L76)","v":24},null,null,null,"Total Sequences in Block Data",{"$f":"COUNTA(L77:L99)","v":23},null,null,null,"Total Sequences in Block Data",{"$f":"COUNTA(L100:L122)","v":23},null,null,null,"Total Sequences in Block Data",{"$f":"COUNTA(L123:L145)","v":23}]
[null,null,null,null,null,null,null,null,null,null,null,null,null,null,null,"Total Sequences in Summary",{"$f":"SUM(O7:O22)","v":139},null,null,null,null,"Total Sequences in Block Summary",{"$f":"SUM(U7:U22)","v":23},null,null,null,"Total Sequences in Block Summary",{"$f":"SUM(Z7:Z22)","v":23},null,null,null,"Total Sequences in Block Summary",{"$f":"SUM(AE7:AE22)","v":24},null,null,null,"Total Sequences in Block Summary",{"$f":"SUM(AJ7:AJ22)","v":23},null,null,null,"Total Sequences in Block Summary",{"$f":"SUM(AO7:AO22)","v":23},null,null,null,"Total Sequences in Block Summary",{"$f":"SUM(AT7:AT22)","v":23}]
[null,null,null,null,null,null,null,null,null,null,null,null,null,null,null,null,null,null,null,"Block 1",null,null,null,null,"Block 2",null,null,null,null,"Block 3",null,null,null,null,"Block 4",null,null,null,null,"Block 5",null,null,null,null,"Block 6"]
["Sequence\nComponent\n1","Time\n1","Sequence\nComponent\n2","Time\n2","Sequence\nComponent\n3","Time\n3","Sequence\nComponent\n4","Time\n4","Sequence\nComponent\n5","Time\n5","Correct?\n0=No 1=Yes","Sequence",null,"Frequency",null,"Relative Frequency","Variability",null,null,"Frequency",null,"Relative Frequency","Variability",null,"Frequency",null,"Relative Frequency","Variability",null,"Frequency",null,"Relative Frequency","Variability",null,"Frequency",null,"Relative Frequency","Variability",null,"Frequency",null,"Relative Frequency","Variability",null,"Frequency",null,"Relative Frequency","Variability"]
[12,15,14,21,13,27,14,35,null,null,0,1111,null,1111,{"$f":"COUNTIF($L$7:$L$500,N7)","v":52},{"$f":"O7/$Q$4","v":0.37410071942446044},{"$f":"IF(P7=0,0,(P7*((LOG(P7))/LOG(2))))","v":-0.53066237725385323},null,null,{"$f":"N7","v":1111},{"$f":"COUNTIF(L7:L29,T7)","v":10},{"$f":"U7/(W4-U20)","v":0.43478260869565216},{"$f":"IF(V7=0,0,(V7*((LOG(V7))/LOG(2))))","v":-0.52244950485636987},null,{"$f":"N7","v":1111},{"$f":"COUNTIF(L30:L52,Y7)","v":10},{"$f":"Z7/(AB4-Z20)","v":0.43478260869565216},{"$f":"IF(AA7=0,0,(AA7*((LOG(AA7))/LOG(2))))","v":-0.52244950485636987},null,{"$f":"N7","v":1111},{"$f":"COUNTIF(L53:L76,AD7)","v":8},{"$f":"AE7/(AG4-AE20)","v":0.33333333333333331},{"$f":"IF(AF7=0,0,(AF7*((LOG(AF7))/LOG(2))))","v":-0.52832083357371862},null,{"$f":"N7","v":1111},{"$f":"COUNTIF(L77:L99,AI7)","v":6},{"$f":"AJ7/(AL4-AJ20)","v":0.2608695652173913},{"$f":"IF(AK7=0,0,(AK7*((LOG(AK7))/LOG(2))))","v":-0.50572159704413644},null,{"$f":"N7","v":1111},{"$f":"COUNTIF(L100:L122,AN7)","v":9},{"$f":"AO7/(AQ4-AO20)","v":0.39130434782608697},{"$f":"IF(AP7=0,0,(AP7*((LOG(AP7))/LOG(2))))","v":-0.5296840257187958},null,{"$f":"N7","v":1111},{"$f":"COUNTIF(L123:L145,AS7)","v":9},{"$f":"AT7/(AV4-AT20)","v":0.39130434782608697},{"$f":"IF(AU7=0,0,(AU7*((LOG(AU7))/LOG(2))))","v":-0.5296840257187958}]
[12,134,14,142,13,148,14,152,null,null,0,1111,null,1112,{"$f":"COUNTIF($L$7:$L$500,N8)","v":1},{"$f":"O8/$Q$4","v":7.1942446043165471E-3},{"$f":"IF(P8=0,0,(P8*((LOG(P8))/LOG(2))))","v":-5.1215403400888537E-2},null,null,{"$f":"N8","v":1112},{"$f":"COUNTIF(L7:L29,T8)","v":0},{"$f":"U8/(W4-U20)","v":0},{"$f":"IF(V8=0,0,(V8*((LOG(V8))/LOG(2))))","v":0},null,{"$f":"N8","v":1112},{"$f":"COUNTIF(L30:L52,Y8)","v":0},{"$f":"Z8/(AB4-Z20)","v":0},{"$f":"IF(AA8=0,0,(AA8*((LOG(AA8))/LOG(2))))","v":0},null,{"$f":"N8","v":1112},{"$f":"COUNTIF(L53:L76,AD8)","v":1},{"$f":"AE8/(AG4-AE20)","v":4.1666666666666664E-2},{"$f":"IF(AF8=0,0,(AF8*((LOG(AF8))/LOG(2))))","v":-0.19104010419671485},null,{"$f":"N8","v":1112},{"$f":"COUNTIF(L77:L99,AI8)","v":0},{"$f":"AJ8/(AL4-AJ20)","v":0},{"$f":"IF(AK8=0,0,(AK8*((LOG(AK8))/LOG(2))))","v":0},null,{"$f":"N8","v":1112},{"$f":"COUNTIF(L100:L122,AN8)","v":0},{"$f":"AO8/(AQ4-AO20)","v":0},{"$f":"IF(AP8=0,0,(AP8*((LOG(AP8))/LOG(2))))","v":0},null,{"$f":"N8","v":1112},{"$f":"COUNTIF(L123:L145,AS8)","v":0},{"$f":"AT8/(AV4-AT20)","v":0},{"$f":"IF(AU8=0,0,(AU8*((LOG(AU8))/LOG(2))))","v":0}]
[12,257,14,262,13,270,14,277,null,null,0,1111,null,1121,{"$f":"COUNTIF($L$7:$L$500,N9)","v":0},{"$f":"O9/$Q$4","v":0},{"$f":"IF(P9=0,0,(P9*((LOG(P9))/LOG(2))))","v":0},null,null,{"$f":"N9","v":1121},{"$f":"COUNTIF(L7:L29,T9)","v":0},{"$f":"U9/(W4-U20)","v":0},{"$f":"IF(V9=0,0,(V9*((LOG(V9))/LOG(2))))","v":0},null,{"$f":"N9","v":1121},{"$f":"COUNTIF(L30:L52,Y9)","v":0},{"$f":"Z9/(AB4-Z20)","v":0},{"$f":"IF(AA9=0,0,(AA9*((LOG(AA9))/LOG(2))))","v":0},null,{"$f":"N9","v":1121},{"$f":"COUNTIF(L53:L76,AD9)","v":0},{"$f":"AE9/(AG4-AE20)","v":0},{"$f":"IF(AF9=0,0,(AF9*((LOG(AF9))/LOG(2))))","v":0},null,{"$f":"N9","v":1121},{"$f":"COUNTIF(L77:L99,AI9)","v":0},{"$f":"AJ9/(AL4-AJ20)","v":0},{"$f":"IF(AK9=0,0,(AK9*((LOG(AK9))/LOG(2))))","v":0},null,{"$f":"N9","v":1121},{"$f":"COUNTIF(L100:L122,AN9)","v":0},{"$f":"AO9/(AQ4-AO20)","v":0},{"$f":"IF(AP9=0,0,(AP9*((LOG(AP9))/LOG(2))))","v":0},null,{"$f":"N9","v":1121},{"$f":"COUNTIF(L123:L145,AS9)","v":0},{"$f":"AT9/(AV4-AT20)","v":0},{"$f":"IF(AU9=0,0,(AU9*((LOG(AU9))/LOG(2))))","v":0}]
[12,386,14,390,13,396,14,403,null,null,0,1111,null,1122,{"$f":"COUNTIF($L$7:$L$500,N10)","v":3},{"$f":"O10/$Q$4","v":2.1582733812949641E-2},{"$f":"IF(P10=0,0,(P10*((LOG(P10))/LOG(2))))","v":-0.11943838644609391},null,null,{"$f":"N10","v":1122},{"$f":"COUNTIF(L7:L29,T10)","v":1},{"$f":"U10/(W4-U20)","v":4.3478260869565216E-2},{"$f":"IF(V10=0,0,(V10*((LOG(V10))/LOG(2))))","v":-0.19667660678508753},null,{"$f":"N10","v":1122},{"$f":"COUNTIF(L30:L52,Y10)","v":0},{"$f":"Z10/(AB4-Z20)","v":0},{"$f":"IF(AA10=0,0,(AA10*((LOG(AA10))/LOG(2))))","v":0},null,{"$f":"N10","v":1122},{"$f":"COUNTIF(L53:L76,AD10)","v":1},{"$f":"AE10/(AG4-AE20)","v":4.1666666666666664E-2},{"$f":"IF(AF10=0,0,(AF10*((LOG(AF10))/LOG(2))))","v":-0.19104010419671485},null,{"$f":"N10","v":1122},{"$f":"COUNTIF(L77:L99,AI10)","v":0},{"$f":"AJ10/(AL4-AJ20)","v":0},{"$f":"IF(AK10=0,0,(AK10*((LOG(AK10))/LOG(2))))","v":0},null,{"$f":"N10","v":1122},{"$f":"COUNTIF(L100:L122,AN10)","v":1},{"$f":"AO10/(AQ4-AO20)","v":4.3478260869565216E-2},{"$f":"IF(AP10=0,0,(AP10*((LOG(AP10))/LOG(2))))","v":-0.19667660678508753},null,{"$f":"N10","v":1122},{"$f":"COUNTIF(L123:L145,AS10)","v":0},{"$f":"AT10/(AV4-AT20)","v":0},{"$f":"IF(AU10=0,0,(AU10*((LOG(AU10))/LOG(2))))","v":0}]
[21,528,12,541,13,547,14,553,null,null,0,2111,null,1211,{"$f":"COUNTIF($L$7:$L$500,N11)","v":2},{"$f":"O11/$Q$4","v":1.4388489208633094E-2},{"$f":"IF(P11=0,0,(P11*((LOG(P11))/LOG(2))))","v":-8.8042317593144001E-2},null,null,{"$f":"N11","v":1211},{"$f":"COUNTIF(L7:L29,T11)","v":0},{"$f":"U11/(W4-U20)","v":0},{"$f":"IF(V11=0,0,(V11*((LOG(V11))/LOG(2))))","v":0},null,{"$f":"N11","v":1211},{"$f":"COUNTIF(L30:L52,Y11)","v":0},{"$f":"Z11/(AB4-Z20)","v":0},{"$f":"IF(AA11=0,0,(AA11*((LOG(AA11))/LOG(2))))","v":0},null,{"$f":"N11","v":1211},{"$f":"COUNTIF(L53:L76,AD11)","v":0},{"$f":"AE11/(AG4-AE20)","v":0},{"$f":"IF(AF11=0,0,(AF11*((LOG(AF11))/LOG(2))))","v":0},null,{"$f":"N11","v":1211},{"$f":"COUNTIF(L77:L99,AI11)","v":1},{"$f":"AJ11/(AL4-AJ20)","v":4.3478260869565216E-2},{"$f":"IF(AK11=0,0,(AK11*((LOG(AK11))/LOG(2))))","v":-0.19667660678508753},null,{"$f":"N11","v":1211},{"$f":"COUNTIF(L100:L122,AN11)","v":1},{"$f":"AO11/(AQ4-AO20)","v":4.3478260869565216E-2},{"$f":"IF(AP11=0,0,(AP11*((LOG(AP11))/LOG(2))))","v":-0.19667660678508753},null,{"$f":"N11","v":1211},{"$f":"COUNTIF(L123:L145,AS11)","v":0},{"$f":"AT11/(AV4-AT20)","v":0},{"$f":"IF(AU11=0,0,(AU11*((LOG(AU11))/LOG(2))))","v":0}]
[12,674,14,687,13,696,14,704,null,null,0,1111,null,1212,{"$f":"COUNTIF($L$7:$L$500,N12)","v":0},{"$f":"O12/$Q$4","v":0},{"$f":"IF(P12=0,0,(P12*((LOG(P12))/LOG(2))))","v":0},null,null,{"$f":"N12","v":1212},{"$f":"COUNTIF(L7:L29,T12)","v":0},{"$f":"U12/(W4-U20)","v":0},{"$f":"IF(V12=0,0,(V12*((LOG(V12))/LOG(2))))","v":0},null,{"$f":"N12","v":1212},{"$f":"COUNTIF(L30:L52,Y12)","v":0},{"$f":"Z12/(AB4-Z20)","v":0},{"$f":"IF(AA12=0,0,(AA12*((LOG(AA12))/LOG(2))))","v":0},null,{"$f":"N12","v":1212},{"$f":"COUNTIF(L53:L76,AD12)","v":0},{"$f":"AE12/(AG4-AE20)","v":0},{"$f":"IF(AF12=0,0,(AF12*((LOG(AF12))/LOG(2))))","v":0},null,{"$f":"N12","v":1212},{"$f":"COUNTIF(L77:L99,AI12)","v":0},{"$f":"AJ12/(AL4-AJ20)","v":0},{"$f":"IF(AK12=0,0,(AK12*((LOG(AK12))/LOG(2))))","v":0},null,{"$f":"N12","v":1212},{"$f":"COUNTIF(L100:L122,AN12)","v":0},{"$f":"AO12/(AQ4-AO20)","v":0},{"$f":"IF(AP12=0,0,(AP12*((LOG(AP12))/LOG(2))))","v":0},null,{"$f":"N12","v":1212},{"$f":"COUNTIF(L123:L145,AS12)","v":0},{"$f":"AT12/(AV4-AT20)","v":0},{"$f":"IF(AU12=0,0,(AU12*((LOG(AU12))/LOG(2))))","v":0}]
[21,826,12,839,13,844,14,849,null,null,0,2111,null,1221,{"$f":"COUNTIF($L$7:$L$500,N13)","v":0},{"$f":"O13/$Q$4","v":0},{"$f":"IF(P13=0,0,(P13*((LOG(P13))/LOG(2))))","v":0},null,null,{"$f":"N13","v":1221},{"$f":"COUNTIF(L7:L29,T13)","v":0},{"$f":"U13/(W4-U20)","v":0},{"$f":"IF(V13=0,0,(V13*((LOG(V13))/LOG(2))))","v":0},null,{"$f":"N13","v":1221},{"$f":"COUNTIF(L30:L52,Y13)","v":0},{"$f":"Z13/(AB4-Z20)","v":0},{"$f":"IF(AA13=0,0,(AA13*((LOG(AA13))/LOG(2))))","v":0},null,{"$f":"N13","v":1221},{"$f":"COUNTIF(L53:L76,AD13)","v":0},{"$f":"AE13/(AG4-AE20)","v":0},{"$f":"IF(AF13=0,0,(AF13*((LOG(AF13))/LOG(2))))","v":0},null,{"$f":"N13","v":1221},{"$f":"COUNTIF(L77:L99,AI13)","v":0},{"$f":"AJ13/(AL4-AJ20)","v":0},{"$f":"IF(AK13=0,0,(AK13*((LOG(AK13))/LOG(2))))","v":0},null,{"$f":"N13","v":1221},{"$f":"COUNTIF(L100:L122,AN13)","v":0},{"$f":"AO13/(AQ4-AO20)","v":0},{"$f":"IF(AP13=0,0,(AP13*((LOG(AP13))/LOG(2))))","v":0},null,{"$f":"N13","v":1221},{"$f":"COUNTIF(L123:L145,AS13)","v":0},{"$f":"AT13/(AV4-AT20)","v":0},{"$f":"IF(AU13=0,0,(AU13*((LOG(AU13))/LOG(2))))","v":0}]
[12,994,14,1002,13,1007,14,1012,null,null,0,1111,null,1222,{"$f":"COUNTIF($L$7:$L$500,N14)","v":1},{"$f":"O14/$Q$4","v":7.1942446043165471E-3},{"$f":"IF(P14=0,0,(P14*((LOG(P14))/LOG(2))))","v":-5.1215403400888537E-2},null,null,{"$f":"N14","v":1222},{"$f":"COUNTIF(L7:L29,T14)","v":0},{"$f":"U14/(W4-U20)","v":0},{"$f":"IF(V14=0,0,(V14*((LOG(V14))/LOG(2))))","v":0},null,{"$f":"N14","v":1222},{"$f":"COUNTIF(L30:L52,Y14)","v":0},{"$f":"Z14/(AB4-Z20)","v":0},{"$f":"IF(AA14=0,0,(AA14*((LOG(AA14))/LOG(2))))","v":0},null,{"$f":"N14","v":1222},{"$f":"COUNTIF(L53:L76,AD14)","v":0},{"$f":"AE14/(AG4-AE20)","v":0},{"$f":"IF(AF14=0,0,(AF14*((LOG(AF14))/LOG(2))))","v":0},null,{"$f":"N14","v":1222},{"$f":"COUNTIF(L77:L99,AI14)","v":0},{"$f":"AJ14/(AL4-AJ20)","v":0},{"$f":"IF(AK14=0,0,(AK14*((LOG(AK14))/LOG(2))))","v":0},null,{"$f":"N14","v":1222},{"$f":"COUNTIF(L100:L122,AN14)","v":1},{"$f":"AO14/(AQ4-AO20)","v":4.3478260869565216E-2},{"$f":"IF(AP14=0,0,(AP14*((LOG(AP14))/LOG(2))))","v":-0.19667660678508753},null,{"$f":"N14","v":1222},{"$f":"COUNTIF(L123:L145,AS14)","v":0},{"$f":"AT14/(AV4-AT20)","v":0},{"$f":"IF(AU14=0,0,(AU14*((LOG(AU14))/LOG(2))))","v":0}]
[12,1128,14,1137,24,1150,23,1158,null,null,0,1122,null,2111,{"$f":"COUNTIF($L$7:$L$500,N15)","v":35},{"$f":"O15/$Q$4","v":0.25179856115107913},{"$f":"IF(P15=0,0,(P15*((LOG(P15))/LOG(2))))","v":-0.50099303562769026},null,null,{"$f":"N15","v":2111},{"$f":"COUNTIF(L7:L29,T15)","v":8},{"$f":"U15/(W4-U20)","v":0.34782608695652173},{"$f":"IF(V15=0,0,(V15*((LOG(V15))/LOG(2))))","v":-0.52993459341113491},null,{"$f":"N15","v":2111},{"$f":"COUNTIF(L30:L52,Y15)","v":3},{"$f":"Z15/(AB4-Z20)","v":0.13043478260869565},{"$f":"IF(AA15=0,0,(AA15*((LOG(AA15))/LOG(2))))","v":-0.3832955811307639},null,{"$f":"N15","v":2111},{"$f":"COUNTIF(L53:L76,AD15)","v":3},{"$f":"AE15/(AG4-AE20)","v":0.125},{"$f":"IF(AF15=0,0,(AF15*((LOG(AF15))/LOG(2))))","v":-0.375},null,{"$f":"N15","v":2111},{"$f":"COUNTIF(L77:L99,AI15)","v":8},{"$f":"AJ15/(AL4-AJ20)","v":0.34782608695652173},{"$f":"IF(AK15=0,0,(AK15*((LOG(AK15))/LOG(2))))","v":-0.52993459341113491},null,{"$f":"N15","v":2111},{"$f":"COUNTIF(L100:L122,AN15)","v":6},{"$f":"AO15/(AQ4-AO20)","v":0.2608695652173913},{"$f":"IF(AP15=0,0,(AP15*((LOG(AP15))/LOG(2))))","v":-0.50572159704413644},null,{"$f":"N15","v":2111},{"$f":"COUNTIF(L123:L145,AS15)","v":7},{"$f":"AT15/(AV4-AT20)","v":0.30434782608695654},{"$f":"IF(AU15=0,0,(AU15*((LOG(AU15))/LOG(2))))","v":-0.52232387991286355}]
[21,1283,21,1288,22,1295,23,1316,null,null,0,2222,null,2112,{"$f":"COUNTIF($L$7:$L$500,N16)","v":2},{"$f":"O16/$Q$4","v":1.4388489208633094E-2},{"$f":"IF(P16=0,0,(P16*((LOG(P16))/LOG(2))))","v":-8.8042317593144001E-2},null,null,{"$f":"N16","v":2112},{"$f":"COUNTIF(L7:L29,T16)","v":0},{"$f":"U16/(W4-U20)","v":0},{"$f":"IF(V16=0,0,(V16*((LOG(V16))/LOG(2))))","v":0},null,{"$f":"N16","v":2112},{"$f":"COUNTIF(L30:L52,Y16)","v":0},{"$f":"Z16/(AB4-Z20)","v":0},{"$f":"IF(AA16=0,0,(AA16*((LOG(AA16))/LOG(2))))","v":0},null,{"$f":"N16","v":2112},{"$f":"COUNTIF(L53:L76,AD16)","v":0},{"$f":"AE16/(AG4-AE20)","v":0},{"$f":"IF(AF16=0,0,(AF16*((LOG(AF16))/LOG(2))))","v":0},null,{"$f":"N16","v":2112},{"$f":"COUNTIF(L77:L99,AI16)","v":1},{"$f":"AJ16/(AL4-AJ20)","v":4.3478260869565216E-2},{"$f":"IF(AK16=0,0,(AK16*((LOG(AK16))/LOG(2))))","v":-0.19667660678508753},null,{"$f":"N16","v":2112},{"$f":"COUNTIF(L100:L122,AN16)","v":0},{"$f":"AO16/(AQ4-AO20)","v":0},{"$f":"IF(AP16=0,0,(AP16*((LOG(AP16))/LOG(2))))","v":0},null,{"$f":"N16","v":2112},{"$f":"COUNTIF(L123:L145,AS16)","v":1},{"$f":"AT16/(AV4-AT20)","v":4.3478260869565216E-2},{"$f":"IF(AU16=0,0,(AU16*((LOG(AU16))/LOG(2))))","v":-0.19667660678508753}]
[21,1435,12,1448,13,1453,14,1459,null,null,0,2111,null,2121,{"$f":"COUNTIF($L$7:$L$500,N17)","v":0},{"$f":"O17/$Q$4","v":0},{"$f":"IF(P17=0,0,(P17*((LOG(P17))/LOG(2))))","v":0},null,null,{"$f":"N17","v":2121},{"$f":"COUNTIF(L7:L29,T17)","v":0},{"$f":"U17/(W4-U20)","v":0},{"$f":"IF(V17=0,0,(V17*((LOG(V17))/LOG(2))))","v":0},null,{"$f":"N17","v":2121},{"$f":"COUNTIF(L30:L52,Y17)","v":0},{"$f":"Z17/(AB4-Z20)","v":0},{"$f":"IF(AA17=0,0,(AA17*((LOG(AA17))/LOG(2))))","v":0},null,{"$f":"N17","v":2121},{"$f":"COUNTIF(L53:L76,AD17)","v":0},{"$f":"AE17/(AG4-AE20)","v":0},{"$f":"IF(AF17=0,0,(AF17*((LOG(AF17))/LOG(2))))","v":0},null,{"$f":"N17","v":2121},{"$f":"COUNTIF(L77:L99,AI17)","v":0},{"$f":"AJ17/(AL4-AJ20)","v":0},{"$f":"IF(AK17=0,0,(AK17*((LOG(AK17))/LOG(2))))","v":0},null,{"$f":"N17","v":2121},{"$f":"COUNTIF(L100:L122,AN17)","v":0},{"$f":"AO17/(AQ4-AO20)","v":0},{"$f":"IF(AP17=0,0,(AP17*((LOG(AP17))/LOG(2))))","v":0},null,{"$f":"N17","v":2121},{"$f":"COUNTIF(L123:L145,AS17)","v":0},{"$f":"AT17/(AV4-AT20)","v":0},{"$f":"IF(AU17=0,0,(AU17*((LOG(AU17))/LOG(2))))","v":0}]
[12,1593,14,1597,13,1603,14,1612,null,null,0,1111,null,2122,{"$f":"COUNTIF($L$7:$L$500,N18)","v":0},{"$f":"O18/$Q$4","v":0},{"$f":"IF(P18=0,0,(P18*((LOG(P18))/LOG(2))))","v":0},null,null,{"$f":"N18","v":2122},{"$f":"COUNTIF(L7:L29,T18)","v":0},{"$f":"U18/(W4-U20)","v":0},{"$f":"IF(V18=0,0,(V18*((LOG(V18))/LOG(2))))","v":0},null,{"$f":"N18","v":2122},{"$f":"COUNTIF(L30:L52,Y18)","v":0},{"$f":"Z18/(AB4-Z20)","v":0},{"$f":"IF(AA18=0,0,(AA18*((LOG(AA18))/LOG(2))))","v":0},null,{"$f":"N18","v":2122},{"$f":"COUNTIF(L53:L76,AD18)","v":0},{"$f":"AE18/(AG4-AE20)","v":0},{"$f":"IF(AF18=0,0,(AF18*((LOG(AF18))/LOG(2))))","v":0},null,{"$f":"N18","v":2122},{"$f":"COUNTIF(L77:L99,AI18)","v":0},{"$f":"AJ18/(AL4-AJ20)","v":0},{"$f":"IF(AK18=0,0,(AK18*((LOG(AK18))/LOG(2))))","v":0},null,{"$f":"N18","v":2122},{"$f":"COUNTIF(L100:L122,AN18)","v":0},{"$f":"AO18/(AQ4-AO20)","v":0},{"$f":"IF(AP18=0,0,(AP18*((LOG(AP18))/LOG(2))))","v":0},null,{"$f":"N18","v":2122},{"$f":"COUNTIF(L123:L145,AS18)","v":0},{"$f":"AT18/(AV4-AT20)","v":0},{"$f":"IF(AU18=0,0,(AU18*((LOG(AU18))/LOG(2))))","v":0}]
[12,1762,14,1770,13,1777,14,1786,null,null,0,1111,null,2211,{"$f":"COUNTIF($L$7:$L$500,N19)","v":11},{"$f":"O19/$Q$4","v":7.9136690647482008E-2},{"$f":"IF(P19=0,0,(P19*((LOG(P19))/LOG(2))))","v":-0.28960146758955618},null,null,{"$f":"N19","v":2211},{"$f":"COUNTIF(L7:L29,T19)","v":0},{"$f":"U19/(W4-U20)","v":0},{"$f":"IF(V19=0,0,(V19*((LOG(V19))/LOG(2))))","v":0},null,{"$f":"N19","v":2211},{"$f":"COUNTIF(L30:L52,Y19)","v":1},{"$f":"Z19/(AB4-Z20)","v":4.3478260869565216E-2},{"$f":"IF(AA19=0,0,(AA19*((LOG(AA19))/LOG(2))))","v":-0.19667660678508753},null,{"$f":"N19","v":2211},{"$f":"COUNTIF(L53:L76,AD19)","v":1},{"$f":"AE19/(AG4-AE20)","v":4.1666666666666664E-2},{"$f":"IF(AF19=0,0,(AF19*((LOG(AF19))/LOG(2))))","v":-0.19104010419671485},null,{"$f":"N19","v":2211},{"$f":"COUNTIF(L77:L99,AI19)","v":3},{"$f":"AJ19/(AL4-AJ20)","v":0.13043478260869565},{"$f":"IF(AK19=0,0,(AK19*((LOG(AK19))/LOG(2))))","v":-0.3832955811307639},null,{"$f":"N19","v":2211},{"$f":"COUNTIF(L100:L122,AN19)","v":2},{"$f":"AO19/(AQ4-AO20)","v":8.6956521739130432E-2},{"$f":"IF(AP19=0,0,(AP19*((LOG(AP19))/LOG(2))))","v":-0.30639669183104457},null,{"$f":"N19","v":2211},{"$f":"COUNTIF(L123:L145,AS19)","v":4},{"$f":"AT19/(AV4-AT20)","v":0.17391304347826086},{"$f":"IF(AU19=0,0,(AU19*((LOG(AU19))/LOG(2))))","v":-0.43888034018382832}]
[12,1902,14,1930,13,1937,14,1943,null,null,0,1111,null,2212,{"$f":"COUNTIF($L$7:$L$500,N20)","v":0},{"$f":"O20/$Q$4","v":0},{"$f":"IF(P20=0,0,(P20*((LOG(P20))/LOG(2))))","v":0},null,null,{"$f":"N20","v":2212},{"$f":"COUNTIF(L7:L29,T20)","v":0},null,null,null,{"$f":"N20","v":2212},{"$f":"COUNTIF(L30:L52,Y20)","v":0},null,null,null,{"$f":"N20","v":2212},{"$f":"COUNTIF(L53:L76,AD20)","v":0},null,null,null,{"$f":"N20","v":2212},{"$f":"COUNTIF(L77:L99,AI20)","v":0},null,null,null,{"$f":"N20","v":2212},{"$f":"COUNTIF(L100:L122,AN20)","v":0},null,null,null,{"$f":"N20","v":2212},{"$f":"COUNTIF(L123:L145,AS20)","v":0}]
[21,2085,12,2098,13,2102,14,2106,null,null,0,2111,null,2221,{"$f":"COUNTIF($L$7:$L$500,N21)","v":3},{"$f":"O21/$Q$4","v":2.1582733812949641E-2},{"$f":"IF(P21=0,0,(P21*((LOG(P21))/LOG(2))))","v":-0.11943838644609391},null,null,{"$f":"N21","v":2221},{"$f":"COUNTIF(L7:L29,T21)","v":0},{"$f":"U21/(W4-U20)","v":0},{"$f":"IF(V21=0,0,(V21*((LOG(V21))/LOG(2))))","v":0},null,{"$f":"N21","v":2221},{"$f":"COUNTIF(L30:L52,Y21)","v":0},{"$f":"Z21/(AB4-Z20)","v":0},{"$f":"IF(AA21=0,0,(AA21*((LOG(AA21))/LOG(2))))","v":0},null,{"$f":"N21","v":2221},{"$f":"COUNTIF(L53:L76,AD21)","v":0},{"$f":"AE21/(AG4-AE20)","v":0},{"$f":"IF(AF21=0,0,(AF21*((LOG(AF21))/LOG(2))))","v":0},null,{"$f":"N21","v":2221},{"$f":"COUNTIF(L77:L99,AI21)","v":1},{"$f":"AJ21/(AL4-AJ20)","v":4.3478260869565216E-2},{"$f":"IF(AK21=0,0,(AK21*((LOG(AK21))/LOG(2))))","v":-0.19667660678508753},null,{"$f":"N21","v":2221},{"$f":"COUNTIF(L100:L122,AN21)","v":2},{"$f":"AO21/(AQ4-AO20)","v":8.6956521739130432E-2},{"$f":"IF(AP21=0,0,(AP21*((LOG(AP21))/LOG(2))))","v":-0.30639669183104457},null,{"$f":"N21","v":2221},{"$f":"COUNTIF(L123:L145,AS21)","v":0},{"$f":"AT21/(AV4-AT20)","v":0},{"$f":"IF(AU21=0,0,(AU21*((LOG(AU21))/LOG(2))))","v":0}]
[21,2218,21,2224,22,2229,23,2237,null,null,0,2222,null,2222,{"$f":"COUNTIF($L$7:$L$500,N22)","v":29},{"$f":"O22/$Q$4","v":0.20863309352517986},{"$f":"IF(P22=0,0,(P22*((LOG(P22))/LOG(2))))","v":-0.47171109532577071},null,null,{"$f":"N22","v":2222},{"$f":"COUNTIF(L7:L29,T22)","v":4},{"$f":"U22/(W4-U20)","v":0.17391304347826086},{"$f":"IF(V22=0,0,(V22*((LOG(V22))/LOG(2))))","v":-0.43888034018382832},null,{"$f":"N22","v":2222},{"$f":"COUNTIF(L30:L52,Y22)","v":9},{"$f":"Z22/(AB4-Z20)","v":0.39130434782608697},{"$f":"IF(AA22=0,0,(AA22*((LOG(AA22))/LOG(2))))","v":-0.5296840257187958},null,{"$f":"N22","v":2222},{"$f":"COUNTIF(L53:L76,AD22)","v":10},{"$f":"AE22/(AG4-AE20)","v":0.41666666666666669},{"$f":"IF(AF22=0,0,(AF22*((LOG(AF22))/LOG(2))))","v":-0.52626433576408083},null,{"$f":"N22","v":2222},{"$f":"COUNTIF(L77:L99,AI22)","v":3},{"$f":"AJ22/(AL4-AJ20)","v":0.13043478260869565},{"$f":"IF(AK22=0,0,(AK22*((LOG(AK22))/LOG(2))))","v":-0.3832955811307639},null,{"$f":"N22","v":2222},{"$f":"COUNTIF(L100:L122,AN22)","v":1},{"$f":"AO22/(AQ4-AO20)","v":4.3478260869565216E-2},{"$f":"IF(AP22=0,0,(AP22*((LOG(AP22))/LOG(2))))","v":-0.19667660678508753},null,{"$f":"N22","v":2222},{"$f":"COUNTIF(L123:L145,AS22)","v":2},{"$f":"AT22/(AV4-AT20)","v":8.6956521739130432E-2},{"$f":"IF(AU22=0,0,(AU22*((LOG(AU22))/LOG(2))))","v":-0.30639669183104457}]
[21,2356,21,2364,22,2372,23,2380,null,null,0,2222,null,null,null,{"$f":"SUM(P7:P22)","v":1},{"$f":"-SUM(Q7:Q22)","v":2.3103601906771232},null,null,null,null,{"$f":"SUM(V7:V22)","v":1},{"$f":"-SUM(W7:W22)","v":1.6879410452364207},null,null,null,{"$f":"SUM(AA7:AA22)","v":1},{"$f":"-SUM(AB7:AB22)","v":1.632105718491017},null,null,null,{"$f":"SUM(AF7:AF22)","v":1},{"$f":"-SUM(AG7:AG22)","v":2.0027054819279444},null,null,null,{"$f":"SUM(AK7:AK22)","v":1},{"$f":"-SUM(AL7:AL22)","v":2.392277173072062},null,null,null,{"$f":"SUM(AP7:AP22)","v":0.99999999999999978},{"$f":"-SUM(AQ7:AQ22)","v":2.4349054335653717},null,null,null,{"$f":"SUM(AU7:AU22)","v":1},{"$f":"-SUM(AV7:AV22)","v":1.9939615444316199}]
[21,2498,12,2521,13,2526,14,2534,null,null,0,2111,null,null,null,"U=",{"$f":"Q23/(LOG(Q4)/LOG(2))","v":0.32453705783987397},null,null,null,null,"U1=",{"$f":"W23/(LOG(W4)/LOG(2))","v":0.37314423050540541},null,null,null,"U2=",{"$f":"AB23/(LOG(AB4)/LOG(2))","v":0.36080100910426144},null,null,null,"U3=",{"$f":"AG23/(LOG(AG4)/LOG(2))","v":0.43679866119143707},null,null,null,"U4=",{"$f":"AL23/(LOG(AL4)/LOG(2))","v":0.52884810605253718},null,null,null,"U5=",{"$f":"AQ23/(LOG(AQ4)/LOG(2))","v":0.53827171092573478},null,null,null,"U6=",{"$f":"AV23/(LOG(AV4)/LOG(2))","v":0.44079456936844236}]
[12,2782,14,2787,13,2794,14,2803,null,null,0,1111]
[21,2928,12,2940,13,2945,14,2950,null,null,0,2111]
[21,3058,12,3071,13,3076,14,3080,null,null,0,2111,null,"Total Target Seq"]
[21,3182,12,3197,13,3202,14,3206,null,null,0,2111,null,{"$f":"COUNTIF(L7:L145,G3)","v":0},null,23,23,24,23,23,23]
[21,3316,21,3324,22,3332,23,3346,null,null,0,2222,null,null,null,"% of reinforcement given in 6 equal intervals based on number of trials "]
[21,3453,12,3468,13,3473,14,3479,null,null,0,2111,null,null,null,"%_1","%_2","%_3","%_4","%_5","%_6"]
[21,3592,21,3597,22,3603,23,3609,null,null,0,2222,null,null,"target sequence",{"$f":"$G$3","v":2212},{"$f":"$G$3","v":2212},{"$f":"$G$3","v":2212},{"$f":"$G$3","v":2212},{"$f":"$G$3","v":2212},{"$f":"$G$3","v":2212}]
[21,3736,21,3741,22,3756,23,3767,null,null,0,2222,null,null,"total reinforcement",{"$f":"U20","v":0},{"$f":"Z20","v":0},{"$f":"AE20","v":0},{"$f":"AJ20","v":0},{"$f":"AO20","v":0},{"$f":"AT20","v":0}]
[12,3898,14,3904,13,3918,14,3927,null,null,0,1111,null,null,"% target"]
[12,4061,14,4066,13,4078,14,4087,null,null,0,1111,null,null,"CCRF"]
[21,4193,21,4199,11,4213,12,4218,null,null,0,2211,null,null,"% CCRf"]
[12,4306,14,4313,13,4321,14,4328,null,null,0,1111,null,null,"average response rate",{"$f":"H29/P28","v":145.47826086956522},{"$f":"(H52-H29)/Q28","v":139.34782608695653},{"$f":"(H76-H52)/R28","v":144.95833333333334},{"$f":"(H99-H76)/S28","v":163.69565217391303},{"$f":"(H122-H99)/T28","v":206.65217391304347},{"$f":"(H145-H122)/U28","v":234.65217391304347}]
[21,4427,21,4445,22,4450,23,4459,null,null,0,2222]
[12,4568,14,4573,13,4577,14,4581,null,null,0,1111]
[21,4711,21,4716,22,4724,23,4732,null,null,0,2222]
[12,4853,14,4862,13,4871,14,4880,null,null,0,1111]
[21,4986,12,5000,13,5005,14,5011,null,null,0,2111]
[21,5112,21,5120,22,5126,23,5131,null,null,0,2222]
[21,5237,12,5255,13,5261,14,5268,null,null,0,2111]
[21,5421,21,5429,22,5436,23,5459,null,null,0,2222]
[12,5587,14,5592,13,5597,14,5605,null,null,0,1111]
[21,5722,21,5731,22,5738,23,5745,null,null,0,2222]
[21,5859,21,5865,22,5873,23,5881,null,null,0,2222]
[12,6000,14,6006,13,6014,14,6026,null,null,0,1111]
[12,6128,14,6133,13,6144,14,6149,null,null,0,1111]
[21,6257,21,6263,22,6278,23,6286,null,null,0,2222]
[12,6400,14,6410,13,6415,14,6423,null,null,0,1111]
[12,6530,14,6536,13,6541,14,6551,null,null,0,1111]
[12,6663,14,6669,24,6682,23,6689,null,null,0,1122]
[12,6806,14,6811,13,6815,14,6821,null,null,0,1111]
[21,6960,21,6979,22,6992,23,6999,null,null,0,2222]
[21,7111,21,7119,22,7124,23,7129,null,null,0,2222]
[12,7236,14,7246,13,7252,14,7259,null,null,0,1111]
[21,7368,21,7377,22,7382,23,7388,null,null,0,2222]
[12,7507,14,7512,13,7521,23,7534,null,null,0,1112]
[21,7643,21,7648,22,7659,23,7667,null,null,0,2222]
[21,7785,21,7791,22,7797,23,7802,null,null,0,2222]
[21,7913,21,7924,22,7933,23,7940,null,null,0,2222]
[12,8063,14,8068,13,8077,14,8086,null,null,0,1111]
[12,8208,14,8213,13,8215,14,8223,null,null,0,1111]
[21,8357,21,8362,22,8370,23,8381,null,null,0,2222]
[21,8490,12,8503,13,8508,14,8513,null,null,0,2111]
[12,8642,14,8648,13,8654,14,8663,null,null,0,1111]
[21,8772,12,8789,13,8794,14,8801,null,null,0,2111]
[21,8963,21,8971,22,8982,23,9003,null,null,0,2222]
[12,9118,14,9127,13,9132,14,9140,null,null,0,1111]
[21,9243,21,9254,11,9268,12,9273,null,null,0,2211]
[12,9390,14,9395,13,9405,14,9413,null,null,0,1111]
[21,9534,12,9548,13,9560,14,9569,null,null,0,2111]
[12,9727,14,9732,13,9737,14,9742,null,null,0,1111]
[21,9857,21,9881,22,9886,23,9890,null,null,0,2222]
[21,10009,21,10014,22,10019,23,10030,null,null,0,2222]
[21,10158,21,10166,22,10175,23,10190,null,null,0,2222]
[12,10294,14,10323,13,10327,14,10336,null,null,0,1111]
[21,10445,12,10457,13,10462,14,10469,null,null,0,2111]
[21,10587,12,10599,13,10605,14,10613,null,null,0,2111]
[21,10720,12,10733,13,10738,14,10739,null,null,0,2111]
[21,10856,12,10873,13,10881,23,10914,null,null,0,2112]
[12,11045,14,11056,13,11064,14,11072,null,null,0,1111]
[12,11184,23,11193,13,11209,14,11214,null,null,0,1211]
[21,11325,12,11342,13,11351,14,11362,null,null,0,2111]
[21,11480,21,11488,11,11504,12,11511,null,null,0,2211]
[12,11651,14,11656,13,11661,14,11668,null,null,0,1111]
[21,11768,21,11796,22,11803,14,11819,null,null,0,2221]
[12,11918,14,11929,13,11952,14,11965,null,null,0,1111]
[21,12127,12,12139,13,12144,14,12149,null,null,0,2111]
[21,12280,21,12298,22,12307,23,12322,null,null,0,2222]
[12,12555,14,12559,13,12564,14,12574,null,null,0,1111]
[21,12685,21,12694,11,12714,12,12722,null,null,0,2211]
[21,12837,21,12847,11,12860,12,12869,null,null,0,2211]
[21,12986,21,12992,22,12998,23,13004,null,null,0,2222]
[12,13139,14,13150,13,13157,14,13165,null,null,0,1111]
[21,13465,12,13483,13,13488,14,13494,null,null,0,2111]
[21,13609,12,13631,13,13637,14,13644,null,null,0,2111]
[21,13771,12,13786,13,13790,14,13795,null,null,0,2111]
[21,13902,12,13932,13,13937,14,13942,null,null,0,2111]
[21,14106,12,14121,13,14125,14,14130,null,null,0,2111]
[21,15026,21,15035,22,15043,14,15058,null,null,0,2221]
[12,15160,14,15165,13,15170,14,15178,null,null,0,1111]
[21,15305,12,15321,13,15326,14,15330,null,null,0,2111]
[21,15448,21,15460,11,15471,12,15477,null,null,0,2211]
[21,15606,12,15618,13,15623,14,15631,null,null,0,2111]
[12,15747,23,15760,13,15775,14,15780,null,null,0,1211]
[21,15925,12,15937,13,15942,14,15948,null,null,0,2111]
[21,16077,21,16087,11,16099,12,16104,null,null,0,2211]
[12,16253,14,16258,13,16266,14,16275,null,null,0,1111]
[12,16472,14,16477,13,16484,14,16491,null,null,0,1111]
[12,16636,14,16641,13,16650,14,16657,null,null,0,1111]
[21,16862,12,16877,13,16882,14,16887,null,null,0,2111]
[21,17009,21,17028,22,17037,23,17045,null,null,0,2222]
[12,17189,23,17202,24,17207,23,17211,null,null,0,1222]
[21,17339,21,17345,22,17354,14,17375,null,null,0,2221]
[12,17551,14,17564,24,17598,23,17609,null,null,0,1122]
[12,17747,14,17753,13,17757,14,17763,null,null,0,1111]
[12,17918,14,17925,13,17930,14,17937,null,null,0,1111]
[12,18117,14,18121,13,18127,14,18135,null,null,0,1111]
[12,18354,14,18362,13,18368,14,18376,null,null,0,1111]
[12,18535,14,18539,13,18544,14,18548,null,null,0,1111]
[12,18744,14,18752,13,18757,14,18763,null,null,0,1111]
[12,19021,14,19026,13,19031,14,19041,null,null,0,1111]
[12,19159,14,19183,13,19188,14,19192,null,null,0,1111]
[12,19401,14,19406,13,19414,14,19419,null,null,0,1111]
[12,19712,14,19722,13,19731,14,19739,null,null,0,1111]
[12,19857,14,19862,13,19869,14,19874,null,null,0,1111]
[12,20146,14,20151,13,20157,14,20165,null,null,0,1111]
[21,20324,21,20333,22,20341,23,20346,null,null,0,2222]
[21,20475,21,20484,11,20498,12,20503,null,null,0,2211]
[21,20831,12,20855,13,20860,14,20866,null,null,0,2111]
[21,20985,12,20998,13,21003,14,21008,null,null,0,2111]
[21,21134,12,21147,13,21155,14,21160,null,null,0,2111]
[21,21382,12,21435,13,21447,14,21455,null,null,0,2111]
[21,21642,12,21654,13,21659,14,21666,null,null,0,2111]
[21,21797,21,21823,11,21838,12,21843,null,null,0,2211]
[21,22000,21,22009,11,22022,12,22033,null,null,0,2211]
[21,22170,12,22185,13,22192,23,22202,null,null,0,2112]
[21,22488,12,22501,13,22505,14,22511,null,null,0,2111]
[12,22899,14,22904,13,22911,14,22919,null,null,0,1111]
[21,23236,21,23250,11,23264,12,23268,null,null,0,2211]
[21,23406,12,23421,13,23426,14,23437,null,null,0,2111]
[21,23602,21,23617,22,23625,23,23630,null,null,0,2222]
[12,23925,14,23931,13,23937,14,23945,null,null,null,1111]

{"sheet":"!MB16900.091","index":11,"n_rows":141,"n_cols":48,"rows_kept":141,"cut":false,"hidden":false,"merged":[[4,39,4,42],[5,39,5,40],[4,44,4,47],[5,44,5,45],[4,24,4,27],[5,24,5,25],[4,29,4,32],[5,29,5,30],[4,34,4,37],[5,34,5,35],[1,1,1,2],[5,13,5,14],[26,13,26,14],[27,13,27,14],[4,19,4,22],[5,19,5,20]]}
["Report for:!MB16900.091"]
["Date:","<date>"]
["Hen:","<hen>",null,null,null,"Correct Sequence",{"$f":"Start!J2","v":2212},null,null,null,null,null,null,null,null,"Total Sequences in Data",{"$f":"4994-COUNTBLANK(L7:L5000)","v":135},null,null,null,null,"Total Sequences in Block Data",{"$f":"COUNTA(L7:L29)","v":23},null,null,null,"Total Sequences in Block Data",{"$f":"COUNTA(L30:L51)","v":22},null,null,null,"Total Sequences in Block Data",{"$f":"COUNTA(L52:L74)","v":23},null,null,null,"Total Sequences in Block Data",{"$f":"COUNTA(L75:L96)","v":22},null,null,null,"Total Sequences in Block Data",{"$f":"COUNTA(L97:L119)","v":23},null,null,null,"Total Sequences in Block Data",{"$f":"COUNTA(L120:L141)","v":22}]
[null,null,null,null,null,null,null,null,null,null,null,null,null,null,null,"Total Sequences in Summary",{"$f":"SUM(O7:O22)","v":135},null,null,null,null,"Total Sequences in Block Summary",{"$f":"SUM(U7:U22)","v":23},null,null,null,"Total Sequences in Block Summary",{"$f":"SUM(Z7:Z22)","v":22},null,null,null,"Total Sequences in Block Summary",{"$f":"SUM(AE7:AE22)","v":23},null,null,null,"Total Sequences in Block Summary",{"$f":"SUM(AJ7:AJ22)","v":22},null,null,null,"Total Sequences in Block Summary",{"$f":"SUM(AO7:AO22)","v":23},null,null,null,"Total Sequences in Block Summary",{"$f":"SUM(AT7:AT22)","v":22}]
[null,null,null,null,null,null,null,null,null,null,null,null,null,null,null,null,null,null,null,"Block 1",null,null,null,null,"Block 2",null,null,null,null,"Block 3",null,null,null,null,"Block 4",null,null,null,null,"Block 5",null,null,null,null,"Block 6"]
["Sequence\nComponent\n1","Time\n1","Sequence\nComponent\n2","Time\n2","Sequence\nComponent\n3","Time\n3","Sequence\nComponent\n4","Time\n4","Sequence\nComponent\n5","Time\n5","Correct?\n0=No 1=Yes","Sequence",null,"Frequency",null,"Relative Frequency","Variability",null,null,"Frequency",null,"Relative Frequency","Variability",null,"Frequency",null,"Relative Frequency","Variability",null,"Frequency",null,"Relative Frequency","Variability",null,"Frequency",null,"Relative Frequency","Variability",null,"Frequency",null,"Relative Frequency","Variability",null,"Frequency",null,"Relative Frequency","Variability"]
[12,12,14,20,13,29,14,37,null,null,0,1111,null,1111,{"$f":"COUNTIF($L$7:$L$500,N7)","v":24},{"$f":"O7/$Q$4","v":0.17777777777777778},{"$f":"IF(P7=0,0,(P7*((LOG(P7))/LOG(2))))","v":-0.44299610601416445},null,null,{"$f":"N7","v":1111},{"$f":"COUNTIF(L7:L29,T7)","v":8},{"$f":"U7/(W4-U20)","v":0.34782608695652173},{"$f":"IF(V7=0,0,(V7*((LOG(V7))/LOG(2))))","v":-0.52993459341113491},null,{"$f":"N7","v":1111},{"$f":"COUNTIF(L30:L51,Y7)","v":9},{"$f":"Z7/(AB4-Z20)","v":0.40909090909090912},{"$f":"IF(AA7=0,0,(AA7*((LOG(AA7))/LOG(2))))","v":-0.52752543430703935},null,{"$f":"N7","v":1111},{"$f":"COUNTIF(L52:L74,AD7)","v":4},{"$f":"AE7/(AG4-AE20)","v":0.17391304347826086},{"$f":"IF(AF7=0,0,(AF7*((LOG(AF7))/LOG(2))))","v":-0.43888034018382832},null,{"$f":"N7","v":1111},{"$f":"COUNTIF(L75:L96,AI7)","v":1},{"$f":"AJ7/(AL4-AJ20)","v":4.5454545454545456E-2},{"$f":"IF(AK7=0,0,(AK7*((LOG(AK7))/LOG(2))))","v":-0.20270143721078623},null,{"$f":"N7","v":1111},{"$f":"COUNTIF(L97:L119,AN7)","v":2},{"$f":"AO7/(AQ4-AO20)","v":8.6956521739130432E-2},{"$f":"IF(AP7=0,0,(AP7*((LOG(AP7))/LOG(2))))","v":-0.30639669183104457},null,{"$f":"N7","v":1111},{"$f":"COUNTIF(L120:L141,AS7)","v":0},{"$f":"AT7/(AV4-AT20)","v":0},{"$f":"IF(AU7=0,0,(AU7*((LOG(AU7))/LOG(2))))","v":0}]
[12,139,14,144,13,150,14,158,null,null,0,1111,null,1112,{"$f":"COUNTIF($L$7:$L$500,N8)","v":0},{"$f":"O8/$Q$4","v":0},{"$f":"IF(P8=0,0,(P8*((LOG(P8))/LOG(2))))","v":0},null,null,{"$f":"N8","v":1112},{"$f":"COUNTIF(L7:L29,T8)","v":0},{"$f":"U8/(W4-U20)","v":0},{"$f":"IF(V8=0,0,(V8*((LOG(V8))/LOG(2))))","v":0},null,{"$f":"N8","v":1112},{"$f":"COUNTIF(L30:L51,Y8)","v":0},{"$f":"Z8/(AB4-Z20)","v":0},{"$f":"IF(AA8=0,0,(AA8*((LOG(AA8))/LOG(2))))","v":0},null,{"$f":"N8","v":1112},{"$f":"COUNTIF(L52:L74,AD8)","v":0},{"$f":"AE8/(AG4-AE20)","v":0},{"$f":"IF(AF8=0,0,(AF8*((LOG(AF8))/LOG(2))))","v":0},null,{"$f":"N8","v":1112},{"$f":"COUNTIF(L75:L96,AI8)","v":0},{"$f":"AJ8/(AL4-AJ20)","v":0},{"$f":"IF(AK8=0,0,(AK8*((LOG(AK8))/LOG(2))))","v":0},null,{"$f":"N8","v":1112},{"$f":"COUNTIF(L97:L119,AN8)","v":0},{"$f":"AO8/(AQ4-AO20)","v":0},{"$f":"IF(AP8=0,0,(AP8*((LOG(AP8))/LOG(2))))","v":0},null,{"$f":"N8","v":1112},{"$f":"COUNTIF(L120:L141,AS8)","v":0},{"$f":"AT8/(AV4-AT20)","v":0},{"$f":"IF(AU8=0,0,(AU8*((LOG(AU8))/LOG(2))))","v":0}]
[21,260,12,273,13,284,14,292,null,null,0,2111,null,1121,{"$f":"COUNTIF($L$7:$L$500,N9)","v":0},{"$f":"O9/$Q$4","v":0},{"$f":"IF(P9=0,0,(P9*((LOG(P9))/LOG(2))))","v":0},null,null,{"$f":"N9","v":1121},{"$f":"COUNTIF(L7:L29,T9)","v":0},{"$f":"U9/(W4-U20)","v":0},{"$f":"IF(V9=0,0,(V9*((LOG(V9))/LOG(2))))","v":0},null,{"$f":"N9","v":1121},{"$f":"COUNTIF(L30:L51,Y9)","v":0},{"$f":"Z9/(AB4-Z20)","v":0},{"$f":"IF(AA9=0,0,(AA9*((LOG(AA9))/LOG(2))))","v":0},null,{"$f":"N9","v":1121},{"$f":"COUNTIF(L52:L74,AD9)","v":0},{"$f":"AE9/(AG4-AE20)","v":0},{"$f":"IF(AF9=0,0,(AF9*((LOG(AF9))/LOG(2))))","v":0},null,{"$f":"N9","v":1121},{"$f":"COUNTIF(L75:L96,AI9)","v":0},{"$f":"AJ9/(AL4-AJ20)","v":0},{"$f":"IF(AK9=0,0,(AK9*((LOG(AK9))/LOG(2))))","v":0},null,{"$f":"N9","v":1121},{"$f":"COUNTIF(L97:L119,AN9)","v":0},{"$f":"AO9/(AQ4-AO20)","v":0},{"$f":"IF(AP9=0,0,(AP9*((LOG(AP9))/LOG(2))))","v":0},null,{"$f":"N9","v":1121},{"$f":"COUNTIF(L120:L141,AS9)","v":0},{"$f":"AT9/(AV4-AT20)","v":0},{"$f":"IF(AU9=0,0,(AU9*((LOG(AU9))/LOG(2))))","v":0}]
[12,402,14,407,13,412,14,418,null,null,0,1111,null,1122,{"$f":"COUNTIF($L$7:$L$500,N10)","v":1},{"$f":"O10/$Q$4","v":7.4074074074074077E-3},{"$f":"IF(P10=0,0,(P10*((LOG(P10))/LOG(2))))","v":-5.2420856274450603E-2},null,null,{"$f":"N10","v":1122},{"$f":"COUNTIF(L7:L29,T10)","v":0},{"$f":"U10/(W4-U20)","v":0},{"$f":"IF(V10=0,0,(V10*((LOG(V10))/LOG(2))))","v":0},null,{"$f":"N10","v":1122},{"$f":"COUNTIF(L30:L51,Y10)","v":0},{"$f":"Z10/(AB4-Z20)","v":0},{"$f":"IF(AA10=0,0,(AA10*((LOG(AA10))/LOG(2))))","v":0},null,{"$f":"N10","v":1122},{"$f":"COUNTIF(L52:L74,AD10)","v":1},{"$f":"AE10/(AG4-AE20)","v":4.3478260869565216E-2},{"$f":"IF(AF10=0,0,(AF10*((LOG(AF10))/LOG(2))))","v":-0.19667660678508753},null,{"$f":"N10","v":1122},{"$f":"COUNTIF(L75:L96,AI10)","v":0},{"$f":"AJ10/(AL4-AJ20)","v":0},{"$f":"IF(AK10=0,0,(AK10*((LOG(AK10))/LOG(2))))","v":0},null,{"$f":"N10","v":1122},{"$f":"COUNTIF(L97:L119,AN10)","v":0},{"$f":"AO10/(AQ4-AO20)","v":0},{"$f":"IF(AP10=0,0,(AP10*((LOG(AP10))/LOG(2))))","v":0},null,{"$f":"N10","v":1122},{"$f":"COUNTIF(L120:L141,AS10)","v":0},{"$f":"AT10/(AV4-AT20)","v":0},{"$f":"IF(AU10=0,0,(AU10*((LOG(AU10))/LOG(2))))","v":0}]
[12,517,14,525,13,532,14,539,null,null,0,1111,null,1211,{"$f":"COUNTIF($L$7:$L$500,N11)","v":1},{"$f":"O11/$Q$4","v":7.4074074074074077E-3},{"$f":"IF(P11=0,0,(P11*((LOG(P11))/LOG(2))))","v":-5.2420856274450603E-2},null,null,{"$f":"N11","v":1211},{"$f":"COUNTIF(L7:L29,T11)","v":0},{"$f":"U11/(W4-U20)","v":0},{"$f":"IF(V11=0,0,(V11*((LOG(V11))/LOG(2))))","v":0},null,{"$f":"N11","v":1211},{"$f":"COUNTIF(L30:L51,Y11)","v":0},{"$f":"Z11/(AB4-Z20)","v":0},{"$f":"IF(AA11=0,0,(AA11*((LOG(AA11))/LOG(2))))","v":0},null,{"$f":"N11","v":1211},{"$f":"COUNTIF(L52:L74,AD11)","v":0},{"$f":"AE11/(AG4-AE20)","v":0},{"$f":"IF(AF11=0,0,(AF11*((LOG(AF11))/LOG(2))))","v":0},null,{"$f":"N11","v":1211},{"$f":"COUNTIF(L75:L96,AI11)","v":0},{"$f":"AJ11/(AL4-AJ20)","v":0},{"$f":"IF(AK11=0,0,(AK11*((LOG(AK11))/LOG(2))))","v":0},null,{"$f":"N11","v":1211},{"$f":"COUNTIF(L97:L119,AN11)","v":0},{"$f":"AO11/(AQ4-AO20)","v":0},{"$f":"IF(AP11=0,0,(AP11*((LOG(AP11))/LOG(2))))","v":0},null,{"$f":"N11","v":1211},{"$f":"COUNTIF(L120:L141,AS11)","v":1},{"$f":"AT11/(AV4-AT20)","v":4.5454545454545456E-2},{"$f":"IF(AU11=0,0,(AU11*((LOG(AU11))/LOG(2))))","v":-0.20270143721078623}]
[21,645,12,658,13,662,14,669,null,null,0,2111,null,1212,{"$f":"COUNTIF($L$7:$L$500,N12)","v":0},{"$f":"O12/$Q$4","v":0},{"$f":"IF(P12=0,0,(P12*((LOG(P12))/LOG(2))))","v":0},null,null,{"$f":"N12","v":1212},{"$f":"COUNTIF(L7:L29,T12)","v":0},{"$f":"U12/(W4-U20)","v":0},{"$f":"IF(V12=0,0,(V12*((LOG(V12))/LOG(2))))","v":0},null,{"$f":"N12","v":1212},{"$f":"COUNTIF(L30:L51,Y12)","v":0},{"$f":"Z12/(AB4-Z20)","v":0},{"$f":"IF(AA12=0,0,(AA12*((LOG(AA12))/LOG(2))))","v":0},null,{"$f":"N12","v":1212},{"$f":"COUNTIF(L52:L74,AD12)","v":0},{"$f":"AE12/(AG4-AE20)","v":0},{"$f":"IF(AF12=0,0,(AF12*((LOG(AF12))/LOG(2))))","v":0},null,{"$f":"N12","v":1212},{"$f":"COUNTIF(L75:L96,AI12)","v":0},{"$f":"AJ12/(AL4-AJ20)","v":0},{"$f":"IF(AK12=0,0,(AK12*((LOG(AK12))/LOG(2))))","v":0},null,{"$f":"N12","v":1212},{"$f":"COUNTIF(L97:L119,AN12)","v":0},{"$f":"AO12/(AQ4-AO20)","v":0},{"$f":"IF(AP12=0,0,(AP12*((LOG(AP12))/LOG(2))))","v":0},null,{"$f":"N12","v":1212},{"$f":"COUNTIF(L120:L141,AS12)","v":0},{"$f":"AT12/(AV4-AT20)","v":0},{"$f":"IF(AU12=0,0,(AU12*((LOG(AU12))/LOG(2))))","v":0}]
[21,800,21,805,22,811,14,825,null,null,0,2221,null,1221,{"$f":"COUNTIF($L$7:$L$500,N13)","v":0},{"$f":"O13/$Q$4","v":0},{"$f":"IF(P13=0,0,(P13*((LOG(P13))/LOG(2))))","v":0},null,null,{"$f":"N13","v":1221},{"$f":"COUNTIF(L7:L29,T13)","v":0},{"$f":"U13/(W4-U20)","v":0},{"$f":"IF(V13=0,0,(V13*((LOG(V13))/LOG(2))))","v":0},null,{"$f":"N13","v":1221},{"$f":"COUNTIF(L30:L51,Y13)","v":0},{"$f":"Z13/(AB4-Z20)","v":0},{"$f":"IF(AA13=0,0,(AA13*((LOG(AA13))/LOG(2))))","v":0},null,{"$f":"N13","v":1221},{"$f":"COUNTIF(L52:L74,AD13)","v":0},{"$f":"AE13/(AG4-AE20)","v":0},{"$f":"IF(AF13=0,0,(AF13*((LOG(AF13))/LOG(2))))","v":0},null,{"$f":"N13","v":1221},{"$f":"COUNTIF(L75:L96,AI13)","v":0},{"$f":"AJ13/(AL4-AJ20)","v":0},{"$f":"IF(AK13=0,0,(AK13*((LOG(AK13))/LOG(2))))","v":0},null,{"$f":"N13","v":1221},{"$f":"COUNTIF(L97:L119,AN13)","v":0},{"$f":"AO13/(AQ4-AO20)","v":0},{"$f":"IF(AP13=0,0,(AP13*((LOG(AP13))/LOG(2))))","v":0},null,{"$f":"N13","v":1221},{"$f":"COUNTIF(L120:L141,AS13)","v":0},{"$f":"AT13/(AV4-AT20)","v":0},{"$f":"IF(AU13=0,0,(AU13*((LOG(AU13))/LOG(2))))","v":0}]
[21,932,12,945,13,956,14,961,null,null,0,2111,null,1222,{"$f":"COUNTIF($L$7:$L$500,N14)","v":0},{"$f":"O14/$Q$4","v":0},{"$f":"IF(P14=0,0,(P14*((LOG(P14))/LOG(2))))","v":0},null,null,{"$f":"N14","v":1222},{"$f":"COUNTIF(L7:L29,T14)","v":0},{"$f":"U14/(W4-U20)","v":0},{"$f":"IF(V14=0,0,(V14*((LOG(V14))/LOG(2))))","v":0},null,{"$f":"N14","v":1222},{"$f":"COUNTIF(L30:L51,Y14)","v":0},{"$f":"Z14/(AB4-Z20)","v":0},{"$f":"IF(AA14=0,0,(AA14*((LOG(AA14))/LOG(2))))","v":0},null,{"$f":"N14","v":1222},{"$f":"COUNTIF(L52:L74,AD14)","v":0},{"$f":"AE14/(AG4-AE20)","v":0},{"$f":"IF(AF14=0,0,(AF14*((LOG(AF14))/LOG(2))))","v":0},null,{"$f":"N14","v":1222},{"$f":"COUNTIF(L75:L96,AI14)","v":0},{"$f":"AJ14/(AL4-AJ20)","v":0},{"$f":"IF(AK14=0,0,(AK14*((LOG(AK14))/LOG(2))))","v":0},null,{"$f":"N14","v":1222},{"$f":"COUNTIF(L97:L119,AN14)","v":0},{"$f":"AO14/(AQ4-AO20)","v":0},{"$f":"IF(AP14=0,0,(AP14*((LOG(AP14))/LOG(2))))","v":0},null,{"$f":"N14","v":1222},{"$f":"COUNTIF(L120:L141,AS14)","v":0},{"$f":"AT14/(AV4-AT20)","v":0},{"$f":"IF(AU14=0,0,(AU14*((LOG(AU14))/LOG(2))))","v":0}]
[21,1073,12,1084,13,1088,14,1094,null,null,0,2111,null,2111,{"$f":"COUNTIF($L$7:$L$500,N15)","v":51},{"$f":"O15/$Q$4","v":0.37777777777777777},{"$f":"IF(P15=0,0,(P15*((LOG(P15))/LOG(2))))","v":-0.53054742969663782},null,null,{"$f":"N15","v":2111},{"$f":"COUNTIF(L7:L29,T15)","v":11},{"$f":"U15/(W4-U20)","v":0.47826086956521741},{"$f":"IF(V15=0,0,(V15*((LOG(V15))/LOG(2))))","v":-0.5089319005050813},null,{"$f":"N15","v":2111},{"$f":"COUNTIF(L30:L51,Y15)","v":8},{"$f":"Z15/(AB4-Z20)","v":0.36363636363636365},{"$f":"IF(AA15=0,0,(AA15*((LOG(AA15))/LOG(2))))","v":-0.53070240677719893},null,{"$f":"N15","v":2111},{"$f":"COUNTIF(L52:L74,AD15)","v":7},{"$f":"AE15/(AG4-AE20)","v":0.30434782608695654},{"$f":"IF(AF15=0,0,(AF15*((LOG(AF15))/LOG(2))))","v":-0.52232387991286355},null,{"$f":"N15","v":2111},{"$f":"COUNTIF(L75:L96,AI15)","v":7},{"$f":"AJ15/(AL4-AJ20)","v":0.31818181818181818},{"$f":"IF(AK15=0,0,(AK15*((LOG(AK15))/LOG(2))))","v":-0.52566076709353871},null,{"$f":"N15","v":2111},{"$f":"COUNTIF(L97:L119,AN15)","v":7},{"$f":"AO15/(AQ4-AO20)","v":0.30434782608695654},{"$f":"IF(AP15=0,0,(AP15*((LOG(AP15))/LOG(2))))","v":-0.52232387991286355},null,{"$f":"N15","v":2111},{"$f":"COUNTIF(L120:L141,AS15)","v":11},{"$f":"AT15/(AV4-AT20)","v":0.5},{"$f":"IF(AU15=0,0,(AU15*((LOG(AU15))/LOG(2))))","v":-0.5}]
[12,1206,14,1212,13,1216,14,1224,null,null,0,1111,null,2112,{"$f":"COUNTIF($L$7:$L$500,N16)","v":1},{"$f":"O16/$Q$4","v":7.4074074074074077E-3},{"$f":"IF(P16=0,0,(P16*((LOG(P16))/LOG(2))))","v":-5.2420856274450603E-2},null,null,{"$f":"N16","v":2112},{"$f":"COUNTIF(L7:L29,T16)","v":0},{"$f":"U16/(W4-U20)","v":0},{"$f":"IF(V16=0,0,(V16*((LOG(V16))/LOG(2))))","v":0},null,{"$f":"N16","v":2112},{"$f":"COUNTIF(L30:L51,Y16)","v":0},{"$f":"Z16/(AB4-Z20)","v":0},{"$f":"IF(AA16=0,0,(AA16*((LOG(AA16))/LOG(2))))","v":0},null,{"$f":"N16","v":2112},{"$f":"COUNTIF(L52:L74,AD16)","v":1},{"$f":"AE16/(AG4-AE20)","v":4.3478260869565216E-2},{"$f":"IF(AF16=0,0,(AF16*((LOG(AF16))/LOG(2))))","v":-0.19667660678508753},null,{"$f":"N16","v":2112},{"$f":"COUNTIF(L75:L96,AI16)","v":0},{"$f":"AJ16/(AL4-AJ20)","v":0},{"$f":"IF(AK16=0,0,(AK16*((LOG(AK16))/LOG(2))))","v":0},null,{"$f":"N16","v":2112},{"$f":"COUNTIF(L97:L119,AN16)","v":0},{"$f":"AO16/(AQ4-AO20)","v":0},{"$f":"IF(AP16=0,0,(AP16*((LOG(AP16))/LOG(2))))","v":0},null,{"$f":"N16","v":2112},{"$f":"COUNTIF(L120:L141,AS16)","v":0},{"$f":"AT16/(AV4-AT20)","v":0},{"$f":"IF(AU16=0,0,(AU16*((LOG(AU16))/LOG(2))))","v":0}]
[21,1372,21,1380,22,1388,14,1404,null,null,0,2221,null,2121,{"$f":"COUNTIF($L$7:$L$500,N17)","v":1},{"$f":"O17/$Q$4","v":7.4074074074074077E-3},{"$f":"IF(P17=0,0,(P17*((LOG(P17))/LOG(2))))","v":-5.2420856274450603E-2},null,null,{"$f":"N17","v":2121},{"$f":"COUNTIF(L7:L29,T17)","v":0},{"$f":"U17/(W4-U20)","v":0},{"$f":"IF(V17=0,0,(V17*((LOG(V17))/LOG(2))))","v":0},null,{"$f":"N17","v":2121},{"$f":"COUNTIF(L30:L51,Y17)","v":0},{"$f":"Z17/(AB4-Z20)","v":0},{"$f":"IF(AA17=0,0,(AA17*((LOG(AA17))/LOG(2))))","v":0},null,{"$f":"N17","v":2121},{"$f":"COUNTIF(L52:L74,AD17)","v":0},{"$f":"AE17/(AG4-AE20)","v":0},{"$f":"IF(AF17=0,0,(AF17*((LOG(AF17))/LOG(2))))","v":0},null,{"$f":"N17","v":2121},{"$f":"COUNTIF(L75:L96,AI17)","v":0},{"$f":"AJ17/(AL4-AJ20)","v":0},{"$f":"IF(AK17=0,0,(AK17*((LOG(AK17))/LOG(2))))","v":0},null,{"$f":"N17","v":2121},{"$f":"COUNTIF(L97:L119,AN17)","v":1},{"$f":"AO17/(AQ4-AO20)","v":4.3478260869565216E-2},{"$f":"IF(AP17=0,0,(AP17*((LOG(AP17))/LOG(2))))","v":-0.19667660678508753},null,{"$f":"N17","v":2121},{"$f":"COUNTIF(L120:L141,AS17)","v":0},{"$f":"AT17/(AV4-AT20)","v":0},{"$f":"IF(AU17=0,0,(AU17*((LOG(AU17))/LOG(2))))","v":0}]
[21,1519,12,1531,13,1552,14,1560,null,null,0,2111,null,2122,{"$f":"COUNTIF($L$7:$L$500,N18)","v":0},{"$f":"O18/$Q$4","v":0},{"$f":"IF(P18=0,0,(P18*((LOG(P18))/LOG(2))))","v":0},null,null,{"$f":"N18","v":2122},{"$f":"COUNTIF(L7:L29,T18)","v":0},{"$f":"U18/(W4-U20)","v":0},{"$f":"IF(V18=0,0,(V18*((LOG(V18))/LOG(2))))","v":0},null,{"$f":"N18","v":2122},{"$f":"COUNTIF(L30:L51,Y18)","v":0},{"$f":"Z18/(AB4-Z20)","v":0},{"$f":"IF(AA18=0,0,(AA18*((LOG(AA18))/LOG(2))))","v":0},null,{"$f":"N18","v":2122},{"$f":"COUNTIF(L52:L74,AD18)","v":0},{"$f":"AE18/(AG4-AE20)","v":0},{"$f":"IF(AF18=0,0,(AF18*((LOG(AF18))/LOG(2))))","v":0},null,{"$f":"N18","v":2122},{"$f":"COUNTIF(L75:L96,AI18)","v":0},{"$f":"AJ18/(AL4-AJ20)","v":0},{"$f":"IF(AK18=0,0,(AK18*((LOG(AK18))/LOG(2))))","v":0},null,{"$f":"N18","v":2122},{"$f":"COUNTIF(L97:L119,AN18)","v":0},{"$f":"AO18/(AQ4-AO20)","v":0},{"$f":"IF(AP18=0,0,(AP18*((LOG(AP18))/LOG(2))))","v":0},null,{"$f":"N18","v":2122},{"$f":"COUNTIF(L120:L141,AS18)","v":0},{"$f":"AT18/(AV4-AT20)","v":0},{"$f":"IF(AU18=0,0,(AU18*((LOG(AU18))/LOG(2))))","v":0}]
[21,1661,21,1669,11,1683,12,1691,null,null,0,2211,null,2211,{"$f":"COUNTIF($L$7:$L$500,N19)","v":23},{"$f":"O19/$Q$4","v":0.17037037037037037},{"$f":"IF(P19=0,0,(P19*((LOG(P19))/LOG(2))))","v":-0.43499876846561347},null,null,{"$f":"N19","v":2211},{"$f":"COUNTIF(L7:L29,T19)","v":1},{"$f":"U19/(W4-U20)","v":4.3478260869565216E-2},{"$f":"IF(V19=0,0,(V19*((LOG(V19))/LOG(2))))","v":-0.19667660678508753},null,{"$f":"N19","v":2211},{"$f":"COUNTIF(L30:L51,Y19)","v":2},{"$f":"Z19/(AB4-Z20)","v":9.0909090909090912E-2},{"$f":"IF(AA19=0,0,(AA19*((LOG(AA19))/LOG(2))))","v":-0.31449378351248153},null,{"$f":"N19","v":2211},{"$f":"COUNTIF(L52:L74,AD19)","v":5},{"$f":"AE19/(AG4-AE20)","v":0.21739130434782608},{"$f":"IF(AF19=0,0,(AF19*((LOG(AF19))/LOG(2))))","v":-0.47861605677601093},null,{"$f":"N19","v":2211},{"$f":"COUNTIF(L75:L96,AI19)","v":4},{"$f":"AJ19/(AL4-AJ20)","v":0.18181818181818182},{"$f":"IF(AK19=0,0,(AK19*((LOG(AK19))/LOG(2))))","v":-0.44716938520678134},null,{"$f":"N19","v":2211},{"$f":"COUNTIF(L97:L119,AN19)","v":6},{"$f":"AO19/(AQ4-AO20)","v":0.2608695652173913},{"$f":"IF(AP19=0,0,(AP19*((LOG(AP19))/LOG(2))))","v":-0.50572159704413644},null,{"$f":"N19","v":2211},{"$f":"COUNTIF(L120:L141,AS19)","v":5},{"$f":"AT19/(AV4-AT20)","v":0.22727272727272727},{"$f":"IF(AU19=0,0,(AU19*((LOG(AU19))/LOG(2))))","v":-0.48579625539771243}]
[12,1785,14,1791,13,1798,14,1806,null,null,0,1111,null,2212,{"$f":"COUNTIF($L$7:$L$500,N20)","v":0},{"$f":"O20/$Q$4","v":0},{"$f":"IF(P20=0,0,(P20*((LOG(P20))/LOG(2))))","v":0},null,null,{"$f":"N20","v":2212},{"$f":"COUNTIF(L7:L29,T20)","v":0},null,null,null,{"$f":"N20","v":2212},{"$f":"COUNTIF(L30:L51,Y20)","v":0},null,null,null,{"$f":"N20","v":2212},{"$f":"COUNTIF(L52:L74,AD20)","v":0},null,null,null,{"$f":"N20","v":2212},{"$f":"COUNTIF(L75:L96,AI20)","v":0},null,null,null,{"$f":"N20","v":2212},{"$f":"COUNTIF(L97:L119,AN20)","v":0},null,null,null,{"$f":"N20","v":2212},{"$f":"COUNTIF(L120:L141,AS20)","v":0}]
[12,1937,14,1942,13,1947,14,1952,null,null,0,1111,null,2221,{"$f":"COUNTIF($L$7:$L$500,N21)","v":11},{"$f":"O21/$Q$4","v":8.1481481481481488E-2},{"$f":"IF(P21=0,0,(P21*((LOG(P21))/LOG(2))))","v":-0.29474980564851011},null,null,{"$f":"N21","v":2221},{"$f":"COUNTIF(L7:L29,T21)","v":2},{"$f":"U21/(W4-U20)","v":8.6956521739130432E-2},{"$f":"IF(V21=0,0,(V21*((LOG(V21))/LOG(2))))","v":-0.30639669183104457},null,{"$f":"N21","v":2221},{"$f":"COUNTIF(L30:L51,Y21)","v":0},{"$f":"Z21/(AB4-Z20)","v":0},{"$f":"IF(AA21=0,0,(AA21*((LOG(AA21))/LOG(2))))","v":0},null,{"$f":"N21","v":2221},{"$f":"COUNTIF(L52:L74,AD21)","v":0},{"$f":"AE21/(AG4-AE20)","v":0},{"$f":"IF(AF21=0,0,(AF21*((LOG(AF21))/LOG(2))))","v":0},null,{"$f":"N21","v":2221},{"$f":"COUNTIF(L75:L96,AI21)","v":1},{"$f":"AJ21/(AL4-AJ20)","v":4.5454545454545456E-2},{"$f":"IF(AK21=0,0,(AK21*((LOG(AK21))/LOG(2))))","v":-0.20270143721078623},null,{"$f":"N21","v":2221},{"$f":"COUNTIF(L97:L119,AN21)","v":4},{"$f":"AO21/(AQ4-AO20)","v":0.17391304347826086},{"$f":"IF(AP21=0,0,(AP21*((LOG(AP21))/LOG(2))))","v":-0.43888034018382832},null,{"$f":"N21","v":2221},{"$f":"COUNTIF(L120:L141,AS21)","v":4},{"$f":"AT21/(AV4-AT20)","v":0.18181818181818182},{"$f":"IF(AU21=0,0,(AU21*((LOG(AU21))/LOG(2))))","v":-0.44716938520678134}]
[21,2057,12,2069,13,2073,14,2080,null,null,0,2111,null,2222,{"$f":"COUNTIF($L$7:$L$500,N22)","v":22},{"$f":"O22/$Q$4","v":0.16296296296296298},{"$f":"IF(P22=0,0,(P22*((LOG(P22))/LOG(2))))","v":-0.42653664833405736},null,null,{"$f":"N22","v":2222},{"$f":"COUNTIF(L7:L29,T22)","v":1},{"$f":"U22/(W4-U20)","v":4.3478260869565216E-2},{"$f":"IF(V22=0,0,(V22*((LOG(V22))/LOG(2))))","v":-0.19667660678508753},null,{"$f":"N22","v":2222},{"$f":"COUNTIF(L30:L51,Y22)","v":3},{"$f":"Z22/(AB4-Z20)","v":0.13636363636363635},{"$f":"IF(AA22=0,0,(AA22*((LOG(AA22))/LOG(2))))","v":-0.39197306153401923},null,{"$f":"N22","v":2222},{"$f":"COUNTIF(L52:L74,AD22)","v":5},{"$f":"AE22/(AG4-AE20)","v":0.21739130434782608},{"$f":"IF(AF22=0,0,(AF22*((LOG(AF22))/LOG(2))))","v":-0.47861605677601093},null,{"$f":"N22","v":2222},{"$f":"COUNTIF(L75:L96,AI22)","v":9},{"$f":"AJ22/(AL4-AJ20)","v":0.40909090909090912},{"$f":"IF(AK22=0,0,(AK22*((LOG(AK22))/LOG(2))))","v":-0.52752543430703935},null,{"$f":"N22","v":2222},{"$f":"COUNTIF(L97:L119,AN22)","v":3},{"$f":"AO22/(AQ4-AO20)","v":0.13043478260869565},{"$f":"IF(AP22=0,0,(AP22*((LOG(AP22))/LOG(2))))","v":-0.3832955811307639},null,{"$f":"N22","v":2222},{"$f":"COUNTIF(L120:L141,AS22)","v":1},{"$f":"AT22/(AV4-AT20)","v":4.5454545454545456E-2},{"$f":"IF(AU22=0,0,(AU22*((LOG(AU22))/LOG(2))))","v":-0.20270143721078623}]
[21,2187,21,2202,22,2217,23,2222,null,null,0,2222,null,null,null,{"$f":"SUM(P7:P22)","v":1},{"$f":"-SUM(Q7:Q22)","v":2.3395121832567858},null,null,null,null,{"$f":"SUM(V7:V22)","v":1},{"$f":"-SUM(W7:W22)","v":1.7386163993174359},null,null,null,{"$f":"SUM(AA7:AA22)","v":1},{"$f":"-SUM(AB7:AB22)","v":1.7646946861307389},null,null,null,{"$f":"SUM(AF7:AF22)","v":0.99999999999999989},{"$f":"-SUM(AG7:AG22)","v":2.311789547218889},null,null,null,{"$f":"SUM(AK7:AK22)","v":1},{"$f":"-SUM(AL7:AL22)","v":1.905758461028932},null,null,null,{"$f":"SUM(AP7:AP22)","v":1},{"$f":"-SUM(AQ7:AQ22)","v":2.3532946968877244},null,null,null,{"$f":"SUM(AU7:AU22)","v":1},{"$f":"-SUM(AV7:AV22)","v":1.8383685150260662}]
[21,2326,12,2340,13,2345,14,2350,null,null,0,2111,null,null,null,"U=",{"$f":"Q23/(LOG(Q4)/LOG(2))","v":0.33058826405364389},null,null,null,null,"U1=",{"$f":"W23/(LOG(W4)/LOG(2))","v":0.38434676394548828},null,null,null,"U2=",{"$f":"AB23/(LOG(AB4)/LOG(2))","v":0.39572188499439087},null,null,null,"U3=",{"$f":"AG23/(LOG(AG4)/LOG(2))","v":0.51105513081862874},null,null,null,"U4=",{"$f":"AL23/(LOG(AL4)/LOG(2))","v":0.42735456533612892},null,null,null,"U5=",{"$f":"AQ23/(LOG(AQ4)/LOG(2))","v":0.52023045550126301},null,null,null,"U6=",{"$f":"AV23/(LOG(AV4)/LOG(2))","v":0.41224278613063037}]
[21,2456,12,2469,13,2475,14,2482,null,null,0,2111]
[21,2586,12,2599,13,2604,14,2612,null,null,0,2111]
[12,2721,14,2730,13,2739,14,2747,null,null,0,1111,null,"Total Target Seq"]
[21,2856,12,2868,13,2878,14,2887,null,null,0,2111,null,{"$f":"COUNTIF(L7:L141,G3)","v":0},null,23,22,23,22,23,22]
[21,2986,12,3000,13,3004,14,3013,null,null,0,2111,null,null,null,"% of reinforcement given in 6 equal intervals based on number of trials "]
[21,3166,12,3178,13,3187,14,3194,null,null,0,2111,null,null,null,"%_1","%_2","%_3","%_4","%_5","%_6"]
[21,3378,21,3389,11,3407,12,3415,null,null,0,2211,null,null,"target sequence",{"$f":"$G$3","v":2212},{"$f":"$G$3","v":2212},{"$f":"$G$3","v":2212},{"$f":"$G$3","v":2212},{"$f":"$G$3","v":2212},{"$f":"$G$3","v":2212}]
[21,3517,12,3531,13,3540,14,3546,null,null,0,2111,null,null,"total reinforcement",{"$f":"U20","v":0},{"$f":"Z20","v":0},{"$f":"AE20","v":0},{"$f":"AJ20","v":0},{"$f":"AO20","v":0},{"$f":"AT20","v":0}]
[21,3648,21,3669,22,3676,23,3682,null,null,0,2222,null,null,"% target"]
[21,3787,12,3805,13,3811,14,3819,null,null,0,2111,null,null,"CCRF"]
[12,3929,14,3934,13,3939,14,3946,null,null,0,1111,null,null,"% CCRf"]
[21,4050,21,4071,22,4080,23,4087,null,null,0,2222,null,null,"average response rate",{"$f":"H29/P28","v":131},{"$f":"(H51-H29)/Q28","v":157.90909090909091},{"$f":"(H74-H51)/R28","v":161.17391304347825},{"$f":"(H96-H74)/S28","v":184.95454545454547},{"$f":"(H119-H96)/T28","v":221},{"$f":"(H141-H119)/U28","v":205.68181818181819}]
[12,4194,14,4199,13,4207,14,4215,null,null,0,1111]
[12,4324,14,4329,13,4333,14,4341,null,null,0,1111]
[12,4453,14,4458,13,4466,14,4473,null,null,0,1111]
[12,4747,14,4752,13,4758,14,4763,null,null,0,1111]
[12,5002,14,5009,13,5016,14,5024,null,null,0,1111]
[12,5169,14,5174,13,5180,14,5190,null,null,0,1111]
[12,5363,14,5368,13,5372,14,5378,null,null,0,1111]
[21,5503,12,5516,13,5522,14,5529,null,null,0,2111]
[21,5641,12,5654,13,5658,14,5666,null,null,0,2111]
[21,5776,12,5789,13,5794,14,5799,null,null,0,2111]
[21,5904,21,5923,11,5936,12,5944,null,null,0,2211]
[21,6052,12,6064,13,6068,14,6072,null,null,0,2111]
[21,6180,12,6196,13,6205,14,6214,null,null,0,2111]
[21,6319,21,6340,22,6349,23,6356,null,null,0,2222]
[12,6474,14,6479,13,6483,14,6487,null,null,0,1111]
[21,6636,12,6655,13,6659,14,6667,null,null,0,2111]
[21,6778,12,6796,13,6803,14,6808,null,null,0,2111]
[21,6929,21,6947,11,6960,12,6966,null,null,0,2211]
[21,7079,12,7095,13,7105,14,7109,null,null,0,2111]
[21,7216,12,7228,13,7236,14,7242,null,null,0,2111]
[12,7377,14,7382,13,7386,14,7394,null,null,0,1111]
[21,7499,21,7506,11,7518,12,7522,null,null,0,2211]
[21,7629,12,7641,13,7652,14,7664,null,null,0,2111]
[21,7759,21,7783,11,7795,12,7800,null,null,0,2211]
[21,7902,21,7910,11,7922,12,7927,null,null,0,2211]
[12,8139,14,8147,13,8153,14,8161,null,null,0,1111]
[21,8354,12,8369,13,8373,14,8377,null,null,0,2111]
[12,8561,14,8566,13,8573,14,8580,null,null,0,1111]
[21,8777,12,8789,13,8796,23,8810,null,null,0,2112]
[21,8923,21,8931,22,8939,23,8944,null,null,0,2222]
[21,9072,21,9080,22,9087,23,9096,null,null,0,2222]
[21,9271,21,9280,22,9288,23,9297,null,null,0,2222]
[12,9402,14,9408,13,9414,14,9422,null,null,0,1111]
[21,9527,12,9540,13,9549,14,9554,null,null,0,2111]
[21,9678,21,9700,22,9708,23,9736,null,null,0,2222]
[21,9865,21,9879,11,9892,12,9897,null,null,0,2211]
[21,10010,21,10029,22,10037,23,10045,null,null,0,2222]
[12,10170,14,10175,24,10189,23,10194,null,null,0,1122]
[21,10305,12,10320,13,10326,14,10331,null,null,0,2111]
[21,10479,12,10498,13,10505,14,10513,null,null,0,2111]
[21,10853,21,10862,22,10869,14,10885,null,null,0,2221]
[21,11074,12,11093,13,11098,14,11105,null,null,0,2111]
[21,11267,12,11282,13,11299,14,11306,null,null,0,2111]
[21,11446,21,11451,22,11461,23,11471,null,null,0,2222]
[21,11593,21,11646,22,11681,23,11687,null,null,0,2222]
[21,11841,21,11846,22,11853,23,11862,null,null,0,2222]
[21,12039,12,12058,13,12069,14,12077,null,null,0,2111]
[21,12372,21,12380,11,12397,12,12404,null,null,0,2211]
[21,12512,21,12521,22,12530,23,12585,null,null,0,2222]
[21,12686,21,12694,22,12701,23,12706,null,null,0,2222]
[21,12811,21,12820,22,12833,23,12852,null,null,0,2222]
[21,12965,21,12975,22,12987,23,12995,null,null,0,2222]
[21,13147,21,13156,22,13163,23,13171,null,null,0,2222]
[21,13315,21,13320,22,13329,23,13348,null,null,0,2222]
[21,13470,21,13476,11,13489,12,13498,null,null,0,2211]
[12,13613,14,13618,13,13624,14,13629,null,null,0,1111]
[21,13744,12,13757,13,13762,14,13767,null,null,0,2111]
[21,13883,21,13890,11,13904,12,13912,null,null,0,2211]
[21,14075,12,14088,13,14096,14,14104,null,null,0,2111]
[21,14226,21,14247,11,14258,12,14263,null,null,0,2211]
[21,14367,21,14390,11,14405,12,14409,null,null,0,2211]
[21,14527,21,14544,22,14549,14,14561,null,null,0,2221]
[21,14683,12,14695,13,14703,14,14711,null,null,0,2111]
[21,14824,21,14832,11,14841,12,14849,null,null,0,2211]
[21,14955,21,14970,22,14991,23,14998,null,null,0,2222]
[21,15139,12,15153,13,15159,14,15164,null,null,0,2111]
[21,15456,12,15469,13,15477,14,15482,null,null,0,2111]
[21,15584,21,15601,22,15606,14,15618,null,null,0,2221]
[21,15775,21,15783,22,15789,23,15797,null,null,0,2222]
[12,16089,14,16094,13,16098,14,16106,null,null,0,1111]
[21,16213,12,16230,13,16241,14,16249,null,null,0,2111]
[21,16537,12,16554,13,16559,14,16565,null,null,0,2111]
[21,16881,12,16895,13,16899,14,16906,null,null,0,2111]
[21,17027,21,17041,11,17053,12,17060,null,null,0,2211]
[21,17212,21,17217,22,17222,14,17269,null,null,0,2221]
[21,17374,12,17393,24,17419,14,17432,null,null,0,2121]
[21,17824,21,17840,11,17855,12,17860,null,null,0,2211]
[21,17963,21,17987,22,17995,14,18007,null,null,0,2221]
[21,18224,21,18246,11,18258,12,18262,null,null,0,2211]
[21,18447,21,18490,22,18501,23,18511,null,null,0,2222]
[12,18630,14,18638,13,18642,14,18649,null,null,0,1111]
[21,19026,12,19040,13,19044,14,19048,null,null,0,2111]
[21,19313,21,19322,11,19342,12,19346,null,null,0,2211]
[21,19472,12,19488,13,19493,14,19497,null,null,0,2111]
[21,19741,12,19754,13,19759,14,19763,null,null,0,2111]
[21,19940,21,19945,22,19958,23,19962,null,null,0,2222]
[21,20252,12,20266,13,20274,14,20279,null,null,0,2111]
[12,20749,23,20763,13,20787,14,20792,null,null,0,1211]
[21,20913,12,20926,13,20930,14,20935,null,null,0,2111]
[21,21044,21,21049,11,21063,12,21072,null,null,0,2211]
[21,21170,21,21177,22,21183,14,21195,null,null,0,2221]
[21,21307,12,21321,13,21325,14,21332,null,null,0,2111]
[21,21430,21,21438,22,21445,14,21456,null,null,0,2221]
[21,21559,21,21568,11,21583,12,21595,null,null,0,2211]
[21,21750,12,21764,13,21769,14,21775,null,null,0,2111]
[21,21903,12,21915,13,21919,14,21924,null,null,0,2111]
[21,22213,12,22227,13,22232,14,22239,null,null,0,2111]
[21,22368,12,22382,13,22387,14,22392,null,null,0,2111]
[21,22514,12,22534,13,22539,14,22544,null,null,0,2111]
[21,22822,12,22835,13,22840,14,22846,null,null,0,2111]
[21,22992,21,22999,11,23012,12,23018,null,null,0,2211]
[21,23226,21,23242,22,23249,14,23262,null,null,0,2221]
[21,23416,21,23425,11,23437,12,23441,null,null,0,2211]
[21,23668,21,23679,11,23690,12,23698,null,null,0,2211]
[21,23835,21,23852,22,23859,14,23871,null,null,0,2221]

{"sheet":"!MB17940.091","index":12,"n_rows":152,"n_cols":48,"rows_kept":152,"cut":false,"hidden":false,"merged":[[4,39,4,42],[5,39,5,40],[4,44,4,47],[5,44,5,45],[4,24,4,27],[5,24,5,25],[4,29,4,32],[5,29,5,30],[4,34,4,37],[5,34,5,35],[1,1,1,2],[5,13,5,14],[26,13,26,14],[27,13,27,14],[4,19,4,22],[5,19,5,20]]}
["Report for:!MB17940.091"]
["Date:","<date>"]
["Hen:","<hen>",null,null,null,"Correct Sequence",{"$f":"Start!J2","v":2212},null,null,null,null,null,null,null,null,"Total Sequences in Data",{"$f":"4994-COUNTBLANK(L7:L5000)","v":146},null,null,null,null,"Total Sequences in Block Data",{"$f":"COUNTA(L7:L30)","v":24},null,null,null,"Total Sequences in Block Data",{"$f":"COUNTA(L31:L55)","v":25},null,null,null,"Total Sequences in Block Data",{"$f":"COUNTA(L56:L79)","v":24},null,null,null,"Total Sequences in Block Data",{"$f":"COUNTA(L80:L103)","v":24},null,null,null,"Total Sequences in Block Data",{"$f":"COUNTA(L104:L128)","v":25},null,null,null,"Total Sequences in Block Data",{"$f":"COUNTA(L129:L152)","v":24}]
[null,null,null,null,null,null,null,null,null,null,null,null,null,null,null,"Total Sequences in Summary",{"$f":"SUM(O7:O22)","v":146},null,null,null,null,"Total Sequences in Block Summary",{"$f":"SUM(U7:U22)","v":24},null,null,null,"Total Sequences in Block Summary",{"$f":"SUM(Z7:Z22)","v":25},null,null,null,"Total Sequences in Block Summary",{"$f":"SUM(AE7:AE22)","v":24},null,null,null,"Total Sequences in Block Summary",{"$f":"SUM(AJ7:AJ22)","v":24},null,null,null,"Total Sequences in Block Summary",{"$f":"SUM(AO7:AO22)","v":25},null,null,null,"Total Sequences in Block Summary",{"$f":"SUM(AT7:AT22)","v":24}]
[null,null,null,null,null,null,null,null,null,null,null,null,null,null,null,null,null,null,null,"Block 1",null,null,null,null,"Block 2",null,null,null,null,"Block 3",null,null,null,null,"Block 4",null,null,null,null,"Block 5",null,null,null,null,"Block 6"]
["Sequence\nComponent\n1","Time\n1","Sequence\nComponent\n2","Time\n2","Sequence\nComponent\n3","Time\n3","Sequence\nComponent\n4","Time\n4","Sequence\nComponent\n5","Time\n5","Correct?\n0=No 1=Yes","Sequence",null,"Frequency",null,"Relative Frequency","Variability",null,null,"Frequency",null,"Relative Frequency","Variability",null,"Frequency",null,"Relative Frequency","Variability",null,"Frequency",null,"Relative Frequency","Variability",null,"Frequency",null,"Relative Frequency","Variability",null,"Frequency",null,"Relative Frequency","Variability",null,"Frequency",null,"Relative Frequency","Variability"]
[12,10,14,15,13,21,14,26,null,null,0,1111,null,1111,{"$f":"COUNTIF($L$7:$L$500,N7)","v":22},{"$f":"O7/$Q$4","v":0.15068493150684931},{"$f":"IF(P7=0,0,(P7*((LOG(P7))/LOG(2))))","v":-0.41142907318725913},null,null,{"$f":"N7","v":1111},{"$f":"COUNTIF(L7:L30,T7)","v":13},{"$f":"U7/(W4-U20)","v":0.54166666666666663},{"$f":"IF(V7=0,0,(V7*((LOG(V7))/LOG(2))))","v":-0.47911650723086807},null,{"$f":"N7","v":1111},{"$f":"COUNTIF(L31:L55,Y7)","v":5},{"$f":"Z7/(AB4-Z20)","v":0.2},{"$f":"IF(AA7=0,0,(AA7*((LOG(AA7))/LOG(2))))","v":-0.46438561897747244},null,{"$f":"N7","v":1111},{"$f":"COUNTIF(L56:L79,AD7)","v":2},{"$f":"AE7/(AG4-AE20)","v":8.3333333333333329E-2},{"$f":"IF(AF7=0,0,(AF7*((LOG(AF7))/LOG(2))))","v":-0.29874687506009634},null,{"$f":"N7","v":1111},{"$f":"COUNTIF(L80:L103,AI7)","v":1},{"$f":"AJ7/(AL4-AJ20)","v":4.5454545454545456E-2},{"$f":"IF(AK7=0,0,(AK7*((LOG(AK7))/LOG(2))))","v":-0.20270143721078623},null,{"$f":"N7","v":1111},{"$f":"COUNTIF(L104:L128,AN7)","v":1},{"$f":"AO7/(AQ4-AO20)","v":4.3478260869565216E-2},{"$f":"IF(AP7=0,0,(AP7*((LOG(AP7))/LOG(2))))","v":-0.19667660678508753},null,{"$f":"N7","v":1111},{"$f":"COUNTIF(L129:L152,AS7)","v":0},{"$f":"AT7/(AV4-AT20)","v":0},{"$f":"IF(AU7=0,0,(AU7*((LOG(AU7))/LOG(2))))","v":0}]
[12,129,14,134,13,146,14,154,null,null,0,1111,null,1112,{"$f":"COUNTIF($L$7:$L$500,N8)","v":0},{"$f":"O8/$Q$4","v":0},{"$f":"IF(P8=0,0,(P8*((LOG(P8))/LOG(2))))","v":0},null,null,{"$f":"N8","v":1112},{"$f":"COUNTIF(L7:L30,T8)","v":0},{"$f":"U8/(W4-U20)","v":0},{"$f":"IF(V8=0,0,(V8*((LOG(V8))/LOG(2))))","v":0},null,{"$f":"N8","v":1112},{"$f":"COUNTIF(L31:L55,Y8)","v":0},{"$f":"Z8/(AB4-Z20)","v":0},{"$f":"IF(AA8=0,0,(AA8*((LOG(AA8))/LOG(2))))","v":0},null,{"$f":"N8","v":1112},{"$f":"COUNTIF(L56:L79,AD8)","v":0},{"$f":"AE8/(AG4-AE20)","v":0},{"$f":"IF(AF8=0,0,(AF8*((LOG(AF8))/LOG(2))))","v":0},null,{"$f":"N8","v":1112},{"$f":"COUNTIF(L80:L103,AI8)","v":0},{"$f":"AJ8/(AL4-AJ20)","v":0},{"$f":"IF(AK8=0,0,(AK8*((LOG(AK8))/LOG(2))))","v":0},null,{"$f":"N8","v":1112},{"$f":"COUNTIF(L104:L128,AN8)","v":0},{"$f":"AO8/(AQ4-AO20)","v":0},{"$f":"IF(AP8=0,0,(AP8*((LOG(AP8))/LOG(2))))","v":0},null,{"$f":"N8","v":1112},{"$f":"COUNTIF(L129:L152,AS8)","v":0},{"$f":"AT8/(AV4-AT20)","v":0},{"$f":"IF(AU8=0,0,(AU8*((LOG(AU8))/LOG(2))))","v":0}]
[12,261,14,270,13,279,14,286,null,null,0,1111,null,1121,{"$f":"COUNTIF($L$7:$L$500,N9)","v":0},{"$f":"O9/$Q$4","v":0},{"$f":"IF(P9=0,0,(P9*((LOG(P9))/LOG(2))))","v":0},null,null,{"$f":"N9","v":1121},{"$f":"COUNTIF(L7:L30,T9)","v":0},{"$f":"U9/(W4-U20)","v":0},{"$f":"IF(V9=0,0,(V9*((LOG(V9))/LOG(2))))","v":0},null,{"$f":"N9","v":1121},{"$f":"COUNTIF(L31:L55,Y9)","v":0},{"$f":"Z9/(AB4-Z20)","v":0},{"$f":"IF(AA9=0,0,(AA9*((LOG(AA9))/LOG(2))))","v":0},null,{"$f":"N9","v":1121},{"$f":"COUNTIF(L56:L79,AD9)","v":0},{"$f":"AE9/(AG4-AE20)","v":0},{"$f":"IF(AF9=0,0,(AF9*((LOG(AF9))/LOG(2))))","v":0},null,{"$f":"N9","v":1121},{"$f":"COUNTIF(L80:L103,AI9)","v":0},{"$f":"AJ9/(AL4-AJ20)","v":0},{"$f":"IF(AK9=0,0,(AK9*((LOG(AK9))/LOG(2))))","v":0},null,{"$f":"N9","v":1121},{"$f":"COUNTIF(L104:L128,AN9)","v":0},{"$f":"AO9/(AQ4-AO20)","v":0},{"$f":"IF(AP9=0,0,(AP9*((LOG(AP9))/LOG(2))))","v":0},null,{"$f":"N9","v":1121},{"$f":"COUNTIF(L129:L152,AS9)","v":0},{"$f":"AT9/(AV4-AT20)","v":0},{"$f":"IF(AU9=0,0,(AU9*((LOG(AU9))/LOG(2))))","v":0}]
[12,398,14,403,13,413,14,421,null,null,0,1111,null,1122,{"$f":"COUNTIF($L$7:$L$500,N10)","v":1},{"$f":"O10/$Q$4","v":6.8493150684931503E-3},{"$f":"IF(P10=0,0,(P10*((LOG(P10))/LOG(2))))","v":-4.9245373690959021E-2},null,null,{"$f":"N10","v":1122},{"$f":"COUNTIF(L7:L30,T10)","v":0},{"$f":"U10/(W4-U20)","v":0},{"$f":"IF(V10=0,0,(V10*((LOG(V10))/LOG(2))))","v":0},null,{"$f":"N10","v":1122},{"$f":"COUNTIF(L31:L55,Y10)","v":0},{"$f":"Z10/(AB4-Z20)","v":0},{"$f":"IF(AA10=0,0,(AA10*((LOG(AA10))/LOG(2))))","v":0},null,{"$f":"N10","v":1122},{"$f":"COUNTIF(L56:L79,AD10)","v":1},{"$f":"AE10/(AG4-AE20)","v":4.1666666666666664E-2},{"$f":"IF(AF10=0,0,(AF10*((LOG(AF10))/LOG(2))))","v":-0.19104010419671485},null,{"$f":"N10","v":1122},{"$f":"COUNTIF(L80:L103,AI10)","v":0},{"$f":"AJ10/(AL4-AJ20)","v":0},{"$f":"IF(AK10=0,0,(AK10*((LOG(AK10))/LOG(2))))","v":0},null,{"$f":"N10","v":1122},{"$f":"COUNTIF(L104:L128,AN10)","v":0},{"$f":"AO10/(AQ4-AO20)","v":0},{"$f":"IF(AP10=0,0,(AP10*((LOG(AP10))/LOG(2))))","v":0},null,{"$f":"N10","v":1122},{"$f":"COUNTIF(L129:L152,AS10)","v":0},{"$f":"AT10/(AV4-AT20)","v":0},{"$f":"IF(AU10=0,0,(AU10*((LOG(AU10))/LOG(2))))","v":0}]
[12,531,14,536,13,542,14,555,null,null,0,1111,null,1211,{"$f":"COUNTIF($L$7:$L$500,N11)","v":0},{"$f":"O11/$Q$4","v":0},{"$f":"IF(P11=0,0,(P11*((LOG(P11))/LOG(2))))","v":0},null,null,{"$f":"N11","v":1211},{"$f":"COUNTIF(L7:L30,T11)","v":0},{"$f":"U11/(W4-U20)","v":0},{"$f":"IF(V11=0,0,(V11*((LOG(V11))/LOG(2))))","v":0},null,{"$f":"N11","v":1211},{"$f":"COUNTIF(L31:L55,Y11)","v":0},{"$f":"Z11/(AB4-Z20)","v":0},{"$f":"IF(AA11=0,0,(AA11*((LOG(AA11))/LOG(2))))","v":0},null,{"$f":"N11","v":1211},{"$f":"COUNTIF(L56:L79,AD11)","v":0},{"$f":"AE11/(AG4-AE20)","v":0},{"$f":"IF(AF11=0,0,(AF11*((LOG(AF11))/LOG(2))))","v":0},null,{"$f":"N11","v":1211},{"$f":"COUNTIF(L80:L103,AI11)","v":0},{"$f":"AJ11/(AL4-AJ20)","v":0},{"$f":"IF(AK11=0,0,(AK11*((LOG(AK11))/LOG(2))))","v":0},null,{"$f":"N11","v":1211},{"$f":"COUNTIF(L104:L128,AN11)","v":0},{"$f":"AO11/(AQ4-AO20)","v":0},{"$f":"IF(AP11=0,0,(AP11*((LOG(AP11))/LOG(2))))","v":0},null,{"$f":"N11","v":1211},{"$f":"COUNTIF(L129:L152,AS11)","v":0},{"$f":"AT11/(AV4-AT20)","v":0},{"$f":"IF(AU11=0,0,(AU11*((LOG(AU11))/LOG(2))))","v":0}]
[12,666,14,681,13,687,14,695,null,null,0,1111,null,1212,{"$f":"COUNTIF($L$7:$L$500,N12)","v":0},{"$f":"O12/$Q$4","v":0},{"$f":"IF(P12=0,0,(P12*((LOG(P12))/LOG(2))))","v":0},null,null,{"$f":"N12","v":1212},{"$f":"COUNTIF(L7:L30,T12)","v":0},{"$f":"U12/(W4-U20)","v":0},{"$f":"IF(V12=0,0,(V12*((LOG(V12))/LOG(2))))","v":0},null,{"$f":"N12","v":1212},{"$f":"COUNTIF(L31:L55,Y12)","v":0},{"$f":"Z12/(AB4-Z20)","v":0},{"$f":"IF(AA12=0,0,(AA12*((LOG(AA12))/LOG(2))))","v":0},null,{"$f":"N12","v":1212},{"$f":"COUNTIF(L56:L79,AD12)","v":0},{"$f":"AE12/(AG4-AE20)","v":0},{"$f":"IF(AF12=0,0,(AF12*((LOG(AF12))/LOG(2))))","v":0},null,{"$f":"N12","v":1212},{"$f":"COUNTIF(L80:L103,AI12)","v":0},{"$f":"AJ12/(AL4-AJ20)","v":0},{"$f":"IF(AK12=0,0,(AK12*((LOG(AK12))/LOG(2))))","v":0},null,{"$f":"N12","v":1212},{"$f":"COUNTIF(L104:L128,AN12)","v":0},{"$f":"AO12/(AQ4-AO20)","v":0},{"$f":"IF(AP12=0,0,(AP12*((LOG(AP12))/LOG(2))))","v":0},null,{"$f":"N12","v":1212},{"$f":"COUNTIF(L129:L152,AS12)","v":0},{"$f":"AT12/(AV4-AT20)","v":0},{"$f":"IF(AU12=0,0,(AU12*((LOG(AU12))/LOG(2))))","v":0}]
[12,850,14,862,13,871,14,880,null,null,0,1111,null,1221,{"$f":"COUNTIF($L$7:$L$500,N13)","v":0},{"$f":"O13/$Q$4","v":0},{"$f":"IF(P13=0,0,(P13*((LOG(P13))/LOG(2))))","v":0},null,null,{"$f":"N13","v":1221},{"$f":"COUNTIF(L7:L30,T13)","v":0},{"$f":"U13/(W4-U20)","v":0},{"$f":"IF(V13=0,0,(V13*((LOG(V13))/LOG(2))))","v":0},null,{"$f":"N13","v":1221},{"$f":"COUNTIF(L31:L55,Y13)","v":0},{"$f":"Z13/(AB4-Z20)","v":0},{"$f":"IF(AA13=0,0,(AA13*((LOG(AA13))/LOG(2))))","v":0},null,{"$f":"N13","v":1221},{"$f":"COUNTIF(L56:L79,AD13)","v":0},{"$f":"AE13/(AG4-AE20)","v":0},{"$f":"IF(AF13=0,0,(AF13*((LOG(AF13))/LOG(2))))","v":0},null,{"$f":"N13","v":1221},{"$f":"COUNTIF(L80:L103,AI13)","v":0},{"$f":"AJ13/(AL4-AJ20)","v":0},{"$f":"IF(AK13=0,0,(AK13*((LOG(AK13))/LOG(2))))","v":0},null,{"$f":"N13","v":1221},{"$f":"COUNTIF(L104:L128,AN13)","v":0},{"$f":"AO13/(AQ4-AO20)","v":0},{"$f":"IF(AP13=0,0,(AP13*((LOG(AP13))/LOG(2))))","v":0},null,{"$f":"N13","v":1221},{"$f":"COUNTIF(L129:L152,AS13)","v":0},{"$f":"AT13/(AV4-AT20)","v":0},{"$f":"IF(AU13=0,0,(AU13*((LOG(AU13))/LOG(2))))","v":0}]
[12,1035,14,1043,13,1052,14,1060,null,null,0,1111,null,1222,{"$f":"COUNTIF($L$7:$L$500,N14)","v":0},{"$f":"O14/$Q$4","v":0},{"$f":"IF(P14=0,0,(P14*((LOG(P14))/LOG(2))))","v":0},null,null,{"$f":"N14","v":1222},{"$f":"COUNTIF(L7:L30,T14)","v":0},{"$f":"U14/(W4-U20)","v":0},{"$f":"IF(V14=0,0,(V14*((LOG(V14))/LOG(2))))","v":0},null,{"$f":"N14","v":1222},{"$f":"COUNTIF(L31:L55,Y14)","v":0},{"$f":"Z14/(AB4-Z20)","v":0},{"$f":"IF(AA14=0,0,(AA14*((LOG(AA14))/LOG(2))))","v":0},null,{"$f":"N14","v":1222},{"$f":"COUNTIF(L56:L79,AD14)","v":0},{"$f":"AE14/(AG4-AE20)","v":0},{"$f":"IF(AF14=0,0,(AF14*((LOG(AF14))/LOG(2))))","v":0},null,{"$f":"N14","v":1222},{"$f":"COUNTIF(L80:L103,AI14)","v":0},{"$f":"AJ14/(AL4-AJ20)","v":0},{"$f":"IF(AK14=0,0,(AK14*((LOG(AK14))/LOG(2))))","v":0},null,{"$f":"N14","v":1222},{"$f":"COUNTIF(L104:L128,AN14)","v":0},{"$f":"AO14/(AQ4-AO20)","v":0},{"$f":"IF(AP14=0,0,(AP14*((LOG(AP14))/LOG(2))))","v":0},null,{"$f":"N14","v":1222},{"$f":"COUNTIF(L129:L152,AS14)","v":0},{"$f":"AT14/(AV4-AT20)","v":0},{"$f":"IF(AU14=0,0,(AU14*((LOG(AU14))/LOG(2))))","v":0}]
[21,1182,21,1193,11,1206,12,1215,null,null,0,2211,null,2111,{"$f":"COUNTIF($L$7:$L$500,N15)","v":31},{"$f":"O15/$Q$4","v":0.21232876712328766},{"$f":"IF(P15=0,0,(P15*((LOG(P15))/LOG(2))))","v":-0.47468818974854377},null,null,{"$f":"N15","v":2111},{"$f":"COUNTIF(L7:L30,T15)","v":7},{"$f":"U15/(W4-U20)","v":0.29166666666666669},{"$f":"IF(V15=0,0,(V15*((LOG(V15))/LOG(2))))","v":-0.51846887711020273},null,{"$f":"N15","v":2111},{"$f":"COUNTIF(L31:L55,Y15)","v":11},{"$f":"Z15/(AB4-Z20)","v":0.44},{"$f":"IF(AA15=0,0,(AA15*((LOG(AA15))/LOG(2))))","v":-0.52114681130046814},null,{"$f":"N15","v":2111},{"$f":"COUNTIF(L56:L79,AD15)","v":8},{"$f":"AE15/(AG4-AE20)","v":0.33333333333333331},{"$f":"IF(AF15=0,0,(AF15*((LOG(AF15))/LOG(2))))","v":-0.52832083357371862},null,{"$f":"N15","v":2111},{"$f":"COUNTIF(L80:L103,AI15)","v":2},{"$f":"AJ15/(AL4-AJ20)","v":9.0909090909090912E-2},{"$f":"IF(AK15=0,0,(AK15*((LOG(AK15))/LOG(2))))","v":-0.31449378351248153},null,{"$f":"N15","v":2111},{"$f":"COUNTIF(L104:L128,AN15)","v":3},{"$f":"AO15/(AQ4-AO20)","v":0.13043478260869565},{"$f":"IF(AP15=0,0,(AP15*((LOG(AP15))/LOG(2))))","v":-0.3832955811307639},null,{"$f":"N15","v":2111},{"$f":"COUNTIF(L129:L152,AS15)","v":0},{"$f":"AT15/(AV4-AT20)","v":0},{"$f":"IF(AU15=0,0,(AU15*((LOG(AU15))/LOG(2))))","v":0}]
[21,1316,21,1329,22,1336,23,1346,null,null,0,2222,null,2112,{"$f":"COUNTIF($L$7:$L$500,N16)","v":2},{"$f":"O16/$Q$4","v":1.3698630136986301E-2},{"$f":"IF(P16=0,0,(P16*((LOG(P16))/LOG(2))))","v":-8.4792117244931728E-2},null,null,{"$f":"N16","v":2112},{"$f":"COUNTIF(L7:L30,T16)","v":0},{"$f":"U16/(W4-U20)","v":0},{"$f":"IF(V16=0,0,(V16*((LOG(V16))/LOG(2))))","v":0},null,{"$f":"N16","v":2112},{"$f":"COUNTIF(L31:L55,Y16)","v":1},{"$f":"Z16/(AB4-Z20)","v":0.04},{"$f":"IF(AA16=0,0,(AA16*((LOG(AA16))/LOG(2))))","v":-0.18575424759098899},null,{"$f":"N16","v":2112},{"$f":"COUNTIF(L56:L79,AD16)","v":0},{"$f":"AE16/(AG4-AE20)","v":0},{"$f":"IF(AF16=0,0,(AF16*((LOG(AF16))/LOG(2))))","v":0},null,{"$f":"N16","v":2112},{"$f":"COUNTIF(L80:L103,AI16)","v":0},{"$f":"AJ16/(AL4-AJ20)","v":0},{"$f":"IF(AK16=0,0,(AK16*((LOG(AK16))/LOG(2))))","v":0},null,{"$f":"N16","v":2112},{"$f":"COUNTIF(L104:L128,AN16)","v":0},{"$f":"AO16/(AQ4-AO20)","v":0},{"$f":"IF(AP16=0,0,(AP16*((LOG(AP16))/LOG(2))))","v":0},null,{"$f":"N16","v":2112},{"$f":"COUNTIF(L129:L152,AS16)","v":1},{"$f":"AT16/(AV4-AT20)","v":4.1666666666666664E-2},{"$f":"IF(AU16=0,0,(AU16*((LOG(AU16))/LOG(2))))","v":-0.19104010419671485}]
[12,1474,14,1481,13,1490,14,1495,null,null,0,1111,null,2121,{"$f":"COUNTIF($L$7:$L$500,N17)","v":0},{"$f":"O17/$Q$4","v":0},{"$f":"IF(P17=0,0,(P17*((LOG(P17))/LOG(2))))","v":0},null,null,{"$f":"N17","v":2121},{"$f":"COUNTIF(L7:L30,T17)","v":0},{"$f":"U17/(W4-U20)","v":0},{"$f":"IF(V17=0,0,(V17*((LOG(V17))/LOG(2))))","v":0},null,{"$f":"N17","v":2121},{"$f":"COUNTIF(L31:L55,Y17)","v":0},{"$f":"Z17/(AB4-Z20)","v":0},{"$f":"IF(AA17=0,0,(AA17*((LOG(AA17))/LOG(2))))","v":0},null,{"$f":"N17","v":2121},{"$f":"COUNTIF(L56:L79,AD17)","v":0},{"$f":"AE17/(AG4-AE20)","v":0},{"$f":"IF(AF17=0,0,(AF17*((LOG(AF17))/LOG(2))))","v":0},null,{"$f":"N17","v":2121},{"$f":"COUNTIF(L80:L103,AI17)","v":0},{"$f":"AJ17/(AL4-AJ20)","v":0},{"$f":"IF(AK17=0,0,(AK17*((LOG(AK17))/LOG(2))))","v":0},null,{"$f":"N17","v":2121},{"$f":"COUNTIF(L104:L128,AN17)","v":0},{"$f":"AO17/(AQ4-AO20)","v":0},{"$f":"IF(AP17=0,0,(AP17*((LOG(AP17))/LOG(2))))","v":0},null,{"$f":"N17","v":2121},{"$f":"COUNTIF(L129:L152,AS17)","v":0},{"$f":"AT17/(AV4-AT20)","v":0},{"$f":"IF(AU17=0,0,(AU17*((LOG(AU17))/LOG(2))))","v":0}]
[12,1600,14,1605,13,1609,14,1617,null,null,0,1111,null,2122,{"$f":"COUNTIF($L$7:$L$500,N18)","v":0},{"$f":"O18/$Q$4","v":0},{"$f":"IF(P18=0,0,(P18*((LOG(P18))/LOG(2))))","v":0},null,null,{"$f":"N18","v":2122},{"$f":"COUNTIF(L7:L30,T18)","v":0},{"$f":"U18/(W4-U20)","v":0},{"$f":"IF(V18=0,0,(V18*((LOG(V18))/LOG(2))))","v":0},null,{"$f":"N18","v":2122},{"$f":"COUNTIF(L31:L55,Y18)","v":0},{"$f":"Z18/(AB4-Z20)","v":0},{"$f":"IF(AA18=0,0,(AA18*((LOG(AA18))/LOG(2))))","v":0},null,{"$f":"N18","v":2122},{"$f":"COUNTIF(L56:L79,AD18)","v":0},{"$f":"AE18/(AG4-AE20)","v":0},{"$f":"IF(AF18=0,0,(AF18*((LOG(AF18))/LOG(2))))","v":0},null,{"$f":"N18","v":2122},{"$f":"COUNTIF(L80:L103,AI18)","v":0},{"$f":"AJ18/(AL4-AJ20)","v":0},{"$f":"IF(AK18=0,0,(AK18*((LOG(AK18))/LOG(2))))","v":0},null,{"$f":"N18","v":2122},{"$f":"COUNTIF(L104:L128,AN18)","v":0},{"$f":"AO18/(AQ4-AO20)","v":0},{"$f":"IF(AP18=0,0,(AP18*((LOG(AP18))/LOG(2))))","v":0},null,{"$f":"N18","v":2122},{"$f":"COUNTIF(L129:L152,AS18)","v":0},{"$f":"AT18/(AV4-AT20)","v":0},{"$f":"IF(AU18=0,0,(AU18*((LOG(AU18))/LOG(2))))","v":0}]
[21,1726,12,1744,13,1749,14,1756,null,null,0,2111,null,2211,{"$f":"COUNTIF($L$7:$L$500,N19)","v":18},{"$f":"O19/$Q$4","v":0.12328767123287671},{"$f":"IF(P19=0,0,(P19*((LOG(P19))/LOG(2))))","v":-0.37231638379368964},null,null,{"$f":"N19","v":2211},{"$f":"COUNTIF(L7:L30,T19)","v":3},{"$f":"U19/(W4-U20)","v":0.125},{"$f":"IF(V19=0,0,(V19*((LOG(V19))/LOG(2))))","v":-0.375},null,{"$f":"N19","v":2211},{"$f":"COUNTIF(L31:L55,Y19)","v":5},{"$f":"Z19/(AB4-Z20)","v":0.2},{"$f":"IF(AA19=0,0,(AA19*((LOG(AA19))/LOG(2))))","v":-0.46438561897747244},null,{"$f":"N19","v":2211},{"$f":"COUNTIF(L56:L79,AD19)","v":5},{"$f":"AE19/(AG4-AE20)","v":0.20833333333333334},{"$f":"IF(AF19=0,0,(AF19*((LOG(AF19))/LOG(2))))","v":-0.47146550121537367},null,{"$f":"N19","v":2211},{"$f":"COUNTIF(L80:L103,AI19)","v":4},{"$f":"AJ19/(AL4-AJ20)","v":0.18181818181818182},{"$f":"IF(AK19=0,0,(AK19*((LOG(AK19))/LOG(2))))","v":-0.44716938520678134},null,{"$f":"N19","v":2211},{"$f":"COUNTIF(L104:L128,AN19)","v":1},{"$f":"AO19/(AQ4-AO20)","v":4.3478260869565216E-2},{"$f":"IF(AP19=0,0,(AP19*((LOG(AP19))/LOG(2))))","v":-0.19667660678508753},null,{"$f":"N19","v":2211},{"$f":"COUNTIF(L129:L152,AS19)","v":0},{"$f":"AT19/(AV4-AT20)","v":0},{"$f":"IF(AU19=0,0,(AU19*((LOG(AU19))/LOG(2))))","v":0}]
[21,1876,21,1882,11,1894,12,1900,null,null,0,2211,null,2212,{"$f":"COUNTIF($L$7:$L$500,N20)","v":4},{"$f":"O20/$Q$4","v":2.7397260273972601E-2},{"$f":"IF(P20=0,0,(P20*((LOG(P20))/LOG(2))))","v":-0.14218697421589085},null,null,{"$f":"N20","v":2212},{"$f":"COUNTIF(L7:L30,T20)","v":0},null,null,null,{"$f":"N20","v":2212},{"$f":"COUNTIF(L31:L55,Y20)","v":0},null,null,null,{"$f":"N20","v":2212},{"$f":"COUNTIF(L56:L79,AD20)","v":0},null,null,null,{"$f":"N20","v":2212},{"$f":"COUNTIF(L80:L103,AI20)","v":2},null,null,null,{"$f":"N20","v":2212},{"$f":"COUNTIF(L104:L128,AN20)","v":2},null,null,null,{"$f":"N20","v":2212},{"$f":"COUNTIF(L129:L152,AS20)","v":0}]
[21,2022,12,2039,13,2043,14,2052,null,null,0,2111,null,2221,{"$f":"COUNTIF($L$7:$L$500,N21)","v":20},{"$f":"O21/$Q$4","v":0.13698630136986301},{"$f":"IF(P21=0,0,(P21*((LOG(P21))/LOG(2))))","v":-0.39286252931406229},null,null,{"$f":"N21","v":2221},{"$f":"COUNTIF(L7:L30,T21)","v":0},{"$f":"U21/(W4-U20)","v":0},{"$f":"IF(V21=0,0,(V21*((LOG(V21))/LOG(2))))","v":0},null,{"$f":"N21","v":2221},{"$f":"COUNTIF(L31:L55,Y21)","v":2},{"$f":"Z21/(AB4-Z20)","v":0.08},{"$f":"IF(AA21=0,0,(AA21*((LOG(AA21))/LOG(2))))","v":-0.29150849518197797},null,{"$f":"N21","v":2221},{"$f":"COUNTIF(L56:L79,AD21)","v":6},{"$f":"AE21/(AG4-AE20)","v":0.25},{"$f":"IF(AF21=0,0,(AF21*((LOG(AF21))/LOG(2))))","v":-0.5},null,{"$f":"N21","v":2221},{"$f":"COUNTIF(L80:L103,AI21)","v":2},{"$f":"AJ21/(AL4-AJ20)","v":9.0909090909090912E-2},{"$f":"IF(AK21=0,0,(AK21*((LOG(AK21))/LOG(2))))","v":-0.31449378351248153},null,{"$f":"N21","v":2221},{"$f":"COUNTIF(L104:L128,AN21)","v":3},{"$f":"AO21/(AQ4-AO20)","v":0.13043478260869565},{"$f":"IF(AP21=0,0,(AP21*((LOG(AP21))/LOG(2))))","v":-0.3832955811307639},null,{"$f":"N21","v":2221},{"$f":"COUNTIF(L129:L152,AS21)","v":7},{"$f":"AT21/(AV4-AT20)","v":0.29166666666666669},{"$f":"IF(AU21=0,0,(AU21*((LOG(AU21))/LOG(2))))","v":-0.51846887711020273}]
[21,2163,12,2175,13,2184,14,2189,null,null,0,2111,null,2222,{"$f":"COUNTIF($L$7:$L$500,N22)","v":48},{"$f":"O22/$Q$4","v":0.32876712328767121},{"$f":"IF(P22=0,0,(P22*((LOG(P22))/LOG(2))))","v":-0.52762588213442008},null,null,{"$f":"N22","v":2222},{"$f":"COUNTIF(L7:L30,T22)","v":1},{"$f":"U22/(W4-U20)","v":4.1666666666666664E-2},{"$f":"IF(V22=0,0,(V22*((LOG(V22))/LOG(2))))","v":-0.19104010419671485},null,{"$f":"N22","v":2222},{"$f":"COUNTIF(L31:L55,Y22)","v":1},{"$f":"Z22/(AB4-Z20)","v":0.04},{"$f":"IF(AA22=0,0,(AA22*((LOG(AA22))/LOG(2))))","v":-0.18575424759098899},null,{"$f":"N22","v":2222},{"$f":"COUNTIF(L56:L79,AD22)","v":2},{"$f":"AE22/(AG4-AE20)","v":8.3333333333333329E-2},{"$f":"IF(AF22=0,0,(AF22*((LOG(AF22))/LOG(2))))","v":-0.29874687506009634},null,{"$f":"N22","v":2222},{"$f":"COUNTIF(L80:L103,AI22)","v":13},{"$f":"AJ22/(AL4-AJ20)","v":0.59090909090909094},{"$f":"IF(AK22=0,0,(AK22*((LOG(AK22))/LOG(2))))","v":-0.4484952139295757},null,{"$f":"N22","v":2222},{"$f":"COUNTIF(L104:L128,AN22)","v":15},{"$f":"AO22/(AQ4-AO20)","v":0.65217391304347827},{"$f":"IF(AP22=0,0,(AP22*((LOG(AP22))/LOG(2))))","v":-0.40217697420553983},null,{"$f":"N22","v":2222},{"$f":"COUNTIF(L129:L152,AS22)","v":16},{"$f":"AT22/(AV4-AT20)","v":0.66666666666666663},{"$f":"IF(AU22=0,0,(AU22*((LOG(AU22))/LOG(2))))","v":-0.38997500048077083}]
[21,2302,12,2313,13,2318,14,2323,null,null,0,2111,null,null,null,{"$f":"SUM(P7:P22)","v":1},{"$f":"-SUM(Q7:Q22)","v":2.4551465233297565},null,null,null,null,{"$f":"SUM(V7:V22)","v":0.99999999999999989},{"$f":"-SUM(W7:W22)","v":1.5636254885377858},null,null,null,{"$f":"SUM(AA7:AA22)","v":1},{"$f":"-SUM(AB7:AB22)","v":2.1129350396193689},null,null,null,{"$f":"SUM(AF7:AF22)","v":1},{"$f":"-SUM(AG7:AG22)","v":2.2883201891059999},null,null,null,{"$f":"SUM(AK7:AK22)","v":1},{"$f":"-SUM(AL7:AL22)","v":1.7273536033721062},null,null,null,{"$f":"SUM(AP7:AP22)","v":1},{"$f":"-SUM(AQ7:AQ22)","v":1.5621213500372428},null,null,null,{"$f":"SUM(AU7:AU22)","v":1},{"$f":"-SUM(AV7:AV22)","v":1.0994839817876882}]
[12,2478,14,2488,13,2497,14,2505,null,null,0,1111,null,null,null,"U=",{"$f":"Q23/(LOG(Q4)/LOG(2))","v":0.34147516441099401},null,null,null,null,"U1=",{"$f":"W23/(LOG(W4)/LOG(2))","v":0.34103343010806469},null,null,null,"U2=",{"$f":"AB23/(LOG(AB4)/LOG(2))","v":0.45499579514796906},null,null,null,"U3=",{"$f":"AG23/(LOG(AG4)/LOG(2))","v":0.49909245468116181},null,null,null,"U4=",{"$f":"AL23/(LOG(AL4)/LOG(2))","v":0.37674323467212995},null,null,null,"U5=",{"$f":"AQ23/(LOG(AQ4)/LOG(2))","v":0.33638452316350087},null,null,null,"U6=",{"$f":"AV23/(LOG(AV4)/LOG(2))","v":0.23980217539723683}]
[21,2607,12,2626,13,2636,14,2644,null,null,0,2111]
[21,2757,21,2767,11,2781,12,2786,null,null,0,2211]
[12,2910,14,2919,13,2927,14,2940,null,null,0,1111,null,"Total Target Seq"]
[21,3056,12,3067,13,3076,14,3082,null,null,0,2111,null,{"$f":"COUNTIF(L7:L152,G3)","v":4},null,24,25,24,24,25,24]
[21,3191,12,3204,13,3208,14,3218,null,null,0,2111,null,null,null,"% of reinforcement given in 6 equal intervals based on number of trials "]
[12,3390,14,3395,13,3401,14,3406,null,null,0,1111,null,null,null,"%_1","%_2","%_3","%_4","%_5","%_6"]
[21,3510,12,3522,13,3528,14,3532,null,null,0,2111,null,null,"target sequence",{"$f":"$G$3","v":2212},{"$f":"$G$3","v":2212},{"$f":"$G$3","v":2212},{"$f":"$G$3","v":2212},{"$f":"$G$3","v":2212},{"$f":"$G$3","v":2212}]
[21,3706,12,3719,13,3724,14,3731,null,null,0,2111,null,null,"total reinforcement",{"$f":"U20","v":0},{"$f":"Z20","v":0},{"$f":"AE20","v":0},{"$f":"AJ20","v":2},{"$f":"AO20","v":2},{"$f":"AT20","v":0}]
[12,3853,14,3859,13,3863,14,3869,null,null,0,1111,null,null,"% target"]
[21,3972,21,3980,22,3992,14,4005,null,null,0,2221,null,null,"CCRF"]
[21,4105,21,4125,11,4137,12,4141,null,null,0,2211,null,null,"% CCRf"]
[12,4287,14,4295,13,4302,14,4311,null,null,0,1111,null,null,"average response rate",{"$f":"H30/P28","v":141.91666666666666},{"$f":"(H55-H30)/Q28","v":159.56},{"$f":"(H79-H55)/R28","v":195.08333333333334},{"$f":"(H103-H79)/S28","v":178},{"$f":"(H128-H103)/T28","v":158.91999999999999},{"$f":"(H152-H128)/U28","v":152}]
[21,4425,12,4439,13,4443,14,4448,null,null,0,2111]
[21,4572,21,4578,11,4591,12,4597,null,null,0,2211]
[21,4710,12,4722,13,4732,14,4739,null,null,0,2111]
[21,4914,12,4930,13,4936,14,4943,null,null,0,2111]
[21,5072,21,5082,11,5098,12,5103,null,null,0,2211]
[12,5301,14,5306,13,5310,14,5318,null,null,0,1111]
[21,5439,12,5454,13,5459,14,5464,null,null,0,2111]
[21,5585,12,5594,13,5603,14,5608,null,null,0,2111]
[21,5719,21,5733,22,5741,14,5752,null,null,0,2221]
[21,6075,21,6084,22,6092,23,6105,null,null,0,2222]
[12,6211,14,6216,13,6221,14,6226,null,null,0,1111]
[21,6352,12,6366,13,6371,14,6377,null,null,0,2111]
[21,6502,12,6513,13,6522,14,6529,null,null,0,2111]
[21,6650,21,6671,11,6682,12,6686,null,null,0,2211]
[12,6795,14,6800,13,6809,14,6814,null,null,0,1111]
[21,6920,12,6934,13,6940,14,6943,null,null,0,2111]
[21,7056,12,7074,13,7078,23,7092,null,null,0,2112]
[21,7196,12,7208,13,7215,14,7223,null,null,0,2111]
[21,7350,21,7372,11,7385,12,7395,null,null,0,2211]
[21,7553,12,7565,13,7574,14,7579,null,null,0,2111]
[21,7681,21,7696,22,7704,23,7711,null,null,0,2222]
[21,7823,12,7835,13,7840,14,7847,null,null,0,2111]
[21,8046,12,8056,13,8061,14,8065,null,null,0,2111]
[21,8314,12,8341,13,8348,14,8357,null,null,0,2111]
[21,8467,21,8489,22,8498,14,8511,null,null,0,2221]
[21,8717,12,8731,13,8739,14,8749,null,null,0,2111]
[21,8918,12,8933,13,8938,14,8947,null,null,0,2111]
[21,9055,21,9063,22,9078,14,9092,null,null,0,2221]
[21,9400,21,9408,11,9429,12,9434,null,null,0,2211]
[21,9565,21,9584,22,9599,14,9614,null,null,0,2221]
[21,9809,21,9820,11,9832,12,9841,null,null,0,2211]
[12,9969,14,9974,13,9978,14,9983,null,null,0,1111]
[21,10175,21,10186,11,10199,12,10203,null,null,0,2211]
[21,10452,21,10467,22,10475,14,10502,null,null,0,2221]
[21,10615,21,10628,22,10635,14,10649,null,null,0,2221]
[12,10787,14,10796,13,10802,14,10809,null,null,0,1111]
[21,10909,21,10918,22,10938,23,10945,null,null,0,2222]
[21,11068,12,11081,13,11086,14,11094,null,null,0,2111]
[21,11231,21,11239,11,11250,12,11258,null,null,0,2211]
[21,11361,21,11369,22,11391,14,11403,null,null,0,2221]
[21,11605,21,11617,11,11630,12,11638,null,null,0,2211]
[12,11820,14,11827,24,11841,23,11851,null,null,0,1122]
[21,12052,12,12067,13,12072,14,12077,null,null,0,2111]
[21,12249,21,12260,11,12273,12,12277,null,null,0,2211]
[21,12417,12,12433,13,12438,14,12443,null,null,0,2111]
[21,12550,21,12565,22,12582,23,12590,null,null,0,2222]
[21,12852,21,12860,11,12872,12,12881,null,null,0,2211]
[21,12985,21,12993,11,13005,21,13017,null,null,0,2212]
[21,13113,21,13121,11,13137,12,13142,null,null,0,2211]
[21,13260,21,13265,22,13273,14,13289,null,null,0,2221]
[21,13387,21,13393,22,13417,23,13453,null,null,0,2222]
[21,13566,21,13573,22,13580,23,13593,null,null,0,2222]
[21,13696,21,13703,22,13709,23,13717,null,null,0,2222]
[21,13819,21,13824,22,13830,23,13839,null,null,0,2222]
[21,13952,21,13959,22,13963,23,13968,null,null,0,2222]
[21,14073,21,14084,22,14093,23,14100,null,null,0,2222]
[21,14213,21,14218,22,14243,23,14248,null,null,0,2222]
[21,14360,21,14376,22,14383,23,14393,null,null,0,2222]
[21,14624,21,14632,11,14687,12,14692,null,null,0,2211]
[21,14820,21,14829,22,14837,14,14851,null,null,0,2221]
[12,15055,14,15063,13,15070,14,15079,null,null,0,1111]
[21,15335,21,15345,22,15366,23,15375,null,null,0,2222]
[21,15490,21,15498,22,15516,23,15542,null,null,0,2222]
[21,15847,21,15862,22,15897,23,15916,null,null,0,2222]
[21,16017,21,16037,11,16051,21,16062,null,null,0,2212]
[21,16175,12,16189,13,16194,14,16199,null,null,0,2111]
[21,16317,21,16324,22,16340,23,16349,null,null,0,2222]
[21,16458,21,16463,22,16503,23,16512,null,null,0,2222]
[21,16614,21,16619,22,16626,23,16632,null,null,0,2222]
[21,16738,21,16744,22,16753,23,16766,null,null,0,2222]
[21,16874,21,16881,22,16898,23,16906,null,null,0,2222]
[21,17010,21,17016,22,17021,23,17028,null,null,0,2222]
[21,17129,12,17143,13,17150,14,17157,null,null,0,2111]
[21,17261,21,17282,22,17297,23,17319,null,null,0,2222]
[21,17423,21,17433,22,17438,23,17449,null,null,0,2222]
[21,17553,21,17559,22,17567,23,17574,null,null,0,2222]
[21,17677,12,17695,13,17705,14,17714,null,null,0,2111]
[21,17811,21,17820,22,17827,23,17838,null,null,0,2222]
[21,17946,21,17951,22,17958,23,17966,null,null,0,2222]
[12,18089,14,18094,13,18099,14,18105,null,null,0,1111]
[21,18272,21,18311,22,18323,14,18346,null,null,0,2221]
[21,18460,21,18480,22,18488,23,18496,null,null,0,2222]
[21,18600,21,18604,22,18609,23,18615,null,null,0,2222]
[21,18896,21,18903,11,18921,12,18930,null,null,0,2211]
[21,19041,21,19065,22,19077,23,19085,null,null,0,2222]
[21,19369,12,19382,13,19387,14,19394,null,null,0,2111]
[21,19539,21,19548,22,19572,14,19613,null,null,0,2221]
[21,19716,21,19737,11,19750,21,19760,null,null,0,2212]
[21,19870,21,19878,22,19887,14,19903,null,null,0,2221]
[21,20006,21,20013,11,20027,21,20038,null,null,0,2212]
[21,20142,21,20150,22,20168,23,20176,null,null,0,2222]
[21,20290,21,20295,22,20305,23,20322,null,null,0,2222]
[21,20423,12,20436,13,20443,23,20455,null,null,0,2112]
[21,20584,21,20593,22,20639,23,20650,null,null,0,2222]
[21,20760,21,20772,22,20780,23,20793,null,null,0,2222]
[21,20901,21,20915,22,20924,23,20933,null,null,0,2222]
[21,21043,21,21049,22,21054,23,21059,null,null,0,2222]
[21,21167,21,21174,22,21181,23,21189,null,null,0,2222]
[21,21294,21,21302,22,21307,23,21313,null,null,0,2222]
[21,21430,21,21440,22,21450,23,21459,null,null,0,2222]
[21,21569,21,21583,22,21597,14,21623,null,null,0,2221]
[21,21733,21,21741,22,21750,23,21758,null,null,0,2222]
[21,21857,21,21866,22,21885,23,21892,null,null,0,2222]
[21,22000,21,22008,22,22032,14,22050,null,null,0,2221]
[21,22171,21,22177,22,22182,23,22189,null,null,0,2222]
[21,22321,21,22335,22,22346,14,22371,null,null,0,2221]
[21,22477,21,22498,22,22512,23,22520,null,null,0,2222]
[21,22666,21,22674,22,22684,14,22697,null,null,0,2221]
[21,22830,21,22836,22,22853,14,22882,null,null,0,2221]
[21,23001,21,23009,22,23016,14,23032,null,null,0,2221]
[21,23141,21,23147,22,23151,23,23159,null,null,0,2222]
[21,23262,21,23280,22,23295,23,23311,null,null,0,2222]
[21,23531,21,23555,22,23564,14,23581,null,null,0,2221]
[21,23690,21,23709,22,23717,23,23725,null,null,0,2222]
[21,23823,21,23830,22,23840,23,23853,null,null,0,2222]
[21,23955,21,23959,22,23964,23,23970,null,null,null,2222]

{"sheet":"!MB18920.091","index":13,"n_rows":169,"n_cols":48,"rows_kept":169,"cut":false,"hidden":false,"merged":[[4,39,4,42],[5,39,5,40],[4,44,4,47],[5,44,5,45],[4,24,4,27],[5,24,5,25],[4,29,4,32],[5,29,5,30],[4,34,4,37],[5,34,5,35],[1,1,1,2],[5,13,5,14],[26,13,26,14],[27,13,27,14],[4,19,4,22],[5,19,5,20]]}
["Report for:!MB18920.091"]
["Date:","<date>"]
["Hen:","<hen>",null,null,null,"Correct Sequence",{"$f":"Start!J2","v":2212},null,null,null,null,null,null,null,null,"Total Sequences in Data",{"$f":"4994-COUNTBLANK(L7:L5000)","v":163},null,null,null,null,"Total Sequences in Block Data",{"$f":"COUNTA(L7:L33)","v":27},null,null,null,"Total Sequences in Block Data",{"$f":"COUNTA(L34:L60)","v":27},null,null,null,"Total Sequences in Block Data",{"$f":"COUNTA(L61:L88)","v":28},null,null,null,"Total Sequences in Block Data",{"$f":"COUNTA(L89:L115)","v":27},null,null,null,"Total Sequences in Block Data",{"$f":"COUNTA(L116:L142)","v":27},null,null,null,"Total Sequences in Block Data",{"$f":"COUNTA(L143:L169)","v":27}]
[null,null,null,null,null,null,null,null,null,null,null,null,null,null,null,"Total Sequences in Summary",{"$f":"SUM(O7:O22)","v":163},null,null,null,null,"Total Sequences in Block Summary",{"$f":"SUM(U7:U22)","v":27},null,null,null,"Total Sequences in Block Summary",{"$f":"SUM(Z7:Z22)","v":27},null,null,null,"Total Sequences in Block Summary",{"$f":"SUM(AE7:AE22)","v":28},null,null,null,"Total Sequences in Block Summary",{"$f":"SUM(AJ7:AJ22)","v":27},null,null,null,"Total Sequences in Block Summary",{"$f":"SUM(AO7:AO22)","v":27},null,null,null,"Total Sequences in Block Summary",{"$f":"SUM(AT7:AT22)","v":27}]
[null,null,null,null,null,null,null,null,null,null,null,null,null,null,null,null,null,null,null,"Block 1",null,null,null,null,"Block 2",null,null,null,null,"Block 3",null,null,null,null,"Block 4",null,null,null,null,"Block 5",null,null,null,null,"Block 6"]
["Sequence\nComponent\n1","Time\n1","Sequence\nComponent\n2","Time\n2","Sequence\nComponent\n3","Time\n3","Sequence\nComponent\n4","Time\n4","Sequence\nComponent\n5","Time\n5","Correct?\n0=No 1=Yes","Sequence",null,"Frequency",null,"Relative Frequency","Variability",null,null,"Frequency",null,"Relative Frequency","Variability",null,"Frequency",null,"Relative Frequency","Variability",null,"Frequency",null,"Relative Frequency","Variability",null,"Frequency",null,"Relative Frequency","Variability",null,"Frequency",null,"Relative Frequency","Variability",null,"Frequency",null,"Relative Frequency","Variability"]
[21,15,21,24,11,38,12,47,null,null,0,2211,null,1111,{"$f":"COUNTIF($L$7:$L$500,N7)","v":3},{"$f":"O7/$Q$4","v":1.8404907975460124E-2},{"$f":"IF(P7=0,0,(P7*((LOG(P7))/LOG(2))))","v":-0.10608157644496788},null,null,{"$f":"N7","v":1111},{"$f":"COUNTIF(L7:L33,T7)","v":3},{"$f":"U7/(W4-U20)","v":0.11538461538461539},{"$f":"IF(V7=0,0,(V7*((LOG(V7))/LOG(2))))","v":-0.35947814047153104},null,{"$f":"N7","v":1111},{"$f":"COUNTIF(L34:L60,Y7)","v":0},{"$f":"Z7/(AB4-Z20)","v":0},{"$f":"IF(AA7=0,0,(AA7*((LOG(AA7))/LOG(2))))","v":0},null,{"$f":"N7","v":1111},{"$f":"COUNTIF(L61:L88,AD7)","v":0},{"$f":"AE7/(AG4-AE20)","v":0},{"$f":"IF(AF7=0,0,(AF7*((LOG(AF7))/LOG(2))))","v":0},null,{"$f":"N7","v":1111},{"$f":"COUNTIF(L89:L115,AI7)","v":0},{"$f":"AJ7/(AL4-AJ20)","v":0},{"$f":"IF(AK7=0,0,(AK7*((LOG(AK7))/LOG(2))))","v":0},null,{"$f":"N7","v":1111},{"$f":"COUNTIF(L116:L142,AN7)","v":0},{"$f":"AO7/(AQ4-AO20)","v":0},{"$f":"IF(AP7=0,0,(AP7*((LOG(AP7))/LOG(2))))","v":0},null,{"$f":"N7","v":1111},{"$f":"COUNTIF(L143:L169,AS7)","v":0},{"$f":"AT7/(AV4-AT20)","v":0},{"$f":"IF(AU7=0,0,(AU7*((LOG(AU7))/LOG(2))))","v":0}]
[21,138,21,146,22,155,14,166,null,null,0,2221,null,1112,{"$f":"COUNTIF($L$7:$L$500,N8)","v":1},{"$f":"O8/$Q$4","v":6.1349693251533744E-3},{"$f":"IF(P8=0,0,(P8*((LOG(P8))/LOG(2))))","v":-4.5084221805098634E-2},null,null,{"$f":"N8","v":1112},{"$f":"COUNTIF(L7:L33,T8)","v":0},{"$f":"U8/(W4-U20)","v":0},{"$f":"IF(V8=0,0,(V8*((LOG(V8))/LOG(2))))","v":0},null,{"$f":"N8","v":1112},{"$f":"COUNTIF(L34:L60,Y8)","v":0},{"$f":"Z8/(AB4-Z20)","v":0},{"$f":"IF(AA8=0,0,(AA8*((LOG(AA8))/LOG(2))))","v":0},null,{"$f":"N8","v":1112},{"$f":"COUNTIF(L61:L88,AD8)","v":0},{"$f":"AE8/(AG4-AE20)","v":0},{"$f":"IF(AF8=0,0,(AF8*((LOG(AF8))/LOG(2))))","v":0},null,{"$f":"N8","v":1112},{"$f":"COUNTIF(L89:L115,AI8)","v":0},{"$f":"AJ8/(AL4-AJ20)","v":0},{"$f":"IF(AK8=0,0,(AK8*((LOG(AK8))/LOG(2))))","v":0},null,{"$f":"N8","v":1112},{"$f":"COUNTIF(L116:L142,AN8)","v":1},{"$f":"AO8/(AQ4-AO20)","v":3.7037037037037035E-2},{"$f":"IF(AP8=0,0,(AP8*((LOG(AP8))/LOG(2))))","v":-0.1761069445245729},null,{"$f":"N8","v":1112},{"$f":"COUNTIF(L143:L169,AS8)","v":0},{"$f":"AT8/(AV4-AT20)","v":0},{"$f":"IF(AU8=0,0,(AU8*((LOG(AU8))/LOG(2))))","v":0}]
[21,269,12,281,24,300,23,309,null,null,0,2122,null,1121,{"$f":"COUNTIF($L$7:$L$500,N9)","v":0},{"$f":"O9/$Q$4","v":0},{"$f":"IF(P9=0,0,(P9*((LOG(P9))/LOG(2))))","v":0},null,null,{"$f":"N9","v":1121},{"$f":"COUNTIF(L7:L33,T9)","v":0},{"$f":"U9/(W4-U20)","v":0},{"$f":"IF(V9=0,0,(V9*((LOG(V9))/LOG(2))))","v":0},null,{"$f":"N9","v":1121},{"$f":"COUNTIF(L34:L60,Y9)","v":0},{"$f":"Z9/(AB4-Z20)","v":0},{"$f":"IF(AA9=0,0,(AA9*((LOG(AA9))/LOG(2))))","v":0},null,{"$f":"N9","v":1121},{"$f":"COUNTIF(L61:L88,AD9)","v":0},{"$f":"AE9/(AG4-AE20)","v":0},{"$f":"IF(AF9=0,0,(AF9*((LOG(AF9))/LOG(2))))","v":0},null,{"$f":"N9","v":1121},{"$f":"COUNTIF(L89:L115,AI9)","v":0},{"$f":"AJ9/(AL4-AJ20)","v":0},{"$f":"IF(AK9=0,0,(AK9*((LOG(AK9))/LOG(2))))","v":0},null,{"$f":"N9","v":1121},{"$f":"COUNTIF(L116:L142,AN9)","v":0},{"$f":"AO9/(AQ4-AO20)","v":0},{"$f":"IF(AP9=0,0,(AP9*((LOG(AP9))/LOG(2))))","v":0},null,{"$f":"N9","v":1121},{"$f":"COUNTIF(L143:L169,AS9)","v":0},{"$f":"AT9/(AV4-AT20)","v":0},{"$f":"IF(AU9=0,0,(AU9*((LOG(AU9))/LOG(2))))","v":0}]
[12,412,14,418,13,423,14,432,null,null,0,1111,null,1122,{"$f":"COUNTIF($L$7:$L$500,N10)","v":2},{"$f":"O10/$Q$4","v":1.2269938650306749E-2},{"$f":"IF(P10=0,0,(P10*((LOG(P10))/LOG(2))))","v":-7.7898504959890522E-2},null,null,{"$f":"N10","v":1122},{"$f":"COUNTIF(L7:L33,T10)","v":0},{"$f":"U10/(W4-U20)","v":0},{"$f":"IF(V10=0,0,(V10*((LOG(V10))/LOG(2))))","v":0},null,{"$f":"N10","v":1122},{"$f":"COUNTIF(L34:L60,Y10)","v":1},{"$f":"Z10/(AB4-Z20)","v":0.04},{"$f":"IF(AA10=0,0,(AA10*((LOG(AA10))/LOG(2))))","v":-0.18575424759098899},null,{"$f":"N10","v":1122},{"$f":"COUNTIF(L61:L88,AD10)","v":0},{"$f":"AE10/(AG4-AE20)","v":0},{"$f":"IF(AF10=0,0,(AF10*((LOG(AF10))/LOG(2))))","v":0},null,{"$f":"N10","v":1122},{"$f":"COUNTIF(L89:L115,AI10)","v":0},{"$f":"AJ10/(AL4-AJ20)","v":0},{"$f":"IF(AK10=0,0,(AK10*((LOG(AK10))/LOG(2))))","v":0},null,{"$f":"N10","v":1122},{"$f":"COUNTIF(L116:L142,AN10)","v":0},{"$f":"AO10/(AQ4-AO20)","v":0},{"$f":"IF(AP10=0,0,(AP10*((LOG(AP10))/LOG(2))))","v":0},null,{"$f":"N10","v":1122},{"$f":"COUNTIF(L143:L169,AS10)","v":1},{"$f":"AT10/(AV4-AT20)","v":3.8461538461538464E-2},{"$f":"IF(AU10=0,0,(AU10*((LOG(AU10))/LOG(2))))","v":-0.18078614300542661}]
[12,533,23,549,24,558,14,571,null,null,0,1221,null,1211,{"$f":"COUNTIF($L$7:$L$500,N11)","v":0},{"$f":"O11/$Q$4","v":0},{"$f":"IF(P11=0,0,(P11*((LOG(P11))/LOG(2))))","v":0},null,null,{"$f":"N11","v":1211},{"$f":"COUNTIF(L7:L33,T11)","v":0},{"$f":"U11/(W4-U20)","v":0},{"$f":"IF(V11=0,0,(V11*((LOG(V11))/LOG(2))))","v":0},null,{"$f":"N11","v":1211},{"$f":"COUNTIF(L34:L60,Y11)","v":0},{"$f":"Z11/(AB4-Z20)","v":0},{"$f":"IF(AA11=0,0,(AA11*((LOG(AA11))/LOG(2))))","v":0},null,{"$f":"N11","v":1211},{"$f":"COUNTIF(L61:L88,AD11)","v":0},{"$f":"AE11/(AG4-AE20)","v":0},{"$f":"IF(AF11=0,0,(AF11*((LOG(AF11))/LOG(2))))","v":0},null,{"$f":"N11","v":1211},{"$f":"COUNTIF(L89:L115,AI11)","v":0},{"$f":"AJ11/(AL4-AJ20)","v":0},{"$f":"IF(AK11=0,0,(AK11*((LOG(AK11))/LOG(2))))","v":0},null,{"$f":"N11","v":1211},{"$f":"COUNTIF(L116:L142,AN11)","v":0},{"$f":"AO11/(AQ4-AO20)","v":0},{"$f":"IF(AP11=0,0,(AP11*((LOG(AP11))/LOG(2))))","v":0},null,{"$f":"N11","v":1211},{"$f":"COUNTIF(L143:L169,AS11)","v":0},{"$f":"AT11/(AV4-AT20)","v":0},{"$f":"IF(AU11=0,0,(AU11*((LOG(AU11))/LOG(2))))","v":0}]
[21,673,21,679,11,701,12,708,null,null,0,2211,null,1212,{"$f":"COUNTIF($L$7:$L$500,N12)","v":1},{"$f":"O12/$Q$4","v":6.1349693251533744E-3},{"$f":"IF(P12=0,0,(P12*((LOG(P12))/LOG(2))))","v":-4.5084221805098634E-2},null,null,{"$f":"N12","v":1212},{"$f":"COUNTIF(L7:L33,T12)","v":0},{"$f":"U12/(W4-U20)","v":0},{"$f":"IF(V12=0,0,(V12*((LOG(V12))/LOG(2))))","v":0},null,{"$f":"N12","v":1212},{"$f":"COUNTIF(L34:L60,Y12)","v":1},{"$f":"Z12/(AB4-Z20)","v":0.04},{"$f":"IF(AA12=0,0,(AA12*((LOG(AA12))/LOG(2))))","v":-0.18575424759098899},null,{"$f":"N12","v":1212},{"$f":"COUNTIF(L61:L88,AD12)","v":0},{"$f":"AE12/(AG4-AE20)","v":0},{"$f":"IF(AF12=0,0,(AF12*((LOG(AF12))/LOG(2))))","v":0},null,{"$f":"N12","v":1212},{"$f":"COUNTIF(L89:L115,AI12)","v":0},{"$f":"AJ12/(AL4-AJ20)","v":0},{"$f":"IF(AK12=0,0,(AK12*((LOG(AK12))/LOG(2))))","v":0},null,{"$f":"N12","v":1212},{"$f":"COUNTIF(L116:L142,AN12)","v":0},{"$f":"AO12/(AQ4-AO20)","v":0},{"$f":"IF(AP12=0,0,(AP12*((LOG(AP12))/LOG(2))))","v":0},null,{"$f":"N12","v":1212},{"$f":"COUNTIF(L143:L169,AS12)","v":0},{"$f":"AT12/(AV4-AT20)","v":0},{"$f":"IF(AU12=0,0,(AU12*((LOG(AU12))/LOG(2))))","v":0}]
[21,813,12,830,13,835,14,843,null,null,0,2111,null,1221,{"$f":"COUNTIF($L$7:$L$500,N13)","v":3},{"$f":"O13/$Q$4","v":1.8404907975460124E-2},{"$f":"IF(P13=0,0,(P13*((LOG(P13))/LOG(2))))","v":-0.10608157644496788},null,null,{"$f":"N13","v":1221},{"$f":"COUNTIF(L7:L33,T13)","v":1},{"$f":"U13/(W4-U20)","v":3.8461538461538464E-2},{"$f":"IF(V13=0,0,(V13*((LOG(V13))/LOG(2))))","v":-0.18078614300542661},null,{"$f":"N13","v":1221},{"$f":"COUNTIF(L34:L60,Y13)","v":2},{"$f":"Z13/(AB4-Z20)","v":0.08},{"$f":"IF(AA13=0,0,(AA13*((LOG(AA13))/LOG(2))))","v":-0.29150849518197797},null,{"$f":"N13","v":1221},{"$f":"COUNTIF(L61:L88,AD13)","v":0},{"$f":"AE13/(AG4-AE20)","v":0},{"$f":"IF(AF13=0,0,(AF13*((LOG(AF13))/LOG(2))))","v":0},null,{"$f":"N13","v":1221},{"$f":"COUNTIF(L89:L115,AI13)","v":0},{"$f":"AJ13/(AL4-AJ20)","v":0},{"$f":"IF(AK13=0,0,(AK13*((LOG(AK13))/LOG(2))))","v":0},null,{"$f":"N13","v":1221},{"$f":"COUNTIF(L116:L142,AN13)","v":0},{"$f":"AO13/(AQ4-AO20)","v":0},{"$f":"IF(AP13=0,0,(AP13*((LOG(AP13))/LOG(2))))","v":0},null,{"$f":"N13","v":1221},{"$f":"COUNTIF(L143:L169,AS13)","v":0},{"$f":"AT13/(AV4-AT20)","v":0},{"$f":"IF(AU13=0,0,(AU13*((LOG(AU13))/LOG(2))))","v":0}]
[12,948,14,954,13,963,14,974,null,null,0,1111,null,1222,{"$f":"COUNTIF($L$7:$L$500,N14)","v":4},{"$f":"O14/$Q$4","v":2.4539877300613498E-2},{"$f":"IF(P14=0,0,(P14*((LOG(P14))/LOG(2))))","v":-0.13125713261916755},null,null,{"$f":"N14","v":1222},{"$f":"COUNTIF(L7:L33,T14)","v":0},{"$f":"U14/(W4-U20)","v":0},{"$f":"IF(V14=0,0,(V14*((LOG(V14))/LOG(2))))","v":0},null,{"$f":"N14","v":1222},{"$f":"COUNTIF(L34:L60,Y14)","v":0},{"$f":"Z14/(AB4-Z20)","v":0},{"$f":"IF(AA14=0,0,(AA14*((LOG(AA14))/LOG(2))))","v":0},null,{"$f":"N14","v":1222},{"$f":"COUNTIF(L61:L88,AD14)","v":1},{"$f":"AE14/(AG4-AE20)","v":3.5714285714285712E-2},{"$f":"IF(AF14=0,0,(AF14*((LOG(AF14))/LOG(2))))","v":-0.17169124721634299},null,{"$f":"N14","v":1222},{"$f":"COUNTIF(L89:L115,AI14)","v":1},{"$f":"AJ14/(AL4-AJ20)","v":0.04},{"$f":"IF(AK14=0,0,(AK14*((LOG(AK14))/LOG(2))))","v":-0.18575424759098899},null,{"$f":"N14","v":1222},{"$f":"COUNTIF(L116:L142,AN14)","v":0},{"$f":"AO14/(AQ4-AO20)","v":0},{"$f":"IF(AP14=0,0,(AP14*((LOG(AP14))/LOG(2))))","v":0},null,{"$f":"N14","v":1222},{"$f":"COUNTIF(L143:L169,AS14)","v":2},{"$f":"AT14/(AV4-AT20)","v":7.6923076923076927E-2},{"$f":"IF(AU14=0,0,(AU14*((LOG(AU14))/LOG(2))))","v":-0.28464920908777636}]
[12,1094,14,1100,13,1105,14,1115,null,null,0,1111,null,2111,{"$f":"COUNTIF($L$7:$L$500,N15)","v":5},{"$f":"O15/$Q$4","v":3.0674846625766871E-2},{"$f":"IF(P15=0,0,(P15*((LOG(P15))/LOG(2))))","v":-0.15419632083876425},null,null,{"$f":"N15","v":2111},{"$f":"COUNTIF(L7:L33,T15)","v":2},{"$f":"U15/(W4-U20)","v":7.6923076923076927E-2},{"$f":"IF(V15=0,0,(V15*((LOG(V15))/LOG(2))))","v":-0.28464920908777636},null,{"$f":"N15","v":2111},{"$f":"COUNTIF(L34:L60,Y15)","v":0},{"$f":"Z15/(AB4-Z20)","v":0},{"$f":"IF(AA15=0,0,(AA15*((LOG(AA15))/LOG(2))))","v":0},null,{"$f":"N15","v":2111},{"$f":"COUNTIF(L61:L88,AD15)","v":2},{"$f":"AE15/(AG4-AE20)","v":7.1428571428571425E-2},{"$f":"IF(AF15=0,0,(AF15*((LOG(AF15))/LOG(2))))","v":-0.27195392300411453},null,{"$f":"N15","v":2111},{"$f":"COUNTIF(L89:L115,AI15)","v":1},{"$f":"AJ15/(AL4-AJ20)","v":0.04},{"$f":"IF(AK15=0,0,(AK15*((LOG(AK15))/LOG(2))))","v":-0.18575424759098899},null,{"$f":"N15","v":2111},{"$f":"COUNTIF(L116:L142,AN15)","v":0},{"$f":"AO15/(AQ4-AO20)","v":0},{"$f":"IF(AP15=0,0,(AP15*((LOG(AP15))/LOG(2))))","v":0},null,{"$f":"N15","v":2111},{"$f":"COUNTIF(L143:L169,AS15)","v":0},{"$f":"AT15/(AV4-AT20)","v":0},{"$f":"IF(AU15=0,0,(AU15*((LOG(AU15))/LOG(2))))","v":0}]
[21,1244,21,1261,22,1269,14,1292,null,null,0,2221,null,2112,{"$f":"COUNTIF($L$7:$L$500,N16)","v":2},{"$f":"O16/$Q$4","v":1.2269938650306749E-2},{"$f":"IF(P16=0,0,(P16*((LOG(P16))/LOG(2))))","v":-7.7898504959890522E-2},null,null,{"$f":"N16","v":2112},{"$f":"COUNTIF(L7:L33,T16)","v":0},{"$f":"U16/(W4-U20)","v":0},{"$f":"IF(V16=0,0,(V16*((LOG(V16))/LOG(2))))","v":0},null,{"$f":"N16","v":2112},{"$f":"COUNTIF(L34:L60,Y16)","v":1},{"$f":"Z16/(AB4-Z20)","v":0.04},{"$f":"IF(AA16=0,0,(AA16*((LOG(AA16))/LOG(2))))","v":-0.18575424759098899},null,{"$f":"N16","v":2112},{"$f":"COUNTIF(L61:L88,AD16)","v":0},{"$f":"AE16/(AG4-AE20)","v":0},{"$f":"IF(AF16=0,0,(AF16*((LOG(AF16))/LOG(2))))","v":0},null,{"$f":"N16","v":2112},{"$f":"COUNTIF(L89:L115,AI16)","v":0},{"$f":"AJ16/(AL4-AJ20)","v":0},{"$f":"IF(AK16=0,0,(AK16*((LOG(AK16))/LOG(2))))","v":0},null,{"$f":"N16","v":2112},{"$f":"COUNTIF(L116:L142,AN16)","v":0},{"$f":"AO16/(AQ4-AO20)","v":0},{"$f":"IF(AP16=0,0,(AP16*((LOG(AP16))/LOG(2))))","v":0},null,{"$f":"N16","v":2112},{"$f":"COUNTIF(L143:L169,AS16)","v":1},{"$f":"AT16/(AV4-AT20)","v":3.8461538461538464E-2},{"$f":"IF(AU16=0,0,(AU16*((LOG(AU16))/LOG(2))))","v":-0.18078614300542661}]
[21,1398,21,1404,11,1417,12,1426,null,null,0,2211,null,2121,{"$f":"COUNTIF($L$7:$L$500,N17)","v":1},{"$f":"O17/$Q$4","v":6.1349693251533744E-3},{"$f":"IF(P17=0,0,(P17*((LOG(P17))/LOG(2))))","v":-4.5084221805098634E-2},null,null,{"$f":"N17","v":2121},{"$f":"COUNTIF(L7:L33,T17)","v":0},{"$f":"U17/(W4-U20)","v":0},{"$f":"IF(V17=0,0,(V17*((LOG(V17))/LOG(2))))","v":0},null,{"$f":"N17","v":2121},{"$f":"COUNTIF(L34:L60,Y17)","v":0},{"$f":"Z17/(AB4-Z20)","v":0},{"$f":"IF(AA17=0,0,(AA17*((LOG(AA17))/LOG(2))))","v":0},null,{"$f":"N17","v":2121},{"$f":"COUNTIF(L61:L88,AD17)","v":1},{"$f":"AE17/(AG4-AE20)","v":3.5714285714285712E-2},{"$f":"IF(AF17=0,0,(AF17*((LOG(AF17))/LOG(2))))","v":-0.17169124721634299},null,{"$f":"N17","v":2121},{"$f":"COUNTIF(L89:L115,AI17)","v":0},{"$f":"AJ17/(AL4-AJ20)","v":0},{"$f":"IF(AK17=0,0,(AK17*((LOG(AK17))/LOG(2))))","v":0},null,{"$f":"N17","v":2121},{"$f":"COUNTIF(L116:L142,AN17)","v":0},{"$f":"AO17/(AQ4-AO20)","v":0},{"$f":"IF(AP17=0,0,(AP17*((LOG(AP17))/LOG(2))))","v":0},null,{"$f":"N17","v":2121},{"$f":"COUNTIF(L143:L169,AS17)","v":0},{"$f":"AT17/(AV4-AT20)","v":0},{"$f":"IF(AU17=0,0,(AU17*((LOG(AU17))/LOG(2))))","v":0}]
[21,1531,12,1549,13,1555,14,1568,null,null,0,2111,null,2122,{"$f":"COUNTIF($L$7:$L$500,N18)","v":7},{"$f":"O18/$Q$4","v":4.2944785276073622E-2},{"$f":"IF(P18=0,0,(P18*((LOG(P18))/LOG(2))))","v":-0.19502829831419827},null,null,{"$f":"N18","v":2122},{"$f":"COUNTIF(L7:L33,T18)","v":1},{"$f":"U18/(W4-U20)","v":3.8461538461538464E-2},{"$f":"IF(V18=0,0,(V18*((LOG(V18))/LOG(2))))","v":-0.18078614300542661},null,{"$f":"N18","v":2122},{"$f":"COUNTIF(L34:L60,Y18)","v":2},{"$f":"Z18/(AB4-Z20)","v":0.08},{"$f":"IF(AA18=0,0,(AA18*((LOG(AA18))/LOG(2))))","v":-0.29150849518197797},null,{"$f":"N18","v":2122},{"$f":"COUNTIF(L61:L88,AD18)","v":0},{"$f":"AE18/(AG4-AE20)","v":0},{"$f":"IF(AF18=0,0,(AF18*((LOG(AF18))/LOG(2))))","v":0},null,{"$f":"N18","v":2122},{"$f":"COUNTIF(L89:L115,AI18)","v":2},{"$f":"AJ18/(AL4-AJ20)","v":0.08},{"$f":"IF(AK18=0,0,(AK18*((LOG(AK18))/LOG(2))))","v":-0.29150849518197797},null,{"$f":"N18","v":2122},{"$f":"COUNTIF(L116:L142,AN18)","v":2},{"$f":"AO18/(AQ4-AO20)","v":7.407407407407407E-2},{"$f":"IF(AP18=0,0,(AP18*((LOG(AP18))/LOG(2))))","v":-0.27813981497507173},null,{"$f":"N18","v":2122},{"$f":"COUNTIF(L143:L169,AS18)","v":0},{"$f":"AT18/(AV4-AT20)","v":0},{"$f":"IF(AU18=0,0,(AU18*((LOG(AU18))/LOG(2))))","v":0}]
[21,1673,21,1695,11,1706,12,1714,null,null,0,2211,null,2211,{"$f":"COUNTIF($L$7:$L$500,N19)","v":21},{"$f":"O19/$Q$4","v":0.12883435582822086},{"$f":"IF(P19=0,0,(P19*((LOG(P19))/LOG(2))))","v":-0.38088727215029849},null,null,{"$f":"N19","v":2211},{"$f":"COUNTIF(L7:L33,T19)","v":9},{"$f":"U19/(W4-U20)","v":0.34615384615384615},{"$f":"IF(V19=0,0,(V19*((LOG(V19))/LOG(2))))","v":-0.52979355578034681},null,{"$f":"N19","v":2211},{"$f":"COUNTIF(L34:L60,Y19)","v":1},{"$f":"Z19/(AB4-Z20)","v":0.04},{"$f":"IF(AA19=0,0,(AA19*((LOG(AA19))/LOG(2))))","v":-0.18575424759098899},null,{"$f":"N19","v":2211},{"$f":"COUNTIF(L61:L88,AD19)","v":4},{"$f":"AE19/(AG4-AE20)","v":0.14285714285714285},{"$f":"IF(AF19=0,0,(AF19*((LOG(AF19))/LOG(2))))","v":-0.40105070315108626},null,{"$f":"N19","v":2211},{"$f":"COUNTIF(L89:L115,AI19)","v":4},{"$f":"AJ19/(AL4-AJ20)","v":0.16},{"$f":"IF(AK19=0,0,(AK19*((LOG(AK19))/LOG(2))))","v":-0.42301699036395596},null,{"$f":"N19","v":2211},{"$f":"COUNTIF(L116:L142,AN19)","v":1},{"$f":"AO19/(AQ4-AO20)","v":3.7037037037037035E-2},{"$f":"IF(AP19=0,0,(AP19*((LOG(AP19))/LOG(2))))","v":-0.1761069445245729},null,{"$f":"N19","v":2211},{"$f":"COUNTIF(L143:L169,AS19)","v":2},{"$f":"AT19/(AV4-AT20)","v":7.6923076923076927E-2},{"$f":"IF(AU19=0,0,(AU19*((LOG(AU19))/LOG(2))))","v":-0.28464920908777636}]
[21,1815,21,1823,22,1832,14,1851,null,null,0,2221,null,2212,{"$f":"COUNTIF($L$7:$L$500,N20)","v":6},{"$f":"O20/$Q$4","v":3.6809815950920248E-2},{"$f":"IF(P20=0,0,(P20*((LOG(P20))/LOG(2))))","v":-0.1753533369390155},null,null,{"$f":"N20","v":2212},{"$f":"COUNTIF(L7:L33,T20)","v":1},null,null,null,{"$f":"N20","v":2212},{"$f":"COUNTIF(L34:L60,Y20)","v":2},null,null,null,{"$f":"N20","v":2212},{"$f":"COUNTIF(L61:L88,AD20)","v":0},null,null,null,{"$f":"N20","v":2212},{"$f":"COUNTIF(L89:L115,AI20)","v":2},null,null,null,{"$f":"N20","v":2212},{"$f":"COUNTIF(L116:L142,AN20)","v":0},null,null,null,{"$f":"N20","v":2212},{"$f":"COUNTIF(L143:L169,AS20)","v":1}]
[21,1956,21,1969,22,1979,23,1991,null,null,0,2222,null,2221,{"$f":"COUNTIF($L$7:$L$500,N21)","v":18},{"$f":"O21/$Q$4","v":0.11042944785276074},{"$f":"IF(P21=0,0,(P21*((LOG(P21))/LOG(2))))","v":-0.35103347699507842},null,null,{"$f":"N21","v":2221},{"$f":"COUNTIF(L7:L33,T21)","v":5},{"$f":"U21/(W4-U20)","v":0.19230769230769232},{"$f":"IF(V21=0,0,(V21*((LOG(V21))/LOG(2))))","v":-0.45740608139494804},null,{"$f":"N21","v":2221},{"$f":"COUNTIF(L34:L60,Y21)","v":1},{"$f":"Z21/(AB4-Z20)","v":0.04},{"$f":"IF(AA21=0,0,(AA21*((LOG(AA21))/LOG(2))))","v":-0.18575424759098899},null,{"$f":"N21","v":2221},{"$f":"COUNTIF(L61:L88,AD21)","v":6},{"$f":"AE21/(AG4-AE20)","v":0.21428571428571427},{"$f":"IF(AF21=0,0,(AF21*((LOG(AF21))/LOG(2))))","v":-0.47622694742923877},null,{"$f":"N21","v":2221},{"$f":"COUNTIF(L89:L115,AI21)","v":3},{"$f":"AJ21/(AL4-AJ20)","v":0.12},{"$f":"IF(AK21=0,0,(AK21*((LOG(AK21))/LOG(2))))","v":-0.36706724268642821},null,{"$f":"N21","v":2221},{"$f":"COUNTIF(L116:L142,AN21)","v":2},{"$f":"AO21/(AQ4-AO20)","v":7.407407407407407E-2},{"$f":"IF(AP21=0,0,(AP21*((LOG(AP21))/LOG(2))))","v":-0.27813981497507173},null,{"$f":"N21","v":2221},{"$f":"COUNTIF(L143:L169,AS21)","v":1},{"$f":"AT21/(AV4-AT20)","v":3.8461538461538464E-2},{"$f":"IF(AU21=0,0,(AU21*((LOG(AU21))/LOG(2))))","v":-0.18078614300542661}]
[21,2099,21,2106,22,2114,14,2141,null,null,0,2221,null,2222,{"$f":"COUNTIF($L$7:$L$500,N22)","v":89},{"$f":"O22/$Q$4","v":0.54601226993865026},{"$f":"IF(P22=0,0,(P22*((LOG(P22))/LOG(2))))","v":-0.47666583049421168},null,null,{"$f":"N22","v":2222},{"$f":"COUNTIF(L7:L33,T22)","v":5},{"$f":"U22/(W4-U20)","v":0.19230769230769232},{"$f":"IF(V22=0,0,(V22*((LOG(V22))/LOG(2))))","v":-0.45740608139494804},null,{"$f":"N22","v":2222},{"$f":"COUNTIF(L34:L60,Y22)","v":16},{"$f":"Z22/(AB4-Z20)","v":0.64},{"$f":"IF(AA22=0,0,(AA22*((LOG(AA22))/LOG(2))))","v":-0.41206796145582375},null,{"$f":"N22","v":2222},{"$f":"COUNTIF(L61:L88,AD22)","v":14},{"$f":"AE22/(AG4-AE20)","v":0.5},{"$f":"IF(AF22=0,0,(AF22*((LOG(AF22))/LOG(2))))","v":-0.5},null,{"$f":"N22","v":2222},{"$f":"COUNTIF(L89:L115,AI22)","v":14},{"$f":"AJ22/(AL4-AJ20)","v":0.56000000000000005},{"$f":"IF(AK22=0,0,(AK22*((LOG(AK22))/LOG(2))))","v":-0.46844070992158748},null,{"$f":"N22","v":2222},{"$f":"COUNTIF(L116:L142,AN22)","v":21},{"$f":"AO22/(AQ4-AO20)","v":0.77777777777777779},{"$f":"IF(AP22=0,0,(AP22*((LOG(AP22))/LOG(2))))","v":-0.28199895063255082},null,{"$f":"N22","v":2222},{"$f":"COUNTIF(L143:L169,AS22)","v":19},{"$f":"AT22/(AV4-AT20)","v":0.73076923076923073},{"$f":"IF(AU22=0,0,(AU22*((LOG(AU22))/LOG(2))))","v":-0.33068199574048568}]
[21,2247,21,2257,11,2271,21,2286,null,null,0,2212,null,null,null,{"$f":"SUM(P7:P22)","v":1},{"$f":"-SUM(Q7:Q22)","v":2.367634496575747},null,null,null,null,{"$f":"SUM(V7:V22)","v":1},{"$f":"-SUM(W7:W22)","v":2.4503053541404034},null,null,null,{"$f":"SUM(AA7:AA22)","v":1},{"$f":"-SUM(AB7:AB22)","v":1.9238561897747248},null,null,null,{"$f":"SUM(AF7:AF22)","v":1},{"$f":"-SUM(AG7:AG22)","v":1.9926140680171254},null,null,null,{"$f":"SUM(AK7:AK22)","v":1},{"$f":"-SUM(AL7:AL22)","v":1.9215419333359276},null,null,null,{"$f":"SUM(AP7:AP22)","v":1},{"$f":"-SUM(AQ7:AQ22)","v":1.1904924696318402},null,null,null,{"$f":"SUM(AU7:AU22)","v":1},{"$f":"-SUM(AV7:AV22)","v":1.4423388429323183}]
[21,2415,21,2425,11,2437,12,2446,null,null,0,2211,null,null,null,"U=",{"$f":"Q23/(LOG(Q4)/LOG(2))","v":0.32218289299660191},null,null,null,null,"U1=",{"$f":"W23/(LOG(W4)/LOG(2))","v":0.51532351775420915},null,null,null,"U2=",{"$f":"AB23/(LOG(AB4)/LOG(2))","v":0.40460603724049676},null,null,null,"U3=",{"$f":"AG23/(LOG(AG4)/LOG(2))","v":0.41449281368313523},null,null,null,"U4=",{"$f":"AL23/(LOG(AL4)/LOG(2))","v":0.40411932615895291},null,null,null,"U5=",{"$f":"AQ23/(LOG(AQ4)/LOG(2))","v":0.25037237349783092},null,null,null,"U6=",{"$f":"AV23/(LOG(AV4)/LOG(2))","v":0.30333816357927623}]
[21,2551,21,2559,22,2567,23,2575,null,null,0,2222]
[21,2685,21,2703,11,2716,12,2724,null,null,0,2211]
[21,2832,21,2838,11,2852,12,2857,null,null,0,2211,null,"Total Target Seq"]
[21,2995,21,3003,22,3013,14,3059,null,null,0,2221,null,{"$f":"COUNTIF(L7:L169,G3)","v":6},null,27,27,28,27,27,27]
[21,3167,21,3172,22,3179,23,3188,null,null,0,2222,null,null,null,"% of reinforcement given in 6 equal intervals based on number of trials "]
[21,3292,21,3299,11,3316,12,3322,null,null,0,2211,null,null,null,"%_1","%_2","%_3","%_4","%_5","%_6"]
[21,3427,21,3443,22,3452,23,3462,null,null,0,2222,null,null,"target sequence",{"$f":"$G$3","v":2212},{"$f":"$G$3","v":2212},{"$f":"$G$3","v":2212},{"$f":"$G$3","v":2212},{"$f":"$G$3","v":2212},{"$f":"$G$3","v":2212}]
[21,3567,21,3575,11,3590,12,3598,null,null,0,2211,null,null,"total reinforcement",{"$f":"U20","v":1},{"$f":"Z20","v":2},{"$f":"AE20","v":0},{"$f":"AJ20","v":2},{"$f":"AO20","v":0},{"$f":"AT20","v":1}]
[21,3700,21,3706,22,3720,23,3730,null,null,0,2222,null,null,"% target"]
[12,3842,23,3854,13,3870,23,3884,null,null,0,1212,null,null,"CCRF"]
[21,3983,21,3989,22,3996,23,4006,null,null,0,2222,null,null,"% CCRf"]
[21,4111,21,4119,22,4127,23,4137,null,null,0,2222,null,null,"average response rate",{"$f":"H33/P28","v":138.14814814814815},{"$f":"(H60-H33)/Q28","v":147.22222222222223},{"$f":"(H88-H60)/R28","v":142.85714285714286},{"$f":"(H115-H88)/S28","v":146.92592592592592},{"$f":"(H142-H115)/T28","v":150.96296296296296},{"$f":"(H169-H142)/U28","v":153.55555555555554}]
[21,4243,21,4249,22,4258,23,4267,null,null,0,2222]
[21,4371,21,4377,22,4383,23,4389,null,null,0,2222]
[21,4489,21,4494,22,4503,23,4509,null,null,0,2222]
[21,4620,21,4644,11,4661,21,4674,null,null,0,2212]
[21,4771,21,4780,11,4799,12,4828,null,null,0,2211]
[21,4963,21,4970,22,4990,23,4999,null,null,0,2222]
[21,5108,21,5114,22,5123,23,5143,null,null,0,2222]
[21,5247,21,5253,22,5260,23,5269,null,null,0,2222]
[12,5396,23,5409,24,5418,14,5443,null,null,0,1221]
[12,5562,14,5572,24,5586,23,5616,null,null,0,1122]
[21,5724,21,5726,22,5740,14,5839,null,null,0,2221]
[21,5942,21,5948,22,5954,23,5962,null,null,0,2222]
[21,6078,12,6092,13,6101,23,6118,null,null,0,2112]
[21,6222,21,6228,22,6234,23,6242,null,null,0,2222]
[21,6360,12,6378,24,6391,23,6407,null,null,0,2122]
[21,6516,21,6540,11,6554,21,6567,null,null,0,2212]
[21,6692,21,6718,22,6726,23,6744,null,null,0,2222]
[12,6848,23,6857,24,6866,14,6882,null,null,0,1221]
[21,6985,21,6990,22,6995,23,7001,null,null,0,2222]
[21,7105,21,7109,22,7114,23,7120,null,null,0,2222]
[21,7225,12,7241,24,7254,23,7267,null,null,0,2122]
[21,7367,21,7378,22,7421,23,7438,null,null,0,2222]
[21,7543,21,7548,22,7553,23,7561,null,null,0,2222]
[21,7681,21,7687,22,7696,23,7705,null,null,0,2222]
[21,7808,21,7843,22,7851,23,7867,null,null,0,2222]
[21,7967,21,7989,22,8003,23,8024,null,null,0,2222]
[21,8130,21,8135,22,8140,23,8148,null,null,0,2222]
[21,8253,21,8257,22,8262,23,8268,null,null,0,2222]
[21,8382,21,8387,22,8393,23,8415,null,null,0,2222]
[21,8533,21,8539,11,8553,12,8561,null,null,0,2211]
[21,8669,21,8674,22,8680,23,8689,null,null,0,2222]
[21,8791,21,8813,22,8831,14,8848,null,null,0,2221]
[21,8953,21,8958,22,8964,14,9007,null,null,0,2221]
[12,9118,23,9130,24,9136,23,9141,null,null,0,1222]
[21,9242,21,9263,22,9273,23,9281,null,null,0,2222]
[21,9387,21,9407,22,9436,14,9452,null,null,0,2221]
[21,9554,12,9579,13,9588,14,9597,null,null,0,2111]
[21,9714,12,9731,24,9743,14,9762,null,null,0,2121]
[21,9878,21,9887,11,9915,12,9923,null,null,0,2211]
[21,10034,21,10047,22,10058,14,10071,null,null,0,2221]
[21,10179,21,10185,22,10194,23,10200,null,null,0,2222]
[21,10308,12,10321,13,10331,14,10337,null,null,0,2111]
[21,10440,21,10448,22,10454,23,10463,null,null,0,2222]
[21,10561,21,10567,22,10589,14,10602,null,null,0,2221]
[21,10707,21,10716,22,10721,23,10730,null,null,0,2222]
[21,10834,21,10848,11,10863,12,10872,null,null,0,2211]
[21,10976,21,10992,22,10999,14,11013,null,null,0,2221]
[21,11120,21,11135,11,11152,12,11159,null,null,0,2211]
[21,11279,21,11286,22,11294,23,11302,null,null,0,2222]
[21,11410,21,11418,22,11423,23,11432,null,null,0,2222]
[21,11535,21,11540,22,11544,23,11550,null,null,0,2222]
[21,11653,21,11661,22,11687,23,11705,null,null,0,2222]
[21,11808,21,11812,22,11818,23,11825,null,null,0,2222]
[21,11937,21,11960,22,11968,14,12003,null,null,0,2221]
[21,12112,21,12135,22,12143,23,12151,null,null,0,2222]
[21,12255,21,12260,22,12265,23,12277,null,null,0,2222]
[21,12389,12,12403,24,12416,23,12424,null,null,0,2122]
[21,12539,21,12545,22,12560,23,12568,null,null,0,2222]
[21,12680,21,12700,22,12706,23,12711,null,null,0,2222]
[21,12825,21,12831,22,12836,23,12845,null,null,0,2222]
[21,12953,12,12966,13,12976,14,12981,null,null,0,2111]
[21,13146,21,13155,22,13163,23,13176,null,null,0,2222]
[12,13280,23,13293,24,13301,23,13321,null,null,0,1222]
[21,13426,21,13434,11,13449,12,13458,null,null,0,2211]
[21,13578,21,13591,22,13602,23,13610,null,null,0,2222]
[21,13717,21,13738,11,13755,12,13763,null,null,0,2211]
[21,13866,12,13883,24,13893,23,13901,null,null,0,2122]
[21,14010,21,14019,22,14042,23,14051,null,null,0,2222]
[21,14157,21,14163,22,14168,14,14191,null,null,0,2221]
[21,14312,21,14318,22,14340,23,14353,null,null,0,2222]
[21,14474,21,14496,11,14508,12,14513,null,null,0,2211]
[21,14613,21,14624,22,14631,23,14640,null,null,0,2222]
[21,14794,21,14802,11,14817,12,14825,null,null,0,2211]
[21,14927,21,14952,11,14964,21,14976,null,null,0,2212]
[21,15099,21,15108,22,15114,23,15122,null,null,0,2222]
[21,15230,21,15252,11,15265,21,15277,null,null,0,2212]
[21,15370,21,15378,22,15392,14,15414,null,null,0,2221]
[21,15516,21,15521,22,15526,23,15535,null,null,0,2222]
[21,15644,21,15650,22,15664,23,15672,null,null,0,2222]
[21,15797,21,15805,22,15820,23,15836,null,null,0,2222]
[21,15942,21,15947,22,15952,23,15960,null,null,0,2222]
[21,16065,21,16070,22,16080,23,16089,null,null,0,2222]
[21,16196,21,16200,22,16207,23,16216,null,null,0,2222]
[21,16379,21,16390,22,16399,23,16409,null,null,0,2222]
[21,16524,21,16528,22,16535,23,16554,null,null,0,2222]
[21,16661,21,16687,22,16697,23,16706,null,null,0,2222]
[21,16809,21,16817,22,16825,23,16834,null,null,0,2222]
[21,16934,21,16945,22,16954,14,16981,null,null,0,2221]
[21,17086,21,17092,22,17099,23,17112,null,null,0,2222]
[21,17219,21,17224,11,17237,12,17245,null,null,0,2211]
[21,17362,21,17370,22,17375,23,17387,null,null,0,2222]
[21,17500,21,17504,22,17509,23,17517,null,null,0,2222]
[21,17621,21,17627,22,17635,23,17661,null,null,0,2222]
[21,17773,21,17777,22,17790,23,17798,null,null,0,2222]
[21,17954,12,17970,24,17993,23,18170,null,null,0,2122]
[21,18269,12,18284,24,18294,23,18302,null,null,0,2122]
[21,18411,21,18416,22,18424,23,18456,null,null,0,2222]
[21,18554,21,18560,22,18573,23,18579,null,null,0,2222]
[21,18685,21,18692,22,18699,23,18717,null,null,0,2222]
[12,18835,14,18840,13,18848,23,18871,null,null,0,1112]
[21,18978,21,18983,22,18988,23,18995,null,null,0,2222]
[21,19102,21,19110,22,19120,23,19172,null,null,0,2222]
[21,19279,21,19306,22,19316,23,19327,null,null,0,2222]
[21,19439,21,19447,22,19454,23,19472,null,null,0,2222]
[21,19577,21,19582,22,19586,14,19600,null,null,0,2221]
[21,19713,21,19721,22,19726,23,19748,null,null,0,2222]
[21,19852,21,19860,22,19866,23,19874,null,null,0,2222]
[12,20024,14,20029,24,20042,23,20083,null,null,0,1122]
[12,20189,23,20201,24,20209,23,20224,null,null,0,1222]
[21,20322,21,20328,11,20342,12,20347,null,null,0,2211]
[21,20450,21,20456,22,20463,23,20486,null,null,0,2222]
[21,20589,21,20594,22,20599,23,20604,null,null,0,2222]
[12,20704,23,20714,24,20719,23,20726,null,null,0,1222]
[21,20888,21,20894,22,20899,23,20907,null,null,0,2222]
[21,21022,21,21030,22,21053,23,21062,null,null,0,2222]
[21,21208,21,21213,22,21223,23,21229,null,null,0,2222]
[21,21334,21,21340,22,21349,23,21357,null,null,0,2222]
[21,21464,21,21471,22,21484,23,21492,null,null,0,2222]
[21,21645,21,21651,11,21668,12,21677,null,null,0,2211]
[21,21795,21,21813,22,21819,23,21827,null,null,0,2222]
[21,21930,21,21938,22,21945,23,21955,null,null,0,2222]
[21,22069,21,22083,22,22105,23,22114,null,null,0,2222]
[21,22302,21,22310,22,22325,23,22335,null,null,0,2222]
[21,22525,21,22535,11,22549,21,22566,null,null,0,2212]
[21,22656,12,22674,13,22681,23,22693,null,null,0,2112]
[21,22823,21,22833,22,22841,23,22850,null,null,0,2222]
[21,22951,21,22958,22,22963,23,22972,null,null,0,2222]
[21,23079,21,23086,22,23092,23,23099,null,null,0,2222]
[21,23251,21,23259,22,23267,23,23274,null,null,0,2222]
[21,23386,21,23399,22,23417,23,23426,null,null,0,2222]
[21,23537,21,23543,22,23552,23,23558,null,null,0,2222]
[21,23723,21,23731,22,23745,14,23762,null,null,0,2221]
[21,23863,21,23873,22,23878,23,23894,null,null,0,2222]

{"sheet":"!MB19830.091","index":14,"n_rows":169,"n_cols":48,"rows_kept":169,"cut":false,"hidden":false,"merged":[[4,39,4,42],[5,39,5,40],[4,44,4,47],[5,44,5,45],[4,24,4,27],[5,24,5,25],[4,29,4,32],[5,29,5,30],[4,34,4,37],[5,34,5,35],[1,1,1,2],[5,13,5,14],[26,13,26,14],[27,13,27,14],[4,19,4,22],[5,19,5,20]]}
["Report for:!MB19830.091"]
["Date:","<date>"]
["Hen:","<hen>",null,null,null,"Correct Sequence",{"$f":"Start!J2","v":2212},null,null,null,null,null,null,null,null,"Total Sequences in Data",{"$f":"4994-COUNTBLANK(L7:L5000)","v":163},null,null,null,null,"Total Sequences in Block Data",{"$f":"COUNTA(L7:L33)","v":27},null,null,null,"Total Sequences in Block Data",{"$f":"COUNTA(L34:L60)","v":27},null,null,null,"Total Sequences in Block Data",{"$f":"COUNTA(L61:L88)","v":28},null,null,null,"Total Sequences in Block Data",{"$f":"COUNTA(L89:L115)","v":27},null,null,null,"Total Sequences in Block Data",{"$f":"COUNTA(L116:L142)","v":27},null,null,null,"Total Sequences in Block Data",{"$f":"COUNTA(L143:L169)","v":27}]
[null,null,null,null,null,null,null,null,null,null,null,null,null,null,null,"Total Sequences in Summary",{"$f":"SUM(O7:O22)","v":163},null,null,null,null,"Total Sequences in Block Summary",{"$f":"SUM(U7:U22)","v":27},null,null,null,"Total Sequences in Block Summary",{"$f":"SUM(Z7:Z22)","v":27},null,null,null,"Total Sequences in Block Summary",{"$f":"SUM(AE7:AE22)","v":28},null,null,null,"Total Sequences in Block Summary",{"$f":"SUM(AJ7:AJ22)","v":27},null,null,null,"Total Sequences in Block Summary",{"$f":"SUM(AO7:AO22)","v":27},null,null,null,"Total Sequences in Block Summary",{"$f":"SUM(AT7:AT22)","v":27}]
[null,null,null,null,null,null,null,null,null,null,null,null,null,null,null,null,null,null,null,"Block 1",null,null,null,null,"Block 2",null,null,null,null,"Block 3",null,null,null,null,"Block 4",null,null,null,null,"Block 5",null,null,null,null,"Block 6"]
["Sequence\nComponent\n1","Time\n1","Sequence\nComponent\n2","Time\n2","Sequence\nComponent\n3","Time\n3","Sequence\nComponent\n4","Time\n4","Sequence\nComponent\n5","Time\n5","Correct?\n0=No 1=Yes","Sequence",null,"Frequency",null,"Relative Frequency","Variability",null,null,"Frequency",null,"Relative Frequency","Variability",null,"Frequency",null,"Relative Frequency","Variability",null,"Frequency",null,"Relative Frequency","Variability",null,"Frequency",null,"Relative Frequency","Variability",null,"Frequency",null,"Relative Frequency","Variability",null,"Frequency",null,"Relative Frequency","Variability"]
[12,15,14,38,24,55,14,72,null,null,0,1121,null,1111,{"$f":"COUNTIF($L$7:$L$500,N7)","v":1},{"$f":"O7/$Q$4","v":6.1349693251533744E-3},{"$f":"IF(P7=0,0,(P7*((LOG(P7))/LOG(2))))","v":-4.5084221805098634E-2},null,null,{"$f":"N7","v":1111},{"$f":"COUNTIF(L7:L33,T7)","v":1},{"$f":"U7/(W4-U20)","v":0.04},{"$f":"IF(V7=0,0,(V7*((LOG(V7))/LOG(2))))","v":-0.18575424759098899},null,{"$f":"N7","v":1111},{"$f":"COUNTIF(L34:L60,Y7)","v":0},{"$f":"Z7/(AB4-Z20)","v":0},{"$f":"IF(AA7=0,0,(AA7*((LOG(AA7))/LOG(2))))","v":0},null,{"$f":"N7","v":1111},{"$f":"COUNTIF(L61:L88,AD7)","v":0},{"$f":"AE7/(AG4-AE20)","v":0},{"$f":"IF(AF7=0,0,(AF7*((LOG(AF7))/LOG(2))))","v":0},null,{"$f":"N7","v":1111},{"$f":"COUNTIF(L89:L115,AI7)","v":0},{"$f":"AJ7/(AL4-AJ20)","v":0},{"$f":"IF(AK7=0,0,(AK7*((LOG(AK7))/LOG(2))))","v":0},null,{"$f":"N7","v":1111},{"$f":"COUNTIF(L116:L142,AN7)","v":0},{"$f":"AO7/(AQ4-AO20)","v":0},{"$f":"IF(AP7=0,0,(AP7*((LOG(AP7))/LOG(2))))","v":0},null,{"$f":"N7","v":1111},{"$f":"COUNTIF(L143:L169,AS7)","v":0},{"$f":"AT7/(AV4-AT20)","v":0},{"$f":"IF(AU7=0,0,(AU7*((LOG(AU7))/LOG(2))))","v":0}]
[21,180,21,186,22,263,14,285,null,null,0,2221,null,1112,{"$f":"COUNTIF($L$7:$L$500,N8)","v":1},{"$f":"O8/$Q$4","v":6.1349693251533744E-3},{"$f":"IF(P8=0,0,(P8*((LOG(P8))/LOG(2))))","v":-4.5084221805098634E-2},null,null,{"$f":"N8","v":1112},{"$f":"COUNTIF(L7:L33,T8)","v":1},{"$f":"U8/(W4-U20)","v":0.04},{"$f":"IF(V8=0,0,(V8*((LOG(V8))/LOG(2))))","v":-0.18575424759098899},null,{"$f":"N8","v":1112},{"$f":"COUNTIF(L34:L60,Y8)","v":0},{"$f":"Z8/(AB4-Z20)","v":0},{"$f":"IF(AA8=0,0,(AA8*((LOG(AA8))/LOG(2))))","v":0},null,{"$f":"N8","v":1112},{"$f":"COUNTIF(L61:L88,AD8)","v":0},{"$f":"AE8/(AG4-AE20)","v":0},{"$f":"IF(AF8=0,0,(AF8*((LOG(AF8))/LOG(2))))","v":0},null,{"$f":"N8","v":1112},{"$f":"COUNTIF(L89:L115,AI8)","v":0},{"$f":"AJ8/(AL4-AJ20)","v":0},{"$f":"IF(AK8=0,0,(AK8*((LOG(AK8))/LOG(2))))","v":0},null,{"$f":"N8","v":1112},{"$f":"COUNTIF(L116:L142,AN8)","v":0},{"$f":"AO8/(AQ4-AO20)","v":0},{"$f":"IF(AP8=0,0,(AP8*((LOG(AP8))/LOG(2))))","v":0},null,{"$f":"N8","v":1112},{"$f":"COUNTIF(L143:L169,AS8)","v":0},{"$f":"AT8/(AV4-AT20)","v":0},{"$f":"IF(AU8=0,0,(AU8*((LOG(AU8))/LOG(2))))","v":0}]
[21,414,21,421,11,433,12,439,null,null,0,2211,null,1121,{"$f":"COUNTIF($L$7:$L$500,N9)","v":2},{"$f":"O9/$Q$4","v":1.2269938650306749E-2},{"$f":"IF(P9=0,0,(P9*((LOG(P9))/LOG(2))))","v":-7.7898504959890522E-2},null,null,{"$f":"N9","v":1121},{"$f":"COUNTIF(L7:L33,T9)","v":1},{"$f":"U9/(W4-U20)","v":0.04},{"$f":"IF(V9=0,0,(V9*((LOG(V9))/LOG(2))))","v":-0.18575424759098899},null,{"$f":"N9","v":1121},{"$f":"COUNTIF(L34:L60,Y9)","v":0},{"$f":"Z9/(AB4-Z20)","v":0},{"$f":"IF(AA9=0,0,(AA9*((LOG(AA9))/LOG(2))))","v":0},null,{"$f":"N9","v":1121},{"$f":"COUNTIF(L61:L88,AD9)","v":0},{"$f":"AE9/(AG4-AE20)","v":0},{"$f":"IF(AF9=0,0,(AF9*((LOG(AF9))/LOG(2))))","v":0},null,{"$f":"N9","v":1121},{"$f":"COUNTIF(L89:L115,AI9)","v":0},{"$f":"AJ9/(AL4-AJ20)","v":0},{"$f":"IF(AK9=0,0,(AK9*((LOG(AK9))/LOG(2))))","v":0},null,{"$f":"N9","v":1121},{"$f":"COUNTIF(L116:L142,AN9)","v":1},{"$f":"AO9/(AQ4-AO20)","v":4.1666666666666664E-2},{"$f":"IF(AP9=0,0,(AP9*((LOG(AP9))/LOG(2))))","v":-0.19104010419671485},null,{"$f":"N9","v":1121},{"$f":"COUNTIF(L143:L169,AS9)","v":0},{"$f":"AT9/(AV4-AT20)","v":0},{"$f":"IF(AU9=0,0,(AU9*((LOG(AU9))/LOG(2))))","v":0}]
[12,562,14,591,13,617,14,627,null,null,0,1111,null,1122,{"$f":"COUNTIF($L$7:$L$500,N10)","v":5},{"$f":"O10/$Q$4","v":3.0674846625766871E-2},{"$f":"IF(P10=0,0,(P10*((LOG(P10))/LOG(2))))","v":-0.15419632083876425},null,null,{"$f":"N10","v":1122},{"$f":"COUNTIF(L7:L33,T10)","v":1},{"$f":"U10/(W4-U20)","v":0.04},{"$f":"IF(V10=0,0,(V10*((LOG(V10))/LOG(2))))","v":-0.18575424759098899},null,{"$f":"N10","v":1122},{"$f":"COUNTIF(L34:L60,Y10)","v":0},{"$f":"Z10/(AB4-Z20)","v":0},{"$f":"IF(AA10=0,0,(AA10*((LOG(AA10))/LOG(2))))","v":0},null,{"$f":"N10","v":1122},{"$f":"COUNTIF(L61:L88,AD10)","v":0},{"$f":"AE10/(AG4-AE20)","v":0},{"$f":"IF(AF10=0,0,(AF10*((LOG(AF10))/LOG(2))))","v":0},null,{"$f":"N10","v":1122},{"$f":"COUNTIF(L89:L115,AI10)","v":0},{"$f":"AJ10/(AL4-AJ20)","v":0},{"$f":"IF(AK10=0,0,(AK10*((LOG(AK10))/LOG(2))))","v":0},null,{"$f":"N10","v":1122},{"$f":"COUNTIF(L116:L142,AN10)","v":3},{"$f":"AO10/(AQ4-AO20)","v":0.125},{"$f":"IF(AP10=0,0,(AP10*((LOG(AP10))/LOG(2))))","v":-0.375},null,{"$f":"N10","v":1122},{"$f":"COUNTIF(L143:L169,AS10)","v":1},{"$f":"AT10/(AV4-AT20)","v":4.1666666666666664E-2},{"$f":"IF(AU10=0,0,(AU10*((LOG(AU10))/LOG(2))))","v":-0.19104010419671485}]
[12,726,14,730,13,735,23,745,null,null,0,1112,null,1211,{"$f":"COUNTIF($L$7:$L$500,N11)","v":2},{"$f":"O11/$Q$4","v":1.2269938650306749E-2},{"$f":"IF(P11=0,0,(P11*((LOG(P11))/LOG(2))))","v":-7.7898504959890522E-2},null,null,{"$f":"N11","v":1211},{"$f":"COUNTIF(L7:L33,T11)","v":0},{"$f":"U11/(W4-U20)","v":0},{"$f":"IF(V11=0,0,(V11*((LOG(V11))/LOG(2))))","v":0},null,{"$f":"N11","v":1211},{"$f":"COUNTIF(L34:L60,Y11)","v":0},{"$f":"Z11/(AB4-Z20)","v":0},{"$f":"IF(AA11=0,0,(AA11*((LOG(AA11))/LOG(2))))","v":0},null,{"$f":"N11","v":1211},{"$f":"COUNTIF(L61:L88,AD11)","v":0},{"$f":"AE11/(AG4-AE20)","v":0},{"$f":"IF(AF11=0,0,(AF11*((LOG(AF11))/LOG(2))))","v":0},null,{"$f":"N11","v":1211},{"$f":"COUNTIF(L89:L115,AI11)","v":1},{"$f":"AJ11/(AL4-AJ20)","v":0.04},{"$f":"IF(AK11=0,0,(AK11*((LOG(AK11))/LOG(2))))","v":-0.18575424759098899},null,{"$f":"N11","v":1211},{"$f":"COUNTIF(L116:L142,AN11)","v":0},{"$f":"AO11/(AQ4-AO20)","v":0},{"$f":"IF(AP11=0,0,(AP11*((LOG(AP11))/LOG(2))))","v":0},null,{"$f":"N11","v":1211},{"$f":"COUNTIF(L143:L169,AS11)","v":1},{"$f":"AT11/(AV4-AT20)","v":4.1666666666666664E-2},{"$f":"IF(AU11=0,0,(AU11*((LOG(AU11))/LOG(2))))","v":-0.19104010419671485}]
[21,859,21,872,11,884,12,893,null,null,0,2211,null,1212,{"$f":"COUNTIF($L$7:$L$500,N12)","v":10},{"$f":"O12/$Q$4","v":6.1349693251533742E-2},{"$f":"IF(P12=0,0,(P12*((LOG(P12))/LOG(2))))","v":-0.24704294842599481},null,null,{"$f":"N12","v":1212},{"$f":"COUNTIF(L7:L33,T12)","v":1},{"$f":"U12/(W4-U20)","v":0.04},{"$f":"IF(V12=0,0,(V12*((LOG(V12))/LOG(2))))","v":-0.18575424759098899},null,{"$f":"N12","v":1212},{"$f":"COUNTIF(L34:L60,Y12)","v":1},{"$f":"Z12/(AB4-Z20)","v":4.5454545454545456E-2},{"$f":"IF(AA12=0,0,(AA12*((LOG(AA12))/LOG(2))))","v":-0.20270143721078623},null,{"$f":"N12","v":1212},{"$f":"COUNTIF(L61:L88,AD12)","v":1},{"$f":"AE12/(AG4-AE20)","v":3.7037037037037035E-2},{"$f":"IF(AF12=0,0,(AF12*((LOG(AF12))/LOG(2))))","v":-0.1761069445245729},null,{"$f":"N12","v":1212},{"$f":"COUNTIF(L89:L115,AI12)","v":2},{"$f":"AJ12/(AL4-AJ20)","v":0.08},{"$f":"IF(AK12=0,0,(AK12*((LOG(AK12))/LOG(2))))","v":-0.29150849518197797},null,{"$f":"N12","v":1212},{"$f":"COUNTIF(L116:L142,AN12)","v":2},{"$f":"AO12/(AQ4-AO20)","v":8.3333333333333329E-2},{"$f":"IF(AP12=0,0,(AP12*((LOG(AP12))/LOG(2))))","v":-0.29874687506009634},null,{"$f":"N12","v":1212},{"$f":"COUNTIF(L143:L169,AS12)","v":3},{"$f":"AT12/(AV4-AT20)","v":0.125},{"$f":"IF(AU12=0,0,(AU12*((LOG(AU12))/LOG(2))))","v":-0.375}]
[21,997,12,1010,24,1031,14,1058,null,null,0,2121,null,1221,{"$f":"COUNTIF($L$7:$L$500,N13)","v":6},{"$f":"O13/$Q$4","v":3.6809815950920248E-2},{"$f":"IF(P13=0,0,(P13*((LOG(P13))/LOG(2))))","v":-0.1753533369390155},null,null,{"$f":"N13","v":1221},{"$f":"COUNTIF(L7:L33,T13)","v":1},{"$f":"U13/(W4-U20)","v":0.04},{"$f":"IF(V13=0,0,(V13*((LOG(V13))/LOG(2))))","v":-0.18575424759098899},null,{"$f":"N13","v":1221},{"$f":"COUNTIF(L34:L60,Y13)","v":0},{"$f":"Z13/(AB4-Z20)","v":0},{"$f":"IF(AA13=0,0,(AA13*((LOG(AA13))/LOG(2))))","v":0},null,{"$f":"N13","v":1221},{"$f":"COUNTIF(L61:L88,AD13)","v":0},{"$f":"AE13/(AG4-AE20)","v":0},{"$f":"IF(AF13=0,0,(AF13*((LOG(AF13))/LOG(2))))","v":0},null,{"$f":"N13","v":1221},{"$f":"COUNTIF(L89:L115,AI13)","v":2},{"$f":"AJ13/(AL4-AJ20)","v":0.08},{"$f":"IF(AK13=0,0,(AK13*((LOG(AK13))/LOG(2))))","v":-0.29150849518197797},null,{"$f":"N13","v":1221},{"$f":"COUNTIF(L116:L142,AN13)","v":2},{"$f":"AO13/(AQ4-AO20)","v":8.3333333333333329E-2},{"$f":"IF(AP13=0,0,(AP13*((LOG(AP13))/LOG(2))))","v":-0.29874687506009634},null,{"$f":"N13","v":1221},{"$f":"COUNTIF(L143:L169,AS13)","v":1},{"$f":"AT13/(AV4-AT20)","v":4.1666666666666664E-2},{"$f":"IF(AU13=0,0,(AU13*((LOG(AU13))/LOG(2))))","v":-0.19104010419671485}]
[21,1170,12,1183,13,1191,14,1199,null,null,0,2111,null,1222,{"$f":"COUNTIF($L$7:$L$500,N14)","v":19},{"$f":"O14/$Q$4","v":0.1165644171779141},{"$f":"IF(P14=0,0,(P14*((LOG(P14))/LOG(2))))","v":-0.36144301947829666},null,null,{"$f":"N14","v":1222},{"$f":"COUNTIF(L7:L33,T14)","v":0},{"$f":"U14/(W4-U20)","v":0},{"$f":"IF(V14=0,0,(V14*((LOG(V14))/LOG(2))))","v":0},null,{"$f":"N14","v":1222},{"$f":"COUNTIF(L34:L60,Y14)","v":2},{"$f":"Z14/(AB4-Z20)","v":9.0909090909090912E-2},{"$f":"IF(AA14=0,0,(AA14*((LOG(AA14))/LOG(2))))","v":-0.31449378351248153},null,{"$f":"N14","v":1222},{"$f":"COUNTIF(L61:L88,AD14)","v":4},{"$f":"AE14/(AG4-AE20)","v":0.14814814814814814},{"$f":"IF(AF14=0,0,(AF14*((LOG(AF14))/LOG(2))))","v":-0.40813148180199532},null,{"$f":"N14","v":1222},{"$f":"COUNTIF(L89:L115,AI14)","v":3},{"$f":"AJ14/(AL4-AJ20)","v":0.12},{"$f":"IF(AK14=0,0,(AK14*((LOG(AK14))/LOG(2))))","v":-0.36706724268642821},null,{"$f":"N14","v":1222},{"$f":"COUNTIF(L116:L142,AN14)","v":6},{"$f":"AO14/(AQ4-AO20)","v":0.25},{"$f":"IF(AP14=0,0,(AP14*((LOG(AP14))/LOG(2))))","v":-0.5},null,{"$f":"N14","v":1222},{"$f":"COUNTIF(L143:L169,AS14)","v":4},{"$f":"AT14/(AV4-AT20)","v":0.16666666666666666},{"$f":"IF(AU14=0,0,(AU14*((LOG(AU14))/LOG(2))))","v":-0.43082708345352599}]
[21,1306,21,1315,11,1329,21,1348,null,null,0,2212,null,2111,{"$f":"COUNTIF($L$7:$L$500,N15)","v":1},{"$f":"O15/$Q$4","v":6.1349693251533744E-3},{"$f":"IF(P15=0,0,(P15*((LOG(P15))/LOG(2))))","v":-4.5084221805098634E-2},null,null,{"$f":"N15","v":2111},{"$f":"COUNTIF(L7:L33,T15)","v":1},{"$f":"U15/(W4-U20)","v":0.04},{"$f":"IF(V15=0,0,(V15*((LOG(V15))/LOG(2))))","v":-0.18575424759098899},null,{"$f":"N15","v":2111},{"$f":"COUNTIF(L34:L60,Y15)","v":0},{"$f":"Z15/(AB4-Z20)","v":0},{"$f":"IF(AA15=0,0,(AA15*((LOG(AA15))/LOG(2))))","v":0},null,{"$f":"N15","v":2111},{"$f":"COUNTIF(L61:L88,AD15)","v":0},{"$f":"AE15/(AG4-AE20)","v":0},{"$f":"IF(AF15=0,0,(AF15*((LOG(AF15))/LOG(2))))","v":0},null,{"$f":"N15","v":2111},{"$f":"COUNTIF(L89:L115,AI15)","v":0},{"$f":"AJ15/(AL4-AJ20)","v":0},{"$f":"IF(AK15=0,0,(AK15*((LOG(AK15))/LOG(2))))","v":0},null,{"$f":"N15","v":2111},{"$f":"COUNTIF(L116:L142,AN15)","v":0},{"$f":"AO15/(AQ4-AO20)","v":0},{"$f":"IF(AP15=0,0,(AP15*((LOG(AP15))/LOG(2))))","v":0},null,{"$f":"N15","v":2111},{"$f":"COUNTIF(L143:L169,AS15)","v":0},{"$f":"AT15/(AV4-AT20)","v":0},{"$f":"IF(AU15=0,0,(AU15*((LOG(AU15))/LOG(2))))","v":0}]
[12,1445,23,1453,13,1467,23,1480,null,null,0,1212,null,2112,{"$f":"COUNTIF($L$7:$L$500,N16)","v":6},{"$f":"O16/$Q$4","v":3.6809815950920248E-2},{"$f":"IF(P16=0,0,(P16*((LOG(P16))/LOG(2))))","v":-0.1753533369390155},null,null,{"$f":"N16","v":2112},{"$f":"COUNTIF(L7:L33,T16)","v":2},{"$f":"U16/(W4-U20)","v":0.08},{"$f":"IF(V16=0,0,(V16*((LOG(V16))/LOG(2))))","v":-0.29150849518197797},null,{"$f":"N16","v":2112},{"$f":"COUNTIF(L34:L60,Y16)","v":1},{"$f":"Z16/(AB4-Z20)","v":4.5454545454545456E-2},{"$f":"IF(AA16=0,0,(AA16*((LOG(AA16))/LOG(2))))","v":-0.20270143721078623},null,{"$f":"N16","v":2112},{"$f":"COUNTIF(L61:L88,AD16)","v":0},{"$f":"AE16/(AG4-AE20)","v":0},{"$f":"IF(AF16=0,0,(AF16*((LOG(AF16))/LOG(2))))","v":0},null,{"$f":"N16","v":2112},{"$f":"COUNTIF(L89:L115,AI16)","v":1},{"$f":"AJ16/(AL4-AJ20)","v":0.04},{"$f":"IF(AK16=0,0,(AK16*((LOG(AK16))/LOG(2))))","v":-0.18575424759098899},null,{"$f":"N16","v":2112},{"$f":"COUNTIF(L116:L142,AN16)","v":2},{"$f":"AO16/(AQ4-AO20)","v":8.3333333333333329E-2},{"$f":"IF(AP16=0,0,(AP16*((LOG(AP16))/LOG(2))))","v":-0.29874687506009634},null,{"$f":"N16","v":2112},{"$f":"COUNTIF(L143:L169,AS16)","v":0},{"$f":"AT16/(AV4-AT20)","v":0},{"$f":"IF(AU16=0,0,(AU16*((LOG(AU16))/LOG(2))))","v":0}]
[21,1583,21,1591,22,1602,14,1620,null,null,0,2221,null,2121,{"$f":"COUNTIF($L$7:$L$500,N17)","v":8},{"$f":"O17/$Q$4","v":4.9079754601226995E-2},{"$f":"IF(P17=0,0,(P17*((LOG(P17))/LOG(2))))","v":-0.21343451063710808},null,null,{"$f":"N17","v":2121},{"$f":"COUNTIF(L7:L33,T17)","v":1},{"$f":"U17/(W4-U20)","v":0.04},{"$f":"IF(V17=0,0,(V17*((LOG(V17))/LOG(2))))","v":-0.18575424759098899},null,{"$f":"N17","v":2121},{"$f":"COUNTIF(L34:L60,Y17)","v":1},{"$f":"Z17/(AB4-Z20)","v":4.5454545454545456E-2},{"$f":"IF(AA17=0,0,(AA17*((LOG(AA17))/LOG(2))))","v":-0.20270143721078623},null,{"$f":"N17","v":2121},{"$f":"COUNTIF(L61:L88,AD17)","v":0},{"$f":"AE17/(AG4-AE20)","v":0},{"$f":"IF(AF17=0,0,(AF17*((LOG(AF17))/LOG(2))))","v":0},null,{"$f":"N17","v":2121},{"$f":"COUNTIF(L89:L115,AI17)","v":3},{"$f":"AJ17/(AL4-AJ20)","v":0.12},{"$f":"IF(AK17=0,0,(AK17*((LOG(AK17))/LOG(2))))","v":-0.36706724268642821},null,{"$f":"N17","v":2121},{"$f":"COUNTIF(L116:L142,AN17)","v":2},{"$f":"AO17/(AQ4-AO20)","v":8.3333333333333329E-2},{"$f":"IF(AP17=0,0,(AP17*((LOG(AP17))/LOG(2))))","v":-0.29874687506009634},null,{"$f":"N17","v":2121},{"$f":"COUNTIF(L143:L169,AS17)","v":1},{"$f":"AT17/(AV4-AT20)","v":4.1666666666666664E-2},{"$f":"IF(AU17=0,0,(AU17*((LOG(AU17))/LOG(2))))","v":-0.19104010419671485}]
[21,1728,12,1741,13,1748,23,1764,null,null,0,2112,null,2122,{"$f":"COUNTIF($L$7:$L$500,N18)","v":17},{"$f":"O18/$Q$4","v":0.10429447852760736},{"$f":"IF(P18=0,0,(P18*((LOG(P18))/LOG(2))))","v":-0.34013196515750027},null,null,{"$f":"N18","v":2122},{"$f":"COUNTIF(L7:L33,T18)","v":1},{"$f":"U18/(W4-U20)","v":0.04},{"$f":"IF(V18=0,0,(V18*((LOG(V18))/LOG(2))))","v":-0.18575424759098899},null,{"$f":"N18","v":2122},{"$f":"COUNTIF(L34:L60,Y18)","v":1},{"$f":"Z18/(AB4-Z20)","v":4.5454545454545456E-2},{"$f":"IF(AA18=0,0,(AA18*((LOG(AA18))/LOG(2))))","v":-0.20270143721078623},null,{"$f":"N18","v":2122},{"$f":"COUNTIF(L61:L88,AD18)","v":3},{"$f":"AE18/(AG4-AE20)","v":0.1111111111111111},{"$f":"IF(AF18=0,0,(AF18*((LOG(AF18))/LOG(2))))","v":-0.3522138890491458},null,{"$f":"N18","v":2122},{"$f":"COUNTIF(L89:L115,AI18)","v":3},{"$f":"AJ18/(AL4-AJ20)","v":0.12},{"$f":"IF(AK18=0,0,(AK18*((LOG(AK18))/LOG(2))))","v":-0.36706724268642821},null,{"$f":"N18","v":2122},{"$f":"COUNTIF(L116:L142,AN18)","v":3},{"$f":"AO18/(AQ4-AO20)","v":0.125},{"$f":"IF(AP18=0,0,(AP18*((LOG(AP18))/LOG(2))))","v":-0.375},null,{"$f":"N18","v":2122},{"$f":"COUNTIF(L143:L169,AS18)","v":6},{"$f":"AT18/(AV4-AT20)","v":0.25},{"$f":"IF(AU18=0,0,(AU18*((LOG(AU18))/LOG(2))))","v":-0.5}]
[21,1873,12,1883,13,1888,23,1910,null,null,0,2112,null,2211,{"$f":"COUNTIF($L$7:$L$500,N19)","v":5},{"$f":"O19/$Q$4","v":3.0674846625766871E-2},{"$f":"IF(P19=0,0,(P19*((LOG(P19))/LOG(2))))","v":-0.15419632083876425},null,null,{"$f":"N19","v":2211},{"$f":"COUNTIF(L7:L33,T19)","v":2},{"$f":"U19/(W4-U20)","v":0.08},{"$f":"IF(V19=0,0,(V19*((LOG(V19))/LOG(2))))","v":-0.29150849518197797},null,{"$f":"N19","v":2211},{"$f":"COUNTIF(L34:L60,Y19)","v":2},{"$f":"Z19/(AB4-Z20)","v":9.0909090909090912E-2},{"$f":"IF(AA19=0,0,(AA19*((LOG(AA19))/LOG(2))))","v":-0.31449378351248153},null,{"$f":"N19","v":2211},{"$f":"COUNTIF(L61:L88,AD19)","v":0},{"$f":"AE19/(AG4-AE20)","v":0},{"$f":"IF(AF19=0,0,(AF19*((LOG(AF19))/LOG(2))))","v":0},null,{"$f":"N19","v":2211},{"$f":"COUNTIF(L89:L115,AI19)","v":1},{"$f":"AJ19/(AL4-AJ20)","v":0.04},{"$f":"IF(AK19=0,0,(AK19*((LOG(AK19))/LOG(2))))","v":-0.18575424759098899},null,{"$f":"N19","v":2211},{"$f":"COUNTIF(L116:L142,AN19)","v":0},{"$f":"AO19/(AQ4-AO20)","v":0},{"$f":"IF(AP19=0,0,(AP19*((LOG(AP19))/LOG(2))))","v":0},null,{"$f":"N19","v":2211},{"$f":"COUNTIF(L143:L169,AS19)","v":0},{"$f":"AT19/(AV4-AT20)","v":0},{"$f":"IF(AU19=0,0,(AU19*((LOG(AU19))/LOG(2))))","v":0}]
[21,2021,21,2030,22,2035,23,2044,null,null,0,2222,null,2212,{"$f":"COUNTIF($L$7:$L$500,N20)","v":16},{"$f":"O20/$Q$4","v":9.815950920245399E-2},{"$f":"IF(P20=0,0,(P20*((LOG(P20))/LOG(2))))","v":-0.32870951207176224},null,null,{"$f":"N20","v":2212},{"$f":"COUNTIF(L7:L33,T20)","v":2},null,null,null,{"$f":"N20","v":2212},{"$f":"COUNTIF(L34:L60,Y20)","v":5},null,null,null,{"$f":"N20","v":2212},{"$f":"COUNTIF(L61:L88,AD20)","v":1},null,null,null,{"$f":"N20","v":2212},{"$f":"COUNTIF(L89:L115,AI20)","v":2},null,null,null,{"$f":"N20","v":2212},{"$f":"COUNTIF(L116:L142,AN20)","v":3},null,null,null,{"$f":"N20","v":2212},{"$f":"COUNTIF(L143:L169,AS20)","v":3}]
[21,2157,12,2170,24,2183,23,2216,null,null,0,2122,null,2221,{"$f":"COUNTIF($L$7:$L$500,N21)","v":14},{"$f":"O21/$Q$4","v":8.5889570552147243E-2},{"$f":"IF(P21=0,0,(P21*((LOG(P21))/LOG(2))))","v":-0.30416702607624924},null,null,{"$f":"N21","v":2221},{"$f":"COUNTIF(L7:L33,T21)","v":4},{"$f":"U21/(W4-U20)","v":0.16},{"$f":"IF(V21=0,0,(V21*((LOG(V21))/LOG(2))))","v":-0.42301699036395596},null,{"$f":"N21","v":2221},{"$f":"COUNTIF(L34:L60,Y21)","v":2},{"$f":"Z21/(AB4-Z20)","v":9.0909090909090912E-2},{"$f":"IF(AA21=0,0,(AA21*((LOG(AA21))/LOG(2))))","v":-0.31449378351248153},null,{"$f":"N21","v":2221},{"$f":"COUNTIF(L61:L88,AD21)","v":3},{"$f":"AE21/(AG4-AE20)","v":0.1111111111111111},{"$f":"IF(AF21=0,0,(AF21*((LOG(AF21))/LOG(2))))","v":-0.3522138890491458},null,{"$f":"N21","v":2221},{"$f":"COUNTIF(L89:L115,AI21)","v":2},{"$f":"AJ21/(AL4-AJ20)","v":0.08},{"$f":"IF(AK21=0,0,(AK21*((LOG(AK21))/LOG(2))))","v":-0.29150849518197797},null,{"$f":"N21","v":2221},{"$f":"COUNTIF(L116:L142,AN21)","v":1},{"$f":"AO21/(AQ4-AO20)","v":4.1666666666666664E-2},{"$f":"IF(AP21=0,0,(AP21*((LOG(AP21))/LOG(2))))","v":-0.19104010419671485},null,{"$f":"N21","v":2221},{"$f":"COUNTIF(L143:L169,AS21)","v":2},{"$f":"AT21/(AV4-AT20)","v":8.3333333333333329E-2},{"$f":"IF(AU21=0,0,(AU21*((LOG(AU21))/LOG(2))))","v":-0.29874687506009634}]
[12,2333,14,2342,24,2354,23,2362,null,null,0,1122,null,2222,{"$f":"COUNTIF($L$7:$L$500,N22)","v":50},{"$f":"O22/$Q$4","v":0.30674846625766872},{"$f":"IF(P22=0,0,(P22*((LOG(P22))/LOG(2))))","v":-0.52296686026268502},null,null,{"$f":"N22","v":2222},{"$f":"COUNTIF(L7:L33,T22)","v":8},{"$f":"U22/(W4-U20)","v":0.32},{"$f":"IF(V22=0,0,(V22*((LOG(V22))/LOG(2))))","v":-0.52603398072791185},null,{"$f":"N22","v":2222},{"$f":"COUNTIF(L34:L60,Y22)","v":12},{"$f":"Z22/(AB4-Z20)","v":0.54545454545454541},{"$f":"IF(AA22=0,0,(AA22*((LOG(AA22))/LOG(2))))","v":-0.47698315522698609},null,{"$f":"N22","v":2222},{"$f":"COUNTIF(L61:L88,AD22)","v":16},{"$f":"AE22/(AG4-AE20)","v":0.59259259259259256},{"$f":"IF(AF22=0,0,(AF22*((LOG(AF22))/LOG(2))))","v":-0.44734074202279617},null,{"$f":"N22","v":2222},{"$f":"COUNTIF(L89:L115,AI22)","v":7},{"$f":"AJ22/(AL4-AJ20)","v":0.28000000000000003},{"$f":"IF(AK22=0,0,(AK22*((LOG(AK22))/LOG(2))))","v":-0.51422035496079388},null,{"$f":"N22","v":2222},{"$f":"COUNTIF(L116:L142,AN22)","v":2},{"$f":"AO22/(AQ4-AO20)","v":8.3333333333333329E-2},{"$f":"IF(AP22=0,0,(AP22*((LOG(AP22))/LOG(2))))","v":-0.29874687506009634},null,{"$f":"N22","v":2222},{"$f":"COUNTIF(L143:L169,AS22)","v":5},{"$f":"AT22/(AV4-AT20)","v":0.20833333333333334},{"$f":"IF(AU22=0,0,(AU22*((LOG(AU22))/LOG(2))))","v":-0.47146550121537367}]
[21,2468,21,2475,22,2481,23,2488,null,null,0,2222,null,null,null,{"$f":"SUM(P7:P22)","v":1},{"$f":"-SUM(Q7:Q22)","v":3.268044833000233},null,null,null,null,{"$f":"SUM(V7:V22)","v":1},{"$f":"-SUM(W7:W22)","v":3.2038561897747244},null,null,null,{"$f":"SUM(AA7:AA22)","v":1},{"$f":"-SUM(AB7:AB22)","v":2.2312702546075753},null,null,null,{"$f":"SUM(AF7:AF22)","v":1},{"$f":"-SUM(AG7:AG22)","v":1.736006946447656},null,null,null,{"$f":"SUM(AK7:AK22)","v":1},{"$f":"-SUM(AL7:AL22)","v":3.0472103113389792},null,null,null,{"$f":"SUM(AP7:AP22)","v":1},{"$f":"-SUM(AQ7:AQ22)","v":3.1258145836939115},null,null,null,{"$f":"SUM(AU7:AU22)","v":1},{"$f":"-SUM(AV7:AV22)","v":2.8401998765158556}]
[21,2607,21,2614,22,2623,23,2633,null,null,0,2222,null,null,null,"U=",{"$f":"Q23/(LOG(Q4)/LOG(2))","v":0.44470890260359341},null,null,null,null,"U1=",{"$f":"W23/(LOG(W4)/LOG(2))","v":0.67380273209765185},null,null,null,"U2=",{"$f":"AB23/(LOG(AB4)/LOG(2))","v":0.46925826396362691},null,null,null,"U3=",{"$f":"AG23/(LOG(AG4)/LOG(2))","v":0.36111478652893486},null,null,null,"U4=",{"$f":"AL23/(LOG(AL4)/LOG(2))","v":0.64085855027116878},null,null,null,"U5=",{"$f":"AQ23/(LOG(AQ4)/LOG(2))","v":0.65738980833335581},null,null,null,"U6=",{"$f":"AV23/(LOG(AV4)/LOG(2))","v":0.59732220272794423}]
[21,2749,21,2771,22,2780,23,2807,null,null,0,2222]
[21,2912,21,2917,22,2926,23,2934,null,null,0,2222]
[21,3048,21,3053,22,3059,14,3073,null,null,0,2221,null,"Total Target Seq"]
[21,3183,21,3188,22,3221,23,3230,null,null,0,2222,null,{"$f":"COUNTIF(L7:L169,G3)","v":16},null,27,27,28,27,27,27]
[21,3341,21,3347,11,3360,21,3374,null,null,0,2212,null,null,null,"% of reinforcement given in 6 equal intervals based on number of trials "]
[21,3474,21,3482,22,3488,23,3497,null,null,0,2222,null,null,null,"%_1","%_2","%_3","%_4","%_5","%_6"]
[12,3620,23,3631,24,3640,14,3653,null,null,0,1221,null,null,"target sequence",{"$f":"$G$3","v":2212},{"$f":"$G$3","v":2212},{"$f":"$G$3","v":2212},{"$f":"$G$3","v":2212},{"$f":"$G$3","v":2212},{"$f":"$G$3","v":2212}]
[21,3761,21,3769,22,3775,14,3787,null,null,0,2221,null,null,"total reinforcement",{"$f":"U20","v":2},{"$f":"Z20","v":5},{"$f":"AE20","v":1},{"$f":"AJ20","v":2},{"$f":"AO20","v":3},{"$f":"AT20","v":3}]
[21,3895,21,3900,22,3916,23,3924,null,null,0,2222,null,null,"% target"]
[21,4032,21,4057,22,4067,23,4076,null,null,0,2222,null,null,"CCRF"]
[21,4175,21,4184,11,4200,12,4209,null,null,0,2211,null,null,"% CCRf"]
[21,4318,21,4323,22,4347,23,4365,null,null,0,2222,null,null,"average response rate",{"$f":"H33/P28","v":145.33333333333334},{"$f":"(H60-H33)/Q28","v":145.77777777777777},{"$f":"(H88-H60)/R28","v":148.32142857142858},{"$f":"(H115-H88)/S28","v":149.11111111111111},{"$f":"(H142-H115)/T28","v":146.40740740740742},{"$f":"(H169-H142)/U28","v":147.59259259259258}]
[21,4473,21,4493,11,4506,21,4519,null,null,0,2212]
[21,4635,12,4647,24,4662,14,4701,null,null,0,2121]
[12,4814,23,4824,24,4833,23,4840,null,null,0,1222]
[21,4951,21,4960,11,4973,21,4984,null,null,0,2212]
[21,5078,21,5092,22,5113,14,5128,null,null,0,2221]
[21,5238,21,5245,11,5276,21,5297,null,null,0,2212]
[21,5394,21,5400,22,5407,23,5416,null,null,0,2222]
[21,5519,21,5525,22,5529,23,5537,null,null,0,2222]
[21,5654,12,5668,13,5678,23,5699,null,null,0,2112]
[21,5810,21,5831,11,5847,21,5859,null,null,0,2212]
[21,5953,21,5960,22,5974,23,5982,null,null,0,2222]
[12,6103,23,6120,13,6132,23,6143,null,null,0,1212]
[21,6251,12,6264,24,6278,23,6285,null,null,0,2122]
[21,6400,21,6432,11,6455,12,6465,null,null,0,2211]
[21,6570,21,6578,22,6586,23,6615,null,null,0,2222]
[12,6731,23,6741,24,6750,23,6765,null,null,0,1222]
[21,6870,21,6875,11,6887,21,6901,null,null,0,2212]
[21,6992,21,7052,22,7059,14,7072,null,null,0,2221]
[21,7174,21,7180,22,7185,23,7205,null,null,0,2222]
[21,7313,21,7318,22,7331,23,7364,null,null,0,2222]
[21,7471,21,7480,22,7484,23,7492,null,null,0,2222]
[21,7595,21,7599,22,7604,23,7609,null,null,0,2222]
[21,7713,21,7720,22,7725,23,7733,null,null,0,2222]
[21,7836,21,7841,22,7846,23,7860,null,null,0,2222]
[21,7968,21,7972,22,7980,23,8000,null,null,0,2222]
[21,8100,21,8107,22,8116,23,8121,null,null,0,2222]
[21,8230,21,8235,22,8253,23,8268,null,null,0,2222]
[21,8379,21,8386,22,8395,23,8410,null,null,0,2222]
[21,8521,21,8531,22,8539,23,8596,null,null,0,2222]
[21,8706,21,8711,22,8716,23,8725,null,null,0,2222]
[21,8834,21,8839,22,8846,23,8853,null,null,0,2222]
[21,8958,21,8977,22,9010,14,9024,null,null,0,2221]
[21,9133,21,9139,22,9144,23,9159,null,null,0,2222]
[21,9269,21,9274,22,9297,23,9314,null,null,0,2222]
[21,9414,21,9423,22,9428,14,9441,null,null,0,2221]
[12,9549,23,9560,24,9569,23,9609,null,null,0,1222]
[21,9719,21,9744,22,9751,23,9758,null,null,0,2222]
[21,9867,21,9887,22,9892,23,9908,null,null,0,2222]
[12,10011,23,10027,24,10042,23,10050,null,null,0,1222]
[21,10163,12,10178,24,10190,23,10197,null,null,0,2122]
[12,10305,23,10318,13,10331,23,10342,null,null,0,1212]
[21,10466,21,10488,22,10516,14,10548,null,null,0,2221]
[21,10653,21,10658,11,10670,21,10682,null,null,0,2212]
[21,10784,12,10798,24,10808,23,10817,null,null,0,2122]
[12,10933,23,10949,24,10957,23,10966,null,null,0,1222]
[21,11077,21,11082,22,11086,23,11094,null,null,0,2222]
[21,11198,21,11203,22,11207,23,11250,null,null,0,2222]
[21,11360,21,11364,22,11369,23,11387,null,null,0,2222]
[21,11488,21,11513,22,11525,23,11540,null,null,0,2222]
[12,11664,23,11677,24,11684,23,11692,null,null,0,1222]
[21,11795,12,11808,24,11821,23,11829,null,null,0,2122]
[21,11950,21,11955,22,11981,23,12013,null,null,0,2222]
[21,12133,21,12141,22,12148,23,12156,null,null,0,2222]
[21,12268,21,12276,22,12281,23,12292,null,null,0,2222]
[21,12413,21,12418,22,12435,23,12444,null,null,0,2222]
[21,12555,12,12571,24,12590,14,12644,null,null,0,2121]
[12,12751,23,12762,13,12774,23,12785,null,null,0,1212]
[21,12893,21,12899,22,12905,23,12910,null,null,0,2222]
[21,13026,21,13032,22,13036,23,13041,null,null,0,2222]
[21,13153,21,13159,22,13179,23,13187,null,null,0,2222]
[21,13292,21,13310,11,13329,21,13346,null,null,0,2212]
[21,13457,12,13469,24,13510,14,13524,null,null,0,2121]
[12,13646,23,13659,13,13671,23,13682,null,null,0,1212]
[21,13799,21,13806,11,13821,21,13837,null,null,0,2212]
[21,13936,12,13948,24,13960,23,13968,null,null,0,2122]
[12,14078,23,14090,24,14112,14,14125,null,null,0,1221]
[12,14246,23,14255,13,14271,14,14280,null,null,0,1211]
[21,14408,12,14437,24,14449,23,14459,null,null,0,2122]
[21,14567,12,14582,24,14591,14,14603,null,null,0,2121]
[12,14705,23,14717,24,14722,23,14730,null,null,0,1222]
[12,14849,23,14865,24,14903,14,14925,null,null,0,1221]
[21,15030,21,15050,22,15055,23,15063,null,null,0,2222]
[21,15164,12,15173,24,15188,23,15193,null,null,0,2122]
[21,15295,21,15316,11,15329,12,15338,null,null,0,2211]
[21,15453,21,15457,22,15464,14,15486,null,null,0,2221]
[21,15600,12,15613,13,15623,23,15635,null,null,0,2112]
[21,15737,21,15743,22,15748,14,15760,null,null,0,2221]
[12,15864,23,15875,24,15882,23,15891,null,null,0,1222]
[12,16003,23,16022,24,16029,23,16039,null,null,0,1222]
[21,16161,12,16177,24,16189,23,16206,null,null,0,2122]
[12,16306,14,16332,24,16343,23,16364,null,null,0,1122]
[12,16474,23,16498,24,16506,23,16513,null,null,0,1222]
[21,16631,21,16636,22,16641,23,16648,null,null,0,2222]
[12,16756,23,16767,24,16772,23,16785,null,null,0,1222]
[12,16883,23,16895,24,16902,23,16907,null,null,0,1222]
[12,17021,23,17037,24,17054,14,17066,null,null,0,1221]
[21,17188,12,17203,13,17215,23,17241,null,null,0,2112]
[21,17358,21,17365,11,17374,21,17388,null,null,0,2212]
[21,17480,12,17496,24,17511,14,17557,null,null,0,2121]
[21,17669,12,17692,13,17704,23,17717,null,null,0,2112]
[12,17830,23,17847,13,17861,23,17876,null,null,0,1212]
[12,17990,23,18003,24,18009,23,18017,null,null,0,1222]
[12,18130,14,18139,24,18152,23,18172,null,null,0,1122]
[21,18293,12,18305,24,18317,23,18325,null,null,0,2122]
[12,18430,23,18444,24,18450,23,18455,null,null,0,1222]
[12,18569,23,18587,24,18592,23,18600,null,null,0,1222]
[12,18713,23,18725,24,18732,14,18744,null,null,0,1221]
[21,18854,21,18861,11,18873,21,18899,null,null,0,2212]
[21,18992,21,19012,11,19023,21,19035,null,null,0,2212]
[21,19126,12,19136,24,19146,14,19159,null,null,0,2121]
[12,19256,23,19269,13,19281,23,19294,null,null,0,1212]
[12,19396,14,19413,24,19424,14,19437,null,null,0,1121]
[21,19542,21,19550,22,19556,14,19567,null,null,0,2221]
[12,19685,14,19695,24,19712,23,19737,null,null,0,1122]
[21,19840,12,19852,24,19863,23,19873,null,null,0,2122]
[21,19977,21,19983,22,19987,23,19992,null,null,0,2222]
[21,20110,21,20115,22,20121,23,20128,null,null,0,2222]
[21,20238,12,20250,24,20264,23,20272,null,null,0,2122]
[21,20378,12,20393,24,20413,23,20420,null,null,0,2122]
[21,20531,21,20537,22,20542,23,20551,null,null,0,2222]
[21,20668,12,20681,24,20693,23,20741,null,null,0,2122]
[12,20843,23,20857,24,20881,23,20898,null,null,0,1222]
[21,21013,21,21021,11,21033,21,21045,null,null,0,2212]
[21,21147,21,21153,22,21161,23,21170,null,null,0,2222]
[21,21294,12,21305,24,21316,23,21324,null,null,0,2122]
[12,21434,23,21444,24,21449,14,21461,null,null,0,1221]
[12,21578,23,21587,24,21595,23,21603,null,null,0,1222]
[21,21719,21,21724,22,21733,23,21741,null,null,0,2222]
[21,21852,12,21865,24,21877,23,21886,null,null,0,2122]
[21,21997,21,22006,22,22014,23,22022,null,null,0,2222]
[21,22130,21,22149,11,22161,21,22174,null,null,0,2212]
[21,22287,12,22299,24,22310,14,22322,null,null,0,2121]
[21,22487,21,22500,22,22508,14,22537,null,null,0,2221]
[12,22646,23,22655,13,22667,23,22699,null,null,0,1212]
[21,22811,21,22821,22,22830,14,22841,null,null,0,2221]
[21,22953,12,22963,24,22975,23,22986,null,null,0,2122]
[12,23087,23,23097,13,23108,23,23121,null,null,0,1212]
[12,23221,23,23230,13,23241,14,23251,null,null,0,1211]
[12,23353,14,23359,24,23373,23,23390,null,null,0,1122]
[21,23497,21,23502,11,23514,21,23526,null,null,0,2212]
[12,23616,23,23628,13,23641,23,23655,null,null,0,1212]
[12,23771,23,23784,24,23804,23,23812,null,null,0,1222]
[12,23921,23,23933,24,23941,23,23977,null,null,null,1222]

{"sheet":"!MB20920.091","index":15,"n_rows":176,"n_cols":48,"rows_kept":176,"cut":false,"hidden":false,"merged":[[4,39,4,42],[5,39,5,40],[4,44,4,47],[5,44,5,45],[4,24,4,27],[5,24,5,25],[4,29,4,32],[5,29,5,30],[4,34,4,37],[5,34,5,35],[1,1,1,2],[5,13,5,14],[26,13,26,14],[27,13,27,14],[4,19,4,22],[5,19,5,20]]}
["Report for:!MB20920.091"]
["Date:","<date>"]
["Hen:","<hen>",null,null,null,"Correct Sequence",{"$f":"Start!J2","v":2212},null,null,null,null,null,null,null,null,"Total Sequences in Data",{"$f":"4994-COUNTBLANK(L7:L5000)","v":170},null,null,null,null,"Total Sequences in Block Data",{"$f":"COUNTA(L7:L34)","v":28},null,null,null,"Total Sequences in Block Data",{"$f":"COUNTA(L35:L63)","v":29},null,null,null,"Total Sequences in Block Data",{"$f":"COUNTA(L64:L91)","v":28},null,null,null,"Total Sequences in Block Data",{"$f":"COUNTA(L92:L119)","v":28},null,null,null,"Total Sequences in Block Data",{"$f":"COUNTA(L120:L148)","v":29},null,null,null,"Total Sequences in Block Data",{"$f":"COUNTA(L149:L176)","v":28}]
[null,null,null,null,null,null,null,null,null,null,null,null,null,null,null,"Total Sequences in Summary",{"$f":"SUM(O7:O22)","v":170},null,null,null,null,"Total Sequences in Block Summary",{"$f":"SUM(U7:U22)","v":28},null,null,null,"Total Sequences in Block Summary",{"$f":"SUM(Z7:Z22)","v":29},null,null,null,"Total Sequences in Block Summary",{"$f":"SUM(AE7:AE22)","v":28},null,null,null,"Total Sequences in Block Summary",{"$f":"SUM(AJ7:AJ22)","v":28},null,null,null,"Total Sequences in Block Summary",{"$f":"SUM(AO7:AO22)","v":29},null,null,null,"Total Sequences in Block Summary",{"$f":"SUM(AT7:AT22)","v":28}]
[null,null,null,null,null,null,null,null,null,null,null,null,null,null,null,null,null,null,null,"Block 1",null,null,null,null,"Block 2",null,null,null,null,"Block 3",null,null,null,null,"Block 4",null,null,null,null,"Block 5",null,null,null,null,"Block 6"]
["Sequence\nComponent\n1","Time\n1","Sequence\nComponent\n2","Time\n2","Sequence\nComponent\n3","Time\n3","Sequence\nComponent\n4","Time\n4","Sequence\nComponent\n5","Time\n5","Correct?\n0=No 1=Yes","Sequence",null,"Frequency",null,"Relative Frequency","Variability",null,null,"Frequency",null,"Relative Frequency","Variability",null,"Frequency",null,"Relative Frequency","Variability",null,"Frequency",null,"Relative Frequency","Variability",null,"Frequency",null,"Relative Frequency","Variability",null,"Frequency",null,"Relative Frequency","Variability",null,"Frequency",null,"Relative Frequency","Variability"]
[12,21,23,36,13,50,23,63,null,null,0,1212,null,1111,{"$f":"COUNTIF($L$7:$L$500,N7)","v":1},{"$f":"O7/$Q$4","v":5.8823529411764705E-3},{"$f":"IF(P7=0,0,(P7*((LOG(P7))/LOG(2))))","v":-4.35846525655159E-2},null,null,{"$f":"N7","v":1111},{"$f":"COUNTIF(L7:L34,T7)","v":0},{"$f":"U7/(W4-U20)","v":0},{"$f":"IF(V7=0,0,(V7*((LOG(V7))/LOG(2))))","v":0},null,{"$f":"N7","v":1111},{"$f":"COUNTIF(L35:L63,Y7)","v":0},{"$f":"Z7/(AB4-Z20)","v":0},{"$f":"IF(AA7=0,0,(AA7*((LOG(AA7))/LOG(2))))","v":0},null,{"$f":"N7","v":1111},{"$f":"COUNTIF(L64:L91,AD7)","v":1},{"$f":"AE7/(AG4-AE20)","v":5.2631578947368418E-2},{"$f":"IF(AF7=0,0,(AF7*((LOG(AF7))/LOG(2))))","v":-0.22357513228650452},null,{"$f":"N7","v":1111},{"$f":"COUNTIF(L92:L119,AI7)","v":0},{"$f":"AJ7/(AL4-AJ20)","v":0},{"$f":"IF(AK7=0,0,(AK7*((LOG(AK7))/LOG(2))))","v":0},null,{"$f":"N7","v":1111},{"$f":"COUNTIF(L120:L148,AN7)","v":0},{"$f":"AO7/(AQ4-AO20)","v":0},{"$f":"IF(AP7=0,0,(AP7*((LOG(AP7))/LOG(2))))","v":0},null,{"$f":"N7","v":1111},{"$f":"COUNTIF(L149:L176,AS7)","v":0},{"$f":"AT7/(AV4-AT20)","v":0},{"$f":"IF(AU7=0,0,(AU7*((LOG(AU7))/LOG(2))))","v":0}]
[21,184,21,195,11,207,21,222,null,null,0,2212,null,1112,{"$f":"COUNTIF($L$7:$L$500,N8)","v":5},{"$f":"O8/$Q$4","v":2.9411764705882353E-2},{"$f":"IF(P8=0,0,(P8*((LOG(P8))/LOG(2))))","v":-0.14963126003677468},null,null,{"$f":"N8","v":1112},{"$f":"COUNTIF(L7:L34,T8)","v":0},{"$f":"U8/(W4-U20)","v":0},{"$f":"IF(V8=0,0,(V8*((LOG(V8))/LOG(2))))","v":0},null,{"$f":"N8","v":1112},{"$f":"COUNTIF(L35:L63,Y8)","v":0},{"$f":"Z8/(AB4-Z20)","v":0},{"$f":"IF(AA8=0,0,(AA8*((LOG(AA8))/LOG(2))))","v":0},null,{"$f":"N8","v":1112},{"$f":"COUNTIF(L64:L91,AD8)","v":0},{"$f":"AE8/(AG4-AE20)","v":0},{"$f":"IF(AF8=0,0,(AF8*((LOG(AF8))/LOG(2))))","v":0},null,{"$f":"N8","v":1112},{"$f":"COUNTIF(L92:L119,AI8)","v":1},{"$f":"AJ8/(AL4-AJ20)","v":3.8461538461538464E-2},{"$f":"IF(AK8=0,0,(AK8*((LOG(AK8))/LOG(2))))","v":-0.18078614300542661},null,{"$f":"N8","v":1112},{"$f":"COUNTIF(L120:L148,AN8)","v":3},{"$f":"AO8/(AQ4-AO20)","v":0.1111111111111111},{"$f":"IF(AP8=0,0,(AP8*((LOG(AP8))/LOG(2))))","v":-0.3522138890491458},null,{"$f":"N8","v":1112},{"$f":"COUNTIF(L149:L176,AS8)","v":1},{"$f":"AT8/(AV4-AT20)","v":3.8461538461538464E-2},{"$f":"IF(AU8=0,0,(AU8*((LOG(AU8))/LOG(2))))","v":-0.18078614300542661}]
[21,336,12,350,24,361,23,371,null,null,0,2122,null,1121,{"$f":"COUNTIF($L$7:$L$500,N9)","v":15},{"$f":"O9/$Q$4","v":8.8235294117647065E-2},{"$f":"IF(P9=0,0,(P9*((LOG(P9))/LOG(2))))","v":-0.30904414769375149},null,null,{"$f":"N9","v":1121},{"$f":"COUNTIF(L7:L34,T9)","v":2},{"$f":"U9/(W4-U20)","v":8.6956521739130432E-2},{"$f":"IF(V9=0,0,(V9*((LOG(V9))/LOG(2))))","v":-0.30639669183104457},null,{"$f":"N9","v":1121},{"$f":"COUNTIF(L35:L63,Y9)","v":1},{"$f":"Z9/(AB4-Z20)","v":0.04},{"$f":"IF(AA9=0,0,(AA9*((LOG(AA9))/LOG(2))))","v":-0.18575424759098899},null,{"$f":"N9","v":1121},{"$f":"COUNTIF(L64:L91,AD9)","v":2},{"$f":"AE9/(AG4-AE20)","v":0.10526315789473684},{"$f":"IF(AF9=0,0,(AF9*((LOG(AF9))/LOG(2))))","v":-0.34188710667827216},null,{"$f":"N9","v":1121},{"$f":"COUNTIF(L92:L119,AI9)","v":3},{"$f":"AJ9/(AL4-AJ20)","v":0.11538461538461539},{"$f":"IF(AK9=0,0,(AK9*((LOG(AK9))/LOG(2))))","v":-0.35947814047153104},null,{"$f":"N9","v":1121},{"$f":"COUNTIF(L120:L148,AN9)","v":4},{"$f":"AO9/(AQ4-AO20)","v":0.14814814814814814},{"$f":"IF(AP9=0,0,(AP9*((LOG(AP9))/LOG(2))))","v":-0.40813148180199532},null,{"$f":"N9","v":1121},{"$f":"COUNTIF(L149:L176,AS9)","v":3},{"$f":"AT9/(AV4-AT20)","v":0.11538461538461539},{"$f":"IF(AU9=0,0,(AU9*((LOG(AU9))/LOG(2))))","v":-0.35947814047153104}]
[12,473,14,488,24,501,14,513,null,null,0,1121,null,1122,{"$f":"COUNTIF($L$7:$L$500,N10)","v":9},{"$f":"O10/$Q$4","v":5.2941176470588235E-2},{"$f":"IF(P10=0,0,(P10*((LOG(P10))/LOG(2))))","v":-0.22444231418975591},null,null,{"$f":"N10","v":1122},{"$f":"COUNTIF(L7:L34,T10)","v":0},{"$f":"U10/(W4-U20)","v":0},{"$f":"IF(V10=0,0,(V10*((LOG(V10))/LOG(2))))","v":0},null,{"$f":"N10","v":1122},{"$f":"COUNTIF(L35:L63,Y10)","v":4},{"$f":"Z10/(AB4-Z20)","v":0.16},{"$f":"IF(AA10=0,0,(AA10*((LOG(AA10))/LOG(2))))","v":-0.42301699036395596},null,{"$f":"N10","v":1122},{"$f":"COUNTIF(L64:L91,AD10)","v":1},{"$f":"AE10/(AG4-AE20)","v":5.2631578947368418E-2},{"$f":"IF(AF10=0,0,(AF10*((LOG(AF10))/LOG(2))))","v":-0.22357513228650452},null,{"$f":"N10","v":1122},{"$f":"COUNTIF(L92:L119,AI10)","v":2},{"$f":"AJ10/(AL4-AJ20)","v":7.6923076923076927E-2},{"$f":"IF(AK10=0,0,(AK10*((LOG(AK10))/LOG(2))))","v":-0.28464920908777636},null,{"$f":"N10","v":1122},{"$f":"COUNTIF(L120:L148,AN10)","v":0},{"$f":"AO10/(AQ4-AO20)","v":0},{"$f":"IF(AP10=0,0,(AP10*((LOG(AP10))/LOG(2))))","v":0},null,{"$f":"N10","v":1122},{"$f":"COUNTIF(L149:L176,AS10)","v":2},{"$f":"AT10/(AV4-AT20)","v":7.6923076923076927E-2},{"$f":"IF(AU10=0,0,(AU10*((LOG(AU10))/LOG(2))))","v":-0.28464920908777636}]
[21,615,12,628,24,642,23,651,null,null,0,2122,null,1211,{"$f":"COUNTIF($L$7:$L$500,N11)","v":3},{"$f":"O11/$Q$4","v":1.7647058823529412E-2},{"$f":"IF(P11=0,0,(P11*((LOG(P11))/LOG(2))))","v":-0.10278403121323315},null,null,{"$f":"N11","v":1211},{"$f":"COUNTIF(L7:L34,T11)","v":1},{"$f":"U11/(W4-U20)","v":4.3478260869565216E-2},{"$f":"IF(V11=0,0,(V11*((LOG(V11))/LOG(2))))","v":-0.19667660678508753},null,{"$f":"N11","v":1211},{"$f":"COUNTIF(L35:L63,Y11)","v":0},{"$f":"Z11/(AB4-Z20)","v":0},{"$f":"IF(AA11=0,0,(AA11*((LOG(AA11))/LOG(2))))","v":0},null,{"$f":"N11","v":1211},{"$f":"COUNTIF(L64:L91,AD11)","v":0},{"$f":"AE11/(AG4-AE20)","v":0},{"$f":"IF(AF11=0,0,(AF11*((LOG(AF11))/LOG(2))))","v":0},null,{"$f":"N11","v":1211},{"$f":"COUNTIF(L92:L119,AI11)","v":0},{"$f":"AJ11/(AL4-AJ20)","v":0},{"$f":"IF(AK11=0,0,(AK11*((LOG(AK11))/LOG(2))))","v":0},null,{"$f":"N11","v":1211},{"$f":"COUNTIF(L120:L148,AN11)","v":1},{"$f":"AO11/(AQ4-AO20)","v":3.7037037037037035E-2},{"$f":"IF(AP11=0,0,(AP11*((LOG(AP11))/LOG(2))))","v":-0.1761069445245729},null,{"$f":"N11","v":1211},{"$f":"COUNTIF(L149:L176,AS11)","v":1},{"$f":"AT11/(AV4-AT20)","v":3.8461538461538464E-2},{"$f":"IF(AU11=0,0,(AU11*((LOG(AU11))/LOG(2))))","v":-0.18078614300542661}]
[12,753,23,765,24,780,14,793,null,null,0,1221,null,1212,{"$f":"COUNTIF($L$7:$L$500,N12)","v":25},{"$f":"O12/$Q$4","v":0.14705882352941177},{"$f":"IF(P12=0,0,(P12*((LOG(P12))/LOG(2))))","v":-0.40669628622984955},null,null,{"$f":"N12","v":1212},{"$f":"COUNTIF(L7:L34,T12)","v":3},{"$f":"U12/(W4-U20)","v":0.13043478260869565},{"$f":"IF(V12=0,0,(V12*((LOG(V12))/LOG(2))))","v":-0.3832955811307639},null,{"$f":"N12","v":1212},{"$f":"COUNTIF(L35:L63,Y12)","v":3},{"$f":"Z12/(AB4-Z20)","v":0.12},{"$f":"IF(AA12=0,0,(AA12*((LOG(AA12))/LOG(2))))","v":-0.36706724268642821},null,{"$f":"N12","v":1212},{"$f":"COUNTIF(L64:L91,AD12)","v":2},{"$f":"AE12/(AG4-AE20)","v":0.10526315789473684},{"$f":"IF(AF12=0,0,(AF12*((LOG(AF12))/LOG(2))))","v":-0.34188710667827216},null,{"$f":"N12","v":1212},{"$f":"COUNTIF(L92:L119,AI12)","v":6},{"$f":"AJ12/(AL4-AJ20)","v":0.23076923076923078},{"$f":"IF(AK12=0,0,(AK12*((LOG(AK12))/LOG(2))))","v":-0.48818705017383146},null,{"$f":"N12","v":1212},{"$f":"COUNTIF(L120:L148,AN12)","v":7},{"$f":"AO12/(AQ4-AO20)","v":0.25925925925925924},{"$f":"IF(AP12=0,0,(AP12*((LOG(AP12))/LOG(2))))","v":-0.5049158541015204},null,{"$f":"N12","v":1212},{"$f":"COUNTIF(L149:L176,AS12)","v":4},{"$f":"AT12/(AV4-AT20)","v":0.15384615384615385},{"$f":"IF(AU12=0,0,(AU12*((LOG(AU12))/LOG(2))))","v":-0.4154522643293988}]
[21,907,12,919,24,933,14,950,null,null,0,2121,null,1221,{"$f":"COUNTIF($L$7:$L$500,N13)","v":10},{"$f":"O13/$Q$4","v":5.8823529411764705E-2},{"$f":"IF(P13=0,0,(P13*((LOG(P13))/LOG(2))))","v":-0.24043899066178465},null,null,{"$f":"N13","v":1221},{"$f":"COUNTIF(L7:L34,T13)","v":3},{"$f":"U13/(W4-U20)","v":0.13043478260869565},{"$f":"IF(V13=0,0,(V13*((LOG(V13))/LOG(2))))","v":-0.3832955811307639},null,{"$f":"N13","v":1221},{"$f":"COUNTIF(L35:L63,Y13)","v":1},{"$f":"Z13/(AB4-Z20)","v":0.04},{"$f":"IF(AA13=0,0,(AA13*((LOG(AA13))/LOG(2))))","v":-0.18575424759098899},null,{"$f":"N13","v":1221},{"$f":"COUNTIF(L64:L91,AD13)","v":0},{"$f":"AE13/(AG4-AE20)","v":0},{"$f":"IF(AF13=0,0,(AF13*((LOG(AF13))/LOG(2))))","v":0},null,{"$f":"N13","v":1221},{"$f":"COUNTIF(L92:L119,AI13)","v":2},{"$f":"AJ13/(AL4-AJ20)","v":7.6923076923076927E-2},{"$f":"IF(AK13=0,0,(AK13*((LOG(AK13))/LOG(2))))","v":-0.28464920908777636},null,{"$f":"N13","v":1221},{"$f":"COUNTIF(L120:L148,AN13)","v":2},{"$f":"AO13/(AQ4-AO20)","v":7.407407407407407E-2},{"$f":"IF(AP13=0,0,(AP13*((LOG(AP13))/LOG(2))))","v":-0.27813981497507173},null,{"$f":"N13","v":1221},{"$f":"COUNTIF(L149:L176,AS13)","v":2},{"$f":"AT13/(AV4-AT20)","v":7.6923076923076927E-2},{"$f":"IF(AU13=0,0,(AU13*((LOG(AU13))/LOG(2))))","v":-0.28464920908777636}]
[21,1055,21,1062,22,1072,23,1081,null,null,0,2222,null,1222,{"$f":"COUNTIF($L$7:$L$500,N14)","v":13},{"$f":"O14/$Q$4","v":7.6470588235294124E-2},{"$f":"IF(P14=0,0,(P14*((LOG(P14))/LOG(2))))","v":-0.28362568137621136},null,null,{"$f":"N14","v":1222},{"$f":"COUNTIF(L7:L34,T14)","v":1},{"$f":"U14/(W4-U20)","v":4.3478260869565216E-2},{"$f":"IF(V14=0,0,(V14*((LOG(V14))/LOG(2))))","v":-0.19667660678508753},null,{"$f":"N14","v":1222},{"$f":"COUNTIF(L35:L63,Y14)","v":3},{"$f":"Z14/(AB4-Z20)","v":0.12},{"$f":"IF(AA14=0,0,(AA14*((LOG(AA14))/LOG(2))))","v":-0.36706724268642821},null,{"$f":"N14","v":1222},{"$f":"COUNTIF(L64:L91,AD14)","v":3},{"$f":"AE14/(AG4-AE20)","v":0.15789473684210525},{"$f":"IF(AF14=0,0,(AF14*((LOG(AF14))/LOG(2))))","v":-0.42046815990354147},null,{"$f":"N14","v":1222},{"$f":"COUNTIF(L92:L119,AI14)","v":1},{"$f":"AJ14/(AL4-AJ20)","v":3.8461538461538464E-2},{"$f":"IF(AK14=0,0,(AK14*((LOG(AK14))/LOG(2))))","v":-0.18078614300542661},null,{"$f":"N14","v":1222},{"$f":"COUNTIF(L120:L148,AN14)","v":1},{"$f":"AO14/(AQ4-AO20)","v":3.7037037037037035E-2},{"$f":"IF(AP14=0,0,(AP14*((LOG(AP14))/LOG(2))))","v":-0.1761069445245729},null,{"$f":"N14","v":1222},{"$f":"COUNTIF(L149:L176,AS14)","v":4},{"$f":"AT14/(AV4-AT20)","v":0.15384615384615385},{"$f":"IF(AU14=0,0,(AU14*((LOG(AU14))/LOG(2))))","v":-0.4154522643293988}]
[12,1182,23,1196,13,1210,23,1224,null,null,0,1212,null,2111,{"$f":"COUNTIF($L$7:$L$500,N15)","v":0},{"$f":"O15/$Q$4","v":0},{"$f":"IF(P15=0,0,(P15*((LOG(P15))/LOG(2))))","v":0},null,null,{"$f":"N15","v":2111},{"$f":"COUNTIF(L7:L34,T15)","v":0},{"$f":"U15/(W4-U20)","v":0},{"$f":"IF(V15=0,0,(V15*((LOG(V15))/LOG(2))))","v":0},null,{"$f":"N15","v":2111},{"$f":"COUNTIF(L35:L63,Y15)","v":0},{"$f":"Z15/(AB4-Z20)","v":0},{"$f":"IF(AA15=0,0,(AA15*((LOG(AA15))/LOG(2))))","v":0},null,{"$f":"N15","v":2111},{"$f":"COUNTIF(L64:L91,AD15)","v":0},{"$f":"AE15/(AG4-AE20)","v":0},{"$f":"IF(AF15=0,0,(AF15*((LOG(AF15))/LOG(2))))","v":0},null,{"$f":"N15","v":2111},{"$f":"COUNTIF(L92:L119,AI15)","v":0},{"$f":"AJ15/(AL4-AJ20)","v":0},{"$f":"IF(AK15=0,0,(AK15*((LOG(AK15))/LOG(2))))","v":0},null,{"$f":"N15","v":2111},{"$f":"COUNTIF(L120:L148,AN15)","v":0},{"$f":"AO15/(AQ4-AO20)","v":0},{"$f":"IF(AP15=0,0,(AP15*((LOG(AP15))/LOG(2))))","v":0},null,{"$f":"N15","v":2111},{"$f":"COUNTIF(L149:L176,AS15)","v":0},{"$f":"AT15/(AV4-AT20)","v":0},{"$f":"IF(AU15=0,0,(AU15*((LOG(AU15))/LOG(2))))","v":0}]
[12,1342,14,1351,24,1366,14,1402,null,null,0,1121,null,2112,{"$f":"COUNTIF($L$7:$L$500,N16)","v":3},{"$f":"O16/$Q$4","v":1.7647058823529412E-2},{"$f":"IF(P16=0,0,(P16*((LOG(P16))/LOG(2))))","v":-0.10278403121323315},null,null,{"$f":"N16","v":2112},{"$f":"COUNTIF(L7:L34,T16)","v":0},{"$f":"U16/(W4-U20)","v":0},{"$f":"IF(V16=0,0,(V16*((LOG(V16))/LOG(2))))","v":0},null,{"$f":"N16","v":2112},{"$f":"COUNTIF(L35:L63,Y16)","v":0},{"$f":"Z16/(AB4-Z20)","v":0},{"$f":"IF(AA16=0,0,(AA16*((LOG(AA16))/LOG(2))))","v":0},null,{"$f":"N16","v":2112},{"$f":"COUNTIF(L64:L91,AD16)","v":0},{"$f":"AE16/(AG4-AE20)","v":0},{"$f":"IF(AF16=0,0,(AF16*((LOG(AF16))/LOG(2))))","v":0},null,{"$f":"N16","v":2112},{"$f":"COUNTIF(L92:L119,AI16)","v":1},{"$f":"AJ16/(AL4-AJ20)","v":3.8461538461538464E-2},{"$f":"IF(AK16=0,0,(AK16*((LOG(AK16))/LOG(2))))","v":-0.18078614300542661},null,{"$f":"N16","v":2112},{"$f":"COUNTIF(L120:L148,AN16)","v":0},{"$f":"AO16/(AQ4-AO20)","v":0},{"$f":"IF(AP16=0,0,(AP16*((LOG(AP16))/LOG(2))))","v":0},null,{"$f":"N16","v":2112},{"$f":"COUNTIF(L149:L176,AS16)","v":2},{"$f":"AT16/(AV4-AT20)","v":7.6923076923076927E-2},{"$f":"IF(AU16=0,0,(AU16*((LOG(AU16))/LOG(2))))","v":-0.28464920908777636}]
[21,1515,21,1524,22,1531,23,1542,null,null,0,2222,null,2121,{"$f":"COUNTIF($L$7:$L$500,N17)","v":16},{"$f":"O17/$Q$4","v":9.4117647058823528E-2},{"$f":"IF(P17=0,0,(P17*((LOG(P17))/LOG(2))))","v":-0.32088385281296017},null,null,{"$f":"N17","v":2121},{"$f":"COUNTIF(L7:L34,T17)","v":2},{"$f":"U17/(W4-U20)","v":8.6956521739130432E-2},{"$f":"IF(V17=0,0,(V17*((LOG(V17))/LOG(2))))","v":-0.30639669183104457},null,{"$f":"N17","v":2121},{"$f":"COUNTIF(L35:L63,Y17)","v":2},{"$f":"Z17/(AB4-Z20)","v":0.08},{"$f":"IF(AA17=0,0,(AA17*((LOG(AA17))/LOG(2))))","v":-0.29150849518197797},null,{"$f":"N17","v":2121},{"$f":"COUNTIF(L64:L91,AD17)","v":1},{"$f":"AE17/(AG4-AE20)","v":5.2631578947368418E-2},{"$f":"IF(AF17=0,0,(AF17*((LOG(AF17))/LOG(2))))","v":-0.22357513228650452},null,{"$f":"N17","v":2121},{"$f":"COUNTIF(L92:L119,AI17)","v":4},{"$f":"AJ17/(AL4-AJ20)","v":0.15384615384615385},{"$f":"IF(AK17=0,0,(AK17*((LOG(AK17))/LOG(2))))","v":-0.4154522643293988},null,{"$f":"N17","v":2121},{"$f":"COUNTIF(L120:L148,AN17)","v":4},{"$f":"AO17/(AQ4-AO20)","v":0.14814814814814814},{"$f":"IF(AP17=0,0,(AP17*((LOG(AP17))/LOG(2))))","v":-0.40813148180199532},null,{"$f":"N17","v":2121},{"$f":"COUNTIF(L149:L176,AS17)","v":3},{"$f":"AT17/(AV4-AT20)","v":0.11538461538461539},{"$f":"IF(AU17=0,0,(AU17*((LOG(AU17))/LOG(2))))","v":-0.35947814047153104}]
[12,1642,23,1652,13,1663,23,1677,null,null,0,1212,null,2122,{"$f":"COUNTIF($L$7:$L$500,N18)","v":24},{"$f":"O18/$Q$4","v":0.14117647058823529},{"$f":"IF(P18=0,0,(P18*((LOG(P18))/LOG(2))))","v":-0.39874283794115939},null,null,{"$f":"N18","v":2122},{"$f":"COUNTIF(L7:L34,T18)","v":6},{"$f":"U18/(W4-U20)","v":0.2608695652173913},{"$f":"IF(V18=0,0,(V18*((LOG(V18))/LOG(2))))","v":-0.50572159704413644},null,{"$f":"N18","v":2122},{"$f":"COUNTIF(L35:L63,Y18)","v":7},{"$f":"Z18/(AB4-Z20)","v":0.28000000000000003},{"$f":"IF(AA18=0,0,(AA18*((LOG(AA18))/LOG(2))))","v":-0.51422035496079388},null,{"$f":"N18","v":2122},{"$f":"COUNTIF(L64:L91,AD18)","v":4},{"$f":"AE18/(AG4-AE20)","v":0.21052631578947367},{"$f":"IF(AF18=0,0,(AF18*((LOG(AF18))/LOG(2))))","v":-0.47324789756707064},null,{"$f":"N18","v":2122},{"$f":"COUNTIF(L92:L119,AI18)","v":3},{"$f":"AJ18/(AL4-AJ20)","v":0.11538461538461539},{"$f":"IF(AK18=0,0,(AK18*((LOG(AK18))/LOG(2))))","v":-0.35947814047153104},null,{"$f":"N18","v":2122},{"$f":"COUNTIF(L120:L148,AN18)","v":2},{"$f":"AO18/(AQ4-AO20)","v":7.407407407407407E-2},{"$f":"IF(AP18=0,0,(AP18*((LOG(AP18))/LOG(2))))","v":-0.27813981497507173},null,{"$f":"N18","v":2122},{"$f":"COUNTIF(L149:L176,AS18)","v":2},{"$f":"AT18/(AV4-AT20)","v":7.6923076923076927E-2},{"$f":"IF(AU18=0,0,(AU18*((LOG(AU18))/LOG(2))))","v":-0.28464920908777636}]
[21,1818,21,1829,22,1838,23,1861,null,null,0,2222,null,2211,{"$f":"COUNTIF($L$7:$L$500,N19)","v":3},{"$f":"O19/$Q$4","v":1.7647058823529412E-2},{"$f":"IF(P19=0,0,(P19*((LOG(P19))/LOG(2))))","v":-0.10278403121323315},null,null,{"$f":"N19","v":2211},{"$f":"COUNTIF(L7:L34,T19)","v":0},{"$f":"U19/(W4-U20)","v":0},{"$f":"IF(V19=0,0,(V19*((LOG(V19))/LOG(2))))","v":0},null,{"$f":"N19","v":2211},{"$f":"COUNTIF(L35:L63,Y19)","v":0},{"$f":"Z19/(AB4-Z20)","v":0},{"$f":"IF(AA19=0,0,(AA19*((LOG(AA19))/LOG(2))))","v":0},null,{"$f":"N19","v":2211},{"$f":"COUNTIF(L64:L91,AD19)","v":1},{"$f":"AE19/(AG4-AE20)","v":5.2631578947368418E-2},{"$f":"IF(AF19=0,0,(AF19*((LOG(AF19))/LOG(2))))","v":-0.22357513228650452},null,{"$f":"N19","v":2211},{"$f":"COUNTIF(L92:L119,AI19)","v":0},{"$f":"AJ19/(AL4-AJ20)","v":0},{"$f":"IF(AK19=0,0,(AK19*((LOG(AK19))/LOG(2))))","v":0},null,{"$f":"N19","v":2211},{"$f":"COUNTIF(L120:L148,AN19)","v":1},{"$f":"AO19/(AQ4-AO20)","v":3.7037037037037035E-2},{"$f":"IF(AP19=0,0,(AP19*((LOG(AP19))/LOG(2))))","v":-0.1761069445245729},null,{"$f":"N19","v":2211},{"$f":"COUNTIF(L149:L176,AS19)","v":1},{"$f":"AT19/(AV4-AT20)","v":3.8461538461538464E-2},{"$f":"IF(AU19=0,0,(AU19*((LOG(AU19))/LOG(2))))","v":-0.18078614300542661}]
[21,1966,21,1973,22,1982,23,1995,null,null,0,2222,null,2212,{"$f":"COUNTIF($L$7:$L$500,N20)","v":24},{"$f":"O20/$Q$4","v":0.14117647058823529},{"$f":"IF(P20=0,0,(P20*((LOG(P20))/LOG(2))))","v":-0.39874283794115939},null,null,{"$f":"N20","v":2212},{"$f":"COUNTIF(L7:L34,T20)","v":5},null,null,null,{"$f":"N20","v":2212},{"$f":"COUNTIF(L35:L63,Y20)","v":4},null,null,null,{"$f":"N20","v":2212},{"$f":"COUNTIF(L64:L91,AD20)","v":9},null,null,null,{"$f":"N20","v":2212},{"$f":"COUNTIF(L92:L119,AI20)","v":2},null,null,null,{"$f":"N20","v":2212},{"$f":"COUNTIF(L120:L148,AN20)","v":2},null,null,null,{"$f":"N20","v":2212},{"$f":"COUNTIF(L149:L176,AS20)","v":2}]
[21,2102,12,2115,24,2128,23,2151,null,null,0,2122,null,2221,{"$f":"COUNTIF($L$7:$L$500,N21)","v":8},{"$f":"O21/$Q$4","v":4.7058823529411764E-2},{"$f":"IF(P21=0,0,(P21*((LOG(P21))/LOG(2))))","v":-0.20750074993589185},null,null,{"$f":"N21","v":2221},{"$f":"COUNTIF(L7:L34,T21)","v":0},{"$f":"U21/(W4-U20)","v":0},{"$f":"IF(V21=0,0,(V21*((LOG(V21))/LOG(2))))","v":0},null,{"$f":"N21","v":2221},{"$f":"COUNTIF(L35:L63,Y21)","v":3},{"$f":"Z21/(AB4-Z20)","v":0.12},{"$f":"IF(AA21=0,0,(AA21*((LOG(AA21))/LOG(2))))","v":-0.36706724268642821},null,{"$f":"N21","v":2221},{"$f":"COUNTIF(L64:L91,AD21)","v":2},{"$f":"AE21/(AG4-AE20)","v":0.10526315789473684},{"$f":"IF(AF21=0,0,(AF21*((LOG(AF21))/LOG(2))))","v":-0.34188710667827216},null,{"$f":"N21","v":2221},{"$f":"COUNTIF(L92:L119,AI21)","v":1},{"$f":"AJ21/(AL4-AJ20)","v":3.8461538461538464E-2},{"$f":"IF(AK21=0,0,(AK21*((LOG(AK21))/LOG(2))))","v":-0.18078614300542661},null,{"$f":"N21","v":2221},{"$f":"COUNTIF(L120:L148,AN21)","v":2},{"$f":"AO21/(AQ4-AO20)","v":7.407407407407407E-2},{"$f":"IF(AP21=0,0,(AP21*((LOG(AP21))/LOG(2))))","v":-0.27813981497507173},null,{"$f":"N21","v":2221},{"$f":"COUNTIF(L149:L176,AS21)","v":0},{"$f":"AT21/(AV4-AT20)","v":0},{"$f":"IF(AU21=0,0,(AU21*((LOG(AU21))/LOG(2))))","v":0}]
[21,2261,12,2274,24,2287,23,2297,null,null,0,2122,null,2222,{"$f":"COUNTIF($L$7:$L$500,N22)","v":11},{"$f":"O22/$Q$4","v":6.4705882352941183E-2},{"$f":"IF(P22=0,0,(P22*((LOG(P22))/LOG(2))))","v":-0.25558560289708498},null,null,{"$f":"N22","v":2222},{"$f":"COUNTIF(L7:L34,T22)","v":5},{"$f":"U22/(W4-U20)","v":0.21739130434782608},{"$f":"IF(V22=0,0,(V22*((LOG(V22))/LOG(2))))","v":-0.47861605677601093},null,{"$f":"N22","v":2222},{"$f":"COUNTIF(L35:L63,Y22)","v":1},{"$f":"Z22/(AB4-Z20)","v":0.04},{"$f":"IF(AA22=0,0,(AA22*((LOG(AA22))/LOG(2))))","v":-0.18575424759098899},null,{"$f":"N22","v":2222},{"$f":"COUNTIF(L64:L91,AD22)","v":2},{"$f":"AE22/(AG4-AE20)","v":0.10526315789473684},{"$f":"IF(AF22=0,0,(AF22*((LOG(AF22))/LOG(2))))","v":-0.34188710667827216},null,{"$f":"N22","v":2222},{"$f":"COUNTIF(L92:L119,AI22)","v":2},{"$f":"AJ22/(AL4-AJ20)","v":7.6923076923076927E-2},{"$f":"IF(AK22=0,0,(AK22*((LOG(AK22))/LOG(2))))","v":-0.28464920908777636},null,{"$f":"N22","v":2222},{"$f":"COUNTIF(L120:L148,AN22)","v":0},{"$f":"AO22/(AQ4-AO20)","v":0},{"$f":"IF(AP22=0,0,(AP22*((LOG(AP22))/LOG(2))))","v":0},null,{"$f":"N22","v":2222},{"$f":"COUNTIF(L149:L176,AS22)","v":1},{"$f":"AT22/(AV4-AT20)","v":3.8461538461538464E-2},{"$f":"IF(AU22=0,0,(AU22*((LOG(AU22))/LOG(2))))","v":-0.18078614300542661}]
[12,2405,23,2415,24,2424,14,2437,null,null,0,1221,null,null,null,{"$f":"SUM(P7:P22)","v":1.0000000000000002},{"$f":"-SUM(Q7:Q22)","v":3.5472713079215987},null,null,null,null,{"$f":"SUM(V7:V22)","v":0.99999999999999989},{"$f":"-SUM(W7:W22)","v":2.7570754133139399},null,null,null,{"$f":"SUM(AA7:AA22)","v":1},{"$f":"-SUM(AB7:AB22)","v":2.8872103113389795},null,null,null,{"$f":"SUM(AF7:AF22)","v":1},{"$f":"-SUM(AG7:AG22)","v":3.1555650133297188},null,null,null,{"$f":"SUM(AK7:AK22)","v":1},{"$f":"-SUM(AL7:AL22)","v":3.1996877947313278},null,null,null,{"$f":"SUM(AP7:AP22)","v":1},{"$f":"-SUM(AQ7:AQ22)","v":3.036132985253591},null,null,null,{"$f":"SUM(AU7:AU22)","v":1},{"$f":"-SUM(AV7:AV22)","v":3.4116022179746714}]
[12,2542,23,2556,24,2562,23,2568,null,null,0,1222,null,null,null,"U=",{"$f":"Q23/(LOG(Q4)/LOG(2))","v":0.4787534277103061},null,null,null,null,"U1=",{"$f":"W23/(LOG(W4)/LOG(2))","v":0.57351193286429525},null,null,null,"U2=",{"$f":"AB23/(LOG(AB4)/LOG(2))","v":0.59432309723623378},null,null,null,"U3=",{"$f":"AG23/(LOG(AG4)/LOG(2))","v":0.65640358668985077},null,null,null,"U4=",{"$f":"AL23/(LOG(AL4)/LOG(2))","v":0.66558176931147495},null,null,null,"U5=",{"$f":"AQ23/(LOG(AQ4)/LOG(2))","v":0.62497835794309464},null,null,null,"U6=",{"$f":"AV23/(LOG(AV4)/LOG(2))","v":0.7096630628042887}]
[12,2684,23,2699,24,2708,14,2737,null,null,0,1221]
[21,2854,21,2863,11,2875,21,2890,null,null,0,2212]
[21,2984,21,2992,11,3007,21,3017,null,null,0,2212,null,"Total Target Seq"]
[21,3113,21,3118,11,3130,21,3140,null,null,0,2212,null,{"$f":"COUNTIF(L7:L176,G3)","v":24},null,28,29,28,28,29,28]
[21,3231,21,3238,11,3251,21,3263,null,null,0,2212,null,null,null,"% of reinforcement given in 6 equal intervals based on number of trials "]
[21,3361,12,3373,24,3386,14,3399,null,null,0,2121,null,null,null,"%_1","%_2","%_3","%_4","%_5","%_6"]
[21,3503,12,3515,24,3527,23,3536,null,null,0,2122,null,null,"target sequence",{"$f":"$G$3","v":2212},{"$f":"$G$3","v":2212},{"$f":"$G$3","v":2212},{"$f":"$G$3","v":2212},{"$f":"$G$3","v":2212},{"$f":"$G$3","v":2212}]
[12,3637,23,3653,13,3664,14,3675,null,null,0,1211,null,null,"total reinforcement",{"$f":"U20","v":5},{"$f":"Z20","v":4},{"$f":"AE20","v":9},{"$f":"AJ20","v":2},{"$f":"AO20","v":2},{"$f":"AT20","v":2}]
[21,3766,12,3780,24,3793,23,3802,null,null,0,2122,null,null,"% target"]
[21,3903,21,3911,22,3920,23,3928,null,null,0,2222,null,null,"CCRF"]
[21,4037,21,4042,11,4056,21,4069,null,null,0,2212,null,null,"% CCRf"]
[21,4179,12,4191,24,4204,23,4216,null,null,0,2122,null,null,"average response rate",{"$f":"H34/P28","v":140.28571428571428},{"$f":"(H63-H34)/Q28","v":142.48275862068965},{"$f":"(H91-H63)/R28","v":140.42857142857142},{"$f":"(H119-H91)/S28","v":138.85714285714286},{"$f":"(H148-H119)/T28","v":140.72413793103448},{"$f":"(H176-H148)/U28","v":143.03571428571428}]
[12,4319,23,4331,13,4343,23,4356,null,null,0,1212]
[21,4464,12,4473,24,4486,23,4495,null,null,0,2122]
[12,4595,14,4604,24,4615,23,4624,null,null,0,1122]
[21,4729,21,4737,22,4746,14,4759,null,null,0,2221]
[12,4868,14,4879,24,4896,23,4905,null,null,0,1122]
[12,5011,23,5022,13,5035,23,5049,null,null,0,1212]
[21,5159,21,5177,11,5189,21,5204,null,null,0,2212]
[21,5296,21,5316,22,5324,14,5336,null,null,0,2221]
[21,5450,21,5459,11,5471,21,5483,null,null,0,2212]
[21,5582,12,5594,24,5606,23,5615,null,null,0,2122]
[21,5719,12,5729,24,5739,23,5748,null,null,0,2122]
[21,5857,12,5866,24,5879,23,5889,null,null,0,2122]
[12,5988,14,5998,24,6011,23,6024,null,null,0,1122]
[12,6136,23,6146,24,6154,23,6165,null,null,0,1222]
[12,6266,23,6279,24,6289,23,6297,null,null,0,1222]
[12,6404,23,6418,24,6428,23,6437,null,null,0,1222]
[21,6548,21,6575,11,6588,21,6613,null,null,0,2212]
[12,6703,23,6712,13,6724,23,6736,null,null,0,1212]
[21,6846,12,6859,24,6871,23,6881,null,null,0,2122]
[21,6989,12,6997,24,7010,23,7018,null,null,0,2122]
[12,7121,14,7130,24,7142,14,7174,null,null,0,1121]
[21,7278,21,7283,22,7288,14,7300,null,null,0,2221]
[21,7403,12,7417,24,7440,14,7452,null,null,0,2121]
[21,7555,12,7570,24,7584,14,7610,null,null,0,2121]
[12,7713,14,7732,24,7742,23,7773,null,null,0,1122]
[21,7892,21,7899,22,7908,23,7922,null,null,0,2222]
[12,8029,23,8039,24,8047,14,8060,null,null,0,1221]
[12,8172,14,8184,24,8197,14,8214,null,null,0,1121]
[21,8342,21,8354,22,8364,23,8379,null,null,0,2222]
[21,8479,12,8497,24,8509,14,8525,null,null,0,2121]
[21,8627,21,8636,11,8649,21,8661,null,null,0,2212]
[21,8756,21,8763,11,8780,21,8792,null,null,0,2212]
[21,8891,21,8902,11,8914,21,8927,null,null,0,2212]
[21,9025,21,9033,11,9044,12,9089,null,null,0,2211]
[21,9178,21,9183,11,9194,21,9214,null,null,0,2212]
[12,9302,14,9307,13,9315,14,9324,null,null,0,1111]
[12,9428,23,9439,24,9449,23,9457,null,null,0,1222]
[21,9577,21,9585,11,9599,21,9612,null,null,0,2212]
[21,9707,21,9715,11,9727,21,9736,null,null,0,2212]
[12,9826,23,9835,13,9848,23,9860,null,null,0,1212]
[12,9958,23,9973,13,9984,23,9996,null,null,0,1212]
[21,10102,12,10112,24,10126,23,10152,null,null,0,2122]
[21,10262,21,10270,11,10282,21,10295,null,null,0,2212]
[21,10395,21,10403,22,10411,14,10423,null,null,0,2221]
[12,10527,23,10540,24,10559,23,10567,null,null,0,1222]
[21,10673,12,10685,24,10698,23,10706,null,null,0,2122]
[21,10816,21,10825,11,10836,21,10848,null,null,0,2212]
[21,10937,12,10946,24,10958,23,10966,null,null,0,2122]
[21,11071,12,11080,24,11093,23,11110,null,null,0,2122]
[21,11222,21,11230,22,11238,14,11251,null,null,0,2221]
[21,11366,21,11375,22,11383,23,11391,null,null,0,2222]
[21,11504,21,11513,11,11525,21,11537,null,null,0,2212]
[12,11640,14,11649,24,11661,14,11704,null,null,0,1121]
[12,11827,23,11839,24,11848,23,11859,null,null,0,1222]
[12,11958,14,11967,24,11977,23,11992,null,null,0,1122]
[12,12092,23,12103,13,12115,23,12127,null,null,0,1212]
[21,12239,21,12247,22,12255,23,12263,null,null,0,2222]
[12,12363,14,12374,24,12387,23,12395,null,null,0,1122]
[12,12496,23,12506,13,12518,23,12540,null,null,0,1212]
[21,12641,21,12659,22,12668,14,12681,null,null,0,2221]
[12,12784,23,12794,24,12801,14,12814,null,null,0,1221]
[12,12917,23,12928,24,12934,23,12942,null,null,0,1222]
[21,13051,21,13059,11,13069,21,13081,null,null,0,2212]
[21,13176,21,13182,11,13194,21,13207,null,null,0,2212]
[21,13310,21,13319,22,13327,23,13336,null,null,0,2222]
[12,13438,23,13447,13,13459,23,13471,null,null,0,1212]
[21,13579,12,13593,24,13604,23,13612,null,null,0,2122]
[12,13712,14,13724,24,13739,14,13752,null,null,0,1121]
[21,13866,12,13879,24,13892,23,13902,null,null,0,2122]
[21,14005,12,14018,24,14027,14,14039,null,null,0,2121]
[12,14150,23,14159,24,14167,14,14180,null,null,0,1221]
[12,14281,14,14292,24,14306,23,14315,null,null,0,1122]
[21,14423,12,14434,13,14458,23,14470,null,null,0,2112]
[21,14572,12,14584,24,14595,14,14606,null,null,0,2121]
[12,14708,14,14717,13,14727,23,14741,null,null,0,1112]
[21,14849,12,14862,24,14874,14,14885,null,null,0,2121]
[21,14988,12,14997,24,15010,14,15023,null,null,0,2121]
[21,15124,12,15133,24,15146,23,15155,null,null,0,2122]
[12,15253,23,15269,13,15282,23,15303,null,null,0,1212]
[12,15405,14,15418,24,15428,14,15440,null,null,0,1121]
[12,15543,14,15556,24,15566,14,15579,null,null,0,1121]
[12,15681,23,15691,13,15703,23,15739,null,null,0,1212]
[12,15843,23,15854,13,15867,23,15880,null,null,0,1212]
[12,15983,14,15997,24,16008,14,16020,null,null,0,1121]
[12,16124,23,16134,13,16145,23,16158,null,null,0,1212]
[12,16269,23,16282,24,16289,23,16305,null,null,0,1222]
[21,16410,12,16422,24,16432,14,16444,null,null,0,2121]
[12,16562,23,16575,13,16587,23,16599,null,null,0,1212]
[21,16700,21,16716,22,16735,14,16747,null,null,0,2221]
[12,16851,14,16860,24,16871,14,16883,null,null,0,1121]
[12,16984,23,16995,13,17005,23,17021,null,null,0,1212]
[12,17127,23,17139,24,17148,14,17161,null,null,0,1221]
[12,17266,14,17275,13,17282,23,17297,null,null,0,1112]
[21,17399,21,17405,11,17413,21,17427,null,null,0,2212]
[21,17519,21,17524,22,17529,14,17541,null,null,0,2221]
[12,17645,23,17654,13,17666,14,17674,null,null,0,1211]
[12,17777,14,17781,24,17793,14,17822,null,null,0,1121]
[12,17931,23,17940,13,17952,23,17972,null,null,0,1212]
[12,18081,23,18091,13,18102,23,18113,null,null,0,1212]
[12,18220,23,18231,13,18243,23,18256,null,null,0,1212]
[21,18376,21,18383,11,18396,12,18405,null,null,0,2211]
[21,18508,21,18525,11,18537,21,18558,null,null,0,2212]
[12,18660,23,18670,24,18678,14,18689,null,null,0,1221]
[21,18788,12,18798,24,18811,14,18831,null,null,0,2121]
[21,18937,12,18946,24,18955,14,18967,null,null,0,2121]
[12,19069,14,19079,13,19087,23,19096,null,null,0,1112]
[12,19204,23,19212,13,19224,23,19236,null,null,0,1212]
[21,19343,12,19352,24,19363,23,19371,null,null,0,2122]
[21,19485,12,19498,24,19511,14,19561,null,null,0,2121]
[12,19662,14,19670,24,19681,14,19692,null,null,0,1121]
[12,19795,14,19800,13,19808,23,19828,null,null,0,1112]
[21,19929,12,19941,24,19952,23,19961,null,null,0,2122]
[21,20063,12,20074,13,20098,23,20119,null,null,0,2112]
[21,20220,12,20231,24,20242,23,20250,null,null,0,2122]
[12,20354,23,20366,24,20374,14,20386,null,null,0,1221]
[12,20487,23,20499,24,20504,23,20515,null,null,0,1222]
[12,20617,23,20629,24,20636,23,20662,null,null,0,1222]
[12,20763,14,20779,24,20792,14,20804,null,null,0,1121]
[12,20906,23,20919,24,20944,23,20969,null,null,0,1222]
[21,21070,12,21079,24,21089,23,21113,null,null,0,2122]
[12,21220,23,21230,13,21240,23,21256,null,null,0,1212]
[21,21356,12,21374,24,21383,14,21395,null,null,0,2121]
[12,21496,14,21505,24,21515,23,21531,null,null,0,1122]
[12,21632,14,21641,24,21651,23,21659,null,null,0,1122]
[12,21764,14,21772,24,21814,14,21828,null,null,0,1121]
[12,21927,14,21935,24,21945,14,21957,null,null,0,1121]
[12,22062,23,22071,13,22080,14,22089,null,null,0,1211]
[21,22197,21,22202,11,22213,12,22258,null,null,0,2211]
[21,22384,12,22397,13,22423,23,22436,null,null,0,2112]
[12,22554,23,22567,24,22575,14,22588,null,null,0,1221]
[21,22697,12,22706,24,22715,14,22728,null,null,0,2121]
[21,22830,21,22838,11,22859,21,22871,null,null,0,2212]
[12,22968,14,22978,13,22987,23,23000,null,null,0,1112]
[21,23099,21,23121,11,23133,21,23146,null,null,0,2212]
[21,23235,21,23242,22,23247,23,23255,null,null,0,2222]
[12,23366,23,23375,24,23383,23,23391,null,null,0,1222]
[12,23495,23,23505,13,23517,23,23530,null,null,0,1212]
[12,23631,23,23644,13,23657,23,23686,null,null,0,1212]
[21,23787,12,23799,24,23808,14,23821,null,null,0,2121]
[12,23925,23,23935,13,23947,23,23966,null,null,null,1212]

{"sheet":"!MB21800.091","index":16,"n_rows":129,"n_cols":48,"rows_kept":129,"cut":false,"hidden":false,"merged":[[4,39,4,42],[5,39,5,40],[4,44,4,47],[5,44,5,45],[4,24,4,27],[5,24,5,25],[4,29,4,32],[5,29,5,30],[4,34,4,37],[5,34,5,35],[1,1,1,2],[5,13,5,14],[26,13,26,14],[27,13,27,14],[4,19,4,22],[5,19,5,20]]}
["Report for:!MB21800.091"]
["Date:","<date>"]
["Hen:","<hen>",null,null,null,"Correct Sequence",{"$f":"Start!J2","v":2212},null,null,null,null,null,null,null,null,"Total Sequences in Data",{"$f":"4994-COUNTBLANK(L7:L5000)","v":123},null,null,null,null,"Total Sequences in Block Data",{"$f":"COUNTA(L7:L27)","v":21},null,null,null,"Total Sequences in Block Data",{"$f":"COUNTA(L28:L47)","v":20},null,null,null,"Total Sequences in Block Data",{"$f":"COUNTA(L48:L68)","v":21},null,null,null,"Total Sequences in Block Data",{"$f":"COUNTA(L69:L88)","v":20},null,null,null,"Total Sequences in Block Data",{"$f":"COUNTA(L89:L109)","v":21},null,null,null,"Total Sequences in Block Data",{"$f":"COUNTA(L110:L129)","v":20}]
[null,null,null,null,null,null,null,null,null,null,null,null,null,null,null,"Total Sequences in Summary",{"$f":"SUM(O7:O22)","v":123},null,null,null,null,"Total Sequences in Block Summary",{"$f":"SUM(U7:U22)","v":21},null,null,null,"Total Sequences in Block Summary",{"$f":"SUM(Z7:Z22)","v":20},null,null,null,"Total Sequences in Block Summary",{"$f":"SUM(AE7:AE22)","v":21},null,null,null,"Total Sequences in Block Summary",{"$f":"SUM(AJ7:AJ22)","v":20},null,null,null,"Total Sequences in Block Summary",{"$f":"SUM(AO7:AO22)","v":21},null,null,null,"Total Sequences in Block Summary",{"$f":"SUM(AT7:AT22)","v":20}]
[null,null,null,null,null,null,null,null,null,null,null,null,null,null,null,null,null,null,null,"Block 1",null,null,null,null,"Block 2",null,null,null,null,"Block 3",null,null,null,null,"Block 4",null,null,null,null,"Block 5",null,null,null,null,"Block 6"]
["Sequence\nComponent\n1","Time\n1","Sequence\nComponent\n2","Time\n2","Sequence\nComponent\n3","Time\n3","Sequence\nComponent\n4","Time\n4","Sequence\nComponent\n5","Time\n5","Correct?\n0=No 1=Yes","Sequence",null,"Frequency",null,"Relative Frequency","Variability",null,null,"Frequency",null,"Relative Frequency","Variability",null,"Frequency",null,"Relative Frequency","Variability",null,"Frequency",null,"Relative Frequency","Variability",null,"Frequency",null,"Relative Frequency","Variability",null,"Frequency",null,"Relative Frequency","Variability",null,"Frequency",null,"Relative Frequency","Variability"]
[12,6401,14,6418,13,6452,14,6483,null,null,0,1111,null,1111,{"$f":"COUNTIF($L$7:$L$500,N7)","v":2},{"$f":"O7/$Q$4","v":1.6260162601626018E-2},{"$f":"IF(P7=0,0,(P7*((LOG(P7))/LOG(2))))","v":-9.662625211933723E-2},null,null,{"$f":"N7","v":1111},{"$f":"COUNTIF(L7:L27,T7)","v":1},{"$f":"U7/(W4-U20)","v":5.2631578947368418E-2},{"$f":"IF(V7=0,0,(V7*((LOG(V7))/LOG(2))))","v":-0.22357513228650452},null,{"$f":"N7","v":1111},{"$f":"COUNTIF(L28:L47,Y7)","v":0},{"$f":"Z7/(AB4-Z20)","v":0},{"$f":"IF(AA7=0,0,(AA7*((LOG(AA7))/LOG(2))))","v":0},null,{"$f":"N7","v":1111},{"$f":"COUNTIF(L48:L68,AD7)","v":0},{"$f":"AE7/(AG4-AE20)","v":0},{"$f":"IF(AF7=0,0,(AF7*((LOG(AF7))/LOG(2))))","v":0},null,{"$f":"N7","v":1111},{"$f":"COUNTIF(L69:L88,AI7)","v":1},{"$f":"AJ7/(AL4-AJ20)","v":5.2631578947368418E-2},{"$f":"IF(AK7=0,0,(AK7*((LOG(AK7))/LOG(2))))","v":-0.22357513228650452},null,{"$f":"N7","v":1111},{"$f":"COUNTIF(L89:L109,AN7)","v":0},{"$f":"AO7/(AQ4-AO20)","v":0},{"$f":"IF(AP7=0,0,(AP7*((LOG(AP7))/LOG(2))))","v":0},null,{"$f":"N7","v":1111},{"$f":"COUNTIF(L110:L129,AS7)","v":0},{"$f":"AT7/(AV4-AT20)","v":0},{"$f":"IF(AU7=0,0,(AU7*((LOG(AU7))/LOG(2))))","v":0}]
[21,6592,12,6605,24,6618,14,6632,null,null,0,2121,null,1112,{"$f":"COUNTIF($L$7:$L$500,N8)","v":4},{"$f":"O8/$Q$4","v":3.2520325203252036E-2},{"$f":"IF(P8=0,0,(P8*((LOG(P8))/LOG(2))))","v":-0.16073217903542245},null,null,{"$f":"N8","v":1112},{"$f":"COUNTIF(L7:L27,T8)","v":0},{"$f":"U8/(W4-U20)","v":0},{"$f":"IF(V8=0,0,(V8*((LOG(V8))/LOG(2))))","v":0},null,{"$f":"N8","v":1112},{"$f":"COUNTIF(L28:L47,Y8)","v":1},{"$f":"Z8/(AB4-Z20)","v":5.8823529411764705E-2},{"$f":"IF(AA8=0,0,(AA8*((LOG(AA8))/LOG(2))))","v":-0.24043899066178465},null,{"$f":"N8","v":1112},{"$f":"COUNTIF(L48:L68,AD8)","v":0},{"$f":"AE8/(AG4-AE20)","v":0},{"$f":"IF(AF8=0,0,(AF8*((LOG(AF8))/LOG(2))))","v":0},null,{"$f":"N8","v":1112},{"$f":"COUNTIF(L69:L88,AI8)","v":2},{"$f":"AJ8/(AL4-AJ20)","v":0.10526315789473684},{"$f":"IF(AK8=0,0,(AK8*((LOG(AK8))/LOG(2))))","v":-0.34188710667827216},null,{"$f":"N8","v":1112},{"$f":"COUNTIF(L89:L109,AN8)","v":1},{"$f":"AO8/(AQ4-AO20)","v":5.8823529411764705E-2},{"$f":"IF(AP8=0,0,(AP8*((LOG(AP8))/LOG(2))))","v":-0.24043899066178465},null,{"$f":"N8","v":1112},{"$f":"COUNTIF(L110:L129,AS8)","v":0},{"$f":"AT8/(AV4-AT20)","v":0},{"$f":"IF(AU8=0,0,(AU8*((LOG(AU8))/LOG(2))))","v":0}]
[12,6745,14,6757,24,6767,14,6780,null,null,0,1121,null,1121,{"$f":"COUNTIF($L$7:$L$500,N9)","v":11},{"$f":"O9/$Q$4","v":8.943089430894309E-2},{"$f":"IF(P9=0,0,(P9*((LOG(P9))/LOG(2))))","v":-0.31149521750992981},null,null,{"$f":"N9","v":1121},{"$f":"COUNTIF(L7:L27,T9)","v":3},{"$f":"U9/(W4-U20)","v":0.15789473684210525},{"$f":"IF(V9=0,0,(V9*((LOG(V9))/LOG(2))))","v":-0.42046815990354147},null,{"$f":"N9","v":1121},{"$f":"COUNTIF(L28:L47,Y9)","v":2},{"$f":"Z9/(AB4-Z20)","v":0.11764705882352941},{"$f":"IF(AA9=0,0,(AA9*((LOG(AA9))/LOG(2))))","v":-0.36323092250003997},null,{"$f":"N9","v":1121},{"$f":"COUNTIF(L48:L68,AD9)","v":2},{"$f":"AE9/(AG4-AE20)","v":0.125},{"$f":"IF(AF9=0,0,(AF9*((LOG(AF9))/LOG(2))))","v":-0.375},null,{"$f":"N9","v":1121},{"$f":"COUNTIF(L69:L88,AI9)","v":3},{"$f":"AJ9/(AL4-AJ20)","v":0.15789473684210525},{"$f":"IF(AK9=0,0,(AK9*((LOG(AK9))/LOG(2))))","v":-0.42046815990354147},null,{"$f":"N9","v":1121},{"$f":"COUNTIF(L89:L109,AN9)","v":0},{"$f":"AO9/(AQ4-AO20)","v":0},{"$f":"IF(AP9=0,0,(AP9*((LOG(AP9))/LOG(2))))","v":0},null,{"$f":"N9","v":1121},{"$f":"COUNTIF(L110:L129,AS9)","v":1},{"$f":"AT9/(AV4-AT20)","v":7.1428571428571425E-2},{"$f":"IF(AU9=0,0,(AU9*((LOG(AU9))/LOG(2))))","v":-0.27195392300411453}]
[21,6889,12,6905,24,6927,14,6944,null,null,0,2121,null,1122,{"$f":"COUNTIF($L$7:$L$500,N10)","v":9},{"$f":"O10/$Q$4","v":7.3170731707317069E-2},{"$f":"IF(P10=0,0,(P10*((LOG(P10))/LOG(2))))","v":-0.27604313443148248},null,null,{"$f":"N10","v":1122},{"$f":"COUNTIF(L7:L27,T10)","v":1},{"$f":"U10/(W4-U20)","v":5.2631578947368418E-2},{"$f":"IF(V10=0,0,(V10*((LOG(V10))/LOG(2))))","v":-0.22357513228650452},null,{"$f":"N10","v":1122},{"$f":"COUNTIF(L28:L47,Y10)","v":1},{"$f":"Z10/(AB4-Z20)","v":5.8823529411764705E-2},{"$f":"IF(AA10=0,0,(AA10*((LOG(AA10))/LOG(2))))","v":-0.24043899066178465},null,{"$f":"N10","v":1122},{"$f":"COUNTIF(L48:L68,AD10)","v":2},{"$f":"AE10/(AG4-AE20)","v":0.125},{"$f":"IF(AF10=0,0,(AF10*((LOG(AF10))/LOG(2))))","v":-0.375},null,{"$f":"N10","v":1122},{"$f":"COUNTIF(L69:L88,AI10)","v":2},{"$f":"AJ10/(AL4-AJ20)","v":0.10526315789473684},{"$f":"IF(AK10=0,0,(AK10*((LOG(AK10))/LOG(2))))","v":-0.34188710667827216},null,{"$f":"N10","v":1122},{"$f":"COUNTIF(L89:L109,AN10)","v":2},{"$f":"AO10/(AQ4-AO20)","v":0.11764705882352941},{"$f":"IF(AP10=0,0,(AP10*((LOG(AP10))/LOG(2))))","v":-0.36323092250003997},null,{"$f":"N10","v":1122},{"$f":"COUNTIF(L110:L129,AS10)","v":1},{"$f":"AT10/(AV4-AT20)","v":7.1428571428571425E-2},{"$f":"IF(AU10=0,0,(AU10*((LOG(AU10))/LOG(2))))","v":-0.27195392300411453}]
[21,7053,12,7066,24,7076,14,7090,null,null,0,2121,null,1211,{"$f":"COUNTIF($L$7:$L$500,N11)","v":1},{"$f":"O11/$Q$4","v":8.130081300813009E-3},{"$f":"IF(P11=0,0,(P11*((LOG(P11))/LOG(2))))","v":-5.6443207360481633E-2},null,null,{"$f":"N11","v":1211},{"$f":"COUNTIF(L7:L27,T11)","v":0},{"$f":"U11/(W4-U20)","v":0},{"$f":"IF(V11=0,0,(V11*((LOG(V11))/LOG(2))))","v":0},null,{"$f":"N11","v":1211},{"$f":"COUNTIF(L28:L47,Y11)","v":1},{"$f":"Z11/(AB4-Z20)","v":5.8823529411764705E-2},{"$f":"IF(AA11=0,0,(AA11*((LOG(AA11))/LOG(2))))","v":-0.24043899066178465},null,{"$f":"N11","v":1211},{"$f":"COUNTIF(L48:L68,AD11)","v":0},{"$f":"AE11/(AG4-AE20)","v":0},{"$f":"IF(AF11=0,0,(AF11*((LOG(AF11))/LOG(2))))","v":0},null,{"$f":"N11","v":1211},{"$f":"COUNTIF(L69:L88,AI11)","v":0},{"$f":"AJ11/(AL4-AJ20)","v":0},{"$f":"IF(AK11=0,0,(AK11*((LOG(AK11))/LOG(2))))","v":0},null,{"$f":"N11","v":1211},{"$f":"COUNTIF(L89:L109,AN11)","v":0},{"$f":"AO11/(AQ4-AO20)","v":0},{"$f":"IF(AP11=0,0,(AP11*((LOG(AP11))/LOG(2))))","v":0},null,{"$f":"N11","v":1211},{"$f":"COUNTIF(L110:L129,AS11)","v":0},{"$f":"AT11/(AV4-AT20)","v":0},{"$f":"IF(AU11=0,0,(AU11*((LOG(AU11))/LOG(2))))","v":0}]
[21,7196,12,7210,24,7223,14,7237,null,null,0,2121,null,1212,{"$f":"COUNTIF($L$7:$L$500,N12)","v":8},{"$f":"O12/$Q$4","v":6.5040650406504072E-2},{"$f":"IF(P12=0,0,(P12*((LOG(P12))/LOG(2))))","v":-0.25642370766434081},null,null,{"$f":"N12","v":1212},{"$f":"COUNTIF(L7:L27,T12)","v":0},{"$f":"U12/(W4-U20)","v":0},{"$f":"IF(V12=0,0,(V12*((LOG(V12))/LOG(2))))","v":0},null,{"$f":"N12","v":1212},{"$f":"COUNTIF(L28:L47,Y12)","v":0},{"$f":"Z12/(AB4-Z20)","v":0},{"$f":"IF(AA12=0,0,(AA12*((LOG(AA12))/LOG(2))))","v":0},null,{"$f":"N12","v":1212},{"$f":"COUNTIF(L48:L68,AD12)","v":2},{"$f":"AE12/(AG4-AE20)","v":0.125},{"$f":"IF(AF12=0,0,(AF12*((LOG(AF12))/LOG(2))))","v":-0.375},null,{"$f":"N12","v":1212},{"$f":"COUNTIF(L69:L88,AI12)","v":3},{"$f":"AJ12/(AL4-AJ20)","v":0.15789473684210525},{"$f":"IF(AK12=0,0,(AK12*((LOG(AK12))/LOG(2))))","v":-0.42046815990354147},null,{"$f":"N12","v":1212},{"$f":"COUNTIF(L89:L109,AN12)","v":1},{"$f":"AO12/(AQ4-AO20)","v":5.8823529411764705E-2},{"$f":"IF(AP12=0,0,(AP12*((LOG(AP12))/LOG(2))))","v":-0.24043899066178465},null,{"$f":"N12","v":1212},{"$f":"COUNTIF(L110:L129,AS12)","v":2},{"$f":"AT12/(AV4-AT20)","v":0.14285714285714285},{"$f":"IF(AU12=0,0,(AU12*((LOG(AU12))/LOG(2))))","v":-0.40105070315108626}]
[21,7355,21,7363,11,7379,12,7420,null,null,0,2211,null,1221,{"$f":"COUNTIF($L$7:$L$500,N13)","v":5},{"$f":"O13/$Q$4","v":4.065040650406504E-2},{"$f":"IF(P13=0,0,(P13*((LOG(P13))/LOG(2))))","v":-0.18782871587202751},null,null,{"$f":"N13","v":1221},{"$f":"COUNTIF(L7:L27,T13)","v":0},{"$f":"U13/(W4-U20)","v":0},{"$f":"IF(V13=0,0,(V13*((LOG(V13))/LOG(2))))","v":0},null,{"$f":"N13","v":1221},{"$f":"COUNTIF(L28:L47,Y13)","v":3},{"$f":"Z13/(AB4-Z20)","v":0.17647058823529413},{"$f":"IF(AA13=0,0,(AA13*((LOG(AA13))/LOG(2))))","v":-0.44161770715220888},null,{"$f":"N13","v":1221},{"$f":"COUNTIF(L48:L68,AD13)","v":0},{"$f":"AE13/(AG4-AE20)","v":0},{"$f":"IF(AF13=0,0,(AF13*((LOG(AF13))/LOG(2))))","v":0},null,{"$f":"N13","v":1221},{"$f":"COUNTIF(L69:L88,AI13)","v":1},{"$f":"AJ13/(AL4-AJ20)","v":5.2631578947368418E-2},{"$f":"IF(AK13=0,0,(AK13*((LOG(AK13))/LOG(2))))","v":-0.22357513228650452},null,{"$f":"N13","v":1221},{"$f":"COUNTIF(L89:L109,AN13)","v":1},{"$f":"AO13/(AQ4-AO20)","v":5.8823529411764705E-2},{"$f":"IF(AP13=0,0,(AP13*((LOG(AP13))/LOG(2))))","v":-0.24043899066178465},null,{"$f":"N13","v":1221},{"$f":"COUNTIF(L110:L129,AS13)","v":0},{"$f":"AT13/(AV4-AT20)","v":0},{"$f":"IF(AU13=0,0,(AU13*((LOG(AU13))/LOG(2))))","v":0}]
[12,7527,14,7536,24,7546,14,7559,null,null,0,1121,null,1222,{"$f":"COUNTIF($L$7:$L$500,N14)","v":2},{"$f":"O14/$Q$4","v":1.6260162601626018E-2},{"$f":"IF(P14=0,0,(P14*((LOG(P14))/LOG(2))))","v":-9.662625211933723E-2},null,null,{"$f":"N14","v":1222},{"$f":"COUNTIF(L7:L27,T14)","v":0},{"$f":"U14/(W4-U20)","v":0},{"$f":"IF(V14=0,0,(V14*((LOG(V14))/LOG(2))))","v":0},null,{"$f":"N14","v":1222},{"$f":"COUNTIF(L28:L47,Y14)","v":1},{"$f":"Z14/(AB4-Z20)","v":5.8823529411764705E-2},{"$f":"IF(AA14=0,0,(AA14*((LOG(AA14))/LOG(2))))","v":-0.24043899066178465},null,{"$f":"N14","v":1222},{"$f":"COUNTIF(L48:L68,AD14)","v":0},{"$f":"AE14/(AG4-AE20)","v":0},{"$f":"IF(AF14=0,0,(AF14*((LOG(AF14))/LOG(2))))","v":0},null,{"$f":"N14","v":1222},{"$f":"COUNTIF(L69:L88,AI14)","v":0},{"$f":"AJ14/(AL4-AJ20)","v":0},{"$f":"IF(AK14=0,0,(AK14*((LOG(AK14))/LOG(2))))","v":0},null,{"$f":"N14","v":1222},{"$f":"COUNTIF(L89:L109,AN14)","v":0},{"$f":"AO14/(AQ4-AO20)","v":0},{"$f":"IF(AP14=0,0,(AP14*((LOG(AP14))/LOG(2))))","v":0},null,{"$f":"N14","v":1222},{"$f":"COUNTIF(L110:L129,AS14)","v":1},{"$f":"AT14/(AV4-AT20)","v":7.1428571428571425E-2},{"$f":"IF(AU14=0,0,(AU14*((LOG(AU14))/LOG(2))))","v":-0.27195392300411453}]
[21,7673,21,7697,11,7721,21,7737,null,null,0,2212,null,2111,{"$f":"COUNTIF($L$7:$L$500,N15)","v":2},{"$f":"O15/$Q$4","v":1.6260162601626018E-2},{"$f":"IF(P15=0,0,(P15*((LOG(P15))/LOG(2))))","v":-9.662625211933723E-2},null,null,{"$f":"N15","v":2111},{"$f":"COUNTIF(L7:L27,T15)","v":0},{"$f":"U15/(W4-U20)","v":0},{"$f":"IF(V15=0,0,(V15*((LOG(V15))/LOG(2))))","v":0},null,{"$f":"N15","v":2111},{"$f":"COUNTIF(L28:L47,Y15)","v":1},{"$f":"Z15/(AB4-Z20)","v":5.8823529411764705E-2},{"$f":"IF(AA15=0,0,(AA15*((LOG(AA15))/LOG(2))))","v":-0.24043899066178465},null,{"$f":"N15","v":2111},{"$f":"COUNTIF(L48:L68,AD15)","v":0},{"$f":"AE15/(AG4-AE20)","v":0},{"$f":"IF(AF15=0,0,(AF15*((LOG(AF15))/LOG(2))))","v":0},null,{"$f":"N15","v":2111},{"$f":"COUNTIF(L69:L88,AI15)","v":1},{"$f":"AJ15/(AL4-AJ20)","v":5.2631578947368418E-2},{"$f":"IF(AK15=0,0,(AK15*((LOG(AK15))/LOG(2))))","v":-0.22357513228650452},null,{"$f":"N15","v":2111},{"$f":"COUNTIF(L89:L109,AN15)","v":0},{"$f":"AO15/(AQ4-AO20)","v":0},{"$f":"IF(AP15=0,0,(AP15*((LOG(AP15))/LOG(2))))","v":0},null,{"$f":"N15","v":2111},{"$f":"COUNTIF(L110:L129,AS15)","v":0},{"$f":"AT15/(AV4-AT20)","v":0},{"$f":"IF(AU15=0,0,(AU15*((LOG(AU15))/LOG(2))))","v":0}]
[21,7843,12,7858,24,7871,14,7884,null,null,0,2121,null,2112,{"$f":"COUNTIF($L$7:$L$500,N16)","v":9},{"$f":"O16/$Q$4","v":7.3170731707317069E-2},{"$f":"IF(P16=0,0,(P16*((LOG(P16))/LOG(2))))","v":-0.27604313443148248},null,null,{"$f":"N16","v":2112},{"$f":"COUNTIF(L7:L27,T16)","v":1},{"$f":"U16/(W4-U20)","v":5.2631578947368418E-2},{"$f":"IF(V16=0,0,(V16*((LOG(V16))/LOG(2))))","v":-0.22357513228650452},null,{"$f":"N16","v":2112},{"$f":"COUNTIF(L28:L47,Y16)","v":1},{"$f":"Z16/(AB4-Z20)","v":5.8823529411764705E-2},{"$f":"IF(AA16=0,0,(AA16*((LOG(AA16))/LOG(2))))","v":-0.24043899066178465},null,{"$f":"N16","v":2112},{"$f":"COUNTIF(L48:L68,AD16)","v":0},{"$f":"AE16/(AG4-AE20)","v":0},{"$f":"IF(AF16=0,0,(AF16*((LOG(AF16))/LOG(2))))","v":0},null,{"$f":"N16","v":2112},{"$f":"COUNTIF(L69:L88,AI16)","v":2},{"$f":"AJ16/(AL4-AJ20)","v":0.10526315789473684},{"$f":"IF(AK16=0,0,(AK16*((LOG(AK16))/LOG(2))))","v":-0.34188710667827216},null,{"$f":"N16","v":2112},{"$f":"COUNTIF(L89:L109,AN16)","v":2},{"$f":"AO16/(AQ4-AO20)","v":0.11764705882352941},{"$f":"IF(AP16=0,0,(AP16*((LOG(AP16))/LOG(2))))","v":-0.36323092250003997},null,{"$f":"N16","v":2112},{"$f":"COUNTIF(L110:L129,AS16)","v":3},{"$f":"AT16/(AV4-AT20)","v":0.21428571428571427},{"$f":"IF(AU16=0,0,(AU16*((LOG(AU16))/LOG(2))))","v":-0.47622694742923877}]
[21,7996,12,8009,24,8020,23,8028,null,null,0,2122,null,2121,{"$f":"COUNTIF($L$7:$L$500,N17)","v":18},{"$f":"O17/$Q$4","v":0.14634146341463414},{"$f":"IF(P17=0,0,(P17*((LOG(P17))/LOG(2))))","v":-0.40574480544833086},null,null,{"$f":"N17","v":2121},{"$f":"COUNTIF(L7:L27,T17)","v":7},{"$f":"U17/(W4-U20)","v":0.36842105263157893},{"$f":"IF(V17=0,0,(V17*((LOG(V17))/LOG(2))))","v":-0.53073727051062469},null,{"$f":"N17","v":2121},{"$f":"COUNTIF(L28:L47,Y17)","v":1},{"$f":"Z17/(AB4-Z20)","v":5.8823529411764705E-2},{"$f":"IF(AA17=0,0,(AA17*((LOG(AA17))/LOG(2))))","v":-0.24043899066178465},null,{"$f":"N17","v":2121},{"$f":"COUNTIF(L48:L68,AD17)","v":5},{"$f":"AE17/(AG4-AE20)","v":0.3125},{"$f":"IF(AF17=0,0,(AF17*((LOG(AF17))/LOG(2))))","v":-0.52439747034769923},null,{"$f":"N17","v":2121},{"$f":"COUNTIF(L69:L88,AI17)","v":2},{"$f":"AJ17/(AL4-AJ20)","v":0.10526315789473684},{"$f":"IF(AK17=0,0,(AK17*((LOG(AK17))/LOG(2))))","v":-0.34188710667827216},null,{"$f":"N17","v":2121},{"$f":"COUNTIF(L89:L109,AN17)","v":2},{"$f":"AO17/(AQ4-AO20)","v":0.11764705882352941},{"$f":"IF(AP17=0,0,(AP17*((LOG(AP17))/LOG(2))))","v":-0.36323092250003997},null,{"$f":"N17","v":2121},{"$f":"COUNTIF(L110:L129,AS17)","v":1},{"$f":"AT17/(AV4-AT20)","v":7.1428571428571425E-2},{"$f":"IF(AU17=0,0,(AU17*((LOG(AU17))/LOG(2))))","v":-0.27195392300411453}]
[21,8138,21,8143,22,8149,14,8162,null,null,0,2221,null,2122,{"$f":"COUNTIF($L$7:$L$500,N18)","v":12},{"$f":"O18/$Q$4","v":9.7560975609756101E-2},{"$f":"IF(P18=0,0,(P18*((LOG(P18))/LOG(2))))","v":-0.32756604923103255},null,null,{"$f":"N18","v":2122},{"$f":"COUNTIF(L7:L27,T18)","v":2},{"$f":"U18/(W4-U20)","v":0.10526315789473684},{"$f":"IF(V18=0,0,(V18*((LOG(V18))/LOG(2))))","v":-0.34188710667827216},null,{"$f":"N18","v":2122},{"$f":"COUNTIF(L28:L47,Y18)","v":3},{"$f":"Z18/(AB4-Z20)","v":0.17647058823529413},{"$f":"IF(AA18=0,0,(AA18*((LOG(AA18))/LOG(2))))","v":-0.44161770715220888},null,{"$f":"N18","v":2122},{"$f":"COUNTIF(L48:L68,AD18)","v":1},{"$f":"AE18/(AG4-AE20)","v":6.25E-2},{"$f":"IF(AF18=0,0,(AF18*((LOG(AF18))/LOG(2))))","v":-0.25},null,{"$f":"N18","v":2122},{"$f":"COUNTIF(L69:L88,AI18)","v":1},{"$f":"AJ18/(AL4-AJ20)","v":5.2631578947368418E-2},{"$f":"IF(AK18=0,0,(AK18*((LOG(AK18))/LOG(2))))","v":-0.22357513228650452},null,{"$f":"N18","v":2122},{"$f":"COUNTIF(L89:L109,AN18)","v":3},{"$f":"AO18/(AQ4-AO20)","v":0.17647058823529413},{"$f":"IF(AP18=0,0,(AP18*((LOG(AP18))/LOG(2))))","v":-0.44161770715220888},null,{"$f":"N18","v":2122},{"$f":"COUNTIF(L110:L129,AS18)","v":2},{"$f":"AT18/(AV4-AT20)","v":0.14285714285714285},{"$f":"IF(AU18=0,0,(AU18*((LOG(AU18))/LOG(2))))","v":-0.40105070315108626}]
[21,8267,12,8279,13,8315,23,8329,null,null,0,2112,null,2211,{"$f":"COUNTIF($L$7:$L$500,N19)","v":4},{"$f":"O19/$Q$4","v":3.2520325203252036E-2},{"$f":"IF(P19=0,0,(P19*((LOG(P19))/LOG(2))))","v":-0.16073217903542245},null,null,{"$f":"N19","v":2211},{"$f":"COUNTIF(L7:L27,T19)","v":1},{"$f":"U19/(W4-U20)","v":5.2631578947368418E-2},{"$f":"IF(V19=0,0,(V19*((LOG(V19))/LOG(2))))","v":-0.22357513228650452},null,{"$f":"N19","v":2211},{"$f":"COUNTIF(L28:L47,Y19)","v":1},{"$f":"Z19/(AB4-Z20)","v":5.8823529411764705E-2},{"$f":"IF(AA19=0,0,(AA19*((LOG(AA19))/LOG(2))))","v":-0.24043899066178465},null,{"$f":"N19","v":2211},{"$f":"COUNTIF(L48:L68,AD19)","v":1},{"$f":"AE19/(AG4-AE20)","v":6.25E-2},{"$f":"IF(AF19=0,0,(AF19*((LOG(AF19))/LOG(2))))","v":-0.25},null,{"$f":"N19","v":2211},{"$f":"COUNTIF(L69:L88,AI19)","v":0},{"$f":"AJ19/(AL4-AJ20)","v":0},{"$f":"IF(AK19=0,0,(AK19*((LOG(AK19))/LOG(2))))","v":0},null,{"$f":"N19","v":2211},{"$f":"COUNTIF(L89:L109,AN19)","v":1},{"$f":"AO19/(AQ4-AO20)","v":5.8823529411764705E-2},{"$f":"IF(AP19=0,0,(AP19*((LOG(AP19))/LOG(2))))","v":-0.24043899066178465},null,{"$f":"N19","v":2211},{"$f":"COUNTIF(L110:L129,AS19)","v":0},{"$f":"AT19/(AV4-AT20)","v":0},{"$f":"IF(AU19=0,0,(AU19*((LOG(AU19))/LOG(2))))","v":0}]
[21,8429,12,8441,24,8452,14,8464,null,null,0,2121,null,2212,{"$f":"COUNTIF($L$7:$L$500,N20)","v":21},{"$f":"O20/$Q$4","v":0.17073170731707318},{"$f":"IF(P20=0,0,(P20*((LOG(P20))/LOG(2))))","v":-0.4353995019005697},null,null,{"$f":"N20","v":2212},{"$f":"COUNTIF(L7:L27,T20)","v":2},null,null,null,{"$f":"N20","v":2212},{"$f":"COUNTIF(L28:L47,Y20)","v":3},null,null,null,{"$f":"N20","v":2212},{"$f":"COUNTIF(L48:L68,AD20)","v":5},null,null,null,{"$f":"N20","v":2212},{"$f":"COUNTIF(L69:L88,AI20)","v":1},null,null,null,{"$f":"N20","v":2212},{"$f":"COUNTIF(L89:L109,AN20)","v":4},null,null,null,{"$f":"N20","v":2212},{"$f":"COUNTIF(L110:L129,AS20)","v":6}]
[12,8578,14,8587,24,8601,14,8617,null,null,0,1121,null,2221,{"$f":"COUNTIF($L$7:$L$500,N21)","v":8},{"$f":"O21/$Q$4","v":6.5040650406504072E-2},{"$f":"IF(P21=0,0,(P21*((LOG(P21))/LOG(2))))","v":-0.25642370766434081},null,null,{"$f":"N21","v":2221},{"$f":"COUNTIF(L7:L27,T21)","v":2},{"$f":"U21/(W4-U20)","v":0.10526315789473684},{"$f":"IF(V21=0,0,(V21*((LOG(V21))/LOG(2))))","v":-0.34188710667827216},null,{"$f":"N21","v":2221},{"$f":"COUNTIF(L28:L47,Y21)","v":1},{"$f":"Z21/(AB4-Z20)","v":5.8823529411764705E-2},{"$f":"IF(AA21=0,0,(AA21*((LOG(AA21))/LOG(2))))","v":-0.24043899066178465},null,{"$f":"N21","v":2221},{"$f":"COUNTIF(L48:L68,AD21)","v":2},{"$f":"AE21/(AG4-AE20)","v":0.125},{"$f":"IF(AF21=0,0,(AF21*((LOG(AF21))/LOG(2))))","v":-0.375},null,{"$f":"N21","v":2221},{"$f":"COUNTIF(L69:L88,AI21)","v":0},{"$f":"AJ21/(AL4-AJ20)","v":0},{"$f":"IF(AK21=0,0,(AK21*((LOG(AK21))/LOG(2))))","v":0},null,{"$f":"N21","v":2221},{"$f":"COUNTIF(L89:L109,AN21)","v":2},{"$f":"AO21/(AQ4-AO20)","v":0.11764705882352941},{"$f":"IF(AP21=0,0,(AP21*((LOG(AP21))/LOG(2))))","v":-0.36323092250003997},null,{"$f":"N21","v":2221},{"$f":"COUNTIF(L110:L129,AS21)","v":1},{"$f":"AT21/(AV4-AT20)","v":7.1428571428571425E-2},{"$f":"IF(AU21=0,0,(AU21*((LOG(AU21))/LOG(2))))","v":-0.27195392300411453}]
[21,8720,21,8726,11,8742,21,8756,null,null,0,2212,null,2222,{"$f":"COUNTIF($L$7:$L$500,N22)","v":7},{"$f":"O22/$Q$4","v":5.6910569105691054E-2},{"$f":"IF(P22=0,0,(P22*((LOG(P22))/LOG(2))))","v":-0.23533428522741018},null,null,{"$f":"N22","v":2222},{"$f":"COUNTIF(L7:L27,T22)","v":1},{"$f":"U22/(W4-U20)","v":5.2631578947368418E-2},{"$f":"IF(V22=0,0,(V22*((LOG(V22))/LOG(2))))","v":-0.22357513228650452},null,{"$f":"N22","v":2222},{"$f":"COUNTIF(L28:L47,Y22)","v":0},{"$f":"Z22/(AB4-Z20)","v":0},{"$f":"IF(AA22=0,0,(AA22*((LOG(AA22))/LOG(2))))","v":0},null,{"$f":"N22","v":2222},{"$f":"COUNTIF(L48:L68,AD22)","v":1},{"$f":"AE22/(AG4-AE20)","v":6.25E-2},{"$f":"IF(AF22=0,0,(AF22*((LOG(AF22))/LOG(2))))","v":-0.25},null,{"$f":"N22","v":2222},{"$f":"COUNTIF(L69:L88,AI22)","v":1},{"$f":"AJ22/(AL4-AJ20)","v":5.2631578947368418E-2},{"$f":"IF(AK22=0,0,(AK22*((LOG(AK22))/LOG(2))))","v":-0.22357513228650452},null,{"$f":"N22","v":2222},{"$f":"COUNTIF(L89:L109,AN22)","v":2},{"$f":"AO22/(AQ4-AO20)","v":0.11764705882352941},{"$f":"IF(AP22=0,0,(AP22*((LOG(AP22))/LOG(2))))","v":-0.36323092250003997},null,{"$f":"N22","v":2222},{"$f":"COUNTIF(L110:L129,AS22)","v":2},{"$f":"AT22/(AV4-AT20)","v":0.14285714285714285},{"$f":"IF(AU22=0,0,(AU22*((LOG(AU22))/LOG(2))))","v":-0.40105070315108626}]
[21,8867,12,8885,24,8909,14,8925,null,null,0,2121,null,null,null,{"$f":"SUM(P7:P22)","v":0.99999999999999989},{"$f":"-SUM(Q7:Q22)","v":3.6360885811702857},null,null,null,null,{"$f":"SUM(V7:V22)","v":1},{"$f":"-SUM(W7:W22)","v":2.7528553052032336},null,null,null,{"$f":"SUM(AA7:AA22)","v":1},{"$f":"-SUM(AB7:AB22)","v":3.4104172527605199},null,null,null,{"$f":"SUM(AF7:AF22)","v":1},{"$f":"-SUM(AG7:AG22)","v":2.774397470347699},null,null,null,{"$f":"SUM(AK7:AK22)","v":0.99999999999999978},{"$f":"-SUM(AL7:AL22)","v":3.3263604079526949},null,null,null,{"$f":"SUM(AP7:AP22)","v":1},{"$f":"-SUM(AQ7:AQ22)","v":3.2195282822995477},null,null,null,{"$f":"SUM(AU7:AU22)","v":0.99999999999999978},{"$f":"-SUM(AV7:AV22)","v":3.03914867190307}]
[21,9031,21,9046,22,9056,14,9073,null,null,0,2221,null,null,null,"U=",{"$f":"Q23/(LOG(Q4)/LOG(2))","v":0.52374230955857559},null,null,null,null,"U1=",{"$f":"W23/(LOG(W4)/LOG(2))","v":0.62674325196234659},null,null,null,"U2=",{"$f":"AB23/(LOG(AB4)/LOG(2))","v":0.78909625007294382},null,null,null,"U3=",{"$f":"AG23/(LOG(AG4)/LOG(2))","v":0.6316477620582579},null,null,null,"U4=",{"$f":"AL23/(LOG(AL4)/LOG(2))","v":0.76964732751746212},null,null,null,"U5=",{"$f":"AQ23/(LOG(AQ4)/LOG(2))","v":0.73299080471801181},null,null,null,"U6=",{"$f":"AV23/(LOG(AV4)/LOG(2))","v":0.70319278923178752}]
[21,9183,21,9188,22,9197,23,9208,null,null,0,2222]
[12,9316,14,9326,24,9337,23,9355,null,null,0,1122]
[21,9456,12,9471,24,9486,23,9497,null,null,0,2122,null,"Total Target Seq"]
[12,9603,23,9614,13,9626,14,9668,null,null,0,1211,null,{"$f":"COUNTIF(L7:L129,G3)","v":21},null,21,20,21,20,21,20]
[21,9758,12,9770,24,9792,14,9804,null,null,0,2121,null,null,null,"% of reinforcement given in 6 equal intervals based on number of trials "]
[21,9916,21,9925,11,9938,21,9952,null,null,0,2212,null,null,null,"%_1","%_2","%_3","%_4","%_5","%_6"]
[21,10040,21,10049,11,10061,12,10087,null,null,0,2211,null,null,"target sequence",{"$f":"$G$3","v":2212},{"$f":"$G$3","v":2212},{"$f":"$G$3","v":2212},{"$f":"$G$3","v":2212},{"$f":"$G$3","v":2212},{"$f":"$G$3","v":2212}]
[21,10190,12,10200,13,10211,23,10221,null,null,0,2112,null,null,"total reinforcement",{"$f":"U20","v":2},{"$f":"Z20","v":3},{"$f":"AE20","v":5},{"$f":"AJ20","v":1},{"$f":"AO20","v":4},{"$f":"AT20","v":6}]
[12,10330,23,10342,24,10355,14,10368,null,null,0,1221,null,null,"% target"]
[12,10477,23,10490,24,10509,14,10536,null,null,0,1221,null,null,"CCRF"]
[12,10648,14,10656,24,10667,14,10680,null,null,0,1121,null,null,"% CCRf"]
[21,10783,12,10798,13,10806,14,10832,null,null,0,2111,null,null,"average response rate",{"$f":"H27/P28","v":452.23809523809524},{"$f":"(H47-H27)/Q28","v":142.25},{"$f":"(H68-H47)/R28","v":140.33333333333334},{"$f":"(H88-H68)/S28","v":146.75},{"$f":"(H109-H88)/T28","v":143},{"$f":"(H129-H109)/U28","v":137.4}]
[21,10940,12,10952,24,10963,23,10972,null,null,0,2122]
[12,11074,14,11084,13,11093,23,11106,null,null,0,1112]
[12,11220,23,11235,24,11244,23,11253,null,null,0,1222]
[12,11354,14,11363,24,11375,23,11384,null,null,0,1122]
[21,11485,21,11493,11,11507,21,11521,null,null,0,2212]
[21,11611,21,11619,11,11631,21,11643,null,null,0,2212]
[12,11739,23,11749,24,11757,14,11768,null,null,0,1221]
[21,11870,12,11884,24,11897,23,11910,null,null,0,2122]
[21,12011,12,12027,24,12041,23,12057,null,null,0,2122]
[12,12165,14,12173,24,12187,14,12203,null,null,0,1121]
[21,12310,21,12318,22,12327,14,12342,null,null,0,2221]
[21,12444,21,12450,11,12462,21,12475,null,null,0,2212]
[12,12574,14,12588,24,12602,23,12638,null,null,0,1122]
[12,12745,14,12754,24,12764,14,12778,null,null,0,1121]
[12,12886,14,12893,24,12903,23,12912,null,null,0,1122]
[12,13015,23,13028,13,13040,23,13053,null,null,0,1212]
[12,13153,14,13162,24,13176,14,13189,null,null,0,1121]
[21,13295,21,13303,11,13315,21,13329,null,null,0,2212]
[21,13427,21,13433,11,13447,21,13460,null,null,0,2212]
[21,13550,12,13562,24,13572,14,13588,null,null,0,2121]
[21,13689,21,13697,11,13711,12,13753,null,null,0,2211]
[21,13865,21,13873,22,13881,14,13894,null,null,0,2221]
[21,14001,12,14012,24,14022,14,14034,null,null,0,2121]
[21,14135,12,14148,24,14161,14,14175,null,null,0,2121]
[21,14277,21,14283,11,14296,21,14325,null,null,0,2212]
[21,14427,21,14435,22,14444,14,14457,null,null,0,2221]
[21,14562,21,14567,22,14572,23,14597,null,null,0,2222]
[21,14696,21,14702,11,14713,21,14726,null,null,0,2212]
[21,14816,12,14828,24,14838,14,14851,null,null,0,2121]
[21,14974,12,14987,24,15000,23,15009,null,null,0,2122]
[21,15119,12,15130,24,15140,14,15152,null,null,0,2121]
[12,15255,23,15266,13,15275,23,15289,null,null,0,1212]
[12,15390,14,15399,24,15413,23,15421,null,null,0,1122]
[12,15527,23,15542,24,15551,14,15572,null,null,0,1221]
[12,15675,23,15689,13,15701,23,15714,null,null,0,1212]
[12,15818,14,15826,13,15834,14,15862,null,null,0,1111]
[12,15966,14,16005,24,16026,14,16038,null,null,0,1121]
[21,16138,12,16149,13,16158,23,16169,null,null,0,2112]
[12,16267,23,16286,13,16297,23,16340,null,null,0,1212]
[12,16441,14,16448,13,16454,23,16467,null,null,0,1112]
[12,16567,14,16573,13,16578,23,16590,null,null,0,1112]
[12,16699,14,16707,24,16730,14,16745,null,null,0,1121]
[12,16846,23,16856,13,16868,23,16880,null,null,0,1212]
[12,16986,14,16994,24,17003,14,17018,null,null,0,1121]
[21,17116,12,17131,13,17154,23,17175,null,null,0,2112]
[21,17293,12,17307,24,17319,14,17363,null,null,0,2121]
[12,17467,14,17477,24,17486,23,17494,null,null,0,1122]
[21,17599,12,17617,13,17642,14,17689,null,null,0,2111]
[21,17796,12,17808,24,17817,14,17829,null,null,0,2121]
[21,17945,12,17956,24,17967,23,17977,null,null,0,2122]
[21,18078,21,18084,11,18097,21,18109,null,null,0,2212]
[21,18200,21,18207,22,18215,23,18224,null,null,0,2222]
[21,18334,12,18342,24,18354,14,18365,null,null,0,2121]
[21,18466,12,18475,24,18488,23,18496,null,null,0,2122]
[21,18603,21,18608,22,18612,14,18623,null,null,0,2221]
[21,18722,21,18728,11,18741,21,18763,null,null,0,2212]
[21,18868,21,18876,11,18898,12,18932,null,null,0,2211]
[21,19035,21,19052,11,19064,21,19085,null,null,0,2212]
[21,19173,21,19179,22,19184,14,19196,null,null,0,2221]
[21,19306,12,19322,13,19365,23,19378,null,null,0,2112]
[21,19480,12,19493,24,19505,14,19520,null,null,0,2121]
[21,19634,12,19645,24,19655,23,19663,null,null,0,2122]
[12,19775,14,19784,24,19806,23,19814,null,null,0,1122]
[21,19915,21,19920,22,19940,23,19948,null,null,0,2222]
[21,20055,12,20067,13,20076,23,20097,null,null,0,2112]
[21,20198,12,20211,24,20221,23,20229,null,null,0,2122]
[21,20349,21,20358,22,20368,23,20376,null,null,0,2222]
[12,20477,14,20483,13,20492,23,20505,null,null,0,1112]
[21,20606,21,20613,11,20639,21,20670,null,null,0,2212]
[12,20761,23,20771,24,20780,14,20793,null,null,0,1221]
[21,20892,21,20913,11,20927,21,20938,null,null,0,2212]
[12,21030,14,21039,24,21051,23,21094,null,null,0,1122]
[12,21196,23,21207,13,21216,23,21227,null,null,0,1212]
[12,21330,23,21341,13,21353,23,21374,null,null,0,1212]
[12,21478,14,21490,24,21502,14,21515,null,null,0,1121]
[21,21616,12,21629,13,21638,23,21652,null,null,0,2112]
[21,21754,12,21766,13,21775,23,21788,null,null,0,2112]
[12,21901,14,21910,24,21923,23,21931,null,null,0,1122]
[21,22034,21,22041,22,22046,14,22066,null,null,0,2221]
[21,22166,21,22176,11,22190,21,22220,null,null,0,2212]
[12,22320,23,22362,13,22374,23,22397,null,null,0,1212]
[21,22499,21,22513,11,22525,21,22535,null,null,0,2212]
[21,22629,21,22637,11,22648,21,22677,null,null,0,2212]
[21,22772,12,22782,24,22791,14,22804,null,null,0,2121]
[21,22902,21,22917,22,22923,23,22930,null,null,0,2222]
[21,23029,21,23034,11,23045,21,23057,null,null,0,2212]
[21,23156,21,23163,11,23176,21,23197,null,null,0,2212]
[21,23300,12,23311,24,23323,23,23330,null,null,0,2122]
[21,23434,12,23444,13,23454,23,23463,null,null,0,2112]
[21,23571,12,23581,24,23594,23,23602,null,null,0,2122]
[12,23711,23,23720,24,23727,23,23732,null,null,0,1222]
[21,23834,21,23842,11,23854,21,23867,null,null,0,2212]
[21,23956,21,23961,22,23968,23,23975,null,null,null,2222]

{"sheet":"!MB22840.091","index":17,"n_rows":186,"n_cols":48,"rows_kept":186,"cut":false,"hidden":false,"merged":[[4,39,4,42],[5,39,5,40],[4,44,4,47],[5,44,5,45],[4,24,4,27],[5,24,5,25],[4,29,4,32],[5,29,5,30],[4,34,4,37],[5,34,5,35],[1,1,1,2],[5,13,5,14],[26,13,26,14],[27,13,27,14],[4,19,4,22],[5,19,5,20]]}
["Report for:!MB22840.091"]
["Date:","<date>"]
["Hen:","<hen>",null,null,null,"Correct Sequence",{"$f":"Start!J2","v":2212},null,null,null,null,null,null,null,null,"Total Sequences in Data",{"$f":"4994-COUNTBLANK(L7:L5000)","v":180},null,null,null,null,"Total Sequences in Block Data",{"$f":"COUNTA(L7:L36)","v":30},null,null,null,"Total Sequences in Block Data",{"$f":"COUNTA(L37:L66)","v":30},null,null,null,"Total Sequences in Block Data",{"$f":"COUNTA(L67:L96)","v":30},null,null,null,"Total Sequences in Block Data",{"$f":"COUNTA(L97:L126)","v":30},null,null,null,"Total Sequences in Block Data",{"$f":"COUNTA(L127:L156)","v":30},null,null,null,"Total Sequences in Block Data",{"$f":"COUNTA(L157:L186)","v":30}]
[null,null,null,null,null,null,null,null,null,null,null,null,null,null,null,"Total Sequences in Summary",{"$f":"SUM(O7:O22)","v":180},null,null,null,null,"Total Sequences in Block Summary",{"$f":"SUM(U7:U22)","v":30},null,null,null,"Total Sequences in Block Summary",{"$f":"SUM(Z7:Z22)","v":30},null,null,null,"Total Sequences in Block Summary",{"$f":"SUM(AE7:AE22)","v":30},null,null,null,"Total Sequences in Block Summary",{"$f":"SUM(AJ7:AJ22)","v":30},null,null,null,"Total Sequences in Block Summary",{"$f":"SUM(AO7:AO22)","v":30},null,null,null,"Total Sequences in Block Summary",{"$f":"SUM(AT7:AT22)","v":30}]
[null,null,null,null,null,null,null,null,null,null,null,null,null,null,null,null,null,null,null,"Block 1",null,null,null,null,"Block 2",null,null,null,null,"Block 3",null,null,null,null,"Block 4",null,null,null,null,"Block 5",null,null,null,null,"Block 6"]
["Sequence\nComponent\n1","Time\n1","Sequence\nComponent\n2","Time\n2","Sequence\nComponent\n3","Time\n3","Sequence\nComponent\n4","Time\n4","Sequence\nComponent\n5","Time\n5","Correct?\n0=No 1=Yes","Sequence",null,"Frequency",null,"Relative Frequency","Variability",null,null,"Frequency",null,"Relative Frequency","Variability",null,"Frequency",null,"Relative Frequency","Variability",null,"Frequency",null,"Relative Frequency","Variability",null,"Frequency",null,"Relative Frequency","Variability",null,"Frequency",null,"Relative Frequency","Variability",null,"Frequency",null,"Relative Frequency","Variability"]
[12,15,14,27,24,41,14,53,null,null,0,1121,null,1111,{"$f":"COUNTIF($L$7:$L$500,N7)","v":0},{"$f":"O7/$Q$4","v":0},{"$f":"IF(P7=0,0,(P7*((LOG(P7))/LOG(2))))","v":0},null,null,{"$f":"N7","v":1111},{"$f":"COUNTIF(L7:L36,T7)","v":0},{"$f":"U7/(W4-U20)","v":0},{"$f":"IF(V7=0,0,(V7*((LOG(V7))/LOG(2))))","v":0},null,{"$f":"N7","v":1111},{"$f":"COUNTIF(L37:L66,Y7)","v":0},{"$f":"Z7/(AB4-Z20)","v":0},{"$f":"IF(AA7=0,0,(AA7*((LOG(AA7))/LOG(2))))","v":0},null,{"$f":"N7","v":1111},{"$f":"COUNTIF(L67:L96,AD7)","v":0},{"$f":"AE7/(AG4-AE20)","v":0},{"$f":"IF(AF7=0,0,(AF7*((LOG(AF7))/LOG(2))))","v":0},null,{"$f":"N7","v":1111},{"$f":"COUNTIF(L97:L126,AI7)","v":0},{"$f":"AJ7/(AL4-AJ20)","v":0},{"$f":"IF(AK7=0,0,(AK7*((LOG(AK7))/LOG(2))))","v":0},null,{"$f":"N7","v":1111},{"$f":"COUNTIF(L127:L156,AN7)","v":0},{"$f":"AO7/(AQ4-AO20)","v":0},{"$f":"IF(AP7=0,0,(AP7*((LOG(AP7))/LOG(2))))","v":0},null,{"$f":"N7","v":1111},{"$f":"COUNTIF(L157:L186,AS7)","v":0},{"$f":"AT7/(AV4-AT20)","v":0},{"$f":"IF(AU7=0,0,(AU7*((LOG(AU7))/LOG(2))))","v":0}]
[12,155,14,163,24,175,14,195,null,null,0,1121,null,1112,{"$f":"COUNTIF($L$7:$L$500,N8)","v":1},{"$f":"O8/$Q$4","v":5.5555555555555558E-3},{"$f":"IF(P8=0,0,(P8*((LOG(P8))/LOG(2))))","v":-4.1621406090720417E-2},null,null,{"$f":"N8","v":1112},{"$f":"COUNTIF(L7:L36,T8)","v":1},{"$f":"U8/(W4-U20)","v":3.7037037037037035E-2},{"$f":"IF(V8=0,0,(V8*((LOG(V8))/LOG(2))))","v":-0.1761069445245729},null,{"$f":"N8","v":1112},{"$f":"COUNTIF(L37:L66,Y8)","v":0},{"$f":"Z8/(AB4-Z20)","v":0},{"$f":"IF(AA8=0,0,(AA8*((LOG(AA8))/LOG(2))))","v":0},null,{"$f":"N8","v":1112},{"$f":"COUNTIF(L67:L96,AD8)","v":0},{"$f":"AE8/(AG4-AE20)","v":0},{"$f":"IF(AF8=0,0,(AF8*((LOG(AF8))/LOG(2))))","v":0},null,{"$f":"N8","v":1112},{"$f":"COUNTIF(L97:L126,AI8)","v":0},{"$f":"AJ8/(AL4-AJ20)","v":0},{"$f":"IF(AK8=0,0,(AK8*((LOG(AK8))/LOG(2))))","v":0},null,{"$f":"N8","v":1112},{"$f":"COUNTIF(L127:L156,AN8)","v":0},{"$f":"AO8/(AQ4-AO20)","v":0},{"$f":"IF(AP8=0,0,(AP8*((LOG(AP8))/LOG(2))))","v":0},null,{"$f":"N8","v":1112},{"$f":"COUNTIF(L157:L186,AS8)","v":0},{"$f":"AT8/(AV4-AT20)","v":0},{"$f":"IF(AU8=0,0,(AU8*((LOG(AU8))/LOG(2))))","v":0}]
[21,296,12,308,13,332,23,344,null,null,0,2112,null,1121,{"$f":"COUNTIF($L$7:$L$500,N9)","v":4},{"$f":"O9/$Q$4","v":2.2222222222222223E-2},{"$f":"IF(P9=0,0,(P9*((LOG(P9))/LOG(2))))","v":-0.12204117991843723},null,null,{"$f":"N9","v":1121},{"$f":"COUNTIF(L7:L36,T9)","v":3},{"$f":"U9/(W4-U20)","v":0.1111111111111111},{"$f":"IF(V9=0,0,(V9*((LOG(V9))/LOG(2))))","v":-0.3522138890491458},null,{"$f":"N9","v":1121},{"$f":"COUNTIF(L37:L66,Y9)","v":1},{"$f":"Z9/(AB4-Z20)","v":3.5714285714285712E-2},{"$f":"IF(AA9=0,0,(AA9*((LOG(AA9))/LOG(2))))","v":-0.17169124721634299},null,{"$f":"N9","v":1121},{"$f":"COUNTIF(L67:L96,AD9)","v":0},{"$f":"AE9/(AG4-AE20)","v":0},{"$f":"IF(AF9=0,0,(AF9*((LOG(AF9))/LOG(2))))","v":0},null,{"$f":"N9","v":1121},{"$f":"COUNTIF(L97:L126,AI9)","v":0},{"$f":"AJ9/(AL4-AJ20)","v":0},{"$f":"IF(AK9=0,0,(AK9*((LOG(AK9))/LOG(2))))","v":0},null,{"$f":"N9","v":1121},{"$f":"COUNTIF(L127:L156,AN9)","v":0},{"$f":"AO9/(AQ4-AO20)","v":0},{"$f":"IF(AP9=0,0,(AP9*((LOG(AP9))/LOG(2))))","v":0},null,{"$f":"N9","v":1121},{"$f":"COUNTIF(L157:L186,AS9)","v":0},{"$f":"AT9/(AV4-AT20)","v":0},{"$f":"IF(AU9=0,0,(AU9*((LOG(AU9))/LOG(2))))","v":0}]
[12,446,23,459,13,469,23,481,null,null,0,1212,null,1122,{"$f":"COUNTIF($L$7:$L$500,N10)","v":4},{"$f":"O10/$Q$4","v":2.2222222222222223E-2},{"$f":"IF(P10=0,0,(P10*((LOG(P10))/LOG(2))))","v":-0.12204117991843723},null,null,{"$f":"N10","v":1122},{"$f":"COUNTIF(L7:L36,T10)","v":0},{"$f":"U10/(W4-U20)","v":0},{"$f":"IF(V10=0,0,(V10*((LOG(V10))/LOG(2))))","v":0},null,{"$f":"N10","v":1122},{"$f":"COUNTIF(L37:L66,Y10)","v":0},{"$f":"Z10/(AB4-Z20)","v":0},{"$f":"IF(AA10=0,0,(AA10*((LOG(AA10))/LOG(2))))","v":0},null,{"$f":"N10","v":1122},{"$f":"COUNTIF(L67:L96,AD10)","v":1},{"$f":"AE10/(AG4-AE20)","v":0.05},{"$f":"IF(AF10=0,0,(AF10*((LOG(AF10))/LOG(2))))","v":-0.21609640474436814},null,{"$f":"N10","v":1122},{"$f":"COUNTIF(L97:L126,AI10)","v":1},{"$f":"AJ10/(AL4-AJ20)","v":5.2631578947368418E-2},{"$f":"IF(AK10=0,0,(AK10*((LOG(AK10))/LOG(2))))","v":-0.22357513228650452},null,{"$f":"N10","v":1122},{"$f":"COUNTIF(L127:L156,AN10)","v":2},{"$f":"AO10/(AQ4-AO20)","v":0.08},{"$f":"IF(AP10=0,0,(AP10*((LOG(AP10))/LOG(2))))","v":-0.29150849518197797},null,{"$f":"N10","v":1122},{"$f":"COUNTIF(L157:L186,AS10)","v":0},{"$f":"AT10/(AV4-AT20)","v":0},{"$f":"IF(AU10=0,0,(AU10*((LOG(AU10))/LOG(2))))","v":0}]
[12,581,14,590,13,601,23,612,null,null,0,1112,null,1211,{"$f":"COUNTIF($L$7:$L$500,N11)","v":3},{"$f":"O11/$Q$4","v":1.6666666666666666E-2},{"$f":"IF(P11=0,0,(P11*((LOG(P11))/LOG(2))))","v":-9.8448176593475309E-2},null,null,{"$f":"N11","v":1211},{"$f":"COUNTIF(L7:L36,T11)","v":1},{"$f":"U11/(W4-U20)","v":3.7037037037037035E-2},{"$f":"IF(V11=0,0,(V11*((LOG(V11))/LOG(2))))","v":-0.1761069445245729},null,{"$f":"N11","v":1211},{"$f":"COUNTIF(L37:L66,Y11)","v":1},{"$f":"Z11/(AB4-Z20)","v":3.5714285714285712E-2},{"$f":"IF(AA11=0,0,(AA11*((LOG(AA11))/LOG(2))))","v":-0.17169124721634299},null,{"$f":"N11","v":1211},{"$f":"COUNTIF(L67:L96,AD11)","v":0},{"$f":"AE11/(AG4-AE20)","v":0},{"$f":"IF(AF11=0,0,(AF11*((LOG(AF11))/LOG(2))))","v":0},null,{"$f":"N11","v":1211},{"$f":"COUNTIF(L97:L126,AI11)","v":0},{"$f":"AJ11/(AL4-AJ20)","v":0},{"$f":"IF(AK11=0,0,(AK11*((LOG(AK11))/LOG(2))))","v":0},null,{"$f":"N11","v":1211},{"$f":"COUNTIF(L127:L156,AN11)","v":1},{"$f":"AO11/(AQ4-AO20)","v":0.04},{"$f":"IF(AP11=0,0,(AP11*((LOG(AP11))/LOG(2))))","v":-0.18575424759098899},null,{"$f":"N11","v":1211},{"$f":"COUNTIF(L157:L186,AS11)","v":0},{"$f":"AT11/(AV4-AT20)","v":0},{"$f":"IF(AU11=0,0,(AU11*((LOG(AU11))/LOG(2))))","v":0}]
[21,722,12,731,24,747,23,756,null,null,0,2122,null,1212,{"$f":"COUNTIF($L$7:$L$500,N12)","v":16},{"$f":"O12/$Q$4","v":8.8888888888888892E-2},{"$f":"IF(P12=0,0,(P12*((LOG(P12))/LOG(2))))","v":-0.31038694189597105},null,null,{"$f":"N12","v":1212},{"$f":"COUNTIF(L7:L36,T12)","v":3},{"$f":"U12/(W4-U20)","v":0.1111111111111111},{"$f":"IF(V12=0,0,(V12*((LOG(V12))/LOG(2))))","v":-0.3522138890491458},null,{"$f":"N12","v":1212},{"$f":"COUNTIF(L37:L66,Y12)","v":5},{"$f":"Z12/(AB4-Z20)","v":0.17857142857142858},{"$f":"IF(AA12=0,0,(AA12*((LOG(AA12))/LOG(2))))","v":-0.44382621913754317},null,{"$f":"N12","v":1212},{"$f":"COUNTIF(L67:L96,AD12)","v":2},{"$f":"AE12/(AG4-AE20)","v":0.1},{"$f":"IF(AF12=0,0,(AF12*((LOG(AF12))/LOG(2))))","v":-0.33219280948873625},null,{"$f":"N12","v":1212},{"$f":"COUNTIF(L97:L126,AI12)","v":2},{"$f":"AJ12/(AL4-AJ20)","v":0.10526315789473684},{"$f":"IF(AK12=0,0,(AK12*((LOG(AK12))/LOG(2))))","v":-0.34188710667827216},null,{"$f":"N12","v":1212},{"$f":"COUNTIF(L127:L156,AN12)","v":1},{"$f":"AO12/(AQ4-AO20)","v":0.04},{"$f":"IF(AP12=0,0,(AP12*((LOG(AP12))/LOG(2))))","v":-0.18575424759098899},null,{"$f":"N12","v":1212},{"$f":"COUNTIF(L157:L186,AS12)","v":3},{"$f":"AT12/(AV4-AT20)","v":0.14285714285714285},{"$f":"IF(AU12=0,0,(AU12*((LOG(AU12))/LOG(2))))","v":-0.40105070315108626}]
[21,852,21,857,22,862,14,873,null,null,0,2221,null,1221,{"$f":"COUNTIF($L$7:$L$500,N13)","v":11},{"$f":"O13/$Q$4","v":6.1111111111111109E-2},{"$f":"IF(P13=0,0,(P13*((LOG(P13))/LOG(2))))","v":-0.24642575697008973},null,null,{"$f":"N13","v":1221},{"$f":"COUNTIF(L7:L36,T13)","v":0},{"$f":"U13/(W4-U20)","v":0},{"$f":"IF(V13=0,0,(V13*((LOG(V13))/LOG(2))))","v":0},null,{"$f":"N13","v":1221},{"$f":"COUNTIF(L37:L66,Y13)","v":0},{"$f":"Z13/(AB4-Z20)","v":0},{"$f":"IF(AA13=0,0,(AA13*((LOG(AA13))/LOG(2))))","v":0},null,{"$f":"N13","v":1221},{"$f":"COUNTIF(L67:L96,AD13)","v":4},{"$f":"AE13/(AG4-AE20)","v":0.2},{"$f":"IF(AF13=0,0,(AF13*((LOG(AF13))/LOG(2))))","v":-0.46438561897747244},null,{"$f":"N13","v":1221},{"$f":"COUNTIF(L97:L126,AI13)","v":3},{"$f":"AJ13/(AL4-AJ20)","v":0.15789473684210525},{"$f":"IF(AK13=0,0,(AK13*((LOG(AK13))/LOG(2))))","v":-0.42046815990354147},null,{"$f":"N13","v":1221},{"$f":"COUNTIF(L127:L156,AN13)","v":3},{"$f":"AO13/(AQ4-AO20)","v":0.12},{"$f":"IF(AP13=0,0,(AP13*((LOG(AP13))/LOG(2))))","v":-0.36706724268642821},null,{"$f":"N13","v":1221},{"$f":"COUNTIF(L157:L186,AS13)","v":1},{"$f":"AT13/(AV4-AT20)","v":4.7619047619047616E-2},{"$f":"IF(AU13=0,0,(AU13*((LOG(AU13))/LOG(2))))","v":-0.20915797251327431}]
[12,974,23,983,13,995,14,1020,null,null,0,1211,null,1222,{"$f":"COUNTIF($L$7:$L$500,N14)","v":14},{"$f":"O14/$Q$4","v":7.7777777777777779E-2},{"$f":"IF(P14=0,0,(P14*((LOG(P14))/LOG(2))))","v":-0.28657208022116104},null,null,{"$f":"N14","v":1222},{"$f":"COUNTIF(L7:L36,T14)","v":0},{"$f":"U14/(W4-U20)","v":0},{"$f":"IF(V14=0,0,(V14*((LOG(V14))/LOG(2))))","v":0},null,{"$f":"N14","v":1222},{"$f":"COUNTIF(L37:L66,Y14)","v":1},{"$f":"Z14/(AB4-Z20)","v":3.5714285714285712E-2},{"$f":"IF(AA14=0,0,(AA14*((LOG(AA14))/LOG(2))))","v":-0.17169124721634299},null,{"$f":"N14","v":1222},{"$f":"COUNTIF(L67:L96,AD14)","v":2},{"$f":"AE14/(AG4-AE20)","v":0.1},{"$f":"IF(AF14=0,0,(AF14*((LOG(AF14))/LOG(2))))","v":-0.33219280948873625},null,{"$f":"N14","v":1222},{"$f":"COUNTIF(L97:L126,AI14)","v":3},{"$f":"AJ14/(AL4-AJ20)","v":0.15789473684210525},{"$f":"IF(AK14=0,0,(AK14*((LOG(AK14))/LOG(2))))","v":-0.42046815990354147},null,{"$f":"N14","v":1222},{"$f":"COUNTIF(L127:L156,AN14)","v":5},{"$f":"AO14/(AQ4-AO20)","v":0.2},{"$f":"IF(AP14=0,0,(AP14*((LOG(AP14))/LOG(2))))","v":-0.46438561897747244},null,{"$f":"N14","v":1222},{"$f":"COUNTIF(L157:L186,AS14)","v":3},{"$f":"AT14/(AV4-AT20)","v":0.14285714285714285},{"$f":"IF(AU14=0,0,(AU14*((LOG(AU14))/LOG(2))))","v":-0.40105070315108626}]
[21,1112,21,1121,22,1129,14,1142,null,null,0,2221,null,2111,{"$f":"COUNTIF($L$7:$L$500,N15)","v":0},{"$f":"O15/$Q$4","v":0},{"$f":"IF(P15=0,0,(P15*((LOG(P15))/LOG(2))))","v":0},null,null,{"$f":"N15","v":2111},{"$f":"COUNTIF(L7:L36,T15)","v":0},{"$f":"U15/(W4-U20)","v":0},{"$f":"IF(V15=0,0,(V15*((LOG(V15))/LOG(2))))","v":0},null,{"$f":"N15","v":2111},{"$f":"COUNTIF(L37:L66,Y15)","v":0},{"$f":"Z15/(AB4-Z20)","v":0},{"$f":"IF(AA15=0,0,(AA15*((LOG(AA15))/LOG(2))))","v":0},null,{"$f":"N15","v":2111},{"$f":"COUNTIF(L67:L96,AD15)","v":0},{"$f":"AE15/(AG4-AE20)","v":0},{"$f":"IF(AF15=0,0,(AF15*((LOG(AF15))/LOG(2))))","v":0},null,{"$f":"N15","v":2111},{"$f":"COUNTIF(L97:L126,AI15)","v":0},{"$f":"AJ15/(AL4-AJ20)","v":0},{"$f":"IF(AK15=0,0,(AK15*((LOG(AK15))/LOG(2))))","v":0},null,{"$f":"N15","v":2111},{"$f":"COUNTIF(L127:L156,AN15)","v":0},{"$f":"AO15/(AQ4-AO20)","v":0},{"$f":"IF(AP15=0,0,(AP15*((LOG(AP15))/LOG(2))))","v":0},null,{"$f":"N15","v":2111},{"$f":"COUNTIF(L157:L186,AS15)","v":0},{"$f":"AT15/(AV4-AT20)","v":0},{"$f":"IF(AU15=0,0,(AU15*((LOG(AU15))/LOG(2))))","v":0}]
[21,1241,21,1247,11,1258,21,1270,null,null,0,2212,null,2112,{"$f":"COUNTIF($L$7:$L$500,N16)","v":11},{"$f":"O16/$Q$4","v":6.1111111111111109E-2},{"$f":"IF(P16=0,0,(P16*((LOG(P16))/LOG(2))))","v":-0.24642575697008973},null,null,{"$f":"N16","v":2112},{"$f":"COUNTIF(L7:L36,T16)","v":4},{"$f":"U16/(W4-U20)","v":0.14814814814814814},{"$f":"IF(V16=0,0,(V16*((LOG(V16))/LOG(2))))","v":-0.40813148180199532},null,{"$f":"N16","v":2112},{"$f":"COUNTIF(L37:L66,Y16)","v":4},{"$f":"Z16/(AB4-Z20)","v":0.14285714285714285},{"$f":"IF(AA16=0,0,(AA16*((LOG(AA16))/LOG(2))))","v":-0.40105070315108626},null,{"$f":"N16","v":2112},{"$f":"COUNTIF(L67:L96,AD16)","v":0},{"$f":"AE16/(AG4-AE20)","v":0},{"$f":"IF(AF16=0,0,(AF16*((LOG(AF16))/LOG(2))))","v":0},null,{"$f":"N16","v":2112},{"$f":"COUNTIF(L97:L126,AI16)","v":2},{"$f":"AJ16/(AL4-AJ20)","v":0.10526315789473684},{"$f":"IF(AK16=0,0,(AK16*((LOG(AK16))/LOG(2))))","v":-0.34188710667827216},null,{"$f":"N16","v":2112},{"$f":"COUNTIF(L127:L156,AN16)","v":1},{"$f":"AO16/(AQ4-AO20)","v":0.04},{"$f":"IF(AP16=0,0,(AP16*((LOG(AP16))/LOG(2))))","v":-0.18575424759098899},null,{"$f":"N16","v":2112},{"$f":"COUNTIF(L157:L186,AS16)","v":0},{"$f":"AT16/(AV4-AT20)","v":0},{"$f":"IF(AU16=0,0,(AU16*((LOG(AU16))/LOG(2))))","v":0}]
[21,1355,21,1360,22,1364,14,1378,null,null,0,2221,null,2121,{"$f":"COUNTIF($L$7:$L$500,N17)","v":27},{"$f":"O17/$Q$4","v":0.15},{"$f":"IF(P17=0,0,(P17*((LOG(P17))/LOG(2))))","v":-0.41054483912493089},null,null,{"$f":"N17","v":2121},{"$f":"COUNTIF(L7:L36,T17)","v":9},{"$f":"U17/(W4-U20)","v":0.33333333333333331},{"$f":"IF(V17=0,0,(V17*((LOG(V17))/LOG(2))))","v":-0.52832083357371862},null,{"$f":"N17","v":2121},{"$f":"COUNTIF(L37:L66,Y17)","v":13},{"$f":"Z17/(AB4-Z20)","v":0.4642857142857143},{"$f":"IF(AA17=0,0,(AA17*((LOG(AA17))/LOG(2))))","v":-0.51392491610409474},null,{"$f":"N17","v":2121},{"$f":"COUNTIF(L67:L96,AD17)","v":1},{"$f":"AE17/(AG4-AE20)","v":0.05},{"$f":"IF(AF17=0,0,(AF17*((LOG(AF17))/LOG(2))))","v":-0.21609640474436814},null,{"$f":"N17","v":2121},{"$f":"COUNTIF(L97:L126,AI17)","v":1},{"$f":"AJ17/(AL4-AJ20)","v":5.2631578947368418E-2},{"$f":"IF(AK17=0,0,(AK17*((LOG(AK17))/LOG(2))))","v":-0.22357513228650452},null,{"$f":"N17","v":2121},{"$f":"COUNTIF(L127:L156,AN17)","v":3},{"$f":"AO17/(AQ4-AO20)","v":0.12},{"$f":"IF(AP17=0,0,(AP17*((LOG(AP17))/LOG(2))))","v":-0.36706724268642821},null,{"$f":"N17","v":2121},{"$f":"COUNTIF(L157:L186,AS17)","v":0},{"$f":"AT17/(AV4-AT20)","v":0},{"$f":"IF(AU17=0,0,(AU17*((LOG(AU17))/LOG(2))))","v":0}]
[21,1475,12,1487,13,1512,23,1525,null,null,0,2112,null,2122,{"$f":"COUNTIF($L$7:$L$500,N18)","v":31},{"$f":"O18/$Q$4","v":0.17222222222222222},{"$f":"IF(P18=0,0,(P18*((LOG(P18))/LOG(2))))","v":-0.43704089091237103},null,null,{"$f":"N18","v":2122},{"$f":"COUNTIF(L7:L36,T18)","v":3},{"$f":"U18/(W4-U20)","v":0.1111111111111111},{"$f":"IF(V18=0,0,(V18*((LOG(V18))/LOG(2))))","v":-0.3522138890491458},null,{"$f":"N18","v":2122},{"$f":"COUNTIF(L37:L66,Y18)","v":3},{"$f":"Z18/(AB4-Z20)","v":0.10714285714285714},{"$f":"IF(AA18=0,0,(AA18*((LOG(AA18))/LOG(2))))","v":-0.34525633085747659},null,{"$f":"N18","v":2122},{"$f":"COUNTIF(L67:L96,AD18)","v":7},{"$f":"AE18/(AG4-AE20)","v":0.35},{"$f":"IF(AF18=0,0,(AF18*((LOG(AF18))/LOG(2))))","v":-0.53010061049041535},null,{"$f":"N18","v":2122},{"$f":"COUNTIF(L97:L126,AI18)","v":5},{"$f":"AJ18/(AL4-AJ20)","v":0.26315789473684209},{"$f":"IF(AK18=0,0,(AK18*((LOG(AK18))/LOG(2))))","v":-0.50684195225163764},null,{"$f":"N18","v":2122},{"$f":"COUNTIF(L127:L156,AN18)","v":7},{"$f":"AO18/(AQ4-AO20)","v":0.28000000000000003},{"$f":"IF(AP18=0,0,(AP18*((LOG(AP18))/LOG(2))))","v":-0.51422035496079388},null,{"$f":"N18","v":2122},{"$f":"COUNTIF(L157:L186,AS18)","v":6},{"$f":"AT18/(AV4-AT20)","v":0.2857142857142857},{"$f":"IF(AU18=0,0,(AU18*((LOG(AU18))/LOG(2))))","v":-0.51638712058788683}]
[21,1623,12,1635,24,1647,14,1660,null,null,0,2121,null,2211,{"$f":"COUNTIF($L$7:$L$500,N19)","v":2},{"$f":"O19/$Q$4","v":1.1111111111111112E-2},{"$f":"IF(P19=0,0,(P19*((LOG(P19))/LOG(2))))","v":-7.2131701070329707E-2},null,null,{"$f":"N19","v":2211},{"$f":"COUNTIF(L7:L36,T19)","v":0},{"$f":"U19/(W4-U20)","v":0},{"$f":"IF(V19=0,0,(V19*((LOG(V19))/LOG(2))))","v":0},null,{"$f":"N19","v":2211},{"$f":"COUNTIF(L37:L66,Y19)","v":0},{"$f":"Z19/(AB4-Z20)","v":0},{"$f":"IF(AA19=0,0,(AA19*((LOG(AA19))/LOG(2))))","v":0},null,{"$f":"N19","v":2211},{"$f":"COUNTIF(L67:L96,AD19)","v":0},{"$f":"AE19/(AG4-AE20)","v":0},{"$f":"IF(AF19=0,0,(AF19*((LOG(AF19))/LOG(2))))","v":0},null,{"$f":"N19","v":2211},{"$f":"COUNTIF(L97:L126,AI19)","v":0},{"$f":"AJ19/(AL4-AJ20)","v":0},{"$f":"IF(AK19=0,0,(AK19*((LOG(AK19))/LOG(2))))","v":0},null,{"$f":"N19","v":2211},{"$f":"COUNTIF(L127:L156,AN19)","v":0},{"$f":"AO19/(AQ4-AO20)","v":0},{"$f":"IF(AP19=0,0,(AP19*((LOG(AP19))/LOG(2))))","v":0},null,{"$f":"N19","v":2211},{"$f":"COUNTIF(L157:L186,AS19)","v":2},{"$f":"AT19/(AV4-AT20)","v":9.5238095238095233E-2},{"$f":"IF(AU19=0,0,(AU19*((LOG(AU19))/LOG(2))))","v":-0.32307784978845333}]
[21,1758,21,1767,11,1776,21,1789,null,null,0,2212,null,2212,{"$f":"COUNTIF($L$7:$L$500,N20)","v":40},{"$f":"O20/$Q$4","v":0.22222222222222221},{"$f":"IF(P20=0,0,(P20*((LOG(P20))/LOG(2))))","v":-0.48220555587606945},null,null,{"$f":"N20","v":2212},{"$f":"COUNTIF(L7:L36,T20)","v":3},null,null,null,{"$f":"N20","v":2212},{"$f":"COUNTIF(L37:L66,Y20)","v":2},null,null,null,{"$f":"N20","v":2212},{"$f":"COUNTIF(L67:L96,AD20)","v":10},null,null,null,{"$f":"N20","v":2212},{"$f":"COUNTIF(L97:L126,AI20)","v":11},null,null,null,{"$f":"N20","v":2212},{"$f":"COUNTIF(L127:L156,AN20)","v":5},null,null,null,{"$f":"N20","v":2212},{"$f":"COUNTIF(L157:L186,AS20)","v":9}]
[21,1890,21,1897,11,1908,21,1918,null,null,0,2212,null,2221,{"$f":"COUNTIF($L$7:$L$500,N21)","v":6},{"$f":"O21/$Q$4","v":3.3333333333333333E-2},{"$f":"IF(P21=0,0,(P21*((LOG(P21))/LOG(2))))","v":-0.16356301985361729},null,null,{"$f":"N21","v":2221},{"$f":"COUNTIF(L7:L36,T21)","v":3},{"$f":"U21/(W4-U20)","v":0.1111111111111111},{"$f":"IF(V21=0,0,(V21*((LOG(V21))/LOG(2))))","v":-0.3522138890491458},null,{"$f":"N21","v":2221},{"$f":"COUNTIF(L37:L66,Y21)","v":0},{"$f":"Z21/(AB4-Z20)","v":0},{"$f":"IF(AA21=0,0,(AA21*((LOG(AA21))/LOG(2))))","v":0},null,{"$f":"N21","v":2221},{"$f":"COUNTIF(L67:L96,AD21)","v":1},{"$f":"AE21/(AG4-AE20)","v":0.05},{"$f":"IF(AF21=0,0,(AF21*((LOG(AF21))/LOG(2))))","v":-0.21609640474436814},null,{"$f":"N21","v":2221},{"$f":"COUNTIF(L97:L126,AI21)","v":1},{"$f":"AJ21/(AL4-AJ20)","v":5.2631578947368418E-2},{"$f":"IF(AK21=0,0,(AK21*((LOG(AK21))/LOG(2))))","v":-0.22357513228650452},null,{"$f":"N21","v":2221},{"$f":"COUNTIF(L127:L156,AN21)","v":1},{"$f":"AO21/(AQ4-AO20)","v":0.04},{"$f":"IF(AP21=0,0,(AP21*((LOG(AP21))/LOG(2))))","v":-0.18575424759098899},null,{"$f":"N21","v":2221},{"$f":"COUNTIF(L157:L186,AS21)","v":0},{"$f":"AT21/(AV4-AT20)","v":0},{"$f":"IF(AU21=0,0,(AU21*((LOG(AU21))/LOG(2))))","v":0}]
[21,2015,12,2027,13,2036,23,2048,null,null,0,2112,null,2222,{"$f":"COUNTIF($L$7:$L$500,N22)","v":10},{"$f":"O22/$Q$4","v":5.5555555555555552E-2},{"$f":"IF(P22=0,0,(P22*((LOG(P22))/LOG(2))))","v":-0.23166250008012845},null,null,{"$f":"N22","v":2222},{"$f":"COUNTIF(L7:L36,T22)","v":0},{"$f":"U22/(W4-U20)","v":0},{"$f":"IF(V22=0,0,(V22*((LOG(V22))/LOG(2))))","v":0},null,{"$f":"N22","v":2222},{"$f":"COUNTIF(L37:L66,Y22)","v":0},{"$f":"Z22/(AB4-Z20)","v":0},{"$f":"IF(AA22=0,0,(AA22*((LOG(AA22))/LOG(2))))","v":0},null,{"$f":"N22","v":2222},{"$f":"COUNTIF(L67:L96,AD22)","v":2},{"$f":"AE22/(AG4-AE20)","v":0.1},{"$f":"IF(AF22=0,0,(AF22*((LOG(AF22))/LOG(2))))","v":-0.33219280948873625},null,{"$f":"N22","v":2222},{"$f":"COUNTIF(L97:L126,AI22)","v":1},{"$f":"AJ22/(AL4-AJ20)","v":5.2631578947368418E-2},{"$f":"IF(AK22=0,0,(AK22*((LOG(AK22))/LOG(2))))","v":-0.22357513228650452},null,{"$f":"N22","v":2222},{"$f":"COUNTIF(L127:L156,AN22)","v":1},{"$f":"AO22/(AQ4-AO20)","v":0.04},{"$f":"IF(AP22=0,0,(AP22*((LOG(AP22))/LOG(2))))","v":-0.18575424759098899},null,{"$f":"N22","v":2222},{"$f":"COUNTIF(L157:L186,AS22)","v":6},{"$f":"AT22/(AV4-AT20)","v":0.2857142857142857},{"$f":"IF(AU22=0,0,(AU22*((LOG(AU22))/LOG(2))))","v":-0.51638712058788683}]
[21,2145,12,2154,24,2163,14,2174,null,null,0,2121,null,null,null,{"$f":"SUM(P7:P22)","v":1},{"$f":"-SUM(Q7:Q22)","v":3.2711109854958282},null,null,null,null,{"$f":"SUM(V7:V22)","v":1},{"$f":"-SUM(W7:W22)","v":2.6975217606214432},null,null,null,{"$f":"SUM(AA7:AA22)","v":0.99999999999999989},{"$f":"-SUM(AB7:AB22)","v":2.2191319108992298},null,null,null,{"$f":"SUM(AF7:AF22)","v":1.0000000000000002},{"$f":"-SUM(AG7:AG22)","v":2.639353872167201},null,null,null,{"$f":"SUM(AK7:AK22)","v":0.99999999999999978},{"$f":"-SUM(AL7:AL22)","v":2.9258530145612838},null,null,null,{"$f":"SUM(AP7:AP22)","v":1},{"$f":"-SUM(AQ7:AQ22)","v":2.9330201924480455},null,null,null,{"$f":"SUM(AU7:AU22)","v":1},{"$f":"-SUM(AV7:AV22)","v":2.3671114697796738}]
[21,2271,12,2283,24,2296,23,2307,null,null,0,2122,null,null,null,"U=",{"$f":"Q23/(LOG(Q4)/LOG(2))","v":0.43662241416591235},null,null,null,null,"U1=",{"$f":"W23/(LOG(W4)/LOG(2))","v":0.54974157423351222},null,null,null,"U2=",{"$f":"AB23/(LOG(AB4)/LOG(2))","v":0.4522480922817535},null,null,null,"U3=",{"$f":"AG23/(LOG(AG4)/LOG(2))","v":0.53788724666682453},null,null,null,"U4=",{"$f":"AL23/(LOG(AL4)/LOG(2))","v":0.59627435288241626},null,null,null,"U5=",{"$f":"AQ23/(LOG(AQ4)/LOG(2))","v":0.59773498823735494},null,null,null,"U6=",{"$f":"AV23/(LOG(AV4)/LOG(2))","v":0.48240559345222594}]
[21,2405,12,2416,24,2428,14,2440,null,null,0,2121]
[21,2538,12,2551,24,2562,14,2575,null,null,0,2121]
[21,2672,12,2683,24,2696,14,2709,null,null,0,2121,null,"Total Target Seq"]
[21,2806,12,2815,24,2828,23,2839,null,null,0,2122,null,{"$f":"COUNTIF(L7:L186,G3)","v":40},null,30,30,30,30,30,30]
[21,2935,12,2949,13,2959,23,2969,null,null,0,2112,null,null,null,"% of reinforcement given in 6 equal intervals based on number of trials "]
[21,3067,12,3076,24,3087,14,3101,null,null,0,2121,null,null,null,"%_1","%_2","%_3","%_4","%_5","%_6"]
[21,3197,12,3208,24,3217,14,3230,null,null,0,2121,null,null,"target sequence",{"$f":"$G$3","v":2212},{"$f":"$G$3","v":2212},{"$f":"$G$3","v":2212},{"$f":"$G$3","v":2212},{"$f":"$G$3","v":2212},{"$f":"$G$3","v":2212}]
[21,3328,12,3336,24,3346,14,3356,null,null,0,2121,null,null,"total reinforcement",{"$f":"U20","v":3},{"$f":"Z20","v":2},{"$f":"AE20","v":10},{"$f":"AJ20","v":11},{"$f":"AO20","v":5},{"$f":"AT20","v":9}]
[12,3458,23,3468,13,3480,23,3492,null,null,0,1212,null,null,"% target"]
[21,3601,12,3610,24,3622,14,3634,null,null,0,2121,null,null,"CCRF"]
[12,3737,23,3747,13,3758,23,3779,null,null,0,1212,null,null,"% CCRf"]
[12,3878,14,3892,24,3902,14,3913,null,null,0,1121,null,null,"average response rate",{"$f":"H36/P28","v":130.43333333333334},{"$f":"(H66-H36)/Q28","v":137.96666666666667},{"$f":"(H96-H66)/R28","v":129.66666666666666},{"$f":"(H126-H96)/S28","v":125.23333333333333},{"$f":"(H156-H126)/T28","v":129.56666666666666},{"$f":"(H186-H156)/U28","v":128.43333333333334}]
[21,4010,12,4019,24,4029,14,4040,null,null,0,2121]
[21,4144,12,4155,13,4180,23,4194,null,null,0,2112]
[21,4292,12,4301,13,4310,23,4319,null,null,0,2112]
[12,4417,23,4427,13,4438,23,4453,null,null,0,1212]
[21,4568,12,4580,24,4592,14,4603,null,null,0,2121]
[21,4714,12,4724,24,4737,14,4749,null,null,0,2121]
[12,4848,23,4856,13,4865,23,4875,null,null,0,1212]
[21,4973,12,4983,24,4992,14,5003,null,null,0,2121]
[12,5100,23,5110,13,5121,14,5152,null,null,0,1211]
[12,5251,23,5260,13,5271,23,5283,null,null,0,1212]
[12,5384,14,5392,24,5401,14,5413,null,null,0,1121]
[21,5516,12,5527,24,5539,14,5555,null,null,0,2121]
[12,5658,23,5666,13,5677,23,5689,null,null,0,1212]
[21,5803,12,5812,13,5821,23,5833,null,null,0,2112]
[21,5946,12,5957,24,5970,23,5980,null,null,0,2122]
[21,6092,12,6101,24,6110,14,6123,null,null,0,2121]
[21,6228,12,6237,24,6247,14,6259,null,null,0,2121]
[21,6360,12,6372,24,6382,14,6395,null,null,0,2121]
[12,6505,23,6513,13,6526,23,6540,null,null,0,1212]
[21,6647,12,6656,24,6665,14,6678,null,null,0,2121]
[21,6786,12,6794,24,6804,23,6813,null,null,0,2122]
[21,6917,12,6929,24,6941,14,6953,null,null,0,2121]
[21,7059,21,7067,11,7079,21,7091,null,null,0,2212]
[21,7187,12,7200,13,7207,23,7227,null,null,0,2112]
[21,7325,21,7334,11,7345,21,7357,null,null,0,2212]
[21,7448,12,7461,24,7480,14,7493,null,null,0,2121]
[21,7599,12,7608,24,7620,14,7642,null,null,0,2121]
[12,7767,23,7775,24,7783,23,7791,null,null,0,1222]
[21,7889,12,7902,24,7911,14,7923,null,null,0,2121]
[21,8021,12,8032,24,8044,23,8052,null,null,0,2122]
[21,8150,12,8168,24,8180,23,8188,null,null,0,2122]
[21,8285,12,8293,24,8301,14,8316,null,null,0,2121]
[21,8417,21,8424,22,8432,14,8444,null,null,0,2221]
[21,8549,21,8555,11,8567,21,8580,null,null,0,2212]
[21,8668,12,8680,24,8700,23,8708,null,null,0,2122]
[21,8805,21,8810,11,8822,21,8841,null,null,0,2212]
[21,8940,12,8952,24,8963,23,8980,null,null,0,2122]
[21,9088,12,9101,24,9111,23,9119,null,null,0,2122]
[21,9225,12,9234,24,9246,23,9254,null,null,0,2122]
[21,9355,21,9369,11,9381,21,9410,null,null,0,2212]
[21,9499,21,9505,11,9517,21,9535,null,null,0,2212]
[21,9624,21,9631,11,9642,21,9653,null,null,0,2212]
[21,9741,21,9747,11,9757,21,9766,null,null,0,2212]
[12,9855,23,9864,13,9875,23,9902,null,null,0,1212]
[12,10000,14,10008,24,10016,23,10022,null,null,0,1122]
[21,10124,21,10128,22,10134,23,10153,null,null,0,2222]
[12,10252,23,10261,24,10269,14,10280,null,null,0,1221]
[21,10377,21,10382,11,10390,21,10405,null,null,0,2212]
[21,10507,12,10517,24,10536,23,10544,null,null,0,2122]
[12,10641,23,10651,13,10660,23,10670,null,null,0,1212]
[12,10771,23,10779,24,10787,23,10795,null,null,0,1222]
[12,10893,23,10909,24,10918,14,10930,null,null,0,1221]
[12,11033,23,11042,24,11054,23,11061,null,null,0,1222]
[21,11165,12,11174,24,11186,23,11194,null,null,0,2122]
[12,11293,23,11302,24,11307,14,11318,null,null,0,1221]
[12,11417,23,11426,24,11433,14,11444,null,null,0,1221]
[21,11550,21,11557,22,11564,23,11572,null,null,0,2222]
[21,11682,21,11690,11,11702,21,11714,null,null,0,2212]
[21,11805,21,11812,11,11823,21,11832,null,null,0,2212]
[21,11918,21,11923,11,11933,21,11942,null,null,0,2212]
[21,12028,21,12033,11,12046,21,12065,null,null,0,2212]
[21,12155,21,12161,22,12168,14,12180,null,null,0,2221]
[21,12282,12,12290,24,12301,23,12308,null,null,0,2122]
[12,12407,23,12416,13,12424,23,12438,null,null,0,1212]
[21,12537,12,12545,24,12555,14,12566,null,null,0,2121]
[12,12665,23,12676,24,12683,23,12691,null,null,0,1222]
[21,12796,21,12803,11,12815,21,12833,null,null,0,2212]
[21,12922,12,12934,13,12944,23,12963,null,null,0,2112]
[21,13060,21,13064,11,13075,21,13083,null,null,0,2212]
[21,13171,21,13178,11,13189,21,13208,null,null,0,2212]
[21,13295,21,13302,11,13310,21,13321,null,null,0,2212]
[21,13409,21,13413,11,13425,21,13435,null,null,0,2212]
[21,13522,21,13526,22,13534,23,13541,null,null,0,2222]
[12,13638,23,13648,24,13654,14,13666,null,null,0,1221]
[12,13764,23,13776,24,13783,14,13796,null,null,0,1221]
[21,13900,12,13909,24,13920,23,13927,null,null,0,2122]
[21,14025,21,14033,11,14043,21,14062,null,null,0,2212]
[21,14158,21,14168,11,14182,21,14193,null,null,0,2212]
[21,14284,12,14296,24,14312,23,14320,null,null,0,2122]
[21,14426,12,14438,24,14447,23,14455,null,null,0,2122]
[21,14552,21,14556,11,14564,21,14576,null,null,0,2212]
[21,14663,21,14669,11,14680,21,14688,null,null,0,2212]
[21,14775,21,14782,11,14792,21,14804,null,null,0,2212]
[12,14894,23,14901,24,14905,14,14915,null,null,0,1221]
[21,15020,12,15027,13,15031,23,15041,null,null,0,2112]
[12,15139,23,15148,13,15156,23,15166,null,null,0,1212]
[12,15265,14,15280,24,15290,23,15298,null,null,0,1122]
[12,15408,23,15417,24,15424,23,15432,null,null,0,1222]
[21,15531,12,15541,24,15549,23,15557,null,null,0,2122]
[12,15654,23,15663,24,15685,23,15699,null,null,0,1222]
[21,15800,12,15809,24,15820,23,15827,null,null,0,2122]
[12,15928,14,15936,24,15945,23,15952,null,null,0,1122]
[12,16050,23,16058,13,16066,23,16076,null,null,0,1212]
[12,16174,23,16183,24,16190,23,16197,null,null,0,1222]
[12,16295,23,16303,24,16308,14,16320,null,null,0,1221]
[12,16417,23,16425,24,16430,14,16441,null,null,0,1221]
[12,16541,14,16550,24,16558,23,16567,null,null,0,1122]
[21,16664,12,16675,24,16684,14,16735,null,null,0,2121]
[21,16833,12,16843,24,16853,23,16861,null,null,0,2122]
[21,16965,21,16970,11,16981,21,16999,null,null,0,2212]
[21,17086,21,17091,11,17101,21,17112,null,null,0,2212]
[21,17202,12,17212,24,17230,23,17238,null,null,0,2122]
[21,17343,12,17352,13,17360,23,17370,null,null,0,2112]
[21,17478,12,17489,24,17501,23,17508,null,null,0,2122]
[21,17615,21,17622,11,17634,21,17646,null,null,0,2212]
[21,17734,21,17741,11,17752,21,17791,null,null,0,2212]
[21,17888,12,17897,24,17915,14,17926,null,null,0,2121]
[12,18024,23,18034,24,18041,23,18048,null,null,0,1222]
[21,18148,21,18152,11,18163,21,18171,null,null,0,2212]
[21,18259,12,18269,24,18277,23,18284,null,null,0,2122]
[21,18386,12,18393,24,18404,23,18411,null,null,0,2122]
[21,18510,12,18520,24,18526,23,18534,null,null,0,2122]
[12,18631,23,18641,24,18646,14,18657,null,null,0,1221]
[12,18754,23,18763,24,18768,23,18773,null,null,0,1222]
[21,18874,21,18879,22,18885,14,18899,null,null,0,2221]
[12,18996,23,19008,24,19014,23,19022,null,null,0,1222]
[12,19121,23,19129,24,19136,23,19143,null,null,0,1222]
[21,19245,12,19256,24,19272,14,19288,null,null,0,2121]
[12,19387,23,19395,13,19407,14,19444,null,null,0,1211]
[21,19548,21,19570,22,19577,23,19586,null,null,0,2222]
[12,19685,23,19693,24,19700,14,19712,null,null,0,1221]
[12,19810,23,19818,13,19830,23,19841,null,null,0,1212]
[21,19942,21,19957,11,19969,12,19978,null,null,0,2211]
[12,20075,23,20084,13,20094,23,20102,null,null,0,1212]
[21,20210,21,20215,22,20220,23,20243,null,null,0,2222]
[21,20342,21,20347,22,20355,23,20359,null,null,0,2222]
[21,20467,21,20472,11,20483,21,20496,null,null,0,2212]
[21,20582,21,20587,11,20597,21,20608,null,null,0,2212]
[21,20700,21,20708,22,20714,23,20722,null,null,0,2222]
[21,20819,21,20822,11,20833,21,20871,null,null,0,2212]
[21,20962,12,20972,24,20980,23,20988,null,null,0,2122]
[12,21086,23,21094,13,21102,23,21110,null,null,0,1212]
[12,21210,23,21219,24,21226,23,21233,null,null,0,1222]
[12,21334,23,21342,24,21350,23,21365,null,null,0,1222]
[21,21470,21,21477,22,21481,23,21488,null,null,0,2222]
[21,21595,21,21599,22,21604,23,21611,null,null,0,2222]
[21,21703,21,21708,11,21719,21,21735,null,null,0,2212]
[21,21826,12,21838,24,21849,23,21883,null,null,0,2122]
[21,21980,21,21984,22,21991,23,21999,null,null,0,2222]
[21,22099,21,22104,11,22115,21,22127,null,null,0,2212]
[21,22214,12,22225,24,22234,23,22243,null,null,0,2122]
[21,22347,21,22360,11,22376,21,22399,null,null,0,2212]
[21,22500,21,22505,11,22516,12,22553,null,null,0,2211]
[21,22660,12,22668,24,22676,23,22684,null,null,0,2122]
[21,22789,12,22798,24,22809,23,22816,null,null,0,2122]
[12,22925,23,22934,24,22942,23,22949,null,null,0,1222]
[21,23052,21,23057,11,23067,21,23077,null,null,0,2212]
[21,23166,12,23175,24,23183,23,23190,null,null,0,2122]
[21,23289,21,23294,11,23304,21,23313,null,null,0,2212]
[21,23410,21,23417,11,23428,21,23439,null,null,1,2212]

{"sheet":"!MB23850.091","index":18,"n_rows":170,"n_cols":48,"rows_kept":170,"cut":false,"hidden":false,"merged":[[4,39,4,42],[5,39,5,40],[4,44,4,47],[5,44,5,45],[4,24,4,27],[5,24,5,25],[4,29,4,32],[5,29,5,30],[4,34,4,37],[5,34,5,35],[1,1,1,2],[5,13,5,14],[26,13,26,14],[27,13,27,14],[4,19,4,22],[5,19,5,20]]}
["Report for:!MB23850.091"]
["Date:","<date>"]
["Hen:","<hen>",null,null,null,"Correct Sequence",{"$f":"Start!J2","v":2212},null,null,null,null,null,null,null,null,"Total Sequences in Data",{"$f":"4994-COUNTBLANK(L7:L5000)","v":164},null,null,null,null,"Total Sequences in Block Data",{"$f":"COUNTA(L7:L33)","v":27},null,null,null,"Total Sequences in Block Data",{"$f":"COUNTA(L34:L61)","v":28},null,null,null,"Total Sequences in Block Data",{"$f":"COUNTA(L62:L88)","v":27},null,null,null,"Total Sequences in Block Data",{"$f":"COUNTA(L89:L115)","v":27},null,null,null,"Total Sequences in Block Data",{"$f":"COUNTA(L116:L143)","v":28},null,null,null,"Total Sequences in Block Data",{"$f":"COUNTA(L144:L170)","v":27}]
[null,null,null,null,null,null,null,null,null,null,null,null,null,null,null,"Total Sequences in Summary",{"$f":"SUM(O7:O22)","v":164},null,null,null,null,"Total Sequences in Block Summary",{"$f":"SUM(U7:U22)","v":27},null,null,null,"Total Sequences in Block Summary",{"$f":"SUM(Z7:Z22)","v":28},null,null,null,"Total Sequences in Block Summary",{"$f":"SUM(AE7:AE22)","v":27},null,null,null,"Total Sequences in Block Summary",{"$f":"SUM(AJ7:AJ22)","v":27},null,null,null,"Total Sequences in Block Summary",{"$f":"SUM(AO7:AO22)","v":28},null,null,null,"Total Sequences in Block Summary",{"$f":"SUM(AT7:AT22)","v":27}]
[null,null,null,null,null,null,null,null,null,null,null,null,null,null,null,null,null,null,null,"Block 1",null,null,null,null,"Block 2",null,null,null,null,"Block 3",null,null,null,null,"Block 4",null,null,null,null,"Block 5",null,null,null,null,"Block 6"]
["Sequence\nComponent\n1","Time\n1","Sequence\nComponent\n2","Time\n2","Sequence\nComponent\n3","Time\n3","Sequence\nComponent\n4","Time\n4","Sequence\nComponent\n5","Time\n5","Correct?\n0=No 1=Yes","Sequence",null,"Frequency",null,"Relative Frequency","Variability",null,null,"Frequency",null,"Relative Frequency","Variability",null,"Frequency",null,"Relative Frequency","Variability",null,"Frequency",null,"Relative Frequency","Variability",null,"Frequency",null,"Relative Frequency","Variability",null,"Frequency",null,"Relative Frequency","Variability",null,"Frequency",null,"Relative Frequency","Variability"]
[12,19,23,33,13,49,23,62,null,null,0,1212,null,1111,{"$f":"COUNTIF($L$7:$L$500,N7)","v":1},{"$f":"O7/$Q$4","v":6.0975609756097563E-3},{"$f":"IF(P7=0,0,(P7*((LOG(P7))/LOG(2))))","v":-4.4863121979378563E-2},null,null,{"$f":"N7","v":1111},{"$f":"COUNTIF(L7:L33,T7)","v":1},{"$f":"U7/(W4-U20)","v":5.2631578947368418E-2},{"$f":"IF(V7=0,0,(V7*((LOG(V7))/LOG(2))))","v":-0.22357513228650452},null,{"$f":"N7","v":1111},{"$f":"COUNTIF(L34:L61,Y7)","v":0},{"$f":"Z7/(AB4-Z20)","v":0},{"$f":"IF(AA7=0,0,(AA7*((LOG(AA7))/LOG(2))))","v":0},null,{"$f":"N7","v":1111},{"$f":"COUNTIF(L62:L88,AD7)","v":0},{"$f":"AE7/(AG4-AE20)","v":0},{"$f":"IF(AF7=0,0,(AF7*((LOG(AF7))/LOG(2))))","v":0},null,{"$f":"N7","v":1111},{"$f":"COUNTIF(L89:L115,AI7)","v":0},{"$f":"AJ7/(AL4-AJ20)","v":0},{"$f":"IF(AK7=0,0,(AK7*((LOG(AK7))/LOG(2))))","v":0},null,{"$f":"N7","v":1111},{"$f":"COUNTIF(L116:L143,AN7)","v":0},{"$f":"AO7/(AQ4-AO20)","v":0},{"$f":"IF(AP7=0,0,(AP7*((LOG(AP7))/LOG(2))))","v":0},null,{"$f":"N7","v":1111},{"$f":"COUNTIF(L144:L170,AS7)","v":0},{"$f":"AT7/(AV4-AT20)","v":0},{"$f":"IF(AU7=0,0,(AU7*((LOG(AU7))/LOG(2))))","v":0}]
[21,159,12,169,24,179,14,192,null,null,0,2121,null,1112,{"$f":"COUNTIF($L$7:$L$500,N8)","v":1},{"$f":"O8/$Q$4","v":6.0975609756097563E-3},{"$f":"IF(P8=0,0,(P8*((LOG(P8))/LOG(2))))","v":-4.4863121979378563E-2},null,null,{"$f":"N8","v":1112},{"$f":"COUNTIF(L7:L33,T8)","v":1},{"$f":"U8/(W4-U20)","v":5.2631578947368418E-2},{"$f":"IF(V8=0,0,(V8*((LOG(V8))/LOG(2))))","v":-0.22357513228650452},null,{"$f":"N8","v":1112},{"$f":"COUNTIF(L34:L61,Y8)","v":0},{"$f":"Z8/(AB4-Z20)","v":0},{"$f":"IF(AA8=0,0,(AA8*((LOG(AA8))/LOG(2))))","v":0},null,{"$f":"N8","v":1112},{"$f":"COUNTIF(L62:L88,AD8)","v":0},{"$f":"AE8/(AG4-AE20)","v":0},{"$f":"IF(AF8=0,0,(AF8*((LOG(AF8))/LOG(2))))","v":0},null,{"$f":"N8","v":1112},{"$f":"COUNTIF(L89:L115,AI8)","v":0},{"$f":"AJ8/(AL4-AJ20)","v":0},{"$f":"IF(AK8=0,0,(AK8*((LOG(AK8))/LOG(2))))","v":0},null,{"$f":"N8","v":1112},{"$f":"COUNTIF(L116:L143,AN8)","v":0},{"$f":"AO8/(AQ4-AO20)","v":0},{"$f":"IF(AP8=0,0,(AP8*((LOG(AP8))/LOG(2))))","v":0},null,{"$f":"N8","v":1112},{"$f":"COUNTIF(L144:L170,AS8)","v":0},{"$f":"AT8/(AV4-AT20)","v":0},{"$f":"IF(AU8=0,0,(AU8*((LOG(AU8))/LOG(2))))","v":0}]
[21,291,12,303,13,313,23,325,null,null,0,2112,null,1121,{"$f":"COUNTIF($L$7:$L$500,N9)","v":3},{"$f":"O9/$Q$4","v":1.8292682926829267E-2},{"$f":"IF(P9=0,0,(P9*((LOG(P9))/LOG(2))))","v":-0.10559614946152916},null,null,{"$f":"N9","v":1121},{"$f":"COUNTIF(L7:L33,T9)","v":0},{"$f":"U9/(W4-U20)","v":0},{"$f":"IF(V9=0,0,(V9*((LOG(V9))/LOG(2))))","v":0},null,{"$f":"N9","v":1121},{"$f":"COUNTIF(L34:L61,Y9)","v":1},{"$f":"Z9/(AB4-Z20)","v":3.8461538461538464E-2},{"$f":"IF(AA9=0,0,(AA9*((LOG(AA9))/LOG(2))))","v":-0.18078614300542661},null,{"$f":"N9","v":1121},{"$f":"COUNTIF(L62:L88,AD9)","v":2},{"$f":"AE9/(AG4-AE20)","v":0.08},{"$f":"IF(AF9=0,0,(AF9*((LOG(AF9))/LOG(2))))","v":-0.29150849518197797},null,{"$f":"N9","v":1121},{"$f":"COUNTIF(L89:L115,AI9)","v":0},{"$f":"AJ9/(AL4-AJ20)","v":0},{"$f":"IF(AK9=0,0,(AK9*((LOG(AK9))/LOG(2))))","v":0},null,{"$f":"N9","v":1121},{"$f":"COUNTIF(L116:L143,AN9)","v":0},{"$f":"AO9/(AQ4-AO20)","v":0},{"$f":"IF(AP9=0,0,(AP9*((LOG(AP9))/LOG(2))))","v":0},null,{"$f":"N9","v":1121},{"$f":"COUNTIF(L144:L170,AS9)","v":0},{"$f":"AT9/(AV4-AT20)","v":0},{"$f":"IF(AU9=0,0,(AU9*((LOG(AU9))/LOG(2))))","v":0}]
[21,424,12,435,13,471,23,491,null,null,0,2112,null,1122,{"$f":"COUNTIF($L$7:$L$500,N10)","v":1},{"$f":"O10/$Q$4","v":6.0975609756097563E-3},{"$f":"IF(P10=0,0,(P10*((LOG(P10))/LOG(2))))","v":-4.4863121979378563E-2},null,null,{"$f":"N10","v":1122},{"$f":"COUNTIF(L7:L33,T10)","v":0},{"$f":"U10/(W4-U20)","v":0},{"$f":"IF(V10=0,0,(V10*((LOG(V10))/LOG(2))))","v":0},null,{"$f":"N10","v":1122},{"$f":"COUNTIF(L34:L61,Y10)","v":0},{"$f":"Z10/(AB4-Z20)","v":0},{"$f":"IF(AA10=0,0,(AA10*((LOG(AA10))/LOG(2))))","v":0},null,{"$f":"N10","v":1122},{"$f":"COUNTIF(L62:L88,AD10)","v":0},{"$f":"AE10/(AG4-AE20)","v":0},{"$f":"IF(AF10=0,0,(AF10*((LOG(AF10))/LOG(2))))","v":0},null,{"$f":"N10","v":1122},{"$f":"COUNTIF(L89:L115,AI10)","v":1},{"$f":"AJ10/(AL4-AJ20)","v":7.6923076923076927E-2},{"$f":"IF(AK10=0,0,(AK10*((LOG(AK10))/LOG(2))))","v":-0.28464920908777636},null,{"$f":"N10","v":1122},{"$f":"COUNTIF(L116:L143,AN10)","v":0},{"$f":"AO10/(AQ4-AO20)","v":0},{"$f":"IF(AP10=0,0,(AP10*((LOG(AP10))/LOG(2))))","v":0},null,{"$f":"N10","v":1122},{"$f":"COUNTIF(L144:L170,AS10)","v":0},{"$f":"AT10/(AV4-AT20)","v":0},{"$f":"IF(AU10=0,0,(AU10*((LOG(AU10))/LOG(2))))","v":0}]
[12,609,14,619,13,628,14,662,null,null,0,1111,null,1211,{"$f":"COUNTIF($L$7:$L$500,N11)","v":2},{"$f":"O11/$Q$4","v":1.2195121951219513E-2},{"$f":"IF(P11=0,0,(P11*((LOG(P11))/LOG(2))))","v":-7.7531122007537603E-2},null,null,{"$f":"N11","v":1211},{"$f":"COUNTIF(L7:L33,T11)","v":0},{"$f":"U11/(W4-U20)","v":0},{"$f":"IF(V11=0,0,(V11*((LOG(V11))/LOG(2))))","v":0},null,{"$f":"N11","v":1211},{"$f":"COUNTIF(L34:L61,Y11)","v":1},{"$f":"Z11/(AB4-Z20)","v":3.8461538461538464E-2},{"$f":"IF(AA11=0,0,(AA11*((LOG(AA11))/LOG(2))))","v":-0.18078614300542661},null,{"$f":"N11","v":1211},{"$f":"COUNTIF(L62:L88,AD11)","v":1},{"$f":"AE11/(AG4-AE20)","v":0.04},{"$f":"IF(AF11=0,0,(AF11*((LOG(AF11))/LOG(2))))","v":-0.18575424759098899},null,{"$f":"N11","v":1211},{"$f":"COUNTIF(L89:L115,AI11)","v":0},{"$f":"AJ11/(AL4-AJ20)","v":0},{"$f":"IF(AK11=0,0,(AK11*((LOG(AK11))/LOG(2))))","v":0},null,{"$f":"N11","v":1211},{"$f":"COUNTIF(L116:L143,AN11)","v":0},{"$f":"AO11/(AQ4-AO20)","v":0},{"$f":"IF(AP11=0,0,(AP11*((LOG(AP11))/LOG(2))))","v":0},null,{"$f":"N11","v":1211},{"$f":"COUNTIF(L144:L170,AS11)","v":0},{"$f":"AT11/(AV4-AT20)","v":0},{"$f":"IF(AU11=0,0,(AU11*((LOG(AU11))/LOG(2))))","v":0}]
[12,767,23,777,13,788,23,801,null,null,0,1212,null,1212,{"$f":"COUNTIF($L$7:$L$500,N12)","v":21},{"$f":"O12/$Q$4","v":0.12804878048780488},{"$f":"IF(P12=0,0,(P12*((LOG(P12))/LOG(2))))","v":-0.37969467206479146},null,null,{"$f":"N12","v":1212},{"$f":"COUNTIF(L7:L33,T12)","v":3},{"$f":"U12/(W4-U20)","v":0.15789473684210525},{"$f":"IF(V12=0,0,(V12*((LOG(V12))/LOG(2))))","v":-0.42046815990354147},null,{"$f":"N12","v":1212},{"$f":"COUNTIF(L34:L61,Y12)","v":7},{"$f":"Z12/(AB4-Z20)","v":0.26923076923076922},{"$f":"IF(AA12=0,0,(AA12*((LOG(AA12))/LOG(2))))","v":-0.50967667586863141},null,{"$f":"N12","v":1212},{"$f":"COUNTIF(L62:L88,AD12)","v":1},{"$f":"AE12/(AG4-AE20)","v":0.04},{"$f":"IF(AF12=0,0,(AF12*((LOG(AF12))/LOG(2))))","v":-0.18575424759098899},null,{"$f":"N12","v":1212},{"$f":"COUNTIF(L89:L115,AI12)","v":2},{"$f":"AJ12/(AL4-AJ20)","v":0.15384615384615385},{"$f":"IF(AK12=0,0,(AK12*((LOG(AK12))/LOG(2))))","v":-0.4154522643293988},null,{"$f":"N12","v":1212},{"$f":"COUNTIF(L116:L143,AN12)","v":5},{"$f":"AO12/(AQ4-AO20)","v":0.2},{"$f":"IF(AP12=0,0,(AP12*((LOG(AP12))/LOG(2))))","v":-0.46438561897747244},null,{"$f":"N12","v":1212},{"$f":"COUNTIF(L144:L170,AS12)","v":3},{"$f":"AT12/(AV4-AT20)","v":0.1875},{"$f":"IF(AU12=0,0,(AU12*((LOG(AU12))/LOG(2))))","v":-0.45281953111478312}]
[21,900,21,916,11,924,21,975,null,null,0,2212,null,1221,{"$f":"COUNTIF($L$7:$L$500,N13)","v":5},{"$f":"O13/$Q$4","v":3.048780487804878E-2},{"$f":"IF(P13=0,0,(P13*((LOG(P13))/LOG(2))))","v":-0.15352511919910736},null,null,{"$f":"N13","v":1221},{"$f":"COUNTIF(L7:L33,T13)","v":0},{"$f":"U13/(W4-U20)","v":0},{"$f":"IF(V13=0,0,(V13*((LOG(V13))/LOG(2))))","v":0},null,{"$f":"N13","v":1221},{"$f":"COUNTIF(L34:L61,Y13)","v":2},{"$f":"Z13/(AB4-Z20)","v":7.6923076923076927E-2},{"$f":"IF(AA13=0,0,(AA13*((LOG(AA13))/LOG(2))))","v":-0.28464920908777636},null,{"$f":"N13","v":1221},{"$f":"COUNTIF(L62:L88,AD13)","v":0},{"$f":"AE13/(AG4-AE20)","v":0},{"$f":"IF(AF13=0,0,(AF13*((LOG(AF13))/LOG(2))))","v":0},null,{"$f":"N13","v":1221},{"$f":"COUNTIF(L89:L115,AI13)","v":1},{"$f":"AJ13/(AL4-AJ20)","v":7.6923076923076927E-2},{"$f":"IF(AK13=0,0,(AK13*((LOG(AK13))/LOG(2))))","v":-0.28464920908777636},null,{"$f":"N13","v":1221},{"$f":"COUNTIF(L116:L143,AN13)","v":1},{"$f":"AO13/(AQ4-AO20)","v":0.04},{"$f":"IF(AP13=0,0,(AP13*((LOG(AP13))/LOG(2))))","v":-0.18575424759098899},null,{"$f":"N13","v":1221},{"$f":"COUNTIF(L144:L170,AS13)","v":1},{"$f":"AT13/(AV4-AT20)","v":6.25E-2},{"$f":"IF(AU13=0,0,(AU13*((LOG(AU13))/LOG(2))))","v":-0.25}]
[21,1085,12,1093,24,1130,23,1147,null,null,0,2122,null,1222,{"$f":"COUNTIF($L$7:$L$500,N14)","v":8},{"$f":"O14/$Q$4","v":4.878048780487805E-2},{"$f":"IF(P14=0,0,(P14*((LOG(P14))/LOG(2))))","v":-0.21256351242039428},null,null,{"$f":"N14","v":1222},{"$f":"COUNTIF(L7:L33,T14)","v":0},{"$f":"U14/(W4-U20)","v":0},{"$f":"IF(V14=0,0,(V14*((LOG(V14))/LOG(2))))","v":0},null,{"$f":"N14","v":1222},{"$f":"COUNTIF(L34:L61,Y14)","v":2},{"$f":"Z14/(AB4-Z20)","v":7.6923076923076927E-2},{"$f":"IF(AA14=0,0,(AA14*((LOG(AA14))/LOG(2))))","v":-0.28464920908777636},null,{"$f":"N14","v":1222},{"$f":"COUNTIF(L62:L88,AD14)","v":2},{"$f":"AE14/(AG4-AE20)","v":0.08},{"$f":"IF(AF14=0,0,(AF14*((LOG(AF14))/LOG(2))))","v":-0.29150849518197797},null,{"$f":"N14","v":1222},{"$f":"COUNTIF(L89:L115,AI14)","v":0},{"$f":"AJ14/(AL4-AJ20)","v":0},{"$f":"IF(AK14=0,0,(AK14*((LOG(AK14))/LOG(2))))","v":0},null,{"$f":"N14","v":1222},{"$f":"COUNTIF(L116:L143,AN14)","v":3},{"$f":"AO14/(AQ4-AO20)","v":0.12},{"$f":"IF(AP14=0,0,(AP14*((LOG(AP14))/LOG(2))))","v":-0.36706724268642821},null,{"$f":"N14","v":1222},{"$f":"COUNTIF(L144:L170,AS14)","v":1},{"$f":"AT14/(AV4-AT20)","v":6.25E-2},{"$f":"IF(AU14=0,0,(AU14*((LOG(AU14))/LOG(2))))","v":-0.25}]
[21,1250,21,1264,11,1278,12,1287,null,null,0,2211,null,2111,{"$f":"COUNTIF($L$7:$L$500,N15)","v":3},{"$f":"O15/$Q$4","v":1.8292682926829267E-2},{"$f":"IF(P15=0,0,(P15*((LOG(P15))/LOG(2))))","v":-0.10559614946152916},null,null,{"$f":"N15","v":2111},{"$f":"COUNTIF(L7:L33,T15)","v":1},{"$f":"U15/(W4-U20)","v":5.2631578947368418E-2},{"$f":"IF(V15=0,0,(V15*((LOG(V15))/LOG(2))))","v":-0.22357513228650452},null,{"$f":"N15","v":2111},{"$f":"COUNTIF(L34:L61,Y15)","v":2},{"$f":"Z15/(AB4-Z20)","v":7.6923076923076927E-2},{"$f":"IF(AA15=0,0,(AA15*((LOG(AA15))/LOG(2))))","v":-0.28464920908777636},null,{"$f":"N15","v":2111},{"$f":"COUNTIF(L62:L88,AD15)","v":0},{"$f":"AE15/(AG4-AE20)","v":0},{"$f":"IF(AF15=0,0,(AF15*((LOG(AF15))/LOG(2))))","v":0},null,{"$f":"N15","v":2111},{"$f":"COUNTIF(L89:L115,AI15)","v":0},{"$f":"AJ15/(AL4-AJ20)","v":0},{"$f":"IF(AK15=0,0,(AK15*((LOG(AK15))/LOG(2))))","v":0},null,{"$f":"N15","v":2111},{"$f":"COUNTIF(L116:L143,AN15)","v":0},{"$f":"AO15/(AQ4-AO20)","v":0},{"$f":"IF(AP15=0,0,(AP15*((LOG(AP15))/LOG(2))))","v":0},null,{"$f":"N15","v":2111},{"$f":"COUNTIF(L144:L170,AS15)","v":0},{"$f":"AT15/(AV4-AT20)","v":0},{"$f":"IF(AU15=0,0,(AU15*((LOG(AU15))/LOG(2))))","v":0}]
[21,1396,12,1408,13,1418,14,1427,null,null,0,2111,null,2112,{"$f":"COUNTIF($L$7:$L$500,N16)","v":5},{"$f":"O16/$Q$4","v":3.048780487804878E-2},{"$f":"IF(P16=0,0,(P16*((LOG(P16))/LOG(2))))","v":-0.15352511919910736},null,null,{"$f":"N16","v":2112},{"$f":"COUNTIF(L7:L33,T16)","v":2},{"$f":"U16/(W4-U20)","v":0.10526315789473684},{"$f":"IF(V16=0,0,(V16*((LOG(V16))/LOG(2))))","v":-0.34188710667827216},null,{"$f":"N16","v":2112},{"$f":"COUNTIF(L34:L61,Y16)","v":0},{"$f":"Z16/(AB4-Z20)","v":0},{"$f":"IF(AA16=0,0,(AA16*((LOG(AA16))/LOG(2))))","v":0},null,{"$f":"N16","v":2112},{"$f":"COUNTIF(L62:L88,AD16)","v":2},{"$f":"AE16/(AG4-AE20)","v":0.08},{"$f":"IF(AF16=0,0,(AF16*((LOG(AF16))/LOG(2))))","v":-0.29150849518197797},null,{"$f":"N16","v":2112},{"$f":"COUNTIF(L89:L115,AI16)","v":1},{"$f":"AJ16/(AL4-AJ20)","v":7.6923076923076927E-2},{"$f":"IF(AK16=0,0,(AK16*((LOG(AK16))/LOG(2))))","v":-0.28464920908777636},null,{"$f":"N16","v":2112},{"$f":"COUNTIF(L116:L143,AN16)","v":0},{"$f":"AO16/(AQ4-AO20)","v":0},{"$f":"IF(AP16=0,0,(AP16*((LOG(AP16))/LOG(2))))","v":0},null,{"$f":"N16","v":2112},{"$f":"COUNTIF(L144:L170,AS16)","v":0},{"$f":"AT16/(AV4-AT20)","v":0},{"$f":"IF(AU16=0,0,(AU16*((LOG(AU16))/LOG(2))))","v":0}]
[21,1519,21,1527,11,1539,21,1551,null,null,0,2212,null,2121,{"$f":"COUNTIF($L$7:$L$500,N17)","v":16},{"$f":"O17/$Q$4","v":9.7560975609756101E-2},{"$f":"IF(P17=0,0,(P17*((LOG(P17))/LOG(2))))","v":-0.32756604923103255},null,null,{"$f":"N17","v":2121},{"$f":"COUNTIF(L7:L33,T17)","v":3},{"$f":"U17/(W4-U20)","v":0.15789473684210525},{"$f":"IF(V17=0,0,(V17*((LOG(V17))/LOG(2))))","v":-0.42046815990354147},null,{"$f":"N17","v":2121},{"$f":"COUNTIF(L34:L61,Y17)","v":3},{"$f":"Z17/(AB4-Z20)","v":0.11538461538461539},{"$f":"IF(AA17=0,0,(AA17*((LOG(AA17))/LOG(2))))","v":-0.35947814047153104},null,{"$f":"N17","v":2121},{"$f":"COUNTIF(L62:L88,AD17)","v":5},{"$f":"AE17/(AG4-AE20)","v":0.2},{"$f":"IF(AF17=0,0,(AF17*((LOG(AF17))/LOG(2))))","v":-0.46438561897747244},null,{"$f":"N17","v":2121},{"$f":"COUNTIF(L89:L115,AI17)","v":2},{"$f":"AJ17/(AL4-AJ20)","v":0.15384615384615385},{"$f":"IF(AK17=0,0,(AK17*((LOG(AK17))/LOG(2))))","v":-0.4154522643293988},null,{"$f":"N17","v":2121},{"$f":"COUNTIF(L116:L143,AN17)","v":3},{"$f":"AO17/(AQ4-AO20)","v":0.12},{"$f":"IF(AP17=0,0,(AP17*((LOG(AP17))/LOG(2))))","v":-0.36706724268642821},null,{"$f":"N17","v":2121},{"$f":"COUNTIF(L144:L170,AS17)","v":0},{"$f":"AT17/(AV4-AT20)","v":0},{"$f":"IF(AU17=0,0,(AU17*((LOG(AU17))/LOG(2))))","v":0}]
[21,1649,12,1660,24,1673,14,1708,null,null,0,2121,null,2122,{"$f":"COUNTIF($L$7:$L$500,N18)","v":29},{"$f":"O18/$Q$4","v":0.17682926829268292},{"$f":"IF(P18=0,0,(P18*((LOG(P18))/LOG(2))))","v":-0.44199731265380993},null,null,{"$f":"N18","v":2122},{"$f":"COUNTIF(L7:L33,T18)","v":6},{"$f":"U18/(W4-U20)","v":0.31578947368421051},{"$f":"IF(V18=0,0,(V18*((LOG(V18))/LOG(2))))","v":-0.52514684612287243},null,{"$f":"N18","v":2122},{"$f":"COUNTIF(L34:L61,Y18)","v":4},{"$f":"Z18/(AB4-Z20)","v":0.15384615384615385},{"$f":"IF(AA18=0,0,(AA18*((LOG(AA18))/LOG(2))))","v":-0.4154522643293988},null,{"$f":"N18","v":2122},{"$f":"COUNTIF(L62:L88,AD18)","v":5},{"$f":"AE18/(AG4-AE20)","v":0.2},{"$f":"IF(AF18=0,0,(AF18*((LOG(AF18))/LOG(2))))","v":-0.46438561897747244},null,{"$f":"N18","v":2122},{"$f":"COUNTIF(L89:L115,AI18)","v":3},{"$f":"AJ18/(AL4-AJ20)","v":0.23076923076923078},{"$f":"IF(AK18=0,0,(AK18*((LOG(AK18))/LOG(2))))","v":-0.48818705017383146},null,{"$f":"N18","v":2122},{"$f":"COUNTIF(L116:L143,AN18)","v":8},{"$f":"AO18/(AQ4-AO20)","v":0.32},{"$f":"IF(AP18=0,0,(AP18*((LOG(AP18))/LOG(2))))","v":-0.52603398072791185},null,{"$f":"N18","v":2122},{"$f":"COUNTIF(L144:L170,AS18)","v":3},{"$f":"AT18/(AV4-AT20)","v":0.1875},{"$f":"IF(AU18=0,0,(AU18*((LOG(AU18))/LOG(2))))","v":-0.45281953111478312}]
[21,1810,12,1821,24,1831,14,1845,null,null,0,2121,null,2211,{"$f":"COUNTIF($L$7:$L$500,N19)","v":4},{"$f":"O19/$Q$4","v":2.4390243902439025E-2},{"$f":"IF(P19=0,0,(P19*((LOG(P19))/LOG(2))))","v":-0.13067200011263619},null,null,{"$f":"N19","v":2211},{"$f":"COUNTIF(L7:L33,T19)","v":1},{"$f":"U19/(W4-U20)","v":5.2631578947368418E-2},{"$f":"IF(V19=0,0,(V19*((LOG(V19))/LOG(2))))","v":-0.22357513228650452},null,{"$f":"N19","v":2211},{"$f":"COUNTIF(L34:L61,Y19)","v":1},{"$f":"Z19/(AB4-Z20)","v":3.8461538461538464E-2},{"$f":"IF(AA19=0,0,(AA19*((LOG(AA19))/LOG(2))))","v":-0.18078614300542661},null,{"$f":"N19","v":2211},{"$f":"COUNTIF(L62:L88,AD19)","v":2},{"$f":"AE19/(AG4-AE20)","v":0.08},{"$f":"IF(AF19=0,0,(AF19*((LOG(AF19))/LOG(2))))","v":-0.29150849518197797},null,{"$f":"N19","v":2211},{"$f":"COUNTIF(L89:L115,AI19)","v":0},{"$f":"AJ19/(AL4-AJ20)","v":0},{"$f":"IF(AK19=0,0,(AK19*((LOG(AK19))/LOG(2))))","v":0},null,{"$f":"N19","v":2211},{"$f":"COUNTIF(L116:L143,AN19)","v":0},{"$f":"AO19/(AQ4-AO20)","v":0},{"$f":"IF(AP19=0,0,(AP19*((LOG(AP19))/LOG(2))))","v":0},null,{"$f":"N19","v":2211},{"$f":"COUNTIF(L144:L170,AS19)","v":0},{"$f":"AT19/(AV4-AT20)","v":0},{"$f":"IF(AU19=0,0,(AU19*((LOG(AU19))/LOG(2))))","v":0}]
[21,1953,12,1966,24,1997,23,2013,null,null,0,2122,null,2212,{"$f":"COUNTIF($L$7:$L$500,N20)","v":40},{"$f":"O20/$Q$4","v":0.24390243902439024},{"$f":"IF(P20=0,0,(P20*((LOG(P20))/LOG(2))))","v":-0.49649363651968809},null,null,{"$f":"N20","v":2212},{"$f":"COUNTIF(L7:L33,T20)","v":8},null,null,null,{"$f":"N20","v":2212},{"$f":"COUNTIF(L34:L61,Y20)","v":2},null,null,null,{"$f":"N20","v":2212},{"$f":"COUNTIF(L62:L88,AD20)","v":2},null,null,null,{"$f":"N20","v":2212},{"$f":"COUNTIF(L89:L115,AI20)","v":14},null,null,null,{"$f":"N20","v":2212},{"$f":"COUNTIF(L116:L143,AN20)","v":3},null,null,null,{"$f":"N20","v":2212},{"$f":"COUNTIF(L144:L170,AS20)","v":11}]
[12,2119,14,2124,13,2132,23,2145,null,null,0,1112,null,2221,{"$f":"COUNTIF($L$7:$L$500,N21)","v":9},{"$f":"O21/$Q$4","v":5.4878048780487805E-2},{"$f":"IF(P21=0,0,(P21*((LOG(P21))/LOG(2))))","v":-0.22980879895476791},null,null,{"$f":"N21","v":2221},{"$f":"COUNTIF(L7:L33,T21)","v":0},{"$f":"U21/(W4-U20)","v":0},{"$f":"IF(V21=0,0,(V21*((LOG(V21))/LOG(2))))","v":0},null,{"$f":"N21","v":2221},{"$f":"COUNTIF(L34:L61,Y21)","v":3},{"$f":"Z21/(AB4-Z20)","v":0.11538461538461539},{"$f":"IF(AA21=0,0,(AA21*((LOG(AA21))/LOG(2))))","v":-0.35947814047153104},null,{"$f":"N21","v":2221},{"$f":"COUNTIF(L62:L88,AD21)","v":0},{"$f":"AE21/(AG4-AE20)","v":0},{"$f":"IF(AF21=0,0,(AF21*((LOG(AF21))/LOG(2))))","v":0},null,{"$f":"N21","v":2221},{"$f":"COUNTIF(L89:L115,AI21)","v":1},{"$f":"AJ21/(AL4-AJ20)","v":7.6923076923076927E-2},{"$f":"IF(AK21=0,0,(AK21*((LOG(AK21))/LOG(2))))","v":-0.28464920908777636},null,{"$f":"N21","v":2221},{"$f":"COUNTIF(L116:L143,AN21)","v":3},{"$f":"AO21/(AQ4-AO20)","v":0.12},{"$f":"IF(AP21=0,0,(AP21*((LOG(AP21))/LOG(2))))","v":-0.36706724268642821},null,{"$f":"N21","v":2221},{"$f":"COUNTIF(L144:L170,AS21)","v":2},{"$f":"AT21/(AV4-AT20)","v":0.125},{"$f":"IF(AU21=0,0,(AU21*((LOG(AU21))/LOG(2))))","v":-0.375}]
[21,2249,21,2253,11,2264,21,2277,null,null,0,2212,null,2222,{"$f":"COUNTIF($L$7:$L$500,N22)","v":16},{"$f":"O22/$Q$4","v":9.7560975609756101E-2},{"$f":"IF(P22=0,0,(P22*((LOG(P22))/LOG(2))))","v":-0.32756604923103255},null,null,{"$f":"N22","v":2222},{"$f":"COUNTIF(L7:L33,T22)","v":1},{"$f":"U22/(W4-U20)","v":5.2631578947368418E-2},{"$f":"IF(V22=0,0,(V22*((LOG(V22))/LOG(2))))","v":-0.22357513228650452},null,{"$f":"N22","v":2222},{"$f":"COUNTIF(L34:L61,Y22)","v":0},{"$f":"Z22/(AB4-Z20)","v":0},{"$f":"IF(AA22=0,0,(AA22*((LOG(AA22))/LOG(2))))","v":0},null,{"$f":"N22","v":2222},{"$f":"COUNTIF(L62:L88,AD22)","v":5},{"$f":"AE22/(AG4-AE20)","v":0.2},{"$f":"IF(AF22=0,0,(AF22*((LOG(AF22))/LOG(2))))","v":-0.46438561897747244},null,{"$f":"N22","v":2222},{"$f":"COUNTIF(L89:L115,AI22)","v":2},{"$f":"AJ22/(AL4-AJ20)","v":0.15384615384615385},{"$f":"IF(AK22=0,0,(AK22*((LOG(AK22))/LOG(2))))","v":-0.4154522643293988},null,{"$f":"N22","v":2222},{"$f":"COUNTIF(L116:L143,AN22)","v":2},{"$f":"AO22/(AQ4-AO20)","v":0.08},{"$f":"IF(AP22=0,0,(AP22*((LOG(AP22))/LOG(2))))","v":-0.29150849518197797},null,{"$f":"N22","v":2222},{"$f":"COUNTIF(L144:L170,AS22)","v":6},{"$f":"AT22/(AV4-AT20)","v":0.375},{"$f":"IF(AU22=0,0,(AU22*((LOG(AU22))/LOG(2))))","v":-0.53063906222956647}]
[21,2376,21,2383,11,2396,21,2423,null,null,0,2212,null,null,null,{"$f":"SUM(P7:P22)","v":1.0000000000000002},{"$f":"-SUM(Q7:Q22)","v":3.2767250564550996},null,null,null,null,{"$f":"SUM(V7:V22)","v":1},{"$f":"-SUM(W7:W22)","v":2.8258459340407507},null,null,null,{"$f":"SUM(AA7:AA22)","v":1},{"$f":"-SUM(AB7:AB22)","v":3.0403912774207011},null,null,null,{"$f":"SUM(AF7:AF22)","v":1},{"$f":"-SUM(AG7:AG22)","v":2.9306993328423072},null,null,null,{"$f":"SUM(AK7:AK22)","v":1},{"$f":"-SUM(AL7:AL22)","v":2.8731406795131336},null,null,null,{"$f":"SUM(AP7:AP22)","v":1},{"$f":"-SUM(AQ7:AQ22)","v":2.5688840705376359},null,null,null,{"$f":"SUM(AU7:AU22)","v":1},{"$f":"-SUM(AV7:AV22)","v":2.3112781244591325}]
[21,2513,21,2521,11,2533,21,2554,null,null,0,2212,null,null,null,"U=",{"$f":"Q23/(LOG(Q4)/LOG(2))","v":0.44535533753596457},null,null,null,null,"U1=",{"$f":"W23/(LOG(W4)/LOG(2))","v":0.59430342626507859},null,null,null,"U2=",{"$f":"AB23/(LOG(AB4)/LOG(2))","v":0.63244576835183586},null,null,null,"U3=",{"$f":"AG23/(LOG(AG4)/LOG(2))","v":0.6163551359540772},null,null,null,"U4=",{"$f":"AL23/(LOG(AL4)/LOG(2))","v":0.60424998030045041},null,null,null,"U5=",{"$f":"AQ23/(LOG(AQ4)/LOG(2))","v":0.53436538641048037},null,null,null,"U6=",{"$f":"AV23/(LOG(AV4)/LOG(2))","v":0.48608471250003366}]
[21,2644,21,2649,11,2659,21,2669,null,null,0,2212]
[21,2761,12,2770,24,2779,23,2787,null,null,0,2122]
[21,2893,12,2906,24,2915,23,2923,null,null,0,2122,null,"Total Target Seq"]
[21,3021,21,3028,11,3038,21,3047,null,null,0,2212,null,{"$f":"COUNTIF(L7:L170,G3)","v":40},null,27,28,27,27,28,27]
[21,3139,21,3148,11,3157,21,3166,null,null,0,2212,null,null,null,"% of reinforcement given in 6 equal intervals based on number of trials "]
[21,3258,21,3266,22,3273,23,3282,null,null,0,2222,null,null,null,"%_1","%_2","%_3","%_4","%_5","%_6"]
[21,3382,12,3394,24,3403,23,3419,null,null,0,2122,null,null,"target sequence",{"$f":"$G$3","v":2212},{"$f":"$G$3","v":2212},{"$f":"$G$3","v":2212},{"$f":"$G$3","v":2212},{"$f":"$G$3","v":2212},{"$f":"$G$3","v":2212}]
[21,3521,12,3531,24,3558,23,3573,null,null,0,2122,null,null,"total reinforcement",{"$f":"U20","v":8},{"$f":"Z20","v":2},{"$f":"AE20","v":2},{"$f":"AJ20","v":14},{"$f":"AO20","v":3},{"$f":"AT20","v":11}]
[12,3677,23,3686,13,3696,23,3708,null,null,0,1212,null,null,"% target"]
[12,3819,23,3829,24,3837,23,3890,null,null,0,1222,null,null,"CCRF"]
[21,3998,12,4011,24,4038,23,4046,null,null,0,2122,null,null,"% CCRf"]
[12,4146,23,4155,24,4164,14,4176,null,null,0,1221,null,null,"average response rate",{"$f":"H33/P28","v":137.33333333333334},{"$f":"(H61-H33)/Q28","v":145.92857142857142},{"$f":"(H88-H61)/R28","v":143.66666666666666},{"$f":"(H115-H88)/S28","v":126.77777777777777},{"$f":"(H143-H115)/T28","v":137.92857142857142},{"$f":"(H170-H143)/U28","v":132.4814814814815}]
[12,4276,23,4286,13,4297,23,4309,null,null,0,1212]
[12,4409,23,4423,13,4435,23,4478,null,null,0,1212]
[12,4580,23,4590,13,4601,14,4633,null,null,0,1211]
[21,4729,12,4738,24,4747,23,4755,null,null,0,2122]
[21,4855,21,4872,11,4884,12,4915,null,null,0,2211]
[12,5015,23,5035,13,5046,23,5056,null,null,0,1212]
[12,5159,23,5168,13,5178,23,5189,null,null,0,1212]
[12,5288,14,5297,24,5306,14,5317,null,null,0,1121]
[12,5431,23,5441,13,5453,23,5467,null,null,0,1212]
[12,5569,23,5578,13,5589,23,5611,null,null,0,1212]
[21,5713,12,5723,13,5747,14,5778,null,null,0,2111]
[21,5877,12,5890,24,5904,14,5916,null,null,0,2121]
[21,6017,21,6027,22,6035,14,6048,null,null,0,2221]
[21,6148,12,6159,24,6168,23,6180,null,null,0,2122]
[21,6285,12,6297,24,6306,14,6318,null,null,0,2121]
[21,6426,21,6445,22,6454,14,6498,null,null,0,2221]
[21,6607,21,6615,11,6624,21,6636,null,null,0,2212]
[21,6724,12,6733,13,6754,14,6790,null,null,0,2111]
[12,6903,23,6912,24,6924,14,6936,null,null,0,1221]
[21,7043,21,7063,11,7074,21,7086,null,null,0,2212]
[21,7178,12,7191,24,7200,23,7208,null,null,0,2122]
[21,7311,12,7322,24,7330,14,7342,null,null,0,2121]
[21,7454,21,7476,22,7492,14,7511,null,null,0,2221]
[12,7622,23,7631,13,7643,23,7654,null,null,0,1212]
[12,7754,23,7768,24,7785,23,7794,null,null,0,1222]
[21,7893,12,7904,24,7912,14,7923,null,null,0,2121]
[12,8026,23,8035,24,8057,23,8065,null,null,0,1222]
[21,8174,21,8181,22,8187,23,8195,null,null,0,2222]
[21,8303,12,8313,24,8329,14,8341,null,null,0,2121]
[21,8450,21,8457,22,8481,23,8490,null,null,0,2222]
[21,8591,12,8603,24,8611,14,8624,null,null,0,2121]
[12,8738,14,8776,24,8787,14,8807,null,null,0,1121]
[21,8911,21,8932,22,8939,23,8947,null,null,0,2222]
[21,9046,21,9063,22,9083,23,9091,null,null,0,2222]
[21,9192,12,9200,24,9211,23,9217,null,null,0,2122]
[21,9330,12,9341,13,9388,23,9400,null,null,0,2112]
[12,9504,14,9509,24,9518,14,9529,null,null,0,1121]
[21,9628,12,9639,24,9659,23,9667,null,null,0,2122]
[21,9766,21,9770,11,9782,21,9792,null,null,0,2212]
[21,9890,21,9907,11,9938,21,9950,null,null,0,2212]
[21,10039,12,10048,24,10058,23,10066,null,null,0,2122]
[21,10165,12,10173,24,10181,14,10191,null,null,0,2121]
[21,10293,12,10305,24,10313,23,10330,null,null,0,2122]
[21,10438,12,10448,24,10465,23,10478,null,null,0,2122]
[21,10587,21,10604,11,10616,12,10636,null,null,0,2211]
[12,10750,23,10761,24,10777,23,10785,null,null,0,1222]
[21,10898,12,10906,13,10935,23,10955,null,null,0,2112]
[12,11073,23,11082,13,11093,23,11110,null,null,0,1212]
[21,11208,12,11216,24,11229,14,11242,null,null,0,2121]
[21,11344,21,11350,11,11363,12,11373,null,null,0,2211]
[21,11484,21,11492,22,11500,23,11526,null,null,0,2222]
[12,11634,23,11640,13,11652,14,11673,null,null,0,1211]
[12,11775,14,11780,24,11789,23,11801,null,null,0,1122]
[21,11902,21,11908,11,11921,21,11933,null,null,0,2212]
[21,12022,21,12036,22,12044,14,12057,null,null,0,2221]
[21,12156,21,12168,11,12180,21,12192,null,null,0,2212]
[21,12279,21,12287,11,12300,21,12308,null,null,0,2212]
[21,12403,12,12412,24,12431,23,12440,null,null,0,2122]
[21,12538,21,12544,11,12553,21,12562,null,null,0,2212]
[21,12652,21,12659,11,12669,21,12696,null,null,0,2212]
[21,12789,21,12796,11,12805,21,12821,null,null,0,2212]
[21,12910,21,12916,11,12927,21,12938,null,null,0,2212]
[21,13029,21,13038,11,13048,21,13059,null,null,0,2212]
[21,13156,21,13161,22,13168,23,13183,null,null,0,2222]
[21,13289,12,13297,24,13305,23,13312,null,null,0,2122]
[12,13410,23,13419,13,13426,23,13434,null,null,0,1212]
[21,13532,21,13540,11,13555,21,13563,null,null,0,2212]
[21,13662,12,13673,24,13682,14,13702,null,null,0,2121]
[21,13810,21,13817,11,13828,21,13839,null,null,0,2212]
[21,13927,21,13932,11,13942,21,13951,null,null,0,2212]
[21,14049,21,14056,11,14064,21,14075,null,null,0,2212]
[21,14162,21,14167,11,14177,21,14188,null,null,0,2212]
[12,14275,23,14284,24,14289,14,14300,null,null,0,1221]
[21,14408,12,14417,24,14425,23,14433,null,null,0,2122]
[21,14531,21,14535,11,14547,21,14562,null,null,0,2212]
[21,14649,12,14660,13,14679,23,14688,null,null,0,2112]
[21,14795,12,14804,24,14810,14,14821,null,null,0,2121]
[21,14920,21,14929,22,14943,23,14969,null,null,0,2222]
[12,15068,23,15076,13,15088,23,15096,null,null,0,1212]
[21,15196,12,15208,24,15218,23,15233,null,null,0,2122]
[12,15341,23,15350,13,15361,23,15371,null,null,0,1212]
[12,15471,23,15479,24,15487,14,15506,null,null,0,1221]
[21,15612,21,15620,22,15628,23,15661,null,null,0,2222]
[12,15765,23,15774,13,15785,23,15795,null,null,0,1212]
[21,15904,12,15915,24,15924,23,15937,null,null,0,2122]
[21,16037,12,16057,24,16065,23,16074,null,null,0,2122]
[21,16180,12,16189,24,16198,23,16206,null,null,0,2122]
[21,16308,21,16314,11,16325,21,16342,null,null,0,2212]
[21,16441,21,16452,22,16479,14,16508,null,null,0,2221]
[21,16607,21,16614,11,16631,21,16641,null,null,0,2212]
[21,16736,12,16744,24,16760,23,16777,null,null,0,2122]
[21,16881,12,16891,24,16899,23,16907,null,null,0,2122]
[21,17010,12,17021,24,17030,14,17061,null,null,0,2121]
[12,17160,23,17168,24,17175,23,17183,null,null,0,1222]
[12,17282,23,17291,24,17303,23,17311,null,null,0,1222]
[12,17422,23,17430,24,17438,23,17446,null,null,0,1222]
[21,17553,12,17563,24,17571,23,17587,null,null,0,2122]
[12,17689,23,17697,13,17709,23,17718,null,null,0,1212]
[21,17816,12,17828,24,17836,14,17847,null,null,0,2121]
[21,17954,21,17961,22,17969,14,17984,null,null,0,2221]
[21,18082,12,18093,24,18110,23,18118,null,null,0,2122]
[21,18220,21,18226,11,18237,21,18255,null,null,0,2212]
[21,18349,21,18356,22,18373,23,18382,null,null,0,2222]
[12,18483,23,18498,13,18509,23,18530,null,null,0,1212]
[12,18630,23,18638,13,18648,23,18657,null,null,0,1212]
[21,18756,12,18767,24,18810,14,18829,null,null,0,2121]
[21,18934,21,18938,22,18943,14,18958,null,null,0,2221]
[21,19070,21,19075,11,19092,21,19105,null,null,0,2212]
[21,19196,21,19204,11,19217,21,19240,null,null,0,2212]
[21,19335,21,19344,11,19397,21,19418,null,null,0,2212]
[12,19505,23,19517,13,19528,23,19537,null,null,0,1212]
[21,19641,21,19648,11,19657,21,19666,null,null,0,2212]
[12,19752,23,19765,24,19772,14,19783,null,null,0,1221]
[12,19881,23,19890,13,19899,23,19908,null,null,0,1212]
[21,20014,21,20034,22,20042,23,20063,null,null,0,2222]
[12,20165,23,20176,13,20187,23,20196,null,null,0,1212]
[21,20305,12,20316,24,20325,23,20333,null,null,0,2122]
[21,20433,21,20438,11,20453,21,20461,null,null,0,2212]
[21,20549,21,20557,22,20569,14,20582,null,null,0,2221]
[21,20684,21,20691,22,20700,23,20709,null,null,0,2222]
[21,20813,21,20820,22,20828,23,20833,null,null,0,2222]
[21,20936,21,20940,11,20952,21,20961,null,null,0,2212]
[21,21053,12,21064,24,21073,23,21084,null,null,0,2122]
[21,21188,12,21200,24,21208,23,21215,null,null,0,2122]
[21,21316,21,21323,11,21334,21,21344,null,null,0,2212]
[12,21434,23,21443,24,21463,23,21472,null,null,0,1222]
[21,21584,21,21592,22,21597,14,21611,null,null,0,2221]
[21,21709,21,21715,11,21725,21,21743,null,null,0,2212]
[21,21840,21,21860,22,21884,23,21892,null,null,0,2222]
[21,21993,21,22009,11,22020,21,22028,null,null,0,2212]
[21,22121,21,22129,22,22137,23,22144,null,null,0,2222]
[21,22241,21,22246,11,22258,21,22266,null,null,0,2212]
[21,22361,21,22388,22,22396,23,22404,null,null,0,2222]
[21,22510,21,22514,11,22525,21,22535,null,null,1,2212]

{"sheet":"!MB24820.091","index":19,"n_rows":180,"n_cols":48,"rows_kept":180,"cut":false,"hidden":false,"merged":[[4,39,4,42],[5,39,5,40],[4,44,4,47],[5,44,5,45],[4,24,4,27],[5,24,5,25],[4,29,4,32],[5,29,5,30],[4,34,4,37],[5,34,5,35],[1,1,1,2],[5,13,5,14],[26,13,26,14],[27,13,27,14],[4,19,4,22],[5,19,5,20]]}
["Report for:!MB24820.091"]
["Date:","<date>"]
["Hen:","<hen>",null,null,null,"Correct Sequence",{"$f":"Start!J2","v":2212},null,null,null,null,null,null,null,null,"Total Sequences in Data",{"$f":"4994-COUNTBLANK(L7:L5000)","v":174},null,null,null,null,"Total Sequences in Block Data",{"$f":"COUNTA(L7:L35)","v":29},null,null,null,"Total Sequences in Block Data",{"$f":"COUNTA(L36:L64)","v":29},null,null,null,"Total Sequences in Block Data",{"$f":"COUNTA(L65:L93)","v":29},null,null,null,"Total Sequences in Block Data",{"$f":"COUNTA(L94:L122)","v":29},null,null,null,"Total Sequences in Block Data",{"$f":"COUNTA(L123:L151)","v":29},null,null,null,"Total Sequences in Block Data",{"$f":"COUNTA(L152:L180)","v":29}]
[null,null,null,null,null,null,null,null,null,null,null,null,null,null,null,"Total Sequences in Summary",{"$f":"SUM(O7:O22)","v":174},null,null,null,null,"Total Sequences in Block Summary",{"$f":"SUM(U7:U22)","v":29},null,null,null,"Total Sequences in Block Summary",{"$f":"SUM(Z7:Z22)","v":29},null,null,null,"Total Sequences in Block Summary",{"$f":"SUM(AE7:AE22)","v":29},null,null,null,"Total Sequences in Block Summary",{"$f":"SUM(AJ7:AJ22)","v":29},null,null,null,"Total Sequences in Block Summary",{"$f":"SUM(AO7:AO22)","v":29},null,null,null,"Total Sequences in Block Summary",{"$f":"SUM(AT7:AT22)","v":29}]
[null,null,null,null,null,null,null,null,null,null,null,null,null,null,null,null,null,null,null,"Block 1",null,null,null,null,"Block 2",null,null,null,null,"Block 3",null,null,null,null,"Block 4",null,null,null,null,"Block 5",null,null,null,null,"Block 6"]
["Sequence\nComponent\n1","Time\n1","Sequence\nComponent\n2","Time\n2","Sequence\nComponent\n3","Time\n3","Sequence\nComponent\n4","Time\n4","Sequence\nComponent\n5","Time\n5","Correct?\n0=No 1=Yes","Sequence",null,"Frequency",null,"Relative Frequency","Variability",null,null,"Frequency",null,"Relative Frequency","Variability",null,"Frequency",null,"Relative Frequency","Variability",null,"Frequency",null,"Relative Frequency","Variability",null,"Frequency",null,"Relative Frequency","Variability",null,"Frequency",null,"Relative Frequency","Variability",null,"Frequency",null,"Relative Frequency","Variability"]
[21,9,12,19,13,27,14,34,null,null,0,2111,null,1111,{"$f":"COUNTIF($L$7:$L$500,N7)","v":0},{"$f":"O7/$Q$4","v":0},{"$f":"IF(P7=0,0,(P7*((LOG(P7))/LOG(2))))","v":0},null,null,{"$f":"N7","v":1111},{"$f":"COUNTIF(L7:L35,T7)","v":0},{"$f":"U7/(W4-U20)","v":0},{"$f":"IF(V7=0,0,(V7*((LOG(V7))/LOG(2))))","v":0},null,{"$f":"N7","v":1111},{"$f":"COUNTIF(L36:L64,Y7)","v":0},{"$f":"Z7/(AB4-Z20)","v":0},{"$f":"IF(AA7=0,0,(AA7*((LOG(AA7))/LOG(2))))","v":0},null,{"$f":"N7","v":1111},{"$f":"COUNTIF(L65:L93,AD7)","v":0},{"$f":"AE7/(AG4-AE20)","v":0},{"$f":"IF(AF7=0,0,(AF7*((LOG(AF7))/LOG(2))))","v":0},null,{"$f":"N7","v":1111},{"$f":"COUNTIF(L94:L122,AI7)","v":0},{"$f":"AJ7/(AL4-AJ20)","v":0},{"$f":"IF(AK7=0,0,(AK7*((LOG(AK7))/LOG(2))))","v":0},null,{"$f":"N7","v":1111},{"$f":"COUNTIF(L123:L151,AN7)","v":0},{"$f":"AO7/(AQ4-AO20)","v":0},{"$f":"IF(AP7=0,0,(AP7*((LOG(AP7))/LOG(2))))","v":0},null,{"$f":"N7","v":1111},{"$f":"COUNTIF(L152:L180,AS7)","v":0},{"$f":"AT7/(AV4-AT20)","v":0},{"$f":"IF(AU7=0,0,(AU7*((LOG(AU7))/LOG(2))))","v":0}]
[12,141,23,150,13,162,14,171,null,null,0,1211,null,1112,{"$f":"COUNTIF($L$7:$L$500,N8)","v":1},{"$f":"O8/$Q$4","v":5.7471264367816091E-3},{"$f":"IF(P8=0,0,(P8*((LOG(P8))/LOG(2))))","v":-4.2775537332463962E-2},null,null,{"$f":"N8","v":1112},{"$f":"COUNTIF(L7:L35,T8)","v":0},{"$f":"U8/(W4-U20)","v":0},{"$f":"IF(V8=0,0,(V8*((LOG(V8))/LOG(2))))","v":0},null,{"$f":"N8","v":1112},{"$f":"COUNTIF(L36:L64,Y8)","v":1},{"$f":"Z8/(AB4-Z20)","v":4.3478260869565216E-2},{"$f":"IF(AA8=0,0,(AA8*((LOG(AA8))/LOG(2))))","v":-0.19667660678508753},null,{"$f":"N8","v":1112},{"$f":"COUNTIF(L65:L93,AD8)","v":0},{"$f":"AE8/(AG4-AE20)","v":0},{"$f":"IF(AF8=0,0,(AF8*((LOG(AF8))/LOG(2))))","v":0},null,{"$f":"N8","v":1112},{"$f":"COUNTIF(L94:L122,AI8)","v":0},{"$f":"AJ8/(AL4-AJ20)","v":0},{"$f":"IF(AK8=0,0,(AK8*((LOG(AK8))/LOG(2))))","v":0},null,{"$f":"N8","v":1112},{"$f":"COUNTIF(L123:L151,AN8)","v":0},{"$f":"AO8/(AQ4-AO20)","v":0},{"$f":"IF(AP8=0,0,(AP8*((LOG(AP8))/LOG(2))))","v":0},null,{"$f":"N8","v":1112},{"$f":"COUNTIF(L152:L180,AS8)","v":0},{"$f":"AT8/(AV4-AT20)","v":0},{"$f":"IF(AU8=0,0,(AU8*((LOG(AU8))/LOG(2))))","v":0}]
[21,281,12,295,24,327,23,340,null,null,0,2122,null,1121,{"$f":"COUNTIF($L$7:$L$500,N9)","v":1},{"$f":"O9/$Q$4","v":5.7471264367816091E-3},{"$f":"IF(P9=0,0,(P9*((LOG(P9))/LOG(2))))","v":-4.2775537332463962E-2},null,null,{"$f":"N9","v":1121},{"$f":"COUNTIF(L7:L35,T9)","v":0},{"$f":"U9/(W4-U20)","v":0},{"$f":"IF(V9=0,0,(V9*((LOG(V9))/LOG(2))))","v":0},null,{"$f":"N9","v":1121},{"$f":"COUNTIF(L36:L64,Y9)","v":0},{"$f":"Z9/(AB4-Z20)","v":0},{"$f":"IF(AA9=0,0,(AA9*((LOG(AA9))/LOG(2))))","v":0},null,{"$f":"N9","v":1121},{"$f":"COUNTIF(L65:L93,AD9)","v":1},{"$f":"AE9/(AG4-AE20)","v":5.5555555555555552E-2},{"$f":"IF(AF9=0,0,(AF9*((LOG(AF9))/LOG(2))))","v":-0.23166250008012845},null,{"$f":"N9","v":1121},{"$f":"COUNTIF(L94:L122,AI9)","v":0},{"$f":"AJ9/(AL4-AJ20)","v":0},{"$f":"IF(AK9=0,0,(AK9*((LOG(AK9))/LOG(2))))","v":0},null,{"$f":"N9","v":1121},{"$f":"COUNTIF(L123:L151,AN9)","v":0},{"$f":"AO9/(AQ4-AO20)","v":0},{"$f":"IF(AP9=0,0,(AP9*((LOG(AP9))/LOG(2))))","v":0},null,{"$f":"N9","v":1121},{"$f":"COUNTIF(L152:L180,AS9)","v":0},{"$f":"AT9/(AV4-AT20)","v":0},{"$f":"IF(AU9=0,0,(AU9*((LOG(AU9))/LOG(2))))","v":0}]
[21,442,21,448,11,461,12,471,null,null,0,2211,null,1122,{"$f":"COUNTIF($L$7:$L$500,N10)","v":0},{"$f":"O10/$Q$4","v":0},{"$f":"IF(P10=0,0,(P10*((LOG(P10))/LOG(2))))","v":0},null,null,{"$f":"N10","v":1122},{"$f":"COUNTIF(L7:L35,T10)","v":0},{"$f":"U10/(W4-U20)","v":0},{"$f":"IF(V10=0,0,(V10*((LOG(V10))/LOG(2))))","v":0},null,{"$f":"N10","v":1122},{"$f":"COUNTIF(L36:L64,Y10)","v":0},{"$f":"Z10/(AB4-Z20)","v":0},{"$f":"IF(AA10=0,0,(AA10*((LOG(AA10))/LOG(2))))","v":0},null,{"$f":"N10","v":1122},{"$f":"COUNTIF(L65:L93,AD10)","v":0},{"$f":"AE10/(AG4-AE20)","v":0},{"$f":"IF(AF10=0,0,(AF10*((LOG(AF10))/LOG(2))))","v":0},null,{"$f":"N10","v":1122},{"$f":"COUNTIF(L94:L122,AI10)","v":0},{"$f":"AJ10/(AL4-AJ20)","v":0},{"$f":"IF(AK10=0,0,(AK10*((LOG(AK10))/LOG(2))))","v":0},null,{"$f":"N10","v":1122},{"$f":"COUNTIF(L123:L151,AN10)","v":0},{"$f":"AO10/(AQ4-AO20)","v":0},{"$f":"IF(AP10=0,0,(AP10*((LOG(AP10))/LOG(2))))","v":0},null,{"$f":"N10","v":1122},{"$f":"COUNTIF(L152:L180,AS10)","v":0},{"$f":"AT10/(AV4-AT20)","v":0},{"$f":"IF(AU10=0,0,(AU10*((LOG(AU10))/LOG(2))))","v":0}]
[21,572,12,588,13,597,23,617,null,null,0,2112,null,1211,{"$f":"COUNTIF($L$7:$L$500,N11)","v":2},{"$f":"O11/$Q$4","v":1.1494252873563218E-2},{"$f":"IF(P11=0,0,(P11*((LOG(P11))/LOG(2))))","v":-7.4056821791364691E-2},null,null,{"$f":"N11","v":1211},{"$f":"COUNTIF(L7:L35,T11)","v":1},{"$f":"U11/(W4-U20)","v":3.7037037037037035E-2},{"$f":"IF(V11=0,0,(V11*((LOG(V11))/LOG(2))))","v":-0.1761069445245729},null,{"$f":"N11","v":1211},{"$f":"COUNTIF(L36:L64,Y11)","v":0},{"$f":"Z11/(AB4-Z20)","v":0},{"$f":"IF(AA11=0,0,(AA11*((LOG(AA11))/LOG(2))))","v":0},null,{"$f":"N11","v":1211},{"$f":"COUNTIF(L65:L93,AD11)","v":1},{"$f":"AE11/(AG4-AE20)","v":5.5555555555555552E-2},{"$f":"IF(AF11=0,0,(AF11*((LOG(AF11))/LOG(2))))","v":-0.23166250008012845},null,{"$f":"N11","v":1211},{"$f":"COUNTIF(L94:L122,AI11)","v":0},{"$f":"AJ11/(AL4-AJ20)","v":0},{"$f":"IF(AK11=0,0,(AK11*((LOG(AK11))/LOG(2))))","v":0},null,{"$f":"N11","v":1211},{"$f":"COUNTIF(L123:L151,AN11)","v":0},{"$f":"AO11/(AQ4-AO20)","v":0},{"$f":"IF(AP11=0,0,(AP11*((LOG(AP11))/LOG(2))))","v":0},null,{"$f":"N11","v":1211},{"$f":"COUNTIF(L152:L180,AS11)","v":0},{"$f":"AT11/(AV4-AT20)","v":0},{"$f":"IF(AU11=0,0,(AU11*((LOG(AU11))/LOG(2))))","v":0}]
[21,719,12,731,24,742,23,759,null,null,0,2122,null,1212,{"$f":"COUNTIF($L$7:$L$500,N12)","v":19},{"$f":"O12/$Q$4","v":0.10919540229885058},{"$f":"IF(P12=0,0,(P12*((LOG(P12))/LOG(2))))","v":-0.34888105554998688},null,null,{"$f":"N12","v":1212},{"$f":"COUNTIF(L7:L35,T12)","v":5},{"$f":"U12/(W4-U20)","v":0.18518518518518517},{"$f":"IF(V12=0,0,(V12*((LOG(V12))/LOG(2))))","v":-0.45054803838446406},null,{"$f":"N12","v":1212},{"$f":"COUNTIF(L36:L64,Y12)","v":4},{"$f":"Z12/(AB4-Z20)","v":0.17391304347826086},{"$f":"IF(AA12=0,0,(AA12*((LOG(AA12))/LOG(2))))","v":-0.43888034018382832},null,{"$f":"N12","v":1212},{"$f":"COUNTIF(L65:L93,AD12)","v":2},{"$f":"AE12/(AG4-AE20)","v":0.1111111111111111},{"$f":"IF(AF12=0,0,(AF12*((LOG(AF12))/LOG(2))))","v":-0.3522138890491458},null,{"$f":"N12","v":1212},{"$f":"COUNTIF(L94:L122,AI12)","v":4},{"$f":"AJ12/(AL4-AJ20)","v":0.16666666666666666},{"$f":"IF(AK12=0,0,(AK12*((LOG(AK12))/LOG(2))))","v":-0.43082708345352599},null,{"$f":"N12","v":1212},{"$f":"COUNTIF(L123:L151,AN12)","v":2},{"$f":"AO12/(AQ4-AO20)","v":9.5238095238095233E-2},{"$f":"IF(AP12=0,0,(AP12*((LOG(AP12))/LOG(2))))","v":-0.32307784978845333},null,{"$f":"N12","v":1212},{"$f":"COUNTIF(L152:L180,AS12)","v":2},{"$f":"AT12/(AV4-AT20)","v":9.5238095238095233E-2},{"$f":"IF(AU12=0,0,(AU12*((LOG(AU12))/LOG(2))))","v":-0.32307784978845333}]
[21,859,12,872,24,881,23,889,null,null,0,2122,null,1221,{"$f":"COUNTIF($L$7:$L$500,N13)","v":2},{"$f":"O13/$Q$4","v":1.1494252873563218E-2},{"$f":"IF(P13=0,0,(P13*((LOG(P13))/LOG(2))))","v":-7.4056821791364691E-2},null,null,{"$f":"N13","v":1221},{"$f":"COUNTIF(L7:L35,T13)","v":0},{"$f":"U13/(W4-U20)","v":0},{"$f":"IF(V13=0,0,(V13*((LOG(V13))/LOG(2))))","v":0},null,{"$f":"N13","v":1221},{"$f":"COUNTIF(L36:L64,Y13)","v":0},{"$f":"Z13/(AB4-Z20)","v":0},{"$f":"IF(AA13=0,0,(AA13*((LOG(AA13))/LOG(2))))","v":0},null,{"$f":"N13","v":1221},{"$f":"COUNTIF(L65:L93,AD13)","v":0},{"$f":"AE13/(AG4-AE20)","v":0},{"$f":"IF(AF13=0,0,(AF13*((LOG(AF13))/LOG(2))))","v":0},null,{"$f":"N13","v":1221},{"$f":"COUNTIF(L94:L122,AI13)","v":1},{"$f":"AJ13/(AL4-AJ20)","v":4.1666666666666664E-2},{"$f":"IF(AK13=0,0,(AK13*((LOG(AK13))/LOG(2))))","v":-0.19104010419671485},null,{"$f":"N13","v":1221},{"$f":"COUNTIF(L123:L151,AN13)","v":0},{"$f":"AO13/(AQ4-AO20)","v":0},{"$f":"IF(AP13=0,0,(AP13*((LOG(AP13))/LOG(2))))","v":0},null,{"$f":"N13","v":1221},{"$f":"COUNTIF(L152:L180,AS13)","v":1},{"$f":"AT13/(AV4-AT20)","v":4.7619047619047616E-2},{"$f":"IF(AU13=0,0,(AU13*((LOG(AU13))/LOG(2))))","v":-0.20915797251327431}]
[12,996,23,1009,24,1026,23,1035,null,null,0,1222,null,1222,{"$f":"COUNTIF($L$7:$L$500,N14)","v":12},{"$f":"O14/$Q$4","v":6.8965517241379309E-2},{"$f":"IF(P14=0,0,(P14*((LOG(P14))/LOG(2))))","v":-0.26606765483638428},null,null,{"$f":"N14","v":1222},{"$f":"COUNTIF(L7:L35,T14)","v":2},{"$f":"U14/(W4-U20)","v":7.407407407407407E-2},{"$f":"IF(V14=0,0,(V14*((LOG(V14))/LOG(2))))","v":-0.27813981497507173},null,{"$f":"N14","v":1222},{"$f":"COUNTIF(L36:L64,Y14)","v":2},{"$f":"Z14/(AB4-Z20)","v":8.6956521739130432E-2},{"$f":"IF(AA14=0,0,(AA14*((LOG(AA14))/LOG(2))))","v":-0.30639669183104457},null,{"$f":"N14","v":1222},{"$f":"COUNTIF(L65:L93,AD14)","v":2},{"$f":"AE14/(AG4-AE20)","v":0.1111111111111111},{"$f":"IF(AF14=0,0,(AF14*((LOG(AF14))/LOG(2))))","v":-0.3522138890491458},null,{"$f":"N14","v":1222},{"$f":"COUNTIF(L94:L122,AI14)","v":1},{"$f":"AJ14/(AL4-AJ20)","v":4.1666666666666664E-2},{"$f":"IF(AK14=0,0,(AK14*((LOG(AK14))/LOG(2))))","v":-0.19104010419671485},null,{"$f":"N14","v":1222},{"$f":"COUNTIF(L123:L151,AN14)","v":3},{"$f":"AO14/(AQ4-AO20)","v":0.14285714285714285},{"$f":"IF(AP14=0,0,(AP14*((LOG(AP14))/LOG(2))))","v":-0.40105070315108626},null,{"$f":"N14","v":1222},{"$f":"COUNTIF(L152:L180,AS14)","v":2},{"$f":"AT14/(AV4-AT20)","v":9.5238095238095233E-2},{"$f":"IF(AU14=0,0,(AU14*((LOG(AU14))/LOG(2))))","v":-0.32307784978845333}]
[21,1140,21,1148,11,1162,21,1179,null,null,0,2212,null,2111,{"$f":"COUNTIF($L$7:$L$500,N15)","v":2},{"$f":"O15/$Q$4","v":1.1494252873563218E-2},{"$f":"IF(P15=0,0,(P15*((LOG(P15))/LOG(2))))","v":-7.4056821791364691E-2},null,null,{"$f":"N15","v":2111},{"$f":"COUNTIF(L7:L35,T15)","v":1},{"$f":"U15/(W4-U20)","v":3.7037037037037035E-2},{"$f":"IF(V15=0,0,(V15*((LOG(V15))/LOG(2))))","v":-0.1761069445245729},null,{"$f":"N15","v":2111},{"$f":"COUNTIF(L36:L64,Y15)","v":0},{"$f":"Z15/(AB4-Z20)","v":0},{"$f":"IF(AA15=0,0,(AA15*((LOG(AA15))/LOG(2))))","v":0},null,{"$f":"N15","v":2111},{"$f":"COUNTIF(L65:L93,AD15)","v":0},{"$f":"AE15/(AG4-AE20)","v":0},{"$f":"IF(AF15=0,0,(AF15*((LOG(AF15))/LOG(2))))","v":0},null,{"$f":"N15","v":2111},{"$f":"COUNTIF(L94:L122,AI15)","v":1},{"$f":"AJ15/(AL4-AJ20)","v":4.1666666666666664E-2},{"$f":"IF(AK15=0,0,(AK15*((LOG(AK15))/LOG(2))))","v":-0.19104010419671485},null,{"$f":"N15","v":2111},{"$f":"COUNTIF(L123:L151,AN15)","v":0},{"$f":"AO15/(AQ4-AO20)","v":0},{"$f":"IF(AP15=0,0,(AP15*((LOG(AP15))/LOG(2))))","v":0},null,{"$f":"N15","v":2111},{"$f":"COUNTIF(L152:L180,AS15)","v":0},{"$f":"AT15/(AV4-AT20)","v":0},{"$f":"IF(AU15=0,0,(AU15*((LOG(AU15))/LOG(2))))","v":0}]
[21,1267,12,1279,24,1292,23,1300,null,null,0,2122,null,2112,{"$f":"COUNTIF($L$7:$L$500,N16)","v":6},{"$f":"O16/$Q$4","v":3.4482758620689655E-2},{"$f":"IF(P16=0,0,(P16*((LOG(P16))/LOG(2))))","v":-0.16751658603888178},null,null,{"$f":"N16","v":2112},{"$f":"COUNTIF(L7:L35,T16)","v":2},{"$f":"U16/(W4-U20)","v":7.407407407407407E-2},{"$f":"IF(V16=0,0,(V16*((LOG(V16))/LOG(2))))","v":-0.27813981497507173},null,{"$f":"N16","v":2112},{"$f":"COUNTIF(L36:L64,Y16)","v":2},{"$f":"Z16/(AB4-Z20)","v":8.6956521739130432E-2},{"$f":"IF(AA16=0,0,(AA16*((LOG(AA16))/LOG(2))))","v":-0.30639669183104457},null,{"$f":"N16","v":2112},{"$f":"COUNTIF(L65:L93,AD16)","v":2},{"$f":"AE16/(AG4-AE20)","v":0.1111111111111111},{"$f":"IF(AF16=0,0,(AF16*((LOG(AF16))/LOG(2))))","v":-0.3522138890491458},null,{"$f":"N16","v":2112},{"$f":"COUNTIF(L94:L122,AI16)","v":0},{"$f":"AJ16/(AL4-AJ20)","v":0},{"$f":"IF(AK16=0,0,(AK16*((LOG(AK16))/LOG(2))))","v":0},null,{"$f":"N16","v":2112},{"$f":"COUNTIF(L123:L151,AN16)","v":0},{"$f":"AO16/(AQ4-AO20)","v":0},{"$f":"IF(AP16=0,0,(AP16*((LOG(AP16))/LOG(2))))","v":0},null,{"$f":"N16","v":2112},{"$f":"COUNTIF(L152:L180,AS16)","v":0},{"$f":"AT16/(AV4-AT20)","v":0},{"$f":"IF(AU16=0,0,(AU16*((LOG(AU16))/LOG(2))))","v":0}]
[21,1404,21,1412,22,1440,23,1449,null,null,0,2222,null,2121,{"$f":"COUNTIF($L$7:$L$500,N17)","v":16},{"$f":"O17/$Q$4","v":9.1954022988505746E-2},{"$f":"IF(P17=0,0,(P17*((LOG(P17))/LOG(2))))","v":-0.31659250536540029},null,null,{"$f":"N17","v":2121},{"$f":"COUNTIF(L7:L35,T17)","v":4},{"$f":"U17/(W4-U20)","v":0.14814814814814814},{"$f":"IF(V17=0,0,(V17*((LOG(V17))/LOG(2))))","v":-0.40813148180199532},null,{"$f":"N17","v":2121},{"$f":"COUNTIF(L36:L64,Y17)","v":3},{"$f":"Z17/(AB4-Z20)","v":0.13043478260869565},{"$f":"IF(AA17=0,0,(AA17*((LOG(AA17))/LOG(2))))","v":-0.3832955811307639},null,{"$f":"N17","v":2121},{"$f":"COUNTIF(L65:L93,AD17)","v":2},{"$f":"AE17/(AG4-AE20)","v":0.1111111111111111},{"$f":"IF(AF17=0,0,(AF17*((LOG(AF17))/LOG(2))))","v":-0.3522138890491458},null,{"$f":"N17","v":2121},{"$f":"COUNTIF(L94:L122,AI17)","v":3},{"$f":"AJ17/(AL4-AJ20)","v":0.125},{"$f":"IF(AK17=0,0,(AK17*((LOG(AK17))/LOG(2))))","v":-0.375},null,{"$f":"N17","v":2121},{"$f":"COUNTIF(L123:L151,AN17)","v":3},{"$f":"AO17/(AQ4-AO20)","v":0.14285714285714285},{"$f":"IF(AP17=0,0,(AP17*((LOG(AP17))/LOG(2))))","v":-0.40105070315108626},null,{"$f":"N17","v":2121},{"$f":"COUNTIF(L152:L180,AS17)","v":1},{"$f":"AT17/(AV4-AT20)","v":4.7619047619047616E-2},{"$f":"IF(AU17=0,0,(AU17*((LOG(AU17))/LOG(2))))","v":-0.20915797251327431}]
[12,1564,23,1573,13,1582,23,1593,null,null,0,1212,null,2122,{"$f":"COUNTIF($L$7:$L$500,N18)","v":46},{"$f":"O18/$Q$4","v":0.26436781609195403},{"$f":"IF(P18=0,0,(P18*((LOG(P18))/LOG(2))))","v":-0.50742270592194771},null,null,{"$f":"N18","v":2122},{"$f":"COUNTIF(L7:L35,T18)","v":7},{"$f":"U18/(W4-U20)","v":0.25925925925925924},{"$f":"IF(V18=0,0,(V18*((LOG(V18))/LOG(2))))","v":-0.5049158541015204},null,{"$f":"N18","v":2122},{"$f":"COUNTIF(L36:L64,Y18)","v":9},{"$f":"Z18/(AB4-Z20)","v":0.39130434782608697},{"$f":"IF(AA18=0,0,(AA18*((LOG(AA18))/LOG(2))))","v":-0.5296840257187958},null,{"$f":"N18","v":2122},{"$f":"COUNTIF(L65:L93,AD18)","v":6},{"$f":"AE18/(AG4-AE20)","v":0.33333333333333331},{"$f":"IF(AF18=0,0,(AF18*((LOG(AF18))/LOG(2))))","v":-0.52832083357371862},null,{"$f":"N18","v":2122},{"$f":"COUNTIF(L94:L122,AI18)","v":10},{"$f":"AJ18/(AL4-AJ20)","v":0.41666666666666669},{"$f":"IF(AK18=0,0,(AK18*((LOG(AK18))/LOG(2))))","v":-0.52626433576408083},null,{"$f":"N18","v":2122},{"$f":"COUNTIF(L123:L151,AN18)","v":7},{"$f":"AO18/(AQ4-AO20)","v":0.33333333333333331},{"$f":"IF(AP18=0,0,(AP18*((LOG(AP18))/LOG(2))))","v":-0.52832083357371862},null,{"$f":"N18","v":2122},{"$f":"COUNTIF(L152:L180,AS18)","v":7},{"$f":"AT18/(AV4-AT20)","v":0.33333333333333331},{"$f":"IF(AU18=0,0,(AU18*((LOG(AU18))/LOG(2))))","v":-0.52832083357371862}]
[21,1696,12,1708,24,1716,14,1729,null,null,0,2121,null,2211,{"$f":"COUNTIF($L$7:$L$500,N19)","v":3},{"$f":"O19/$Q$4","v":1.7241379310344827E-2},{"$f":"IF(P19=0,0,(P19*((LOG(P19))/LOG(2))))","v":-0.10099967232978573},null,null,{"$f":"N19","v":2211},{"$f":"COUNTIF(L7:L35,T19)","v":1},{"$f":"U19/(W4-U20)","v":3.7037037037037035E-2},{"$f":"IF(V19=0,0,(V19*((LOG(V19))/LOG(2))))","v":-0.1761069445245729},null,{"$f":"N19","v":2211},{"$f":"COUNTIF(L36:L64,Y19)","v":1},{"$f":"Z19/(AB4-Z20)","v":4.3478260869565216E-2},{"$f":"IF(AA19=0,0,(AA19*((LOG(AA19))/LOG(2))))","v":-0.19667660678508753},null,{"$f":"N19","v":2211},{"$f":"COUNTIF(L65:L93,AD19)","v":0},{"$f":"AE19/(AG4-AE20)","v":0},{"$f":"IF(AF19=0,0,(AF19*((LOG(AF19))/LOG(2))))","v":0},null,{"$f":"N19","v":2211},{"$f":"COUNTIF(L94:L122,AI19)","v":0},{"$f":"AJ19/(AL4-AJ20)","v":0},{"$f":"IF(AK19=0,0,(AK19*((LOG(AK19))/LOG(2))))","v":0},null,{"$f":"N19","v":2211},{"$f":"COUNTIF(L123:L151,AN19)","v":0},{"$f":"AO19/(AQ4-AO20)","v":0},{"$f":"IF(AP19=0,0,(AP19*((LOG(AP19))/LOG(2))))","v":0},null,{"$f":"N19","v":2211},{"$f":"COUNTIF(L152:L180,AS19)","v":1},{"$f":"AT19/(AV4-AT20)","v":4.7619047619047616E-2},{"$f":"IF(AU19=0,0,(AU19*((LOG(AU19))/LOG(2))))","v":-0.20915797251327431}]
[21,1828,12,1841,24,1850,14,1862,null,null,0,2121,null,2212,{"$f":"COUNTIF($L$7:$L$500,N20)","v":40},{"$f":"O20/$Q$4","v":0.22988505747126436},{"$f":"IF(P20=0,0,(P20*((LOG(P20))/LOG(2))))","v":-0.48758974734744037},null,null,{"$f":"N20","v":2212},{"$f":"COUNTIF(L7:L35,T20)","v":2},null,null,null,{"$f":"N20","v":2212},{"$f":"COUNTIF(L36:L64,Y20)","v":6},null,null,null,{"$f":"N20","v":2212},{"$f":"COUNTIF(L65:L93,AD20)","v":11},null,null,null,{"$f":"N20","v":2212},{"$f":"COUNTIF(L94:L122,AI20)","v":5},null,null,null,{"$f":"N20","v":2212},{"$f":"COUNTIF(L123:L151,AN20)","v":8},null,null,null,{"$f":"N20","v":2212},{"$f":"COUNTIF(L152:L180,AS20)","v":8}]
[21,1963,12,1977,13,2017,23,2049,null,null,0,2112,null,2221,{"$f":"COUNTIF($L$7:$L$500,N21)","v":5},{"$f":"O21/$Q$4","v":2.8735632183908046E-2},{"$f":"IF(P21=0,0,(P21*((LOG(P21))/LOG(2))))","v":-0.1471556149701542},null,null,{"$f":"N21","v":2221},{"$f":"COUNTIF(L7:L35,T21)","v":3},{"$f":"U21/(W4-U20)","v":0.1111111111111111},{"$f":"IF(V21=0,0,(V21*((LOG(V21))/LOG(2))))","v":-0.3522138890491458},null,{"$f":"N21","v":2221},{"$f":"COUNTIF(L36:L64,Y21)","v":0},{"$f":"Z21/(AB4-Z20)","v":0},{"$f":"IF(AA21=0,0,(AA21*((LOG(AA21))/LOG(2))))","v":0},null,{"$f":"N21","v":2221},{"$f":"COUNTIF(L65:L93,AD21)","v":0},{"$f":"AE21/(AG4-AE20)","v":0},{"$f":"IF(AF21=0,0,(AF21*((LOG(AF21))/LOG(2))))","v":0},null,{"$f":"N21","v":2221},{"$f":"COUNTIF(L94:L122,AI21)","v":1},{"$f":"AJ21/(AL4-AJ20)","v":4.1666666666666664E-2},{"$f":"IF(AK21=0,0,(AK21*((LOG(AK21))/LOG(2))))","v":-0.19104010419671485},null,{"$f":"N21","v":2221},{"$f":"COUNTIF(L123:L151,AN21)","v":0},{"$f":"AO21/(AQ4-AO20)","v":0},{"$f":"IF(AP21=0,0,(AP21*((LOG(AP21))/LOG(2))))","v":0},null,{"$f":"N21","v":2221},{"$f":"COUNTIF(L152:L180,AS21)","v":1},{"$f":"AT21/(AV4-AT20)","v":4.7619047619047616E-2},{"$f":"IF(AU21=0,0,(AU21*((LOG(AU21))/LOG(2))))","v":-0.20915797251327431}]
[21,2150,21,2156,11,2169,21,2179,null,null,0,2212,null,2222,{"$f":"COUNTIF($L$7:$L$500,N22)","v":19},{"$f":"O22/$Q$4","v":0.10919540229885058},{"$f":"IF(P22=0,0,(P22*((LOG(P22))/LOG(2))))","v":-0.34888105554998688},null,null,{"$f":"N22","v":2222},{"$f":"COUNTIF(L7:L35,T22)","v":1},{"$f":"U22/(W4-U20)","v":3.7037037037037035E-2},{"$f":"IF(V22=0,0,(V22*((LOG(V22))/LOG(2))))","v":-0.1761069445245729},null,{"$f":"N22","v":2222},{"$f":"COUNTIF(L36:L64,Y22)","v":1},{"$f":"Z22/(AB4-Z20)","v":4.3478260869565216E-2},{"$f":"IF(AA22=0,0,(AA22*((LOG(AA22))/LOG(2))))","v":-0.19667660678508753},null,{"$f":"N22","v":2222},{"$f":"COUNTIF(L65:L93,AD22)","v":2},{"$f":"AE22/(AG4-AE20)","v":0.1111111111111111},{"$f":"IF(AF22=0,0,(AF22*((LOG(AF22))/LOG(2))))","v":-0.3522138890491458},null,{"$f":"N22","v":2222},{"$f":"COUNTIF(L94:L122,AI22)","v":3},{"$f":"AJ22/(AL4-AJ20)","v":0.125},{"$f":"IF(AK22=0,0,(AK22*((LOG(AK22))/LOG(2))))","v":-0.375},null,{"$f":"N22","v":2222},{"$f":"COUNTIF(L123:L151,AN22)","v":6},{"$f":"AO22/(AQ4-AO20)","v":0.2857142857142857},{"$f":"IF(AP22=0,0,(AP22*((LOG(AP22))/LOG(2))))","v":-0.51638712058788683},null,{"$f":"N22","v":2222},{"$f":"COUNTIF(L152:L180,AS22)","v":6},{"$f":"AT22/(AV4-AT20)","v":0.2857142857142857},{"$f":"IF(AU22=0,0,(AU22*((LOG(AU22))/LOG(2))))","v":-0.51638712058788683}]
[21,2269,12,2279,24,2288,14,2311,null,null,0,2121,null,null,null,{"$f":"SUM(P7:P22)","v":1.0000000000000002},{"$f":"-SUM(Q7:Q22)","v":2.9988281379489901},null,null,null,null,{"$f":"SUM(V7:V22)","v":1},{"$f":"-SUM(W7:W22)","v":2.9765166713855611},null,null,null,{"$f":"SUM(AA7:AA22)","v":1},{"$f":"-SUM(AB7:AB22)","v":2.5546831510507397},null,null,null,{"$f":"SUM(AF7:AF22)","v":1},{"$f":"-SUM(AG7:AG22)","v":2.752715278979704},null,null,null,{"$f":"SUM(AK7:AK22)","v":0.99999999999999989},{"$f":"-SUM(AL7:AL22)","v":2.4712518360044662},null,null,null,{"$f":"SUM(AP7:AP22)","v":0.99999999999999989},{"$f":"-SUM(AQ7:AQ22)","v":2.1698872102522313},null,null,null,{"$f":"SUM(AU7:AU22)","v":1},{"$f":"-SUM(AV7:AV22)","v":2.5274955437916091}]
[21,2414,12,2426,24,2435,23,2443,null,null,0,2122,null,null,null,"U=",{"$f":"Q23/(LOG(Q4)/LOG(2))","v":0.40290889479700798},null,null,null,null,"U1=",{"$f":"W23/(LOG(W4)/LOG(2))","v":0.61270652857039365},null,null,null,"U2=",{"$f":"AB23/(LOG(AB4)/LOG(2))","v":0.5258734345838364},null,null,null,"U3=",{"$f":"AG23/(LOG(AG4)/LOG(2))","v":0.56663772084341324},null,null,null,"U4=",{"$f":"AL23/(LOG(AL4)/LOG(2))","v":0.50869936265355242},null,null,null,"U5=",{"$f":"AQ23/(LOG(AQ4)/LOG(2))","v":0.44666440902683058},null,null,null,"U6=",{"$f":"AV23/(LOG(AV4)/LOG(2))","v":0.5202769517473661}]
[12,2556,23,2566,13,2601,23,2627,null,null,0,1212]
[21,2729,12,2741,24,2750,23,2759,null,null,0,2122]
[21,2858,21,2870,22,2877,14,2890,null,null,0,2221,null,"Total Target Seq"]
[12,3002,23,3012,13,3023,23,3033,null,null,0,1212,null,{"$f":"COUNTIF(L7:L180,G3)","v":40},null,29,29,29,29,29,29]
[12,3135,23,3147,13,3187,23,3199,null,null,0,1212,null,null,null,"% of reinforcement given in 6 equal intervals based on number of trials "]
[21,3300,21,3320,22,3329,14,3362,null,null,0,2221,null,null,null,"%_1","%_2","%_3","%_4","%_5","%_6"]
[21,3463,21,3470,22,3483,14,3494,null,null,0,2221,null,null,"target sequence",{"$f":"$G$3","v":2212},{"$f":"$G$3","v":2212},{"$f":"$G$3","v":2212},{"$f":"$G$3","v":2212},{"$f":"$G$3","v":2212},{"$f":"$G$3","v":2212}]
[12,3605,23,3614,13,3627,23,3645,null,null,0,1212,null,null,"total reinforcement",{"$f":"U20","v":2},{"$f":"Z20","v":6},{"$f":"AE20","v":11},{"$f":"AJ20","v":5},{"$f":"AO20","v":8},{"$f":"AT20","v":8}]
[21,3747,12,3759,24,3768,14,3781,null,null,0,2121,null,null,"% target"]
[12,3892,23,3901,24,3909,23,3917,null,null,0,1222,null,null,"CCRF"]
[21,4018,12,4030,24,4040,23,4048,null,null,0,2122,null,null,"% CCRf"]
[21,4148,12,4166,24,4175,23,4186,null,null,0,2122,null,null,"average response rate",{"$f":"H35/P28","v":139.58620689655172},{"$f":"(H64-H35)/Q28","v":138.31034482758622},{"$f":"(H93-H64)/R28","v":136.79310344827587},{"$f":"(H122-H93)/S28","v":135},{"$f":"(H151-H122)/T28","v":132.62068965517241},{"$f":"(H180-H151)/U28","v":133.86206896551724}]
[21,4286,21,4303,11,4315,21,4324,null,null,0,2212]
[21,4419,12,4433,24,4442,23,4453,null,null,0,2122]
[21,4556,12,4568,24,4577,14,4587,null,null,0,2121]
[12,4687,23,4697,13,4707,23,4719,null,null,0,1212]
[12,4827,23,4837,24,4862,23,4870,null,null,0,1222]
[12,4974,23,4984,24,5006,23,5014,null,null,0,1222]
[12,5116,23,5141,13,5154,23,5165,null,null,0,1212]
[21,5275,21,5289,11,5301,21,5310,null,null,0,2212]
[21,5402,12,5414,24,5431,23,5456,null,null,0,2122]
[12,5563,23,5569,13,5580,23,5596,null,null,0,1212]
[21,5701,12,5713,24,5729,14,5749,null,null,0,2121]
[21,5847,21,5852,11,5867,12,5888,null,null,0,2211]
[21,5987,21,5992,11,6004,21,6014,null,null,0,2212]
[21,6104,12,6115,24,6125,23,6135,null,null,0,2122]
[12,6234,23,6245,13,6255,23,6265,null,null,0,1212]
[12,6365,14,6370,13,6401,23,6413,null,null,0,1112]
[21,6534,21,6558,11,6576,21,6597,null,null,0,2212]
[21,6686,21,6693,22,6701,23,6710,null,null,0,2222]
[21,6814,12,6826,24,6835,23,6843,null,null,0,2122]
[21,6944,12,6955,24,6963,23,6973,null,null,0,2122]
[21,7072,21,7077,11,7089,21,7105,null,null,0,2212]
[21,7195,12,7203,24,7212,23,7220,null,null,0,2122]
[21,7323,12,7335,24,7344,23,7359,null,null,0,2122]
[21,7458,21,7463,11,7476,21,7486,null,null,0,2212]
[21,7574,12,7582,13,7607,23,7618,null,null,0,2112]
[21,7723,12,7738,24,7746,14,7757,null,null,0,2121]
[21,7868,12,7876,13,7899,23,7919,null,null,0,2112]
[21,8029,12,8038,24,8046,23,8059,null,null,0,2122]
[21,8162,21,8169,11,8177,21,8186,null,null,0,2212]
[21,8276,12,8291,24,8300,23,8308,null,null,0,2122]
[21,8408,12,8416,24,8429,14,8441,null,null,0,2121]
[12,8538,14,8546,24,8555,14,8564,null,null,0,1121]
[12,8678,23,8708,24,8726,23,8748,null,null,0,1222]
[12,8859,23,8868,13,8898,14,8951,null,null,0,1211]
[21,9051,21,9056,11,9067,21,9075,null,null,0,2212]
[21,9170,12,9181,24,9189,23,9198,null,null,0,2122]
[12,9295,23,9305,13,9316,23,9323,null,null,0,1212]
[21,9422,21,9429,11,9441,21,9449,null,null,0,2212]
[21,9537,21,9542,11,9553,21,9562,null,null,0,2212]
[21,9650,21,9658,11,9669,21,9685,null,null,0,2212]
[21,9773,21,9781,11,9791,21,9800,null,null,0,2212]
[21,9888,12,9905,24,9938,23,9957,null,null,0,2122]
[12,10055,23,10071,13,10081,23,10103,null,null,0,1212]
[21,10203,21,10210,11,10222,21,10244,null,null,0,2212]
[21,10331,12,10342,13,10364,23,10372,null,null,0,2112]
[21,10470,12,10495,24,10519,23,10532,null,null,0,2122]
[21,10630,21,10634,11,10642,21,10651,null,null,0,2212]
[21,10741,21,10757,11,10769,21,10793,null,null,0,2212]
[21,10883,12,10893,24,10902,23,10910,null,null,0,2122]
[21,11010,12,11021,24,11037,14,11070,null,null,0,2121]
[21,11170,12,11180,13,11198,23,11214,null,null,0,2112]
[21,11315,12,11323,24,11346,23,11354,null,null,0,2122]
[21,11456,21,11464,22,11471,23,11480,null,null,0,2222]
[21,11628,21,11643,22,11650,23,11657,null,null,0,2222]
[21,11758,21,11765,11,11776,21,11792,null,null,0,2212]
[21,11879,21,11886,11,11896,21,11905,null,null,0,2212]
[12,12002,23,12010,24,12018,23,12026,null,null,0,1222]
[21,12127,21,12137,22,12150,23,12157,null,null,0,2222]
[21,12255,21,12260,11,12270,21,12278,null,null,0,2212]
[21,12367,12,12377,24,12385,23,12393,null,null,0,2122]
[21,12490,12,12500,24,12508,23,12520,null,null,0,2122]
[21,12632,12,12644,24,12675,23,12688,null,null,0,2122]
[21,12789,21,12795,11,12806,21,12816,null,null,0,2212]
[21,12906,12,12924,24,12933,23,12942,null,null,0,2122]
[21,13049,12,13057,24,13066,23,13074,null,null,0,2122]
[12,13171,23,13180,13,13193,23,13201,null,null,0,1212]
[12,13298,23,13310,13,13319,23,13330,null,null,0,1212]
[12,13427,23,13436,13,13445,23,13454,null,null,0,1212]
[12,13553,23,13561,24,13566,14,13576,null,null,0,1221]
[21,13685,12,13694,24,13707,14,13726,null,null,0,2121]
[12,13826,23,13836,13,13847,23,13860,null,null,0,1212]
[21,13963,21,13971,22,13979,23,13995,null,null,0,2222]
[21,14102,21,14107,22,14130,23,14167,null,null,0,2222]
[21,14271,12,14280,24,14289,14,14300,null,null,0,2121]
[21,14399,21,14404,22,14412,14,14422,null,null,0,2221]
[21,14524,12,14534,24,14544,23,14552,null,null,0,2122]
[21,14652,12,14664,24,14682,14,14698,null,null,0,2121]
[21,14799,21,14807,11,14816,21,14828,null,null,0,2212]
[21,14916,12,14926,13,14947,14,14983,null,null,0,2111]
[21,15082,21,15089,11,15103,21,15111,null,null,0,2212]
[21,15201,12,15210,24,15218,23,15225,null,null,0,2122]
[21,15324,21,15329,11,15341,21,15350,null,null,0,2212]
[12,15486,23,15511,24,15542,23,15550,null,null,0,1222]
[21,15647,12,15658,24,15666,23,15673,null,null,0,2122]
[21,15783,12,15795,24,15804,23,15811,null,null,0,2122]
[21,15912,12,15924,24,15933,23,15941,null,null,0,2122]
[21,16049,12,16059,24,16067,14,16093,null,null,0,2121]
[21,16193,21,16199,11,16210,21,16218,null,null,0,2212]
[21,16306,21,16314,11,16324,21,16333,null,null,0,2212]
[21,16427,12,16436,24,16444,14,16454,null,null,0,2121]
[21,16556,21,16567,22,16575,23,16592,null,null,0,2222]
[21,16690,12,16704,24,16717,23,16724,null,null,0,2122]
[21,16825,12,16840,24,16856,23,16865,null,null,0,2122]
[21,16964,21,16970,11,16981,21,16997,null,null,0,2212]
[21,17084,12,17093,24,17110,23,17118,null,null,0,2122]
[21,17215,21,17222,11,17230,21,17239,null,null,0,2212]
[21,17329,21,17337,11,17345,21,17361,null,null,0,2212]
[12,17458,23,17471,24,17483,23,17491,null,null,0,1222]
[21,17597,21,17606,11,17614,21,17623,null,null,0,2212]
[21,17712,12,17723,24,17732,14,17745,null,null,0,2121]
[12,17842,23,17850,13,17858,23,17869,null,null,0,1212]
[12,17968,23,17977,24,17995,23,18002,null,null,0,1222]
[21,18109,21,18117,22,18125,23,18136,null,null,0,2222]
[21,18237,12,18248,24,18263,23,18283,null,null,0,2122]
[21,18388,21,18410,22,18418,23,18447,null,null,0,2222]
[21,18550,12,18561,24,18569,23,18577,null,null,0,2122]
[21,18691,12,18714,24,18725,23,18783,null,null,0,2122]
[21,18881,21,18889,11,18897,21,18905,null,null,0,2212]
[21,18994,12,19005,24,19014,23,19022,null,null,0,2122]
[21,19120,21,19134,22,19146,23,19167,null,null,0,2222]
[12,19266,23,19275,13,19283,23,19292,null,null,0,1212]
[21,19394,21,19402,22,19410,23,19418,null,null,0,2222]
[12,19518,23,19527,24,19532,23,19539,null,null,0,1222]
[21,19637,21,19641,22,19646,23,19657,null,null,0,2222]
[21,19755,21,19761,11,19771,21,19787,null,null,0,2212]
[21,19875,12,19885,24,19895,23,19902,null,null,0,2122]
[21,20014,21,20024,22,20031,23,20043,null,null,0,2222]
[12,20154,23,20176,24,20184,23,20220,null,null,0,1222]
[21,20321,21,20326,22,20330,14,20342,null,null,0,2221]
[21,20441,21,20445,11,20457,21,20466,null,null,0,2212]
[21,20554,12,20564,24,20572,23,20582,null,null,0,2122]
[21,20680,21,20686,11,20697,21,20706,null,null,0,2212]
[21,20794,21,20802,11,20814,21,20823,null,null,0,2212]
[21,20920,21,20927,22,20934,23,20950,null,null,0,2222]
[21,21066,21,21089,22,21117,23,21126,null,null,0,2222]
[21,21225,21,21233,11,21248,21,21256,null,null,0,2212]
[21,21346,12,21357,24,21384,23,21391,null,null,0,2122]
[12,21489,23,21497,24,21504,14,21512,null,null,0,1221]
[21,21615,12,21630,24,21638,23,21651,null,null,0,2122]
[21,21749,12,21759,24,21768,23,21792,null,null,0,2122]
[21,21891,12,21902,24,21911,23,21928,null,null,0,2122]
[21,22026,21,22031,22,22053,23,22069,null,null,0,2222]
[21,22170,21,22178,22,22188,23,22196,null,null,0,2222]
[12,22296,23,22310,13,22321,23,22333,null,null,0,1212]
[21,22443,21,22451,22,22459,23,22467,null,null,0,2222]
[21,22575,21,22583,11,22601,21,22609,null,null,0,2212]
[21,22699,12,22710,24,22719,23,22727,null,null,0,2122]
[12,22830,23,22839,13,22847,23,22856,null,null,0,1212]
[21,22954,21,22959,11,22969,21,22978,null,null,0,2212]
[21,23066,21,23071,11,23082,21,23092,null,null,0,2212]
[12,23185,23,23195,24,23204,23,23227,null,null,0,1222]
[21,23329,21,23337,11,23348,12,23389,null,null,0,2211]
[21,23488,12,23499,24,23515,14,23535,null,null,0,2121]
[21,23633,21,23641,11,23652,21,23669,null,null,1,2212]

{"sheet":"!MB25800.091","index":20,"n_rows":182,"n_cols":48,"rows_kept":182,"cut":false,"hidden":false,"merged":[[4,39,4,42],[5,39,5,40],[4,44,4,47],[5,44,5,45],[4,24,4,27],[5,24,5,25],[4,29,4,32],[5,29,5,30],[4,34,4,37],[5,34,5,35],[1,1,1,2],[5,13,5,14],[26,13,26,14],[27,13,27,14],[4,19,4,22],[5,19,5,20]]}
["Report for:!MB25800.091"]
["Date:","<date>"]
["Hen:","<hen>",null,null,null,"Correct Sequence",{"$f":"Start!J2","v":2212},null,null,null,null,null,null,null,null,"Total Sequences in Data",{"$f":"4994-COUNTBLANK(L7:L5000)","v":176},null,null,null,null,"Total Sequences in Block Data",{"$f":"COUNTA(L7:L35)","v":29},null,null,null,"Total Sequences in Block Data",{"$f":"COUNTA(L36:L65)","v":30},null,null,null,"Total Sequences in Block Data",{"$f":"COUNTA(L66:L94)","v":29},null,null,null,"Total Sequences in Block Data",{"$f":"COUNTA(L95:L123)","v":29},null,null,null,"Total Sequences in Block Data",{"$f":"COUNTA(L124:L153)","v":30},null,null,null,"Total Sequences in Block Data",{"$f":"COUNTA(L154:L182)","v":29}]
[null,null,null,null,null,null,null,null,null,null,null,null,null,null,null,"Total Sequences in Summary",{"$f":"SUM(O7:O22)","v":175},null,null,null,null,"Total Sequences in Block Summary",{"$f":"SUM(U7:U22)","v":29},null,null,null,"Total Sequences in Block Summary",{"$f":"SUM(Z7:Z22)","v":30},null,null,null,"Total Sequences in Block Summary",{"$f":"SUM(AE7:AE22)","v":29},null,null,null,"Total Sequences in Block Summary",{"$f":"SUM(AJ7:AJ22)","v":29},null,null,null,"Total Sequences in Block Summary",{"$f":"SUM(AO7:AO22)","v":30},null,null,null,"Total Sequences in Block Summary",{"$f":"SUM(AT7:AT22)","v":28}]
[null,null,null,null,null,null,null,null,null,null,null,null,null,null,null,null,null,null,null,"Block 1",null,null,null,null,"Block 2",null,null,null,null,"Block 3",null,null,null,null,"Block 4",null,null,null,null,"Block 5",null,null,null,null,"Block 6"]
["Sequence\nComponent\n1","Time\n1","Sequence\nComponent\n2","Time\n2","Sequence\nComponent\n3","Time\n3","Sequence\nComponent\n4","Time\n4","Sequence\nComponent\n5","Time\n5","Correct?\n0=No 1=Yes","Sequence",null,"Frequency",null,"Relative Frequency","Variability",null,null,"Frequency",null,"Relative Frequency","Variability",null,"Frequency",null,"Relative Frequency","Variability",null,"Frequency",null,"Relative Frequency","Variability",null,"Frequency",null,"Relative Frequency","Variability",null,"Frequency",null,"Relative Frequency","Variability",null,"Frequency",null,"Relative Frequency","Variability"]
[12,10,23,19,13,30,14,40,null,null,0,1211,null,1111,{"$f":"COUNTIF($L$7:$L$500,N7)","v":0},{"$f":"O7/$Q$4","v":0},{"$f":"IF(P7=0,0,(P7*((LOG(P7))/LOG(2))))","v":0},null,null,{"$f":"N7","v":1111},{"$f":"COUNTIF(L7:L35,T7)","v":0},{"$f":"U7/(W4-U20)","v":0},{"$f":"IF(V7=0,0,(V7*((LOG(V7))/LOG(2))))","v":0},null,{"$f":"N7","v":1111},{"$f":"COUNTIF(L36:L65,Y7)","v":0},{"$f":"Z7/(AB4-Z20)","v":0},{"$f":"IF(AA7=0,0,(AA7*((LOG(AA7))/LOG(2))))","v":0},null,{"$f":"N7","v":1111},{"$f":"COUNTIF(L66:L94,AD7)","v":0},{"$f":"AE7/(AG4-AE20)","v":0},{"$f":"IF(AF7=0,0,(AF7*((LOG(AF7))/LOG(2))))","v":0},null,{"$f":"N7","v":1111},{"$f":"COUNTIF(L95:L123,AI7)","v":0},{"$f":"AJ7/(AL4-AJ20)","v":0},{"$f":"IF(AK7=0,0,(AK7*((LOG(AK7))/LOG(2))))","v":0},null,{"$f":"N7","v":1111},{"$f":"COUNTIF(L124:L153,AN7)","v":0},{"$f":"AO7/(AQ4-AO20)","v":0},{"$f":"IF(AP7=0,0,(AP7*((LOG(AP7))/LOG(2))))","v":0},null,{"$f":"N7","v":1111},{"$f":"COUNTIF(L154:L182,AS7)","v":0},{"$f":"AT7/(AV4-AT20)","v":0},{"$f":"IF(AU7=0,0,(AU7*((LOG(AU7))/LOG(2))))","v":0}]
[21,142,12,154,24,163,14,175,null,null,0,2121,null,1112,{"$f":"COUNTIF($L$7:$L$500,N8)","v":1},{"$f":"O8/$Q$4","v":5.7142857142857143E-3},{"$f":"IF(P8=0,0,(P8*((LOG(P8))/LOG(2))))","v":-4.2578349210470448E-2},null,null,{"$f":"N8","v":1112},{"$f":"COUNTIF(L7:L35,T8)","v":1},{"$f":"U8/(W4-U20)","v":4.7619047619047616E-2},{"$f":"IF(V8=0,0,(V8*((LOG(V8))/LOG(2))))","v":-0.20915797251327431},null,{"$f":"N8","v":1112},{"$f":"COUNTIF(L36:L65,Y8)","v":0},{"$f":"Z8/(AB4-Z20)","v":0},{"$f":"IF(AA8=0,0,(AA8*((LOG(AA8))/LOG(2))))","v":0},null,{"$f":"N8","v":1112},{"$f":"COUNTIF(L66:L94,AD8)","v":0},{"$f":"AE8/(AG4-AE20)","v":0},{"$f":"IF(AF8=0,0,(AF8*((LOG(AF8))/LOG(2))))","v":0},null,{"$f":"N8","v":1112},{"$f":"COUNTIF(L95:L123,AI8)","v":0},{"$f":"AJ8/(AL4-AJ20)","v":0},{"$f":"IF(AK8=0,0,(AK8*((LOG(AK8))/LOG(2))))","v":0},null,{"$f":"N8","v":1112},{"$f":"COUNTIF(L124:L153,AN8)","v":0},{"$f":"AO8/(AQ4-AO20)","v":0},{"$f":"IF(AP8=0,0,(AP8*((LOG(AP8))/LOG(2))))","v":0},null,{"$f":"N8","v":1112},{"$f":"COUNTIF(L154:L182,AS8)","v":0},{"$f":"AT8/(AV4-AT20)","v":0},{"$f":"IF(AU8=0,0,(AU8*((LOG(AU8))/LOG(2))))","v":0}]
[21,278,12,297,13,318,14,327,null,null,0,2111,null,1121,{"$f":"COUNTIF($L$7:$L$500,N9)","v":1},{"$f":"O9/$Q$4","v":5.7142857142857143E-3},{"$f":"IF(P9=0,0,(P9*((LOG(P9))/LOG(2))))","v":-4.2578349210470448E-2},null,null,{"$f":"N9","v":1121},{"$f":"COUNTIF(L7:L35,T9)","v":0},{"$f":"U9/(W4-U20)","v":0},{"$f":"IF(V9=0,0,(V9*((LOG(V9))/LOG(2))))","v":0},null,{"$f":"N9","v":1121},{"$f":"COUNTIF(L36:L65,Y9)","v":0},{"$f":"Z9/(AB4-Z20)","v":0},{"$f":"IF(AA9=0,0,(AA9*((LOG(AA9))/LOG(2))))","v":0},null,{"$f":"N9","v":1121},{"$f":"COUNTIF(L66:L94,AD9)","v":0},{"$f":"AE9/(AG4-AE20)","v":0},{"$f":"IF(AF9=0,0,(AF9*((LOG(AF9))/LOG(2))))","v":0},null,{"$f":"N9","v":1121},{"$f":"COUNTIF(L95:L123,AI9)","v":0},{"$f":"AJ9/(AL4-AJ20)","v":0},{"$f":"IF(AK9=0,0,(AK9*((LOG(AK9))/LOG(2))))","v":0},null,{"$f":"N9","v":1121},{"$f":"COUNTIF(L124:L153,AN9)","v":1},{"$f":"AO9/(AQ4-AO20)","v":0.04},{"$f":"IF(AP9=0,0,(AP9*((LOG(AP9))/LOG(2))))","v":-0.18575424759098899},null,{"$f":"N9","v":1121},{"$f":"COUNTIF(L154:L182,AS9)","v":0},{"$f":"AT9/(AV4-AT20)","v":0},{"$f":"IF(AU9=0,0,(AU9*((LOG(AU9))/LOG(2))))","v":0}]
[12,428,23,436,13,447,23,459,null,null,0,1212,null,1122,{"$f":"COUNTIF($L$7:$L$500,N10)","v":9},{"$f":"O10/$Q$4","v":5.1428571428571428E-2},{"$f":"IF(P10=0,0,(P10*((LOG(P10))/LOG(2))))","v":-0.22018042853434372},null,null,{"$f":"N10","v":1122},{"$f":"COUNTIF(L7:L35,T10)","v":0},{"$f":"U10/(W4-U20)","v":0},{"$f":"IF(V10=0,0,(V10*((LOG(V10))/LOG(2))))","v":0},null,{"$f":"N10","v":1122},{"$f":"COUNTIF(L36:L65,Y10)","v":1},{"$f":"Z10/(AB4-Z20)","v":3.8461538461538464E-2},{"$f":"IF(AA10=0,0,(AA10*((LOG(AA10))/LOG(2))))","v":-0.18078614300542661},null,{"$f":"N10","v":1122},{"$f":"COUNTIF(L66:L94,AD10)","v":3},{"$f":"AE10/(AG4-AE20)","v":0.1111111111111111},{"$f":"IF(AF10=0,0,(AF10*((LOG(AF10))/LOG(2))))","v":-0.3522138890491458},null,{"$f":"N10","v":1122},{"$f":"COUNTIF(L95:L123,AI10)","v":2},{"$f":"AJ10/(AL4-AJ20)","v":8.6956521739130432E-2},{"$f":"IF(AK10=0,0,(AK10*((LOG(AK10))/LOG(2))))","v":-0.30639669183104457},null,{"$f":"N10","v":1122},{"$f":"COUNTIF(L124:L153,AN10)","v":0},{"$f":"AO10/(AQ4-AO20)","v":0},{"$f":"IF(AP10=0,0,(AP10*((LOG(AP10))/LOG(2))))","v":0},null,{"$f":"N10","v":1122},{"$f":"COUNTIF(L154:L182,AS10)","v":3},{"$f":"AT10/(AV4-AT20)","v":0.1111111111111111},{"$f":"IF(AU10=0,0,(AU10*((LOG(AU10))/LOG(2))))","v":-0.3522138890491458}]
[12,573,14,597,13,632,23,653,null,null,0,1112,null,1211,{"$f":"COUNTIF($L$7:$L$500,N11)","v":2},{"$f":"O11/$Q$4","v":1.1428571428571429E-2},{"$f":"IF(P11=0,0,(P11*((LOG(P11))/LOG(2))))","v":-7.3728126992369469E-2},null,null,{"$f":"N11","v":1211},{"$f":"COUNTIF(L7:L35,T11)","v":2},{"$f":"U11/(W4-U20)","v":9.5238095238095233E-2},{"$f":"IF(V11=0,0,(V11*((LOG(V11))/LOG(2))))","v":-0.32307784978845333},null,{"$f":"N11","v":1211},{"$f":"COUNTIF(L36:L65,Y11)","v":0},{"$f":"Z11/(AB4-Z20)","v":0},{"$f":"IF(AA11=0,0,(AA11*((LOG(AA11))/LOG(2))))","v":0},null,{"$f":"N11","v":1211},{"$f":"COUNTIF(L66:L94,AD11)","v":0},{"$f":"AE11/(AG4-AE20)","v":0},{"$f":"IF(AF11=0,0,(AF11*((LOG(AF11))/LOG(2))))","v":0},null,{"$f":"N11","v":1211},{"$f":"COUNTIF(L95:L123,AI11)","v":0},{"$f":"AJ11/(AL4-AJ20)","v":0},{"$f":"IF(AK11=0,0,(AK11*((LOG(AK11))/LOG(2))))","v":0},null,{"$f":"N11","v":1211},{"$f":"COUNTIF(L124:L153,AN11)","v":0},{"$f":"AO11/(AQ4-AO20)","v":0},{"$f":"IF(AP11=0,0,(AP11*((LOG(AP11))/LOG(2))))","v":0},null,{"$f":"N11","v":1211},{"$f":"COUNTIF(L154:L182,AS11)","v":0},{"$f":"AT11/(AV4-AT20)","v":0},{"$f":"IF(AU11=0,0,(AU11*((LOG(AU11))/LOG(2))))","v":0}]
[21,756,12,767,13,786,23,796,null,null,0,2112,null,1212,{"$f":"COUNTIF($L$7:$L$500,N12)","v":21},{"$f":"O12/$Q$4","v":0.12},{"$f":"IF(P12=0,0,(P12*((LOG(P12))/LOG(2))))","v":-0.36706724268642821},null,null,{"$f":"N12","v":1212},{"$f":"COUNTIF(L7:L35,T12)","v":2},{"$f":"U12/(W4-U20)","v":9.5238095238095233E-2},{"$f":"IF(V12=0,0,(V12*((LOG(V12))/LOG(2))))","v":-0.32307784978845333},null,{"$f":"N12","v":1212},{"$f":"COUNTIF(L36:L65,Y12)","v":2},{"$f":"Z12/(AB4-Z20)","v":7.6923076923076927E-2},{"$f":"IF(AA12=0,0,(AA12*((LOG(AA12))/LOG(2))))","v":-0.28464920908777636},null,{"$f":"N12","v":1212},{"$f":"COUNTIF(L66:L94,AD12)","v":6},{"$f":"AE12/(AG4-AE20)","v":0.22222222222222221},{"$f":"IF(AF12=0,0,(AF12*((LOG(AF12))/LOG(2))))","v":-0.48220555587606945},null,{"$f":"N12","v":1212},{"$f":"COUNTIF(L95:L123,AI12)","v":5},{"$f":"AJ12/(AL4-AJ20)","v":0.21739130434782608},{"$f":"IF(AK12=0,0,(AK12*((LOG(AK12))/LOG(2))))","v":-0.47861605677601093},null,{"$f":"N12","v":1212},{"$f":"COUNTIF(L124:L153,AN12)","v":5},{"$f":"AO12/(AQ4-AO20)","v":0.2},{"$f":"IF(AP12=0,0,(AP12*((LOG(AP12))/LOG(2))))","v":-0.46438561897747244},null,{"$f":"N12","v":1212},{"$f":"COUNTIF(L154:L182,AS12)","v":1},{"$f":"AT12/(AV4-AT20)","v":3.7037037037037035E-2},{"$f":"IF(AU12=0,0,(AU12*((LOG(AU12))/LOG(2))))","v":-0.1761069445245729}]
[12,909,23,918,13,931,14,966,null,null,0,1211,null,1221,{"$f":"COUNTIF($L$7:$L$500,N13)","v":8},{"$f":"O13/$Q$4","v":4.5714285714285714E-2},{"$f":"IF(P13=0,0,(P13*((LOG(P13))/LOG(2))))","v":-0.20348393654090646},null,null,{"$f":"N13","v":1221},{"$f":"COUNTIF(L7:L35,T13)","v":2},{"$f":"U13/(W4-U20)","v":9.5238095238095233E-2},{"$f":"IF(V13=0,0,(V13*((LOG(V13))/LOG(2))))","v":-0.32307784978845333},null,{"$f":"N13","v":1221},{"$f":"COUNTIF(L36:L65,Y13)","v":1},{"$f":"Z13/(AB4-Z20)","v":3.8461538461538464E-2},{"$f":"IF(AA13=0,0,(AA13*((LOG(AA13))/LOG(2))))","v":-0.18078614300542661},null,{"$f":"N13","v":1221},{"$f":"COUNTIF(L66:L94,AD13)","v":0},{"$f":"AE13/(AG4-AE20)","v":0},{"$f":"IF(AF13=0,0,(AF13*((LOG(AF13))/LOG(2))))","v":0},null,{"$f":"N13","v":1221},{"$f":"COUNTIF(L95:L123,AI13)","v":2},{"$f":"AJ13/(AL4-AJ20)","v":8.6956521739130432E-2},{"$f":"IF(AK13=0,0,(AK13*((LOG(AK13))/LOG(2))))","v":-0.30639669183104457},null,{"$f":"N13","v":1221},{"$f":"COUNTIF(L124:L153,AN13)","v":1},{"$f":"AO13/(AQ4-AO20)","v":0.04},{"$f":"IF(AP13=0,0,(AP13*((LOG(AP13))/LOG(2))))","v":-0.18575424759098899},null,{"$f":"N13","v":1221},{"$f":"COUNTIF(L154:L182,AS13)","v":2},{"$f":"AT13/(AV4-AT20)","v":7.407407407407407E-2},{"$f":"IF(AU13=0,0,(AU13*((LOG(AU13))/LOG(2))))","v":-0.27813981497507173}]
[21,1069,21,1077,11,1088,21,1097,null,null,0,2212,null,1222,{"$f":"COUNTIF($L$7:$L$500,N14)","v":15},{"$f":"O14/$Q$4","v":8.5714285714285715E-2},{"$f":"IF(P14=0,0,(P14*((LOG(P14))/LOG(2))))","v":-0.30379890139061233},null,null,{"$f":"N14","v":1222},{"$f":"COUNTIF(L7:L35,T14)","v":1},{"$f":"U14/(W4-U20)","v":4.7619047619047616E-2},{"$f":"IF(V14=0,0,(V14*((LOG(V14))/LOG(2))))","v":-0.20915797251327431},null,{"$f":"N14","v":1222},{"$f":"COUNTIF(L36:L65,Y14)","v":3},{"$f":"Z14/(AB4-Z20)","v":0.11538461538461539},{"$f":"IF(AA14=0,0,(AA14*((LOG(AA14))/LOG(2))))","v":-0.35947814047153104},null,{"$f":"N14","v":1222},{"$f":"COUNTIF(L66:L94,AD14)","v":4},{"$f":"AE14/(AG4-AE20)","v":0.14814814814814814},{"$f":"IF(AF14=0,0,(AF14*((LOG(AF14))/LOG(2))))","v":-0.40813148180199532},null,{"$f":"N14","v":1222},{"$f":"COUNTIF(L95:L123,AI14)","v":2},{"$f":"AJ14/(AL4-AJ20)","v":8.6956521739130432E-2},{"$f":"IF(AK14=0,0,(AK14*((LOG(AK14))/LOG(2))))","v":-0.30639669183104457},null,{"$f":"N14","v":1222},{"$f":"COUNTIF(L124:L153,AN14)","v":3},{"$f":"AO14/(AQ4-AO20)","v":0.12},{"$f":"IF(AP14=0,0,(AP14*((LOG(AP14))/LOG(2))))","v":-0.36706724268642821},null,{"$f":"N14","v":1222},{"$f":"COUNTIF(L154:L182,AS14)","v":2},{"$f":"AT14/(AV4-AT20)","v":7.407407407407407E-2},{"$f":"IF(AU14=0,0,(AU14*((LOG(AU14))/LOG(2))))","v":-0.27813981497507173}]
[12,1200,23,1209,24,1218,14,1230,null,null,0,1221,null,2111,{"$f":"COUNTIF($L$7:$L$500,N15)","v":1},{"$f":"O15/$Q$4","v":5.7142857142857143E-3},{"$f":"IF(P15=0,0,(P15*((LOG(P15))/LOG(2))))","v":-4.2578349210470448E-2},null,null,{"$f":"N15","v":2111},{"$f":"COUNTIF(L7:L35,T15)","v":1},{"$f":"U15/(W4-U20)","v":4.7619047619047616E-2},{"$f":"IF(V15=0,0,(V15*((LOG(V15))/LOG(2))))","v":-0.20915797251327431},null,{"$f":"N15","v":2111},{"$f":"COUNTIF(L36:L65,Y15)","v":0},{"$f":"Z15/(AB4-Z20)","v":0},{"$f":"IF(AA15=0,0,(AA15*((LOG(AA15))/LOG(2))))","v":0},null,{"$f":"N15","v":2111},{"$f":"COUNTIF(L66:L94,AD15)","v":0},{"$f":"AE15/(AG4-AE20)","v":0},{"$f":"IF(AF15=0,0,(AF15*((LOG(AF15))/LOG(2))))","v":0},null,{"$f":"N15","v":2111},{"$f":"COUNTIF(L95:L123,AI15)","v":0},{"$f":"AJ15/(AL4-AJ20)","v":0},{"$f":"IF(AK15=0,0,(AK15*((LOG(AK15))/LOG(2))))","v":0},null,{"$f":"N15","v":2111},{"$f":"COUNTIF(L124:L153,AN15)","v":0},{"$f":"AO15/(AQ4-AO20)","v":0},{"$f":"IF(AP15=0,0,(AP15*((LOG(AP15))/LOG(2))))","v":0},null,{"$f":"N15","v":2111},{"$f":"COUNTIF(L154:L182,AS15)","v":0},{"$f":"AT15/(AV4-AT20)","v":0},{"$f":"IF(AU15=0,0,(AU15*((LOG(AU15))/LOG(2))))","v":0}]
[21,1329,12,1343,24,1352,23,1362,null,null,0,2122,null,2112,{"$f":"COUNTIF($L$7:$L$500,N16)","v":2},{"$f":"O16/$Q$4","v":1.1428571428571429E-2},{"$f":"IF(P16=0,0,(P16*((LOG(P16))/LOG(2))))","v":-7.3728126992369469E-2},null,null,{"$f":"N16","v":2112},{"$f":"COUNTIF(L7:L35,T16)","v":1},{"$f":"U16/(W4-U20)","v":4.7619047619047616E-2},{"$f":"IF(V16=0,0,(V16*((LOG(V16))/LOG(2))))","v":-0.20915797251327431},null,{"$f":"N16","v":2112},{"$f":"COUNTIF(L36:L65,Y16)","v":0},{"$f":"Z16/(AB4-Z20)","v":0},{"$f":"IF(AA16=0,0,(AA16*((LOG(AA16))/LOG(2))))","v":0},null,{"$f":"N16","v":2112},{"$f":"COUNTIF(L66:L94,AD16)","v":0},{"$f":"AE16/(AG4-AE20)","v":0},{"$f":"IF(AF16=0,0,(AF16*((LOG(AF16))/LOG(2))))","v":0},null,{"$f":"N16","v":2112},{"$f":"COUNTIF(L95:L123,AI16)","v":1},{"$f":"AJ16/(AL4-AJ20)","v":4.3478260869565216E-2},{"$f":"IF(AK16=0,0,(AK16*((LOG(AK16))/LOG(2))))","v":-0.19667660678508753},null,{"$f":"N16","v":2112},{"$f":"COUNTIF(L124:L153,AN16)","v":0},{"$f":"AO16/(AQ4-AO20)","v":0},{"$f":"IF(AP16=0,0,(AP16*((LOG(AP16))/LOG(2))))","v":0},null,{"$f":"N16","v":2112},{"$f":"COUNTIF(L154:L182,AS16)","v":0},{"$f":"AT16/(AV4-AT20)","v":0},{"$f":"IF(AU16=0,0,(AU16*((LOG(AU16))/LOG(2))))","v":0}]
[21,1463,21,1468,11,1483,21,1493,null,null,0,2212,null,2121,{"$f":"COUNTIF($L$7:$L$500,N17)","v":10},{"$f":"O17/$Q$4","v":5.7142857142857141E-2},{"$f":"IF(P17=0,0,(P17*((LOG(P17))/LOG(2))))","v":-0.23595902953971234},null,null,{"$f":"N17","v":2121},{"$f":"COUNTIF(L7:L35,T17)","v":3},{"$f":"U17/(W4-U20)","v":0.14285714285714285},{"$f":"IF(V17=0,0,(V17*((LOG(V17))/LOG(2))))","v":-0.40105070315108626},null,{"$f":"N17","v":2121},{"$f":"COUNTIF(L36:L65,Y17)","v":2},{"$f":"Z17/(AB4-Z20)","v":7.6923076923076927E-2},{"$f":"IF(AA17=0,0,(AA17*((LOG(AA17))/LOG(2))))","v":-0.28464920908777636},null,{"$f":"N17","v":2121},{"$f":"COUNTIF(L66:L94,AD17)","v":3},{"$f":"AE17/(AG4-AE20)","v":0.1111111111111111},{"$f":"IF(AF17=0,0,(AF17*((LOG(AF17))/LOG(2))))","v":-0.3522138890491458},null,{"$f":"N17","v":2121},{"$f":"COUNTIF(L95:L123,AI17)","v":0},{"$f":"AJ17/(AL4-AJ20)","v":0},{"$f":"IF(AK17=0,0,(AK17*((LOG(AK17))/LOG(2))))","v":0},null,{"$f":"N17","v":2121},{"$f":"COUNTIF(L124:L153,AN17)","v":2},{"$f":"AO17/(AQ4-AO20)","v":0.08},{"$f":"IF(AP17=0,0,(AP17*((LOG(AP17))/LOG(2))))","v":-0.29150849518197797},null,{"$f":"N17","v":2121},{"$f":"COUNTIF(L154:L182,AS17)","v":0},{"$f":"AT17/(AV4-AT20)","v":0},{"$f":"IF(AU17=0,0,(AU17*((LOG(AU17))/LOG(2))))","v":0}]
[21,1583,21,1591,11,1603,21,1612,null,null,0,2212,null,2122,{"$f":"COUNTIF($L$7:$L$500,N18)","v":60},{"$f":"O18/$Q$4","v":0.34285714285714286},{"$f":"IF(P18=0,0,(P18*((LOG(P18))/LOG(2))))","v":-0.52948131984816349},null,null,{"$f":"N18","v":2122},{"$f":"COUNTIF(L7:L35,T18)","v":7},{"$f":"U18/(W4-U20)","v":0.33333333333333331},{"$f":"IF(V18=0,0,(V18*((LOG(V18))/LOG(2))))","v":-0.52832083357371862},null,{"$f":"N18","v":2122},{"$f":"COUNTIF(L36:L65,Y18)","v":13},{"$f":"Z18/(AB4-Z20)","v":0.5},{"$f":"IF(AA18=0,0,(AA18*((LOG(AA18))/LOG(2))))","v":-0.5},null,{"$f":"N18","v":2122},{"$f":"COUNTIF(L66:L94,AD18)","v":8},{"$f":"AE18/(AG4-AE20)","v":0.29629629629629628},{"$f":"IF(AF18=0,0,(AF18*((LOG(AF18))/LOG(2))))","v":-0.51996666730769436},null,{"$f":"N18","v":2122},{"$f":"COUNTIF(L95:L123,AI18)","v":9},{"$f":"AJ18/(AL4-AJ20)","v":0.39130434782608697},{"$f":"IF(AK18=0,0,(AK18*((LOG(AK18))/LOG(2))))","v":-0.5296840257187958},null,{"$f":"N18","v":2122},{"$f":"COUNTIF(L124:L153,AN18)","v":12},{"$f":"AO18/(AQ4-AO20)","v":0.48},{"$f":"IF(AP18=0,0,(AP18*((LOG(AP18))/LOG(2))))","v":-0.50826897074571287},null,{"$f":"N18","v":2122},{"$f":"COUNTIF(L154:L182,AS18)","v":11},{"$f":"AT18/(AV4-AT20)","v":0.40740740740740738},{"$f":"IF(AU18=0,0,(AU18*((LOG(AU18))/LOG(2))))","v":-0.52777832291806981}]
[21,1705,21,1714,11,1731,21,1739,null,null,0,2212,null,2211,{"$f":"COUNTIF($L$7:$L$500,N19)","v":0},{"$f":"O19/$Q$4","v":0},{"$f":"IF(P19=0,0,(P19*((LOG(P19))/LOG(2))))","v":0},null,null,{"$f":"N19","v":2211},{"$f":"COUNTIF(L7:L35,T19)","v":0},{"$f":"U19/(W4-U20)","v":0},{"$f":"IF(V19=0,0,(V19*((LOG(V19))/LOG(2))))","v":0},null,{"$f":"N19","v":2211},{"$f":"COUNTIF(L36:L65,Y19)","v":0},{"$f":"Z19/(AB4-Z20)","v":0},{"$f":"IF(AA19=0,0,(AA19*((LOG(AA19))/LOG(2))))","v":0},null,{"$f":"N19","v":2211},{"$f":"COUNTIF(L66:L94,AD19)","v":0},{"$f":"AE19/(AG4-AE20)","v":0},{"$f":"IF(AF19=0,0,(AF19*((LOG(AF19))/LOG(2))))","v":0},null,{"$f":"N19","v":2211},{"$f":"COUNTIF(L95:L123,AI19)","v":0},{"$f":"AJ19/(AL4-AJ20)","v":0},{"$f":"IF(AK19=0,0,(AK19*((LOG(AK19))/LOG(2))))","v":0},null,{"$f":"N19","v":2211},{"$f":"COUNTIF(L124:L153,AN19)","v":0},{"$f":"AO19/(AQ4-AO20)","v":0},{"$f":"IF(AP19=0,0,(AP19*((LOG(AP19))/LOG(2))))","v":0},null,{"$f":"N19","v":2211},{"$f":"COUNTIF(L154:L182,AS19)","v":0},{"$f":"AT19/(AV4-AT20)","v":0},{"$f":"IF(AU19=0,0,(AU19*((LOG(AU19))/LOG(2))))","v":0}]
[12,1842,23,1850,24,1859,14,1875,null,null,0,1221,null,2212,{"$f":"COUNTIF($L$7:$L$500,N20)","v":26},{"$f":"O20/$Q$4","v":0.14857142857142858},{"$f":"IF(P20=0,0,(P20*((LOG(P20))/LOG(2))))","v":-0.40868603563412653},null,null,{"$f":"N20","v":2212},{"$f":"COUNTIF(L7:L35,T20)","v":8},null,null,null,{"$f":"N20","v":2212},{"$f":"COUNTIF(L36:L65,Y20)","v":4},null,null,null,{"$f":"N20","v":2212},{"$f":"COUNTIF(L66:L94,AD20)","v":2},null,null,null,{"$f":"N20","v":2212},{"$f":"COUNTIF(L95:L123,AI20)","v":6},null,null,null,{"$f":"N20","v":2212},{"$f":"COUNTIF(L124:L153,AN20)","v":5},null,null,null,{"$f":"N20","v":2212},{"$f":"COUNTIF(L154:L182,AS20)","v":1}]
[12,1991,23,2000,13,2013,23,2024,null,null,0,1212,null,2221,{"$f":"COUNTIF($L$7:$L$500,N21)","v":3},{"$f":"O21/$Q$4","v":1.7142857142857144E-2},{"$f":"IF(P21=0,0,(P21*((LOG(P21))/LOG(2))))","v":-0.10056426190476297},null,null,{"$f":"N21","v":2221},{"$f":"COUNTIF(L7:L35,T21)","v":0},{"$f":"U21/(W4-U20)","v":0},{"$f":"IF(V21=0,0,(V21*((LOG(V21))/LOG(2))))","v":0},null,{"$f":"N21","v":2221},{"$f":"COUNTIF(L36:L65,Y21)","v":2},{"$f":"Z21/(AB4-Z20)","v":7.6923076923076927E-2},{"$f":"IF(AA21=0,0,(AA21*((LOG(AA21))/LOG(2))))","v":-0.28464920908777636},null,{"$f":"N21","v":2221},{"$f":"COUNTIF(L66:L94,AD21)","v":0},{"$f":"AE21/(AG4-AE20)","v":0},{"$f":"IF(AF21=0,0,(AF21*((LOG(AF21))/LOG(2))))","v":0},null,{"$f":"N21","v":2221},{"$f":"COUNTIF(L95:L123,AI21)","v":0},{"$f":"AJ21/(AL4-AJ20)","v":0},{"$f":"IF(AK21=0,0,(AK21*((LOG(AK21))/LOG(2))))","v":0},null,{"$f":"N21","v":2221},{"$f":"COUNTIF(L124:L153,AN21)","v":1},{"$f":"AO21/(AQ4-AO20)","v":0.04},{"$f":"IF(AP21=0,0,(AP21*((LOG(AP21))/LOG(2))))","v":-0.18575424759098899},null,{"$f":"N21","v":2221},{"$f":"COUNTIF(L154:L182,AS21)","v":0},{"$f":"AT21/(AV4-AT20)","v":0},{"$f":"IF(AU21=0,0,(AU21*((LOG(AU21))/LOG(2))))","v":0}]
[21,2123,21,2128,11,2140,21,2149,null,null,0,2212,null,2222,{"$f":"COUNTIF($L$7:$L$500,N22)","v":16},{"$f":"O22/$Q$4","v":9.1428571428571428E-2},{"$f":"IF(P22=0,0,(P22*((LOG(P22))/LOG(2))))","v":-0.31553930165324146},null,null,{"$f":"N22","v":2222},{"$f":"COUNTIF(L7:L35,T22)","v":1},{"$f":"U22/(W4-U20)","v":4.7619047619047616E-2},{"$f":"IF(V22=0,0,(V22*((LOG(V22))/LOG(2))))","v":-0.20915797251327431},null,{"$f":"N22","v":2222},{"$f":"COUNTIF(L36:L65,Y22)","v":2},{"$f":"Z22/(AB4-Z20)","v":7.6923076923076927E-2},{"$f":"IF(AA22=0,0,(AA22*((LOG(AA22))/LOG(2))))","v":-0.28464920908777636},null,{"$f":"N22","v":2222},{"$f":"COUNTIF(L66:L94,AD22)","v":3},{"$f":"AE22/(AG4-AE20)","v":0.1111111111111111},{"$f":"IF(AF22=0,0,(AF22*((LOG(AF22))/LOG(2))))","v":-0.3522138890491458},null,{"$f":"N22","v":2222},{"$f":"COUNTIF(L95:L123,AI22)","v":2},{"$f":"AJ22/(AL4-AJ20)","v":8.6956521739130432E-2},{"$f":"IF(AK22=0,0,(AK22*((LOG(AK22))/LOG(2))))","v":-0.30639669183104457},null,{"$f":"N22","v":2222},{"$f":"COUNTIF(L124:L153,AN22)","v":0},{"$f":"AO22/(AQ4-AO20)","v":0},{"$f":"IF(AP22=0,0,(AP22*((LOG(AP22))/LOG(2))))","v":0},null,{"$f":"N22","v":2222},{"$f":"COUNTIF(L154:L182,AS22)","v":8},{"$f":"AT22/(AV4-AT20)","v":0.29629629629629628},{"$f":"IF(AU22=0,0,(AU22*((LOG(AU22))/LOG(2))))","v":-0.51996666730769436}]
[21,2237,12,2246,24,2255,14,2267,null,null,0,2121,null,null,null,{"$f":"SUM(P7:P22)","v":1},{"$f":"-SUM(Q7:Q22)","v":2.9599517593484479},null,null,null,null,{"$f":"SUM(V7:V22)","v":1},{"$f":"-SUM(W7:W22)","v":2.9443949486565368},null,null,null,{"$f":"SUM(AA7:AA22)","v":1},{"$f":"-SUM(AB7:AB22)","v":2.3596472628334899},null,null,null,{"$f":"SUM(AF7:AF22)","v":1},{"$f":"-SUM(AG7:AG22)","v":2.4669453721331966},null,null,null,{"$f":"SUM(AK7:AK22)","v":1},{"$f":"-SUM(AL7:AL22)","v":2.4305634566040721},null,null,null,{"$f":"SUM(AP7:AP22)","v":1},{"$f":"-SUM(AQ7:AQ22)","v":2.1884930703645584},null,null,null,{"$f":"SUM(AU7:AU22)","v":1},{"$f":"-SUM(AV7:AV22)","v":2.1323454537496263}]
[21,2364,12,2375,24,2381,14,2394,null,null,0,2121,null,null,null,"U=",{"$f":"Q23/(LOG(Q4)/LOG(2))","v":0.39724438281558305},null,null,null,null,"U1=",{"$f":"W23/(LOG(W4)/LOG(2))","v":0.60609437369345165},null,null,null,"U2=",{"$f":"AB23/(LOG(AB4)/LOG(2))","v":0.4808844250461351},null,null,null,"U3=",{"$f":"AG23/(LOG(AG4)/LOG(2))","v":0.50781289070654634},null,null,null,"U4=",{"$f":"AL23/(LOG(AL4)/LOG(2))","v":0.50032378863603288},null,null,null,"U5=",{"$f":"AQ23/(LOG(AQ4)/LOG(2))","v":0.44600404833219165},null,null,null,"U6=",{"$f":"AV23/(LOG(AV4)/LOG(2))","v":0.44355898166906255}]
[21,2493,21,2498,11,2511,21,2520,null,null,0,2212]
[21,2610,12,2623,24,2633,23,2641,null,null,0,2122]
[21,2746,12,2758,24,2767,23,2775,null,null,0,2122,null,"Total Target Seq"]
[21,2883,21,2888,11,2897,21,2906,null,null,0,2212,null,{"$f":"COUNTIF(L7:L182,G3)","v":26},null,29,30,29,29,30,29]
[21,2993,12,3005,24,3015,23,3028,null,null,0,2122,null,null,null,"% of reinforcement given in 6 equal intervals based on number of trials "]
[21,3132,12,3141,24,3149,23,3157,null,null,0,2122,null,null,null,"%_1","%_2","%_3","%_4","%_5","%_6"]
[21,3255,21,3262,22,3284,23,3292,null,null,0,2222,null,null,"target sequence",{"$f":"$G$3","v":2212},{"$f":"$G$3","v":2212},{"$f":"$G$3","v":2212},{"$f":"$G$3","v":2212},{"$f":"$G$3","v":2212},{"$f":"$G$3","v":2212}]
[12,3394,23,3403,24,3411,23,3419,null,null,0,1222,null,null,"total reinforcement",{"$f":"U20","v":8},{"$f":"Z20","v":4},{"$f":"AE20","v":2},{"$f":"AJ20","v":6},{"$f":"AO20","v":5},{"$f":"AT20","v":1}]
[21,3530,12,3542,24,3552,23,3560,null,null,0,2122,null,null,"% target"]
[21,3660,21,3668,11,3679,21,3689,null,null,0,2212,null,null,"CCRF"]
[21,3776,12,3788,24,3797,23,3805,null,null,0,2122,null,null,"% CCRf"]
[21,3905,12,3916,24,3926,23,3933,null,null,0,2122,null,null,"average response rate",{"$f":"H35/P28","v":131.20689655172413},{"$f":"(H65-H35)/Q28","v":137.6},{"$f":"(H94-H65)/R28","v":140.55172413793105},{"$f":"(H123-H94)/S28","v":134},{"$f":"(H153-H123)/T28","v":136.23333333333332},{"$f":"(H182-H153)/U28","v":-689.0344827586207}]
[21,4033,12,4044,24,4062,23,4079,null,null,0,2122]
[21,4186,12,4199,24,4209,23,4217,null,null,0,2122]
[21,4317,12,4329,24,4335,23,4342,null,null,0,2122]
[12,4443,23,4449,24,4455,23,4463,null,null,0,1222]
[21,4566,21,4574,22,4582,14,4596,null,null,0,2221]
[21,4702,12,4715,24,4725,23,4733,null,null,0,2122]
[21,4835,12,4847,24,4857,23,4888,null,null,0,2122]
[21,4993,21,5001,22,5012,23,5041,null,null,0,2222]
[21,5148,12,5158,24,5167,23,5176,null,null,0,2122]
[21,5277,12,5289,24,5298,14,5318,null,null,0,2121]
[21,5427,21,5434,11,5446,21,5458,null,null,0,2212]
[21,5546,12,5557,24,5567,23,5574,null,null,0,2122]
[12,5676,23,5685,13,5696,23,5705,null,null,0,1212]
[21,5806,21,5814,11,5829,21,5853,null,null,0,2212]
[21,5943,12,5954,24,5972,23,5993,null,null,0,2122]
[21,6091,12,6100,24,6108,23,6117,null,null,0,2122]
[21,6220,21,6226,22,6247,23,6255,null,null,0,2222]
[21,6366,21,6384,11,6413,21,6422,null,null,0,2212]
[21,6516,21,6525,22,6543,14,6556,null,null,0,2221]
[12,6668,23,6676,13,6685,23,6696,null,null,0,1212]
[12,6796,14,6807,24,6816,23,6825,null,null,0,1122]
[12,6936,23,6945,24,6953,23,6974,null,null,0,1222]
[21,7072,12,7082,24,7092,14,7104,null,null,0,2121]
[21,7213,12,7224,24,7236,23,7245,null,null,0,2122]
[12,7345,23,7358,24,7366,14,7378,null,null,0,1221]
[12,7479,23,7487,24,7495,23,7516,null,null,0,1222]
[21,7628,12,7641,24,7658,23,7667,null,null,0,2122]
[21,7778,12,7788,24,7796,23,7804,null,null,0,2122]
[21,7902,21,7910,11,7924,21,7933,null,null,0,2212]
[21,8022,12,8033,24,8083,23,8091,null,null,0,2122]
[12,8195,23,8204,13,8215,23,8225,null,null,0,1212]
[12,8338,23,8361,24,8373,23,8393,null,null,0,1222]
[12,8492,23,8502,13,8511,23,8521,null,null,0,1212]
[12,8625,23,8635,13,8647,23,8656,null,null,0,1212]
[12,8757,23,8766,13,8778,23,8787,null,null,0,1212]
[12,8900,23,8910,24,8928,23,8936,null,null,0,1222]
[12,9051,23,9061,24,9069,23,9077,null,null,0,1222]
[21,9179,21,9201,22,9211,23,9220,null,null,0,2222]
[21,9319,21,9328,22,9373,23,9381,null,null,0,2222]
[21,9484,12,9496,24,9512,23,9523,null,null,0,2122]
[12,9637,14,9646,24,9656,23,9672,null,null,0,1122]
[21,9776,12,9788,24,9797,23,9806,null,null,0,2122]
[21,9915,12,9924,24,9934,23,9942,null,null,0,2122]
[12,10044,23,10054,13,10063,23,10072,null,null,0,1212]
[12,10171,14,10190,24,10200,23,10210,null,null,0,1122]
[21,10320,21,10328,22,10337,23,10345,null,null,0,2222]
[21,10446,12,10457,24,10468,14,10492,null,null,0,2121]
[21,10592,12,10603,24,10613,23,10621,null,null,0,2122]
[21,10725,12,10736,24,10746,23,10761,null,null,0,2122]
[12,10864,14,10878,24,10888,23,10896,null,null,0,1122]
[12,11008,23,11022,24,11030,23,11040,null,null,0,1222]
[21,11141,21,11149,11,11162,21,11171,null,null,0,2212]
[21,11260,12,11271,24,11280,23,11289,null,null,0,2122]
[21,11390,12,11401,24,11413,23,11431,null,null,0,2122]
[12,11533,23,11541,13,11553,23,11568,null,null,0,1212]
[21,11673,12,11685,24,11709,14,11737,null,null,0,2121]
[21,11840,12,11849,24,11858,14,11871,null,null,0,2121]
[21,11980,21,11989,11,11998,21,12009,null,null,0,2212]
[21,12101,12,12110,24,12119,23,12127,null,null,0,2122]
[12,12237,23,12247,13,12254,23,12263,null,null,0,1212]
[21,12362,12,12372,24,12383,23,12419,null,null,0,2122]
[12,12520,14,12534,24,12545,23,12551,null,null,0,1122]
[12,12663,23,12672,24,12680,14,12701,null,null,0,1221]
[21,12816,21,12824,22,12832,23,12853,null,null,0,2222]
[21,12953,21,12958,11,12970,21,12981,null,null,0,2212]
[21,13069,12,13081,24,13090,23,13098,null,null,0,2122]
[21,13200,12,13209,24,13218,23,13226,null,null,0,2122]
[21,13325,21,13330,22,13350,23,13381,null,null,0,2222]
[21,13489,21,13498,11,13509,21,13526,null,null,0,2212]
[12,13622,23,13631,13,13651,23,13660,null,null,0,1212]
[21,13762,12,13773,24,13780,23,13788,null,null,0,2122]
[21,13885,12,13896,24,13904,23,13913,null,null,0,2122]
[12,14021,23,14031,24,14046,23,14060,null,null,0,1222]
[12,14159,23,14173,13,14181,23,14189,null,null,0,1212]
[12,14304,23,14313,24,14335,14,14364,null,null,0,1221]
[21,14471,21,14476,11,14487,21,14498,null,null,0,2212]
[21,14586,21,14594,11,14606,21,14615,null,null,0,2212]
[12,14703,23,14713,13,14722,23,14738,null,null,0,1212]
[12,14836,14,14846,24,14855,23,14868,null,null,0,1122]
[21,14965,12,14973,13,14989,23,14998,null,null,0,2112]
[12,15099,23,15108,13,15116,23,15126,null,null,0,1212]
[12,15231,23,15242,24,15264,23,15273,null,null,0,1222]
[21,15371,21,15376,11,15387,21,15397,null,null,0,2212]
[21,15485,12,15496,24,15506,23,15514,null,null,0,2122]
[21,15614,12,15625,24,15633,23,15641,null,null,0,2122]
[21,15740,21,15747,11,15757,21,15769,null,null,0,2212]
[21,15860,12,15871,24,15880,23,15895,null,null,0,2122]
[21,15996,12,16007,24,16016,23,16024,null,null,0,2122]
[21,16125,21,16134,22,16144,14,16163,null,null,0,2221]
[12,16261,23,16269,13,16281,23,16297,null,null,0,1212]
[21,16396,12,16406,24,16423,14,16442,null,null,0,2121]
[12,16547,23,16558,13,16569,23,16578,null,null,0,1212]
[12,16679,23,16687,13,16698,23,16708,null,null,0,1212]
[21,16809,12,16822,24,16831,23,16838,null,null,0,2122]
[21,16939,12,16950,24,16959,23,16967,null,null,0,2122]
[21,17071,12,17083,24,17092,23,17106,null,null,0,2122]
[12,17220,23,17230,24,17238,14,17251,null,null,0,1221]
[21,17351,21,17359,11,17370,21,17379,null,null,0,2212]
[21,17467,21,17486,11,17498,21,17516,null,null,0,2212]
[21,17603,12,17612,24,17620,23,17628,null,null,0,2122]
[21,17729,12,17736,24,17746,23,17753,null,null,0,2122]
[12,17855,14,17873,24,17883,14,17902,null,null,0,1121]
[12,17999,23,18011,13,18021,23,18032,null,null,0,1212]
[21,18134,12,18153,24,18162,23,18194,null,null,0,2122]
[21,18293,12,18306,24,18315,23,18323,null,null,0,2122]
[21,18422,12,18432,24,18440,23,18448,null,null,0,2122]
[12,18560,23,18569,24,18585,23,18597,null,null,0,1222]
[21,18695,21,18702,11,18713,21,18722,null,null,0,2212]
[21,18817,12,18829,24,18844,23,18859,null,null,0,2122]
[12,18968,23,18979,24,18987,23,18995,null,null,0,1222]
[12,19104,23,19113,13,19125,23,19136,null,null,0,1212]
[21,19236,21,19244,11,19254,21,19264,null,null,0,2212]
[21,19351,12,19363,24,19372,23,19399,null,null,0,2122]
[21,19499,12,19511,24,19519,14,19538,null,null,0,2121]
[12,19649,23,19658,24,19667,23,19679,null,null,0,1222]
[21,19777,12,19787,24,19796,23,19831,null,null,0,2122]
[21,19934,21,19940,11,19952,21,19982,null,null,0,2212]
[21,20069,12,20079,24,20088,23,20095,null,null,0,2122]
[12,20206,23,20215,24,20222,14,20277,null,null,0,1221]
[12,20395,14,20424,24,20437,23,20445,null,null,0,1122]
[12,20546,23,20558,13,20569,23,20585,null,null,0,1212]
[12,20695,14,20717,24,20750,23,20758,null,null,0,1122]
[21,20860,21,20879,22,20884,23,20890,null,null,0,2222]
[12,20994,14,20999,24,21013,23,21021,null,null,0,1122]
[12,21134,23,21143,24,21159,23,21173,null,null,0,1222]
[21,21274,12,21286,24,21294,23,21306,null,null,0,2122]
[21,21408,12,21419,24,21428,23,21442,null,null,0,2122]
[21,21547,21,21556,22,21564,23,21572,null,null,0,2222]
[21,21671,21,21677,22,21681,23,21686,null,null,0,2222]
[21,21790,21,21799,22,21806,23,21814,null,null,0,2222]
[21,21912,21,21919,22,21952,23,21985,null,null,0,2222]
[21,22087,21,22111,22,22119,23,22127,null,null,0,2222]
[21,22228,12,22240,24,22249,23,22257,null,null,0,2122]
[21,22367,12,22376,24,22385,23,22394,null,null,0,2122]
[21,22497,21,22505,11,22516,21,22525,null,null,0,2212]
[21,22614,12,22626,24,22635,23,22661,null,null,0,2122]
[21,22762,12,22773,24,22782,23,22790,null,null,0,2122]
[21,22897,12,22909,24,22926,23,22934,null,null,0,2122]
[21,23033,12,23043,24,23053,23,23066,null,null,0,2122]
[21,23167,21,23183,22,23214,23,23221,null,null,0,2222]
[21,23322,21,23331,22,23339,23,23348,null,null,0,2222]
[12,23462,23,23471,24,23480,23,23494,null,null,0,1222]
[21,23597,12,23609,24,23618,23,23626,null,null,0,2122]
[21,23732,12,23746,24,23755,23,23763,null,null,0,2122]
[12,23864,23,23878,24,23888,14,23901,null,null,0,1221]
[21,23999,null,null,null,null,null,null,null,null,null,2]

{"sheet":"!MB26840.091","index":21,"n_rows":173,"n_cols":48,"rows_kept":173,"cut":false,"hidden":false,"merged":[[4,39,4,42],[5,39,5,40],[4,44,4,47],[5,44,5,45],[4,24,4,27],[5,24,5,25],[4,29,4,32],[5,29,5,30],[4,34,4,37],[5,34,5,35],[1,1,1,2],[5,13,5,14],[26,13,26,14],[27,13,27,14],[4,19,4,22],[5,19,5,20]]}
["Report for:!MB26840.091"]
["Date:","<date>"]
["Hen:","<hen>",null,null,null,"Correct Sequence",{"$f":"Start!J2","v":2212},null,null,null,null,null,null,null,null,"Total Sequences in Data",{"$f":"4994-COUNTBLANK(L7:L5000)","v":167},null,null,null,null,"Total Sequences in Block Data",{"$f":"COUNTA(L7:L34)","v":28},null,null,null,"Total Sequences in Block Data",{"$f":"COUNTA(L35:L62)","v":28},null,null,null,"Total Sequences in Block Data",{"$f":"COUNTA(L63:L89)","v":27},null,null,null,"Total Sequences in Block Data",{"$f":"COUNTA(L90:L117)","v":28},null,null,null,"Total Sequences in Block Data",{"$f":"COUNTA(L118:L145)","v":28},null,null,null,"Total Sequences in Block Data",{"$f":"COUNTA(L146:L173)","v":28}]
[null,null,null,null,null,null,null,null,null,null,null,null,null,null,null,"Total Sequences in Summary",{"$f":"SUM(O7:O22)","v":167},null,null,null,null,"Total Sequences in Block Summary",{"$f":"SUM(U7:U22)","v":28},null,null,null,"Total Sequences in Block Summary",{"$f":"SUM(Z7:Z22)","v":28},null,null,null,"Total Sequences in Block Summary",{"$f":"SUM(AE7:AE22)","v":27},null,null,null,"Total Sequences in Block Summary",{"$f":"SUM(AJ7:AJ22)","v":28},null,null,null,"Total Sequences in Block Summary",{"$f":"SUM(AO7:AO22)","v":28},null,null,null,"Total Sequences in Block Summary",{"$f":"SUM(AT7:AT22)","v":28}]
[null,null,null,null,null,null,null,null,null,null,null,null,null,null,null,null,null,null,null,"Block 1",null,null,null,null,"Block 2",null,null,null,null,"Block 3",null,null,null,null,"Block 4",null,null,null,null,"Block 5",null,null,null,null,"Block 6"]
["Sequence\nComponent\n1","Time\n1","Sequence\nComponent\n2","Time\n2","Sequence\nComponent\n3","Time\n3","Sequence\nComponent\n4","Time\n4","Sequence\nComponent\n5","Time\n5","Correct?\n0=No 1=Yes","Sequence",null,"Frequency",null,"Relative Frequency","Variability",null,null,"Frequency",null,"Relative Frequency","Variability",null,"Frequency",null,"Relative Frequency","Variability",null,"Frequency",null,"Relative Frequency","Variability",null,"Frequency",null,"Relative Frequency","Variability",null,"Frequency",null,"Relative Frequency","Variability",null,"Frequency",null,"Relative Frequency","Variability"]
[21,9,12,19,13,31,14,41,null,null,0,2111,null,1111,{"$f":"COUNTIF($L$7:$L$500,N7)","v":0},{"$f":"O7/$Q$4","v":0},{"$f":"IF(P7=0,0,(P7*((LOG(P7))/LOG(2))))","v":0},null,null,{"$f":"N7","v":1111},{"$f":"COUNTIF(L7:L34,T7)","v":0},{"$f":"U7/(W4-U20)","v":0},{"$f":"IF(V7=0,0,(V7*((LOG(V7))/LOG(2))))","v":0},null,{"$f":"N7","v":1111},{"$f":"COUNTIF(L35:L62,Y7)","v":0},{"$f":"Z7/(AB4-Z20)","v":0},{"$f":"IF(AA7=0,0,(AA7*((LOG(AA7))/LOG(2))))","v":0},null,{"$f":"N7","v":1111},{"$f":"COUNTIF(L63:L89,AD7)","v":0},{"$f":"AE7/(AG4-AE20)","v":0},{"$f":"IF(AF7=0,0,(AF7*((LOG(AF7))/LOG(2))))","v":0},null,{"$f":"N7","v":1111},{"$f":"COUNTIF(L90:L117,AI7)","v":0},{"$f":"AJ7/(AL4-AJ20)","v":0},{"$f":"IF(AK7=0,0,(AK7*((LOG(AK7))/LOG(2))))","v":0},null,{"$f":"N7","v":1111},{"$f":"COUNTIF(L118:L145,AN7)","v":0},{"$f":"AO7/(AQ4-AO20)","v":0},{"$f":"IF(AP7=0,0,(AP7*((LOG(AP7))/LOG(2))))","v":0},null,{"$f":"N7","v":1111},{"$f":"COUNTIF(L146:L173,AS7)","v":0},{"$f":"AT7/(AV4-AT20)","v":0},{"$f":"IF(AU7=0,0,(AU7*((LOG(AU7))/LOG(2))))","v":0}]
[21,154,21,162,11,175,21,185,null,null,0,2212,null,1112,{"$f":"COUNTIF($L$7:$L$500,N8)","v":0},{"$f":"O8/$Q$4","v":0},{"$f":"IF(P8=0,0,(P8*((LOG(P8))/LOG(2))))","v":0},null,null,{"$f":"N8","v":1112},{"$f":"COUNTIF(L7:L34,T8)","v":0},{"$f":"U8/(W4-U20)","v":0},{"$f":"IF(V8=0,0,(V8*((LOG(V8))/LOG(2))))","v":0},null,{"$f":"N8","v":1112},{"$f":"COUNTIF(L35:L62,Y8)","v":0},{"$f":"Z8/(AB4-Z20)","v":0},{"$f":"IF(AA8=0,0,(AA8*((LOG(AA8))/LOG(2))))","v":0},null,{"$f":"N8","v":1112},{"$f":"COUNTIF(L63:L89,AD8)","v":0},{"$f":"AE8/(AG4-AE20)","v":0},{"$f":"IF(AF8=0,0,(AF8*((LOG(AF8))/LOG(2))))","v":0},null,{"$f":"N8","v":1112},{"$f":"COUNTIF(L90:L117,AI8)","v":0},{"$f":"AJ8/(AL4-AJ20)","v":0},{"$f":"IF(AK8=0,0,(AK8*((LOG(AK8))/LOG(2))))","v":0},null,{"$f":"N8","v":1112},{"$f":"COUNTIF(L118:L145,AN8)","v":0},{"$f":"AO8/(AQ4-AO20)","v":0},{"$f":"IF(AP8=0,0,(AP8*((LOG(AP8))/LOG(2))))","v":0},null,{"$f":"N8","v":1112},{"$f":"COUNTIF(L146:L173,AS8)","v":0},{"$f":"AT8/(AV4-AT20)","v":0},{"$f":"IF(AU8=0,0,(AU8*((LOG(AU8))/LOG(2))))","v":0}]
[12,289,23,300,13,313,23,325,null,null,0,1212,null,1121,{"$f":"COUNTIF($L$7:$L$500,N9)","v":0},{"$f":"O9/$Q$4","v":0},{"$f":"IF(P9=0,0,(P9*((LOG(P9))/LOG(2))))","v":0},null,null,{"$f":"N9","v":1121},{"$f":"COUNTIF(L7:L34,T9)","v":0},{"$f":"U9/(W4-U20)","v":0},{"$f":"IF(V9=0,0,(V9*((LOG(V9))/LOG(2))))","v":0},null,{"$f":"N9","v":1121},{"$f":"COUNTIF(L35:L62,Y9)","v":0},{"$f":"Z9/(AB4-Z20)","v":0},{"$f":"IF(AA9=0,0,(AA9*((LOG(AA9))/LOG(2))))","v":0},null,{"$f":"N9","v":1121},{"$f":"COUNTIF(L63:L89,AD9)","v":0},{"$f":"AE9/(AG4-AE20)","v":0},{"$f":"IF(AF9=0,0,(AF9*((LOG(AF9))/LOG(2))))","v":0},null,{"$f":"N9","v":1121},{"$f":"COUNTIF(L90:L117,AI9)","v":0},{"$f":"AJ9/(AL4-AJ20)","v":0},{"$f":"IF(AK9=0,0,(AK9*((LOG(AK9))/LOG(2))))","v":0},null,{"$f":"N9","v":1121},{"$f":"COUNTIF(L118:L145,AN9)","v":0},{"$f":"AO9/(AQ4-AO20)","v":0},{"$f":"IF(AP9=0,0,(AP9*((LOG(AP9))/LOG(2))))","v":0},null,{"$f":"N9","v":1121},{"$f":"COUNTIF(L146:L173,AS9)","v":0},{"$f":"AT9/(AV4-AT20)","v":0},{"$f":"IF(AU9=0,0,(AU9*((LOG(AU9))/LOG(2))))","v":0}]
[12,443,23,473,13,489,23,502,null,null,0,1212,null,1122,{"$f":"COUNTIF($L$7:$L$500,N10)","v":1},{"$f":"O10/$Q$4","v":5.9880239520958087E-3},{"$f":"IF(P10=0,0,(P10*((LOG(P10))/LOG(2))))","v":-4.4213798158527259E-2},null,null,{"$f":"N10","v":1122},{"$f":"COUNTIF(L7:L34,T10)","v":0},{"$f":"U10/(W4-U20)","v":0},{"$f":"IF(V10=0,0,(V10*((LOG(V10))/LOG(2))))","v":0},null,{"$f":"N10","v":1122},{"$f":"COUNTIF(L35:L62,Y10)","v":0},{"$f":"Z10/(AB4-Z20)","v":0},{"$f":"IF(AA10=0,0,(AA10*((LOG(AA10))/LOG(2))))","v":0},null,{"$f":"N10","v":1122},{"$f":"COUNTIF(L63:L89,AD10)","v":0},{"$f":"AE10/(AG4-AE20)","v":0},{"$f":"IF(AF10=0,0,(AF10*((LOG(AF10))/LOG(2))))","v":0},null,{"$f":"N10","v":1122},{"$f":"COUNTIF(L90:L117,AI10)","v":0},{"$f":"AJ10/(AL4-AJ20)","v":0},{"$f":"IF(AK10=0,0,(AK10*((LOG(AK10))/LOG(2))))","v":0},null,{"$f":"N10","v":1122},{"$f":"COUNTIF(L118:L145,AN10)","v":1},{"$f":"AO10/(AQ4-AO20)","v":4.1666666666666664E-2},{"$f":"IF(AP10=0,0,(AP10*((LOG(AP10))/LOG(2))))","v":-0.19104010419671485},null,{"$f":"N10","v":1122},{"$f":"COUNTIF(L146:L173,AS10)","v":0},{"$f":"AT10/(AV4-AT20)","v":0},{"$f":"IF(AU10=0,0,(AU10*((LOG(AU10))/LOG(2))))","v":0}]
[12,630,23,656,13,673,23,685,null,null,0,1212,null,1211,{"$f":"COUNTIF($L$7:$L$500,N11)","v":0},{"$f":"O11/$Q$4","v":0},{"$f":"IF(P11=0,0,(P11*((LOG(P11))/LOG(2))))","v":0},null,null,{"$f":"N11","v":1211},{"$f":"COUNTIF(L7:L34,T11)","v":0},{"$f":"U11/(W4-U20)","v":0},{"$f":"IF(V11=0,0,(V11*((LOG(V11))/LOG(2))))","v":0},null,{"$f":"N11","v":1211},{"$f":"COUNTIF(L35:L62,Y11)","v":0},{"$f":"Z11/(AB4-Z20)","v":0},{"$f":"IF(AA11=0,0,(AA11*((LOG(AA11))/LOG(2))))","v":0},null,{"$f":"N11","v":1211},{"$f":"COUNTIF(L63:L89,AD11)","v":0},{"$f":"AE11/(AG4-AE20)","v":0},{"$f":"IF(AF11=0,0,(AF11*((LOG(AF11))/LOG(2))))","v":0},null,{"$f":"N11","v":1211},{"$f":"COUNTIF(L90:L117,AI11)","v":0},{"$f":"AJ11/(AL4-AJ20)","v":0},{"$f":"IF(AK11=0,0,(AK11*((LOG(AK11))/LOG(2))))","v":0},null,{"$f":"N11","v":1211},{"$f":"COUNTIF(L118:L145,AN11)","v":0},{"$f":"AO11/(AQ4-AO20)","v":0},{"$f":"IF(AP11=0,0,(AP11*((LOG(AP11))/LOG(2))))","v":0},null,{"$f":"N11","v":1211},{"$f":"COUNTIF(L146:L173,AS11)","v":0},{"$f":"AT11/(AV4-AT20)","v":0},{"$f":"IF(AU11=0,0,(AU11*((LOG(AU11))/LOG(2))))","v":0}]
[21,787,21,795,11,804,21,814,null,null,0,2212,null,1212,{"$f":"COUNTIF($L$7:$L$500,N12)","v":13},{"$f":"O12/$Q$4","v":7.7844311377245512E-2},{"$f":"IF(P12=0,0,(P12*((LOG(P12))/LOG(2))))","v":-0.28672119440915261},null,null,{"$f":"N12","v":1212},{"$f":"COUNTIF(L7:L34,T12)","v":5},{"$f":"U12/(W4-U20)","v":0.23809523809523808},{"$f":"IF(V12=0,0,(V12*((LOG(V12))/LOG(2))))","v":-0.49294983997414238},null,{"$f":"N12","v":1212},{"$f":"COUNTIF(L35:L62,Y12)","v":1},{"$f":"Z12/(AB4-Z20)","v":4.5454545454545456E-2},{"$f":"IF(AA12=0,0,(AA12*((LOG(AA12))/LOG(2))))","v":-0.20270143721078623},null,{"$f":"N12","v":1212},{"$f":"COUNTIF(L63:L89,AD12)","v":3},{"$f":"AE12/(AG4-AE20)","v":0.15},{"$f":"IF(AF12=0,0,(AF12*((LOG(AF12))/LOG(2))))","v":-0.41054483912493089},null,{"$f":"N12","v":1212},{"$f":"COUNTIF(L90:L117,AI12)","v":3},{"$f":"AJ12/(AL4-AJ20)","v":0.14285714285714285},{"$f":"IF(AK12=0,0,(AK12*((LOG(AK12))/LOG(2))))","v":-0.40105070315108626},null,{"$f":"N12","v":1212},{"$f":"COUNTIF(L118:L145,AN12)","v":1},{"$f":"AO12/(AQ4-AO20)","v":4.1666666666666664E-2},{"$f":"IF(AP12=0,0,(AP12*((LOG(AP12))/LOG(2))))","v":-0.19104010419671485},null,{"$f":"N12","v":1212},{"$f":"COUNTIF(L146:L173,AS12)","v":0},{"$f":"AT12/(AV4-AT20)","v":0},{"$f":"IF(AU12=0,0,(AU12*((LOG(AU12))/LOG(2))))","v":0}]
[21,902,12,918,13,926,14,971,null,null,0,2111,null,1221,{"$f":"COUNTIF($L$7:$L$500,N13)","v":7},{"$f":"O13/$Q$4","v":4.1916167664670656E-2},{"$f":"IF(P13=0,0,(P13*((LOG(P13))/LOG(2))))","v":-0.19182302750248584},null,null,{"$f":"N13","v":1221},{"$f":"COUNTIF(L7:L34,T13)","v":0},{"$f":"U13/(W4-U20)","v":0},{"$f":"IF(V13=0,0,(V13*((LOG(V13))/LOG(2))))","v":0},null,{"$f":"N13","v":1221},{"$f":"COUNTIF(L35:L62,Y13)","v":1},{"$f":"Z13/(AB4-Z20)","v":4.5454545454545456E-2},{"$f":"IF(AA13=0,0,(AA13*((LOG(AA13))/LOG(2))))","v":-0.20270143721078623},null,{"$f":"N13","v":1221},{"$f":"COUNTIF(L63:L89,AD13)","v":1},{"$f":"AE13/(AG4-AE20)","v":0.05},{"$f":"IF(AF13=0,0,(AF13*((LOG(AF13))/LOG(2))))","v":-0.21609640474436814},null,{"$f":"N13","v":1221},{"$f":"COUNTIF(L90:L117,AI13)","v":2},{"$f":"AJ13/(AL4-AJ20)","v":9.5238095238095233E-2},{"$f":"IF(AK13=0,0,(AK13*((LOG(AK13))/LOG(2))))","v":-0.32307784978845333},null,{"$f":"N13","v":1221},{"$f":"COUNTIF(L118:L145,AN13)","v":1},{"$f":"AO13/(AQ4-AO20)","v":4.1666666666666664E-2},{"$f":"IF(AP13=0,0,(AP13*((LOG(AP13))/LOG(2))))","v":-0.19104010419671485},null,{"$f":"N13","v":1221},{"$f":"COUNTIF(L146:L173,AS13)","v":2},{"$f":"AT13/(AV4-AT20)","v":0.10526315789473684},{"$f":"IF(AU13=0,0,(AU13*((LOG(AU13))/LOG(2))))","v":-0.34188710667827216}]
[21,1082,12,1094,24,1109,23,1121,null,null,0,2122,null,1222,{"$f":"COUNTIF($L$7:$L$500,N14)","v":11},{"$f":"O14/$Q$4","v":6.5868263473053898E-2},{"$f":"IF(P14=0,0,(P14*((LOG(P14))/LOG(2))))","v":-0.25848502642038507},null,null,{"$f":"N14","v":1222},{"$f":"COUNTIF(L7:L34,T14)","v":0},{"$f":"U14/(W4-U20)","v":0},{"$f":"IF(V14=0,0,(V14*((LOG(V14))/LOG(2))))","v":0},null,{"$f":"N14","v":1222},{"$f":"COUNTIF(L35:L62,Y14)","v":2},{"$f":"Z14/(AB4-Z20)","v":9.0909090909090912E-2},{"$f":"IF(AA14=0,0,(AA14*((LOG(AA14))/LOG(2))))","v":-0.31449378351248153},null,{"$f":"N14","v":1222},{"$f":"COUNTIF(L63:L89,AD14)","v":2},{"$f":"AE14/(AG4-AE20)","v":0.1},{"$f":"IF(AF14=0,0,(AF14*((LOG(AF14))/LOG(2))))","v":-0.33219280948873625},null,{"$f":"N14","v":1222},{"$f":"COUNTIF(L90:L117,AI14)","v":2},{"$f":"AJ14/(AL4-AJ20)","v":9.5238095238095233E-2},{"$f":"IF(AK14=0,0,(AK14*((LOG(AK14))/LOG(2))))","v":-0.32307784978845333},null,{"$f":"N14","v":1222},{"$f":"COUNTIF(L118:L145,AN14)","v":3},{"$f":"AO14/(AQ4-AO20)","v":0.125},{"$f":"IF(AP14=0,0,(AP14*((LOG(AP14))/LOG(2))))","v":-0.375},null,{"$f":"N14","v":1222},{"$f":"COUNTIF(L146:L173,AS14)","v":2},{"$f":"AT14/(AV4-AT20)","v":0.10526315789473684},{"$f":"IF(AU14=0,0,(AU14*((LOG(AU14))/LOG(2))))","v":-0.34188710667827216}]
[21,1224,21,1230,22,1244,14,1259,null,null,0,2221,null,2111,{"$f":"COUNTIF($L$7:$L$500,N15)","v":3},{"$f":"O15/$Q$4","v":1.7964071856287425E-2},{"$f":"IF(P15=0,0,(P15*((LOG(P15))/LOG(2))))","v":-0.10416901422310591},null,null,{"$f":"N15","v":2111},{"$f":"COUNTIF(L7:L34,T15)","v":2},{"$f":"U15/(W4-U20)","v":9.5238095238095233E-2},{"$f":"IF(V15=0,0,(V15*((LOG(V15))/LOG(2))))","v":-0.32307784978845333},null,{"$f":"N15","v":2111},{"$f":"COUNTIF(L35:L62,Y15)","v":0},{"$f":"Z15/(AB4-Z20)","v":0},{"$f":"IF(AA15=0,0,(AA15*((LOG(AA15))/LOG(2))))","v":0},null,{"$f":"N15","v":2111},{"$f":"COUNTIF(L63:L89,AD15)","v":0},{"$f":"AE15/(AG4-AE20)","v":0},{"$f":"IF(AF15=0,0,(AF15*((LOG(AF15))/LOG(2))))","v":0},null,{"$f":"N15","v":2111},{"$f":"COUNTIF(L90:L117,AI15)","v":1},{"$f":"AJ15/(AL4-AJ20)","v":4.7619047619047616E-2},{"$f":"IF(AK15=0,0,(AK15*((LOG(AK15))/LOG(2))))","v":-0.20915797251327431},null,{"$f":"N15","v":2111},{"$f":"COUNTIF(L118:L145,AN15)","v":0},{"$f":"AO15/(AQ4-AO20)","v":0},{"$f":"IF(AP15=0,0,(AP15*((LOG(AP15))/LOG(2))))","v":0},null,{"$f":"N15","v":2111},{"$f":"COUNTIF(L146:L173,AS15)","v":0},{"$f":"AT15/(AV4-AT20)","v":0},{"$f":"IF(AU15=0,0,(AU15*((LOG(AU15))/LOG(2))))","v":0}]
[21,1361,21,1370,11,1386,21,1398,null,null,0,2212,null,2112,{"$f":"COUNTIF($L$7:$L$500,N16)","v":7},{"$f":"O16/$Q$4","v":4.1916167664670656E-2},{"$f":"IF(P16=0,0,(P16*((LOG(P16))/LOG(2))))","v":-0.19182302750248584},null,null,{"$f":"N16","v":2112},{"$f":"COUNTIF(L7:L34,T16)","v":1},{"$f":"U16/(W4-U20)","v":4.7619047619047616E-2},{"$f":"IF(V16=0,0,(V16*((LOG(V16))/LOG(2))))","v":-0.20915797251327431},null,{"$f":"N16","v":2112},{"$f":"COUNTIF(L35:L62,Y16)","v":0},{"$f":"Z16/(AB4-Z20)","v":0},{"$f":"IF(AA16=0,0,(AA16*((LOG(AA16))/LOG(2))))","v":0},null,{"$f":"N16","v":2112},{"$f":"COUNTIF(L63:L89,AD16)","v":3},{"$f":"AE16/(AG4-AE20)","v":0.15},{"$f":"IF(AF16=0,0,(AF16*((LOG(AF16))/LOG(2))))","v":-0.41054483912493089},null,{"$f":"N16","v":2112},{"$f":"COUNTIF(L90:L117,AI16)","v":1},{"$f":"AJ16/(AL4-AJ20)","v":4.7619047619047616E-2},{"$f":"IF(AK16=0,0,(AK16*((LOG(AK16))/LOG(2))))","v":-0.20915797251327431},null,{"$f":"N16","v":2112},{"$f":"COUNTIF(L118:L145,AN16)","v":2},{"$f":"AO16/(AQ4-AO20)","v":8.3333333333333329E-2},{"$f":"IF(AP16=0,0,(AP16*((LOG(AP16))/LOG(2))))","v":-0.29874687506009634},null,{"$f":"N16","v":2112},{"$f":"COUNTIF(L146:L173,AS16)","v":0},{"$f":"AT16/(AV4-AT20)","v":0},{"$f":"IF(AU16=0,0,(AU16*((LOG(AU16))/LOG(2))))","v":0}]
[21,1486,12,1498,13,1528,23,1537,null,null,0,2112,null,2121,{"$f":"COUNTIF($L$7:$L$500,N17)","v":15},{"$f":"O17/$Q$4","v":8.9820359281437126E-2},{"$f":"IF(P17=0,0,(P17*((LOG(P17))/LOG(2))))","v":-0.31228865540708384},null,null,{"$f":"N17","v":2121},{"$f":"COUNTIF(L7:L34,T17)","v":4},{"$f":"U17/(W4-U20)","v":0.19047619047619047},{"$f":"IF(V17=0,0,(V17*((LOG(V17))/LOG(2))))","v":-0.4556795091007162},null,{"$f":"N17","v":2121},{"$f":"COUNTIF(L35:L62,Y17)","v":2},{"$f":"Z17/(AB4-Z20)","v":9.0909090909090912E-2},{"$f":"IF(AA17=0,0,(AA17*((LOG(AA17))/LOG(2))))","v":-0.31449378351248153},null,{"$f":"N17","v":2121},{"$f":"COUNTIF(L63:L89,AD17)","v":2},{"$f":"AE17/(AG4-AE20)","v":0.1},{"$f":"IF(AF17=0,0,(AF17*((LOG(AF17))/LOG(2))))","v":-0.33219280948873625},null,{"$f":"N17","v":2121},{"$f":"COUNTIF(L90:L117,AI17)","v":3},{"$f":"AJ17/(AL4-AJ20)","v":0.14285714285714285},{"$f":"IF(AK17=0,0,(AK17*((LOG(AK17))/LOG(2))))","v":-0.40105070315108626},null,{"$f":"N17","v":2121},{"$f":"COUNTIF(L118:L145,AN17)","v":3},{"$f":"AO17/(AQ4-AO20)","v":0.125},{"$f":"IF(AP17=0,0,(AP17*((LOG(AP17))/LOG(2))))","v":-0.375},null,{"$f":"N17","v":2121},{"$f":"COUNTIF(L146:L173,AS17)","v":1},{"$f":"AT17/(AV4-AT20)","v":5.2631578947368418E-2},{"$f":"IF(AU17=0,0,(AU17*((LOG(AU17))/LOG(2))))","v":-0.22357513228650452}]
[21,1641,12,1651,24,1662,23,1672,null,null,0,2122,null,2122,{"$f":"COUNTIF($L$7:$L$500,N18)","v":57},{"$f":"O18/$Q$4","v":0.3413173652694611},{"$f":"IF(P18=0,0,(P18*((LOG(P18))/LOG(2))))","v":-0.52931984349479466},null,null,{"$f":"N18","v":2122},{"$f":"COUNTIF(L7:L34,T18)","v":8},{"$f":"U18/(W4-U20)","v":0.38095238095238093},{"$f":"IF(V18=0,0,(V18*((LOG(V18))/LOG(2))))","v":-0.53040663724905157},null,{"$f":"N18","v":2122},{"$f":"COUNTIF(L35:L62,Y18)","v":13},{"$f":"Z18/(AB4-Z20)","v":0.59090909090909094},{"$f":"IF(AA18=0,0,(AA18*((LOG(AA18))/LOG(2))))","v":-0.4484952139295757},null,{"$f":"N18","v":2122},{"$f":"COUNTIF(L63:L89,AD18)","v":7},{"$f":"AE18/(AG4-AE20)","v":0.35},{"$f":"IF(AF18=0,0,(AF18*((LOG(AF18))/LOG(2))))","v":-0.53010061049041535},null,{"$f":"N18","v":2122},{"$f":"COUNTIF(L90:L117,AI18)","v":7},{"$f":"AJ18/(AL4-AJ20)","v":0.33333333333333331},{"$f":"IF(AK18=0,0,(AK18*((LOG(AK18))/LOG(2))))","v":-0.52832083357371862},null,{"$f":"N18","v":2122},{"$f":"COUNTIF(L118:L145,AN18)","v":10},{"$f":"AO18/(AQ4-AO20)","v":0.41666666666666669},{"$f":"IF(AP18=0,0,(AP18*((LOG(AP18))/LOG(2))))","v":-0.52626433576408083},null,{"$f":"N18","v":2122},{"$f":"COUNTIF(L146:L173,AS18)","v":12},{"$f":"AT18/(AV4-AT20)","v":0.63157894736842102},{"$f":"IF(AU18=0,0,(AU18*((LOG(AU18))/LOG(2))))","v":-0.41871474487732385}]
[21,1771,12,1782,24,1791,23,1799,null,null,0,2122,null,2211,{"$f":"COUNTIF($L$7:$L$500,N19)","v":5},{"$f":"O19/$Q$4","v":2.9940119760479042E-2},{"$f":"IF(P19=0,0,(P19*((LOG(P19))/LOG(2))))","v":-0.15155018555648772},null,null,{"$f":"N19","v":2211},{"$f":"COUNTIF(L7:L34,T19)","v":0},{"$f":"U19/(W4-U20)","v":0},{"$f":"IF(V19=0,0,(V19*((LOG(V19))/LOG(2))))","v":0},null,{"$f":"N19","v":2211},{"$f":"COUNTIF(L35:L62,Y19)","v":0},{"$f":"Z19/(AB4-Z20)","v":0},{"$f":"IF(AA19=0,0,(AA19*((LOG(AA19))/LOG(2))))","v":0},null,{"$f":"N19","v":2211},{"$f":"COUNTIF(L63:L89,AD19)","v":1},{"$f":"AE19/(AG4-AE20)","v":0.05},{"$f":"IF(AF19=0,0,(AF19*((LOG(AF19))/LOG(2))))","v":-0.21609640474436814},null,{"$f":"N19","v":2211},{"$f":"COUNTIF(L90:L117,AI19)","v":2},{"$f":"AJ19/(AL4-AJ20)","v":9.5238095238095233E-2},{"$f":"IF(AK19=0,0,(AK19*((LOG(AK19))/LOG(2))))","v":-0.32307784978845333},null,{"$f":"N19","v":2211},{"$f":"COUNTIF(L118:L145,AN19)","v":0},{"$f":"AO19/(AQ4-AO20)","v":0},{"$f":"IF(AP19=0,0,(AP19*((LOG(AP19))/LOG(2))))","v":0},null,{"$f":"N19","v":2211},{"$f":"COUNTIF(L146:L173,AS19)","v":2},{"$f":"AT19/(AV4-AT20)","v":0.10526315789473684},{"$f":"IF(AU19=0,0,(AU19*((LOG(AU19))/LOG(2))))","v":-0.34188710667827216}]
[21,1898,21,1906,11,1919,21,1929,null,null,0,2212,null,2212,{"$f":"COUNTIF($L$7:$L$500,N20)","v":40},{"$f":"O20/$Q$4","v":0.23952095808383234},{"$f":"IF(P20=0,0,(P20*((LOG(P20))/LOG(2))))","v":-0.4938386102004047},null,null,{"$f":"N20","v":2212},{"$f":"COUNTIF(L7:L34,T20)","v":7},null,null,null,{"$f":"N20","v":2212},{"$f":"COUNTIF(L35:L62,Y20)","v":6},null,null,null,{"$f":"N20","v":2212},{"$f":"COUNTIF(L63:L89,AD20)","v":7},null,null,null,{"$f":"N20","v":2212},{"$f":"COUNTIF(L90:L117,AI20)","v":7},null,null,null,{"$f":"N20","v":2212},{"$f":"COUNTIF(L118:L145,AN20)","v":4},null,null,null,{"$f":"N20","v":2212},{"$f":"COUNTIF(L146:L173,AS20)","v":9}]
[21,2020,12,2029,24,2040,14,2071,null,null,0,2121,null,2221,{"$f":"COUNTIF($L$7:$L$500,N21)","v":1},{"$f":"O21/$Q$4","v":5.9880239520958087E-3},{"$f":"IF(P21=0,0,(P21*((LOG(P21))/LOG(2))))","v":-4.4213798158527259E-2},null,null,{"$f":"N21","v":2221},{"$f":"COUNTIF(L7:L34,T21)","v":1},{"$f":"U21/(W4-U20)","v":4.7619047619047616E-2},{"$f":"IF(V21=0,0,(V21*((LOG(V21))/LOG(2))))","v":-0.20915797251327431},null,{"$f":"N21","v":2221},{"$f":"COUNTIF(L35:L62,Y21)","v":0},{"$f":"Z21/(AB4-Z20)","v":0},{"$f":"IF(AA21=0,0,(AA21*((LOG(AA21))/LOG(2))))","v":0},null,{"$f":"N21","v":2221},{"$f":"COUNTIF(L63:L89,AD21)","v":0},{"$f":"AE21/(AG4-AE20)","v":0},{"$f":"IF(AF21=0,0,(AF21*((LOG(AF21))/LOG(2))))","v":0},null,{"$f":"N21","v":2221},{"$f":"COUNTIF(L90:L117,AI21)","v":0},{"$f":"AJ21/(AL4-AJ20)","v":0},{"$f":"IF(AK21=0,0,(AK21*((LOG(AK21))/LOG(2))))","v":0},null,{"$f":"N21","v":2221},{"$f":"COUNTIF(L118:L145,AN21)","v":0},{"$f":"AO21/(AQ4-AO20)","v":0},{"$f":"IF(AP21=0,0,(AP21*((LOG(AP21))/LOG(2))))","v":0},null,{"$f":"N21","v":2221},{"$f":"COUNTIF(L146:L173,AS21)","v":0},{"$f":"AT21/(AV4-AT20)","v":0},{"$f":"IF(AU21=0,0,(AU21*((LOG(AU21))/LOG(2))))","v":0}]
[21,2172,12,2185,24,2194,23,2201,null,null,0,2122,null,2222,{"$f":"COUNTIF($L$7:$L$500,N22)","v":7},{"$f":"O22/$Q$4","v":4.1916167664670656E-2},{"$f":"IF(P22=0,0,(P22*((LOG(P22))/LOG(2))))","v":-0.19182302750248584},null,null,{"$f":"N22","v":2222},{"$f":"COUNTIF(L7:L34,T22)","v":0},{"$f":"U22/(W4-U20)","v":0},{"$f":"IF(V22=0,0,(V22*((LOG(V22))/LOG(2))))","v":0},null,{"$f":"N22","v":2222},{"$f":"COUNTIF(L35:L62,Y22)","v":3},{"$f":"Z22/(AB4-Z20)","v":0.13636363636363635},{"$f":"IF(AA22=0,0,(AA22*((LOG(AA22))/LOG(2))))","v":-0.39197306153401923},null,{"$f":"N22","v":2222},{"$f":"COUNTIF(L63:L89,AD22)","v":1},{"$f":"AE22/(AG4-AE20)","v":0.05},{"$f":"IF(AF22=0,0,(AF22*((LOG(AF22))/LOG(2))))","v":-0.21609640474436814},null,{"$f":"N22","v":2222},{"$f":"COUNTIF(L90:L117,AI22)","v":0},{"$f":"AJ22/(AL4-AJ20)","v":0},{"$f":"IF(AK22=0,0,(AK22*((LOG(AK22))/LOG(2))))","v":0},null,{"$f":"N22","v":2222},{"$f":"COUNTIF(L118:L145,AN22)","v":3},{"$f":"AO22/(AQ4-AO20)","v":0.125},{"$f":"IF(AP22=0,0,(AP22*((LOG(AP22))/LOG(2))))","v":-0.375},null,{"$f":"N22","v":2222},{"$f":"COUNTIF(L146:L173,AS22)","v":0},{"$f":"AT22/(AV4-AT20)","v":0},{"$f":"IF(AU22=0,0,(AU22*((LOG(AU22))/LOG(2))))","v":0}]
[21,2302,12,2313,24,2322,14,2345,null,null,0,2121,null,null,null,{"$f":"SUM(P7:P22)","v":1},{"$f":"-SUM(Q7:Q22)","v":2.8002692085359269},null,null,null,null,{"$f":"SUM(V7:V22)","v":1},{"$f":"-SUM(W7:W22)","v":2.220429781138912},null,null,null,{"$f":"SUM(AA7:AA22)","v":1},{"$f":"-SUM(AB7:AB22)","v":1.8748587169101305},null,null,null,{"$f":"SUM(AF7:AF22)","v":1},{"$f":"-SUM(AG7:AG22)","v":2.6638651219508542},null,null,null,{"$f":"SUM(AK7:AK22)","v":0.99999999999999989},{"$f":"-SUM(AL7:AL22)","v":2.7179717342677998},null,null,null,{"$f":"SUM(AP7:AP22)","v":1},{"$f":"-SUM(AQ7:AQ22)","v":2.5231315234143219},null,null,null,{"$f":"SUM(AU7:AU22)","v":0.99999999999999989},{"$f":"-SUM(AV7:AV22)","v":1.6679511971986449}]
[12,2460,23,2473,13,2495,23,2505,null,null,0,1212,null,null,null,"U=",{"$f":"Q23/(LOG(Q4)/LOG(2))","v":0.37924991272878328},null,null,null,null,"U1=",{"$f":"W23/(LOG(W4)/LOG(2))","v":0.46188180759255076},null,null,null,"U2=",{"$f":"AB23/(LOG(AB4)/LOG(2))","v":0.38999798169835759},null,null,null,"U3=",{"$f":"AG23/(LOG(AG4)/LOG(2))","v":0.56023725498001764},null,null,null,"U4=",{"$f":"AL23/(LOG(AL4)/LOG(2))","v":0.56537779679984113},null,null,null,"U5=",{"$f":"AQ23/(LOG(AQ4)/LOG(2))","v":0.52484818872794858},null,null,null,"U6=",{"$f":"AV23/(LOG(AV4)/LOG(2))","v":0.34695819722932841}]
[12,2623,23,2632,13,2644,23,2681,null,null,0,1212]
[21,2786,12,2798,24,2808,14,2848,null,null,0,2121]
[21,2949,12,2963,24,2972,23,2979,null,null,0,2122,null,"Total Target Seq"]
[21,3086,12,3097,24,3106,23,3113,null,null,0,2122,null,{"$f":"COUNTIF(L7:L173,G3)","v":40},null,28,28,27,28,28,28]
[21,3217,21,3224,11,3238,21,3247,null,null,0,2212,null,null,null,"% of reinforcement given in 6 equal intervals based on number of trials "]
[21,3336,21,3354,11,3364,21,3374,null,null,0,2212,null,null,null,"%_1","%_2","%_3","%_4","%_5","%_6"]
[21,3463,12,3475,24,3484,23,3493,null,null,0,2122,null,null,"target sequence",{"$f":"$G$3","v":2212},{"$f":"$G$3","v":2212},{"$f":"$G$3","v":2212},{"$f":"$G$3","v":2212},{"$f":"$G$3","v":2212},{"$f":"$G$3","v":2212}]
[21,3600,12,3609,24,3619,14,3641,null,null,0,2121,null,null,"total reinforcement",{"$f":"U20","v":7},{"$f":"Z20","v":6},{"$f":"AE20","v":7},{"$f":"AJ20","v":7},{"$f":"AO20","v":4},{"$f":"AT20","v":9}]
[21,3739,21,3744,11,3755,21,3764,null,null,0,2212,null,null,"% target"]
[21,3852,12,3864,24,3873,23,3881,null,null,0,2122,null,null,"CCRF"]
[21,3990,12,3998,24,4008,14,4030,null,null,0,2121,null,null,"% CCRf"]
[12,4135,23,4145,13,4154,23,4163,null,null,0,1212,null,null,"average response rate",{"$f":"H34/P28","v":138.60714285714286},{"$f":"(H62-H34)/Q28","v":132.03571428571428},{"$f":"(H89-H62)/R28","v":143.18518518518519},{"$f":"(H117-H89)/S28","v":136.5},{"$f":"(H145-H117)/T28","v":137.28571428571428},{"$f":"(H173-H145)/U28","v":137.85714285714286}]
[21,4263,21,4272,11,4283,21,4300,null,null,0,2212]
[21,4387,12,4398,24,4407,23,4415,null,null,0,2122]
[21,4514,12,4527,24,4535,23,4544,null,null,0,2122]
[21,4645,12,4653,24,4663,23,4671,null,null,0,2122]
[21,4772,12,4784,24,4800,14,4832,null,null,0,2121]
[12,4946,23,4956,24,4964,23,4980,null,null,0,1222]
[21,5080,21,5087,11,5099,21,5108,null,null,0,2212]
[21,5200,12,5211,24,5220,23,5245,null,null,0,2122]
[21,5345,12,5358,24,5367,23,5376,null,null,0,2122]
[21,5483,12,5491,24,5500,23,5508,null,null,0,2122]
[21,5611,21,5618,22,5626,23,5634,null,null,0,2222]
[12,5744,23,5753,24,5761,23,5770,null,null,0,1222]
[21,5871,21,5879,11,5891,21,5900,null,null,0,2212]
[21,5991,12,6003,24,6012,23,6020,null,null,0,2122]
[21,6119,12,6138,24,6146,23,6154,null,null,0,2122]
[21,6253,12,6262,24,6271,23,6293,null,null,0,2122]
[21,6395,12,6404,24,6413,23,6422,null,null,0,2122]
[21,6522,21,6529,11,6540,21,6549,null,null,0,2212]
[21,6637,21,6646,11,6656,21,6675,null,null,0,2212]
[21,6764,12,6775,24,6806,23,6815,null,null,0,2122]
[21,6913,21,6918,11,6929,21,6945,null,null,0,2212]
[21,7037,21,7046,22,7057,23,7067,null,null,0,2222]
[21,7167,12,7178,24,7186,23,7194,null,null,0,2122]
[21,7296,12,7305,24,7315,23,7324,null,null,0,2122]
[21,7423,21,7428,22,7434,23,7440,null,null,0,2222]
[12,7548,23,7557,24,7565,14,7578,null,null,0,1221]
[21,7679,12,7691,24,7700,23,7726,null,null,0,2122]
[12,7837,23,7846,24,7855,14,7875,null,null,0,1221]
[21,7977,12,7989,24,8000,23,8008,null,null,0,2122]
[12,8118,23,8127,24,8134,23,8143,null,null,0,1222]
[12,8252,23,8269,24,8290,23,8327,null,null,0,1222]
[21,8428,21,8434,11,8445,21,8454,null,null,0,2212]
[21,8551,12,8560,24,8576,23,8585,null,null,0,2122]
[21,8686,12,8695,24,8711,23,8721,null,null,0,2122]
[12,8838,23,8855,13,8877,23,8887,null,null,0,1212]
[21,8986,12,8995,24,9003,14,9011,null,null,0,2121]
[21,9110,12,9121,24,9130,23,9138,null,null,0,2122]
[21,9239,21,9248,22,9256,23,9273,null,null,0,2222]
[12,9384,23,9455,13,9516,23,9527,null,null,0,1212]
[21,9629,12,9638,24,9647,23,9654,null,null,0,2122]
[21,9754,21,9759,11,9770,21,9780,null,null,0,2212]
[21,9867,21,9875,11,9886,12,9929,null,null,0,2211]
[21,10021,12,10032,13,10086,23,10098,null,null,0,2112]
[21,10199,12,10208,13,10228,23,10243,null,null,0,2112]
[21,10342,21,10349,11,10360,21,10368,null,null,0,2212]
[21,10455,12,10463,24,10472,23,10484,null,null,0,2122]
[21,10582,21,10595,11,10607,21,10615,null,null,0,2212]
[21,10703,21,10711,11,10722,21,10760,null,null,0,2212]
[12,10853,23,10861,13,10870,23,10881,null,null,0,1212]
[21,10979,21,10988,11,10998,21,11007,null,null,0,2212]
[21,11104,12,11112,13,11132,23,11160,null,null,0,2112]
[21,11258,12,11276,24,11292,14,11310,null,null,0,2121]
[21,11410,21,11423,11,11434,21,11444,null,null,0,2212]
[21,11532,12,11542,24,11550,23,11558,null,null,0,2122]
[21,11659,12,11669,24,11678,23,11684,null,null,0,2122]
[21,11783,12,11795,24,11803,23,11810,null,null,0,2122]
[12,11909,23,11923,13,11932,23,11952,null,null,0,1212]
[21,12052,12,12061,24,12070,23,12089,null,null,0,2122]
[21,12196,12,12203,24,12212,14,12224,null,null,0,2121]
[21,12323,21,12330,11,12342,12,12380,null,null,0,2211]
[12,12497,23,12513,24,12521,14,12561,null,null,0,1221]
[12,12666,23,12674,24,12683,23,12691,null,null,0,1222]
[12,12791,23,12800,24,12808,23,12816,null,null,0,1222]
[21,12916,21,12921,11,12932,21,12941,null,null,0,2212]
[21,13032,21,13041,11,13053,21,13062,null,null,0,2212]
[21,13149,21,13156,11,13168,21,13186,null,null,0,2212]
[21,13278,21,13293,11,13312,12,13364,null,null,0,2211]
[21,13463,12,13474,24,13483,23,13491,null,null,0,2122]
[12,13602,23,13610,24,13618,14,13630,null,null,0,1221]
[21,13731,12,13745,24,13753,23,13765,null,null,0,2122]
[21,13867,12,13879,24,13888,14,13907,null,null,0,2121]
[21,14031,12,14053,13,14081,14,14110,null,null,0,2111]
[12,14211,23,14220,13,14229,23,14238,null,null,0,1212]
[21,14337,21,14344,11,14357,21,14372,null,null,0,2212]
[21,14461,12,14470,24,14479,14,14489,null,null,0,2121]
[21,14587,12,14596,13,14614,23,14624,null,null,0,2112]
[12,14740,23,14749,13,14758,23,14785,null,null,0,1212]
[21,14882,21,14889,11,14899,21,14916,null,null,0,2212]
[21,15005,21,15013,11,15025,21,15034,null,null,0,2212]
[21,15121,12,15129,24,15137,23,15145,null,null,0,2122]
[21,15243,21,15247,11,15254,21,15266,null,null,0,2212]
[21,15352,12,15363,24,15378,23,15385,null,null,0,2122]
[12,15498,23,15507,24,15514,23,15523,null,null,0,1222]
[21,15619,21,15623,11,15632,21,15641,null,null,0,2212]
[21,15729,12,15737,13,15764,23,15773,null,null,0,2112]
[12,15870,23,15878,24,15894,23,15902,null,null,0,1222]
[12,16000,14,16011,24,16021,23,16029,null,null,0,1122]
[21,16129,12,16141,13,16169,23,16187,null,null,0,2112]
[21,16288,12,16298,24,16319,14,16338,null,null,0,2121]
[21,16448,12,16458,24,16467,14,16492,null,null,0,2121]
[21,16595,12,16606,24,16615,23,16623,null,null,0,2122]
[21,16725,21,16732,22,16740,23,16747,null,null,0,2222]
[21,16849,12,16860,24,16870,23,16878,null,null,0,2122]
[21,16985,21,16994,22,17001,23,17013,null,null,0,2222]
[21,17127,12,17146,24,17205,23,17213,null,null,0,2122]
[21,17315,12,17326,24,17336,14,17367,null,null,0,2121]
[21,17464,12,17475,24,17484,23,17493,null,null,0,2122]
[21,17594,21,17601,11,17614,21,17623,null,null,0,2212]
[12,17731,23,17748,24,17756,23,17771,null,null,0,1222]
[21,17871,12,17884,24,17900,23,17924,null,null,0,2122]
[21,18026,12,18038,24,18046,23,18054,null,null,0,2122]
[12,18155,23,18164,24,18172,14,18182,null,null,0,1221]
[12,18289,23,18301,13,18321,23,18330,null,null,0,1212]
[21,18431,12,18446,24,18455,23,18462,null,null,0,2122]
[21,18560,21,18568,22,18575,23,18581,null,null,0,2222]
[21,18681,12,18690,24,18700,23,18708,null,null,0,2122]
[21,18815,21,18830,11,18844,21,18862,null,null,0,2212]
[21,18953,21,18961,11,18972,21,18988,null,null,0,2212]
[21,19081,12,19094,24,19101,23,19110,null,null,0,2122]
[21,19215,21,19243,11,19255,21,19299,null,null,0,2212]
[21,19386,12,19398,24,19406,23,19414,null,null,0,2122]
[12,19536,23,19545,24,19553,23,19561,null,null,0,1222]
[21,19664,12,19674,24,19682,23,19689,null,null,0,2122]
[21,19794,12,19805,24,19831,23,19846,null,null,0,2122]
[12,19958,23,19968,24,19975,14,19996,null,null,0,1221]
[12,20097,23,20112,24,20120,14,20132,null,null,0,1221]
[21,20231,21,20241,11,20253,21,20264,null,null,0,2212]
[21,20352,12,20364,24,20376,23,20384,null,null,0,2122]
[21,20486,12,20496,24,20513,23,20541,null,null,0,2122]
[21,20645,12,20655,24,20664,23,20673,null,null,0,2122]
[21,20774,12,20785,24,20794,23,20802,null,null,0,2122]
[21,20906,12,20917,24,20926,23,20934,null,null,0,2122]
[21,21041,12,21052,24,21078,23,21091,null,null,0,2122]
[21,21199,12,21211,24,21228,23,21250,null,null,0,2122]
[21,21356,21,21365,11,21377,21,21386,null,null,0,2212]
[21,21479,21,21488,11,21500,12,21529,null,null,0,2211]
[12,21636,23,21647,24,21654,23,21662,null,null,0,1222]
[21,21760,12,21769,24,21777,23,21786,null,null,0,2122]
[21,21889,12,21902,24,21910,14,21931,null,null,0,2121]
[21,22034,21,22042,11,22052,12,22086,null,null,0,2211]
[21,22185,21,22190,11,22200,21,22210,null,null,0,2212]
[21,22296,21,22304,11,22314,21,22341,null,null,0,2212]
[21,22429,12,22441,24,22464,23,22473,null,null,0,2122]
[21,22571,21,22577,11,22587,21,22599,null,null,0,2212]
[21,22687,21,22698,11,22710,21,22740,null,null,0,2212]
[21,22827,21,22835,11,22845,21,22854,null,null,0,2212]
[21,22942,21,22950,11,22961,21,22970,null,null,1,2212]

{"sheet":"!MB27910.091","index":22,"n_rows":105,"n_cols":48,"rows_kept":105,"cut":false,"hidden":false,"merged":[[4,39,4,42],[5,39,5,40],[4,44,4,47],[5,44,5,45],[4,24,4,27],[5,24,5,25],[4,29,4,32],[5,29,5,30],[4,34,4,37],[5,34,5,35],[1,1,1,2],[5,13,5,14],[26,13,26,14],[27,13,27,14],[4,19,4,22],[5,19,5,20]]}
["Report for:!MB27910.091"]
["Date:","<date>"]
["Hen:","<hen>",null,null,null,"Correct Sequence",{"$f":"Start!J2","v":2212},null,null,null,null,null,null,null,null,"Total Sequences in Data",{"$f":"4994-COUNTBLANK(L7:L5000)","v":99},null,null,null,null,"Total Sequences in Block Data",{"$f":"COUNTA(L7:L23)","v":17},null,null,null,"Total Sequences in Block Data",{"$f":"COUNTA(L24:L39)","v":16},null,null,null,"Total Sequences in Block Data",{"$f":"COUNTA(L40:L56)","v":17},null,null,null,"Total Sequences in Block Data",{"$f":"COUNTA(L57:L72)","v":16},null,null,null,"Total Sequences in Block Data",{"$f":"COUNTA(L73:L89)","v":17},null,null,null,"Total Sequences in Block Data",{"$f":"COUNTA(L90:L105)","v":16}]
[null,null,null,null,null,null,null,null,null,null,null,null,null,null,null,"Total Sequences in Summary",{"$f":"SUM(O7:O22)","v":99},null,null,null,null,"Total Sequences in Block Summary",{"$f":"SUM(U7:U22)","v":17},null,null,null,"Total Sequences in Block Summary",{"$f":"SUM(Z7:Z22)","v":16},null,null,null,"Total Sequences in Block Summary",{"$f":"SUM(AE7:AE22)","v":17},null,null,null,"Total Sequences in Block Summary",{"$f":"SUM(AJ7:AJ22)","v":16},null,null,null,"Total Sequences in Block Summary",{"$f":"SUM(AO7:AO22)","v":17},null,null,null,"Total Sequences in Block Summary",{"$f":"SUM(AT7:AT22)","v":16}]
[null,null,null,null,null,null,null,null,null,null,null,null,null,null,null,null,null,null,null,"Block 1",null,null,null,null,"Block 2",null,null,null,null,"Block 3",null,null,null,null,"Block 4",null,null,null,null,"Block 5",null,null,null,null,"Block 6"]
["Sequence\nComponent\n1","Time\n1","Sequence\nComponent\n2","Time\n2","Sequence\nComponent\n3","Time\n3","Sequence\nComponent\n4","Time\n4","Sequence\nComponent\n5","Time\n5","Correct?\n0=No 1=Yes","Sequence",null,"Frequency",null,"Relative Frequency","Variability",null,null,"Frequency",null,"Relative Frequency","Variability",null,"Frequency",null,"Relative Frequency","Variability",null,"Frequency",null,"Relative Frequency","Variability",null,"Frequency",null,"Relative Frequency","Variability",null,"Frequency",null,"Relative Frequency","Variability",null,"Frequency",null,"Relative Frequency","Variability"]
[12,23,23,33,13,61,23,72,null,null,0,1212,null,1111,{"$f":"COUNTIF($L$7:$L$500,N7)","v":0},{"$f":"O7/$Q$4","v":0},{"$f":"IF(P7=0,0,(P7*((LOG(P7))/LOG(2))))","v":0},null,null,{"$f":"N7","v":1111},{"$f":"COUNTIF(L7:L23,T7)","v":0},{"$f":"U7/(W4-U20)","v":0},{"$f":"IF(V7=0,0,(V7*((LOG(V7))/LOG(2))))","v":0},null,{"$f":"N7","v":1111},{"$f":"COUNTIF(L24:L39,Y7)","v":0},{"$f":"Z7/(AB4-Z20)","v":0},{"$f":"IF(AA7=0,0,(AA7*((LOG(AA7))/LOG(2))))","v":0},null,{"$f":"N7","v":1111},{"$f":"COUNTIF(L40:L56,AD7)","v":0},{"$f":"AE7/(AG4-AE20)","v":0},{"$f":"IF(AF7=0,0,(AF7*((LOG(AF7))/LOG(2))))","v":0},null,{"$f":"N7","v":1111},{"$f":"COUNTIF(L57:L72,AI7)","v":0},{"$f":"AJ7/(AL4-AJ20)","v":0},{"$f":"IF(AK7=0,0,(AK7*((LOG(AK7))/LOG(2))))","v":0},null,{"$f":"N7","v":1111},{"$f":"COUNTIF(L73:L89,AN7)","v":0},{"$f":"AO7/(AQ4-AO20)","v":0},{"$f":"IF(AP7=0,0,(AP7*((LOG(AP7))/LOG(2))))","v":0},null,{"$f":"N7","v":1111},{"$f":"COUNTIF(L90:L105,AS7)","v":0},{"$f":"AT7/(AV4-AT20)","v":0},{"$f":"IF(AU7=0,0,(AU7*((LOG(AU7))/LOG(2))))","v":0}]
[21,175,12,186,24,194,14,206,null,null,0,2121,null,1112,{"$f":"COUNTIF($L$7:$L$500,N8)","v":0},{"$f":"O8/$Q$4","v":0},{"$f":"IF(P8=0,0,(P8*((LOG(P8))/LOG(2))))","v":0},null,null,{"$f":"N8","v":1112},{"$f":"COUNTIF(L7:L23,T8)","v":0},{"$f":"U8/(W4-U20)","v":0},{"$f":"IF(V8=0,0,(V8*((LOG(V8))/LOG(2))))","v":0},null,{"$f":"N8","v":1112},{"$f":"COUNTIF(L24:L39,Y8)","v":0},{"$f":"Z8/(AB4-Z20)","v":0},{"$f":"IF(AA8=0,0,(AA8*((LOG(AA8))/LOG(2))))","v":0},null,{"$f":"N8","v":1112},{"$f":"COUNTIF(L40:L56,AD8)","v":0},{"$f":"AE8/(AG4-AE20)","v":0},{"$f":"IF(AF8=0,0,(AF8*((LOG(AF8))/LOG(2))))","v":0},null,{"$f":"N8","v":1112},{"$f":"COUNTIF(L57:L72,AI8)","v":0},{"$f":"AJ8/(AL4-AJ20)","v":0},{"$f":"IF(AK8=0,0,(AK8*((LOG(AK8))/LOG(2))))","v":0},null,{"$f":"N8","v":1112},{"$f":"COUNTIF(L73:L89,AN8)","v":0},{"$f":"AO8/(AQ4-AO20)","v":0},{"$f":"IF(AP8=0,0,(AP8*((LOG(AP8))/LOG(2))))","v":0},null,{"$f":"N8","v":1112},{"$f":"COUNTIF(L90:L105,AS8)","v":0},{"$f":"AT8/(AV4-AT20)","v":0},{"$f":"IF(AU8=0,0,(AU8*((LOG(AU8))/LOG(2))))","v":0}]
[12,304,23,314,13,324,14,355,null,null,0,1211,null,1121,{"$f":"COUNTIF($L$7:$L$500,N9)","v":0},{"$f":"O9/$Q$4","v":0},{"$f":"IF(P9=0,0,(P9*((LOG(P9))/LOG(2))))","v":0},null,null,{"$f":"N9","v":1121},{"$f":"COUNTIF(L7:L23,T9)","v":0},{"$f":"U9/(W4-U20)","v":0},{"$f":"IF(V9=0,0,(V9*((LOG(V9))/LOG(2))))","v":0},null,{"$f":"N9","v":1121},{"$f":"COUNTIF(L24:L39,Y9)","v":0},{"$f":"Z9/(AB4-Z20)","v":0},{"$f":"IF(AA9=0,0,(AA9*((LOG(AA9))/LOG(2))))","v":0},null,{"$f":"N9","v":1121},{"$f":"COUNTIF(L40:L56,AD9)","v":0},{"$f":"AE9/(AG4-AE20)","v":0},{"$f":"IF(AF9=0,0,(AF9*((LOG(AF9))/LOG(2))))","v":0},null,{"$f":"N9","v":1121},{"$f":"COUNTIF(L57:L72,AI9)","v":0},{"$f":"AJ9/(AL4-AJ20)","v":0},{"$f":"IF(AK9=0,0,(AK9*((LOG(AK9))/LOG(2))))","v":0},null,{"$f":"N9","v":1121},{"$f":"COUNTIF(L73:L89,AN9)","v":0},{"$f":"AO9/(AQ4-AO20)","v":0},{"$f":"IF(AP9=0,0,(AP9*((LOG(AP9))/LOG(2))))","v":0},null,{"$f":"N9","v":1121},{"$f":"COUNTIF(L90:L105,AS9)","v":0},{"$f":"AT9/(AV4-AT20)","v":0},{"$f":"IF(AU9=0,0,(AU9*((LOG(AU9))/LOG(2))))","v":0}]
[12,457,23,465,13,477,14,514,null,null,0,1211,null,1122,{"$f":"COUNTIF($L$7:$L$500,N10)","v":0},{"$f":"O10/$Q$4","v":0},{"$f":"IF(P10=0,0,(P10*((LOG(P10))/LOG(2))))","v":0},null,null,{"$f":"N10","v":1122},{"$f":"COUNTIF(L7:L23,T10)","v":0},{"$f":"U10/(W4-U20)","v":0},{"$f":"IF(V10=0,0,(V10*((LOG(V10))/LOG(2))))","v":0},null,{"$f":"N10","v":1122},{"$f":"COUNTIF(L24:L39,Y10)","v":0},{"$f":"Z10/(AB4-Z20)","v":0},{"$f":"IF(AA10=0,0,(AA10*((LOG(AA10))/LOG(2))))","v":0},null,{"$f":"N10","v":1122},{"$f":"COUNTIF(L40:L56,AD10)","v":0},{"$f":"AE10/(AG4-AE20)","v":0},{"$f":"IF(AF10=0,0,(AF10*((LOG(AF10))/LOG(2))))","v":0},null,{"$f":"N10","v":1122},{"$f":"COUNTIF(L57:L72,AI10)","v":0},{"$f":"AJ10/(AL4-AJ20)","v":0},{"$f":"IF(AK10=0,0,(AK10*((LOG(AK10))/LOG(2))))","v":0},null,{"$f":"N10","v":1122},{"$f":"COUNTIF(L73:L89,AN10)","v":0},{"$f":"AO10/(AQ4-AO20)","v":0},{"$f":"IF(AP10=0,0,(AP10*((LOG(AP10))/LOG(2))))","v":0},null,{"$f":"N10","v":1122},{"$f":"COUNTIF(L90:L105,AS10)","v":0},{"$f":"AT10/(AV4-AT20)","v":0},{"$f":"IF(AU10=0,0,(AU10*((LOG(AU10))/LOG(2))))","v":0}]
[12,627,23,636,13,658,23,670,null,null,0,1212,null,1211,{"$f":"COUNTIF($L$7:$L$500,N11)","v":3},{"$f":"O11/$Q$4","v":3.0303030303030304E-2},{"$f":"IF(P11=0,0,(P11*((LOG(P11))/LOG(2))))","v":-0.15286042785934709},null,null,{"$f":"N11","v":1211},{"$f":"COUNTIF(L7:L23,T11)","v":2},{"$f":"U11/(W4-U20)","v":0.2},{"$f":"IF(V11=0,0,(V11*((LOG(V11))/LOG(2))))","v":-0.46438561897747244},null,{"$f":"N11","v":1211},{"$f":"COUNTIF(L24:L39,Y11)","v":0},{"$f":"Z11/(AB4-Z20)","v":0},{"$f":"IF(AA11=0,0,(AA11*((LOG(AA11))/LOG(2))))","v":0},null,{"$f":"N11","v":1211},{"$f":"COUNTIF(L40:L56,AD11)","v":1},{"$f":"AE11/(AG4-AE20)","v":8.3333333333333329E-2},{"$f":"IF(AF11=0,0,(AF11*((LOG(AF11))/LOG(2))))","v":-0.29874687506009634},null,{"$f":"N11","v":1211},{"$f":"COUNTIF(L57:L72,AI11)","v":0},{"$f":"AJ11/(AL4-AJ20)","v":0},{"$f":"IF(AK11=0,0,(AK11*((LOG(AK11))/LOG(2))))","v":0},null,{"$f":"N11","v":1211},{"$f":"COUNTIF(L73:L89,AN11)","v":0},{"$f":"AO11/(AQ4-AO20)","v":0},{"$f":"IF(AP11=0,0,(AP11*((LOG(AP11))/LOG(2))))","v":0},null,{"$f":"N11","v":1211},{"$f":"COUNTIF(L90:L105,AS11)","v":0},{"$f":"AT11/(AV4-AT20)","v":0},{"$f":"IF(AU11=0,0,(AU11*((LOG(AU11))/LOG(2))))","v":0}]
[21,773,21,781,11,793,21,811,null,null,0,2212,null,1212,{"$f":"COUNTIF($L$7:$L$500,N12)","v":11},{"$f":"O12/$Q$4","v":0.1111111111111111},{"$f":"IF(P12=0,0,(P12*((LOG(P12))/LOG(2))))","v":-0.3522138890491458},null,null,{"$f":"N12","v":1212},{"$f":"COUNTIF(L7:L23,T12)","v":2},{"$f":"U12/(W4-U20)","v":0.2},{"$f":"IF(V12=0,0,(V12*((LOG(V12))/LOG(2))))","v":-0.46438561897747244},null,{"$f":"N12","v":1212},{"$f":"COUNTIF(L24:L39,Y12)","v":2},{"$f":"Z12/(AB4-Z20)","v":0.2},{"$f":"IF(AA12=0,0,(AA12*((LOG(AA12))/LOG(2))))","v":-0.46438561897747244},null,{"$f":"N12","v":1212},{"$f":"COUNTIF(L40:L56,AD12)","v":2},{"$f":"AE12/(AG4-AE20)","v":0.16666666666666666},{"$f":"IF(AF12=0,0,(AF12*((LOG(AF12))/LOG(2))))","v":-0.43082708345352599},null,{"$f":"N12","v":1212},{"$f":"COUNTIF(L57:L72,AI12)","v":3},{"$f":"AJ12/(AL4-AJ20)","v":0.375},{"$f":"IF(AK12=0,0,(AK12*((LOG(AK12))/LOG(2))))","v":-0.53063906222956647},null,{"$f":"N12","v":1212},{"$f":"COUNTIF(L73:L89,AN12)","v":2},{"$f":"AO12/(AQ4-AO20)","v":0.2},{"$f":"IF(AP12=0,0,(AP12*((LOG(AP12))/LOG(2))))","v":-0.46438561897747244},null,{"$f":"N12","v":1212},{"$f":"COUNTIF(L90:L105,AS12)","v":0},{"$f":"AT12/(AV4-AT20)","v":0},{"$f":"IF(AU12=0,0,(AU12*((LOG(AU12))/LOG(2))))","v":0}]
[21,900,21,915,11,926,12,957,null,null,0,2211,null,1221,{"$f":"COUNTIF($L$7:$L$500,N13)","v":1},{"$f":"O13/$Q$4","v":1.0101010101010102E-2},{"$f":"IF(P13=0,0,(P13*((LOG(P13))/LOG(2))))","v":-6.6963198182622322E-2},null,null,{"$f":"N13","v":1221},{"$f":"COUNTIF(L7:L23,T13)","v":0},{"$f":"U13/(W4-U20)","v":0},{"$f":"IF(V13=0,0,(V13*((LOG(V13))/LOG(2))))","v":0},null,{"$f":"N13","v":1221},{"$f":"COUNTIF(L24:L39,Y13)","v":0},{"$f":"Z13/(AB4-Z20)","v":0},{"$f":"IF(AA13=0,0,(AA13*((LOG(AA13))/LOG(2))))","v":0},null,{"$f":"N13","v":1221},{"$f":"COUNTIF(L40:L56,AD13)","v":1},{"$f":"AE13/(AG4-AE20)","v":8.3333333333333329E-2},{"$f":"IF(AF13=0,0,(AF13*((LOG(AF13))/LOG(2))))","v":-0.29874687506009634},null,{"$f":"N13","v":1221},{"$f":"COUNTIF(L57:L72,AI13)","v":0},{"$f":"AJ13/(AL4-AJ20)","v":0},{"$f":"IF(AK13=0,0,(AK13*((LOG(AK13))/LOG(2))))","v":0},null,{"$f":"N13","v":1221},{"$f":"COUNTIF(L73:L89,AN13)","v":0},{"$f":"AO13/(AQ4-AO20)","v":0},{"$f":"IF(AP13=0,0,(AP13*((LOG(AP13))/LOG(2))))","v":0},null,{"$f":"N13","v":1221},{"$f":"COUNTIF(L90:L105,AS13)","v":0},{"$f":"AT13/(AV4-AT20)","v":0},{"$f":"IF(AU13=0,0,(AU13*((LOG(AU13))/LOG(2))))","v":0}]
[21,1060,12,1075,24,1084,23,1093,null,null,0,2122,null,1222,{"$f":"COUNTIF($L$7:$L$500,N14)","v":3},{"$f":"O14/$Q$4","v":3.0303030303030304E-2},{"$f":"IF(P14=0,0,(P14*((LOG(P14))/LOG(2))))","v":-0.15286042785934709},null,null,{"$f":"N14","v":1222},{"$f":"COUNTIF(L7:L23,T14)","v":0},{"$f":"U14/(W4-U20)","v":0},{"$f":"IF(V14=0,0,(V14*((LOG(V14))/LOG(2))))","v":0},null,{"$f":"N14","v":1222},{"$f":"COUNTIF(L24:L39,Y14)","v":0},{"$f":"Z14/(AB4-Z20)","v":0},{"$f":"IF(AA14=0,0,(AA14*((LOG(AA14))/LOG(2))))","v":0},null,{"$f":"N14","v":1222},{"$f":"COUNTIF(L40:L56,AD14)","v":0},{"$f":"AE14/(AG4-AE20)","v":0},{"$f":"IF(AF14=0,0,(AF14*((LOG(AF14))/LOG(2))))","v":0},null,{"$f":"N14","v":1222},{"$f":"COUNTIF(L57:L72,AI14)","v":1},{"$f":"AJ14/(AL4-AJ20)","v":0.125},{"$f":"IF(AK14=0,0,(AK14*((LOG(AK14))/LOG(2))))","v":-0.375},null,{"$f":"N14","v":1222},{"$f":"COUNTIF(L73:L89,AN14)","v":2},{"$f":"AO14/(AQ4-AO20)","v":0.2},{"$f":"IF(AP14=0,0,(AP14*((LOG(AP14))/LOG(2))))","v":-0.46438561897747244},null,{"$f":"N14","v":1222},{"$f":"COUNTIF(L90:L105,AS14)","v":0},{"$f":"AT14/(AV4-AT20)","v":0},{"$f":"IF(AU14=0,0,(AU14*((LOG(AU14))/LOG(2))))","v":0}]
[21,1193,12,1206,13,1217,23,1230,null,null,0,2112,null,2111,{"$f":"COUNTIF($L$7:$L$500,N15)","v":0},{"$f":"O15/$Q$4","v":0},{"$f":"IF(P15=0,0,(P15*((LOG(P15))/LOG(2))))","v":0},null,null,{"$f":"N15","v":2111},{"$f":"COUNTIF(L7:L23,T15)","v":0},{"$f":"U15/(W4-U20)","v":0},{"$f":"IF(V15=0,0,(V15*((LOG(V15))/LOG(2))))","v":0},null,{"$f":"N15","v":2111},{"$f":"COUNTIF(L24:L39,Y15)","v":0},{"$f":"Z15/(AB4-Z20)","v":0},{"$f":"IF(AA15=0,0,(AA15*((LOG(AA15))/LOG(2))))","v":0},null,{"$f":"N15","v":2111},{"$f":"COUNTIF(L40:L56,AD15)","v":0},{"$f":"AE15/(AG4-AE20)","v":0},{"$f":"IF(AF15=0,0,(AF15*((LOG(AF15))/LOG(2))))","v":0},null,{"$f":"N15","v":2111},{"$f":"COUNTIF(L57:L72,AI15)","v":0},{"$f":"AJ15/(AL4-AJ20)","v":0},{"$f":"IF(AK15=0,0,(AK15*((LOG(AK15))/LOG(2))))","v":0},null,{"$f":"N15","v":2111},{"$f":"COUNTIF(L73:L89,AN15)","v":0},{"$f":"AO15/(AQ4-AO20)","v":0},{"$f":"IF(AP15=0,0,(AP15*((LOG(AP15))/LOG(2))))","v":0},null,{"$f":"N15","v":2111},{"$f":"COUNTIF(L90:L105,AS15)","v":0},{"$f":"AT15/(AV4-AT20)","v":0},{"$f":"IF(AU15=0,0,(AU15*((LOG(AU15))/LOG(2))))","v":0}]
[21,1333,21,1342,11,1354,21,1366,null,null,0,2212,null,2112,{"$f":"COUNTIF($L$7:$L$500,N16)","v":2},{"$f":"O16/$Q$4","v":2.0202020202020204E-2},{"$f":"IF(P16=0,0,(P16*((LOG(P16))/LOG(2))))","v":-0.11372437616322445},null,null,{"$f":"N16","v":2112},{"$f":"COUNTIF(L7:L23,T16)","v":2},{"$f":"U16/(W4-U20)","v":0.2},{"$f":"IF(V16=0,0,(V16*((LOG(V16))/LOG(2))))","v":-0.46438561897747244},null,{"$f":"N16","v":2112},{"$f":"COUNTIF(L24:L39,Y16)","v":0},{"$f":"Z16/(AB4-Z20)","v":0},{"$f":"IF(AA16=0,0,(AA16*((LOG(AA16))/LOG(2))))","v":0},null,{"$f":"N16","v":2112},{"$f":"COUNTIF(L40:L56,AD16)","v":0},{"$f":"AE16/(AG4-AE20)","v":0},{"$f":"IF(AF16=0,0,(AF16*((LOG(AF16))/LOG(2))))","v":0},null,{"$f":"N16","v":2112},{"$f":"COUNTIF(L57:L72,AI16)","v":0},{"$f":"AJ16/(AL4-AJ20)","v":0},{"$f":"IF(AK16=0,0,(AK16*((LOG(AK16))/LOG(2))))","v":0},null,{"$f":"N16","v":2112},{"$f":"COUNTIF(L73:L89,AN16)","v":0},{"$f":"AO16/(AQ4-AO20)","v":0},{"$f":"IF(AP16=0,0,(AP16*((LOG(AP16))/LOG(2))))","v":0},null,{"$f":"N16","v":2112},{"$f":"COUNTIF(L90:L105,AS16)","v":0},{"$f":"AT16/(AV4-AT20)","v":0},{"$f":"IF(AU16=0,0,(AU16*((LOG(AU16))/LOG(2))))","v":0}]
[21,1467,21,1474,11,1488,21,1514,null,null,0,2212,null,2121,{"$f":"COUNTIF($L$7:$L$500,N17)","v":5},{"$f":"O17/$Q$4","v":5.0505050505050504E-2},{"$f":"IF(P17=0,0,(P17*((LOG(P17))/LOG(2))))","v":-0.21754689521172968},null,null,{"$f":"N17","v":2121},{"$f":"COUNTIF(L7:L23,T17)","v":2},{"$f":"U17/(W4-U20)","v":0.2},{"$f":"IF(V17=0,0,(V17*((LOG(V17))/LOG(2))))","v":-0.46438561897747244},null,{"$f":"N17","v":2121},{"$f":"COUNTIF(L24:L39,Y17)","v":2},{"$f":"Z17/(AB4-Z20)","v":0.2},{"$f":"IF(AA17=0,0,(AA17*((LOG(AA17))/LOG(2))))","v":-0.46438561897747244},null,{"$f":"N17","v":2121},{"$f":"COUNTIF(L40:L56,AD17)","v":1},{"$f":"AE17/(AG4-AE20)","v":8.3333333333333329E-2},{"$f":"IF(AF17=0,0,(AF17*((LOG(AF17))/LOG(2))))","v":-0.29874687506009634},null,{"$f":"N17","v":2121},{"$f":"COUNTIF(L57:L72,AI17)","v":0},{"$f":"AJ17/(AL4-AJ20)","v":0},{"$f":"IF(AK17=0,0,(AK17*((LOG(AK17))/LOG(2))))","v":0},null,{"$f":"N17","v":2121},{"$f":"COUNTIF(L73:L89,AN17)","v":0},{"$f":"AO17/(AQ4-AO20)","v":0},{"$f":"IF(AP17=0,0,(AP17*((LOG(AP17))/LOG(2))))","v":0},null,{"$f":"N17","v":2121},{"$f":"COUNTIF(L90:L105,AS17)","v":0},{"$f":"AT17/(AV4-AT20)","v":0},{"$f":"IF(AU17=0,0,(AU17*((LOG(AU17))/LOG(2))))","v":0}]
[21,1610,12,1621,13,1674,23,1686,null,null,0,2112,null,2122,{"$f":"COUNTIF($L$7:$L$500,N18)","v":18},{"$f":"O18/$Q$4","v":0.18181818181818182},{"$f":"IF(P18=0,0,(P18*((LOG(P18))/LOG(2))))","v":-0.44716938520678134},null,null,{"$f":"N18","v":2122},{"$f":"COUNTIF(L7:L23,T18)","v":1},{"$f":"U18/(W4-U20)","v":0.1},{"$f":"IF(V18=0,0,(V18*((LOG(V18))/LOG(2))))","v":-0.33219280948873625},null,{"$f":"N18","v":2122},{"$f":"COUNTIF(L24:L39,Y18)","v":3},{"$f":"Z18/(AB4-Z20)","v":0.3},{"$f":"IF(AA18=0,0,(AA18*((LOG(AA18))/LOG(2))))","v":-0.52108967824986185},null,{"$f":"N18","v":2122},{"$f":"COUNTIF(L40:L56,AD18)","v":4},{"$f":"AE18/(AG4-AE20)","v":0.33333333333333331},{"$f":"IF(AF18=0,0,(AF18*((LOG(AF18))/LOG(2))))","v":-0.52832083357371862},null,{"$f":"N18","v":2122},{"$f":"COUNTIF(L57:L72,AI18)","v":4},{"$f":"AJ18/(AL4-AJ20)","v":0.5},{"$f":"IF(AK18=0,0,(AK18*((LOG(AK18))/LOG(2))))","v":-0.5},null,{"$f":"N18","v":2122},{"$f":"COUNTIF(L73:L89,AN18)","v":4},{"$f":"AO18/(AQ4-AO20)","v":0.4},{"$f":"IF(AP18=0,0,(AP18*((LOG(AP18))/LOG(2))))","v":-0.52877123795494496},null,{"$f":"N18","v":2122},{"$f":"COUNTIF(L90:L105,AS18)","v":2},{"$f":"AT18/(AV4-AT20)","v":0.22222222222222221},{"$f":"IF(AU18=0,0,(AU18*((LOG(AU18))/LOG(2))))","v":-0.48220555587606945}]
[21,1798,21,1806,11,1817,21,1825,null,null,0,2212,null,2211,{"$f":"COUNTIF($L$7:$L$500,N19)","v":5},{"$f":"O19/$Q$4","v":5.0505050505050504E-2},{"$f":"IF(P19=0,0,(P19*((LOG(P19))/LOG(2))))","v":-0.21754689521172968},null,null,{"$f":"N19","v":2211},{"$f":"COUNTIF(L7:L23,T19)","v":1},{"$f":"U19/(W4-U20)","v":0.1},{"$f":"IF(V19=0,0,(V19*((LOG(V19))/LOG(2))))","v":-0.33219280948873625},null,{"$f":"N19","v":2211},{"$f":"COUNTIF(L24:L39,Y19)","v":2},{"$f":"Z19/(AB4-Z20)","v":0.2},{"$f":"IF(AA19=0,0,(AA19*((LOG(AA19))/LOG(2))))","v":-0.46438561897747244},null,{"$f":"N19","v":2211},{"$f":"COUNTIF(L40:L56,AD19)","v":1},{"$f":"AE19/(AG4-AE20)","v":8.3333333333333329E-2},{"$f":"IF(AF19=0,0,(AF19*((LOG(AF19))/LOG(2))))","v":-0.29874687506009634},null,{"$f":"N19","v":2211},{"$f":"COUNTIF(L57:L72,AI19)","v":0},{"$f":"AJ19/(AL4-AJ20)","v":0},{"$f":"IF(AK19=0,0,(AK19*((LOG(AK19))/LOG(2))))","v":0},null,{"$f":"N19","v":2211},{"$f":"COUNTIF(L73:L89,AN19)","v":0},{"$f":"AO19/(AQ4-AO20)","v":0},{"$f":"IF(AP19=0,0,(AP19*((LOG(AP19))/LOG(2))))","v":0},null,{"$f":"N19","v":2211},{"$f":"COUNTIF(L90:L105,AS19)","v":1},{"$f":"AT19/(AV4-AT20)","v":0.1111111111111111},{"$f":"IF(AU19=0,0,(AU19*((LOG(AU19))/LOG(2))))","v":-0.3522138890491458}]
[21,1916,21,1925,11,1937,21,1962,null,null,0,2212,null,2212,{"$f":"COUNTIF($L$7:$L$500,N20)","v":40},{"$f":"O20/$Q$4","v":0.40404040404040403},{"$f":"IF(P20=0,0,(P20*((LOG(P20))/LOG(2))))","v":-0.52825394957262517},null,null,{"$f":"N20","v":2212},{"$f":"COUNTIF(L7:L23,T20)","v":7},null,null,null,{"$f":"N20","v":2212},{"$f":"COUNTIF(L24:L39,Y20)","v":6},null,null,null,{"$f":"N20","v":2212},{"$f":"COUNTIF(L40:L56,AD20)","v":5},null,null,null,{"$f":"N20","v":2212},{"$f":"COUNTIF(L57:L72,AI20)","v":8},null,null,null,{"$f":"N20","v":2212},{"$f":"COUNTIF(L73:L89,AN20)","v":7},null,null,null,{"$f":"N20","v":2212},{"$f":"COUNTIF(L90:L105,AS20)","v":7}]
[21,2051,12,2063,24,2069,14,2082,null,null,0,2121,null,2221,{"$f":"COUNTIF($L$7:$L$500,N21)","v":5},{"$f":"O21/$Q$4","v":5.0505050505050504E-2},{"$f":"IF(P21=0,0,(P21*((LOG(P21))/LOG(2))))","v":-0.21754689521172968},null,null,{"$f":"N21","v":2221},{"$f":"COUNTIF(L7:L23,T21)","v":0},{"$f":"U21/(W4-U20)","v":0},{"$f":"IF(V21=0,0,(V21*((LOG(V21))/LOG(2))))","v":0},null,{"$f":"N21","v":2221},{"$f":"COUNTIF(L24:L39,Y21)","v":1},{"$f":"Z21/(AB4-Z20)","v":0.1},{"$f":"IF(AA21=0,0,(AA21*((LOG(AA21))/LOG(2))))","v":-0.33219280948873625},null,{"$f":"N21","v":2221},{"$f":"COUNTIF(L40:L56,AD21)","v":0},{"$f":"AE21/(AG4-AE20)","v":0},{"$f":"IF(AF21=0,0,(AF21*((LOG(AF21))/LOG(2))))","v":0},null,{"$f":"N21","v":2221},{"$f":"COUNTIF(L57:L72,AI21)","v":0},{"$f":"AJ21/(AL4-AJ20)","v":0},{"$f":"IF(AK21=0,0,(AK21*((LOG(AK21))/LOG(2))))","v":0},null,{"$f":"N21","v":2221},{"$f":"COUNTIF(L73:L89,AN21)","v":2},{"$f":"AO21/(AQ4-AO20)","v":0.2},{"$f":"IF(AP21=0,0,(AP21*((LOG(AP21))/LOG(2))))","v":-0.46438561897747244},null,{"$f":"N21","v":2221},{"$f":"COUNTIF(L90:L105,AS21)","v":2},{"$f":"AT21/(AV4-AT20)","v":0.22222222222222221},{"$f":"IF(AU21=0,0,(AU21*((LOG(AU21))/LOG(2))))","v":-0.48220555587606945}]
[21,2179,21,2185,11,2197,21,2215,null,null,0,2212,null,2222,{"$f":"COUNTIF($L$7:$L$500,N22)","v":6},{"$f":"O22/$Q$4","v":6.0606060606060608E-2},{"$f":"IF(P22=0,0,(P22*((LOG(P22))/LOG(2))))","v":-0.24511479511263354},null,null,{"$f":"N22","v":2222},{"$f":"COUNTIF(L7:L23,T22)","v":0},{"$f":"U22/(W4-U20)","v":0},{"$f":"IF(V22=0,0,(V22*((LOG(V22))/LOG(2))))","v":0},null,{"$f":"N22","v":2222},{"$f":"COUNTIF(L24:L39,Y22)","v":0},{"$f":"Z22/(AB4-Z20)","v":0},{"$f":"IF(AA22=0,0,(AA22*((LOG(AA22))/LOG(2))))","v":0},null,{"$f":"N22","v":2222},{"$f":"COUNTIF(L40:L56,AD22)","v":2},{"$f":"AE22/(AG4-AE20)","v":0.16666666666666666},{"$f":"IF(AF22=0,0,(AF22*((LOG(AF22))/LOG(2))))","v":-0.43082708345352599},null,{"$f":"N22","v":2222},{"$f":"COUNTIF(L57:L72,AI22)","v":0},{"$f":"AJ22/(AL4-AJ20)","v":0},{"$f":"IF(AK22=0,0,(AK22*((LOG(AK22))/LOG(2))))","v":0},null,{"$f":"N22","v":2222},{"$f":"COUNTIF(L73:L89,AN22)","v":0},{"$f":"AO22/(AQ4-AO20)","v":0},{"$f":"IF(AP22=0,0,(AP22*((LOG(AP22))/LOG(2))))","v":0},null,{"$f":"N22","v":2222},{"$f":"COUNTIF(L90:L105,AS22)","v":4},{"$f":"AT22/(AV4-AT20)","v":0.44444444444444442},{"$f":"IF(AU22=0,0,(AU22*((LOG(AU22))/LOG(2))))","v":-0.51996666730769447}]
[21,2305,21,2310,11,2321,21,2331,null,null,0,2212,null,null,null,{"$f":"SUM(P7:P22)","v":1},{"$f":"-SUM(Q7:Q22)","v":2.7118011346409157},null,null,null,null,{"$f":"SUM(V7:V22)","v":1},{"$f":"-SUM(W7:W22)","v":2.5219280948873619},null,null,null,{"$f":"SUM(AA7:AA22)","v":0.99999999999999989},{"$f":"-SUM(AB7:AB22)","v":2.2464393446710154},null,null,null,{"$f":"SUM(AF7:AF22)","v":1},{"$f":"-SUM(AG7:AG22)","v":2.5849625007211561},null,null,null,{"$f":"SUM(AK7:AK22)","v":1},{"$f":"-SUM(AL7:AL22)","v":1.4056390622295665},null,null,null,{"$f":"SUM(AP7:AP22)","v":1},{"$f":"-SUM(AQ7:AQ22)","v":1.9219280948873623},null,null,null,{"$f":"SUM(AU7:AU22)","v":1},{"$f":"-SUM(AV7:AV22)","v":1.8365916681089791}]
[21,2422,21,2429,11,2443,21,2464,null,null,0,2212,null,null,null,"U=",{"$f":"Q23/(LOG(Q4)/LOG(2))","v":0.40905947440316626},null,null,null,null,"U1=",{"$f":"W23/(LOG(W4)/LOG(2))","v":0.61699107559737809},null,null,null,"U2=",{"$f":"AB23/(LOG(AB4)/LOG(2))","v":0.56160983616775384},null,null,null,"U3=",{"$f":"AG23/(LOG(AG4)/LOG(2))","v":0.63241247715671611},null,null,null,"U4=",{"$f":"AL23/(LOG(AL4)/LOG(2))","v":0.35140976555739162},null,null,null,"U5=",{"$f":"AQ23/(LOG(AQ4)/LOG(2))","v":0.4702007503264426},null,null,null,"U6=",{"$f":"AV23/(LOG(AV4)/LOG(2))","v":0.45914791702724478}]
[21,2554,21,2560,11,2571,21,2580,null,null,0,2212]
[21,2672,21,2681,11,2689,21,2699,null,null,0,2212]
[21,2791,21,2796,11,2806,12,2851,null,null,0,2211,null,"Total Target Seq"]
[21,2952,21,2960,11,2968,12,2988,null,null,0,2211,null,{"$f":"COUNTIF(L7:L105,G3)","v":40},null,17,16,17,16,17,16]
[21,3099,12,3109,24,3118,14,3137,null,null,0,2121,null,null,null,"% of reinforcement given in 6 equal intervals based on number of trials "]
[21,3238,12,3249,24,3266,14,3277,null,null,0,2121,null,null,null,"%_1","%_2","%_3","%_4","%_5","%_6"]
[21,3377,12,3391,24,3407,23,3415,null,null,0,2122,null,null,"target sequence",{"$f":"$G$3","v":2212},{"$f":"$G$3","v":2212},{"$f":"$G$3","v":2212},{"$f":"$G$3","v":2212},{"$f":"$G$3","v":2212},{"$f":"$G$3","v":2212}]
[21,3513,21,3519,11,3531,21,3540,null,null,0,2212,null,null,"total reinforcement",{"$f":"U20","v":7},{"$f":"Z20","v":6},{"$f":"AE20","v":5},{"$f":"AJ20","v":8},{"$f":"AO20","v":7},{"$f":"AT20","v":7}]
[21,3628,12,3639,24,3646,23,3661,null,null,0,2122,null,null,"% target"]
[21,3764,21,3772,11,3784,21,3802,null,null,0,2212,null,null,"CCRF"]
[21,3894,21,3902,11,3914,21,3923,null,null,0,2212,null,null,"% CCRf"]
[21,4011,12,4022,24,4031,23,4039,null,null,0,2122,null,null,"average response rate",{"$f":"H23/P28","v":137.11764705882354},{"$f":"(H39-H23)/Q28","v":132.8125},{"$f":"(H56-H39)/R28","v":140.23529411764707},{"$f":"(H72-H56)/S28","v":134.25},{"$f":"(H89-H72)/T28","v":128.88235294117646},{"$f":"(H105-H89)/U28","v":136.1875}]
[21,4137,21,4144,22,4153,14,4164,null,null,0,2221]
[12,4270,23,4279,13,4288,23,4298,null,null,0,1212]
[12,4397,23,4410,13,4420,23,4456,null,null,0,1212]
[12,4558,23,4570,13,4580,14,4634,null,null,0,1211]
[21,4738,12,4748,24,4757,23,4765,null,null,0,2122]
[21,4869,12,4879,24,4900,14,4911,null,null,0,2121]
[21,5016,12,5026,24,5036,23,5044,null,null,0,2122]
[12,5145,23,5154,13,5164,23,5176,null,null,0,1212]
[21,5276,12,5288,24,5295,23,5317,null,null,0,2122]
[21,5414,21,5420,11,5430,21,5446,null,null,0,2212]
[21,5536,21,5550,11,5562,21,5587,null,null,0,2212]
[21,5676,12,5687,24,5696,23,5704,null,null,0,2122]
[21,5807,21,5815,11,5826,12,5877,null,null,0,2211]
[21,5976,21,5983,11,5994,21,6032,null,null,0,2212]
[21,6123,21,6128,11,6141,21,6149,null,null,0,2212]
[21,6236,21,6252,22,6260,23,6286,null,null,0,2222]
[12,6387,23,6396,24,6403,14,6423,null,null,0,1221]
[12,6522,23,6532,13,6540,23,6550,null,null,0,1212]
[21,6650,21,6656,11,6668,21,6725,null,null,0,2212]
[21,6813,21,6817,22,6832,23,6840,null,null,0,2222]
[21,6947,12,6959,24,6967,23,6976,null,null,0,2122]
[12,7077,23,7086,13,7120,23,7131,null,null,0,1212]
[21,7230,21,7234,11,7245,21,7253,null,null,0,2212]
[21,7340,21,7345,11,7358,21,7366,null,null,0,2212]
[21,7455,21,7462,11,7472,21,7481,null,null,0,2212]
[21,7573,12,7585,24,7616,23,7689,null,null,0,2122]
[21,7790,21,7795,11,7807,21,7815,null,null,0,2212]
[21,7905,12,7916,24,7925,23,7934,null,null,0,2122]
[21,8033,12,8044,24,8053,23,8061,null,null,0,2122]
[12,8162,23,8172,13,8182,23,8193,null,null,0,1212]
[12,8296,23,8305,24,8312,23,8320,null,null,0,1222]
[12,8419,23,8438,13,8450,23,8461,null,null,0,1212]
[21,8561,21,8569,11,8580,21,8606,null,null,0,2212]
[21,8695,21,8701,11,8713,21,8743,null,null,0,2212]
[21,8829,21,8837,11,8847,21,8872,null,null,0,2212]
[21,8961,21,8969,11,8979,21,8988,null,null,0,2212]
[21,9075,12,9090,24,9106,23,9122,null,null,0,2122]
[12,9220,23,9229,13,9238,23,9246,null,null,0,1212]
[21,9349,12,9361,24,9370,23,9384,null,null,0,2122]
[21,9482,21,9487,22,9494,14,9505,null,null,0,2221]
[21,9606,21,9615,22,9640,14,9661,null,null,0,2221]
[12,9761,23,9770,13,9781,23,9793,null,null,0,1212]
[21,9891,21,9896,11,9907,21,9916,null,null,0,2212]
[21,10003,21,10009,11,10021,21,10059,null,null,0,2212]
[21,10149,12,10157,24,10170,23,10177,null,null,0,2122]
[21,10278,21,10284,11,10295,21,10324,null,null,0,2212]
[21,10412,21,10416,11,10427,21,10437,null,null,0,2212]
[21,10524,21,10529,11,10539,21,10574,null,null,0,2212]
[21,10663,21,10668,11,10677,21,10685,null,null,0,2212]
[21,10775,21,10782,11,10791,21,10802,null,null,0,2212]
[21,10890,12,10902,24,10916,23,10934,null,null,0,2122]
[12,11034,23,11043,24,11050,23,11057,null,null,0,1222]
[12,11155,23,11164,24,11171,23,11179,null,null,0,1222]
[21,11284,21,11293,11,11305,21,11351,null,null,0,2212]
[21,11439,21,11443,22,11451,23,11459,null,null,0,2222]
[21,11559,21,11564,11,11577,21,11599,null,null,0,2212]
[21,11686,21,11690,11,11700,12,11758,null,null,0,2211]
[21,11861,12,11872,24,11881,23,11894,null,null,0,2122]
[21,11998,21,12005,22,12022,23,12043,null,null,0,2222]
[21,12150,21,12157,22,12170,23,12182,null,null,0,2222]
[21,12281,21,12286,11,12297,21,12320,null,null,0,2212]
[21,12411,21,12416,11,12432,21,12441,null,null,0,2212]
[21,12532,21,12540,11,12553,21,12569,null,null,0,2212]
[21,12659,21,12668,22,12676,14,12687,null,null,0,2221]
[21,12786,21,12794,22,12801,14,12812,null,null,0,2221]
[21,12910,12,12927,24,12936,23,12968,null,null,0,2122]
[21,13070,21,13086,22,13099,23,13123,null,null,0,2222]
[21,13221,21,13226,11,13239,21,13247,null,null,0,2212]
[21,13333,21,13338,11,13349,21,13358,null,null,1,2212]

{"sheet":"!MB28920.091","index":23,"n_rows":74,"n_cols":48,"rows_kept":74,"cut":false,"hidden":false,"merged":[[4,39,4,42],[5,39,5,40],[4,44,4,47],[5,44,5,45],[4,24,4,27],[5,24,5,25],[4,29,4,32],[5,29,5,30],[4,34,4,37],[5,34,5,35],[1,1,1,2],[5,13,5,14],[26,13,26,14],[27,13,27,14],[4,19,4,22],[5,19,5,20]]}
["Report for:!MB28920.091"]
["Date:","<date>"]
["Hen:","<hen>",null,null,null,"Correct Sequence",{"$f":"Start!J2","v":2212},null,null,null,null,null,null,null,null,"Total Sequences in Data",{"$f":"4994-COUNTBLANK(L7:L5000)","v":68},null,null,null,null,"Total Sequences in Block Data",{"$f":"COUNTA(L7:L17)","v":11},null,null,null,"Total Sequences in Block Data",{"$f":"COUNTA(L18:L29)","v":12},null,null,null,"Total Sequences in Block Data",{"$f":"COUNTA(L30:L40)","v":11},null,null,null,"Total Sequences in Block Data",{"$f":"COUNTA(L41:L51)","v":11},null,null,null,"Total Sequences in Block Data",{"$f":"COUNTA(L52:L63)","v":12},null,null,null,"Total Sequences in Block Data",{"$f":"COUNTA(L64:L74)","v":11}]
[null,null,null,null,null,null,null,null,null,null,null,null,null,null,null,"Total Sequences in Summary",{"$f":"SUM(O7:O22)","v":68},null,null,null,null,"Total Sequences in Block Summary",{"$f":"SUM(U7:U22)","v":11},null,null,null,"Total Sequences in Block Summary",{"$f":"SUM(Z7:Z22)","v":12},null,null,null,"Total Sequences in Block Summary",{"$f":"SUM(AE7:AE22)","v":11},null,null,null,"Total Sequences in Block Summary",{"$f":"SUM(AJ7:AJ22)","v":11},null,null,null,"Total Sequences in Block Summary",{"$f":"SUM(AO7:AO22)","v":12},null,null,null,"Total Sequences in Block Summary",{"$f":"SUM(AT7:AT22)","v":11}]
[null,null,null,null,null,null,null,null,null,null,null,null,null,null,null,null,null,null,null,"Block 1",null,null,null,null,"Block 2",null,null,null,null,"Block 3",null,null,null,null,"Block 4",null,null,null,null,"Block 5",null,null,null,null,"Block 6"]
["Sequence\nComponent\n1","Time\n1","Sequence\nComponent\n2","Time\n2","Sequence\nComponent\n3","Time\n3","Sequence\nComponent\n4","Time\n4","Sequence\nComponent\n5","Time\n5","Correct?\n0=No 1=Yes","Sequence",null,"Frequency",null,"Relative Frequency","Variability",null,null,"Frequency",null,"Relative Frequency","Variability",null,"Frequency",null,"Relative Frequency","Variability",null,"Frequency",null,"Relative Frequency","Variability",null,"Frequency",null,"Relative Frequency","Variability",null,"Frequency",null,"Relative Frequency","Variability",null,"Frequency",null,"Relative Frequency","Variability"]
[21,15,12,24,24,33,14,43,null,null,0,2121,null,1111,{"$f":"COUNTIF($L$7:$L$500,N7)","v":0},{"$f":"O7/$Q$4","v":0},{"$f":"IF(P7=0,0,(P7*((LOG(P7))/LOG(2))))","v":0},null,null,{"$f":"N7","v":1111},{"$f":"COUNTIF(L7:L17,T7)","v":0},{"$f":"U7/(W4-U20)","v":0},{"$f":"IF(V7=0,0,(V7*((LOG(V7))/LOG(2))))","v":0},null,{"$f":"N7","v":1111},{"$f":"COUNTIF(L18:L29,Y7)","v":0},{"$f":"Z7/(AB4-Z20)","v":0},{"$f":"IF(AA7=0,0,(AA7*((LOG(AA7))/LOG(2))))","v":0},null,{"$f":"N7","v":1111},{"$f":"COUNTIF(L30:L40,AD7)","v":0},{"$f":"AE7/(AG4-AE20)","v":0},{"$f":"IF(AF7=0,0,(AF7*((LOG(AF7))/LOG(2))))","v":0},null,{"$f":"N7","v":1111},{"$f":"COUNTIF(L41:L51,AI7)","v":0},{"$f":"AJ7/(AL4-AJ20)","v":0},{"$f":"IF(AK7=0,0,(AK7*((LOG(AK7))/LOG(2))))","v":0},null,{"$f":"N7","v":1111},{"$f":"COUNTIF(L52:L63,AN7)","v":0},{"$f":"AO7/(AQ4-AO20)","v":0},{"$f":"IF(AP7=0,0,(AP7*((LOG(AP7))/LOG(2))))","v":0},null,{"$f":"N7","v":1111},{"$f":"COUNTIF(L64:L74,AS7)","v":0},{"$f":"AT7/(AV4-AT20)","v":0},{"$f":"IF(AU7=0,0,(AU7*((LOG(AU7))/LOG(2))))","v":0}]
[21,142,21,150,11,158,21,172,null,null,0,2212,null,1112,{"$f":"COUNTIF($L$7:$L$500,N8)","v":0},{"$f":"O8/$Q$4","v":0},{"$f":"IF(P8=0,0,(P8*((LOG(P8))/LOG(2))))","v":0},null,null,{"$f":"N8","v":1112},{"$f":"COUNTIF(L7:L17,T8)","v":0},{"$f":"U8/(W4-U20)","v":0},{"$f":"IF(V8=0,0,(V8*((LOG(V8))/LOG(2))))","v":0},null,{"$f":"N8","v":1112},{"$f":"COUNTIF(L18:L29,Y8)","v":0},{"$f":"Z8/(AB4-Z20)","v":0},{"$f":"IF(AA8=0,0,(AA8*((LOG(AA8))/LOG(2))))","v":0},null,{"$f":"N8","v":1112},{"$f":"COUNTIF(L30:L40,AD8)","v":0},{"$f":"AE8/(AG4-AE20)","v":0},{"$f":"IF(AF8=0,0,(AF8*((LOG(AF8))/LOG(2))))","v":0},null,{"$f":"N8","v":1112},{"$f":"COUNTIF(L41:L51,AI8)","v":0},{"$f":"AJ8/(AL4-AJ20)","v":0},{"$f":"IF(AK8=0,0,(AK8*((LOG(AK8))/LOG(2))))","v":0},null,{"$f":"N8","v":1112},{"$f":"COUNTIF(L52:L63,AN8)","v":0},{"$f":"AO8/(AQ4-AO20)","v":0},{"$f":"IF(AP8=0,0,(AP8*((LOG(AP8))/LOG(2))))","v":0},null,{"$f":"N8","v":1112},{"$f":"COUNTIF(L64:L74,AS8)","v":0},{"$f":"AT8/(AV4-AT20)","v":0},{"$f":"IF(AU8=0,0,(AU8*((LOG(AU8))/LOG(2))))","v":0}]
[21,264,21,269,11,279,12,311,null,null,0,2211,null,1121,{"$f":"COUNTIF($L$7:$L$500,N9)","v":0},{"$f":"O9/$Q$4","v":0},{"$f":"IF(P9=0,0,(P9*((LOG(P9))/LOG(2))))","v":0},null,null,{"$f":"N9","v":1121},{"$f":"COUNTIF(L7:L17,T9)","v":0},{"$f":"U9/(W4-U20)","v":0},{"$f":"IF(V9=0,0,(V9*((LOG(V9))/LOG(2))))","v":0},null,{"$f":"N9","v":1121},{"$f":"COUNTIF(L18:L29,Y9)","v":0},{"$f":"Z9/(AB4-Z20)","v":0},{"$f":"IF(AA9=0,0,(AA9*((LOG(AA9))/LOG(2))))","v":0},null,{"$f":"N9","v":1121},{"$f":"COUNTIF(L30:L40,AD9)","v":0},{"$f":"AE9/(AG4-AE20)","v":0},{"$f":"IF(AF9=0,0,(AF9*((LOG(AF9))/LOG(2))))","v":0},null,{"$f":"N9","v":1121},{"$f":"COUNTIF(L41:L51,AI9)","v":0},{"$f":"AJ9/(AL4-AJ20)","v":0},{"$f":"IF(AK9=0,0,(AK9*((LOG(AK9))/LOG(2))))","v":0},null,{"$f":"N9","v":1121},{"$f":"COUNTIF(L52:L63,AN9)","v":0},{"$f":"AO9/(AQ4-AO20)","v":0},{"$f":"IF(AP9=0,0,(AP9*((LOG(AP9))/LOG(2))))","v":0},null,{"$f":"N9","v":1121},{"$f":"COUNTIF(L64:L74,AS9)","v":0},{"$f":"AT9/(AV4-AT20)","v":0},{"$f":"IF(AU9=0,0,(AU9*((LOG(AU9))/LOG(2))))","v":0}]
[21,401,21,409,11,417,21,429,null,null,0,2212,null,1122,{"$f":"COUNTIF($L$7:$L$500,N10)","v":0},{"$f":"O10/$Q$4","v":0},{"$f":"IF(P10=0,0,(P10*((LOG(P10))/LOG(2))))","v":0},null,null,{"$f":"N10","v":1122},{"$f":"COUNTIF(L7:L17,T10)","v":0},{"$f":"U10/(W4-U20)","v":0},{"$f":"IF(V10=0,0,(V10*((LOG(V10))/LOG(2))))","v":0},null,{"$f":"N10","v":1122},{"$f":"COUNTIF(L18:L29,Y10)","v":0},{"$f":"Z10/(AB4-Z20)","v":0},{"$f":"IF(AA10=0,0,(AA10*((LOG(AA10))/LOG(2))))","v":0},null,{"$f":"N10","v":1122},{"$f":"COUNTIF(L30:L40,AD10)","v":0},{"$f":"AE10/(AG4-AE20)","v":0},{"$f":"IF(AF10=0,0,(AF10*((LOG(AF10))/LOG(2))))","v":0},null,{"$f":"N10","v":1122},{"$f":"COUNTIF(L41:L51,AI10)","v":0},{"$f":"AJ10/(AL4-AJ20)","v":0},{"$f":"IF(AK10=0,0,(AK10*((LOG(AK10))/LOG(2))))","v":0},null,{"$f":"N10","v":1122},{"$f":"COUNTIF(L52:L63,AN10)","v":0},{"$f":"AO10/(AQ4-AO20)","v":0},{"$f":"IF(AP10=0,0,(AP10*((LOG(AP10))/LOG(2))))","v":0},null,{"$f":"N10","v":1122},{"$f":"COUNTIF(L64:L74,AS10)","v":0},{"$f":"AT10/(AV4-AT20)","v":0},{"$f":"IF(AU10=0,0,(AU10*((LOG(AU10))/LOG(2))))","v":0}]
[21,558,12,571,24,581,23,591,null,null,0,2122,null,1211,{"$f":"COUNTIF($L$7:$L$500,N11)","v":0},{"$f":"O11/$Q$4","v":0},{"$f":"IF(P11=0,0,(P11*((LOG(P11))/LOG(2))))","v":0},null,null,{"$f":"N11","v":1211},{"$f":"COUNTIF(L7:L17,T11)","v":0},{"$f":"U11/(W4-U20)","v":0},{"$f":"IF(V11=0,0,(V11*((LOG(V11))/LOG(2))))","v":0},null,{"$f":"N11","v":1211},{"$f":"COUNTIF(L18:L29,Y11)","v":0},{"$f":"Z11/(AB4-Z20)","v":0},{"$f":"IF(AA11=0,0,(AA11*((LOG(AA11))/LOG(2))))","v":0},null,{"$f":"N11","v":1211},{"$f":"COUNTIF(L30:L40,AD11)","v":0},{"$f":"AE11/(AG4-AE20)","v":0},{"$f":"IF(AF11=0,0,(AF11*((LOG(AF11))/LOG(2))))","v":0},null,{"$f":"N11","v":1211},{"$f":"COUNTIF(L41:L51,AI11)","v":0},{"$f":"AJ11/(AL4-AJ20)","v":0},{"$f":"IF(AK11=0,0,(AK11*((LOG(AK11))/LOG(2))))","v":0},null,{"$f":"N11","v":1211},{"$f":"COUNTIF(L52:L63,AN11)","v":0},{"$f":"AO11/(AQ4-AO20)","v":0},{"$f":"IF(AP11=0,0,(AP11*((LOG(AP11))/LOG(2))))","v":0},null,{"$f":"N11","v":1211},{"$f":"COUNTIF(L64:L74,AS11)","v":0},{"$f":"AT11/(AV4-AT20)","v":0},{"$f":"IF(AU11=0,0,(AU11*((LOG(AU11))/LOG(2))))","v":0}]
[21,690,21,697,11,709,12,742,null,null,0,2211,null,1212,{"$f":"COUNTIF($L$7:$L$500,N12)","v":0},{"$f":"O12/$Q$4","v":0},{"$f":"IF(P12=0,0,(P12*((LOG(P12))/LOG(2))))","v":0},null,null,{"$f":"N12","v":1212},{"$f":"COUNTIF(L7:L17,T12)","v":0},{"$f":"U12/(W4-U20)","v":0},{"$f":"IF(V12=0,0,(V12*((LOG(V12))/LOG(2))))","v":0},null,{"$f":"N12","v":1212},{"$f":"COUNTIF(L18:L29,Y12)","v":0},{"$f":"Z12/(AB4-Z20)","v":0},{"$f":"IF(AA12=0,0,(AA12*((LOG(AA12))/LOG(2))))","v":0},null,{"$f":"N12","v":1212},{"$f":"COUNTIF(L30:L40,AD12)","v":0},{"$f":"AE12/(AG4-AE20)","v":0},{"$f":"IF(AF12=0,0,(AF12*((LOG(AF12))/LOG(2))))","v":0},null,{"$f":"N12","v":1212},{"$f":"COUNTIF(L41:L51,AI12)","v":0},{"$f":"AJ12/(AL4-AJ20)","v":0},{"$f":"IF(AK12=0,0,(AK12*((LOG(AK12))/LOG(2))))","v":0},null,{"$f":"N12","v":1212},{"$f":"COUNTIF(L52:L63,AN12)","v":0},{"$f":"AO12/(AQ4-AO20)","v":0},{"$f":"IF(AP12=0,0,(AP12*((LOG(AP12))/LOG(2))))","v":0},null,{"$f":"N12","v":1212},{"$f":"COUNTIF(L64:L74,AS12)","v":0},{"$f":"AT12/(AV4-AT20)","v":0},{"$f":"IF(AU12=0,0,(AU12*((LOG(AU12))/LOG(2))))","v":0}]
[21,841,21,847,11,856,21,866,null,null,0,2212,null,1221,{"$f":"COUNTIF($L$7:$L$500,N13)","v":0},{"$f":"O13/$Q$4","v":0},{"$f":"IF(P13=0,0,(P13*((LOG(P13))/LOG(2))))","v":0},null,null,{"$f":"N13","v":1221},{"$f":"COUNTIF(L7:L17,T13)","v":0},{"$f":"U13/(W4-U20)","v":0},{"$f":"IF(V13=0,0,(V13*((LOG(V13))/LOG(2))))","v":0},null,{"$f":"N13","v":1221},{"$f":"COUNTIF(L18:L29,Y13)","v":0},{"$f":"Z13/(AB4-Z20)","v":0},{"$f":"IF(AA13=0,0,(AA13*((LOG(AA13))/LOG(2))))","v":0},null,{"$f":"N13","v":1221},{"$f":"COUNTIF(L30:L40,AD13)","v":0},{"$f":"AE13/(AG4-AE20)","v":0},{"$f":"IF(AF13=0,0,(AF13*((LOG(AF13))/LOG(2))))","v":0},null,{"$f":"N13","v":1221},{"$f":"COUNTIF(L41:L51,AI13)","v":0},{"$f":"AJ13/(AL4-AJ20)","v":0},{"$f":"IF(AK13=0,0,(AK13*((LOG(AK13))/LOG(2))))","v":0},null,{"$f":"N13","v":1221},{"$f":"COUNTIF(L52:L63,AN13)","v":0},{"$f":"AO13/(AQ4-AO20)","v":0},{"$f":"IF(AP13=0,0,(AP13*((LOG(AP13))/LOG(2))))","v":0},null,{"$f":"N13","v":1221},{"$f":"COUNTIF(L64:L74,AS13)","v":0},{"$f":"AT13/(AV4-AT20)","v":0},{"$f":"IF(AU13=0,0,(AU13*((LOG(AU13))/LOG(2))))","v":0}]
[21,960,21,968,11,980,21,989,null,null,0,2212,null,1222,{"$f":"COUNTIF($L$7:$L$500,N14)","v":2},{"$f":"O14/$Q$4","v":2.9411764705882353E-2},{"$f":"IF(P14=0,0,(P14*((LOG(P14))/LOG(2))))","v":-0.14963126003677468},null,null,{"$f":"N14","v":1222},{"$f":"COUNTIF(L7:L17,T14)","v":0},{"$f":"U14/(W4-U20)","v":0},{"$f":"IF(V14=0,0,(V14*((LOG(V14))/LOG(2))))","v":0},null,{"$f":"N14","v":1222},{"$f":"COUNTIF(L18:L29,Y14)","v":0},{"$f":"Z14/(AB4-Z20)","v":0},{"$f":"IF(AA14=0,0,(AA14*((LOG(AA14))/LOG(2))))","v":0},null,{"$f":"N14","v":1222},{"$f":"COUNTIF(L30:L40,AD14)","v":0},{"$f":"AE14/(AG4-AE20)","v":0},{"$f":"IF(AF14=0,0,(AF14*((LOG(AF14))/LOG(2))))","v":0},null,{"$f":"N14","v":1222},{"$f":"COUNTIF(L41:L51,AI14)","v":1},{"$f":"AJ14/(AL4-AJ20)","v":0.25},{"$f":"IF(AK14=0,0,(AK14*((LOG(AK14))/LOG(2))))","v":-0.5},null,{"$f":"N14","v":1222},{"$f":"COUNTIF(L52:L63,AN14)","v":1},{"$f":"AO14/(AQ4-AO20)","v":0.2},{"$f":"IF(AP14=0,0,(AP14*((LOG(AP14))/LOG(2))))","v":-0.46438561897747244},null,{"$f":"N14","v":1222},{"$f":"COUNTIF(L64:L74,AS14)","v":0},{"$f":"AT14/(AV4-AT20)","v":0},{"$f":"IF(AU14=0,0,(AU14*((LOG(AU14))/LOG(2))))","v":0}]
[21,1078,12,1091,24,1099,23,1108,null,null,0,2122,null,2111,{"$f":"COUNTIF($L$7:$L$500,N15)","v":0},{"$f":"O15/$Q$4","v":0},{"$f":"IF(P15=0,0,(P15*((LOG(P15))/LOG(2))))","v":0},null,null,{"$f":"N15","v":2111},{"$f":"COUNTIF(L7:L17,T15)","v":0},{"$f":"U15/(W4-U20)","v":0},{"$f":"IF(V15=0,0,(V15*((LOG(V15))/LOG(2))))","v":0},null,{"$f":"N15","v":2111},{"$f":"COUNTIF(L18:L29,Y15)","v":0},{"$f":"Z15/(AB4-Z20)","v":0},{"$f":"IF(AA15=0,0,(AA15*((LOG(AA15))/LOG(2))))","v":0},null,{"$f":"N15","v":2111},{"$f":"COUNTIF(L30:L40,AD15)","v":0},{"$f":"AE15/(AG4-AE20)","v":0},{"$f":"IF(AF15=0,0,(AF15*((LOG(AF15))/LOG(2))))","v":0},null,{"$f":"N15","v":2111},{"$f":"COUNTIF(L41:L51,AI15)","v":0},{"$f":"AJ15/(AL4-AJ20)","v":0},{"$f":"IF(AK15=0,0,(AK15*((LOG(AK15))/LOG(2))))","v":0},null,{"$f":"N15","v":2111},{"$f":"COUNTIF(L52:L63,AN15)","v":0},{"$f":"AO15/(AQ4-AO20)","v":0},{"$f":"IF(AP15=0,0,(AP15*((LOG(AP15))/LOG(2))))","v":0},null,{"$f":"N15","v":2111},{"$f":"COUNTIF(L64:L74,AS15)","v":0},{"$f":"AT15/(AV4-AT20)","v":0},{"$f":"IF(AU15=0,0,(AU15*((LOG(AU15))/LOG(2))))","v":0}]
[21,1212,21,1217,11,1227,21,1237,null,null,0,2212,null,2112,{"$f":"COUNTIF($L$7:$L$500,N16)","v":0},{"$f":"O16/$Q$4","v":0},{"$f":"IF(P16=0,0,(P16*((LOG(P16))/LOG(2))))","v":0},null,null,{"$f":"N16","v":2112},{"$f":"COUNTIF(L7:L17,T16)","v":0},{"$f":"U16/(W4-U20)","v":0},{"$f":"IF(V16=0,0,(V16*((LOG(V16))/LOG(2))))","v":0},null,{"$f":"N16","v":2112},{"$f":"COUNTIF(L18:L29,Y16)","v":0},{"$f":"Z16/(AB4-Z20)","v":0},{"$f":"IF(AA16=0,0,(AA16*((LOG(AA16))/LOG(2))))","v":0},null,{"$f":"N16","v":2112},{"$f":"COUNTIF(L30:L40,AD16)","v":0},{"$f":"AE16/(AG4-AE20)","v":0},{"$f":"IF(AF16=0,0,(AF16*((LOG(AF16))/LOG(2))))","v":0},null,{"$f":"N16","v":2112},{"$f":"COUNTIF(L41:L51,AI16)","v":0},{"$f":"AJ16/(AL4-AJ20)","v":0},{"$f":"IF(AK16=0,0,(AK16*((LOG(AK16))/LOG(2))))","v":0},null,{"$f":"N16","v":2112},{"$f":"COUNTIF(L52:L63,AN16)","v":0},{"$f":"AO16/(AQ4-AO20)","v":0},{"$f":"IF(AP16=0,0,(AP16*((LOG(AP16))/LOG(2))))","v":0},null,{"$f":"N16","v":2112},{"$f":"COUNTIF(L64:L74,AS16)","v":0},{"$f":"AT16/(AV4-AT20)","v":0},{"$f":"IF(AU16=0,0,(AU16*((LOG(AU16))/LOG(2))))","v":0}]
[21,1329,12,1344,24,1382,23,1388,null,null,0,2122,null,2121,{"$f":"COUNTIF($L$7:$L$500,N17)","v":2},{"$f":"O17/$Q$4","v":2.9411764705882353E-2},{"$f":"IF(P17=0,0,(P17*((LOG(P17))/LOG(2))))","v":-0.14963126003677468},null,null,{"$f":"N17","v":2121},{"$f":"COUNTIF(L7:L17,T17)","v":1},{"$f":"U17/(W4-U20)","v":0.16666666666666666},{"$f":"IF(V17=0,0,(V17*((LOG(V17))/LOG(2))))","v":-0.43082708345352599},null,{"$f":"N17","v":2121},{"$f":"COUNTIF(L18:L29,Y17)","v":1},{"$f":"Z17/(AB4-Z20)","v":0.16666666666666666},{"$f":"IF(AA17=0,0,(AA17*((LOG(AA17))/LOG(2))))","v":-0.43082708345352599},null,{"$f":"N17","v":2121},{"$f":"COUNTIF(L30:L40,AD17)","v":0},{"$f":"AE17/(AG4-AE20)","v":0},{"$f":"IF(AF17=0,0,(AF17*((LOG(AF17))/LOG(2))))","v":0},null,{"$f":"N17","v":2121},{"$f":"COUNTIF(L41:L51,AI17)","v":0},{"$f":"AJ17/(AL4-AJ20)","v":0},{"$f":"IF(AK17=0,0,(AK17*((LOG(AK17))/LOG(2))))","v":0},null,{"$f":"N17","v":2121},{"$f":"COUNTIF(L52:L63,AN17)","v":0},{"$f":"AO17/(AQ4-AO20)","v":0},{"$f":"IF(AP17=0,0,(AP17*((LOG(AP17))/LOG(2))))","v":0},null,{"$f":"N17","v":2121},{"$f":"COUNTIF(L64:L74,AS17)","v":0},{"$f":"AT17/(AV4-AT20)","v":0},{"$f":"IF(AU17=0,0,(AU17*((LOG(AU17))/LOG(2))))","v":0}]
[21,1489,12,1501,24,1510,23,1525,null,null,0,2122,null,2122,{"$f":"COUNTIF($L$7:$L$500,N18)","v":20},{"$f":"O18/$Q$4","v":0.29411764705882354},{"$f":"IF(P18=0,0,(P18*((LOG(P18))/LOG(2))))","v":-0.51927492540087561},null,null,{"$f":"N18","v":2122},{"$f":"COUNTIF(L7:L17,T18)","v":3},{"$f":"U18/(W4-U20)","v":0.5},{"$f":"IF(V18=0,0,(V18*((LOG(V18))/LOG(2))))","v":-0.5},null,{"$f":"N18","v":2122},{"$f":"COUNTIF(L18:L29,Y18)","v":5},{"$f":"Z18/(AB4-Z20)","v":0.83333333333333337},{"$f":"IF(AA18=0,0,(AA18*((LOG(AA18))/LOG(2))))","v":-0.21919533819482812},null,{"$f":"N18","v":2122},{"$f":"COUNTIF(L30:L40,AD18)","v":4},{"$f":"AE18/(AG4-AE20)","v":0.66666666666666663},{"$f":"IF(AF18=0,0,(AF18*((LOG(AF18))/LOG(2))))","v":-0.38997500048077083},null,{"$f":"N18","v":2122},{"$f":"COUNTIF(L41:L51,AI18)","v":3},{"$f":"AJ18/(AL4-AJ20)","v":0.75},{"$f":"IF(AK18=0,0,(AK18*((LOG(AK18))/LOG(2))))","v":-0.31127812445913283},null,{"$f":"N18","v":2122},{"$f":"COUNTIF(L52:L63,AN18)","v":4},{"$f":"AO18/(AQ4-AO20)","v":0.8},{"$f":"IF(AP18=0,0,(AP18*((LOG(AP18))/LOG(2))))","v":-0.25754247590988982},null,{"$f":"N18","v":2122},{"$f":"COUNTIF(L64:L74,AS18)","v":1},{"$f":"AT18/(AV4-AT20)","v":1},{"$f":"IF(AU18=0,0,(AU18*((LOG(AU18))/LOG(2))))","v":0}]
[21,1631,21,1638,11,1649,21,1658,null,null,0,2212,null,2211,{"$f":"COUNTIF($L$7:$L$500,N19)","v":2},{"$f":"O19/$Q$4","v":2.9411764705882353E-2},{"$f":"IF(P19=0,0,(P19*((LOG(P19))/LOG(2))))","v":-0.14963126003677468},null,null,{"$f":"N19","v":2211},{"$f":"COUNTIF(L7:L17,T19)","v":2},{"$f":"U19/(W4-U20)","v":0.33333333333333331},{"$f":"IF(V19=0,0,(V19*((LOG(V19))/LOG(2))))","v":-0.52832083357371862},null,{"$f":"N19","v":2211},{"$f":"COUNTIF(L18:L29,Y19)","v":0},{"$f":"Z19/(AB4-Z20)","v":0},{"$f":"IF(AA19=0,0,(AA19*((LOG(AA19))/LOG(2))))","v":0},null,{"$f":"N19","v":2211},{"$f":"COUNTIF(L30:L40,AD19)","v":0},{"$f":"AE19/(AG4-AE20)","v":0},{"$f":"IF(AF19=0,0,(AF19*((LOG(AF19))/LOG(2))))","v":0},null,{"$f":"N19","v":2211},{"$f":"COUNTIF(L41:L51,AI19)","v":0},{"$f":"AJ19/(AL4-AJ20)","v":0},{"$f":"IF(AK19=0,0,(AK19*((LOG(AK19))/LOG(2))))","v":0},null,{"$f":"N19","v":2211},{"$f":"COUNTIF(L52:L63,AN19)","v":0},{"$f":"AO19/(AQ4-AO20)","v":0},{"$f":"IF(AP19=0,0,(AP19*((LOG(AP19))/LOG(2))))","v":0},null,{"$f":"N19","v":2211},{"$f":"COUNTIF(L64:L74,AS19)","v":0},{"$f":"AT19/(AV4-AT20)","v":0},{"$f":"IF(AU19=0,0,(AU19*((LOG(AU19))/LOG(2))))","v":0}]
[21,1749,12,1762,24,1795,14,1807,null,null,0,2121,null,2212,{"$f":"COUNTIF($L$7:$L$500,N20)","v":40},{"$f":"O20/$Q$4","v":0.58823529411764708},{"$f":"IF(P20=0,0,(P20*((LOG(P20))/LOG(2))))","v":-0.45031455668410414},null,null,{"$f":"N20","v":2212},{"$f":"COUNTIF(L7:L17,T20)","v":5},null,null,null,{"$f":"N20","v":2212},{"$f":"COUNTIF(L18:L29,Y20)","v":6},null,null,null,{"$f":"N20","v":2212},{"$f":"COUNTIF(L30:L40,AD20)","v":5},null,null,null,{"$f":"N20","v":2212},{"$f":"COUNTIF(L41:L51,AI20)","v":7},null,null,null,{"$f":"N20","v":2212},{"$f":"COUNTIF(L52:L63,AN20)","v":7},null,null,null,{"$f":"N20","v":2212},{"$f":"COUNTIF(L64:L74,AS20)","v":10}]
[21,1906,21,1915,11,1924,21,1935,null,null,0,2212,null,2221,{"$f":"COUNTIF($L$7:$L$500,N21)","v":0},{"$f":"O21/$Q$4","v":0},{"$f":"IF(P21=0,0,(P21*((LOG(P21))/LOG(2))))","v":0},null,null,{"$f":"N21","v":2221},{"$f":"COUNTIF(L7:L17,T21)","v":0},{"$f":"U21/(W4-U20)","v":0},{"$f":"IF(V21=0,0,(V21*((LOG(V21))/LOG(2))))","v":0},null,{"$f":"N21","v":2221},{"$f":"COUNTIF(L18:L29,Y21)","v":0},{"$f":"Z21/(AB4-Z20)","v":0},{"$f":"IF(AA21=0,0,(AA21*((LOG(AA21))/LOG(2))))","v":0},null,{"$f":"N21","v":2221},{"$f":"COUNTIF(L30:L40,AD21)","v":0},{"$f":"AE21/(AG4-AE20)","v":0},{"$f":"IF(AF21=0,0,(AF21*((LOG(AF21))/LOG(2))))","v":0},null,{"$f":"N21","v":2221},{"$f":"COUNTIF(L41:L51,AI21)","v":0},{"$f":"AJ21/(AL4-AJ20)","v":0},{"$f":"IF(AK21=0,0,(AK21*((LOG(AK21))/LOG(2))))","v":0},null,{"$f":"N21","v":2221},{"$f":"COUNTIF(L52:L63,AN21)","v":0},{"$f":"AO21/(AQ4-AO20)","v":0},{"$f":"IF(AP21=0,0,(AP21*((LOG(AP21))/LOG(2))))","v":0},null,{"$f":"N21","v":2221},{"$f":"COUNTIF(L64:L74,AS21)","v":0},{"$f":"AT21/(AV4-AT20)","v":0},{"$f":"IF(AU21=0,0,(AU21*((LOG(AU21))/LOG(2))))","v":0}]
[21,2031,12,2046,24,2055,23,2099,null,null,0,2122,null,2222,{"$f":"COUNTIF($L$7:$L$500,N22)","v":2},{"$f":"O22/$Q$4","v":2.9411764705882353E-2},{"$f":"IF(P22=0,0,(P22*((LOG(P22))/LOG(2))))","v":-0.14963126003677468},null,null,{"$f":"N22","v":2222},{"$f":"COUNTIF(L7:L17,T22)","v":0},{"$f":"U22/(W4-U20)","v":0},{"$f":"IF(V22=0,0,(V22*((LOG(V22))/LOG(2))))","v":0},null,{"$f":"N22","v":2222},{"$f":"COUNTIF(L18:L29,Y22)","v":0},{"$f":"Z22/(AB4-Z20)","v":0},{"$f":"IF(AA22=0,0,(AA22*((LOG(AA22))/LOG(2))))","v":0},null,{"$f":"N22","v":2222},{"$f":"COUNTIF(L30:L40,AD22)","v":2},{"$f":"AE22/(AG4-AE20)","v":0.33333333333333331},{"$f":"IF(AF22=0,0,(AF22*((LOG(AF22))/LOG(2))))","v":-0.52832083357371862},null,{"$f":"N22","v":2222},{"$f":"COUNTIF(L41:L51,AI22)","v":0},{"$f":"AJ22/(AL4-AJ20)","v":0},{"$f":"IF(AK22=0,0,(AK22*((LOG(AK22))/LOG(2))))","v":0},null,{"$f":"N22","v":2222},{"$f":"COUNTIF(L52:L63,AN22)","v":0},{"$f":"AO22/(AQ4-AO20)","v":0},{"$f":"IF(AP22=0,0,(AP22*((LOG(AP22))/LOG(2))))","v":0},null,{"$f":"N22","v":2222},{"$f":"COUNTIF(L64:L74,AS22)","v":0},{"$f":"AT22/(AV4-AT20)","v":0},{"$f":"IF(AU22=0,0,(AU22*((LOG(AU22))/LOG(2))))","v":0}]
[21,2200,12,2215,24,2223,23,2232,null,null,0,2122,null,null,null,{"$f":"SUM(P7:P22)","v":1},{"$f":"-SUM(Q7:Q22)","v":1.5681145222320785},null,null,null,null,{"$f":"SUM(V7:V22)","v":1},{"$f":"-SUM(W7:W22)","v":1.4591479170272446},null,null,null,{"$f":"SUM(AA7:AA22)","v":1},{"$f":"-SUM(AB7:AB22)","v":0.65002242164835411},null,null,null,{"$f":"SUM(AF7:AF22)","v":1},{"$f":"-SUM(AG7:AG22)","v":0.91829583405448945},null,null,null,{"$f":"SUM(AK7:AK22)","v":1},{"$f":"-SUM(AL7:AL22)","v":0.81127812445913283},null,null,null,{"$f":"SUM(AP7:AP22)","v":1},{"$f":"-SUM(AQ7:AQ22)","v":0.72192809488736231},null,null,null,{"$f":"SUM(AU7:AU22)","v":1},{"$f":"-SUM(AV7:AV22)","v":0}]
[21,2335,12,2346,24,2356,23,2369,null,null,0,2122,null,null,null,"U=",{"$f":"Q23/(LOG(Q4)/LOG(2))","v":0.2575973871423245},null,null,null,null,"U1=",{"$f":"W23/(LOG(W4)/LOG(2))","v":0.42178833920758824},null,null,null,"U2=",{"$f":"AB23/(LOG(AB4)/LOG(2))","v":0.18131916903387263},null,null,null,"U3=",{"$f":"AG23/(LOG(AG4)/LOG(2))","v":0.26544702577940094},null,null,null,"U4=",{"$f":"AL23/(LOG(AL4)/LOG(2))","v":0.23451197014228101},null,null,null,"U5=",{"$f":"AQ23/(LOG(AQ4)/LOG(2))","v":0.20137674933618921},null,null,null,"U6=",{"$f":"AV23/(LOG(AV4)/LOG(2))","v":0}]
[21,2467,21,2475,11,2487,21,2536,null,null,0,2212]
[21,2624,21,2632,11,2643,21,2652,null,null,0,2212]
[21,2743,12,2756,24,2764,23,2808,null,null,0,2122,null,"Total Target Seq"]
[21,2907,21,2912,11,2922,21,2930,null,null,0,2212,null,{"$f":"COUNTIF(L7:L74,G3)","v":40},null,11,12,11,11,12,11]
[21,3021,21,3027,11,3039,21,3049,null,null,0,2212,null,null,null,"% of reinforcement given in 6 equal intervals based on number of trials "]
[21,3137,21,3142,11,3151,21,3161,null,null,0,2212,null,null,null,"%_1","%_2","%_3","%_4","%_5","%_6"]
[21,3254,12,3265,24,3273,23,3282,null,null,0,2122,null,null,"target sequence",{"$f":"$G$3","v":2212},{"$f":"$G$3","v":2212},{"$f":"$G$3","v":2212},{"$f":"$G$3","v":2212},{"$f":"$G$3","v":2212},{"$f":"$G$3","v":2212}]
[21,3379,12,3390,24,3396,23,3404,null,null,0,2122,null,null,"total reinforcement",{"$f":"U20","v":5},{"$f":"Z20","v":6},{"$f":"AE20","v":5},{"$f":"AJ20","v":7},{"$f":"AO20","v":7},{"$f":"AT20","v":10}]
[21,3505,21,3512,11,3521,21,3532,null,null,0,2212,null,null,"% target"]
[21,3622,21,3626,11,3638,21,3648,null,null,0,2212,null,null,"CCRF"]
[21,3738,21,3744,11,3753,21,3762,null,null,0,2212,null,null,"% CCRf"]
[21,3853,12,3864,24,3884,23,3900,null,null,0,2122,null,null,"average response rate",{"$f":"H17/P28","v":126.18181818181819},{"$f":"(H29-H17)/Q28","v":138.41666666666666},{"$f":"(H40-H29)/R28","v":126.27272727272727},{"$f":"(H51-H40)/S28","v":129.36363636363637},{"$f":"(H63-H51)/T28","v":133.41666666666666},{"$f":"(H74-H63)/U28","v":116.18181818181819}]
[21,4002,21,4010,11,4020,21,4030,null,null,0,2212]
[21,4122,12,4135,24,4152,23,4159,null,null,0,2122]
[21,4258,21,4265,22,4287,23,4299,null,null,0,2222]
[21,4406,21,4422,22,4430,23,4438,null,null,0,2222]
[21,4540,21,4548,11,4561,21,4570,null,null,0,2212]
[21,4659,21,4666,11,4677,21,4687,null,null,0,2212]
[21,4780,21,4787,11,4798,21,4807,null,null,0,2212]
[21,4894,12,4905,24,4921,23,4931,null,null,0,2122]
[21,5029,21,5037,11,5048,21,5070,null,null,0,2212]
[21,5161,12,5172,24,5180,23,5188,null,null,0,2122]
[12,5302,23,5309,24,5317,23,5354,null,null,0,1222]
[21,5456,21,5464,11,5474,21,5483,null,null,0,2212]
[21,5571,21,5579,11,5590,21,5614,null,null,0,2212]
[21,5702,21,5709,11,5718,21,5727,null,null,0,2212]
[21,5816,12,5831,24,5846,23,5861,null,null,0,2122]
[12,5979,23,5989,24,5997,23,6021,null,null,0,1222]
[21,6123,12,6135,24,6151,23,6159,null,null,0,2122]
[21,6259,21,6265,11,6276,21,6284,null,null,0,2212]
[21,6374,21,6381,11,6393,21,6417,null,null,0,2212]
[21,6505,21,6509,11,6520,21,6547,null,null,0,2212]
[21,6639,12,6650,24,6659,23,6666,null,null,0,2122]
[21,6772,12,6782,24,6803,23,6825,null,null,0,2122]
[21,6928,21,6935,11,6943,21,6952,null,null,0,2212]
[21,7047,12,7060,24,7076,23,7100,null,null,0,2122]
[21,7200,21,7205,11,7215,21,7224,null,null,0,2212]
[21,7313,21,7317,11,7325,21,7334,null,null,0,2212]
[21,7422,21,7427,11,7438,21,7462,null,null,0,2212]
[21,7549,21,7556,11,7566,21,7597,null,null,0,2212]
[21,7689,21,7695,11,7706,21,7716,null,null,0,2212]
[21,7803,21,7810,11,7818,21,7827,null,null,0,2212]
[21,7915,21,7920,11,7929,21,7944,null,null,0,2212]
[21,8034,12,8042,24,8051,23,8068,null,null,0,2122]
[21,8168,21,8172,11,8183,21,8191,null,null,0,2212]
[21,8281,21,8285,11,8293,21,8302,null,null,0,2212]
[21,8390,21,8394,11,8404,21,8413,null,null,0,2212]
[21,8500,21,8504,11,8512,21,8521,null,null,0,2212]
[21,8610,21,8614,11,8623,21,8632,null,null,0,2212]
[21,8718,21,8723,11,8732,21,8740,null,null,1,2212]

{"sheet":"!MB29C10.091","index":24,"n_rows":94,"n_cols":48,"rows_kept":94,"cut":false,"hidden":false,"merged":[[4,39,4,42],[5,39,5,40],[4,44,4,47],[5,44,5,45],[4,24,4,27],[5,24,5,25],[4,29,4,32],[5,29,5,30],[4,34,4,37],[5,34,5,35],[1,1,1,2],[5,13,5,14],[26,13,26,14],[27,13,27,14],[4,19,4,22],[5,19,5,20]]}
["Report for:!MB29C10.091"]
["Date:","<date>"]
["Hen:","<hen>",null,null,null,"Correct Sequence",{"$f":"Start!J2","v":2212},null,null,null,null,null,null,null,null,"Total Sequences in Data",{"$f":"4994-COUNTBLANK(L7:L5000)","v":88},null,null,null,null,"Total Sequences in Block Data",{"$f":"COUNTA(L7:L21)","v":15},null,null,null,"Total Sequences in Block Data",{"$f":"COUNTA(L22:L35)","v":14},null,null,null,"Total Sequences in Block Data",{"$f":"COUNTA(L36:L50)","v":15},null,null,null,"Total Sequences in Block Data",{"$f":"COUNTA(L51:L65)","v":15},null,null,null,"Total Sequences in Block Data",{"$f":"COUNTA(L66:L79)","v":14},null,null,null,"Total Sequences in Block Data",{"$f":"COUNTA(L80:L94)","v":15}]
[null,null,null,null,null,null,null,null,null,null,null,null,null,null,null,"Total Sequences in Summary",{"$f":"SUM(O7:O22)","v":88},null,null,null,null,"Total Sequences in Block Summary",{"$f":"SUM(U7:U22)","v":15},null,null,null,"Total Sequences in Block Summary",{"$f":"SUM(Z7:Z22)","v":14},null,null,null,"Total Sequences in Block Summary",{"$f":"SUM(AE7:AE22)","v":15},null,null,null,"Total Sequences in Block Summary",{"$f":"SUM(AJ7:AJ22)","v":15},null,null,null,"Total Sequences in Block Summary",{"$f":"SUM(AO7:AO22)","v":14},null,null,null,"Total Sequences in Block Summary",{"$f":"SUM(AT7:AT22)","v":15}]
[null,null,null,null,null,null,null,null,null,null,null,null,null,null,null,null,null,null,null,"Block 1",null,null,null,null,"Block 2",null,null,null,null,"Block 3",null,null,null,null,"Block 4",null,null,null,null,"Block 5",null,null,null,null,"Block 6"]
["Sequence\nComponent\n1","Time\n1","Sequence\nComponent\n2","Time\n2","Sequence\nComponent\n3","Time\n3","Sequence\nComponent\n4","Time\n4","Sequence\nComponent\n5","Time\n5","Correct?\n0=No 1=Yes","Sequence",null,"Frequency",null,"Relative Frequency","Variability",null,null,"Frequency",null,"Relative Frequency","Variability",null,"Frequency",null,"Relative Frequency","Variability",null,"Frequency",null,"Relative Frequency","Variability",null,"Frequency",null,"Relative Frequency","Variability",null,"Frequency",null,"Relative Frequency","Variability",null,"Frequency",null,"Relative Frequency","Variability"]
[21,15,21,28,11,40,12,64,null,null,0,2211,null,1111,{"$f":"COUNTIF($L$7:$L$500,N7)","v":1},{"$f":"O7/$Q$4","v":1.1363636363636364E-2},{"$f":"IF(P7=0,0,(P7*((LOG(P7))/LOG(2))))","v":-7.3402632029969286E-2},null,null,{"$f":"N7","v":1111},{"$f":"COUNTIF(L7:L21,T7)","v":1},{"$f":"U7/(W4-U20)","v":0.16666666666666666},{"$f":"IF(V7=0,0,(V7*((LOG(V7))/LOG(2))))","v":-0.43082708345352599},null,{"$f":"N7","v":1111},{"$f":"COUNTIF(L22:L35,Y7)","v":0},{"$f":"Z7/(AB4-Z20)","v":0},{"$f":"IF(AA7=0,0,(AA7*((LOG(AA7))/LOG(2))))","v":0},null,{"$f":"N7","v":1111},{"$f":"COUNTIF(L36:L50,AD7)","v":0},{"$f":"AE7/(AG4-AE20)","v":0},{"$f":"IF(AF7=0,0,(AF7*((LOG(AF7))/LOG(2))))","v":0},null,{"$f":"N7","v":1111},{"$f":"COUNTIF(L51:L65,AI7)","v":0},{"$f":"AJ7/(AL4-AJ20)","v":0},{"$f":"IF(AK7=0,0,(AK7*((LOG(AK7))/LOG(2))))","v":0},null,{"$f":"N7","v":1111},{"$f":"COUNTIF(L66:L79,AN7)","v":0},{"$f":"AO7/(AQ4-AO20)","v":0},{"$f":"IF(AP7=0,0,(AP7*((LOG(AP7))/LOG(2))))","v":0},null,{"$f":"N7","v":1111},{"$f":"COUNTIF(L80:L94,AS7)","v":0},{"$f":"AT7/(AV4-AT20)","v":0},{"$f":"IF(AU7=0,0,(AU7*((LOG(AU7))/LOG(2))))","v":0}]
[21,167,12,179,24,194,23,207,null,null,0,2122,null,1112,{"$f":"COUNTIF($L$7:$L$500,N8)","v":0},{"$f":"O8/$Q$4","v":0},{"$f":"IF(P8=0,0,(P8*((LOG(P8))/LOG(2))))","v":0},null,null,{"$f":"N8","v":1112},{"$f":"COUNTIF(L7:L21,T8)","v":0},{"$f":"U8/(W4-U20)","v":0},{"$f":"IF(V8=0,0,(V8*((LOG(V8))/LOG(2))))","v":0},null,{"$f":"N8","v":1112},{"$f":"COUNTIF(L22:L35,Y8)","v":0},{"$f":"Z8/(AB4-Z20)","v":0},{"$f":"IF(AA8=0,0,(AA8*((LOG(AA8))/LOG(2))))","v":0},null,{"$f":"N8","v":1112},{"$f":"COUNTIF(L36:L50,AD8)","v":0},{"$f":"AE8/(AG4-AE20)","v":0},{"$f":"IF(AF8=0,0,(AF8*((LOG(AF8))/LOG(2))))","v":0},null,{"$f":"N8","v":1112},{"$f":"COUNTIF(L51:L65,AI8)","v":0},{"$f":"AJ8/(AL4-AJ20)","v":0},{"$f":"IF(AK8=0,0,(AK8*((LOG(AK8))/LOG(2))))","v":0},null,{"$f":"N8","v":1112},{"$f":"COUNTIF(L66:L79,AN8)","v":0},{"$f":"AO8/(AQ4-AO20)","v":0},{"$f":"IF(AP8=0,0,(AP8*((LOG(AP8))/LOG(2))))","v":0},null,{"$f":"N8","v":1112},{"$f":"COUNTIF(L80:L94,AS8)","v":0},{"$f":"AT8/(AV4-AT20)","v":0},{"$f":"IF(AU8=0,0,(AU8*((LOG(AU8))/LOG(2))))","v":0}]
[12,325,14,377,13,411,14,434,null,null,0,1111,null,1121,{"$f":"COUNTIF($L$7:$L$500,N9)","v":0},{"$f":"O9/$Q$4","v":0},{"$f":"IF(P9=0,0,(P9*((LOG(P9))/LOG(2))))","v":0},null,null,{"$f":"N9","v":1121},{"$f":"COUNTIF(L7:L21,T9)","v":0},{"$f":"U9/(W4-U20)","v":0},{"$f":"IF(V9=0,0,(V9*((LOG(V9))/LOG(2))))","v":0},null,{"$f":"N9","v":1121},{"$f":"COUNTIF(L22:L35,Y9)","v":0},{"$f":"Z9/(AB4-Z20)","v":0},{"$f":"IF(AA9=0,0,(AA9*((LOG(AA9))/LOG(2))))","v":0},null,{"$f":"N9","v":1121},{"$f":"COUNTIF(L36:L50,AD9)","v":0},{"$f":"AE9/(AG4-AE20)","v":0},{"$f":"IF(AF9=0,0,(AF9*((LOG(AF9))/LOG(2))))","v":0},null,{"$f":"N9","v":1121},{"$f":"COUNTIF(L51:L65,AI9)","v":0},{"$f":"AJ9/(AL4-AJ20)","v":0},{"$f":"IF(AK9=0,0,(AK9*((LOG(AK9))/LOG(2))))","v":0},null,{"$f":"N9","v":1121},{"$f":"COUNTIF(L66:L79,AN9)","v":0},{"$f":"AO9/(AQ4-AO20)","v":0},{"$f":"IF(AP9=0,0,(AP9*((LOG(AP9))/LOG(2))))","v":0},null,{"$f":"N9","v":1121},{"$f":"COUNTIF(L80:L94,AS9)","v":0},{"$f":"AT9/(AV4-AT20)","v":0},{"$f":"IF(AU9=0,0,(AU9*((LOG(AU9))/LOG(2))))","v":0}]
[21,540,21,548,11,559,21,576,null,null,0,2212,null,1122,{"$f":"COUNTIF($L$7:$L$500,N10)","v":0},{"$f":"O10/$Q$4","v":0},{"$f":"IF(P10=0,0,(P10*((LOG(P10))/LOG(2))))","v":0},null,null,{"$f":"N10","v":1122},{"$f":"COUNTIF(L7:L21,T10)","v":0},{"$f":"U10/(W4-U20)","v":0},{"$f":"IF(V10=0,0,(V10*((LOG(V10))/LOG(2))))","v":0},null,{"$f":"N10","v":1122},{"$f":"COUNTIF(L22:L35,Y10)","v":0},{"$f":"Z10/(AB4-Z20)","v":0},{"$f":"IF(AA10=0,0,(AA10*((LOG(AA10))/LOG(2))))","v":0},null,{"$f":"N10","v":1122},{"$f":"COUNTIF(L36:L50,AD10)","v":0},{"$f":"AE10/(AG4-AE20)","v":0},{"$f":"IF(AF10=0,0,(AF10*((LOG(AF10))/LOG(2))))","v":0},null,{"$f":"N10","v":1122},{"$f":"COUNTIF(L51:L65,AI10)","v":0},{"$f":"AJ10/(AL4-AJ20)","v":0},{"$f":"IF(AK10=0,0,(AK10*((LOG(AK10))/LOG(2))))","v":0},null,{"$f":"N10","v":1122},{"$f":"COUNTIF(L66:L79,AN10)","v":0},{"$f":"AO10/(AQ4-AO20)","v":0},{"$f":"IF(AP10=0,0,(AP10*((LOG(AP10))/LOG(2))))","v":0},null,{"$f":"N10","v":1122},{"$f":"COUNTIF(L80:L94,AS10)","v":0},{"$f":"AT10/(AV4-AT20)","v":0},{"$f":"IF(AU10=0,0,(AU10*((LOG(AU10))/LOG(2))))","v":0}]
[21,664,21,673,11,687,21,709,null,null,0,2212,null,1211,{"$f":"COUNTIF($L$7:$L$500,N11)","v":0},{"$f":"O11/$Q$4","v":0},{"$f":"IF(P11=0,0,(P11*((LOG(P11))/LOG(2))))","v":0},null,null,{"$f":"N11","v":1211},{"$f":"COUNTIF(L7:L21,T11)","v":0},{"$f":"U11/(W4-U20)","v":0},{"$f":"IF(V11=0,0,(V11*((LOG(V11))/LOG(2))))","v":0},null,{"$f":"N11","v":1211},{"$f":"COUNTIF(L22:L35,Y11)","v":0},{"$f":"Z11/(AB4-Z20)","v":0},{"$f":"IF(AA11=0,0,(AA11*((LOG(AA11))/LOG(2))))","v":0},null,{"$f":"N11","v":1211},{"$f":"COUNTIF(L36:L50,AD11)","v":0},{"$f":"AE11/(AG4-AE20)","v":0},{"$f":"IF(AF11=0,0,(AF11*((LOG(AF11))/LOG(2))))","v":0},null,{"$f":"N11","v":1211},{"$f":"COUNTIF(L51:L65,AI11)","v":0},{"$f":"AJ11/(AL4-AJ20)","v":0},{"$f":"IF(AK11=0,0,(AK11*((LOG(AK11))/LOG(2))))","v":0},null,{"$f":"N11","v":1211},{"$f":"COUNTIF(L66:L79,AN11)","v":0},{"$f":"AO11/(AQ4-AO20)","v":0},{"$f":"IF(AP11=0,0,(AP11*((LOG(AP11))/LOG(2))))","v":0},null,{"$f":"N11","v":1211},{"$f":"COUNTIF(L80:L94,AS11)","v":0},{"$f":"AT11/(AV4-AT20)","v":0},{"$f":"IF(AU11=0,0,(AU11*((LOG(AU11))/LOG(2))))","v":0}]
[21,799,21,805,11,819,21,836,null,null,0,2212,null,1212,{"$f":"COUNTIF($L$7:$L$500,N12)","v":2},{"$f":"O12/$Q$4","v":2.2727272727272728E-2},{"$f":"IF(P12=0,0,(P12*((LOG(P12))/LOG(2))))","v":-0.12407799133266585},null,null,{"$f":"N12","v":1212},{"$f":"COUNTIF(L7:L21,T12)","v":0},{"$f":"U12/(W4-U20)","v":0},{"$f":"IF(V12=0,0,(V12*((LOG(V12))/LOG(2))))","v":0},null,{"$f":"N12","v":1212},{"$f":"COUNTIF(L22:L35,Y12)","v":0},{"$f":"Z12/(AB4-Z20)","v":0},{"$f":"IF(AA12=0,0,(AA12*((LOG(AA12))/LOG(2))))","v":0},null,{"$f":"N12","v":1212},{"$f":"COUNTIF(L36:L50,AD12)","v":1},{"$f":"AE12/(AG4-AE20)","v":0.14285714285714285},{"$f":"IF(AF12=0,0,(AF12*((LOG(AF12))/LOG(2))))","v":-0.40105070315108626},null,{"$f":"N12","v":1212},{"$f":"COUNTIF(L51:L65,AI12)","v":1},{"$f":"AJ12/(AL4-AJ20)","v":8.3333333333333329E-2},{"$f":"IF(AK12=0,0,(AK12*((LOG(AK12))/LOG(2))))","v":-0.29874687506009634},null,{"$f":"N12","v":1212},{"$f":"COUNTIF(L66:L79,AN12)","v":0},{"$f":"AO12/(AQ4-AO20)","v":0},{"$f":"IF(AP12=0,0,(AP12*((LOG(AP12))/LOG(2))))","v":0},null,{"$f":"N12","v":1212},{"$f":"COUNTIF(L80:L94,AS12)","v":0},{"$f":"AT12/(AV4-AT20)","v":0},{"$f":"IF(AU12=0,0,(AU12*((LOG(AU12))/LOG(2))))","v":0}]
[21,926,12,985,24,995,14,1018,null,null,0,2121,null,1221,{"$f":"COUNTIF($L$7:$L$500,N13)","v":2},{"$f":"O13/$Q$4","v":2.2727272727272728E-2},{"$f":"IF(P13=0,0,(P13*((LOG(P13))/LOG(2))))","v":-0.12407799133266585},null,null,{"$f":"N13","v":1221},{"$f":"COUNTIF(L7:L21,T13)","v":0},{"$f":"U13/(W4-U20)","v":0},{"$f":"IF(V13=0,0,(V13*((LOG(V13))/LOG(2))))","v":0},null,{"$f":"N13","v":1221},{"$f":"COUNTIF(L22:L35,Y13)","v":0},{"$f":"Z13/(AB4-Z20)","v":0},{"$f":"IF(AA13=0,0,(AA13*((LOG(AA13))/LOG(2))))","v":0},null,{"$f":"N13","v":1221},{"$f":"COUNTIF(L36:L50,AD13)","v":0},{"$f":"AE13/(AG4-AE20)","v":0},{"$f":"IF(AF13=0,0,(AF13*((LOG(AF13))/LOG(2))))","v":0},null,{"$f":"N13","v":1221},{"$f":"COUNTIF(L51:L65,AI13)","v":1},{"$f":"AJ13/(AL4-AJ20)","v":8.3333333333333329E-2},{"$f":"IF(AK13=0,0,(AK13*((LOG(AK13))/LOG(2))))","v":-0.29874687506009634},null,{"$f":"N13","v":1221},{"$f":"COUNTIF(L66:L79,AN13)","v":0},{"$f":"AO13/(AQ4-AO20)","v":0},{"$f":"IF(AP13=0,0,(AP13*((LOG(AP13))/LOG(2))))","v":0},null,{"$f":"N13","v":1221},{"$f":"COUNTIF(L80:L94,AS13)","v":1},{"$f":"AT13/(AV4-AT20)","v":9.0909090909090912E-2},{"$f":"IF(AU13=0,0,(AU13*((LOG(AU13))/LOG(2))))","v":-0.31449378351248153}]
[21,1120,12,1138,24,1165,14,1181,null,null,0,2121,null,1222,{"$f":"COUNTIF($L$7:$L$500,N14)","v":11},{"$f":"O14/$Q$4","v":0.125},{"$f":"IF(P14=0,0,(P14*((LOG(P14))/LOG(2))))","v":-0.375},null,null,{"$f":"N14","v":1222},{"$f":"COUNTIF(L7:L21,T14)","v":0},{"$f":"U14/(W4-U20)","v":0},{"$f":"IF(V14=0,0,(V14*((LOG(V14))/LOG(2))))","v":0},null,{"$f":"N14","v":1222},{"$f":"COUNTIF(L22:L35,Y14)","v":2},{"$f":"Z14/(AB4-Z20)","v":0.4},{"$f":"IF(AA14=0,0,(AA14*((LOG(AA14))/LOG(2))))","v":-0.52877123795494496},null,{"$f":"N14","v":1222},{"$f":"COUNTIF(L36:L50,AD14)","v":1},{"$f":"AE14/(AG4-AE20)","v":0.14285714285714285},{"$f":"IF(AF14=0,0,(AF14*((LOG(AF14))/LOG(2))))","v":-0.40105070315108626},null,{"$f":"N14","v":1222},{"$f":"COUNTIF(L51:L65,AI14)","v":3},{"$f":"AJ14/(AL4-AJ20)","v":0.25},{"$f":"IF(AK14=0,0,(AK14*((LOG(AK14))/LOG(2))))","v":-0.5},null,{"$f":"N14","v":1222},{"$f":"COUNTIF(L66:L79,AN14)","v":4},{"$f":"AO14/(AQ4-AO20)","v":0.5714285714285714},{"$f":"IF(AP14=0,0,(AP14*((LOG(AP14))/LOG(2))))","v":-0.46134566974720237},null,{"$f":"N14","v":1222},{"$f":"COUNTIF(L80:L94,AS14)","v":1},{"$f":"AT14/(AV4-AT20)","v":9.0909090909090912E-2},{"$f":"IF(AU14=0,0,(AU14*((LOG(AU14))/LOG(2))))","v":-0.31449378351248153}]
[21,1279,21,1284,11,1296,21,1315,null,null,0,2212,null,2111,{"$f":"COUNTIF($L$7:$L$500,N15)","v":0},{"$f":"O15/$Q$4","v":0},{"$f":"IF(P15=0,0,(P15*((LOG(P15))/LOG(2))))","v":0},null,null,{"$f":"N15","v":2111},{"$f":"COUNTIF(L7:L21,T15)","v":0},{"$f":"U15/(W4-U20)","v":0},{"$f":"IF(V15=0,0,(V15*((LOG(V15))/LOG(2))))","v":0},null,{"$f":"N15","v":2111},{"$f":"COUNTIF(L22:L35,Y15)","v":0},{"$f":"Z15/(AB4-Z20)","v":0},{"$f":"IF(AA15=0,0,(AA15*((LOG(AA15))/LOG(2))))","v":0},null,{"$f":"N15","v":2111},{"$f":"COUNTIF(L36:L50,AD15)","v":0},{"$f":"AE15/(AG4-AE20)","v":0},{"$f":"IF(AF15=0,0,(AF15*((LOG(AF15))/LOG(2))))","v":0},null,{"$f":"N15","v":2111},{"$f":"COUNTIF(L51:L65,AI15)","v":0},{"$f":"AJ15/(AL4-AJ20)","v":0},{"$f":"IF(AK15=0,0,(AK15*((LOG(AK15))/LOG(2))))","v":0},null,{"$f":"N15","v":2111},{"$f":"COUNTIF(L66:L79,AN15)","v":0},{"$f":"AO15/(AQ4-AO20)","v":0},{"$f":"IF(AP15=0,0,(AP15*((LOG(AP15))/LOG(2))))","v":0},null,{"$f":"N15","v":2111},{"$f":"COUNTIF(L80:L94,AS15)","v":0},{"$f":"AT15/(AV4-AT20)","v":0},{"$f":"IF(AU15=0,0,(AU15*((LOG(AU15))/LOG(2))))","v":0}]
[21,1403,21,1410,11,1422,21,1447,null,null,0,2212,null,2112,{"$f":"COUNTIF($L$7:$L$500,N16)","v":1},{"$f":"O16/$Q$4","v":1.1363636363636364E-2},{"$f":"IF(P16=0,0,(P16*((LOG(P16))/LOG(2))))","v":-7.3402632029969286E-2},null,null,{"$f":"N16","v":2112},{"$f":"COUNTIF(L7:L21,T16)","v":0},{"$f":"U16/(W4-U20)","v":0},{"$f":"IF(V16=0,0,(V16*((LOG(V16))/LOG(2))))","v":0},null,{"$f":"N16","v":2112},{"$f":"COUNTIF(L22:L35,Y16)","v":0},{"$f":"Z16/(AB4-Z20)","v":0},{"$f":"IF(AA16=0,0,(AA16*((LOG(AA16))/LOG(2))))","v":0},null,{"$f":"N16","v":2112},{"$f":"COUNTIF(L36:L50,AD16)","v":0},{"$f":"AE16/(AG4-AE20)","v":0},{"$f":"IF(AF16=0,0,(AF16*((LOG(AF16))/LOG(2))))","v":0},null,{"$f":"N16","v":2112},{"$f":"COUNTIF(L51:L65,AI16)","v":1},{"$f":"AJ16/(AL4-AJ20)","v":8.3333333333333329E-2},{"$f":"IF(AK16=0,0,(AK16*((LOG(AK16))/LOG(2))))","v":-0.29874687506009634},null,{"$f":"N16","v":2112},{"$f":"COUNTIF(L66:L79,AN16)","v":0},{"$f":"AO16/(AQ4-AO20)","v":0},{"$f":"IF(AP16=0,0,(AP16*((LOG(AP16))/LOG(2))))","v":0},null,{"$f":"N16","v":2112},{"$f":"COUNTIF(L80:L94,AS16)","v":0},{"$f":"AT16/(AV4-AT20)","v":0},{"$f":"IF(AU16=0,0,(AU16*((LOG(AU16))/LOG(2))))","v":0}]
[21,1534,21,1541,11,1553,21,1581,null,null,0,2212,null,2121,{"$f":"COUNTIF($L$7:$L$500,N17)","v":4},{"$f":"O17/$Q$4","v":4.5454545454545456E-2},{"$f":"IF(P17=0,0,(P17*((LOG(P17))/LOG(2))))","v":-0.20270143721078623},null,null,{"$f":"N17","v":2121},{"$f":"COUNTIF(L7:L21,T17)","v":2},{"$f":"U17/(W4-U20)","v":0.33333333333333331},{"$f":"IF(V17=0,0,(V17*((LOG(V17))/LOG(2))))","v":-0.52832083357371862},null,{"$f":"N17","v":2121},{"$f":"COUNTIF(L22:L35,Y17)","v":0},{"$f":"Z17/(AB4-Z20)","v":0},{"$f":"IF(AA17=0,0,(AA17*((LOG(AA17))/LOG(2))))","v":0},null,{"$f":"N17","v":2121},{"$f":"COUNTIF(L36:L50,AD17)","v":0},{"$f":"AE17/(AG4-AE20)","v":0},{"$f":"IF(AF17=0,0,(AF17*((LOG(AF17))/LOG(2))))","v":0},null,{"$f":"N17","v":2121},{"$f":"COUNTIF(L51:L65,AI17)","v":1},{"$f":"AJ17/(AL4-AJ20)","v":8.3333333333333329E-2},{"$f":"IF(AK17=0,0,(AK17*((LOG(AK17))/LOG(2))))","v":-0.29874687506009634},null,{"$f":"N17","v":2121},{"$f":"COUNTIF(L66:L79,AN17)","v":0},{"$f":"AO17/(AQ4-AO20)","v":0},{"$f":"IF(AP17=0,0,(AP17*((LOG(AP17))/LOG(2))))","v":0},null,{"$f":"N17","v":2121},{"$f":"COUNTIF(L80:L94,AS17)","v":1},{"$f":"AT17/(AV4-AT20)","v":9.0909090909090912E-2},{"$f":"IF(AU17=0,0,(AU17*((LOG(AU17))/LOG(2))))","v":-0.31449378351248153}]
[21,1669,21,1674,11,1686,21,1695,null,null,0,2212,null,2122,{"$f":"COUNTIF($L$7:$L$500,N18)","v":21},{"$f":"O18/$Q$4","v":0.23863636363636365},{"$f":"IF(P18=0,0,(P18*((LOG(P18))/LOG(2))))","v":-0.49328861492078729},null,null,{"$f":"N18","v":2122},{"$f":"COUNTIF(L7:L21,T18)","v":2},{"$f":"U18/(W4-U20)","v":0.33333333333333331},{"$f":"IF(V18=0,0,(V18*((LOG(V18))/LOG(2))))","v":-0.52832083357371862},null,{"$f":"N18","v":2122},{"$f":"COUNTIF(L22:L35,Y18)","v":2},{"$f":"Z18/(AB4-Z20)","v":0.4},{"$f":"IF(AA18=0,0,(AA18*((LOG(AA18))/LOG(2))))","v":-0.52877123795494496},null,{"$f":"N18","v":2122},{"$f":"COUNTIF(L36:L50,AD18)","v":4},{"$f":"AE18/(AG4-AE20)","v":0.5714285714285714},{"$f":"IF(AF18=0,0,(AF18*((LOG(AF18))/LOG(2))))","v":-0.46134566974720237},null,{"$f":"N18","v":2122},{"$f":"COUNTIF(L51:L65,AI18)","v":5},{"$f":"AJ18/(AL4-AJ20)","v":0.41666666666666669},{"$f":"IF(AK18=0,0,(AK18*((LOG(AK18))/LOG(2))))","v":-0.52626433576408083},null,{"$f":"N18","v":2122},{"$f":"COUNTIF(L66:L79,AN18)","v":1},{"$f":"AO18/(AQ4-AO20)","v":0.14285714285714285},{"$f":"IF(AP18=0,0,(AP18*((LOG(AP18))/LOG(2))))","v":-0.40105070315108626},null,{"$f":"N18","v":2122},{"$f":"COUNTIF(L80:L94,AS18)","v":7},{"$f":"AT18/(AV4-AT20)","v":0.63636363636363635},{"$f":"IF(AU18=0,0,(AU18*((LOG(AU18))/LOG(2))))","v":-0.41495789782344106}]
[21,1783,21,1787,11,1799,21,1807,null,null,0,2212,null,2211,{"$f":"COUNTIF($L$7:$L$500,N19)","v":2},{"$f":"O19/$Q$4","v":2.2727272727272728E-2},{"$f":"IF(P19=0,0,(P19*((LOG(P19))/LOG(2))))","v":-0.12407799133266585},null,null,{"$f":"N19","v":2211},{"$f":"COUNTIF(L7:L21,T19)","v":1},{"$f":"U19/(W4-U20)","v":0.16666666666666666},{"$f":"IF(V19=0,0,(V19*((LOG(V19))/LOG(2))))","v":-0.43082708345352599},null,{"$f":"N19","v":2211},{"$f":"COUNTIF(L22:L35,Y19)","v":0},{"$f":"Z19/(AB4-Z20)","v":0},{"$f":"IF(AA19=0,0,(AA19*((LOG(AA19))/LOG(2))))","v":0},null,{"$f":"N19","v":2211},{"$f":"COUNTIF(L36:L50,AD19)","v":0},{"$f":"AE19/(AG4-AE20)","v":0},{"$f":"IF(AF19=0,0,(AF19*((LOG(AF19))/LOG(2))))","v":0},null,{"$f":"N19","v":2211},{"$f":"COUNTIF(L51:L65,AI19)","v":0},{"$f":"AJ19/(AL4-AJ20)","v":0},{"$f":"IF(AK19=0,0,(AK19*((LOG(AK19))/LOG(2))))","v":0},null,{"$f":"N19","v":2211},{"$f":"COUNTIF(L66:L79,AN19)","v":0},{"$f":"AO19/(AQ4-AO20)","v":0},{"$f":"IF(AP19=0,0,(AP19*((LOG(AP19))/LOG(2))))","v":0},null,{"$f":"N19","v":2211},{"$f":"COUNTIF(L80:L94,AS19)","v":1},{"$f":"AT19/(AV4-AT20)","v":9.0909090909090912E-2},{"$f":"IF(AU19=0,0,(AU19*((LOG(AU19))/LOG(2))))","v":-0.31449378351248153}]
[21,1895,21,1899,11,1911,21,1919,null,null,0,2212,null,2212,{"$f":"COUNTIF($L$7:$L$500,N20)","v":40},{"$f":"O20/$Q$4","v":0.45454545454545453},{"$f":"IF(P20=0,0,(P20*((LOG(P20))/LOG(2))))","v":-0.51704705624997038},null,null,{"$f":"N20","v":2212},{"$f":"COUNTIF(L7:L21,T20)","v":9},null,null,null,{"$f":"N20","v":2212},{"$f":"COUNTIF(L22:L35,Y20)","v":9},null,null,null,{"$f":"N20","v":2212},{"$f":"COUNTIF(L36:L50,AD20)","v":8},null,null,null,{"$f":"N20","v":2212},{"$f":"COUNTIF(L51:L65,AI20)","v":3},null,null,null,{"$f":"N20","v":2212},{"$f":"COUNTIF(L66:L79,AN20)","v":7},null,null,null,{"$f":"N20","v":2212},{"$f":"COUNTIF(L80:L94,AS20)","v":4}]
[21,2011,12,2020,24,2029,23,2045,null,null,0,2122,null,2221,{"$f":"COUNTIF($L$7:$L$500,N21)","v":1},{"$f":"O21/$Q$4","v":1.1363636363636364E-2},{"$f":"IF(P21=0,0,(P21*((LOG(P21))/LOG(2))))","v":-7.3402632029969286E-2},null,null,{"$f":"N21","v":2221},{"$f":"COUNTIF(L7:L21,T21)","v":0},{"$f":"U21/(W4-U20)","v":0},{"$f":"IF(V21=0,0,(V21*((LOG(V21))/LOG(2))))","v":0},null,{"$f":"N21","v":2221},{"$f":"COUNTIF(L22:L35,Y21)","v":1},{"$f":"Z21/(AB4-Z20)","v":0.2},{"$f":"IF(AA21=0,0,(AA21*((LOG(AA21))/LOG(2))))","v":-0.46438561897747244},null,{"$f":"N21","v":2221},{"$f":"COUNTIF(L36:L50,AD21)","v":0},{"$f":"AE21/(AG4-AE20)","v":0},{"$f":"IF(AF21=0,0,(AF21*((LOG(AF21))/LOG(2))))","v":0},null,{"$f":"N21","v":2221},{"$f":"COUNTIF(L51:L65,AI21)","v":0},{"$f":"AJ21/(AL4-AJ20)","v":0},{"$f":"IF(AK21=0,0,(AK21*((LOG(AK21))/LOG(2))))","v":0},null,{"$f":"N21","v":2221},{"$f":"COUNTIF(L66:L79,AN21)","v":0},{"$f":"AO21/(AQ4-AO20)","v":0},{"$f":"IF(AP21=0,0,(AP21*((LOG(AP21))/LOG(2))))","v":0},null,{"$f":"N21","v":2221},{"$f":"COUNTIF(L80:L94,AS21)","v":0},{"$f":"AT21/(AV4-AT20)","v":0},{"$f":"IF(AU21=0,0,(AU21*((LOG(AU21))/LOG(2))))","v":0}]
[21,2147,21,2153,11,2164,21,2172,null,null,0,2212,null,2222,{"$f":"COUNTIF($L$7:$L$500,N22)","v":3},{"$f":"O22/$Q$4","v":3.4090909090909088E-2},{"$f":"IF(P22=0,0,(P22*((LOG(P22))/LOG(2))))","v":-0.16617508356532298},null,null,{"$f":"N22","v":2222},{"$f":"COUNTIF(L7:L21,T22)","v":0},{"$f":"U22/(W4-U20)","v":0},{"$f":"IF(V22=0,0,(V22*((LOG(V22))/LOG(2))))","v":0},null,{"$f":"N22","v":2222},{"$f":"COUNTIF(L22:L35,Y22)","v":0},{"$f":"Z22/(AB4-Z20)","v":0},{"$f":"IF(AA22=0,0,(AA22*((LOG(AA22))/LOG(2))))","v":0},null,{"$f":"N22","v":2222},{"$f":"COUNTIF(L36:L50,AD22)","v":1},{"$f":"AE22/(AG4-AE20)","v":0.14285714285714285},{"$f":"IF(AF22=0,0,(AF22*((LOG(AF22))/LOG(2))))","v":-0.40105070315108626},null,{"$f":"N22","v":2222},{"$f":"COUNTIF(L51:L65,AI22)","v":0},{"$f":"AJ22/(AL4-AJ20)","v":0},{"$f":"IF(AK22=0,0,(AK22*((LOG(AK22))/LOG(2))))","v":0},null,{"$f":"N22","v":2222},{"$f":"COUNTIF(L66:L79,AN22)","v":2},{"$f":"AO22/(AQ4-AO20)","v":0.2857142857142857},{"$f":"IF(AP22=0,0,(AP22*((LOG(AP22))/LOG(2))))","v":-0.51638712058788683},null,{"$f":"N22","v":2222},{"$f":"COUNTIF(L80:L94,AS22)","v":0},{"$f":"AT22/(AV4-AT20)","v":0},{"$f":"IF(AU22=0,0,(AU22*((LOG(AU22))/LOG(2))))","v":0}]
[21,2262,21,2267,11,2276,21,2334,null,null,0,2212,null,null,null,{"$f":"SUM(P7:P22)","v":1},{"$f":"-SUM(Q7:Q22)","v":2.3466540620347729},null,null,null,null,{"$f":"SUM(V7:V22)","v":0.99999999999999989},{"$f":"-SUM(W7:W22)","v":1.9182958340544891},null,null,null,{"$f":"SUM(AA7:AA22)","v":1},{"$f":"-SUM(AB7:AB22)","v":1.5219280948873624},null,null,null,{"$f":"SUM(AF7:AF22)","v":1},{"$f":"-SUM(AG7:AG22)","v":1.6644977792004614},null,null,null,{"$f":"SUM(AK7:AK22)","v":1},{"$f":"-SUM(AL7:AL22)","v":2.2212518360044662},null,null,null,{"$f":"SUM(AP7:AP22)","v":0.99999999999999989},{"$f":"-SUM(AQ7:AQ22)","v":1.3787834934861753},null,null,null,{"$f":"SUM(AU7:AU22)","v":1},{"$f":"-SUM(AV7:AV22)","v":1.6729330318733673}]
[21,2421,21,2425,11,2437,21,2486,null,null,0,2212,null,null,null,"U=",{"$f":"Q23/(LOG(Q4)/LOG(2))","v":0.3632911068001724},null,null,null,null,"U1=",{"$f":"W23/(LOG(W4)/LOG(2))","v":0.49100321268548458},null,null,null,"U2=",{"$f":"AB23/(LOG(AB4)/LOG(2))","v":0.39973370648220757},null,null,null,"U3=",{"$f":"AG23/(LOG(AG4)/LOG(2))","v":0.42604156386447445},null,null,null,"U4=",{"$f":"AL23/(LOG(AL4)/LOG(2))","v":0.56854723254887929},null,null,null,"U5=",{"$f":"AQ23/(LOG(AQ4)/LOG(2))","v":0.36213684348110137},null,null,null,"U6=",{"$f":"AV23/(LOG(AV4)/LOG(2))","v":0.4282006344774032}]
[12,2593,23,2609,24,2618,23,2629,null,null,0,1222]
[21,2727,21,2735,11,2744,21,2754,null,null,0,2212]
[21,2841,21,2846,11,2855,21,2864,null,null,0,2212,null,"Total Target Seq"]
[21,2952,21,2957,11,2972,21,2988,null,null,0,2212,null,{"$f":"COUNTIF(L7:L94,G3)","v":40},null,15,14,15,15,14,15]
[21,3078,21,3097,22,3105,14,3116,null,null,0,2221,null,null,null,"% of reinforcement given in 6 equal intervals based on number of trials "]
[12,3230,23,3239,24,3247,23,3256,null,null,0,1222,null,null,null,"%_1","%_2","%_3","%_4","%_5","%_6"]
[21,3355,21,3360,11,3370,21,3380,null,null,0,2212,null,null,"target sequence",{"$f":"$G$3","v":2212},{"$f":"$G$3","v":2212},{"$f":"$G$3","v":2212},{"$f":"$G$3","v":2212},{"$f":"$G$3","v":2212},{"$f":"$G$3","v":2212}]
[21,3477,12,3487,24,3495,23,3503,null,null,0,2122,null,null,"total reinforcement",{"$f":"U20","v":9},{"$f":"Z20","v":9},{"$f":"AE20","v":8},{"$f":"AJ20","v":3},{"$f":"AO20","v":7},{"$f":"AT20","v":4}]
[21,3605,21,3610,11,3622,21,3631,null,null,0,2212,null,null,"% target"]
[21,3718,21,3723,11,3734,21,3743,null,null,0,2212,null,null,"CCRF"]
[21,3845,12,3857,24,3933,23,3941,null,null,0,2122,null,null,"% CCRf"]
[21,4048,21,4055,11,4067,21,4075,null,null,0,2212,null,null,"average response rate",{"$f":"H21/P28","v":136.33333333333334},{"$f":"(H35-H21)/Q28","v":135.42857142857142},{"$f":"(H50-H35)/R28","v":128.86666666666667},{"$f":"(H65-H50)/S28","v":134.66666666666666},{"$f":"(H79-H65)/T28","v":140},{"$f":"(H94-H79)/U28","v":143.4}]
[21,4165,12,4184,24,4197,23,4258,null,null,0,2122]
[21,4365,12,4374,24,4392,23,4410,null,null,0,2122]
[21,4512,12,4520,24,4529,23,4547,null,null,0,2122]
[21,4646,21,4650,11,4660,21,4668,null,null,0,2212]
[21,4755,21,4759,11,4767,21,4776,null,null,0,2212]
[21,4863,21,4868,11,4877,21,4886,null,null,0,2212]
[21,4973,21,4979,11,4989,21,4998,null,null,0,2212]
[21,5085,21,5092,11,5100,21,5126,null,null,0,2212]
[21,5212,21,5217,11,5225,21,5233,null,null,0,2212]
[21,5321,21,5326,22,5345,23,5353,null,null,0,2222]
[21,5455,12,5467,24,5475,23,5484,null,null,0,2122]
[12,5582,23,5592,13,5600,23,5609,null,null,0,1212]
[21,5714,21,5720,11,5729,21,5738,null,null,0,2212]
[12,5839,23,5847,24,5864,23,5874,null,null,0,1222]
[21,5972,21,5980,11,5992,21,6000,null,null,0,2212]
[21,6087,21,6092,11,6101,21,6109,null,null,0,2212]
[21,6197,12,6208,24,6218,23,6236,null,null,0,2122]
[12,6337,23,6343,13,6355,23,6364,null,null,0,1212]
[21,6473,12,6481,24,6489,23,6497,null,null,0,2122]
[12,6609,23,6618,24,6626,14,6637,null,null,0,1221]
[12,6741,23,6750,24,6776,23,6784,null,null,0,1222]
[12,6886,23,6895,24,6932,23,6940,null,null,0,1222]
[21,7043,12,7054,24,7062,23,7075,null,null,0,2122]
[21,7174,21,7181,11,7192,21,7207,null,null,0,2212]
[21,7298,12,7308,24,7317,23,7333,null,null,0,2122]
[21,7436,12,7447,13,7472,23,7481,null,null,0,2112]
[12,7602,23,7611,24,7619,23,7626,null,null,0,1222]
[21,7725,12,7732,24,7742,14,7760,null,null,0,2121]
[21,7862,12,7877,24,7885,23,7894,null,null,0,2122]
[21,8000,21,8007,11,8018,21,8027,null,null,0,2212]
[21,8119,21,8137,22,8181,23,8189,null,null,0,2222]
[12,8302,23,8310,24,8330,23,8373,null,null,0,1222]
[12,8502,23,8542,24,8555,23,8566,null,null,0,1222]
[12,8681,23,8690,24,8706,23,8724,null,null,0,1222]
[21,8824,12,8840,24,8849,23,8866,null,null,0,2122]
[12,8984,23,9005,24,9012,23,9025,null,null,0,1222]
[21,9126,21,9134,11,9142,21,9150,null,null,0,2212]
[21,9240,21,9248,11,9256,21,9264,null,null,0,2212]
[21,9355,21,9373,22,9381,23,9399,null,null,0,2222]
[21,9499,21,9504,11,9515,21,9523,null,null,0,2212]
[21,9610,21,9617,11,9625,21,9633,null,null,0,2212]
[21,9720,21,9724,11,9735,21,9743,null,null,0,2212]
[21,9831,21,9835,11,9845,21,9854,null,null,0,2212]
[12,9956,23,9965,24,9980,23,10002,null,null,0,1222]
[21,10104,12,10118,24,10140,23,10149,null,null,0,2122]
[12,10258,23,10268,24,10276,14,10302,null,null,0,1221]
[21,10403,12,10414,24,10424,23,10431,null,null,0,2122]
[21,10533,12,10543,24,10552,23,10559,null,null,0,2122]
[21,10663,21,10671,11,10682,21,10691,null,null,0,2212]
[21,10779,12,10787,24,10796,23,10811,null,null,0,2122]
[21,10910,21,10914,11,10925,21,10934,null,null,0,2212]
[21,11026,12,11044,24,11098,14,11141,null,null,0,2121]
[21,11241,21,11248,11,11255,12,11289,null,null,0,2211]
[21,11387,21,11391,11,11401,21,11409,null,null,0,2212]
[21,11497,12,11512,24,11540,23,11552,null,null,0,2122]
[21,11655,12,11666,24,11709,23,11719,null,null,0,2122]
[21,11822,12,11831,24,11840,23,11868,null,null,0,2122]
[21,11968,21,11973,11,11984,21,12005,null,null,1,2212]

{"sheet":"!MB30940.091","index":25,"n_rows":72,"n_cols":48,"rows_kept":72,"cut":false,"hidden":false,"merged":[[4,39,4,42],[5,39,5,40],[4,44,4,47],[5,44,5,45],[4,24,4,27],[5,24,5,25],[4,29,4,32],[5,29,5,30],[4,34,4,37],[5,34,5,35],[1,1,1,2],[5,13,5,14],[26,13,26,14],[27,13,27,14],[4,19,4,22],[5,19,5,20]]}
["Report for:!MB30940.091"]
["Date:","<date>"]
["Hen:","<hen>",null,null,null,"Correct Sequence",{"$f":"Start!J2","v":2212},null,null,null,null,null,null,null,null,"Total Sequences in Data",{"$f":"4994-COUNTBLANK(L7:L5000)","v":66},null,null,null,null,"Total Sequences in Block Data",{"$f":"COUNTA(L7:L17)","v":11},null,null,null,"Total Sequences in Block Data",{"$f":"COUNTA(L18:L28)","v":11},null,null,null,"Total Sequences in Block Data",{"$f":"COUNTA(L29:L39)","v":11},null,null,null,"Total Sequences in Block Data",{"$f":"COUNTA(L40:L50)","v":11},null,null,null,"Total Sequences in Block Data",{"$f":"COUNTA(L51:L61)","v":11},null,null,null,"Total Sequences in Block Data",{"$f":"COUNTA(L62:L72)","v":11}]
[null,null,null,null,null,null,null,null,null,null,null,null,null,null,null,"Total Sequences in Summary",{"$f":"SUM(O7:O22)","v":66},null,null,null,null,"Total Sequences in Block Summary",{"$f":"SUM(U7:U22)","v":11},null,null,null,"Total Sequences in Block Summary",{"$f":"SUM(Z7:Z22)","v":11},null,null,null,"Total Sequences in Block Summary",{"$f":"SUM(AE7:AE22)","v":11},null,null,null,"Total Sequences in Block Summary",{"$f":"SUM(AJ7:AJ22)","v":11},null,null,null,"Total Sequences in Block Summary",{"$f":"SUM(AO7:AO22)","v":11},null,null,null,"Total Sequences in Block Summary",{"$f":"SUM(AT7:AT22)","v":11}]
[null,null,null,null,null,null,null,null,null,null,null,null,null,null,null,null,null,null,null,"Block 1",null,null,null,null,"Block 2",null,null,null,null,"Block 3",null,null,null,null,"Block 4",null,null,null,null,"Block 5",null,null,null,null,"Block 6"]
["Sequence\nComponent\n1","Time\n1","Sequence\nComponent\n2","Time\n2","Sequence\nComponent\n3","Time\n3","Sequence\nComponent\n4","Time\n4","Sequence\nComponent\n5","Time\n5","Correct?\n0=No 1=Yes","Sequence",null,"Frequency",null,"Relative Frequency","Variability",null,null,"Frequency",null,"Relative Frequency","Variability",null,"Frequency",null,"Relative Frequency","Variability",null,"Frequency",null,"Relative Frequency","Variability",null,"Frequency",null,"Relative Frequency","Variability",null,"Frequency",null,"Relative Frequency","Variability",null,"Frequency",null,"Relative Frequency","Variability"]
[21,18,12,27,24,36,23,49,null,null,0,2122,null,1111,{"$f":"COUNTIF($L$7:$L$500,N7)","v":0},{"$f":"O7/$Q$4","v":0},{"$f":"IF(P7=0,0,(P7*((LOG(P7))/LOG(2))))","v":0},null,null,{"$f":"N7","v":1111},{"$f":"COUNTIF(L7:L17,T7)","v":0},{"$f":"U7/(W4-U20)","v":0},{"$f":"IF(V7=0,0,(V7*((LOG(V7))/LOG(2))))","v":0},null,{"$f":"N7","v":1111},{"$f":"COUNTIF(L18:L28,Y7)","v":0},{"$f":"Z7/(AB4-Z20)","v":0},{"$f":"IF(AA7=0,0,(AA7*((LOG(AA7))/LOG(2))))","v":0},null,{"$f":"N7","v":1111},{"$f":"COUNTIF(L29:L39,AD7)","v":0},{"$f":"AE7/(AG4-AE20)","v":0},{"$f":"IF(AF7=0,0,(AF7*((LOG(AF7))/LOG(2))))","v":0},null,{"$f":"N7","v":1111},{"$f":"COUNTIF(L40:L50,AI7)","v":0},{"$f":"AJ7/(AL4-AJ20)","v":0},{"$f":"IF(AK7=0,0,(AK7*((LOG(AK7))/LOG(2))))","v":0},null,{"$f":"N7","v":1111},{"$f":"COUNTIF(L51:L61,AN7)","v":0},{"$f":"AO7/(AQ4-AO20)","v":0},{"$f":"IF(AP7=0,0,(AP7*((LOG(AP7))/LOG(2))))","v":0},null,{"$f":"N7","v":1111},{"$f":"COUNTIF(L62:L72,AS7)","v":0},{"$f":"AT7/(AV4-AT20)","v":0},{"$f":"IF(AU7=0,0,(AU7*((LOG(AU7))/LOG(2))))","v":0}]
[21,149,21,155,11,166,21,174,null,null,0,2212,null,1112,{"$f":"COUNTIF($L$7:$L$500,N8)","v":0},{"$f":"O8/$Q$4","v":0},{"$f":"IF(P8=0,0,(P8*((LOG(P8))/LOG(2))))","v":0},null,null,{"$f":"N8","v":1112},{"$f":"COUNTIF(L7:L17,T8)","v":0},{"$f":"U8/(W4-U20)","v":0},{"$f":"IF(V8=0,0,(V8*((LOG(V8))/LOG(2))))","v":0},null,{"$f":"N8","v":1112},{"$f":"COUNTIF(L18:L28,Y8)","v":0},{"$f":"Z8/(AB4-Z20)","v":0},{"$f":"IF(AA8=0,0,(AA8*((LOG(AA8))/LOG(2))))","v":0},null,{"$f":"N8","v":1112},{"$f":"COUNTIF(L29:L39,AD8)","v":0},{"$f":"AE8/(AG4-AE20)","v":0},{"$f":"IF(AF8=0,0,(AF8*((LOG(AF8))/LOG(2))))","v":0},null,{"$f":"N8","v":1112},{"$f":"COUNTIF(L40:L50,AI8)","v":0},{"$f":"AJ8/(AL4-AJ20)","v":0},{"$f":"IF(AK8=0,0,(AK8*((LOG(AK8))/LOG(2))))","v":0},null,{"$f":"N8","v":1112},{"$f":"COUNTIF(L51:L61,AN8)","v":0},{"$f":"AO8/(AQ4-AO20)","v":0},{"$f":"IF(AP8=0,0,(AP8*((LOG(AP8))/LOG(2))))","v":0},null,{"$f":"N8","v":1112},{"$f":"COUNTIF(L62:L72,AS8)","v":0},{"$f":"AT8/(AV4-AT20)","v":0},{"$f":"IF(AU8=0,0,(AU8*((LOG(AU8))/LOG(2))))","v":0}]
[21,262,21,285,11,301,21,327,null,null,0,2212,null,1121,{"$f":"COUNTIF($L$7:$L$500,N9)","v":0},{"$f":"O9/$Q$4","v":0},{"$f":"IF(P9=0,0,(P9*((LOG(P9))/LOG(2))))","v":0},null,null,{"$f":"N9","v":1121},{"$f":"COUNTIF(L7:L17,T9)","v":0},{"$f":"U9/(W4-U20)","v":0},{"$f":"IF(V9=0,0,(V9*((LOG(V9))/LOG(2))))","v":0},null,{"$f":"N9","v":1121},{"$f":"COUNTIF(L18:L28,Y9)","v":0},{"$f":"Z9/(AB4-Z20)","v":0},{"$f":"IF(AA9=0,0,(AA9*((LOG(AA9))/LOG(2))))","v":0},null,{"$f":"N9","v":1121},{"$f":"COUNTIF(L29:L39,AD9)","v":0},{"$f":"AE9/(AG4-AE20)","v":0},{"$f":"IF(AF9=0,0,(AF9*((LOG(AF9))/LOG(2))))","v":0},null,{"$f":"N9","v":1121},{"$f":"COUNTIF(L40:L50,AI9)","v":0},{"$f":"AJ9/(AL4-AJ20)","v":0},{"$f":"IF(AK9=0,0,(AK9*((LOG(AK9))/LOG(2))))","v":0},null,{"$f":"N9","v":1121},{"$f":"COUNTIF(L51:L61,AN9)","v":0},{"$f":"AO9/(AQ4-AO20)","v":0},{"$f":"IF(AP9=0,0,(AP9*((LOG(AP9))/LOG(2))))","v":0},null,{"$f":"N9","v":1121},{"$f":"COUNTIF(L62:L72,AS9)","v":0},{"$f":"AT9/(AV4-AT20)","v":0},{"$f":"IF(AU9=0,0,(AU9*((LOG(AU9))/LOG(2))))","v":0}]
[21,417,21,430,11,441,21,459,null,null,0,2212,null,1122,{"$f":"COUNTIF($L$7:$L$500,N10)","v":0},{"$f":"O10/$Q$4","v":0},{"$f":"IF(P10=0,0,(P10*((LOG(P10))/LOG(2))))","v":0},null,null,{"$f":"N10","v":1122},{"$f":"COUNTIF(L7:L17,T10)","v":0},{"$f":"U10/(W4-U20)","v":0},{"$f":"IF(V10=0,0,(V10*((LOG(V10))/LOG(2))))","v":0},null,{"$f":"N10","v":1122},{"$f":"COUNTIF(L18:L28,Y10)","v":0},{"$f":"Z10/(AB4-Z20)","v":0},{"$f":"IF(AA10=0,0,(AA10*((LOG(AA10))/LOG(2))))","v":0},null,{"$f":"N10","v":1122},{"$f":"COUNTIF(L29:L39,AD10)","v":0},{"$f":"AE10/(AG4-AE20)","v":0},{"$f":"IF(AF10=0,0,(AF10*((LOG(AF10))/LOG(2))))","v":0},null,{"$f":"N10","v":1122},{"$f":"COUNTIF(L40:L50,AI10)","v":0},{"$f":"AJ10/(AL4-AJ20)","v":0},{"$f":"IF(AK10=0,0,(AK10*((LOG(AK10))/LOG(2))))","v":0},null,{"$f":"N10","v":1122},{"$f":"COUNTIF(L51:L61,AN10)","v":0},{"$f":"AO10/(AQ4-AO20)","v":0},{"$f":"IF(AP10=0,0,(AP10*((LOG(AP10))/LOG(2))))","v":0},null,{"$f":"N10","v":1122},{"$f":"COUNTIF(L62:L72,AS10)","v":0},{"$f":"AT10/(AV4-AT20)","v":0},{"$f":"IF(AU10=0,0,(AU10*((LOG(AU10))/LOG(2))))","v":0}]
[21,550,21,557,11,567,21,575,null,null,0,2212,null,1211,{"$f":"COUNTIF($L$7:$L$500,N11)","v":0},{"$f":"O11/$Q$4","v":0},{"$f":"IF(P11=0,0,(P11*((LOG(P11))/LOG(2))))","v":0},null,null,{"$f":"N11","v":1211},{"$f":"COUNTIF(L7:L17,T11)","v":0},{"$f":"U11/(W4-U20)","v":0},{"$f":"IF(V11=0,0,(V11*((LOG(V11))/LOG(2))))","v":0},null,{"$f":"N11","v":1211},{"$f":"COUNTIF(L18:L28,Y11)","v":0},{"$f":"Z11/(AB4-Z20)","v":0},{"$f":"IF(AA11=0,0,(AA11*((LOG(AA11))/LOG(2))))","v":0},null,{"$f":"N11","v":1211},{"$f":"COUNTIF(L29:L39,AD11)","v":0},{"$f":"AE11/(AG4-AE20)","v":0},{"$f":"IF(AF11=0,0,(AF11*((LOG(AF11))/LOG(2))))","v":0},null,{"$f":"N11","v":1211},{"$f":"COUNTIF(L40:L50,AI11)","v":0},{"$f":"AJ11/(AL4-AJ20)","v":0},{"$f":"IF(AK11=0,0,(AK11*((LOG(AK11))/LOG(2))))","v":0},null,{"$f":"N11","v":1211},{"$f":"COUNTIF(L51:L61,AN11)","v":0},{"$f":"AO11/(AQ4-AO20)","v":0},{"$f":"IF(AP11=0,0,(AP11*((LOG(AP11))/LOG(2))))","v":0},null,{"$f":"N11","v":1211},{"$f":"COUNTIF(L62:L72,AS11)","v":0},{"$f":"AT11/(AV4-AT20)","v":0},{"$f":"IF(AU11=0,0,(AU11*((LOG(AU11))/LOG(2))))","v":0}]
[21,666,12,682,24,721,23,729,null,null,0,2122,null,1212,{"$f":"COUNTIF($L$7:$L$500,N12)","v":0},{"$f":"O12/$Q$4","v":0},{"$f":"IF(P12=0,0,(P12*((LOG(P12))/LOG(2))))","v":0},null,null,{"$f":"N12","v":1212},{"$f":"COUNTIF(L7:L17,T12)","v":0},{"$f":"U12/(W4-U20)","v":0},{"$f":"IF(V12=0,0,(V12*((LOG(V12))/LOG(2))))","v":0},null,{"$f":"N12","v":1212},{"$f":"COUNTIF(L18:L28,Y12)","v":0},{"$f":"Z12/(AB4-Z20)","v":0},{"$f":"IF(AA12=0,0,(AA12*((LOG(AA12))/LOG(2))))","v":0},null,{"$f":"N12","v":1212},{"$f":"COUNTIF(L29:L39,AD12)","v":0},{"$f":"AE12/(AG4-AE20)","v":0},{"$f":"IF(AF12=0,0,(AF12*((LOG(AF12))/LOG(2))))","v":0},null,{"$f":"N12","v":1212},{"$f":"COUNTIF(L40:L50,AI12)","v":0},{"$f":"AJ12/(AL4-AJ20)","v":0},{"$f":"IF(AK12=0,0,(AK12*((LOG(AK12))/LOG(2))))","v":0},null,{"$f":"N12","v":1212},{"$f":"COUNTIF(L51:L61,AN12)","v":0},{"$f":"AO12/(AQ4-AO20)","v":0},{"$f":"IF(AP12=0,0,(AP12*((LOG(AP12))/LOG(2))))","v":0},null,{"$f":"N12","v":1212},{"$f":"COUNTIF(L62:L72,AS12)","v":0},{"$f":"AT12/(AV4-AT20)","v":0},{"$f":"IF(AU12=0,0,(AU12*((LOG(AU12))/LOG(2))))","v":0}]
[21,834,21,841,11,849,21,857,null,null,0,2212,null,1221,{"$f":"COUNTIF($L$7:$L$500,N13)","v":0},{"$f":"O13/$Q$4","v":0},{"$f":"IF(P13=0,0,(P13*((LOG(P13))/LOG(2))))","v":0},null,null,{"$f":"N13","v":1221},{"$f":"COUNTIF(L7:L17,T13)","v":0},{"$f":"U13/(W4-U20)","v":0},{"$f":"IF(V13=0,0,(V13*((LOG(V13))/LOG(2))))","v":0},null,{"$f":"N13","v":1221},{"$f":"COUNTIF(L18:L28,Y13)","v":0},{"$f":"Z13/(AB4-Z20)","v":0},{"$f":"IF(AA13=0,0,(AA13*((LOG(AA13))/LOG(2))))","v":0},null,{"$f":"N13","v":1221},{"$f":"COUNTIF(L29:L39,AD13)","v":0},{"$f":"AE13/(AG4-AE20)","v":0},{"$f":"IF(AF13=0,0,(AF13*((LOG(AF13))/LOG(2))))","v":0},null,{"$f":"N13","v":1221},{"$f":"COUNTIF(L40:L50,AI13)","v":0},{"$f":"AJ13/(AL4-AJ20)","v":0},{"$f":"IF(AK13=0,0,(AK13*((LOG(AK13))/LOG(2))))","v":0},null,{"$f":"N13","v":1221},{"$f":"COUNTIF(L51:L61,AN13)","v":0},{"$f":"AO13/(AQ4-AO20)","v":0},{"$f":"IF(AP13=0,0,(AP13*((LOG(AP13))/LOG(2))))","v":0},null,{"$f":"N13","v":1221},{"$f":"COUNTIF(L62:L72,AS13)","v":0},{"$f":"AT13/(AV4-AT20)","v":0},{"$f":"IF(AU13=0,0,(AU13*((LOG(AU13))/LOG(2))))","v":0}]
[21,948,21,953,11,963,21,984,null,null,0,2212,null,1222,{"$f":"COUNTIF($L$7:$L$500,N14)","v":2},{"$f":"O14/$Q$4","v":3.0303030303030304E-2},{"$f":"IF(P14=0,0,(P14*((LOG(P14))/LOG(2))))","v":-0.15286042785934709},null,null,{"$f":"N14","v":1222},{"$f":"COUNTIF(L7:L17,T14)","v":0},{"$f":"U14/(W4-U20)","v":0},{"$f":"IF(V14=0,0,(V14*((LOG(V14))/LOG(2))))","v":0},null,{"$f":"N14","v":1222},{"$f":"COUNTIF(L18:L28,Y14)","v":0},{"$f":"Z14/(AB4-Z20)","v":0},{"$f":"IF(AA14=0,0,(AA14*((LOG(AA14))/LOG(2))))","v":0},null,{"$f":"N14","v":1222},{"$f":"COUNTIF(L29:L39,AD14)","v":0},{"$f":"AE14/(AG4-AE20)","v":0},{"$f":"IF(AF14=0,0,(AF14*((LOG(AF14))/LOG(2))))","v":0},null,{"$f":"N14","v":1222},{"$f":"COUNTIF(L40:L50,AI14)","v":0},{"$f":"AJ14/(AL4-AJ20)","v":0},{"$f":"IF(AK14=0,0,(AK14*((LOG(AK14))/LOG(2))))","v":0},null,{"$f":"N14","v":1222},{"$f":"COUNTIF(L51:L61,AN14)","v":1},{"$f":"AO14/(AQ4-AO20)","v":0.16666666666666666},{"$f":"IF(AP14=0,0,(AP14*((LOG(AP14))/LOG(2))))","v":-0.43082708345352599},null,{"$f":"N14","v":1222},{"$f":"COUNTIF(L62:L72,AS14)","v":1},{"$f":"AT14/(AV4-AT20)","v":0.16666666666666666},{"$f":"IF(AU14=0,0,(AU14*((LOG(AU14))/LOG(2))))","v":-0.43082708345352599}]
[21,1081,12,1089,24,1106,23,1114,null,null,0,2122,null,2111,{"$f":"COUNTIF($L$7:$L$500,N15)","v":0},{"$f":"O15/$Q$4","v":0},{"$f":"IF(P15=0,0,(P15*((LOG(P15))/LOG(2))))","v":0},null,null,{"$f":"N15","v":2111},{"$f":"COUNTIF(L7:L17,T15)","v":0},{"$f":"U15/(W4-U20)","v":0},{"$f":"IF(V15=0,0,(V15*((LOG(V15))/LOG(2))))","v":0},null,{"$f":"N15","v":2111},{"$f":"COUNTIF(L18:L28,Y15)","v":0},{"$f":"Z15/(AB4-Z20)","v":0},{"$f":"IF(AA15=0,0,(AA15*((LOG(AA15))/LOG(2))))","v":0},null,{"$f":"N15","v":2111},{"$f":"COUNTIF(L29:L39,AD15)","v":0},{"$f":"AE15/(AG4-AE20)","v":0},{"$f":"IF(AF15=0,0,(AF15*((LOG(AF15))/LOG(2))))","v":0},null,{"$f":"N15","v":2111},{"$f":"COUNTIF(L40:L50,AI15)","v":0},{"$f":"AJ15/(AL4-AJ20)","v":0},{"$f":"IF(AK15=0,0,(AK15*((LOG(AK15))/LOG(2))))","v":0},null,{"$f":"N15","v":2111},{"$f":"COUNTIF(L51:L61,AN15)","v":0},{"$f":"AO15/(AQ4-AO20)","v":0},{"$f":"IF(AP15=0,0,(AP15*((LOG(AP15))/LOG(2))))","v":0},null,{"$f":"N15","v":2111},{"$f":"COUNTIF(L62:L72,AS15)","v":0},{"$f":"AT15/(AV4-AT20)","v":0},{"$f":"IF(AU15=0,0,(AU15*((LOG(AU15))/LOG(2))))","v":0}]
[21,1214,21,1219,22,1226,14,1237,null,null,0,2221,null,2112,{"$f":"COUNTIF($L$7:$L$500,N16)","v":0},{"$f":"O16/$Q$4","v":0},{"$f":"IF(P16=0,0,(P16*((LOG(P16))/LOG(2))))","v":0},null,null,{"$f":"N16","v":2112},{"$f":"COUNTIF(L7:L17,T16)","v":0},{"$f":"U16/(W4-U20)","v":0},{"$f":"IF(V16=0,0,(V16*((LOG(V16))/LOG(2))))","v":0},null,{"$f":"N16","v":2112},{"$f":"COUNTIF(L18:L28,Y16)","v":0},{"$f":"Z16/(AB4-Z20)","v":0},{"$f":"IF(AA16=0,0,(AA16*((LOG(AA16))/LOG(2))))","v":0},null,{"$f":"N16","v":2112},{"$f":"COUNTIF(L29:L39,AD16)","v":0},{"$f":"AE16/(AG4-AE20)","v":0},{"$f":"IF(AF16=0,0,(AF16*((LOG(AF16))/LOG(2))))","v":0},null,{"$f":"N16","v":2112},{"$f":"COUNTIF(L40:L50,AI16)","v":0},{"$f":"AJ16/(AL4-AJ20)","v":0},{"$f":"IF(AK16=0,0,(AK16*((LOG(AK16))/LOG(2))))","v":0},null,{"$f":"N16","v":2112},{"$f":"COUNTIF(L51:L61,AN16)","v":0},{"$f":"AO16/(AQ4-AO20)","v":0},{"$f":"IF(AP16=0,0,(AP16*((LOG(AP16))/LOG(2))))","v":0},null,{"$f":"N16","v":2112},{"$f":"COUNTIF(L62:L72,AS16)","v":0},{"$f":"AT16/(AV4-AT20)","v":0},{"$f":"IF(AU16=0,0,(AU16*((LOG(AU16))/LOG(2))))","v":0}]
[21,1337,21,1342,22,1351,14,1359,null,null,0,2221,null,2121,{"$f":"COUNTIF($L$7:$L$500,N17)","v":0},{"$f":"O17/$Q$4","v":0},{"$f":"IF(P17=0,0,(P17*((LOG(P17))/LOG(2))))","v":0},null,null,{"$f":"N17","v":2121},{"$f":"COUNTIF(L7:L17,T17)","v":0},{"$f":"U17/(W4-U20)","v":0},{"$f":"IF(V17=0,0,(V17*((LOG(V17))/LOG(2))))","v":0},null,{"$f":"N17","v":2121},{"$f":"COUNTIF(L18:L28,Y17)","v":0},{"$f":"Z17/(AB4-Z20)","v":0},{"$f":"IF(AA17=0,0,(AA17*((LOG(AA17))/LOG(2))))","v":0},null,{"$f":"N17","v":2121},{"$f":"COUNTIF(L29:L39,AD17)","v":0},{"$f":"AE17/(AG4-AE20)","v":0},{"$f":"IF(AF17=0,0,(AF17*((LOG(AF17))/LOG(2))))","v":0},null,{"$f":"N17","v":2121},{"$f":"COUNTIF(L40:L50,AI17)","v":0},{"$f":"AJ17/(AL4-AJ20)","v":0},{"$f":"IF(AK17=0,0,(AK17*((LOG(AK17))/LOG(2))))","v":0},null,{"$f":"N17","v":2121},{"$f":"COUNTIF(L51:L61,AN17)","v":0},{"$f":"AO17/(AQ4-AO20)","v":0},{"$f":"IF(AP17=0,0,(AP17*((LOG(AP17))/LOG(2))))","v":0},null,{"$f":"N17","v":2121},{"$f":"COUNTIF(L62:L72,AS17)","v":0},{"$f":"AT17/(AV4-AT20)","v":0},{"$f":"IF(AU17=0,0,(AU17*((LOG(AU17))/LOG(2))))","v":0}]
[21,1460,21,1465,22,1484,14,1496,null,null,0,2221,null,2122,{"$f":"COUNTIF($L$7:$L$500,N18)","v":16},{"$f":"O18/$Q$4","v":0.24242424242424243},{"$f":"IF(P18=0,0,(P18*((LOG(P18))/LOG(2))))","v":-0.49561069560204934},null,null,{"$f":"N18","v":2122},{"$f":"COUNTIF(L7:L17,T18)","v":3},{"$f":"U18/(W4-U20)","v":0.6},{"$f":"IF(V18=0,0,(V18*((LOG(V18))/LOG(2))))","v":-0.44217935649972373},null,{"$f":"N18","v":2122},{"$f":"COUNTIF(L18:L28,Y18)","v":1},{"$f":"Z18/(AB4-Z20)","v":0.33333333333333331},{"$f":"IF(AA18=0,0,(AA18*((LOG(AA18))/LOG(2))))","v":-0.52832083357371862},null,{"$f":"N18","v":2122},{"$f":"COUNTIF(L29:L39,AD18)","v":2},{"$f":"AE18/(AG4-AE20)","v":1},{"$f":"IF(AF18=0,0,(AF18*((LOG(AF18))/LOG(2))))","v":0},null,{"$f":"N18","v":2122},{"$f":"COUNTIF(L40:L50,AI18)","v":2},{"$f":"AJ18/(AL4-AJ20)","v":0.5},{"$f":"IF(AK18=0,0,(AK18*((LOG(AK18))/LOG(2))))","v":-0.5},null,{"$f":"N18","v":2122},{"$f":"COUNTIF(L51:L61,AN18)","v":4},{"$f":"AO18/(AQ4-AO20)","v":0.66666666666666663},{"$f":"IF(AP18=0,0,(AP18*((LOG(AP18))/LOG(2))))","v":-0.38997500048077083},null,{"$f":"N18","v":2122},{"$f":"COUNTIF(L62:L72,AS18)","v":4},{"$f":"AT18/(AV4-AT20)","v":0.66666666666666663},{"$f":"IF(AU18=0,0,(AU18*((LOG(AU18))/LOG(2))))","v":-0.38997500048077083}]
[21,1598,12,1614,24,1623,23,1631,null,null,0,2122,null,2211,{"$f":"COUNTIF($L$7:$L$500,N19)","v":0},{"$f":"O19/$Q$4","v":0},{"$f":"IF(P19=0,0,(P19*((LOG(P19))/LOG(2))))","v":0},null,null,{"$f":"N19","v":2211},{"$f":"COUNTIF(L7:L17,T19)","v":0},{"$f":"U19/(W4-U20)","v":0},{"$f":"IF(V19=0,0,(V19*((LOG(V19))/LOG(2))))","v":0},null,{"$f":"N19","v":2211},{"$f":"COUNTIF(L18:L28,Y19)","v":0},{"$f":"Z19/(AB4-Z20)","v":0},{"$f":"IF(AA19=0,0,(AA19*((LOG(AA19))/LOG(2))))","v":0},null,{"$f":"N19","v":2211},{"$f":"COUNTIF(L29:L39,AD19)","v":0},{"$f":"AE19/(AG4-AE20)","v":0},{"$f":"IF(AF19=0,0,(AF19*((LOG(AF19))/LOG(2))))","v":0},null,{"$f":"N19","v":2211},{"$f":"COUNTIF(L40:L50,AI19)","v":0},{"$f":"AJ19/(AL4-AJ20)","v":0},{"$f":"IF(AK19=0,0,(AK19*((LOG(AK19))/LOG(2))))","v":0},null,{"$f":"N19","v":2211},{"$f":"COUNTIF(L51:L61,AN19)","v":0},{"$f":"AO19/(AQ4-AO20)","v":0},{"$f":"IF(AP19=0,0,(AP19*((LOG(AP19))/LOG(2))))","v":0},null,{"$f":"N19","v":2211},{"$f":"COUNTIF(L62:L72,AS19)","v":0},{"$f":"AT19/(AV4-AT20)","v":0},{"$f":"IF(AU19=0,0,(AU19*((LOG(AU19))/LOG(2))))","v":0}]
[21,1738,21,1746,11,1754,21,1763,null,null,0,2212,null,2212,{"$f":"COUNTIF($L$7:$L$500,N20)","v":40},{"$f":"O20/$Q$4","v":0.60606060606060608},{"$f":"IF(P20=0,0,(P20*((LOG(P20))/LOG(2))))","v":-0.43785819664914605},null,null,{"$f":"N20","v":2212},{"$f":"COUNTIF(L7:L17,T20)","v":6},null,null,null,{"$f":"N20","v":2212},{"$f":"COUNTIF(L18:L28,Y20)","v":8},null,null,null,{"$f":"N20","v":2212},{"$f":"COUNTIF(L29:L39,AD20)","v":9},null,null,null,{"$f":"N20","v":2212},{"$f":"COUNTIF(L40:L50,AI20)","v":7},null,null,null,{"$f":"N20","v":2212},{"$f":"COUNTIF(L51:L61,AN20)","v":5},null,null,null,{"$f":"N20","v":2212},{"$f":"COUNTIF(L62:L72,AS20)","v":5}]
[21,1852,21,1857,11,1867,21,1875,null,null,0,2212,null,2221,{"$f":"COUNTIF($L$7:$L$500,N21)","v":7},{"$f":"O21/$Q$4","v":0.10606060606060606},{"$f":"IF(P21=0,0,(P21*((LOG(P21))/LOG(2))))","v":-0.34332233910766585},null,null,{"$f":"N21","v":2221},{"$f":"COUNTIF(L7:L17,T21)","v":2},{"$f":"U21/(W4-U20)","v":0.4},{"$f":"IF(V21=0,0,(V21*((LOG(V21))/LOG(2))))","v":-0.52877123795494496},null,{"$f":"N21","v":2221},{"$f":"COUNTIF(L18:L28,Y21)","v":2},{"$f":"Z21/(AB4-Z20)","v":0.66666666666666663},{"$f":"IF(AA21=0,0,(AA21*((LOG(AA21))/LOG(2))))","v":-0.38997500048077083},null,{"$f":"N21","v":2221},{"$f":"COUNTIF(L29:L39,AD21)","v":0},{"$f":"AE21/(AG4-AE20)","v":0},{"$f":"IF(AF21=0,0,(AF21*((LOG(AF21))/LOG(2))))","v":0},null,{"$f":"N21","v":2221},{"$f":"COUNTIF(L40:L50,AI21)","v":1},{"$f":"AJ21/(AL4-AJ20)","v":0.25},{"$f":"IF(AK21=0,0,(AK21*((LOG(AK21))/LOG(2))))","v":-0.5},null,{"$f":"N21","v":2221},{"$f":"COUNTIF(L51:L61,AN21)","v":1},{"$f":"AO21/(AQ4-AO20)","v":0.16666666666666666},{"$f":"IF(AP21=0,0,(AP21*((LOG(AP21))/LOG(2))))","v":-0.43082708345352599},null,{"$f":"N21","v":2221},{"$f":"COUNTIF(L62:L72,AS21)","v":1},{"$f":"AT21/(AV4-AT20)","v":0.16666666666666666},{"$f":"IF(AU21=0,0,(AU21*((LOG(AU21))/LOG(2))))","v":-0.43082708345352599}]
[21,1967,21,1973,11,1985,21,1993,null,null,0,2212,null,2222,{"$f":"COUNTIF($L$7:$L$500,N22)","v":1},{"$f":"O22/$Q$4","v":1.5151515151515152E-2},{"$f":"IF(P22=0,0,(P22*((LOG(P22))/LOG(2))))","v":-9.1581729081188695E-2},null,null,{"$f":"N22","v":2222},{"$f":"COUNTIF(L7:L17,T22)","v":0},{"$f":"U22/(W4-U20)","v":0},{"$f":"IF(V22=0,0,(V22*((LOG(V22))/LOG(2))))","v":0},null,{"$f":"N22","v":2222},{"$f":"COUNTIF(L18:L28,Y22)","v":0},{"$f":"Z22/(AB4-Z20)","v":0},{"$f":"IF(AA22=0,0,(AA22*((LOG(AA22))/LOG(2))))","v":0},null,{"$f":"N22","v":2222},{"$f":"COUNTIF(L29:L39,AD22)","v":0},{"$f":"AE22/(AG4-AE20)","v":0},{"$f":"IF(AF22=0,0,(AF22*((LOG(AF22))/LOG(2))))","v":0},null,{"$f":"N22","v":2222},{"$f":"COUNTIF(L40:L50,AI22)","v":1},{"$f":"AJ22/(AL4-AJ20)","v":0.25},{"$f":"IF(AK22=0,0,(AK22*((LOG(AK22))/LOG(2))))","v":-0.5},null,{"$f":"N22","v":2222},{"$f":"COUNTIF(L51:L61,AN22)","v":0},{"$f":"AO22/(AQ4-AO20)","v":0},{"$f":"IF(AP22=0,0,(AP22*((LOG(AP22))/LOG(2))))","v":0},null,{"$f":"N22","v":2222},{"$f":"COUNTIF(L62:L72,AS22)","v":0},{"$f":"AT22/(AV4-AT20)","v":0},{"$f":"IF(AU22=0,0,(AU22*((LOG(AU22))/LOG(2))))","v":0}]
[21,2083,21,2088,11,2099,21,2107,null,null,0,2212,null,null,null,{"$f":"SUM(P7:P22)","v":1},{"$f":"-SUM(Q7:Q22)","v":1.5212333882993971},null,null,null,null,{"$f":"SUM(V7:V22)","v":1},{"$f":"-SUM(W7:W22)","v":0.97095059445466869},null,null,null,{"$f":"SUM(AA7:AA22)","v":1},{"$f":"-SUM(AB7:AB22)","v":0.91829583405448945},null,null,null,{"$f":"SUM(AF7:AF22)","v":1},{"$f":"-SUM(AG7:AG22)","v":0},null,null,null,{"$f":"SUM(AK7:AK22)","v":1},{"$f":"-SUM(AL7:AL22)","v":1.5},null,null,null,{"$f":"SUM(AP7:AP22)","v":0.99999999999999989},{"$f":"-SUM(AQ7:AQ22)","v":1.2516291673878228},null,null,null,{"$f":"SUM(AU7:AU22)","v":0.99999999999999989},{"$f":"-SUM(AV7:AV22)","v":1.2516291673878228}]
[21,2195,21,2202,11,2213,21,2222,null,null,0,2212,null,null,null,"U=",{"$f":"Q23/(LOG(Q4)/LOG(2))","v":0.25167673686719483},null,null,null,null,"U1=",{"$f":"W23/(LOG(W4)/LOG(2))","v":0.28066766494928874},null,null,null,"U2=",{"$f":"AB23/(LOG(AB4)/LOG(2))","v":0.26544702577940094},null,null,null,"U3=",{"$f":"AG23/(LOG(AG4)/LOG(2))","v":0},null,null,null,"U4=",{"$f":"AL23/(LOG(AL4)/LOG(2))","v":0.43359723947683171},null,null,null,"U5=",{"$f":"AQ23/(LOG(AQ4)/LOG(2))","v":0.36180196788536356},null,null,null,"U6=",{"$f":"AV23/(LOG(AV4)/LOG(2))","v":0.36180196788536356}]
[21,2317,21,2324,22,2332,14,2343,null,null,0,2221]
[21,2444,21,2449,11,2460,21,2469,null,null,0,2212]
[21,2557,21,2562,11,2571,21,2579,null,null,0,2212,null,"Total Target Seq"]
[21,2666,21,2671,11,2681,21,2689,null,null,0,2212,null,{"$f":"COUNTIF(L7:L72,G3)","v":40},null,11,11,11,11,11,11]
[21,2776,21,2780,11,2791,21,2811,null,null,0,2212,null,null,null,"% of reinforcement given in 6 equal intervals based on number of trials "]
[21,2900,21,2904,11,2915,21,2930,null,null,0,2212,null,null,null,"%_1","%_2","%_3","%_4","%_5","%_6"]
[21,3017,21,3021,11,3030,21,3038,null,null,0,2212,null,null,"target sequence",{"$f":"$G$3","v":2212},{"$f":"$G$3","v":2212},{"$f":"$G$3","v":2212},{"$f":"$G$3","v":2212},{"$f":"$G$3","v":2212},{"$f":"$G$3","v":2212}]
[21,3126,21,3130,11,3140,21,3161,null,null,0,2212,null,null,"total reinforcement",{"$f":"U20","v":6},{"$f":"Z20","v":8},{"$f":"AE20","v":9},{"$f":"AJ20","v":7},{"$f":"AO20","v":5},{"$f":"AT20","v":5}]
[21,3250,12,3268,24,3284,23,3312,null,null,0,2122,null,null,"% target"]
[21,3417,12,3432,24,3441,23,3449,null,null,0,2122,null,null,"CCRF"]
[21,3555,21,3563,11,3573,21,3582,null,null,0,2212,null,null,"% CCRf"]
[21,3668,21,3672,11,3683,21,3692,null,null,0,2212,null,null,"average response rate",{"$f":"H17/P28","v":123.54545454545455},{"$f":"(H28-H17)/Q28","v":120.90909090909091},{"$f":"(H39-H28)/R28","v":122.63636363636364},{"$f":"(H50-H39)/S28","v":117.90909090909091},{"$f":"(H61-H50)/T28","v":130.27272727272728},{"$f":"(H72-H61)/U28","v":126.90909090909091}]
[21,3782,21,3788,11,3798,21,3818,null,null,0,2212]
[21,3905,21,3910,11,3919,21,3927,null,null,0,2212]
[21,4014,21,4019,11,4030,21,4038,null,null,0,2212]
[21,4125,21,4129,22,4146,23,4160,null,null,0,2222]
[21,4260,21,4265,11,4276,21,4285,null,null,0,2212]
[21,4371,21,4375,11,4383,21,4391,null,null,0,2212]
[21,4478,21,4482,22,4489,14,4498,null,null,0,2221]
[21,4600,12,4611,24,4631,23,4638,null,null,0,2122]
[21,4737,21,4741,11,4752,21,4761,null,null,0,2212]
[21,4847,21,4851,11,4859,21,4867,null,null,0,2212]
[21,4953,21,4957,11,4965,21,4973,null,null,0,2212]
[21,5060,21,5064,11,5072,21,5089,null,null,0,2212]
[21,5176,12,5189,24,5197,23,5206,null,null,0,2122]
[21,5312,21,5319,11,5327,21,5335,null,null,0,2212]
[12,5438,23,5447,24,5456,23,5477,null,null,0,1222]
[21,5573,21,5577,11,5587,21,5597,null,null,0,2212]
[21,5684,21,5688,11,5698,21,5706,null,null,0,2212]
[21,5801,12,5808,24,5825,23,5858,null,null,0,2122]
[21,5959,21,5963,11,5973,21,5981,null,null,0,2212]
[21,6068,21,6073,11,6081,21,6089,null,null,0,2212]
[21,6175,21,6180,22,6204,14,6213,null,null,0,2221]
[21,6311,21,6315,11,6325,21,6338,null,null,0,2212]
[21,6425,12,6437,24,6464,23,6504,null,null,0,2122]
[21,6608,12,6618,24,6626,23,6637,null,null,0,2122]
[21,6740,12,6748,24,6758,23,6768,null,null,0,2122]
[21,6867,21,6874,11,6884,21,6893,null,null,0,2212]
[12,6991,23,7000,24,7010,23,7052,null,null,0,1222]
[21,7154,12,7161,24,7170,23,7178,null,null,0,2122]
[21,7282,12,7293,24,7302,23,7310,null,null,0,2122]
[21,7411,21,7418,11,7428,21,7438,null,null,0,2212]
[21,7525,21,7529,11,7537,21,7554,null,null,0,2212]
[21,7643,12,7652,24,7660,23,7669,null,null,0,2122]
[21,7767,21,7784,11,7794,21,7802,null,null,0,2212]
[21,7894,12,7904,24,7921,23,7930,null,null,0,2122]
[21,8022,21,8028,22,8035,14,8043,null,null,0,2221]
[21,8141,21,8145,11,8154,21,8164,null,null,1,2212]