{"text_format":"1","workbook":"xlsx","n_sheets":33,"sheets":["Sample Report","Summary","Start","!M919910.091","!M922820.091","!M923920.091","!M924900.091","!M925640.091","!M926650.091","!M927750.091","!M928850.091","!M929840.091","!M930840.091","!MA01700.091","!MA02750.091","!MA03650.091","!MA04830.091","!MA05810.091","!MA06800.091","!MA07A40.091","!MA08900.091","!MA09920.091","!MA10A00.091","!MA11910.091","!MA12A10.091","!MA13900.091","!MA15910.091","!MA16740.091","!MA17A20.091","!MA18850.091","!MA19A00.091","!MA20820.091","!MA21830.091"],"not_rendered":{"charts":0,"images":0,"macros":1,"external_links":0,"defined_names":0,"comments":0,"pivot_tables":0},"unopened":[],"bounds":{"document_bytes":16777216,"sheet_cells":100000,"rows_first":2000,"rows_last":500,"rows_between":2000,"halvings":0,"cell_chars":16384,"cell_head_chars":4096},"cells_cut":0,"cells_raw":0,"read":"whole","date_system":"1900"}

{"sheet":"Sample Report","index":0,"n_rows":12,"n_cols":11,"rows_kept":12,"cut":false,"hidden":true,"merged":[[7,0,7,6]]}
[]
["Date"]
["Hen"]
["Program"]
["Start at 999999"]
["Sequence component 1","Time 1","Seqeunce Component 2","Time 2","Seqeunce Component 3","Time 3","Correct   0 = No 1=Yes",null,null,"Seqeunce","Time"]
[12,7,12,42,13,18,"if 77 new line,                                  if 31 or 41 = yes new line on 77, ",null,null,"=string of Seqeunce compponent 1, 2 & 3","=time 3"]
["This continues until ther is a 1 on its own to indicate start of summary data"]
[null,null,null,null,null,null,null,null,null,"10-19 =1"]
["Summary Data ",null,null,null,null,null,null,null,null,"20-29 =2"]
["Correct","Incorrect","Rft","total","Av Correct","Av Incorrect","Percent correct","Time",null,"in this example the seqeunce would be 111"]
[40,33,40,73,23.95,15,54,806]

{"sheet":"Summary","index":1,"n_rows":32,"n_cols":16,"rows_kept":32,"cut":false,"hidden":false,"merged":[]}
[]
["Day","Date","Average Response Rate","Target %","RF for non correct sequence","U Value",null,null,null,null,"Block 1","Block 2","Block 3","Block 4","Block 5","Block 6"]
[1,{"$f":"'!M919910.091'!B2:C2","v":"<date>"},{"$f":"('!M919910.091'!F75/60)/'!M919910.091'!Q3","v":5.3415458937198066},{"$f":"'!M919910.091'!N20/'!M919910.091'!Q3","v":0},{"$f":"SUM('!M919910.091'!L20:Q20)/'!M919910.091'!Q3","v":2.1014492753623188},{"$f":"'!M919910.091'!Q16","v":0.16176929183247504},null,null,null,"Average Response Rate",{"$f":"AVERAGE(C3:C7)","v":2.8740668738872635},{"$f":"AVERAGE(C8:C12)","v":2.1786272958926203},{"$f":"AVERAGE(C13:C17)","v":2.0924653471755845},{"$f":"AVERAGE(C18:C22)","v":2.3307060041105974},{"$f":"AVERAGE(C23:C27)","v":2.2178866537208752},{"$f":"AVERAGE(C28:C32)","v":2.7125372648915542}]
[2,{"$f":"'!M922820.091'!B2:C2","v":"<date>"},{"$f":"('!M922820.091'!F185/60)/'!M922820.091'!Q3","v":2.2297951582867785},{"$f":"'!M922820.091'!N20/'!M922820.091'!Q3","v":0},{"$f":"SUM('!M922820.091'!L20:Q20)/'!M922820.091'!Q3","v":1.0167597765363128},{"$f":"'!M922820.091'!Q16","v":0.12323609117469497},null,null,null,"Target %",{"$f":"AVERAGE(D3:D7)","v":0},{"$f":"AVERAGE(D8:D12)","v":0},{"$f":"AVERAGE(D13:D17)","v":0},{"$f":"AVERAGE(D18:D22)","v":0},{"$f":"AVERAGE(D23:D27)","v":0},{"$f":"AVERAGE(D28:D32)","v":0}]
[3,{"$f":"'!M923920.091'!B2:C2","v":"<date>"},{"$f":"('!M923920.091'!F179/60)/'!M923920.091'!Q3","v":2.3052023121387282},{"$f":"'!M923920.091'!N20/'!M923920.091'!Q3","v":0},{"$f":"SUM('!M923920.091'!L20:Q20)/'!M923920.091'!Q3","v":1.6184971098265897},{"$f":"'!M923920.091'!Q16","v":0.16277494780796709},null,null,null,"CCRF",{"$f":"AVERAGE(E3:E7)","v":1.3552777402815521},{"$f":"AVERAGE(E8:E12)","v":1.2174274901894289},{"$f":"AVERAGE(E13:E17)","v":1.1711361633102162},{"$f":"AVERAGE(E18:E22)","v":1.2657015789692956},{"$f":"AVERAGE(E23:E27)","v":1.0872257581805322},{"$f":"AVERAGE(E28:E32)","v":1.6931231206433299}]
[4,{"$f":"'!M924900.091'!B2:C2","v":"<date>"},{"$f":"('!M924900.091'!F186/60)/'!M924900.091'!Q3","v":2.2173148148148147},{"$f":"'!M924900.091'!N20/'!M924900.091'!Q3","v":0},{"$f":"SUM('!M924900.091'!L20:Q20)/'!M924900.091'!Q3","v":1.0111111111111111},{"$f":"'!M924900.091'!Q16","v":0.17248470101974517},null,null,null,"U Value",{"$f":"AVERAGE(F3:F7)","v":0.16279628461897394},{"$f":"AVERAGE(F8:F12)","v":0.15215179922915661},{"$f":"AVERAGE(F13:F17)","v":0.14518376594566057},{"$f":"AVERAGE(F18:F22)","v":0.18563427572359453},{"$f":"AVERAGE(F23:F27)","v":0.18405434933040316},{"$f":"AVERAGE(F28:F32)","v":0.11216163383356011}]
[5,{"$f":"'!M925640.091'!B2:C2","v":"<date>"},{"$f":"('!M925640.091'!F181/60)/'!M925640.091'!Q3","v":2.2764761904761905},{"$f":"'!M925640.091'!N20/'!M925640.091'!Q3","v":0},{"$f":"SUM('!M925640.091'!L20:Q20)/'!M925640.091'!Q3","v":1.0285714285714285},{"$f":"'!M925640.091'!Q16","v":0.19371639125998738}]
[6,{"$f":"'!M926650.091'!B2:C2","v":"<date>"},{"$f":"('!M926650.091'!F190/60)/'!M926650.091'!Q3","v":2.1732789855072463},{"$f":"'!M926650.091'!N20/'!M926650.091'!Q3","v":0},{"$f":"SUM('!M926650.091'!L20:Q20)/'!M926650.091'!Q3","v":0.99456521739130432},{"$f":"'!M926650.091'!Q16","v":0.17211589311687284}]
[7,{"$f":"'!M927750.091'!B2:C2","v":"<date>"},{"$f":"('!M927750.091'!F189/60)/'!M927750.091'!Q3","v":2.1824225865209472},{"$f":"'!M927750.091'!N20/'!M927750.091'!Q3","v":0},{"$f":"SUM('!M927750.091'!L20:Q20)/'!M927750.091'!Q3","v":1.5464480874316939},{"$f":"'!M927750.091'!Q16","v":0.14250913959151376}]
[8,{"$f":"'!M928850.091'!B2:C2","v":"<date>"},{"$f":"('!M928850.091'!F188/60)/'!M928850.091'!Q3","v":2.1891025641025643},{"$f":"'!M928850.091'!N20/'!M928850.091'!Q3","v":0},{"$f":"SUM('!M928850.091'!L20:Q20)/'!M928850.091'!Q3","v":1.0054945054945055},{"$f":"'!M928850.091'!Q16","v":0.14607762251909198}]
[9,{"$f":"'!M929840.091'!B2:C2","v":"<date>"},{"$f":"('!M929840.091'!F190/60)/'!M929840.091'!Q3","v":2.1511711711711712},{"$f":"'!M929840.091'!N20/'!M929840.091'!Q3","v":0},{"$f":"SUM('!M929840.091'!L20:Q20)/'!M929840.091'!Q3","v":1.5351351351351352},{"$f":"'!M929840.091'!Q16","v":0.1465779725262559}]
[10,{"$f":"'!M930840.091'!B2:C2","v":"<date>"},{"$f":"('!M930840.091'!F188/60)/'!M930840.091'!Q3","v":2.1971611721611719},{"$f":"'!M930840.091'!N20/'!M930840.091'!Q3","v":0},{"$f":"SUM('!M930840.091'!L20:Q20)/'!M930840.091'!Q3","v":1.0054945054945055},{"$f":"'!M930840.091'!Q16","v":0.15347836839204854}]
[11,{"$f":"'!MA01700.091'!B2:C2","v":"<date>"},{"$f":"('!MA01700.091'!F200/60)/'!MA01700.091'!Q3","v":2.0610824742268044},{"$f":"'!MA01700.091'!N20/'!MA01700.091'!Q3","v":0},{"$f":"SUM('!MA01700.091'!L20:Q20)/'!MA01700.091'!Q3","v":1.4793814432989691},{"$f":"'!MA01700.091'!Q16","v":0.13518984378767557}]
[12,{"$f":"'!MA02750.091'!B2:C2","v":"<date>"},{"$f":"('!MA02750.091'!F197/60)/'!MA02750.091'!Q3","v":2.0907504363001745},{"$f":"'!MA02750.091'!N20/'!MA02750.091'!Q3","v":0},{"$f":"SUM('!MA02750.091'!L20:Q20)/'!MA02750.091'!Q3","v":0.97382198952879584},{"$f":"'!MA02750.091'!Q16","v":0.14255832143552999}]
[13,{"$f":"'!MA03650.091'!B2:C2","v":"<date>"},{"$f":"('!MA03650.091'!F193/60)/'!MA03650.091'!Q3","v":2.1173758865248229},{"$f":"'!MA03650.091'!N20/'!MA03650.091'!Q3","v":0},{"$f":"SUM('!MA03650.091'!L20:Q20)/'!MA03650.091'!Q3","v":0.98404255319148937},{"$f":"'!MA03650.091'!Q16","v":0.13188917245264248}]
[14,{"$f":"'!MA04830.091'!B2:C2","v":"<date>"},{"$f":"('!MA04830.091'!F196/60)/'!MA04830.091'!Q3","v":2.1021929824561405},{"$f":"'!MA04830.091'!N20/'!MA04830.091'!Q3","v":0},{"$f":"SUM('!MA04830.091'!L20:Q20)/'!MA04830.091'!Q3","v":0.92105263157894735},{"$f":"'!MA04830.091'!Q16","v":0.15708329723222228}]
[15,{"$f":"'!MA05810.091'!B2:C2","v":"<date>"},{"$f":"('!MA05810.091'!F197/60)/'!MA05810.091'!Q3","v":2.0909249563699825},{"$f":"'!MA05810.091'!N20/'!MA05810.091'!Q3","v":0},{"$f":"SUM('!MA05810.091'!L20:Q20)/'!MA05810.091'!Q3","v":1.4973821989528795},{"$f":"'!MA05810.091'!Q16","v":0.15919819482023254}]
[16,{"$f":"'!MA06800.091'!B2:C2","v":"<date>"},{"$f":"('!MA06800.091'!F198/60)/'!MA06800.091'!Q3","v":2.0813368055555554},{"$f":"'!MA06800.091'!N20/'!MA06800.091'!Q3","v":0},{"$f":"SUM('!MA06800.091'!L20:Q20)/'!MA06800.091'!Q3","v":1.4895833333333333},{"$f":"'!MA06800.091'!Q16","v":0.15287789137581625}]
[17,{"$f":"'!MA07A40.091'!B2:C2","v":"<date>"},{"$f":"('!MA07A40.091'!F195/60)/'!MA07A40.091'!Q3","v":2.107848324514991},{"$f":"'!MA07A40.091'!N20/'!MA07A40.091'!Q3","v":0},{"$f":"SUM('!MA07A40.091'!L20:Q20)/'!MA07A40.091'!Q3","v":0.97883597883597884},{"$f":"'!MA07A40.091'!Q16","v":0.16967276705922513}]
[18,{"$f":"'!MA08900.091'!B2:C2","v":"<date>"},{"$f":"('!MA08900.091'!F198/60)/'!MA08900.091'!Q3","v":2.0776909722222223},{"$f":"'!MA08900.091'!N20/'!MA08900.091'!Q3","v":0},{"$f":"SUM('!MA08900.091'!L20:Q20)/'!MA08900.091'!Q3","v":0.96875},{"$f":"'!MA08900.091'!Q16","v":0.17551030165630405}]
[19,{"$f":"'!MA09920.091'!B2:C2","v":"<date>"},{"$f":"('!MA09920.091'!F181/60)/'!MA09920.091'!Q3","v":2.237047619047619},{"$f":"'!MA09920.091'!N20/'!MA09920.091'!Q3","v":0},{"$f":"SUM('!MA09920.091'!L20:Q20)/'!MA09920.091'!Q3","v":1.6},{"$f":"'!MA09920.091'!Q16","v":0.18445530091724074}]
[20,{"$f":"'!MA10A00.091'!B2:C2","v":"<date>"},{"$f":"('!MA10A00.091'!F133/60)/'!MA10A00.091'!Q3","v":3.1496062992125986},{"$f":"'!MA10A00.091'!N20/'!MA10A00.091'!Q3","v":0},{"$f":"SUM('!MA10A00.091'!L20:Q20)/'!MA10A00.091'!Q3","v":1.2913385826771653},{"$f":"'!MA10A00.091'!Q16","v":0.24565511760938646}]
[21,{"$f":"'!MA11910.091'!B2:C2","v":"<date>"},{"$f":"('!MA11910.091'!F203/60)/'!MA11910.091'!Q3","v":2.0280879864636212},{"$f":"'!MA11910.091'!N20/'!MA11910.091'!Q3","v":0},{"$f":"SUM('!MA11910.091'!L20:Q20)/'!MA11910.091'!Q3","v":1.4619289340101522},{"$f":"'!MA11910.091'!Q16","v":0.25026506743771815}]
[22,{"$f":"'!MA12A10.091'!B2:C2","v":"<date>"},{"$f":"('!MA12A10.091'!F202/60)/'!MA12A10.091'!Q3","v":2.0398809523809525},{"$f":"'!MA12A10.091'!N20/'!MA12A10.091'!Q3","v":0},{"$f":"SUM('!MA12A10.091'!L20:Q20)/'!MA12A10.091'!Q3","v":0.95408163265306123},{"$f":"'!MA12A10.091'!Q16","v":0.23100271339514769}]
[23,{"$f":"'!MA13900.091'!B2:C2","v":"<date>"},{"$f":"('!MA13900.091'!F202/60)/'!MA13900.091'!Q3","v":2.0170050761421323},{"$f":"'!MA13900.091'!N20/'!MA13900.091'!Q3","v":0},{"$f":"SUM('!MA13900.091'!L20:Q20)/'!MA13900.091'!Q3","v":0.95431472081218272},{"$f":"'!MA13900.091'!Q16","v":0.180426275596063}]
[24,{"$f":"'!MA15910.091'!B2:C2","v":"<date>"},{"$f":"('!MA15910.091'!F208/60)/'!MA15910.091'!Q3","v":1.9745874587458747},{"$f":"'!MA15910.091'!N20/'!MA15910.091'!Q3","v":0},{"$f":"SUM('!MA15910.091'!L20:Q20)/'!MA15910.091'!Q3","v":0.88118811881188119},{"$f":"'!MA15910.091'!Q16","v":0.11678399917808455}]
[25,{"$f":"'!MA16740.091'!B2:C2","v":"<date>"},{"$f":"('!MA16740.091'!F136/60)/'!MA16740.091'!Q3","v":3.029871794871795},{"$f":"'!MA16740.091'!N20/'!MA16740.091'!Q3","v":0},{"$f":"SUM('!MA16740.091'!L20:Q20)/'!MA16740.091'!Q3","v":1.1846153846153846},{"$f":"'!MA16740.091'!Q16","v":0.14179369104500233}]
[26,{"$f":"'!MA17A20.091'!B2:C2","v":"<date>"},{"$f":"('!MA17A20.091'!F169/60)/'!MA17A20.091'!Q3","v":2.425357873210634},{"$f":"'!MA17A20.091'!N20/'!MA17A20.091'!Q3","v":0},{"$f":"SUM('!MA17A20.091'!L20:Q20)/'!MA17A20.091'!Q3","v":1.6932515337423313},{"$f":"'!MA17A20.091'!Q16","v":0.12980028853280282}]
[27,{"$f":"'!MA18850.091'!B2:C2","v":"<date>"},{"$f":"('!MA18850.091'!F148/60)/'!MA18850.091'!Q3","v":2.808098591549296},{"$f":"'!MA18850.091'!N20/'!MA18850.091'!Q3","v":0},{"$f":"SUM('!MA18850.091'!L20:Q20)/'!MA18850.091'!Q3","v":1.1126760563380282},{"$f":"'!MA18850.091'!Q16","v":0.11106716482585413}]
[28,{"$f":"'!MA19A00.091'!B2:C2","v":"<date>"},{"$f":"('!MA19A00.091'!F202/60)/'!MA19A00.091'!Q3","v":2.0386054421768707},{"$f":"'!MA19A00.091'!N20/'!MA19A00.091'!Q3","v":0},{"$f":"SUM('!MA19A00.091'!L20:Q20)/'!MA19A00.091'!Q3","v":1.4642857142857142},{"$f":"'!MA19A00.091'!Q16","v":0.13070565262469833}]
[29,{"$f":"'!MA20820.091'!B2:C2","v":"<date>"},{"$f":"('!MA20820.091'!F117/60)/'!MA20820.091'!Q3","v":3.5364864864864867},{"$f":"'!MA20820.091'!N20/'!MA20820.091'!Q3","v":0},{"$f":"SUM('!MA20820.091'!L20:Q20)/'!MA20820.091'!Q3","v":2.3333333333333335},{"$f":"'!MA20820.091'!Q16","v":9.4726065624626307E-2}]
[30,{"$f":"'!MA21830.091'!B2:C2","v":"<date>"},{"$f":"('!MA21830.091'!F151/60)/'!MA21830.091'!Q3","v":2.7541379310344829},{"$f":"'!MA21830.091'!N20/'!MA21830.091'!Q3","v":0},{"$f":"SUM('!MA21830.091'!L20:Q20)/'!MA21830.091'!Q3","v":1.8620689655172413},{"$f":"'!MA21830.091'!Q16","v":9.4508997559818994E-2}]

{"sheet":"Start","index":2,"n_rows":36,"n_cols":10,"rows_kept":36,"cut":false,"hidden":false,"merged":[]}
[null,null,null,null,null,"Use Folder 51",null,"Auto Clean Up",null,"Correct sequence"]
[null,null,null,null,null,false,null,true,null,211]
[]
["Working with Folder",null,null,null,null,null,"Process All/Or Pick A number: ALL or an integer"]
["F:\\Hen Chapter\\Raw Data\\91_17\\phase 1 any\\",null,null,null,null,null,"ALL"]
["Filenames:"]
["!M929840.091",null,null,null,null,null,"Paint Cells"]
["!M930840.091",null,null,null,null,null,false]
["!MA01700.091"]
["!MA02750.091"]
["!MA03650.091"]
["!MA04830.091"]
["!MA05810.091"]
["!MA06800.091"]
["!MA07A40.091"]
["!MA08900.091"]
["!MA09920.091"]
["!MA10A00.091"]
["!MA11910.091"]
["!MA12A10.091"]
["!MA13900.091"]
["!MA15910.091"]
["!MA16740.091"]
["!MA17A20.091"]
["!MA18850.091"]
["!MA19A00.091"]
["!MA20820.091"]
["!MA21830.091"]
["!M919910.091"]
["!M922820.091"]
["!M923920.091"]
["!M924900.091"]
["!M925640.091"]
["!M926650.091"]
["!M927750.091"]
["!M928850.091"]

{"sheet":"!M919910.091","index":3,"n_rows":75,"n_cols":48,"rows_kept":75,"cut":false,"hidden":false,"merged":[[4,39,4,42],[5,39,5,40],[4,44,4,47],[5,44,5,45],[4,24,4,27],[5,24,5,25],[4,29,4,32],[5,29,5,30],[4,34,4,37],[5,34,5,35],[1,1,1,2],[5,13,5,14],[18,13,18,14],[19,13,19,14],[4,19,4,22],[5,19,5,20]]}
["Report for:!M919910.091"]
["Date:","<date>"]
["Hen:","<hen>",null,null,null,"Correct Sequence",{"$f":"Start!J2","v":211},null,null,null,null,null,null,null,null,"Total Sequences in Data",{"$f":"4994-COUNTBLANK(L7:L5000)","v":69},null,null,null,null,"Total Sequences in Block Data",{"$f":"COUNTA(L7:L18)","v":12},null,null,null,"Total Sequences in Block Data",{"$f":"COUNTA(L19:L29)","v":11},null,null,null,"Total Sequences in Block Data",{"$f":"COUNTA(L30:L41)","v":12},null,null,null,"Total Sequences in Block Data",{"$f":"COUNTA(L42:L52)","v":11},null,null,null,"Total Sequences in Block Data",{"$f":"COUNTA(L53:L64)","v":12},null,null,null,"Total Sequences in Block Data",{"$f":"COUNTA(L65:L75)","v":11}]
[null,null,null,null,null,null,null,null,null,null,null,null,null,null,null,"Total Sequences in Summary",{"$f":"SUM(O7:O14)","v":69},null,null,null,null,"Total Sequences in Block Summary",{"$f":"SUM(U7:U14)","v":12},null,null,null,"Total Sequences in Block Summary",{"$f":"SUM(Z7:Z14)","v":11},null,null,null,"Total Sequences in Block Summary",{"$f":"SUM(AE7:AE14)","v":12},null,null,null,"Total Sequences in Block Summary",{"$f":"SUM(AJ7:AJ14)","v":11},null,null,null,"Total Sequences in Block Summary",{"$f":"SUM(AO7:AO14)","v":12},null,null,null,"Total Sequences in Block Summary",{"$f":"SUM(AT7:AT14)","v":11}]
[null,null,null,null,null,null,null,null,null,null,null,null,null,null,null,null,null,null,null,"Block 1",null,null,null,null,"Block 2",null,null,null,null,"Block 3",null,null,null,null,"Block 4",null,null,null,null,"Block 5",null,null,null,null,"Block 6"]
["Sequence\nComponent\n1","Time\n1","Sequence\nComponent\n2","Time\n2","Sequence\nComponent\n3","Time\n3","Sequence\nComponent\n4","Time\n4","Sequence\nComponent\n5","Time\n5","Correct?\n0=No 1=Yes","Sequence",null,"Frequency",null,"Relative Frequency","Variability",null,null,"Frequency",null,"Relative Frequency","Variability",null,"Frequency",null,"Relative Frequency","Variability",null,"Frequency",null,"Relative Frequency","Variability",null,"Frequency",null,"Relative Frequency","Variability",null,"Frequency",null,"Relative Frequency","Variability",null,"Frequency",null,"Relative Frequency","Variability"]
[21,29,22,85,24,102,null,null,null,null,0,222,null,111,{"$f":"COUNTIF($L$7:$L$500,N7)","v":0},{"$f":"O7/$Q$4","v":0},{"$f":"IF(P7=0,0,(P7*((LOG(P7))/LOG(2))))","v":0},null,null,{"$f":"N7","v":111},{"$f":"COUNTIF(L7:L18,T7)","v":0},{"$f":"U7/(W4-U11)","v":0},{"$f":"IF(V7=0,0,(V7*((LOG(V7))/LOG(2))))","v":0},null,{"$f":"N7","v":111},{"$f":"COUNTIF(L19:L29,Y7)","v":0},{"$f":"Z7/(AB4-Z11)","v":0},{"$f":"IF(AA7=0,0,(AA7*((LOG(AA7))/LOG(2))))","v":0},null,{"$f":"N7","v":111},{"$f":"COUNTIF(L30:L41,AD7)","v":0},{"$f":"AE7/(AG4-AE11)","v":0},{"$f":"IF(AF7=0,0,(AF7*((LOG(AF7))/LOG(2))))","v":0},null,{"$f":"N7","v":111},{"$f":"COUNTIF(L42:L52,AI7)","v":0},{"$f":"AJ7/(AL4-AJ11)","v":0},{"$f":"IF(AK7=0,0,(AK7*((LOG(AK7))/LOG(2))))","v":0},null,{"$f":"N7","v":111},{"$f":"COUNTIF(L53:L64,AN7)","v":0},{"$f":"AO7/(AQ4-AO11)","v":0},{"$f":"IF(AP7=0,0,(AP7*((LOG(AP7))/LOG(2))))","v":0},null,{"$f":"N7","v":111},{"$f":"COUNTIF(L65:L75,AS7)","v":0},{"$f":"AT7/(AV4-AT11)","v":0},{"$f":"IF(AU7=0,0,(AU7*((LOG(AU7))/LOG(2))))","v":0}]
[12,208,24,224,24,235,null,null,null,null,0,122,null,112,{"$f":"COUNTIF($L$7:$L$500,N8)","v":1},{"$f":"O8/$Q$4","v":1.4492753623188406E-2},{"$f":"IF(P8=0,0,(P8*((LOG(P8))/LOG(2))))","v":-8.8529339953306793E-2},null,null,{"$f":"N8","v":112},{"$f":"COUNTIF(L7:L18,T8)","v":1},{"$f":"U8/(W4-U11)","v":8.3333333333333329E-2},{"$f":"IF(V8=0,0,(V8*((LOG(V8))/LOG(2))))","v":-0.29874687506009634},null,{"$f":"N8","v":112},{"$f":"COUNTIF(L19:L29,Y8)","v":0},{"$f":"Z8/(AB4-Z11)","v":0},{"$f":"IF(AA8=0,0,(AA8*((LOG(AA8))/LOG(2))))","v":0},null,{"$f":"N8","v":112},{"$f":"COUNTIF(L30:L41,AD8)","v":0},{"$f":"AE8/(AG4-AE11)","v":0},{"$f":"IF(AF8=0,0,(AF8*((LOG(AF8))/LOG(2))))","v":0},null,{"$f":"N8","v":112},{"$f":"COUNTIF(L42:L52,AI8)","v":0},{"$f":"AJ8/(AL4-AJ11)","v":0},{"$f":"IF(AK8=0,0,(AK8*((LOG(AK8))/LOG(2))))","v":0},null,{"$f":"N8","v":112},{"$f":"COUNTIF(L53:L64,AN8)","v":0},{"$f":"AO8/(AQ4-AO11)","v":0},{"$f":"IF(AP8=0,0,(AP8*((LOG(AP8))/LOG(2))))","v":0},null,{"$f":"N8","v":112},{"$f":"COUNTIF(L65:L75,AS8)","v":0},{"$f":"AT8/(AV4-AT11)","v":0},{"$f":"IF(AU8=0,0,(AU8*((LOG(AU8))/LOG(2))))","v":0}]
[12,336,24,374,24,384,null,null,null,null,0,122,null,121,{"$f":"COUNTIF($L$7:$L$500,N9)","v":0},{"$f":"O9/$Q$4","v":0},{"$f":"IF(P9=0,0,(P9*((LOG(P9))/LOG(2))))","v":0},null,null,{"$f":"N9","v":121},{"$f":"COUNTIF(L7:L18,T9)","v":0},{"$f":"U9/(W4-U11)","v":0},{"$f":"IF(V9=0,0,(V9*((LOG(V9))/LOG(2))))","v":0},null,{"$f":"N9","v":121},{"$f":"COUNTIF(L19:L29,Y9)","v":0},{"$f":"Z9/(AB4-Z11)","v":0},{"$f":"IF(AA9=0,0,(AA9*((LOG(AA9))/LOG(2))))","v":0},null,{"$f":"N9","v":121},{"$f":"COUNTIF(L30:L41,AD9)","v":0},{"$f":"AE9/(AG4-AE11)","v":0},{"$f":"IF(AF9=0,0,(AF9*((LOG(AF9))/LOG(2))))","v":0},null,{"$f":"N9","v":121},{"$f":"COUNTIF(L42:L52,AI9)","v":0},{"$f":"AJ9/(AL4-AJ11)","v":0},{"$f":"IF(AK9=0,0,(AK9*((LOG(AK9))/LOG(2))))","v":0},null,{"$f":"N9","v":121},{"$f":"COUNTIF(L53:L64,AN9)","v":0},{"$f":"AO9/(AQ4-AO11)","v":0},{"$f":"IF(AP9=0,0,(AP9*((LOG(AP9))/LOG(2))))","v":0},null,{"$f":"N9","v":121},{"$f":"COUNTIF(L65:L75,AS9)","v":0},{"$f":"AT9/(AV4-AT11)","v":0},{"$f":"IF(AU9=0,0,(AU9*((LOG(AU9))/LOG(2))))","v":0}]
[12,484,13,500,24,520,null,null,null,null,0,112,null,122,{"$f":"COUNTIF($L$7:$L$500,N10)","v":47},{"$f":"O10/$Q$4","v":0.6811594202898551},{"$f":"IF(P10=0,0,(P10*((LOG(P10))/LOG(2))))","v":-0.37731845564818822},null,null,{"$f":"N10","v":122},{"$f":"COUNTIF(L7:L18,T10)","v":5},{"$f":"U10/(W4-U11)","v":0.41666666666666669},{"$f":"IF(V10=0,0,(V10*((LOG(V10))/LOG(2))))","v":-0.52626433576408083},null,{"$f":"N10","v":122},{"$f":"COUNTIF(L19:L29,Y10)","v":9},{"$f":"Z10/(AB4-Z11)","v":0.81818181818181823},{"$f":"IF(AA10=0,0,(AA10*((LOG(AA10))/LOG(2))))","v":-0.23686905043226034},null,{"$f":"N10","v":122},{"$f":"COUNTIF(L30:L41,AD10)","v":10},{"$f":"AE10/(AG4-AE11)","v":0.83333333333333337},{"$f":"IF(AF10=0,0,(AF10*((LOG(AF10))/LOG(2))))","v":-0.21919533819482812},null,{"$f":"N10","v":122},{"$f":"COUNTIF(L42:L52,AI10)","v":8},{"$f":"AJ10/(AL4-AJ11)","v":0.72727272727272729},{"$f":"IF(AK10=0,0,(AK10*((LOG(AK10))/LOG(2))))","v":-0.33413208628167068},null,{"$f":"N10","v":122},{"$f":"COUNTIF(L53:L64,AN10)","v":9},{"$f":"AO10/(AQ4-AO11)","v":0.75},{"$f":"IF(AP10=0,0,(AP10*((LOG(AP10))/LOG(2))))","v":-0.31127812445913283},null,{"$f":"N10","v":122},{"$f":"COUNTIF(L65:L75,AS10)","v":6},{"$f":"AT10/(AV4-AT11)","v":0.54545454545454541},{"$f":"IF(AU10=0,0,(AU10*((LOG(AU10))/LOG(2))))","v":-0.47698315522698609}]
[12,623,24,714,24,745,null,null,null,null,0,122,null,211,{"$f":"COUNTIF($L$7:$L$500,N11)","v":0},{"$f":"O11/$Q$4","v":0},{"$f":"IF(P11=0,0,(P11*((LOG(P11))/LOG(2))))","v":0},null,null,{"$f":"N11","v":211},{"$f":"COUNTIF(L7:L18,T11)","v":0},null,null,null,{"$f":"N11","v":211},{"$f":"COUNTIF(L19:L29,Y11)","v":0},null,null,null,{"$f":"N11","v":211},{"$f":"COUNTIF(L30:L41,AD11)","v":0},null,null,null,{"$f":"N11","v":211},{"$f":"COUNTIF(L42:L52,AI11)","v":0},null,null,null,{"$f":"N11","v":211},{"$f":"COUNTIF(L53:L64,AN11)","v":0},null,null,null,{"$f":"N11","v":211},{"$f":"COUNTIF(L65:L75,AS11)","v":0}]
[12,847,24,864,24,875,null,null,null,null,0,122,null,212,{"$f":"COUNTIF($L$7:$L$500,N12)","v":0},{"$f":"O12/$Q$4","v":0},{"$f":"IF(P12=0,0,(P12*((LOG(P12))/LOG(2))))","v":0},null,null,{"$f":"N12","v":212},{"$f":"COUNTIF(L7:L18,T12)","v":0},{"$f":"U12/(W4-U11)","v":0},{"$f":"IF(V12=0,0,(V12*((LOG(V12))/LOG(2))))","v":0},null,{"$f":"N12","v":212},{"$f":"COUNTIF(L19:L29,Y12)","v":0},{"$f":"Z12/(AB4-Z11)","v":0},{"$f":"IF(AA12=0,0,(AA12*((LOG(AA12))/LOG(2))))","v":0},null,{"$f":"N12","v":212},{"$f":"COUNTIF(L30:L41,AD12)","v":0},{"$f":"AE12/(AG4-AE11)","v":0},{"$f":"IF(AF12=0,0,(AF12*((LOG(AF12))/LOG(2))))","v":0},null,{"$f":"N12","v":212},{"$f":"COUNTIF(L42:L52,AI12)","v":0},{"$f":"AJ12/(AL4-AJ11)","v":0},{"$f":"IF(AK12=0,0,(AK12*((LOG(AK12))/LOG(2))))","v":0},null,{"$f":"N12","v":212},{"$f":"COUNTIF(L53:L64,AN12)","v":0},{"$f":"AO12/(AQ4-AO11)","v":0},{"$f":"IF(AP12=0,0,(AP12*((LOG(AP12))/LOG(2))))","v":0},null,{"$f":"N12","v":212},{"$f":"COUNTIF(L65:L75,AS12)","v":0},{"$f":"AT12/(AV4-AT11)","v":0},{"$f":"IF(AU12=0,0,(AU12*((LOG(AU12))/LOG(2))))","v":0}]
[21,1010,22,1022,24,1045,null,null,null,null,0,222,null,221,{"$f":"COUNTIF($L$7:$L$500,N13)","v":0},{"$f":"O13/$Q$4","v":0},{"$f":"IF(P13=0,0,(P13*((LOG(P13))/LOG(2))))","v":0},null,null,{"$f":"N13","v":221},{"$f":"COUNTIF(L7:L18,T13)","v":0},{"$f":"U13/(W4-U11)","v":0},{"$f":"IF(V13=0,0,(V13*((LOG(V13))/LOG(2))))","v":0},null,{"$f":"N13","v":221},{"$f":"COUNTIF(L19:L29,Y13)","v":0},{"$f":"Z13/(AB4-Z11)","v":0},{"$f":"IF(AA13=0,0,(AA13*((LOG(AA13))/LOG(2))))","v":0},null,{"$f":"N13","v":221},{"$f":"COUNTIF(L30:L41,AD13)","v":0},{"$f":"AE13/(AG4-AE11)","v":0},{"$f":"IF(AF13=0,0,(AF13*((LOG(AF13))/LOG(2))))","v":0},null,{"$f":"N13","v":221},{"$f":"COUNTIF(L42:L52,AI13)","v":0},{"$f":"AJ13/(AL4-AJ11)","v":0},{"$f":"IF(AK13=0,0,(AK13*((LOG(AK13))/LOG(2))))","v":0},null,{"$f":"N13","v":221},{"$f":"COUNTIF(L53:L64,AN13)","v":0},{"$f":"AO13/(AQ4-AO11)","v":0},{"$f":"IF(AP13=0,0,(AP13*((LOG(AP13))/LOG(2))))","v":0},null,{"$f":"N13","v":221},{"$f":"COUNTIF(L65:L75,AS13)","v":0},{"$f":"AT13/(AV4-AT11)","v":0},{"$f":"IF(AU13=0,0,(AU13*((LOG(AU13))/LOG(2))))","v":0}]
[21,1164,22,1173,24,1212,null,null,null,null,0,222,null,222,{"$f":"COUNTIF($L$7:$L$500,N14)","v":21},{"$f":"O14/$Q$4","v":0.30434782608695654},{"$f":"IF(P14=0,0,(P14*((LOG(P14))/LOG(2))))","v":-0.52232387991286355},null,null,{"$f":"N14","v":222},{"$f":"COUNTIF(L7:L18,T14)","v":6},{"$f":"U14/(W4-U11)","v":0.5},{"$f":"IF(V14=0,0,(V14*((LOG(V14))/LOG(2))))","v":-0.5},null,{"$f":"N14","v":222},{"$f":"COUNTIF(L19:L29,Y14)","v":2},{"$f":"Z14/(AB4-Z11)","v":0.18181818181818182},{"$f":"IF(AA14=0,0,(AA14*((LOG(AA14))/LOG(2))))","v":-0.44716938520678134},null,{"$f":"N14","v":222},{"$f":"COUNTIF(L30:L41,AD14)","v":2},{"$f":"AE14/(AG4-AE11)","v":0.16666666666666666},{"$f":"IF(AF14=0,0,(AF14*((LOG(AF14))/LOG(2))))","v":-0.43082708345352599},null,{"$f":"N14","v":222},{"$f":"COUNTIF(L42:L52,AI14)","v":3},{"$f":"AJ14/(AL4-AJ11)","v":0.27272727272727271},{"$f":"IF(AK14=0,0,(AK14*((LOG(AK14))/LOG(2))))","v":-0.51121885034076575},null,{"$f":"N14","v":222},{"$f":"COUNTIF(L53:L64,AN14)","v":3},{"$f":"AO14/(AQ4-AO11)","v":0.25},{"$f":"IF(AP14=0,0,(AP14*((LOG(AP14))/LOG(2))))","v":-0.5},null,{"$f":"N14","v":222},{"$f":"COUNTIF(L65:L75,AS14)","v":5},{"$f":"AT14/(AV4-AT11)","v":0.45454545454545453},{"$f":"IF(AU14=0,0,(AU14*((LOG(AU14))/LOG(2))))","v":-0.51704705624997038}]
[21,1338,22,1348,24,1359,null,null,null,null,0,222,null,null,null,{"$f":"SUM(P7:P14)","v":1},{"$f":"-SUM(Q7:Q14)","v":0.98817167551435858},null,null,null,null,{"$f":"SUM(V7:V14)","v":1},{"$f":"-SUM(W7:W14)","v":1.3250112108241772},null,null,null,{"$f":"SUM(AA7:AA14)","v":1},{"$f":"-SUM(AB7:AB14)","v":0.68403843563904165},null,null,null,{"$f":"SUM(AF7:AF14)","v":1},{"$f":"-SUM(AG7:AG14)","v":0.65002242164835411},null,null,null,{"$f":"SUM(AK7:AK14)","v":1},{"$f":"-SUM(AL7:AL14)","v":0.84535093662243643},null,null,null,{"$f":"SUM(AP7:AP14)","v":1},{"$f":"-SUM(AQ7:AQ14)","v":0.81127812445913283},null,null,null,{"$f":"SUM(AU7:AU14)","v":1},{"$f":"-SUM(AV7:AV14)","v":0.99403021147695647}]
[21,1476,22,1485,24,1498,null,null,null,null,0,222,null,null,null,"U=",{"$f":"Q15/(LOG(Q4)/LOG(2))","v":0.16176929183247504},null,null,null,null,"U1=",{"$f":"W15/(LOG(W4)/LOG(2))","v":0.36960253016806616},null,null,null,"U2=",{"$f":"AB15/(LOG(AB4)/LOG(2))","v":0.19773145159275926},null,null,null,"U3=",{"$f":"AG15/(LOG(AG4)/LOG(2))","v":0.18131916903387263},null,null,null,"U4=",{"$f":"AL15/(LOG(AL4)/LOG(2))","v":0.24436122167242838},null,null,null,"U5=",{"$f":"AQ15/(LOG(AQ4)/LOG(2))","v":0.22630030977895443},null,null,null,"U6=",{"$f":"AV15/(LOG(AV4)/LOG(2))","v":0.2873391704353197}]
[21,1610,22,1619,24,1637,null,null,null,null,0,222]
[12,1741,24,1758,24,1769,null,null,null,null,0,122]
[21,1875,22,1886,24,1894,null,null,null,null,0,222,null,"Total Target Seq"]
[12,2000,24,2020,24,2033,null,null,null,null,0,122,null,{"$f":"COUNTIF(L7:L75,G3)","v":0},null,12,11,12,11,12,11]
[12,2141,24,2157,24,2167,null,null,null,null,0,122,null,null,null,"% of reinforcement given in 6 equal intervals based on number of trials "]
[21,2338,22,2349,24,2356,null,null,null,null,0,222,null,null,null,"%_1","%_2","%_3","%_4","%_5","%_6"]
[12,2459,24,2472,24,2497,null,null,null,null,0,122,null,null,"target sequence",{"$f":"$G$3","v":211},{"$f":"$G$3","v":211},{"$f":"$G$3","v":211},{"$f":"$G$3","v":211},{"$f":"$G$3","v":211},{"$f":"$G$3","v":211}]
[12,2603,24,2623,24,2636,null,null,null,null,0,122,null,null,"total reinforcement",{"$f":"U11","v":0},{"$f":"Z11","v":0},{"$f":"AE11","v":0},{"$f":"AJ11","v":0},{"$f":"AO11","v":0},{"$f":"AT11","v":0}]
[12,2744,24,2761,24,2772,null,null,null,null,0,122,null,null,"% target"]
[12,2872,24,2885,24,2894,null,null,null,null,0,122,null,null,"CCRF"]
[12,3001,24,3017,24,3026,null,null,null,null,0,122,null,null,"% CCRf"]
[12,3129,24,3144,24,3155,null,null,null,null,0,122,null,null,"average response rate",{"$f":"F18/P20","v":147.41666666666666},{"$f":"(F29-F18)/Q20","v":137.72727272727272},{"$f":"(F41-F29)/R20","v":141.16666666666666},{"$f":"(F52-F41)/S20","v":144.90909090909091},{"$f":"(F64-F52)/T20","v":189.66666666666666},{"$f":"(F75-F64)/U20","v":1206}]
[12,3256,24,3276,24,3284,null,null,null,null,0,122]
[12,3385,24,3402,24,3412,null,null,null,null,0,122]
[12,3507,24,3523,24,3532,null,null,null,null,0,122]
[21,3643,22,3653,24,3662,null,null,null,null,0,222]
[12,3768,24,3781,24,3790,null,null,null,null,0,122]
[12,3889,24,3904,24,3916,null,null,null,null,0,122]
[12,4014,24,4031,24,4040,null,null,null,null,0,122]
[12,4141,24,4153,24,4163,null,null,null,null,0,122]
[12,4267,24,4284,24,4296,null,null,null,null,0,122]
[12,4407,24,4425,24,4602,null,null,null,null,0,122]
[21,4710,22,4718,24,4728,null,null,null,null,0,222]
[12,4833,24,4848,24,4859,null,null,null,null,0,122]
[12,4952,24,4967,24,4978,null,null,null,null,0,122]
[12,5084,24,5098,24,5109,null,null,null,null,0,122]
[12,5223,24,5238,24,5248,null,null,null,null,0,122]
[12,5347,24,5362,24,5371,null,null,null,null,0,122]
[21,5479,22,5488,24,5496,null,null,null,null,0,222]
[21,5608,22,5619,24,5635,null,null,null,null,0,222]
[12,5740,24,5754,24,5764,null,null,null,null,0,122]
[21,5887,22,5900,24,5909,null,null,null,null,0,222]
[12,6085,24,6106,24,6124,null,null,null,null,0,122]
[12,6229,24,6240,24,6248,null,null,null,null,0,122]
[12,6354,24,6370,24,6380,null,null,null,null,0,122]
[12,6544,24,6562,24,6572,null,null,null,null,0,122]
[12,6681,24,6694,24,6712,null,null,null,null,0,122]
[12,6820,24,6837,24,6860,null,null,null,null,0,122]
[12,6964,24,6983,24,6993,null,null,null,null,0,122]
[21,7101,22,7109,24,7120,null,null,null,null,0,222]
[12,7279,24,7296,24,7345,null,null,null,null,0,122]
[12,7469,24,7479,24,7492,null,null,null,null,0,122]
[12,7595,24,7605,24,7615,null,null,null,null,0,122]
[12,7716,24,7728,24,7737,null,null,null,null,0,122]
[21,7842,22,7851,24,7861,null,null,null,null,0,222]
[21,7966,22,7983,24,7991,null,null,null,null,0,222]
[12,8243,24,8254,24,8272,null,null,null,null,0,122]
[12,8825,24,8839,24,8848,null,null,null,null,0,122]
[12,9466,24,9476,24,9487,null,null,null,null,0,122]
[12,9588,24,9597,24,9608,null,null,null,null,0,122]
[21,12083,22,12093,24,12112,null,null,null,null,0,222]
[12,15868,24,15891,24,15903,null,null,null,null,0,122]
[21,16019,22,16027,24,16044,null,null,null,null,0,222]
[12,16146,24,16160,24,16168,null,null,null,null,0,122]
[21,19245,22,19255,24,19266,null,null,null,null,0,222]
[12,19374,24,19383,24,19388,null,null,null,null,0,122]
[21,21813,22,21828,24,21837,null,null,null,null,0,222]
[12,21935,24,21946,24,21952,null,null,null,null,0,122]
[21,22096,22,22105,24,22114,null,null,null,null,0,222]

{"sheet":"!M922820.091","index":4,"n_rows":185,"n_cols":48,"rows_kept":185,"cut":false,"hidden":false,"merged":[[4,39,4,42],[5,39,5,40],[4,44,4,47],[5,44,5,45],[4,24,4,27],[5,24,5,25],[4,29,4,32],[5,29,5,30],[4,34,4,37],[5,34,5,35],[1,1,1,2],[5,13,5,14],[18,13,18,14],[19,13,19,14],[4,19,4,22],[5,19,5,20]]}
["Report for:!M922820.091"]
["Date:","<date>"]
["Hen:","<hen>",null,null,null,"Correct Sequence",{"$f":"Start!J2","v":211},null,null,null,null,null,null,null,null,"Total Sequences in Data",{"$f":"4994-COUNTBLANK(L7:L5000)","v":179},null,null,null,null,"Total Sequences in Block Data",{"$f":"COUNTA(L7:L36)","v":30},null,null,null,"Total Sequences in Block Data",{"$f":"COUNTA(L37:L66)","v":30},null,null,null,"Total Sequences in Block Data",{"$f":"COUNTA(L67:L95)","v":29},null,null,null,"Total Sequences in Block Data",{"$f":"COUNTA(L96:L125)","v":30},null,null,null,"Total Sequences in Block Data",{"$f":"COUNTA(L126:L155)","v":30},null,null,null,"Total Sequences in Block Data",{"$f":"COUNTA(L156:L185)","v":30}]
[null,null,null,null,null,null,null,null,null,null,null,null,null,null,null,"Total Sequences in Summary",{"$f":"SUM(O7:O14)","v":179},null,null,null,null,"Total Sequences in Block Summary",{"$f":"SUM(U7:U14)","v":30},null,null,null,"Total Sequences in Block Summary",{"$f":"SUM(Z7:Z14)","v":30},null,null,null,"Total Sequences in Block Summary",{"$f":"SUM(AE7:AE14)","v":29},null,null,null,"Total Sequences in Block Summary",{"$f":"SUM(AJ7:AJ14)","v":30},null,null,null,"Total Sequences in Block Summary",{"$f":"SUM(AO7:AO14)","v":30},null,null,null,"Total Sequences in Block Summary",{"$f":"SUM(AT7:AT14)","v":30}]
[null,null,null,null,null,null,null,null,null,null,null,null,null,null,null,null,null,null,null,"Block 1",null,null,null,null,"Block 2",null,null,null,null,"Block 3",null,null,null,null,"Block 4",null,null,null,null,"Block 5",null,null,null,null,"Block 6"]
["Sequence\nComponent\n1","Time\n1","Sequence\nComponent\n2","Time\n2","Sequence\nComponent\n3","Time\n3","Sequence\nComponent\n4","Time\n4","Sequence\nComponent\n5","Time\n5","Correct?\n0=No 1=Yes","Sequence",null,"Frequency",null,"Relative Frequency","Variability",null,null,"Frequency",null,"Relative Frequency","Variability",null,"Frequency",null,"Relative Frequency","Variability",null,"Frequency",null,"Relative Frequency","Variability",null,"Frequency",null,"Relative Frequency","Variability",null,"Frequency",null,"Relative Frequency","Variability",null,"Frequency",null,"Relative Frequency","Variability"]
[12,30,24,44,24,53,null,null,null,null,0,122,null,111,{"$f":"COUNTIF($L$7:$L$500,N7)","v":0},{"$f":"O7/$Q$4","v":0},{"$f":"IF(P7=0,0,(P7*((LOG(P7))/LOG(2))))","v":0},null,null,{"$f":"N7","v":111},{"$f":"COUNTIF(L7:L36,T7)","v":0},{"$f":"U7/(W4-U11)","v":0},{"$f":"IF(V7=0,0,(V7*((LOG(V7))/LOG(2))))","v":0},null,{"$f":"N7","v":111},{"$f":"COUNTIF(L37:L66,Y7)","v":0},{"$f":"Z7/(AB4-Z11)","v":0},{"$f":"IF(AA7=0,0,(AA7*((LOG(AA7))/LOG(2))))","v":0},null,{"$f":"N7","v":111},{"$f":"COUNTIF(L67:L95,AD7)","v":0},{"$f":"AE7/(AG4-AE11)","v":0},{"$f":"IF(AF7=0,0,(AF7*((LOG(AF7))/LOG(2))))","v":0},null,{"$f":"N7","v":111},{"$f":"COUNTIF(L96:L125,AI7)","v":0},{"$f":"AJ7/(AL4-AJ11)","v":0},{"$f":"IF(AK7=0,0,(AK7*((LOG(AK7))/LOG(2))))","v":0},null,{"$f":"N7","v":111},{"$f":"COUNTIF(L126:L155,AN7)","v":0},{"$f":"AO7/(AQ4-AO11)","v":0},{"$f":"IF(AP7=0,0,(AP7*((LOG(AP7))/LOG(2))))","v":0},null,{"$f":"N7","v":111},{"$f":"COUNTIF(L156:L185,AS7)","v":0},{"$f":"AT7/(AV4-AT11)","v":0},{"$f":"IF(AU7=0,0,(AU7*((LOG(AU7))/LOG(2))))","v":0}]
[21,171,22,180,24,189,null,null,null,null,0,222,null,112,{"$f":"COUNTIF($L$7:$L$500,N8)","v":4},{"$f":"O8/$Q$4","v":2.23463687150838E-2},{"$f":"IF(P8=0,0,(P8*((LOG(P8))/LOG(2))))","v":-0.12254336932434093},null,null,{"$f":"N8","v":112},{"$f":"COUNTIF(L7:L36,T8)","v":2},{"$f":"U8/(W4-U11)","v":6.6666666666666666E-2},{"$f":"IF(V8=0,0,(V8*((LOG(V8))/LOG(2))))","v":-0.26045937304056793},null,{"$f":"N8","v":112},{"$f":"COUNTIF(L37:L66,Y8)","v":2},{"$f":"Z8/(AB4-Z11)","v":6.6666666666666666E-2},{"$f":"IF(AA8=0,0,(AA8*((LOG(AA8))/LOG(2))))","v":-0.26045937304056793},null,{"$f":"N8","v":112},{"$f":"COUNTIF(L67:L95,AD8)","v":0},{"$f":"AE8/(AG4-AE11)","v":0},{"$f":"IF(AF8=0,0,(AF8*((LOG(AF8))/LOG(2))))","v":0},null,{"$f":"N8","v":112},{"$f":"COUNTIF(L96:L125,AI8)","v":0},{"$f":"AJ8/(AL4-AJ11)","v":0},{"$f":"IF(AK8=0,0,(AK8*((LOG(AK8))/LOG(2))))","v":0},null,{"$f":"N8","v":112},{"$f":"COUNTIF(L126:L155,AN8)","v":0},{"$f":"AO8/(AQ4-AO11)","v":0},{"$f":"IF(AP8=0,0,(AP8*((LOG(AP8))/LOG(2))))","v":0},null,{"$f":"N8","v":112},{"$f":"COUNTIF(L156:L185,AS8)","v":0},{"$f":"AT8/(AV4-AT11)","v":0},{"$f":"IF(AU8=0,0,(AU8*((LOG(AU8))/LOG(2))))","v":0}]
[12,288,24,303,24,318,null,null,null,null,0,122,null,121,{"$f":"COUNTIF($L$7:$L$500,N9)","v":0},{"$f":"O9/$Q$4","v":0},{"$f":"IF(P9=0,0,(P9*((LOG(P9))/LOG(2))))","v":0},null,null,{"$f":"N9","v":121},{"$f":"COUNTIF(L7:L36,T9)","v":0},{"$f":"U9/(W4-U11)","v":0},{"$f":"IF(V9=0,0,(V9*((LOG(V9))/LOG(2))))","v":0},null,{"$f":"N9","v":121},{"$f":"COUNTIF(L37:L66,Y9)","v":0},{"$f":"Z9/(AB4-Z11)","v":0},{"$f":"IF(AA9=0,0,(AA9*((LOG(AA9))/LOG(2))))","v":0},null,{"$f":"N9","v":121},{"$f":"COUNTIF(L67:L95,AD9)","v":0},{"$f":"AE9/(AG4-AE11)","v":0},{"$f":"IF(AF9=0,0,(AF9*((LOG(AF9))/LOG(2))))","v":0},null,{"$f":"N9","v":121},{"$f":"COUNTIF(L96:L125,AI9)","v":0},{"$f":"AJ9/(AL4-AJ11)","v":0},{"$f":"IF(AK9=0,0,(AK9*((LOG(AK9))/LOG(2))))","v":0},null,{"$f":"N9","v":121},{"$f":"COUNTIF(L126:L155,AN9)","v":0},{"$f":"AO9/(AQ4-AO11)","v":0},{"$f":"IF(AP9=0,0,(AP9*((LOG(AP9))/LOG(2))))","v":0},null,{"$f":"N9","v":121},{"$f":"COUNTIF(L156:L185,AS9)","v":0},{"$f":"AT9/(AV4-AT11)","v":0},{"$f":"IF(AU9=0,0,(AU9*((LOG(AU9))/LOG(2))))","v":0}]
[12,421,24,436,24,448,null,null,null,null,0,122,null,122,{"$f":"COUNTIF($L$7:$L$500,N10)","v":134},{"$f":"O10/$Q$4","v":0.74860335195530725},{"$f":"IF(P10=0,0,(P10*((LOG(P10))/LOG(2))))","v":-0.3127115230841836},null,null,{"$f":"N10","v":122},{"$f":"COUNTIF(L7:L36,T10)","v":18},{"$f":"U10/(W4-U11)","v":0.6},{"$f":"IF(V10=0,0,(V10*((LOG(V10))/LOG(2))))","v":-0.44217935649972373},null,{"$f":"N10","v":122},{"$f":"COUNTIF(L37:L66,Y10)","v":19},{"$f":"Z10/(AB4-Z11)","v":0.6333333333333333},{"$f":"IF(AA10=0,0,(AA10*((LOG(AA10))/LOG(2))))","v":-0.41734328537112425},null,{"$f":"N10","v":122},{"$f":"COUNTIF(L67:L95,AD10)","v":25},{"$f":"AE10/(AG4-AE11)","v":0.86206896551724133},{"$f":"IF(AF10=0,0,(AF10*((LOG(AF10))/LOG(2))))","v":-0.18459034944210989},null,{"$f":"N10","v":122},{"$f":"COUNTIF(L96:L125,AI10)","v":27},{"$f":"AJ10/(AL4-AJ11)","v":0.9},{"$f":"IF(AK10=0,0,(AK10*((LOG(AK10))/LOG(2))))","v":-0.13680278410054494},null,{"$f":"N10","v":122},{"$f":"COUNTIF(L126:L155,AN10)","v":28},{"$f":"AO10/(AQ4-AO11)","v":0.93333333333333335},{"$f":"IF(AP10=0,0,(AP10*((LOG(AP10))/LOG(2))))","v":-9.2899961980853443E-2},null,{"$f":"N10","v":122},{"$f":"COUNTIF(L156:L185,AS10)","v":17},{"$f":"AT10/(AV4-AT11)","v":0.56666666666666665},{"$f":"IF(AU10=0,0,(AU10*((LOG(AU10))/LOG(2))))","v":-0.46434239413630152}]
[21,564,22,574,24,601,null,null,null,null,0,222,null,211,{"$f":"COUNTIF($L$7:$L$500,N11)","v":0},{"$f":"O11/$Q$4","v":0},{"$f":"IF(P11=0,0,(P11*((LOG(P11))/LOG(2))))","v":0},null,null,{"$f":"N11","v":211},{"$f":"COUNTIF(L7:L36,T11)","v":0},null,null,null,{"$f":"N11","v":211},{"$f":"COUNTIF(L37:L66,Y11)","v":0},null,null,null,{"$f":"N11","v":211},{"$f":"COUNTIF(L67:L95,AD11)","v":0},null,null,null,{"$f":"N11","v":211},{"$f":"COUNTIF(L96:L125,AI11)","v":0},null,null,null,{"$f":"N11","v":211},{"$f":"COUNTIF(L126:L155,AN11)","v":0},null,null,null,{"$f":"N11","v":211},{"$f":"COUNTIF(L156:L185,AS11)","v":0}]
[21,708,22,720,24,728,null,null,null,null,0,222,null,212,{"$f":"COUNTIF($L$7:$L$500,N12)","v":0},{"$f":"O12/$Q$4","v":0},{"$f":"IF(P12=0,0,(P12*((LOG(P12))/LOG(2))))","v":0},null,null,{"$f":"N12","v":212},{"$f":"COUNTIF(L7:L36,T12)","v":0},{"$f":"U12/(W4-U11)","v":0},{"$f":"IF(V12=0,0,(V12*((LOG(V12))/LOG(2))))","v":0},null,{"$f":"N12","v":212},{"$f":"COUNTIF(L37:L66,Y12)","v":0},{"$f":"Z12/(AB4-Z11)","v":0},{"$f":"IF(AA12=0,0,(AA12*((LOG(AA12))/LOG(2))))","v":0},null,{"$f":"N12","v":212},{"$f":"COUNTIF(L67:L95,AD12)","v":0},{"$f":"AE12/(AG4-AE11)","v":0},{"$f":"IF(AF12=0,0,(AF12*((LOG(AF12))/LOG(2))))","v":0},null,{"$f":"N12","v":212},{"$f":"COUNTIF(L96:L125,AI12)","v":0},{"$f":"AJ12/(AL4-AJ11)","v":0},{"$f":"IF(AK12=0,0,(AK12*((LOG(AK12))/LOG(2))))","v":0},null,{"$f":"N12","v":212},{"$f":"COUNTIF(L126:L155,AN12)","v":0},{"$f":"AO12/(AQ4-AO11)","v":0},{"$f":"IF(AP12=0,0,(AP12*((LOG(AP12))/LOG(2))))","v":0},null,{"$f":"N12","v":212},{"$f":"COUNTIF(L156:L185,AS12)","v":0},{"$f":"AT12/(AV4-AT11)","v":0},{"$f":"IF(AU12=0,0,(AU12*((LOG(AU12))/LOG(2))))","v":0}]
[12,827,24,838,24,851,null,null,null,null,0,122,null,221,{"$f":"COUNTIF($L$7:$L$500,N13)","v":0},{"$f":"O13/$Q$4","v":0},{"$f":"IF(P13=0,0,(P13*((LOG(P13))/LOG(2))))","v":0},null,null,{"$f":"N13","v":221},{"$f":"COUNTIF(L7:L36,T13)","v":0},{"$f":"U13/(W4-U11)","v":0},{"$f":"IF(V13=0,0,(V13*((LOG(V13))/LOG(2))))","v":0},null,{"$f":"N13","v":221},{"$f":"COUNTIF(L37:L66,Y13)","v":0},{"$f":"Z13/(AB4-Z11)","v":0},{"$f":"IF(AA13=0,0,(AA13*((LOG(AA13))/LOG(2))))","v":0},null,{"$f":"N13","v":221},{"$f":"COUNTIF(L67:L95,AD13)","v":0},{"$f":"AE13/(AG4-AE11)","v":0},{"$f":"IF(AF13=0,0,(AF13*((LOG(AF13))/LOG(2))))","v":0},null,{"$f":"N13","v":221},{"$f":"COUNTIF(L96:L125,AI13)","v":0},{"$f":"AJ13/(AL4-AJ11)","v":0},{"$f":"IF(AK13=0,0,(AK13*((LOG(AK13))/LOG(2))))","v":0},null,{"$f":"N13","v":221},{"$f":"COUNTIF(L126:L155,AN13)","v":0},{"$f":"AO13/(AQ4-AO11)","v":0},{"$f":"IF(AP13=0,0,(AP13*((LOG(AP13))/LOG(2))))","v":0},null,{"$f":"N13","v":221},{"$f":"COUNTIF(L156:L185,AS13)","v":0},{"$f":"AT13/(AV4-AT11)","v":0},{"$f":"IF(AU13=0,0,(AU13*((LOG(AU13))/LOG(2))))","v":0}]
[21,954,22,961,24,969,null,null,null,null,0,222,null,222,{"$f":"COUNTIF($L$7:$L$500,N14)","v":41},{"$f":"O14/$Q$4","v":0.22905027932960895},{"$f":"IF(P14=0,0,(P14*((LOG(P14))/LOG(2))))","v":-0.48702131105303398},null,null,{"$f":"N14","v":222},{"$f":"COUNTIF(L7:L36,T14)","v":10},{"$f":"U14/(W4-U11)","v":0.33333333333333331},{"$f":"IF(V14=0,0,(V14*((LOG(V14))/LOG(2))))","v":-0.52832083357371862},null,{"$f":"N14","v":222},{"$f":"COUNTIF(L37:L66,Y14)","v":9},{"$f":"Z14/(AB4-Z11)","v":0.3},{"$f":"IF(AA14=0,0,(AA14*((LOG(AA14))/LOG(2))))","v":-0.52108967824986185},null,{"$f":"N14","v":222},{"$f":"COUNTIF(L67:L95,AD14)","v":4},{"$f":"AE14/(AG4-AE11)","v":0.13793103448275862},{"$f":"IF(AF14=0,0,(AF14*((LOG(AF14))/LOG(2))))","v":-0.39420427519000989},null,{"$f":"N14","v":222},{"$f":"COUNTIF(L96:L125,AI14)","v":3},{"$f":"AJ14/(AL4-AJ11)","v":0.1},{"$f":"IF(AK14=0,0,(AK14*((LOG(AK14))/LOG(2))))","v":-0.33219280948873625},null,{"$f":"N14","v":222},{"$f":"COUNTIF(L126:L155,AN14)","v":2},{"$f":"AO14/(AQ4-AO11)","v":6.6666666666666666E-2},{"$f":"IF(AP14=0,0,(AP14*((LOG(AP14))/LOG(2))))","v":-0.26045937304056793},null,{"$f":"N14","v":222},{"$f":"COUNTIF(L156:L185,AS14)","v":13},{"$f":"AT14/(AV4-AT11)","v":0.43333333333333335},{"$f":"IF(AU14=0,0,(AU14*((LOG(AU14))/LOG(2))))","v":-0.52279538023588479}]
[12,1071,24,1083,24,1106,null,null,null,null,0,122,null,null,null,{"$f":"SUM(P7:P14)","v":1},{"$f":"-SUM(Q7:Q14)","v":0.92227620346155859},null,null,null,null,{"$f":"SUM(V7:V14)","v":1},{"$f":"-SUM(W7:W14)","v":1.2309595631140102},null,null,null,{"$f":"SUM(AA7:AA14)","v":1},{"$f":"-SUM(AB7:AB14)","v":1.198892336661554},null,null,null,{"$f":"SUM(AF7:AF14)","v":1},{"$f":"-SUM(AG7:AG14)","v":0.57879462463211984},null,null,null,{"$f":"SUM(AK7:AK14)","v":1},{"$f":"-SUM(AL7:AL14)","v":0.46899559358928122},null,null,null,{"$f":"SUM(AP7:AP14)","v":1},{"$f":"-SUM(AQ7:AQ14)","v":0.35335933502142136},null,null,null,{"$f":"SUM(AU7:AU14)","v":1},{"$f":"-SUM(AV7:AV14)","v":0.98713777437218631}]
[21,1220,22,1225,24,1237,null,null,null,null,0,222,null,null,null,"U=",{"$f":"Q15/(LOG(Q4)/LOG(2))","v":0.12323609117469497},null,null,null,null,"U1=",{"$f":"W15/(LOG(W4)/LOG(2))","v":0.25086346213132865},null,null,null,"U2=",{"$f":"AB15/(LOG(AB4)/LOG(2))","v":0.24432832020638839},null,null,null,"U3=",{"$f":"AG15/(LOG(AG4)/LOG(2))","v":0.11914304012564803},null,null,null,"U4=",{"$f":"AL15/(LOG(AL4)/LOG(2))","v":9.5578979080767471E-2},null,null,null,"U5=",{"$f":"AQ15/(LOG(AQ4)/LOG(2))","v":7.2012882320560523E-2},null,null,null,"U6=",{"$f":"AV15/(LOG(AV4)/LOG(2))","v":0.20117378921299717}]
[12,1344,24,1357,24,1370,null,null,null,null,0,122]
[21,1501,22,1510,24,1519,null,null,null,null,0,222]
[12,1617,24,1631,24,1641,null,null,null,null,0,122,null,"Total Target Seq"]
[12,1742,24,1757,24,1768,null,null,null,null,0,122,null,{"$f":"COUNTIF(L7:L185,G3)","v":0},null,30,30,29,30,30,30]
[21,1897,22,1922,24,1935,null,null,null,null,0,222,null,null,null,"% of reinforcement given in 6 equal intervals based on number of trials "]
[12,2042,24,2054,24,2065,null,null,null,null,0,122,null,null,null,"%_1","%_2","%_3","%_4","%_5","%_6"]
[21,2188,22,2203,24,2217,null,null,null,null,0,222,null,null,"target sequence",{"$f":"$G$3","v":211},{"$f":"$G$3","v":211},{"$f":"$G$3","v":211},{"$f":"$G$3","v":211},{"$f":"$G$3","v":211},{"$f":"$G$3","v":211}]
[12,2309,24,2332,24,2345,null,null,null,null,0,122,null,null,"total reinforcement",{"$f":"U11","v":0},{"$f":"Z11","v":0},{"$f":"AE11","v":0},{"$f":"AJ11","v":0},{"$f":"AO11","v":0},{"$f":"AT11","v":0}]
[12,2445,24,2480,24,2501,null,null,null,null,0,122,null,null,"% target"]
[21,2620,22,2628,24,2642,null,null,null,null,0,222,null,null,"CCRF"]
[21,2752,22,2817,24,2838,null,null,null,null,0,222,null,null,"% CCRf"]
[12,2940,24,2954,24,2962,null,null,null,null,0,122,null,null,"average response rate",{"$f":"F36/P20","v":135.53333333333333},{"$f":"(F66-F36)/Q20","v":133.73333333333332},{"$f":"(F95-F66)/R20","v":129.27586206896552},{"$f":"(F125-F95)/S20","v":133.33333333333334},{"$f":"(F155-F125)/T20","v":133.03333333333333},{"$f":"(F185-F155)/U20","v":137.66666666666666}]
[12,3062,24,3088,24,3120,null,null,null,null,0,122]
[12,3215,24,3226,24,3257,null,null,null,null,0,122]
[12,3363,24,3376,24,3387,null,null,null,null,0,122]
[12,3485,13,3497,24,3510,null,null,null,null,0,112]
[12,3609,24,3624,24,3633,null,null,null,null,0,122]
[12,3731,13,3734,24,3781,null,null,null,null,0,112]
[12,3881,24,3894,24,3903,null,null,null,null,0,122]
[12,4009,24,4055,24,4066,null,null,null,null,0,122]
[12,4163,13,4174,24,4204,null,null,null,null,0,112]
[12,4308,24,4324,24,4333,null,null,null,null,0,122]
[12,4442,24,4454,24,4461,null,null,null,null,0,122]
[12,4562,24,4580,24,4614,null,null,null,null,0,122]
[12,4708,24,4722,24,4734,null,null,null,null,0,122]
[21,4838,22,4849,24,4869,null,null,null,null,0,222]
[12,4969,24,4984,24,4992,null,null,null,null,0,122]
[21,5117,22,5122,24,5132,null,null,null,null,0,222]
[21,5243,22,5256,24,5272,null,null,null,null,0,222]
[21,5382,22,5390,24,5409,null,null,null,null,0,222]
[21,5524,22,5533,24,5542,null,null,null,null,0,222]
[12,5653,24,5667,24,5679,null,null,null,null,0,122]
[12,5776,24,5790,24,5817,null,null,null,null,0,122]
[12,5922,24,5937,24,5947,null,null,null,null,0,122]
[12,6046,24,6060,24,6084,null,null,null,null,0,122]
[12,6182,24,6199,24,6207,null,null,null,null,0,122]
[21,6316,22,6327,24,6337,null,null,null,null,0,222]
[12,6436,24,6453,24,6488,null,null,null,null,0,122]
[12,6591,24,6604,24,6615,null,null,null,null,0,122]
[21,6734,22,6773,24,6813,null,null,null,null,0,222]
[12,6912,24,6925,24,6931,null,null,null,null,0,122]
[12,7030,13,7042,24,7066,null,null,null,null,0,112]
[12,7166,24,7180,24,7187,null,null,null,null,0,122]
[12,7282,24,7295,24,7303,null,null,null,null,0,122]
[12,7407,24,7429,24,7444,null,null,null,null,0,122]
[12,7544,24,7557,24,7565,null,null,null,null,0,122]
[12,7667,24,7678,24,7686,null,null,null,null,0,122]
[12,7785,24,7795,24,7802,null,null,null,null,0,122]
[21,7923,22,7929,24,7936,null,null,null,null,0,222]
[21,8041,22,8051,24,8078,null,null,null,null,0,222]
[12,8177,24,8190,24,8196,null,null,null,null,0,122]
[12,8297,24,8307,24,8315,null,null,null,null,0,122]
[12,8415,24,8429,24,8443,null,null,null,null,0,122]
[12,8542,24,8558,24,8567,null,null,null,null,0,122]
[12,8668,24,8688,24,8701,null,null,null,null,0,122]
[12,8795,24,8810,24,8819,null,null,null,null,0,122]
[21,8924,22,8931,24,8953,null,null,null,null,0,222]
[12,9052,24,9073,24,9085,null,null,null,null,0,122]
[12,9187,24,9201,24,9230,null,null,null,null,0,122]
[12,9327,24,9346,24,9356,null,null,null,null,0,122]
[12,9454,24,9468,24,9475,null,null,null,null,0,122]
[12,9575,24,9592,24,9611,null,null,null,null,0,122]
[12,9707,24,9718,24,9725,null,null,null,null,0,122]
[12,9824,24,9858,24,9884,null,null,null,null,0,122]
[12,9982,24,9996,24,10006,null,null,null,null,0,122]
[12,10108,24,10122,24,10145,null,null,null,null,0,122]
[12,10244,24,10258,24,10265,null,null,null,null,0,122]
[12,10364,24,10378,24,10391,null,null,null,null,0,122]
[12,10498,24,10524,24,10563,null,null,null,null,0,122]
[12,10663,24,10678,24,10689,null,null,null,null,0,122]
[21,10799,22,10812,24,10830,null,null,null,null,0,222]
[12,10929,24,10940,24,10957,null,null,null,null,0,122]
[12,11060,24,11072,24,11080,null,null,null,null,0,122]
[12,11178,24,11191,24,11196,null,null,null,null,0,122]
[21,11302,22,11310,24,11324,null,null,null,null,0,222]
[12,11424,24,11433,24,11445,null,null,null,null,0,122]
[12,11548,24,11559,24,11566,null,null,null,null,0,122]
[21,11673,22,11686,24,11709,null,null,null,null,0,222]
[12,11809,24,11819,24,11827,null,null,null,null,0,122]
[12,11930,24,11947,24,11963,null,null,null,null,0,122]
[12,12061,24,12076,24,12095,null,null,null,null,0,122]
[12,12197,24,12213,24,12232,null,null,null,null,0,122]
[12,12335,24,12367,24,12378,null,null,null,null,0,122]
[12,12477,24,12490,24,12499,null,null,null,null,0,122]
[12,12598,24,12616,24,12625,null,null,null,null,0,122]
[12,12723,24,12738,24,12749,null,null,null,null,0,122]
[12,12847,24,12858,24,12867,null,null,null,null,0,122]
[12,12967,24,13018,24,13044,null,null,null,null,0,122]
[21,13174,22,13183,24,13198,null,null,null,null,0,222]
[21,13326,22,13339,24,13358,null,null,null,null,0,222]
[12,13453,24,13465,24,13472,null,null,null,null,0,122]
[12,13575,24,13585,24,13594,null,null,null,null,0,122]
[12,13689,24,13745,24,13761,null,null,null,null,0,122]
[12,13858,24,13868,24,13886,null,null,null,null,0,122]
[21,13988,22,13993,24,14006,null,null,null,null,0,222]
[12,14102,24,14116,24,14132,null,null,null,null,0,122]
[12,14230,24,14243,24,14250,null,null,null,null,0,122]
[12,14348,24,14362,24,14367,null,null,null,null,0,122]
[12,14470,24,14489,24,14513,null,null,null,null,0,122]
[12,14611,24,14626,24,14633,null,null,null,null,0,122]
[12,14731,24,14747,24,14824,null,null,null,null,0,122]
[12,14917,24,14932,24,14941,null,null,null,null,0,122]
[12,15040,24,15055,24,15064,null,null,null,null,0,122]
[12,15163,24,15190,24,15197,null,null,null,null,0,122]
[12,15296,24,15309,24,15316,null,null,null,null,0,122]
[12,15422,24,15437,24,15447,null,null,null,null,0,122]
[12,15546,24,15559,24,15567,null,null,null,null,0,122]
[12,15673,24,15692,24,15699,null,null,null,null,0,122]
[12,15796,24,15814,24,15827,null,null,null,null,0,122]
[21,15953,22,15960,24,16009,null,null,null,null,0,222]
[12,16107,24,16123,24,16131,null,null,null,null,0,122]
[12,16229,24,16264,24,16280,null,null,null,null,0,122]
[12,16388,24,16398,24,16427,null,null,null,null,0,122]
[12,16525,24,16539,24,16549,null,null,null,null,0,122]
[12,16649,24,16662,24,16671,null,null,null,null,0,122]
[12,16769,24,16783,24,16793,null,null,null,null,0,122]
[12,16896,24,16909,24,16918,null,null,null,null,0,122]
[12,17021,24,17035,24,17092,null,null,null,null,0,122]
[12,17192,24,17205,24,17224,null,null,null,null,0,122]
[12,17324,24,17339,24,17353,null,null,null,null,0,122]
[12,17452,24,17464,24,17486,null,null,null,null,0,122]
[12,17582,24,17595,24,17619,null,null,null,null,0,122]
[12,17716,24,17727,24,17738,null,null,null,null,0,122]
[12,17840,24,17854,24,17864,null,null,null,null,0,122]
[12,17963,24,17978,24,17987,null,null,null,null,0,122]
[12,18087,24,18115,24,18178,null,null,null,null,0,122]
[12,18281,24,18299,24,18311,null,null,null,null,0,122]
[12,18412,24,18422,24,18427,null,null,null,null,0,122]
[21,18530,22,18550,24,18557,null,null,null,null,0,222]
[12,18658,24,18668,24,18703,null,null,null,null,0,122]
[12,18803,24,18812,24,18821,null,null,null,null,0,122]
[12,18918,24,18933,24,18943,null,null,null,null,0,122]
[12,19047,24,19057,24,19063,null,null,null,null,0,122]
[12,19162,24,19175,24,19186,null,null,null,null,0,122]
[12,19285,24,19305,24,19328,null,null,null,null,0,122]
[12,19423,24,19442,24,19455,null,null,null,null,0,122]
[12,19557,24,19571,24,19583,null,null,null,null,0,122]
[12,19683,24,19693,24,19700,null,null,null,null,0,122]
[12,19799,24,19812,24,19818,null,null,null,null,0,122]
[21,19923,22,19929,24,19965,null,null,null,null,0,222]
[12,20069,24,20082,24,20092,null,null,null,null,0,122]
[12,20196,24,20209,24,20217,null,null,null,null,0,122]
[21,20326,22,20384,24,20394,null,null,null,null,0,222]
[12,20497,24,20507,24,20516,null,null,null,null,0,122]
[12,20613,24,20626,24,20634,null,null,null,null,0,122]
[21,20757,22,20765,24,20790,null,null,null,null,0,222]
[21,20901,22,20924,24,20938,null,null,null,null,0,222]
[12,21036,24,21050,24,21061,null,null,null,null,0,122]
[12,21163,24,21188,24,21216,null,null,null,null,0,122]
[12,21315,24,21329,24,21337,null,null,null,null,0,122]
[21,21459,22,21468,24,21477,null,null,null,null,0,222]
[12,21578,24,21587,24,21593,null,null,null,null,0,122]
[21,21713,22,21720,24,21729,null,null,null,null,0,222]
[12,21835,24,21847,24,21880,null,null,null,null,0,122]
[21,22001,22,22006,24,22026,null,null,null,null,0,222]
[21,22216,22,22224,24,22232,null,null,null,null,0,222]
[12,22331,24,22343,24,22364,null,null,null,null,0,122]
[12,22465,24,22479,24,22488,null,null,null,null,0,122]
[21,22601,22,22622,24,22633,null,null,null,null,0,222]
[21,22734,22,22743,24,22754,null,null,null,null,0,222]
[12,22857,24,22888,24,22912,null,null,null,null,0,122]
[12,23014,24,23025,24,23035,null,null,null,null,0,122]
[21,23148,22,23155,24,23168,null,null,null,null,0,222]
[12,23273,24,23298,24,23324,null,null,null,null,0,122]
[21,23421,22,23429,24,23438,null,null,null,null,0,222]
[12,23538,24,23550,24,23557,null,null,null,null,0,122]
[12,23656,24,23676,24,23694,null,null,null,null,0,122]
[21,23806,22,23815,24,23828,null,null,null,null,0,222]
[12,23926,24,23942,24,23948,null,null,null,null,null,122]

{"sheet":"!M923920.091","index":5,"n_rows":179,"n_cols":48,"rows_kept":179,"cut":false,"hidden":false,"merged":[[4,39,4,42],[5,39,5,40],[4,44,4,47],[5,44,5,45],[4,24,4,27],[5,24,5,25],[4,29,4,32],[5,29,5,30],[4,34,4,37],[5,34,5,35],[1,1,1,2],[5,13,5,14],[18,13,18,14],[19,13,19,14],[4,19,4,22],[5,19,5,20]]}
["Report for:!M923920.091"]
["Date:","<date>"]
["Hen:","<hen>",null,null,null,"Correct Sequence",{"$f":"Start!J2","v":211},null,null,null,null,null,null,null,null,"Total Sequences in Data",{"$f":"4994-COUNTBLANK(L7:L5000)","v":173},null,null,null,null,"Total Sequences in Block Data",{"$f":"COUNTA(L7:L35)","v":29},null,null,null,"Total Sequences in Block Data",{"$f":"COUNTA(L36:L64)","v":29},null,null,null,"Total Sequences in Block Data",{"$f":"COUNTA(L65:L92)","v":28},null,null,null,"Total Sequences in Block Data",{"$f":"COUNTA(L93:L121)","v":29},null,null,null,"Total Sequences in Block Data",{"$f":"COUNTA(L122:L150)","v":29},null,null,null,"Total Sequences in Block Data",{"$f":"COUNTA(L151:L179)","v":29}]
[null,null,null,null,null,null,null,null,null,null,null,null,null,null,null,"Total Sequences in Summary",{"$f":"SUM(O7:O14)","v":173},null,null,null,null,"Total Sequences in Block Summary",{"$f":"SUM(U7:U14)","v":29},null,null,null,"Total Sequences in Block Summary",{"$f":"SUM(Z7:Z14)","v":29},null,null,null,"Total Sequences in Block Summary",{"$f":"SUM(AE7:AE14)","v":28},null,null,null,"Total Sequences in Block Summary",{"$f":"SUM(AJ7:AJ14)","v":29},null,null,null,"Total Sequences in Block Summary",{"$f":"SUM(AO7:AO14)","v":29},null,null,null,"Total Sequences in Block Summary",{"$f":"SUM(AT7:AT14)","v":29}]
[null,null,null,null,null,null,null,null,null,null,null,null,null,null,null,null,null,null,null,"Block 1",null,null,null,null,"Block 2",null,null,null,null,"Block 3",null,null,null,null,"Block 4",null,null,null,null,"Block 5",null,null,null,null,"Block 6"]
["Sequence\nComponent\n1","Time\n1","Sequence\nComponent\n2","Time\n2","Sequence\nComponent\n3","Time\n3","Sequence\nComponent\n4","Time\n4","Sequence\nComponent\n5","Time\n5","Correct?\n0=No 1=Yes","Sequence",null,"Frequency",null,"Relative Frequency","Variability",null,null,"Frequency",null,"Relative Frequency","Variability",null,"Frequency",null,"Relative Frequency","Variability",null,"Frequency",null,"Relative Frequency","Variability",null,"Frequency",null,"Relative Frequency","Variability",null,"Frequency",null,"Relative Frequency","Variability",null,"Frequency",null,"Relative Frequency","Variability"]
[21,43,22,53,24,68,null,null,null,null,0,222,null,111,{"$f":"COUNTIF($L$7:$L$500,N7)","v":2},{"$f":"O7/$Q$4","v":1.1560693641618497E-2},{"$f":"IF(P7=0,0,(P7*((LOG(P7))/LOG(2))))","v":-7.438876563741878E-2},null,null,{"$f":"N7","v":111},{"$f":"COUNTIF(L7:L35,T7)","v":1},{"$f":"U7/(W4-U11)","v":3.4482758620689655E-2},{"$f":"IF(V7=0,0,(V7*((LOG(V7))/LOG(2))))","v":-0.16751658603888178},null,{"$f":"N7","v":111},{"$f":"COUNTIF(L36:L64,Y7)","v":0},{"$f":"Z7/(AB4-Z11)","v":0},{"$f":"IF(AA7=0,0,(AA7*((LOG(AA7))/LOG(2))))","v":0},null,{"$f":"N7","v":111},{"$f":"COUNTIF(L65:L92,AD7)","v":0},{"$f":"AE7/(AG4-AE11)","v":0},{"$f":"IF(AF7=0,0,(AF7*((LOG(AF7))/LOG(2))))","v":0},null,{"$f":"N7","v":111},{"$f":"COUNTIF(L93:L121,AI7)","v":0},{"$f":"AJ7/(AL4-AJ11)","v":0},{"$f":"IF(AK7=0,0,(AK7*((LOG(AK7))/LOG(2))))","v":0},null,{"$f":"N7","v":111},{"$f":"COUNTIF(L122:L150,AN7)","v":0},{"$f":"AO7/(AQ4-AO11)","v":0},{"$f":"IF(AP7=0,0,(AP7*((LOG(AP7))/LOG(2))))","v":0},null,{"$f":"N7","v":111},{"$f":"COUNTIF(L151:L179,AS7)","v":1},{"$f":"AT7/(AV4-AT11)","v":3.4482758620689655E-2},{"$f":"IF(AU7=0,0,(AU7*((LOG(AU7))/LOG(2))))","v":-0.16751658603888178}]
[21,172,22,225,24,234,null,null,null,null,0,222,null,112,{"$f":"COUNTIF($L$7:$L$500,N8)","v":12},{"$f":"O8/$Q$4","v":6.9364161849710976E-2},{"$f":"IF(P8=0,0,(P8*((LOG(P8))/LOG(2))))","v":-0.26702883654905674},null,null,{"$f":"N8","v":112},{"$f":"COUNTIF(L7:L35,T8)","v":1},{"$f":"U8/(W4-U11)","v":3.4482758620689655E-2},{"$f":"IF(V8=0,0,(V8*((LOG(V8))/LOG(2))))","v":-0.16751658603888178},null,{"$f":"N8","v":112},{"$f":"COUNTIF(L36:L64,Y8)","v":2},{"$f":"Z8/(AB4-Z11)","v":6.8965517241379309E-2},{"$f":"IF(AA8=0,0,(AA8*((LOG(AA8))/LOG(2))))","v":-0.26606765483638428},null,{"$f":"N8","v":112},{"$f":"COUNTIF(L65:L92,AD8)","v":0},{"$f":"AE8/(AG4-AE11)","v":0},{"$f":"IF(AF8=0,0,(AF8*((LOG(AF8))/LOG(2))))","v":0},null,{"$f":"N8","v":112},{"$f":"COUNTIF(L93:L121,AI8)","v":0},{"$f":"AJ8/(AL4-AJ11)","v":0},{"$f":"IF(AK8=0,0,(AK8*((LOG(AK8))/LOG(2))))","v":0},null,{"$f":"N8","v":112},{"$f":"COUNTIF(L122:L150,AN8)","v":3},{"$f":"AO8/(AQ4-AO11)","v":0.10344827586206896},{"$f":"IF(AP8=0,0,(AP8*((LOG(AP8))/LOG(2))))","v":-0.33858812011100858},null,{"$f":"N8","v":112},{"$f":"COUNTIF(L151:L179,AS8)","v":6},{"$f":"AT8/(AV4-AT11)","v":0.20689655172413793},{"$f":"IF(AU8=0,0,(AU8*((LOG(AU8))/LOG(2))))","v":-0.4702796884978791}]
[12,338,24,362,24,372,null,null,null,null,0,122,null,121,{"$f":"COUNTIF($L$7:$L$500,N9)","v":0},{"$f":"O9/$Q$4","v":0},{"$f":"IF(P9=0,0,(P9*((LOG(P9))/LOG(2))))","v":0},null,null,{"$f":"N9","v":121},{"$f":"COUNTIF(L7:L35,T9)","v":0},{"$f":"U9/(W4-U11)","v":0},{"$f":"IF(V9=0,0,(V9*((LOG(V9))/LOG(2))))","v":0},null,{"$f":"N9","v":121},{"$f":"COUNTIF(L36:L64,Y9)","v":0},{"$f":"Z9/(AB4-Z11)","v":0},{"$f":"IF(AA9=0,0,(AA9*((LOG(AA9))/LOG(2))))","v":0},null,{"$f":"N9","v":121},{"$f":"COUNTIF(L65:L92,AD9)","v":0},{"$f":"AE9/(AG4-AE11)","v":0},{"$f":"IF(AF9=0,0,(AF9*((LOG(AF9))/LOG(2))))","v":0},null,{"$f":"N9","v":121},{"$f":"COUNTIF(L93:L121,AI9)","v":0},{"$f":"AJ9/(AL4-AJ11)","v":0},{"$f":"IF(AK9=0,0,(AK9*((LOG(AK9))/LOG(2))))","v":0},null,{"$f":"N9","v":121},{"$f":"COUNTIF(L122:L150,AN9)","v":0},{"$f":"AO9/(AQ4-AO11)","v":0},{"$f":"IF(AP9=0,0,(AP9*((LOG(AP9))/LOG(2))))","v":0},null,{"$f":"N9","v":121},{"$f":"COUNTIF(L151:L179,AS9)","v":0},{"$f":"AT9/(AV4-AT11)","v":0},{"$f":"IF(AU9=0,0,(AU9*((LOG(AU9))/LOG(2))))","v":0}]
[12,471,24,484,24,493,null,null,null,null,0,122,null,122,{"$f":"COUNTIF($L$7:$L$500,N10)","v":118},{"$f":"O10/$Q$4","v":0.68208092485549132},{"$f":"IF(P10=0,0,(P10*((LOG(P10))/LOG(2))))","v":-0.37649856090425571},null,null,{"$f":"N10","v":122},{"$f":"COUNTIF(L7:L35,T10)","v":21},{"$f":"U10/(W4-U11)","v":0.72413793103448276},{"$f":"IF(V10=0,0,(V10*((LOG(V10))/LOG(2))))","v":-0.33720465583879472},null,{"$f":"N10","v":122},{"$f":"COUNTIF(L36:L64,Y10)","v":20},{"$f":"Z10/(AB4-Z11)","v":0.68965517241379315},{"$f":"IF(AA10=0,0,(AA10*((LOG(AA10))/LOG(2))))","v":-0.36969165533807569},null,{"$f":"N10","v":122},{"$f":"COUNTIF(L65:L92,AD10)","v":24},{"$f":"AE10/(AG4-AE11)","v":0.8571428571428571},{"$f":"IF(AF10=0,0,(AF10*((LOG(AF10))/LOG(2))))","v":-0.19062207543124113},null,{"$f":"N10","v":122},{"$f":"COUNTIF(L93:L121,AI10)","v":19},{"$f":"AJ10/(AL4-AJ11)","v":0.65517241379310343},{"$f":"IF(AK10=0,0,(AK10*((LOG(AK10))/LOG(2))))","v":-0.39969021213778433},null,{"$f":"N10","v":122},{"$f":"COUNTIF(L122:L150,AN10)","v":17},{"$f":"AO10/(AQ4-AO11)","v":0.58620689655172409},{"$f":"IF(AP10=0,0,(AP10*((LOG(AP10))/LOG(2))))","v":-0.45168305572113648},null,{"$f":"N10","v":122},{"$f":"COUNTIF(L151:L179,AS10)","v":17},{"$f":"AT10/(AV4-AT11)","v":0.58620689655172409},{"$f":"IF(AU10=0,0,(AU10*((LOG(AU10))/LOG(2))))","v":-0.45168305572113648}]
[12,593,24,607,24,653,null,null,null,null,0,122,null,211,{"$f":"COUNTIF($L$7:$L$500,N11)","v":0},{"$f":"O11/$Q$4","v":0},{"$f":"IF(P11=0,0,(P11*((LOG(P11))/LOG(2))))","v":0},null,null,{"$f":"N11","v":211},{"$f":"COUNTIF(L7:L35,T11)","v":0},null,null,null,{"$f":"N11","v":211},{"$f":"COUNTIF(L36:L64,Y11)","v":0},null,null,null,{"$f":"N11","v":211},{"$f":"COUNTIF(L65:L92,AD11)","v":0},null,null,null,{"$f":"N11","v":211},{"$f":"COUNTIF(L93:L121,AI11)","v":0},null,null,null,{"$f":"N11","v":211},{"$f":"COUNTIF(L122:L150,AN11)","v":0},null,null,null,{"$f":"N11","v":211},{"$f":"COUNTIF(L151:L179,AS11)","v":0}]
[21,812,22,822,24,833,null,null,null,null,0,222,null,212,{"$f":"COUNTIF($L$7:$L$500,N12)","v":0},{"$f":"O12/$Q$4","v":0},{"$f":"IF(P12=0,0,(P12*((LOG(P12))/LOG(2))))","v":0},null,null,{"$f":"N12","v":212},{"$f":"COUNTIF(L7:L35,T12)","v":0},{"$f":"U12/(W4-U11)","v":0},{"$f":"IF(V12=0,0,(V12*((LOG(V12))/LOG(2))))","v":0},null,{"$f":"N12","v":212},{"$f":"COUNTIF(L36:L64,Y12)","v":0},{"$f":"Z12/(AB4-Z11)","v":0},{"$f":"IF(AA12=0,0,(AA12*((LOG(AA12))/LOG(2))))","v":0},null,{"$f":"N12","v":212},{"$f":"COUNTIF(L65:L92,AD12)","v":0},{"$f":"AE12/(AG4-AE11)","v":0},{"$f":"IF(AF12=0,0,(AF12*((LOG(AF12))/LOG(2))))","v":0},null,{"$f":"N12","v":212},{"$f":"COUNTIF(L93:L121,AI12)","v":0},{"$f":"AJ12/(AL4-AJ11)","v":0},{"$f":"IF(AK12=0,0,(AK12*((LOG(AK12))/LOG(2))))","v":0},null,{"$f":"N12","v":212},{"$f":"COUNTIF(L122:L150,AN12)","v":0},{"$f":"AO12/(AQ4-AO11)","v":0},{"$f":"IF(AP12=0,0,(AP12*((LOG(AP12))/LOG(2))))","v":0},null,{"$f":"N12","v":212},{"$f":"COUNTIF(L151:L179,AS12)","v":0},{"$f":"AT12/(AV4-AT11)","v":0},{"$f":"IF(AU12=0,0,(AU12*((LOG(AU12))/LOG(2))))","v":0}]
[21,952,22,959,24,978,null,null,null,null,0,222,null,221,{"$f":"COUNTIF($L$7:$L$500,N13)","v":0},{"$f":"O13/$Q$4","v":0},{"$f":"IF(P13=0,0,(P13*((LOG(P13))/LOG(2))))","v":0},null,null,{"$f":"N13","v":221},{"$f":"COUNTIF(L7:L35,T13)","v":0},{"$f":"U13/(W4-U11)","v":0},{"$f":"IF(V13=0,0,(V13*((LOG(V13))/LOG(2))))","v":0},null,{"$f":"N13","v":221},{"$f":"COUNTIF(L36:L64,Y13)","v":0},{"$f":"Z13/(AB4-Z11)","v":0},{"$f":"IF(AA13=0,0,(AA13*((LOG(AA13))/LOG(2))))","v":0},null,{"$f":"N13","v":221},{"$f":"COUNTIF(L65:L92,AD13)","v":0},{"$f":"AE13/(AG4-AE11)","v":0},{"$f":"IF(AF13=0,0,(AF13*((LOG(AF13))/LOG(2))))","v":0},null,{"$f":"N13","v":221},{"$f":"COUNTIF(L93:L121,AI13)","v":0},{"$f":"AJ13/(AL4-AJ11)","v":0},{"$f":"IF(AK13=0,0,(AK13*((LOG(AK13))/LOG(2))))","v":0},null,{"$f":"N13","v":221},{"$f":"COUNTIF(L122:L150,AN13)","v":0},{"$f":"AO13/(AQ4-AO11)","v":0},{"$f":"IF(AP13=0,0,(AP13*((LOG(AP13))/LOG(2))))","v":0},null,{"$f":"N13","v":221},{"$f":"COUNTIF(L151:L179,AS13)","v":0},{"$f":"AT13/(AV4-AT11)","v":0},{"$f":"IF(AU13=0,0,(AU13*((LOG(AU13))/LOG(2))))","v":0}]
[21,1104,22,1114,24,1126,null,null,null,null,0,222,null,222,{"$f":"COUNTIF($L$7:$L$500,N14)","v":41},{"$f":"O14/$Q$4","v":0.23699421965317918},{"$f":"IF(P14=0,0,(P14*((LOG(P14))/LOG(2))))","v":-0.49225505863447555},null,null,{"$f":"N14","v":222},{"$f":"COUNTIF(L7:L35,T14)","v":6},{"$f":"U14/(W4-U11)","v":0.20689655172413793},{"$f":"IF(V14=0,0,(V14*((LOG(V14))/LOG(2))))","v":-0.4702796884978791},null,{"$f":"N14","v":222},{"$f":"COUNTIF(L36:L64,Y14)","v":7},{"$f":"Z14/(AB4-Z11)","v":0.2413793103448276},{"$f":"IF(AA14=0,0,(AA14*((LOG(AA14))/LOG(2))))","v":-0.49497870729275095},null,{"$f":"N14","v":222},{"$f":"COUNTIF(L65:L92,AD14)","v":4},{"$f":"AE14/(AG4-AE11)","v":0.14285714285714285},{"$f":"IF(AF14=0,0,(AF14*((LOG(AF14))/LOG(2))))","v":-0.40105070315108626},null,{"$f":"N14","v":222},{"$f":"COUNTIF(L93:L121,AI14)","v":10},{"$f":"AJ14/(AL4-AJ11)","v":0.34482758620689657},{"$f":"IF(AK14=0,0,(AK14*((LOG(AK14))/LOG(2))))","v":-0.52967341387593436},null,{"$f":"N14","v":222},{"$f":"COUNTIF(L122:L150,AN14)","v":9},{"$f":"AO14/(AQ4-AO11)","v":0.31034482758620691},{"$f":"IF(AP14=0,0,(AP14*((LOG(AP14))/LOG(2))))","v":-0.52387944631611505},null,{"$f":"N14","v":222},{"$f":"COUNTIF(L151:L179,AS14)","v":5},{"$f":"AT14/(AV4-AT11)","v":0.17241379310344829},{"$f":"IF(AU14=0,0,(AU14*((LOG(AU14))/LOG(2))))","v":-0.43725050004141547}]
[12,1234,13,1264,13,1312,null,null,null,null,0,111,null,null,null,{"$f":"SUM(P7:P14)","v":1},{"$f":"-SUM(Q7:Q14)","v":1.2101712217252067},null,null,null,null,{"$f":"SUM(V7:V14)","v":1},{"$f":"-SUM(W7:W14)","v":1.1425175164144374},null,null,null,{"$f":"SUM(AA7:AA14)","v":1},{"$f":"-SUM(AB7:AB14)","v":1.1307380174672108},null,null,null,{"$f":"SUM(AF7:AF14)","v":1},{"$f":"-SUM(AG7:AG14)","v":0.59167277858232736},null,null,null,{"$f":"SUM(AK7:AK14)","v":1},{"$f":"-SUM(AL7:AL14)","v":0.92936362601371869},null,null,null,{"$f":"SUM(AP7:AP14)","v":1},{"$f":"-SUM(AQ7:AQ14)","v":1.3141506221482602},null,null,null,{"$f":"SUM(AU7:AU14)","v":0.99999999999999989},{"$f":"-SUM(AV7:AV14)","v":1.5267298302993129}]
[12,1416,24,1431,24,1443,null,null,null,null,0,122,null,null,null,"U=",{"$f":"Q15/(LOG(Q4)/LOG(2))","v":0.16277494780796709},null,null,null,null,"U1=",{"$f":"W15/(LOG(W4)/LOG(2))","v":0.23518361178447439},null,null,null,"U2=",{"$f":"AB15/(LOG(AB4)/LOG(2))","v":0.23275883923821677},null,null,null,"U3=",{"$f":"AG15/(LOG(AG4)/LOG(2))","v":0.1230765749929453},null,null,null,"U4=",{"$f":"AL15/(LOG(AL4)/LOG(2))","v":0.19130655861886783},null,null,null,"U5=",{"$f":"AQ15/(LOG(AQ4)/LOG(2))","v":0.27051374294512864},null,null,null,"U6=",{"$f":"AV15/(LOG(AV4)/LOG(2))","v":0.31427249958997022}]
[12,1548,24,1562,24,1571,null,null,null,null,0,122]
[12,1671,13,1681,24,1699,null,null,null,null,0,112]
[12,1803,24,1821,24,1851,null,null,null,null,0,122,null,"Total Target Seq"]
[21,1987,22,1996,24,2009,null,null,null,null,0,222,null,{"$f":"COUNTIF(L7:L179,G3)","v":0},null,29,29,28,29,29,29]
[12,2112,24,2125,24,2132,null,null,null,null,0,122,null,null,null,"% of reinforcement given in 6 equal intervals based on number of trials "]
[12,2238,24,2254,24,2264,null,null,null,null,0,122,null,null,null,"%_1","%_2","%_3","%_4","%_5","%_6"]
[12,2368,24,2384,24,2409,null,null,null,null,0,122,null,null,"target sequence",{"$f":"$G$3","v":211},{"$f":"$G$3","v":211},{"$f":"$G$3","v":211},{"$f":"$G$3","v":211},{"$f":"$G$3","v":211},{"$f":"$G$3","v":211}]
[12,2502,24,2516,24,2523,null,null,null,null,0,122,null,null,"total reinforcement",{"$f":"U11","v":0},{"$f":"Z11","v":0},{"$f":"AE11","v":0},{"$f":"AJ11","v":0},{"$f":"AO11","v":0},{"$f":"AT11","v":0}]
[12,2623,24,2638,24,2659,null,null,null,null,0,122,null,null,"% target"]
[12,2758,24,2773,24,2782,null,null,null,null,0,122,null,null,"CCRF"]
[12,2878,24,2890,24,2896,null,null,null,null,0,122,null,null,"% CCRf"]
[12,2993,24,3019,24,3033,null,null,null,null,0,122,null,null,"average response rate",{"$f":"F35/P20","v":137.37931034482759},{"$f":"(F64-F35)/Q20","v":135.93103448275863},{"$f":"(F92-F64)/R20","v":135.85714285714286},{"$f":"(F121-F92)/S20","v":136.20689655172413},{"$f":"(F150-F121)/T20","v":143.34482758620689},{"$f":"(F179-F150)/U20","v":141.06896551724137}]
[12,3131,24,3147,24,3170,null,null,null,null,0,122]
[12,3269,24,3285,24,3293,null,null,null,null,0,122]
[12,3392,24,3407,24,3432,null,null,null,null,0,122]
[12,3532,24,3548,24,3606,null,null,null,null,0,122]
[12,3707,24,3721,24,3739,null,null,null,null,0,122]
[12,3837,24,3853,24,3859,null,null,null,null,0,122]
[12,3961,24,3978,24,3984,null,null,null,null,0,122]
[12,4085,24,4100,24,4121,null,null,null,null,0,122]
[12,4219,24,4232,24,4253,null,null,null,null,0,122]
[12,4354,24,4366,24,4373,null,null,null,null,0,122]
[12,4474,24,4489,24,4497,null,null,null,null,0,122]
[12,4595,24,4609,24,4631,null,null,null,null,0,122]
[12,4732,24,4746,24,4753,null,null,null,null,0,122]
[12,4859,24,4879,24,4912,null,null,null,null,0,122]
[12,5013,24,5030,24,5057,null,null,null,null,0,122]
[12,5150,24,5163,24,5200,null,null,null,null,0,122]
[12,5310,24,5329,24,5379,null,null,null,null,0,122]
[12,5483,24,5502,24,5534,null,null,null,null,0,122]
[21,5652,22,5670,24,5682,null,null,null,null,0,222]
[12,5784,24,5796,24,5813,null,null,null,null,0,122]
[12,5914,24,5932,24,5939,null,null,null,null,0,122]
[12,6037,13,6038,24,6054,null,null,null,null,0,112]
[12,6148,24,6177,24,6205,null,null,null,null,0,122]
[12,6304,24,6319,24,6327,null,null,null,null,0,122]
[12,6427,24,6442,24,6453,null,null,null,null,0,122]
[12,6553,24,6571,24,6580,null,null,null,null,0,122]
[12,6678,13,6680,24,6712,null,null,null,null,0,112]
[21,6828,22,6838,24,6848,null,null,null,null,0,222]
[21,6971,22,6979,24,6992,null,null,null,null,0,222]
[21,7102,22,7108,24,7144,null,null,null,null,0,222]
[12,7244,24,7257,24,7264,null,null,null,null,0,122]
[21,7378,22,7384,24,7392,null,null,null,null,0,222]
[12,7494,24,7510,24,7520,null,null,null,null,0,122]
[21,7625,22,7635,24,7649,null,null,null,null,0,222]
[12,7747,24,7761,24,7770,null,null,null,null,0,122]
[21,7886,22,7912,24,7926,null,null,null,null,0,222]
[12,8026,24,8040,24,8048,null,null,null,null,0,122]
[12,8148,24,8163,24,8194,null,null,null,null,0,122]
[12,8288,24,8301,24,8332,null,null,null,null,0,122]
[12,8430,24,8443,24,8455,null,null,null,null,0,122]
[12,8558,24,8573,24,8583,null,null,null,null,0,122]
[21,8722,22,8736,24,8744,null,null,null,null,0,222]
[12,8836,24,8849,24,8856,null,null,null,null,0,122]
[12,8954,24,8967,24,8984,null,null,null,null,0,122]
[12,9082,24,9101,24,9110,null,null,null,null,0,122]
[12,9208,24,9224,24,9233,null,null,null,null,0,122]
[12,9332,24,9376,24,9404,null,null,null,null,0,122]
[12,9513,24,9527,24,9533,null,null,null,null,0,122]
[21,9640,22,9645,24,9671,null,null,null,null,0,222]
[12,9767,24,9788,24,9817,null,null,null,null,0,122]
[21,9930,22,9935,24,9943,null,null,null,null,0,222]
[12,10040,24,10054,24,10073,null,null,null,null,0,122]
[21,10180,22,10236,24,10252,null,null,null,null,0,222]
[12,10349,24,10364,24,10378,null,null,null,null,0,122]
[12,10477,24,10492,24,10514,null,null,null,null,0,122]
[12,10613,24,10627,24,10632,null,null,null,null,0,122]
[12,10731,24,10745,24,10752,null,null,null,null,0,122]
[12,10856,24,10870,24,10885,null,null,null,null,0,122]
[12,10985,24,11000,24,11029,null,null,null,null,0,122]
[12,11131,24,11144,24,11197,null,null,null,null,0,122]
[12,11293,24,11317,24,11324,null,null,null,null,0,122]
[12,11422,24,11432,24,11438,null,null,null,null,0,122]
[12,11536,24,11550,24,11573,null,null,null,null,0,122]
[12,11677,24,11692,24,11730,null,null,null,null,0,122]
[12,11829,24,11843,24,11849,null,null,null,null,0,122]
[12,11948,24,11962,24,11970,null,null,null,null,0,122]
[12,12073,24,12086,24,12119,null,null,null,null,0,122]
[12,12217,24,12232,24,12240,null,null,null,null,0,122]
[12,12340,24,12355,24,12372,null,null,null,null,0,122]
[21,12483,22,12490,24,12514,null,null,null,null,0,222]
[12,12611,24,12626,24,12632,null,null,null,null,0,122]
[12,12731,24,12745,24,12754,null,null,null,null,0,122]
[12,12853,24,12865,24,12871,null,null,null,null,0,122]
[12,12970,24,12983,24,13029,null,null,null,null,0,122]
[12,13132,24,13149,24,13158,null,null,null,null,0,122]
[12,13258,24,13278,24,13299,null,null,null,null,0,122]
[12,13406,24,13421,24,13441,null,null,null,null,0,122]
[21,13547,22,13563,24,13572,null,null,null,null,0,222]
[21,13688,22,13699,24,13713,null,null,null,null,0,222]
[12,13812,24,13826,24,13852,null,null,null,null,0,122]
[21,13973,22,13984,24,14000,null,null,null,null,0,222]
[21,14132,22,14198,24,14217,null,null,null,null,0,222]
[12,14317,24,14331,24,14354,null,null,null,null,0,122]
[21,14469,22,14489,24,14498,null,null,null,null,0,222]
[21,14614,22,14631,24,14641,null,null,null,null,0,222]
[21,14750,22,14756,24,14765,null,null,null,null,0,222]
[12,14870,24,14884,24,14891,null,null,null,null,0,122]
[12,14993,24,15006,24,15024,null,null,null,null,0,122]
[21,15136,22,15146,24,15159,null,null,null,null,0,222]
[21,15278,22,15308,24,15321,null,null,null,null,0,222]
[12,15418,24,15432,24,15438,null,null,null,null,0,122]
[12,15538,24,15549,24,15555,null,null,null,null,0,122]
[12,15654,24,15670,24,15680,null,null,null,null,0,122]
[21,15783,22,15789,24,15824,null,null,null,null,0,222]
[12,15919,24,15931,24,15946,null,null,null,null,0,122]
[12,16044,24,16057,24,16073,null,null,null,null,0,122]
[12,16173,24,16187,24,16209,null,null,null,null,0,122]
[12,16309,24,16329,24,16338,null,null,null,null,0,122]
[21,16464,22,16471,24,16499,null,null,null,null,0,222]
[12,16599,13,16610,24,16623,null,null,null,null,0,112]
[12,16721,24,16735,24,16740,null,null,null,null,0,122]
[12,16841,24,16856,24,16895,null,null,null,null,0,122]
[21,17009,22,17019,24,17040,null,null,null,null,0,222]
[12,17133,24,17145,24,17155,null,null,null,null,0,122]
[21,17260,22,17265,24,17274,null,null,null,null,0,222]
[21,17494,22,17526,24,17553,null,null,null,null,0,222]
[21,17662,22,17669,24,17677,null,null,null,null,0,222]
[12,17784,24,17801,24,17807,null,null,null,null,0,122]
[12,17910,24,17929,24,17950,null,null,null,null,0,122]
[12,18049,24,18064,24,18069,null,null,null,null,0,122]
[12,18172,24,18185,24,18191,null,null,null,null,0,122]
[21,18304,22,18311,24,18322,null,null,null,null,0,222]
[12,18427,13,18443,24,18471,null,null,null,null,0,112]
[12,18577,24,18610,24,18638,null,null,null,null,0,122]
[12,18733,24,18747,24,18771,null,null,null,null,0,122]
[12,18867,24,18880,24,18886,null,null,null,null,0,122]
[21,18999,22,19009,24,19089,null,null,null,null,0,222]
[12,19187,13,19196,24,19211,null,null,null,null,0,112]
[12,19326,24,19341,24,19368,null,null,null,null,0,122]
[12,19485,24,19497,24,19504,null,null,null,null,0,122]
[12,19603,24,19615,24,19629,null,null,null,null,0,122]
[21,19772,22,19783,24,19837,null,null,null,null,0,222]
[21,19957,22,19963,24,19978,null,null,null,null,0,222]
[12,20078,13,20089,24,20101,null,null,null,null,0,112]
[12,20210,24,20223,24,20232,null,null,null,null,0,122]
[12,20334,24,20351,24,20357,null,null,null,null,0,122]
[12,20450,13,20465,24,20478,null,null,null,null,0,112]
[12,20576,13,20587,13,20597,null,null,null,null,0,111]
[12,20703,24,20717,24,20747,null,null,null,null,0,122]
[12,20852,24,20865,24,20913,null,null,null,null,0,122]
[12,21014,24,21027,24,21182,null,null,null,null,0,122]
[21,21306,22,21312,24,21325,null,null,null,null,0,222]
[12,21433,24,21447,24,21513,null,null,null,null,0,122]
[12,21613,13,21622,24,21637,null,null,null,null,0,112]
[12,21745,24,21760,24,21807,null,null,null,null,0,122]
[12,21902,24,21911,24,21916,null,null,null,null,0,122]
[12,22031,24,22043,24,22049,null,null,null,null,0,122]
[12,22151,24,22171,24,22177,null,null,null,null,0,122]
[21,22288,22,22294,24,22314,null,null,null,null,0,222]
[12,22416,24,22431,24,22438,null,null,null,null,0,122]
[12,22538,24,22547,24,22568,null,null,null,null,0,122]
[12,22666,13,22686,24,22703,null,null,null,null,0,112]
[12,22813,13,22826,24,22838,null,null,null,null,0,112]
[12,22941,24,22953,24,22958,null,null,null,null,0,122]
[12,23064,24,23079,24,23101,null,null,null,null,0,122]
[12,23202,13,23219,24,23236,null,null,null,null,0,112]
[21,23354,22,23365,24,23392,null,null,null,null,0,222]
[21,23503,22,23508,24,23519,null,null,null,null,0,222]
[12,23621,24,23641,24,23650,null,null,null,null,0,122]
[12,23749,24,23762,24,23795,null,null,null,null,0,122]
[12,23908,24,23921,24,23928,null,null,null,null,null,122]

{"sheet":"!M924900.091","index":6,"n_rows":186,"n_cols":48,"rows_kept":186,"cut":false,"hidden":false,"merged":[[4,39,4,42],[5,39,5,40],[4,44,4,47],[5,44,5,45],[4,24,4,27],[5,24,5,25],[4,29,4,32],[5,29,5,30],[4,34,4,37],[5,34,5,35],[1,1,1,2],[5,13,5,14],[18,13,18,14],[19,13,19,14],[4,19,4,22],[5,19,5,20]]}
["Report for:!M924900.091"]
["Date:","<date>"]
["Hen:","<hen>",null,null,null,"Correct Sequence",{"$f":"Start!J2","v":211},null,null,null,null,null,null,null,null,"Total Sequences in Data",{"$f":"4994-COUNTBLANK(L7:L5000)","v":180},null,null,null,null,"Total Sequences in Block Data",{"$f":"COUNTA(L7:L36)","v":30},null,null,null,"Total Sequences in Block Data",{"$f":"COUNTA(L37:L66)","v":30},null,null,null,"Total Sequences in Block Data",{"$f":"COUNTA(L67:L96)","v":30},null,null,null,"Total Sequences in Block Data",{"$f":"COUNTA(L97:L126)","v":30},null,null,null,"Total Sequences in Block Data",{"$f":"COUNTA(L127:L156)","v":30},null,null,null,"Total Sequences in Block Data",{"$f":"COUNTA(L157:L186)","v":30}]
[null,null,null,null,null,null,null,null,null,null,null,null,null,null,null,"Total Sequences in Summary",{"$f":"SUM(O7:O14)","v":180},null,null,null,null,"Total Sequences in Block Summary",{"$f":"SUM(U7:U14)","v":30},null,null,null,"Total Sequences in Block Summary",{"$f":"SUM(Z7:Z14)","v":30},null,null,null,"Total Sequences in Block Summary",{"$f":"SUM(AE7:AE14)","v":30},null,null,null,"Total Sequences in Block Summary",{"$f":"SUM(AJ7:AJ14)","v":30},null,null,null,"Total Sequences in Block Summary",{"$f":"SUM(AO7:AO14)","v":30},null,null,null,"Total Sequences in Block Summary",{"$f":"SUM(AT7:AT14)","v":30}]
[null,null,null,null,null,null,null,null,null,null,null,null,null,null,null,null,null,null,null,"Block 1",null,null,null,null,"Block 2",null,null,null,null,"Block 3",null,null,null,null,"Block 4",null,null,null,null,"Block 5",null,null,null,null,"Block 6"]
["Sequence\nComponent\n1","Time\n1","Sequence\nComponent\n2","Time\n2","Sequence\nComponent\n3","Time\n3","Sequence\nComponent\n4","Time\n4","Sequence\nComponent\n5","Time\n5","Correct?\n0=No 1=Yes","Sequence",null,"Frequency",null,"Relative Frequency","Variability",null,null,"Frequency",null,"Relative Frequency","Variability",null,"Frequency",null,"Relative Frequency","Variability",null,"Frequency",null,"Relative Frequency","Variability",null,"Frequency",null,"Relative Frequency","Variability",null,"Frequency",null,"Relative Frequency","Variability",null,"Frequency",null,"Relative Frequency","Variability"]
[12,14,24,35,24,43,null,null,null,null,0,122,null,111,{"$f":"COUNTIF($L$7:$L$500,N7)","v":0},{"$f":"O7/$Q$4","v":0},{"$f":"IF(P7=0,0,(P7*((LOG(P7))/LOG(2))))","v":0},null,null,{"$f":"N7","v":111},{"$f":"COUNTIF(L7:L36,T7)","v":0},{"$f":"U7/(W4-U11)","v":0},{"$f":"IF(V7=0,0,(V7*((LOG(V7))/LOG(2))))","v":0},null,{"$f":"N7","v":111},{"$f":"COUNTIF(L37:L66,Y7)","v":0},{"$f":"Z7/(AB4-Z11)","v":0},{"$f":"IF(AA7=0,0,(AA7*((LOG(AA7))/LOG(2))))","v":0},null,{"$f":"N7","v":111},{"$f":"COUNTIF(L67:L96,AD7)","v":0},{"$f":"AE7/(AG4-AE11)","v":0},{"$f":"IF(AF7=0,0,(AF7*((LOG(AF7))/LOG(2))))","v":0},null,{"$f":"N7","v":111},{"$f":"COUNTIF(L97:L126,AI7)","v":0},{"$f":"AJ7/(AL4-AJ11)","v":0},{"$f":"IF(AK7=0,0,(AK7*((LOG(AK7))/LOG(2))))","v":0},null,{"$f":"N7","v":111},{"$f":"COUNTIF(L127:L156,AN7)","v":0},{"$f":"AO7/(AQ4-AO11)","v":0},{"$f":"IF(AP7=0,0,(AP7*((LOG(AP7))/LOG(2))))","v":0},null,{"$f":"N7","v":111},{"$f":"COUNTIF(L157:L186,AS7)","v":0},{"$f":"AT7/(AV4-AT11)","v":0},{"$f":"IF(AU7=0,0,(AU7*((LOG(AU7))/LOG(2))))","v":0}]
[12,145,24,160,24,166,null,null,null,null,0,122,null,112,{"$f":"COUNTIF($L$7:$L$500,N8)","v":29},{"$f":"O8/$Q$4","v":0.16111111111111112},{"$f":"IF(P8=0,0,(P8*((LOG(P8))/LOG(2))))","v":-0.42434606074922765},null,null,{"$f":"N8","v":112},{"$f":"COUNTIF(L7:L36,T8)","v":3},{"$f":"U8/(W4-U11)","v":0.1},{"$f":"IF(V8=0,0,(V8*((LOG(V8))/LOG(2))))","v":-0.33219280948873625},null,{"$f":"N8","v":112},{"$f":"COUNTIF(L37:L66,Y8)","v":6},{"$f":"Z8/(AB4-Z11)","v":0.2},{"$f":"IF(AA8=0,0,(AA8*((LOG(AA8))/LOG(2))))","v":-0.46438561897747244},null,{"$f":"N8","v":112},{"$f":"COUNTIF(L67:L96,AD8)","v":2},{"$f":"AE8/(AG4-AE11)","v":6.6666666666666666E-2},{"$f":"IF(AF8=0,0,(AF8*((LOG(AF8))/LOG(2))))","v":-0.26045937304056793},null,{"$f":"N8","v":112},{"$f":"COUNTIF(L97:L126,AI8)","v":13},{"$f":"AJ8/(AL4-AJ11)","v":0.43333333333333335},{"$f":"IF(AK8=0,0,(AK8*((LOG(AK8))/LOG(2))))","v":-0.52279538023588479},null,{"$f":"N8","v":112},{"$f":"COUNTIF(L127:L156,AN8)","v":3},{"$f":"AO8/(AQ4-AO11)","v":0.1},{"$f":"IF(AP8=0,0,(AP8*((LOG(AP8))/LOG(2))))","v":-0.33219280948873625},null,{"$f":"N8","v":112},{"$f":"COUNTIF(L157:L186,AS8)","v":2},{"$f":"AT8/(AV4-AT11)","v":6.6666666666666666E-2},{"$f":"IF(AU8=0,0,(AU8*((LOG(AU8))/LOG(2))))","v":-0.26045937304056793}]
[12,267,24,280,24,289,null,null,null,null,0,122,null,121,{"$f":"COUNTIF($L$7:$L$500,N9)","v":0},{"$f":"O9/$Q$4","v":0},{"$f":"IF(P9=0,0,(P9*((LOG(P9))/LOG(2))))","v":0},null,null,{"$f":"N9","v":121},{"$f":"COUNTIF(L7:L36,T9)","v":0},{"$f":"U9/(W4-U11)","v":0},{"$f":"IF(V9=0,0,(V9*((LOG(V9))/LOG(2))))","v":0},null,{"$f":"N9","v":121},{"$f":"COUNTIF(L37:L66,Y9)","v":0},{"$f":"Z9/(AB4-Z11)","v":0},{"$f":"IF(AA9=0,0,(AA9*((LOG(AA9))/LOG(2))))","v":0},null,{"$f":"N9","v":121},{"$f":"COUNTIF(L67:L96,AD9)","v":0},{"$f":"AE9/(AG4-AE11)","v":0},{"$f":"IF(AF9=0,0,(AF9*((LOG(AF9))/LOG(2))))","v":0},null,{"$f":"N9","v":121},{"$f":"COUNTIF(L97:L126,AI9)","v":0},{"$f":"AJ9/(AL4-AJ11)","v":0},{"$f":"IF(AK9=0,0,(AK9*((LOG(AK9))/LOG(2))))","v":0},null,{"$f":"N9","v":121},{"$f":"COUNTIF(L127:L156,AN9)","v":0},{"$f":"AO9/(AQ4-AO11)","v":0},{"$f":"IF(AP9=0,0,(AP9*((LOG(AP9))/LOG(2))))","v":0},null,{"$f":"N9","v":121},{"$f":"COUNTIF(L157:L186,AS9)","v":0},{"$f":"AT9/(AV4-AT11)","v":0},{"$f":"IF(AU9=0,0,(AU9*((LOG(AU9))/LOG(2))))","v":0}]
[12,393,24,403,24,414,null,null,null,null,0,122,null,122,{"$f":"COUNTIF($L$7:$L$500,N10)","v":116},{"$f":"O10/$Q$4","v":0.64444444444444449},{"$f":"IF(P10=0,0,(P10*((LOG(P10))/LOG(2))))","v":-0.40849535410802162},null,null,{"$f":"N10","v":122},{"$f":"COUNTIF(L7:L36,T10)","v":22},{"$f":"U10/(W4-U11)","v":0.73333333333333328},{"$f":"IF(V10=0,0,(V10*((LOG(V10))/LOG(2))))","v":-0.32813658311222899},null,{"$f":"N10","v":122},{"$f":"COUNTIF(L37:L66,Y10)","v":20},{"$f":"Z10/(AB4-Z11)","v":0.66666666666666663},{"$f":"IF(AA10=0,0,(AA10*((LOG(AA10))/LOG(2))))","v":-0.38997500048077083},null,{"$f":"N10","v":122},{"$f":"COUNTIF(L67:L96,AD10)","v":26},{"$f":"AE10/(AG4-AE11)","v":0.8666666666666667},{"$f":"IF(AF10=0,0,(AF10*((LOG(AF10))/LOG(2))))","v":-0.17892409380510282},null,{"$f":"N10","v":122},{"$f":"COUNTIF(L97:L126,AI10)","v":9},{"$f":"AJ10/(AL4-AJ11)","v":0.3},{"$f":"IF(AK10=0,0,(AK10*((LOG(AK10))/LOG(2))))","v":-0.52108967824986185},null,{"$f":"N10","v":122},{"$f":"COUNTIF(L127:L156,AN10)","v":19},{"$f":"AO10/(AQ4-AO11)","v":0.6333333333333333},{"$f":"IF(AP10=0,0,(AP10*((LOG(AP10))/LOG(2))))","v":-0.41734328537112425},null,{"$f":"N10","v":122},{"$f":"COUNTIF(L157:L186,AS10)","v":20},{"$f":"AT10/(AV4-AT11)","v":0.66666666666666663},{"$f":"IF(AU10=0,0,(AU10*((LOG(AU10))/LOG(2))))","v":-0.38997500048077083}]
[12,515,24,525,24,532,null,null,null,null,0,122,null,211,{"$f":"COUNTIF($L$7:$L$500,N11)","v":0},{"$f":"O11/$Q$4","v":0},{"$f":"IF(P11=0,0,(P11*((LOG(P11))/LOG(2))))","v":0},null,null,{"$f":"N11","v":211},{"$f":"COUNTIF(L7:L36,T11)","v":0},null,null,null,{"$f":"N11","v":211},{"$f":"COUNTIF(L37:L66,Y11)","v":0},null,null,null,{"$f":"N11","v":211},{"$f":"COUNTIF(L67:L96,AD11)","v":0},null,null,null,{"$f":"N11","v":211},{"$f":"COUNTIF(L97:L126,AI11)","v":0},null,null,null,{"$f":"N11","v":211},{"$f":"COUNTIF(L127:L156,AN11)","v":0},null,null,null,{"$f":"N11","v":211},{"$f":"COUNTIF(L157:L186,AS11)","v":0}]
[21,649,22,655,24,664,null,null,null,null,0,222,null,212,{"$f":"COUNTIF($L$7:$L$500,N12)","v":0},{"$f":"O12/$Q$4","v":0},{"$f":"IF(P12=0,0,(P12*((LOG(P12))/LOG(2))))","v":0},null,null,{"$f":"N12","v":212},{"$f":"COUNTIF(L7:L36,T12)","v":0},{"$f":"U12/(W4-U11)","v":0},{"$f":"IF(V12=0,0,(V12*((LOG(V12))/LOG(2))))","v":0},null,{"$f":"N12","v":212},{"$f":"COUNTIF(L37:L66,Y12)","v":0},{"$f":"Z12/(AB4-Z11)","v":0},{"$f":"IF(AA12=0,0,(AA12*((LOG(AA12))/LOG(2))))","v":0},null,{"$f":"N12","v":212},{"$f":"COUNTIF(L67:L96,AD12)","v":0},{"$f":"AE12/(AG4-AE11)","v":0},{"$f":"IF(AF12=0,0,(AF12*((LOG(AF12))/LOG(2))))","v":0},null,{"$f":"N12","v":212},{"$f":"COUNTIF(L97:L126,AI12)","v":0},{"$f":"AJ12/(AL4-AJ11)","v":0},{"$f":"IF(AK12=0,0,(AK12*((LOG(AK12))/LOG(2))))","v":0},null,{"$f":"N12","v":212},{"$f":"COUNTIF(L127:L156,AN12)","v":0},{"$f":"AO12/(AQ4-AO11)","v":0},{"$f":"IF(AP12=0,0,(AP12*((LOG(AP12))/LOG(2))))","v":0},null,{"$f":"N12","v":212},{"$f":"COUNTIF(L157:L186,AS12)","v":0},{"$f":"AT12/(AV4-AT11)","v":0},{"$f":"IF(AU12=0,0,(AU12*((LOG(AU12))/LOG(2))))","v":0}]
[12,769,24,782,24,808,null,null,null,null,0,122,null,221,{"$f":"COUNTIF($L$7:$L$500,N13)","v":0},{"$f":"O13/$Q$4","v":0},{"$f":"IF(P13=0,0,(P13*((LOG(P13))/LOG(2))))","v":0},null,null,{"$f":"N13","v":221},{"$f":"COUNTIF(L7:L36,T13)","v":0},{"$f":"U13/(W4-U11)","v":0},{"$f":"IF(V13=0,0,(V13*((LOG(V13))/LOG(2))))","v":0},null,{"$f":"N13","v":221},{"$f":"COUNTIF(L37:L66,Y13)","v":0},{"$f":"Z13/(AB4-Z11)","v":0},{"$f":"IF(AA13=0,0,(AA13*((LOG(AA13))/LOG(2))))","v":0},null,{"$f":"N13","v":221},{"$f":"COUNTIF(L67:L96,AD13)","v":0},{"$f":"AE13/(AG4-AE11)","v":0},{"$f":"IF(AF13=0,0,(AF13*((LOG(AF13))/LOG(2))))","v":0},null,{"$f":"N13","v":221},{"$f":"COUNTIF(L97:L126,AI13)","v":0},{"$f":"AJ13/(AL4-AJ11)","v":0},{"$f":"IF(AK13=0,0,(AK13*((LOG(AK13))/LOG(2))))","v":0},null,{"$f":"N13","v":221},{"$f":"COUNTIF(L127:L156,AN13)","v":0},{"$f":"AO13/(AQ4-AO11)","v":0},{"$f":"IF(AP13=0,0,(AP13*((LOG(AP13))/LOG(2))))","v":0},null,{"$f":"N13","v":221},{"$f":"COUNTIF(L157:L186,AS13)","v":0},{"$f":"AT13/(AV4-AT11)","v":0},{"$f":"IF(AU13=0,0,(AU13*((LOG(AU13))/LOG(2))))","v":0}]
[12,908,24,920,24,926,null,null,null,null,0,122,null,222,{"$f":"COUNTIF($L$7:$L$500,N14)","v":35},{"$f":"O14/$Q$4","v":0.19444444444444445},{"$f":"IF(P14=0,0,(P14*((LOG(P14))/LOG(2))))","v":-0.45938862654702667},null,null,{"$f":"N14","v":222},{"$f":"COUNTIF(L7:L36,T14)","v":5},{"$f":"U14/(W4-U11)","v":0.16666666666666666},{"$f":"IF(V14=0,0,(V14*((LOG(V14))/LOG(2))))","v":-0.43082708345352599},null,{"$f":"N14","v":222},{"$f":"COUNTIF(L37:L66,Y14)","v":4},{"$f":"Z14/(AB4-Z11)","v":0.13333333333333333},{"$f":"IF(AA14=0,0,(AA14*((LOG(AA14))/LOG(2))))","v":-0.3875854127478025},null,{"$f":"N14","v":222},{"$f":"COUNTIF(L67:L96,AD14)","v":2},{"$f":"AE14/(AG4-AE11)","v":6.6666666666666666E-2},{"$f":"IF(AF14=0,0,(AF14*((LOG(AF14))/LOG(2))))","v":-0.26045937304056793},null,{"$f":"N14","v":222},{"$f":"COUNTIF(L97:L126,AI14)","v":8},{"$f":"AJ14/(AL4-AJ11)","v":0.26666666666666666},{"$f":"IF(AK14=0,0,(AK14*((LOG(AK14))/LOG(2))))","v":-0.50850415882893829},null,{"$f":"N14","v":222},{"$f":"COUNTIF(L127:L156,AN14)","v":8},{"$f":"AO14/(AQ4-AO11)","v":0.26666666666666666},{"$f":"IF(AP14=0,0,(AP14*((LOG(AP14))/LOG(2))))","v":-0.50850415882893829},null,{"$f":"N14","v":222},{"$f":"COUNTIF(L157:L186,AS14)","v":8},{"$f":"AT14/(AV4-AT11)","v":0.26666666666666666},{"$f":"IF(AU14=0,0,(AU14*((LOG(AU14))/LOG(2))))","v":-0.50850415882893829}]
[12,1025,24,1035,24,1062,null,null,null,null,0,122,null,null,null,{"$f":"SUM(P7:P14)","v":1},{"$f":"-SUM(Q7:Q14)","v":1.292230041404276},null,null,null,null,{"$f":"SUM(V7:V14)","v":0.99999999999999989},{"$f":"-SUM(W7:W14)","v":1.0911564760544912},null,null,null,{"$f":"SUM(AA7:AA14)","v":1},{"$f":"-SUM(AB7:AB14)","v":1.2419460322060458},null,null,null,{"$f":"SUM(AF7:AF14)","v":1},{"$f":"-SUM(AG7:AG14)","v":0.69984283988623863},null,null,null,{"$f":"SUM(AK7:AK14)","v":1},{"$f":"-SUM(AL7:AL14)","v":1.5523892173146849},null,null,null,{"$f":"SUM(AP7:AP14)","v":1},{"$f":"-SUM(AQ7:AQ14)","v":1.2580402536887987},null,null,null,{"$f":"SUM(AU7:AU14)","v":1},{"$f":"-SUM(AV7:AV14)","v":1.158938532350277}]
[21,1185,22,1190,24,1197,null,null,null,null,0,222,null,null,null,"U=",{"$f":"Q15/(LOG(Q4)/LOG(2))","v":0.17248470101974517},null,null,null,null,"U1=",{"$f":"W15/(LOG(W4)/LOG(2))","v":0.22237228542063581},null,null,null,"U2=",{"$f":"AB15/(LOG(AB4)/LOG(2))","v":0.25310245011729843},null,null,null,"U3=",{"$f":"AG15/(LOG(AG4)/LOG(2))","v":0.14262450451056957},null,null,null,"U4=",{"$f":"AL15/(LOG(AL4)/LOG(2))","v":0.31636923364544023},null,null,null,"U5=",{"$f":"AQ15/(LOG(AQ4)/LOG(2))","v":0.25638237274226106},null,null,null,"U6=",{"$f":"AV15/(LOG(AV4)/LOG(2))","v":0.23618593277532682}]
[12,1294,24,1305,24,1311,null,null,null,null,0,122]
[21,1424,22,1430,24,1439,null,null,null,null,0,222]
[21,1566,22,1621,24,1645,null,null,null,null,0,222,null,"Total Target Seq"]
[12,1746,24,1769,24,1782,null,null,null,null,0,122,null,{"$f":"COUNTIF(L7:L186,G3)","v":0},null,30,30,30,30,30,30]
[12,1879,24,1889,24,1903,null,null,null,null,0,122,null,null,null,"% of reinforcement given in 6 equal intervals based on number of trials "]
[12,2003,13,2005,24,2022,null,null,null,null,0,112,null,null,null,"%_1","%_2","%_3","%_4","%_5","%_6"]
[12,2121,24,2138,24,2156,null,null,null,null,0,122,null,null,"target sequence",{"$f":"$G$3","v":211},{"$f":"$G$3","v":211},{"$f":"$G$3","v":211},{"$f":"$G$3","v":211},{"$f":"$G$3","v":211},{"$f":"$G$3","v":211}]
[12,2257,24,2281,24,2300,null,null,null,null,0,122,null,null,"total reinforcement",{"$f":"U11","v":0},{"$f":"Z11","v":0},{"$f":"AE11","v":0},{"$f":"AJ11","v":0},{"$f":"AO11","v":0},{"$f":"AT11","v":0}]
[12,2409,24,2421,24,2453,null,null,null,null,0,122,null,null,"% target"]
[12,2548,24,2562,24,2567,null,null,null,null,0,122,null,null,"CCRF"]
[12,2666,24,2678,24,2695,null,null,null,null,0,122,null,null,"% CCRf"]
[21,2810,22,2817,24,2827,null,null,null,null,0,222,null,null,"average response rate",{"$f":"F36/P20","v":131.36666666666667},{"$f":"(F66-F36)/Q20","v":134.53333333333333},{"$f":"(F96-F66)/R20","v":131.76666666666668},{"$f":"(F126-F96)/S20","v":130.43333333333334},{"$f":"(F156-F126)/T20","v":132.16666666666666},{"$f":"(F186-F156)/U20","v":137.96666666666667}]
[12,2927,24,2987,24,3011,null,null,null,null,0,122]
[12,3109,13,3118,24,3131,null,null,null,null,0,112]
[12,3230,13,3232,24,3250,null,null,null,null,0,112]
[12,3348,24,3362,24,3382,null,null,null,null,0,122]
[12,3485,24,3501,24,3510,null,null,null,null,0,122]
[12,3613,24,3627,24,3636,null,null,null,null,0,122]
[12,3738,24,3752,24,3815,null,null,null,null,0,122]
[12,3923,24,3933,24,3941,null,null,null,null,0,122]
[12,4041,24,4055,24,4087,null,null,null,null,0,122]
[12,4190,24,4204,24,4227,null,null,null,null,0,122]
[12,4331,24,4341,24,4347,null,null,null,null,0,122]
[12,4445,13,4454,24,4468,null,null,null,null,0,112]
[12,4572,24,4615,24,4628,null,null,null,null,0,122]
[12,4733,24,4748,24,4773,null,null,null,null,0,122]
[12,4875,24,4888,24,4906,null,null,null,null,0,122]
[12,5008,24,5023,24,5042,null,null,null,null,0,122]
[12,5144,24,5157,24,5167,null,null,null,null,0,122]
[12,5268,24,5347,24,5363,null,null,null,null,0,122]
[12,5463,13,5473,24,5483,null,null,null,null,0,112]
[12,5584,24,5602,24,5618,null,null,null,null,0,122]
[12,5712,24,5724,24,5729,null,null,null,null,0,122]
[12,5826,24,5840,24,5848,null,null,null,null,0,122]
[12,5952,24,5967,24,5977,null,null,null,null,0,122]
[12,6077,13,6089,24,6107,null,null,null,null,0,112]
[12,6210,24,6223,24,6232,null,null,null,null,0,122]
[12,6334,24,6377,24,6386,null,null,null,null,0,122]
[12,6484,13,6496,24,6509,null,null,null,null,0,112]
[12,6619,24,6633,24,6650,null,null,null,null,0,122]
[21,6780,22,6788,24,6803,null,null,null,null,0,222]
[12,6911,24,6927,24,6946,null,null,null,null,0,122]
[12,7045,13,7063,24,7075,null,null,null,null,0,112]
[12,7170,24,7180,24,7185,null,null,null,null,0,122]
[12,7287,24,7298,24,7324,null,null,null,null,0,122]
[21,7439,22,7448,24,7456,null,null,null,null,0,222]
[12,7557,24,7569,24,7606,null,null,null,null,0,122]
[21,7725,22,7730,24,7743,null,null,null,null,0,222]
[21,7845,22,7850,24,7858,null,null,null,null,0,222]
[12,7955,13,7963,24,7977,null,null,null,null,0,112]
[12,8080,24,8096,24,8104,null,null,null,null,0,122]
[12,8200,24,8212,24,8246,null,null,null,null,0,122]
[12,8348,24,8360,24,8367,null,null,null,null,0,122]
[12,8466,24,8479,24,8484,null,null,null,null,0,122]
[12,8582,24,8596,24,8627,null,null,null,null,0,122]
[12,8734,24,8750,24,8758,null,null,null,null,0,122]
[12,8858,24,8870,24,8878,null,null,null,null,0,122]
[12,8977,24,9000,24,9014,null,null,null,null,0,122]
[12,9115,24,9125,24,9131,null,null,null,null,0,122]
[21,9235,22,9242,24,9270,null,null,null,null,0,222]
[12,9375,24,9399,24,9413,null,null,null,null,0,122]
[12,9511,13,9526,24,9540,null,null,null,null,0,112]
[12,9644,24,9658,24,9666,null,null,null,null,0,122]
[12,9767,24,9781,24,9801,null,null,null,null,0,122]
[12,9897,24,9910,24,9915,null,null,null,null,0,122]
[12,10013,24,10028,24,10044,null,null,null,null,0,122]
[12,10141,24,10156,24,10174,null,null,null,null,0,122]
[12,10278,24,10291,24,10308,null,null,null,null,0,122]
[12,10407,24,10449,24,10453,null,null,null,null,0,122]
[12,10555,24,10568,24,10573,null,null,null,null,0,122]
[12,10673,24,10686,24,10693,null,null,null,null,0,122]
[21,10810,22,10842,24,10905,null,null,null,null,0,222]
[12,11001,24,11020,24,11029,null,null,null,null,0,122]
[12,11139,24,11151,24,11191,null,null,null,null,0,122]
[12,11286,24,11304,24,11310,null,null,null,null,0,122]
[12,11410,24,11423,24,11437,null,null,null,null,0,122]
[12,11538,24,11548,24,11553,null,null,null,null,0,122]
[12,11648,24,11659,24,11683,null,null,null,null,0,122]
[12,11782,24,11795,24,11810,null,null,null,null,0,122]
[12,11909,13,11920,24,11930,null,null,null,null,0,112]
[12,12028,13,12037,24,12050,null,null,null,null,0,112]
[12,12149,24,12161,24,12170,null,null,null,null,0,122]
[21,12276,22,12281,24,12292,null,null,null,null,0,222]
[12,12398,24,12410,24,12417,null,null,null,null,0,122]
[12,12517,24,12531,24,12539,null,null,null,null,0,122]
[12,12646,24,12656,24,12662,null,null,null,null,0,122]
[12,12760,24,12772,24,12778,null,null,null,null,0,122]
[12,12879,13,12889,24,12928,null,null,null,null,0,112]
[12,13026,24,13038,24,13046,null,null,null,null,0,122]
[12,13145,24,13157,24,13167,null,null,null,null,0,122]
[12,13268,13,13276,24,13288,null,null,null,null,0,112]
[21,13400,22,13415,24,13424,null,null,null,null,0,222]
[12,13521,13,13530,24,13550,null,null,null,null,0,112]
[12,13647,13,13658,24,13670,null,null,null,null,0,112]
[12,13769,13,13778,24,13792,null,null,null,null,0,112]
[12,13886,24,13907,24,13912,null,null,null,null,0,122]
[12,14016,13,14027,24,14040,null,null,null,null,0,112]
[12,14138,13,14147,24,14160,null,null,null,null,0,112]
[12,14260,13,14269,24,14291,null,null,null,null,0,112]
[12,14389,13,14397,24,14410,null,null,null,null,0,112]
[12,14509,13,14518,24,14532,null,null,null,null,0,112]
[21,14663,22,14677,24,14696,null,null,null,null,0,222]
[12,14792,13,14800,24,14812,null,null,null,null,0,112]
[21,14944,22,14987,24,15007,null,null,null,null,0,222]
[21,15118,22,15127,24,15145,null,null,null,null,0,222]
[21,15258,22,15265,24,15282,null,null,null,null,0,222]
[12,15388,24,15404,24,15413,null,null,null,null,0,122]
[12,15513,13,15523,24,15560,null,null,null,null,0,112]
[21,15676,22,15685,24,15693,null,null,null,null,0,222]
[21,15813,22,15829,24,15843,null,null,null,null,0,222]
[12,15939,13,15946,24,15982,null,null,null,null,0,112]
[12,16078,24,16090,24,16119,null,null,null,null,0,122]
[12,16226,24,16237,24,16245,null,null,null,null,0,122]
[21,16348,22,16358,24,16366,null,null,null,null,0,222]
[21,16480,22,16488,24,16501,null,null,null,null,0,222]
[12,16599,24,16614,24,16636,null,null,null,null,0,122]
[21,16747,22,16777,24,16790,null,null,null,null,0,222]
[12,16890,13,16900,24,16911,null,null,null,null,0,112]
[21,17016,22,17023,24,17033,null,null,null,null,0,222]
[12,17133,24,17146,24,17154,null,null,null,null,0,122]
[21,17292,22,17313,24,17327,null,null,null,null,0,222]
[12,17440,24,17452,24,17462,null,null,null,null,0,122]
[12,17559,24,17576,24,17589,null,null,null,null,0,122]
[12,17696,24,17708,24,17714,null,null,null,null,0,122]
[12,17824,24,17836,24,17853,null,null,null,null,0,122]
[12,17959,24,17972,24,17979,null,null,null,null,0,122]
[12,18091,13,18117,24,18134,null,null,null,null,0,112]
[12,18236,24,18249,24,18265,null,null,null,null,0,122]
[12,18365,24,18378,24,18392,null,null,null,null,0,122]
[12,18489,24,18498,24,18504,null,null,null,null,0,122]
[12,18603,24,18616,24,18622,null,null,null,null,0,122]
[12,18720,24,18734,24,18740,null,null,null,null,0,122]
[12,18845,24,18857,24,18863,null,null,null,null,0,122]
[12,18957,24,18976,24,18988,null,null,null,null,0,122]
[21,19109,22,19115,24,19124,null,null,null,null,0,222]
[12,19227,24,19245,24,19255,null,null,null,null,0,122]
[12,19360,24,19373,24,19385,null,null,null,null,0,122]
[12,19496,24,19510,24,19516,null,null,null,null,0,122]
[21,19623,22,19663,24,19673,null,null,null,null,0,222]
[21,19792,22,19798,24,19808,null,null,null,null,0,222]
[12,19909,24,19934,24,19944,null,null,null,null,0,122]
[12,20050,24,20069,24,20078,null,null,null,null,0,122]
[12,20177,24,20193,24,20199,null,null,null,null,0,122]
[21,20341,22,20364,24,20377,null,null,null,null,0,222]
[12,20478,24,20490,24,20495,null,null,null,null,0,122]
[12,20604,24,20615,24,20621,null,null,null,null,0,122]
[12,20732,24,20744,24,20751,null,null,null,null,0,122]
[21,20865,22,20891,24,20939,null,null,null,null,0,222]
[12,21041,24,21059,24,21068,null,null,null,null,0,122]
[21,21170,22,21191,24,21200,null,null,null,null,0,222]
[12,21297,24,21308,24,21320,null,null,null,null,0,122]
[12,21428,24,21440,24,21455,null,null,null,null,0,122]
[12,21555,13,21562,24,21575,null,null,null,null,0,112]
[12,21687,24,21701,24,21714,null,null,null,null,0,122]
[12,21818,24,21846,24,21853,null,null,null,null,0,122]
[21,21963,22,21972,24,21980,null,null,null,null,0,222]
[12,22085,24,22096,24,22102,null,null,null,null,0,122]
[12,22208,24,22222,24,22228,null,null,null,null,0,122]
[12,22332,13,22347,24,22363,null,null,null,null,0,112]
[21,22481,22,22488,24,22497,null,null,null,null,0,222]
[12,22599,24,22615,24,22636,null,null,null,null,0,122]
[12,22737,24,22746,24,22783,null,null,null,null,0,122]
[12,22883,24,22895,24,22903,null,null,null,null,0,122]
[12,23007,24,23018,24,23023,null,null,null,null,0,122]
[21,23170,22,23185,24,23221,null,null,null,null,0,222]
[12,23330,24,23339,24,23345,null,null,null,null,0,122]
[12,23453,24,23462,24,23478,null,null,null,null,0,122]
[21,23601,22,23607,24,23633,null,null,null,null,0,222]
[12,23735,24,23753,24,23761,null,null,null,null,0,122]
[21,23920,22,23928,24,23947,null,null,null,null,null,222]

{"sheet":"!M925640.091","index":7,"n_rows":181,"n_cols":48,"rows_kept":181,"cut":false,"hidden":false,"merged":[[4,39,4,42],[5,39,5,40],[4,44,4,47],[5,44,5,45],[4,24,4,27],[5,24,5,25],[4,29,4,32],[5,29,5,30],[4,34,4,37],[5,34,5,35],[1,1,1,2],[5,13,5,14],[18,13,18,14],[19,13,19,14],[4,19,4,22],[5,19,5,20]]}
["Report for:!M925640.091"]
["Date:","<date>"]
["Hen:","<hen>",null,null,null,"Correct Sequence",{"$f":"Start!J2","v":211},null,null,null,null,null,null,null,null,"Total Sequences in Data",{"$f":"4994-COUNTBLANK(L7:L5000)","v":175},null,null,null,null,"Total Sequences in Block Data",{"$f":"COUNTA(L7:L35)","v":29},null,null,null,"Total Sequences in Block Data",{"$f":"COUNTA(L36:L64)","v":29},null,null,null,"Total Sequences in Block Data",{"$f":"COUNTA(L65:L94)","v":30},null,null,null,"Total Sequences in Block Data",{"$f":"COUNTA(L95:L123)","v":29},null,null,null,"Total Sequences in Block Data",{"$f":"COUNTA(L124:L152)","v":29},null,null,null,"Total Sequences in Block Data",{"$f":"COUNTA(L153:L181)","v":29}]
[null,null,null,null,null,null,null,null,null,null,null,null,null,null,null,"Total Sequences in Summary",{"$f":"SUM(O7:O14)","v":175},null,null,null,null,"Total Sequences in Block Summary",{"$f":"SUM(U7:U14)","v":29},null,null,null,"Total Sequences in Block Summary",{"$f":"SUM(Z7:Z14)","v":29},null,null,null,"Total Sequences in Block Summary",{"$f":"SUM(AE7:AE14)","v":30},null,null,null,"Total Sequences in Block Summary",{"$f":"SUM(AJ7:AJ14)","v":29},null,null,null,"Total Sequences in Block Summary",{"$f":"SUM(AO7:AO14)","v":29},null,null,null,"Total Sequences in Block Summary",{"$f":"SUM(AT7:AT14)","v":29}]
[null,null,null,null,null,null,null,null,null,null,null,null,null,null,null,null,null,null,null,"Block 1",null,null,null,null,"Block 2",null,null,null,null,"Block 3",null,null,null,null,"Block 4",null,null,null,null,"Block 5",null,null,null,null,"Block 6"]
["Sequence\nComponent\n1","Time\n1","Sequence\nComponent\n2","Time\n2","Sequence\nComponent\n3","Time\n3","Sequence\nComponent\n4","Time\n4","Sequence\nComponent\n5","Time\n5","Correct?\n0=No 1=Yes","Sequence",null,"Frequency",null,"Relative Frequency","Variability",null,null,"Frequency",null,"Relative Frequency","Variability",null,"Frequency",null,"Relative Frequency","Variability",null,"Frequency",null,"Relative Frequency","Variability",null,"Frequency",null,"Relative Frequency","Variability",null,"Frequency",null,"Relative Frequency","Variability",null,"Frequency",null,"Relative Frequency","Variability"]
[12,54,13,65,24,84,null,null,null,null,0,112,null,111,{"$f":"COUNTIF($L$7:$L$500,N7)","v":0},{"$f":"O7/$Q$4","v":0},{"$f":"IF(P7=0,0,(P7*((LOG(P7))/LOG(2))))","v":0},null,null,{"$f":"N7","v":111},{"$f":"COUNTIF(L7:L35,T7)","v":0},{"$f":"U7/(W4-U11)","v":0},{"$f":"IF(V7=0,0,(V7*((LOG(V7))/LOG(2))))","v":0},null,{"$f":"N7","v":111},{"$f":"COUNTIF(L36:L64,Y7)","v":0},{"$f":"Z7/(AB4-Z11)","v":0},{"$f":"IF(AA7=0,0,(AA7*((LOG(AA7))/LOG(2))))","v":0},null,{"$f":"N7","v":111},{"$f":"COUNTIF(L65:L94,AD7)","v":0},{"$f":"AE7/(AG4-AE11)","v":0},{"$f":"IF(AF7=0,0,(AF7*((LOG(AF7))/LOG(2))))","v":0},null,{"$f":"N7","v":111},{"$f":"COUNTIF(L95:L123,AI7)","v":0},{"$f":"AJ7/(AL4-AJ11)","v":0},{"$f":"IF(AK7=0,0,(AK7*((LOG(AK7))/LOG(2))))","v":0},null,{"$f":"N7","v":111},{"$f":"COUNTIF(L124:L152,AN7)","v":0},{"$f":"AO7/(AQ4-AO11)","v":0},{"$f":"IF(AP7=0,0,(AP7*((LOG(AP7))/LOG(2))))","v":0},null,{"$f":"N7","v":111},{"$f":"COUNTIF(L153:L181,AS7)","v":0},{"$f":"AT7/(AV4-AT11)","v":0},{"$f":"IF(AU7=0,0,(AU7*((LOG(AU7))/LOG(2))))","v":0}]
[12,191,24,204,24,209,null,null,null,null,0,122,null,112,{"$f":"COUNTIF($L$7:$L$500,N8)","v":25},{"$f":"O8/$Q$4","v":0.14285714285714285},{"$f":"IF(P8=0,0,(P8*((LOG(P8))/LOG(2))))","v":-0.40105070315108626},null,null,{"$f":"N8","v":112},{"$f":"COUNTIF(L7:L35,T8)","v":9},{"$f":"U8/(W4-U11)","v":0.31034482758620691},{"$f":"IF(V8=0,0,(V8*((LOG(V8))/LOG(2))))","v":-0.52387944631611505},null,{"$f":"N8","v":112},{"$f":"COUNTIF(L36:L64,Y8)","v":9},{"$f":"Z8/(AB4-Z11)","v":0.31034482758620691},{"$f":"IF(AA8=0,0,(AA8*((LOG(AA8))/LOG(2))))","v":-0.52387944631611505},null,{"$f":"N8","v":112},{"$f":"COUNTIF(L65:L94,AD8)","v":3},{"$f":"AE8/(AG4-AE11)","v":0.1},{"$f":"IF(AF8=0,0,(AF8*((LOG(AF8))/LOG(2))))","v":-0.33219280948873625},null,{"$f":"N8","v":112},{"$f":"COUNTIF(L95:L123,AI8)","v":2},{"$f":"AJ8/(AL4-AJ11)","v":6.8965517241379309E-2},{"$f":"IF(AK8=0,0,(AK8*((LOG(AK8))/LOG(2))))","v":-0.26606765483638428},null,{"$f":"N8","v":112},{"$f":"COUNTIF(L124:L152,AN8)","v":1},{"$f":"AO8/(AQ4-AO11)","v":3.4482758620689655E-2},{"$f":"IF(AP8=0,0,(AP8*((LOG(AP8))/LOG(2))))","v":-0.16751658603888178},null,{"$f":"N8","v":112},{"$f":"COUNTIF(L153:L181,AS8)","v":1},{"$f":"AT8/(AV4-AT11)","v":3.4482758620689655E-2},{"$f":"IF(AU8=0,0,(AU8*((LOG(AU8))/LOG(2))))","v":-0.16751658603888178}]
[12,312,24,352,24,390,null,null,null,null,0,122,null,121,{"$f":"COUNTIF($L$7:$L$500,N9)","v":0},{"$f":"O9/$Q$4","v":0},{"$f":"IF(P9=0,0,(P9*((LOG(P9))/LOG(2))))","v":0},null,null,{"$f":"N9","v":121},{"$f":"COUNTIF(L7:L35,T9)","v":0},{"$f":"U9/(W4-U11)","v":0},{"$f":"IF(V9=0,0,(V9*((LOG(V9))/LOG(2))))","v":0},null,{"$f":"N9","v":121},{"$f":"COUNTIF(L36:L64,Y9)","v":0},{"$f":"Z9/(AB4-Z11)","v":0},{"$f":"IF(AA9=0,0,(AA9*((LOG(AA9))/LOG(2))))","v":0},null,{"$f":"N9","v":121},{"$f":"COUNTIF(L65:L94,AD9)","v":0},{"$f":"AE9/(AG4-AE11)","v":0},{"$f":"IF(AF9=0,0,(AF9*((LOG(AF9))/LOG(2))))","v":0},null,{"$f":"N9","v":121},{"$f":"COUNTIF(L95:L123,AI9)","v":0},{"$f":"AJ9/(AL4-AJ11)","v":0},{"$f":"IF(AK9=0,0,(AK9*((LOG(AK9))/LOG(2))))","v":0},null,{"$f":"N9","v":121},{"$f":"COUNTIF(L124:L152,AN9)","v":0},{"$f":"AO9/(AQ4-AO11)","v":0},{"$f":"IF(AP9=0,0,(AP9*((LOG(AP9))/LOG(2))))","v":0},null,{"$f":"N9","v":121},{"$f":"COUNTIF(L153:L181,AS9)","v":0},{"$f":"AT9/(AV4-AT11)","v":0},{"$f":"IF(AU9=0,0,(AU9*((LOG(AU9))/LOG(2))))","v":0}]
[12,494,24,508,24,516,null,null,null,null,0,122,null,122,{"$f":"COUNTIF($L$7:$L$500,N10)","v":82},{"$f":"O10/$Q$4","v":0.46857142857142858},{"$f":"IF(P10=0,0,(P10*((LOG(P10))/LOG(2))))","v":-0.512457410237532},null,null,{"$f":"N10","v":122},{"$f":"COUNTIF(L7:L35,T10)","v":18},{"$f":"U10/(W4-U11)","v":0.62068965517241381},{"$f":"IF(V10=0,0,(V10*((LOG(V10))/LOG(2))))","v":-0.4270692374598164},null,{"$f":"N10","v":122},{"$f":"COUNTIF(L36:L64,Y10)","v":13},{"$f":"Z10/(AB4-Z11)","v":0.44827586206896552},{"$f":"IF(AA10=0,0,(AA10*((LOG(AA10))/LOG(2))))","v":-0.51889781382152544},null,{"$f":"N10","v":122},{"$f":"COUNTIF(L65:L94,AD10)","v":13},{"$f":"AE10/(AG4-AE11)","v":0.43333333333333335},{"$f":"IF(AF10=0,0,(AF10*((LOG(AF10))/LOG(2))))","v":-0.52279538023588479},null,{"$f":"N10","v":122},{"$f":"COUNTIF(L95:L123,AI10)","v":13},{"$f":"AJ10/(AL4-AJ11)","v":0.44827586206896552},{"$f":"IF(AK10=0,0,(AK10*((LOG(AK10))/LOG(2))))","v":-0.51889781382152544},null,{"$f":"N10","v":122},{"$f":"COUNTIF(L124:L152,AN10)","v":14},{"$f":"AO10/(AQ4-AO11)","v":0.48275862068965519},{"$f":"IF(AP10=0,0,(AP10*((LOG(AP10))/LOG(2))))","v":-0.50719879389584666},null,{"$f":"N10","v":122},{"$f":"COUNTIF(L153:L181,AS10)","v":11},{"$f":"AT10/(AV4-AT11)","v":0.37931034482758619},{"$f":"IF(AU10=0,0,(AU10*((LOG(AU10))/LOG(2))))","v":-0.53048424625493174}]
[12,617,13,628,24,641,null,null,null,null,0,112,null,211,{"$f":"COUNTIF($L$7:$L$500,N11)","v":0},{"$f":"O11/$Q$4","v":0},{"$f":"IF(P11=0,0,(P11*((LOG(P11))/LOG(2))))","v":0},null,null,{"$f":"N11","v":211},{"$f":"COUNTIF(L7:L35,T11)","v":0},null,null,null,{"$f":"N11","v":211},{"$f":"COUNTIF(L36:L64,Y11)","v":0},null,null,null,{"$f":"N11","v":211},{"$f":"COUNTIF(L65:L94,AD11)","v":0},null,null,null,{"$f":"N11","v":211},{"$f":"COUNTIF(L95:L123,AI11)","v":0},null,null,null,{"$f":"N11","v":211},{"$f":"COUNTIF(L124:L152,AN11)","v":0},null,null,null,{"$f":"N11","v":211},{"$f":"COUNTIF(L153:L181,AS11)","v":0}]
[12,743,24,758,24,765,null,null,null,null,0,122,null,212,{"$f":"COUNTIF($L$7:$L$500,N12)","v":0},{"$f":"O12/$Q$4","v":0},{"$f":"IF(P12=0,0,(P12*((LOG(P12))/LOG(2))))","v":0},null,null,{"$f":"N12","v":212},{"$f":"COUNTIF(L7:L35,T12)","v":0},{"$f":"U12/(W4-U11)","v":0},{"$f":"IF(V12=0,0,(V12*((LOG(V12))/LOG(2))))","v":0},null,{"$f":"N12","v":212},{"$f":"COUNTIF(L36:L64,Y12)","v":0},{"$f":"Z12/(AB4-Z11)","v":0},{"$f":"IF(AA12=0,0,(AA12*((LOG(AA12))/LOG(2))))","v":0},null,{"$f":"N12","v":212},{"$f":"COUNTIF(L65:L94,AD12)","v":0},{"$f":"AE12/(AG4-AE11)","v":0},{"$f":"IF(AF12=0,0,(AF12*((LOG(AF12))/LOG(2))))","v":0},null,{"$f":"N12","v":212},{"$f":"COUNTIF(L95:L123,AI12)","v":0},{"$f":"AJ12/(AL4-AJ11)","v":0},{"$f":"IF(AK12=0,0,(AK12*((LOG(AK12))/LOG(2))))","v":0},null,{"$f":"N12","v":212},{"$f":"COUNTIF(L124:L152,AN12)","v":0},{"$f":"AO12/(AQ4-AO11)","v":0},{"$f":"IF(AP12=0,0,(AP12*((LOG(AP12))/LOG(2))))","v":0},null,{"$f":"N12","v":212},{"$f":"COUNTIF(L153:L181,AS12)","v":0},{"$f":"AT12/(AV4-AT11)","v":0},{"$f":"IF(AU12=0,0,(AU12*((LOG(AU12))/LOG(2))))","v":0}]
[12,864,24,878,24,899,null,null,null,null,0,122,null,221,{"$f":"COUNTIF($L$7:$L$500,N13)","v":0},{"$f":"O13/$Q$4","v":0},{"$f":"IF(P13=0,0,(P13*((LOG(P13))/LOG(2))))","v":0},null,null,{"$f":"N13","v":221},{"$f":"COUNTIF(L7:L35,T13)","v":0},{"$f":"U13/(W4-U11)","v":0},{"$f":"IF(V13=0,0,(V13*((LOG(V13))/LOG(2))))","v":0},null,{"$f":"N13","v":221},{"$f":"COUNTIF(L36:L64,Y13)","v":0},{"$f":"Z13/(AB4-Z11)","v":0},{"$f":"IF(AA13=0,0,(AA13*((LOG(AA13))/LOG(2))))","v":0},null,{"$f":"N13","v":221},{"$f":"COUNTIF(L65:L94,AD13)","v":0},{"$f":"AE13/(AG4-AE11)","v":0},{"$f":"IF(AF13=0,0,(AF13*((LOG(AF13))/LOG(2))))","v":0},null,{"$f":"N13","v":221},{"$f":"COUNTIF(L95:L123,AI13)","v":0},{"$f":"AJ13/(AL4-AJ11)","v":0},{"$f":"IF(AK13=0,0,(AK13*((LOG(AK13))/LOG(2))))","v":0},null,{"$f":"N13","v":221},{"$f":"COUNTIF(L124:L152,AN13)","v":0},{"$f":"AO13/(AQ4-AO11)","v":0},{"$f":"IF(AP13=0,0,(AP13*((LOG(AP13))/LOG(2))))","v":0},null,{"$f":"N13","v":221},{"$f":"COUNTIF(L153:L181,AS13)","v":0},{"$f":"AT13/(AV4-AT11)","v":0},{"$f":"IF(AU13=0,0,(AU13*((LOG(AU13))/LOG(2))))","v":0}]
[12,1005,24,1052,24,1066,null,null,null,null,0,122,null,222,{"$f":"COUNTIF($L$7:$L$500,N14)","v":68},{"$f":"O14/$Q$4","v":0.38857142857142857},{"$f":"IF(P14=0,0,(P14*((LOG(P14))/LOG(2))))","v":-0.52991361371185874},null,null,{"$f":"N14","v":222},{"$f":"COUNTIF(L7:L35,T14)","v":2},{"$f":"U14/(W4-U11)","v":6.8965517241379309E-2},{"$f":"IF(V14=0,0,(V14*((LOG(V14))/LOG(2))))","v":-0.26606765483638428},null,{"$f":"N14","v":222},{"$f":"COUNTIF(L36:L64,Y14)","v":7},{"$f":"Z14/(AB4-Z11)","v":0.2413793103448276},{"$f":"IF(AA14=0,0,(AA14*((LOG(AA14))/LOG(2))))","v":-0.49497870729275095},null,{"$f":"N14","v":222},{"$f":"COUNTIF(L65:L94,AD14)","v":14},{"$f":"AE14/(AG4-AE11)","v":0.46666666666666667},{"$f":"IF(AF14=0,0,(AF14*((LOG(AF14))/LOG(2))))","v":-0.51311664765709342},null,{"$f":"N14","v":222},{"$f":"COUNTIF(L95:L123,AI14)","v":14},{"$f":"AJ14/(AL4-AJ11)","v":0.48275862068965519},{"$f":"IF(AK14=0,0,(AK14*((LOG(AK14))/LOG(2))))","v":-0.50719879389584666},null,{"$f":"N14","v":222},{"$f":"COUNTIF(L124:L152,AN14)","v":14},{"$f":"AO14/(AQ4-AO11)","v":0.48275862068965519},{"$f":"IF(AP14=0,0,(AP14*((LOG(AP14))/LOG(2))))","v":-0.50719879389584666},null,{"$f":"N14","v":222},{"$f":"COUNTIF(L153:L181,AS14)","v":17},{"$f":"AT14/(AV4-AT11)","v":0.58620689655172409},{"$f":"IF(AU14=0,0,(AU14*((LOG(AU14))/LOG(2))))","v":-0.45168305572113648}]
[12,1168,13,1190,24,1204,null,null,null,null,0,112,null,null,null,{"$f":"SUM(P7:P14)","v":1},{"$f":"-SUM(Q7:Q14)","v":1.443421727100477},null,null,null,null,{"$f":"SUM(V7:V14)","v":1},{"$f":"-SUM(W7:W14)","v":1.2170163386123156},null,null,null,{"$f":"SUM(AA7:AA14)","v":1},{"$f":"-SUM(AB7:AB14)","v":1.5377559674303913},null,null,null,{"$f":"SUM(AF7:AF14)","v":1},{"$f":"-SUM(AG7:AG14)","v":1.3681048373817144},null,null,null,{"$f":"SUM(AK7:AK14)","v":1},{"$f":"-SUM(AL7:AL14)","v":1.2921642625537564},null,null,null,{"$f":"SUM(AP7:AP14)","v":1},{"$f":"-SUM(AQ7:AQ14)","v":1.1819141738305752},null,null,null,{"$f":"SUM(AU7:AU14)","v":1},{"$f":"-SUM(AV7:AV14)","v":1.14968388801495}]
[12,1303,24,1320,24,1327,null,null,null,null,0,122,null,null,null,"U=",{"$f":"Q15/(LOG(Q4)/LOG(2))","v":0.19371639125998738},null,null,null,null,"U1=",{"$f":"W15/(LOG(W4)/LOG(2))","v":0.25051895835594074},null,null,null,"U2=",{"$f":"AB15/(LOG(AB4)/LOG(2))","v":0.31654219499267711},null,null,null,"U3=",{"$f":"AG15/(LOG(AG4)/LOG(2))","v":0.2788129897589558},null,null,null,"U4=",{"$f":"AL15/(LOG(AL4)/LOG(2))","v":0.26598792046526393},null,null,null,"U5=",{"$f":"AQ15/(LOG(AQ4)/LOG(2))","v":0.24329328892311522},null,null,null,"U6=",{"$f":"AV15/(LOG(AV4)/LOG(2))","v":0.23665878667867432}]
[12,1429,24,1456,24,1505,null,null,null,null,0,122]
[21,1628,22,1636,24,1653,null,null,null,null,0,222]
[12,1753,24,1768,24,1775,null,null,null,null,0,122,null,"Total Target Seq"]
[12,1884,24,1900,24,1915,null,null,null,null,0,122,null,{"$f":"COUNTIF(L7:L181,G3)","v":0},null,29,29,30,29,29,29]
[12,2015,24,2029,24,2036,null,null,null,null,0,122,null,null,null,"% of reinforcement given in 6 equal intervals based on number of trials "]
[12,2139,13,2153,24,2166,null,null,null,null,0,112,null,null,null,"%_1","%_2","%_3","%_4","%_5","%_6"]
[12,2265,13,2276,24,2289,null,null,null,null,0,112,null,null,"target sequence",{"$f":"$G$3","v":211},{"$f":"$G$3","v":211},{"$f":"$G$3","v":211},{"$f":"$G$3","v":211},{"$f":"$G$3","v":211},{"$f":"$G$3","v":211}]
[12,2391,24,2419,24,2442,null,null,null,null,0,122,null,null,"total reinforcement",{"$f":"U11","v":0},{"$f":"Z11","v":0},{"$f":"AE11","v":0},{"$f":"AJ11","v":0},{"$f":"AO11","v":0},{"$f":"AT11","v":0}]
[12,2536,24,2551,24,2558,null,null,null,null,0,122,null,null,"% target"]
[12,2659,13,2671,24,2691,null,null,null,null,0,112,null,null,"CCRF"]
[12,2796,24,2809,24,2818,null,null,null,null,0,122,null,null,"% CCRf"]
[12,2917,24,2946,24,2969,null,null,null,null,0,122,null,null,"average response rate",{"$f":"F35/P20","v":135.27586206896552},{"$f":"(F64-F35)/Q20","v":135.0344827586207},{"$f":"(F94-F64)/R20","v":140.13333333333333},{"$f":"(F123-F94)/S20","v":135.24137931034483},{"$f":"(F152-F123)/T20","v":135.72413793103448},{"$f":"(F181-F152)/U20","v":138}]
[12,3070,24,3083,24,3092,null,null,null,null,0,122]
[12,3187,13,3196,24,3209,null,null,null,null,0,112]
[12,3309,13,3319,24,3331,null,null,null,null,0,112]
[12,3433,24,3450,24,3467,null,null,null,null,0,122]
[12,3568,13,3577,24,3590,null,null,null,null,0,112]
[21,3743,22,3753,24,3782,null,null,null,null,0,222]
[12,3895,24,3908,24,3923,null,null,null,null,0,122]
[12,4019,24,4046,24,4064,null,null,null,null,0,122]
[12,4175,24,4188,24,4261,null,null,null,null,0,122]
[12,4361,13,4369,24,4383,null,null,null,null,0,112]
[12,4483,13,4495,24,4513,null,null,null,null,0,112]
[12,4628,24,4641,24,4650,null,null,null,null,0,122]
[12,4756,13,4769,24,4782,null,null,null,null,0,112]
[12,4882,13,4891,24,4906,null,null,null,null,0,112]
[12,5001,13,5010,24,5023,null,null,null,null,0,112]
[21,5139,22,5148,24,5183,null,null,null,null,0,222]
[12,5290,24,5303,24,5311,null,null,null,null,0,122]
[12,5415,24,5425,24,5454,null,null,null,null,0,122]
[12,5562,24,5574,24,5580,null,null,null,null,0,122]
[12,5684,24,5696,24,5713,null,null,null,null,0,122]
[12,5815,24,5837,24,5845,null,null,null,null,0,122]
[21,5958,22,5975,24,5992,null,null,null,null,0,222]
[12,6092,13,6103,24,6115,null,null,null,null,0,112]
[12,6220,24,6233,24,6251,null,null,null,null,0,122]
[21,6376,22,6384,24,6393,null,null,null,null,0,222]
[21,6509,22,6528,24,6539,null,null,null,null,0,222]
[12,6638,24,6653,24,6660,null,null,null,null,0,122]
[12,6764,13,6774,24,6797,null,null,null,null,0,112]
[12,6896,13,6907,24,6919,null,null,null,null,0,112]
[21,7035,22,7042,24,7050,null,null,null,null,0,222]
[21,7166,22,7174,24,7182,null,null,null,null,0,222]
[12,7287,24,7300,24,7315,null,null,null,null,0,122]
[12,7409,24,7430,24,7438,null,null,null,null,0,122]
[12,7540,24,7553,24,7582,null,null,null,null,0,122]
[12,7682,13,7683,24,7699,null,null,null,null,0,112]
[21,7815,22,7832,24,7839,null,null,null,null,0,222]
[12,7938,13,7948,24,7960,null,null,null,null,0,112]
[12,8064,24,8078,24,8098,null,null,null,null,0,122]
[12,8205,24,8219,24,8226,null,null,null,null,0,122]
[12,8333,13,8340,24,8357,null,null,null,null,0,112]
[21,8475,22,8504,24,8516,null,null,null,null,0,222]
[21,8636,22,8644,24,8656,null,null,null,null,0,222]
[21,8776,22,8785,24,8817,null,null,null,null,0,222]
[21,8922,22,8927,24,8934,null,null,null,null,0,222]
[21,9047,22,9065,24,9138,null,null,null,null,0,222]
[12,9244,24,9256,24,9293,null,null,null,null,0,122]
[12,9391,24,9400,24,9414,null,null,null,null,0,122]
[12,9513,13,9520,24,9549,null,null,null,null,0,112]
[21,9687,22,9720,24,9728,null,null,null,null,0,222]
[21,9853,22,9865,24,9890,null,null,null,null,0,222]
[12,9992,24,10002,24,10007,null,null,null,null,0,122]
[12,10107,24,10120,24,10132,null,null,null,null,0,122]
[21,10239,22,10247,24,10279,null,null,null,null,0,222]
[21,10382,22,10387,24,10392,null,null,null,null,0,222]
[12,10495,24,10507,24,10526,null,null,null,null,0,122]
[12,10633,24,10646,24,10652,null,null,null,null,0,122]
[21,10757,22,10763,24,10771,null,null,null,null,0,222]
[21,10875,22,10880,24,10937,null,null,null,null,0,222]
[21,11056,22,11082,24,11105,null,null,null,null,0,222]
[12,11212,24,11224,24,11233,null,null,null,null,0,122]
[12,11340,24,11355,24,11361,null,null,null,null,0,122]
[12,11457,24,11466,24,11472,null,null,null,null,0,122]
[12,11572,24,11583,24,11590,null,null,null,null,0,122]
[21,11703,22,11711,24,11739,null,null,null,null,0,222]
[21,11897,22,11907,24,11930,null,null,null,null,0,222]
[12,12025,24,12037,24,12043,null,null,null,null,0,122]
[21,12157,22,12162,24,12171,null,null,null,null,0,222]
[12,12267,24,12282,24,12289,null,null,null,null,0,122]
[21,12398,22,12435,24,12442,null,null,null,null,0,222]
[21,12559,22,12574,24,12582,null,null,null,null,0,222]
[21,12693,22,12716,24,12724,null,null,null,null,0,222]
[21,12823,22,12828,24,12846,null,null,null,null,0,222]
[12,12948,24,12964,24,13025,null,null,null,null,0,122]
[12,13132,24,13145,24,13150,null,null,null,null,0,122]
[21,13270,22,13313,24,13324,null,null,null,null,0,222]
[21,13432,22,13447,24,13462,null,null,null,null,0,222]
[21,13573,22,13578,24,13594,null,null,null,null,0,222]
[21,13707,22,13712,24,13727,null,null,null,null,0,222]
[12,13830,24,13839,24,13845,null,null,null,null,0,122]
[12,13944,24,13956,24,13967,null,null,null,null,0,122]
[12,14068,24,14081,24,14086,null,null,null,null,0,122]
[21,14189,22,14232,24,14240,null,null,null,null,0,222]
[21,14378,22,14386,24,14419,null,null,null,null,0,222]
[12,14518,13,14527,24,14540,null,null,null,null,0,112]
[12,14640,24,14654,24,14667,null,null,null,null,0,122]
[12,14767,24,14780,24,14786,null,null,null,null,0,122]
[21,14898,22,14907,24,14916,null,null,null,null,0,222]
[12,15016,13,15030,24,15046,null,null,null,null,0,112]
[12,15142,24,15155,24,15162,null,null,null,null,0,122]
[21,15277,22,15299,24,15318,null,null,null,null,0,222]
[12,15420,24,15428,24,15435,null,null,null,null,0,122]
[12,15537,24,15562,24,15570,null,null,null,null,0,122]
[12,15678,24,15690,24,15697,null,null,null,null,0,122]
[21,15811,22,15816,24,15830,null,null,null,null,0,222]
[12,15940,24,15955,24,15965,null,null,null,null,0,122]
[12,16070,24,16081,24,16105,null,null,null,null,0,122]
[21,16215,22,16246,24,16254,null,null,null,null,0,222]
[12,16366,24,16377,24,16391,null,null,null,null,0,122]
[12,16494,24,16526,24,16541,null,null,null,null,0,122]
[12,16654,24,16664,24,16669,null,null,null,null,0,122]
[21,16787,22,16807,24,16830,null,null,null,null,0,222]
[21,16953,22,16970,24,16999,null,null,null,null,0,222]
[21,17107,22,17127,24,17139,null,null,null,null,0,222]
[12,17239,24,17254,24,17261,null,null,null,null,0,122]
[21,17371,22,17376,24,17384,null,null,null,null,0,222]
[21,17499,22,17513,24,17530,null,null,null,null,0,222]
[21,17641,22,17645,24,17666,null,null,null,null,0,222]
[21,17770,22,17806,24,17848,null,null,null,null,0,222]
[21,17966,22,17972,24,17979,null,null,null,null,0,222]
[12,18080,24,18091,24,18111,null,null,null,null,0,122]
[12,18212,24,18222,24,18259,null,null,null,null,0,122]
[21,18366,22,18371,24,18379,null,null,null,null,0,222]
[12,18481,24,18493,24,18498,null,null,null,null,0,122]
[21,18601,22,18611,24,18627,null,null,null,null,0,222]
[21,18730,22,18735,24,18742,null,null,null,null,0,222]
[21,18844,22,18857,24,18871,null,null,null,null,0,222]
[12,18973,13,18982,24,18994,null,null,null,null,0,112]
[12,19096,24,19108,24,19114,null,null,null,null,0,122]
[12,19214,24,19230,24,19236,null,null,null,null,0,122]
[12,19340,24,19353,24,19357,null,null,null,null,0,122]
[12,19457,24,19470,24,19475,null,null,null,null,0,122]
[21,19605,22,19618,24,19627,null,null,null,null,0,222]
[12,19737,24,19755,24,19790,null,null,null,null,0,122]
[12,19885,24,19896,24,19901,null,null,null,null,0,122]
[21,20003,22,20008,24,20022,null,null,null,null,0,222]
[21,20132,22,20165,24,20173,null,null,null,null,0,222]
[21,20279,22,20284,24,20297,null,null,null,null,0,222]
[21,20415,22,20456,24,20469,null,null,null,null,0,222]
[12,20577,24,20593,24,20615,null,null,null,null,0,122]
[12,20718,24,20731,24,20739,null,null,null,null,0,122]
[12,20841,24,20850,24,20856,null,null,null,null,0,122]
[12,20956,13,20962,24,20975,null,null,null,null,0,112]
[21,21078,22,21097,24,21103,null,null,null,null,0,222]
[21,21208,22,21236,24,21253,null,null,null,null,0,222]
[12,21351,24,21363,24,21368,null,null,null,null,0,122]
[12,21476,24,21488,24,21495,null,null,null,null,0,122]
[12,21599,24,21612,24,21630,null,null,null,null,0,122]
[12,21734,24,21744,24,21750,null,null,null,null,0,122]
[21,21864,22,21870,24,21878,null,null,null,null,0,222]
[21,21994,22,22000,24,22009,null,null,null,null,0,222]
[21,22114,22,22119,24,22143,null,null,null,null,0,222]
[21,22240,22,22252,24,22257,null,null,null,null,0,222]
[21,22401,22,22416,24,22445,null,null,null,null,0,222]
[21,22556,22,22578,24,22633,null,null,null,null,0,222]
[12,22733,24,22743,24,22748,null,null,null,null,0,122]
[21,22876,22,22884,24,22905,null,null,null,null,0,222]
[12,23010,24,23024,24,23030,null,null,null,null,0,122]
[21,23157,22,23167,24,23175,null,null,null,null,0,222]
[21,23281,22,23301,24,23313,null,null,null,null,0,222]
[12,23415,24,23436,24,23460,null,null,null,null,0,122]
[21,23570,22,23576,24,23603,null,null,null,null,0,222]
[12,23710,24,23725,24,23742,null,null,null,null,0,122]
[21,23858,22,23888,24,23903,null,null,null,null,0,222]

{"sheet":"!M926650.091","index":8,"n_rows":190,"n_cols":48,"rows_kept":190,"cut":false,"hidden":false,"merged":[[4,39,4,42],[5,39,5,40],[4,44,4,47],[5,44,5,45],[4,24,4,27],[5,24,5,25],[4,29,4,32],[5,29,5,30],[4,34,4,37],[5,34,5,35],[1,1,1,2],[5,13,5,14],[18,13,18,14],[19,13,19,14],[4,19,4,22],[5,19,5,20]]}
["Report for:!M926650.091"]
["Date:","<date>"]
["Hen:","<hen>",null,null,null,"Correct Sequence",{"$f":"Start!J2","v":211},null,null,null,null,null,null,null,null,"Total Sequences in Data",{"$f":"4994-COUNTBLANK(L7:L5000)","v":184},null,null,null,null,"Total Sequences in Block Data",{"$f":"COUNTA(L7:L37)","v":31},null,null,null,"Total Sequences in Block Data",{"$f":"COUNTA(L38:L67)","v":30},null,null,null,"Total Sequences in Block Data",{"$f":"COUNTA(L68:L98)","v":31},null,null,null,"Total Sequences in Block Data",{"$f":"COUNTA(L99:L129)","v":31},null,null,null,"Total Sequences in Block Data",{"$f":"COUNTA(L130:L159)","v":30},null,null,null,"Total Sequences in Block Data",{"$f":"COUNTA(L160:L190)","v":31}]
[null,null,null,null,null,null,null,null,null,null,null,null,null,null,null,"Total Sequences in Summary",{"$f":"SUM(O7:O14)","v":184},null,null,null,null,"Total Sequences in Block Summary",{"$f":"SUM(U7:U14)","v":31},null,null,null,"Total Sequences in Block Summary",{"$f":"SUM(Z7:Z14)","v":30},null,null,null,"Total Sequences in Block Summary",{"$f":"SUM(AE7:AE14)","v":31},null,null,null,"Total Sequences in Block Summary",{"$f":"SUM(AJ7:AJ14)","v":31},null,null,null,"Total Sequences in Block Summary",{"$f":"SUM(AO7:AO14)","v":30},null,null,null,"Total Sequences in Block Summary",{"$f":"SUM(AT7:AT14)","v":31}]
[null,null,null,null,null,null,null,null,null,null,null,null,null,null,null,null,null,null,null,"Block 1",null,null,null,null,"Block 2",null,null,null,null,"Block 3",null,null,null,null,"Block 4",null,null,null,null,"Block 5",null,null,null,null,"Block 6"]
["Sequence\nComponent\n1","Time\n1","Sequence\nComponent\n2","Time\n2","Sequence\nComponent\n3","Time\n3","Sequence\nComponent\n4","Time\n4","Sequence\nComponent\n5","Time\n5","Correct?\n0=No 1=Yes","Sequence",null,"Frequency",null,"Relative Frequency","Variability",null,null,"Frequency",null,"Relative Frequency","Variability",null,"Frequency",null,"Relative Frequency","Variability",null,"Frequency",null,"Relative Frequency","Variability",null,"Frequency",null,"Relative Frequency","Variability",null,"Frequency",null,"Relative Frequency","Variability",null,"Frequency",null,"Relative Frequency","Variability"]
[21,21,22,30,24,42,null,null,null,null,0,222,null,111,{"$f":"COUNTIF($L$7:$L$500,N7)","v":0},{"$f":"O7/$Q$4","v":0},{"$f":"IF(P7=0,0,(P7*((LOG(P7))/LOG(2))))","v":0},null,null,{"$f":"N7","v":111},{"$f":"COUNTIF(L7:L37,T7)","v":0},{"$f":"U7/(W4-U11)","v":0},{"$f":"IF(V7=0,0,(V7*((LOG(V7))/LOG(2))))","v":0},null,{"$f":"N7","v":111},{"$f":"COUNTIF(L38:L67,Y7)","v":0},{"$f":"Z7/(AB4-Z11)","v":0},{"$f":"IF(AA7=0,0,(AA7*((LOG(AA7))/LOG(2))))","v":0},null,{"$f":"N7","v":111},{"$f":"COUNTIF(L68:L98,AD7)","v":0},{"$f":"AE7/(AG4-AE11)","v":0},{"$f":"IF(AF7=0,0,(AF7*((LOG(AF7))/LOG(2))))","v":0},null,{"$f":"N7","v":111},{"$f":"COUNTIF(L99:L129,AI7)","v":0},{"$f":"AJ7/(AL4-AJ11)","v":0},{"$f":"IF(AK7=0,0,(AK7*((LOG(AK7))/LOG(2))))","v":0},null,{"$f":"N7","v":111},{"$f":"COUNTIF(L130:L159,AN7)","v":0},{"$f":"AO7/(AQ4-AO11)","v":0},{"$f":"IF(AP7=0,0,(AP7*((LOG(AP7))/LOG(2))))","v":0},null,{"$f":"N7","v":111},{"$f":"COUNTIF(L160:L190,AS7)","v":0},{"$f":"AT7/(AV4-AT11)","v":0},{"$f":"IF(AU7=0,0,(AU7*((LOG(AU7))/LOG(2))))","v":0}]
[12,145,13,156,24,168,null,null,null,null,0,112,null,112,{"$f":"COUNTIF($L$7:$L$500,N8)","v":13},{"$f":"O8/$Q$4","v":7.0652173913043473E-2},{"$f":"IF(P8=0,0,(P8*((LOG(P8))/LOG(2))))","v":-0.2701118972440596},null,null,{"$f":"N8","v":112},{"$f":"COUNTIF(L7:L37,T8)","v":7},{"$f":"U8/(W4-U11)","v":0.22580645161290322},{"$f":"IF(V8=0,0,(V8*((LOG(V8))/LOG(2))))","v":-0.48477063607435156},null,{"$f":"N8","v":112},{"$f":"COUNTIF(L38:L67,Y8)","v":5},{"$f":"Z8/(AB4-Z11)","v":0.16666666666666666},{"$f":"IF(AA8=0,0,(AA8*((LOG(AA8))/LOG(2))))","v":-0.43082708345352599},null,{"$f":"N8","v":112},{"$f":"COUNTIF(L68:L98,AD8)","v":0},{"$f":"AE8/(AG4-AE11)","v":0},{"$f":"IF(AF8=0,0,(AF8*((LOG(AF8))/LOG(2))))","v":0},null,{"$f":"N8","v":112},{"$f":"COUNTIF(L99:L129,AI8)","v":0},{"$f":"AJ8/(AL4-AJ11)","v":0},{"$f":"IF(AK8=0,0,(AK8*((LOG(AK8))/LOG(2))))","v":0},null,{"$f":"N8","v":112},{"$f":"COUNTIF(L130:L159,AN8)","v":0},{"$f":"AO8/(AQ4-AO11)","v":0},{"$f":"IF(AP8=0,0,(AP8*((LOG(AP8))/LOG(2))))","v":0},null,{"$f":"N8","v":112},{"$f":"COUNTIF(L160:L190,AS8)","v":1},{"$f":"AT8/(AV4-AT11)","v":3.2258064516129031E-2},{"$f":"IF(AU8=0,0,(AU8*((LOG(AU8))/LOG(2))))","v":-0.15981278420602821}]
[12,275,24,293,24,302,null,null,null,null,0,122,null,121,{"$f":"COUNTIF($L$7:$L$500,N9)","v":0},{"$f":"O9/$Q$4","v":0},{"$f":"IF(P9=0,0,(P9*((LOG(P9))/LOG(2))))","v":0},null,null,{"$f":"N9","v":121},{"$f":"COUNTIF(L7:L37,T9)","v":0},{"$f":"U9/(W4-U11)","v":0},{"$f":"IF(V9=0,0,(V9*((LOG(V9))/LOG(2))))","v":0},null,{"$f":"N9","v":121},{"$f":"COUNTIF(L38:L67,Y9)","v":0},{"$f":"Z9/(AB4-Z11)","v":0},{"$f":"IF(AA9=0,0,(AA9*((LOG(AA9))/LOG(2))))","v":0},null,{"$f":"N9","v":121},{"$f":"COUNTIF(L68:L98,AD9)","v":0},{"$f":"AE9/(AG4-AE11)","v":0},{"$f":"IF(AF9=0,0,(AF9*((LOG(AF9))/LOG(2))))","v":0},null,{"$f":"N9","v":121},{"$f":"COUNTIF(L99:L129,AI9)","v":0},{"$f":"AJ9/(AL4-AJ11)","v":0},{"$f":"IF(AK9=0,0,(AK9*((LOG(AK9))/LOG(2))))","v":0},null,{"$f":"N9","v":121},{"$f":"COUNTIF(L130:L159,AN9)","v":0},{"$f":"AO9/(AQ4-AO11)","v":0},{"$f":"IF(AP9=0,0,(AP9*((LOG(AP9))/LOG(2))))","v":0},null,{"$f":"N9","v":121},{"$f":"COUNTIF(L160:L190,AS9)","v":0},{"$f":"AT9/(AV4-AT11)","v":0},{"$f":"IF(AU9=0,0,(AU9*((LOG(AU9))/LOG(2))))","v":0}]
[12,402,13,413,24,426,null,null,null,null,0,112,null,122,{"$f":"COUNTIF($L$7:$L$500,N10)","v":91},{"$f":"O10/$Q$4","v":0.49456521739130432},{"$f":"IF(P10=0,0,(P10*((LOG(P10))/LOG(2))))","v":-0.50236318338645003},null,null,{"$f":"N10","v":122},{"$f":"COUNTIF(L7:L37,T10)","v":20},{"$f":"U10/(W4-U11)","v":0.64516129032258063},{"$f":"IF(V10=0,0,(V10*((LOG(V10))/LOG(2))))","v":-0.40791497774162117},null,{"$f":"N10","v":122},{"$f":"COUNTIF(L38:L67,Y10)","v":20},{"$f":"Z10/(AB4-Z11)","v":0.66666666666666663},{"$f":"IF(AA10=0,0,(AA10*((LOG(AA10))/LOG(2))))","v":-0.38997500048077083},null,{"$f":"N10","v":122},{"$f":"COUNTIF(L68:L98,AD10)","v":12},{"$f":"AE10/(AG4-AE11)","v":0.38709677419354838},{"$f":"IF(AF10=0,0,(AF10*((LOG(AF10))/LOG(2))))","v":-0.5300259908383429},null,{"$f":"N10","v":122},{"$f":"COUNTIF(L99:L129,AI10)","v":12},{"$f":"AJ10/(AL4-AJ11)","v":0.38709677419354838},{"$f":"IF(AK10=0,0,(AK10*((LOG(AK10))/LOG(2))))","v":-0.5300259908383429},null,{"$f":"N10","v":122},{"$f":"COUNTIF(L130:L159,AN10)","v":12},{"$f":"AO10/(AQ4-AO11)","v":0.4},{"$f":"IF(AP10=0,0,(AP10*((LOG(AP10))/LOG(2))))","v":-0.52877123795494496},null,{"$f":"N10","v":122},{"$f":"COUNTIF(L160:L190,AS10)","v":15},{"$f":"AT10/(AV4-AT11)","v":0.4838709677419355},{"$f":"IF(AU10=0,0,(AU10*((LOG(AU10))/LOG(2))))","v":-0.50676082973146286}]
[12,524,24,538,24,547,null,null,null,null,0,122,null,211,{"$f":"COUNTIF($L$7:$L$500,N11)","v":0},{"$f":"O11/$Q$4","v":0},{"$f":"IF(P11=0,0,(P11*((LOG(P11))/LOG(2))))","v":0},null,null,{"$f":"N11","v":211},{"$f":"COUNTIF(L7:L37,T11)","v":0},null,null,null,{"$f":"N11","v":211},{"$f":"COUNTIF(L38:L67,Y11)","v":0},null,null,null,{"$f":"N11","v":211},{"$f":"COUNTIF(L68:L98,AD11)","v":0},null,null,null,{"$f":"N11","v":211},{"$f":"COUNTIF(L99:L129,AI11)","v":0},null,null,null,{"$f":"N11","v":211},{"$f":"COUNTIF(L130:L159,AN11)","v":0},null,null,null,{"$f":"N11","v":211},{"$f":"COUNTIF(L160:L190,AS11)","v":0}]
[12,642,24,660,24,669,null,null,null,null,0,122,null,212,{"$f":"COUNTIF($L$7:$L$500,N12)","v":0},{"$f":"O12/$Q$4","v":0},{"$f":"IF(P12=0,0,(P12*((LOG(P12))/LOG(2))))","v":0},null,null,{"$f":"N12","v":212},{"$f":"COUNTIF(L7:L37,T12)","v":0},{"$f":"U12/(W4-U11)","v":0},{"$f":"IF(V12=0,0,(V12*((LOG(V12))/LOG(2))))","v":0},null,{"$f":"N12","v":212},{"$f":"COUNTIF(L38:L67,Y12)","v":0},{"$f":"Z12/(AB4-Z11)","v":0},{"$f":"IF(AA12=0,0,(AA12*((LOG(AA12))/LOG(2))))","v":0},null,{"$f":"N12","v":212},{"$f":"COUNTIF(L68:L98,AD12)","v":0},{"$f":"AE12/(AG4-AE11)","v":0},{"$f":"IF(AF12=0,0,(AF12*((LOG(AF12))/LOG(2))))","v":0},null,{"$f":"N12","v":212},{"$f":"COUNTIF(L99:L129,AI12)","v":0},{"$f":"AJ12/(AL4-AJ11)","v":0},{"$f":"IF(AK12=0,0,(AK12*((LOG(AK12))/LOG(2))))","v":0},null,{"$f":"N12","v":212},{"$f":"COUNTIF(L130:L159,AN12)","v":0},{"$f":"AO12/(AQ4-AO11)","v":0},{"$f":"IF(AP12=0,0,(AP12*((LOG(AP12))/LOG(2))))","v":0},null,{"$f":"N12","v":212},{"$f":"COUNTIF(L160:L190,AS12)","v":0},{"$f":"AT12/(AV4-AT11)","v":0},{"$f":"IF(AU12=0,0,(AU12*((LOG(AU12))/LOG(2))))","v":0}]
[12,771,24,784,24,796,null,null,null,null,0,122,null,221,{"$f":"COUNTIF($L$7:$L$500,N13)","v":0},{"$f":"O13/$Q$4","v":0},{"$f":"IF(P13=0,0,(P13*((LOG(P13))/LOG(2))))","v":0},null,null,{"$f":"N13","v":221},{"$f":"COUNTIF(L7:L37,T13)","v":0},{"$f":"U13/(W4-U11)","v":0},{"$f":"IF(V13=0,0,(V13*((LOG(V13))/LOG(2))))","v":0},null,{"$f":"N13","v":221},{"$f":"COUNTIF(L38:L67,Y13)","v":0},{"$f":"Z13/(AB4-Z11)","v":0},{"$f":"IF(AA13=0,0,(AA13*((LOG(AA13))/LOG(2))))","v":0},null,{"$f":"N13","v":221},{"$f":"COUNTIF(L68:L98,AD13)","v":0},{"$f":"AE13/(AG4-AE11)","v":0},{"$f":"IF(AF13=0,0,(AF13*((LOG(AF13))/LOG(2))))","v":0},null,{"$f":"N13","v":221},{"$f":"COUNTIF(L99:L129,AI13)","v":0},{"$f":"AJ13/(AL4-AJ11)","v":0},{"$f":"IF(AK13=0,0,(AK13*((LOG(AK13))/LOG(2))))","v":0},null,{"$f":"N13","v":221},{"$f":"COUNTIF(L130:L159,AN13)","v":0},{"$f":"AO13/(AQ4-AO11)","v":0},{"$f":"IF(AP13=0,0,(AP13*((LOG(AP13))/LOG(2))))","v":0},null,{"$f":"N13","v":221},{"$f":"COUNTIF(L160:L190,AS13)","v":0},{"$f":"AT13/(AV4-AT11)","v":0},{"$f":"IF(AU13=0,0,(AU13*((LOG(AU13))/LOG(2))))","v":0}]
[12,897,24,913,24,932,null,null,null,null,0,122,null,222,{"$f":"COUNTIF($L$7:$L$500,N14)","v":80},{"$f":"O14/$Q$4","v":0.43478260869565216},{"$f":"IF(P14=0,0,(P14*((LOG(P14))/LOG(2))))","v":-0.52244950485636987},null,null,{"$f":"N14","v":222},{"$f":"COUNTIF(L7:L37,T14)","v":4},{"$f":"U14/(W4-U11)","v":0.12903225806451613},{"$f":"IF(V14=0,0,(V14*((LOG(V14))/LOG(2))))","v":-0.38118662069508069},null,{"$f":"N14","v":222},{"$f":"COUNTIF(L38:L67,Y14)","v":5},{"$f":"Z14/(AB4-Z11)","v":0.16666666666666666},{"$f":"IF(AA14=0,0,(AA14*((LOG(AA14))/LOG(2))))","v":-0.43082708345352599},null,{"$f":"N14","v":222},{"$f":"COUNTIF(L68:L98,AD14)","v":19},{"$f":"AE14/(AG4-AE11)","v":0.61290322580645162},{"$f":"IF(AF14=0,0,(AF14*((LOG(AF14))/LOG(2))))","v":-0.43287442393298403},null,{"$f":"N14","v":222},{"$f":"COUNTIF(L99:L129,AI14)","v":19},{"$f":"AJ14/(AL4-AJ11)","v":0.61290322580645162},{"$f":"IF(AK14=0,0,(AK14*((LOG(AK14))/LOG(2))))","v":-0.43287442393298403},null,{"$f":"N14","v":222},{"$f":"COUNTIF(L130:L159,AN14)","v":18},{"$f":"AO14/(AQ4-AO11)","v":0.6},{"$f":"IF(AP14=0,0,(AP14*((LOG(AP14))/LOG(2))))","v":-0.44217935649972373},null,{"$f":"N14","v":222},{"$f":"COUNTIF(L160:L190,AS14)","v":15},{"$f":"AT14/(AV4-AT11)","v":0.4838709677419355},{"$f":"IF(AU14=0,0,(AU14*((LOG(AU14))/LOG(2))))","v":-0.50676082973146286}]
[12,1029,24,1045,24,1055,null,null,null,null,0,122,null,null,null,{"$f":"SUM(P7:P14)","v":1},{"$f":"-SUM(Q7:Q14)","v":1.2949245854868794},null,null,null,null,{"$f":"SUM(V7:V14)","v":1},{"$f":"-SUM(W7:W14)","v":1.2738722345110534},null,null,null,{"$f":"SUM(AA7:AA14)","v":0.99999999999999989},{"$f":"-SUM(AB7:AB14)","v":1.2516291673878228},null,null,null,{"$f":"SUM(AF7:AF14)","v":1},{"$f":"-SUM(AG7:AG14)","v":0.96290041477132693},null,null,null,{"$f":"SUM(AK7:AK14)","v":1},{"$f":"-SUM(AL7:AL14)","v":0.96290041477132693},null,null,null,{"$f":"SUM(AP7:AP14)","v":1},{"$f":"-SUM(AQ7:AQ14)","v":0.97095059445466869},null,null,null,{"$f":"SUM(AU7:AU14)","v":1},{"$f":"-SUM(AV7:AV14)","v":1.1733344436689539}]
[12,1157,13,1169,24,1183,null,null,null,null,0,112,null,null,null,"U=",{"$f":"Q15/(LOG(Q4)/LOG(2))","v":0.17211589311687284},null,null,null,null,"U1=",{"$f":"W15/(LOG(W4)/LOG(2))","v":0.25712994695835462},null,null,null,"U2=",{"$f":"AB15/(LOG(AB4)/LOG(2))","v":0.25507582510765242},null,null,null,"U3=",{"$f":"AG15/(LOG(AG4)/LOG(2))","v":0.19436056919111744},null,null,null,"U4=",{"$f":"AL15/(LOG(AL4)/LOG(2))","v":0.19436056919111744},null,null,null,"U5=",{"$f":"AQ15/(LOG(AQ4)/LOG(2))","v":0.19787492211944419},null,null,null,"U6=",{"$f":"AV15/(LOG(AV4)/LOG(2))","v":0.23683648570989466}]
[12,1279,24,1292,24,1306,null,null,null,null,0,122]
[12,1404,13,1419,24,1432,null,null,null,null,0,112]
[12,1531,24,1550,24,1559,null,null,null,null,0,122,null,"Total Target Seq"]
[12,1662,24,1699,24,1714,null,null,null,null,0,122,null,{"$f":"COUNTIF(L7:L190,G3)","v":0},null,31,30,31,31,30,31]
[12,1808,24,1823,24,1829,null,null,null,null,0,122,null,null,null,"% of reinforcement given in 6 equal intervals based on number of trials "]
[12,1927,24,1941,24,1947,null,null,null,null,0,122,null,null,null,"%_1","%_2","%_3","%_4","%_5","%_6"]
[12,2046,24,2068,24,2082,null,null,null,null,0,122,null,null,"target sequence",{"$f":"$G$3","v":211},{"$f":"$G$3","v":211},{"$f":"$G$3","v":211},{"$f":"$G$3","v":211},{"$f":"$G$3","v":211},{"$f":"$G$3","v":211}]
[12,2190,24,2204,24,2230,null,null,null,null,0,122,null,null,"total reinforcement",{"$f":"U11","v":0},{"$f":"Z11","v":0},{"$f":"AE11","v":0},{"$f":"AJ11","v":0},{"$f":"AO11","v":0},{"$f":"AT11","v":0}]
[12,2330,13,2339,24,2352,null,null,null,null,0,112,null,null,"% target"]
[21,2461,22,2467,24,2477,null,null,null,null,0,222,null,null,"CCRF"]
[12,2578,24,2589,24,2637,null,null,null,null,0,122,null,null,"% CCRf"]
[21,2742,22,2751,24,2760,null,null,null,null,0,222,null,null,"average response rate",{"$f":"F37/P20","v":129.2258064516129},{"$f":"(F67-F37)/Q20","v":132.03333333333333},{"$f":"(F98-F67)/R20","v":132.16129032258064},{"$f":"(F129-F98)/S20","v":131.29032258064515},{"$f":"(F159-F129)/T20","v":129.76666666666668},{"$f":"(F190-F159)/U20","v":127.93548387096774}]
[12,2861,24,2876,24,2920,null,null,null,null,0,122]
[12,3022,24,3042,24,3061,null,null,null,null,0,122]
[12,3167,24,3181,24,3206,null,null,null,null,0,122]
[12,3300,13,3309,24,3318,null,null,null,null,0,112]
[12,3420,24,3435,24,3454,null,null,null,null,0,122]
[12,3558,13,3570,24,3585,null,null,null,null,0,112]
[12,3681,24,3698,24,3741,null,null,null,null,0,122]
[12,3843,24,3858,24,3870,null,null,null,null,0,122]
[21,3983,22,3998,24,4006,null,null,null,null,0,222]
[12,4107,24,4122,24,4149,null,null,null,null,0,122]
[12,4252,13,4262,24,4281,null,null,null,null,0,112]
[12,4379,13,4388,24,4399,null,null,null,null,0,112]
[12,4499,24,4515,24,4538,null,null,null,null,0,122]
[12,4631,13,4641,24,4655,null,null,null,null,0,112]
[12,4761,24,4776,24,4787,null,null,null,null,0,122]
[12,4885,13,4894,24,4906,null,null,null,null,0,112]
[21,5019,22,5025,24,5040,null,null,null,null,0,222]
[12,5139,13,5146,24,5161,null,null,null,null,0,112]
[12,5260,24,5278,24,5294,null,null,null,null,0,122]
[12,5395,24,5410,24,5418,null,null,null,null,0,122]
[12,5521,24,5534,24,5562,null,null,null,null,0,122]
[21,5664,22,5670,24,5678,null,null,null,null,0,222]
[12,5781,24,5795,24,5820,null,null,null,null,0,122]
[12,5919,24,5933,24,5946,null,null,null,null,0,122]
[12,6062,24,6074,24,6089,null,null,null,null,0,122]
[12,6203,24,6217,24,6232,null,null,null,null,0,122]
[12,6333,24,6347,24,6353,null,null,null,null,0,122]
[12,6456,24,6476,24,6487,null,null,null,null,0,122]
[21,6602,22,6611,24,6647,null,null,null,null,0,222]
[12,6746,24,6759,24,6786,null,null,null,null,0,122]
[12,6891,24,6902,24,6940,null,null,null,null,0,122]
[12,7042,24,7058,24,7072,null,null,null,null,0,122]
[12,7175,24,7189,24,7233,null,null,null,null,0,122]
[12,7336,24,7346,24,7351,null,null,null,null,0,122]
[12,7457,24,7467,24,7480,null,null,null,null,0,122]
[12,7581,24,7596,24,7603,null,null,null,null,0,122]
[21,7707,22,7712,24,7739,null,null,null,null,0,222]
[12,7834,24,7847,24,7852,null,null,null,null,0,122]
[21,7957,22,7962,24,7967,null,null,null,null,0,222]
[21,8074,22,8080,24,8095,null,null,null,null,0,222]
[12,8196,24,8210,24,8216,null,null,null,null,0,122]
[12,8322,24,8363,24,8371,null,null,null,null,0,122]
[21,8485,22,8490,24,8500,null,null,null,null,0,222]
[12,8595,24,8608,24,8613,null,null,null,null,0,122]
[21,8727,22,8733,24,8741,null,null,null,null,0,222]
[21,8858,22,8863,24,8904,null,null,null,null,0,222]
[12,9001,24,9019,24,9034,null,null,null,null,0,122]
[12,9136,24,9149,24,9154,null,null,null,null,0,122]
[12,9254,24,9267,24,9279,null,null,null,null,0,122]
[21,9393,22,9399,24,9420,null,null,null,null,0,222]
[21,9530,22,9561,24,9575,null,null,null,null,0,222]
[21,9691,22,9696,24,9702,null,null,null,null,0,222]
[12,9809,24,9822,24,9845,null,null,null,null,0,122]
[21,9953,22,9958,24,9967,null,null,null,null,0,222]
[21,10078,22,10095,24,10104,null,null,null,null,0,222]
[21,10211,22,10220,24,10225,null,null,null,null,0,222]
[21,10341,22,10360,24,10373,null,null,null,null,0,222]
[21,10481,22,10486,24,10495,null,null,null,null,0,222]
[21,10602,22,10622,24,10630,null,null,null,null,0,222]
[12,10733,24,10747,24,10754,null,null,null,null,0,122]
[12,10857,24,10871,24,10891,null,null,null,null,0,122]
[12,10992,24,11006,24,11017,null,null,null,null,0,122]
[21,11130,22,11135,24,11150,null,null,null,null,0,222]
[12,11251,24,11260,24,11265,null,null,null,null,0,122]
[21,11370,22,11376,24,11384,null,null,null,null,0,222]
[21,11489,22,11495,24,11502,null,null,null,null,0,222]
[21,11605,22,11611,24,11654,null,null,null,null,0,222]
[12,11768,24,11780,24,11787,null,null,null,null,0,122]
[21,11903,22,11909,24,11919,null,null,null,null,0,222]
[21,12030,22,12056,24,12064,null,null,null,null,0,222]
[12,12169,24,12187,24,12197,null,null,null,null,0,122]
[21,12300,22,12306,24,12311,null,null,null,null,0,222]
[12,12414,24,12427,24,12438,null,null,null,null,0,122]
[21,12558,22,12563,24,12571,null,null,null,null,0,222]
[12,12674,24,12686,24,12691,null,null,null,null,0,122]
[21,12795,22,12805,24,12814,null,null,null,null,0,222]
[12,12921,24,12935,24,12944,null,null,null,null,0,122]
[12,13047,24,13064,24,13072,null,null,null,null,0,122]
[12,13175,24,13189,24,13203,null,null,null,null,0,122]
[21,13312,22,13318,24,13335,null,null,null,null,0,222]
[12,13436,24,13449,24,13455,null,null,null,null,0,122]
[12,13552,24,13564,24,13569,null,null,null,null,0,122]
[21,13674,22,13679,24,13685,null,null,null,null,0,222]
[21,13800,22,13806,24,13813,null,null,null,null,0,222]
[21,13916,22,13926,24,13944,null,null,null,null,0,222]
[21,14045,22,14049,24,14058,null,null,null,null,0,222]
[21,14165,22,14180,24,14196,null,null,null,null,0,222]
[21,14305,22,14310,24,14315,null,null,null,null,0,222]
[21,14424,22,14440,24,14448,null,null,null,null,0,222]
[12,14553,24,14563,24,14569,null,null,null,null,0,122]
[21,14682,22,14696,24,14723,null,null,null,null,0,222]
[21,14825,22,14830,24,14835,null,null,null,null,0,222]
[21,14948,22,14964,24,15022,null,null,null,null,0,222]
[12,15120,24,15135,24,15143,null,null,null,null,0,122]
[12,15250,24,15261,24,15278,null,null,null,null,0,122]
[21,15382,22,15387,24,15404,null,null,null,null,0,222]
[21,15518,22,15533,24,15549,null,null,null,null,0,222]
[12,15647,24,15663,24,15668,null,null,null,null,0,122]
[21,15778,22,15792,24,15800,null,null,null,null,0,222]
[21,15925,22,15938,24,15945,null,null,null,null,0,222]
[21,16083,22,16100,24,16134,null,null,null,null,0,222]
[21,16241,22,16247,24,16254,null,null,null,null,0,222]
[12,16355,24,16368,24,16374,null,null,null,null,0,122]
[21,16475,22,16486,24,16519,null,null,null,null,0,222]
[21,16635,22,16643,24,16683,null,null,null,null,0,222]
[21,16789,22,16795,24,16808,null,null,null,null,0,222]
[12,16909,24,16922,24,16928,null,null,null,null,0,122]
[12,17028,24,17045,24,17062,null,null,null,null,0,122]
[12,17169,24,17183,24,17203,null,null,null,null,0,122]
[12,17306,24,17320,24,17355,null,null,null,null,0,122]
[12,17456,24,17466,24,17470,null,null,null,null,0,122]
[21,17573,22,17580,24,17585,null,null,null,null,0,222]
[21,17693,22,17698,24,17728,null,null,null,null,0,222]
[21,17843,22,17859,24,17880,null,null,null,null,0,222]
[21,17983,22,17989,24,17994,null,null,null,null,0,222]
[12,18099,24,18116,24,18124,null,null,null,null,0,122]
[21,18239,22,18254,24,18261,null,null,null,null,0,222]
[12,18363,24,18377,24,18391,null,null,null,null,0,122]
[21,18497,22,18503,24,18516,null,null,null,null,0,222]
[12,18619,24,18632,24,18654,null,null,null,null,0,122]
[21,18759,22,18763,24,18768,null,null,null,null,0,222]
[12,18864,24,18877,24,18889,null,null,null,null,0,122]
[12,18992,24,19002,24,19007,null,null,null,null,0,122]
[21,19107,22,19116,24,19149,null,null,null,null,0,222]
[21,19250,22,19255,24,19261,null,null,null,null,0,222]
[21,19368,22,19374,24,19389,null,null,null,null,0,222]
[21,19496,22,19505,24,19525,null,null,null,null,0,222]
[21,19627,22,19632,24,19637,null,null,null,null,0,222]
[21,19746,22,19751,24,19765,null,null,null,null,0,222]
[12,19873,24,19886,24,19892,null,null,null,null,0,122]
[21,20006,22,20011,24,20027,null,null,null,null,0,222]
[21,20136,22,20149,24,20157,null,null,null,null,0,222]
[12,20256,24,20270,24,20275,null,null,null,null,0,122]
[12,20378,24,20388,24,20393,null,null,null,null,0,122]
[12,20496,24,20509,24,20515,null,null,null,null,0,122]
[12,20617,24,20635,24,20672,null,null,null,null,0,122]
[21,20775,22,20780,24,20805,null,null,null,null,0,222]
[12,20903,24,20916,24,20921,null,null,null,null,0,122]
[21,21028,22,21042,24,21050,null,null,null,null,0,222]
[21,21162,22,21168,24,21175,null,null,null,null,0,222]
[21,21295,22,21306,24,21330,null,null,null,null,0,222]
[21,21436,22,21450,24,21457,null,null,null,null,0,222]
[12,21560,24,21578,24,21586,null,null,null,null,0,122]
[21,21697,22,21705,24,21719,null,null,null,null,0,222]
[21,21818,22,21823,24,21828,null,null,null,null,0,222]
[21,21926,22,21934,24,21953,null,null,null,null,0,222]
[12,22057,24,22071,24,22075,null,null,null,null,0,122]
[12,22174,24,22186,24,22191,null,null,null,null,0,122]
[12,22291,24,22310,24,22318,null,null,null,null,0,122]
[12,22428,24,22442,24,22455,null,null,null,null,0,122]
[21,22556,22,22563,24,22593,null,null,null,null,0,222]
[21,22695,22,22699,24,22705,null,null,null,null,0,222]
[21,22812,22,22817,24,22833,null,null,null,null,0,222]
[21,22939,22,22944,24,22950,null,null,null,null,0,222]
[12,23054,24,23069,24,23082,null,null,null,null,0,122]
[21,23198,22,23202,24,23211,null,null,null,null,0,222]
[12,23308,13,23317,24,23331,null,null,null,null,0,112]
[21,23435,22,23441,24,23470,null,null,null,null,0,222]
[12,23572,24,23588,24,23612,null,null,null,null,0,122]
[12,23719,24,23734,24,23739,null,null,null,null,0,122]
[12,23837,24,23856,24,23863,null,null,null,null,0,122]
[12,23966,24,23978,24,23993,null,null,null,null,null,122]

{"sheet":"!M927750.091","index":9,"n_rows":189,"n_cols":48,"rows_kept":189,"cut":false,"hidden":false,"merged":[[4,39,4,42],[5,39,5,40],[4,44,4,47],[5,44,5,45],[4,24,4,27],[5,24,5,25],[4,29,4,32],[5,29,5,30],[4,34,4,37],[5,34,5,35],[1,1,1,2],[5,13,5,14],[18,13,18,14],[19,13,19,14],[4,19,4,22],[5,19,5,20]]}
["Report for:!M927750.091"]
["Date:","<date>"]
["Hen:","<hen>",null,null,null,"Correct Sequence",{"$f":"Start!J2","v":211},null,null,null,null,null,null,null,null,"Total Sequences in Data",{"$f":"4994-COUNTBLANK(L7:L5000)","v":183},null,null,null,null,"Total Sequences in Block Data",{"$f":"COUNTA(L7:L37)","v":31},null,null,null,"Total Sequences in Block Data",{"$f":"COUNTA(L38:L67)","v":30},null,null,null,"Total Sequences in Block Data",{"$f":"COUNTA(L68:L98)","v":31},null,null,null,"Total Sequences in Block Data",{"$f":"COUNTA(L99:L128)","v":30},null,null,null,"Total Sequences in Block Data",{"$f":"COUNTA(L129:L159)","v":31},null,null,null,"Total Sequences in Block Data",{"$f":"COUNTA(L160:L189)","v":30}]
[null,null,null,null,null,null,null,null,null,null,null,null,null,null,null,"Total Sequences in Summary",{"$f":"SUM(O7:O14)","v":183},null,null,null,null,"Total Sequences in Block Summary",{"$f":"SUM(U7:U14)","v":31},null,null,null,"Total Sequences in Block Summary",{"$f":"SUM(Z7:Z14)","v":30},null,null,null,"Total Sequences in Block Summary",{"$f":"SUM(AE7:AE14)","v":31},null,null,null,"Total Sequences in Block Summary",{"$f":"SUM(AJ7:AJ14)","v":30},null,null,null,"Total Sequences in Block Summary",{"$f":"SUM(AO7:AO14)","v":31},null,null,null,"Total Sequences in Block Summary",{"$f":"SUM(AT7:AT14)","v":30}]
[null,null,null,null,null,null,null,null,null,null,null,null,null,null,null,null,null,null,null,"Block 1",null,null,null,null,"Block 2",null,null,null,null,"Block 3",null,null,null,null,"Block 4",null,null,null,null,"Block 5",null,null,null,null,"Block 6"]
["Sequence\nComponent\n1","Time\n1","Sequence\nComponent\n2","Time\n2","Sequence\nComponent\n3","Time\n3","Sequence\nComponent\n4","Time\n4","Sequence\nComponent\n5","Time\n5","Correct?\n0=No 1=Yes","Sequence",null,"Frequency",null,"Relative Frequency","Variability",null,null,"Frequency",null,"Relative Frequency","Variability",null,"Frequency",null,"Relative Frequency","Variability",null,"Frequency",null,"Relative Frequency","Variability",null,"Frequency",null,"Relative Frequency","Variability",null,"Frequency",null,"Relative Frequency","Variability",null,"Frequency",null,"Relative Frequency","Variability"]
[21,20,22,40,24,57,null,null,null,null,0,222,null,111,{"$f":"COUNTIF($L$7:$L$500,N7)","v":0},{"$f":"O7/$Q$4","v":0},{"$f":"IF(P7=0,0,(P7*((LOG(P7))/LOG(2))))","v":0},null,null,{"$f":"N7","v":111},{"$f":"COUNTIF(L7:L37,T7)","v":0},{"$f":"U7/(W4-U11)","v":0},{"$f":"IF(V7=0,0,(V7*((LOG(V7))/LOG(2))))","v":0},null,{"$f":"N7","v":111},{"$f":"COUNTIF(L38:L67,Y7)","v":0},{"$f":"Z7/(AB4-Z11)","v":0},{"$f":"IF(AA7=0,0,(AA7*((LOG(AA7))/LOG(2))))","v":0},null,{"$f":"N7","v":111},{"$f":"COUNTIF(L68:L98,AD7)","v":0},{"$f":"AE7/(AG4-AE11)","v":0},{"$f":"IF(AF7=0,0,(AF7*((LOG(AF7))/LOG(2))))","v":0},null,{"$f":"N7","v":111},{"$f":"COUNTIF(L99:L128,AI7)","v":0},{"$f":"AJ7/(AL4-AJ11)","v":0},{"$f":"IF(AK7=0,0,(AK7*((LOG(AK7))/LOG(2))))","v":0},null,{"$f":"N7","v":111},{"$f":"COUNTIF(L129:L159,AN7)","v":0},{"$f":"AO7/(AQ4-AO11)","v":0},{"$f":"IF(AP7=0,0,(AP7*((LOG(AP7))/LOG(2))))","v":0},null,{"$f":"N7","v":111},{"$f":"COUNTIF(L160:L189,AS7)","v":0},{"$f":"AT7/(AV4-AT11)","v":0},{"$f":"IF(AU7=0,0,(AU7*((LOG(AU7))/LOG(2))))","v":0}]
[21,167,22,176,24,185,null,null,null,null,0,222,null,112,{"$f":"COUNTIF($L$7:$L$500,N8)","v":2},{"$f":"O8/$Q$4","v":1.092896174863388E-2},{"$f":"IF(P8=0,0,(P8*((LOG(P8))/LOG(2))))","v":-7.1209834298186253E-2},null,null,{"$f":"N8","v":112},{"$f":"COUNTIF(L7:L37,T8)","v":0},{"$f":"U8/(W4-U11)","v":0},{"$f":"IF(V8=0,0,(V8*((LOG(V8))/LOG(2))))","v":0},null,{"$f":"N8","v":112},{"$f":"COUNTIF(L38:L67,Y8)","v":1},{"$f":"Z8/(AB4-Z11)","v":3.3333333333333333E-2},{"$f":"IF(AA8=0,0,(AA8*((LOG(AA8))/LOG(2))))","v":-0.16356301985361729},null,{"$f":"N8","v":112},{"$f":"COUNTIF(L68:L98,AD8)","v":0},{"$f":"AE8/(AG4-AE11)","v":0},{"$f":"IF(AF8=0,0,(AF8*((LOG(AF8))/LOG(2))))","v":0},null,{"$f":"N8","v":112},{"$f":"COUNTIF(L99:L128,AI8)","v":0},{"$f":"AJ8/(AL4-AJ11)","v":0},{"$f":"IF(AK8=0,0,(AK8*((LOG(AK8))/LOG(2))))","v":0},null,{"$f":"N8","v":112},{"$f":"COUNTIF(L129:L159,AN8)","v":0},{"$f":"AO8/(AQ4-AO11)","v":0},{"$f":"IF(AP8=0,0,(AP8*((LOG(AP8))/LOG(2))))","v":0},null,{"$f":"N8","v":112},{"$f":"COUNTIF(L160:L189,AS8)","v":1},{"$f":"AT8/(AV4-AT11)","v":3.3333333333333333E-2},{"$f":"IF(AU8=0,0,(AU8*((LOG(AU8))/LOG(2))))","v":-0.16356301985361729}]
[21,292,22,306,24,315,null,null,null,null,0,222,null,121,{"$f":"COUNTIF($L$7:$L$500,N9)","v":0},{"$f":"O9/$Q$4","v":0},{"$f":"IF(P9=0,0,(P9*((LOG(P9))/LOG(2))))","v":0},null,null,{"$f":"N9","v":121},{"$f":"COUNTIF(L7:L37,T9)","v":0},{"$f":"U9/(W4-U11)","v":0},{"$f":"IF(V9=0,0,(V9*((LOG(V9))/LOG(2))))","v":0},null,{"$f":"N9","v":121},{"$f":"COUNTIF(L38:L67,Y9)","v":0},{"$f":"Z9/(AB4-Z11)","v":0},{"$f":"IF(AA9=0,0,(AA9*((LOG(AA9))/LOG(2))))","v":0},null,{"$f":"N9","v":121},{"$f":"COUNTIF(L68:L98,AD9)","v":0},{"$f":"AE9/(AG4-AE11)","v":0},{"$f":"IF(AF9=0,0,(AF9*((LOG(AF9))/LOG(2))))","v":0},null,{"$f":"N9","v":121},{"$f":"COUNTIF(L99:L128,AI9)","v":0},{"$f":"AJ9/(AL4-AJ11)","v":0},{"$f":"IF(AK9=0,0,(AK9*((LOG(AK9))/LOG(2))))","v":0},null,{"$f":"N9","v":121},{"$f":"COUNTIF(L129:L159,AN9)","v":0},{"$f":"AO9/(AQ4-AO11)","v":0},{"$f":"IF(AP9=0,0,(AP9*((LOG(AP9))/LOG(2))))","v":0},null,{"$f":"N9","v":121},{"$f":"COUNTIF(L160:L189,AS9)","v":0},{"$f":"AT9/(AV4-AT11)","v":0},{"$f":"IF(AU9=0,0,(AU9*((LOG(AU9))/LOG(2))))","v":0}]
[12,420,24,437,24,485,null,null,null,null,0,122,null,122,{"$f":"COUNTIF($L$7:$L$500,N10)","v":98},{"$f":"O10/$Q$4","v":0.53551912568306015},{"$f":"IF(P10=0,0,(P10*((LOG(P10))/LOG(2))))","v":-0.48249737392647957},null,null,{"$f":"N10","v":122},{"$f":"COUNTIF(L7:L37,T10)","v":15},{"$f":"U10/(W4-U11)","v":0.4838709677419355},{"$f":"IF(V10=0,0,(V10*((LOG(V10))/LOG(2))))","v":-0.50676082973146286},null,{"$f":"N10","v":122},{"$f":"COUNTIF(L38:L67,Y10)","v":14},{"$f":"Z10/(AB4-Z11)","v":0.46666666666666667},{"$f":"IF(AA10=0,0,(AA10*((LOG(AA10))/LOG(2))))","v":-0.51311664765709342},null,{"$f":"N10","v":122},{"$f":"COUNTIF(L68:L98,AD10)","v":21},{"$f":"AE10/(AG4-AE11)","v":0.67741935483870963},{"$f":"IF(AF10=0,0,(AF10*((LOG(AF10))/LOG(2))))","v":-0.38062763354098111},null,{"$f":"N10","v":122},{"$f":"COUNTIF(L99:L128,AI10)","v":14},{"$f":"AJ10/(AL4-AJ11)","v":0.46666666666666667},{"$f":"IF(AK10=0,0,(AK10*((LOG(AK10))/LOG(2))))","v":-0.51311664765709342},null,{"$f":"N10","v":122},{"$f":"COUNTIF(L129:L159,AN10)","v":16},{"$f":"AO10/(AQ4-AO11)","v":0.5161290322580645},{"$f":"IF(AP10=0,0,(AP10*((LOG(AP10))/LOG(2))))","v":-0.49248841826419365},null,{"$f":"N10","v":122},{"$f":"COUNTIF(L160:L189,AS10)","v":18},{"$f":"AT10/(AV4-AT11)","v":0.6},{"$f":"IF(AU10=0,0,(AU10*((LOG(AU10))/LOG(2))))","v":-0.44217935649972373}]
[12,591,24,608,24,616,null,null,null,null,0,122,null,211,{"$f":"COUNTIF($L$7:$L$500,N11)","v":0},{"$f":"O11/$Q$4","v":0},{"$f":"IF(P11=0,0,(P11*((LOG(P11))/LOG(2))))","v":0},null,null,{"$f":"N11","v":211},{"$f":"COUNTIF(L7:L37,T11)","v":0},null,null,null,{"$f":"N11","v":211},{"$f":"COUNTIF(L38:L67,Y11)","v":0},null,null,null,{"$f":"N11","v":211},{"$f":"COUNTIF(L68:L98,AD11)","v":0},null,null,null,{"$f":"N11","v":211},{"$f":"COUNTIF(L99:L128,AI11)","v":0},null,null,null,{"$f":"N11","v":211},{"$f":"COUNTIF(L129:L159,AN11)","v":0},null,null,null,{"$f":"N11","v":211},{"$f":"COUNTIF(L160:L189,AS11)","v":0}]
[12,725,24,735,24,752,null,null,null,null,0,122,null,212,{"$f":"COUNTIF($L$7:$L$500,N12)","v":0},{"$f":"O12/$Q$4","v":0},{"$f":"IF(P12=0,0,(P12*((LOG(P12))/LOG(2))))","v":0},null,null,{"$f":"N12","v":212},{"$f":"COUNTIF(L7:L37,T12)","v":0},{"$f":"U12/(W4-U11)","v":0},{"$f":"IF(V12=0,0,(V12*((LOG(V12))/LOG(2))))","v":0},null,{"$f":"N12","v":212},{"$f":"COUNTIF(L38:L67,Y12)","v":0},{"$f":"Z12/(AB4-Z11)","v":0},{"$f":"IF(AA12=0,0,(AA12*((LOG(AA12))/LOG(2))))","v":0},null,{"$f":"N12","v":212},{"$f":"COUNTIF(L68:L98,AD12)","v":0},{"$f":"AE12/(AG4-AE11)","v":0},{"$f":"IF(AF12=0,0,(AF12*((LOG(AF12))/LOG(2))))","v":0},null,{"$f":"N12","v":212},{"$f":"COUNTIF(L99:L128,AI12)","v":0},{"$f":"AJ12/(AL4-AJ11)","v":0},{"$f":"IF(AK12=0,0,(AK12*((LOG(AK12))/LOG(2))))","v":0},null,{"$f":"N12","v":212},{"$f":"COUNTIF(L129:L159,AN12)","v":0},{"$f":"AO12/(AQ4-AO11)","v":0},{"$f":"IF(AP12=0,0,(AP12*((LOG(AP12))/LOG(2))))","v":0},null,{"$f":"N12","v":212},{"$f":"COUNTIF(L160:L189,AS12)","v":0},{"$f":"AT12/(AV4-AT11)","v":0},{"$f":"IF(AU12=0,0,(AU12*((LOG(AU12))/LOG(2))))","v":0}]
[21,862,22,871,24,881,null,null,null,null,0,222,null,221,{"$f":"COUNTIF($L$7:$L$500,N13)","v":0},{"$f":"O13/$Q$4","v":0},{"$f":"IF(P13=0,0,(P13*((LOG(P13))/LOG(2))))","v":0},null,null,{"$f":"N13","v":221},{"$f":"COUNTIF(L7:L37,T13)","v":0},{"$f":"U13/(W4-U11)","v":0},{"$f":"IF(V13=0,0,(V13*((LOG(V13))/LOG(2))))","v":0},null,{"$f":"N13","v":221},{"$f":"COUNTIF(L38:L67,Y13)","v":0},{"$f":"Z13/(AB4-Z11)","v":0},{"$f":"IF(AA13=0,0,(AA13*((LOG(AA13))/LOG(2))))","v":0},null,{"$f":"N13","v":221},{"$f":"COUNTIF(L68:L98,AD13)","v":0},{"$f":"AE13/(AG4-AE11)","v":0},{"$f":"IF(AF13=0,0,(AF13*((LOG(AF13))/LOG(2))))","v":0},null,{"$f":"N13","v":221},{"$f":"COUNTIF(L99:L128,AI13)","v":0},{"$f":"AJ13/(AL4-AJ11)","v":0},{"$f":"IF(AK13=0,0,(AK13*((LOG(AK13))/LOG(2))))","v":0},null,{"$f":"N13","v":221},{"$f":"COUNTIF(L129:L159,AN13)","v":0},{"$f":"AO13/(AQ4-AO11)","v":0},{"$f":"IF(AP13=0,0,(AP13*((LOG(AP13))/LOG(2))))","v":0},null,{"$f":"N13","v":221},{"$f":"COUNTIF(L160:L189,AS13)","v":0},{"$f":"AT13/(AV4-AT11)","v":0},{"$f":"IF(AU13=0,0,(AU13*((LOG(AU13))/LOG(2))))","v":0}]
[21,989,22,999,24,1008,null,null,null,null,0,222,null,222,{"$f":"COUNTIF($L$7:$L$500,N14)","v":83},{"$f":"O14/$Q$4","v":0.45355191256830601},{"$f":"IF(P14=0,0,(P14*((LOG(P14))/LOG(2))))","v":-0.51734870915727194},null,null,{"$f":"N14","v":222},{"$f":"COUNTIF(L7:L37,T14)","v":16},{"$f":"U14/(W4-U11)","v":0.5161290322580645},{"$f":"IF(V14=0,0,(V14*((LOG(V14))/LOG(2))))","v":-0.49248841826419365},null,{"$f":"N14","v":222},{"$f":"COUNTIF(L38:L67,Y14)","v":15},{"$f":"Z14/(AB4-Z11)","v":0.5},{"$f":"IF(AA14=0,0,(AA14*((LOG(AA14))/LOG(2))))","v":-0.5},null,{"$f":"N14","v":222},{"$f":"COUNTIF(L68:L98,AD14)","v":10},{"$f":"AE14/(AG4-AE11)","v":0.32258064516129031},{"$f":"IF(AF14=0,0,(AF14*((LOG(AF14))/LOG(2))))","v":-0.52653813403210092},null,{"$f":"N14","v":222},{"$f":"COUNTIF(L99:L128,AI14)","v":16},{"$f":"AJ14/(AL4-AJ11)","v":0.53333333333333333},{"$f":"IF(AK14=0,0,(AK14*((LOG(AK14))/LOG(2))))","v":-0.4836749843245432},null,{"$f":"N14","v":222},{"$f":"COUNTIF(L129:L159,AN14)","v":15},{"$f":"AO14/(AQ4-AO11)","v":0.4838709677419355},{"$f":"IF(AP14=0,0,(AP14*((LOG(AP14))/LOG(2))))","v":-0.50676082973146286},null,{"$f":"N14","v":222},{"$f":"COUNTIF(L160:L189,AS14)","v":11},{"$f":"AT14/(AV4-AT11)","v":0.36666666666666664},{"$f":"IF(AU14=0,0,(AU14*((LOG(AU14))/LOG(2))))","v":-0.53073495822278116}]
[21,1123,22,1131,24,1139,null,null,null,null,0,222,null,null,null,{"$f":"SUM(P7:P14)","v":1},{"$f":"-SUM(Q7:Q14)","v":1.0710559173819378},null,null,null,null,{"$f":"SUM(V7:V14)","v":1},{"$f":"-SUM(W7:W14)","v":0.99924924799565651},null,null,null,{"$f":"SUM(AA7:AA14)","v":1},{"$f":"-SUM(AB7:AB14)","v":1.1766796675107107},null,null,null,{"$f":"SUM(AF7:AF14)","v":1},{"$f":"-SUM(AG7:AG14)","v":0.90716576757308198},null,null,null,{"$f":"SUM(AK7:AK14)","v":1},{"$f":"-SUM(AL7:AL14)","v":0.99679163198163656},null,null,null,{"$f":"SUM(AP7:AP14)","v":1},{"$f":"-SUM(AQ7:AQ14)","v":0.99924924799565651},null,null,null,{"$f":"SUM(AU7:AU14)","v":1},{"$f":"-SUM(AV7:AV14)","v":1.1364773345761221}]
[12,1241,24,1254,24,1261,null,null,null,null,0,122,null,null,null,"U=",{"$f":"Q15/(LOG(Q4)/LOG(2))","v":0.14250913959151376},null,null,null,null,"U1=",{"$f":"W15/(LOG(W4)/LOG(2))","v":0.20169754797577344},null,null,null,"U2=",{"$f":"AB15/(LOG(AB4)/LOG(2))","v":0.23980148825078645},null,null,null,"U3=",{"$f":"AG15/(LOG(AG4)/LOG(2))","v":0.18311058156317611},null,null,null,"U4=",{"$f":"AL15/(LOG(AL4)/LOG(2))","v":0.20314119757912014},null,null,null,"U5=",{"$f":"AQ15/(LOG(AQ4)/LOG(2))","v":0.20169754797577344},null,null,null,"U6=",{"$f":"AV15/(LOG(AV4)/LOG(2))","v":0.23160845191723375}]
[21,1376,22,1386,24,1400,null,null,null,null,0,222]
[21,1508,22,1514,24,1533,null,null,null,null,0,222]
[12,1630,24,1640,24,1645,null,null,null,null,0,122,null,"Total Target Seq"]
[21,1752,22,1757,24,1766,null,null,null,null,0,222,null,{"$f":"COUNTIF(L7:L189,G3)","v":0},null,31,30,31,30,31,30]
[12,1864,24,1877,24,1884,null,null,null,null,0,122,null,null,null,"% of reinforcement given in 6 equal intervals based on number of trials "]
[21,2000,22,2006,24,2015,null,null,null,null,0,222,null,null,null,"%_1","%_2","%_3","%_4","%_5","%_6"]
[12,2118,24,2129,24,2199,null,null,null,null,0,122,null,null,"target sequence",{"$f":"$G$3","v":211},{"$f":"$G$3","v":211},{"$f":"$G$3","v":211},{"$f":"$G$3","v":211},{"$f":"$G$3","v":211},{"$f":"$G$3","v":211}]
[12,2301,24,2312,24,2317,null,null,null,null,0,122,null,null,"total reinforcement",{"$f":"U11","v":0},{"$f":"Z11","v":0},{"$f":"AE11","v":0},{"$f":"AJ11","v":0},{"$f":"AO11","v":0},{"$f":"AT11","v":0}]
[21,2426,22,2441,24,2450,null,null,null,null,0,222,null,null,"% target"]
[12,2551,24,2564,24,2576,null,null,null,null,0,122,null,null,"CCRF"]
[21,2682,22,2689,24,2697,null,null,null,null,0,222,null,null,"% CCRf"]
[21,2810,22,2815,24,2824,null,null,null,null,0,222,null,null,"average response rate",{"$f":"F37/P20","v":131.16129032258064},{"$f":"(F67-F37)/Q20","v":135},{"$f":"(F98-F67)/R20","v":130.80645161290323},{"$f":"(F128-F98)/S20","v":124.3},{"$f":"(F159-F128)/T20","v":130},{"$f":"(F189-F159)/U20","v":134.43333333333334}]
[12,2926,24,2937,24,2945,null,null,null,null,0,122]
[12,3045,24,3058,24,3065,null,null,null,null,0,122]
[21,3179,22,3195,24,3204,null,null,null,null,0,222]
[12,3306,24,3317,24,3406,null,null,null,null,0,122]
[12,3505,24,3519,24,3559,null,null,null,null,0,122]
[21,3674,22,3681,24,3691,null,null,null,null,0,222]
[12,3785,24,3798,24,3804,null,null,null,null,0,122]
[21,3927,22,3935,24,3943,null,null,null,null,0,222]
[12,4044,24,4057,24,4066,null,null,null,null,0,122]
[12,4164,13,4174,24,4187,null,null,null,null,0,112]
[12,4282,24,4292,24,4297,null,null,null,null,0,122]
[12,4397,24,4410,24,4424,null,null,null,null,0,122]
[12,4526,24,4540,24,4563,null,null,null,null,0,122]
[21,4668,22,4674,24,4679,null,null,null,null,0,222]
[12,4780,24,4790,24,4806,null,null,null,null,0,122]
[21,4909,22,4914,24,4974,null,null,null,null,0,222]
[12,5075,24,5084,24,5093,null,null,null,null,0,122]
[12,5193,24,5206,24,5212,null,null,null,null,0,122]
[12,5312,24,5325,24,5331,null,null,null,null,0,122]
[21,5431,22,5436,24,5460,null,null,null,null,0,222]
[12,5561,24,5573,24,5595,null,null,null,null,0,122]
[21,5701,22,5706,24,5714,null,null,null,null,0,222]
[12,5813,24,5826,24,5848,null,null,null,null,0,122]
[12,5948,24,5958,24,5964,null,null,null,null,0,122]
[12,6065,24,6078,24,6085,null,null,null,null,0,122]
[21,6201,22,6227,24,6236,null,null,null,null,0,222]
[21,6337,22,6350,24,6366,null,null,null,null,0,222]
[12,6470,24,6484,24,6543,null,null,null,null,0,122]
[21,6651,22,6695,24,6725,null,null,null,null,0,222]
[21,6836,22,6842,24,6872,null,null,null,null,0,222]
[21,6989,22,7002,24,7010,null,null,null,null,0,222]
[21,7124,22,7129,24,7138,null,null,null,null,0,222]
[12,7232,24,7242,24,7248,null,null,null,null,0,122]
[21,7352,22,7357,24,7392,null,null,null,null,0,222]
[21,7529,22,7537,24,7544,null,null,null,null,0,222]
[12,7642,24,7656,24,7660,null,null,null,null,0,122]
[21,7778,22,7787,24,7804,null,null,null,null,0,222]
[21,7917,22,7942,24,7955,null,null,null,null,0,222]
[21,8068,22,8073,24,8116,null,null,null,null,0,222]
[21,8226,22,8234,24,8273,null,null,null,null,0,222]
[21,8376,22,8381,24,8389,null,null,null,null,0,222]
[21,8501,22,8584,24,8599,null,null,null,null,0,222]
[12,8700,24,8710,24,8720,null,null,null,null,0,122]
[12,8821,24,8831,24,8842,null,null,null,null,0,122]
[21,8950,22,8956,24,8976,null,null,null,null,0,222]
[12,9079,24,9090,24,9096,null,null,null,null,0,122]
[12,9193,24,9238,24,9247,null,null,null,null,0,122]
[12,9351,24,9360,24,9390,null,null,null,null,0,122]
[12,9490,24,9499,24,9505,null,null,null,null,0,122]
[12,9609,24,9619,24,9624,null,null,null,null,0,122]
[21,9732,22,9741,24,9756,null,null,null,null,0,222]
[12,9856,24,9869,24,9879,null,null,null,null,0,122]
[12,9978,24,9988,24,9994,null,null,null,null,0,122]
[12,10099,24,10112,24,10147,null,null,null,null,0,122]
[12,10247,24,10256,24,10262,null,null,null,null,0,122]
[12,10369,24,10382,24,10425,null,null,null,null,0,122]
[12,10520,24,10528,24,10533,null,null,null,null,0,122]
[12,10636,24,10645,24,10650,null,null,null,null,0,122]
[12,10748,24,10765,24,10774,null,null,null,null,0,122]
[21,10876,22,10881,24,10889,null,null,null,null,0,222]
[12,10993,24,11002,24,11009,null,null,null,null,0,122]
[12,11109,24,11121,24,11127,null,null,null,null,0,122]
[12,11227,24,11236,24,11242,null,null,null,null,0,122]
[21,11348,22,11354,24,11361,null,null,null,null,0,222]
[12,11462,24,11478,24,11501,null,null,null,null,0,122]
[21,11623,22,11631,24,11647,null,null,null,null,0,222]
[21,11752,22,11774,24,11812,null,null,null,null,0,222]
[12,11913,24,11923,24,11928,null,null,null,null,0,122]
[21,12030,22,12035,24,12040,null,null,null,null,0,222]
[12,12141,24,12150,24,12171,null,null,null,null,0,122]
[21,12271,22,12280,24,12296,null,null,null,null,0,222]
[12,12404,24,12417,24,12455,null,null,null,null,0,122]
[21,12563,22,12570,24,12578,null,null,null,null,0,222]
[21,12684,22,12689,24,12698,null,null,null,null,0,222]
[12,12799,24,12812,24,12817,null,null,null,null,0,122]
[21,12922,22,12927,24,12932,null,null,null,null,0,222]
[21,13037,22,13042,24,13047,null,null,null,null,0,222]
[21,13143,22,13148,24,13155,null,null,null,null,0,222]
[12,13255,24,13267,24,13272,null,null,null,null,0,122]
[12,13376,24,13393,24,13401,null,null,null,null,0,122]
[21,13505,22,13513,24,13551,null,null,null,null,0,222]
[21,13657,22,13662,24,13670,null,null,null,null,0,222]
[21,13772,22,13782,24,13799,null,null,null,null,0,222]
[12,13896,24,13905,24,13911,null,null,null,null,0,122]
[21,14015,22,14019,24,14025,null,null,null,null,0,222]
[12,14127,24,14136,24,14141,null,null,null,null,0,122]
[12,14246,24,14258,24,14265,null,null,null,null,0,122]
[12,14368,24,14384,24,14392,null,null,null,null,0,122]
[12,14496,24,14509,24,14514,null,null,null,null,0,122]
[12,14616,24,14629,24,14642,null,null,null,null,0,122]
[21,14739,22,14754,24,14761,null,null,null,null,0,222]
[21,14869,22,14882,24,14890,null,null,null,null,0,222]
[21,14991,22,14995,24,15000,null,null,null,null,0,222]
[12,15100,24,15114,24,15125,null,null,null,null,0,122]
[21,15228,22,15235,24,15244,null,null,null,null,0,222]
[21,15342,22,15347,24,15408,null,null,null,null,0,222]
[21,15520,22,15535,24,15555,null,null,null,null,0,222]
[12,15651,24,15663,24,15668,null,null,null,null,0,122]
[12,15773,24,15782,24,15786,null,null,null,null,0,122]
[12,15884,24,15896,24,15900,null,null,null,null,0,122]
[12,16003,24,16023,24,16031,null,null,null,null,0,122]
[12,16135,24,16145,24,16150,null,null,null,null,0,122]
[12,16248,24,16258,24,16262,null,null,null,null,0,122]
[12,16364,24,16377,24,16415,null,null,null,null,0,122]
[12,16515,24,16524,24,16539,null,null,null,null,0,122]
[12,16637,24,16652,24,16657,null,null,null,null,0,122]
[12,16759,24,16769,24,16775,null,null,null,null,0,122]
[12,16874,24,16890,24,16895,null,null,null,null,0,122]
[21,17001,22,17007,24,17012,null,null,null,null,0,222]
[12,17111,24,17123,24,17130,null,null,null,null,0,122]
[12,17233,24,17245,24,17298,null,null,null,null,0,122]
[21,17401,22,17419,24,17433,null,null,null,null,0,222]
[21,17535,22,17539,24,17549,null,null,null,null,0,222]
[21,17664,22,17669,24,17675,null,null,null,null,0,222]
[21,17775,22,17780,24,17791,null,null,null,null,0,222]
[21,17893,22,17899,24,17905,null,null,null,null,0,222]
[12,18008,24,18021,24,18033,null,null,null,null,0,122]
[12,18132,24,18145,24,18153,null,null,null,null,0,122]
[21,18256,22,18275,24,18313,null,null,null,null,0,222]
[12,18412,24,18422,24,18486,null,null,null,null,0,122]
[21,18591,22,18640,24,18669,null,null,null,null,0,222]
[21,18775,22,18779,24,18786,null,null,null,null,0,222]
[21,18888,22,18893,24,18899,null,null,null,null,0,222]
[12,18997,24,19011,24,19015,null,null,null,null,0,122]
[21,19121,22,19146,24,19162,null,null,null,null,0,222]
[21,19268,22,19273,24,19279,null,null,null,null,0,222]
[12,19396,24,19408,24,19415,null,null,null,null,0,122]
[21,19516,22,19521,24,19534,null,null,null,null,0,222]
[21,19634,22,19639,24,19666,null,null,null,null,0,222]
[12,19769,24,19785,24,19790,null,null,null,null,0,122]
[21,19895,22,19922,24,19930,null,null,null,null,0,222]
[21,20032,22,20042,24,20061,null,null,null,null,0,222]
[21,20166,22,20189,24,20204,null,null,null,null,0,222]
[21,20309,22,20327,24,20341,null,null,null,null,0,222]
[21,20437,22,20442,24,20446,null,null,null,null,0,222]
[12,20548,24,20561,24,20565,null,null,null,null,0,122]
[12,20668,24,20680,24,20698,null,null,null,null,0,122]
[12,20800,24,20812,24,20866,null,null,null,null,0,122]
[21,20995,22,21010,24,21021,null,null,null,null,0,222]
[12,21127,24,21140,24,21168,null,null,null,null,0,122]
[21,21276,22,21281,24,21293,null,null,null,null,0,222]
[12,21396,24,21411,24,21418,null,null,null,null,0,122]
[12,21523,24,21535,24,21553,null,null,null,null,0,122]
[12,21655,24,21668,24,21677,null,null,null,null,0,122]
[12,21780,24,21796,24,21811,null,null,null,null,0,122]
[12,21908,24,21921,24,21929,null,null,null,null,0,122]
[12,22030,24,22056,24,22086,null,null,null,null,0,122]
[12,22186,24,22200,24,22221,null,null,null,null,0,122]
[12,22323,24,22334,24,22364,null,null,null,null,0,122]
[21,22471,22,22476,24,22484,null,null,null,null,0,222]
[12,22585,24,22597,24,22612,null,null,null,null,0,122]
[12,22717,24,22727,24,22732,null,null,null,null,0,122]
[12,22835,24,22844,24,22850,null,null,null,null,0,122]
[12,22948,24,22963,24,22969,null,null,null,null,0,122]
[12,23067,13,23080,24,23091,null,null,null,null,0,112]
[21,23212,22,23234,24,23258,null,null,null,null,0,222]
[21,23368,22,23377,24,23390,null,null,null,null,0,222]
[21,23496,22,23509,24,23523,null,null,null,null,0,222]
[12,23626,24,23641,24,23645,null,null,null,null,0,122]
[21,23795,22,23817,24,23833,null,null,null,null,0,222]
[12,23938,24,23953,24,23963,null,null,null,null,null,122]

{"sheet":"!M928850.091","index":10,"n_rows":188,"n_cols":48,"rows_kept":188,"cut":false,"hidden":false,"merged":[[4,39,4,42],[5,39,5,40],[4,44,4,47],[5,44,5,45],[4,24,4,27],[5,24,5,25],[4,29,4,32],[5,29,5,30],[4,34,4,37],[5,34,5,35],[1,1,1,2],[5,13,5,14],[18,13,18,14],[19,13,19,14],[4,19,4,22],[5,19,5,20]]}
["Report for:!M928850.091"]
["Date:","<date>"]
["Hen:","<hen>",null,null,null,"Correct Sequence",{"$f":"Start!J2","v":211},null,null,null,null,null,null,null,null,"Total Sequences in Data",{"$f":"4994-COUNTBLANK(L7:L5000)","v":182},null,null,null,null,"Total Sequences in Block Data",{"$f":"COUNTA(L7:L36)","v":30},null,null,null,"Total Sequences in Block Data",{"$f":"COUNTA(L37:L67)","v":31},null,null,null,"Total Sequences in Block Data",{"$f":"COUNTA(L68:L97)","v":30},null,null,null,"Total Sequences in Block Data",{"$f":"COUNTA(L98:L127)","v":30},null,null,null,"Total Sequences in Block Data",{"$f":"COUNTA(L128:L158)","v":31},null,null,null,"Total Sequences in Block Data",{"$f":"COUNTA(L159:L188)","v":30}]
[null,null,null,null,null,null,null,null,null,null,null,null,null,null,null,"Total Sequences in Summary",{"$f":"SUM(O7:O14)","v":182},null,null,null,null,"Total Sequences in Block Summary",{"$f":"SUM(U7:U14)","v":30},null,null,null,"Total Sequences in Block Summary",{"$f":"SUM(Z7:Z14)","v":31},null,null,null,"Total Sequences in Block Summary",{"$f":"SUM(AE7:AE14)","v":30},null,null,null,"Total Sequences in Block Summary",{"$f":"SUM(AJ7:AJ14)","v":30},null,null,null,"Total Sequences in Block Summary",{"$f":"SUM(AO7:AO14)","v":31},null,null,null,"Total Sequences in Block Summary",{"$f":"SUM(AT7:AT14)","v":30}]
[null,null,null,null,null,null,null,null,null,null,null,null,null,null,null,null,null,null,null,"Block 1",null,null,null,null,"Block 2",null,null,null,null,"Block 3",null,null,null,null,"Block 4",null,null,null,null,"Block 5",null,null,null,null,"Block 6"]
["Sequence\nComponent\n1","Time\n1","Sequence\nComponent\n2","Time\n2","Sequence\nComponent\n3","Time\n3","Sequence\nComponent\n4","Time\n4","Sequence\nComponent\n5","Time\n5","Correct?\n0=No 1=Yes","Sequence",null,"Frequency",null,"Relative Frequency","Variability",null,null,"Frequency",null,"Relative Frequency","Variability",null,"Frequency",null,"Relative Frequency","Variability",null,"Frequency",null,"Relative Frequency","Variability",null,"Frequency",null,"Relative Frequency","Variability",null,"Frequency",null,"Relative Frequency","Variability",null,"Frequency",null,"Relative Frequency","Variability"]
[21,38,22,47,24,55,null,null,null,null,0,222,null,111,{"$f":"COUNTIF($L$7:$L$500,N7)","v":0},{"$f":"O7/$Q$4","v":0},{"$f":"IF(P7=0,0,(P7*((LOG(P7))/LOG(2))))","v":0},null,null,{"$f":"N7","v":111},{"$f":"COUNTIF(L7:L36,T7)","v":0},{"$f":"U7/(W4-U11)","v":0},{"$f":"IF(V7=0,0,(V7*((LOG(V7))/LOG(2))))","v":0},null,{"$f":"N7","v":111},{"$f":"COUNTIF(L37:L67,Y7)","v":0},{"$f":"Z7/(AB4-Z11)","v":0},{"$f":"IF(AA7=0,0,(AA7*((LOG(AA7))/LOG(2))))","v":0},null,{"$f":"N7","v":111},{"$f":"COUNTIF(L68:L97,AD7)","v":0},{"$f":"AE7/(AG4-AE11)","v":0},{"$f":"IF(AF7=0,0,(AF7*((LOG(AF7))/LOG(2))))","v":0},null,{"$f":"N7","v":111},{"$f":"COUNTIF(L98:L127,AI7)","v":0},{"$f":"AJ7/(AL4-AJ11)","v":0},{"$f":"IF(AK7=0,0,(AK7*((LOG(AK7))/LOG(2))))","v":0},null,{"$f":"N7","v":111},{"$f":"COUNTIF(L128:L158,AN7)","v":0},{"$f":"AO7/(AQ4-AO11)","v":0},{"$f":"IF(AP7=0,0,(AP7*((LOG(AP7))/LOG(2))))","v":0},null,{"$f":"N7","v":111},{"$f":"COUNTIF(L159:L188,AS7)","v":0},{"$f":"AT7/(AV4-AT11)","v":0},{"$f":"IF(AU7=0,0,(AU7*((LOG(AU7))/LOG(2))))","v":0}]
[21,171,22,180,24,190,null,null,null,null,0,222,null,112,{"$f":"COUNTIF($L$7:$L$500,N8)","v":3},{"$f":"O8/$Q$4","v":1.6483516483516484E-2},{"$f":"IF(P8=0,0,(P8*((LOG(P8))/LOG(2))))","v":-9.7629101200179216E-2},null,null,{"$f":"N8","v":112},{"$f":"COUNTIF(L7:L36,T8)","v":2},{"$f":"U8/(W4-U11)","v":6.6666666666666666E-2},{"$f":"IF(V8=0,0,(V8*((LOG(V8))/LOG(2))))","v":-0.26045937304056793},null,{"$f":"N8","v":112},{"$f":"COUNTIF(L37:L67,Y8)","v":0},{"$f":"Z8/(AB4-Z11)","v":0},{"$f":"IF(AA8=0,0,(AA8*((LOG(AA8))/LOG(2))))","v":0},null,{"$f":"N8","v":112},{"$f":"COUNTIF(L68:L97,AD8)","v":1},{"$f":"AE8/(AG4-AE11)","v":3.3333333333333333E-2},{"$f":"IF(AF8=0,0,(AF8*((LOG(AF8))/LOG(2))))","v":-0.16356301985361729},null,{"$f":"N8","v":112},{"$f":"COUNTIF(L98:L127,AI8)","v":0},{"$f":"AJ8/(AL4-AJ11)","v":0},{"$f":"IF(AK8=0,0,(AK8*((LOG(AK8))/LOG(2))))","v":0},null,{"$f":"N8","v":112},{"$f":"COUNTIF(L128:L158,AN8)","v":0},{"$f":"AO8/(AQ4-AO11)","v":0},{"$f":"IF(AP8=0,0,(AP8*((LOG(AP8))/LOG(2))))","v":0},null,{"$f":"N8","v":112},{"$f":"COUNTIF(L159:L188,AS8)","v":0},{"$f":"AT8/(AV4-AT11)","v":0},{"$f":"IF(AU8=0,0,(AU8*((LOG(AU8))/LOG(2))))","v":0}]
[12,291,24,305,24,315,null,null,null,null,0,122,null,121,{"$f":"COUNTIF($L$7:$L$500,N9)","v":0},{"$f":"O9/$Q$4","v":0},{"$f":"IF(P9=0,0,(P9*((LOG(P9))/LOG(2))))","v":0},null,null,{"$f":"N9","v":121},{"$f":"COUNTIF(L7:L36,T9)","v":0},{"$f":"U9/(W4-U11)","v":0},{"$f":"IF(V9=0,0,(V9*((LOG(V9))/LOG(2))))","v":0},null,{"$f":"N9","v":121},{"$f":"COUNTIF(L37:L67,Y9)","v":0},{"$f":"Z9/(AB4-Z11)","v":0},{"$f":"IF(AA9=0,0,(AA9*((LOG(AA9))/LOG(2))))","v":0},null,{"$f":"N9","v":121},{"$f":"COUNTIF(L68:L97,AD9)","v":0},{"$f":"AE9/(AG4-AE11)","v":0},{"$f":"IF(AF9=0,0,(AF9*((LOG(AF9))/LOG(2))))","v":0},null,{"$f":"N9","v":121},{"$f":"COUNTIF(L98:L127,AI9)","v":0},{"$f":"AJ9/(AL4-AJ11)","v":0},{"$f":"IF(AK9=0,0,(AK9*((LOG(AK9))/LOG(2))))","v":0},null,{"$f":"N9","v":121},{"$f":"COUNTIF(L128:L158,AN9)","v":0},{"$f":"AO9/(AQ4-AO11)","v":0},{"$f":"IF(AP9=0,0,(AP9*((LOG(AP9))/LOG(2))))","v":0},null,{"$f":"N9","v":121},{"$f":"COUNTIF(L159:L188,AS9)","v":0},{"$f":"AT9/(AV4-AT11)","v":0},{"$f":"IF(AU9=0,0,(AU9*((LOG(AU9))/LOG(2))))","v":0}]
[21,431,22,449,24,458,null,null,null,null,0,222,null,122,{"$f":"COUNTIF($L$7:$L$500,N10)","v":99},{"$f":"O10/$Q$4","v":0.54395604395604391},{"$f":"IF(P10=0,0,(P10*((LOG(P10))/LOG(2))))","v":-0.4778316702845582},null,null,{"$f":"N10","v":122},{"$f":"COUNTIF(L7:L36,T10)","v":14},{"$f":"U10/(W4-U11)","v":0.46666666666666667},{"$f":"IF(V10=0,0,(V10*((LOG(V10))/LOG(2))))","v":-0.51311664765709342},null,{"$f":"N10","v":122},{"$f":"COUNTIF(L37:L67,Y10)","v":20},{"$f":"Z10/(AB4-Z11)","v":0.64516129032258063},{"$f":"IF(AA10=0,0,(AA10*((LOG(AA10))/LOG(2))))","v":-0.40791497774162117},null,{"$f":"N10","v":122},{"$f":"COUNTIF(L68:L97,AD10)","v":16},{"$f":"AE10/(AG4-AE11)","v":0.53333333333333333},{"$f":"IF(AF10=0,0,(AF10*((LOG(AF10))/LOG(2))))","v":-0.4836749843245432},null,{"$f":"N10","v":122},{"$f":"COUNTIF(L98:L127,AI10)","v":16},{"$f":"AJ10/(AL4-AJ11)","v":0.53333333333333333},{"$f":"IF(AK10=0,0,(AK10*((LOG(AK10))/LOG(2))))","v":-0.4836749843245432},null,{"$f":"N10","v":122},{"$f":"COUNTIF(L128:L158,AN10)","v":18},{"$f":"AO10/(AQ4-AO11)","v":0.58064516129032262},{"$f":"IF(AP10=0,0,(AP10*((LOG(AP10))/LOG(2))))","v":-0.45538334067748809},null,{"$f":"N10","v":122},{"$f":"COUNTIF(L159:L188,AS10)","v":15},{"$f":"AT10/(AV4-AT11)","v":0.5},{"$f":"IF(AU10=0,0,(AU10*((LOG(AU10))/LOG(2))))","v":-0.5}]
[21,574,22,581,24,590,null,null,null,null,0,222,null,211,{"$f":"COUNTIF($L$7:$L$500,N11)","v":0},{"$f":"O11/$Q$4","v":0},{"$f":"IF(P11=0,0,(P11*((LOG(P11))/LOG(2))))","v":0},null,null,{"$f":"N11","v":211},{"$f":"COUNTIF(L7:L36,T11)","v":0},null,null,null,{"$f":"N11","v":211},{"$f":"COUNTIF(L37:L67,Y11)","v":0},null,null,null,{"$f":"N11","v":211},{"$f":"COUNTIF(L68:L97,AD11)","v":0},null,null,null,{"$f":"N11","v":211},{"$f":"COUNTIF(L98:L127,AI11)","v":0},null,null,null,{"$f":"N11","v":211},{"$f":"COUNTIF(L128:L158,AN11)","v":0},null,null,null,{"$f":"N11","v":211},{"$f":"COUNTIF(L159:L188,AS11)","v":0}]
[12,689,24,703,24,722,null,null,null,null,0,122,null,212,{"$f":"COUNTIF($L$7:$L$500,N12)","v":0},{"$f":"O12/$Q$4","v":0},{"$f":"IF(P12=0,0,(P12*((LOG(P12))/LOG(2))))","v":0},null,null,{"$f":"N12","v":212},{"$f":"COUNTIF(L7:L36,T12)","v":0},{"$f":"U12/(W4-U11)","v":0},{"$f":"IF(V12=0,0,(V12*((LOG(V12))/LOG(2))))","v":0},null,{"$f":"N12","v":212},{"$f":"COUNTIF(L37:L67,Y12)","v":0},{"$f":"Z12/(AB4-Z11)","v":0},{"$f":"IF(AA12=0,0,(AA12*((LOG(AA12))/LOG(2))))","v":0},null,{"$f":"N12","v":212},{"$f":"COUNTIF(L68:L97,AD12)","v":0},{"$f":"AE12/(AG4-AE11)","v":0},{"$f":"IF(AF12=0,0,(AF12*((LOG(AF12))/LOG(2))))","v":0},null,{"$f":"N12","v":212},{"$f":"COUNTIF(L98:L127,AI12)","v":0},{"$f":"AJ12/(AL4-AJ11)","v":0},{"$f":"IF(AK12=0,0,(AK12*((LOG(AK12))/LOG(2))))","v":0},null,{"$f":"N12","v":212},{"$f":"COUNTIF(L128:L158,AN12)","v":0},{"$f":"AO12/(AQ4-AO11)","v":0},{"$f":"IF(AP12=0,0,(AP12*((LOG(AP12))/LOG(2))))","v":0},null,{"$f":"N12","v":212},{"$f":"COUNTIF(L159:L188,AS12)","v":0},{"$f":"AT12/(AV4-AT11)","v":0},{"$f":"IF(AU12=0,0,(AU12*((LOG(AU12))/LOG(2))))","v":0}]
[12,820,24,829,24,834,null,null,null,null,0,122,null,221,{"$f":"COUNTIF($L$7:$L$500,N13)","v":0},{"$f":"O13/$Q$4","v":0},{"$f":"IF(P13=0,0,(P13*((LOG(P13))/LOG(2))))","v":0},null,null,{"$f":"N13","v":221},{"$f":"COUNTIF(L7:L36,T13)","v":0},{"$f":"U13/(W4-U11)","v":0},{"$f":"IF(V13=0,0,(V13*((LOG(V13))/LOG(2))))","v":0},null,{"$f":"N13","v":221},{"$f":"COUNTIF(L37:L67,Y13)","v":0},{"$f":"Z13/(AB4-Z11)","v":0},{"$f":"IF(AA13=0,0,(AA13*((LOG(AA13))/LOG(2))))","v":0},null,{"$f":"N13","v":221},{"$f":"COUNTIF(L68:L97,AD13)","v":0},{"$f":"AE13/(AG4-AE11)","v":0},{"$f":"IF(AF13=0,0,(AF13*((LOG(AF13))/LOG(2))))","v":0},null,{"$f":"N13","v":221},{"$f":"COUNTIF(L98:L127,AI13)","v":0},{"$f":"AJ13/(AL4-AJ11)","v":0},{"$f":"IF(AK13=0,0,(AK13*((LOG(AK13))/LOG(2))))","v":0},null,{"$f":"N13","v":221},{"$f":"COUNTIF(L128:L158,AN13)","v":0},{"$f":"AO13/(AQ4-AO11)","v":0},{"$f":"IF(AP13=0,0,(AP13*((LOG(AP13))/LOG(2))))","v":0},null,{"$f":"N13","v":221},{"$f":"COUNTIF(L159:L188,AS13)","v":0},{"$f":"AT13/(AV4-AT11)","v":0},{"$f":"IF(AU13=0,0,(AU13*((LOG(AU13))/LOG(2))))","v":0}]
[12,933,24,946,24,952,null,null,null,null,0,122,null,222,{"$f":"COUNTIF($L$7:$L$500,N14)","v":80},{"$f":"O14/$Q$4","v":0.43956043956043955},{"$f":"IF(P14=0,0,(P14*((LOG(P14))/LOG(2))))","v":-0.52126001991706983},null,null,{"$f":"N14","v":222},{"$f":"COUNTIF(L7:L36,T14)","v":14},{"$f":"U14/(W4-U11)","v":0.46666666666666667},{"$f":"IF(V14=0,0,(V14*((LOG(V14))/LOG(2))))","v":-0.51311664765709342},null,{"$f":"N14","v":222},{"$f":"COUNTIF(L37:L67,Y14)","v":11},{"$f":"Z14/(AB4-Z11)","v":0.35483870967741937},{"$f":"IF(AA14=0,0,(AA14*((LOG(AA14))/LOG(2))))","v":-0.53040037449178568},null,{"$f":"N14","v":222},{"$f":"COUNTIF(L68:L97,AD14)","v":13},{"$f":"AE14/(AG4-AE11)","v":0.43333333333333335},{"$f":"IF(AF14=0,0,(AF14*((LOG(AF14))/LOG(2))))","v":-0.52279538023588479},null,{"$f":"N14","v":222},{"$f":"COUNTIF(L98:L127,AI14)","v":14},{"$f":"AJ14/(AL4-AJ11)","v":0.46666666666666667},{"$f":"IF(AK14=0,0,(AK14*((LOG(AK14))/LOG(2))))","v":-0.51311664765709342},null,{"$f":"N14","v":222},{"$f":"COUNTIF(L128:L158,AN14)","v":13},{"$f":"AO14/(AQ4-AO11)","v":0.41935483870967744},{"$f":"IF(AP14=0,0,(AP14*((LOG(AP14))/LOG(2))))","v":-0.52576889352242517},null,{"$f":"N14","v":222},{"$f":"COUNTIF(L159:L188,AS14)","v":15},{"$f":"AT14/(AV4-AT11)","v":0.5},{"$f":"IF(AU14=0,0,(AU14*((LOG(AU14))/LOG(2))))","v":-0.5}]
[12,1051,24,1062,24,1068,null,null,null,null,0,122,null,null,null,{"$f":"SUM(P7:P14)","v":1},{"$f":"-SUM(Q7:Q14)","v":1.0967207914018071},null,null,null,null,{"$f":"SUM(V7:V14)","v":1},{"$f":"-SUM(W7:W14)","v":1.2866926683547548},null,null,null,{"$f":"SUM(AA7:AA14)","v":1},{"$f":"-SUM(AB7:AB14)","v":0.9383153522334069},null,null,null,{"$f":"SUM(AF7:AF14)","v":1},{"$f":"-SUM(AG7:AG14)","v":1.1700333844140451},null,null,null,{"$f":"SUM(AK7:AK14)","v":1},{"$f":"-SUM(AL7:AL14)","v":0.99679163198163656},null,null,null,{"$f":"SUM(AP7:AP14)","v":1},{"$f":"-SUM(AQ7:AQ14)","v":0.98115223419991326},null,null,null,{"$f":"SUM(AU7:AU14)","v":1},{"$f":"-SUM(AV7:AV14)","v":1}]
[12,1167,24,1181,24,1187,null,null,null,null,0,122,null,null,null,"U=",{"$f":"Q15/(LOG(Q4)/LOG(2))","v":0.14607762251909198},null,null,null,null,"U1=",{"$f":"W15/(LOG(W4)/LOG(2))","v":0.26222159293836633},null,null,null,"U2=",{"$f":"AB15/(LOG(AB4)/LOG(2))","v":0.18939809677427447},null,null,null,"U3=",{"$f":"AG15/(LOG(AG4)/LOG(2))","v":0.23844700867412466},null,null,null,"U4=",{"$f":"AL15/(LOG(AL4)/LOG(2))","v":0.20314119757912014},null,null,null,"U5=",{"$f":"AQ15/(LOG(AQ4)/LOG(2))","v":0.198044682271239},null,null,null,"U6=",{"$f":"AV15/(LOG(AV4)/LOG(2))","v":0.20379504709050619}]
[21,1300,22,1315,24,1324,null,null,null,null,0,222]
[21,1431,22,1437,24,1449,null,null,null,null,0,222]
[12,1547,24,1561,24,1569,null,null,null,null,0,122,null,"Total Target Seq"]
[12,1670,24,1681,24,1689,null,null,null,null,0,122,null,{"$f":"COUNTIF(L7:L188,G3)","v":0},null,30,31,30,30,31,30]
[12,1791,24,1812,24,1863,null,null,null,null,0,122,null,null,null,"% of reinforcement given in 6 equal intervals based on number of trials "]
[21,1973,22,1981,24,1991,null,null,null,null,0,222,null,null,null,"%_1","%_2","%_3","%_4","%_5","%_6"]
[21,2100,22,2113,24,2122,null,null,null,null,0,222,null,null,"target sequence",{"$f":"$G$3","v":211},{"$f":"$G$3","v":211},{"$f":"$G$3","v":211},{"$f":"$G$3","v":211},{"$f":"$G$3","v":211},{"$f":"$G$3","v":211}]
[12,2225,13,2239,24,2250,null,null,null,null,0,112,null,null,"total reinforcement",{"$f":"U11","v":0},{"$f":"Z11","v":0},{"$f":"AE11","v":0},{"$f":"AJ11","v":0},{"$f":"AO11","v":0},{"$f":"AT11","v":0}]
[12,2364,24,2378,24,2387,null,null,null,null,0,122,null,null,"% target"]
[12,2489,13,2502,24,2515,null,null,null,null,0,112,null,null,"CCRF"]
[12,2616,24,2627,24,2632,null,null,null,null,0,122,null,null,"% CCRf"]
[21,2735,22,2744,24,2764,null,null,null,null,0,222,null,null,"average response rate",{"$f":"F36/P20","v":127.36666666666666},{"$f":"(F67-F36)/Q20","v":128.70967741935485},{"$f":"(F97-F67)/R20","v":133.83333333333334},{"$f":"(F127-F97)/S20","v":132.76666666666668},{"$f":"(F158-F127)/T20","v":129.54838709677421},{"$f":"(F188-F158)/U20","v":136}]
[21,2867,22,2872,24,2881,null,null,null,null,0,222]
[12,2980,24,2994,24,3000,null,null,null,null,0,122]
[21,3108,22,3118,24,3128,null,null,null,null,0,222]
[21,3248,22,3257,24,3265,null,null,null,null,0,222]
[12,3371,24,3386,24,3400,null,null,null,null,0,122]
[21,3503,22,3520,24,3550,null,null,null,null,0,222]
[12,3656,24,3668,24,3683,null,null,null,null,0,122]
[21,3808,22,3813,24,3821,null,null,null,null,0,222]
[12,3918,24,3928,24,3933,null,null,null,null,0,122]
[12,4032,24,4042,24,4054,null,null,null,null,0,122]
[12,4155,24,4168,24,4179,null,null,null,null,0,122]
[12,4280,24,4289,24,4297,null,null,null,null,0,122]
[12,4399,24,4415,24,4440,null,null,null,null,0,122]
[21,4549,22,4557,24,4564,null,null,null,null,0,222]
[12,4666,24,4676,24,4681,null,null,null,null,0,122]
[12,4782,24,4796,24,4804,null,null,null,null,0,122]
[12,4905,24,4918,24,4923,null,null,null,null,0,122]
[12,5025,24,5044,24,5069,null,null,null,null,0,122]
[12,5167,24,5176,24,5182,null,null,null,null,0,122]
[12,5284,24,5294,24,5312,null,null,null,null,0,122]
[12,5411,24,5423,24,5428,null,null,null,null,0,122]
[21,5543,22,5549,24,5558,null,null,null,null,0,222]
[21,5674,22,5691,24,5699,null,null,null,null,0,222]
[12,5803,24,5835,24,5844,null,null,null,null,0,122]
[12,5947,24,5957,24,5962,null,null,null,null,0,122]
[21,6064,22,6070,24,6079,null,null,null,null,0,222]
[12,6182,24,6191,24,6217,null,null,null,null,0,122]
[21,6331,22,6336,24,6354,null,null,null,null,0,222]
[12,6454,24,6464,24,6472,null,null,null,null,0,122]
[12,6572,24,6588,24,6603,null,null,null,null,0,122]
[21,6703,22,6713,24,6723,null,null,null,null,0,222]
[21,6824,22,6829,24,6852,null,null,null,null,0,222]
[12,6954,24,6969,24,7004,null,null,null,null,0,122]
[21,7110,22,7120,24,7192,null,null,null,null,0,222]
[12,7298,24,7312,24,7321,null,null,null,null,0,122]
[12,7420,24,7457,24,7477,null,null,null,null,0,122]
[21,7575,22,7580,24,7587,null,null,null,null,0,222]
[21,7689,22,7694,24,7698,null,null,null,null,0,222]
[21,7795,22,7804,24,7811,null,null,null,null,0,222]
[21,7911,22,7931,24,7955,null,null,null,null,0,222]
[21,8055,22,8060,24,8072,null,null,null,null,0,222]
[12,8173,24,8187,24,8193,null,null,null,null,0,122]
[21,8294,22,8300,24,8311,null,null,null,null,0,222]
[12,8415,24,8429,24,8434,null,null,null,null,0,122]
[12,8535,24,8629,24,8637,null,null,null,null,0,122]
[21,8737,22,8759,24,8768,null,null,null,null,0,222]
[21,8863,22,8868,24,8892,null,null,null,null,0,222]
[21,9007,22,9016,24,9023,null,null,null,null,0,222]
[21,9125,22,9131,24,9146,null,null,null,null,0,222]
[12,9244,24,9259,24,9265,null,null,null,null,0,122]
[12,9364,13,9376,24,9386,null,null,null,null,0,112]
[21,9485,22,9494,24,9503,null,null,null,null,0,222]
[21,9604,22,9611,24,9620,null,null,null,null,0,222]
[12,9723,24,9741,24,9749,null,null,null,null,0,122]
[21,9848,22,9854,24,9867,null,null,null,null,0,222]
[12,9962,24,9972,24,9993,null,null,null,null,0,122]
[12,10095,24,10107,24,10135,null,null,null,null,0,122]
[12,10237,24,10252,24,10267,null,null,null,null,0,122]
[21,10370,22,10379,24,10390,null,null,null,null,0,222]
[12,10491,24,10519,24,10551,null,null,null,null,0,122]
[12,10652,24,10661,24,10684,null,null,null,null,0,122]
[12,10790,24,10823,24,10857,null,null,null,null,0,122]
[12,10960,24,10976,24,11002,null,null,null,null,0,122]
[12,11100,24,11113,24,11119,null,null,null,null,0,122]
[21,11236,22,11263,24,11286,null,null,null,null,0,222]
[21,11386,22,11414,24,11451,null,null,null,null,0,222]
[12,11551,24,11578,24,11592,null,null,null,null,0,122]
[12,11694,24,11704,24,11711,null,null,null,null,0,122]
[12,11811,24,11820,24,11826,null,null,null,null,0,122]
[12,11932,24,11947,24,12031,null,null,null,null,0,122]
[21,12131,22,12136,24,12179,null,null,null,null,0,222]
[12,12275,24,12285,24,12310,null,null,null,null,0,122]
[12,12406,24,12415,24,12420,null,null,null,null,0,122]
[12,12521,24,12537,24,12549,null,null,null,null,0,122]
[12,12648,24,12659,24,12663,null,null,null,null,0,122]
[21,12761,22,12768,24,12779,null,null,null,null,0,222]
[21,12887,22,12897,24,12916,null,null,null,null,0,222]
[12,13021,24,13031,24,13047,null,null,null,null,0,122]
[12,13145,24,13158,24,13164,null,null,null,null,0,122]
[12,13264,24,13279,24,13305,null,null,null,null,0,122]
[21,13415,22,13422,24,13431,null,null,null,null,0,222]
[21,13547,22,13555,24,13564,null,null,null,null,0,222]
[21,13675,22,13681,24,13698,null,null,null,null,0,222]
[12,13798,24,13808,24,13812,null,null,null,null,0,122]
[12,13907,24,13917,24,13923,null,null,null,null,0,122]
[21,14026,22,14062,24,14076,null,null,null,null,0,222]
[21,14175,22,14180,24,14188,null,null,null,null,0,222]
[12,14289,24,14303,24,14313,null,null,null,null,0,122]
[12,14411,24,14426,24,14431,null,null,null,null,0,122]
[12,14537,24,14548,24,14553,null,null,null,null,0,122]
[21,14700,22,14708,24,14715,null,null,null,null,0,222]
[21,14824,22,14857,24,14880,null,null,null,null,0,222]
[21,14982,22,14990,24,15001,null,null,null,null,0,222]
[12,15101,24,15110,24,15115,null,null,null,null,0,122]
[21,15263,22,15283,24,15296,null,null,null,null,0,222]
[12,15396,24,15418,24,15425,null,null,null,null,0,122]
[21,15540,22,15549,24,15580,null,null,null,null,0,222]
[21,15680,22,15684,24,15690,null,null,null,null,0,222]
[12,15788,24,15803,24,15809,null,null,null,null,0,122]
[12,15928,24,15943,24,15961,null,null,null,null,0,122]
[12,16063,24,16072,24,16082,null,null,null,null,0,122]
[21,16190,22,16202,24,16213,null,null,null,null,0,222]
[12,16312,24,16342,24,16369,null,null,null,null,0,122]
[12,16492,24,16506,24,16513,null,null,null,null,0,122]
[21,16619,22,16641,24,16648,null,null,null,null,0,222]
[21,16748,22,16754,24,16771,null,null,null,null,0,222]
[21,16873,22,16878,24,16892,null,null,null,null,0,222]
[21,16994,22,16999,24,17014,null,null,null,null,0,222]
[12,17110,24,17118,24,17124,null,null,null,null,0,122]
[21,17229,22,17241,24,17271,null,null,null,null,0,222]
[21,17384,22,17390,24,17405,null,null,null,null,0,222]
[12,17503,24,17554,24,17561,null,null,null,null,0,122]
[12,17665,24,17679,24,17684,null,null,null,null,0,122]
[12,17785,24,17819,24,17831,null,null,null,null,0,122]
[21,17925,22,17937,24,17946,null,null,null,null,0,222]
[21,18045,22,18057,24,18068,null,null,null,null,0,222]
[12,18169,24,18177,24,18182,null,null,null,null,0,122]
[12,18280,24,18290,24,18294,null,null,null,null,0,122]
[12,18392,24,18407,24,18414,null,null,null,null,0,122]
[12,18520,24,18535,24,18542,null,null,null,null,0,122]
[12,18647,24,18656,24,18663,null,null,null,null,0,122]
[21,18773,22,18780,24,18788,null,null,null,null,0,222]
[21,18895,22,18916,24,18923,null,null,null,null,0,222]
[12,19024,24,19042,24,19051,null,null,null,null,0,122]
[21,19148,22,19156,24,19190,null,null,null,null,0,222]
[12,19291,24,19302,24,19307,null,null,null,null,0,122]
[12,19409,24,19419,24,19424,null,null,null,null,0,122]
[12,19533,24,19542,24,19548,null,null,null,null,0,122]
[12,19649,24,19659,24,19665,null,null,null,null,0,122]
[21,19768,22,19786,24,19825,null,null,null,null,0,222]
[12,19928,24,19938,24,19947,null,null,null,null,0,122]
[21,20044,22,20048,24,20058,null,null,null,null,0,222]
[12,20154,24,20170,24,20184,null,null,null,null,0,122]
[21,20384,22,20398,24,20425,null,null,null,null,0,222]
[21,20525,22,20530,24,20543,null,null,null,null,0,222]
[12,20643,24,20652,24,20657,null,null,null,null,0,122]
[21,20763,22,20768,24,20784,null,null,null,null,0,222]
[12,20894,24,20904,24,20918,null,null,null,null,0,122]
[12,21018,24,21031,24,21036,null,null,null,null,0,122]
[12,21139,24,21155,24,21168,null,null,null,null,0,122]
[12,21269,24,21283,24,21297,null,null,null,null,0,122]
[21,21456,22,21463,24,21487,null,null,null,null,0,222]
[12,21583,24,21593,24,21598,null,null,null,null,0,122]
[21,21715,22,21721,24,21747,null,null,null,null,0,222]
[21,21868,22,21886,24,21902,null,null,null,null,0,222]
[21,22018,22,22026,24,22037,null,null,null,null,0,222]
[12,22143,24,22181,24,22193,null,null,null,null,0,122]
[21,22298,22,22314,24,22322,null,null,null,null,0,222]
[12,22424,24,22438,24,22457,null,null,null,null,0,122]
[12,22559,24,22591,24,22605,null,null,null,null,0,122]
[21,22703,22,22708,24,22722,null,null,null,null,0,222]
[21,22840,22,22859,24,22874,null,null,null,null,0,222]
[21,22986,22,22991,24,22999,null,null,null,null,0,222]
[12,23105,24,23116,24,23121,null,null,null,null,0,122]
[21,23222,22,23227,24,23235,null,null,null,null,0,222]
[12,23335,24,23347,24,23362,null,null,null,null,0,122]
[12,23465,24,23479,24,23497,null,null,null,null,0,122]
[21,23602,22,23607,24,23612,null,null,null,null,0,222]
[21,23717,22,23723,24,23766,null,null,null,null,0,222]
[12,23868,24,23881,24,23905,null,null,null,null,0,122]

{"sheet":"!M929840.091","index":11,"n_rows":191,"n_cols":48,"rows_kept":191,"cut":false,"hidden":false,"merged":[[4,39,4,42],[5,39,5,40],[4,44,4,47],[5,44,5,45],[4,24,4,27],[5,24,5,25],[4,29,4,32],[5,29,5,30],[4,34,4,37],[5,34,5,35],[1,1,1,2],[5,13,5,14],[18,13,18,14],[19,13,19,14],[4,19,4,22],[5,19,5,20]]}
["Report for:!M929840.091"]
["Date:","<date>"]
["Hen:","<hen>",null,null,null,"Correct Sequence",{"$f":"Start!J2","v":211},null,null,null,null,null,null,null,null,"Total Sequences in Data",{"$f":"4994-COUNTBLANK(L7:L5000)","v":185},null,null,null,null,"Total Sequences in Block Data",{"$f":"COUNTA(L7:L37)","v":31},null,null,null,"Total Sequences in Block Data",{"$f":"COUNTA(L38:L68)","v":31},null,null,null,"Total Sequences in Block Data",{"$f":"COUNTA(L69:L98)","v":30},null,null,null,"Total Sequences in Block Data",{"$f":"COUNTA(L99:L129)","v":31},null,null,null,"Total Sequences in Block Data",{"$f":"COUNTA(L130:L160)","v":31},null,null,null,"Total Sequences in Block Data",{"$f":"COUNTA(L161:L191)","v":31}]
[null,null,null,null,null,null,null,null,null,null,null,null,null,null,null,"Total Sequences in Summary",{"$f":"SUM(O7:O14)","v":184},null,null,null,null,"Total Sequences in Block Summary",{"$f":"SUM(U7:U14)","v":31},null,null,null,"Total Sequences in Block Summary",{"$f":"SUM(Z7:Z14)","v":31},null,null,null,"Total Sequences in Block Summary",{"$f":"SUM(AE7:AE14)","v":30},null,null,null,"Total Sequences in Block Summary",{"$f":"SUM(AJ7:AJ14)","v":31},null,null,null,"Total Sequences in Block Summary",{"$f":"SUM(AO7:AO14)","v":31},null,null,null,"Total Sequences in Block Summary",{"$f":"SUM(AT7:AT14)","v":30}]
[null,null,null,null,null,null,null,null,null,null,null,null,null,null,null,null,null,null,null,"Block 1",null,null,null,null,"Block 2",null,null,null,null,"Block 3",null,null,null,null,"Block 4",null,null,null,null,"Block 5",null,null,null,null,"Block 6"]
["Sequence\nComponent\n1","Time\n1","Sequence\nComponent\n2","Time\n2","Sequence\nComponent\n3","Time\n3","Sequence\nComponent\n4","Time\n4","Sequence\nComponent\n5","Time\n5","Correct?\n0=No 1=Yes","Sequence",null,"Frequency",null,"Relative Frequency","Variability",null,null,"Frequency",null,"Relative Frequency","Variability",null,"Frequency",null,"Relative Frequency","Variability",null,"Frequency",null,"Relative Frequency","Variability",null,"Frequency",null,"Relative Frequency","Variability",null,"Frequency",null,"Relative Frequency","Variability",null,"Frequency",null,"Relative Frequency","Variability"]
[21,21,22,38,24,49,null,null,null,null,0,222,null,111,{"$f":"COUNTIF($L$7:$L$500,N7)","v":0},{"$f":"O7/$Q$4","v":0},{"$f":"IF(P7=0,0,(P7*((LOG(P7))/LOG(2))))","v":0},null,null,{"$f":"N7","v":111},{"$f":"COUNTIF(L7:L37,T7)","v":0},{"$f":"U7/(W4-U11)","v":0},{"$f":"IF(V7=0,0,(V7*((LOG(V7))/LOG(2))))","v":0},null,{"$f":"N7","v":111},{"$f":"COUNTIF(L38:L68,Y7)","v":0},{"$f":"Z7/(AB4-Z11)","v":0},{"$f":"IF(AA7=0,0,(AA7*((LOG(AA7))/LOG(2))))","v":0},null,{"$f":"N7","v":111},{"$f":"COUNTIF(L69:L98,AD7)","v":0},{"$f":"AE7/(AG4-AE11)","v":0},{"$f":"IF(AF7=0,0,(AF7*((LOG(AF7))/LOG(2))))","v":0},null,{"$f":"N7","v":111},{"$f":"COUNTIF(L99:L129,AI7)","v":0},{"$f":"AJ7/(AL4-AJ11)","v":0},{"$f":"IF(AK7=0,0,(AK7*((LOG(AK7))/LOG(2))))","v":0},null,{"$f":"N7","v":111},{"$f":"COUNTIF(L130:L160,AN7)","v":0},{"$f":"AO7/(AQ4-AO11)","v":0},{"$f":"IF(AP7=0,0,(AP7*((LOG(AP7))/LOG(2))))","v":0},null,{"$f":"N7","v":111},{"$f":"COUNTIF(L161:L191,AS7)","v":0},{"$f":"AT7/(AV4-AT11)","v":0},{"$f":"IF(AU7=0,0,(AU7*((LOG(AU7))/LOG(2))))","v":0}]
[21,159,22,165,24,174,null,null,null,null,0,222,null,112,{"$f":"COUNTIF($L$7:$L$500,N8)","v":3},{"$f":"O8/$Q$4","v":1.6304347826086956E-2},{"$f":"IF(P8=0,0,(P8*((LOG(P8))/LOG(2))))","v":-9.6824991119606366E-2},null,null,{"$f":"N8","v":112},{"$f":"COUNTIF(L7:L37,T8)","v":0},{"$f":"U8/(W4-U11)","v":0},{"$f":"IF(V8=0,0,(V8*((LOG(V8))/LOG(2))))","v":0},null,{"$f":"N8","v":112},{"$f":"COUNTIF(L38:L68,Y8)","v":2},{"$f":"Z8/(AB4-Z11)","v":6.4516129032258063E-2},{"$f":"IF(AA8=0,0,(AA8*((LOG(AA8))/LOG(2))))","v":-0.25510943937979835},null,{"$f":"N8","v":112},{"$f":"COUNTIF(L69:L98,AD8)","v":0},{"$f":"AE8/(AG4-AE11)","v":0},{"$f":"IF(AF8=0,0,(AF8*((LOG(AF8))/LOG(2))))","v":0},null,{"$f":"N8","v":112},{"$f":"COUNTIF(L99:L129,AI8)","v":0},{"$f":"AJ8/(AL4-AJ11)","v":0},{"$f":"IF(AK8=0,0,(AK8*((LOG(AK8))/LOG(2))))","v":0},null,{"$f":"N8","v":112},{"$f":"COUNTIF(L130:L160,AN8)","v":0},{"$f":"AO8/(AQ4-AO11)","v":0},{"$f":"IF(AP8=0,0,(AP8*((LOG(AP8))/LOG(2))))","v":0},null,{"$f":"N8","v":112},{"$f":"COUNTIF(L161:L191,AS8)","v":1},{"$f":"AT8/(AV4-AT11)","v":3.3333333333333333E-2},{"$f":"IF(AU8=0,0,(AU8*((LOG(AU8))/LOG(2))))","v":-0.16356301985361729}]
[12,278,24,292,24,299,null,null,null,null,0,122,null,121,{"$f":"COUNTIF($L$7:$L$500,N9)","v":0},{"$f":"O9/$Q$4","v":0},{"$f":"IF(P9=0,0,(P9*((LOG(P9))/LOG(2))))","v":0},null,null,{"$f":"N9","v":121},{"$f":"COUNTIF(L7:L37,T9)","v":0},{"$f":"U9/(W4-U11)","v":0},{"$f":"IF(V9=0,0,(V9*((LOG(V9))/LOG(2))))","v":0},null,{"$f":"N9","v":121},{"$f":"COUNTIF(L38:L68,Y9)","v":0},{"$f":"Z9/(AB4-Z11)","v":0},{"$f":"IF(AA9=0,0,(AA9*((LOG(AA9))/LOG(2))))","v":0},null,{"$f":"N9","v":121},{"$f":"COUNTIF(L69:L98,AD9)","v":0},{"$f":"AE9/(AG4-AE11)","v":0},{"$f":"IF(AF9=0,0,(AF9*((LOG(AF9))/LOG(2))))","v":0},null,{"$f":"N9","v":121},{"$f":"COUNTIF(L99:L129,AI9)","v":0},{"$f":"AJ9/(AL4-AJ11)","v":0},{"$f":"IF(AK9=0,0,(AK9*((LOG(AK9))/LOG(2))))","v":0},null,{"$f":"N9","v":121},{"$f":"COUNTIF(L130:L160,AN9)","v":0},{"$f":"AO9/(AQ4-AO11)","v":0},{"$f":"IF(AP9=0,0,(AP9*((LOG(AP9))/LOG(2))))","v":0},null,{"$f":"N9","v":121},{"$f":"COUNTIF(L161:L191,AS9)","v":0},{"$f":"AT9/(AV4-AT11)","v":0},{"$f":"IF(AU9=0,0,(AU9*((LOG(AU9))/LOG(2))))","v":0}]
[21,414,22,426,24,444,null,null,null,null,0,222,null,122,{"$f":"COUNTIF($L$7:$L$500,N10)","v":87},{"$f":"O10/$Q$4","v":0.47282608695652173},{"$f":"IF(P10=0,0,(P10*((LOG(P10))/LOG(2))))","v":-0.51094459803326497},null,null,{"$f":"N10","v":122},{"$f":"COUNTIF(L7:L37,T10)","v":17},{"$f":"U10/(W4-U11)","v":0.54838709677419351},{"$f":"IF(V10=0,0,(V10*((LOG(V10))/LOG(2))))","v":-0.47530545081681003},null,{"$f":"N10","v":122},{"$f":"COUNTIF(L38:L68,Y10)","v":16},{"$f":"Z10/(AB4-Z11)","v":0.5161290322580645},{"$f":"IF(AA10=0,0,(AA10*((LOG(AA10))/LOG(2))))","v":-0.49248841826419365},null,{"$f":"N10","v":122},{"$f":"COUNTIF(L69:L98,AD10)","v":12},{"$f":"AE10/(AG4-AE11)","v":0.4},{"$f":"IF(AF10=0,0,(AF10*((LOG(AF10))/LOG(2))))","v":-0.52877123795494496},null,{"$f":"N10","v":122},{"$f":"COUNTIF(L99:L129,AI10)","v":12},{"$f":"AJ10/(AL4-AJ11)","v":0.38709677419354838},{"$f":"IF(AK10=0,0,(AK10*((LOG(AK10))/LOG(2))))","v":-0.5300259908383429},null,{"$f":"N10","v":122},{"$f":"COUNTIF(L130:L160,AN10)","v":16},{"$f":"AO10/(AQ4-AO11)","v":0.5161290322580645},{"$f":"IF(AP10=0,0,(AP10*((LOG(AP10))/LOG(2))))","v":-0.49248841826419365},null,{"$f":"N10","v":122},{"$f":"COUNTIF(L161:L191,AS10)","v":14},{"$f":"AT10/(AV4-AT11)","v":0.46666666666666667},{"$f":"IF(AU10=0,0,(AU10*((LOG(AU10))/LOG(2))))","v":-0.51311664765709342}]
[12,544,24,556,24,571,null,null,null,null,0,122,null,211,{"$f":"COUNTIF($L$7:$L$500,N11)","v":0},{"$f":"O11/$Q$4","v":0},{"$f":"IF(P11=0,0,(P11*((LOG(P11))/LOG(2))))","v":0},null,null,{"$f":"N11","v":211},{"$f":"COUNTIF(L7:L37,T11)","v":0},null,null,null,{"$f":"N11","v":211},{"$f":"COUNTIF(L38:L68,Y11)","v":0},null,null,null,{"$f":"N11","v":211},{"$f":"COUNTIF(L69:L98,AD11)","v":0},null,null,null,{"$f":"N11","v":211},{"$f":"COUNTIF(L99:L129,AI11)","v":0},null,null,null,{"$f":"N11","v":211},{"$f":"COUNTIF(L130:L160,AN11)","v":0},null,null,null,{"$f":"N11","v":211},{"$f":"COUNTIF(L161:L191,AS11)","v":0}]
[12,675,24,685,24,694,null,null,null,null,0,122,null,212,{"$f":"COUNTIF($L$7:$L$500,N12)","v":0},{"$f":"O12/$Q$4","v":0},{"$f":"IF(P12=0,0,(P12*((LOG(P12))/LOG(2))))","v":0},null,null,{"$f":"N12","v":212},{"$f":"COUNTIF(L7:L37,T12)","v":0},{"$f":"U12/(W4-U11)","v":0},{"$f":"IF(V12=0,0,(V12*((LOG(V12))/LOG(2))))","v":0},null,{"$f":"N12","v":212},{"$f":"COUNTIF(L38:L68,Y12)","v":0},{"$f":"Z12/(AB4-Z11)","v":0},{"$f":"IF(AA12=0,0,(AA12*((LOG(AA12))/LOG(2))))","v":0},null,{"$f":"N12","v":212},{"$f":"COUNTIF(L69:L98,AD12)","v":0},{"$f":"AE12/(AG4-AE11)","v":0},{"$f":"IF(AF12=0,0,(AF12*((LOG(AF12))/LOG(2))))","v":0},null,{"$f":"N12","v":212},{"$f":"COUNTIF(L99:L129,AI12)","v":0},{"$f":"AJ12/(AL4-AJ11)","v":0},{"$f":"IF(AK12=0,0,(AK12*((LOG(AK12))/LOG(2))))","v":0},null,{"$f":"N12","v":212},{"$f":"COUNTIF(L130:L160,AN12)","v":0},{"$f":"AO12/(AQ4-AO11)","v":0},{"$f":"IF(AP12=0,0,(AP12*((LOG(AP12))/LOG(2))))","v":0},null,{"$f":"N12","v":212},{"$f":"COUNTIF(L161:L191,AS12)","v":0},{"$f":"AT12/(AV4-AT11)","v":0},{"$f":"IF(AU12=0,0,(AU12*((LOG(AU12))/LOG(2))))","v":0}]
[21,797,22,804,24,835,null,null,null,null,0,222,null,221,{"$f":"COUNTIF($L$7:$L$500,N13)","v":0},{"$f":"O13/$Q$4","v":0},{"$f":"IF(P13=0,0,(P13*((LOG(P13))/LOG(2))))","v":0},null,null,{"$f":"N13","v":221},{"$f":"COUNTIF(L7:L37,T13)","v":0},{"$f":"U13/(W4-U11)","v":0},{"$f":"IF(V13=0,0,(V13*((LOG(V13))/LOG(2))))","v":0},null,{"$f":"N13","v":221},{"$f":"COUNTIF(L38:L68,Y13)","v":0},{"$f":"Z13/(AB4-Z11)","v":0},{"$f":"IF(AA13=0,0,(AA13*((LOG(AA13))/LOG(2))))","v":0},null,{"$f":"N13","v":221},{"$f":"COUNTIF(L69:L98,AD13)","v":0},{"$f":"AE13/(AG4-AE11)","v":0},{"$f":"IF(AF13=0,0,(AF13*((LOG(AF13))/LOG(2))))","v":0},null,{"$f":"N13","v":221},{"$f":"COUNTIF(L99:L129,AI13)","v":0},{"$f":"AJ13/(AL4-AJ11)","v":0},{"$f":"IF(AK13=0,0,(AK13*((LOG(AK13))/LOG(2))))","v":0},null,{"$f":"N13","v":221},{"$f":"COUNTIF(L130:L160,AN13)","v":0},{"$f":"AO13/(AQ4-AO11)","v":0},{"$f":"IF(AP13=0,0,(AP13*((LOG(AP13))/LOG(2))))","v":0},null,{"$f":"N13","v":221},{"$f":"COUNTIF(L161:L191,AS13)","v":0},{"$f":"AT13/(AV4-AT11)","v":0},{"$f":"IF(AU13=0,0,(AU13*((LOG(AU13))/LOG(2))))","v":0}]
[21,937,22,943,24,953,null,null,null,null,0,222,null,222,{"$f":"COUNTIF($L$7:$L$500,N14)","v":94},{"$f":"O14/$Q$4","v":0.51086956521739135},{"$f":"IF(P14=0,0,(P14*((LOG(P14))/LOG(2))))","v":-0.49501886854163746},null,null,{"$f":"N14","v":222},{"$f":"COUNTIF(L7:L37,T14)","v":14},{"$f":"U14/(W4-U11)","v":0.45161290322580644},{"$f":"IF(V14=0,0,(V14*((LOG(V14))/LOG(2))))","v":-0.51792836892289662},null,{"$f":"N14","v":222},{"$f":"COUNTIF(L38:L68,Y14)","v":13},{"$f":"Z14/(AB4-Z11)","v":0.41935483870967744},{"$f":"IF(AA14=0,0,(AA14*((LOG(AA14))/LOG(2))))","v":-0.52576889352242517},null,{"$f":"N14","v":222},{"$f":"COUNTIF(L69:L98,AD14)","v":18},{"$f":"AE14/(AG4-AE11)","v":0.6},{"$f":"IF(AF14=0,0,(AF14*((LOG(AF14))/LOG(2))))","v":-0.44217935649972373},null,{"$f":"N14","v":222},{"$f":"COUNTIF(L99:L129,AI14)","v":19},{"$f":"AJ14/(AL4-AJ11)","v":0.61290322580645162},{"$f":"IF(AK14=0,0,(AK14*((LOG(AK14))/LOG(2))))","v":-0.43287442393298403},null,{"$f":"N14","v":222},{"$f":"COUNTIF(L130:L160,AN14)","v":15},{"$f":"AO14/(AQ4-AO11)","v":0.4838709677419355},{"$f":"IF(AP14=0,0,(AP14*((LOG(AP14))/LOG(2))))","v":-0.50676082973146286},null,{"$f":"N14","v":222},{"$f":"COUNTIF(L161:L191,AS14)","v":15},{"$f":"AT14/(AV4-AT11)","v":0.5},{"$f":"IF(AU14=0,0,(AU14*((LOG(AU14))/LOG(2))))","v":-0.5}]
[21,1065,22,1072,24,1110,null,null,null,null,0,222,null,null,null,{"$f":"SUM(P7:P14)","v":1},{"$f":"-SUM(Q7:Q14)","v":1.1027884576945088},null,null,null,null,{"$f":"SUM(V7:V14)","v":1},{"$f":"-SUM(W7:W14)","v":0.99323381973970659},null,null,null,{"$f":"SUM(AA7:AA14)","v":1},{"$f":"-SUM(AB7:AB14)","v":1.2733667511664173},null,null,null,{"$f":"SUM(AF7:AF14)","v":1},{"$f":"-SUM(AG7:AG14)","v":0.97095059445466869},null,null,null,{"$f":"SUM(AK7:AK14)","v":1},{"$f":"-SUM(AL7:AL14)","v":0.96290041477132693},null,null,null,{"$f":"SUM(AP7:AP14)","v":1},{"$f":"-SUM(AQ7:AQ14)","v":0.99924924799565651},null,null,null,{"$f":"SUM(AU7:AU14)","v":1},{"$f":"-SUM(AV7:AV14)","v":1.1766796675107107}]
[12,1210,24,1219,24,1256,null,null,null,null,0,122,null,null,null,"U=",{"$f":"Q15/(LOG(Q4)/LOG(2))","v":0.1465779725262559},null,null,null,null,"U1=",{"$f":"W15/(LOG(W4)/LOG(2))","v":0.20048333927690981},null,null,null,"U2=",{"$f":"AB15/(LOG(AB4)/LOG(2))","v":0.25702791560695737},null,null,null,"U3=",{"$f":"AG15/(LOG(AG4)/LOG(2))","v":0.19787492211944419},null,null,null,"U4=",{"$f":"AL15/(LOG(AL4)/LOG(2))","v":0.19436056919111744},null,null,null,"U5=",{"$f":"AQ15/(LOG(AQ4)/LOG(2))","v":0.20169754797577344},null,null,null,"U6=",{"$f":"AV15/(LOG(AV4)/LOG(2))","v":0.23980148825078645}]
[12,1352,24,1362,24,1368,null,null,null,null,0,122]
[12,1468,24,1483,24,1491,null,null,null,null,0,122]
[21,1589,22,1601,24,1621,null,null,null,null,0,222,null,"Total Target Seq"]
[21,1722,22,1728,24,1738,null,null,null,null,0,222,null,{"$f":"COUNTIF(L7:L191,G3)","v":0},null,31,31,30,31,31,31]
[21,1850,22,1855,24,1862,null,null,null,null,0,222,null,null,null,"% of reinforcement given in 6 equal intervals based on number of trials "]
[21,1970,22,1976,24,1985,null,null,null,null,0,222,null,null,null,"%_1","%_2","%_3","%_4","%_5","%_6"]
[21,2100,22,2109,24,2118,null,null,null,null,0,222,null,null,"target sequence",{"$f":"$G$3","v":211},{"$f":"$G$3","v":211},{"$f":"$G$3","v":211},{"$f":"$G$3","v":211},{"$f":"$G$3","v":211},{"$f":"$G$3","v":211}]
[21,2229,22,2235,24,2245,null,null,null,null,0,222,null,null,"total reinforcement",{"$f":"U11","v":0},{"$f":"Z11","v":0},{"$f":"AE11","v":0},{"$f":"AJ11","v":0},{"$f":"AO11","v":0},{"$f":"AT11","v":0}]
[12,2343,24,2355,24,2361,null,null,null,null,0,122,null,null,"% target"]
[12,2463,24,2473,24,2482,null,null,null,null,0,122,null,null,"CCRF"]
[21,2584,22,2594,24,2604,null,null,null,null,0,222,null,null,"% CCRf"]
[12,2704,24,2717,24,2725,null,null,null,null,0,122,null,null,"average response rate",{"$f":"F37/P20","v":123.83870967741936},{"$f":"(F68-F37)/Q20","v":133.48387096774192},{"$f":"(F98-F68)/R20","v":134.96666666666667},{"$f":"(F129-F98)/S20","v":128.96774193548387},{"$f":"(F160-F129)/T20","v":131.87096774193549},{"$f":"(F191-F160)/U20","v":-648.77419354838707}]
[12,2826,24,2836,24,2850,null,null,null,null,0,122]
[12,2950,24,2960,24,2976,null,null,null,null,0,122]
[21,3077,22,3085,24,3092,null,null,null,null,0,222]
[12,3192,24,3202,24,3210,null,null,null,null,0,122]
[12,3310,24,3325,24,3357,null,null,null,null,0,122]
[12,3460,24,3470,24,3477,null,null,null,null,0,122]
[12,3575,24,3590,24,3596,null,null,null,null,0,122]
[12,3697,24,3706,24,3722,null,null,null,null,0,122]
[12,3822,24,3833,24,3839,null,null,null,null,0,122]
[12,3938,24,3961,24,3966,null,null,null,null,0,122]
[12,4063,13,4071,24,4081,null,null,null,null,0,112]
[12,4182,24,4193,24,4201,null,null,null,null,0,122]
[12,4302,24,4315,24,4342,null,null,null,null,0,122]
[12,4438,13,4451,24,4461,null,null,null,null,0,112]
[12,4559,24,4570,24,4575,null,null,null,null,0,122]
[12,4674,24,4686,24,4693,null,null,null,null,0,122]
[21,4796,22,4802,24,4818,null,null,null,null,0,222]
[12,4918,24,4929,24,4937,null,null,null,null,0,122]
[12,5038,24,5049,24,5056,null,null,null,null,0,122]
[12,5168,24,5178,24,5185,null,null,null,null,0,122]
[21,5290,22,5306,24,5317,null,null,null,null,0,222]
[21,5428,22,5449,24,5464,null,null,null,null,0,222]
[21,5564,22,5574,24,5597,null,null,null,null,0,222]
[21,5698,22,5709,24,5730,null,null,null,null,0,222]
[12,5830,24,5839,24,5851,null,null,null,null,0,122]
[12,5949,24,5959,24,5964,null,null,null,null,0,122]
[12,6064,24,6109,24,6144,null,null,null,null,0,122]
[21,6257,22,6262,24,6277,null,null,null,null,0,222]
[12,6376,24,6387,24,6433,null,null,null,null,0,122]
[21,6540,22,6568,24,6589,null,null,null,null,0,222]
[21,6701,22,6743,24,6752,null,null,null,null,0,222]
[12,6860,24,6870,24,6875,null,null,null,null,0,122]
[21,6971,22,7036,24,7046,null,null,null,null,0,222]
[21,7144,22,7150,24,7155,null,null,null,null,0,222]
[12,7256,24,7270,24,7335,null,null,null,null,0,122]
[12,7438,24,7448,24,7454,null,null,null,null,0,122]
[21,7555,22,7563,24,7598,null,null,null,null,0,222]
[21,7711,22,7725,24,7738,null,null,null,null,0,222]
[21,7838,22,7847,24,7858,null,null,null,null,0,222]
[12,7959,24,7972,24,7977,null,null,null,null,0,122]
[12,8081,24,8091,24,8097,null,null,null,null,0,122]
[21,8285,22,8303,24,8331,null,null,null,null,0,222]
[21,8434,22,8442,24,8455,null,null,null,null,0,222]
[12,8555,24,8567,24,8579,null,null,null,null,0,122]
[21,8680,22,8687,24,8695,null,null,null,null,0,222]
[21,8830,22,8863,24,8896,null,null,null,null,0,222]
[21,8998,22,9018,24,9040,null,null,null,null,0,222]
[21,9141,22,9145,24,9150,null,null,null,null,0,222]
[21,9252,22,9261,24,9269,null,null,null,null,0,222]
[21,9401,22,9455,24,9463,null,null,null,null,0,222]
[21,9559,22,9564,24,9570,null,null,null,null,0,222]
[12,9671,24,9680,24,9685,null,null,null,null,0,122]
[21,9786,22,9805,24,9845,null,null,null,null,0,222]
[12,9941,24,9959,24,9975,null,null,null,null,0,122]
[12,10075,24,10084,24,10089,null,null,null,null,0,122]
[12,10189,24,10205,24,10215,null,null,null,null,0,122]
[12,10313,24,10327,24,10332,null,null,null,null,0,122]
[21,10451,22,10460,24,10469,null,null,null,null,0,222]
[21,10581,22,10600,24,10615,null,null,null,null,0,222]
[21,10718,22,10727,24,10747,null,null,null,null,0,222]
[12,10848,24,10857,24,10862,null,null,null,null,0,122]
[12,10970,24,10979,24,11018,null,null,null,null,0,122]
[21,11119,22,11131,24,11142,null,null,null,null,0,222]
[12,11241,24,11250,24,11254,null,null,null,null,0,122]
[21,11359,22,11364,24,11396,null,null,null,null,0,222]
[12,11498,24,11510,24,11516,null,null,null,null,0,122]
[21,11613,22,11629,24,11645,null,null,null,null,0,222]
[12,11749,24,11762,24,11770,null,null,null,null,0,122]
[21,11870,22,11875,24,11887,null,null,null,null,0,222]
[21,11994,22,11999,24,12026,null,null,null,null,0,222]
[21,12132,22,12139,24,12151,null,null,null,null,0,222]
[21,12250,22,12254,24,12266,null,null,null,null,0,222]
[21,12366,22,12384,24,12392,null,null,null,null,0,222]
[21,12497,22,12515,24,12528,null,null,null,null,0,222]
[12,12627,24,12637,24,12642,null,null,null,null,0,122]
[21,12740,22,12763,24,12771,null,null,null,null,0,222]
[12,12873,24,12886,24,12947,null,null,null,null,0,122]
[21,13046,22,13058,24,13067,null,null,null,null,0,222]
[21,13178,22,13184,24,13202,null,null,null,null,0,222]
[12,13299,24,13309,24,13316,null,null,null,null,0,122]
[21,13420,22,13426,24,13434,null,null,null,null,0,222]
[21,13536,22,13541,24,13562,null,null,null,null,0,222]
[21,13658,22,13663,24,13673,null,null,null,null,0,222]
[12,13768,24,13777,24,13792,null,null,null,null,0,122]
[12,13893,24,13907,24,13919,null,null,null,null,0,122]
[21,14036,22,14043,24,14050,null,null,null,null,0,222]
[21,14162,22,14169,24,14177,null,null,null,null,0,222]
[12,14277,24,14286,24,14292,null,null,null,null,0,122]
[21,14397,22,14423,24,14461,null,null,null,null,0,222]
[12,14563,24,14588,24,14597,null,null,null,null,0,122]
[12,14694,24,14708,24,14714,null,null,null,null,0,122]
[21,14811,22,14816,24,14834,null,null,null,null,0,222]
[12,14934,24,14943,24,14948,null,null,null,null,0,122]
[21,15054,22,15083,24,15099,null,null,null,null,0,222]
[21,15208,22,15214,24,15225,null,null,null,null,0,222]
[21,15342,22,15350,24,15369,null,null,null,null,0,222]
[12,15474,24,15488,24,15497,null,null,null,null,0,122]
[12,15602,24,15619,24,15640,null,null,null,null,0,122]
[21,15749,22,15754,24,15762,null,null,null,null,0,222]
[12,15860,24,15874,24,15879,null,null,null,null,0,122]
[21,15992,22,15997,24,16024,null,null,null,null,0,222]
[21,16127,22,16132,24,16140,null,null,null,null,0,222]
[21,16249,22,16263,24,16277,null,null,null,null,0,222]
[12,16375,24,16387,24,16392,null,null,null,null,0,122]
[12,16491,24,16502,24,16512,null,null,null,null,0,122]
[12,16613,24,16633,24,16638,null,null,null,null,0,122]
[21,16738,22,16750,24,16759,null,null,null,null,0,222]
[21,16869,22,16882,24,16888,null,null,null,null,0,222]
[12,16990,24,17001,24,17014,null,null,null,null,0,122]
[12,17118,24,17131,24,17155,null,null,null,null,0,122]
[21,17253,22,17258,24,17263,null,null,null,null,0,222]
[12,17360,24,17372,24,17378,null,null,null,null,0,122]
[12,17482,24,17524,24,17546,null,null,null,null,0,122]
[12,17646,24,17699,24,17714,null,null,null,null,0,122]
[21,17815,22,17821,24,17830,null,null,null,null,0,222]
[21,17932,22,17940,24,17948,null,null,null,null,0,222]
[12,18046,24,18059,24,18064,null,null,null,null,0,122]
[12,18166,24,18179,24,18185,null,null,null,null,0,122]
[12,18285,24,18297,24,18303,null,null,null,null,0,122]
[21,18405,22,18512,24,18528,null,null,null,null,0,222]
[12,18630,24,18647,24,18661,null,null,null,null,0,122]
[12,18762,24,18772,24,18777,null,null,null,null,0,122]
[12,18882,24,18895,24,18949,null,null,null,null,0,122]
[21,19049,22,19057,24,19088,null,null,null,null,0,222]
[21,19196,22,19209,24,19217,null,null,null,null,0,222]
[21,19327,22,19335,24,19344,null,null,null,null,0,222]
[21,19443,22,19447,24,19453,null,null,null,null,0,222]
[12,19550,24,19559,24,19565,null,null,null,null,0,122]
[21,19667,22,19694,24,19733,null,null,null,null,0,222]
[21,19848,22,19855,24,19869,null,null,null,null,0,222]
[12,19974,24,19986,24,19991,null,null,null,null,0,122]
[21,20090,22,20103,24,20112,null,null,null,null,0,222]
[12,20220,24,20232,24,20237,null,null,null,null,0,122]
[12,20335,24,20344,24,20349,null,null,null,null,0,122]
[12,20448,24,20465,24,20472,null,null,null,null,0,122]
[12,20589,24,20603,24,20610,null,null,null,null,0,122]
[21,20718,22,20735,24,20753,null,null,null,null,0,222]
[21,20856,22,20860,24,20868,null,null,null,null,0,222]
[12,20968,24,20978,24,20983,null,null,null,null,0,122]
[12,21081,24,21093,24,21098,null,null,null,null,0,122]
[21,21201,22,21214,24,21239,null,null,null,null,0,222]
[21,21339,22,21346,24,21355,null,null,null,null,0,222]
[12,21455,24,21467,24,21476,null,null,null,null,0,122]
[21,21571,22,21576,24,21586,null,null,null,null,0,222]
[12,21688,24,21699,24,21707,null,null,null,null,0,122]
[12,21810,24,21826,24,21841,null,null,null,null,0,122]
[21,21947,22,21957,24,21980,null,null,null,null,0,222]
[21,22075,22,22080,24,22085,null,null,null,null,0,222]
[12,22183,24,22196,24,22205,null,null,null,null,0,122]
[12,22305,24,22317,24,22329,null,null,null,null,0,122]
[21,22445,22,22456,24,22479,null,null,null,null,0,222]
[12,22579,24,22595,24,22602,null,null,null,null,0,122]
[12,22702,24,22715,24,22721,null,null,null,null,0,122]
[21,22836,22,22877,24,22895,null,null,null,null,0,222]
[21,22998,22,23003,24,23016,null,null,null,null,0,222]
[21,23115,22,23120,24,23125,null,null,null,null,0,222]
[21,23229,22,23234,24,23262,null,null,null,null,0,222]
[12,23361,13,23371,24,23379,null,null,null,null,0,112]
[21,23478,22,23482,24,23487,null,null,null,null,0,222]
[21,23599,22,23608,24,23648,null,null,null,null,0,222]
[12,23748,24,23758,24,23763,null,null,null,null,0,122]
[21,23864,22,23869,24,23878,null,null,null,null,0,222]
[21,23980,22,23993,null,null,null,null,null,null,null,22]

{"sheet":"!M930840.091","index":12,"n_rows":188,"n_cols":48,"rows_kept":188,"cut":false,"hidden":false,"merged":[[4,39,4,42],[5,39,5,40],[4,44,4,47],[5,44,5,45],[4,24,4,27],[5,24,5,25],[4,29,4,32],[5,29,5,30],[4,34,4,37],[5,34,5,35],[1,1,1,2],[5,13,5,14],[18,13,18,14],[19,13,19,14],[4,19,4,22],[5,19,5,20]]}
["Report for:!M930840.091"]
["Date:","<date>"]
["Hen:","<hen>",null,null,null,"Correct Sequence",{"$f":"Start!J2","v":211},null,null,null,null,null,null,null,null,"Total Sequences in Data",{"$f":"4994-COUNTBLANK(L7:L5000)","v":182},null,null,null,null,"Total Sequences in Block Data",{"$f":"COUNTA(L7:L36)","v":30},null,null,null,"Total Sequences in Block Data",{"$f":"COUNTA(L37:L67)","v":31},null,null,null,"Total Sequences in Block Data",{"$f":"COUNTA(L68:L97)","v":30},null,null,null,"Total Sequences in Block Data",{"$f":"COUNTA(L98:L127)","v":30},null,null,null,"Total Sequences in Block Data",{"$f":"COUNTA(L128:L158)","v":31},null,null,null,"Total Sequences in Block Data",{"$f":"COUNTA(L159:L188)","v":30}]
[null,null,null,null,null,null,null,null,null,null,null,null,null,null,null,"Total Sequences in Summary",{"$f":"SUM(O7:O14)","v":182},null,null,null,null,"Total Sequences in Block Summary",{"$f":"SUM(U7:U14)","v":30},null,null,null,"Total Sequences in Block Summary",{"$f":"SUM(Z7:Z14)","v":31},null,null,null,"Total Sequences in Block Summary",{"$f":"SUM(AE7:AE14)","v":30},null,null,null,"Total Sequences in Block Summary",{"$f":"SUM(AJ7:AJ14)","v":30},null,null,null,"Total Sequences in Block Summary",{"$f":"SUM(AO7:AO14)","v":31},null,null,null,"Total Sequences in Block Summary",{"$f":"SUM(AT7:AT14)","v":30}]
[null,null,null,null,null,null,null,null,null,null,null,null,null,null,null,null,null,null,null,"Block 1",null,null,null,null,"Block 2",null,null,null,null,"Block 3",null,null,null,null,"Block 4",null,null,null,null,"Block 5",null,null,null,null,"Block 6"]
["Sequence\nComponent\n1","Time\n1","Sequence\nComponent\n2","Time\n2","Sequence\nComponent\n3","Time\n3","Sequence\nComponent\n4","Time\n4","Sequence\nComponent\n5","Time\n5","Correct?\n0=No 1=Yes","Sequence",null,"Frequency",null,"Relative Frequency","Variability",null,null,"Frequency",null,"Relative Frequency","Variability",null,"Frequency",null,"Relative Frequency","Variability",null,"Frequency",null,"Relative Frequency","Variability",null,"Frequency",null,"Relative Frequency","Variability",null,"Frequency",null,"Relative Frequency","Variability",null,"Frequency",null,"Relative Frequency","Variability"]
[21,27,22,41,24,50,null,null,null,null,0,222,null,111,{"$f":"COUNTIF($L$7:$L$500,N7)","v":1},{"$f":"O7/$Q$4","v":5.4945054945054949E-3},{"$f":"IF(P7=0,0,(P7*((LOG(P7))/LOG(2))))","v":-4.1251618902190638E-2},null,null,{"$f":"N7","v":111},{"$f":"COUNTIF(L7:L36,T7)","v":0},{"$f":"U7/(W4-U11)","v":0},{"$f":"IF(V7=0,0,(V7*((LOG(V7))/LOG(2))))","v":0},null,{"$f":"N7","v":111},{"$f":"COUNTIF(L37:L67,Y7)","v":0},{"$f":"Z7/(AB4-Z11)","v":0},{"$f":"IF(AA7=0,0,(AA7*((LOG(AA7))/LOG(2))))","v":0},null,{"$f":"N7","v":111},{"$f":"COUNTIF(L68:L97,AD7)","v":0},{"$f":"AE7/(AG4-AE11)","v":0},{"$f":"IF(AF7=0,0,(AF7*((LOG(AF7))/LOG(2))))","v":0},null,{"$f":"N7","v":111},{"$f":"COUNTIF(L98:L127,AI7)","v":0},{"$f":"AJ7/(AL4-AJ11)","v":0},{"$f":"IF(AK7=0,0,(AK7*((LOG(AK7))/LOG(2))))","v":0},null,{"$f":"N7","v":111},{"$f":"COUNTIF(L128:L158,AN7)","v":0},{"$f":"AO7/(AQ4-AO11)","v":0},{"$f":"IF(AP7=0,0,(AP7*((LOG(AP7))/LOG(2))))","v":0},null,{"$f":"N7","v":111},{"$f":"COUNTIF(L159:L188,AS7)","v":1},{"$f":"AT7/(AV4-AT11)","v":3.3333333333333333E-2},{"$f":"IF(AU7=0,0,(AU7*((LOG(AU7))/LOG(2))))","v":-0.16356301985361729}]
[12,152,24,165,24,175,null,null,null,null,0,122,null,112,{"$f":"COUNTIF($L$7:$L$500,N8)","v":4},{"$f":"O8/$Q$4","v":2.197802197802198E-2},{"$f":"IF(P8=0,0,(P8*((LOG(P8))/LOG(2))))","v":-0.12105043165271862},null,null,{"$f":"N8","v":112},{"$f":"COUNTIF(L7:L36,T8)","v":2},{"$f":"U8/(W4-U11)","v":6.6666666666666666E-2},{"$f":"IF(V8=0,0,(V8*((LOG(V8))/LOG(2))))","v":-0.26045937304056793},null,{"$f":"N8","v":112},{"$f":"COUNTIF(L37:L67,Y8)","v":1},{"$f":"Z8/(AB4-Z11)","v":3.2258064516129031E-2},{"$f":"IF(AA8=0,0,(AA8*((LOG(AA8))/LOG(2))))","v":-0.15981278420602821},null,{"$f":"N8","v":112},{"$f":"COUNTIF(L68:L97,AD8)","v":0},{"$f":"AE8/(AG4-AE11)","v":0},{"$f":"IF(AF8=0,0,(AF8*((LOG(AF8))/LOG(2))))","v":0},null,{"$f":"N8","v":112},{"$f":"COUNTIF(L98:L127,AI8)","v":0},{"$f":"AJ8/(AL4-AJ11)","v":0},{"$f":"IF(AK8=0,0,(AK8*((LOG(AK8))/LOG(2))))","v":0},null,{"$f":"N8","v":112},{"$f":"COUNTIF(L128:L158,AN8)","v":0},{"$f":"AO8/(AQ4-AO11)","v":0},{"$f":"IF(AP8=0,0,(AP8*((LOG(AP8))/LOG(2))))","v":0},null,{"$f":"N8","v":112},{"$f":"COUNTIF(L159:L188,AS8)","v":1},{"$f":"AT8/(AV4-AT11)","v":3.3333333333333333E-2},{"$f":"IF(AU8=0,0,(AU8*((LOG(AU8))/LOG(2))))","v":-0.16356301985361729}]
[21,279,22,299,24,343,null,null,null,null,0,222,null,121,{"$f":"COUNTIF($L$7:$L$500,N9)","v":0},{"$f":"O9/$Q$4","v":0},{"$f":"IF(P9=0,0,(P9*((LOG(P9))/LOG(2))))","v":0},null,null,{"$f":"N9","v":121},{"$f":"COUNTIF(L7:L36,T9)","v":0},{"$f":"U9/(W4-U11)","v":0},{"$f":"IF(V9=0,0,(V9*((LOG(V9))/LOG(2))))","v":0},null,{"$f":"N9","v":121},{"$f":"COUNTIF(L37:L67,Y9)","v":0},{"$f":"Z9/(AB4-Z11)","v":0},{"$f":"IF(AA9=0,0,(AA9*((LOG(AA9))/LOG(2))))","v":0},null,{"$f":"N9","v":121},{"$f":"COUNTIF(L68:L97,AD9)","v":0},{"$f":"AE9/(AG4-AE11)","v":0},{"$f":"IF(AF9=0,0,(AF9*((LOG(AF9))/LOG(2))))","v":0},null,{"$f":"N9","v":121},{"$f":"COUNTIF(L98:L127,AI9)","v":0},{"$f":"AJ9/(AL4-AJ11)","v":0},{"$f":"IF(AK9=0,0,(AK9*((LOG(AK9))/LOG(2))))","v":0},null,{"$f":"N9","v":121},{"$f":"COUNTIF(L128:L158,AN9)","v":0},{"$f":"AO9/(AQ4-AO11)","v":0},{"$f":"IF(AP9=0,0,(AP9*((LOG(AP9))/LOG(2))))","v":0},null,{"$f":"N9","v":121},{"$f":"COUNTIF(L159:L188,AS9)","v":0},{"$f":"AT9/(AV4-AT11)","v":0},{"$f":"IF(AU9=0,0,(AU9*((LOG(AU9))/LOG(2))))","v":0}]
[21,463,22,483,24,493,null,null,null,null,0,222,null,122,{"$f":"COUNTIF($L$7:$L$500,N10)","v":73},{"$f":"O10/$Q$4","v":0.40109890109890112},{"$f":"IF(P10=0,0,(P10*((LOG(P10))/LOG(2))))","v":-0.52863635129815145},null,null,{"$f":"N10","v":122},{"$f":"COUNTIF(L7:L36,T10)","v":10},{"$f":"U10/(W4-U11)","v":0.33333333333333331},{"$f":"IF(V10=0,0,(V10*((LOG(V10))/LOG(2))))","v":-0.52832083357371862},null,{"$f":"N10","v":122},{"$f":"COUNTIF(L37:L67,Y10)","v":9},{"$f":"Z10/(AB4-Z11)","v":0.29032258064516131},{"$f":"IF(AA10=0,0,(AA10*((LOG(AA10))/LOG(2))))","v":-0.5180142509839053},null,{"$f":"N10","v":122},{"$f":"COUNTIF(L68:L97,AD10)","v":9},{"$f":"AE10/(AG4-AE11)","v":0.3},{"$f":"IF(AF10=0,0,(AF10*((LOG(AF10))/LOG(2))))","v":-0.52108967824986185},null,{"$f":"N10","v":122},{"$f":"COUNTIF(L98:L127,AI10)","v":13},{"$f":"AJ10/(AL4-AJ11)","v":0.43333333333333335},{"$f":"IF(AK10=0,0,(AK10*((LOG(AK10))/LOG(2))))","v":-0.52279538023588479},null,{"$f":"N10","v":122},{"$f":"COUNTIF(L128:L158,AN10)","v":15},{"$f":"AO10/(AQ4-AO11)","v":0.4838709677419355},{"$f":"IF(AP10=0,0,(AP10*((LOG(AP10))/LOG(2))))","v":-0.50676082973146286},null,{"$f":"N10","v":122},{"$f":"COUNTIF(L159:L188,AS10)","v":17},{"$f":"AT10/(AV4-AT11)","v":0.56666666666666665},{"$f":"IF(AU10=0,0,(AU10*((LOG(AU10))/LOG(2))))","v":-0.46434239413630152}]
[21,600,22,618,24,627,null,null,null,null,0,222,null,211,{"$f":"COUNTIF($L$7:$L$500,N11)","v":0},{"$f":"O11/$Q$4","v":0},{"$f":"IF(P11=0,0,(P11*((LOG(P11))/LOG(2))))","v":0},null,null,{"$f":"N11","v":211},{"$f":"COUNTIF(L7:L36,T11)","v":0},null,null,null,{"$f":"N11","v":211},{"$f":"COUNTIF(L37:L67,Y11)","v":0},null,null,null,{"$f":"N11","v":211},{"$f":"COUNTIF(L68:L97,AD11)","v":0},null,null,null,{"$f":"N11","v":211},{"$f":"COUNTIF(L98:L127,AI11)","v":0},null,null,null,{"$f":"N11","v":211},{"$f":"COUNTIF(L128:L158,AN11)","v":0},null,null,null,{"$f":"N11","v":211},{"$f":"COUNTIF(L159:L188,AS11)","v":0}]
[21,740,22,747,24,758,null,null,null,null,0,222,null,212,{"$f":"COUNTIF($L$7:$L$500,N12)","v":0},{"$f":"O12/$Q$4","v":0},{"$f":"IF(P12=0,0,(P12*((LOG(P12))/LOG(2))))","v":0},null,null,{"$f":"N12","v":212},{"$f":"COUNTIF(L7:L36,T12)","v":0},{"$f":"U12/(W4-U11)","v":0},{"$f":"IF(V12=0,0,(V12*((LOG(V12))/LOG(2))))","v":0},null,{"$f":"N12","v":212},{"$f":"COUNTIF(L37:L67,Y12)","v":0},{"$f":"Z12/(AB4-Z11)","v":0},{"$f":"IF(AA12=0,0,(AA12*((LOG(AA12))/LOG(2))))","v":0},null,{"$f":"N12","v":212},{"$f":"COUNTIF(L68:L97,AD12)","v":0},{"$f":"AE12/(AG4-AE11)","v":0},{"$f":"IF(AF12=0,0,(AF12*((LOG(AF12))/LOG(2))))","v":0},null,{"$f":"N12","v":212},{"$f":"COUNTIF(L98:L127,AI12)","v":0},{"$f":"AJ12/(AL4-AJ11)","v":0},{"$f":"IF(AK12=0,0,(AK12*((LOG(AK12))/LOG(2))))","v":0},null,{"$f":"N12","v":212},{"$f":"COUNTIF(L128:L158,AN12)","v":0},{"$f":"AO12/(AQ4-AO11)","v":0},{"$f":"IF(AP12=0,0,(AP12*((LOG(AP12))/LOG(2))))","v":0},null,{"$f":"N12","v":212},{"$f":"COUNTIF(L159:L188,AS12)","v":0},{"$f":"AT12/(AV4-AT11)","v":0},{"$f":"IF(AU12=0,0,(AU12*((LOG(AU12))/LOG(2))))","v":0}]
[12,860,13,873,24,885,null,null,null,null,0,112,null,221,{"$f":"COUNTIF($L$7:$L$500,N13)","v":0},{"$f":"O13/$Q$4","v":0},{"$f":"IF(P13=0,0,(P13*((LOG(P13))/LOG(2))))","v":0},null,null,{"$f":"N13","v":221},{"$f":"COUNTIF(L7:L36,T13)","v":0},{"$f":"U13/(W4-U11)","v":0},{"$f":"IF(V13=0,0,(V13*((LOG(V13))/LOG(2))))","v":0},null,{"$f":"N13","v":221},{"$f":"COUNTIF(L37:L67,Y13)","v":0},{"$f":"Z13/(AB4-Z11)","v":0},{"$f":"IF(AA13=0,0,(AA13*((LOG(AA13))/LOG(2))))","v":0},null,{"$f":"N13","v":221},{"$f":"COUNTIF(L68:L97,AD13)","v":0},{"$f":"AE13/(AG4-AE11)","v":0},{"$f":"IF(AF13=0,0,(AF13*((LOG(AF13))/LOG(2))))","v":0},null,{"$f":"N13","v":221},{"$f":"COUNTIF(L98:L127,AI13)","v":0},{"$f":"AJ13/(AL4-AJ11)","v":0},{"$f":"IF(AK13=0,0,(AK13*((LOG(AK13))/LOG(2))))","v":0},null,{"$f":"N13","v":221},{"$f":"COUNTIF(L128:L158,AN13)","v":0},{"$f":"AO13/(AQ4-AO11)","v":0},{"$f":"IF(AP13=0,0,(AP13*((LOG(AP13))/LOG(2))))","v":0},null,{"$f":"N13","v":221},{"$f":"COUNTIF(L159:L188,AS13)","v":0},{"$f":"AT13/(AV4-AT11)","v":0},{"$f":"IF(AU13=0,0,(AU13*((LOG(AU13))/LOG(2))))","v":0}]
[12,983,24,992,24,1010,null,null,null,null,0,122,null,222,{"$f":"COUNTIF($L$7:$L$500,N14)","v":104},{"$f":"O14/$Q$4","v":0.5714285714285714},{"$f":"IF(P14=0,0,(P14*((LOG(P14))/LOG(2))))","v":-0.46134566974720237},null,null,{"$f":"N14","v":222},{"$f":"COUNTIF(L7:L36,T14)","v":18},{"$f":"U14/(W4-U11)","v":0.6},{"$f":"IF(V14=0,0,(V14*((LOG(V14))/LOG(2))))","v":-0.44217935649972373},null,{"$f":"N14","v":222},{"$f":"COUNTIF(L37:L67,Y14)","v":21},{"$f":"Z14/(AB4-Z11)","v":0.67741935483870963},{"$f":"IF(AA14=0,0,(AA14*((LOG(AA14))/LOG(2))))","v":-0.38062763354098111},null,{"$f":"N14","v":222},{"$f":"COUNTIF(L68:L97,AD14)","v":21},{"$f":"AE14/(AG4-AE11)","v":0.7},{"$f":"IF(AF14=0,0,(AF14*((LOG(AF14))/LOG(2))))","v":-0.36020122098083079},null,{"$f":"N14","v":222},{"$f":"COUNTIF(L98:L127,AI14)","v":17},{"$f":"AJ14/(AL4-AJ11)","v":0.56666666666666665},{"$f":"IF(AK14=0,0,(AK14*((LOG(AK14))/LOG(2))))","v":-0.46434239413630152},null,{"$f":"N14","v":222},{"$f":"COUNTIF(L128:L158,AN14)","v":16},{"$f":"AO14/(AQ4-AO11)","v":0.5161290322580645},{"$f":"IF(AP14=0,0,(AP14*((LOG(AP14))/LOG(2))))","v":-0.49248841826419365},null,{"$f":"N14","v":222},{"$f":"COUNTIF(L159:L188,AS14)","v":11},{"$f":"AT14/(AV4-AT11)","v":0.36666666666666664},{"$f":"IF(AU14=0,0,(AU14*((LOG(AU14))/LOG(2))))","v":-0.53073495822278116}]
[21,1116,22,1140,24,1149,null,null,null,null,0,222,null,null,null,{"$f":"SUM(P7:P14)","v":1},{"$f":"-SUM(Q7:Q14)","v":1.1522840716002629},null,null,null,null,{"$f":"SUM(V7:V14)","v":1},{"$f":"-SUM(W7:W14)","v":1.2309595631140104},null,null,null,{"$f":"SUM(AA7:AA14)","v":1},{"$f":"-SUM(AB7:AB14)","v":1.0584546687309146},null,null,null,{"$f":"SUM(AF7:AF14)","v":1},{"$f":"-SUM(AG7:AG14)","v":0.8812908992306927},null,null,null,{"$f":"SUM(AK7:AK14)","v":1},{"$f":"-SUM(AL7:AL14)","v":0.98713777437218631},null,null,null,{"$f":"SUM(AP7:AP14)","v":1},{"$f":"-SUM(AQ7:AQ14)","v":0.99924924799565651},null,null,null,{"$f":"SUM(AU7:AU14)","v":1},{"$f":"-SUM(AV7:AV14)","v":1.3222033920663172}]
[12,1249,24,1277,24,1288,null,null,null,null,0,122,null,null,null,"U=",{"$f":"Q15/(LOG(Q4)/LOG(2))","v":0.15347836839204854},null,null,null,null,"U1=",{"$f":"W15/(LOG(W4)/LOG(2))","v":0.25086346213132865},null,null,null,"U2=",{"$f":"AB15/(LOG(AB4)/LOG(2))","v":0.21364810807189422},null,null,null,"U3=",{"$f":"AG15/(LOG(AG4)/LOG(2))","v":0.17960272030915356},null,null,null,"U4=",{"$f":"AL15/(LOG(AL4)/LOG(2))","v":0.20117378921299717},null,null,null,"U5=",{"$f":"AQ15/(LOG(AQ4)/LOG(2))","v":0.20169754797577344},null,null,null,"U6=",{"$f":"AV15/(LOG(AV4)/LOG(2))","v":0.26945850254938214}]
[21,1401,22,1407,24,1426,null,null,null,null,0,222]
[21,1534,22,1544,24,1555,null,null,null,null,0,222]
[12,1655,24,1665,24,1687,null,null,null,null,0,122,null,"Total Target Seq"]
[12,1786,24,1796,24,1805,null,null,null,null,0,122,null,{"$f":"COUNTIF(L7:L188,G3)","v":0},null,30,31,30,30,31,30]
[21,1943,22,1990,24,2021,null,null,null,null,0,222,null,null,null,"% of reinforcement given in 6 equal intervals based on number of trials "]
[21,2135,22,2142,24,2152,null,null,null,null,0,222,null,null,null,"%_1","%_2","%_3","%_4","%_5","%_6"]
[12,2254,24,2267,24,2277,null,null,null,null,0,122,null,null,"target sequence",{"$f":"$G$3","v":211},{"$f":"$G$3","v":211},{"$f":"$G$3","v":211},{"$f":"$G$3","v":211},{"$f":"$G$3","v":211},{"$f":"$G$3","v":211}]
[12,2378,13,2394,24,2405,null,null,null,null,0,112,null,null,"total reinforcement",{"$f":"U11","v":0},{"$f":"Z11","v":0},{"$f":"AE11","v":0},{"$f":"AJ11","v":0},{"$f":"AO11","v":0},{"$f":"AT11","v":0}]
[21,2508,22,2513,24,2523,null,null,null,null,0,222,null,null,"% target"]
[21,2626,22,2633,24,2642,null,null,null,null,0,222,null,null,"CCRF"]
[21,2759,22,2765,24,2774,null,null,null,null,0,222,null,null,"% CCRf"]
[21,2877,22,2895,24,2903,null,null,null,null,0,222,null,null,"average response rate",{"$f":"F36/P20","v":133.19999999999999},{"$f":"(F67-F36)/Q20","v":128.64516129032259},{"$f":"(F97-F67)/R20","v":126.06666666666666},{"$f":"(F127-F97)/S20","v":130.73333333333332},{"$f":"(F158-F127)/T20","v":137.7741935483871},{"$f":"(F188-F158)/U20","v":134.46666666666667}]
[12,3010,24,3020,24,3026,null,null,null,null,0,122]
[21,3133,22,3192,24,3201,null,null,null,null,0,222]
[21,3301,22,3311,24,3320,null,null,null,null,0,222]
[21,3442,22,3460,24,3481,null,null,null,null,0,222]
[21,3589,22,3610,24,3620,null,null,null,null,0,222]
[12,3720,24,3734,24,3742,null,null,null,null,0,122]
[12,3841,24,3856,24,3880,null,null,null,null,0,122]
[12,3978,24,3991,24,3996,null,null,null,null,0,122]
[12,4102,24,4118,24,4136,null,null,null,null,0,122]
[12,4237,24,4249,24,4256,null,null,null,null,0,122]
[21,4357,22,4369,24,4411,null,null,null,null,0,222]
[21,4512,22,4517,24,4525,null,null,null,null,0,222]
[12,4626,24,4638,24,4649,null,null,null,null,0,122]
[21,4750,22,4760,24,4768,null,null,null,null,0,222]
[12,4869,24,4882,24,4889,null,null,null,null,0,122]
[21,4991,22,4996,24,5040,null,null,null,null,0,222]
[12,5138,24,5148,24,5154,null,null,null,null,0,122]
[21,5259,22,5284,24,5292,null,null,null,null,0,222]
[21,5393,22,5403,24,5414,null,null,null,null,0,222]
[12,5516,24,5526,24,5535,null,null,null,null,0,122]
[21,5642,22,5654,24,5665,null,null,null,null,0,222]
[12,5764,24,5775,24,5785,null,null,null,null,0,122]
[21,5889,22,5894,24,5914,null,null,null,null,0,222]
[21,6017,22,6022,24,6038,null,null,null,null,0,222]
[21,6147,22,6172,24,6188,null,null,null,null,0,222]
[12,6294,24,6306,24,6317,null,null,null,null,0,122]
[12,6410,13,6417,24,6427,null,null,null,null,0,112]
[21,6527,22,6533,24,6540,null,null,null,null,0,222]
[21,6646,22,6652,24,6679,null,null,null,null,0,222]
[21,6781,22,6786,24,6796,null,null,null,null,0,222]
[21,6898,22,6903,24,6928,null,null,null,null,0,222]
[21,7047,22,7069,24,7078,null,null,null,null,0,222]
[21,7174,22,7192,24,7200,null,null,null,null,0,222]
[12,7300,24,7313,24,7318,null,null,null,null,0,122]
[21,7420,22,7425,24,7431,null,null,null,null,0,222]
[21,7534,22,7538,24,7546,null,null,null,null,0,222]
[21,7658,22,7665,24,7693,null,null,null,null,0,222]
[21,7787,22,7793,24,7797,null,null,null,null,0,222]
[21,7927,22,7968,24,7984,null,null,null,null,0,222]
[12,8084,24,8098,24,8105,null,null,null,null,0,122]
[21,8204,22,8213,24,8222,null,null,null,null,0,222]
[21,8315,22,8325,24,8332,null,null,null,null,0,222]
[12,8434,24,8443,24,8448,null,null,null,null,0,122]
[12,8547,24,8557,24,8562,null,null,null,null,0,122]
[21,8664,22,8668,24,8673,null,null,null,null,0,222]
[21,8776,22,8787,24,8829,null,null,null,null,0,222]
[21,8930,22,8950,24,8959,null,null,null,null,0,222]
[21,9060,22,9065,24,9076,null,null,null,null,0,222]
[21,9179,22,9183,24,9212,null,null,null,null,0,222]
[12,9311,24,9324,24,9330,null,null,null,null,0,122]
[21,9428,22,9432,24,9441,null,null,null,null,0,222]
[21,9542,22,9554,24,9567,null,null,null,null,0,222]
[21,9670,22,9678,24,9704,null,null,null,null,0,222]
[21,9806,22,9814,24,9822,null,null,null,null,0,222]
[21,9926,22,9931,24,9948,null,null,null,null,0,222]
[21,10054,22,10059,24,10093,null,null,null,null,0,222]
[21,10199,22,10204,24,10227,null,null,null,null,0,222]
[12,10320,24,10333,24,10341,null,null,null,null,0,122]
[21,10447,22,10456,24,10480,null,null,null,null,0,222]
[21,10588,22,10614,24,10623,null,null,null,null,0,222]
[12,10722,24,10735,24,10743,null,null,null,null,0,122]
[21,10847,22,10854,24,10879,null,null,null,null,0,222]
[21,10984,22,10989,24,11001,null,null,null,null,0,222]
[12,11101,24,11115,24,11120,null,null,null,null,0,122]
[12,11219,24,11235,24,11248,null,null,null,null,0,122]
[21,11343,22,11348,24,11364,null,null,null,null,0,222]
[21,11473,22,11505,24,11532,null,null,null,null,0,222]
[21,11631,22,11636,24,11641,null,null,null,null,0,222]
[12,11740,24,11758,24,11766,null,null,null,null,0,122]
[21,11873,22,11878,24,11885,null,null,null,null,0,222]
[12,11984,24,11998,24,12003,null,null,null,null,0,122]
[12,12104,24,12119,24,12128,null,null,null,null,0,122]
[12,12227,24,12245,24,12253,null,null,null,null,0,122]
[21,12354,22,12386,24,12413,null,null,null,null,0,222]
[12,12512,24,12526,24,12531,null,null,null,null,0,122]
[12,12628,24,12644,24,12653,null,null,null,null,0,122]
[12,12751,24,12764,24,12773,null,null,null,null,0,122]
[12,12872,24,12889,24,12904,null,null,null,null,0,122]
[21,13010,22,13045,24,13079,null,null,null,null,0,222]
[21,13185,22,13190,24,13195,null,null,null,null,0,222]
[21,13344,22,13353,24,13370,null,null,null,null,0,222]
[12,13472,24,13485,24,13489,null,null,null,null,0,122]
[12,13589,24,13603,24,13615,null,null,null,null,0,122]
[21,13710,22,13714,24,13751,null,null,null,null,0,222]
[21,13848,22,13854,24,13862,null,null,null,null,0,222]
[21,13964,22,13974,24,13991,null,null,null,null,0,222]
[21,14092,22,14097,24,14104,null,null,null,null,0,222]
[21,14207,22,14214,24,14219,null,null,null,null,0,222]
[21,14320,22,14329,24,14364,null,null,null,null,0,222]
[21,14461,22,14494,24,14523,null,null,null,null,0,222]
[21,14627,22,14633,24,14639,null,null,null,null,0,222]
[12,14741,24,14758,24,14805,null,null,null,null,0,122]
[21,14908,22,14913,24,14921,null,null,null,null,0,222]
[12,15028,24,15043,24,15048,null,null,null,null,0,122]
[21,15152,22,15157,24,15167,null,null,null,null,0,222]
[21,15275,22,15286,24,15294,null,null,null,null,0,222]
[12,15396,24,15410,24,15417,null,null,null,null,0,122]
[21,15527,22,15560,24,15568,null,null,null,null,0,222]
[12,15668,24,15682,24,15688,null,null,null,null,0,122]
[12,15787,24,15803,24,15809,null,null,null,null,0,122]
[21,15907,22,15912,24,15934,null,null,null,null,0,222]
[21,16043,22,16049,24,16075,null,null,null,null,0,222]
[21,16197,22,16230,24,16307,null,null,null,null,0,222]
[12,16411,24,16427,24,16433,null,null,null,null,0,122]
[21,16541,22,16566,24,16592,null,null,null,null,0,222]
[21,16690,22,16700,24,16709,null,null,null,null,0,222]
[12,16814,24,16833,24,16857,null,null,null,null,0,122]
[12,16957,24,16971,24,16983,null,null,null,null,0,122]
[21,17087,22,17094,24,17113,null,null,null,null,0,222]
[12,17212,24,17225,24,17240,null,null,null,null,0,122]
[21,17343,22,17348,24,17357,null,null,null,null,0,222]
[21,17479,22,17488,24,17496,null,null,null,null,0,222]
[12,17598,24,17613,24,17619,null,null,null,null,0,122]
[12,17718,24,17735,24,17740,null,null,null,null,0,122]
[21,17843,22,17896,24,17916,null,null,null,null,0,222]
[12,18014,24,18030,24,18043,null,null,null,null,0,122]
[12,18144,24,18163,24,18171,null,null,null,null,0,122]
[21,18282,22,18305,24,18316,null,null,null,null,0,222]
[12,18410,24,18420,24,18425,null,null,null,null,0,122]
[12,18527,24,18539,24,18543,null,null,null,null,0,122]
[21,18642,22,18647,24,18676,null,null,null,null,0,222]
[21,18776,22,18781,24,18788,null,null,null,null,0,222]
[21,18891,22,18897,24,18916,null,null,null,null,0,222]
[12,19018,24,19035,24,19042,null,null,null,null,0,122]
[21,19155,22,19159,24,19179,null,null,null,null,0,222]
[12,19278,24,19297,24,19349,null,null,null,null,0,122]
[12,19450,24,19465,24,19469,null,null,null,null,0,122]
[21,19571,22,19578,24,19588,null,null,null,null,0,222]
[12,19693,24,19763,24,19820,null,null,null,null,0,122]
[21,19923,22,19937,24,19959,null,null,null,null,0,222]
[12,20060,24,20075,24,20159,null,null,null,null,0,122]
[21,20271,22,20280,24,20313,null,null,null,null,0,222]
[12,20411,24,20423,24,20428,null,null,null,null,0,122]
[12,20540,24,20551,24,20585,null,null,null,null,0,122]
[12,20698,13,20706,13,20716,null,null,null,null,0,111]
[12,20821,24,20832,24,20836,null,null,null,null,0,122]
[12,20935,24,20950,24,20955,null,null,null,null,0,122]
[21,21064,22,21070,24,21079,null,null,null,null,0,222]
[12,21177,24,21188,24,21193,null,null,null,null,0,122]
[21,21305,22,21312,24,21331,null,null,null,null,0,222]
[21,21438,22,21461,24,21469,null,null,null,null,0,222]
[21,21581,22,21587,24,21618,null,null,null,null,0,222]
[21,21715,22,21719,24,21725,null,null,null,null,0,222]
[21,21827,22,21841,24,21846,null,null,null,null,0,222]
[12,21946,24,21964,24,21995,null,null,null,null,0,122]
[12,22093,24,22112,24,22119,null,null,null,null,0,122]
[12,22223,24,22259,24,22279,null,null,null,null,0,122]
[21,22389,22,22395,24,22402,null,null,null,null,0,222]
[12,22500,24,22513,24,22518,null,null,null,null,0,122]
[12,22616,24,22637,24,22652,null,null,null,null,0,122]
[21,22762,22,22772,24,22781,null,null,null,null,0,222]
[12,22881,24,22893,24,22906,null,null,null,null,0,122]
[12,23008,24,23018,24,23023,null,null,null,null,0,122]
[12,23126,24,23136,24,23141,null,null,null,null,0,122]
[12,23246,13,23254,24,23268,null,null,null,null,0,112]
[21,23367,22,23371,24,23399,null,null,null,null,0,222]
[12,23501,24,23517,24,23611,null,null,null,null,0,122]
[12,23711,24,23723,24,23730,null,null,null,null,0,122]
[12,23828,24,23846,24,23859,null,null,null,null,0,122]
[21,23974,22,23982,24,23993,null,null,null,null,null,222]

{"sheet":"!MA01700.091","index":13,"n_rows":200,"n_cols":48,"rows_kept":200,"cut":false,"hidden":false,"merged":[[4,39,4,42],[5,39,5,40],[4,44,4,47],[5,44,5,45],[4,24,4,27],[5,24,5,25],[4,29,4,32],[5,29,5,30],[4,34,4,37],[5,34,5,35],[1,1,1,2],[5,13,5,14],[18,13,18,14],[19,13,19,14],[4,19,4,22],[5,19,5,20]]}
["Report for:!MA01700.091"]
["Date:","<date>"]
["Hen:","<hen>",null,null,null,"Correct Sequence",{"$f":"Start!J2","v":211},null,null,null,null,null,null,null,null,"Total Sequences in Data",{"$f":"4994-COUNTBLANK(L7:L5000)","v":194},null,null,null,null,"Total Sequences in Block Data",{"$f":"COUNTA(L7:L38)","v":32},null,null,null,"Total Sequences in Block Data",{"$f":"COUNTA(L39:L71)","v":33},null,null,null,"Total Sequences in Block Data",{"$f":"COUNTA(L72:L103)","v":32},null,null,null,"Total Sequences in Block Data",{"$f":"COUNTA(L104:L135)","v":32},null,null,null,"Total Sequences in Block Data",{"$f":"COUNTA(L136:L168)","v":33},null,null,null,"Total Sequences in Block Data",{"$f":"COUNTA(L169:L200)","v":32}]
[null,null,null,null,null,null,null,null,null,null,null,null,null,null,null,"Total Sequences in Summary",{"$f":"SUM(O7:O14)","v":194},null,null,null,null,"Total Sequences in Block Summary",{"$f":"SUM(U7:U14)","v":32},null,null,null,"Total Sequences in Block Summary",{"$f":"SUM(Z7:Z14)","v":33},null,null,null,"Total Sequences in Block Summary",{"$f":"SUM(AE7:AE14)","v":32},null,null,null,"Total Sequences in Block Summary",{"$f":"SUM(AJ7:AJ14)","v":32},null,null,null,"Total Sequences in Block Summary",{"$f":"SUM(AO7:AO14)","v":33},null,null,null,"Total Sequences in Block Summary",{"$f":"SUM(AT7:AT14)","v":32}]
[null,null,null,null,null,null,null,null,null,null,null,null,null,null,null,null,null,null,null,"Block 1",null,null,null,null,"Block 2",null,null,null,null,"Block 3",null,null,null,null,"Block 4",null,null,null,null,"Block 5",null,null,null,null,"Block 6"]
["Sequence\nComponent\n1","Time\n1","Sequence\nComponent\n2","Time\n2","Sequence\nComponent\n3","Time\n3","Sequence\nComponent\n4","Time\n4","Sequence\nComponent\n5","Time\n5","Correct?\n0=No 1=Yes","Sequence",null,"Frequency",null,"Relative Frequency","Variability",null,null,"Frequency",null,"Relative Frequency","Variability",null,"Frequency",null,"Relative Frequency","Variability",null,"Frequency",null,"Relative Frequency","Variability",null,"Frequency",null,"Relative Frequency","Variability",null,"Frequency",null,"Relative Frequency","Variability",null,"Frequency",null,"Relative Frequency","Variability"]
[21,61,22,74,24,81,null,null,null,null,0,222,null,111,{"$f":"COUNTIF($L$7:$L$500,N7)","v":0},{"$f":"O7/$Q$4","v":0},{"$f":"IF(P7=0,0,(P7*((LOG(P7))/LOG(2))))","v":0},null,null,{"$f":"N7","v":111},{"$f":"COUNTIF(L7:L38,T7)","v":0},{"$f":"U7/(W4-U11)","v":0},{"$f":"IF(V7=0,0,(V7*((LOG(V7))/LOG(2))))","v":0},null,{"$f":"N7","v":111},{"$f":"COUNTIF(L39:L71,Y7)","v":0},{"$f":"Z7/(AB4-Z11)","v":0},{"$f":"IF(AA7=0,0,(AA7*((LOG(AA7))/LOG(2))))","v":0},null,{"$f":"N7","v":111},{"$f":"COUNTIF(L72:L103,AD7)","v":0},{"$f":"AE7/(AG4-AE11)","v":0},{"$f":"IF(AF7=0,0,(AF7*((LOG(AF7))/LOG(2))))","v":0},null,{"$f":"N7","v":111},{"$f":"COUNTIF(L104:L135,AI7)","v":0},{"$f":"AJ7/(AL4-AJ11)","v":0},{"$f":"IF(AK7=0,0,(AK7*((LOG(AK7))/LOG(2))))","v":0},null,{"$f":"N7","v":111},{"$f":"COUNTIF(L136:L168,AN7)","v":0},{"$f":"AO7/(AQ4-AO11)","v":0},{"$f":"IF(AP7=0,0,(AP7*((LOG(AP7))/LOG(2))))","v":0},null,{"$f":"N7","v":111},{"$f":"COUNTIF(L169:L200,AS7)","v":0},{"$f":"AT7/(AV4-AT11)","v":0},{"$f":"IF(AU7=0,0,(AU7*((LOG(AU7))/LOG(2))))","v":0}]
[21,189,22,198,24,229,null,null,null,null,0,222,null,112,{"$f":"COUNTIF($L$7:$L$500,N8)","v":2},{"$f":"O8/$Q$4","v":1.0309278350515464E-2},{"$f":"IF(P8=0,0,(P8*((LOG(P8))/LOG(2))))","v":-6.8040338579248724E-2},null,null,{"$f":"N8","v":112},{"$f":"COUNTIF(L7:L38,T8)","v":1},{"$f":"U8/(W4-U11)","v":3.125E-2},{"$f":"IF(V8=0,0,(V8*((LOG(V8))/LOG(2))))","v":-0.15625},null,{"$f":"N8","v":112},{"$f":"COUNTIF(L39:L71,Y8)","v":0},{"$f":"Z8/(AB4-Z11)","v":0},{"$f":"IF(AA8=0,0,(AA8*((LOG(AA8))/LOG(2))))","v":0},null,{"$f":"N8","v":112},{"$f":"COUNTIF(L72:L103,AD8)","v":0},{"$f":"AE8/(AG4-AE11)","v":0},{"$f":"IF(AF8=0,0,(AF8*((LOG(AF8))/LOG(2))))","v":0},null,{"$f":"N8","v":112},{"$f":"COUNTIF(L104:L135,AI8)","v":0},{"$f":"AJ8/(AL4-AJ11)","v":0},{"$f":"IF(AK8=0,0,(AK8*((LOG(AK8))/LOG(2))))","v":0},null,{"$f":"N8","v":112},{"$f":"COUNTIF(L136:L168,AN8)","v":1},{"$f":"AO8/(AQ4-AO11)","v":3.0303030303030304E-2},{"$f":"IF(AP8=0,0,(AP8*((LOG(AP8))/LOG(2))))","v":-0.15286042785934709},null,{"$f":"N8","v":112},{"$f":"COUNTIF(L169:L200,AS8)","v":0},{"$f":"AT8/(AV4-AT11)","v":0},{"$f":"IF(AU8=0,0,(AU8*((LOG(AU8))/LOG(2))))","v":0}]
[12,334,24,349,24,354,null,null,null,null,0,122,null,121,{"$f":"COUNTIF($L$7:$L$500,N9)","v":0},{"$f":"O9/$Q$4","v":0},{"$f":"IF(P9=0,0,(P9*((LOG(P9))/LOG(2))))","v":0},null,null,{"$f":"N9","v":121},{"$f":"COUNTIF(L7:L38,T9)","v":0},{"$f":"U9/(W4-U11)","v":0},{"$f":"IF(V9=0,0,(V9*((LOG(V9))/LOG(2))))","v":0},null,{"$f":"N9","v":121},{"$f":"COUNTIF(L39:L71,Y9)","v":0},{"$f":"Z9/(AB4-Z11)","v":0},{"$f":"IF(AA9=0,0,(AA9*((LOG(AA9))/LOG(2))))","v":0},null,{"$f":"N9","v":121},{"$f":"COUNTIF(L72:L103,AD9)","v":0},{"$f":"AE9/(AG4-AE11)","v":0},{"$f":"IF(AF9=0,0,(AF9*((LOG(AF9))/LOG(2))))","v":0},null,{"$f":"N9","v":121},{"$f":"COUNTIF(L104:L135,AI9)","v":0},{"$f":"AJ9/(AL4-AJ11)","v":0},{"$f":"IF(AK9=0,0,(AK9*((LOG(AK9))/LOG(2))))","v":0},null,{"$f":"N9","v":121},{"$f":"COUNTIF(L136:L168,AN9)","v":0},{"$f":"AO9/(AQ4-AO11)","v":0},{"$f":"IF(AP9=0,0,(AP9*((LOG(AP9))/LOG(2))))","v":0},null,{"$f":"N9","v":121},{"$f":"COUNTIF(L169:L200,AS9)","v":0},{"$f":"AT9/(AV4-AT11)","v":0},{"$f":"IF(AU9=0,0,(AU9*((LOG(AU9))/LOG(2))))","v":0}]
[12,453,24,463,24,469,null,null,null,null,0,122,null,122,{"$f":"COUNTIF($L$7:$L$500,N10)","v":72},{"$f":"O10/$Q$4","v":0.37113402061855671},{"$f":"IF(P10=0,0,(P10*((LOG(P10))/LOG(2))))","v":-0.53071713677127164},null,null,{"$f":"N10","v":122},{"$f":"COUNTIF(L7:L38,T10)","v":12},{"$f":"U10/(W4-U11)","v":0.375},{"$f":"IF(V10=0,0,(V10*((LOG(V10))/LOG(2))))","v":-0.53063906222956647},null,{"$f":"N10","v":122},{"$f":"COUNTIF(L39:L71,Y10)","v":8},{"$f":"Z10/(AB4-Z11)","v":0.24242424242424243},{"$f":"IF(AA10=0,0,(AA10*((LOG(AA10))/LOG(2))))","v":-0.49561069560204934},null,{"$f":"N10","v":122},{"$f":"COUNTIF(L72:L103,AD10)","v":12},{"$f":"AE10/(AG4-AE11)","v":0.375},{"$f":"IF(AF10=0,0,(AF10*((LOG(AF10))/LOG(2))))","v":-0.53063906222956647},null,{"$f":"N10","v":122},{"$f":"COUNTIF(L104:L135,AI10)","v":12},{"$f":"AJ10/(AL4-AJ11)","v":0.375},{"$f":"IF(AK10=0,0,(AK10*((LOG(AK10))/LOG(2))))","v":-0.53063906222956647},null,{"$f":"N10","v":122},{"$f":"COUNTIF(L136:L168,AN10)","v":14},{"$f":"AO10/(AQ4-AO11)","v":0.42424242424242425},{"$f":"IF(AP10=0,0,(AP10*((LOG(AP10))/LOG(2))))","v":-0.52480450794581479},null,{"$f":"N10","v":122},{"$f":"COUNTIF(L169:L200,AS10)","v":14},{"$f":"AT10/(AV4-AT11)","v":0.4375},{"$f":"IF(AU10=0,0,(AU10*((LOG(AU10))/LOG(2))))","v":-0.52178222159979815}]
[12,571,24,580,24,587,null,null,null,null,0,122,null,211,{"$f":"COUNTIF($L$7:$L$500,N11)","v":0},{"$f":"O11/$Q$4","v":0},{"$f":"IF(P11=0,0,(P11*((LOG(P11))/LOG(2))))","v":0},null,null,{"$f":"N11","v":211},{"$f":"COUNTIF(L7:L38,T11)","v":0},null,null,null,{"$f":"N11","v":211},{"$f":"COUNTIF(L39:L71,Y11)","v":0},null,null,null,{"$f":"N11","v":211},{"$f":"COUNTIF(L72:L103,AD11)","v":0},null,null,null,{"$f":"N11","v":211},{"$f":"COUNTIF(L104:L135,AI11)","v":0},null,null,null,{"$f":"N11","v":211},{"$f":"COUNTIF(L136:L168,AN11)","v":0},null,null,null,{"$f":"N11","v":211},{"$f":"COUNTIF(L169:L200,AS11)","v":0}]
[21,690,22,697,24,708,null,null,null,null,0,222,null,212,{"$f":"COUNTIF($L$7:$L$500,N12)","v":0},{"$f":"O12/$Q$4","v":0},{"$f":"IF(P12=0,0,(P12*((LOG(P12))/LOG(2))))","v":0},null,null,{"$f":"N12","v":212},{"$f":"COUNTIF(L7:L38,T12)","v":0},{"$f":"U12/(W4-U11)","v":0},{"$f":"IF(V12=0,0,(V12*((LOG(V12))/LOG(2))))","v":0},null,{"$f":"N12","v":212},{"$f":"COUNTIF(L39:L71,Y12)","v":0},{"$f":"Z12/(AB4-Z11)","v":0},{"$f":"IF(AA12=0,0,(AA12*((LOG(AA12))/LOG(2))))","v":0},null,{"$f":"N12","v":212},{"$f":"COUNTIF(L72:L103,AD12)","v":0},{"$f":"AE12/(AG4-AE11)","v":0},{"$f":"IF(AF12=0,0,(AF12*((LOG(AF12))/LOG(2))))","v":0},null,{"$f":"N12","v":212},{"$f":"COUNTIF(L104:L135,AI12)","v":0},{"$f":"AJ12/(AL4-AJ11)","v":0},{"$f":"IF(AK12=0,0,(AK12*((LOG(AK12))/LOG(2))))","v":0},null,{"$f":"N12","v":212},{"$f":"COUNTIF(L136:L168,AN12)","v":0},{"$f":"AO12/(AQ4-AO11)","v":0},{"$f":"IF(AP12=0,0,(AP12*((LOG(AP12))/LOG(2))))","v":0},null,{"$f":"N12","v":212},{"$f":"COUNTIF(L169:L200,AS12)","v":0},{"$f":"AT12/(AV4-AT11)","v":0},{"$f":"IF(AU12=0,0,(AU12*((LOG(AU12))/LOG(2))))","v":0}]
[12,810,13,826,24,843,null,null,null,null,0,112,null,221,{"$f":"COUNTIF($L$7:$L$500,N13)","v":0},{"$f":"O13/$Q$4","v":0},{"$f":"IF(P13=0,0,(P13*((LOG(P13))/LOG(2))))","v":0},null,null,{"$f":"N13","v":221},{"$f":"COUNTIF(L7:L38,T13)","v":0},{"$f":"U13/(W4-U11)","v":0},{"$f":"IF(V13=0,0,(V13*((LOG(V13))/LOG(2))))","v":0},null,{"$f":"N13","v":221},{"$f":"COUNTIF(L39:L71,Y13)","v":0},{"$f":"Z13/(AB4-Z11)","v":0},{"$f":"IF(AA13=0,0,(AA13*((LOG(AA13))/LOG(2))))","v":0},null,{"$f":"N13","v":221},{"$f":"COUNTIF(L72:L103,AD13)","v":0},{"$f":"AE13/(AG4-AE11)","v":0},{"$f":"IF(AF13=0,0,(AF13*((LOG(AF13))/LOG(2))))","v":0},null,{"$f":"N13","v":221},{"$f":"COUNTIF(L104:L135,AI13)","v":0},{"$f":"AJ13/(AL4-AJ11)","v":0},{"$f":"IF(AK13=0,0,(AK13*((LOG(AK13))/LOG(2))))","v":0},null,{"$f":"N13","v":221},{"$f":"COUNTIF(L136:L168,AN13)","v":0},{"$f":"AO13/(AQ4-AO11)","v":0},{"$f":"IF(AP13=0,0,(AP13*((LOG(AP13))/LOG(2))))","v":0},null,{"$f":"N13","v":221},{"$f":"COUNTIF(L169:L200,AS13)","v":0},{"$f":"AT13/(AV4-AT11)","v":0},{"$f":"IF(AU13=0,0,(AU13*((LOG(AU13))/LOG(2))))","v":0}]
[12,942,24,963,24,973,null,null,null,null,0,122,null,222,{"$f":"COUNTIF($L$7:$L$500,N14)","v":120},{"$f":"O14/$Q$4","v":0.61855670103092786},{"$f":"IF(P14=0,0,(P14*((LOG(P14))/LOG(2))))","v":-0.42867355458470668},null,null,{"$f":"N14","v":222},{"$f":"COUNTIF(L7:L38,T14)","v":19},{"$f":"U14/(W4-U11)","v":0.59375},{"$f":"IF(V14=0,0,(V14*((LOG(V14))/LOG(2))))","v":-0.44654303889287106},null,{"$f":"N14","v":222},{"$f":"COUNTIF(L39:L71,Y14)","v":25},{"$f":"Z14/(AB4-Z11)","v":0.75757575757575757},{"$f":"IF(AA14=0,0,(AA14*((LOG(AA14))/LOG(2))))","v":-0.30343782544221876},null,{"$f":"N14","v":222},{"$f":"COUNTIF(L72:L103,AD14)","v":20},{"$f":"AE14/(AG4-AE11)","v":0.625},{"$f":"IF(AF14=0,0,(AF14*((LOG(AF14))/LOG(2))))","v":-0.42379494069539858},null,{"$f":"N14","v":222},{"$f":"COUNTIF(L104:L135,AI14)","v":20},{"$f":"AJ14/(AL4-AJ11)","v":0.625},{"$f":"IF(AK14=0,0,(AK14*((LOG(AK14))/LOG(2))))","v":-0.42379494069539858},null,{"$f":"N14","v":222},{"$f":"COUNTIF(L136:L168,AN14)","v":18},{"$f":"AO14/(AQ4-AO11)","v":0.54545454545454541},{"$f":"IF(AP14=0,0,(AP14*((LOG(AP14))/LOG(2))))","v":-0.47698315522698609},null,{"$f":"N14","v":222},{"$f":"COUNTIF(L169:L200,AS14)","v":18},{"$f":"AT14/(AV4-AT11)","v":0.5625},{"$f":"IF(AU14=0,0,(AU14*((LOG(AU14))/LOG(2))))","v":-0.4669171866886993}]
[12,1074,24,1085,24,1092,null,null,null,null,0,122,null,null,null,{"$f":"SUM(P7:P14)","v":1},{"$f":"-SUM(Q7:Q14)","v":1.0274310299352272},null,null,null,null,{"$f":"SUM(V7:V14)","v":1},{"$f":"-SUM(W7:W14)","v":1.1334321011224375},null,null,null,{"$f":"SUM(AA7:AA14)","v":1},{"$f":"-SUM(AB7:AB14)","v":0.79904852104426816},null,null,null,{"$f":"SUM(AF7:AF14)","v":1},{"$f":"-SUM(AG7:AG14)","v":0.95443400292496505},null,null,null,{"$f":"SUM(AK7:AK14)","v":1},{"$f":"-SUM(AL7:AL14)","v":0.95443400292496505},null,null,null,{"$f":"SUM(AP7:AP14)","v":1},{"$f":"-SUM(AQ7:AQ14)","v":1.1546480910321479},null,null,null,{"$f":"SUM(AU7:AU14)","v":1},{"$f":"-SUM(AV7:AV14)","v":0.98869940828849745}]
[21,1189,22,1197,24,1205,null,null,null,null,0,222,null,null,null,"U=",{"$f":"Q15/(LOG(Q4)/LOG(2))","v":0.13518984378767557},null,null,null,null,"U1=",{"$f":"W15/(LOG(W4)/LOG(2))","v":0.22668642022448751},null,null,null,"U2=",{"$f":"AB15/(LOG(AB4)/LOG(2))","v":0.15840326947845448},null,null,null,"U3=",{"$f":"AG15/(LOG(AG4)/LOG(2))","v":0.19088680058499302},null,null,null,"U4=",{"$f":"AL15/(LOG(AL4)/LOG(2))","v":0.19088680058499302},null,null,null,"U5=",{"$f":"AQ15/(LOG(AQ4)/LOG(2))","v":0.22889727957636194},null,null,null,"U6=",{"$f":"AV15/(LOG(AV4)/LOG(2))","v":0.19773988165769948}]
[21,1308,22,1316,24,1327,null,null,null,null,0,222]
[21,1430,22,1435,24,1443,null,null,null,null,0,222]
[21,1548,22,1553,24,1568,null,null,null,null,0,222,null,"Total Target Seq"]
[21,1674,22,1683,24,1692,null,null,null,null,0,222,null,{"$f":"COUNTIF(L7:L200,G3)","v":0},null,32,33,32,32,33,32]
[21,1799,22,1808,24,1817,null,null,null,null,0,222,null,null,null,"% of reinforcement given in 6 equal intervals based on number of trials "]
[21,1917,22,1922,24,1932,null,null,null,null,0,222,null,null,null,"%_1","%_2","%_3","%_4","%_5","%_6"]
[21,2044,22,2050,24,2059,null,null,null,null,0,222,null,null,"target sequence",{"$f":"$G$3","v":211},{"$f":"$G$3","v":211},{"$f":"$G$3","v":211},{"$f":"$G$3","v":211},{"$f":"$G$3","v":211},{"$f":"$G$3","v":211}]
[12,2161,24,2171,24,2176,null,null,null,null,0,122,null,null,"total reinforcement",{"$f":"U11","v":0},{"$f":"Z11","v":0},{"$f":"AE11","v":0},{"$f":"AJ11","v":0},{"$f":"AO11","v":0},{"$f":"AT11","v":0}]
[12,2278,24,2289,24,2299,null,null,null,null,0,122,null,null,"% target"]
[12,2400,24,2409,24,2414,null,null,null,null,0,122,null,null,"CCRF"]
[12,2522,24,2532,24,2548,null,null,null,null,0,122,null,null,"% CCRf"]
[21,2650,22,2655,24,2663,null,null,null,null,0,222,null,null,"average response rate",{"$f":"F38/P20","v":122.15625},{"$f":"(F71-F38)/Q20","v":126.33333333333333},{"$f":"(F103-F71)/R20","v":122.625},{"$f":"(F135-F103)/S20","v":122.15625},{"$f":"(F168-F135)/T20","v":123.36363636363636},{"$f":"(F200-F168)/U20","v":125.28125}]
[21,2764,22,2780,24,2789,null,null,null,null,0,222]
[21,2896,22,2902,24,2911,null,null,null,null,0,222]
[12,3007,24,3027,24,3035,null,null,null,null,0,122]
[21,3147,22,3169,24,3177,null,null,null,null,0,222]
[21,3288,22,3293,24,3309,null,null,null,null,0,222]
[21,3412,22,3422,24,3430,null,null,null,null,0,222]
[12,3531,24,3542,24,3548,null,null,null,null,0,122]
[12,3649,24,3667,24,3675,null,null,null,null,0,122]
[21,3779,22,3784,24,3790,null,null,null,null,0,222]
[21,3893,22,3900,24,3909,null,null,null,null,0,222]
[21,4012,22,4017,24,4026,null,null,null,null,0,222]
[21,4128,22,4133,24,4164,null,null,null,null,0,222]
[21,4263,22,4268,24,4273,null,null,null,null,0,222]
[12,4378,24,4389,24,4395,null,null,null,null,0,122]
[21,4497,22,4503,24,4513,null,null,null,null,0,222]
[21,4623,22,4629,24,4637,null,null,null,null,0,222]
[12,4738,24,4755,24,4764,null,null,null,null,0,122]
[21,4868,22,4878,24,4891,null,null,null,null,0,222]
[21,4984,22,5005,24,5013,null,null,null,null,0,222]
[12,5116,24,5142,24,5151,null,null,null,null,0,122]
[12,5250,24,5260,24,5266,null,null,null,null,0,122]
[21,5365,22,5386,24,5394,null,null,null,null,0,222]
[21,5527,22,5578,24,5592,null,null,null,null,0,222]
[21,5696,22,5706,24,5724,null,null,null,null,0,222]
[21,5824,22,5829,24,5848,null,null,null,null,0,222]
[21,5960,22,5970,24,5978,null,null,null,null,0,222]
[12,6078,24,6090,24,6098,null,null,null,null,0,122]
[21,6197,22,6205,24,6217,null,null,null,null,0,222]
[21,6317,22,6321,24,6329,null,null,null,null,0,222]
[21,6430,22,6439,24,6454,null,null,null,null,0,222]
[21,6570,22,6581,24,6607,null,null,null,null,0,222]
[21,6716,22,6721,24,6729,null,null,null,null,0,222]
[21,6844,22,6852,24,6866,null,null,null,null,0,222]
[21,6964,22,6969,24,6976,null,null,null,null,0,222]
[12,7075,24,7089,24,7102,null,null,null,null,0,122]
[21,7205,22,7210,24,7215,null,null,null,null,0,222]
[12,7319,24,7329,24,7348,null,null,null,null,0,122]
[12,7444,24,7453,24,7484,null,null,null,null,0,122]
[21,7584,22,7588,24,7594,null,null,null,null,0,222]
[21,7695,22,7704,24,7725,null,null,null,null,0,222]
[21,7825,22,7831,24,7848,null,null,null,null,0,222]
[21,7949,22,7954,24,7959,null,null,null,null,0,222]
[21,8061,22,8072,24,8078,null,null,null,null,0,222]
[21,8192,22,8198,24,8206,null,null,null,null,0,222]
[12,8306,24,8319,24,8325,null,null,null,null,0,122]
[21,8425,22,8430,24,8445,null,null,null,null,0,222]
[21,8546,22,8551,24,8560,null,null,null,null,0,222]
[12,8663,24,8677,24,8683,null,null,null,null,0,122]
[21,8785,22,8790,24,8795,null,null,null,null,0,222]
[21,8891,22,8896,24,8904,null,null,null,null,0,222]
[21,9008,22,9016,24,9022,null,null,null,null,0,222]
[21,9125,22,9131,24,9159,null,null,null,null,0,222]
[21,9253,22,9260,24,9267,null,null,null,null,0,222]
[12,9367,24,9379,24,9385,null,null,null,null,0,122]
[21,9486,22,9491,24,9500,null,null,null,null,0,222]
[12,9599,24,9612,24,9621,null,null,null,null,0,122]
[12,9720,24,9731,24,9736,null,null,null,null,0,122]
[12,9834,24,9851,24,9863,null,null,null,null,0,122]
[21,9970,22,10012,24,10020,null,null,null,null,0,222]
[21,10135,22,10143,24,10164,null,null,null,null,0,222]
[12,10265,24,10282,24,10291,null,null,null,null,0,122]
[12,10392,24,10405,24,10411,null,null,null,null,0,122]
[21,10514,22,10519,24,10526,null,null,null,null,0,222]
[12,10623,24,10635,24,10643,null,null,null,null,0,122]
[21,10747,22,10755,24,10762,null,null,null,null,0,222]
[21,10864,22,10903,24,10915,null,null,null,null,0,222]
[12,11013,24,11024,24,11058,null,null,null,null,0,122]
[21,11157,22,11161,24,11166,null,null,null,null,0,222]
[21,11275,22,11280,24,11288,null,null,null,null,0,222]
[21,11392,22,11397,24,11410,null,null,null,null,0,222]
[12,11508,24,11522,24,11532,null,null,null,null,0,122]
[21,11627,22,11632,24,11653,null,null,null,null,0,222]
[12,11749,24,11757,24,11762,null,null,null,null,0,122]
[21,11862,22,11871,24,11879,null,null,null,null,0,222]
[21,11985,22,11995,24,12002,null,null,null,null,0,222]
[21,12108,22,12113,24,12118,null,null,null,null,0,222]
[21,12220,22,12224,24,12235,null,null,null,null,0,222]
[21,12341,22,12362,24,12378,null,null,null,null,0,222]
[12,12477,24,12491,24,12496,null,null,null,null,0,122]
[12,12595,24,12605,24,12610,null,null,null,null,0,122]
[12,12709,24,12725,24,12732,null,null,null,null,0,122]
[21,12838,22,12843,24,12851,null,null,null,null,0,222]
[21,12944,22,12948,24,12958,null,null,null,null,0,222]
[21,13062,22,13067,24,13083,null,null,null,null,0,222]
[21,13191,22,13196,24,13204,null,null,null,null,0,222]
[12,13302,24,13312,24,13317,null,null,null,null,0,122]
[21,13416,22,13422,24,13432,null,null,null,null,0,222]
[12,13531,24,13544,24,13549,null,null,null,null,0,122]
[12,13648,24,13661,24,13677,null,null,null,null,0,122]
[12,13778,24,13793,24,13826,null,null,null,null,0,122]
[21,13928,22,13937,24,13948,null,null,null,null,0,222]
[21,14048,22,14053,24,14061,null,null,null,null,0,222]
[21,14159,22,14164,24,14168,null,null,null,null,0,222]
[12,14269,24,14281,24,14286,null,null,null,null,0,122]
[12,14387,24,14404,24,14411,null,null,null,null,0,122]
[21,14519,22,14527,24,14538,null,null,null,null,0,222]
[21,14634,22,14638,24,14661,null,null,null,null,0,222]
[21,14771,22,14779,24,14786,null,null,null,null,0,222]
[21,14892,22,14897,24,14905,null,null,null,null,0,222]
[12,15005,24,15026,24,15034,null,null,null,null,0,122]
[21,15144,22,15149,24,15156,null,null,null,null,0,222]
[21,15259,22,15285,24,15292,null,null,null,null,0,222]
[21,15394,22,15399,24,15416,null,null,null,null,0,222]
[12,15518,24,15530,24,15536,null,null,null,null,0,122]
[21,15640,22,15646,24,15657,null,null,null,null,0,222]
[12,15756,24,15791,24,15800,null,null,null,null,0,122]
[21,15902,22,15906,24,15911,null,null,null,null,0,222]
[21,16016,22,16036,24,16072,null,null,null,null,0,222]
[21,16169,22,16173,24,16178,null,null,null,null,0,222]
[12,16277,24,16290,24,16294,null,null,null,null,0,122]
[12,16395,24,16411,24,16419,null,null,null,null,0,122]
[12,16521,24,16531,24,16544,null,null,null,null,0,122]
[21,16646,22,16650,24,16660,null,null,null,null,0,222]
[12,16760,24,16774,24,16781,null,null,null,null,0,122]
[12,16881,24,16898,24,16908,null,null,null,null,0,122]
[21,17007,22,17012,24,17017,null,null,null,null,0,222]
[21,17111,22,17119,24,17133,null,null,null,null,0,222]
[21,17235,22,17240,24,17251,null,null,null,null,0,222]
[12,17350,24,17362,24,17367,null,null,null,null,0,122]
[12,17466,24,17484,24,17492,null,null,null,null,0,122]
[12,17593,24,17605,24,17623,null,null,null,null,0,122]
[12,17721,24,17736,24,17742,null,null,null,null,0,122]
[21,17848,22,17852,24,17857,null,null,null,null,0,222]
[21,17960,22,17964,24,17969,null,null,null,null,0,222]
[21,18069,22,18074,24,18082,null,null,null,null,0,222]
[12,18182,13,18195,24,18214,null,null,null,null,0,112]
[12,18320,24,18334,24,18339,null,null,null,null,0,122]
[21,18446,22,18453,24,18460,null,null,null,null,0,222]
[12,18560,24,18569,24,18574,null,null,null,null,0,122]
[21,18673,22,18678,24,18684,null,null,null,null,0,222]
[21,18786,22,18793,24,18805,null,null,null,null,0,222]
[21,18915,22,18926,24,18939,null,null,null,null,0,222]
[21,19044,22,19050,24,19058,null,null,null,null,0,222]
[21,19167,22,19188,24,19201,null,null,null,null,0,222]
[12,19304,24,19316,24,19337,null,null,null,null,0,122]
[21,19448,22,19481,24,19491,null,null,null,null,0,222]
[21,19605,22,19610,24,19618,null,null,null,null,0,222]
[12,19725,24,19740,24,19747,null,null,null,null,0,122]
[21,19851,22,19856,24,19867,null,null,null,null,0,222]
[12,19965,24,19977,24,19982,null,null,null,null,0,122]
[21,20081,22,20085,24,20091,null,null,null,null,0,222]
[12,20185,24,20194,24,20199,null,null,null,null,0,122]
[21,20309,22,20333,24,20348,null,null,null,null,0,222]
[21,20450,22,20454,24,20459,null,null,null,null,0,222]
[21,20561,22,20570,24,20592,null,null,null,null,0,222]
[21,20696,22,20700,24,20721,null,null,null,null,0,222]
[21,20823,22,20827,24,20836,null,null,null,null,0,222]
[12,20932,24,20959,24,20989,null,null,null,null,0,122]
[21,21090,22,21095,24,21114,null,null,null,null,0,222]
[21,21221,22,21256,24,21264,null,null,null,null,0,222]
[21,21364,22,21384,24,21397,null,null,null,null,0,222]
[21,21498,22,21502,24,21510,null,null,null,null,0,222]
[21,21607,22,21612,24,21616,null,null,null,null,0,222]
[12,21715,24,21731,24,21736,null,null,null,null,0,122]
[12,21847,24,21859,24,21876,null,null,null,null,0,122]
[21,21972,22,21977,24,21981,null,null,null,null,0,222]
[12,22081,24,22089,24,22099,null,null,null,null,0,122]
[21,22201,22,22227,24,22235,null,null,null,null,0,222]
[12,22333,24,22350,24,22362,null,null,null,null,0,122]
[12,22463,24,22485,24,22493,null,null,null,null,0,122]
[12,22593,24,22602,24,22606,null,null,null,null,0,122]
[12,22706,24,22719,24,22726,null,null,null,null,0,122]
[12,22825,24,22834,24,22843,null,null,null,null,0,122]
[12,22945,24,22962,24,22975,null,null,null,null,0,122]
[21,23076,22,23080,24,23090,null,null,null,null,0,222]
[12,23190,24,23207,24,23217,null,null,null,null,0,122]
[21,23323,22,23329,24,23341,null,null,null,null,0,222]
[21,23463,22,23470,24,23488,null,null,null,null,0,222]
[12,23585,24,23596,24,23601,null,null,null,null,0,122]
[12,23703,24,23719,24,23727,null,null,null,null,0,122]
[21,23831,22,23850,24,23855,null,null,null,null,0,222]
[21,23957,22,23967,24,23991,null,null,null,null,1,222]

{"sheet":"!MA02750.091","index":14,"n_rows":197,"n_cols":48,"rows_kept":197,"cut":false,"hidden":false,"merged":[[4,39,4,42],[5,39,5,40],[4,44,4,47],[5,44,5,45],[4,24,4,27],[5,24,5,25],[4,29,4,32],[5,29,5,30],[4,34,4,37],[5,34,5,35],[1,1,1,2],[5,13,5,14],[18,13,18,14],[19,13,19,14],[4,19,4,22],[5,19,5,20]]}
["Report for:!MA02750.091"]
["Date:","<date>"]
["Hen:","<hen>",null,null,null,"Correct Sequence",{"$f":"Start!J2","v":211},null,null,null,null,null,null,null,null,"Total Sequences in Data",{"$f":"4994-COUNTBLANK(L7:L5000)","v":191},null,null,null,null,"Total Sequences in Block Data",{"$f":"COUNTA(L7:L38)","v":32},null,null,null,"Total Sequences in Block Data",{"$f":"COUNTA(L39:L70)","v":32},null,null,null,"Total Sequences in Block Data",{"$f":"COUNTA(L71:L101)","v":31},null,null,null,"Total Sequences in Block Data",{"$f":"COUNTA(L102:L133)","v":32},null,null,null,"Total Sequences in Block Data",{"$f":"COUNTA(L134:L165)","v":32},null,null,null,"Total Sequences in Block Data",{"$f":"COUNTA(L166:L197)","v":32}]
[null,null,null,null,null,null,null,null,null,null,null,null,null,null,null,"Total Sequences in Summary",{"$f":"SUM(O7:O14)","v":191},null,null,null,null,"Total Sequences in Block Summary",{"$f":"SUM(U7:U14)","v":32},null,null,null,"Total Sequences in Block Summary",{"$f":"SUM(Z7:Z14)","v":32},null,null,null,"Total Sequences in Block Summary",{"$f":"SUM(AE7:AE14)","v":31},null,null,null,"Total Sequences in Block Summary",{"$f":"SUM(AJ7:AJ14)","v":32},null,null,null,"Total Sequences in Block Summary",{"$f":"SUM(AO7:AO14)","v":32},null,null,null,"Total Sequences in Block Summary",{"$f":"SUM(AT7:AT14)","v":32}]
[null,null,null,null,null,null,null,null,null,null,null,null,null,null,null,null,null,null,null,"Block 1",null,null,null,null,"Block 2",null,null,null,null,"Block 3",null,null,null,null,"Block 4",null,null,null,null,"Block 5",null,null,null,null,"Block 6"]
["Sequence\nComponent\n1","Time\n1","Sequence\nComponent\n2","Time\n2","Sequence\nComponent\n3","Time\n3","Sequence\nComponent\n4","Time\n4","Sequence\nComponent\n5","Time\n5","Correct?\n0=No 1=Yes","Sequence",null,"Frequency",null,"Relative Frequency","Variability",null,null,"Frequency",null,"Relative Frequency","Variability",null,"Frequency",null,"Relative Frequency","Variability",null,"Frequency",null,"Relative Frequency","Variability",null,"Frequency",null,"Relative Frequency","Variability",null,"Frequency",null,"Relative Frequency","Variability",null,"Frequency",null,"Relative Frequency","Variability"]
[12,17,24,26,24,31,null,null,null,null,0,122,null,111,{"$f":"COUNTIF($L$7:$L$500,N7)","v":0},{"$f":"O7/$Q$4","v":0},{"$f":"IF(P7=0,0,(P7*((LOG(P7))/LOG(2))))","v":0},null,null,{"$f":"N7","v":111},{"$f":"COUNTIF(L7:L38,T7)","v":0},{"$f":"U7/(W4-U11)","v":0},{"$f":"IF(V7=0,0,(V7*((LOG(V7))/LOG(2))))","v":0},null,{"$f":"N7","v":111},{"$f":"COUNTIF(L39:L70,Y7)","v":0},{"$f":"Z7/(AB4-Z11)","v":0},{"$f":"IF(AA7=0,0,(AA7*((LOG(AA7))/LOG(2))))","v":0},null,{"$f":"N7","v":111},{"$f":"COUNTIF(L71:L101,AD7)","v":0},{"$f":"AE7/(AG4-AE11)","v":0},{"$f":"IF(AF7=0,0,(AF7*((LOG(AF7))/LOG(2))))","v":0},null,{"$f":"N7","v":111},{"$f":"COUNTIF(L102:L133,AI7)","v":0},{"$f":"AJ7/(AL4-AJ11)","v":0},{"$f":"IF(AK7=0,0,(AK7*((LOG(AK7))/LOG(2))))","v":0},null,{"$f":"N7","v":111},{"$f":"COUNTIF(L134:L165,AN7)","v":0},{"$f":"AO7/(AQ4-AO11)","v":0},{"$f":"IF(AP7=0,0,(AP7*((LOG(AP7))/LOG(2))))","v":0},null,{"$f":"N7","v":111},{"$f":"COUNTIF(L166:L197,AS7)","v":0},{"$f":"AT7/(AV4-AT11)","v":0},{"$f":"IF(AU7=0,0,(AU7*((LOG(AU7))/LOG(2))))","v":0}]
[21,133,22,142,24,149,null,null,null,null,0,222,null,112,{"$f":"COUNTIF($L$7:$L$500,N8)","v":3},{"$f":"O8/$Q$4","v":1.5706806282722512E-2},{"$f":"IF(P8=0,0,(P8*((LOG(P8))/LOG(2))))","v":-9.4122507758867949E-2},null,null,{"$f":"N8","v":112},{"$f":"COUNTIF(L7:L38,T8)","v":1},{"$f":"U8/(W4-U11)","v":3.125E-2},{"$f":"IF(V8=0,0,(V8*((LOG(V8))/LOG(2))))","v":-0.15625},null,{"$f":"N8","v":112},{"$f":"COUNTIF(L39:L70,Y8)","v":0},{"$f":"Z8/(AB4-Z11)","v":0},{"$f":"IF(AA8=0,0,(AA8*((LOG(AA8))/LOG(2))))","v":0},null,{"$f":"N8","v":112},{"$f":"COUNTIF(L71:L101,AD8)","v":2},{"$f":"AE8/(AG4-AE11)","v":6.4516129032258063E-2},{"$f":"IF(AF8=0,0,(AF8*((LOG(AF8))/LOG(2))))","v":-0.25510943937979835},null,{"$f":"N8","v":112},{"$f":"COUNTIF(L102:L133,AI8)","v":0},{"$f":"AJ8/(AL4-AJ11)","v":0},{"$f":"IF(AK8=0,0,(AK8*((LOG(AK8))/LOG(2))))","v":0},null,{"$f":"N8","v":112},{"$f":"COUNTIF(L134:L165,AN8)","v":0},{"$f":"AO8/(AQ4-AO11)","v":0},{"$f":"IF(AP8=0,0,(AP8*((LOG(AP8))/LOG(2))))","v":0},null,{"$f":"N8","v":112},{"$f":"COUNTIF(L166:L197,AS8)","v":0},{"$f":"AT8/(AV4-AT11)","v":0},{"$f":"IF(AU8=0,0,(AU8*((LOG(AU8))/LOG(2))))","v":0}]
[12,256,24,272,24,278,null,null,null,null,0,122,null,121,{"$f":"COUNTIF($L$7:$L$500,N9)","v":0},{"$f":"O9/$Q$4","v":0},{"$f":"IF(P9=0,0,(P9*((LOG(P9))/LOG(2))))","v":0},null,null,{"$f":"N9","v":121},{"$f":"COUNTIF(L7:L38,T9)","v":0},{"$f":"U9/(W4-U11)","v":0},{"$f":"IF(V9=0,0,(V9*((LOG(V9))/LOG(2))))","v":0},null,{"$f":"N9","v":121},{"$f":"COUNTIF(L39:L70,Y9)","v":0},{"$f":"Z9/(AB4-Z11)","v":0},{"$f":"IF(AA9=0,0,(AA9*((LOG(AA9))/LOG(2))))","v":0},null,{"$f":"N9","v":121},{"$f":"COUNTIF(L71:L101,AD9)","v":0},{"$f":"AE9/(AG4-AE11)","v":0},{"$f":"IF(AF9=0,0,(AF9*((LOG(AF9))/LOG(2))))","v":0},null,{"$f":"N9","v":121},{"$f":"COUNTIF(L102:L133,AI9)","v":0},{"$f":"AJ9/(AL4-AJ11)","v":0},{"$f":"IF(AK9=0,0,(AK9*((LOG(AK9))/LOG(2))))","v":0},null,{"$f":"N9","v":121},{"$f":"COUNTIF(L134:L165,AN9)","v":0},{"$f":"AO9/(AQ4-AO11)","v":0},{"$f":"IF(AP9=0,0,(AP9*((LOG(AP9))/LOG(2))))","v":0},null,{"$f":"N9","v":121},{"$f":"COUNTIF(L166:L197,AS9)","v":0},{"$f":"AT9/(AV4-AT11)","v":0},{"$f":"IF(AU9=0,0,(AU9*((LOG(AU9))/LOG(2))))","v":0}]
[21,390,22,396,24,409,null,null,null,null,0,222,null,122,{"$f":"COUNTIF($L$7:$L$500,N10)","v":78},{"$f":"O10/$Q$4","v":0.40837696335078533},{"$f":"IF(P10=0,0,(P10*((LOG(P10))/LOG(2))))","v":-0.52763390322268588},null,null,{"$f":"N10","v":122},{"$f":"COUNTIF(L7:L38,T10)","v":14},{"$f":"U10/(W4-U11)","v":0.4375},{"$f":"IF(V10=0,0,(V10*((LOG(V10))/LOG(2))))","v":-0.52178222159979815},null,{"$f":"N10","v":122},{"$f":"COUNTIF(L39:L70,Y10)","v":15},{"$f":"Z10/(AB4-Z11)","v":0.46875},{"$f":"IF(AA10=0,0,(AA10*((LOG(AA10))/LOG(2))))","v":-0.512395033308507},null,{"$f":"N10","v":122},{"$f":"COUNTIF(L71:L101,AD10)","v":11},{"$f":"AE10/(AG4-AE11)","v":0.35483870967741937},{"$f":"IF(AF10=0,0,(AF10*((LOG(AF10))/LOG(2))))","v":-0.53040037449178568},null,{"$f":"N10","v":122},{"$f":"COUNTIF(L102:L133,AI10)","v":11},{"$f":"AJ10/(AL4-AJ11)","v":0.34375},{"$f":"IF(AK10=0,0,(AK10*((LOG(AK10))/LOG(2))))","v":-0.52957038109342913},null,{"$f":"N10","v":122},{"$f":"COUNTIF(L134:L165,AN10)","v":14},{"$f":"AO10/(AQ4-AO11)","v":0.4375},{"$f":"IF(AP10=0,0,(AP10*((LOG(AP10))/LOG(2))))","v":-0.52178222159979815},null,{"$f":"N10","v":122},{"$f":"COUNTIF(L166:L197,AS10)","v":13},{"$f":"AT10/(AV4-AT11)","v":0.40625},{"$f":"IF(AU10=0,0,(AU10*((LOG(AU10))/LOG(2))))","v":-0.52794636450518129}]
[12,506,24,515,24,519,null,null,null,null,0,122,null,211,{"$f":"COUNTIF($L$7:$L$500,N11)","v":0},{"$f":"O11/$Q$4","v":0},{"$f":"IF(P11=0,0,(P11*((LOG(P11))/LOG(2))))","v":0},null,null,{"$f":"N11","v":211},{"$f":"COUNTIF(L7:L38,T11)","v":0},null,null,null,{"$f":"N11","v":211},{"$f":"COUNTIF(L39:L70,Y11)","v":0},null,null,null,{"$f":"N11","v":211},{"$f":"COUNTIF(L71:L101,AD11)","v":0},null,null,null,{"$f":"N11","v":211},{"$f":"COUNTIF(L102:L133,AI11)","v":0},null,null,null,{"$f":"N11","v":211},{"$f":"COUNTIF(L134:L165,AN11)","v":0},null,null,null,{"$f":"N11","v":211},{"$f":"COUNTIF(L166:L197,AS11)","v":0}]
[21,621,22,627,24,638,null,null,null,null,0,222,null,212,{"$f":"COUNTIF($L$7:$L$500,N12)","v":0},{"$f":"O12/$Q$4","v":0},{"$f":"IF(P12=0,0,(P12*((LOG(P12))/LOG(2))))","v":0},null,null,{"$f":"N12","v":212},{"$f":"COUNTIF(L7:L38,T12)","v":0},{"$f":"U12/(W4-U11)","v":0},{"$f":"IF(V12=0,0,(V12*((LOG(V12))/LOG(2))))","v":0},null,{"$f":"N12","v":212},{"$f":"COUNTIF(L39:L70,Y12)","v":0},{"$f":"Z12/(AB4-Z11)","v":0},{"$f":"IF(AA12=0,0,(AA12*((LOG(AA12))/LOG(2))))","v":0},null,{"$f":"N12","v":212},{"$f":"COUNTIF(L71:L101,AD12)","v":0},{"$f":"AE12/(AG4-AE11)","v":0},{"$f":"IF(AF12=0,0,(AF12*((LOG(AF12))/LOG(2))))","v":0},null,{"$f":"N12","v":212},{"$f":"COUNTIF(L102:L133,AI12)","v":0},{"$f":"AJ12/(AL4-AJ11)","v":0},{"$f":"IF(AK12=0,0,(AK12*((LOG(AK12))/LOG(2))))","v":0},null,{"$f":"N12","v":212},{"$f":"COUNTIF(L134:L165,AN12)","v":0},{"$f":"AO12/(AQ4-AO11)","v":0},{"$f":"IF(AP12=0,0,(AP12*((LOG(AP12))/LOG(2))))","v":0},null,{"$f":"N12","v":212},{"$f":"COUNTIF(L166:L197,AS12)","v":0},{"$f":"AT12/(AV4-AT11)","v":0},{"$f":"IF(AU12=0,0,(AU12*((LOG(AU12))/LOG(2))))","v":0}]
[21,738,22,743,24,754,null,null,null,null,0,222,null,221,{"$f":"COUNTIF($L$7:$L$500,N13)","v":0},{"$f":"O13/$Q$4","v":0},{"$f":"IF(P13=0,0,(P13*((LOG(P13))/LOG(2))))","v":0},null,null,{"$f":"N13","v":221},{"$f":"COUNTIF(L7:L38,T13)","v":0},{"$f":"U13/(W4-U11)","v":0},{"$f":"IF(V13=0,0,(V13*((LOG(V13))/LOG(2))))","v":0},null,{"$f":"N13","v":221},{"$f":"COUNTIF(L39:L70,Y13)","v":0},{"$f":"Z13/(AB4-Z11)","v":0},{"$f":"IF(AA13=0,0,(AA13*((LOG(AA13))/LOG(2))))","v":0},null,{"$f":"N13","v":221},{"$f":"COUNTIF(L71:L101,AD13)","v":0},{"$f":"AE13/(AG4-AE11)","v":0},{"$f":"IF(AF13=0,0,(AF13*((LOG(AF13))/LOG(2))))","v":0},null,{"$f":"N13","v":221},{"$f":"COUNTIF(L102:L133,AI13)","v":0},{"$f":"AJ13/(AL4-AJ11)","v":0},{"$f":"IF(AK13=0,0,(AK13*((LOG(AK13))/LOG(2))))","v":0},null,{"$f":"N13","v":221},{"$f":"COUNTIF(L134:L165,AN13)","v":0},{"$f":"AO13/(AQ4-AO11)","v":0},{"$f":"IF(AP13=0,0,(AP13*((LOG(AP13))/LOG(2))))","v":0},null,{"$f":"N13","v":221},{"$f":"COUNTIF(L166:L197,AS13)","v":0},{"$f":"AT13/(AV4-AT11)","v":0},{"$f":"IF(AU13=0,0,(AU13*((LOG(AU13))/LOG(2))))","v":0}]
[21,855,22,863,24,895,null,null,null,null,0,222,null,222,{"$f":"COUNTIF($L$7:$L$500,N14)","v":110},{"$f":"O14/$Q$4","v":0.5759162303664922},{"$f":"IF(P14=0,0,(P14*((LOG(P14))/LOG(2))))","v":-0.4584691235404178},null,null,{"$f":"N14","v":222},{"$f":"COUNTIF(L7:L38,T14)","v":17},{"$f":"U14/(W4-U11)","v":0.53125},{"$f":"IF(V14=0,0,(V14*((LOG(V14))/LOG(2))))","v":-0.48478536558575719},null,{"$f":"N14","v":222},{"$f":"COUNTIF(L39:L70,Y14)","v":17},{"$f":"Z14/(AB4-Z11)","v":0.53125},{"$f":"IF(AA14=0,0,(AA14*((LOG(AA14))/LOG(2))))","v":-0.48478536558575719},null,{"$f":"N14","v":222},{"$f":"COUNTIF(L71:L101,AD14)","v":18},{"$f":"AE14/(AG4-AE11)","v":0.58064516129032262},{"$f":"IF(AF14=0,0,(AF14*((LOG(AF14))/LOG(2))))","v":-0.45538334067748809},null,{"$f":"N14","v":222},{"$f":"COUNTIF(L102:L133,AI14)","v":21},{"$f":"AJ14/(AL4-AJ11)","v":0.65625},{"$f":"IF(AK14=0,0,(AK14*((LOG(AK14))/LOG(2))))","v":-0.3987916913014386},null,{"$f":"N14","v":222},{"$f":"COUNTIF(L134:L165,AN14)","v":18},{"$f":"AO14/(AQ4-AO11)","v":0.5625},{"$f":"IF(AP14=0,0,(AP14*((LOG(AP14))/LOG(2))))","v":-0.4669171866886993},null,{"$f":"N14","v":222},{"$f":"COUNTIF(L166:L197,AS14)","v":19},{"$f":"AT14/(AV4-AT11)","v":0.59375},{"$f":"IF(AU14=0,0,(AU14*((LOG(AU14))/LOG(2))))","v":-0.44654303889287106}]
[21,987,22,992,24,1004,null,null,null,null,0,222,null,null,null,{"$f":"SUM(P7:P14)","v":1},{"$f":"-SUM(Q7:Q14)","v":1.0802255345219716},null,null,null,null,{"$f":"SUM(V7:V14)","v":1},{"$f":"-SUM(W7:W14)","v":1.1628175871855553},null,null,null,{"$f":"SUM(AA7:AA14)","v":1},{"$f":"-SUM(AB7:AB14)","v":0.99718039889426424},null,null,null,{"$f":"SUM(AF7:AF14)","v":1},{"$f":"-SUM(AG7:AG14)","v":1.240893154549072},null,null,null,{"$f":"SUM(AK7:AK14)","v":1},{"$f":"-SUM(AL7:AL14)","v":0.92836207239486779},null,null,null,{"$f":"SUM(AP7:AP14)","v":1},{"$f":"-SUM(AQ7:AQ14)","v":0.98869940828849745},null,null,null,{"$f":"SUM(AU7:AU14)","v":1},{"$f":"-SUM(AV7:AV14)","v":0.97448940339805235}]
[12,1105,24,1115,24,1123,null,null,null,null,0,122,null,null,null,"U=",{"$f":"Q15/(LOG(Q4)/LOG(2))","v":0.14255832143552999},null,null,null,null,"U1=",{"$f":"W15/(LOG(W4)/LOG(2))","v":0.23256351743711107},null,null,null,"U2=",{"$f":"AB15/(LOG(AB4)/LOG(2))","v":0.19943607977885286},null,null,null,"U3=",{"$f":"AG15/(LOG(AG4)/LOG(2))","v":0.25047314979171065},null,null,null,"U4=",{"$f":"AL15/(LOG(AL4)/LOG(2))","v":0.18567241447897356},null,null,null,"U5=",{"$f":"AQ15/(LOG(AQ4)/LOG(2))","v":0.19773988165769948},null,null,null,"U6=",{"$f":"AV15/(LOG(AV4)/LOG(2))","v":0.19489788067961047}]
[12,1222,24,1237,24,1265,null,null,null,null,0,122]
[21,1371,22,1377,24,1402,null,null,null,null,0,222]
[21,1513,22,1519,24,1528,null,null,null,null,0,222,null,"Total Target Seq"]
[12,1623,24,1633,24,1639,null,null,null,null,0,122,null,{"$f":"COUNTIF(L7:L197,G3)","v":0},null,32,32,31,32,32,32]
[21,1747,22,1765,24,1774,null,null,null,null,0,222,null,null,null,"% of reinforcement given in 6 equal intervals based on number of trials "]
[21,1875,22,1882,24,1887,null,null,null,null,0,222,null,null,null,"%_1","%_2","%_3","%_4","%_5","%_6"]
[12,1985,24,1995,24,2001,null,null,null,null,0,122,null,null,"target sequence",{"$f":"$G$3","v":211},{"$f":"$G$3","v":211},{"$f":"$G$3","v":211},{"$f":"$G$3","v":211},{"$f":"$G$3","v":211},{"$f":"$G$3","v":211}]
[12,2099,24,2113,24,2120,null,null,null,null,0,122,null,null,"total reinforcement",{"$f":"U11","v":0},{"$f":"Z11","v":0},{"$f":"AE11","v":0},{"$f":"AJ11","v":0},{"$f":"AO11","v":0},{"$f":"AT11","v":0}]
[12,2216,13,2231,24,2246,null,null,null,null,0,112,null,null,"% target"]
[21,2342,22,2372,24,2381,null,null,null,null,0,222,null,null,"CCRF"]
[12,2478,24,2495,24,2504,null,null,null,null,0,122,null,null,"% CCRf"]
[12,2602,24,2622,24,2632,null,null,null,null,0,122,null,null,"average response rate",{"$f":"F38/P20","v":122.15625},{"$f":"(F70-F38)/Q20","v":124.65625},{"$f":"(F101-F70)/R20","v":126.74193548387096},{"$f":"(F133-F101)/S20","v":124.46875},{"$f":"(F165-F133)/T20","v":124.15625},{"$f":"(F197-F165)/U20","v":130.53125}]
[12,2739,24,2747,24,2753,null,null,null,null,0,122]
[12,2852,24,2885,24,2906,null,null,null,null,0,122]
[21,3006,22,3011,24,3017,null,null,null,null,0,222]
[12,3116,24,3128,24,3134,null,null,null,null,0,122]
[21,3241,22,3250,24,3285,null,null,null,null,0,222]
[21,3391,22,3398,24,3413,null,null,null,null,0,222]
[21,3512,22,3516,24,3524,null,null,null,null,0,222]
[21,3623,22,3628,24,3635,null,null,null,null,0,222]
[21,3740,22,3750,24,3758,null,null,null,null,0,222]
[12,3859,24,3883,24,3909,null,null,null,null,0,122]
[12,4007,24,4025,24,4033,null,null,null,null,0,122]
[21,4141,22,4149,24,4154,null,null,null,null,0,222]
[21,4256,22,4262,24,4274,null,null,null,null,0,222]
[12,4374,24,4383,24,4393,null,null,null,null,0,122]
[21,4501,22,4506,24,4521,null,null,null,null,0,222]
[12,4622,24,4636,24,4653,null,null,null,null,0,122]
[12,4752,24,4758,24,4764,null,null,null,null,0,122]
[21,4866,22,4871,24,4880,null,null,null,null,0,222]
[21,4987,22,5010,24,5026,null,null,null,null,0,222]
[12,5128,24,5142,24,5175,null,null,null,null,0,122]
[21,5270,22,5275,24,5280,null,null,null,null,0,222]
[12,5378,24,5386,24,5393,null,null,null,null,0,122]
[21,5506,22,5511,24,5527,null,null,null,null,0,222]
[12,5627,24,5639,24,5644,null,null,null,null,0,122]
[21,5739,22,5752,24,5788,null,null,null,null,0,222]
[21,5891,22,5895,24,5904,null,null,null,null,0,222]
[12,6001,24,6014,24,6019,null,null,null,null,0,122]
[12,6117,24,6128,24,6133,null,null,null,null,0,122]
[12,6233,24,6246,24,6254,null,null,null,null,0,122]
[21,6355,22,6360,24,6367,null,null,null,null,0,222]
[12,6464,24,6478,24,6483,null,null,null,null,0,122]
[21,6594,22,6599,24,6607,null,null,null,null,0,222]
[21,6706,22,6714,24,6735,null,null,null,null,0,222]
[12,6835,24,6850,24,6865,null,null,null,null,0,122]
[21,6977,22,6982,24,6989,null,null,null,null,0,222]
[21,7089,22,7099,24,7112,null,null,null,null,0,222]
[21,7213,22,7219,24,7225,null,null,null,null,0,222]
[12,7323,24,7340,24,7345,null,null,null,null,0,122]
[21,7441,22,7446,24,7510,null,null,null,null,0,222]
[21,7611,22,7618,24,7624,null,null,null,null,0,222]
[12,7722,24,7735,24,7740,null,null,null,null,0,122]
[12,7840,24,7855,24,7898,null,null,null,null,0,122]
[12,7999,24,8011,24,8041,null,null,null,null,0,122]
[21,8138,22,8144,24,8164,null,null,null,null,0,222]
[12,8267,24,8277,24,8282,null,null,null,null,0,122]
[21,8391,22,8400,24,8409,null,null,null,null,0,222]
[12,8507,24,8523,24,8529,null,null,null,null,0,122]
[12,8632,24,8647,24,8652,null,null,null,null,0,122]
[12,8753,24,8770,24,8779,null,null,null,null,0,122]
[12,8878,13,8890,24,8906,null,null,null,null,0,112]
[12,9008,24,9020,24,9026,null,null,null,null,0,122]
[21,9127,22,9134,24,9153,null,null,null,null,0,222]
[21,9255,22,9260,24,9272,null,null,null,null,0,222]
[21,9379,22,9386,24,9392,null,null,null,null,0,222]
[12,9490,13,9499,24,9509,null,null,null,null,0,112]
[12,9614,24,9625,24,9631,null,null,null,null,0,122]
[21,9737,22,9753,24,9764,null,null,null,null,0,222]
[21,9860,22,9865,24,9873,null,null,null,null,0,222]
[12,9971,24,9981,24,9986,null,null,null,null,0,122]
[21,10099,22,10154,24,10174,null,null,null,null,0,222]
[21,10279,22,10285,24,10290,null,null,null,null,0,222]
[21,10397,22,10402,24,10415,null,null,null,null,0,222]
[21,10515,22,10520,24,10525,null,null,null,null,0,222]
[12,10622,24,10638,24,10644,null,null,null,null,0,122]
[21,10755,22,10772,24,10799,null,null,null,null,0,222]
[21,10920,22,10949,24,10963,null,null,null,null,0,222]
[21,11076,22,11080,24,11085,null,null,null,null,0,222]
[21,11184,22,11193,24,11211,null,null,null,null,0,222]
[21,11315,22,11320,24,11336,null,null,null,null,0,222]
[21,11434,22,11438,24,11448,null,null,null,null,0,222]
[12,11546,24,11559,24,11572,null,null,null,null,0,122]
[12,11678,24,11698,24,11711,null,null,null,null,0,122]
[21,11812,22,11820,24,11827,null,null,null,null,0,222]
[12,11924,24,11944,24,11953,null,null,null,null,0,122]
[12,12054,24,12070,24,12075,null,null,null,null,0,122]
[21,12178,22,12185,24,12202,null,null,null,null,0,222]
[21,12316,22,12323,24,12331,null,null,null,null,0,222]
[12,12428,24,12441,24,12447,null,null,null,null,0,122]
[21,12546,22,12591,24,12615,null,null,null,null,0,222]
[21,12716,22,12724,24,12728,null,null,null,null,0,222]
[21,12824,22,12828,24,12834,null,null,null,null,0,222]
[12,12935,24,12943,24,12948,null,null,null,null,0,122]
[12,13046,24,13061,24,13068,null,null,null,null,0,122]
[12,13167,24,13182,24,13187,null,null,null,null,0,122]
[21,13290,22,13296,24,13318,null,null,null,null,0,222]
[21,13416,22,13428,24,13459,null,null,null,null,0,222]
[12,13561,24,13580,24,13587,null,null,null,null,0,122]
[12,13685,24,13701,24,13708,null,null,null,null,0,122]
[21,13801,22,13806,24,13810,null,null,null,null,0,222]
[12,13910,24,13919,24,13923,null,null,null,null,0,122]
[21,14022,22,14027,24,14031,null,null,null,null,0,222]
[21,14129,22,14133,24,14144,null,null,null,null,0,222]
[21,14247,22,14251,24,14260,null,null,null,null,0,222]
[21,14377,22,14412,24,14419,null,null,null,null,0,222]
[21,14516,22,14523,24,14534,null,null,null,null,0,222]
[21,14637,22,14645,24,14674,null,null,null,null,0,222]
[12,14779,24,14794,24,14803,null,null,null,null,0,122]
[21,14898,22,14903,24,14907,null,null,null,null,0,222]
[12,15005,24,15026,24,15031,null,null,null,null,0,122]
[21,15138,22,15143,24,15147,null,null,null,null,0,222]
[21,15244,22,15248,24,15259,null,null,null,null,0,222]
[21,15360,22,15378,24,15409,null,null,null,null,0,222]
[21,15510,22,15515,24,15520,null,null,null,null,0,222]
[21,15622,22,15672,24,15683,null,null,null,null,0,222]
[21,15798,22,15803,24,15810,null,null,null,null,0,222]
[21,15907,22,15912,24,15931,null,null,null,null,0,222]
[21,16032,22,16037,24,16056,null,null,null,null,0,222]
[12,16156,24,16170,24,16175,null,null,null,null,0,122]
[21,16275,22,16285,24,16302,null,null,null,null,0,222]
[21,16397,22,16402,24,16408,null,null,null,null,0,222]
[12,16507,24,16518,24,16522,null,null,null,null,0,122]
[12,16625,24,16633,24,16638,null,null,null,null,0,122]
[12,16738,24,16750,24,16756,null,null,null,null,0,122]
[21,16859,22,16864,24,16869,null,null,null,null,0,222]
[21,16968,22,16977,24,16982,null,null,null,null,0,222]
[21,17082,22,17086,24,17091,null,null,null,null,0,222]
[21,17191,22,17201,24,17210,null,null,null,null,0,222]
[21,17311,22,17327,24,17365,null,null,null,null,0,222]
[12,17469,24,17479,24,17483,null,null,null,null,0,122]
[12,17580,24,17598,24,17603,null,null,null,null,0,122]
[21,17721,22,17729,24,17746,null,null,null,null,0,222]
[21,17851,22,17856,24,17863,null,null,null,null,0,222]
[21,17964,22,17970,24,17976,null,null,null,null,0,222]
[12,18076,24,18092,24,18104,null,null,null,null,0,122]
[12,18207,24,18235,24,18257,null,null,null,null,0,122]
[12,18355,24,18374,24,18380,null,null,null,null,0,122]
[21,18477,22,18495,24,18507,null,null,null,null,0,222]
[21,18615,22,18634,24,18642,null,null,null,null,0,222]
[21,18745,22,18764,24,18776,null,null,null,null,0,222]
[12,18879,24,18893,24,18902,null,null,null,null,0,122]
[21,19001,22,19007,24,19011,null,null,null,null,0,222]
[12,19111,24,19128,24,19134,null,null,null,null,0,122]
[12,19232,24,19244,24,19249,null,null,null,null,0,122]
[12,19346,24,19366,24,19391,null,null,null,null,0,122]
[21,19492,22,19496,24,19512,null,null,null,null,0,222]
[21,19621,22,19643,24,19662,null,null,null,null,0,222]
[12,19763,24,19771,24,19783,null,null,null,null,0,122]
[21,19882,22,19886,24,19894,null,null,null,null,0,222]
[21,20003,22,20011,24,20023,null,null,null,null,0,222]
[21,20125,22,20130,24,20156,null,null,null,null,0,222]
[21,20254,22,20272,24,20280,null,null,null,null,0,222]
[12,20386,24,20399,24,20417,null,null,null,null,0,122]
[21,20518,22,20522,24,20527,null,null,null,null,0,222]
[12,20626,24,20644,24,20648,null,null,null,null,0,122]
[21,20754,22,20763,24,20776,null,null,null,null,0,222]
[12,20872,24,20880,24,20888,null,null,null,null,0,122]
[21,20994,22,20998,24,21011,null,null,null,null,0,222]
[21,21116,22,21128,24,21138,null,null,null,null,0,222]
[12,21238,24,21255,24,21262,null,null,null,null,0,122]
[12,21359,24,21387,24,21395,null,null,null,null,0,122]
[21,21497,22,21516,24,21536,null,null,null,null,0,222]
[12,21638,24,21657,24,21670,null,null,null,null,0,122]
[12,21768,24,21785,24,21790,null,null,null,null,0,122]
[21,21886,22,21891,24,21896,null,null,null,null,0,222]
[12,21995,24,22010,24,22015,null,null,null,null,0,122]
[21,22121,22,22126,24,22143,null,null,null,null,0,222]
[21,22288,22,22296,24,22392,null,null,null,null,0,222]
[12,22493,24,22507,24,22512,null,null,null,null,0,122]
[12,22614,24,22631,24,22636,null,null,null,null,0,122]
[12,22741,24,22758,24,22763,null,null,null,null,0,122]
[21,22866,22,22875,24,22888,null,null,null,null,0,222]
[21,22988,22,22994,24,23036,null,null,null,null,0,222]
[21,23145,22,23214,24,23240,null,null,null,null,0,222]
[12,23339,24,23358,24,23365,null,null,null,null,0,122]
[21,23470,22,23476,24,23483,null,null,null,null,0,222]
[21,23591,22,23596,24,23601,null,null,null,null,0,222]
[12,23700,24,23716,24,23724,null,null,null,null,0,122]
[21,23831,22,23836,24,23852,null,null,null,null,0,222]
[21,23951,22,23956,24,23960,null,null,null,null,null,222]

{"sheet":"!MA03650.091","index":15,"n_rows":194,"n_cols":48,"rows_kept":194,"cut":false,"hidden":false,"merged":[[4,39,4,42],[5,39,5,40],[4,44,4,47],[5,44,5,45],[4,24,4,27],[5,24,5,25],[4,29,4,32],[5,29,5,30],[4,34,4,37],[5,34,5,35],[1,1,1,2],[5,13,5,14],[18,13,18,14],[19,13,19,14],[4,19,4,22],[5,19,5,20]]}
["Report for:!MA03650.091"]
["Date:","<date>"]
["Hen:","<hen>",null,null,null,"Correct Sequence",{"$f":"Start!J2","v":211},null,null,null,null,null,null,null,null,"Total Sequences in Data",{"$f":"4994-COUNTBLANK(L7:L5000)","v":188},null,null,null,null,"Total Sequences in Block Data",{"$f":"COUNTA(L7:L37)","v":31},null,null,null,"Total Sequences in Block Data",{"$f":"COUNTA(L38:L69)","v":32},null,null,null,"Total Sequences in Block Data",{"$f":"COUNTA(L70:L100)","v":31},null,null,null,"Total Sequences in Block Data",{"$f":"COUNTA(L101:L131)","v":31},null,null,null,"Total Sequences in Block Data",{"$f":"COUNTA(L132:L163)","v":32},null,null,null,"Total Sequences in Block Data",{"$f":"COUNTA(L164:L194)","v":31}]
[null,null,null,null,null,null,null,null,null,null,null,null,null,null,null,"Total Sequences in Summary",{"$f":"SUM(O7:O14)","v":187},null,null,null,null,"Total Sequences in Block Summary",{"$f":"SUM(U7:U14)","v":31},null,null,null,"Total Sequences in Block Summary",{"$f":"SUM(Z7:Z14)","v":32},null,null,null,"Total Sequences in Block Summary",{"$f":"SUM(AE7:AE14)","v":31},null,null,null,"Total Sequences in Block Summary",{"$f":"SUM(AJ7:AJ14)","v":31},null,null,null,"Total Sequences in Block Summary",{"$f":"SUM(AO7:AO14)","v":32},null,null,null,"Total Sequences in Block Summary",{"$f":"SUM(AT7:AT14)","v":30}]
[null,null,null,null,null,null,null,null,null,null,null,null,null,null,null,null,null,null,null,"Block 1",null,null,null,null,"Block 2",null,null,null,null,"Block 3",null,null,null,null,"Block 4",null,null,null,null,"Block 5",null,null,null,null,"Block 6"]
["Sequence\nComponent\n1","Time\n1","Sequence\nComponent\n2","Time\n2","Sequence\nComponent\n3","Time\n3","Sequence\nComponent\n4","Time\n4","Sequence\nComponent\n5","Time\n5","Correct?\n0=No 1=Yes","Sequence",null,"Frequency",null,"Relative Frequency","Variability",null,null,"Frequency",null,"Relative Frequency","Variability",null,"Frequency",null,"Relative Frequency","Variability",null,"Frequency",null,"Relative Frequency","Variability",null,"Frequency",null,"Relative Frequency","Variability",null,"Frequency",null,"Relative Frequency","Variability",null,"Frequency",null,"Relative Frequency","Variability"]
[21,17,22,22,24,28,null,null,null,null,0,222,null,111,{"$f":"COUNTIF($L$7:$L$500,N7)","v":0},{"$f":"O7/$Q$4","v":0},{"$f":"IF(P7=0,0,(P7*((LOG(P7))/LOG(2))))","v":0},null,null,{"$f":"N7","v":111},{"$f":"COUNTIF(L7:L37,T7)","v":0},{"$f":"U7/(W4-U11)","v":0},{"$f":"IF(V7=0,0,(V7*((LOG(V7))/LOG(2))))","v":0},null,{"$f":"N7","v":111},{"$f":"COUNTIF(L38:L69,Y7)","v":0},{"$f":"Z7/(AB4-Z11)","v":0},{"$f":"IF(AA7=0,0,(AA7*((LOG(AA7))/LOG(2))))","v":0},null,{"$f":"N7","v":111},{"$f":"COUNTIF(L70:L100,AD7)","v":0},{"$f":"AE7/(AG4-AE11)","v":0},{"$f":"IF(AF7=0,0,(AF7*((LOG(AF7))/LOG(2))))","v":0},null,{"$f":"N7","v":111},{"$f":"COUNTIF(L101:L131,AI7)","v":0},{"$f":"AJ7/(AL4-AJ11)","v":0},{"$f":"IF(AK7=0,0,(AK7*((LOG(AK7))/LOG(2))))","v":0},null,{"$f":"N7","v":111},{"$f":"COUNTIF(L132:L163,AN7)","v":0},{"$f":"AO7/(AQ4-AO11)","v":0},{"$f":"IF(AP7=0,0,(AP7*((LOG(AP7))/LOG(2))))","v":0},null,{"$f":"N7","v":111},{"$f":"COUNTIF(L164:L194,AS7)","v":0},{"$f":"AT7/(AV4-AT11)","v":0},{"$f":"IF(AU7=0,0,(AU7*((LOG(AU7))/LOG(2))))","v":0}]
[21,127,22,151,24,159,null,null,null,null,0,222,null,112,{"$f":"COUNTIF($L$7:$L$500,N8)","v":0},{"$f":"O8/$Q$4","v":0},{"$f":"IF(P8=0,0,(P8*((LOG(P8))/LOG(2))))","v":0},null,null,{"$f":"N8","v":112},{"$f":"COUNTIF(L7:L37,T8)","v":0},{"$f":"U8/(W4-U11)","v":0},{"$f":"IF(V8=0,0,(V8*((LOG(V8))/LOG(2))))","v":0},null,{"$f":"N8","v":112},{"$f":"COUNTIF(L38:L69,Y8)","v":0},{"$f":"Z8/(AB4-Z11)","v":0},{"$f":"IF(AA8=0,0,(AA8*((LOG(AA8))/LOG(2))))","v":0},null,{"$f":"N8","v":112},{"$f":"COUNTIF(L70:L100,AD8)","v":0},{"$f":"AE8/(AG4-AE11)","v":0},{"$f":"IF(AF8=0,0,(AF8*((LOG(AF8))/LOG(2))))","v":0},null,{"$f":"N8","v":112},{"$f":"COUNTIF(L101:L131,AI8)","v":0},{"$f":"AJ8/(AL4-AJ11)","v":0},{"$f":"IF(AK8=0,0,(AK8*((LOG(AK8))/LOG(2))))","v":0},null,{"$f":"N8","v":112},{"$f":"COUNTIF(L132:L163,AN8)","v":0},{"$f":"AO8/(AQ4-AO11)","v":0},{"$f":"IF(AP8=0,0,(AP8*((LOG(AP8))/LOG(2))))","v":0},null,{"$f":"N8","v":112},{"$f":"COUNTIF(L164:L194,AS8)","v":0},{"$f":"AT8/(AV4-AT11)","v":0},{"$f":"IF(AU8=0,0,(AU8*((LOG(AU8))/LOG(2))))","v":0}]
[21,261,22,265,24,279,null,null,null,null,0,222,null,121,{"$f":"COUNTIF($L$7:$L$500,N9)","v":0},{"$f":"O9/$Q$4","v":0},{"$f":"IF(P9=0,0,(P9*((LOG(P9))/LOG(2))))","v":0},null,null,{"$f":"N9","v":121},{"$f":"COUNTIF(L7:L37,T9)","v":0},{"$f":"U9/(W4-U11)","v":0},{"$f":"IF(V9=0,0,(V9*((LOG(V9))/LOG(2))))","v":0},null,{"$f":"N9","v":121},{"$f":"COUNTIF(L38:L69,Y9)","v":0},{"$f":"Z9/(AB4-Z11)","v":0},{"$f":"IF(AA9=0,0,(AA9*((LOG(AA9))/LOG(2))))","v":0},null,{"$f":"N9","v":121},{"$f":"COUNTIF(L70:L100,AD9)","v":0},{"$f":"AE9/(AG4-AE11)","v":0},{"$f":"IF(AF9=0,0,(AF9*((LOG(AF9))/LOG(2))))","v":0},null,{"$f":"N9","v":121},{"$f":"COUNTIF(L101:L131,AI9)","v":0},{"$f":"AJ9/(AL4-AJ11)","v":0},{"$f":"IF(AK9=0,0,(AK9*((LOG(AK9))/LOG(2))))","v":0},null,{"$f":"N9","v":121},{"$f":"COUNTIF(L132:L163,AN9)","v":0},{"$f":"AO9/(AQ4-AO11)","v":0},{"$f":"IF(AP9=0,0,(AP9*((LOG(AP9))/LOG(2))))","v":0},null,{"$f":"N9","v":121},{"$f":"COUNTIF(L164:L194,AS9)","v":0},{"$f":"AT9/(AV4-AT11)","v":0},{"$f":"IF(AU9=0,0,(AU9*((LOG(AU9))/LOG(2))))","v":0}]
[21,384,22,423,24,431,null,null,null,null,0,222,null,122,{"$f":"COUNTIF($L$7:$L$500,N10)","v":86},{"$f":"O10/$Q$4","v":0.45989304812834225},{"$f":"IF(P10=0,0,(P10*((LOG(P10))/LOG(2))))","v":-0.51536981094094292},null,null,{"$f":"N10","v":122},{"$f":"COUNTIF(L7:L37,T10)","v":16},{"$f":"U10/(W4-U11)","v":0.5161290322580645},{"$f":"IF(V10=0,0,(V10*((LOG(V10))/LOG(2))))","v":-0.49248841826419365},null,{"$f":"N10","v":122},{"$f":"COUNTIF(L38:L69,Y10)","v":20},{"$f":"Z10/(AB4-Z11)","v":0.625},{"$f":"IF(AA10=0,0,(AA10*((LOG(AA10))/LOG(2))))","v":-0.42379494069539858},null,{"$f":"N10","v":122},{"$f":"COUNTIF(L70:L100,AD10)","v":12},{"$f":"AE10/(AG4-AE11)","v":0.38709677419354838},{"$f":"IF(AF10=0,0,(AF10*((LOG(AF10))/LOG(2))))","v":-0.5300259908383429},null,{"$f":"N10","v":122},{"$f":"COUNTIF(L101:L131,AI10)","v":12},{"$f":"AJ10/(AL4-AJ11)","v":0.38709677419354838},{"$f":"IF(AK10=0,0,(AK10*((LOG(AK10))/LOG(2))))","v":-0.5300259908383429},null,{"$f":"N10","v":122},{"$f":"COUNTIF(L132:L163,AN10)","v":13},{"$f":"AO10/(AQ4-AO11)","v":0.40625},{"$f":"IF(AP10=0,0,(AP10*((LOG(AP10))/LOG(2))))","v":-0.52794636450518129},null,{"$f":"N10","v":122},{"$f":"COUNTIF(L164:L194,AS10)","v":13},{"$f":"AT10/(AV4-AT11)","v":0.43333333333333335},{"$f":"IF(AU10=0,0,(AU10*((LOG(AU10))/LOG(2))))","v":-0.52279538023588479}]
[12,531,24,542,24,549,null,null,null,null,0,122,null,211,{"$f":"COUNTIF($L$7:$L$500,N11)","v":0},{"$f":"O11/$Q$4","v":0},{"$f":"IF(P11=0,0,(P11*((LOG(P11))/LOG(2))))","v":0},null,null,{"$f":"N11","v":211},{"$f":"COUNTIF(L7:L37,T11)","v":0},null,null,null,{"$f":"N11","v":211},{"$f":"COUNTIF(L38:L69,Y11)","v":0},null,null,null,{"$f":"N11","v":211},{"$f":"COUNTIF(L70:L100,AD11)","v":0},null,null,null,{"$f":"N11","v":211},{"$f":"COUNTIF(L101:L131,AI11)","v":0},null,null,null,{"$f":"N11","v":211},{"$f":"COUNTIF(L132:L163,AN11)","v":0},null,null,null,{"$f":"N11","v":211},{"$f":"COUNTIF(L164:L194,AS11)","v":0}]
[12,650,24,670,24,679,null,null,null,null,0,122,null,212,{"$f":"COUNTIF($L$7:$L$500,N12)","v":0},{"$f":"O12/$Q$4","v":0},{"$f":"IF(P12=0,0,(P12*((LOG(P12))/LOG(2))))","v":0},null,null,{"$f":"N12","v":212},{"$f":"COUNTIF(L7:L37,T12)","v":0},{"$f":"U12/(W4-U11)","v":0},{"$f":"IF(V12=0,0,(V12*((LOG(V12))/LOG(2))))","v":0},null,{"$f":"N12","v":212},{"$f":"COUNTIF(L38:L69,Y12)","v":0},{"$f":"Z12/(AB4-Z11)","v":0},{"$f":"IF(AA12=0,0,(AA12*((LOG(AA12))/LOG(2))))","v":0},null,{"$f":"N12","v":212},{"$f":"COUNTIF(L70:L100,AD12)","v":0},{"$f":"AE12/(AG4-AE11)","v":0},{"$f":"IF(AF12=0,0,(AF12*((LOG(AF12))/LOG(2))))","v":0},null,{"$f":"N12","v":212},{"$f":"COUNTIF(L101:L131,AI12)","v":0},{"$f":"AJ12/(AL4-AJ11)","v":0},{"$f":"IF(AK12=0,0,(AK12*((LOG(AK12))/LOG(2))))","v":0},null,{"$f":"N12","v":212},{"$f":"COUNTIF(L132:L163,AN12)","v":0},{"$f":"AO12/(AQ4-AO11)","v":0},{"$f":"IF(AP12=0,0,(AP12*((LOG(AP12))/LOG(2))))","v":0},null,{"$f":"N12","v":212},{"$f":"COUNTIF(L164:L194,AS12)","v":0},{"$f":"AT12/(AV4-AT11)","v":0},{"$f":"IF(AU12=0,0,(AU12*((LOG(AU12))/LOG(2))))","v":0}]
[12,778,24,802,24,814,null,null,null,null,0,122,null,221,{"$f":"COUNTIF($L$7:$L$500,N13)","v":0},{"$f":"O13/$Q$4","v":0},{"$f":"IF(P13=0,0,(P13*((LOG(P13))/LOG(2))))","v":0},null,null,{"$f":"N13","v":221},{"$f":"COUNTIF(L7:L37,T13)","v":0},{"$f":"U13/(W4-U11)","v":0},{"$f":"IF(V13=0,0,(V13*((LOG(V13))/LOG(2))))","v":0},null,{"$f":"N13","v":221},{"$f":"COUNTIF(L38:L69,Y13)","v":0},{"$f":"Z13/(AB4-Z11)","v":0},{"$f":"IF(AA13=0,0,(AA13*((LOG(AA13))/LOG(2))))","v":0},null,{"$f":"N13","v":221},{"$f":"COUNTIF(L70:L100,AD13)","v":0},{"$f":"AE13/(AG4-AE11)","v":0},{"$f":"IF(AF13=0,0,(AF13*((LOG(AF13))/LOG(2))))","v":0},null,{"$f":"N13","v":221},{"$f":"COUNTIF(L101:L131,AI13)","v":0},{"$f":"AJ13/(AL4-AJ11)","v":0},{"$f":"IF(AK13=0,0,(AK13*((LOG(AK13))/LOG(2))))","v":0},null,{"$f":"N13","v":221},{"$f":"COUNTIF(L132:L163,AN13)","v":0},{"$f":"AO13/(AQ4-AO11)","v":0},{"$f":"IF(AP13=0,0,(AP13*((LOG(AP13))/LOG(2))))","v":0},null,{"$f":"N13","v":221},{"$f":"COUNTIF(L164:L194,AS13)","v":0},{"$f":"AT13/(AV4-AT11)","v":0},{"$f":"IF(AU13=0,0,(AU13*((LOG(AU13))/LOG(2))))","v":0}]
[12,914,24,934,24,943,null,null,null,null,0,122,null,222,{"$f":"COUNTIF($L$7:$L$500,N14)","v":101},{"$f":"O14/$Q$4","v":0.5401069518716578},{"$f":"IF(P14=0,0,(P14*((LOG(P14))/LOG(2))))","v":-0.47998385396106968},null,null,{"$f":"N14","v":222},{"$f":"COUNTIF(L7:L37,T14)","v":15},{"$f":"U14/(W4-U11)","v":0.4838709677419355},{"$f":"IF(V14=0,0,(V14*((LOG(V14))/LOG(2))))","v":-0.50676082973146286},null,{"$f":"N14","v":222},{"$f":"COUNTIF(L38:L69,Y14)","v":12},{"$f":"Z14/(AB4-Z11)","v":0.375},{"$f":"IF(AA14=0,0,(AA14*((LOG(AA14))/LOG(2))))","v":-0.53063906222956647},null,{"$f":"N14","v":222},{"$f":"COUNTIF(L70:L100,AD14)","v":19},{"$f":"AE14/(AG4-AE11)","v":0.61290322580645162},{"$f":"IF(AF14=0,0,(AF14*((LOG(AF14))/LOG(2))))","v":-0.43287442393298403},null,{"$f":"N14","v":222},{"$f":"COUNTIF(L101:L131,AI14)","v":19},{"$f":"AJ14/(AL4-AJ11)","v":0.61290322580645162},{"$f":"IF(AK14=0,0,(AK14*((LOG(AK14))/LOG(2))))","v":-0.43287442393298403},null,{"$f":"N14","v":222},{"$f":"COUNTIF(L132:L163,AN14)","v":19},{"$f":"AO14/(AQ4-AO11)","v":0.59375},{"$f":"IF(AP14=0,0,(AP14*((LOG(AP14))/LOG(2))))","v":-0.44654303889287106},null,{"$f":"N14","v":222},{"$f":"COUNTIF(L164:L194,AS14)","v":17},{"$f":"AT14/(AV4-AT11)","v":0.56666666666666665},{"$f":"IF(AU14=0,0,(AU14*((LOG(AU14))/LOG(2))))","v":-0.46434239413630152}]
[12,1044,24,1062,24,1072,null,null,null,null,0,122,null,null,null,{"$f":"SUM(P7:P14)","v":1},{"$f":"-SUM(Q7:Q14)","v":0.9953536649020126},null,null,null,null,{"$f":"SUM(V7:V14)","v":1},{"$f":"-SUM(W7:W14)","v":0.99924924799565651},null,null,null,{"$f":"SUM(AA7:AA14)","v":1},{"$f":"-SUM(AB7:AB14)","v":0.95443400292496505},null,null,null,{"$f":"SUM(AF7:AF14)","v":1},{"$f":"-SUM(AG7:AG14)","v":0.96290041477132693},null,null,null,{"$f":"SUM(AK7:AK14)","v":1},{"$f":"-SUM(AL7:AL14)","v":0.96290041477132693},null,null,null,{"$f":"SUM(AP7:AP14)","v":1},{"$f":"-SUM(AQ7:AQ14)","v":0.97448940339805235},null,null,null,{"$f":"SUM(AU7:AU14)","v":1},{"$f":"-SUM(AV7:AV14)","v":0.98713777437218631}]
[12,1173,24,1194,24,1203,null,null,null,null,0,122,null,null,null,"U=",{"$f":"Q15/(LOG(Q4)/LOG(2))","v":0.13188917245264248},null,null,null,null,"U1=",{"$f":"W15/(LOG(W4)/LOG(2))","v":0.20169754797577344},null,null,null,"U2=",{"$f":"AB15/(LOG(AB4)/LOG(2))","v":0.19088680058499302},null,null,null,"U3=",{"$f":"AG15/(LOG(AG4)/LOG(2))","v":0.19436056919111744},null,null,null,"U4=",{"$f":"AL15/(LOG(AL4)/LOG(2))","v":0.19436056919111744},null,null,null,"U5=",{"$f":"AQ15/(LOG(AQ4)/LOG(2))","v":0.19489788067961047},null,null,null,"U6=",{"$f":"AV15/(LOG(AV4)/LOG(2))","v":0.20117378921299717}]
[21,1316,22,1325,24,1334,null,null,null,null,0,222]
[21,1437,22,1442,24,1451,null,null,null,null,0,222]
[21,1545,22,1550,24,1555,null,null,null,null,0,222,null,"Total Target Seq"]
[12,1657,24,1682,24,1702,null,null,null,null,0,122,null,{"$f":"COUNTIF(L7:L194,G3)","v":0},null,31,32,31,31,32,31]
[12,1804,24,1819,24,1828,null,null,null,null,0,122,null,null,null,"% of reinforcement given in 6 equal intervals based on number of trials "]
[21,1950,22,1967,24,1979,null,null,null,null,0,222,null,null,null,"%_1","%_2","%_3","%_4","%_5","%_6"]
[21,2086,22,2094,24,2112,null,null,null,null,0,222,null,null,"target sequence",{"$f":"$G$3","v":211},{"$f":"$G$3","v":211},{"$f":"$G$3","v":211},{"$f":"$G$3","v":211},{"$f":"$G$3","v":211},{"$f":"$G$3","v":211}]
[12,2217,24,2231,24,2236,null,null,null,null,0,122,null,null,"total reinforcement",{"$f":"U11","v":0},{"$f":"Z11","v":0},{"$f":"AE11","v":0},{"$f":"AJ11","v":0},{"$f":"AO11","v":0},{"$f":"AT11","v":0}]
[12,2338,24,2356,24,2370,null,null,null,null,0,122,null,null,"% target"]
[12,2471,24,2480,24,2487,null,null,null,null,0,122,null,null,"CCRF"]
[12,2587,24,2600,24,2605,null,null,null,null,0,122,null,null,"% CCRf"]
[21,2707,22,2713,24,2721,null,null,null,null,0,222,null,null,"average response rate",{"$f":"F37/P20","v":123.41935483870968},{"$f":"(F69-F37)/Q20","v":124.25},{"$f":"(F100-F69)/R20","v":122.7741935483871},{"$f":"(F131-F100)/S20","v":134.06451612903226},{"$f":"(F163-F131)/T20","v":133.375},{"$f":"(F194-F163)/U20","v":-646.19354838709683}]
[12,2818,24,2833,24,2838,null,null,null,null,0,122]
[12,2944,24,2959,24,2966,null,null,null,null,0,122]
[12,3063,24,3081,24,3087,null,null,null,null,0,122]
[21,3194,22,3201,24,3212,null,null,null,null,0,222]
[21,3317,22,3326,24,3333,null,null,null,null,0,222]
[21,3429,22,3435,24,3449,null,null,null,null,0,222]
[21,3553,22,3558,24,3569,null,null,null,null,0,222]
[12,3667,24,3681,24,3687,null,null,null,null,0,122]
[21,3789,22,3793,24,3826,null,null,null,null,0,222]
[21,3934,22,3939,24,3953,null,null,null,null,0,222]
[12,4064,24,4073,24,4079,null,null,null,null,0,122]
[12,4182,24,4198,24,4206,null,null,null,null,0,122]
[12,4302,24,4316,24,4322,null,null,null,null,0,122]
[21,4421,22,4425,24,4430,null,null,null,null,0,222]
[12,4529,24,4546,24,4558,null,null,null,null,0,122]
[21,4660,22,4669,24,4677,null,null,null,null,0,222]
[12,4775,24,4793,24,4799,null,null,null,null,0,122]
[12,4899,24,4907,24,4912,null,null,null,null,0,122]
[12,5011,24,5027,24,5033,null,null,null,null,0,122]
[21,5136,22,5142,24,5148,null,null,null,null,0,222]
[12,5248,24,5264,24,5271,null,null,null,null,0,122]
[21,5370,22,5379,24,5385,null,null,null,null,0,222]
[12,5488,24,5498,24,5502,null,null,null,null,0,122]
[21,5596,22,5601,24,5642,null,null,null,null,0,222]
[12,5744,24,5762,24,5772,null,null,null,null,0,122]
[12,5877,24,5886,24,5891,null,null,null,null,0,122]
[12,5994,24,6038,24,6051,null,null,null,null,0,122]
[12,6150,24,6169,24,6175,null,null,null,null,0,122]
[12,6276,24,6290,24,6296,null,null,null,null,0,122]
[12,6395,24,6412,24,6418,null,null,null,null,0,122]
[12,6517,24,6530,24,6535,null,null,null,null,0,122]
[12,6632,24,6641,24,6646,null,null,null,null,0,122]
[21,6748,22,6753,24,6778,null,null,null,null,0,222]
[12,6878,24,6887,24,6893,null,null,null,null,0,122]
[21,6995,22,7000,24,7019,null,null,null,null,0,222]
[21,7170,22,7194,24,7213,null,null,null,null,0,222]
[21,7310,22,7315,24,7322,null,null,null,null,0,222]
[12,7420,24,7438,24,7446,null,null,null,null,0,122]
[12,7545,24,7557,24,7564,null,null,null,null,0,122]
[21,7659,22,7664,24,7669,null,null,null,null,0,222]
[21,7778,22,7789,24,7802,null,null,null,null,0,222]
[21,7904,22,7909,24,7916,null,null,null,null,0,222]
[21,8009,22,8014,24,8021,null,null,null,null,0,222]
[12,8120,24,8137,24,8145,null,null,null,null,0,122]
[21,8245,22,8250,24,8255,null,null,null,null,0,222]
[21,8361,22,8367,24,8376,null,null,null,null,0,222]
[21,8473,22,8477,24,8487,null,null,null,null,0,222]
[21,8586,22,8590,24,8604,null,null,null,null,0,222]
[21,8702,22,8707,24,8712,null,null,null,null,0,222]
[12,8813,24,8823,24,8827,null,null,null,null,0,122]
[21,8945,22,8951,24,8958,null,null,null,null,0,222]
[12,9055,24,9064,24,9069,null,null,null,null,0,122]
[12,9171,24,9180,24,9191,null,null,null,null,0,122]
[21,9293,22,9307,24,9332,null,null,null,null,0,222]
[12,9434,24,9462,24,9484,null,null,null,null,0,122]
[21,9582,22,9599,24,9623,null,null,null,null,0,222]
[21,9724,22,9729,24,9734,null,null,null,null,0,222]
[12,9834,24,9847,24,9855,null,null,null,null,0,122]
[21,9957,22,9962,24,9970,null,null,null,null,0,222]
[12,10074,24,10088,24,10115,null,null,null,null,0,122]
[12,10213,24,10230,24,10237,null,null,null,null,0,122]
[21,10332,22,10336,24,10348,null,null,null,null,0,222]
[21,10450,22,10455,24,10473,null,null,null,null,0,222]
[12,10576,24,10585,24,10590,null,null,null,null,0,122]
[21,10693,22,10699,24,10707,null,null,null,null,0,222]
[21,10809,22,10814,24,10841,null,null,null,null,0,222]
[21,10938,22,10942,24,10961,null,null,null,null,0,222]
[21,11061,22,11105,24,11114,null,null,null,null,0,222]
[12,11220,24,11237,24,11250,null,null,null,null,0,122]
[12,11347,24,11363,24,11369,null,null,null,null,0,122]
[12,11466,24,11482,24,11487,null,null,null,null,0,122]
[21,11589,22,11593,24,11608,null,null,null,null,0,222]
[21,11705,22,11710,24,11718,null,null,null,null,0,222]
[21,11819,22,11841,24,11872,null,null,null,null,0,222]
[21,11971,22,11986,24,12016,null,null,null,null,0,222]
[21,12114,22,12122,24,12133,null,null,null,null,0,222]
[21,12238,22,12243,24,12250,null,null,null,null,0,222]
[12,12351,24,12387,24,12399,null,null,null,null,0,122]
[12,12498,24,12516,24,12539,null,null,null,null,0,122]
[21,12639,22,12696,24,12714,null,null,null,null,0,222]
[21,12817,22,12822,24,12829,null,null,null,null,0,222]
[12,12930,24,12939,24,12952,null,null,null,null,0,122]
[21,13055,22,13060,24,13071,null,null,null,null,0,222]
[12,13171,24,13186,24,13194,null,null,null,null,0,122]
[12,13292,24,13304,24,13309,null,null,null,null,0,122]
[21,13410,22,13418,24,13436,null,null,null,null,0,222]
[12,13534,24,13550,24,13558,null,null,null,null,0,122]
[21,13658,22,13677,24,13716,null,null,null,null,0,222]
[21,13820,22,13841,24,13939,null,null,null,null,0,222]
[12,14038,24,14048,24,14053,null,null,null,null,0,122]
[21,14157,22,14163,24,14172,null,null,null,null,0,222]
[12,14274,24,14287,24,14304,null,null,null,null,0,122]
[21,14399,22,14407,24,14421,null,null,null,null,0,222]
[12,14528,24,14540,24,14545,null,null,null,null,0,122]
[21,14654,22,14698,24,14758,null,null,null,null,0,222]
[12,14861,24,14871,24,14880,null,null,null,null,0,122]
[21,14977,22,14986,24,15029,null,null,null,null,0,222]
[21,15128,22,15132,24,15138,null,null,null,null,0,222]
[12,15239,24,15251,24,15256,null,null,null,null,0,122]
[12,15358,24,15372,24,15384,null,null,null,null,0,122]
[21,15480,22,15484,24,15489,null,null,null,null,0,222]
[21,15616,22,15643,24,15652,null,null,null,null,0,222]
[21,15753,22,15757,24,15764,null,null,null,null,0,222]
[21,15916,22,15925,24,15933,null,null,null,null,0,222]
[21,16044,22,16053,24,16060,null,null,null,null,0,222]
[21,16155,22,16160,24,16174,null,null,null,null,0,222]
[21,16275,22,16281,24,16293,null,null,null,null,0,222]
[21,16398,22,16407,24,16412,null,null,null,null,0,222]
[21,16513,22,16543,24,16563,null,null,null,null,0,222]
[12,16664,24,16674,24,16691,null,null,null,null,0,122]
[21,16794,22,16799,24,16818,null,null,null,null,0,222]
[21,16916,22,16920,24,16958,null,null,null,null,0,222]
[21,17061,22,17066,24,17071,null,null,null,null,0,222]
[12,17169,24,17182,24,17188,null,null,null,null,0,122]
[12,17286,24,17298,24,17315,null,null,null,null,0,122]
[21,17415,22,17420,24,17425,null,null,null,null,0,222]
[21,17592,22,17600,24,17611,null,null,null,null,0,222]
[12,17714,24,17729,24,17752,null,null,null,null,0,122]
[21,17847,22,17851,24,17864,null,null,null,null,0,222]
[12,17968,24,17976,24,17981,null,null,null,null,0,122]
[12,18082,24,18094,24,18106,null,null,null,null,0,122]
[21,18208,22,18213,24,18304,null,null,null,null,0,222]
[21,18412,22,18418,24,18431,null,null,null,null,0,222]
[12,18532,24,18548,24,18555,null,null,null,null,0,122]
[12,18662,24,18671,24,18679,null,null,null,null,0,122]
[21,18790,22,18795,24,18804,null,null,null,null,0,222]
[21,18907,22,18912,24,18917,null,null,null,null,0,222]
[21,19019,22,19025,24,19069,null,null,null,null,0,222]
[21,19172,22,19179,24,19233,null,null,null,null,0,222]
[12,19332,24,19349,24,19383,null,null,null,null,0,122]
[12,19490,24,19499,24,19504,null,null,null,null,0,122]
[12,19606,24,19639,24,19652,null,null,null,null,0,122]
[12,19751,24,19764,24,19771,null,null,null,null,0,122]
[21,19865,22,19870,24,19895,null,null,null,null,0,222]
[12,19998,24,20014,24,20032,null,null,null,null,0,122]
[21,20130,22,20135,24,20144,null,null,null,null,0,222]
[21,20252,22,20260,24,20273,null,null,null,null,0,222]
[21,20376,22,20381,24,20385,null,null,null,null,0,222]
[21,20500,22,20511,24,20519,null,null,null,null,0,222]
[21,20637,22,20642,24,20650,null,null,null,null,0,222]
[21,20756,22,20762,24,20773,null,null,null,null,0,222]
[21,20875,22,20885,24,20892,null,null,null,null,0,222]
[21,20998,22,21004,24,21012,null,null,null,null,0,222]
[21,21118,22,21123,24,21154,null,null,null,null,0,222]
[21,21271,22,21279,24,21316,null,null,null,null,0,222]
[12,21415,24,21425,24,21429,null,null,null,null,0,122]
[12,21528,24,21542,24,21554,null,null,null,null,0,122]
[21,21654,22,21658,24,21669,null,null,null,null,0,222]
[12,21768,24,21796,24,21803,null,null,null,null,0,122]
[12,21910,24,21918,24,21928,null,null,null,null,0,122]
[21,22025,22,22030,24,22041,null,null,null,null,0,222]
[12,22142,24,22153,24,22158,null,null,null,null,0,122]
[21,22261,22,22287,24,22300,null,null,null,null,0,222]
[12,22404,24,22415,24,22454,null,null,null,null,0,122]
[21,22563,22,22581,24,22586,null,null,null,null,0,222]
[12,22689,24,22708,24,22724,null,null,null,null,0,122]
[12,22823,24,22848,24,22857,null,null,null,null,0,122]
[12,22960,24,22969,24,22975,null,null,null,null,0,122]
[21,23100,22,23118,24,23145,null,null,null,null,0,222]
[21,23240,22,23244,24,23258,null,null,null,null,0,222]
[21,23359,22,23364,24,23368,null,null,null,null,0,222]
[12,23470,24,23484,24,23491,null,null,null,null,0,122]
[12,23592,24,23608,24,23618,null,null,null,null,0,122]
[12,23719,24,23735,24,23745,null,null,null,null,0,122]
[12,23851,24,23869,24,23884,null,null,null,null,0,122]
[21,23988,22,23993,null,null,null,null,null,null,null,22]

{"sheet":"!MA04830.091","index":16,"n_rows":196,"n_cols":48,"rows_kept":196,"cut":false,"hidden":false,"merged":[[4,39,4,42],[5,39,5,40],[4,44,4,47],[5,44,5,45],[4,24,4,27],[5,24,5,25],[4,29,4,32],[5,29,5,30],[4,34,4,37],[5,34,5,35],[1,1,1,2],[5,13,5,14],[18,13,18,14],[19,13,19,14],[4,19,4,22],[5,19,5,20]]}
["Report for:!MA04830.091"]
["Date:","<date>"]
["Hen:","<hen>",null,null,null,"Correct Sequence",{"$f":"Start!J2","v":211},null,null,null,null,null,null,null,null,"Total Sequences in Data",{"$f":"4994-COUNTBLANK(L7:L5000)","v":190},null,null,null,null,"Total Sequences in Block Data",{"$f":"COUNTA(L7:L38)","v":32},null,null,null,"Total Sequences in Block Data",{"$f":"COUNTA(L39:L69)","v":31},null,null,null,"Total Sequences in Block Data",{"$f":"COUNTA(L70:L101)","v":32},null,null,null,"Total Sequences in Block Data",{"$f":"COUNTA(L102:L133)","v":32},null,null,null,"Total Sequences in Block Data",{"$f":"COUNTA(L134:L164)","v":31},null,null,null,"Total Sequences in Block Data",{"$f":"COUNTA(L165:L196)","v":32}]
[null,null,null,null,null,null,null,null,null,null,null,null,null,null,null,"Total Sequences in Summary",{"$f":"SUM(O7:O14)","v":190},null,null,null,null,"Total Sequences in Block Summary",{"$f":"SUM(U7:U14)","v":32},null,null,null,"Total Sequences in Block Summary",{"$f":"SUM(Z7:Z14)","v":31},null,null,null,"Total Sequences in Block Summary",{"$f":"SUM(AE7:AE14)","v":32},null,null,null,"Total Sequences in Block Summary",{"$f":"SUM(AJ7:AJ14)","v":32},null,null,null,"Total Sequences in Block Summary",{"$f":"SUM(AO7:AO14)","v":31},null,null,null,"Total Sequences in Block Summary",{"$f":"SUM(AT7:AT14)","v":32}]
[null,null,null,null,null,null,null,null,null,null,null,null,null,null,null,null,null,null,null,"Block 1",null,null,null,null,"Block 2",null,null,null,null,"Block 3",null,null,null,null,"Block 4",null,null,null,null,"Block 5",null,null,null,null,"Block 6"]
["Sequence\nComponent\n1","Time\n1","Sequence\nComponent\n2","Time\n2","Sequence\nComponent\n3","Time\n3","Sequence\nComponent\n4","Time\n4","Sequence\nComponent\n5","Time\n5","Correct?\n0=No 1=Yes","Sequence",null,"Frequency",null,"Relative Frequency","Variability",null,null,"Frequency",null,"Relative Frequency","Variability",null,"Frequency",null,"Relative Frequency","Variability",null,"Frequency",null,"Relative Frequency","Variability",null,"Frequency",null,"Relative Frequency","Variability",null,"Frequency",null,"Relative Frequency","Variability",null,"Frequency",null,"Relative Frequency","Variability"]
[12,18,24,34,24,54,null,null,null,null,0,122,null,111,{"$f":"COUNTIF($L$7:$L$500,N7)","v":0},{"$f":"O7/$Q$4","v":0},{"$f":"IF(P7=0,0,(P7*((LOG(P7))/LOG(2))))","v":0},null,null,{"$f":"N7","v":111},{"$f":"COUNTIF(L7:L38,T7)","v":0},{"$f":"U7/(W4-U11)","v":0},{"$f":"IF(V7=0,0,(V7*((LOG(V7))/LOG(2))))","v":0},null,{"$f":"N7","v":111},{"$f":"COUNTIF(L39:L69,Y7)","v":0},{"$f":"Z7/(AB4-Z11)","v":0},{"$f":"IF(AA7=0,0,(AA7*((LOG(AA7))/LOG(2))))","v":0},null,{"$f":"N7","v":111},{"$f":"COUNTIF(L70:L101,AD7)","v":0},{"$f":"AE7/(AG4-AE11)","v":0},{"$f":"IF(AF7=0,0,(AF7*((LOG(AF7))/LOG(2))))","v":0},null,{"$f":"N7","v":111},{"$f":"COUNTIF(L102:L133,AI7)","v":0},{"$f":"AJ7/(AL4-AJ11)","v":0},{"$f":"IF(AK7=0,0,(AK7*((LOG(AK7))/LOG(2))))","v":0},null,{"$f":"N7","v":111},{"$f":"COUNTIF(L134:L164,AN7)","v":0},{"$f":"AO7/(AQ4-AO11)","v":0},{"$f":"IF(AP7=0,0,(AP7*((LOG(AP7))/LOG(2))))","v":0},null,{"$f":"N7","v":111},{"$f":"COUNTIF(L165:L196,AS7)","v":0},{"$f":"AT7/(AV4-AT11)","v":0},{"$f":"IF(AU7=0,0,(AU7*((LOG(AU7))/LOG(2))))","v":0}]
[21,162,22,169,24,177,null,null,null,null,0,222,null,112,{"$f":"COUNTIF($L$7:$L$500,N8)","v":7},{"$f":"O8/$Q$4","v":3.6842105263157891E-2},{"$f":"IF(P8=0,0,(P8*((LOG(P8))/LOG(2))))","v":-0.17546055159954424},null,null,{"$f":"N8","v":112},{"$f":"COUNTIF(L7:L38,T8)","v":3},{"$f":"U8/(W4-U11)","v":9.375E-2},{"$f":"IF(V8=0,0,(V8*((LOG(V8))/LOG(2))))","v":-0.32015976555739156},null,{"$f":"N8","v":112},{"$f":"COUNTIF(L39:L69,Y8)","v":1},{"$f":"Z8/(AB4-Z11)","v":3.2258064516129031E-2},{"$f":"IF(AA8=0,0,(AA8*((LOG(AA8))/LOG(2))))","v":-0.15981278420602821},null,{"$f":"N8","v":112},{"$f":"COUNTIF(L70:L101,AD8)","v":0},{"$f":"AE8/(AG4-AE11)","v":0},{"$f":"IF(AF8=0,0,(AF8*((LOG(AF8))/LOG(2))))","v":0},null,{"$f":"N8","v":112},{"$f":"COUNTIF(L102:L133,AI8)","v":1},{"$f":"AJ8/(AL4-AJ11)","v":3.125E-2},{"$f":"IF(AK8=0,0,(AK8*((LOG(AK8))/LOG(2))))","v":-0.15625},null,{"$f":"N8","v":112},{"$f":"COUNTIF(L134:L164,AN8)","v":1},{"$f":"AO8/(AQ4-AO11)","v":3.2258064516129031E-2},{"$f":"IF(AP8=0,0,(AP8*((LOG(AP8))/LOG(2))))","v":-0.15981278420602821},null,{"$f":"N8","v":112},{"$f":"COUNTIF(L165:L196,AS8)","v":1},{"$f":"AT8/(AV4-AT11)","v":3.125E-2},{"$f":"IF(AU8=0,0,(AU8*((LOG(AU8))/LOG(2))))","v":-0.15625}]
[12,282,24,300,24,309,null,null,null,null,0,122,null,121,{"$f":"COUNTIF($L$7:$L$500,N9)","v":0},{"$f":"O9/$Q$4","v":0},{"$f":"IF(P9=0,0,(P9*((LOG(P9))/LOG(2))))","v":0},null,null,{"$f":"N9","v":121},{"$f":"COUNTIF(L7:L38,T9)","v":0},{"$f":"U9/(W4-U11)","v":0},{"$f":"IF(V9=0,0,(V9*((LOG(V9))/LOG(2))))","v":0},null,{"$f":"N9","v":121},{"$f":"COUNTIF(L39:L69,Y9)","v":0},{"$f":"Z9/(AB4-Z11)","v":0},{"$f":"IF(AA9=0,0,(AA9*((LOG(AA9))/LOG(2))))","v":0},null,{"$f":"N9","v":121},{"$f":"COUNTIF(L70:L101,AD9)","v":0},{"$f":"AE9/(AG4-AE11)","v":0},{"$f":"IF(AF9=0,0,(AF9*((LOG(AF9))/LOG(2))))","v":0},null,{"$f":"N9","v":121},{"$f":"COUNTIF(L102:L133,AI9)","v":0},{"$f":"AJ9/(AL4-AJ11)","v":0},{"$f":"IF(AK9=0,0,(AK9*((LOG(AK9))/LOG(2))))","v":0},null,{"$f":"N9","v":121},{"$f":"COUNTIF(L134:L164,AN9)","v":0},{"$f":"AO9/(AQ4-AO11)","v":0},{"$f":"IF(AP9=0,0,(AP9*((LOG(AP9))/LOG(2))))","v":0},null,{"$f":"N9","v":121},{"$f":"COUNTIF(L165:L196,AS9)","v":0},{"$f":"AT9/(AV4-AT11)","v":0},{"$f":"IF(AU9=0,0,(AU9*((LOG(AU9))/LOG(2))))","v":0}]
[21,411,22,416,24,422,null,null,null,null,0,222,null,122,{"$f":"COUNTIF($L$7:$L$500,N10)","v":96},{"$f":"O10/$Q$4","v":0.50526315789473686},{"$f":"IF(P10=0,0,(P10*((LOG(P10))/LOG(2))))","v":-0.4976302017396842},null,null,{"$f":"N10","v":122},{"$f":"COUNTIF(L7:L38,T10)","v":13},{"$f":"U10/(W4-U11)","v":0.40625},{"$f":"IF(V10=0,0,(V10*((LOG(V10))/LOG(2))))","v":-0.52794636450518129},null,{"$f":"N10","v":122},{"$f":"COUNTIF(L39:L69,Y10)","v":17},{"$f":"Z10/(AB4-Z11)","v":0.54838709677419351},{"$f":"IF(AA10=0,0,(AA10*((LOG(AA10))/LOG(2))))","v":-0.47530545081681003},null,{"$f":"N10","v":122},{"$f":"COUNTIF(L70:L101,AD10)","v":20},{"$f":"AE10/(AG4-AE11)","v":0.625},{"$f":"IF(AF10=0,0,(AF10*((LOG(AF10))/LOG(2))))","v":-0.42379494069539858},null,{"$f":"N10","v":122},{"$f":"COUNTIF(L102:L133,AI10)","v":14},{"$f":"AJ10/(AL4-AJ11)","v":0.4375},{"$f":"IF(AK10=0,0,(AK10*((LOG(AK10))/LOG(2))))","v":-0.52178222159979815},null,{"$f":"N10","v":122},{"$f":"COUNTIF(L134:L164,AN10)","v":15},{"$f":"AO10/(AQ4-AO11)","v":0.4838709677419355},{"$f":"IF(AP10=0,0,(AP10*((LOG(AP10))/LOG(2))))","v":-0.50676082973146286},null,{"$f":"N10","v":122},{"$f":"COUNTIF(L165:L196,AS10)","v":17},{"$f":"AT10/(AV4-AT11)","v":0.53125},{"$f":"IF(AU10=0,0,(AU10*((LOG(AU10))/LOG(2))))","v":-0.48478536558575719}]
[21,533,22,538,24,546,null,null,null,null,0,222,null,211,{"$f":"COUNTIF($L$7:$L$500,N11)","v":0},{"$f":"O11/$Q$4","v":0},{"$f":"IF(P11=0,0,(P11*((LOG(P11))/LOG(2))))","v":0},null,null,{"$f":"N11","v":211},{"$f":"COUNTIF(L7:L38,T11)","v":0},null,null,null,{"$f":"N11","v":211},{"$f":"COUNTIF(L39:L69,Y11)","v":0},null,null,null,{"$f":"N11","v":211},{"$f":"COUNTIF(L70:L101,AD11)","v":0},null,null,null,{"$f":"N11","v":211},{"$f":"COUNTIF(L102:L133,AI11)","v":0},null,null,null,{"$f":"N11","v":211},{"$f":"COUNTIF(L134:L164,AN11)","v":0},null,null,null,{"$f":"N11","v":211},{"$f":"COUNTIF(L165:L196,AS11)","v":0}]
[21,645,22,650,24,660,null,null,null,null,0,222,null,212,{"$f":"COUNTIF($L$7:$L$500,N12)","v":0},{"$f":"O12/$Q$4","v":0},{"$f":"IF(P12=0,0,(P12*((LOG(P12))/LOG(2))))","v":0},null,null,{"$f":"N12","v":212},{"$f":"COUNTIF(L7:L38,T12)","v":0},{"$f":"U12/(W4-U11)","v":0},{"$f":"IF(V12=0,0,(V12*((LOG(V12))/LOG(2))))","v":0},null,{"$f":"N12","v":212},{"$f":"COUNTIF(L39:L69,Y12)","v":0},{"$f":"Z12/(AB4-Z11)","v":0},{"$f":"IF(AA12=0,0,(AA12*((LOG(AA12))/LOG(2))))","v":0},null,{"$f":"N12","v":212},{"$f":"COUNTIF(L70:L101,AD12)","v":0},{"$f":"AE12/(AG4-AE11)","v":0},{"$f":"IF(AF12=0,0,(AF12*((LOG(AF12))/LOG(2))))","v":0},null,{"$f":"N12","v":212},{"$f":"COUNTIF(L102:L133,AI12)","v":0},{"$f":"AJ12/(AL4-AJ11)","v":0},{"$f":"IF(AK12=0,0,(AK12*((LOG(AK12))/LOG(2))))","v":0},null,{"$f":"N12","v":212},{"$f":"COUNTIF(L134:L164,AN12)","v":0},{"$f":"AO12/(AQ4-AO11)","v":0},{"$f":"IF(AP12=0,0,(AP12*((LOG(AP12))/LOG(2))))","v":0},null,{"$f":"N12","v":212},{"$f":"COUNTIF(L165:L196,AS12)","v":0},{"$f":"AT12/(AV4-AT11)","v":0},{"$f":"IF(AU12=0,0,(AU12*((LOG(AU12))/LOG(2))))","v":0}]
[12,759,24,776,24,806,null,null,null,null,0,122,null,221,{"$f":"COUNTIF($L$7:$L$500,N13)","v":0},{"$f":"O13/$Q$4","v":0},{"$f":"IF(P13=0,0,(P13*((LOG(P13))/LOG(2))))","v":0},null,null,{"$f":"N13","v":221},{"$f":"COUNTIF(L7:L38,T13)","v":0},{"$f":"U13/(W4-U11)","v":0},{"$f":"IF(V13=0,0,(V13*((LOG(V13))/LOG(2))))","v":0},null,{"$f":"N13","v":221},{"$f":"COUNTIF(L39:L69,Y13)","v":0},{"$f":"Z13/(AB4-Z11)","v":0},{"$f":"IF(AA13=0,0,(AA13*((LOG(AA13))/LOG(2))))","v":0},null,{"$f":"N13","v":221},{"$f":"COUNTIF(L70:L101,AD13)","v":0},{"$f":"AE13/(AG4-AE11)","v":0},{"$f":"IF(AF13=0,0,(AF13*((LOG(AF13))/LOG(2))))","v":0},null,{"$f":"N13","v":221},{"$f":"COUNTIF(L102:L133,AI13)","v":0},{"$f":"AJ13/(AL4-AJ11)","v":0},{"$f":"IF(AK13=0,0,(AK13*((LOG(AK13))/LOG(2))))","v":0},null,{"$f":"N13","v":221},{"$f":"COUNTIF(L134:L164,AN13)","v":0},{"$f":"AO13/(AQ4-AO11)","v":0},{"$f":"IF(AP13=0,0,(AP13*((LOG(AP13))/LOG(2))))","v":0},null,{"$f":"N13","v":221},{"$f":"COUNTIF(L165:L196,AS13)","v":0},{"$f":"AT13/(AV4-AT11)","v":0},{"$f":"IF(AU13=0,0,(AU13*((LOG(AU13))/LOG(2))))","v":0}]
[12,908,24,920,24,935,null,null,null,null,0,122,null,222,{"$f":"COUNTIF($L$7:$L$500,N14)","v":87},{"$f":"O14/$Q$4","v":0.45789473684210524},{"$f":"IF(P14=0,0,(P14*((LOG(P14))/LOG(2))))","v":-0.51600712518922687},null,null,{"$f":"N14","v":222},{"$f":"COUNTIF(L7:L38,T14)","v":16},{"$f":"U14/(W4-U11)","v":0.5},{"$f":"IF(V14=0,0,(V14*((LOG(V14))/LOG(2))))","v":-0.5},null,{"$f":"N14","v":222},{"$f":"COUNTIF(L39:L69,Y14)","v":13},{"$f":"Z14/(AB4-Z11)","v":0.41935483870967744},{"$f":"IF(AA14=0,0,(AA14*((LOG(AA14))/LOG(2))))","v":-0.52576889352242517},null,{"$f":"N14","v":222},{"$f":"COUNTIF(L70:L101,AD14)","v":12},{"$f":"AE14/(AG4-AE11)","v":0.375},{"$f":"IF(AF14=0,0,(AF14*((LOG(AF14))/LOG(2))))","v":-0.53063906222956647},null,{"$f":"N14","v":222},{"$f":"COUNTIF(L102:L133,AI14)","v":17},{"$f":"AJ14/(AL4-AJ11)","v":0.53125},{"$f":"IF(AK14=0,0,(AK14*((LOG(AK14))/LOG(2))))","v":-0.48478536558575719},null,{"$f":"N14","v":222},{"$f":"COUNTIF(L134:L164,AN14)","v":15},{"$f":"AO14/(AQ4-AO11)","v":0.4838709677419355},{"$f":"IF(AP14=0,0,(AP14*((LOG(AP14))/LOG(2))))","v":-0.50676082973146286},null,{"$f":"N14","v":222},{"$f":"COUNTIF(L165:L196,AS14)","v":14},{"$f":"AT14/(AV4-AT11)","v":0.4375},{"$f":"IF(AU14=0,0,(AU14*((LOG(AU14))/LOG(2))))","v":-0.52178222159979815}]
[12,1034,24,1049,24,1055,null,null,null,null,0,122,null,null,null,{"$f":"SUM(P7:P14)","v":1},{"$f":"-SUM(Q7:Q14)","v":1.1890978785284552},null,null,null,null,{"$f":"SUM(V7:V14)","v":1},{"$f":"-SUM(W7:W14)","v":1.3481061300625727},null,null,null,{"$f":"SUM(AA7:AA14)","v":1},{"$f":"-SUM(AB7:AB14)","v":1.1608871285452635},null,null,null,{"$f":"SUM(AF7:AF14)","v":1},{"$f":"-SUM(AG7:AG14)","v":0.95443400292496505},null,null,null,{"$f":"SUM(AK7:AK14)","v":1},{"$f":"-SUM(AL7:AL14)","v":1.1628175871855553},null,null,null,{"$f":"SUM(AP7:AP14)","v":1},{"$f":"-SUM(AQ7:AQ14)","v":1.1733344436689539},null,null,null,{"$f":"SUM(AU7:AU14)","v":1},{"$f":"-SUM(AV7:AV14)","v":1.1628175871855553}]
[21,1154,22,1161,24,1192,null,null,null,null,0,222,null,null,null,"U=",{"$f":"Q15/(LOG(Q4)/LOG(2))","v":0.15708329723222228},null,null,null,null,"U1=",{"$f":"W15/(LOG(W4)/LOG(2))","v":0.26962122601251454},null,null,null,"U2=",{"$f":"AB15/(LOG(AB4)/LOG(2))","v":0.23432400652177821},null,null,null,"U3=",{"$f":"AG15/(LOG(AG4)/LOG(2))","v":0.19088680058499302},null,null,null,"U4=",{"$f":"AL15/(LOG(AL4)/LOG(2))","v":0.23256351743711107},null,null,null,"U5=",{"$f":"AQ15/(LOG(AQ4)/LOG(2))","v":0.23683648570989466},null,null,null,"U6=",{"$f":"AV15/(LOG(AV4)/LOG(2))","v":0.23256351743711107}]
[21,1293,22,1303,24,1310,null,null,null,null,0,222]
[12,1408,24,1424,24,1435,null,null,null,null,0,122]
[21,1547,22,1554,24,1564,null,null,null,null,0,222,null,"Total Target Seq"]
[12,1662,13,1664,24,1681,null,null,null,null,0,112,null,{"$f":"COUNTIF(L7:L196,G3)","v":0},null,32,31,32,32,31,32]
[12,1781,24,1795,24,1803,null,null,null,null,0,122,null,null,null,"% of reinforcement given in 6 equal intervals based on number of trials "]
[21,1907,22,1916,24,1925,null,null,null,null,0,222,null,null,null,"%_1","%_2","%_3","%_4","%_5","%_6"]
[12,2022,24,2039,24,2053,null,null,null,null,0,122,null,null,"target sequence",{"$f":"$G$3","v":211},{"$f":"$G$3","v":211},{"$f":"$G$3","v":211},{"$f":"$G$3","v":211},{"$f":"$G$3","v":211},{"$f":"$G$3","v":211}]
[12,2153,24,2171,24,2180,null,null,null,null,0,122,null,null,"total reinforcement",{"$f":"U11","v":0},{"$f":"Z11","v":0},{"$f":"AE11","v":0},{"$f":"AJ11","v":0},{"$f":"AO11","v":0},{"$f":"AT11","v":0}]
[12,2278,24,2295,24,2304,null,null,null,null,0,122,null,null,"% target"]
[12,2405,13,2421,24,2431,null,null,null,null,0,112,null,null,"CCRF"]
[21,2548,22,2562,24,2573,null,null,null,null,0,222,null,null,"% CCRf"]
[21,2690,22,2700,24,2709,null,null,null,null,0,222,null,null,"average response rate",{"$f":"F38/P20","v":123.96875},{"$f":"(F69-F38)/Q20","v":132.16129032258064},{"$f":"(F101-F69)/R20","v":126.40625},{"$f":"(F133-F101)/S20","v":126.59375},{"$f":"(F164-F133)/T20","v":123.80645161290323},{"$f":"(F196-F164)/U20","v":123.96875}]
[21,2820,22,2835,24,2844,null,null,null,null,0,222]
[12,2949,13,2950,24,2969,null,null,null,null,0,112]
[21,3065,22,3071,24,3079,null,null,null,null,0,222]
[12,3180,24,3193,24,3202,null,null,null,null,0,122]
[21,3305,22,3310,24,3330,null,null,null,null,0,222]
[21,3432,22,3452,24,3470,null,null,null,null,0,222]
[21,3580,22,3589,24,3604,null,null,null,null,0,222]
[12,3708,24,3719,24,3734,null,null,null,null,0,122]
[12,3833,24,3847,24,3858,null,null,null,null,0,122]
[21,3954,22,3959,24,3967,null,null,null,null,0,222]
[12,4067,24,4130,24,4173,null,null,null,null,0,122]
[21,4275,22,4280,24,4297,null,null,null,null,0,222]
[12,4398,24,4412,24,4438,null,null,null,null,0,122]
[12,4538,24,4549,24,4554,null,null,null,null,0,122]
[21,4650,22,4655,24,4667,null,null,null,null,0,222]
[12,4765,24,4780,24,4789,null,null,null,null,0,122]
[12,4889,24,4924,24,4940,null,null,null,null,0,122]
[12,5039,24,5055,24,5063,null,null,null,null,0,122]
[21,5169,22,5202,24,5216,null,null,null,null,0,222]
[12,5317,13,5331,24,5343,null,null,null,null,0,112]
[21,5438,22,5442,24,5455,null,null,null,null,0,222]
[21,5556,22,5561,24,5567,null,null,null,null,0,222]
[12,5666,24,5676,24,5690,null,null,null,null,0,122]
[21,5793,22,5798,24,5812,null,null,null,null,0,222]
[12,5912,24,5932,24,5956,null,null,null,null,0,122]
[12,6058,24,6074,24,6101,null,null,null,null,0,122]
[12,6202,24,6214,24,6234,null,null,null,null,0,122]
[21,6333,22,6338,24,6347,null,null,null,null,0,222]
[21,6442,22,6449,24,6460,null,null,null,null,0,222]
[21,6560,22,6572,24,6581,null,null,null,null,0,222]
[12,6680,24,6799,24,6821,null,null,null,null,0,122]
[12,6921,24,6930,24,6935,null,null,null,null,0,122]
[21,7035,22,7049,24,7057,null,null,null,null,0,222]
[21,7158,22,7167,24,7175,null,null,null,null,0,222]
[21,7280,22,7286,24,7294,null,null,null,null,0,222]
[12,7393,24,7410,24,7418,null,null,null,null,0,122]
[12,7517,24,7534,24,7548,null,null,null,null,0,122]
[12,7647,24,7665,24,7695,null,null,null,null,0,122]
[21,7793,22,7800,24,7815,null,null,null,null,0,222]
[12,7915,24,7923,24,7928,null,null,null,null,0,122]
[12,8030,24,8048,24,8064,null,null,null,null,0,122]
[12,8161,24,8174,24,8180,null,null,null,null,0,122]
[12,8279,24,8298,24,8306,null,null,null,null,0,122]
[12,8404,24,8417,24,8423,null,null,null,null,0,122]
[12,8521,24,8534,24,8558,null,null,null,null,0,122]
[12,8658,24,8674,24,8681,null,null,null,null,0,122]
[21,8780,22,8784,24,8793,null,null,null,null,0,222]
[12,8891,24,8908,24,8913,null,null,null,null,0,122]
[12,9014,24,9023,24,9034,null,null,null,null,0,122]
[12,9133,24,9149,24,9169,null,null,null,null,0,122]
[21,9272,22,9279,24,9319,null,null,null,null,0,222]
[21,9414,22,9419,24,9427,null,null,null,null,0,222]
[21,9537,22,9549,24,9568,null,null,null,null,0,222]
[21,9672,22,9676,24,9698,null,null,null,null,0,222]
[21,9797,22,9802,24,9823,null,null,null,null,0,222]
[12,9924,24,9936,24,9941,null,null,null,null,0,122]
[12,10040,24,10054,24,10059,null,null,null,null,0,122]
[21,10168,22,10178,24,10185,null,null,null,null,0,222]
[12,10284,24,10300,24,10309,null,null,null,null,0,122]
[12,10409,24,10423,24,10429,null,null,null,null,0,122]
[12,10527,24,10541,24,10548,null,null,null,null,0,122]
[12,10650,24,10661,24,10669,null,null,null,null,0,122]
[21,10776,22,10824,24,10833,null,null,null,null,0,222]
[12,10934,24,10963,24,10972,null,null,null,null,0,122]
[12,11070,24,11082,24,11087,null,null,null,null,0,122]
[12,11187,24,11205,24,11212,null,null,null,null,0,122]
[12,11311,24,11323,24,11328,null,null,null,null,0,122]
[12,11430,24,11447,24,11455,null,null,null,null,0,122]
[12,11556,24,11592,24,11600,null,null,null,null,0,122]
[21,11703,22,11729,24,11737,null,null,null,null,0,222]
[21,11846,22,11859,24,11867,null,null,null,null,0,222]
[21,11968,22,11973,24,11998,null,null,null,null,0,222]
[21,12094,22,12102,24,12109,null,null,null,null,0,222]
[12,12208,24,12222,24,12235,null,null,null,null,0,122]
[21,12336,22,12348,24,12368,null,null,null,null,0,222]
[12,12466,24,12494,24,12514,null,null,null,null,0,122]
[12,12613,24,12624,24,12629,null,null,null,null,0,122]
[12,12730,13,12746,24,12761,null,null,null,null,0,112]
[21,12858,22,12883,24,12891,null,null,null,null,0,222]
[12,12989,24,13002,24,13007,null,null,null,null,0,122]
[21,13102,22,13106,24,13133,null,null,null,null,0,222]
[21,13232,22,13236,24,13240,null,null,null,null,0,222]
[21,13343,22,13359,24,13414,null,null,null,null,0,222]
[21,13519,22,13526,24,13533,null,null,null,null,0,222]
[12,13632,24,13647,24,13655,null,null,null,null,0,122]
[21,13767,22,13773,24,13783,null,null,null,null,0,222]
[12,13879,24,13888,24,13901,null,null,null,null,0,122]
[12,14000,24,14016,24,14024,null,null,null,null,0,122]
[12,14122,24,14139,24,14145,null,null,null,null,0,122]
[21,14244,22,14248,24,14255,null,null,null,null,0,222]
[21,14354,22,14358,24,14368,null,null,null,null,0,222]
[21,14474,22,14482,24,14491,null,null,null,null,0,222]
[21,14597,22,14602,24,14618,null,null,null,null,0,222]
[12,14715,24,14735,24,14740,null,null,null,null,0,122]
[12,14839,24,14856,24,14865,null,null,null,null,0,122]
[12,14963,24,14979,24,14983,null,null,null,null,0,122]
[12,15082,24,15101,24,15109,null,null,null,null,0,122]
[12,15208,24,15225,24,15238,null,null,null,null,0,122]
[21,15335,22,15340,24,15353,null,null,null,null,0,222]
[21,15461,22,15466,24,15492,null,null,null,null,0,222]
[21,15592,22,15596,24,15639,null,null,null,null,0,222]
[21,15749,22,15755,24,15762,null,null,null,null,0,222]
[12,15863,24,15879,24,15887,null,null,null,null,0,122]
[21,16003,22,16010,24,16015,null,null,null,null,0,222]
[21,16119,22,16123,24,16160,null,null,null,null,0,222]
[12,16262,24,16274,24,16284,null,null,null,null,0,122]
[21,16390,22,16396,24,16402,null,null,null,null,0,222]
[21,16508,22,16525,24,16533,null,null,null,null,0,222]
[21,16636,22,16649,24,16673,null,null,null,null,0,222]
[21,16770,22,16774,24,16781,null,null,null,null,0,222]
[12,16881,24,16890,24,16894,null,null,null,null,0,122]
[12,16992,24,17008,24,17017,null,null,null,null,0,122]
[21,17110,22,17115,24,17158,null,null,null,null,0,222]
[12,17261,24,17296,24,17305,null,null,null,null,0,122]
[12,17402,24,17415,24,17420,null,null,null,null,0,122]
[12,17519,24,17533,24,17538,null,null,null,null,0,122]
[12,17641,24,17654,24,17663,null,null,null,null,0,122]
[21,17757,22,17764,24,17788,null,null,null,null,0,222]
[21,17886,22,17891,24,17899,null,null,null,null,0,222]
[21,17999,22,18003,24,18021,null,null,null,null,0,222]
[12,18119,24,18136,24,18144,null,null,null,null,0,122]
[21,18250,22,18255,24,18259,null,null,null,null,0,222]
[21,18363,22,18368,24,18377,null,null,null,null,0,222]
[21,18474,22,18479,24,18494,null,null,null,null,0,222]
[21,18607,22,18615,24,18622,null,null,null,null,0,222]
[12,18720,24,18737,24,18755,null,null,null,null,0,122]
[12,18854,24,18883,24,18889,null,null,null,null,0,122]
[12,18988,24,19004,24,19021,null,null,null,null,0,122]
[12,19126,24,19135,24,19139,null,null,null,null,0,122]
[12,19237,24,19246,24,19255,null,null,null,null,0,122]
[21,19362,22,19369,24,19374,null,null,null,null,0,222]
[12,19473,24,19486,24,19491,null,null,null,null,0,122]
[21,19599,22,19605,24,19629,null,null,null,null,0,222]
[12,19730,13,19747,24,19759,null,null,null,null,0,112]
[21,19865,22,19870,24,19877,null,null,null,null,0,222]
[12,19979,24,19993,24,19998,null,null,null,null,0,122]
[12,20098,24,20111,24,20115,null,null,null,null,0,122]
[12,20217,24,20234,24,20242,null,null,null,null,0,122]
[21,20337,22,20347,24,20360,null,null,null,null,0,222]
[12,20458,24,20476,24,20484,null,null,null,null,0,122]
[12,20582,13,20591,24,20607,null,null,null,null,0,112]
[21,20711,22,20721,24,20749,null,null,null,null,0,222]
[12,20848,24,20863,24,20869,null,null,null,null,0,122]
[12,20966,24,20978,24,20983,null,null,null,null,0,122]
[12,21083,24,21097,24,21108,null,null,null,null,0,122]
[12,21206,24,21224,24,21261,null,null,null,null,0,122]
[21,21367,22,21377,24,21399,null,null,null,null,0,222]
[12,21499,24,21514,24,21524,null,null,null,null,0,122]
[12,21622,24,21634,24,21653,null,null,null,null,0,122]
[21,21754,22,21789,24,21796,null,null,null,null,0,222]
[21,21896,22,21901,24,21910,null,null,null,null,0,222]
[12,22009,24,22024,24,22029,null,null,null,null,0,122]
[21,22126,22,22132,24,22139,null,null,null,null,0,222]
[21,22233,22,22238,24,22257,null,null,null,null,0,222]
[21,22366,22,22378,24,22390,null,null,null,null,0,222]
[12,22492,24,22516,24,22523,null,null,null,null,0,122]
[21,22618,22,22627,24,22639,null,null,null,null,0,222]
[12,22737,24,22759,24,22766,null,null,null,null,0,122]
[21,22869,22,22893,24,22911,null,null,null,null,0,222]
[12,23012,24,23025,24,23031,null,null,null,null,0,122]
[21,23126,22,23134,24,23143,null,null,null,null,0,222]
[21,23248,22,23258,24,23265,null,null,null,null,0,222]
[12,23364,24,23373,24,23384,null,null,null,null,0,122]
[12,23482,24,23494,24,23501,null,null,null,null,0,122]
[12,23599,24,23613,24,23618,null,null,null,null,0,122]
[21,23729,22,23734,24,23741,null,null,null,null,0,222]
[21,23838,22,23843,24,23851,null,null,null,null,0,222]
[12,23948,24,23960,24,23965,null,null,null,null,null,122]

{"sheet":"!MA05810.091","index":17,"n_rows":197,"n_cols":48,"rows_kept":197,"cut":false,"hidden":false,"merged":[[4,39,4,42],[5,39,5,40],[4,44,4,47],[5,44,5,45],[4,24,4,27],[5,24,5,25],[4,29,4,32],[5,29,5,30],[4,34,4,37],[5,34,5,35],[1,1,1,2],[5,13,5,14],[18,13,18,14],[19,13,19,14],[4,19,4,22],[5,19,5,20]]}
["Report for:!MA05810.091"]
["Date:","<date>"]
["Hen:","<hen>",null,null,null,"Correct Sequence",{"$f":"Start!J2","v":211},null,null,null,null,null,null,null,null,"Total Sequences in Data",{"$f":"4994-COUNTBLANK(L7:L5000)","v":191},null,null,null,null,"Total Sequences in Block Data",{"$f":"COUNTA(L7:L38)","v":32},null,null,null,"Total Sequences in Block Data",{"$f":"COUNTA(L39:L70)","v":32},null,null,null,"Total Sequences in Block Data",{"$f":"COUNTA(L71:L101)","v":31},null,null,null,"Total Sequences in Block Data",{"$f":"COUNTA(L102:L133)","v":32},null,null,null,"Total Sequences in Block Data",{"$f":"COUNTA(L134:L165)","v":32},null,null,null,"Total Sequences in Block Data",{"$f":"COUNTA(L166:L197)","v":32}]
[null,null,null,null,null,null,null,null,null,null,null,null,null,null,null,"Total Sequences in Summary",{"$f":"SUM(O7:O14)","v":191},null,null,null,null,"Total Sequences in Block Summary",{"$f":"SUM(U7:U14)","v":32},null,null,null,"Total Sequences in Block Summary",{"$f":"SUM(Z7:Z14)","v":32},null,null,null,"Total Sequences in Block Summary",{"$f":"SUM(AE7:AE14)","v":31},null,null,null,"Total Sequences in Block Summary",{"$f":"SUM(AJ7:AJ14)","v":32},null,null,null,"Total Sequences in Block Summary",{"$f":"SUM(AO7:AO14)","v":32},null,null,null,"Total Sequences in Block Summary",{"$f":"SUM(AT7:AT14)","v":32}]
[null,null,null,null,null,null,null,null,null,null,null,null,null,null,null,null,null,null,null,"Block 1",null,null,null,null,"Block 2",null,null,null,null,"Block 3",null,null,null,null,"Block 4",null,null,null,null,"Block 5",null,null,null,null,"Block 6"]
["Sequence\nComponent\n1","Time\n1","Sequence\nComponent\n2","Time\n2","Sequence\nComponent\n3","Time\n3","Sequence\nComponent\n4","Time\n4","Sequence\nComponent\n5","Time\n5","Correct?\n0=No 1=Yes","Sequence",null,"Frequency",null,"Relative Frequency","Variability",null,null,"Frequency",null,"Relative Frequency","Variability",null,"Frequency",null,"Relative Frequency","Variability",null,"Frequency",null,"Relative Frequency","Variability",null,"Frequency",null,"Relative Frequency","Variability",null,"Frequency",null,"Relative Frequency","Variability",null,"Frequency",null,"Relative Frequency","Variability"]
[12,12,13,39,24,48,null,null,null,null,0,112,null,111,{"$f":"COUNTIF($L$7:$L$500,N7)","v":1},{"$f":"O7/$Q$4","v":5.235602094240838E-3},{"$f":"IF(P7=0,0,(P7*((LOG(P7))/LOG(2))))","v":-3.9672402241024862E-2},null,null,{"$f":"N7","v":111},{"$f":"COUNTIF(L7:L38,T7)","v":0},{"$f":"U7/(W4-U11)","v":0},{"$f":"IF(V7=0,0,(V7*((LOG(V7))/LOG(2))))","v":0},null,{"$f":"N7","v":111},{"$f":"COUNTIF(L39:L70,Y7)","v":0},{"$f":"Z7/(AB4-Z11)","v":0},{"$f":"IF(AA7=0,0,(AA7*((LOG(AA7))/LOG(2))))","v":0},null,{"$f":"N7","v":111},{"$f":"COUNTIF(L71:L101,AD7)","v":0},{"$f":"AE7/(AG4-AE11)","v":0},{"$f":"IF(AF7=0,0,(AF7*((LOG(AF7))/LOG(2))))","v":0},null,{"$f":"N7","v":111},{"$f":"COUNTIF(L102:L133,AI7)","v":1},{"$f":"AJ7/(AL4-AJ11)","v":3.125E-2},{"$f":"IF(AK7=0,0,(AK7*((LOG(AK7))/LOG(2))))","v":-0.15625},null,{"$f":"N7","v":111},{"$f":"COUNTIF(L134:L165,AN7)","v":0},{"$f":"AO7/(AQ4-AO11)","v":0},{"$f":"IF(AP7=0,0,(AP7*((LOG(AP7))/LOG(2))))","v":0},null,{"$f":"N7","v":111},{"$f":"COUNTIF(L166:L197,AS7)","v":0},{"$f":"AT7/(AV4-AT11)","v":0},{"$f":"IF(AU7=0,0,(AU7*((LOG(AU7))/LOG(2))))","v":0}]
[12,149,24,162,24,171,null,null,null,null,0,122,null,112,{"$f":"COUNTIF($L$7:$L$500,N8)","v":7},{"$f":"O8/$Q$4","v":3.6649214659685861E-2},{"$f":"IF(P8=0,0,(P8*((LOG(P8))/LOG(2))))","v":-0.17481946252275923},null,null,{"$f":"N8","v":112},{"$f":"COUNTIF(L7:L38,T8)","v":2},{"$f":"U8/(W4-U11)","v":6.25E-2},{"$f":"IF(V8=0,0,(V8*((LOG(V8))/LOG(2))))","v":-0.25},null,{"$f":"N8","v":112},{"$f":"COUNTIF(L39:L70,Y8)","v":0},{"$f":"Z8/(AB4-Z11)","v":0},{"$f":"IF(AA8=0,0,(AA8*((LOG(AA8))/LOG(2))))","v":0},null,{"$f":"N8","v":112},{"$f":"COUNTIF(L71:L101,AD8)","v":0},{"$f":"AE8/(AG4-AE11)","v":0},{"$f":"IF(AF8=0,0,(AF8*((LOG(AF8))/LOG(2))))","v":0},null,{"$f":"N8","v":112},{"$f":"COUNTIF(L102:L133,AI8)","v":2},{"$f":"AJ8/(AL4-AJ11)","v":6.25E-2},{"$f":"IF(AK8=0,0,(AK8*((LOG(AK8))/LOG(2))))","v":-0.25},null,{"$f":"N8","v":112},{"$f":"COUNTIF(L134:L165,AN8)","v":2},{"$f":"AO8/(AQ4-AO11)","v":6.25E-2},{"$f":"IF(AP8=0,0,(AP8*((LOG(AP8))/LOG(2))))","v":-0.25},null,{"$f":"N8","v":112},{"$f":"COUNTIF(L166:L197,AS8)","v":1},{"$f":"AT8/(AV4-AT11)","v":3.125E-2},{"$f":"IF(AU8=0,0,(AU8*((LOG(AU8))/LOG(2))))","v":-0.15625}]
[21,285,22,294,24,305,null,null,null,null,0,222,null,121,{"$f":"COUNTIF($L$7:$L$500,N9)","v":0},{"$f":"O9/$Q$4","v":0},{"$f":"IF(P9=0,0,(P9*((LOG(P9))/LOG(2))))","v":0},null,null,{"$f":"N9","v":121},{"$f":"COUNTIF(L7:L38,T9)","v":0},{"$f":"U9/(W4-U11)","v":0},{"$f":"IF(V9=0,0,(V9*((LOG(V9))/LOG(2))))","v":0},null,{"$f":"N9","v":121},{"$f":"COUNTIF(L39:L70,Y9)","v":0},{"$f":"Z9/(AB4-Z11)","v":0},{"$f":"IF(AA9=0,0,(AA9*((LOG(AA9))/LOG(2))))","v":0},null,{"$f":"N9","v":121},{"$f":"COUNTIF(L71:L101,AD9)","v":0},{"$f":"AE9/(AG4-AE11)","v":0},{"$f":"IF(AF9=0,0,(AF9*((LOG(AF9))/LOG(2))))","v":0},null,{"$f":"N9","v":121},{"$f":"COUNTIF(L102:L133,AI9)","v":0},{"$f":"AJ9/(AL4-AJ11)","v":0},{"$f":"IF(AK9=0,0,(AK9*((LOG(AK9))/LOG(2))))","v":0},null,{"$f":"N9","v":121},{"$f":"COUNTIF(L134:L165,AN9)","v":0},{"$f":"AO9/(AQ4-AO11)","v":0},{"$f":"IF(AP9=0,0,(AP9*((LOG(AP9))/LOG(2))))","v":0},null,{"$f":"N9","v":121},{"$f":"COUNTIF(L166:L197,AS9)","v":0},{"$f":"AT9/(AV4-AT11)","v":0},{"$f":"IF(AU9=0,0,(AU9*((LOG(AU9))/LOG(2))))","v":0}]
[21,406,22,426,24,435,null,null,null,null,0,222,null,122,{"$f":"COUNTIF($L$7:$L$500,N10)","v":74},{"$f":"O10/$Q$4","v":0.38743455497382201},{"$f":"IF(P10=0,0,(P10*((LOG(P10))/LOG(2))))","v":-0.53000096449268652},null,null,{"$f":"N10","v":122},{"$f":"COUNTIF(L7:L38,T10)","v":17},{"$f":"U10/(W4-U11)","v":0.53125},{"$f":"IF(V10=0,0,(V10*((LOG(V10))/LOG(2))))","v":-0.48478536558575719},null,{"$f":"N10","v":122},{"$f":"COUNTIF(L39:L70,Y10)","v":12},{"$f":"Z10/(AB4-Z11)","v":0.375},{"$f":"IF(AA10=0,0,(AA10*((LOG(AA10))/LOG(2))))","v":-0.53063906222956647},null,{"$f":"N10","v":122},{"$f":"COUNTIF(L71:L101,AD10)","v":10},{"$f":"AE10/(AG4-AE11)","v":0.32258064516129031},{"$f":"IF(AF10=0,0,(AF10*((LOG(AF10))/LOG(2))))","v":-0.52653813403210092},null,{"$f":"N10","v":122},{"$f":"COUNTIF(L102:L133,AI10)","v":10},{"$f":"AJ10/(AL4-AJ11)","v":0.3125},{"$f":"IF(AK10=0,0,(AK10*((LOG(AK10))/LOG(2))))","v":-0.52439747034769923},null,{"$f":"N10","v":122},{"$f":"COUNTIF(L134:L165,AN10)","v":10},{"$f":"AO10/(AQ4-AO11)","v":0.3125},{"$f":"IF(AP10=0,0,(AP10*((LOG(AP10))/LOG(2))))","v":-0.52439747034769923},null,{"$f":"N10","v":122},{"$f":"COUNTIF(L166:L197,AS10)","v":15},{"$f":"AT10/(AV4-AT11)","v":0.46875},{"$f":"IF(AU10=0,0,(AU10*((LOG(AU10))/LOG(2))))","v":-0.512395033308507}]
[12,535,24,551,24,564,null,null,null,null,0,122,null,211,{"$f":"COUNTIF($L$7:$L$500,N11)","v":0},{"$f":"O11/$Q$4","v":0},{"$f":"IF(P11=0,0,(P11*((LOG(P11))/LOG(2))))","v":0},null,null,{"$f":"N11","v":211},{"$f":"COUNTIF(L7:L38,T11)","v":0},null,null,null,{"$f":"N11","v":211},{"$f":"COUNTIF(L39:L70,Y11)","v":0},null,null,null,{"$f":"N11","v":211},{"$f":"COUNTIF(L71:L101,AD11)","v":0},null,null,null,{"$f":"N11","v":211},{"$f":"COUNTIF(L102:L133,AI11)","v":0},null,null,null,{"$f":"N11","v":211},{"$f":"COUNTIF(L134:L165,AN11)","v":0},null,null,null,{"$f":"N11","v":211},{"$f":"COUNTIF(L166:L197,AS11)","v":0}]
[12,665,24,680,24,690,null,null,null,null,0,122,null,212,{"$f":"COUNTIF($L$7:$L$500,N12)","v":0},{"$f":"O12/$Q$4","v":0},{"$f":"IF(P12=0,0,(P12*((LOG(P12))/LOG(2))))","v":0},null,null,{"$f":"N12","v":212},{"$f":"COUNTIF(L7:L38,T12)","v":0},{"$f":"U12/(W4-U11)","v":0},{"$f":"IF(V12=0,0,(V12*((LOG(V12))/LOG(2))))","v":0},null,{"$f":"N12","v":212},{"$f":"COUNTIF(L39:L70,Y12)","v":0},{"$f":"Z12/(AB4-Z11)","v":0},{"$f":"IF(AA12=0,0,(AA12*((LOG(AA12))/LOG(2))))","v":0},null,{"$f":"N12","v":212},{"$f":"COUNTIF(L71:L101,AD12)","v":0},{"$f":"AE12/(AG4-AE11)","v":0},{"$f":"IF(AF12=0,0,(AF12*((LOG(AF12))/LOG(2))))","v":0},null,{"$f":"N12","v":212},{"$f":"COUNTIF(L102:L133,AI12)","v":0},{"$f":"AJ12/(AL4-AJ11)","v":0},{"$f":"IF(AK12=0,0,(AK12*((LOG(AK12))/LOG(2))))","v":0},null,{"$f":"N12","v":212},{"$f":"COUNTIF(L134:L165,AN12)","v":0},{"$f":"AO12/(AQ4-AO11)","v":0},{"$f":"IF(AP12=0,0,(AP12*((LOG(AP12))/LOG(2))))","v":0},null,{"$f":"N12","v":212},{"$f":"COUNTIF(L166:L197,AS12)","v":0},{"$f":"AT12/(AV4-AT11)","v":0},{"$f":"IF(AU12=0,0,(AU12*((LOG(AU12))/LOG(2))))","v":0}]
[12,791,24,806,24,821,null,null,null,null,0,122,null,221,{"$f":"COUNTIF($L$7:$L$500,N13)","v":0},{"$f":"O13/$Q$4","v":0},{"$f":"IF(P13=0,0,(P13*((LOG(P13))/LOG(2))))","v":0},null,null,{"$f":"N13","v":221},{"$f":"COUNTIF(L7:L38,T13)","v":0},{"$f":"U13/(W4-U11)","v":0},{"$f":"IF(V13=0,0,(V13*((LOG(V13))/LOG(2))))","v":0},null,{"$f":"N13","v":221},{"$f":"COUNTIF(L39:L70,Y13)","v":0},{"$f":"Z13/(AB4-Z11)","v":0},{"$f":"IF(AA13=0,0,(AA13*((LOG(AA13))/LOG(2))))","v":0},null,{"$f":"N13","v":221},{"$f":"COUNTIF(L71:L101,AD13)","v":0},{"$f":"AE13/(AG4-AE11)","v":0},{"$f":"IF(AF13=0,0,(AF13*((LOG(AF13))/LOG(2))))","v":0},null,{"$f":"N13","v":221},{"$f":"COUNTIF(L102:L133,AI13)","v":0},{"$f":"AJ13/(AL4-AJ11)","v":0},{"$f":"IF(AK13=0,0,(AK13*((LOG(AK13))/LOG(2))))","v":0},null,{"$f":"N13","v":221},{"$f":"COUNTIF(L134:L165,AN13)","v":0},{"$f":"AO13/(AQ4-AO11)","v":0},{"$f":"IF(AP13=0,0,(AP13*((LOG(AP13))/LOG(2))))","v":0},null,{"$f":"N13","v":221},{"$f":"COUNTIF(L166:L197,AS13)","v":0},{"$f":"AT13/(AV4-AT11)","v":0},{"$f":"IF(AU13=0,0,(AU13*((LOG(AU13))/LOG(2))))","v":0}]
[21,921,22,927,24,937,null,null,null,null,0,222,null,222,{"$f":"COUNTIF($L$7:$L$500,N14)","v":109},{"$f":"O14/$Q$4","v":0.5706806282722513},{"$f":"IF(P14=0,0,(P14*((LOG(P14))/LOG(2))))","v":-0.46182016154561067},null,null,{"$f":"N14","v":222},{"$f":"COUNTIF(L7:L38,T14)","v":13},{"$f":"U14/(W4-U11)","v":0.40625},{"$f":"IF(V14=0,0,(V14*((LOG(V14))/LOG(2))))","v":-0.52794636450518129},null,{"$f":"N14","v":222},{"$f":"COUNTIF(L39:L70,Y14)","v":20},{"$f":"Z14/(AB4-Z11)","v":0.625},{"$f":"IF(AA14=0,0,(AA14*((LOG(AA14))/LOG(2))))","v":-0.42379494069539858},null,{"$f":"N14","v":222},{"$f":"COUNTIF(L71:L101,AD14)","v":21},{"$f":"AE14/(AG4-AE11)","v":0.67741935483870963},{"$f":"IF(AF14=0,0,(AF14*((LOG(AF14))/LOG(2))))","v":-0.38062763354098111},null,{"$f":"N14","v":222},{"$f":"COUNTIF(L102:L133,AI14)","v":19},{"$f":"AJ14/(AL4-AJ11)","v":0.59375},{"$f":"IF(AK14=0,0,(AK14*((LOG(AK14))/LOG(2))))","v":-0.44654303889287106},null,{"$f":"N14","v":222},{"$f":"COUNTIF(L134:L165,AN14)","v":20},{"$f":"AO14/(AQ4-AO11)","v":0.625},{"$f":"IF(AP14=0,0,(AP14*((LOG(AP14))/LOG(2))))","v":-0.42379494069539858},null,{"$f":"N14","v":222},{"$f":"COUNTIF(L166:L197,AS14)","v":16},{"$f":"AT14/(AV4-AT11)","v":0.5},{"$f":"IF(AU14=0,0,(AU14*((LOG(AU14))/LOG(2))))","v":-0.5}]
[21,1029,22,1034,24,1039,null,null,null,null,0,222,null,null,null,{"$f":"SUM(P7:P14)","v":1},{"$f":"-SUM(Q7:Q14)","v":1.2063129908020813},null,null,null,null,{"$f":"SUM(V7:V14)","v":1},{"$f":"-SUM(W7:W14)","v":1.2627317300909384},null,null,null,{"$f":"SUM(AA7:AA14)","v":1},{"$f":"-SUM(AB7:AB14)","v":0.95443400292496505},null,null,null,{"$f":"SUM(AF7:AF14)","v":1},{"$f":"-SUM(AG7:AG14)","v":0.90716576757308198},null,null,null,{"$f":"SUM(AK7:AK14)","v":1},{"$f":"-SUM(AL7:AL14)","v":1.3771905092405703},null,null,null,{"$f":"SUM(AP7:AP14)","v":1},{"$f":"-SUM(AQ7:AQ14)","v":1.1981924110430979},null,null,null,{"$f":"SUM(AU7:AU14)","v":1},{"$f":"-SUM(AV7:AV14)","v":1.168645033308507}]
[21,1142,22,1166,24,1220,null,null,null,null,0,222,null,null,null,"U=",{"$f":"Q15/(LOG(Q4)/LOG(2))","v":0.15919819482023254},null,null,null,null,"U1=",{"$f":"W15/(LOG(W4)/LOG(2))","v":0.25254634601818771},null,null,null,"U2=",{"$f":"AB15/(LOG(AB4)/LOG(2))","v":0.19088680058499302},null,null,null,"U3=",{"$f":"AG15/(LOG(AG4)/LOG(2))","v":0.18311058156317611},null,null,null,"U4=",{"$f":"AL15/(LOG(AL4)/LOG(2))","v":0.27543810184811407},null,null,null,"U5=",{"$f":"AQ15/(LOG(AQ4)/LOG(2))","v":0.23963848220861958},null,null,null,"U6=",{"$f":"AV15/(LOG(AV4)/LOG(2))","v":0.23372900666170141}]
[12,1320,24,1330,24,1345,null,null,null,null,0,122]
[12,1449,24,1463,24,1514,null,null,null,null,0,122]
[12,1615,13,1625,24,1634,null,null,null,null,0,112,null,"Total Target Seq"]
[21,1737,22,1742,24,1750,null,null,null,null,0,222,null,{"$f":"COUNTIF(L7:L197,G3)","v":0},null,32,32,31,32,32,32]
[12,1848,24,1859,24,1866,null,null,null,null,0,122,null,null,null,"% of reinforcement given in 6 equal intervals based on number of trials "]
[12,1966,24,1981,24,1990,null,null,null,null,0,122,null,null,null,"%_1","%_2","%_3","%_4","%_5","%_6"]
[12,2087,24,2109,24,2126,null,null,null,null,0,122,null,null,"target sequence",{"$f":"$G$3","v":211},{"$f":"$G$3","v":211},{"$f":"$G$3","v":211},{"$f":"$G$3","v":211},{"$f":"$G$3","v":211},{"$f":"$G$3","v":211}]
[12,2227,24,2237,24,2243,null,null,null,null,0,122,null,null,"total reinforcement",{"$f":"U11","v":0},{"$f":"Z11","v":0},{"$f":"AE11","v":0},{"$f":"AJ11","v":0},{"$f":"AO11","v":0},{"$f":"AT11","v":0}]
[12,2348,24,2361,24,2381,null,null,null,null,0,122,null,null,"% target"]
[21,2484,22,2489,24,2503,null,null,null,null,0,222,null,null,"CCRF"]
[12,2601,24,2615,24,2620,null,null,null,null,0,122,null,null,"% CCRf"]
[12,2719,24,2729,24,2750,null,null,null,null,0,122,null,null,"average response rate",{"$f":"F38/P20","v":125.875},{"$f":"(F70-F38)/Q20","v":132.9375},{"$f":"(F101-F70)/R20","v":125.87096774193549},{"$f":"(F133-F101)/S20","v":122.09375},{"$f":"(F165-F133)/T20","v":123.0625},{"$f":"(F197-F165)/U20","v":122.90625}]
[12,2844,24,2853,24,2859,null,null,null,null,0,122]
[21,2963,22,2981,24,2990,null,null,null,null,0,222]
[21,3090,22,3094,24,3099,null,null,null,null,0,222]
[21,3195,22,3229,24,3257,null,null,null,null,0,222]
[12,3358,24,3375,24,3384,null,null,null,null,0,122]
[12,3486,24,3501,24,3514,null,null,null,null,0,122]
[21,3614,22,3619,24,3634,null,null,null,null,0,222]
[21,3733,22,3786,24,3802,null,null,null,null,0,222]
[21,3902,22,3907,24,3914,null,null,null,null,0,222]
[12,4013,24,4023,24,4028,null,null,null,null,0,122]
[21,4131,22,4136,24,4149,null,null,null,null,0,222]
[21,4248,22,4254,24,4291,null,null,null,null,0,222]
[21,4391,22,4399,24,4407,null,null,null,null,0,222]
[12,4505,24,4530,24,4540,null,null,null,null,0,122]
[21,4651,22,4659,24,4666,null,null,null,null,0,222]
[21,4768,22,4778,24,4785,null,null,null,null,0,222]
[21,4885,22,4919,24,4945,null,null,null,null,0,222]
[21,5049,22,5062,24,5071,null,null,null,null,0,222]
[12,5173,24,5187,24,5208,null,null,null,null,0,122]
[21,5307,22,5312,24,5420,null,null,null,null,0,222]
[21,5549,22,5558,24,5573,null,null,null,null,0,222]
[21,5670,22,5674,24,5683,null,null,null,null,0,222]
[21,5785,22,5789,24,5818,null,null,null,null,0,222]
[12,5916,24,5934,24,5942,null,null,null,null,0,122]
[12,6040,24,6057,24,6064,null,null,null,null,0,122]
[12,6163,24,6179,24,6188,null,null,null,null,0,122]
[12,6286,24,6300,24,6304,null,null,null,null,0,122]
[21,6408,22,6416,24,6424,null,null,null,null,0,222]
[12,6523,24,6538,24,6544,null,null,null,null,0,122]
[21,6650,22,6673,24,6688,null,null,null,null,0,222]
[21,6787,22,6792,24,6820,null,null,null,null,0,222]
[21,6920,22,7002,24,7033,null,null,null,null,0,222]
[21,7130,22,7138,24,7144,null,null,null,null,0,222]
[12,7242,24,7259,24,7266,null,null,null,null,0,122]
[21,7365,22,7371,24,7381,null,null,null,null,0,222]
[12,7486,24,7499,24,7505,null,null,null,null,0,122]
[21,7598,22,7603,24,7651,null,null,null,null,0,222]
[21,7753,22,7801,24,7815,null,null,null,null,0,222]
[12,7915,24,7925,24,7930,null,null,null,null,0,122]
[21,8026,22,8030,24,8038,null,null,null,null,0,222]
[12,8143,24,8156,24,8161,null,null,null,null,0,122]
[12,8261,24,8275,24,8282,null,null,null,null,0,122]
[21,8383,22,8398,24,8411,null,null,null,null,0,222]
[21,8514,22,8519,24,8525,null,null,null,null,0,222]
[21,8622,22,8644,24,8660,null,null,null,null,0,222]
[21,8763,22,8768,24,8783,null,null,null,null,0,222]
[12,8883,24,8900,24,8918,null,null,null,null,0,122]
[21,9019,22,9024,24,9030,null,null,null,null,0,222]
[21,9142,22,9148,24,9156,null,null,null,null,0,222]
[12,9256,24,9276,24,9304,null,null,null,null,0,122]
[12,9402,24,9418,24,9434,null,null,null,null,0,122]
[21,9534,22,9539,24,9560,null,null,null,null,0,222]
[12,9660,24,9677,24,9682,null,null,null,null,0,122]
[21,9779,22,9792,24,9800,null,null,null,null,0,222]
[12,9898,24,9914,24,9920,null,null,null,null,0,122]
[21,10024,22,10029,24,10040,null,null,null,null,0,222]
[21,10142,22,10147,24,10156,null,null,null,null,0,222]
[12,10261,24,10275,24,10304,null,null,null,null,0,122]
[21,10442,22,10450,24,10462,null,null,null,null,0,222]
[21,10556,22,10561,24,10579,null,null,null,null,0,222]
[21,10689,22,10693,24,10701,null,null,null,null,0,222]
[12,10799,24,10810,24,10815,null,null,null,null,0,122]
[12,10913,24,10927,24,10932,null,null,null,null,0,122]
[12,11042,24,11055,24,11060,null,null,null,null,0,122]
[21,11157,22,11166,24,11178,null,null,null,null,0,222]
[21,11287,22,11303,24,11316,null,null,null,null,0,222]
[21,11417,22,11422,24,11450,null,null,null,null,0,222]
[21,11559,22,11564,24,11571,null,null,null,null,0,222]
[12,11670,24,11684,24,11690,null,null,null,null,0,122]
[21,11810,22,11819,24,11834,null,null,null,null,0,222]
[21,11934,22,11943,24,11951,null,null,null,null,0,222]
[21,12051,22,12056,24,12063,null,null,null,null,0,222]
[21,12163,22,12172,24,12184,null,null,null,null,0,222]
[12,12283,24,12300,24,12308,null,null,null,null,0,122]
[21,12410,22,12415,24,12420,null,null,null,null,0,222]
[12,12519,24,12538,24,12543,null,null,null,null,0,122]
[21,12645,22,12659,24,12667,null,null,null,null,0,222]
[12,12768,24,12778,24,12783,null,null,null,null,0,122]
[21,12879,22,12883,24,12889,null,null,null,null,0,222]
[21,12999,22,13020,24,13028,null,null,null,null,0,222]
[12,13125,24,13145,24,13151,null,null,null,null,0,122]
[12,13251,24,13264,24,13275,null,null,null,null,0,122]
[12,13374,24,13387,24,13392,null,null,null,null,0,122]
[21,13495,22,13505,24,13513,null,null,null,null,0,222]
[21,13623,22,13630,24,13639,null,null,null,null,0,222]
[12,13735,24,13752,24,13769,null,null,null,null,0,122]
[21,13870,22,13875,24,13892,null,null,null,null,0,222]
[12,13990,24,14006,24,14011,null,null,null,null,0,122]
[21,14115,22,14120,24,14129,null,null,null,null,0,222]
[21,14235,22,14240,24,14248,null,null,null,null,0,222]
[21,14344,22,14348,24,14353,null,null,null,null,0,222]
[21,14462,22,14467,24,14479,null,null,null,null,0,222]
[21,14594,22,14599,24,14611,null,null,null,null,0,222]
[21,14713,22,14722,24,14730,null,null,null,null,0,222]
[12,14828,13,14839,24,14852,null,null,null,null,0,112]
[12,14955,24,14971,24,14977,null,null,null,null,0,122]
[21,15077,22,15082,24,15087,null,null,null,null,0,222]
[12,15184,13,15186,13,15197,null,null,null,null,0,111]
[12,15299,24,15323,24,15330,null,null,null,null,0,122]
[12,15428,13,15441,24,15461,null,null,null,null,0,112]
[21,15570,22,15583,24,15588,null,null,null,null,0,222]
[21,15689,22,15696,24,15705,null,null,null,null,0,222]
[21,15804,22,15819,24,15828,null,null,null,null,0,222]
[21,15930,22,15935,24,15953,null,null,null,null,0,222]
[21,16067,22,16083,24,16091,null,null,null,null,0,222]
[21,16199,22,16203,24,16217,null,null,null,null,0,222]
[12,16317,24,16333,24,16339,null,null,null,null,0,122]
[12,16437,13,16447,24,16466,null,null,null,null,0,112]
[21,16560,22,16564,24,16570,null,null,null,null,0,222]
[12,16671,24,16685,24,16694,null,null,null,null,0,122]
[12,16795,24,16810,24,16816,null,null,null,null,0,122]
[12,16920,24,16933,24,16943,null,null,null,null,0,122]
[12,17040,24,17057,24,17062,null,null,null,null,0,122]
[12,17161,24,17176,24,17182,null,null,null,null,0,122]
[21,17283,22,17291,24,17296,null,null,null,null,0,222]
[21,17398,22,17402,24,17408,null,null,null,null,0,222]
[21,17510,22,17520,24,17533,null,null,null,null,0,222]
[21,17634,22,17643,24,17652,null,null,null,null,0,222]
[21,17750,22,17758,24,17767,null,null,null,null,0,222]
[12,17866,13,17877,24,17895,null,null,null,null,0,112]
[21,17991,22,18006,24,18015,null,null,null,null,0,222]
[12,18114,24,18128,24,18134,null,null,null,null,0,122]
[21,18240,22,18250,24,18262,null,null,null,null,0,222]
[12,18361,24,18373,24,18378,null,null,null,null,0,122]
[21,18501,22,18509,24,18518,null,null,null,null,0,222]
[21,18621,22,18634,24,18648,null,null,null,null,0,222]
[21,18748,22,18760,24,18777,null,null,null,null,0,222]
[21,18881,22,18918,24,18925,null,null,null,null,0,222]
[21,19021,22,19025,24,19030,null,null,null,null,0,222]
[21,19135,22,19150,24,19162,null,null,null,null,0,222]
[21,19263,22,19267,24,19277,null,null,null,null,0,222]
[21,19380,22,19403,24,19419,null,null,null,null,0,222]
[12,19520,24,19529,24,19533,null,null,null,null,0,122]
[21,19638,22,19643,24,19651,null,null,null,null,0,222]
[12,19749,24,19766,24,19771,null,null,null,null,0,122]
[21,19882,22,19894,24,19902,null,null,null,null,0,222]
[21,20004,22,20010,24,20029,null,null,null,null,0,222]
[21,20130,22,20135,24,20143,null,null,null,null,0,222]
[21,20244,22,20249,24,20262,null,null,null,null,0,222]
[21,20370,22,20374,24,20383,null,null,null,null,0,222]
[12,20484,24,20500,24,20507,null,null,null,null,0,122]
[21,20623,22,20642,24,20654,null,null,null,null,0,222]
[12,20755,24,20770,24,20777,null,null,null,null,0,122]
[21,20872,22,20876,24,20886,null,null,null,null,0,222]
[12,20987,24,21002,24,21008,null,null,null,null,0,122]
[21,21106,22,21111,24,21130,null,null,null,null,0,222]
[12,21234,24,21252,24,21259,null,null,null,null,0,122]
[21,21365,22,21370,24,21379,null,null,null,null,0,222]
[12,21483,24,21491,24,21496,null,null,null,null,0,122]
[21,21593,22,21602,24,21627,null,null,null,null,0,222]
[21,21745,22,21754,24,21760,null,null,null,null,0,222]
[21,21863,22,21874,24,21883,null,null,null,null,0,222]
[12,21983,24,22000,24,22006,null,null,null,null,0,122]
[21,22107,22,22125,24,22139,null,null,null,null,0,222]
[12,22237,24,22252,24,22258,null,null,null,null,0,122]
[21,22356,22,22360,24,22374,null,null,null,null,0,222]
[21,22478,22,22483,24,22498,null,null,null,null,0,222]
[12,22596,24,22606,24,22612,null,null,null,null,0,122]
[21,22713,22,22718,24,22724,null,null,null,null,0,222]
[12,22822,24,22836,24,22841,null,null,null,null,0,122]
[21,22954,22,22965,24,22974,null,null,null,null,0,222]
[12,23074,24,23091,24,23099,null,null,null,null,0,122]
[12,23199,24,23218,24,23230,null,null,null,null,0,122]
[12,23326,24,23335,24,23340,null,null,null,null,0,122]
[12,23441,24,23453,24,23460,null,null,null,null,0,122]
[12,23559,24,23578,24,23584,null,null,null,null,0,122]
[21,23688,22,23696,24,23727,null,null,null,null,0,222]
[12,23830,24,23839,24,23844,null,null,null,null,0,122]
[12,23941,13,23951,24,23962,null,null,null,null,null,112]

{"sheet":"!MA06800.091","index":18,"n_rows":198,"n_cols":48,"rows_kept":198,"cut":false,"hidden":false,"merged":[[4,39,4,42],[5,39,5,40],[4,44,4,47],[5,44,5,45],[4,24,4,27],[5,24,5,25],[4,29,4,32],[5,29,5,30],[4,34,4,37],[5,34,5,35],[1,1,1,2],[5,13,5,14],[18,13,18,14],[19,13,19,14],[4,19,4,22],[5,19,5,20]]}
["Report for:!MA06800.091"]
["Date:","<date>"]
["Hen:","<hen>",null,null,null,"Correct Sequence",{"$f":"Start!J2","v":211},null,null,null,null,null,null,null,null,"Total Sequences in Data",{"$f":"4994-COUNTBLANK(L7:L5000)","v":192},null,null,null,null,"Total Sequences in Block Data",{"$f":"COUNTA(L7:L38)","v":32},null,null,null,"Total Sequences in Block Data",{"$f":"COUNTA(L39:L70)","v":32},null,null,null,"Total Sequences in Block Data",{"$f":"COUNTA(L71:L102)","v":32},null,null,null,"Total Sequences in Block Data",{"$f":"COUNTA(L103:L134)","v":32},null,null,null,"Total Sequences in Block Data",{"$f":"COUNTA(L135:L166)","v":32},null,null,null,"Total Sequences in Block Data",{"$f":"COUNTA(L167:L198)","v":32}]
[null,null,null,null,null,null,null,null,null,null,null,null,null,null,null,"Total Sequences in Summary",{"$f":"SUM(O7:O14)","v":192},null,null,null,null,"Total Sequences in Block Summary",{"$f":"SUM(U7:U14)","v":32},null,null,null,"Total Sequences in Block Summary",{"$f":"SUM(Z7:Z14)","v":32},null,null,null,"Total Sequences in Block Summary",{"$f":"SUM(AE7:AE14)","v":32},null,null,null,"Total Sequences in Block Summary",{"$f":"SUM(AJ7:AJ14)","v":32},null,null,null,"Total Sequences in Block Summary",{"$f":"SUM(AO7:AO14)","v":32},null,null,null,"Total Sequences in Block Summary",{"$f":"SUM(AT7:AT14)","v":32}]
[null,null,null,null,null,null,null,null,null,null,null,null,null,null,null,null,null,null,null,"Block 1",null,null,null,null,"Block 2",null,null,null,null,"Block 3",null,null,null,null,"Block 4",null,null,null,null,"Block 5",null,null,null,null,"Block 6"]
["Sequence\nComponent\n1","Time\n1","Sequence\nComponent\n2","Time\n2","Sequence\nComponent\n3","Time\n3","Sequence\nComponent\n4","Time\n4","Sequence\nComponent\n5","Time\n5","Correct?\n0=No 1=Yes","Sequence",null,"Frequency",null,"Relative Frequency","Variability",null,null,"Frequency",null,"Relative Frequency","Variability",null,"Frequency",null,"Relative Frequency","Variability",null,"Frequency",null,"Relative Frequency","Variability",null,"Frequency",null,"Relative Frequency","Variability",null,"Frequency",null,"Relative Frequency","Variability",null,"Frequency",null,"Relative Frequency","Variability"]
[12,13,13,21,24,82,null,null,null,null,0,112,null,111,{"$f":"COUNTIF($L$7:$L$500,N7)","v":0},{"$f":"O7/$Q$4","v":0},{"$f":"IF(P7=0,0,(P7*((LOG(P7))/LOG(2))))","v":0},null,null,{"$f":"N7","v":111},{"$f":"COUNTIF(L7:L38,T7)","v":0},{"$f":"U7/(W4-U11)","v":0},{"$f":"IF(V7=0,0,(V7*((LOG(V7))/LOG(2))))","v":0},null,{"$f":"N7","v":111},{"$f":"COUNTIF(L39:L70,Y7)","v":0},{"$f":"Z7/(AB4-Z11)","v":0},{"$f":"IF(AA7=0,0,(AA7*((LOG(AA7))/LOG(2))))","v":0},null,{"$f":"N7","v":111},{"$f":"COUNTIF(L71:L102,AD7)","v":0},{"$f":"AE7/(AG4-AE11)","v":0},{"$f":"IF(AF7=0,0,(AF7*((LOG(AF7))/LOG(2))))","v":0},null,{"$f":"N7","v":111},{"$f":"COUNTIF(L103:L134,AI7)","v":0},{"$f":"AJ7/(AL4-AJ11)","v":0},{"$f":"IF(AK7=0,0,(AK7*((LOG(AK7))/LOG(2))))","v":0},null,{"$f":"N7","v":111},{"$f":"COUNTIF(L135:L166,AN7)","v":0},{"$f":"AO7/(AQ4-AO11)","v":0},{"$f":"IF(AP7=0,0,(AP7*((LOG(AP7))/LOG(2))))","v":0},null,{"$f":"N7","v":111},{"$f":"COUNTIF(L167:L198,AS7)","v":0},{"$f":"AT7/(AV4-AT11)","v":0},{"$f":"IF(AU7=0,0,(AU7*((LOG(AU7))/LOG(2))))","v":0}]
[21,194,22,209,24,217,null,null,null,null,0,222,null,112,{"$f":"COUNTIF($L$7:$L$500,N8)","v":6},{"$f":"O8/$Q$4","v":3.125E-2},{"$f":"IF(P8=0,0,(P8*((LOG(P8))/LOG(2))))","v":-0.15625},null,null,{"$f":"N8","v":112},{"$f":"COUNTIF(L7:L38,T8)","v":2},{"$f":"U8/(W4-U11)","v":6.25E-2},{"$f":"IF(V8=0,0,(V8*((LOG(V8))/LOG(2))))","v":-0.25},null,{"$f":"N8","v":112},{"$f":"COUNTIF(L39:L70,Y8)","v":0},{"$f":"Z8/(AB4-Z11)","v":0},{"$f":"IF(AA8=0,0,(AA8*((LOG(AA8))/LOG(2))))","v":0},null,{"$f":"N8","v":112},{"$f":"COUNTIF(L71:L102,AD8)","v":3},{"$f":"AE8/(AG4-AE11)","v":9.375E-2},{"$f":"IF(AF8=0,0,(AF8*((LOG(AF8))/LOG(2))))","v":-0.32015976555739156},null,{"$f":"N8","v":112},{"$f":"COUNTIF(L103:L134,AI8)","v":1},{"$f":"AJ8/(AL4-AJ11)","v":3.125E-2},{"$f":"IF(AK8=0,0,(AK8*((LOG(AK8))/LOG(2))))","v":-0.15625},null,{"$f":"N8","v":112},{"$f":"COUNTIF(L135:L166,AN8)","v":0},{"$f":"AO8/(AQ4-AO11)","v":0},{"$f":"IF(AP8=0,0,(AP8*((LOG(AP8))/LOG(2))))","v":0},null,{"$f":"N8","v":112},{"$f":"COUNTIF(L167:L198,AS8)","v":0},{"$f":"AT8/(AV4-AT11)","v":0},{"$f":"IF(AU8=0,0,(AU8*((LOG(AU8))/LOG(2))))","v":0}]
[21,317,22,336,24,345,null,null,null,null,0,222,null,121,{"$f":"COUNTIF($L$7:$L$500,N9)","v":0},{"$f":"O9/$Q$4","v":0},{"$f":"IF(P9=0,0,(P9*((LOG(P9))/LOG(2))))","v":0},null,null,{"$f":"N9","v":121},{"$f":"COUNTIF(L7:L38,T9)","v":0},{"$f":"U9/(W4-U11)","v":0},{"$f":"IF(V9=0,0,(V9*((LOG(V9))/LOG(2))))","v":0},null,{"$f":"N9","v":121},{"$f":"COUNTIF(L39:L70,Y9)","v":0},{"$f":"Z9/(AB4-Z11)","v":0},{"$f":"IF(AA9=0,0,(AA9*((LOG(AA9))/LOG(2))))","v":0},null,{"$f":"N9","v":121},{"$f":"COUNTIF(L71:L102,AD9)","v":0},{"$f":"AE9/(AG4-AE11)","v":0},{"$f":"IF(AF9=0,0,(AF9*((LOG(AF9))/LOG(2))))","v":0},null,{"$f":"N9","v":121},{"$f":"COUNTIF(L103:L134,AI9)","v":0},{"$f":"AJ9/(AL4-AJ11)","v":0},{"$f":"IF(AK9=0,0,(AK9*((LOG(AK9))/LOG(2))))","v":0},null,{"$f":"N9","v":121},{"$f":"COUNTIF(L135:L166,AN9)","v":0},{"$f":"AO9/(AQ4-AO11)","v":0},{"$f":"IF(AP9=0,0,(AP9*((LOG(AP9))/LOG(2))))","v":0},null,{"$f":"N9","v":121},{"$f":"COUNTIF(L167:L198,AS9)","v":0},{"$f":"AT9/(AV4-AT11)","v":0},{"$f":"IF(AU9=0,0,(AU9*((LOG(AU9))/LOG(2))))","v":0}]
[21,452,22,463,24,488,null,null,null,null,0,222,null,122,{"$f":"COUNTIF($L$7:$L$500,N10)","v":104},{"$f":"O10/$Q$4","v":0.54166666666666663},{"$f":"IF(P10=0,0,(P10*((LOG(P10))/LOG(2))))","v":-0.47911650723086807},null,null,{"$f":"N10","v":122},{"$f":"COUNTIF(L7:L38,T10)","v":14},{"$f":"U10/(W4-U11)","v":0.4375},{"$f":"IF(V10=0,0,(V10*((LOG(V10))/LOG(2))))","v":-0.52178222159979815},null,{"$f":"N10","v":122},{"$f":"COUNTIF(L39:L70,Y10)","v":18},{"$f":"Z10/(AB4-Z11)","v":0.5625},{"$f":"IF(AA10=0,0,(AA10*((LOG(AA10))/LOG(2))))","v":-0.4669171866886993},null,{"$f":"N10","v":122},{"$f":"COUNTIF(L71:L102,AD10)","v":18},{"$f":"AE10/(AG4-AE11)","v":0.5625},{"$f":"IF(AF10=0,0,(AF10*((LOG(AF10))/LOG(2))))","v":-0.4669171866886993},null,{"$f":"N10","v":122},{"$f":"COUNTIF(L103:L134,AI10)","v":19},{"$f":"AJ10/(AL4-AJ11)","v":0.59375},{"$f":"IF(AK10=0,0,(AK10*((LOG(AK10))/LOG(2))))","v":-0.44654303889287106},null,{"$f":"N10","v":122},{"$f":"COUNTIF(L135:L166,AN10)","v":17},{"$f":"AO10/(AQ4-AO11)","v":0.53125},{"$f":"IF(AP10=0,0,(AP10*((LOG(AP10))/LOG(2))))","v":-0.48478536558575719},null,{"$f":"N10","v":122},{"$f":"COUNTIF(L167:L198,AS10)","v":18},{"$f":"AT10/(AV4-AT11)","v":0.5625},{"$f":"IF(AU10=0,0,(AU10*((LOG(AU10))/LOG(2))))","v":-0.4669171866886993}]
[12,598,24,612,24,627,null,null,null,null,0,122,null,211,{"$f":"COUNTIF($L$7:$L$500,N11)","v":0},{"$f":"O11/$Q$4","v":0},{"$f":"IF(P11=0,0,(P11*((LOG(P11))/LOG(2))))","v":0},null,null,{"$f":"N11","v":211},{"$f":"COUNTIF(L7:L38,T11)","v":0},null,null,null,{"$f":"N11","v":211},{"$f":"COUNTIF(L39:L70,Y11)","v":0},null,null,null,{"$f":"N11","v":211},{"$f":"COUNTIF(L71:L102,AD11)","v":0},null,null,null,{"$f":"N11","v":211},{"$f":"COUNTIF(L103:L134,AI11)","v":0},null,null,null,{"$f":"N11","v":211},{"$f":"COUNTIF(L135:L166,AN11)","v":0},null,null,null,{"$f":"N11","v":211},{"$f":"COUNTIF(L167:L198,AS11)","v":0}]
[21,731,22,743,24,752,null,null,null,null,0,222,null,212,{"$f":"COUNTIF($L$7:$L$500,N12)","v":0},{"$f":"O12/$Q$4","v":0},{"$f":"IF(P12=0,0,(P12*((LOG(P12))/LOG(2))))","v":0},null,null,{"$f":"N12","v":212},{"$f":"COUNTIF(L7:L38,T12)","v":0},{"$f":"U12/(W4-U11)","v":0},{"$f":"IF(V12=0,0,(V12*((LOG(V12))/LOG(2))))","v":0},null,{"$f":"N12","v":212},{"$f":"COUNTIF(L39:L70,Y12)","v":0},{"$f":"Z12/(AB4-Z11)","v":0},{"$f":"IF(AA12=0,0,(AA12*((LOG(AA12))/LOG(2))))","v":0},null,{"$f":"N12","v":212},{"$f":"COUNTIF(L71:L102,AD12)","v":0},{"$f":"AE12/(AG4-AE11)","v":0},{"$f":"IF(AF12=0,0,(AF12*((LOG(AF12))/LOG(2))))","v":0},null,{"$f":"N12","v":212},{"$f":"COUNTIF(L103:L134,AI12)","v":0},{"$f":"AJ12/(AL4-AJ11)","v":0},{"$f":"IF(AK12=0,0,(AK12*((LOG(AK12))/LOG(2))))","v":0},null,{"$f":"N12","v":212},{"$f":"COUNTIF(L135:L166,AN12)","v":0},{"$f":"AO12/(AQ4-AO11)","v":0},{"$f":"IF(AP12=0,0,(AP12*((LOG(AP12))/LOG(2))))","v":0},null,{"$f":"N12","v":212},{"$f":"COUNTIF(L167:L198,AS12)","v":0},{"$f":"AT12/(AV4-AT11)","v":0},{"$f":"IF(AU12=0,0,(AU12*((LOG(AU12))/LOG(2))))","v":0}]
[12,856,24,873,24,884,null,null,null,null,0,122,null,221,{"$f":"COUNTIF($L$7:$L$500,N13)","v":0},{"$f":"O13/$Q$4","v":0},{"$f":"IF(P13=0,0,(P13*((LOG(P13))/LOG(2))))","v":0},null,null,{"$f":"N13","v":221},{"$f":"COUNTIF(L7:L38,T13)","v":0},{"$f":"U13/(W4-U11)","v":0},{"$f":"IF(V13=0,0,(V13*((LOG(V13))/LOG(2))))","v":0},null,{"$f":"N13","v":221},{"$f":"COUNTIF(L39:L70,Y13)","v":0},{"$f":"Z13/(AB4-Z11)","v":0},{"$f":"IF(AA13=0,0,(AA13*((LOG(AA13))/LOG(2))))","v":0},null,{"$f":"N13","v":221},{"$f":"COUNTIF(L71:L102,AD13)","v":0},{"$f":"AE13/(AG4-AE11)","v":0},{"$f":"IF(AF13=0,0,(AF13*((LOG(AF13))/LOG(2))))","v":0},null,{"$f":"N13","v":221},{"$f":"COUNTIF(L103:L134,AI13)","v":0},{"$f":"AJ13/(AL4-AJ11)","v":0},{"$f":"IF(AK13=0,0,(AK13*((LOG(AK13))/LOG(2))))","v":0},null,{"$f":"N13","v":221},{"$f":"COUNTIF(L135:L166,AN13)","v":0},{"$f":"AO13/(AQ4-AO11)","v":0},{"$f":"IF(AP13=0,0,(AP13*((LOG(AP13))/LOG(2))))","v":0},null,{"$f":"N13","v":221},{"$f":"COUNTIF(L167:L198,AS13)","v":0},{"$f":"AT13/(AV4-AT11)","v":0},{"$f":"IF(AU13=0,0,(AU13*((LOG(AU13))/LOG(2))))","v":0}]
[12,989,24,1007,24,1045,null,null,null,null,0,122,null,222,{"$f":"COUNTIF($L$7:$L$500,N14)","v":82},{"$f":"O14/$Q$4","v":0.42708333333333331},{"$f":"IF(P14=0,0,(P14*((LOG(P14))/LOG(2))))","v":-0.52420656604402049},null,null,{"$f":"N14","v":222},{"$f":"COUNTIF(L7:L38,T14)","v":16},{"$f":"U14/(W4-U11)","v":0.5},{"$f":"IF(V14=0,0,(V14*((LOG(V14))/LOG(2))))","v":-0.5},null,{"$f":"N14","v":222},{"$f":"COUNTIF(L39:L70,Y14)","v":14},{"$f":"Z14/(AB4-Z11)","v":0.4375},{"$f":"IF(AA14=0,0,(AA14*((LOG(AA14))/LOG(2))))","v":-0.52178222159979815},null,{"$f":"N14","v":222},{"$f":"COUNTIF(L71:L102,AD14)","v":11},{"$f":"AE14/(AG4-AE11)","v":0.34375},{"$f":"IF(AF14=0,0,(AF14*((LOG(AF14))/LOG(2))))","v":-0.52957038109342913},null,{"$f":"N14","v":222},{"$f":"COUNTIF(L103:L134,AI14)","v":12},{"$f":"AJ14/(AL4-AJ11)","v":0.375},{"$f":"IF(AK14=0,0,(AK14*((LOG(AK14))/LOG(2))))","v":-0.53063906222956647},null,{"$f":"N14","v":222},{"$f":"COUNTIF(L135:L166,AN14)","v":15},{"$f":"AO14/(AQ4-AO11)","v":0.46875},{"$f":"IF(AP14=0,0,(AP14*((LOG(AP14))/LOG(2))))","v":-0.512395033308507},null,{"$f":"N14","v":222},{"$f":"COUNTIF(L167:L198,AS14)","v":14},{"$f":"AT14/(AV4-AT11)","v":0.4375},{"$f":"IF(AU14=0,0,(AU14*((LOG(AU14))/LOG(2))))","v":-0.52178222159979815}]
[21,1142,22,1147,24,1165,null,null,null,null,0,222,null,null,null,{"$f":"SUM(P7:P14)","v":1},{"$f":"-SUM(Q7:Q14)","v":1.1595730732748886},null,null,null,null,{"$f":"SUM(V7:V14)","v":1},{"$f":"-SUM(W7:W14)","v":1.271782221599798},null,null,null,{"$f":"SUM(AA7:AA14)","v":1},{"$f":"-SUM(AB7:AB14)","v":0.98869940828849745},null,null,null,{"$f":"SUM(AF7:AF14)","v":1},{"$f":"-SUM(AG7:AG14)","v":1.3166473333395201},null,null,null,{"$f":"SUM(AK7:AK14)","v":1},{"$f":"-SUM(AL7:AL14)","v":1.1334321011224375},null,null,null,{"$f":"SUM(AP7:AP14)","v":1},{"$f":"-SUM(AQ7:AQ14)","v":0.99718039889426424},null,null,null,{"$f":"SUM(AU7:AU14)","v":1},{"$f":"-SUM(AV7:AV14)","v":0.98869940828849745}]
[12,1266,24,1276,24,1280,null,null,null,null,0,122,null,null,null,"U=",{"$f":"Q15/(LOG(Q4)/LOG(2))","v":0.15287789137581625},null,null,null,null,"U1=",{"$f":"W15/(LOG(W4)/LOG(2))","v":0.25435644431995963},null,null,null,"U2=",{"$f":"AB15/(LOG(AB4)/LOG(2))","v":0.19773988165769948},null,null,null,"U3=",{"$f":"AG15/(LOG(AG4)/LOG(2))","v":0.26332946666790402},null,null,null,"U4=",{"$f":"AL15/(LOG(AL4)/LOG(2))","v":0.22668642022448751},null,null,null,"U5=",{"$f":"AQ15/(LOG(AQ4)/LOG(2))","v":0.19943607977885286},null,null,null,"U6=",{"$f":"AV15/(LOG(AV4)/LOG(2))","v":0.19773988165769948}]
[21,1388,22,1407,24,1425,null,null,null,null,0,222]
[12,1529,24,1539,24,1546,null,null,null,null,0,122]
[21,1671,22,1689,24,1706,null,null,null,null,0,222,null,"Total Target Seq"]
[21,1818,22,1839,24,1864,null,null,null,null,0,222,null,{"$f":"COUNTIF(L7:L198,G3)","v":0},null,32,32,32,32,32,32]
[21,1971,22,1993,24,2009,null,null,null,null,0,222,null,null,null,"% of reinforcement given in 6 equal intervals based on number of trials "]
[12,2109,24,2122,24,2129,null,null,null,null,0,122,null,null,null,"%_1","%_2","%_3","%_4","%_5","%_6"]
[12,2232,24,2241,24,2245,null,null,null,null,0,122,null,null,"target sequence",{"$f":"$G$3","v":211},{"$f":"$G$3","v":211},{"$f":"$G$3","v":211},{"$f":"$G$3","v":211},{"$f":"$G$3","v":211},{"$f":"$G$3","v":211}]
[12,2342,24,2355,24,2365,null,null,null,null,0,122,null,null,"total reinforcement",{"$f":"U11","v":0},{"$f":"Z11","v":0},{"$f":"AE11","v":0},{"$f":"AJ11","v":0},{"$f":"AO11","v":0},{"$f":"AT11","v":0}]
[21,2465,22,2471,24,2480,null,null,null,null,0,222,null,null,"% target"]
[21,2586,22,2593,24,2612,null,null,null,null,0,222,null,null,"CCRF"]
[12,2714,24,2726,24,2733,null,null,null,null,0,122,null,null,"% CCRf"]
[12,2831,24,2850,24,2860,null,null,null,null,0,122,null,null,"average response rate",{"$f":"F38/P20","v":127.375},{"$f":"(F70-F38)/Q20","v":122.65625},{"$f":"(F102-F70)/R20","v":126.28125},{"$f":"(F134-F102)/S20","v":121.9375},{"$f":"(F166-F134)/T20","v":125.46875},{"$f":"(F198-F166)/U20","v":125.5625}]
[21,2964,22,2969,24,2984,null,null,null,null,0,222]
[21,3084,22,3089,24,3108,null,null,null,null,0,222]
[12,3208,24,3227,24,3237,null,null,null,null,0,122]
[12,3339,24,3352,24,3357,null,null,null,null,0,122]
[12,3455,24,3469,24,3474,null,null,null,null,0,122]
[21,3596,22,3609,24,3619,null,null,null,null,0,222]
[21,3714,22,3719,24,3724,null,null,null,null,0,222]
[21,3823,22,3828,24,3839,null,null,null,null,0,222]
[12,3937,13,3938,24,3956,null,null,null,null,0,112]
[12,4054,24,4070,24,4076,null,null,null,null,0,122]
[21,4191,22,4197,24,4205,null,null,null,null,0,222]
[21,4308,22,4313,24,4323,null,null,null,null,0,222]
[21,4417,22,4422,24,4427,null,null,null,null,0,222]
[12,4528,24,4553,24,4561,null,null,null,null,0,122]
[12,4659,24,4679,24,4688,null,null,null,null,0,122]
[12,4785,24,4803,24,4808,null,null,null,null,0,122]
[21,4910,22,4915,24,4920,null,null,null,null,0,222]
[21,5031,22,5037,24,5045,null,null,null,null,0,222]
[12,5145,24,5159,24,5164,null,null,null,null,0,122]
[12,5266,24,5283,24,5292,null,null,null,null,0,122]
[21,5387,22,5396,24,5407,null,null,null,null,0,222]
[21,5511,22,5516,24,5527,null,null,null,null,0,222]
[21,5626,22,5634,24,5645,null,null,null,null,0,222]
[12,5746,24,5764,24,5773,null,null,null,null,0,122]
[21,5889,22,5894,24,5903,null,null,null,null,0,222]
[12,6004,24,6020,24,6035,null,null,null,null,0,122]
[12,6137,24,6151,24,6167,null,null,null,null,0,122]
[12,6268,24,6285,24,6293,null,null,null,null,0,122]
[12,6394,24,6407,24,6412,null,null,null,null,0,122]
[12,6511,24,6529,24,6543,null,null,null,null,0,122]
[12,6642,24,6657,24,6663,null,null,null,null,0,122]
[12,6765,24,6778,24,6798,null,null,null,null,0,122]
[21,6895,22,6904,24,6921,null,null,null,null,0,222]
[12,7018,24,7032,24,7038,null,null,null,null,0,122]
[12,7136,24,7152,24,7160,null,null,null,null,0,122]
[21,7255,22,7260,24,7265,null,null,null,null,0,222]
[12,7370,24,7386,24,7397,null,null,null,null,0,122]
[12,7500,24,7516,24,7531,null,null,null,null,0,122]
[12,7629,24,7644,24,7672,null,null,null,null,0,122]
[21,7768,22,7772,24,7779,null,null,null,null,0,222]
[21,7881,22,7885,24,7890,null,null,null,null,0,222]
[21,7990,22,7995,24,8001,null,null,null,null,0,222]
[12,8099,24,8112,24,8118,null,null,null,null,0,122]
[12,8214,24,8234,24,8240,null,null,null,null,0,122]
[21,8336,22,8340,24,8345,null,null,null,null,0,222]
[12,8447,24,8460,24,8465,null,null,null,null,0,122]
[12,8567,24,8590,24,8615,null,null,null,null,0,122]
[12,8713,24,8726,24,8732,null,null,null,null,0,122]
[12,8831,24,8849,24,8856,null,null,null,null,0,122]
[21,8954,22,8972,24,8980,null,null,null,null,0,222]
[12,9085,24,9104,24,9115,null,null,null,null,0,122]
[12,9221,13,9261,24,9273,null,null,null,null,0,112]
[12,9371,24,9388,24,9395,null,null,null,null,0,122]
[12,9494,24,9522,24,9528,null,null,null,null,0,122]
[12,9631,24,9640,24,9645,null,null,null,null,0,122]
[21,9742,22,9746,24,9759,null,null,null,null,0,222]
[21,9858,22,9863,24,9871,null,null,null,null,0,222]
[12,9968,13,9977,24,9991,null,null,null,null,0,112]
[12,10090,24,10099,24,10104,null,null,null,null,0,122]
[21,10209,22,10220,24,10273,null,null,null,null,0,222]
[12,10374,24,10391,24,10405,null,null,null,null,0,122]
[21,10504,22,10509,24,10514,null,null,null,null,0,222]
[21,10610,22,10615,24,10622,null,null,null,null,0,222]
[21,10722,22,10729,24,10734,null,null,null,null,0,222]
[12,10834,24,10850,24,10858,null,null,null,null,0,122]
[21,10955,22,10984,24,11014,null,null,null,null,0,222]
[12,11114,24,11137,24,11159,null,null,null,null,0,122]
[12,11259,13,11270,24,11283,null,null,null,null,0,112]
[21,11393,22,11404,24,11415,null,null,null,null,0,222]
[12,11514,24,11531,24,11537,null,null,null,null,0,122]
[12,11636,24,11654,24,11665,null,null,null,null,0,122]
[21,11760,22,11772,24,11794,null,null,null,null,0,222]
[12,11892,24,11906,24,11914,null,null,null,null,0,122]
[12,12013,24,12026,24,12042,null,null,null,null,0,122]
[12,12142,24,12156,24,12161,null,null,null,null,0,122]
[21,12261,22,12265,24,12284,null,null,null,null,0,222]
[12,12383,24,12400,24,12439,null,null,null,null,0,122]
[21,12542,22,12547,24,12564,null,null,null,null,0,222]
[12,12663,13,12665,24,12686,null,null,null,null,0,112]
[21,12783,22,12788,24,12796,null,null,null,null,0,222]
[21,12893,22,12897,24,12903,null,null,null,null,0,222]
[12,13003,24,13016,24,13021,null,null,null,null,0,122]
[12,13119,24,13133,24,13139,null,null,null,null,0,122]
[21,13234,22,13239,24,13250,null,null,null,null,0,222]
[12,13348,24,13361,24,13367,null,null,null,null,0,122]
[21,13466,22,13471,24,13491,null,null,null,null,0,222]
[12,13590,24,13604,24,13610,null,null,null,null,0,122]
[12,13710,24,13728,24,13733,null,null,null,null,0,122]
[12,13831,24,13847,24,13852,null,null,null,null,0,122]
[21,13946,22,13950,24,13961,null,null,null,null,0,222]
[12,14061,24,14103,24,14113,null,null,null,null,0,122]
[12,14212,24,14226,24,14232,null,null,null,null,0,122]
[12,14332,24,14345,24,14351,null,null,null,null,0,122]
[21,14451,22,14456,24,14462,null,null,null,null,0,222]
[12,14560,24,14578,24,14606,null,null,null,null,0,122]
[21,14704,22,14718,24,14729,null,null,null,null,0,222]
[12,14830,24,14839,24,14844,null,null,null,null,0,122]
[12,14942,24,14955,24,14965,null,null,null,null,0,122]
[12,15066,24,15083,24,15091,null,null,null,null,0,122]
[21,15184,22,15188,24,15197,null,null,null,null,0,222]
[12,15296,24,15315,24,15323,null,null,null,null,0,122]
[21,15423,22,15435,24,15443,null,null,null,null,0,222]
[12,15549,24,15568,24,15580,null,null,null,null,0,122]
[12,15678,24,15696,24,15702,null,null,null,null,0,122]
[21,15806,22,15811,24,15816,null,null,null,null,0,222]
[12,15915,24,15932,24,15944,null,null,null,null,0,122]
[12,16045,24,16064,24,16071,null,null,null,null,0,122]
[12,16173,24,16190,24,16206,null,null,null,null,0,122]
[21,16306,22,16321,24,16333,null,null,null,null,0,222]
[21,16441,22,16448,24,16456,null,null,null,null,0,222]
[21,16557,22,16562,24,16567,null,null,null,null,0,222]
[21,16662,22,16666,24,16671,null,null,null,null,0,222]
[21,16781,22,16789,24,16797,null,null,null,null,0,222]
[21,16891,22,16899,24,16904,null,null,null,null,0,222]
[12,17007,24,17020,24,17026,null,null,null,null,0,122]
[12,17123,24,17137,24,17142,null,null,null,null,0,122]
[21,17238,22,17243,24,17258,null,null,null,null,0,222]
[12,17357,24,17373,24,17379,null,null,null,null,0,122]
[21,17487,22,17497,24,17518,null,null,null,null,0,222]
[21,17622,22,17652,24,17668,null,null,null,null,0,222]
[12,17766,24,17778,24,17783,null,null,null,null,0,122]
[21,17884,22,17888,24,17897,null,null,null,null,0,222]
[12,17995,24,18009,24,18014,null,null,null,null,0,122]
[12,18119,24,18133,24,18138,null,null,null,null,0,122]
[12,18244,24,18258,24,18263,null,null,null,null,0,122]
[21,18365,22,18408,24,18424,null,null,null,null,0,222]
[12,18523,24,18540,24,18549,null,null,null,null,0,122]
[12,18650,24,18662,24,18667,null,null,null,null,0,122]
[12,18765,24,18779,24,18784,null,null,null,null,0,122]
[12,18882,24,18893,24,18898,null,null,null,null,0,122]
[21,19001,22,19039,24,19065,null,null,null,null,0,222]
[21,19161,22,19165,24,19169,null,null,null,null,0,222]
[12,19267,24,19286,24,19291,null,null,null,null,0,122]
[21,19407,22,19422,24,19435,null,null,null,null,0,222]
[12,19535,24,19553,24,19583,null,null,null,null,0,122]
[21,19690,22,19704,24,19710,null,null,null,null,0,222]
[12,19816,24,19825,24,19831,null,null,null,null,0,122]
[12,19931,24,19948,24,19959,null,null,null,null,0,122]
[21,20056,22,20061,24,20065,null,null,null,null,0,222]
[12,20164,24,20177,24,20182,null,null,null,null,0,122]
[12,20283,24,20300,24,20305,null,null,null,null,0,122]
[12,20404,24,20419,24,20426,null,null,null,null,0,122]
[21,20529,22,20538,24,20547,null,null,null,null,0,222]
[21,20648,22,20657,24,20661,null,null,null,null,0,222]
[21,20761,22,20765,24,20811,null,null,null,null,0,222]
[21,20910,22,20927,24,20936,null,null,null,null,0,222]
[21,21036,22,21045,24,21070,null,null,null,null,0,222]
[21,21167,22,21172,24,21176,null,null,null,null,0,222]
[12,21275,24,21289,24,21294,null,null,null,null,0,122]
[12,21393,24,21411,24,21418,null,null,null,null,0,122]
[21,21527,22,21531,24,21539,null,null,null,null,0,222]
[21,21644,22,21649,24,21661,null,null,null,null,0,222]
[12,21765,24,21779,24,21804,null,null,null,null,0,122]
[12,21902,24,21920,24,21928,null,null,null,null,0,122]
[21,22044,22,22056,24,22123,null,null,null,null,0,222]
[21,22221,22,22238,24,22244,null,null,null,null,0,222]
[12,22342,24,22358,24,22364,null,null,null,null,0,122]
[12,22466,24,22480,24,22485,null,null,null,null,0,122]
[12,22585,24,22599,24,22605,null,null,null,null,0,122]
[12,22706,24,22724,24,22732,null,null,null,null,0,122]
[12,22831,24,22849,24,22857,null,null,null,null,0,122]
[21,22966,22,22971,24,22978,null,null,null,null,0,222]
[12,23079,24,23094,24,23101,null,null,null,null,0,122]
[12,23204,24,23219,24,23226,null,null,null,null,0,122]
[12,23345,24,23359,24,23366,null,null,null,null,0,122]
[21,23470,22,23475,24,23496,null,null,null,null,0,222]
[21,23599,22,23603,24,23607,null,null,null,null,0,222]
[12,23706,24,23723,24,23729,null,null,null,null,0,122]
[12,23831,24,23847,24,23853,null,null,null,null,0,122]
[12,23954,24,23967,24,23977,null,null,null,null,null,122]

{"sheet":"!MA07A40.091","index":19,"n_rows":195,"n_cols":48,"rows_kept":195,"cut":false,"hidden":false,"merged":[[4,39,4,42],[5,39,5,40],[4,44,4,47],[5,44,5,45],[4,24,4,27],[5,24,5,25],[4,29,4,32],[5,29,5,30],[4,34,4,37],[5,34,5,35],[1,1,1,2],[5,13,5,14],[18,13,18,14],[19,13,19,14],[4,19,4,22],[5,19,5,20]]}
["Report for:!MA07A40.091"]
["Date:","<date>"]
["Hen:","<hen>",null,null,null,"Correct Sequence",{"$f":"Start!J2","v":211},null,null,null,null,null,null,null,null,"Total Sequences in Data",{"$f":"4994-COUNTBLANK(L7:L5000)","v":189},null,null,null,null,"Total Sequences in Block Data",{"$f":"COUNTA(L7:L38)","v":32},null,null,null,"Total Sequences in Block Data",{"$f":"COUNTA(L39:L69)","v":31},null,null,null,"Total Sequences in Block Data",{"$f":"COUNTA(L70:L101)","v":32},null,null,null,"Total Sequences in Block Data",{"$f":"COUNTA(L102:L132)","v":31},null,null,null,"Total Sequences in Block Data",{"$f":"COUNTA(L133:L164)","v":32},null,null,null,"Total Sequences in Block Data",{"$f":"COUNTA(L165:L195)","v":31}]
[null,null,null,null,null,null,null,null,null,null,null,null,null,null,null,"Total Sequences in Summary",{"$f":"SUM(O7:O14)","v":189},null,null,null,null,"Total Sequences in Block Summary",{"$f":"SUM(U7:U14)","v":32},null,null,null,"Total Sequences in Block Summary",{"$f":"SUM(Z7:Z14)","v":31},null,null,null,"Total Sequences in Block Summary",{"$f":"SUM(AE7:AE14)","v":32},null,null,null,"Total Sequences in Block Summary",{"$f":"SUM(AJ7:AJ14)","v":31},null,null,null,"Total Sequences in Block Summary",{"$f":"SUM(AO7:AO14)","v":32},null,null,null,"Total Sequences in Block Summary",{"$f":"SUM(AT7:AT14)","v":31}]
[null,null,null,null,null,null,null,null,null,null,null,null,null,null,null,null,null,null,null,"Block 1",null,null,null,null,"Block 2",null,null,null,null,"Block 3",null,null,null,null,"Block 4",null,null,null,null,"Block 5",null,null,null,null,"Block 6"]
["Sequence\nComponent\n1","Time\n1","Sequence\nComponent\n2","Time\n2","Sequence\nComponent\n3","Time\n3","Sequence\nComponent\n4","Time\n4","Sequence\nComponent\n5","Time\n5","Correct?\n0=No 1=Yes","Sequence",null,"Frequency",null,"Relative Frequency","Variability",null,null,"Frequency",null,"Relative Frequency","Variability",null,"Frequency",null,"Relative Frequency","Variability",null,"Frequency",null,"Relative Frequency","Variability",null,"Frequency",null,"Relative Frequency","Variability",null,"Frequency",null,"Relative Frequency","Variability",null,"Frequency",null,"Relative Frequency","Variability"]
[12,11,24,25,24,31,null,null,null,null,0,122,null,111,{"$f":"COUNTIF($L$7:$L$500,N7)","v":1},{"$f":"O7/$Q$4","v":5.2910052910052907E-3},{"$f":"IF(P7=0,0,(P7*((LOG(P7))/LOG(2))))","v":-4.0011864678418371E-2},null,null,{"$f":"N7","v":111},{"$f":"COUNTIF(L7:L38,T7)","v":0},{"$f":"U7/(W4-U11)","v":0},{"$f":"IF(V7=0,0,(V7*((LOG(V7))/LOG(2))))","v":0},null,{"$f":"N7","v":111},{"$f":"COUNTIF(L39:L69,Y7)","v":0},{"$f":"Z7/(AB4-Z11)","v":0},{"$f":"IF(AA7=0,0,(AA7*((LOG(AA7))/LOG(2))))","v":0},null,{"$f":"N7","v":111},{"$f":"COUNTIF(L70:L101,AD7)","v":1},{"$f":"AE7/(AG4-AE11)","v":3.125E-2},{"$f":"IF(AF7=0,0,(AF7*((LOG(AF7))/LOG(2))))","v":-0.15625},null,{"$f":"N7","v":111},{"$f":"COUNTIF(L102:L132,AI7)","v":0},{"$f":"AJ7/(AL4-AJ11)","v":0},{"$f":"IF(AK7=0,0,(AK7*((LOG(AK7))/LOG(2))))","v":0},null,{"$f":"N7","v":111},{"$f":"COUNTIF(L133:L164,AN7)","v":0},{"$f":"AO7/(AQ4-AO11)","v":0},{"$f":"IF(AP7=0,0,(AP7*((LOG(AP7))/LOG(2))))","v":0},null,{"$f":"N7","v":111},{"$f":"COUNTIF(L165:L195,AS7)","v":0},{"$f":"AT7/(AV4-AT11)","v":0},{"$f":"IF(AU7=0,0,(AU7*((LOG(AU7))/LOG(2))))","v":0}]
[12,130,24,139,24,146,null,null,null,null,0,122,null,112,{"$f":"COUNTIF($L$7:$L$500,N8)","v":11},{"$f":"O8/$Q$4","v":5.8201058201058198E-2},{"$f":"IF(P8=0,0,(P8*((LOG(P8))/LOG(2))))","v":-0.2387879304837118},null,null,{"$f":"N8","v":112},{"$f":"COUNTIF(L7:L38,T8)","v":1},{"$f":"U8/(W4-U11)","v":3.125E-2},{"$f":"IF(V8=0,0,(V8*((LOG(V8))/LOG(2))))","v":-0.15625},null,{"$f":"N8","v":112},{"$f":"COUNTIF(L39:L69,Y8)","v":5},{"$f":"Z8/(AB4-Z11)","v":0.16129032258064516},{"$f":"IF(AA8=0,0,(AA8*((LOG(AA8))/LOG(2))))","v":-0.42455938959669559},null,{"$f":"N8","v":112},{"$f":"COUNTIF(L70:L101,AD8)","v":2},{"$f":"AE8/(AG4-AE11)","v":6.25E-2},{"$f":"IF(AF8=0,0,(AF8*((LOG(AF8))/LOG(2))))","v":-0.25},null,{"$f":"N8","v":112},{"$f":"COUNTIF(L102:L132,AI8)","v":0},{"$f":"AJ8/(AL4-AJ11)","v":0},{"$f":"IF(AK8=0,0,(AK8*((LOG(AK8))/LOG(2))))","v":0},null,{"$f":"N8","v":112},{"$f":"COUNTIF(L133:L164,AN8)","v":0},{"$f":"AO8/(AQ4-AO11)","v":0},{"$f":"IF(AP8=0,0,(AP8*((LOG(AP8))/LOG(2))))","v":0},null,{"$f":"N8","v":112},{"$f":"COUNTIF(L165:L195,AS8)","v":3},{"$f":"AT8/(AV4-AT11)","v":9.6774193548387094E-2},{"$f":"IF(AU8=0,0,(AU8*((LOG(AU8))/LOG(2))))","v":-0.32605488480635986}]
[12,245,24,261,24,268,null,null,null,null,0,122,null,121,{"$f":"COUNTIF($L$7:$L$500,N9)","v":0},{"$f":"O9/$Q$4","v":0},{"$f":"IF(P9=0,0,(P9*((LOG(P9))/LOG(2))))","v":0},null,null,{"$f":"N9","v":121},{"$f":"COUNTIF(L7:L38,T9)","v":0},{"$f":"U9/(W4-U11)","v":0},{"$f":"IF(V9=0,0,(V9*((LOG(V9))/LOG(2))))","v":0},null,{"$f":"N9","v":121},{"$f":"COUNTIF(L39:L69,Y9)","v":0},{"$f":"Z9/(AB4-Z11)","v":0},{"$f":"IF(AA9=0,0,(AA9*((LOG(AA9))/LOG(2))))","v":0},null,{"$f":"N9","v":121},{"$f":"COUNTIF(L70:L101,AD9)","v":0},{"$f":"AE9/(AG4-AE11)","v":0},{"$f":"IF(AF9=0,0,(AF9*((LOG(AF9))/LOG(2))))","v":0},null,{"$f":"N9","v":121},{"$f":"COUNTIF(L102:L132,AI9)","v":0},{"$f":"AJ9/(AL4-AJ11)","v":0},{"$f":"IF(AK9=0,0,(AK9*((LOG(AK9))/LOG(2))))","v":0},null,{"$f":"N9","v":121},{"$f":"COUNTIF(L133:L164,AN9)","v":0},{"$f":"AO9/(AQ4-AO11)","v":0},{"$f":"IF(AP9=0,0,(AP9*((LOG(AP9))/LOG(2))))","v":0},null,{"$f":"N9","v":121},{"$f":"COUNTIF(L165:L195,AS9)","v":0},{"$f":"AT9/(AV4-AT11)","v":0},{"$f":"IF(AU9=0,0,(AU9*((LOG(AU9))/LOG(2))))","v":0}]
[12,372,24,383,24,387,null,null,null,null,0,122,null,122,{"$f":"COUNTIF($L$7:$L$500,N10)","v":104},{"$f":"O10/$Q$4","v":0.55026455026455023},{"$f":"IF(P10=0,0,(P10*((LOG(P10))/LOG(2))))","v":-0.47421947847787288},null,null,{"$f":"N10","v":122},{"$f":"COUNTIF(L7:L38,T10)","v":17},{"$f":"U10/(W4-U11)","v":0.53125},{"$f":"IF(V10=0,0,(V10*((LOG(V10))/LOG(2))))","v":-0.48478536558575719},null,{"$f":"N10","v":122},{"$f":"COUNTIF(L39:L69,Y10)","v":15},{"$f":"Z10/(AB4-Z11)","v":0.4838709677419355},{"$f":"IF(AA10=0,0,(AA10*((LOG(AA10))/LOG(2))))","v":-0.50676082973146286},null,{"$f":"N10","v":122},{"$f":"COUNTIF(L70:L101,AD10)","v":14},{"$f":"AE10/(AG4-AE11)","v":0.4375},{"$f":"IF(AF10=0,0,(AF10*((LOG(AF10))/LOG(2))))","v":-0.52178222159979815},null,{"$f":"N10","v":122},{"$f":"COUNTIF(L102:L132,AI10)","v":20},{"$f":"AJ10/(AL4-AJ11)","v":0.64516129032258063},{"$f":"IF(AK10=0,0,(AK10*((LOG(AK10))/LOG(2))))","v":-0.40791497774162117},null,{"$f":"N10","v":122},{"$f":"COUNTIF(L133:L164,AN10)","v":19},{"$f":"AO10/(AQ4-AO11)","v":0.59375},{"$f":"IF(AP10=0,0,(AP10*((LOG(AP10))/LOG(2))))","v":-0.44654303889287106},null,{"$f":"N10","v":122},{"$f":"COUNTIF(L165:L195,AS10)","v":19},{"$f":"AT10/(AV4-AT11)","v":0.61290322580645162},{"$f":"IF(AU10=0,0,(AU10*((LOG(AU10))/LOG(2))))","v":-0.43287442393298403}]
[21,489,22,497,24,516,null,null,null,null,0,222,null,211,{"$f":"COUNTIF($L$7:$L$500,N11)","v":0},{"$f":"O11/$Q$4","v":0},{"$f":"IF(P11=0,0,(P11*((LOG(P11))/LOG(2))))","v":0},null,null,{"$f":"N11","v":211},{"$f":"COUNTIF(L7:L38,T11)","v":0},null,null,null,{"$f":"N11","v":211},{"$f":"COUNTIF(L39:L69,Y11)","v":0},null,null,null,{"$f":"N11","v":211},{"$f":"COUNTIF(L70:L101,AD11)","v":0},null,null,null,{"$f":"N11","v":211},{"$f":"COUNTIF(L102:L132,AI11)","v":0},null,null,null,{"$f":"N11","v":211},{"$f":"COUNTIF(L133:L164,AN11)","v":0},null,null,null,{"$f":"N11","v":211},{"$f":"COUNTIF(L165:L195,AS11)","v":0}]
[21,618,22,622,24,641,null,null,null,null,0,222,null,212,{"$f":"COUNTIF($L$7:$L$500,N12)","v":0},{"$f":"O12/$Q$4","v":0},{"$f":"IF(P12=0,0,(P12*((LOG(P12))/LOG(2))))","v":0},null,null,{"$f":"N12","v":212},{"$f":"COUNTIF(L7:L38,T12)","v":0},{"$f":"U12/(W4-U11)","v":0},{"$f":"IF(V12=0,0,(V12*((LOG(V12))/LOG(2))))","v":0},null,{"$f":"N12","v":212},{"$f":"COUNTIF(L39:L69,Y12)","v":0},{"$f":"Z12/(AB4-Z11)","v":0},{"$f":"IF(AA12=0,0,(AA12*((LOG(AA12))/LOG(2))))","v":0},null,{"$f":"N12","v":212},{"$f":"COUNTIF(L70:L101,AD12)","v":0},{"$f":"AE12/(AG4-AE11)","v":0},{"$f":"IF(AF12=0,0,(AF12*((LOG(AF12))/LOG(2))))","v":0},null,{"$f":"N12","v":212},{"$f":"COUNTIF(L102:L132,AI12)","v":0},{"$f":"AJ12/(AL4-AJ11)","v":0},{"$f":"IF(AK12=0,0,(AK12*((LOG(AK12))/LOG(2))))","v":0},null,{"$f":"N12","v":212},{"$f":"COUNTIF(L133:L164,AN12)","v":0},{"$f":"AO12/(AQ4-AO11)","v":0},{"$f":"IF(AP12=0,0,(AP12*((LOG(AP12))/LOG(2))))","v":0},null,{"$f":"N12","v":212},{"$f":"COUNTIF(L165:L195,AS12)","v":0},{"$f":"AT12/(AV4-AT11)","v":0},{"$f":"IF(AU12=0,0,(AU12*((LOG(AU12))/LOG(2))))","v":0}]
[21,737,22,747,24,781,null,null,null,null,0,222,null,221,{"$f":"COUNTIF($L$7:$L$500,N13)","v":0},{"$f":"O13/$Q$4","v":0},{"$f":"IF(P13=0,0,(P13*((LOG(P13))/LOG(2))))","v":0},null,null,{"$f":"N13","v":221},{"$f":"COUNTIF(L7:L38,T13)","v":0},{"$f":"U13/(W4-U11)","v":0},{"$f":"IF(V13=0,0,(V13*((LOG(V13))/LOG(2))))","v":0},null,{"$f":"N13","v":221},{"$f":"COUNTIF(L39:L69,Y13)","v":0},{"$f":"Z13/(AB4-Z11)","v":0},{"$f":"IF(AA13=0,0,(AA13*((LOG(AA13))/LOG(2))))","v":0},null,{"$f":"N13","v":221},{"$f":"COUNTIF(L70:L101,AD13)","v":0},{"$f":"AE13/(AG4-AE11)","v":0},{"$f":"IF(AF13=0,0,(AF13*((LOG(AF13))/LOG(2))))","v":0},null,{"$f":"N13","v":221},{"$f":"COUNTIF(L102:L132,AI13)","v":0},{"$f":"AJ13/(AL4-AJ11)","v":0},{"$f":"IF(AK13=0,0,(AK13*((LOG(AK13))/LOG(2))))","v":0},null,{"$f":"N13","v":221},{"$f":"COUNTIF(L133:L164,AN13)","v":0},{"$f":"AO13/(AQ4-AO11)","v":0},{"$f":"IF(AP13=0,0,(AP13*((LOG(AP13))/LOG(2))))","v":0},null,{"$f":"N13","v":221},{"$f":"COUNTIF(L165:L195,AS13)","v":0},{"$f":"AT13/(AV4-AT11)","v":0},{"$f":"IF(AU13=0,0,(AU13*((LOG(AU13))/LOG(2))))","v":0}]
[21,884,22,889,24,898,null,null,null,null,0,222,null,222,{"$f":"COUNTIF($L$7:$L$500,N14)","v":73},{"$f":"O14/$Q$4","v":0.38624338624338622},{"$f":"IF(P14=0,0,(P14*((LOG(P14))/LOG(2))))","v":-0.53008732365024891},null,null,{"$f":"N14","v":222},{"$f":"COUNTIF(L7:L38,T14)","v":14},{"$f":"U14/(W4-U11)","v":0.4375},{"$f":"IF(V14=0,0,(V14*((LOG(V14))/LOG(2))))","v":-0.52178222159979815},null,{"$f":"N14","v":222},{"$f":"COUNTIF(L39:L69,Y14)","v":11},{"$f":"Z14/(AB4-Z11)","v":0.35483870967741937},{"$f":"IF(AA14=0,0,(AA14*((LOG(AA14))/LOG(2))))","v":-0.53040037449178568},null,{"$f":"N14","v":222},{"$f":"COUNTIF(L70:L101,AD14)","v":15},{"$f":"AE14/(AG4-AE11)","v":0.46875},{"$f":"IF(AF14=0,0,(AF14*((LOG(AF14))/LOG(2))))","v":-0.512395033308507},null,{"$f":"N14","v":222},{"$f":"COUNTIF(L102:L132,AI14)","v":11},{"$f":"AJ14/(AL4-AJ11)","v":0.35483870967741937},{"$f":"IF(AK14=0,0,(AK14*((LOG(AK14))/LOG(2))))","v":-0.53040037449178568},null,{"$f":"N14","v":222},{"$f":"COUNTIF(L133:L164,AN14)","v":13},{"$f":"AO14/(AQ4-AO11)","v":0.40625},{"$f":"IF(AP14=0,0,(AP14*((LOG(AP14))/LOG(2))))","v":-0.52794636450518129},null,{"$f":"N14","v":222},{"$f":"COUNTIF(L165:L195,AS14)","v":9},{"$f":"AT14/(AV4-AT11)","v":0.29032258064516131},{"$f":"IF(AU14=0,0,(AU14*((LOG(AU14))/LOG(2))))","v":-0.5180142509839053}]
[21,1020,22,1029,24,1038,null,null,null,null,0,222,null,null,null,{"$f":"SUM(P7:P14)","v":1},{"$f":"-SUM(Q7:Q14)","v":1.283106597290252},null,null,null,null,{"$f":"SUM(V7:V14)","v":1},{"$f":"-SUM(W7:W14)","v":1.1628175871855553},null,null,null,{"$f":"SUM(AA7:AA14)","v":1},{"$f":"-SUM(AB7:AB14)","v":1.461720593819944},null,null,null,{"$f":"SUM(AF7:AF14)","v":1},{"$f":"-SUM(AG7:AG14)","v":1.4404272549083053},null,null,null,{"$f":"SUM(AK7:AK14)","v":1},{"$f":"-SUM(AL7:AL14)","v":0.9383153522334069},null,null,null,{"$f":"SUM(AP7:AP14)","v":1},{"$f":"-SUM(AQ7:AQ14)","v":0.97448940339805235},null,null,null,{"$f":"SUM(AU7:AU14)","v":1},{"$f":"-SUM(AV7:AV14)","v":1.2769435597232492}]
[21,1139,22,1151,24,1159,null,null,null,null,0,222,null,null,null,"U=",{"$f":"Q15/(LOG(Q4)/LOG(2))","v":0.16967276705922513},null,null,null,null,"U1=",{"$f":"W15/(LOG(W4)/LOG(2))","v":0.23256351743711107},null,null,null,"U2=",{"$f":"AB15/(LOG(AB4)/LOG(2))","v":0.29504696670080033},null,null,null,"U3=",{"$f":"AG15/(LOG(AG4)/LOG(2))","v":0.28808545098166105},null,null,null,"U4=",{"$f":"AL15/(LOG(AL4)/LOG(2))","v":0.18939809677427447},null,null,null,"U5=",{"$f":"AQ15/(LOG(AQ4)/LOG(2))","v":0.19489788067961047},null,null,null,"U6=",{"$f":"AV15/(LOG(AV4)/LOG(2))","v":0.25774989114703295}]
[21,1278,22,1286,24,1297,null,null,null,null,0,222]
[21,1391,22,1405,24,1416,null,null,null,null,0,222]
[21,1521,22,1529,24,1537,null,null,null,null,0,222,null,"Total Target Seq"]
[12,1636,24,1656,24,1666,null,null,null,null,0,122,null,{"$f":"COUNTIF(L7:L195,G3)","v":0},null,32,31,32,31,32,31]
[12,1764,24,1784,24,1790,null,null,null,null,0,122,null,null,null,"% of reinforcement given in 6 equal intervals based on number of trials "]
[12,1888,24,1918,24,1927,null,null,null,null,0,122,null,null,null,"%_1","%_2","%_3","%_4","%_5","%_6"]
[12,2026,24,2036,24,2042,null,null,null,null,0,122,null,null,"target sequence",{"$f":"$G$3","v":211},{"$f":"$G$3","v":211},{"$f":"$G$3","v":211},{"$f":"$G$3","v":211},{"$f":"$G$3","v":211},{"$f":"$G$3","v":211}]
[21,2151,22,2156,24,2171,null,null,null,null,0,222,null,null,"total reinforcement",{"$f":"U11","v":0},{"$f":"Z11","v":0},{"$f":"AE11","v":0},{"$f":"AJ11","v":0},{"$f":"AO11","v":0},{"$f":"AT11","v":0}]
[12,2269,24,2286,24,2292,null,null,null,null,0,122,null,null,"% target"]
[21,2402,22,2407,24,2416,null,null,null,null,0,222,null,null,"CCRF"]
[12,2512,24,2521,24,2534,null,null,null,null,0,122,null,null,"% CCRf"]
[12,2632,24,2647,24,2654,null,null,null,null,0,122,null,null,"average response rate",{"$f":"F38/P20","v":121.96875},{"$f":"(F69-F38)/Q20","v":130.80645161290323},{"$f":"(F101-F69)/R20","v":133.03125},{"$f":"(F132-F101)/S20","v":124.87096774193549},{"$f":"(F164-F132)/T20","v":124.40625},{"$f":"(F195-F164)/U20","v":123.74193548387096}]
[21,2754,22,2784,24,2793,null,null,null,null,0,222]
[12,2894,13,2909,24,2921,null,null,null,null,0,112]
[12,3025,24,3040,24,3046,null,null,null,null,0,122]
[12,3145,24,3160,24,3166,null,null,null,null,0,122]
[12,3267,24,3277,24,3283,null,null,null,null,0,122]
[12,3389,24,3404,24,3410,null,null,null,null,0,122]
[21,3516,22,3522,24,3530,null,null,null,null,0,222]
[21,3632,22,3667,24,3676,null,null,null,null,0,222]
[12,3776,24,3785,24,3789,null,null,null,null,0,122]
[12,3889,24,3899,24,3903,null,null,null,null,0,122]
[21,4007,22,4012,24,4020,null,null,null,null,0,222]
[21,4122,22,4126,24,4145,null,null,null,null,0,222]
[12,4245,24,4260,24,4266,null,null,null,null,0,122]
[21,4380,22,4398,24,4406,null,null,null,null,0,222]
[21,4499,22,4508,24,4520,null,null,null,null,0,222]
[12,4619,24,4635,24,4643,null,null,null,null,0,122]
[12,4744,24,4754,24,4784,null,null,null,null,0,122]
[12,4886,24,4900,24,4906,null,null,null,null,0,122]
[12,5006,24,5020,24,5026,null,null,null,null,0,122]
[21,5146,22,5198,24,5230,null,null,null,null,0,222]
[21,5324,22,5362,24,5378,null,null,null,null,0,222]
[12,5477,24,5494,24,5587,null,null,null,null,0,122]
[12,5686,13,5695,24,5710,null,null,null,null,0,112]
[12,5808,24,5821,24,5826,null,null,null,null,0,122]
[12,5925,24,5938,24,5944,null,null,null,null,0,122]
[12,6042,24,6049,24,6082,null,null,null,null,0,122]
[21,6182,22,6192,24,6208,null,null,null,null,0,222]
[12,6305,13,6311,24,6325,null,null,null,null,0,112]
[12,6421,24,6429,24,6434,null,null,null,null,0,122]
[12,6535,24,6546,24,6552,null,null,null,null,0,122]
[12,6653,13,6662,24,6676,null,null,null,null,0,112]
[21,6770,22,6775,24,6782,null,null,null,null,0,222]
[12,6883,24,6893,24,6898,null,null,null,null,0,122]
[12,6999,24,7012,24,7018,null,null,null,null,0,122]
[12,7117,13,7126,24,7139,null,null,null,null,0,112]
[12,7236,24,7250,24,7257,null,null,null,null,0,122]
[21,7381,22,7406,24,7413,null,null,null,null,0,222]
[21,7515,22,7538,24,7550,null,null,null,null,0,222]
[12,7649,13,7660,24,7673,null,null,null,null,0,112]
[21,7782,22,7808,24,7842,null,null,null,null,0,222]
[12,7940,24,7953,24,7958,null,null,null,null,0,122]
[12,8056,13,8066,24,8079,null,null,null,null,0,112]
[12,8180,24,8189,24,8194,null,null,null,null,0,122]
[12,8292,13,8300,24,8313,null,null,null,null,0,112]
[21,8412,22,8417,24,8457,null,null,null,null,0,222]
[21,8557,22,8562,24,8567,null,null,null,null,0,222]
[12,8666,24,8682,24,8690,null,null,null,null,0,122]
[21,8787,22,8837,24,8849,null,null,null,null,0,222]
[12,8949,24,8961,24,8991,null,null,null,null,0,122]
[12,9092,24,9105,24,9110,null,null,null,null,0,122]
[21,9209,22,9225,24,9238,null,null,null,null,0,222]
[21,9339,22,9351,24,9430,null,null,null,null,0,222]
[12,9529,24,9538,24,9543,null,null,null,null,0,122]
[12,9646,24,9655,24,9677,null,null,null,null,0,122]
[12,9776,24,9790,24,9795,null,null,null,null,0,122]
[12,9894,24,9903,24,9912,null,null,null,null,0,122]
[12,10010,24,10029,24,10050,null,null,null,null,0,122]
[21,10161,22,10166,24,10173,null,null,null,null,0,222]
[21,10267,22,10292,24,10315,null,null,null,null,0,222]
[21,10422,22,10428,24,10442,null,null,null,null,0,222]
[12,10539,24,10551,24,10557,null,null,null,null,0,122]
[21,10656,22,10663,24,10667,null,null,null,null,0,222]
[12,10766,24,10782,24,10795,null,null,null,null,0,122]
[21,10903,22,10930,24,10944,null,null,null,null,0,222]
[21,11076,22,11085,24,11093,null,null,null,null,0,222]
[12,11193,24,11205,24,11263,null,null,null,null,0,122]
[12,11362,24,11371,24,11375,null,null,null,null,0,122]
[12,11475,13,11485,13,11494,null,null,null,null,0,111]
[21,11596,22,11601,24,11617,null,null,null,null,0,222]
[21,11712,22,11717,24,11735,null,null,null,null,0,222]
[12,11832,24,11864,24,11907,null,null,null,null,0,122]
[21,12006,22,12028,24,12099,null,null,null,null,0,222]
[21,12200,22,12207,24,12215,null,null,null,null,0,222]
[12,12315,24,12326,24,12332,null,null,null,null,0,122]
[21,12433,22,12438,24,12443,null,null,null,null,0,222]
[12,12543,24,12553,24,12558,null,null,null,null,0,122]
[21,12662,22,12667,24,12706,null,null,null,null,0,222]
[21,12801,22,12814,24,12840,null,null,null,null,0,222]
[21,12943,22,12952,24,13010,null,null,null,null,0,222]
[12,13111,24,13121,24,13126,null,null,null,null,0,122]
[12,13224,24,13239,24,13244,null,null,null,null,0,122]
[21,13350,22,13369,24,13378,null,null,null,null,0,222]
[12,13477,24,13494,24,13505,null,null,null,null,0,122]
[12,13601,24,13611,24,13617,null,null,null,null,0,122]
[12,13718,24,13727,24,13733,null,null,null,null,0,122]
[12,13836,24,13850,24,13858,null,null,null,null,0,122]
[21,13959,22,13965,24,13988,null,null,null,null,0,222]
[12,14087,24,14100,24,14106,null,null,null,null,0,122]
[21,14226,22,14258,24,14263,null,null,null,null,0,222]
[12,14363,24,14376,24,14382,null,null,null,null,0,122]
[12,14483,24,14492,24,14496,null,null,null,null,0,122]
[12,14594,24,14609,24,14614,null,null,null,null,0,122]
[12,14712,24,14721,24,14726,null,null,null,null,0,122]
[21,14830,22,14840,24,14890,null,null,null,null,0,222]
[21,14993,22,14998,24,15013,null,null,null,null,0,222]
[12,15110,24,15123,24,15130,null,null,null,null,0,122]
[12,15231,24,15239,24,15245,null,null,null,null,0,122]
[12,15349,24,15368,24,15378,null,null,null,null,0,122]
[21,15472,22,15476,24,15493,null,null,null,null,0,222]
[12,15594,24,15603,24,15608,null,null,null,null,0,122]
[21,15707,22,15712,24,15721,null,null,null,null,0,222]
[12,15819,24,15831,24,15836,null,null,null,null,0,122]
[12,15938,24,15955,24,15963,null,null,null,null,0,122]
[12,16065,24,16081,24,16086,null,null,null,null,0,122]
[12,16188,24,16211,24,16225,null,null,null,null,0,122]
[12,16326,24,16345,24,16350,null,null,null,null,0,122]
[21,16455,22,16461,24,16466,null,null,null,null,0,222]
[21,16567,22,16578,24,16617,null,null,null,null,0,222]
[12,16719,24,16734,24,16749,null,null,null,null,0,122]
[12,16855,24,16868,24,16873,null,null,null,null,0,122]
[21,16967,22,16977,24,17005,null,null,null,null,0,222]
[21,17102,22,17107,24,17116,null,null,null,null,0,222]
[12,17218,24,17231,24,17243,null,null,null,null,0,122]
[21,17336,22,17341,24,17350,null,null,null,null,0,222]
[12,17452,24,17461,24,17465,null,null,null,null,0,122]
[12,17567,24,17581,24,17587,null,null,null,null,0,122]
[21,17687,22,17692,24,17701,null,null,null,null,0,222]
[12,17802,24,17820,24,17827,null,null,null,null,0,122]
[21,17923,22,17932,24,17958,null,null,null,null,0,222]
[12,18062,24,18076,24,18082,null,null,null,null,0,122]
[21,18185,22,18191,24,18201,null,null,null,null,0,222]
[12,18302,24,18317,24,18333,null,null,null,null,0,122]
[21,18427,22,18436,24,18441,null,null,null,null,0,222]
[12,18543,24,18553,24,18558,null,null,null,null,0,122]
[12,18661,24,18675,24,18680,null,null,null,null,0,122]
[12,18782,24,18791,24,18799,null,null,null,null,0,122]
[12,18909,24,18937,24,18944,null,null,null,null,0,122]
[12,19038,24,19047,24,19052,null,null,null,null,0,122]
[21,19155,22,19159,24,19165,null,null,null,null,0,222]
[12,19267,24,19286,24,19292,null,null,null,null,0,122]
[12,19396,24,19425,24,19437,null,null,null,null,0,122]
[12,19537,24,19550,24,19555,null,null,null,null,0,122]
[21,19659,22,19678,24,19683,null,null,null,null,0,222]
[21,19782,22,19786,24,19807,null,null,null,null,0,222]
[12,19908,24,19923,24,19931,null,null,null,null,0,122]
[21,20047,22,20059,24,20067,null,null,null,null,0,222]
[21,20168,22,20173,24,20189,null,null,null,null,0,222]
[12,20294,24,20305,24,20321,null,null,null,null,0,122]
[12,20422,24,20435,24,20445,null,null,null,null,0,122]
[21,20541,22,20545,24,20566,null,null,null,null,0,222]
[12,20666,24,20678,24,20683,null,null,null,null,0,122]
[21,20787,22,20791,24,20796,null,null,null,null,0,222]
[12,20897,24,20914,24,20953,null,null,null,null,0,122]
[12,21056,24,21069,24,21091,null,null,null,null,0,122]
[12,21189,24,21204,24,21209,null,null,null,null,0,122]
[21,21303,22,21308,24,21314,null,null,null,null,0,222]
[21,21417,22,21422,24,21427,null,null,null,null,0,222]
[21,21527,22,21544,24,21555,null,null,null,null,0,222]
[12,21658,24,21675,24,21681,null,null,null,null,0,122]
[21,21783,22,21793,24,21807,null,null,null,null,0,222]
[12,21906,24,21919,24,21924,null,null,null,null,0,122]
[12,22022,24,22035,24,22041,null,null,null,null,0,122]
[12,22142,24,22151,24,22156,null,null,null,null,0,122]
[21,22251,22,22271,24,22293,null,null,null,null,0,222]
[12,22395,13,22432,24,22463,null,null,null,null,0,112]
[12,22562,24,22582,24,22587,null,null,null,null,0,122]
[12,22688,24,22699,24,22705,null,null,null,null,0,122]
[12,22807,24,22820,24,22825,null,null,null,null,0,122]
[12,22927,24,22936,24,22941,null,null,null,null,0,122]
[12,23044,24,23057,24,23063,null,null,null,null,0,122]
[12,23164,13,23181,24,23193,null,null,null,null,0,112]
[12,23290,13,23313,24,23330,null,null,null,null,0,112]
[12,23424,24,23437,24,23447,null,null,null,null,0,122]
[12,23548,24,23557,24,23562,null,null,null,null,0,122]
[12,23662,24,23675,24,23680,null,null,null,null,0,122]
[21,23776,22,23780,24,23786,null,null,null,null,0,222]
[12,23888,24,23898,24,23903,null,null,null,null,0,122]

{"sheet":"!MA08900.091","index":20,"n_rows":198,"n_cols":48,"rows_kept":198,"cut":false,"hidden":false,"merged":[[4,39,4,42],[5,39,5,40],[4,44,4,47],[5,44,5,45],[4,24,4,27],[5,24,5,25],[4,29,4,32],[5,29,5,30],[4,34,4,37],[5,34,5,35],[1,1,1,2],[5,13,5,14],[18,13,18,14],[19,13,19,14],[4,19,4,22],[5,19,5,20]]}
["Report for:!MA08900.091"]
["Date:","<date>"]
["Hen:","<hen>",null,null,null,"Correct Sequence",{"$f":"Start!J2","v":211},null,null,null,null,null,null,null,null,"Total Sequences in Data",{"$f":"4994-COUNTBLANK(L7:L5000)","v":192},null,null,null,null,"Total Sequences in Block Data",{"$f":"COUNTA(L7:L38)","v":32},null,null,null,"Total Sequences in Block Data",{"$f":"COUNTA(L39:L70)","v":32},null,null,null,"Total Sequences in Block Data",{"$f":"COUNTA(L71:L102)","v":32},null,null,null,"Total Sequences in Block Data",{"$f":"COUNTA(L103:L134)","v":32},null,null,null,"Total Sequences in Block Data",{"$f":"COUNTA(L135:L166)","v":32},null,null,null,"Total Sequences in Block Data",{"$f":"COUNTA(L167:L198)","v":32}]
[null,null,null,null,null,null,null,null,null,null,null,null,null,null,null,"Total Sequences in Summary",{"$f":"SUM(O7:O14)","v":192},null,null,null,null,"Total Sequences in Block Summary",{"$f":"SUM(U7:U14)","v":32},null,null,null,"Total Sequences in Block Summary",{"$f":"SUM(Z7:Z14)","v":32},null,null,null,"Total Sequences in Block Summary",{"$f":"SUM(AE7:AE14)","v":32},null,null,null,"Total Sequences in Block Summary",{"$f":"SUM(AJ7:AJ14)","v":32},null,null,null,"Total Sequences in Block Summary",{"$f":"SUM(AO7:AO14)","v":32},null,null,null,"Total Sequences in Block Summary",{"$f":"SUM(AT7:AT14)","v":32}]
[null,null,null,null,null,null,null,null,null,null,null,null,null,null,null,null,null,null,null,"Block 1",null,null,null,null,"Block 2",null,null,null,null,"Block 3",null,null,null,null,"Block 4",null,null,null,null,"Block 5",null,null,null,null,"Block 6"]
["Sequence\nComponent\n1","Time\n1","Sequence\nComponent\n2","Time\n2","Sequence\nComponent\n3","Time\n3","Sequence\nComponent\n4","Time\n4","Sequence\nComponent\n5","Time\n5","Correct?\n0=No 1=Yes","Sequence",null,"Frequency",null,"Relative Frequency","Variability",null,null,"Frequency",null,"Relative Frequency","Variability",null,"Frequency",null,"Relative Frequency","Variability",null,"Frequency",null,"Relative Frequency","Variability",null,"Frequency",null,"Relative Frequency","Variability",null,"Frequency",null,"Relative Frequency","Variability",null,"Frequency",null,"Relative Frequency","Variability"]
[21,36,22,50,24,58,null,null,null,null,0,222,null,111,{"$f":"COUNTIF($L$7:$L$500,N7)","v":3},{"$f":"O7/$Q$4","v":1.5625E-2},{"$f":"IF(P7=0,0,(P7*((LOG(P7))/LOG(2))))","v":-9.375E-2},null,null,{"$f":"N7","v":111},{"$f":"COUNTIF(L7:L38,T7)","v":0},{"$f":"U7/(W4-U11)","v":0},{"$f":"IF(V7=0,0,(V7*((LOG(V7))/LOG(2))))","v":0},null,{"$f":"N7","v":111},{"$f":"COUNTIF(L39:L70,Y7)","v":0},{"$f":"Z7/(AB4-Z11)","v":0},{"$f":"IF(AA7=0,0,(AA7*((LOG(AA7))/LOG(2))))","v":0},null,{"$f":"N7","v":111},{"$f":"COUNTIF(L71:L102,AD7)","v":0},{"$f":"AE7/(AG4-AE11)","v":0},{"$f":"IF(AF7=0,0,(AF7*((LOG(AF7))/LOG(2))))","v":0},null,{"$f":"N7","v":111},{"$f":"COUNTIF(L103:L134,AI7)","v":0},{"$f":"AJ7/(AL4-AJ11)","v":0},{"$f":"IF(AK7=0,0,(AK7*((LOG(AK7))/LOG(2))))","v":0},null,{"$f":"N7","v":111},{"$f":"COUNTIF(L135:L166,AN7)","v":0},{"$f":"AO7/(AQ4-AO11)","v":0},{"$f":"IF(AP7=0,0,(AP7*((LOG(AP7))/LOG(2))))","v":0},null,{"$f":"N7","v":111},{"$f":"COUNTIF(L167:L198,AS7)","v":3},{"$f":"AT7/(AV4-AT11)","v":9.375E-2},{"$f":"IF(AU7=0,0,(AU7*((LOG(AU7))/LOG(2))))","v":-0.32015976555739156}]
[21,161,22,167,24,189,null,null,null,null,0,222,null,112,{"$f":"COUNTIF($L$7:$L$500,N8)","v":10},{"$f":"O8/$Q$4","v":5.2083333333333336E-2},{"$f":"IF(P8=0,0,(P8*((LOG(P8))/LOG(2))))","v":-0.22203304197051013},null,null,{"$f":"N8","v":112},{"$f":"COUNTIF(L7:L38,T8)","v":1},{"$f":"U8/(W4-U11)","v":3.125E-2},{"$f":"IF(V8=0,0,(V8*((LOG(V8))/LOG(2))))","v":-0.15625},null,{"$f":"N8","v":112},{"$f":"COUNTIF(L39:L70,Y8)","v":1},{"$f":"Z8/(AB4-Z11)","v":3.125E-2},{"$f":"IF(AA8=0,0,(AA8*((LOG(AA8))/LOG(2))))","v":-0.15625},null,{"$f":"N8","v":112},{"$f":"COUNTIF(L71:L102,AD8)","v":1},{"$f":"AE8/(AG4-AE11)","v":3.125E-2},{"$f":"IF(AF8=0,0,(AF8*((LOG(AF8))/LOG(2))))","v":-0.15625},null,{"$f":"N8","v":112},{"$f":"COUNTIF(L103:L134,AI8)","v":1},{"$f":"AJ8/(AL4-AJ11)","v":3.125E-2},{"$f":"IF(AK8=0,0,(AK8*((LOG(AK8))/LOG(2))))","v":-0.15625},null,{"$f":"N8","v":112},{"$f":"COUNTIF(L135:L166,AN8)","v":0},{"$f":"AO8/(AQ4-AO11)","v":0},{"$f":"IF(AP8=0,0,(AP8*((LOG(AP8))/LOG(2))))","v":0},null,{"$f":"N8","v":112},{"$f":"COUNTIF(L167:L198,AS8)","v":6},{"$f":"AT8/(AV4-AT11)","v":0.1875},{"$f":"IF(AU8=0,0,(AU8*((LOG(AU8))/LOG(2))))","v":-0.45281953111478312}]
[21,306,22,310,24,320,null,null,null,null,0,222,null,121,{"$f":"COUNTIF($L$7:$L$500,N9)","v":0},{"$f":"O9/$Q$4","v":0},{"$f":"IF(P9=0,0,(P9*((LOG(P9))/LOG(2))))","v":0},null,null,{"$f":"N9","v":121},{"$f":"COUNTIF(L7:L38,T9)","v":0},{"$f":"U9/(W4-U11)","v":0},{"$f":"IF(V9=0,0,(V9*((LOG(V9))/LOG(2))))","v":0},null,{"$f":"N9","v":121},{"$f":"COUNTIF(L39:L70,Y9)","v":0},{"$f":"Z9/(AB4-Z11)","v":0},{"$f":"IF(AA9=0,0,(AA9*((LOG(AA9))/LOG(2))))","v":0},null,{"$f":"N9","v":121},{"$f":"COUNTIF(L71:L102,AD9)","v":0},{"$f":"AE9/(AG4-AE11)","v":0},{"$f":"IF(AF9=0,0,(AF9*((LOG(AF9))/LOG(2))))","v":0},null,{"$f":"N9","v":121},{"$f":"COUNTIF(L103:L134,AI9)","v":0},{"$f":"AJ9/(AL4-AJ11)","v":0},{"$f":"IF(AK9=0,0,(AK9*((LOG(AK9))/LOG(2))))","v":0},null,{"$f":"N9","v":121},{"$f":"COUNTIF(L135:L166,AN9)","v":0},{"$f":"AO9/(AQ4-AO11)","v":0},{"$f":"IF(AP9=0,0,(AP9*((LOG(AP9))/LOG(2))))","v":0},null,{"$f":"N9","v":121},{"$f":"COUNTIF(L167:L198,AS9)","v":0},{"$f":"AT9/(AV4-AT11)","v":0},{"$f":"IF(AU9=0,0,(AU9*((LOG(AU9))/LOG(2))))","v":0}]
[21,424,22,431,24,451,null,null,null,null,0,222,null,122,{"$f":"COUNTIF($L$7:$L$500,N10)","v":101},{"$f":"O10/$Q$4","v":0.52604166666666663},{"$f":"IF(P10=0,0,(P10*((LOG(P10))/LOG(2))))","v":-0.48750965007763281},null,null,{"$f":"N10","v":122},{"$f":"COUNTIF(L7:L38,T10)","v":14},{"$f":"U10/(W4-U11)","v":0.4375},{"$f":"IF(V10=0,0,(V10*((LOG(V10))/LOG(2))))","v":-0.52178222159979815},null,{"$f":"N10","v":122},{"$f":"COUNTIF(L39:L70,Y10)","v":18},{"$f":"Z10/(AB4-Z11)","v":0.5625},{"$f":"IF(AA10=0,0,(AA10*((LOG(AA10))/LOG(2))))","v":-0.4669171866886993},null,{"$f":"N10","v":122},{"$f":"COUNTIF(L71:L102,AD10)","v":18},{"$f":"AE10/(AG4-AE11)","v":0.5625},{"$f":"IF(AF10=0,0,(AF10*((LOG(AF10))/LOG(2))))","v":-0.4669171866886993},null,{"$f":"N10","v":122},{"$f":"COUNTIF(L103:L134,AI10)","v":15},{"$f":"AJ10/(AL4-AJ11)","v":0.46875},{"$f":"IF(AK10=0,0,(AK10*((LOG(AK10))/LOG(2))))","v":-0.512395033308507},null,{"$f":"N10","v":122},{"$f":"COUNTIF(L135:L166,AN10)","v":20},{"$f":"AO10/(AQ4-AO11)","v":0.625},{"$f":"IF(AP10=0,0,(AP10*((LOG(AP10))/LOG(2))))","v":-0.42379494069539858},null,{"$f":"N10","v":122},{"$f":"COUNTIF(L167:L198,AS10)","v":16},{"$f":"AT10/(AV4-AT11)","v":0.5},{"$f":"IF(AU10=0,0,(AU10*((LOG(AU10))/LOG(2))))","v":-0.5}]
[21,546,22,551,24,562,null,null,null,null,0,222,null,211,{"$f":"COUNTIF($L$7:$L$500,N11)","v":0},{"$f":"O11/$Q$4","v":0},{"$f":"IF(P11=0,0,(P11*((LOG(P11))/LOG(2))))","v":0},null,null,{"$f":"N11","v":211},{"$f":"COUNTIF(L7:L38,T11)","v":0},null,null,null,{"$f":"N11","v":211},{"$f":"COUNTIF(L39:L70,Y11)","v":0},null,null,null,{"$f":"N11","v":211},{"$f":"COUNTIF(L71:L102,AD11)","v":0},null,null,null,{"$f":"N11","v":211},{"$f":"COUNTIF(L103:L134,AI11)","v":0},null,null,null,{"$f":"N11","v":211},{"$f":"COUNTIF(L135:L166,AN11)","v":0},null,null,null,{"$f":"N11","v":211},{"$f":"COUNTIF(L167:L198,AS11)","v":0}]
[12,666,24,675,24,682,null,null,null,null,0,122,null,212,{"$f":"COUNTIF($L$7:$L$500,N12)","v":0},{"$f":"O12/$Q$4","v":0},{"$f":"IF(P12=0,0,(P12*((LOG(P12))/LOG(2))))","v":0},null,null,{"$f":"N12","v":212},{"$f":"COUNTIF(L7:L38,T12)","v":0},{"$f":"U12/(W4-U11)","v":0},{"$f":"IF(V12=0,0,(V12*((LOG(V12))/LOG(2))))","v":0},null,{"$f":"N12","v":212},{"$f":"COUNTIF(L39:L70,Y12)","v":0},{"$f":"Z12/(AB4-Z11)","v":0},{"$f":"IF(AA12=0,0,(AA12*((LOG(AA12))/LOG(2))))","v":0},null,{"$f":"N12","v":212},{"$f":"COUNTIF(L71:L102,AD12)","v":0},{"$f":"AE12/(AG4-AE11)","v":0},{"$f":"IF(AF12=0,0,(AF12*((LOG(AF12))/LOG(2))))","v":0},null,{"$f":"N12","v":212},{"$f":"COUNTIF(L103:L134,AI12)","v":0},{"$f":"AJ12/(AL4-AJ11)","v":0},{"$f":"IF(AK12=0,0,(AK12*((LOG(AK12))/LOG(2))))","v":0},null,{"$f":"N12","v":212},{"$f":"COUNTIF(L135:L166,AN12)","v":0},{"$f":"AO12/(AQ4-AO11)","v":0},{"$f":"IF(AP12=0,0,(AP12*((LOG(AP12))/LOG(2))))","v":0},null,{"$f":"N12","v":212},{"$f":"COUNTIF(L167:L198,AS12)","v":0},{"$f":"AT12/(AV4-AT11)","v":0},{"$f":"IF(AU12=0,0,(AU12*((LOG(AU12))/LOG(2))))","v":0}]
[12,781,24,790,24,798,null,null,null,null,0,122,null,221,{"$f":"COUNTIF($L$7:$L$500,N13)","v":0},{"$f":"O13/$Q$4","v":0},{"$f":"IF(P13=0,0,(P13*((LOG(P13))/LOG(2))))","v":0},null,null,{"$f":"N13","v":221},{"$f":"COUNTIF(L7:L38,T13)","v":0},{"$f":"U13/(W4-U11)","v":0},{"$f":"IF(V13=0,0,(V13*((LOG(V13))/LOG(2))))","v":0},null,{"$f":"N13","v":221},{"$f":"COUNTIF(L39:L70,Y13)","v":0},{"$f":"Z13/(AB4-Z11)","v":0},{"$f":"IF(AA13=0,0,(AA13*((LOG(AA13))/LOG(2))))","v":0},null,{"$f":"N13","v":221},{"$f":"COUNTIF(L71:L102,AD13)","v":0},{"$f":"AE13/(AG4-AE11)","v":0},{"$f":"IF(AF13=0,0,(AF13*((LOG(AF13))/LOG(2))))","v":0},null,{"$f":"N13","v":221},{"$f":"COUNTIF(L103:L134,AI13)","v":0},{"$f":"AJ13/(AL4-AJ11)","v":0},{"$f":"IF(AK13=0,0,(AK13*((LOG(AK13))/LOG(2))))","v":0},null,{"$f":"N13","v":221},{"$f":"COUNTIF(L135:L166,AN13)","v":0},{"$f":"AO13/(AQ4-AO11)","v":0},{"$f":"IF(AP13=0,0,(AP13*((LOG(AP13))/LOG(2))))","v":0},null,{"$f":"N13","v":221},{"$f":"COUNTIF(L167:L198,AS13)","v":0},{"$f":"AT13/(AV4-AT11)","v":0},{"$f":"IF(AU13=0,0,(AU13*((LOG(AU13))/LOG(2))))","v":0}]
[21,897,22,902,24,909,null,null,null,null,0,222,null,222,{"$f":"COUNTIF($L$7:$L$500,N14)","v":78},{"$f":"O14/$Q$4","v":0.40625},{"$f":"IF(P14=0,0,(P14*((LOG(P14))/LOG(2))))","v":-0.52794636450518129},null,null,{"$f":"N14","v":222},{"$f":"COUNTIF(L7:L38,T14)","v":17},{"$f":"U14/(W4-U11)","v":0.53125},{"$f":"IF(V14=0,0,(V14*((LOG(V14))/LOG(2))))","v":-0.48478536558575719},null,{"$f":"N14","v":222},{"$f":"COUNTIF(L39:L70,Y14)","v":13},{"$f":"Z14/(AB4-Z11)","v":0.40625},{"$f":"IF(AA14=0,0,(AA14*((LOG(AA14))/LOG(2))))","v":-0.52794636450518129},null,{"$f":"N14","v":222},{"$f":"COUNTIF(L71:L102,AD14)","v":13},{"$f":"AE14/(AG4-AE11)","v":0.40625},{"$f":"IF(AF14=0,0,(AF14*((LOG(AF14))/LOG(2))))","v":-0.52794636450518129},null,{"$f":"N14","v":222},{"$f":"COUNTIF(L103:L134,AI14)","v":16},{"$f":"AJ14/(AL4-AJ11)","v":0.5},{"$f":"IF(AK14=0,0,(AK14*((LOG(AK14))/LOG(2))))","v":-0.5},null,{"$f":"N14","v":222},{"$f":"COUNTIF(L135:L166,AN14)","v":12},{"$f":"AO14/(AQ4-AO11)","v":0.375},{"$f":"IF(AP14=0,0,(AP14*((LOG(AP14))/LOG(2))))","v":-0.53063906222956647},null,{"$f":"N14","v":222},{"$f":"COUNTIF(L167:L198,AS14)","v":7},{"$f":"AT14/(AV4-AT11)","v":0.21875},{"$f":"IF(AU14=0,0,(AU14*((LOG(AU14))/LOG(2))))","v":-0.47964111079989907}]
[12,1013,24,1023,24,1028,null,null,null,null,0,122,null,null,null,{"$f":"SUM(P7:P14)","v":1},{"$f":"-SUM(Q7:Q14)","v":1.3312390565533243},null,null,null,null,{"$f":"SUM(V7:V14)","v":1},{"$f":"-SUM(W7:W14)","v":1.1628175871855553},null,null,null,{"$f":"SUM(AA7:AA14)","v":1},{"$f":"-SUM(AB7:AB14)","v":1.1511135511938806},null,null,null,{"$f":"SUM(AF7:AF14)","v":1},{"$f":"-SUM(AG7:AG14)","v":1.1511135511938806},null,null,null,{"$f":"SUM(AK7:AK14)","v":1},{"$f":"-SUM(AL7:AL14)","v":1.168645033308507},null,null,null,{"$f":"SUM(AP7:AP14)","v":1},{"$f":"-SUM(AQ7:AQ14)","v":0.95443400292496505},null,null,null,{"$f":"SUM(AU7:AU14)","v":1},{"$f":"-SUM(AV7:AV14)","v":1.7526204074720737}]
[21,1128,22,1136,24,1150,null,null,null,null,0,222,null,null,null,"U=",{"$f":"Q15/(LOG(Q4)/LOG(2))","v":0.17551030165630405},null,null,null,null,"U1=",{"$f":"W15/(LOG(W4)/LOG(2))","v":0.23256351743711107},null,null,null,"U2=",{"$f":"AB15/(LOG(AB4)/LOG(2))","v":0.23022271023877611},null,null,null,"U3=",{"$f":"AG15/(LOG(AG4)/LOG(2))","v":0.23022271023877611},null,null,null,"U4=",{"$f":"AL15/(LOG(AL4)/LOG(2))","v":0.23372900666170141},null,null,null,"U5=",{"$f":"AQ15/(LOG(AQ4)/LOG(2))","v":0.19088680058499302},null,null,null,"U6=",{"$f":"AV15/(LOG(AV4)/LOG(2))","v":0.35052408149441472}]
[12,1250,24,1259,24,1289,null,null,null,null,0,122]
[12,1390,24,1400,24,1410,null,null,null,null,0,122]
[12,1513,13,1515,24,1530,null,null,null,null,0,112,null,"Total Target Seq"]
[12,1632,24,1644,24,1653,null,null,null,null,0,122,null,{"$f":"COUNTIF(L7:L198,G3)","v":0},null,32,32,32,32,32,32]
[21,1768,22,1781,24,1804,null,null,null,null,0,222,null,null,null,"% of reinforcement given in 6 equal intervals based on number of trials "]
[12,1905,24,1918,24,1925,null,null,null,null,0,122,null,null,null,"%_1","%_2","%_3","%_4","%_5","%_6"]
[21,2019,22,2044,24,2063,null,null,null,null,0,222,null,null,"target sequence",{"$f":"$G$3","v":211},{"$f":"$G$3","v":211},{"$f":"$G$3","v":211},{"$f":"$G$3","v":211},{"$f":"$G$3","v":211},{"$f":"$G$3","v":211}]
[21,2165,22,2195,24,2222,null,null,null,null,0,222,null,null,"total reinforcement",{"$f":"U11","v":0},{"$f":"Z11","v":0},{"$f":"AE11","v":0},{"$f":"AJ11","v":0},{"$f":"AO11","v":0},{"$f":"AT11","v":0}]
[12,2326,24,2335,24,2341,null,null,null,null,0,122,null,null,"% target"]
[21,2441,22,2453,24,2467,null,null,null,null,0,222,null,null,"CCRF"]
[21,2569,22,2577,24,2603,null,null,null,null,0,222,null,null,"% CCRf"]
[12,2706,24,2720,24,2732,null,null,null,null,0,122,null,null,"average response rate",{"$f":"F38/P20","v":125.125},{"$f":"(F70-F38)/Q20","v":124.5625},{"$f":"(F102-F70)/R20","v":126.75},{"$f":"(F134-F102)/S20","v":122.65625},{"$f":"(F166-F134)/T20","v":124.84375},{"$f":"(F198-F166)/U20","v":124.03125}]
[12,2834,24,2845,24,2850,null,null,null,null,0,122]
[21,2952,22,2956,24,2960,null,null,null,null,0,222]
[12,3062,24,3077,24,3084,null,null,null,null,0,122]
[21,3185,22,3191,24,3215,null,null,null,null,0,222]
[12,3317,24,3328,24,3339,null,null,null,null,0,122]
[12,3443,24,3452,24,3456,null,null,null,null,0,122]
[21,3590,22,3599,24,3625,null,null,null,null,0,222]
[12,3730,24,3740,24,3746,null,null,null,null,0,122]
[21,3848,22,3852,24,3863,null,null,null,null,0,222]
[21,3960,22,3971,24,4004,null,null,null,null,0,222]
[21,4107,22,4113,24,4122,null,null,null,null,0,222]
[21,4228,22,4237,24,4243,null,null,null,null,0,222]
[12,4346,24,4363,24,4373,null,null,null,null,0,122]
[21,4471,22,4476,24,4481,null,null,null,null,0,222]
[12,4581,24,4594,24,4598,null,null,null,null,0,122]
[21,4699,22,4703,24,4709,null,null,null,null,0,222]
[12,4809,24,4819,24,4827,null,null,null,null,0,122]
[12,4926,24,4943,24,4951,null,null,null,null,0,122]
[21,5052,22,5069,24,5105,null,null,null,null,0,222]
[21,5211,22,5252,24,5267,null,null,null,null,0,222]
[21,5379,22,5385,24,5401,null,null,null,null,0,222]
[21,5512,22,5526,24,5536,null,null,null,null,0,222]
[12,5635,24,5647,24,5652,null,null,null,null,0,122]
[12,5760,24,5773,24,5793,null,null,null,null,0,122]
[12,5892,24,5909,24,5917,null,null,null,null,0,122]
[12,6018,24,6036,24,6041,null,null,null,null,0,122]
[12,6141,24,6157,24,6165,null,null,null,null,0,122]
[21,6259,22,6274,24,6282,null,null,null,null,0,222]
[12,6381,24,6395,24,6400,null,null,null,null,0,122]
[12,6501,13,6510,24,6526,null,null,null,null,0,112]
[12,6625,24,6643,24,6651,null,null,null,null,0,122]
[12,6750,24,6765,24,6770,null,null,null,null,0,122]
[12,6871,24,6885,24,6891,null,null,null,null,0,122]
[21,6986,22,6994,24,7000,null,null,null,null,0,222]
[12,7100,24,7110,24,7115,null,null,null,null,0,122]
[12,7215,24,7228,24,7235,null,null,null,null,0,122]
[21,7362,22,7375,24,7388,null,null,null,null,0,222]
[21,7485,22,7496,24,7506,null,null,null,null,0,222]
[12,7607,24,7620,24,7624,null,null,null,null,0,122]
[12,7723,24,7739,24,7748,null,null,null,null,0,122]
[12,7847,24,7863,24,7868,null,null,null,null,0,122]
[21,7969,22,7974,24,7990,null,null,null,null,0,222]
[12,8094,24,8112,24,8118,null,null,null,null,0,122]
[12,8220,24,8231,24,8236,null,null,null,null,0,122]
[12,8334,24,8352,24,8357,null,null,null,null,0,122]
[12,8455,13,8464,24,8485,null,null,null,null,0,112]
[21,8581,22,8585,24,8595,null,null,null,null,0,222]
[21,8701,22,8710,24,8731,null,null,null,null,0,222]
[12,8833,24,8850,24,8856,null,null,null,null,0,122]
[21,8959,22,8963,24,8991,null,null,null,null,0,222]
[12,9096,24,9119,24,9127,null,null,null,null,0,122]
[12,9226,24,9242,24,9248,null,null,null,null,0,122]
[12,9348,24,9365,24,9370,null,null,null,null,0,122]
[12,9470,24,9485,24,9491,null,null,null,null,0,122]
[12,9596,24,9612,24,9621,null,null,null,null,0,122]
[21,9718,22,9722,24,9727,null,null,null,null,0,222]
[12,9828,24,9854,24,9864,null,null,null,null,0,122]
[12,9963,24,9981,24,9987,null,null,null,null,0,122]
[21,10109,22,10117,24,10161,null,null,null,null,0,222]
[21,10265,22,10271,24,10275,null,null,null,null,0,222]
[12,10377,24,10392,24,10398,null,null,null,null,0,122]
[12,10499,24,10513,24,10522,null,null,null,null,0,122]
[12,10624,24,10640,24,10645,null,null,null,null,0,122]
[21,10747,22,10752,24,10757,null,null,null,null,0,222]
[21,10864,22,10869,24,10879,null,null,null,null,0,222]
[12,10986,24,11005,24,11014,null,null,null,null,0,122]
[21,11121,22,11125,24,11132,null,null,null,null,0,222]
[21,11248,22,11256,24,11266,null,null,null,null,0,222]
[12,11365,24,11382,24,11389,null,null,null,null,0,122]
[12,11491,24,11507,24,11514,null,null,null,null,0,122]
[21,11617,22,11630,24,11647,null,null,null,null,0,222]
[12,11749,24,11763,24,11803,null,null,null,null,0,122]
[21,11896,22,11900,24,11904,null,null,null,null,0,222]
[21,12009,22,12019,24,12046,null,null,null,null,0,222]
[21,12150,22,12155,24,12162,null,null,null,null,0,222]
[21,12267,22,12287,24,12295,null,null,null,null,0,222]
[12,12395,24,12412,24,12418,null,null,null,null,0,122]
[12,12518,24,12531,24,12536,null,null,null,null,0,122]
[21,12636,22,12649,24,12663,null,null,null,null,0,222]
[12,12762,24,12776,24,12781,null,null,null,null,0,122]
[21,12881,22,12885,24,12890,null,null,null,null,0,222]
[21,12992,22,13001,24,13028,null,null,null,null,0,222]
[12,13128,24,13142,24,13146,null,null,null,null,0,122]
[12,13248,24,13262,24,13270,null,null,null,null,0,122]
[21,13365,22,13369,24,13380,null,null,null,null,0,222]
[21,13486,22,13495,24,13514,null,null,null,null,0,222]
[12,13616,24,13628,24,13634,null,null,null,null,0,122]
[21,13732,22,13737,24,13742,null,null,null,null,0,222]
[12,13841,24,13851,24,13856,null,null,null,null,0,122]
[21,13987,22,13999,24,14012,null,null,null,null,0,222]
[21,14108,22,14112,24,14117,null,null,null,null,0,222]
[12,14215,24,14230,24,14235,null,null,null,null,0,122]
[21,14337,22,14342,24,14348,null,null,null,null,0,222]
[12,14448,13,14460,24,14478,null,null,null,null,0,112]
[12,14580,24,14593,24,14619,null,null,null,null,0,122]
[12,14716,24,14732,24,14740,null,null,null,null,0,122]
[21,14842,22,14848,24,14860,null,null,null,null,0,222]
[21,14960,22,14970,24,15006,null,null,null,null,0,222]
[21,15112,22,15125,24,15139,null,null,null,null,0,222]
[12,15242,24,15252,24,15256,null,null,null,null,0,122]
[12,15353,24,15369,24,15375,null,null,null,null,0,122]
[21,15475,22,15480,24,15484,null,null,null,null,0,222]
[12,15584,24,15599,24,15604,null,null,null,null,0,122]
[12,15704,24,15714,24,15719,null,null,null,null,0,122]
[12,15818,24,15832,24,15838,null,null,null,null,0,122]
[21,15942,22,15963,24,15971,null,null,null,null,0,222]
[12,16070,24,16089,24,16095,null,null,null,null,0,122]
[12,16196,24,16211,24,16219,null,null,null,null,0,122]
[21,16332,22,16338,24,16346,null,null,null,null,0,222]
[12,16447,24,16465,24,16470,null,null,null,null,0,122]
[21,16590,22,16597,24,16603,null,null,null,null,0,222]
[21,16705,22,16719,24,16729,null,null,null,null,0,222]
[21,16825,22,16830,24,16836,null,null,null,null,0,222]
[21,16931,22,16936,24,16940,null,null,null,null,0,222]
[12,17040,24,17058,24,17064,null,null,null,null,0,122]
[12,17165,24,17183,24,17198,null,null,null,null,0,122]
[12,17299,24,17317,24,17325,null,null,null,null,0,122]
[21,17447,22,17459,24,17471,null,null,null,null,0,222]
[21,17588,22,17594,24,17604,null,null,null,null,0,222]
[21,17702,22,17706,24,17717,null,null,null,null,0,222]
[12,17819,24,17831,24,17836,null,null,null,null,0,122]
[21,17937,22,17942,24,17948,null,null,null,null,0,222]
[21,18053,22,18062,24,18067,null,null,null,null,0,222]
[12,18171,24,18182,24,18188,null,null,null,null,0,122]
[12,18288,24,18302,24,18308,null,null,null,null,0,122]
[12,18406,24,18421,24,18429,null,null,null,null,0,122]
[12,18528,24,18537,24,18542,null,null,null,null,0,122]
[12,18644,24,18656,24,18662,null,null,null,null,0,122]
[12,18763,24,18775,24,18781,null,null,null,null,0,122]
[12,18879,24,18895,24,18901,null,null,null,null,0,122]
[12,19004,24,19035,24,19046,null,null,null,null,0,122]
[12,19148,24,19162,24,19170,null,null,null,null,0,122]
[12,19269,24,19294,24,19302,null,null,null,null,0,122]
[21,19401,22,19412,24,19437,null,null,null,null,0,222]
[21,19542,22,19547,24,19589,null,null,null,null,0,222]
[12,19692,24,19704,24,19709,null,null,null,null,0,122]
[12,19813,24,19825,24,19832,null,null,null,null,0,122]
[12,19940,24,19961,24,19966,null,null,null,null,0,122]
[21,20069,22,20073,24,20078,null,null,null,null,0,222]
[21,20179,22,20184,24,20189,null,null,null,null,0,222]
[12,20293,24,20309,24,20329,null,null,null,null,0,122]
[21,20425,22,20434,24,20439,null,null,null,null,0,222]
[12,20541,24,20557,24,20564,null,null,null,null,0,122]
[21,20663,22,20694,24,20707,null,null,null,null,0,222]
[12,20805,24,20818,24,20823,null,null,null,null,0,122]
[12,20927,24,20962,24,20969,null,null,null,null,0,122]
[12,21070,13,21084,13,21090,null,null,null,null,0,111]
[12,21194,24,21203,24,21208,null,null,null,null,0,122]
[12,21308,24,21320,24,21325,null,null,null,null,0,122]
[12,21430,24,21442,24,21447,null,null,null,null,0,122]
[12,21548,24,21563,24,21569,null,null,null,null,0,122]
[12,21671,13,21679,24,21691,null,null,null,null,0,112]
[12,21791,24,21803,24,21808,null,null,null,null,0,122]
[12,21904,13,21918,24,21932,null,null,null,null,0,112]
[12,22034,24,22046,24,22059,null,null,null,null,0,122]
[21,22157,22,22171,24,22185,null,null,null,null,0,222]
[12,22290,13,22298,24,22315,null,null,null,null,0,112]
[12,22415,24,22428,24,22438,null,null,null,null,0,122]
[12,22539,24,22549,24,22553,null,null,null,null,0,122]
[12,22652,24,22661,24,22666,null,null,null,null,0,122]
[21,22767,22,22771,24,22793,null,null,null,null,0,222]
[21,22892,22,22897,24,22902,null,null,null,null,0,222]
[12,23002,24,23012,24,23032,null,null,null,null,0,122]
[12,23133,24,23147,24,23152,null,null,null,null,0,122]
[12,23255,24,23296,24,23323,null,null,null,null,0,122]
[12,23430,13,23438,24,23450,null,null,null,null,0,112]
[12,23549,13,23557,24,23567,null,null,null,null,0,112]
[12,23665,13,23681,13,23689,null,null,null,null,0,111]
[12,23790,13,23806,13,23812,null,null,null,null,0,111]
[12,23916,13,23922,24,23935,null,null,null,null,1,112]

{"sheet":"!MA09920.091","index":21,"n_rows":181,"n_cols":48,"rows_kept":181,"cut":false,"hidden":false,"merged":[[4,39,4,42],[5,39,5,40],[4,44,4,47],[5,44,5,45],[4,24,4,27],[5,24,5,25],[4,29,4,32],[5,29,5,30],[4,34,4,37],[5,34,5,35],[1,1,1,2],[5,13,5,14],[18,13,18,14],[19,13,19,14],[4,19,4,22],[5,19,5,20]]}
["Report for:!MA09920.091"]
["Date:","<date>"]
["Hen:","<hen>",null,null,null,"Correct Sequence",{"$f":"Start!J2","v":211},null,null,null,null,null,null,null,null,"Total Sequences in Data",{"$f":"4994-COUNTBLANK(L7:L5000)","v":175},null,null,null,null,"Total Sequences in Block Data",{"$f":"COUNTA(L7:L35)","v":29},null,null,null,"Total Sequences in Block Data",{"$f":"COUNTA(L36:L64)","v":29},null,null,null,"Total Sequences in Block Data",{"$f":"COUNTA(L65:L94)","v":30},null,null,null,"Total Sequences in Block Data",{"$f":"COUNTA(L95:L123)","v":29},null,null,null,"Total Sequences in Block Data",{"$f":"COUNTA(L124:L152)","v":29},null,null,null,"Total Sequences in Block Data",{"$f":"COUNTA(L153:L181)","v":29}]
[null,null,null,null,null,null,null,null,null,null,null,null,null,null,null,"Total Sequences in Summary",{"$f":"SUM(O7:O14)","v":175},null,null,null,null,"Total Sequences in Block Summary",{"$f":"SUM(U7:U14)","v":29},null,null,null,"Total Sequences in Block Summary",{"$f":"SUM(Z7:Z14)","v":29},null,null,null,"Total Sequences in Block Summary",{"$f":"SUM(AE7:AE14)","v":30},null,null,null,"Total Sequences in Block Summary",{"$f":"SUM(AJ7:AJ14)","v":29},null,null,null,"Total Sequences in Block Summary",{"$f":"SUM(AO7:AO14)","v":29},null,null,null,"Total Sequences in Block Summary",{"$f":"SUM(AT7:AT14)","v":29}]
[null,null,null,null,null,null,null,null,null,null,null,null,null,null,null,null,null,null,null,"Block 1",null,null,null,null,"Block 2",null,null,null,null,"Block 3",null,null,null,null,"Block 4",null,null,null,null,"Block 5",null,null,null,null,"Block 6"]
["Sequence\nComponent\n1","Time\n1","Sequence\nComponent\n2","Time\n2","Sequence\nComponent\n3","Time\n3","Sequence\nComponent\n4","Time\n4","Sequence\nComponent\n5","Time\n5","Correct?\n0=No 1=Yes","Sequence",null,"Frequency",null,"Relative Frequency","Variability",null,null,"Frequency",null,"Relative Frequency","Variability",null,"Frequency",null,"Relative Frequency","Variability",null,"Frequency",null,"Relative Frequency","Variability",null,"Frequency",null,"Relative Frequency","Variability",null,"Frequency",null,"Relative Frequency","Variability",null,"Frequency",null,"Relative Frequency","Variability"]
[21,8,22,14,24,19,null,null,null,null,0,222,null,111,{"$f":"COUNTIF($L$7:$L$500,N7)","v":2},{"$f":"O7/$Q$4","v":1.1428571428571429E-2},{"$f":"IF(P7=0,0,(P7*((LOG(P7))/LOG(2))))","v":-7.3728126992369469E-2},null,null,{"$f":"N7","v":111},{"$f":"COUNTIF(L7:L35,T7)","v":0},{"$f":"U7/(W4-U11)","v":0},{"$f":"IF(V7=0,0,(V7*((LOG(V7))/LOG(2))))","v":0},null,{"$f":"N7","v":111},{"$f":"COUNTIF(L36:L64,Y7)","v":0},{"$f":"Z7/(AB4-Z11)","v":0},{"$f":"IF(AA7=0,0,(AA7*((LOG(AA7))/LOG(2))))","v":0},null,{"$f":"N7","v":111},{"$f":"COUNTIF(L65:L94,AD7)","v":1},{"$f":"AE7/(AG4-AE11)","v":3.3333333333333333E-2},{"$f":"IF(AF7=0,0,(AF7*((LOG(AF7))/LOG(2))))","v":-0.16356301985361729},null,{"$f":"N7","v":111},{"$f":"COUNTIF(L95:L123,AI7)","v":0},{"$f":"AJ7/(AL4-AJ11)","v":0},{"$f":"IF(AK7=0,0,(AK7*((LOG(AK7))/LOG(2))))","v":0},null,{"$f":"N7","v":111},{"$f":"COUNTIF(L124:L152,AN7)","v":1},{"$f":"AO7/(AQ4-AO11)","v":3.4482758620689655E-2},{"$f":"IF(AP7=0,0,(AP7*((LOG(AP7))/LOG(2))))","v":-0.16751658603888178},null,{"$f":"N7","v":111},{"$f":"COUNTIF(L153:L181,AS7)","v":0},{"$f":"AT7/(AV4-AT11)","v":0},{"$f":"IF(AU7=0,0,(AU7*((LOG(AU7))/LOG(2))))","v":0}]
[21,162,22,176,24,185,null,null,null,null,0,222,null,112,{"$f":"COUNTIF($L$7:$L$500,N8)","v":14},{"$f":"O8/$Q$4","v":0.08},{"$f":"IF(P8=0,0,(P8*((LOG(P8))/LOG(2))))","v":-0.29150849518197797},null,null,{"$f":"N8","v":112},{"$f":"COUNTIF(L7:L35,T8)","v":1},{"$f":"U8/(W4-U11)","v":3.4482758620689655E-2},{"$f":"IF(V8=0,0,(V8*((LOG(V8))/LOG(2))))","v":-0.16751658603888178},null,{"$f":"N8","v":112},{"$f":"COUNTIF(L36:L64,Y8)","v":2},{"$f":"Z8/(AB4-Z11)","v":6.8965517241379309E-2},{"$f":"IF(AA8=0,0,(AA8*((LOG(AA8))/LOG(2))))","v":-0.26606765483638428},null,{"$f":"N8","v":112},{"$f":"COUNTIF(L65:L94,AD8)","v":2},{"$f":"AE8/(AG4-AE11)","v":6.6666666666666666E-2},{"$f":"IF(AF8=0,0,(AF8*((LOG(AF8))/LOG(2))))","v":-0.26045937304056793},null,{"$f":"N8","v":112},{"$f":"COUNTIF(L95:L123,AI8)","v":1},{"$f":"AJ8/(AL4-AJ11)","v":3.4482758620689655E-2},{"$f":"IF(AK8=0,0,(AK8*((LOG(AK8))/LOG(2))))","v":-0.16751658603888178},null,{"$f":"N8","v":112},{"$f":"COUNTIF(L124:L152,AN8)","v":5},{"$f":"AO8/(AQ4-AO11)","v":0.17241379310344829},{"$f":"IF(AP8=0,0,(AP8*((LOG(AP8))/LOG(2))))","v":-0.43725050004141547},null,{"$f":"N8","v":112},{"$f":"COUNTIF(L153:L181,AS8)","v":3},{"$f":"AT8/(AV4-AT11)","v":0.10344827586206896},{"$f":"IF(AU8=0,0,(AU8*((LOG(AU8))/LOG(2))))","v":-0.33858812011100858}]
[21,290,22,320,24,379,null,null,null,null,0,222,null,121,{"$f":"COUNTIF($L$7:$L$500,N9)","v":0},{"$f":"O9/$Q$4","v":0},{"$f":"IF(P9=0,0,(P9*((LOG(P9))/LOG(2))))","v":0},null,null,{"$f":"N9","v":121},{"$f":"COUNTIF(L7:L35,T9)","v":0},{"$f":"U9/(W4-U11)","v":0},{"$f":"IF(V9=0,0,(V9*((LOG(V9))/LOG(2))))","v":0},null,{"$f":"N9","v":121},{"$f":"COUNTIF(L36:L64,Y9)","v":0},{"$f":"Z9/(AB4-Z11)","v":0},{"$f":"IF(AA9=0,0,(AA9*((LOG(AA9))/LOG(2))))","v":0},null,{"$f":"N9","v":121},{"$f":"COUNTIF(L65:L94,AD9)","v":0},{"$f":"AE9/(AG4-AE11)","v":0},{"$f":"IF(AF9=0,0,(AF9*((LOG(AF9))/LOG(2))))","v":0},null,{"$f":"N9","v":121},{"$f":"COUNTIF(L95:L123,AI9)","v":0},{"$f":"AJ9/(AL4-AJ11)","v":0},{"$f":"IF(AK9=0,0,(AK9*((LOG(AK9))/LOG(2))))","v":0},null,{"$f":"N9","v":121},{"$f":"COUNTIF(L124:L152,AN9)","v":0},{"$f":"AO9/(AQ4-AO11)","v":0},{"$f":"IF(AP9=0,0,(AP9*((LOG(AP9))/LOG(2))))","v":0},null,{"$f":"N9","v":121},{"$f":"COUNTIF(L153:L181,AS9)","v":0},{"$f":"AT9/(AV4-AT11)","v":0},{"$f":"IF(AU9=0,0,(AU9*((LOG(AU9))/LOG(2))))","v":0}]
[21,480,22,486,24,530,null,null,null,null,0,222,null,122,{"$f":"COUNTIF($L$7:$L$500,N10)","v":95},{"$f":"O10/$Q$4","v":0.54285714285714282},{"$f":"IF(P10=0,0,(P10*((LOG(P10))/LOG(2))))","v":-0.47845013047217821},null,null,{"$f":"N10","v":122},{"$f":"COUNTIF(L7:L35,T10)","v":9},{"$f":"U10/(W4-U11)","v":0.31034482758620691},{"$f":"IF(V10=0,0,(V10*((LOG(V10))/LOG(2))))","v":-0.52387944631611505},null,{"$f":"N10","v":122},{"$f":"COUNTIF(L36:L64,Y10)","v":13},{"$f":"Z10/(AB4-Z11)","v":0.44827586206896552},{"$f":"IF(AA10=0,0,(AA10*((LOG(AA10))/LOG(2))))","v":-0.51889781382152544},null,{"$f":"N10","v":122},{"$f":"COUNTIF(L65:L94,AD10)","v":19},{"$f":"AE10/(AG4-AE11)","v":0.6333333333333333},{"$f":"IF(AF10=0,0,(AF10*((LOG(AF10))/LOG(2))))","v":-0.41734328537112425},null,{"$f":"N10","v":122},{"$f":"COUNTIF(L95:L123,AI10)","v":18},{"$f":"AJ10/(AL4-AJ11)","v":0.62068965517241381},{"$f":"IF(AK10=0,0,(AK10*((LOG(AK10))/LOG(2))))","v":-0.4270692374598164},null,{"$f":"N10","v":122},{"$f":"COUNTIF(L124:L152,AN10)","v":19},{"$f":"AO10/(AQ4-AO11)","v":0.65517241379310343},{"$f":"IF(AP10=0,0,(AP10*((LOG(AP10))/LOG(2))))","v":-0.39969021213778433},null,{"$f":"N10","v":122},{"$f":"COUNTIF(L153:L181,AS10)","v":17},{"$f":"AT10/(AV4-AT11)","v":0.58620689655172409},{"$f":"IF(AU10=0,0,(AU10*((LOG(AU10))/LOG(2))))","v":-0.45168305572113648}]
[21,626,22,632,24,639,null,null,null,null,0,222,null,211,{"$f":"COUNTIF($L$7:$L$500,N11)","v":0},{"$f":"O11/$Q$4","v":0},{"$f":"IF(P11=0,0,(P11*((LOG(P11))/LOG(2))))","v":0},null,null,{"$f":"N11","v":211},{"$f":"COUNTIF(L7:L35,T11)","v":0},null,null,null,{"$f":"N11","v":211},{"$f":"COUNTIF(L36:L64,Y11)","v":0},null,null,null,{"$f":"N11","v":211},{"$f":"COUNTIF(L65:L94,AD11)","v":0},null,null,null,{"$f":"N11","v":211},{"$f":"COUNTIF(L95:L123,AI11)","v":0},null,null,null,{"$f":"N11","v":211},{"$f":"COUNTIF(L124:L152,AN11)","v":0},null,null,null,{"$f":"N11","v":211},{"$f":"COUNTIF(L153:L181,AS11)","v":0}]
[12,738,13,747,24,761,null,null,null,null,0,112,null,212,{"$f":"COUNTIF($L$7:$L$500,N12)","v":0},{"$f":"O12/$Q$4","v":0},{"$f":"IF(P12=0,0,(P12*((LOG(P12))/LOG(2))))","v":0},null,null,{"$f":"N12","v":212},{"$f":"COUNTIF(L7:L35,T12)","v":0},{"$f":"U12/(W4-U11)","v":0},{"$f":"IF(V12=0,0,(V12*((LOG(V12))/LOG(2))))","v":0},null,{"$f":"N12","v":212},{"$f":"COUNTIF(L36:L64,Y12)","v":0},{"$f":"Z12/(AB4-Z11)","v":0},{"$f":"IF(AA12=0,0,(AA12*((LOG(AA12))/LOG(2))))","v":0},null,{"$f":"N12","v":212},{"$f":"COUNTIF(L65:L94,AD12)","v":0},{"$f":"AE12/(AG4-AE11)","v":0},{"$f":"IF(AF12=0,0,(AF12*((LOG(AF12))/LOG(2))))","v":0},null,{"$f":"N12","v":212},{"$f":"COUNTIF(L95:L123,AI12)","v":0},{"$f":"AJ12/(AL4-AJ11)","v":0},{"$f":"IF(AK12=0,0,(AK12*((LOG(AK12))/LOG(2))))","v":0},null,{"$f":"N12","v":212},{"$f":"COUNTIF(L124:L152,AN12)","v":0},{"$f":"AO12/(AQ4-AO11)","v":0},{"$f":"IF(AP12=0,0,(AP12*((LOG(AP12))/LOG(2))))","v":0},null,{"$f":"N12","v":212},{"$f":"COUNTIF(L153:L181,AS12)","v":0},{"$f":"AT12/(AV4-AT11)","v":0},{"$f":"IF(AU12=0,0,(AU12*((LOG(AU12))/LOG(2))))","v":0}]
[21,856,22,861,24,880,null,null,null,null,0,222,null,221,{"$f":"COUNTIF($L$7:$L$500,N13)","v":0},{"$f":"O13/$Q$4","v":0},{"$f":"IF(P13=0,0,(P13*((LOG(P13))/LOG(2))))","v":0},null,null,{"$f":"N13","v":221},{"$f":"COUNTIF(L7:L35,T13)","v":0},{"$f":"U13/(W4-U11)","v":0},{"$f":"IF(V13=0,0,(V13*((LOG(V13))/LOG(2))))","v":0},null,{"$f":"N13","v":221},{"$f":"COUNTIF(L36:L64,Y13)","v":0},{"$f":"Z13/(AB4-Z11)","v":0},{"$f":"IF(AA13=0,0,(AA13*((LOG(AA13))/LOG(2))))","v":0},null,{"$f":"N13","v":221},{"$f":"COUNTIF(L65:L94,AD13)","v":0},{"$f":"AE13/(AG4-AE11)","v":0},{"$f":"IF(AF13=0,0,(AF13*((LOG(AF13))/LOG(2))))","v":0},null,{"$f":"N13","v":221},{"$f":"COUNTIF(L95:L123,AI13)","v":0},{"$f":"AJ13/(AL4-AJ11)","v":0},{"$f":"IF(AK13=0,0,(AK13*((LOG(AK13))/LOG(2))))","v":0},null,{"$f":"N13","v":221},{"$f":"COUNTIF(L124:L152,AN13)","v":0},{"$f":"AO13/(AQ4-AO11)","v":0},{"$f":"IF(AP13=0,0,(AP13*((LOG(AP13))/LOG(2))))","v":0},null,{"$f":"N13","v":221},{"$f":"COUNTIF(L153:L181,AS13)","v":0},{"$f":"AT13/(AV4-AT11)","v":0},{"$f":"IF(AU13=0,0,(AU13*((LOG(AU13))/LOG(2))))","v":0}]
[12,982,24,994,24,1011,null,null,null,null,0,122,null,222,{"$f":"COUNTIF($L$7:$L$500,N14)","v":64},{"$f":"O14/$Q$4","v":0.36571428571428571},{"$f":"IF(P14=0,0,(P14*((LOG(P14))/LOG(2))))","v":-0.5307286351843945},null,null,{"$f":"N14","v":222},{"$f":"COUNTIF(L7:L35,T14)","v":19},{"$f":"U14/(W4-U11)","v":0.65517241379310343},{"$f":"IF(V14=0,0,(V14*((LOG(V14))/LOG(2))))","v":-0.39969021213778433},null,{"$f":"N14","v":222},{"$f":"COUNTIF(L36:L64,Y14)","v":14},{"$f":"Z14/(AB4-Z11)","v":0.48275862068965519},{"$f":"IF(AA14=0,0,(AA14*((LOG(AA14))/LOG(2))))","v":-0.50719879389584666},null,{"$f":"N14","v":222},{"$f":"COUNTIF(L65:L94,AD14)","v":8},{"$f":"AE14/(AG4-AE11)","v":0.26666666666666666},{"$f":"IF(AF14=0,0,(AF14*((LOG(AF14))/LOG(2))))","v":-0.50850415882893829},null,{"$f":"N14","v":222},{"$f":"COUNTIF(L95:L123,AI14)","v":10},{"$f":"AJ14/(AL4-AJ11)","v":0.34482758620689657},{"$f":"IF(AK14=0,0,(AK14*((LOG(AK14))/LOG(2))))","v":-0.52967341387593436},null,{"$f":"N14","v":222},{"$f":"COUNTIF(L124:L152,AN14)","v":4},{"$f":"AO14/(AQ4-AO11)","v":0.13793103448275862},{"$f":"IF(AP14=0,0,(AP14*((LOG(AP14))/LOG(2))))","v":-0.39420427519000989},null,{"$f":"N14","v":222},{"$f":"COUNTIF(L153:L181,AS14)","v":9},{"$f":"AT14/(AV4-AT11)","v":0.31034482758620691},{"$f":"IF(AU14=0,0,(AU14*((LOG(AU14))/LOG(2))))","v":-0.52387944631611505}]
[21,1107,22,1122,24,1163,null,null,null,null,0,222,null,null,null,{"$f":"SUM(P7:P14)","v":1},{"$f":"-SUM(Q7:Q14)","v":1.3744153878309202},null,null,null,null,{"$f":"SUM(V7:V14)","v":1},{"$f":"-SUM(W7:W14)","v":1.0910862444927811},null,null,null,{"$f":"SUM(AA7:AA14)","v":1},{"$f":"-SUM(AB7:AB14)","v":1.2921642625537564},null,null,null,{"$f":"SUM(AF7:AF14)","v":1},{"$f":"-SUM(AG7:AG14)","v":1.3498698370942477},null,null,null,{"$f":"SUM(AK7:AK14)","v":1},{"$f":"-SUM(AL7:AL14)","v":1.1242592373746325},null,null,null,{"$f":"SUM(AP7:AP14)","v":1},{"$f":"-SUM(AQ7:AQ14)","v":1.3986615734080916},null,null,null,{"$f":"SUM(AU7:AU14)","v":1},{"$f":"-SUM(AV7:AV14)","v":1.3141506221482602}]
[21,1262,22,1267,24,1272,null,null,null,null,0,222,null,null,null,"U=",{"$f":"Q15/(LOG(Q4)/LOG(2))","v":0.18445530091724074},null,null,null,null,"U1=",{"$f":"W15/(LOG(W4)/LOG(2))","v":0.22459664736999016},null,null,null,"U2=",{"$f":"AB15/(LOG(AB4)/LOG(2))","v":0.26598792046526393},null,null,null,"U3=",{"$f":"AG15/(LOG(AG4)/LOG(2))","v":0.27509678701667611},null,null,null,"U4=",{"$f":"AL15/(LOG(AL4)/LOG(2))","v":0.23142520287795179},null,null,null,"U5=",{"$f":"AQ15/(LOG(AQ4)/LOG(2))","v":0.28791005457018309},null,null,null,"U6=",{"$f":"AV15/(LOG(AV4)/LOG(2))","v":0.27051374294512864}]
[12,1371,24,1381,24,1386,null,null,null,null,0,122]
[12,1486,24,1499,24,1506,null,null,null,null,0,122]
[12,1608,24,1624,24,1631,null,null,null,null,0,122,null,"Total Target Seq"]
[21,1731,22,1737,24,1752,null,null,null,null,0,222,null,{"$f":"COUNTIF(L7:L181,G3)","v":0},null,29,29,30,29,29,29]
[21,1848,22,1876,24,1904,null,null,null,null,0,222,null,null,null,"% of reinforcement given in 6 equal intervals based on number of trials "]
[21,2006,22,2011,24,2034,null,null,null,null,0,222,null,null,null,"%_1","%_2","%_3","%_4","%_5","%_6"]
[21,2143,22,2149,24,2157,null,null,null,null,0,222,null,null,"target sequence",{"$f":"$G$3","v":211},{"$f":"$G$3","v":211},{"$f":"$G$3","v":211},{"$f":"$G$3","v":211},{"$f":"$G$3","v":211},{"$f":"$G$3","v":211}]
[21,2263,22,2268,24,2276,null,null,null,null,0,222,null,null,"total reinforcement",{"$f":"U11","v":0},{"$f":"Z11","v":0},{"$f":"AE11","v":0},{"$f":"AJ11","v":0},{"$f":"AO11","v":0},{"$f":"AT11","v":0}]
[21,2387,22,2398,24,2418,null,null,null,null,0,222,null,null,"% target"]
[21,2517,22,2522,24,2531,null,null,null,null,0,222,null,null,"CCRF"]
[21,2634,22,2673,24,2693,null,null,null,null,0,222,null,null,"% CCRf"]
[21,2798,22,2803,24,2810,null,null,null,null,0,222,null,null,"average response rate",{"$f":"F35/P20","v":127.79310344827586},{"$f":"(F64-F35)/Q20","v":123.48275862068965},{"$f":"(F94-F64)/R20","v":125.9},{"$f":"(F123-F94)/S20","v":123.68965517241379},{"$f":"(F152-F123)/T20","v":128.89655172413794},{"$f":"(F181-F152)/U20","v":175.86206896551724}]
[12,2910,24,2924,24,2930,null,null,null,null,0,122]
[12,3029,24,3046,24,3051,null,null,null,null,0,122]
[12,3159,24,3169,24,3175,null,null,null,null,0,122]
[21,3272,22,3277,24,3295,null,null,null,null,0,222]
[21,3406,22,3412,24,3420,null,null,null,null,0,222]
[12,3519,24,3529,24,3546,null,null,null,null,0,122]
[12,3647,24,3662,24,3706,null,null,null,null,0,122]
[21,3810,22,3829,24,3841,null,null,null,null,0,222]
[21,3943,22,3949,24,3961,null,null,null,null,0,222]
[12,4061,24,4073,24,4079,null,null,null,null,0,122]
[12,4177,24,4190,24,4195,null,null,null,null,0,122]
[21,4292,22,4303,24,4308,null,null,null,null,0,222]
[21,4415,22,4433,24,4441,null,null,null,null,0,222]
[12,4542,13,4552,24,4566,null,null,null,null,0,112]
[12,4665,24,4679,24,4684,null,null,null,null,0,122]
[21,4787,22,4792,24,4813,null,null,null,null,0,222]
[21,4915,22,4920,24,4935,null,null,null,null,0,222]
[21,5037,22,5047,24,5066,null,null,null,null,0,222]
[21,5167,22,5172,24,5180,null,null,null,null,0,222]
[12,5282,24,5296,24,5301,null,null,null,null,0,122]
[21,5404,22,5427,24,5435,null,null,null,null,0,222]
[21,5538,22,5567,24,5610,null,null,null,null,0,222]
[21,5714,22,5719,24,5728,null,null,null,null,0,222]
[12,5825,24,5839,24,5845,null,null,null,null,0,122]
[12,5946,24,5959,24,5965,null,null,null,null,0,122]
[21,6065,22,6071,24,6079,null,null,null,null,0,222]
[21,6175,22,6185,24,6195,null,null,null,null,0,222]
[21,6298,22,6303,24,6319,null,null,null,null,0,222]
[12,6421,24,6431,24,6436,null,null,null,null,0,122]
[12,6536,24,6553,24,6564,null,null,null,null,0,122]
[12,6664,24,6674,24,6678,null,null,null,null,0,122]
[12,6777,24,6790,24,6794,null,null,null,null,0,122]
[12,6897,24,6906,24,6911,null,null,null,null,0,122]
[12,7009,13,7014,24,7031,null,null,null,null,0,112]
[12,7131,24,7144,24,7149,null,null,null,null,0,122]
[12,7250,24,7280,24,7287,null,null,null,null,0,122]
[12,7389,24,7399,24,7420,null,null,null,null,0,122]
[21,7523,22,7528,24,7536,null,null,null,null,0,222]
[12,7632,24,7640,24,7645,null,null,null,null,0,122]
[12,7744,13,7752,24,7765,null,null,null,null,0,112]
[12,7868,24,7886,24,7896,null,null,null,null,0,122]
[12,7996,24,8013,24,8020,null,null,null,null,0,122]
[12,8120,24,8132,24,8137,null,null,null,null,0,122]
[12,8236,24,8262,24,8269,null,null,null,null,0,122]
[21,8366,22,8371,24,8434,null,null,null,null,0,222]
[21,8551,22,8567,24,8579,null,null,null,null,0,222]
[12,8682,24,8697,24,8703,null,null,null,null,0,122]
[12,8803,13,8814,13,8824,null,null,null,null,0,111]
[21,8927,22,8932,24,8936,null,null,null,null,0,222]
[12,9039,24,9047,24,9053,null,null,null,null,0,122]
[12,9154,24,9169,24,9183,null,null,null,null,0,122]
[21,9322,22,9396,24,9409,null,null,null,null,0,222]
[12,9509,24,9518,24,9523,null,null,null,null,0,122]
[12,9623,24,9637,24,9642,null,null,null,null,0,122]
[12,9740,24,9754,24,9759,null,null,null,null,0,122]
[12,9863,24,9876,24,9882,null,null,null,null,0,122]
[21,9985,22,9990,24,9995,null,null,null,null,0,222]
[12,10095,13,10103,24,10117,null,null,null,null,0,112]
[21,10215,22,10225,24,10240,null,null,null,null,0,222]
[12,10343,24,10352,24,10357,null,null,null,null,0,122]
[12,10455,24,10465,24,10470,null,null,null,null,0,122]
[12,10579,24,10593,24,10598,null,null,null,null,0,122]
[21,10697,22,10702,24,10709,null,null,null,null,0,222]
[12,10809,24,10820,24,10826,null,null,null,null,0,122]
[12,10927,24,10938,24,10944,null,null,null,null,0,122]
[12,11043,24,11054,24,11064,null,null,null,null,0,122]
[21,11176,22,11190,24,11209,null,null,null,null,0,222]
[12,11312,24,11330,24,11376,null,null,null,null,0,122]
[12,11477,24,11490,24,11495,null,null,null,null,0,122]
[12,11596,24,11609,24,11614,null,null,null,null,0,122]
[21,11713,22,11718,24,11735,null,null,null,null,0,222]
[12,11836,24,11845,24,11850,null,null,null,null,0,122]
[12,11949,24,11963,24,11968,null,null,null,null,0,122]
[12,12069,24,12083,24,12088,null,null,null,null,0,122]
[21,12188,22,12193,24,12242,null,null,null,null,0,222]
[12,12343,24,12352,24,12357,null,null,null,null,0,122]
[12,12458,24,12467,24,12473,null,null,null,null,0,122]
[21,12577,22,12583,24,12609,null,null,null,null,0,222]
[12,12710,24,12722,24,12729,null,null,null,null,0,122]
[12,12828,24,12840,24,12845,null,null,null,null,0,122]
[12,12952,24,12965,24,12970,null,null,null,null,0,122]
[12,13069,13,13077,24,13090,null,null,null,null,0,112]
[12,13189,24,13202,24,13242,null,null,null,null,0,122]
[12,13346,24,13359,24,13369,null,null,null,null,0,122]
[12,13469,24,13477,24,13483,null,null,null,null,0,122]
[21,13577,22,13581,24,13586,null,null,null,null,0,222]
[21,13687,22,13692,24,13697,null,null,null,null,0,222]
[12,13795,24,13809,24,13816,null,null,null,null,0,122]
[21,13922,22,13945,24,13960,null,null,null,null,0,222]
[21,14060,22,14064,24,14070,null,null,null,null,0,222]
[12,14177,24,14186,24,14191,null,null,null,null,0,122]
[21,14292,22,14296,24,14301,null,null,null,null,0,222]
[12,14404,24,14413,24,14418,null,null,null,null,0,122]
[12,14522,24,14532,24,14538,null,null,null,null,0,122]
[21,14636,22,14642,24,14651,null,null,null,null,0,222]
[12,14744,13,14749,24,14761,null,null,null,null,0,112]
[21,14860,22,14875,24,14890,null,null,null,null,0,222]
[12,14992,24,15002,24,15017,null,null,null,null,0,122]
[12,15119,24,15131,24,15138,null,null,null,null,0,122]
[12,15236,13,15244,24,15260,null,null,null,null,0,112]
[12,15360,24,15368,24,15377,null,null,null,null,0,122]
[12,15477,24,15495,24,15507,null,null,null,null,0,122]
[21,15609,22,15619,24,15648,null,null,null,null,0,222]
[12,15748,24,15761,24,15790,null,null,null,null,0,122]
[12,15891,24,15906,24,15912,null,null,null,null,0,122]
[12,16010,24,16020,24,16026,null,null,null,null,0,122]
[12,16127,24,16140,24,16165,null,null,null,null,0,122]
[12,16266,24,16279,24,16284,null,null,null,null,0,122]
[12,16384,13,16392,13,16399,null,null,null,null,0,111]
[12,16500,24,16508,24,16551,null,null,null,null,0,122]
[12,16655,24,16666,24,16690,null,null,null,null,0,122]
[12,16789,24,16800,24,16820,null,null,null,null,0,122]
[12,16922,24,16930,24,16940,null,null,null,null,0,122]
[12,17043,24,17073,24,17088,null,null,null,null,0,122]
[12,17186,24,17196,24,17208,null,null,null,null,0,122]
[12,17309,13,17317,24,17330,null,null,null,null,0,112]
[12,17430,24,17441,24,17479,null,null,null,null,0,122]
[12,17580,13,17592,24,17612,null,null,null,null,0,112]
[12,17707,24,17720,24,17735,null,null,null,null,0,122]
[12,17839,24,17847,24,17854,null,null,null,null,0,122]
[12,17989,13,17997,24,18012,null,null,null,null,0,112]
[12,18112,24,18122,24,18127,null,null,null,null,0,122]
[21,18225,22,18230,24,18239,null,null,null,null,0,222]
[21,18341,22,18367,24,18389,null,null,null,null,0,222]
[12,18494,24,18515,24,18527,null,null,null,null,0,122]
[12,18640,24,18650,24,18656,null,null,null,null,0,122]
[21,18752,22,18756,24,18772,null,null,null,null,0,222]
[12,18871,24,18879,24,18884,null,null,null,null,0,122]
[21,18989,22,18993,24,19017,null,null,null,null,0,222]
[12,19122,24,19135,24,19148,null,null,null,null,0,122]
[12,19247,24,19260,24,19275,null,null,null,null,0,122]
[12,19375,24,19387,24,19392,null,null,null,null,0,122]
[12,19537,24,19550,24,19574,null,null,null,null,0,122]
[12,19673,24,19683,24,19717,null,null,null,null,0,122]
[12,19819,24,19827,24,19833,null,null,null,null,0,122]
[12,19927,13,19936,24,19945,null,null,null,null,0,112]
[12,20049,24,20062,24,20067,null,null,null,null,0,122]
[12,20171,24,20180,24,20190,null,null,null,null,0,122]
[12,20292,24,20303,24,20319,null,null,null,null,0,122]
[21,20421,22,20425,24,20429,null,null,null,null,0,222]
[12,20563,24,20572,24,20594,null,null,null,null,0,122]
[21,20863,22,20907,24,20930,null,null,null,null,0,222]
[12,21564,13,21574,24,21586,null,null,null,null,0,112]
[12,21679,13,21691,24,21702,null,null,null,null,0,112]
[21,21877,22,21910,24,21947,null,null,null,null,0,222]
[12,22083,24,22094,24,22106,null,null,null,null,0,122]
[21,22216,22,22230,24,22242,null,null,null,null,0,222]
[21,22338,22,22344,24,22350,null,null,null,null,0,222]
[12,22583,24,22597,24,22603,null,null,null,null,0,122]
[21,22720,22,22727,24,22741,null,null,null,null,0,222]
[12,22999,24,23014,24,23039,null,null,null,null,0,122]
[12,23134,24,23145,24,23150,null,null,null,null,0,122]
[21,23472,22,23480,24,23489,null,null,null,null,0,222]

{"sheet":"!MA10A00.091","index":22,"n_rows":133,"n_cols":48,"rows_kept":133,"cut":false,"hidden":false,"merged":[[4,39,4,42],[5,39,5,40],[4,44,4,47],[5,44,5,45],[4,24,4,27],[5,24,5,25],[4,29,4,32],[5,29,5,30],[4,34,4,37],[5,34,5,35],[1,1,1,2],[5,13,5,14],[18,13,18,14],[19,13,19,14],[4,19,4,22],[5,19,5,20]]}
["Report for:!MA10A00.091"]
["Date:","<date>"]
["Hen:","<hen>",null,null,null,"Correct Sequence",{"$f":"Start!J2","v":211},null,null,null,null,null,null,null,null,"Total Sequences in Data",{"$f":"4994-COUNTBLANK(L7:L5000)","v":127},null,null,null,null,"Total Sequences in Block Data",{"$f":"COUNTA(L7:L27)","v":21},null,null,null,"Total Sequences in Block Data",{"$f":"COUNTA(L28:L48)","v":21},null,null,null,"Total Sequences in Block Data",{"$f":"COUNTA(L49:L70)","v":22},null,null,null,"Total Sequences in Block Data",{"$f":"COUNTA(L71:L91)","v":21},null,null,null,"Total Sequences in Block Data",{"$f":"COUNTA(L92:L112)","v":21},null,null,null,"Total Sequences in Block Data",{"$f":"COUNTA(L113:L133)","v":21}]
[null,null,null,null,null,null,null,null,null,null,null,null,null,null,null,"Total Sequences in Summary",{"$f":"SUM(O7:O14)","v":127},null,null,null,null,"Total Sequences in Block Summary",{"$f":"SUM(U7:U14)","v":21},null,null,null,"Total Sequences in Block Summary",{"$f":"SUM(Z7:Z14)","v":21},null,null,null,"Total Sequences in Block Summary",{"$f":"SUM(AE7:AE14)","v":22},null,null,null,"Total Sequences in Block Summary",{"$f":"SUM(AJ7:AJ14)","v":21},null,null,null,"Total Sequences in Block Summary",{"$f":"SUM(AO7:AO14)","v":21},null,null,null,"Total Sequences in Block Summary",{"$f":"SUM(AT7:AT14)","v":21}]
[null,null,null,null,null,null,null,null,null,null,null,null,null,null,null,null,null,null,null,"Block 1",null,null,null,null,"Block 2",null,null,null,null,"Block 3",null,null,null,null,"Block 4",null,null,null,null,"Block 5",null,null,null,null,"Block 6"]
["Sequence\nComponent\n1","Time\n1","Sequence\nComponent\n2","Time\n2","Sequence\nComponent\n3","Time\n3","Sequence\nComponent\n4","Time\n4","Sequence\nComponent\n5","Time\n5","Correct?\n0=No 1=Yes","Sequence",null,"Frequency",null,"Relative Frequency","Variability",null,null,"Frequency",null,"Relative Frequency","Variability",null,"Frequency",null,"Relative Frequency","Variability",null,"Frequency",null,"Relative Frequency","Variability",null,"Frequency",null,"Relative Frequency","Variability",null,"Frequency",null,"Relative Frequency","Variability",null,"Frequency",null,"Relative Frequency","Variability"]
[21,21,22,28,24,36,null,null,null,null,0,222,null,111,{"$f":"COUNTIF($L$7:$L$500,N7)","v":15},{"$f":"O7/$Q$4","v":0.11811023622047244},{"$f":"IF(P7=0,0,(P7*((LOG(P7))/LOG(2))))","v":-0.36399142809019458},null,null,{"$f":"N7","v":111},{"$f":"COUNTIF(L7:L27,T7)","v":0},{"$f":"U7/(W4-U11)","v":0},{"$f":"IF(V7=0,0,(V7*((LOG(V7))/LOG(2))))","v":0},null,{"$f":"N7","v":111},{"$f":"COUNTIF(L28:L48,Y7)","v":0},{"$f":"Z7/(AB4-Z11)","v":0},{"$f":"IF(AA7=0,0,(AA7*((LOG(AA7))/LOG(2))))","v":0},null,{"$f":"N7","v":111},{"$f":"COUNTIF(L49:L70,AD7)","v":5},{"$f":"AE7/(AG4-AE11)","v":0.22727272727272727},{"$f":"IF(AF7=0,0,(AF7*((LOG(AF7))/LOG(2))))","v":-0.48579625539771243},null,{"$f":"N7","v":111},{"$f":"COUNTIF(L71:L91,AI7)","v":1},{"$f":"AJ7/(AL4-AJ11)","v":4.7619047619047616E-2},{"$f":"IF(AK7=0,0,(AK7*((LOG(AK7))/LOG(2))))","v":-0.20915797251327431},null,{"$f":"N7","v":111},{"$f":"COUNTIF(L92:L112,AN7)","v":2},{"$f":"AO7/(AQ4-AO11)","v":9.5238095238095233E-2},{"$f":"IF(AP7=0,0,(AP7*((LOG(AP7))/LOG(2))))","v":-0.32307784978845333},null,{"$f":"N7","v":111},{"$f":"COUNTIF(L113:L133,AS7)","v":7},{"$f":"AT7/(AV4-AT11)","v":0.33333333333333331},{"$f":"IF(AU7=0,0,(AU7*((LOG(AU7))/LOG(2))))","v":-0.52832083357371862}]
[12,139,24,169,24,179,null,null,null,null,0,122,null,112,{"$f":"COUNTIF($L$7:$L$500,N8)","v":12},{"$f":"O8/$Q$4","v":9.4488188976377951E-2},{"$f":"IF(P8=0,0,(P8*((LOG(P8))/LOG(2))))","v":-0.32161154513867807},null,null,{"$f":"N8","v":112},{"$f":"COUNTIF(L7:L27,T8)","v":0},{"$f":"U8/(W4-U11)","v":0},{"$f":"IF(V8=0,0,(V8*((LOG(V8))/LOG(2))))","v":0},null,{"$f":"N8","v":112},{"$f":"COUNTIF(L28:L48,Y8)","v":1},{"$f":"Z8/(AB4-Z11)","v":4.7619047619047616E-2},{"$f":"IF(AA8=0,0,(AA8*((LOG(AA8))/LOG(2))))","v":-0.20915797251327431},null,{"$f":"N8","v":112},{"$f":"COUNTIF(L49:L70,AD8)","v":4},{"$f":"AE8/(AG4-AE11)","v":0.18181818181818182},{"$f":"IF(AF8=0,0,(AF8*((LOG(AF8))/LOG(2))))","v":-0.44716938520678134},null,{"$f":"N8","v":112},{"$f":"COUNTIF(L71:L91,AI8)","v":3},{"$f":"AJ8/(AL4-AJ11)","v":0.14285714285714285},{"$f":"IF(AK8=0,0,(AK8*((LOG(AK8))/LOG(2))))","v":-0.40105070315108626},null,{"$f":"N8","v":112},{"$f":"COUNTIF(L92:L112,AN8)","v":4},{"$f":"AO8/(AQ4-AO11)","v":0.19047619047619047},{"$f":"IF(AP8=0,0,(AP8*((LOG(AP8))/LOG(2))))","v":-0.4556795091007162},null,{"$f":"N8","v":112},{"$f":"COUNTIF(L113:L133,AS8)","v":0},{"$f":"AT8/(AV4-AT11)","v":0},{"$f":"IF(AU8=0,0,(AU8*((LOG(AU8))/LOG(2))))","v":0}]
[12,281,24,338,24,369,null,null,null,null,0,122,null,121,{"$f":"COUNTIF($L$7:$L$500,N9)","v":0},{"$f":"O9/$Q$4","v":0},{"$f":"IF(P9=0,0,(P9*((LOG(P9))/LOG(2))))","v":0},null,null,{"$f":"N9","v":121},{"$f":"COUNTIF(L7:L27,T9)","v":0},{"$f":"U9/(W4-U11)","v":0},{"$f":"IF(V9=0,0,(V9*((LOG(V9))/LOG(2))))","v":0},null,{"$f":"N9","v":121},{"$f":"COUNTIF(L28:L48,Y9)","v":0},{"$f":"Z9/(AB4-Z11)","v":0},{"$f":"IF(AA9=0,0,(AA9*((LOG(AA9))/LOG(2))))","v":0},null,{"$f":"N9","v":121},{"$f":"COUNTIF(L49:L70,AD9)","v":0},{"$f":"AE9/(AG4-AE11)","v":0},{"$f":"IF(AF9=0,0,(AF9*((LOG(AF9))/LOG(2))))","v":0},null,{"$f":"N9","v":121},{"$f":"COUNTIF(L71:L91,AI9)","v":0},{"$f":"AJ9/(AL4-AJ11)","v":0},{"$f":"IF(AK9=0,0,(AK9*((LOG(AK9))/LOG(2))))","v":0},null,{"$f":"N9","v":121},{"$f":"COUNTIF(L92:L112,AN9)","v":0},{"$f":"AO9/(AQ4-AO11)","v":0},{"$f":"IF(AP9=0,0,(AP9*((LOG(AP9))/LOG(2))))","v":0},null,{"$f":"N9","v":121},{"$f":"COUNTIF(L113:L133,AS9)","v":0},{"$f":"AT9/(AV4-AT11)","v":0},{"$f":"IF(AU9=0,0,(AU9*((LOG(AU9))/LOG(2))))","v":0}]
[21,470,22,486,24,557,null,null,null,null,0,222,null,122,{"$f":"COUNTIF($L$7:$L$500,N10)","v":61},{"$f":"O10/$Q$4","v":0.48031496062992124},{"$f":"IF(P10=0,0,(P10*((LOG(P10))/LOG(2))))","v":-0.50814793938398461},null,null,{"$f":"N10","v":122},{"$f":"COUNTIF(L7:L27,T10)","v":14},{"$f":"U10/(W4-U11)","v":0.66666666666666663},{"$f":"IF(V10=0,0,(V10*((LOG(V10))/LOG(2))))","v":-0.38997500048077083},null,{"$f":"N10","v":122},{"$f":"COUNTIF(L28:L48,Y10)","v":13},{"$f":"Z10/(AB4-Z11)","v":0.61904761904761907},{"$f":"IF(AA10=0,0,(AA10*((LOG(AA10))/LOG(2))))","v":-0.42830524572808026},null,{"$f":"N10","v":122},{"$f":"COUNTIF(L49:L70,AD10)","v":8},{"$f":"AE10/(AG4-AE11)","v":0.36363636363636365},{"$f":"IF(AF10=0,0,(AF10*((LOG(AF10))/LOG(2))))","v":-0.53070240677719893},null,{"$f":"N10","v":122},{"$f":"COUNTIF(L71:L91,AI10)","v":11},{"$f":"AJ10/(AL4-AJ11)","v":0.52380952380952384},{"$f":"IF(AK10=0,0,(AK10*((LOG(AK10))/LOG(2))))","v":-0.4886544688360045},null,{"$f":"N10","v":122},{"$f":"COUNTIF(L92:L112,AN10)","v":7},{"$f":"AO10/(AQ4-AO11)","v":0.33333333333333331},{"$f":"IF(AP10=0,0,(AP10*((LOG(AP10))/LOG(2))))","v":-0.52832083357371862},null,{"$f":"N10","v":122},{"$f":"COUNTIF(L113:L133,AS10)","v":8},{"$f":"AT10/(AV4-AT11)","v":0.38095238095238093},{"$f":"IF(AU10=0,0,(AU10*((LOG(AU10))/LOG(2))))","v":-0.53040663724905157}]
[12,657,24,666,24,672,null,null,null,null,0,122,null,211,{"$f":"COUNTIF($L$7:$L$500,N11)","v":0},{"$f":"O11/$Q$4","v":0},{"$f":"IF(P11=0,0,(P11*((LOG(P11))/LOG(2))))","v":0},null,null,{"$f":"N11","v":211},{"$f":"COUNTIF(L7:L27,T11)","v":0},null,null,null,{"$f":"N11","v":211},{"$f":"COUNTIF(L28:L48,Y11)","v":0},null,null,null,{"$f":"N11","v":211},{"$f":"COUNTIF(L49:L70,AD11)","v":0},null,null,null,{"$f":"N11","v":211},{"$f":"COUNTIF(L71:L91,AI11)","v":0},null,null,null,{"$f":"N11","v":211},{"$f":"COUNTIF(L92:L112,AN11)","v":0},null,null,null,{"$f":"N11","v":211},{"$f":"COUNTIF(L113:L133,AS11)","v":0}]
[12,770,24,782,24,792,null,null,null,null,0,122,null,212,{"$f":"COUNTIF($L$7:$L$500,N12)","v":0},{"$f":"O12/$Q$4","v":0},{"$f":"IF(P12=0,0,(P12*((LOG(P12))/LOG(2))))","v":0},null,null,{"$f":"N12","v":212},{"$f":"COUNTIF(L7:L27,T12)","v":0},{"$f":"U12/(W4-U11)","v":0},{"$f":"IF(V12=0,0,(V12*((LOG(V12))/LOG(2))))","v":0},null,{"$f":"N12","v":212},{"$f":"COUNTIF(L28:L48,Y12)","v":0},{"$f":"Z12/(AB4-Z11)","v":0},{"$f":"IF(AA12=0,0,(AA12*((LOG(AA12))/LOG(2))))","v":0},null,{"$f":"N12","v":212},{"$f":"COUNTIF(L49:L70,AD12)","v":0},{"$f":"AE12/(AG4-AE11)","v":0},{"$f":"IF(AF12=0,0,(AF12*((LOG(AF12))/LOG(2))))","v":0},null,{"$f":"N12","v":212},{"$f":"COUNTIF(L71:L91,AI12)","v":0},{"$f":"AJ12/(AL4-AJ11)","v":0},{"$f":"IF(AK12=0,0,(AK12*((LOG(AK12))/LOG(2))))","v":0},null,{"$f":"N12","v":212},{"$f":"COUNTIF(L92:L112,AN12)","v":0},{"$f":"AO12/(AQ4-AO11)","v":0},{"$f":"IF(AP12=0,0,(AP12*((LOG(AP12))/LOG(2))))","v":0},null,{"$f":"N12","v":212},{"$f":"COUNTIF(L113:L133,AS12)","v":0},{"$f":"AT12/(AV4-AT11)","v":0},{"$f":"IF(AU12=0,0,(AU12*((LOG(AU12))/LOG(2))))","v":0}]
[12,891,24,899,24,904,null,null,null,null,0,122,null,221,{"$f":"COUNTIF($L$7:$L$500,N13)","v":0},{"$f":"O13/$Q$4","v":0},{"$f":"IF(P13=0,0,(P13*((LOG(P13))/LOG(2))))","v":0},null,null,{"$f":"N13","v":221},{"$f":"COUNTIF(L7:L27,T13)","v":0},{"$f":"U13/(W4-U11)","v":0},{"$f":"IF(V13=0,0,(V13*((LOG(V13))/LOG(2))))","v":0},null,{"$f":"N13","v":221},{"$f":"COUNTIF(L28:L48,Y13)","v":0},{"$f":"Z13/(AB4-Z11)","v":0},{"$f":"IF(AA13=0,0,(AA13*((LOG(AA13))/LOG(2))))","v":0},null,{"$f":"N13","v":221},{"$f":"COUNTIF(L49:L70,AD13)","v":0},{"$f":"AE13/(AG4-AE11)","v":0},{"$f":"IF(AF13=0,0,(AF13*((LOG(AF13))/LOG(2))))","v":0},null,{"$f":"N13","v":221},{"$f":"COUNTIF(L71:L91,AI13)","v":0},{"$f":"AJ13/(AL4-AJ11)","v":0},{"$f":"IF(AK13=0,0,(AK13*((LOG(AK13))/LOG(2))))","v":0},null,{"$f":"N13","v":221},{"$f":"COUNTIF(L92:L112,AN13)","v":0},{"$f":"AO13/(AQ4-AO11)","v":0},{"$f":"IF(AP13=0,0,(AP13*((LOG(AP13))/LOG(2))))","v":0},null,{"$f":"N13","v":221},{"$f":"COUNTIF(L113:L133,AS13)","v":0},{"$f":"AT13/(AV4-AT11)","v":0},{"$f":"IF(AU13=0,0,(AU13*((LOG(AU13))/LOG(2))))","v":0}]
[21,1000,22,1005,24,1010,null,null,null,null,0,222,null,222,{"$f":"COUNTIF($L$7:$L$500,N14)","v":39},{"$f":"O14/$Q$4","v":0.30708661417322836},{"$f":"IF(P14=0,0,(P14*((LOG(P14))/LOG(2))))","v":-0.52305524605107701},null,null,{"$f":"N14","v":222},{"$f":"COUNTIF(L7:L27,T14)","v":7},{"$f":"U14/(W4-U11)","v":0.33333333333333331},{"$f":"IF(V14=0,0,(V14*((LOG(V14))/LOG(2))))","v":-0.52832083357371862},null,{"$f":"N14","v":222},{"$f":"COUNTIF(L28:L48,Y14)","v":7},{"$f":"Z14/(AB4-Z11)","v":0.33333333333333331},{"$f":"IF(AA14=0,0,(AA14*((LOG(AA14))/LOG(2))))","v":-0.52832083357371862},null,{"$f":"N14","v":222},{"$f":"COUNTIF(L49:L70,AD14)","v":5},{"$f":"AE14/(AG4-AE11)","v":0.22727272727272727},{"$f":"IF(AF14=0,0,(AF14*((LOG(AF14))/LOG(2))))","v":-0.48579625539771243},null,{"$f":"N14","v":222},{"$f":"COUNTIF(L71:L91,AI14)","v":6},{"$f":"AJ14/(AL4-AJ11)","v":0.2857142857142857},{"$f":"IF(AK14=0,0,(AK14*((LOG(AK14))/LOG(2))))","v":-0.51638712058788683},null,{"$f":"N14","v":222},{"$f":"COUNTIF(L92:L112,AN14)","v":8},{"$f":"AO14/(AQ4-AO11)","v":0.38095238095238093},{"$f":"IF(AP14=0,0,(AP14*((LOG(AP14))/LOG(2))))","v":-0.53040663724905157},null,{"$f":"N14","v":222},{"$f":"COUNTIF(L113:L133,AS14)","v":6},{"$f":"AT14/(AV4-AT11)","v":0.2857142857142857},{"$f":"IF(AU14=0,0,(AU14*((LOG(AU14))/LOG(2))))","v":-0.51638712058788683}]
[12,1109,24,1119,24,1126,null,null,null,null,0,122,null,null,null,{"$f":"SUM(P7:P14)","v":1},{"$f":"-SUM(Q7:Q14)","v":1.7168061586639345},null,null,null,null,{"$f":"SUM(V7:V14)","v":1},{"$f":"-SUM(W7:W14)","v":0.91829583405448945},null,null,null,{"$f":"SUM(AA7:AA14)","v":1},{"$f":"-SUM(AB7:AB14)","v":1.1657840518150731},null,null,null,{"$f":"SUM(AF7:AF14)","v":1},{"$f":"-SUM(AG7:AG14)","v":1.949464302779405},null,null,null,{"$f":"SUM(AK7:AK14)","v":1},{"$f":"-SUM(AL7:AL14)","v":1.6152502650882519},null,null,null,{"$f":"SUM(AP7:AP14)","v":1},{"$f":"-SUM(AQ7:AQ14)","v":1.8374848297119395},null,null,null,{"$f":"SUM(AU7:AU14)","v":0.99999999999999989},{"$f":"-SUM(AV7:AV14)","v":1.575114591410657}]
[21,9260,22,9267,24,9285,null,null,null,null,0,222,null,null,null,"U=",{"$f":"Q15/(LOG(Q4)/LOG(2))","v":0.24565511760938646},null,null,null,null,"U1=",{"$f":"W15/(LOG(W4)/LOG(2))","v":0.20906864091656147},null,null,null,"U2=",{"$f":"AB15/(LOG(AB4)/LOG(2))","v":0.26541434500367922},null,null,null,"U3=",{"$f":"AG15/(LOG(AG4)/LOG(2))","v":0.43715533043090316},null,null,null,"U4=",{"$f":"AL15/(LOG(AL4)/LOG(2))","v":0.36774442956046155},null,null,null,"U5=",{"$f":"AQ15/(LOG(AQ4)/LOG(2))","v":0.41834062815739553},null,null,null,"U6=",{"$f":"AV15/(LOG(AV4)/LOG(2))","v":0.35860673075266375}]
[12,9387,24,9396,24,9402,null,null,null,null,0,122]
[21,9502,22,9507,24,9516,null,null,null,null,0,222]
[12,9616,24,9626,24,9632,null,null,null,null,0,122,null,"Total Target Seq"]
[12,9730,24,9745,24,9751,null,null,null,null,0,122,null,{"$f":"COUNTIF(L7:L133,G3)","v":0},null,21,21,22,21,21,21]
[12,9851,24,9862,24,9871,null,null,null,null,0,122,null,null,null,"% of reinforcement given in 6 equal intervals based on number of trials "]
[12,9973,24,9985,24,9999,null,null,null,null,0,122,null,null,null,"%_1","%_2","%_3","%_4","%_5","%_6"]
[21,10096,22,10105,24,10123,null,null,null,null,0,222,null,null,"target sequence",{"$f":"$G$3","v":211},{"$f":"$G$3","v":211},{"$f":"$G$3","v":211},{"$f":"$G$3","v":211},{"$f":"$G$3","v":211},{"$f":"$G$3","v":211}]
[12,10226,24,10237,24,10252,null,null,null,null,0,122,null,null,"total reinforcement",{"$f":"U11","v":0},{"$f":"Z11","v":0},{"$f":"AE11","v":0},{"$f":"AJ11","v":0},{"$f":"AO11","v":0},{"$f":"AT11","v":0}]
[21,10362,22,10368,24,10376,null,null,null,null,0,222,null,null,"% target"]
[12,10474,24,10489,24,10495,null,null,null,null,0,122,null,null,"CCRF"]
[12,10595,24,10607,24,10625,null,null,null,null,0,122,null,null,"% CCRf"]
[21,10720,22,10761,24,10769,null,null,null,null,0,222,null,null,"average response rate",{"$f":"F27/P20","v":505.95238095238096},{"$f":"(F48-F27)/Q20","v":128},{"$f":"(F70-F48)/R20","v":123.45454545454545},{"$f":"(F91-F70)/S20","v":125},{"$f":"(F112-F91)/T20","v":127.57142857142857},{"$f":"(F133-F112)/U20","v":127}]
[21,10872,22,10877,24,10888,null,null,null,null,0,222]
[12,10990,24,11009,24,11021,null,null,null,null,0,122]
[12,11118,24,11130,24,11137,null,null,null,null,0,122]
[21,11236,22,11241,24,11249,null,null,null,null,0,222]
[12,11353,24,11362,24,11368,null,null,null,null,0,122]
[12,11465,13,11475,24,11488,null,null,null,null,0,112]
[21,11601,22,11625,24,11643,null,null,null,null,0,222]
[12,11740,24,11749,24,11753,null,null,null,null,0,122]
[12,11854,24,11872,24,11886,null,null,null,null,0,122]
[12,11985,24,12000,24,12005,null,null,null,null,0,122]
[12,12107,24,12121,24,12132,null,null,null,null,0,122]
[12,12235,24,12245,24,12250,null,null,null,null,0,122]
[12,12369,24,12380,24,12386,null,null,null,null,0,122]
[21,12485,22,12494,24,12511,null,null,null,null,0,222]
[12,12611,24,12626,24,12643,null,null,null,null,0,122]
[12,12745,24,12759,24,12776,null,null,null,null,0,122]
[12,12875,24,12888,24,12895,null,null,null,null,0,122]
[21,12994,22,12999,24,13009,null,null,null,null,0,222]
[12,13114,24,13128,24,13142,null,null,null,null,0,122]
[21,13264,22,13279,24,13313,null,null,null,null,0,222]
[12,13413,24,13424,24,13432,null,null,null,null,0,122]
[21,13526,22,13531,24,13537,null,null,null,null,0,222]
[21,13645,22,13651,24,13658,null,null,null,null,0,222]
[12,13762,24,13773,24,13779,null,null,null,null,0,122]
[12,13874,24,13884,24,13889,null,null,null,null,0,122]
[12,13991,24,14004,24,14010,null,null,null,null,0,122]
[12,14109,13,14122,24,14137,null,null,null,null,0,112]
[12,14239,13,14246,24,14261,null,null,null,null,0,112]
[12,14362,24,14372,24,14416,null,null,null,null,0,122]
[12,14515,13,14524,24,14537,null,null,null,null,0,112]
[21,14635,22,14639,24,14645,null,null,null,null,0,222]
[12,14749,24,14764,24,14770,null,null,null,null,0,122]
[12,14873,13,14886,24,14900,null,null,null,null,0,112]
[12,15001,13,15009,13,15018,null,null,null,null,0,111]
[12,15115,13,15124,13,15134,null,null,null,null,0,111]
[12,15237,13,15246,13,15254,null,null,null,null,0,111]
[21,15356,22,15367,24,15380,null,null,null,null,0,222]
[12,15481,24,15495,24,15519,null,null,null,null,0,122]
[12,15613,13,15622,13,15631,null,null,null,null,0,111]
[12,15732,24,15742,24,15751,null,null,null,null,0,122]
[21,15886,22,15895,24,15911,null,null,null,null,0,222]
[12,16009,13,16019,13,16029,null,null,null,null,0,111]
[12,16127,13,16135,13,16147,null,null,null,null,0,111]
[12,16251,13,16259,24,16270,null,null,null,null,0,112]
[12,16371,24,16385,24,16391,null,null,null,null,0,122]
[21,16491,22,16496,24,16502,null,null,null,null,0,222]
[12,16599,24,16607,24,16623,null,null,null,null,0,122]
[12,16726,24,16737,24,16743,null,null,null,null,0,122]
[21,16845,22,16850,24,16857,null,null,null,null,0,222]
[12,16958,24,16972,24,16977,null,null,null,null,0,122]
[12,17078,24,17091,24,17096,null,null,null,null,0,122]
[12,17197,24,17211,24,17217,null,null,null,null,0,122]
[12,17319,24,17329,24,17371,null,null,null,null,0,122]
[12,17474,24,17482,24,17487,null,null,null,null,0,122]
[12,17586,13,17595,24,17608,null,null,null,null,0,112]
[12,17711,24,17724,24,17787,null,null,null,null,0,122]
[21,17895,22,17904,24,17942,null,null,null,null,0,222]
[21,18046,22,18051,24,18060,null,null,null,null,0,222]
[12,18158,24,18168,24,18173,null,null,null,null,0,122]
[12,18272,13,18285,24,18300,null,null,null,null,0,112]
[12,18406,24,18420,24,18426,null,null,null,null,0,122]
[21,18524,22,18529,24,18534,null,null,null,null,0,222]
[21,18636,22,18640,24,18654,null,null,null,null,0,222]
[12,18763,24,18775,24,18781,null,null,null,null,0,122]
[12,18885,24,18894,24,18909,null,null,null,null,0,122]
[21,19010,22,19015,24,19021,null,null,null,null,0,222]
[21,19132,22,19137,24,19156,null,null,null,null,0,222]
[12,19260,24,19273,24,19279,null,null,null,null,0,122]
[12,19384,13,19393,24,19405,null,null,null,null,0,112]
[21,19519,22,19524,24,19537,null,null,null,null,0,222]
[21,19637,22,19643,24,19656,null,null,null,null,0,222]
[12,19754,13,19765,13,19773,null,null,null,null,0,111]
[12,19878,24,19891,24,19913,null,null,null,null,0,122]
[21,20015,22,20020,24,20036,null,null,null,null,0,222]
[21,20138,22,20144,24,20152,null,null,null,null,0,222]
[12,20254,24,20265,24,20271,null,null,null,null,0,122]
[12,20370,24,20385,24,20393,null,null,null,null,0,122]
[12,20497,13,20504,24,20516,null,null,null,null,0,112]
[12,20617,13,20626,24,20649,null,null,null,null,0,112]
[12,20754,24,20767,24,20774,null,null,null,null,0,122]
[21,20878,22,20945,24,20953,null,null,null,null,0,222]
[12,21053,13,21066,13,21076,null,null,null,null,0,111]
[21,21178,22,21196,24,21209,null,null,null,null,0,222]
[12,21311,13,21321,24,21333,null,null,null,null,0,112]
[12,21438,24,21453,24,21460,null,null,null,null,0,122]
[12,21560,24,21572,24,21593,null,null,null,null,0,122]
[12,21694,24,21709,24,21714,null,null,null,null,0,122]
[12,21815,13,21824,13,21834,null,null,null,null,0,111]
[12,21932,24,21951,24,21969,null,null,null,null,0,122]
[21,22064,22,22069,24,22078,null,null,null,null,0,222]
[21,22179,22,22184,24,22215,null,null,null,null,0,222]
[21,22315,22,22327,24,22348,null,null,null,null,0,222]
[12,22452,13,22458,13,22467,null,null,null,null,0,111]
[12,22565,13,22571,13,22579,null,null,null,null,0,111]
[21,22672,22,22678,24,22698,null,null,null,null,0,222]
[12,22797,24,22810,24,22828,null,null,null,null,0,122]
[12,22929,24,22941,24,22947,null,null,null,null,0,122]
[12,23050,24,23065,24,23071,null,null,null,null,0,122]
[12,23172,13,23181,13,23188,null,null,null,null,0,111]
[12,23288,13,23295,13,23304,null,null,null,null,0,111]
[21,23446,22,23491,24,23532,null,null,null,null,0,222]
[12,23632,13,23640,13,23649,null,null,null,null,0,111]
[12,23748,13,23755,13,23761,null,null,null,null,0,111]
[12,23863,24,23875,24,23881,null,null,null,null,0,122]
[21,23984,22,23988,24,24000,null,null,null,null,null,222]

{"sheet":"!MA11910.091","index":23,"n_rows":203,"n_cols":48,"rows_kept":203,"cut":false,"hidden":false,"merged":[[4,39,4,42],[5,39,5,40],[4,44,4,47],[5,44,5,45],[4,24,4,27],[5,24,5,25],[4,29,4,32],[5,29,5,30],[4,34,4,37],[5,34,5,35],[1,1,1,2],[5,13,5,14],[18,13,18,14],[19,13,19,14],[4,19,4,22],[5,19,5,20]]}
["Report for:!MA11910.091"]
["Date:","<date>"]
["Hen:","<hen>",null,null,null,"Correct Sequence",{"$f":"Start!J2","v":211},null,null,null,null,null,null,null,null,"Total Sequences in Data",{"$f":"4994-COUNTBLANK(L7:L5000)","v":197},null,null,null,null,"Total Sequences in Block Data",{"$f":"COUNTA(L7:L39)","v":33},null,null,null,"Total Sequences in Block Data",{"$f":"COUNTA(L40:L72)","v":33},null,null,null,"Total Sequences in Block Data",{"$f":"COUNTA(L73:L104)","v":32},null,null,null,"Total Sequences in Block Data",{"$f":"COUNTA(L105:L137)","v":33},null,null,null,"Total Sequences in Block Data",{"$f":"COUNTA(L138:L170)","v":33},null,null,null,"Total Sequences in Block Data",{"$f":"COUNTA(L171:L203)","v":33}]
[null,null,null,null,null,null,null,null,null,null,null,null,null,null,null,"Total Sequences in Summary",{"$f":"SUM(O7:O14)","v":197},null,null,null,null,"Total Sequences in Block Summary",{"$f":"SUM(U7:U14)","v":33},null,null,null,"Total Sequences in Block Summary",{"$f":"SUM(Z7:Z14)","v":33},null,null,null,"Total Sequences in Block Summary",{"$f":"SUM(AE7:AE14)","v":32},null,null,null,"Total Sequences in Block Summary",{"$f":"SUM(AJ7:AJ14)","v":33},null,null,null,"Total Sequences in Block Summary",{"$f":"SUM(AO7:AO14)","v":33},null,null,null,"Total Sequences in Block Summary",{"$f":"SUM(AT7:AT14)","v":33}]
[null,null,null,null,null,null,null,null,null,null,null,null,null,null,null,null,null,null,null,"Block 1",null,null,null,null,"Block 2",null,null,null,null,"Block 3",null,null,null,null,"Block 4",null,null,null,null,"Block 5",null,null,null,null,"Block 6"]
["Sequence\nComponent\n1","Time\n1","Sequence\nComponent\n2","Time\n2","Sequence\nComponent\n3","Time\n3","Sequence\nComponent\n4","Time\n4","Sequence\nComponent\n5","Time\n5","Correct?\n0=No 1=Yes","Sequence",null,"Frequency",null,"Relative Frequency","Variability",null,null,"Frequency",null,"Relative Frequency","Variability",null,"Frequency",null,"Relative Frequency","Variability",null,"Frequency",null,"Relative Frequency","Variability",null,"Frequency",null,"Relative Frequency","Variability",null,"Frequency",null,"Relative Frequency","Variability",null,"Frequency",null,"Relative Frequency","Variability"]
[21,9,22,14,24,22,null,null,null,null,0,222,null,111,{"$f":"COUNTIF($L$7:$L$500,N7)","v":77},{"$f":"O7/$Q$4","v":0.39086294416243655},{"$f":"IF(P7=0,0,(P7*((LOG(P7))/LOG(2))))","v":-0.52972297697783544},null,null,{"$f":"N7","v":111},{"$f":"COUNTIF(L7:L39,T7)","v":0},{"$f":"U7/(W4-U11)","v":0},{"$f":"IF(V7=0,0,(V7*((LOG(V7))/LOG(2))))","v":0},null,{"$f":"N7","v":111},{"$f":"COUNTIF(L40:L72,Y7)","v":12},{"$f":"Z7/(AB4-Z11)","v":0.36363636363636365},{"$f":"IF(AA7=0,0,(AA7*((LOG(AA7))/LOG(2))))","v":-0.53070240677719893},null,{"$f":"N7","v":111},{"$f":"COUNTIF(L73:L104,AD7)","v":22},{"$f":"AE7/(AG4-AE11)","v":0.6875},{"$f":"IF(AF7=0,0,(AF7*((LOG(AF7))/LOG(2))))","v":-0.3716407621868581},null,{"$f":"N7","v":111},{"$f":"COUNTIF(L105:L137,AI7)","v":13},{"$f":"AJ7/(AL4-AJ11)","v":0.39393939393939392},{"$f":"IF(AK7=0,0,(AK7*((LOG(AK7))/LOG(2))))","v":-0.52943658229774837},null,{"$f":"N7","v":111},{"$f":"COUNTIF(L138:L170,AN7)","v":18},{"$f":"AO7/(AQ4-AO11)","v":0.54545454545454541},{"$f":"IF(AP7=0,0,(AP7*((LOG(AP7))/LOG(2))))","v":-0.47698315522698609},null,{"$f":"N7","v":111},{"$f":"COUNTIF(L171:L203,AS7)","v":12},{"$f":"AT7/(AV4-AT11)","v":0.36363636363636365},{"$f":"IF(AU7=0,0,(AU7*((LOG(AU7))/LOG(2))))","v":-0.53070240677719893}]
[12,129,24,140,24,146,null,null,null,null,0,122,null,112,{"$f":"COUNTIF($L$7:$L$500,N8)","v":21},{"$f":"O8/$Q$4","v":0.1065989847715736},{"$f":"IF(P8=0,0,(P8*((LOG(P8))/LOG(2))))","v":-0.34428640776766467},null,null,{"$f":"N8","v":112},{"$f":"COUNTIF(L7:L39,T8)","v":9},{"$f":"U8/(W4-U11)","v":0.27272727272727271},{"$f":"IF(V8=0,0,(V8*((LOG(V8))/LOG(2))))","v":-0.51121885034076575},null,{"$f":"N8","v":112},{"$f":"COUNTIF(L40:L72,Y8)","v":2},{"$f":"Z8/(AB4-Z11)","v":6.0606060606060608E-2},{"$f":"IF(AA8=0,0,(AA8*((LOG(AA8))/LOG(2))))","v":-0.24511479511263354},null,{"$f":"N8","v":112},{"$f":"COUNTIF(L73:L104,AD8)","v":1},{"$f":"AE8/(AG4-AE11)","v":3.125E-2},{"$f":"IF(AF8=0,0,(AF8*((LOG(AF8))/LOG(2))))","v":-0.15625},null,{"$f":"N8","v":112},{"$f":"COUNTIF(L105:L137,AI8)","v":4},{"$f":"AJ8/(AL4-AJ11)","v":0.12121212121212122},{"$f":"IF(AK8=0,0,(AK8*((LOG(AK8))/LOG(2))))","v":-0.36901746901314586},null,{"$f":"N8","v":112},{"$f":"COUNTIF(L138:L170,AN8)","v":2},{"$f":"AO8/(AQ4-AO11)","v":6.0606060606060608E-2},{"$f":"IF(AP8=0,0,(AP8*((LOG(AP8))/LOG(2))))","v":-0.24511479511263354},null,{"$f":"N8","v":112},{"$f":"COUNTIF(L171:L203,AS8)","v":3},{"$f":"AT8/(AV4-AT11)","v":9.0909090909090912E-2},{"$f":"IF(AU8=0,0,(AU8*((LOG(AU8))/LOG(2))))","v":-0.31449378351248153}]
[21,254,22,263,24,276,null,null,null,null,0,222,null,121,{"$f":"COUNTIF($L$7:$L$500,N9)","v":0},{"$f":"O9/$Q$4","v":0},{"$f":"IF(P9=0,0,(P9*((LOG(P9))/LOG(2))))","v":0},null,null,{"$f":"N9","v":121},{"$f":"COUNTIF(L7:L39,T9)","v":0},{"$f":"U9/(W4-U11)","v":0},{"$f":"IF(V9=0,0,(V9*((LOG(V9))/LOG(2))))","v":0},null,{"$f":"N9","v":121},{"$f":"COUNTIF(L40:L72,Y9)","v":0},{"$f":"Z9/(AB4-Z11)","v":0},{"$f":"IF(AA9=0,0,(AA9*((LOG(AA9))/LOG(2))))","v":0},null,{"$f":"N9","v":121},{"$f":"COUNTIF(L73:L104,AD9)","v":0},{"$f":"AE9/(AG4-AE11)","v":0},{"$f":"IF(AF9=0,0,(AF9*((LOG(AF9))/LOG(2))))","v":0},null,{"$f":"N9","v":121},{"$f":"COUNTIF(L105:L137,AI9)","v":0},{"$f":"AJ9/(AL4-AJ11)","v":0},{"$f":"IF(AK9=0,0,(AK9*((LOG(AK9))/LOG(2))))","v":0},null,{"$f":"N9","v":121},{"$f":"COUNTIF(L138:L170,AN9)","v":0},{"$f":"AO9/(AQ4-AO11)","v":0},{"$f":"IF(AP9=0,0,(AP9*((LOG(AP9))/LOG(2))))","v":0},null,{"$f":"N9","v":121},{"$f":"COUNTIF(L171:L203,AS9)","v":0},{"$f":"AT9/(AV4-AT11)","v":0},{"$f":"IF(AU9=0,0,(AU9*((LOG(AU9))/LOG(2))))","v":0}]
[21,378,22,386,24,404,null,null,null,null,0,222,null,122,{"$f":"COUNTIF($L$7:$L$500,N10)","v":44},{"$f":"O10/$Q$4","v":0.2233502538071066},{"$f":"IF(P10=0,0,(P10*((LOG(P10))/LOG(2))))","v":-0.48302177074131719},null,null,{"$f":"N10","v":122},{"$f":"COUNTIF(L7:L39,T10)","v":14},{"$f":"U10/(W4-U11)","v":0.42424242424242425},{"$f":"IF(V10=0,0,(V10*((LOG(V10))/LOG(2))))","v":-0.52480450794581479},null,{"$f":"N10","v":122},{"$f":"COUNTIF(L40:L72,Y10)","v":9},{"$f":"Z10/(AB4-Z11)","v":0.27272727272727271},{"$f":"IF(AA10=0,0,(AA10*((LOG(AA10))/LOG(2))))","v":-0.51121885034076575},null,{"$f":"N10","v":122},{"$f":"COUNTIF(L73:L104,AD10)","v":4},{"$f":"AE10/(AG4-AE11)","v":0.125},{"$f":"IF(AF10=0,0,(AF10*((LOG(AF10))/LOG(2))))","v":-0.375},null,{"$f":"N10","v":122},{"$f":"COUNTIF(L105:L137,AI10)","v":5},{"$f":"AJ10/(AL4-AJ11)","v":0.15151515151515152},{"$f":"IF(AK10=0,0,(AK10*((LOG(AK10))/LOG(2))))","v":-0.41249485219258958},null,{"$f":"N10","v":122},{"$f":"COUNTIF(L138:L170,AN10)","v":4},{"$f":"AO10/(AQ4-AO11)","v":0.12121212121212122},{"$f":"IF(AP10=0,0,(AP10*((LOG(AP10))/LOG(2))))","v":-0.36901746901314586},null,{"$f":"N10","v":122},{"$f":"COUNTIF(L171:L203,AS10)","v":8},{"$f":"AT10/(AV4-AT11)","v":0.24242424242424243},{"$f":"IF(AU10=0,0,(AU10*((LOG(AU10))/LOG(2))))","v":-0.49561069560204934}]
[12,505,24,517,24,523,null,null,null,null,0,122,null,211,{"$f":"COUNTIF($L$7:$L$500,N11)","v":0},{"$f":"O11/$Q$4","v":0},{"$f":"IF(P11=0,0,(P11*((LOG(P11))/LOG(2))))","v":0},null,null,{"$f":"N11","v":211},{"$f":"COUNTIF(L7:L39,T11)","v":0},null,null,null,{"$f":"N11","v":211},{"$f":"COUNTIF(L40:L72,Y11)","v":0},null,null,null,{"$f":"N11","v":211},{"$f":"COUNTIF(L73:L104,AD11)","v":0},null,null,null,{"$f":"N11","v":211},{"$f":"COUNTIF(L105:L137,AI11)","v":0},null,null,null,{"$f":"N11","v":211},{"$f":"COUNTIF(L138:L170,AN11)","v":0},null,null,null,{"$f":"N11","v":211},{"$f":"COUNTIF(L171:L203,AS11)","v":0}]
[12,636,13,648,24,661,null,null,null,null,0,112,null,212,{"$f":"COUNTIF($L$7:$L$500,N12)","v":1},{"$f":"O12/$Q$4","v":5.076142131979695E-3},{"$f":"IF(P12=0,0,(P12*((LOG(P12))/LOG(2))))","v":-3.8690618372875005E-2},null,null,{"$f":"N12","v":212},{"$f":"COUNTIF(L7:L39,T12)","v":0},{"$f":"U12/(W4-U11)","v":0},{"$f":"IF(V12=0,0,(V12*((LOG(V12))/LOG(2))))","v":0},null,{"$f":"N12","v":212},{"$f":"COUNTIF(L40:L72,Y12)","v":1},{"$f":"Z12/(AB4-Z11)","v":3.0303030303030304E-2},{"$f":"IF(AA12=0,0,(AA12*((LOG(AA12))/LOG(2))))","v":-0.15286042785934709},null,{"$f":"N12","v":212},{"$f":"COUNTIF(L73:L104,AD12)","v":0},{"$f":"AE12/(AG4-AE11)","v":0},{"$f":"IF(AF12=0,0,(AF12*((LOG(AF12))/LOG(2))))","v":0},null,{"$f":"N12","v":212},{"$f":"COUNTIF(L105:L137,AI12)","v":0},{"$f":"AJ12/(AL4-AJ11)","v":0},{"$f":"IF(AK12=0,0,(AK12*((LOG(AK12))/LOG(2))))","v":0},null,{"$f":"N12","v":212},{"$f":"COUNTIF(L138:L170,AN12)","v":0},{"$f":"AO12/(AQ4-AO11)","v":0},{"$f":"IF(AP12=0,0,(AP12*((LOG(AP12))/LOG(2))))","v":0},null,{"$f":"N12","v":212},{"$f":"COUNTIF(L171:L203,AS12)","v":0},{"$f":"AT12/(AV4-AT11)","v":0},{"$f":"IF(AU12=0,0,(AU12*((LOG(AU12))/LOG(2))))","v":0}]
[12,762,24,776,24,801,null,null,null,null,0,122,null,221,{"$f":"COUNTIF($L$7:$L$500,N13)","v":0},{"$f":"O13/$Q$4","v":0},{"$f":"IF(P13=0,0,(P13*((LOG(P13))/LOG(2))))","v":0},null,null,{"$f":"N13","v":221},{"$f":"COUNTIF(L7:L39,T13)","v":0},{"$f":"U13/(W4-U11)","v":0},{"$f":"IF(V13=0,0,(V13*((LOG(V13))/LOG(2))))","v":0},null,{"$f":"N13","v":221},{"$f":"COUNTIF(L40:L72,Y13)","v":0},{"$f":"Z13/(AB4-Z11)","v":0},{"$f":"IF(AA13=0,0,(AA13*((LOG(AA13))/LOG(2))))","v":0},null,{"$f":"N13","v":221},{"$f":"COUNTIF(L73:L104,AD13)","v":0},{"$f":"AE13/(AG4-AE11)","v":0},{"$f":"IF(AF13=0,0,(AF13*((LOG(AF13))/LOG(2))))","v":0},null,{"$f":"N13","v":221},{"$f":"COUNTIF(L105:L137,AI13)","v":0},{"$f":"AJ13/(AL4-AJ11)","v":0},{"$f":"IF(AK13=0,0,(AK13*((LOG(AK13))/LOG(2))))","v":0},null,{"$f":"N13","v":221},{"$f":"COUNTIF(L138:L170,AN13)","v":0},{"$f":"AO13/(AQ4-AO11)","v":0},{"$f":"IF(AP13=0,0,(AP13*((LOG(AP13))/LOG(2))))","v":0},null,{"$f":"N13","v":221},{"$f":"COUNTIF(L171:L203,AS13)","v":0},{"$f":"AT13/(AV4-AT11)","v":0},{"$f":"IF(AU13=0,0,(AU13*((LOG(AU13))/LOG(2))))","v":0}]
[12,899,24,911,24,916,null,null,null,null,0,122,null,222,{"$f":"COUNTIF($L$7:$L$500,N14)","v":54},{"$f":"O14/$Q$4","v":0.27411167512690354},{"$f":"IF(P14=0,0,(P14*((LOG(P14))/LOG(2))))","v":-0.51181153875034013},null,null,{"$f":"N14","v":222},{"$f":"COUNTIF(L7:L39,T14)","v":10},{"$f":"U14/(W4-U11)","v":0.30303030303030304},{"$f":"IF(V14=0,0,(V14*((LOG(V14))/LOG(2))))","v":-0.52195940135487617},null,{"$f":"N14","v":222},{"$f":"COUNTIF(L40:L72,Y14)","v":9},{"$f":"Z14/(AB4-Z11)","v":0.27272727272727271},{"$f":"IF(AA14=0,0,(AA14*((LOG(AA14))/LOG(2))))","v":-0.51121885034076575},null,{"$f":"N14","v":222},{"$f":"COUNTIF(L73:L104,AD14)","v":5},{"$f":"AE14/(AG4-AE11)","v":0.15625},{"$f":"IF(AF14=0,0,(AF14*((LOG(AF14))/LOG(2))))","v":-0.41844873517384967},null,{"$f":"N14","v":222},{"$f":"COUNTIF(L105:L137,AI14)","v":11},{"$f":"AJ14/(AL4-AJ11)","v":0.33333333333333331},{"$f":"IF(AK14=0,0,(AK14*((LOG(AK14))/LOG(2))))","v":-0.52832083357371862},null,{"$f":"N14","v":222},{"$f":"COUNTIF(L138:L170,AN14)","v":9},{"$f":"AO14/(AQ4-AO11)","v":0.27272727272727271},{"$f":"IF(AP14=0,0,(AP14*((LOG(AP14))/LOG(2))))","v":-0.51121885034076575},null,{"$f":"N14","v":222},{"$f":"COUNTIF(L171:L203,AS14)","v":10},{"$f":"AT14/(AV4-AT11)","v":0.30303030303030304},{"$f":"IF(AU14=0,0,(AU14*((LOG(AU14))/LOG(2))))","v":-0.52195940135487617}]
[21,1012,22,1019,24,1039,null,null,null,null,0,222,null,null,null,{"$f":"SUM(P7:P14)","v":1},{"$f":"-SUM(Q7:Q14)","v":1.9075333126100324},null,null,null,null,{"$f":"SUM(V7:V14)","v":1},{"$f":"-SUM(W7:W14)","v":1.5579827596414568},null,null,null,{"$f":"SUM(AA7:AA14)","v":1},{"$f":"-SUM(AB7:AB14)","v":1.9511153304307109},null,null,null,{"$f":"SUM(AF7:AF14)","v":1},{"$f":"-SUM(AG7:AG14)","v":1.3213394973607078},null,null,null,{"$f":"SUM(AK7:AK14)","v":1},{"$f":"-SUM(AL7:AL14)","v":1.8392697370772024},null,null,null,{"$f":"SUM(AP7:AP14)","v":0.99999999999999989},{"$f":"-SUM(AQ7:AQ14)","v":1.6023342696935312},null,null,null,{"$f":"SUM(AU7:AU14)","v":1},{"$f":"-SUM(AV7:AV14)","v":1.8627662872466062}]
[12,1144,24,1171,24,1183,null,null,null,null,0,122,null,null,null,"U=",{"$f":"Q15/(LOG(Q4)/LOG(2))","v":0.25026506743771815},null,null,null,null,"U1=",{"$f":"W15/(LOG(W4)/LOG(2))","v":0.30885428909341472},null,null,null,"U2=",{"$f":"AB15/(LOG(AB4)/LOG(2))","v":0.38678883613456716},null,null,null,"U3=",{"$f":"AG15/(LOG(AG4)/LOG(2))","v":0.26426789947214158},null,null,null,"U4=",{"$f":"AL15/(LOG(AL4)/LOG(2))","v":0.36461658101193745},null,null,null,"U5=",{"$f":"AQ15/(LOG(AQ4)/LOG(2))","v":0.31764652637754565},null,null,null,"U6=",{"$f":"AV15/(LOG(AV4)/LOG(2))","v":0.36927453390250026}]
[21,1288,22,1305,24,1323,null,null,null,null,0,222]
[12,1422,24,1433,24,1439,null,null,null,null,0,122]
[21,1542,22,1551,24,1574,null,null,null,null,0,222,null,"Total Target Seq"]
[21,1671,22,1679,24,1695,null,null,null,null,0,222,null,{"$f":"COUNTIF(L7:L203,G3)","v":0},null,33,33,32,33,33,33]
[12,1794,24,1807,24,1814,null,null,null,null,0,122,null,null,null,"% of reinforcement given in 6 equal intervals based on number of trials "]
[12,1915,24,1926,24,1932,null,null,null,null,0,122,null,null,null,"%_1","%_2","%_3","%_4","%_5","%_6"]
[12,2031,13,2041,24,2055,null,null,null,null,0,112,null,null,"target sequence",{"$f":"$G$3","v":211},{"$f":"$G$3","v":211},{"$f":"$G$3","v":211},{"$f":"$G$3","v":211},{"$f":"$G$3","v":211},{"$f":"$G$3","v":211}]
[21,2156,22,2164,24,2170,null,null,null,null,0,222,null,null,"total reinforcement",{"$f":"U11","v":0},{"$f":"Z11","v":0},{"$f":"AE11","v":0},{"$f":"AJ11","v":0},{"$f":"AO11","v":0},{"$f":"AT11","v":0}]
[12,2270,24,2285,24,2295,null,null,null,null,0,122,null,null,"% target"]
[12,2405,24,2418,24,2459,null,null,null,null,0,122,null,null,"CCRF"]
[12,2560,24,2586,24,2600,null,null,null,null,0,122,null,null,"% CCRf"]
[12,2702,13,2712,24,2725,null,null,null,null,0,112,null,null,"average response rate",{"$f":"F39/P20","v":122.42424242424242},{"$f":"(F72-F39)/Q20","v":126.66666666666667},{"$f":"(F104-F72)/R20","v":120.40625},{"$f":"(F137-F104)/S20","v":121.18181818181819},{"$f":"(F170-F137)/T20","v":118.96969696969697},{"$f":"(F203-F170)/U20","v":120.42424242424242}]
[12,2826,13,2832,24,2846,null,null,null,null,0,112]
[12,2945,13,2954,24,2967,null,null,null,null,0,112]
[12,3064,13,3077,24,3088,null,null,null,null,0,112]
[21,3191,22,3196,24,3204,null,null,null,null,0,222]
[12,3308,24,3319,24,3332,null,null,null,null,0,122]
[12,3435,13,3445,24,3459,null,null,null,null,0,112]
[12,3560,24,3572,24,3578,null,null,null,null,0,122]
[12,3675,24,3687,24,3693,null,null,null,null,0,122]
[12,3788,13,3799,24,3811,null,null,null,null,0,112]
[12,3908,13,3917,24,3931,null,null,null,null,0,112]
[21,4029,22,4034,24,4040,null,null,null,null,0,222]
[12,4140,13,4154,13,4163,null,null,null,null,0,111]
[21,4278,22,4285,24,4307,null,null,null,null,0,222]
[21,4411,22,4416,24,4424,null,null,null,null,0,222]
[12,4527,24,4538,24,4568,null,null,null,null,0,122]
[21,4669,11,4689,22,4700,null,null,null,null,0,212]
[21,4802,22,4818,24,4827,null,null,null,null,0,222]
[12,4931,24,4952,24,4971,null,null,null,null,0,122]
[12,5074,24,5087,24,5093,null,null,null,null,0,122]
[12,5201,13,5211,24,5226,null,null,null,null,0,112]
[12,5326,24,5339,24,5351,null,null,null,null,0,122]
[21,5446,22,5451,24,5463,null,null,null,null,0,222]
[12,5567,24,5580,24,5595,null,null,null,null,0,122]
[12,5696,13,5705,13,5712,null,null,null,null,0,111]
[12,5810,13,5817,13,5822,null,null,null,null,0,111]
[12,5920,13,5925,13,5933,null,null,null,null,0,111]
[12,6035,24,6046,24,6065,null,null,null,null,0,122]
[21,6167,22,6200,24,6231,null,null,null,null,0,222]
[12,6341,24,6353,24,6358,null,null,null,null,0,122]
[21,6473,22,6485,24,6502,null,null,null,null,0,222]
[12,6600,13,6608,13,6617,null,null,null,null,0,111]
[12,6716,13,6724,13,6729,null,null,null,null,0,111]
[21,6824,22,6825,24,6847,null,null,null,null,0,222]
[12,6948,13,6957,24,6970,null,null,null,null,0,112]
[12,7068,13,7077,13,7082,null,null,null,null,0,111]
[21,7185,22,7204,24,7213,null,null,null,null,0,222]
[12,7313,13,7318,13,7325,null,null,null,null,0,111]
[12,7423,13,7432,13,7450,null,null,null,null,0,111]
[12,7552,13,7557,13,7564,null,null,null,null,0,111]
[21,7678,22,7684,24,7693,null,null,null,null,0,222]
[12,7788,13,7797,13,7803,null,null,null,null,0,111]
[12,7912,24,7922,24,7979,null,null,null,null,0,122]
[12,8082,24,8104,24,8110,null,null,null,null,0,122]
[12,8209,13,8214,13,8220,null,null,null,null,0,111]
[12,8319,13,8323,13,8334,null,null,null,null,0,111]
[12,8436,13,8449,13,8456,null,null,null,null,0,111]
[21,8559,22,8584,24,8598,null,null,null,null,0,222]
[12,8698,13,8704,13,8716,null,null,null,null,0,111]
[12,8818,24,8835,24,8842,null,null,null,null,0,122]
[12,8943,13,8952,13,8959,null,null,null,null,0,111]
[12,9059,13,9066,13,9072,null,null,null,null,0,111]
[12,9174,13,9181,13,9189,null,null,null,null,0,111]
[12,9286,13,9292,13,9299,null,null,null,null,0,111]
[12,9399,13,9405,13,9410,null,null,null,null,0,111]
[12,9510,13,9515,13,9522,null,null,null,null,0,111]
[21,9622,22,9627,24,9633,null,null,null,null,0,222]
[12,9738,13,9750,13,9755,null,null,null,null,0,111]
[12,9856,13,9860,13,9866,null,null,null,null,0,111]
[21,9962,22,9968,24,9974,null,null,null,null,0,222]
[12,10073,13,10086,13,10093,null,null,null,null,0,111]
[12,10194,13,10200,13,10208,null,null,null,null,0,111]
[12,10317,13,10321,13,10326,null,null,null,null,0,111]
[12,10427,13,10435,13,10443,null,null,null,null,0,111]
[12,10544,13,10552,13,10557,null,null,null,null,0,111]
[12,10658,13,10665,13,10674,null,null,null,null,0,111]
[12,10784,13,10792,24,10818,null,null,null,null,0,112]
[12,10929,13,10936,13,10944,null,null,null,null,0,111]
[12,11043,13,11048,13,11054,null,null,null,null,0,111]
[12,11165,13,11173,13,11182,null,null,null,null,0,111]
[12,11282,13,11288,13,11297,null,null,null,null,0,111]
[21,11399,22,11407,24,11428,null,null,null,null,0,222]
[12,11538,13,11545,13,11553,null,null,null,null,0,111]
[12,11653,24,11667,24,11673,null,null,null,null,0,122]
[12,11780,24,11808,24,11817,null,null,null,null,0,122]
[21,11919,22,11937,24,11947,null,null,null,null,0,222]
[12,12045,24,12067,24,12073,null,null,null,null,0,122]
[12,12175,24,12189,24,12196,null,null,null,null,0,122]
[12,12296,13,12304,13,12309,null,null,null,null,0,111]
[21,12415,22,12422,24,12430,null,null,null,null,0,222]
[12,12532,13,12537,13,12546,null,null,null,null,0,111]
[12,12650,13,12656,13,12660,null,null,null,null,0,111]
[21,12772,22,12777,24,12786,null,null,null,null,0,222]
[12,12902,24,12915,24,12920,null,null,null,null,0,122]
[21,13057,22,13067,24,13075,null,null,null,null,0,222]
[21,13182,22,13187,24,13194,null,null,null,null,0,222]
[21,13305,22,13310,24,13324,null,null,null,null,0,222]
[12,13430,13,13441,13,13448,null,null,null,null,0,111]
[12,13554,13,13567,13,13575,null,null,null,null,0,111]
[21,13676,22,13681,24,13687,null,null,null,null,0,222]
[12,13788,13,13795,24,13809,null,null,null,null,0,112]
[12,13911,13,13920,13,13925,null,null,null,null,0,111]
[21,14026,22,14036,24,14042,null,null,null,null,0,222]
[12,14136,24,14149,24,14155,null,null,null,null,0,122]
[12,14257,13,14262,24,14275,null,null,null,null,0,112]
[12,14378,13,14387,13,14396,null,null,null,null,0,111]
[12,14495,13,14505,24,14521,null,null,null,null,0,112]
[21,14619,22,14626,24,14632,null,null,null,null,0,222]
[12,14731,13,14737,13,14743,null,null,null,null,0,111]
[12,14844,13,14853,13,14860,null,null,null,null,0,111]
[21,14961,22,14966,24,14978,null,null,null,null,0,222]
[12,15081,13,15088,24,15100,null,null,null,null,0,112]
[12,15198,13,15206,13,15210,null,null,null,null,0,111]
[12,15318,13,15319,13,15334,null,null,null,null,0,111]
[12,15435,13,15444,13,15452,null,null,null,null,0,111]
[21,15557,22,15568,24,15585,null,null,null,null,0,222]
[12,15689,13,15697,13,15707,null,null,null,null,0,111]
[12,15806,24,15821,24,15826,null,null,null,null,0,122]
[12,15928,24,15942,24,15964,null,null,null,null,0,122]
[21,16063,22,16068,24,16072,null,null,null,null,0,222]
[12,16176,13,16189,13,16197,null,null,null,null,0,111]
[21,16299,22,16305,24,16311,null,null,null,null,0,222]
[21,16409,22,16413,24,16421,null,null,null,null,0,222]
[12,16521,24,16539,24,16547,null,null,null,null,0,122]
[12,16648,13,16658,24,16679,null,null,null,null,0,112]
[12,16783,13,16789,13,16798,null,null,null,null,0,111]
[12,16893,13,16902,13,16909,null,null,null,null,0,111]
[12,17010,13,17017,13,17026,null,null,null,null,0,111]
[12,17126,13,17132,24,17147,null,null,null,null,0,112]
[21,17247,22,17252,24,17261,null,null,null,null,0,222]
[21,17367,22,17382,24,17393,null,null,null,null,0,222]
[21,17495,22,17502,24,17510,null,null,null,null,0,222]
[12,17609,13,17617,13,17625,null,null,null,null,0,111]
[12,17724,13,17731,13,17736,null,null,null,null,0,111]
[12,17835,13,17842,13,17848,null,null,null,null,0,111]
[12,17949,13,17956,13,17961,null,null,null,null,0,111]
[12,18062,13,18067,13,18073,null,null,null,null,0,111]
[12,18172,24,18181,24,18186,null,null,null,null,0,122]
[12,18286,13,18299,13,18316,null,null,null,null,0,111]
[21,18433,22,18445,24,18463,null,null,null,null,0,222]
[12,18562,13,18571,13,18579,null,null,null,null,0,111]
[12,18681,13,18693,13,18701,null,null,null,null,0,111]
[12,18802,13,18812,13,18821,null,null,null,null,0,111]
[12,18923,24,18938,24,18943,null,null,null,null,0,122]
[12,19045,24,19062,24,19067,null,null,null,null,0,122]
[12,19174,13,19184,13,19196,null,null,null,null,0,111]
[12,19298,13,19305,13,19315,null,null,null,null,0,111]
[12,19415,13,19421,13,19430,null,null,null,null,0,111]
[12,19530,13,19535,13,19544,null,null,null,null,0,111]
[21,19641,22,19646,24,19655,null,null,null,null,0,222]
[21,19757,22,19761,24,19767,null,null,null,null,0,222]
[12,19870,13,19878,13,19887,null,null,null,null,0,111]
[21,19987,22,19992,24,19998,null,null,null,null,0,222]
[12,20105,13,20114,13,20122,null,null,null,null,0,111]
[12,20225,24,20242,24,20256,null,null,null,null,0,122]
[12,20360,13,20365,13,20371,null,null,null,null,0,111]
[21,20474,22,20479,24,20485,null,null,null,null,0,222]
[12,20587,24,20619,24,20627,null,null,null,null,0,122]
[21,20726,22,20734,24,20749,null,null,null,null,0,222]
[12,20852,24,20866,24,20871,null,null,null,null,0,122]
[12,20969,13,20983,13,20990,null,null,null,null,0,111]
[12,21086,24,21104,24,21111,null,null,null,null,0,122]
[21,21217,22,21222,24,21235,null,null,null,null,0,222]
[12,21334,13,21339,13,21346,null,null,null,null,0,111]
[21,21452,22,21457,24,21466,null,null,null,null,0,222]
[21,21569,22,21578,24,21585,null,null,null,null,0,222]
[12,21685,13,21692,24,21707,null,null,null,null,0,112]
[12,21804,13,21814,13,21822,null,null,null,null,0,111]
[12,21923,13,21932,24,21946,null,null,null,null,0,112]
[21,22051,22,22062,24,22075,null,null,null,null,0,222]
[12,22177,13,22182,13,22191,null,null,null,null,0,111]
[12,22292,24,22307,24,22314,null,null,null,null,0,122]
[12,22414,13,22423,13,22431,null,null,null,null,0,111]
[21,22536,22,22547,24,22560,null,null,null,null,0,222]
[12,22662,24,22675,24,22681,null,null,null,null,0,122]
[12,22780,13,22787,13,22799,null,null,null,null,0,111]
[12,22902,24,22920,24,22925,null,null,null,null,0,122]
[12,23026,13,23031,13,23037,null,null,null,null,0,111]
[12,23134,13,23140,13,23147,null,null,null,null,0,111]
[21,23251,22,23256,24,23264,null,null,null,null,0,222]
[21,23363,22,23368,24,23381,null,null,null,null,0,222]
[12,23482,13,23488,13,23494,null,null,null,null,0,111]
[12,23596,13,23604,24,23618,null,null,null,null,0,112]
[21,23721,22,23726,24,23737,null,null,null,null,0,222]
[12,23840,24,23857,24,23862,null,null,null,null,0,122]
[12,23959,13,23965,13,23972,null,null,null,null,null,111]

{"sheet":"!MA12A10.091","index":24,"n_rows":202,"n_cols":48,"rows_kept":202,"cut":false,"hidden":false,"merged":[[4,39,4,42],[5,39,5,40],[4,44,4,47],[5,44,5,45],[4,24,4,27],[5,24,5,25],[4,29,4,32],[5,29,5,30],[4,34,4,37],[5,34,5,35],[1,1,1,2],[5,13,5,14],[18,13,18,14],[19,13,19,14],[4,19,4,22],[5,19,5,20]]}
["Report for:!MA12A10.091"]
["Date:","<date>"]
["Hen:","<hen>",null,null,null,"Correct Sequence",{"$f":"Start!J2","v":211},null,null,null,null,null,null,null,null,"Total Sequences in Data",{"$f":"4994-COUNTBLANK(L7:L5000)","v":196},null,null,null,null,"Total Sequences in Block Data",{"$f":"COUNTA(L7:L39)","v":33},null,null,null,"Total Sequences in Block Data",{"$f":"COUNTA(L40:L71)","v":32},null,null,null,"Total Sequences in Block Data",{"$f":"COUNTA(L72:L104)","v":33},null,null,null,"Total Sequences in Block Data",{"$f":"COUNTA(L105:L137)","v":33},null,null,null,"Total Sequences in Block Data",{"$f":"COUNTA(L138:L169)","v":32},null,null,null,"Total Sequences in Block Data",{"$f":"COUNTA(L170:L202)","v":33}]
[null,null,null,null,null,null,null,null,null,null,null,null,null,null,null,"Total Sequences in Summary",{"$f":"SUM(O7:O14)","v":196},null,null,null,null,"Total Sequences in Block Summary",{"$f":"SUM(U7:U14)","v":33},null,null,null,"Total Sequences in Block Summary",{"$f":"SUM(Z7:Z14)","v":32},null,null,null,"Total Sequences in Block Summary",{"$f":"SUM(AE7:AE14)","v":33},null,null,null,"Total Sequences in Block Summary",{"$f":"SUM(AJ7:AJ14)","v":33},null,null,null,"Total Sequences in Block Summary",{"$f":"SUM(AO7:AO14)","v":32},null,null,null,"Total Sequences in Block Summary",{"$f":"SUM(AT7:AT14)","v":33}]
[null,null,null,null,null,null,null,null,null,null,null,null,null,null,null,null,null,null,null,"Block 1",null,null,null,null,"Block 2",null,null,null,null,"Block 3",null,null,null,null,"Block 4",null,null,null,null,"Block 5",null,null,null,null,"Block 6"]
["Sequence\nComponent\n1","Time\n1","Sequence\nComponent\n2","Time\n2","Sequence\nComponent\n3","Time\n3","Sequence\nComponent\n4","Time\n4","Sequence\nComponent\n5","Time\n5","Correct?\n0=No 1=Yes","Sequence",null,"Frequency",null,"Relative Frequency","Variability",null,null,"Frequency",null,"Relative Frequency","Variability",null,"Frequency",null,"Relative Frequency","Variability",null,"Frequency",null,"Relative Frequency","Variability",null,"Frequency",null,"Relative Frequency","Variability",null,"Frequency",null,"Relative Frequency","Variability",null,"Frequency",null,"Relative Frequency","Variability"]
[12,12,24,24,24,33,null,null,null,null,0,122,null,111,{"$f":"COUNTIF($L$7:$L$500,N7)","v":79},{"$f":"O7/$Q$4","v":0.40306122448979592},{"$f":"IF(P7=0,0,(P7*((LOG(P7))/LOG(2))))","v":-0.52838468662811389},null,null,{"$f":"N7","v":111},{"$f":"COUNTIF(L7:L39,T7)","v":2},{"$f":"U7/(W4-U11)","v":6.0606060606060608E-2},{"$f":"IF(V7=0,0,(V7*((LOG(V7))/LOG(2))))","v":-0.24511479511263354},null,{"$f":"N7","v":111},{"$f":"COUNTIF(L40:L71,Y7)","v":8},{"$f":"Z7/(AB4-Z11)","v":0.25},{"$f":"IF(AA7=0,0,(AA7*((LOG(AA7))/LOG(2))))","v":-0.5},null,{"$f":"N7","v":111},{"$f":"COUNTIF(L72:L104,AD7)","v":16},{"$f":"AE7/(AG4-AE11)","v":0.48484848484848486},{"$f":"IF(AF7=0,0,(AF7*((LOG(AF7))/LOG(2))))","v":-0.50637290635561383},null,{"$f":"N7","v":111},{"$f":"COUNTIF(L105:L137,AI7)","v":9},{"$f":"AJ7/(AL4-AJ11)","v":0.27272727272727271},{"$f":"IF(AK7=0,0,(AK7*((LOG(AK7))/LOG(2))))","v":-0.51121885034076575},null,{"$f":"N7","v":111},{"$f":"COUNTIF(L138:L169,AN7)","v":21},{"$f":"AO7/(AQ4-AO11)","v":0.65625},{"$f":"IF(AP7=0,0,(AP7*((LOG(AP7))/LOG(2))))","v":-0.3987916913014386},null,{"$f":"N7","v":111},{"$f":"COUNTIF(L170:L202,AS7)","v":23},{"$f":"AT7/(AV4-AT11)","v":0.69696969696969702},{"$f":"IF(AU7=0,0,(AU7*((LOG(AU7))/LOG(2))))","v":-0.36300423502827672}]
[21,136,22,141,24,150,null,null,null,null,0,222,null,112,{"$f":"COUNTIF($L$7:$L$500,N8)","v":12},{"$f":"O8/$Q$4","v":6.1224489795918366E-2},{"$f":"IF(P8=0,0,(P8*((LOG(P8))/LOG(2))))","v":-0.24671922510575831},null,null,{"$f":"N8","v":112},{"$f":"COUNTIF(L7:L39,T8)","v":3},{"$f":"U8/(W4-U11)","v":9.0909090909090912E-2},{"$f":"IF(V8=0,0,(V8*((LOG(V8))/LOG(2))))","v":-0.31449378351248153},null,{"$f":"N8","v":112},{"$f":"COUNTIF(L40:L71,Y8)","v":3},{"$f":"Z8/(AB4-Z11)","v":9.375E-2},{"$f":"IF(AA8=0,0,(AA8*((LOG(AA8))/LOG(2))))","v":-0.32015976555739156},null,{"$f":"N8","v":112},{"$f":"COUNTIF(L72:L104,AD8)","v":2},{"$f":"AE8/(AG4-AE11)","v":6.0606060606060608E-2},{"$f":"IF(AF8=0,0,(AF8*((LOG(AF8))/LOG(2))))","v":-0.24511479511263354},null,{"$f":"N8","v":112},{"$f":"COUNTIF(L105:L137,AI8)","v":2},{"$f":"AJ8/(AL4-AJ11)","v":6.0606060606060608E-2},{"$f":"IF(AK8=0,0,(AK8*((LOG(AK8))/LOG(2))))","v":-0.24511479511263354},null,{"$f":"N8","v":112},{"$f":"COUNTIF(L138:L169,AN8)","v":0},{"$f":"AO8/(AQ4-AO11)","v":0},{"$f":"IF(AP8=0,0,(AP8*((LOG(AP8))/LOG(2))))","v":0},null,{"$f":"N8","v":112},{"$f":"COUNTIF(L170:L202,AS8)","v":2},{"$f":"AT8/(AV4-AT11)","v":6.0606060606060608E-2},{"$f":"IF(AU8=0,0,(AU8*((LOG(AU8))/LOG(2))))","v":-0.24511479511263354}]
[12,255,24,264,24,271,null,null,null,null,0,122,null,121,{"$f":"COUNTIF($L$7:$L$500,N9)","v":0},{"$f":"O9/$Q$4","v":0},{"$f":"IF(P9=0,0,(P9*((LOG(P9))/LOG(2))))","v":0},null,null,{"$f":"N9","v":121},{"$f":"COUNTIF(L7:L39,T9)","v":0},{"$f":"U9/(W4-U11)","v":0},{"$f":"IF(V9=0,0,(V9*((LOG(V9))/LOG(2))))","v":0},null,{"$f":"N9","v":121},{"$f":"COUNTIF(L40:L71,Y9)","v":0},{"$f":"Z9/(AB4-Z11)","v":0},{"$f":"IF(AA9=0,0,(AA9*((LOG(AA9))/LOG(2))))","v":0},null,{"$f":"N9","v":121},{"$f":"COUNTIF(L72:L104,AD9)","v":0},{"$f":"AE9/(AG4-AE11)","v":0},{"$f":"IF(AF9=0,0,(AF9*((LOG(AF9))/LOG(2))))","v":0},null,{"$f":"N9","v":121},{"$f":"COUNTIF(L105:L137,AI9)","v":0},{"$f":"AJ9/(AL4-AJ11)","v":0},{"$f":"IF(AK9=0,0,(AK9*((LOG(AK9))/LOG(2))))","v":0},null,{"$f":"N9","v":121},{"$f":"COUNTIF(L138:L169,AN9)","v":0},{"$f":"AO9/(AQ4-AO11)","v":0},{"$f":"IF(AP9=0,0,(AP9*((LOG(AP9))/LOG(2))))","v":0},null,{"$f":"N9","v":121},{"$f":"COUNTIF(L170:L202,AS9)","v":0},{"$f":"AT9/(AV4-AT11)","v":0},{"$f":"IF(AU9=0,0,(AU9*((LOG(AU9))/LOG(2))))","v":0}]
[12,375,24,384,24,389,null,null,null,null,0,122,null,122,{"$f":"COUNTIF($L$7:$L$500,N10)","v":37},{"$f":"O10/$Q$4","v":0.18877551020408162},{"$f":"IF(P10=0,0,(P10*((LOG(P10))/LOG(2))))","v":-0.45405351889791606},null,null,{"$f":"N10","v":122},{"$f":"COUNTIF(L7:L39,T10)","v":16},{"$f":"U10/(W4-U11)","v":0.48484848484848486},{"$f":"IF(V10=0,0,(V10*((LOG(V10))/LOG(2))))","v":-0.50637290635561383},null,{"$f":"N10","v":122},{"$f":"COUNTIF(L40:L71,Y10)","v":8},{"$f":"Z10/(AB4-Z11)","v":0.25},{"$f":"IF(AA10=0,0,(AA10*((LOG(AA10))/LOG(2))))","v":-0.5},null,{"$f":"N10","v":122},{"$f":"COUNTIF(L72:L104,AD10)","v":2},{"$f":"AE10/(AG4-AE11)","v":6.0606060606060608E-2},{"$f":"IF(AF10=0,0,(AF10*((LOG(AF10))/LOG(2))))","v":-0.24511479511263354},null,{"$f":"N10","v":122},{"$f":"COUNTIF(L105:L137,AI10)","v":5},{"$f":"AJ10/(AL4-AJ11)","v":0.15151515151515152},{"$f":"IF(AK10=0,0,(AK10*((LOG(AK10))/LOG(2))))","v":-0.41249485219258958},null,{"$f":"N10","v":122},{"$f":"COUNTIF(L138:L169,AN10)","v":4},{"$f":"AO10/(AQ4-AO11)","v":0.125},{"$f":"IF(AP10=0,0,(AP10*((LOG(AP10))/LOG(2))))","v":-0.375},null,{"$f":"N10","v":122},{"$f":"COUNTIF(L170:L202,AS10)","v":2},{"$f":"AT10/(AV4-AT11)","v":6.0606060606060608E-2},{"$f":"IF(AU10=0,0,(AU10*((LOG(AU10))/LOG(2))))","v":-0.24511479511263354}]
[21,486,22,492,24,501,null,null,null,null,0,222,null,211,{"$f":"COUNTIF($L$7:$L$500,N11)","v":0},{"$f":"O11/$Q$4","v":0},{"$f":"IF(P11=0,0,(P11*((LOG(P11))/LOG(2))))","v":0},null,null,{"$f":"N11","v":211},{"$f":"COUNTIF(L7:L39,T11)","v":0},null,null,null,{"$f":"N11","v":211},{"$f":"COUNTIF(L40:L71,Y11)","v":0},null,null,null,{"$f":"N11","v":211},{"$f":"COUNTIF(L72:L104,AD11)","v":0},null,null,null,{"$f":"N11","v":211},{"$f":"COUNTIF(L105:L137,AI11)","v":0},null,null,null,{"$f":"N11","v":211},{"$f":"COUNTIF(L138:L169,AN11)","v":0},null,null,null,{"$f":"N11","v":211},{"$f":"COUNTIF(L170:L202,AS11)","v":0}]
[21,597,22,614,24,646,null,null,null,null,0,222,null,212,{"$f":"COUNTIF($L$7:$L$500,N12)","v":0},{"$f":"O12/$Q$4","v":0},{"$f":"IF(P12=0,0,(P12*((LOG(P12))/LOG(2))))","v":0},null,null,{"$f":"N12","v":212},{"$f":"COUNTIF(L7:L39,T12)","v":0},{"$f":"U12/(W4-U11)","v":0},{"$f":"IF(V12=0,0,(V12*((LOG(V12))/LOG(2))))","v":0},null,{"$f":"N12","v":212},{"$f":"COUNTIF(L40:L71,Y12)","v":0},{"$f":"Z12/(AB4-Z11)","v":0},{"$f":"IF(AA12=0,0,(AA12*((LOG(AA12))/LOG(2))))","v":0},null,{"$f":"N12","v":212},{"$f":"COUNTIF(L72:L104,AD12)","v":0},{"$f":"AE12/(AG4-AE11)","v":0},{"$f":"IF(AF12=0,0,(AF12*((LOG(AF12))/LOG(2))))","v":0},null,{"$f":"N12","v":212},{"$f":"COUNTIF(L105:L137,AI12)","v":0},{"$f":"AJ12/(AL4-AJ11)","v":0},{"$f":"IF(AK12=0,0,(AK12*((LOG(AK12))/LOG(2))))","v":0},null,{"$f":"N12","v":212},{"$f":"COUNTIF(L138:L169,AN12)","v":0},{"$f":"AO12/(AQ4-AO11)","v":0},{"$f":"IF(AP12=0,0,(AP12*((LOG(AP12))/LOG(2))))","v":0},null,{"$f":"N12","v":212},{"$f":"COUNTIF(L170:L202,AS12)","v":0},{"$f":"AT12/(AV4-AT11)","v":0},{"$f":"IF(AU12=0,0,(AU12*((LOG(AU12))/LOG(2))))","v":0}]
[21,745,22,752,24,761,null,null,null,null,0,222,null,221,{"$f":"COUNTIF($L$7:$L$500,N13)","v":0},{"$f":"O13/$Q$4","v":0},{"$f":"IF(P13=0,0,(P13*((LOG(P13))/LOG(2))))","v":0},null,null,{"$f":"N13","v":221},{"$f":"COUNTIF(L7:L39,T13)","v":0},{"$f":"U13/(W4-U11)","v":0},{"$f":"IF(V13=0,0,(V13*((LOG(V13))/LOG(2))))","v":0},null,{"$f":"N13","v":221},{"$f":"COUNTIF(L40:L71,Y13)","v":0},{"$f":"Z13/(AB4-Z11)","v":0},{"$f":"IF(AA13=0,0,(AA13*((LOG(AA13))/LOG(2))))","v":0},null,{"$f":"N13","v":221},{"$f":"COUNTIF(L72:L104,AD13)","v":0},{"$f":"AE13/(AG4-AE11)","v":0},{"$f":"IF(AF13=0,0,(AF13*((LOG(AF13))/LOG(2))))","v":0},null,{"$f":"N13","v":221},{"$f":"COUNTIF(L105:L137,AI13)","v":0},{"$f":"AJ13/(AL4-AJ11)","v":0},{"$f":"IF(AK13=0,0,(AK13*((LOG(AK13))/LOG(2))))","v":0},null,{"$f":"N13","v":221},{"$f":"COUNTIF(L138:L169,AN13)","v":0},{"$f":"AO13/(AQ4-AO11)","v":0},{"$f":"IF(AP13=0,0,(AP13*((LOG(AP13))/LOG(2))))","v":0},null,{"$f":"N13","v":221},{"$f":"COUNTIF(L170:L202,AS13)","v":0},{"$f":"AT13/(AV4-AT11)","v":0},{"$f":"IF(AU13=0,0,(AU13*((LOG(AU13))/LOG(2))))","v":0}]
[12,865,24,874,24,882,null,null,null,null,0,122,null,222,{"$f":"COUNTIF($L$7:$L$500,N14)","v":68},{"$f":"O14/$Q$4","v":0.34693877551020408},{"$f":"IF(P14=0,0,(P14*((LOG(P14))/LOG(2))))","v":-0.52986120507556678},null,null,{"$f":"N14","v":222},{"$f":"COUNTIF(L7:L39,T14)","v":12},{"$f":"U14/(W4-U11)","v":0.36363636363636365},{"$f":"IF(V14=0,0,(V14*((LOG(V14))/LOG(2))))","v":-0.53070240677719893},null,{"$f":"N14","v":222},{"$f":"COUNTIF(L40:L71,Y14)","v":13},{"$f":"Z14/(AB4-Z11)","v":0.40625},{"$f":"IF(AA14=0,0,(AA14*((LOG(AA14))/LOG(2))))","v":-0.52794636450518129},null,{"$f":"N14","v":222},{"$f":"COUNTIF(L72:L104,AD14)","v":13},{"$f":"AE14/(AG4-AE11)","v":0.39393939393939392},{"$f":"IF(AF14=0,0,(AF14*((LOG(AF14))/LOG(2))))","v":-0.52943658229774837},null,{"$f":"N14","v":222},{"$f":"COUNTIF(L105:L137,AI14)","v":17},{"$f":"AJ14/(AL4-AJ11)","v":0.51515151515151514},{"$f":"IF(AK14=0,0,(AK14*((LOG(AK14))/LOG(2))))","v":-0.49296459781327084},null,{"$f":"N14","v":222},{"$f":"COUNTIF(L138:L169,AN14)","v":7},{"$f":"AO14/(AQ4-AO11)","v":0.21875},{"$f":"IF(AP14=0,0,(AP14*((LOG(AP14))/LOG(2))))","v":-0.47964111079989907},null,{"$f":"N14","v":222},{"$f":"COUNTIF(L170:L202,AS14)","v":6},{"$f":"AT14/(AV4-AT11)","v":0.18181818181818182},{"$f":"IF(AU14=0,0,(AU14*((LOG(AU14))/LOG(2))))","v":-0.44716938520678134}]
[12,981,24,991,24,997,null,null,null,null,0,122,null,null,null,{"$f":"SUM(P7:P14)","v":1},{"$f":"-SUM(Q7:Q14)","v":1.7590186357073549},null,null,null,null,{"$f":"SUM(V7:V14)","v":1},{"$f":"-SUM(W7:W14)","v":1.5966838917579276},null,null,null,{"$f":"SUM(AA7:AA14)","v":1},{"$f":"-SUM(AB7:AB14)","v":1.8481061300625727},null,null,null,{"$f":"SUM(AF7:AF14)","v":0.99999999999999989},{"$f":"-SUM(AG7:AG14)","v":1.5260390788786293},null,null,null,{"$f":"SUM(AK7:AK14)","v":1},{"$f":"-SUM(AL7:AL14)","v":1.6617930954592597},null,null,null,{"$f":"SUM(AP7:AP14)","v":1},{"$f":"-SUM(AQ7:AQ14)","v":1.2534328021013377},null,null,null,{"$f":"SUM(AU7:AU14)","v":1},{"$f":"-SUM(AV7:AV14)","v":1.3004032104603251}]
[21,1098,22,1103,24,1117,null,null,null,null,0,222,null,null,null,"U=",{"$f":"Q15/(LOG(Q4)/LOG(2))","v":0.23100271339514769},null,null,null,null,"U1=",{"$f":"W15/(LOG(W4)/LOG(2))","v":0.31652639622872963},null,null,null,"U2=",{"$f":"AB15/(LOG(AB4)/LOG(2))","v":0.36962122601251457},null,null,null,"U3=",{"$f":"AG15/(LOG(AG4)/LOG(2))","v":0.30252177818982773},null,null,null,"U4=",{"$f":"AL15/(LOG(AL4)/LOG(2))","v":0.32943363586162588},null,null,null,"U5=",{"$f":"AQ15/(LOG(AQ4)/LOG(2))","v":0.25068656042026755},null,null,null,"U6=",{"$f":"AV15/(LOG(AV4)/LOG(2))","v":0.25779175450821251}]
[12,1222,24,1231,24,1239,null,null,null,null,0,122]
[12,1338,24,1346,24,1352,null,null,null,null,0,122]
[12,1458,24,1471,24,1483,null,null,null,null,0,122,null,"Total Target Seq"]
[12,1584,24,1593,24,1618,null,null,null,null,0,122,null,{"$f":"COUNTIF(L7:L202,G3)","v":0},null,33,32,33,33,32,33]
[12,1721,24,1731,24,1744,null,null,null,null,0,122,null,null,null,"% of reinforcement given in 6 equal intervals based on number of trials "]
[12,1842,24,1857,24,1872,null,null,null,null,0,122,null,null,null,"%_1","%_2","%_3","%_4","%_5","%_6"]
[12,1975,24,1985,24,1994,null,null,null,null,0,122,null,null,"target sequence",{"$f":"$G$3","v":211},{"$f":"$G$3","v":211},{"$f":"$G$3","v":211},{"$f":"$G$3","v":211},{"$f":"$G$3","v":211},{"$f":"$G$3","v":211}]
[21,2089,22,2094,24,2102,null,null,null,null,0,222,null,null,"total reinforcement",{"$f":"U11","v":0},{"$f":"Z11","v":0},{"$f":"AE11","v":0},{"$f":"AJ11","v":0},{"$f":"AO11","v":0},{"$f":"AT11","v":0}]
[12,2203,24,2223,24,2229,null,null,null,null,0,122,null,null,"% target"]
[21,2329,22,2352,24,2370,null,null,null,null,0,222,null,null,"CCRF"]
[12,2471,13,2480,24,2494,null,null,null,null,0,112,null,null,"% CCRf"]
[21,2596,22,2607,24,2634,null,null,null,null,0,222,null,null,"average response rate",{"$f":"F39/P20","v":123},{"$f":"(F71-F39)/Q20","v":125},{"$f":"(F104-F71)/R20","v":123.90909090909091},{"$f":"(F137-F104)/S20","v":121.81818181818181},{"$f":"(F169-F137)/T20","v":119.65625},{"$f":"(F202-F169)/U20","v":120.96969696969697}]
[21,2750,22,2759,24,2783,null,null,null,null,0,222]
[12,2884,13,2894,24,2909,null,null,null,null,0,112]
[21,3012,22,3041,24,3049,null,null,null,null,0,222]
[12,3150,24,3167,24,3175,null,null,null,null,0,122]
[12,3275,13,3284,13,3291,null,null,null,null,0,111]
[21,3396,22,3404,24,3413,null,null,null,null,0,222]
[12,3514,13,3521,13,3526,null,null,null,null,0,111]
[21,3638,22,3653,24,3682,null,null,null,null,0,222]
[12,3788,24,3805,24,3814,null,null,null,null,0,122]
[12,3917,13,3930,24,3946,null,null,null,null,0,112]
[12,4044,24,4054,24,4059,null,null,null,null,0,122]
[12,4160,13,4170,24,4183,null,null,null,null,0,112]
[12,4283,13,4294,24,4313,null,null,null,null,0,112]
[21,4413,22,4417,24,4425,null,null,null,null,0,222]
[12,4531,24,4552,24,4561,null,null,null,null,0,122]
[12,4662,24,4672,24,4677,null,null,null,null,0,122]
[21,4774,22,4780,24,4785,null,null,null,null,0,222]
[12,4898,13,4908,13,4916,null,null,null,null,0,111]
[21,5021,22,5026,24,5036,null,null,null,null,0,222]
[21,5133,22,5145,24,5173,null,null,null,null,0,222]
[12,5276,13,5285,13,5294,null,null,null,null,0,111]
[21,5409,22,5430,24,5444,null,null,null,null,0,222]
[21,5563,22,5568,24,5575,null,null,null,null,0,222]
[12,5675,13,5683,13,5694,null,null,null,null,0,111]
[12,5799,13,5811,13,5817,null,null,null,null,0,111]
[12,5919,13,5924,13,5934,null,null,null,null,0,111]
[12,6037,24,6053,24,6061,null,null,null,null,0,122]
[21,6178,22,6183,24,6192,null,null,null,null,0,222]
[12,6290,24,6300,24,6305,null,null,null,null,0,122]
[21,6402,22,6407,24,6412,null,null,null,null,0,222]
[12,6516,13,6523,13,6538,null,null,null,null,0,111]
[12,6644,24,6657,24,6664,null,null,null,null,0,122]
[12,6765,13,6776,13,6782,null,null,null,null,0,111]
[21,6891,22,6904,24,6935,null,null,null,null,0,222]
[21,7045,22,7051,24,7061,null,null,null,null,0,222]
[21,7156,22,7162,24,7168,null,null,null,null,0,222]
[12,7275,24,7284,24,7289,null,null,null,null,0,122]
[12,7392,24,7406,24,7413,null,null,null,null,0,122]
[12,7513,24,7530,24,7546,null,null,null,null,0,122]
[21,7651,22,7664,24,7675,null,null,null,null,0,222]
[21,7782,22,7790,24,7801,null,null,null,null,0,222]
[12,7910,13,7919,24,7938,null,null,null,null,0,112]
[12,8039,13,8049,13,8059,null,null,null,null,0,111]
[21,8160,22,8178,24,8186,null,null,null,null,0,222]
[12,8286,13,8295,13,8303,null,null,null,null,0,111]
[12,8404,13,8413,24,8423,null,null,null,null,0,112]
[12,8527,24,8545,24,8552,null,null,null,null,0,122]
[12,8654,13,8661,13,8670,null,null,null,null,0,111]
[12,8772,13,8779,13,8786,null,null,null,null,0,111]
[21,8889,22,8902,24,8910,null,null,null,null,0,222]
[21,9013,22,9018,24,9027,null,null,null,null,0,222]
[21,9133,22,9138,24,9147,null,null,null,null,0,222]
[12,9245,13,9252,13,9260,null,null,null,null,0,111]
[21,9388,22,9397,24,9423,null,null,null,null,0,222]
[12,9526,13,9532,13,9537,null,null,null,null,0,111]
[12,9638,13,9646,24,9660,null,null,null,null,0,112]
[12,9758,13,9766,13,9772,null,null,null,null,0,111]
[12,9880,13,9891,13,9899,null,null,null,null,0,111]
[12,10002,13,10011,13,10020,null,null,null,null,0,111]
[12,10124,13,10130,13,10143,null,null,null,null,0,111]
[21,10245,22,10250,24,10292,null,null,null,null,0,222]
[12,10392,13,10397,13,10403,null,null,null,null,0,111]
[12,10502,13,10509,13,10515,null,null,null,null,0,111]
[21,10620,22,10626,24,10634,null,null,null,null,0,222]
[21,10736,22,10742,24,10752,null,null,null,null,0,222]
[21,10856,22,10861,24,10880,null,null,null,null,0,222]
[12,10980,13,10986,13,11007,null,null,null,null,0,111]
[21,11113,22,11119,24,11128,null,null,null,null,0,222]
[12,11236,24,11249,24,11255,null,null,null,null,0,122]
[21,11353,22,11358,24,11363,null,null,null,null,0,222]
[12,11469,13,11485,13,11496,null,null,null,null,0,111]
[12,11605,13,11610,13,11632,null,null,null,null,0,111]
[12,11736,13,11748,13,11753,null,null,null,null,0,111]
[21,11877,22,11894,24,11908,null,null,null,null,0,222]
[21,12018,22,12026,24,12034,null,null,null,null,0,222]
[12,12135,13,12143,13,12148,null,null,null,null,0,111]
[12,12252,13,12257,13,12261,null,null,null,null,0,111]
[12,12363,13,12369,13,12373,null,null,null,null,0,111]
[21,12479,22,12484,24,12490,null,null,null,null,0,222]
[21,12599,22,12604,24,12624,null,null,null,null,0,222]
[12,12726,24,12743,24,12752,null,null,null,null,0,122]
[21,12856,22,12866,24,12874,null,null,null,null,0,222]
[21,12979,22,12984,24,12989,null,null,null,null,0,222]
[12,13089,24,13126,24,13141,null,null,null,null,0,122]
[21,13236,22,13241,24,13246,null,null,null,null,0,222]
[21,13351,22,13355,24,13374,null,null,null,null,0,222]
[12,13484,13,13491,13,13499,null,null,null,null,0,111]
[12,13599,24,13617,24,13624,null,null,null,null,0,122]
[21,13722,22,13728,24,13739,null,null,null,null,0,222]
[12,13840,13,13847,13,13851,null,null,null,null,0,111]
[21,13938,22,13947,24,13952,null,null,null,null,0,222]
[12,14062,13,14070,24,14086,null,null,null,null,0,112]
[12,14191,24,14204,24,14208,null,null,null,null,0,122]
[21,14313,22,14317,24,14325,null,null,null,null,0,222]
[12,14427,13,14432,13,14437,null,null,null,null,0,111]
[21,14532,22,14538,24,14544,null,null,null,null,0,222]
[12,14643,13,14651,24,14664,null,null,null,null,0,112]
[21,14763,22,14768,24,14775,null,null,null,null,0,222]
[12,14876,13,14881,13,14888,null,null,null,null,0,111]
[21,14988,22,14992,24,14997,null,null,null,null,0,222]
[21,15102,22,15111,24,15118,null,null,null,null,0,222]
[12,15219,13,15230,13,15235,null,null,null,null,0,111]
[12,15353,13,15358,13,15370,null,null,null,null,0,111]
[21,15476,22,15485,24,15503,null,null,null,null,0,222]
[21,15612,22,15619,24,15635,null,null,null,null,0,222]
[21,15738,22,15765,24,15774,null,null,null,null,0,222]
[12,15889,24,15904,24,15917,null,null,null,null,0,122]
[21,16021,22,16045,24,16056,null,null,null,null,0,222]
[12,16156,13,16163,13,16168,null,null,null,null,0,111]
[12,16268,13,16273,13,16278,null,null,null,null,0,111]
[12,16378,13,16382,13,16388,null,null,null,null,0,111]
[12,16495,24,16513,24,16526,null,null,null,null,0,122]
[21,16643,22,16653,24,16665,null,null,null,null,0,222]
[12,16775,13,16784,13,16790,null,null,null,null,0,111]
[12,16890,13,16894,13,16899,null,null,null,null,0,111]
[21,17000,22,17016,24,17024,null,null,null,null,0,222]
[21,17135,22,17157,24,17164,null,null,null,null,0,222]
[12,17264,13,17273,13,17281,null,null,null,null,0,111]
[12,17382,13,17390,13,17397,null,null,null,null,0,111]
[12,17501,24,17522,24,17528,null,null,null,null,0,122]
[12,17630,13,17644,13,17651,null,null,null,null,0,111]
[12,17753,13,17761,13,17768,null,null,null,null,0,111]
[12,17870,13,17875,13,17881,null,null,null,null,0,111]
[12,17976,13,17985,13,17992,null,null,null,null,0,111]
[12,18099,24,18112,24,18126,null,null,null,null,0,122]
[12,18238,24,18260,24,18267,null,null,null,null,0,122]
[12,18368,13,18373,13,18382,null,null,null,null,0,111]
[12,18482,13,18487,13,18497,null,null,null,null,0,111]
[12,18597,13,18602,13,18614,null,null,null,null,0,111]
[21,18712,22,18722,24,18729,null,null,null,null,0,222]
[12,18828,13,18833,13,18843,null,null,null,null,0,111]
[12,18943,13,18952,13,18965,null,null,null,null,0,111]
[12,19066,13,19073,13,19081,null,null,null,null,0,111]
[21,19185,22,19189,24,19194,null,null,null,null,0,222]
[12,19296,13,19301,13,19306,null,null,null,null,0,111]
[21,19409,22,19414,24,19426,null,null,null,null,0,222]
[12,19528,13,19535,13,19541,null,null,null,null,0,111]
[12,19645,13,19651,13,19656,null,null,null,null,0,111]
[12,19759,13,19768,13,19773,null,null,null,null,0,111]
[21,19876,22,19881,24,19886,null,null,null,null,0,222]
[12,19988,13,19992,13,19997,null,null,null,null,0,111]
[12,20106,13,20116,13,20121,null,null,null,null,0,111]
[12,20228,13,20233,13,20244,null,null,null,null,0,111]
[12,20347,13,20354,13,20359,null,null,null,null,0,111]
[12,20453,24,20482,24,20491,null,null,null,null,0,122]
[12,20592,24,20613,24,20621,null,null,null,null,0,122]
[12,20724,13,20731,13,20740,null,null,null,null,0,111]
[12,20840,13,20847,13,20852,null,null,null,null,0,111]
[12,20950,13,20956,13,20969,null,null,null,null,0,111]
[21,21078,22,21083,24,21098,null,null,null,null,0,222]
[12,21201,13,21215,24,21230,null,null,null,null,0,112]
[12,21331,13,21344,13,21352,null,null,null,null,0,111]
[12,21448,13,21452,13,21463,null,null,null,null,0,111]
[12,21564,13,21570,13,21578,null,null,null,null,0,111]
[12,21678,13,21680,13,21687,null,null,null,null,0,111]
[12,21801,13,21821,13,21827,null,null,null,null,0,111]
[12,21929,13,21934,13,21940,null,null,null,null,0,111]
[12,22042,13,22052,13,22057,null,null,null,null,0,111]
[12,22157,13,22166,13,22171,null,null,null,null,0,111]
[12,22274,13,22288,13,22297,null,null,null,null,0,111]
[21,22398,22,22406,24,22411,null,null,null,null,0,222]
[12,22514,13,22523,13,22528,null,null,null,null,0,111]
[12,22626,13,22633,13,22641,null,null,null,null,0,111]
[12,22746,13,22751,13,22763,null,null,null,null,0,111]
[12,22864,13,22871,13,22880,null,null,null,null,0,111]
[12,22981,13,22991,24,23010,null,null,null,null,0,112]
[21,23116,22,23124,24,23130,null,null,null,null,0,222]
[12,23235,13,23243,13,23251,null,null,null,null,0,111]
[12,23353,13,23360,13,23365,null,null,null,null,0,111]
[21,23475,22,23485,24,23492,null,null,null,null,0,222]
[21,23610,22,23626,24,23644,null,null,null,null,0,222]
[12,23747,13,23753,13,23759,null,null,null,null,0,111]
[12,23859,13,23864,13,23869,null,null,null,null,0,111]
[21,23979,22,23984,24,23989,null,null,null,null,1,222]

{"sheet":"!MA13900.091","index":25,"n_rows":203,"n_cols":48,"rows_kept":203,"cut":false,"hidden":false,"merged":[[4,39,4,42],[5,39,5,40],[4,44,4,47],[5,44,5,45],[4,24,4,27],[5,24,5,25],[4,29,4,32],[5,29,5,30],[4,34,4,37],[5,34,5,35],[1,1,1,2],[5,13,5,14],[18,13,18,14],[19,13,19,14],[4,19,4,22],[5,19,5,20]]}
["Report for:!MA13900.091"]
["Date:","<date>"]
["Hen:","<hen>",null,null,null,"Correct Sequence",{"$f":"Start!J2","v":211},null,null,null,null,null,null,null,null,"Total Sequences in Data",{"$f":"4994-COUNTBLANK(L7:L5000)","v":197},null,null,null,null,"Total Sequences in Block Data",{"$f":"COUNTA(L7:L39)","v":33},null,null,null,"Total Sequences in Block Data",{"$f":"COUNTA(L40:L72)","v":33},null,null,null,"Total Sequences in Block Data",{"$f":"COUNTA(L73:L104)","v":32},null,null,null,"Total Sequences in Block Data",{"$f":"COUNTA(L105:L137)","v":33},null,null,null,"Total Sequences in Block Data",{"$f":"COUNTA(L138:L170)","v":33},null,null,null,"Total Sequences in Block Data",{"$f":"COUNTA(L171:L203)","v":33}]
[null,null,null,null,null,null,null,null,null,null,null,null,null,null,null,"Total Sequences in Summary",{"$f":"SUM(O7:O14)","v":196},null,null,null,null,"Total Sequences in Block Summary",{"$f":"SUM(U7:U14)","v":33},null,null,null,"Total Sequences in Block Summary",{"$f":"SUM(Z7:Z14)","v":33},null,null,null,"Total Sequences in Block Summary",{"$f":"SUM(AE7:AE14)","v":32},null,null,null,"Total Sequences in Block Summary",{"$f":"SUM(AJ7:AJ14)","v":33},null,null,null,"Total Sequences in Block Summary",{"$f":"SUM(AO7:AO14)","v":33},null,null,null,"Total Sequences in Block Summary",{"$f":"SUM(AT7:AT14)","v":32}]
[null,null,null,null,null,null,null,null,null,null,null,null,null,null,null,null,null,null,null,"Block 1",null,null,null,null,"Block 2",null,null,null,null,"Block 3",null,null,null,null,"Block 4",null,null,null,null,"Block 5",null,null,null,null,"Block 6"]
["Sequence\nComponent\n1","Time\n1","Sequence\nComponent\n2","Time\n2","Sequence\nComponent\n3","Time\n3","Sequence\nComponent\n4","Time\n4","Sequence\nComponent\n5","Time\n5","Correct?\n0=No 1=Yes","Sequence",null,"Frequency",null,"Relative Frequency","Variability",null,null,"Frequency",null,"Relative Frequency","Variability",null,"Frequency",null,"Relative Frequency","Variability",null,"Frequency",null,"Relative Frequency","Variability",null,"Frequency",null,"Relative Frequency","Variability",null,"Frequency",null,"Relative Frequency","Variability",null,"Frequency",null,"Relative Frequency","Variability"]
[21,10,22,46,24,51,null,null,null,null,0,222,null,111,{"$f":"COUNTIF($L$7:$L$500,N7)","v":97},{"$f":"O7/$Q$4","v":0.49489795918367346},{"$f":"IF(P7=0,0,(P7*((LOG(P7))/LOG(2))))","v":-0.50222096523991744},null,null,{"$f":"N7","v":111},{"$f":"COUNTIF(L7:L39,T7)","v":9},{"$f":"U7/(W4-U11)","v":0.27272727272727271},{"$f":"IF(V7=0,0,(V7*((LOG(V7))/LOG(2))))","v":-0.51121885034076575},null,{"$f":"N7","v":111},{"$f":"COUNTIF(L40:L72,Y7)","v":14},{"$f":"Z7/(AB4-Z11)","v":0.42424242424242425},{"$f":"IF(AA7=0,0,(AA7*((LOG(AA7))/LOG(2))))","v":-0.52480450794581479},null,{"$f":"N7","v":111},{"$f":"COUNTIF(L73:L104,AD7)","v":16},{"$f":"AE7/(AG4-AE11)","v":0.5},{"$f":"IF(AF7=0,0,(AF7*((LOG(AF7))/LOG(2))))","v":-0.5},null,{"$f":"N7","v":111},{"$f":"COUNTIF(L105:L137,AI7)","v":21},{"$f":"AJ7/(AL4-AJ11)","v":0.63636363636363635},{"$f":"IF(AK7=0,0,(AK7*((LOG(AK7))/LOG(2))))","v":-0.41495789782344106},null,{"$f":"N7","v":111},{"$f":"COUNTIF(L138:L170,AN7)","v":17},{"$f":"AO7/(AQ4-AO11)","v":0.51515151515151514},{"$f":"IF(AP7=0,0,(AP7*((LOG(AP7))/LOG(2))))","v":-0.49296459781327084},null,{"$f":"N7","v":111},{"$f":"COUNTIF(L171:L203,AS7)","v":20},{"$f":"AT7/(AV4-AT11)","v":0.625},{"$f":"IF(AU7=0,0,(AU7*((LOG(AU7))/LOG(2))))","v":-0.42379494069539858}]
[21,156,22,164,24,190,null,null,null,null,0,222,null,112,{"$f":"COUNTIF($L$7:$L$500,N8)","v":4},{"$f":"O8/$Q$4","v":2.0408163265306121E-2},{"$f":"IF(P8=0,0,(P8*((LOG(P8))/LOG(2))))","v":-0.11458591518602465},null,null,{"$f":"N8","v":112},{"$f":"COUNTIF(L7:L39,T8)","v":1},{"$f":"U8/(W4-U11)","v":3.0303030303030304E-2},{"$f":"IF(V8=0,0,(V8*((LOG(V8))/LOG(2))))","v":-0.15286042785934709},null,{"$f":"N8","v":112},{"$f":"COUNTIF(L40:L72,Y8)","v":1},{"$f":"Z8/(AB4-Z11)","v":3.0303030303030304E-2},{"$f":"IF(AA8=0,0,(AA8*((LOG(AA8))/LOG(2))))","v":-0.15286042785934709},null,{"$f":"N8","v":112},{"$f":"COUNTIF(L73:L104,AD8)","v":1},{"$f":"AE8/(AG4-AE11)","v":3.125E-2},{"$f":"IF(AF8=0,0,(AF8*((LOG(AF8))/LOG(2))))","v":-0.15625},null,{"$f":"N8","v":112},{"$f":"COUNTIF(L105:L137,AI8)","v":0},{"$f":"AJ8/(AL4-AJ11)","v":0},{"$f":"IF(AK8=0,0,(AK8*((LOG(AK8))/LOG(2))))","v":0},null,{"$f":"N8","v":112},{"$f":"COUNTIF(L138:L170,AN8)","v":0},{"$f":"AO8/(AQ4-AO11)","v":0},{"$f":"IF(AP8=0,0,(AP8*((LOG(AP8))/LOG(2))))","v":0},null,{"$f":"N8","v":112},{"$f":"COUNTIF(L171:L203,AS8)","v":1},{"$f":"AT8/(AV4-AT11)","v":3.125E-2},{"$f":"IF(AU8=0,0,(AU8*((LOG(AU8))/LOG(2))))","v":-0.15625}]
[12,291,13,299,24,313,null,null,null,null,0,112,null,121,{"$f":"COUNTIF($L$7:$L$500,N9)","v":0},{"$f":"O9/$Q$4","v":0},{"$f":"IF(P9=0,0,(P9*((LOG(P9))/LOG(2))))","v":0},null,null,{"$f":"N9","v":121},{"$f":"COUNTIF(L7:L39,T9)","v":0},{"$f":"U9/(W4-U11)","v":0},{"$f":"IF(V9=0,0,(V9*((LOG(V9))/LOG(2))))","v":0},null,{"$f":"N9","v":121},{"$f":"COUNTIF(L40:L72,Y9)","v":0},{"$f":"Z9/(AB4-Z11)","v":0},{"$f":"IF(AA9=0,0,(AA9*((LOG(AA9))/LOG(2))))","v":0},null,{"$f":"N9","v":121},{"$f":"COUNTIF(L73:L104,AD9)","v":0},{"$f":"AE9/(AG4-AE11)","v":0},{"$f":"IF(AF9=0,0,(AF9*((LOG(AF9))/LOG(2))))","v":0},null,{"$f":"N9","v":121},{"$f":"COUNTIF(L105:L137,AI9)","v":0},{"$f":"AJ9/(AL4-AJ11)","v":0},{"$f":"IF(AK9=0,0,(AK9*((LOG(AK9))/LOG(2))))","v":0},null,{"$f":"N9","v":121},{"$f":"COUNTIF(L138:L170,AN9)","v":0},{"$f":"AO9/(AQ4-AO11)","v":0},{"$f":"IF(AP9=0,0,(AP9*((LOG(AP9))/LOG(2))))","v":0},null,{"$f":"N9","v":121},{"$f":"COUNTIF(L171:L203,AS9)","v":0},{"$f":"AT9/(AV4-AT11)","v":0},{"$f":"IF(AU9=0,0,(AU9*((LOG(AU9))/LOG(2))))","v":0}]
[12,415,13,425,13,434,null,null,null,null,0,111,null,122,{"$f":"COUNTIF($L$7:$L$500,N10)","v":11},{"$f":"O10/$Q$4","v":5.6122448979591837E-2},{"$f":"IF(P10=0,0,(P10*((LOG(P10))/LOG(2))))","v":-0.23320439020539296},null,null,{"$f":"N10","v":122},{"$f":"COUNTIF(L7:L39,T10)","v":6},{"$f":"U10/(W4-U11)","v":0.18181818181818182},{"$f":"IF(V10=0,0,(V10*((LOG(V10))/LOG(2))))","v":-0.44716938520678134},null,{"$f":"N10","v":122},{"$f":"COUNTIF(L40:L72,Y10)","v":3},{"$f":"Z10/(AB4-Z11)","v":9.0909090909090912E-2},{"$f":"IF(AA10=0,0,(AA10*((LOG(AA10))/LOG(2))))","v":-0.31449378351248153},null,{"$f":"N10","v":122},{"$f":"COUNTIF(L73:L104,AD10)","v":0},{"$f":"AE10/(AG4-AE11)","v":0},{"$f":"IF(AF10=0,0,(AF10*((LOG(AF10))/LOG(2))))","v":0},null,{"$f":"N10","v":122},{"$f":"COUNTIF(L105:L137,AI10)","v":0},{"$f":"AJ10/(AL4-AJ11)","v":0},{"$f":"IF(AK10=0,0,(AK10*((LOG(AK10))/LOG(2))))","v":0},null,{"$f":"N10","v":122},{"$f":"COUNTIF(L138:L170,AN10)","v":1},{"$f":"AO10/(AQ4-AO11)","v":3.0303030303030304E-2},{"$f":"IF(AP10=0,0,(AP10*((LOG(AP10))/LOG(2))))","v":-0.15286042785934709},null,{"$f":"N10","v":122},{"$f":"COUNTIF(L171:L203,AS10)","v":1},{"$f":"AT10/(AV4-AT11)","v":3.125E-2},{"$f":"IF(AU10=0,0,(AU10*((LOG(AU10))/LOG(2))))","v":-0.15625}]
[12,551,13,560,13,566,null,null,null,null,0,111,null,211,{"$f":"COUNTIF($L$7:$L$500,N11)","v":0},{"$f":"O11/$Q$4","v":0},{"$f":"IF(P11=0,0,(P11*((LOG(P11))/LOG(2))))","v":0},null,null,{"$f":"N11","v":211},{"$f":"COUNTIF(L7:L39,T11)","v":0},null,null,null,{"$f":"N11","v":211},{"$f":"COUNTIF(L40:L72,Y11)","v":0},null,null,null,{"$f":"N11","v":211},{"$f":"COUNTIF(L73:L104,AD11)","v":0},null,null,null,{"$f":"N11","v":211},{"$f":"COUNTIF(L105:L137,AI11)","v":0},null,null,null,{"$f":"N11","v":211},{"$f":"COUNTIF(L138:L170,AN11)","v":0},null,null,null,{"$f":"N11","v":211},{"$f":"COUNTIF(L171:L203,AS11)","v":0}]
[12,681,24,691,24,710,null,null,null,null,0,122,null,212,{"$f":"COUNTIF($L$7:$L$500,N12)","v":0},{"$f":"O12/$Q$4","v":0},{"$f":"IF(P12=0,0,(P12*((LOG(P12))/LOG(2))))","v":0},null,null,{"$f":"N12","v":212},{"$f":"COUNTIF(L7:L39,T12)","v":0},{"$f":"U12/(W4-U11)","v":0},{"$f":"IF(V12=0,0,(V12*((LOG(V12))/LOG(2))))","v":0},null,{"$f":"N12","v":212},{"$f":"COUNTIF(L40:L72,Y12)","v":0},{"$f":"Z12/(AB4-Z11)","v":0},{"$f":"IF(AA12=0,0,(AA12*((LOG(AA12))/LOG(2))))","v":0},null,{"$f":"N12","v":212},{"$f":"COUNTIF(L73:L104,AD12)","v":0},{"$f":"AE12/(AG4-AE11)","v":0},{"$f":"IF(AF12=0,0,(AF12*((LOG(AF12))/LOG(2))))","v":0},null,{"$f":"N12","v":212},{"$f":"COUNTIF(L105:L137,AI12)","v":0},{"$f":"AJ12/(AL4-AJ11)","v":0},{"$f":"IF(AK12=0,0,(AK12*((LOG(AK12))/LOG(2))))","v":0},null,{"$f":"N12","v":212},{"$f":"COUNTIF(L138:L170,AN12)","v":0},{"$f":"AO12/(AQ4-AO11)","v":0},{"$f":"IF(AP12=0,0,(AP12*((LOG(AP12))/LOG(2))))","v":0},null,{"$f":"N12","v":212},{"$f":"COUNTIF(L171:L203,AS12)","v":0},{"$f":"AT12/(AV4-AT11)","v":0},{"$f":"IF(AU12=0,0,(AU12*((LOG(AU12))/LOG(2))))","v":0}]
[12,821,24,832,24,839,null,null,null,null,0,122,null,221,{"$f":"COUNTIF($L$7:$L$500,N13)","v":0},{"$f":"O13/$Q$4","v":0},{"$f":"IF(P13=0,0,(P13*((LOG(P13))/LOG(2))))","v":0},null,null,{"$f":"N13","v":221},{"$f":"COUNTIF(L7:L39,T13)","v":0},{"$f":"U13/(W4-U11)","v":0},{"$f":"IF(V13=0,0,(V13*((LOG(V13))/LOG(2))))","v":0},null,{"$f":"N13","v":221},{"$f":"COUNTIF(L40:L72,Y13)","v":0},{"$f":"Z13/(AB4-Z11)","v":0},{"$f":"IF(AA13=0,0,(AA13*((LOG(AA13))/LOG(2))))","v":0},null,{"$f":"N13","v":221},{"$f":"COUNTIF(L73:L104,AD13)","v":0},{"$f":"AE13/(AG4-AE11)","v":0},{"$f":"IF(AF13=0,0,(AF13*((LOG(AF13))/LOG(2))))","v":0},null,{"$f":"N13","v":221},{"$f":"COUNTIF(L105:L137,AI13)","v":0},{"$f":"AJ13/(AL4-AJ11)","v":0},{"$f":"IF(AK13=0,0,(AK13*((LOG(AK13))/LOG(2))))","v":0},null,{"$f":"N13","v":221},{"$f":"COUNTIF(L138:L170,AN13)","v":0},{"$f":"AO13/(AQ4-AO11)","v":0},{"$f":"IF(AP13=0,0,(AP13*((LOG(AP13))/LOG(2))))","v":0},null,{"$f":"N13","v":221},{"$f":"COUNTIF(L171:L203,AS13)","v":0},{"$f":"AT13/(AV4-AT11)","v":0},{"$f":"IF(AU13=0,0,(AU13*((LOG(AU13))/LOG(2))))","v":0}]
[12,939,13,946,13,951,null,null,null,null,0,111,null,222,{"$f":"COUNTIF($L$7:$L$500,N14)","v":84},{"$f":"O14/$Q$4","v":0.42857142857142855},{"$f":"IF(P14=0,0,(P14*((LOG(P14))/LOG(2))))","v":-0.52388246628704915},null,null,{"$f":"N14","v":222},{"$f":"COUNTIF(L7:L39,T14)","v":17},{"$f":"U14/(W4-U11)","v":0.51515151515151514},{"$f":"IF(V14=0,0,(V14*((LOG(V14))/LOG(2))))","v":-0.49296459781327084},null,{"$f":"N14","v":222},{"$f":"COUNTIF(L40:L72,Y14)","v":15},{"$f":"Z14/(AB4-Z11)","v":0.45454545454545453},{"$f":"IF(AA14=0,0,(AA14*((LOG(AA14))/LOG(2))))","v":-0.51704705624997038},null,{"$f":"N14","v":222},{"$f":"COUNTIF(L73:L104,AD14)","v":15},{"$f":"AE14/(AG4-AE11)","v":0.46875},{"$f":"IF(AF14=0,0,(AF14*((LOG(AF14))/LOG(2))))","v":-0.512395033308507},null,{"$f":"N14","v":222},{"$f":"COUNTIF(L105:L137,AI14)","v":12},{"$f":"AJ14/(AL4-AJ11)","v":0.36363636363636365},{"$f":"IF(AK14=0,0,(AK14*((LOG(AK14))/LOG(2))))","v":-0.53070240677719893},null,{"$f":"N14","v":222},{"$f":"COUNTIF(L138:L170,AN14)","v":15},{"$f":"AO14/(AQ4-AO11)","v":0.45454545454545453},{"$f":"IF(AP14=0,0,(AP14*((LOG(AP14))/LOG(2))))","v":-0.51704705624997038},null,{"$f":"N14","v":222},{"$f":"COUNTIF(L171:L203,AS14)","v":10},{"$f":"AT14/(AV4-AT11)","v":0.3125},{"$f":"IF(AU14=0,0,(AU14*((LOG(AU14))/LOG(2))))","v":-0.52439747034769923}]
[12,1061,13,1068,13,1073,null,null,null,null,0,111,null,null,null,{"$f":"SUM(P7:P14)","v":1},{"$f":"-SUM(Q7:Q14)","v":1.3738937369183843},null,null,null,null,{"$f":"SUM(V7:V14)","v":1},{"$f":"-SUM(W7:W14)","v":1.6042132612201649},null,null,null,{"$f":"SUM(AA7:AA14)","v":1},{"$f":"-SUM(AB7:AB14)","v":1.5092057755676138},null,null,null,{"$f":"SUM(AF7:AF14)","v":1},{"$f":"-SUM(AG7:AG14)","v":1.168645033308507},null,null,null,{"$f":"SUM(AK7:AK14)","v":1},{"$f":"-SUM(AL7:AL14)","v":0.94566030460063999},null,null,null,{"$f":"SUM(AP7:AP14)","v":1},{"$f":"-SUM(AQ7:AQ14)","v":1.1628720819225884},null,null,null,{"$f":"SUM(AU7:AU14)","v":1},{"$f":"-SUM(AV7:AV14)","v":1.2606924110430979}]
[12,1178,13,1186,13,1191,null,null,null,null,0,111,null,null,null,"U=",{"$f":"Q15/(LOG(Q4)/LOG(2))","v":0.180426275596063},null,null,null,null,"U1=",{"$f":"W15/(LOG(W4)/LOG(2))","v":0.31801901740068417},null,null,null,"U2=",{"$f":"AB15/(LOG(AB4)/LOG(2))","v":0.29918474644474347},null,null,null,"U3=",{"$f":"AG15/(LOG(AG4)/LOG(2))","v":0.23372900666170141},null,null,null,"U4=",{"$f":"AL15/(LOG(AL4)/LOG(2))","v":0.18746756938986148},null,null,null,"U5=",{"$f":"AQ15/(LOG(AQ4)/LOG(2))","v":0.23052760240519879},null,null,null,"U6=",{"$f":"AV15/(LOG(AV4)/LOG(2))","v":0.25213848220861956}]
[12,1292,13,1300,13,1309,null,null,null,null,0,111]
[21,1437,22,1446,24,1457,null,null,null,null,0,222]
[21,1558,22,1589,24,1594,null,null,null,null,0,222,null,"Total Target Seq"]
[12,1695,24,1706,24,1712,null,null,null,null,0,122,null,{"$f":"COUNTIF(L7:L203,G3)","v":0},null,33,33,32,33,33,33]
[12,1815,24,1829,24,1834,null,null,null,null,0,122,null,null,null,"% of reinforcement given in 6 equal intervals based on number of trials "]
[12,1935,13,1940,13,1948,null,null,null,null,0,111,null,null,null,"%_1","%_2","%_3","%_4","%_5","%_6"]
[12,2048,13,2057,13,2064,null,null,null,null,0,111,null,null,"target sequence",{"$f":"$G$3","v":211},{"$f":"$G$3","v":211},{"$f":"$G$3","v":211},{"$f":"$G$3","v":211},{"$f":"$G$3","v":211},{"$f":"$G$3","v":211}]
[12,2168,13,2175,13,2183,null,null,null,null,0,111,null,null,"total reinforcement",{"$f":"U11","v":0},{"$f":"Z11","v":0},{"$f":"AE11","v":0},{"$f":"AJ11","v":0},{"$f":"AO11","v":0},{"$f":"AT11","v":0}]
[21,2289,22,2295,24,2297,null,null,null,null,0,222,null,null,"% target"]
[21,2403,22,2408,24,2417,null,null,null,null,0,222,null,null,"CCRF"]
[21,2517,22,2519,24,2542,null,null,null,null,0,222,null,null,"% CCRf"]
[21,2652,22,2666,24,2696,null,null,null,null,0,222,null,null,"average response rate",{"$f":"F39/P20","v":124},{"$f":"(F72-F39)/Q20","v":122.57575757575758},{"$f":"(F104-F72)/R20","v":121.78125},{"$f":"(F137-F104)/S20","v":118.96969696969697},{"$f":"(F170-F137)/T20","v":122.15151515151516},{"$f":"(F203-F170)/U20","v":-605.78787878787875}]
[21,2799,22,2809,24,2818,null,null,null,null,0,222]
[12,2926,24,2942,24,2950,null,null,null,null,0,122]
[21,3056,22,3061,24,3070,null,null,null,null,0,222]
[21,3175,22,3200,24,3214,null,null,null,null,0,222]
[21,3312,22,3321,24,3328,null,null,null,null,0,222]
[21,3431,22,3436,24,3445,null,null,null,null,0,222]
[21,3552,22,3563,24,3575,null,null,null,null,0,222]
[21,3684,22,3703,24,3712,null,null,null,null,0,222]
[21,3813,22,3836,24,3846,null,null,null,null,0,222]
[12,3942,24,3954,24,3977,null,null,null,null,0,122]
[21,4079,22,4084,24,4092,null,null,null,null,0,222]
[21,4197,22,4202,24,4206,null,null,null,null,0,222]
[12,4306,13,4313,24,4347,null,null,null,null,0,112]
[21,4459,22,4475,24,4492,null,null,null,null,0,222]
[21,4603,22,4617,24,4624,null,null,null,null,0,222]
[21,4721,22,4726,24,4732,null,null,null,null,0,222]
[12,4835,13,4843,13,4850,null,null,null,null,0,111]
[21,4947,22,4952,24,4960,null,null,null,null,0,222]
[12,5063,13,5074,13,5082,null,null,null,null,0,111]
[21,5191,22,5196,24,5209,null,null,null,null,0,222]
[12,5308,13,5313,13,5321,null,null,null,null,0,111]
[21,5433,22,5443,24,5453,null,null,null,null,0,222]
[12,5558,13,5567,13,5574,null,null,null,null,0,111]
[21,5681,22,5686,24,5695,null,null,null,null,0,222]
[21,5792,22,5809,24,5814,null,null,null,null,0,222]
[12,5926,24,5937,24,5955,null,null,null,null,0,122]
[12,6063,13,6068,13,6076,null,null,null,null,0,111]
[12,6175,13,6184,13,6191,null,null,null,null,0,111]
[12,6292,13,6299,13,6305,null,null,null,null,0,111]
[21,6411,22,6417,24,6424,null,null,null,null,0,222]
[21,6521,22,6526,24,6531,null,null,null,null,0,222]
[12,6632,13,6638,13,6646,null,null,null,null,0,111]
[12,6756,13,6761,13,6769,null,null,null,null,0,111]
[21,6869,22,6874,24,6879,null,null,null,null,0,222]
[12,6984,13,6992,13,7001,null,null,null,null,0,111]
[12,7113,13,7121,13,7128,null,null,null,null,0,111]
[21,7232,22,7262,24,7277,null,null,null,null,0,222]
[12,7378,13,7385,13,7389,null,null,null,null,0,111]
[21,7491,22,7512,24,7543,null,null,null,null,0,222]
[12,7645,24,7654,24,7659,null,null,null,null,0,122]
[12,7758,13,7768,13,7778,null,null,null,null,0,111]
[12,7879,24,7892,24,7903,null,null,null,null,0,122]
[12,8006,13,8011,13,8018,null,null,null,null,0,111]
[21,8122,22,8128,24,8137,null,null,null,null,0,222]
[12,8238,13,8246,13,8253,null,null,null,null,0,111]
[12,8353,13,8362,13,8370,null,null,null,null,0,111]
[21,8483,22,8494,24,8507,null,null,null,null,0,222]
[21,8608,22,8613,24,8619,null,null,null,null,0,222]
[21,8721,22,8726,24,8732,null,null,null,null,0,222]
[12,8832,13,8840,13,8847,null,null,null,null,0,111]
[21,8949,22,8954,24,8959,null,null,null,null,0,222]
[21,9066,22,9071,24,9078,null,null,null,null,0,222]
[12,9175,13,9183,13,9188,null,null,null,null,0,111]
[21,9290,22,9295,24,9311,null,null,null,null,0,222]
[21,9418,22,9441,24,9467,null,null,null,null,0,222]
[12,9571,13,9577,13,9584,null,null,null,null,0,111]
[12,9685,13,9690,13,9695,null,null,null,null,0,111]
[12,9796,13,9802,13,9811,null,null,null,null,0,111]
[12,9914,13,9927,24,9938,null,null,null,null,0,112]
[12,10039,13,10047,13,10052,null,null,null,null,0,111]
[12,10156,13,10161,13,10166,null,null,null,null,0,111]
[21,10275,22,10280,24,10290,null,null,null,null,0,222]
[21,10411,22,10420,24,10431,null,null,null,null,0,222]
[12,10541,13,10546,13,10554,null,null,null,null,0,111]
[21,10656,22,10662,24,10681,null,null,null,null,0,222]
[12,10788,13,10793,13,10799,null,null,null,null,0,111]
[21,10898,22,10903,24,10909,null,null,null,null,0,222]
[12,11018,13,11023,13,11028,null,null,null,null,0,111]
[21,11130,22,11138,24,11156,null,null,null,null,0,222]
[21,11257,22,11265,24,11271,null,null,null,null,0,222]
[12,11378,13,11387,13,11394,null,null,null,null,0,111]
[12,11493,13,11499,13,11508,null,null,null,null,0,111]
[21,11628,22,11633,24,11681,null,null,null,null,0,222]
[12,11785,13,11793,13,11798,null,null,null,null,0,111]
[12,11896,13,11903,13,11913,null,null,null,null,0,111]
[21,12014,22,12026,24,12034,null,null,null,null,0,222]
[21,12139,22,12162,24,12182,null,null,null,null,0,222]
[21,12284,22,12294,24,12307,null,null,null,null,0,222]
[21,12408,22,12417,24,12425,null,null,null,null,0,222]
[21,12535,22,12550,24,12560,null,null,null,null,0,222]
[21,12666,22,12676,24,12697,null,null,null,null,0,222]
[12,12801,13,12806,13,12811,null,null,null,null,0,111]
[12,12914,13,12918,13,12923,null,null,null,null,0,111]
[12,13020,13,13025,13,13031,null,null,null,null,0,111]
[12,13133,13,13137,13,13148,null,null,null,null,0,111]
[12,13250,13,13255,13,13264,null,null,null,null,0,111]
[21,13370,22,13375,24,13380,null,null,null,null,0,222]
[12,13480,13,13484,13,13491,null,null,null,null,0,111]
[12,13592,13,13601,13,13611,null,null,null,null,0,111]
[12,13717,13,13721,13,13726,null,null,null,null,0,111]
[12,13825,13,13830,13,13834,null,null,null,null,0,111]
[12,13932,13,13939,13,13946,null,null,null,null,0,111]
[21,14043,22,14052,24,14063,null,null,null,null,0,222]
[12,14164,13,14169,13,14177,null,null,null,null,0,111]
[12,14274,13,14283,13,14290,null,null,null,null,0,111]
[12,14393,13,14397,13,14408,null,null,null,null,0,111]
[12,14510,13,14515,13,14523,null,null,null,null,0,111]
[12,14628,13,14636,13,14644,null,null,null,null,0,111]
[12,14744,13,14752,13,14758,null,null,null,null,0,111]
[12,14858,13,14864,13,14872,null,null,null,null,0,111]
[21,14979,22,14985,24,14990,null,null,null,null,0,222]
[21,15093,22,15098,24,15112,null,null,null,null,0,222]
[12,15210,13,15215,13,15223,null,null,null,null,0,111]
[12,15327,13,15331,13,15339,null,null,null,null,0,111]
[21,15458,22,15481,24,15494,null,null,null,null,0,222]
[12,15595,13,15600,13,15609,null,null,null,null,0,111]
[21,15706,22,15715,24,15720,null,null,null,null,0,222]
[12,15826,13,15834,13,15839,null,null,null,null,0,111]
[21,15947,22,15951,24,15960,null,null,null,null,0,222]
[21,16069,22,16075,24,16083,null,null,null,null,0,222]
[12,16184,13,16190,13,16199,null,null,null,null,0,111]
[12,16304,13,16312,13,16317,null,null,null,null,0,111]
[21,16439,22,16444,24,16454,null,null,null,null,0,222]
[21,16549,22,16554,24,16559,null,null,null,null,0,222]
[12,16660,13,16665,13,16669,null,null,null,null,0,111]
[12,16774,13,16779,13,16784,null,null,null,null,0,111]
[12,16889,13,16895,13,16904,null,null,null,null,0,111]
[12,17014,13,17022,13,17030,null,null,null,null,0,111]
[21,17125,22,17133,24,17138,null,null,null,null,0,222]
[21,17243,22,17248,24,17253,null,null,null,null,0,222]
[12,17354,13,17359,13,17365,null,null,null,null,0,111]
[21,17468,22,17479,24,17487,null,null,null,null,0,222]
[12,17588,13,17596,13,17603,null,null,null,null,0,111]
[12,17707,13,17712,13,17724,null,null,null,null,0,111]
[21,17844,22,17858,24,17873,null,null,null,null,0,222]
[21,17973,22,17978,24,17984,null,null,null,null,0,222]
[21,18085,22,18089,24,18094,null,null,null,null,0,222]
[12,18198,13,18207,13,18213,null,null,null,null,0,111]
[21,18322,22,18345,24,18366,null,null,null,null,0,222]
[12,18467,13,18474,13,18482,null,null,null,null,0,111]
[21,18582,22,18597,24,18631,null,null,null,null,0,222]
[12,18735,24,18754,24,18782,null,null,null,null,0,122]
[21,18900,22,18908,24,18919,null,null,null,null,0,222]
[12,19020,13,19026,13,19041,null,null,null,null,0,111]
[21,19136,22,19150,24,19158,null,null,null,null,0,222]
[12,19259,13,19263,13,19271,null,null,null,null,0,111]
[12,19374,13,19381,13,19388,null,null,null,null,0,111]
[12,19487,13,19493,13,19504,null,null,null,null,0,111]
[12,19605,13,19610,13,19615,null,null,null,null,0,111]
[21,19722,22,19731,24,19739,null,null,null,null,0,222]
[12,19843,13,19851,13,19865,null,null,null,null,0,111]
[21,19971,22,19981,24,19991,null,null,null,null,0,222]
[21,20097,22,20102,24,20110,null,null,null,null,0,222]
[12,20213,13,20221,24,20239,null,null,null,null,0,112]
[12,20352,13,20360,13,20367,null,null,null,null,0,111]
[21,20469,22,20480,24,20486,null,null,null,null,0,222]
[12,20586,13,20591,13,20596,null,null,null,null,0,111]
[21,20712,22,20718,24,20727,null,null,null,null,0,222]
[12,20832,13,20837,13,20844,null,null,null,null,0,111]
[12,20946,13,20952,13,20960,null,null,null,null,0,111]
[12,21061,13,21067,13,21076,null,null,null,null,0,111]
[21,21176,22,21181,24,21190,null,null,null,null,0,222]
[12,21302,24,21323,24,21337,null,null,null,null,0,122]
[21,21442,22,21457,24,21462,null,null,null,null,0,222]
[12,21556,13,21563,13,21571,null,null,null,null,0,111]
[21,21670,22,21674,24,21679,null,null,null,null,0,222]
[21,21783,22,21788,24,21798,null,null,null,null,0,222]
[12,21933,13,21941,13,21949,null,null,null,null,0,111]
[21,22054,22,22058,24,22068,null,null,null,null,0,222]
[12,22170,13,22178,13,22183,null,null,null,null,0,111]
[12,22288,13,22292,13,22298,null,null,null,null,0,111]
[12,22405,13,22410,13,22416,null,null,null,null,0,111]
[21,22523,22,22528,24,22542,null,null,null,null,0,222]
[12,22644,13,22649,13,22656,null,null,null,null,0,111]
[12,22758,13,22763,13,22769,null,null,null,null,0,111]
[12,22868,13,22874,13,22879,null,null,null,null,0,111]
[12,22978,13,22984,13,22994,null,null,null,null,0,111]
[12,23098,13,23100,13,23107,null,null,null,null,0,111]
[12,23210,13,23217,13,23222,null,null,null,null,0,111]
[12,23321,13,23336,13,23344,null,null,null,null,0,111]
[12,23446,13,23451,13,23458,null,null,null,null,0,111]
[12,23562,13,23568,13,23578,null,null,null,null,0,111]
[12,23696,13,23700,13,23706,null,null,null,null,0,111]
[21,23819,22,23832,24,23841,null,null,null,null,0,222]
[21,23945,22,23950,null,null,null,null,null,null,null,22]

{"sheet":"!MA15910.091","index":26,"n_rows":208,"n_cols":48,"rows_kept":208,"cut":false,"hidden":false,"merged":[[4,39,4,42],[5,39,5,40],[4,44,4,47],[5,44,5,45],[4,24,4,27],[5,24,5,25],[4,29,4,32],[5,29,5,30],[4,34,4,37],[5,34,5,35],[1,1,1,2],[5,13,5,14],[18,13,18,14],[19,13,19,14],[4,19,4,22],[5,19,5,20]]}
["Report for:!MA15910.091"]
["Date:","<date>"]
["Hen:","<hen>",null,null,null,"Correct Sequence",{"$f":"Start!J2","v":211},null,null,null,null,null,null,null,null,"Total Sequences in Data",{"$f":"4994-COUNTBLANK(L7:L5000)","v":202},null,null,null,null,"Total Sequences in Block Data",{"$f":"COUNTA(L7:L40)","v":34},null,null,null,"Total Sequences in Block Data",{"$f":"COUNTA(L41:L73)","v":33},null,null,null,"Total Sequences in Block Data",{"$f":"COUNTA(L74:L107)","v":34},null,null,null,"Total Sequences in Block Data",{"$f":"COUNTA(L108:L141)","v":34},null,null,null,"Total Sequences in Block Data",{"$f":"COUNTA(L142:L174)","v":33},null,null,null,"Total Sequences in Block Data",{"$f":"COUNTA(L175:L208)","v":34}]
[null,null,null,null,null,null,null,null,null,null,null,null,null,null,null,"Total Sequences in Summary",{"$f":"SUM(O7:O14)","v":202},null,null,null,null,"Total Sequences in Block Summary",{"$f":"SUM(U7:U14)","v":34},null,null,null,"Total Sequences in Block Summary",{"$f":"SUM(Z7:Z14)","v":33},null,null,null,"Total Sequences in Block Summary",{"$f":"SUM(AE7:AE14)","v":34},null,null,null,"Total Sequences in Block Summary",{"$f":"SUM(AJ7:AJ14)","v":34},null,null,null,"Total Sequences in Block Summary",{"$f":"SUM(AO7:AO14)","v":33},null,null,null,"Total Sequences in Block Summary",{"$f":"SUM(AT7:AT14)","v":34}]
[null,null,null,null,null,null,null,null,null,null,null,null,null,null,null,null,null,null,null,"Block 1",null,null,null,null,"Block 2",null,null,null,null,"Block 3",null,null,null,null,"Block 4",null,null,null,null,"Block 5",null,null,null,null,"Block 6"]
["Sequence\nComponent\n1","Time\n1","Sequence\nComponent\n2","Time\n2","Sequence\nComponent\n3","Time\n3","Sequence\nComponent\n4","Time\n4","Sequence\nComponent\n5","Time\n5","Correct?\n0=No 1=Yes","Sequence",null,"Frequency",null,"Relative Frequency","Variability",null,null,"Frequency",null,"Relative Frequency","Variability",null,"Frequency",null,"Relative Frequency","Variability",null,"Frequency",null,"Relative Frequency","Variability",null,"Frequency",null,"Relative Frequency","Variability",null,"Frequency",null,"Relative Frequency","Variability",null,"Frequency",null,"Relative Frequency","Variability"]
[12,31,13,40,13,48,null,null,null,null,0,111,null,111,{"$f":"COUNTIF($L$7:$L$500,N7)","v":145},{"$f":"O7/$Q$4","v":0.71782178217821779},{"$f":"IF(P7=0,0,(P7*((LOG(P7))/LOG(2))))","v":-0.3433358759744789},null,null,{"$f":"N7","v":111},{"$f":"COUNTIF(L7:L40,T7)","v":22},{"$f":"U7/(W4-U11)","v":0.6470588235294118},{"$f":"IF(V7=0,0,(V7*((LOG(V7))/LOG(2))))","v":-0.40637314404373309},null,{"$f":"N7","v":111},{"$f":"COUNTIF(L41:L73,Y7)","v":22},{"$f":"Z7/(AB4-Z11)","v":0.66666666666666663},{"$f":"IF(AA7=0,0,(AA7*((LOG(AA7))/LOG(2))))","v":-0.38997500048077083},null,{"$f":"N7","v":111},{"$f":"COUNTIF(L74:L107,AD7)","v":26},{"$f":"AE7/(AG4-AE11)","v":0.76470588235294112},{"$f":"IF(AF7=0,0,(AF7*((LOG(AF7))/LOG(2))))","v":-0.29595885884824796},null,{"$f":"N7","v":111},{"$f":"COUNTIF(L108:L141,AI7)","v":26},{"$f":"AJ7/(AL4-AJ11)","v":0.76470588235294112},{"$f":"IF(AK7=0,0,(AK7*((LOG(AK7))/LOG(2))))","v":-0.29595885884824796},null,{"$f":"N7","v":111},{"$f":"COUNTIF(L142:L174,AN7)","v":28},{"$f":"AO7/(AQ4-AO11)","v":0.84848484848484851},{"$f":"IF(AP7=0,0,(AP7*((LOG(AP7))/LOG(2))))","v":-0.20112416740678121},null,{"$f":"N7","v":111},{"$f":"COUNTIF(L175:L208,AS7)","v":21},{"$f":"AT7/(AV4-AT11)","v":0.61764705882352944},{"$f":"IF(AU7=0,0,(AU7*((LOG(AU7))/LOG(2))))","v":-0.42935452317362238}]
[21,172,22,177,24,187,null,null,null,null,0,222,null,112,{"$f":"COUNTIF($L$7:$L$500,N8)","v":1},{"$f":"O8/$Q$4","v":4.9504950495049506E-3},{"$f":"IF(P8=0,0,(P8*((LOG(P8))/LOG(2))))","v":-3.7911938033424727E-2},null,null,{"$f":"N8","v":112},{"$f":"COUNTIF(L7:L40,T8)","v":0},{"$f":"U8/(W4-U11)","v":0},{"$f":"IF(V8=0,0,(V8*((LOG(V8))/LOG(2))))","v":0},null,{"$f":"N8","v":112},{"$f":"COUNTIF(L41:L73,Y8)","v":0},{"$f":"Z8/(AB4-Z11)","v":0},{"$f":"IF(AA8=0,0,(AA8*((LOG(AA8))/LOG(2))))","v":0},null,{"$f":"N8","v":112},{"$f":"COUNTIF(L74:L107,AD8)","v":1},{"$f":"AE8/(AG4-AE11)","v":2.9411764705882353E-2},{"$f":"IF(AF8=0,0,(AF8*((LOG(AF8))/LOG(2))))","v":-0.14963126003677468},null,{"$f":"N8","v":112},{"$f":"COUNTIF(L108:L141,AI8)","v":0},{"$f":"AJ8/(AL4-AJ11)","v":0},{"$f":"IF(AK8=0,0,(AK8*((LOG(AK8))/LOG(2))))","v":0},null,{"$f":"N8","v":112},{"$f":"COUNTIF(L142:L174,AN8)","v":0},{"$f":"AO8/(AQ4-AO11)","v":0},{"$f":"IF(AP8=0,0,(AP8*((LOG(AP8))/LOG(2))))","v":0},null,{"$f":"N8","v":112},{"$f":"COUNTIF(L175:L208,AS8)","v":0},{"$f":"AT8/(AV4-AT11)","v":0},{"$f":"IF(AU8=0,0,(AU8*((LOG(AU8))/LOG(2))))","v":0}]
[12,296,13,302,13,308,null,null,null,null,0,111,null,121,{"$f":"COUNTIF($L$7:$L$500,N9)","v":0},{"$f":"O9/$Q$4","v":0},{"$f":"IF(P9=0,0,(P9*((LOG(P9))/LOG(2))))","v":0},null,null,{"$f":"N9","v":121},{"$f":"COUNTIF(L7:L40,T9)","v":0},{"$f":"U9/(W4-U11)","v":0},{"$f":"IF(V9=0,0,(V9*((LOG(V9))/LOG(2))))","v":0},null,{"$f":"N9","v":121},{"$f":"COUNTIF(L41:L73,Y9)","v":0},{"$f":"Z9/(AB4-Z11)","v":0},{"$f":"IF(AA9=0,0,(AA9*((LOG(AA9))/LOG(2))))","v":0},null,{"$f":"N9","v":121},{"$f":"COUNTIF(L74:L107,AD9)","v":0},{"$f":"AE9/(AG4-AE11)","v":0},{"$f":"IF(AF9=0,0,(AF9*((LOG(AF9))/LOG(2))))","v":0},null,{"$f":"N9","v":121},{"$f":"COUNTIF(L108:L141,AI9)","v":0},{"$f":"AJ9/(AL4-AJ11)","v":0},{"$f":"IF(AK9=0,0,(AK9*((LOG(AK9))/LOG(2))))","v":0},null,{"$f":"N9","v":121},{"$f":"COUNTIF(L142:L174,AN9)","v":0},{"$f":"AO9/(AQ4-AO11)","v":0},{"$f":"IF(AP9=0,0,(AP9*((LOG(AP9))/LOG(2))))","v":0},null,{"$f":"N9","v":121},{"$f":"COUNTIF(L175:L208,AS9)","v":0},{"$f":"AT9/(AV4-AT11)","v":0},{"$f":"IF(AU9=0,0,(AU9*((LOG(AU9))/LOG(2))))","v":0}]
[21,430,22,443,24,452,null,null,null,null,0,222,null,122,{"$f":"COUNTIF($L$7:$L$500,N10)","v":0},{"$f":"O10/$Q$4","v":0},{"$f":"IF(P10=0,0,(P10*((LOG(P10))/LOG(2))))","v":0},null,null,{"$f":"N10","v":122},{"$f":"COUNTIF(L7:L40,T10)","v":0},{"$f":"U10/(W4-U11)","v":0},{"$f":"IF(V10=0,0,(V10*((LOG(V10))/LOG(2))))","v":0},null,{"$f":"N10","v":122},{"$f":"COUNTIF(L41:L73,Y10)","v":0},{"$f":"Z10/(AB4-Z11)","v":0},{"$f":"IF(AA10=0,0,(AA10*((LOG(AA10))/LOG(2))))","v":0},null,{"$f":"N10","v":122},{"$f":"COUNTIF(L74:L107,AD10)","v":0},{"$f":"AE10/(AG4-AE11)","v":0},{"$f":"IF(AF10=0,0,(AF10*((LOG(AF10))/LOG(2))))","v":0},null,{"$f":"N10","v":122},{"$f":"COUNTIF(L108:L141,AI10)","v":0},{"$f":"AJ10/(AL4-AJ11)","v":0},{"$f":"IF(AK10=0,0,(AK10*((LOG(AK10))/LOG(2))))","v":0},null,{"$f":"N10","v":122},{"$f":"COUNTIF(L142:L174,AN10)","v":0},{"$f":"AO10/(AQ4-AO11)","v":0},{"$f":"IF(AP10=0,0,(AP10*((LOG(AP10))/LOG(2))))","v":0},null,{"$f":"N10","v":122},{"$f":"COUNTIF(L175:L208,AS10)","v":0},{"$f":"AT10/(AV4-AT11)","v":0},{"$f":"IF(AU10=0,0,(AU10*((LOG(AU10))/LOG(2))))","v":0}]
[12,557,13,562,13,568,null,null,null,null,0,111,null,211,{"$f":"COUNTIF($L$7:$L$500,N11)","v":0},{"$f":"O11/$Q$4","v":0},{"$f":"IF(P11=0,0,(P11*((LOG(P11))/LOG(2))))","v":0},null,null,{"$f":"N11","v":211},{"$f":"COUNTIF(L7:L40,T11)","v":0},null,null,null,{"$f":"N11","v":211},{"$f":"COUNTIF(L41:L73,Y11)","v":0},null,null,null,{"$f":"N11","v":211},{"$f":"COUNTIF(L74:L107,AD11)","v":0},null,null,null,{"$f":"N11","v":211},{"$f":"COUNTIF(L108:L141,AI11)","v":0},null,null,null,{"$f":"N11","v":211},{"$f":"COUNTIF(L142:L174,AN11)","v":0},null,null,null,{"$f":"N11","v":211},{"$f":"COUNTIF(L175:L208,AS11)","v":0}]
[21,672,22,676,24,682,null,null,null,null,0,222,null,212,{"$f":"COUNTIF($L$7:$L$500,N12)","v":0},{"$f":"O12/$Q$4","v":0},{"$f":"IF(P12=0,0,(P12*((LOG(P12))/LOG(2))))","v":0},null,null,{"$f":"N12","v":212},{"$f":"COUNTIF(L7:L40,T12)","v":0},{"$f":"U12/(W4-U11)","v":0},{"$f":"IF(V12=0,0,(V12*((LOG(V12))/LOG(2))))","v":0},null,{"$f":"N12","v":212},{"$f":"COUNTIF(L41:L73,Y12)","v":0},{"$f":"Z12/(AB4-Z11)","v":0},{"$f":"IF(AA12=0,0,(AA12*((LOG(AA12))/LOG(2))))","v":0},null,{"$f":"N12","v":212},{"$f":"COUNTIF(L74:L107,AD12)","v":0},{"$f":"AE12/(AG4-AE11)","v":0},{"$f":"IF(AF12=0,0,(AF12*((LOG(AF12))/LOG(2))))","v":0},null,{"$f":"N12","v":212},{"$f":"COUNTIF(L108:L141,AI12)","v":0},{"$f":"AJ12/(AL4-AJ11)","v":0},{"$f":"IF(AK12=0,0,(AK12*((LOG(AK12))/LOG(2))))","v":0},null,{"$f":"N12","v":212},{"$f":"COUNTIF(L142:L174,AN12)","v":0},{"$f":"AO12/(AQ4-AO11)","v":0},{"$f":"IF(AP12=0,0,(AP12*((LOG(AP12))/LOG(2))))","v":0},null,{"$f":"N12","v":212},{"$f":"COUNTIF(L175:L208,AS12)","v":0},{"$f":"AT12/(AV4-AT11)","v":0},{"$f":"IF(AU12=0,0,(AU12*((LOG(AU12))/LOG(2))))","v":0}]
[21,796,22,809,24,823,null,null,null,null,0,222,null,221,{"$f":"COUNTIF($L$7:$L$500,N13)","v":0},{"$f":"O13/$Q$4","v":0},{"$f":"IF(P13=0,0,(P13*((LOG(P13))/LOG(2))))","v":0},null,null,{"$f":"N13","v":221},{"$f":"COUNTIF(L7:L40,T13)","v":0},{"$f":"U13/(W4-U11)","v":0},{"$f":"IF(V13=0,0,(V13*((LOG(V13))/LOG(2))))","v":0},null,{"$f":"N13","v":221},{"$f":"COUNTIF(L41:L73,Y13)","v":0},{"$f":"Z13/(AB4-Z11)","v":0},{"$f":"IF(AA13=0,0,(AA13*((LOG(AA13))/LOG(2))))","v":0},null,{"$f":"N13","v":221},{"$f":"COUNTIF(L74:L107,AD13)","v":0},{"$f":"AE13/(AG4-AE11)","v":0},{"$f":"IF(AF13=0,0,(AF13*((LOG(AF13))/LOG(2))))","v":0},null,{"$f":"N13","v":221},{"$f":"COUNTIF(L108:L141,AI13)","v":0},{"$f":"AJ13/(AL4-AJ11)","v":0},{"$f":"IF(AK13=0,0,(AK13*((LOG(AK13))/LOG(2))))","v":0},null,{"$f":"N13","v":221},{"$f":"COUNTIF(L142:L174,AN13)","v":0},{"$f":"AO13/(AQ4-AO11)","v":0},{"$f":"IF(AP13=0,0,(AP13*((LOG(AP13))/LOG(2))))","v":0},null,{"$f":"N13","v":221},{"$f":"COUNTIF(L175:L208,AS13)","v":0},{"$f":"AT13/(AV4-AT11)","v":0},{"$f":"IF(AU13=0,0,(AU13*((LOG(AU13))/LOG(2))))","v":0}]
[12,926,13,932,13,940,null,null,null,null,0,111,null,222,{"$f":"COUNTIF($L$7:$L$500,N14)","v":56},{"$f":"O14/$Q$4","v":0.27722772277227725},{"$f":"IF(P14=0,0,(P14*((LOG(P14))/LOG(2))))","v":-0.51310874949937957},null,null,{"$f":"N14","v":222},{"$f":"COUNTIF(L7:L40,T14)","v":12},{"$f":"U14/(W4-U11)","v":0.35294117647058826},{"$f":"IF(V14=0,0,(V14*((LOG(V14))/LOG(2))))","v":-0.53029423783382934},null,{"$f":"N14","v":222},{"$f":"COUNTIF(L41:L73,Y14)","v":11},{"$f":"Z14/(AB4-Z11)","v":0.33333333333333331},{"$f":"IF(AA14=0,0,(AA14*((LOG(AA14))/LOG(2))))","v":-0.52832083357371862},null,{"$f":"N14","v":222},{"$f":"COUNTIF(L74:L107,AD14)","v":7},{"$f":"AE14/(AG4-AE11)","v":0.20588235294117646},{"$f":"IF(AF14=0,0,(AF14*((LOG(AF14))/LOG(2))))","v":-0.46943398336321018},null,{"$f":"N14","v":222},{"$f":"COUNTIF(L108:L141,AI14)","v":8},{"$f":"AJ14/(AL4-AJ11)","v":0.23529411764705882},{"$f":"IF(AK14=0,0,(AK14*((LOG(AK14))/LOG(2))))","v":-0.49116772735302094},null,{"$f":"N14","v":222},{"$f":"COUNTIF(L142:L174,AN14)","v":5},{"$f":"AO14/(AQ4-AO11)","v":0.15151515151515152},{"$f":"IF(AP14=0,0,(AP14*((LOG(AP14))/LOG(2))))","v":-0.41249485219258958},null,{"$f":"N14","v":222},{"$f":"COUNTIF(L175:L208,AS14)","v":13},{"$f":"AT14/(AV4-AT11)","v":0.38235294117647056},{"$f":"IF(AU14=0,0,(AU14*((LOG(AU14))/LOG(2))))","v":-0.53033237060059457}]
[12,1043,13,1050,13,1056,null,null,null,null,0,111,null,null,null,{"$f":"SUM(P7:P14)","v":1},{"$f":"-SUM(Q7:Q14)","v":0.89435656350728321},null,null,null,null,{"$f":"SUM(V7:V14)","v":1},{"$f":"-SUM(W7:W14)","v":0.93666738187756238},null,null,null,{"$f":"SUM(AA7:AA14)","v":1},{"$f":"-SUM(AB7:AB14)","v":0.91829583405448945},null,null,null,{"$f":"SUM(AF7:AF14)","v":1},{"$f":"-SUM(AG7:AG14)","v":0.91502410224823283},null,null,null,{"$f":"SUM(AK7:AK14)","v":1},{"$f":"-SUM(AL7:AL14)","v":0.78712658620126885},null,null,null,{"$f":"SUM(AP7:AP14)","v":1},{"$f":"-SUM(AQ7:AQ14)","v":0.61361901959937082},null,null,null,{"$f":"SUM(AU7:AU14)","v":1},{"$f":"-SUM(AV7:AV14)","v":0.9596868937742169}]
[12,1156,13,1160,13,1165,null,null,null,null,0,111,null,null,null,"U=",{"$f":"Q15/(LOG(Q4)/LOG(2))","v":0.11678399917808455},null,null,null,null,"U1=",{"$f":"W15/(LOG(W4)/LOG(2))","v":0.18411286944109823},null,null,null,"U2=",{"$f":"AB15/(LOG(AB4)/LOG(2))","v":0.18204284049305774},null,null,null,"U3=",{"$f":"AG15/(LOG(AG4)/LOG(2))","v":0.17985863107028582},null,null,null,"U4=",{"$f":"AL15/(LOG(AL4)/LOG(2))","v":0.15471888655757096},null,null,null,"U5=",{"$f":"AQ15/(LOG(AQ4)/LOG(2))","v":0.12164375048423277},null,null,null,"U6=",{"$f":"AV15/(LOG(AV4)/LOG(2))","v":0.18863762227270753}]
[12,1272,13,1276,13,1281,null,null,null,null,0,111]
[12,1381,13,1389,13,1394,null,null,null,null,0,111]
[12,1498,13,1504,13,1512,null,null,null,null,0,111,null,"Total Target Seq"]
[12,1614,13,1619,13,1628,null,null,null,null,0,111,null,{"$f":"COUNTIF(L7:L208,G3)","v":0},null,34,33,34,34,33,34]
[12,1722,13,1726,13,1735,null,null,null,null,0,111,null,null,null,"% of reinforcement given in 6 equal intervals based on number of trials "]
[12,1845,13,1853,13,1861,null,null,null,null,0,111,null,null,null,"%_1","%_2","%_3","%_4","%_5","%_6"]
[21,1970,22,1975,24,1979,null,null,null,null,0,222,null,null,"target sequence",{"$f":"$G$3","v":211},{"$f":"$G$3","v":211},{"$f":"$G$3","v":211},{"$f":"$G$3","v":211},{"$f":"$G$3","v":211},{"$f":"$G$3","v":211}]
[12,2085,13,2092,13,2100,null,null,null,null,0,111,null,null,"total reinforcement",{"$f":"U11","v":0},{"$f":"Z11","v":0},{"$f":"AE11","v":0},{"$f":"AJ11","v":0},{"$f":"AO11","v":0},{"$f":"AT11","v":0}]
[21,2205,22,2210,24,2215,null,null,null,null,0,222,null,null,"% target"]
[12,2320,13,2328,13,2335,null,null,null,null,0,111,null,null,"CCRF"]
[12,2439,13,2444,13,2449,null,null,null,null,0,111,null,null,"% CCRf"]
[12,2562,13,2566,13,2571,null,null,null,null,0,111,null,null,"average response rate",{"$f":"F40/P20","v":118.20588235294117},{"$f":"(F73-F40)/Q20","v":119.96969696969697},{"$f":"(F107-F73)/R20","v":119.5},{"$f":"(F141-F107)/S20","v":115.67647058823529},{"$f":"(F174-F141)/T20","v":116.15151515151516},{"$f":"(F208-F174)/U20","v":121.32352941176471}]
[21,2687,22,2704,24,2725,null,null,null,null,0,222]
[21,2837,22,2838,24,2846,null,null,null,null,0,222]
[21,2955,22,2960,24,2975,null,null,null,null,0,222]
[12,3076,13,3081,13,3087,null,null,null,null,0,111]
[21,3184,22,3189,24,3194,null,null,null,null,0,222]
[21,3306,22,3312,24,3324,null,null,null,null,0,222]
[12,3427,13,3432,13,3437,null,null,null,null,0,111]
[12,3539,13,3544,13,3552,null,null,null,null,0,111]
[21,3652,22,3660,24,3665,null,null,null,null,0,222]
[12,3766,13,3771,13,3779,null,null,null,null,0,111]
[12,3882,13,3887,13,3895,null,null,null,null,0,111]
[12,4003,13,4010,13,4019,null,null,null,null,0,111]
[21,4132,22,4136,24,4150,null,null,null,null,0,222]
[21,4254,22,4260,24,4270,null,null,null,null,0,222]
[12,4372,13,4377,13,4384,null,null,null,null,0,111]
[12,4491,13,4500,13,4508,null,null,null,null,0,111]
[12,4615,13,4622,13,4630,null,null,null,null,0,111]
[12,4732,13,4737,13,4743,null,null,null,null,0,111]
[21,4849,22,4860,24,4866,null,null,null,null,0,222]
[12,4966,13,4974,13,4980,null,null,null,null,0,111]
[12,5083,13,5091,13,5098,null,null,null,null,0,111]
[12,5203,13,5208,13,5213,null,null,null,null,0,111]
[21,5369,22,5375,24,5403,null,null,null,null,0,222]
[12,5522,13,5527,13,5535,null,null,null,null,0,111]
[12,5639,13,5648,13,5654,null,null,null,null,0,111]
[21,5767,22,5778,24,5796,null,null,null,null,0,222]
[12,5896,13,5900,13,5907,null,null,null,null,0,111]
[21,6015,22,6021,24,6031,null,null,null,null,0,222]
[21,6126,22,6134,24,6139,null,null,null,null,0,222]
[12,6243,13,6252,13,6257,null,null,null,null,0,111]
[21,6358,22,6363,24,6373,null,null,null,null,0,222]
[21,6475,22,6480,24,6485,null,null,null,null,0,222]
[12,6589,13,6596,13,6601,null,null,null,null,0,111]
[21,6715,22,6720,24,6728,null,null,null,null,0,222]
[12,6829,13,6833,13,6838,null,null,null,null,0,111]
[12,6940,13,6945,13,6951,null,null,null,null,0,111]
[12,7061,13,7065,13,7070,null,null,null,null,0,111]
[21,7172,22,7176,24,7181,null,null,null,null,0,222]
[12,7282,13,7286,13,7292,null,null,null,null,0,111]
[12,7396,13,7401,13,7408,null,null,null,null,0,111]
[12,7511,13,7515,13,7520,null,null,null,null,0,111]
[12,7621,13,7625,13,7631,null,null,null,null,0,111]
[12,7737,13,7745,13,7752,null,null,null,null,0,111]
[12,7854,13,7861,13,7865,null,null,null,null,0,111]
[12,7969,13,7973,13,7978,null,null,null,null,0,111]
[12,8081,13,8085,13,8090,null,null,null,null,0,111]
[12,8228,13,8233,13,8241,null,null,null,null,0,111]
[12,8351,13,8356,13,8363,null,null,null,null,0,111]
[12,8468,13,8473,13,8478,null,null,null,null,0,111]
[21,8588,22,8593,24,8602,null,null,null,null,0,222]
[12,8703,13,8707,13,8713,null,null,null,null,0,111]
[12,8810,13,8814,13,8819,null,null,null,null,0,111]
[12,8930,13,8936,13,8944,null,null,null,null,0,111]
[21,9060,22,9065,24,9074,null,null,null,null,0,222]
[12,9177,13,9180,13,9186,null,null,null,null,0,111]
[12,9289,13,9293,13,9298,null,null,null,null,0,111]
[12,9400,13,9407,13,9412,null,null,null,null,0,111]
[12,9516,13,9520,13,9524,null,null,null,null,0,111]
[21,9647,22,9653,24,9661,null,null,null,null,0,222]
[12,9763,13,9768,13,9775,null,null,null,null,0,111]
[12,9873,13,9879,13,9885,null,null,null,null,0,111]
[12,9987,13,9992,13,9999,null,null,null,null,0,111]
[12,10101,13,10106,13,10111,null,null,null,null,0,111]
[12,10215,13,10219,13,10227,null,null,null,null,0,111]
[21,10342,22,10349,24,10369,null,null,null,null,0,222]
[12,10465,13,10470,13,10477,null,null,null,null,0,111]
[21,10606,22,10611,24,10626,null,null,null,null,0,222]
[12,10739,13,10746,24,10759,null,null,null,null,0,112]
[12,10860,13,10865,13,10870,null,null,null,null,0,111]
[12,10974,13,10981,13,10988,null,null,null,null,0,111]
[12,11098,13,11105,13,11112,null,null,null,null,0,111]
[12,11212,13,11216,13,11227,null,null,null,null,0,111]
[12,11328,13,11331,13,11335,null,null,null,null,0,111]
[12,11442,13,11446,13,11453,null,null,null,null,0,111]
[12,11555,13,11559,13,11565,null,null,null,null,0,111]
[21,11673,22,11677,24,11683,null,null,null,null,0,222]
[12,11788,13,11792,13,11799,null,null,null,null,0,111]
[21,11914,22,11919,24,11927,null,null,null,null,0,222]
[12,12032,13,12036,13,12041,null,null,null,null,0,111]
[12,12140,13,12144,13,12151,null,null,null,null,0,111]
[12,12262,13,12266,13,12271,null,null,null,null,0,111]
[21,12388,22,12393,24,12402,null,null,null,null,0,222]
[12,12507,13,12513,13,12520,null,null,null,null,0,111]
[12,12624,13,12628,13,12633,null,null,null,null,0,111]
[12,12736,13,12739,13,12744,null,null,null,null,0,111]
[12,12851,13,12858,13,12863,null,null,null,null,0,111]
[21,12970,22,12974,24,12978,null,null,null,null,0,222]
[21,13081,22,13085,24,13088,null,null,null,null,0,222]
[21,13200,22,13205,24,13216,null,null,null,null,0,222]
[12,13324,13,13328,13,13333,null,null,null,null,0,111]
[21,13439,22,13444,24,13448,null,null,null,null,0,222]
[12,13550,13,13554,13,13560,null,null,null,null,0,111]
[12,13664,13,13669,13,13673,null,null,null,null,0,111]
[12,13770,13,13777,13,13781,null,null,null,null,0,111]
[12,13883,13,13887,13,13896,null,null,null,null,0,111]
[12,13990,13,13994,13,14000,null,null,null,null,0,111]
[12,14107,13,14115,13,14121,null,null,null,null,0,111]
[12,14228,13,14234,13,14242,null,null,null,null,0,111]
[12,14343,13,14347,13,14352,null,null,null,null,0,111]
[21,14464,22,14468,24,14475,null,null,null,null,0,222]
[12,14574,13,14578,13,14582,null,null,null,null,0,111]
[12,14685,13,14689,13,14694,null,null,null,null,0,111]
[12,14798,13,14803,13,14808,null,null,null,null,0,111]
[12,14919,13,14923,13,14931,null,null,null,null,0,111]
[12,15040,13,15044,13,15050,null,null,null,null,0,111]
[12,15155,13,15159,13,15165,null,null,null,null,0,111]
[21,15278,22,15283,24,15298,null,null,null,null,0,222]
[12,15402,13,15407,13,15414,null,null,null,null,0,111]
[21,15519,22,15523,24,15527,null,null,null,null,0,222]
[12,15625,13,15629,13,15634,null,null,null,null,0,111]
[12,15733,13,15737,13,15742,null,null,null,null,0,111]
[12,15845,13,15850,13,15855,null,null,null,null,0,111]
[12,15962,13,15967,13,15974,null,null,null,null,0,111]
[12,16073,13,16077,13,16081,null,null,null,null,0,111]
[12,16182,13,16187,13,16191,null,null,null,null,0,111]
[12,16294,13,16298,13,16303,null,null,null,null,0,111]
[12,16408,13,16412,13,16420,null,null,null,null,0,111]
[21,16526,22,16530,24,16534,null,null,null,null,0,222]
[12,16637,13,16641,13,16649,null,null,null,null,0,111]
[12,16752,13,16757,13,16762,null,null,null,null,0,111]
[21,16866,22,16870,24,16874,null,null,null,null,0,222]
[12,16974,13,16978,13,16983,null,null,null,null,0,111]
[12,17082,13,17087,13,17092,null,null,null,null,0,111]
[12,17196,13,17200,13,17211,null,null,null,null,0,111]
[12,17315,13,17319,13,17324,null,null,null,null,0,111]
[12,17435,13,17439,13,17444,null,null,null,null,0,111]
[12,17545,13,17550,13,17555,null,null,null,null,0,111]
[12,17672,13,17677,13,17684,null,null,null,null,0,111]
[21,17795,22,17814,24,17822,null,null,null,null,0,222]
[21,17928,22,17932,24,17951,null,null,null,null,0,222]
[21,18066,22,18070,24,18077,null,null,null,null,0,222]
[12,18186,13,18191,13,18197,null,null,null,null,0,111]
[12,18303,13,18308,13,18316,null,null,null,null,0,111]
[12,18415,13,18419,13,18423,null,null,null,null,0,111]
[12,18526,13,18530,13,18535,null,null,null,null,0,111]
[12,18641,13,18645,13,18650,null,null,null,null,0,111]
[12,18759,13,18765,13,18774,null,null,null,null,0,111]
[12,18877,13,18881,13,18888,null,null,null,null,0,111]
[12,18989,13,18993,13,18998,null,null,null,null,0,111]
[12,19117,13,19124,13,19134,null,null,null,null,0,111]
[12,19242,13,19246,13,19251,null,null,null,null,0,111]
[12,19350,13,19354,13,19358,null,null,null,null,0,111]
[12,19462,13,19466,13,19471,null,null,null,null,0,111]
[12,19574,13,19578,13,19586,null,null,null,null,0,111]
[12,19687,13,19691,13,19699,null,null,null,null,0,111]
[12,19798,13,19802,13,19807,null,null,null,null,0,111]
[21,19909,22,19914,24,19918,null,null,null,null,0,222]
[12,20025,13,20029,13,20035,null,null,null,null,0,111]
[12,20137,13,20144,13,20151,null,null,null,null,0,111]
[12,20255,13,20259,13,20267,null,null,null,null,0,111]
[12,20372,13,20378,13,20384,null,null,null,null,0,111]
[12,20485,13,20489,13,20494,null,null,null,null,0,111]
[12,20613,13,20619,13,20632,null,null,null,null,0,111]
[21,20738,22,20743,24,20750,null,null,null,null,0,222]
[12,20859,13,20864,13,20872,null,null,null,null,0,111]
[12,20978,13,20981,13,20986,null,null,null,null,0,111]
[12,21091,13,21095,13,21103,null,null,null,null,0,111]
[12,21221,13,21227,13,21234,null,null,null,null,0,111]
[21,21340,22,21349,24,21355,null,null,null,null,0,222]
[21,21471,22,21475,24,21482,null,null,null,null,0,222]
[21,21602,22,21610,24,21623,null,null,null,null,0,222]
[12,21726,13,21731,13,21736,null,null,null,null,0,111]
[21,21867,22,21880,24,21898,null,null,null,null,0,222]
[21,22003,22,22007,24,22011,null,null,null,null,0,222]
[12,22118,13,22123,13,22128,null,null,null,null,0,111]
[12,22230,13,22235,13,22239,null,null,null,null,0,111]
[12,22342,13,22346,13,22350,null,null,null,null,0,111]
[12,22474,13,22479,13,22486,null,null,null,null,0,111]
[12,22591,13,22596,13,22603,null,null,null,null,0,111]
[12,22704,13,22709,13,22713,null,null,null,null,0,111]
[21,22821,22,22825,24,22829,null,null,null,null,0,222]
[21,22934,22,22938,24,22942,null,null,null,null,0,222]
[21,23059,22,23063,24,23068,null,null,null,null,0,222]
[21,23196,22,23200,24,23205,null,null,null,null,0,222]
[21,23324,22,23330,24,23337,null,null,null,null,0,222]
[12,23438,13,23442,13,23449,null,null,null,null,0,111]
[12,23553,13,23557,13,23564,null,null,null,null,0,111]
[12,23669,13,23673,13,23680,null,null,null,null,0,111]
[12,23785,13,23789,13,23795,null,null,null,null,0,111]
[21,23907,22,23912,24,23932,null,null,null,null,null,222]

{"sheet":"!MA16740.091","index":27,"n_rows":136,"n_cols":48,"rows_kept":136,"cut":false,"hidden":false,"merged":[[4,39,4,42],[5,39,5,40],[4,44,4,47],[5,44,5,45],[4,24,4,27],[5,24,5,25],[4,29,4,32],[5,29,5,30],[4,34,4,37],[5,34,5,35],[1,1,1,2],[5,13,5,14],[18,13,18,14],[19,13,19,14],[4,19,4,22],[5,19,5,20]]}
["Report for:!MA16740.091"]
["Date:","<date>"]
["Hen:","<hen>",null,null,null,"Correct Sequence",{"$f":"Start!J2","v":211},null,null,null,null,null,null,null,null,"Total Sequences in Data",{"$f":"4994-COUNTBLANK(L7:L5000)","v":130},null,null,null,null,"Total Sequences in Block Data",{"$f":"COUNTA(L7:L28)","v":22},null,null,null,"Total Sequences in Block Data",{"$f":"COUNTA(L29:L49)","v":21},null,null,null,"Total Sequences in Block Data",{"$f":"COUNTA(L50:L71)","v":22},null,null,null,"Total Sequences in Block Data",{"$f":"COUNTA(L72:L93)","v":22},null,null,null,"Total Sequences in Block Data",{"$f":"COUNTA(L94:L114)","v":21},null,null,null,"Total Sequences in Block Data",{"$f":"COUNTA(L115:L136)","v":22}]
[null,null,null,null,null,null,null,null,null,null,null,null,null,null,null,"Total Sequences in Summary",{"$f":"SUM(O7:O14)","v":130},null,null,null,null,"Total Sequences in Block Summary",{"$f":"SUM(U7:U14)","v":22},null,null,null,"Total Sequences in Block Summary",{"$f":"SUM(Z7:Z14)","v":21},null,null,null,"Total Sequences in Block Summary",{"$f":"SUM(AE7:AE14)","v":22},null,null,null,"Total Sequences in Block Summary",{"$f":"SUM(AJ7:AJ14)","v":22},null,null,null,"Total Sequences in Block Summary",{"$f":"SUM(AO7:AO14)","v":21},null,null,null,"Total Sequences in Block Summary",{"$f":"SUM(AT7:AT14)","v":22}]
[null,null,null,null,null,null,null,null,null,null,null,null,null,null,null,null,null,null,null,"Block 1",null,null,null,null,"Block 2",null,null,null,null,"Block 3",null,null,null,null,"Block 4",null,null,null,null,"Block 5",null,null,null,null,"Block 6"]
["Sequence\nComponent\n1","Time\n1","Sequence\nComponent\n2","Time\n2","Sequence\nComponent\n3","Time\n3","Sequence\nComponent\n4","Time\n4","Sequence\nComponent\n5","Time\n5","Correct?\n0=No 1=Yes","Sequence",null,"Frequency",null,"Relative Frequency","Variability",null,null,"Frequency",null,"Relative Frequency","Variability",null,"Frequency",null,"Relative Frequency","Variability",null,"Frequency",null,"Relative Frequency","Variability",null,"Frequency",null,"Relative Frequency","Variability",null,"Frequency",null,"Relative Frequency","Variability",null,"Frequency",null,"Relative Frequency","Variability"]
[21,32,22,84,24,89,null,null,null,null,0,222,null,111,{"$f":"COUNTIF($L$7:$L$500,N7)","v":60},{"$f":"O7/$Q$4","v":0.46153846153846156},{"$f":"IF(P7=0,0,(P7*((LOG(P7))/LOG(2))))","v":-0.51483563880920125},null,null,{"$f":"N7","v":111},{"$f":"COUNTIF(L7:L28,T7)","v":13},{"$f":"U7/(W4-U11)","v":0.59090909090909094},{"$f":"IF(V7=0,0,(V7*((LOG(V7))/LOG(2))))","v":-0.4484952139295757},null,{"$f":"N7","v":111},{"$f":"COUNTIF(L29:L49,Y7)","v":11},{"$f":"Z7/(AB4-Z11)","v":0.52380952380952384},{"$f":"IF(AA7=0,0,(AA7*((LOG(AA7))/LOG(2))))","v":-0.4886544688360045},null,{"$f":"N7","v":111},{"$f":"COUNTIF(L50:L71,AD7)","v":9},{"$f":"AE7/(AG4-AE11)","v":0.40909090909090912},{"$f":"IF(AF7=0,0,(AF7*((LOG(AF7))/LOG(2))))","v":-0.52752543430703935},null,{"$f":"N7","v":111},{"$f":"COUNTIF(L72:L93,AI7)","v":9},{"$f":"AJ7/(AL4-AJ11)","v":0.40909090909090912},{"$f":"IF(AK7=0,0,(AK7*((LOG(AK7))/LOG(2))))","v":-0.52752543430703935},null,{"$f":"N7","v":111},{"$f":"COUNTIF(L94:L114,AN7)","v":11},{"$f":"AO7/(AQ4-AO11)","v":0.52380952380952384},{"$f":"IF(AP7=0,0,(AP7*((LOG(AP7))/LOG(2))))","v":-0.4886544688360045},null,{"$f":"N7","v":111},{"$f":"COUNTIF(L115:L136,AS7)","v":7},{"$f":"AT7/(AV4-AT11)","v":0.31818181818181818},{"$f":"IF(AU7=0,0,(AU7*((LOG(AU7))/LOG(2))))","v":-0.52566076709353871}]
[12,208,13,215,13,223,null,null,null,null,0,111,null,112,{"$f":"COUNTIF($L$7:$L$500,N8)","v":0},{"$f":"O8/$Q$4","v":0},{"$f":"IF(P8=0,0,(P8*((LOG(P8))/LOG(2))))","v":0},null,null,{"$f":"N8","v":112},{"$f":"COUNTIF(L7:L28,T8)","v":0},{"$f":"U8/(W4-U11)","v":0},{"$f":"IF(V8=0,0,(V8*((LOG(V8))/LOG(2))))","v":0},null,{"$f":"N8","v":112},{"$f":"COUNTIF(L29:L49,Y8)","v":0},{"$f":"Z8/(AB4-Z11)","v":0},{"$f":"IF(AA8=0,0,(AA8*((LOG(AA8))/LOG(2))))","v":0},null,{"$f":"N8","v":112},{"$f":"COUNTIF(L50:L71,AD8)","v":0},{"$f":"AE8/(AG4-AE11)","v":0},{"$f":"IF(AF8=0,0,(AF8*((LOG(AF8))/LOG(2))))","v":0},null,{"$f":"N8","v":112},{"$f":"COUNTIF(L72:L93,AI8)","v":0},{"$f":"AJ8/(AL4-AJ11)","v":0},{"$f":"IF(AK8=0,0,(AK8*((LOG(AK8))/LOG(2))))","v":0},null,{"$f":"N8","v":112},{"$f":"COUNTIF(L94:L114,AN8)","v":0},{"$f":"AO8/(AQ4-AO11)","v":0},{"$f":"IF(AP8=0,0,(AP8*((LOG(AP8))/LOG(2))))","v":0},null,{"$f":"N8","v":112},{"$f":"COUNTIF(L115:L136,AS8)","v":0},{"$f":"AT8/(AV4-AT11)","v":0},{"$f":"IF(AU8=0,0,(AU8*((LOG(AU8))/LOG(2))))","v":0}]
[21,333,22,338,24,346,null,null,null,null,0,222,null,121,{"$f":"COUNTIF($L$7:$L$500,N9)","v":0},{"$f":"O9/$Q$4","v":0},{"$f":"IF(P9=0,0,(P9*((LOG(P9))/LOG(2))))","v":0},null,null,{"$f":"N9","v":121},{"$f":"COUNTIF(L7:L28,T9)","v":0},{"$f":"U9/(W4-U11)","v":0},{"$f":"IF(V9=0,0,(V9*((LOG(V9))/LOG(2))))","v":0},null,{"$f":"N9","v":121},{"$f":"COUNTIF(L29:L49,Y9)","v":0},{"$f":"Z9/(AB4-Z11)","v":0},{"$f":"IF(AA9=0,0,(AA9*((LOG(AA9))/LOG(2))))","v":0},null,{"$f":"N9","v":121},{"$f":"COUNTIF(L50:L71,AD9)","v":0},{"$f":"AE9/(AG4-AE11)","v":0},{"$f":"IF(AF9=0,0,(AF9*((LOG(AF9))/LOG(2))))","v":0},null,{"$f":"N9","v":121},{"$f":"COUNTIF(L72:L93,AI9)","v":0},{"$f":"AJ9/(AL4-AJ11)","v":0},{"$f":"IF(AK9=0,0,(AK9*((LOG(AK9))/LOG(2))))","v":0},null,{"$f":"N9","v":121},{"$f":"COUNTIF(L94:L114,AN9)","v":0},{"$f":"AO9/(AQ4-AO11)","v":0},{"$f":"IF(AP9=0,0,(AP9*((LOG(AP9))/LOG(2))))","v":0},null,{"$f":"N9","v":121},{"$f":"COUNTIF(L115:L136,AS9)","v":0},{"$f":"AT9/(AV4-AT11)","v":0},{"$f":"IF(AU9=0,0,(AU9*((LOG(AU9))/LOG(2))))","v":0}]
[12,448,13,457,13,465,null,null,null,null,0,111,null,122,{"$f":"COUNTIF($L$7:$L$500,N10)","v":0},{"$f":"O10/$Q$4","v":0},{"$f":"IF(P10=0,0,(P10*((LOG(P10))/LOG(2))))","v":0},null,null,{"$f":"N10","v":122},{"$f":"COUNTIF(L7:L28,T10)","v":0},{"$f":"U10/(W4-U11)","v":0},{"$f":"IF(V10=0,0,(V10*((LOG(V10))/LOG(2))))","v":0},null,{"$f":"N10","v":122},{"$f":"COUNTIF(L29:L49,Y10)","v":0},{"$f":"Z10/(AB4-Z11)","v":0},{"$f":"IF(AA10=0,0,(AA10*((LOG(AA10))/LOG(2))))","v":0},null,{"$f":"N10","v":122},{"$f":"COUNTIF(L50:L71,AD10)","v":0},{"$f":"AE10/(AG4-AE11)","v":0},{"$f":"IF(AF10=0,0,(AF10*((LOG(AF10))/LOG(2))))","v":0},null,{"$f":"N10","v":122},{"$f":"COUNTIF(L72:L93,AI10)","v":0},{"$f":"AJ10/(AL4-AJ11)","v":0},{"$f":"IF(AK10=0,0,(AK10*((LOG(AK10))/LOG(2))))","v":0},null,{"$f":"N10","v":122},{"$f":"COUNTIF(L94:L114,AN10)","v":0},{"$f":"AO10/(AQ4-AO11)","v":0},{"$f":"IF(AP10=0,0,(AP10*((LOG(AP10))/LOG(2))))","v":0},null,{"$f":"N10","v":122},{"$f":"COUNTIF(L115:L136,AS10)","v":0},{"$f":"AT10/(AV4-AT11)","v":0},{"$f":"IF(AU10=0,0,(AU10*((LOG(AU10))/LOG(2))))","v":0}]
[21,569,22,575,24,589,null,null,null,null,0,222,null,211,{"$f":"COUNTIF($L$7:$L$500,N11)","v":0},{"$f":"O11/$Q$4","v":0},{"$f":"IF(P11=0,0,(P11*((LOG(P11))/LOG(2))))","v":0},null,null,{"$f":"N11","v":211},{"$f":"COUNTIF(L7:L28,T11)","v":0},null,null,null,{"$f":"N11","v":211},{"$f":"COUNTIF(L29:L49,Y11)","v":0},null,null,null,{"$f":"N11","v":211},{"$f":"COUNTIF(L50:L71,AD11)","v":0},null,null,null,{"$f":"N11","v":211},{"$f":"COUNTIF(L72:L93,AI11)","v":0},null,null,null,{"$f":"N11","v":211},{"$f":"COUNTIF(L94:L114,AN11)","v":0},null,null,null,{"$f":"N11","v":211},{"$f":"COUNTIF(L115:L136,AS11)","v":0}]
[12,692,13,697,13,704,null,null,null,null,0,111,null,212,{"$f":"COUNTIF($L$7:$L$500,N12)","v":0},{"$f":"O12/$Q$4","v":0},{"$f":"IF(P12=0,0,(P12*((LOG(P12))/LOG(2))))","v":0},null,null,{"$f":"N12","v":212},{"$f":"COUNTIF(L7:L28,T12)","v":0},{"$f":"U12/(W4-U11)","v":0},{"$f":"IF(V12=0,0,(V12*((LOG(V12))/LOG(2))))","v":0},null,{"$f":"N12","v":212},{"$f":"COUNTIF(L29:L49,Y12)","v":0},{"$f":"Z12/(AB4-Z11)","v":0},{"$f":"IF(AA12=0,0,(AA12*((LOG(AA12))/LOG(2))))","v":0},null,{"$f":"N12","v":212},{"$f":"COUNTIF(L50:L71,AD12)","v":0},{"$f":"AE12/(AG4-AE11)","v":0},{"$f":"IF(AF12=0,0,(AF12*((LOG(AF12))/LOG(2))))","v":0},null,{"$f":"N12","v":212},{"$f":"COUNTIF(L72:L93,AI12)","v":0},{"$f":"AJ12/(AL4-AJ11)","v":0},{"$f":"IF(AK12=0,0,(AK12*((LOG(AK12))/LOG(2))))","v":0},null,{"$f":"N12","v":212},{"$f":"COUNTIF(L94:L114,AN12)","v":0},{"$f":"AO12/(AQ4-AO11)","v":0},{"$f":"IF(AP12=0,0,(AP12*((LOG(AP12))/LOG(2))))","v":0},null,{"$f":"N12","v":212},{"$f":"COUNTIF(L115:L136,AS12)","v":0},{"$f":"AT12/(AV4-AT11)","v":0},{"$f":"IF(AU12=0,0,(AU12*((LOG(AU12))/LOG(2))))","v":0}]
[12,820,13,828,13,835,null,null,null,null,0,111,null,221,{"$f":"COUNTIF($L$7:$L$500,N13)","v":0},{"$f":"O13/$Q$4","v":0},{"$f":"IF(P13=0,0,(P13*((LOG(P13))/LOG(2))))","v":0},null,null,{"$f":"N13","v":221},{"$f":"COUNTIF(L7:L28,T13)","v":0},{"$f":"U13/(W4-U11)","v":0},{"$f":"IF(V13=0,0,(V13*((LOG(V13))/LOG(2))))","v":0},null,{"$f":"N13","v":221},{"$f":"COUNTIF(L29:L49,Y13)","v":0},{"$f":"Z13/(AB4-Z11)","v":0},{"$f":"IF(AA13=0,0,(AA13*((LOG(AA13))/LOG(2))))","v":0},null,{"$f":"N13","v":221},{"$f":"COUNTIF(L50:L71,AD13)","v":0},{"$f":"AE13/(AG4-AE11)","v":0},{"$f":"IF(AF13=0,0,(AF13*((LOG(AF13))/LOG(2))))","v":0},null,{"$f":"N13","v":221},{"$f":"COUNTIF(L72:L93,AI13)","v":0},{"$f":"AJ13/(AL4-AJ11)","v":0},{"$f":"IF(AK13=0,0,(AK13*((LOG(AK13))/LOG(2))))","v":0},null,{"$f":"N13","v":221},{"$f":"COUNTIF(L94:L114,AN13)","v":0},{"$f":"AO13/(AQ4-AO11)","v":0},{"$f":"IF(AP13=0,0,(AP13*((LOG(AP13))/LOG(2))))","v":0},null,{"$f":"N13","v":221},{"$f":"COUNTIF(L115:L136,AS13)","v":0},{"$f":"AT13/(AV4-AT11)","v":0},{"$f":"IF(AU13=0,0,(AU13*((LOG(AU13))/LOG(2))))","v":0}]
[12,941,13,945,13,950,null,null,null,null,0,111,null,222,{"$f":"COUNTIF($L$7:$L$500,N14)","v":70},{"$f":"O14/$Q$4","v":0.53846153846153844},{"$f":"IF(P14=0,0,(P14*((LOG(P14))/LOG(2))))","v":-0.48089181327572433},null,null,{"$f":"N14","v":222},{"$f":"COUNTIF(L7:L28,T14)","v":9},{"$f":"U14/(W4-U11)","v":0.40909090909090912},{"$f":"IF(V14=0,0,(V14*((LOG(V14))/LOG(2))))","v":-0.52752543430703935},null,{"$f":"N14","v":222},{"$f":"COUNTIF(L29:L49,Y14)","v":10},{"$f":"Z14/(AB4-Z11)","v":0.47619047619047616},{"$f":"IF(AA14=0,0,(AA14*((LOG(AA14))/LOG(2))))","v":-0.50970920375780859},null,{"$f":"N14","v":222},{"$f":"COUNTIF(L50:L71,AD14)","v":13},{"$f":"AE14/(AG4-AE11)","v":0.59090909090909094},{"$f":"IF(AF14=0,0,(AF14*((LOG(AF14))/LOG(2))))","v":-0.4484952139295757},null,{"$f":"N14","v":222},{"$f":"COUNTIF(L72:L93,AI14)","v":13},{"$f":"AJ14/(AL4-AJ11)","v":0.59090909090909094},{"$f":"IF(AK14=0,0,(AK14*((LOG(AK14))/LOG(2))))","v":-0.4484952139295757},null,{"$f":"N14","v":222},{"$f":"COUNTIF(L94:L114,AN14)","v":10},{"$f":"AO14/(AQ4-AO11)","v":0.47619047619047616},{"$f":"IF(AP14=0,0,(AP14*((LOG(AP14))/LOG(2))))","v":-0.50970920375780859},null,{"$f":"N14","v":222},{"$f":"COUNTIF(L115:L136,AS14)","v":15},{"$f":"AT14/(AV4-AT11)","v":0.68181818181818177},{"$f":"IF(AU14=0,0,(AU14*((LOG(AU14))/LOG(2))))","v":-0.37673251570144006}]
[12,1056,13,1060,13,1064,null,null,null,null,0,111,null,null,null,{"$f":"SUM(P7:P14)","v":1},{"$f":"-SUM(Q7:Q14)","v":0.99572745208492552},null,null,null,null,{"$f":"SUM(V7:V14)","v":1},{"$f":"-SUM(W7:W14)","v":0.97602064823661505},null,null,null,{"$f":"SUM(AA7:AA14)","v":1},{"$f":"-SUM(AB7:AB14)","v":0.99836367259381309},null,null,null,{"$f":"SUM(AF7:AF14)","v":1},{"$f":"-SUM(AG7:AG14)","v":0.97602064823661505},null,null,null,{"$f":"SUM(AK7:AK14)","v":1},{"$f":"-SUM(AL7:AL14)","v":0.97602064823661505},null,null,null,{"$f":"SUM(AP7:AP14)","v":1},{"$f":"-SUM(AQ7:AQ14)","v":0.99836367259381309},null,null,null,{"$f":"SUM(AU7:AU14)","v":1},{"$f":"-SUM(AV7:AV14)","v":0.90239328279497877}]
[21,1200,22,1207,24,1216,null,null,null,null,0,222,null,null,null,"U=",{"$f":"Q15/(LOG(Q4)/LOG(2))","v":0.14179369104500233},null,null,null,null,"U1=",{"$f":"W15/(LOG(W4)/LOG(2))","v":0.21886660267589553},null,null,null,"U2=",{"$f":"AB15/(LOG(AB4)/LOG(2))","v":0.22729770562943677},null,null,null,"U3=",{"$f":"AG15/(LOG(AG4)/LOG(2))","v":0.21886660267589553},null,null,null,"U4=",{"$f":"AL15/(LOG(AL4)/LOG(2))","v":0.21886660267589553},null,null,null,"U5=",{"$f":"AQ15/(LOG(AQ4)/LOG(2))","v":0.22729770562943677},null,null,null,"U6=",{"$f":"AV15/(LOG(AV4)/LOG(2))","v":0.20235612068219805}]
[21,1310,22,1318,24,1324,null,null,null,null,0,222]
[12,1799,13,1808,13,1815,null,null,null,null,0,111]
[21,2133,22,2139,24,2148,null,null,null,null,0,222,null,"Total Target Seq"]
[12,2296,13,2302,13,2309,null,null,null,null,0,111,null,{"$f":"COUNTIF(L7:L136,G3)","v":0},null,22,21,22,22,21,22]
[21,2426,22,2430,24,2436,null,null,null,null,0,222,null,null,null,"% of reinforcement given in 6 equal intervals based on number of trials "]
[12,2543,13,2547,13,2552,null,null,null,null,0,111,null,null,null,"%_1","%_2","%_3","%_4","%_5","%_6"]
[12,2667,13,2671,13,2676,null,null,null,null,0,111,null,null,"target sequence",{"$f":"$G$3","v":211},{"$f":"$G$3","v":211},{"$f":"$G$3","v":211},{"$f":"$G$3","v":211},{"$f":"$G$3","v":211},{"$f":"$G$3","v":211}]
[12,2849,13,2854,13,2861,null,null,null,null,0,111,null,null,"total reinforcement",{"$f":"U11","v":0},{"$f":"Z11","v":0},{"$f":"AE11","v":0},{"$f":"AJ11","v":0},{"$f":"AO11","v":0},{"$f":"AT11","v":0}]
[21,3052,22,3059,24,3064,null,null,null,null,0,222,null,null,"% target"]
[12,3177,13,3182,13,3188,null,null,null,null,0,111,null,null,"CCRF"]
[12,3294,13,3300,13,3305,null,null,null,null,0,111,null,null,"% CCRf"]
[21,3550,22,3555,24,3563,null,null,null,null,0,222,null,null,"average response rate",{"$f":"F28/P20","v":161.95454545454547},{"$f":"(F49-F28)/Q20","v":151.1904761904762},{"$f":"(F71-F49)/R20","v":161.40909090909091},{"$f":"(F93-F71)/S20","v":197.59090909090909},{"$f":"(F114-F93)/T20","v":224.42857142857142},{"$f":"(F136-F114)/U20","v":194.72727272727272}]
[12,3817,13,3822,13,3829,null,null,null,null,0,111]
[21,3934,22,3940,24,3947,null,null,null,null,0,222]
[12,4224,13,4231,13,4239,null,null,null,null,0,111]
[21,4361,22,4365,24,4370,null,null,null,null,0,222]
[12,4472,13,4476,13,4481,null,null,null,null,0,111]
[12,4582,13,4587,13,4591,null,null,null,null,0,111]
[21,4709,22,4714,24,4718,null,null,null,null,0,222]
[21,4826,22,4831,24,4836,null,null,null,null,0,222]
[12,4940,13,4949,13,4955,null,null,null,null,0,111]
[12,5060,13,5065,13,5070,null,null,null,null,0,111]
[21,5170,22,5175,24,5179,null,null,null,null,0,222]
[21,5283,22,5288,24,5294,null,null,null,null,0,222]
[21,5590,22,5595,24,5610,null,null,null,null,0,222]
[21,5715,22,5721,24,5732,null,null,null,null,0,222]
[12,5834,13,5842,13,5847,null,null,null,null,0,111]
[21,5964,22,5969,24,5977,null,null,null,null,0,222]
[12,6083,13,6088,13,6095,null,null,null,null,0,111]
[12,6198,13,6203,13,6207,null,null,null,null,0,111]
[12,6480,13,6485,13,6492,null,null,null,null,0,111]
[21,6614,22,6619,24,6624,null,null,null,null,0,222]
[12,6727,13,6731,13,6738,null,null,null,null,0,111]
[12,6844,13,6849,13,6854,null,null,null,null,0,111]
[21,6975,22,6979,24,6988,null,null,null,null,0,222]
[12,7090,13,7094,13,7098,null,null,null,null,0,111]
[12,7209,13,7213,13,7218,null,null,null,null,0,111]
[21,7337,22,7353,24,7362,null,null,null,null,0,222]
[12,7479,13,7484,13,7488,null,null,null,null,0,111]
[12,7612,13,7618,13,7625,null,null,null,null,0,111]
[12,7725,13,7730,13,7734,null,null,null,null,0,111]
[21,7852,22,7858,24,7865,null,null,null,null,0,222]
[12,7989,13,7994,13,8002,null,null,null,null,0,111]
[12,8149,13,8157,13,8164,null,null,null,null,0,111]
[21,8282,22,8287,24,8294,null,null,null,null,0,222]
[21,8455,22,8461,24,8468,null,null,null,null,0,222]
[21,8670,22,8675,24,8681,null,null,null,null,0,222]
[21,8793,22,8798,24,8806,null,null,null,null,0,222]
[21,8919,22,8923,24,8928,null,null,null,null,0,222]
[21,9170,22,9184,24,9197,null,null,null,null,0,222]
[21,9353,22,9359,24,9364,null,null,null,null,0,222]
[21,9524,22,9529,24,9534,null,null,null,null,0,222]
[21,9646,22,9655,24,9667,null,null,null,null,0,222]
[21,9938,22,9951,24,9964,null,null,null,null,0,222]
[12,10277,13,10282,13,10289,null,null,null,null,0,111]
[12,10392,13,10396,13,10404,null,null,null,null,0,111]
[12,10534,13,10540,13,10546,null,null,null,null,0,111]
[12,10677,13,10683,13,10688,null,null,null,null,0,111]
[21,10854,22,10862,24,10868,null,null,null,null,0,222]
[21,11244,22,11249,24,11257,null,null,null,null,0,222]
[21,11436,22,11440,24,11455,null,null,null,null,0,222]
[21,11601,22,11606,24,11611,null,null,null,null,0,222]
[21,12089,22,12101,24,12109,null,null,null,null,0,222]
[21,12212,22,12216,24,12220,null,null,null,null,0,222]
[21,12317,22,12321,24,12327,null,null,null,null,0,222]
[21,12435,22,12439,24,12444,null,null,null,null,0,222]
[12,12555,13,12561,13,12567,null,null,null,null,0,111]
[21,12852,22,12857,24,12869,null,null,null,null,0,222]
[12,13001,13,13006,13,13011,null,null,null,null,0,111]
[21,13157,22,13162,24,13194,null,null,null,null,0,222]
[21,13303,22,13308,24,13313,null,null,null,null,0,222]
[12,13438,13,13444,13,13449,null,null,null,null,0,111]
[12,13550,13,13557,13,13562,null,null,null,null,0,111]
[12,13674,13,13678,13,13682,null,null,null,null,0,111]
[21,14035,22,14045,24,14059,null,null,null,null,0,222]
[21,14165,22,14169,24,14179,null,null,null,null,0,222]
[12,14625,13,14630,13,14636,null,null,null,null,0,111]
[12,14742,13,14746,13,14751,null,null,null,null,0,111]
[21,15153,22,15159,24,15167,null,null,null,null,0,222]
[12,15281,13,15286,13,15293,null,null,null,null,0,111]
[12,15422,13,15427,13,15432,null,null,null,null,0,111]
[21,15554,22,15559,24,15565,null,null,null,null,0,222]
[12,15679,13,15684,13,15692,null,null,null,null,0,111]
[21,15903,22,15908,24,15915,null,null,null,null,0,222]
[12,16023,13,16028,13,16036,null,null,null,null,0,111]
[12,16146,13,16151,13,16156,null,null,null,null,0,111]
[12,16306,13,16311,13,16319,null,null,null,null,0,111]
[21,16428,22,16432,24,16440,null,null,null,null,0,222]
[21,16551,22,16555,24,16562,null,null,null,null,0,222]
[12,17423,13,17427,13,17432,null,null,null,null,0,111]
[21,17764,22,17769,24,17774,null,null,null,null,0,222]
[12,17986,13,17990,13,18000,null,null,null,null,0,111]
[12,18098,13,18102,13,18107,null,null,null,null,0,111]
[21,18397,22,18406,24,18419,null,null,null,null,0,222]
[21,18534,22,18541,24,18548,null,null,null,null,0,222]
[21,19057,22,19071,24,19080,null,null,null,null,0,222]
[12,19182,13,19186,13,19191,null,null,null,null,0,111]
[21,19335,22,19339,24,19349,null,null,null,null,0,222]
[12,19718,13,19726,13,19735,null,null,null,null,0,111]
[12,19986,13,19990,13,19998,null,null,null,null,0,111]
[21,20183,22,20189,24,20197,null,null,null,null,0,222]
[21,20299,22,20303,24,20309,null,null,null,null,0,222]
[21,20447,22,20453,24,20481,null,null,null,null,0,222]
[21,20686,22,20692,24,20712,null,null,null,null,0,222]
[12,20828,13,20832,13,20837,null,null,null,null,0,111]
[21,21000,22,21005,24,21014,null,null,null,null,0,222]
[21,21142,22,21174,24,21189,null,null,null,null,0,222]
[12,21307,13,21311,13,21317,null,null,null,null,0,111]
[21,21464,22,21492,24,21500,null,null,null,null,0,222]
[21,21618,22,21623,24,21630,null,null,null,null,0,222]
[21,21773,22,21778,24,21786,null,null,null,null,0,222]
[12,21902,13,21907,13,21912,null,null,null,null,0,111]
[21,22201,22,22206,24,22215,null,null,null,null,0,222]
[21,22316,22,22322,24,22330,null,null,null,null,0,222]
[21,22623,22,22631,24,22645,null,null,null,null,0,222]
[12,22762,13,22768,13,22775,null,null,null,null,0,111]
[21,23173,22,23181,24,23204,null,null,null,null,0,222]
[12,23332,13,23337,13,23345,null,null,null,null,0,111]
[21,23459,22,23464,24,23469,null,null,null,null,0,222]
[21,23620,22,23625,24,23633,null,null,null,null,0,222]

{"sheet":"!MA17A20.091","index":28,"n_rows":169,"n_cols":48,"rows_kept":169,"cut":false,"hidden":false,"merged":[[4,39,4,42],[5,39,5,40],[4,44,4,47],[5,44,5,45],[4,24,4,27],[5,24,5,25],[4,29,4,32],[5,29,5,30],[4,34,4,37],[5,34,5,35],[1,1,1,2],[5,13,5,14],[18,13,18,14],[19,13,19,14],[4,19,4,22],[5,19,5,20]]}
["Report for:!MA17A20.091"]
["Date:","<date>"]
["Hen:","<hen>",null,null,null,"Correct Sequence",{"$f":"Start!J2","v":211},null,null,null,null,null,null,null,null,"Total Sequences in Data",{"$f":"4994-COUNTBLANK(L7:L5000)","v":163},null,null,null,null,"Total Sequences in Block Data",{"$f":"COUNTA(L7:L33)","v":27},null,null,null,"Total Sequences in Block Data",{"$f":"COUNTA(L34:L60)","v":27},null,null,null,"Total Sequences in Block Data",{"$f":"COUNTA(L61:L88)","v":28},null,null,null,"Total Sequences in Block Data",{"$f":"COUNTA(L89:L115)","v":27},null,null,null,"Total Sequences in Block Data",{"$f":"COUNTA(L116:L142)","v":27},null,null,null,"Total Sequences in Block Data",{"$f":"COUNTA(L143:L169)","v":27}]
[null,null,null,null,null,null,null,null,null,null,null,null,null,null,null,"Total Sequences in Summary",{"$f":"SUM(O7:O14)","v":163},null,null,null,null,"Total Sequences in Block Summary",{"$f":"SUM(U7:U14)","v":27},null,null,null,"Total Sequences in Block Summary",{"$f":"SUM(Z7:Z14)","v":27},null,null,null,"Total Sequences in Block Summary",{"$f":"SUM(AE7:AE14)","v":28},null,null,null,"Total Sequences in Block Summary",{"$f":"SUM(AJ7:AJ14)","v":27},null,null,null,"Total Sequences in Block Summary",{"$f":"SUM(AO7:AO14)","v":27},null,null,null,"Total Sequences in Block Summary",{"$f":"SUM(AT7:AT14)","v":27}]
[null,null,null,null,null,null,null,null,null,null,null,null,null,null,null,null,null,null,null,"Block 1",null,null,null,null,"Block 2",null,null,null,null,"Block 3",null,null,null,null,"Block 4",null,null,null,null,"Block 5",null,null,null,null,"Block 6"]
["Sequence\nComponent\n1","Time\n1","Sequence\nComponent\n2","Time\n2","Sequence\nComponent\n3","Time\n3","Sequence\nComponent\n4","Time\n4","Sequence\nComponent\n5","Time\n5","Correct?\n0=No 1=Yes","Sequence",null,"Frequency",null,"Relative Frequency","Variability",null,null,"Frequency",null,"Relative Frequency","Variability",null,"Frequency",null,"Relative Frequency","Variability",null,"Frequency",null,"Relative Frequency","Variability",null,"Frequency",null,"Relative Frequency","Variability",null,"Frequency",null,"Relative Frequency","Variability",null,"Frequency",null,"Relative Frequency","Variability"]
[12,35,13,42,13,51,null,null,null,null,0,111,null,111,{"$f":"COUNTIF($L$7:$L$500,N7)","v":61},{"$f":"O7/$Q$4","v":0.37423312883435583},{"$f":"IF(P7=0,0,(P7*((LOG(P7))/LOG(2))))","v":-0.5306591399801206},null,null,{"$f":"N7","v":111},{"$f":"COUNTIF(L7:L33,T7)","v":11},{"$f":"U7/(W4-U11)","v":0.40740740740740738},{"$f":"IF(V7=0,0,(V7*((LOG(V7))/LOG(2))))","v":-0.52777832291806981},null,{"$f":"N7","v":111},{"$f":"COUNTIF(L34:L60,Y7)","v":10},{"$f":"Z7/(AB4-Z11)","v":0.37037037037037035},{"$f":"IF(AA7=0,0,(AA7*((LOG(AA7))/LOG(2))))","v":-0.53072570639855787},null,{"$f":"N7","v":111},{"$f":"COUNTIF(L61:L88,AD7)","v":16},{"$f":"AE7/(AG4-AE11)","v":0.5714285714285714},{"$f":"IF(AF7=0,0,(AF7*((LOG(AF7))/LOG(2))))","v":-0.46134566974720237},null,{"$f":"N7","v":111},{"$f":"COUNTIF(L89:L115,AI7)","v":13},{"$f":"AJ7/(AL4-AJ11)","v":0.48148148148148145},{"$f":"IF(AK7=0,0,(AK7*((LOG(AK7))/LOG(2))))","v":-0.50769708119595902},null,{"$f":"N7","v":111},{"$f":"COUNTIF(L116:L142,AN7)","v":5},{"$f":"AO7/(AQ4-AO11)","v":0.18518518518518517},{"$f":"IF(AP7=0,0,(AP7*((LOG(AP7))/LOG(2))))","v":-0.45054803838446406},null,{"$f":"N7","v":111},{"$f":"COUNTIF(L143:L169,AS7)","v":6},{"$f":"AT7/(AV4-AT11)","v":0.22222222222222221},{"$f":"IF(AU7=0,0,(AU7*((LOG(AU7))/LOG(2))))","v":-0.48220555587606945}]
[21,151,22,156,24,162,null,null,null,null,0,222,null,112,{"$f":"COUNTIF($L$7:$L$500,N8)","v":0},{"$f":"O8/$Q$4","v":0},{"$f":"IF(P8=0,0,(P8*((LOG(P8))/LOG(2))))","v":0},null,null,{"$f":"N8","v":112},{"$f":"COUNTIF(L7:L33,T8)","v":0},{"$f":"U8/(W4-U11)","v":0},{"$f":"IF(V8=0,0,(V8*((LOG(V8))/LOG(2))))","v":0},null,{"$f":"N8","v":112},{"$f":"COUNTIF(L34:L60,Y8)","v":0},{"$f":"Z8/(AB4-Z11)","v":0},{"$f":"IF(AA8=0,0,(AA8*((LOG(AA8))/LOG(2))))","v":0},null,{"$f":"N8","v":112},{"$f":"COUNTIF(L61:L88,AD8)","v":0},{"$f":"AE8/(AG4-AE11)","v":0},{"$f":"IF(AF8=0,0,(AF8*((LOG(AF8))/LOG(2))))","v":0},null,{"$f":"N8","v":112},{"$f":"COUNTIF(L89:L115,AI8)","v":0},{"$f":"AJ8/(AL4-AJ11)","v":0},{"$f":"IF(AK8=0,0,(AK8*((LOG(AK8))/LOG(2))))","v":0},null,{"$f":"N8","v":112},{"$f":"COUNTIF(L116:L142,AN8)","v":0},{"$f":"AO8/(AQ4-AO11)","v":0},{"$f":"IF(AP8=0,0,(AP8*((LOG(AP8))/LOG(2))))","v":0},null,{"$f":"N8","v":112},{"$f":"COUNTIF(L143:L169,AS8)","v":0},{"$f":"AT8/(AV4-AT11)","v":0},{"$f":"IF(AU8=0,0,(AU8*((LOG(AU8))/LOG(2))))","v":0}]
[21,265,22,270,24,274,null,null,null,null,0,222,null,121,{"$f":"COUNTIF($L$7:$L$500,N9)","v":0},{"$f":"O9/$Q$4","v":0},{"$f":"IF(P9=0,0,(P9*((LOG(P9))/LOG(2))))","v":0},null,null,{"$f":"N9","v":121},{"$f":"COUNTIF(L7:L33,T9)","v":0},{"$f":"U9/(W4-U11)","v":0},{"$f":"IF(V9=0,0,(V9*((LOG(V9))/LOG(2))))","v":0},null,{"$f":"N9","v":121},{"$f":"COUNTIF(L34:L60,Y9)","v":0},{"$f":"Z9/(AB4-Z11)","v":0},{"$f":"IF(AA9=0,0,(AA9*((LOG(AA9))/LOG(2))))","v":0},null,{"$f":"N9","v":121},{"$f":"COUNTIF(L61:L88,AD9)","v":0},{"$f":"AE9/(AG4-AE11)","v":0},{"$f":"IF(AF9=0,0,(AF9*((LOG(AF9))/LOG(2))))","v":0},null,{"$f":"N9","v":121},{"$f":"COUNTIF(L89:L115,AI9)","v":0},{"$f":"AJ9/(AL4-AJ11)","v":0},{"$f":"IF(AK9=0,0,(AK9*((LOG(AK9))/LOG(2))))","v":0},null,{"$f":"N9","v":121},{"$f":"COUNTIF(L116:L142,AN9)","v":0},{"$f":"AO9/(AQ4-AO11)","v":0},{"$f":"IF(AP9=0,0,(AP9*((LOG(AP9))/LOG(2))))","v":0},null,{"$f":"N9","v":121},{"$f":"COUNTIF(L143:L169,AS9)","v":0},{"$f":"AT9/(AV4-AT11)","v":0},{"$f":"IF(AU9=0,0,(AU9*((LOG(AU9))/LOG(2))))","v":0}]
[21,378,22,383,24,388,null,null,null,null,0,222,null,122,{"$f":"COUNTIF($L$7:$L$500,N10)","v":0},{"$f":"O10/$Q$4","v":0},{"$f":"IF(P10=0,0,(P10*((LOG(P10))/LOG(2))))","v":0},null,null,{"$f":"N10","v":122},{"$f":"COUNTIF(L7:L33,T10)","v":0},{"$f":"U10/(W4-U11)","v":0},{"$f":"IF(V10=0,0,(V10*((LOG(V10))/LOG(2))))","v":0},null,{"$f":"N10","v":122},{"$f":"COUNTIF(L34:L60,Y10)","v":0},{"$f":"Z10/(AB4-Z11)","v":0},{"$f":"IF(AA10=0,0,(AA10*((LOG(AA10))/LOG(2))))","v":0},null,{"$f":"N10","v":122},{"$f":"COUNTIF(L61:L88,AD10)","v":0},{"$f":"AE10/(AG4-AE11)","v":0},{"$f":"IF(AF10=0,0,(AF10*((LOG(AF10))/LOG(2))))","v":0},null,{"$f":"N10","v":122},{"$f":"COUNTIF(L89:L115,AI10)","v":0},{"$f":"AJ10/(AL4-AJ11)","v":0},{"$f":"IF(AK10=0,0,(AK10*((LOG(AK10))/LOG(2))))","v":0},null,{"$f":"N10","v":122},{"$f":"COUNTIF(L116:L142,AN10)","v":0},{"$f":"AO10/(AQ4-AO11)","v":0},{"$f":"IF(AP10=0,0,(AP10*((LOG(AP10))/LOG(2))))","v":0},null,{"$f":"N10","v":122},{"$f":"COUNTIF(L143:L169,AS10)","v":0},{"$f":"AT10/(AV4-AT11)","v":0},{"$f":"IF(AU10=0,0,(AU10*((LOG(AU10))/LOG(2))))","v":0}]
[12,494,13,499,13,503,null,null,null,null,0,111,null,211,{"$f":"COUNTIF($L$7:$L$500,N11)","v":0},{"$f":"O11/$Q$4","v":0},{"$f":"IF(P11=0,0,(P11*((LOG(P11))/LOG(2))))","v":0},null,null,{"$f":"N11","v":211},{"$f":"COUNTIF(L7:L33,T11)","v":0},null,null,null,{"$f":"N11","v":211},{"$f":"COUNTIF(L34:L60,Y11)","v":0},null,null,null,{"$f":"N11","v":211},{"$f":"COUNTIF(L61:L88,AD11)","v":0},null,null,null,{"$f":"N11","v":211},{"$f":"COUNTIF(L89:L115,AI11)","v":0},null,null,null,{"$f":"N11","v":211},{"$f":"COUNTIF(L116:L142,AN11)","v":0},null,null,null,{"$f":"N11","v":211},{"$f":"COUNTIF(L143:L169,AS11)","v":0}]
[21,607,22,617,24,625,null,null,null,null,0,222,null,212,{"$f":"COUNTIF($L$7:$L$500,N12)","v":0},{"$f":"O12/$Q$4","v":0},{"$f":"IF(P12=0,0,(P12*((LOG(P12))/LOG(2))))","v":0},null,null,{"$f":"N12","v":212},{"$f":"COUNTIF(L7:L33,T12)","v":0},{"$f":"U12/(W4-U11)","v":0},{"$f":"IF(V12=0,0,(V12*((LOG(V12))/LOG(2))))","v":0},null,{"$f":"N12","v":212},{"$f":"COUNTIF(L34:L60,Y12)","v":0},{"$f":"Z12/(AB4-Z11)","v":0},{"$f":"IF(AA12=0,0,(AA12*((LOG(AA12))/LOG(2))))","v":0},null,{"$f":"N12","v":212},{"$f":"COUNTIF(L61:L88,AD12)","v":0},{"$f":"AE12/(AG4-AE11)","v":0},{"$f":"IF(AF12=0,0,(AF12*((LOG(AF12))/LOG(2))))","v":0},null,{"$f":"N12","v":212},{"$f":"COUNTIF(L89:L115,AI12)","v":0},{"$f":"AJ12/(AL4-AJ11)","v":0},{"$f":"IF(AK12=0,0,(AK12*((LOG(AK12))/LOG(2))))","v":0},null,{"$f":"N12","v":212},{"$f":"COUNTIF(L116:L142,AN12)","v":0},{"$f":"AO12/(AQ4-AO11)","v":0},{"$f":"IF(AP12=0,0,(AP12*((LOG(AP12))/LOG(2))))","v":0},null,{"$f":"N12","v":212},{"$f":"COUNTIF(L143:L169,AS12)","v":0},{"$f":"AT12/(AV4-AT11)","v":0},{"$f":"IF(AU12=0,0,(AU12*((LOG(AU12))/LOG(2))))","v":0}]
[12,723,13,730,13,736,null,null,null,null,0,111,null,221,{"$f":"COUNTIF($L$7:$L$500,N13)","v":0},{"$f":"O13/$Q$4","v":0},{"$f":"IF(P13=0,0,(P13*((LOG(P13))/LOG(2))))","v":0},null,null,{"$f":"N13","v":221},{"$f":"COUNTIF(L7:L33,T13)","v":0},{"$f":"U13/(W4-U11)","v":0},{"$f":"IF(V13=0,0,(V13*((LOG(V13))/LOG(2))))","v":0},null,{"$f":"N13","v":221},{"$f":"COUNTIF(L34:L60,Y13)","v":0},{"$f":"Z13/(AB4-Z11)","v":0},{"$f":"IF(AA13=0,0,(AA13*((LOG(AA13))/LOG(2))))","v":0},null,{"$f":"N13","v":221},{"$f":"COUNTIF(L61:L88,AD13)","v":0},{"$f":"AE13/(AG4-AE11)","v":0},{"$f":"IF(AF13=0,0,(AF13*((LOG(AF13))/LOG(2))))","v":0},null,{"$f":"N13","v":221},{"$f":"COUNTIF(L89:L115,AI13)","v":0},{"$f":"AJ13/(AL4-AJ11)","v":0},{"$f":"IF(AK13=0,0,(AK13*((LOG(AK13))/LOG(2))))","v":0},null,{"$f":"N13","v":221},{"$f":"COUNTIF(L116:L142,AN13)","v":0},{"$f":"AO13/(AQ4-AO11)","v":0},{"$f":"IF(AP13=0,0,(AP13*((LOG(AP13))/LOG(2))))","v":0},null,{"$f":"N13","v":221},{"$f":"COUNTIF(L143:L169,AS13)","v":0},{"$f":"AT13/(AV4-AT11)","v":0},{"$f":"IF(AU13=0,0,(AU13*((LOG(AU13))/LOG(2))))","v":0}]
[12,845,13,850,13,857,null,null,null,null,0,111,null,222,{"$f":"COUNTIF($L$7:$L$500,N14)","v":102},{"$f":"O14/$Q$4","v":0.62576687116564422},{"$f":"IF(P14=0,0,(P14*((LOG(P14))/LOG(2))))","v":-0.42320789478820464},null,null,{"$f":"N14","v":222},{"$f":"COUNTIF(L7:L33,T14)","v":16},{"$f":"U14/(W4-U11)","v":0.59259259259259256},{"$f":"IF(V14=0,0,(V14*((LOG(V14))/LOG(2))))","v":-0.44734074202279617},null,{"$f":"N14","v":222},{"$f":"COUNTIF(L34:L60,Y14)","v":17},{"$f":"Z14/(AB4-Z11)","v":0.62962962962962965},{"$f":"IF(AA14=0,0,(AA14*((LOG(AA14))/LOG(2))))","v":-0.42023034205641457},null,{"$f":"N14","v":222},{"$f":"COUNTIF(L61:L88,AD14)","v":12},{"$f":"AE14/(AG4-AE11)","v":0.42857142857142855},{"$f":"IF(AF14=0,0,(AF14*((LOG(AF14))/LOG(2))))","v":-0.52388246628704915},null,{"$f":"N14","v":222},{"$f":"COUNTIF(L89:L115,AI14)","v":14},{"$f":"AJ14/(AL4-AJ11)","v":0.51851851851851849},{"$f":"IF(AK14=0,0,(AK14*((LOG(AK14))/LOG(2))))","v":-0.49131318968452231},null,{"$f":"N14","v":222},{"$f":"COUNTIF(L116:L142,AN14)","v":22},{"$f":"AO14/(AQ4-AO11)","v":0.81481481481481477},{"$f":"IF(AP14=0,0,(AP14*((LOG(AP14))/LOG(2))))","v":-0.24074183102132479},null,{"$f":"N14","v":222},{"$f":"COUNTIF(L143:L169,AS14)","v":21},{"$f":"AT14/(AV4-AT11)","v":0.77777777777777779},{"$f":"IF(AU14=0,0,(AU14*((LOG(AU14))/LOG(2))))","v":-0.28199895063255082}]
[21,959,22,964,24,970,null,null,null,null,0,222,null,null,null,{"$f":"SUM(P7:P14)","v":1},{"$f":"-SUM(Q7:Q14)","v":0.95386703476832524},null,null,null,null,{"$f":"SUM(V7:V14)","v":1},{"$f":"-SUM(W7:W14)","v":0.97511906494086598},null,null,null,{"$f":"SUM(AA7:AA14)","v":1},{"$f":"-SUM(AB7:AB14)","v":0.95095604845497239},null,null,null,{"$f":"SUM(AF7:AF14)","v":1},{"$f":"-SUM(AG7:AG14)","v":0.98522813603425152},null,null,null,{"$f":"SUM(AK7:AK14)","v":1},{"$f":"-SUM(AL7:AL14)","v":0.99901027088048133},null,null,null,{"$f":"SUM(AP7:AP14)","v":1},{"$f":"-SUM(AQ7:AQ14)","v":0.69128986940578885},null,null,null,{"$f":"SUM(AU7:AU14)","v":1},{"$f":"-SUM(AV7:AV14)","v":0.76420450650862026}]
[21,1117,22,1140,24,1168,null,null,null,null,0,222,null,null,null,"U=",{"$f":"Q15/(LOG(Q4)/LOG(2))","v":0.12980028853280282},null,null,null,null,"U1=",{"$f":"W15/(LOG(W4)/LOG(2))","v":0.20507721044865687},null,null,null,"U2=",{"$f":"AB15/(LOG(AB4)/LOG(2))","v":0.19999548843632756},null,null,null,"U3=",{"$f":"AG15/(LOG(AG4)/LOG(2))","v":0.20494183433674218},null,null,null,"U4=",{"$f":"AL15/(LOG(AL4)/LOG(2))","v":0.21010176800732569},null,null,null,"U5=",{"$f":"AQ15/(LOG(AQ4)/LOG(2))","v":0.14538511565021311},null,null,null,"U6=",{"$f":"AV15/(LOG(AV4)/LOG(2))","v":0.1607197869898937}]
[21,1282,22,1286,24,1291,null,null,null,null,0,222]
[12,1423,13,1427,13,1434,null,null,null,null,0,111]
[21,1546,22,1551,24,1580,null,null,null,null,0,222,null,"Total Target Seq"]
[21,1681,22,1685,24,1690,null,null,null,null,0,222,null,{"$f":"COUNTIF(L7:L169,G3)","v":0},null,27,27,28,27,27,27]
[21,1814,22,1827,24,1855,null,null,null,null,0,222,null,null,null,"% of reinforcement given in 6 equal intervals based on number of trials "]
[21,2046,22,2054,24,2064,null,null,null,null,0,222,null,null,null,"%_1","%_2","%_3","%_4","%_5","%_6"]
[12,2175,13,2181,13,2186,null,null,null,null,0,111,null,null,"target sequence",{"$f":"$G$3","v":211},{"$f":"$G$3","v":211},{"$f":"$G$3","v":211},{"$f":"$G$3","v":211},{"$f":"$G$3","v":211},{"$f":"$G$3","v":211}]
[12,2327,13,2331,13,2338,null,null,null,null,0,111,null,null,"total reinforcement",{"$f":"U11","v":0},{"$f":"Z11","v":0},{"$f":"AE11","v":0},{"$f":"AJ11","v":0},{"$f":"AO11","v":0},{"$f":"AT11","v":0}]
[21,2645,22,2663,24,2686,null,null,null,null,0,222,null,null,"% target"]
[12,2791,13,2796,13,2800,null,null,null,null,0,111,null,null,"CCRF"]
[12,2920,13,2924,13,2929,null,null,null,null,0,111,null,null,"% CCRf"]
[21,3115,22,3130,24,3143,null,null,null,null,0,222,null,null,"average response rate",{"$f":"F33/P20","v":145.22222222222223},{"$f":"(F60-F33)/Q20","v":132.88888888888889},{"$f":"(F88-F60)/R20","v":134.35714285714286},{"$f":"(F115-F88)/S20","v":137.18518518518519},{"$f":"(F142-F115)/T20","v":144.14814814814815},{"$f":"(F169-F142)/U20","v":179.74074074074073}]
[21,3250,22,3259,24,3289,null,null,null,null,0,222]
[21,3395,22,3399,24,3407,null,null,null,null,0,222]
[21,3580,22,3587,24,3598,null,null,null,null,0,222]
[12,3781,13,3785,13,3792,null,null,null,null,0,111]
[12,3909,13,3917,13,3921,null,null,null,null,0,111]
[21,4044,22,4048,24,4053,null,null,null,null,0,222]
[21,4170,22,4175,24,4183,null,null,null,null,0,222]
[12,4287,13,4291,13,4297,null,null,null,null,0,111]
[21,4401,22,4407,24,4412,null,null,null,null,0,222]
[12,4523,13,4528,13,4534,null,null,null,null,0,111]
[21,4646,22,4651,24,4661,null,null,null,null,0,222]
[21,4800,22,4807,24,4814,null,null,null,null,0,222]
[12,4938,13,4943,13,4948,null,null,null,null,0,111]
[21,5046,22,5051,24,5058,null,null,null,null,0,222]
[12,5171,13,5175,13,5180,null,null,null,null,0,111]
[21,5295,22,5300,24,5308,null,null,null,null,0,222]
[21,5428,22,5432,24,5439,null,null,null,null,0,222]
[12,5547,13,5551,13,5556,null,null,null,null,0,111]
[12,5660,13,5665,13,5672,null,null,null,null,0,111]
[12,5781,13,5785,13,5790,null,null,null,null,0,111]
[21,5898,22,5903,24,5908,null,null,null,null,0,222]
[21,6012,22,6018,24,6025,null,null,null,null,0,222]
[21,6153,22,6163,24,6168,null,null,null,null,0,222]
[21,6325,22,6337,24,6357,null,null,null,null,0,222]
[21,6468,22,6474,24,6483,null,null,null,null,0,222]
[12,6588,13,6593,13,6597,null,null,null,null,0,111]
[21,6709,22,6713,24,6730,null,null,null,null,0,222]
[21,6864,22,6871,24,6882,null,null,null,null,0,222]
[21,7030,22,7035,24,7079,null,null,null,null,0,222]
[12,7187,13,7192,13,7199,null,null,null,null,0,111]
[21,7322,22,7327,24,7334,null,null,null,null,0,222]
[12,7495,13,7501,13,7509,null,null,null,null,0,111]
[21,7645,22,7650,24,7657,null,null,null,null,0,222]
[21,8079,22,8085,24,8096,null,null,null,null,0,222]
[12,8198,13,8202,13,8207,null,null,null,null,0,111]
[12,8311,13,8318,13,8324,null,null,null,null,0,111]
[21,8442,22,8447,24,8455,null,null,null,null,0,222]
[21,8576,22,8583,24,8599,null,null,null,null,0,222]
[12,8703,13,8708,13,8712,null,null,null,null,0,111]
[12,8822,13,8827,13,8831,null,null,null,null,0,111]
[21,8939,22,8944,24,8949,null,null,null,null,0,222]
[12,9062,13,9067,13,9072,null,null,null,null,0,111]
[21,9184,22,9189,24,9196,null,null,null,null,0,222]
[12,9298,13,9303,13,9308,null,null,null,null,0,111]
[21,9436,22,9440,24,9458,null,null,null,null,0,222]
[21,9565,22,9570,24,9575,null,null,null,null,0,222]
[12,9689,13,9693,13,9698,null,null,null,null,0,111]
[12,9801,13,9806,13,9811,null,null,null,null,0,111]
[12,9920,13,9926,13,9935,null,null,null,null,0,111]
[12,10052,13,10057,13,10065,null,null,null,null,0,111]
[12,10172,13,10176,13,10181,null,null,null,null,0,111]
[12,10291,13,10295,13,10303,null,null,null,null,0,111]
[21,10415,22,10420,24,10427,null,null,null,null,0,222]
[12,10532,13,10537,13,10543,null,null,null,null,0,111]
[21,10670,22,10675,24,10683,null,null,null,null,0,222]
[21,10787,22,10791,24,10797,null,null,null,null,0,222]
[12,10899,13,10903,13,10909,null,null,null,null,0,111]
[12,11015,13,11020,13,11024,null,null,null,null,0,111]
[21,11142,22,11146,24,11153,null,null,null,null,0,222]
[12,11262,13,11266,13,11271,null,null,null,null,0,111]
[12,11371,13,11378,13,11386,null,null,null,null,0,111]
[12,11490,13,11494,13,11499,null,null,null,null,0,111]
[12,11653,13,11657,13,11664,null,null,null,null,0,111]
[12,11759,13,11764,13,11770,null,null,null,null,0,111]
[21,11878,22,11882,24,11888,null,null,null,null,0,222]
[21,11996,22,12000,24,12007,null,null,null,null,0,222]
[21,12250,22,12272,24,12281,null,null,null,null,0,222]
[21,12385,22,12389,24,12394,null,null,null,null,0,222]
[12,12494,13,12498,13,12504,null,null,null,null,0,111]
[21,12617,22,12621,24,12629,null,null,null,null,0,222]
[21,12725,22,12730,24,12733,null,null,null,null,0,222]
[21,12836,22,12840,24,12847,null,null,null,null,0,222]
[12,12953,13,12957,13,12963,null,null,null,null,0,111]
[12,13066,13,13071,13,13075,null,null,null,null,0,111]
[12,13185,13,13191,13,13198,null,null,null,null,0,111]
[12,13298,13,13303,13,13310,null,null,null,null,0,111]
[12,13410,13,13415,13,13422,null,null,null,null,0,111]
[21,13635,22,13697,24,13707,null,null,null,null,0,222]
[12,13812,13,13816,13,13821,null,null,null,null,0,111]
[12,13922,13,13926,13,13930,null,null,null,null,0,111]
[21,14039,22,14045,24,14053,null,null,null,null,0,222]
[21,14205,22,14214,24,14222,null,null,null,null,0,222]
[21,14331,22,14335,24,14340,null,null,null,null,0,222]
[21,14509,22,14534,24,14567,null,null,null,null,0,222]
[12,14667,13,14671,13,14676,null,null,null,null,0,111]
[21,14837,22,14841,24,14849,null,null,null,null,0,222]
[21,14954,22,14959,24,14975,null,null,null,null,0,222]
[21,15174,22,15179,24,15187,null,null,null,null,0,222]
[21,15283,22,15289,24,15304,null,null,null,null,0,222]
[21,15459,22,15485,24,15532,null,null,null,null,0,222]
[21,15760,22,15764,24,15772,null,null,null,null,0,222]
[21,15884,22,15888,24,15896,null,null,null,null,0,222]
[21,16008,22,16030,24,16065,null,null,null,null,0,222]
[21,16167,22,16172,24,16177,null,null,null,null,0,222]
[21,16287,22,16292,24,16297,null,null,null,null,0,222]
[21,16408,22,16416,24,16425,null,null,null,null,0,222]
[21,16566,22,16590,24,16602,null,null,null,null,0,222]
[12,16705,13,16709,13,16713,null,null,null,null,0,111]
[21,16814,22,16820,24,16826,null,null,null,null,0,222]
[21,16937,22,16945,24,16954,null,null,null,null,0,222]
[21,17060,22,17065,24,17099,null,null,null,null,0,222]
[21,17201,22,17205,24,17210,null,null,null,null,0,222]
[21,17313,22,17318,24,17322,null,null,null,null,0,222]
[12,17425,13,17429,13,17434,null,null,null,null,0,111]
[21,17541,22,17546,24,17550,null,null,null,null,0,222]
[21,17683,22,17688,24,17694,null,null,null,null,0,222]
[21,17791,22,17795,24,17816,null,null,null,null,0,222]
[12,17917,13,17921,13,17927,null,null,null,null,0,111]
[21,18062,22,18085,24,18093,null,null,null,null,0,222]
[21,18199,22,18203,24,18208,null,null,null,null,0,222]
[21,18385,22,18436,24,18465,null,null,null,null,0,222]
[12,18575,13,18578,13,18583,null,null,null,null,0,111]
[21,18682,22,18686,24,18691,null,null,null,null,0,222]
[12,18855,13,18860,13,18867,null,null,null,null,0,111]
[21,19050,22,19066,24,19074,null,null,null,null,0,222]
[12,19215,13,19222,13,19232,null,null,null,null,0,111]
[21,19343,22,19348,24,19359,null,null,null,null,0,222]
[21,19491,22,19495,24,19506,null,null,null,null,0,222]
[21,19628,22,19633,24,19647,null,null,null,null,0,222]
[12,19752,13,19756,13,19763,null,null,null,null,0,111]
[21,19919,22,19923,24,19931,null,null,null,null,0,222]
[21,20041,22,20045,24,20053,null,null,null,null,0,222]
[21,20153,22,20157,24,20162,null,null,null,null,0,222]
[21,20432,22,20445,24,20455,null,null,null,null,0,222]
[21,20564,22,20568,24,20573,null,null,null,null,0,222]
[21,20896,22,20903,24,20928,null,null,null,null,0,222]
[12,21028,13,21032,13,21039,null,null,null,null,0,111]
[21,21229,22,21234,24,21273,null,null,null,null,0,222]
[21,21403,22,21412,24,21420,null,null,null,null,0,222]
[12,21533,13,21541,13,21548,null,null,null,null,0,111]
[21,21868,22,21884,24,21892,null,null,null,null,0,222]
[12,22006,13,22011,13,22018,null,null,null,null,0,111]
[21,22123,22,22127,24,22134,null,null,null,null,0,222]
[21,22243,22,22248,24,22252,null,null,null,null,0,222]
[21,22543,22,22548,24,22556,null,null,null,null,0,222]
[21,22664,22,22669,24,22676,null,null,null,null,0,222]
[21,22789,22,22793,24,22809,null,null,null,null,0,222]
[21,23159,22,23165,24,23179,null,null,null,null,0,222]
[21,23401,22,23418,24,23484,null,null,null,null,0,222]
[21,23584,22,23589,24,23594,null,null,null,null,0,222]
[12,23709,13,23713,13,23720,null,null,null,null,0,111]

{"sheet":"!MA18850.091","index":29,"n_rows":148,"n_cols":48,"rows_kept":148,"cut":false,"hidden":false,"merged":[[4,39,4,42],[5,39,5,40],[4,44,4,47],[5,44,5,45],[4,24,4,27],[5,24,5,25],[4,29,4,32],[5,29,5,30],[4,34,4,37],[5,34,5,35],[1,1,1,2],[5,13,5,14],[18,13,18,14],[19,13,19,14],[4,19,4,22],[5,19,5,20]]}
["Report for:!MA18850.091"]
["Date:","<date>"]
["Hen:","<hen>",null,null,null,"Correct Sequence",{"$f":"Start!J2","v":211},null,null,null,null,null,null,null,null,"Total Sequences in Data",{"$f":"4994-COUNTBLANK(L7:L5000)","v":142},null,null,null,null,"Total Sequences in Block Data",{"$f":"COUNTA(L7:L30)","v":24},null,null,null,"Total Sequences in Block Data",{"$f":"COUNTA(L31:L53)","v":23},null,null,null,"Total Sequences in Block Data",{"$f":"COUNTA(L54:L77)","v":24},null,null,null,"Total Sequences in Block Data",{"$f":"COUNTA(L78:L101)","v":24},null,null,null,"Total Sequences in Block Data",{"$f":"COUNTA(L102:L124)","v":23},null,null,null,"Total Sequences in Block Data",{"$f":"COUNTA(L125:L148)","v":24}]
[null,null,null,null,null,null,null,null,null,null,null,null,null,null,null,"Total Sequences in Summary",{"$f":"SUM(O7:O14)","v":142},null,null,null,null,"Total Sequences in Block Summary",{"$f":"SUM(U7:U14)","v":24},null,null,null,"Total Sequences in Block Summary",{"$f":"SUM(Z7:Z14)","v":23},null,null,null,"Total Sequences in Block Summary",{"$f":"SUM(AE7:AE14)","v":24},null,null,null,"Total Sequences in Block Summary",{"$f":"SUM(AJ7:AJ14)","v":24},null,null,null,"Total Sequences in Block Summary",{"$f":"SUM(AO7:AO14)","v":23},null,null,null,"Total Sequences in Block Summary",{"$f":"SUM(AT7:AT14)","v":24}]
[null,null,null,null,null,null,null,null,null,null,null,null,null,null,null,null,null,null,null,"Block 1",null,null,null,null,"Block 2",null,null,null,null,"Block 3",null,null,null,null,"Block 4",null,null,null,null,"Block 5",null,null,null,null,"Block 6"]
["Sequence\nComponent\n1","Time\n1","Sequence\nComponent\n2","Time\n2","Sequence\nComponent\n3","Time\n3","Sequence\nComponent\n4","Time\n4","Sequence\nComponent\n5","Time\n5","Correct?\n0=No 1=Yes","Sequence",null,"Frequency",null,"Relative Frequency","Variability",null,null,"Frequency",null,"Relative Frequency","Variability",null,"Frequency",null,"Relative Frequency","Variability",null,"Frequency",null,"Relative Frequency","Variability",null,"Frequency",null,"Relative Frequency","Variability",null,"Frequency",null,"Relative Frequency","Variability",null,"Frequency",null,"Relative Frequency","Variability"]
[21,43,22,48,24,53,null,null,null,null,0,222,null,111,{"$f":"COUNTIF($L$7:$L$500,N7)","v":34},{"$f":"O7/$Q$4","v":0.23943661971830985},{"$f":"IF(P7=0,0,(P7*((LOG(P7))/LOG(2))))","v":-0.49378637648343415},null,null,{"$f":"N7","v":111},{"$f":"COUNTIF(L7:L30,T7)","v":10},{"$f":"U7/(W4-U11)","v":0.41666666666666669},{"$f":"IF(V7=0,0,(V7*((LOG(V7))/LOG(2))))","v":-0.52626433576408083},null,{"$f":"N7","v":111},{"$f":"COUNTIF(L31:L53,Y7)","v":5},{"$f":"Z7/(AB4-Z11)","v":0.21739130434782608},{"$f":"IF(AA7=0,0,(AA7*((LOG(AA7))/LOG(2))))","v":-0.47861605677601093},null,{"$f":"N7","v":111},{"$f":"COUNTIF(L54:L77,AD7)","v":5},{"$f":"AE7/(AG4-AE11)","v":0.20833333333333334},{"$f":"IF(AF7=0,0,(AF7*((LOG(AF7))/LOG(2))))","v":-0.47146550121537367},null,{"$f":"N7","v":111},{"$f":"COUNTIF(L78:L101,AI7)","v":10},{"$f":"AJ7/(AL4-AJ11)","v":0.41666666666666669},{"$f":"IF(AK7=0,0,(AK7*((LOG(AK7))/LOG(2))))","v":-0.52626433576408083},null,{"$f":"N7","v":111},{"$f":"COUNTIF(L102:L124,AN7)","v":1},{"$f":"AO7/(AQ4-AO11)","v":4.3478260869565216E-2},{"$f":"IF(AP7=0,0,(AP7*((LOG(AP7))/LOG(2))))","v":-0.19667660678508753},null,{"$f":"N7","v":111},{"$f":"COUNTIF(L125:L148,AS7)","v":3},{"$f":"AT7/(AV4-AT11)","v":0.125},{"$f":"IF(AU7=0,0,(AU7*((LOG(AU7))/LOG(2))))","v":-0.375}]
[21,193,22,202,24,210,null,null,null,null,0,222,null,112,{"$f":"COUNTIF($L$7:$L$500,N8)","v":0},{"$f":"O8/$Q$4","v":0},{"$f":"IF(P8=0,0,(P8*((LOG(P8))/LOG(2))))","v":0},null,null,{"$f":"N8","v":112},{"$f":"COUNTIF(L7:L30,T8)","v":0},{"$f":"U8/(W4-U11)","v":0},{"$f":"IF(V8=0,0,(V8*((LOG(V8))/LOG(2))))","v":0},null,{"$f":"N8","v":112},{"$f":"COUNTIF(L31:L53,Y8)","v":0},{"$f":"Z8/(AB4-Z11)","v":0},{"$f":"IF(AA8=0,0,(AA8*((LOG(AA8))/LOG(2))))","v":0},null,{"$f":"N8","v":112},{"$f":"COUNTIF(L54:L77,AD8)","v":0},{"$f":"AE8/(AG4-AE11)","v":0},{"$f":"IF(AF8=0,0,(AF8*((LOG(AF8))/LOG(2))))","v":0},null,{"$f":"N8","v":112},{"$f":"COUNTIF(L78:L101,AI8)","v":0},{"$f":"AJ8/(AL4-AJ11)","v":0},{"$f":"IF(AK8=0,0,(AK8*((LOG(AK8))/LOG(2))))","v":0},null,{"$f":"N8","v":112},{"$f":"COUNTIF(L102:L124,AN8)","v":0},{"$f":"AO8/(AQ4-AO11)","v":0},{"$f":"IF(AP8=0,0,(AP8*((LOG(AP8))/LOG(2))))","v":0},null,{"$f":"N8","v":112},{"$f":"COUNTIF(L125:L148,AS8)","v":0},{"$f":"AT8/(AV4-AT11)","v":0},{"$f":"IF(AU8=0,0,(AU8*((LOG(AU8))/LOG(2))))","v":0}]
[21,326,22,330,24,339,null,null,null,null,0,222,null,121,{"$f":"COUNTIF($L$7:$L$500,N9)","v":0},{"$f":"O9/$Q$4","v":0},{"$f":"IF(P9=0,0,(P9*((LOG(P9))/LOG(2))))","v":0},null,null,{"$f":"N9","v":121},{"$f":"COUNTIF(L7:L30,T9)","v":0},{"$f":"U9/(W4-U11)","v":0},{"$f":"IF(V9=0,0,(V9*((LOG(V9))/LOG(2))))","v":0},null,{"$f":"N9","v":121},{"$f":"COUNTIF(L31:L53,Y9)","v":0},{"$f":"Z9/(AB4-Z11)","v":0},{"$f":"IF(AA9=0,0,(AA9*((LOG(AA9))/LOG(2))))","v":0},null,{"$f":"N9","v":121},{"$f":"COUNTIF(L54:L77,AD9)","v":0},{"$f":"AE9/(AG4-AE11)","v":0},{"$f":"IF(AF9=0,0,(AF9*((LOG(AF9))/LOG(2))))","v":0},null,{"$f":"N9","v":121},{"$f":"COUNTIF(L78:L101,AI9)","v":0},{"$f":"AJ9/(AL4-AJ11)","v":0},{"$f":"IF(AK9=0,0,(AK9*((LOG(AK9))/LOG(2))))","v":0},null,{"$f":"N9","v":121},{"$f":"COUNTIF(L102:L124,AN9)","v":0},{"$f":"AO9/(AQ4-AO11)","v":0},{"$f":"IF(AP9=0,0,(AP9*((LOG(AP9))/LOG(2))))","v":0},null,{"$f":"N9","v":121},{"$f":"COUNTIF(L125:L148,AS9)","v":0},{"$f":"AT9/(AV4-AT11)","v":0},{"$f":"IF(AU9=0,0,(AU9*((LOG(AU9))/LOG(2))))","v":0}]
[21,438,22,442,24,447,null,null,null,null,0,222,null,122,{"$f":"COUNTIF($L$7:$L$500,N10)","v":0},{"$f":"O10/$Q$4","v":0},{"$f":"IF(P10=0,0,(P10*((LOG(P10))/LOG(2))))","v":0},null,null,{"$f":"N10","v":122},{"$f":"COUNTIF(L7:L30,T10)","v":0},{"$f":"U10/(W4-U11)","v":0},{"$f":"IF(V10=0,0,(V10*((LOG(V10))/LOG(2))))","v":0},null,{"$f":"N10","v":122},{"$f":"COUNTIF(L31:L53,Y10)","v":0},{"$f":"Z10/(AB4-Z11)","v":0},{"$f":"IF(AA10=0,0,(AA10*((LOG(AA10))/LOG(2))))","v":0},null,{"$f":"N10","v":122},{"$f":"COUNTIF(L54:L77,AD10)","v":0},{"$f":"AE10/(AG4-AE11)","v":0},{"$f":"IF(AF10=0,0,(AF10*((LOG(AF10))/LOG(2))))","v":0},null,{"$f":"N10","v":122},{"$f":"COUNTIF(L78:L101,AI10)","v":0},{"$f":"AJ10/(AL4-AJ11)","v":0},{"$f":"IF(AK10=0,0,(AK10*((LOG(AK10))/LOG(2))))","v":0},null,{"$f":"N10","v":122},{"$f":"COUNTIF(L102:L124,AN10)","v":0},{"$f":"AO10/(AQ4-AO11)","v":0},{"$f":"IF(AP10=0,0,(AP10*((LOG(AP10))/LOG(2))))","v":0},null,{"$f":"N10","v":122},{"$f":"COUNTIF(L125:L148,AS10)","v":0},{"$f":"AT10/(AV4-AT11)","v":0},{"$f":"IF(AU10=0,0,(AU10*((LOG(AU10))/LOG(2))))","v":0}]
[21,555,22,563,24,570,null,null,null,null,0,222,null,211,{"$f":"COUNTIF($L$7:$L$500,N11)","v":0},{"$f":"O11/$Q$4","v":0},{"$f":"IF(P11=0,0,(P11*((LOG(P11))/LOG(2))))","v":0},null,null,{"$f":"N11","v":211},{"$f":"COUNTIF(L7:L30,T11)","v":0},null,null,null,{"$f":"N11","v":211},{"$f":"COUNTIF(L31:L53,Y11)","v":0},null,null,null,{"$f":"N11","v":211},{"$f":"COUNTIF(L54:L77,AD11)","v":0},null,null,null,{"$f":"N11","v":211},{"$f":"COUNTIF(L78:L101,AI11)","v":0},null,null,null,{"$f":"N11","v":211},{"$f":"COUNTIF(L102:L124,AN11)","v":0},null,null,null,{"$f":"N11","v":211},{"$f":"COUNTIF(L125:L148,AS11)","v":0}]
[12,674,13,679,13,686,null,null,null,null,0,111,null,212,{"$f":"COUNTIF($L$7:$L$500,N12)","v":0},{"$f":"O12/$Q$4","v":0},{"$f":"IF(P12=0,0,(P12*((LOG(P12))/LOG(2))))","v":0},null,null,{"$f":"N12","v":212},{"$f":"COUNTIF(L7:L30,T12)","v":0},{"$f":"U12/(W4-U11)","v":0},{"$f":"IF(V12=0,0,(V12*((LOG(V12))/LOG(2))))","v":0},null,{"$f":"N12","v":212},{"$f":"COUNTIF(L31:L53,Y12)","v":0},{"$f":"Z12/(AB4-Z11)","v":0},{"$f":"IF(AA12=0,0,(AA12*((LOG(AA12))/LOG(2))))","v":0},null,{"$f":"N12","v":212},{"$f":"COUNTIF(L54:L77,AD12)","v":0},{"$f":"AE12/(AG4-AE11)","v":0},{"$f":"IF(AF12=0,0,(AF12*((LOG(AF12))/LOG(2))))","v":0},null,{"$f":"N12","v":212},{"$f":"COUNTIF(L78:L101,AI12)","v":0},{"$f":"AJ12/(AL4-AJ11)","v":0},{"$f":"IF(AK12=0,0,(AK12*((LOG(AK12))/LOG(2))))","v":0},null,{"$f":"N12","v":212},{"$f":"COUNTIF(L102:L124,AN12)","v":0},{"$f":"AO12/(AQ4-AO11)","v":0},{"$f":"IF(AP12=0,0,(AP12*((LOG(AP12))/LOG(2))))","v":0},null,{"$f":"N12","v":212},{"$f":"COUNTIF(L125:L148,AS12)","v":0},{"$f":"AT12/(AV4-AT11)","v":0},{"$f":"IF(AU12=0,0,(AU12*((LOG(AU12))/LOG(2))))","v":0}]
[12,786,13,793,13,802,null,null,null,null,0,111,null,221,{"$f":"COUNTIF($L$7:$L$500,N13)","v":0},{"$f":"O13/$Q$4","v":0},{"$f":"IF(P13=0,0,(P13*((LOG(P13))/LOG(2))))","v":0},null,null,{"$f":"N13","v":221},{"$f":"COUNTIF(L7:L30,T13)","v":0},{"$f":"U13/(W4-U11)","v":0},{"$f":"IF(V13=0,0,(V13*((LOG(V13))/LOG(2))))","v":0},null,{"$f":"N13","v":221},{"$f":"COUNTIF(L31:L53,Y13)","v":0},{"$f":"Z13/(AB4-Z11)","v":0},{"$f":"IF(AA13=0,0,(AA13*((LOG(AA13))/LOG(2))))","v":0},null,{"$f":"N13","v":221},{"$f":"COUNTIF(L54:L77,AD13)","v":0},{"$f":"AE13/(AG4-AE11)","v":0},{"$f":"IF(AF13=0,0,(AF13*((LOG(AF13))/LOG(2))))","v":0},null,{"$f":"N13","v":221},{"$f":"COUNTIF(L78:L101,AI13)","v":0},{"$f":"AJ13/(AL4-AJ11)","v":0},{"$f":"IF(AK13=0,0,(AK13*((LOG(AK13))/LOG(2))))","v":0},null,{"$f":"N13","v":221},{"$f":"COUNTIF(L102:L124,AN13)","v":0},{"$f":"AO13/(AQ4-AO11)","v":0},{"$f":"IF(AP13=0,0,(AP13*((LOG(AP13))/LOG(2))))","v":0},null,{"$f":"N13","v":221},{"$f":"COUNTIF(L125:L148,AS13)","v":0},{"$f":"AT13/(AV4-AT11)","v":0},{"$f":"IF(AU13=0,0,(AU13*((LOG(AU13))/LOG(2))))","v":0}]
[21,979,22,1003,24,1012,null,null,null,null,0,222,null,222,{"$f":"COUNTIF($L$7:$L$500,N14)","v":108},{"$f":"O14/$Q$4","v":0.76056338028169013},{"$f":"IF(P14=0,0,(P14*((LOG(P14))/LOG(2))))","v":-0.30031576530176807},null,null,{"$f":"N14","v":222},{"$f":"COUNTIF(L7:L30,T14)","v":14},{"$f":"U14/(W4-U11)","v":0.58333333333333337},{"$f":"IF(V14=0,0,(V14*((LOG(V14))/LOG(2))))","v":-0.45360442088707198},null,{"$f":"N14","v":222},{"$f":"COUNTIF(L31:L53,Y14)","v":18},{"$f":"Z14/(AB4-Z11)","v":0.78260869565217395},{"$f":"IF(AA14=0,0,(AA14*((LOG(AA14))/LOG(2))))","v":-0.27675935578541772},null,{"$f":"N14","v":222},{"$f":"COUNTIF(L54:L77,AD14)","v":19},{"$f":"AE14/(AG4-AE11)","v":0.79166666666666663},{"$f":"IF(AF14=0,0,(AF14*((LOG(AF14))/LOG(2))))","v":-0.26681936492807684},null,{"$f":"N14","v":222},{"$f":"COUNTIF(L78:L101,AI14)","v":14},{"$f":"AJ14/(AL4-AJ11)","v":0.58333333333333337},{"$f":"IF(AK14=0,0,(AK14*((LOG(AK14))/LOG(2))))","v":-0.45360442088707198},null,{"$f":"N14","v":222},{"$f":"COUNTIF(L102:L124,AN14)","v":22},{"$f":"AO14/(AQ4-AO11)","v":0.95652173913043481},{"$f":"IF(AP14=0,0,(AP14*((LOG(AP14))/LOG(2))))","v":-6.1342061879727947E-2},null,{"$f":"N14","v":222},{"$f":"COUNTIF(L125:L148,AS14)","v":21},{"$f":"AT14/(AV4-AT11)","v":0.875},{"$f":"IF(AU14=0,0,(AU14*((LOG(AU14))/LOG(2))))","v":-0.1685644431995964}]
[21,1121,22,1126,24,1134,null,null,null,null,0,222,null,null,null,{"$f":"SUM(P7:P14)","v":1},{"$f":"-SUM(Q7:Q14)","v":0.79410214178520222},null,null,null,null,{"$f":"SUM(V7:V14)","v":1},{"$f":"-SUM(W7:W14)","v":0.97986875665115281},null,null,null,{"$f":"SUM(AA7:AA14)","v":1},{"$f":"-SUM(AB7:AB14)","v":0.75537541256142871},null,null,null,{"$f":"SUM(AF7:AF14)","v":1},{"$f":"-SUM(AG7:AG14)","v":0.73828486614345046},null,null,null,{"$f":"SUM(AK7:AK14)","v":1},{"$f":"-SUM(AL7:AL14)","v":0.97986875665115281},null,null,null,{"$f":"SUM(AP7:AP14)","v":1},{"$f":"-SUM(AQ7:AQ14)","v":0.25801866866481549},null,null,null,{"$f":"SUM(AU7:AU14)","v":1},{"$f":"-SUM(AV7:AV14)","v":0.5435644431995964}]
[12,1243,13,1247,13,1249,null,null,null,null,0,111,null,null,null,"U=",{"$f":"Q15/(LOG(Q4)/LOG(2))","v":0.11106716482585413},null,null,null,null,"U1=",{"$f":"W15/(LOG(W4)/LOG(2))","v":0.21371358140814281},null,null,null,"U2=",{"$f":"AB15/(LOG(AB4)/LOG(2))","v":0.1669868612167425},null,null,null,"U3=",{"$f":"AG15/(LOG(AG4)/LOG(2))","v":0.1610230980138502},null,null,null,"U4=",{"$f":"AL15/(LOG(AL4)/LOG(2))","v":0.21371358140814281},null,null,null,"U5=",{"$f":"AQ15/(LOG(AQ4)/LOG(2))","v":5.7038827183372734E-2},null,null,null,"U6=",{"$f":"AV15/(LOG(AV4)/LOG(2))","v":0.11855373803255766}]
[12,1356,13,1360,13,1366,null,null,null,null,0,111]
[12,1504,13,1510,13,1518,null,null,null,null,0,111]
[12,1630,13,1637,13,1645,null,null,null,null,0,111,null,"Total Target Seq"]
[12,1757,13,1761,13,1766,null,null,null,null,0,111,null,{"$f":"COUNTIF(L7:L148,G3)","v":0},null,24,23,24,24,23,24]
[21,1930,22,1935,24,1942,null,null,null,null,0,222,null,null,null,"% of reinforcement given in 6 equal intervals based on number of trials "]
[12,2065,13,2069,13,2073,null,null,null,null,0,111,null,null,null,"%_1","%_2","%_3","%_4","%_5","%_6"]
[12,2414,13,2418,13,2423,null,null,null,null,0,111,null,null,"target sequence",{"$f":"$G$3","v":211},{"$f":"$G$3","v":211},{"$f":"$G$3","v":211},{"$f":"$G$3","v":211},{"$f":"$G$3","v":211},{"$f":"$G$3","v":211}]
[12,2596,13,2601,13,2606,null,null,null,null,0,111,null,null,"total reinforcement",{"$f":"U11","v":0},{"$f":"Z11","v":0},{"$f":"AE11","v":0},{"$f":"AJ11","v":0},{"$f":"AO11","v":0},{"$f":"AT11","v":0}]
[21,2868,22,2873,24,2880,null,null,null,null,0,222,null,null,"% target"]
[21,3116,22,3121,24,3129,null,null,null,null,0,222,null,null,"CCRF"]
[21,5360,22,5365,24,5374,null,null,null,null,0,222,null,null,"% CCRf"]
[21,5550,22,5559,24,5568,null,null,null,null,0,222,null,null,"average response rate",{"$f":"F30/P20","v":245.95833333333334},{"$f":"(F53-F30)/Q20","v":195.78260869565219},{"$f":"(F77-F53)/R20","v":144.08333333333334},{"$f":"(F101-F77)/S20","v":124.33333333333333},{"$f":"(F124-F101)/T20","v":144.08695652173913},{"$f":"(F148-F124)/U20","v":156.79166666666666}]
[21,5705,22,5709,24,5722,null,null,null,null,0,222]
[21,5888,22,5895,24,5903,null,null,null,null,0,222]
[21,6408,22,6416,24,6426,null,null,null,null,0,222]
[21,6551,22,6556,24,6561,null,null,null,null,0,222]
[21,6667,22,6672,24,6679,null,null,null,null,0,222]
[21,6784,22,6788,24,6795,null,null,null,null,0,222]
[21,7010,22,7038,24,7061,null,null,null,null,0,222]
[21,7232,22,7239,24,7246,null,null,null,null,0,222]
[21,7348,22,7352,24,7360,null,null,null,null,0,222]
[21,7471,22,7476,24,7482,null,null,null,null,0,222]
[21,7582,22,7586,24,7591,null,null,null,null,0,222]
[21,7699,22,7703,24,7719,null,null,null,null,0,222]
[21,7854,22,7859,24,7874,null,null,null,null,0,222]
[21,8022,22,8029,24,8041,null,null,null,null,0,222]
[21,8265,22,8270,24,8284,null,null,null,null,0,222]
[21,8398,22,8403,24,8410,null,null,null,null,0,222]
[21,9147,22,9153,24,9169,null,null,null,null,0,222]
[21,9280,22,9284,24,9289,null,null,null,null,0,222]
[12,9393,13,9401,13,9409,null,null,null,null,0,111]
[21,9521,22,9525,24,9531,null,null,null,null,0,222]
[12,9633,13,9637,13,9642,null,null,null,null,0,111]
[12,9757,13,9761,13,9769,null,null,null,null,0,111]
[12,10163,13,10168,13,10172,null,null,null,null,0,111]
[21,10282,22,10287,24,10294,null,null,null,null,0,222]
[12,10398,13,10401,13,10406,null,null,null,null,0,111]
[21,10509,22,10513,24,10517,null,null,null,null,0,222]
[21,10630,22,10634,24,10639,null,null,null,null,0,222]
[21,10826,22,10839,24,10871,null,null,null,null,0,222]
[21,10975,22,10979,24,10987,null,null,null,null,0,222]
[12,11098,13,11102,13,11106,null,null,null,null,0,111]
[21,11247,22,11255,24,11270,null,null,null,null,0,222]
[21,11399,22,11404,24,11419,null,null,null,null,0,222]
[12,11524,13,11529,13,11533,null,null,null,null,0,111]
[12,11638,13,11642,13,11646,null,null,null,null,0,111]
[21,11752,22,11756,24,11761,null,null,null,null,0,222]
[21,11963,22,11969,24,11976,null,null,null,null,0,222]
[21,12091,22,12098,24,12106,null,null,null,null,0,222]
[21,12215,22,12219,24,12225,null,null,null,null,0,222]
[21,12340,22,12345,24,12352,null,null,null,null,0,222]
[12,12485,13,12490,13,12494,null,null,null,null,0,111]
[21,12778,22,12792,24,12801,null,null,null,null,0,222]
[21,12903,22,12908,24,12913,null,null,null,null,0,222]
[21,13022,22,13026,24,13032,null,null,null,null,0,222]
[21,13140,22,13145,24,13151,null,null,null,null,0,222]
[21,13255,22,13260,24,13269,null,null,null,null,0,222]
[21,13371,22,13376,24,13385,null,null,null,null,0,222]
[21,13488,22,13492,24,13497,null,null,null,null,0,222]
[21,13629,22,13646,24,13701,null,null,null,null,0,222]
[12,13808,13,13860,13,13864,null,null,null,null,0,111]
[21,13970,22,13975,24,13983,null,null,null,null,0,222]
[21,14087,22,14096,24,14113,null,null,null,null,0,222]
[12,14222,13,14227,13,14232,null,null,null,null,0,111]
[12,14336,13,14341,13,14346,null,null,null,null,0,111]
[12,14453,13,14458,13,14462,null,null,null,null,0,111]
[21,14564,22,14569,24,14574,null,null,null,null,0,222]
[12,14681,13,14686,13,14693,null,null,null,null,0,111]
[12,14796,13,14800,13,14805,null,null,null,null,0,111]
[21,14918,22,14923,24,14930,null,null,null,null,0,222]
[21,15032,22,15036,24,15040,null,null,null,null,0,222]
[12,15144,13,15149,13,15153,null,null,null,null,0,111]
[21,15285,22,15297,24,15307,null,null,null,null,0,222]
[21,15419,22,15424,24,15431,null,null,null,null,0,222]
[21,15546,22,15554,24,15562,null,null,null,null,0,222]
[21,15668,22,15673,24,15687,null,null,null,null,0,222]
[12,15800,13,15805,13,15812,null,null,null,null,0,111]
[21,16004,22,16011,24,16020,null,null,null,null,0,222]
[12,16126,13,16130,13,16134,null,null,null,null,0,111]
[21,16243,22,16247,24,16251,null,null,null,null,0,222]
[12,16357,13,16361,13,16365,null,null,null,null,0,111]
[21,16474,22,16478,24,16483,null,null,null,null,0,222]
[21,16596,22,16601,24,16618,null,null,null,null,0,222]
[21,16722,22,16727,24,16732,null,null,null,null,0,222]
[12,16839,13,16844,13,16848,null,null,null,null,0,111]
[21,17008,22,17013,24,17025,null,null,null,null,0,222]
[21,17138,22,17143,24,17147,null,null,null,null,0,222]
[21,17360,22,17377,24,17392,null,null,null,null,0,222]
[21,17497,22,17501,24,17505,null,null,null,null,0,222]
[21,17618,22,17622,24,17628,null,null,null,null,0,222]
[21,17746,22,17750,24,17768,null,null,null,null,0,222]
[21,17887,22,17891,24,17896,null,null,null,null,0,222]
[21,18024,22,18029,24,18036,null,null,null,null,0,222]
[21,18153,22,18160,24,18166,null,null,null,null,0,222]
[21,18354,22,18358,24,18373,null,null,null,null,0,222]
[21,18488,22,18492,24,18500,null,null,null,null,0,222]
[21,18607,22,18611,24,18618,null,null,null,null,0,222]
[21,18756,22,18762,24,18770,null,null,null,null,0,222]
[12,18897,13,18901,13,18905,null,null,null,null,0,111]
[21,19131,22,19137,24,19148,null,null,null,null,0,222]
[21,19274,22,19281,24,19288,null,null,null,null,0,222]
[21,19417,22,19422,24,19429,null,null,null,null,0,222]
[21,19528,22,19532,24,19537,null,null,null,null,0,222]
[21,19645,22,19649,24,19654,null,null,null,null,0,222]
[21,19791,22,19797,24,19805,null,null,null,null,0,222]
[21,19915,22,19919,24,19924,null,null,null,null,0,222]
[21,20034,22,20038,24,20043,null,null,null,null,0,222]
[21,20152,22,20157,24,20162,null,null,null,null,0,222]
[21,20263,22,20267,24,20271,null,null,null,null,0,222]
[21,20513,22,20521,24,20536,null,null,null,null,0,222]
[21,20641,22,20646,24,20654,null,null,null,null,0,222]
[21,20766,22,20770,24,20774,null,null,null,null,0,222]
[21,20887,22,20891,24,20895,null,null,null,null,0,222]
[21,21003,22,21036,24,21045,null,null,null,null,0,222]
[21,21148,22,21152,24,21157,null,null,null,null,0,222]
[12,21267,13,21272,13,21276,null,null,null,null,0,111]
[12,21394,13,21399,13,21404,null,null,null,null,0,111]
[21,21504,22,21508,24,21512,null,null,null,null,0,222]
[21,21661,22,21666,24,21670,null,null,null,null,0,222]
[21,21798,22,21803,24,21810,null,null,null,null,0,222]
[21,21916,22,21921,24,21928,null,null,null,null,0,222]
[21,22034,22,22039,24,22043,null,null,null,null,0,222]
[21,22343,22,22403,24,22433,null,null,null,null,0,222]
[12,22534,13,22538,13,22542,null,null,null,null,0,111]
[21,22712,22,22717,24,22732,null,null,null,null,0,222]
[21,23118,22,23128,24,23164,null,null,null,null,0,222]
[21,23269,22,23274,24,23280,null,null,null,null,0,222]
[21,23397,22,23401,24,23406,null,null,null,null,0,222]
[21,23518,22,23523,24,23530,null,null,null,null,0,222]
[21,23650,22,23654,24,23658,null,null,null,null,0,222]
[21,23765,22,23769,24,23773,null,null,null,null,0,222]
[21,23907,22,23912,24,23925,null,null,null,null,1,222]

{"sheet":"!MA19A00.091","index":30,"n_rows":202,"n_cols":48,"rows_kept":202,"cut":false,"hidden":false,"merged":[[4,39,4,42],[5,39,5,40],[4,44,4,47],[5,44,5,45],[4,24,4,27],[5,24,5,25],[4,29,4,32],[5,29,5,30],[4,34,4,37],[5,34,5,35],[1,1,1,2],[5,13,5,14],[18,13,18,14],[19,13,19,14],[4,19,4,22],[5,19,5,20]]}
["Report for:!MA19A00.091"]
["Date:","<date>"]
["Hen:","<hen>",null,null,null,"Correct Sequence",{"$f":"Start!J2","v":211},null,null,null,null,null,null,null,null,"Total Sequences in Data",{"$f":"4994-COUNTBLANK(L7:L5000)","v":196},null,null,null,null,"Total Sequences in Block Data",{"$f":"COUNTA(L7:L39)","v":33},null,null,null,"Total Sequences in Block Data",{"$f":"COUNTA(L40:L71)","v":32},null,null,null,"Total Sequences in Block Data",{"$f":"COUNTA(L72:L104)","v":33},null,null,null,"Total Sequences in Block Data",{"$f":"COUNTA(L105:L137)","v":33},null,null,null,"Total Sequences in Block Data",{"$f":"COUNTA(L138:L169)","v":32},null,null,null,"Total Sequences in Block Data",{"$f":"COUNTA(L170:L202)","v":33}]
[null,null,null,null,null,null,null,null,null,null,null,null,null,null,null,"Total Sequences in Summary",{"$f":"SUM(O7:O14)","v":196},null,null,null,null,"Total Sequences in Block Summary",{"$f":"SUM(U7:U14)","v":33},null,null,null,"Total Sequences in Block Summary",{"$f":"SUM(Z7:Z14)","v":32},null,null,null,"Total Sequences in Block Summary",{"$f":"SUM(AE7:AE14)","v":33},null,null,null,"Total Sequences in Block Summary",{"$f":"SUM(AJ7:AJ14)","v":33},null,null,null,"Total Sequences in Block Summary",{"$f":"SUM(AO7:AO14)","v":32},null,null,null,"Total Sequences in Block Summary",{"$f":"SUM(AT7:AT14)","v":33}]
[null,null,null,null,null,null,null,null,null,null,null,null,null,null,null,null,null,null,null,"Block 1",null,null,null,null,"Block 2",null,null,null,null,"Block 3",null,null,null,null,"Block 4",null,null,null,null,"Block 5",null,null,null,null,"Block 6"]
["Sequence\nComponent\n1","Time\n1","Sequence\nComponent\n2","Time\n2","Sequence\nComponent\n3","Time\n3","Sequence\nComponent\n4","Time\n4","Sequence\nComponent\n5","Time\n5","Correct?\n0=No 1=Yes","Sequence",null,"Frequency",null,"Relative Frequency","Variability",null,null,"Frequency",null,"Relative Frequency","Variability",null,"Frequency",null,"Relative Frequency","Variability",null,"Frequency",null,"Relative Frequency","Variability",null,"Frequency",null,"Relative Frequency","Variability",null,"Frequency",null,"Relative Frequency","Variability",null,"Frequency",null,"Relative Frequency","Variability"]
[21,10,22,15,24,77,null,null,null,null,0,222,null,111,{"$f":"COUNTIF($L$7:$L$500,N7)","v":73},{"$f":"O7/$Q$4","v":0.37244897959183676},{"$f":"IF(P7=0,0,(P7*((LOG(P7))/LOG(2))))","v":-0.53069707052127013},null,null,{"$f":"N7","v":111},{"$f":"COUNTIF(L7:L39,T7)","v":9},{"$f":"U7/(W4-U11)","v":0.27272727272727271},{"$f":"IF(V7=0,0,(V7*((LOG(V7))/LOG(2))))","v":-0.51121885034076575},null,{"$f":"N7","v":111},{"$f":"COUNTIF(L40:L71,Y7)","v":13},{"$f":"Z7/(AB4-Z11)","v":0.40625},{"$f":"IF(AA7=0,0,(AA7*((LOG(AA7))/LOG(2))))","v":-0.52794636450518129},null,{"$f":"N7","v":111},{"$f":"COUNTIF(L72:L104,AD7)","v":9},{"$f":"AE7/(AG4-AE11)","v":0.27272727272727271},{"$f":"IF(AF7=0,0,(AF7*((LOG(AF7))/LOG(2))))","v":-0.51121885034076575},null,{"$f":"N7","v":111},{"$f":"COUNTIF(L105:L137,AI7)","v":18},{"$f":"AJ7/(AL4-AJ11)","v":0.54545454545454541},{"$f":"IF(AK7=0,0,(AK7*((LOG(AK7))/LOG(2))))","v":-0.47698315522698609},null,{"$f":"N7","v":111},{"$f":"COUNTIF(L138:L169,AN7)","v":7},{"$f":"AO7/(AQ4-AO11)","v":0.21875},{"$f":"IF(AP7=0,0,(AP7*((LOG(AP7))/LOG(2))))","v":-0.47964111079989907},null,{"$f":"N7","v":111},{"$f":"COUNTIF(L170:L202,AS7)","v":17},{"$f":"AT7/(AV4-AT11)","v":0.51515151515151514},{"$f":"IF(AU7=0,0,(AU7*((LOG(AU7))/LOG(2))))","v":-0.49296459781327084}]
[21,190,22,194,24,209,null,null,null,null,0,222,null,112,{"$f":"COUNTIF($L$7:$L$500,N8)","v":1},{"$f":"O8/$Q$4","v":5.1020408163265302E-3},{"$f":"IF(P8=0,0,(P8*((LOG(P8))/LOG(2))))","v":-3.8850560429159221E-2},null,null,{"$f":"N8","v":112},{"$f":"COUNTIF(L7:L39,T8)","v":0},{"$f":"U8/(W4-U11)","v":0},{"$f":"IF(V8=0,0,(V8*((LOG(V8))/LOG(2))))","v":0},null,{"$f":"N8","v":112},{"$f":"COUNTIF(L40:L71,Y8)","v":0},{"$f":"Z8/(AB4-Z11)","v":0},{"$f":"IF(AA8=0,0,(AA8*((LOG(AA8))/LOG(2))))","v":0},null,{"$f":"N8","v":112},{"$f":"COUNTIF(L72:L104,AD8)","v":0},{"$f":"AE8/(AG4-AE11)","v":0},{"$f":"IF(AF8=0,0,(AF8*((LOG(AF8))/LOG(2))))","v":0},null,{"$f":"N8","v":112},{"$f":"COUNTIF(L105:L137,AI8)","v":0},{"$f":"AJ8/(AL4-AJ11)","v":0},{"$f":"IF(AK8=0,0,(AK8*((LOG(AK8))/LOG(2))))","v":0},null,{"$f":"N8","v":112},{"$f":"COUNTIF(L138:L169,AN8)","v":1},{"$f":"AO8/(AQ4-AO11)","v":3.125E-2},{"$f":"IF(AP8=0,0,(AP8*((LOG(AP8))/LOG(2))))","v":-0.15625},null,{"$f":"N8","v":112},{"$f":"COUNTIF(L170:L202,AS8)","v":0},{"$f":"AT8/(AV4-AT11)","v":0},{"$f":"IF(AU8=0,0,(AU8*((LOG(AU8))/LOG(2))))","v":0}]
[21,315,22,320,24,328,null,null,null,null,0,222,null,121,{"$f":"COUNTIF($L$7:$L$500,N9)","v":0},{"$f":"O9/$Q$4","v":0},{"$f":"IF(P9=0,0,(P9*((LOG(P9))/LOG(2))))","v":0},null,null,{"$f":"N9","v":121},{"$f":"COUNTIF(L7:L39,T9)","v":0},{"$f":"U9/(W4-U11)","v":0},{"$f":"IF(V9=0,0,(V9*((LOG(V9))/LOG(2))))","v":0},null,{"$f":"N9","v":121},{"$f":"COUNTIF(L40:L71,Y9)","v":0},{"$f":"Z9/(AB4-Z11)","v":0},{"$f":"IF(AA9=0,0,(AA9*((LOG(AA9))/LOG(2))))","v":0},null,{"$f":"N9","v":121},{"$f":"COUNTIF(L72:L104,AD9)","v":0},{"$f":"AE9/(AG4-AE11)","v":0},{"$f":"IF(AF9=0,0,(AF9*((LOG(AF9))/LOG(2))))","v":0},null,{"$f":"N9","v":121},{"$f":"COUNTIF(L105:L137,AI9)","v":0},{"$f":"AJ9/(AL4-AJ11)","v":0},{"$f":"IF(AK9=0,0,(AK9*((LOG(AK9))/LOG(2))))","v":0},null,{"$f":"N9","v":121},{"$f":"COUNTIF(L138:L169,AN9)","v":0},{"$f":"AO9/(AQ4-AO11)","v":0},{"$f":"IF(AP9=0,0,(AP9*((LOG(AP9))/LOG(2))))","v":0},null,{"$f":"N9","v":121},{"$f":"COUNTIF(L170:L202,AS9)","v":0},{"$f":"AT9/(AV4-AT11)","v":0},{"$f":"IF(AU9=0,0,(AU9*((LOG(AU9))/LOG(2))))","v":0}]
[21,441,22,446,24,454,null,null,null,null,0,222,null,122,{"$f":"COUNTIF($L$7:$L$500,N10)","v":0},{"$f":"O10/$Q$4","v":0},{"$f":"IF(P10=0,0,(P10*((LOG(P10))/LOG(2))))","v":0},null,null,{"$f":"N10","v":122},{"$f":"COUNTIF(L7:L39,T10)","v":0},{"$f":"U10/(W4-U11)","v":0},{"$f":"IF(V10=0,0,(V10*((LOG(V10))/LOG(2))))","v":0},null,{"$f":"N10","v":122},{"$f":"COUNTIF(L40:L71,Y10)","v":0},{"$f":"Z10/(AB4-Z11)","v":0},{"$f":"IF(AA10=0,0,(AA10*((LOG(AA10))/LOG(2))))","v":0},null,{"$f":"N10","v":122},{"$f":"COUNTIF(L72:L104,AD10)","v":0},{"$f":"AE10/(AG4-AE11)","v":0},{"$f":"IF(AF10=0,0,(AF10*((LOG(AF10))/LOG(2))))","v":0},null,{"$f":"N10","v":122},{"$f":"COUNTIF(L105:L137,AI10)","v":0},{"$f":"AJ10/(AL4-AJ11)","v":0},{"$f":"IF(AK10=0,0,(AK10*((LOG(AK10))/LOG(2))))","v":0},null,{"$f":"N10","v":122},{"$f":"COUNTIF(L138:L169,AN10)","v":0},{"$f":"AO10/(AQ4-AO11)","v":0},{"$f":"IF(AP10=0,0,(AP10*((LOG(AP10))/LOG(2))))","v":0},null,{"$f":"N10","v":122},{"$f":"COUNTIF(L170:L202,AS10)","v":0},{"$f":"AT10/(AV4-AT11)","v":0},{"$f":"IF(AU10=0,0,(AU10*((LOG(AU10))/LOG(2))))","v":0}]
[21,574,22,579,24,584,null,null,null,null,0,222,null,211,{"$f":"COUNTIF($L$7:$L$500,N11)","v":0},{"$f":"O11/$Q$4","v":0},{"$f":"IF(P11=0,0,(P11*((LOG(P11))/LOG(2))))","v":0},null,null,{"$f":"N11","v":211},{"$f":"COUNTIF(L7:L39,T11)","v":0},null,null,null,{"$f":"N11","v":211},{"$f":"COUNTIF(L40:L71,Y11)","v":0},null,null,null,{"$f":"N11","v":211},{"$f":"COUNTIF(L72:L104,AD11)","v":0},null,null,null,{"$f":"N11","v":211},{"$f":"COUNTIF(L105:L137,AI11)","v":0},null,null,null,{"$f":"N11","v":211},{"$f":"COUNTIF(L138:L169,AN11)","v":0},null,null,null,{"$f":"N11","v":211},{"$f":"COUNTIF(L170:L202,AS11)","v":0}]
[21,701,22,707,24,714,null,null,null,null,0,222,null,212,{"$f":"COUNTIF($L$7:$L$500,N12)","v":0},{"$f":"O12/$Q$4","v":0},{"$f":"IF(P12=0,0,(P12*((LOG(P12))/LOG(2))))","v":0},null,null,{"$f":"N12","v":212},{"$f":"COUNTIF(L7:L39,T12)","v":0},{"$f":"U12/(W4-U11)","v":0},{"$f":"IF(V12=0,0,(V12*((LOG(V12))/LOG(2))))","v":0},null,{"$f":"N12","v":212},{"$f":"COUNTIF(L40:L71,Y12)","v":0},{"$f":"Z12/(AB4-Z11)","v":0},{"$f":"IF(AA12=0,0,(AA12*((LOG(AA12))/LOG(2))))","v":0},null,{"$f":"N12","v":212},{"$f":"COUNTIF(L72:L104,AD12)","v":0},{"$f":"AE12/(AG4-AE11)","v":0},{"$f":"IF(AF12=0,0,(AF12*((LOG(AF12))/LOG(2))))","v":0},null,{"$f":"N12","v":212},{"$f":"COUNTIF(L105:L137,AI12)","v":0},{"$f":"AJ12/(AL4-AJ11)","v":0},{"$f":"IF(AK12=0,0,(AK12*((LOG(AK12))/LOG(2))))","v":0},null,{"$f":"N12","v":212},{"$f":"COUNTIF(L138:L169,AN12)","v":0},{"$f":"AO12/(AQ4-AO11)","v":0},{"$f":"IF(AP12=0,0,(AP12*((LOG(AP12))/LOG(2))))","v":0},null,{"$f":"N12","v":212},{"$f":"COUNTIF(L170:L202,AS12)","v":0},{"$f":"AT12/(AV4-AT11)","v":0},{"$f":"IF(AU12=0,0,(AU12*((LOG(AU12))/LOG(2))))","v":0}]
[12,818,13,823,13,829,null,null,null,null,0,111,null,221,{"$f":"COUNTIF($L$7:$L$500,N13)","v":0},{"$f":"O13/$Q$4","v":0},{"$f":"IF(P13=0,0,(P13*((LOG(P13))/LOG(2))))","v":0},null,null,{"$f":"N13","v":221},{"$f":"COUNTIF(L7:L39,T13)","v":0},{"$f":"U13/(W4-U11)","v":0},{"$f":"IF(V13=0,0,(V13*((LOG(V13))/LOG(2))))","v":0},null,{"$f":"N13","v":221},{"$f":"COUNTIF(L40:L71,Y13)","v":0},{"$f":"Z13/(AB4-Z11)","v":0},{"$f":"IF(AA13=0,0,(AA13*((LOG(AA13))/LOG(2))))","v":0},null,{"$f":"N13","v":221},{"$f":"COUNTIF(L72:L104,AD13)","v":0},{"$f":"AE13/(AG4-AE11)","v":0},{"$f":"IF(AF13=0,0,(AF13*((LOG(AF13))/LOG(2))))","v":0},null,{"$f":"N13","v":221},{"$f":"COUNTIF(L105:L137,AI13)","v":0},{"$f":"AJ13/(AL4-AJ11)","v":0},{"$f":"IF(AK13=0,0,(AK13*((LOG(AK13))/LOG(2))))","v":0},null,{"$f":"N13","v":221},{"$f":"COUNTIF(L138:L169,AN13)","v":0},{"$f":"AO13/(AQ4-AO11)","v":0},{"$f":"IF(AP13=0,0,(AP13*((LOG(AP13))/LOG(2))))","v":0},null,{"$f":"N13","v":221},{"$f":"COUNTIF(L170:L202,AS13)","v":0},{"$f":"AT13/(AV4-AT11)","v":0},{"$f":"IF(AU13=0,0,(AU13*((LOG(AU13))/LOG(2))))","v":0}]
[21,933,22,937,24,942,null,null,null,null,0,222,null,222,{"$f":"COUNTIF($L$7:$L$500,N14)","v":122},{"$f":"O14/$Q$4","v":0.62244897959183676},{"$f":"IF(P14=0,0,(P14*((LOG(P14))/LOG(2))))","v":-0.42573798877236357},null,null,{"$f":"N14","v":222},{"$f":"COUNTIF(L7:L39,T14)","v":24},{"$f":"U14/(W4-U11)","v":0.72727272727272729},{"$f":"IF(V14=0,0,(V14*((LOG(V14))/LOG(2))))","v":-0.33413208628167068},null,{"$f":"N14","v":222},{"$f":"COUNTIF(L40:L71,Y14)","v":19},{"$f":"Z14/(AB4-Z11)","v":0.59375},{"$f":"IF(AA14=0,0,(AA14*((LOG(AA14))/LOG(2))))","v":-0.44654303889287106},null,{"$f":"N14","v":222},{"$f":"COUNTIF(L72:L104,AD14)","v":24},{"$f":"AE14/(AG4-AE11)","v":0.72727272727272729},{"$f":"IF(AF14=0,0,(AF14*((LOG(AF14))/LOG(2))))","v":-0.33413208628167068},null,{"$f":"N14","v":222},{"$f":"COUNTIF(L105:L137,AI14)","v":15},{"$f":"AJ14/(AL4-AJ11)","v":0.45454545454545453},{"$f":"IF(AK14=0,0,(AK14*((LOG(AK14))/LOG(2))))","v":-0.51704705624997038},null,{"$f":"N14","v":222},{"$f":"COUNTIF(L138:L169,AN14)","v":24},{"$f":"AO14/(AQ4-AO11)","v":0.75},{"$f":"IF(AP14=0,0,(AP14*((LOG(AP14))/LOG(2))))","v":-0.31127812445913283},null,{"$f":"N14","v":222},{"$f":"COUNTIF(L170:L202,AS14)","v":16},{"$f":"AT14/(AV4-AT11)","v":0.48484848484848486},{"$f":"IF(AU14=0,0,(AU14*((LOG(AU14))/LOG(2))))","v":-0.50637290635561383}]
[12,1054,13,1060,13,1067,null,null,null,null,0,111,null,null,null,{"$f":"SUM(P7:P14)","v":1},{"$f":"-SUM(Q7:Q14)","v":0.99528561972279295},null,null,null,null,{"$f":"SUM(V7:V14)","v":1},{"$f":"-SUM(W7:W14)","v":0.84535093662243643},null,null,null,{"$f":"SUM(AA7:AA14)","v":1},{"$f":"-SUM(AB7:AB14)","v":0.97448940339805235},null,null,null,{"$f":"SUM(AF7:AF14)","v":1},{"$f":"-SUM(AG7:AG14)","v":0.84535093662243643},null,null,null,{"$f":"SUM(AK7:AK14)","v":1},{"$f":"-SUM(AL7:AL14)","v":0.99403021147695647},null,null,null,{"$f":"SUM(AP7:AP14)","v":1},{"$f":"-SUM(AQ7:AQ14)","v":0.94716923525903185},null,null,null,{"$f":"SUM(AU7:AU14)","v":1},{"$f":"-SUM(AV7:AV14)","v":0.99933750416888467}]
[21,1215,22,1223,24,1230,null,null,null,null,0,222,null,null,null,"U=",{"$f":"Q15/(LOG(Q4)/LOG(2))","v":0.13070565262469833},null,null,null,null,"U1=",{"$f":"W15/(LOG(W4)/LOG(2))","v":0.167582254007137},null,null,null,"U2=",{"$f":"AB15/(LOG(AB4)/LOG(2))","v":0.19489788067961047},null,null,null,"U3=",{"$f":"AG15/(LOG(AG4)/LOG(2))","v":0.167582254007137},null,null,null,"U4=",{"$f":"AL15/(LOG(AL4)/LOG(2))","v":0.19705641311059521},null,null,null,"U5=",{"$f":"AQ15/(LOG(AQ4)/LOG(2))","v":0.18943384705180638},null,null,null,"U6=",{"$f":"AV15/(LOG(AV4)/LOG(2))","v":0.19810853008764917}]
[21,1491,22,1515,24,1524,null,null,null,null,0,222]
[21,1632,22,1637,24,1645,null,null,null,null,0,222]
[21,1754,22,1758,24,1764,null,null,null,null,0,222,null,"Total Target Seq"]
[21,1868,22,1873,24,1879,null,null,null,null,0,222,null,{"$f":"COUNTIF(L7:L202,G3)","v":0},null,33,32,33,33,32,33]
[21,2081,22,2088,24,2096,null,null,null,null,0,222,null,null,null,"% of reinforcement given in 6 equal intervals based on number of trials "]
[21,2208,22,2213,24,2222,null,null,null,null,0,222,null,null,null,"%_1","%_2","%_3","%_4","%_5","%_6"]
[12,2335,13,2340,13,2345,null,null,null,null,0,111,null,null,"target sequence",{"$f":"$G$3","v":211},{"$f":"$G$3","v":211},{"$f":"$G$3","v":211},{"$f":"$G$3","v":211},{"$f":"$G$3","v":211},{"$f":"$G$3","v":211}]
[21,2545,22,2550,24,2554,null,null,null,null,0,222,null,null,"total reinforcement",{"$f":"U11","v":0},{"$f":"Z11","v":0},{"$f":"AE11","v":0},{"$f":"AJ11","v":0},{"$f":"AO11","v":0},{"$f":"AT11","v":0}]
[12,2664,13,2668,13,2673,null,null,null,null,0,111,null,null,"% target"]
[12,2789,13,2794,13,2798,null,null,null,null,0,111,null,null,"CCRF"]
[21,2902,22,2907,24,2912,null,null,null,null,0,222,null,null,"% CCRf"]
[21,3036,22,3041,24,3047,null,null,null,null,0,222,null,null,"average response rate",{"$f":"F39/P20","v":132.69696969696969},{"$f":"(F71-F39)/Q20","v":127.375},{"$f":"(F104-F71)/R20","v":119.63636363636364},{"$f":"(F137-F104)/S20","v":115.27272727272727},{"$f":"(F169-F137)/T20","v":118.8125},{"$f":"(F202-F169)/U20","v":120.15151515151516}]
[12,3153,13,3157,13,3162,null,null,null,null,0,111]
[12,3271,13,3277,13,3284,null,null,null,null,0,111]
[12,3397,13,3401,13,3406,null,null,null,null,0,111]
[21,3513,22,3517,24,3523,null,null,null,null,0,222]
[21,3633,22,3638,24,3643,null,null,null,null,0,222]
[21,3761,22,3765,24,3770,null,null,null,null,0,222]
[21,3875,22,3880,24,3892,null,null,null,null,0,222]
[21,3994,22,3998,24,4002,null,null,null,null,0,222]
[12,4107,13,4111,13,4115,null,null,null,null,0,111]
[21,4228,22,4232,24,4239,null,null,null,null,0,222]
[21,4368,22,4372,24,4379,null,null,null,null,0,222]
[12,4546,13,4551,13,4555,null,null,null,null,0,111]
[12,4658,13,4663,13,4667,null,null,null,null,0,111]
[21,4769,22,4774,24,4786,null,null,null,null,0,222]
[21,4907,22,4911,24,4915,null,null,null,null,0,222]
[21,5044,22,5052,24,5062,null,null,null,null,0,222]
[12,5162,13,5166,13,5171,null,null,null,null,0,111]
[21,5273,22,5277,24,5281,null,null,null,null,0,222]
[21,5386,22,5391,24,5396,null,null,null,null,0,222]
[12,5497,13,5502,13,5506,null,null,null,null,0,111]
[12,5617,13,5622,13,5627,null,null,null,null,0,111]
[21,5743,22,5748,24,5755,null,null,null,null,0,222]
[12,5864,13,5868,13,5876,null,null,null,null,0,111]
[12,5983,13,5991,13,5995,null,null,null,null,0,111]
[21,6099,22,6104,24,6119,null,null,null,null,0,222]
[21,6228,22,6233,24,6244,null,null,null,null,0,222]
[12,6348,13,6352,13,6358,null,null,null,null,0,111]
[12,6463,13,6467,13,6472,null,null,null,null,0,111]
[12,6573,13,6577,13,6581,null,null,null,null,0,111]
[21,6703,22,6712,24,6727,null,null,null,null,0,222]
[12,6840,13,6844,13,6851,null,null,null,null,0,111]
[21,6961,22,6966,24,6981,null,null,null,null,0,222]
[12,7090,13,7094,13,7099,null,null,null,null,0,111]
[21,7252,22,7257,24,7265,null,null,null,null,0,222]
[21,7375,22,7379,24,7384,null,null,null,null,0,222]
[21,7497,22,7501,24,7505,null,null,null,null,0,222]
[21,7613,22,7617,24,7622,null,null,null,null,0,222]
[21,7737,22,7742,24,7749,null,null,null,null,0,222]
[21,7857,22,7861,24,7866,null,null,null,null,0,222]
[21,7978,22,7983,24,7988,null,null,null,null,0,222]
[12,8151,13,8156,13,8161,null,null,null,null,0,111]
[21,8316,22,8321,24,8329,null,null,null,null,0,222]
[21,8443,22,8448,24,8455,null,null,null,null,0,222]
[21,8566,22,8571,24,8575,null,null,null,null,0,222]
[21,8728,22,8734,24,8742,null,null,null,null,0,222]
[12,8884,13,8889,13,8893,null,null,null,null,0,111]
[21,9002,22,9007,24,9012,null,null,null,null,0,222]
[21,9111,22,9115,24,9120,null,null,null,null,0,222]
[21,9224,22,9229,24,9234,null,null,null,null,0,222]
[21,9373,22,9378,24,9385,null,null,null,null,0,222]
[12,9486,13,9490,13,9494,null,null,null,null,0,111]
[12,9599,13,9604,13,9608,null,null,null,null,0,111]
[21,9711,22,9715,24,9722,null,null,null,null,0,222]
[12,9824,13,9829,13,9835,null,null,null,null,0,111]
[21,9940,22,9945,24,9950,null,null,null,null,0,222]
[12,10057,13,10061,13,10065,null,null,null,null,0,111]
[21,10170,22,10175,24,10183,null,null,null,null,0,222]
[21,10292,22,10296,24,10301,null,null,null,null,0,222]
[12,10406,13,10410,13,10415,null,null,null,null,0,111]
[21,10516,22,10520,24,10525,null,null,null,null,0,222]
[21,10635,22,10639,24,10644,null,null,null,null,0,222]
[21,10778,22,10783,24,10788,null,null,null,null,0,222]
[12,10890,13,10894,13,10898,null,null,null,null,0,111]
[21,11005,22,11009,24,11014,null,null,null,null,0,222]
[21,11117,22,11122,24,11127,null,null,null,null,0,222]
[12,11222,13,11226,13,11229,null,null,null,null,0,111]
[21,11331,22,11335,24,11339,null,null,null,null,0,222]
[21,11448,22,11453,24,11461,null,null,null,null,0,222]
[21,11576,22,11581,24,11589,null,null,null,null,0,222]
[21,11690,22,11694,24,11699,null,null,null,null,0,222]
[21,11806,22,11810,24,11817,null,null,null,null,0,222]
[12,11920,13,11924,13,11930,null,null,null,null,0,111]
[21,12044,22,12050,24,12055,null,null,null,null,0,222]
[21,12156,22,12161,24,12165,null,null,null,null,0,222]
[21,12272,22,12276,24,12284,null,null,null,null,0,222]
[21,12393,22,12398,24,12403,null,null,null,null,0,222]
[12,12506,13,12510,13,12515,null,null,null,null,0,111]
[12,12619,13,12627,13,12635,null,null,null,null,0,111]
[21,12734,22,12739,24,12744,null,null,null,null,0,222]
[12,12849,13,12855,13,12862,null,null,null,null,0,111]
[21,12966,22,12971,24,12977,null,null,null,null,0,222]
[12,13079,13,13083,13,13089,null,null,null,null,0,111]
[21,13192,22,13198,24,13202,null,null,null,null,0,222]
[21,13299,22,13303,24,13308,null,null,null,null,0,222]
[12,13412,13,13418,13,13425,null,null,null,null,0,111]
[12,13523,13,13529,13,13535,null,null,null,null,0,111]
[12,13636,13,13641,13,13648,null,null,null,null,0,111]
[12,13753,13,13758,13,13765,null,null,null,null,0,111]
[21,13867,22,13871,24,13877,null,null,null,null,0,222]
[12,13983,13,13988,13,13995,null,null,null,null,0,111]
[21,14098,22,14102,24,14115,null,null,null,null,0,222]
[12,14217,13,14221,13,14225,null,null,null,null,0,111]
[21,14330,22,14338,24,14344,null,null,null,null,0,222]
[21,14447,22,14452,24,14460,null,null,null,null,0,222]
[12,14561,13,14570,13,14578,null,null,null,null,0,111]
[21,14680,22,14685,24,14690,null,null,null,null,0,222]
[21,14798,22,14802,24,14808,null,null,null,null,0,222]
[21,14913,22,14917,24,14924,null,null,null,null,0,222]
[21,15025,22,15030,24,15038,null,null,null,null,0,222]
[12,15143,13,15147,13,15153,null,null,null,null,0,111]
[12,15255,13,15260,13,15267,null,null,null,null,0,111]
[21,15374,22,15380,24,15408,null,null,null,null,0,222]
[21,15513,22,15517,24,15522,null,null,null,null,0,222]
[12,15623,13,15627,13,15632,null,null,null,null,0,111]
[12,15734,13,15739,13,15746,null,null,null,null,0,111]
[12,15847,13,15853,13,15861,null,null,null,null,0,111]
[12,15967,13,15972,13,15978,null,null,null,null,0,111]
[21,16082,22,16087,24,16094,null,null,null,null,0,222]
[12,16194,13,16199,13,16207,null,null,null,null,0,111]
[21,16312,22,16317,24,16323,null,null,null,null,0,222]
[21,16425,22,16430,24,16437,null,null,null,null,0,222]
[21,16537,22,16541,24,16545,null,null,null,null,0,222]
[12,16656,13,16660,24,16673,null,null,null,null,0,112]
[21,16773,22,16777,24,16782,null,null,null,null,0,222]
[21,16888,22,16892,24,16897,null,null,null,null,0,222]
[12,17001,13,17007,13,17016,null,null,null,null,0,111]
[12,17119,13,17124,13,17131,null,null,null,null,0,111]
[21,17227,22,17233,24,17238,null,null,null,null,0,222]
[21,17348,22,17353,24,17358,null,null,null,null,0,222]
[21,17472,22,17477,24,17482,null,null,null,null,0,222]
[21,17580,22,17585,24,17590,null,null,null,null,0,222]
[21,17696,22,17701,24,17707,null,null,null,null,0,222]
[12,17810,13,17817,13,17824,null,null,null,null,0,111]
[21,17924,22,17929,24,17934,null,null,null,null,0,222]
[21,18049,22,18053,24,18058,null,null,null,null,0,222]
[21,18192,22,18201,24,18209,null,null,null,null,0,222]
[21,18326,22,18330,24,18336,null,null,null,null,0,222]
[21,18447,22,18452,24,18457,null,null,null,null,0,222]
[12,18553,13,18557,13,18562,null,null,null,null,0,111]
[21,18668,22,18673,24,18677,null,null,null,null,0,222]
[21,18801,22,18806,24,18811,null,null,null,null,0,222]
[21,18920,22,18925,24,18946,null,null,null,null,0,222]
[21,19055,22,19061,24,19068,null,null,null,null,0,222]
[21,19203,22,19208,24,19215,null,null,null,null,0,222]
[12,19322,13,19325,13,19330,null,null,null,null,0,111]
[12,19435,13,19439,13,19443,null,null,null,null,0,111]
[21,19556,22,19561,24,19569,null,null,null,null,0,222]
[21,19671,22,19675,24,19681,null,null,null,null,0,222]
[21,19779,22,19787,24,19792,null,null,null,null,0,222]
[12,19892,13,19896,13,19901,null,null,null,null,0,111]
[21,20001,22,20005,24,20009,null,null,null,null,0,222]
[21,20124,22,20129,24,20137,null,null,null,null,0,222]
[12,20240,13,20244,13,20249,null,null,null,null,0,111]
[12,20350,13,20354,13,20358,null,null,null,null,0,111]
[12,20463,13,20467,13,20471,null,null,null,null,0,111]
[21,20578,22,20597,24,20605,null,null,null,null,0,222]
[12,20709,13,20716,13,20723,null,null,null,null,0,111]
[12,20828,13,20832,13,20839,null,null,null,null,0,111]
[21,20937,22,20942,24,20946,null,null,null,null,0,222]
[12,21049,13,21054,13,21061,null,null,null,null,0,111]
[21,21186,22,21193,24,21204,null,null,null,null,0,222]
[12,21308,13,21312,13,21316,null,null,null,null,0,111]
[12,21418,13,21422,13,21428,null,null,null,null,0,111]
[21,21527,22,21531,24,21536,null,null,null,null,0,222]
[21,21664,22,21684,24,21694,null,null,null,null,0,222]
[12,21799,13,21803,13,21810,null,null,null,null,0,111]
[12,21913,13,21918,13,21925,null,null,null,null,0,111]
[12,22031,13,22035,13,22039,null,null,null,null,0,111]
[12,22140,13,22144,13,22152,null,null,null,null,0,111]
[21,22253,22,22257,24,22262,null,null,null,null,0,222]
[12,22366,13,22370,13,22375,null,null,null,null,0,111]
[12,22483,13,22490,13,22498,null,null,null,null,0,111]
[12,22602,13,22606,13,22611,null,null,null,null,0,111]
[21,22717,22,22721,24,22726,null,null,null,null,0,222]
[21,22829,22,22833,24,22841,null,null,null,null,0,222]
[21,22946,22,22950,24,22955,null,null,null,null,0,222]
[12,23060,13,23064,13,23071,null,null,null,null,0,111]
[21,23176,22,23185,24,23193,null,null,null,null,0,222]
[21,23321,22,23328,24,23336,null,null,null,null,0,222]
[21,23454,22,23464,24,23474,null,null,null,null,0,222]
[21,23596,22,23603,24,23612,null,null,null,null,0,222]
[21,23721,22,23730,24,23742,null,null,null,null,0,222]
[12,23845,13,23850,13,23857,null,null,null,null,0,111]
[21,23961,22,23966,24,23974,null,null,null,null,null,222]

{"sheet":"!MA20820.091","index":31,"n_rows":117,"n_cols":48,"rows_kept":117,"cut":false,"hidden":false,"merged":[[4,39,4,42],[5,39,5,40],[4,44,4,47],[5,44,5,45],[4,24,4,27],[5,24,5,25],[4,29,4,32],[5,29,5,30],[4,34,4,37],[5,34,5,35],[1,1,1,2],[5,13,5,14],[18,13,18,14],[19,13,19,14],[4,19,4,22],[5,19,5,20]]}
["Report for:!MA20820.091"]
["Date:","<date>"]
["Hen:","<hen>",null,null,null,"Correct Sequence",{"$f":"Start!J2","v":211},null,null,null,null,null,null,null,null,"Total Sequences in Data",{"$f":"4994-COUNTBLANK(L7:L5000)","v":111},null,null,null,null,"Total Sequences in Block Data",{"$f":"COUNTA(L7:L25)","v":19},null,null,null,"Total Sequences in Block Data",{"$f":"COUNTA(L26:L43)","v":18},null,null,null,"Total Sequences in Block Data",{"$f":"COUNTA(L44:L62)","v":19},null,null,null,"Total Sequences in Block Data",{"$f":"COUNTA(L63:L80)","v":18},null,null,null,"Total Sequences in Block Data",{"$f":"COUNTA(L81:L99)","v":19},null,null,null,"Total Sequences in Block Data",{"$f":"COUNTA(L100:L117)","v":18}]
[null,null,null,null,null,null,null,null,null,null,null,null,null,null,null,"Total Sequences in Summary",{"$f":"SUM(O7:O14)","v":111},null,null,null,null,"Total Sequences in Block Summary",{"$f":"SUM(U7:U14)","v":19},null,null,null,"Total Sequences in Block Summary",{"$f":"SUM(Z7:Z14)","v":18},null,null,null,"Total Sequences in Block Summary",{"$f":"SUM(AE7:AE14)","v":19},null,null,null,"Total Sequences in Block Summary",{"$f":"SUM(AJ7:AJ14)","v":18},null,null,null,"Total Sequences in Block Summary",{"$f":"SUM(AO7:AO14)","v":19},null,null,null,"Total Sequences in Block Summary",{"$f":"SUM(AT7:AT14)","v":18}]
[null,null,null,null,null,null,null,null,null,null,null,null,null,null,null,null,null,null,null,"Block 1",null,null,null,null,"Block 2",null,null,null,null,"Block 3",null,null,null,null,"Block 4",null,null,null,null,"Block 5",null,null,null,null,"Block 6"]
["Sequence\nComponent\n1","Time\n1","Sequence\nComponent\n2","Time\n2","Sequence\nComponent\n3","Time\n3","Sequence\nComponent\n4","Time\n4","Sequence\nComponent\n5","Time\n5","Correct?\n0=No 1=Yes","Sequence",null,"Frequency",null,"Relative Frequency","Variability",null,null,"Frequency",null,"Relative Frequency","Variability",null,"Frequency",null,"Relative Frequency","Variability",null,"Frequency",null,"Relative Frequency","Variability",null,"Frequency",null,"Relative Frequency","Variability",null,"Frequency",null,"Relative Frequency","Variability",null,"Frequency",null,"Relative Frequency","Variability"]
[21,32,22,40,24,48,null,null,null,null,0,222,null,111,{"$f":"COUNTIF($L$7:$L$500,N7)","v":15},{"$f":"O7/$Q$4","v":0.13513513513513514},{"$f":"IF(P7=0,0,(P7*((LOG(P7))/LOG(2))))","v":-0.39020611766778207},null,null,{"$f":"N7","v":111},{"$f":"COUNTIF(L7:L25,T7)","v":2},{"$f":"U7/(W4-U11)","v":0.10526315789473684},{"$f":"IF(V7=0,0,(V7*((LOG(V7))/LOG(2))))","v":-0.34188710667827216},null,{"$f":"N7","v":111},{"$f":"COUNTIF(L26:L43,Y7)","v":2},{"$f":"Z7/(AB4-Z11)","v":0.1111111111111111},{"$f":"IF(AA7=0,0,(AA7*((LOG(AA7))/LOG(2))))","v":-0.3522138890491458},null,{"$f":"N7","v":111},{"$f":"COUNTIF(L44:L62,AD7)","v":5},{"$f":"AE7/(AG4-AE11)","v":0.26315789473684209},{"$f":"IF(AF7=0,0,(AF7*((LOG(AF7))/LOG(2))))","v":-0.50684195225163764},null,{"$f":"N7","v":111},{"$f":"COUNTIF(L63:L80,AI7)","v":2},{"$f":"AJ7/(AL4-AJ11)","v":0.1111111111111111},{"$f":"IF(AK7=0,0,(AK7*((LOG(AK7))/LOG(2))))","v":-0.3522138890491458},null,{"$f":"N7","v":111},{"$f":"COUNTIF(L81:L99,AN7)","v":2},{"$f":"AO7/(AQ4-AO11)","v":0.10526315789473684},{"$f":"IF(AP7=0,0,(AP7*((LOG(AP7))/LOG(2))))","v":-0.34188710667827216},null,{"$f":"N7","v":111},{"$f":"COUNTIF(L100:L117,AS7)","v":2},{"$f":"AT7/(AV4-AT11)","v":0.1111111111111111},{"$f":"IF(AU7=0,0,(AU7*((LOG(AU7))/LOG(2))))","v":-0.3522138890491458}]
[21,148,22,154,24,163,null,null,null,null,0,222,null,112,{"$f":"COUNTIF($L$7:$L$500,N8)","v":0},{"$f":"O8/$Q$4","v":0},{"$f":"IF(P8=0,0,(P8*((LOG(P8))/LOG(2))))","v":0},null,null,{"$f":"N8","v":112},{"$f":"COUNTIF(L7:L25,T8)","v":0},{"$f":"U8/(W4-U11)","v":0},{"$f":"IF(V8=0,0,(V8*((LOG(V8))/LOG(2))))","v":0},null,{"$f":"N8","v":112},{"$f":"COUNTIF(L26:L43,Y8)","v":0},{"$f":"Z8/(AB4-Z11)","v":0},{"$f":"IF(AA8=0,0,(AA8*((LOG(AA8))/LOG(2))))","v":0},null,{"$f":"N8","v":112},{"$f":"COUNTIF(L44:L62,AD8)","v":0},{"$f":"AE8/(AG4-AE11)","v":0},{"$f":"IF(AF8=0,0,(AF8*((LOG(AF8))/LOG(2))))","v":0},null,{"$f":"N8","v":112},{"$f":"COUNTIF(L63:L80,AI8)","v":0},{"$f":"AJ8/(AL4-AJ11)","v":0},{"$f":"IF(AK8=0,0,(AK8*((LOG(AK8))/LOG(2))))","v":0},null,{"$f":"N8","v":112},{"$f":"COUNTIF(L81:L99,AN8)","v":0},{"$f":"AO8/(AQ4-AO11)","v":0},{"$f":"IF(AP8=0,0,(AP8*((LOG(AP8))/LOG(2))))","v":0},null,{"$f":"N8","v":112},{"$f":"COUNTIF(L100:L117,AS8)","v":0},{"$f":"AT8/(AV4-AT11)","v":0},{"$f":"IF(AU8=0,0,(AU8*((LOG(AU8))/LOG(2))))","v":0}]
[21,330,22,336,24,343,null,null,null,null,0,222,null,121,{"$f":"COUNTIF($L$7:$L$500,N9)","v":0},{"$f":"O9/$Q$4","v":0},{"$f":"IF(P9=0,0,(P9*((LOG(P9))/LOG(2))))","v":0},null,null,{"$f":"N9","v":121},{"$f":"COUNTIF(L7:L25,T9)","v":0},{"$f":"U9/(W4-U11)","v":0},{"$f":"IF(V9=0,0,(V9*((LOG(V9))/LOG(2))))","v":0},null,{"$f":"N9","v":121},{"$f":"COUNTIF(L26:L43,Y9)","v":0},{"$f":"Z9/(AB4-Z11)","v":0},{"$f":"IF(AA9=0,0,(AA9*((LOG(AA9))/LOG(2))))","v":0},null,{"$f":"N9","v":121},{"$f":"COUNTIF(L44:L62,AD9)","v":0},{"$f":"AE9/(AG4-AE11)","v":0},{"$f":"IF(AF9=0,0,(AF9*((LOG(AF9))/LOG(2))))","v":0},null,{"$f":"N9","v":121},{"$f":"COUNTIF(L63:L80,AI9)","v":0},{"$f":"AJ9/(AL4-AJ11)","v":0},{"$f":"IF(AK9=0,0,(AK9*((LOG(AK9))/LOG(2))))","v":0},null,{"$f":"N9","v":121},{"$f":"COUNTIF(L81:L99,AN9)","v":0},{"$f":"AO9/(AQ4-AO11)","v":0},{"$f":"IF(AP9=0,0,(AP9*((LOG(AP9))/LOG(2))))","v":0},null,{"$f":"N9","v":121},{"$f":"COUNTIF(L100:L117,AS9)","v":0},{"$f":"AT9/(AV4-AT11)","v":0},{"$f":"IF(AU9=0,0,(AU9*((LOG(AU9))/LOG(2))))","v":0}]
[21,447,22,451,24,465,null,null,null,null,0,222,null,122,{"$f":"COUNTIF($L$7:$L$500,N10)","v":1},{"$f":"O10/$Q$4","v":9.0090090090090089E-3},{"$f":"IF(P10=0,0,(P10*((LOG(P10))/LOG(2))))","v":-6.121095375090186E-2},null,null,{"$f":"N10","v":122},{"$f":"COUNTIF(L7:L25,T10)","v":0},{"$f":"U10/(W4-U11)","v":0},{"$f":"IF(V10=0,0,(V10*((LOG(V10))/LOG(2))))","v":0},null,{"$f":"N10","v":122},{"$f":"COUNTIF(L26:L43,Y10)","v":0},{"$f":"Z10/(AB4-Z11)","v":0},{"$f":"IF(AA10=0,0,(AA10*((LOG(AA10))/LOG(2))))","v":0},null,{"$f":"N10","v":122},{"$f":"COUNTIF(L44:L62,AD10)","v":1},{"$f":"AE10/(AG4-AE11)","v":5.2631578947368418E-2},{"$f":"IF(AF10=0,0,(AF10*((LOG(AF10))/LOG(2))))","v":-0.22357513228650452},null,{"$f":"N10","v":122},{"$f":"COUNTIF(L63:L80,AI10)","v":0},{"$f":"AJ10/(AL4-AJ11)","v":0},{"$f":"IF(AK10=0,0,(AK10*((LOG(AK10))/LOG(2))))","v":0},null,{"$f":"N10","v":122},{"$f":"COUNTIF(L81:L99,AN10)","v":0},{"$f":"AO10/(AQ4-AO11)","v":0},{"$f":"IF(AP10=0,0,(AP10*((LOG(AP10))/LOG(2))))","v":0},null,{"$f":"N10","v":122},{"$f":"COUNTIF(L100:L117,AS10)","v":0},{"$f":"AT10/(AV4-AT11)","v":0},{"$f":"IF(AU10=0,0,(AU10*((LOG(AU10))/LOG(2))))","v":0}]
[12,570,13,576,13,585,null,null,null,null,0,111,null,211,{"$f":"COUNTIF($L$7:$L$500,N11)","v":0},{"$f":"O11/$Q$4","v":0},{"$f":"IF(P11=0,0,(P11*((LOG(P11))/LOG(2))))","v":0},null,null,{"$f":"N11","v":211},{"$f":"COUNTIF(L7:L25,T11)","v":0},null,null,null,{"$f":"N11","v":211},{"$f":"COUNTIF(L26:L43,Y11)","v":0},null,null,null,{"$f":"N11","v":211},{"$f":"COUNTIF(L44:L62,AD11)","v":0},null,null,null,{"$f":"N11","v":211},{"$f":"COUNTIF(L63:L80,AI11)","v":0},null,null,null,{"$f":"N11","v":211},{"$f":"COUNTIF(L81:L99,AN11)","v":0},null,null,null,{"$f":"N11","v":211},{"$f":"COUNTIF(L100:L117,AS11)","v":0}]
[21,689,22,694,24,699,null,null,null,null,0,222,null,212,{"$f":"COUNTIF($L$7:$L$500,N12)","v":0},{"$f":"O12/$Q$4","v":0},{"$f":"IF(P12=0,0,(P12*((LOG(P12))/LOG(2))))","v":0},null,null,{"$f":"N12","v":212},{"$f":"COUNTIF(L7:L25,T12)","v":0},{"$f":"U12/(W4-U11)","v":0},{"$f":"IF(V12=0,0,(V12*((LOG(V12))/LOG(2))))","v":0},null,{"$f":"N12","v":212},{"$f":"COUNTIF(L26:L43,Y12)","v":0},{"$f":"Z12/(AB4-Z11)","v":0},{"$f":"IF(AA12=0,0,(AA12*((LOG(AA12))/LOG(2))))","v":0},null,{"$f":"N12","v":212},{"$f":"COUNTIF(L44:L62,AD12)","v":0},{"$f":"AE12/(AG4-AE11)","v":0},{"$f":"IF(AF12=0,0,(AF12*((LOG(AF12))/LOG(2))))","v":0},null,{"$f":"N12","v":212},{"$f":"COUNTIF(L63:L80,AI12)","v":0},{"$f":"AJ12/(AL4-AJ11)","v":0},{"$f":"IF(AK12=0,0,(AK12*((LOG(AK12))/LOG(2))))","v":0},null,{"$f":"N12","v":212},{"$f":"COUNTIF(L81:L99,AN12)","v":0},{"$f":"AO12/(AQ4-AO11)","v":0},{"$f":"IF(AP12=0,0,(AP12*((LOG(AP12))/LOG(2))))","v":0},null,{"$f":"N12","v":212},{"$f":"COUNTIF(L100:L117,AS12)","v":0},{"$f":"AT12/(AV4-AT11)","v":0},{"$f":"IF(AU12=0,0,(AU12*((LOG(AU12))/LOG(2))))","v":0}]
[21,809,22,813,24,818,null,null,null,null,0,222,null,221,{"$f":"COUNTIF($L$7:$L$500,N13)","v":0},{"$f":"O13/$Q$4","v":0},{"$f":"IF(P13=0,0,(P13*((LOG(P13))/LOG(2))))","v":0},null,null,{"$f":"N13","v":221},{"$f":"COUNTIF(L7:L25,T13)","v":0},{"$f":"U13/(W4-U11)","v":0},{"$f":"IF(V13=0,0,(V13*((LOG(V13))/LOG(2))))","v":0},null,{"$f":"N13","v":221},{"$f":"COUNTIF(L26:L43,Y13)","v":0},{"$f":"Z13/(AB4-Z11)","v":0},{"$f":"IF(AA13=0,0,(AA13*((LOG(AA13))/LOG(2))))","v":0},null,{"$f":"N13","v":221},{"$f":"COUNTIF(L44:L62,AD13)","v":0},{"$f":"AE13/(AG4-AE11)","v":0},{"$f":"IF(AF13=0,0,(AF13*((LOG(AF13))/LOG(2))))","v":0},null,{"$f":"N13","v":221},{"$f":"COUNTIF(L63:L80,AI13)","v":0},{"$f":"AJ13/(AL4-AJ11)","v":0},{"$f":"IF(AK13=0,0,(AK13*((LOG(AK13))/LOG(2))))","v":0},null,{"$f":"N13","v":221},{"$f":"COUNTIF(L81:L99,AN13)","v":0},{"$f":"AO13/(AQ4-AO11)","v":0},{"$f":"IF(AP13=0,0,(AP13*((LOG(AP13))/LOG(2))))","v":0},null,{"$f":"N13","v":221},{"$f":"COUNTIF(L100:L117,AS13)","v":0},{"$f":"AT13/(AV4-AT11)","v":0},{"$f":"IF(AU13=0,0,(AU13*((LOG(AU13))/LOG(2))))","v":0}]
[21,980,22,985,24,991,null,null,null,null,0,222,null,222,{"$f":"COUNTIF($L$7:$L$500,N14)","v":95},{"$f":"O14/$Q$4","v":0.85585585585585588},{"$f":"IF(P14=0,0,(P14*((LOG(P14))/LOG(2))))","v":-0.19219121181819837},null,null,{"$f":"N14","v":222},{"$f":"COUNTIF(L7:L25,T14)","v":17},{"$f":"U14/(W4-U11)","v":0.89473684210526316},{"$f":"IF(V14=0,0,(V14*((LOG(V14))/LOG(2))))","v":-0.14357365406764125},null,{"$f":"N14","v":222},{"$f":"COUNTIF(L26:L43,Y14)","v":16},{"$f":"Z14/(AB4-Z11)","v":0.88888888888888884},{"$f":"IF(AA14=0,0,(AA14*((LOG(AA14))/LOG(2))))","v":-0.15104444572649992},null,{"$f":"N14","v":222},{"$f":"COUNTIF(L44:L62,AD14)","v":13},{"$f":"AE14/(AG4-AE11)","v":0.68421052631578949},{"$f":"IF(AF14=0,0,(AF14*((LOG(AF14))/LOG(2))))","v":-0.37459691257539013},null,{"$f":"N14","v":222},{"$f":"COUNTIF(L63:L80,AI14)","v":16},{"$f":"AJ14/(AL4-AJ11)","v":0.88888888888888884},{"$f":"IF(AK14=0,0,(AK14*((LOG(AK14))/LOG(2))))","v":-0.15104444572649992},null,{"$f":"N14","v":222},{"$f":"COUNTIF(L81:L99,AN14)","v":17},{"$f":"AO14/(AQ4-AO11)","v":0.89473684210526316},{"$f":"IF(AP14=0,0,(AP14*((LOG(AP14))/LOG(2))))","v":-0.14357365406764125},null,{"$f":"N14","v":222},{"$f":"COUNTIF(L100:L117,AS14)","v":16},{"$f":"AT14/(AV4-AT11)","v":0.88888888888888884},{"$f":"IF(AU14=0,0,(AU14*((LOG(AU14))/LOG(2))))","v":-0.15104444572649992}]
[21,1107,22,1118,24,1130,null,null,null,null,0,222,null,null,null,{"$f":"SUM(P7:P14)","v":1},{"$f":"-SUM(Q7:Q14)","v":0.64360828323688235},null,null,null,null,{"$f":"SUM(V7:V14)","v":1},{"$f":"-SUM(W7:W14)","v":0.48546076074591338},null,null,null,{"$f":"SUM(AA7:AA14)","v":1},{"$f":"-SUM(AB7:AB14)","v":0.50325833477564574},null,null,null,{"$f":"SUM(AF7:AF14)","v":1},{"$f":"-SUM(AG7:AG14)","v":1.1050139971135322},null,null,null,{"$f":"SUM(AK7:AK14)","v":1},{"$f":"-SUM(AL7:AL14)","v":0.50325833477564574},null,null,null,{"$f":"SUM(AP7:AP14)","v":1},{"$f":"-SUM(AQ7:AQ14)","v":0.48546076074591338},null,null,null,{"$f":"SUM(AU7:AU14)","v":1},{"$f":"-SUM(AV7:AV14)","v":0.50325833477564574}]
[21,1286,22,1291,24,1299,null,null,null,null,0,222,null,null,null,"U=",{"$f":"Q15/(LOG(Q4)/LOG(2))","v":9.4726065624626307E-2},null,null,null,null,"U1=",{"$f":"W15/(LOG(W4)/LOG(2))","v":0.11428179016933702},null,null,null,"U2=",{"$f":"AB15/(LOG(AB4)/LOG(2))","v":0.12068762258351805},null,null,null,"U3=",{"$f":"AG15/(LOG(AG4)/LOG(2))","v":0.26013014431542214},null,null,null,"U4=",{"$f":"AL15/(LOG(AL4)/LOG(2))","v":0.12068762258351805},null,null,null,"U5=",{"$f":"AQ15/(LOG(AQ4)/LOG(2))","v":0.11428179016933702},null,null,null,"U6=",{"$f":"AV15/(LOG(AV4)/LOG(2))","v":0.12068762258351805}]
[12,1405,13,1413,13,1422,null,null,null,null,0,111]
[21,1538,22,1543,24,1549,null,null,null,null,0,222]
[21,1662,22,1667,24,1675,null,null,null,null,0,222,null,"Total Target Seq"]
[21,1856,22,1871,24,1879,null,null,null,null,0,222,null,{"$f":"COUNTIF(L7:L117,G3)","v":0},null,19,18,19,18,19,18]
[21,1994,22,1999,24,2006,null,null,null,null,0,222,null,null,null,"% of reinforcement given in 6 equal intervals based on number of trials "]
[21,2120,22,2125,24,2130,null,null,null,null,0,222,null,null,null,"%_1","%_2","%_3","%_4","%_5","%_6"]
[21,2270,22,2276,24,2291,null,null,null,null,0,222,null,null,"target sequence",{"$f":"$G$3","v":211},{"$f":"$G$3","v":211},{"$f":"$G$3","v":211},{"$f":"$G$3","v":211},{"$f":"$G$3","v":211},{"$f":"$G$3","v":211}]
[21,2442,22,2447,24,2452,null,null,null,null,0,222,null,null,"total reinforcement",{"$f":"U11","v":0},{"$f":"Z11","v":0},{"$f":"AE11","v":0},{"$f":"AJ11","v":0},{"$f":"AO11","v":0},{"$f":"AT11","v":0}]
[21,2588,22,2596,24,2603,null,null,null,null,0,222,null,null,"% target"]
[21,2716,22,2720,24,2725,null,null,null,null,0,222,null,null,"CCRF"]
[21,2833,22,2838,24,2843,null,null,null,null,0,222,null,null,"% CCRf"]
[21,3118,22,3122,24,3130,null,null,null,null,0,222,null,null,"average response rate",{"$f":"F25/P20","v":137},{"$f":"(F43-F25)/Q20","v":139.88888888888889},{"$f":"(F62-F43)/R20","v":139.21052631578948},{"$f":"(F80-F62)/S20","v":229.33333333333334},{"$f":"(F99-F80)/T20","v":284.89473684210526},{"$f":"(F117-F99)/U20","v":347}]
[21,3237,22,3242,24,3248,null,null,null,null,0,222]
[12,3379,13,3385,13,3389,null,null,null,null,0,111]
[12,3495,13,3499,13,3503,null,null,null,null,0,111]
[21,3654,22,3660,24,3664,null,null,null,null,0,222]
[21,3787,22,3792,24,3796,null,null,null,null,0,222]
[21,3906,22,3911,24,3917,null,null,null,null,0,222]
[21,4023,22,4027,24,4032,null,null,null,null,0,222]
[21,4190,22,4195,24,4199,null,null,null,null,0,222]
[21,4320,22,4327,24,4335,null,null,null,null,0,222]
[21,4439,22,4444,24,4448,null,null,null,null,0,222]
[21,4562,22,4567,24,4572,null,null,null,null,0,222]
[21,4683,22,4688,24,4694,null,null,null,null,0,222]
[21,4849,22,4856,24,4871,null,null,null,null,0,222]
[21,4995,22,5000,24,5007,null,null,null,null,0,222]
[21,5112,22,5117,24,5121,null,null,null,null,0,222]
[12,5225,24,5236,24,5241,null,null,null,null,0,122]
[21,5354,22,5358,24,5365,null,null,null,null,0,222]
[21,5522,22,5538,24,5546,null,null,null,null,0,222]
[12,5652,13,5656,13,5661,null,null,null,null,0,111]
[21,5777,22,5781,24,5786,null,null,null,null,0,222]
[21,5915,22,5922,24,5931,null,null,null,null,0,222]
[21,6035,22,6039,24,6045,null,null,null,null,0,222]
[12,6175,13,6180,13,6186,null,null,null,null,0,111]
[12,6293,13,6297,13,6302,null,null,null,null,0,111]
[21,6416,22,6421,24,6426,null,null,null,null,0,222]
[21,6613,22,6618,24,6626,null,null,null,null,0,222]
[21,6750,22,6754,24,6759,null,null,null,null,0,222]
[21,6875,22,6878,24,6883,null,null,null,null,0,222]
[12,6989,13,6995,13,7000,null,null,null,null,0,111]
[21,7126,22,7132,24,7139,null,null,null,null,0,222]
[12,7239,13,7243,13,7247,null,null,null,null,0,111]
[21,7428,22,7433,24,7440,null,null,null,null,0,222]
[21,7548,22,7553,24,7562,null,null,null,null,0,222]
[21,7754,22,7759,24,7766,null,null,null,null,0,222]
[21,7877,22,7881,24,7888,null,null,null,null,0,222]
[12,8003,13,8007,13,8011,null,null,null,null,0,111]
[21,8192,22,8199,24,8216,null,null,null,null,0,222]
[21,8398,22,8402,24,8407,null,null,null,null,0,222]
[21,8564,22,8569,24,8576,null,null,null,null,0,222]
[21,8694,22,8698,24,8704,null,null,null,null,0,222]
[21,8821,22,8828,24,8837,null,null,null,null,0,222]
[12,9150,13,9154,13,9159,null,null,null,null,0,111]
[21,9277,22,9283,24,9289,null,null,null,null,0,222]
[21,9398,22,9404,24,9408,null,null,null,null,0,222]
[21,9686,22,9693,24,9719,null,null,null,null,0,222]
[21,9840,22,9845,24,9867,null,null,null,null,0,222]
[21,9989,22,9993,24,10006,null,null,null,null,0,222]
[21,10446,22,10451,24,10455,null,null,null,null,0,222]
[21,10744,22,10750,24,10762,null,null,null,null,0,222]
[21,11100,22,11109,24,11118,null,null,null,null,0,222]
[21,11240,22,11244,24,11248,null,null,null,null,0,222]
[21,11882,22,11887,24,11894,null,null,null,null,0,222]
[21,12006,22,12010,24,12015,null,null,null,null,0,222]
[21,12455,22,12459,24,12464,null,null,null,null,0,222]
[21,12584,22,12588,24,12599,null,null,null,null,0,222]
[12,12710,13,12715,13,12720,null,null,null,null,0,111]
[21,13141,22,13147,24,13164,null,null,null,null,0,222]
[12,13282,13,13287,13,13292,null,null,null,null,0,111]
[21,13459,22,13464,24,13515,null,null,null,null,0,222]
[21,13620,22,13624,24,13628,null,null,null,null,0,222]
[21,13781,22,13785,24,13789,null,null,null,null,0,222]
[21,13904,22,13908,24,13912,null,null,null,null,0,222]
[21,14069,22,14074,24,14080,null,null,null,null,0,222]
[21,14229,22,14233,24,14238,null,null,null,null,0,222]
[21,14654,22,14658,24,14666,null,null,null,null,0,222]
[21,15394,22,15400,24,15407,null,null,null,null,0,222]
[21,15610,22,15615,24,15623,null,null,null,null,0,222]
[21,16682,22,16687,24,16698,null,null,null,null,0,222]
[21,16815,22,16819,24,16824,null,null,null,null,0,222]
[21,17078,22,17083,24,17089,null,null,null,null,0,222]
[21,17295,22,17299,24,17307,null,null,null,null,0,222]
[21,17546,22,17551,24,17558,null,null,null,null,0,222]
[21,17969,22,17978,24,17988,null,null,null,null,0,222]
[21,19156,22,19161,24,19166,null,null,null,null,0,222]
[21,19968,22,19974,24,19988,null,null,null,null,0,222]
[21,20179,22,20187,24,20193,null,null,null,null,0,222]
[21,20307,22,20312,24,20317,null,null,null,null,0,222]
[21,20481,22,20486,24,20490,null,null,null,null,0,222]
[12,20604,13,20609,13,20613,null,null,null,null,0,111]
[21,20834,22,20839,24,20846,null,null,null,null,0,222]
[21,21332,22,21344,24,21353,null,null,null,null,0,222]
[12,21679,13,21683,13,21687,null,null,null,null,0,111]
[21,21817,22,21822,24,21827,null,null,null,null,0,222]
[21,22147,22,22152,24,22157,null,null,null,null,0,222]
[21,22676,22,22681,24,22686,null,null,null,null,0,222]
[21,22853,22,22862,24,22875,null,null,null,null,0,222]
[21,23121,22,23126,24,23131,null,null,null,null,0,222]
[21,23399,22,23404,24,23408,null,null,null,null,0,222]
[21,23536,22,23541,24,23553,null,null,null,null,0,222]

{"sheet":"!MA21830.091","index":32,"n_rows":151,"n_cols":48,"rows_kept":151,"cut":false,"hidden":false,"merged":[[4,39,4,42],[5,39,5,40],[4,44,4,47],[5,44,5,45],[4,24,4,27],[5,24,5,25],[4,29,4,32],[5,29,5,30],[4,34,4,37],[5,34,5,35],[1,1,1,2],[5,13,5,14],[18,13,18,14],[19,13,19,14],[4,19,4,22],[5,19,5,20]]}
["Report for:!MA21830.091"]
["Date:","<date>"]
["Hen:","<hen>",null,null,null,"Correct Sequence",{"$f":"Start!J2","v":211},null,null,null,null,null,null,null,null,"Total Sequences in Data",{"$f":"4994-COUNTBLANK(L7:L5000)","v":145},null,null,null,null,"Total Sequences in Block Data",{"$f":"COUNTA(L7:L30)","v":24},null,null,null,"Total Sequences in Block Data",{"$f":"COUNTA(L31:L54)","v":24},null,null,null,"Total Sequences in Block Data",{"$f":"COUNTA(L55:L79)","v":25},null,null,null,"Total Sequences in Block Data",{"$f":"COUNTA(L80:L103)","v":24},null,null,null,"Total Sequences in Block Data",{"$f":"COUNTA(L104:L127)","v":24},null,null,null,"Total Sequences in Block Data",{"$f":"COUNTA(L128:L151)","v":24}]
[null,null,null,null,null,null,null,null,null,null,null,null,null,null,null,"Total Sequences in Summary",{"$f":"SUM(O7:O14)","v":145},null,null,null,null,"Total Sequences in Block Summary",{"$f":"SUM(U7:U14)","v":24},null,null,null,"Total Sequences in Block Summary",{"$f":"SUM(Z7:Z14)","v":24},null,null,null,"Total Sequences in Block Summary",{"$f":"SUM(AE7:AE14)","v":25},null,null,null,"Total Sequences in Block Summary",{"$f":"SUM(AJ7:AJ14)","v":24},null,null,null,"Total Sequences in Block Summary",{"$f":"SUM(AO7:AO14)","v":24},null,null,null,"Total Sequences in Block Summary",{"$f":"SUM(AT7:AT14)","v":24}]
[null,null,null,null,null,null,null,null,null,null,null,null,null,null,null,null,null,null,null,"Block 1",null,null,null,null,"Block 2",null,null,null,null,"Block 3",null,null,null,null,"Block 4",null,null,null,null,"Block 5",null,null,null,null,"Block 6"]
["Sequence\nComponent\n1","Time\n1","Sequence\nComponent\n2","Time\n2","Sequence\nComponent\n3","Time\n3","Sequence\nComponent\n4","Time\n4","Sequence\nComponent\n5","Time\n5","Correct?\n0=No 1=Yes","Sequence",null,"Frequency",null,"Relative Frequency","Variability",null,null,"Frequency",null,"Relative Frequency","Variability",null,"Frequency",null,"Relative Frequency","Variability",null,"Frequency",null,"Relative Frequency","Variability",null,"Frequency",null,"Relative Frequency","Variability",null,"Frequency",null,"Relative Frequency","Variability",null,"Frequency",null,"Relative Frequency","Variability"]
[21,1045,22,1059,24,1068,null,null,null,null,0,222,null,111,{"$f":"COUNTIF($L$7:$L$500,N7)","v":26},{"$f":"O7/$Q$4","v":0.1793103448275862},{"$f":"IF(P7=0,0,(P7*((LOG(P7))/LOG(2))))","v":-0.44459450806013723},null,null,{"$f":"N7","v":111},{"$f":"COUNTIF(L7:L30,T7)","v":7},{"$f":"U7/(W4-U11)","v":0.29166666666666669},{"$f":"IF(V7=0,0,(V7*((LOG(V7))/LOG(2))))","v":-0.51846887711020273},null,{"$f":"N7","v":111},{"$f":"COUNTIF(L31:L54,Y7)","v":6},{"$f":"Z7/(AB4-Z11)","v":0.25},{"$f":"IF(AA7=0,0,(AA7*((LOG(AA7))/LOG(2))))","v":-0.5},null,{"$f":"N7","v":111},{"$f":"COUNTIF(L55:L79,AD7)","v":2},{"$f":"AE7/(AG4-AE11)","v":0.08},{"$f":"IF(AF7=0,0,(AF7*((LOG(AF7))/LOG(2))))","v":-0.29150849518197797},null,{"$f":"N7","v":111},{"$f":"COUNTIF(L80:L103,AI7)","v":6},{"$f":"AJ7/(AL4-AJ11)","v":0.25},{"$f":"IF(AK7=0,0,(AK7*((LOG(AK7))/LOG(2))))","v":-0.5},null,{"$f":"N7","v":111},{"$f":"COUNTIF(L104:L127,AN7)","v":2},{"$f":"AO7/(AQ4-AO11)","v":8.3333333333333329E-2},{"$f":"IF(AP7=0,0,(AP7*((LOG(AP7))/LOG(2))))","v":-0.29874687506009634},null,{"$f":"N7","v":111},{"$f":"COUNTIF(L128:L151,AS7)","v":3},{"$f":"AT7/(AV4-AT11)","v":0.125},{"$f":"IF(AU7=0,0,(AU7*((LOG(AU7))/LOG(2))))","v":-0.375}]
[21,1188,22,1198,24,1210,null,null,null,null,0,222,null,112,{"$f":"COUNTIF($L$7:$L$500,N8)","v":0},{"$f":"O8/$Q$4","v":0},{"$f":"IF(P8=0,0,(P8*((LOG(P8))/LOG(2))))","v":0},null,null,{"$f":"N8","v":112},{"$f":"COUNTIF(L7:L30,T8)","v":0},{"$f":"U8/(W4-U11)","v":0},{"$f":"IF(V8=0,0,(V8*((LOG(V8))/LOG(2))))","v":0},null,{"$f":"N8","v":112},{"$f":"COUNTIF(L31:L54,Y8)","v":0},{"$f":"Z8/(AB4-Z11)","v":0},{"$f":"IF(AA8=0,0,(AA8*((LOG(AA8))/LOG(2))))","v":0},null,{"$f":"N8","v":112},{"$f":"COUNTIF(L55:L79,AD8)","v":0},{"$f":"AE8/(AG4-AE11)","v":0},{"$f":"IF(AF8=0,0,(AF8*((LOG(AF8))/LOG(2))))","v":0},null,{"$f":"N8","v":112},{"$f":"COUNTIF(L80:L103,AI8)","v":0},{"$f":"AJ8/(AL4-AJ11)","v":0},{"$f":"IF(AK8=0,0,(AK8*((LOG(AK8))/LOG(2))))","v":0},null,{"$f":"N8","v":112},{"$f":"COUNTIF(L104:L127,AN8)","v":0},{"$f":"AO8/(AQ4-AO11)","v":0},{"$f":"IF(AP8=0,0,(AP8*((LOG(AP8))/LOG(2))))","v":0},null,{"$f":"N8","v":112},{"$f":"COUNTIF(L128:L151,AS8)","v":0},{"$f":"AT8/(AV4-AT11)","v":0},{"$f":"IF(AU8=0,0,(AU8*((LOG(AU8))/LOG(2))))","v":0}]
[12,1926,13,1932,13,1940,null,null,null,null,0,111,null,121,{"$f":"COUNTIF($L$7:$L$500,N9)","v":0},{"$f":"O9/$Q$4","v":0},{"$f":"IF(P9=0,0,(P9*((LOG(P9))/LOG(2))))","v":0},null,null,{"$f":"N9","v":121},{"$f":"COUNTIF(L7:L30,T9)","v":0},{"$f":"U9/(W4-U11)","v":0},{"$f":"IF(V9=0,0,(V9*((LOG(V9))/LOG(2))))","v":0},null,{"$f":"N9","v":121},{"$f":"COUNTIF(L31:L54,Y9)","v":0},{"$f":"Z9/(AB4-Z11)","v":0},{"$f":"IF(AA9=0,0,(AA9*((LOG(AA9))/LOG(2))))","v":0},null,{"$f":"N9","v":121},{"$f":"COUNTIF(L55:L79,AD9)","v":0},{"$f":"AE9/(AG4-AE11)","v":0},{"$f":"IF(AF9=0,0,(AF9*((LOG(AF9))/LOG(2))))","v":0},null,{"$f":"N9","v":121},{"$f":"COUNTIF(L80:L103,AI9)","v":0},{"$f":"AJ9/(AL4-AJ11)","v":0},{"$f":"IF(AK9=0,0,(AK9*((LOG(AK9))/LOG(2))))","v":0},null,{"$f":"N9","v":121},{"$f":"COUNTIF(L104:L127,AN9)","v":0},{"$f":"AO9/(AQ4-AO11)","v":0},{"$f":"IF(AP9=0,0,(AP9*((LOG(AP9))/LOG(2))))","v":0},null,{"$f":"N9","v":121},{"$f":"COUNTIF(L128:L151,AS9)","v":0},{"$f":"AT9/(AV4-AT11)","v":0},{"$f":"IF(AU9=0,0,(AU9*((LOG(AU9))/LOG(2))))","v":0}]
[12,2073,13,2080,13,2088,null,null,null,null,0,111,null,122,{"$f":"COUNTIF($L$7:$L$500,N10)","v":0},{"$f":"O10/$Q$4","v":0},{"$f":"IF(P10=0,0,(P10*((LOG(P10))/LOG(2))))","v":0},null,null,{"$f":"N10","v":122},{"$f":"COUNTIF(L7:L30,T10)","v":0},{"$f":"U10/(W4-U11)","v":0},{"$f":"IF(V10=0,0,(V10*((LOG(V10))/LOG(2))))","v":0},null,{"$f":"N10","v":122},{"$f":"COUNTIF(L31:L54,Y10)","v":0},{"$f":"Z10/(AB4-Z11)","v":0},{"$f":"IF(AA10=0,0,(AA10*((LOG(AA10))/LOG(2))))","v":0},null,{"$f":"N10","v":122},{"$f":"COUNTIF(L55:L79,AD10)","v":0},{"$f":"AE10/(AG4-AE11)","v":0},{"$f":"IF(AF10=0,0,(AF10*((LOG(AF10))/LOG(2))))","v":0},null,{"$f":"N10","v":122},{"$f":"COUNTIF(L80:L103,AI10)","v":0},{"$f":"AJ10/(AL4-AJ11)","v":0},{"$f":"IF(AK10=0,0,(AK10*((LOG(AK10))/LOG(2))))","v":0},null,{"$f":"N10","v":122},{"$f":"COUNTIF(L104:L127,AN10)","v":0},{"$f":"AO10/(AQ4-AO11)","v":0},{"$f":"IF(AP10=0,0,(AP10*((LOG(AP10))/LOG(2))))","v":0},null,{"$f":"N10","v":122},{"$f":"COUNTIF(L128:L151,AS10)","v":0},{"$f":"AT10/(AV4-AT11)","v":0},{"$f":"IF(AU10=0,0,(AU10*((LOG(AU10))/LOG(2))))","v":0}]
[21,2208,22,2214,24,2223,null,null,null,null,0,222,null,211,{"$f":"COUNTIF($L$7:$L$500,N11)","v":0},{"$f":"O11/$Q$4","v":0},{"$f":"IF(P11=0,0,(P11*((LOG(P11))/LOG(2))))","v":0},null,null,{"$f":"N11","v":211},{"$f":"COUNTIF(L7:L30,T11)","v":0},null,null,null,{"$f":"N11","v":211},{"$f":"COUNTIF(L31:L54,Y11)","v":0},null,null,null,{"$f":"N11","v":211},{"$f":"COUNTIF(L55:L79,AD11)","v":0},null,null,null,{"$f":"N11","v":211},{"$f":"COUNTIF(L80:L103,AI11)","v":0},null,null,null,{"$f":"N11","v":211},{"$f":"COUNTIF(L104:L127,AN11)","v":0},null,null,null,{"$f":"N11","v":211},{"$f":"COUNTIF(L128:L151,AS11)","v":0}]
[21,2473,22,2479,24,2488,null,null,null,null,0,222,null,212,{"$f":"COUNTIF($L$7:$L$500,N12)","v":0},{"$f":"O12/$Q$4","v":0},{"$f":"IF(P12=0,0,(P12*((LOG(P12))/LOG(2))))","v":0},null,null,{"$f":"N12","v":212},{"$f":"COUNTIF(L7:L30,T12)","v":0},{"$f":"U12/(W4-U11)","v":0},{"$f":"IF(V12=0,0,(V12*((LOG(V12))/LOG(2))))","v":0},null,{"$f":"N12","v":212},{"$f":"COUNTIF(L31:L54,Y12)","v":0},{"$f":"Z12/(AB4-Z11)","v":0},{"$f":"IF(AA12=0,0,(AA12*((LOG(AA12))/LOG(2))))","v":0},null,{"$f":"N12","v":212},{"$f":"COUNTIF(L55:L79,AD12)","v":0},{"$f":"AE12/(AG4-AE11)","v":0},{"$f":"IF(AF12=0,0,(AF12*((LOG(AF12))/LOG(2))))","v":0},null,{"$f":"N12","v":212},{"$f":"COUNTIF(L80:L103,AI12)","v":0},{"$f":"AJ12/(AL4-AJ11)","v":0},{"$f":"IF(AK12=0,0,(AK12*((LOG(AK12))/LOG(2))))","v":0},null,{"$f":"N12","v":212},{"$f":"COUNTIF(L104:L127,AN12)","v":0},{"$f":"AO12/(AQ4-AO11)","v":0},{"$f":"IF(AP12=0,0,(AP12*((LOG(AP12))/LOG(2))))","v":0},null,{"$f":"N12","v":212},{"$f":"COUNTIF(L128:L151,AS12)","v":0},{"$f":"AT12/(AV4-AT11)","v":0},{"$f":"IF(AU12=0,0,(AU12*((LOG(AU12))/LOG(2))))","v":0}]
[21,3054,22,3060,24,3068,null,null,null,null,0,222,null,221,{"$f":"COUNTIF($L$7:$L$500,N13)","v":0},{"$f":"O13/$Q$4","v":0},{"$f":"IF(P13=0,0,(P13*((LOG(P13))/LOG(2))))","v":0},null,null,{"$f":"N13","v":221},{"$f":"COUNTIF(L7:L30,T13)","v":0},{"$f":"U13/(W4-U11)","v":0},{"$f":"IF(V13=0,0,(V13*((LOG(V13))/LOG(2))))","v":0},null,{"$f":"N13","v":221},{"$f":"COUNTIF(L31:L54,Y13)","v":0},{"$f":"Z13/(AB4-Z11)","v":0},{"$f":"IF(AA13=0,0,(AA13*((LOG(AA13))/LOG(2))))","v":0},null,{"$f":"N13","v":221},{"$f":"COUNTIF(L55:L79,AD13)","v":0},{"$f":"AE13/(AG4-AE11)","v":0},{"$f":"IF(AF13=0,0,(AF13*((LOG(AF13))/LOG(2))))","v":0},null,{"$f":"N13","v":221},{"$f":"COUNTIF(L80:L103,AI13)","v":0},{"$f":"AJ13/(AL4-AJ11)","v":0},{"$f":"IF(AK13=0,0,(AK13*((LOG(AK13))/LOG(2))))","v":0},null,{"$f":"N13","v":221},{"$f":"COUNTIF(L104:L127,AN13)","v":0},{"$f":"AO13/(AQ4-AO11)","v":0},{"$f":"IF(AP13=0,0,(AP13*((LOG(AP13))/LOG(2))))","v":0},null,{"$f":"N13","v":221},{"$f":"COUNTIF(L128:L151,AS13)","v":0},{"$f":"AT13/(AV4-AT11)","v":0},{"$f":"IF(AU13=0,0,(AU13*((LOG(AU13))/LOG(2))))","v":0}]
[21,3205,22,3212,24,3217,null,null,null,null,0,222,null,222,{"$f":"COUNTIF($L$7:$L$500,N14)","v":119},{"$f":"O14/$Q$4","v":0.82068965517241377},{"$f":"IF(P14=0,0,(P14*((LOG(P14))/LOG(2))))","v":-0.23397150260780639},null,null,{"$f":"N14","v":222},{"$f":"COUNTIF(L7:L30,T14)","v":17},{"$f":"U14/(W4-U11)","v":0.70833333333333337},{"$f":"IF(V14=0,0,(V14*((LOG(V14))/LOG(2))))","v":-0.35239559212516181},null,{"$f":"N14","v":222},{"$f":"COUNTIF(L31:L54,Y14)","v":18},{"$f":"Z14/(AB4-Z11)","v":0.75},{"$f":"IF(AA14=0,0,(AA14*((LOG(AA14))/LOG(2))))","v":-0.31127812445913283},null,{"$f":"N14","v":222},{"$f":"COUNTIF(L55:L79,AD14)","v":23},{"$f":"AE14/(AG4-AE11)","v":0.92},{"$f":"IF(AF14=0,0,(AF14*((LOG(AF14))/LOG(2))))","v":-0.11067069502029483},null,{"$f":"N14","v":222},{"$f":"COUNTIF(L80:L103,AI14)","v":18},{"$f":"AJ14/(AL4-AJ11)","v":0.75},{"$f":"IF(AK14=0,0,(AK14*((LOG(AK14))/LOG(2))))","v":-0.31127812445913283},null,{"$f":"N14","v":222},{"$f":"COUNTIF(L104:L127,AN14)","v":22},{"$f":"AO14/(AQ4-AO11)","v":0.91666666666666663},{"$f":"IF(AP14=0,0,(AP14*((LOG(AP14))/LOG(2))))","v":-0.1150699752435374},null,{"$f":"N14","v":222},{"$f":"COUNTIF(L128:L151,AS14)","v":21},{"$f":"AT14/(AV4-AT11)","v":0.875},{"$f":"IF(AU14=0,0,(AU14*((LOG(AU14))/LOG(2))))","v":-0.1685644431995964}]
[21,3441,22,3447,24,3461,null,null,null,null,0,222,null,null,null,{"$f":"SUM(P7:P14)","v":1},{"$f":"-SUM(Q7:Q14)","v":0.67856601066794364},null,null,null,null,{"$f":"SUM(V7:V14)","v":1},{"$f":"-SUM(W7:W14)","v":0.87086446923536454},null,null,null,{"$f":"SUM(AA7:AA14)","v":1},{"$f":"-SUM(AB7:AB14)","v":0.81127812445913283},null,null,null,{"$f":"SUM(AF7:AF14)","v":1},{"$f":"-SUM(AG7:AG14)","v":0.40217919020227277},null,null,null,{"$f":"SUM(AK7:AK14)","v":1},{"$f":"-SUM(AL7:AL14)","v":0.81127812445913283},null,null,null,{"$f":"SUM(AP7:AP14)","v":1},{"$f":"-SUM(AQ7:AQ14)","v":0.41381685030363374},null,null,null,{"$f":"SUM(AU7:AU14)","v":1},{"$f":"-SUM(AV7:AV14)","v":0.5435644431995964}]
[21,3620,22,3625,24,3634,null,null,null,null,0,222,null,null,null,"U=",{"$f":"Q15/(LOG(Q4)/LOG(2))","v":9.4508997559818994E-2},null,null,null,null,"U1=",{"$f":"W15/(LOG(W4)/LOG(2))","v":0.1899392784779349},null,null,null,"U2=",{"$f":"AB15/(LOG(AB4)/LOG(2))","v":0.17694324093850913},null,null,null,"U3=",{"$f":"AG15/(LOG(AG4)/LOG(2))","v":8.6604574682529648E-2},null,null,null,"U4=",{"$f":"AL15/(LOG(AL4)/LOG(2))","v":0.17694324093850913},null,null,null,"U5=",{"$f":"AQ15/(LOG(AQ4)/LOG(2))","v":9.0255231147156736E-2},null,null,null,"U6=",{"$f":"AV15/(LOG(AV4)/LOG(2))","v":0.11855373803255766}]
[21,3874,22,3879,24,3887,null,null,null,null,0,222]
[21,4011,22,4016,24,4025,null,null,null,null,0,222]
[12,4207,13,4212,13,4218,null,null,null,null,0,111,null,"Total Target Seq"]
[21,4337,22,4342,24,4347,null,null,null,null,0,222,null,{"$f":"COUNTIF(L7:L151,G3)","v":0},null,24,24,25,24,24,24]
[12,4456,13,4461,13,4466,null,null,null,null,0,111,null,null,null,"% of reinforcement given in 6 equal intervals based on number of trials "]
[21,4617,22,4621,24,4626,null,null,null,null,0,222,null,null,null,"%_1","%_2","%_3","%_4","%_5","%_6"]
[21,4753,22,4758,24,4763,null,null,null,null,0,222,null,null,"target sequence",{"$f":"$G$3","v":211},{"$f":"$G$3","v":211},{"$f":"$G$3","v":211},{"$f":"$G$3","v":211},{"$f":"$G$3","v":211},{"$f":"$G$3","v":211}]
[12,4904,13,4908,13,4915,null,null,null,null,0,111,null,null,"total reinforcement",{"$f":"U11","v":0},{"$f":"Z11","v":0},{"$f":"AE11","v":0},{"$f":"AJ11","v":0},{"$f":"AO11","v":0},{"$f":"AT11","v":0}]
[21,5057,22,5062,24,5068,null,null,null,null,0,222,null,null,"% target"]
[12,5175,13,5180,13,5186,null,null,null,null,0,111,null,null,"CCRF"]
[21,5295,22,5299,24,5304,null,null,null,null,0,222,null,null,"% CCRf"]
[21,5431,22,5437,24,5446,null,null,null,null,0,222,null,null,"average response rate",{"$f":"F30/P20","v":238.04166666666666},{"$f":"(F54-F30)/Q20","v":147.125},{"$f":"(F79-F54)/R20","v":129.28},{"$f":"(F103-F79)/S20","v":178.75},{"$f":"(F127-F103)/T20","v":136.625},{"$f":"(F151-F127)/U20","v":163.16666666666666}]
[21,5566,22,5573,24,5582,null,null,null,null,0,222]
[12,5704,13,5709,13,5713,null,null,null,null,0,111]
[21,5840,22,5845,24,5853,null,null,null,null,0,222]
[21,5973,22,5978,24,5983,null,null,null,null,0,222]
[21,6123,22,6128,24,6134,null,null,null,null,0,222]
[21,6298,22,6305,24,6312,null,null,null,null,0,222]
[21,6785,22,6792,24,6808,null,null,null,null,0,222]
[21,6913,22,6918,24,6922,null,null,null,null,0,222]
[12,7028,13,7037,13,7041,null,null,null,null,0,111]
[12,7146,13,7151,13,7155,null,null,null,null,0,111]
[12,7274,13,7278,13,7283,null,null,null,null,0,111]
[12,7390,13,7397,13,7411,null,null,null,null,0,111]
[12,7520,13,7524,13,7530,null,null,null,null,0,111]
[21,7646,22,7651,24,7656,null,null,null,null,0,222]
[12,7758,13,7763,13,7767,null,null,null,null,0,111]
[21,7872,22,7876,24,7880,null,null,null,null,0,222]
[21,8042,22,8046,24,8051,null,null,null,null,0,222]
[21,8160,22,8166,24,8172,null,null,null,null,0,222]
[21,8317,22,8322,24,8366,null,null,null,null,0,222]
[21,8523,22,8528,24,8537,null,null,null,null,0,222]
[21,8646,22,8651,24,8659,null,null,null,null,0,222]
[21,8763,22,8768,24,8773,null,null,null,null,0,222]
[21,8880,22,8884,24,8892,null,null,null,null,0,222]
[21,8996,22,9000,24,9005,null,null,null,null,0,222]
[21,9111,22,9115,24,9119,null,null,null,null,0,222]
[21,9236,22,9240,24,9244,null,null,null,null,0,222]
[21,9356,22,9369,24,9377,null,null,null,null,0,222]
[21,9483,22,9488,24,9497,null,null,null,null,0,222]
[21,9620,22,9624,24,9631,null,null,null,null,0,222]
[12,9743,13,9748,13,9752,null,null,null,null,0,111]
[21,9859,22,9863,24,9867,null,null,null,null,0,222]
[21,9968,22,9972,24,9977,null,null,null,null,0,222]
[21,10084,22,10088,24,10093,null,null,null,null,0,222]
[21,10196,22,10200,24,10207,null,null,null,null,0,222]
[21,10364,22,10383,24,10392,null,null,null,null,0,222]
[21,10506,22,10513,24,10528,null,null,null,null,0,222]
[21,10632,22,10637,24,10647,null,null,null,null,0,222]
[21,10775,22,10779,24,10784,null,null,null,null,0,222]
[21,10888,22,10893,24,10897,null,null,null,null,0,222]
[21,11006,22,11011,24,11026,null,null,null,null,0,222]
[21,11130,22,11134,24,11138,null,null,null,null,0,222]
[12,11239,13,11243,13,11247,null,null,null,null,0,111]
[21,11356,22,11360,24,11365,null,null,null,null,0,222]
[21,11476,22,11481,24,11489,null,null,null,null,0,222]
[21,11594,22,11599,24,11605,null,null,null,null,0,222]
[21,11709,22,11714,24,11720,null,null,null,null,0,222]
[21,11826,22,11831,24,11836,null,null,null,null,0,222]
[21,11944,22,11950,24,11956,null,null,null,null,0,222]
[21,12118,22,12127,24,12138,null,null,null,null,0,222]
[21,12246,22,12251,24,12259,null,null,null,null,0,222]
[21,12452,22,12468,24,12476,null,null,null,null,0,222]
[21,12652,22,12658,24,12665,null,null,null,null,0,222]
[21,12794,22,12798,24,12803,null,null,null,null,0,222]
[21,12968,22,12972,24,12979,null,null,null,null,0,222]
[21,13158,22,13163,24,13167,null,null,null,null,0,222]
[21,13428,22,13434,24,13441,null,null,null,null,0,222]
[21,13658,22,13662,24,13667,null,null,null,null,0,222]
[12,14332,13,14339,13,14346,null,null,null,null,0,111]
[12,14451,13,14457,13,14463,null,null,null,null,0,111]
[21,14647,22,14652,24,14657,null,null,null,null,0,222]
[21,14785,22,14789,24,14794,null,null,null,null,0,222]
[21,14921,22,14926,24,14930,null,null,null,null,0,222]
[21,15041,22,15046,24,15050,null,null,null,null,0,222]
[12,15154,13,15159,13,15163,null,null,null,null,0,111]
[12,15266,13,15271,13,15275,null,null,null,null,0,111]
[21,15403,22,15407,24,15411,null,null,null,null,0,222]
[21,15524,22,15529,24,15533,null,null,null,null,0,222]
[21,15694,22,15699,24,15705,null,null,null,null,0,222]
[21,15959,22,15965,24,15973,null,null,null,null,0,222]
[21,16076,22,16080,24,16086,null,null,null,null,0,222]
[12,16192,13,16196,13,16204,null,null,null,null,0,111]
[21,16315,22,16320,24,16325,null,null,null,null,0,222]
[21,16433,22,16438,24,16442,null,null,null,null,0,222]
[12,16596,13,16602,13,16609,null,null,null,null,0,111]
[21,16746,22,16757,24,16766,null,null,null,null,0,222]
[21,16865,22,16869,24,16874,null,null,null,null,0,222]
[21,17023,22,17030,24,17038,null,null,null,null,0,222]
[21,17159,22,17198,24,17205,null,null,null,null,0,222]
[21,17311,22,17317,24,17321,null,null,null,null,0,222]
[21,17430,22,17436,24,17465,null,null,null,null,0,222]
[21,17569,22,17574,24,17578,null,null,null,null,0,222]
[12,17688,13,17695,13,17701,null,null,null,null,0,111]
[21,17813,22,17817,24,17821,null,null,null,null,0,222]
[21,17956,22,17961,24,17965,null,null,null,null,0,222]
[21,18076,22,18080,24,18085,null,null,null,null,0,222]
[21,18194,22,18200,24,18205,null,null,null,null,0,222]
[21,18319,22,18323,24,18328,null,null,null,null,0,222]
[21,18450,22,18455,24,18461,null,null,null,null,0,222]
[21,18570,22,18574,24,18579,null,null,null,null,0,222]
[12,18684,13,18688,13,18692,null,null,null,null,0,111]
[21,18793,22,18799,24,18803,null,null,null,null,0,222]
[21,18924,22,18928,24,18938,null,null,null,null,0,222]
[21,19057,22,19062,24,19074,null,null,null,null,0,222]
[21,19365,22,19370,24,19376,null,null,null,null,0,222]
[21,19495,22,19500,24,19512,null,null,null,null,0,222]
[21,19622,22,19626,24,19631,null,null,null,null,0,222]
[21,19743,22,19747,24,19752,null,null,null,null,0,222]
[21,19869,22,19874,24,19878,null,null,null,null,0,222]
[21,20028,22,20034,24,20045,null,null,null,null,0,222]
[21,20159,22,20164,24,20168,null,null,null,null,0,222]
[21,20292,22,20296,24,20300,null,null,null,null,0,222]
[21,20481,22,20488,24,20492,null,null,null,null,0,222]
[21,20598,22,20603,24,20607,null,null,null,null,0,222]
[21,20759,22,20764,24,20769,null,null,null,null,0,222]
[21,20920,22,20929,24,20950,null,null,null,null,0,222]
[21,21061,22,21072,24,21083,null,null,null,null,0,222]
[21,21210,22,21215,24,21224,null,null,null,null,0,222]
[12,21335,13,21339,13,21343,null,null,null,null,0,111]
[12,21562,13,21569,13,21576,null,null,null,null,0,111]
[21,21692,22,21720,24,21727,null,null,null,null,0,222]
[21,21836,22,21841,24,21859,null,null,null,null,0,222]
[21,22031,22,22044,24,22068,null,null,null,null,0,222]
[21,22276,22,22282,24,22289,null,null,null,null,0,222]
[21,22496,22,22500,24,22517,null,null,null,null,0,222]
[21,22663,22,22667,24,22671,null,null,null,null,0,222]
[12,22808,13,22814,13,22819,null,null,null,null,0,111]
[21,22928,22,22932,24,22936,null,null,null,null,0,222]
[21,23045,22,23049,24,23054,null,null,null,null,0,222]
[21,23178,22,23182,24,23187,null,null,null,null,0,222]
[21,23347,22,23352,24,23360,null,null,null,null,0,222]
[21,23490,22,23496,24,23503,null,null,null,null,0,222]
[21,23722,22,23727,24,23741,null,null,null,null,0,222]
[21,23943,22,23953,24,23961,null,null,null,null,null,222]