{"text_format":"1","workbook":"xlsx","n_sheets":31,"sheets":["Sample Report","Summary","Start","!LB09D30.056","!LB10B30.056","!LB11B50.056","!LB12C30.056","!LB13C10.056","!LB14B20.056","!LB15950.056","!LB16C50.056","!LB18B30.056","!LB19C50.056","!LB20B50.056","!LB21E50.056","!LB22A10.056","!LB23C50.056","!LB24B50.056","!LB25D10.056","!LB26C10.056","!LB27C00.056","!LB28B50.056","!LB30C10.056","!LC01B50.056","!LC02B00.056","!LC03E10.056","!LC04D40.056","!LC05D40.056","!LC06A40.056","!LC07C50.056","!LC08A30.056"],"not_rendered":{"charts":0,"images":0,"macros":1,"external_links":0,"defined_names":0,"comments":0,"pivot_tables":0},"unopened":[],"bounds":{"document_bytes":16777216,"sheet_cells":100000,"rows_first":2000,"rows_last":500,"rows_between":2000,"halvings":0,"cell_chars":16384,"cell_head_chars":4096},"cells_cut":0,"cells_raw":0,"read":"whole","date_system":"1900"}

{"sheet":"Sample Report","index":0,"n_rows":12,"n_cols":11,"rows_kept":12,"cut":false,"hidden":true,"merged":[[7,0,7,6]]}
[]
["Date"]
["Hen"]
["Program"]
["Start at 999999"]
["Sequence component 1","Time 1","Seqeunce Component 2","Time 2","Seqeunce Component 3","Time 3","Correct   0 = No 1=Yes",null,null,"Seqeunce","Time"]
[12,7,12,42,13,18,"if 77 new line,                                  if 31 or 41 = yes new line on 77, ",null,null,"=string of Seqeunce compponent 1, 2 & 3","=time 3"]
["This continues until ther is a 1 on its own to indicate start of summary data"]
[null,null,null,null,null,null,null,null,null,"10-19 =1"]
["Summary Data ",null,null,null,null,null,null,null,null,"20-29 =2"]
["Correct","Incorrect","Rft","total","Av Correct","Av Incorrect","Percent correct","Time",null,"in this example the seqeunce would be 111"]
[40,33,40,73,23.95,15,54,806]

{"sheet":"Summary","index":1,"n_rows":32,"n_cols":24,"rows_kept":32,"cut":false,"hidden":false,"merged":[]}
[]
["Day","Date","Average Response Rate","Target %","RF for non correct sequence","U Value",null,null,null,null,"Block 1","Block 2","Block 3","Block 4","Block 5","Block 6"]
[1,{"$f":"'!LB09D30.056'!B2:C2","v":"<date>"},{"$f":"('!LB09D30.056'!D7/60)/'!LB09D30.056'!Q3","v":2.3364485981308409E-3},{"$f":"'!LB09D30.056'!N20/'!LB09D30.056'!Q3","v":0.29906542056074764},{"$f":"SUM('!LB09D30.056'!L20:Q20)/'!LB09D30.056'!Q3","v":0.84112149532710279},{"$f":"'!LB09D30.056'!Q16","v":0.20339257678524669},null,null,null,"Average Response Rate",{"$f":"AVERAGE(C3:C7)","v":4.4730766039087124E-3},{"$f":"AVERAGE(C8:C12)","v":1.0032130405049383E-2},{"$f":"AVERAGE(C13:C17)","v":1.1714004692786207E-2},{"$f":"AVERAGE(C18:C22)","v":1.0124938635141696E-2},{"$f":"AVERAGE(C23:C27)","v":7.0519828645491433E-3},{"$f":"AVERAGE(C28:C32)","v":6.29472231302895E-3}]
[2,{"$f":"'!LB10B30.056'!B2:C2","v":"<date>"},{"$f":"('!LB10B30.056'!D7/60)/'!LB10B30.056'!Q3","v":5.1282051282051282E-3},{"$f":"'!LB10B30.056'!N20/'!LB10B30.056'!Q3","v":0.53846153846153844},{"$f":"SUM('!LB10B30.056'!L20:Q20)/'!LB10B30.056'!Q3","v":1.2153846153846153},{"$f":"'!LB10B30.056'!Q16","v":0.24083917646547609},null,null,null,"Target %",{"$f":"AVERAGE(D3:D7)","v":0.48731465679212144},{"$f":"AVERAGE(D8:D12)","v":0.69596307133488033},{"$f":"AVERAGE(D13:D17)","v":0.799815944559642},{"$f":"AVERAGE(D18:D22)","v":0.80643014593791418},{"$f":"AVERAGE(D23:D27)","v":0.89373769125890024},{"$f":"AVERAGE(D28:D32)","v":0.80126039737023724}]
[3,{"$f":"'!LB11B50.056'!B2:C2","v":"<date>"},{"$f":"('!LB11B50.056'!D7/60)/'!LB11B50.056'!Q3","v":4.6448087431693987E-3},{"$f":"'!LB11B50.056'!N20/'!LB11B50.056'!Q3","v":0.63934426229508201},{"$f":"SUM('!LB11B50.056'!L20:Q20)/'!LB11B50.056'!Q3","v":1.3278688524590163},{"$f":"'!LB11B50.056'!Q16","v":0.23944370510031929},null,null,null,"CCRF",{"$f":"AVERAGE(E3:E7)","v":1.1203050919465993},{"$f":"AVERAGE(E8:E12)","v":1.3311135775064744},{"$f":"AVERAGE(E13:E17)","v":1.4240374149659862},{"$f":"AVERAGE(E18:E22)","v":1.3918571006971363},{"$f":"AVERAGE(E23:E27)","v":1.4974820734232188},{"$f":"AVERAGE(E28:E32)","v":1.4430278595038322}]
[4,{"$f":"'!LB12C30.056'!B2:C2","v":"<date>"},{"$f":"('!LB12C30.056'!D7/60)/'!LB12C30.056'!Q3","v":4.4117647058823529E-3},{"$f":"'!LB12C30.056'!N20/'!LB12C30.056'!Q3","v":0.54411764705882348},{"$f":"SUM('!LB12C30.056'!L20:Q20)/'!LB12C30.056'!Q3","v":1.1911764705882353},{"$f":"'!LB12C30.056'!Q16","v":0.24261461727941397},null,null,null,"U Value",{"$f":"AVERAGE(F3:F7)","v":0.23375846539074757},{"$f":"AVERAGE(F8:F12)","v":0.17819839912656255},{"$f":"AVERAGE(F13:F17)","v":0.14393909257896575},{"$f":"AVERAGE(F18:F22)","v":0.1360695021650295},{"$f":"AVERAGE(F23:F27)","v":0.1018335584674919},{"$f":"AVERAGE(F28:F32)","v":0.11659858744476044}]
[5,{"$f":"'!LB13C10.056'!B2:C2","v":"<date>"},{"$f":"('!LB13C10.056'!D7/60)/'!LB13C10.056'!Q3","v":5.8441558441558444E-3},{"$f":"'!LB13C10.056'!N20/'!LB13C10.056'!Q3","v":0.41558441558441561},{"$f":"SUM('!LB13C10.056'!L20:Q20)/'!LB13C10.056'!Q3","v":1.025974025974026},{"$f":"'!LB13C10.056'!Q16","v":0.24250225132328196}]
[6,{"$f":"'!LB14B20.056'!B2:C2","v":"<date>"},{"$f":"('!LB14B20.056'!D7/60)/'!LB14B20.056'!Q3","v":6.1111111111111114E-3},{"$f":"'!LB14B20.056'!N20/'!LB14B20.056'!Q3","v":0.36666666666666664},{"$f":"SUM('!LB14B20.056'!L20:Q20)/'!LB14B20.056'!Q3","v":0.83333333333333337},{"$f":"'!LB14B20.056'!Q16","v":0.21027051378767603}]
[7,{"$f":"'!LB15950.056'!B2:C2","v":"<date>"},{"$f":"('!LB15950.056'!D7/60)/'!LB15950.056'!Q3","v":1.4705882352941176E-2},{"$f":"'!LB15950.056'!N20/'!LB15950.056'!Q3","v":0.74509803921568629},{"$f":"SUM('!LB15950.056'!L20:Q20)/'!LB15950.056'!Q3","v":1.5098039215686274},{"$f":"'!LB15950.056'!Q16","v":0.19560825518577593},{"$f":"K3","v":4.4730766039087124E-3},1.0032130405049383E-2,1.1714004692786207E-2,1.0124938635141696E-2,7.0519828645491433E-3,6.29472231302895E-3,{"$f":"K4","v":0.48731465679212144},0.69596307133488033,0.799815944559642,0.80643014593791418,0.89373769125890024,0.80126039737023724,{"$f":"K6","v":0.23375846539074757},0.17819839912656255,0.14393909257896575,0.1360695021650295,0.1018335584674919,0.11659858744476044]
[8,{"$f":"'!LB16C50.056'!B2:C2","v":"<date>"},{"$f":"('!LB16C50.056'!D7/60)/'!LB16C50.056'!Q3","v":8.1761006289308175E-3},{"$f":"'!LB16C50.056'!N20/'!LB16C50.056'!Q3","v":0.71698113207547165},{"$f":"SUM('!LB16C50.056'!L20:Q20)/'!LB16C50.056'!Q3","v":1.2830188679245282},{"$f":"'!LB16C50.056'!Q16","v":0.18463950889496666}]
[9,{"$f":"'!LB18B30.056'!B2:C2","v":"<date>"},{"$f":"('!LB18B30.056'!D7/60)/'!LB18B30.056'!Q3","v":9.8039215686274508E-3},{"$f":"'!LB18B30.056'!N20/'!LB18B30.056'!Q3","v":0.76470588235294112},{"$f":"SUM('!LB18B30.056'!L20:Q20)/'!LB18B30.056'!Q3","v":1.5294117647058822},{"$f":"'!LB18B30.056'!Q16","v":0.19188638709059902}]
[10,{"$f":"'!LB19C50.056'!B2:C2","v":"<date>"},{"$f":"('!LB19C50.056'!D7/60)/'!LB19C50.056'!Q3","v":1.1363636363636364E-2},{"$f":"'!LB19C50.056'!N20/'!LB19C50.056'!Q3","v":0.88636363636363635},{"$f":"SUM('!LB19C50.056'!L20:Q20)/'!LB19C50.056'!Q3","v":1.5},{"$f":"'!LB19C50.056'!Q16","v":0.10858733067379511}]
[11,{"$f":"'!LB20B50.056'!B2:C2","v":"<date>"},{"$f":"('!LB20B50.056'!D7/60)/'!LB20B50.056'!Q3","v":1.4015151515151515E-2},{"$f":"'!LB20B50.056'!N20/'!LB20B50.056'!Q3","v":0.88636363636363635},{"$f":"SUM('!LB20B50.056'!L20:Q20)/'!LB20B50.056'!Q3","v":1.5},{"$f":"'!LB20B50.056'!Q16","v":9.3560622906292315E-2}]
[12,{"$f":"'!LB21E50.056'!B2:C2","v":"<date>"},{"$f":"('!LB21E50.056'!D7/60)/'!LB21E50.056'!Q3","v":8.5034013605442185E-3},{"$f":"'!LB21E50.056'!N20/'!LB21E50.056'!Q3","v":0.77551020408163263},{"$f":"SUM('!LB21E50.056'!L20:Q20)/'!LB21E50.056'!Q3","v":1.5510204081632653},{"$f":"'!LB21E50.056'!Q16","v":0.13683367982100839}]
[13,{"$f":"'!LB22A10.056'!B2:C2","v":"<date>"},{"$f":"('!LB22A10.056'!D7/60)/'!LB22A10.056'!Q3","v":1.4666666666666666E-2},{"$f":"'!LB22A10.056'!N20/'!LB22A10.056'!Q3","v":0.76},{"$f":"SUM('!LB22A10.056'!L20:Q20)/'!LB22A10.056'!Q3","v":1.34},{"$f":"'!LB22A10.056'!Q16","v":0.17559725607035445}]
[14,{"$f":"'!LB23C50.056'!B2:C2","v":"<date>"},{"$f":"('!LB23C50.056'!D7/60)/'!LB23C50.056'!Q3","v":7.8431372549019607E-3},{"$f":"'!LB23C50.056'!N20/'!LB23C50.056'!Q3","v":0.76470588235294112},{"$f":"SUM('!LB23C50.056'!L20:Q20)/'!LB23C50.056'!Q3","v":1.3333333333333333},{"$f":"'!LB23C50.056'!Q16","v":0.15592893754217915}]
[15,{"$f":"'!LB24B50.056'!B2:C2","v":"<date>"},{"$f":"('!LB24B50.056'!D7/60)/'!LB24B50.056'!Q3","v":1.3541666666666667E-2},{"$f":"'!LB24B50.056'!N20/'!LB24B50.056'!Q3","v":0.8125},{"$f":"SUM('!LB24B50.056'!L20:Q20)/'!LB24B50.056'!Q3","v":1.3958333333333333},{"$f":"'!LB24B50.056'!Q16","v":0.15777496655499448}]
[16,{"$f":"'!LB25D10.056'!B2:C2","v":"<date>"},{"$f":"('!LB25D10.056'!D7/60)/'!LB25D10.056'!Q3","v":6.2841530054644811E-3},{"$f":"'!LB25D10.056'!N20/'!LB25D10.056'!Q3","v":0.60655737704918034},{"$f":"SUM('!LB25D10.056'!L20:Q20)/'!LB25D10.056'!Q3","v":1.1311475409836065},{"$f":"'!LB25D10.056'!Q16","v":0.19049882308580882}]
[17,{"$f":"'!LB26C10.056'!B2:C2","v":"<date>"},{"$f":"('!LB26C10.056'!D7/60)/'!LB26C10.056'!Q3","v":1.4772727272727272E-2},{"$f":"'!LB26C10.056'!N20/'!LB26C10.056'!Q3","v":0.88636363636363635},{"$f":"SUM('!LB26C10.056'!L20:Q20)/'!LB26C10.056'!Q3","v":1.5},{"$f":"'!LB26C10.056'!Q16","v":0.10858733067379511}]
[18,{"$f":"'!LB27C00.056'!B2:C2","v":"<date>"},{"$f":"('!LB27C00.056'!D7/60)/'!LB27C00.056'!Q3","v":1.3265306122448981E-2},{"$f":"'!LB27C00.056'!N20/'!LB27C00.056'!Q3","v":0.77551020408163263},{"$f":"SUM('!LB27C00.056'!L20:Q20)/'!LB27C00.056'!Q3","v":1.346938775510204},{"$f":"'!LB27C00.056'!Q16","v":0.16418320510019516}]
[19,{"$f":"'!LB28B50.056'!B2:C2","v":"<date>"},{"$f":"('!LB28B50.056'!D7/60)/'!LB28B50.056'!Q3","v":4.5138888888888893E-3},{"$f":"'!LB28B50.056'!N20/'!LB28B50.056'!Q3","v":0.8125},{"$f":"SUM('!LB28B50.056'!L20:Q20)/'!LB28B50.056'!Q3","v":1.3958333333333333},{"$f":"'!LB28B50.056'!Q16","v":0.15548765616568272}]
[20,{"$f":"'!LB30C10.056'!B2:C2","v":"<date>"},{"$f":"('!LB30C10.056'!D7/60)/'!LB30C10.056'!Q3","v":1.1788617886178862E-2},{"$f":"'!LB30C10.056'!N20/'!LB30C10.056'!Q3","v":0.95121951219512191},{"$f":"SUM('!LB30C10.056'!L20:Q20)/'!LB30C10.056'!Q3","v":1.5853658536585367},{"$f":"'!LB30C10.056'!Q16","v":6.1590495799665711E-2}]
[21,{"$f":"'!LC01B50.056'!B2:C2","v":"<date>"},{"$f":"('!LC01B50.056'!D7/60)/'!LC01B50.056'!Q3","v":6.0975609756097563E-3},{"$f":"'!LC01B50.056'!N20/'!LC01B50.056'!Q3","v":0.95121951219512191},{"$f":"SUM('!LC01B50.056'!L20:Q20)/'!LC01B50.056'!Q3","v":1.5853658536585367},{"$f":"'!LC01B50.056'!Q16","v":6.1590495799665711E-2}]
[22,{"$f":"'!LC02B00.056'!B2:C2","v":"<date>"},{"$f":"('!LC02B00.056'!D7/60)/'!LC02B00.056'!Q3","v":6.2499999999999995E-3},{"$f":"'!LC02B00.056'!N20/'!LC02B00.056'!Q3","v":0.8125},{"$f":"SUM('!LC02B00.056'!L20:Q20)/'!LC02B00.056'!Q3","v":1.3958333333333333},{"$f":"'!LC02B00.056'!Q16","v":0.170036151826227}]
[23,{"$f":"'!LC03E10.056'!B2:C2","v":"<date>"},{"$f":"('!LC03E10.056'!D7/60)/'!LC03E10.056'!Q3","v":6.3492063492063492E-3},{"$f":"'!LC03E10.056'!N20/'!LC03E10.056'!Q3","v":0.9285714285714286},{"$f":"SUM('!LC03E10.056'!L20:Q20)/'!LC03E10.056'!Q3","v":1.5476190476190477},{"$f":"'!LC03E10.056'!Q16","v":6.88446724357656E-2}]
[24,{"$f":"'!LC04D40.056'!B2:C2","v":"<date>"},{"$f":"('!LC04D40.056'!D7/60)/'!LC04D40.056'!Q3","v":9.4202898550724643E-3},{"$f":"'!LC04D40.056'!N20/'!LC04D40.056'!Q3","v":0.84782608695652173},{"$f":"SUM('!LC04D40.056'!L20:Q20)/'!LC04D40.056'!Q3","v":1.4347826086956521},{"$f":"'!LC04D40.056'!Q16","v":0.12768772372347792}]
[25,{"$f":"'!LC05D40.056'!B2:C2","v":"<date>"},{"$f":"('!LC05D40.056'!D7/60)/'!LC05D40.056'!Q3","v":7.1428571428571426E-3},{"$f":"'!LC05D40.056'!N20/'!LC05D40.056'!Q3","v":0.9285714285714286},{"$f":"SUM('!LC05D40.056'!L20:Q20)/'!LC05D40.056'!Q3","v":1.5238095238095237},{"$f":"'!LC05D40.056'!Q16","v":8.1008748552323234E-2}]
[26,{"$f":"'!LC06A40.056'!B2:C2","v":"<date>"},{"$f":"('!LC06A40.056'!D7/60)/'!LC06A40.056'!Q3","v":6.3492063492063492E-3},{"$f":"'!LC06A40.056'!N20/'!LC06A40.056'!Q3","v":0.9285714285714286},{"$f":"SUM('!LC06A40.056'!L20:Q20)/'!LC06A40.056'!Q3","v":1.5476190476190477},{"$f":"'!LC06A40.056'!Q16","v":6.88446724357656E-2}]
[27,{"$f":"'!LC07C50.056'!B2:C2","v":"<date>"},{"$f":"('!LC07C50.056'!D7/60)/'!LC07C50.056'!Q3","v":4.3478260869565218E-3},{"$f":"'!LC07C50.056'!N20/'!LC07C50.056'!Q3","v":0.82608695652173914},{"$f":"SUM('!LC07C50.056'!L20:Q20)/'!LC07C50.056'!Q3","v":1.4130434782608696},{"$f":"'!LC07C50.056'!Q16","v":0.12067907688877569}]
[28,{"$f":"'!LC08A30.056'!B2:C2","v":"<date>"},{"$f":"('!LC08A30.056'!D7/60)/'!LC08A30.056'!Q3","v":8.1871345029239772E-3},{"$f":"'!LC08A30.056'!N20/'!LC08A30.056'!Q3","v":0.64912280701754388},{"$f":"SUM('!LC08A30.056'!L20:Q20)/'!LC08A30.056'!Q3","v":1.368421052631579},{"$f":"'!LC08A30.056'!Q16","v":0.16027201300974006}]
[29]
[30]

{"sheet":"Start","index":2,"n_rows":34,"n_cols":10,"rows_kept":34,"cut":false,"hidden":false,"merged":[]}
[null,null,null,null,null,"Use Folder 51",null,"Auto Clean Up",null,"Correct sequence"]
[null,null,null,null,null,false,null,true,null,12]
[]
["Working with Folder",null,null,null,null,null,"Process All/Or Pick A number: ALL or an integer"]
["E:\\Hen Data\\Raw Data\\56\\phase 4 Any\\",null,null,null,null,null,"ALL"]
["Filenames:"]
["!LB09D30.056",null,null,null,null,null,"Paint Cells"]
["!LB10B30.056",null,null,null,null,null,false]
["!LB11B50.056"]
["!LB12C30.056"]
["!LB13C10.056"]
["!LB14B20.056"]
["!LB15950.056"]
["!LB16C50.056"]
["!LB18B30.056"]
["!LB19C50.056"]
["!LB20B50.056"]
["!LB21E50.056"]
["!LB22A10.056"]
["!LB23C50.056"]
["!LB24B50.056"]
["!LB25D10.056"]
["!LB26C10.056"]
["!LB27C00.056"]
["!LB28B50.056"]
["!LB30C10.056"]
["!LC01B50.056"]
["!LC02B00.056"]
["!LC03E10.056"]
["!LC04D40.056"]
["!LC05D40.056"]
["!LC06A40.056"]
["!LC07C50.056"]
["!LC08A30.056"]

{"sheet":"!LB09D30.056","index":3,"n_rows":113,"n_cols":48,"rows_kept":113,"cut":false,"hidden":false,"merged":[[4,39,4,42],[5,39,5,40],[4,44,4,47],[5,44,5,45],[4,24,4,27],[5,24,5,25],[4,29,4,32],[5,29,5,30],[4,34,4,37],[5,34,5,35],[1,1,1,2],[5,13,5,14],[18,13,18,14],[19,13,19,14],[4,19,4,22],[5,19,5,20]]}
["Report for:!LB09D30.056"]
["Date:","<date>"]
["Hen:","<hen>",null,null,null,"Correct Sequence",{"$f":"Start!J2","v":12},null,null,null,null,null,null,null,null,"Total Sequences in Data",{"$f":"4994-COUNTBLANK(L7:L5000)","v":107},null,null,null,null,"Total Sequences in Block Data",{"$f":"COUNTA(L7:L24)","v":18},null,null,null,"Total Sequences in Block Data",{"$f":"COUNTA(L25:L42)","v":18},null,null,null,"Total Sequences in Block Data",{"$f":"COUNTA(L43:L59)","v":17},null,null,null,"Total Sequences in Block Data",{"$f":"COUNTA(L60:L77)","v":18},null,null,null,"Total Sequences in Block Data",{"$f":"COUNTA(L78:L95)","v":18},null,null,null,"Total Sequences in Block Data",{"$f":"COUNTA(L96:L113)","v":18}]
[null,null,null,null,null,null,null,null,null,null,null,null,null,null,null,"Total Sequences in Summary",{"$f":"SUM(O7:O14)","v":107},null,null,null,null,"Total Sequences in Block Summary",{"$f":"SUM(U7:U14)","v":18},null,null,null,"Total Sequences in Block Summary",{"$f":"SUM(Z7:Z14)","v":18},null,null,null,"Total Sequences in Block Summary",{"$f":"SUM(AE7:AE14)","v":17},null,null,null,"Total Sequences in Block Summary",{"$f":"SUM(AJ7:AJ14)","v":18},null,null,null,"Total Sequences in Block Summary",{"$f":"SUM(AO7:AO14)","v":18},null,null,null,"Total Sequences in Block Summary",{"$f":"SUM(AT7:AT14)","v":18}]
[null,null,null,null,null,null,null,null,null,null,null,null,null,null,null,null,null,null,null,"Block 1",null,null,null,null,"Block 2",null,null,null,null,"Block 3",null,null,null,null,"Block 4",null,null,null,null,"Block 5",null,null,null,null,"Block 6"]
["Sequence\nComponent\n1","Time\n1","Sequence\nComponent\n2","Time\n2","Sequence\nComponent\n3","Time\n3","Sequence\nComponent\n4","Time\n4","Sequence\nComponent\n5","Time\n5","Correct?\n0=No 1=Yes","Sequence",null,"Frequency",null,"Relative Frequency","Variability",null,null,"Frequency",null,"Relative Frequency","Variability",null,"Frequency",null,"Relative Frequency","Variability",null,"Frequency",null,"Relative Frequency","Variability",null,"Frequency",null,"Relative Frequency","Variability",null,"Frequency",null,"Relative Frequency","Variability",null,"Frequency",null,"Relative Frequency","Variability"]
[22,9,23,15,null,null,null,null,null,null,0,22,null,11,{"$f":"COUNTIF($L$7:$L$500,N7)","v":11},{"$f":"O7/$Q$4","v":0.10280373831775701},{"$f":"IF(P7=0,0,(P7*((LOG(P7))/LOG(2))))","v":-0.33740550509721817},null,null,{"$f":"N7","v":11},{"$f":"COUNTIF(L7:L24,T7)","v":0},{"$f":"U7/(W4-U8)","v":0},{"$f":"IF(V7=0,0,(V7*((LOG(V7))/LOG(2))))","v":0},null,{"$f":"N7","v":11},{"$f":"COUNTIF(L25:L42,Y7)","v":0},{"$f":"Z7/(AB4-Z8)","v":0},{"$f":"IF(AA7=0,0,(AA7*((LOG(AA7))/LOG(2))))","v":0},null,{"$f":"N7","v":11},{"$f":"COUNTIF(L43:L59,AD7)","v":1},{"$f":"AE7/(AG4-AE8)","v":6.25E-2},{"$f":"IF(AF7=0,0,(AF7*((LOG(AF7))/LOG(2))))","v":-0.25},null,{"$f":"N7","v":11},{"$f":"COUNTIF(L60:L77,AI7)","v":1},{"$f":"AJ7/(AL4-AJ8)","v":8.3333333333333329E-2},{"$f":"IF(AK7=0,0,(AK7*((LOG(AK7))/LOG(2))))","v":-0.29874687506009634},null,{"$f":"N7","v":11},{"$f":"COUNTIF(L78:L95,AN7)","v":4},{"$f":"AO7/(AQ4-AO8)","v":0.66666666666666663},{"$f":"IF(AP7=0,0,(AP7*((LOG(AP7))/LOG(2))))","v":-0.38997500048077083},null,{"$f":"N7","v":11},{"$f":"COUNTIF(L96:L113,AS7)","v":5},{"$f":"AT7/(AV4-AT8)","v":0.625},{"$f":"IF(AU7=0,0,(AU7*((LOG(AU7))/LOG(2))))","v":-0.42379494069539858}]
[22,117,23,122,null,null,null,null,null,null,0,22,null,12,{"$f":"COUNTIF($L$7:$L$500,N8)","v":32},{"$f":"O8/$Q$4","v":0.29906542056074764},{"$f":"IF(P8=0,0,(P8*((LOG(P8))/LOG(2))))","v":-0.5208125566807168},null,null,{"$f":"N8","v":12},{"$f":"COUNTIF(L7:L24,T8)","v":2},null,null,null,{"$f":"N8","v":12},{"$f":"COUNTIF(L25:L42,Y8)","v":1},null,null,null,{"$f":"N8","v":12},{"$f":"COUNTIF(L43:L59,AD8)","v":1},null,null,null,{"$f":"N8","v":12},{"$f":"COUNTIF(L60:L77,AI8)","v":6},null,null,null,{"$f":"N8","v":12},{"$f":"COUNTIF(L78:L95,AN8)","v":12},null,null,null,{"$f":"N8","v":12},{"$f":"COUNTIF(L96:L113,AS8)","v":10}]
[22,224,23,228,null,null,null,null,null,null,0,22,null,21,{"$f":"COUNTIF($L$7:$L$500,N9)","v":1},{"$f":"O9/$Q$4","v":9.3457943925233638E-3},{"$f":"IF(P9=0,0,(P9*((LOG(P9))/LOG(2))))","v":-6.3004364358889217E-2},null,null,{"$f":"N9","v":21},{"$f":"COUNTIF(L7:L24,T9)","v":0},{"$f":"U9/(W4-U8)","v":0},{"$f":"IF(V9=0,0,(V9*((LOG(V9))/LOG(2))))","v":0},null,{"$f":"N9","v":21},{"$f":"COUNTIF(L25:L42,Y9)","v":0},{"$f":"Z9/(AB4-Z8)","v":0},{"$f":"IF(AA9=0,0,(AA9*((LOG(AA9))/LOG(2))))","v":0},null,{"$f":"N9","v":21},{"$f":"COUNTIF(L43:L59,AD9)","v":1},{"$f":"AE9/(AG4-AE8)","v":6.25E-2},{"$f":"IF(AF9=0,0,(AF9*((LOG(AF9))/LOG(2))))","v":-0.25},null,{"$f":"N9","v":21},{"$f":"COUNTIF(L60:L77,AI9)","v":0},{"$f":"AJ9/(AL4-AJ8)","v":0},{"$f":"IF(AK9=0,0,(AK9*((LOG(AK9))/LOG(2))))","v":0},null,{"$f":"N9","v":21},{"$f":"COUNTIF(L78:L95,AN9)","v":0},{"$f":"AO9/(AQ4-AO8)","v":0},{"$f":"IF(AP9=0,0,(AP9*((LOG(AP9))/LOG(2))))","v":0},null,{"$f":"N9","v":21},{"$f":"COUNTIF(L96:L113,AS9)","v":0},{"$f":"AT9/(AV4-AT8)","v":0},{"$f":"IF(AU9=0,0,(AU9*((LOG(AU9))/LOG(2))))","v":0}]
[22,331,23,336,null,null,null,null,null,null,0,22,null,22,{"$f":"COUNTIF($L$7:$L$500,N10)","v":63},{"$f":"O10/$Q$4","v":0.58878504672897192},{"$f":"IF(P10=0,0,(P10*((LOG(P10))/LOG(2))))","v":-0.44994191553997687},null,null,{"$f":"N10","v":22},{"$f":"COUNTIF(L7:L24,T10)","v":16},{"$f":"U10/(W4-U8)","v":1},{"$f":"IF(V10=0,0,(V10*((LOG(V10))/LOG(2))))","v":0},null,{"$f":"N10","v":22},{"$f":"COUNTIF(L25:L42,Y10)","v":17},{"$f":"Z10/(AB4-Z8)","v":1},{"$f":"IF(AA10=0,0,(AA10*((LOG(AA10))/LOG(2))))","v":0},null,{"$f":"N10","v":22},{"$f":"COUNTIF(L43:L59,AD10)","v":14},{"$f":"AE10/(AG4-AE8)","v":0.875},{"$f":"IF(AF10=0,0,(AF10*((LOG(AF10))/LOG(2))))","v":-0.1685644431995964},null,{"$f":"N10","v":22},{"$f":"COUNTIF(L60:L77,AI10)","v":11},{"$f":"AJ10/(AL4-AJ8)","v":0.91666666666666663},{"$f":"IF(AK10=0,0,(AK10*((LOG(AK10))/LOG(2))))","v":-0.1150699752435374},null,{"$f":"N10","v":22},{"$f":"COUNTIF(L78:L95,AN10)","v":2},{"$f":"AO10/(AQ4-AO8)","v":0.33333333333333331},{"$f":"IF(AP10=0,0,(AP10*((LOG(AP10))/LOG(2))))","v":-0.52832083357371862},null,{"$f":"N10","v":22},{"$f":"COUNTIF(L96:L113,AS10)","v":3},{"$f":"AT10/(AV4-AT8)","v":0.375},{"$f":"IF(AU10=0,0,(AU10*((LOG(AU10))/LOG(2))))","v":-0.53063906222956647}]
[22,438,23,443,null,null,null,null,null,null,0,22,null,null,null,null,null,null,null,{"$f":"N11","v":0},{"$f":"COUNTIF(L7:L24,T11)","v":0},{"$f":"U11/(W4-U8)","v":0},{"$f":"IF(V11=0,0,(V11*((LOG(V11))/LOG(2))))","v":0},null,{"$f":"N11","v":0},{"$f":"COUNTIF(L25:L42,Y11)","v":0},{"$f":"Z11/(AB4-Z8)","v":0},{"$f":"IF(AA11=0,0,(AA11*((LOG(AA11))/LOG(2))))","v":0},null,{"$f":"N11","v":0},{"$f":"COUNTIF(L43:L59,AD11)","v":0},{"$f":"AE11/(AG4-AE8)","v":0},{"$f":"IF(AF11=0,0,(AF11*((LOG(AF11))/LOG(2))))","v":0},null,{"$f":"N11","v":0},{"$f":"COUNTIF(L60:L77,AI11)","v":0},{"$f":"AJ11/(AL4-AJ8)","v":0},{"$f":"IF(AK11=0,0,(AK11*((LOG(AK11))/LOG(2))))","v":0},null,{"$f":"N11","v":0},{"$f":"COUNTIF(L78:L95,AN11)","v":0},{"$f":"AO11/(AQ4-AO8)","v":0},{"$f":"IF(AP11=0,0,(AP11*((LOG(AP11))/LOG(2))))","v":0},null,{"$f":"N11","v":0},{"$f":"COUNTIF(L96:L113,AS11)","v":0},{"$f":"AT11/(AV4-AT8)","v":0},{"$f":"IF(AU11=0,0,(AU11*((LOG(AU11))/LOG(2))))","v":0}]
[22,552,23,557,null,null,null,null,null,null,0,22,null,null,null,null,null,null,null,{"$f":"N12","v":0},{"$f":"COUNTIF(L7:L24,T12)","v":0},{"$f":"U12/(W4-U8)","v":0},{"$f":"IF(V12=0,0,(V12*((LOG(V12))/LOG(2))))","v":0},null,{"$f":"N12","v":0},{"$f":"COUNTIF(L25:L42,Y12)","v":0},{"$f":"Z12/(AB4-Z8)","v":0},{"$f":"IF(AA12=0,0,(AA12*((LOG(AA12))/LOG(2))))","v":0},null,{"$f":"N12","v":0},{"$f":"COUNTIF(L43:L59,AD12)","v":0},{"$f":"AE12/(AG4-AE8)","v":0},{"$f":"IF(AF12=0,0,(AF12*((LOG(AF12))/LOG(2))))","v":0},null,{"$f":"N12","v":0},{"$f":"COUNTIF(L60:L77,AI12)","v":0},{"$f":"AJ12/(AL4-AJ8)","v":0},{"$f":"IF(AK12=0,0,(AK12*((LOG(AK12))/LOG(2))))","v":0},null,{"$f":"N12","v":0},{"$f":"COUNTIF(L78:L95,AN12)","v":0},{"$f":"AO12/(AQ4-AO8)","v":0},{"$f":"IF(AP12=0,0,(AP12*((LOG(AP12))/LOG(2))))","v":0},null,{"$f":"N12","v":0},{"$f":"COUNTIF(L96:L113,AS12)","v":0},{"$f":"AT12/(AV4-AT8)","v":0},{"$f":"IF(AU12=0,0,(AU12*((LOG(AU12))/LOG(2))))","v":0}]
[22,674,23,679,null,null,null,null,null,null,0,22,null,null,null,null,null,null,null,{"$f":"N13","v":0},{"$f":"COUNTIF(L7:L24,T13)","v":0},{"$f":"U13/(W4-U8)","v":0},{"$f":"IF(V13=0,0,(V13*((LOG(V13))/LOG(2))))","v":0},null,{"$f":"N13","v":0},{"$f":"COUNTIF(L25:L42,Y13)","v":0},{"$f":"Z13/(AB4-Z8)","v":0},{"$f":"IF(AA13=0,0,(AA13*((LOG(AA13))/LOG(2))))","v":0},null,{"$f":"N13","v":0},{"$f":"COUNTIF(L43:L59,AD13)","v":0},{"$f":"AE13/(AG4-AE8)","v":0},{"$f":"IF(AF13=0,0,(AF13*((LOG(AF13))/LOG(2))))","v":0},null,{"$f":"N13","v":0},{"$f":"COUNTIF(L60:L77,AI13)","v":0},{"$f":"AJ13/(AL4-AJ8)","v":0},{"$f":"IF(AK13=0,0,(AK13*((LOG(AK13))/LOG(2))))","v":0},null,{"$f":"N13","v":0},{"$f":"COUNTIF(L78:L95,AN13)","v":0},{"$f":"AO13/(AQ4-AO8)","v":0},{"$f":"IF(AP13=0,0,(AP13*((LOG(AP13))/LOG(2))))","v":0},null,{"$f":"N13","v":0},{"$f":"COUNTIF(L96:L113,AS13)","v":0},{"$f":"AT13/(AV4-AT8)","v":0},{"$f":"IF(AU13=0,0,(AU13*((LOG(AU13))/LOG(2))))","v":0}]
[22,780,23,786,null,null,null,null,null,null,0,22,null,null,null,null,null,null,null,{"$f":"N14","v":0},{"$f":"COUNTIF(L7:L24,T14)","v":0},{"$f":"U14/(W4-U8)","v":0},{"$f":"IF(V14=0,0,(V14*((LOG(V14))/LOG(2))))","v":0},null,{"$f":"N14","v":0},{"$f":"COUNTIF(L25:L42,Y14)","v":0},{"$f":"Z14/(AB4-Z8)","v":0},{"$f":"IF(AA14=0,0,(AA14*((LOG(AA14))/LOG(2))))","v":0},null,{"$f":"N14","v":0},{"$f":"COUNTIF(L43:L59,AD14)","v":0},{"$f":"AE14/(AG4-AE8)","v":0},{"$f":"IF(AF14=0,0,(AF14*((LOG(AF14))/LOG(2))))","v":0},null,{"$f":"N14","v":0},{"$f":"COUNTIF(L60:L77,AI14)","v":0},{"$f":"AJ14/(AL4-AJ8)","v":0},{"$f":"IF(AK14=0,0,(AK14*((LOG(AK14))/LOG(2))))","v":0},null,{"$f":"N14","v":0},{"$f":"COUNTIF(L78:L95,AN14)","v":0},{"$f":"AO14/(AQ4-AO8)","v":0},{"$f":"IF(AP14=0,0,(AP14*((LOG(AP14))/LOG(2))))","v":0},null,{"$f":"N14","v":0},{"$f":"COUNTIF(L96:L113,AS14)","v":0},{"$f":"AT14/(AV4-AT8)","v":0},{"$f":"IF(AU14=0,0,(AU14*((LOG(AU14))/LOG(2))))","v":0}]
[11,886,21,897,null,null,null,null,null,null,0,12,null,null,null,{"$f":"SUM(P7:P14)","v":1},{"$f":"-SUM(Q7:Q14)","v":1.3711643416768009},null,null,null,null,{"$f":"SUM(V7:V14)","v":1},{"$f":"-SUM(W7:W14)","v":0},null,null,null,{"$f":"SUM(AA7:AA14)","v":1},{"$f":"-SUM(AB7:AB14)","v":0},null,null,null,{"$f":"SUM(AF7:AF14)","v":1},{"$f":"-SUM(AG7:AG14)","v":0.6685644431995964},null,null,null,{"$f":"SUM(AK7:AK14)","v":1},{"$f":"-SUM(AL7:AL14)","v":0.41381685030363374},null,null,null,{"$f":"SUM(AP7:AP14)","v":1},{"$f":"-SUM(AQ7:AQ14)","v":0.91829583405448945},null,null,null,{"$f":"SUM(AU7:AU14)","v":1},{"$f":"-SUM(AV7:AV14)","v":0.95443400292496505}]
[22,991,23,996,null,null,null,null,null,null,0,22,null,null,null,"U=",{"$f":"Q15/(LOG(Q4)/LOG(2))","v":0.20339257678524669},null,null,null,null,"U1=",{"$f":"W15/(LOG(W4)/LOG(2))","v":0},null,null,null,"U2=",{"$f":"AB15/(LOG(AB4)/LOG(2))","v":0},null,null,null,"U3=",{"$f":"AG15/(LOG(AG4)/LOG(2))","v":0.16356465346975121},null,null,null,"U4=",{"$f":"AL15/(LOG(AL4)/LOG(2))","v":9.9238439578769627E-2},null,null,null,"U5=",{"$f":"AQ15/(LOG(AQ4)/LOG(2))","v":0.22021878900384664},null,null,null,"U6=",{"$f":"AV15/(LOG(AV4)/LOG(2))","v":0.22888517241793108}]
[22,1099,23,1106,null,null,null,null,null,null,0,22]
[22,1208,23,1213,null,null,null,null,null,null,0,22]
[22,1305,23,1317,null,null,null,null,null,null,0,22,null,"Total Target Seq"]
[22,1415,23,1419,null,null,null,null,null,null,0,22,null,{"$f":"COUNTIF(L7:L113,G3)","v":32},null,18,18,17,18,18,18]
[22,1522,23,1527,null,null,null,null,null,null,0,22,null,null,null,"% of reinforcement given in 6 equal intervals based on number of trials "]
[11,1629,21,1639,null,null,null,null,null,null,0,12,null,null,null,"%_1","%_2","%_3","%_4","%_5","%_6"]
[22,1734,23,1740,null,null,null,null,null,null,0,22,null,null,"target sequence",{"$f":"$G$3","v":12},{"$f":"$G$3","v":12},{"$f":"$G$3","v":12},{"$f":"$G$3","v":12},{"$f":"$G$3","v":12},{"$f":"$G$3","v":12}]
[22,1834,23,1842,null,null,null,null,null,null,0,22,null,null,"total reinforcement",{"$f":"U8","v":2},{"$f":"Z8","v":1},{"$f":"AE8","v":1},{"$f":"AJ8","v":6},{"$f":"AO8","v":12},{"$f":"AT8","v":10}]
[22,1943,23,1952,null,null,null,null,null,null,0,22,null,null,"% target"]
[22,2054,23,2059,null,null,null,null,null,null,0,22,null,null,"CCRF"]
[22,2151,23,2156,null,null,null,null,null,null,0,22,null,null,"% CCRf"]
[22,2248,23,2254,null,null,null,null,null,null,0,22,null,null,"average response rate",{"$f":"D24/P20","v":102.33333333333333},{"$f":"(D42-D24)/Q20","v":103.77777777777777},{"$f":"(D59-D42)/R20","v":106.11764705882354},{"$f":"(D77-D59)/S20","v":106.22222222222223},{"$f":"(D95-D77)/T20","v":102.16666666666667},{"$f":"(D113-D95)/U20","v":105.33333333333333}]
[22,2356,23,2364,null,null,null,null,null,null,0,22]
[22,2466,23,2471,null,null,null,null,null,null,0,22]
[22,2575,23,2580,null,null,null,null,null,null,0,22]
[22,2671,23,2676,null,null,null,null,null,null,0,22]
[22,2777,23,2781,null,null,null,null,null,null,0,22]
[22,2871,23,2875,null,null,null,null,null,null,0,22]
[11,2972,21,2996,null,null,null,null,null,null,0,12]
[22,3088,23,3092,null,null,null,null,null,null,0,22]
[22,3190,23,3194,null,null,null,null,null,null,0,22]
[22,3291,23,3295,null,null,null,null,null,null,0,22]
[22,3393,23,3398,null,null,null,null,null,null,0,22]
[22,3497,23,3501,null,null,null,null,null,null,0,22]
[22,3602,23,3607,null,null,null,null,null,null,0,22]
[22,3706,23,3710,null,null,null,null,null,null,0,22]
[22,3808,23,3812,null,null,null,null,null,null,0,22]
[22,3914,23,3918,null,null,null,null,null,null,0,22]
[22,4027,23,4042,null,null,null,null,null,null,0,22]
[22,4135,23,4139,null,null,null,null,null,null,0,22]
[22,4235,23,4242,null,null,null,null,null,null,0,22]
[22,4340,23,4344,null,null,null,null,null,null,0,22]
[22,4444,23,4449,null,null,null,null,null,null,0,22]
[22,4546,23,4551,null,null,null,null,null,null,0,22]
[22,4647,23,4651,null,null,null,null,null,null,0,22]
[11,4757,21,4767,null,null,null,null,null,null,0,12]
[22,4858,23,4863,null,null,null,null,null,null,0,22]
[22,4962,14,4977,null,null,null,null,null,null,0,21]
[22,5079,23,5083,null,null,null,null,null,null,0,22]
[22,5184,23,5188,null,null,null,null,null,null,0,22]
[22,5294,23,5298,null,null,null,null,null,null,0,22]
[22,5400,23,5404,null,null,null,null,null,null,0,22]
[11,5509,12,5514,null,null,null,null,null,null,0,11]
[22,5609,23,5614,null,null,null,null,null,null,0,22]
[22,5714,23,5719,null,null,null,null,null,null,0,22]
[11,5820,21,5830,null,null,null,null,null,null,0,12]
[22,5923,23,5931,null,null,null,null,null,null,0,22]
[22,6030,23,6035,null,null,null,null,null,null,0,22]
[22,6131,23,6142,null,null,null,null,null,null,0,22]
[22,6241,23,6246,null,null,null,null,null,null,0,22]
[22,6342,23,6348,null,null,null,null,null,null,0,22]
[22,6446,23,6459,null,null,null,null,null,null,0,22]
[22,6557,23,6562,null,null,null,null,null,null,0,22]
[22,6657,23,6662,null,null,null,null,null,null,0,22]
[11,6762,21,6772,null,null,null,null,null,null,0,12]
[11,6864,12,6869,null,null,null,null,null,null,0,11]
[11,6967,21,6994,null,null,null,null,null,null,0,12]
[22,7093,23,7098,null,null,null,null,null,null,0,22]
[11,7198,21,7218,null,null,null,null,null,null,0,12]
[11,7308,21,7327,null,null,null,null,null,null,0,12]
[11,7417,21,7426,null,null,null,null,null,null,0,12]
[11,7518,21,7527,null,null,null,null,null,null,0,12]
[11,7615,12,7624,null,null,null,null,null,null,0,11]
[11,7721,21,7741,null,null,null,null,null,null,0,12]
[11,7837,21,7847,null,null,null,null,null,null,0,12]
[11,7935,21,7961,null,null,null,null,null,null,0,12]
[11,8048,21,8058,null,null,null,null,null,null,0,12]
[11,8145,21,8161,null,null,null,null,null,null,0,12]
[11,8247,12,8252,null,null,null,null,null,null,0,11]
[11,8348,21,8357,null,null,null,null,null,null,0,12]
[11,8442,21,8459,null,null,null,null,null,null,0,12]
[11,8548,21,8565,null,null,null,null,null,null,0,12]
[22,8658,23,8665,null,null,null,null,null,null,0,22]
[11,8760,21,8769,null,null,null,null,null,null,0,12]
[11,8854,12,8860,null,null,null,null,null,null,0,11]
[22,8960,23,8967,null,null,null,null,null,null,0,22]
[11,9065,21,9073,null,null,null,null,null,null,0,12]
[11,9163,21,9173,null,null,null,null,null,null,0,12]
[11,9260,12,9265,null,null,null,null,null,null,0,11]
[11,9361,12,9365,null,null,null,null,null,null,0,11]
[11,9462,21,9479,null,null,null,null,null,null,0,12]
[11,9565,12,9570,null,null,null,null,null,null,0,11]
[22,9680,23,9687,null,null,null,null,null,null,0,22]
[11,9792,21,9802,null,null,null,null,null,null,0,12]
[11,9893,21,9904,null,null,null,null,null,null,0,12]
[11,9993,21,10009,null,null,null,null,null,null,0,12]
[11,10096,21,10122,null,null,null,null,null,null,0,12]
[22,10210,23,10217,null,null,null,null,null,null,0,22]
[11,10316,21,10325,null,null,null,null,null,null,0,12]
[11,10414,12,10420,null,null,null,null,null,null,0,11]
[11,10516,12,10521,null,null,null,null,null,null,0,11]
[11,10619,21,10629,null,null,null,null,null,null,0,12]
[11,10725,12,10734,null,null,null,null,null,null,0,11]
[22,10835,23,10840,null,null,null,null,null,null,0,22]
[11,10939,21,10952,null,null,null,null,null,null,0,12]
[11,11042,21,11055,null,null,null,null,null,null,0,12]
[11,11145,21,11161,null,null,null,null,null,null,1,12]

{"sheet":"!LB10B30.056","index":4,"n_rows":71,"n_cols":48,"rows_kept":71,"cut":false,"hidden":false,"merged":[[4,39,4,42],[5,39,5,40],[4,44,4,47],[5,44,5,45],[4,24,4,27],[5,24,5,25],[4,29,4,32],[5,29,5,30],[4,34,4,37],[5,34,5,35],[1,1,1,2],[5,13,5,14],[18,13,18,14],[19,13,19,14],[4,19,4,22],[5,19,5,20]]}
["Report for:!LB10B30.056"]
["Date:","<date>"]
["Hen:","<hen>",null,null,null,"Correct Sequence",{"$f":"Start!J2","v":12},null,null,null,null,null,null,null,null,"Total Sequences in Data",{"$f":"4994-COUNTBLANK(L7:L5000)","v":65},null,null,null,null,"Total Sequences in Block Data",{"$f":"COUNTA(L7:L17)","v":11},null,null,null,"Total Sequences in Block Data",{"$f":"COUNTA(L18:L28)","v":11},null,null,null,"Total Sequences in Block Data",{"$f":"COUNTA(L29:L38)","v":10},null,null,null,"Total Sequences in Block Data",{"$f":"COUNTA(L39:L49)","v":11},null,null,null,"Total Sequences in Block Data",{"$f":"COUNTA(L50:L60)","v":11},null,null,null,"Total Sequences in Block Data",{"$f":"COUNTA(L61:L71)","v":11}]
[null,null,null,null,null,null,null,null,null,null,null,null,null,null,null,"Total Sequences in Summary",{"$f":"SUM(O7:O14)","v":65},null,null,null,null,"Total Sequences in Block Summary",{"$f":"SUM(U7:U14)","v":11},null,null,null,"Total Sequences in Block Summary",{"$f":"SUM(Z7:Z14)","v":11},null,null,null,"Total Sequences in Block Summary",{"$f":"SUM(AE7:AE14)","v":10},null,null,null,"Total Sequences in Block Summary",{"$f":"SUM(AJ7:AJ14)","v":11},null,null,null,"Total Sequences in Block Summary",{"$f":"SUM(AO7:AO14)","v":11},null,null,null,"Total Sequences in Block Summary",{"$f":"SUM(AT7:AT14)","v":11}]
[null,null,null,null,null,null,null,null,null,null,null,null,null,null,null,null,null,null,null,"Block 1",null,null,null,null,"Block 2",null,null,null,null,"Block 3",null,null,null,null,"Block 4",null,null,null,null,"Block 5",null,null,null,null,"Block 6"]
["Sequence\nComponent\n1","Time\n1","Sequence\nComponent\n2","Time\n2","Sequence\nComponent\n3","Time\n3","Sequence\nComponent\n4","Time\n4","Sequence\nComponent\n5","Time\n5","Correct?\n0=No 1=Yes","Sequence",null,"Frequency",null,"Relative Frequency","Variability",null,null,"Frequency",null,"Relative Frequency","Variability",null,"Frequency",null,"Relative Frequency","Variability",null,"Frequency",null,"Relative Frequency","Variability",null,"Frequency",null,"Relative Frequency","Variability",null,"Frequency",null,"Relative Frequency","Variability",null,"Frequency",null,"Relative Frequency","Variability"]
[22,12,23,20,null,null,null,null,null,null,0,22,null,11,{"$f":"COUNTIF($L$7:$L$500,N7)","v":2},{"$f":"O7/$Q$4","v":3.0769230769230771E-2},{"$f":"IF(P7=0,0,(P7*((LOG(P7))/LOG(2))))","v":-0.15453439424702936},null,null,{"$f":"N7","v":11},{"$f":"COUNTIF(L7:L17,T7)","v":1},{"$f":"U7/(W4-U8)","v":0.14285714285714285},{"$f":"IF(V7=0,0,(V7*((LOG(V7))/LOG(2))))","v":-0.40105070315108626},null,{"$f":"N7","v":11},{"$f":"COUNTIF(L18:L28,Y7)","v":0},{"$f":"Z7/(AB4-Z8)","v":0},{"$f":"IF(AA7=0,0,(AA7*((LOG(AA7))/LOG(2))))","v":0},null,{"$f":"N7","v":11},{"$f":"COUNTIF(L29:L38,AD7)","v":0},{"$f":"AE7/(AG4-AE8)","v":0},{"$f":"IF(AF7=0,0,(AF7*((LOG(AF7))/LOG(2))))","v":0},null,{"$f":"N7","v":11},{"$f":"COUNTIF(L39:L49,AI7)","v":0},{"$f":"AJ7/(AL4-AJ8)","v":0},{"$f":"IF(AK7=0,0,(AK7*((LOG(AK7))/LOG(2))))","v":0},null,{"$f":"N7","v":11},{"$f":"COUNTIF(L50:L60,AN7)","v":0},{"$f":"AO7/(AQ4-AO8)","v":0},{"$f":"IF(AP7=0,0,(AP7*((LOG(AP7))/LOG(2))))","v":0},null,{"$f":"N7","v":11},{"$f":"COUNTIF(L61:L71,AS7)","v":1},{"$f":"AT7/(AV4-AT8)","v":1},{"$f":"IF(AU7=0,0,(AU7*((LOG(AU7))/LOG(2))))","v":0}]
[22,124,23,133,null,null,null,null,null,null,0,22,null,12,{"$f":"COUNTIF($L$7:$L$500,N8)","v":35},{"$f":"O8/$Q$4","v":0.53846153846153844},{"$f":"IF(P8=0,0,(P8*((LOG(P8))/LOG(2))))","v":-0.48089181327572433},null,null,{"$f":"N8","v":12},{"$f":"COUNTIF(L7:L17,T8)","v":4},null,null,null,{"$f":"N8","v":12},{"$f":"COUNTIF(L18:L28,Y8)","v":3},null,null,null,{"$f":"N8","v":12},{"$f":"COUNTIF(L29:L38,AD8)","v":4},null,null,null,{"$f":"N8","v":12},{"$f":"COUNTIF(L39:L49,AI8)","v":8},null,null,null,{"$f":"N8","v":12},{"$f":"COUNTIF(L50:L60,AN8)","v":6},null,null,null,{"$f":"N8","v":12},{"$f":"COUNTIF(L61:L71,AS8)","v":10}]
[11,235,21,246,null,null,null,null,null,null,0,12,null,21,{"$f":"COUNTIF($L$7:$L$500,N9)","v":5},{"$f":"O9/$Q$4","v":7.6923076923076927E-2},{"$f":"IF(P9=0,0,(P9*((LOG(P9))/LOG(2))))","v":-0.28464920908777636},null,null,{"$f":"N9","v":21},{"$f":"COUNTIF(L7:L17,T9)","v":0},{"$f":"U9/(W4-U8)","v":0},{"$f":"IF(V9=0,0,(V9*((LOG(V9))/LOG(2))))","v":0},null,{"$f":"N9","v":21},{"$f":"COUNTIF(L18:L28,Y9)","v":0},{"$f":"Z9/(AB4-Z8)","v":0},{"$f":"IF(AA9=0,0,(AA9*((LOG(AA9))/LOG(2))))","v":0},null,{"$f":"N9","v":21},{"$f":"COUNTIF(L29:L38,AD9)","v":1},{"$f":"AE9/(AG4-AE8)","v":0.16666666666666666},{"$f":"IF(AF9=0,0,(AF9*((LOG(AF9))/LOG(2))))","v":-0.43082708345352599},null,{"$f":"N9","v":21},{"$f":"COUNTIF(L39:L49,AI9)","v":2},{"$f":"AJ9/(AL4-AJ8)","v":0.66666666666666663},{"$f":"IF(AK9=0,0,(AK9*((LOG(AK9))/LOG(2))))","v":-0.38997500048077083},null,{"$f":"N9","v":21},{"$f":"COUNTIF(L50:L60,AN9)","v":2},{"$f":"AO9/(AQ4-AO8)","v":0.4},{"$f":"IF(AP9=0,0,(AP9*((LOG(AP9))/LOG(2))))","v":-0.52877123795494496},null,{"$f":"N9","v":21},{"$f":"COUNTIF(L61:L71,AS9)","v":0},{"$f":"AT9/(AV4-AT8)","v":0},{"$f":"IF(AU9=0,0,(AU9*((LOG(AU9))/LOG(2))))","v":0}]
[11,344,12,367,null,null,null,null,null,null,0,11,null,22,{"$f":"COUNTIF($L$7:$L$500,N10)","v":23},{"$f":"O10/$Q$4","v":0.35384615384615387},{"$f":"IF(P10=0,0,(P10*((LOG(P10))/LOG(2))))","v":-0.53034668785143324},null,null,{"$f":"N10","v":22},{"$f":"COUNTIF(L7:L17,T10)","v":6},{"$f":"U10/(W4-U8)","v":0.8571428571428571},{"$f":"IF(V10=0,0,(V10*((LOG(V10))/LOG(2))))","v":-0.19062207543124113},null,{"$f":"N10","v":22},{"$f":"COUNTIF(L18:L28,Y10)","v":8},{"$f":"Z10/(AB4-Z8)","v":1},{"$f":"IF(AA10=0,0,(AA10*((LOG(AA10))/LOG(2))))","v":0},null,{"$f":"N10","v":22},{"$f":"COUNTIF(L29:L38,AD10)","v":5},{"$f":"AE10/(AG4-AE8)","v":0.83333333333333337},{"$f":"IF(AF10=0,0,(AF10*((LOG(AF10))/LOG(2))))","v":-0.21919533819482812},null,{"$f":"N10","v":22},{"$f":"COUNTIF(L39:L49,AI10)","v":1},{"$f":"AJ10/(AL4-AJ8)","v":0.33333333333333331},{"$f":"IF(AK10=0,0,(AK10*((LOG(AK10))/LOG(2))))","v":-0.52832083357371862},null,{"$f":"N10","v":22},{"$f":"COUNTIF(L50:L60,AN10)","v":3},{"$f":"AO10/(AQ4-AO8)","v":0.6},{"$f":"IF(AP10=0,0,(AP10*((LOG(AP10))/LOG(2))))","v":-0.44217935649972373},null,{"$f":"N10","v":22},{"$f":"COUNTIF(L61:L71,AS10)","v":0},{"$f":"AT10/(AV4-AT8)","v":0},{"$f":"IF(AU10=0,0,(AU10*((LOG(AU10))/LOG(2))))","v":0}]
[22,474,23,499,null,null,null,null,null,null,0,22,null,null,null,null,null,null,null,{"$f":"N11","v":0},{"$f":"COUNTIF(L7:L17,T11)","v":0},{"$f":"U11/(W4-U8)","v":0},{"$f":"IF(V11=0,0,(V11*((LOG(V11))/LOG(2))))","v":0},null,{"$f":"N11","v":0},{"$f":"COUNTIF(L18:L28,Y11)","v":0},{"$f":"Z11/(AB4-Z8)","v":0},{"$f":"IF(AA11=0,0,(AA11*((LOG(AA11))/LOG(2))))","v":0},null,{"$f":"N11","v":0},{"$f":"COUNTIF(L29:L38,AD11)","v":0},{"$f":"AE11/(AG4-AE8)","v":0},{"$f":"IF(AF11=0,0,(AF11*((LOG(AF11))/LOG(2))))","v":0},null,{"$f":"N11","v":0},{"$f":"COUNTIF(L39:L49,AI11)","v":0},{"$f":"AJ11/(AL4-AJ8)","v":0},{"$f":"IF(AK11=0,0,(AK11*((LOG(AK11))/LOG(2))))","v":0},null,{"$f":"N11","v":0},{"$f":"COUNTIF(L50:L60,AN11)","v":0},{"$f":"AO11/(AQ4-AO8)","v":0},{"$f":"IF(AP11=0,0,(AP11*((LOG(AP11))/LOG(2))))","v":0},null,{"$f":"N11","v":0},{"$f":"COUNTIF(L61:L71,AS11)","v":0},{"$f":"AT11/(AV4-AT8)","v":0},{"$f":"IF(AU11=0,0,(AU11*((LOG(AU11))/LOG(2))))","v":0}]
[11,607,21,617,null,null,null,null,null,null,0,12,null,null,null,null,null,null,null,{"$f":"N12","v":0},{"$f":"COUNTIF(L7:L17,T12)","v":0},{"$f":"U12/(W4-U8)","v":0},{"$f":"IF(V12=0,0,(V12*((LOG(V12))/LOG(2))))","v":0},null,{"$f":"N12","v":0},{"$f":"COUNTIF(L18:L28,Y12)","v":0},{"$f":"Z12/(AB4-Z8)","v":0},{"$f":"IF(AA12=0,0,(AA12*((LOG(AA12))/LOG(2))))","v":0},null,{"$f":"N12","v":0},{"$f":"COUNTIF(L29:L38,AD12)","v":0},{"$f":"AE12/(AG4-AE8)","v":0},{"$f":"IF(AF12=0,0,(AF12*((LOG(AF12))/LOG(2))))","v":0},null,{"$f":"N12","v":0},{"$f":"COUNTIF(L39:L49,AI12)","v":0},{"$f":"AJ12/(AL4-AJ8)","v":0},{"$f":"IF(AK12=0,0,(AK12*((LOG(AK12))/LOG(2))))","v":0},null,{"$f":"N12","v":0},{"$f":"COUNTIF(L50:L60,AN12)","v":0},{"$f":"AO12/(AQ4-AO8)","v":0},{"$f":"IF(AP12=0,0,(AP12*((LOG(AP12))/LOG(2))))","v":0},null,{"$f":"N12","v":0},{"$f":"COUNTIF(L61:L71,AS12)","v":0},{"$f":"AT12/(AV4-AT8)","v":0},{"$f":"IF(AU12=0,0,(AU12*((LOG(AU12))/LOG(2))))","v":0}]
[22,714,23,720,null,null,null,null,null,null,0,22,null,null,null,null,null,null,null,{"$f":"N13","v":0},{"$f":"COUNTIF(L7:L17,T13)","v":0},{"$f":"U13/(W4-U8)","v":0},{"$f":"IF(V13=0,0,(V13*((LOG(V13))/LOG(2))))","v":0},null,{"$f":"N13","v":0},{"$f":"COUNTIF(L18:L28,Y13)","v":0},{"$f":"Z13/(AB4-Z8)","v":0},{"$f":"IF(AA13=0,0,(AA13*((LOG(AA13))/LOG(2))))","v":0},null,{"$f":"N13","v":0},{"$f":"COUNTIF(L29:L38,AD13)","v":0},{"$f":"AE13/(AG4-AE8)","v":0},{"$f":"IF(AF13=0,0,(AF13*((LOG(AF13))/LOG(2))))","v":0},null,{"$f":"N13","v":0},{"$f":"COUNTIF(L39:L49,AI13)","v":0},{"$f":"AJ13/(AL4-AJ8)","v":0},{"$f":"IF(AK13=0,0,(AK13*((LOG(AK13))/LOG(2))))","v":0},null,{"$f":"N13","v":0},{"$f":"COUNTIF(L50:L60,AN13)","v":0},{"$f":"AO13/(AQ4-AO8)","v":0},{"$f":"IF(AP13=0,0,(AP13*((LOG(AP13))/LOG(2))))","v":0},null,{"$f":"N13","v":0},{"$f":"COUNTIF(L61:L71,AS13)","v":0},{"$f":"AT13/(AV4-AT8)","v":0},{"$f":"IF(AU13=0,0,(AU13*((LOG(AU13))/LOG(2))))","v":0}]
[22,823,23,832,null,null,null,null,null,null,0,22,null,null,null,null,null,null,null,{"$f":"N14","v":0},{"$f":"COUNTIF(L7:L17,T14)","v":0},{"$f":"U14/(W4-U8)","v":0},{"$f":"IF(V14=0,0,(V14*((LOG(V14))/LOG(2))))","v":0},null,{"$f":"N14","v":0},{"$f":"COUNTIF(L18:L28,Y14)","v":0},{"$f":"Z14/(AB4-Z8)","v":0},{"$f":"IF(AA14=0,0,(AA14*((LOG(AA14))/LOG(2))))","v":0},null,{"$f":"N14","v":0},{"$f":"COUNTIF(L29:L38,AD14)","v":0},{"$f":"AE14/(AG4-AE8)","v":0},{"$f":"IF(AF14=0,0,(AF14*((LOG(AF14))/LOG(2))))","v":0},null,{"$f":"N14","v":0},{"$f":"COUNTIF(L39:L49,AI14)","v":0},{"$f":"AJ14/(AL4-AJ8)","v":0},{"$f":"IF(AK14=0,0,(AK14*((LOG(AK14))/LOG(2))))","v":0},null,{"$f":"N14","v":0},{"$f":"COUNTIF(L50:L60,AN14)","v":0},{"$f":"AO14/(AQ4-AO8)","v":0},{"$f":"IF(AP14=0,0,(AP14*((LOG(AP14))/LOG(2))))","v":0},null,{"$f":"N14","v":0},{"$f":"COUNTIF(L61:L71,AS14)","v":0},{"$f":"AT14/(AV4-AT8)","v":0},{"$f":"IF(AU14=0,0,(AU14*((LOG(AU14))/LOG(2))))","v":0}]
[11,934,21,951,null,null,null,null,null,null,0,12,null,null,null,{"$f":"SUM(P7:P14)","v":1},{"$f":"-SUM(Q7:Q14)","v":1.4504221044619632},null,null,null,null,{"$f":"SUM(V7:V14)","v":1},{"$f":"-SUM(W7:W14)","v":0.59167277858232736},null,null,null,{"$f":"SUM(AA7:AA14)","v":1},{"$f":"-SUM(AB7:AB14)","v":0},null,null,null,{"$f":"SUM(AF7:AF14)","v":1},{"$f":"-SUM(AG7:AG14)","v":0.65002242164835411},null,null,null,{"$f":"SUM(AK7:AK14)","v":1},{"$f":"-SUM(AL7:AL14)","v":0.91829583405448945},null,null,null,{"$f":"SUM(AP7:AP14)","v":1},{"$f":"-SUM(AQ7:AQ14)","v":0.97095059445466869},null,null,null,{"$f":"SUM(AU7:AU14)","v":1},{"$f":"-SUM(AV7:AV14)","v":0}]
[22,1048,23,1054,null,null,null,null,null,null,0,22,null,null,null,"U=",{"$f":"Q15/(LOG(Q4)/LOG(2))","v":0.24083917646547609},null,null,null,null,"U1=",{"$f":"W15/(LOG(W4)/LOG(2))","v":0.17103178897792257},null,null,null,"U2=",{"$f":"AB15/(LOG(AB4)/LOG(2))","v":0},null,null,null,"U3=",{"$f":"AG15/(LOG(AG4)/LOG(2))","v":0.1956762467702946},null,null,null,"U4=",{"$f":"AL15/(LOG(AL4)/LOG(2))","v":0.26544702577940094},null,null,null,"U5=",{"$f":"AQ15/(LOG(AQ4)/LOG(2))","v":0.28066766494928874},null,null,null,"U6=",{"$f":"AV15/(LOG(AV4)/LOG(2))","v":0}]
[11,1153,21,1164,null,null,null,null,null,null,0,12]
[11,1255,21,1267,null,null,null,null,null,null,0,12]
[22,1374,23,1384,null,null,null,null,null,null,0,22,null,"Total Target Seq"]
[22,1499,23,1510,null,null,null,null,null,null,0,22,null,{"$f":"COUNTIF(L7:L71,G3)","v":35},null,11,11,10,11,11,11]
[11,1614,21,1624,null,null,null,null,null,null,0,12,null,null,null,"% of reinforcement given in 6 equal intervals based on number of trials "]
[22,1722,23,1731,null,null,null,null,null,null,0,22,null,null,null,"%_1","%_2","%_3","%_4","%_5","%_6"]
[22,1853,23,1870,null,null,null,null,null,null,0,22,null,null,"target sequence",{"$f":"$G$3","v":12},{"$f":"$G$3","v":12},{"$f":"$G$3","v":12},{"$f":"$G$3","v":12},{"$f":"$G$3","v":12},{"$f":"$G$3","v":12}]
[22,1978,23,1985,null,null,null,null,null,null,0,22,null,null,"total reinforcement",{"$f":"U8","v":4},{"$f":"Z8","v":3},{"$f":"AE8","v":4},{"$f":"AJ8","v":8},{"$f":"AO8","v":6},{"$f":"AT8","v":10}]
[22,2092,23,2101,null,null,null,null,null,null,0,22,null,null,"% target"]
[22,2219,23,2228,null,null,null,null,null,null,0,22,null,null,"CCRF"]
[11,2327,21,2339,null,null,null,null,null,null,0,12,null,null,"% CCRf"]
[22,2447,23,2459,null,null,null,null,null,null,0,22,null,null,"average response rate",{"$f":"D17/P20","v":105.81818181818181},{"$f":"(D28-D17)/Q20","v":117.72727272727273},{"$f":"(D38-D28)/R20","v":125},{"$f":"(D49-D38)/S20","v":113.90909090909091},{"$f":"(D60-D49)/T20","v":112.90909090909091},{"$f":"(D71-D60)/U20","v":102}]
[22,2564,23,2573,null,null,null,null,null,null,0,22]
[22,2689,23,2703,null,null,null,null,null,null,0,22]
[11,2814,21,2829,null,null,null,null,null,null,0,12]
[11,2935,21,2950,null,null,null,null,null,null,0,12]
[11,3046,21,3076,null,null,null,null,null,null,0,12]
[22,3183,23,3213,null,null,null,null,null,null,0,22]
[22,3328,23,3337,null,null,null,null,null,null,0,22]
[22,3449,23,3464,null,null,null,null,null,null,0,22]
[11,3573,21,3593,null,null,null,null,null,null,0,12]
[22,3700,14,3709,null,null,null,null,null,null,0,21]
[11,3815,21,3827,null,null,null,null,null,null,0,12]
[11,3923,21,3937,null,null,null,null,null,null,0,12]
[22,4049,23,4059,null,null,null,null,null,null,0,22]
[11,4168,21,4179,null,null,null,null,null,null,0,12]
[22,4287,14,4297,null,null,null,null,null,null,0,21]
[11,4408,21,4432,null,null,null,null,null,null,0,12]
[22,4533,14,4546,null,null,null,null,null,null,0,21]
[11,4647,21,4659,null,null,null,null,null,null,0,12]
[11,4751,21,4762,null,null,null,null,null,null,0,12]
[11,4851,21,4862,null,null,null,null,null,null,0,12]
[11,4951,21,4962,null,null,null,null,null,null,0,12]
[11,5047,21,5057,null,null,null,null,null,null,0,12]
[11,5143,21,5154,null,null,null,null,null,null,0,12]
[22,5254,23,5269,null,null,null,null,null,null,0,22]
[11,5381,21,5406,null,null,null,null,null,null,0,12]
[22,5507,14,5522,null,null,null,null,null,null,0,21]
[11,5619,21,5630,null,null,null,null,null,null,0,12]
[11,5719,21,5728,null,null,null,null,null,null,0,12]
[22,5837,23,5858,null,null,null,null,null,null,0,22]
[22,5977,23,5986,null,null,null,null,null,null,0,22]
[11,6083,21,6094,null,null,null,null,null,null,0,12]
[22,6194,14,6204,null,null,null,null,null,null,0,21]
[11,6293,21,6303,null,null,null,null,null,null,0,12]
[11,6389,21,6414,null,null,null,null,null,null,0,12]
[11,6504,21,6514,null,null,null,null,null,null,0,12]
[11,6601,21,6611,null,null,null,null,null,null,0,12]
[11,6694,12,6707,null,null,null,null,null,null,0,11]
[11,6802,21,6813,null,null,null,null,null,null,0,12]
[11,6913,21,6922,null,null,null,null,null,null,0,12]
[11,7010,21,7020,null,null,null,null,null,null,0,12]
[11,7105,21,7124,null,null,null,null,null,null,0,12]
[11,7216,21,7225,null,null,null,null,null,null,0,12]
[11,7316,21,7326,null,null,null,null,null,null,1,12]

{"sheet":"!LB11B50.056","index":5,"n_rows":67,"n_cols":48,"rows_kept":67,"cut":false,"hidden":false,"merged":[[4,39,4,42],[5,39,5,40],[4,44,4,47],[5,44,5,45],[4,24,4,27],[5,24,5,25],[4,29,4,32],[5,29,5,30],[4,34,4,37],[5,34,5,35],[1,1,1,2],[5,13,5,14],[18,13,18,14],[19,13,19,14],[4,19,4,22],[5,19,5,20]]}
["Report for:!LB11B50.056"]
["Date:","<date>"]
["Hen:","<hen>",null,null,null,"Correct Sequence",{"$f":"Start!J2","v":12},null,null,null,null,null,null,null,null,"Total Sequences in Data",{"$f":"4994-COUNTBLANK(L7:L5000)","v":61},null,null,null,null,"Total Sequences in Block Data",{"$f":"COUNTA(L7:L16)","v":10},null,null,null,"Total Sequences in Block Data",{"$f":"COUNTA(L17:L26)","v":10},null,null,null,"Total Sequences in Block Data",{"$f":"COUNTA(L27:L37)","v":11},null,null,null,"Total Sequences in Block Data",{"$f":"COUNTA(L38:L47)","v":10},null,null,null,"Total Sequences in Block Data",{"$f":"COUNTA(L48:L57)","v":10},null,null,null,"Total Sequences in Block Data",{"$f":"COUNTA(L58:L67)","v":10}]
[null,null,null,null,null,null,null,null,null,null,null,null,null,null,null,"Total Sequences in Summary",{"$f":"SUM(O7:O14)","v":61},null,null,null,null,"Total Sequences in Block Summary",{"$f":"SUM(U7:U14)","v":10},null,null,null,"Total Sequences in Block Summary",{"$f":"SUM(Z7:Z14)","v":10},null,null,null,"Total Sequences in Block Summary",{"$f":"SUM(AE7:AE14)","v":11},null,null,null,"Total Sequences in Block Summary",{"$f":"SUM(AJ7:AJ14)","v":10},null,null,null,"Total Sequences in Block Summary",{"$f":"SUM(AO7:AO14)","v":10},null,null,null,"Total Sequences in Block Summary",{"$f":"SUM(AT7:AT14)","v":10}]
[null,null,null,null,null,null,null,null,null,null,null,null,null,null,null,null,null,null,null,"Block 1",null,null,null,null,"Block 2",null,null,null,null,"Block 3",null,null,null,null,"Block 4",null,null,null,null,"Block 5",null,null,null,null,"Block 6"]
["Sequence\nComponent\n1","Time\n1","Sequence\nComponent\n2","Time\n2","Sequence\nComponent\n3","Time\n3","Sequence\nComponent\n4","Time\n4","Sequence\nComponent\n5","Time\n5","Correct?\n0=No 1=Yes","Sequence",null,"Frequency",null,"Relative Frequency","Variability",null,null,"Frequency",null,"Relative Frequency","Variability",null,"Frequency",null,"Relative Frequency","Variability",null,"Frequency",null,"Relative Frequency","Variability",null,"Frequency",null,"Relative Frequency","Variability",null,"Frequency",null,"Relative Frequency","Variability",null,"Frequency",null,"Relative Frequency","Variability"]
[22,12,23,17,null,null,null,null,null,null,0,22,null,11,{"$f":"COUNTIF($L$7:$L$500,N7)","v":2},{"$f":"O7/$Q$4","v":3.2786885245901641E-2},{"$f":"IF(P7=0,0,(P7*((LOG(P7))/LOG(2))))","v":-0.16166351926435696},null,null,{"$f":"N7","v":11},{"$f":"COUNTIF(L7:L16,T7)","v":1},{"$f":"U7/(W4-U8)","v":0.2},{"$f":"IF(V7=0,0,(V7*((LOG(V7))/LOG(2))))","v":-0.46438561897747244},null,{"$f":"N7","v":11},{"$f":"COUNTIF(L17:L26,Y7)","v":1},{"$f":"Z7/(AB4-Z8)","v":0.2},{"$f":"IF(AA7=0,0,(AA7*((LOG(AA7))/LOG(2))))","v":-0.46438561897747244},null,{"$f":"N7","v":11},{"$f":"COUNTIF(L27:L37,AD7)","v":0},{"$f":"AE7/(AG4-AE8)","v":0},{"$f":"IF(AF7=0,0,(AF7*((LOG(AF7))/LOG(2))))","v":0},null,{"$f":"N7","v":11},{"$f":"COUNTIF(L38:L47,AI7)","v":0},{"$f":"AJ7/(AL4-AJ8)","v":0},{"$f":"IF(AK7=0,0,(AK7*((LOG(AK7))/LOG(2))))","v":0},null,{"$f":"N7","v":11},{"$f":"COUNTIF(L48:L57,AN7)","v":0},{"$f":"AO7/(AQ4-AO8)","v":0},{"$f":"IF(AP7=0,0,(AP7*((LOG(AP7))/LOG(2))))","v":0},null,{"$f":"N7","v":11},{"$f":"COUNTIF(L58:L67,AS7)","v":0},{"$f":"AT7/(AV4-AT8)","v":0},{"$f":"IF(AU7=0,0,(AU7*((LOG(AU7))/LOG(2))))","v":0}]
[22,126,14,141,null,null,null,null,null,null,0,21,null,12,{"$f":"COUNTIF($L$7:$L$500,N8)","v":39},{"$f":"O8/$Q$4","v":0.63934426229508201},{"$f":"IF(P8=0,0,(P8*((LOG(P8))/LOG(2))))","v":-0.41259130539876843},null,null,{"$f":"N8","v":12},{"$f":"COUNTIF(L7:L16,T8)","v":5},null,null,null,{"$f":"N8","v":12},{"$f":"COUNTIF(L17:L26,Y8)","v":5},null,null,null,{"$f":"N8","v":12},{"$f":"COUNTIF(L27:L37,AD8)","v":9},null,null,null,{"$f":"N8","v":12},{"$f":"COUNTIF(L38:L47,AI8)","v":5},null,null,null,{"$f":"N8","v":12},{"$f":"COUNTIF(L48:L57,AN8)","v":7},null,null,null,{"$f":"N8","v":12},{"$f":"COUNTIF(L58:L67,AS8)","v":8}]
[11,236,21,247,null,null,null,null,null,null,0,12,null,21,{"$f":"COUNTIF($L$7:$L$500,N9)","v":8},{"$f":"O9/$Q$4","v":0.13114754098360656},{"$f":"IF(P9=0,0,(P9*((LOG(P9))/LOG(2))))","v":-0.38435899509021459},null,null,{"$f":"N9","v":21},{"$f":"COUNTIF(L7:L16,T9)","v":2},{"$f":"U9/(W4-U8)","v":0.4},{"$f":"IF(V9=0,0,(V9*((LOG(V9))/LOG(2))))","v":-0.52877123795494496},null,{"$f":"N9","v":21},{"$f":"COUNTIF(L17:L26,Y9)","v":0},{"$f":"Z9/(AB4-Z8)","v":0},{"$f":"IF(AA9=0,0,(AA9*((LOG(AA9))/LOG(2))))","v":0},null,{"$f":"N9","v":21},{"$f":"COUNTIF(L27:L37,AD9)","v":0},{"$f":"AE9/(AG4-AE8)","v":0},{"$f":"IF(AF9=0,0,(AF9*((LOG(AF9))/LOG(2))))","v":0},null,{"$f":"N9","v":21},{"$f":"COUNTIF(L38:L47,AI9)","v":4},{"$f":"AJ9/(AL4-AJ8)","v":0.8},{"$f":"IF(AK9=0,0,(AK9*((LOG(AK9))/LOG(2))))","v":-0.25754247590988982},null,{"$f":"N9","v":21},{"$f":"COUNTIF(L48:L57,AN9)","v":1},{"$f":"AO9/(AQ4-AO8)","v":0.33333333333333331},{"$f":"IF(AP9=0,0,(AP9*((LOG(AP9))/LOG(2))))","v":-0.52832083357371862},null,{"$f":"N9","v":21},{"$f":"COUNTIF(L58:L67,AS9)","v":1},{"$f":"AT9/(AV4-AT8)","v":0.5},{"$f":"IF(AU9=0,0,(AU9*((LOG(AU9))/LOG(2))))","v":-0.5}]
[22,337,14,351,null,null,null,null,null,null,0,21,null,22,{"$f":"COUNTIF($L$7:$L$500,N10)","v":12},{"$f":"O10/$Q$4","v":0.19672131147540983},{"$f":"IF(P10=0,0,(P10*((LOG(P10))/LOG(2))))","v":-0.46146390232952067},null,null,{"$f":"N10","v":22},{"$f":"COUNTIF(L7:L16,T10)","v":2},{"$f":"U10/(W4-U8)","v":0.4},{"$f":"IF(V10=0,0,(V10*((LOG(V10))/LOG(2))))","v":-0.52877123795494496},null,{"$f":"N10","v":22},{"$f":"COUNTIF(L17:L26,Y10)","v":4},{"$f":"Z10/(AB4-Z8)","v":0.8},{"$f":"IF(AA10=0,0,(AA10*((LOG(AA10))/LOG(2))))","v":-0.25754247590988982},null,{"$f":"N10","v":22},{"$f":"COUNTIF(L27:L37,AD10)","v":2},{"$f":"AE10/(AG4-AE8)","v":1},{"$f":"IF(AF10=0,0,(AF10*((LOG(AF10))/LOG(2))))","v":0},null,{"$f":"N10","v":22},{"$f":"COUNTIF(L38:L47,AI10)","v":1},{"$f":"AJ10/(AL4-AJ8)","v":0.2},{"$f":"IF(AK10=0,0,(AK10*((LOG(AK10))/LOG(2))))","v":-0.46438561897747244},null,{"$f":"N10","v":22},{"$f":"COUNTIF(L48:L57,AN10)","v":2},{"$f":"AO10/(AQ4-AO8)","v":0.66666666666666663},{"$f":"IF(AP10=0,0,(AP10*((LOG(AP10))/LOG(2))))","v":-0.38997500048077083},null,{"$f":"N10","v":22},{"$f":"COUNTIF(L58:L67,AS10)","v":1},{"$f":"AT10/(AV4-AT8)","v":0.5},{"$f":"IF(AU10=0,0,(AU10*((LOG(AU10))/LOG(2))))","v":-0.5}]
[11,460,21,470,null,null,null,null,null,null,0,12,null,null,null,null,null,null,null,{"$f":"N11","v":0},{"$f":"COUNTIF(L7:L16,T11)","v":0},{"$f":"U11/(W4-U8)","v":0},{"$f":"IF(V11=0,0,(V11*((LOG(V11))/LOG(2))))","v":0},null,{"$f":"N11","v":0},{"$f":"COUNTIF(L17:L26,Y11)","v":0},{"$f":"Z11/(AB4-Z8)","v":0},{"$f":"IF(AA11=0,0,(AA11*((LOG(AA11))/LOG(2))))","v":0},null,{"$f":"N11","v":0},{"$f":"COUNTIF(L27:L37,AD11)","v":0},{"$f":"AE11/(AG4-AE8)","v":0},{"$f":"IF(AF11=0,0,(AF11*((LOG(AF11))/LOG(2))))","v":0},null,{"$f":"N11","v":0},{"$f":"COUNTIF(L38:L47,AI11)","v":0},{"$f":"AJ11/(AL4-AJ8)","v":0},{"$f":"IF(AK11=0,0,(AK11*((LOG(AK11))/LOG(2))))","v":0},null,{"$f":"N11","v":0},{"$f":"COUNTIF(L48:L57,AN11)","v":0},{"$f":"AO11/(AQ4-AO8)","v":0},{"$f":"IF(AP11=0,0,(AP11*((LOG(AP11))/LOG(2))))","v":0},null,{"$f":"N11","v":0},{"$f":"COUNTIF(L58:L67,AS11)","v":0},{"$f":"AT11/(AV4-AT8)","v":0},{"$f":"IF(AU11=0,0,(AU11*((LOG(AU11))/LOG(2))))","v":0}]
[11,563,21,574,null,null,null,null,null,null,0,12,null,null,null,null,null,null,null,{"$f":"N12","v":0},{"$f":"COUNTIF(L7:L16,T12)","v":0},{"$f":"U12/(W4-U8)","v":0},{"$f":"IF(V12=0,0,(V12*((LOG(V12))/LOG(2))))","v":0},null,{"$f":"N12","v":0},{"$f":"COUNTIF(L17:L26,Y12)","v":0},{"$f":"Z12/(AB4-Z8)","v":0},{"$f":"IF(AA12=0,0,(AA12*((LOG(AA12))/LOG(2))))","v":0},null,{"$f":"N12","v":0},{"$f":"COUNTIF(L27:L37,AD12)","v":0},{"$f":"AE12/(AG4-AE8)","v":0},{"$f":"IF(AF12=0,0,(AF12*((LOG(AF12))/LOG(2))))","v":0},null,{"$f":"N12","v":0},{"$f":"COUNTIF(L38:L47,AI12)","v":0},{"$f":"AJ12/(AL4-AJ8)","v":0},{"$f":"IF(AK12=0,0,(AK12*((LOG(AK12))/LOG(2))))","v":0},null,{"$f":"N12","v":0},{"$f":"COUNTIF(L48:L57,AN12)","v":0},{"$f":"AO12/(AQ4-AO8)","v":0},{"$f":"IF(AP12=0,0,(AP12*((LOG(AP12))/LOG(2))))","v":0},null,{"$f":"N12","v":0},{"$f":"COUNTIF(L58:L67,AS12)","v":0},{"$f":"AT12/(AV4-AT8)","v":0},{"$f":"IF(AU12=0,0,(AU12*((LOG(AU12))/LOG(2))))","v":0}]
[22,664,23,671,null,null,null,null,null,null,0,22,null,null,null,null,null,null,null,{"$f":"N13","v":0},{"$f":"COUNTIF(L7:L16,T13)","v":0},{"$f":"U13/(W4-U8)","v":0},{"$f":"IF(V13=0,0,(V13*((LOG(V13))/LOG(2))))","v":0},null,{"$f":"N13","v":0},{"$f":"COUNTIF(L17:L26,Y13)","v":0},{"$f":"Z13/(AB4-Z8)","v":0},{"$f":"IF(AA13=0,0,(AA13*((LOG(AA13))/LOG(2))))","v":0},null,{"$f":"N13","v":0},{"$f":"COUNTIF(L27:L37,AD13)","v":0},{"$f":"AE13/(AG4-AE8)","v":0},{"$f":"IF(AF13=0,0,(AF13*((LOG(AF13))/LOG(2))))","v":0},null,{"$f":"N13","v":0},{"$f":"COUNTIF(L38:L47,AI13)","v":0},{"$f":"AJ13/(AL4-AJ8)","v":0},{"$f":"IF(AK13=0,0,(AK13*((LOG(AK13))/LOG(2))))","v":0},null,{"$f":"N13","v":0},{"$f":"COUNTIF(L48:L57,AN13)","v":0},{"$f":"AO13/(AQ4-AO8)","v":0},{"$f":"IF(AP13=0,0,(AP13*((LOG(AP13))/LOG(2))))","v":0},null,{"$f":"N13","v":0},{"$f":"COUNTIF(L58:L67,AS13)","v":0},{"$f":"AT13/(AV4-AT8)","v":0},{"$f":"IF(AU13=0,0,(AU13*((LOG(AU13))/LOG(2))))","v":0}]
[11,775,21,792,null,null,null,null,null,null,0,12,null,null,null,null,null,null,null,{"$f":"N14","v":0},{"$f":"COUNTIF(L7:L16,T14)","v":0},{"$f":"U14/(W4-U8)","v":0},{"$f":"IF(V14=0,0,(V14*((LOG(V14))/LOG(2))))","v":0},null,{"$f":"N14","v":0},{"$f":"COUNTIF(L17:L26,Y14)","v":0},{"$f":"Z14/(AB4-Z8)","v":0},{"$f":"IF(AA14=0,0,(AA14*((LOG(AA14))/LOG(2))))","v":0},null,{"$f":"N14","v":0},{"$f":"COUNTIF(L27:L37,AD14)","v":0},{"$f":"AE14/(AG4-AE8)","v":0},{"$f":"IF(AF14=0,0,(AF14*((LOG(AF14))/LOG(2))))","v":0},null,{"$f":"N14","v":0},{"$f":"COUNTIF(L38:L47,AI14)","v":0},{"$f":"AJ14/(AL4-AJ8)","v":0},{"$f":"IF(AK14=0,0,(AK14*((LOG(AK14))/LOG(2))))","v":0},null,{"$f":"N14","v":0},{"$f":"COUNTIF(L48:L57,AN14)","v":0},{"$f":"AO14/(AQ4-AO8)","v":0},{"$f":"IF(AP14=0,0,(AP14*((LOG(AP14))/LOG(2))))","v":0},null,{"$f":"N14","v":0},{"$f":"COUNTIF(L58:L67,AS14)","v":0},{"$f":"AT14/(AV4-AT8)","v":0},{"$f":"IF(AU14=0,0,(AU14*((LOG(AU14))/LOG(2))))","v":0}]
[11,884,21,894,null,null,null,null,null,null,0,12,null,null,null,{"$f":"SUM(P7:P14)","v":1},{"$f":"-SUM(Q7:Q14)","v":1.4200777220828606},null,null,null,null,{"$f":"SUM(V7:V14)","v":1},{"$f":"-SUM(W7:W14)","v":1.5219280948873624},null,null,null,{"$f":"SUM(AA7:AA14)","v":1},{"$f":"-SUM(AB7:AB14)","v":0.72192809488736231},null,null,null,{"$f":"SUM(AF7:AF14)","v":1},{"$f":"-SUM(AG7:AG14)","v":0},null,null,null,{"$f":"SUM(AK7:AK14)","v":1},{"$f":"-SUM(AL7:AL14)","v":0.72192809488736231},null,null,null,{"$f":"SUM(AP7:AP14)","v":1},{"$f":"-SUM(AQ7:AQ14)","v":0.91829583405448945},null,null,null,{"$f":"SUM(AU7:AU14)","v":1},{"$f":"-SUM(AV7:AV14)","v":1}]
[11,982,12,989,null,null,null,null,null,null,0,11,null,null,null,"U=",{"$f":"Q15/(LOG(Q4)/LOG(2))","v":0.23944370510031929},null,null,null,null,"U1=",{"$f":"W15/(LOG(W4)/LOG(2))","v":0.45814600780483389},null,null,null,"U2=",{"$f":"AB15/(LOG(AB4)/LOG(2))","v":0.21732201127364889},null,null,null,"U3=",{"$f":"AG15/(LOG(AG4)/LOG(2))","v":0},null,null,null,"U4=",{"$f":"AL15/(LOG(AL4)/LOG(2))","v":0.21732201127364889},null,null,null,"U5=",{"$f":"AQ15/(LOG(AQ4)/LOG(2))","v":0.27643459094367495},null,null,null,"U6=",{"$f":"AV15/(LOG(AV4)/LOG(2))","v":0.3010299956639812}]
[11,1087,21,1106,null,null,null,null,null,null,0,12]
[11,1191,21,1201,null,null,null,null,null,null,0,12]
[11,1290,12,1294,null,null,null,null,null,null,0,11,null,"Total Target Seq"]
[22,1405,23,1421,null,null,null,null,null,null,0,22,null,{"$f":"COUNTIF(L7:L67,G3)","v":39},null,10,10,11,10,10,10]
[22,1519,23,1527,null,null,null,null,null,null,0,22,null,null,null,"% of reinforcement given in 6 equal intervals based on number of trials "]
[11,1623,21,1633,null,null,null,null,null,null,0,12,null,null,null,"%_1","%_2","%_3","%_4","%_5","%_6"]
[11,1720,21,1733,null,null,null,null,null,null,0,12,null,null,"target sequence",{"$f":"$G$3","v":12},{"$f":"$G$3","v":12},{"$f":"$G$3","v":12},{"$f":"$G$3","v":12},{"$f":"$G$3","v":12},{"$f":"$G$3","v":12}]
[11,1818,21,1828,null,null,null,null,null,null,0,12,null,null,"total reinforcement",{"$f":"U8","v":5},{"$f":"Z8","v":5},{"$f":"AE8","v":9},{"$f":"AJ8","v":5},{"$f":"AO8","v":7},{"$f":"AT8","v":8}]
[22,1933,23,1968,null,null,null,null,null,null,0,22,null,null,"% target"]
[22,2083,23,2096,null,null,null,null,null,null,0,22,null,null,"CCRF"]
[11,2192,21,2202,null,null,null,null,null,null,0,12,null,null,"% CCRf"]
[11,2293,21,2302,null,null,null,null,null,null,0,12,null,null,"average response rate",{"$f":"D16/P20","v":98.9},{"$f":"(D26-D16)/Q20","v":110.7},{"$f":"(D37-D26)/R20","v":110.81818181818181},{"$f":"(D47-D37)/S20","v":142.5},{"$f":"(D57-D47)/T20","v":110.8},{"$f":"(D67-D57)/U20","v":106.9}]
[11,2395,21,2404,null,null,null,null,null,null,0,12]
[22,2504,23,2514,null,null,null,null,null,null,0,22]
[11,2618,21,2628,null,null,null,null,null,null,0,12]
[11,2723,21,2736,null,null,null,null,null,null,0,12]
[11,2824,21,2835,null,null,null,null,null,null,0,12]
[22,2942,23,3012,null,null,null,null,null,null,0,22]
[11,3109,21,3119,null,null,null,null,null,null,0,12]
[11,3206,21,3216,null,null,null,null,null,null,0,12]
[11,3305,21,3315,null,null,null,null,null,null,0,12]
[22,3417,23,3430,null,null,null,null,null,null,0,22]
[22,3537,14,3649,null,null,null,null,null,null,0,21]
[22,3764,14,3828,null,null,null,null,null,null,0,21]
[11,3928,21,3937,null,null,null,null,null,null,0,12]
[22,4041,14,4106,null,null,null,null,null,null,0,21]
[11,4206,21,4228,null,null,null,null,null,null,0,12]
[11,4323,21,4333,null,null,null,null,null,null,0,12]
[11,4453,21,4464,null,null,null,null,null,null,0,12]
[11,4552,21,4561,null,null,null,null,null,null,0,12]
[22,4663,14,4740,null,null,null,null,null,null,0,21]
[11,4836,21,4846,null,null,null,null,null,null,0,12]
[22,4951,14,4976,null,null,null,null,null,null,0,21]
[11,5072,21,5091,null,null,null,null,null,null,0,12]
[11,5185,21,5200,null,null,null,null,null,null,0,12]
[11,5296,21,5306,null,null,null,null,null,null,0,12]
[11,5395,21,5406,null,null,null,null,null,null,0,12]
[11,5498,21,5506,null,null,null,null,null,null,0,12]
[22,5611,23,5624,null,null,null,null,null,null,0,22]
[11,5720,21,5730,null,null,null,null,null,null,0,12]
[22,5836,23,5848,null,null,null,null,null,null,0,22]
[11,5945,21,5955,null,null,null,null,null,null,0,12]
[22,6060,23,6077,null,null,null,null,null,null,0,22]
[11,6172,21,6182,null,null,null,null,null,null,0,12]
[11,6278,21,6289,null,null,null,null,null,null,0,12]
[11,6375,21,6385,null,null,null,null,null,null,0,12]
[11,6472,21,6482,null,null,null,null,null,null,0,12]
[11,6564,21,6582,null,null,null,null,null,null,0,12]
[11,6670,21,6680,null,null,null,null,null,null,0,12]
[22,6780,14,6800,null,null,null,null,null,null,0,21]
[11,6896,21,6917,null,null,null,null,null,null,1,12]

{"sheet":"!LB12C30.056","index":6,"n_rows":74,"n_cols":48,"rows_kept":74,"cut":false,"hidden":false,"merged":[[4,39,4,42],[5,39,5,40],[4,44,4,47],[5,44,5,45],[4,24,4,27],[5,24,5,25],[4,29,4,32],[5,29,5,30],[4,34,4,37],[5,34,5,35],[1,1,1,2],[5,13,5,14],[18,13,18,14],[19,13,19,14],[4,19,4,22],[5,19,5,20]]}
["Report for:!LB12C30.056"]
["Date:","<date>"]
["Hen:","<hen>",null,null,null,"Correct Sequence",{"$f":"Start!J2","v":12},null,null,null,null,null,null,null,null,"Total Sequences in Data",{"$f":"4994-COUNTBLANK(L7:L5000)","v":68},null,null,null,null,"Total Sequences in Block Data",{"$f":"COUNTA(L7:L17)","v":11},null,null,null,"Total Sequences in Block Data",{"$f":"COUNTA(L18:L29)","v":12},null,null,null,"Total Sequences in Block Data",{"$f":"COUNTA(L30:L40)","v":11},null,null,null,"Total Sequences in Block Data",{"$f":"COUNTA(L41:L51)","v":11},null,null,null,"Total Sequences in Block Data",{"$f":"COUNTA(L52:L63)","v":12},null,null,null,"Total Sequences in Block Data",{"$f":"COUNTA(L64:L74)","v":11}]
[null,null,null,null,null,null,null,null,null,null,null,null,null,null,null,"Total Sequences in Summary",{"$f":"SUM(O7:O14)","v":68},null,null,null,null,"Total Sequences in Block Summary",{"$f":"SUM(U7:U14)","v":11},null,null,null,"Total Sequences in Block Summary",{"$f":"SUM(Z7:Z14)","v":12},null,null,null,"Total Sequences in Block Summary",{"$f":"SUM(AE7:AE14)","v":11},null,null,null,"Total Sequences in Block Summary",{"$f":"SUM(AJ7:AJ14)","v":11},null,null,null,"Total Sequences in Block Summary",{"$f":"SUM(AO7:AO14)","v":12},null,null,null,"Total Sequences in Block Summary",{"$f":"SUM(AT7:AT14)","v":11}]
[null,null,null,null,null,null,null,null,null,null,null,null,null,null,null,null,null,null,null,"Block 1",null,null,null,null,"Block 2",null,null,null,null,"Block 3",null,null,null,null,"Block 4",null,null,null,null,"Block 5",null,null,null,null,"Block 6"]
["Sequence\nComponent\n1","Time\n1","Sequence\nComponent\n2","Time\n2","Sequence\nComponent\n3","Time\n3","Sequence\nComponent\n4","Time\n4","Sequence\nComponent\n5","Time\n5","Correct?\n0=No 1=Yes","Sequence",null,"Frequency",null,"Relative Frequency","Variability",null,null,"Frequency",null,"Relative Frequency","Variability",null,"Frequency",null,"Relative Frequency","Variability",null,"Frequency",null,"Relative Frequency","Variability",null,"Frequency",null,"Relative Frequency","Variability",null,"Frequency",null,"Relative Frequency","Variability",null,"Frequency",null,"Relative Frequency","Variability"]
[22,11,23,18,null,null,null,null,null,null,0,22,null,11,{"$f":"COUNTIF($L$7:$L$500,N7)","v":1},{"$f":"O7/$Q$4","v":1.4705882352941176E-2},{"$f":"IF(P7=0,0,(P7*((LOG(P7))/LOG(2))))","v":-8.9521512371328521E-2},null,null,{"$f":"N7","v":11},{"$f":"COUNTIF(L7:L17,T7)","v":0},{"$f":"U7/(W4-U8)","v":0},{"$f":"IF(V7=0,0,(V7*((LOG(V7))/LOG(2))))","v":0},null,{"$f":"N7","v":11},{"$f":"COUNTIF(L18:L29,Y7)","v":0},{"$f":"Z7/(AB4-Z8)","v":0},{"$f":"IF(AA7=0,0,(AA7*((LOG(AA7))/LOG(2))))","v":0},null,{"$f":"N7","v":11},{"$f":"COUNTIF(L30:L40,AD7)","v":0},{"$f":"AE7/(AG4-AE8)","v":0},{"$f":"IF(AF7=0,0,(AF7*((LOG(AF7))/LOG(2))))","v":0},null,{"$f":"N7","v":11},{"$f":"COUNTIF(L41:L51,AI7)","v":0},{"$f":"AJ7/(AL4-AJ8)","v":0},{"$f":"IF(AK7=0,0,(AK7*((LOG(AK7))/LOG(2))))","v":0},null,{"$f":"N7","v":11},{"$f":"COUNTIF(L52:L63,AN7)","v":1},{"$f":"AO7/(AQ4-AO8)","v":0.25},{"$f":"IF(AP7=0,0,(AP7*((LOG(AP7))/LOG(2))))","v":-0.5},null,{"$f":"N7","v":11},{"$f":"COUNTIF(L64:L74,AS7)","v":0},{"$f":"AT7/(AV4-AT8)","v":{"$error":"#DIV/0!"}},{"$f":"IF(AU7=0,0,(AU7*((LOG(AU7))/LOG(2))))","v":{"$error":"#DIV/0!"}}]
[11,118,21,169,null,null,null,null,null,null,0,12,null,12,{"$f":"COUNTIF($L$7:$L$500,N8)","v":37},{"$f":"O8/$Q$4","v":0.54411764705882348},{"$f":"IF(P8=0,0,(P8*((LOG(P8))/LOG(2))))","v":-0.47774044997046206},null,null,{"$f":"N8","v":12},{"$f":"COUNTIF(L7:L17,T8)","v":4},null,null,null,{"$f":"N8","v":12},{"$f":"COUNTIF(L18:L29,Y8)","v":4},null,null,null,{"$f":"N8","v":12},{"$f":"COUNTIF(L30:L40,AD8)","v":2},null,null,null,{"$f":"N8","v":12},{"$f":"COUNTIF(L41:L51,AI8)","v":8},null,null,null,{"$f":"N8","v":12},{"$f":"COUNTIF(L52:L63,AN8)","v":8},null,null,null,{"$f":"N8","v":12},{"$f":"COUNTIF(L64:L74,AS8)","v":11}]
[11,260,21,270,null,null,null,null,null,null,0,12,null,21,{"$f":"COUNTIF($L$7:$L$500,N9)","v":9},{"$f":"O9/$Q$4","v":0.13235294117647059},{"$f":"IF(P9=0,0,(P9*((LOG(P9))/LOG(2))))","v":-0.38614471409223888},null,null,{"$f":"N9","v":21},{"$f":"COUNTIF(L7:L17,T9)","v":2},{"$f":"U9/(W4-U8)","v":0.2857142857142857},{"$f":"IF(V9=0,0,(V9*((LOG(V9))/LOG(2))))","v":-0.51638712058788683},null,{"$f":"N9","v":21},{"$f":"COUNTIF(L18:L29,Y9)","v":5},{"$f":"Z9/(AB4-Z8)","v":0.625},{"$f":"IF(AA9=0,0,(AA9*((LOG(AA9))/LOG(2))))","v":-0.42379494069539858},null,{"$f":"N9","v":21},{"$f":"COUNTIF(L30:L40,AD9)","v":0},{"$f":"AE9/(AG4-AE8)","v":0},{"$f":"IF(AF9=0,0,(AF9*((LOG(AF9))/LOG(2))))","v":0},null,{"$f":"N9","v":21},{"$f":"COUNTIF(L41:L51,AI9)","v":0},{"$f":"AJ9/(AL4-AJ8)","v":0},{"$f":"IF(AK9=0,0,(AK9*((LOG(AK9))/LOG(2))))","v":0},null,{"$f":"N9","v":21},{"$f":"COUNTIF(L52:L63,AN9)","v":2},{"$f":"AO9/(AQ4-AO8)","v":0.5},{"$f":"IF(AP9=0,0,(AP9*((LOG(AP9))/LOG(2))))","v":-0.5},null,{"$f":"N9","v":21},{"$f":"COUNTIF(L64:L74,AS9)","v":0},{"$f":"AT9/(AV4-AT8)","v":{"$error":"#DIV/0!"}},{"$f":"IF(AU9=0,0,(AU9*((LOG(AU9))/LOG(2))))","v":{"$error":"#DIV/0!"}}]
[22,371,23,395,null,null,null,null,null,null,0,22,null,22,{"$f":"COUNTIF($L$7:$L$500,N10)","v":21},{"$f":"O10/$Q$4","v":0.30882352941176472},{"$f":"IF(P10=0,0,(P10*((LOG(P10))/LOG(2))))","v":-0.52350079099857583},null,null,{"$f":"N10","v":22},{"$f":"COUNTIF(L7:L17,T10)","v":5},{"$f":"U10/(W4-U8)","v":0.7142857142857143},{"$f":"IF(V10=0,0,(V10*((LOG(V10))/LOG(2))))","v":-0.34673344797874411},null,{"$f":"N10","v":22},{"$f":"COUNTIF(L18:L29,Y10)","v":3},{"$f":"Z10/(AB4-Z8)","v":0.375},{"$f":"IF(AA10=0,0,(AA10*((LOG(AA10))/LOG(2))))","v":-0.53063906222956647},null,{"$f":"N10","v":22},{"$f":"COUNTIF(L30:L40,AD10)","v":9},{"$f":"AE10/(AG4-AE8)","v":1},{"$f":"IF(AF10=0,0,(AF10*((LOG(AF10))/LOG(2))))","v":0},null,{"$f":"N10","v":22},{"$f":"COUNTIF(L41:L51,AI10)","v":3},{"$f":"AJ10/(AL4-AJ8)","v":1},{"$f":"IF(AK10=0,0,(AK10*((LOG(AK10))/LOG(2))))","v":0},null,{"$f":"N10","v":22},{"$f":"COUNTIF(L52:L63,AN10)","v":1},{"$f":"AO10/(AQ4-AO8)","v":0.25},{"$f":"IF(AP10=0,0,(AP10*((LOG(AP10))/LOG(2))))","v":-0.5},null,{"$f":"N10","v":22},{"$f":"COUNTIF(L64:L74,AS10)","v":0},{"$f":"AT10/(AV4-AT8)","v":{"$error":"#DIV/0!"}},{"$f":"IF(AU10=0,0,(AU10*((LOG(AU10))/LOG(2))))","v":{"$error":"#DIV/0!"}}]
[11,487,21,495,null,null,null,null,null,null,0,12,null,null,null,null,null,null,null,{"$f":"N11","v":0},{"$f":"COUNTIF(L7:L17,T11)","v":0},{"$f":"U11/(W4-U8)","v":0},{"$f":"IF(V11=0,0,(V11*((LOG(V11))/LOG(2))))","v":0},null,{"$f":"N11","v":0},{"$f":"COUNTIF(L18:L29,Y11)","v":0},{"$f":"Z11/(AB4-Z8)","v":0},{"$f":"IF(AA11=0,0,(AA11*((LOG(AA11))/LOG(2))))","v":0},null,{"$f":"N11","v":0},{"$f":"COUNTIF(L30:L40,AD11)","v":0},{"$f":"AE11/(AG4-AE8)","v":0},{"$f":"IF(AF11=0,0,(AF11*((LOG(AF11))/LOG(2))))","v":0},null,{"$f":"N11","v":0},{"$f":"COUNTIF(L41:L51,AI11)","v":0},{"$f":"AJ11/(AL4-AJ8)","v":0},{"$f":"IF(AK11=0,0,(AK11*((LOG(AK11))/LOG(2))))","v":0},null,{"$f":"N11","v":0},{"$f":"COUNTIF(L52:L63,AN11)","v":0},{"$f":"AO11/(AQ4-AO8)","v":0},{"$f":"IF(AP11=0,0,(AP11*((LOG(AP11))/LOG(2))))","v":0},null,{"$f":"N11","v":0},{"$f":"COUNTIF(L64:L74,AS11)","v":0},{"$f":"AT11/(AV4-AT8)","v":{"$error":"#DIV/0!"}},{"$f":"IF(AU11=0,0,(AU11*((LOG(AU11))/LOG(2))))","v":{"$error":"#DIV/0!"}}]
[22,596,23,609,null,null,null,null,null,null,0,22,null,null,null,null,null,null,null,{"$f":"N12","v":0},{"$f":"COUNTIF(L7:L17,T12)","v":0},{"$f":"U12/(W4-U8)","v":0},{"$f":"IF(V12=0,0,(V12*((LOG(V12))/LOG(2))))","v":0},null,{"$f":"N12","v":0},{"$f":"COUNTIF(L18:L29,Y12)","v":0},{"$f":"Z12/(AB4-Z8)","v":0},{"$f":"IF(AA12=0,0,(AA12*((LOG(AA12))/LOG(2))))","v":0},null,{"$f":"N12","v":0},{"$f":"COUNTIF(L30:L40,AD12)","v":0},{"$f":"AE12/(AG4-AE8)","v":0},{"$f":"IF(AF12=0,0,(AF12*((LOG(AF12))/LOG(2))))","v":0},null,{"$f":"N12","v":0},{"$f":"COUNTIF(L41:L51,AI12)","v":0},{"$f":"AJ12/(AL4-AJ8)","v":0},{"$f":"IF(AK12=0,0,(AK12*((LOG(AK12))/LOG(2))))","v":0},null,{"$f":"N12","v":0},{"$f":"COUNTIF(L52:L63,AN12)","v":0},{"$f":"AO12/(AQ4-AO8)","v":0},{"$f":"IF(AP12=0,0,(AP12*((LOG(AP12))/LOG(2))))","v":0},null,{"$f":"N12","v":0},{"$f":"COUNTIF(L64:L74,AS12)","v":0},{"$f":"AT12/(AV4-AT8)","v":{"$error":"#DIV/0!"}},{"$f":"IF(AU12=0,0,(AU12*((LOG(AU12))/LOG(2))))","v":{"$error":"#DIV/0!"}}]
[11,707,21,717,null,null,null,null,null,null,0,12,null,null,null,null,null,null,null,{"$f":"N13","v":0},{"$f":"COUNTIF(L7:L17,T13)","v":0},{"$f":"U13/(W4-U8)","v":0},{"$f":"IF(V13=0,0,(V13*((LOG(V13))/LOG(2))))","v":0},null,{"$f":"N13","v":0},{"$f":"COUNTIF(L18:L29,Y13)","v":0},{"$f":"Z13/(AB4-Z8)","v":0},{"$f":"IF(AA13=0,0,(AA13*((LOG(AA13))/LOG(2))))","v":0},null,{"$f":"N13","v":0},{"$f":"COUNTIF(L30:L40,AD13)","v":0},{"$f":"AE13/(AG4-AE8)","v":0},{"$f":"IF(AF13=0,0,(AF13*((LOG(AF13))/LOG(2))))","v":0},null,{"$f":"N13","v":0},{"$f":"COUNTIF(L41:L51,AI13)","v":0},{"$f":"AJ13/(AL4-AJ8)","v":0},{"$f":"IF(AK13=0,0,(AK13*((LOG(AK13))/LOG(2))))","v":0},null,{"$f":"N13","v":0},{"$f":"COUNTIF(L52:L63,AN13)","v":0},{"$f":"AO13/(AQ4-AO8)","v":0},{"$f":"IF(AP13=0,0,(AP13*((LOG(AP13))/LOG(2))))","v":0},null,{"$f":"N13","v":0},{"$f":"COUNTIF(L64:L74,AS13)","v":0},{"$f":"AT13/(AV4-AT8)","v":{"$error":"#DIV/0!"}},{"$f":"IF(AU13=0,0,(AU13*((LOG(AU13))/LOG(2))))","v":{"$error":"#DIV/0!"}}]
[22,817,23,827,null,null,null,null,null,null,0,22,null,null,null,null,null,null,null,{"$f":"N14","v":0},{"$f":"COUNTIF(L7:L17,T14)","v":0},{"$f":"U14/(W4-U8)","v":0},{"$f":"IF(V14=0,0,(V14*((LOG(V14))/LOG(2))))","v":0},null,{"$f":"N14","v":0},{"$f":"COUNTIF(L18:L29,Y14)","v":0},{"$f":"Z14/(AB4-Z8)","v":0},{"$f":"IF(AA14=0,0,(AA14*((LOG(AA14))/LOG(2))))","v":0},null,{"$f":"N14","v":0},{"$f":"COUNTIF(L30:L40,AD14)","v":0},{"$f":"AE14/(AG4-AE8)","v":0},{"$f":"IF(AF14=0,0,(AF14*((LOG(AF14))/LOG(2))))","v":0},null,{"$f":"N14","v":0},{"$f":"COUNTIF(L41:L51,AI14)","v":0},{"$f":"AJ14/(AL4-AJ8)","v":0},{"$f":"IF(AK14=0,0,(AK14*((LOG(AK14))/LOG(2))))","v":0},null,{"$f":"N14","v":0},{"$f":"COUNTIF(L52:L63,AN14)","v":0},{"$f":"AO14/(AQ4-AO8)","v":0},{"$f":"IF(AP14=0,0,(AP14*((LOG(AP14))/LOG(2))))","v":0},null,{"$f":"N14","v":0},{"$f":"COUNTIF(L64:L74,AS14)","v":0},{"$f":"AT14/(AV4-AT8)","v":{"$error":"#DIV/0!"}},{"$f":"IF(AU14=0,0,(AU14*((LOG(AU14))/LOG(2))))","v":{"$error":"#DIV/0!"}}]
[22,940,23,953,null,null,null,null,null,null,0,22,null,null,null,{"$f":"SUM(P7:P14)","v":0.99999999999999989},{"$f":"-SUM(Q7:Q14)","v":1.4769074674326053},null,null,null,null,{"$f":"SUM(V7:V14)","v":1},{"$f":"-SUM(W7:W14)","v":0.863120568566631},null,null,null,{"$f":"SUM(AA7:AA14)","v":1},{"$f":"-SUM(AB7:AB14)","v":0.95443400292496505},null,null,null,{"$f":"SUM(AF7:AF14)","v":1},{"$f":"-SUM(AG7:AG14)","v":0},null,null,null,{"$f":"SUM(AK7:AK14)","v":1},{"$f":"-SUM(AL7:AL14)","v":0},null,null,null,{"$f":"SUM(AP7:AP14)","v":1},{"$f":"-SUM(AQ7:AQ14)","v":1.5},null,null,null,{"$f":"SUM(AU7:AU14)","v":{"$error":"#DIV/0!"}},{"$f":"-SUM(AV7:AV14)","v":{"$error":"#DIV/0!"}}]
[22,1064,14,1078,null,null,null,null,null,null,0,21,null,null,null,"U=",{"$f":"Q15/(LOG(Q4)/LOG(2))","v":0.24261461727941397},null,null,null,null,"U1=",{"$f":"W15/(LOG(W4)/LOG(2))","v":0.24949779724410978},null,null,null,"U2=",{"$f":"AB15/(LOG(AB4)/LOG(2))","v":0.26623263220548882},null,null,null,"U3=",{"$f":"AG15/(LOG(AG4)/LOG(2))","v":0},null,null,null,"U4=",{"$f":"AL15/(LOG(AL4)/LOG(2))","v":0},null,null,null,"U5=",{"$f":"AQ15/(LOG(AQ4)/LOG(2))","v":0.41841441847669475},null,null,null,"U6=",{"$f":"AV15/(LOG(AV4)/LOG(2))","v":{"$error":"#DIV/0!"}}]
[22,1193,14,1210,null,null,null,null,null,null,0,21]
[11,1308,21,1319,null,null,null,null,null,null,0,12]
[22,1420,14,1435,null,null,null,null,null,null,0,21,null,"Total Target Seq"]
[22,1542,14,1557,null,null,null,null,null,null,0,21,null,{"$f":"COUNTIF(L7:L74,G3)","v":37},null,11,12,11,11,12,11]
[22,1677,14,1692,null,null,null,null,null,null,0,21,null,null,null,"% of reinforcement given in 6 equal intervals based on number of trials "]
[11,1791,21,1801,null,null,null,null,null,null,0,12,null,null,null,"%_1","%_2","%_3","%_4","%_5","%_6"]
[11,1887,21,1901,null,null,null,null,null,null,0,12,null,null,"target sequence",{"$f":"$G$3","v":12},{"$f":"$G$3","v":12},{"$f":"$G$3","v":12},{"$f":"$G$3","v":12},{"$f":"$G$3","v":12},{"$f":"$G$3","v":12}]
[22,2000,14,2015,null,null,null,null,null,null,0,21,null,null,"total reinforcement",{"$f":"U8","v":4},{"$f":"Z8","v":4},{"$f":"AE8","v":2},{"$f":"AJ8","v":8},{"$f":"AO8","v":8},{"$f":"AT8","v":11}]
[22,2128,14,2141,null,null,null,null,null,null,0,21,null,null,"% target"]
[22,2259,23,2268,null,null,null,null,null,null,0,22,null,null,"CCRF"]
[22,2368,23,2389,null,null,null,null,null,null,0,22,null,null,"% CCRf"]
[11,2486,21,2495,null,null,null,null,null,null,0,12,null,null,"average response rate",{"$f":"D17/P20","v":110},{"$f":"(D29-D17)/Q20","v":117.58333333333333},{"$f":"(D40-D29)/R20","v":124.63636363636364},{"$f":"(D51-D40)/S20","v":111.36363636363636},{"$f":"(D63-D51)/T20","v":111.5},{"$f":"(D74-D63)/U20","v":100.36363636363636}]
[22,2596,23,2621,null,null,null,null,null,null,0,22]
[22,2732,23,2745,null,null,null,null,null,null,0,22]
[22,2861,23,2892,null,null,null,null,null,null,0,22]
[22,3004,23,3013,null,null,null,null,null,null,0,22]
[22,3125,23,3142,null,null,null,null,null,null,0,22]
[22,3255,23,3272,null,null,null,null,null,null,0,22]
[22,3371,23,3381,null,null,null,null,null,null,0,22]
[11,3478,21,3488,null,null,null,null,null,null,0,12]
[11,3603,21,3613,null,null,null,null,null,null,0,12]
[22,3721,23,3733,null,null,null,null,null,null,0,22]
[22,3857,23,3866,null,null,null,null,null,null,0,22]
[22,3984,23,3992,null,null,null,null,null,null,0,22]
[22,4104,23,4113,null,null,null,null,null,null,0,22]
[11,4210,21,4220,null,null,null,null,null,null,0,12]
[11,4311,21,4322,null,null,null,null,null,null,0,12]
[22,4432,23,4450,null,null,null,null,null,null,0,22]
[11,4550,21,4561,null,null,null,null,null,null,0,12]
[11,4658,21,4669,null,null,null,null,null,null,0,12]
[22,4773,23,4787,null,null,null,null,null,null,0,22]
[11,4882,21,4891,null,null,null,null,null,null,0,12]
[11,4980,21,4990,null,null,null,null,null,null,0,12]
[11,5075,21,5089,null,null,null,null,null,null,0,12]
[11,5205,21,5217,null,null,null,null,null,null,0,12]
[11,5304,21,5319,null,null,null,null,null,null,0,12]
[22,5435,14,5472,null,null,null,null,null,null,0,21]
[11,5568,21,5578,null,null,null,null,null,null,0,12]
[11,5667,21,5676,null,null,null,null,null,null,0,12]
[11,5770,21,5779,null,null,null,null,null,null,0,12]
[11,5864,21,5874,null,null,null,null,null,null,0,12]
[22,5988,14,6011,null,null,null,null,null,null,0,21]
[22,6117,23,6136,null,null,null,null,null,null,0,22]
[11,6228,21,6243,null,null,null,null,null,null,0,12]
[11,6337,21,6347,null,null,null,null,null,null,0,12]
[11,6432,21,6442,null,null,null,null,null,null,0,12]
[11,6527,12,6555,null,null,null,null,null,null,0,11]
[11,6651,21,6660,null,null,null,null,null,null,0,12]
[11,6755,21,6765,null,null,null,null,null,null,0,12]
[11,6853,21,6862,null,null,null,null,null,null,0,12]
[11,6948,21,6958,null,null,null,null,null,null,0,12]
[11,7043,21,7052,null,null,null,null,null,null,0,12]
[11,7137,21,7148,null,null,null,null,null,null,0,12]
[11,7236,21,7244,null,null,null,null,null,null,0,12]
[11,7329,21,7339,null,null,null,null,null,null,0,12]
[11,7427,21,7436,null,null,null,null,null,null,0,12]
[11,7521,21,7556,null,null,null,null,null,null,0,12]
[11,7641,21,7659,null,null,null,null,null,null,1,12]

{"sheet":"!LB13C10.056","index":7,"n_rows":83,"n_cols":48,"rows_kept":83,"cut":false,"hidden":false,"merged":[[4,39,4,42],[5,39,5,40],[4,44,4,47],[5,44,5,45],[4,24,4,27],[5,24,5,25],[4,29,4,32],[5,29,5,30],[4,34,4,37],[5,34,5,35],[1,1,1,2],[5,13,5,14],[18,13,18,14],[19,13,19,14],[4,19,4,22],[5,19,5,20]]}
["Report for:!LB13C10.056"]
["Date:","<date>"]
["Hen:","<hen>",null,null,null,"Correct Sequence",{"$f":"Start!J2","v":12},null,null,null,null,null,null,null,null,"Total Sequences in Data",{"$f":"4994-COUNTBLANK(L7:L5000)","v":77},null,null,null,null,"Total Sequences in Block Data",{"$f":"COUNTA(L7:L19)","v":13},null,null,null,"Total Sequences in Block Data",{"$f":"COUNTA(L20:L32)","v":13},null,null,null,"Total Sequences in Block Data",{"$f":"COUNTA(L33:L44)","v":12},null,null,null,"Total Sequences in Block Data",{"$f":"COUNTA(L45:L57)","v":13},null,null,null,"Total Sequences in Block Data",{"$f":"COUNTA(L58:L70)","v":13},null,null,null,"Total Sequences in Block Data",{"$f":"COUNTA(L71:L83)","v":13}]
[null,null,null,null,null,null,null,null,null,null,null,null,null,null,null,"Total Sequences in Summary",{"$f":"SUM(O7:O14)","v":77},null,null,null,null,"Total Sequences in Block Summary",{"$f":"SUM(U7:U14)","v":13},null,null,null,"Total Sequences in Block Summary",{"$f":"SUM(Z7:Z14)","v":13},null,null,null,"Total Sequences in Block Summary",{"$f":"SUM(AE7:AE14)","v":12},null,null,null,"Total Sequences in Block Summary",{"$f":"SUM(AJ7:AJ14)","v":13},null,null,null,"Total Sequences in Block Summary",{"$f":"SUM(AO7:AO14)","v":13},null,null,null,"Total Sequences in Block Summary",{"$f":"SUM(AT7:AT14)","v":13}]
[null,null,null,null,null,null,null,null,null,null,null,null,null,null,null,null,null,null,null,"Block 1",null,null,null,null,"Block 2",null,null,null,null,"Block 3",null,null,null,null,"Block 4",null,null,null,null,"Block 5",null,null,null,null,"Block 6"]
["Sequence\nComponent\n1","Time\n1","Sequence\nComponent\n2","Time\n2","Sequence\nComponent\n3","Time\n3","Sequence\nComponent\n4","Time\n4","Sequence\nComponent\n5","Time\n5","Correct?\n0=No 1=Yes","Sequence",null,"Frequency",null,"Relative Frequency","Variability",null,null,"Frequency",null,"Relative Frequency","Variability",null,"Frequency",null,"Relative Frequency","Variability",null,"Frequency",null,"Relative Frequency","Variability",null,"Frequency",null,"Relative Frequency","Variability",null,"Frequency",null,"Relative Frequency","Variability",null,"Frequency",null,"Relative Frequency","Variability"]
[11,12,21,27,null,null,null,null,null,null,0,12,null,11,{"$f":"COUNTIF($L$7:$L$500,N7)","v":2},{"$f":"O7/$Q$4","v":2.5974025974025976E-2},{"$f":"IF(P7=0,0,(P7*((LOG(P7))/LOG(2))))","v":-0.13679965040765979},null,null,{"$f":"N7","v":11},{"$f":"COUNTIF(L7:L19,T7)","v":1},{"$f":"U7/(W4-U8)","v":0.14285714285714285},{"$f":"IF(V7=0,0,(V7*((LOG(V7))/LOG(2))))","v":-0.40105070315108626},null,{"$f":"N7","v":11},{"$f":"COUNTIF(L20:L32,Y7)","v":0},{"$f":"Z7/(AB4-Z8)","v":0},{"$f":"IF(AA7=0,0,(AA7*((LOG(AA7))/LOG(2))))","v":0},null,{"$f":"N7","v":11},{"$f":"COUNTIF(L33:L44,AD7)","v":0},{"$f":"AE7/(AG4-AE8)","v":0},{"$f":"IF(AF7=0,0,(AF7*((LOG(AF7))/LOG(2))))","v":0},null,{"$f":"N7","v":11},{"$f":"COUNTIF(L45:L57,AI7)","v":1},{"$f":"AJ7/(AL4-AJ8)","v":0.14285714285714285},{"$f":"IF(AK7=0,0,(AK7*((LOG(AK7))/LOG(2))))","v":-0.40105070315108626},null,{"$f":"N7","v":11},{"$f":"COUNTIF(L58:L70,AN7)","v":0},{"$f":"AO7/(AQ4-AO8)","v":0},{"$f":"IF(AP7=0,0,(AP7*((LOG(AP7))/LOG(2))))","v":0},null,{"$f":"N7","v":11},{"$f":"COUNTIF(L71:L83,AS7)","v":0},{"$f":"AT7/(AV4-AT8)","v":0},{"$f":"IF(AU7=0,0,(AU7*((LOG(AU7))/LOG(2))))","v":0}]
[22,119,23,140,null,null,null,null,null,null,0,22,null,12,{"$f":"COUNTIF($L$7:$L$500,N8)","v":32},{"$f":"O8/$Q$4","v":0.41558441558441561},{"$f":"IF(P8=0,0,(P8*((LOG(P8))/LOG(2))))","v":-0.52645674418489408},null,null,{"$f":"N8","v":12},{"$f":"COUNTIF(L7:L19,T8)","v":6},null,null,null,{"$f":"N8","v":12},{"$f":"COUNTIF(L20:L32,Y8)","v":3},null,null,null,{"$f":"N8","v":12},{"$f":"COUNTIF(L33:L44,AD8)","v":6},null,null,null,{"$f":"N8","v":12},{"$f":"COUNTIF(L45:L57,AI8)","v":6},null,null,null,{"$f":"N8","v":12},{"$f":"COUNTIF(L58:L70,AN8)","v":5},null,null,null,{"$f":"N8","v":12},{"$f":"COUNTIF(L71:L83,AS8)","v":6}]
[11,242,21,252,null,null,null,null,null,null,0,12,null,21,{"$f":"COUNTIF($L$7:$L$500,N9)","v":8},{"$f":"O9/$Q$4","v":0.1038961038961039},{"$f":"IF(P9=0,0,(P9*((LOG(P9))/LOG(2))))","v":-0.33940639383843135},null,null,{"$f":"N9","v":21},{"$f":"COUNTIF(L7:L19,T9)","v":4},{"$f":"U9/(W4-U8)","v":0.5714285714285714},{"$f":"IF(V9=0,0,(V9*((LOG(V9))/LOG(2))))","v":-0.46134566974720237},null,{"$f":"N9","v":21},{"$f":"COUNTIF(L20:L32,Y9)","v":4},{"$f":"Z9/(AB4-Z8)","v":0.4},{"$f":"IF(AA9=0,0,(AA9*((LOG(AA9))/LOG(2))))","v":-0.52877123795494496},null,{"$f":"N9","v":21},{"$f":"COUNTIF(L33:L44,AD9)","v":0},{"$f":"AE9/(AG4-AE8)","v":0},{"$f":"IF(AF9=0,0,(AF9*((LOG(AF9))/LOG(2))))","v":0},null,{"$f":"N9","v":21},{"$f":"COUNTIF(L45:L57,AI9)","v":0},{"$f":"AJ9/(AL4-AJ8)","v":0},{"$f":"IF(AK9=0,0,(AK9*((LOG(AK9))/LOG(2))))","v":0},null,{"$f":"N9","v":21},{"$f":"COUNTIF(L58:L70,AN9)","v":0},{"$f":"AO9/(AQ4-AO8)","v":0},{"$f":"IF(AP9=0,0,(AP9*((LOG(AP9))/LOG(2))))","v":0},null,{"$f":"N9","v":21},{"$f":"COUNTIF(L71:L83,AS9)","v":0},{"$f":"AT9/(AV4-AT8)","v":0},{"$f":"IF(AU9=0,0,(AU9*((LOG(AU9))/LOG(2))))","v":0}]
[11,341,12,352,null,null,null,null,null,null,0,11,null,22,{"$f":"COUNTIF($L$7:$L$500,N10)","v":35},{"$f":"O10/$Q$4","v":0.45454545454545453},{"$f":"IF(P10=0,0,(P10*((LOG(P10))/LOG(2))))","v":-0.51704705624997038},null,null,{"$f":"N10","v":22},{"$f":"COUNTIF(L7:L19,T10)","v":2},{"$f":"U10/(W4-U8)","v":0.2857142857142857},{"$f":"IF(V10=0,0,(V10*((LOG(V10))/LOG(2))))","v":-0.51638712058788683},null,{"$f":"N10","v":22},{"$f":"COUNTIF(L20:L32,Y10)","v":6},{"$f":"Z10/(AB4-Z8)","v":0.6},{"$f":"IF(AA10=0,0,(AA10*((LOG(AA10))/LOG(2))))","v":-0.44217935649972373},null,{"$f":"N10","v":22},{"$f":"COUNTIF(L33:L44,AD10)","v":6},{"$f":"AE10/(AG4-AE8)","v":1},{"$f":"IF(AF10=0,0,(AF10*((LOG(AF10))/LOG(2))))","v":0},null,{"$f":"N10","v":22},{"$f":"COUNTIF(L45:L57,AI10)","v":6},{"$f":"AJ10/(AL4-AJ8)","v":0.8571428571428571},{"$f":"IF(AK10=0,0,(AK10*((LOG(AK10))/LOG(2))))","v":-0.19062207543124113},null,{"$f":"N10","v":22},{"$f":"COUNTIF(L58:L70,AN10)","v":8},{"$f":"AO10/(AQ4-AO8)","v":1},{"$f":"IF(AP10=0,0,(AP10*((LOG(AP10))/LOG(2))))","v":0},null,{"$f":"N10","v":22},{"$f":"COUNTIF(L71:L83,AS10)","v":7},{"$f":"AT10/(AV4-AT8)","v":1},{"$f":"IF(AU10=0,0,(AU10*((LOG(AU10))/LOG(2))))","v":0}]
[22,453,23,459,null,null,null,null,null,null,0,22,null,null,null,null,null,null,null,{"$f":"N11","v":0},{"$f":"COUNTIF(L7:L19,T11)","v":0},{"$f":"U11/(W4-U8)","v":0},{"$f":"IF(V11=0,0,(V11*((LOG(V11))/LOG(2))))","v":0},null,{"$f":"N11","v":0},{"$f":"COUNTIF(L20:L32,Y11)","v":0},{"$f":"Z11/(AB4-Z8)","v":0},{"$f":"IF(AA11=0,0,(AA11*((LOG(AA11))/LOG(2))))","v":0},null,{"$f":"N11","v":0},{"$f":"COUNTIF(L33:L44,AD11)","v":0},{"$f":"AE11/(AG4-AE8)","v":0},{"$f":"IF(AF11=0,0,(AF11*((LOG(AF11))/LOG(2))))","v":0},null,{"$f":"N11","v":0},{"$f":"COUNTIF(L45:L57,AI11)","v":0},{"$f":"AJ11/(AL4-AJ8)","v":0},{"$f":"IF(AK11=0,0,(AK11*((LOG(AK11))/LOG(2))))","v":0},null,{"$f":"N11","v":0},{"$f":"COUNTIF(L58:L70,AN11)","v":0},{"$f":"AO11/(AQ4-AO8)","v":0},{"$f":"IF(AP11=0,0,(AP11*((LOG(AP11))/LOG(2))))","v":0},null,{"$f":"N11","v":0},{"$f":"COUNTIF(L71:L83,AS11)","v":0},{"$f":"AT11/(AV4-AT8)","v":0},{"$f":"IF(AU11=0,0,(AU11*((LOG(AU11))/LOG(2))))","v":0}]
[11,557,21,568,null,null,null,null,null,null,0,12,null,null,null,null,null,null,null,{"$f":"N12","v":0},{"$f":"COUNTIF(L7:L19,T12)","v":0},{"$f":"U12/(W4-U8)","v":0},{"$f":"IF(V12=0,0,(V12*((LOG(V12))/LOG(2))))","v":0},null,{"$f":"N12","v":0},{"$f":"COUNTIF(L20:L32,Y12)","v":0},{"$f":"Z12/(AB4-Z8)","v":0},{"$f":"IF(AA12=0,0,(AA12*((LOG(AA12))/LOG(2))))","v":0},null,{"$f":"N12","v":0},{"$f":"COUNTIF(L33:L44,AD12)","v":0},{"$f":"AE12/(AG4-AE8)","v":0},{"$f":"IF(AF12=0,0,(AF12*((LOG(AF12))/LOG(2))))","v":0},null,{"$f":"N12","v":0},{"$f":"COUNTIF(L45:L57,AI12)","v":0},{"$f":"AJ12/(AL4-AJ8)","v":0},{"$f":"IF(AK12=0,0,(AK12*((LOG(AK12))/LOG(2))))","v":0},null,{"$f":"N12","v":0},{"$f":"COUNTIF(L58:L70,AN12)","v":0},{"$f":"AO12/(AQ4-AO8)","v":0},{"$f":"IF(AP12=0,0,(AP12*((LOG(AP12))/LOG(2))))","v":0},null,{"$f":"N12","v":0},{"$f":"COUNTIF(L71:L83,AS12)","v":0},{"$f":"AT12/(AV4-AT8)","v":0},{"$f":"IF(AU12=0,0,(AU12*((LOG(AU12))/LOG(2))))","v":0}]
[11,655,21,667,null,null,null,null,null,null,0,12,null,null,null,null,null,null,null,{"$f":"N13","v":0},{"$f":"COUNTIF(L7:L19,T13)","v":0},{"$f":"U13/(W4-U8)","v":0},{"$f":"IF(V13=0,0,(V13*((LOG(V13))/LOG(2))))","v":0},null,{"$f":"N13","v":0},{"$f":"COUNTIF(L20:L32,Y13)","v":0},{"$f":"Z13/(AB4-Z8)","v":0},{"$f":"IF(AA13=0,0,(AA13*((LOG(AA13))/LOG(2))))","v":0},null,{"$f":"N13","v":0},{"$f":"COUNTIF(L33:L44,AD13)","v":0},{"$f":"AE13/(AG4-AE8)","v":0},{"$f":"IF(AF13=0,0,(AF13*((LOG(AF13))/LOG(2))))","v":0},null,{"$f":"N13","v":0},{"$f":"COUNTIF(L45:L57,AI13)","v":0},{"$f":"AJ13/(AL4-AJ8)","v":0},{"$f":"IF(AK13=0,0,(AK13*((LOG(AK13))/LOG(2))))","v":0},null,{"$f":"N13","v":0},{"$f":"COUNTIF(L58:L70,AN13)","v":0},{"$f":"AO13/(AQ4-AO8)","v":0},{"$f":"IF(AP13=0,0,(AP13*((LOG(AP13))/LOG(2))))","v":0},null,{"$f":"N13","v":0},{"$f":"COUNTIF(L71:L83,AS13)","v":0},{"$f":"AT13/(AV4-AT8)","v":0},{"$f":"IF(AU13=0,0,(AU13*((LOG(AU13))/LOG(2))))","v":0}]
[22,769,14,806,null,null,null,null,null,null,0,21,null,null,null,null,null,null,null,{"$f":"N14","v":0},{"$f":"COUNTIF(L7:L19,T14)","v":0},{"$f":"U14/(W4-U8)","v":0},{"$f":"IF(V14=0,0,(V14*((LOG(V14))/LOG(2))))","v":0},null,{"$f":"N14","v":0},{"$f":"COUNTIF(L20:L32,Y14)","v":0},{"$f":"Z14/(AB4-Z8)","v":0},{"$f":"IF(AA14=0,0,(AA14*((LOG(AA14))/LOG(2))))","v":0},null,{"$f":"N14","v":0},{"$f":"COUNTIF(L33:L44,AD14)","v":0},{"$f":"AE14/(AG4-AE8)","v":0},{"$f":"IF(AF14=0,0,(AF14*((LOG(AF14))/LOG(2))))","v":0},null,{"$f":"N14","v":0},{"$f":"COUNTIF(L45:L57,AI14)","v":0},{"$f":"AJ14/(AL4-AJ8)","v":0},{"$f":"IF(AK14=0,0,(AK14*((LOG(AK14))/LOG(2))))","v":0},null,{"$f":"N14","v":0},{"$f":"COUNTIF(L58:L70,AN14)","v":0},{"$f":"AO14/(AQ4-AO8)","v":0},{"$f":"IF(AP14=0,0,(AP14*((LOG(AP14))/LOG(2))))","v":0},null,{"$f":"N14","v":0},{"$f":"COUNTIF(L71:L83,AS14)","v":0},{"$f":"AT14/(AV4-AT8)","v":0},{"$f":"IF(AU14=0,0,(AU14*((LOG(AU14))/LOG(2))))","v":0}]
[22,916,14,931,null,null,null,null,null,null,0,21,null,null,null,{"$f":"SUM(P7:P14)","v":1},{"$f":"-SUM(Q7:Q14)","v":1.5197098446809556},null,null,null,null,{"$f":"SUM(V7:V14)","v":0.99999999999999989},{"$f":"-SUM(W7:W14)","v":1.3787834934861753},null,null,null,{"$f":"SUM(AA7:AA14)","v":1},{"$f":"-SUM(AB7:AB14)","v":0.97095059445466869},null,null,null,{"$f":"SUM(AF7:AF14)","v":1},{"$f":"-SUM(AG7:AG14)","v":0},null,null,null,{"$f":"SUM(AK7:AK14)","v":1},{"$f":"-SUM(AL7:AL14)","v":0.59167277858232736},null,null,null,{"$f":"SUM(AP7:AP14)","v":1},{"$f":"-SUM(AQ7:AQ14)","v":0},null,null,null,{"$f":"SUM(AU7:AU14)","v":1},{"$f":"-SUM(AV7:AV14)","v":0}]
[11,1024,21,1034,null,null,null,null,null,null,0,12,null,null,null,"U=",{"$f":"Q15/(LOG(Q4)/LOG(2))","v":0.24250225132328196},null,null,null,null,"U1=",{"$f":"W15/(LOG(W4)/LOG(2))","v":0.37259990663455644},null,null,null,"U2=",{"$f":"AB15/(LOG(AB4)/LOG(2))","v":0.26238789668553864},null,null,null,"U3=",{"$f":"AG15/(LOG(AG4)/LOG(2))","v":0},null,null,null,"U4=",{"$f":"AL15/(LOG(AL4)/LOG(2))","v":0.15989255970897234},null,null,null,"U5=",{"$f":"AQ15/(LOG(AQ4)/LOG(2))","v":0},null,null,null,"U6=",{"$f":"AV15/(LOG(AV4)/LOG(2))","v":0}]
[22,1134,14,1155,null,null,null,null,null,null,0,21]
[22,1262,14,1282,null,null,null,null,null,null,0,21]
[11,1378,21,1389,null,null,null,null,null,null,0,12,null,"Total Target Seq"]
[22,1493,14,1506,null,null,null,null,null,null,0,21,null,{"$f":"COUNTIF(L7:L83,G3)","v":32},null,13,13,12,13,13,13]
[22,1617,23,1639,null,null,null,null,null,null,0,22,null,null,null,"% of reinforcement given in 6 equal intervals based on number of trials "]
[22,1750,14,1764,null,null,null,null,null,null,0,21,null,null,null,"%_1","%_2","%_3","%_4","%_5","%_6"]
[22,1873,14,1886,null,null,null,null,null,null,0,21,null,null,"target sequence",{"$f":"$G$3","v":12},{"$f":"$G$3","v":12},{"$f":"$G$3","v":12},{"$f":"$G$3","v":12},{"$f":"$G$3","v":12},{"$f":"$G$3","v":12}]
[11,1999,21,2009,null,null,null,null,null,null,0,12,null,null,"total reinforcement",{"$f":"U8","v":6},{"$f":"Z8","v":3},{"$f":"AE8","v":6},{"$f":"AJ8","v":6},{"$f":"AO8","v":5},{"$f":"AT8","v":6}]
[11,2095,21,2104,null,null,null,null,null,null,0,12,null,null,"% target"]
[22,2204,23,2228,null,null,null,null,null,null,0,22,null,null,"CCRF"]
[22,2351,14,2385,null,null,null,null,null,null,0,21,null,null,"% CCRf"]
[22,2500,23,2527,null,null,null,null,null,null,0,22,null,null,"average response rate",{"$f":"D19/P20","v":106.84615384615384},{"$f":"(D32-D19)/Q20","v":123.53846153846153},{"$f":"(D44-D32)/R20","v":115.16666666666667},{"$f":"(D57-D44)/S20","v":113.53846153846153},{"$f":"(D70-D57)/T20","v":114.15384615384616},{"$f":"(D83-D70)/U20","v":113}]
[11,2622,21,2633,null,null,null,null,null,null,0,12]
[22,2734,23,2750,null,null,null,null,null,null,0,22]
[22,2852,23,2871,null,null,null,null,null,null,0,22]
[22,2983,23,2995,null,null,null,null,null,null,0,22]
[11,3090,21,3104,null,null,null,null,null,null,0,12]
[11,3195,21,3209,null,null,null,null,null,null,0,12]
[11,3295,21,3305,null,null,null,null,null,null,0,12]
[22,3401,23,3420,null,null,null,null,null,null,0,22]
[11,3503,21,3521,null,null,null,null,null,null,0,12]
[11,3604,21,3627,null,null,null,null,null,null,0,12]
[22,3723,23,3744,null,null,null,null,null,null,0,22]
[22,3854,23,3876,null,null,null,null,null,null,0,22]
[22,3985,23,4004,null,null,null,null,null,null,0,22]
[22,4117,23,4141,null,null,null,null,null,null,0,22]
[11,4234,21,4245,null,null,null,null,null,null,0,12]
[22,4350,23,4377,null,null,null,null,null,null,0,22]
[11,4472,21,4488,null,null,null,null,null,null,0,12]
[22,4586,23,4605,null,null,null,null,null,null,0,22]
[22,4711,23,4734,null,null,null,null,null,null,0,22]
[11,4826,21,4843,null,null,null,null,null,null,0,12]
[11,4926,12,4932,null,null,null,null,null,null,0,11]
[11,5027,21,5037,null,null,null,null,null,null,0,12]
[22,5159,23,5173,null,null,null,null,null,null,0,22]
[11,5269,21,5279,null,null,null,null,null,null,0,12]
[11,5365,21,5375,null,null,null,null,null,null,0,12]
[22,5470,23,5482,null,null,null,null,null,null,0,22]
[11,5578,21,5607,null,null,null,null,null,null,0,12]
[22,5717,23,5736,null,null,null,null,null,null,0,22]
[22,5839,23,5853,null,null,null,null,null,null,0,22]
[11,5940,21,5949,null,null,null,null,null,null,0,12]
[22,6053,23,6067,null,null,null,null,null,null,0,22]
[11,6165,21,6173,null,null,null,null,null,null,0,12]
[22,6294,23,6308,null,null,null,null,null,null,0,22]
[22,6447,23,6467,null,null,null,null,null,null,0,22]
[22,6563,23,6572,null,null,null,null,null,null,0,22]
[11,6669,21,6678,null,null,null,null,null,null,0,12]
[11,6764,21,6774,null,null,null,null,null,null,0,12]
[22,6868,23,6881,null,null,null,null,null,null,0,22]
[22,6986,23,7005,null,null,null,null,null,null,0,22]
[22,7104,23,7115,null,null,null,null,null,null,0,22]
[11,7213,21,7229,null,null,null,null,null,null,0,12]
[22,7328,23,7337,null,null,null,null,null,null,0,22]
[11,7434,21,7443,null,null,null,null,null,null,0,12]
[22,7532,23,7548,null,null,null,null,null,null,0,22]
[11,7646,21,7652,null,null,null,null,null,null,0,12]
[11,7742,21,7752,null,null,null,null,null,null,0,12]
[22,7849,23,7861,null,null,null,null,null,null,0,22]
[22,7966,23,7974,null,null,null,null,null,null,0,22]
[22,8080,23,8114,null,null,null,null,null,null,0,22]
[22,8220,23,8228,null,null,null,null,null,null,0,22]
[11,8323,21,8332,null,null,null,null,null,null,0,12]
[22,8428,23,8437,null,null,null,null,null,null,0,22]
[11,8533,21,8542,null,null,null,null,null,null,0,12]
[22,8640,23,8672,null,null,null,null,null,null,0,22]
[11,8759,21,8806,null,null,null,null,null,null,1,12]

{"sheet":"!LB14B20.056","index":8,"n_rows":96,"n_cols":48,"rows_kept":96,"cut":false,"hidden":false,"merged":[[4,39,4,42],[5,39,5,40],[4,44,4,47],[5,44,5,45],[4,24,4,27],[5,24,5,25],[4,29,4,32],[5,29,5,30],[4,34,4,37],[5,34,5,35],[1,1,1,2],[5,13,5,14],[18,13,18,14],[19,13,19,14],[4,19,4,22],[5,19,5,20]]}
["Report for:!LB14B20.056"]
["Date:","<date>"]
["Hen:","<hen>",null,null,null,"Correct Sequence",{"$f":"Start!J2","v":12},null,null,null,null,null,null,null,null,"Total Sequences in Data",{"$f":"4994-COUNTBLANK(L7:L5000)","v":90},null,null,null,null,"Total Sequences in Block Data",{"$f":"COUNTA(L7:L21)","v":15},null,null,null,"Total Sequences in Block Data",{"$f":"COUNTA(L22:L36)","v":15},null,null,null,"Total Sequences in Block Data",{"$f":"COUNTA(L37:L51)","v":15},null,null,null,"Total Sequences in Block Data",{"$f":"COUNTA(L52:L66)","v":15},null,null,null,"Total Sequences in Block Data",{"$f":"COUNTA(L67:L81)","v":15},null,null,null,"Total Sequences in Block Data",{"$f":"COUNTA(L82:L96)","v":15}]
[null,null,null,null,null,null,null,null,null,null,null,null,null,null,null,"Total Sequences in Summary",{"$f":"SUM(O7:O14)","v":90},null,null,null,null,"Total Sequences in Block Summary",{"$f":"SUM(U7:U14)","v":15},null,null,null,"Total Sequences in Block Summary",{"$f":"SUM(Z7:Z14)","v":15},null,null,null,"Total Sequences in Block Summary",{"$f":"SUM(AE7:AE14)","v":15},null,null,null,"Total Sequences in Block Summary",{"$f":"SUM(AJ7:AJ14)","v":15},null,null,null,"Total Sequences in Block Summary",{"$f":"SUM(AO7:AO14)","v":15},null,null,null,"Total Sequences in Block Summary",{"$f":"SUM(AT7:AT14)","v":15}]
[null,null,null,null,null,null,null,null,null,null,null,null,null,null,null,null,null,null,null,"Block 1",null,null,null,null,"Block 2",null,null,null,null,"Block 3",null,null,null,null,"Block 4",null,null,null,null,"Block 5",null,null,null,null,"Block 6"]
["Sequence\nComponent\n1","Time\n1","Sequence\nComponent\n2","Time\n2","Sequence\nComponent\n3","Time\n3","Sequence\nComponent\n4","Time\n4","Sequence\nComponent\n5","Time\n5","Correct?\n0=No 1=Yes","Sequence",null,"Frequency",null,"Relative Frequency","Variability",null,null,"Frequency",null,"Relative Frequency","Variability",null,"Frequency",null,"Relative Frequency","Variability",null,"Frequency",null,"Relative Frequency","Variability",null,"Frequency",null,"Relative Frequency","Variability",null,"Frequency",null,"Relative Frequency","Variability",null,"Frequency",null,"Relative Frequency","Variability"]
[22,12,23,33,null,null,null,null,null,null,0,22,null,11,{"$f":"COUNTIF($L$7:$L$500,N7)","v":4},{"$f":"O7/$Q$4","v":4.4444444444444446E-2},{"$f":"IF(P7=0,0,(P7*((LOG(P7))/LOG(2))))","v":-0.19963791539243},null,null,{"$f":"N7","v":11},{"$f":"COUNTIF(L7:L21,T7)","v":0},{"$f":"U7/(W4-U8)","v":0},{"$f":"IF(V7=0,0,(V7*((LOG(V7))/LOG(2))))","v":0},null,{"$f":"N7","v":11},{"$f":"COUNTIF(L22:L36,Y7)","v":0},{"$f":"Z7/(AB4-Z8)","v":0},{"$f":"IF(AA7=0,0,(AA7*((LOG(AA7))/LOG(2))))","v":0},null,{"$f":"N7","v":11},{"$f":"COUNTIF(L37:L51,AD7)","v":2},{"$f":"AE7/(AG4-AE8)","v":0.16666666666666666},{"$f":"IF(AF7=0,0,(AF7*((LOG(AF7))/LOG(2))))","v":-0.43082708345352599},null,{"$f":"N7","v":11},{"$f":"COUNTIF(L52:L66,AI7)","v":0},{"$f":"AJ7/(AL4-AJ8)","v":0},{"$f":"IF(AK7=0,0,(AK7*((LOG(AK7))/LOG(2))))","v":0},null,{"$f":"N7","v":11},{"$f":"COUNTIF(L67:L81,AN7)","v":0},{"$f":"AO7/(AQ4-AO8)","v":0},{"$f":"IF(AP7=0,0,(AP7*((LOG(AP7))/LOG(2))))","v":0},null,{"$f":"N7","v":11},{"$f":"COUNTIF(L82:L96,AS7)","v":2},{"$f":"AT7/(AV4-AT8)","v":0.2857142857142857},{"$f":"IF(AU7=0,0,(AU7*((LOG(AU7))/LOG(2))))","v":-0.51638712058788683}]
[22,141,23,162,null,null,null,null,null,null,0,22,null,12,{"$f":"COUNTIF($L$7:$L$500,N8)","v":33},{"$f":"O8/$Q$4","v":0.36666666666666664},{"$f":"IF(P8=0,0,(P8*((LOG(P8))/LOG(2))))","v":-0.53073495822278116},null,null,{"$f":"N8","v":12},{"$f":"COUNTIF(L7:L21,T8)","v":3},null,null,null,{"$f":"N8","v":12},{"$f":"COUNTIF(L22:L36,Y8)","v":3},null,null,null,{"$f":"N8","v":12},{"$f":"COUNTIF(L37:L51,AD8)","v":3},null,null,null,{"$f":"N8","v":12},{"$f":"COUNTIF(L52:L66,AI8)","v":7},null,null,null,{"$f":"N8","v":12},{"$f":"COUNTIF(L67:L81,AN8)","v":9},null,null,null,{"$f":"N8","v":12},{"$f":"COUNTIF(L82:L96,AS8)","v":8}]
[22,262,23,284,null,null,null,null,null,null,0,22,null,21,{"$f":"COUNTIF($L$7:$L$500,N9)","v":3},{"$f":"O9/$Q$4","v":3.3333333333333333E-2},{"$f":"IF(P9=0,0,(P9*((LOG(P9))/LOG(2))))","v":-0.16356301985361729},null,null,{"$f":"N9","v":21},{"$f":"COUNTIF(L7:L21,T9)","v":1},{"$f":"U9/(W4-U8)","v":8.3333333333333329E-2},{"$f":"IF(V9=0,0,(V9*((LOG(V9))/LOG(2))))","v":-0.29874687506009634},null,{"$f":"N9","v":21},{"$f":"COUNTIF(L22:L36,Y9)","v":2},{"$f":"Z9/(AB4-Z8)","v":0.16666666666666666},{"$f":"IF(AA9=0,0,(AA9*((LOG(AA9))/LOG(2))))","v":-0.43082708345352599},null,{"$f":"N9","v":21},{"$f":"COUNTIF(L37:L51,AD9)","v":0},{"$f":"AE9/(AG4-AE8)","v":0},{"$f":"IF(AF9=0,0,(AF9*((LOG(AF9))/LOG(2))))","v":0},null,{"$f":"N9","v":21},{"$f":"COUNTIF(L52:L66,AI9)","v":0},{"$f":"AJ9/(AL4-AJ8)","v":0},{"$f":"IF(AK9=0,0,(AK9*((LOG(AK9))/LOG(2))))","v":0},null,{"$f":"N9","v":21},{"$f":"COUNTIF(L67:L81,AN9)","v":0},{"$f":"AO9/(AQ4-AO8)","v":0},{"$f":"IF(AP9=0,0,(AP9*((LOG(AP9))/LOG(2))))","v":0},null,{"$f":"N9","v":21},{"$f":"COUNTIF(L82:L96,AS9)","v":0},{"$f":"AT9/(AV4-AT8)","v":0},{"$f":"IF(AU9=0,0,(AU9*((LOG(AU9))/LOG(2))))","v":0}]
[11,390,21,402,null,null,null,null,null,null,0,12,null,22,{"$f":"COUNTIF($L$7:$L$500,N10)","v":50},{"$f":"O10/$Q$4","v":0.55555555555555558},{"$f":"IF(P10=0,0,(P10*((LOG(P10))/LOG(2))))","v":-0.4711093925305278},null,null,{"$f":"N10","v":22},{"$f":"COUNTIF(L7:L21,T10)","v":11},{"$f":"U10/(W4-U8)","v":0.91666666666666663},{"$f":"IF(V10=0,0,(V10*((LOG(V10))/LOG(2))))","v":-0.1150699752435374},null,{"$f":"N10","v":22},{"$f":"COUNTIF(L22:L36,Y10)","v":10},{"$f":"Z10/(AB4-Z8)","v":0.83333333333333337},{"$f":"IF(AA10=0,0,(AA10*((LOG(AA10))/LOG(2))))","v":-0.21919533819482812},null,{"$f":"N10","v":22},{"$f":"COUNTIF(L37:L51,AD10)","v":10},{"$f":"AE10/(AG4-AE8)","v":0.83333333333333337},{"$f":"IF(AF10=0,0,(AF10*((LOG(AF10))/LOG(2))))","v":-0.21919533819482812},null,{"$f":"N10","v":22},{"$f":"COUNTIF(L52:L66,AI10)","v":8},{"$f":"AJ10/(AL4-AJ8)","v":1},{"$f":"IF(AK10=0,0,(AK10*((LOG(AK10))/LOG(2))))","v":0},null,{"$f":"N10","v":22},{"$f":"COUNTIF(L67:L81,AN10)","v":6},{"$f":"AO10/(AQ4-AO8)","v":1},{"$f":"IF(AP10=0,0,(AP10*((LOG(AP10))/LOG(2))))","v":0},null,{"$f":"N10","v":22},{"$f":"COUNTIF(L82:L96,AS10)","v":5},{"$f":"AT10/(AV4-AT8)","v":0.7142857142857143},{"$f":"IF(AU10=0,0,(AU10*((LOG(AU10))/LOG(2))))","v":-0.34673344797874411}]
[22,502,14,546,null,null,null,null,null,null,0,21,null,null,null,null,null,null,null,{"$f":"N11","v":0},{"$f":"COUNTIF(L7:L21,T11)","v":0},{"$f":"U11/(W4-U8)","v":0},{"$f":"IF(V11=0,0,(V11*((LOG(V11))/LOG(2))))","v":0},null,{"$f":"N11","v":0},{"$f":"COUNTIF(L22:L36,Y11)","v":0},{"$f":"Z11/(AB4-Z8)","v":0},{"$f":"IF(AA11=0,0,(AA11*((LOG(AA11))/LOG(2))))","v":0},null,{"$f":"N11","v":0},{"$f":"COUNTIF(L37:L51,AD11)","v":0},{"$f":"AE11/(AG4-AE8)","v":0},{"$f":"IF(AF11=0,0,(AF11*((LOG(AF11))/LOG(2))))","v":0},null,{"$f":"N11","v":0},{"$f":"COUNTIF(L52:L66,AI11)","v":0},{"$f":"AJ11/(AL4-AJ8)","v":0},{"$f":"IF(AK11=0,0,(AK11*((LOG(AK11))/LOG(2))))","v":0},null,{"$f":"N11","v":0},{"$f":"COUNTIF(L67:L81,AN11)","v":0},{"$f":"AO11/(AQ4-AO8)","v":0},{"$f":"IF(AP11=0,0,(AP11*((LOG(AP11))/LOG(2))))","v":0},null,{"$f":"N11","v":0},{"$f":"COUNTIF(L82:L96,AS11)","v":0},{"$f":"AT11/(AV4-AT8)","v":0},{"$f":"IF(AU11=0,0,(AU11*((LOG(AU11))/LOG(2))))","v":0}]
[11,645,21,657,null,null,null,null,null,null,0,12,null,null,null,null,null,null,null,{"$f":"N12","v":0},{"$f":"COUNTIF(L7:L21,T12)","v":0},{"$f":"U12/(W4-U8)","v":0},{"$f":"IF(V12=0,0,(V12*((LOG(V12))/LOG(2))))","v":0},null,{"$f":"N12","v":0},{"$f":"COUNTIF(L22:L36,Y12)","v":0},{"$f":"Z12/(AB4-Z8)","v":0},{"$f":"IF(AA12=0,0,(AA12*((LOG(AA12))/LOG(2))))","v":0},null,{"$f":"N12","v":0},{"$f":"COUNTIF(L37:L51,AD12)","v":0},{"$f":"AE12/(AG4-AE8)","v":0},{"$f":"IF(AF12=0,0,(AF12*((LOG(AF12))/LOG(2))))","v":0},null,{"$f":"N12","v":0},{"$f":"COUNTIF(L52:L66,AI12)","v":0},{"$f":"AJ12/(AL4-AJ8)","v":0},{"$f":"IF(AK12=0,0,(AK12*((LOG(AK12))/LOG(2))))","v":0},null,{"$f":"N12","v":0},{"$f":"COUNTIF(L67:L81,AN12)","v":0},{"$f":"AO12/(AQ4-AO8)","v":0},{"$f":"IF(AP12=0,0,(AP12*((LOG(AP12))/LOG(2))))","v":0},null,{"$f":"N12","v":0},{"$f":"COUNTIF(L82:L96,AS12)","v":0},{"$f":"AT12/(AV4-AT8)","v":0},{"$f":"IF(AU12=0,0,(AU12*((LOG(AU12))/LOG(2))))","v":0}]
[22,808,23,838,null,null,null,null,null,null,0,22,null,null,null,null,null,null,null,{"$f":"N13","v":0},{"$f":"COUNTIF(L7:L21,T13)","v":0},{"$f":"U13/(W4-U8)","v":0},{"$f":"IF(V13=0,0,(V13*((LOG(V13))/LOG(2))))","v":0},null,{"$f":"N13","v":0},{"$f":"COUNTIF(L22:L36,Y13)","v":0},{"$f":"Z13/(AB4-Z8)","v":0},{"$f":"IF(AA13=0,0,(AA13*((LOG(AA13))/LOG(2))))","v":0},null,{"$f":"N13","v":0},{"$f":"COUNTIF(L37:L51,AD13)","v":0},{"$f":"AE13/(AG4-AE8)","v":0},{"$f":"IF(AF13=0,0,(AF13*((LOG(AF13))/LOG(2))))","v":0},null,{"$f":"N13","v":0},{"$f":"COUNTIF(L52:L66,AI13)","v":0},{"$f":"AJ13/(AL4-AJ8)","v":0},{"$f":"IF(AK13=0,0,(AK13*((LOG(AK13))/LOG(2))))","v":0},null,{"$f":"N13","v":0},{"$f":"COUNTIF(L67:L81,AN13)","v":0},{"$f":"AO13/(AQ4-AO8)","v":0},{"$f":"IF(AP13=0,0,(AP13*((LOG(AP13))/LOG(2))))","v":0},null,{"$f":"N13","v":0},{"$f":"COUNTIF(L82:L96,AS13)","v":0},{"$f":"AT13/(AV4-AT8)","v":0},{"$f":"IF(AU13=0,0,(AU13*((LOG(AU13))/LOG(2))))","v":0}]
[22,948,23,960,null,null,null,null,null,null,0,22,null,null,null,null,null,null,null,{"$f":"N14","v":0},{"$f":"COUNTIF(L7:L21,T14)","v":0},{"$f":"U14/(W4-U8)","v":0},{"$f":"IF(V14=0,0,(V14*((LOG(V14))/LOG(2))))","v":0},null,{"$f":"N14","v":0},{"$f":"COUNTIF(L22:L36,Y14)","v":0},{"$f":"Z14/(AB4-Z8)","v":0},{"$f":"IF(AA14=0,0,(AA14*((LOG(AA14))/LOG(2))))","v":0},null,{"$f":"N14","v":0},{"$f":"COUNTIF(L37:L51,AD14)","v":0},{"$f":"AE14/(AG4-AE8)","v":0},{"$f":"IF(AF14=0,0,(AF14*((LOG(AF14))/LOG(2))))","v":0},null,{"$f":"N14","v":0},{"$f":"COUNTIF(L52:L66,AI14)","v":0},{"$f":"AJ14/(AL4-AJ8)","v":0},{"$f":"IF(AK14=0,0,(AK14*((LOG(AK14))/LOG(2))))","v":0},null,{"$f":"N14","v":0},{"$f":"COUNTIF(L67:L81,AN14)","v":0},{"$f":"AO14/(AQ4-AO8)","v":0},{"$f":"IF(AP14=0,0,(AP14*((LOG(AP14))/LOG(2))))","v":0},null,{"$f":"N14","v":0},{"$f":"COUNTIF(L82:L96,AS14)","v":0},{"$f":"AT14/(AV4-AT8)","v":0},{"$f":"IF(AU14=0,0,(AU14*((LOG(AU14))/LOG(2))))","v":0}]
[22,1061,23,1080,null,null,null,null,null,null,0,22,null,null,null,{"$f":"SUM(P7:P14)","v":1},{"$f":"-SUM(Q7:Q14)","v":1.3650452859993563},null,null,null,null,{"$f":"SUM(V7:V14)","v":1},{"$f":"-SUM(W7:W14)","v":0.41381685030363374},null,null,null,{"$f":"SUM(AA7:AA14)","v":1},{"$f":"-SUM(AB7:AB14)","v":0.65002242164835411},null,null,null,{"$f":"SUM(AF7:AF14)","v":1},{"$f":"-SUM(AG7:AG14)","v":0.65002242164835411},null,null,null,{"$f":"SUM(AK7:AK14)","v":1},{"$f":"-SUM(AL7:AL14)","v":0},null,null,null,{"$f":"SUM(AP7:AP14)","v":1},{"$f":"-SUM(AQ7:AQ14)","v":0},null,null,null,{"$f":"SUM(AU7:AU14)","v":1},{"$f":"-SUM(AV7:AV14)","v":0.863120568566631}]
[22,1193,23,1204,null,null,null,null,null,null,0,22,null,null,null,"U=",{"$f":"Q15/(LOG(Q4)/LOG(2))","v":0.21027051378767603},null,null,null,null,"U1=",{"$f":"W15/(LOG(W4)/LOG(2))","v":0.10591974363673719},null,null,null,"U2=",{"$f":"AB15/(LOG(AB4)/LOG(2))","v":0.16637845512720575},null,null,null,"U3=",{"$f":"AG15/(LOG(AG4)/LOG(2))","v":0.16637845512720575},null,null,null,"U4=",{"$f":"AL15/(LOG(AL4)/LOG(2))","v":0},null,null,null,"U5=",{"$f":"AQ15/(LOG(AQ4)/LOG(2))","v":0},null,null,null,"U6=",{"$f":"AV15/(LOG(AV4)/LOG(2))","v":0.22092263590303979}]
[22,1313,23,1325,null,null,null,null,null,null,0,22]
[22,1435,23,1450,null,null,null,null,null,null,0,22]
[22,1557,23,1572,null,null,null,null,null,null,0,22,null,"Total Target Seq"]
[11,1665,21,1679,null,null,null,null,null,null,0,12,null,{"$f":"COUNTIF(L7:L96,G3)","v":33},null,15,15,15,15,15,15]
[22,1794,23,1815,null,null,null,null,null,null,0,22,null,null,null,"% of reinforcement given in 6 equal intervals based on number of trials "]
[22,1925,23,1947,null,null,null,null,null,null,0,22,null,null,null,"%_1","%_2","%_3","%_4","%_5","%_6"]
[22,2061,23,2103,null,null,null,null,null,null,0,22,null,null,"target sequence",{"$f":"$G$3","v":12},{"$f":"$G$3","v":12},{"$f":"$G$3","v":12},{"$f":"$G$3","v":12},{"$f":"$G$3","v":12},{"$f":"$G$3","v":12}]
[22,2215,23,2241,null,null,null,null,null,null,0,22,null,null,"total reinforcement",{"$f":"U8","v":3},{"$f":"Z8","v":3},{"$f":"AE8","v":3},{"$f":"AJ8","v":7},{"$f":"AO8","v":9},{"$f":"AT8","v":8}]
[22,2378,23,2399,null,null,null,null,null,null,0,22,null,null,"% target"]
[22,2510,23,2538,null,null,null,null,null,null,0,22,null,null,"CCRF"]
[22,2666,14,2680,null,null,null,null,null,null,0,21,null,null,"% CCRf"]
[22,2792,23,2809,null,null,null,null,null,null,0,22,null,null,"average response rate",{"$f":"D21/P20","v":121},{"$f":"(D36-D21)/Q20","v":131.6},{"$f":"(D51-D36)/R20","v":127.2},{"$f":"(D66-D51)/S20","v":112.33333333333333},{"$f":"(D81-D66)/T20","v":112.4},{"$f":"(D96-D81)/U20","v":112.33333333333333}]
[22,2926,23,2938,null,null,null,null,null,null,0,22]
[11,3035,21,3053,null,null,null,null,null,null,0,12]
[22,3187,23,3196,null,null,null,null,null,null,0,22]
[22,3335,14,3349,null,null,null,null,null,null,0,21]
[22,3459,23,3467,null,null,null,null,null,null,0,22]
[11,3562,21,3574,null,null,null,null,null,null,0,12]
[11,3665,21,3680,null,null,null,null,null,null,0,12]
[22,3780,23,3789,null,null,null,null,null,null,0,22]
[11,3912,21,3943,null,null,null,null,null,null,0,12]
[11,4031,21,4041,null,null,null,null,null,null,0,12]
[22,4174,23,4188,null,null,null,null,null,null,0,22]
[22,4304,23,4312,null,null,null,null,null,null,0,22]
[22,4432,23,4441,null,null,null,null,null,null,0,22]
[22,4540,23,4549,null,null,null,null,null,null,0,22]
[11,4644,12,4655,null,null,null,null,null,null,0,11]
[22,4780,23,4809,null,null,null,null,null,null,0,22]
[22,4925,23,4934,null,null,null,null,null,null,0,22]
[11,5018,12,5024,null,null,null,null,null,null,0,11]
[22,5129,23,5152,null,null,null,null,null,null,0,22]
[22,5252,23,5290,null,null,null,null,null,null,0,22]
[22,5406,23,5457,null,null,null,null,null,null,0,22]
[22,5566,23,5581,null,null,null,null,null,null,0,22]
[11,5669,21,5697,null,null,null,null,null,null,0,12]
[22,5792,23,5800,null,null,null,null,null,null,0,22]
[11,5897,21,5914,null,null,null,null,null,null,0,12]
[11,6000,21,6010,null,null,null,null,null,null,0,12]
[22,6110,23,6118,null,null,null,null,null,null,0,22]
[22,6224,23,6232,null,null,null,null,null,null,0,22]
[11,6328,21,6338,null,null,null,null,null,null,0,12]
[22,6437,23,6450,null,null,null,null,null,null,0,22]
[11,6546,21,6563,null,null,null,null,null,null,0,12]
[11,6651,21,6669,null,null,null,null,null,null,0,12]
[11,6753,21,6763,null,null,null,null,null,null,0,12]
[22,6869,23,6879,null,null,null,null,null,null,0,22]
[22,6990,23,7003,null,null,null,null,null,null,0,22]
[22,7117,23,7124,null,null,null,null,null,null,0,22]
[11,7237,21,7249,null,null,null,null,null,null,0,12]
[22,7363,23,7382,null,null,null,null,null,null,0,22]
[11,7469,21,7487,null,null,null,null,null,null,0,12]
[22,7593,23,7614,null,null,null,null,null,null,0,22]
[11,7709,21,7744,null,null,null,null,null,null,0,12]
[22,7845,23,7854,null,null,null,null,null,null,0,22]
[11,7949,21,7958,null,null,null,null,null,null,0,12]
[11,8043,21,8057,null,null,null,null,null,null,0,12]
[22,8152,23,8160,null,null,null,null,null,null,0,22]
[22,8272,23,8284,null,null,null,null,null,null,0,22]
[11,8402,21,8411,null,null,null,null,null,null,0,12]
[22,8506,23,8514,null,null,null,null,null,null,0,22]
[11,8610,21,8628,null,null,null,null,null,null,0,12]
[11,8716,21,8741,null,null,null,null,null,null,0,12]
[11,8826,21,8852,null,null,null,null,null,null,0,12]
[11,8940,21,8955,null,null,null,null,null,null,0,12]
[22,9051,23,9068,null,null,null,null,null,null,0,22]
[11,9154,21,9163,null,null,null,null,null,null,0,12]
[22,9274,23,9282,null,null,null,null,null,null,0,22]
[11,9377,21,9387,null,null,null,null,null,null,0,12]
[22,9484,23,9495,null,null,null,null,null,null,0,22]
[11,9583,21,9593,null,null,null,null,null,null,0,12]
[11,9680,21,9690,null,null,null,null,null,null,0,12]
[22,9785,23,9814,null,null,null,null,null,null,0,22]
[11,9913,21,9974,null,null,null,null,null,null,0,12]
[11,10074,21,10098,null,null,null,null,null,null,0,12]
[22,10192,23,10200,null,null,null,null,null,null,0,22]
[11,10292,12,10297,null,null,null,null,null,null,0,11]
[11,10395,21,10435,null,null,null,null,null,null,0,12]
[22,10534,23,10541,null,null,null,null,null,null,0,22]
[11,10633,12,10639,null,null,null,null,null,null,0,11]
[11,10734,21,10753,null,null,null,null,null,null,1,12]

{"sheet":"!LB15950.056","index":9,"n_rows":57,"n_cols":48,"rows_kept":57,"cut":false,"hidden":false,"merged":[[4,39,4,42],[5,39,5,40],[4,44,4,47],[5,44,5,45],[4,24,4,27],[5,24,5,25],[4,29,4,32],[5,29,5,30],[4,34,4,37],[5,34,5,35],[1,1,1,2],[5,13,5,14],[18,13,18,14],[19,13,19,14],[4,19,4,22],[5,19,5,20]]}
["Report for:!LB15950.056"]
["Date:","<date>"]
["Hen:","<hen>",null,null,null,"Correct Sequence",{"$f":"Start!J2","v":12},null,null,null,null,null,null,null,null,"Total Sequences in Data",{"$f":"4994-COUNTBLANK(L7:L5000)","v":51},null,null,null,null,"Total Sequences in Block Data",{"$f":"COUNTA(L7:L15)","v":9},null,null,null,"Total Sequences in Block Data",{"$f":"COUNTA(L16:L23)","v":8},null,null,null,"Total Sequences in Block Data",{"$f":"COUNTA(L24:L32)","v":9},null,null,null,"Total Sequences in Block Data",{"$f":"COUNTA(L33:L40)","v":8},null,null,null,"Total Sequences in Block Data",{"$f":"COUNTA(L41:L49)","v":9},null,null,null,"Total Sequences in Block Data",{"$f":"COUNTA(L50:L57)","v":8}]
[null,null,null,null,null,null,null,null,null,null,null,null,null,null,null,"Total Sequences in Summary",{"$f":"SUM(O7:O14)","v":51},null,null,null,null,"Total Sequences in Block Summary",{"$f":"SUM(U7:U14)","v":9},null,null,null,"Total Sequences in Block Summary",{"$f":"SUM(Z7:Z14)","v":8},null,null,null,"Total Sequences in Block Summary",{"$f":"SUM(AE7:AE14)","v":9},null,null,null,"Total Sequences in Block Summary",{"$f":"SUM(AJ7:AJ14)","v":8},null,null,null,"Total Sequences in Block Summary",{"$f":"SUM(AO7:AO14)","v":9},null,null,null,"Total Sequences in Block Summary",{"$f":"SUM(AT7:AT14)","v":8}]
[null,null,null,null,null,null,null,null,null,null,null,null,null,null,null,null,null,null,null,"Block 1",null,null,null,null,"Block 2",null,null,null,null,"Block 3",null,null,null,null,"Block 4",null,null,null,null,"Block 5",null,null,null,null,"Block 6"]
["Sequence\nComponent\n1","Time\n1","Sequence\nComponent\n2","Time\n2","Sequence\nComponent\n3","Time\n3","Sequence\nComponent\n4","Time\n4","Sequence\nComponent\n5","Time\n5","Correct?\n0=No 1=Yes","Sequence",null,"Frequency",null,"Relative Frequency","Variability",null,null,"Frequency",null,"Relative Frequency","Variability",null,"Frequency",null,"Relative Frequency","Variability",null,"Frequency",null,"Relative Frequency","Variability",null,"Frequency",null,"Relative Frequency","Variability",null,"Frequency",null,"Relative Frequency","Variability",null,"Frequency",null,"Relative Frequency","Variability"]
[22,30,23,45,null,null,null,null,null,null,0,22,null,11,{"$f":"COUNTIF($L$7:$L$500,N7)","v":3},{"$f":"O7/$Q$4","v":5.8823529411764705E-2},{"$f":"IF(P7=0,0,(P7*((LOG(P7))/LOG(2))))","v":-0.24043899066178465},null,null,{"$f":"N7","v":11},{"$f":"COUNTIF(L7:L15,T7)","v":0},{"$f":"U7/(W4-U8)","v":0},{"$f":"IF(V7=0,0,(V7*((LOG(V7))/LOG(2))))","v":0},null,{"$f":"N7","v":11},{"$f":"COUNTIF(L16:L23,Y7)","v":1},{"$f":"Z7/(AB4-Z8)","v":0.33333333333333331},{"$f":"IF(AA7=0,0,(AA7*((LOG(AA7))/LOG(2))))","v":-0.52832083357371862},null,{"$f":"N7","v":11},{"$f":"COUNTIF(L24:L32,AD7)","v":0},{"$f":"AE7/(AG4-AE8)","v":0},{"$f":"IF(AF7=0,0,(AF7*((LOG(AF7))/LOG(2))))","v":0},null,{"$f":"N7","v":11},{"$f":"COUNTIF(L33:L40,AI7)","v":1},{"$f":"AJ7/(AL4-AJ8)","v":1},{"$f":"IF(AK7=0,0,(AK7*((LOG(AK7))/LOG(2))))","v":0},null,{"$f":"N7","v":11},{"$f":"COUNTIF(L41:L49,AN7)","v":0},{"$f":"AO7/(AQ4-AO8)","v":0},{"$f":"IF(AP7=0,0,(AP7*((LOG(AP7))/LOG(2))))","v":0},null,{"$f":"N7","v":11},{"$f":"COUNTIF(L50:L57,AS7)","v":1},{"$f":"AT7/(AV4-AT8)","v":0.5},{"$f":"IF(AU7=0,0,(AU7*((LOG(AU7))/LOG(2))))","v":-0.5}]
[11,142,21,155,null,null,null,null,null,null,0,12,null,12,{"$f":"COUNTIF($L$7:$L$500,N8)","v":38},{"$f":"O8/$Q$4","v":0.74509803921568629},{"$f":"IF(P8=0,0,(P8*((LOG(P8))/LOG(2))))","v":-0.31629249968746243},null,null,{"$f":"N8","v":12},{"$f":"COUNTIF(L7:L15,T8)","v":5},null,null,null,{"$f":"N8","v":12},{"$f":"COUNTIF(L16:L23,Y8)","v":5},null,null,null,{"$f":"N8","v":12},{"$f":"COUNTIF(L24:L32,AD8)","v":7},null,null,null,{"$f":"N8","v":12},{"$f":"COUNTIF(L33:L40,AI8)","v":7},null,null,null,{"$f":"N8","v":12},{"$f":"COUNTIF(L41:L49,AN8)","v":8},null,null,null,{"$f":"N8","v":12},{"$f":"COUNTIF(L50:L57,AS8)","v":6}]
[11,243,21,255,null,null,null,null,null,null,0,12,null,21,{"$f":"COUNTIF($L$7:$L$500,N9)","v":1},{"$f":"O9/$Q$4","v":1.9607843137254902E-2},{"$f":"IF(P9=0,0,(P9*((LOG(P9))/LOG(2))))","v":-0.11122402631316657},null,null,{"$f":"N9","v":21},{"$f":"COUNTIF(L7:L15,T9)","v":0},{"$f":"U9/(W4-U8)","v":0},{"$f":"IF(V9=0,0,(V9*((LOG(V9))/LOG(2))))","v":0},null,{"$f":"N9","v":21},{"$f":"COUNTIF(L16:L23,Y9)","v":0},{"$f":"Z9/(AB4-Z8)","v":0},{"$f":"IF(AA9=0,0,(AA9*((LOG(AA9))/LOG(2))))","v":0},null,{"$f":"N9","v":21},{"$f":"COUNTIF(L24:L32,AD9)","v":1},{"$f":"AE9/(AG4-AE8)","v":0.5},{"$f":"IF(AF9=0,0,(AF9*((LOG(AF9))/LOG(2))))","v":-0.5},null,{"$f":"N9","v":21},{"$f":"COUNTIF(L33:L40,AI9)","v":0},{"$f":"AJ9/(AL4-AJ8)","v":0},{"$f":"IF(AK9=0,0,(AK9*((LOG(AK9))/LOG(2))))","v":0},null,{"$f":"N9","v":21},{"$f":"COUNTIF(L41:L49,AN9)","v":0},{"$f":"AO9/(AQ4-AO8)","v":0},{"$f":"IF(AP9=0,0,(AP9*((LOG(AP9))/LOG(2))))","v":0},null,{"$f":"N9","v":21},{"$f":"COUNTIF(L50:L57,AS9)","v":0},{"$f":"AT9/(AV4-AT8)","v":0},{"$f":"IF(AU9=0,0,(AU9*((LOG(AU9))/LOG(2))))","v":0}]
[22,359,23,385,null,null,null,null,null,null,0,22,null,22,{"$f":"COUNTIF($L$7:$L$500,N10)","v":9},{"$f":"O10/$Q$4","v":0.17647058823529413},{"$f":"IF(P10=0,0,(P10*((LOG(P10))/LOG(2))))","v":-0.44161770715220888},null,null,{"$f":"N10","v":22},{"$f":"COUNTIF(L7:L15,T10)","v":4},{"$f":"U10/(W4-U8)","v":1},{"$f":"IF(V10=0,0,(V10*((LOG(V10))/LOG(2))))","v":0},null,{"$f":"N10","v":22},{"$f":"COUNTIF(L16:L23,Y10)","v":2},{"$f":"Z10/(AB4-Z8)","v":0.66666666666666663},{"$f":"IF(AA10=0,0,(AA10*((LOG(AA10))/LOG(2))))","v":-0.38997500048077083},null,{"$f":"N10","v":22},{"$f":"COUNTIF(L24:L32,AD10)","v":1},{"$f":"AE10/(AG4-AE8)","v":0.5},{"$f":"IF(AF10=0,0,(AF10*((LOG(AF10))/LOG(2))))","v":-0.5},null,{"$f":"N10","v":22},{"$f":"COUNTIF(L33:L40,AI10)","v":0},{"$f":"AJ10/(AL4-AJ8)","v":0},{"$f":"IF(AK10=0,0,(AK10*((LOG(AK10))/LOG(2))))","v":0},null,{"$f":"N10","v":22},{"$f":"COUNTIF(L41:L49,AN10)","v":1},{"$f":"AO10/(AQ4-AO8)","v":1},{"$f":"IF(AP10=0,0,(AP10*((LOG(AP10))/LOG(2))))","v":0},null,{"$f":"N10","v":22},{"$f":"COUNTIF(L50:L57,AS10)","v":1},{"$f":"AT10/(AV4-AT8)","v":0.5},{"$f":"IF(AU10=0,0,(AU10*((LOG(AU10))/LOG(2))))","v":-0.5}]
[11,481,21,492,null,null,null,null,null,null,0,12,null,null,null,null,null,null,null,{"$f":"N11","v":0},{"$f":"COUNTIF(L7:L15,T11)","v":0},{"$f":"U11/(W4-U8)","v":0},{"$f":"IF(V11=0,0,(V11*((LOG(V11))/LOG(2))))","v":0},null,{"$f":"N11","v":0},{"$f":"COUNTIF(L16:L23,Y11)","v":0},{"$f":"Z11/(AB4-Z8)","v":0},{"$f":"IF(AA11=0,0,(AA11*((LOG(AA11))/LOG(2))))","v":0},null,{"$f":"N11","v":0},{"$f":"COUNTIF(L24:L32,AD11)","v":0},{"$f":"AE11/(AG4-AE8)","v":0},{"$f":"IF(AF11=0,0,(AF11*((LOG(AF11))/LOG(2))))","v":0},null,{"$f":"N11","v":0},{"$f":"COUNTIF(L33:L40,AI11)","v":0},{"$f":"AJ11/(AL4-AJ8)","v":0},{"$f":"IF(AK11=0,0,(AK11*((LOG(AK11))/LOG(2))))","v":0},null,{"$f":"N11","v":0},{"$f":"COUNTIF(L41:L49,AN11)","v":0},{"$f":"AO11/(AQ4-AO8)","v":0},{"$f":"IF(AP11=0,0,(AP11*((LOG(AP11))/LOG(2))))","v":0},null,{"$f":"N11","v":0},{"$f":"COUNTIF(L50:L57,AS11)","v":0},{"$f":"AT11/(AV4-AT8)","v":0},{"$f":"IF(AU11=0,0,(AU11*((LOG(AU11))/LOG(2))))","v":0}]
[11,577,21,587,null,null,null,null,null,null,0,12,null,null,null,null,null,null,null,{"$f":"N12","v":0},{"$f":"COUNTIF(L7:L15,T12)","v":0},{"$f":"U12/(W4-U8)","v":0},{"$f":"IF(V12=0,0,(V12*((LOG(V12))/LOG(2))))","v":0},null,{"$f":"N12","v":0},{"$f":"COUNTIF(L16:L23,Y12)","v":0},{"$f":"Z12/(AB4-Z8)","v":0},{"$f":"IF(AA12=0,0,(AA12*((LOG(AA12))/LOG(2))))","v":0},null,{"$f":"N12","v":0},{"$f":"COUNTIF(L24:L32,AD12)","v":0},{"$f":"AE12/(AG4-AE8)","v":0},{"$f":"IF(AF12=0,0,(AF12*((LOG(AF12))/LOG(2))))","v":0},null,{"$f":"N12","v":0},{"$f":"COUNTIF(L33:L40,AI12)","v":0},{"$f":"AJ12/(AL4-AJ8)","v":0},{"$f":"IF(AK12=0,0,(AK12*((LOG(AK12))/LOG(2))))","v":0},null,{"$f":"N12","v":0},{"$f":"COUNTIF(L41:L49,AN12)","v":0},{"$f":"AO12/(AQ4-AO8)","v":0},{"$f":"IF(AP12=0,0,(AP12*((LOG(AP12))/LOG(2))))","v":0},null,{"$f":"N12","v":0},{"$f":"COUNTIF(L50:L57,AS12)","v":0},{"$f":"AT12/(AV4-AT8)","v":0},{"$f":"IF(AU12=0,0,(AU12*((LOG(AU12))/LOG(2))))","v":0}]
[11,678,21,690,null,null,null,null,null,null,0,12,null,null,null,null,null,null,null,{"$f":"N13","v":0},{"$f":"COUNTIF(L7:L15,T13)","v":0},{"$f":"U13/(W4-U8)","v":0},{"$f":"IF(V13=0,0,(V13*((LOG(V13))/LOG(2))))","v":0},null,{"$f":"N13","v":0},{"$f":"COUNTIF(L16:L23,Y13)","v":0},{"$f":"Z13/(AB4-Z8)","v":0},{"$f":"IF(AA13=0,0,(AA13*((LOG(AA13))/LOG(2))))","v":0},null,{"$f":"N13","v":0},{"$f":"COUNTIF(L24:L32,AD13)","v":0},{"$f":"AE13/(AG4-AE8)","v":0},{"$f":"IF(AF13=0,0,(AF13*((LOG(AF13))/LOG(2))))","v":0},null,{"$f":"N13","v":0},{"$f":"COUNTIF(L33:L40,AI13)","v":0},{"$f":"AJ13/(AL4-AJ8)","v":0},{"$f":"IF(AK13=0,0,(AK13*((LOG(AK13))/LOG(2))))","v":0},null,{"$f":"N13","v":0},{"$f":"COUNTIF(L41:L49,AN13)","v":0},{"$f":"AO13/(AQ4-AO8)","v":0},{"$f":"IF(AP13=0,0,(AP13*((LOG(AP13))/LOG(2))))","v":0},null,{"$f":"N13","v":0},{"$f":"COUNTIF(L50:L57,AS13)","v":0},{"$f":"AT13/(AV4-AT8)","v":0},{"$f":"IF(AU13=0,0,(AU13*((LOG(AU13))/LOG(2))))","v":0}]
[22,814,23,852,null,null,null,null,null,null,0,22,null,null,null,null,null,null,null,{"$f":"N14","v":0},{"$f":"COUNTIF(L7:L15,T14)","v":0},{"$f":"U14/(W4-U8)","v":0},{"$f":"IF(V14=0,0,(V14*((LOG(V14))/LOG(2))))","v":0},null,{"$f":"N14","v":0},{"$f":"COUNTIF(L16:L23,Y14)","v":0},{"$f":"Z14/(AB4-Z8)","v":0},{"$f":"IF(AA14=0,0,(AA14*((LOG(AA14))/LOG(2))))","v":0},null,{"$f":"N14","v":0},{"$f":"COUNTIF(L24:L32,AD14)","v":0},{"$f":"AE14/(AG4-AE8)","v":0},{"$f":"IF(AF14=0,0,(AF14*((LOG(AF14))/LOG(2))))","v":0},null,{"$f":"N14","v":0},{"$f":"COUNTIF(L33:L40,AI14)","v":0},{"$f":"AJ14/(AL4-AJ8)","v":0},{"$f":"IF(AK14=0,0,(AK14*((LOG(AK14))/LOG(2))))","v":0},null,{"$f":"N14","v":0},{"$f":"COUNTIF(L41:L49,AN14)","v":0},{"$f":"AO14/(AQ4-AO8)","v":0},{"$f":"IF(AP14=0,0,(AP14*((LOG(AP14))/LOG(2))))","v":0},null,{"$f":"N14","v":0},{"$f":"COUNTIF(L50:L57,AS14)","v":0},{"$f":"AT14/(AV4-AT8)","v":0},{"$f":"IF(AU14=0,0,(AU14*((LOG(AU14))/LOG(2))))","v":0}]
[22,966,23,978,null,null,null,null,null,null,0,22,null,null,null,{"$f":"SUM(P7:P14)","v":1},{"$f":"-SUM(Q7:Q14)","v":1.1095732238146225},null,null,null,null,{"$f":"SUM(V7:V14)","v":1},{"$f":"-SUM(W7:W14)","v":0},null,null,null,{"$f":"SUM(AA7:AA14)","v":1},{"$f":"-SUM(AB7:AB14)","v":0.91829583405448945},null,null,null,{"$f":"SUM(AF7:AF14)","v":1},{"$f":"-SUM(AG7:AG14)","v":1},null,null,null,{"$f":"SUM(AK7:AK14)","v":1},{"$f":"-SUM(AL7:AL14)","v":0},null,null,null,{"$f":"SUM(AP7:AP14)","v":1},{"$f":"-SUM(AQ7:AQ14)","v":0},null,null,null,{"$f":"SUM(AU7:AU14)","v":1},{"$f":"-SUM(AV7:AV14)","v":1}]
[11,1073,21,1084,null,null,null,null,null,null,0,12,null,null,null,"U=",{"$f":"Q15/(LOG(Q4)/LOG(2))","v":0.19560825518577593},null,null,null,null,"U1=",{"$f":"W15/(LOG(W4)/LOG(2))","v":0},null,null,null,"U2=",{"$f":"AB15/(LOG(AB4)/LOG(2))","v":0.30609861135149646},null,null,null,"U3=",{"$f":"AG15/(LOG(AG4)/LOG(2))","v":0.31546487678572877},null,null,null,"U4=",{"$f":"AL15/(LOG(AL4)/LOG(2))","v":0},null,null,null,"U5=",{"$f":"AQ15/(LOG(AQ4)/LOG(2))","v":0},null,null,null,"U6=",{"$f":"AV15/(LOG(AV4)/LOG(2))","v":0.33333333333333331}]
[22,1192,23,1203,null,null,null,null,null,null,0,22]
[11,1298,21,1309,null,null,null,null,null,null,0,12]
[11,1393,12,1408,null,null,null,null,null,null,0,11,null,"Total Target Seq"]
[22,1515,23,1534,null,null,null,null,null,null,0,22,null,{"$f":"COUNTIF(L7:L57,G3)","v":38},null,9,8,9,8,9,8]
[11,1641,21,1650,null,null,null,null,null,null,0,12,null,null,null,"% of reinforcement given in 6 equal intervals based on number of trials "]
[11,1738,21,1757,null,null,null,null,null,null,0,12,null,null,null,"%_1","%_2","%_3","%_4","%_5","%_6"]
[11,1849,21,1859,null,null,null,null,null,null,0,12,null,null,"target sequence",{"$f":"$G$3","v":12},{"$f":"$G$3","v":12},{"$f":"$G$3","v":12},{"$f":"$G$3","v":12},{"$f":"$G$3","v":12},{"$f":"$G$3","v":12}]
[11,1945,21,1959,null,null,null,null,null,null,0,12,null,null,"total reinforcement",{"$f":"U8","v":5},{"$f":"Z8","v":5},{"$f":"AE8","v":7},{"$f":"AJ8","v":7},{"$f":"AO8","v":8},{"$f":"AT8","v":6}]
[11,2045,21,2054,null,null,null,null,null,null,0,12,null,null,"% target"]
[22,2151,23,2172,null,null,null,null,null,null,0,22,null,null,"CCRF"]
[11,2270,21,2280,null,null,null,null,null,null,0,12,null,null,"% CCRf"]
[11,2367,21,2378,null,null,null,null,null,null,0,12,null,null,"average response rate",{"$f":"D15/P20","v":108.66666666666667},{"$f":"(D23-D15)/Q20","v":110.125},{"$f":"(D32-D23)/R20","v":104.66666666666667},{"$f":"(D40-D32)/S20","v":119.125},{"$f":"(D49-D40)/T20","v":104.88888888888889},{"$f":"(D57-D49)/U20","v":106.125}]
[11,2466,21,2480,null,null,null,null,null,null,0,12]
[11,2567,21,2578,null,null,null,null,null,null,0,12]
[11,2663,21,2673,null,null,null,null,null,null,0,12]
[22,2778,14,2801,null,null,null,null,null,null,0,21]
[11,2897,21,2915,null,null,null,null,null,null,0,12]
[11,3010,21,3022,null,null,null,null,null,null,0,12]
[11,3110,21,3120,null,null,null,null,null,null,0,12]
[11,3206,12,3330,null,null,null,null,null,null,0,11]
[11,3449,21,3461,null,null,null,null,null,null,0,12]
[11,3547,21,3562,null,null,null,null,null,null,0,12]
[11,3648,21,3658,null,null,null,null,null,null,0,12]
[11,3743,21,3754,null,null,null,null,null,null,0,12]
[11,3839,21,3854,null,null,null,null,null,null,0,12]
[11,3939,21,3949,null,null,null,null,null,null,0,12]
[11,4036,21,4046,null,null,null,null,null,null,0,12]
[11,4132,21,4151,null,null,null,null,null,null,0,12]
[22,4248,23,4267,null,null,null,null,null,null,0,22]
[11,4363,21,4387,null,null,null,null,null,null,0,12]
[11,4475,21,4485,null,null,null,null,null,null,0,12]
[11,4567,21,4583,null,null,null,null,null,null,0,12]
[11,4671,21,4698,null,null,null,null,null,null,0,12]
[11,4784,21,4794,null,null,null,null,null,null,0,12]
[11,4876,12,4882,null,null,null,null,null,null,0,11]
[22,4991,23,5005,null,null,null,null,null,null,0,22]
[11,5104,21,5143,null,null,null,null,null,null,0,12]
[11,5228,21,5241,null,null,null,null,null,null,0,12]
[11,5327,21,5336,null,null,null,null,null,null,0,12]
[11,5421,21,5439,null,null,null,null,null,null,0,12]
[11,5534,21,5547,null,null,null,null,null,null,1,12]

{"sheet":"!LB16C50.056","index":10,"n_rows":59,"n_cols":48,"rows_kept":59,"cut":false,"hidden":false,"merged":[[4,39,4,42],[5,39,5,40],[4,44,4,47],[5,44,5,45],[4,24,4,27],[5,24,5,25],[4,29,4,32],[5,29,5,30],[4,34,4,37],[5,34,5,35],[1,1,1,2],[5,13,5,14],[18,13,18,14],[19,13,19,14],[4,19,4,22],[5,19,5,20]]}
["Report for:!LB16C50.056"]
["Date:","<date>"]
["Hen:","<hen>",null,null,null,"Correct Sequence",{"$f":"Start!J2","v":12},null,null,null,null,null,null,null,null,"Total Sequences in Data",{"$f":"4994-COUNTBLANK(L7:L5000)","v":53},null,null,null,null,"Total Sequences in Block Data",{"$f":"COUNTA(L7:L15)","v":9},null,null,null,"Total Sequences in Block Data",{"$f":"COUNTA(L16:L24)","v":9},null,null,null,"Total Sequences in Block Data",{"$f":"COUNTA(L25:L32)","v":8},null,null,null,"Total Sequences in Block Data",{"$f":"COUNTA(L33:L41)","v":9},null,null,null,"Total Sequences in Block Data",{"$f":"COUNTA(L42:L50)","v":9},null,null,null,"Total Sequences in Block Data",{"$f":"COUNTA(L51:L59)","v":9}]
[null,null,null,null,null,null,null,null,null,null,null,null,null,null,null,"Total Sequences in Summary",{"$f":"SUM(O7:O14)","v":53},null,null,null,null,"Total Sequences in Block Summary",{"$f":"SUM(U7:U14)","v":9},null,null,null,"Total Sequences in Block Summary",{"$f":"SUM(Z7:Z14)","v":9},null,null,null,"Total Sequences in Block Summary",{"$f":"SUM(AE7:AE14)","v":8},null,null,null,"Total Sequences in Block Summary",{"$f":"SUM(AJ7:AJ14)","v":9},null,null,null,"Total Sequences in Block Summary",{"$f":"SUM(AO7:AO14)","v":9},null,null,null,"Total Sequences in Block Summary",{"$f":"SUM(AT7:AT14)","v":9}]
[null,null,null,null,null,null,null,null,null,null,null,null,null,null,null,null,null,null,null,"Block 1",null,null,null,null,"Block 2",null,null,null,null,"Block 3",null,null,null,null,"Block 4",null,null,null,null,"Block 5",null,null,null,null,"Block 6"]
["Sequence\nComponent\n1","Time\n1","Sequence\nComponent\n2","Time\n2","Sequence\nComponent\n3","Time\n3","Sequence\nComponent\n4","Time\n4","Sequence\nComponent\n5","Time\n5","Correct?\n0=No 1=Yes","Sequence",null,"Frequency",null,"Relative Frequency","Variability",null,null,"Frequency",null,"Relative Frequency","Variability",null,"Frequency",null,"Relative Frequency","Variability",null,"Frequency",null,"Relative Frequency","Variability",null,"Frequency",null,"Relative Frequency","Variability",null,"Frequency",null,"Relative Frequency","Variability",null,"Frequency",null,"Relative Frequency","Variability"]
[11,11,21,26,null,null,null,null,null,null,0,12,null,11,{"$f":"COUNTIF($L$7:$L$500,N7)","v":1},{"$f":"O7/$Q$4","v":1.8867924528301886E-2},{"$f":"IF(P7=0,0,(P7*((LOG(P7))/LOG(2))))","v":-0.10807397084081509},null,null,{"$f":"N7","v":11},{"$f":"COUNTIF(L7:L15,T7)","v":0},{"$f":"U7/(W4-U8)","v":0},{"$f":"IF(V7=0,0,(V7*((LOG(V7))/LOG(2))))","v":0},null,{"$f":"N7","v":11},{"$f":"COUNTIF(L16:L24,Y7)","v":1},{"$f":"Z7/(AB4-Z8)","v":0.5},{"$f":"IF(AA7=0,0,(AA7*((LOG(AA7))/LOG(2))))","v":-0.5},null,{"$f":"N7","v":11},{"$f":"COUNTIF(L25:L32,AD7)","v":0},{"$f":"AE7/(AG4-AE8)","v":0},{"$f":"IF(AF7=0,0,(AF7*((LOG(AF7))/LOG(2))))","v":0},null,{"$f":"N7","v":11},{"$f":"COUNTIF(L33:L41,AI7)","v":0},{"$f":"AJ7/(AL4-AJ8)","v":0},{"$f":"IF(AK7=0,0,(AK7*((LOG(AK7))/LOG(2))))","v":0},null,{"$f":"N7","v":11},{"$f":"COUNTIF(L42:L50,AN7)","v":0},{"$f":"AO7/(AQ4-AO8)","v":0},{"$f":"IF(AP7=0,0,(AP7*((LOG(AP7))/LOG(2))))","v":0},null,{"$f":"N7","v":11},{"$f":"COUNTIF(L51:L59,AS7)","v":0},{"$f":"AT7/(AV4-AT8)","v":0},{"$f":"IF(AU7=0,0,(AU7*((LOG(AU7))/LOG(2))))","v":0}]
[22,126,14,139,null,null,null,null,null,null,0,21,null,12,{"$f":"COUNTIF($L$7:$L$500,N8)","v":38},{"$f":"O8/$Q$4","v":0.71698113207547165},{"$f":"IF(P8=0,0,(P8*((LOG(P8))/LOG(2))))","v":-0.34414588231217591},null,null,{"$f":"N8","v":12},{"$f":"COUNTIF(L7:L15,T8)","v":5},null,null,null,{"$f":"N8","v":12},{"$f":"COUNTIF(L16:L24,Y8)","v":7},null,null,null,{"$f":"N8","v":12},{"$f":"COUNTIF(L25:L32,AD8)","v":5},null,null,null,{"$f":"N8","v":12},{"$f":"COUNTIF(L33:L41,AI8)","v":7},null,null,null,{"$f":"N8","v":12},{"$f":"COUNTIF(L42:L50,AN8)","v":7},null,null,null,{"$f":"N8","v":12},{"$f":"COUNTIF(L51:L59,AS8)","v":7}]
[22,246,23,266,null,null,null,null,null,null,0,22,null,21,{"$f":"COUNTIF($L$7:$L$500,N9)","v":1},{"$f":"O9/$Q$4","v":1.8867924528301886E-2},{"$f":"IF(P9=0,0,(P9*((LOG(P9))/LOG(2))))","v":-0.10807397084081509},null,null,{"$f":"N9","v":21},{"$f":"COUNTIF(L7:L15,T9)","v":1},{"$f":"U9/(W4-U8)","v":0.25},{"$f":"IF(V9=0,0,(V9*((LOG(V9))/LOG(2))))","v":-0.5},null,{"$f":"N9","v":21},{"$f":"COUNTIF(L16:L24,Y9)","v":0},{"$f":"Z9/(AB4-Z8)","v":0},{"$f":"IF(AA9=0,0,(AA9*((LOG(AA9))/LOG(2))))","v":0},null,{"$f":"N9","v":21},{"$f":"COUNTIF(L25:L32,AD9)","v":0},{"$f":"AE9/(AG4-AE8)","v":0},{"$f":"IF(AF9=0,0,(AF9*((LOG(AF9))/LOG(2))))","v":0},null,{"$f":"N9","v":21},{"$f":"COUNTIF(L33:L41,AI9)","v":0},{"$f":"AJ9/(AL4-AJ8)","v":0},{"$f":"IF(AK9=0,0,(AK9*((LOG(AK9))/LOG(2))))","v":0},null,{"$f":"N9","v":21},{"$f":"COUNTIF(L42:L50,AN9)","v":0},{"$f":"AO9/(AQ4-AO8)","v":0},{"$f":"IF(AP9=0,0,(AP9*((LOG(AP9))/LOG(2))))","v":0},null,{"$f":"N9","v":21},{"$f":"COUNTIF(L51:L59,AS9)","v":0},{"$f":"AT9/(AV4-AT8)","v":0},{"$f":"IF(AU9=0,0,(AU9*((LOG(AU9))/LOG(2))))","v":0}]
[11,364,21,371,null,null,null,null,null,null,0,12,null,22,{"$f":"COUNTIF($L$7:$L$500,N10)","v":13},{"$f":"O10/$Q$4","v":0.24528301886792453},{"$f":"IF(P10=0,0,(P10*((LOG(P10))/LOG(2))))","v":-0.49730659572617719},null,null,{"$f":"N10","v":22},{"$f":"COUNTIF(L7:L15,T10)","v":3},{"$f":"U10/(W4-U8)","v":0.75},{"$f":"IF(V10=0,0,(V10*((LOG(V10))/LOG(2))))","v":-0.31127812445913283},null,{"$f":"N10","v":22},{"$f":"COUNTIF(L16:L24,Y10)","v":1},{"$f":"Z10/(AB4-Z8)","v":0.5},{"$f":"IF(AA10=0,0,(AA10*((LOG(AA10))/LOG(2))))","v":-0.5},null,{"$f":"N10","v":22},{"$f":"COUNTIF(L25:L32,AD10)","v":3},{"$f":"AE10/(AG4-AE8)","v":1},{"$f":"IF(AF10=0,0,(AF10*((LOG(AF10))/LOG(2))))","v":0},null,{"$f":"N10","v":22},{"$f":"COUNTIF(L33:L41,AI10)","v":2},{"$f":"AJ10/(AL4-AJ8)","v":1},{"$f":"IF(AK10=0,0,(AK10*((LOG(AK10))/LOG(2))))","v":0},null,{"$f":"N10","v":22},{"$f":"COUNTIF(L42:L50,AN10)","v":2},{"$f":"AO10/(AQ4-AO8)","v":1},{"$f":"IF(AP10=0,0,(AP10*((LOG(AP10))/LOG(2))))","v":0},null,{"$f":"N10","v":22},{"$f":"COUNTIF(L51:L59,AS10)","v":2},{"$f":"AT10/(AV4-AT8)","v":1},{"$f":"IF(AU10=0,0,(AU10*((LOG(AU10))/LOG(2))))","v":0}]
[11,461,21,478,null,null,null,null,null,null,0,12,null,null,null,null,null,null,null,{"$f":"N11","v":0},{"$f":"COUNTIF(L7:L15,T11)","v":0},{"$f":"U11/(W4-U8)","v":0},{"$f":"IF(V11=0,0,(V11*((LOG(V11))/LOG(2))))","v":0},null,{"$f":"N11","v":0},{"$f":"COUNTIF(L16:L24,Y11)","v":0},{"$f":"Z11/(AB4-Z8)","v":0},{"$f":"IF(AA11=0,0,(AA11*((LOG(AA11))/LOG(2))))","v":0},null,{"$f":"N11","v":0},{"$f":"COUNTIF(L25:L32,AD11)","v":0},{"$f":"AE11/(AG4-AE8)","v":0},{"$f":"IF(AF11=0,0,(AF11*((LOG(AF11))/LOG(2))))","v":0},null,{"$f":"N11","v":0},{"$f":"COUNTIF(L33:L41,AI11)","v":0},{"$f":"AJ11/(AL4-AJ8)","v":0},{"$f":"IF(AK11=0,0,(AK11*((LOG(AK11))/LOG(2))))","v":0},null,{"$f":"N11","v":0},{"$f":"COUNTIF(L42:L50,AN11)","v":0},{"$f":"AO11/(AQ4-AO8)","v":0},{"$f":"IF(AP11=0,0,(AP11*((LOG(AP11))/LOG(2))))","v":0},null,{"$f":"N11","v":0},{"$f":"COUNTIF(L51:L59,AS11)","v":0},{"$f":"AT11/(AV4-AT8)","v":0},{"$f":"IF(AU11=0,0,(AU11*((LOG(AU11))/LOG(2))))","v":0}]
[11,564,21,573,null,null,null,null,null,null,0,12,null,null,null,null,null,null,null,{"$f":"N12","v":0},{"$f":"COUNTIF(L7:L15,T12)","v":0},{"$f":"U12/(W4-U8)","v":0},{"$f":"IF(V12=0,0,(V12*((LOG(V12))/LOG(2))))","v":0},null,{"$f":"N12","v":0},{"$f":"COUNTIF(L16:L24,Y12)","v":0},{"$f":"Z12/(AB4-Z8)","v":0},{"$f":"IF(AA12=0,0,(AA12*((LOG(AA12))/LOG(2))))","v":0},null,{"$f":"N12","v":0},{"$f":"COUNTIF(L25:L32,AD12)","v":0},{"$f":"AE12/(AG4-AE8)","v":0},{"$f":"IF(AF12=0,0,(AF12*((LOG(AF12))/LOG(2))))","v":0},null,{"$f":"N12","v":0},{"$f":"COUNTIF(L33:L41,AI12)","v":0},{"$f":"AJ12/(AL4-AJ8)","v":0},{"$f":"IF(AK12=0,0,(AK12*((LOG(AK12))/LOG(2))))","v":0},null,{"$f":"N12","v":0},{"$f":"COUNTIF(L42:L50,AN12)","v":0},{"$f":"AO12/(AQ4-AO8)","v":0},{"$f":"IF(AP12=0,0,(AP12*((LOG(AP12))/LOG(2))))","v":0},null,{"$f":"N12","v":0},{"$f":"COUNTIF(L51:L59,AS12)","v":0},{"$f":"AT12/(AV4-AT8)","v":0},{"$f":"IF(AU12=0,0,(AU12*((LOG(AU12))/LOG(2))))","v":0}]
[22,667,23,692,null,null,null,null,null,null,0,22,null,null,null,null,null,null,null,{"$f":"N13","v":0},{"$f":"COUNTIF(L7:L15,T13)","v":0},{"$f":"U13/(W4-U8)","v":0},{"$f":"IF(V13=0,0,(V13*((LOG(V13))/LOG(2))))","v":0},null,{"$f":"N13","v":0},{"$f":"COUNTIF(L16:L24,Y13)","v":0},{"$f":"Z13/(AB4-Z8)","v":0},{"$f":"IF(AA13=0,0,(AA13*((LOG(AA13))/LOG(2))))","v":0},null,{"$f":"N13","v":0},{"$f":"COUNTIF(L25:L32,AD13)","v":0},{"$f":"AE13/(AG4-AE8)","v":0},{"$f":"IF(AF13=0,0,(AF13*((LOG(AF13))/LOG(2))))","v":0},null,{"$f":"N13","v":0},{"$f":"COUNTIF(L33:L41,AI13)","v":0},{"$f":"AJ13/(AL4-AJ8)","v":0},{"$f":"IF(AK13=0,0,(AK13*((LOG(AK13))/LOG(2))))","v":0},null,{"$f":"N13","v":0},{"$f":"COUNTIF(L42:L50,AN13)","v":0},{"$f":"AO13/(AQ4-AO8)","v":0},{"$f":"IF(AP13=0,0,(AP13*((LOG(AP13))/LOG(2))))","v":0},null,{"$f":"N13","v":0},{"$f":"COUNTIF(L51:L59,AS13)","v":0},{"$f":"AT13/(AV4-AT8)","v":0},{"$f":"IF(AU13=0,0,(AU13*((LOG(AU13))/LOG(2))))","v":0}]
[11,777,21,787,null,null,null,null,null,null,0,12,null,null,null,null,null,null,null,{"$f":"N14","v":0},{"$f":"COUNTIF(L7:L15,T14)","v":0},{"$f":"U14/(W4-U8)","v":0},{"$f":"IF(V14=0,0,(V14*((LOG(V14))/LOG(2))))","v":0},null,{"$f":"N14","v":0},{"$f":"COUNTIF(L16:L24,Y14)","v":0},{"$f":"Z14/(AB4-Z8)","v":0},{"$f":"IF(AA14=0,0,(AA14*((LOG(AA14))/LOG(2))))","v":0},null,{"$f":"N14","v":0},{"$f":"COUNTIF(L25:L32,AD14)","v":0},{"$f":"AE14/(AG4-AE8)","v":0},{"$f":"IF(AF14=0,0,(AF14*((LOG(AF14))/LOG(2))))","v":0},null,{"$f":"N14","v":0},{"$f":"COUNTIF(L33:L41,AI14)","v":0},{"$f":"AJ14/(AL4-AJ8)","v":0},{"$f":"IF(AK14=0,0,(AK14*((LOG(AK14))/LOG(2))))","v":0},null,{"$f":"N14","v":0},{"$f":"COUNTIF(L42:L50,AN14)","v":0},{"$f":"AO14/(AQ4-AO8)","v":0},{"$f":"IF(AP14=0,0,(AP14*((LOG(AP14))/LOG(2))))","v":0},null,{"$f":"N14","v":0},{"$f":"COUNTIF(L51:L59,AS14)","v":0},{"$f":"AT14/(AV4-AT8)","v":0},{"$f":"IF(AU14=0,0,(AU14*((LOG(AU14))/LOG(2))))","v":0}]
[22,876,23,893,null,null,null,null,null,null,0,22,null,null,null,{"$f":"SUM(P7:P14)","v":1},{"$f":"-SUM(Q7:Q14)","v":1.0576004197199833},null,null,null,null,{"$f":"SUM(V7:V14)","v":1},{"$f":"-SUM(W7:W14)","v":0.81127812445913283},null,null,null,{"$f":"SUM(AA7:AA14)","v":1},{"$f":"-SUM(AB7:AB14)","v":1},null,null,null,{"$f":"SUM(AF7:AF14)","v":1},{"$f":"-SUM(AG7:AG14)","v":0},null,null,null,{"$f":"SUM(AK7:AK14)","v":1},{"$f":"-SUM(AL7:AL14)","v":0},null,null,null,{"$f":"SUM(AP7:AP14)","v":1},{"$f":"-SUM(AQ7:AQ14)","v":0},null,null,null,{"$f":"SUM(AU7:AU14)","v":1},{"$f":"-SUM(AV7:AV14)","v":0}]
[11,987,21,998,null,null,null,null,null,null,0,12,null,null,null,"U=",{"$f":"Q15/(LOG(Q4)/LOG(2))","v":0.18463950889496666},null,null,null,null,"U1=",{"$f":"W15/(LOG(W4)/LOG(2))","v":0.25592975357145742},null,null,null,"U2=",{"$f":"AB15/(LOG(AB4)/LOG(2))","v":0.31546487678572877},null,null,null,"U3=",{"$f":"AG15/(LOG(AG4)/LOG(2))","v":0},null,null,null,"U4=",{"$f":"AL15/(LOG(AL4)/LOG(2))","v":0},null,null,null,"U5=",{"$f":"AQ15/(LOG(AQ4)/LOG(2))","v":0},null,null,null,"U6=",{"$f":"AV15/(LOG(AV4)/LOG(2))","v":0}]
[22,1097,23,1111,null,null,null,null,null,null,0,22]
[11,1207,21,1216,null,null,null,null,null,null,0,12]
[11,1304,21,1313,null,null,null,null,null,null,0,12,null,"Total Target Seq"]
[11,1399,21,1409,null,null,null,null,null,null,0,12,null,{"$f":"COUNTIF(L7:L59,G3)","v":38},null,9,9,8,9,9,9]
[11,1490,12,1508,null,null,null,null,null,null,0,11,null,null,null,"% of reinforcement given in 6 equal intervals based on number of trials "]
[11,1602,21,1621,null,null,null,null,null,null,0,12,null,null,null,"%_1","%_2","%_3","%_4","%_5","%_6"]
[11,1708,21,1717,null,null,null,null,null,null,0,12,null,null,"target sequence",{"$f":"$G$3","v":12},{"$f":"$G$3","v":12},{"$f":"$G$3","v":12},{"$f":"$G$3","v":12},{"$f":"$G$3","v":12},{"$f":"$G$3","v":12}]
[11,1809,21,1827,null,null,null,null,null,null,0,12,null,null,"total reinforcement",{"$f":"U8","v":5},{"$f":"Z8","v":7},{"$f":"AE8","v":5},{"$f":"AJ8","v":7},{"$f":"AO8","v":7},{"$f":"AT8","v":7}]
[11,1912,21,1922,null,null,null,null,null,null,0,12,null,null,"% target"]
[11,2007,21,2017,null,null,null,null,null,null,0,12,null,null,"CCRF"]
[11,2116,21,2125,null,null,null,null,null,null,0,12,null,null,"% CCRf"]
[22,2224,23,2231,null,null,null,null,null,null,0,22,null,null,"average response rate",{"$f":"D15/P20","v":99.222222222222229},{"$f":"(D24-D15)/Q20","v":103.77777777777777},{"$f":"(D32-D24)/R20","v":106.125},{"$f":"(D41-D32)/S20","v":114.88888888888889},{"$f":"(D50-D41)/T20","v":101.77777777777777},{"$f":"(D59-D50)/U20","v":106.55555555555556}]
[11,2327,21,2337,null,null,null,null,null,null,0,12]
[22,2439,23,2451,null,null,null,null,null,null,0,22]
[11,2546,21,2555,null,null,null,null,null,null,0,12]
[22,2654,23,2676,null,null,null,null,null,null,0,22]
[11,2772,21,2789,null,null,null,null,null,null,0,12]
[11,2885,21,2918,null,null,null,null,null,null,0,12]
[11,3011,21,3021,null,null,null,null,null,null,0,12]
[22,3119,23,3128,null,null,null,null,null,null,0,22]
[11,3222,21,3232,null,null,null,null,null,null,0,12]
[11,3358,21,3368,null,null,null,null,null,null,0,12]
[22,3467,23,3480,null,null,null,null,null,null,0,22]
[11,3567,21,3577,null,null,null,null,null,null,0,12]
[11,3678,21,3710,null,null,null,null,null,null,0,12]
[22,3803,23,3812,null,null,null,null,null,null,0,22]
[22,3917,23,3924,null,null,null,null,null,null,0,22]
[11,4020,21,4029,null,null,null,null,null,null,0,12]
[11,4117,21,4127,null,null,null,null,null,null,0,12]
[11,4214,21,4223,null,null,null,null,null,null,0,12]
[11,4309,21,4328,null,null,null,null,null,null,0,12]
[11,4421,21,4430,null,null,null,null,null,null,0,12]
[11,4519,21,4530,null,null,null,null,null,null,0,12]
[11,4617,21,4626,null,null,null,null,null,null,0,12]
[22,4720,23,4740,null,null,null,null,null,null,0,22]
[22,4876,23,4886,null,null,null,null,null,null,0,22]
[11,4982,21,4991,null,null,null,null,null,null,0,12]
[11,5090,21,5101,null,null,null,null,null,null,0,12]
[11,5189,21,5198,null,null,null,null,null,null,0,12]
[11,5290,21,5299,null,null,null,null,null,null,0,12]
[11,5385,21,5394,null,null,null,null,null,null,0,12]
[11,5480,21,5488,null,null,null,null,null,null,0,12]
[11,5578,21,5585,null,null,null,null,null,null,1,12]

{"sheet":"!LB18B30.056","index":11,"n_rows":57,"n_cols":48,"rows_kept":57,"cut":false,"hidden":false,"merged":[[4,39,4,42],[5,39,5,40],[4,44,4,47],[5,44,5,45],[4,24,4,27],[5,24,5,25],[4,29,4,32],[5,29,5,30],[4,34,4,37],[5,34,5,35],[1,1,1,2],[5,13,5,14],[18,13,18,14],[19,13,19,14],[4,19,4,22],[5,19,5,20]]}
["Report for:!LB18B30.056"]
["Date:","<date>"]
["Hen:","<hen>",null,null,null,"Correct Sequence",{"$f":"Start!J2","v":12},null,null,null,null,null,null,null,null,"Total Sequences in Data",{"$f":"4994-COUNTBLANK(L7:L5000)","v":51},null,null,null,null,"Total Sequences in Block Data",{"$f":"COUNTA(L7:L15)","v":9},null,null,null,"Total Sequences in Block Data",{"$f":"COUNTA(L16:L23)","v":8},null,null,null,"Total Sequences in Block Data",{"$f":"COUNTA(L24:L32)","v":9},null,null,null,"Total Sequences in Block Data",{"$f":"COUNTA(L33:L40)","v":8},null,null,null,"Total Sequences in Block Data",{"$f":"COUNTA(L41:L49)","v":9},null,null,null,"Total Sequences in Block Data",{"$f":"COUNTA(L50:L57)","v":8}]
[null,null,null,null,null,null,null,null,null,null,null,null,null,null,null,"Total Sequences in Summary",{"$f":"SUM(O7:O14)","v":51},null,null,null,null,"Total Sequences in Block Summary",{"$f":"SUM(U7:U14)","v":9},null,null,null,"Total Sequences in Block Summary",{"$f":"SUM(Z7:Z14)","v":8},null,null,null,"Total Sequences in Block Summary",{"$f":"SUM(AE7:AE14)","v":9},null,null,null,"Total Sequences in Block Summary",{"$f":"SUM(AJ7:AJ14)","v":8},null,null,null,"Total Sequences in Block Summary",{"$f":"SUM(AO7:AO14)","v":9},null,null,null,"Total Sequences in Block Summary",{"$f":"SUM(AT7:AT14)","v":8}]
[null,null,null,null,null,null,null,null,null,null,null,null,null,null,null,null,null,null,null,"Block 1",null,null,null,null,"Block 2",null,null,null,null,"Block 3",null,null,null,null,"Block 4",null,null,null,null,"Block 5",null,null,null,null,"Block 6"]
["Sequence\nComponent\n1","Time\n1","Sequence\nComponent\n2","Time\n2","Sequence\nComponent\n3","Time\n3","Sequence\nComponent\n4","Time\n4","Sequence\nComponent\n5","Time\n5","Correct?\n0=No 1=Yes","Sequence",null,"Frequency",null,"Relative Frequency","Variability",null,null,"Frequency",null,"Relative Frequency","Variability",null,"Frequency",null,"Relative Frequency","Variability",null,"Frequency",null,"Relative Frequency","Variability",null,"Frequency",null,"Relative Frequency","Variability",null,"Frequency",null,"Relative Frequency","Variability",null,"Frequency",null,"Relative Frequency","Variability"]
[22,13,23,30,null,null,null,null,null,null,0,22,null,11,{"$f":"COUNTIF($L$7:$L$500,N7)","v":4},{"$f":"O7/$Q$4","v":7.8431372549019607E-2},{"$f":"IF(P7=0,0,(P7*((LOG(P7))/LOG(2))))","v":-0.2880333601546271},null,null,{"$f":"N7","v":11},{"$f":"COUNTIF(L7:L15,T7)","v":0},{"$f":"U7/(W4-U8)","v":0},{"$f":"IF(V7=0,0,(V7*((LOG(V7))/LOG(2))))","v":0},null,{"$f":"N7","v":11},{"$f":"COUNTIF(L16:L23,Y7)","v":0},{"$f":"Z7/(AB4-Z8)","v":0},{"$f":"IF(AA7=0,0,(AA7*((LOG(AA7))/LOG(2))))","v":0},null,{"$f":"N7","v":11},{"$f":"COUNTIF(L24:L32,AD7)","v":1},{"$f":"AE7/(AG4-AE8)","v":0.33333333333333331},{"$f":"IF(AF7=0,0,(AF7*((LOG(AF7))/LOG(2))))","v":-0.52832083357371862},null,{"$f":"N7","v":11},{"$f":"COUNTIF(L33:L40,AI7)","v":1},{"$f":"AJ7/(AL4-AJ8)","v":1},{"$f":"IF(AK7=0,0,(AK7*((LOG(AK7))/LOG(2))))","v":0},null,{"$f":"N7","v":11},{"$f":"COUNTIF(L41:L49,AN7)","v":1},{"$f":"AO7/(AQ4-AO8)","v":0.5},{"$f":"IF(AP7=0,0,(AP7*((LOG(AP7))/LOG(2))))","v":-0.5},null,{"$f":"N7","v":11},{"$f":"COUNTIF(L50:L57,AS7)","v":1},{"$f":"AT7/(AV4-AT8)","v":1},{"$f":"IF(AU7=0,0,(AU7*((LOG(AU7))/LOG(2))))","v":0}]
[22,137,23,149,null,null,null,null,null,null,0,22,null,12,{"$f":"COUNTIF($L$7:$L$500,N8)","v":39},{"$f":"O8/$Q$4","v":0.76470588235294112},{"$f":"IF(P8=0,0,(P8*((LOG(P8))/LOG(2))))","v":-0.29595885884824796},null,null,{"$f":"N8","v":12},{"$f":"COUNTIF(L7:L15,T8)","v":6},null,null,null,{"$f":"N8","v":12},{"$f":"COUNTIF(L16:L23,Y8)","v":6},null,null,null,{"$f":"N8","v":12},{"$f":"COUNTIF(L24:L32,AD8)","v":6},null,null,null,{"$f":"N8","v":12},{"$f":"COUNTIF(L33:L40,AI8)","v":7},null,null,null,{"$f":"N8","v":12},{"$f":"COUNTIF(L41:L49,AN8)","v":7},null,null,null,{"$f":"N8","v":12},{"$f":"COUNTIF(L50:L57,AS8)","v":7}]
[11,249,21,260,null,null,null,null,null,null,0,12,null,21,{"$f":"COUNTIF($L$7:$L$500,N9)","v":1},{"$f":"O9/$Q$4","v":1.9607843137254902E-2},{"$f":"IF(P9=0,0,(P9*((LOG(P9))/LOG(2))))","v":-0.11122402631316657},null,null,{"$f":"N9","v":21},{"$f":"COUNTIF(L7:L15,T9)","v":0},{"$f":"U9/(W4-U8)","v":0},{"$f":"IF(V9=0,0,(V9*((LOG(V9))/LOG(2))))","v":0},null,{"$f":"N9","v":21},{"$f":"COUNTIF(L16:L23,Y9)","v":0},{"$f":"Z9/(AB4-Z8)","v":0},{"$f":"IF(AA9=0,0,(AA9*((LOG(AA9))/LOG(2))))","v":0},null,{"$f":"N9","v":21},{"$f":"COUNTIF(L24:L32,AD9)","v":0},{"$f":"AE9/(AG4-AE8)","v":0},{"$f":"IF(AF9=0,0,(AF9*((LOG(AF9))/LOG(2))))","v":0},null,{"$f":"N9","v":21},{"$f":"COUNTIF(L33:L40,AI9)","v":0},{"$f":"AJ9/(AL4-AJ8)","v":0},{"$f":"IF(AK9=0,0,(AK9*((LOG(AK9))/LOG(2))))","v":0},null,{"$f":"N9","v":21},{"$f":"COUNTIF(L41:L49,AN9)","v":1},{"$f":"AO9/(AQ4-AO8)","v":0.5},{"$f":"IF(AP9=0,0,(AP9*((LOG(AP9))/LOG(2))))","v":-0.5},null,{"$f":"N9","v":21},{"$f":"COUNTIF(L50:L57,AS9)","v":0},{"$f":"AT9/(AV4-AT8)","v":0},{"$f":"IF(AU9=0,0,(AU9*((LOG(AU9))/LOG(2))))","v":0}]
[11,346,21,358,null,null,null,null,null,null,0,12,null,22,{"$f":"COUNTIF($L$7:$L$500,N10)","v":7},{"$f":"O10/$Q$4","v":0.13725490196078433},{"$f":"IF(P10=0,0,(P10*((LOG(P10))/LOG(2))))","v":-0.39324495959602429},null,null,{"$f":"N10","v":22},{"$f":"COUNTIF(L7:L15,T10)","v":3},{"$f":"U10/(W4-U8)","v":1},{"$f":"IF(V10=0,0,(V10*((LOG(V10))/LOG(2))))","v":0},null,{"$f":"N10","v":22},{"$f":"COUNTIF(L16:L23,Y10)","v":2},{"$f":"Z10/(AB4-Z8)","v":1},{"$f":"IF(AA10=0,0,(AA10*((LOG(AA10))/LOG(2))))","v":0},null,{"$f":"N10","v":22},{"$f":"COUNTIF(L24:L32,AD10)","v":2},{"$f":"AE10/(AG4-AE8)","v":0.66666666666666663},{"$f":"IF(AF10=0,0,(AF10*((LOG(AF10))/LOG(2))))","v":-0.38997500048077083},null,{"$f":"N10","v":22},{"$f":"COUNTIF(L33:L40,AI10)","v":0},{"$f":"AJ10/(AL4-AJ8)","v":0},{"$f":"IF(AK10=0,0,(AK10*((LOG(AK10))/LOG(2))))","v":0},null,{"$f":"N10","v":22},{"$f":"COUNTIF(L41:L49,AN10)","v":0},{"$f":"AO10/(AQ4-AO8)","v":0},{"$f":"IF(AP10=0,0,(AP10*((LOG(AP10))/LOG(2))))","v":0},null,{"$f":"N10","v":22},{"$f":"COUNTIF(L50:L57,AS10)","v":0},{"$f":"AT10/(AV4-AT8)","v":0},{"$f":"IF(AU10=0,0,(AU10*((LOG(AU10))/LOG(2))))","v":0}]
[11,445,21,456,null,null,null,null,null,null,0,12,null,null,null,null,null,null,null,{"$f":"N11","v":0},{"$f":"COUNTIF(L7:L15,T11)","v":0},{"$f":"U11/(W4-U8)","v":0},{"$f":"IF(V11=0,0,(V11*((LOG(V11))/LOG(2))))","v":0},null,{"$f":"N11","v":0},{"$f":"COUNTIF(L16:L23,Y11)","v":0},{"$f":"Z11/(AB4-Z8)","v":0},{"$f":"IF(AA11=0,0,(AA11*((LOG(AA11))/LOG(2))))","v":0},null,{"$f":"N11","v":0},{"$f":"COUNTIF(L24:L32,AD11)","v":0},{"$f":"AE11/(AG4-AE8)","v":0},{"$f":"IF(AF11=0,0,(AF11*((LOG(AF11))/LOG(2))))","v":0},null,{"$f":"N11","v":0},{"$f":"COUNTIF(L33:L40,AI11)","v":0},{"$f":"AJ11/(AL4-AJ8)","v":0},{"$f":"IF(AK11=0,0,(AK11*((LOG(AK11))/LOG(2))))","v":0},null,{"$f":"N11","v":0},{"$f":"COUNTIF(L41:L49,AN11)","v":0},{"$f":"AO11/(AQ4-AO8)","v":0},{"$f":"IF(AP11=0,0,(AP11*((LOG(AP11))/LOG(2))))","v":0},null,{"$f":"N11","v":0},{"$f":"COUNTIF(L50:L57,AS11)","v":0},{"$f":"AT11/(AV4-AT8)","v":0},{"$f":"IF(AU11=0,0,(AU11*((LOG(AU11))/LOG(2))))","v":0}]
[11,543,21,554,null,null,null,null,null,null,0,12,null,null,null,null,null,null,null,{"$f":"N12","v":0},{"$f":"COUNTIF(L7:L15,T12)","v":0},{"$f":"U12/(W4-U8)","v":0},{"$f":"IF(V12=0,0,(V12*((LOG(V12))/LOG(2))))","v":0},null,{"$f":"N12","v":0},{"$f":"COUNTIF(L16:L23,Y12)","v":0},{"$f":"Z12/(AB4-Z8)","v":0},{"$f":"IF(AA12=0,0,(AA12*((LOG(AA12))/LOG(2))))","v":0},null,{"$f":"N12","v":0},{"$f":"COUNTIF(L24:L32,AD12)","v":0},{"$f":"AE12/(AG4-AE8)","v":0},{"$f":"IF(AF12=0,0,(AF12*((LOG(AF12))/LOG(2))))","v":0},null,{"$f":"N12","v":0},{"$f":"COUNTIF(L33:L40,AI12)","v":0},{"$f":"AJ12/(AL4-AJ8)","v":0},{"$f":"IF(AK12=0,0,(AK12*((LOG(AK12))/LOG(2))))","v":0},null,{"$f":"N12","v":0},{"$f":"COUNTIF(L41:L49,AN12)","v":0},{"$f":"AO12/(AQ4-AO8)","v":0},{"$f":"IF(AP12=0,0,(AP12*((LOG(AP12))/LOG(2))))","v":0},null,{"$f":"N12","v":0},{"$f":"COUNTIF(L50:L57,AS12)","v":0},{"$f":"AT12/(AV4-AT8)","v":0},{"$f":"IF(AU12=0,0,(AU12*((LOG(AU12))/LOG(2))))","v":0}]
[11,644,21,653,null,null,null,null,null,null,0,12,null,null,null,null,null,null,null,{"$f":"N13","v":0},{"$f":"COUNTIF(L7:L15,T13)","v":0},{"$f":"U13/(W4-U8)","v":0},{"$f":"IF(V13=0,0,(V13*((LOG(V13))/LOG(2))))","v":0},null,{"$f":"N13","v":0},{"$f":"COUNTIF(L16:L23,Y13)","v":0},{"$f":"Z13/(AB4-Z8)","v":0},{"$f":"IF(AA13=0,0,(AA13*((LOG(AA13))/LOG(2))))","v":0},null,{"$f":"N13","v":0},{"$f":"COUNTIF(L24:L32,AD13)","v":0},{"$f":"AE13/(AG4-AE8)","v":0},{"$f":"IF(AF13=0,0,(AF13*((LOG(AF13))/LOG(2))))","v":0},null,{"$f":"N13","v":0},{"$f":"COUNTIF(L33:L40,AI13)","v":0},{"$f":"AJ13/(AL4-AJ8)","v":0},{"$f":"IF(AK13=0,0,(AK13*((LOG(AK13))/LOG(2))))","v":0},null,{"$f":"N13","v":0},{"$f":"COUNTIF(L41:L49,AN13)","v":0},{"$f":"AO13/(AQ4-AO8)","v":0},{"$f":"IF(AP13=0,0,(AP13*((LOG(AP13))/LOG(2))))","v":0},null,{"$f":"N13","v":0},{"$f":"COUNTIF(L50:L57,AS13)","v":0},{"$f":"AT13/(AV4-AT8)","v":0},{"$f":"IF(AU13=0,0,(AU13*((LOG(AU13))/LOG(2))))","v":0}]
[11,739,21,749,null,null,null,null,null,null,0,12,null,null,null,null,null,null,null,{"$f":"N14","v":0},{"$f":"COUNTIF(L7:L15,T14)","v":0},{"$f":"U14/(W4-U8)","v":0},{"$f":"IF(V14=0,0,(V14*((LOG(V14))/LOG(2))))","v":0},null,{"$f":"N14","v":0},{"$f":"COUNTIF(L16:L23,Y14)","v":0},{"$f":"Z14/(AB4-Z8)","v":0},{"$f":"IF(AA14=0,0,(AA14*((LOG(AA14))/LOG(2))))","v":0},null,{"$f":"N14","v":0},{"$f":"COUNTIF(L24:L32,AD14)","v":0},{"$f":"AE14/(AG4-AE8)","v":0},{"$f":"IF(AF14=0,0,(AF14*((LOG(AF14))/LOG(2))))","v":0},null,{"$f":"N14","v":0},{"$f":"COUNTIF(L33:L40,AI14)","v":0},{"$f":"AJ14/(AL4-AJ8)","v":0},{"$f":"IF(AK14=0,0,(AK14*((LOG(AK14))/LOG(2))))","v":0},null,{"$f":"N14","v":0},{"$f":"COUNTIF(L41:L49,AN14)","v":0},{"$f":"AO14/(AQ4-AO8)","v":0},{"$f":"IF(AP14=0,0,(AP14*((LOG(AP14))/LOG(2))))","v":0},null,{"$f":"N14","v":0},{"$f":"COUNTIF(L50:L57,AS14)","v":0},{"$f":"AT14/(AV4-AT8)","v":0},{"$f":"IF(AU14=0,0,(AU14*((LOG(AU14))/LOG(2))))","v":0}]
[22,849,23,890,null,null,null,null,null,null,0,22,null,null,null,{"$f":"SUM(P7:P14)","v":1},{"$f":"-SUM(Q7:Q14)","v":1.0884612049120659},null,null,null,null,{"$f":"SUM(V7:V14)","v":1},{"$f":"-SUM(W7:W14)","v":0},null,null,null,{"$f":"SUM(AA7:AA14)","v":1},{"$f":"-SUM(AB7:AB14)","v":0},null,null,null,{"$f":"SUM(AF7:AF14)","v":1},{"$f":"-SUM(AG7:AG14)","v":0.91829583405448945},null,null,null,{"$f":"SUM(AK7:AK14)","v":1},{"$f":"-SUM(AL7:AL14)","v":0},null,null,null,{"$f":"SUM(AP7:AP14)","v":1},{"$f":"-SUM(AQ7:AQ14)","v":1},null,null,null,{"$f":"SUM(AU7:AU14)","v":1},{"$f":"-SUM(AV7:AV14)","v":0}]
[11,990,21,1006,null,null,null,null,null,null,0,12,null,null,null,"U=",{"$f":"Q15/(LOG(Q4)/LOG(2))","v":0.19188638709059902},null,null,null,null,"U1=",{"$f":"W15/(LOG(W4)/LOG(2))","v":0},null,null,null,"U2=",{"$f":"AB15/(LOG(AB4)/LOG(2))","v":0},null,null,null,"U3=",{"$f":"AG15/(LOG(AG4)/LOG(2))","v":0.28969008214284753},null,null,null,"U4=",{"$f":"AL15/(LOG(AL4)/LOG(2))","v":0},null,null,null,"U5=",{"$f":"AQ15/(LOG(AQ4)/LOG(2))","v":0.31546487678572877},null,null,null,"U6=",{"$f":"AV15/(LOG(AV4)/LOG(2))","v":0}]
[11,1093,21,1103,null,null,null,null,null,null,0,12]
[11,1189,21,1208,null,null,null,null,null,null,0,12]
[11,1294,21,1304,null,null,null,null,null,null,0,12,null,"Total Target Seq"]
[22,1394,23,1413,null,null,null,null,null,null,0,22,null,{"$f":"COUNTIF(L7:L57,G3)","v":39},null,9,8,9,8,9,8]
[11,1498,21,1512,null,null,null,null,null,null,0,12,null,null,null,"% of reinforcement given in 6 equal intervals based on number of trials "]
[11,1598,21,1608,null,null,null,null,null,null,0,12,null,null,null,"%_1","%_2","%_3","%_4","%_5","%_6"]
[22,1700,23,1719,null,null,null,null,null,null,0,22,null,null,"target sequence",{"$f":"$G$3","v":12},{"$f":"$G$3","v":12},{"$f":"$G$3","v":12},{"$f":"$G$3","v":12},{"$f":"$G$3","v":12},{"$f":"$G$3","v":12}]
[22,1838,23,1861,null,null,null,null,null,null,0,22,null,null,"total reinforcement",{"$f":"U8","v":6},{"$f":"Z8","v":6},{"$f":"AE8","v":6},{"$f":"AJ8","v":7},{"$f":"AO8","v":7},{"$f":"AT8","v":7}]
[11,1958,12,1971,null,null,null,null,null,null,0,11,null,null,"% target"]
[11,2066,21,2077,null,null,null,null,null,null,0,12,null,null,"CCRF"]
[11,2162,21,2194,null,null,null,null,null,null,0,12,null,null,"% CCRf"]
[11,2284,21,2295,null,null,null,null,null,null,0,12,null,null,"average response rate",{"$f":"D15/P20","v":98.888888888888886},{"$f":"(D23-D15)/Q20","v":103.625},{"$f":"(D32-D23)/R20","v":113.22222222222223},{"$f":"(D40-D32)/S20","v":100.75},{"$f":"(D49-D40)/T20","v":113.33333333333333},{"$f":"(D57-D49)/U20","v":107}]
[22,2398,23,2417,null,null,null,null,null,null,0,22]
[11,2515,21,2535,null,null,null,null,null,null,0,12]
[11,2620,21,2630,null,null,null,null,null,null,0,12]
[11,2719,21,2738,null,null,null,null,null,null,0,12]
[11,2827,21,2841,null,null,null,null,null,null,0,12]
[11,2929,21,2939,null,null,null,null,null,null,0,12]
[11,3023,21,3034,null,null,null,null,null,null,0,12]
[11,3119,21,3129,null,null,null,null,null,null,0,12]
[11,3217,21,3226,null,null,null,null,null,null,0,12]
[11,3307,12,3318,null,null,null,null,null,null,0,11]
[11,3416,21,3426,null,null,null,null,null,null,0,12]
[11,3528,21,3544,null,null,null,null,null,null,0,12]
[11,3641,21,3652,null,null,null,null,null,null,0,12]
[11,3737,21,3747,null,null,null,null,null,null,0,12]
[11,3848,12,3854,null,null,null,null,null,null,0,11]
[11,3949,21,3959,null,null,null,null,null,null,0,12]
[11,4046,21,4073,null,null,null,null,null,null,0,12]
[11,4167,21,4177,null,null,null,null,null,null,0,12]
[22,4297,14,4350,null,null,null,null,null,null,0,21]
[11,4446,21,4456,null,null,null,null,null,null,0,12]
[11,4553,21,4564,null,null,null,null,null,null,0,12]
[11,4649,12,4697,null,null,null,null,null,null,0,11]
[11,4793,21,4803,null,null,null,null,null,null,0,12]
[11,4888,21,4898,null,null,null,null,null,null,0,12]
[11,4986,21,5004,null,null,null,null,null,null,0,12]
[11,5095,21,5120,null,null,null,null,null,null,0,12]
[11,5214,21,5227,null,null,null,null,null,null,0,12]
[11,5314,21,5325,null,null,null,null,null,null,0,12]
[11,5410,21,5420,null,null,null,null,null,null,1,12]

{"sheet":"!LB19C50.056","index":12,"n_rows":50,"n_cols":48,"rows_kept":50,"cut":false,"hidden":false,"merged":[[4,39,4,42],[5,39,5,40],[4,44,4,47],[5,44,5,45],[4,24,4,27],[5,24,5,25],[4,29,4,32],[5,29,5,30],[4,34,4,37],[5,34,5,35],[1,1,1,2],[5,13,5,14],[18,13,18,14],[19,13,19,14],[4,19,4,22],[5,19,5,20]]}
["Report for:!LB19C50.056"]
["Date:","<date>"]
["Hen:","<hen>",null,null,null,"Correct Sequence",{"$f":"Start!J2","v":12},null,null,null,null,null,null,null,null,"Total Sequences in Data",{"$f":"4994-COUNTBLANK(L7:L5000)","v":44},null,null,null,null,"Total Sequences in Block Data",{"$f":"COUNTA(L7:L13)","v":7},null,null,null,"Total Sequences in Block Data",{"$f":"COUNTA(L14:L21)","v":8},null,null,null,"Total Sequences in Block Data",{"$f":"COUNTA(L22:L28)","v":7},null,null,null,"Total Sequences in Block Data",{"$f":"COUNTA(L29:L35)","v":7},null,null,null,"Total Sequences in Block Data",{"$f":"COUNTA(L36:L43)","v":8},null,null,null,"Total Sequences in Block Data",{"$f":"COUNTA(L44:L50)","v":7}]
[null,null,null,null,null,null,null,null,null,null,null,null,null,null,null,"Total Sequences in Summary",{"$f":"SUM(O7:O14)","v":44},null,null,null,null,"Total Sequences in Block Summary",{"$f":"SUM(U7:U14)","v":7},null,null,null,"Total Sequences in Block Summary",{"$f":"SUM(Z7:Z14)","v":8},null,null,null,"Total Sequences in Block Summary",{"$f":"SUM(AE7:AE14)","v":7},null,null,null,"Total Sequences in Block Summary",{"$f":"SUM(AJ7:AJ14)","v":7},null,null,null,"Total Sequences in Block Summary",{"$f":"SUM(AO7:AO14)","v":8},null,null,null,"Total Sequences in Block Summary",{"$f":"SUM(AT7:AT14)","v":7}]
[null,null,null,null,null,null,null,null,null,null,null,null,null,null,null,null,null,null,null,"Block 1",null,null,null,null,"Block 2",null,null,null,null,"Block 3",null,null,null,null,"Block 4",null,null,null,null,"Block 5",null,null,null,null,"Block 6"]
["Sequence\nComponent\n1","Time\n1","Sequence\nComponent\n2","Time\n2","Sequence\nComponent\n3","Time\n3","Sequence\nComponent\n4","Time\n4","Sequence\nComponent\n5","Time\n5","Correct?\n0=No 1=Yes","Sequence",null,"Frequency",null,"Relative Frequency","Variability",null,null,"Frequency",null,"Relative Frequency","Variability",null,"Frequency",null,"Relative Frequency","Variability",null,"Frequency",null,"Relative Frequency","Variability",null,"Frequency",null,"Relative Frequency","Variability",null,"Frequency",null,"Relative Frequency","Variability",null,"Frequency",null,"Relative Frequency","Variability"]
[22,16,23,30,null,null,null,null,null,null,0,22,null,11,{"$f":"COUNTIF($L$7:$L$500,N7)","v":1},{"$f":"O7/$Q$4","v":2.2727272727272728E-2},{"$f":"IF(P7=0,0,(P7*((LOG(P7))/LOG(2))))","v":-0.12407799133266585},null,null,{"$f":"N7","v":11},{"$f":"COUNTIF(L7:L13,T7)","v":0},{"$f":"U7/(W4-U8)","v":0},{"$f":"IF(V7=0,0,(V7*((LOG(V7))/LOG(2))))","v":0},null,{"$f":"N7","v":11},{"$f":"COUNTIF(L14:L21,Y7)","v":0},{"$f":"Z7/(AB4-Z8)","v":0},{"$f":"IF(AA7=0,0,(AA7*((LOG(AA7))/LOG(2))))","v":0},null,{"$f":"N7","v":11},{"$f":"COUNTIF(L22:L28,AD7)","v":1},{"$f":"AE7/(AG4-AE8)","v":1},{"$f":"IF(AF7=0,0,(AF7*((LOG(AF7))/LOG(2))))","v":0},null,{"$f":"N7","v":11},{"$f":"COUNTIF(L29:L35,AI7)","v":0},{"$f":"AJ7/(AL4-AJ8)","v":{"$error":"#DIV/0!"}},{"$f":"IF(AK7=0,0,(AK7*((LOG(AK7))/LOG(2))))","v":{"$error":"#DIV/0!"}},null,{"$f":"N7","v":11},{"$f":"COUNTIF(L36:L43,AN7)","v":0},{"$f":"AO7/(AQ4-AO8)","v":{"$error":"#DIV/0!"}},{"$f":"IF(AP7=0,0,(AP7*((LOG(AP7))/LOG(2))))","v":{"$error":"#DIV/0!"}},null,{"$f":"N7","v":11},{"$f":"COUNTIF(L44:L50,AS7)","v":0},{"$f":"AT7/(AV4-AT8)","v":{"$error":"#DIV/0!"}},{"$f":"IF(AU7=0,0,(AU7*((LOG(AU7))/LOG(2))))","v":{"$error":"#DIV/0!"}}]
[11,135,21,145,null,null,null,null,null,null,0,12,null,12,{"$f":"COUNTIF($L$7:$L$500,N8)","v":39},{"$f":"O8/$Q$4","v":0.88636363636363635},{"$f":"IF(P8=0,0,(P8*((LOG(P8))/LOG(2))))","v":-0.15425333161879334},null,null,{"$f":"N8","v":12},{"$f":"COUNTIF(L7:L13,T8)","v":4},null,null,null,{"$f":"N8","v":12},{"$f":"COUNTIF(L14:L21,Y8)","v":7},null,null,null,{"$f":"N8","v":12},{"$f":"COUNTIF(L22:L28,AD8)","v":6},null,null,null,{"$f":"N8","v":12},{"$f":"COUNTIF(L29:L35,AI8)","v":7},null,null,null,{"$f":"N8","v":12},{"$f":"COUNTIF(L36:L43,AN8)","v":8},null,null,null,{"$f":"N8","v":12},{"$f":"COUNTIF(L44:L50,AS8)","v":7}]
[11,234,21,240,null,null,null,null,null,null,0,12,null,21,{"$f":"COUNTIF($L$7:$L$500,N9)","v":0},{"$f":"O9/$Q$4","v":0},{"$f":"IF(P9=0,0,(P9*((LOG(P9))/LOG(2))))","v":0},null,null,{"$f":"N9","v":21},{"$f":"COUNTIF(L7:L13,T9)","v":0},{"$f":"U9/(W4-U8)","v":0},{"$f":"IF(V9=0,0,(V9*((LOG(V9))/LOG(2))))","v":0},null,{"$f":"N9","v":21},{"$f":"COUNTIF(L14:L21,Y9)","v":0},{"$f":"Z9/(AB4-Z8)","v":0},{"$f":"IF(AA9=0,0,(AA9*((LOG(AA9))/LOG(2))))","v":0},null,{"$f":"N9","v":21},{"$f":"COUNTIF(L22:L28,AD9)","v":0},{"$f":"AE9/(AG4-AE8)","v":0},{"$f":"IF(AF9=0,0,(AF9*((LOG(AF9))/LOG(2))))","v":0},null,{"$f":"N9","v":21},{"$f":"COUNTIF(L29:L35,AI9)","v":0},{"$f":"AJ9/(AL4-AJ8)","v":{"$error":"#DIV/0!"}},{"$f":"IF(AK9=0,0,(AK9*((LOG(AK9))/LOG(2))))","v":{"$error":"#DIV/0!"}},null,{"$f":"N9","v":21},{"$f":"COUNTIF(L36:L43,AN9)","v":0},{"$f":"AO9/(AQ4-AO8)","v":{"$error":"#DIV/0!"}},{"$f":"IF(AP9=0,0,(AP9*((LOG(AP9))/LOG(2))))","v":{"$error":"#DIV/0!"}},null,{"$f":"N9","v":21},{"$f":"COUNTIF(L44:L50,AS9)","v":0},{"$f":"AT9/(AV4-AT8)","v":{"$error":"#DIV/0!"}},{"$f":"IF(AU9=0,0,(AU9*((LOG(AU9))/LOG(2))))","v":{"$error":"#DIV/0!"}}]
[11,338,21,348,null,null,null,null,null,null,0,12,null,22,{"$f":"COUNTIF($L$7:$L$500,N10)","v":4},{"$f":"O10/$Q$4","v":9.0909090909090912E-2},{"$f":"IF(P10=0,0,(P10*((LOG(P10))/LOG(2))))","v":-0.31449378351248153},null,null,{"$f":"N10","v":22},{"$f":"COUNTIF(L7:L13,T10)","v":3},{"$f":"U10/(W4-U8)","v":1},{"$f":"IF(V10=0,0,(V10*((LOG(V10))/LOG(2))))","v":0},null,{"$f":"N10","v":22},{"$f":"COUNTIF(L14:L21,Y10)","v":1},{"$f":"Z10/(AB4-Z8)","v":1},{"$f":"IF(AA10=0,0,(AA10*((LOG(AA10))/LOG(2))))","v":0},null,{"$f":"N10","v":22},{"$f":"COUNTIF(L22:L28,AD10)","v":0},{"$f":"AE10/(AG4-AE8)","v":0},{"$f":"IF(AF10=0,0,(AF10*((LOG(AF10))/LOG(2))))","v":0},null,{"$f":"N10","v":22},{"$f":"COUNTIF(L29:L35,AI10)","v":0},{"$f":"AJ10/(AL4-AJ8)","v":{"$error":"#DIV/0!"}},{"$f":"IF(AK10=0,0,(AK10*((LOG(AK10))/LOG(2))))","v":{"$error":"#DIV/0!"}},null,{"$f":"N10","v":22},{"$f":"COUNTIF(L36:L43,AN10)","v":0},{"$f":"AO10/(AQ4-AO8)","v":{"$error":"#DIV/0!"}},{"$f":"IF(AP10=0,0,(AP10*((LOG(AP10))/LOG(2))))","v":{"$error":"#DIV/0!"}},null,{"$f":"N10","v":22},{"$f":"COUNTIF(L44:L50,AS10)","v":0},{"$f":"AT10/(AV4-AT8)","v":{"$error":"#DIV/0!"}},{"$f":"IF(AU10=0,0,(AU10*((LOG(AU10))/LOG(2))))","v":{"$error":"#DIV/0!"}}]
[22,439,23,453,null,null,null,null,null,null,0,22,null,null,null,null,null,null,null,{"$f":"N11","v":0},{"$f":"COUNTIF(L7:L13,T11)","v":0},{"$f":"U11/(W4-U8)","v":0},{"$f":"IF(V11=0,0,(V11*((LOG(V11))/LOG(2))))","v":0},null,{"$f":"N11","v":0},{"$f":"COUNTIF(L14:L21,Y11)","v":0},{"$f":"Z11/(AB4-Z8)","v":0},{"$f":"IF(AA11=0,0,(AA11*((LOG(AA11))/LOG(2))))","v":0},null,{"$f":"N11","v":0},{"$f":"COUNTIF(L22:L28,AD11)","v":0},{"$f":"AE11/(AG4-AE8)","v":0},{"$f":"IF(AF11=0,0,(AF11*((LOG(AF11))/LOG(2))))","v":0},null,{"$f":"N11","v":0},{"$f":"COUNTIF(L29:L35,AI11)","v":0},{"$f":"AJ11/(AL4-AJ8)","v":{"$error":"#DIV/0!"}},{"$f":"IF(AK11=0,0,(AK11*((LOG(AK11))/LOG(2))))","v":{"$error":"#DIV/0!"}},null,{"$f":"N11","v":0},{"$f":"COUNTIF(L36:L43,AN11)","v":0},{"$f":"AO11/(AQ4-AO8)","v":{"$error":"#DIV/0!"}},{"$f":"IF(AP11=0,0,(AP11*((LOG(AP11))/LOG(2))))","v":{"$error":"#DIV/0!"}},null,{"$f":"N11","v":0},{"$f":"COUNTIF(L44:L50,AS11)","v":0},{"$f":"AT11/(AV4-AT8)","v":{"$error":"#DIV/0!"}},{"$f":"IF(AU11=0,0,(AU11*((LOG(AU11))/LOG(2))))","v":{"$error":"#DIV/0!"}}]
[22,556,23,578,null,null,null,null,null,null,0,22,null,null,null,null,null,null,null,{"$f":"N12","v":0},{"$f":"COUNTIF(L7:L13,T12)","v":0},{"$f":"U12/(W4-U8)","v":0},{"$f":"IF(V12=0,0,(V12*((LOG(V12))/LOG(2))))","v":0},null,{"$f":"N12","v":0},{"$f":"COUNTIF(L14:L21,Y12)","v":0},{"$f":"Z12/(AB4-Z8)","v":0},{"$f":"IF(AA12=0,0,(AA12*((LOG(AA12))/LOG(2))))","v":0},null,{"$f":"N12","v":0},{"$f":"COUNTIF(L22:L28,AD12)","v":0},{"$f":"AE12/(AG4-AE8)","v":0},{"$f":"IF(AF12=0,0,(AF12*((LOG(AF12))/LOG(2))))","v":0},null,{"$f":"N12","v":0},{"$f":"COUNTIF(L29:L35,AI12)","v":0},{"$f":"AJ12/(AL4-AJ8)","v":{"$error":"#DIV/0!"}},{"$f":"IF(AK12=0,0,(AK12*((LOG(AK12))/LOG(2))))","v":{"$error":"#DIV/0!"}},null,{"$f":"N12","v":0},{"$f":"COUNTIF(L36:L43,AN12)","v":0},{"$f":"AO12/(AQ4-AO8)","v":{"$error":"#DIV/0!"}},{"$f":"IF(AP12=0,0,(AP12*((LOG(AP12))/LOG(2))))","v":{"$error":"#DIV/0!"}},null,{"$f":"N12","v":0},{"$f":"COUNTIF(L44:L50,AS12)","v":0},{"$f":"AT12/(AV4-AT8)","v":{"$error":"#DIV/0!"}},{"$f":"IF(AU12=0,0,(AU12*((LOG(AU12))/LOG(2))))","v":{"$error":"#DIV/0!"}}]
[11,676,21,691,null,null,null,null,null,null,0,12,null,null,null,null,null,null,null,{"$f":"N13","v":0},{"$f":"COUNTIF(L7:L13,T13)","v":0},{"$f":"U13/(W4-U8)","v":0},{"$f":"IF(V13=0,0,(V13*((LOG(V13))/LOG(2))))","v":0},null,{"$f":"N13","v":0},{"$f":"COUNTIF(L14:L21,Y13)","v":0},{"$f":"Z13/(AB4-Z8)","v":0},{"$f":"IF(AA13=0,0,(AA13*((LOG(AA13))/LOG(2))))","v":0},null,{"$f":"N13","v":0},{"$f":"COUNTIF(L22:L28,AD13)","v":0},{"$f":"AE13/(AG4-AE8)","v":0},{"$f":"IF(AF13=0,0,(AF13*((LOG(AF13))/LOG(2))))","v":0},null,{"$f":"N13","v":0},{"$f":"COUNTIF(L29:L35,AI13)","v":0},{"$f":"AJ13/(AL4-AJ8)","v":{"$error":"#DIV/0!"}},{"$f":"IF(AK13=0,0,(AK13*((LOG(AK13))/LOG(2))))","v":{"$error":"#DIV/0!"}},null,{"$f":"N13","v":0},{"$f":"COUNTIF(L36:L43,AN13)","v":0},{"$f":"AO13/(AQ4-AO8)","v":{"$error":"#DIV/0!"}},{"$f":"IF(AP13=0,0,(AP13*((LOG(AP13))/LOG(2))))","v":{"$error":"#DIV/0!"}},null,{"$f":"N13","v":0},{"$f":"COUNTIF(L44:L50,AS13)","v":0},{"$f":"AT13/(AV4-AT8)","v":{"$error":"#DIV/0!"}},{"$f":"IF(AU13=0,0,(AU13*((LOG(AU13))/LOG(2))))","v":{"$error":"#DIV/0!"}}]
[22,792,23,801,null,null,null,null,null,null,0,22,null,null,null,null,null,null,null,{"$f":"N14","v":0},{"$f":"COUNTIF(L7:L13,T14)","v":0},{"$f":"U14/(W4-U8)","v":0},{"$f":"IF(V14=0,0,(V14*((LOG(V14))/LOG(2))))","v":0},null,{"$f":"N14","v":0},{"$f":"COUNTIF(L14:L21,Y14)","v":0},{"$f":"Z14/(AB4-Z8)","v":0},{"$f":"IF(AA14=0,0,(AA14*((LOG(AA14))/LOG(2))))","v":0},null,{"$f":"N14","v":0},{"$f":"COUNTIF(L22:L28,AD14)","v":0},{"$f":"AE14/(AG4-AE8)","v":0},{"$f":"IF(AF14=0,0,(AF14*((LOG(AF14))/LOG(2))))","v":0},null,{"$f":"N14","v":0},{"$f":"COUNTIF(L29:L35,AI14)","v":0},{"$f":"AJ14/(AL4-AJ8)","v":{"$error":"#DIV/0!"}},{"$f":"IF(AK14=0,0,(AK14*((LOG(AK14))/LOG(2))))","v":{"$error":"#DIV/0!"}},null,{"$f":"N14","v":0},{"$f":"COUNTIF(L36:L43,AN14)","v":0},{"$f":"AO14/(AQ4-AO8)","v":{"$error":"#DIV/0!"}},{"$f":"IF(AP14=0,0,(AP14*((LOG(AP14))/LOG(2))))","v":{"$error":"#DIV/0!"}},null,{"$f":"N14","v":0},{"$f":"COUNTIF(L44:L50,AS14)","v":0},{"$f":"AT14/(AV4-AT8)","v":{"$error":"#DIV/0!"}},{"$f":"IF(AU14=0,0,(AU14*((LOG(AU14))/LOG(2))))","v":{"$error":"#DIV/0!"}}]
[11,898,21,908,null,null,null,null,null,null,0,12,null,null,null,{"$f":"SUM(P7:P14)","v":1},{"$f":"-SUM(Q7:Q14)","v":0.59282510646394071},null,null,null,null,{"$f":"SUM(V7:V14)","v":1},{"$f":"-SUM(W7:W14)","v":0},null,null,null,{"$f":"SUM(AA7:AA14)","v":1},{"$f":"-SUM(AB7:AB14)","v":0},null,null,null,{"$f":"SUM(AF7:AF14)","v":1},{"$f":"-SUM(AG7:AG14)","v":0},null,null,null,{"$f":"SUM(AK7:AK14)","v":{"$error":"#DIV/0!"}},{"$f":"-SUM(AL7:AL14)","v":{"$error":"#DIV/0!"}},null,null,null,{"$f":"SUM(AP7:AP14)","v":{"$error":"#DIV/0!"}},{"$f":"-SUM(AQ7:AQ14)","v":{"$error":"#DIV/0!"}},null,null,null,{"$f":"SUM(AU7:AU14)","v":{"$error":"#DIV/0!"}},{"$f":"-SUM(AV7:AV14)","v":{"$error":"#DIV/0!"}}]
[11,994,21,1006,null,null,null,null,null,null,0,12,null,null,null,"U=",{"$f":"Q15/(LOG(Q4)/LOG(2))","v":0.10858733067379511},null,null,null,null,"U1=",{"$f":"W15/(LOG(W4)/LOG(2))","v":0},null,null,null,"U2=",{"$f":"AB15/(LOG(AB4)/LOG(2))","v":0},null,null,null,"U3=",{"$f":"AG15/(LOG(AG4)/LOG(2))","v":0},null,null,null,"U4=",{"$f":"AL15/(LOG(AL4)/LOG(2))","v":{"$error":"#DIV/0!"}},null,null,null,"U5=",{"$f":"AQ15/(LOG(AQ4)/LOG(2))","v":{"$error":"#DIV/0!"}},null,null,null,"U6=",{"$f":"AV15/(LOG(AV4)/LOG(2))","v":{"$error":"#DIV/0!"}}]
[11,1090,21,1100,null,null,null,null,null,null,0,12]
[11,1192,21,1201,null,null,null,null,null,null,0,12]
[11,1287,21,1296,null,null,null,null,null,null,0,12,null,"Total Target Seq"]
[11,1382,21,1391,null,null,null,null,null,null,0,12,null,{"$f":"COUNTIF(L7:L50,G3)","v":39},null,7,8,7,7,8,7]
[11,1476,21,1485,null,null,null,null,null,null,0,12,null,null,null,"% of reinforcement given in 6 equal intervals based on number of trials "]
[11,1569,21,1578,null,null,null,null,null,null,0,12,null,null,null,"%_1","%_2","%_3","%_4","%_5","%_6"]
[11,1659,12,1664,null,null,null,null,null,null,0,11,null,null,"target sequence",{"$f":"$G$3","v":12},{"$f":"$G$3","v":12},{"$f":"$G$3","v":12},{"$f":"$G$3","v":12},{"$f":"$G$3","v":12},{"$f":"$G$3","v":12}]
[11,1762,21,1777,null,null,null,null,null,null,0,12,null,null,"total reinforcement",{"$f":"U8","v":4},{"$f":"Z8","v":7},{"$f":"AE8","v":6},{"$f":"AJ8","v":7},{"$f":"AO8","v":8},{"$f":"AT8","v":7}]
[11,1861,21,1871,null,null,null,null,null,null,0,12,null,null,"% target"]
[11,1961,21,1970,null,null,null,null,null,null,0,12,null,null,"CCRF"]
[11,2055,21,2064,null,null,null,null,null,null,0,12,null,null,"% CCRf"]
[11,2147,21,2157,null,null,null,null,null,null,0,12,null,null,"average response rate",{"$f":"D13/P20","v":98.714285714285708},{"$f":"(D21-D13)/Q20","v":99.25},{"$f":"(D28-D21)/R20","v":96},{"$f":"(D35-D28)/S20","v":99.714285714285708},{"$f":"(D43-D35)/T20","v":98.25},{"$f":"(D50-D43)/U20","v":108.57142857142857}]
[11,2246,21,2254,null,null,null,null,null,null,0,12]
[11,2340,21,2353,null,null,null,null,null,null,0,12]
[11,2439,21,2448,null,null,null,null,null,null,0,12]
[11,2535,21,2544,null,null,null,null,null,null,0,12]
[11,2629,21,2639,null,null,null,null,null,null,0,12]
[11,2724,21,2756,null,null,null,null,null,null,0,12]
[11,2841,21,2855,null,null,null,null,null,null,0,12]
[11,2939,21,2948,null,null,null,null,null,null,0,12]
[11,3047,21,3055,null,null,null,null,null,null,0,12]
[11,3141,21,3151,null,null,null,null,null,null,0,12]
[11,3236,21,3246,null,null,null,null,null,null,0,12]
[11,3335,21,3345,null,null,null,null,null,null,0,12]
[11,3430,21,3439,null,null,null,null,null,null,0,12]
[11,3524,21,3536,null,null,null,null,null,null,0,12]
[11,3623,21,3641,null,null,null,null,null,null,0,12]
[11,3729,21,3738,null,null,null,null,null,null,0,12]
[11,3826,21,3846,null,null,null,null,null,null,0,12]
[11,3937,21,3973,null,null,null,null,null,null,0,12]
[11,4062,21,4079,null,null,null,null,null,null,0,12]
[11,4163,21,4187,null,null,null,null,null,null,0,12]
[11,4272,21,4308,null,null,null,null,null,null,0,12]
[11,4395,21,4401,null,null,null,null,null,null,1,12]

{"sheet":"!LB20B50.056","index":13,"n_rows":50,"n_cols":48,"rows_kept":50,"cut":false,"hidden":false,"merged":[[4,39,4,42],[5,39,5,40],[4,44,4,47],[5,44,5,45],[4,24,4,27],[5,24,5,25],[4,29,4,32],[5,29,5,30],[4,34,4,37],[5,34,5,35],[1,1,1,2],[5,13,5,14],[18,13,18,14],[19,13,19,14],[4,19,4,22],[5,19,5,20]]}
["Report for:!LB20B50.056"]
["Date:","<date>"]
["Hen:","<hen>",null,null,null,"Correct Sequence",{"$f":"Start!J2","v":12},null,null,null,null,null,null,null,null,"Total Sequences in Data",{"$f":"4994-COUNTBLANK(L7:L5000)","v":44},null,null,null,null,"Total Sequences in Block Data",{"$f":"COUNTA(L7:L13)","v":7},null,null,null,"Total Sequences in Block Data",{"$f":"COUNTA(L14:L21)","v":8},null,null,null,"Total Sequences in Block Data",{"$f":"COUNTA(L22:L28)","v":7},null,null,null,"Total Sequences in Block Data",{"$f":"COUNTA(L29:L35)","v":7},null,null,null,"Total Sequences in Block Data",{"$f":"COUNTA(L36:L43)","v":8},null,null,null,"Total Sequences in Block Data",{"$f":"COUNTA(L44:L50)","v":7}]
[null,null,null,null,null,null,null,null,null,null,null,null,null,null,null,"Total Sequences in Summary",{"$f":"SUM(O7:O14)","v":44},null,null,null,null,"Total Sequences in Block Summary",{"$f":"SUM(U7:U14)","v":7},null,null,null,"Total Sequences in Block Summary",{"$f":"SUM(Z7:Z14)","v":8},null,null,null,"Total Sequences in Block Summary",{"$f":"SUM(AE7:AE14)","v":7},null,null,null,"Total Sequences in Block Summary",{"$f":"SUM(AJ7:AJ14)","v":7},null,null,null,"Total Sequences in Block Summary",{"$f":"SUM(AO7:AO14)","v":8},null,null,null,"Total Sequences in Block Summary",{"$f":"SUM(AT7:AT14)","v":7}]
[null,null,null,null,null,null,null,null,null,null,null,null,null,null,null,null,null,null,null,"Block 1",null,null,null,null,"Block 2",null,null,null,null,"Block 3",null,null,null,null,"Block 4",null,null,null,null,"Block 5",null,null,null,null,"Block 6"]
["Sequence\nComponent\n1","Time\n1","Sequence\nComponent\n2","Time\n2","Sequence\nComponent\n3","Time\n3","Sequence\nComponent\n4","Time\n4","Sequence\nComponent\n5","Time\n5","Correct?\n0=No 1=Yes","Sequence",null,"Frequency",null,"Relative Frequency","Variability",null,null,"Frequency",null,"Relative Frequency","Variability",null,"Frequency",null,"Relative Frequency","Variability",null,"Frequency",null,"Relative Frequency","Variability",null,"Frequency",null,"Relative Frequency","Variability",null,"Frequency",null,"Relative Frequency","Variability",null,"Frequency",null,"Relative Frequency","Variability"]
[22,17,23,37,null,null,null,null,null,null,0,22,null,11,{"$f":"COUNTIF($L$7:$L$500,N7)","v":0},{"$f":"O7/$Q$4","v":0},{"$f":"IF(P7=0,0,(P7*((LOG(P7))/LOG(2))))","v":0},null,null,{"$f":"N7","v":11},{"$f":"COUNTIF(L7:L13,T7)","v":0},{"$f":"U7/(W4-U8)","v":0},{"$f":"IF(V7=0,0,(V7*((LOG(V7))/LOG(2))))","v":0},null,{"$f":"N7","v":11},{"$f":"COUNTIF(L14:L21,Y7)","v":0},{"$f":"Z7/(AB4-Z8)","v":{"$error":"#DIV/0!"}},{"$f":"IF(AA7=0,0,(AA7*((LOG(AA7))/LOG(2))))","v":{"$error":"#DIV/0!"}},null,{"$f":"N7","v":11},{"$f":"COUNTIF(L22:L28,AD7)","v":0},{"$f":"AE7/(AG4-AE8)","v":{"$error":"#DIV/0!"}},{"$f":"IF(AF7=0,0,(AF7*((LOG(AF7))/LOG(2))))","v":{"$error":"#DIV/0!"}},null,{"$f":"N7","v":11},{"$f":"COUNTIF(L29:L35,AI7)","v":0},{"$f":"AJ7/(AL4-AJ8)","v":0},{"$f":"IF(AK7=0,0,(AK7*((LOG(AK7))/LOG(2))))","v":0},null,{"$f":"N7","v":11},{"$f":"COUNTIF(L36:L43,AN7)","v":0},{"$f":"AO7/(AQ4-AO8)","v":{"$error":"#DIV/0!"}},{"$f":"IF(AP7=0,0,(AP7*((LOG(AP7))/LOG(2))))","v":{"$error":"#DIV/0!"}},null,{"$f":"N7","v":11},{"$f":"COUNTIF(L44:L50,AS7)","v":0},{"$f":"AT7/(AV4-AT8)","v":{"$error":"#DIV/0!"}},{"$f":"IF(AU7=0,0,(AU7*((LOG(AU7))/LOG(2))))","v":{"$error":"#DIV/0!"}}]
[22,134,23,141,null,null,null,null,null,null,0,22,null,12,{"$f":"COUNTIF($L$7:$L$500,N8)","v":39},{"$f":"O8/$Q$4","v":0.88636363636363635},{"$f":"IF(P8=0,0,(P8*((LOG(P8))/LOG(2))))","v":-0.15425333161879334},null,null,{"$f":"N8","v":12},{"$f":"COUNTIF(L7:L13,T8)","v":3},null,null,null,{"$f":"N8","v":12},{"$f":"COUNTIF(L14:L21,Y8)","v":8},null,null,null,{"$f":"N8","v":12},{"$f":"COUNTIF(L22:L28,AD8)","v":7},null,null,null,{"$f":"N8","v":12},{"$f":"COUNTIF(L29:L35,AI8)","v":6},null,null,null,{"$f":"N8","v":12},{"$f":"COUNTIF(L36:L43,AN8)","v":8},null,null,null,{"$f":"N8","v":12},{"$f":"COUNTIF(L44:L50,AS8)","v":7}]
[22,238,23,255,null,null,null,null,null,null,0,22,null,21,{"$f":"COUNTIF($L$7:$L$500,N9)","v":0},{"$f":"O9/$Q$4","v":0},{"$f":"IF(P9=0,0,(P9*((LOG(P9))/LOG(2))))","v":0},null,null,{"$f":"N9","v":21},{"$f":"COUNTIF(L7:L13,T9)","v":0},{"$f":"U9/(W4-U8)","v":0},{"$f":"IF(V9=0,0,(V9*((LOG(V9))/LOG(2))))","v":0},null,{"$f":"N9","v":21},{"$f":"COUNTIF(L14:L21,Y9)","v":0},{"$f":"Z9/(AB4-Z8)","v":{"$error":"#DIV/0!"}},{"$f":"IF(AA9=0,0,(AA9*((LOG(AA9))/LOG(2))))","v":{"$error":"#DIV/0!"}},null,{"$f":"N9","v":21},{"$f":"COUNTIF(L22:L28,AD9)","v":0},{"$f":"AE9/(AG4-AE8)","v":{"$error":"#DIV/0!"}},{"$f":"IF(AF9=0,0,(AF9*((LOG(AF9))/LOG(2))))","v":{"$error":"#DIV/0!"}},null,{"$f":"N9","v":21},{"$f":"COUNTIF(L29:L35,AI9)","v":0},{"$f":"AJ9/(AL4-AJ8)","v":0},{"$f":"IF(AK9=0,0,(AK9*((LOG(AK9))/LOG(2))))","v":0},null,{"$f":"N9","v":21},{"$f":"COUNTIF(L36:L43,AN9)","v":0},{"$f":"AO9/(AQ4-AO8)","v":{"$error":"#DIV/0!"}},{"$f":"IF(AP9=0,0,(AP9*((LOG(AP9))/LOG(2))))","v":{"$error":"#DIV/0!"}},null,{"$f":"N9","v":21},{"$f":"COUNTIF(L44:L50,AS9)","v":0},{"$f":"AT9/(AV4-AT8)","v":{"$error":"#DIV/0!"}},{"$f":"IF(AU9=0,0,(AU9*((LOG(AU9))/LOG(2))))","v":{"$error":"#DIV/0!"}}]
[11,358,21,368,null,null,null,null,null,null,0,12,null,22,{"$f":"COUNTIF($L$7:$L$500,N10)","v":5},{"$f":"O10/$Q$4","v":0.11363636363636363},{"$f":"IF(P10=0,0,(P10*((LOG(P10))/LOG(2))))","v":-0.35653449133521992},null,null,{"$f":"N10","v":22},{"$f":"COUNTIF(L7:L13,T10)","v":4},{"$f":"U10/(W4-U8)","v":1},{"$f":"IF(V10=0,0,(V10*((LOG(V10))/LOG(2))))","v":0},null,{"$f":"N10","v":22},{"$f":"COUNTIF(L14:L21,Y10)","v":0},{"$f":"Z10/(AB4-Z8)","v":{"$error":"#DIV/0!"}},{"$f":"IF(AA10=0,0,(AA10*((LOG(AA10))/LOG(2))))","v":{"$error":"#DIV/0!"}},null,{"$f":"N10","v":22},{"$f":"COUNTIF(L22:L28,AD10)","v":0},{"$f":"AE10/(AG4-AE8)","v":{"$error":"#DIV/0!"}},{"$f":"IF(AF10=0,0,(AF10*((LOG(AF10))/LOG(2))))","v":{"$error":"#DIV/0!"}},null,{"$f":"N10","v":22},{"$f":"COUNTIF(L29:L35,AI10)","v":1},{"$f":"AJ10/(AL4-AJ8)","v":1},{"$f":"IF(AK10=0,0,(AK10*((LOG(AK10))/LOG(2))))","v":0},null,{"$f":"N10","v":22},{"$f":"COUNTIF(L36:L43,AN10)","v":0},{"$f":"AO10/(AQ4-AO8)","v":{"$error":"#DIV/0!"}},{"$f":"IF(AP10=0,0,(AP10*((LOG(AP10))/LOG(2))))","v":{"$error":"#DIV/0!"}},null,{"$f":"N10","v":22},{"$f":"COUNTIF(L44:L50,AS10)","v":0},{"$f":"AT10/(AV4-AT8)","v":{"$error":"#DIV/0!"}},{"$f":"IF(AU10=0,0,(AU10*((LOG(AU10))/LOG(2))))","v":{"$error":"#DIV/0!"}}]
[22,468,23,486,null,null,null,null,null,null,0,22,null,null,null,null,null,null,null,{"$f":"N11","v":0},{"$f":"COUNTIF(L7:L13,T11)","v":0},{"$f":"U11/(W4-U8)","v":0},{"$f":"IF(V11=0,0,(V11*((LOG(V11))/LOG(2))))","v":0},null,{"$f":"N11","v":0},{"$f":"COUNTIF(L14:L21,Y11)","v":0},{"$f":"Z11/(AB4-Z8)","v":{"$error":"#DIV/0!"}},{"$f":"IF(AA11=0,0,(AA11*((LOG(AA11))/LOG(2))))","v":{"$error":"#DIV/0!"}},null,{"$f":"N11","v":0},{"$f":"COUNTIF(L22:L28,AD11)","v":0},{"$f":"AE11/(AG4-AE8)","v":{"$error":"#DIV/0!"}},{"$f":"IF(AF11=0,0,(AF11*((LOG(AF11))/LOG(2))))","v":{"$error":"#DIV/0!"}},null,{"$f":"N11","v":0},{"$f":"COUNTIF(L29:L35,AI11)","v":0},{"$f":"AJ11/(AL4-AJ8)","v":0},{"$f":"IF(AK11=0,0,(AK11*((LOG(AK11))/LOG(2))))","v":0},null,{"$f":"N11","v":0},{"$f":"COUNTIF(L36:L43,AN11)","v":0},{"$f":"AO11/(AQ4-AO8)","v":{"$error":"#DIV/0!"}},{"$f":"IF(AP11=0,0,(AP11*((LOG(AP11))/LOG(2))))","v":{"$error":"#DIV/0!"}},null,{"$f":"N11","v":0},{"$f":"COUNTIF(L44:L50,AS11)","v":0},{"$f":"AT11/(AV4-AT8)","v":{"$error":"#DIV/0!"}},{"$f":"IF(AU11=0,0,(AU11*((LOG(AU11))/LOG(2))))","v":{"$error":"#DIV/0!"}}]
[11,585,21,597,null,null,null,null,null,null,0,12,null,null,null,null,null,null,null,{"$f":"N12","v":0},{"$f":"COUNTIF(L7:L13,T12)","v":0},{"$f":"U12/(W4-U8)","v":0},{"$f":"IF(V12=0,0,(V12*((LOG(V12))/LOG(2))))","v":0},null,{"$f":"N12","v":0},{"$f":"COUNTIF(L14:L21,Y12)","v":0},{"$f":"Z12/(AB4-Z8)","v":{"$error":"#DIV/0!"}},{"$f":"IF(AA12=0,0,(AA12*((LOG(AA12))/LOG(2))))","v":{"$error":"#DIV/0!"}},null,{"$f":"N12","v":0},{"$f":"COUNTIF(L22:L28,AD12)","v":0},{"$f":"AE12/(AG4-AE8)","v":{"$error":"#DIV/0!"}},{"$f":"IF(AF12=0,0,(AF12*((LOG(AF12))/LOG(2))))","v":{"$error":"#DIV/0!"}},null,{"$f":"N12","v":0},{"$f":"COUNTIF(L29:L35,AI12)","v":0},{"$f":"AJ12/(AL4-AJ8)","v":0},{"$f":"IF(AK12=0,0,(AK12*((LOG(AK12))/LOG(2))))","v":0},null,{"$f":"N12","v":0},{"$f":"COUNTIF(L36:L43,AN12)","v":0},{"$f":"AO12/(AQ4-AO8)","v":{"$error":"#DIV/0!"}},{"$f":"IF(AP12=0,0,(AP12*((LOG(AP12))/LOG(2))))","v":{"$error":"#DIV/0!"}},null,{"$f":"N12","v":0},{"$f":"COUNTIF(L44:L50,AS12)","v":0},{"$f":"AT12/(AV4-AT8)","v":{"$error":"#DIV/0!"}},{"$f":"IF(AU12=0,0,(AU12*((LOG(AU12))/LOG(2))))","v":{"$error":"#DIV/0!"}}]
[11,682,21,692,null,null,null,null,null,null,0,12,null,null,null,null,null,null,null,{"$f":"N13","v":0},{"$f":"COUNTIF(L7:L13,T13)","v":0},{"$f":"U13/(W4-U8)","v":0},{"$f":"IF(V13=0,0,(V13*((LOG(V13))/LOG(2))))","v":0},null,{"$f":"N13","v":0},{"$f":"COUNTIF(L14:L21,Y13)","v":0},{"$f":"Z13/(AB4-Z8)","v":{"$error":"#DIV/0!"}},{"$f":"IF(AA13=0,0,(AA13*((LOG(AA13))/LOG(2))))","v":{"$error":"#DIV/0!"}},null,{"$f":"N13","v":0},{"$f":"COUNTIF(L22:L28,AD13)","v":0},{"$f":"AE13/(AG4-AE8)","v":{"$error":"#DIV/0!"}},{"$f":"IF(AF13=0,0,(AF13*((LOG(AF13))/LOG(2))))","v":{"$error":"#DIV/0!"}},null,{"$f":"N13","v":0},{"$f":"COUNTIF(L29:L35,AI13)","v":0},{"$f":"AJ13/(AL4-AJ8)","v":0},{"$f":"IF(AK13=0,0,(AK13*((LOG(AK13))/LOG(2))))","v":0},null,{"$f":"N13","v":0},{"$f":"COUNTIF(L36:L43,AN13)","v":0},{"$f":"AO13/(AQ4-AO8)","v":{"$error":"#DIV/0!"}},{"$f":"IF(AP13=0,0,(AP13*((LOG(AP13))/LOG(2))))","v":{"$error":"#DIV/0!"}},null,{"$f":"N13","v":0},{"$f":"COUNTIF(L44:L50,AS13)","v":0},{"$f":"AT13/(AV4-AT8)","v":{"$error":"#DIV/0!"}},{"$f":"IF(AU13=0,0,(AU13*((LOG(AU13))/LOG(2))))","v":{"$error":"#DIV/0!"}}]
[11,783,21,793,null,null,null,null,null,null,0,12,null,null,null,null,null,null,null,{"$f":"N14","v":0},{"$f":"COUNTIF(L7:L13,T14)","v":0},{"$f":"U14/(W4-U8)","v":0},{"$f":"IF(V14=0,0,(V14*((LOG(V14))/LOG(2))))","v":0},null,{"$f":"N14","v":0},{"$f":"COUNTIF(L14:L21,Y14)","v":0},{"$f":"Z14/(AB4-Z8)","v":{"$error":"#DIV/0!"}},{"$f":"IF(AA14=0,0,(AA14*((LOG(AA14))/LOG(2))))","v":{"$error":"#DIV/0!"}},null,{"$f":"N14","v":0},{"$f":"COUNTIF(L22:L28,AD14)","v":0},{"$f":"AE14/(AG4-AE8)","v":{"$error":"#DIV/0!"}},{"$f":"IF(AF14=0,0,(AF14*((LOG(AF14))/LOG(2))))","v":{"$error":"#DIV/0!"}},null,{"$f":"N14","v":0},{"$f":"COUNTIF(L29:L35,AI14)","v":0},{"$f":"AJ14/(AL4-AJ8)","v":0},{"$f":"IF(AK14=0,0,(AK14*((LOG(AK14))/LOG(2))))","v":0},null,{"$f":"N14","v":0},{"$f":"COUNTIF(L36:L43,AN14)","v":0},{"$f":"AO14/(AQ4-AO8)","v":{"$error":"#DIV/0!"}},{"$f":"IF(AP14=0,0,(AP14*((LOG(AP14))/LOG(2))))","v":{"$error":"#DIV/0!"}},null,{"$f":"N14","v":0},{"$f":"COUNTIF(L44:L50,AS14)","v":0},{"$f":"AT14/(AV4-AT8)","v":{"$error":"#DIV/0!"}},{"$f":"IF(AU14=0,0,(AU14*((LOG(AU14))/LOG(2))))","v":{"$error":"#DIV/0!"}}]
[11,879,21,890,null,null,null,null,null,null,0,12,null,null,null,{"$f":"SUM(P7:P14)","v":1},{"$f":"-SUM(Q7:Q14)","v":0.51078782295401326},null,null,null,null,{"$f":"SUM(V7:V14)","v":1},{"$f":"-SUM(W7:W14)","v":0},null,null,null,{"$f":"SUM(AA7:AA14)","v":{"$error":"#DIV/0!"}},{"$f":"-SUM(AB7:AB14)","v":{"$error":"#DIV/0!"}},null,null,null,{"$f":"SUM(AF7:AF14)","v":{"$error":"#DIV/0!"}},{"$f":"-SUM(AG7:AG14)","v":{"$error":"#DIV/0!"}},null,null,null,{"$f":"SUM(AK7:AK14)","v":1},{"$f":"-SUM(AL7:AL14)","v":0},null,null,null,{"$f":"SUM(AP7:AP14)","v":{"$error":"#DIV/0!"}},{"$f":"-SUM(AQ7:AQ14)","v":{"$error":"#DIV/0!"}},null,null,null,{"$f":"SUM(AU7:AU14)","v":{"$error":"#DIV/0!"}},{"$f":"-SUM(AV7:AV14)","v":{"$error":"#DIV/0!"}}]
[11,975,21,985,null,null,null,null,null,null,0,12,null,null,null,"U=",{"$f":"Q15/(LOG(Q4)/LOG(2))","v":9.3560622906292315E-2},null,null,null,null,"U1=",{"$f":"W15/(LOG(W4)/LOG(2))","v":0},null,null,null,"U2=",{"$f":"AB15/(LOG(AB4)/LOG(2))","v":{"$error":"#DIV/0!"}},null,null,null,"U3=",{"$f":"AG15/(LOG(AG4)/LOG(2))","v":{"$error":"#DIV/0!"}},null,null,null,"U4=",{"$f":"AL15/(LOG(AL4)/LOG(2))","v":0},null,null,null,"U5=",{"$f":"AQ15/(LOG(AQ4)/LOG(2))","v":{"$error":"#DIV/0!"}},null,null,null,"U6=",{"$f":"AV15/(LOG(AV4)/LOG(2))","v":{"$error":"#DIV/0!"}}]
[11,1069,21,1078,null,null,null,null,null,null,0,12]
[11,1167,21,1176,null,null,null,null,null,null,0,12]
[11,1261,21,1270,null,null,null,null,null,null,0,12,null,"Total Target Seq"]
[11,1355,21,1364,null,null,null,null,null,null,0,12,null,{"$f":"COUNTIF(L7:L50,G3)","v":39},null,7,8,7,7,8,7]
[11,1449,21,1458,null,null,null,null,null,null,0,12,null,null,null,"% of reinforcement given in 6 equal intervals based on number of trials "]
[11,1543,21,1549,null,null,null,null,null,null,0,12,null,null,null,"%_1","%_2","%_3","%_4","%_5","%_6"]
[11,1636,21,1645,null,null,null,null,null,null,0,12,null,null,"target sequence",{"$f":"$G$3","v":12},{"$f":"$G$3","v":12},{"$f":"$G$3","v":12},{"$f":"$G$3","v":12},{"$f":"$G$3","v":12},{"$f":"$G$3","v":12}]
[11,1730,21,1739,null,null,null,null,null,null,0,12,null,null,"total reinforcement",{"$f":"U8","v":3},{"$f":"Z8","v":8},{"$f":"AE8","v":7},{"$f":"AJ8","v":6},{"$f":"AO8","v":8},{"$f":"AT8","v":7}]
[11,1824,21,1832,null,null,null,null,null,null,0,12,null,null,"% target"]
[11,1917,21,1939,null,null,null,null,null,null,0,12,null,null,"CCRF"]
[11,2026,21,2032,null,null,null,null,null,null,0,12,null,null,"% CCRf"]
[11,2117,21,2126,null,null,null,null,null,null,0,12,null,null,"average response rate",{"$f":"D13/P20","v":98.857142857142861},{"$f":"(D21-D13)/Q20","v":95.75},{"$f":"(D28-D21)/R20","v":95.428571428571431},{"$f":"(D35-D28)/S20","v":103},{"$f":"(D43-D35)/T20","v":96.375},{"$f":"(D50-D43)/U20","v":96.285714285714292}]
[22,2235,23,2251,null,null,null,null,null,null,0,22]
[11,2338,21,2346,null,null,null,null,null,null,0,12]
[11,2434,21,2444,null,null,null,null,null,null,0,12]
[11,2530,21,2535,null,null,null,null,null,null,0,12]
[11,2622,21,2631,null,null,null,null,null,null,0,12]
[11,2718,21,2728,null,null,null,null,null,null,0,12]
[11,2814,21,2847,null,null,null,null,null,null,0,12]
[11,2937,21,2945,null,null,null,null,null,null,0,12]
[11,3030,21,3039,null,null,null,null,null,null,0,12]
[11,3128,21,3135,null,null,null,null,null,null,0,12]
[11,3221,21,3231,null,null,null,null,null,null,0,12]
[11,3315,21,3331,null,null,null,null,null,null,0,12]
[11,3416,21,3425,null,null,null,null,null,null,0,12]
[11,3510,21,3519,null,null,null,null,null,null,0,12]
[11,3608,21,3618,null,null,null,null,null,null,0,12]
[11,3704,21,3713,null,null,null,null,null,null,0,12]
[11,3798,21,3807,null,null,null,null,null,null,0,12]
[11,3892,21,3915,null,null,null,null,null,null,0,12]
[11,4000,21,4009,null,null,null,null,null,null,0,12]
[11,4096,21,4102,null,null,null,null,null,null,0,12]
[11,4188,21,4197,null,null,null,null,null,null,0,12]
[11,4284,21,4292,null,null,null,null,null,null,1,12]

{"sheet":"!LB21E50.056","index":14,"n_rows":55,"n_cols":48,"rows_kept":55,"cut":false,"hidden":false,"merged":[[4,39,4,42],[5,39,5,40],[4,44,4,47],[5,44,5,45],[4,24,4,27],[5,24,5,25],[4,29,4,32],[5,29,5,30],[4,34,4,37],[5,34,5,35],[1,1,1,2],[5,13,5,14],[18,13,18,14],[19,13,19,14],[4,19,4,22],[5,19,5,20]]}
["Report for:!LB21E50.056"]
["Date:","<date>"]
["Hen:","<hen>",null,null,null,"Correct Sequence",{"$f":"Start!J2","v":12},null,null,null,null,null,null,null,null,"Total Sequences in Data",{"$f":"4994-COUNTBLANK(L7:L5000)","v":49},null,null,null,null,"Total Sequences in Block Data",{"$f":"COUNTA(L7:L14)","v":8},null,null,null,"Total Sequences in Block Data",{"$f":"COUNTA(L15:L22)","v":8},null,null,null,"Total Sequences in Block Data",{"$f":"COUNTA(L23:L31)","v":9},null,null,null,"Total Sequences in Block Data",{"$f":"COUNTA(L32:L39)","v":8},null,null,null,"Total Sequences in Block Data",{"$f":"COUNTA(L40:L47)","v":8},null,null,null,"Total Sequences in Block Data",{"$f":"COUNTA(L48:L55)","v":8}]
[null,null,null,null,null,null,null,null,null,null,null,null,null,null,null,"Total Sequences in Summary",{"$f":"SUM(O7:O14)","v":49},null,null,null,null,"Total Sequences in Block Summary",{"$f":"SUM(U7:U14)","v":8},null,null,null,"Total Sequences in Block Summary",{"$f":"SUM(Z7:Z14)","v":8},null,null,null,"Total Sequences in Block Summary",{"$f":"SUM(AE7:AE14)","v":9},null,null,null,"Total Sequences in Block Summary",{"$f":"SUM(AJ7:AJ14)","v":8},null,null,null,"Total Sequences in Block Summary",{"$f":"SUM(AO7:AO14)","v":8},null,null,null,"Total Sequences in Block Summary",{"$f":"SUM(AT7:AT14)","v":8}]
[null,null,null,null,null,null,null,null,null,null,null,null,null,null,null,null,null,null,null,"Block 1",null,null,null,null,"Block 2",null,null,null,null,"Block 3",null,null,null,null,"Block 4",null,null,null,null,"Block 5",null,null,null,null,"Block 6"]
["Sequence\nComponent\n1","Time\n1","Sequence\nComponent\n2","Time\n2","Sequence\nComponent\n3","Time\n3","Sequence\nComponent\n4","Time\n4","Sequence\nComponent\n5","Time\n5","Correct?\n0=No 1=Yes","Sequence",null,"Frequency",null,"Relative Frequency","Variability",null,null,"Frequency",null,"Relative Frequency","Variability",null,"Frequency",null,"Relative Frequency","Variability",null,"Frequency",null,"Relative Frequency","Variability",null,"Frequency",null,"Relative Frequency","Variability",null,"Frequency",null,"Relative Frequency","Variability",null,"Frequency",null,"Relative Frequency","Variability"]
[11,15,21,25,null,null,null,null,null,null,0,12,null,11,{"$f":"COUNTIF($L$7:$L$500,N7)","v":0},{"$f":"O7/$Q$4","v":0},{"$f":"IF(P7=0,0,(P7*((LOG(P7))/LOG(2))))","v":0},null,null,{"$f":"N7","v":11},{"$f":"COUNTIF(L7:L14,T7)","v":0},{"$f":"U7/(W4-U8)","v":0},{"$f":"IF(V7=0,0,(V7*((LOG(V7))/LOG(2))))","v":0},null,{"$f":"N7","v":11},{"$f":"COUNTIF(L15:L22,Y7)","v":0},{"$f":"Z7/(AB4-Z8)","v":0},{"$f":"IF(AA7=0,0,(AA7*((LOG(AA7))/LOG(2))))","v":0},null,{"$f":"N7","v":11},{"$f":"COUNTIF(L23:L31,AD7)","v":0},{"$f":"AE7/(AG4-AE8)","v":0},{"$f":"IF(AF7=0,0,(AF7*((LOG(AF7))/LOG(2))))","v":0},null,{"$f":"N7","v":11},{"$f":"COUNTIF(L32:L39,AI7)","v":0},{"$f":"AJ7/(AL4-AJ8)","v":{"$error":"#DIV/0!"}},{"$f":"IF(AK7=0,0,(AK7*((LOG(AK7))/LOG(2))))","v":{"$error":"#DIV/0!"}},null,{"$f":"N7","v":11},{"$f":"COUNTIF(L40:L47,AN7)","v":0},{"$f":"AO7/(AQ4-AO8)","v":0},{"$f":"IF(AP7=0,0,(AP7*((LOG(AP7))/LOG(2))))","v":0},null,{"$f":"N7","v":11},{"$f":"COUNTIF(L48:L55,AS7)","v":0},{"$f":"AT7/(AV4-AT8)","v":0},{"$f":"IF(AU7=0,0,(AU7*((LOG(AU7))/LOG(2))))","v":0}]
[22,125,23,135,null,null,null,null,null,null,0,22,null,12,{"$f":"COUNTIF($L$7:$L$500,N8)","v":38},{"$f":"O8/$Q$4","v":0.77551020408163263},{"$f":"IF(P8=0,0,(P8*((LOG(P8))/LOG(2))))","v":-0.28444344011268707},null,null,{"$f":"N8","v":12},{"$f":"COUNTIF(L7:L14,T8)","v":4},null,null,null,{"$f":"N8","v":12},{"$f":"COUNTIF(L15:L22,Y8)","v":6},null,null,null,{"$f":"N8","v":12},{"$f":"COUNTIF(L23:L31,AD8)","v":8},null,null,null,{"$f":"N8","v":12},{"$f":"COUNTIF(L32:L39,AI8)","v":8},null,null,null,{"$f":"N8","v":12},{"$f":"COUNTIF(L40:L47,AN8)","v":6},null,null,null,{"$f":"N8","v":12},{"$f":"COUNTIF(L48:L55,AS8)","v":6}]
[22,237,23,257,null,null,null,null,null,null,0,22,null,21,{"$f":"COUNTIF($L$7:$L$500,N9)","v":0},{"$f":"O9/$Q$4","v":0},{"$f":"IF(P9=0,0,(P9*((LOG(P9))/LOG(2))))","v":0},null,null,{"$f":"N9","v":21},{"$f":"COUNTIF(L7:L14,T9)","v":0},{"$f":"U9/(W4-U8)","v":0},{"$f":"IF(V9=0,0,(V9*((LOG(V9))/LOG(2))))","v":0},null,{"$f":"N9","v":21},{"$f":"COUNTIF(L15:L22,Y9)","v":0},{"$f":"Z9/(AB4-Z8)","v":0},{"$f":"IF(AA9=0,0,(AA9*((LOG(AA9))/LOG(2))))","v":0},null,{"$f":"N9","v":21},{"$f":"COUNTIF(L23:L31,AD9)","v":0},{"$f":"AE9/(AG4-AE8)","v":0},{"$f":"IF(AF9=0,0,(AF9*((LOG(AF9))/LOG(2))))","v":0},null,{"$f":"N9","v":21},{"$f":"COUNTIF(L32:L39,AI9)","v":0},{"$f":"AJ9/(AL4-AJ8)","v":{"$error":"#DIV/0!"}},{"$f":"IF(AK9=0,0,(AK9*((LOG(AK9))/LOG(2))))","v":{"$error":"#DIV/0!"}},null,{"$f":"N9","v":21},{"$f":"COUNTIF(L40:L47,AN9)","v":0},{"$f":"AO9/(AQ4-AO8)","v":0},{"$f":"IF(AP9=0,0,(AP9*((LOG(AP9))/LOG(2))))","v":0},null,{"$f":"N9","v":21},{"$f":"COUNTIF(L48:L55,AS9)","v":0},{"$f":"AT9/(AV4-AT8)","v":0},{"$f":"IF(AU9=0,0,(AU9*((LOG(AU9))/LOG(2))))","v":0}]
[22,367,23,379,null,null,null,null,null,null,0,22,null,22,{"$f":"COUNTIF($L$7:$L$500,N10)","v":11},{"$f":"O10/$Q$4","v":0.22448979591836735},{"$f":"IF(P10=0,0,(P10*((LOG(P10))/LOG(2))))","v":-0.48383796898483716},null,null,{"$f":"N10","v":22},{"$f":"COUNTIF(L7:L14,T10)","v":4},{"$f":"U10/(W4-U8)","v":1},{"$f":"IF(V10=0,0,(V10*((LOG(V10))/LOG(2))))","v":0},null,{"$f":"N10","v":22},{"$f":"COUNTIF(L15:L22,Y10)","v":2},{"$f":"Z10/(AB4-Z8)","v":1},{"$f":"IF(AA10=0,0,(AA10*((LOG(AA10))/LOG(2))))","v":0},null,{"$f":"N10","v":22},{"$f":"COUNTIF(L23:L31,AD10)","v":1},{"$f":"AE10/(AG4-AE8)","v":1},{"$f":"IF(AF10=0,0,(AF10*((LOG(AF10))/LOG(2))))","v":0},null,{"$f":"N10","v":22},{"$f":"COUNTIF(L32:L39,AI10)","v":0},{"$f":"AJ10/(AL4-AJ8)","v":{"$error":"#DIV/0!"}},{"$f":"IF(AK10=0,0,(AK10*((LOG(AK10))/LOG(2))))","v":{"$error":"#DIV/0!"}},null,{"$f":"N10","v":22},{"$f":"COUNTIF(L40:L47,AN10)","v":2},{"$f":"AO10/(AQ4-AO8)","v":1},{"$f":"IF(AP10=0,0,(AP10*((LOG(AP10))/LOG(2))))","v":0},null,{"$f":"N10","v":22},{"$f":"COUNTIF(L48:L55,AS10)","v":2},{"$f":"AT10/(AV4-AT8)","v":1},{"$f":"IF(AU10=0,0,(AU10*((LOG(AU10))/LOG(2))))","v":0}]
[11,469,21,532,null,null,null,null,null,null,0,12,null,null,null,null,null,null,null,{"$f":"N11","v":0},{"$f":"COUNTIF(L7:L14,T11)","v":0},{"$f":"U11/(W4-U8)","v":0},{"$f":"IF(V11=0,0,(V11*((LOG(V11))/LOG(2))))","v":0},null,{"$f":"N11","v":0},{"$f":"COUNTIF(L15:L22,Y11)","v":0},{"$f":"Z11/(AB4-Z8)","v":0},{"$f":"IF(AA11=0,0,(AA11*((LOG(AA11))/LOG(2))))","v":0},null,{"$f":"N11","v":0},{"$f":"COUNTIF(L23:L31,AD11)","v":0},{"$f":"AE11/(AG4-AE8)","v":0},{"$f":"IF(AF11=0,0,(AF11*((LOG(AF11))/LOG(2))))","v":0},null,{"$f":"N11","v":0},{"$f":"COUNTIF(L32:L39,AI11)","v":0},{"$f":"AJ11/(AL4-AJ8)","v":{"$error":"#DIV/0!"}},{"$f":"IF(AK11=0,0,(AK11*((LOG(AK11))/LOG(2))))","v":{"$error":"#DIV/0!"}},null,{"$f":"N11","v":0},{"$f":"COUNTIF(L40:L47,AN11)","v":0},{"$f":"AO11/(AQ4-AO8)","v":0},{"$f":"IF(AP11=0,0,(AP11*((LOG(AP11))/LOG(2))))","v":0},null,{"$f":"N11","v":0},{"$f":"COUNTIF(L48:L55,AS11)","v":0},{"$f":"AT11/(AV4-AT8)","v":0},{"$f":"IF(AU11=0,0,(AU11*((LOG(AU11))/LOG(2))))","v":0}]
[22,635,23,645,null,null,null,null,null,null,0,22,null,null,null,null,null,null,null,{"$f":"N12","v":0},{"$f":"COUNTIF(L7:L14,T12)","v":0},{"$f":"U12/(W4-U8)","v":0},{"$f":"IF(V12=0,0,(V12*((LOG(V12))/LOG(2))))","v":0},null,{"$f":"N12","v":0},{"$f":"COUNTIF(L15:L22,Y12)","v":0},{"$f":"Z12/(AB4-Z8)","v":0},{"$f":"IF(AA12=0,0,(AA12*((LOG(AA12))/LOG(2))))","v":0},null,{"$f":"N12","v":0},{"$f":"COUNTIF(L23:L31,AD12)","v":0},{"$f":"AE12/(AG4-AE8)","v":0},{"$f":"IF(AF12=0,0,(AF12*((LOG(AF12))/LOG(2))))","v":0},null,{"$f":"N12","v":0},{"$f":"COUNTIF(L32:L39,AI12)","v":0},{"$f":"AJ12/(AL4-AJ8)","v":{"$error":"#DIV/0!"}},{"$f":"IF(AK12=0,0,(AK12*((LOG(AK12))/LOG(2))))","v":{"$error":"#DIV/0!"}},null,{"$f":"N12","v":0},{"$f":"COUNTIF(L40:L47,AN12)","v":0},{"$f":"AO12/(AQ4-AO8)","v":0},{"$f":"IF(AP12=0,0,(AP12*((LOG(AP12))/LOG(2))))","v":0},null,{"$f":"N12","v":0},{"$f":"COUNTIF(L48:L55,AS12)","v":0},{"$f":"AT12/(AV4-AT8)","v":0},{"$f":"IF(AU12=0,0,(AU12*((LOG(AU12))/LOG(2))))","v":0}]
[11,741,21,760,null,null,null,null,null,null,0,12,null,null,null,null,null,null,null,{"$f":"N13","v":0},{"$f":"COUNTIF(L7:L14,T13)","v":0},{"$f":"U13/(W4-U8)","v":0},{"$f":"IF(V13=0,0,(V13*((LOG(V13))/LOG(2))))","v":0},null,{"$f":"N13","v":0},{"$f":"COUNTIF(L15:L22,Y13)","v":0},{"$f":"Z13/(AB4-Z8)","v":0},{"$f":"IF(AA13=0,0,(AA13*((LOG(AA13))/LOG(2))))","v":0},null,{"$f":"N13","v":0},{"$f":"COUNTIF(L23:L31,AD13)","v":0},{"$f":"AE13/(AG4-AE8)","v":0},{"$f":"IF(AF13=0,0,(AF13*((LOG(AF13))/LOG(2))))","v":0},null,{"$f":"N13","v":0},{"$f":"COUNTIF(L32:L39,AI13)","v":0},{"$f":"AJ13/(AL4-AJ8)","v":{"$error":"#DIV/0!"}},{"$f":"IF(AK13=0,0,(AK13*((LOG(AK13))/LOG(2))))","v":{"$error":"#DIV/0!"}},null,{"$f":"N13","v":0},{"$f":"COUNTIF(L40:L47,AN13)","v":0},{"$f":"AO13/(AQ4-AO8)","v":0},{"$f":"IF(AP13=0,0,(AP13*((LOG(AP13))/LOG(2))))","v":0},null,{"$f":"N13","v":0},{"$f":"COUNTIF(L48:L55,AS13)","v":0},{"$f":"AT13/(AV4-AT8)","v":0},{"$f":"IF(AU13=0,0,(AU13*((LOG(AU13))/LOG(2))))","v":0}]
[11,846,21,917,null,null,null,null,null,null,0,12,null,null,null,null,null,null,null,{"$f":"N14","v":0},{"$f":"COUNTIF(L7:L14,T14)","v":0},{"$f":"U14/(W4-U8)","v":0},{"$f":"IF(V14=0,0,(V14*((LOG(V14))/LOG(2))))","v":0},null,{"$f":"N14","v":0},{"$f":"COUNTIF(L15:L22,Y14)","v":0},{"$f":"Z14/(AB4-Z8)","v":0},{"$f":"IF(AA14=0,0,(AA14*((LOG(AA14))/LOG(2))))","v":0},null,{"$f":"N14","v":0},{"$f":"COUNTIF(L23:L31,AD14)","v":0},{"$f":"AE14/(AG4-AE8)","v":0},{"$f":"IF(AF14=0,0,(AF14*((LOG(AF14))/LOG(2))))","v":0},null,{"$f":"N14","v":0},{"$f":"COUNTIF(L32:L39,AI14)","v":0},{"$f":"AJ14/(AL4-AJ8)","v":{"$error":"#DIV/0!"}},{"$f":"IF(AK14=0,0,(AK14*((LOG(AK14))/LOG(2))))","v":{"$error":"#DIV/0!"}},null,{"$f":"N14","v":0},{"$f":"COUNTIF(L40:L47,AN14)","v":0},{"$f":"AO14/(AQ4-AO8)","v":0},{"$f":"IF(AP14=0,0,(AP14*((LOG(AP14))/LOG(2))))","v":0},null,{"$f":"N14","v":0},{"$f":"COUNTIF(L48:L55,AS14)","v":0},{"$f":"AT14/(AV4-AT8)","v":0},{"$f":"IF(AU14=0,0,(AU14*((LOG(AU14))/LOG(2))))","v":0}]
[11,1006,21,1026,null,null,null,null,null,null,0,12,null,null,null,{"$f":"SUM(P7:P14)","v":1},{"$f":"-SUM(Q7:Q14)","v":0.76828140909752429},null,null,null,null,{"$f":"SUM(V7:V14)","v":1},{"$f":"-SUM(W7:W14)","v":0},null,null,null,{"$f":"SUM(AA7:AA14)","v":1},{"$f":"-SUM(AB7:AB14)","v":0},null,null,null,{"$f":"SUM(AF7:AF14)","v":1},{"$f":"-SUM(AG7:AG14)","v":0},null,null,null,{"$f":"SUM(AK7:AK14)","v":{"$error":"#DIV/0!"}},{"$f":"-SUM(AL7:AL14)","v":{"$error":"#DIV/0!"}},null,null,null,{"$f":"SUM(AP7:AP14)","v":1},{"$f":"-SUM(AQ7:AQ14)","v":0},null,null,null,{"$f":"SUM(AU7:AU14)","v":1},{"$f":"-SUM(AV7:AV14)","v":0}]
[11,1112,21,1127,null,null,null,null,null,null,0,12,null,null,null,"U=",{"$f":"Q15/(LOG(Q4)/LOG(2))","v":0.13683367982100839},null,null,null,null,"U1=",{"$f":"W15/(LOG(W4)/LOG(2))","v":0},null,null,null,"U2=",{"$f":"AB15/(LOG(AB4)/LOG(2))","v":0},null,null,null,"U3=",{"$f":"AG15/(LOG(AG4)/LOG(2))","v":0},null,null,null,"U4=",{"$f":"AL15/(LOG(AL4)/LOG(2))","v":{"$error":"#DIV/0!"}},null,null,null,"U5=",{"$f":"AQ15/(LOG(AQ4)/LOG(2))","v":0},null,null,null,"U6=",{"$f":"AV15/(LOG(AV4)/LOG(2))","v":0}]
[11,1212,21,1225,null,null,null,null,null,null,0,12]
[22,1336,23,1359,null,null,null,null,null,null,0,22]
[11,1453,21,1463,null,null,null,null,null,null,0,12,null,"Total Target Seq"]
[22,1575,23,1589,null,null,null,null,null,null,0,22,null,{"$f":"COUNTIF(L7:L55,G3)","v":38},null,8,8,9,8,8,8]
[11,1678,21,1694,null,null,null,null,null,null,0,12,null,null,null,"% of reinforcement given in 6 equal intervals based on number of trials "]
[11,1781,21,1819,null,null,null,null,null,null,0,12,null,null,null,"%_1","%_2","%_3","%_4","%_5","%_6"]
[11,1905,21,1920,null,null,null,null,null,null,0,12,null,null,"target sequence",{"$f":"$G$3","v":12},{"$f":"$G$3","v":12},{"$f":"$G$3","v":12},{"$f":"$G$3","v":12},{"$f":"$G$3","v":12},{"$f":"$G$3","v":12}]
[11,2009,21,2017,null,null,null,null,null,null,0,12,null,null,"total reinforcement",{"$f":"U8","v":4},{"$f":"Z8","v":6},{"$f":"AE8","v":8},{"$f":"AJ8","v":8},{"$f":"AO8","v":6},{"$f":"AT8","v":6}]
[11,2105,21,2120,null,null,null,null,null,null,0,12,null,null,"% target"]
[11,2206,21,2223,null,null,null,null,null,null,0,12,null,null,"CCRF"]
[22,2329,23,2338,null,null,null,null,null,null,0,22,null,null,"% CCRf"]
[11,2433,21,2468,null,null,null,null,null,null,0,12,null,null,"average response rate",{"$f":"D14/P20","v":114.625},{"$f":"(D22-D14)/Q20","v":112.75},{"$f":"(D31-D22)/R20","v":109.11111111111111},{"$f":"(D39-D31)/S20","v":103.125},{"$f":"(D47-D39)/T20","v":112.25},{"$f":"(D55-D47)/U20","v":106.5}]
[11,2566,21,2584,null,null,null,null,null,null,0,12]
[11,2672,21,2690,null,null,null,null,null,null,0,12]
[11,2785,21,2801,null,null,null,null,null,null,0,12]
[11,2886,21,2896,null,null,null,null,null,null,0,12]
[11,2985,21,2994,null,null,null,null,null,null,0,12]
[11,3081,21,3090,null,null,null,null,null,null,0,12]
[11,3175,21,3204,null,null,null,null,null,null,0,12]
[11,3291,21,3300,null,null,null,null,null,null,0,12]
[11,3390,21,3413,null,null,null,null,null,null,0,12]
[11,3510,21,3527,null,null,null,null,null,null,0,12]
[11,3616,21,3626,null,null,null,null,null,null,0,12]
[11,3724,21,3734,null,null,null,null,null,null,0,12]
[11,3819,21,3836,null,null,null,null,null,null,0,12]
[22,3942,23,3962,null,null,null,null,null,null,0,22]
[11,4058,21,4068,null,null,null,null,null,null,0,12]
[22,4170,23,4180,null,null,null,null,null,null,0,22]
[11,4276,21,4308,null,null,null,null,null,null,0,12]
[11,4403,21,4413,null,null,null,null,null,null,0,12]
[11,4508,21,4524,null,null,null,null,null,null,0,12]
[22,4622,23,4635,null,null,null,null,null,null,0,22]
[22,4741,23,4749,null,null,null,null,null,null,0,22]
[11,4847,21,4869,null,null,null,null,null,null,0,12]
[11,4960,21,4969,null,null,null,null,null,null,0,12]
[11,5056,21,5065,null,null,null,null,null,null,0,12]
[11,5154,21,5170,null,null,null,null,null,null,0,12]
[11,5258,21,5267,null,null,null,null,null,null,0,12]
[11,5357,21,5376,null,null,null,null,null,null,1,12]

{"sheet":"!LB22A10.056","index":15,"n_rows":56,"n_cols":48,"rows_kept":56,"cut":false,"hidden":false,"merged":[[4,39,4,42],[5,39,5,40],[4,44,4,47],[5,44,5,45],[4,24,4,27],[5,24,5,25],[4,29,4,32],[5,29,5,30],[4,34,4,37],[5,34,5,35],[1,1,1,2],[5,13,5,14],[18,13,18,14],[19,13,19,14],[4,19,4,22],[5,19,5,20]]}
["Report for:!LB22A10.056"]
["Date:","<date>"]
["Hen:","<hen>",null,null,null,"Correct Sequence",{"$f":"Start!J2","v":12},null,null,null,null,null,null,null,null,"Total Sequences in Data",{"$f":"4994-COUNTBLANK(L7:L5000)","v":50},null,null,null,null,"Total Sequences in Block Data",{"$f":"COUNTA(L7:L14)","v":8},null,null,null,"Total Sequences in Block Data",{"$f":"COUNTA(L15:L23)","v":9},null,null,null,"Total Sequences in Block Data",{"$f":"COUNTA(L24:L31)","v":8},null,null,null,"Total Sequences in Block Data",{"$f":"COUNTA(L32:L39)","v":8},null,null,null,"Total Sequences in Block Data",{"$f":"COUNTA(L40:L48)","v":9},null,null,null,"Total Sequences in Block Data",{"$f":"COUNTA(L49:L56)","v":8}]
[null,null,null,null,null,null,null,null,null,null,null,null,null,null,null,"Total Sequences in Summary",{"$f":"SUM(O7:O14)","v":50},null,null,null,null,"Total Sequences in Block Summary",{"$f":"SUM(U7:U14)","v":8},null,null,null,"Total Sequences in Block Summary",{"$f":"SUM(Z7:Z14)","v":9},null,null,null,"Total Sequences in Block Summary",{"$f":"SUM(AE7:AE14)","v":8},null,null,null,"Total Sequences in Block Summary",{"$f":"SUM(AJ7:AJ14)","v":8},null,null,null,"Total Sequences in Block Summary",{"$f":"SUM(AO7:AO14)","v":9},null,null,null,"Total Sequences in Block Summary",{"$f":"SUM(AT7:AT14)","v":8}]
[null,null,null,null,null,null,null,null,null,null,null,null,null,null,null,null,null,null,null,"Block 1",null,null,null,null,"Block 2",null,null,null,null,"Block 3",null,null,null,null,"Block 4",null,null,null,null,"Block 5",null,null,null,null,"Block 6"]
["Sequence\nComponent\n1","Time\n1","Sequence\nComponent\n2","Time\n2","Sequence\nComponent\n3","Time\n3","Sequence\nComponent\n4","Time\n4","Sequence\nComponent\n5","Time\n5","Correct?\n0=No 1=Yes","Sequence",null,"Frequency",null,"Relative Frequency","Variability",null,null,"Frequency",null,"Relative Frequency","Variability",null,"Frequency",null,"Relative Frequency","Variability",null,"Frequency",null,"Relative Frequency","Variability",null,"Frequency",null,"Relative Frequency","Variability",null,"Frequency",null,"Relative Frequency","Variability",null,"Frequency",null,"Relative Frequency","Variability"]
[22,21,23,44,null,null,null,null,null,null,0,22,null,11,{"$f":"COUNTIF($L$7:$L$500,N7)","v":1},{"$f":"O7/$Q$4","v":0.02},{"$f":"IF(P7=0,0,(P7*((LOG(P7))/LOG(2))))","v":-0.11287712379549449},null,null,{"$f":"N7","v":11},{"$f":"COUNTIF(L7:L14,T7)","v":0},{"$f":"U7/(W4-U8)","v":0},{"$f":"IF(V7=0,0,(V7*((LOG(V7))/LOG(2))))","v":0},null,{"$f":"N7","v":11},{"$f":"COUNTIF(L15:L23,Y7)","v":1},{"$f":"Z7/(AB4-Z8)","v":0.33333333333333331},{"$f":"IF(AA7=0,0,(AA7*((LOG(AA7))/LOG(2))))","v":-0.52832083357371862},null,{"$f":"N7","v":11},{"$f":"COUNTIF(L24:L31,AD7)","v":0},{"$f":"AE7/(AG4-AE8)","v":0},{"$f":"IF(AF7=0,0,(AF7*((LOG(AF7))/LOG(2))))","v":0},null,{"$f":"N7","v":11},{"$f":"COUNTIF(L32:L39,AI7)","v":0},{"$f":"AJ7/(AL4-AJ8)","v":0},{"$f":"IF(AK7=0,0,(AK7*((LOG(AK7))/LOG(2))))","v":0},null,{"$f":"N7","v":11},{"$f":"COUNTIF(L40:L48,AN7)","v":0},{"$f":"AO7/(AQ4-AO8)","v":0},{"$f":"IF(AP7=0,0,(AP7*((LOG(AP7))/LOG(2))))","v":0},null,{"$f":"N7","v":11},{"$f":"COUNTIF(L49:L56,AS7)","v":0},{"$f":"AT7/(AV4-AT8)","v":0},{"$f":"IF(AU7=0,0,(AU7*((LOG(AU7))/LOG(2))))","v":0}]
[11,135,21,145,null,null,null,null,null,null,0,12,null,12,{"$f":"COUNTIF($L$7:$L$500,N8)","v":38},{"$f":"O8/$Q$4","v":0.76},{"$f":"IF(P8=0,0,(P8*((LOG(P8))/LOG(2))))","v":-0.30090579401166578},null,null,{"$f":"N8","v":12},{"$f":"COUNTIF(L7:L14,T8)","v":4},null,null,null,{"$f":"N8","v":12},{"$f":"COUNTIF(L15:L23,Y8)","v":6},null,null,null,{"$f":"N8","v":12},{"$f":"COUNTIF(L24:L31,AD8)","v":6},null,null,null,{"$f":"N8","v":12},{"$f":"COUNTIF(L32:L39,AI8)","v":7},null,null,null,{"$f":"N8","v":12},{"$f":"COUNTIF(L40:L48,AN8)","v":8},null,null,null,{"$f":"N8","v":12},{"$f":"COUNTIF(L49:L56,AS8)","v":7}]
[22,237,14,265,null,null,null,null,null,null,0,21,null,21,{"$f":"COUNTIF($L$7:$L$500,N9)","v":1},{"$f":"O9/$Q$4","v":0.02},{"$f":"IF(P9=0,0,(P9*((LOG(P9))/LOG(2))))","v":-0.11287712379549449},null,null,{"$f":"N9","v":21},{"$f":"COUNTIF(L7:L14,T9)","v":1},{"$f":"U9/(W4-U8)","v":0.25},{"$f":"IF(V9=0,0,(V9*((LOG(V9))/LOG(2))))","v":-0.5},null,{"$f":"N9","v":21},{"$f":"COUNTIF(L15:L23,Y9)","v":0},{"$f":"Z9/(AB4-Z8)","v":0},{"$f":"IF(AA9=0,0,(AA9*((LOG(AA9))/LOG(2))))","v":0},null,{"$f":"N9","v":21},{"$f":"COUNTIF(L24:L31,AD9)","v":0},{"$f":"AE9/(AG4-AE8)","v":0},{"$f":"IF(AF9=0,0,(AF9*((LOG(AF9))/LOG(2))))","v":0},null,{"$f":"N9","v":21},{"$f":"COUNTIF(L32:L39,AI9)","v":0},{"$f":"AJ9/(AL4-AJ8)","v":0},{"$f":"IF(AK9=0,0,(AK9*((LOG(AK9))/LOG(2))))","v":0},null,{"$f":"N9","v":21},{"$f":"COUNTIF(L40:L48,AN9)","v":0},{"$f":"AO9/(AQ4-AO8)","v":0},{"$f":"IF(AP9=0,0,(AP9*((LOG(AP9))/LOG(2))))","v":0},null,{"$f":"N9","v":21},{"$f":"COUNTIF(L49:L56,AS9)","v":0},{"$f":"AT9/(AV4-AT8)","v":0},{"$f":"IF(AU9=0,0,(AU9*((LOG(AU9))/LOG(2))))","v":0}]
[22,365,23,403,null,null,null,null,null,null,0,22,null,22,{"$f":"COUNTIF($L$7:$L$500,N10)","v":10},{"$f":"O10/$Q$4","v":0.2},{"$f":"IF(P10=0,0,(P10*((LOG(P10))/LOG(2))))","v":-0.46438561897747244},null,null,{"$f":"N10","v":22},{"$f":"COUNTIF(L7:L14,T10)","v":3},{"$f":"U10/(W4-U8)","v":0.75},{"$f":"IF(V10=0,0,(V10*((LOG(V10))/LOG(2))))","v":-0.31127812445913283},null,{"$f":"N10","v":22},{"$f":"COUNTIF(L15:L23,Y10)","v":2},{"$f":"Z10/(AB4-Z8)","v":0.66666666666666663},{"$f":"IF(AA10=0,0,(AA10*((LOG(AA10))/LOG(2))))","v":-0.38997500048077083},null,{"$f":"N10","v":22},{"$f":"COUNTIF(L24:L31,AD10)","v":2},{"$f":"AE10/(AG4-AE8)","v":1},{"$f":"IF(AF10=0,0,(AF10*((LOG(AF10))/LOG(2))))","v":0},null,{"$f":"N10","v":22},{"$f":"COUNTIF(L32:L39,AI10)","v":1},{"$f":"AJ10/(AL4-AJ8)","v":1},{"$f":"IF(AK10=0,0,(AK10*((LOG(AK10))/LOG(2))))","v":0},null,{"$f":"N10","v":22},{"$f":"COUNTIF(L40:L48,AN10)","v":1},{"$f":"AO10/(AQ4-AO8)","v":1},{"$f":"IF(AP10=0,0,(AP10*((LOG(AP10))/LOG(2))))","v":0},null,{"$f":"N10","v":22},{"$f":"COUNTIF(L49:L56,AS10)","v":1},{"$f":"AT10/(AV4-AT8)","v":1},{"$f":"IF(AU10=0,0,(AU10*((LOG(AU10))/LOG(2))))","v":0}]
[11,502,21,512,null,null,null,null,null,null,0,12,null,null,null,null,null,null,null,{"$f":"N11","v":0},{"$f":"COUNTIF(L7:L14,T11)","v":0},{"$f":"U11/(W4-U8)","v":0},{"$f":"IF(V11=0,0,(V11*((LOG(V11))/LOG(2))))","v":0},null,{"$f":"N11","v":0},{"$f":"COUNTIF(L15:L23,Y11)","v":0},{"$f":"Z11/(AB4-Z8)","v":0},{"$f":"IF(AA11=0,0,(AA11*((LOG(AA11))/LOG(2))))","v":0},null,{"$f":"N11","v":0},{"$f":"COUNTIF(L24:L31,AD11)","v":0},{"$f":"AE11/(AG4-AE8)","v":0},{"$f":"IF(AF11=0,0,(AF11*((LOG(AF11))/LOG(2))))","v":0},null,{"$f":"N11","v":0},{"$f":"COUNTIF(L32:L39,AI11)","v":0},{"$f":"AJ11/(AL4-AJ8)","v":0},{"$f":"IF(AK11=0,0,(AK11*((LOG(AK11))/LOG(2))))","v":0},null,{"$f":"N11","v":0},{"$f":"COUNTIF(L40:L48,AN11)","v":0},{"$f":"AO11/(AQ4-AO8)","v":0},{"$f":"IF(AP11=0,0,(AP11*((LOG(AP11))/LOG(2))))","v":0},null,{"$f":"N11","v":0},{"$f":"COUNTIF(L49:L56,AS11)","v":0},{"$f":"AT11/(AV4-AT8)","v":0},{"$f":"IF(AU11=0,0,(AU11*((LOG(AU11))/LOG(2))))","v":0}]
[22,613,23,627,null,null,null,null,null,null,0,22,null,null,null,null,null,null,null,{"$f":"N12","v":0},{"$f":"COUNTIF(L7:L14,T12)","v":0},{"$f":"U12/(W4-U8)","v":0},{"$f":"IF(V12=0,0,(V12*((LOG(V12))/LOG(2))))","v":0},null,{"$f":"N12","v":0},{"$f":"COUNTIF(L15:L23,Y12)","v":0},{"$f":"Z12/(AB4-Z8)","v":0},{"$f":"IF(AA12=0,0,(AA12*((LOG(AA12))/LOG(2))))","v":0},null,{"$f":"N12","v":0},{"$f":"COUNTIF(L24:L31,AD12)","v":0},{"$f":"AE12/(AG4-AE8)","v":0},{"$f":"IF(AF12=0,0,(AF12*((LOG(AF12))/LOG(2))))","v":0},null,{"$f":"N12","v":0},{"$f":"COUNTIF(L32:L39,AI12)","v":0},{"$f":"AJ12/(AL4-AJ8)","v":0},{"$f":"IF(AK12=0,0,(AK12*((LOG(AK12))/LOG(2))))","v":0},null,{"$f":"N12","v":0},{"$f":"COUNTIF(L40:L48,AN12)","v":0},{"$f":"AO12/(AQ4-AO8)","v":0},{"$f":"IF(AP12=0,0,(AP12*((LOG(AP12))/LOG(2))))","v":0},null,{"$f":"N12","v":0},{"$f":"COUNTIF(L49:L56,AS12)","v":0},{"$f":"AT12/(AV4-AT8)","v":0},{"$f":"IF(AU12=0,0,(AU12*((LOG(AU12))/LOG(2))))","v":0}]
[11,723,21,737,null,null,null,null,null,null,0,12,null,null,null,null,null,null,null,{"$f":"N13","v":0},{"$f":"COUNTIF(L7:L14,T13)","v":0},{"$f":"U13/(W4-U8)","v":0},{"$f":"IF(V13=0,0,(V13*((LOG(V13))/LOG(2))))","v":0},null,{"$f":"N13","v":0},{"$f":"COUNTIF(L15:L23,Y13)","v":0},{"$f":"Z13/(AB4-Z8)","v":0},{"$f":"IF(AA13=0,0,(AA13*((LOG(AA13))/LOG(2))))","v":0},null,{"$f":"N13","v":0},{"$f":"COUNTIF(L24:L31,AD13)","v":0},{"$f":"AE13/(AG4-AE8)","v":0},{"$f":"IF(AF13=0,0,(AF13*((LOG(AF13))/LOG(2))))","v":0},null,{"$f":"N13","v":0},{"$f":"COUNTIF(L32:L39,AI13)","v":0},{"$f":"AJ13/(AL4-AJ8)","v":0},{"$f":"IF(AK13=0,0,(AK13*((LOG(AK13))/LOG(2))))","v":0},null,{"$f":"N13","v":0},{"$f":"COUNTIF(L40:L48,AN13)","v":0},{"$f":"AO13/(AQ4-AO8)","v":0},{"$f":"IF(AP13=0,0,(AP13*((LOG(AP13))/LOG(2))))","v":0},null,{"$f":"N13","v":0},{"$f":"COUNTIF(L49:L56,AS13)","v":0},{"$f":"AT13/(AV4-AT8)","v":0},{"$f":"IF(AU13=0,0,(AU13*((LOG(AU13))/LOG(2))))","v":0}]
[11,825,21,834,null,null,null,null,null,null,0,12,null,null,null,null,null,null,null,{"$f":"N14","v":0},{"$f":"COUNTIF(L7:L14,T14)","v":0},{"$f":"U14/(W4-U8)","v":0},{"$f":"IF(V14=0,0,(V14*((LOG(V14))/LOG(2))))","v":0},null,{"$f":"N14","v":0},{"$f":"COUNTIF(L15:L23,Y14)","v":0},{"$f":"Z14/(AB4-Z8)","v":0},{"$f":"IF(AA14=0,0,(AA14*((LOG(AA14))/LOG(2))))","v":0},null,{"$f":"N14","v":0},{"$f":"COUNTIF(L24:L31,AD14)","v":0},{"$f":"AE14/(AG4-AE8)","v":0},{"$f":"IF(AF14=0,0,(AF14*((LOG(AF14))/LOG(2))))","v":0},null,{"$f":"N14","v":0},{"$f":"COUNTIF(L32:L39,AI14)","v":0},{"$f":"AJ14/(AL4-AJ8)","v":0},{"$f":"IF(AK14=0,0,(AK14*((LOG(AK14))/LOG(2))))","v":0},null,{"$f":"N14","v":0},{"$f":"COUNTIF(L40:L48,AN14)","v":0},{"$f":"AO14/(AQ4-AO8)","v":0},{"$f":"IF(AP14=0,0,(AP14*((LOG(AP14))/LOG(2))))","v":0},null,{"$f":"N14","v":0},{"$f":"COUNTIF(L49:L56,AS14)","v":0},{"$f":"AT14/(AV4-AT8)","v":0},{"$f":"IF(AU14=0,0,(AU14*((LOG(AU14))/LOG(2))))","v":0}]
[11,922,21,932,null,null,null,null,null,null,0,12,null,null,null,{"$f":"SUM(P7:P14)","v":1},{"$f":"-SUM(Q7:Q14)","v":0.99104566058012722},null,null,null,null,{"$f":"SUM(V7:V14)","v":1},{"$f":"-SUM(W7:W14)","v":0.81127812445913283},null,null,null,{"$f":"SUM(AA7:AA14)","v":1},{"$f":"-SUM(AB7:AB14)","v":0.91829583405448945},null,null,null,{"$f":"SUM(AF7:AF14)","v":1},{"$f":"-SUM(AG7:AG14)","v":0},null,null,null,{"$f":"SUM(AK7:AK14)","v":1},{"$f":"-SUM(AL7:AL14)","v":0},null,null,null,{"$f":"SUM(AP7:AP14)","v":1},{"$f":"-SUM(AQ7:AQ14)","v":0},null,null,null,{"$f":"SUM(AU7:AU14)","v":1},{"$f":"-SUM(AV7:AV14)","v":0}]
[11,1016,12,1024,null,null,null,null,null,null,0,11,null,null,null,"U=",{"$f":"Q15/(LOG(Q4)/LOG(2))","v":0.17559725607035445},null,null,null,null,"U1=",{"$f":"W15/(LOG(W4)/LOG(2))","v":0.27042604148637761},null,null,null,"U2=",{"$f":"AB15/(LOG(AB4)/LOG(2))","v":0.28969008214284753},null,null,null,"U3=",{"$f":"AG15/(LOG(AG4)/LOG(2))","v":0},null,null,null,"U4=",{"$f":"AL15/(LOG(AL4)/LOG(2))","v":0},null,null,null,"U5=",{"$f":"AQ15/(LOG(AQ4)/LOG(2))","v":0},null,null,null,"U6=",{"$f":"AV15/(LOG(AV4)/LOG(2))","v":0}]
[22,1134,23,1154,null,null,null,null,null,null,0,22]
[11,1251,21,1258,null,null,null,null,null,null,0,12]
[11,1351,21,1361,null,null,null,null,null,null,0,12,null,"Total Target Seq"]
[11,1447,21,1456,null,null,null,null,null,null,0,12,null,{"$f":"COUNTIF(L7:L56,G3)","v":38},null,8,9,8,8,9,8]
[11,1541,21,1563,null,null,null,null,null,null,0,12,null,null,null,"% of reinforcement given in 6 equal intervals based on number of trials "]
[22,1665,23,1687,null,null,null,null,null,null,0,22,null,null,null,"%_1","%_2","%_3","%_4","%_5","%_6"]
[11,1783,21,1808,null,null,null,null,null,null,0,12,null,null,"target sequence",{"$f":"$G$3","v":12},{"$f":"$G$3","v":12},{"$f":"$G$3","v":12},{"$f":"$G$3","v":12},{"$f":"$G$3","v":12},{"$f":"$G$3","v":12}]
[11,1895,21,1910,null,null,null,null,null,null,0,12,null,null,"total reinforcement",{"$f":"U8","v":4},{"$f":"Z8","v":6},{"$f":"AE8","v":6},{"$f":"AJ8","v":7},{"$f":"AO8","v":8},{"$f":"AT8","v":7}]
[11,1998,21,2007,null,null,null,null,null,null,0,12,null,null,"% target"]
[11,2094,21,2103,null,null,null,null,null,null,0,12,null,null,"CCRF"]
[11,2189,21,2195,null,null,null,null,null,null,0,12,null,null,"% CCRf"]
[11,2284,21,2294,null,null,null,null,null,null,0,12,null,null,"average response rate",{"$f":"D14/P20","v":104.25},{"$f":"(D23-D14)/Q20","v":108.22222222222223},{"$f":"(D31-D23)/R20","v":111.875},{"$f":"(D39-D31)/S20","v":111.625},{"$f":"(D48-D39)/T20","v":101.77777777777777},{"$f":"(D56-D48)/U20","v":105.625}]
[22,2440,23,2476,null,null,null,null,null,null,0,22]
[11,2572,21,2585,null,null,null,null,null,null,0,12]
[22,2683,23,2703,null,null,null,null,null,null,0,22]
[22,2809,23,2825,null,null,null,null,null,null,0,22]
[11,2932,21,2957,null,null,null,null,null,null,0,12]
[11,3045,21,3054,null,null,null,null,null,null,0,12]
[11,3142,21,3164,null,null,null,null,null,null,0,12]
[11,3251,21,3281,null,null,null,null,null,null,0,12]
[11,3366,21,3377,null,null,null,null,null,null,0,12]
[11,3467,21,3497,null,null,null,null,null,null,0,12]
[11,3585,21,3596,null,null,null,null,null,null,0,12]
[11,3682,21,3701,null,null,null,null,null,null,0,12]
[11,3790,21,3800,null,null,null,null,null,null,0,12]
[11,3886,21,3906,null,null,null,null,null,null,0,12]
[11,3991,21,4007,null,null,null,null,null,null,0,12]
[11,4095,21,4114,null,null,null,null,null,null,0,12]
[11,4201,21,4211,null,null,null,null,null,null,0,12]
[11,4297,21,4307,null,null,null,null,null,null,0,12]
[11,4393,21,4403,null,null,null,null,null,null,0,12]
[22,4498,23,4512,null,null,null,null,null,null,0,22]
[22,4647,23,4660,null,null,null,null,null,null,0,22]
[11,4758,21,4783,null,null,null,null,null,null,0,12]
[11,4868,21,4877,null,null,null,null,null,null,0,12]
[11,4966,21,4975,null,null,null,null,null,null,0,12]
[11,5063,21,5072,null,null,null,null,null,null,0,12]
[11,5158,21,5167,null,null,null,null,null,null,0,12]
[11,5253,21,5262,null,null,null,null,null,null,0,12]
[11,5348,21,5357,null,null,null,null,null,null,1,12]

{"sheet":"!LB23C50.056","index":16,"n_rows":57,"n_cols":48,"rows_kept":57,"cut":false,"hidden":false,"merged":[[4,39,4,42],[5,39,5,40],[4,44,4,47],[5,44,5,45],[4,24,4,27],[5,24,5,25],[4,29,4,32],[5,29,5,30],[4,34,4,37],[5,34,5,35],[1,1,1,2],[5,13,5,14],[18,13,18,14],[19,13,19,14],[4,19,4,22],[5,19,5,20]]}
["Report for:!LB23C50.056"]
["Date:","<date>"]
["Hen:","<hen>",null,null,null,"Correct Sequence",{"$f":"Start!J2","v":12},null,null,null,null,null,null,null,null,"Total Sequences in Data",{"$f":"4994-COUNTBLANK(L7:L5000)","v":51},null,null,null,null,"Total Sequences in Block Data",{"$f":"COUNTA(L7:L15)","v":9},null,null,null,"Total Sequences in Block Data",{"$f":"COUNTA(L16:L23)","v":8},null,null,null,"Total Sequences in Block Data",{"$f":"COUNTA(L24:L32)","v":9},null,null,null,"Total Sequences in Block Data",{"$f":"COUNTA(L33:L40)","v":8},null,null,null,"Total Sequences in Block Data",{"$f":"COUNTA(L41:L49)","v":9},null,null,null,"Total Sequences in Block Data",{"$f":"COUNTA(L50:L57)","v":8}]
[null,null,null,null,null,null,null,null,null,null,null,null,null,null,null,"Total Sequences in Summary",{"$f":"SUM(O7:O14)","v":51},null,null,null,null,"Total Sequences in Block Summary",{"$f":"SUM(U7:U14)","v":9},null,null,null,"Total Sequences in Block Summary",{"$f":"SUM(Z7:Z14)","v":8},null,null,null,"Total Sequences in Block Summary",{"$f":"SUM(AE7:AE14)","v":9},null,null,null,"Total Sequences in Block Summary",{"$f":"SUM(AJ7:AJ14)","v":8},null,null,null,"Total Sequences in Block Summary",{"$f":"SUM(AO7:AO14)","v":9},null,null,null,"Total Sequences in Block Summary",{"$f":"SUM(AT7:AT14)","v":8}]
[null,null,null,null,null,null,null,null,null,null,null,null,null,null,null,null,null,null,null,"Block 1",null,null,null,null,"Block 2",null,null,null,null,"Block 3",null,null,null,null,"Block 4",null,null,null,null,"Block 5",null,null,null,null,"Block 6"]
["Sequence\nComponent\n1","Time\n1","Sequence\nComponent\n2","Time\n2","Sequence\nComponent\n3","Time\n3","Sequence\nComponent\n4","Time\n4","Sequence\nComponent\n5","Time\n5","Correct?\n0=No 1=Yes","Sequence",null,"Frequency",null,"Relative Frequency","Variability",null,null,"Frequency",null,"Relative Frequency","Variability",null,"Frequency",null,"Relative Frequency","Variability",null,"Frequency",null,"Relative Frequency","Variability",null,"Frequency",null,"Relative Frequency","Variability",null,"Frequency",null,"Relative Frequency","Variability",null,"Frequency",null,"Relative Frequency","Variability"]
[11,14,21,24,null,null,null,null,null,null,0,12,null,11,{"$f":"COUNTIF($L$7:$L$500,N7)","v":1},{"$f":"O7/$Q$4","v":1.9607843137254902E-2},{"$f":"IF(P7=0,0,(P7*((LOG(P7))/LOG(2))))","v":-0.11122402631316657},null,null,{"$f":"N7","v":11},{"$f":"COUNTIF(L7:L15,T7)","v":0},{"$f":"U7/(W4-U8)","v":0},{"$f":"IF(V7=0,0,(V7*((LOG(V7))/LOG(2))))","v":0},null,{"$f":"N7","v":11},{"$f":"COUNTIF(L16:L23,Y7)","v":0},{"$f":"Z7/(AB4-Z8)","v":0},{"$f":"IF(AA7=0,0,(AA7*((LOG(AA7))/LOG(2))))","v":0},null,{"$f":"N7","v":11},{"$f":"COUNTIF(L24:L32,AD7)","v":0},{"$f":"AE7/(AG4-AE8)","v":0},{"$f":"IF(AF7=0,0,(AF7*((LOG(AF7))/LOG(2))))","v":0},null,{"$f":"N7","v":11},{"$f":"COUNTIF(L33:L40,AI7)","v":1},{"$f":"AJ7/(AL4-AJ8)","v":0.5},{"$f":"IF(AK7=0,0,(AK7*((LOG(AK7))/LOG(2))))","v":-0.5},null,{"$f":"N7","v":11},{"$f":"COUNTIF(L41:L49,AN7)","v":0},{"$f":"AO7/(AQ4-AO8)","v":0},{"$f":"IF(AP7=0,0,(AP7*((LOG(AP7))/LOG(2))))","v":0},null,{"$f":"N7","v":11},{"$f":"COUNTIF(L50:L57,AS7)","v":0},{"$f":"AT7/(AV4-AT8)","v":0},{"$f":"IF(AU7=0,0,(AU7*((LOG(AU7))/LOG(2))))","v":0}]
[11,118,21,132,null,null,null,null,null,null,0,12,null,12,{"$f":"COUNTIF($L$7:$L$500,N8)","v":39},{"$f":"O8/$Q$4","v":0.76470588235294112},{"$f":"IF(P8=0,0,(P8*((LOG(P8))/LOG(2))))","v":-0.29595885884824796},null,null,{"$f":"N8","v":12},{"$f":"COUNTIF(L7:L15,T8)","v":6},null,null,null,{"$f":"N8","v":12},{"$f":"COUNTIF(L16:L23,Y8)","v":4},null,null,null,{"$f":"N8","v":12},{"$f":"COUNTIF(L24:L32,AD8)","v":8},null,null,null,{"$f":"N8","v":12},{"$f":"COUNTIF(L33:L40,AI8)","v":6},null,null,null,{"$f":"N8","v":12},{"$f":"COUNTIF(L41:L49,AN8)","v":8},null,null,null,{"$f":"N8","v":12},{"$f":"COUNTIF(L50:L57,AS8)","v":7}]
[22,221,23,230,null,null,null,null,null,null,0,22,null,21,{"$f":"COUNTIF($L$7:$L$500,N9)","v":0},{"$f":"O9/$Q$4","v":0},{"$f":"IF(P9=0,0,(P9*((LOG(P9))/LOG(2))))","v":0},null,null,{"$f":"N9","v":21},{"$f":"COUNTIF(L7:L15,T9)","v":0},{"$f":"U9/(W4-U8)","v":0},{"$f":"IF(V9=0,0,(V9*((LOG(V9))/LOG(2))))","v":0},null,{"$f":"N9","v":21},{"$f":"COUNTIF(L16:L23,Y9)","v":0},{"$f":"Z9/(AB4-Z8)","v":0},{"$f":"IF(AA9=0,0,(AA9*((LOG(AA9))/LOG(2))))","v":0},null,{"$f":"N9","v":21},{"$f":"COUNTIF(L24:L32,AD9)","v":0},{"$f":"AE9/(AG4-AE8)","v":0},{"$f":"IF(AF9=0,0,(AF9*((LOG(AF9))/LOG(2))))","v":0},null,{"$f":"N9","v":21},{"$f":"COUNTIF(L33:L40,AI9)","v":0},{"$f":"AJ9/(AL4-AJ8)","v":0},{"$f":"IF(AK9=0,0,(AK9*((LOG(AK9))/LOG(2))))","v":0},null,{"$f":"N9","v":21},{"$f":"COUNTIF(L41:L49,AN9)","v":0},{"$f":"AO9/(AQ4-AO8)","v":0},{"$f":"IF(AP9=0,0,(AP9*((LOG(AP9))/LOG(2))))","v":0},null,{"$f":"N9","v":21},{"$f":"COUNTIF(L50:L57,AS9)","v":0},{"$f":"AT9/(AV4-AT8)","v":0},{"$f":"IF(AU9=0,0,(AU9*((LOG(AU9))/LOG(2))))","v":0}]
[22,337,23,361,null,null,null,null,null,null,0,22,null,22,{"$f":"COUNTIF($L$7:$L$500,N10)","v":11},{"$f":"O10/$Q$4","v":0.21568627450980393},{"$f":"IF(P10=0,0,(P10*((LOG(P10))/LOG(2))))","v":-0.477312371699533},null,null,{"$f":"N10","v":22},{"$f":"COUNTIF(L7:L15,T10)","v":3},{"$f":"U10/(W4-U8)","v":1},{"$f":"IF(V10=0,0,(V10*((LOG(V10))/LOG(2))))","v":0},null,{"$f":"N10","v":22},{"$f":"COUNTIF(L16:L23,Y10)","v":4},{"$f":"Z10/(AB4-Z8)","v":1},{"$f":"IF(AA10=0,0,(AA10*((LOG(AA10))/LOG(2))))","v":0},null,{"$f":"N10","v":22},{"$f":"COUNTIF(L24:L32,AD10)","v":1},{"$f":"AE10/(AG4-AE8)","v":1},{"$f":"IF(AF10=0,0,(AF10*((LOG(AF10))/LOG(2))))","v":0},null,{"$f":"N10","v":22},{"$f":"COUNTIF(L33:L40,AI10)","v":1},{"$f":"AJ10/(AL4-AJ8)","v":0.5},{"$f":"IF(AK10=0,0,(AK10*((LOG(AK10))/LOG(2))))","v":-0.5},null,{"$f":"N10","v":22},{"$f":"COUNTIF(L41:L49,AN10)","v":1},{"$f":"AO10/(AQ4-AO8)","v":1},{"$f":"IF(AP10=0,0,(AP10*((LOG(AP10))/LOG(2))))","v":0},null,{"$f":"N10","v":22},{"$f":"COUNTIF(L50:L57,AS10)","v":1},{"$f":"AT10/(AV4-AT8)","v":1},{"$f":"IF(AU10=0,0,(AU10*((LOG(AU10))/LOG(2))))","v":0}]
[11,450,21,464,null,null,null,null,null,null,0,12,null,null,null,null,null,null,null,{"$f":"N11","v":0},{"$f":"COUNTIF(L7:L15,T11)","v":0},{"$f":"U11/(W4-U8)","v":0},{"$f":"IF(V11=0,0,(V11*((LOG(V11))/LOG(2))))","v":0},null,{"$f":"N11","v":0},{"$f":"COUNTIF(L16:L23,Y11)","v":0},{"$f":"Z11/(AB4-Z8)","v":0},{"$f":"IF(AA11=0,0,(AA11*((LOG(AA11))/LOG(2))))","v":0},null,{"$f":"N11","v":0},{"$f":"COUNTIF(L24:L32,AD11)","v":0},{"$f":"AE11/(AG4-AE8)","v":0},{"$f":"IF(AF11=0,0,(AF11*((LOG(AF11))/LOG(2))))","v":0},null,{"$f":"N11","v":0},{"$f":"COUNTIF(L33:L40,AI11)","v":0},{"$f":"AJ11/(AL4-AJ8)","v":0},{"$f":"IF(AK11=0,0,(AK11*((LOG(AK11))/LOG(2))))","v":0},null,{"$f":"N11","v":0},{"$f":"COUNTIF(L41:L49,AN11)","v":0},{"$f":"AO11/(AQ4-AO8)","v":0},{"$f":"IF(AP11=0,0,(AP11*((LOG(AP11))/LOG(2))))","v":0},null,{"$f":"N11","v":0},{"$f":"COUNTIF(L50:L57,AS11)","v":0},{"$f":"AT11/(AV4-AT8)","v":0},{"$f":"IF(AU11=0,0,(AU11*((LOG(AU11))/LOG(2))))","v":0}]
[11,550,21,564,null,null,null,null,null,null,0,12,null,null,null,null,null,null,null,{"$f":"N12","v":0},{"$f":"COUNTIF(L7:L15,T12)","v":0},{"$f":"U12/(W4-U8)","v":0},{"$f":"IF(V12=0,0,(V12*((LOG(V12))/LOG(2))))","v":0},null,{"$f":"N12","v":0},{"$f":"COUNTIF(L16:L23,Y12)","v":0},{"$f":"Z12/(AB4-Z8)","v":0},{"$f":"IF(AA12=0,0,(AA12*((LOG(AA12))/LOG(2))))","v":0},null,{"$f":"N12","v":0},{"$f":"COUNTIF(L24:L32,AD12)","v":0},{"$f":"AE12/(AG4-AE8)","v":0},{"$f":"IF(AF12=0,0,(AF12*((LOG(AF12))/LOG(2))))","v":0},null,{"$f":"N12","v":0},{"$f":"COUNTIF(L33:L40,AI12)","v":0},{"$f":"AJ12/(AL4-AJ8)","v":0},{"$f":"IF(AK12=0,0,(AK12*((LOG(AK12))/LOG(2))))","v":0},null,{"$f":"N12","v":0},{"$f":"COUNTIF(L41:L49,AN12)","v":0},{"$f":"AO12/(AQ4-AO8)","v":0},{"$f":"IF(AP12=0,0,(AP12*((LOG(AP12))/LOG(2))))","v":0},null,{"$f":"N12","v":0},{"$f":"COUNTIF(L50:L57,AS12)","v":0},{"$f":"AT12/(AV4-AT8)","v":0},{"$f":"IF(AU12=0,0,(AU12*((LOG(AU12))/LOG(2))))","v":0}]
[11,649,21,658,null,null,null,null,null,null,0,12,null,null,null,null,null,null,null,{"$f":"N13","v":0},{"$f":"COUNTIF(L7:L15,T13)","v":0},{"$f":"U13/(W4-U8)","v":0},{"$f":"IF(V13=0,0,(V13*((LOG(V13))/LOG(2))))","v":0},null,{"$f":"N13","v":0},{"$f":"COUNTIF(L16:L23,Y13)","v":0},{"$f":"Z13/(AB4-Z8)","v":0},{"$f":"IF(AA13=0,0,(AA13*((LOG(AA13))/LOG(2))))","v":0},null,{"$f":"N13","v":0},{"$f":"COUNTIF(L24:L32,AD13)","v":0},{"$f":"AE13/(AG4-AE8)","v":0},{"$f":"IF(AF13=0,0,(AF13*((LOG(AF13))/LOG(2))))","v":0},null,{"$f":"N13","v":0},{"$f":"COUNTIF(L33:L40,AI13)","v":0},{"$f":"AJ13/(AL4-AJ8)","v":0},{"$f":"IF(AK13=0,0,(AK13*((LOG(AK13))/LOG(2))))","v":0},null,{"$f":"N13","v":0},{"$f":"COUNTIF(L41:L49,AN13)","v":0},{"$f":"AO13/(AQ4-AO8)","v":0},{"$f":"IF(AP13=0,0,(AP13*((LOG(AP13))/LOG(2))))","v":0},null,{"$f":"N13","v":0},{"$f":"COUNTIF(L50:L57,AS13)","v":0},{"$f":"AT13/(AV4-AT8)","v":0},{"$f":"IF(AU13=0,0,(AU13*((LOG(AU13))/LOG(2))))","v":0}]
[11,743,21,753,null,null,null,null,null,null,0,12,null,null,null,null,null,null,null,{"$f":"N14","v":0},{"$f":"COUNTIF(L7:L15,T14)","v":0},{"$f":"U14/(W4-U8)","v":0},{"$f":"IF(V14=0,0,(V14*((LOG(V14))/LOG(2))))","v":0},null,{"$f":"N14","v":0},{"$f":"COUNTIF(L16:L23,Y14)","v":0},{"$f":"Z14/(AB4-Z8)","v":0},{"$f":"IF(AA14=0,0,(AA14*((LOG(AA14))/LOG(2))))","v":0},null,{"$f":"N14","v":0},{"$f":"COUNTIF(L24:L32,AD14)","v":0},{"$f":"AE14/(AG4-AE8)","v":0},{"$f":"IF(AF14=0,0,(AF14*((LOG(AF14))/LOG(2))))","v":0},null,{"$f":"N14","v":0},{"$f":"COUNTIF(L33:L40,AI14)","v":0},{"$f":"AJ14/(AL4-AJ8)","v":0},{"$f":"IF(AK14=0,0,(AK14*((LOG(AK14))/LOG(2))))","v":0},null,{"$f":"N14","v":0},{"$f":"COUNTIF(L41:L49,AN14)","v":0},{"$f":"AO14/(AQ4-AO8)","v":0},{"$f":"IF(AP14=0,0,(AP14*((LOG(AP14))/LOG(2))))","v":0},null,{"$f":"N14","v":0},{"$f":"COUNTIF(L50:L57,AS14)","v":0},{"$f":"AT14/(AV4-AT8)","v":0},{"$f":"IF(AU14=0,0,(AU14*((LOG(AU14))/LOG(2))))","v":0}]
[22,859,23,878,null,null,null,null,null,null,0,22,null,null,null,{"$f":"SUM(P7:P14)","v":1},{"$f":"-SUM(Q7:Q14)","v":0.88449525686094754},null,null,null,null,{"$f":"SUM(V7:V14)","v":1},{"$f":"-SUM(W7:W14)","v":0},null,null,null,{"$f":"SUM(AA7:AA14)","v":1},{"$f":"-SUM(AB7:AB14)","v":0},null,null,null,{"$f":"SUM(AF7:AF14)","v":1},{"$f":"-SUM(AG7:AG14)","v":0},null,null,null,{"$f":"SUM(AK7:AK14)","v":1},{"$f":"-SUM(AL7:AL14)","v":1},null,null,null,{"$f":"SUM(AP7:AP14)","v":1},{"$f":"-SUM(AQ7:AQ14)","v":0},null,null,null,{"$f":"SUM(AU7:AU14)","v":1},{"$f":"-SUM(AV7:AV14)","v":0}]
[22,988,23,1001,null,null,null,null,null,null,0,22,null,null,null,"U=",{"$f":"Q15/(LOG(Q4)/LOG(2))","v":0.15592893754217915},null,null,null,null,"U1=",{"$f":"W15/(LOG(W4)/LOG(2))","v":0},null,null,null,"U2=",{"$f":"AB15/(LOG(AB4)/LOG(2))","v":0},null,null,null,"U3=",{"$f":"AG15/(LOG(AG4)/LOG(2))","v":0},null,null,null,"U4=",{"$f":"AL15/(LOG(AL4)/LOG(2))","v":0.33333333333333331},null,null,null,"U5=",{"$f":"AQ15/(LOG(AQ4)/LOG(2))","v":0},null,null,null,"U6=",{"$f":"AV15/(LOG(AV4)/LOG(2))","v":0}]
[22,1113,23,1129,null,null,null,null,null,null,0,22]
[11,1227,21,1237,null,null,null,null,null,null,0,12]
[11,1340,21,1351,null,null,null,null,null,null,0,12,null,"Total Target Seq"]
[11,1451,21,1460,null,null,null,null,null,null,0,12,null,{"$f":"COUNTIF(L7:L57,G3)","v":39},null,9,8,9,8,9,8]
[11,1546,21,1562,null,null,null,null,null,null,0,12,null,null,null,"% of reinforcement given in 6 equal intervals based on number of trials "]
[22,1656,23,1674,null,null,null,null,null,null,0,22,null,null,null,"%_1","%_2","%_3","%_4","%_5","%_6"]
[22,1794,23,1811,null,null,null,null,null,null,0,22,null,null,"target sequence",{"$f":"$G$3","v":12},{"$f":"$G$3","v":12},{"$f":"$G$3","v":12},{"$f":"$G$3","v":12},{"$f":"$G$3","v":12},{"$f":"$G$3","v":12}]
[22,1929,23,1940,null,null,null,null,null,null,0,22,null,null,"total reinforcement",{"$f":"U8","v":6},{"$f":"Z8","v":4},{"$f":"AE8","v":8},{"$f":"AJ8","v":6},{"$f":"AO8","v":8},{"$f":"AT8","v":7}]
[11,2034,21,2049,null,null,null,null,null,null,0,12,null,null,"% target"]
[11,2134,21,2148,null,null,null,null,null,null,0,12,null,null,"CCRF"]
[11,2238,21,2248,null,null,null,null,null,null,0,12,null,null,"% CCRf"]
[11,2336,21,2346,null,null,null,null,null,null,0,12,null,null,"average response rate",{"$f":"D15/P20","v":97.555555555555557},{"$f":"(D23-D15)/Q20","v":116.625},{"$f":"(D32-D23)/R20","v":103.22222222222223},{"$f":"(D40-D32)/S20","v":99.75},{"$f":"(D49-D40)/T20","v":105.22222222222223},{"$f":"(D57-D49)/U20","v":98.5}]
[11,2436,21,2447,null,null,null,null,null,null,0,12]
[11,2531,21,2541,null,null,null,null,null,null,0,12]
[11,2626,21,2635,null,null,null,null,null,null,0,12]
[11,2725,21,2740,null,null,null,null,null,null,0,12]
[11,2824,21,2837,null,null,null,null,null,null,0,12]
[11,2922,21,2935,null,null,null,null,null,null,0,12]
[11,3019,21,3028,null,null,null,null,null,null,0,12]
[11,3113,21,3122,null,null,null,null,null,null,0,12]
[11,3208,21,3222,null,null,null,null,null,null,0,12]
[11,3306,21,3315,null,null,null,null,null,null,0,12]
[22,3414,23,3441,null,null,null,null,null,null,0,22]
[11,3533,12,3538,null,null,null,null,null,null,0,11]
[11,3635,21,3645,null,null,null,null,null,null,0,12]
[11,3734,21,3743,null,null,null,null,null,null,0,12]
[22,3842,23,3894,null,null,null,null,null,null,0,22]
[11,3988,21,3998,null,null,null,null,null,null,0,12]
[11,4082,21,4091,null,null,null,null,null,null,0,12]
[11,4175,21,4184,null,null,null,null,null,null,0,12]
[11,4268,21,4278,null,null,null,null,null,null,0,12]
[11,4370,21,4380,null,null,null,null,null,null,0,12]
[11,4467,21,4485,null,null,null,null,null,null,0,12]
[22,4585,23,4601,null,null,null,null,null,null,0,22]
[11,4698,21,4707,null,null,null,null,null,null,0,12]
[11,4798,21,4807,null,null,null,null,null,null,0,12]
[11,4891,21,4899,null,null,null,null,null,null,0,12]
[11,4984,21,4992,null,null,null,null,null,null,0,12]
[11,5077,21,5086,null,null,null,null,null,null,0,12]
[11,5171,21,5179,null,null,null,null,null,null,0,12]
[11,5265,21,5273,null,null,null,null,null,null,1,12]

{"sheet":"!LB24B50.056","index":17,"n_rows":54,"n_cols":48,"rows_kept":54,"cut":false,"hidden":false,"merged":[[4,39,4,42],[5,39,5,40],[4,44,4,47],[5,44,5,45],[4,24,4,27],[5,24,5,25],[4,29,4,32],[5,29,5,30],[4,34,4,37],[5,34,5,35],[1,1,1,2],[5,13,5,14],[18,13,18,14],[19,13,19,14],[4,19,4,22],[5,19,5,20]]}
["Report for:!LB24B50.056"]
["Date:","<date>"]
["Hen:","<hen>",null,null,null,"Correct Sequence",{"$f":"Start!J2","v":12},null,null,null,null,null,null,null,null,"Total Sequences in Data",{"$f":"4994-COUNTBLANK(L7:L5000)","v":48},null,null,null,null,"Total Sequences in Block Data",{"$f":"COUNTA(L7:L14)","v":8},null,null,null,"Total Sequences in Block Data",{"$f":"COUNTA(L15:L22)","v":8},null,null,null,"Total Sequences in Block Data",{"$f":"COUNTA(L23:L30)","v":8},null,null,null,"Total Sequences in Block Data",{"$f":"COUNTA(L31:L38)","v":8},null,null,null,"Total Sequences in Block Data",{"$f":"COUNTA(L39:L46)","v":8},null,null,null,"Total Sequences in Block Data",{"$f":"COUNTA(L47:L54)","v":8}]
[null,null,null,null,null,null,null,null,null,null,null,null,null,null,null,"Total Sequences in Summary",{"$f":"SUM(O7:O14)","v":48},null,null,null,null,"Total Sequences in Block Summary",{"$f":"SUM(U7:U14)","v":8},null,null,null,"Total Sequences in Block Summary",{"$f":"SUM(Z7:Z14)","v":8},null,null,null,"Total Sequences in Block Summary",{"$f":"SUM(AE7:AE14)","v":8},null,null,null,"Total Sequences in Block Summary",{"$f":"SUM(AJ7:AJ14)","v":8},null,null,null,"Total Sequences in Block Summary",{"$f":"SUM(AO7:AO14)","v":8},null,null,null,"Total Sequences in Block Summary",{"$f":"SUM(AT7:AT14)","v":8}]
[null,null,null,null,null,null,null,null,null,null,null,null,null,null,null,null,null,null,null,"Block 1",null,null,null,null,"Block 2",null,null,null,null,"Block 3",null,null,null,null,"Block 4",null,null,null,null,"Block 5",null,null,null,null,"Block 6"]
["Sequence\nComponent\n1","Time\n1","Sequence\nComponent\n2","Time\n2","Sequence\nComponent\n3","Time\n3","Sequence\nComponent\n4","Time\n4","Sequence\nComponent\n5","Time\n5","Correct?\n0=No 1=Yes","Sequence",null,"Frequency",null,"Relative Frequency","Variability",null,null,"Frequency",null,"Relative Frequency","Variability",null,"Frequency",null,"Relative Frequency","Variability",null,"Frequency",null,"Relative Frequency","Variability",null,"Frequency",null,"Relative Frequency","Variability",null,"Frequency",null,"Relative Frequency","Variability",null,"Frequency",null,"Relative Frequency","Variability"]
[22,22,14,39,null,null,null,null,null,null,0,21,null,11,{"$f":"COUNTIF($L$7:$L$500,N7)","v":1},{"$f":"O7/$Q$4","v":2.0833333333333332E-2},{"$f":"IF(P7=0,0,(P7*((LOG(P7))/LOG(2))))","v":-0.11635338543169074},null,null,{"$f":"N7","v":11},{"$f":"COUNTIF(L7:L14,T7)","v":0},{"$f":"U7/(W4-U8)","v":0},{"$f":"IF(V7=0,0,(V7*((LOG(V7))/LOG(2))))","v":0},null,{"$f":"N7","v":11},{"$f":"COUNTIF(L15:L22,Y7)","v":0},{"$f":"Z7/(AB4-Z8)","v":{"$error":"#DIV/0!"}},{"$f":"IF(AA7=0,0,(AA7*((LOG(AA7))/LOG(2))))","v":{"$error":"#DIV/0!"}},null,{"$f":"N7","v":11},{"$f":"COUNTIF(L23:L30,AD7)","v":0},{"$f":"AE7/(AG4-AE8)","v":{"$error":"#DIV/0!"}},{"$f":"IF(AF7=0,0,(AF7*((LOG(AF7))/LOG(2))))","v":{"$error":"#DIV/0!"}},null,{"$f":"N7","v":11},{"$f":"COUNTIF(L31:L38,AI7)","v":0},{"$f":"AJ7/(AL4-AJ8)","v":0},{"$f":"IF(AK7=0,0,(AK7*((LOG(AK7))/LOG(2))))","v":0},null,{"$f":"N7","v":11},{"$f":"COUNTIF(L39:L46,AN7)","v":1},{"$f":"AO7/(AQ4-AO8)","v":0.2},{"$f":"IF(AP7=0,0,(AP7*((LOG(AP7))/LOG(2))))","v":-0.46438561897747244},null,{"$f":"N7","v":11},{"$f":"COUNTIF(L47:L54,AS7)","v":0},{"$f":"AT7/(AV4-AT8)","v":{"$error":"#DIV/0!"}},{"$f":"IF(AU7=0,0,(AU7*((LOG(AU7))/LOG(2))))","v":{"$error":"#DIV/0!"}}]
[11,140,21,149,null,null,null,null,null,null,0,12,null,12,{"$f":"COUNTIF($L$7:$L$500,N8)","v":39},{"$f":"O8/$Q$4","v":0.8125},{"$f":"IF(P8=0,0,(P8*((LOG(P8))/LOG(2))))","v":-0.24339272901036266},null,null,{"$f":"N8","v":12},{"$f":"COUNTIF(L7:L14,T8)","v":6},null,null,null,{"$f":"N8","v":12},{"$f":"COUNTIF(L15:L22,Y8)","v":8},null,null,null,{"$f":"N8","v":12},{"$f":"COUNTIF(L23:L30,AD8)","v":8},null,null,null,{"$f":"N8","v":12},{"$f":"COUNTIF(L31:L38,AI8)","v":6},null,null,null,{"$f":"N8","v":12},{"$f":"COUNTIF(L39:L46,AN8)","v":3},null,null,null,{"$f":"N8","v":12},{"$f":"COUNTIF(L47:L54,AS8)","v":8}]
[11,235,21,244,null,null,null,null,null,null,0,12,null,21,{"$f":"COUNTIF($L$7:$L$500,N9)","v":1},{"$f":"O9/$Q$4","v":2.0833333333333332E-2},{"$f":"IF(P9=0,0,(P9*((LOG(P9))/LOG(2))))","v":-0.11635338543169074},null,null,{"$f":"N9","v":21},{"$f":"COUNTIF(L7:L14,T9)","v":1},{"$f":"U9/(W4-U8)","v":0.5},{"$f":"IF(V9=0,0,(V9*((LOG(V9))/LOG(2))))","v":-0.5},null,{"$f":"N9","v":21},{"$f":"COUNTIF(L15:L22,Y9)","v":0},{"$f":"Z9/(AB4-Z8)","v":{"$error":"#DIV/0!"}},{"$f":"IF(AA9=0,0,(AA9*((LOG(AA9))/LOG(2))))","v":{"$error":"#DIV/0!"}},null,{"$f":"N9","v":21},{"$f":"COUNTIF(L23:L30,AD9)","v":0},{"$f":"AE9/(AG4-AE8)","v":{"$error":"#DIV/0!"}},{"$f":"IF(AF9=0,0,(AF9*((LOG(AF9))/LOG(2))))","v":{"$error":"#DIV/0!"}},null,{"$f":"N9","v":21},{"$f":"COUNTIF(L31:L38,AI9)","v":0},{"$f":"AJ9/(AL4-AJ8)","v":0},{"$f":"IF(AK9=0,0,(AK9*((LOG(AK9))/LOG(2))))","v":0},null,{"$f":"N9","v":21},{"$f":"COUNTIF(L39:L46,AN9)","v":0},{"$f":"AO9/(AQ4-AO8)","v":0},{"$f":"IF(AP9=0,0,(AP9*((LOG(AP9))/LOG(2))))","v":0},null,{"$f":"N9","v":21},{"$f":"COUNTIF(L47:L54,AS9)","v":0},{"$f":"AT9/(AV4-AT8)","v":{"$error":"#DIV/0!"}},{"$f":"IF(AU9=0,0,(AU9*((LOG(AU9))/LOG(2))))","v":{"$error":"#DIV/0!"}}]
[22,340,23,358,null,null,null,null,null,null,0,22,null,22,{"$f":"COUNTIF($L$7:$L$500,N10)","v":7},{"$f":"O10/$Q$4","v":0.14583333333333334},{"$f":"IF(P10=0,0,(P10*((LOG(P10))/LOG(2))))","v":-0.40506777188843468},null,null,{"$f":"N10","v":22},{"$f":"COUNTIF(L7:L14,T10)","v":1},{"$f":"U10/(W4-U8)","v":0.5},{"$f":"IF(V10=0,0,(V10*((LOG(V10))/LOG(2))))","v":-0.5},null,{"$f":"N10","v":22},{"$f":"COUNTIF(L15:L22,Y10)","v":0},{"$f":"Z10/(AB4-Z8)","v":{"$error":"#DIV/0!"}},{"$f":"IF(AA10=0,0,(AA10*((LOG(AA10))/LOG(2))))","v":{"$error":"#DIV/0!"}},null,{"$f":"N10","v":22},{"$f":"COUNTIF(L23:L30,AD10)","v":0},{"$f":"AE10/(AG4-AE8)","v":{"$error":"#DIV/0!"}},{"$f":"IF(AF10=0,0,(AF10*((LOG(AF10))/LOG(2))))","v":{"$error":"#DIV/0!"}},null,{"$f":"N10","v":22},{"$f":"COUNTIF(L31:L38,AI10)","v":2},{"$f":"AJ10/(AL4-AJ8)","v":1},{"$f":"IF(AK10=0,0,(AK10*((LOG(AK10))/LOG(2))))","v":0},null,{"$f":"N10","v":22},{"$f":"COUNTIF(L39:L46,AN10)","v":4},{"$f":"AO10/(AQ4-AO8)","v":0.8},{"$f":"IF(AP10=0,0,(AP10*((LOG(AP10))/LOG(2))))","v":-0.25754247590988982},null,{"$f":"N10","v":22},{"$f":"COUNTIF(L47:L54,AS10)","v":0},{"$f":"AT10/(AV4-AT8)","v":{"$error":"#DIV/0!"}},{"$f":"IF(AU10=0,0,(AU10*((LOG(AU10))/LOG(2))))","v":{"$error":"#DIV/0!"}}]
[11,453,21,468,null,null,null,null,null,null,0,12,null,null,null,null,null,null,null,{"$f":"N11","v":0},{"$f":"COUNTIF(L7:L14,T11)","v":0},{"$f":"U11/(W4-U8)","v":0},{"$f":"IF(V11=0,0,(V11*((LOG(V11))/LOG(2))))","v":0},null,{"$f":"N11","v":0},{"$f":"COUNTIF(L15:L22,Y11)","v":0},{"$f":"Z11/(AB4-Z8)","v":{"$error":"#DIV/0!"}},{"$f":"IF(AA11=0,0,(AA11*((LOG(AA11))/LOG(2))))","v":{"$error":"#DIV/0!"}},null,{"$f":"N11","v":0},{"$f":"COUNTIF(L23:L30,AD11)","v":0},{"$f":"AE11/(AG4-AE8)","v":{"$error":"#DIV/0!"}},{"$f":"IF(AF11=0,0,(AF11*((LOG(AF11))/LOG(2))))","v":{"$error":"#DIV/0!"}},null,{"$f":"N11","v":0},{"$f":"COUNTIF(L31:L38,AI11)","v":0},{"$f":"AJ11/(AL4-AJ8)","v":0},{"$f":"IF(AK11=0,0,(AK11*((LOG(AK11))/LOG(2))))","v":0},null,{"$f":"N11","v":0},{"$f":"COUNTIF(L39:L46,AN11)","v":0},{"$f":"AO11/(AQ4-AO8)","v":0},{"$f":"IF(AP11=0,0,(AP11*((LOG(AP11))/LOG(2))))","v":0},null,{"$f":"N11","v":0},{"$f":"COUNTIF(L47:L54,AS11)","v":0},{"$f":"AT11/(AV4-AT8)","v":{"$error":"#DIV/0!"}},{"$f":"IF(AU11=0,0,(AU11*((LOG(AU11))/LOG(2))))","v":{"$error":"#DIV/0!"}}]
[11,553,21,567,null,null,null,null,null,null,0,12,null,null,null,null,null,null,null,{"$f":"N12","v":0},{"$f":"COUNTIF(L7:L14,T12)","v":0},{"$f":"U12/(W4-U8)","v":0},{"$f":"IF(V12=0,0,(V12*((LOG(V12))/LOG(2))))","v":0},null,{"$f":"N12","v":0},{"$f":"COUNTIF(L15:L22,Y12)","v":0},{"$f":"Z12/(AB4-Z8)","v":{"$error":"#DIV/0!"}},{"$f":"IF(AA12=0,0,(AA12*((LOG(AA12))/LOG(2))))","v":{"$error":"#DIV/0!"}},null,{"$f":"N12","v":0},{"$f":"COUNTIF(L23:L30,AD12)","v":0},{"$f":"AE12/(AG4-AE8)","v":{"$error":"#DIV/0!"}},{"$f":"IF(AF12=0,0,(AF12*((LOG(AF12))/LOG(2))))","v":{"$error":"#DIV/0!"}},null,{"$f":"N12","v":0},{"$f":"COUNTIF(L31:L38,AI12)","v":0},{"$f":"AJ12/(AL4-AJ8)","v":0},{"$f":"IF(AK12=0,0,(AK12*((LOG(AK12))/LOG(2))))","v":0},null,{"$f":"N12","v":0},{"$f":"COUNTIF(L39:L46,AN12)","v":0},{"$f":"AO12/(AQ4-AO8)","v":0},{"$f":"IF(AP12=0,0,(AP12*((LOG(AP12))/LOG(2))))","v":0},null,{"$f":"N12","v":0},{"$f":"COUNTIF(L47:L54,AS12)","v":0},{"$f":"AT12/(AV4-AT8)","v":{"$error":"#DIV/0!"}},{"$f":"IF(AU12=0,0,(AU12*((LOG(AU12))/LOG(2))))","v":{"$error":"#DIV/0!"}}]
[11,652,21,662,null,null,null,null,null,null,0,12,null,null,null,null,null,null,null,{"$f":"N13","v":0},{"$f":"COUNTIF(L7:L14,T13)","v":0},{"$f":"U13/(W4-U8)","v":0},{"$f":"IF(V13=0,0,(V13*((LOG(V13))/LOG(2))))","v":0},null,{"$f":"N13","v":0},{"$f":"COUNTIF(L15:L22,Y13)","v":0},{"$f":"Z13/(AB4-Z8)","v":{"$error":"#DIV/0!"}},{"$f":"IF(AA13=0,0,(AA13*((LOG(AA13))/LOG(2))))","v":{"$error":"#DIV/0!"}},null,{"$f":"N13","v":0},{"$f":"COUNTIF(L23:L30,AD13)","v":0},{"$f":"AE13/(AG4-AE8)","v":{"$error":"#DIV/0!"}},{"$f":"IF(AF13=0,0,(AF13*((LOG(AF13))/LOG(2))))","v":{"$error":"#DIV/0!"}},null,{"$f":"N13","v":0},{"$f":"COUNTIF(L31:L38,AI13)","v":0},{"$f":"AJ13/(AL4-AJ8)","v":0},{"$f":"IF(AK13=0,0,(AK13*((LOG(AK13))/LOG(2))))","v":0},null,{"$f":"N13","v":0},{"$f":"COUNTIF(L39:L46,AN13)","v":0},{"$f":"AO13/(AQ4-AO8)","v":0},{"$f":"IF(AP13=0,0,(AP13*((LOG(AP13))/LOG(2))))","v":0},null,{"$f":"N13","v":0},{"$f":"COUNTIF(L47:L54,AS13)","v":0},{"$f":"AT13/(AV4-AT8)","v":{"$error":"#DIV/0!"}},{"$f":"IF(AU13=0,0,(AU13*((LOG(AU13))/LOG(2))))","v":{"$error":"#DIV/0!"}}]
[11,747,21,753,null,null,null,null,null,null,0,12,null,null,null,null,null,null,null,{"$f":"N14","v":0},{"$f":"COUNTIF(L7:L14,T14)","v":0},{"$f":"U14/(W4-U8)","v":0},{"$f":"IF(V14=0,0,(V14*((LOG(V14))/LOG(2))))","v":0},null,{"$f":"N14","v":0},{"$f":"COUNTIF(L15:L22,Y14)","v":0},{"$f":"Z14/(AB4-Z8)","v":{"$error":"#DIV/0!"}},{"$f":"IF(AA14=0,0,(AA14*((LOG(AA14))/LOG(2))))","v":{"$error":"#DIV/0!"}},null,{"$f":"N14","v":0},{"$f":"COUNTIF(L23:L30,AD14)","v":0},{"$f":"AE14/(AG4-AE8)","v":{"$error":"#DIV/0!"}},{"$f":"IF(AF14=0,0,(AF14*((LOG(AF14))/LOG(2))))","v":{"$error":"#DIV/0!"}},null,{"$f":"N14","v":0},{"$f":"COUNTIF(L31:L38,AI14)","v":0},{"$f":"AJ14/(AL4-AJ8)","v":0},{"$f":"IF(AK14=0,0,(AK14*((LOG(AK14))/LOG(2))))","v":0},null,{"$f":"N14","v":0},{"$f":"COUNTIF(L39:L46,AN14)","v":0},{"$f":"AO14/(AQ4-AO8)","v":0},{"$f":"IF(AP14=0,0,(AP14*((LOG(AP14))/LOG(2))))","v":0},null,{"$f":"N14","v":0},{"$f":"COUNTIF(L47:L54,AS14)","v":0},{"$f":"AT14/(AV4-AT8)","v":{"$error":"#DIV/0!"}},{"$f":"IF(AU14=0,0,(AU14*((LOG(AU14))/LOG(2))))","v":{"$error":"#DIV/0!"}}]
[11,838,21,853,null,null,null,null,null,null,0,12,null,null,null,{"$f":"SUM(P7:P14)","v":1},{"$f":"-SUM(Q7:Q14)","v":0.88116727176217879},null,null,null,null,{"$f":"SUM(V7:V14)","v":1},{"$f":"-SUM(W7:W14)","v":1},null,null,null,{"$f":"SUM(AA7:AA14)","v":{"$error":"#DIV/0!"}},{"$f":"-SUM(AB7:AB14)","v":{"$error":"#DIV/0!"}},null,null,null,{"$f":"SUM(AF7:AF14)","v":{"$error":"#DIV/0!"}},{"$f":"-SUM(AG7:AG14)","v":{"$error":"#DIV/0!"}},null,null,null,{"$f":"SUM(AK7:AK14)","v":1},{"$f":"-SUM(AL7:AL14)","v":0},null,null,null,{"$f":"SUM(AP7:AP14)","v":1},{"$f":"-SUM(AQ7:AQ14)","v":0.72192809488736231},null,null,null,{"$f":"SUM(AU7:AU14)","v":{"$error":"#DIV/0!"}},{"$f":"-SUM(AV7:AV14)","v":{"$error":"#DIV/0!"}}]
[11,938,21,948,null,null,null,null,null,null,0,12,null,null,null,"U=",{"$f":"Q15/(LOG(Q4)/LOG(2))","v":0.15777496655499448},null,null,null,null,"U1=",{"$f":"W15/(LOG(W4)/LOG(2))","v":0.33333333333333331},null,null,null,"U2=",{"$f":"AB15/(LOG(AB4)/LOG(2))","v":{"$error":"#DIV/0!"}},null,null,null,"U3=",{"$f":"AG15/(LOG(AG4)/LOG(2))","v":{"$error":"#DIV/0!"}},null,null,null,"U4=",{"$f":"AL15/(LOG(AL4)/LOG(2))","v":0},null,null,null,"U5=",{"$f":"AQ15/(LOG(AQ4)/LOG(2))","v":0.24064269829578744},null,null,null,"U6=",{"$f":"AV15/(LOG(AV4)/LOG(2))","v":{"$error":"#DIV/0!"}}]
[11,1033,21,1039,null,null,null,null,null,null,0,12]
[11,1124,21,1132,null,null,null,null,null,null,0,12]
[11,1219,21,1228,null,null,null,null,null,null,0,12,null,"Total Target Seq"]
[11,1315,21,1328,null,null,null,null,null,null,0,12,null,{"$f":"COUNTIF(L7:L54,G3)","v":39},null,8,8,8,8,8,8]
[11,1414,21,1423,null,null,null,null,null,null,0,12,null,null,null,"% of reinforcement given in 6 equal intervals based on number of trials "]
[11,1508,21,1522,null,null,null,null,null,null,0,12,null,null,null,"%_1","%_2","%_3","%_4","%_5","%_6"]
[11,1606,21,1620,null,null,null,null,null,null,0,12,null,null,"target sequence",{"$f":"$G$3","v":12},{"$f":"$G$3","v":12},{"$f":"$G$3","v":12},{"$f":"$G$3","v":12},{"$f":"$G$3","v":12},{"$f":"$G$3","v":12}]
[11,1704,21,1714,null,null,null,null,null,null,0,12,null,null,"total reinforcement",{"$f":"U8","v":6},{"$f":"Z8","v":8},{"$f":"AE8","v":8},{"$f":"AJ8","v":6},{"$f":"AO8","v":3},{"$f":"AT8","v":8}]
[11,1799,21,1813,null,null,null,null,null,null,0,12,null,null,"% target"]
[11,1898,21,1904,null,null,null,null,null,null,0,12,null,null,"CCRF"]
[11,1989,21,1995,null,null,null,null,null,null,0,12,null,null,"% CCRf"]
[11,2079,21,2088,null,null,null,null,null,null,0,12,null,null,"average response rate",{"$f":"D14/P20","v":94.125},{"$f":"(D22-D14)/Q20","v":96.125},{"$f":"(D30-D22)/R20","v":95.75},{"$f":"(D38-D30)/S20","v":100.875},{"$f":"(D46-D38)/T20","v":112.75},{"$f":"(D54-D46)/U20","v":102.5}]
[11,2173,21,2187,null,null,null,null,null,null,0,12]
[11,2274,21,2288,null,null,null,null,null,null,0,12]
[22,2384,23,2403,null,null,null,null,null,null,0,22]
[11,2492,21,2506,null,null,null,null,null,null,0,12]
[11,2593,21,2603,null,null,null,null,null,null,0,12]
[11,2687,21,2694,null,null,null,null,null,null,0,12]
[11,2778,21,2787,null,null,null,null,null,null,0,12]
[22,2882,23,2895,null,null,null,null,null,null,0,22]
[11,2991,21,3000,null,null,null,null,null,null,0,12]
[11,3085,21,3095,null,null,null,null,null,null,0,12]
[22,3192,23,3209,null,null,null,null,null,null,0,22]
[22,3325,23,3334,null,null,null,null,null,null,0,22]
[22,3437,23,3456,null,null,null,null,null,null,0,22]
[11,3548,12,3557,null,null,null,null,null,null,0,11]
[11,3653,21,3663,null,null,null,null,null,null,0,12]
[11,3752,21,3763,null,null,null,null,null,null,0,12]
[11,3872,21,3882,null,null,null,null,null,null,0,12]
[22,3983,23,3997,null,null,null,null,null,null,0,22]
[11,4100,21,4110,null,null,null,null,null,null,0,12]
[11,4195,21,4205,null,null,null,null,null,null,0,12]
[11,4312,21,4320,null,null,null,null,null,null,0,12]
[11,4407,21,4416,null,null,null,null,null,null,0,12]
[11,4504,21,4513,null,null,null,null,null,null,0,12]
[11,4604,21,4622,null,null,null,null,null,null,0,12]
[11,4712,21,4721,null,null,null,null,null,null,0,12]
[11,4808,21,4817,null,null,null,null,null,null,1,12]

{"sheet":"!LB25D10.056","index":18,"n_rows":67,"n_cols":48,"rows_kept":67,"cut":false,"hidden":false,"merged":[[4,39,4,42],[5,39,5,40],[4,44,4,47],[5,44,5,45],[4,24,4,27],[5,24,5,25],[4,29,4,32],[5,29,5,30],[4,34,4,37],[5,34,5,35],[1,1,1,2],[5,13,5,14],[18,13,18,14],[19,13,19,14],[4,19,4,22],[5,19,5,20]]}
["Report for:!LB25D10.056"]
["Date:","<date>"]
["Hen:","<hen>",null,null,null,"Correct Sequence",{"$f":"Start!J2","v":12},null,null,null,null,null,null,null,null,"Total Sequences in Data",{"$f":"4994-COUNTBLANK(L7:L5000)","v":61},null,null,null,null,"Total Sequences in Block Data",{"$f":"COUNTA(L7:L16)","v":10},null,null,null,"Total Sequences in Block Data",{"$f":"COUNTA(L17:L26)","v":10},null,null,null,"Total Sequences in Block Data",{"$f":"COUNTA(L27:L37)","v":11},null,null,null,"Total Sequences in Block Data",{"$f":"COUNTA(L38:L47)","v":10},null,null,null,"Total Sequences in Block Data",{"$f":"COUNTA(L48:L57)","v":10},null,null,null,"Total Sequences in Block Data",{"$f":"COUNTA(L58:L67)","v":10}]
[null,null,null,null,null,null,null,null,null,null,null,null,null,null,null,"Total Sequences in Summary",{"$f":"SUM(O7:O14)","v":61},null,null,null,null,"Total Sequences in Block Summary",{"$f":"SUM(U7:U14)","v":10},null,null,null,"Total Sequences in Block Summary",{"$f":"SUM(Z7:Z14)","v":10},null,null,null,"Total Sequences in Block Summary",{"$f":"SUM(AE7:AE14)","v":11},null,null,null,"Total Sequences in Block Summary",{"$f":"SUM(AJ7:AJ14)","v":10},null,null,null,"Total Sequences in Block Summary",{"$f":"SUM(AO7:AO14)","v":10},null,null,null,"Total Sequences in Block Summary",{"$f":"SUM(AT7:AT14)","v":10}]
[null,null,null,null,null,null,null,null,null,null,null,null,null,null,null,null,null,null,null,"Block 1",null,null,null,null,"Block 2",null,null,null,null,"Block 3",null,null,null,null,"Block 4",null,null,null,null,"Block 5",null,null,null,null,"Block 6"]
["Sequence\nComponent\n1","Time\n1","Sequence\nComponent\n2","Time\n2","Sequence\nComponent\n3","Time\n3","Sequence\nComponent\n4","Time\n4","Sequence\nComponent\n5","Time\n5","Correct?\n0=No 1=Yes","Sequence",null,"Frequency",null,"Relative Frequency","Variability",null,null,"Frequency",null,"Relative Frequency","Variability",null,"Frequency",null,"Relative Frequency","Variability",null,"Frequency",null,"Relative Frequency","Variability",null,"Frequency",null,"Relative Frequency","Variability",null,"Frequency",null,"Relative Frequency","Variability",null,"Frequency",null,"Relative Frequency","Variability"]
[11,13,21,23,null,null,null,null,null,null,0,12,null,11,{"$f":"COUNTIF($L$7:$L$500,N7)","v":2},{"$f":"O7/$Q$4","v":3.2786885245901641E-2},{"$f":"IF(P7=0,0,(P7*((LOG(P7))/LOG(2))))","v":-0.16166351926435696},null,null,{"$f":"N7","v":11},{"$f":"COUNTIF(L7:L16,T7)","v":0},{"$f":"U7/(W4-U8)","v":0},{"$f":"IF(V7=0,0,(V7*((LOG(V7))/LOG(2))))","v":0},null,{"$f":"N7","v":11},{"$f":"COUNTIF(L17:L26,Y7)","v":0},{"$f":"Z7/(AB4-Z8)","v":0},{"$f":"IF(AA7=0,0,(AA7*((LOG(AA7))/LOG(2))))","v":0},null,{"$f":"N7","v":11},{"$f":"COUNTIF(L27:L37,AD7)","v":1},{"$f":"AE7/(AG4-AE8)","v":0.25},{"$f":"IF(AF7=0,0,(AF7*((LOG(AF7))/LOG(2))))","v":-0.5},null,{"$f":"N7","v":11},{"$f":"COUNTIF(L38:L47,AI7)","v":0},{"$f":"AJ7/(AL4-AJ8)","v":0},{"$f":"IF(AK7=0,0,(AK7*((LOG(AK7))/LOG(2))))","v":0},null,{"$f":"N7","v":11},{"$f":"COUNTIF(L48:L57,AN7)","v":0},{"$f":"AO7/(AQ4-AO8)","v":0},{"$f":"IF(AP7=0,0,(AP7*((LOG(AP7))/LOG(2))))","v":0},null,{"$f":"N7","v":11},{"$f":"COUNTIF(L58:L67,AS7)","v":1},{"$f":"AT7/(AV4-AT8)","v":0.2},{"$f":"IF(AU7=0,0,(AU7*((LOG(AU7))/LOG(2))))","v":-0.46438561897747244}]
[22,115,23,132,null,null,null,null,null,null,0,22,null,12,{"$f":"COUNTIF($L$7:$L$500,N8)","v":37},{"$f":"O8/$Q$4","v":0.60655737704918034},{"$f":"IF(P8=0,0,(P8*((LOG(P8))/LOG(2))))","v":-0.43750011412386308},null,null,{"$f":"N8","v":12},{"$f":"COUNTIF(L7:L16,T8)","v":6},null,null,null,{"$f":"N8","v":12},{"$f":"COUNTIF(L17:L26,Y8)","v":6},null,null,null,{"$f":"N8","v":12},{"$f":"COUNTIF(L27:L37,AD8)","v":7},null,null,null,{"$f":"N8","v":12},{"$f":"COUNTIF(L38:L47,AI8)","v":6},null,null,null,{"$f":"N8","v":12},{"$f":"COUNTIF(L48:L57,AN8)","v":7},null,null,null,{"$f":"N8","v":12},{"$f":"COUNTIF(L58:L67,AS8)","v":5}]
[11,231,21,242,null,null,null,null,null,null,0,12,null,21,{"$f":"COUNTIF($L$7:$L$500,N9)","v":0},{"$f":"O9/$Q$4","v":0},{"$f":"IF(P9=0,0,(P9*((LOG(P9))/LOG(2))))","v":0},null,null,{"$f":"N9","v":21},{"$f":"COUNTIF(L7:L16,T9)","v":0},{"$f":"U9/(W4-U8)","v":0},{"$f":"IF(V9=0,0,(V9*((LOG(V9))/LOG(2))))","v":0},null,{"$f":"N9","v":21},{"$f":"COUNTIF(L17:L26,Y9)","v":0},{"$f":"Z9/(AB4-Z8)","v":0},{"$f":"IF(AA9=0,0,(AA9*((LOG(AA9))/LOG(2))))","v":0},null,{"$f":"N9","v":21},{"$f":"COUNTIF(L27:L37,AD9)","v":0},{"$f":"AE9/(AG4-AE8)","v":0},{"$f":"IF(AF9=0,0,(AF9*((LOG(AF9))/LOG(2))))","v":0},null,{"$f":"N9","v":21},{"$f":"COUNTIF(L38:L47,AI9)","v":0},{"$f":"AJ9/(AL4-AJ8)","v":0},{"$f":"IF(AK9=0,0,(AK9*((LOG(AK9))/LOG(2))))","v":0},null,{"$f":"N9","v":21},{"$f":"COUNTIF(L48:L57,AN9)","v":0},{"$f":"AO9/(AQ4-AO8)","v":0},{"$f":"IF(AP9=0,0,(AP9*((LOG(AP9))/LOG(2))))","v":0},null,{"$f":"N9","v":21},{"$f":"COUNTIF(L58:L67,AS9)","v":0},{"$f":"AT9/(AV4-AT8)","v":0},{"$f":"IF(AU9=0,0,(AU9*((LOG(AU9))/LOG(2))))","v":0}]
[22,337,23,349,null,null,null,null,null,null,0,22,null,22,{"$f":"COUNTIF($L$7:$L$500,N10)","v":22},{"$f":"O10/$Q$4","v":0.36065573770491804},{"$f":"IF(P10=0,0,(P10*((LOG(P10))/LOG(2))))","v":-0.53063484944857309},null,null,{"$f":"N10","v":22},{"$f":"COUNTIF(L7:L16,T10)","v":4},{"$f":"U10/(W4-U8)","v":1},{"$f":"IF(V10=0,0,(V10*((LOG(V10))/LOG(2))))","v":0},null,{"$f":"N10","v":22},{"$f":"COUNTIF(L17:L26,Y10)","v":4},{"$f":"Z10/(AB4-Z8)","v":1},{"$f":"IF(AA10=0,0,(AA10*((LOG(AA10))/LOG(2))))","v":0},null,{"$f":"N10","v":22},{"$f":"COUNTIF(L27:L37,AD10)","v":3},{"$f":"AE10/(AG4-AE8)","v":0.75},{"$f":"IF(AF10=0,0,(AF10*((LOG(AF10))/LOG(2))))","v":-0.31127812445913283},null,{"$f":"N10","v":22},{"$f":"COUNTIF(L38:L47,AI10)","v":4},{"$f":"AJ10/(AL4-AJ8)","v":1},{"$f":"IF(AK10=0,0,(AK10*((LOG(AK10))/LOG(2))))","v":0},null,{"$f":"N10","v":22},{"$f":"COUNTIF(L48:L57,AN10)","v":3},{"$f":"AO10/(AQ4-AO8)","v":1},{"$f":"IF(AP10=0,0,(AP10*((LOG(AP10))/LOG(2))))","v":0},null,{"$f":"N10","v":22},{"$f":"COUNTIF(L58:L67,AS10)","v":4},{"$f":"AT10/(AV4-AT8)","v":0.8},{"$f":"IF(AU10=0,0,(AU10*((LOG(AU10))/LOG(2))))","v":-0.25754247590988982}]
[11,444,21,463,null,null,null,null,null,null,0,12,null,null,null,null,null,null,null,{"$f":"N11","v":0},{"$f":"COUNTIF(L7:L16,T11)","v":0},{"$f":"U11/(W4-U8)","v":0},{"$f":"IF(V11=0,0,(V11*((LOG(V11))/LOG(2))))","v":0},null,{"$f":"N11","v":0},{"$f":"COUNTIF(L17:L26,Y11)","v":0},{"$f":"Z11/(AB4-Z8)","v":0},{"$f":"IF(AA11=0,0,(AA11*((LOG(AA11))/LOG(2))))","v":0},null,{"$f":"N11","v":0},{"$f":"COUNTIF(L27:L37,AD11)","v":0},{"$f":"AE11/(AG4-AE8)","v":0},{"$f":"IF(AF11=0,0,(AF11*((LOG(AF11))/LOG(2))))","v":0},null,{"$f":"N11","v":0},{"$f":"COUNTIF(L38:L47,AI11)","v":0},{"$f":"AJ11/(AL4-AJ8)","v":0},{"$f":"IF(AK11=0,0,(AK11*((LOG(AK11))/LOG(2))))","v":0},null,{"$f":"N11","v":0},{"$f":"COUNTIF(L48:L57,AN11)","v":0},{"$f":"AO11/(AQ4-AO8)","v":0},{"$f":"IF(AP11=0,0,(AP11*((LOG(AP11))/LOG(2))))","v":0},null,{"$f":"N11","v":0},{"$f":"COUNTIF(L58:L67,AS11)","v":0},{"$f":"AT11/(AV4-AT8)","v":0},{"$f":"IF(AU11=0,0,(AU11*((LOG(AU11))/LOG(2))))","v":0}]
[22,567,23,588,null,null,null,null,null,null,0,22,null,null,null,null,null,null,null,{"$f":"N12","v":0},{"$f":"COUNTIF(L7:L16,T12)","v":0},{"$f":"U12/(W4-U8)","v":0},{"$f":"IF(V12=0,0,(V12*((LOG(V12))/LOG(2))))","v":0},null,{"$f":"N12","v":0},{"$f":"COUNTIF(L17:L26,Y12)","v":0},{"$f":"Z12/(AB4-Z8)","v":0},{"$f":"IF(AA12=0,0,(AA12*((LOG(AA12))/LOG(2))))","v":0},null,{"$f":"N12","v":0},{"$f":"COUNTIF(L27:L37,AD12)","v":0},{"$f":"AE12/(AG4-AE8)","v":0},{"$f":"IF(AF12=0,0,(AF12*((LOG(AF12))/LOG(2))))","v":0},null,{"$f":"N12","v":0},{"$f":"COUNTIF(L38:L47,AI12)","v":0},{"$f":"AJ12/(AL4-AJ8)","v":0},{"$f":"IF(AK12=0,0,(AK12*((LOG(AK12))/LOG(2))))","v":0},null,{"$f":"N12","v":0},{"$f":"COUNTIF(L48:L57,AN12)","v":0},{"$f":"AO12/(AQ4-AO8)","v":0},{"$f":"IF(AP12=0,0,(AP12*((LOG(AP12))/LOG(2))))","v":0},null,{"$f":"N12","v":0},{"$f":"COUNTIF(L58:L67,AS12)","v":0},{"$f":"AT12/(AV4-AT8)","v":0},{"$f":"IF(AU12=0,0,(AU12*((LOG(AU12))/LOG(2))))","v":0}]
[11,683,21,692,null,null,null,null,null,null,0,12,null,null,null,null,null,null,null,{"$f":"N13","v":0},{"$f":"COUNTIF(L7:L16,T13)","v":0},{"$f":"U13/(W4-U8)","v":0},{"$f":"IF(V13=0,0,(V13*((LOG(V13))/LOG(2))))","v":0},null,{"$f":"N13","v":0},{"$f":"COUNTIF(L17:L26,Y13)","v":0},{"$f":"Z13/(AB4-Z8)","v":0},{"$f":"IF(AA13=0,0,(AA13*((LOG(AA13))/LOG(2))))","v":0},null,{"$f":"N13","v":0},{"$f":"COUNTIF(L27:L37,AD13)","v":0},{"$f":"AE13/(AG4-AE8)","v":0},{"$f":"IF(AF13=0,0,(AF13*((LOG(AF13))/LOG(2))))","v":0},null,{"$f":"N13","v":0},{"$f":"COUNTIF(L38:L47,AI13)","v":0},{"$f":"AJ13/(AL4-AJ8)","v":0},{"$f":"IF(AK13=0,0,(AK13*((LOG(AK13))/LOG(2))))","v":0},null,{"$f":"N13","v":0},{"$f":"COUNTIF(L48:L57,AN13)","v":0},{"$f":"AO13/(AQ4-AO8)","v":0},{"$f":"IF(AP13=0,0,(AP13*((LOG(AP13))/LOG(2))))","v":0},null,{"$f":"N13","v":0},{"$f":"COUNTIF(L58:L67,AS13)","v":0},{"$f":"AT13/(AV4-AT8)","v":0},{"$f":"IF(AU13=0,0,(AU13*((LOG(AU13))/LOG(2))))","v":0}]
[11,778,21,789,null,null,null,null,null,null,0,12,null,null,null,null,null,null,null,{"$f":"N14","v":0},{"$f":"COUNTIF(L7:L16,T14)","v":0},{"$f":"U14/(W4-U8)","v":0},{"$f":"IF(V14=0,0,(V14*((LOG(V14))/LOG(2))))","v":0},null,{"$f":"N14","v":0},{"$f":"COUNTIF(L17:L26,Y14)","v":0},{"$f":"Z14/(AB4-Z8)","v":0},{"$f":"IF(AA14=0,0,(AA14*((LOG(AA14))/LOG(2))))","v":0},null,{"$f":"N14","v":0},{"$f":"COUNTIF(L27:L37,AD14)","v":0},{"$f":"AE14/(AG4-AE8)","v":0},{"$f":"IF(AF14=0,0,(AF14*((LOG(AF14))/LOG(2))))","v":0},null,{"$f":"N14","v":0},{"$f":"COUNTIF(L38:L47,AI14)","v":0},{"$f":"AJ14/(AL4-AJ8)","v":0},{"$f":"IF(AK14=0,0,(AK14*((LOG(AK14))/LOG(2))))","v":0},null,{"$f":"N14","v":0},{"$f":"COUNTIF(L48:L57,AN14)","v":0},{"$f":"AO14/(AQ4-AO8)","v":0},{"$f":"IF(AP14=0,0,(AP14*((LOG(AP14))/LOG(2))))","v":0},null,{"$f":"N14","v":0},{"$f":"COUNTIF(L58:L67,AS14)","v":0},{"$f":"AT14/(AV4-AT8)","v":0},{"$f":"IF(AU14=0,0,(AU14*((LOG(AU14))/LOG(2))))","v":0}]
[22,883,23,895,null,null,null,null,null,null,0,22,null,null,null,{"$f":"SUM(P7:P14)","v":1},{"$f":"-SUM(Q7:Q14)","v":1.1297984828367931},null,null,null,null,{"$f":"SUM(V7:V14)","v":1},{"$f":"-SUM(W7:W14)","v":0},null,null,null,{"$f":"SUM(AA7:AA14)","v":1},{"$f":"-SUM(AB7:AB14)","v":0},null,null,null,{"$f":"SUM(AF7:AF14)","v":1},{"$f":"-SUM(AG7:AG14)","v":0.81127812445913283},null,null,null,{"$f":"SUM(AK7:AK14)","v":1},{"$f":"-SUM(AL7:AL14)","v":0},null,null,null,{"$f":"SUM(AP7:AP14)","v":1},{"$f":"-SUM(AQ7:AQ14)","v":0},null,null,null,{"$f":"SUM(AU7:AU14)","v":1},{"$f":"-SUM(AV7:AV14)","v":0.72192809488736231}]
[11,978,21,991,null,null,null,null,null,null,0,12,null,null,null,"U=",{"$f":"Q15/(LOG(Q4)/LOG(2))","v":0.19049882308580882},null,null,null,null,"U1=",{"$f":"W15/(LOG(W4)/LOG(2))","v":0},null,null,null,"U2=",{"$f":"AB15/(LOG(AB4)/LOG(2))","v":0},null,null,null,"U3=",{"$f":"AG15/(LOG(AG4)/LOG(2))","v":0.23451197014228101},null,null,null,"U4=",{"$f":"AL15/(LOG(AL4)/LOG(2))","v":0},null,null,null,"U5=",{"$f":"AQ15/(LOG(AQ4)/LOG(2))","v":0},null,null,null,"U6=",{"$f":"AV15/(LOG(AV4)/LOG(2))","v":0.21732201127364889}]
[11,1078,21,1083,null,null,null,null,null,null,0,12]
[11,1168,21,1178,null,null,null,null,null,null,0,12]
[22,1275,23,1327,null,null,null,null,null,null,0,22,null,"Total Target Seq"]
[11,1423,21,1437,null,null,null,null,null,null,0,12,null,{"$f":"COUNTIF(L7:L67,G3)","v":37},null,10,10,11,10,10,10]
[22,1539,23,1558,null,null,null,null,null,null,0,22,null,null,null,"% of reinforcement given in 6 equal intervals based on number of trials "]
[11,1653,21,1663,null,null,null,null,null,null,0,12,null,null,null,"%_1","%_2","%_3","%_4","%_5","%_6"]
[22,1758,23,1785,null,null,null,null,null,null,0,22,null,null,"target sequence",{"$f":"$G$3","v":12},{"$f":"$G$3","v":12},{"$f":"$G$3","v":12},{"$f":"$G$3","v":12},{"$f":"$G$3","v":12},{"$f":"$G$3","v":12}]
[11,1884,21,1898,null,null,null,null,null,null,0,12,null,null,"total reinforcement",{"$f":"U8","v":6},{"$f":"Z8","v":6},{"$f":"AE8","v":7},{"$f":"AJ8","v":6},{"$f":"AO8","v":7},{"$f":"AT8","v":5}]
[22,2002,23,2016,null,null,null,null,null,null,0,22,null,null,"% target"]
[11,2111,21,2121,null,null,null,null,null,null,0,12,null,null,"CCRF"]
[11,2207,21,2217,null,null,null,null,null,null,0,12,null,null,"% CCRf"]
[11,2307,21,2315,null,null,null,null,null,null,0,12,null,null,"average response rate",{"$f":"D16/P20","v":99.1},{"$f":"(D26-D16)/Q20","v":113},{"$f":"(D37-D26)/R20","v":104.45454545454545},{"$f":"(D47-D37)/S20","v":106.5},{"$f":"(D57-D47)/T20","v":106.5},{"$f":"(D67-D57)/U20","v":108.4}]
[22,2423,23,2431,null,null,null,null,null,null,0,22]
[11,2524,21,2534,null,null,null,null,null,null,0,12]
[11,2619,21,2629,null,null,null,null,null,null,0,12]
[11,2710,12,2716,null,null,null,null,null,null,0,11]
[11,2816,21,2830,null,null,null,null,null,null,0,12]
[22,2930,23,2939,null,null,null,null,null,null,0,22]
[11,3036,21,3050,null,null,null,null,null,null,0,12]
[22,3144,23,3163,null,null,null,null,null,null,0,22]
[11,3261,21,3270,null,null,null,null,null,null,0,12]
[11,3355,21,3365,null,null,null,null,null,null,0,12]
[22,3465,23,3474,null,null,null,null,null,null,0,22]
[11,3569,21,3579,null,null,null,null,null,null,0,12]
[11,3663,21,3672,null,null,null,null,null,null,0,12]
[22,3773,23,3782,null,null,null,null,null,null,0,22]
[11,3879,21,3888,null,null,null,null,null,null,0,12]
[22,3997,23,4006,null,null,null,null,null,null,0,22]
[11,4101,21,4110,null,null,null,null,null,null,0,12]
[22,4230,23,4239,null,null,null,null,null,null,0,22]
[11,4325,21,4335,null,null,null,null,null,null,0,12]
[11,4422,21,4431,null,null,null,null,null,null,0,12]
[11,4515,21,4525,null,null,null,null,null,null,0,12]
[11,4615,21,4627,null,null,null,null,null,null,0,12]
[22,4726,23,4739,null,null,null,null,null,null,0,22]
[11,4836,21,4845,null,null,null,null,null,null,0,12]
[11,4947,21,4956,null,null,null,null,null,null,0,12]
[11,5043,21,5052,null,null,null,null,null,null,0,12]
[22,5151,23,5165,null,null,null,null,null,null,0,22]
[22,5272,23,5291,null,null,null,null,null,null,0,22]
[11,5387,21,5400,null,null,null,null,null,null,0,12]
[22,5513,23,5523,null,null,null,null,null,null,0,22]
[11,5621,21,5630,null,null,null,null,null,null,0,12]
[11,5715,21,5725,null,null,null,null,null,null,0,12]
[11,5813,21,5836,null,null,null,null,null,null,0,12]
[11,5922,21,5931,null,null,null,null,null,null,0,12]
[11,6013,12,6018,null,null,null,null,null,null,0,11]
[22,6126,23,6140,null,null,null,null,null,null,0,22]
[22,6247,23,6262,null,null,null,null,null,null,0,22]
[22,6369,23,6378,null,null,null,null,null,null,0,22]
[11,6475,21,6484,null,null,null,null,null,null,1,12]

{"sheet":"!LB26C10.056","index":19,"n_rows":50,"n_cols":48,"rows_kept":50,"cut":false,"hidden":false,"merged":[[4,39,4,42],[5,39,5,40],[4,44,4,47],[5,44,5,45],[4,24,4,27],[5,24,5,25],[4,29,4,32],[5,29,5,30],[4,34,4,37],[5,34,5,35],[1,1,1,2],[5,13,5,14],[18,13,18,14],[19,13,19,14],[4,19,4,22],[5,19,5,20]]}
["Report for:!LB26C10.056"]
["Date:","<date>"]
["Hen:","<hen>",null,null,null,"Correct Sequence",{"$f":"Start!J2","v":12},null,null,null,null,null,null,null,null,"Total Sequences in Data",{"$f":"4994-COUNTBLANK(L7:L5000)","v":44},null,null,null,null,"Total Sequences in Block Data",{"$f":"COUNTA(L7:L13)","v":7},null,null,null,"Total Sequences in Block Data",{"$f":"COUNTA(L14:L21)","v":8},null,null,null,"Total Sequences in Block Data",{"$f":"COUNTA(L22:L28)","v":7},null,null,null,"Total Sequences in Block Data",{"$f":"COUNTA(L29:L35)","v":7},null,null,null,"Total Sequences in Block Data",{"$f":"COUNTA(L36:L43)","v":8},null,null,null,"Total Sequences in Block Data",{"$f":"COUNTA(L44:L50)","v":7}]
[null,null,null,null,null,null,null,null,null,null,null,null,null,null,null,"Total Sequences in Summary",{"$f":"SUM(O7:O14)","v":44},null,null,null,null,"Total Sequences in Block Summary",{"$f":"SUM(U7:U14)","v":7},null,null,null,"Total Sequences in Block Summary",{"$f":"SUM(Z7:Z14)","v":8},null,null,null,"Total Sequences in Block Summary",{"$f":"SUM(AE7:AE14)","v":7},null,null,null,"Total Sequences in Block Summary",{"$f":"SUM(AJ7:AJ14)","v":7},null,null,null,"Total Sequences in Block Summary",{"$f":"SUM(AO7:AO14)","v":8},null,null,null,"Total Sequences in Block Summary",{"$f":"SUM(AT7:AT14)","v":7}]
[null,null,null,null,null,null,null,null,null,null,null,null,null,null,null,null,null,null,null,"Block 1",null,null,null,null,"Block 2",null,null,null,null,"Block 3",null,null,null,null,"Block 4",null,null,null,null,"Block 5",null,null,null,null,"Block 6"]
["Sequence\nComponent\n1","Time\n1","Sequence\nComponent\n2","Time\n2","Sequence\nComponent\n3","Time\n3","Sequence\nComponent\n4","Time\n4","Sequence\nComponent\n5","Time\n5","Correct?\n0=No 1=Yes","Sequence",null,"Frequency",null,"Relative Frequency","Variability",null,null,"Frequency",null,"Relative Frequency","Variability",null,"Frequency",null,"Relative Frequency","Variability",null,"Frequency",null,"Relative Frequency","Variability",null,"Frequency",null,"Relative Frequency","Variability",null,"Frequency",null,"Relative Frequency","Variability",null,"Frequency",null,"Relative Frequency","Variability"]
[11,14,21,39,null,null,null,null,null,null,0,12,null,11,{"$f":"COUNTIF($L$7:$L$500,N7)","v":1},{"$f":"O7/$Q$4","v":2.2727272727272728E-2},{"$f":"IF(P7=0,0,(P7*((LOG(P7))/LOG(2))))","v":-0.12407799133266585},null,null,{"$f":"N7","v":11},{"$f":"COUNTIF(L7:L13,T7)","v":1},{"$f":"U7/(W4-U8)","v":0.5},{"$f":"IF(V7=0,0,(V7*((LOG(V7))/LOG(2))))","v":-0.5},null,{"$f":"N7","v":11},{"$f":"COUNTIF(L14:L21,Y7)","v":0},{"$f":"Z7/(AB4-Z8)","v":0},{"$f":"IF(AA7=0,0,(AA7*((LOG(AA7))/LOG(2))))","v":0},null,{"$f":"N7","v":11},{"$f":"COUNTIF(L22:L28,AD7)","v":0},{"$f":"AE7/(AG4-AE8)","v":{"$error":"#DIV/0!"}},{"$f":"IF(AF7=0,0,(AF7*((LOG(AF7))/LOG(2))))","v":{"$error":"#DIV/0!"}},null,{"$f":"N7","v":11},{"$f":"COUNTIF(L29:L35,AI7)","v":0},{"$f":"AJ7/(AL4-AJ8)","v":0},{"$f":"IF(AK7=0,0,(AK7*((LOG(AK7))/LOG(2))))","v":0},null,{"$f":"N7","v":11},{"$f":"COUNTIF(L36:L43,AN7)","v":0},{"$f":"AO7/(AQ4-AO8)","v":{"$error":"#DIV/0!"}},{"$f":"IF(AP7=0,0,(AP7*((LOG(AP7))/LOG(2))))","v":{"$error":"#DIV/0!"}},null,{"$f":"N7","v":11},{"$f":"COUNTIF(L44:L50,AS7)","v":0},{"$f":"AT7/(AV4-AT8)","v":{"$error":"#DIV/0!"}},{"$f":"IF(AU7=0,0,(AU7*((LOG(AU7))/LOG(2))))","v":{"$error":"#DIV/0!"}}]
[22,138,23,154,null,null,null,null,null,null,0,22,null,12,{"$f":"COUNTIF($L$7:$L$500,N8)","v":39},{"$f":"O8/$Q$4","v":0.88636363636363635},{"$f":"IF(P8=0,0,(P8*((LOG(P8))/LOG(2))))","v":-0.15425333161879334},null,null,{"$f":"N8","v":12},{"$f":"COUNTIF(L7:L13,T8)","v":5},null,null,null,{"$f":"N8","v":12},{"$f":"COUNTIF(L14:L21,Y8)","v":7},null,null,null,{"$f":"N8","v":12},{"$f":"COUNTIF(L22:L28,AD8)","v":7},null,null,null,{"$f":"N8","v":12},{"$f":"COUNTIF(L29:L35,AI8)","v":5},null,null,null,{"$f":"N8","v":12},{"$f":"COUNTIF(L36:L43,AN8)","v":8},null,null,null,{"$f":"N8","v":12},{"$f":"COUNTIF(L44:L50,AS8)","v":7}]
[11,243,21,254,null,null,null,null,null,null,0,12,null,21,{"$f":"COUNTIF($L$7:$L$500,N9)","v":0},{"$f":"O9/$Q$4","v":0},{"$f":"IF(P9=0,0,(P9*((LOG(P9))/LOG(2))))","v":0},null,null,{"$f":"N9","v":21},{"$f":"COUNTIF(L7:L13,T9)","v":0},{"$f":"U9/(W4-U8)","v":0},{"$f":"IF(V9=0,0,(V9*((LOG(V9))/LOG(2))))","v":0},null,{"$f":"N9","v":21},{"$f":"COUNTIF(L14:L21,Y9)","v":0},{"$f":"Z9/(AB4-Z8)","v":0},{"$f":"IF(AA9=0,0,(AA9*((LOG(AA9))/LOG(2))))","v":0},null,{"$f":"N9","v":21},{"$f":"COUNTIF(L22:L28,AD9)","v":0},{"$f":"AE9/(AG4-AE8)","v":{"$error":"#DIV/0!"}},{"$f":"IF(AF9=0,0,(AF9*((LOG(AF9))/LOG(2))))","v":{"$error":"#DIV/0!"}},null,{"$f":"N9","v":21},{"$f":"COUNTIF(L29:L35,AI9)","v":0},{"$f":"AJ9/(AL4-AJ8)","v":0},{"$f":"IF(AK9=0,0,(AK9*((LOG(AK9))/LOG(2))))","v":0},null,{"$f":"N9","v":21},{"$f":"COUNTIF(L36:L43,AN9)","v":0},{"$f":"AO9/(AQ4-AO8)","v":{"$error":"#DIV/0!"}},{"$f":"IF(AP9=0,0,(AP9*((LOG(AP9))/LOG(2))))","v":{"$error":"#DIV/0!"}},null,{"$f":"N9","v":21},{"$f":"COUNTIF(L44:L50,AS9)","v":0},{"$f":"AT9/(AV4-AT8)","v":{"$error":"#DIV/0!"}},{"$f":"IF(AU9=0,0,(AU9*((LOG(AU9))/LOG(2))))","v":{"$error":"#DIV/0!"}}]
[11,342,21,351,null,null,null,null,null,null,0,12,null,22,{"$f":"COUNTIF($L$7:$L$500,N10)","v":4},{"$f":"O10/$Q$4","v":9.0909090909090912E-2},{"$f":"IF(P10=0,0,(P10*((LOG(P10))/LOG(2))))","v":-0.31449378351248153},null,null,{"$f":"N10","v":22},{"$f":"COUNTIF(L7:L13,T10)","v":1},{"$f":"U10/(W4-U8)","v":0.5},{"$f":"IF(V10=0,0,(V10*((LOG(V10))/LOG(2))))","v":-0.5},null,{"$f":"N10","v":22},{"$f":"COUNTIF(L14:L21,Y10)","v":1},{"$f":"Z10/(AB4-Z8)","v":1},{"$f":"IF(AA10=0,0,(AA10*((LOG(AA10))/LOG(2))))","v":0},null,{"$f":"N10","v":22},{"$f":"COUNTIF(L22:L28,AD10)","v":0},{"$f":"AE10/(AG4-AE8)","v":{"$error":"#DIV/0!"}},{"$f":"IF(AF10=0,0,(AF10*((LOG(AF10))/LOG(2))))","v":{"$error":"#DIV/0!"}},null,{"$f":"N10","v":22},{"$f":"COUNTIF(L29:L35,AI10)","v":2},{"$f":"AJ10/(AL4-AJ8)","v":1},{"$f":"IF(AK10=0,0,(AK10*((LOG(AK10))/LOG(2))))","v":0},null,{"$f":"N10","v":22},{"$f":"COUNTIF(L36:L43,AN10)","v":0},{"$f":"AO10/(AQ4-AO8)","v":{"$error":"#DIV/0!"}},{"$f":"IF(AP10=0,0,(AP10*((LOG(AP10))/LOG(2))))","v":{"$error":"#DIV/0!"}},null,{"$f":"N10","v":22},{"$f":"COUNTIF(L44:L50,AS10)","v":0},{"$f":"AT10/(AV4-AT8)","v":{"$error":"#DIV/0!"}},{"$f":"IF(AU10=0,0,(AU10*((LOG(AU10))/LOG(2))))","v":{"$error":"#DIV/0!"}}]
[11,433,12,438,null,null,null,null,null,null,0,11,null,null,null,null,null,null,null,{"$f":"N11","v":0},{"$f":"COUNTIF(L7:L13,T11)","v":0},{"$f":"U11/(W4-U8)","v":0},{"$f":"IF(V11=0,0,(V11*((LOG(V11))/LOG(2))))","v":0},null,{"$f":"N11","v":0},{"$f":"COUNTIF(L14:L21,Y11)","v":0},{"$f":"Z11/(AB4-Z8)","v":0},{"$f":"IF(AA11=0,0,(AA11*((LOG(AA11))/LOG(2))))","v":0},null,{"$f":"N11","v":0},{"$f":"COUNTIF(L22:L28,AD11)","v":0},{"$f":"AE11/(AG4-AE8)","v":{"$error":"#DIV/0!"}},{"$f":"IF(AF11=0,0,(AF11*((LOG(AF11))/LOG(2))))","v":{"$error":"#DIV/0!"}},null,{"$f":"N11","v":0},{"$f":"COUNTIF(L29:L35,AI11)","v":0},{"$f":"AJ11/(AL4-AJ8)","v":0},{"$f":"IF(AK11=0,0,(AK11*((LOG(AK11))/LOG(2))))","v":0},null,{"$f":"N11","v":0},{"$f":"COUNTIF(L36:L43,AN11)","v":0},{"$f":"AO11/(AQ4-AO8)","v":{"$error":"#DIV/0!"}},{"$f":"IF(AP11=0,0,(AP11*((LOG(AP11))/LOG(2))))","v":{"$error":"#DIV/0!"}},null,{"$f":"N11","v":0},{"$f":"COUNTIF(L44:L50,AS11)","v":0},{"$f":"AT11/(AV4-AT8)","v":{"$error":"#DIV/0!"}},{"$f":"IF(AU11=0,0,(AU11*((LOG(AU11))/LOG(2))))","v":{"$error":"#DIV/0!"}}]
[11,533,21,545,null,null,null,null,null,null,0,12,null,null,null,null,null,null,null,{"$f":"N12","v":0},{"$f":"COUNTIF(L7:L13,T12)","v":0},{"$f":"U12/(W4-U8)","v":0},{"$f":"IF(V12=0,0,(V12*((LOG(V12))/LOG(2))))","v":0},null,{"$f":"N12","v":0},{"$f":"COUNTIF(L14:L21,Y12)","v":0},{"$f":"Z12/(AB4-Z8)","v":0},{"$f":"IF(AA12=0,0,(AA12*((LOG(AA12))/LOG(2))))","v":0},null,{"$f":"N12","v":0},{"$f":"COUNTIF(L22:L28,AD12)","v":0},{"$f":"AE12/(AG4-AE8)","v":{"$error":"#DIV/0!"}},{"$f":"IF(AF12=0,0,(AF12*((LOG(AF12))/LOG(2))))","v":{"$error":"#DIV/0!"}},null,{"$f":"N12","v":0},{"$f":"COUNTIF(L29:L35,AI12)","v":0},{"$f":"AJ12/(AL4-AJ8)","v":0},{"$f":"IF(AK12=0,0,(AK12*((LOG(AK12))/LOG(2))))","v":0},null,{"$f":"N12","v":0},{"$f":"COUNTIF(L36:L43,AN12)","v":0},{"$f":"AO12/(AQ4-AO8)","v":{"$error":"#DIV/0!"}},{"$f":"IF(AP12=0,0,(AP12*((LOG(AP12))/LOG(2))))","v":{"$error":"#DIV/0!"}},null,{"$f":"N12","v":0},{"$f":"COUNTIF(L44:L50,AS12)","v":0},{"$f":"AT12/(AV4-AT8)","v":{"$error":"#DIV/0!"}},{"$f":"IF(AU12=0,0,(AU12*((LOG(AU12))/LOG(2))))","v":{"$error":"#DIV/0!"}}]
[11,630,21,641,null,null,null,null,null,null,0,12,null,null,null,null,null,null,null,{"$f":"N13","v":0},{"$f":"COUNTIF(L7:L13,T13)","v":0},{"$f":"U13/(W4-U8)","v":0},{"$f":"IF(V13=0,0,(V13*((LOG(V13))/LOG(2))))","v":0},null,{"$f":"N13","v":0},{"$f":"COUNTIF(L14:L21,Y13)","v":0},{"$f":"Z13/(AB4-Z8)","v":0},{"$f":"IF(AA13=0,0,(AA13*((LOG(AA13))/LOG(2))))","v":0},null,{"$f":"N13","v":0},{"$f":"COUNTIF(L22:L28,AD13)","v":0},{"$f":"AE13/(AG4-AE8)","v":{"$error":"#DIV/0!"}},{"$f":"IF(AF13=0,0,(AF13*((LOG(AF13))/LOG(2))))","v":{"$error":"#DIV/0!"}},null,{"$f":"N13","v":0},{"$f":"COUNTIF(L29:L35,AI13)","v":0},{"$f":"AJ13/(AL4-AJ8)","v":0},{"$f":"IF(AK13=0,0,(AK13*((LOG(AK13))/LOG(2))))","v":0},null,{"$f":"N13","v":0},{"$f":"COUNTIF(L36:L43,AN13)","v":0},{"$f":"AO13/(AQ4-AO8)","v":{"$error":"#DIV/0!"}},{"$f":"IF(AP13=0,0,(AP13*((LOG(AP13))/LOG(2))))","v":{"$error":"#DIV/0!"}},null,{"$f":"N13","v":0},{"$f":"COUNTIF(L44:L50,AS13)","v":0},{"$f":"AT13/(AV4-AT8)","v":{"$error":"#DIV/0!"}},{"$f":"IF(AU13=0,0,(AU13*((LOG(AU13))/LOG(2))))","v":{"$error":"#DIV/0!"}}]
[11,725,21,735,null,null,null,null,null,null,0,12,null,null,null,null,null,null,null,{"$f":"N14","v":0},{"$f":"COUNTIF(L7:L13,T14)","v":0},{"$f":"U14/(W4-U8)","v":0},{"$f":"IF(V14=0,0,(V14*((LOG(V14))/LOG(2))))","v":0},null,{"$f":"N14","v":0},{"$f":"COUNTIF(L14:L21,Y14)","v":0},{"$f":"Z14/(AB4-Z8)","v":0},{"$f":"IF(AA14=0,0,(AA14*((LOG(AA14))/LOG(2))))","v":0},null,{"$f":"N14","v":0},{"$f":"COUNTIF(L22:L28,AD14)","v":0},{"$f":"AE14/(AG4-AE8)","v":{"$error":"#DIV/0!"}},{"$f":"IF(AF14=0,0,(AF14*((LOG(AF14))/LOG(2))))","v":{"$error":"#DIV/0!"}},null,{"$f":"N14","v":0},{"$f":"COUNTIF(L29:L35,AI14)","v":0},{"$f":"AJ14/(AL4-AJ8)","v":0},{"$f":"IF(AK14=0,0,(AK14*((LOG(AK14))/LOG(2))))","v":0},null,{"$f":"N14","v":0},{"$f":"COUNTIF(L36:L43,AN14)","v":0},{"$f":"AO14/(AQ4-AO8)","v":{"$error":"#DIV/0!"}},{"$f":"IF(AP14=0,0,(AP14*((LOG(AP14))/LOG(2))))","v":{"$error":"#DIV/0!"}},null,{"$f":"N14","v":0},{"$f":"COUNTIF(L44:L50,AS14)","v":0},{"$f":"AT14/(AV4-AT8)","v":{"$error":"#DIV/0!"}},{"$f":"IF(AU14=0,0,(AU14*((LOG(AU14))/LOG(2))))","v":{"$error":"#DIV/0!"}}]
[11,821,21,831,null,null,null,null,null,null,0,12,null,null,null,{"$f":"SUM(P7:P14)","v":1},{"$f":"-SUM(Q7:Q14)","v":0.59282510646394071},null,null,null,null,{"$f":"SUM(V7:V14)","v":1},{"$f":"-SUM(W7:W14)","v":1},null,null,null,{"$f":"SUM(AA7:AA14)","v":1},{"$f":"-SUM(AB7:AB14)","v":0},null,null,null,{"$f":"SUM(AF7:AF14)","v":{"$error":"#DIV/0!"}},{"$f":"-SUM(AG7:AG14)","v":{"$error":"#DIV/0!"}},null,null,null,{"$f":"SUM(AK7:AK14)","v":1},{"$f":"-SUM(AL7:AL14)","v":0},null,null,null,{"$f":"SUM(AP7:AP14)","v":{"$error":"#DIV/0!"}},{"$f":"-SUM(AQ7:AQ14)","v":{"$error":"#DIV/0!"}},null,null,null,{"$f":"SUM(AU7:AU14)","v":{"$error":"#DIV/0!"}},{"$f":"-SUM(AV7:AV14)","v":{"$error":"#DIV/0!"}}]
[22,947,23,966,null,null,null,null,null,null,0,22,null,null,null,"U=",{"$f":"Q15/(LOG(Q4)/LOG(2))","v":0.10858733067379511},null,null,null,null,"U1=",{"$f":"W15/(LOG(W4)/LOG(2))","v":0.35620718710802218},null,null,null,"U2=",{"$f":"AB15/(LOG(AB4)/LOG(2))","v":0},null,null,null,"U3=",{"$f":"AG15/(LOG(AG4)/LOG(2))","v":{"$error":"#DIV/0!"}},null,null,null,"U4=",{"$f":"AL15/(LOG(AL4)/LOG(2))","v":0},null,null,null,"U5=",{"$f":"AQ15/(LOG(AQ4)/LOG(2))","v":{"$error":"#DIV/0!"}},null,null,null,"U6=",{"$f":"AV15/(LOG(AV4)/LOG(2))","v":{"$error":"#DIV/0!"}}]
[11,1076,21,1086,null,null,null,null,null,null,0,12]
[11,1191,21,1202,null,null,null,null,null,null,0,12]
[11,1286,21,1296,null,null,null,null,null,null,0,12,null,"Total Target Seq"]
[11,1385,21,1394,null,null,null,null,null,null,0,12,null,{"$f":"COUNTIF(L7:L50,G3)","v":39},null,7,8,7,7,8,7]
[11,1479,21,1494,null,null,null,null,null,null,0,12,null,null,null,"% of reinforcement given in 6 equal intervals based on number of trials "]
[11,1578,21,1593,null,null,null,null,null,null,0,12,null,null,null,"%_1","%_2","%_3","%_4","%_5","%_6"]
[11,1680,21,1690,null,null,null,null,null,null,0,12,null,null,"target sequence",{"$f":"$G$3","v":12},{"$f":"$G$3","v":12},{"$f":"$G$3","v":12},{"$f":"$G$3","v":12},{"$f":"$G$3","v":12},{"$f":"$G$3","v":12}]
[11,1778,21,1790,null,null,null,null,null,null,0,12,null,null,"total reinforcement",{"$f":"U8","v":5},{"$f":"Z8","v":7},{"$f":"AE8","v":7},{"$f":"AJ8","v":5},{"$f":"AO8","v":8},{"$f":"AT8","v":7}]
[11,1877,21,1887,null,null,null,null,null,null,0,12,null,null,"% target"]
[11,1974,21,1984,null,null,null,null,null,null,0,12,null,null,"CCRF"]
[11,2070,21,2079,null,null,null,null,null,null,0,12,null,null,"% CCRf"]
[11,2164,21,2187,null,null,null,null,null,null,0,12,null,null,"average response rate",{"$f":"D13/P20","v":91.571428571428569},{"$f":"(D21-D13)/Q20","v":106.625},{"$f":"(D28-D21)/R20","v":99},{"$f":"(D35-D28)/S20","v":115.85714285714286},{"$f":"(D43-D35)/T20","v":104.25},{"$f":"(D50-D43)/U20","v":96.714285714285708}]
[11,2286,21,2296,null,null,null,null,null,null,0,12]
[11,2385,21,2396,null,null,null,null,null,null,0,12]
[11,2481,21,2494,null,null,null,null,null,null,0,12]
[22,2599,23,2653,null,null,null,null,null,null,0,22]
[22,2767,23,2783,null,null,null,null,null,null,0,22]
[11,2877,21,2888,null,null,null,null,null,null,0,12]
[11,2987,21,2998,null,null,null,null,null,null,0,12]
[11,3085,21,3095,null,null,null,null,null,null,0,12]
[11,3185,21,3195,null,null,null,null,null,null,0,12]
[11,3287,21,3297,null,null,null,null,null,null,0,12]
[11,3383,21,3398,null,null,null,null,null,null,0,12]
[11,3485,21,3496,null,null,null,null,null,null,0,12]
[11,3588,21,3598,null,null,null,null,null,null,0,12]
[11,3693,21,3713,null,null,null,null,null,null,0,12]
[11,3824,21,3832,null,null,null,null,null,null,0,12]
[11,3921,21,3935,null,null,null,null,null,null,0,12]
[11,4020,21,4030,null,null,null,null,null,null,0,12]
[11,4115,21,4123,null,null,null,null,null,null,0,12]
[11,4210,21,4220,null,null,null,null,null,null,0,12]
[11,4304,21,4314,null,null,null,null,null,null,0,12]
[11,4401,21,4415,null,null,null,null,null,null,0,12]
[11,4500,21,4509,null,null,null,null,null,null,1,12]

{"sheet":"!LB27C00.056","index":20,"n_rows":55,"n_cols":48,"rows_kept":55,"cut":false,"hidden":false,"merged":[[4,39,4,42],[5,39,5,40],[4,44,4,47],[5,44,5,45],[4,24,4,27],[5,24,5,25],[4,29,4,32],[5,29,5,30],[4,34,4,37],[5,34,5,35],[1,1,1,2],[5,13,5,14],[18,13,18,14],[19,13,19,14],[4,19,4,22],[5,19,5,20]]}
["Report for:!LB27C00.056"]
["Date:","<date>"]
["Hen:","<hen>",null,null,null,"Correct Sequence",{"$f":"Start!J2","v":12},null,null,null,null,null,null,null,null,"Total Sequences in Data",{"$f":"4994-COUNTBLANK(L7:L5000)","v":49},null,null,null,null,"Total Sequences in Block Data",{"$f":"COUNTA(L7:L14)","v":8},null,null,null,"Total Sequences in Block Data",{"$f":"COUNTA(L15:L22)","v":8},null,null,null,"Total Sequences in Block Data",{"$f":"COUNTA(L23:L31)","v":9},null,null,null,"Total Sequences in Block Data",{"$f":"COUNTA(L32:L39)","v":8},null,null,null,"Total Sequences in Block Data",{"$f":"COUNTA(L40:L47)","v":8},null,null,null,"Total Sequences in Block Data",{"$f":"COUNTA(L48:L55)","v":8}]
[null,null,null,null,null,null,null,null,null,null,null,null,null,null,null,"Total Sequences in Summary",{"$f":"SUM(O7:O14)","v":49},null,null,null,null,"Total Sequences in Block Summary",{"$f":"SUM(U7:U14)","v":8},null,null,null,"Total Sequences in Block Summary",{"$f":"SUM(Z7:Z14)","v":8},null,null,null,"Total Sequences in Block Summary",{"$f":"SUM(AE7:AE14)","v":9},null,null,null,"Total Sequences in Block Summary",{"$f":"SUM(AJ7:AJ14)","v":8},null,null,null,"Total Sequences in Block Summary",{"$f":"SUM(AO7:AO14)","v":8},null,null,null,"Total Sequences in Block Summary",{"$f":"SUM(AT7:AT14)","v":8}]
[null,null,null,null,null,null,null,null,null,null,null,null,null,null,null,null,null,null,null,"Block 1",null,null,null,null,"Block 2",null,null,null,null,"Block 3",null,null,null,null,"Block 4",null,null,null,null,"Block 5",null,null,null,null,"Block 6"]
["Sequence\nComponent\n1","Time\n1","Sequence\nComponent\n2","Time\n2","Sequence\nComponent\n3","Time\n3","Sequence\nComponent\n4","Time\n4","Sequence\nComponent\n5","Time\n5","Correct?\n0=No 1=Yes","Sequence",null,"Frequency",null,"Relative Frequency","Variability",null,null,"Frequency",null,"Relative Frequency","Variability",null,"Frequency",null,"Relative Frequency","Variability",null,"Frequency",null,"Relative Frequency","Variability",null,"Frequency",null,"Relative Frequency","Variability",null,"Frequency",null,"Relative Frequency","Variability",null,"Frequency",null,"Relative Frequency","Variability"]
[22,15,23,39,null,null,null,null,null,null,0,22,null,11,{"$f":"COUNTIF($L$7:$L$500,N7)","v":2},{"$f":"O7/$Q$4","v":4.0816326530612242E-2},{"$f":"IF(P7=0,0,(P7*((LOG(P7))/LOG(2))))","v":-0.18835550384143707},null,null,{"$f":"N7","v":11},{"$f":"COUNTIF(L7:L14,T7)","v":0},{"$f":"U7/(W4-U8)","v":0},{"$f":"IF(V7=0,0,(V7*((LOG(V7))/LOG(2))))","v":0},null,{"$f":"N7","v":11},{"$f":"COUNTIF(L15:L22,Y7)","v":0},{"$f":"Z7/(AB4-Z8)","v":0},{"$f":"IF(AA7=0,0,(AA7*((LOG(AA7))/LOG(2))))","v":0},null,{"$f":"N7","v":11},{"$f":"COUNTIF(L23:L31,AD7)","v":0},{"$f":"AE7/(AG4-AE8)","v":{"$error":"#DIV/0!"}},{"$f":"IF(AF7=0,0,(AF7*((LOG(AF7))/LOG(2))))","v":{"$error":"#DIV/0!"}},null,{"$f":"N7","v":11},{"$f":"COUNTIF(L32:L39,AI7)","v":1},{"$f":"AJ7/(AL4-AJ8)","v":0.5},{"$f":"IF(AK7=0,0,(AK7*((LOG(AK7))/LOG(2))))","v":-0.5},null,{"$f":"N7","v":11},{"$f":"COUNTIF(L40:L47,AN7)","v":1},{"$f":"AO7/(AQ4-AO8)","v":1},{"$f":"IF(AP7=0,0,(AP7*((LOG(AP7))/LOG(2))))","v":0},null,{"$f":"N7","v":11},{"$f":"COUNTIF(L48:L55,AS7)","v":0},{"$f":"AT7/(AV4-AT8)","v":0},{"$f":"IF(AU7=0,0,(AU7*((LOG(AU7))/LOG(2))))","v":0}]
[22,136,23,146,null,null,null,null,null,null,0,22,null,12,{"$f":"COUNTIF($L$7:$L$500,N8)","v":38},{"$f":"O8/$Q$4","v":0.77551020408163263},{"$f":"IF(P8=0,0,(P8*((LOG(P8))/LOG(2))))","v":-0.28444344011268707},null,null,{"$f":"N8","v":12},{"$f":"COUNTIF(L7:L14,T8)","v":5},null,null,null,{"$f":"N8","v":12},{"$f":"COUNTIF(L15:L22,Y8)","v":7},null,null,null,{"$f":"N8","v":12},{"$f":"COUNTIF(L23:L31,AD8)","v":9},null,null,null,{"$f":"N8","v":12},{"$f":"COUNTIF(L32:L39,AI8)","v":6},null,null,null,{"$f":"N8","v":12},{"$f":"COUNTIF(L40:L47,AN8)","v":7},null,null,null,{"$f":"N8","v":12},{"$f":"COUNTIF(L48:L55,AS8)","v":4}]
[22,245,23,259,null,null,null,null,null,null,0,22,null,21,{"$f":"COUNTIF($L$7:$L$500,N9)","v":0},{"$f":"O9/$Q$4","v":0},{"$f":"IF(P9=0,0,(P9*((LOG(P9))/LOG(2))))","v":0},null,null,{"$f":"N9","v":21},{"$f":"COUNTIF(L7:L14,T9)","v":0},{"$f":"U9/(W4-U8)","v":0},{"$f":"IF(V9=0,0,(V9*((LOG(V9))/LOG(2))))","v":0},null,{"$f":"N9","v":21},{"$f":"COUNTIF(L15:L22,Y9)","v":0},{"$f":"Z9/(AB4-Z8)","v":0},{"$f":"IF(AA9=0,0,(AA9*((LOG(AA9))/LOG(2))))","v":0},null,{"$f":"N9","v":21},{"$f":"COUNTIF(L23:L31,AD9)","v":0},{"$f":"AE9/(AG4-AE8)","v":{"$error":"#DIV/0!"}},{"$f":"IF(AF9=0,0,(AF9*((LOG(AF9))/LOG(2))))","v":{"$error":"#DIV/0!"}},null,{"$f":"N9","v":21},{"$f":"COUNTIF(L32:L39,AI9)","v":0},{"$f":"AJ9/(AL4-AJ8)","v":0},{"$f":"IF(AK9=0,0,(AK9*((LOG(AK9))/LOG(2))))","v":0},null,{"$f":"N9","v":21},{"$f":"COUNTIF(L40:L47,AN9)","v":0},{"$f":"AO9/(AQ4-AO8)","v":0},{"$f":"IF(AP9=0,0,(AP9*((LOG(AP9))/LOG(2))))","v":0},null,{"$f":"N9","v":21},{"$f":"COUNTIF(L48:L55,AS9)","v":0},{"$f":"AT9/(AV4-AT8)","v":0},{"$f":"IF(AU9=0,0,(AU9*((LOG(AU9))/LOG(2))))","v":0}]
[11,357,21,368,null,null,null,null,null,null,0,12,null,22,{"$f":"COUNTIF($L$7:$L$500,N10)","v":9},{"$f":"O10/$Q$4","v":0.18367346938775511},{"$f":"IF(P10=0,0,(P10*((LOG(P10))/LOG(2))))","v":-0.44904211396032784},null,null,{"$f":"N10","v":22},{"$f":"COUNTIF(L7:L14,T10)","v":3},{"$f":"U10/(W4-U8)","v":1},{"$f":"IF(V10=0,0,(V10*((LOG(V10))/LOG(2))))","v":0},null,{"$f":"N10","v":22},{"$f":"COUNTIF(L15:L22,Y10)","v":1},{"$f":"Z10/(AB4-Z8)","v":1},{"$f":"IF(AA10=0,0,(AA10*((LOG(AA10))/LOG(2))))","v":0},null,{"$f":"N10","v":22},{"$f":"COUNTIF(L23:L31,AD10)","v":0},{"$f":"AE10/(AG4-AE8)","v":{"$error":"#DIV/0!"}},{"$f":"IF(AF10=0,0,(AF10*((LOG(AF10))/LOG(2))))","v":{"$error":"#DIV/0!"}},null,{"$f":"N10","v":22},{"$f":"COUNTIF(L32:L39,AI10)","v":1},{"$f":"AJ10/(AL4-AJ8)","v":0.5},{"$f":"IF(AK10=0,0,(AK10*((LOG(AK10))/LOG(2))))","v":-0.5},null,{"$f":"N10","v":22},{"$f":"COUNTIF(L40:L47,AN10)","v":0},{"$f":"AO10/(AQ4-AO8)","v":0},{"$f":"IF(AP10=0,0,(AP10*((LOG(AP10))/LOG(2))))","v":0},null,{"$f":"N10","v":22},{"$f":"COUNTIF(L48:L55,AS10)","v":4},{"$f":"AT10/(AV4-AT8)","v":1},{"$f":"IF(AU10=0,0,(AU10*((LOG(AU10))/LOG(2))))","v":0}]
[11,453,21,467,null,null,null,null,null,null,0,12,null,null,null,null,null,null,null,{"$f":"N11","v":0},{"$f":"COUNTIF(L7:L14,T11)","v":0},{"$f":"U11/(W4-U8)","v":0},{"$f":"IF(V11=0,0,(V11*((LOG(V11))/LOG(2))))","v":0},null,{"$f":"N11","v":0},{"$f":"COUNTIF(L15:L22,Y11)","v":0},{"$f":"Z11/(AB4-Z8)","v":0},{"$f":"IF(AA11=0,0,(AA11*((LOG(AA11))/LOG(2))))","v":0},null,{"$f":"N11","v":0},{"$f":"COUNTIF(L23:L31,AD11)","v":0},{"$f":"AE11/(AG4-AE8)","v":{"$error":"#DIV/0!"}},{"$f":"IF(AF11=0,0,(AF11*((LOG(AF11))/LOG(2))))","v":{"$error":"#DIV/0!"}},null,{"$f":"N11","v":0},{"$f":"COUNTIF(L32:L39,AI11)","v":0},{"$f":"AJ11/(AL4-AJ8)","v":0},{"$f":"IF(AK11=0,0,(AK11*((LOG(AK11))/LOG(2))))","v":0},null,{"$f":"N11","v":0},{"$f":"COUNTIF(L40:L47,AN11)","v":0},{"$f":"AO11/(AQ4-AO8)","v":0},{"$f":"IF(AP11=0,0,(AP11*((LOG(AP11))/LOG(2))))","v":0},null,{"$f":"N11","v":0},{"$f":"COUNTIF(L48:L55,AS11)","v":0},{"$f":"AT11/(AV4-AT8)","v":0},{"$f":"IF(AU11=0,0,(AU11*((LOG(AU11))/LOG(2))))","v":0}]
[11,553,21,562,null,null,null,null,null,null,0,12,null,null,null,null,null,null,null,{"$f":"N12","v":0},{"$f":"COUNTIF(L7:L14,T12)","v":0},{"$f":"U12/(W4-U8)","v":0},{"$f":"IF(V12=0,0,(V12*((LOG(V12))/LOG(2))))","v":0},null,{"$f":"N12","v":0},{"$f":"COUNTIF(L15:L22,Y12)","v":0},{"$f":"Z12/(AB4-Z8)","v":0},{"$f":"IF(AA12=0,0,(AA12*((LOG(AA12))/LOG(2))))","v":0},null,{"$f":"N12","v":0},{"$f":"COUNTIF(L23:L31,AD12)","v":0},{"$f":"AE12/(AG4-AE8)","v":{"$error":"#DIV/0!"}},{"$f":"IF(AF12=0,0,(AF12*((LOG(AF12))/LOG(2))))","v":{"$error":"#DIV/0!"}},null,{"$f":"N12","v":0},{"$f":"COUNTIF(L32:L39,AI12)","v":0},{"$f":"AJ12/(AL4-AJ8)","v":0},{"$f":"IF(AK12=0,0,(AK12*((LOG(AK12))/LOG(2))))","v":0},null,{"$f":"N12","v":0},{"$f":"COUNTIF(L40:L47,AN12)","v":0},{"$f":"AO12/(AQ4-AO8)","v":0},{"$f":"IF(AP12=0,0,(AP12*((LOG(AP12))/LOG(2))))","v":0},null,{"$f":"N12","v":0},{"$f":"COUNTIF(L48:L55,AS12)","v":0},{"$f":"AT12/(AV4-AT8)","v":0},{"$f":"IF(AU12=0,0,(AU12*((LOG(AU12))/LOG(2))))","v":0}]
[11,647,21,662,null,null,null,null,null,null,0,12,null,null,null,null,null,null,null,{"$f":"N13","v":0},{"$f":"COUNTIF(L7:L14,T13)","v":0},{"$f":"U13/(W4-U8)","v":0},{"$f":"IF(V13=0,0,(V13*((LOG(V13))/LOG(2))))","v":0},null,{"$f":"N13","v":0},{"$f":"COUNTIF(L15:L22,Y13)","v":0},{"$f":"Z13/(AB4-Z8)","v":0},{"$f":"IF(AA13=0,0,(AA13*((LOG(AA13))/LOG(2))))","v":0},null,{"$f":"N13","v":0},{"$f":"COUNTIF(L23:L31,AD13)","v":0},{"$f":"AE13/(AG4-AE8)","v":{"$error":"#DIV/0!"}},{"$f":"IF(AF13=0,0,(AF13*((LOG(AF13))/LOG(2))))","v":{"$error":"#DIV/0!"}},null,{"$f":"N13","v":0},{"$f":"COUNTIF(L32:L39,AI13)","v":0},{"$f":"AJ13/(AL4-AJ8)","v":0},{"$f":"IF(AK13=0,0,(AK13*((LOG(AK13))/LOG(2))))","v":0},null,{"$f":"N13","v":0},{"$f":"COUNTIF(L40:L47,AN13)","v":0},{"$f":"AO13/(AQ4-AO8)","v":0},{"$f":"IF(AP13=0,0,(AP13*((LOG(AP13))/LOG(2))))","v":0},null,{"$f":"N13","v":0},{"$f":"COUNTIF(L48:L55,AS13)","v":0},{"$f":"AT13/(AV4-AT8)","v":0},{"$f":"IF(AU13=0,0,(AU13*((LOG(AU13))/LOG(2))))","v":0}]
[11,748,21,757,null,null,null,null,null,null,0,12,null,null,null,null,null,null,null,{"$f":"N14","v":0},{"$f":"COUNTIF(L7:L14,T14)","v":0},{"$f":"U14/(W4-U8)","v":0},{"$f":"IF(V14=0,0,(V14*((LOG(V14))/LOG(2))))","v":0},null,{"$f":"N14","v":0},{"$f":"COUNTIF(L15:L22,Y14)","v":0},{"$f":"Z14/(AB4-Z8)","v":0},{"$f":"IF(AA14=0,0,(AA14*((LOG(AA14))/LOG(2))))","v":0},null,{"$f":"N14","v":0},{"$f":"COUNTIF(L23:L31,AD14)","v":0},{"$f":"AE14/(AG4-AE8)","v":{"$error":"#DIV/0!"}},{"$f":"IF(AF14=0,0,(AF14*((LOG(AF14))/LOG(2))))","v":{"$error":"#DIV/0!"}},null,{"$f":"N14","v":0},{"$f":"COUNTIF(L32:L39,AI14)","v":0},{"$f":"AJ14/(AL4-AJ8)","v":0},{"$f":"IF(AK14=0,0,(AK14*((LOG(AK14))/LOG(2))))","v":0},null,{"$f":"N14","v":0},{"$f":"COUNTIF(L40:L47,AN14)","v":0},{"$f":"AO14/(AQ4-AO8)","v":0},{"$f":"IF(AP14=0,0,(AP14*((LOG(AP14))/LOG(2))))","v":0},null,{"$f":"N14","v":0},{"$f":"COUNTIF(L48:L55,AS14)","v":0},{"$f":"AT14/(AV4-AT8)","v":0},{"$f":"IF(AU14=0,0,(AU14*((LOG(AU14))/LOG(2))))","v":0}]
[11,841,21,856,null,null,null,null,null,null,0,12,null,null,null,{"$f":"SUM(P7:P14)","v":1},{"$f":"-SUM(Q7:Q14)","v":0.92184105791445203},null,null,null,null,{"$f":"SUM(V7:V14)","v":1},{"$f":"-SUM(W7:W14)","v":0},null,null,null,{"$f":"SUM(AA7:AA14)","v":1},{"$f":"-SUM(AB7:AB14)","v":0},null,null,null,{"$f":"SUM(AF7:AF14)","v":{"$error":"#DIV/0!"}},{"$f":"-SUM(AG7:AG14)","v":{"$error":"#DIV/0!"}},null,null,null,{"$f":"SUM(AK7:AK14)","v":1},{"$f":"-SUM(AL7:AL14)","v":1},null,null,null,{"$f":"SUM(AP7:AP14)","v":1},{"$f":"-SUM(AQ7:AQ14)","v":0},null,null,null,{"$f":"SUM(AU7:AU14)","v":1},{"$f":"-SUM(AV7:AV14)","v":0}]
[11,940,21,949,null,null,null,null,null,null,0,12,null,null,null,"U=",{"$f":"Q15/(LOG(Q4)/LOG(2))","v":0.16418320510019516},null,null,null,null,"U1=",{"$f":"W15/(LOG(W4)/LOG(2))","v":0},null,null,null,"U2=",{"$f":"AB15/(LOG(AB4)/LOG(2))","v":0},null,null,null,"U3=",{"$f":"AG15/(LOG(AG4)/LOG(2))","v":{"$error":"#DIV/0!"}},null,null,null,"U4=",{"$f":"AL15/(LOG(AL4)/LOG(2))","v":0.33333333333333331},null,null,null,"U5=",{"$f":"AQ15/(LOG(AQ4)/LOG(2))","v":0},null,null,null,"U6=",{"$f":"AV15/(LOG(AV4)/LOG(2))","v":0}]
[11,1035,21,1044,null,null,null,null,null,null,0,12]
[11,1129,21,1135,null,null,null,null,null,null,0,12]
[11,1220,21,1229,null,null,null,null,null,null,0,12,null,"Total Target Seq"]
[11,1328,21,1338,null,null,null,null,null,null,0,12,null,{"$f":"COUNTIF(L7:L55,G3)","v":38},null,8,8,9,8,8,8]
[22,1434,23,1446,null,null,null,null,null,null,0,22,null,null,null,"% of reinforcement given in 6 equal intervals based on number of trials "]
[11,1531,21,1540,null,null,null,null,null,null,0,12,null,null,null,"%_1","%_2","%_3","%_4","%_5","%_6"]
[11,1624,21,1631,null,null,null,null,null,null,0,12,null,null,"target sequence",{"$f":"$G$3","v":12},{"$f":"$G$3","v":12},{"$f":"$G$3","v":12},{"$f":"$G$3","v":12},{"$f":"$G$3","v":12},{"$f":"$G$3","v":12}]
[11,1717,21,1726,null,null,null,null,null,null,0,12,null,null,"total reinforcement",{"$f":"U8","v":5},{"$f":"Z8","v":7},{"$f":"AE8","v":9},{"$f":"AJ8","v":6},{"$f":"AO8","v":7},{"$f":"AT8","v":4}]
[11,1816,21,1829,null,null,null,null,null,null,0,12,null,null,"% target"]
[11,1918,21,1927,null,null,null,null,null,null,0,12,null,null,"CCRF"]
[11,2010,21,2020,null,null,null,null,null,null,0,12,null,null,"% CCRf"]
[11,2106,21,2112,null,null,null,null,null,null,0,12,null,null,"average response rate",{"$f":"D14/P20","v":94.625},{"$f":"(D22-D14)/Q20","v":97.875},{"$f":"(D31-D22)/R20","v":96.111111111111114},{"$f":"(D39-D31)/S20","v":100.375},{"$f":"(D47-D39)/T20","v":98.625},{"$f":"(D55-D47)/U20","v":116.75}]
[11,2200,21,2209,null,null,null,null,null,null,0,12]
[11,2296,21,2305,null,null,null,null,null,null,0,12]
[11,2396,21,2405,null,null,null,null,null,null,0,12]
[11,2494,21,2508,null,null,null,null,null,null,0,12]
[11,2596,21,2605,null,null,null,null,null,null,0,12]
[11,2691,21,2700,null,null,null,null,null,null,0,12]
[11,2787,21,2797,null,null,null,null,null,null,0,12]
[22,2893,23,2907,null,null,null,null,null,null,0,22]
[11,2994,12,3002,null,null,null,null,null,null,0,11]
[11,3097,21,3107,null,null,null,null,null,null,0,12]
[11,3198,21,3208,null,null,null,null,null,null,0,12]
[11,3293,21,3303,null,null,null,null,null,null,0,12]
[11,3390,21,3400,null,null,null,null,null,null,0,12]
[11,3484,21,3494,null,null,null,null,null,null,0,12]
[11,3580,21,3589,null,null,null,null,null,null,0,12]
[11,3674,21,3688,null,null,null,null,null,null,0,12]
[11,3774,12,3783,null,null,null,null,null,null,0,11]
[11,3878,21,3887,null,null,null,null,null,null,0,12]
[11,3975,21,3997,null,null,null,null,null,null,0,12]
[22,4099,23,4121,null,null,null,null,null,null,0,22]
[11,4221,21,4231,null,null,null,null,null,null,0,12]
[22,4328,23,4345,null,null,null,null,null,null,0,22]
[22,4459,23,4470,null,null,null,null,null,null,0,22]
[11,4567,21,4577,null,null,null,null,null,null,0,12]
[22,4694,23,4708,null,null,null,null,null,null,0,22]
[11,4805,21,4815,null,null,null,null,null,null,0,12]
[11,4903,21,4931,null,null,null,null,null,null,1,12]

{"sheet":"!LB28B50.056","index":21,"n_rows":54,"n_cols":48,"rows_kept":54,"cut":false,"hidden":false,"merged":[[4,39,4,42],[5,39,5,40],[4,44,4,47],[5,44,5,45],[4,24,4,27],[5,24,5,25],[4,29,4,32],[5,29,5,30],[4,34,4,37],[5,34,5,35],[1,1,1,2],[5,13,5,14],[18,13,18,14],[19,13,19,14],[4,19,4,22],[5,19,5,20]]}
["Report for:!LB28B50.056"]
["Date:","<date>"]
["Hen:","<hen>",null,null,null,"Correct Sequence",{"$f":"Start!J2","v":12},null,null,null,null,null,null,null,null,"Total Sequences in Data",{"$f":"4994-COUNTBLANK(L7:L5000)","v":48},null,null,null,null,"Total Sequences in Block Data",{"$f":"COUNTA(L7:L14)","v":8},null,null,null,"Total Sequences in Block Data",{"$f":"COUNTA(L15:L22)","v":8},null,null,null,"Total Sequences in Block Data",{"$f":"COUNTA(L23:L30)","v":8},null,null,null,"Total Sequences in Block Data",{"$f":"COUNTA(L31:L38)","v":8},null,null,null,"Total Sequences in Block Data",{"$f":"COUNTA(L39:L46)","v":8},null,null,null,"Total Sequences in Block Data",{"$f":"COUNTA(L47:L54)","v":8}]
[null,null,null,null,null,null,null,null,null,null,null,null,null,null,null,"Total Sequences in Summary",{"$f":"SUM(O7:O14)","v":48},null,null,null,null,"Total Sequences in Block Summary",{"$f":"SUM(U7:U14)","v":8},null,null,null,"Total Sequences in Block Summary",{"$f":"SUM(Z7:Z14)","v":8},null,null,null,"Total Sequences in Block Summary",{"$f":"SUM(AE7:AE14)","v":8},null,null,null,"Total Sequences in Block Summary",{"$f":"SUM(AJ7:AJ14)","v":8},null,null,null,"Total Sequences in Block Summary",{"$f":"SUM(AO7:AO14)","v":8},null,null,null,"Total Sequences in Block Summary",{"$f":"SUM(AT7:AT14)","v":8}]
[null,null,null,null,null,null,null,null,null,null,null,null,null,null,null,null,null,null,null,"Block 1",null,null,null,null,"Block 2",null,null,null,null,"Block 3",null,null,null,null,"Block 4",null,null,null,null,"Block 5",null,null,null,null,"Block 6"]
["Sequence\nComponent\n1","Time\n1","Sequence\nComponent\n2","Time\n2","Sequence\nComponent\n3","Time\n3","Sequence\nComponent\n4","Time\n4","Sequence\nComponent\n5","Time\n5","Correct?\n0=No 1=Yes","Sequence",null,"Frequency",null,"Relative Frequency","Variability",null,null,"Frequency",null,"Relative Frequency","Variability",null,"Frequency",null,"Relative Frequency","Variability",null,"Frequency",null,"Relative Frequency","Variability",null,"Frequency",null,"Relative Frequency","Variability",null,"Frequency",null,"Relative Frequency","Variability",null,"Frequency",null,"Relative Frequency","Variability"]
[11,7,12,13,null,null,null,null,null,null,0,11,null,11,{"$f":"COUNTIF($L$7:$L$500,N7)","v":3},{"$f":"O7/$Q$4","v":6.25E-2},{"$f":"IF(P7=0,0,(P7*((LOG(P7))/LOG(2))))","v":-0.25},null,null,{"$f":"N7","v":11},{"$f":"COUNTIF(L7:L14,T7)","v":2},{"$f":"U7/(W4-U8)","v":1},{"$f":"IF(V7=0,0,(V7*((LOG(V7))/LOG(2))))","v":0},null,{"$f":"N7","v":11},{"$f":"COUNTIF(L15:L22,Y7)","v":0},{"$f":"Z7/(AB4-Z8)","v":0},{"$f":"IF(AA7=0,0,(AA7*((LOG(AA7))/LOG(2))))","v":0},null,{"$f":"N7","v":11},{"$f":"COUNTIF(L23:L30,AD7)","v":0},{"$f":"AE7/(AG4-AE8)","v":0},{"$f":"IF(AF7=0,0,(AF7*((LOG(AF7))/LOG(2))))","v":0},null,{"$f":"N7","v":11},{"$f":"COUNTIF(L31:L38,AI7)","v":0},{"$f":"AJ7/(AL4-AJ8)","v":0},{"$f":"IF(AK7=0,0,(AK7*((LOG(AK7))/LOG(2))))","v":0},null,{"$f":"N7","v":11},{"$f":"COUNTIF(L39:L46,AN7)","v":0},{"$f":"AO7/(AQ4-AO8)","v":0},{"$f":"IF(AP7=0,0,(AP7*((LOG(AP7))/LOG(2))))","v":0},null,{"$f":"N7","v":11},{"$f":"COUNTIF(L47:L54,AS7)","v":1},{"$f":"AT7/(AV4-AT8)","v":0.5},{"$f":"IF(AU7=0,0,(AU7*((LOG(AU7))/LOG(2))))","v":-0.5}]
[11,111,12,121,null,null,null,null,null,null,0,11,null,12,{"$f":"COUNTIF($L$7:$L$500,N8)","v":39},{"$f":"O8/$Q$4","v":0.8125},{"$f":"IF(P8=0,0,(P8*((LOG(P8))/LOG(2))))","v":-0.24339272901036266},null,null,{"$f":"N8","v":12},{"$f":"COUNTIF(L7:L14,T8)","v":6},null,null,null,{"$f":"N8","v":12},{"$f":"COUNTIF(L15:L22,Y8)","v":7},null,null,null,{"$f":"N8","v":12},{"$f":"COUNTIF(L23:L30,AD8)","v":6},null,null,null,{"$f":"N8","v":12},{"$f":"COUNTIF(L31:L38,AI8)","v":7},null,null,null,{"$f":"N8","v":12},{"$f":"COUNTIF(L39:L46,AN8)","v":7},null,null,null,{"$f":"N8","v":12},{"$f":"COUNTIF(L47:L54,AS8)","v":6}]
[11,222,21,251,null,null,null,null,null,null,0,12,null,21,{"$f":"COUNTIF($L$7:$L$500,N9)","v":0},{"$f":"O9/$Q$4","v":0},{"$f":"IF(P9=0,0,(P9*((LOG(P9))/LOG(2))))","v":0},null,null,{"$f":"N9","v":21},{"$f":"COUNTIF(L7:L14,T9)","v":0},{"$f":"U9/(W4-U8)","v":0},{"$f":"IF(V9=0,0,(V9*((LOG(V9))/LOG(2))))","v":0},null,{"$f":"N9","v":21},{"$f":"COUNTIF(L15:L22,Y9)","v":0},{"$f":"Z9/(AB4-Z8)","v":0},{"$f":"IF(AA9=0,0,(AA9*((LOG(AA9))/LOG(2))))","v":0},null,{"$f":"N9","v":21},{"$f":"COUNTIF(L23:L30,AD9)","v":0},{"$f":"AE9/(AG4-AE8)","v":0},{"$f":"IF(AF9=0,0,(AF9*((LOG(AF9))/LOG(2))))","v":0},null,{"$f":"N9","v":21},{"$f":"COUNTIF(L31:L38,AI9)","v":0},{"$f":"AJ9/(AL4-AJ8)","v":0},{"$f":"IF(AK9=0,0,(AK9*((LOG(AK9))/LOG(2))))","v":0},null,{"$f":"N9","v":21},{"$f":"COUNTIF(L39:L46,AN9)","v":0},{"$f":"AO9/(AQ4-AO8)","v":0},{"$f":"IF(AP9=0,0,(AP9*((LOG(AP9))/LOG(2))))","v":0},null,{"$f":"N9","v":21},{"$f":"COUNTIF(L47:L54,AS9)","v":0},{"$f":"AT9/(AV4-AT8)","v":0},{"$f":"IF(AU9=0,0,(AU9*((LOG(AU9))/LOG(2))))","v":0}]
[11,341,21,349,null,null,null,null,null,null,0,12,null,22,{"$f":"COUNTIF($L$7:$L$500,N10)","v":6},{"$f":"O10/$Q$4","v":0.125},{"$f":"IF(P10=0,0,(P10*((LOG(P10))/LOG(2))))","v":-0.375},null,null,{"$f":"N10","v":22},{"$f":"COUNTIF(L7:L14,T10)","v":0},{"$f":"U10/(W4-U8)","v":0},{"$f":"IF(V10=0,0,(V10*((LOG(V10))/LOG(2))))","v":0},null,{"$f":"N10","v":22},{"$f":"COUNTIF(L15:L22,Y10)","v":1},{"$f":"Z10/(AB4-Z8)","v":1},{"$f":"IF(AA10=0,0,(AA10*((LOG(AA10))/LOG(2))))","v":0},null,{"$f":"N10","v":22},{"$f":"COUNTIF(L23:L30,AD10)","v":2},{"$f":"AE10/(AG4-AE8)","v":1},{"$f":"IF(AF10=0,0,(AF10*((LOG(AF10))/LOG(2))))","v":0},null,{"$f":"N10","v":22},{"$f":"COUNTIF(L31:L38,AI10)","v":1},{"$f":"AJ10/(AL4-AJ8)","v":1},{"$f":"IF(AK10=0,0,(AK10*((LOG(AK10))/LOG(2))))","v":0},null,{"$f":"N10","v":22},{"$f":"COUNTIF(L39:L46,AN10)","v":1},{"$f":"AO10/(AQ4-AO8)","v":1},{"$f":"IF(AP10=0,0,(AP10*((LOG(AP10))/LOG(2))))","v":0},null,{"$f":"N10","v":22},{"$f":"COUNTIF(L47:L54,AS10)","v":1},{"$f":"AT10/(AV4-AT8)","v":0.5},{"$f":"IF(AU10=0,0,(AU10*((LOG(AU10))/LOG(2))))","v":-0.5}]
[11,438,21,448,null,null,null,null,null,null,0,12,null,null,null,null,null,null,null,{"$f":"N11","v":0},{"$f":"COUNTIF(L7:L14,T11)","v":0},{"$f":"U11/(W4-U8)","v":0},{"$f":"IF(V11=0,0,(V11*((LOG(V11))/LOG(2))))","v":0},null,{"$f":"N11","v":0},{"$f":"COUNTIF(L15:L22,Y11)","v":0},{"$f":"Z11/(AB4-Z8)","v":0},{"$f":"IF(AA11=0,0,(AA11*((LOG(AA11))/LOG(2))))","v":0},null,{"$f":"N11","v":0},{"$f":"COUNTIF(L23:L30,AD11)","v":0},{"$f":"AE11/(AG4-AE8)","v":0},{"$f":"IF(AF11=0,0,(AF11*((LOG(AF11))/LOG(2))))","v":0},null,{"$f":"N11","v":0},{"$f":"COUNTIF(L31:L38,AI11)","v":0},{"$f":"AJ11/(AL4-AJ8)","v":0},{"$f":"IF(AK11=0,0,(AK11*((LOG(AK11))/LOG(2))))","v":0},null,{"$f":"N11","v":0},{"$f":"COUNTIF(L39:L46,AN11)","v":0},{"$f":"AO11/(AQ4-AO8)","v":0},{"$f":"IF(AP11=0,0,(AP11*((LOG(AP11))/LOG(2))))","v":0},null,{"$f":"N11","v":0},{"$f":"COUNTIF(L47:L54,AS11)","v":0},{"$f":"AT11/(AV4-AT8)","v":0},{"$f":"IF(AU11=0,0,(AU11*((LOG(AU11))/LOG(2))))","v":0}]
[11,536,21,546,null,null,null,null,null,null,0,12,null,null,null,null,null,null,null,{"$f":"N12","v":0},{"$f":"COUNTIF(L7:L14,T12)","v":0},{"$f":"U12/(W4-U8)","v":0},{"$f":"IF(V12=0,0,(V12*((LOG(V12))/LOG(2))))","v":0},null,{"$f":"N12","v":0},{"$f":"COUNTIF(L15:L22,Y12)","v":0},{"$f":"Z12/(AB4-Z8)","v":0},{"$f":"IF(AA12=0,0,(AA12*((LOG(AA12))/LOG(2))))","v":0},null,{"$f":"N12","v":0},{"$f":"COUNTIF(L23:L30,AD12)","v":0},{"$f":"AE12/(AG4-AE8)","v":0},{"$f":"IF(AF12=0,0,(AF12*((LOG(AF12))/LOG(2))))","v":0},null,{"$f":"N12","v":0},{"$f":"COUNTIF(L31:L38,AI12)","v":0},{"$f":"AJ12/(AL4-AJ8)","v":0},{"$f":"IF(AK12=0,0,(AK12*((LOG(AK12))/LOG(2))))","v":0},null,{"$f":"N12","v":0},{"$f":"COUNTIF(L39:L46,AN12)","v":0},{"$f":"AO12/(AQ4-AO8)","v":0},{"$f":"IF(AP12=0,0,(AP12*((LOG(AP12))/LOG(2))))","v":0},null,{"$f":"N12","v":0},{"$f":"COUNTIF(L47:L54,AS12)","v":0},{"$f":"AT12/(AV4-AT8)","v":0},{"$f":"IF(AU12=0,0,(AU12*((LOG(AU12))/LOG(2))))","v":0}]
[11,633,21,647,null,null,null,null,null,null,0,12,null,null,null,null,null,null,null,{"$f":"N13","v":0},{"$f":"COUNTIF(L7:L14,T13)","v":0},{"$f":"U13/(W4-U8)","v":0},{"$f":"IF(V13=0,0,(V13*((LOG(V13))/LOG(2))))","v":0},null,{"$f":"N13","v":0},{"$f":"COUNTIF(L15:L22,Y13)","v":0},{"$f":"Z13/(AB4-Z8)","v":0},{"$f":"IF(AA13=0,0,(AA13*((LOG(AA13))/LOG(2))))","v":0},null,{"$f":"N13","v":0},{"$f":"COUNTIF(L23:L30,AD13)","v":0},{"$f":"AE13/(AG4-AE8)","v":0},{"$f":"IF(AF13=0,0,(AF13*((LOG(AF13))/LOG(2))))","v":0},null,{"$f":"N13","v":0},{"$f":"COUNTIF(L31:L38,AI13)","v":0},{"$f":"AJ13/(AL4-AJ8)","v":0},{"$f":"IF(AK13=0,0,(AK13*((LOG(AK13))/LOG(2))))","v":0},null,{"$f":"N13","v":0},{"$f":"COUNTIF(L39:L46,AN13)","v":0},{"$f":"AO13/(AQ4-AO8)","v":0},{"$f":"IF(AP13=0,0,(AP13*((LOG(AP13))/LOG(2))))","v":0},null,{"$f":"N13","v":0},{"$f":"COUNTIF(L47:L54,AS13)","v":0},{"$f":"AT13/(AV4-AT8)","v":0},{"$f":"IF(AU13=0,0,(AU13*((LOG(AU13))/LOG(2))))","v":0}]
[11,733,21,743,null,null,null,null,null,null,0,12,null,null,null,null,null,null,null,{"$f":"N14","v":0},{"$f":"COUNTIF(L7:L14,T14)","v":0},{"$f":"U14/(W4-U8)","v":0},{"$f":"IF(V14=0,0,(V14*((LOG(V14))/LOG(2))))","v":0},null,{"$f":"N14","v":0},{"$f":"COUNTIF(L15:L22,Y14)","v":0},{"$f":"Z14/(AB4-Z8)","v":0},{"$f":"IF(AA14=0,0,(AA14*((LOG(AA14))/LOG(2))))","v":0},null,{"$f":"N14","v":0},{"$f":"COUNTIF(L23:L30,AD14)","v":0},{"$f":"AE14/(AG4-AE8)","v":0},{"$f":"IF(AF14=0,0,(AF14*((LOG(AF14))/LOG(2))))","v":0},null,{"$f":"N14","v":0},{"$f":"COUNTIF(L31:L38,AI14)","v":0},{"$f":"AJ14/(AL4-AJ8)","v":0},{"$f":"IF(AK14=0,0,(AK14*((LOG(AK14))/LOG(2))))","v":0},null,{"$f":"N14","v":0},{"$f":"COUNTIF(L39:L46,AN14)","v":0},{"$f":"AO14/(AQ4-AO8)","v":0},{"$f":"IF(AP14=0,0,(AP14*((LOG(AP14))/LOG(2))))","v":0},null,{"$f":"N14","v":0},{"$f":"COUNTIF(L47:L54,AS14)","v":0},{"$f":"AT14/(AV4-AT8)","v":0},{"$f":"IF(AU14=0,0,(AU14*((LOG(AU14))/LOG(2))))","v":0}]
[11,833,21,842,null,null,null,null,null,null,0,12,null,null,null,{"$f":"SUM(P7:P14)","v":1},{"$f":"-SUM(Q7:Q14)","v":0.86839272901036269},null,null,null,null,{"$f":"SUM(V7:V14)","v":1},{"$f":"-SUM(W7:W14)","v":0},null,null,null,{"$f":"SUM(AA7:AA14)","v":1},{"$f":"-SUM(AB7:AB14)","v":0},null,null,null,{"$f":"SUM(AF7:AF14)","v":1},{"$f":"-SUM(AG7:AG14)","v":0},null,null,null,{"$f":"SUM(AK7:AK14)","v":1},{"$f":"-SUM(AL7:AL14)","v":0},null,null,null,{"$f":"SUM(AP7:AP14)","v":1},{"$f":"-SUM(AQ7:AQ14)","v":0},null,null,null,{"$f":"SUM(AU7:AU14)","v":1},{"$f":"-SUM(AV7:AV14)","v":1}]
[11,934,21,946,null,null,null,null,null,null,0,12,null,null,null,"U=",{"$f":"Q15/(LOG(Q4)/LOG(2))","v":0.15548765616568272},null,null,null,null,"U1=",{"$f":"W15/(LOG(W4)/LOG(2))","v":0},null,null,null,"U2=",{"$f":"AB15/(LOG(AB4)/LOG(2))","v":0},null,null,null,"U3=",{"$f":"AG15/(LOG(AG4)/LOG(2))","v":0},null,null,null,"U4=",{"$f":"AL15/(LOG(AL4)/LOG(2))","v":0},null,null,null,"U5=",{"$f":"AQ15/(LOG(AQ4)/LOG(2))","v":0},null,null,null,"U6=",{"$f":"AV15/(LOG(AV4)/LOG(2))","v":0.33333333333333331}]
[11,1031,21,1040,null,null,null,null,null,null,0,12]
[22,1144,23,1157,null,null,null,null,null,null,0,22]
[11,1246,21,1263,null,null,null,null,null,null,0,12,null,"Total Target Seq"]
[11,1356,21,1367,null,null,null,null,null,null,0,12,null,{"$f":"COUNTIF(L7:L54,G3)","v":39},null,8,8,8,8,8,8]
[11,1461,21,1469,null,null,null,null,null,null,0,12,null,null,null,"% of reinforcement given in 6 equal intervals based on number of trials "]
[11,1554,21,1563,null,null,null,null,null,null,0,12,null,null,null,"%_1","%_2","%_3","%_4","%_5","%_6"]
[11,1652,21,1660,null,null,null,null,null,null,0,12,null,null,"target sequence",{"$f":"$G$3","v":12},{"$f":"$G$3","v":12},{"$f":"$G$3","v":12},{"$f":"$G$3","v":12},{"$f":"$G$3","v":12},{"$f":"$G$3","v":12}]
[22,1761,23,1778,null,null,null,null,null,null,0,22,null,null,"total reinforcement",{"$f":"U8","v":6},{"$f":"Z8","v":7},{"$f":"AE8","v":6},{"$f":"AJ8","v":7},{"$f":"AO8","v":7},{"$f":"AT8","v":6}]
[11,1880,21,1888,null,null,null,null,null,null,0,12,null,null,"% target"]
[22,1993,23,2002,null,null,null,null,null,null,0,22,null,null,"CCRF"]
[11,2106,21,2119,null,null,null,null,null,null,0,12,null,null,"% CCRf"]
[11,2210,21,2222,null,null,null,null,null,null,0,12,null,null,"average response rate",{"$f":"D14/P20","v":92.875},{"$f":"(D22-D14)/Q20","v":102.5},{"$f":"(D30-D22)/R20","v":107.25},{"$f":"(D38-D30)/S20","v":106.75},{"$f":"(D46-D38)/T20","v":108.375},{"$f":"(D54-D46)/U20","v":105.625}]
[11,2309,21,2327,null,null,null,null,null,null,0,12]
[11,2411,21,2421,null,null,null,null,null,null,0,12]
[11,2528,21,2537,null,null,null,null,null,null,0,12]
[11,2633,21,2643,null,null,null,null,null,null,0,12]
[11,2733,21,2742,null,null,null,null,null,null,0,12]
[11,2839,21,2850,null,null,null,null,null,null,0,12]
[11,2938,21,2953,null,null,null,null,null,null,0,12]
[11,3040,21,3053,null,null,null,null,null,null,0,12]
[22,3152,23,3169,null,null,null,null,null,null,0,22]
[11,3264,21,3275,null,null,null,null,null,null,0,12]
[11,3367,21,3376,null,null,null,null,null,null,0,12]
[22,3488,23,3522,null,null,null,null,null,null,0,22]
[11,3621,21,3630,null,null,null,null,null,null,0,12]
[11,3716,21,3729,null,null,null,null,null,null,0,12]
[11,3827,21,3847,null,null,null,null,null,null,0,12]
[11,3937,21,3947,null,null,null,null,null,null,0,12]
[11,4032,21,4043,null,null,null,null,null,null,0,12]
[11,4133,21,4142,null,null,null,null,null,null,0,12]
[11,4234,21,4243,null,null,null,null,null,null,0,12]
[11,4329,21,4338,null,null,null,null,null,null,0,12]
[11,4429,21,4438,null,null,null,null,null,null,0,12]
[11,4523,12,4532,null,null,null,null,null,null,0,11]
[22,4645,23,4658,null,null,null,null,null,null,0,22]
[11,4772,21,4781,null,null,null,null,null,null,0,12]
[11,4870,21,4879,null,null,null,null,null,null,0,12]
[11,4977,21,4987,null,null,null,null,null,null,1,12]

{"sheet":"!LB30C10.056","index":22,"n_rows":47,"n_cols":48,"rows_kept":47,"cut":false,"hidden":false,"merged":[[4,39,4,42],[5,39,5,40],[4,44,4,47],[5,44,5,45],[4,24,4,27],[5,24,5,25],[4,29,4,32],[5,29,5,30],[4,34,4,37],[5,34,5,35],[1,1,1,2],[5,13,5,14],[18,13,18,14],[19,13,19,14],[4,19,4,22],[5,19,5,20]]}
["Report for:!LB30C10.056"]
["Date:","<date>"]
["Hen:","<hen>",null,null,null,"Correct Sequence",{"$f":"Start!J2","v":12},null,null,null,null,null,null,null,null,"Total Sequences in Data",{"$f":"4994-COUNTBLANK(L7:L5000)","v":41},null,null,null,null,"Total Sequences in Block Data",{"$f":"COUNTA(L7:L13)","v":7},null,null,null,"Total Sequences in Block Data",{"$f":"COUNTA(L14:L20)","v":7},null,null,null,"Total Sequences in Block Data",{"$f":"COUNTA(L21:L26)","v":6},null,null,null,"Total Sequences in Block Data",{"$f":"COUNTA(L27:L33)","v":7},null,null,null,"Total Sequences in Block Data",{"$f":"COUNTA(L34:L40)","v":7},null,null,null,"Total Sequences in Block Data",{"$f":"COUNTA(L41:L47)","v":7}]
[null,null,null,null,null,null,null,null,null,null,null,null,null,null,null,"Total Sequences in Summary",{"$f":"SUM(O7:O14)","v":41},null,null,null,null,"Total Sequences in Block Summary",{"$f":"SUM(U7:U14)","v":7},null,null,null,"Total Sequences in Block Summary",{"$f":"SUM(Z7:Z14)","v":7},null,null,null,"Total Sequences in Block Summary",{"$f":"SUM(AE7:AE14)","v":6},null,null,null,"Total Sequences in Block Summary",{"$f":"SUM(AJ7:AJ14)","v":7},null,null,null,"Total Sequences in Block Summary",{"$f":"SUM(AO7:AO14)","v":7},null,null,null,"Total Sequences in Block Summary",{"$f":"SUM(AT7:AT14)","v":7}]
[null,null,null,null,null,null,null,null,null,null,null,null,null,null,null,null,null,null,null,"Block 1",null,null,null,null,"Block 2",null,null,null,null,"Block 3",null,null,null,null,"Block 4",null,null,null,null,"Block 5",null,null,null,null,"Block 6"]
["Sequence\nComponent\n1","Time\n1","Sequence\nComponent\n2","Time\n2","Sequence\nComponent\n3","Time\n3","Sequence\nComponent\n4","Time\n4","Sequence\nComponent\n5","Time\n5","Correct?\n0=No 1=Yes","Sequence",null,"Frequency",null,"Relative Frequency","Variability",null,null,"Frequency",null,"Relative Frequency","Variability",null,"Frequency",null,"Relative Frequency","Variability",null,"Frequency",null,"Relative Frequency","Variability",null,"Frequency",null,"Relative Frequency","Variability",null,"Frequency",null,"Relative Frequency","Variability",null,"Frequency",null,"Relative Frequency","Variability"]
[22,9,23,29,null,null,null,null,null,null,0,22,null,11,{"$f":"COUNTIF($L$7:$L$500,N7)","v":1},{"$f":"O7/$Q$4","v":2.4390243902439025E-2},{"$f":"IF(P7=0,0,(P7*((LOG(P7))/LOG(2))))","v":-0.13067200011263619},null,null,{"$f":"N7","v":11},{"$f":"COUNTIF(L7:L13,T7)","v":0},{"$f":"U7/(W4-U8)","v":0},{"$f":"IF(V7=0,0,(V7*((LOG(V7))/LOG(2))))","v":0},null,{"$f":"N7","v":11},{"$f":"COUNTIF(L14:L20,Y7)","v":0},{"$f":"Z7/(AB4-Z8)","v":{"$error":"#DIV/0!"}},{"$f":"IF(AA7=0,0,(AA7*((LOG(AA7))/LOG(2))))","v":{"$error":"#DIV/0!"}},null,{"$f":"N7","v":11},{"$f":"COUNTIF(L21:L26,AD7)","v":0},{"$f":"AE7/(AG4-AE8)","v":{"$error":"#DIV/0!"}},{"$f":"IF(AF7=0,0,(AF7*((LOG(AF7))/LOG(2))))","v":{"$error":"#DIV/0!"}},null,{"$f":"N7","v":11},{"$f":"COUNTIF(L27:L33,AI7)","v":1},{"$f":"AJ7/(AL4-AJ8)","v":1},{"$f":"IF(AK7=0,0,(AK7*((LOG(AK7))/LOG(2))))","v":0},null,{"$f":"N7","v":11},{"$f":"COUNTIF(L34:L40,AN7)","v":0},{"$f":"AO7/(AQ4-AO8)","v":{"$error":"#DIV/0!"}},{"$f":"IF(AP7=0,0,(AP7*((LOG(AP7))/LOG(2))))","v":{"$error":"#DIV/0!"}},null,{"$f":"N7","v":11},{"$f":"COUNTIF(L41:L47,AS7)","v":0},{"$f":"AT7/(AV4-AT8)","v":{"$error":"#DIV/0!"}},{"$f":"IF(AU7=0,0,(AU7*((LOG(AU7))/LOG(2))))","v":{"$error":"#DIV/0!"}}]
[11,124,21,134,null,null,null,null,null,null,0,12,null,12,{"$f":"COUNTIF($L$7:$L$500,N8)","v":39},{"$f":"O8/$Q$4","v":0.95121951219512191},{"$f":"IF(P8=0,0,(P8*((LOG(P8))/LOG(2))))","v":-6.8630284011648321E-2},null,null,{"$f":"N8","v":12},{"$f":"COUNTIF(L7:L13,T8)","v":6},null,null,null,{"$f":"N8","v":12},{"$f":"COUNTIF(L14:L20,Y8)","v":7},null,null,null,{"$f":"N8","v":12},{"$f":"COUNTIF(L21:L26,AD8)","v":6},null,null,null,{"$f":"N8","v":12},{"$f":"COUNTIF(L27:L33,AI8)","v":6},null,null,null,{"$f":"N8","v":12},{"$f":"COUNTIF(L34:L40,AN8)","v":7},null,null,null,{"$f":"N8","v":12},{"$f":"COUNTIF(L41:L47,AS8)","v":7}]
[11,220,21,230,null,null,null,null,null,null,0,12,null,21,{"$f":"COUNTIF($L$7:$L$500,N9)","v":0},{"$f":"O9/$Q$4","v":0},{"$f":"IF(P9=0,0,(P9*((LOG(P9))/LOG(2))))","v":0},null,null,{"$f":"N9","v":21},{"$f":"COUNTIF(L7:L13,T9)","v":0},{"$f":"U9/(W4-U8)","v":0},{"$f":"IF(V9=0,0,(V9*((LOG(V9))/LOG(2))))","v":0},null,{"$f":"N9","v":21},{"$f":"COUNTIF(L14:L20,Y9)","v":0},{"$f":"Z9/(AB4-Z8)","v":{"$error":"#DIV/0!"}},{"$f":"IF(AA9=0,0,(AA9*((LOG(AA9))/LOG(2))))","v":{"$error":"#DIV/0!"}},null,{"$f":"N9","v":21},{"$f":"COUNTIF(L21:L26,AD9)","v":0},{"$f":"AE9/(AG4-AE8)","v":{"$error":"#DIV/0!"}},{"$f":"IF(AF9=0,0,(AF9*((LOG(AF9))/LOG(2))))","v":{"$error":"#DIV/0!"}},null,{"$f":"N9","v":21},{"$f":"COUNTIF(L27:L33,AI9)","v":0},{"$f":"AJ9/(AL4-AJ8)","v":0},{"$f":"IF(AK9=0,0,(AK9*((LOG(AK9))/LOG(2))))","v":0},null,{"$f":"N9","v":21},{"$f":"COUNTIF(L34:L40,AN9)","v":0},{"$f":"AO9/(AQ4-AO8)","v":{"$error":"#DIV/0!"}},{"$f":"IF(AP9=0,0,(AP9*((LOG(AP9))/LOG(2))))","v":{"$error":"#DIV/0!"}},null,{"$f":"N9","v":21},{"$f":"COUNTIF(L41:L47,AS9)","v":0},{"$f":"AT9/(AV4-AT8)","v":{"$error":"#DIV/0!"}},{"$f":"IF(AU9=0,0,(AU9*((LOG(AU9))/LOG(2))))","v":{"$error":"#DIV/0!"}}]
[11,324,21,333,null,null,null,null,null,null,0,12,null,22,{"$f":"COUNTIF($L$7:$L$500,N10)","v":1},{"$f":"O10/$Q$4","v":2.4390243902439025E-2},{"$f":"IF(P10=0,0,(P10*((LOG(P10))/LOG(2))))","v":-0.13067200011263619},null,null,{"$f":"N10","v":22},{"$f":"COUNTIF(L7:L13,T10)","v":1},{"$f":"U10/(W4-U8)","v":1},{"$f":"IF(V10=0,0,(V10*((LOG(V10))/LOG(2))))","v":0},null,{"$f":"N10","v":22},{"$f":"COUNTIF(L14:L20,Y10)","v":0},{"$f":"Z10/(AB4-Z8)","v":{"$error":"#DIV/0!"}},{"$f":"IF(AA10=0,0,(AA10*((LOG(AA10))/LOG(2))))","v":{"$error":"#DIV/0!"}},null,{"$f":"N10","v":22},{"$f":"COUNTIF(L21:L26,AD10)","v":0},{"$f":"AE10/(AG4-AE8)","v":{"$error":"#DIV/0!"}},{"$f":"IF(AF10=0,0,(AF10*((LOG(AF10))/LOG(2))))","v":{"$error":"#DIV/0!"}},null,{"$f":"N10","v":22},{"$f":"COUNTIF(L27:L33,AI10)","v":0},{"$f":"AJ10/(AL4-AJ8)","v":0},{"$f":"IF(AK10=0,0,(AK10*((LOG(AK10))/LOG(2))))","v":0},null,{"$f":"N10","v":22},{"$f":"COUNTIF(L34:L40,AN10)","v":0},{"$f":"AO10/(AQ4-AO8)","v":{"$error":"#DIV/0!"}},{"$f":"IF(AP10=0,0,(AP10*((LOG(AP10))/LOG(2))))","v":{"$error":"#DIV/0!"}},null,{"$f":"N10","v":22},{"$f":"COUNTIF(L41:L47,AS10)","v":0},{"$f":"AT10/(AV4-AT8)","v":{"$error":"#DIV/0!"}},{"$f":"IF(AU10=0,0,(AU10*((LOG(AU10))/LOG(2))))","v":{"$error":"#DIV/0!"}}]
[11,418,21,428,null,null,null,null,null,null,0,12,null,null,null,null,null,null,null,{"$f":"N11","v":0},{"$f":"COUNTIF(L7:L13,T11)","v":0},{"$f":"U11/(W4-U8)","v":0},{"$f":"IF(V11=0,0,(V11*((LOG(V11))/LOG(2))))","v":0},null,{"$f":"N11","v":0},{"$f":"COUNTIF(L14:L20,Y11)","v":0},{"$f":"Z11/(AB4-Z8)","v":{"$error":"#DIV/0!"}},{"$f":"IF(AA11=0,0,(AA11*((LOG(AA11))/LOG(2))))","v":{"$error":"#DIV/0!"}},null,{"$f":"N11","v":0},{"$f":"COUNTIF(L21:L26,AD11)","v":0},{"$f":"AE11/(AG4-AE8)","v":{"$error":"#DIV/0!"}},{"$f":"IF(AF11=0,0,(AF11*((LOG(AF11))/LOG(2))))","v":{"$error":"#DIV/0!"}},null,{"$f":"N11","v":0},{"$f":"COUNTIF(L27:L33,AI11)","v":0},{"$f":"AJ11/(AL4-AJ8)","v":0},{"$f":"IF(AK11=0,0,(AK11*((LOG(AK11))/LOG(2))))","v":0},null,{"$f":"N11","v":0},{"$f":"COUNTIF(L34:L40,AN11)","v":0},{"$f":"AO11/(AQ4-AO8)","v":{"$error":"#DIV/0!"}},{"$f":"IF(AP11=0,0,(AP11*((LOG(AP11))/LOG(2))))","v":{"$error":"#DIV/0!"}},null,{"$f":"N11","v":0},{"$f":"COUNTIF(L41:L47,AS11)","v":0},{"$f":"AT11/(AV4-AT8)","v":{"$error":"#DIV/0!"}},{"$f":"IF(AU11=0,0,(AU11*((LOG(AU11))/LOG(2))))","v":{"$error":"#DIV/0!"}}]
[11,514,21,524,null,null,null,null,null,null,0,12,null,null,null,null,null,null,null,{"$f":"N12","v":0},{"$f":"COUNTIF(L7:L13,T12)","v":0},{"$f":"U12/(W4-U8)","v":0},{"$f":"IF(V12=0,0,(V12*((LOG(V12))/LOG(2))))","v":0},null,{"$f":"N12","v":0},{"$f":"COUNTIF(L14:L20,Y12)","v":0},{"$f":"Z12/(AB4-Z8)","v":{"$error":"#DIV/0!"}},{"$f":"IF(AA12=0,0,(AA12*((LOG(AA12))/LOG(2))))","v":{"$error":"#DIV/0!"}},null,{"$f":"N12","v":0},{"$f":"COUNTIF(L21:L26,AD12)","v":0},{"$f":"AE12/(AG4-AE8)","v":{"$error":"#DIV/0!"}},{"$f":"IF(AF12=0,0,(AF12*((LOG(AF12))/LOG(2))))","v":{"$error":"#DIV/0!"}},null,{"$f":"N12","v":0},{"$f":"COUNTIF(L27:L33,AI12)","v":0},{"$f":"AJ12/(AL4-AJ8)","v":0},{"$f":"IF(AK12=0,0,(AK12*((LOG(AK12))/LOG(2))))","v":0},null,{"$f":"N12","v":0},{"$f":"COUNTIF(L34:L40,AN12)","v":0},{"$f":"AO12/(AQ4-AO8)","v":{"$error":"#DIV/0!"}},{"$f":"IF(AP12=0,0,(AP12*((LOG(AP12))/LOG(2))))","v":{"$error":"#DIV/0!"}},null,{"$f":"N12","v":0},{"$f":"COUNTIF(L41:L47,AS12)","v":0},{"$f":"AT12/(AV4-AT8)","v":{"$error":"#DIV/0!"}},{"$f":"IF(AU12=0,0,(AU12*((LOG(AU12))/LOG(2))))","v":{"$error":"#DIV/0!"}}]
[11,608,21,622,null,null,null,null,null,null,0,12,null,null,null,null,null,null,null,{"$f":"N13","v":0},{"$f":"COUNTIF(L7:L13,T13)","v":0},{"$f":"U13/(W4-U8)","v":0},{"$f":"IF(V13=0,0,(V13*((LOG(V13))/LOG(2))))","v":0},null,{"$f":"N13","v":0},{"$f":"COUNTIF(L14:L20,Y13)","v":0},{"$f":"Z13/(AB4-Z8)","v":{"$error":"#DIV/0!"}},{"$f":"IF(AA13=0,0,(AA13*((LOG(AA13))/LOG(2))))","v":{"$error":"#DIV/0!"}},null,{"$f":"N13","v":0},{"$f":"COUNTIF(L21:L26,AD13)","v":0},{"$f":"AE13/(AG4-AE8)","v":{"$error":"#DIV/0!"}},{"$f":"IF(AF13=0,0,(AF13*((LOG(AF13))/LOG(2))))","v":{"$error":"#DIV/0!"}},null,{"$f":"N13","v":0},{"$f":"COUNTIF(L27:L33,AI13)","v":0},{"$f":"AJ13/(AL4-AJ8)","v":0},{"$f":"IF(AK13=0,0,(AK13*((LOG(AK13))/LOG(2))))","v":0},null,{"$f":"N13","v":0},{"$f":"COUNTIF(L34:L40,AN13)","v":0},{"$f":"AO13/(AQ4-AO8)","v":{"$error":"#DIV/0!"}},{"$f":"IF(AP13=0,0,(AP13*((LOG(AP13))/LOG(2))))","v":{"$error":"#DIV/0!"}},null,{"$f":"N13","v":0},{"$f":"COUNTIF(L41:L47,AS13)","v":0},{"$f":"AT13/(AV4-AT8)","v":{"$error":"#DIV/0!"}},{"$f":"IF(AU13=0,0,(AU13*((LOG(AU13))/LOG(2))))","v":{"$error":"#DIV/0!"}}]
[11,707,21,716,null,null,null,null,null,null,0,12,null,null,null,null,null,null,null,{"$f":"N14","v":0},{"$f":"COUNTIF(L7:L13,T14)","v":0},{"$f":"U14/(W4-U8)","v":0},{"$f":"IF(V14=0,0,(V14*((LOG(V14))/LOG(2))))","v":0},null,{"$f":"N14","v":0},{"$f":"COUNTIF(L14:L20,Y14)","v":0},{"$f":"Z14/(AB4-Z8)","v":{"$error":"#DIV/0!"}},{"$f":"IF(AA14=0,0,(AA14*((LOG(AA14))/LOG(2))))","v":{"$error":"#DIV/0!"}},null,{"$f":"N14","v":0},{"$f":"COUNTIF(L21:L26,AD14)","v":0},{"$f":"AE14/(AG4-AE8)","v":{"$error":"#DIV/0!"}},{"$f":"IF(AF14=0,0,(AF14*((LOG(AF14))/LOG(2))))","v":{"$error":"#DIV/0!"}},null,{"$f":"N14","v":0},{"$f":"COUNTIF(L27:L33,AI14)","v":0},{"$f":"AJ14/(AL4-AJ8)","v":0},{"$f":"IF(AK14=0,0,(AK14*((LOG(AK14))/LOG(2))))","v":0},null,{"$f":"N14","v":0},{"$f":"COUNTIF(L34:L40,AN14)","v":0},{"$f":"AO14/(AQ4-AO8)","v":{"$error":"#DIV/0!"}},{"$f":"IF(AP14=0,0,(AP14*((LOG(AP14))/LOG(2))))","v":{"$error":"#DIV/0!"}},null,{"$f":"N14","v":0},{"$f":"COUNTIF(L41:L47,AS14)","v":0},{"$f":"AT14/(AV4-AT8)","v":{"$error":"#DIV/0!"}},{"$f":"IF(AU14=0,0,(AU14*((LOG(AU14))/LOG(2))))","v":{"$error":"#DIV/0!"}}]
[11,801,21,810,null,null,null,null,null,null,0,12,null,null,null,{"$f":"SUM(P7:P14)","v":1},{"$f":"-SUM(Q7:Q14)","v":0.32997428423692071},null,null,null,null,{"$f":"SUM(V7:V14)","v":1},{"$f":"-SUM(W7:W14)","v":0},null,null,null,{"$f":"SUM(AA7:AA14)","v":{"$error":"#DIV/0!"}},{"$f":"-SUM(AB7:AB14)","v":{"$error":"#DIV/0!"}},null,null,null,{"$f":"SUM(AF7:AF14)","v":{"$error":"#DIV/0!"}},{"$f":"-SUM(AG7:AG14)","v":{"$error":"#DIV/0!"}},null,null,null,{"$f":"SUM(AK7:AK14)","v":1},{"$f":"-SUM(AL7:AL14)","v":0},null,null,null,{"$f":"SUM(AP7:AP14)","v":{"$error":"#DIV/0!"}},{"$f":"-SUM(AQ7:AQ14)","v":{"$error":"#DIV/0!"}},null,null,null,{"$f":"SUM(AU7:AU14)","v":{"$error":"#DIV/0!"}},{"$f":"-SUM(AV7:AV14)","v":{"$error":"#DIV/0!"}}]
[11,901,21,910,null,null,null,null,null,null,0,12,null,null,null,"U=",{"$f":"Q15/(LOG(Q4)/LOG(2))","v":6.1590495799665711E-2},null,null,null,null,"U1=",{"$f":"W15/(LOG(W4)/LOG(2))","v":0},null,null,null,"U2=",{"$f":"AB15/(LOG(AB4)/LOG(2))","v":{"$error":"#DIV/0!"}},null,null,null,"U3=",{"$f":"AG15/(LOG(AG4)/LOG(2))","v":{"$error":"#DIV/0!"}},null,null,null,"U4=",{"$f":"AL15/(LOG(AL4)/LOG(2))","v":0},null,null,null,"U5=",{"$f":"AQ15/(LOG(AQ4)/LOG(2))","v":{"$error":"#DIV/0!"}},null,null,null,"U6=",{"$f":"AV15/(LOG(AV4)/LOG(2))","v":{"$error":"#DIV/0!"}}]
[11,999,21,1009,null,null,null,null,null,null,0,12]
[11,1096,21,1106,null,null,null,null,null,null,0,12]
[11,1191,21,1201,null,null,null,null,null,null,0,12,null,"Total Target Seq"]
[11,1290,21,1299,null,null,null,null,null,null,0,12,null,{"$f":"COUNTIF(L7:L47,G3)","v":39},null,7,7,6,7,7,7]
[11,1384,21,1397,null,null,null,null,null,null,0,12,null,null,null,"% of reinforcement given in 6 equal intervals based on number of trials "]
[11,1485,21,1494,null,null,null,null,null,null,0,12,null,null,null,"%_1","%_2","%_3","%_4","%_5","%_6"]
[11,1579,21,1588,null,null,null,null,null,null,0,12,null,null,"target sequence",{"$f":"$G$3","v":12},{"$f":"$G$3","v":12},{"$f":"$G$3","v":12},{"$f":"$G$3","v":12},{"$f":"$G$3","v":12},{"$f":"$G$3","v":12}]
[11,1675,21,1685,null,null,null,null,null,null,0,12,null,null,"total reinforcement",{"$f":"U8","v":6},{"$f":"Z8","v":7},{"$f":"AE8","v":6},{"$f":"AJ8","v":6},{"$f":"AO8","v":7},{"$f":"AT8","v":7}]
[11,1773,21,1784,null,null,null,null,null,null,0,12,null,null,"% target"]
[11,1873,21,1883,null,null,null,null,null,null,0,12,null,null,"CCRF"]
[11,1970,21,1979,null,null,null,null,null,null,0,12,null,null,"% CCRf"]
[11,2065,21,2074,null,null,null,null,null,null,0,12,null,null,"average response rate",{"$f":"D13/P20","v":88.857142857142861},{"$f":"(D20-D13)/Q20","v":96.714285714285708},{"$f":"(D26-D20)/R20","v":97.333333333333329},{"$f":"(D33-D26)/S20","v":96.714285714285708},{"$f":"(D40-D33)/T20","v":99.857142857142861},{"$f":"(D47-D40)/U20","v":95.571428571428569}]
[11,2165,21,2179,null,null,null,null,null,null,0,12]
[11,2265,21,2274,null,null,null,null,null,null,0,12]
[11,2356,12,2362,null,null,null,null,null,null,0,11]
[11,2453,21,2462,null,null,null,null,null,null,0,12]
[11,2551,21,2560,null,null,null,null,null,null,0,12]
[11,2658,21,2668,null,null,null,null,null,null,0,12]
[11,2754,21,2763,null,null,null,null,null,null,0,12]
[11,2854,21,2864,null,null,null,null,null,null,0,12]
[11,2949,21,2964,null,null,null,null,null,null,0,12]
[11,3048,21,3057,null,null,null,null,null,null,0,12]
[11,3144,21,3153,null,null,null,null,null,null,0,12]
[11,3249,21,3259,null,null,null,null,null,null,0,12]
[11,3344,21,3354,null,null,null,null,null,null,0,12]
[11,3439,21,3448,null,null,null,null,null,null,0,12]
[11,3537,21,3546,null,null,null,null,null,null,0,12]
[11,3632,21,3642,null,null,null,null,null,null,0,12]
[11,3727,21,3736,null,null,null,null,null,null,0,12]
[11,3823,21,3833,null,null,null,null,null,null,0,12]
[11,3917,21,3928,null,null,null,null,null,null,1,12]

{"sheet":"!LC01B50.056","index":23,"n_rows":47,"n_cols":48,"rows_kept":47,"cut":false,"hidden":false,"merged":[[4,39,4,42],[5,39,5,40],[4,44,4,47],[5,44,5,45],[4,24,4,27],[5,24,5,25],[4,29,4,32],[5,29,5,30],[4,34,4,37],[5,34,5,35],[1,1,1,2],[5,13,5,14],[18,13,18,14],[19,13,19,14],[4,19,4,22],[5,19,5,20]]}
["Report for:!LC01B50.056"]
["Date:","<date>"]
["Hen:","<hen>",null,null,null,"Correct Sequence",{"$f":"Start!J2","v":12},null,null,null,null,null,null,null,null,"Total Sequences in Data",{"$f":"4994-COUNTBLANK(L7:L5000)","v":41},null,null,null,null,"Total Sequences in Block Data",{"$f":"COUNTA(L7:L13)","v":7},null,null,null,"Total Sequences in Block Data",{"$f":"COUNTA(L14:L20)","v":7},null,null,null,"Total Sequences in Block Data",{"$f":"COUNTA(L21:L26)","v":6},null,null,null,"Total Sequences in Block Data",{"$f":"COUNTA(L27:L33)","v":7},null,null,null,"Total Sequences in Block Data",{"$f":"COUNTA(L34:L40)","v":7},null,null,null,"Total Sequences in Block Data",{"$f":"COUNTA(L41:L47)","v":7}]
[null,null,null,null,null,null,null,null,null,null,null,null,null,null,null,"Total Sequences in Summary",{"$f":"SUM(O7:O14)","v":41},null,null,null,null,"Total Sequences in Block Summary",{"$f":"SUM(U7:U14)","v":7},null,null,null,"Total Sequences in Block Summary",{"$f":"SUM(Z7:Z14)","v":7},null,null,null,"Total Sequences in Block Summary",{"$f":"SUM(AE7:AE14)","v":6},null,null,null,"Total Sequences in Block Summary",{"$f":"SUM(AJ7:AJ14)","v":7},null,null,null,"Total Sequences in Block Summary",{"$f":"SUM(AO7:AO14)","v":7},null,null,null,"Total Sequences in Block Summary",{"$f":"SUM(AT7:AT14)","v":7}]
[null,null,null,null,null,null,null,null,null,null,null,null,null,null,null,null,null,null,null,"Block 1",null,null,null,null,"Block 2",null,null,null,null,"Block 3",null,null,null,null,"Block 4",null,null,null,null,"Block 5",null,null,null,null,"Block 6"]
["Sequence\nComponent\n1","Time\n1","Sequence\nComponent\n2","Time\n2","Sequence\nComponent\n3","Time\n3","Sequence\nComponent\n4","Time\n4","Sequence\nComponent\n5","Time\n5","Correct?\n0=No 1=Yes","Sequence",null,"Frequency",null,"Relative Frequency","Variability",null,null,"Frequency",null,"Relative Frequency","Variability",null,"Frequency",null,"Relative Frequency","Variability",null,"Frequency",null,"Relative Frequency","Variability",null,"Frequency",null,"Relative Frequency","Variability",null,"Frequency",null,"Relative Frequency","Variability",null,"Frequency",null,"Relative Frequency","Variability"]
[11,5,21,15,null,null,null,null,null,null,0,12,null,11,{"$f":"COUNTIF($L$7:$L$500,N7)","v":1},{"$f":"O7/$Q$4","v":2.4390243902439025E-2},{"$f":"IF(P7=0,0,(P7*((LOG(P7))/LOG(2))))","v":-0.13067200011263619},null,null,{"$f":"N7","v":11},{"$f":"COUNTIF(L7:L13,T7)","v":0},{"$f":"U7/(W4-U8)","v":0},{"$f":"IF(V7=0,0,(V7*((LOG(V7))/LOG(2))))","v":0},null,{"$f":"N7","v":11},{"$f":"COUNTIF(L14:L20,Y7)","v":1},{"$f":"Z7/(AB4-Z8)","v":1},{"$f":"IF(AA7=0,0,(AA7*((LOG(AA7))/LOG(2))))","v":0},null,{"$f":"N7","v":11},{"$f":"COUNTIF(L21:L26,AD7)","v":0},{"$f":"AE7/(AG4-AE8)","v":{"$error":"#DIV/0!"}},{"$f":"IF(AF7=0,0,(AF7*((LOG(AF7))/LOG(2))))","v":{"$error":"#DIV/0!"}},null,{"$f":"N7","v":11},{"$f":"COUNTIF(L27:L33,AI7)","v":0},{"$f":"AJ7/(AL4-AJ8)","v":{"$error":"#DIV/0!"}},{"$f":"IF(AK7=0,0,(AK7*((LOG(AK7))/LOG(2))))","v":{"$error":"#DIV/0!"}},null,{"$f":"N7","v":11},{"$f":"COUNTIF(L34:L40,AN7)","v":0},{"$f":"AO7/(AQ4-AO8)","v":{"$error":"#DIV/0!"}},{"$f":"IF(AP7=0,0,(AP7*((LOG(AP7))/LOG(2))))","v":{"$error":"#DIV/0!"}},null,{"$f":"N7","v":11},{"$f":"COUNTIF(L41:L47,AS7)","v":0},{"$f":"AT7/(AV4-AT8)","v":{"$error":"#DIV/0!"}},{"$f":"IF(AU7=0,0,(AU7*((LOG(AU7))/LOG(2))))","v":{"$error":"#DIV/0!"}}]
[11,101,21,116,null,null,null,null,null,null,0,12,null,12,{"$f":"COUNTIF($L$7:$L$500,N8)","v":39},{"$f":"O8/$Q$4","v":0.95121951219512191},{"$f":"IF(P8=0,0,(P8*((LOG(P8))/LOG(2))))","v":-6.8630284011648321E-2},null,null,{"$f":"N8","v":12},{"$f":"COUNTIF(L7:L13,T8)","v":6},null,null,null,{"$f":"N8","v":12},{"$f":"COUNTIF(L14:L20,Y8)","v":6},null,null,null,{"$f":"N8","v":12},{"$f":"COUNTIF(L21:L26,AD8)","v":6},null,null,null,{"$f":"N8","v":12},{"$f":"COUNTIF(L27:L33,AI8)","v":7},null,null,null,{"$f":"N8","v":12},{"$f":"COUNTIF(L34:L40,AN8)","v":7},null,null,null,{"$f":"N8","v":12},{"$f":"COUNTIF(L41:L47,AS8)","v":7}]
[11,203,21,212,null,null,null,null,null,null,0,12,null,21,{"$f":"COUNTIF($L$7:$L$500,N9)","v":0},{"$f":"O9/$Q$4","v":0},{"$f":"IF(P9=0,0,(P9*((LOG(P9))/LOG(2))))","v":0},null,null,{"$f":"N9","v":21},{"$f":"COUNTIF(L7:L13,T9)","v":0},{"$f":"U9/(W4-U8)","v":0},{"$f":"IF(V9=0,0,(V9*((LOG(V9))/LOG(2))))","v":0},null,{"$f":"N9","v":21},{"$f":"COUNTIF(L14:L20,Y9)","v":0},{"$f":"Z9/(AB4-Z8)","v":0},{"$f":"IF(AA9=0,0,(AA9*((LOG(AA9))/LOG(2))))","v":0},null,{"$f":"N9","v":21},{"$f":"COUNTIF(L21:L26,AD9)","v":0},{"$f":"AE9/(AG4-AE8)","v":{"$error":"#DIV/0!"}},{"$f":"IF(AF9=0,0,(AF9*((LOG(AF9))/LOG(2))))","v":{"$error":"#DIV/0!"}},null,{"$f":"N9","v":21},{"$f":"COUNTIF(L27:L33,AI9)","v":0},{"$f":"AJ9/(AL4-AJ8)","v":{"$error":"#DIV/0!"}},{"$f":"IF(AK9=0,0,(AK9*((LOG(AK9))/LOG(2))))","v":{"$error":"#DIV/0!"}},null,{"$f":"N9","v":21},{"$f":"COUNTIF(L34:L40,AN9)","v":0},{"$f":"AO9/(AQ4-AO8)","v":{"$error":"#DIV/0!"}},{"$f":"IF(AP9=0,0,(AP9*((LOG(AP9))/LOG(2))))","v":{"$error":"#DIV/0!"}},null,{"$f":"N9","v":21},{"$f":"COUNTIF(L41:L47,AS9)","v":0},{"$f":"AT9/(AV4-AT8)","v":{"$error":"#DIV/0!"}},{"$f":"IF(AU9=0,0,(AU9*((LOG(AU9))/LOG(2))))","v":{"$error":"#DIV/0!"}}]
[22,303,23,316,null,null,null,null,null,null,0,22,null,22,{"$f":"COUNTIF($L$7:$L$500,N10)","v":1},{"$f":"O10/$Q$4","v":2.4390243902439025E-2},{"$f":"IF(P10=0,0,(P10*((LOG(P10))/LOG(2))))","v":-0.13067200011263619},null,null,{"$f":"N10","v":22},{"$f":"COUNTIF(L7:L13,T10)","v":1},{"$f":"U10/(W4-U8)","v":1},{"$f":"IF(V10=0,0,(V10*((LOG(V10))/LOG(2))))","v":0},null,{"$f":"N10","v":22},{"$f":"COUNTIF(L14:L20,Y10)","v":0},{"$f":"Z10/(AB4-Z8)","v":0},{"$f":"IF(AA10=0,0,(AA10*((LOG(AA10))/LOG(2))))","v":0},null,{"$f":"N10","v":22},{"$f":"COUNTIF(L21:L26,AD10)","v":0},{"$f":"AE10/(AG4-AE8)","v":{"$error":"#DIV/0!"}},{"$f":"IF(AF10=0,0,(AF10*((LOG(AF10))/LOG(2))))","v":{"$error":"#DIV/0!"}},null,{"$f":"N10","v":22},{"$f":"COUNTIF(L27:L33,AI10)","v":0},{"$f":"AJ10/(AL4-AJ8)","v":{"$error":"#DIV/0!"}},{"$f":"IF(AK10=0,0,(AK10*((LOG(AK10))/LOG(2))))","v":{"$error":"#DIV/0!"}},null,{"$f":"N10","v":22},{"$f":"COUNTIF(L34:L40,AN10)","v":0},{"$f":"AO10/(AQ4-AO8)","v":{"$error":"#DIV/0!"}},{"$f":"IF(AP10=0,0,(AP10*((LOG(AP10))/LOG(2))))","v":{"$error":"#DIV/0!"}},null,{"$f":"N10","v":22},{"$f":"COUNTIF(L41:L47,AS10)","v":0},{"$f":"AT10/(AV4-AT8)","v":{"$error":"#DIV/0!"}},{"$f":"IF(AU10=0,0,(AU10*((LOG(AU10))/LOG(2))))","v":{"$error":"#DIV/0!"}}]
[11,408,21,418,null,null,null,null,null,null,0,12,null,null,null,null,null,null,null,{"$f":"N11","v":0},{"$f":"COUNTIF(L7:L13,T11)","v":0},{"$f":"U11/(W4-U8)","v":0},{"$f":"IF(V11=0,0,(V11*((LOG(V11))/LOG(2))))","v":0},null,{"$f":"N11","v":0},{"$f":"COUNTIF(L14:L20,Y11)","v":0},{"$f":"Z11/(AB4-Z8)","v":0},{"$f":"IF(AA11=0,0,(AA11*((LOG(AA11))/LOG(2))))","v":0},null,{"$f":"N11","v":0},{"$f":"COUNTIF(L21:L26,AD11)","v":0},{"$f":"AE11/(AG4-AE8)","v":{"$error":"#DIV/0!"}},{"$f":"IF(AF11=0,0,(AF11*((LOG(AF11))/LOG(2))))","v":{"$error":"#DIV/0!"}},null,{"$f":"N11","v":0},{"$f":"COUNTIF(L27:L33,AI11)","v":0},{"$f":"AJ11/(AL4-AJ8)","v":{"$error":"#DIV/0!"}},{"$f":"IF(AK11=0,0,(AK11*((LOG(AK11))/LOG(2))))","v":{"$error":"#DIV/0!"}},null,{"$f":"N11","v":0},{"$f":"COUNTIF(L34:L40,AN11)","v":0},{"$f":"AO11/(AQ4-AO8)","v":{"$error":"#DIV/0!"}},{"$f":"IF(AP11=0,0,(AP11*((LOG(AP11))/LOG(2))))","v":{"$error":"#DIV/0!"}},null,{"$f":"N11","v":0},{"$f":"COUNTIF(L41:L47,AS11)","v":0},{"$f":"AT11/(AV4-AT8)","v":{"$error":"#DIV/0!"}},{"$f":"IF(AU11=0,0,(AU11*((LOG(AU11))/LOG(2))))","v":{"$error":"#DIV/0!"}}]
[11,503,21,512,null,null,null,null,null,null,0,12,null,null,null,null,null,null,null,{"$f":"N12","v":0},{"$f":"COUNTIF(L7:L13,T12)","v":0},{"$f":"U12/(W4-U8)","v":0},{"$f":"IF(V12=0,0,(V12*((LOG(V12))/LOG(2))))","v":0},null,{"$f":"N12","v":0},{"$f":"COUNTIF(L14:L20,Y12)","v":0},{"$f":"Z12/(AB4-Z8)","v":0},{"$f":"IF(AA12=0,0,(AA12*((LOG(AA12))/LOG(2))))","v":0},null,{"$f":"N12","v":0},{"$f":"COUNTIF(L21:L26,AD12)","v":0},{"$f":"AE12/(AG4-AE8)","v":{"$error":"#DIV/0!"}},{"$f":"IF(AF12=0,0,(AF12*((LOG(AF12))/LOG(2))))","v":{"$error":"#DIV/0!"}},null,{"$f":"N12","v":0},{"$f":"COUNTIF(L27:L33,AI12)","v":0},{"$f":"AJ12/(AL4-AJ8)","v":{"$error":"#DIV/0!"}},{"$f":"IF(AK12=0,0,(AK12*((LOG(AK12))/LOG(2))))","v":{"$error":"#DIV/0!"}},null,{"$f":"N12","v":0},{"$f":"COUNTIF(L34:L40,AN12)","v":0},{"$f":"AO12/(AQ4-AO8)","v":{"$error":"#DIV/0!"}},{"$f":"IF(AP12=0,0,(AP12*((LOG(AP12))/LOG(2))))","v":{"$error":"#DIV/0!"}},null,{"$f":"N12","v":0},{"$f":"COUNTIF(L41:L47,AS12)","v":0},{"$f":"AT12/(AV4-AT8)","v":{"$error":"#DIV/0!"}},{"$f":"IF(AU12=0,0,(AU12*((LOG(AU12))/LOG(2))))","v":{"$error":"#DIV/0!"}}]
[11,597,21,605,null,null,null,null,null,null,0,12,null,null,null,null,null,null,null,{"$f":"N13","v":0},{"$f":"COUNTIF(L7:L13,T13)","v":0},{"$f":"U13/(W4-U8)","v":0},{"$f":"IF(V13=0,0,(V13*((LOG(V13))/LOG(2))))","v":0},null,{"$f":"N13","v":0},{"$f":"COUNTIF(L14:L20,Y13)","v":0},{"$f":"Z13/(AB4-Z8)","v":0},{"$f":"IF(AA13=0,0,(AA13*((LOG(AA13))/LOG(2))))","v":0},null,{"$f":"N13","v":0},{"$f":"COUNTIF(L21:L26,AD13)","v":0},{"$f":"AE13/(AG4-AE8)","v":{"$error":"#DIV/0!"}},{"$f":"IF(AF13=0,0,(AF13*((LOG(AF13))/LOG(2))))","v":{"$error":"#DIV/0!"}},null,{"$f":"N13","v":0},{"$f":"COUNTIF(L27:L33,AI13)","v":0},{"$f":"AJ13/(AL4-AJ8)","v":{"$error":"#DIV/0!"}},{"$f":"IF(AK13=0,0,(AK13*((LOG(AK13))/LOG(2))))","v":{"$error":"#DIV/0!"}},null,{"$f":"N13","v":0},{"$f":"COUNTIF(L34:L40,AN13)","v":0},{"$f":"AO13/(AQ4-AO8)","v":{"$error":"#DIV/0!"}},{"$f":"IF(AP13=0,0,(AP13*((LOG(AP13))/LOG(2))))","v":{"$error":"#DIV/0!"}},null,{"$f":"N13","v":0},{"$f":"COUNTIF(L41:L47,AS13)","v":0},{"$f":"AT13/(AV4-AT8)","v":{"$error":"#DIV/0!"}},{"$f":"IF(AU13=0,0,(AU13*((LOG(AU13))/LOG(2))))","v":{"$error":"#DIV/0!"}}]
[11,691,21,699,null,null,null,null,null,null,0,12,null,null,null,null,null,null,null,{"$f":"N14","v":0},{"$f":"COUNTIF(L7:L13,T14)","v":0},{"$f":"U14/(W4-U8)","v":0},{"$f":"IF(V14=0,0,(V14*((LOG(V14))/LOG(2))))","v":0},null,{"$f":"N14","v":0},{"$f":"COUNTIF(L14:L20,Y14)","v":0},{"$f":"Z14/(AB4-Z8)","v":0},{"$f":"IF(AA14=0,0,(AA14*((LOG(AA14))/LOG(2))))","v":0},null,{"$f":"N14","v":0},{"$f":"COUNTIF(L21:L26,AD14)","v":0},{"$f":"AE14/(AG4-AE8)","v":{"$error":"#DIV/0!"}},{"$f":"IF(AF14=0,0,(AF14*((LOG(AF14))/LOG(2))))","v":{"$error":"#DIV/0!"}},null,{"$f":"N14","v":0},{"$f":"COUNTIF(L27:L33,AI14)","v":0},{"$f":"AJ14/(AL4-AJ8)","v":{"$error":"#DIV/0!"}},{"$f":"IF(AK14=0,0,(AK14*((LOG(AK14))/LOG(2))))","v":{"$error":"#DIV/0!"}},null,{"$f":"N14","v":0},{"$f":"COUNTIF(L34:L40,AN14)","v":0},{"$f":"AO14/(AQ4-AO8)","v":{"$error":"#DIV/0!"}},{"$f":"IF(AP14=0,0,(AP14*((LOG(AP14))/LOG(2))))","v":{"$error":"#DIV/0!"}},null,{"$f":"N14","v":0},{"$f":"COUNTIF(L41:L47,AS14)","v":0},{"$f":"AT14/(AV4-AT8)","v":{"$error":"#DIV/0!"}},{"$f":"IF(AU14=0,0,(AU14*((LOG(AU14))/LOG(2))))","v":{"$error":"#DIV/0!"}}]
[11,787,21,793,null,null,null,null,null,null,0,12,null,null,null,{"$f":"SUM(P7:P14)","v":1},{"$f":"-SUM(Q7:Q14)","v":0.32997428423692071},null,null,null,null,{"$f":"SUM(V7:V14)","v":1},{"$f":"-SUM(W7:W14)","v":0},null,null,null,{"$f":"SUM(AA7:AA14)","v":1},{"$f":"-SUM(AB7:AB14)","v":0},null,null,null,{"$f":"SUM(AF7:AF14)","v":{"$error":"#DIV/0!"}},{"$f":"-SUM(AG7:AG14)","v":{"$error":"#DIV/0!"}},null,null,null,{"$f":"SUM(AK7:AK14)","v":{"$error":"#DIV/0!"}},{"$f":"-SUM(AL7:AL14)","v":{"$error":"#DIV/0!"}},null,null,null,{"$f":"SUM(AP7:AP14)","v":{"$error":"#DIV/0!"}},{"$f":"-SUM(AQ7:AQ14)","v":{"$error":"#DIV/0!"}},null,null,null,{"$f":"SUM(AU7:AU14)","v":{"$error":"#DIV/0!"}},{"$f":"-SUM(AV7:AV14)","v":{"$error":"#DIV/0!"}}]
[11,880,21,890,null,null,null,null,null,null,0,12,null,null,null,"U=",{"$f":"Q15/(LOG(Q4)/LOG(2))","v":6.1590495799665711E-2},null,null,null,null,"U1=",{"$f":"W15/(LOG(W4)/LOG(2))","v":0},null,null,null,"U2=",{"$f":"AB15/(LOG(AB4)/LOG(2))","v":0},null,null,null,"U3=",{"$f":"AG15/(LOG(AG4)/LOG(2))","v":{"$error":"#DIV/0!"}},null,null,null,"U4=",{"$f":"AL15/(LOG(AL4)/LOG(2))","v":{"$error":"#DIV/0!"}},null,null,null,"U5=",{"$f":"AQ15/(LOG(AQ4)/LOG(2))","v":{"$error":"#DIV/0!"}},null,null,null,"U6=",{"$f":"AV15/(LOG(AV4)/LOG(2))","v":{"$error":"#DIV/0!"}}]
[11,974,12,989,null,null,null,null,null,null,0,11]
[11,1085,21,1094,null,null,null,null,null,null,0,12]
[11,1188,21,1197,null,null,null,null,null,null,0,12,null,"Total Target Seq"]
[11,1282,21,1306,null,null,null,null,null,null,0,12,null,{"$f":"COUNTIF(L7:L47,G3)","v":39},null,7,7,6,7,7,7]
[11,1394,21,1410,null,null,null,null,null,null,0,12,null,null,null,"% of reinforcement given in 6 equal intervals based on number of trials "]
[11,1497,21,1505,null,null,null,null,null,null,0,12,null,null,null,"%_1","%_2","%_3","%_4","%_5","%_6"]
[11,1591,21,1600,null,null,null,null,null,null,0,12,null,null,"target sequence",{"$f":"$G$3","v":12},{"$f":"$G$3","v":12},{"$f":"$G$3","v":12},{"$f":"$G$3","v":12},{"$f":"$G$3","v":12},{"$f":"$G$3","v":12}]
[11,1685,21,1693,null,null,null,null,null,null,0,12,null,null,"total reinforcement",{"$f":"U8","v":6},{"$f":"Z8","v":6},{"$f":"AE8","v":6},{"$f":"AJ8","v":7},{"$f":"AO8","v":7},{"$f":"AT8","v":7}]
[11,1777,21,1786,null,null,null,null,null,null,0,12,null,null,"% target"]
[11,1871,21,1880,null,null,null,null,null,null,0,12,null,null,"CCRF"]
[11,1966,21,1975,null,null,null,null,null,null,0,12,null,null,"% CCRf"]
[11,2063,21,2074,null,null,null,null,null,null,0,12,null,null,"average response rate",{"$f":"D13/P20","v":86.428571428571431},{"$f":"(D20-D13)/Q20","v":100.14285714285714},{"$f":"(D26-D20)/R20","v":95.666666666666671},{"$f":"(D33-D26)/S20","v":97.714285714285708},{"$f":"(D40-D33)/T20","v":97.714285714285708},{"$f":"(D47-D40)/U20","v":101.71428571428571}]
[11,2166,21,2176,null,null,null,null,null,null,0,12]
[11,2272,21,2281,null,null,null,null,null,null,0,12]
[11,2368,21,2376,null,null,null,null,null,null,0,12]
[11,2460,21,2469,null,null,null,null,null,null,0,12]
[11,2555,21,2564,null,null,null,null,null,null,0,12]
[11,2651,21,2659,null,null,null,null,null,null,0,12]
[11,2747,21,2756,null,null,null,null,null,null,0,12]
[11,2845,21,2854,null,null,null,null,null,null,0,12]
[11,2941,21,2950,null,null,null,null,null,null,0,12]
[11,3034,21,3044,null,null,null,null,null,null,0,12]
[11,3130,21,3152,null,null,null,null,null,null,0,12]
[11,3239,21,3248,null,null,null,null,null,null,0,12]
[11,3332,21,3350,null,null,null,null,null,null,0,12]
[11,3438,21,3446,null,null,null,null,null,null,0,12]
[11,3532,21,3541,null,null,null,null,null,null,0,12]
[11,3626,21,3634,null,null,null,null,null,null,0,12]
[11,3718,21,3741,null,null,null,null,null,null,0,12]
[11,3827,21,3852,null,null,null,null,null,null,0,12]
[11,3938,21,3960,null,null,null,null,null,null,1,12]

{"sheet":"!LC02B00.056","index":24,"n_rows":54,"n_cols":48,"rows_kept":54,"cut":false,"hidden":false,"merged":[[4,39,4,42],[5,39,5,40],[4,44,4,47],[5,44,5,45],[4,24,4,27],[5,24,5,25],[4,29,4,32],[5,29,5,30],[4,34,4,37],[5,34,5,35],[1,1,1,2],[5,13,5,14],[18,13,18,14],[19,13,19,14],[4,19,4,22],[5,19,5,20]]}
["Report for:!LC02B00.056"]
["Date:","<date>"]
["Hen:","<hen>",null,null,null,"Correct Sequence",{"$f":"Start!J2","v":12},null,null,null,null,null,null,null,null,"Total Sequences in Data",{"$f":"4994-COUNTBLANK(L7:L5000)","v":48},null,null,null,null,"Total Sequences in Block Data",{"$f":"COUNTA(L7:L14)","v":8},null,null,null,"Total Sequences in Block Data",{"$f":"COUNTA(L15:L22)","v":8},null,null,null,"Total Sequences in Block Data",{"$f":"COUNTA(L23:L30)","v":8},null,null,null,"Total Sequences in Block Data",{"$f":"COUNTA(L31:L38)","v":8},null,null,null,"Total Sequences in Block Data",{"$f":"COUNTA(L39:L46)","v":8},null,null,null,"Total Sequences in Block Data",{"$f":"COUNTA(L47:L54)","v":8}]
[null,null,null,null,null,null,null,null,null,null,null,null,null,null,null,"Total Sequences in Summary",{"$f":"SUM(O7:O14)","v":48},null,null,null,null,"Total Sequences in Block Summary",{"$f":"SUM(U7:U14)","v":8},null,null,null,"Total Sequences in Block Summary",{"$f":"SUM(Z7:Z14)","v":8},null,null,null,"Total Sequences in Block Summary",{"$f":"SUM(AE7:AE14)","v":8},null,null,null,"Total Sequences in Block Summary",{"$f":"SUM(AJ7:AJ14)","v":8},null,null,null,"Total Sequences in Block Summary",{"$f":"SUM(AO7:AO14)","v":8},null,null,null,"Total Sequences in Block Summary",{"$f":"SUM(AT7:AT14)","v":8}]
[null,null,null,null,null,null,null,null,null,null,null,null,null,null,null,null,null,null,null,"Block 1",null,null,null,null,"Block 2",null,null,null,null,"Block 3",null,null,null,null,"Block 4",null,null,null,null,"Block 5",null,null,null,null,"Block 6"]
["Sequence\nComponent\n1","Time\n1","Sequence\nComponent\n2","Time\n2","Sequence\nComponent\n3","Time\n3","Sequence\nComponent\n4","Time\n4","Sequence\nComponent\n5","Time\n5","Correct?\n0=No 1=Yes","Sequence",null,"Frequency",null,"Relative Frequency","Variability",null,null,"Frequency",null,"Relative Frequency","Variability",null,"Frequency",null,"Relative Frequency","Variability",null,"Frequency",null,"Relative Frequency","Variability",null,"Frequency",null,"Relative Frequency","Variability",null,"Frequency",null,"Relative Frequency","Variability",null,"Frequency",null,"Relative Frequency","Variability"]
[11,11,21,18,null,null,null,null,null,null,0,12,null,11,{"$f":"COUNTIF($L$7:$L$500,N7)","v":3},{"$f":"O7/$Q$4","v":6.25E-2},{"$f":"IF(P7=0,0,(P7*((LOG(P7))/LOG(2))))","v":-0.25},null,null,{"$f":"N7","v":11},{"$f":"COUNTIF(L7:L14,T7)","v":0},{"$f":"U7/(W4-U8)","v":0},{"$f":"IF(V7=0,0,(V7*((LOG(V7))/LOG(2))))","v":0},null,{"$f":"N7","v":11},{"$f":"COUNTIF(L15:L22,Y7)","v":0},{"$f":"Z7/(AB4-Z8)","v":0},{"$f":"IF(AA7=0,0,(AA7*((LOG(AA7))/LOG(2))))","v":0},null,{"$f":"N7","v":11},{"$f":"COUNTIF(L23:L30,AD7)","v":1},{"$f":"AE7/(AG4-AE8)","v":0.5},{"$f":"IF(AF7=0,0,(AF7*((LOG(AF7))/LOG(2))))","v":-0.5},null,{"$f":"N7","v":11},{"$f":"COUNTIF(L31:L38,AI7)","v":0},{"$f":"AJ7/(AL4-AJ8)","v":0},{"$f":"IF(AK7=0,0,(AK7*((LOG(AK7))/LOG(2))))","v":0},null,{"$f":"N7","v":11},{"$f":"COUNTIF(L39:L46,AN7)","v":0},{"$f":"AO7/(AQ4-AO8)","v":0},{"$f":"IF(AP7=0,0,(AP7*((LOG(AP7))/LOG(2))))","v":0},null,{"$f":"N7","v":11},{"$f":"COUNTIF(L47:L54,AS7)","v":2},{"$f":"AT7/(AV4-AT8)","v":0.66666666666666663},{"$f":"IF(AU7=0,0,(AU7*((LOG(AU7))/LOG(2))))","v":-0.38997500048077083}]
[11,108,21,117,null,null,null,null,null,null,0,12,null,12,{"$f":"COUNTIF($L$7:$L$500,N8)","v":39},{"$f":"O8/$Q$4","v":0.8125},{"$f":"IF(P8=0,0,(P8*((LOG(P8))/LOG(2))))","v":-0.24339272901036266},null,null,{"$f":"N8","v":12},{"$f":"COUNTIF(L7:L14,T8)","v":7},null,null,null,{"$f":"N8","v":12},{"$f":"COUNTIF(L15:L22,Y8)","v":7},null,null,null,{"$f":"N8","v":12},{"$f":"COUNTIF(L23:L30,AD8)","v":6},null,null,null,{"$f":"N8","v":12},{"$f":"COUNTIF(L31:L38,AI8)","v":7},null,null,null,{"$f":"N8","v":12},{"$f":"COUNTIF(L39:L46,AN8)","v":7},null,null,null,{"$f":"N8","v":12},{"$f":"COUNTIF(L47:L54,AS8)","v":5}]
[22,213,14,242,null,null,null,null,null,null,0,21,null,21,{"$f":"COUNTIF($L$7:$L$500,N9)","v":1},{"$f":"O9/$Q$4","v":2.0833333333333332E-2},{"$f":"IF(P9=0,0,(P9*((LOG(P9))/LOG(2))))","v":-0.11635338543169074},null,null,{"$f":"N9","v":21},{"$f":"COUNTIF(L7:L14,T9)","v":1},{"$f":"U9/(W4-U8)","v":1},{"$f":"IF(V9=0,0,(V9*((LOG(V9))/LOG(2))))","v":0},null,{"$f":"N9","v":21},{"$f":"COUNTIF(L15:L22,Y9)","v":0},{"$f":"Z9/(AB4-Z8)","v":0},{"$f":"IF(AA9=0,0,(AA9*((LOG(AA9))/LOG(2))))","v":0},null,{"$f":"N9","v":21},{"$f":"COUNTIF(L23:L30,AD9)","v":0},{"$f":"AE9/(AG4-AE8)","v":0},{"$f":"IF(AF9=0,0,(AF9*((LOG(AF9))/LOG(2))))","v":0},null,{"$f":"N9","v":21},{"$f":"COUNTIF(L31:L38,AI9)","v":0},{"$f":"AJ9/(AL4-AJ8)","v":0},{"$f":"IF(AK9=0,0,(AK9*((LOG(AK9))/LOG(2))))","v":0},null,{"$f":"N9","v":21},{"$f":"COUNTIF(L39:L46,AN9)","v":0},{"$f":"AO9/(AQ4-AO8)","v":0},{"$f":"IF(AP9=0,0,(AP9*((LOG(AP9))/LOG(2))))","v":0},null,{"$f":"N9","v":21},{"$f":"COUNTIF(L47:L54,AS9)","v":0},{"$f":"AT9/(AV4-AT8)","v":0},{"$f":"IF(AU9=0,0,(AU9*((LOG(AU9))/LOG(2))))","v":0}]
[11,334,21,343,null,null,null,null,null,null,0,12,null,22,{"$f":"COUNTIF($L$7:$L$500,N10)","v":5},{"$f":"O10/$Q$4","v":0.10416666666666667},{"$f":"IF(P10=0,0,(P10*((LOG(P10))/LOG(2))))","v":-0.33989941727435352},null,null,{"$f":"N10","v":22},{"$f":"COUNTIF(L7:L14,T10)","v":0},{"$f":"U10/(W4-U8)","v":0},{"$f":"IF(V10=0,0,(V10*((LOG(V10))/LOG(2))))","v":0},null,{"$f":"N10","v":22},{"$f":"COUNTIF(L15:L22,Y10)","v":1},{"$f":"Z10/(AB4-Z8)","v":1},{"$f":"IF(AA10=0,0,(AA10*((LOG(AA10))/LOG(2))))","v":0},null,{"$f":"N10","v":22},{"$f":"COUNTIF(L23:L30,AD10)","v":1},{"$f":"AE10/(AG4-AE8)","v":0.5},{"$f":"IF(AF10=0,0,(AF10*((LOG(AF10))/LOG(2))))","v":-0.5},null,{"$f":"N10","v":22},{"$f":"COUNTIF(L31:L38,AI10)","v":1},{"$f":"AJ10/(AL4-AJ8)","v":1},{"$f":"IF(AK10=0,0,(AK10*((LOG(AK10))/LOG(2))))","v":0},null,{"$f":"N10","v":22},{"$f":"COUNTIF(L39:L46,AN10)","v":1},{"$f":"AO10/(AQ4-AO8)","v":1},{"$f":"IF(AP10=0,0,(AP10*((LOG(AP10))/LOG(2))))","v":0},null,{"$f":"N10","v":22},{"$f":"COUNTIF(L47:L54,AS10)","v":1},{"$f":"AT10/(AV4-AT8)","v":0.33333333333333331},{"$f":"IF(AU10=0,0,(AU10*((LOG(AU10))/LOG(2))))","v":-0.52832083357371862}]
[11,428,21,436,null,null,null,null,null,null,0,12,null,null,null,null,null,null,null,{"$f":"N11","v":0},{"$f":"COUNTIF(L7:L14,T11)","v":0},{"$f":"U11/(W4-U8)","v":0},{"$f":"IF(V11=0,0,(V11*((LOG(V11))/LOG(2))))","v":0},null,{"$f":"N11","v":0},{"$f":"COUNTIF(L15:L22,Y11)","v":0},{"$f":"Z11/(AB4-Z8)","v":0},{"$f":"IF(AA11=0,0,(AA11*((LOG(AA11))/LOG(2))))","v":0},null,{"$f":"N11","v":0},{"$f":"COUNTIF(L23:L30,AD11)","v":0},{"$f":"AE11/(AG4-AE8)","v":0},{"$f":"IF(AF11=0,0,(AF11*((LOG(AF11))/LOG(2))))","v":0},null,{"$f":"N11","v":0},{"$f":"COUNTIF(L31:L38,AI11)","v":0},{"$f":"AJ11/(AL4-AJ8)","v":0},{"$f":"IF(AK11=0,0,(AK11*((LOG(AK11))/LOG(2))))","v":0},null,{"$f":"N11","v":0},{"$f":"COUNTIF(L39:L46,AN11)","v":0},{"$f":"AO11/(AQ4-AO8)","v":0},{"$f":"IF(AP11=0,0,(AP11*((LOG(AP11))/LOG(2))))","v":0},null,{"$f":"N11","v":0},{"$f":"COUNTIF(L47:L54,AS11)","v":0},{"$f":"AT11/(AV4-AT8)","v":0},{"$f":"IF(AU11=0,0,(AU11*((LOG(AU11))/LOG(2))))","v":0}]
[11,523,21,537,null,null,null,null,null,null,0,12,null,null,null,null,null,null,null,{"$f":"N12","v":0},{"$f":"COUNTIF(L7:L14,T12)","v":0},{"$f":"U12/(W4-U8)","v":0},{"$f":"IF(V12=0,0,(V12*((LOG(V12))/LOG(2))))","v":0},null,{"$f":"N12","v":0},{"$f":"COUNTIF(L15:L22,Y12)","v":0},{"$f":"Z12/(AB4-Z8)","v":0},{"$f":"IF(AA12=0,0,(AA12*((LOG(AA12))/LOG(2))))","v":0},null,{"$f":"N12","v":0},{"$f":"COUNTIF(L23:L30,AD12)","v":0},{"$f":"AE12/(AG4-AE8)","v":0},{"$f":"IF(AF12=0,0,(AF12*((LOG(AF12))/LOG(2))))","v":0},null,{"$f":"N12","v":0},{"$f":"COUNTIF(L31:L38,AI12)","v":0},{"$f":"AJ12/(AL4-AJ8)","v":0},{"$f":"IF(AK12=0,0,(AK12*((LOG(AK12))/LOG(2))))","v":0},null,{"$f":"N12","v":0},{"$f":"COUNTIF(L39:L46,AN12)","v":0},{"$f":"AO12/(AQ4-AO8)","v":0},{"$f":"IF(AP12=0,0,(AP12*((LOG(AP12))/LOG(2))))","v":0},null,{"$f":"N12","v":0},{"$f":"COUNTIF(L47:L54,AS12)","v":0},{"$f":"AT12/(AV4-AT8)","v":0},{"$f":"IF(AU12=0,0,(AU12*((LOG(AU12))/LOG(2))))","v":0}]
[11,628,21,637,null,null,null,null,null,null,0,12,null,null,null,null,null,null,null,{"$f":"N13","v":0},{"$f":"COUNTIF(L7:L14,T13)","v":0},{"$f":"U13/(W4-U8)","v":0},{"$f":"IF(V13=0,0,(V13*((LOG(V13))/LOG(2))))","v":0},null,{"$f":"N13","v":0},{"$f":"COUNTIF(L15:L22,Y13)","v":0},{"$f":"Z13/(AB4-Z8)","v":0},{"$f":"IF(AA13=0,0,(AA13*((LOG(AA13))/LOG(2))))","v":0},null,{"$f":"N13","v":0},{"$f":"COUNTIF(L23:L30,AD13)","v":0},{"$f":"AE13/(AG4-AE8)","v":0},{"$f":"IF(AF13=0,0,(AF13*((LOG(AF13))/LOG(2))))","v":0},null,{"$f":"N13","v":0},{"$f":"COUNTIF(L31:L38,AI13)","v":0},{"$f":"AJ13/(AL4-AJ8)","v":0},{"$f":"IF(AK13=0,0,(AK13*((LOG(AK13))/LOG(2))))","v":0},null,{"$f":"N13","v":0},{"$f":"COUNTIF(L39:L46,AN13)","v":0},{"$f":"AO13/(AQ4-AO8)","v":0},{"$f":"IF(AP13=0,0,(AP13*((LOG(AP13))/LOG(2))))","v":0},null,{"$f":"N13","v":0},{"$f":"COUNTIF(L47:L54,AS13)","v":0},{"$f":"AT13/(AV4-AT8)","v":0},{"$f":"IF(AU13=0,0,(AU13*((LOG(AU13))/LOG(2))))","v":0}]
[11,724,21,733,null,null,null,null,null,null,0,12,null,null,null,null,null,null,null,{"$f":"N14","v":0},{"$f":"COUNTIF(L7:L14,T14)","v":0},{"$f":"U14/(W4-U8)","v":0},{"$f":"IF(V14=0,0,(V14*((LOG(V14))/LOG(2))))","v":0},null,{"$f":"N14","v":0},{"$f":"COUNTIF(L15:L22,Y14)","v":0},{"$f":"Z14/(AB4-Z8)","v":0},{"$f":"IF(AA14=0,0,(AA14*((LOG(AA14))/LOG(2))))","v":0},null,{"$f":"N14","v":0},{"$f":"COUNTIF(L23:L30,AD14)","v":0},{"$f":"AE14/(AG4-AE8)","v":0},{"$f":"IF(AF14=0,0,(AF14*((LOG(AF14))/LOG(2))))","v":0},null,{"$f":"N14","v":0},{"$f":"COUNTIF(L31:L38,AI14)","v":0},{"$f":"AJ14/(AL4-AJ8)","v":0},{"$f":"IF(AK14=0,0,(AK14*((LOG(AK14))/LOG(2))))","v":0},null,{"$f":"N14","v":0},{"$f":"COUNTIF(L39:L46,AN14)","v":0},{"$f":"AO14/(AQ4-AO8)","v":0},{"$f":"IF(AP14=0,0,(AP14*((LOG(AP14))/LOG(2))))","v":0},null,{"$f":"N14","v":0},{"$f":"COUNTIF(L47:L54,AS14)","v":0},{"$f":"AT14/(AV4-AT8)","v":0},{"$f":"IF(AU14=0,0,(AU14*((LOG(AU14))/LOG(2))))","v":0}]
[11,818,21,827,null,null,null,null,null,null,0,12,null,null,null,{"$f":"SUM(P7:P14)","v":1},{"$f":"-SUM(Q7:Q14)","v":0.94964553171640698},null,null,null,null,{"$f":"SUM(V7:V14)","v":1},{"$f":"-SUM(W7:W14)","v":0},null,null,null,{"$f":"SUM(AA7:AA14)","v":1},{"$f":"-SUM(AB7:AB14)","v":0},null,null,null,{"$f":"SUM(AF7:AF14)","v":1},{"$f":"-SUM(AG7:AG14)","v":1},null,null,null,{"$f":"SUM(AK7:AK14)","v":1},{"$f":"-SUM(AL7:AL14)","v":0},null,null,null,{"$f":"SUM(AP7:AP14)","v":1},{"$f":"-SUM(AQ7:AQ14)","v":0},null,null,null,{"$f":"SUM(AU7:AU14)","v":1},{"$f":"-SUM(AV7:AV14)","v":0.91829583405448945}]
[11,913,21,921,null,null,null,null,null,null,0,12,null,null,null,"U=",{"$f":"Q15/(LOG(Q4)/LOG(2))","v":0.170036151826227},null,null,null,null,"U1=",{"$f":"W15/(LOG(W4)/LOG(2))","v":0},null,null,null,"U2=",{"$f":"AB15/(LOG(AB4)/LOG(2))","v":0},null,null,null,"U3=",{"$f":"AG15/(LOG(AG4)/LOG(2))","v":0.33333333333333331},null,null,null,"U4=",{"$f":"AL15/(LOG(AL4)/LOG(2))","v":0},null,null,null,"U5=",{"$f":"AQ15/(LOG(AQ4)/LOG(2))","v":0},null,null,null,"U6=",{"$f":"AV15/(LOG(AV4)/LOG(2))","v":0.30609861135149646}]
[11,1007,21,1025,null,null,null,null,null,null,0,12]
[11,1112,21,1120,null,null,null,null,null,null,0,12]
[11,1215,21,1224,null,null,null,null,null,null,0,12,null,"Total Target Seq"]
[11,1315,21,1327,null,null,null,null,null,null,0,12,null,{"$f":"COUNTIF(L7:L54,G3)","v":39},null,8,8,8,8,8,8]
[22,1426,23,1439,null,null,null,null,null,null,0,22,null,null,null,"% of reinforcement given in 6 equal intervals based on number of trials "]
[11,1534,21,1543,null,null,null,null,null,null,0,12,null,null,null,"%_1","%_2","%_3","%_4","%_5","%_6"]
[11,1628,21,1637,null,null,null,null,null,null,0,12,null,null,"target sequence",{"$f":"$G$3","v":12},{"$f":"$G$3","v":12},{"$f":"$G$3","v":12},{"$f":"$G$3","v":12},{"$f":"$G$3","v":12},{"$f":"$G$3","v":12}]
[11,1730,21,1739,null,null,null,null,null,null,0,12,null,null,"total reinforcement",{"$f":"U8","v":7},{"$f":"Z8","v":7},{"$f":"AE8","v":6},{"$f":"AJ8","v":7},{"$f":"AO8","v":7},{"$f":"AT8","v":5}]
[11,1821,12,1826,null,null,null,null,null,null,0,11,null,null,"% target"]
[11,1923,21,1961,null,null,null,null,null,null,0,12,null,null,"CCRF"]
[11,2053,21,2062,null,null,null,null,null,null,0,12,null,null,"% CCRf"]
[11,2146,21,2156,null,null,null,null,null,null,0,12,null,null,"average response rate",{"$f":"D14/P20","v":91.625},{"$f":"(D22-D14)/Q20","v":101.25},{"$f":"(D30-D22)/R20","v":105.125},{"$f":"(D38-D30)/S20","v":109.5},{"$f":"(D46-D38)/T20","v":110.875},{"$f":"(D54-D46)/U20","v":112.375}]
[22,2258,23,2271,null,null,null,null,null,null,0,22]
[11,2374,21,2384,null,null,null,null,null,null,0,12]
[11,2468,21,2479,null,null,null,null,null,null,0,12]
[11,2569,21,2579,null,null,null,null,null,null,0,12]
[11,2664,21,2673,null,null,null,null,null,null,0,12]
[11,2773,21,2791,null,null,null,null,null,null,0,12]
[11,2890,21,2900,null,null,null,null,null,null,0,12]
[22,3025,23,3055,null,null,null,null,null,null,0,22]
[11,3153,21,3162,null,null,null,null,null,null,0,12]
[11,3251,21,3260,null,null,null,null,null,null,0,12]
[11,3354,21,3378,null,null,null,null,null,null,0,12]
[11,3473,21,3488,null,null,null,null,null,null,0,12]
[11,3585,21,3595,null,null,null,null,null,null,0,12]
[11,3685,21,3702,null,null,null,null,null,null,0,12]
[11,3788,21,3806,null,null,null,null,null,null,0,12]
[22,3910,23,3923,null,null,null,null,null,null,0,22]
[11,4021,21,4039,null,null,null,null,null,null,0,12]
[11,4135,21,4147,null,null,null,null,null,null,0,12]
[11,4251,21,4284,null,null,null,null,null,null,0,12]
[11,4369,12,4374,null,null,null,null,null,null,0,11]
[11,4466,12,4472,null,null,null,null,null,null,0,11]
[22,4582,23,4594,null,null,null,null,null,null,0,22]
[11,4694,21,4704,null,null,null,null,null,null,0,12]
[11,4799,21,4836,null,null,null,null,null,null,0,12]
[11,4930,21,4940,null,null,null,null,null,null,0,12]
[11,5029,21,5046,null,null,null,null,null,null,1,12]

{"sheet":"!LC03E10.056","index":25,"n_rows":48,"n_cols":48,"rows_kept":48,"cut":false,"hidden":false,"merged":[[4,39,4,42],[5,39,5,40],[4,44,4,47],[5,44,5,45],[4,24,4,27],[5,24,5,25],[4,29,4,32],[5,29,5,30],[4,34,4,37],[5,34,5,35],[1,1,1,2],[5,13,5,14],[18,13,18,14],[19,13,19,14],[4,19,4,22],[5,19,5,20]]}
["Report for:!LC03E10.056"]
["Date:","<date>"]
["Hen:","<hen>",null,null,null,"Correct Sequence",{"$f":"Start!J2","v":12},null,null,null,null,null,null,null,null,"Total Sequences in Data",{"$f":"4994-COUNTBLANK(L7:L5000)","v":42},null,null,null,null,"Total Sequences in Block Data",{"$f":"COUNTA(L7:L13)","v":7},null,null,null,"Total Sequences in Block Data",{"$f":"COUNTA(L14:L20)","v":7},null,null,null,"Total Sequences in Block Data",{"$f":"COUNTA(L21:L27)","v":7},null,null,null,"Total Sequences in Block Data",{"$f":"COUNTA(L28:L34)","v":7},null,null,null,"Total Sequences in Block Data",{"$f":"COUNTA(L35:L41)","v":7},null,null,null,"Total Sequences in Block Data",{"$f":"COUNTA(L42:L48)","v":7}]
[null,null,null,null,null,null,null,null,null,null,null,null,null,null,null,"Total Sequences in Summary",{"$f":"SUM(O7:O14)","v":42},null,null,null,null,"Total Sequences in Block Summary",{"$f":"SUM(U7:U14)","v":7},null,null,null,"Total Sequences in Block Summary",{"$f":"SUM(Z7:Z14)","v":7},null,null,null,"Total Sequences in Block Summary",{"$f":"SUM(AE7:AE14)","v":7},null,null,null,"Total Sequences in Block Summary",{"$f":"SUM(AJ7:AJ14)","v":7},null,null,null,"Total Sequences in Block Summary",{"$f":"SUM(AO7:AO14)","v":7},null,null,null,"Total Sequences in Block Summary",{"$f":"SUM(AT7:AT14)","v":7}]
[null,null,null,null,null,null,null,null,null,null,null,null,null,null,null,null,null,null,null,"Block 1",null,null,null,null,"Block 2",null,null,null,null,"Block 3",null,null,null,null,"Block 4",null,null,null,null,"Block 5",null,null,null,null,"Block 6"]
["Sequence\nComponent\n1","Time\n1","Sequence\nComponent\n2","Time\n2","Sequence\nComponent\n3","Time\n3","Sequence\nComponent\n4","Time\n4","Sequence\nComponent\n5","Time\n5","Correct?\n0=No 1=Yes","Sequence",null,"Frequency",null,"Relative Frequency","Variability",null,null,"Frequency",null,"Relative Frequency","Variability",null,"Frequency",null,"Relative Frequency","Variability",null,"Frequency",null,"Relative Frequency","Variability",null,"Frequency",null,"Relative Frequency","Variability",null,"Frequency",null,"Relative Frequency","Variability",null,"Frequency",null,"Relative Frequency","Variability"]
[11,7,21,16,null,null,null,null,null,null,0,12,null,11,{"$f":"COUNTIF($L$7:$L$500,N7)","v":0},{"$f":"O7/$Q$4","v":0},{"$f":"IF(P7=0,0,(P7*((LOG(P7))/LOG(2))))","v":0},null,null,{"$f":"N7","v":11},{"$f":"COUNTIF(L7:L13,T7)","v":0},{"$f":"U7/(W4-U8)","v":0},{"$f":"IF(V7=0,0,(V7*((LOG(V7))/LOG(2))))","v":0},null,{"$f":"N7","v":11},{"$f":"COUNTIF(L14:L20,Y7)","v":0},{"$f":"Z7/(AB4-Z8)","v":0},{"$f":"IF(AA7=0,0,(AA7*((LOG(AA7))/LOG(2))))","v":0},null,{"$f":"N7","v":11},{"$f":"COUNTIF(L21:L27,AD7)","v":0},{"$f":"AE7/(AG4-AE8)","v":0},{"$f":"IF(AF7=0,0,(AF7*((LOG(AF7))/LOG(2))))","v":0},null,{"$f":"N7","v":11},{"$f":"COUNTIF(L28:L34,AI7)","v":0},{"$f":"AJ7/(AL4-AJ8)","v":{"$error":"#DIV/0!"}},{"$f":"IF(AK7=0,0,(AK7*((LOG(AK7))/LOG(2))))","v":{"$error":"#DIV/0!"}},null,{"$f":"N7","v":11},{"$f":"COUNTIF(L35:L41,AN7)","v":0},{"$f":"AO7/(AQ4-AO8)","v":{"$error":"#DIV/0!"}},{"$f":"IF(AP7=0,0,(AP7*((LOG(AP7))/LOG(2))))","v":{"$error":"#DIV/0!"}},null,{"$f":"N7","v":11},{"$f":"COUNTIF(L42:L48,AS7)","v":0},{"$f":"AT7/(AV4-AT8)","v":{"$error":"#DIV/0!"}},{"$f":"IF(AU7=0,0,(AU7*((LOG(AU7))/LOG(2))))","v":{"$error":"#DIV/0!"}}]
[22,117,23,134,null,null,null,null,null,null,0,22,null,12,{"$f":"COUNTIF($L$7:$L$500,N8)","v":39},{"$f":"O8/$Q$4","v":0.9285714285714286},{"$f":"IF(P8=0,0,(P8*((LOG(P8))/LOG(2))))","v":-9.9278403636761048E-2},null,null,{"$f":"N8","v":12},{"$f":"COUNTIF(L7:L13,T8)","v":6},null,null,null,{"$f":"N8","v":12},{"$f":"COUNTIF(L14:L20,Y8)","v":6},null,null,null,{"$f":"N8","v":12},{"$f":"COUNTIF(L21:L27,AD8)","v":6},null,null,null,{"$f":"N8","v":12},{"$f":"COUNTIF(L28:L34,AI8)","v":7},null,null,null,{"$f":"N8","v":12},{"$f":"COUNTIF(L35:L41,AN8)","v":7},null,null,null,{"$f":"N8","v":12},{"$f":"COUNTIF(L42:L48,AS8)","v":7}]
[11,230,21,249,null,null,null,null,null,null,0,12,null,21,{"$f":"COUNTIF($L$7:$L$500,N9)","v":0},{"$f":"O9/$Q$4","v":0},{"$f":"IF(P9=0,0,(P9*((LOG(P9))/LOG(2))))","v":0},null,null,{"$f":"N9","v":21},{"$f":"COUNTIF(L7:L13,T9)","v":0},{"$f":"U9/(W4-U8)","v":0},{"$f":"IF(V9=0,0,(V9*((LOG(V9))/LOG(2))))","v":0},null,{"$f":"N9","v":21},{"$f":"COUNTIF(L14:L20,Y9)","v":0},{"$f":"Z9/(AB4-Z8)","v":0},{"$f":"IF(AA9=0,0,(AA9*((LOG(AA9))/LOG(2))))","v":0},null,{"$f":"N9","v":21},{"$f":"COUNTIF(L21:L27,AD9)","v":0},{"$f":"AE9/(AG4-AE8)","v":0},{"$f":"IF(AF9=0,0,(AF9*((LOG(AF9))/LOG(2))))","v":0},null,{"$f":"N9","v":21},{"$f":"COUNTIF(L28:L34,AI9)","v":0},{"$f":"AJ9/(AL4-AJ8)","v":{"$error":"#DIV/0!"}},{"$f":"IF(AK9=0,0,(AK9*((LOG(AK9))/LOG(2))))","v":{"$error":"#DIV/0!"}},null,{"$f":"N9","v":21},{"$f":"COUNTIF(L35:L41,AN9)","v":0},{"$f":"AO9/(AQ4-AO8)","v":{"$error":"#DIV/0!"}},{"$f":"IF(AP9=0,0,(AP9*((LOG(AP9))/LOG(2))))","v":{"$error":"#DIV/0!"}},null,{"$f":"N9","v":21},{"$f":"COUNTIF(L42:L48,AS9)","v":0},{"$f":"AT9/(AV4-AT8)","v":{"$error":"#DIV/0!"}},{"$f":"IF(AU9=0,0,(AU9*((LOG(AU9))/LOG(2))))","v":{"$error":"#DIV/0!"}}]
[11,337,21,346,null,null,null,null,null,null,0,12,null,22,{"$f":"COUNTIF($L$7:$L$500,N10)","v":3},{"$f":"O10/$Q$4","v":7.1428571428571425E-2},{"$f":"IF(P10=0,0,(P10*((LOG(P10))/LOG(2))))","v":-0.27195392300411453},null,null,{"$f":"N10","v":22},{"$f":"COUNTIF(L7:L13,T10)","v":1},{"$f":"U10/(W4-U8)","v":1},{"$f":"IF(V10=0,0,(V10*((LOG(V10))/LOG(2))))","v":0},null,{"$f":"N10","v":22},{"$f":"COUNTIF(L14:L20,Y10)","v":1},{"$f":"Z10/(AB4-Z8)","v":1},{"$f":"IF(AA10=0,0,(AA10*((LOG(AA10))/LOG(2))))","v":0},null,{"$f":"N10","v":22},{"$f":"COUNTIF(L21:L27,AD10)","v":1},{"$f":"AE10/(AG4-AE8)","v":1},{"$f":"IF(AF10=0,0,(AF10*((LOG(AF10))/LOG(2))))","v":0},null,{"$f":"N10","v":22},{"$f":"COUNTIF(L28:L34,AI10)","v":0},{"$f":"AJ10/(AL4-AJ8)","v":{"$error":"#DIV/0!"}},{"$f":"IF(AK10=0,0,(AK10*((LOG(AK10))/LOG(2))))","v":{"$error":"#DIV/0!"}},null,{"$f":"N10","v":22},{"$f":"COUNTIF(L35:L41,AN10)","v":0},{"$f":"AO10/(AQ4-AO8)","v":{"$error":"#DIV/0!"}},{"$f":"IF(AP10=0,0,(AP10*((LOG(AP10))/LOG(2))))","v":{"$error":"#DIV/0!"}},null,{"$f":"N10","v":22},{"$f":"COUNTIF(L42:L48,AS10)","v":0},{"$f":"AT10/(AV4-AT8)","v":{"$error":"#DIV/0!"}},{"$f":"IF(AU10=0,0,(AU10*((LOG(AU10))/LOG(2))))","v":{"$error":"#DIV/0!"}}]
[11,432,21,442,null,null,null,null,null,null,0,12,null,null,null,null,null,null,null,{"$f":"N11","v":0},{"$f":"COUNTIF(L7:L13,T11)","v":0},{"$f":"U11/(W4-U8)","v":0},{"$f":"IF(V11=0,0,(V11*((LOG(V11))/LOG(2))))","v":0},null,{"$f":"N11","v":0},{"$f":"COUNTIF(L14:L20,Y11)","v":0},{"$f":"Z11/(AB4-Z8)","v":0},{"$f":"IF(AA11=0,0,(AA11*((LOG(AA11))/LOG(2))))","v":0},null,{"$f":"N11","v":0},{"$f":"COUNTIF(L21:L27,AD11)","v":0},{"$f":"AE11/(AG4-AE8)","v":0},{"$f":"IF(AF11=0,0,(AF11*((LOG(AF11))/LOG(2))))","v":0},null,{"$f":"N11","v":0},{"$f":"COUNTIF(L28:L34,AI11)","v":0},{"$f":"AJ11/(AL4-AJ8)","v":{"$error":"#DIV/0!"}},{"$f":"IF(AK11=0,0,(AK11*((LOG(AK11))/LOG(2))))","v":{"$error":"#DIV/0!"}},null,{"$f":"N11","v":0},{"$f":"COUNTIF(L35:L41,AN11)","v":0},{"$f":"AO11/(AQ4-AO8)","v":{"$error":"#DIV/0!"}},{"$f":"IF(AP11=0,0,(AP11*((LOG(AP11))/LOG(2))))","v":{"$error":"#DIV/0!"}},null,{"$f":"N11","v":0},{"$f":"COUNTIF(L42:L48,AS11)","v":0},{"$f":"AT11/(AV4-AT8)","v":{"$error":"#DIV/0!"}},{"$f":"IF(AU11=0,0,(AU11*((LOG(AU11))/LOG(2))))","v":{"$error":"#DIV/0!"}}]
[11,527,21,537,null,null,null,null,null,null,0,12,null,null,null,null,null,null,null,{"$f":"N12","v":0},{"$f":"COUNTIF(L7:L13,T12)","v":0},{"$f":"U12/(W4-U8)","v":0},{"$f":"IF(V12=0,0,(V12*((LOG(V12))/LOG(2))))","v":0},null,{"$f":"N12","v":0},{"$f":"COUNTIF(L14:L20,Y12)","v":0},{"$f":"Z12/(AB4-Z8)","v":0},{"$f":"IF(AA12=0,0,(AA12*((LOG(AA12))/LOG(2))))","v":0},null,{"$f":"N12","v":0},{"$f":"COUNTIF(L21:L27,AD12)","v":0},{"$f":"AE12/(AG4-AE8)","v":0},{"$f":"IF(AF12=0,0,(AF12*((LOG(AF12))/LOG(2))))","v":0},null,{"$f":"N12","v":0},{"$f":"COUNTIF(L28:L34,AI12)","v":0},{"$f":"AJ12/(AL4-AJ8)","v":{"$error":"#DIV/0!"}},{"$f":"IF(AK12=0,0,(AK12*((LOG(AK12))/LOG(2))))","v":{"$error":"#DIV/0!"}},null,{"$f":"N12","v":0},{"$f":"COUNTIF(L35:L41,AN12)","v":0},{"$f":"AO12/(AQ4-AO8)","v":{"$error":"#DIV/0!"}},{"$f":"IF(AP12=0,0,(AP12*((LOG(AP12))/LOG(2))))","v":{"$error":"#DIV/0!"}},null,{"$f":"N12","v":0},{"$f":"COUNTIF(L42:L48,AS12)","v":0},{"$f":"AT12/(AV4-AT8)","v":{"$error":"#DIV/0!"}},{"$f":"IF(AU12=0,0,(AU12*((LOG(AU12))/LOG(2))))","v":{"$error":"#DIV/0!"}}]
[11,622,21,630,null,null,null,null,null,null,0,12,null,null,null,null,null,null,null,{"$f":"N13","v":0},{"$f":"COUNTIF(L7:L13,T13)","v":0},{"$f":"U13/(W4-U8)","v":0},{"$f":"IF(V13=0,0,(V13*((LOG(V13))/LOG(2))))","v":0},null,{"$f":"N13","v":0},{"$f":"COUNTIF(L14:L20,Y13)","v":0},{"$f":"Z13/(AB4-Z8)","v":0},{"$f":"IF(AA13=0,0,(AA13*((LOG(AA13))/LOG(2))))","v":0},null,{"$f":"N13","v":0},{"$f":"COUNTIF(L21:L27,AD13)","v":0},{"$f":"AE13/(AG4-AE8)","v":0},{"$f":"IF(AF13=0,0,(AF13*((LOG(AF13))/LOG(2))))","v":0},null,{"$f":"N13","v":0},{"$f":"COUNTIF(L28:L34,AI13)","v":0},{"$f":"AJ13/(AL4-AJ8)","v":{"$error":"#DIV/0!"}},{"$f":"IF(AK13=0,0,(AK13*((LOG(AK13))/LOG(2))))","v":{"$error":"#DIV/0!"}},null,{"$f":"N13","v":0},{"$f":"COUNTIF(L35:L41,AN13)","v":0},{"$f":"AO13/(AQ4-AO8)","v":{"$error":"#DIV/0!"}},{"$f":"IF(AP13=0,0,(AP13*((LOG(AP13))/LOG(2))))","v":{"$error":"#DIV/0!"}},null,{"$f":"N13","v":0},{"$f":"COUNTIF(L42:L48,AS13)","v":0},{"$f":"AT13/(AV4-AT8)","v":{"$error":"#DIV/0!"}},{"$f":"IF(AU13=0,0,(AU13*((LOG(AU13))/LOG(2))))","v":{"$error":"#DIV/0!"}}]
[11,715,21,721,null,null,null,null,null,null,0,12,null,null,null,null,null,null,null,{"$f":"N14","v":0},{"$f":"COUNTIF(L7:L13,T14)","v":0},{"$f":"U14/(W4-U8)","v":0},{"$f":"IF(V14=0,0,(V14*((LOG(V14))/LOG(2))))","v":0},null,{"$f":"N14","v":0},{"$f":"COUNTIF(L14:L20,Y14)","v":0},{"$f":"Z14/(AB4-Z8)","v":0},{"$f":"IF(AA14=0,0,(AA14*((LOG(AA14))/LOG(2))))","v":0},null,{"$f":"N14","v":0},{"$f":"COUNTIF(L21:L27,AD14)","v":0},{"$f":"AE14/(AG4-AE8)","v":0},{"$f":"IF(AF14=0,0,(AF14*((LOG(AF14))/LOG(2))))","v":0},null,{"$f":"N14","v":0},{"$f":"COUNTIF(L28:L34,AI14)","v":0},{"$f":"AJ14/(AL4-AJ8)","v":{"$error":"#DIV/0!"}},{"$f":"IF(AK14=0,0,(AK14*((LOG(AK14))/LOG(2))))","v":{"$error":"#DIV/0!"}},null,{"$f":"N14","v":0},{"$f":"COUNTIF(L35:L41,AN14)","v":0},{"$f":"AO14/(AQ4-AO8)","v":{"$error":"#DIV/0!"}},{"$f":"IF(AP14=0,0,(AP14*((LOG(AP14))/LOG(2))))","v":{"$error":"#DIV/0!"}},null,{"$f":"N14","v":0},{"$f":"COUNTIF(L42:L48,AS14)","v":0},{"$f":"AT14/(AV4-AT8)","v":{"$error":"#DIV/0!"}},{"$f":"IF(AU14=0,0,(AU14*((LOG(AU14))/LOG(2))))","v":{"$error":"#DIV/0!"}}]
[11,806,21,819,null,null,null,null,null,null,0,12,null,null,null,{"$f":"SUM(P7:P14)","v":1},{"$f":"-SUM(Q7:Q14)","v":0.37123232664087558},null,null,null,null,{"$f":"SUM(V7:V14)","v":1},{"$f":"-SUM(W7:W14)","v":0},null,null,null,{"$f":"SUM(AA7:AA14)","v":1},{"$f":"-SUM(AB7:AB14)","v":0},null,null,null,{"$f":"SUM(AF7:AF14)","v":1},{"$f":"-SUM(AG7:AG14)","v":0},null,null,null,{"$f":"SUM(AK7:AK14)","v":{"$error":"#DIV/0!"}},{"$f":"-SUM(AL7:AL14)","v":{"$error":"#DIV/0!"}},null,null,null,{"$f":"SUM(AP7:AP14)","v":{"$error":"#DIV/0!"}},{"$f":"-SUM(AQ7:AQ14)","v":{"$error":"#DIV/0!"}},null,null,null,{"$f":"SUM(AU7:AU14)","v":{"$error":"#DIV/0!"}},{"$f":"-SUM(AV7:AV14)","v":{"$error":"#DIV/0!"}}]
[22,931,23,943,null,null,null,null,null,null,0,22,null,null,null,"U=",{"$f":"Q15/(LOG(Q4)/LOG(2))","v":6.88446724357656E-2},null,null,null,null,"U1=",{"$f":"W15/(LOG(W4)/LOG(2))","v":0},null,null,null,"U2=",{"$f":"AB15/(LOG(AB4)/LOG(2))","v":0},null,null,null,"U3=",{"$f":"AG15/(LOG(AG4)/LOG(2))","v":0},null,null,null,"U4=",{"$f":"AL15/(LOG(AL4)/LOG(2))","v":{"$error":"#DIV/0!"}},null,null,null,"U5=",{"$f":"AQ15/(LOG(AQ4)/LOG(2))","v":{"$error":"#DIV/0!"}},null,null,null,"U6=",{"$f":"AV15/(LOG(AV4)/LOG(2))","v":{"$error":"#DIV/0!"}}]
[11,1030,21,1039,null,null,null,null,null,null,0,12]
[11,1132,21,1152,null,null,null,null,null,null,0,12]
[11,1244,21,1254,null,null,null,null,null,null,0,12,null,"Total Target Seq"]
[11,1340,21,1349,null,null,null,null,null,null,0,12,null,{"$f":"COUNTIF(L7:L48,G3)","v":39},null,7,7,7,7,7,7]
[11,1443,21,1452,null,null,null,null,null,null,0,12,null,null,null,"% of reinforcement given in 6 equal intervals based on number of trials "]
[11,1542,21,1553,null,null,null,null,null,null,0,12,null,null,null,"%_1","%_2","%_3","%_4","%_5","%_6"]
[11,1647,21,1657,null,null,null,null,null,null,0,12,null,null,"target sequence",{"$f":"$G$3","v":12},{"$f":"$G$3","v":12},{"$f":"$G$3","v":12},{"$f":"$G$3","v":12},{"$f":"$G$3","v":12},{"$f":"$G$3","v":12}]
[11,1747,21,1757,null,null,null,null,null,null,0,12,null,null,"total reinforcement",{"$f":"U8","v":6},{"$f":"Z8","v":6},{"$f":"AE8","v":6},{"$f":"AJ8","v":7},{"$f":"AO8","v":7},{"$f":"AT8","v":7}]
[22,1864,23,1874,null,null,null,null,null,null,0,22,null,null,"% target"]
[11,1980,21,1990,null,null,null,null,null,null,0,12,null,null,"CCRF"]
[11,2081,21,2091,null,null,null,null,null,null,0,12,null,null,"% CCRf"]
[11,2185,21,2195,null,null,null,null,null,null,0,12,null,null,"average response rate",{"$f":"D13/P20","v":90},{"$f":"(D20-D13)/Q20","v":102.71428571428571},{"$f":"(D27-D20)/R20","v":106},{"$f":"(D34-D27)/S20","v":105.57142857142857},{"$f":"(D41-D34)/T20","v":97},{"$f":"(D48-D41)/U20","v":108}]
[11,2289,21,2304,null,null,null,null,null,null,0,12]
[11,2402,21,2413,null,null,null,null,null,null,0,12]
[11,2509,21,2519,null,null,null,null,null,null,0,12]
[11,2615,21,2625,null,null,null,null,null,null,0,12]
[11,2718,21,2728,null,null,null,null,null,null,0,12]
[11,2820,21,2830,null,null,null,null,null,null,0,12]
[11,2915,21,2925,null,null,null,null,null,null,0,12]
[11,3012,21,3021,null,null,null,null,null,null,0,12]
[11,3109,21,3118,null,null,null,null,null,null,0,12]
[11,3211,21,3220,null,null,null,null,null,null,0,12]
[11,3307,21,3317,null,null,null,null,null,null,0,12]
[11,3405,21,3414,null,null,null,null,null,null,0,12]
[11,3500,21,3509,null,null,null,null,null,null,0,12]
[11,3601,21,3611,null,null,null,null,null,null,0,12]
[11,3695,21,3704,null,null,null,null,null,null,0,12]
[11,3797,21,3828,null,null,null,null,null,null,0,12]
[11,3925,21,3949,null,null,null,null,null,null,0,12]
[11,4046,21,4055,null,null,null,null,null,null,0,12]
[11,4151,21,4160,null,null,null,null,null,null,0,12]
[11,4256,21,4265,null,null,null,null,null,null,1,12]

{"sheet":"!LC04D40.056","index":26,"n_rows":52,"n_cols":48,"rows_kept":52,"cut":false,"hidden":false,"merged":[[4,39,4,42],[5,39,5,40],[4,44,4,47],[5,44,5,45],[4,24,4,27],[5,24,5,25],[4,29,4,32],[5,29,5,30],[4,34,4,37],[5,34,5,35],[1,1,1,2],[5,13,5,14],[18,13,18,14],[19,13,19,14],[4,19,4,22],[5,19,5,20]]}
["Report for:!LC04D40.056"]
["Date:","<date>"]
["Hen:","<hen>",null,null,null,"Correct Sequence",{"$f":"Start!J2","v":12},null,null,null,null,null,null,null,null,"Total Sequences in Data",{"$f":"4994-COUNTBLANK(L7:L5000)","v":46},null,null,null,null,"Total Sequences in Block Data",{"$f":"COUNTA(L7:L14)","v":8},null,null,null,"Total Sequences in Block Data",{"$f":"COUNTA(L15:L21)","v":7},null,null,null,"Total Sequences in Block Data",{"$f":"COUNTA(L22:L29)","v":8},null,null,null,"Total Sequences in Block Data",{"$f":"COUNTA(L30:L37)","v":8},null,null,null,"Total Sequences in Block Data",{"$f":"COUNTA(L38:L44)","v":7},null,null,null,"Total Sequences in Block Data",{"$f":"COUNTA(L45:L52)","v":8}]
[null,null,null,null,null,null,null,null,null,null,null,null,null,null,null,"Total Sequences in Summary",{"$f":"SUM(O7:O14)","v":46},null,null,null,null,"Total Sequences in Block Summary",{"$f":"SUM(U7:U14)","v":8},null,null,null,"Total Sequences in Block Summary",{"$f":"SUM(Z7:Z14)","v":7},null,null,null,"Total Sequences in Block Summary",{"$f":"SUM(AE7:AE14)","v":8},null,null,null,"Total Sequences in Block Summary",{"$f":"SUM(AJ7:AJ14)","v":8},null,null,null,"Total Sequences in Block Summary",{"$f":"SUM(AO7:AO14)","v":7},null,null,null,"Total Sequences in Block Summary",{"$f":"SUM(AT7:AT14)","v":8}]
[null,null,null,null,null,null,null,null,null,null,null,null,null,null,null,null,null,null,null,"Block 1",null,null,null,null,"Block 2",null,null,null,null,"Block 3",null,null,null,null,"Block 4",null,null,null,null,"Block 5",null,null,null,null,"Block 6"]
["Sequence\nComponent\n1","Time\n1","Sequence\nComponent\n2","Time\n2","Sequence\nComponent\n3","Time\n3","Sequence\nComponent\n4","Time\n4","Sequence\nComponent\n5","Time\n5","Correct?\n0=No 1=Yes","Sequence",null,"Frequency",null,"Relative Frequency","Variability",null,null,"Frequency",null,"Relative Frequency","Variability",null,"Frequency",null,"Relative Frequency","Variability",null,"Frequency",null,"Relative Frequency","Variability",null,"Frequency",null,"Relative Frequency","Variability",null,"Frequency",null,"Relative Frequency","Variability",null,"Frequency",null,"Relative Frequency","Variability"]
[22,12,14,26,null,null,null,null,null,null,0,21,null,11,{"$f":"COUNTIF($L$7:$L$500,N7)","v":0},{"$f":"O7/$Q$4","v":0},{"$f":"IF(P7=0,0,(P7*((LOG(P7))/LOG(2))))","v":0},null,null,{"$f":"N7","v":11},{"$f":"COUNTIF(L7:L14,T7)","v":0},{"$f":"U7/(W4-U8)","v":0},{"$f":"IF(V7=0,0,(V7*((LOG(V7))/LOG(2))))","v":0},null,{"$f":"N7","v":11},{"$f":"COUNTIF(L15:L21,Y7)","v":0},{"$f":"Z7/(AB4-Z8)","v":0},{"$f":"IF(AA7=0,0,(AA7*((LOG(AA7))/LOG(2))))","v":0},null,{"$f":"N7","v":11},{"$f":"COUNTIF(L22:L29,AD7)","v":0},{"$f":"AE7/(AG4-AE8)","v":{"$error":"#DIV/0!"}},{"$f":"IF(AF7=0,0,(AF7*((LOG(AF7))/LOG(2))))","v":{"$error":"#DIV/0!"}},null,{"$f":"N7","v":11},{"$f":"COUNTIF(L30:L37,AI7)","v":0},{"$f":"AJ7/(AL4-AJ8)","v":0},{"$f":"IF(AK7=0,0,(AK7*((LOG(AK7))/LOG(2))))","v":0},null,{"$f":"N7","v":11},{"$f":"COUNTIF(L38:L44,AN7)","v":0},{"$f":"AO7/(AQ4-AO8)","v":{"$error":"#DIV/0!"}},{"$f":"IF(AP7=0,0,(AP7*((LOG(AP7))/LOG(2))))","v":{"$error":"#DIV/0!"}},null,{"$f":"N7","v":11},{"$f":"COUNTIF(L45:L52,AS7)","v":0},{"$f":"AT7/(AV4-AT8)","v":{"$error":"#DIV/0!"}},{"$f":"IF(AU7=0,0,(AU7*((LOG(AU7))/LOG(2))))","v":{"$error":"#DIV/0!"}}]
[22,148,23,162,null,null,null,null,null,null,0,22,null,12,{"$f":"COUNTIF($L$7:$L$500,N8)","v":39},{"$f":"O8/$Q$4","v":0.84782608695652173},{"$f":"IF(P8=0,0,(P8*((LOG(P8))/LOG(2))))","v":-0.2019180380564308},null,null,{"$f":"N8","v":12},{"$f":"COUNTIF(L7:L14,T8)","v":4},null,null,null,{"$f":"N8","v":12},{"$f":"COUNTIF(L15:L21,Y8)","v":5},null,null,null,{"$f":"N8","v":12},{"$f":"COUNTIF(L22:L29,AD8)","v":8},null,null,null,{"$f":"N8","v":12},{"$f":"COUNTIF(L30:L37,AI8)","v":7},null,null,null,{"$f":"N8","v":12},{"$f":"COUNTIF(L38:L44,AN8)","v":7},null,null,null,{"$f":"N8","v":12},{"$f":"COUNTIF(L45:L52,AS8)","v":8}]
[11,257,21,267,null,null,null,null,null,null,0,12,null,21,{"$f":"COUNTIF($L$7:$L$500,N9)","v":1},{"$f":"O9/$Q$4","v":2.1739130434782608E-2},{"$f":"IF(P9=0,0,(P9*((LOG(P9))/LOG(2))))","v":-0.12007743382732637},null,null,{"$f":"N9","v":21},{"$f":"COUNTIF(L7:L14,T9)","v":1},{"$f":"U9/(W4-U8)","v":0.25},{"$f":"IF(V9=0,0,(V9*((LOG(V9))/LOG(2))))","v":-0.5},null,{"$f":"N9","v":21},{"$f":"COUNTIF(L15:L21,Y9)","v":0},{"$f":"Z9/(AB4-Z8)","v":0},{"$f":"IF(AA9=0,0,(AA9*((LOG(AA9))/LOG(2))))","v":0},null,{"$f":"N9","v":21},{"$f":"COUNTIF(L22:L29,AD9)","v":0},{"$f":"AE9/(AG4-AE8)","v":{"$error":"#DIV/0!"}},{"$f":"IF(AF9=0,0,(AF9*((LOG(AF9))/LOG(2))))","v":{"$error":"#DIV/0!"}},null,{"$f":"N9","v":21},{"$f":"COUNTIF(L30:L37,AI9)","v":0},{"$f":"AJ9/(AL4-AJ8)","v":0},{"$f":"IF(AK9=0,0,(AK9*((LOG(AK9))/LOG(2))))","v":0},null,{"$f":"N9","v":21},{"$f":"COUNTIF(L38:L44,AN9)","v":0},{"$f":"AO9/(AQ4-AO8)","v":{"$error":"#DIV/0!"}},{"$f":"IF(AP9=0,0,(AP9*((LOG(AP9))/LOG(2))))","v":{"$error":"#DIV/0!"}},null,{"$f":"N9","v":21},{"$f":"COUNTIF(L45:L52,AS9)","v":0},{"$f":"AT9/(AV4-AT8)","v":{"$error":"#DIV/0!"}},{"$f":"IF(AU9=0,0,(AU9*((LOG(AU9))/LOG(2))))","v":{"$error":"#DIV/0!"}}]
[22,381,23,415,null,null,null,null,null,null,0,22,null,22,{"$f":"COUNTIF($L$7:$L$500,N10)","v":6},{"$f":"O10/$Q$4","v":0.13043478260869565},{"$f":"IF(P10=0,0,(P10*((LOG(P10))/LOG(2))))","v":-0.3832955811307639},null,null,{"$f":"N10","v":22},{"$f":"COUNTIF(L7:L14,T10)","v":3},{"$f":"U10/(W4-U8)","v":0.75},{"$f":"IF(V10=0,0,(V10*((LOG(V10))/LOG(2))))","v":-0.31127812445913283},null,{"$f":"N10","v":22},{"$f":"COUNTIF(L15:L21,Y10)","v":2},{"$f":"Z10/(AB4-Z8)","v":1},{"$f":"IF(AA10=0,0,(AA10*((LOG(AA10))/LOG(2))))","v":0},null,{"$f":"N10","v":22},{"$f":"COUNTIF(L22:L29,AD10)","v":0},{"$f":"AE10/(AG4-AE8)","v":{"$error":"#DIV/0!"}},{"$f":"IF(AF10=0,0,(AF10*((LOG(AF10))/LOG(2))))","v":{"$error":"#DIV/0!"}},null,{"$f":"N10","v":22},{"$f":"COUNTIF(L30:L37,AI10)","v":1},{"$f":"AJ10/(AL4-AJ8)","v":1},{"$f":"IF(AK10=0,0,(AK10*((LOG(AK10))/LOG(2))))","v":0},null,{"$f":"N10","v":22},{"$f":"COUNTIF(L38:L44,AN10)","v":0},{"$f":"AO10/(AQ4-AO8)","v":{"$error":"#DIV/0!"}},{"$f":"IF(AP10=0,0,(AP10*((LOG(AP10))/LOG(2))))","v":{"$error":"#DIV/0!"}},null,{"$f":"N10","v":22},{"$f":"COUNTIF(L45:L52,AS10)","v":0},{"$f":"AT10/(AV4-AT8)","v":{"$error":"#DIV/0!"}},{"$f":"IF(AU10=0,0,(AU10*((LOG(AU10))/LOG(2))))","v":{"$error":"#DIV/0!"}}]
[11,510,21,519,null,null,null,null,null,null,0,12,null,null,null,null,null,null,null,{"$f":"N11","v":0},{"$f":"COUNTIF(L7:L14,T11)","v":0},{"$f":"U11/(W4-U8)","v":0},{"$f":"IF(V11=0,0,(V11*((LOG(V11))/LOG(2))))","v":0},null,{"$f":"N11","v":0},{"$f":"COUNTIF(L15:L21,Y11)","v":0},{"$f":"Z11/(AB4-Z8)","v":0},{"$f":"IF(AA11=0,0,(AA11*((LOG(AA11))/LOG(2))))","v":0},null,{"$f":"N11","v":0},{"$f":"COUNTIF(L22:L29,AD11)","v":0},{"$f":"AE11/(AG4-AE8)","v":{"$error":"#DIV/0!"}},{"$f":"IF(AF11=0,0,(AF11*((LOG(AF11))/LOG(2))))","v":{"$error":"#DIV/0!"}},null,{"$f":"N11","v":0},{"$f":"COUNTIF(L30:L37,AI11)","v":0},{"$f":"AJ11/(AL4-AJ8)","v":0},{"$f":"IF(AK11=0,0,(AK11*((LOG(AK11))/LOG(2))))","v":0},null,{"$f":"N11","v":0},{"$f":"COUNTIF(L38:L44,AN11)","v":0},{"$f":"AO11/(AQ4-AO8)","v":{"$error":"#DIV/0!"}},{"$f":"IF(AP11=0,0,(AP11*((LOG(AP11))/LOG(2))))","v":{"$error":"#DIV/0!"}},null,{"$f":"N11","v":0},{"$f":"COUNTIF(L45:L52,AS11)","v":0},{"$f":"AT11/(AV4-AT8)","v":{"$error":"#DIV/0!"}},{"$f":"IF(AU11=0,0,(AU11*((LOG(AU11))/LOG(2))))","v":{"$error":"#DIV/0!"}}]
[11,614,21,624,null,null,null,null,null,null,0,12,null,null,null,null,null,null,null,{"$f":"N12","v":0},{"$f":"COUNTIF(L7:L14,T12)","v":0},{"$f":"U12/(W4-U8)","v":0},{"$f":"IF(V12=0,0,(V12*((LOG(V12))/LOG(2))))","v":0},null,{"$f":"N12","v":0},{"$f":"COUNTIF(L15:L21,Y12)","v":0},{"$f":"Z12/(AB4-Z8)","v":0},{"$f":"IF(AA12=0,0,(AA12*((LOG(AA12))/LOG(2))))","v":0},null,{"$f":"N12","v":0},{"$f":"COUNTIF(L22:L29,AD12)","v":0},{"$f":"AE12/(AG4-AE8)","v":{"$error":"#DIV/0!"}},{"$f":"IF(AF12=0,0,(AF12*((LOG(AF12))/LOG(2))))","v":{"$error":"#DIV/0!"}},null,{"$f":"N12","v":0},{"$f":"COUNTIF(L30:L37,AI12)","v":0},{"$f":"AJ12/(AL4-AJ8)","v":0},{"$f":"IF(AK12=0,0,(AK12*((LOG(AK12))/LOG(2))))","v":0},null,{"$f":"N12","v":0},{"$f":"COUNTIF(L38:L44,AN12)","v":0},{"$f":"AO12/(AQ4-AO8)","v":{"$error":"#DIV/0!"}},{"$f":"IF(AP12=0,0,(AP12*((LOG(AP12))/LOG(2))))","v":{"$error":"#DIV/0!"}},null,{"$f":"N12","v":0},{"$f":"COUNTIF(L45:L52,AS12)","v":0},{"$f":"AT12/(AV4-AT8)","v":{"$error":"#DIV/0!"}},{"$f":"IF(AU12=0,0,(AU12*((LOG(AU12))/LOG(2))))","v":{"$error":"#DIV/0!"}}]
[11,708,21,723,null,null,null,null,null,null,0,12,null,null,null,null,null,null,null,{"$f":"N13","v":0},{"$f":"COUNTIF(L7:L14,T13)","v":0},{"$f":"U13/(W4-U8)","v":0},{"$f":"IF(V13=0,0,(V13*((LOG(V13))/LOG(2))))","v":0},null,{"$f":"N13","v":0},{"$f":"COUNTIF(L15:L21,Y13)","v":0},{"$f":"Z13/(AB4-Z8)","v":0},{"$f":"IF(AA13=0,0,(AA13*((LOG(AA13))/LOG(2))))","v":0},null,{"$f":"N13","v":0},{"$f":"COUNTIF(L22:L29,AD13)","v":0},{"$f":"AE13/(AG4-AE8)","v":{"$error":"#DIV/0!"}},{"$f":"IF(AF13=0,0,(AF13*((LOG(AF13))/LOG(2))))","v":{"$error":"#DIV/0!"}},null,{"$f":"N13","v":0},{"$f":"COUNTIF(L30:L37,AI13)","v":0},{"$f":"AJ13/(AL4-AJ8)","v":0},{"$f":"IF(AK13=0,0,(AK13*((LOG(AK13))/LOG(2))))","v":0},null,{"$f":"N13","v":0},{"$f":"COUNTIF(L38:L44,AN13)","v":0},{"$f":"AO13/(AQ4-AO8)","v":{"$error":"#DIV/0!"}},{"$f":"IF(AP13=0,0,(AP13*((LOG(AP13))/LOG(2))))","v":{"$error":"#DIV/0!"}},null,{"$f":"N13","v":0},{"$f":"COUNTIF(L45:L52,AS13)","v":0},{"$f":"AT13/(AV4-AT8)","v":{"$error":"#DIV/0!"}},{"$f":"IF(AU13=0,0,(AU13*((LOG(AU13))/LOG(2))))","v":{"$error":"#DIV/0!"}}]
[22,829,23,839,null,null,null,null,null,null,0,22,null,null,null,null,null,null,null,{"$f":"N14","v":0},{"$f":"COUNTIF(L7:L14,T14)","v":0},{"$f":"U14/(W4-U8)","v":0},{"$f":"IF(V14=0,0,(V14*((LOG(V14))/LOG(2))))","v":0},null,{"$f":"N14","v":0},{"$f":"COUNTIF(L15:L21,Y14)","v":0},{"$f":"Z14/(AB4-Z8)","v":0},{"$f":"IF(AA14=0,0,(AA14*((LOG(AA14))/LOG(2))))","v":0},null,{"$f":"N14","v":0},{"$f":"COUNTIF(L22:L29,AD14)","v":0},{"$f":"AE14/(AG4-AE8)","v":{"$error":"#DIV/0!"}},{"$f":"IF(AF14=0,0,(AF14*((LOG(AF14))/LOG(2))))","v":{"$error":"#DIV/0!"}},null,{"$f":"N14","v":0},{"$f":"COUNTIF(L30:L37,AI14)","v":0},{"$f":"AJ14/(AL4-AJ8)","v":0},{"$f":"IF(AK14=0,0,(AK14*((LOG(AK14))/LOG(2))))","v":0},null,{"$f":"N14","v":0},{"$f":"COUNTIF(L38:L44,AN14)","v":0},{"$f":"AO14/(AQ4-AO8)","v":{"$error":"#DIV/0!"}},{"$f":"IF(AP14=0,0,(AP14*((LOG(AP14))/LOG(2))))","v":{"$error":"#DIV/0!"}},null,{"$f":"N14","v":0},{"$f":"COUNTIF(L45:L52,AS14)","v":0},{"$f":"AT14/(AV4-AT8)","v":{"$error":"#DIV/0!"}},{"$f":"IF(AU14=0,0,(AU14*((LOG(AU14))/LOG(2))))","v":{"$error":"#DIV/0!"}}]
[22,941,23,951,null,null,null,null,null,null,0,22,null,null,null,{"$f":"SUM(P7:P14)","v":1},{"$f":"-SUM(Q7:Q14)","v":0.70529105301452111},null,null,null,null,{"$f":"SUM(V7:V14)","v":1},{"$f":"-SUM(W7:W14)","v":0.81127812445913283},null,null,null,{"$f":"SUM(AA7:AA14)","v":1},{"$f":"-SUM(AB7:AB14)","v":0},null,null,null,{"$f":"SUM(AF7:AF14)","v":{"$error":"#DIV/0!"}},{"$f":"-SUM(AG7:AG14)","v":{"$error":"#DIV/0!"}},null,null,null,{"$f":"SUM(AK7:AK14)","v":1},{"$f":"-SUM(AL7:AL14)","v":0},null,null,null,{"$f":"SUM(AP7:AP14)","v":{"$error":"#DIV/0!"}},{"$f":"-SUM(AQ7:AQ14)","v":{"$error":"#DIV/0!"}},null,null,null,{"$f":"SUM(AU7:AU14)","v":{"$error":"#DIV/0!"}},{"$f":"-SUM(AV7:AV14)","v":{"$error":"#DIV/0!"}}]
[11,1046,21,1055,null,null,null,null,null,null,0,12,null,null,null,"U=",{"$f":"Q15/(LOG(Q4)/LOG(2))","v":0.12768772372347792},null,null,null,null,"U1=",{"$f":"W15/(LOG(W4)/LOG(2))","v":0.27042604148637761},null,null,null,"U2=",{"$f":"AB15/(LOG(AB4)/LOG(2))","v":0},null,null,null,"U3=",{"$f":"AG15/(LOG(AG4)/LOG(2))","v":{"$error":"#DIV/0!"}},null,null,null,"U4=",{"$f":"AL15/(LOG(AL4)/LOG(2))","v":0},null,null,null,"U5=",{"$f":"AQ15/(LOG(AQ4)/LOG(2))","v":{"$error":"#DIV/0!"}},null,null,null,"U6=",{"$f":"AV15/(LOG(AV4)/LOG(2))","v":{"$error":"#DIV/0!"}}]
[11,1143,21,1153,null,null,null,null,null,null,0,12]
[11,1239,21,1249,null,null,null,null,null,null,0,12]
[11,1344,21,1353,null,null,null,null,null,null,0,12,null,"Total Target Seq"]
[11,1451,21,1457,null,null,null,null,null,null,0,12,null,{"$f":"COUNTIF(L7:L52,G3)","v":39},null,8,7,8,8,7,8]
[22,1564,23,1593,null,null,null,null,null,null,0,22,null,null,null,"% of reinforcement given in 6 equal intervals based on number of trials "]
[11,1697,21,1707,null,null,null,null,null,null,0,12,null,null,null,"%_1","%_2","%_3","%_4","%_5","%_6"]
[11,1801,21,1811,null,null,null,null,null,null,0,12,null,null,"target sequence",{"$f":"$G$3","v":12},{"$f":"$G$3","v":12},{"$f":"$G$3","v":12},{"$f":"$G$3","v":12},{"$f":"$G$3","v":12},{"$f":"$G$3","v":12}]
[11,1900,21,1910,null,null,null,null,null,null,0,12,null,null,"total reinforcement",{"$f":"U8","v":4},{"$f":"Z8","v":5},{"$f":"AE8","v":8},{"$f":"AJ8","v":7},{"$f":"AO8","v":7},{"$f":"AT8","v":8}]
[11,2006,21,2017,null,null,null,null,null,null,0,12,null,null,"% target"]
[11,2102,21,2112,null,null,null,null,null,null,0,12,null,null,"CCRF"]
[11,2197,21,2207,null,null,null,null,null,null,0,12,null,null,"% CCRf"]
[11,2305,21,2315,null,null,null,null,null,null,0,12,null,null,"average response rate",{"$f":"D14/P20","v":104.875},{"$f":"(D21-D14)/Q20","v":107.71428571428571},{"$f":"(D29-D21)/R20","v":103.375},{"$f":"(D37-D29)/S20","v":109.625},{"$f":"(D44-D37)/T20","v":107},{"$f":"(D52-D44)/U20","v":103.5}]
[11,2410,21,2420,null,null,null,null,null,null,0,12]
[11,2516,21,2526,null,null,null,null,null,null,0,12]
[11,2621,21,2632,null,null,null,null,null,null,0,12]
[11,2728,21,2739,null,null,null,null,null,null,0,12]
[11,2826,21,2837,null,null,null,null,null,null,0,12]
[22,2945,23,2963,null,null,null,null,null,null,0,22]
[11,3068,21,3079,null,null,null,null,null,null,0,12]
[11,3177,21,3188,null,null,null,null,null,null,0,12]
[11,3286,21,3297,null,null,null,null,null,null,0,12]
[11,3393,21,3402,null,null,null,null,null,null,0,12]
[11,3490,21,3521,null,null,null,null,null,null,0,12]
[11,3622,21,3636,null,null,null,null,null,null,0,12]
[11,3732,21,3742,null,null,null,null,null,null,0,12]
[11,3836,21,3846,null,null,null,null,null,null,0,12]
[11,3936,21,3945,null,null,null,null,null,null,0,12]
[11,4036,21,4046,null,null,null,null,null,null,0,12]
[11,4134,21,4144,null,null,null,null,null,null,0,12]
[11,4231,21,4241,null,null,null,null,null,null,0,12]
[11,4337,21,4348,null,null,null,null,null,null,0,12]
[11,4436,21,4446,null,null,null,null,null,null,0,12]
[11,4541,21,4551,null,null,null,null,null,null,0,12]
[11,4646,21,4656,null,null,null,null,null,null,0,12]
[11,4743,21,4771,null,null,null,null,null,null,0,12]
[11,4860,21,4874,null,null,null,null,null,null,1,12]

{"sheet":"!LC05D40.056","index":27,"n_rows":48,"n_cols":48,"rows_kept":48,"cut":false,"hidden":false,"merged":[[4,39,4,42],[5,39,5,40],[4,44,4,47],[5,44,5,45],[4,24,4,27],[5,24,5,25],[4,29,4,32],[5,29,5,30],[4,34,4,37],[5,34,5,35],[1,1,1,2],[5,13,5,14],[18,13,18,14],[19,13,19,14],[4,19,4,22],[5,19,5,20]]}
["Report for:!LC05D40.056"]
["Date:","<date>"]
["Hen:","<hen>",null,null,null,"Correct Sequence",{"$f":"Start!J2","v":12},null,null,null,null,null,null,null,null,"Total Sequences in Data",{"$f":"4994-COUNTBLANK(L7:L5000)","v":42},null,null,null,null,"Total Sequences in Block Data",{"$f":"COUNTA(L7:L13)","v":7},null,null,null,"Total Sequences in Block Data",{"$f":"COUNTA(L14:L20)","v":7},null,null,null,"Total Sequences in Block Data",{"$f":"COUNTA(L21:L27)","v":7},null,null,null,"Total Sequences in Block Data",{"$f":"COUNTA(L28:L34)","v":7},null,null,null,"Total Sequences in Block Data",{"$f":"COUNTA(L35:L41)","v":7},null,null,null,"Total Sequences in Block Data",{"$f":"COUNTA(L42:L48)","v":7}]
[null,null,null,null,null,null,null,null,null,null,null,null,null,null,null,"Total Sequences in Summary",{"$f":"SUM(O7:O14)","v":42},null,null,null,null,"Total Sequences in Block Summary",{"$f":"SUM(U7:U14)","v":7},null,null,null,"Total Sequences in Block Summary",{"$f":"SUM(Z7:Z14)","v":7},null,null,null,"Total Sequences in Block Summary",{"$f":"SUM(AE7:AE14)","v":7},null,null,null,"Total Sequences in Block Summary",{"$f":"SUM(AJ7:AJ14)","v":7},null,null,null,"Total Sequences in Block Summary",{"$f":"SUM(AO7:AO14)","v":7},null,null,null,"Total Sequences in Block Summary",{"$f":"SUM(AT7:AT14)","v":7}]
[null,null,null,null,null,null,null,null,null,null,null,null,null,null,null,null,null,null,null,"Block 1",null,null,null,null,"Block 2",null,null,null,null,"Block 3",null,null,null,null,"Block 4",null,null,null,null,"Block 5",null,null,null,null,"Block 6"]
["Sequence\nComponent\n1","Time\n1","Sequence\nComponent\n2","Time\n2","Sequence\nComponent\n3","Time\n3","Sequence\nComponent\n4","Time\n4","Sequence\nComponent\n5","Time\n5","Correct?\n0=No 1=Yes","Sequence",null,"Frequency",null,"Relative Frequency","Variability",null,null,"Frequency",null,"Relative Frequency","Variability",null,"Frequency",null,"Relative Frequency","Variability",null,"Frequency",null,"Relative Frequency","Variability",null,"Frequency",null,"Relative Frequency","Variability",null,"Frequency",null,"Relative Frequency","Variability",null,"Frequency",null,"Relative Frequency","Variability"]
[11,12,21,18,null,null,null,null,null,null,0,12,null,11,{"$f":"COUNTIF($L$7:$L$500,N7)","v":2},{"$f":"O7/$Q$4","v":4.7619047619047616E-2},{"$f":"IF(P7=0,0,(P7*((LOG(P7))/LOG(2))))","v":-0.20915797251327431},null,null,{"$f":"N7","v":11},{"$f":"COUNTIF(L7:L13,T7)","v":1},{"$f":"U7/(W4-U8)","v":1},{"$f":"IF(V7=0,0,(V7*((LOG(V7))/LOG(2))))","v":0},null,{"$f":"N7","v":11},{"$f":"COUNTIF(L14:L20,Y7)","v":1},{"$f":"Z7/(AB4-Z8)","v":1},{"$f":"IF(AA7=0,0,(AA7*((LOG(AA7))/LOG(2))))","v":0},null,{"$f":"N7","v":11},{"$f":"COUNTIF(L21:L27,AD7)","v":0},{"$f":"AE7/(AG4-AE8)","v":{"$error":"#DIV/0!"}},{"$f":"IF(AF7=0,0,(AF7*((LOG(AF7))/LOG(2))))","v":{"$error":"#DIV/0!"}},null,{"$f":"N7","v":11},{"$f":"COUNTIF(L28:L34,AI7)","v":0},{"$f":"AJ7/(AL4-AJ8)","v":{"$error":"#DIV/0!"}},{"$f":"IF(AK7=0,0,(AK7*((LOG(AK7))/LOG(2))))","v":{"$error":"#DIV/0!"}},null,{"$f":"N7","v":11},{"$f":"COUNTIF(L35:L41,AN7)","v":0},{"$f":"AO7/(AQ4-AO8)","v":0},{"$f":"IF(AP7=0,0,(AP7*((LOG(AP7))/LOG(2))))","v":0},null,{"$f":"N7","v":11},{"$f":"COUNTIF(L42:L48,AS7)","v":0},{"$f":"AT7/(AV4-AT8)","v":{"$error":"#DIV/0!"}},{"$f":"IF(AU7=0,0,(AU7*((LOG(AU7))/LOG(2))))","v":{"$error":"#DIV/0!"}}]
[11,104,21,114,null,null,null,null,null,null,0,12,null,12,{"$f":"COUNTIF($L$7:$L$500,N8)","v":39},{"$f":"O8/$Q$4","v":0.9285714285714286},{"$f":"IF(P8=0,0,(P8*((LOG(P8))/LOG(2))))","v":-9.9278403636761048E-2},null,null,{"$f":"N8","v":12},{"$f":"COUNTIF(L7:L13,T8)","v":6},null,null,null,{"$f":"N8","v":12},{"$f":"COUNTIF(L14:L20,Y8)","v":6},null,null,null,{"$f":"N8","v":12},{"$f":"COUNTIF(L21:L27,AD8)","v":7},null,null,null,{"$f":"N8","v":12},{"$f":"COUNTIF(L28:L34,AI8)","v":7},null,null,null,{"$f":"N8","v":12},{"$f":"COUNTIF(L35:L41,AN8)","v":6},null,null,null,{"$f":"N8","v":12},{"$f":"COUNTIF(L42:L48,AS8)","v":7}]
[11,200,21,206,null,null,null,null,null,null,0,12,null,21,{"$f":"COUNTIF($L$7:$L$500,N9)","v":0},{"$f":"O9/$Q$4","v":0},{"$f":"IF(P9=0,0,(P9*((LOG(P9))/LOG(2))))","v":0},null,null,{"$f":"N9","v":21},{"$f":"COUNTIF(L7:L13,T9)","v":0},{"$f":"U9/(W4-U8)","v":0},{"$f":"IF(V9=0,0,(V9*((LOG(V9))/LOG(2))))","v":0},null,{"$f":"N9","v":21},{"$f":"COUNTIF(L14:L20,Y9)","v":0},{"$f":"Z9/(AB4-Z8)","v":0},{"$f":"IF(AA9=0,0,(AA9*((LOG(AA9))/LOG(2))))","v":0},null,{"$f":"N9","v":21},{"$f":"COUNTIF(L21:L27,AD9)","v":0},{"$f":"AE9/(AG4-AE8)","v":{"$error":"#DIV/0!"}},{"$f":"IF(AF9=0,0,(AF9*((LOG(AF9))/LOG(2))))","v":{"$error":"#DIV/0!"}},null,{"$f":"N9","v":21},{"$f":"COUNTIF(L28:L34,AI9)","v":0},{"$f":"AJ9/(AL4-AJ8)","v":{"$error":"#DIV/0!"}},{"$f":"IF(AK9=0,0,(AK9*((LOG(AK9))/LOG(2))))","v":{"$error":"#DIV/0!"}},null,{"$f":"N9","v":21},{"$f":"COUNTIF(L35:L41,AN9)","v":0},{"$f":"AO9/(AQ4-AO8)","v":0},{"$f":"IF(AP9=0,0,(AP9*((LOG(AP9))/LOG(2))))","v":0},null,{"$f":"N9","v":21},{"$f":"COUNTIF(L42:L48,AS9)","v":0},{"$f":"AT9/(AV4-AT8)","v":{"$error":"#DIV/0!"}},{"$f":"IF(AU9=0,0,(AU9*((LOG(AU9))/LOG(2))))","v":{"$error":"#DIV/0!"}}]
[11,292,21,310,null,null,null,null,null,null,0,12,null,22,{"$f":"COUNTIF($L$7:$L$500,N10)","v":1},{"$f":"O10/$Q$4","v":2.3809523809523808E-2},{"$f":"IF(P10=0,0,(P10*((LOG(P10))/LOG(2))))","v":-0.12838851006616095},null,null,{"$f":"N10","v":22},{"$f":"COUNTIF(L7:L13,T10)","v":0},{"$f":"U10/(W4-U8)","v":0},{"$f":"IF(V10=0,0,(V10*((LOG(V10))/LOG(2))))","v":0},null,{"$f":"N10","v":22},{"$f":"COUNTIF(L14:L20,Y10)","v":0},{"$f":"Z10/(AB4-Z8)","v":0},{"$f":"IF(AA10=0,0,(AA10*((LOG(AA10))/LOG(2))))","v":0},null,{"$f":"N10","v":22},{"$f":"COUNTIF(L21:L27,AD10)","v":0},{"$f":"AE10/(AG4-AE8)","v":{"$error":"#DIV/0!"}},{"$f":"IF(AF10=0,0,(AF10*((LOG(AF10))/LOG(2))))","v":{"$error":"#DIV/0!"}},null,{"$f":"N10","v":22},{"$f":"COUNTIF(L28:L34,AI10)","v":0},{"$f":"AJ10/(AL4-AJ8)","v":{"$error":"#DIV/0!"}},{"$f":"IF(AK10=0,0,(AK10*((LOG(AK10))/LOG(2))))","v":{"$error":"#DIV/0!"}},null,{"$f":"N10","v":22},{"$f":"COUNTIF(L35:L41,AN10)","v":1},{"$f":"AO10/(AQ4-AO8)","v":1},{"$f":"IF(AP10=0,0,(AP10*((LOG(AP10))/LOG(2))))","v":0},null,{"$f":"N10","v":22},{"$f":"COUNTIF(L42:L48,AS10)","v":0},{"$f":"AT10/(AV4-AT8)","v":{"$error":"#DIV/0!"}},{"$f":"IF(AU10=0,0,(AU10*((LOG(AU10))/LOG(2))))","v":{"$error":"#DIV/0!"}}]
[11,398,12,403,null,null,null,null,null,null,0,11,null,null,null,null,null,null,null,{"$f":"N11","v":0},{"$f":"COUNTIF(L7:L13,T11)","v":0},{"$f":"U11/(W4-U8)","v":0},{"$f":"IF(V11=0,0,(V11*((LOG(V11))/LOG(2))))","v":0},null,{"$f":"N11","v":0},{"$f":"COUNTIF(L14:L20,Y11)","v":0},{"$f":"Z11/(AB4-Z8)","v":0},{"$f":"IF(AA11=0,0,(AA11*((LOG(AA11))/LOG(2))))","v":0},null,{"$f":"N11","v":0},{"$f":"COUNTIF(L21:L27,AD11)","v":0},{"$f":"AE11/(AG4-AE8)","v":{"$error":"#DIV/0!"}},{"$f":"IF(AF11=0,0,(AF11*((LOG(AF11))/LOG(2))))","v":{"$error":"#DIV/0!"}},null,{"$f":"N11","v":0},{"$f":"COUNTIF(L28:L34,AI11)","v":0},{"$f":"AJ11/(AL4-AJ8)","v":{"$error":"#DIV/0!"}},{"$f":"IF(AK11=0,0,(AK11*((LOG(AK11))/LOG(2))))","v":{"$error":"#DIV/0!"}},null,{"$f":"N11","v":0},{"$f":"COUNTIF(L35:L41,AN11)","v":0},{"$f":"AO11/(AQ4-AO8)","v":0},{"$f":"IF(AP11=0,0,(AP11*((LOG(AP11))/LOG(2))))","v":0},null,{"$f":"N11","v":0},{"$f":"COUNTIF(L42:L48,AS11)","v":0},{"$f":"AT11/(AV4-AT8)","v":{"$error":"#DIV/0!"}},{"$f":"IF(AU11=0,0,(AU11*((LOG(AU11))/LOG(2))))","v":{"$error":"#DIV/0!"}}]
[11,500,21,516,null,null,null,null,null,null,0,12,null,null,null,null,null,null,null,{"$f":"N12","v":0},{"$f":"COUNTIF(L7:L13,T12)","v":0},{"$f":"U12/(W4-U8)","v":0},{"$f":"IF(V12=0,0,(V12*((LOG(V12))/LOG(2))))","v":0},null,{"$f":"N12","v":0},{"$f":"COUNTIF(L14:L20,Y12)","v":0},{"$f":"Z12/(AB4-Z8)","v":0},{"$f":"IF(AA12=0,0,(AA12*((LOG(AA12))/LOG(2))))","v":0},null,{"$f":"N12","v":0},{"$f":"COUNTIF(L21:L27,AD12)","v":0},{"$f":"AE12/(AG4-AE8)","v":{"$error":"#DIV/0!"}},{"$f":"IF(AF12=0,0,(AF12*((LOG(AF12))/LOG(2))))","v":{"$error":"#DIV/0!"}},null,{"$f":"N12","v":0},{"$f":"COUNTIF(L28:L34,AI12)","v":0},{"$f":"AJ12/(AL4-AJ8)","v":{"$error":"#DIV/0!"}},{"$f":"IF(AK12=0,0,(AK12*((LOG(AK12))/LOG(2))))","v":{"$error":"#DIV/0!"}},null,{"$f":"N12","v":0},{"$f":"COUNTIF(L35:L41,AN12)","v":0},{"$f":"AO12/(AQ4-AO8)","v":0},{"$f":"IF(AP12=0,0,(AP12*((LOG(AP12))/LOG(2))))","v":0},null,{"$f":"N12","v":0},{"$f":"COUNTIF(L42:L48,AS12)","v":0},{"$f":"AT12/(AV4-AT8)","v":{"$error":"#DIV/0!"}},{"$f":"IF(AU12=0,0,(AU12*((LOG(AU12))/LOG(2))))","v":{"$error":"#DIV/0!"}}]
[11,602,21,611,null,null,null,null,null,null,0,12,null,null,null,null,null,null,null,{"$f":"N13","v":0},{"$f":"COUNTIF(L7:L13,T13)","v":0},{"$f":"U13/(W4-U8)","v":0},{"$f":"IF(V13=0,0,(V13*((LOG(V13))/LOG(2))))","v":0},null,{"$f":"N13","v":0},{"$f":"COUNTIF(L14:L20,Y13)","v":0},{"$f":"Z13/(AB4-Z8)","v":0},{"$f":"IF(AA13=0,0,(AA13*((LOG(AA13))/LOG(2))))","v":0},null,{"$f":"N13","v":0},{"$f":"COUNTIF(L21:L27,AD13)","v":0},{"$f":"AE13/(AG4-AE8)","v":{"$error":"#DIV/0!"}},{"$f":"IF(AF13=0,0,(AF13*((LOG(AF13))/LOG(2))))","v":{"$error":"#DIV/0!"}},null,{"$f":"N13","v":0},{"$f":"COUNTIF(L28:L34,AI13)","v":0},{"$f":"AJ13/(AL4-AJ8)","v":{"$error":"#DIV/0!"}},{"$f":"IF(AK13=0,0,(AK13*((LOG(AK13))/LOG(2))))","v":{"$error":"#DIV/0!"}},null,{"$f":"N13","v":0},{"$f":"COUNTIF(L35:L41,AN13)","v":0},{"$f":"AO13/(AQ4-AO8)","v":0},{"$f":"IF(AP13=0,0,(AP13*((LOG(AP13))/LOG(2))))","v":0},null,{"$f":"N13","v":0},{"$f":"COUNTIF(L42:L48,AS13)","v":0},{"$f":"AT13/(AV4-AT8)","v":{"$error":"#DIV/0!"}},{"$f":"IF(AU13=0,0,(AU13*((LOG(AU13))/LOG(2))))","v":{"$error":"#DIV/0!"}}]
[11,695,21,704,null,null,null,null,null,null,0,12,null,null,null,null,null,null,null,{"$f":"N14","v":0},{"$f":"COUNTIF(L7:L13,T14)","v":0},{"$f":"U14/(W4-U8)","v":0},{"$f":"IF(V14=0,0,(V14*((LOG(V14))/LOG(2))))","v":0},null,{"$f":"N14","v":0},{"$f":"COUNTIF(L14:L20,Y14)","v":0},{"$f":"Z14/(AB4-Z8)","v":0},{"$f":"IF(AA14=0,0,(AA14*((LOG(AA14))/LOG(2))))","v":0},null,{"$f":"N14","v":0},{"$f":"COUNTIF(L21:L27,AD14)","v":0},{"$f":"AE14/(AG4-AE8)","v":{"$error":"#DIV/0!"}},{"$f":"IF(AF14=0,0,(AF14*((LOG(AF14))/LOG(2))))","v":{"$error":"#DIV/0!"}},null,{"$f":"N14","v":0},{"$f":"COUNTIF(L28:L34,AI14)","v":0},{"$f":"AJ14/(AL4-AJ8)","v":{"$error":"#DIV/0!"}},{"$f":"IF(AK14=0,0,(AK14*((LOG(AK14))/LOG(2))))","v":{"$error":"#DIV/0!"}},null,{"$f":"N14","v":0},{"$f":"COUNTIF(L35:L41,AN14)","v":0},{"$f":"AO14/(AQ4-AO8)","v":0},{"$f":"IF(AP14=0,0,(AP14*((LOG(AP14))/LOG(2))))","v":0},null,{"$f":"N14","v":0},{"$f":"COUNTIF(L42:L48,AS14)","v":0},{"$f":"AT14/(AV4-AT8)","v":{"$error":"#DIV/0!"}},{"$f":"IF(AU14=0,0,(AU14*((LOG(AU14))/LOG(2))))","v":{"$error":"#DIV/0!"}}]
[11,793,21,801,null,null,null,null,null,null,0,12,null,null,null,{"$f":"SUM(P7:P14)","v":1},{"$f":"-SUM(Q7:Q14)","v":0.43682488621619631},null,null,null,null,{"$f":"SUM(V7:V14)","v":1},{"$f":"-SUM(W7:W14)","v":0},null,null,null,{"$f":"SUM(AA7:AA14)","v":1},{"$f":"-SUM(AB7:AB14)","v":0},null,null,null,{"$f":"SUM(AF7:AF14)","v":{"$error":"#DIV/0!"}},{"$f":"-SUM(AG7:AG14)","v":{"$error":"#DIV/0!"}},null,null,null,{"$f":"SUM(AK7:AK14)","v":{"$error":"#DIV/0!"}},{"$f":"-SUM(AL7:AL14)","v":{"$error":"#DIV/0!"}},null,null,null,{"$f":"SUM(AP7:AP14)","v":1},{"$f":"-SUM(AQ7:AQ14)","v":0},null,null,null,{"$f":"SUM(AU7:AU14)","v":{"$error":"#DIV/0!"}},{"$f":"-SUM(AV7:AV14)","v":{"$error":"#DIV/0!"}}]
[11,896,21,911,null,null,null,null,null,null,0,12,null,null,null,"U=",{"$f":"Q15/(LOG(Q4)/LOG(2))","v":8.1008748552323234E-2},null,null,null,null,"U1=",{"$f":"W15/(LOG(W4)/LOG(2))","v":0},null,null,null,"U2=",{"$f":"AB15/(LOG(AB4)/LOG(2))","v":0},null,null,null,"U3=",{"$f":"AG15/(LOG(AG4)/LOG(2))","v":{"$error":"#DIV/0!"}},null,null,null,"U4=",{"$f":"AL15/(LOG(AL4)/LOG(2))","v":{"$error":"#DIV/0!"}},null,null,null,"U5=",{"$f":"AQ15/(LOG(AQ4)/LOG(2))","v":0},null,null,null,"U6=",{"$f":"AV15/(LOG(AV4)/LOG(2))","v":{"$error":"#DIV/0!"}}]
[11,1000,21,1009,null,null,null,null,null,null,0,12]
[11,1098,21,1106,null,null,null,null,null,null,0,12]
[11,1199,21,1210,null,null,null,null,null,null,0,12,null,"Total Target Seq"]
[11,1296,12,1301,null,null,null,null,null,null,0,11,null,{"$f":"COUNTIF(L7:L48,G3)","v":39},null,7,7,7,7,7,7]
[11,1393,21,1402,null,null,null,null,null,null,0,12,null,null,null,"% of reinforcement given in 6 equal intervals based on number of trials "]
[11,1498,21,1507,null,null,null,null,null,null,0,12,null,null,null,"%_1","%_2","%_3","%_4","%_5","%_6"]
[11,1600,21,1610,null,null,null,null,null,null,0,12,null,null,"target sequence",{"$f":"$G$3","v":12},{"$f":"$G$3","v":12},{"$f":"$G$3","v":12},{"$f":"$G$3","v":12},{"$f":"$G$3","v":12},{"$f":"$G$3","v":12}]
[11,1709,21,1719,null,null,null,null,null,null,0,12,null,null,"total reinforcement",{"$f":"U8","v":6},{"$f":"Z8","v":6},{"$f":"AE8","v":7},{"$f":"AJ8","v":7},{"$f":"AO8","v":6},{"$f":"AT8","v":7}]
[11,1813,21,1823,null,null,null,null,null,null,0,12,null,null,"% target"]
[11,1919,21,1930,null,null,null,null,null,null,0,12,null,null,"CCRF"]
[11,2023,21,2032,null,null,null,null,null,null,0,12,null,null,"% CCRf"]
[11,2126,21,2142,null,null,null,null,null,null,0,12,null,null,"average response rate",{"$f":"D13/P20","v":87.285714285714292},{"$f":"(D20-D13)/Q20","v":98.571428571428569},{"$f":"(D27-D20)/R20","v":104.42857142857143},{"$f":"(D34-D27)/S20","v":106.85714285714286},{"$f":"(D41-D34)/T20","v":110.71428571428571},{"$f":"(D48-D41)/U20","v":103.71428571428571}]
[11,2237,21,2247,null,null,null,null,null,null,0,12]
[11,2342,21,2351,null,null,null,null,null,null,0,12]
[11,2449,21,2459,null,null,null,null,null,null,0,12]
[11,2555,21,2565,null,null,null,null,null,null,0,12]
[11,2661,21,2671,null,null,null,null,null,null,0,12]
[11,2770,21,2780,null,null,null,null,null,null,0,12]
[11,2876,21,2891,null,null,null,null,null,null,0,12]
[11,2988,21,2997,null,null,null,null,null,null,0,12]
[11,3091,21,3110,null,null,null,null,null,null,0,12]
[11,3200,21,3209,null,null,null,null,null,null,0,12]
[22,3316,23,3330,null,null,null,null,null,null,0,22]
[11,3433,21,3446,null,null,null,null,null,null,0,12]
[11,3545,21,3555,null,null,null,null,null,null,0,12]
[11,3646,21,3655,null,null,null,null,null,null,0,12]
[11,3753,21,3762,null,null,null,null,null,null,0,12]
[11,3851,21,3869,null,null,null,null,null,null,0,12]
[11,3962,21,3971,null,null,null,null,null,null,0,12]
[11,4063,21,4073,null,null,null,null,null,null,0,12]
[11,4173,21,4183,null,null,null,null,null,null,0,12]
[11,4272,21,4281,null,null,null,null,null,null,1,12]

{"sheet":"!LC06A40.056","index":28,"n_rows":48,"n_cols":48,"rows_kept":48,"cut":false,"hidden":false,"merged":[[4,39,4,42],[5,39,5,40],[4,44,4,47],[5,44,5,45],[4,24,4,27],[5,24,5,25],[4,29,4,32],[5,29,5,30],[4,34,4,37],[5,34,5,35],[1,1,1,2],[5,13,5,14],[18,13,18,14],[19,13,19,14],[4,19,4,22],[5,19,5,20]]}
["Report for:!LC06A40.056"]
["Date:","<date>"]
["Hen:","<hen>",null,null,null,"Correct Sequence",{"$f":"Start!J2","v":12},null,null,null,null,null,null,null,null,"Total Sequences in Data",{"$f":"4994-COUNTBLANK(L7:L5000)","v":42},null,null,null,null,"Total Sequences in Block Data",{"$f":"COUNTA(L7:L13)","v":7},null,null,null,"Total Sequences in Block Data",{"$f":"COUNTA(L14:L20)","v":7},null,null,null,"Total Sequences in Block Data",{"$f":"COUNTA(L21:L27)","v":7},null,null,null,"Total Sequences in Block Data",{"$f":"COUNTA(L28:L34)","v":7},null,null,null,"Total Sequences in Block Data",{"$f":"COUNTA(L35:L41)","v":7},null,null,null,"Total Sequences in Block Data",{"$f":"COUNTA(L42:L48)","v":7}]
[null,null,null,null,null,null,null,null,null,null,null,null,null,null,null,"Total Sequences in Summary",{"$f":"SUM(O7:O14)","v":42},null,null,null,null,"Total Sequences in Block Summary",{"$f":"SUM(U7:U14)","v":7},null,null,null,"Total Sequences in Block Summary",{"$f":"SUM(Z7:Z14)","v":7},null,null,null,"Total Sequences in Block Summary",{"$f":"SUM(AE7:AE14)","v":7},null,null,null,"Total Sequences in Block Summary",{"$f":"SUM(AJ7:AJ14)","v":7},null,null,null,"Total Sequences in Block Summary",{"$f":"SUM(AO7:AO14)","v":7},null,null,null,"Total Sequences in Block Summary",{"$f":"SUM(AT7:AT14)","v":7}]
[null,null,null,null,null,null,null,null,null,null,null,null,null,null,null,null,null,null,null,"Block 1",null,null,null,null,"Block 2",null,null,null,null,"Block 3",null,null,null,null,"Block 4",null,null,null,null,"Block 5",null,null,null,null,"Block 6"]
["Sequence\nComponent\n1","Time\n1","Sequence\nComponent\n2","Time\n2","Sequence\nComponent\n3","Time\n3","Sequence\nComponent\n4","Time\n4","Sequence\nComponent\n5","Time\n5","Correct?\n0=No 1=Yes","Sequence",null,"Frequency",null,"Relative Frequency","Variability",null,null,"Frequency",null,"Relative Frequency","Variability",null,"Frequency",null,"Relative Frequency","Variability",null,"Frequency",null,"Relative Frequency","Variability",null,"Frequency",null,"Relative Frequency","Variability",null,"Frequency",null,"Relative Frequency","Variability",null,"Frequency",null,"Relative Frequency","Variability"]
[11,5,21,16,null,null,null,null,null,null,0,12,null,11,{"$f":"COUNTIF($L$7:$L$500,N7)","v":0},{"$f":"O7/$Q$4","v":0},{"$f":"IF(P7=0,0,(P7*((LOG(P7))/LOG(2))))","v":0},null,null,{"$f":"N7","v":11},{"$f":"COUNTIF(L7:L13,T7)","v":0},{"$f":"U7/(W4-U8)","v":0},{"$f":"IF(V7=0,0,(V7*((LOG(V7))/LOG(2))))","v":0},null,{"$f":"N7","v":11},{"$f":"COUNTIF(L14:L20,Y7)","v":0},{"$f":"Z7/(AB4-Z8)","v":{"$error":"#DIV/0!"}},{"$f":"IF(AA7=0,0,(AA7*((LOG(AA7))/LOG(2))))","v":{"$error":"#DIV/0!"}},null,{"$f":"N7","v":11},{"$f":"COUNTIF(L21:L27,AD7)","v":0},{"$f":"AE7/(AG4-AE8)","v":{"$error":"#DIV/0!"}},{"$f":"IF(AF7=0,0,(AF7*((LOG(AF7))/LOG(2))))","v":{"$error":"#DIV/0!"}},null,{"$f":"N7","v":11},{"$f":"COUNTIF(L28:L34,AI7)","v":0},{"$f":"AJ7/(AL4-AJ8)","v":0},{"$f":"IF(AK7=0,0,(AK7*((LOG(AK7))/LOG(2))))","v":0},null,{"$f":"N7","v":11},{"$f":"COUNTIF(L35:L41,AN7)","v":0},{"$f":"AO7/(AQ4-AO8)","v":0},{"$f":"IF(AP7=0,0,(AP7*((LOG(AP7))/LOG(2))))","v":0},null,{"$f":"N7","v":11},{"$f":"COUNTIF(L42:L48,AS7)","v":0},{"$f":"AT7/(AV4-AT8)","v":{"$error":"#DIV/0!"}},{"$f":"IF(AU7=0,0,(AU7*((LOG(AU7))/LOG(2))))","v":{"$error":"#DIV/0!"}}]
[11,101,21,111,null,null,null,null,null,null,0,12,null,12,{"$f":"COUNTIF($L$7:$L$500,N8)","v":39},{"$f":"O8/$Q$4","v":0.9285714285714286},{"$f":"IF(P8=0,0,(P8*((LOG(P8))/LOG(2))))","v":-9.9278403636761048E-2},null,null,{"$f":"N8","v":12},{"$f":"COUNTIF(L7:L13,T8)","v":6},null,null,null,{"$f":"N8","v":12},{"$f":"COUNTIF(L14:L20,Y8)","v":7},null,null,null,{"$f":"N8","v":12},{"$f":"COUNTIF(L21:L27,AD8)","v":7},null,null,null,{"$f":"N8","v":12},{"$f":"COUNTIF(L28:L34,AI8)","v":6},null,null,null,{"$f":"N8","v":12},{"$f":"COUNTIF(L35:L41,AN8)","v":6},null,null,null,{"$f":"N8","v":12},{"$f":"COUNTIF(L42:L48,AS8)","v":7}]
[22,202,23,211,null,null,null,null,null,null,0,22,null,21,{"$f":"COUNTIF($L$7:$L$500,N9)","v":0},{"$f":"O9/$Q$4","v":0},{"$f":"IF(P9=0,0,(P9*((LOG(P9))/LOG(2))))","v":0},null,null,{"$f":"N9","v":21},{"$f":"COUNTIF(L7:L13,T9)","v":0},{"$f":"U9/(W4-U8)","v":0},{"$f":"IF(V9=0,0,(V9*((LOG(V9))/LOG(2))))","v":0},null,{"$f":"N9","v":21},{"$f":"COUNTIF(L14:L20,Y9)","v":0},{"$f":"Z9/(AB4-Z8)","v":{"$error":"#DIV/0!"}},{"$f":"IF(AA9=0,0,(AA9*((LOG(AA9))/LOG(2))))","v":{"$error":"#DIV/0!"}},null,{"$f":"N9","v":21},{"$f":"COUNTIF(L21:L27,AD9)","v":0},{"$f":"AE9/(AG4-AE8)","v":{"$error":"#DIV/0!"}},{"$f":"IF(AF9=0,0,(AF9*((LOG(AF9))/LOG(2))))","v":{"$error":"#DIV/0!"}},null,{"$f":"N9","v":21},{"$f":"COUNTIF(L28:L34,AI9)","v":0},{"$f":"AJ9/(AL4-AJ8)","v":0},{"$f":"IF(AK9=0,0,(AK9*((LOG(AK9))/LOG(2))))","v":0},null,{"$f":"N9","v":21},{"$f":"COUNTIF(L35:L41,AN9)","v":0},{"$f":"AO9/(AQ4-AO8)","v":0},{"$f":"IF(AP9=0,0,(AP9*((LOG(AP9))/LOG(2))))","v":0},null,{"$f":"N9","v":21},{"$f":"COUNTIF(L42:L48,AS9)","v":0},{"$f":"AT9/(AV4-AT8)","v":{"$error":"#DIV/0!"}},{"$f":"IF(AU9=0,0,(AU9*((LOG(AU9))/LOG(2))))","v":{"$error":"#DIV/0!"}}]
[11,305,21,315,null,null,null,null,null,null,0,12,null,22,{"$f":"COUNTIF($L$7:$L$500,N10)","v":3},{"$f":"O10/$Q$4","v":7.1428571428571425E-2},{"$f":"IF(P10=0,0,(P10*((LOG(P10))/LOG(2))))","v":-0.27195392300411453},null,null,{"$f":"N10","v":22},{"$f":"COUNTIF(L7:L13,T10)","v":1},{"$f":"U10/(W4-U8)","v":1},{"$f":"IF(V10=0,0,(V10*((LOG(V10))/LOG(2))))","v":0},null,{"$f":"N10","v":22},{"$f":"COUNTIF(L14:L20,Y10)","v":0},{"$f":"Z10/(AB4-Z8)","v":{"$error":"#DIV/0!"}},{"$f":"IF(AA10=0,0,(AA10*((LOG(AA10))/LOG(2))))","v":{"$error":"#DIV/0!"}},null,{"$f":"N10","v":22},{"$f":"COUNTIF(L21:L27,AD10)","v":0},{"$f":"AE10/(AG4-AE8)","v":{"$error":"#DIV/0!"}},{"$f":"IF(AF10=0,0,(AF10*((LOG(AF10))/LOG(2))))","v":{"$error":"#DIV/0!"}},null,{"$f":"N10","v":22},{"$f":"COUNTIF(L28:L34,AI10)","v":1},{"$f":"AJ10/(AL4-AJ8)","v":1},{"$f":"IF(AK10=0,0,(AK10*((LOG(AK10))/LOG(2))))","v":0},null,{"$f":"N10","v":22},{"$f":"COUNTIF(L35:L41,AN10)","v":1},{"$f":"AO10/(AQ4-AO8)","v":1},{"$f":"IF(AP10=0,0,(AP10*((LOG(AP10))/LOG(2))))","v":0},null,{"$f":"N10","v":22},{"$f":"COUNTIF(L42:L48,AS10)","v":0},{"$f":"AT10/(AV4-AT8)","v":{"$error":"#DIV/0!"}},{"$f":"IF(AU10=0,0,(AU10*((LOG(AU10))/LOG(2))))","v":{"$error":"#DIV/0!"}}]
[11,400,21,411,null,null,null,null,null,null,0,12,null,null,null,null,null,null,null,{"$f":"N11","v":0},{"$f":"COUNTIF(L7:L13,T11)","v":0},{"$f":"U11/(W4-U8)","v":0},{"$f":"IF(V11=0,0,(V11*((LOG(V11))/LOG(2))))","v":0},null,{"$f":"N11","v":0},{"$f":"COUNTIF(L14:L20,Y11)","v":0},{"$f":"Z11/(AB4-Z8)","v":{"$error":"#DIV/0!"}},{"$f":"IF(AA11=0,0,(AA11*((LOG(AA11))/LOG(2))))","v":{"$error":"#DIV/0!"}},null,{"$f":"N11","v":0},{"$f":"COUNTIF(L21:L27,AD11)","v":0},{"$f":"AE11/(AG4-AE8)","v":{"$error":"#DIV/0!"}},{"$f":"IF(AF11=0,0,(AF11*((LOG(AF11))/LOG(2))))","v":{"$error":"#DIV/0!"}},null,{"$f":"N11","v":0},{"$f":"COUNTIF(L28:L34,AI11)","v":0},{"$f":"AJ11/(AL4-AJ8)","v":0},{"$f":"IF(AK11=0,0,(AK11*((LOG(AK11))/LOG(2))))","v":0},null,{"$f":"N11","v":0},{"$f":"COUNTIF(L35:L41,AN11)","v":0},{"$f":"AO11/(AQ4-AO8)","v":0},{"$f":"IF(AP11=0,0,(AP11*((LOG(AP11))/LOG(2))))","v":0},null,{"$f":"N11","v":0},{"$f":"COUNTIF(L42:L48,AS11)","v":0},{"$f":"AT11/(AV4-AT8)","v":{"$error":"#DIV/0!"}},{"$f":"IF(AU11=0,0,(AU11*((LOG(AU11))/LOG(2))))","v":{"$error":"#DIV/0!"}}]
[11,496,21,506,null,null,null,null,null,null,0,12,null,null,null,null,null,null,null,{"$f":"N12","v":0},{"$f":"COUNTIF(L7:L13,T12)","v":0},{"$f":"U12/(W4-U8)","v":0},{"$f":"IF(V12=0,0,(V12*((LOG(V12))/LOG(2))))","v":0},null,{"$f":"N12","v":0},{"$f":"COUNTIF(L14:L20,Y12)","v":0},{"$f":"Z12/(AB4-Z8)","v":{"$error":"#DIV/0!"}},{"$f":"IF(AA12=0,0,(AA12*((LOG(AA12))/LOG(2))))","v":{"$error":"#DIV/0!"}},null,{"$f":"N12","v":0},{"$f":"COUNTIF(L21:L27,AD12)","v":0},{"$f":"AE12/(AG4-AE8)","v":{"$error":"#DIV/0!"}},{"$f":"IF(AF12=0,0,(AF12*((LOG(AF12))/LOG(2))))","v":{"$error":"#DIV/0!"}},null,{"$f":"N12","v":0},{"$f":"COUNTIF(L28:L34,AI12)","v":0},{"$f":"AJ12/(AL4-AJ8)","v":0},{"$f":"IF(AK12=0,0,(AK12*((LOG(AK12))/LOG(2))))","v":0},null,{"$f":"N12","v":0},{"$f":"COUNTIF(L35:L41,AN12)","v":0},{"$f":"AO12/(AQ4-AO8)","v":0},{"$f":"IF(AP12=0,0,(AP12*((LOG(AP12))/LOG(2))))","v":0},null,{"$f":"N12","v":0},{"$f":"COUNTIF(L42:L48,AS12)","v":0},{"$f":"AT12/(AV4-AT8)","v":{"$error":"#DIV/0!"}},{"$f":"IF(AU12=0,0,(AU12*((LOG(AU12))/LOG(2))))","v":{"$error":"#DIV/0!"}}]
[11,595,21,631,null,null,null,null,null,null,0,12,null,null,null,null,null,null,null,{"$f":"N13","v":0},{"$f":"COUNTIF(L7:L13,T13)","v":0},{"$f":"U13/(W4-U8)","v":0},{"$f":"IF(V13=0,0,(V13*((LOG(V13))/LOG(2))))","v":0},null,{"$f":"N13","v":0},{"$f":"COUNTIF(L14:L20,Y13)","v":0},{"$f":"Z13/(AB4-Z8)","v":{"$error":"#DIV/0!"}},{"$f":"IF(AA13=0,0,(AA13*((LOG(AA13))/LOG(2))))","v":{"$error":"#DIV/0!"}},null,{"$f":"N13","v":0},{"$f":"COUNTIF(L21:L27,AD13)","v":0},{"$f":"AE13/(AG4-AE8)","v":{"$error":"#DIV/0!"}},{"$f":"IF(AF13=0,0,(AF13*((LOG(AF13))/LOG(2))))","v":{"$error":"#DIV/0!"}},null,{"$f":"N13","v":0},{"$f":"COUNTIF(L28:L34,AI13)","v":0},{"$f":"AJ13/(AL4-AJ8)","v":0},{"$f":"IF(AK13=0,0,(AK13*((LOG(AK13))/LOG(2))))","v":0},null,{"$f":"N13","v":0},{"$f":"COUNTIF(L35:L41,AN13)","v":0},{"$f":"AO13/(AQ4-AO8)","v":0},{"$f":"IF(AP13=0,0,(AP13*((LOG(AP13))/LOG(2))))","v":0},null,{"$f":"N13","v":0},{"$f":"COUNTIF(L42:L48,AS13)","v":0},{"$f":"AT13/(AV4-AT8)","v":{"$error":"#DIV/0!"}},{"$f":"IF(AU13=0,0,(AU13*((LOG(AU13))/LOG(2))))","v":{"$error":"#DIV/0!"}}]
[11,718,21,728,null,null,null,null,null,null,0,12,null,null,null,null,null,null,null,{"$f":"N14","v":0},{"$f":"COUNTIF(L7:L13,T14)","v":0},{"$f":"U14/(W4-U8)","v":0},{"$f":"IF(V14=0,0,(V14*((LOG(V14))/LOG(2))))","v":0},null,{"$f":"N14","v":0},{"$f":"COUNTIF(L14:L20,Y14)","v":0},{"$f":"Z14/(AB4-Z8)","v":{"$error":"#DIV/0!"}},{"$f":"IF(AA14=0,0,(AA14*((LOG(AA14))/LOG(2))))","v":{"$error":"#DIV/0!"}},null,{"$f":"N14","v":0},{"$f":"COUNTIF(L21:L27,AD14)","v":0},{"$f":"AE14/(AG4-AE8)","v":{"$error":"#DIV/0!"}},{"$f":"IF(AF14=0,0,(AF14*((LOG(AF14))/LOG(2))))","v":{"$error":"#DIV/0!"}},null,{"$f":"N14","v":0},{"$f":"COUNTIF(L28:L34,AI14)","v":0},{"$f":"AJ14/(AL4-AJ8)","v":0},{"$f":"IF(AK14=0,0,(AK14*((LOG(AK14))/LOG(2))))","v":0},null,{"$f":"N14","v":0},{"$f":"COUNTIF(L35:L41,AN14)","v":0},{"$f":"AO14/(AQ4-AO8)","v":0},{"$f":"IF(AP14=0,0,(AP14*((LOG(AP14))/LOG(2))))","v":0},null,{"$f":"N14","v":0},{"$f":"COUNTIF(L42:L48,AS14)","v":0},{"$f":"AT14/(AV4-AT8)","v":{"$error":"#DIV/0!"}},{"$f":"IF(AU14=0,0,(AU14*((LOG(AU14))/LOG(2))))","v":{"$error":"#DIV/0!"}}]
[11,817,21,827,null,null,null,null,null,null,0,12,null,null,null,{"$f":"SUM(P7:P14)","v":1},{"$f":"-SUM(Q7:Q14)","v":0.37123232664087558},null,null,null,null,{"$f":"SUM(V7:V14)","v":1},{"$f":"-SUM(W7:W14)","v":0},null,null,null,{"$f":"SUM(AA7:AA14)","v":{"$error":"#DIV/0!"}},{"$f":"-SUM(AB7:AB14)","v":{"$error":"#DIV/0!"}},null,null,null,{"$f":"SUM(AF7:AF14)","v":{"$error":"#DIV/0!"}},{"$f":"-SUM(AG7:AG14)","v":{"$error":"#DIV/0!"}},null,null,null,{"$f":"SUM(AK7:AK14)","v":1},{"$f":"-SUM(AL7:AL14)","v":0},null,null,null,{"$f":"SUM(AP7:AP14)","v":1},{"$f":"-SUM(AQ7:AQ14)","v":0},null,null,null,{"$f":"SUM(AU7:AU14)","v":{"$error":"#DIV/0!"}},{"$f":"-SUM(AV7:AV14)","v":{"$error":"#DIV/0!"}}]
[11,917,21,931,null,null,null,null,null,null,0,12,null,null,null,"U=",{"$f":"Q15/(LOG(Q4)/LOG(2))","v":6.88446724357656E-2},null,null,null,null,"U1=",{"$f":"W15/(LOG(W4)/LOG(2))","v":0},null,null,null,"U2=",{"$f":"AB15/(LOG(AB4)/LOG(2))","v":{"$error":"#DIV/0!"}},null,null,null,"U3=",{"$f":"AG15/(LOG(AG4)/LOG(2))","v":{"$error":"#DIV/0!"}},null,null,null,"U4=",{"$f":"AL15/(LOG(AL4)/LOG(2))","v":0},null,null,null,"U5=",{"$f":"AQ15/(LOG(AQ4)/LOG(2))","v":0},null,null,null,"U6=",{"$f":"AV15/(LOG(AV4)/LOG(2))","v":{"$error":"#DIV/0!"}}]
[11,1023,21,1033,null,null,null,null,null,null,0,12]
[11,1117,21,1127,null,null,null,null,null,null,0,12]
[11,1217,21,1227,null,null,null,null,null,null,0,12,null,"Total Target Seq"]
[11,1314,21,1323,null,null,null,null,null,null,0,12,null,{"$f":"COUNTIF(L7:L48,G3)","v":39},null,7,7,7,7,7,7]
[11,1412,21,1427,null,null,null,null,null,null,0,12,null,null,null,"% of reinforcement given in 6 equal intervals based on number of trials "]
[11,1514,21,1524,null,null,null,null,null,null,0,12,null,null,null,"%_1","%_2","%_3","%_4","%_5","%_6"]
[11,1611,21,1621,null,null,null,null,null,null,0,12,null,null,"target sequence",{"$f":"$G$3","v":12},{"$f":"$G$3","v":12},{"$f":"$G$3","v":12},{"$f":"$G$3","v":12},{"$f":"$G$3","v":12},{"$f":"$G$3","v":12}]
[11,1709,21,1718,null,null,null,null,null,null,0,12,null,null,"total reinforcement",{"$f":"U8","v":6},{"$f":"Z8","v":7},{"$f":"AE8","v":7},{"$f":"AJ8","v":6},{"$f":"AO8","v":6},{"$f":"AT8","v":7}]
[11,1806,21,1816,null,null,null,null,null,null,0,12,null,null,"% target"]
[11,1913,21,1922,null,null,null,null,null,null,0,12,null,null,"CCRF"]
[11,2007,21,2016,null,null,null,null,null,null,0,12,null,null,"% CCRf"]
[11,2102,21,2113,null,null,null,null,null,null,0,12,null,null,"average response rate",{"$f":"D13/P20","v":90.142857142857139},{"$f":"(D20-D13)/Q20","v":98.857142857142861},{"$f":"(D27-D20)/R20","v":99},{"$f":"(D34-D27)/S20","v":100.57142857142857},{"$f":"(D41-D34)/T20","v":106.28571428571429},{"$f":"(D48-D41)/U20","v":98.428571428571431}]
[11,2198,21,2209,null,null,null,null,null,null,0,12]
[11,2295,21,2304,null,null,null,null,null,null,0,12]
[11,2391,21,2401,null,null,null,null,null,null,0,12]
[22,2508,23,2522,null,null,null,null,null,null,0,22]
[11,2607,21,2616,null,null,null,null,null,null,0,12]
[11,2710,21,2720,null,null,null,null,null,null,0,12]
[11,2811,21,2821,null,null,null,null,null,null,0,12]
[11,2913,21,2924,null,null,null,null,null,null,0,12]
[22,3033,23,3049,null,null,null,null,null,null,0,22]
[11,3152,21,3161,null,null,null,null,null,null,0,12]
[11,3259,21,3269,null,null,null,null,null,null,0,12]
[11,3355,21,3366,null,null,null,null,null,null,0,12]
[11,3454,21,3464,null,null,null,null,null,null,0,12]
[11,3552,21,3561,null,null,null,null,null,null,0,12]
[11,3648,21,3658,null,null,null,null,null,null,0,12]
[11,3745,21,3755,null,null,null,null,null,null,0,12]
[11,3849,21,3860,null,null,null,null,null,null,0,12]
[11,3951,21,3960,null,null,null,null,null,null,0,12]
[11,4049,21,4058,null,null,null,null,null,null,0,12]
[11,4143,21,4153,null,null,null,null,null,null,1,12]

{"sheet":"!LC07C50.056","index":29,"n_rows":52,"n_cols":48,"rows_kept":52,"cut":false,"hidden":false,"merged":[[4,39,4,42],[5,39,5,40],[4,44,4,47],[5,44,5,45],[4,24,4,27],[5,24,5,25],[4,29,4,32],[5,29,5,30],[4,34,4,37],[5,34,5,35],[1,1,1,2],[5,13,5,14],[18,13,18,14],[19,13,19,14],[4,19,4,22],[5,19,5,20]]}
["Report for:!LC07C50.056"]
["Date:","<date>"]
["Hen:","<hen>",null,null,null,"Correct Sequence",{"$f":"Start!J2","v":12},null,null,null,null,null,null,null,null,"Total Sequences in Data",{"$f":"4994-COUNTBLANK(L7:L5000)","v":46},null,null,null,null,"Total Sequences in Block Data",{"$f":"COUNTA(L7:L14)","v":8},null,null,null,"Total Sequences in Block Data",{"$f":"COUNTA(L15:L21)","v":7},null,null,null,"Total Sequences in Block Data",{"$f":"COUNTA(L22:L29)","v":8},null,null,null,"Total Sequences in Block Data",{"$f":"COUNTA(L30:L37)","v":8},null,null,null,"Total Sequences in Block Data",{"$f":"COUNTA(L38:L44)","v":7},null,null,null,"Total Sequences in Block Data",{"$f":"COUNTA(L45:L52)","v":8}]
[null,null,null,null,null,null,null,null,null,null,null,null,null,null,null,"Total Sequences in Summary",{"$f":"SUM(O7:O14)","v":46},null,null,null,null,"Total Sequences in Block Summary",{"$f":"SUM(U7:U14)","v":8},null,null,null,"Total Sequences in Block Summary",{"$f":"SUM(Z7:Z14)","v":7},null,null,null,"Total Sequences in Block Summary",{"$f":"SUM(AE7:AE14)","v":8},null,null,null,"Total Sequences in Block Summary",{"$f":"SUM(AJ7:AJ14)","v":8},null,null,null,"Total Sequences in Block Summary",{"$f":"SUM(AO7:AO14)","v":7},null,null,null,"Total Sequences in Block Summary",{"$f":"SUM(AT7:AT14)","v":8}]
[null,null,null,null,null,null,null,null,null,null,null,null,null,null,null,null,null,null,null,"Block 1",null,null,null,null,"Block 2",null,null,null,null,"Block 3",null,null,null,null,"Block 4",null,null,null,null,"Block 5",null,null,null,null,"Block 6"]
["Sequence\nComponent\n1","Time\n1","Sequence\nComponent\n2","Time\n2","Sequence\nComponent\n3","Time\n3","Sequence\nComponent\n4","Time\n4","Sequence\nComponent\n5","Time\n5","Correct?\n0=No 1=Yes","Sequence",null,"Frequency",null,"Relative Frequency","Variability",null,null,"Frequency",null,"Relative Frequency","Variability",null,"Frequency",null,"Relative Frequency","Variability",null,"Frequency",null,"Relative Frequency","Variability",null,"Frequency",null,"Relative Frequency","Variability",null,"Frequency",null,"Relative Frequency","Variability",null,"Frequency",null,"Relative Frequency","Variability"]
[22,6,23,12,null,null,null,null,null,null,0,22,null,11,{"$f":"COUNTIF($L$7:$L$500,N7)","v":0},{"$f":"O7/$Q$4","v":0},{"$f":"IF(P7=0,0,(P7*((LOG(P7))/LOG(2))))","v":0},null,null,{"$f":"N7","v":11},{"$f":"COUNTIF(L7:L14,T7)","v":0},{"$f":"U7/(W4-U8)","v":0},{"$f":"IF(V7=0,0,(V7*((LOG(V7))/LOG(2))))","v":0},null,{"$f":"N7","v":11},{"$f":"COUNTIF(L15:L21,Y7)","v":0},{"$f":"Z7/(AB4-Z8)","v":0},{"$f":"IF(AA7=0,0,(AA7*((LOG(AA7))/LOG(2))))","v":0},null,{"$f":"N7","v":11},{"$f":"COUNTIF(L22:L29,AD7)","v":0},{"$f":"AE7/(AG4-AE8)","v":0},{"$f":"IF(AF7=0,0,(AF7*((LOG(AF7))/LOG(2))))","v":0},null,{"$f":"N7","v":11},{"$f":"COUNTIF(L30:L37,AI7)","v":0},{"$f":"AJ7/(AL4-AJ8)","v":0},{"$f":"IF(AK7=0,0,(AK7*((LOG(AK7))/LOG(2))))","v":0},null,{"$f":"N7","v":11},{"$f":"COUNTIF(L38:L44,AN7)","v":0},{"$f":"AO7/(AQ4-AO8)","v":0},{"$f":"IF(AP7=0,0,(AP7*((LOG(AP7))/LOG(2))))","v":0},null,{"$f":"N7","v":11},{"$f":"COUNTIF(L45:L52,AS7)","v":0},{"$f":"AT7/(AV4-AT8)","v":{"$error":"#DIV/0!"}},{"$f":"IF(AU7=0,0,(AU7*((LOG(AU7))/LOG(2))))","v":{"$error":"#DIV/0!"}}]
[22,112,23,125,null,null,null,null,null,null,0,22,null,12,{"$f":"COUNTIF($L$7:$L$500,N8)","v":38},{"$f":"O8/$Q$4","v":0.82608695652173914},{"$f":"IF(P8=0,0,(P8*((LOG(P8))/LOG(2))))","v":-0.22769801781109217},null,null,{"$f":"N8","v":12},{"$f":"COUNTIF(L7:L14,T8)","v":5},null,null,null,{"$f":"N8","v":12},{"$f":"COUNTIF(L15:L21,Y8)","v":6},null,null,null,{"$f":"N8","v":12},{"$f":"COUNTIF(L22:L29,AD8)","v":7},null,null,null,{"$f":"N8","v":12},{"$f":"COUNTIF(L30:L37,AI8)","v":6},null,null,null,{"$f":"N8","v":12},{"$f":"COUNTIF(L38:L44,AN8)","v":6},null,null,null,{"$f":"N8","v":12},{"$f":"COUNTIF(L45:L52,AS8)","v":8}]
[11,219,21,228,null,null,null,null,null,null,0,12,null,21,{"$f":"COUNTIF($L$7:$L$500,N9)","v":0},{"$f":"O9/$Q$4","v":0},{"$f":"IF(P9=0,0,(P9*((LOG(P9))/LOG(2))))","v":0},null,null,{"$f":"N9","v":21},{"$f":"COUNTIF(L7:L14,T9)","v":0},{"$f":"U9/(W4-U8)","v":0},{"$f":"IF(V9=0,0,(V9*((LOG(V9))/LOG(2))))","v":0},null,{"$f":"N9","v":21},{"$f":"COUNTIF(L15:L21,Y9)","v":0},{"$f":"Z9/(AB4-Z8)","v":0},{"$f":"IF(AA9=0,0,(AA9*((LOG(AA9))/LOG(2))))","v":0},null,{"$f":"N9","v":21},{"$f":"COUNTIF(L22:L29,AD9)","v":0},{"$f":"AE9/(AG4-AE8)","v":0},{"$f":"IF(AF9=0,0,(AF9*((LOG(AF9))/LOG(2))))","v":0},null,{"$f":"N9","v":21},{"$f":"COUNTIF(L30:L37,AI9)","v":0},{"$f":"AJ9/(AL4-AJ8)","v":0},{"$f":"IF(AK9=0,0,(AK9*((LOG(AK9))/LOG(2))))","v":0},null,{"$f":"N9","v":21},{"$f":"COUNTIF(L38:L44,AN9)","v":0},{"$f":"AO9/(AQ4-AO8)","v":0},{"$f":"IF(AP9=0,0,(AP9*((LOG(AP9))/LOG(2))))","v":0},null,{"$f":"N9","v":21},{"$f":"COUNTIF(L45:L52,AS9)","v":0},{"$f":"AT9/(AV4-AT8)","v":{"$error":"#DIV/0!"}},{"$f":"IF(AU9=0,0,(AU9*((LOG(AU9))/LOG(2))))","v":{"$error":"#DIV/0!"}}]
[11,312,21,320,null,null,null,null,null,null,0,12,null,22,{"$f":"COUNTIF($L$7:$L$500,N10)","v":8},{"$f":"O10/$Q$4","v":0.17391304347826086},{"$f":"IF(P10=0,0,(P10*((LOG(P10))/LOG(2))))","v":-0.43888034018382832},null,null,{"$f":"N10","v":22},{"$f":"COUNTIF(L7:L14,T10)","v":3},{"$f":"U10/(W4-U8)","v":1},{"$f":"IF(V10=0,0,(V10*((LOG(V10))/LOG(2))))","v":0},null,{"$f":"N10","v":22},{"$f":"COUNTIF(L15:L21,Y10)","v":1},{"$f":"Z10/(AB4-Z8)","v":1},{"$f":"IF(AA10=0,0,(AA10*((LOG(AA10))/LOG(2))))","v":0},null,{"$f":"N10","v":22},{"$f":"COUNTIF(L22:L29,AD10)","v":1},{"$f":"AE10/(AG4-AE8)","v":1},{"$f":"IF(AF10=0,0,(AF10*((LOG(AF10))/LOG(2))))","v":0},null,{"$f":"N10","v":22},{"$f":"COUNTIF(L30:L37,AI10)","v":2},{"$f":"AJ10/(AL4-AJ8)","v":1},{"$f":"IF(AK10=0,0,(AK10*((LOG(AK10))/LOG(2))))","v":0},null,{"$f":"N10","v":22},{"$f":"COUNTIF(L38:L44,AN10)","v":1},{"$f":"AO10/(AQ4-AO8)","v":1},{"$f":"IF(AP10=0,0,(AP10*((LOG(AP10))/LOG(2))))","v":0},null,{"$f":"N10","v":22},{"$f":"COUNTIF(L45:L52,AS10)","v":0},{"$f":"AT10/(AV4-AT8)","v":{"$error":"#DIV/0!"}},{"$f":"IF(AU10=0,0,(AU10*((LOG(AU10))/LOG(2))))","v":{"$error":"#DIV/0!"}}]
[11,406,21,411,null,null,null,null,null,null,0,12,null,null,null,null,null,null,null,{"$f":"N11","v":0},{"$f":"COUNTIF(L7:L14,T11)","v":0},{"$f":"U11/(W4-U8)","v":0},{"$f":"IF(V11=0,0,(V11*((LOG(V11))/LOG(2))))","v":0},null,{"$f":"N11","v":0},{"$f":"COUNTIF(L15:L21,Y11)","v":0},{"$f":"Z11/(AB4-Z8)","v":0},{"$f":"IF(AA11=0,0,(AA11*((LOG(AA11))/LOG(2))))","v":0},null,{"$f":"N11","v":0},{"$f":"COUNTIF(L22:L29,AD11)","v":0},{"$f":"AE11/(AG4-AE8)","v":0},{"$f":"IF(AF11=0,0,(AF11*((LOG(AF11))/LOG(2))))","v":0},null,{"$f":"N11","v":0},{"$f":"COUNTIF(L30:L37,AI11)","v":0},{"$f":"AJ11/(AL4-AJ8)","v":0},{"$f":"IF(AK11=0,0,(AK11*((LOG(AK11))/LOG(2))))","v":0},null,{"$f":"N11","v":0},{"$f":"COUNTIF(L38:L44,AN11)","v":0},{"$f":"AO11/(AQ4-AO8)","v":0},{"$f":"IF(AP11=0,0,(AP11*((LOG(AP11))/LOG(2))))","v":0},null,{"$f":"N11","v":0},{"$f":"COUNTIF(L45:L52,AS11)","v":0},{"$f":"AT11/(AV4-AT8)","v":{"$error":"#DIV/0!"}},{"$f":"IF(AU11=0,0,(AU11*((LOG(AU11))/LOG(2))))","v":{"$error":"#DIV/0!"}}]
[22,509,23,519,null,null,null,null,null,null,0,22,null,null,null,null,null,null,null,{"$f":"N12","v":0},{"$f":"COUNTIF(L7:L14,T12)","v":0},{"$f":"U12/(W4-U8)","v":0},{"$f":"IF(V12=0,0,(V12*((LOG(V12))/LOG(2))))","v":0},null,{"$f":"N12","v":0},{"$f":"COUNTIF(L15:L21,Y12)","v":0},{"$f":"Z12/(AB4-Z8)","v":0},{"$f":"IF(AA12=0,0,(AA12*((LOG(AA12))/LOG(2))))","v":0},null,{"$f":"N12","v":0},{"$f":"COUNTIF(L22:L29,AD12)","v":0},{"$f":"AE12/(AG4-AE8)","v":0},{"$f":"IF(AF12=0,0,(AF12*((LOG(AF12))/LOG(2))))","v":0},null,{"$f":"N12","v":0},{"$f":"COUNTIF(L30:L37,AI12)","v":0},{"$f":"AJ12/(AL4-AJ8)","v":0},{"$f":"IF(AK12=0,0,(AK12*((LOG(AK12))/LOG(2))))","v":0},null,{"$f":"N12","v":0},{"$f":"COUNTIF(L38:L44,AN12)","v":0},{"$f":"AO12/(AQ4-AO8)","v":0},{"$f":"IF(AP12=0,0,(AP12*((LOG(AP12))/LOG(2))))","v":0},null,{"$f":"N12","v":0},{"$f":"COUNTIF(L45:L52,AS12)","v":0},{"$f":"AT12/(AV4-AT8)","v":{"$error":"#DIV/0!"}},{"$f":"IF(AU12=0,0,(AU12*((LOG(AU12))/LOG(2))))","v":{"$error":"#DIV/0!"}}]
[11,614,21,622,null,null,null,null,null,null,0,12,null,null,null,null,null,null,null,{"$f":"N13","v":0},{"$f":"COUNTIF(L7:L14,T13)","v":0},{"$f":"U13/(W4-U8)","v":0},{"$f":"IF(V13=0,0,(V13*((LOG(V13))/LOG(2))))","v":0},null,{"$f":"N13","v":0},{"$f":"COUNTIF(L15:L21,Y13)","v":0},{"$f":"Z13/(AB4-Z8)","v":0},{"$f":"IF(AA13=0,0,(AA13*((LOG(AA13))/LOG(2))))","v":0},null,{"$f":"N13","v":0},{"$f":"COUNTIF(L22:L29,AD13)","v":0},{"$f":"AE13/(AG4-AE8)","v":0},{"$f":"IF(AF13=0,0,(AF13*((LOG(AF13))/LOG(2))))","v":0},null,{"$f":"N13","v":0},{"$f":"COUNTIF(L30:L37,AI13)","v":0},{"$f":"AJ13/(AL4-AJ8)","v":0},{"$f":"IF(AK13=0,0,(AK13*((LOG(AK13))/LOG(2))))","v":0},null,{"$f":"N13","v":0},{"$f":"COUNTIF(L38:L44,AN13)","v":0},{"$f":"AO13/(AQ4-AO8)","v":0},{"$f":"IF(AP13=0,0,(AP13*((LOG(AP13))/LOG(2))))","v":0},null,{"$f":"N13","v":0},{"$f":"COUNTIF(L45:L52,AS13)","v":0},{"$f":"AT13/(AV4-AT8)","v":{"$error":"#DIV/0!"}},{"$f":"IF(AU13=0,0,(AU13*((LOG(AU13))/LOG(2))))","v":{"$error":"#DIV/0!"}}]
[11,708,21,717,null,null,null,null,null,null,0,12,null,null,null,null,null,null,null,{"$f":"N14","v":0},{"$f":"COUNTIF(L7:L14,T14)","v":0},{"$f":"U14/(W4-U8)","v":0},{"$f":"IF(V14=0,0,(V14*((LOG(V14))/LOG(2))))","v":0},null,{"$f":"N14","v":0},{"$f":"COUNTIF(L15:L21,Y14)","v":0},{"$f":"Z14/(AB4-Z8)","v":0},{"$f":"IF(AA14=0,0,(AA14*((LOG(AA14))/LOG(2))))","v":0},null,{"$f":"N14","v":0},{"$f":"COUNTIF(L22:L29,AD14)","v":0},{"$f":"AE14/(AG4-AE8)","v":0},{"$f":"IF(AF14=0,0,(AF14*((LOG(AF14))/LOG(2))))","v":0},null,{"$f":"N14","v":0},{"$f":"COUNTIF(L30:L37,AI14)","v":0},{"$f":"AJ14/(AL4-AJ8)","v":0},{"$f":"IF(AK14=0,0,(AK14*((LOG(AK14))/LOG(2))))","v":0},null,{"$f":"N14","v":0},{"$f":"COUNTIF(L38:L44,AN14)","v":0},{"$f":"AO14/(AQ4-AO8)","v":0},{"$f":"IF(AP14=0,0,(AP14*((LOG(AP14))/LOG(2))))","v":0},null,{"$f":"N14","v":0},{"$f":"COUNTIF(L45:L52,AS14)","v":0},{"$f":"AT14/(AV4-AT8)","v":{"$error":"#DIV/0!"}},{"$f":"IF(AU14=0,0,(AU14*((LOG(AU14))/LOG(2))))","v":{"$error":"#DIV/0!"}}]
[11,802,21,811,null,null,null,null,null,null,0,12,null,null,null,{"$f":"SUM(P7:P14)","v":1},{"$f":"-SUM(Q7:Q14)","v":0.66657835799492049},null,null,null,null,{"$f":"SUM(V7:V14)","v":1},{"$f":"-SUM(W7:W14)","v":0},null,null,null,{"$f":"SUM(AA7:AA14)","v":1},{"$f":"-SUM(AB7:AB14)","v":0},null,null,null,{"$f":"SUM(AF7:AF14)","v":1},{"$f":"-SUM(AG7:AG14)","v":0},null,null,null,{"$f":"SUM(AK7:AK14)","v":1},{"$f":"-SUM(AL7:AL14)","v":0},null,null,null,{"$f":"SUM(AP7:AP14)","v":1},{"$f":"-SUM(AQ7:AQ14)","v":0},null,null,null,{"$f":"SUM(AU7:AU14)","v":{"$error":"#DIV/0!"}},{"$f":"-SUM(AV7:AV14)","v":{"$error":"#DIV/0!"}}]
[22,911,23,919,null,null,null,null,null,null,0,22,null,null,null,"U=",{"$f":"Q15/(LOG(Q4)/LOG(2))","v":0.12067907688877569},null,null,null,null,"U1=",{"$f":"W15/(LOG(W4)/LOG(2))","v":0},null,null,null,"U2=",{"$f":"AB15/(LOG(AB4)/LOG(2))","v":0},null,null,null,"U3=",{"$f":"AG15/(LOG(AG4)/LOG(2))","v":0},null,null,null,"U4=",{"$f":"AL15/(LOG(AL4)/LOG(2))","v":0},null,null,null,"U5=",{"$f":"AQ15/(LOG(AQ4)/LOG(2))","v":0},null,null,null,"U6=",{"$f":"AV15/(LOG(AV4)/LOG(2))","v":{"$error":"#DIV/0!"}}]
[11,1015,21,1024,null,null,null,null,null,null,0,12]
[11,1117,21,1127,null,null,null,null,null,null,0,12]
[11,1218,21,1227,null,null,null,null,null,null,0,12,null,"Total Target Seq"]
[11,1322,21,1332,null,null,null,null,null,null,0,12,null,{"$f":"COUNTIF(L7:L52,G3)","v":38},null,8,7,8,8,7,8]
[11,1417,21,1433,null,null,null,null,null,null,0,12,null,null,null,"% of reinforcement given in 6 equal intervals based on number of trials "]
[22,1533,23,1559,null,null,null,null,null,null,0,22,null,null,null,"%_1","%_2","%_3","%_4","%_5","%_6"]
[11,1652,21,1661,null,null,null,null,null,null,0,12,null,null,"target sequence",{"$f":"$G$3","v":12},{"$f":"$G$3","v":12},{"$f":"$G$3","v":12},{"$f":"$G$3","v":12},{"$f":"$G$3","v":12},{"$f":"$G$3","v":12}]
[11,1749,21,1758,null,null,null,null,null,null,0,12,null,null,"total reinforcement",{"$f":"U8","v":5},{"$f":"Z8","v":6},{"$f":"AE8","v":7},{"$f":"AJ8","v":6},{"$f":"AO8","v":6},{"$f":"AT8","v":8}]
[11,1850,21,1859,null,null,null,null,null,null,0,12,null,null,"% target"]
[11,1952,21,1991,null,null,null,null,null,null,0,12,null,null,"CCRF"]
[11,2080,21,2090,null,null,null,null,null,null,0,12,null,null,"% CCRf"]
[11,2183,21,2192,null,null,null,null,null,null,0,12,null,null,"average response rate",{"$f":"D14/P20","v":89.625},{"$f":"(D21-D14)/Q20","v":102.28571428571429},{"$f":"(D29-D21)/R20","v":113.875},{"$f":"(D37-D29)/S20","v":110.5},{"$f":"(D44-D37)/T20","v":109.28571428571429},{"$f":"(D52-D44)/U20","v":110.25}]
[11,2287,21,2344,null,null,null,null,null,null,0,12]
[11,2435,21,2444,null,null,null,null,null,null,0,12]
[11,2531,21,2541,null,null,null,null,null,null,0,12]
[11,2631,21,2641,null,null,null,null,null,null,0,12]
[11,2733,21,2742,null,null,null,null,null,null,0,12]
[11,2832,21,2842,null,null,null,null,null,null,0,12]
[22,2947,23,2964,null,null,null,null,null,null,0,22]
[22,3100,23,3114,null,null,null,null,null,null,0,22]
[11,3219,21,3228,null,null,null,null,null,null,0,12]
[11,3321,21,3331,null,null,null,null,null,null,0,12]
[11,3418,21,3443,null,null,null,null,null,null,0,12]
[11,3537,21,3570,null,null,null,null,null,null,0,12]
[11,3657,21,3673,null,null,null,null,null,null,0,12]
[22,3771,23,3783,null,null,null,null,null,null,0,22]
[11,3875,21,3884,null,null,null,null,null,null,0,12]
[11,3975,21,3993,null,null,null,null,null,null,0,12]
[11,4078,21,4088,null,null,null,null,null,null,0,12]
[11,4176,21,4201,null,null,null,null,null,null,0,12]
[11,4289,21,4298,null,null,null,null,null,null,0,12]
[11,4387,21,4402,null,null,null,null,null,null,0,12]
[11,4488,21,4532,null,null,null,null,null,null,0,12]
[11,4626,21,4663,null,null,null,null,null,null,0,12]
[11,4752,21,4774,null,null,null,null,null,null,0,12]
[11,4866,21,4875,null,null,null,null,null,null,1,12]

{"sheet":"!LC08A30.056","index":30,"n_rows":63,"n_cols":48,"rows_kept":63,"cut":false,"hidden":false,"merged":[[4,39,4,42],[5,39,5,40],[4,44,4,47],[5,44,5,45],[4,24,4,27],[5,24,5,25],[4,29,4,32],[5,29,5,30],[4,34,4,37],[5,34,5,35],[1,1,1,2],[5,13,5,14],[18,13,18,14],[19,13,19,14],[4,19,4,22],[5,19,5,20]]}
["Report for:!LC08A30.056"]
["Date:","<date>"]
["Hen:","<hen>",null,null,null,"Correct Sequence",{"$f":"Start!J2","v":12},null,null,null,null,null,null,null,null,"Total Sequences in Data",{"$f":"4994-COUNTBLANK(L7:L5000)","v":57},null,null,null,null,"Total Sequences in Block Data",{"$f":"COUNTA(L7:L16)","v":10},null,null,null,"Total Sequences in Block Data",{"$f":"COUNTA(L17:L25)","v":9},null,null,null,"Total Sequences in Block Data",{"$f":"COUNTA(L26:L35)","v":10},null,null,null,"Total Sequences in Block Data",{"$f":"COUNTA(L36:L44)","v":9},null,null,null,"Total Sequences in Block Data",{"$f":"COUNTA(L45:L54)","v":10},null,null,null,"Total Sequences in Block Data",{"$f":"COUNTA(L55:L63)","v":9}]
[null,null,null,null,null,null,null,null,null,null,null,null,null,null,null,"Total Sequences in Summary",{"$f":"SUM(O7:O14)","v":57},null,null,null,null,"Total Sequences in Block Summary",{"$f":"SUM(U7:U14)","v":10},null,null,null,"Total Sequences in Block Summary",{"$f":"SUM(Z7:Z14)","v":9},null,null,null,"Total Sequences in Block Summary",{"$f":"SUM(AE7:AE14)","v":10},null,null,null,"Total Sequences in Block Summary",{"$f":"SUM(AJ7:AJ14)","v":9},null,null,null,"Total Sequences in Block Summary",{"$f":"SUM(AO7:AO14)","v":10},null,null,null,"Total Sequences in Block Summary",{"$f":"SUM(AT7:AT14)","v":9}]
[null,null,null,null,null,null,null,null,null,null,null,null,null,null,null,null,null,null,null,"Block 1",null,null,null,null,"Block 2",null,null,null,null,"Block 3",null,null,null,null,"Block 4",null,null,null,null,"Block 5",null,null,null,null,"Block 6"]
["Sequence\nComponent\n1","Time\n1","Sequence\nComponent\n2","Time\n2","Sequence\nComponent\n3","Time\n3","Sequence\nComponent\n4","Time\n4","Sequence\nComponent\n5","Time\n5","Correct?\n0=No 1=Yes","Sequence",null,"Frequency",null,"Relative Frequency","Variability",null,null,"Frequency",null,"Relative Frequency","Variability",null,"Frequency",null,"Relative Frequency","Variability",null,"Frequency",null,"Relative Frequency","Variability",null,"Frequency",null,"Relative Frequency","Variability",null,"Frequency",null,"Relative Frequency","Variability",null,"Frequency",null,"Relative Frequency","Variability"]
[22,12,23,28,null,null,null,null,null,null,0,22,null,11,{"$f":"COUNTIF($L$7:$L$500,N7)","v":0},{"$f":"O7/$Q$4","v":0},{"$f":"IF(P7=0,0,(P7*((LOG(P7))/LOG(2))))","v":0},null,null,{"$f":"N7","v":11},{"$f":"COUNTIF(L7:L16,T7)","v":0},{"$f":"U7/(W4-U8)","v":0},{"$f":"IF(V7=0,0,(V7*((LOG(V7))/LOG(2))))","v":0},null,{"$f":"N7","v":11},{"$f":"COUNTIF(L17:L25,Y7)","v":0},{"$f":"Z7/(AB4-Z8)","v":0},{"$f":"IF(AA7=0,0,(AA7*((LOG(AA7))/LOG(2))))","v":0},null,{"$f":"N7","v":11},{"$f":"COUNTIF(L26:L35,AD7)","v":0},{"$f":"AE7/(AG4-AE8)","v":0},{"$f":"IF(AF7=0,0,(AF7*((LOG(AF7))/LOG(2))))","v":0},null,{"$f":"N7","v":11},{"$f":"COUNTIF(L36:L44,AI7)","v":0},{"$f":"AJ7/(AL4-AJ8)","v":0},{"$f":"IF(AK7=0,0,(AK7*((LOG(AK7))/LOG(2))))","v":0},null,{"$f":"N7","v":11},{"$f":"COUNTIF(L45:L54,AN7)","v":0},{"$f":"AO7/(AQ4-AO8)","v":0},{"$f":"IF(AP7=0,0,(AP7*((LOG(AP7))/LOG(2))))","v":0},null,{"$f":"N7","v":11},{"$f":"COUNTIF(L55:L63,AS7)","v":0},{"$f":"AT7/(AV4-AT8)","v":{"$error":"#DIV/0!"}},{"$f":"IF(AU7=0,0,(AU7*((LOG(AU7))/LOG(2))))","v":{"$error":"#DIV/0!"}}]
[22,131,23,142,null,null,null,null,null,null,0,22,null,12,{"$f":"COUNTIF($L$7:$L$500,N8)","v":37},{"$f":"O8/$Q$4","v":0.64912280701754388},{"$f":"IF(P8=0,0,(P8*((LOG(P8))/LOG(2))))","v":-0.40468694729516314},null,null,{"$f":"N8","v":12},{"$f":"COUNTIF(L7:L16,T8)","v":4},null,null,null,{"$f":"N8","v":12},{"$f":"COUNTIF(L17:L25,Y8)","v":4},null,null,null,{"$f":"N8","v":12},{"$f":"COUNTIF(L26:L35,AD8)","v":6},null,null,null,{"$f":"N8","v":12},{"$f":"COUNTIF(L36:L44,AI8)","v":7},null,null,null,{"$f":"N8","v":12},{"$f":"COUNTIF(L45:L54,AN8)","v":7},null,null,null,{"$f":"N8","v":12},{"$f":"COUNTIF(L55:L63,AS8)","v":9}]
[11,242,21,251,null,null,null,null,null,null,0,12,null,21,{"$f":"COUNTIF($L$7:$L$500,N9)","v":0},{"$f":"O9/$Q$4","v":0},{"$f":"IF(P9=0,0,(P9*((LOG(P9))/LOG(2))))","v":0},null,null,{"$f":"N9","v":21},{"$f":"COUNTIF(L7:L16,T9)","v":0},{"$f":"U9/(W4-U8)","v":0},{"$f":"IF(V9=0,0,(V9*((LOG(V9))/LOG(2))))","v":0},null,{"$f":"N9","v":21},{"$f":"COUNTIF(L17:L25,Y9)","v":0},{"$f":"Z9/(AB4-Z8)","v":0},{"$f":"IF(AA9=0,0,(AA9*((LOG(AA9))/LOG(2))))","v":0},null,{"$f":"N9","v":21},{"$f":"COUNTIF(L26:L35,AD9)","v":0},{"$f":"AE9/(AG4-AE8)","v":0},{"$f":"IF(AF9=0,0,(AF9*((LOG(AF9))/LOG(2))))","v":0},null,{"$f":"N9","v":21},{"$f":"COUNTIF(L36:L44,AI9)","v":0},{"$f":"AJ9/(AL4-AJ8)","v":0},{"$f":"IF(AK9=0,0,(AK9*((LOG(AK9))/LOG(2))))","v":0},null,{"$f":"N9","v":21},{"$f":"COUNTIF(L45:L54,AN9)","v":0},{"$f":"AO9/(AQ4-AO8)","v":0},{"$f":"IF(AP9=0,0,(AP9*((LOG(AP9))/LOG(2))))","v":0},null,{"$f":"N9","v":21},{"$f":"COUNTIF(L55:L63,AS9)","v":0},{"$f":"AT9/(AV4-AT8)","v":{"$error":"#DIV/0!"}},{"$f":"IF(AU9=0,0,(AU9*((LOG(AU9))/LOG(2))))","v":{"$error":"#DIV/0!"}}]
[22,358,23,369,null,null,null,null,null,null,0,22,null,22,{"$f":"COUNTIF($L$7:$L$500,N10)","v":20},{"$f":"O10/$Q$4","v":0.35087719298245612},{"$f":"IF(P10=0,0,(P10*((LOG(P10))/LOG(2))))","v":-0.53016207693943129},null,null,{"$f":"N10","v":22},{"$f":"COUNTIF(L7:L16,T10)","v":6},{"$f":"U10/(W4-U8)","v":1},{"$f":"IF(V10=0,0,(V10*((LOG(V10))/LOG(2))))","v":0},null,{"$f":"N10","v":22},{"$f":"COUNTIF(L17:L25,Y10)","v":5},{"$f":"Z10/(AB4-Z8)","v":1},{"$f":"IF(AA10=0,0,(AA10*((LOG(AA10))/LOG(2))))","v":0},null,{"$f":"N10","v":22},{"$f":"COUNTIF(L26:L35,AD10)","v":4},{"$f":"AE10/(AG4-AE8)","v":1},{"$f":"IF(AF10=0,0,(AF10*((LOG(AF10))/LOG(2))))","v":0},null,{"$f":"N10","v":22},{"$f":"COUNTIF(L36:L44,AI10)","v":2},{"$f":"AJ10/(AL4-AJ8)","v":1},{"$f":"IF(AK10=0,0,(AK10*((LOG(AK10))/LOG(2))))","v":0},null,{"$f":"N10","v":22},{"$f":"COUNTIF(L45:L54,AN10)","v":3},{"$f":"AO10/(AQ4-AO8)","v":1},{"$f":"IF(AP10=0,0,(AP10*((LOG(AP10))/LOG(2))))","v":0},null,{"$f":"N10","v":22},{"$f":"COUNTIF(L55:L63,AS10)","v":0},{"$f":"AT10/(AV4-AT8)","v":{"$error":"#DIV/0!"}},{"$f":"IF(AU10=0,0,(AU10*((LOG(AU10))/LOG(2))))","v":{"$error":"#DIV/0!"}}]
[22,479,23,489,null,null,null,null,null,null,0,22,null,null,null,null,null,null,null,{"$f":"N11","v":0},{"$f":"COUNTIF(L7:L16,T11)","v":0},{"$f":"U11/(W4-U8)","v":0},{"$f":"IF(V11=0,0,(V11*((LOG(V11))/LOG(2))))","v":0},null,{"$f":"N11","v":0},{"$f":"COUNTIF(L17:L25,Y11)","v":0},{"$f":"Z11/(AB4-Z8)","v":0},{"$f":"IF(AA11=0,0,(AA11*((LOG(AA11))/LOG(2))))","v":0},null,{"$f":"N11","v":0},{"$f":"COUNTIF(L26:L35,AD11)","v":0},{"$f":"AE11/(AG4-AE8)","v":0},{"$f":"IF(AF11=0,0,(AF11*((LOG(AF11))/LOG(2))))","v":0},null,{"$f":"N11","v":0},{"$f":"COUNTIF(L36:L44,AI11)","v":0},{"$f":"AJ11/(AL4-AJ8)","v":0},{"$f":"IF(AK11=0,0,(AK11*((LOG(AK11))/LOG(2))))","v":0},null,{"$f":"N11","v":0},{"$f":"COUNTIF(L45:L54,AN11)","v":0},{"$f":"AO11/(AQ4-AO8)","v":0},{"$f":"IF(AP11=0,0,(AP11*((LOG(AP11))/LOG(2))))","v":0},null,{"$f":"N11","v":0},{"$f":"COUNTIF(L55:L63,AS11)","v":0},{"$f":"AT11/(AV4-AT8)","v":{"$error":"#DIV/0!"}},{"$f":"IF(AU11=0,0,(AU11*((LOG(AU11))/LOG(2))))","v":{"$error":"#DIV/0!"}}]
[11,577,21,587,null,null,null,null,null,null,0,12,null,null,null,null,null,null,null,{"$f":"N12","v":0},{"$f":"COUNTIF(L7:L16,T12)","v":0},{"$f":"U12/(W4-U8)","v":0},{"$f":"IF(V12=0,0,(V12*((LOG(V12))/LOG(2))))","v":0},null,{"$f":"N12","v":0},{"$f":"COUNTIF(L17:L25,Y12)","v":0},{"$f":"Z12/(AB4-Z8)","v":0},{"$f":"IF(AA12=0,0,(AA12*((LOG(AA12))/LOG(2))))","v":0},null,{"$f":"N12","v":0},{"$f":"COUNTIF(L26:L35,AD12)","v":0},{"$f":"AE12/(AG4-AE8)","v":0},{"$f":"IF(AF12=0,0,(AF12*((LOG(AF12))/LOG(2))))","v":0},null,{"$f":"N12","v":0},{"$f":"COUNTIF(L36:L44,AI12)","v":0},{"$f":"AJ12/(AL4-AJ8)","v":0},{"$f":"IF(AK12=0,0,(AK12*((LOG(AK12))/LOG(2))))","v":0},null,{"$f":"N12","v":0},{"$f":"COUNTIF(L45:L54,AN12)","v":0},{"$f":"AO12/(AQ4-AO8)","v":0},{"$f":"IF(AP12=0,0,(AP12*((LOG(AP12))/LOG(2))))","v":0},null,{"$f":"N12","v":0},{"$f":"COUNTIF(L55:L63,AS12)","v":0},{"$f":"AT12/(AV4-AT8)","v":{"$error":"#DIV/0!"}},{"$f":"IF(AU12=0,0,(AU12*((LOG(AU12))/LOG(2))))","v":{"$error":"#DIV/0!"}}]
[11,673,21,682,null,null,null,null,null,null,0,12,null,null,null,null,null,null,null,{"$f":"N13","v":0},{"$f":"COUNTIF(L7:L16,T13)","v":0},{"$f":"U13/(W4-U8)","v":0},{"$f":"IF(V13=0,0,(V13*((LOG(V13))/LOG(2))))","v":0},null,{"$f":"N13","v":0},{"$f":"COUNTIF(L17:L25,Y13)","v":0},{"$f":"Z13/(AB4-Z8)","v":0},{"$f":"IF(AA13=0,0,(AA13*((LOG(AA13))/LOG(2))))","v":0},null,{"$f":"N13","v":0},{"$f":"COUNTIF(L26:L35,AD13)","v":0},{"$f":"AE13/(AG4-AE8)","v":0},{"$f":"IF(AF13=0,0,(AF13*((LOG(AF13))/LOG(2))))","v":0},null,{"$f":"N13","v":0},{"$f":"COUNTIF(L36:L44,AI13)","v":0},{"$f":"AJ13/(AL4-AJ8)","v":0},{"$f":"IF(AK13=0,0,(AK13*((LOG(AK13))/LOG(2))))","v":0},null,{"$f":"N13","v":0},{"$f":"COUNTIF(L45:L54,AN13)","v":0},{"$f":"AO13/(AQ4-AO8)","v":0},{"$f":"IF(AP13=0,0,(AP13*((LOG(AP13))/LOG(2))))","v":0},null,{"$f":"N13","v":0},{"$f":"COUNTIF(L55:L63,AS13)","v":0},{"$f":"AT13/(AV4-AT8)","v":{"$error":"#DIV/0!"}},{"$f":"IF(AU13=0,0,(AU13*((LOG(AU13))/LOG(2))))","v":{"$error":"#DIV/0!"}}]
[22,788,23,802,null,null,null,null,null,null,0,22,null,null,null,null,null,null,null,{"$f":"N14","v":0},{"$f":"COUNTIF(L7:L16,T14)","v":0},{"$f":"U14/(W4-U8)","v":0},{"$f":"IF(V14=0,0,(V14*((LOG(V14))/LOG(2))))","v":0},null,{"$f":"N14","v":0},{"$f":"COUNTIF(L17:L25,Y14)","v":0},{"$f":"Z14/(AB4-Z8)","v":0},{"$f":"IF(AA14=0,0,(AA14*((LOG(AA14))/LOG(2))))","v":0},null,{"$f":"N14","v":0},{"$f":"COUNTIF(L26:L35,AD14)","v":0},{"$f":"AE14/(AG4-AE8)","v":0},{"$f":"IF(AF14=0,0,(AF14*((LOG(AF14))/LOG(2))))","v":0},null,{"$f":"N14","v":0},{"$f":"COUNTIF(L36:L44,AI14)","v":0},{"$f":"AJ14/(AL4-AJ8)","v":0},{"$f":"IF(AK14=0,0,(AK14*((LOG(AK14))/LOG(2))))","v":0},null,{"$f":"N14","v":0},{"$f":"COUNTIF(L45:L54,AN14)","v":0},{"$f":"AO14/(AQ4-AO8)","v":0},{"$f":"IF(AP14=0,0,(AP14*((LOG(AP14))/LOG(2))))","v":0},null,{"$f":"N14","v":0},{"$f":"COUNTIF(L55:L63,AS14)","v":0},{"$f":"AT14/(AV4-AT8)","v":{"$error":"#DIV/0!"}},{"$f":"IF(AU14=0,0,(AU14*((LOG(AU14))/LOG(2))))","v":{"$error":"#DIV/0!"}}]
[11,896,21,906,null,null,null,null,null,null,0,12,null,null,null,{"$f":"SUM(P7:P14)","v":1},{"$f":"-SUM(Q7:Q14)","v":0.93484902423459437},null,null,null,null,{"$f":"SUM(V7:V14)","v":1},{"$f":"-SUM(W7:W14)","v":0},null,null,null,{"$f":"SUM(AA7:AA14)","v":1},{"$f":"-SUM(AB7:AB14)","v":0},null,null,null,{"$f":"SUM(AF7:AF14)","v":1},{"$f":"-SUM(AG7:AG14)","v":0},null,null,null,{"$f":"SUM(AK7:AK14)","v":1},{"$f":"-SUM(AL7:AL14)","v":0},null,null,null,{"$f":"SUM(AP7:AP14)","v":1},{"$f":"-SUM(AQ7:AQ14)","v":0},null,null,null,{"$f":"SUM(AU7:AU14)","v":{"$error":"#DIV/0!"}},{"$f":"-SUM(AV7:AV14)","v":{"$error":"#DIV/0!"}}]
[22,1008,23,1018,null,null,null,null,null,null,0,22,null,null,null,"U=",{"$f":"Q15/(LOG(Q4)/LOG(2))","v":0.16027201300974006},null,null,null,null,"U1=",{"$f":"W15/(LOG(W4)/LOG(2))","v":0},null,null,null,"U2=",{"$f":"AB15/(LOG(AB4)/LOG(2))","v":0},null,null,null,"U3=",{"$f":"AG15/(LOG(AG4)/LOG(2))","v":0},null,null,null,"U4=",{"$f":"AL15/(LOG(AL4)/LOG(2))","v":0},null,null,null,"U5=",{"$f":"AQ15/(LOG(AQ4)/LOG(2))","v":0},null,null,null,"U6=",{"$f":"AV15/(LOG(AV4)/LOG(2))","v":{"$error":"#DIV/0!"}}]
[22,1132,23,1146,null,null,null,null,null,null,0,22]
[11,1240,21,1250,null,null,null,null,null,null,0,12]
[11,1344,21,1356,null,null,null,null,null,null,0,12,null,"Total Target Seq"]
[22,1469,23,1478,null,null,null,null,null,null,0,22,null,{"$f":"COUNTIF(L7:L63,G3)","v":37},null,10,9,10,9,10,9]
[22,1597,23,1607,null,null,null,null,null,null,0,22,null,null,null,"% of reinforcement given in 6 equal intervals based on number of trials "]
[22,1719,23,1752,null,null,null,null,null,null,0,22,null,null,null,"%_1","%_2","%_3","%_4","%_5","%_6"]
[22,1861,23,1871,null,null,null,null,null,null,0,22,null,null,"target sequence",{"$f":"$G$3","v":12},{"$f":"$G$3","v":12},{"$f":"$G$3","v":12},{"$f":"$G$3","v":12},{"$f":"$G$3","v":12},{"$f":"$G$3","v":12}]
[11,1972,21,1983,null,null,null,null,null,null,0,12,null,null,"total reinforcement",{"$f":"U8","v":4},{"$f":"Z8","v":4},{"$f":"AE8","v":6},{"$f":"AJ8","v":7},{"$f":"AO8","v":7},{"$f":"AT8","v":9}]
[11,2077,21,2089,null,null,null,null,null,null,0,12,null,null,"% target"]
[11,2174,21,2212,null,null,null,null,null,null,0,12,null,null,"CCRF"]
[22,2320,23,2348,null,null,null,null,null,null,0,22,null,null,"% CCRf"]
[22,2464,23,2485,null,null,null,null,null,null,0,22,null,null,"average response rate",{"$f":"D16/P20","v":101.8},{"$f":"(D25-D16)/Q20","v":119},{"$f":"(D35-D25)/R20","v":123},{"$f":"(D44-D35)/S20","v":106.66666666666667},{"$f":"(D54-D44)/T20","v":109.5},{"$f":"(D63-D54)/U20","v":99.777777777777771}]
[11,2592,21,2603,null,null,null,null,null,null,0,12]
[22,2712,23,2740,null,null,null,null,null,null,0,22]
[11,2836,21,2846,null,null,null,null,null,null,0,12]
[11,2945,21,2990,null,null,null,null,null,null,0,12]
[11,3082,21,3093,null,null,null,null,null,null,0,12]
[22,3192,23,3209,null,null,null,null,null,null,0,22]
[11,3308,21,3319,null,null,null,null,null,null,0,12]
[11,3408,21,3418,null,null,null,null,null,null,0,12]
[22,3525,23,3533,null,null,null,null,null,null,0,22]
[11,3631,21,3642,null,null,null,null,null,null,0,12]
[11,3738,21,3749,null,null,null,null,null,null,0,12]
[22,3849,23,3859,null,null,null,null,null,null,0,22]
[11,3957,21,3968,null,null,null,null,null,null,0,12]
[11,4066,21,4077,null,null,null,null,null,null,0,12]
[11,4172,21,4182,null,null,null,null,null,null,0,12]
[11,4267,21,4279,null,null,null,null,null,null,0,12]
[22,4387,23,4408,null,null,null,null,null,null,0,22]
[11,4498,21,4508,null,null,null,null,null,null,0,12]
[11,4597,21,4607,null,null,null,null,null,null,0,12]
[11,4694,21,4704,null,null,null,null,null,null,0,12]
[22,4800,23,4814,null,null,null,null,null,null,0,22]
[11,4912,21,4931,null,null,null,null,null,null,0,12]
[11,5029,21,5038,null,null,null,null,null,null,0,12]
[22,5153,23,5162,null,null,null,null,null,null,0,22]
[11,5257,21,5267,null,null,null,null,null,null,0,12]
[11,5363,21,5374,null,null,null,null,null,null,0,12]
[11,5460,21,5470,null,null,null,null,null,null,0,12]
[11,5558,21,5568,null,null,null,null,null,null,0,12]
[11,5658,21,5668,null,null,null,null,null,null,0,12]
[11,5756,21,5768,null,null,null,null,null,null,0,12]
[11,5857,21,5867,null,null,null,null,null,null,0,12]
[11,5956,21,5977,null,null,null,null,null,null,0,12]
[11,6067,21,6078,null,null,null,null,null,null,0,12]
[11,6164,21,6174,null,null,null,null,null,null,0,12]
[11,6262,21,6272,null,null,null,null,null,null,1,12]