{"text_format":"1","workbook":"xlsx","n_sheets":33,"sheets":["Sample Report","Summary","Start","!L831C50.056","!L901B40.056","!L902D10.056","!L903B00.056","!L904B40.056","!L905A40.056","!L906C20.056","!L907B30.056","!L908920.056","!L909D30.056","!L910B20.056","!L911D10.056","!L912C00.056","!L913A50.056","!L914B50.056","!L915A50.056","!L916A50.056","!L917B00.056","!L918A20.056","!L919B30.056","!L920B40.056","!L921C10.056","!L922C40.056","!L923B50.056","!L924C20.056","!L925A10.056","!L926A50.056","!L927B20.056","!L928830.056","!L929920.056"],"not_rendered":{"charts":0,"images":0,"macros":1,"external_links":0,"defined_names":0,"comments":0,"pivot_tables":0},"unopened":[],"bounds":{"document_bytes":16777216,"sheet_cells":100000,"rows_first":2000,"rows_last":500,"rows_between":2000,"halvings":0,"cell_chars":16384,"cell_head_chars":4096},"cells_cut":0,"cells_raw":0,"read":"whole","date_system":"1900"}

{"sheet":"Sample Report","index":0,"n_rows":12,"n_cols":11,"rows_kept":12,"cut":false,"hidden":true,"merged":[[7,0,7,6]]}
[]
["Date"]
["Hen"]
["Program"]
["Start at 999999"]
["Sequence component 1","Time 1","Seqeunce Component 2","Time 2","Seqeunce Component 3","Time 3","Correct   0 = No 1=Yes",null,null,"Seqeunce","Time"]
[12,7,12,42,13,18,"if 77 new line,                                  if 31 or 41 = yes new line on 77, ",null,null,"=string of Seqeunce compponent 1, 2 & 3","=time 3"]
["This continues until ther is a 1 on its own to indicate start of summary data"]
[null,null,null,null,null,null,null,null,null,"10-19 =1"]
["Summary Data ",null,null,null,null,null,null,null,null,"20-29 =2"]
["Correct","Incorrect","Rft","total","Av Correct","Av Incorrect","Percent correct","Time",null,"in this example the seqeunce would be 111"]
[40,33,40,73,23.95,15,54,806]

{"sheet":"Summary","index":1,"n_rows":32,"n_cols":24,"rows_kept":32,"cut":false,"hidden":false,"merged":[]}
[]
["Day","Date","Average Response Rate","Target %","RF for non correct sequence","U Value",null,null,null,null,"Block 1","Block 2","Block 3","Block 4","Block 5","Block 6"]
[1,{"$f":"'!L831C50.056'!B2:C2","v":"<date>"},{"$f":"('!L831C50.056'!H172/60)/'!L831C50.056'!Q3","v":0},{"$f":"'!L831C50.056'!N28/'!L831C50.056'!Q3","v":0},{"$f":"SUM('!L831C50.056'!L28:Q28)/'!L831C50.056'!Q3","v":7.6927710843373491},{"$f":"'!L831C50.056'!Q24","v":0.18880031719000342},null,null,null,"Average Response Rate",{"$f":"AVERAGE(C3:C7)","v":1.6986555577433708},{"$f":"AVERAGE(C8:C12)","v":2.0294549850055583},{"$f":"AVERAGE(C13:C17)","v":2.0204072933351394},{"$f":"AVERAGE(C18:C22)","v":1.5963325687845167},{"$f":"AVERAGE(C23:C27)","v":1.5957963500417645},{"$f":"AVERAGE(C28:C32)","v":1.6264001147045235}]
[2,{"$f":"'!L901B40.056'!B2:C2","v":"<date>"},{"$f":"('!L901B40.056'!H179/60)/'!L901B40.056'!Q3","v":2.3032755298651253},{"$f":"'!L901B40.056'!N28/'!L901B40.056'!Q3","v":0},{"$f":"SUM('!L901B40.056'!L28:Q28)/'!L901B40.056'!Q3","v":6.7630057803468207},{"$f":"'!L901B40.056'!Q24","v":0.23838617632328543},null,null,null,"Target %",{"$f":"AVERAGE(D3:D7)","v":0},{"$f":"AVERAGE(D8:D12)","v":1.092896174863388E-3},{"$f":"AVERAGE(D13:D17)","v":1.020408163265306E-3},{"$f":"AVERAGE(D18:D22)","v":0},{"$f":"AVERAGE(D23:D27)","v":0},{"$f":"AVERAGE(D28:D32)","v":0}]
[3,{"$f":"'!L902D10.056'!B2:C2","v":"<date>"},{"$f":"('!L902D10.056'!H195/60)/'!L902D10.056'!Q3","v":2.1101410934744269},{"$f":"'!L902D10.056'!N28/'!L902D10.056'!Q3","v":0},{"$f":"SUM('!L902D10.056'!L28:Q28)/'!L902D10.056'!Q3","v":6.2116402116402121},{"$f":"'!L902D10.056'!Q24","v":0.1746228804763188},null,null,null,"CCRF",{"$f":"AVERAGE(E3:E7)","v":6.5469344845259014},{"$f":"AVERAGE(E8:E12)","v":5.9841911053108756},{"$f":"AVERAGE(E13:E17)","v":5.958098112185132},{"$f":"AVERAGE(E18:E22)","v":5.9225369134126282},{"$f":"AVERAGE(E23:E27)","v":5.9052032567671837},{"$f":"AVERAGE(E28:E32)","v":5.9421767977556126}]
[4,{"$f":"'!L903B00.056'!B2:C2","v":"<date>"},{"$f":"('!L903B00.056'!H197/60)/'!L903B00.056'!Q3","v":2.0935427574171031},{"$f":"'!L903B00.056'!N28/'!L903B00.056'!Q3","v":0},{"$f":"SUM('!L903B00.056'!L28:Q28)/'!L903B00.056'!Q3","v":6.151832460732984},{"$f":"'!L903B00.056'!Q24","v":5.9644777605719318E-2},null,null,null,"U Value",{"$f":"AVERAGE(F3:F7)","v":0.14678742542737028},{"$f":"AVERAGE(F8:F12)","v":4.398241041703399E-2},{"$f":"AVERAGE(F13:F17)","v":3.4966208086494796E-2},{"$f":"AVERAGE(F18:F22)","v":4.7665600090682658E-2},{"$f":"AVERAGE(F23:F27)","v":1.5889395752472918E-2},{"$f":"AVERAGE(F28:F32)","v":1.0262546569996605E-2}]
[5,{"$f":"'!L904B40.056'!B2:C2","v":"<date>"},{"$f":"('!L904B40.056'!H207/60)/'!L904B40.056'!Q3","v":1.986318407960199},{"$f":"'!L904B40.056'!N28/'!L904B40.056'!Q3","v":0},{"$f":"SUM('!L904B40.056'!L28:Q28)/'!L904B40.056'!Q3","v":5.9154228855721396},{"$f":"'!L904B40.056'!Q24","v":7.2482975541524483E-2}]
[6,{"$f":"'!L905A40.056'!B2:C2","v":"<date>"},{"$f":"('!L905A40.056'!H211/60)/'!L905A40.056'!Q3","v":1.9456910569105692},{"$f":"'!L905A40.056'!N28/'!L905A40.056'!Q3","v":0},{"$f":"SUM('!L905A40.056'!L28:Q28)/'!L905A40.056'!Q3","v":5.7512195121951217},{"$f":"'!L905A40.056'!Q24","v":1.4342823953919056E-2}]
[7,{"$f":"'!L906C20.056'!B2:C2","v":"<date>"},{"$f":"('!L906C20.056'!H207/60)/'!L906C20.056'!Q3","v":1.9836650082918739},{"$f":"'!L906C20.056'!N28/'!L906C20.056'!Q3","v":0},{"$f":"SUM('!L906C20.056'!L28:Q28)/'!L906C20.056'!Q3","v":5.8606965174129355},{"$f":"'!L906C20.056'!Q24","v":3.2302710484191512E-2},{"$f":"K3","v":1.6986555577433708},{"$f":"L3","v":2.0294549850055583},{"$f":"M3","v":2.0204072933351394},{"$f":"N3","v":1.5963325687845167},{"$f":"O3","v":1.5957963500417645},{"$f":"P3","v":1.6264001147045235},{"$f":"K4","v":0},{"$f":"L4","v":1.092896174863388E-3},{"$f":"M4","v":1.020408163265306E-3},{"$f":"N4","v":0},{"$f":"O4","v":0},{"$f":"P4","v":0},{"$f":"K6","v":0.14678742542737028},{"$f":"L6","v":4.398241041703399E-2},{"$f":"M6","v":3.4966208086494796E-2},{"$f":"N6","v":4.7665600090682658E-2},{"$f":"O6","v":1.5889395752472918E-2},{"$f":"P6","v":1.0262546569996605E-2}]
[8,{"$f":"'!L907B30.056'!B2:C2","v":"<date>"},{"$f":"('!L907B30.056'!H198/60)/'!L907B30.056'!Q3","v":2.0787326388888889},{"$f":"'!L907B30.056'!N28/'!L907B30.056'!Q3","v":0},{"$f":"SUM('!L907B30.056'!L28:Q28)/'!L907B30.056'!Q3","v":6.119791666666667},{"$f":"'!L907B30.056'!Q24","v":5.1926628414128012E-2}]
[9,{"$f":"'!L908920.056'!B2:C2","v":"<date>"},{"$f":"('!L908920.056'!H189/60)/'!L908920.056'!Q3","v":2.1798724954462658},{"$f":"'!L908920.056'!N28/'!L908920.056'!Q3","v":5.4644808743169399E-3},{"$f":"SUM('!L908920.056'!L28:Q28)/'!L908920.056'!Q3","v":6.4098360655737707},{"$f":"'!L908920.056'!Q24","v":8.8103395865007803E-2}]
[10,{"$f":"'!L909D30.056'!B2:C2","v":"<date>"},{"$f":"('!L909D30.056'!H210/60)/'!L909D30.056'!Q3","v":1.959313725490196},{"$f":"'!L909D30.056'!N28/'!L909D30.056'!Q3","v":0},{"$f":"SUM('!L909D30.056'!L28:Q28)/'!L909D30.056'!Q3","v":5.7794117647058822},{"$f":"'!L909D30.056'!Q24","v":3.3236493367923572E-2}]
[11,{"$f":"'!L910B20.056'!B2:C2","v":"<date>"},{"$f":"('!L910B20.056'!H206/60)/'!L910B20.056'!Q3","v":1.9994999999999998},{"$f":"'!L910B20.056'!N28/'!L910B20.056'!Q3","v":0},{"$f":"SUM('!L910B20.056'!L28:Q28)/'!L910B20.056'!Q3","v":5.89},{"$f":"'!L910B20.056'!Q24","v":1.7809747361849069E-2}]
[12,{"$f":"'!L911D10.056'!B2:C2","v":"<date>"},{"$f":"('!L911D10.056'!H203/60)/'!L911D10.056'!Q3","v":2.0252115059221656},{"$f":"'!L911D10.056'!N28/'!L911D10.056'!Q3","v":0},{"$f":"SUM('!L911D10.056'!L28:Q28)/'!L911D10.056'!Q3","v":5.9746192893401018},{"$f":"'!L911D10.056'!Q24","v":3.0805155131831043E-2}]
[13,{"$f":"'!L912C00.056'!B2:C2","v":"<date>"},{"$f":"('!L912C00.056'!H201/60)/'!L912C00.056'!Q3","v":2.0316326530612243},{"$f":"'!L912C00.056'!N28/'!L912C00.056'!Q3","v":5.1020408163265302E-3},{"$f":"SUM('!L912C00.056'!L28:Q28)/'!L912C00.056'!Q3","v":6.0051020408163263},{"$f":"'!L912C00.056'!Q24","v":3.6513765060288403E-2}]
[14,{"$f":"'!L913A50.056'!B2:C2","v":"<date>"},{"$f":"('!L913A50.056'!H201/60)/'!L913A50.056'!Q3","v":2.0510256410256411},{"$f":"'!L913A50.056'!N28/'!L913A50.056'!Q3","v":0},{"$f":"SUM('!L913A50.056'!L28:Q28)/'!L913A50.056'!Q3","v":6.0307692307692307},{"$f":"'!L913A50.056'!Q24","v":6.1351612674676863E-2}]
[15,{"$f":"'!L914B50.056'!B2:C2","v":"<date>"},{"$f":"('!L914B50.056'!H206/60)/'!L914B50.056'!Q3","v":1.9946666666666666},{"$f":"'!L914B50.056'!N28/'!L914B50.056'!Q3","v":0},{"$f":"SUM('!L914B50.056'!L28:Q28)/'!L914B50.056'!Q3","v":5.89},{"$f":"'!L914B50.056'!Q24","v":2.8350760203828609E-2}]
[16,{"$f":"'!L915A50.056'!B2:C2","v":"<date>"},{"$f":"('!L915A50.056'!H200/60)/'!L915A50.056'!Q3","v":0},{"$f":"'!L915A50.056'!N28/'!L915A50.056'!Q3","v":0},{"$f":"SUM('!L915A50.056'!L28:Q28)/'!L915A50.056'!Q3","v":6.0618556701030926},{"$f":"'!L915A50.056'!Q24","v":7.289968986715703E-2}]
[17,{"$f":"'!L916A50.056'!B2:C2","v":"<date>"},{"$f":"('!L916A50.056'!H208/60)/'!L916A50.056'!Q3","v":1.9801980198019802},{"$f":"'!L916A50.056'!N28/'!L916A50.056'!Q3","v":0},{"$f":"SUM('!L916A50.056'!L28:Q28)/'!L916A50.056'!Q3","v":5.8316831683168315},{"$f":"'!L916A50.056'!Q24","v":6.3628946042452547E-2}]
[18,{"$f":"'!L917B00.056'!B2:C2","v":"<date>"},{"$f":"('!L917B00.056'!H205/60)/'!L917B00.056'!Q3","v":1.9918333333333333},{"$f":"'!L917B00.056'!N28/'!L917B00.056'!Q3","v":0},{"$f":"SUM('!L917B00.056'!L28:Q28)/'!L917B00.056'!Q3","v":5.89},{"$f":"'!L917B00.056'!Q24","v":4.3196032932084141E-2}]
[19,{"$f":"'!L918A20.056'!B2:C2","v":"<date>"},{"$f":"('!L918A20.056'!H205/60)/'!L918A20.056'!Q3","v":2.0021775544388611},{"$f":"'!L918A20.056'!N28/'!L918A20.056'!Q3","v":0},{"$f":"SUM('!L918A20.056'!L28:Q28)/'!L918A20.056'!Q3","v":5.9145728643216078},{"$f":"'!L918A20.056'!Q24","v":1.0623291013503988E-2}]
[20,{"$f":"'!L919B30.056'!B2:C2","v":"<date>"},{"$f":"('!L919B30.056'!H205/60)/'!L919B30.056'!Q3","v":2.007453936348409},{"$f":"'!L919B30.056'!N28/'!L919B30.056'!Q3","v":0},{"$f":"SUM('!L919B30.056'!L28:Q28)/'!L919B30.056'!Q3","v":5.9145728643216078},{"$f":"'!L919B30.056'!Q24","v":4.7980040598215631E-2}]
[21,{"$f":"'!L920B40.056'!B2:C2","v":"<date>"},{"$f":"('!L920B40.056'!H207/60)/'!L920B40.056'!Q3","v":1.9825870646766168},{"$f":"'!L920B40.056'!N28/'!L920B40.056'!Q3","v":0},{"$f":"SUM('!L920B40.056'!L28:Q28)/'!L920B40.056'!Q3","v":5.8606965174129355},{"$f":"'!L920B40.056'!Q24","v":3.2793578846651225E-2}]
[22,{"$f":"'!L921C10.056'!B2:C2","v":"<date>"},{"$f":"('!L921C10.056'!H203/60)/'!L921C10.056'!Q3","v":0},{"$f":"'!L921C10.056'!N28/'!L921C10.056'!Q3","v":0},{"$f":"SUM('!L921C10.056'!L28:Q28)/'!L921C10.056'!Q3","v":5.9746192893401018},{"$f":"'!L921C10.056'!Q24","v":1.8183737369215362E-2}]
[23,{"$f":"'!L922C40.056'!B2:C2","v":"<date>"},{"$f":"('!L922C40.056'!H205/60)/'!L922C40.056'!Q3","v":2.0049413735343387},{"$f":"'!L922C40.056'!N28/'!L922C40.056'!Q3","v":0},{"$f":"SUM('!L922C40.056'!L28:Q28)/'!L922C40.056'!Q3","v":5.9145728643216078},{"$f":"'!L922C40.056'!Q24","v":1.6585749887061782E-2}]
[24,{"$f":"'!L923B50.056'!B2:C2","v":"<date>"},{"$f":"('!L923B50.056'!H204/60)/'!L923B50.056'!Q3","v":2.0142255892255894},{"$f":"'!L923B50.056'!N28/'!L923B50.056'!Q3","v":0},{"$f":"SUM('!L923B50.056'!L28:Q28)/'!L923B50.056'!Q3","v":5.9444444444444446},{"$f":"'!L923B50.056'!Q24","v":6.0031289810294824E-3}]
[25,{"$f":"'!L924C20.056'!B2:C2","v":"<date>"},{"$f":"('!L924C20.056'!H208/60)/'!L924C20.056'!Q3","v":1.9772277227722772},{"$f":"'!L924C20.056'!N28/'!L924C20.056'!Q3","v":0},{"$f":"SUM('!L924C20.056'!L28:Q28)/'!L924C20.056'!Q3","v":5.8316831683168315},{"$f":"'!L924C20.056'!Q24","v":5.880783678406748E-3}]
[26,{"$f":"'!L925A10.056'!B2:C2","v":"<date>"},{"$f":"('!L925A10.056'!H205/60)/'!L925A10.056'!Q3","v":2.0078726968174205},{"$f":"'!L925A10.056'!N28/'!L925A10.056'!Q3","v":0},{"$f":"SUM('!L925A10.056'!L28:Q28)/'!L925A10.056'!Q3","v":5.9145728643216078},{"$f":"'!L925A10.056'!Q24","v":1.7901809239939327E-2}]
[27,{"$f":"'!L926A50.056'!B2:C2","v":"<date>"},{"$f":"('!L926A50.056'!H204/60)/'!L926A50.056'!Q3","v":2.0131313131313133},{"$f":"'!L926A50.056'!N28/'!L926A50.056'!Q3","v":0},{"$f":"SUM('!L926A50.056'!L28:Q28)/'!L926A50.056'!Q3","v":5.9444444444444446},{"$f":"'!L926A50.056'!Q24","v":6.0031289810294824E-3}]
[28,{"$f":"'!L927B20.056'!B2:C2","v":"<date>"},{"$f":"('!L927B20.056'!H212/60)/'!L927B20.056'!Q3","v":0},{"$f":"'!L927B20.056'!N28/'!L927B20.056'!Q3","v":0},{"$f":"SUM('!L927B20.056'!L28:Q28)/'!L927B20.056'!Q3","v":5.7281553398058254},{"$f":"'!L927B20.056'!Q24","v":0}]
[29,{"$f":"'!L928830.056'!B2:C2","v":"<date>"},{"$f":"('!L928830.056'!H200/60)/'!L928830.056'!Q3","v":2.0585051546391755},{"$f":"'!L928830.056'!N28/'!L928830.056'!Q3","v":0},{"$f":"SUM('!L928830.056'!L28:Q28)/'!L928830.056'!Q3","v":6.0618556701030926},{"$f":"'!L928830.056'!Q24","v":1.2256170971734709E-2}]
[30,{"$f":"'!L929920.056'!B2:C2","v":"<date>"},{"$f":"('!L929920.056'!H200/60)/'!L929920.056'!Q3","v":2.0524914089347077},{"$f":"'!L929920.056'!N28/'!L929920.056'!Q3","v":0},{"$f":"SUM('!L929920.056'!L28:Q28)/'!L929920.056'!Q3","v":6.0618556701030926},{"$f":"'!L929920.056'!Q24","v":1.5151623657279503E-2}]

{"sheet":"Start","index":2,"n_rows":36,"n_cols":10,"rows_kept":36,"cut":false,"hidden":false,"merged":[]}
[null,null,null,null,null,"Use Folder 51",null,"Auto Clean Up",null,"Correct sequence"]
[null,null,null,null,null,false,null,true,null,2212]
[]
["Working with Folder",null,null,null,null,null,"Process All/Or Pick A number: ALL or an integer"]
["E:\\Hen Data\\Raw Data\\56\\Phase 3 ANY\\",null,null,null,null,null,"ALL"]
["Filenames:"]
["!L831C50.056",null,null,null,null,null,"Paint Cells"]
["!L901B40.056",null,null,null,null,null,false]
["!L902D10.056"]
["!L903B00.056"]
["!L904B40.056"]
["!L905A40.056"]
["!L906C20.056"]
["!L907B30.056"]
["!L908920.056"]
["!L909D30.056"]
["!L910B20.056"]
["!L911D10.056"]
["!L912C00.056"]
["!L913A50.056"]
["!L914B50.056"]
["!L915A50.056"]
["!L916A50.056"]
["!L917B00.056"]
["!L918A20.056"]
["!L919B30.056"]
["!L920B40.056"]
["!L921C10.056"]
["!L923B50.056"]
["!L922C40.056"]
["!L924C20.056"]
["!L925A10.056"]
["!L926A50.056"]
["!L927B20.056"]
["!L928830.056"]
["!L929920.056"]

{"sheet":"!L831C50.056","index":3,"n_rows":172,"n_cols":48,"rows_kept":172,"cut":false,"hidden":false,"merged":[[4,39,4,42],[5,39,5,40],[4,44,4,47],[5,44,5,45],[4,24,4,27],[5,24,5,25],[4,29,4,32],[5,29,5,30],[4,34,4,37],[5,34,5,35],[1,1,1,2],[5,13,5,14],[26,13,26,14],[27,13,27,14],[4,19,4,22],[5,19,5,20]]}
["Report for:!L831C50.056"]
["Date:","<date>"]
["Hen:","<hen>",null,null,null,"Correct Sequence",{"$f":"Start!J2","v":2212},null,null,null,null,null,null,null,null,"Total Sequences in Data",{"$f":"4994-COUNTBLANK(L7:L5000)","v":166},null,null,null,null,"Total Sequences in Block Data",{"$f":"COUNTA(L7:L34)","v":28},null,null,null,"Total Sequences in Block Data",{"$f":"COUNTA(L35:L61)","v":27},null,null,null,"Total Sequences in Block Data",{"$f":"COUNTA(L62:L89)","v":28},null,null,null,"Total Sequences in Block Data",{"$f":"COUNTA(L90:L117)","v":28},null,null,null,"Total Sequences in Block Data",{"$f":"COUNTA(L118:L144)","v":27},null,null,null,"Total Sequences in Block Data",{"$f":"COUNTA(L145:L172)","v":28}]
[null,null,null,null,null,null,null,null,null,null,null,null,null,null,null,"Total Sequences in Summary",{"$f":"SUM(O7:O22)","v":165},null,null,null,null,"Total Sequences in Block Summary",{"$f":"SUM(U7:U22)","v":28},null,null,null,"Total Sequences in Block Summary",{"$f":"SUM(Z7:Z22)","v":27},null,null,null,"Total Sequences in Block Summary",{"$f":"SUM(AE7:AE22)","v":28},null,null,null,"Total Sequences in Block Summary",{"$f":"SUM(AJ7:AJ22)","v":28},null,null,null,"Total Sequences in Block Summary",{"$f":"SUM(AO7:AO22)","v":27},null,null,null,"Total Sequences in Block Summary",{"$f":"SUM(AT7:AT22)","v":27}]
[null,null,null,null,null,null,null,null,null,null,null,null,null,null,null,null,null,null,null,"Block 1",null,null,null,null,"Block 2",null,null,null,null,"Block 3",null,null,null,null,"Block 4",null,null,null,null,"Block 5",null,null,null,null,"Block 6"]
["Sequence\nComponent\n1","Time\n1","Sequence\nComponent\n2","Time\n2","Sequence\nComponent\n3","Time\n3","Sequence\nComponent\n4","Time\n4","Sequence\nComponent\n5","Time\n5","Correct?\n0=No 1=Yes","Sequence",null,"Frequency",null,"Relative Frequency","Variability",null,null,"Frequency",null,"Relative Frequency","Variability",null,"Frequency",null,"Relative Frequency","Variability",null,"Frequency",null,"Relative Frequency","Variability",null,"Frequency",null,"Relative Frequency","Variability",null,"Frequency",null,"Relative Frequency","Variability",null,"Frequency",null,"Relative Frequency","Variability"]
[12,15,23,26,13,65,23,75,null,null,0,1212,null,1111,{"$f":"COUNTIF($L$7:$L$500,N7)","v":0},{"$f":"O7/$Q$4","v":0},{"$f":"IF(P7=0,0,(P7*((LOG(P7))/LOG(2))))","v":0},null,null,{"$f":"N7","v":1111},{"$f":"COUNTIF(L7:L34,T7)","v":0},{"$f":"U7/(W4-U20)","v":0},{"$f":"IF(V7=0,0,(V7*((LOG(V7))/LOG(2))))","v":0},null,{"$f":"N7","v":1111},{"$f":"COUNTIF(L35:L61,Y7)","v":0},{"$f":"Z7/(AB4-Z20)","v":0},{"$f":"IF(AA7=0,0,(AA7*((LOG(AA7))/LOG(2))))","v":0},null,{"$f":"N7","v":1111},{"$f":"COUNTIF(L62:L89,AD7)","v":0},{"$f":"AE7/(AG4-AE20)","v":0},{"$f":"IF(AF7=0,0,(AF7*((LOG(AF7))/LOG(2))))","v":0},null,{"$f":"N7","v":1111},{"$f":"COUNTIF(L90:L117,AI7)","v":0},{"$f":"AJ7/(AL4-AJ20)","v":0},{"$f":"IF(AK7=0,0,(AK7*((LOG(AK7))/LOG(2))))","v":0},null,{"$f":"N7","v":1111},{"$f":"COUNTIF(L118:L144,AN7)","v":0},{"$f":"AO7/(AQ4-AO20)","v":0},{"$f":"IF(AP7=0,0,(AP7*((LOG(AP7))/LOG(2))))","v":0},null,{"$f":"N7","v":1111},{"$f":"COUNTIF(L145:L172,AS7)","v":0},{"$f":"AT7/(AV4-AT20)","v":0},{"$f":"IF(AU7=0,0,(AU7*((LOG(AU7))/LOG(2))))","v":0}]
[12,178,14,184,24,205,23,251,null,null,0,1122,null,1112,{"$f":"COUNTIF($L$7:$L$500,N8)","v":4},{"$f":"O8/$Q$4","v":2.4242424242424242E-2},{"$f":"IF(P8=0,0,(P8*((LOG(P8))/LOG(2))))","v":-0.13009265973929252},null,null,{"$f":"N8","v":1112},{"$f":"COUNTIF(L7:L34,T8)","v":0},{"$f":"U8/(W4-U20)","v":0},{"$f":"IF(V8=0,0,(V8*((LOG(V8))/LOG(2))))","v":0},null,{"$f":"N8","v":1112},{"$f":"COUNTIF(L35:L61,Y8)","v":1},{"$f":"Z8/(AB4-Z20)","v":3.7037037037037035E-2},{"$f":"IF(AA8=0,0,(AA8*((LOG(AA8))/LOG(2))))","v":-0.1761069445245729},null,{"$f":"N8","v":1112},{"$f":"COUNTIF(L62:L89,AD8)","v":1},{"$f":"AE8/(AG4-AE20)","v":3.5714285714285712E-2},{"$f":"IF(AF8=0,0,(AF8*((LOG(AF8))/LOG(2))))","v":-0.17169124721634299},null,{"$f":"N8","v":1112},{"$f":"COUNTIF(L90:L117,AI8)","v":1},{"$f":"AJ8/(AL4-AJ20)","v":3.5714285714285712E-2},{"$f":"IF(AK8=0,0,(AK8*((LOG(AK8))/LOG(2))))","v":-0.17169124721634299},null,{"$f":"N8","v":1112},{"$f":"COUNTIF(L118:L144,AN8)","v":0},{"$f":"AO8/(AQ4-AO20)","v":0},{"$f":"IF(AP8=0,0,(AP8*((LOG(AP8))/LOG(2))))","v":0},null,{"$f":"N8","v":1112},{"$f":"COUNTIF(L145:L172,AS8)","v":1},{"$f":"AT8/(AV4-AT20)","v":3.7037037037037035E-2},{"$f":"IF(AU8=0,0,(AU8*((LOG(AU8))/LOG(2))))","v":-0.1761069445245729}]
[12,354,23,376,13,412,23,434,null,null,0,1212,null,1121,{"$f":"COUNTIF($L$7:$L$500,N9)","v":0},{"$f":"O9/$Q$4","v":0},{"$f":"IF(P9=0,0,(P9*((LOG(P9))/LOG(2))))","v":0},null,null,{"$f":"N9","v":1121},{"$f":"COUNTIF(L7:L34,T9)","v":0},{"$f":"U9/(W4-U20)","v":0},{"$f":"IF(V9=0,0,(V9*((LOG(V9))/LOG(2))))","v":0},null,{"$f":"N9","v":1121},{"$f":"COUNTIF(L35:L61,Y9)","v":0},{"$f":"Z9/(AB4-Z20)","v":0},{"$f":"IF(AA9=0,0,(AA9*((LOG(AA9))/LOG(2))))","v":0},null,{"$f":"N9","v":1121},{"$f":"COUNTIF(L62:L89,AD9)","v":0},{"$f":"AE9/(AG4-AE20)","v":0},{"$f":"IF(AF9=0,0,(AF9*((LOG(AF9))/LOG(2))))","v":0},null,{"$f":"N9","v":1121},{"$f":"COUNTIF(L90:L117,AI9)","v":0},{"$f":"AJ9/(AL4-AJ20)","v":0},{"$f":"IF(AK9=0,0,(AK9*((LOG(AK9))/LOG(2))))","v":0},null,{"$f":"N9","v":1121},{"$f":"COUNTIF(L118:L144,AN9)","v":0},{"$f":"AO9/(AQ4-AO20)","v":0},{"$f":"IF(AP9=0,0,(AP9*((LOG(AP9))/LOG(2))))","v":0},null,{"$f":"N9","v":1121},{"$f":"COUNTIF(L145:L172,AS9)","v":0},{"$f":"AT9/(AV4-AT20)","v":0},{"$f":"IF(AU9=0,0,(AU9*((LOG(AU9))/LOG(2))))","v":0}]
[12,521,14,530,24,541,23,551,null,null,0,1122,null,1122,{"$f":"COUNTIF($L$7:$L$500,N10)","v":95},{"$f":"O10/$Q$4","v":0.5757575757575758},{"$f":"IF(P10=0,0,(P10*((LOG(P10))/LOG(2))))","v":-0.45857168219340877},null,null,{"$f":"N10","v":1122},{"$f":"COUNTIF(L7:L34,T10)","v":14},{"$f":"U10/(W4-U20)","v":0.5},{"$f":"IF(V10=0,0,(V10*((LOG(V10))/LOG(2))))","v":-0.5},null,{"$f":"N10","v":1122},{"$f":"COUNTIF(L35:L61,Y10)","v":11},{"$f":"Z10/(AB4-Z20)","v":0.40740740740740738},{"$f":"IF(AA10=0,0,(AA10*((LOG(AA10))/LOG(2))))","v":-0.52777832291806981},null,{"$f":"N10","v":1122},{"$f":"COUNTIF(L62:L89,AD10)","v":16},{"$f":"AE10/(AG4-AE20)","v":0.5714285714285714},{"$f":"IF(AF10=0,0,(AF10*((LOG(AF10))/LOG(2))))","v":-0.46134566974720237},null,{"$f":"N10","v":1122},{"$f":"COUNTIF(L90:L117,AI10)","v":22},{"$f":"AJ10/(AL4-AJ20)","v":0.7857142857142857},{"$f":"IF(AK10=0,0,(AK10*((LOG(AK10))/LOG(2))))","v":-0.27336830983024107},null,{"$f":"N10","v":1122},{"$f":"COUNTIF(L118:L144,AN10)","v":15},{"$f":"AO10/(AQ4-AO20)","v":0.55555555555555558},{"$f":"IF(AP10=0,0,(AP10*((LOG(AP10))/LOG(2))))","v":-0.4711093925305278},null,{"$f":"N10","v":1122},{"$f":"COUNTIF(L145:L172,AS10)","v":17},{"$f":"AT10/(AV4-AT20)","v":0.62962962962962965},{"$f":"IF(AU10=0,0,(AU10*((LOG(AU10))/LOG(2))))","v":-0.42023034205641457}]
[12,656,23,679,24,696,23,712,null,null,0,1222,null,1211,{"$f":"COUNTIF($L$7:$L$500,N11)","v":1},{"$f":"O11/$Q$4","v":6.0606060606060606E-3},{"$f":"IF(P11=0,0,(P11*((LOG(P11))/LOG(2))))","v":-4.4644377056035252E-2},null,null,{"$f":"N11","v":1211},{"$f":"COUNTIF(L7:L34,T11)","v":0},{"$f":"U11/(W4-U20)","v":0},{"$f":"IF(V11=0,0,(V11*((LOG(V11))/LOG(2))))","v":0},null,{"$f":"N11","v":1211},{"$f":"COUNTIF(L35:L61,Y11)","v":1},{"$f":"Z11/(AB4-Z20)","v":3.7037037037037035E-2},{"$f":"IF(AA11=0,0,(AA11*((LOG(AA11))/LOG(2))))","v":-0.1761069445245729},null,{"$f":"N11","v":1211},{"$f":"COUNTIF(L62:L89,AD11)","v":0},{"$f":"AE11/(AG4-AE20)","v":0},{"$f":"IF(AF11=0,0,(AF11*((LOG(AF11))/LOG(2))))","v":0},null,{"$f":"N11","v":1211},{"$f":"COUNTIF(L90:L117,AI11)","v":0},{"$f":"AJ11/(AL4-AJ20)","v":0},{"$f":"IF(AK11=0,0,(AK11*((LOG(AK11))/LOG(2))))","v":0},null,{"$f":"N11","v":1211},{"$f":"COUNTIF(L118:L144,AN11)","v":0},{"$f":"AO11/(AQ4-AO20)","v":0},{"$f":"IF(AP11=0,0,(AP11*((LOG(AP11))/LOG(2))))","v":0},null,{"$f":"N11","v":1211},{"$f":"COUNTIF(L145:L172,AS11)","v":0},{"$f":"AT11/(AV4-AT20)","v":0},{"$f":"IF(AU11=0,0,(AU11*((LOG(AU11))/LOG(2))))","v":0}]
[12,813,14,825,24,836,23,856,null,null,0,1122,null,1212,{"$f":"COUNTIF($L$7:$L$500,N12)","v":2},{"$f":"O12/$Q$4","v":1.2121212121212121E-2},{"$f":"IF(P12=0,0,(P12*((LOG(P12))/LOG(2))))","v":-7.716754199085836E-2},null,null,{"$f":"N12","v":1212},{"$f":"COUNTIF(L7:L34,T12)","v":2},{"$f":"U12/(W4-U20)","v":7.1428571428571425E-2},{"$f":"IF(V12=0,0,(V12*((LOG(V12))/LOG(2))))","v":-0.27195392300411453},null,{"$f":"N12","v":1212},{"$f":"COUNTIF(L35:L61,Y12)","v":0},{"$f":"Z12/(AB4-Z20)","v":0},{"$f":"IF(AA12=0,0,(AA12*((LOG(AA12))/LOG(2))))","v":0},null,{"$f":"N12","v":1212},{"$f":"COUNTIF(L62:L89,AD12)","v":0},{"$f":"AE12/(AG4-AE20)","v":0},{"$f":"IF(AF12=0,0,(AF12*((LOG(AF12))/LOG(2))))","v":0},null,{"$f":"N12","v":1212},{"$f":"COUNTIF(L90:L117,AI12)","v":0},{"$f":"AJ12/(AL4-AJ20)","v":0},{"$f":"IF(AK12=0,0,(AK12*((LOG(AK12))/LOG(2))))","v":0},null,{"$f":"N12","v":1212},{"$f":"COUNTIF(L118:L144,AN12)","v":0},{"$f":"AO12/(AQ4-AO20)","v":0},{"$f":"IF(AP12=0,0,(AP12*((LOG(AP12))/LOG(2))))","v":0},null,{"$f":"N12","v":1212},{"$f":"COUNTIF(L145:L172,AS12)","v":0},{"$f":"AT12/(AV4-AT20)","v":0},{"$f":"IF(AU12=0,0,(AU12*((LOG(AU12))/LOG(2))))","v":0}]
[12,956,14,965,24,975,23,984,null,null,0,1122,null,1221,{"$f":"COUNTIF($L$7:$L$500,N13)","v":0},{"$f":"O13/$Q$4","v":0},{"$f":"IF(P13=0,0,(P13*((LOG(P13))/LOG(2))))","v":0},null,null,{"$f":"N13","v":1221},{"$f":"COUNTIF(L7:L34,T13)","v":0},{"$f":"U13/(W4-U20)","v":0},{"$f":"IF(V13=0,0,(V13*((LOG(V13))/LOG(2))))","v":0},null,{"$f":"N13","v":1221},{"$f":"COUNTIF(L35:L61,Y13)","v":0},{"$f":"Z13/(AB4-Z20)","v":0},{"$f":"IF(AA13=0,0,(AA13*((LOG(AA13))/LOG(2))))","v":0},null,{"$f":"N13","v":1221},{"$f":"COUNTIF(L62:L89,AD13)","v":0},{"$f":"AE13/(AG4-AE20)","v":0},{"$f":"IF(AF13=0,0,(AF13*((LOG(AF13))/LOG(2))))","v":0},null,{"$f":"N13","v":1221},{"$f":"COUNTIF(L90:L117,AI13)","v":0},{"$f":"AJ13/(AL4-AJ20)","v":0},{"$f":"IF(AK13=0,0,(AK13*((LOG(AK13))/LOG(2))))","v":0},null,{"$f":"N13","v":1221},{"$f":"COUNTIF(L118:L144,AN13)","v":0},{"$f":"AO13/(AQ4-AO20)","v":0},{"$f":"IF(AP13=0,0,(AP13*((LOG(AP13))/LOG(2))))","v":0},null,{"$f":"N13","v":1221},{"$f":"COUNTIF(L145:L172,AS13)","v":0},{"$f":"AT13/(AV4-AT20)","v":0},{"$f":"IF(AU13=0,0,(AU13*((LOG(AU13))/LOG(2))))","v":0}]
[12,1076,14,1082,24,1091,23,1100,null,null,0,1122,null,1222,{"$f":"COUNTIF($L$7:$L$500,N14)","v":59},{"$f":"O14/$Q$4","v":0.3575757575757576},{"$f":"IF(P14=0,0,(P14*((LOG(P14))/LOG(2))))","v":-0.53052770138275451},null,null,{"$f":"N14","v":1222},{"$f":"COUNTIF(L7:L34,T14)","v":9},{"$f":"U14/(W4-U20)","v":0.32142857142857145},{"$f":"IF(V14=0,0,(V14*((LOG(V14))/LOG(2))))","v":-0.5263167601977724},null,{"$f":"N14","v":1222},{"$f":"COUNTIF(L35:L61,Y14)","v":14},{"$f":"Z14/(AB4-Z20)","v":0.51851851851851849},{"$f":"IF(AA14=0,0,(AA14*((LOG(AA14))/LOG(2))))","v":-0.49131318968452231},null,{"$f":"N14","v":1222},{"$f":"COUNTIF(L62:L89,AD14)","v":11},{"$f":"AE14/(AG4-AE20)","v":0.39285714285714285},{"$f":"IF(AF14=0,0,(AF14*((LOG(AF14))/LOG(2))))","v":-0.52954129777226344},null,{"$f":"N14","v":1222},{"$f":"COUNTIF(L90:L117,AI14)","v":5},{"$f":"AJ14/(AL4-AJ20)","v":0.17857142857142858},{"$f":"IF(AK14=0,0,(AK14*((LOG(AK14))/LOG(2))))","v":-0.44382621913754317},null,{"$f":"N14","v":1222},{"$f":"COUNTIF(L118:L144,AN14)","v":11},{"$f":"AO14/(AQ4-AO20)","v":0.40740740740740738},{"$f":"IF(AP14=0,0,(AP14*((LOG(AP14))/LOG(2))))","v":-0.52777832291806981},null,{"$f":"N14","v":1222},{"$f":"COUNTIF(L145:L172,AS14)","v":9},{"$f":"AT14/(AV4-AT20)","v":0.33333333333333331},{"$f":"IF(AU14=0,0,(AU14*((LOG(AU14))/LOG(2))))","v":-0.52832083357371862}]
[12,1203,14,1215,24,1254,23,1270,null,null,0,1122,null,2111,{"$f":"COUNTIF($L$7:$L$500,N15)","v":0},{"$f":"O15/$Q$4","v":0},{"$f":"IF(P15=0,0,(P15*((LOG(P15))/LOG(2))))","v":0},null,null,{"$f":"N15","v":2111},{"$f":"COUNTIF(L7:L34,T15)","v":0},{"$f":"U15/(W4-U20)","v":0},{"$f":"IF(V15=0,0,(V15*((LOG(V15))/LOG(2))))","v":0},null,{"$f":"N15","v":2111},{"$f":"COUNTIF(L35:L61,Y15)","v":0},{"$f":"Z15/(AB4-Z20)","v":0},{"$f":"IF(AA15=0,0,(AA15*((LOG(AA15))/LOG(2))))","v":0},null,{"$f":"N15","v":2111},{"$f":"COUNTIF(L62:L89,AD15)","v":0},{"$f":"AE15/(AG4-AE20)","v":0},{"$f":"IF(AF15=0,0,(AF15*((LOG(AF15))/LOG(2))))","v":0},null,{"$f":"N15","v":2111},{"$f":"COUNTIF(L90:L117,AI15)","v":0},{"$f":"AJ15/(AL4-AJ20)","v":0},{"$f":"IF(AK15=0,0,(AK15*((LOG(AK15))/LOG(2))))","v":0},null,{"$f":"N15","v":2111},{"$f":"COUNTIF(L118:L144,AN15)","v":0},{"$f":"AO15/(AQ4-AO20)","v":0},{"$f":"IF(AP15=0,0,(AP15*((LOG(AP15))/LOG(2))))","v":0},null,{"$f":"N15","v":2111},{"$f":"COUNTIF(L145:L172,AS15)","v":0},{"$f":"AT15/(AV4-AT20)","v":0},{"$f":"IF(AU15=0,0,(AU15*((LOG(AU15))/LOG(2))))","v":0}]
[21,1393,12,1416,24,1462,23,1470,null,null,0,2122,null,2112,{"$f":"COUNTIF($L$7:$L$500,N16)","v":0},{"$f":"O16/$Q$4","v":0},{"$f":"IF(P16=0,0,(P16*((LOG(P16))/LOG(2))))","v":0},null,null,{"$f":"N16","v":2112},{"$f":"COUNTIF(L7:L34,T16)","v":0},{"$f":"U16/(W4-U20)","v":0},{"$f":"IF(V16=0,0,(V16*((LOG(V16))/LOG(2))))","v":0},null,{"$f":"N16","v":2112},{"$f":"COUNTIF(L35:L61,Y16)","v":0},{"$f":"Z16/(AB4-Z20)","v":0},{"$f":"IF(AA16=0,0,(AA16*((LOG(AA16))/LOG(2))))","v":0},null,{"$f":"N16","v":2112},{"$f":"COUNTIF(L62:L89,AD16)","v":0},{"$f":"AE16/(AG4-AE20)","v":0},{"$f":"IF(AF16=0,0,(AF16*((LOG(AF16))/LOG(2))))","v":0},null,{"$f":"N16","v":2112},{"$f":"COUNTIF(L90:L117,AI16)","v":0},{"$f":"AJ16/(AL4-AJ20)","v":0},{"$f":"IF(AK16=0,0,(AK16*((LOG(AK16))/LOG(2))))","v":0},null,{"$f":"N16","v":2112},{"$f":"COUNTIF(L118:L144,AN16)","v":0},{"$f":"AO16/(AQ4-AO20)","v":0},{"$f":"IF(AP16=0,0,(AP16*((LOG(AP16))/LOG(2))))","v":0},null,{"$f":"N16","v":2112},{"$f":"COUNTIF(L145:L172,AS16)","v":0},{"$f":"AT16/(AV4-AT20)","v":0},{"$f":"IF(AU16=0,0,(AU16*((LOG(AU16))/LOG(2))))","v":0}]
[12,1579,23,1589,24,1606,23,1625,null,null,0,1222,null,2121,{"$f":"COUNTIF($L$7:$L$500,N17)","v":0},{"$f":"O17/$Q$4","v":0},{"$f":"IF(P17=0,0,(P17*((LOG(P17))/LOG(2))))","v":0},null,null,{"$f":"N17","v":2121},{"$f":"COUNTIF(L7:L34,T17)","v":0},{"$f":"U17/(W4-U20)","v":0},{"$f":"IF(V17=0,0,(V17*((LOG(V17))/LOG(2))))","v":0},null,{"$f":"N17","v":2121},{"$f":"COUNTIF(L35:L61,Y17)","v":0},{"$f":"Z17/(AB4-Z20)","v":0},{"$f":"IF(AA17=0,0,(AA17*((LOG(AA17))/LOG(2))))","v":0},null,{"$f":"N17","v":2121},{"$f":"COUNTIF(L62:L89,AD17)","v":0},{"$f":"AE17/(AG4-AE20)","v":0},{"$f":"IF(AF17=0,0,(AF17*((LOG(AF17))/LOG(2))))","v":0},null,{"$f":"N17","v":2121},{"$f":"COUNTIF(L90:L117,AI17)","v":0},{"$f":"AJ17/(AL4-AJ20)","v":0},{"$f":"IF(AK17=0,0,(AK17*((LOG(AK17))/LOG(2))))","v":0},null,{"$f":"N17","v":2121},{"$f":"COUNTIF(L118:L144,AN17)","v":0},{"$f":"AO17/(AQ4-AO20)","v":0},{"$f":"IF(AP17=0,0,(AP17*((LOG(AP17))/LOG(2))))","v":0},null,{"$f":"N17","v":2121},{"$f":"COUNTIF(L145:L172,AS17)","v":0},{"$f":"AT17/(AV4-AT20)","v":0},{"$f":"IF(AU17=0,0,(AU17*((LOG(AU17))/LOG(2))))","v":0}]
[21,1730,21,1746,22,1796,23,1804,null,null,0,2222,null,2122,{"$f":"COUNTIF($L$7:$L$500,N18)","v":1},{"$f":"O18/$Q$4","v":6.0606060606060606E-3},{"$f":"IF(P18=0,0,(P18*((LOG(P18))/LOG(2))))","v":-4.4644377056035252E-2},null,null,{"$f":"N18","v":2122},{"$f":"COUNTIF(L7:L34,T18)","v":1},{"$f":"U18/(W4-U20)","v":3.5714285714285712E-2},{"$f":"IF(V18=0,0,(V18*((LOG(V18))/LOG(2))))","v":-0.17169124721634299},null,{"$f":"N18","v":2122},{"$f":"COUNTIF(L35:L61,Y18)","v":0},{"$f":"Z18/(AB4-Z20)","v":0},{"$f":"IF(AA18=0,0,(AA18*((LOG(AA18))/LOG(2))))","v":0},null,{"$f":"N18","v":2122},{"$f":"COUNTIF(L62:L89,AD18)","v":0},{"$f":"AE18/(AG4-AE20)","v":0},{"$f":"IF(AF18=0,0,(AF18*((LOG(AF18))/LOG(2))))","v":0},null,{"$f":"N18","v":2122},{"$f":"COUNTIF(L90:L117,AI18)","v":0},{"$f":"AJ18/(AL4-AJ20)","v":0},{"$f":"IF(AK18=0,0,(AK18*((LOG(AK18))/LOG(2))))","v":0},null,{"$f":"N18","v":2122},{"$f":"COUNTIF(L118:L144,AN18)","v":0},{"$f":"AO18/(AQ4-AO20)","v":0},{"$f":"IF(AP18=0,0,(AP18*((LOG(AP18))/LOG(2))))","v":0},null,{"$f":"N18","v":2122},{"$f":"COUNTIF(L145:L172,AS18)","v":0},{"$f":"AT18/(AV4-AT20)","v":0},{"$f":"IF(AU18=0,0,(AU18*((LOG(AU18))/LOG(2))))","v":0}]
[12,1906,23,1945,24,1955,23,1966,null,null,0,1222,null,2211,{"$f":"COUNTIF($L$7:$L$500,N19)","v":0},{"$f":"O19/$Q$4","v":0},{"$f":"IF(P19=0,0,(P19*((LOG(P19))/LOG(2))))","v":0},null,null,{"$f":"N19","v":2211},{"$f":"COUNTIF(L7:L34,T19)","v":0},{"$f":"U19/(W4-U20)","v":0},{"$f":"IF(V19=0,0,(V19*((LOG(V19))/LOG(2))))","v":0},null,{"$f":"N19","v":2211},{"$f":"COUNTIF(L35:L61,Y19)","v":0},{"$f":"Z19/(AB4-Z20)","v":0},{"$f":"IF(AA19=0,0,(AA19*((LOG(AA19))/LOG(2))))","v":0},null,{"$f":"N19","v":2211},{"$f":"COUNTIF(L62:L89,AD19)","v":0},{"$f":"AE19/(AG4-AE20)","v":0},{"$f":"IF(AF19=0,0,(AF19*((LOG(AF19))/LOG(2))))","v":0},null,{"$f":"N19","v":2211},{"$f":"COUNTIF(L90:L117,AI19)","v":0},{"$f":"AJ19/(AL4-AJ20)","v":0},{"$f":"IF(AK19=0,0,(AK19*((LOG(AK19))/LOG(2))))","v":0},null,{"$f":"N19","v":2211},{"$f":"COUNTIF(L118:L144,AN19)","v":0},{"$f":"AO19/(AQ4-AO20)","v":0},{"$f":"IF(AP19=0,0,(AP19*((LOG(AP19))/LOG(2))))","v":0},null,{"$f":"N19","v":2211},{"$f":"COUNTIF(L145:L172,AS19)","v":0},{"$f":"AT19/(AV4-AT20)","v":0},{"$f":"IF(AU19=0,0,(AU19*((LOG(AU19))/LOG(2))))","v":0}]
[12,2077,14,2088,24,2103,23,2118,null,null,0,1122,null,2212,{"$f":"COUNTIF($L$7:$L$500,N20)","v":0},{"$f":"O20/$Q$4","v":0},{"$f":"IF(P20=0,0,(P20*((LOG(P20))/LOG(2))))","v":0},null,null,{"$f":"N20","v":2212},{"$f":"COUNTIF(L7:L34,T20)","v":0},null,null,null,{"$f":"N20","v":2212},{"$f":"COUNTIF(L35:L61,Y20)","v":0},null,null,null,{"$f":"N20","v":2212},{"$f":"COUNTIF(L62:L89,AD20)","v":0},null,null,null,{"$f":"N20","v":2212},{"$f":"COUNTIF(L90:L117,AI20)","v":0},null,null,null,{"$f":"N20","v":2212},{"$f":"COUNTIF(L118:L144,AN20)","v":0},null,null,null,{"$f":"N20","v":2212},{"$f":"COUNTIF(L145:L172,AS20)","v":0}]
[12,2207,14,2212,24,2221,23,2232,null,null,0,1122,null,2221,{"$f":"COUNTIF($L$7:$L$500,N21)","v":0},{"$f":"O21/$Q$4","v":0},{"$f":"IF(P21=0,0,(P21*((LOG(P21))/LOG(2))))","v":0},null,null,{"$f":"N21","v":2221},{"$f":"COUNTIF(L7:L34,T21)","v":0},{"$f":"U21/(W4-U20)","v":0},{"$f":"IF(V21=0,0,(V21*((LOG(V21))/LOG(2))))","v":0},null,{"$f":"N21","v":2221},{"$f":"COUNTIF(L35:L61,Y21)","v":0},{"$f":"Z21/(AB4-Z20)","v":0},{"$f":"IF(AA21=0,0,(AA21*((LOG(AA21))/LOG(2))))","v":0},null,{"$f":"N21","v":2221},{"$f":"COUNTIF(L62:L89,AD21)","v":0},{"$f":"AE21/(AG4-AE20)","v":0},{"$f":"IF(AF21=0,0,(AF21*((LOG(AF21))/LOG(2))))","v":0},null,{"$f":"N21","v":2221},{"$f":"COUNTIF(L90:L117,AI21)","v":0},{"$f":"AJ21/(AL4-AJ20)","v":0},{"$f":"IF(AK21=0,0,(AK21*((LOG(AK21))/LOG(2))))","v":0},null,{"$f":"N21","v":2221},{"$f":"COUNTIF(L118:L144,AN21)","v":0},{"$f":"AO21/(AQ4-AO20)","v":0},{"$f":"IF(AP21=0,0,(AP21*((LOG(AP21))/LOG(2))))","v":0},null,{"$f":"N21","v":2221},{"$f":"COUNTIF(L145:L172,AS21)","v":0},{"$f":"AT21/(AV4-AT20)","v":0},{"$f":"IF(AU21=0,0,(AU21*((LOG(AU21))/LOG(2))))","v":0}]
[12,2334,14,2343,24,2352,23,2368,null,null,0,1122,null,2222,{"$f":"COUNTIF($L$7:$L$500,N22)","v":3},{"$f":"O22/$Q$4","v":1.8181818181818181E-2},{"$f":"IF(P22=0,0,(P22*((LOG(P22))/LOG(2))))","v":-0.10511563115499381},null,null,{"$f":"N22","v":2222},{"$f":"COUNTIF(L7:L34,T22)","v":2},{"$f":"U22/(W4-U20)","v":7.1428571428571425E-2},{"$f":"IF(V22=0,0,(V22*((LOG(V22))/LOG(2))))","v":-0.27195392300411453},null,{"$f":"N22","v":2222},{"$f":"COUNTIF(L35:L61,Y22)","v":0},{"$f":"Z22/(AB4-Z20)","v":0},{"$f":"IF(AA22=0,0,(AA22*((LOG(AA22))/LOG(2))))","v":0},null,{"$f":"N22","v":2222},{"$f":"COUNTIF(L62:L89,AD22)","v":0},{"$f":"AE22/(AG4-AE20)","v":0},{"$f":"IF(AF22=0,0,(AF22*((LOG(AF22))/LOG(2))))","v":0},null,{"$f":"N22","v":2222},{"$f":"COUNTIF(L90:L117,AI22)","v":0},{"$f":"AJ22/(AL4-AJ20)","v":0},{"$f":"IF(AK22=0,0,(AK22*((LOG(AK22))/LOG(2))))","v":0},null,{"$f":"N22","v":2222},{"$f":"COUNTIF(L118:L144,AN22)","v":1},{"$f":"AO22/(AQ4-AO20)","v":3.7037037037037035E-2},{"$f":"IF(AP22=0,0,(AP22*((LOG(AP22))/LOG(2))))","v":-0.1761069445245729},null,{"$f":"N22","v":2222},{"$f":"COUNTIF(L145:L172,AS22)","v":0},{"$f":"AT22/(AV4-AT20)","v":0},{"$f":"IF(AU22=0,0,(AU22*((LOG(AU22))/LOG(2))))","v":0}]
[12,2458,14,2467,24,2483,23,2497,null,null,0,1122,null,null,null,{"$f":"SUM(P7:P22)","v":1},{"$f":"-SUM(Q7:Q22)","v":1.3907639705733785},null,null,null,null,{"$f":"SUM(V7:V22)","v":0.99999999999999989},{"$f":"-SUM(W7:W22)","v":1.7419158534223447},null,null,null,{"$f":"SUM(AA7:AA22)","v":1},{"$f":"-SUM(AB7:AB22)","v":1.3713054016517379},null,null,null,{"$f":"SUM(AF7:AF22)","v":1},{"$f":"-SUM(AG7:AG22)","v":1.1625782147358088},null,null,null,{"$f":"SUM(AK7:AK22)","v":1},{"$f":"-SUM(AL7:AL22)","v":0.88888577618412723},null,null,null,{"$f":"SUM(AP7:AP22)","v":1},{"$f":"-SUM(AQ7:AQ22)","v":1.1749946599731704},null,null,null,{"$f":"SUM(AU7:AU22)","v":1},{"$f":"-SUM(AV7:AV22)","v":1.1246581201547061}]
[12,2594,14,2604,24,2623,23,2647,null,null,0,1122,null,null,null,"U=",{"$f":"Q23/(LOG(Q4)/LOG(2))","v":0.18880031719000342},null,null,null,null,"U1=",{"$f":"W23/(LOG(W4)/LOG(2))","v":0.36234392543598265},null,null,null,"U2=",{"$f":"AB23/(LOG(AB4)/LOG(2))","v":0.2883991263784465},null,null,null,"U3=",{"$f":"AG23/(LOG(AG4)/LOG(2))","v":0.2418332396057439},null,null,null,"U4=",{"$f":"AL23/(LOG(AL4)/LOG(2))","v":0.18490121711331306},null,null,null,"U5=",{"$f":"AQ23/(LOG(AQ4)/LOG(2))","v":0.24711303042155031},null,null,null,"U6=",{"$f":"AV23/(LOG(AV4)/LOG(2))","v":0.23652675686711577}]
[12,2755,23,2786,24,2813,23,2825,null,null,0,1222]
[12,2928,14,2939,24,2972,23,2988,null,null,0,1122]
[12,3077,14,3083,24,3099,23,3128,null,null,0,1122,null,"Total Target Seq"]
[12,3230,23,3286,24,3294,23,3302,null,null,0,1222,null,{"$f":"COUNTIF(L7:L172,G3)","v":0},null,28,27,28,28,27,28]
[12,3403,23,3424,24,3443,23,3456,null,null,0,1222,null,null,null,"% of reinforcement given in 6 equal intervals based on number of trials "]
[12,3558,14,3569,24,3585,23,3595,null,null,0,1122,null,null,null,"%_1","%_2","%_3","%_4","%_5","%_6"]
[12,3708,23,3717,24,3726,23,3735,null,null,0,1222,null,null,"target sequence",{"$f":"$G$3","v":2212},{"$f":"$G$3","v":2212},{"$f":"$G$3","v":2212},{"$f":"$G$3","v":2212},{"$f":"$G$3","v":2212},{"$f":"$G$3","v":2212}]
[12,3829,23,3870,24,3884,23,3901,null,null,0,1222,null,null,"total reinforcement",{"$f":"U20","v":0},{"$f":"Z20","v":0},{"$f":"AE20","v":0},{"$f":"AJ20","v":0},{"$f":"AO20","v":0},{"$f":"AT20","v":0}]
[12,4025,23,4050,24,4066,23,4073,null,null,0,1222,null,null,"% target"]
[21,4209,21,4218,22,4239,23,4309,null,null,0,2222,null,null,"CCRF"]
[12,4414,14,4424,24,4438,23,4447,null,null,0,1122,null,null,"% CCRf"]
[12,4556,23,4587,24,4594,23,4612,null,null,0,1222,null,null,"average response rate",{"$f":"H34/P28","v":153.89285714285714},{"$f":"(H61-H34)/Q28","v":152.37037037037038},{"$f":"(H89-H61)/R28","v":146.92857142857142},{"$f":"(H117-H89)/S28","v":130.67857142857142},{"$f":"(H144-H117)/T28","v":146.74074074074073},{"$f":"(H172-H144)/U28","v":-719.92857142857144}]
[12,4726,23,4735,24,4743,23,4750,null,null,0,1222]
[12,4846,14,4857,24,4868,23,4878,null,null,0,1122]
[12,4985,23,5014,24,5022,23,5029,null,null,0,1222]
[12,5140,23,5154,24,5174,23,5182,null,null,0,1222]
[12,5288,14,5293,24,5337,23,5351,null,null,0,1122]
[12,5464,23,5496,24,5504,23,5518,null,null,0,1222]
[12,5626,23,5639,24,5688,23,5697,null,null,0,1222]
[12,5804,14,5817,24,5826,23,5854,null,null,0,1122]
[12,5948,23,5960,24,5979,23,5988,null,null,0,1222]
[12,6091,14,6111,24,6120,23,6128,null,null,0,1122]
[12,6236,23,6260,13,6285,14,6295,null,null,0,1211]
[12,6398,14,6408,24,6428,23,6436,null,null,0,1122]
[12,6543,14,6552,24,6566,23,6609,null,null,0,1122]
[12,6720,23,6738,24,6747,23,6762,null,null,0,1222]
[12,6868,14,6876,24,6915,23,6923,null,null,0,1122]
[12,7028,14,7051,24,7061,23,7071,null,null,0,1122]
[12,7185,23,7217,24,7233,23,7240,null,null,0,1222]
[12,7334,23,7383,24,7390,23,7398,null,null,0,1222]
[12,7506,23,7531,24,7538,23,7548,null,null,0,1222]
[12,7656,23,7682,24,7690,23,7698,null,null,0,1222]
[12,7808,23,7818,24,7826,23,7833,null,null,0,1222]
[12,7938,14,7948,24,7988,23,8015,null,null,0,1122]
[12,8106,23,8117,24,8126,23,8143,null,null,0,1222]
[12,8247,14,8254,24,8278,23,8289,null,null,0,1122]
[12,8394,14,8400,13,8409,23,8423,null,null,0,1112]
[12,8530,14,8540,24,8550,23,8574,null,null,0,1122]
[12,8688,23,8708,24,8727,23,8734,null,null,0,1222]
[12,8844,14,8863,24,8877,23,8902,null,null,0,1122]
[12,9012,14,9039,24,9058,23,9066,null,null,0,1122]
[12,9153,14,9166,24,9177,23,9186,null,null,0,1122]
[12,9289,14,9300,24,9309,23,9317,null,null,0,1122]
[12,9420,14,9430,24,9440,23,9456,null,null,0,1122]
[12,9567,23,9582,24,9591,23,9598,null,null,0,1222]
[12,9711,23,9751,24,9767,23,9774,null,null,0,1222]
[12,9886,14,9902,24,9929,23,9962,null,null,0,1122]
[12,10078,23,10108,24,10116,23,10188,null,null,0,1222]
[12,10295,23,10310,24,10324,23,10335,null,null,0,1222]
[12,10439,14,10448,13,10468,23,10487,null,null,0,1112]
[12,10590,14,10608,24,10631,23,10639,null,null,0,1122]
[12,10731,14,10737,24,10747,23,10755,null,null,0,1122]
[12,10862,23,10872,24,10887,23,10898,null,null,0,1222]
[12,10989,14,10995,24,11005,23,11013,null,null,0,1122]
[12,11110,23,11124,24,11133,23,11142,null,null,0,1222]
[12,11232,14,11258,24,11267,23,11276,null,null,0,1122]
[12,11378,23,11389,24,11403,23,11411,null,null,0,1222]
[12,11509,14,11515,24,11526,23,11534,null,null,0,1122]
[12,11630,14,11639,24,11660,23,11676,null,null,0,1122]
[12,11774,23,11784,24,11792,23,11800,null,null,0,1222]
[12,11892,23,11900,24,11908,23,11924,null,null,0,1222]
[12,12021,14,12032,24,12041,23,12070,null,null,0,1122]
[12,12190,14,12207,24,12217,23,12250,null,null,0,1122]
[12,12347,14,12355,24,12381,23,12396,null,null,0,1122]
[12,12511,23,12520,24,12528,23,12537,null,null,0,1222]
[12,12629,23,12661,24,12671,23,12685,null,null,0,1222]
[12,12782,14,12791,24,12800,23,12808,null,null,0,1122]
[12,12905,14,12913,24,12919,23,12925,null,null,0,1122]
[12,13025,14,13030,24,13041,23,13049,null,null,0,1122]
[12,13147,14,13156,24,13166,23,13176,null,null,0,1122]
[12,13288,23,13301,24,13309,23,13318,null,null,0,1222]
[12,13419,14,13426,24,13434,23,13443,null,null,0,1122]
[12,13534,14,13539,24,13549,23,13557,null,null,0,1122]
[12,13658,23,13668,24,13676,23,13688,null,null,0,1222]
[12,13786,14,13795,24,13804,23,13811,null,null,0,1122]
[12,13904,14,13912,24,13921,23,13929,null,null,0,1122]
[12,14016,14,14026,24,14036,23,14044,null,null,0,1122]
[12,14141,14,14146,24,14155,23,14163,null,null,0,1122]
[12,14252,14,14265,24,14274,23,14289,null,null,0,1122]
[12,14386,14,14391,24,14401,23,14417,null,null,0,1122]
[12,14528,23,14561,24,14575,23,14589,null,null,0,1222]
[12,14693,14,14701,24,14731,23,14759,null,null,0,1122]
[12,14848,14,14853,24,14862,23,14877,null,null,0,1122]
[12,14970,14,14975,24,14984,23,14991,null,null,0,1122]
[12,15090,14,15095,24,15112,23,15120,null,null,0,1122]
[12,15224,14,15234,24,15244,23,15251,null,null,0,1122]
[12,15353,14,15360,24,15391,23,15407,null,null,0,1122]
[12,15496,14,15501,24,15511,23,15524,null,null,0,1122]
[12,15621,14,15628,13,15633,23,15643,null,null,0,1112]
[12,15744,23,15754,24,15763,23,15770,null,null,0,1222]
[12,15871,14,15880,24,15899,23,15911,null,null,0,1122]
[12,16008,14,16015,24,16026,23,16039,null,null,0,1122]
[12,16139,14,16150,24,16169,23,16196,null,null,0,1122]
[12,16293,14,16300,24,16310,23,16318,null,null,0,1122]
[12,16415,14,16421,24,16430,23,16452,null,null,0,1122]
[12,16562,14,16605,24,16615,23,16623,null,null,0,1122]
[12,16711,14,16720,24,16760,23,16767,null,null,0,1122]
[12,16866,14,16874,24,16883,23,16896,null,null,0,1122]
[12,16996,14,17001,24,17011,23,17019,null,null,0,1122]
[12,17230,23,17244,24,17251,23,17267,null,null,0,1222]
[12,17358,14,17363,24,17373,23,17381,null,null,0,1122]
[12,17485,23,17495,24,17515,23,17535,null,null,0,1222]
[12,17639,14,17655,24,17683,23,17691,null,null,0,1122]
[21,17834,21,17847,22,17856,23,17866,null,null,0,2222]
[12,17966,23,17976,24,17983,23,17991,null,null,0,1222]
[12,18103,23,18119,24,18127,23,18159,null,null,0,1222]
[12,18283,23,18293,24,18315,23,18337,null,null,0,1222]
[12,18453,23,18463,24,18484,23,18492,null,null,0,1222]
[12,18603,23,18620,24,18636,23,18651,null,null,0,1222]
[12,18757,23,18768,24,18775,23,18783,null,null,0,1222]
[12,18888,14,18897,24,18907,23,18927,null,null,0,1122]
[12,19016,23,19027,24,19034,23,19045,null,null,0,1222]
[12,19143,14,19149,24,19160,23,19168,null,null,0,1122]
[12,19264,14,19272,24,19281,23,19288,null,null,0,1122]
[12,19396,14,19405,24,19415,23,19429,null,null,0,1122]
[12,19527,14,19534,24,19543,23,19584,null,null,0,1122]
[12,19702,14,19722,24,19757,23,19772,null,null,0,1122]
[12,19881,23,19891,24,19912,23,19919,null,null,0,1222]
[12,20011,14,20020,24,20029,23,20036,null,null,0,1122]
[12,20134,23,20144,24,20151,23,20158,null,null,0,1222]
[12,20263,14,20272,24,20282,23,20287,null,null,0,1122]
[12,20377,14,20382,24,20391,23,20398,null,null,0,1122]
[12,20498,23,20508,24,20516,23,20524,null,null,0,1222]
[12,20627,23,20640,24,20658,23,20666,null,null,0,1222]
[12,20772,14,20780,24,20790,23,20796,null,null,0,1122]
[12,20887,14,20897,24,20907,23,20915,null,null,0,1122]
[12,21006,14,21015,24,21024,23,21031,null,null,0,1122]
[12,21129,14,21135,24,21151,23,21161,null,null,0,1122]
[12,21261,23,21271,24,21297,23,21304,null,null,0,1222]
[12,21404,14,21410,24,21428,23,21442,null,null,0,1122]
[12,21559,23,21576,24,21607,23,21625,null,null,0,1222]
[12,21715,14,21721,24,21729,23,21744,null,null,0,1122]
[12,21846,14,21850,13,21860,23,21876,null,null,0,1112]
[12,21979,14,21990,24,22030,23,22048,null,null,0,1122]
[12,22153,14,22161,24,22170,23,22185,null,null,0,1122]
[12,22281,14,22286,24,22321,23,22329,null,null,0,1122]
[12,22430,23,22436,24,22444,23,22452,null,null,0,1222]
[12,22561,23,22574,24,22590,23,22601,null,null,0,1222]
[12,22711,14,22720,24,22731,23,22747,null,null,0,1122]
[12,22850,14,22856,24,22866,23,22874,null,null,0,1122]
[12,22971,14,22977,24,22994,23,23001,null,null,0,1122]
[12,23104,23,23141,24,23149,23,23158,null,null,0,1222]
[12,23268,14,23277,24,23300,23,23308,null,null,0,1122]
[12,23399,14,23405,24,23414,23,23428,null,null,0,1122]
[12,23525,14,23531,24,23541,23,23549,null,null,0,1122]
[12,23666,23,23683,24,23691,23,23704,null,null,0,1222]
[12,23812,23,23836,24,23850,23,23865,null,null,0,1222]
[12,23962,14,23966,24,23976,null,null,null,null,null,112]

{"sheet":"!L901B40.056","index":4,"n_rows":179,"n_cols":48,"rows_kept":179,"cut":false,"hidden":false,"merged":[[4,39,4,42],[5,39,5,40],[4,44,4,47],[5,44,5,45],[4,24,4,27],[5,24,5,25],[4,29,4,32],[5,29,5,30],[4,34,4,37],[5,34,5,35],[1,1,1,2],[5,13,5,14],[26,13,26,14],[27,13,27,14],[4,19,4,22],[5,19,5,20]]}
["Report for:!L901B40.056"]
["Date:","<date>"]
["Hen:","<hen>",null,null,null,"Correct Sequence",{"$f":"Start!J2","v":2212},null,null,null,null,null,null,null,null,"Total Sequences in Data",{"$f":"4994-COUNTBLANK(L7:L5000)","v":173},null,null,null,null,"Total Sequences in Block Data",{"$f":"COUNTA(L7:L35)","v":29},null,null,null,"Total Sequences in Block Data",{"$f":"COUNTA(L36:L64)","v":29},null,null,null,"Total Sequences in Block Data",{"$f":"COUNTA(L65:L92)","v":28},null,null,null,"Total Sequences in Block Data",{"$f":"COUNTA(L93:L121)","v":29},null,null,null,"Total Sequences in Block Data",{"$f":"COUNTA(L122:L150)","v":29},null,null,null,"Total Sequences in Block Data",{"$f":"COUNTA(L151:L179)","v":29}]
[null,null,null,null,null,null,null,null,null,null,null,null,null,null,null,"Total Sequences in Summary",{"$f":"SUM(O7:O22)","v":173},null,null,null,null,"Total Sequences in Block Summary",{"$f":"SUM(U7:U22)","v":29},null,null,null,"Total Sequences in Block Summary",{"$f":"SUM(Z7:Z22)","v":29},null,null,null,"Total Sequences in Block Summary",{"$f":"SUM(AE7:AE22)","v":28},null,null,null,"Total Sequences in Block Summary",{"$f":"SUM(AJ7:AJ22)","v":29},null,null,null,"Total Sequences in Block Summary",{"$f":"SUM(AO7:AO22)","v":29},null,null,null,"Total Sequences in Block Summary",{"$f":"SUM(AT7:AT22)","v":29}]
[null,null,null,null,null,null,null,null,null,null,null,null,null,null,null,null,null,null,null,"Block 1",null,null,null,null,"Block 2",null,null,null,null,"Block 3",null,null,null,null,"Block 4",null,null,null,null,"Block 5",null,null,null,null,"Block 6"]
["Sequence\nComponent\n1","Time\n1","Sequence\nComponent\n2","Time\n2","Sequence\nComponent\n3","Time\n3","Sequence\nComponent\n4","Time\n4","Sequence\nComponent\n5","Time\n5","Correct?\n0=No 1=Yes","Sequence",null,"Frequency",null,"Relative Frequency","Variability",null,null,"Frequency",null,"Relative Frequency","Variability",null,"Frequency",null,"Relative Frequency","Variability",null,"Frequency",null,"Relative Frequency","Variability",null,"Frequency",null,"Relative Frequency","Variability",null,"Frequency",null,"Relative Frequency","Variability",null,"Frequency",null,"Relative Frequency","Variability"]
[12,28,23,38,24,53,14,78,null,null,0,1221,null,1111,{"$f":"COUNTIF($L$7:$L$500,N7)","v":8},{"$f":"O7/$Q$4","v":4.6242774566473986E-2},{"$f":"IF(P7=0,0,(P7*((LOG(P7))/LOG(2))))","v":-0.20506951341672713},null,null,{"$f":"N7","v":1111},{"$f":"COUNTIF(L7:L35,T7)","v":0},{"$f":"U7/(W4-U20)","v":0},{"$f":"IF(V7=0,0,(V7*((LOG(V7))/LOG(2))))","v":0},null,{"$f":"N7","v":1111},{"$f":"COUNTIF(L36:L64,Y7)","v":0},{"$f":"Z7/(AB4-Z20)","v":0},{"$f":"IF(AA7=0,0,(AA7*((LOG(AA7))/LOG(2))))","v":0},null,{"$f":"N7","v":1111},{"$f":"COUNTIF(L65:L92,AD7)","v":0},{"$f":"AE7/(AG4-AE20)","v":0},{"$f":"IF(AF7=0,0,(AF7*((LOG(AF7))/LOG(2))))","v":0},null,{"$f":"N7","v":1111},{"$f":"COUNTIF(L93:L121,AI7)","v":0},{"$f":"AJ7/(AL4-AJ20)","v":0},{"$f":"IF(AK7=0,0,(AK7*((LOG(AK7))/LOG(2))))","v":0},null,{"$f":"N7","v":1111},{"$f":"COUNTIF(L122:L150,AN7)","v":1},{"$f":"AO7/(AQ4-AO20)","v":3.4482758620689655E-2},{"$f":"IF(AP7=0,0,(AP7*((LOG(AP7))/LOG(2))))","v":-0.16751658603888178},null,{"$f":"N7","v":1111},{"$f":"COUNTIF(L151:L179,AS7)","v":7},{"$f":"AT7/(AV4-AT20)","v":0.2413793103448276},{"$f":"IF(AU7=0,0,(AU7*((LOG(AU7))/LOG(2))))","v":-0.49497870729275095}]
[12,182,14,187,24,197,23,208,null,null,0,1122,null,1112,{"$f":"COUNTIF($L$7:$L$500,N8)","v":48},{"$f":"O8/$Q$4","v":0.2774566473988439},{"$f":"IF(P8=0,0,(P8*((LOG(P8))/LOG(2))))","v":-0.51320205139853914},null,null,{"$f":"N8","v":1112},{"$f":"COUNTIF(L7:L35,T8)","v":2},{"$f":"U8/(W4-U20)","v":6.8965517241379309E-2},{"$f":"IF(V8=0,0,(V8*((LOG(V8))/LOG(2))))","v":-0.26606765483638428},null,{"$f":"N8","v":1112},{"$f":"COUNTIF(L36:L64,Y8)","v":3},{"$f":"Z8/(AB4-Z20)","v":0.10344827586206896},{"$f":"IF(AA8=0,0,(AA8*((LOG(AA8))/LOG(2))))","v":-0.33858812011100858},null,{"$f":"N8","v":1112},{"$f":"COUNTIF(L65:L92,AD8)","v":5},{"$f":"AE8/(AG4-AE20)","v":0.17857142857142858},{"$f":"IF(AF8=0,0,(AF8*((LOG(AF8))/LOG(2))))","v":-0.44382621913754317},null,{"$f":"N8","v":1112},{"$f":"COUNTIF(L93:L121,AI8)","v":9},{"$f":"AJ8/(AL4-AJ20)","v":0.31034482758620691},{"$f":"IF(AK8=0,0,(AK8*((LOG(AK8))/LOG(2))))","v":-0.52387944631611505},null,{"$f":"N8","v":1112},{"$f":"COUNTIF(L122:L150,AN8)","v":13},{"$f":"AO8/(AQ4-AO20)","v":0.44827586206896552},{"$f":"IF(AP8=0,0,(AP8*((LOG(AP8))/LOG(2))))","v":-0.51889781382152544},null,{"$f":"N8","v":1112},{"$f":"COUNTIF(L151:L179,AS8)","v":16},{"$f":"AT8/(AV4-AT20)","v":0.55172413793103448},{"$f":"IF(AU8=0,0,(AU8*((LOG(AU8))/LOG(2))))","v":-0.47336882489797077}]
[12,303,23,317,24,326,23,335,null,null,0,1222,null,1121,{"$f":"COUNTIF($L$7:$L$500,N9)","v":1},{"$f":"O9/$Q$4","v":5.7803468208092483E-3},{"$f":"IF(P9=0,0,(P9*((LOG(P9))/LOG(2))))","v":-4.2974729639518636E-2},null,null,{"$f":"N9","v":1121},{"$f":"COUNTIF(L7:L35,T9)","v":0},{"$f":"U9/(W4-U20)","v":0},{"$f":"IF(V9=0,0,(V9*((LOG(V9))/LOG(2))))","v":0},null,{"$f":"N9","v":1121},{"$f":"COUNTIF(L36:L64,Y9)","v":0},{"$f":"Z9/(AB4-Z20)","v":0},{"$f":"IF(AA9=0,0,(AA9*((LOG(AA9))/LOG(2))))","v":0},null,{"$f":"N9","v":1121},{"$f":"COUNTIF(L65:L92,AD9)","v":0},{"$f":"AE9/(AG4-AE20)","v":0},{"$f":"IF(AF9=0,0,(AF9*((LOG(AF9))/LOG(2))))","v":0},null,{"$f":"N9","v":1121},{"$f":"COUNTIF(L93:L121,AI9)","v":1},{"$f":"AJ9/(AL4-AJ20)","v":3.4482758620689655E-2},{"$f":"IF(AK9=0,0,(AK9*((LOG(AK9))/LOG(2))))","v":-0.16751658603888178},null,{"$f":"N9","v":1121},{"$f":"COUNTIF(L122:L150,AN9)","v":0},{"$f":"AO9/(AQ4-AO20)","v":0},{"$f":"IF(AP9=0,0,(AP9*((LOG(AP9))/LOG(2))))","v":0},null,{"$f":"N9","v":1121},{"$f":"COUNTIF(L151:L179,AS9)","v":0},{"$f":"AT9/(AV4-AT20)","v":0},{"$f":"IF(AU9=0,0,(AU9*((LOG(AU9))/LOG(2))))","v":0}]
[12,437,14,444,24,452,23,460,null,null,0,1122,null,1122,{"$f":"COUNTIF($L$7:$L$500,N10)","v":87},{"$f":"O10/$Q$4","v":0.50289017341040465},{"$f":"IF(P10=0,0,(P10*((LOG(P10))/LOG(2))))","v":-0.49870850673731604},null,null,{"$f":"N10","v":1122},{"$f":"COUNTIF(L7:L35,T10)","v":18},{"$f":"U10/(W4-U20)","v":0.62068965517241381},{"$f":"IF(V10=0,0,(V10*((LOG(V10))/LOG(2))))","v":-0.4270692374598164},null,{"$f":"N10","v":1122},{"$f":"COUNTIF(L36:L64,Y10)","v":23},{"$f":"Z10/(AB4-Z20)","v":0.7931034482758621},{"$f":"IF(AA10=0,0,(AA10*((LOG(AA10))/LOG(2))))","v":-0.2652288930559607},null,{"$f":"N10","v":1122},{"$f":"COUNTIF(L65:L92,AD10)","v":13},{"$f":"AE10/(AG4-AE20)","v":0.4642857142857143},{"$f":"IF(AF10=0,0,(AF10*((LOG(AF10))/LOG(2))))","v":-0.51392491610409474},null,{"$f":"N10","v":1122},{"$f":"COUNTIF(L93:L121,AI10)","v":17},{"$f":"AJ10/(AL4-AJ20)","v":0.58620689655172409},{"$f":"IF(AK10=0,0,(AK10*((LOG(AK10))/LOG(2))))","v":-0.45168305572113648},null,{"$f":"N10","v":1122},{"$f":"COUNTIF(L122:L150,AN10)","v":11},{"$f":"AO10/(AQ4-AO20)","v":0.37931034482758619},{"$f":"IF(AP10=0,0,(AP10*((LOG(AP10))/LOG(2))))","v":-0.53048424625493174},null,{"$f":"N10","v":1122},{"$f":"COUNTIF(L151:L179,AS10)","v":5},{"$f":"AT10/(AV4-AT20)","v":0.17241379310344829},{"$f":"IF(AU10=0,0,(AU10*((LOG(AU10))/LOG(2))))","v":-0.43725050004141547}]
[12,563,14,568,24,598,23,623,null,null,0,1122,null,1211,{"$f":"COUNTIF($L$7:$L$500,N11)","v":0},{"$f":"O11/$Q$4","v":0},{"$f":"IF(P11=0,0,(P11*((LOG(P11))/LOG(2))))","v":0},null,null,{"$f":"N11","v":1211},{"$f":"COUNTIF(L7:L35,T11)","v":0},{"$f":"U11/(W4-U20)","v":0},{"$f":"IF(V11=0,0,(V11*((LOG(V11))/LOG(2))))","v":0},null,{"$f":"N11","v":1211},{"$f":"COUNTIF(L36:L64,Y11)","v":0},{"$f":"Z11/(AB4-Z20)","v":0},{"$f":"IF(AA11=0,0,(AA11*((LOG(AA11))/LOG(2))))","v":0},null,{"$f":"N11","v":1211},{"$f":"COUNTIF(L65:L92,AD11)","v":0},{"$f":"AE11/(AG4-AE20)","v":0},{"$f":"IF(AF11=0,0,(AF11*((LOG(AF11))/LOG(2))))","v":0},null,{"$f":"N11","v":1211},{"$f":"COUNTIF(L93:L121,AI11)","v":0},{"$f":"AJ11/(AL4-AJ20)","v":0},{"$f":"IF(AK11=0,0,(AK11*((LOG(AK11))/LOG(2))))","v":0},null,{"$f":"N11","v":1211},{"$f":"COUNTIF(L122:L150,AN11)","v":0},{"$f":"AO11/(AQ4-AO20)","v":0},{"$f":"IF(AP11=0,0,(AP11*((LOG(AP11))/LOG(2))))","v":0},null,{"$f":"N11","v":1211},{"$f":"COUNTIF(L151:L179,AS11)","v":0},{"$f":"AT11/(AV4-AT20)","v":0},{"$f":"IF(AU11=0,0,(AU11*((LOG(AU11))/LOG(2))))","v":0}]
[12,731,23,763,24,772,23,780,null,null,0,1222,null,1212,{"$f":"COUNTIF($L$7:$L$500,N12)","v":0},{"$f":"O12/$Q$4","v":0},{"$f":"IF(P12=0,0,(P12*((LOG(P12))/LOG(2))))","v":0},null,null,{"$f":"N12","v":1212},{"$f":"COUNTIF(L7:L35,T12)","v":0},{"$f":"U12/(W4-U20)","v":0},{"$f":"IF(V12=0,0,(V12*((LOG(V12))/LOG(2))))","v":0},null,{"$f":"N12","v":1212},{"$f":"COUNTIF(L36:L64,Y12)","v":0},{"$f":"Z12/(AB4-Z20)","v":0},{"$f":"IF(AA12=0,0,(AA12*((LOG(AA12))/LOG(2))))","v":0},null,{"$f":"N12","v":1212},{"$f":"COUNTIF(L65:L92,AD12)","v":0},{"$f":"AE12/(AG4-AE20)","v":0},{"$f":"IF(AF12=0,0,(AF12*((LOG(AF12))/LOG(2))))","v":0},null,{"$f":"N12","v":1212},{"$f":"COUNTIF(L93:L121,AI12)","v":0},{"$f":"AJ12/(AL4-AJ20)","v":0},{"$f":"IF(AK12=0,0,(AK12*((LOG(AK12))/LOG(2))))","v":0},null,{"$f":"N12","v":1212},{"$f":"COUNTIF(L122:L150,AN12)","v":0},{"$f":"AO12/(AQ4-AO20)","v":0},{"$f":"IF(AP12=0,0,(AP12*((LOG(AP12))/LOG(2))))","v":0},null,{"$f":"N12","v":1212},{"$f":"COUNTIF(L151:L179,AS12)","v":0},{"$f":"AT12/(AV4-AT20)","v":0},{"$f":"IF(AU12=0,0,(AU12*((LOG(AU12))/LOG(2))))","v":0}]
[12,887,14,897,24,906,23,920,null,null,0,1122,null,1221,{"$f":"COUNTIF($L$7:$L$500,N13)","v":3},{"$f":"O13/$Q$4","v":1.7341040462427744E-2},{"$f":"IF(P13=0,0,(P13*((LOG(P13))/LOG(2))))","v":-0.10143929006211967},null,null,{"$f":"N13","v":1221},{"$f":"COUNTIF(L7:L35,T13)","v":3},{"$f":"U13/(W4-U20)","v":0.10344827586206896},{"$f":"IF(V13=0,0,(V13*((LOG(V13))/LOG(2))))","v":-0.33858812011100858},null,{"$f":"N13","v":1221},{"$f":"COUNTIF(L36:L64,Y13)","v":0},{"$f":"Z13/(AB4-Z20)","v":0},{"$f":"IF(AA13=0,0,(AA13*((LOG(AA13))/LOG(2))))","v":0},null,{"$f":"N13","v":1221},{"$f":"COUNTIF(L65:L92,AD13)","v":0},{"$f":"AE13/(AG4-AE20)","v":0},{"$f":"IF(AF13=0,0,(AF13*((LOG(AF13))/LOG(2))))","v":0},null,{"$f":"N13","v":1221},{"$f":"COUNTIF(L93:L121,AI13)","v":0},{"$f":"AJ13/(AL4-AJ20)","v":0},{"$f":"IF(AK13=0,0,(AK13*((LOG(AK13))/LOG(2))))","v":0},null,{"$f":"N13","v":1221},{"$f":"COUNTIF(L122:L150,AN13)","v":0},{"$f":"AO13/(AQ4-AO20)","v":0},{"$f":"IF(AP13=0,0,(AP13*((LOG(AP13))/LOG(2))))","v":0},null,{"$f":"N13","v":1221},{"$f":"COUNTIF(L151:L179,AS13)","v":0},{"$f":"AT13/(AV4-AT20)","v":0},{"$f":"IF(AU13=0,0,(AU13*((LOG(AU13))/LOG(2))))","v":0}]
[12,1032,14,1039,24,1065,23,1083,null,null,0,1122,null,1222,{"$f":"COUNTIF($L$7:$L$500,N14)","v":26},{"$f":"O14/$Q$4","v":0.15028901734104047},{"$f":"IF(P14=0,0,(P14*((LOG(P14))/LOG(2))))","v":-0.41091850431726268},null,null,{"$f":"N14","v":1222},{"$f":"COUNTIF(L7:L35,T14)","v":6},{"$f":"U14/(W4-U20)","v":0.20689655172413793},{"$f":"IF(V14=0,0,(V14*((LOG(V14))/LOG(2))))","v":-0.4702796884978791},null,{"$f":"N14","v":1222},{"$f":"COUNTIF(L36:L64,Y14)","v":3},{"$f":"Z14/(AB4-Z20)","v":0.10344827586206896},{"$f":"IF(AA14=0,0,(AA14*((LOG(AA14))/LOG(2))))","v":-0.33858812011100858},null,{"$f":"N14","v":1222},{"$f":"COUNTIF(L65:L92,AD14)","v":10},{"$f":"AE14/(AG4-AE20)","v":0.35714285714285715},{"$f":"IF(AF14=0,0,(AF14*((LOG(AF14))/LOG(2))))","v":-0.53050958113222924},null,{"$f":"N14","v":1222},{"$f":"COUNTIF(L93:L121,AI14)","v":2},{"$f":"AJ14/(AL4-AJ20)","v":6.8965517241379309E-2},{"$f":"IF(AK14=0,0,(AK14*((LOG(AK14))/LOG(2))))","v":-0.26606765483638428},null,{"$f":"N14","v":1222},{"$f":"COUNTIF(L122:L150,AN14)","v":4},{"$f":"AO14/(AQ4-AO20)","v":0.13793103448275862},{"$f":"IF(AP14=0,0,(AP14*((LOG(AP14))/LOG(2))))","v":-0.39420427519000989},null,{"$f":"N14","v":1222},{"$f":"COUNTIF(L151:L179,AS14)","v":1},{"$f":"AT14/(AV4-AT20)","v":3.4482758620689655E-2},{"$f":"IF(AU14=0,0,(AU14*((LOG(AU14))/LOG(2))))","v":-0.16751658603888178}]
[12,1198,23,1223,24,1231,23,1240,null,null,0,1222,null,2111,{"$f":"COUNTIF($L$7:$L$500,N15)","v":0},{"$f":"O15/$Q$4","v":0},{"$f":"IF(P15=0,0,(P15*((LOG(P15))/LOG(2))))","v":0},null,null,{"$f":"N15","v":2111},{"$f":"COUNTIF(L7:L35,T15)","v":0},{"$f":"U15/(W4-U20)","v":0},{"$f":"IF(V15=0,0,(V15*((LOG(V15))/LOG(2))))","v":0},null,{"$f":"N15","v":2111},{"$f":"COUNTIF(L36:L64,Y15)","v":0},{"$f":"Z15/(AB4-Z20)","v":0},{"$f":"IF(AA15=0,0,(AA15*((LOG(AA15))/LOG(2))))","v":0},null,{"$f":"N15","v":2111},{"$f":"COUNTIF(L65:L92,AD15)","v":0},{"$f":"AE15/(AG4-AE20)","v":0},{"$f":"IF(AF15=0,0,(AF15*((LOG(AF15))/LOG(2))))","v":0},null,{"$f":"N15","v":2111},{"$f":"COUNTIF(L93:L121,AI15)","v":0},{"$f":"AJ15/(AL4-AJ20)","v":0},{"$f":"IF(AK15=0,0,(AK15*((LOG(AK15))/LOG(2))))","v":0},null,{"$f":"N15","v":2111},{"$f":"COUNTIF(L122:L150,AN15)","v":0},{"$f":"AO15/(AQ4-AO20)","v":0},{"$f":"IF(AP15=0,0,(AP15*((LOG(AP15))/LOG(2))))","v":0},null,{"$f":"N15","v":2111},{"$f":"COUNTIF(L151:L179,AS15)","v":0},{"$f":"AT15/(AV4-AT20)","v":0},{"$f":"IF(AU15=0,0,(AU15*((LOG(AU15))/LOG(2))))","v":0}]
[12,1347,14,1365,24,1425,23,1437,null,null,0,1122,null,2112,{"$f":"COUNTIF($L$7:$L$500,N16)","v":0},{"$f":"O16/$Q$4","v":0},{"$f":"IF(P16=0,0,(P16*((LOG(P16))/LOG(2))))","v":0},null,null,{"$f":"N16","v":2112},{"$f":"COUNTIF(L7:L35,T16)","v":0},{"$f":"U16/(W4-U20)","v":0},{"$f":"IF(V16=0,0,(V16*((LOG(V16))/LOG(2))))","v":0},null,{"$f":"N16","v":2112},{"$f":"COUNTIF(L36:L64,Y16)","v":0},{"$f":"Z16/(AB4-Z20)","v":0},{"$f":"IF(AA16=0,0,(AA16*((LOG(AA16))/LOG(2))))","v":0},null,{"$f":"N16","v":2112},{"$f":"COUNTIF(L65:L92,AD16)","v":0},{"$f":"AE16/(AG4-AE20)","v":0},{"$f":"IF(AF16=0,0,(AF16*((LOG(AF16))/LOG(2))))","v":0},null,{"$f":"N16","v":2112},{"$f":"COUNTIF(L93:L121,AI16)","v":0},{"$f":"AJ16/(AL4-AJ20)","v":0},{"$f":"IF(AK16=0,0,(AK16*((LOG(AK16))/LOG(2))))","v":0},null,{"$f":"N16","v":2112},{"$f":"COUNTIF(L122:L150,AN16)","v":0},{"$f":"AO16/(AQ4-AO20)","v":0},{"$f":"IF(AP16=0,0,(AP16*((LOG(AP16))/LOG(2))))","v":0},null,{"$f":"N16","v":2112},{"$f":"COUNTIF(L151:L179,AS16)","v":0},{"$f":"AT16/(AV4-AT20)","v":0},{"$f":"IF(AU16=0,0,(AU16*((LOG(AU16))/LOG(2))))","v":0}]
[12,1550,23,1576,24,1624,14,1649,null,null,0,1221,null,2121,{"$f":"COUNTIF($L$7:$L$500,N17)","v":0},{"$f":"O17/$Q$4","v":0},{"$f":"IF(P17=0,0,(P17*((LOG(P17))/LOG(2))))","v":0},null,null,{"$f":"N17","v":2121},{"$f":"COUNTIF(L7:L35,T17)","v":0},{"$f":"U17/(W4-U20)","v":0},{"$f":"IF(V17=0,0,(V17*((LOG(V17))/LOG(2))))","v":0},null,{"$f":"N17","v":2121},{"$f":"COUNTIF(L36:L64,Y17)","v":0},{"$f":"Z17/(AB4-Z20)","v":0},{"$f":"IF(AA17=0,0,(AA17*((LOG(AA17))/LOG(2))))","v":0},null,{"$f":"N17","v":2121},{"$f":"COUNTIF(L65:L92,AD17)","v":0},{"$f":"AE17/(AG4-AE20)","v":0},{"$f":"IF(AF17=0,0,(AF17*((LOG(AF17))/LOG(2))))","v":0},null,{"$f":"N17","v":2121},{"$f":"COUNTIF(L93:L121,AI17)","v":0},{"$f":"AJ17/(AL4-AJ20)","v":0},{"$f":"IF(AK17=0,0,(AK17*((LOG(AK17))/LOG(2))))","v":0},null,{"$f":"N17","v":2121},{"$f":"COUNTIF(L122:L150,AN17)","v":0},{"$f":"AO17/(AQ4-AO20)","v":0},{"$f":"IF(AP17=0,0,(AP17*((LOG(AP17))/LOG(2))))","v":0},null,{"$f":"N17","v":2121},{"$f":"COUNTIF(L151:L179,AS17)","v":0},{"$f":"AT17/(AV4-AT20)","v":0},{"$f":"IF(AU17=0,0,(AU17*((LOG(AU17))/LOG(2))))","v":0}]
[12,1745,14,1750,24,1759,23,1767,null,null,0,1122,null,2122,{"$f":"COUNTIF($L$7:$L$500,N18)","v":0},{"$f":"O18/$Q$4","v":0},{"$f":"IF(P18=0,0,(P18*((LOG(P18))/LOG(2))))","v":0},null,null,{"$f":"N18","v":2122},{"$f":"COUNTIF(L7:L35,T18)","v":0},{"$f":"U18/(W4-U20)","v":0},{"$f":"IF(V18=0,0,(V18*((LOG(V18))/LOG(2))))","v":0},null,{"$f":"N18","v":2122},{"$f":"COUNTIF(L36:L64,Y18)","v":0},{"$f":"Z18/(AB4-Z20)","v":0},{"$f":"IF(AA18=0,0,(AA18*((LOG(AA18))/LOG(2))))","v":0},null,{"$f":"N18","v":2122},{"$f":"COUNTIF(L65:L92,AD18)","v":0},{"$f":"AE18/(AG4-AE20)","v":0},{"$f":"IF(AF18=0,0,(AF18*((LOG(AF18))/LOG(2))))","v":0},null,{"$f":"N18","v":2122},{"$f":"COUNTIF(L93:L121,AI18)","v":0},{"$f":"AJ18/(AL4-AJ20)","v":0},{"$f":"IF(AK18=0,0,(AK18*((LOG(AK18))/LOG(2))))","v":0},null,{"$f":"N18","v":2122},{"$f":"COUNTIF(L122:L150,AN18)","v":0},{"$f":"AO18/(AQ4-AO20)","v":0},{"$f":"IF(AP18=0,0,(AP18*((LOG(AP18))/LOG(2))))","v":0},null,{"$f":"N18","v":2122},{"$f":"COUNTIF(L151:L179,AS18)","v":0},{"$f":"AT18/(AV4-AT20)","v":0},{"$f":"IF(AU18=0,0,(AU18*((LOG(AU18))/LOG(2))))","v":0}]
[12,1884,23,1893,24,1923,14,1941,null,null,0,1221,null,2211,{"$f":"COUNTIF($L$7:$L$500,N19)","v":0},{"$f":"O19/$Q$4","v":0},{"$f":"IF(P19=0,0,(P19*((LOG(P19))/LOG(2))))","v":0},null,null,{"$f":"N19","v":2211},{"$f":"COUNTIF(L7:L35,T19)","v":0},{"$f":"U19/(W4-U20)","v":0},{"$f":"IF(V19=0,0,(V19*((LOG(V19))/LOG(2))))","v":0},null,{"$f":"N19","v":2211},{"$f":"COUNTIF(L36:L64,Y19)","v":0},{"$f":"Z19/(AB4-Z20)","v":0},{"$f":"IF(AA19=0,0,(AA19*((LOG(AA19))/LOG(2))))","v":0},null,{"$f":"N19","v":2211},{"$f":"COUNTIF(L65:L92,AD19)","v":0},{"$f":"AE19/(AG4-AE20)","v":0},{"$f":"IF(AF19=0,0,(AF19*((LOG(AF19))/LOG(2))))","v":0},null,{"$f":"N19","v":2211},{"$f":"COUNTIF(L93:L121,AI19)","v":0},{"$f":"AJ19/(AL4-AJ20)","v":0},{"$f":"IF(AK19=0,0,(AK19*((LOG(AK19))/LOG(2))))","v":0},null,{"$f":"N19","v":2211},{"$f":"COUNTIF(L122:L150,AN19)","v":0},{"$f":"AO19/(AQ4-AO20)","v":0},{"$f":"IF(AP19=0,0,(AP19*((LOG(AP19))/LOG(2))))","v":0},null,{"$f":"N19","v":2211},{"$f":"COUNTIF(L151:L179,AS19)","v":0},{"$f":"AT19/(AV4-AT20)","v":0},{"$f":"IF(AU19=0,0,(AU19*((LOG(AU19))/LOG(2))))","v":0}]
[12,2051,23,2066,24,2078,23,2096,null,null,0,1222,null,2212,{"$f":"COUNTIF($L$7:$L$500,N20)","v":0},{"$f":"O20/$Q$4","v":0},{"$f":"IF(P20=0,0,(P20*((LOG(P20))/LOG(2))))","v":0},null,null,{"$f":"N20","v":2212},{"$f":"COUNTIF(L7:L35,T20)","v":0},null,null,null,{"$f":"N20","v":2212},{"$f":"COUNTIF(L36:L64,Y20)","v":0},null,null,null,{"$f":"N20","v":2212},{"$f":"COUNTIF(L65:L92,AD20)","v":0},null,null,null,{"$f":"N20","v":2212},{"$f":"COUNTIF(L93:L121,AI20)","v":0},null,null,null,{"$f":"N20","v":2212},{"$f":"COUNTIF(L122:L150,AN20)","v":0},null,null,null,{"$f":"N20","v":2212},{"$f":"COUNTIF(L151:L179,AS20)","v":0}]
[12,2203,14,2209,24,2220,23,2227,null,null,0,1122,null,2221,{"$f":"COUNTIF($L$7:$L$500,N21)","v":0},{"$f":"O21/$Q$4","v":0},{"$f":"IF(P21=0,0,(P21*((LOG(P21))/LOG(2))))","v":0},null,null,{"$f":"N21","v":2221},{"$f":"COUNTIF(L7:L35,T21)","v":0},{"$f":"U21/(W4-U20)","v":0},{"$f":"IF(V21=0,0,(V21*((LOG(V21))/LOG(2))))","v":0},null,{"$f":"N21","v":2221},{"$f":"COUNTIF(L36:L64,Y21)","v":0},{"$f":"Z21/(AB4-Z20)","v":0},{"$f":"IF(AA21=0,0,(AA21*((LOG(AA21))/LOG(2))))","v":0},null,{"$f":"N21","v":2221},{"$f":"COUNTIF(L65:L92,AD21)","v":0},{"$f":"AE21/(AG4-AE20)","v":0},{"$f":"IF(AF21=0,0,(AF21*((LOG(AF21))/LOG(2))))","v":0},null,{"$f":"N21","v":2221},{"$f":"COUNTIF(L93:L121,AI21)","v":0},{"$f":"AJ21/(AL4-AJ20)","v":0},{"$f":"IF(AK21=0,0,(AK21*((LOG(AK21))/LOG(2))))","v":0},null,{"$f":"N21","v":2221},{"$f":"COUNTIF(L122:L150,AN21)","v":0},{"$f":"AO21/(AQ4-AO20)","v":0},{"$f":"IF(AP21=0,0,(AP21*((LOG(AP21))/LOG(2))))","v":0},null,{"$f":"N21","v":2221},{"$f":"COUNTIF(L151:L179,AS21)","v":0},{"$f":"AT21/(AV4-AT20)","v":0},{"$f":"IF(AU21=0,0,(AU21*((LOG(AU21))/LOG(2))))","v":0}]
[12,2332,14,2354,24,2377,23,2384,null,null,0,1122,null,2222,{"$f":"COUNTIF($L$7:$L$500,N22)","v":0},{"$f":"O22/$Q$4","v":0},{"$f":"IF(P22=0,0,(P22*((LOG(P22))/LOG(2))))","v":0},null,null,{"$f":"N22","v":2222},{"$f":"COUNTIF(L7:L35,T22)","v":0},{"$f":"U22/(W4-U20)","v":0},{"$f":"IF(V22=0,0,(V22*((LOG(V22))/LOG(2))))","v":0},null,{"$f":"N22","v":2222},{"$f":"COUNTIF(L36:L64,Y22)","v":0},{"$f":"Z22/(AB4-Z20)","v":0},{"$f":"IF(AA22=0,0,(AA22*((LOG(AA22))/LOG(2))))","v":0},null,{"$f":"N22","v":2222},{"$f":"COUNTIF(L65:L92,AD22)","v":0},{"$f":"AE22/(AG4-AE20)","v":0},{"$f":"IF(AF22=0,0,(AF22*((LOG(AF22))/LOG(2))))","v":0},null,{"$f":"N22","v":2222},{"$f":"COUNTIF(L93:L121,AI22)","v":0},{"$f":"AJ22/(AL4-AJ20)","v":0},{"$f":"IF(AK22=0,0,(AK22*((LOG(AK22))/LOG(2))))","v":0},null,{"$f":"N22","v":2222},{"$f":"COUNTIF(L122:L150,AN22)","v":0},{"$f":"AO22/(AQ4-AO20)","v":0},{"$f":"IF(AP22=0,0,(AP22*((LOG(AP22))/LOG(2))))","v":0},null,{"$f":"N22","v":2222},{"$f":"COUNTIF(L151:L179,AS22)","v":0},{"$f":"AT22/(AV4-AT20)","v":0},{"$f":"IF(AU22=0,0,(AU22*((LOG(AU22))/LOG(2))))","v":0}]
[12,2479,14,2484,24,2501,23,2508,null,null,0,1122,null,null,null,{"$f":"SUM(P7:P22)","v":1},{"$f":"-SUM(Q7:Q22)","v":1.7723125955714834},null,null,null,null,{"$f":"SUM(V7:V22)","v":1},{"$f":"-SUM(W7:W22)","v":1.5020047009050883},null,null,null,{"$f":"SUM(AA7:AA22)","v":1},{"$f":"-SUM(AB7:AB22)","v":0.94240513327797792},null,null,null,{"$f":"SUM(AF7:AF22)","v":1},{"$f":"-SUM(AG7:AG22)","v":1.4882607163738673},null,null,null,{"$f":"SUM(AK7:AK22)","v":1},{"$f":"-SUM(AL7:AL22)","v":1.4091467429125175},null,null,null,{"$f":"SUM(AP7:AP22)","v":1},{"$f":"-SUM(AQ7:AQ22)","v":1.6111029213053489},null,null,null,{"$f":"SUM(AU7:AU22)","v":1},{"$f":"-SUM(AV7:AV22)","v":1.5731146182710192}]
[12,2620,23,2630,24,2638,23,2651,null,null,0,1222,null,null,null,"U=",{"$f":"Q23/(LOG(Q4)/LOG(2))","v":0.23838617632328543},null,null,null,null,"U1=",{"$f":"W23/(LOG(W4)/LOG(2))","v":0.30918291002199472},null,null,null,"U2=",{"$f":"AB23/(LOG(AB4)/LOG(2))","v":0.19399111157972534},null,null,null,"U3=",{"$f":"AG23/(LOG(AG4)/LOG(2))","v":0.30957995415426376},null,null,null,"U4=",{"$f":"AL23/(LOG(AL4)/LOG(2))","v":0.29006839350047992},null,null,null,"U5=",{"$f":"AQ23/(LOG(AQ4)/LOG(2))","v":0.3316404331184587},null,null,null,"U6=",{"$f":"AV23/(LOG(AV4)/LOG(2))","v":0.32382066126829478}]
[12,2748,14,2755,24,2762,23,2780,null,null,0,1122]
[12,2897,14,2905,24,2929,23,2941,null,null,0,1122]
[12,3030,14,3035,13,3043,23,3052,null,null,0,1112,null,"Total Target Seq"]
[12,3162,14,3168,13,3188,23,3198,null,null,0,1112,null,{"$f":"COUNTIF(L7:L179,G3)","v":0},null,29,29,28,29,29,29]
[12,3302,14,3307,24,3316,23,3325,null,null,0,1122,null,null,null,"% of reinforcement given in 6 equal intervals based on number of trials "]
[12,3434,14,3441,24,3454,23,3502,null,null,0,1122,null,null,null,"%_1","%_2","%_3","%_4","%_5","%_6"]
[12,3614,23,3646,24,3653,23,3660,null,null,0,1222,null,null,"target sequence",{"$f":"$G$3","v":2212},{"$f":"$G$3","v":2212},{"$f":"$G$3","v":2212},{"$f":"$G$3","v":2212},{"$f":"$G$3","v":2212},{"$f":"$G$3","v":2212}]
[12,3773,14,3784,24,3806,23,3814,null,null,0,1122,null,null,"total reinforcement",{"$f":"U20","v":0},{"$f":"Z20","v":0},{"$f":"AE20","v":0},{"$f":"AJ20","v":0},{"$f":"AO20","v":0},{"$f":"AT20","v":0}]
[12,3909,14,3914,24,3924,23,3932,null,null,0,1122,null,null,"% target"]
[12,4043,14,4056,24,4104,23,4111,null,null,0,1122,null,null,"CCRF"]
[12,4222,14,4233,24,4242,23,4252,null,null,0,1122,null,null,"% CCRf"]
[12,4343,14,4348,24,4357,23,4365,null,null,0,1122,null,null,"average response rate",{"$f":"H35/P28","v":146.62068965517241},{"$f":"(H64-H35)/Q28","v":140.06896551724137},{"$f":"(H92-H64)/R28","v":144.17857142857142},{"$f":"(H121-H92)/S28","v":133.86206896551724},{"$f":"(H150-H121)/T28","v":136.58620689655172},{"$f":"(H179-H150)/U28","v":128.06896551724137}]
[12,4462,14,4467,24,4497,23,4506,null,null,0,1122]
[12,4607,14,4612,24,4621,23,4628,null,null,0,1122]
[12,4741,14,4749,13,4762,23,4785,null,null,0,1112]
[12,4897,23,4909,24,4923,23,4930,null,null,0,1222]
[12,5028,14,5033,24,5043,23,5050,null,null,0,1122]
[12,5160,14,5170,24,5179,23,5193,null,null,0,1122]
[12,5288,14,5294,24,5302,23,5309,null,null,0,1122]
[12,5412,14,5425,24,5448,23,5462,null,null,0,1122]
[12,5582,14,5589,24,5618,23,5652,null,null,0,1122]
[12,5755,14,5764,13,5780,23,5798,null,null,0,1112]
[12,5886,14,5891,24,5900,23,5907,null,null,0,1122]
[12,6018,23,6065,24,6096,23,6108,null,null,0,1222]
[12,6201,14,6207,24,6227,23,6245,null,null,0,1122]
[12,6338,14,6344,24,6361,23,6369,null,null,0,1122]
[12,6472,14,6478,24,6494,23,6502,null,null,0,1122]
[12,6600,14,6605,24,6615,23,6623,null,null,0,1122]
[12,6733,14,6743,24,6752,23,6766,null,null,0,1122]
[12,6861,14,6868,24,6878,23,6885,null,null,0,1122]
[12,6999,14,7005,24,7019,23,7027,null,null,0,1122]
[12,7133,14,7148,24,7179,23,7187,null,null,0,1122]
[12,7282,14,7288,24,7315,23,7325,null,null,0,1122]
[12,7432,14,7442,24,7451,23,7458,null,null,0,1122]
[12,7565,14,7571,24,7590,23,7607,null,null,0,1122]
[12,7709,14,7716,13,7721,23,7745,null,null,0,1112]
[12,7849,14,7855,24,7864,23,7871,null,null,0,1122]
[12,7962,14,7968,24,7986,23,8001,null,null,0,1122]
[12,8114,23,8154,24,8171,23,8178,null,null,0,1222]
[12,8284,14,8291,24,8306,23,8314,null,null,0,1122]
[12,8418,14,8426,13,8431,23,8441,null,null,0,1112]
[12,8549,14,8558,24,8593,23,8610,null,null,0,1122]
[12,8700,23,8719,24,8742,23,8751,null,null,0,1222]
[12,8858,14,8866,24,8875,23,8889,null,null,0,1122]
[12,9001,23,9010,24,9017,23,9024,null,null,0,1222]
[12,9131,14,9137,24,9146,23,9160,null,null,0,1122]
[12,9270,14,9276,24,9298,23,9307,null,null,0,1122]
[12,9438,23,9459,24,9472,23,9479,null,null,0,1222]
[12,9589,23,9624,24,9661,23,9679,null,null,0,1222]
[12,9788,14,9794,24,9805,23,9818,null,null,0,1122]
[12,9922,14,9928,24,9937,23,9953,null,null,0,1122]
[12,10064,23,10077,24,10086,23,10099,null,null,0,1222]
[12,10214,23,10233,24,10242,23,10250,null,null,0,1222]
[12,10356,14,10365,24,10374,23,10385,null,null,0,1122]
[12,10473,23,10483,24,10491,23,10499,null,null,0,1222]
[12,10606,14,10620,24,10639,23,10651,null,null,0,1122]
[12,10771,23,10787,24,10806,23,10825,null,null,0,1222]
[12,10935,23,10949,24,10960,23,10967,null,null,0,1222]
[12,11077,14,11082,24,11126,23,11137,null,null,0,1122]
[12,11228,14,11233,24,11242,23,11247,null,null,0,1122]
[12,11359,14,11365,24,11376,23,11388,null,null,0,1122]
[12,11491,14,11497,13,11517,23,11526,null,null,0,1112]
[12,11636,14,11641,13,11654,23,11679,null,null,0,1112]
[12,11788,14,11793,13,11806,23,11815,null,null,0,1112]
[12,11919,14,11926,13,11935,23,11944,null,null,0,1112]
[12,12057,14,12064,24,12079,23,12092,null,null,0,1122]
[12,12200,23,12219,24,12231,23,12239,null,null,0,1222]
[12,12330,14,12335,24,12344,23,12351,null,null,0,1122]
[12,12445,23,12454,24,12467,23,12475,null,null,0,1222]
[12,12583,14,12588,13,12599,23,12609,null,null,0,1112]
[12,12714,14,12719,13,12730,23,12738,null,null,0,1112]
[12,12848,14,12857,24,12889,23,12900,null,null,0,1122]
[12,13011,14,13016,13,13028,23,13036,null,null,0,1112]
[12,13146,23,13158,24,13180,23,13187,null,null,0,1222]
[12,13296,14,13305,24,13319,23,13335,null,null,0,1122]
[12,13445,14,13450,24,13476,23,13482,null,null,0,1122]
[12,13580,14,13586,24,13602,23,13608,null,null,0,1122]
[12,13721,14,13726,24,13737,23,13754,null,null,0,1122]
[12,13847,14,13852,24,13888,23,13895,null,null,0,1122]
[12,14005,14,14014,24,14023,23,14052,null,null,0,1122]
[12,14152,14,14157,13,14166,23,14175,null,null,0,1112]
[12,14277,14,14282,13,14292,23,14315,null,null,0,1112]
[12,14404,14,14409,24,14417,23,14423,null,null,0,1122]
[12,14524,14,14529,24,14539,23,14547,null,null,0,1122]
[12,14649,14,14654,13,14663,23,14674,null,null,0,1112]
[12,14781,14,14790,24,14799,23,14818,null,null,0,1122]
[12,14924,14,14932,24,14942,23,14958,null,null,0,1122]
[12,15053,14,15059,24,15068,23,15086,null,null,0,1122]
[12,15187,14,15192,13,15197,23,15206,null,null,0,1112]
[12,15307,14,15314,13,15321,23,15347,null,null,0,1112]
[12,15452,14,15459,24,15468,23,15476,null,null,0,1122]
[12,15577,14,15584,24,15593,23,15599,null,null,0,1122]
[12,15703,14,15710,24,15749,23,15756,null,null,0,1122]
[12,15848,14,15855,24,15865,23,15872,null,null,0,1122]
[12,15974,14,15979,24,15990,14,16004,null,null,0,1121]
[12,16092,14,16098,24,16107,23,16114,null,null,0,1122]
[12,16211,14,16216,13,16224,23,16233,null,null,0,1112]
[12,16336,14,16341,24,16350,23,16357,null,null,0,1122]
[12,16460,23,16470,24,16477,23,16485,null,null,0,1222]
[12,16594,14,16604,24,16613,23,16645,null,null,0,1122]
[12,16753,14,16762,24,16775,23,16780,null,null,0,1122]
[12,16873,23,16944,24,16952,23,16959,null,null,0,1222]
[12,17058,14,17064,13,17080,23,17089,null,null,0,1112]
[12,17187,14,17193,13,17205,23,17219,null,null,0,1112]
[12,17318,14,17323,13,17333,23,17342,null,null,0,1112]
[12,17445,14,17453,13,17458,23,17468,null,null,0,1112]
[12,17559,14,17567,24,17576,23,17598,null,null,0,1122]
[12,17695,14,17702,13,17711,23,17727,null,null,0,1112]
[12,17827,14,17831,24,17853,23,17878,null,null,0,1122]
[12,17977,14,17982,24,17993,23,18000,null,null,0,1122]
[12,18099,14,18104,13,18117,23,18127,null,null,0,1112]
[12,18227,14,18231,13,18244,23,18253,null,null,0,1112]
[12,18358,14,18366,24,18377,23,18412,null,null,0,1122]
[12,18516,14,18526,13,18534,14,18545,null,null,0,1111]
[12,18644,23,18655,24,18669,23,18682,null,null,0,1222]
[12,18788,14,18795,24,18804,23,18816,null,null,0,1122]
[12,18924,14,18936,13,18947,23,18966,null,null,0,1112]
[12,19075,14,19081,13,19104,23,19129,null,null,0,1112]
[12,19236,23,19244,24,19252,23,19261,null,null,0,1222]
[12,19360,14,19364,13,19373,23,19382,null,null,0,1112]
[12,19488,14,19498,24,19509,23,19538,null,null,0,1122]
[12,19647,14,19652,13,19667,23,19689,null,null,0,1112]
[12,19787,14,19792,13,19801,23,19810,null,null,0,1112]
[12,19917,14,19928,24,19939,23,19946,null,null,0,1122]
[12,20039,14,20044,24,20054,23,20066,null,null,0,1122]
[12,20169,14,20174,13,20184,23,20194,null,null,0,1112]
[12,20303,14,20308,13,20322,23,20331,null,null,0,1112]
[12,20433,23,20444,24,20457,23,20464,null,null,0,1222]
[12,20567,14,20575,13,20584,23,20593,null,null,0,1112]
[12,20686,14,20691,24,20722,23,20735,null,null,0,1122]
[12,20843,14,20849,24,20859,23,20870,null,null,0,1122]
[12,20976,14,20981,24,21004,23,21015,null,null,0,1122]
[12,21121,14,21128,13,21137,23,21146,null,null,0,1112]
[12,21244,14,21249,13,21258,23,21290,null,null,0,1112]
[12,21399,14,21405,13,21410,14,21423,null,null,0,1111]
[12,21524,14,21529,13,21537,23,21550,null,null,0,1112]
[12,21647,14,21653,13,21658,23,21668,null,null,0,1112]
[12,21758,14,21764,13,21770,23,21779,null,null,0,1112]
[12,21868,14,21873,13,21878,23,21899,null,null,0,1112]
[12,21997,14,22002,24,22012,23,22020,null,null,0,1122]
[12,22126,14,22135,13,22141,14,22160,null,null,0,1111]
[12,22264,14,22270,13,22275,23,22287,null,null,0,1112]
[12,22383,14,22389,13,22396,23,22406,null,null,0,1112]
[12,22512,14,22517,13,22525,23,22536,null,null,0,1112]
[12,22634,14,22639,13,22644,14,22652,null,null,0,1111]
[12,22743,14,22748,13,22753,23,22762,null,null,0,1112]
[12,22868,14,22875,13,22884,23,22893,null,null,0,1112]
[12,22999,14,23005,13,23011,14,23025,null,null,0,1111]
[12,23128,14,23133,13,23139,23,23160,null,null,0,1112]
[12,23268,14,23273,13,23279,14,23290,null,null,0,1111]
[12,23395,14,23400,13,23406,23,23431,null,null,0,1112]
[12,23538,14,23544,13,23550,23,23560,null,null,0,1112]
[12,23658,14,23663,13,23670,14,23679,null,null,0,1111]
[12,23770,14,23775,24,23784,23,23791,null,null,0,1122]
[12,23890,14,23894,13,23899,14,23908,null,null,0,1111]

{"sheet":"!L902D10.056","index":5,"n_rows":195,"n_cols":48,"rows_kept":195,"cut":false,"hidden":false,"merged":[[4,39,4,42],[5,39,5,40],[4,44,4,47],[5,44,5,45],[4,24,4,27],[5,24,5,25],[4,29,4,32],[5,29,5,30],[4,34,4,37],[5,34,5,35],[1,1,1,2],[5,13,5,14],[26,13,26,14],[27,13,27,14],[4,19,4,22],[5,19,5,20]]}
["Report for:!L902D10.056"]
["Date:","<date>"]
["Hen:","<hen>",null,null,null,"Correct Sequence",{"$f":"Start!J2","v":2212},null,null,null,null,null,null,null,null,"Total Sequences in Data",{"$f":"4994-COUNTBLANK(L7:L5000)","v":189},null,null,null,null,"Total Sequences in Block Data",{"$f":"COUNTA(L7:L38)","v":32},null,null,null,"Total Sequences in Block Data",{"$f":"COUNTA(L39:L69)","v":31},null,null,null,"Total Sequences in Block Data",{"$f":"COUNTA(L70:L101)","v":32},null,null,null,"Total Sequences in Block Data",{"$f":"COUNTA(L102:L132)","v":31},null,null,null,"Total Sequences in Block Data",{"$f":"COUNTA(L133:L164)","v":32},null,null,null,"Total Sequences in Block Data",{"$f":"COUNTA(L165:L195)","v":31}]
[null,null,null,null,null,null,null,null,null,null,null,null,null,null,null,"Total Sequences in Summary",{"$f":"SUM(O7:O22)","v":189},null,null,null,null,"Total Sequences in Block Summary",{"$f":"SUM(U7:U22)","v":32},null,null,null,"Total Sequences in Block Summary",{"$f":"SUM(Z7:Z22)","v":31},null,null,null,"Total Sequences in Block Summary",{"$f":"SUM(AE7:AE22)","v":32},null,null,null,"Total Sequences in Block Summary",{"$f":"SUM(AJ7:AJ22)","v":31},null,null,null,"Total Sequences in Block Summary",{"$f":"SUM(AO7:AO22)","v":32},null,null,null,"Total Sequences in Block Summary",{"$f":"SUM(AT7:AT22)","v":31}]
[null,null,null,null,null,null,null,null,null,null,null,null,null,null,null,null,null,null,null,"Block 1",null,null,null,null,"Block 2",null,null,null,null,"Block 3",null,null,null,null,"Block 4",null,null,null,null,"Block 5",null,null,null,null,"Block 6"]
["Sequence\nComponent\n1","Time\n1","Sequence\nComponent\n2","Time\n2","Sequence\nComponent\n3","Time\n3","Sequence\nComponent\n4","Time\n4","Sequence\nComponent\n5","Time\n5","Correct?\n0=No 1=Yes","Sequence",null,"Frequency",null,"Relative Frequency","Variability",null,null,"Frequency",null,"Relative Frequency","Variability",null,"Frequency",null,"Relative Frequency","Variability",null,"Frequency",null,"Relative Frequency","Variability",null,"Frequency",null,"Relative Frequency","Variability",null,"Frequency",null,"Relative Frequency","Variability",null,"Frequency",null,"Relative Frequency","Variability"]
[12,16,14,22,24,32,23,40,null,null,0,1122,null,1111,{"$f":"COUNTIF($L$7:$L$500,N7)","v":109},{"$f":"O7/$Q$4","v":0.57671957671957674},{"$f":"IF(P7=0,0,(P7*((LOG(P7))/LOG(2))))","v":-0.45794885100217958},null,null,{"$f":"N7","v":1111},{"$f":"COUNTIF(L7:L38,T7)","v":9},{"$f":"U7/(W4-U20)","v":0.28125},{"$f":"IF(V7=0,0,(V7*((LOG(V7))/LOG(2))))","v":-0.5147085933443496},null,{"$f":"N7","v":1111},{"$f":"COUNTIF(L39:L69,Y7)","v":20},{"$f":"Z7/(AB4-Z20)","v":0.64516129032258063},{"$f":"IF(AA7=0,0,(AA7*((LOG(AA7))/LOG(2))))","v":-0.40791497774162117},null,{"$f":"N7","v":1111},{"$f":"COUNTIF(L70:L101,AD7)","v":22},{"$f":"AE7/(AG4-AE20)","v":0.6875},{"$f":"IF(AF7=0,0,(AF7*((LOG(AF7))/LOG(2))))","v":-0.3716407621868581},null,{"$f":"N7","v":1111},{"$f":"COUNTIF(L102:L132,AI7)","v":16},{"$f":"AJ7/(AL4-AJ20)","v":0.5161290322580645},{"$f":"IF(AK7=0,0,(AK7*((LOG(AK7))/LOG(2))))","v":-0.49248841826419365},null,{"$f":"N7","v":1111},{"$f":"COUNTIF(L133:L164,AN7)","v":20},{"$f":"AO7/(AQ4-AO20)","v":0.625},{"$f":"IF(AP7=0,0,(AP7*((LOG(AP7))/LOG(2))))","v":-0.42379494069539858},null,{"$f":"N7","v":1111},{"$f":"COUNTIF(L165:L195,AS7)","v":22},{"$f":"AT7/(AV4-AT20)","v":0.70967741935483875},{"$f":"IF(AU7=0,0,(AU7*((LOG(AU7))/LOG(2))))","v":-0.35112332962873266}]
[12,137,14,143,13,155,23,165,null,null,0,1112,null,1112,{"$f":"COUNTIF($L$7:$L$500,N8)","v":66},{"$f":"O8/$Q$4","v":0.34920634920634919},{"$f":"IF(P8=0,0,(P8*((LOG(P8))/LOG(2))))","v":-0.53004226519012099},null,null,{"$f":"N8","v":1112},{"$f":"COUNTIF(L7:L38,T8)","v":17},{"$f":"U8/(W4-U20)","v":0.53125},{"$f":"IF(V8=0,0,(V8*((LOG(V8))/LOG(2))))","v":-0.48478536558575719},null,{"$f":"N8","v":1112},{"$f":"COUNTIF(L39:L69,Y8)","v":10},{"$f":"Z8/(AB4-Z20)","v":0.32258064516129031},{"$f":"IF(AA8=0,0,(AA8*((LOG(AA8))/LOG(2))))","v":-0.52653813403210092},null,{"$f":"N8","v":1112},{"$f":"COUNTIF(L70:L101,AD8)","v":8},{"$f":"AE8/(AG4-AE20)","v":0.25},{"$f":"IF(AF8=0,0,(AF8*((LOG(AF8))/LOG(2))))","v":-0.5},null,{"$f":"N8","v":1112},{"$f":"COUNTIF(L102:L132,AI8)","v":15},{"$f":"AJ8/(AL4-AJ20)","v":0.4838709677419355},{"$f":"IF(AK8=0,0,(AK8*((LOG(AK8))/LOG(2))))","v":-0.50676082973146286},null,{"$f":"N8","v":1112},{"$f":"COUNTIF(L133:L164,AN8)","v":9},{"$f":"AO8/(AQ4-AO20)","v":0.28125},{"$f":"IF(AP8=0,0,(AP8*((LOG(AP8))/LOG(2))))","v":-0.5147085933443496},null,{"$f":"N8","v":1112},{"$f":"COUNTIF(L165:L195,AS8)","v":7},{"$f":"AT8/(AV4-AT20)","v":0.22580645161290322},{"$f":"IF(AU8=0,0,(AU8*((LOG(AU8))/LOG(2))))","v":-0.48477063607435156}]
[12,271,14,277,24,287,23,296,null,null,0,1122,null,1121,{"$f":"COUNTIF($L$7:$L$500,N9)","v":0},{"$f":"O9/$Q$4","v":0},{"$f":"IF(P9=0,0,(P9*((LOG(P9))/LOG(2))))","v":0},null,null,{"$f":"N9","v":1121},{"$f":"COUNTIF(L7:L38,T9)","v":0},{"$f":"U9/(W4-U20)","v":0},{"$f":"IF(V9=0,0,(V9*((LOG(V9))/LOG(2))))","v":0},null,{"$f":"N9","v":1121},{"$f":"COUNTIF(L39:L69,Y9)","v":0},{"$f":"Z9/(AB4-Z20)","v":0},{"$f":"IF(AA9=0,0,(AA9*((LOG(AA9))/LOG(2))))","v":0},null,{"$f":"N9","v":1121},{"$f":"COUNTIF(L70:L101,AD9)","v":0},{"$f":"AE9/(AG4-AE20)","v":0},{"$f":"IF(AF9=0,0,(AF9*((LOG(AF9))/LOG(2))))","v":0},null,{"$f":"N9","v":1121},{"$f":"COUNTIF(L102:L132,AI9)","v":0},{"$f":"AJ9/(AL4-AJ20)","v":0},{"$f":"IF(AK9=0,0,(AK9*((LOG(AK9))/LOG(2))))","v":0},null,{"$f":"N9","v":1121},{"$f":"COUNTIF(L133:L164,AN9)","v":0},{"$f":"AO9/(AQ4-AO20)","v":0},{"$f":"IF(AP9=0,0,(AP9*((LOG(AP9))/LOG(2))))","v":0},null,{"$f":"N9","v":1121},{"$f":"COUNTIF(L165:L195,AS9)","v":0},{"$f":"AT9/(AV4-AT20)","v":0},{"$f":"IF(AU9=0,0,(AU9*((LOG(AU9))/LOG(2))))","v":0}]
[12,397,14,402,13,413,23,430,null,null,0,1112,null,1122,{"$f":"COUNTIF($L$7:$L$500,N10)","v":12},{"$f":"O10/$Q$4","v":6.3492063492063489E-2},{"$f":"IF(P10=0,0,(P10*((LOG(P10))/LOG(2))))","v":-0.25252570942856611},null,null,{"$f":"N10","v":1122},{"$f":"COUNTIF(L7:L38,T10)","v":5},{"$f":"U10/(W4-U20)","v":0.15625},{"$f":"IF(V10=0,0,(V10*((LOG(V10))/LOG(2))))","v":-0.41844873517384967},null,{"$f":"N10","v":1122},{"$f":"COUNTIF(L39:L69,Y10)","v":1},{"$f":"Z10/(AB4-Z20)","v":3.2258064516129031E-2},{"$f":"IF(AA10=0,0,(AA10*((LOG(AA10))/LOG(2))))","v":-0.15981278420602821},null,{"$f":"N10","v":1122},{"$f":"COUNTIF(L70:L101,AD10)","v":1},{"$f":"AE10/(AG4-AE20)","v":3.125E-2},{"$f":"IF(AF10=0,0,(AF10*((LOG(AF10))/LOG(2))))","v":-0.15625},null,{"$f":"N10","v":1122},{"$f":"COUNTIF(L102:L132,AI10)","v":0},{"$f":"AJ10/(AL4-AJ20)","v":0},{"$f":"IF(AK10=0,0,(AK10*((LOG(AK10))/LOG(2))))","v":0},null,{"$f":"N10","v":1122},{"$f":"COUNTIF(L133:L164,AN10)","v":3},{"$f":"AO10/(AQ4-AO20)","v":9.375E-2},{"$f":"IF(AP10=0,0,(AP10*((LOG(AP10))/LOG(2))))","v":-0.32015976555739156},null,{"$f":"N10","v":1122},{"$f":"COUNTIF(L165:L195,AS10)","v":2},{"$f":"AT10/(AV4-AT20)","v":6.4516129032258063E-2},{"$f":"IF(AU10=0,0,(AU10*((LOG(AU10))/LOG(2))))","v":-0.25510943937979835}]
[12,534,14,540,13,548,23,576,null,null,0,1112,null,1211,{"$f":"COUNTIF($L$7:$L$500,N11)","v":0},{"$f":"O11/$Q$4","v":0},{"$f":"IF(P11=0,0,(P11*((LOG(P11))/LOG(2))))","v":0},null,null,{"$f":"N11","v":1211},{"$f":"COUNTIF(L7:L38,T11)","v":0},{"$f":"U11/(W4-U20)","v":0},{"$f":"IF(V11=0,0,(V11*((LOG(V11))/LOG(2))))","v":0},null,{"$f":"N11","v":1211},{"$f":"COUNTIF(L39:L69,Y11)","v":0},{"$f":"Z11/(AB4-Z20)","v":0},{"$f":"IF(AA11=0,0,(AA11*((LOG(AA11))/LOG(2))))","v":0},null,{"$f":"N11","v":1211},{"$f":"COUNTIF(L70:L101,AD11)","v":0},{"$f":"AE11/(AG4-AE20)","v":0},{"$f":"IF(AF11=0,0,(AF11*((LOG(AF11))/LOG(2))))","v":0},null,{"$f":"N11","v":1211},{"$f":"COUNTIF(L102:L132,AI11)","v":0},{"$f":"AJ11/(AL4-AJ20)","v":0},{"$f":"IF(AK11=0,0,(AK11*((LOG(AK11))/LOG(2))))","v":0},null,{"$f":"N11","v":1211},{"$f":"COUNTIF(L133:L164,AN11)","v":0},{"$f":"AO11/(AQ4-AO20)","v":0},{"$f":"IF(AP11=0,0,(AP11*((LOG(AP11))/LOG(2))))","v":0},null,{"$f":"N11","v":1211},{"$f":"COUNTIF(L165:L195,AS11)","v":0},{"$f":"AT11/(AV4-AT20)","v":0},{"$f":"IF(AU11=0,0,(AU11*((LOG(AU11))/LOG(2))))","v":0}]
[12,674,14,681,13,686,14,698,null,null,0,1111,null,1212,{"$f":"COUNTIF($L$7:$L$500,N12)","v":1},{"$f":"O12/$Q$4","v":5.2910052910052907E-3},{"$f":"IF(P12=0,0,(P12*((LOG(P12))/LOG(2))))","v":-4.0011864678418371E-2},null,null,{"$f":"N12","v":1212},{"$f":"COUNTIF(L7:L38,T12)","v":1},{"$f":"U12/(W4-U20)","v":3.125E-2},{"$f":"IF(V12=0,0,(V12*((LOG(V12))/LOG(2))))","v":-0.15625},null,{"$f":"N12","v":1212},{"$f":"COUNTIF(L39:L69,Y12)","v":0},{"$f":"Z12/(AB4-Z20)","v":0},{"$f":"IF(AA12=0,0,(AA12*((LOG(AA12))/LOG(2))))","v":0},null,{"$f":"N12","v":1212},{"$f":"COUNTIF(L70:L101,AD12)","v":0},{"$f":"AE12/(AG4-AE20)","v":0},{"$f":"IF(AF12=0,0,(AF12*((LOG(AF12))/LOG(2))))","v":0},null,{"$f":"N12","v":1212},{"$f":"COUNTIF(L102:L132,AI12)","v":0},{"$f":"AJ12/(AL4-AJ20)","v":0},{"$f":"IF(AK12=0,0,(AK12*((LOG(AK12))/LOG(2))))","v":0},null,{"$f":"N12","v":1212},{"$f":"COUNTIF(L133:L164,AN12)","v":0},{"$f":"AO12/(AQ4-AO20)","v":0},{"$f":"IF(AP12=0,0,(AP12*((LOG(AP12))/LOG(2))))","v":0},null,{"$f":"N12","v":1212},{"$f":"COUNTIF(L165:L195,AS12)","v":0},{"$f":"AT12/(AV4-AT20)","v":0},{"$f":"IF(AU12=0,0,(AU12*((LOG(AU12))/LOG(2))))","v":0}]
[12,794,14,799,24,810,23,824,null,null,0,1122,null,1221,{"$f":"COUNTIF($L$7:$L$500,N13)","v":0},{"$f":"O13/$Q$4","v":0},{"$f":"IF(P13=0,0,(P13*((LOG(P13))/LOG(2))))","v":0},null,null,{"$f":"N13","v":1221},{"$f":"COUNTIF(L7:L38,T13)","v":0},{"$f":"U13/(W4-U20)","v":0},{"$f":"IF(V13=0,0,(V13*((LOG(V13))/LOG(2))))","v":0},null,{"$f":"N13","v":1221},{"$f":"COUNTIF(L39:L69,Y13)","v":0},{"$f":"Z13/(AB4-Z20)","v":0},{"$f":"IF(AA13=0,0,(AA13*((LOG(AA13))/LOG(2))))","v":0},null,{"$f":"N13","v":1221},{"$f":"COUNTIF(L70:L101,AD13)","v":0},{"$f":"AE13/(AG4-AE20)","v":0},{"$f":"IF(AF13=0,0,(AF13*((LOG(AF13))/LOG(2))))","v":0},null,{"$f":"N13","v":1221},{"$f":"COUNTIF(L102:L132,AI13)","v":0},{"$f":"AJ13/(AL4-AJ20)","v":0},{"$f":"IF(AK13=0,0,(AK13*((LOG(AK13))/LOG(2))))","v":0},null,{"$f":"N13","v":1221},{"$f":"COUNTIF(L133:L164,AN13)","v":0},{"$f":"AO13/(AQ4-AO20)","v":0},{"$f":"IF(AP13=0,0,(AP13*((LOG(AP13))/LOG(2))))","v":0},null,{"$f":"N13","v":1221},{"$f":"COUNTIF(L165:L195,AS13)","v":0},{"$f":"AT13/(AV4-AT20)","v":0},{"$f":"IF(AU13=0,0,(AU13*((LOG(AU13))/LOG(2))))","v":0}]
[12,928,14,934,13,946,23,969,null,null,0,1112,null,1222,{"$f":"COUNTIF($L$7:$L$500,N14)","v":1},{"$f":"O14/$Q$4","v":5.2910052910052907E-3},{"$f":"IF(P14=0,0,(P14*((LOG(P14))/LOG(2))))","v":-4.0011864678418371E-2},null,null,{"$f":"N14","v":1222},{"$f":"COUNTIF(L7:L38,T14)","v":0},{"$f":"U14/(W4-U20)","v":0},{"$f":"IF(V14=0,0,(V14*((LOG(V14))/LOG(2))))","v":0},null,{"$f":"N14","v":1222},{"$f":"COUNTIF(L39:L69,Y14)","v":0},{"$f":"Z14/(AB4-Z20)","v":0},{"$f":"IF(AA14=0,0,(AA14*((LOG(AA14))/LOG(2))))","v":0},null,{"$f":"N14","v":1222},{"$f":"COUNTIF(L70:L101,AD14)","v":1},{"$f":"AE14/(AG4-AE20)","v":3.125E-2},{"$f":"IF(AF14=0,0,(AF14*((LOG(AF14))/LOG(2))))","v":-0.15625},null,{"$f":"N14","v":1222},{"$f":"COUNTIF(L102:L132,AI14)","v":0},{"$f":"AJ14/(AL4-AJ20)","v":0},{"$f":"IF(AK14=0,0,(AK14*((LOG(AK14))/LOG(2))))","v":0},null,{"$f":"N14","v":1222},{"$f":"COUNTIF(L133:L164,AN14)","v":0},{"$f":"AO14/(AQ4-AO20)","v":0},{"$f":"IF(AP14=0,0,(AP14*((LOG(AP14))/LOG(2))))","v":0},null,{"$f":"N14","v":1222},{"$f":"COUNTIF(L165:L195,AS14)","v":0},{"$f":"AT14/(AV4-AT20)","v":0},{"$f":"IF(AU14=0,0,(AU14*((LOG(AU14))/LOG(2))))","v":0}]
[12,1066,14,1076,13,1082,14,1092,null,null,0,1111,null,2111,{"$f":"COUNTIF($L$7:$L$500,N15)","v":0},{"$f":"O15/$Q$4","v":0},{"$f":"IF(P15=0,0,(P15*((LOG(P15))/LOG(2))))","v":0},null,null,{"$f":"N15","v":2111},{"$f":"COUNTIF(L7:L38,T15)","v":0},{"$f":"U15/(W4-U20)","v":0},{"$f":"IF(V15=0,0,(V15*((LOG(V15))/LOG(2))))","v":0},null,{"$f":"N15","v":2111},{"$f":"COUNTIF(L39:L69,Y15)","v":0},{"$f":"Z15/(AB4-Z20)","v":0},{"$f":"IF(AA15=0,0,(AA15*((LOG(AA15))/LOG(2))))","v":0},null,{"$f":"N15","v":2111},{"$f":"COUNTIF(L70:L101,AD15)","v":0},{"$f":"AE15/(AG4-AE20)","v":0},{"$f":"IF(AF15=0,0,(AF15*((LOG(AF15))/LOG(2))))","v":0},null,{"$f":"N15","v":2111},{"$f":"COUNTIF(L102:L132,AI15)","v":0},{"$f":"AJ15/(AL4-AJ20)","v":0},{"$f":"IF(AK15=0,0,(AK15*((LOG(AK15))/LOG(2))))","v":0},null,{"$f":"N15","v":2111},{"$f":"COUNTIF(L133:L164,AN15)","v":0},{"$f":"AO15/(AQ4-AO20)","v":0},{"$f":"IF(AP15=0,0,(AP15*((LOG(AP15))/LOG(2))))","v":0},null,{"$f":"N15","v":2111},{"$f":"COUNTIF(L165:L195,AS15)","v":0},{"$f":"AT15/(AV4-AT20)","v":0},{"$f":"IF(AU15=0,0,(AU15*((LOG(AU15))/LOG(2))))","v":0}]
[12,1190,14,1195,13,1204,23,1214,null,null,0,1112,null,2112,{"$f":"COUNTIF($L$7:$L$500,N16)","v":0},{"$f":"O16/$Q$4","v":0},{"$f":"IF(P16=0,0,(P16*((LOG(P16))/LOG(2))))","v":0},null,null,{"$f":"N16","v":2112},{"$f":"COUNTIF(L7:L38,T16)","v":0},{"$f":"U16/(W4-U20)","v":0},{"$f":"IF(V16=0,0,(V16*((LOG(V16))/LOG(2))))","v":0},null,{"$f":"N16","v":2112},{"$f":"COUNTIF(L39:L69,Y16)","v":0},{"$f":"Z16/(AB4-Z20)","v":0},{"$f":"IF(AA16=0,0,(AA16*((LOG(AA16))/LOG(2))))","v":0},null,{"$f":"N16","v":2112},{"$f":"COUNTIF(L70:L101,AD16)","v":0},{"$f":"AE16/(AG4-AE20)","v":0},{"$f":"IF(AF16=0,0,(AF16*((LOG(AF16))/LOG(2))))","v":0},null,{"$f":"N16","v":2112},{"$f":"COUNTIF(L102:L132,AI16)","v":0},{"$f":"AJ16/(AL4-AJ20)","v":0},{"$f":"IF(AK16=0,0,(AK16*((LOG(AK16))/LOG(2))))","v":0},null,{"$f":"N16","v":2112},{"$f":"COUNTIF(L133:L164,AN16)","v":0},{"$f":"AO16/(AQ4-AO20)","v":0},{"$f":"IF(AP16=0,0,(AP16*((LOG(AP16))/LOG(2))))","v":0},null,{"$f":"N16","v":2112},{"$f":"COUNTIF(L165:L195,AS16)","v":0},{"$f":"AT16/(AV4-AT20)","v":0},{"$f":"IF(AU16=0,0,(AU16*((LOG(AU16))/LOG(2))))","v":0}]
[12,1319,14,1328,13,1343,23,1384,null,null,0,1112,null,2121,{"$f":"COUNTIF($L$7:$L$500,N17)","v":0},{"$f":"O17/$Q$4","v":0},{"$f":"IF(P17=0,0,(P17*((LOG(P17))/LOG(2))))","v":0},null,null,{"$f":"N17","v":2121},{"$f":"COUNTIF(L7:L38,T17)","v":0},{"$f":"U17/(W4-U20)","v":0},{"$f":"IF(V17=0,0,(V17*((LOG(V17))/LOG(2))))","v":0},null,{"$f":"N17","v":2121},{"$f":"COUNTIF(L39:L69,Y17)","v":0},{"$f":"Z17/(AB4-Z20)","v":0},{"$f":"IF(AA17=0,0,(AA17*((LOG(AA17))/LOG(2))))","v":0},null,{"$f":"N17","v":2121},{"$f":"COUNTIF(L70:L101,AD17)","v":0},{"$f":"AE17/(AG4-AE20)","v":0},{"$f":"IF(AF17=0,0,(AF17*((LOG(AF17))/LOG(2))))","v":0},null,{"$f":"N17","v":2121},{"$f":"COUNTIF(L102:L132,AI17)","v":0},{"$f":"AJ17/(AL4-AJ20)","v":0},{"$f":"IF(AK17=0,0,(AK17*((LOG(AK17))/LOG(2))))","v":0},null,{"$f":"N17","v":2121},{"$f":"COUNTIF(L133:L164,AN17)","v":0},{"$f":"AO17/(AQ4-AO20)","v":0},{"$f":"IF(AP17=0,0,(AP17*((LOG(AP17))/LOG(2))))","v":0},null,{"$f":"N17","v":2121},{"$f":"COUNTIF(L165:L195,AS17)","v":0},{"$f":"AT17/(AV4-AT20)","v":0},{"$f":"IF(AU17=0,0,(AU17*((LOG(AU17))/LOG(2))))","v":0}]
[12,1489,14,1495,13,1500,14,1512,null,null,0,1111,null,2122,{"$f":"COUNTIF($L$7:$L$500,N18)","v":0},{"$f":"O18/$Q$4","v":0},{"$f":"IF(P18=0,0,(P18*((LOG(P18))/LOG(2))))","v":0},null,null,{"$f":"N18","v":2122},{"$f":"COUNTIF(L7:L38,T18)","v":0},{"$f":"U18/(W4-U20)","v":0},{"$f":"IF(V18=0,0,(V18*((LOG(V18))/LOG(2))))","v":0},null,{"$f":"N18","v":2122},{"$f":"COUNTIF(L39:L69,Y18)","v":0},{"$f":"Z18/(AB4-Z20)","v":0},{"$f":"IF(AA18=0,0,(AA18*((LOG(AA18))/LOG(2))))","v":0},null,{"$f":"N18","v":2122},{"$f":"COUNTIF(L70:L101,AD18)","v":0},{"$f":"AE18/(AG4-AE20)","v":0},{"$f":"IF(AF18=0,0,(AF18*((LOG(AF18))/LOG(2))))","v":0},null,{"$f":"N18","v":2122},{"$f":"COUNTIF(L102:L132,AI18)","v":0},{"$f":"AJ18/(AL4-AJ20)","v":0},{"$f":"IF(AK18=0,0,(AK18*((LOG(AK18))/LOG(2))))","v":0},null,{"$f":"N18","v":2122},{"$f":"COUNTIF(L133:L164,AN18)","v":0},{"$f":"AO18/(AQ4-AO20)","v":0},{"$f":"IF(AP18=0,0,(AP18*((LOG(AP18))/LOG(2))))","v":0},null,{"$f":"N18","v":2122},{"$f":"COUNTIF(L165:L195,AS18)","v":0},{"$f":"AT18/(AV4-AT20)","v":0},{"$f":"IF(AU18=0,0,(AU18*((LOG(AU18))/LOG(2))))","v":0}]
[12,1619,14,1626,13,1631,23,1643,null,null,0,1112,null,2211,{"$f":"COUNTIF($L$7:$L$500,N19)","v":0},{"$f":"O19/$Q$4","v":0},{"$f":"IF(P19=0,0,(P19*((LOG(P19))/LOG(2))))","v":0},null,null,{"$f":"N19","v":2211},{"$f":"COUNTIF(L7:L38,T19)","v":0},{"$f":"U19/(W4-U20)","v":0},{"$f":"IF(V19=0,0,(V19*((LOG(V19))/LOG(2))))","v":0},null,{"$f":"N19","v":2211},{"$f":"COUNTIF(L39:L69,Y19)","v":0},{"$f":"Z19/(AB4-Z20)","v":0},{"$f":"IF(AA19=0,0,(AA19*((LOG(AA19))/LOG(2))))","v":0},null,{"$f":"N19","v":2211},{"$f":"COUNTIF(L70:L101,AD19)","v":0},{"$f":"AE19/(AG4-AE20)","v":0},{"$f":"IF(AF19=0,0,(AF19*((LOG(AF19))/LOG(2))))","v":0},null,{"$f":"N19","v":2211},{"$f":"COUNTIF(L102:L132,AI19)","v":0},{"$f":"AJ19/(AL4-AJ20)","v":0},{"$f":"IF(AK19=0,0,(AK19*((LOG(AK19))/LOG(2))))","v":0},null,{"$f":"N19","v":2211},{"$f":"COUNTIF(L133:L164,AN19)","v":0},{"$f":"AO19/(AQ4-AO20)","v":0},{"$f":"IF(AP19=0,0,(AP19*((LOG(AP19))/LOG(2))))","v":0},null,{"$f":"N19","v":2211},{"$f":"COUNTIF(L165:L195,AS19)","v":0},{"$f":"AT19/(AV4-AT20)","v":0},{"$f":"IF(AU19=0,0,(AU19*((LOG(AU19))/LOG(2))))","v":0}]
[12,1730,14,1739,13,1745,23,1756,null,null,0,1112,null,2212,{"$f":"COUNTIF($L$7:$L$500,N20)","v":0},{"$f":"O20/$Q$4","v":0},{"$f":"IF(P20=0,0,(P20*((LOG(P20))/LOG(2))))","v":0},null,null,{"$f":"N20","v":2212},{"$f":"COUNTIF(L7:L38,T20)","v":0},null,null,null,{"$f":"N20","v":2212},{"$f":"COUNTIF(L39:L69,Y20)","v":0},null,null,null,{"$f":"N20","v":2212},{"$f":"COUNTIF(L70:L101,AD20)","v":0},null,null,null,{"$f":"N20","v":2212},{"$f":"COUNTIF(L102:L132,AI20)","v":0},null,null,null,{"$f":"N20","v":2212},{"$f":"COUNTIF(L133:L164,AN20)","v":0},null,null,null,{"$f":"N20","v":2212},{"$f":"COUNTIF(L165:L195,AS20)","v":0}]
[12,1887,23,1900,13,1922,23,1947,null,null,0,1212,null,2221,{"$f":"COUNTIF($L$7:$L$500,N21)","v":0},{"$f":"O21/$Q$4","v":0},{"$f":"IF(P21=0,0,(P21*((LOG(P21))/LOG(2))))","v":0},null,null,{"$f":"N21","v":2221},{"$f":"COUNTIF(L7:L38,T21)","v":0},{"$f":"U21/(W4-U20)","v":0},{"$f":"IF(V21=0,0,(V21*((LOG(V21))/LOG(2))))","v":0},null,{"$f":"N21","v":2221},{"$f":"COUNTIF(L39:L69,Y21)","v":0},{"$f":"Z21/(AB4-Z20)","v":0},{"$f":"IF(AA21=0,0,(AA21*((LOG(AA21))/LOG(2))))","v":0},null,{"$f":"N21","v":2221},{"$f":"COUNTIF(L70:L101,AD21)","v":0},{"$f":"AE21/(AG4-AE20)","v":0},{"$f":"IF(AF21=0,0,(AF21*((LOG(AF21))/LOG(2))))","v":0},null,{"$f":"N21","v":2221},{"$f":"COUNTIF(L102:L132,AI21)","v":0},{"$f":"AJ21/(AL4-AJ20)","v":0},{"$f":"IF(AK21=0,0,(AK21*((LOG(AK21))/LOG(2))))","v":0},null,{"$f":"N21","v":2221},{"$f":"COUNTIF(L133:L164,AN21)","v":0},{"$f":"AO21/(AQ4-AO20)","v":0},{"$f":"IF(AP21=0,0,(AP21*((LOG(AP21))/LOG(2))))","v":0},null,{"$f":"N21","v":2221},{"$f":"COUNTIF(L165:L195,AS21)","v":0},{"$f":"AT21/(AV4-AT20)","v":0},{"$f":"IF(AU21=0,0,(AU21*((LOG(AU21))/LOG(2))))","v":0}]
[12,2046,14,2052,13,2061,23,2083,null,null,0,1112,null,2222,{"$f":"COUNTIF($L$7:$L$500,N22)","v":0},{"$f":"O22/$Q$4","v":0},{"$f":"IF(P22=0,0,(P22*((LOG(P22))/LOG(2))))","v":0},null,null,{"$f":"N22","v":2222},{"$f":"COUNTIF(L7:L38,T22)","v":0},{"$f":"U22/(W4-U20)","v":0},{"$f":"IF(V22=0,0,(V22*((LOG(V22))/LOG(2))))","v":0},null,{"$f":"N22","v":2222},{"$f":"COUNTIF(L39:L69,Y22)","v":0},{"$f":"Z22/(AB4-Z20)","v":0},{"$f":"IF(AA22=0,0,(AA22*((LOG(AA22))/LOG(2))))","v":0},null,{"$f":"N22","v":2222},{"$f":"COUNTIF(L70:L101,AD22)","v":0},{"$f":"AE22/(AG4-AE20)","v":0},{"$f":"IF(AF22=0,0,(AF22*((LOG(AF22))/LOG(2))))","v":0},null,{"$f":"N22","v":2222},{"$f":"COUNTIF(L102:L132,AI22)","v":0},{"$f":"AJ22/(AL4-AJ20)","v":0},{"$f":"IF(AK22=0,0,(AK22*((LOG(AK22))/LOG(2))))","v":0},null,{"$f":"N22","v":2222},{"$f":"COUNTIF(L133:L164,AN22)","v":0},{"$f":"AO22/(AQ4-AO20)","v":0},{"$f":"IF(AP22=0,0,(AP22*((LOG(AP22))/LOG(2))))","v":0},null,{"$f":"N22","v":2222},{"$f":"COUNTIF(L165:L195,AS22)","v":0},{"$f":"AT22/(AV4-AT20)","v":0},{"$f":"IF(AU22=0,0,(AU22*((LOG(AU22))/LOG(2))))","v":0}]
[12,2182,14,2192,24,2213,23,2233,null,null,0,1122,null,null,null,{"$f":"SUM(P7:P22)","v":1},{"$f":"-SUM(Q7:Q22)","v":1.3205405549777036},null,null,null,null,{"$f":"SUM(V7:V22)","v":1},{"$f":"-SUM(W7:W22)","v":1.5741926941039566},null,null,null,{"$f":"SUM(AA7:AA22)","v":1},{"$f":"-SUM(AB7:AB22)","v":1.0942658959797502},null,null,null,{"$f":"SUM(AF7:AF22)","v":1},{"$f":"-SUM(AG7:AG22)","v":1.184140762186858},null,null,null,{"$f":"SUM(AK7:AK22)","v":1},{"$f":"-SUM(AL7:AL22)","v":0.99924924799565651},null,null,null,{"$f":"SUM(AP7:AP22)","v":1},{"$f":"-SUM(AQ7:AQ22)","v":1.2586632995971399},null,null,null,{"$f":"SUM(AU7:AU22)","v":1},{"$f":"-SUM(AV7:AV22)","v":1.0910034050828825}]
[12,2330,14,2336,13,2342,23,2352,null,null,0,1112,null,null,null,"U=",{"$f":"Q23/(LOG(Q4)/LOG(2))","v":0.1746228804763188},null,null,null,null,"U1=",{"$f":"W23/(LOG(W4)/LOG(2))","v":0.31483853882079132},null,null,null,"U2=",{"$f":"AB23/(LOG(AB4)/LOG(2))","v":0.22087657158145568},null,null,null,"U3=",{"$f":"AG23/(LOG(AG4)/LOG(2))","v":0.2368281524373716},null,null,null,"U4=",{"$f":"AL23/(LOG(AL4)/LOG(2))","v":0.20169754797577344},null,null,null,"U5=",{"$f":"AQ23/(LOG(AQ4)/LOG(2))","v":0.25173265991942795},null,null,null,"U6=",{"$f":"AV23/(LOG(AV4)/LOG(2))","v":0.22021804077394053}]
[12,2459,14,2465,13,2475,23,2504,null,null,0,1112]
[12,2608,14,2614,13,2619,23,2629,null,null,0,1112]
[12,2725,14,2731,24,2742,23,2749,null,null,0,1122,null,"Total Target Seq"]
[12,2856,14,2863,13,2873,14,2879,null,null,0,1111,null,{"$f":"COUNTIF(L7:L195,G3)","v":0},null,32,31,32,31,32,31]
[12,2983,14,2992,13,2997,14,3007,null,null,0,1111,null,null,null,"% of reinforcement given in 6 equal intervals based on number of trials "]
[12,3107,14,3112,13,3117,14,3122,null,null,0,1111,null,null,null,"%_1","%_2","%_3","%_4","%_5","%_6"]
[12,3227,14,3233,13,3239,14,3249,null,null,0,1111,null,null,"target sequence",{"$f":"$G$3","v":2212},{"$f":"$G$3","v":2212},{"$f":"$G$3","v":2212},{"$f":"$G$3","v":2212},{"$f":"$G$3","v":2212},{"$f":"$G$3","v":2212}]
[12,3351,14,3357,13,3365,23,3411,null,null,0,1112,null,null,"total reinforcement",{"$f":"U20","v":0},{"$f":"Z20","v":0},{"$f":"AE20","v":0},{"$f":"AJ20","v":0},{"$f":"AO20","v":0},{"$f":"AT20","v":0}]
[12,3518,14,3524,13,3533,23,3552,null,null,0,1112,null,null,"% target"]
[12,3654,14,3660,13,3666,14,3674,null,null,0,1111,null,null,"CCRF"]
[12,3772,14,3777,13,3787,23,3802,null,null,0,1112,null,null,"% CCRf"]
[12,3913,14,3918,13,3923,23,3939,null,null,0,1112,null,null,"average response rate",{"$f":"H38/P28","v":130.53125},{"$f":"(H69-H38)/Q28","v":126.03225806451613},{"$f":"(H101-H69)/R28","v":126},{"$f":"(H132-H101)/S28","v":122.35483870967742},{"$f":"(H164-H132)/T28","v":129.40625},{"$f":"(H195-H164)/U28","v":125.12903225806451}]
[12,4032,14,4037,13,4047,23,4063,null,null,0,1112]
[12,4160,14,4164,13,4171,14,4177,null,null,0,1111]
[12,4272,14,4276,13,4281,23,4290,null,null,0,1112]
[12,4387,14,4393,13,4398,14,4408,null,null,0,1111]
[12,4503,14,4510,13,4515,14,4525,null,null,0,1111]
[12,4625,14,4631,13,4636,14,4646,null,null,0,1111]
[12,4745,14,4750,13,4755,23,4780,null,null,0,1112]
[12,4878,14,4883,13,4889,23,4898,null,null,0,1112]
[12,5005,14,5011,13,5016,23,5051,null,null,0,1112]
[12,5139,14,5145,13,5150,23,5163,null,null,0,1112]
[12,5267,14,5273,13,5281,14,5288,null,null,0,1111]
[12,5386,14,5392,13,5397,14,5403,null,null,0,1111]
[12,5509,14,5516,13,5521,14,5540,null,null,0,1111]
[12,5632,14,5636,13,5642,14,5651,null,null,0,1111]
[12,5746,14,5753,13,5762,14,5776,null,null,0,1111]
[12,5875,14,5881,13,5887,14,5896,null,null,0,1111]
[12,6000,14,6006,13,6012,14,6025,null,null,0,1111]
[12,6120,14,6125,13,6131,14,6146,null,null,0,1111]
[12,6236,14,6242,13,6246,23,6263,null,null,0,1112]
[12,6359,14,6364,13,6369,14,6375,null,null,0,1111]
[12,6490,14,6496,13,6509,14,6519,null,null,0,1111]
[12,6616,14,6622,13,6627,14,6633,null,null,0,1111]
[12,6738,14,6745,13,6753,14,6764,null,null,0,1111]
[12,6860,14,6865,13,6869,23,6908,null,null,0,1112]
[12,7007,14,7013,13,7019,14,7027,null,null,0,1111]
[12,7114,14,7120,24,7141,23,7153,null,null,0,1122]
[12,7262,14,7268,13,7284,23,7339,null,null,0,1112]
[12,7443,14,7449,13,7454,14,7463,null,null,0,1111]
[12,7561,14,7566,13,7570,14,7579,null,null,0,1111]
[12,7680,14,7686,13,7691,23,7723,null,null,0,1112]
[12,7823,14,7828,13,7833,23,7846,null,null,0,1112]
[12,7950,14,7956,13,7962,14,7967,null,null,0,1111]
[12,8065,14,8070,13,8075,14,8084,null,null,0,1111]
[12,8181,14,8188,13,8194,14,8204,null,null,0,1111]
[12,8302,14,8307,13,8312,23,8331,null,null,0,1112]
[12,8432,14,8438,13,8444,14,8449,null,null,0,1111]
[12,8550,14,8556,13,8567,23,8611,null,null,0,1112]
[12,8713,14,8720,13,8725,14,8735,null,null,0,1111]
[12,8835,14,8842,13,8846,14,8858,null,null,0,1111]
[12,8957,14,8963,13,8971,23,8981,null,null,0,1112]
[12,9087,14,9093,13,9098,14,9108,null,null,0,1111]
[12,9198,14,9203,13,9208,23,9219,null,null,0,1112]
[12,9316,14,9322,13,9330,23,9353,null,null,0,1112]
[12,9448,14,9453,13,9462,14,9472,null,null,0,1111]
[12,9570,14,9574,13,9580,14,9590,null,null,0,1111]
[12,9686,14,9695,13,9705,14,9720,null,null,0,1111]
[12,9825,14,9830,13,9836,14,9845,null,null,0,1111]
[12,9941,14,9947,13,9952,14,9962,null,null,0,1111]
[12,10057,14,10063,13,10070,14,10078,null,null,0,1111]
[12,10173,14,10179,13,10185,14,10194,null,null,0,1111]
[12,10299,14,10304,13,10319,14,10337,null,null,0,1111]
[12,10447,14,10455,13,10460,14,10470,null,null,0,1111]
[12,10573,14,10579,13,10587,23,10601,null,null,0,1112]
[12,10692,14,10697,13,10702,14,10715,null,null,0,1111]
[12,10818,14,10824,13,10829,14,10837,null,null,0,1111]
[12,10939,14,10945,13,10951,14,10956,null,null,0,1111]
[12,11054,14,11058,13,11063,14,11072,null,null,0,1111]
[12,11171,14,11177,24,11187,23,11196,null,null,0,1122]
[12,11300,14,11306,13,11315,14,11329,null,null,0,1111]
[12,11417,14,11422,13,11429,23,11443,null,null,0,1112]
[12,11544,14,11549,13,11557,23,11570,null,null,0,1112]
[12,11666,14,11672,13,11677,14,11686,null,null,0,1111]
[12,11788,14,11793,13,11799,14,11804,null,null,0,1111]
[12,11902,14,11908,13,11916,14,11930,null,null,0,1111]
[12,12033,23,12051,24,12089,23,12116,null,null,0,1222]
[12,12207,14,12212,13,12220,23,12231,null,null,0,1112]
[12,12333,14,12338,13,12344,14,12354,null,null,0,1111]
[12,12457,14,12463,13,12473,14,12481,null,null,0,1111]
[12,12588,14,12593,13,12599,14,12607,null,null,0,1111]
[12,12707,14,12711,13,12717,14,12725,null,null,0,1111]
[12,12826,14,12831,13,12838,14,12845,null,null,0,1111]
[12,12936,14,12941,13,12946,14,12961,null,null,0,1111]
[12,13062,14,13067,13,13074,14,13083,null,null,0,1111]
[12,13186,14,13197,13,13205,23,13223,null,null,0,1112]
[12,13317,14,13322,13,13332,23,13344,null,null,0,1112]
[12,13433,14,13437,13,13445,23,13455,null,null,0,1112]
[12,13551,14,13556,13,13561,23,13582,null,null,0,1112]
[12,13688,14,13694,13,13699,14,13708,null,null,0,1111]
[12,13807,14,13812,13,13817,14,13824,null,null,0,1111]
[12,13922,14,13927,13,13938,23,13951,null,null,0,1112]
[12,14049,14,14054,13,14060,14,14069,null,null,0,1111]
[12,14156,14,14161,13,14168,23,14189,null,null,0,1112]
[12,14285,14,14289,13,14299,23,14310,null,null,0,1112]
[12,14407,14,14412,13,14416,14,14426,null,null,0,1111]
[12,14524,14,14528,13,14535,14,14544,null,null,0,1111]
[12,14641,14,14646,13,14650,23,14668,null,null,0,1112]
[12,14770,14,14777,13,14786,14,14795,null,null,0,1111]
[12,14887,14,14891,13,14897,23,14910,null,null,0,1112]
[12,15015,14,15020,13,15025,14,15035,null,null,0,1111]
[12,15132,14,15136,13,15142,23,15154,null,null,0,1112]
[12,15250,14,15256,13,15261,14,15271,null,null,0,1111]
[12,15369,14,15375,13,15380,14,15386,null,null,0,1111]
[12,15480,14,15485,13,15491,23,15503,null,null,0,1112]
[12,15601,14,15607,13,15617,23,15630,null,null,0,1112]
[12,15740,14,15745,13,15752,23,15780,null,null,0,1112]
[12,15885,14,15890,13,15896,23,15909,null,null,0,1112]
[12,16010,14,16017,13,16023,14,16032,null,null,0,1111]
[12,16132,14,16138,13,16143,14,16152,null,null,0,1111]
[12,16254,14,16259,13,16264,23,16296,null,null,0,1112]
[12,16403,14,16409,13,16414,23,16427,null,null,0,1112]
[12,16517,14,16522,13,16531,23,16541,null,null,0,1112]
[12,16649,14,16654,24,16675,23,16699,null,null,0,1122]
[12,16796,14,16803,13,16812,14,16826,null,null,0,1111]
[12,16929,14,16939,13,16948,23,16969,null,null,0,1112]
[12,17075,14,17083,13,17093,23,17124,null,null,0,1112]
[12,17220,14,17229,13,17238,23,17274,null,null,0,1112]
[12,17377,14,17383,13,17389,14,17397,null,null,0,1111]
[12,17493,14,17498,13,17503,14,17516,null,null,0,1111]
[12,17606,14,17612,24,17654,23,17668,null,null,0,1122]
[12,17773,14,17778,13,17783,14,17793,null,null,0,1111]
[12,17889,14,17895,13,17901,14,17910,null,null,0,1111]
[12,18001,14,18006,13,18015,23,18025,null,null,0,1112]
[12,18129,14,18134,13,18140,14,18150,null,null,0,1111]
[12,18258,14,18264,13,18269,14,18285,null,null,0,1111]
[12,18386,14,18392,13,18397,14,18411,null,null,0,1111]
[12,18514,14,18520,13,18525,14,18535,null,null,0,1111]
[12,18625,14,18633,13,18649,23,18661,null,null,0,1112]
[12,18765,14,18774,13,18779,14,18796,null,null,0,1111]
[12,18893,14,18900,13,18909,14,18918,null,null,0,1111]
[12,19019,14,19024,13,19030,14,19039,null,null,0,1111]
[12,19139,14,19145,13,19150,14,19155,null,null,0,1111]
[12,19254,14,19260,13,19265,14,19274,null,null,0,1111]
[12,19370,14,19376,13,19382,14,19390,null,null,0,1111]
[12,19498,14,19503,13,19509,14,19519,null,null,0,1111]
[12,19617,14,19622,13,19629,14,19643,null,null,0,1111]
[12,19748,14,19756,24,19777,23,19784,null,null,0,1122]
[12,19887,14,19896,13,19904,14,19931,null,null,0,1111]
[12,20021,14,20029,13,20040,23,20050,null,null,0,1112]
[12,20153,14,20160,13,20165,14,20174,null,null,0,1111]
[12,20270,14,20274,13,20281,14,20290,null,null,0,1111]
[12,20385,14,20391,13,20396,14,20406,null,null,0,1111]
[12,20508,14,20513,13,20518,14,20539,null,null,0,1111]
[12,20645,14,20650,13,20656,14,20666,null,null,0,1111]
[12,20768,14,20774,13,20781,14,20793,null,null,0,1111]
[12,20898,14,20904,13,20910,14,20919,null,null,0,1111]
[12,21020,14,21025,13,21033,14,21047,null,null,0,1111]
[12,21153,14,21159,13,21170,14,21182,null,null,0,1111]
[12,21288,14,21297,13,21306,14,21321,null,null,0,1111]
[12,21421,14,21428,13,21434,14,21443,null,null,0,1111]
[12,21533,14,21537,13,21548,23,21560,null,null,0,1112]
[12,21657,14,21662,24,21675,23,21683,null,null,0,1122]
[12,21780,14,21785,13,21790,14,21800,null,null,0,1111]
[12,21897,14,21903,13,21913,23,21923,null,null,0,1112]
[12,22012,14,22017,13,22026,23,22038,null,null,0,1112]
[12,22143,14,22148,13,22154,14,22163,null,null,0,1111]
[12,22253,14,22259,13,22264,23,22283,null,null,0,1112]
[12,22389,14,22394,13,22420,14,22429,null,null,0,1111]
[12,22529,14,22535,13,22545,23,22557,null,null,0,1112]
[12,22656,14,22662,13,22667,14,22675,null,null,0,1111]
[12,22765,14,22769,13,22774,23,22786,null,null,0,1112]
[12,22883,14,22888,13,22893,14,22903,null,null,0,1111]
[12,23001,14,23007,13,23016,23,23029,null,null,0,1112]
[12,23126,14,23132,13,23137,14,23146,null,null,0,1111]
[12,23255,14,23261,13,23269,14,23293,null,null,0,1111]
[12,23396,14,23402,13,23413,14,23421,null,null,0,1111]
[12,23511,14,23519,24,23531,23,23543,null,null,0,1122]
[12,23640,14,23645,13,23655,14,23668,null,null,0,1111]
[12,23771,14,23778,13,23785,14,23799,null,null,0,1111]
[12,23895,14,23901,13,23910,14,23929,null,null,1,1111]

{"sheet":"!L903B00.056","index":6,"n_rows":197,"n_cols":48,"rows_kept":197,"cut":false,"hidden":false,"merged":[[4,39,4,42],[5,39,5,40],[4,44,4,47],[5,44,5,45],[4,24,4,27],[5,24,5,25],[4,29,4,32],[5,29,5,30],[4,34,4,37],[5,34,5,35],[1,1,1,2],[5,13,5,14],[26,13,26,14],[27,13,27,14],[4,19,4,22],[5,19,5,20]]}
["Report for:!L903B00.056"]
["Date:","<date>"]
["Hen:","<hen>",null,null,null,"Correct Sequence",{"$f":"Start!J2","v":2212},null,null,null,null,null,null,null,null,"Total Sequences in Data",{"$f":"4994-COUNTBLANK(L7:L5000)","v":191},null,null,null,null,"Total Sequences in Block Data",{"$f":"COUNTA(L7:L38)","v":32},null,null,null,"Total Sequences in Block Data",{"$f":"COUNTA(L39:L70)","v":32},null,null,null,"Total Sequences in Block Data",{"$f":"COUNTA(L71:L101)","v":31},null,null,null,"Total Sequences in Block Data",{"$f":"COUNTA(L102:L133)","v":32},null,null,null,"Total Sequences in Block Data",{"$f":"COUNTA(L134:L165)","v":32},null,null,null,"Total Sequences in Block Data",{"$f":"COUNTA(L166:L197)","v":32}]
[null,null,null,null,null,null,null,null,null,null,null,null,null,null,null,"Total Sequences in Summary",{"$f":"SUM(O7:O22)","v":191},null,null,null,null,"Total Sequences in Block Summary",{"$f":"SUM(U7:U22)","v":32},null,null,null,"Total Sequences in Block Summary",{"$f":"SUM(Z7:Z22)","v":32},null,null,null,"Total Sequences in Block Summary",{"$f":"SUM(AE7:AE22)","v":31},null,null,null,"Total Sequences in Block Summary",{"$f":"SUM(AJ7:AJ22)","v":32},null,null,null,"Total Sequences in Block Summary",{"$f":"SUM(AO7:AO22)","v":32},null,null,null,"Total Sequences in Block Summary",{"$f":"SUM(AT7:AT22)","v":32}]
[null,null,null,null,null,null,null,null,null,null,null,null,null,null,null,null,null,null,null,"Block 1",null,null,null,null,"Block 2",null,null,null,null,"Block 3",null,null,null,null,"Block 4",null,null,null,null,"Block 5",null,null,null,null,"Block 6"]
["Sequence\nComponent\n1","Time\n1","Sequence\nComponent\n2","Time\n2","Sequence\nComponent\n3","Time\n3","Sequence\nComponent\n4","Time\n4","Sequence\nComponent\n5","Time\n5","Correct?\n0=No 1=Yes","Sequence",null,"Frequency",null,"Relative Frequency","Variability",null,null,"Frequency",null,"Relative Frequency","Variability",null,"Frequency",null,"Relative Frequency","Variability",null,"Frequency",null,"Relative Frequency","Variability",null,"Frequency",null,"Relative Frequency","Variability",null,"Frequency",null,"Relative Frequency","Variability",null,"Frequency",null,"Relative Frequency","Variability"]
[12,18,14,25,24,40,14,58,null,null,0,1121,null,1111,{"$f":"COUNTIF($L$7:$L$500,N7)","v":176},{"$f":"O7/$Q$4","v":0.92146596858638741},{"$f":"IF(P7=0,0,(P7*((LOG(P7))/LOG(2))))","v":-0.10873041284883488},null,null,{"$f":"N7","v":1111},{"$f":"COUNTIF(L7:L38,T7)","v":21},{"$f":"U7/(W4-U20)","v":0.65625},{"$f":"IF(V7=0,0,(V7*((LOG(V7))/LOG(2))))","v":-0.3987916913014386},null,{"$f":"N7","v":1111},{"$f":"COUNTIF(L39:L70,Y7)","v":29},{"$f":"Z7/(AB4-Z20)","v":0.90625},{"$f":"IF(AA7=0,0,(AA7*((LOG(AA7))/LOG(2))))","v":-0.12870472316563777},null,{"$f":"N7","v":1111},{"$f":"COUNTIF(L71:L101,AD7)","v":31},{"$f":"AE7/(AG4-AE20)","v":1},{"$f":"IF(AF7=0,0,(AF7*((LOG(AF7))/LOG(2))))","v":0},null,{"$f":"N7","v":1111},{"$f":"COUNTIF(L102:L133,AI7)","v":31},{"$f":"AJ7/(AL4-AJ20)","v":0.96875},{"$f":"IF(AK7=0,0,(AK7*((LOG(AK7))/LOG(2))))","v":-4.4372324312714644E-2},null,{"$f":"N7","v":1111},{"$f":"COUNTIF(L134:L165,AN7)","v":32},{"$f":"AO7/(AQ4-AO20)","v":1},{"$f":"IF(AP7=0,0,(AP7*((LOG(AP7))/LOG(2))))","v":0},null,{"$f":"N7","v":1111},{"$f":"COUNTIF(L166:L197,AS7)","v":32},{"$f":"AT7/(AV4-AT20)","v":1},{"$f":"IF(AU7=0,0,(AU7*((LOG(AU7))/LOG(2))))","v":0}]
[12,166,14,176,24,188,23,197,null,null,0,1122,null,1112,{"$f":"COUNTIF($L$7:$L$500,N8)","v":13},{"$f":"O8/$Q$4","v":6.8062827225130892E-2},{"$f":"IF(P8=0,0,(P8*((LOG(P8))/LOG(2))))","v":-0.26387883994047401},null,null,{"$f":"N8","v":1112},{"$f":"COUNTIF(L7:L38,T8)","v":9},{"$f":"U8/(W4-U20)","v":0.28125},{"$f":"IF(V8=0,0,(V8*((LOG(V8))/LOG(2))))","v":-0.5147085933443496},null,{"$f":"N8","v":1112},{"$f":"COUNTIF(L39:L70,Y8)","v":3},{"$f":"Z8/(AB4-Z20)","v":9.375E-2},{"$f":"IF(AA8=0,0,(AA8*((LOG(AA8))/LOG(2))))","v":-0.32015976555739156},null,{"$f":"N8","v":1112},{"$f":"COUNTIF(L71:L101,AD8)","v":0},{"$f":"AE8/(AG4-AE20)","v":0},{"$f":"IF(AF8=0,0,(AF8*((LOG(AF8))/LOG(2))))","v":0},null,{"$f":"N8","v":1112},{"$f":"COUNTIF(L102:L133,AI8)","v":1},{"$f":"AJ8/(AL4-AJ20)","v":3.125E-2},{"$f":"IF(AK8=0,0,(AK8*((LOG(AK8))/LOG(2))))","v":-0.15625},null,{"$f":"N8","v":1112},{"$f":"COUNTIF(L134:L165,AN8)","v":0},{"$f":"AO8/(AQ4-AO20)","v":0},{"$f":"IF(AP8=0,0,(AP8*((LOG(AP8))/LOG(2))))","v":0},null,{"$f":"N8","v":1112},{"$f":"COUNTIF(L166:L197,AS8)","v":0},{"$f":"AT8/(AV4-AT20)","v":0},{"$f":"IF(AU8=0,0,(AU8*((LOG(AU8))/LOG(2))))","v":0}]
[12,299,14,305,13,317,23,329,null,null,0,1112,null,1121,{"$f":"COUNTIF($L$7:$L$500,N9)","v":1},{"$f":"O9/$Q$4","v":5.235602094240838E-3},{"$f":"IF(P9=0,0,(P9*((LOG(P9))/LOG(2))))","v":-3.9672402241024862E-2},null,null,{"$f":"N9","v":1121},{"$f":"COUNTIF(L7:L38,T9)","v":1},{"$f":"U9/(W4-U20)","v":3.125E-2},{"$f":"IF(V9=0,0,(V9*((LOG(V9))/LOG(2))))","v":-0.15625},null,{"$f":"N9","v":1121},{"$f":"COUNTIF(L39:L70,Y9)","v":0},{"$f":"Z9/(AB4-Z20)","v":0},{"$f":"IF(AA9=0,0,(AA9*((LOG(AA9))/LOG(2))))","v":0},null,{"$f":"N9","v":1121},{"$f":"COUNTIF(L71:L101,AD9)","v":0},{"$f":"AE9/(AG4-AE20)","v":0},{"$f":"IF(AF9=0,0,(AF9*((LOG(AF9))/LOG(2))))","v":0},null,{"$f":"N9","v":1121},{"$f":"COUNTIF(L102:L133,AI9)","v":0},{"$f":"AJ9/(AL4-AJ20)","v":0},{"$f":"IF(AK9=0,0,(AK9*((LOG(AK9))/LOG(2))))","v":0},null,{"$f":"N9","v":1121},{"$f":"COUNTIF(L134:L165,AN9)","v":0},{"$f":"AO9/(AQ4-AO20)","v":0},{"$f":"IF(AP9=0,0,(AP9*((LOG(AP9))/LOG(2))))","v":0},null,{"$f":"N9","v":1121},{"$f":"COUNTIF(L166:L197,AS9)","v":0},{"$f":"AT9/(AV4-AT20)","v":0},{"$f":"IF(AU9=0,0,(AU9*((LOG(AU9))/LOG(2))))","v":0}]
[12,434,14,442,13,451,14,463,null,null,0,1111,null,1122,{"$f":"COUNTIF($L$7:$L$500,N10)","v":1},{"$f":"O10/$Q$4","v":5.235602094240838E-3},{"$f":"IF(P10=0,0,(P10*((LOG(P10))/LOG(2))))","v":-3.9672402241024862E-2},null,null,{"$f":"N10","v":1122},{"$f":"COUNTIF(L7:L38,T10)","v":1},{"$f":"U10/(W4-U20)","v":3.125E-2},{"$f":"IF(V10=0,0,(V10*((LOG(V10))/LOG(2))))","v":-0.15625},null,{"$f":"N10","v":1122},{"$f":"COUNTIF(L39:L70,Y10)","v":0},{"$f":"Z10/(AB4-Z20)","v":0},{"$f":"IF(AA10=0,0,(AA10*((LOG(AA10))/LOG(2))))","v":0},null,{"$f":"N10","v":1122},{"$f":"COUNTIF(L71:L101,AD10)","v":0},{"$f":"AE10/(AG4-AE20)","v":0},{"$f":"IF(AF10=0,0,(AF10*((LOG(AF10))/LOG(2))))","v":0},null,{"$f":"N10","v":1122},{"$f":"COUNTIF(L102:L133,AI10)","v":0},{"$f":"AJ10/(AL4-AJ20)","v":0},{"$f":"IF(AK10=0,0,(AK10*((LOG(AK10))/LOG(2))))","v":0},null,{"$f":"N10","v":1122},{"$f":"COUNTIF(L134:L165,AN10)","v":0},{"$f":"AO10/(AQ4-AO20)","v":0},{"$f":"IF(AP10=0,0,(AP10*((LOG(AP10))/LOG(2))))","v":0},null,{"$f":"N10","v":1122},{"$f":"COUNTIF(L166:L197,AS10)","v":0},{"$f":"AT10/(AV4-AT20)","v":0},{"$f":"IF(AU10=0,0,(AU10*((LOG(AU10))/LOG(2))))","v":0}]
[12,567,14,577,13,585,23,599,null,null,0,1112,null,1211,{"$f":"COUNTIF($L$7:$L$500,N11)","v":0},{"$f":"O11/$Q$4","v":0},{"$f":"IF(P11=0,0,(P11*((LOG(P11))/LOG(2))))","v":0},null,null,{"$f":"N11","v":1211},{"$f":"COUNTIF(L7:L38,T11)","v":0},{"$f":"U11/(W4-U20)","v":0},{"$f":"IF(V11=0,0,(V11*((LOG(V11))/LOG(2))))","v":0},null,{"$f":"N11","v":1211},{"$f":"COUNTIF(L39:L70,Y11)","v":0},{"$f":"Z11/(AB4-Z20)","v":0},{"$f":"IF(AA11=0,0,(AA11*((LOG(AA11))/LOG(2))))","v":0},null,{"$f":"N11","v":1211},{"$f":"COUNTIF(L71:L101,AD11)","v":0},{"$f":"AE11/(AG4-AE20)","v":0},{"$f":"IF(AF11=0,0,(AF11*((LOG(AF11))/LOG(2))))","v":0},null,{"$f":"N11","v":1211},{"$f":"COUNTIF(L102:L133,AI11)","v":0},{"$f":"AJ11/(AL4-AJ20)","v":0},{"$f":"IF(AK11=0,0,(AK11*((LOG(AK11))/LOG(2))))","v":0},null,{"$f":"N11","v":1211},{"$f":"COUNTIF(L134:L165,AN11)","v":0},{"$f":"AO11/(AQ4-AO20)","v":0},{"$f":"IF(AP11=0,0,(AP11*((LOG(AP11))/LOG(2))))","v":0},null,{"$f":"N11","v":1211},{"$f":"COUNTIF(L166:L197,AS11)","v":0},{"$f":"AT11/(AV4-AT20)","v":0},{"$f":"IF(AU11=0,0,(AU11*((LOG(AU11))/LOG(2))))","v":0}]
[12,703,14,709,13,715,14,725,null,null,0,1111,null,1212,{"$f":"COUNTIF($L$7:$L$500,N12)","v":0},{"$f":"O12/$Q$4","v":0},{"$f":"IF(P12=0,0,(P12*((LOG(P12))/LOG(2))))","v":0},null,null,{"$f":"N12","v":1212},{"$f":"COUNTIF(L7:L38,T12)","v":0},{"$f":"U12/(W4-U20)","v":0},{"$f":"IF(V12=0,0,(V12*((LOG(V12))/LOG(2))))","v":0},null,{"$f":"N12","v":1212},{"$f":"COUNTIF(L39:L70,Y12)","v":0},{"$f":"Z12/(AB4-Z20)","v":0},{"$f":"IF(AA12=0,0,(AA12*((LOG(AA12))/LOG(2))))","v":0},null,{"$f":"N12","v":1212},{"$f":"COUNTIF(L71:L101,AD12)","v":0},{"$f":"AE12/(AG4-AE20)","v":0},{"$f":"IF(AF12=0,0,(AF12*((LOG(AF12))/LOG(2))))","v":0},null,{"$f":"N12","v":1212},{"$f":"COUNTIF(L102:L133,AI12)","v":0},{"$f":"AJ12/(AL4-AJ20)","v":0},{"$f":"IF(AK12=0,0,(AK12*((LOG(AK12))/LOG(2))))","v":0},null,{"$f":"N12","v":1212},{"$f":"COUNTIF(L134:L165,AN12)","v":0},{"$f":"AO12/(AQ4-AO20)","v":0},{"$f":"IF(AP12=0,0,(AP12*((LOG(AP12))/LOG(2))))","v":0},null,{"$f":"N12","v":1212},{"$f":"COUNTIF(L166:L197,AS12)","v":0},{"$f":"AT12/(AV4-AT20)","v":0},{"$f":"IF(AU12=0,0,(AU12*((LOG(AU12))/LOG(2))))","v":0}]
[12,819,14,824,13,831,23,843,null,null,0,1112,null,1221,{"$f":"COUNTIF($L$7:$L$500,N13)","v":0},{"$f":"O13/$Q$4","v":0},{"$f":"IF(P13=0,0,(P13*((LOG(P13))/LOG(2))))","v":0},null,null,{"$f":"N13","v":1221},{"$f":"COUNTIF(L7:L38,T13)","v":0},{"$f":"U13/(W4-U20)","v":0},{"$f":"IF(V13=0,0,(V13*((LOG(V13))/LOG(2))))","v":0},null,{"$f":"N13","v":1221},{"$f":"COUNTIF(L39:L70,Y13)","v":0},{"$f":"Z13/(AB4-Z20)","v":0},{"$f":"IF(AA13=0,0,(AA13*((LOG(AA13))/LOG(2))))","v":0},null,{"$f":"N13","v":1221},{"$f":"COUNTIF(L71:L101,AD13)","v":0},{"$f":"AE13/(AG4-AE20)","v":0},{"$f":"IF(AF13=0,0,(AF13*((LOG(AF13))/LOG(2))))","v":0},null,{"$f":"N13","v":1221},{"$f":"COUNTIF(L102:L133,AI13)","v":0},{"$f":"AJ13/(AL4-AJ20)","v":0},{"$f":"IF(AK13=0,0,(AK13*((LOG(AK13))/LOG(2))))","v":0},null,{"$f":"N13","v":1221},{"$f":"COUNTIF(L134:L165,AN13)","v":0},{"$f":"AO13/(AQ4-AO20)","v":0},{"$f":"IF(AP13=0,0,(AP13*((LOG(AP13))/LOG(2))))","v":0},null,{"$f":"N13","v":1221},{"$f":"COUNTIF(L166:L197,AS13)","v":0},{"$f":"AT13/(AV4-AT20)","v":0},{"$f":"IF(AU13=0,0,(AU13*((LOG(AU13))/LOG(2))))","v":0}]
[12,942,14,946,13,952,14,963,null,null,0,1111,null,1222,{"$f":"COUNTIF($L$7:$L$500,N14)","v":0},{"$f":"O14/$Q$4","v":0},{"$f":"IF(P14=0,0,(P14*((LOG(P14))/LOG(2))))","v":0},null,null,{"$f":"N14","v":1222},{"$f":"COUNTIF(L7:L38,T14)","v":0},{"$f":"U14/(W4-U20)","v":0},{"$f":"IF(V14=0,0,(V14*((LOG(V14))/LOG(2))))","v":0},null,{"$f":"N14","v":1222},{"$f":"COUNTIF(L39:L70,Y14)","v":0},{"$f":"Z14/(AB4-Z20)","v":0},{"$f":"IF(AA14=0,0,(AA14*((LOG(AA14))/LOG(2))))","v":0},null,{"$f":"N14","v":1222},{"$f":"COUNTIF(L71:L101,AD14)","v":0},{"$f":"AE14/(AG4-AE20)","v":0},{"$f":"IF(AF14=0,0,(AF14*((LOG(AF14))/LOG(2))))","v":0},null,{"$f":"N14","v":1222},{"$f":"COUNTIF(L102:L133,AI14)","v":0},{"$f":"AJ14/(AL4-AJ20)","v":0},{"$f":"IF(AK14=0,0,(AK14*((LOG(AK14))/LOG(2))))","v":0},null,{"$f":"N14","v":1222},{"$f":"COUNTIF(L134:L165,AN14)","v":0},{"$f":"AO14/(AQ4-AO20)","v":0},{"$f":"IF(AP14=0,0,(AP14*((LOG(AP14))/LOG(2))))","v":0},null,{"$f":"N14","v":1222},{"$f":"COUNTIF(L166:L197,AS14)","v":0},{"$f":"AT14/(AV4-AT20)","v":0},{"$f":"IF(AU14=0,0,(AU14*((LOG(AU14))/LOG(2))))","v":0}]
[12,1060,14,1067,13,1072,14,1082,null,null,0,1111,null,2111,{"$f":"COUNTIF($L$7:$L$500,N15)","v":0},{"$f":"O15/$Q$4","v":0},{"$f":"IF(P15=0,0,(P15*((LOG(P15))/LOG(2))))","v":0},null,null,{"$f":"N15","v":2111},{"$f":"COUNTIF(L7:L38,T15)","v":0},{"$f":"U15/(W4-U20)","v":0},{"$f":"IF(V15=0,0,(V15*((LOG(V15))/LOG(2))))","v":0},null,{"$f":"N15","v":2111},{"$f":"COUNTIF(L39:L70,Y15)","v":0},{"$f":"Z15/(AB4-Z20)","v":0},{"$f":"IF(AA15=0,0,(AA15*((LOG(AA15))/LOG(2))))","v":0},null,{"$f":"N15","v":2111},{"$f":"COUNTIF(L71:L101,AD15)","v":0},{"$f":"AE15/(AG4-AE20)","v":0},{"$f":"IF(AF15=0,0,(AF15*((LOG(AF15))/LOG(2))))","v":0},null,{"$f":"N15","v":2111},{"$f":"COUNTIF(L102:L133,AI15)","v":0},{"$f":"AJ15/(AL4-AJ20)","v":0},{"$f":"IF(AK15=0,0,(AK15*((LOG(AK15))/LOG(2))))","v":0},null,{"$f":"N15","v":2111},{"$f":"COUNTIF(L134:L165,AN15)","v":0},{"$f":"AO15/(AQ4-AO20)","v":0},{"$f":"IF(AP15=0,0,(AP15*((LOG(AP15))/LOG(2))))","v":0},null,{"$f":"N15","v":2111},{"$f":"COUNTIF(L166:L197,AS15)","v":0},{"$f":"AT15/(AV4-AT20)","v":0},{"$f":"IF(AU15=0,0,(AU15*((LOG(AU15))/LOG(2))))","v":0}]
[12,1191,14,1198,13,1208,14,1221,null,null,0,1111,null,2112,{"$f":"COUNTIF($L$7:$L$500,N16)","v":0},{"$f":"O16/$Q$4","v":0},{"$f":"IF(P16=0,0,(P16*((LOG(P16))/LOG(2))))","v":0},null,null,{"$f":"N16","v":2112},{"$f":"COUNTIF(L7:L38,T16)","v":0},{"$f":"U16/(W4-U20)","v":0},{"$f":"IF(V16=0,0,(V16*((LOG(V16))/LOG(2))))","v":0},null,{"$f":"N16","v":2112},{"$f":"COUNTIF(L39:L70,Y16)","v":0},{"$f":"Z16/(AB4-Z20)","v":0},{"$f":"IF(AA16=0,0,(AA16*((LOG(AA16))/LOG(2))))","v":0},null,{"$f":"N16","v":2112},{"$f":"COUNTIF(L71:L101,AD16)","v":0},{"$f":"AE16/(AG4-AE20)","v":0},{"$f":"IF(AF16=0,0,(AF16*((LOG(AF16))/LOG(2))))","v":0},null,{"$f":"N16","v":2112},{"$f":"COUNTIF(L102:L133,AI16)","v":0},{"$f":"AJ16/(AL4-AJ20)","v":0},{"$f":"IF(AK16=0,0,(AK16*((LOG(AK16))/LOG(2))))","v":0},null,{"$f":"N16","v":2112},{"$f":"COUNTIF(L134:L165,AN16)","v":0},{"$f":"AO16/(AQ4-AO20)","v":0},{"$f":"IF(AP16=0,0,(AP16*((LOG(AP16))/LOG(2))))","v":0},null,{"$f":"N16","v":2112},{"$f":"COUNTIF(L166:L197,AS16)","v":0},{"$f":"AT16/(AV4-AT20)","v":0},{"$f":"IF(AU16=0,0,(AU16*((LOG(AU16))/LOG(2))))","v":0}]
[12,1325,14,1330,13,1339,23,1354,null,null,0,1112,null,2121,{"$f":"COUNTIF($L$7:$L$500,N17)","v":0},{"$f":"O17/$Q$4","v":0},{"$f":"IF(P17=0,0,(P17*((LOG(P17))/LOG(2))))","v":0},null,null,{"$f":"N17","v":2121},{"$f":"COUNTIF(L7:L38,T17)","v":0},{"$f":"U17/(W4-U20)","v":0},{"$f":"IF(V17=0,0,(V17*((LOG(V17))/LOG(2))))","v":0},null,{"$f":"N17","v":2121},{"$f":"COUNTIF(L39:L70,Y17)","v":0},{"$f":"Z17/(AB4-Z20)","v":0},{"$f":"IF(AA17=0,0,(AA17*((LOG(AA17))/LOG(2))))","v":0},null,{"$f":"N17","v":2121},{"$f":"COUNTIF(L71:L101,AD17)","v":0},{"$f":"AE17/(AG4-AE20)","v":0},{"$f":"IF(AF17=0,0,(AF17*((LOG(AF17))/LOG(2))))","v":0},null,{"$f":"N17","v":2121},{"$f":"COUNTIF(L102:L133,AI17)","v":0},{"$f":"AJ17/(AL4-AJ20)","v":0},{"$f":"IF(AK17=0,0,(AK17*((LOG(AK17))/LOG(2))))","v":0},null,{"$f":"N17","v":2121},{"$f":"COUNTIF(L134:L165,AN17)","v":0},{"$f":"AO17/(AQ4-AO20)","v":0},{"$f":"IF(AP17=0,0,(AP17*((LOG(AP17))/LOG(2))))","v":0},null,{"$f":"N17","v":2121},{"$f":"COUNTIF(L166:L197,AS17)","v":0},{"$f":"AT17/(AV4-AT20)","v":0},{"$f":"IF(AU17=0,0,(AU17*((LOG(AU17))/LOG(2))))","v":0}]
[12,1457,14,1463,13,1476,23,1490,null,null,0,1112,null,2122,{"$f":"COUNTIF($L$7:$L$500,N18)","v":0},{"$f":"O18/$Q$4","v":0},{"$f":"IF(P18=0,0,(P18*((LOG(P18))/LOG(2))))","v":0},null,null,{"$f":"N18","v":2122},{"$f":"COUNTIF(L7:L38,T18)","v":0},{"$f":"U18/(W4-U20)","v":0},{"$f":"IF(V18=0,0,(V18*((LOG(V18))/LOG(2))))","v":0},null,{"$f":"N18","v":2122},{"$f":"COUNTIF(L39:L70,Y18)","v":0},{"$f":"Z18/(AB4-Z20)","v":0},{"$f":"IF(AA18=0,0,(AA18*((LOG(AA18))/LOG(2))))","v":0},null,{"$f":"N18","v":2122},{"$f":"COUNTIF(L71:L101,AD18)","v":0},{"$f":"AE18/(AG4-AE20)","v":0},{"$f":"IF(AF18=0,0,(AF18*((LOG(AF18))/LOG(2))))","v":0},null,{"$f":"N18","v":2122},{"$f":"COUNTIF(L102:L133,AI18)","v":0},{"$f":"AJ18/(AL4-AJ20)","v":0},{"$f":"IF(AK18=0,0,(AK18*((LOG(AK18))/LOG(2))))","v":0},null,{"$f":"N18","v":2122},{"$f":"COUNTIF(L134:L165,AN18)","v":0},{"$f":"AO18/(AQ4-AO20)","v":0},{"$f":"IF(AP18=0,0,(AP18*((LOG(AP18))/LOG(2))))","v":0},null,{"$f":"N18","v":2122},{"$f":"COUNTIF(L166:L197,AS18)","v":0},{"$f":"AT18/(AV4-AT20)","v":0},{"$f":"IF(AU18=0,0,(AU18*((LOG(AU18))/LOG(2))))","v":0}]
[12,1593,14,1600,13,1610,14,1625,null,null,0,1111,null,2211,{"$f":"COUNTIF($L$7:$L$500,N19)","v":0},{"$f":"O19/$Q$4","v":0},{"$f":"IF(P19=0,0,(P19*((LOG(P19))/LOG(2))))","v":0},null,null,{"$f":"N19","v":2211},{"$f":"COUNTIF(L7:L38,T19)","v":0},{"$f":"U19/(W4-U20)","v":0},{"$f":"IF(V19=0,0,(V19*((LOG(V19))/LOG(2))))","v":0},null,{"$f":"N19","v":2211},{"$f":"COUNTIF(L39:L70,Y19)","v":0},{"$f":"Z19/(AB4-Z20)","v":0},{"$f":"IF(AA19=0,0,(AA19*((LOG(AA19))/LOG(2))))","v":0},null,{"$f":"N19","v":2211},{"$f":"COUNTIF(L71:L101,AD19)","v":0},{"$f":"AE19/(AG4-AE20)","v":0},{"$f":"IF(AF19=0,0,(AF19*((LOG(AF19))/LOG(2))))","v":0},null,{"$f":"N19","v":2211},{"$f":"COUNTIF(L102:L133,AI19)","v":0},{"$f":"AJ19/(AL4-AJ20)","v":0},{"$f":"IF(AK19=0,0,(AK19*((LOG(AK19))/LOG(2))))","v":0},null,{"$f":"N19","v":2211},{"$f":"COUNTIF(L134:L165,AN19)","v":0},{"$f":"AO19/(AQ4-AO20)","v":0},{"$f":"IF(AP19=0,0,(AP19*((LOG(AP19))/LOG(2))))","v":0},null,{"$f":"N19","v":2211},{"$f":"COUNTIF(L166:L197,AS19)","v":0},{"$f":"AT19/(AV4-AT20)","v":0},{"$f":"IF(AU19=0,0,(AU19*((LOG(AU19))/LOG(2))))","v":0}]
[12,1722,14,1728,13,1734,14,1743,null,null,0,1111,null,2212,{"$f":"COUNTIF($L$7:$L$500,N20)","v":0},{"$f":"O20/$Q$4","v":0},{"$f":"IF(P20=0,0,(P20*((LOG(P20))/LOG(2))))","v":0},null,null,{"$f":"N20","v":2212},{"$f":"COUNTIF(L7:L38,T20)","v":0},null,null,null,{"$f":"N20","v":2212},{"$f":"COUNTIF(L39:L70,Y20)","v":0},null,null,null,{"$f":"N20","v":2212},{"$f":"COUNTIF(L71:L101,AD20)","v":0},null,null,null,{"$f":"N20","v":2212},{"$f":"COUNTIF(L102:L133,AI20)","v":0},null,null,null,{"$f":"N20","v":2212},{"$f":"COUNTIF(L134:L165,AN20)","v":0},null,null,null,{"$f":"N20","v":2212},{"$f":"COUNTIF(L166:L197,AS20)","v":0}]
[12,1849,14,1855,13,1882,14,1893,null,null,0,1111,null,2221,{"$f":"COUNTIF($L$7:$L$500,N21)","v":0},{"$f":"O21/$Q$4","v":0},{"$f":"IF(P21=0,0,(P21*((LOG(P21))/LOG(2))))","v":0},null,null,{"$f":"N21","v":2221},{"$f":"COUNTIF(L7:L38,T21)","v":0},{"$f":"U21/(W4-U20)","v":0},{"$f":"IF(V21=0,0,(V21*((LOG(V21))/LOG(2))))","v":0},null,{"$f":"N21","v":2221},{"$f":"COUNTIF(L39:L70,Y21)","v":0},{"$f":"Z21/(AB4-Z20)","v":0},{"$f":"IF(AA21=0,0,(AA21*((LOG(AA21))/LOG(2))))","v":0},null,{"$f":"N21","v":2221},{"$f":"COUNTIF(L71:L101,AD21)","v":0},{"$f":"AE21/(AG4-AE20)","v":0},{"$f":"IF(AF21=0,0,(AF21*((LOG(AF21))/LOG(2))))","v":0},null,{"$f":"N21","v":2221},{"$f":"COUNTIF(L102:L133,AI21)","v":0},{"$f":"AJ21/(AL4-AJ20)","v":0},{"$f":"IF(AK21=0,0,(AK21*((LOG(AK21))/LOG(2))))","v":0},null,{"$f":"N21","v":2221},{"$f":"COUNTIF(L134:L165,AN21)","v":0},{"$f":"AO21/(AQ4-AO20)","v":0},{"$f":"IF(AP21=0,0,(AP21*((LOG(AP21))/LOG(2))))","v":0},null,{"$f":"N21","v":2221},{"$f":"COUNTIF(L166:L197,AS21)","v":0},{"$f":"AT21/(AV4-AT20)","v":0},{"$f":"IF(AU21=0,0,(AU21*((LOG(AU21))/LOG(2))))","v":0}]
[12,1985,14,1990,13,1999,23,2013,null,null,0,1112,null,2222,{"$f":"COUNTIF($L$7:$L$500,N22)","v":0},{"$f":"O22/$Q$4","v":0},{"$f":"IF(P22=0,0,(P22*((LOG(P22))/LOG(2))))","v":0},null,null,{"$f":"N22","v":2222},{"$f":"COUNTIF(L7:L38,T22)","v":0},{"$f":"U22/(W4-U20)","v":0},{"$f":"IF(V22=0,0,(V22*((LOG(V22))/LOG(2))))","v":0},null,{"$f":"N22","v":2222},{"$f":"COUNTIF(L39:L70,Y22)","v":0},{"$f":"Z22/(AB4-Z20)","v":0},{"$f":"IF(AA22=0,0,(AA22*((LOG(AA22))/LOG(2))))","v":0},null,{"$f":"N22","v":2222},{"$f":"COUNTIF(L71:L101,AD22)","v":0},{"$f":"AE22/(AG4-AE20)","v":0},{"$f":"IF(AF22=0,0,(AF22*((LOG(AF22))/LOG(2))))","v":0},null,{"$f":"N22","v":2222},{"$f":"COUNTIF(L102:L133,AI22)","v":0},{"$f":"AJ22/(AL4-AJ20)","v":0},{"$f":"IF(AK22=0,0,(AK22*((LOG(AK22))/LOG(2))))","v":0},null,{"$f":"N22","v":2222},{"$f":"COUNTIF(L134:L165,AN22)","v":0},{"$f":"AO22/(AQ4-AO20)","v":0},{"$f":"IF(AP22=0,0,(AP22*((LOG(AP22))/LOG(2))))","v":0},null,{"$f":"N22","v":2222},{"$f":"COUNTIF(L166:L197,AS22)","v":0},{"$f":"AT22/(AV4-AT20)","v":0},{"$f":"IF(AU22=0,0,(AU22*((LOG(AU22))/LOG(2))))","v":0}]
[12,2124,14,2129,13,2139,14,2150,null,null,0,1111,null,null,null,{"$f":"SUM(P7:P22)","v":0.99999999999999989},{"$f":"-SUM(Q7:Q22)","v":0.45195405727135862},null,null,null,null,{"$f":"SUM(V7:V22)","v":1},{"$f":"-SUM(W7:W22)","v":1.2260002846457883},null,null,null,{"$f":"SUM(AA7:AA22)","v":1},{"$f":"-SUM(AB7:AB22)","v":0.44886448872302931},null,null,null,{"$f":"SUM(AF7:AF22)","v":1},{"$f":"-SUM(AG7:AG22)","v":0},null,null,null,{"$f":"SUM(AK7:AK22)","v":1},{"$f":"-SUM(AL7:AL22)","v":0.20062232431271465},null,null,null,{"$f":"SUM(AP7:AP22)","v":1},{"$f":"-SUM(AQ7:AQ22)","v":0},null,null,null,{"$f":"SUM(AU7:AU22)","v":1},{"$f":"-SUM(AV7:AV22)","v":0}]
[12,2257,14,2263,13,2272,14,2283,null,null,0,1111,null,null,null,"U=",{"$f":"Q23/(LOG(Q4)/LOG(2))","v":5.9644777605719318E-2},null,null,null,null,"U1=",{"$f":"W23/(LOG(W4)/LOG(2))","v":0.24520005692915764},null,null,null,"U2=",{"$f":"AB23/(LOG(AB4)/LOG(2))","v":8.9772897744605867E-2},null,null,null,"U3=",{"$f":"AG23/(LOG(AG4)/LOG(2))","v":0},null,null,null,"U4=",{"$f":"AL23/(LOG(AL4)/LOG(2))","v":4.0124464862542931E-2},null,null,null,"U5=",{"$f":"AQ23/(LOG(AQ4)/LOG(2))","v":0},null,null,null,"U6=",{"$f":"AV23/(LOG(AV4)/LOG(2))","v":0}]
[12,2392,14,2398,13,2406,14,2414,null,null,0,1111]
[12,2519,14,2525,13,2534,14,2544,null,null,0,1111]
[12,2651,14,2661,13,2680,14,2689,null,null,0,1111,null,"Total Target Seq"]
[12,2788,14,2796,13,2806,14,2820,null,null,0,1111,null,{"$f":"COUNTIF(L7:L197,G3)","v":0},null,32,32,31,32,32,32]
[12,2922,14,2927,13,2935,23,2952,null,null,0,1112,null,null,null,"% of reinforcement given in 6 equal intervals based on number of trials "]
[12,3058,14,3063,13,3071,14,3086,null,null,0,1111,null,null,null,"%_1","%_2","%_3","%_4","%_5","%_6"]
[12,3196,14,3202,13,3212,14,3224,null,null,0,1111,null,null,"target sequence",{"$f":"$G$3","v":2212},{"$f":"$G$3","v":2212},{"$f":"$G$3","v":2212},{"$f":"$G$3","v":2212},{"$f":"$G$3","v":2212},{"$f":"$G$3","v":2212}]
[12,3331,14,3339,13,3349,14,3362,null,null,0,1111,null,null,"total reinforcement",{"$f":"U20","v":0},{"$f":"Z20","v":0},{"$f":"AE20","v":0},{"$f":"AJ20","v":0},{"$f":"AO20","v":0},{"$f":"AT20","v":0}]
[12,3454,14,3459,13,3464,14,3474,null,null,0,1111,null,null,"% target"]
[12,3574,14,3580,13,3585,14,3593,null,null,0,1111,null,null,"CCRF"]
[12,3697,14,3703,13,3716,23,3732,null,null,0,1112,null,null,"% CCRf"]
[12,3823,14,3827,13,3832,23,3843,null,null,0,1112,null,null,"average response rate",{"$f":"H38/P28","v":128.125},{"$f":"(H70-H38)/Q28","v":127.71875},{"$f":"(H101-H70)/R28","v":126.19354838709677},{"$f":"(H133-H101)/S28","v":121.75},{"$f":"(H165-H133)/T28","v":122.875},{"$f":"(H197-H165)/U28","v":127.03125}]
[12,3944,14,3950,13,3961,14,3970,null,null,0,1111]
[12,4073,14,4080,13,4085,14,4100,null,null,0,1111]
[12,4205,14,4210,13,4216,14,4225,null,null,0,1111]
[12,4331,14,4336,13,4342,14,4350,null,null,0,1111]
[12,4452,14,4458,13,4463,14,4472,null,null,0,1111]
[12,4584,14,4593,13,4606,14,4619,null,null,0,1111]
[12,4727,14,4735,13,4746,14,4757,null,null,0,1111]
[12,4853,14,4858,13,4863,14,4872,null,null,0,1111]
[12,4971,14,4975,13,4980,14,4990,null,null,0,1111]
[12,5095,14,5102,13,5110,23,5126,null,null,0,1112]
[12,5231,14,5236,13,5244,14,5262,null,null,0,1111]
[12,5369,14,5374,13,5380,14,5386,null,null,0,1111]
[12,5489,14,5494,13,5500,14,5508,null,null,0,1111]
[12,5611,14,5617,13,5623,14,5632,null,null,0,1111]
[12,5739,14,5745,13,5750,14,5759,null,null,0,1111]
[12,5859,14,5871,13,5880,14,5892,null,null,0,1111]
[12,5999,14,6004,13,6027,14,6033,null,null,0,1111]
[12,6146,14,6151,13,6157,14,6166,null,null,0,1111]
[12,6274,14,6279,13,6284,14,6292,null,null,0,1111]
[12,6387,14,6392,13,6402,23,6421,null,null,0,1112]
[12,6527,14,6537,13,6546,14,6559,null,null,0,1111]
[12,6664,14,6669,13,6675,14,6680,null,null,0,1111]
[12,6785,14,6790,13,6796,14,6804,null,null,0,1111]
[12,6892,14,6897,13,6902,14,6910,null,null,0,1111]
[12,7017,14,7028,13,7037,14,7048,null,null,0,1111]
[12,7151,14,7156,13,7161,14,7170,null,null,0,1111]
[12,7283,14,7289,13,7297,14,7305,null,null,0,1111]
[12,7408,14,7413,13,7429,14,7436,null,null,0,1111]
[12,7527,14,7531,13,7539,23,7552,null,null,0,1112]
[12,7660,14,7668,13,7680,14,7688,null,null,0,1111]
[12,7787,14,7792,13,7798,14,7805,null,null,0,1111]
[12,7908,14,7913,13,7919,14,7933,null,null,0,1111]
[12,8044,14,8050,13,8068,14,8080,null,null,0,1111]
[12,8170,14,8176,13,8181,14,8187,null,null,0,1111]
[12,8286,14,8291,13,8297,14,8305,null,null,0,1111]
[12,8411,14,8421,13,8428,14,8440,null,null,0,1111]
[12,8549,14,8555,13,8568,14,8584,null,null,0,1111]
[12,8692,14,8701,13,8718,14,8735,null,null,0,1111]
[12,8844,14,8849,13,8854,14,8862,null,null,0,1111]
[12,8960,14,8980,13,8986,14,8997,null,null,0,1111]
[12,9101,14,9107,13,9115,14,9126,null,null,0,1111]
[12,9225,14,9235,13,9244,14,9256,null,null,0,1111]
[12,9345,14,9349,13,9354,14,9360,null,null,0,1111]
[12,9470,14,9476,13,9481,14,9498,null,null,0,1111]
[12,9610,14,9615,13,9620,14,9629,null,null,0,1111]
[12,9738,14,9747,13,9756,14,9764,null,null,0,1111]
[12,9873,14,9878,13,9884,14,9899,null,null,0,1111]
[12,10000,14,10005,13,10011,14,10017,null,null,0,1111]
[12,10116,14,10130,13,10139,14,10149,null,null,0,1111]
[12,10242,14,10248,13,10254,14,10262,null,null,0,1111]
[12,10371,14,10376,13,10385,14,10395,null,null,0,1111]
[12,10499,14,10504,13,10510,14,10519,null,null,0,1111]
[12,10615,14,10620,13,10624,14,10633,null,null,0,1111]
[12,10732,14,10737,13,10742,14,10750,null,null,0,1111]
[12,10859,14,10865,13,10873,14,10884,null,null,0,1111]
[12,10981,14,10986,13,10991,14,11000,null,null,0,1111]
[12,11099,14,11104,13,11111,14,11120,null,null,0,1111]
[12,11219,14,11224,13,11229,14,11252,null,null,0,1111]
[12,11356,14,11360,13,11367,14,11371,null,null,0,1111]
[12,11467,14,11472,13,11477,14,11485,null,null,0,1111]
[12,11597,14,11614,13,11630,14,11642,null,null,0,1111]
[12,11740,14,11745,13,11750,14,11755,null,null,0,1111]
[12,11852,14,11857,13,11863,14,11876,null,null,0,1111]
[12,11966,14,11971,13,11976,14,11985,null,null,0,1111]
[12,12084,14,12088,13,12093,14,12099,null,null,0,1111]
[12,12197,14,12228,13,12237,14,12245,null,null,0,1111]
[12,12340,14,12345,13,12350,14,12359,null,null,0,1111]
[12,12459,14,12463,13,12468,14,12477,null,null,0,1111]
[12,12572,14,12577,13,12582,14,12591,null,null,0,1111]
[12,12691,14,12695,13,12701,14,12709,null,null,0,1111]
[12,12807,14,12813,13,12818,14,12826,null,null,0,1111]
[12,12922,14,12928,13,12933,14,12942,null,null,0,1111]
[12,13040,14,13045,13,13050,14,13059,null,null,0,1111]
[12,13159,14,13164,13,13169,14,13177,null,null,0,1111]
[12,13266,14,13271,13,13276,14,13281,null,null,0,1111]
[12,13378,14,13382,13,13391,23,13449,null,null,0,1112]
[12,13544,14,13550,13,13554,14,13562,null,null,0,1111]
[12,13657,14,13663,13,13668,14,13676,null,null,0,1111]
[12,13782,14,13787,13,13797,14,13806,null,null,0,1111]
[12,13897,14,13901,13,13906,14,13914,null,null,0,1111]
[12,14009,14,14014,13,14019,14,14024,null,null,0,1111]
[12,14124,14,14130,13,14138,14,14149,null,null,0,1111]
[12,14247,14,14253,13,14258,14,14267,null,null,0,1111]
[12,14365,14,14369,13,14375,14,14384,null,null,0,1111]
[12,14483,14,14487,13,14492,14,14508,null,null,0,1111]
[12,14616,14,14622,13,14632,14,14640,null,null,0,1111]
[12,14737,14,14742,13,14747,14,14752,null,null,0,1111]
[12,14843,14,14847,13,14852,14,14857,null,null,0,1111]
[12,14960,14,14965,13,14971,14,14979,null,null,0,1111]
[12,15087,14,15092,13,15098,14,15107,null,null,0,1111]
[12,15205,14,15210,13,15216,14,15233,null,null,0,1111]
[12,15345,14,15350,13,15358,14,15376,null,null,0,1111]
[12,15473,14,15479,13,15488,14,15495,null,null,0,1111]
[12,15596,14,15602,13,15611,14,15622,null,null,0,1111]
[12,15717,14,15722,13,15728,14,15737,null,null,0,1111]
[12,15832,14,15837,13,15843,14,15851,null,null,0,1111]
[12,15965,14,15970,13,15986,14,15995,null,null,0,1111]
[12,16103,14,16109,13,16115,14,16124,null,null,0,1111]
[12,16228,14,16233,13,16239,14,16248,null,null,0,1111]
[12,16349,14,16356,13,16361,14,16385,null,null,0,1111]
[12,16492,14,16498,13,16503,14,16512,null,null,0,1111]
[12,16606,14,16610,13,16615,14,16624,null,null,0,1111]
[12,16722,14,16727,13,16732,14,16737,null,null,0,1111]
[12,16835,14,16840,13,16862,14,16872,null,null,0,1111]
[12,16971,14,16977,13,16982,14,16991,null,null,0,1111]
[12,17094,14,17101,13,17106,14,17117,null,null,0,1111]
[12,17223,14,17236,13,17248,14,17256,null,null,0,1111]
[12,17351,14,17355,13,17361,14,17366,null,null,0,1111]
[12,17463,14,17469,13,17474,14,17484,null,null,0,1111]
[12,17591,14,17597,13,17603,14,17614,null,null,0,1111]
[12,17716,14,17722,13,17732,14,17749,null,null,0,1111]
[12,17844,14,17850,13,17855,14,17865,null,null,0,1111]
[12,17966,14,17974,13,17981,14,17992,null,null,0,1111]
[12,18093,14,18100,13,18106,14,18114,null,null,0,1111]
[12,18214,14,18219,13,18224,14,18232,null,null,0,1111]
[12,18334,14,18339,13,18345,14,18353,null,null,0,1111]
[12,18444,14,18448,13,18455,14,18461,null,null,0,1111]
[12,18569,14,18574,13,18588,14,18598,null,null,0,1111]
[12,18709,14,18718,13,18724,14,18734,null,null,0,1111]
[12,18833,14,18843,13,18852,14,18861,null,null,0,1111]
[12,18965,14,18971,13,18977,14,18987,null,null,0,1111]
[12,19084,14,19090,13,19096,14,19102,null,null,0,1111]
[12,19202,14,19207,13,19212,14,19220,null,null,0,1111]
[12,19318,14,19324,13,19331,14,19336,null,null,0,1111]
[12,19440,14,19444,13,19450,14,19456,null,null,0,1111]
[12,19558,14,19562,13,19567,14,19573,null,null,0,1111]
[12,19668,14,19673,13,19679,14,19687,null,null,0,1111]
[12,19784,14,19790,13,19795,14,19809,null,null,0,1111]
[12,19907,14,19912,13,19917,14,19927,null,null,0,1111]
[12,20026,14,20031,13,20037,14,20042,null,null,0,1111]
[12,20147,14,20153,13,20162,14,20171,null,null,0,1111]
[12,20264,14,20269,13,20275,14,20280,null,null,0,1111]
[12,20379,14,20384,13,20389,14,20399,null,null,0,1111]
[12,20503,14,20509,13,20517,14,20527,null,null,0,1111]
[12,20632,14,20647,13,20659,14,20681,null,null,0,1111]
[12,20781,14,20785,13,20790,14,20800,null,null,0,1111]
[12,20909,14,20921,13,20930,14,20940,null,null,0,1111]
[12,21036,14,21041,13,21046,14,21050,null,null,0,1111]
[12,21155,14,21160,13,21172,14,21181,null,null,0,1111]
[12,21289,14,21294,13,21301,14,21311,null,null,0,1111]
[12,21409,14,21415,13,21420,14,21428,null,null,0,1111]
[12,21529,14,21536,13,21547,14,21575,null,null,0,1111]
[12,21686,14,21697,13,21706,14,21715,null,null,0,1111]
[12,21822,14,21828,13,21838,14,21847,null,null,0,1111]
[12,21947,14,21952,13,21965,14,21982,null,null,0,1111]
[12,22087,14,22092,13,22098,14,22108,null,null,0,1111]
[12,22207,14,22216,13,22226,14,22233,null,null,0,1111]
[12,22336,14,22341,13,22350,14,22359,null,null,0,1111]
[12,22465,14,22469,13,22474,14,22480,null,null,0,1111]
[12,22571,14,22577,13,22584,14,22592,null,null,0,1111]
[12,22693,14,22708,13,22713,14,22723,null,null,0,1111]
[12,22831,14,22838,13,22848,14,22866,null,null,0,1111]
[12,22965,14,22970,13,22976,14,22980,null,null,0,1111]
[12,23078,14,23086,13,23092,14,23102,null,null,0,1111]
[12,23202,14,23207,13,23217,14,23237,null,null,0,1111]
[12,23341,14,23346,13,23352,14,23363,null,null,0,1111]
[12,23468,14,23474,13,23486,14,23494,null,null,0,1111]
[12,23602,14,23608,13,23614,14,23632,null,null,0,1111]
[12,23732,14,23738,13,23748,14,23758,null,null,0,1111]
[12,23857,14,23862,13,23868,14,23876,null,null,0,1111]
[12,23976,14,23981,13,23987,14,23992,null,null,null,1111]

{"sheet":"!L904B40.056","index":7,"n_rows":207,"n_cols":48,"rows_kept":207,"cut":false,"hidden":false,"merged":[[4,39,4,42],[5,39,5,40],[4,44,4,47],[5,44,5,45],[4,24,4,27],[5,24,5,25],[4,29,4,32],[5,29,5,30],[4,34,4,37],[5,34,5,35],[1,1,1,2],[5,13,5,14],[26,13,26,14],[27,13,27,14],[4,19,4,22],[5,19,5,20]]}
["Report for:!L904B40.056"]
["Date:","<date>"]
["Hen:","<hen>",null,null,null,"Correct Sequence",{"$f":"Start!J2","v":2212},null,null,null,null,null,null,null,null,"Total Sequences in Data",{"$f":"4994-COUNTBLANK(L7:L5000)","v":201},null,null,null,null,"Total Sequences in Block Data",{"$f":"COUNTA(L7:L40)","v":34},null,null,null,"Total Sequences in Block Data",{"$f":"COUNTA(L41:L73)","v":33},null,null,null,"Total Sequences in Block Data",{"$f":"COUNTA(L74:L107)","v":34},null,null,null,"Total Sequences in Block Data",{"$f":"COUNTA(L108:L140)","v":33},null,null,null,"Total Sequences in Block Data",{"$f":"COUNTA(L141:L174)","v":34},null,null,null,"Total Sequences in Block Data",{"$f":"COUNTA(L175:L207)","v":33}]
[null,null,null,null,null,null,null,null,null,null,null,null,null,null,null,"Total Sequences in Summary",{"$f":"SUM(O7:O22)","v":201},null,null,null,null,"Total Sequences in Block Summary",{"$f":"SUM(U7:U22)","v":34},null,null,null,"Total Sequences in Block Summary",{"$f":"SUM(Z7:Z22)","v":33},null,null,null,"Total Sequences in Block Summary",{"$f":"SUM(AE7:AE22)","v":34},null,null,null,"Total Sequences in Block Summary",{"$f":"SUM(AJ7:AJ22)","v":33},null,null,null,"Total Sequences in Block Summary",{"$f":"SUM(AO7:AO22)","v":34},null,null,null,"Total Sequences in Block Summary",{"$f":"SUM(AT7:AT22)","v":33}]
[null,null,null,null,null,null,null,null,null,null,null,null,null,null,null,null,null,null,null,"Block 1",null,null,null,null,"Block 2",null,null,null,null,"Block 3",null,null,null,null,"Block 4",null,null,null,null,"Block 5",null,null,null,null,"Block 6"]
["Sequence\nComponent\n1","Time\n1","Sequence\nComponent\n2","Time\n2","Sequence\nComponent\n3","Time\n3","Sequence\nComponent\n4","Time\n4","Sequence\nComponent\n5","Time\n5","Correct?\n0=No 1=Yes","Sequence",null,"Frequency",null,"Relative Frequency","Variability",null,null,"Frequency",null,"Relative Frequency","Variability",null,"Frequency",null,"Relative Frequency","Variability",null,"Frequency",null,"Relative Frequency","Variability",null,"Frequency",null,"Relative Frequency","Variability",null,"Frequency",null,"Relative Frequency","Variability",null,"Frequency",null,"Relative Frequency","Variability"]
[12,9,14,19,24,53,14,73,null,null,0,1121,null,1111,{"$f":"COUNTIF($L$7:$L$500,N7)","v":183},{"$f":"O7/$Q$4","v":0.91044776119402981},{"$f":"IF(P7=0,0,(P7*((LOG(P7))/LOG(2))))","v":-0.12323079144161282},null,null,{"$f":"N7","v":1111},{"$f":"COUNTIF(L7:L40,T7)","v":21},{"$f":"U7/(W4-U20)","v":0.61764705882352944},{"$f":"IF(V7=0,0,(V7*((LOG(V7))/LOG(2))))","v":-0.42935452317362238},null,{"$f":"N7","v":1111},{"$f":"COUNTIF(L41:L73,Y7)","v":30},{"$f":"Z7/(AB4-Z20)","v":0.90909090909090906},{"$f":"IF(AA7=0,0,(AA7*((LOG(AA7))/LOG(2))))","v":-0.12500320340903179},null,{"$f":"N7","v":1111},{"$f":"COUNTIF(L74:L107,AD7)","v":33},{"$f":"AE7/(AG4-AE20)","v":0.97058823529411764},{"$f":"IF(AF7=0,0,(AF7*((LOG(AF7))/LOG(2))))","v":-4.1801994777418743E-2},null,{"$f":"N7","v":1111},{"$f":"COUNTIF(L108:L140,AI7)","v":33},{"$f":"AJ7/(AL4-AJ20)","v":1},{"$f":"IF(AK7=0,0,(AK7*((LOG(AK7))/LOG(2))))","v":0},null,{"$f":"N7","v":1111},{"$f":"COUNTIF(L141:L174,AN7)","v":33},{"$f":"AO7/(AQ4-AO20)","v":0.97058823529411764},{"$f":"IF(AP7=0,0,(AP7*((LOG(AP7))/LOG(2))))","v":-4.1801994777418743E-2},null,{"$f":"N7","v":1111},{"$f":"COUNTIF(L175:L207,AS7)","v":33},{"$f":"AT7/(AV4-AT20)","v":1},{"$f":"IF(AU7=0,0,(AU7*((LOG(AU7))/LOG(2))))","v":0}]
[12,190,23,207,13,221,14,227,null,null,0,1211,null,1112,{"$f":"COUNTIF($L$7:$L$500,N8)","v":12},{"$f":"O8/$Q$4","v":5.9701492537313432E-2},{"$f":"IF(P8=0,0,(P8*((LOG(P8))/LOG(2))))","v":-0.2427515934601655},null,null,{"$f":"N8","v":1112},{"$f":"COUNTIF(L7:L40,T8)","v":7},{"$f":"U8/(W4-U20)","v":0.20588235294117646},{"$f":"IF(V8=0,0,(V8*((LOG(V8))/LOG(2))))","v":-0.46943398336321018},null,{"$f":"N8","v":1112},{"$f":"COUNTIF(L41:L73,Y8)","v":3},{"$f":"Z8/(AB4-Z20)","v":9.0909090909090912E-2},{"$f":"IF(AA8=0,0,(AA8*((LOG(AA8))/LOG(2))))","v":-0.31449378351248153},null,{"$f":"N8","v":1112},{"$f":"COUNTIF(L74:L107,AD8)","v":1},{"$f":"AE8/(AG4-AE20)","v":2.9411764705882353E-2},{"$f":"IF(AF8=0,0,(AF8*((LOG(AF8))/LOG(2))))","v":-0.14963126003677468},null,{"$f":"N8","v":1112},{"$f":"COUNTIF(L108:L140,AI8)","v":0},{"$f":"AJ8/(AL4-AJ20)","v":0},{"$f":"IF(AK8=0,0,(AK8*((LOG(AK8))/LOG(2))))","v":0},null,{"$f":"N8","v":1112},{"$f":"COUNTIF(L141:L174,AN8)","v":1},{"$f":"AO8/(AQ4-AO20)","v":2.9411764705882353E-2},{"$f":"IF(AP8=0,0,(AP8*((LOG(AP8))/LOG(2))))","v":-0.14963126003677468},null,{"$f":"N8","v":1112},{"$f":"COUNTIF(L175:L207,AS8)","v":0},{"$f":"AT8/(AV4-AT20)","v":0},{"$f":"IF(AU8=0,0,(AU8*((LOG(AU8))/LOG(2))))","v":0}]
[12,329,14,334,13,344,14,355,null,null,0,1111,null,1121,{"$f":"COUNTIF($L$7:$L$500,N9)","v":1},{"$f":"O9/$Q$4","v":4.9751243781094526E-3},{"$f":"IF(P9=0,0,(P9*((LOG(P9))/LOG(2))))","v":-3.8064933786959847E-2},null,null,{"$f":"N9","v":1121},{"$f":"COUNTIF(L7:L40,T9)","v":1},{"$f":"U9/(W4-U20)","v":2.9411764705882353E-2},{"$f":"IF(V9=0,0,(V9*((LOG(V9))/LOG(2))))","v":-0.14963126003677468},null,{"$f":"N9","v":1121},{"$f":"COUNTIF(L41:L73,Y9)","v":0},{"$f":"Z9/(AB4-Z20)","v":0},{"$f":"IF(AA9=0,0,(AA9*((LOG(AA9))/LOG(2))))","v":0},null,{"$f":"N9","v":1121},{"$f":"COUNTIF(L74:L107,AD9)","v":0},{"$f":"AE9/(AG4-AE20)","v":0},{"$f":"IF(AF9=0,0,(AF9*((LOG(AF9))/LOG(2))))","v":0},null,{"$f":"N9","v":1121},{"$f":"COUNTIF(L108:L140,AI9)","v":0},{"$f":"AJ9/(AL4-AJ20)","v":0},{"$f":"IF(AK9=0,0,(AK9*((LOG(AK9))/LOG(2))))","v":0},null,{"$f":"N9","v":1121},{"$f":"COUNTIF(L141:L174,AN9)","v":0},{"$f":"AO9/(AQ4-AO20)","v":0},{"$f":"IF(AP9=0,0,(AP9*((LOG(AP9))/LOG(2))))","v":0},null,{"$f":"N9","v":1121},{"$f":"COUNTIF(L175:L207,AS9)","v":0},{"$f":"AT9/(AV4-AT20)","v":0},{"$f":"IF(AU9=0,0,(AU9*((LOG(AU9))/LOG(2))))","v":0}]
[12,450,14,454,24,466,23,474,null,null,0,1122,null,1122,{"$f":"COUNTIF($L$7:$L$500,N10)","v":4},{"$f":"O10/$Q$4","v":1.9900497512437811E-2},{"$f":"IF(P10=0,0,(P10*((LOG(P10))/LOG(2))))","v":-0.11245874012296377},null,null,{"$f":"N10","v":1122},{"$f":"COUNTIF(L7:L40,T10)","v":4},{"$f":"U10/(W4-U20)","v":0.11764705882352941},{"$f":"IF(V10=0,0,(V10*((LOG(V10))/LOG(2))))","v":-0.36323092250003997},null,{"$f":"N10","v":1122},{"$f":"COUNTIF(L41:L73,Y10)","v":0},{"$f":"Z10/(AB4-Z20)","v":0},{"$f":"IF(AA10=0,0,(AA10*((LOG(AA10))/LOG(2))))","v":0},null,{"$f":"N10","v":1122},{"$f":"COUNTIF(L74:L107,AD10)","v":0},{"$f":"AE10/(AG4-AE20)","v":0},{"$f":"IF(AF10=0,0,(AF10*((LOG(AF10))/LOG(2))))","v":0},null,{"$f":"N10","v":1122},{"$f":"COUNTIF(L108:L140,AI10)","v":0},{"$f":"AJ10/(AL4-AJ20)","v":0},{"$f":"IF(AK10=0,0,(AK10*((LOG(AK10))/LOG(2))))","v":0},null,{"$f":"N10","v":1122},{"$f":"COUNTIF(L141:L174,AN10)","v":0},{"$f":"AO10/(AQ4-AO20)","v":0},{"$f":"IF(AP10=0,0,(AP10*((LOG(AP10))/LOG(2))))","v":0},null,{"$f":"N10","v":1122},{"$f":"COUNTIF(L175:L207,AS10)","v":0},{"$f":"AT10/(AV4-AT20)","v":0},{"$f":"IF(AU10=0,0,(AU10*((LOG(AU10))/LOG(2))))","v":0}]
[12,573,14,577,13,581,14,590,null,null,0,1111,null,1211,{"$f":"COUNTIF($L$7:$L$500,N11)","v":1},{"$f":"O11/$Q$4","v":4.9751243781094526E-3},{"$f":"IF(P11=0,0,(P11*((LOG(P11))/LOG(2))))","v":-3.8064933786959847E-2},null,null,{"$f":"N11","v":1211},{"$f":"COUNTIF(L7:L40,T11)","v":1},{"$f":"U11/(W4-U20)","v":2.9411764705882353E-2},{"$f":"IF(V11=0,0,(V11*((LOG(V11))/LOG(2))))","v":-0.14963126003677468},null,{"$f":"N11","v":1211},{"$f":"COUNTIF(L41:L73,Y11)","v":0},{"$f":"Z11/(AB4-Z20)","v":0},{"$f":"IF(AA11=0,0,(AA11*((LOG(AA11))/LOG(2))))","v":0},null,{"$f":"N11","v":1211},{"$f":"COUNTIF(L74:L107,AD11)","v":0},{"$f":"AE11/(AG4-AE20)","v":0},{"$f":"IF(AF11=0,0,(AF11*((LOG(AF11))/LOG(2))))","v":0},null,{"$f":"N11","v":1211},{"$f":"COUNTIF(L108:L140,AI11)","v":0},{"$f":"AJ11/(AL4-AJ20)","v":0},{"$f":"IF(AK11=0,0,(AK11*((LOG(AK11))/LOG(2))))","v":0},null,{"$f":"N11","v":1211},{"$f":"COUNTIF(L141:L174,AN11)","v":0},{"$f":"AO11/(AQ4-AO20)","v":0},{"$f":"IF(AP11=0,0,(AP11*((LOG(AP11))/LOG(2))))","v":0},null,{"$f":"N11","v":1211},{"$f":"COUNTIF(L175:L207,AS11)","v":0},{"$f":"AT11/(AV4-AT20)","v":0},{"$f":"IF(AU11=0,0,(AU11*((LOG(AU11))/LOG(2))))","v":0}]
[12,693,14,698,13,708,23,724,null,null,0,1112,null,1212,{"$f":"COUNTIF($L$7:$L$500,N12)","v":0},{"$f":"O12/$Q$4","v":0},{"$f":"IF(P12=0,0,(P12*((LOG(P12))/LOG(2))))","v":0},null,null,{"$f":"N12","v":1212},{"$f":"COUNTIF(L7:L40,T12)","v":0},{"$f":"U12/(W4-U20)","v":0},{"$f":"IF(V12=0,0,(V12*((LOG(V12))/LOG(2))))","v":0},null,{"$f":"N12","v":1212},{"$f":"COUNTIF(L41:L73,Y12)","v":0},{"$f":"Z12/(AB4-Z20)","v":0},{"$f":"IF(AA12=0,0,(AA12*((LOG(AA12))/LOG(2))))","v":0},null,{"$f":"N12","v":1212},{"$f":"COUNTIF(L74:L107,AD12)","v":0},{"$f":"AE12/(AG4-AE20)","v":0},{"$f":"IF(AF12=0,0,(AF12*((LOG(AF12))/LOG(2))))","v":0},null,{"$f":"N12","v":1212},{"$f":"COUNTIF(L108:L140,AI12)","v":0},{"$f":"AJ12/(AL4-AJ20)","v":0},{"$f":"IF(AK12=0,0,(AK12*((LOG(AK12))/LOG(2))))","v":0},null,{"$f":"N12","v":1212},{"$f":"COUNTIF(L141:L174,AN12)","v":0},{"$f":"AO12/(AQ4-AO20)","v":0},{"$f":"IF(AP12=0,0,(AP12*((LOG(AP12))/LOG(2))))","v":0},null,{"$f":"N12","v":1212},{"$f":"COUNTIF(L175:L207,AS12)","v":0},{"$f":"AT12/(AV4-AT20)","v":0},{"$f":"IF(AU12=0,0,(AU12*((LOG(AU12))/LOG(2))))","v":0}]
[12,825,14,831,13,840,23,855,null,null,0,1112,null,1221,{"$f":"COUNTIF($L$7:$L$500,N13)","v":0},{"$f":"O13/$Q$4","v":0},{"$f":"IF(P13=0,0,(P13*((LOG(P13))/LOG(2))))","v":0},null,null,{"$f":"N13","v":1221},{"$f":"COUNTIF(L7:L40,T13)","v":0},{"$f":"U13/(W4-U20)","v":0},{"$f":"IF(V13=0,0,(V13*((LOG(V13))/LOG(2))))","v":0},null,{"$f":"N13","v":1221},{"$f":"COUNTIF(L41:L73,Y13)","v":0},{"$f":"Z13/(AB4-Z20)","v":0},{"$f":"IF(AA13=0,0,(AA13*((LOG(AA13))/LOG(2))))","v":0},null,{"$f":"N13","v":1221},{"$f":"COUNTIF(L74:L107,AD13)","v":0},{"$f":"AE13/(AG4-AE20)","v":0},{"$f":"IF(AF13=0,0,(AF13*((LOG(AF13))/LOG(2))))","v":0},null,{"$f":"N13","v":1221},{"$f":"COUNTIF(L108:L140,AI13)","v":0},{"$f":"AJ13/(AL4-AJ20)","v":0},{"$f":"IF(AK13=0,0,(AK13*((LOG(AK13))/LOG(2))))","v":0},null,{"$f":"N13","v":1221},{"$f":"COUNTIF(L141:L174,AN13)","v":0},{"$f":"AO13/(AQ4-AO20)","v":0},{"$f":"IF(AP13=0,0,(AP13*((LOG(AP13))/LOG(2))))","v":0},null,{"$f":"N13","v":1221},{"$f":"COUNTIF(L175:L207,AS13)","v":0},{"$f":"AT13/(AV4-AT20)","v":0},{"$f":"IF(AU13=0,0,(AU13*((LOG(AU13))/LOG(2))))","v":0}]
[12,956,14,961,13,966,23,981,null,null,0,1112,null,1222,{"$f":"COUNTIF($L$7:$L$500,N14)","v":0},{"$f":"O14/$Q$4","v":0},{"$f":"IF(P14=0,0,(P14*((LOG(P14))/LOG(2))))","v":0},null,null,{"$f":"N14","v":1222},{"$f":"COUNTIF(L7:L40,T14)","v":0},{"$f":"U14/(W4-U20)","v":0},{"$f":"IF(V14=0,0,(V14*((LOG(V14))/LOG(2))))","v":0},null,{"$f":"N14","v":1222},{"$f":"COUNTIF(L41:L73,Y14)","v":0},{"$f":"Z14/(AB4-Z20)","v":0},{"$f":"IF(AA14=0,0,(AA14*((LOG(AA14))/LOG(2))))","v":0},null,{"$f":"N14","v":1222},{"$f":"COUNTIF(L74:L107,AD14)","v":0},{"$f":"AE14/(AG4-AE20)","v":0},{"$f":"IF(AF14=0,0,(AF14*((LOG(AF14))/LOG(2))))","v":0},null,{"$f":"N14","v":1222},{"$f":"COUNTIF(L108:L140,AI14)","v":0},{"$f":"AJ14/(AL4-AJ20)","v":0},{"$f":"IF(AK14=0,0,(AK14*((LOG(AK14))/LOG(2))))","v":0},null,{"$f":"N14","v":1222},{"$f":"COUNTIF(L141:L174,AN14)","v":0},{"$f":"AO14/(AQ4-AO20)","v":0},{"$f":"IF(AP14=0,0,(AP14*((LOG(AP14))/LOG(2))))","v":0},null,{"$f":"N14","v":1222},{"$f":"COUNTIF(L175:L207,AS14)","v":0},{"$f":"AT14/(AV4-AT20)","v":0},{"$f":"IF(AU14=0,0,(AU14*((LOG(AU14))/LOG(2))))","v":0}]
[12,1081,14,1087,13,1092,14,1098,null,null,0,1111,null,2111,{"$f":"COUNTIF($L$7:$L$500,N15)","v":0},{"$f":"O15/$Q$4","v":0},{"$f":"IF(P15=0,0,(P15*((LOG(P15))/LOG(2))))","v":0},null,null,{"$f":"N15","v":2111},{"$f":"COUNTIF(L7:L40,T15)","v":0},{"$f":"U15/(W4-U20)","v":0},{"$f":"IF(V15=0,0,(V15*((LOG(V15))/LOG(2))))","v":0},null,{"$f":"N15","v":2111},{"$f":"COUNTIF(L41:L73,Y15)","v":0},{"$f":"Z15/(AB4-Z20)","v":0},{"$f":"IF(AA15=0,0,(AA15*((LOG(AA15))/LOG(2))))","v":0},null,{"$f":"N15","v":2111},{"$f":"COUNTIF(L74:L107,AD15)","v":0},{"$f":"AE15/(AG4-AE20)","v":0},{"$f":"IF(AF15=0,0,(AF15*((LOG(AF15))/LOG(2))))","v":0},null,{"$f":"N15","v":2111},{"$f":"COUNTIF(L108:L140,AI15)","v":0},{"$f":"AJ15/(AL4-AJ20)","v":0},{"$f":"IF(AK15=0,0,(AK15*((LOG(AK15))/LOG(2))))","v":0},null,{"$f":"N15","v":2111},{"$f":"COUNTIF(L141:L174,AN15)","v":0},{"$f":"AO15/(AQ4-AO20)","v":0},{"$f":"IF(AP15=0,0,(AP15*((LOG(AP15))/LOG(2))))","v":0},null,{"$f":"N15","v":2111},{"$f":"COUNTIF(L175:L207,AS15)","v":0},{"$f":"AT15/(AV4-AT20)","v":0},{"$f":"IF(AU15=0,0,(AU15*((LOG(AU15))/LOG(2))))","v":0}]
[12,1195,14,1203,13,1213,14,1222,null,null,0,1111,null,2112,{"$f":"COUNTIF($L$7:$L$500,N16)","v":0},{"$f":"O16/$Q$4","v":0},{"$f":"IF(P16=0,0,(P16*((LOG(P16))/LOG(2))))","v":0},null,null,{"$f":"N16","v":2112},{"$f":"COUNTIF(L7:L40,T16)","v":0},{"$f":"U16/(W4-U20)","v":0},{"$f":"IF(V16=0,0,(V16*((LOG(V16))/LOG(2))))","v":0},null,{"$f":"N16","v":2112},{"$f":"COUNTIF(L41:L73,Y16)","v":0},{"$f":"Z16/(AB4-Z20)","v":0},{"$f":"IF(AA16=0,0,(AA16*((LOG(AA16))/LOG(2))))","v":0},null,{"$f":"N16","v":2112},{"$f":"COUNTIF(L74:L107,AD16)","v":0},{"$f":"AE16/(AG4-AE20)","v":0},{"$f":"IF(AF16=0,0,(AF16*((LOG(AF16))/LOG(2))))","v":0},null,{"$f":"N16","v":2112},{"$f":"COUNTIF(L108:L140,AI16)","v":0},{"$f":"AJ16/(AL4-AJ20)","v":0},{"$f":"IF(AK16=0,0,(AK16*((LOG(AK16))/LOG(2))))","v":0},null,{"$f":"N16","v":2112},{"$f":"COUNTIF(L141:L174,AN16)","v":0},{"$f":"AO16/(AQ4-AO20)","v":0},{"$f":"IF(AP16=0,0,(AP16*((LOG(AP16))/LOG(2))))","v":0},null,{"$f":"N16","v":2112},{"$f":"COUNTIF(L175:L207,AS16)","v":0},{"$f":"AT16/(AV4-AT20)","v":0},{"$f":"IF(AU16=0,0,(AU16*((LOG(AU16))/LOG(2))))","v":0}]
[12,1328,14,1332,13,1347,23,1372,null,null,0,1112,null,2121,{"$f":"COUNTIF($L$7:$L$500,N17)","v":0},{"$f":"O17/$Q$4","v":0},{"$f":"IF(P17=0,0,(P17*((LOG(P17))/LOG(2))))","v":0},null,null,{"$f":"N17","v":2121},{"$f":"COUNTIF(L7:L40,T17)","v":0},{"$f":"U17/(W4-U20)","v":0},{"$f":"IF(V17=0,0,(V17*((LOG(V17))/LOG(2))))","v":0},null,{"$f":"N17","v":2121},{"$f":"COUNTIF(L41:L73,Y17)","v":0},{"$f":"Z17/(AB4-Z20)","v":0},{"$f":"IF(AA17=0,0,(AA17*((LOG(AA17))/LOG(2))))","v":0},null,{"$f":"N17","v":2121},{"$f":"COUNTIF(L74:L107,AD17)","v":0},{"$f":"AE17/(AG4-AE20)","v":0},{"$f":"IF(AF17=0,0,(AF17*((LOG(AF17))/LOG(2))))","v":0},null,{"$f":"N17","v":2121},{"$f":"COUNTIF(L108:L140,AI17)","v":0},{"$f":"AJ17/(AL4-AJ20)","v":0},{"$f":"IF(AK17=0,0,(AK17*((LOG(AK17))/LOG(2))))","v":0},null,{"$f":"N17","v":2121},{"$f":"COUNTIF(L141:L174,AN17)","v":0},{"$f":"AO17/(AQ4-AO20)","v":0},{"$f":"IF(AP17=0,0,(AP17*((LOG(AP17))/LOG(2))))","v":0},null,{"$f":"N17","v":2121},{"$f":"COUNTIF(L175:L207,AS17)","v":0},{"$f":"AT17/(AV4-AT20)","v":0},{"$f":"IF(AU17=0,0,(AU17*((LOG(AU17))/LOG(2))))","v":0}]
[12,1476,14,1481,13,1491,23,1507,null,null,0,1112,null,2122,{"$f":"COUNTIF($L$7:$L$500,N18)","v":0},{"$f":"O18/$Q$4","v":0},{"$f":"IF(P18=0,0,(P18*((LOG(P18))/LOG(2))))","v":0},null,null,{"$f":"N18","v":2122},{"$f":"COUNTIF(L7:L40,T18)","v":0},{"$f":"U18/(W4-U20)","v":0},{"$f":"IF(V18=0,0,(V18*((LOG(V18))/LOG(2))))","v":0},null,{"$f":"N18","v":2122},{"$f":"COUNTIF(L41:L73,Y18)","v":0},{"$f":"Z18/(AB4-Z20)","v":0},{"$f":"IF(AA18=0,0,(AA18*((LOG(AA18))/LOG(2))))","v":0},null,{"$f":"N18","v":2122},{"$f":"COUNTIF(L74:L107,AD18)","v":0},{"$f":"AE18/(AG4-AE20)","v":0},{"$f":"IF(AF18=0,0,(AF18*((LOG(AF18))/LOG(2))))","v":0},null,{"$f":"N18","v":2122},{"$f":"COUNTIF(L108:L140,AI18)","v":0},{"$f":"AJ18/(AL4-AJ20)","v":0},{"$f":"IF(AK18=0,0,(AK18*((LOG(AK18))/LOG(2))))","v":0},null,{"$f":"N18","v":2122},{"$f":"COUNTIF(L141:L174,AN18)","v":0},{"$f":"AO18/(AQ4-AO20)","v":0},{"$f":"IF(AP18=0,0,(AP18*((LOG(AP18))/LOG(2))))","v":0},null,{"$f":"N18","v":2122},{"$f":"COUNTIF(L175:L207,AS18)","v":0},{"$f":"AT18/(AV4-AT20)","v":0},{"$f":"IF(AU18=0,0,(AU18*((LOG(AU18))/LOG(2))))","v":0}]
[12,1602,14,1607,13,1612,14,1621,null,null,0,1111,null,2211,{"$f":"COUNTIF($L$7:$L$500,N19)","v":0},{"$f":"O19/$Q$4","v":0},{"$f":"IF(P19=0,0,(P19*((LOG(P19))/LOG(2))))","v":0},null,null,{"$f":"N19","v":2211},{"$f":"COUNTIF(L7:L40,T19)","v":0},{"$f":"U19/(W4-U20)","v":0},{"$f":"IF(V19=0,0,(V19*((LOG(V19))/LOG(2))))","v":0},null,{"$f":"N19","v":2211},{"$f":"COUNTIF(L41:L73,Y19)","v":0},{"$f":"Z19/(AB4-Z20)","v":0},{"$f":"IF(AA19=0,0,(AA19*((LOG(AA19))/LOG(2))))","v":0},null,{"$f":"N19","v":2211},{"$f":"COUNTIF(L74:L107,AD19)","v":0},{"$f":"AE19/(AG4-AE20)","v":0},{"$f":"IF(AF19=0,0,(AF19*((LOG(AF19))/LOG(2))))","v":0},null,{"$f":"N19","v":2211},{"$f":"COUNTIF(L108:L140,AI19)","v":0},{"$f":"AJ19/(AL4-AJ20)","v":0},{"$f":"IF(AK19=0,0,(AK19*((LOG(AK19))/LOG(2))))","v":0},null,{"$f":"N19","v":2211},{"$f":"COUNTIF(L141:L174,AN19)","v":0},{"$f":"AO19/(AQ4-AO20)","v":0},{"$f":"IF(AP19=0,0,(AP19*((LOG(AP19))/LOG(2))))","v":0},null,{"$f":"N19","v":2211},{"$f":"COUNTIF(L175:L207,AS19)","v":0},{"$f":"AT19/(AV4-AT20)","v":0},{"$f":"IF(AU19=0,0,(AU19*((LOG(AU19))/LOG(2))))","v":0}]
[12,1719,14,1725,13,1732,14,1738,null,null,0,1111,null,2212,{"$f":"COUNTIF($L$7:$L$500,N20)","v":0},{"$f":"O20/$Q$4","v":0},{"$f":"IF(P20=0,0,(P20*((LOG(P20))/LOG(2))))","v":0},null,null,{"$f":"N20","v":2212},{"$f":"COUNTIF(L7:L40,T20)","v":0},null,null,null,{"$f":"N20","v":2212},{"$f":"COUNTIF(L41:L73,Y20)","v":0},null,null,null,{"$f":"N20","v":2212},{"$f":"COUNTIF(L74:L107,AD20)","v":0},null,null,null,{"$f":"N20","v":2212},{"$f":"COUNTIF(L108:L140,AI20)","v":0},null,null,null,{"$f":"N20","v":2212},{"$f":"COUNTIF(L141:L174,AN20)","v":0},null,null,null,{"$f":"N20","v":2212},{"$f":"COUNTIF(L175:L207,AS20)","v":0}]
[12,1836,14,1840,13,1850,14,1858,null,null,0,1111,null,2221,{"$f":"COUNTIF($L$7:$L$500,N21)","v":0},{"$f":"O21/$Q$4","v":0},{"$f":"IF(P21=0,0,(P21*((LOG(P21))/LOG(2))))","v":0},null,null,{"$f":"N21","v":2221},{"$f":"COUNTIF(L7:L40,T21)","v":0},{"$f":"U21/(W4-U20)","v":0},{"$f":"IF(V21=0,0,(V21*((LOG(V21))/LOG(2))))","v":0},null,{"$f":"N21","v":2221},{"$f":"COUNTIF(L41:L73,Y21)","v":0},{"$f":"Z21/(AB4-Z20)","v":0},{"$f":"IF(AA21=0,0,(AA21*((LOG(AA21))/LOG(2))))","v":0},null,{"$f":"N21","v":2221},{"$f":"COUNTIF(L74:L107,AD21)","v":0},{"$f":"AE21/(AG4-AE20)","v":0},{"$f":"IF(AF21=0,0,(AF21*((LOG(AF21))/LOG(2))))","v":0},null,{"$f":"N21","v":2221},{"$f":"COUNTIF(L108:L140,AI21)","v":0},{"$f":"AJ21/(AL4-AJ20)","v":0},{"$f":"IF(AK21=0,0,(AK21*((LOG(AK21))/LOG(2))))","v":0},null,{"$f":"N21","v":2221},{"$f":"COUNTIF(L141:L174,AN21)","v":0},{"$f":"AO21/(AQ4-AO20)","v":0},{"$f":"IF(AP21=0,0,(AP21*((LOG(AP21))/LOG(2))))","v":0},null,{"$f":"N21","v":2221},{"$f":"COUNTIF(L175:L207,AS21)","v":0},{"$f":"AT21/(AV4-AT20)","v":0},{"$f":"IF(AU21=0,0,(AU21*((LOG(AU21))/LOG(2))))","v":0}]
[12,1960,14,1965,13,1970,14,1978,null,null,0,1111,null,2222,{"$f":"COUNTIF($L$7:$L$500,N22)","v":0},{"$f":"O22/$Q$4","v":0},{"$f":"IF(P22=0,0,(P22*((LOG(P22))/LOG(2))))","v":0},null,null,{"$f":"N22","v":2222},{"$f":"COUNTIF(L7:L40,T22)","v":0},{"$f":"U22/(W4-U20)","v":0},{"$f":"IF(V22=0,0,(V22*((LOG(V22))/LOG(2))))","v":0},null,{"$f":"N22","v":2222},{"$f":"COUNTIF(L41:L73,Y22)","v":0},{"$f":"Z22/(AB4-Z20)","v":0},{"$f":"IF(AA22=0,0,(AA22*((LOG(AA22))/LOG(2))))","v":0},null,{"$f":"N22","v":2222},{"$f":"COUNTIF(L74:L107,AD22)","v":0},{"$f":"AE22/(AG4-AE20)","v":0},{"$f":"IF(AF22=0,0,(AF22*((LOG(AF22))/LOG(2))))","v":0},null,{"$f":"N22","v":2222},{"$f":"COUNTIF(L108:L140,AI22)","v":0},{"$f":"AJ22/(AL4-AJ20)","v":0},{"$f":"IF(AK22=0,0,(AK22*((LOG(AK22))/LOG(2))))","v":0},null,{"$f":"N22","v":2222},{"$f":"COUNTIF(L141:L174,AN22)","v":0},{"$f":"AO22/(AQ4-AO20)","v":0},{"$f":"IF(AP22=0,0,(AP22*((LOG(AP22))/LOG(2))))","v":0},null,{"$f":"N22","v":2222},{"$f":"COUNTIF(L175:L207,AS22)","v":0},{"$f":"AT22/(AV4-AT20)","v":0},{"$f":"IF(AU22=0,0,(AU22*((LOG(AU22))/LOG(2))))","v":0}]
[12,2076,14,2081,13,2086,14,2091,null,null,0,1111,null,null,null,{"$f":"SUM(P7:P22)","v":0.99999999999999989},{"$f":"-SUM(Q7:Q22)","v":0.55457099259866183},null,null,null,null,{"$f":"SUM(V7:V22)","v":1},{"$f":"-SUM(W7:W22)","v":1.561281949110422},null,null,null,{"$f":"SUM(AA7:AA22)","v":1},{"$f":"-SUM(AB7:AB22)","v":0.43949698692151329},null,null,null,{"$f":"SUM(AF7:AF22)","v":1},{"$f":"-SUM(AG7:AG22)","v":0.19143325481419343},null,null,null,{"$f":"SUM(AK7:AK22)","v":1},{"$f":"-SUM(AL7:AL22)","v":0},null,null,null,{"$f":"SUM(AP7:AP22)","v":1},{"$f":"-SUM(AQ7:AQ22)","v":0.19143325481419343},null,null,null,{"$f":"SUM(AU7:AU22)","v":1},{"$f":"-SUM(AV7:AV22)","v":0}]
[12,2194,14,2202,24,2215,23,2227,null,null,0,1122,null,null,null,"U=",{"$f":"Q23/(LOG(Q4)/LOG(2))","v":7.2482975541524483E-2},null,null,null,null,"U1=",{"$f":"W23/(LOG(W4)/LOG(2))","v":0.30688812829278722},null,null,null,"U2=",{"$f":"AB23/(LOG(AB4)/LOG(2))","v":8.7125822551194429E-2},null,null,null,"U3=",{"$f":"AG23/(LOG(AG4)/LOG(2))","v":3.7628433029919708E-2},null,null,null,"U4=",{"$f":"AL23/(LOG(AL4)/LOG(2))","v":0},null,null,null,"U5=",{"$f":"AQ23/(LOG(AQ4)/LOG(2))","v":3.7628433029919708E-2},null,null,null,"U6=",{"$f":"AV23/(LOG(AV4)/LOG(2))","v":0}]
[12,2327,14,2333,13,2348,14,2358,null,null,0,1111]
[12,2469,14,2480,13,2486,23,2504,null,null,0,1112]
[12,2618,14,2623,24,2648,23,2657,null,null,0,1122,null,"Total Target Seq"]
[12,2769,14,2774,24,2793,23,2801,null,null,0,1122,null,{"$f":"COUNTIF(L7:L207,G3)","v":0},null,34,33,34,33,34,33]
[12,2905,14,2913,13,2919,14,2928,null,null,0,1111,null,null,null,"% of reinforcement given in 6 equal intervals based on number of trials "]
[12,3025,14,3031,13,3036,14,3041,null,null,0,1111,null,null,null,"%_1","%_2","%_3","%_4","%_5","%_6"]
[12,3137,14,3143,13,3147,14,3156,null,null,0,1111,null,null,"target sequence",{"$f":"$G$3","v":2212},{"$f":"$G$3","v":2212},{"$f":"$G$3","v":2212},{"$f":"$G$3","v":2212},{"$f":"$G$3","v":2212},{"$f":"$G$3","v":2212}]
[12,3258,14,3263,13,3268,14,3277,null,null,0,1111,null,null,"total reinforcement",{"$f":"U20","v":0},{"$f":"Z20","v":0},{"$f":"AE20","v":0},{"$f":"AJ20","v":0},{"$f":"AO20","v":0},{"$f":"AT20","v":0}]
[12,3377,14,3383,13,3388,14,3396,null,null,0,1111,null,null,"% target"]
[12,3499,14,3505,13,3510,23,3524,null,null,0,1112,null,null,"CCRF"]
[12,3617,14,3622,13,3626,14,3636,null,null,0,1111,null,null,"% CCRf"]
[12,3734,14,3739,13,3745,14,3754,null,null,0,1111,null,null,"average response rate",{"$f":"H40/P28","v":124.02941176470588},{"$f":"(H73-H40)/Q28","v":119.3030303030303},{"$f":"(H107-H73)/R28","v":118.61764705882354},{"$f":"(H140-H107)/S28","v":116.60606060606061},{"$f":"(H174-H140)/T28","v":117.14705882352941},{"$f":"(H207-H174)/U28","v":119.3030303030303}]
[12,3853,14,3859,13,3864,14,3872,null,null,0,1111]
[12,3969,14,3973,13,3978,14,3984,null,null,0,1111]
[12,4080,14,4084,13,4089,14,4098,null,null,0,1111]
[12,4194,14,4199,13,4209,14,4217,null,null,0,1111]
[12,4313,14,4319,13,4324,14,4333,null,null,0,1111]
[12,4432,14,4437,13,4442,14,4451,null,null,0,1111]
[12,4550,14,4555,13,4561,14,4577,null,null,0,1111]
[12,4673,14,4678,13,4684,14,4693,null,null,0,1111]
[12,4790,14,4795,13,4805,14,4824,null,null,0,1111]
[12,4920,14,4925,13,4930,14,4938,null,null,0,1111]
[12,5034,14,5039,13,5044,14,5052,null,null,0,1111]
[12,5153,14,5158,13,5164,14,5172,null,null,0,1111]
[12,5271,14,5276,13,5284,14,5293,null,null,0,1111]
[12,5390,14,5395,13,5400,14,5410,null,null,0,1111]
[12,5510,14,5515,13,5521,14,5529,null,null,0,1111]
[12,5622,14,5627,13,5636,14,5656,null,null,0,1111]
[12,5752,14,5757,13,5761,14,5767,null,null,0,1111]
[12,5862,14,5868,13,5873,14,5881,null,null,0,1111]
[12,5986,14,5991,13,6001,23,6035,null,null,0,1112]
[12,6134,14,6139,13,6144,14,6163,null,null,0,1111]
[12,6274,14,6279,13,6284,14,6292,null,null,0,1111]
[12,6394,14,6399,13,6405,14,6414,null,null,0,1111]
[12,6509,14,6513,13,6519,14,6532,null,null,0,1111]
[12,6630,14,6634,13,6639,14,6644,null,null,0,1111]
[12,6739,14,6743,13,6750,14,6759,null,null,0,1111]
[12,6858,14,6863,13,6868,14,6884,null,null,0,1111]
[12,6986,14,6991,13,6996,14,7002,null,null,0,1111]
[12,7100,14,7106,13,7111,23,7135,null,null,0,1112]
[12,7224,14,7232,13,7238,14,7244,null,null,0,1111]
[12,7339,14,7344,13,7349,14,7358,null,null,0,1111]
[12,7458,14,7462,13,7467,14,7475,null,null,0,1111]
[12,7563,14,7568,13,7571,14,7577,null,null,0,1111]
[12,7675,14,7681,13,7686,23,7700,null,null,0,1112]
[12,7807,14,7813,13,7818,14,7825,null,null,0,1111]
[12,7916,14,7921,13,7926,14,7935,null,null,0,1111]
[12,8022,14,8026,13,8031,14,8038,null,null,0,1111]
[12,8136,14,8140,13,8146,14,8154,null,null,0,1111]
[12,8251,14,8256,13,8261,14,8269,null,null,0,1111]
[12,8377,14,8382,13,8387,14,8396,null,null,0,1111]
[12,8498,14,8502,13,8507,14,8512,null,null,0,1111]
[12,8619,14,8628,13,8633,14,8642,null,null,0,1111]
[12,8730,14,8735,13,8739,14,8744,null,null,0,1111]
[12,8841,14,8846,13,8851,14,8856,null,null,0,1111]
[12,8953,14,8958,13,8962,14,8970,null,null,0,1111]
[12,9068,14,9072,13,9078,14,9085,null,null,0,1111]
[12,9196,14,9200,13,9206,23,9223,null,null,0,1112]
[12,9331,14,9336,13,9345,14,9352,null,null,0,1111]
[12,9448,14,9453,13,9463,14,9470,null,null,0,1111]
[12,9568,14,9574,13,9584,14,9601,null,null,0,1111]
[12,9703,14,9708,13,9717,14,9729,null,null,0,1111]
[12,9819,14,9824,13,9828,14,9836,null,null,0,1111]
[12,9939,14,9944,13,9949,14,9957,null,null,0,1111]
[12,10054,14,10059,13,10064,14,10073,null,null,0,1111]
[12,10172,14,10176,13,10181,14,10189,null,null,0,1111]
[12,10296,14,10303,13,10309,14,10317,null,null,0,1111]
[12,10412,14,10417,13,10422,14,10430,null,null,0,1111]
[12,10525,14,10529,13,10534,14,10539,null,null,0,1111]
[12,10635,14,10640,13,10656,14,10664,null,null,0,1111]
[12,10769,14,10773,13,10778,14,10785,null,null,0,1111]
[12,10888,14,10893,13,10898,14,10903,null,null,0,1111]
[12,11009,14,11021,13,11026,14,11034,null,null,0,1111]
[12,11137,14,11143,13,11148,14,11155,null,null,0,1111]
[12,11257,14,11261,13,11265,14,11270,null,null,0,1111]
[12,11375,14,11382,13,11387,14,11393,null,null,0,1111]
[12,11496,14,11501,13,11505,14,11512,null,null,0,1111]
[12,11612,14,11617,13,11622,14,11629,null,null,0,1111]
[12,11725,14,11729,13,11733,14,11740,null,null,0,1111]
[12,11840,14,11845,13,11849,14,11855,null,null,0,1111]
[12,11950,14,11954,13,11959,14,11964,null,null,0,1111]
[12,12060,14,12064,13,12068,14,12073,null,null,0,1111]
[12,12172,14,12177,13,12182,14,12187,null,null,0,1111]
[12,12287,14,12291,13,12295,14,12303,null,null,0,1111]
[12,12398,14,12403,13,12408,14,12415,null,null,0,1111]
[12,12510,14,12515,13,12520,14,12525,null,null,0,1111]
[12,12622,14,12628,13,12634,14,12649,null,null,0,1111]
[12,12749,14,12755,13,12760,14,12765,null,null,0,1111]
[12,12863,14,12867,13,12872,14,12878,null,null,0,1111]
[12,12976,14,12982,13,12987,14,12992,null,null,0,1111]
[12,13087,14,13092,13,13098,14,13103,null,null,0,1111]
[12,13198,14,13203,13,13212,14,13220,null,null,0,1111]
[12,13316,14,13322,13,13326,14,13333,null,null,0,1111]
[12,13439,14,13444,13,13453,14,13462,null,null,0,1111]
[12,13564,14,13570,13,13576,14,13584,null,null,0,1111]
[12,13686,14,13694,13,13699,14,13704,null,null,0,1111]
[12,13799,14,13803,13,13809,14,13818,null,null,0,1111]
[12,13922,14,13927,13,13932,14,13940,null,null,0,1111]
[12,14032,14,14037,13,14041,14,14050,null,null,0,1111]
[12,14151,14,14157,13,14162,14,14167,null,null,0,1111]
[12,14262,14,14267,13,14273,14,14286,null,null,0,1111]
[12,14391,14,14396,13,14400,14,14405,null,null,0,1111]
[12,14504,14,14508,13,14513,14,14517,null,null,0,1111]
[12,14614,14,14619,13,14623,14,14637,null,null,0,1111]
[12,14726,14,14731,13,14735,14,14743,null,null,0,1111]
[12,14839,14,14843,13,14848,14,14855,null,null,0,1111]
[12,14957,14,14962,13,14966,14,14974,null,null,0,1111]
[12,15068,14,15074,13,15079,14,15088,null,null,0,1111]
[12,15184,14,15190,13,15195,14,15203,null,null,0,1111]
[12,15302,14,15307,13,15313,14,15321,null,null,0,1111]
[12,15412,14,15418,13,15423,14,15429,null,null,0,1111]
[12,15527,14,15533,13,15538,14,15545,null,null,0,1111]
[12,15649,14,15653,13,15663,14,15671,null,null,0,1111]
[12,15766,14,15772,13,15777,14,15789,null,null,0,1111]
[12,15894,14,15898,13,15910,14,15918,null,null,0,1111]
[12,16018,14,16022,13,16026,14,16035,null,null,0,1111]
[12,16133,14,16139,13,16144,14,16149,null,null,0,1111]
[12,16246,14,16251,13,16256,14,16266,null,null,0,1111]
[12,16361,14,16366,13,16371,14,16376,null,null,0,1111]
[12,16471,14,16476,13,16481,14,16485,null,null,0,1111]
[12,16590,14,16596,13,16602,14,16609,null,null,0,1111]
[12,16704,14,16709,13,16715,14,16723,null,null,0,1111]
[12,16821,14,16826,13,16831,14,16838,null,null,0,1111]
[12,16935,14,16941,13,16946,14,16953,null,null,0,1111]
[12,17056,14,17060,13,17070,14,17077,null,null,0,1111]
[12,17171,14,17176,13,17181,14,17187,null,null,0,1111]
[12,17289,14,17294,13,17300,14,17305,null,null,0,1111]
[12,17410,14,17414,13,17419,14,17427,null,null,0,1111]
[12,17528,14,17533,13,17538,14,17543,null,null,0,1111]
[12,17638,14,17645,13,17651,14,17656,null,null,0,1111]
[12,17759,14,17764,13,17770,14,17775,null,null,0,1111]
[12,17872,14,17878,13,17883,14,17888,null,null,0,1111]
[12,17992,14,17998,13,18003,14,18009,null,null,0,1111]
[12,18114,14,18118,13,18123,14,18130,null,null,0,1111]
[12,18226,14,18231,13,18237,14,18242,null,null,0,1111]
[12,18349,14,18355,13,18361,14,18370,null,null,0,1111]
[12,18464,14,18469,13,18474,14,18479,null,null,0,1111]
[12,18580,14,18585,13,18590,14,18597,null,null,0,1111]
[12,18703,14,18712,13,18717,14,18726,null,null,0,1111]
[12,18826,14,18830,13,18836,14,18840,null,null,0,1111]
[12,18944,14,18949,13,18959,14,18967,null,null,0,1111]
[12,19066,14,19071,13,19075,14,19080,null,null,0,1111]
[12,19192,14,19198,13,19202,14,19208,null,null,0,1111]
[12,19307,14,19312,13,19316,14,19328,null,null,0,1111]
[12,19423,14,19428,13,19434,14,19439,null,null,0,1111]
[12,19535,14,19541,13,19546,14,19550,null,null,0,1111]
[12,19652,14,19657,13,19666,23,19685,null,null,0,1112]
[12,19786,14,19790,13,19795,14,19799,null,null,0,1111]
[12,19886,14,19891,13,19896,14,19905,null,null,0,1111]
[12,20001,14,20006,13,20011,14,20018,null,null,0,1111]
[12,20115,14,20122,13,20127,14,20137,null,null,0,1111]
[12,20235,14,20239,13,20245,14,20259,null,null,0,1111]
[12,20357,14,20363,13,20367,14,20372,null,null,0,1111]
[12,20471,14,20476,13,20480,14,20490,null,null,0,1111]
[12,20586,14,20594,13,20598,14,20606,null,null,0,1111]
[12,20717,14,20723,13,20731,14,20740,null,null,0,1111]
[12,20848,14,20853,13,20858,14,20864,null,null,0,1111]
[12,20952,14,20957,13,20964,14,20982,null,null,0,1111]
[12,21082,14,21087,13,21092,14,21099,null,null,0,1111]
[12,21197,14,21208,13,21219,14,21242,null,null,0,1111]
[12,21346,14,21351,13,21357,14,21363,null,null,0,1111]
[12,21451,14,21456,13,21462,14,21467,null,null,0,1111]
[12,21564,14,21568,13,21574,14,21605,null,null,0,1111]
[12,21701,14,21706,13,21715,14,21723,null,null,0,1111]
[12,21823,14,21828,13,21834,14,21842,null,null,0,1111]
[12,21944,14,21949,13,21954,14,21962,null,null,0,1111]
[12,22062,14,22068,13,22072,14,22081,null,null,0,1111]
[12,22177,14,22186,13,22195,14,22213,null,null,0,1111]
[12,22318,14,22323,13,22328,14,22337,null,null,0,1111]
[12,22436,14,22441,13,22446,14,22453,null,null,0,1111]
[12,22549,14,22555,13,22559,14,22567,null,null,0,1111]
[12,22661,14,22667,13,22672,14,22677,null,null,0,1111]
[12,22771,14,22775,13,22780,14,22787,null,null,0,1111]
[12,22893,14,22897,13,22903,14,22917,null,null,0,1111]
[12,23016,14,23021,13,23025,14,23030,null,null,0,1111]
[12,23129,14,23134,13,23139,14,23147,null,null,0,1111]
[12,23243,14,23248,13,23253,14,23262,null,null,0,1111]
[12,23358,14,23362,13,23366,14,23371,null,null,0,1111]
[12,23475,14,23480,13,23488,14,23497,null,null,0,1111]
[12,23595,14,23600,13,23604,14,23611,null,null,0,1111]
[12,23710,14,23714,13,23719,14,23724,null,null,0,1111]
[12,23820,14,23825,13,23830,14,23835,null,null,0,1111]
[12,23933,14,23938,13,23946,14,23955,null,null,null,1111]

{"sheet":"!L905A40.056","index":8,"n_rows":211,"n_cols":48,"rows_kept":211,"cut":false,"hidden":false,"merged":[[4,39,4,42],[5,39,5,40],[4,44,4,47],[5,44,5,45],[4,24,4,27],[5,24,5,25],[4,29,4,32],[5,29,5,30],[4,34,4,37],[5,34,5,35],[1,1,1,2],[5,13,5,14],[26,13,26,14],[27,13,27,14],[4,19,4,22],[5,19,5,20]]}
["Report for:!L905A40.056"]
["Date:","<date>"]
["Hen:","<hen>",null,null,null,"Correct Sequence",{"$f":"Start!J2","v":2212},null,null,null,null,null,null,null,null,"Total Sequences in Data",{"$f":"4994-COUNTBLANK(L7:L5000)","v":205},null,null,null,null,"Total Sequences in Block Data",{"$f":"COUNTA(L7:L40)","v":34},null,null,null,"Total Sequences in Block Data",{"$f":"COUNTA(L41:L74)","v":34},null,null,null,"Total Sequences in Block Data",{"$f":"COUNTA(L75:L109)","v":35},null,null,null,"Total Sequences in Block Data",{"$f":"COUNTA(L110:L143)","v":34},null,null,null,"Total Sequences in Block Data",{"$f":"COUNTA(L144:L177)","v":34},null,null,null,"Total Sequences in Block Data",{"$f":"COUNTA(L178:L211)","v":34}]
[null,null,null,null,null,null,null,null,null,null,null,null,null,null,null,"Total Sequences in Summary",{"$f":"SUM(O7:O22)","v":205},null,null,null,null,"Total Sequences in Block Summary",{"$f":"SUM(U7:U22)","v":34},null,null,null,"Total Sequences in Block Summary",{"$f":"SUM(Z7:Z22)","v":34},null,null,null,"Total Sequences in Block Summary",{"$f":"SUM(AE7:AE22)","v":35},null,null,null,"Total Sequences in Block Summary",{"$f":"SUM(AJ7:AJ22)","v":34},null,null,null,"Total Sequences in Block Summary",{"$f":"SUM(AO7:AO22)","v":34},null,null,null,"Total Sequences in Block Summary",{"$f":"SUM(AT7:AT22)","v":34}]
[null,null,null,null,null,null,null,null,null,null,null,null,null,null,null,null,null,null,null,"Block 1",null,null,null,null,"Block 2",null,null,null,null,"Block 3",null,null,null,null,"Block 4",null,null,null,null,"Block 5",null,null,null,null,"Block 6"]
["Sequence\nComponent\n1","Time\n1","Sequence\nComponent\n2","Time\n2","Sequence\nComponent\n3","Time\n3","Sequence\nComponent\n4","Time\n4","Sequence\nComponent\n5","Time\n5","Correct?\n0=No 1=Yes","Sequence",null,"Frequency",null,"Relative Frequency","Variability",null,null,"Frequency",null,"Relative Frequency","Variability",null,"Frequency",null,"Relative Frequency","Variability",null,"Frequency",null,"Relative Frequency","Variability",null,"Frequency",null,"Relative Frequency","Variability",null,"Frequency",null,"Relative Frequency","Variability",null,"Frequency",null,"Relative Frequency","Variability"]
[12,15,14,24,13,34,23,51,null,null,0,1112,null,1111,{"$f":"COUNTIF($L$7:$L$500,N7)","v":202},{"$f":"O7/$Q$4","v":0.98536585365853657},{"$f":"IF(P7=0,0,(P7*((LOG(P7))/LOG(2))))","v":-2.0957368703597889E-2},null,null,{"$f":"N7","v":1111},{"$f":"COUNTIF(L7:L40,T7)","v":32},{"$f":"U7/(W4-U20)","v":0.94117647058823528},{"$f":"IF(V7=0,0,(V7*((LOG(V7))/LOG(2))))","v":-8.2317968235613576E-2},null,{"$f":"N7","v":1111},{"$f":"COUNTIF(L41:L74,Y7)","v":34},{"$f":"Z7/(AB4-Z20)","v":1},{"$f":"IF(AA7=0,0,(AA7*((LOG(AA7))/LOG(2))))","v":0},null,{"$f":"N7","v":1111},{"$f":"COUNTIF(L75:L109,AD7)","v":35},{"$f":"AE7/(AG4-AE20)","v":1},{"$f":"IF(AF7=0,0,(AF7*((LOG(AF7))/LOG(2))))","v":0},null,{"$f":"N7","v":1111},{"$f":"COUNTIF(L110:L143,AI7)","v":34},{"$f":"AJ7/(AL4-AJ20)","v":1},{"$f":"IF(AK7=0,0,(AK7*((LOG(AK7))/LOG(2))))","v":0},null,{"$f":"N7","v":1111},{"$f":"COUNTIF(L144:L177,AN7)","v":34},{"$f":"AO7/(AQ4-AO20)","v":1},{"$f":"IF(AP7=0,0,(AP7*((LOG(AP7))/LOG(2))))","v":0},null,{"$f":"N7","v":1111},{"$f":"COUNTIF(L178:L211,AS7)","v":33},{"$f":"AT7/(AV4-AT20)","v":0.97058823529411764},{"$f":"IF(AU7=0,0,(AU7*((LOG(AU7))/LOG(2))))","v":-4.1801994777418743E-2}]
[12,154,14,160,13,165,14,171,null,null,0,1111,null,1112,{"$f":"COUNTIF($L$7:$L$500,N8)","v":3},{"$f":"O8/$Q$4","v":1.4634146341463415E-2},{"$f":"IF(P8=0,0,(P8*((LOG(P8))/LOG(2))))","v":-8.9188062421233505E-2},null,null,{"$f":"N8","v":1112},{"$f":"COUNTIF(L7:L40,T8)","v":2},{"$f":"U8/(W4-U20)","v":5.8823529411764705E-2},{"$f":"IF(V8=0,0,(V8*((LOG(V8))/LOG(2))))","v":-0.24043899066178465},null,{"$f":"N8","v":1112},{"$f":"COUNTIF(L41:L74,Y8)","v":0},{"$f":"Z8/(AB4-Z20)","v":0},{"$f":"IF(AA8=0,0,(AA8*((LOG(AA8))/LOG(2))))","v":0},null,{"$f":"N8","v":1112},{"$f":"COUNTIF(L75:L109,AD8)","v":0},{"$f":"AE8/(AG4-AE20)","v":0},{"$f":"IF(AF8=0,0,(AF8*((LOG(AF8))/LOG(2))))","v":0},null,{"$f":"N8","v":1112},{"$f":"COUNTIF(L110:L143,AI8)","v":0},{"$f":"AJ8/(AL4-AJ20)","v":0},{"$f":"IF(AK8=0,0,(AK8*((LOG(AK8))/LOG(2))))","v":0},null,{"$f":"N8","v":1112},{"$f":"COUNTIF(L144:L177,AN8)","v":0},{"$f":"AO8/(AQ4-AO20)","v":0},{"$f":"IF(AP8=0,0,(AP8*((LOG(AP8))/LOG(2))))","v":0},null,{"$f":"N8","v":1112},{"$f":"COUNTIF(L178:L211,AS8)","v":1},{"$f":"AT8/(AV4-AT20)","v":2.9411764705882353E-2},{"$f":"IF(AU8=0,0,(AU8*((LOG(AU8))/LOG(2))))","v":-0.14963126003677468}]
[12,273,14,278,13,283,14,290,null,null,0,1111,null,1121,{"$f":"COUNTIF($L$7:$L$500,N9)","v":0},{"$f":"O9/$Q$4","v":0},{"$f":"IF(P9=0,0,(P9*((LOG(P9))/LOG(2))))","v":0},null,null,{"$f":"N9","v":1121},{"$f":"COUNTIF(L7:L40,T9)","v":0},{"$f":"U9/(W4-U20)","v":0},{"$f":"IF(V9=0,0,(V9*((LOG(V9))/LOG(2))))","v":0},null,{"$f":"N9","v":1121},{"$f":"COUNTIF(L41:L74,Y9)","v":0},{"$f":"Z9/(AB4-Z20)","v":0},{"$f":"IF(AA9=0,0,(AA9*((LOG(AA9))/LOG(2))))","v":0},null,{"$f":"N9","v":1121},{"$f":"COUNTIF(L75:L109,AD9)","v":0},{"$f":"AE9/(AG4-AE20)","v":0},{"$f":"IF(AF9=0,0,(AF9*((LOG(AF9))/LOG(2))))","v":0},null,{"$f":"N9","v":1121},{"$f":"COUNTIF(L110:L143,AI9)","v":0},{"$f":"AJ9/(AL4-AJ20)","v":0},{"$f":"IF(AK9=0,0,(AK9*((LOG(AK9))/LOG(2))))","v":0},null,{"$f":"N9","v":1121},{"$f":"COUNTIF(L144:L177,AN9)","v":0},{"$f":"AO9/(AQ4-AO20)","v":0},{"$f":"IF(AP9=0,0,(AP9*((LOG(AP9))/LOG(2))))","v":0},null,{"$f":"N9","v":1121},{"$f":"COUNTIF(L178:L211,AS9)","v":0},{"$f":"AT9/(AV4-AT20)","v":0},{"$f":"IF(AU9=0,0,(AU9*((LOG(AU9))/LOG(2))))","v":0}]
[12,388,14,393,13,398,14,403,null,null,0,1111,null,1122,{"$f":"COUNTIF($L$7:$L$500,N10)","v":0},{"$f":"O10/$Q$4","v":0},{"$f":"IF(P10=0,0,(P10*((LOG(P10))/LOG(2))))","v":0},null,null,{"$f":"N10","v":1122},{"$f":"COUNTIF(L7:L40,T10)","v":0},{"$f":"U10/(W4-U20)","v":0},{"$f":"IF(V10=0,0,(V10*((LOG(V10))/LOG(2))))","v":0},null,{"$f":"N10","v":1122},{"$f":"COUNTIF(L41:L74,Y10)","v":0},{"$f":"Z10/(AB4-Z20)","v":0},{"$f":"IF(AA10=0,0,(AA10*((LOG(AA10))/LOG(2))))","v":0},null,{"$f":"N10","v":1122},{"$f":"COUNTIF(L75:L109,AD10)","v":0},{"$f":"AE10/(AG4-AE20)","v":0},{"$f":"IF(AF10=0,0,(AF10*((LOG(AF10))/LOG(2))))","v":0},null,{"$f":"N10","v":1122},{"$f":"COUNTIF(L110:L143,AI10)","v":0},{"$f":"AJ10/(AL4-AJ20)","v":0},{"$f":"IF(AK10=0,0,(AK10*((LOG(AK10))/LOG(2))))","v":0},null,{"$f":"N10","v":1122},{"$f":"COUNTIF(L144:L177,AN10)","v":0},{"$f":"AO10/(AQ4-AO20)","v":0},{"$f":"IF(AP10=0,0,(AP10*((LOG(AP10))/LOG(2))))","v":0},null,{"$f":"N10","v":1122},{"$f":"COUNTIF(L178:L211,AS10)","v":0},{"$f":"AT10/(AV4-AT20)","v":0},{"$f":"IF(AU10=0,0,(AU10*((LOG(AU10))/LOG(2))))","v":0}]
[12,501,14,507,13,512,14,522,null,null,0,1111,null,1211,{"$f":"COUNTIF($L$7:$L$500,N11)","v":0},{"$f":"O11/$Q$4","v":0},{"$f":"IF(P11=0,0,(P11*((LOG(P11))/LOG(2))))","v":0},null,null,{"$f":"N11","v":1211},{"$f":"COUNTIF(L7:L40,T11)","v":0},{"$f":"U11/(W4-U20)","v":0},{"$f":"IF(V11=0,0,(V11*((LOG(V11))/LOG(2))))","v":0},null,{"$f":"N11","v":1211},{"$f":"COUNTIF(L41:L74,Y11)","v":0},{"$f":"Z11/(AB4-Z20)","v":0},{"$f":"IF(AA11=0,0,(AA11*((LOG(AA11))/LOG(2))))","v":0},null,{"$f":"N11","v":1211},{"$f":"COUNTIF(L75:L109,AD11)","v":0},{"$f":"AE11/(AG4-AE20)","v":0},{"$f":"IF(AF11=0,0,(AF11*((LOG(AF11))/LOG(2))))","v":0},null,{"$f":"N11","v":1211},{"$f":"COUNTIF(L110:L143,AI11)","v":0},{"$f":"AJ11/(AL4-AJ20)","v":0},{"$f":"IF(AK11=0,0,(AK11*((LOG(AK11))/LOG(2))))","v":0},null,{"$f":"N11","v":1211},{"$f":"COUNTIF(L144:L177,AN11)","v":0},{"$f":"AO11/(AQ4-AO20)","v":0},{"$f":"IF(AP11=0,0,(AP11*((LOG(AP11))/LOG(2))))","v":0},null,{"$f":"N11","v":1211},{"$f":"COUNTIF(L178:L211,AS11)","v":0},{"$f":"AT11/(AV4-AT20)","v":0},{"$f":"IF(AU11=0,0,(AU11*((LOG(AU11))/LOG(2))))","v":0}]
[12,624,14,629,13,635,14,641,null,null,0,1111,null,1212,{"$f":"COUNTIF($L$7:$L$500,N12)","v":0},{"$f":"O12/$Q$4","v":0},{"$f":"IF(P12=0,0,(P12*((LOG(P12))/LOG(2))))","v":0},null,null,{"$f":"N12","v":1212},{"$f":"COUNTIF(L7:L40,T12)","v":0},{"$f":"U12/(W4-U20)","v":0},{"$f":"IF(V12=0,0,(V12*((LOG(V12))/LOG(2))))","v":0},null,{"$f":"N12","v":1212},{"$f":"COUNTIF(L41:L74,Y12)","v":0},{"$f":"Z12/(AB4-Z20)","v":0},{"$f":"IF(AA12=0,0,(AA12*((LOG(AA12))/LOG(2))))","v":0},null,{"$f":"N12","v":1212},{"$f":"COUNTIF(L75:L109,AD12)","v":0},{"$f":"AE12/(AG4-AE20)","v":0},{"$f":"IF(AF12=0,0,(AF12*((LOG(AF12))/LOG(2))))","v":0},null,{"$f":"N12","v":1212},{"$f":"COUNTIF(L110:L143,AI12)","v":0},{"$f":"AJ12/(AL4-AJ20)","v":0},{"$f":"IF(AK12=0,0,(AK12*((LOG(AK12))/LOG(2))))","v":0},null,{"$f":"N12","v":1212},{"$f":"COUNTIF(L144:L177,AN12)","v":0},{"$f":"AO12/(AQ4-AO20)","v":0},{"$f":"IF(AP12=0,0,(AP12*((LOG(AP12))/LOG(2))))","v":0},null,{"$f":"N12","v":1212},{"$f":"COUNTIF(L178:L211,AS12)","v":0},{"$f":"AT12/(AV4-AT20)","v":0},{"$f":"IF(AU12=0,0,(AU12*((LOG(AU12))/LOG(2))))","v":0}]
[12,734,14,741,13,746,14,760,null,null,0,1111,null,1221,{"$f":"COUNTIF($L$7:$L$500,N13)","v":0},{"$f":"O13/$Q$4","v":0},{"$f":"IF(P13=0,0,(P13*((LOG(P13))/LOG(2))))","v":0},null,null,{"$f":"N13","v":1221},{"$f":"COUNTIF(L7:L40,T13)","v":0},{"$f":"U13/(W4-U20)","v":0},{"$f":"IF(V13=0,0,(V13*((LOG(V13))/LOG(2))))","v":0},null,{"$f":"N13","v":1221},{"$f":"COUNTIF(L41:L74,Y13)","v":0},{"$f":"Z13/(AB4-Z20)","v":0},{"$f":"IF(AA13=0,0,(AA13*((LOG(AA13))/LOG(2))))","v":0},null,{"$f":"N13","v":1221},{"$f":"COUNTIF(L75:L109,AD13)","v":0},{"$f":"AE13/(AG4-AE20)","v":0},{"$f":"IF(AF13=0,0,(AF13*((LOG(AF13))/LOG(2))))","v":0},null,{"$f":"N13","v":1221},{"$f":"COUNTIF(L110:L143,AI13)","v":0},{"$f":"AJ13/(AL4-AJ20)","v":0},{"$f":"IF(AK13=0,0,(AK13*((LOG(AK13))/LOG(2))))","v":0},null,{"$f":"N13","v":1221},{"$f":"COUNTIF(L144:L177,AN13)","v":0},{"$f":"AO13/(AQ4-AO20)","v":0},{"$f":"IF(AP13=0,0,(AP13*((LOG(AP13))/LOG(2))))","v":0},null,{"$f":"N13","v":1221},{"$f":"COUNTIF(L178:L211,AS13)","v":0},{"$f":"AT13/(AV4-AT20)","v":0},{"$f":"IF(AU13=0,0,(AU13*((LOG(AU13))/LOG(2))))","v":0}]
[12,852,14,857,13,863,23,901,null,null,0,1112,null,1222,{"$f":"COUNTIF($L$7:$L$500,N14)","v":0},{"$f":"O14/$Q$4","v":0},{"$f":"IF(P14=0,0,(P14*((LOG(P14))/LOG(2))))","v":0},null,null,{"$f":"N14","v":1222},{"$f":"COUNTIF(L7:L40,T14)","v":0},{"$f":"U14/(W4-U20)","v":0},{"$f":"IF(V14=0,0,(V14*((LOG(V14))/LOG(2))))","v":0},null,{"$f":"N14","v":1222},{"$f":"COUNTIF(L41:L74,Y14)","v":0},{"$f":"Z14/(AB4-Z20)","v":0},{"$f":"IF(AA14=0,0,(AA14*((LOG(AA14))/LOG(2))))","v":0},null,{"$f":"N14","v":1222},{"$f":"COUNTIF(L75:L109,AD14)","v":0},{"$f":"AE14/(AG4-AE20)","v":0},{"$f":"IF(AF14=0,0,(AF14*((LOG(AF14))/LOG(2))))","v":0},null,{"$f":"N14","v":1222},{"$f":"COUNTIF(L110:L143,AI14)","v":0},{"$f":"AJ14/(AL4-AJ20)","v":0},{"$f":"IF(AK14=0,0,(AK14*((LOG(AK14))/LOG(2))))","v":0},null,{"$f":"N14","v":1222},{"$f":"COUNTIF(L144:L177,AN14)","v":0},{"$f":"AO14/(AQ4-AO20)","v":0},{"$f":"IF(AP14=0,0,(AP14*((LOG(AP14))/LOG(2))))","v":0},null,{"$f":"N14","v":1222},{"$f":"COUNTIF(L178:L211,AS14)","v":0},{"$f":"AT14/(AV4-AT20)","v":0},{"$f":"IF(AU14=0,0,(AU14*((LOG(AU14))/LOG(2))))","v":0}]
[12,998,14,1003,13,1008,14,1017,null,null,0,1111,null,2111,{"$f":"COUNTIF($L$7:$L$500,N15)","v":0},{"$f":"O15/$Q$4","v":0},{"$f":"IF(P15=0,0,(P15*((LOG(P15))/LOG(2))))","v":0},null,null,{"$f":"N15","v":2111},{"$f":"COUNTIF(L7:L40,T15)","v":0},{"$f":"U15/(W4-U20)","v":0},{"$f":"IF(V15=0,0,(V15*((LOG(V15))/LOG(2))))","v":0},null,{"$f":"N15","v":2111},{"$f":"COUNTIF(L41:L74,Y15)","v":0},{"$f":"Z15/(AB4-Z20)","v":0},{"$f":"IF(AA15=0,0,(AA15*((LOG(AA15))/LOG(2))))","v":0},null,{"$f":"N15","v":2111},{"$f":"COUNTIF(L75:L109,AD15)","v":0},{"$f":"AE15/(AG4-AE20)","v":0},{"$f":"IF(AF15=0,0,(AF15*((LOG(AF15))/LOG(2))))","v":0},null,{"$f":"N15","v":2111},{"$f":"COUNTIF(L110:L143,AI15)","v":0},{"$f":"AJ15/(AL4-AJ20)","v":0},{"$f":"IF(AK15=0,0,(AK15*((LOG(AK15))/LOG(2))))","v":0},null,{"$f":"N15","v":2111},{"$f":"COUNTIF(L144:L177,AN15)","v":0},{"$f":"AO15/(AQ4-AO20)","v":0},{"$f":"IF(AP15=0,0,(AP15*((LOG(AP15))/LOG(2))))","v":0},null,{"$f":"N15","v":2111},{"$f":"COUNTIF(L178:L211,AS15)","v":0},{"$f":"AT15/(AV4-AT20)","v":0},{"$f":"IF(AU15=0,0,(AU15*((LOG(AU15))/LOG(2))))","v":0}]
[12,1113,14,1118,13,1124,14,1130,null,null,0,1111,null,2112,{"$f":"COUNTIF($L$7:$L$500,N16)","v":0},{"$f":"O16/$Q$4","v":0},{"$f":"IF(P16=0,0,(P16*((LOG(P16))/LOG(2))))","v":0},null,null,{"$f":"N16","v":2112},{"$f":"COUNTIF(L7:L40,T16)","v":0},{"$f":"U16/(W4-U20)","v":0},{"$f":"IF(V16=0,0,(V16*((LOG(V16))/LOG(2))))","v":0},null,{"$f":"N16","v":2112},{"$f":"COUNTIF(L41:L74,Y16)","v":0},{"$f":"Z16/(AB4-Z20)","v":0},{"$f":"IF(AA16=0,0,(AA16*((LOG(AA16))/LOG(2))))","v":0},null,{"$f":"N16","v":2112},{"$f":"COUNTIF(L75:L109,AD16)","v":0},{"$f":"AE16/(AG4-AE20)","v":0},{"$f":"IF(AF16=0,0,(AF16*((LOG(AF16))/LOG(2))))","v":0},null,{"$f":"N16","v":2112},{"$f":"COUNTIF(L110:L143,AI16)","v":0},{"$f":"AJ16/(AL4-AJ20)","v":0},{"$f":"IF(AK16=0,0,(AK16*((LOG(AK16))/LOG(2))))","v":0},null,{"$f":"N16","v":2112},{"$f":"COUNTIF(L144:L177,AN16)","v":0},{"$f":"AO16/(AQ4-AO20)","v":0},{"$f":"IF(AP16=0,0,(AP16*((LOG(AP16))/LOG(2))))","v":0},null,{"$f":"N16","v":2112},{"$f":"COUNTIF(L178:L211,AS16)","v":0},{"$f":"AT16/(AV4-AT20)","v":0},{"$f":"IF(AU16=0,0,(AU16*((LOG(AU16))/LOG(2))))","v":0}]
[12,1232,14,1237,13,1246,14,1258,null,null,0,1111,null,2121,{"$f":"COUNTIF($L$7:$L$500,N17)","v":0},{"$f":"O17/$Q$4","v":0},{"$f":"IF(P17=0,0,(P17*((LOG(P17))/LOG(2))))","v":0},null,null,{"$f":"N17","v":2121},{"$f":"COUNTIF(L7:L40,T17)","v":0},{"$f":"U17/(W4-U20)","v":0},{"$f":"IF(V17=0,0,(V17*((LOG(V17))/LOG(2))))","v":0},null,{"$f":"N17","v":2121},{"$f":"COUNTIF(L41:L74,Y17)","v":0},{"$f":"Z17/(AB4-Z20)","v":0},{"$f":"IF(AA17=0,0,(AA17*((LOG(AA17))/LOG(2))))","v":0},null,{"$f":"N17","v":2121},{"$f":"COUNTIF(L75:L109,AD17)","v":0},{"$f":"AE17/(AG4-AE20)","v":0},{"$f":"IF(AF17=0,0,(AF17*((LOG(AF17))/LOG(2))))","v":0},null,{"$f":"N17","v":2121},{"$f":"COUNTIF(L110:L143,AI17)","v":0},{"$f":"AJ17/(AL4-AJ20)","v":0},{"$f":"IF(AK17=0,0,(AK17*((LOG(AK17))/LOG(2))))","v":0},null,{"$f":"N17","v":2121},{"$f":"COUNTIF(L144:L177,AN17)","v":0},{"$f":"AO17/(AQ4-AO20)","v":0},{"$f":"IF(AP17=0,0,(AP17*((LOG(AP17))/LOG(2))))","v":0},null,{"$f":"N17","v":2121},{"$f":"COUNTIF(L178:L211,AS17)","v":0},{"$f":"AT17/(AV4-AT20)","v":0},{"$f":"IF(AU17=0,0,(AU17*((LOG(AU17))/LOG(2))))","v":0}]
[12,1360,14,1365,13,1371,14,1378,null,null,0,1111,null,2122,{"$f":"COUNTIF($L$7:$L$500,N18)","v":0},{"$f":"O18/$Q$4","v":0},{"$f":"IF(P18=0,0,(P18*((LOG(P18))/LOG(2))))","v":0},null,null,{"$f":"N18","v":2122},{"$f":"COUNTIF(L7:L40,T18)","v":0},{"$f":"U18/(W4-U20)","v":0},{"$f":"IF(V18=0,0,(V18*((LOG(V18))/LOG(2))))","v":0},null,{"$f":"N18","v":2122},{"$f":"COUNTIF(L41:L74,Y18)","v":0},{"$f":"Z18/(AB4-Z20)","v":0},{"$f":"IF(AA18=0,0,(AA18*((LOG(AA18))/LOG(2))))","v":0},null,{"$f":"N18","v":2122},{"$f":"COUNTIF(L75:L109,AD18)","v":0},{"$f":"AE18/(AG4-AE20)","v":0},{"$f":"IF(AF18=0,0,(AF18*((LOG(AF18))/LOG(2))))","v":0},null,{"$f":"N18","v":2122},{"$f":"COUNTIF(L110:L143,AI18)","v":0},{"$f":"AJ18/(AL4-AJ20)","v":0},{"$f":"IF(AK18=0,0,(AK18*((LOG(AK18))/LOG(2))))","v":0},null,{"$f":"N18","v":2122},{"$f":"COUNTIF(L144:L177,AN18)","v":0},{"$f":"AO18/(AQ4-AO20)","v":0},{"$f":"IF(AP18=0,0,(AP18*((LOG(AP18))/LOG(2))))","v":0},null,{"$f":"N18","v":2122},{"$f":"COUNTIF(L178:L211,AS18)","v":0},{"$f":"AT18/(AV4-AT20)","v":0},{"$f":"IF(AU18=0,0,(AU18*((LOG(AU18))/LOG(2))))","v":0}]
[12,1477,14,1482,13,1487,14,1493,null,null,0,1111,null,2211,{"$f":"COUNTIF($L$7:$L$500,N19)","v":0},{"$f":"O19/$Q$4","v":0},{"$f":"IF(P19=0,0,(P19*((LOG(P19))/LOG(2))))","v":0},null,null,{"$f":"N19","v":2211},{"$f":"COUNTIF(L7:L40,T19)","v":0},{"$f":"U19/(W4-U20)","v":0},{"$f":"IF(V19=0,0,(V19*((LOG(V19))/LOG(2))))","v":0},null,{"$f":"N19","v":2211},{"$f":"COUNTIF(L41:L74,Y19)","v":0},{"$f":"Z19/(AB4-Z20)","v":0},{"$f":"IF(AA19=0,0,(AA19*((LOG(AA19))/LOG(2))))","v":0},null,{"$f":"N19","v":2211},{"$f":"COUNTIF(L75:L109,AD19)","v":0},{"$f":"AE19/(AG4-AE20)","v":0},{"$f":"IF(AF19=0,0,(AF19*((LOG(AF19))/LOG(2))))","v":0},null,{"$f":"N19","v":2211},{"$f":"COUNTIF(L110:L143,AI19)","v":0},{"$f":"AJ19/(AL4-AJ20)","v":0},{"$f":"IF(AK19=0,0,(AK19*((LOG(AK19))/LOG(2))))","v":0},null,{"$f":"N19","v":2211},{"$f":"COUNTIF(L144:L177,AN19)","v":0},{"$f":"AO19/(AQ4-AO20)","v":0},{"$f":"IF(AP19=0,0,(AP19*((LOG(AP19))/LOG(2))))","v":0},null,{"$f":"N19","v":2211},{"$f":"COUNTIF(L178:L211,AS19)","v":0},{"$f":"AT19/(AV4-AT20)","v":0},{"$f":"IF(AU19=0,0,(AU19*((LOG(AU19))/LOG(2))))","v":0}]
[12,1588,14,1593,13,1598,14,1606,null,null,0,1111,null,2212,{"$f":"COUNTIF($L$7:$L$500,N20)","v":0},{"$f":"O20/$Q$4","v":0},{"$f":"IF(P20=0,0,(P20*((LOG(P20))/LOG(2))))","v":0},null,null,{"$f":"N20","v":2212},{"$f":"COUNTIF(L7:L40,T20)","v":0},null,null,null,{"$f":"N20","v":2212},{"$f":"COUNTIF(L41:L74,Y20)","v":0},null,null,null,{"$f":"N20","v":2212},{"$f":"COUNTIF(L75:L109,AD20)","v":0},null,null,null,{"$f":"N20","v":2212},{"$f":"COUNTIF(L110:L143,AI20)","v":0},null,null,null,{"$f":"N20","v":2212},{"$f":"COUNTIF(L144:L177,AN20)","v":0},null,null,null,{"$f":"N20","v":2212},{"$f":"COUNTIF(L178:L211,AS20)","v":0}]
[12,1708,14,1713,13,1722,14,1734,null,null,0,1111,null,2221,{"$f":"COUNTIF($L$7:$L$500,N21)","v":0},{"$f":"O21/$Q$4","v":0},{"$f":"IF(P21=0,0,(P21*((LOG(P21))/LOG(2))))","v":0},null,null,{"$f":"N21","v":2221},{"$f":"COUNTIF(L7:L40,T21)","v":0},{"$f":"U21/(W4-U20)","v":0},{"$f":"IF(V21=0,0,(V21*((LOG(V21))/LOG(2))))","v":0},null,{"$f":"N21","v":2221},{"$f":"COUNTIF(L41:L74,Y21)","v":0},{"$f":"Z21/(AB4-Z20)","v":0},{"$f":"IF(AA21=0,0,(AA21*((LOG(AA21))/LOG(2))))","v":0},null,{"$f":"N21","v":2221},{"$f":"COUNTIF(L75:L109,AD21)","v":0},{"$f":"AE21/(AG4-AE20)","v":0},{"$f":"IF(AF21=0,0,(AF21*((LOG(AF21))/LOG(2))))","v":0},null,{"$f":"N21","v":2221},{"$f":"COUNTIF(L110:L143,AI21)","v":0},{"$f":"AJ21/(AL4-AJ20)","v":0},{"$f":"IF(AK21=0,0,(AK21*((LOG(AK21))/LOG(2))))","v":0},null,{"$f":"N21","v":2221},{"$f":"COUNTIF(L144:L177,AN21)","v":0},{"$f":"AO21/(AQ4-AO20)","v":0},{"$f":"IF(AP21=0,0,(AP21*((LOG(AP21))/LOG(2))))","v":0},null,{"$f":"N21","v":2221},{"$f":"COUNTIF(L178:L211,AS21)","v":0},{"$f":"AT21/(AV4-AT20)","v":0},{"$f":"IF(AU21=0,0,(AU21*((LOG(AU21))/LOG(2))))","v":0}]
[12,1825,14,1830,13,1835,14,1852,null,null,0,1111,null,2222,{"$f":"COUNTIF($L$7:$L$500,N22)","v":0},{"$f":"O22/$Q$4","v":0},{"$f":"IF(P22=0,0,(P22*((LOG(P22))/LOG(2))))","v":0},null,null,{"$f":"N22","v":2222},{"$f":"COUNTIF(L7:L40,T22)","v":0},{"$f":"U22/(W4-U20)","v":0},{"$f":"IF(V22=0,0,(V22*((LOG(V22))/LOG(2))))","v":0},null,{"$f":"N22","v":2222},{"$f":"COUNTIF(L41:L74,Y22)","v":0},{"$f":"Z22/(AB4-Z20)","v":0},{"$f":"IF(AA22=0,0,(AA22*((LOG(AA22))/LOG(2))))","v":0},null,{"$f":"N22","v":2222},{"$f":"COUNTIF(L75:L109,AD22)","v":0},{"$f":"AE22/(AG4-AE20)","v":0},{"$f":"IF(AF22=0,0,(AF22*((LOG(AF22))/LOG(2))))","v":0},null,{"$f":"N22","v":2222},{"$f":"COUNTIF(L110:L143,AI22)","v":0},{"$f":"AJ22/(AL4-AJ20)","v":0},{"$f":"IF(AK22=0,0,(AK22*((LOG(AK22))/LOG(2))))","v":0},null,{"$f":"N22","v":2222},{"$f":"COUNTIF(L144:L177,AN22)","v":0},{"$f":"AO22/(AQ4-AO20)","v":0},{"$f":"IF(AP22=0,0,(AP22*((LOG(AP22))/LOG(2))))","v":0},null,{"$f":"N22","v":2222},{"$f":"COUNTIF(L178:L211,AS22)","v":0},{"$f":"AT22/(AV4-AT20)","v":0},{"$f":"IF(AU22=0,0,(AU22*((LOG(AU22))/LOG(2))))","v":0}]
[12,1949,14,1954,13,1959,14,1968,null,null,0,1111,null,null,null,{"$f":"SUM(P7:P22)","v":1},{"$f":"-SUM(Q7:Q22)","v":0.1101454311248314},null,null,null,null,{"$f":"SUM(V7:V22)","v":1},{"$f":"-SUM(W7:W22)","v":0.32275695889739819},null,null,null,{"$f":"SUM(AA7:AA22)","v":1},{"$f":"-SUM(AB7:AB22)","v":0},null,null,null,{"$f":"SUM(AF7:AF22)","v":1},{"$f":"-SUM(AG7:AG22)","v":0},null,null,null,{"$f":"SUM(AK7:AK22)","v":1},{"$f":"-SUM(AL7:AL22)","v":0},null,null,null,{"$f":"SUM(AP7:AP22)","v":1},{"$f":"-SUM(AQ7:AQ22)","v":0},null,null,null,{"$f":"SUM(AU7:AU22)","v":1},{"$f":"-SUM(AV7:AV22)","v":0.19143325481419343}]
[12,2070,14,2074,13,2079,14,2088,null,null,0,1111,null,null,null,"U=",{"$f":"Q23/(LOG(Q4)/LOG(2))","v":1.4342823953919056E-2},null,null,null,null,"U1=",{"$f":"W23/(LOG(W4)/LOG(2))","v":6.3441634655374626E-2},null,null,null,"U2=",{"$f":"AB23/(LOG(AB4)/LOG(2))","v":0},null,null,null,"U3=",{"$f":"AG23/(LOG(AG4)/LOG(2))","v":0},null,null,null,"U4=",{"$f":"AL23/(LOG(AL4)/LOG(2))","v":0},null,null,null,"U5=",{"$f":"AQ23/(LOG(AQ4)/LOG(2))","v":0},null,null,null,"U6=",{"$f":"AV23/(LOG(AV4)/LOG(2))","v":3.7628433029919708E-2}]
[12,2191,14,2196,13,2202,14,2210,null,null,0,1111]
[12,2313,14,2318,13,2323,14,2332,null,null,0,1111]
[12,2426,14,2432,13,2437,14,2443,null,null,0,1111,null,"Total Target Seq"]
[12,2544,14,2549,13,2554,14,2563,null,null,0,1111,null,{"$f":"COUNTIF(L7:L211,G3)","v":0},null,34,34,35,34,34,34]
[12,2668,14,2673,13,2683,14,2694,null,null,0,1111,null,null,null,"% of reinforcement given in 6 equal intervals based on number of trials "]
[12,2797,14,2802,13,2808,14,2818,null,null,0,1111,null,null,null,"%_1","%_2","%_3","%_4","%_5","%_6"]
[12,2917,14,2922,13,2927,14,2934,null,null,0,1111,null,null,"target sequence",{"$f":"$G$3","v":2212},{"$f":"$G$3","v":2212},{"$f":"$G$3","v":2212},{"$f":"$G$3","v":2212},{"$f":"$G$3","v":2212},{"$f":"$G$3","v":2212}]
[12,3041,14,3047,13,3056,14,3064,null,null,0,1111,null,null,"total reinforcement",{"$f":"U20","v":0},{"$f":"Z20","v":0},{"$f":"AE20","v":0},{"$f":"AJ20","v":0},{"$f":"AO20","v":0},{"$f":"AT20","v":0}]
[12,3167,14,3172,13,3177,14,3183,null,null,0,1111,null,null,"% target"]
[12,3284,14,3290,13,3304,14,3324,null,null,0,1111,null,null,"CCRF"]
[12,3419,14,3424,13,3429,14,3440,null,null,0,1111,null,null,"% CCRf"]
[12,3540,14,3545,13,3550,14,3558,null,null,0,1111,null,null,"average response rate",{"$f":"H40/P28","v":118.82352941176471},{"$f":"(H74-H40)/Q28","v":118.11764705882354},{"$f":"(H109-H74)/R28","v":118.68571428571428},{"$f":"(H143-H109)/S28","v":117.02941176470588},{"$f":"(H177-H143)/T28","v":114.55882352941177},{"$f":"(H211-H177)/U28","v":113.17647058823529}]
[12,3656,14,3662,13,3667,14,3675,null,null,0,1111]
[12,3779,14,3784,13,3793,14,3800,null,null,0,1111]
[12,3905,14,3911,13,3915,14,3923,null,null,0,1111]
[12,4023,14,4027,13,4032,14,4040,null,null,0,1111]
[12,4139,14,4144,13,4149,14,4157,null,null,0,1111]
[12,4260,14,4264,13,4269,14,4276,null,null,0,1111]
[12,4373,14,4378,13,4388,14,4404,null,null,0,1111]
[12,4502,14,4507,13,4512,14,4517,null,null,0,1111]
[12,4622,14,4627,13,4636,14,4644,null,null,0,1111]
[12,4747,14,4752,13,4757,14,4761,null,null,0,1111]
[12,4863,14,4869,13,4874,14,4879,null,null,0,1111]
[12,4979,14,4987,13,4991,14,4998,null,null,0,1111]
[12,5096,14,5101,13,5105,14,5114,null,null,0,1111]
[12,5214,14,5218,13,5223,14,5231,null,null,0,1111]
[12,5330,14,5334,13,5340,14,5349,null,null,0,1111]
[12,5450,14,5456,13,5460,14,5469,null,null,0,1111]
[12,5574,14,5579,13,5584,14,5592,null,null,0,1111]
[12,5691,14,5698,13,5702,14,5709,null,null,0,1111]
[12,5805,14,5810,13,5817,14,5824,null,null,0,1111]
[12,5923,14,5929,13,5933,14,5940,null,null,0,1111]
[12,6040,14,6045,13,6052,14,6062,null,null,0,1111]
[12,6158,14,6165,13,6170,14,6176,null,null,0,1111]
[12,6286,14,6292,13,6297,14,6312,null,null,0,1111]
[12,6415,14,6419,13,6423,14,6434,null,null,0,1111]
[12,6526,14,6530,13,6535,14,6542,null,null,0,1111]
[12,6640,14,6644,13,6648,14,6656,null,null,0,1111]
[12,6756,14,6763,13,6768,14,6776,null,null,0,1111]
[12,6872,14,6878,13,6883,14,6888,null,null,0,1111]
[12,6991,14,6995,13,7000,14,7007,null,null,0,1111]
[12,7111,14,7116,13,7120,14,7127,null,null,0,1111]
[12,7226,14,7231,13,7235,14,7240,null,null,0,1111]
[12,7347,14,7351,13,7356,14,7362,null,null,0,1111]
[12,7465,14,7469,13,7474,14,7482,null,null,0,1111]
[12,7573,14,7578,13,7582,14,7586,null,null,0,1111]
[12,7691,14,7700,13,7705,14,7713,null,null,0,1111]
[12,7813,14,7821,13,7825,14,7829,null,null,0,1111]
[12,7926,14,7931,13,7935,14,7942,null,null,0,1111]
[12,8040,14,8044,13,8049,14,8056,null,null,0,1111]
[12,8158,14,8163,13,8172,14,8179,null,null,0,1111]
[12,8279,14,8284,13,8288,14,8292,null,null,0,1111]
[12,8391,14,8396,13,8400,14,8407,null,null,0,1111]
[12,8503,14,8508,13,8516,14,8530,null,null,0,1111]
[12,8639,14,8647,13,8654,14,8661,null,null,0,1111]
[12,8755,14,8760,13,8765,14,8773,null,null,0,1111]
[12,8876,14,8881,13,8890,14,8897,null,null,0,1111]
[12,8998,14,9003,13,9007,14,9020,null,null,0,1111]
[12,9118,14,9122,13,9126,14,9131,null,null,0,1111]
[12,9229,14,9233,13,9237,14,9244,null,null,0,1111]
[12,9344,14,9349,13,9354,14,9360,null,null,0,1111]
[12,9455,14,9460,13,9466,14,9470,null,null,0,1111]
[12,9573,14,9577,13,9581,14,9585,null,null,0,1111]
[12,9682,14,9687,13,9691,14,9697,null,null,0,1111]
[12,9792,14,9797,13,9802,14,9809,null,null,0,1111]
[12,9904,14,9909,13,9913,14,9917,null,null,0,1111]
[12,10021,14,10025,13,10029,14,10036,null,null,0,1111]
[12,10138,14,10147,13,10151,14,10158,null,null,0,1111]
[12,10257,14,10261,13,10265,14,10271,null,null,0,1111]
[12,10376,14,10381,13,10389,14,10396,null,null,0,1111]
[12,10504,14,10508,13,10513,14,10521,null,null,0,1111]
[12,10628,14,10637,13,10643,14,10650,null,null,0,1111]
[12,10755,14,10759,13,10767,14,10773,null,null,0,1111]
[12,10890,14,10895,13,10902,14,10908,null,null,0,1111]
[12,11014,14,11019,13,11023,14,11031,null,null,0,1111]
[12,11127,14,11132,13,11136,14,11141,null,null,0,1111]
[12,11246,14,11255,13,11264,14,11271,null,null,0,1111]
[12,11368,14,11373,13,11377,14,11382,null,null,0,1111]
[12,11484,14,11488,13,11492,14,11498,null,null,0,1111]
[12,11605,14,11611,13,11616,14,11621,null,null,0,1111]
[12,11727,14,11732,13,11736,14,11743,null,null,0,1111]
[12,11852,14,11856,13,11860,14,11867,null,null,0,1111]
[12,11963,14,11967,13,11972,14,11976,null,null,0,1111]
[12,12076,14,12081,13,12086,14,12090,null,null,0,1111]
[12,12195,14,12199,13,12204,14,12210,null,null,0,1111]
[12,12310,14,12316,13,12320,14,12324,null,null,0,1111]
[12,12431,14,12436,13,12440,14,12445,null,null,0,1111]
[12,12550,14,12556,13,12561,14,12565,null,null,0,1111]
[12,12669,14,12673,13,12678,14,12682,null,null,0,1111]
[12,12787,14,12791,13,12800,14,12807,null,null,0,1111]
[12,12909,14,12913,13,12918,14,12923,null,null,0,1111]
[12,13014,14,13019,13,13023,14,13029,null,null,0,1111]
[12,13117,14,13120,13,13126,14,13130,null,null,0,1111]
[12,13230,14,13235,13,13239,14,13244,null,null,0,1111]
[12,13343,14,13348,13,13352,14,13356,null,null,0,1111]
[12,13448,14,13453,13,13457,14,13470,null,null,0,1111]
[12,13566,14,13572,13,13576,14,13581,null,null,0,1111]
[12,13684,14,13689,13,13694,14,13699,null,null,0,1111]
[12,13791,14,13795,13,13800,14,13804,null,null,0,1111]
[12,13902,14,13906,13,13910,14,13914,null,null,0,1111]
[12,14020,14,14027,13,14031,14,14035,null,null,0,1111]
[12,14137,14,14140,13,14145,14,14152,null,null,0,1111]
[12,14259,14,14263,13,14268,14,14272,null,null,0,1111]
[12,14362,14,14367,13,14371,14,14376,null,null,0,1111]
[12,14483,14,14487,13,14491,14,14495,null,null,0,1111]
[12,14598,14,14602,13,14606,14,14612,null,null,0,1111]
[12,14709,14,14716,13,14720,14,14725,null,null,0,1111]
[12,14823,14,14827,13,14832,14,14840,null,null,0,1111]
[12,14943,14,14947,13,14951,14,14958,null,null,0,1111]
[12,15064,14,15069,13,15073,14,15081,null,null,0,1111]
[12,15183,14,15187,13,15191,14,15198,null,null,0,1111]
[12,15312,14,15317,13,15322,14,15330,null,null,0,1111]
[12,15421,14,15426,13,15430,14,15435,null,null,0,1111]
[12,15538,14,15542,13,15546,14,15553,null,null,0,1111]
[12,15661,14,15665,13,15673,14,15683,null,null,0,1111]
[12,15782,14,15791,13,15799,14,15819,null,null,0,1111]
[12,15941,14,15946,13,15955,14,15963,null,null,0,1111]
[12,16066,14,16070,13,16078,14,16085,null,null,0,1111]
[12,16177,14,16181,13,16185,14,16189,null,null,0,1111]
[12,16283,14,16287,13,16292,14,16298,null,null,0,1111]
[12,16394,14,16398,13,16403,14,16410,null,null,0,1111]
[12,16506,14,16510,13,16514,14,16523,null,null,0,1111]
[12,16626,14,16631,13,16640,14,16658,null,null,0,1111]
[12,16760,14,16765,13,16773,14,16780,null,null,0,1111]
[12,16876,14,16881,13,16885,14,16890,null,null,0,1111]
[12,16979,14,16984,13,16988,14,16993,null,null,0,1111]
[12,17088,14,17094,13,17098,14,17102,null,null,0,1111]
[12,17197,14,17202,13,17207,14,17211,null,null,0,1111]
[12,17309,14,17314,13,17323,14,17330,null,null,0,1111]
[12,17433,14,17437,13,17442,14,17446,null,null,0,1111]
[12,17546,14,17550,13,17554,14,17558,null,null,0,1111]
[12,17658,14,17663,13,17668,14,17674,null,null,0,1111]
[12,17769,14,17773,13,17778,14,17784,null,null,0,1111]
[12,17881,14,17886,13,17891,14,17896,null,null,0,1111]
[12,17993,14,17997,13,18005,14,18012,null,null,0,1111]
[12,18118,14,18123,13,18127,14,18134,null,null,0,1111]
[12,18236,14,18241,13,18245,14,18249,null,null,0,1111]
[12,18346,14,18351,13,18355,14,18360,null,null,0,1111]
[12,18465,14,18470,13,18475,14,18480,null,null,0,1111]
[12,18581,14,18586,13,18590,14,18597,null,null,0,1111]
[12,18692,14,18700,13,18704,14,18708,null,null,0,1111]
[12,18812,14,18817,13,18821,14,18826,null,null,0,1111]
[12,18928,14,18932,13,18937,14,18941,null,null,0,1111]
[12,19040,14,19044,13,19049,14,19053,null,null,0,1111]
[12,19156,14,19160,13,19164,14,19169,null,null,0,1111]
[12,19259,14,19264,13,19269,14,19273,null,null,0,1111]
[12,19374,14,19378,13,19383,14,19391,null,null,0,1111]
[12,19494,14,19498,13,19502,14,19509,null,null,0,1111]
[12,19601,14,19605,13,19610,14,19615,null,null,0,1111]
[12,19719,14,19725,13,19730,14,19737,null,null,0,1111]
[12,19841,14,19845,13,19849,14,19856,null,null,0,1111]
[12,19955,14,19959,13,19964,14,19971,null,null,0,1111]
[12,20069,14,20075,13,20080,14,20084,null,null,0,1111]
[12,20182,14,20186,13,20191,14,20195,null,null,0,1111]
[12,20286,14,20290,13,20294,14,20299,null,null,0,1111]
[12,20388,14,20393,13,20398,23,20421,null,null,0,1112]
[12,20517,14,20521,13,20525,14,20529,null,null,0,1111]
[12,20629,14,20633,13,20637,14,20645,null,null,0,1111]
[12,20734,14,20738,13,20746,14,20753,null,null,0,1111]
[12,20851,14,20855,13,20860,14,20864,null,null,0,1111]
[12,20960,14,20965,13,20969,14,20976,null,null,0,1111]
[12,21073,14,21078,13,21083,14,21088,null,null,0,1111]
[12,21187,14,21192,13,21196,14,21203,null,null,0,1111]
[12,21309,14,21313,13,21318,14,21333,null,null,0,1111]
[12,21429,14,21434,13,21439,14,21444,null,null,0,1111]
[12,21545,14,21550,13,21554,14,21559,null,null,0,1111]
[12,21664,14,21668,13,21673,14,21680,null,null,0,1111]
[12,21768,14,21772,13,21777,14,21782,null,null,0,1111]
[12,21880,14,21886,13,21892,14,21897,null,null,0,1111]
[12,21994,14,21999,13,22004,14,22009,null,null,0,1111]
[12,22107,14,22111,13,22115,14,22120,null,null,0,1111]
[12,22219,14,22223,13,22227,14,22232,null,null,0,1111]
[12,22330,14,22335,13,22339,14,22343,null,null,0,1111]
[12,22450,14,22454,13,22462,14,22470,null,null,0,1111]
[12,22573,14,22578,13,22583,14,22587,null,null,0,1111]
[12,22687,14,22691,13,22699,14,22707,null,null,0,1111]
[12,22795,14,22800,13,22804,14,22809,null,null,0,1111]
[12,22909,14,22914,13,22919,14,22924,null,null,0,1111]
[12,23025,14,23030,13,23034,14,23041,null,null,0,1111]
[12,23136,14,23141,13,23145,14,23153,null,null,0,1111]
[12,23252,14,23257,13,23261,14,23266,null,null,0,1111]
[12,23368,14,23372,13,23376,14,23384,null,null,0,1111]
[12,23475,14,23481,13,23487,14,23491,null,null,0,1111]
[12,23586,14,23591,13,23596,14,23601,null,null,0,1111]
[12,23698,14,23702,13,23706,14,23709,null,null,0,1111]
[12,23806,14,23811,13,23815,14,23820,null,null,0,1111]
[12,23916,14,23921,13,23926,14,23932,null,null,null,1111]

{"sheet":"!L906C20.056","index":9,"n_rows":207,"n_cols":48,"rows_kept":207,"cut":false,"hidden":false,"merged":[[4,39,4,42],[5,39,5,40],[4,44,4,47],[5,44,5,45],[4,24,4,27],[5,24,5,25],[4,29,4,32],[5,29,5,30],[4,34,4,37],[5,34,5,35],[1,1,1,2],[5,13,5,14],[26,13,26,14],[27,13,27,14],[4,19,4,22],[5,19,5,20]]}
["Report for:!L906C20.056"]
["Date:","<date>"]
["Hen:","<hen>",null,null,null,"Correct Sequence",{"$f":"Start!J2","v":2212},null,null,null,null,null,null,null,null,"Total Sequences in Data",{"$f":"4994-COUNTBLANK(L7:L5000)","v":201},null,null,null,null,"Total Sequences in Block Data",{"$f":"COUNTA(L7:L40)","v":34},null,null,null,"Total Sequences in Block Data",{"$f":"COUNTA(L41:L73)","v":33},null,null,null,"Total Sequences in Block Data",{"$f":"COUNTA(L74:L107)","v":34},null,null,null,"Total Sequences in Block Data",{"$f":"COUNTA(L108:L140)","v":33},null,null,null,"Total Sequences in Block Data",{"$f":"COUNTA(L141:L174)","v":34},null,null,null,"Total Sequences in Block Data",{"$f":"COUNTA(L175:L207)","v":33}]
[null,null,null,null,null,null,null,null,null,null,null,null,null,null,null,"Total Sequences in Summary",{"$f":"SUM(O7:O22)","v":201},null,null,null,null,"Total Sequences in Block Summary",{"$f":"SUM(U7:U22)","v":34},null,null,null,"Total Sequences in Block Summary",{"$f":"SUM(Z7:Z22)","v":33},null,null,null,"Total Sequences in Block Summary",{"$f":"SUM(AE7:AE22)","v":34},null,null,null,"Total Sequences in Block Summary",{"$f":"SUM(AJ7:AJ22)","v":33},null,null,null,"Total Sequences in Block Summary",{"$f":"SUM(AO7:AO22)","v":34},null,null,null,"Total Sequences in Block Summary",{"$f":"SUM(AT7:AT22)","v":33}]
[null,null,null,null,null,null,null,null,null,null,null,null,null,null,null,null,null,null,null,"Block 1",null,null,null,null,"Block 2",null,null,null,null,"Block 3",null,null,null,null,"Block 4",null,null,null,null,"Block 5",null,null,null,null,"Block 6"]
["Sequence\nComponent\n1","Time\n1","Sequence\nComponent\n2","Time\n2","Sequence\nComponent\n3","Time\n3","Sequence\nComponent\n4","Time\n4","Sequence\nComponent\n5","Time\n5","Correct?\n0=No 1=Yes","Sequence",null,"Frequency",null,"Relative Frequency","Variability",null,null,"Frequency",null,"Relative Frequency","Variability",null,"Frequency",null,"Relative Frequency","Variability",null,"Frequency",null,"Relative Frequency","Variability",null,"Frequency",null,"Relative Frequency","Variability",null,"Frequency",null,"Relative Frequency","Variability",null,"Frequency",null,"Relative Frequency","Variability"]
[12,21,14,28,24,51,14,66,null,null,0,1121,null,1111,{"$f":"COUNTIF($L$7:$L$500,N7)","v":195},{"$f":"O7/$Q$4","v":0.97014925373134331},{"$f":"IF(P7=0,0,(P7*((LOG(P7))/LOG(2))))","v":-4.2416261685159141E-2},null,null,{"$f":"N7","v":1111},{"$f":"COUNTIF(L7:L40,T7)","v":30},{"$f":"U7/(W4-U20)","v":0.88235294117647056},{"$f":"IF(V7=0,0,(V7*((LOG(V7))/LOG(2))))","v":-0.1593284520369008},null,{"$f":"N7","v":1111},{"$f":"COUNTIF(L41:L73,Y7)","v":33},{"$f":"Z7/(AB4-Z20)","v":1},{"$f":"IF(AA7=0,0,(AA7*((LOG(AA7))/LOG(2))))","v":0},null,{"$f":"N7","v":1111},{"$f":"COUNTIF(L74:L107,AD7)","v":34},{"$f":"AE7/(AG4-AE20)","v":1},{"$f":"IF(AF7=0,0,(AF7*((LOG(AF7))/LOG(2))))","v":0},null,{"$f":"N7","v":1111},{"$f":"COUNTIF(L108:L140,AI7)","v":33},{"$f":"AJ7/(AL4-AJ20)","v":1},{"$f":"IF(AK7=0,0,(AK7*((LOG(AK7))/LOG(2))))","v":0},null,{"$f":"N7","v":1111},{"$f":"COUNTIF(L141:L174,AN7)","v":33},{"$f":"AO7/(AQ4-AO20)","v":0.97058823529411764},{"$f":"IF(AP7=0,0,(AP7*((LOG(AP7))/LOG(2))))","v":-4.1801994777418743E-2},null,{"$f":"N7","v":1111},{"$f":"COUNTIF(L175:L207,AS7)","v":32},{"$f":"AT7/(AV4-AT20)","v":0.96969696969696972},{"$f":"IF(AU7=0,0,(AU7*((LOG(AU7))/LOG(2))))","v":-4.3048843014257841E-2}]
[12,174,23,192,13,215,23,225,null,null,0,1212,null,1112,{"$f":"COUNTIF($L$7:$L$500,N8)","v":3},{"$f":"O8/$Q$4","v":1.4925373134328358E-2},{"$f":"IF(P8=0,0,(P8*((LOG(P8))/LOG(2))))","v":-9.0538644633698095E-2},null,null,{"$f":"N8","v":1112},{"$f":"COUNTIF(L7:L40,T8)","v":2},{"$f":"U8/(W4-U20)","v":5.8823529411764705E-2},{"$f":"IF(V8=0,0,(V8*((LOG(V8))/LOG(2))))","v":-0.24043899066178465},null,{"$f":"N8","v":1112},{"$f":"COUNTIF(L41:L73,Y8)","v":0},{"$f":"Z8/(AB4-Z20)","v":0},{"$f":"IF(AA8=0,0,(AA8*((LOG(AA8))/LOG(2))))","v":0},null,{"$f":"N8","v":1112},{"$f":"COUNTIF(L74:L107,AD8)","v":0},{"$f":"AE8/(AG4-AE20)","v":0},{"$f":"IF(AF8=0,0,(AF8*((LOG(AF8))/LOG(2))))","v":0},null,{"$f":"N8","v":1112},{"$f":"COUNTIF(L108:L140,AI8)","v":0},{"$f":"AJ8/(AL4-AJ20)","v":0},{"$f":"IF(AK8=0,0,(AK8*((LOG(AK8))/LOG(2))))","v":0},null,{"$f":"N8","v":1112},{"$f":"COUNTIF(L141:L174,AN8)","v":1},{"$f":"AO8/(AQ4-AO20)","v":2.9411764705882353E-2},{"$f":"IF(AP8=0,0,(AP8*((LOG(AP8))/LOG(2))))","v":-0.14963126003677468},null,{"$f":"N8","v":1112},{"$f":"COUNTIF(L175:L207,AS8)","v":0},{"$f":"AT8/(AV4-AT20)","v":0},{"$f":"IF(AU8=0,0,(AU8*((LOG(AU8))/LOG(2))))","v":0}]
[12,328,14,333,13,338,23,360,null,null,0,1112,null,1121,{"$f":"COUNTIF($L$7:$L$500,N9)","v":1},{"$f":"O9/$Q$4","v":4.9751243781094526E-3},{"$f":"IF(P9=0,0,(P9*((LOG(P9))/LOG(2))))","v":-3.8064933786959847E-2},null,null,{"$f":"N9","v":1121},{"$f":"COUNTIF(L7:L40,T9)","v":1},{"$f":"U9/(W4-U20)","v":2.9411764705882353E-2},{"$f":"IF(V9=0,0,(V9*((LOG(V9))/LOG(2))))","v":-0.14963126003677468},null,{"$f":"N9","v":1121},{"$f":"COUNTIF(L41:L73,Y9)","v":0},{"$f":"Z9/(AB4-Z20)","v":0},{"$f":"IF(AA9=0,0,(AA9*((LOG(AA9))/LOG(2))))","v":0},null,{"$f":"N9","v":1121},{"$f":"COUNTIF(L74:L107,AD9)","v":0},{"$f":"AE9/(AG4-AE20)","v":0},{"$f":"IF(AF9=0,0,(AF9*((LOG(AF9))/LOG(2))))","v":0},null,{"$f":"N9","v":1121},{"$f":"COUNTIF(L108:L140,AI9)","v":0},{"$f":"AJ9/(AL4-AJ20)","v":0},{"$f":"IF(AK9=0,0,(AK9*((LOG(AK9))/LOG(2))))","v":0},null,{"$f":"N9","v":1121},{"$f":"COUNTIF(L141:L174,AN9)","v":0},{"$f":"AO9/(AQ4-AO20)","v":0},{"$f":"IF(AP9=0,0,(AP9*((LOG(AP9))/LOG(2))))","v":0},null,{"$f":"N9","v":1121},{"$f":"COUNTIF(L175:L207,AS9)","v":0},{"$f":"AT9/(AV4-AT20)","v":0},{"$f":"IF(AU9=0,0,(AU9*((LOG(AU9))/LOG(2))))","v":0}]
[12,467,14,472,13,478,14,487,null,null,0,1111,null,1122,{"$f":"COUNTIF($L$7:$L$500,N10)","v":1},{"$f":"O10/$Q$4","v":4.9751243781094526E-3},{"$f":"IF(P10=0,0,(P10*((LOG(P10))/LOG(2))))","v":-3.8064933786959847E-2},null,null,{"$f":"N10","v":1122},{"$f":"COUNTIF(L7:L40,T10)","v":0},{"$f":"U10/(W4-U20)","v":0},{"$f":"IF(V10=0,0,(V10*((LOG(V10))/LOG(2))))","v":0},null,{"$f":"N10","v":1122},{"$f":"COUNTIF(L41:L73,Y10)","v":0},{"$f":"Z10/(AB4-Z20)","v":0},{"$f":"IF(AA10=0,0,(AA10*((LOG(AA10))/LOG(2))))","v":0},null,{"$f":"N10","v":1122},{"$f":"COUNTIF(L74:L107,AD10)","v":0},{"$f":"AE10/(AG4-AE20)","v":0},{"$f":"IF(AF10=0,0,(AF10*((LOG(AF10))/LOG(2))))","v":0},null,{"$f":"N10","v":1122},{"$f":"COUNTIF(L108:L140,AI10)","v":0},{"$f":"AJ10/(AL4-AJ20)","v":0},{"$f":"IF(AK10=0,0,(AK10*((LOG(AK10))/LOG(2))))","v":0},null,{"$f":"N10","v":1122},{"$f":"COUNTIF(L141:L174,AN10)","v":0},{"$f":"AO10/(AQ4-AO20)","v":0},{"$f":"IF(AP10=0,0,(AP10*((LOG(AP10))/LOG(2))))","v":0},null,{"$f":"N10","v":1122},{"$f":"COUNTIF(L175:L207,AS10)","v":1},{"$f":"AT10/(AV4-AT20)","v":3.0303030303030304E-2},{"$f":"IF(AU10=0,0,(AU10*((LOG(AU10))/LOG(2))))","v":-0.15286042785934709}]
[12,581,14,585,13,591,23,623,null,null,0,1112,null,1211,{"$f":"COUNTIF($L$7:$L$500,N11)","v":0},{"$f":"O11/$Q$4","v":0},{"$f":"IF(P11=0,0,(P11*((LOG(P11))/LOG(2))))","v":0},null,null,{"$f":"N11","v":1211},{"$f":"COUNTIF(L7:L40,T11)","v":0},{"$f":"U11/(W4-U20)","v":0},{"$f":"IF(V11=0,0,(V11*((LOG(V11))/LOG(2))))","v":0},null,{"$f":"N11","v":1211},{"$f":"COUNTIF(L41:L73,Y11)","v":0},{"$f":"Z11/(AB4-Z20)","v":0},{"$f":"IF(AA11=0,0,(AA11*((LOG(AA11))/LOG(2))))","v":0},null,{"$f":"N11","v":1211},{"$f":"COUNTIF(L74:L107,AD11)","v":0},{"$f":"AE11/(AG4-AE20)","v":0},{"$f":"IF(AF11=0,0,(AF11*((LOG(AF11))/LOG(2))))","v":0},null,{"$f":"N11","v":1211},{"$f":"COUNTIF(L108:L140,AI11)","v":0},{"$f":"AJ11/(AL4-AJ20)","v":0},{"$f":"IF(AK11=0,0,(AK11*((LOG(AK11))/LOG(2))))","v":0},null,{"$f":"N11","v":1211},{"$f":"COUNTIF(L141:L174,AN11)","v":0},{"$f":"AO11/(AQ4-AO20)","v":0},{"$f":"IF(AP11=0,0,(AP11*((LOG(AP11))/LOG(2))))","v":0},null,{"$f":"N11","v":1211},{"$f":"COUNTIF(L175:L207,AS11)","v":0},{"$f":"AT11/(AV4-AT20)","v":0},{"$f":"IF(AU11=0,0,(AU11*((LOG(AU11))/LOG(2))))","v":0}]
[12,726,14,731,13,737,14,743,null,null,0,1111,null,1212,{"$f":"COUNTIF($L$7:$L$500,N12)","v":1},{"$f":"O12/$Q$4","v":4.9751243781094526E-3},{"$f":"IF(P12=0,0,(P12*((LOG(P12))/LOG(2))))","v":-3.8064933786959847E-2},null,null,{"$f":"N12","v":1212},{"$f":"COUNTIF(L7:L40,T12)","v":1},{"$f":"U12/(W4-U20)","v":2.9411764705882353E-2},{"$f":"IF(V12=0,0,(V12*((LOG(V12))/LOG(2))))","v":-0.14963126003677468},null,{"$f":"N12","v":1212},{"$f":"COUNTIF(L41:L73,Y12)","v":0},{"$f":"Z12/(AB4-Z20)","v":0},{"$f":"IF(AA12=0,0,(AA12*((LOG(AA12))/LOG(2))))","v":0},null,{"$f":"N12","v":1212},{"$f":"COUNTIF(L74:L107,AD12)","v":0},{"$f":"AE12/(AG4-AE20)","v":0},{"$f":"IF(AF12=0,0,(AF12*((LOG(AF12))/LOG(2))))","v":0},null,{"$f":"N12","v":1212},{"$f":"COUNTIF(L108:L140,AI12)","v":0},{"$f":"AJ12/(AL4-AJ20)","v":0},{"$f":"IF(AK12=0,0,(AK12*((LOG(AK12))/LOG(2))))","v":0},null,{"$f":"N12","v":1212},{"$f":"COUNTIF(L141:L174,AN12)","v":0},{"$f":"AO12/(AQ4-AO20)","v":0},{"$f":"IF(AP12=0,0,(AP12*((LOG(AP12))/LOG(2))))","v":0},null,{"$f":"N12","v":1212},{"$f":"COUNTIF(L175:L207,AS12)","v":0},{"$f":"AT12/(AV4-AT20)","v":0},{"$f":"IF(AU12=0,0,(AU12*((LOG(AU12))/LOG(2))))","v":0}]
[12,848,14,855,13,860,14,871,null,null,0,1111,null,1221,{"$f":"COUNTIF($L$7:$L$500,N13)","v":0},{"$f":"O13/$Q$4","v":0},{"$f":"IF(P13=0,0,(P13*((LOG(P13))/LOG(2))))","v":0},null,null,{"$f":"N13","v":1221},{"$f":"COUNTIF(L7:L40,T13)","v":0},{"$f":"U13/(W4-U20)","v":0},{"$f":"IF(V13=0,0,(V13*((LOG(V13))/LOG(2))))","v":0},null,{"$f":"N13","v":1221},{"$f":"COUNTIF(L41:L73,Y13)","v":0},{"$f":"Z13/(AB4-Z20)","v":0},{"$f":"IF(AA13=0,0,(AA13*((LOG(AA13))/LOG(2))))","v":0},null,{"$f":"N13","v":1221},{"$f":"COUNTIF(L74:L107,AD13)","v":0},{"$f":"AE13/(AG4-AE20)","v":0},{"$f":"IF(AF13=0,0,(AF13*((LOG(AF13))/LOG(2))))","v":0},null,{"$f":"N13","v":1221},{"$f":"COUNTIF(L108:L140,AI13)","v":0},{"$f":"AJ13/(AL4-AJ20)","v":0},{"$f":"IF(AK13=0,0,(AK13*((LOG(AK13))/LOG(2))))","v":0},null,{"$f":"N13","v":1221},{"$f":"COUNTIF(L141:L174,AN13)","v":0},{"$f":"AO13/(AQ4-AO20)","v":0},{"$f":"IF(AP13=0,0,(AP13*((LOG(AP13))/LOG(2))))","v":0},null,{"$f":"N13","v":1221},{"$f":"COUNTIF(L175:L207,AS13)","v":0},{"$f":"AT13/(AV4-AT20)","v":0},{"$f":"IF(AU13=0,0,(AU13*((LOG(AU13))/LOG(2))))","v":0}]
[12,963,14,967,13,972,14,976,null,null,0,1111,null,1222,{"$f":"COUNTIF($L$7:$L$500,N14)","v":0},{"$f":"O14/$Q$4","v":0},{"$f":"IF(P14=0,0,(P14*((LOG(P14))/LOG(2))))","v":0},null,null,{"$f":"N14","v":1222},{"$f":"COUNTIF(L7:L40,T14)","v":0},{"$f":"U14/(W4-U20)","v":0},{"$f":"IF(V14=0,0,(V14*((LOG(V14))/LOG(2))))","v":0},null,{"$f":"N14","v":1222},{"$f":"COUNTIF(L41:L73,Y14)","v":0},{"$f":"Z14/(AB4-Z20)","v":0},{"$f":"IF(AA14=0,0,(AA14*((LOG(AA14))/LOG(2))))","v":0},null,{"$f":"N14","v":1222},{"$f":"COUNTIF(L74:L107,AD14)","v":0},{"$f":"AE14/(AG4-AE20)","v":0},{"$f":"IF(AF14=0,0,(AF14*((LOG(AF14))/LOG(2))))","v":0},null,{"$f":"N14","v":1222},{"$f":"COUNTIF(L108:L140,AI14)","v":0},{"$f":"AJ14/(AL4-AJ20)","v":0},{"$f":"IF(AK14=0,0,(AK14*((LOG(AK14))/LOG(2))))","v":0},null,{"$f":"N14","v":1222},{"$f":"COUNTIF(L141:L174,AN14)","v":0},{"$f":"AO14/(AQ4-AO20)","v":0},{"$f":"IF(AP14=0,0,(AP14*((LOG(AP14))/LOG(2))))","v":0},null,{"$f":"N14","v":1222},{"$f":"COUNTIF(L175:L207,AS14)","v":0},{"$f":"AT14/(AV4-AT20)","v":0},{"$f":"IF(AU14=0,0,(AU14*((LOG(AU14))/LOG(2))))","v":0}]
[12,1075,14,1080,13,1085,14,1093,null,null,0,1111,null,2111,{"$f":"COUNTIF($L$7:$L$500,N15)","v":0},{"$f":"O15/$Q$4","v":0},{"$f":"IF(P15=0,0,(P15*((LOG(P15))/LOG(2))))","v":0},null,null,{"$f":"N15","v":2111},{"$f":"COUNTIF(L7:L40,T15)","v":0},{"$f":"U15/(W4-U20)","v":0},{"$f":"IF(V15=0,0,(V15*((LOG(V15))/LOG(2))))","v":0},null,{"$f":"N15","v":2111},{"$f":"COUNTIF(L41:L73,Y15)","v":0},{"$f":"Z15/(AB4-Z20)","v":0},{"$f":"IF(AA15=0,0,(AA15*((LOG(AA15))/LOG(2))))","v":0},null,{"$f":"N15","v":2111},{"$f":"COUNTIF(L74:L107,AD15)","v":0},{"$f":"AE15/(AG4-AE20)","v":0},{"$f":"IF(AF15=0,0,(AF15*((LOG(AF15))/LOG(2))))","v":0},null,{"$f":"N15","v":2111},{"$f":"COUNTIF(L108:L140,AI15)","v":0},{"$f":"AJ15/(AL4-AJ20)","v":0},{"$f":"IF(AK15=0,0,(AK15*((LOG(AK15))/LOG(2))))","v":0},null,{"$f":"N15","v":2111},{"$f":"COUNTIF(L141:L174,AN15)","v":0},{"$f":"AO15/(AQ4-AO20)","v":0},{"$f":"IF(AP15=0,0,(AP15*((LOG(AP15))/LOG(2))))","v":0},null,{"$f":"N15","v":2111},{"$f":"COUNTIF(L175:L207,AS15)","v":0},{"$f":"AT15/(AV4-AT20)","v":0},{"$f":"IF(AU15=0,0,(AU15*((LOG(AU15))/LOG(2))))","v":0}]
[12,1204,14,1210,13,1215,14,1224,null,null,0,1111,null,2112,{"$f":"COUNTIF($L$7:$L$500,N16)","v":0},{"$f":"O16/$Q$4","v":0},{"$f":"IF(P16=0,0,(P16*((LOG(P16))/LOG(2))))","v":0},null,null,{"$f":"N16","v":2112},{"$f":"COUNTIF(L7:L40,T16)","v":0},{"$f":"U16/(W4-U20)","v":0},{"$f":"IF(V16=0,0,(V16*((LOG(V16))/LOG(2))))","v":0},null,{"$f":"N16","v":2112},{"$f":"COUNTIF(L41:L73,Y16)","v":0},{"$f":"Z16/(AB4-Z20)","v":0},{"$f":"IF(AA16=0,0,(AA16*((LOG(AA16))/LOG(2))))","v":0},null,{"$f":"N16","v":2112},{"$f":"COUNTIF(L74:L107,AD16)","v":0},{"$f":"AE16/(AG4-AE20)","v":0},{"$f":"IF(AF16=0,0,(AF16*((LOG(AF16))/LOG(2))))","v":0},null,{"$f":"N16","v":2112},{"$f":"COUNTIF(L108:L140,AI16)","v":0},{"$f":"AJ16/(AL4-AJ20)","v":0},{"$f":"IF(AK16=0,0,(AK16*((LOG(AK16))/LOG(2))))","v":0},null,{"$f":"N16","v":2112},{"$f":"COUNTIF(L141:L174,AN16)","v":0},{"$f":"AO16/(AQ4-AO20)","v":0},{"$f":"IF(AP16=0,0,(AP16*((LOG(AP16))/LOG(2))))","v":0},null,{"$f":"N16","v":2112},{"$f":"COUNTIF(L175:L207,AS16)","v":0},{"$f":"AT16/(AV4-AT20)","v":0},{"$f":"IF(AU16=0,0,(AU16*((LOG(AU16))/LOG(2))))","v":0}]
[12,1315,14,1319,13,1324,14,1333,null,null,0,1111,null,2121,{"$f":"COUNTIF($L$7:$L$500,N17)","v":0},{"$f":"O17/$Q$4","v":0},{"$f":"IF(P17=0,0,(P17*((LOG(P17))/LOG(2))))","v":0},null,null,{"$f":"N17","v":2121},{"$f":"COUNTIF(L7:L40,T17)","v":0},{"$f":"U17/(W4-U20)","v":0},{"$f":"IF(V17=0,0,(V17*((LOG(V17))/LOG(2))))","v":0},null,{"$f":"N17","v":2121},{"$f":"COUNTIF(L41:L73,Y17)","v":0},{"$f":"Z17/(AB4-Z20)","v":0},{"$f":"IF(AA17=0,0,(AA17*((LOG(AA17))/LOG(2))))","v":0},null,{"$f":"N17","v":2121},{"$f":"COUNTIF(L74:L107,AD17)","v":0},{"$f":"AE17/(AG4-AE20)","v":0},{"$f":"IF(AF17=0,0,(AF17*((LOG(AF17))/LOG(2))))","v":0},null,{"$f":"N17","v":2121},{"$f":"COUNTIF(L108:L140,AI17)","v":0},{"$f":"AJ17/(AL4-AJ20)","v":0},{"$f":"IF(AK17=0,0,(AK17*((LOG(AK17))/LOG(2))))","v":0},null,{"$f":"N17","v":2121},{"$f":"COUNTIF(L141:L174,AN17)","v":0},{"$f":"AO17/(AQ4-AO20)","v":0},{"$f":"IF(AP17=0,0,(AP17*((LOG(AP17))/LOG(2))))","v":0},null,{"$f":"N17","v":2121},{"$f":"COUNTIF(L175:L207,AS17)","v":0},{"$f":"AT17/(AV4-AT20)","v":0},{"$f":"IF(AU17=0,0,(AU17*((LOG(AU17))/LOG(2))))","v":0}]
[12,1437,14,1442,13,1451,14,1462,null,null,0,1111,null,2122,{"$f":"COUNTIF($L$7:$L$500,N18)","v":0},{"$f":"O18/$Q$4","v":0},{"$f":"IF(P18=0,0,(P18*((LOG(P18))/LOG(2))))","v":0},null,null,{"$f":"N18","v":2122},{"$f":"COUNTIF(L7:L40,T18)","v":0},{"$f":"U18/(W4-U20)","v":0},{"$f":"IF(V18=0,0,(V18*((LOG(V18))/LOG(2))))","v":0},null,{"$f":"N18","v":2122},{"$f":"COUNTIF(L41:L73,Y18)","v":0},{"$f":"Z18/(AB4-Z20)","v":0},{"$f":"IF(AA18=0,0,(AA18*((LOG(AA18))/LOG(2))))","v":0},null,{"$f":"N18","v":2122},{"$f":"COUNTIF(L74:L107,AD18)","v":0},{"$f":"AE18/(AG4-AE20)","v":0},{"$f":"IF(AF18=0,0,(AF18*((LOG(AF18))/LOG(2))))","v":0},null,{"$f":"N18","v":2122},{"$f":"COUNTIF(L108:L140,AI18)","v":0},{"$f":"AJ18/(AL4-AJ20)","v":0},{"$f":"IF(AK18=0,0,(AK18*((LOG(AK18))/LOG(2))))","v":0},null,{"$f":"N18","v":2122},{"$f":"COUNTIF(L141:L174,AN18)","v":0},{"$f":"AO18/(AQ4-AO20)","v":0},{"$f":"IF(AP18=0,0,(AP18*((LOG(AP18))/LOG(2))))","v":0},null,{"$f":"N18","v":2122},{"$f":"COUNTIF(L175:L207,AS18)","v":0},{"$f":"AT18/(AV4-AT20)","v":0},{"$f":"IF(AU18=0,0,(AU18*((LOG(AU18))/LOG(2))))","v":0}]
[12,1566,14,1570,13,1575,14,1584,null,null,0,1111,null,2211,{"$f":"COUNTIF($L$7:$L$500,N19)","v":0},{"$f":"O19/$Q$4","v":0},{"$f":"IF(P19=0,0,(P19*((LOG(P19))/LOG(2))))","v":0},null,null,{"$f":"N19","v":2211},{"$f":"COUNTIF(L7:L40,T19)","v":0},{"$f":"U19/(W4-U20)","v":0},{"$f":"IF(V19=0,0,(V19*((LOG(V19))/LOG(2))))","v":0},null,{"$f":"N19","v":2211},{"$f":"COUNTIF(L41:L73,Y19)","v":0},{"$f":"Z19/(AB4-Z20)","v":0},{"$f":"IF(AA19=0,0,(AA19*((LOG(AA19))/LOG(2))))","v":0},null,{"$f":"N19","v":2211},{"$f":"COUNTIF(L74:L107,AD19)","v":0},{"$f":"AE19/(AG4-AE20)","v":0},{"$f":"IF(AF19=0,0,(AF19*((LOG(AF19))/LOG(2))))","v":0},null,{"$f":"N19","v":2211},{"$f":"COUNTIF(L108:L140,AI19)","v":0},{"$f":"AJ19/(AL4-AJ20)","v":0},{"$f":"IF(AK19=0,0,(AK19*((LOG(AK19))/LOG(2))))","v":0},null,{"$f":"N19","v":2211},{"$f":"COUNTIF(L141:L174,AN19)","v":0},{"$f":"AO19/(AQ4-AO20)","v":0},{"$f":"IF(AP19=0,0,(AP19*((LOG(AP19))/LOG(2))))","v":0},null,{"$f":"N19","v":2211},{"$f":"COUNTIF(L175:L207,AS19)","v":0},{"$f":"AT19/(AV4-AT20)","v":0},{"$f":"IF(AU19=0,0,(AU19*((LOG(AU19))/LOG(2))))","v":0}]
[12,1682,14,1686,13,1691,14,1695,null,null,0,1111,null,2212,{"$f":"COUNTIF($L$7:$L$500,N20)","v":0},{"$f":"O20/$Q$4","v":0},{"$f":"IF(P20=0,0,(P20*((LOG(P20))/LOG(2))))","v":0},null,null,{"$f":"N20","v":2212},{"$f":"COUNTIF(L7:L40,T20)","v":0},null,null,null,{"$f":"N20","v":2212},{"$f":"COUNTIF(L41:L73,Y20)","v":0},null,null,null,{"$f":"N20","v":2212},{"$f":"COUNTIF(L74:L107,AD20)","v":0},null,null,null,{"$f":"N20","v":2212},{"$f":"COUNTIF(L108:L140,AI20)","v":0},null,null,null,{"$f":"N20","v":2212},{"$f":"COUNTIF(L141:L174,AN20)","v":0},null,null,null,{"$f":"N20","v":2212},{"$f":"COUNTIF(L175:L207,AS20)","v":0}]
[12,1795,14,1800,13,1804,14,1822,null,null,0,1111,null,2221,{"$f":"COUNTIF($L$7:$L$500,N21)","v":0},{"$f":"O21/$Q$4","v":0},{"$f":"IF(P21=0,0,(P21*((LOG(P21))/LOG(2))))","v":0},null,null,{"$f":"N21","v":2221},{"$f":"COUNTIF(L7:L40,T21)","v":0},{"$f":"U21/(W4-U20)","v":0},{"$f":"IF(V21=0,0,(V21*((LOG(V21))/LOG(2))))","v":0},null,{"$f":"N21","v":2221},{"$f":"COUNTIF(L41:L73,Y21)","v":0},{"$f":"Z21/(AB4-Z20)","v":0},{"$f":"IF(AA21=0,0,(AA21*((LOG(AA21))/LOG(2))))","v":0},null,{"$f":"N21","v":2221},{"$f":"COUNTIF(L74:L107,AD21)","v":0},{"$f":"AE21/(AG4-AE20)","v":0},{"$f":"IF(AF21=0,0,(AF21*((LOG(AF21))/LOG(2))))","v":0},null,{"$f":"N21","v":2221},{"$f":"COUNTIF(L108:L140,AI21)","v":0},{"$f":"AJ21/(AL4-AJ20)","v":0},{"$f":"IF(AK21=0,0,(AK21*((LOG(AK21))/LOG(2))))","v":0},null,{"$f":"N21","v":2221},{"$f":"COUNTIF(L141:L174,AN21)","v":0},{"$f":"AO21/(AQ4-AO20)","v":0},{"$f":"IF(AP21=0,0,(AP21*((LOG(AP21))/LOG(2))))","v":0},null,{"$f":"N21","v":2221},{"$f":"COUNTIF(L175:L207,AS21)","v":0},{"$f":"AT21/(AV4-AT20)","v":0},{"$f":"IF(AU21=0,0,(AU21*((LOG(AU21))/LOG(2))))","v":0}]
[12,1924,14,1933,13,1941,14,1960,null,null,0,1111,null,2222,{"$f":"COUNTIF($L$7:$L$500,N22)","v":0},{"$f":"O22/$Q$4","v":0},{"$f":"IF(P22=0,0,(P22*((LOG(P22))/LOG(2))))","v":0},null,null,{"$f":"N22","v":2222},{"$f":"COUNTIF(L7:L40,T22)","v":0},{"$f":"U22/(W4-U20)","v":0},{"$f":"IF(V22=0,0,(V22*((LOG(V22))/LOG(2))))","v":0},null,{"$f":"N22","v":2222},{"$f":"COUNTIF(L41:L73,Y22)","v":0},{"$f":"Z22/(AB4-Z20)","v":0},{"$f":"IF(AA22=0,0,(AA22*((LOG(AA22))/LOG(2))))","v":0},null,{"$f":"N22","v":2222},{"$f":"COUNTIF(L74:L107,AD22)","v":0},{"$f":"AE22/(AG4-AE20)","v":0},{"$f":"IF(AF22=0,0,(AF22*((LOG(AF22))/LOG(2))))","v":0},null,{"$f":"N22","v":2222},{"$f":"COUNTIF(L108:L140,AI22)","v":0},{"$f":"AJ22/(AL4-AJ20)","v":0},{"$f":"IF(AK22=0,0,(AK22*((LOG(AK22))/LOG(2))))","v":0},null,{"$f":"N22","v":2222},{"$f":"COUNTIF(L141:L174,AN22)","v":0},{"$f":"AO22/(AQ4-AO20)","v":0},{"$f":"IF(AP22=0,0,(AP22*((LOG(AP22))/LOG(2))))","v":0},null,{"$f":"N22","v":2222},{"$f":"COUNTIF(L175:L207,AS22)","v":0},{"$f":"AT22/(AV4-AT20)","v":0},{"$f":"IF(AU22=0,0,(AU22*((LOG(AU22))/LOG(2))))","v":0}]
[12,2054,14,2059,13,2065,14,2074,null,null,0,1111,null,null,null,{"$f":"SUM(P7:P22)","v":1},{"$f":"-SUM(Q7:Q22)","v":0.24714970767973679},null,null,null,null,{"$f":"SUM(V7:V22)","v":1},{"$f":"-SUM(W7:W22)","v":0.69902996277223473},null,null,null,{"$f":"SUM(AA7:AA22)","v":1},{"$f":"-SUM(AB7:AB22)","v":0},null,null,null,{"$f":"SUM(AF7:AF22)","v":1},{"$f":"-SUM(AG7:AG22)","v":0},null,null,null,{"$f":"SUM(AK7:AK22)","v":1},{"$f":"-SUM(AL7:AL22)","v":0},null,null,null,{"$f":"SUM(AP7:AP22)","v":1},{"$f":"-SUM(AQ7:AQ22)","v":0.19143325481419343},null,null,null,{"$f":"SUM(AU7:AU22)","v":1},{"$f":"-SUM(AV7:AV22)","v":0.19590927087360493}]
[12,2177,14,2181,13,2186,14,2195,null,null,0,1111,null,null,null,"U=",{"$f":"Q23/(LOG(Q4)/LOG(2))","v":3.2302710484191512E-2},null,null,null,null,"U1=",{"$f":"W23/(LOG(W4)/LOG(2))","v":0.1374024704621597},null,null,null,"U2=",{"$f":"AB23/(LOG(AB4)/LOG(2))","v":0},null,null,null,"U3=",{"$f":"AG23/(LOG(AG4)/LOG(2))","v":0},null,null,null,"U4=",{"$f":"AL23/(LOG(AL4)/LOG(2))","v":0},null,null,null,"U5=",{"$f":"AQ23/(LOG(AQ4)/LOG(2))","v":3.7628433029919708E-2},null,null,null,"U6=",{"$f":"AV23/(LOG(AV4)/LOG(2))","v":3.8837027051827726E-2}]
[12,2297,14,2308,13,2331,14,2339,null,null,0,1111]
[12,2444,14,2448,13,2462,14,2469,null,null,0,1111]
[12,2565,14,2570,13,2579,14,2610,null,null,0,1111,null,"Total Target Seq"]
[12,2712,14,2716,13,2721,14,2731,null,null,0,1111,null,{"$f":"COUNTIF(L7:L207,G3)","v":0},null,34,33,34,33,34,33]
[12,2833,14,2838,13,2848,14,2857,null,null,0,1111,null,null,null,"% of reinforcement given in 6 equal intervals based on number of trials "]
[12,2964,14,2969,13,2975,14,2984,null,null,0,1111,null,null,null,"%_1","%_2","%_3","%_4","%_5","%_6"]
[12,3091,14,3098,13,3103,14,3108,null,null,0,1111,null,null,"target sequence",{"$f":"$G$3","v":2212},{"$f":"$G$3","v":2212},{"$f":"$G$3","v":2212},{"$f":"$G$3","v":2212},{"$f":"$G$3","v":2212},{"$f":"$G$3","v":2212}]
[12,3215,14,3221,13,3226,14,3233,null,null,0,1111,null,null,"total reinforcement",{"$f":"U20","v":0},{"$f":"Z20","v":0},{"$f":"AE20","v":0},{"$f":"AJ20","v":0},{"$f":"AO20","v":0},{"$f":"AT20","v":0}]
[12,3330,14,3335,13,3340,14,3349,null,null,0,1111,null,null,"% target"]
[12,3454,14,3459,13,3464,14,3469,null,null,0,1111,null,null,"CCRF"]
[12,3575,14,3580,13,3584,14,3592,null,null,0,1111,null,null,"% CCRf"]
[12,3699,14,3704,13,3709,14,3718,null,null,0,1111,null,null,"average response rate",{"$f":"H40/P28","v":124},{"$f":"(H73-H40)/Q28","v":120.84848484848484},{"$f":"(H107-H73)/R28","v":117.52941176470588},{"$f":"(H140-H107)/S28","v":116.72727272727273},{"$f":"(H174-H140)/T28","v":116.76470588235294},{"$f":"(H207-H174)/U28","v":118.21212121212122}]
[12,3822,14,3830,13,3835,14,3851,null,null,0,1111]
[12,3958,14,3963,13,3968,14,3976,null,null,0,1111]
[12,4067,14,4074,13,4081,14,4086,null,null,0,1111]
[12,4190,14,4194,13,4208,14,4216,null,null,0,1111]
[12,4322,14,4328,13,4334,14,4339,null,null,0,1111]
[12,4440,14,4445,13,4450,14,4455,null,null,0,1111]
[12,4576,14,4581,13,4589,14,4597,null,null,0,1111]
[12,4702,14,4708,13,4712,14,4721,null,null,0,1111]
[12,4826,14,4830,13,4840,14,4845,null,null,0,1111]
[12,4950,14,4955,13,4960,14,4965,null,null,0,1111]
[12,5056,14,5062,13,5067,14,5071,null,null,0,1111]
[12,5163,14,5168,13,5177,14,5185,null,null,0,1111]
[12,5289,14,5294,13,5299,14,5304,null,null,0,1111]
[12,5410,14,5415,13,5417,14,5426,null,null,0,1111]
[12,5524,14,5533,13,5542,14,5550,null,null,0,1111]
[12,5661,14,5665,13,5674,14,5682,null,null,0,1111]
[12,5784,14,5789,13,5799,14,5807,null,null,0,1111]
[12,5902,14,5907,13,5912,14,5920,null,null,0,1111]
[12,6023,14,6029,13,6034,14,6043,null,null,0,1111]
[12,6149,14,6155,13,6160,14,6168,null,null,0,1111]
[12,6275,14,6279,13,6284,14,6291,null,null,0,1111]
[12,6396,14,6401,13,6406,14,6410,null,null,0,1111]
[12,6511,14,6516,13,6524,14,6532,null,null,0,1111]
[12,6637,14,6642,13,6647,14,6653,null,null,0,1111]
[12,6749,14,6754,13,6760,14,6768,null,null,0,1111]
[12,6864,14,6869,13,6875,14,6880,null,null,0,1111]
[12,6969,14,6976,13,6981,14,6989,null,null,0,1111]
[12,7087,14,7092,13,7096,14,7110,null,null,0,1111]
[12,7209,14,7214,13,7224,14,7238,null,null,0,1111]
[12,7345,14,7351,13,7357,14,7362,null,null,0,1111]
[12,7457,14,7463,13,7473,14,7480,null,null,0,1111]
[12,7581,14,7586,13,7591,14,7604,null,null,0,1111]
[12,7705,14,7715,13,7720,14,7725,null,null,0,1111]
[12,7823,14,7828,13,7832,14,7836,null,null,0,1111]
[12,7934,14,7939,13,7947,14,7961,null,null,0,1111]
[12,8061,14,8071,13,8082,14,8089,null,null,0,1111]
[12,8187,14,8192,13,8198,14,8204,null,null,0,1111]
[12,8315,14,8320,13,8325,14,8336,null,null,0,1111]
[12,8430,14,8436,13,8441,14,8449,null,null,0,1111]
[12,8546,14,8551,13,8555,14,8563,null,null,0,1111]
[12,8664,14,8670,13,8676,14,8681,null,null,0,1111]
[12,8780,14,8785,13,8790,14,8800,null,null,0,1111]
[12,8895,14,8901,13,8906,14,8913,null,null,0,1111]
[12,9017,14,9027,13,9035,14,9042,null,null,0,1111]
[12,9150,14,9155,13,9162,14,9170,null,null,0,1111]
[12,9275,14,9282,13,9286,14,9294,null,null,0,1111]
[12,9381,14,9387,13,9391,14,9396,null,null,0,1111]
[12,9495,14,9499,13,9504,14,9517,null,null,0,1111]
[12,9626,14,9631,13,9644,14,9652,null,null,0,1111]
[12,9752,14,9757,13,9766,14,9774,null,null,0,1111]
[12,9871,14,9876,13,9881,14,9899,null,null,0,1111]
[12,10003,14,10013,13,10020,14,10029,null,null,0,1111]
[12,10132,14,10137,13,10141,14,10146,null,null,0,1111]
[12,10245,14,10250,13,10255,14,10259,null,null,0,1111]
[12,10354,14,10359,13,10363,14,10368,null,null,0,1111]
[12,10455,14,10459,13,10465,14,10469,null,null,0,1111]
[12,10571,14,10580,13,10585,14,10593,null,null,0,1111]
[12,10693,14,10697,13,10702,14,10707,null,null,0,1111]
[12,10805,14,10809,13,10813,14,10821,null,null,0,1111]
[12,10920,14,10926,13,10934,14,10939,null,null,0,1111]
[12,11039,14,11044,13,11049,14,11053,null,null,0,1111]
[12,11155,14,11160,13,11164,14,11173,null,null,0,1111]
[12,11276,14,11280,13,11285,14,11290,null,null,0,1111]
[12,11379,14,11385,13,11390,14,11396,null,null,0,1111]
[12,11493,14,11498,13,11503,14,11507,null,null,0,1111]
[12,11600,14,11605,13,11614,14,11623,null,null,0,1111]
[12,11719,14,11724,13,11729,14,11737,null,null,0,1111]
[12,11833,14,11838,13,11843,14,11848,null,null,0,1111]
[12,11944,14,11954,13,11959,14,11967,null,null,0,1111]
[12,12065,14,12070,13,12079,14,12087,null,null,0,1111]
[12,12183,14,12188,13,12192,14,12200,null,null,0,1111]
[12,12301,14,12305,13,12310,14,12314,null,null,0,1111]
[12,12417,14,12422,13,12427,14,12437,null,null,0,1111]
[12,12539,14,12543,13,12551,14,12559,null,null,0,1111]
[12,12659,14,12664,13,12669,14,12675,null,null,0,1111]
[12,12770,14,12775,13,12779,14,12786,null,null,0,1111]
[12,12891,14,12898,13,12907,14,12914,null,null,0,1111]
[12,13017,14,13022,13,13028,14,13035,null,null,0,1111]
[12,13134,14,13138,13,13143,14,13151,null,null,0,1111]
[12,13248,14,13253,13,13257,14,13262,null,null,0,1111]
[12,13365,14,13370,13,13375,14,13381,null,null,0,1111]
[12,13479,14,13485,13,13489,14,13494,null,null,0,1111]
[12,13581,14,13586,13,13591,14,13598,null,null,0,1111]
[12,13699,14,13704,13,13708,14,13714,null,null,0,1111]
[12,13807,14,13811,13,13816,14,13824,null,null,0,1111]
[12,13922,14,13929,13,13933,14,13941,null,null,0,1111]
[12,14049,14,14054,13,14061,14,14073,null,null,0,1111]
[12,14167,14,14175,13,14180,14,14185,null,null,0,1111]
[12,14282,14,14287,13,14293,14,14298,null,null,0,1111]
[12,14398,14,14403,13,14408,14,14417,null,null,0,1111]
[12,14514,14,14520,13,14525,14,14533,null,null,0,1111]
[12,14632,14,14637,13,14642,14,14647,null,null,0,1111]
[12,14744,14,14749,13,14753,14,14766,null,null,0,1111]
[12,14869,14,14873,13,14878,14,14882,null,null,0,1111]
[12,14985,14,14990,13,14994,14,15000,null,null,0,1111]
[12,15094,14,15098,13,15107,14,15115,null,null,0,1111]
[12,15216,14,15222,13,15231,14,15238,null,null,0,1111]
[12,15338,14,15343,13,15352,14,15360,null,null,0,1111]
[12,15448,14,15453,13,15457,14,15462,null,null,0,1111]
[12,15565,14,15569,13,15574,14,15581,null,null,0,1111]
[12,15676,14,15682,13,15687,14,15695,null,null,0,1111]
[12,15795,14,15799,13,15804,14,15811,null,null,0,1111]
[12,15916,14,15922,13,15927,14,15935,null,null,0,1111]
[12,16025,14,16030,13,16043,14,16052,null,null,0,1111]
[12,16156,14,16160,13,16165,14,16172,null,null,0,1111]
[12,16276,14,16281,13,16289,14,16296,null,null,0,1111]
[12,16397,14,16402,13,16407,14,16411,null,null,0,1111]
[12,16511,14,16516,13,16521,14,16528,null,null,0,1111]
[12,16625,14,16631,13,16635,14,16639,null,null,0,1111]
[12,16727,14,16733,13,16742,14,16750,null,null,0,1111]
[12,16849,14,16854,13,16859,14,16864,null,null,0,1111]
[12,16970,14,16974,13,16983,14,16989,null,null,0,1111]
[12,17086,14,17088,13,17096,14,17112,null,null,0,1111]
[12,17212,14,17217,13,17222,14,17229,null,null,0,1111]
[12,17325,14,17330,13,17334,14,17341,null,null,0,1111]
[12,17441,14,17445,13,17450,14,17454,null,null,0,1111]
[12,17550,14,17555,13,17560,14,17569,null,null,0,1111]
[12,17658,14,17664,13,17670,14,17681,null,null,0,1111]
[12,17774,14,17779,13,17784,14,17789,null,null,0,1111]
[12,17884,14,17889,13,17896,14,17905,null,null,0,1111]
[12,18007,14,18013,13,18021,14,18030,null,null,0,1111]
[12,18138,14,18144,13,18151,23,18168,null,null,0,1112]
[12,18265,14,18269,13,18275,14,18280,null,null,0,1111]
[12,18377,14,18382,13,18386,14,18391,null,null,0,1111]
[12,18488,14,18496,13,18500,14,18504,null,null,0,1111]
[12,18591,14,18602,13,18607,14,18615,null,null,0,1111]
[12,18718,14,18723,13,18728,14,18736,null,null,0,1111]
[12,18834,14,18839,13,18847,14,18855,null,null,0,1111]
[12,18959,14,18968,13,18976,14,18985,null,null,0,1111]
[12,19086,14,19092,13,19096,14,19104,null,null,0,1111]
[12,19202,14,19207,13,19212,14,19225,null,null,0,1111]
[12,19313,14,19318,13,19322,14,19330,null,null,0,1111]
[12,19430,14,19434,13,19443,14,19451,null,null,0,1111]
[12,19550,14,19556,13,19561,14,19567,null,null,0,1111]
[12,19665,14,19670,13,19675,14,19682,null,null,0,1111]
[12,19782,14,19788,13,19792,14,19797,null,null,0,1111]
[12,19894,14,19899,13,19903,14,19907,null,null,0,1111]
[12,20004,14,20009,13,20014,14,20022,null,null,0,1111]
[12,20119,14,20125,13,20131,14,20136,null,null,0,1111]
[12,20235,14,20239,13,20244,14,20249,null,null,0,1111]
[12,20337,14,20342,13,20348,14,20353,null,null,0,1111]
[12,20456,14,20461,13,20471,14,20480,null,null,0,1111]
[12,20576,14,20583,13,20588,14,20592,null,null,0,1111]
[12,20691,14,20697,13,20703,14,20708,null,null,0,1111]
[12,20803,14,20810,13,20814,14,20822,null,null,0,1111]
[12,20927,14,20932,13,20937,14,20944,null,null,0,1111]
[12,21035,14,21044,13,21048,14,21055,null,null,0,1111]
[12,21157,14,21162,13,21167,14,21181,null,null,0,1111]
[12,21292,14,21297,13,21302,14,21307,null,null,0,1111]
[12,21415,14,21420,13,21427,14,21477,null,null,0,1111]
[12,21568,14,21573,24,21584,23,21591,null,null,0,1122]
[12,21690,14,21694,13,21699,14,21710,null,null,0,1111]
[12,21807,14,21817,13,21822,14,21830,null,null,0,1111]
[12,21929,14,21934,13,21938,14,21944,null,null,0,1111]
[12,22044,14,22048,13,22052,14,22057,null,null,0,1111]
[12,22164,14,22169,13,22173,14,22177,null,null,0,1111]
[12,22280,14,22285,13,22290,14,22295,null,null,0,1111]
[12,22402,14,22411,13,22418,14,22426,null,null,0,1111]
[12,22526,14,22531,13,22536,14,22541,null,null,0,1111]
[12,22632,14,22637,13,22642,14,22652,null,null,0,1111]
[12,22754,14,22758,13,22763,14,22779,null,null,0,1111]
[12,22881,14,22885,13,22890,14,22894,null,null,0,1111]
[12,22997,14,23001,13,23005,14,23010,null,null,0,1111]
[12,23105,14,23111,13,23115,14,23120,null,null,0,1111]
[12,23218,14,23222,13,23228,14,23232,null,null,0,1111]
[12,23338,14,23342,13,23347,14,23352,null,null,0,1111]
[12,23449,14,23454,13,23458,14,23462,null,null,0,1111]
[12,23564,14,23569,13,23577,14,23584,null,null,0,1111]
[12,23688,14,23692,13,23697,14,23702,null,null,0,1111]
[12,23798,14,23802,13,23806,14,23810,null,null,0,1111]
[12,23907,14,23914,13,23918,14,23923,null,null,1,1111]

{"sheet":"!L907B30.056","index":10,"n_rows":198,"n_cols":48,"rows_kept":198,"cut":false,"hidden":false,"merged":[[4,39,4,42],[5,39,5,40],[4,44,4,47],[5,44,5,45],[4,24,4,27],[5,24,5,25],[4,29,4,32],[5,29,5,30],[4,34,4,37],[5,34,5,35],[1,1,1,2],[5,13,5,14],[26,13,26,14],[27,13,27,14],[4,19,4,22],[5,19,5,20]]}
["Report for:!L907B30.056"]
["Date:","<date>"]
["Hen:","<hen>",null,null,null,"Correct Sequence",{"$f":"Start!J2","v":2212},null,null,null,null,null,null,null,null,"Total Sequences in Data",{"$f":"4994-COUNTBLANK(L7:L5000)","v":192},null,null,null,null,"Total Sequences in Block Data",{"$f":"COUNTA(L7:L38)","v":32},null,null,null,"Total Sequences in Block Data",{"$f":"COUNTA(L39:L70)","v":32},null,null,null,"Total Sequences in Block Data",{"$f":"COUNTA(L71:L102)","v":32},null,null,null,"Total Sequences in Block Data",{"$f":"COUNTA(L103:L134)","v":32},null,null,null,"Total Sequences in Block Data",{"$f":"COUNTA(L135:L166)","v":32},null,null,null,"Total Sequences in Block Data",{"$f":"COUNTA(L167:L198)","v":32}]
[null,null,null,null,null,null,null,null,null,null,null,null,null,null,null,"Total Sequences in Summary",{"$f":"SUM(O7:O22)","v":192},null,null,null,null,"Total Sequences in Block Summary",{"$f":"SUM(U7:U22)","v":32},null,null,null,"Total Sequences in Block Summary",{"$f":"SUM(Z7:Z22)","v":32},null,null,null,"Total Sequences in Block Summary",{"$f":"SUM(AE7:AE22)","v":32},null,null,null,"Total Sequences in Block Summary",{"$f":"SUM(AJ7:AJ22)","v":32},null,null,null,"Total Sequences in Block Summary",{"$f":"SUM(AO7:AO22)","v":32},null,null,null,"Total Sequences in Block Summary",{"$f":"SUM(AT7:AT22)","v":32}]
[null,null,null,null,null,null,null,null,null,null,null,null,null,null,null,null,null,null,null,"Block 1",null,null,null,null,"Block 2",null,null,null,null,"Block 3",null,null,null,null,"Block 4",null,null,null,null,"Block 5",null,null,null,null,"Block 6"]
["Sequence\nComponent\n1","Time\n1","Sequence\nComponent\n2","Time\n2","Sequence\nComponent\n3","Time\n3","Sequence\nComponent\n4","Time\n4","Sequence\nComponent\n5","Time\n5","Correct?\n0=No 1=Yes","Sequence",null,"Frequency",null,"Relative Frequency","Variability",null,null,"Frequency",null,"Relative Frequency","Variability",null,"Frequency",null,"Relative Frequency","Variability",null,"Frequency",null,"Relative Frequency","Variability",null,"Frequency",null,"Relative Frequency","Variability",null,"Frequency",null,"Relative Frequency","Variability",null,"Frequency",null,"Relative Frequency","Variability"]
[12,13,14,18,13,24,23,38,null,null,0,1112,null,1111,{"$f":"COUNTIF($L$7:$L$500,N7)","v":181},{"$f":"O7/$Q$4","v":0.94270833333333337},{"$f":"IF(P7=0,0,(P7*((LOG(P7))/LOG(2))))","v":-8.0240140981609837E-2},null,null,{"$f":"N7","v":1111},{"$f":"COUNTIF(L7:L38,T7)","v":26},{"$f":"U7/(W4-U20)","v":0.8125},{"$f":"IF(V7=0,0,(V7*((LOG(V7))/LOG(2))))","v":-0.24339272901036266},null,{"$f":"N7","v":1111},{"$f":"COUNTIF(L39:L70,Y7)","v":32},{"$f":"Z7/(AB4-Z20)","v":1},{"$f":"IF(AA7=0,0,(AA7*((LOG(AA7))/LOG(2))))","v":0},null,{"$f":"N7","v":1111},{"$f":"COUNTIF(L71:L102,AD7)","v":32},{"$f":"AE7/(AG4-AE20)","v":1},{"$f":"IF(AF7=0,0,(AF7*((LOG(AF7))/LOG(2))))","v":0},null,{"$f":"N7","v":1111},{"$f":"COUNTIF(L103:L134,AI7)","v":30},{"$f":"AJ7/(AL4-AJ20)","v":0.9375},{"$f":"IF(AK7=0,0,(AK7*((LOG(AK7))/LOG(2))))","v":-8.729006661701387E-2},null,{"$f":"N7","v":1111},{"$f":"COUNTIF(L135:L166,AN7)","v":30},{"$f":"AO7/(AQ4-AO20)","v":0.9375},{"$f":"IF(AP7=0,0,(AP7*((LOG(AP7))/LOG(2))))","v":-8.729006661701387E-2},null,{"$f":"N7","v":1111},{"$f":"COUNTIF(L167:L198,AS7)","v":31},{"$f":"AT7/(AV4-AT20)","v":0.96875},{"$f":"IF(AU7=0,0,(AU7*((LOG(AU7))/LOG(2))))","v":-4.4372324312714644E-2}]
[12,142,14,147,13,152,14,162,null,null,0,1111,null,1112,{"$f":"COUNTIF($L$7:$L$500,N8)","v":5},{"$f":"O8/$Q$4","v":2.6041666666666668E-2},{"$f":"IF(P8=0,0,(P8*((LOG(P8))/LOG(2))))","v":-0.13705818765192171},null,null,{"$f":"N8","v":1112},{"$f":"COUNTIF(L7:L38,T8)","v":4},{"$f":"U8/(W4-U20)","v":0.125},{"$f":"IF(V8=0,0,(V8*((LOG(V8))/LOG(2))))","v":-0.375},null,{"$f":"N8","v":1112},{"$f":"COUNTIF(L39:L70,Y8)","v":0},{"$f":"Z8/(AB4-Z20)","v":0},{"$f":"IF(AA8=0,0,(AA8*((LOG(AA8))/LOG(2))))","v":0},null,{"$f":"N8","v":1112},{"$f":"COUNTIF(L71:L102,AD8)","v":0},{"$f":"AE8/(AG4-AE20)","v":0},{"$f":"IF(AF8=0,0,(AF8*((LOG(AF8))/LOG(2))))","v":0},null,{"$f":"N8","v":1112},{"$f":"COUNTIF(L103:L134,AI8)","v":0},{"$f":"AJ8/(AL4-AJ20)","v":0},{"$f":"IF(AK8=0,0,(AK8*((LOG(AK8))/LOG(2))))","v":0},null,{"$f":"N8","v":1112},{"$f":"COUNTIF(L135:L166,AN8)","v":1},{"$f":"AO8/(AQ4-AO20)","v":3.125E-2},{"$f":"IF(AP8=0,0,(AP8*((LOG(AP8))/LOG(2))))","v":-0.15625},null,{"$f":"N8","v":1112},{"$f":"COUNTIF(L167:L198,AS8)","v":0},{"$f":"AT8/(AV4-AT20)","v":0},{"$f":"IF(AU8=0,0,(AU8*((LOG(AU8))/LOG(2))))","v":0}]
[12,264,14,269,13,274,14,279,null,null,0,1111,null,1121,{"$f":"COUNTIF($L$7:$L$500,N9)","v":0},{"$f":"O9/$Q$4","v":0},{"$f":"IF(P9=0,0,(P9*((LOG(P9))/LOG(2))))","v":0},null,null,{"$f":"N9","v":1121},{"$f":"COUNTIF(L7:L38,T9)","v":0},{"$f":"U9/(W4-U20)","v":0},{"$f":"IF(V9=0,0,(V9*((LOG(V9))/LOG(2))))","v":0},null,{"$f":"N9","v":1121},{"$f":"COUNTIF(L39:L70,Y9)","v":0},{"$f":"Z9/(AB4-Z20)","v":0},{"$f":"IF(AA9=0,0,(AA9*((LOG(AA9))/LOG(2))))","v":0},null,{"$f":"N9","v":1121},{"$f":"COUNTIF(L71:L102,AD9)","v":0},{"$f":"AE9/(AG4-AE20)","v":0},{"$f":"IF(AF9=0,0,(AF9*((LOG(AF9))/LOG(2))))","v":0},null,{"$f":"N9","v":1121},{"$f":"COUNTIF(L103:L134,AI9)","v":0},{"$f":"AJ9/(AL4-AJ20)","v":0},{"$f":"IF(AK9=0,0,(AK9*((LOG(AK9))/LOG(2))))","v":0},null,{"$f":"N9","v":1121},{"$f":"COUNTIF(L135:L166,AN9)","v":0},{"$f":"AO9/(AQ4-AO20)","v":0},{"$f":"IF(AP9=0,0,(AP9*((LOG(AP9))/LOG(2))))","v":0},null,{"$f":"N9","v":1121},{"$f":"COUNTIF(L167:L198,AS9)","v":0},{"$f":"AT9/(AV4-AT20)","v":0},{"$f":"IF(AU9=0,0,(AU9*((LOG(AU9))/LOG(2))))","v":0}]
[21,385,21,391,22,400,23,417,null,null,0,2222,null,1122,{"$f":"COUNTIF($L$7:$L$500,N10)","v":5},{"$f":"O10/$Q$4","v":2.6041666666666668E-2},{"$f":"IF(P10=0,0,(P10*((LOG(P10))/LOG(2))))","v":-0.13705818765192171},null,null,{"$f":"N10","v":1122},{"$f":"COUNTIF(L7:L38,T10)","v":1},{"$f":"U10/(W4-U20)","v":3.125E-2},{"$f":"IF(V10=0,0,(V10*((LOG(V10))/LOG(2))))","v":-0.15625},null,{"$f":"N10","v":1122},{"$f":"COUNTIF(L39:L70,Y10)","v":0},{"$f":"Z10/(AB4-Z20)","v":0},{"$f":"IF(AA10=0,0,(AA10*((LOG(AA10))/LOG(2))))","v":0},null,{"$f":"N10","v":1122},{"$f":"COUNTIF(L71:L102,AD10)","v":0},{"$f":"AE10/(AG4-AE20)","v":0},{"$f":"IF(AF10=0,0,(AF10*((LOG(AF10))/LOG(2))))","v":0},null,{"$f":"N10","v":1122},{"$f":"COUNTIF(L103:L134,AI10)","v":2},{"$f":"AJ10/(AL4-AJ20)","v":6.25E-2},{"$f":"IF(AK10=0,0,(AK10*((LOG(AK10))/LOG(2))))","v":-0.25},null,{"$f":"N10","v":1122},{"$f":"COUNTIF(L135:L166,AN10)","v":1},{"$f":"AO10/(AQ4-AO20)","v":3.125E-2},{"$f":"IF(AP10=0,0,(AP10*((LOG(AP10))/LOG(2))))","v":-0.15625},null,{"$f":"N10","v":1122},{"$f":"COUNTIF(L167:L198,AS10)","v":1},{"$f":"AT10/(AV4-AT20)","v":3.125E-2},{"$f":"IF(AU10=0,0,(AU10*((LOG(AU10))/LOG(2))))","v":-0.15625}]
[12,525,14,531,24,545,23,573,null,null,0,1122,null,1211,{"$f":"COUNTIF($L$7:$L$500,N11)","v":0},{"$f":"O11/$Q$4","v":0},{"$f":"IF(P11=0,0,(P11*((LOG(P11))/LOG(2))))","v":0},null,null,{"$f":"N11","v":1211},{"$f":"COUNTIF(L7:L38,T11)","v":0},{"$f":"U11/(W4-U20)","v":0},{"$f":"IF(V11=0,0,(V11*((LOG(V11))/LOG(2))))","v":0},null,{"$f":"N11","v":1211},{"$f":"COUNTIF(L39:L70,Y11)","v":0},{"$f":"Z11/(AB4-Z20)","v":0},{"$f":"IF(AA11=0,0,(AA11*((LOG(AA11))/LOG(2))))","v":0},null,{"$f":"N11","v":1211},{"$f":"COUNTIF(L71:L102,AD11)","v":0},{"$f":"AE11/(AG4-AE20)","v":0},{"$f":"IF(AF11=0,0,(AF11*((LOG(AF11))/LOG(2))))","v":0},null,{"$f":"N11","v":1211},{"$f":"COUNTIF(L103:L134,AI11)","v":0},{"$f":"AJ11/(AL4-AJ20)","v":0},{"$f":"IF(AK11=0,0,(AK11*((LOG(AK11))/LOG(2))))","v":0},null,{"$f":"N11","v":1211},{"$f":"COUNTIF(L135:L166,AN11)","v":0},{"$f":"AO11/(AQ4-AO20)","v":0},{"$f":"IF(AP11=0,0,(AP11*((LOG(AP11))/LOG(2))))","v":0},null,{"$f":"N11","v":1211},{"$f":"COUNTIF(L167:L198,AS11)","v":0},{"$f":"AT11/(AV4-AT20)","v":0},{"$f":"IF(AU11=0,0,(AU11*((LOG(AU11))/LOG(2))))","v":0}]
[12,676,14,681,13,687,23,699,null,null,0,1112,null,1212,{"$f":"COUNTIF($L$7:$L$500,N12)","v":0},{"$f":"O12/$Q$4","v":0},{"$f":"IF(P12=0,0,(P12*((LOG(P12))/LOG(2))))","v":0},null,null,{"$f":"N12","v":1212},{"$f":"COUNTIF(L7:L38,T12)","v":0},{"$f":"U12/(W4-U20)","v":0},{"$f":"IF(V12=0,0,(V12*((LOG(V12))/LOG(2))))","v":0},null,{"$f":"N12","v":1212},{"$f":"COUNTIF(L39:L70,Y12)","v":0},{"$f":"Z12/(AB4-Z20)","v":0},{"$f":"IF(AA12=0,0,(AA12*((LOG(AA12))/LOG(2))))","v":0},null,{"$f":"N12","v":1212},{"$f":"COUNTIF(L71:L102,AD12)","v":0},{"$f":"AE12/(AG4-AE20)","v":0},{"$f":"IF(AF12=0,0,(AF12*((LOG(AF12))/LOG(2))))","v":0},null,{"$f":"N12","v":1212},{"$f":"COUNTIF(L103:L134,AI12)","v":0},{"$f":"AJ12/(AL4-AJ20)","v":0},{"$f":"IF(AK12=0,0,(AK12*((LOG(AK12))/LOG(2))))","v":0},null,{"$f":"N12","v":1212},{"$f":"COUNTIF(L135:L166,AN12)","v":0},{"$f":"AO12/(AQ4-AO20)","v":0},{"$f":"IF(AP12=0,0,(AP12*((LOG(AP12))/LOG(2))))","v":0},null,{"$f":"N12","v":1212},{"$f":"COUNTIF(L167:L198,AS12)","v":0},{"$f":"AT12/(AV4-AT20)","v":0},{"$f":"IF(AU12=0,0,(AU12*((LOG(AU12))/LOG(2))))","v":0}]
[12,793,14,799,13,804,14,808,null,null,0,1111,null,1221,{"$f":"COUNTIF($L$7:$L$500,N13)","v":0},{"$f":"O13/$Q$4","v":0},{"$f":"IF(P13=0,0,(P13*((LOG(P13))/LOG(2))))","v":0},null,null,{"$f":"N13","v":1221},{"$f":"COUNTIF(L7:L38,T13)","v":0},{"$f":"U13/(W4-U20)","v":0},{"$f":"IF(V13=0,0,(V13*((LOG(V13))/LOG(2))))","v":0},null,{"$f":"N13","v":1221},{"$f":"COUNTIF(L39:L70,Y13)","v":0},{"$f":"Z13/(AB4-Z20)","v":0},{"$f":"IF(AA13=0,0,(AA13*((LOG(AA13))/LOG(2))))","v":0},null,{"$f":"N13","v":1221},{"$f":"COUNTIF(L71:L102,AD13)","v":0},{"$f":"AE13/(AG4-AE20)","v":0},{"$f":"IF(AF13=0,0,(AF13*((LOG(AF13))/LOG(2))))","v":0},null,{"$f":"N13","v":1221},{"$f":"COUNTIF(L103:L134,AI13)","v":0},{"$f":"AJ13/(AL4-AJ20)","v":0},{"$f":"IF(AK13=0,0,(AK13*((LOG(AK13))/LOG(2))))","v":0},null,{"$f":"N13","v":1221},{"$f":"COUNTIF(L135:L166,AN13)","v":0},{"$f":"AO13/(AQ4-AO20)","v":0},{"$f":"IF(AP13=0,0,(AP13*((LOG(AP13))/LOG(2))))","v":0},null,{"$f":"N13","v":1221},{"$f":"COUNTIF(L167:L198,AS13)","v":0},{"$f":"AT13/(AV4-AT20)","v":0},{"$f":"IF(AU13=0,0,(AU13*((LOG(AU13))/LOG(2))))","v":0}]
[12,913,14,919,13,924,14,934,null,null,0,1111,null,1222,{"$f":"COUNTIF($L$7:$L$500,N14)","v":0},{"$f":"O14/$Q$4","v":0},{"$f":"IF(P14=0,0,(P14*((LOG(P14))/LOG(2))))","v":0},null,null,{"$f":"N14","v":1222},{"$f":"COUNTIF(L7:L38,T14)","v":0},{"$f":"U14/(W4-U20)","v":0},{"$f":"IF(V14=0,0,(V14*((LOG(V14))/LOG(2))))","v":0},null,{"$f":"N14","v":1222},{"$f":"COUNTIF(L39:L70,Y14)","v":0},{"$f":"Z14/(AB4-Z20)","v":0},{"$f":"IF(AA14=0,0,(AA14*((LOG(AA14))/LOG(2))))","v":0},null,{"$f":"N14","v":1222},{"$f":"COUNTIF(L71:L102,AD14)","v":0},{"$f":"AE14/(AG4-AE20)","v":0},{"$f":"IF(AF14=0,0,(AF14*((LOG(AF14))/LOG(2))))","v":0},null,{"$f":"N14","v":1222},{"$f":"COUNTIF(L103:L134,AI14)","v":0},{"$f":"AJ14/(AL4-AJ20)","v":0},{"$f":"IF(AK14=0,0,(AK14*((LOG(AK14))/LOG(2))))","v":0},null,{"$f":"N14","v":1222},{"$f":"COUNTIF(L135:L166,AN14)","v":0},{"$f":"AO14/(AQ4-AO20)","v":0},{"$f":"IF(AP14=0,0,(AP14*((LOG(AP14))/LOG(2))))","v":0},null,{"$f":"N14","v":1222},{"$f":"COUNTIF(L167:L198,AS14)","v":0},{"$f":"AT14/(AV4-AT20)","v":0},{"$f":"IF(AU14=0,0,(AU14*((LOG(AU14))/LOG(2))))","v":0}]
[12,1044,14,1050,13,1058,14,1069,null,null,0,1111,null,2111,{"$f":"COUNTIF($L$7:$L$500,N15)","v":0},{"$f":"O15/$Q$4","v":0},{"$f":"IF(P15=0,0,(P15*((LOG(P15))/LOG(2))))","v":0},null,null,{"$f":"N15","v":2111},{"$f":"COUNTIF(L7:L38,T15)","v":0},{"$f":"U15/(W4-U20)","v":0},{"$f":"IF(V15=0,0,(V15*((LOG(V15))/LOG(2))))","v":0},null,{"$f":"N15","v":2111},{"$f":"COUNTIF(L39:L70,Y15)","v":0},{"$f":"Z15/(AB4-Z20)","v":0},{"$f":"IF(AA15=0,0,(AA15*((LOG(AA15))/LOG(2))))","v":0},null,{"$f":"N15","v":2111},{"$f":"COUNTIF(L71:L102,AD15)","v":0},{"$f":"AE15/(AG4-AE20)","v":0},{"$f":"IF(AF15=0,0,(AF15*((LOG(AF15))/LOG(2))))","v":0},null,{"$f":"N15","v":2111},{"$f":"COUNTIF(L103:L134,AI15)","v":0},{"$f":"AJ15/(AL4-AJ20)","v":0},{"$f":"IF(AK15=0,0,(AK15*((LOG(AK15))/LOG(2))))","v":0},null,{"$f":"N15","v":2111},{"$f":"COUNTIF(L135:L166,AN15)","v":0},{"$f":"AO15/(AQ4-AO20)","v":0},{"$f":"IF(AP15=0,0,(AP15*((LOG(AP15))/LOG(2))))","v":0},null,{"$f":"N15","v":2111},{"$f":"COUNTIF(L167:L198,AS15)","v":0},{"$f":"AT15/(AV4-AT20)","v":0},{"$f":"IF(AU15=0,0,(AU15*((LOG(AU15))/LOG(2))))","v":0}]
[12,1164,14,1169,13,1174,14,1180,null,null,0,1111,null,2112,{"$f":"COUNTIF($L$7:$L$500,N16)","v":0},{"$f":"O16/$Q$4","v":0},{"$f":"IF(P16=0,0,(P16*((LOG(P16))/LOG(2))))","v":0},null,null,{"$f":"N16","v":2112},{"$f":"COUNTIF(L7:L38,T16)","v":0},{"$f":"U16/(W4-U20)","v":0},{"$f":"IF(V16=0,0,(V16*((LOG(V16))/LOG(2))))","v":0},null,{"$f":"N16","v":2112},{"$f":"COUNTIF(L39:L70,Y16)","v":0},{"$f":"Z16/(AB4-Z20)","v":0},{"$f":"IF(AA16=0,0,(AA16*((LOG(AA16))/LOG(2))))","v":0},null,{"$f":"N16","v":2112},{"$f":"COUNTIF(L71:L102,AD16)","v":0},{"$f":"AE16/(AG4-AE20)","v":0},{"$f":"IF(AF16=0,0,(AF16*((LOG(AF16))/LOG(2))))","v":0},null,{"$f":"N16","v":2112},{"$f":"COUNTIF(L103:L134,AI16)","v":0},{"$f":"AJ16/(AL4-AJ20)","v":0},{"$f":"IF(AK16=0,0,(AK16*((LOG(AK16))/LOG(2))))","v":0},null,{"$f":"N16","v":2112},{"$f":"COUNTIF(L135:L166,AN16)","v":0},{"$f":"AO16/(AQ4-AO20)","v":0},{"$f":"IF(AP16=0,0,(AP16*((LOG(AP16))/LOG(2))))","v":0},null,{"$f":"N16","v":2112},{"$f":"COUNTIF(L167:L198,AS16)","v":0},{"$f":"AT16/(AV4-AT20)","v":0},{"$f":"IF(AU16=0,0,(AU16*((LOG(AU16))/LOG(2))))","v":0}]
[12,1288,14,1297,13,1310,14,1322,null,null,0,1111,null,2121,{"$f":"COUNTIF($L$7:$L$500,N17)","v":0},{"$f":"O17/$Q$4","v":0},{"$f":"IF(P17=0,0,(P17*((LOG(P17))/LOG(2))))","v":0},null,null,{"$f":"N17","v":2121},{"$f":"COUNTIF(L7:L38,T17)","v":0},{"$f":"U17/(W4-U20)","v":0},{"$f":"IF(V17=0,0,(V17*((LOG(V17))/LOG(2))))","v":0},null,{"$f":"N17","v":2121},{"$f":"COUNTIF(L39:L70,Y17)","v":0},{"$f":"Z17/(AB4-Z20)","v":0},{"$f":"IF(AA17=0,0,(AA17*((LOG(AA17))/LOG(2))))","v":0},null,{"$f":"N17","v":2121},{"$f":"COUNTIF(L71:L102,AD17)","v":0},{"$f":"AE17/(AG4-AE20)","v":0},{"$f":"IF(AF17=0,0,(AF17*((LOG(AF17))/LOG(2))))","v":0},null,{"$f":"N17","v":2121},{"$f":"COUNTIF(L103:L134,AI17)","v":0},{"$f":"AJ17/(AL4-AJ20)","v":0},{"$f":"IF(AK17=0,0,(AK17*((LOG(AK17))/LOG(2))))","v":0},null,{"$f":"N17","v":2121},{"$f":"COUNTIF(L135:L166,AN17)","v":0},{"$f":"AO17/(AQ4-AO20)","v":0},{"$f":"IF(AP17=0,0,(AP17*((LOG(AP17))/LOG(2))))","v":0},null,{"$f":"N17","v":2121},{"$f":"COUNTIF(L167:L198,AS17)","v":0},{"$f":"AT17/(AV4-AT20)","v":0},{"$f":"IF(AU17=0,0,(AU17*((LOG(AU17))/LOG(2))))","v":0}]
[12,1430,14,1435,13,1440,14,1448,null,null,0,1111,null,2122,{"$f":"COUNTIF($L$7:$L$500,N18)","v":0},{"$f":"O18/$Q$4","v":0},{"$f":"IF(P18=0,0,(P18*((LOG(P18))/LOG(2))))","v":0},null,null,{"$f":"N18","v":2122},{"$f":"COUNTIF(L7:L38,T18)","v":0},{"$f":"U18/(W4-U20)","v":0},{"$f":"IF(V18=0,0,(V18*((LOG(V18))/LOG(2))))","v":0},null,{"$f":"N18","v":2122},{"$f":"COUNTIF(L39:L70,Y18)","v":0},{"$f":"Z18/(AB4-Z20)","v":0},{"$f":"IF(AA18=0,0,(AA18*((LOG(AA18))/LOG(2))))","v":0},null,{"$f":"N18","v":2122},{"$f":"COUNTIF(L71:L102,AD18)","v":0},{"$f":"AE18/(AG4-AE20)","v":0},{"$f":"IF(AF18=0,0,(AF18*((LOG(AF18))/LOG(2))))","v":0},null,{"$f":"N18","v":2122},{"$f":"COUNTIF(L103:L134,AI18)","v":0},{"$f":"AJ18/(AL4-AJ20)","v":0},{"$f":"IF(AK18=0,0,(AK18*((LOG(AK18))/LOG(2))))","v":0},null,{"$f":"N18","v":2122},{"$f":"COUNTIF(L135:L166,AN18)","v":0},{"$f":"AO18/(AQ4-AO20)","v":0},{"$f":"IF(AP18=0,0,(AP18*((LOG(AP18))/LOG(2))))","v":0},null,{"$f":"N18","v":2122},{"$f":"COUNTIF(L167:L198,AS18)","v":0},{"$f":"AT18/(AV4-AT20)","v":0},{"$f":"IF(AU18=0,0,(AU18*((LOG(AU18))/LOG(2))))","v":0}]
[12,1550,14,1556,13,1561,14,1569,null,null,0,1111,null,2211,{"$f":"COUNTIF($L$7:$L$500,N19)","v":0},{"$f":"O19/$Q$4","v":0},{"$f":"IF(P19=0,0,(P19*((LOG(P19))/LOG(2))))","v":0},null,null,{"$f":"N19","v":2211},{"$f":"COUNTIF(L7:L38,T19)","v":0},{"$f":"U19/(W4-U20)","v":0},{"$f":"IF(V19=0,0,(V19*((LOG(V19))/LOG(2))))","v":0},null,{"$f":"N19","v":2211},{"$f":"COUNTIF(L39:L70,Y19)","v":0},{"$f":"Z19/(AB4-Z20)","v":0},{"$f":"IF(AA19=0,0,(AA19*((LOG(AA19))/LOG(2))))","v":0},null,{"$f":"N19","v":2211},{"$f":"COUNTIF(L71:L102,AD19)","v":0},{"$f":"AE19/(AG4-AE20)","v":0},{"$f":"IF(AF19=0,0,(AF19*((LOG(AF19))/LOG(2))))","v":0},null,{"$f":"N19","v":2211},{"$f":"COUNTIF(L103:L134,AI19)","v":0},{"$f":"AJ19/(AL4-AJ20)","v":0},{"$f":"IF(AK19=0,0,(AK19*((LOG(AK19))/LOG(2))))","v":0},null,{"$f":"N19","v":2211},{"$f":"COUNTIF(L135:L166,AN19)","v":0},{"$f":"AO19/(AQ4-AO20)","v":0},{"$f":"IF(AP19=0,0,(AP19*((LOG(AP19))/LOG(2))))","v":0},null,{"$f":"N19","v":2211},{"$f":"COUNTIF(L167:L198,AS19)","v":0},{"$f":"AT19/(AV4-AT20)","v":0},{"$f":"IF(AU19=0,0,(AU19*((LOG(AU19))/LOG(2))))","v":0}]
[12,1672,14,1677,13,1682,14,1690,null,null,0,1111,null,2212,{"$f":"COUNTIF($L$7:$L$500,N20)","v":0},{"$f":"O20/$Q$4","v":0},{"$f":"IF(P20=0,0,(P20*((LOG(P20))/LOG(2))))","v":0},null,null,{"$f":"N20","v":2212},{"$f":"COUNTIF(L7:L38,T20)","v":0},null,null,null,{"$f":"N20","v":2212},{"$f":"COUNTIF(L39:L70,Y20)","v":0},null,null,null,{"$f":"N20","v":2212},{"$f":"COUNTIF(L71:L102,AD20)","v":0},null,null,null,{"$f":"N20","v":2212},{"$f":"COUNTIF(L103:L134,AI20)","v":0},null,null,null,{"$f":"N20","v":2212},{"$f":"COUNTIF(L135:L166,AN20)","v":0},null,null,null,{"$f":"N20","v":2212},{"$f":"COUNTIF(L167:L198,AS20)","v":0}]
[12,1793,14,1804,13,1812,14,1824,null,null,0,1111,null,2221,{"$f":"COUNTIF($L$7:$L$500,N21)","v":0},{"$f":"O21/$Q$4","v":0},{"$f":"IF(P21=0,0,(P21*((LOG(P21))/LOG(2))))","v":0},null,null,{"$f":"N21","v":2221},{"$f":"COUNTIF(L7:L38,T21)","v":0},{"$f":"U21/(W4-U20)","v":0},{"$f":"IF(V21=0,0,(V21*((LOG(V21))/LOG(2))))","v":0},null,{"$f":"N21","v":2221},{"$f":"COUNTIF(L39:L70,Y21)","v":0},{"$f":"Z21/(AB4-Z20)","v":0},{"$f":"IF(AA21=0,0,(AA21*((LOG(AA21))/LOG(2))))","v":0},null,{"$f":"N21","v":2221},{"$f":"COUNTIF(L71:L102,AD21)","v":0},{"$f":"AE21/(AG4-AE20)","v":0},{"$f":"IF(AF21=0,0,(AF21*((LOG(AF21))/LOG(2))))","v":0},null,{"$f":"N21","v":2221},{"$f":"COUNTIF(L103:L134,AI21)","v":0},{"$f":"AJ21/(AL4-AJ20)","v":0},{"$f":"IF(AK21=0,0,(AK21*((LOG(AK21))/LOG(2))))","v":0},null,{"$f":"N21","v":2221},{"$f":"COUNTIF(L135:L166,AN21)","v":0},{"$f":"AO21/(AQ4-AO20)","v":0},{"$f":"IF(AP21=0,0,(AP21*((LOG(AP21))/LOG(2))))","v":0},null,{"$f":"N21","v":2221},{"$f":"COUNTIF(L167:L198,AS21)","v":0},{"$f":"AT21/(AV4-AT20)","v":0},{"$f":"IF(AU21=0,0,(AU21*((LOG(AU21))/LOG(2))))","v":0}]
[12,1923,14,1928,13,1936,14,1946,null,null,0,1111,null,2222,{"$f":"COUNTIF($L$7:$L$500,N22)","v":1},{"$f":"O22/$Q$4","v":5.208333333333333E-3},{"$f":"IF(P22=0,0,(P22*((LOG(P22))/LOG(2))))","v":-3.950501302458935E-2},null,null,{"$f":"N22","v":2222},{"$f":"COUNTIF(L7:L38,T22)","v":1},{"$f":"U22/(W4-U20)","v":3.125E-2},{"$f":"IF(V22=0,0,(V22*((LOG(V22))/LOG(2))))","v":-0.15625},null,{"$f":"N22","v":2222},{"$f":"COUNTIF(L39:L70,Y22)","v":0},{"$f":"Z22/(AB4-Z20)","v":0},{"$f":"IF(AA22=0,0,(AA22*((LOG(AA22))/LOG(2))))","v":0},null,{"$f":"N22","v":2222},{"$f":"COUNTIF(L71:L102,AD22)","v":0},{"$f":"AE22/(AG4-AE20)","v":0},{"$f":"IF(AF22=0,0,(AF22*((LOG(AF22))/LOG(2))))","v":0},null,{"$f":"N22","v":2222},{"$f":"COUNTIF(L103:L134,AI22)","v":0},{"$f":"AJ22/(AL4-AJ20)","v":0},{"$f":"IF(AK22=0,0,(AK22*((LOG(AK22))/LOG(2))))","v":0},null,{"$f":"N22","v":2222},{"$f":"COUNTIF(L135:L166,AN22)","v":0},{"$f":"AO22/(AQ4-AO20)","v":0},{"$f":"IF(AP22=0,0,(AP22*((LOG(AP22))/LOG(2))))","v":0},null,{"$f":"N22","v":2222},{"$f":"COUNTIF(L167:L198,AS22)","v":0},{"$f":"AT22/(AV4-AT20)","v":0},{"$f":"IF(AU22=0,0,(AU22*((LOG(AU22))/LOG(2))))","v":0}]
[12,2043,14,2052,13,2061,23,2075,null,null,0,1112,null,null,null,{"$f":"SUM(P7:P22)","v":1},{"$f":"-SUM(Q7:Q22)","v":0.39386152931004265},null,null,null,null,{"$f":"SUM(V7:V22)","v":1},{"$f":"-SUM(W7:W22)","v":0.93089272901036269},null,null,null,{"$f":"SUM(AA7:AA22)","v":1},{"$f":"-SUM(AB7:AB22)","v":0},null,null,null,{"$f":"SUM(AF7:AF22)","v":1},{"$f":"-SUM(AG7:AG22)","v":0},null,null,null,{"$f":"SUM(AK7:AK22)","v":1},{"$f":"-SUM(AL7:AL22)","v":0.33729006661701388},null,null,null,{"$f":"SUM(AP7:AP22)","v":1},{"$f":"-SUM(AQ7:AQ22)","v":0.39979006661701388},null,null,null,{"$f":"SUM(AU7:AU22)","v":1},{"$f":"-SUM(AV7:AV22)","v":0.20062232431271465}]
[12,2178,14,2183,13,2188,14,2196,null,null,0,1111,null,null,null,"U=",{"$f":"Q23/(LOG(Q4)/LOG(2))","v":5.1926628414128012E-2},null,null,null,null,"U1=",{"$f":"W23/(LOG(W4)/LOG(2))","v":0.18617854580207255},null,null,null,"U2=",{"$f":"AB23/(LOG(AB4)/LOG(2))","v":0},null,null,null,"U3=",{"$f":"AG23/(LOG(AG4)/LOG(2))","v":0},null,null,null,"U4=",{"$f":"AL23/(LOG(AL4)/LOG(2))","v":6.7458013323402774E-2},null,null,null,"U5=",{"$f":"AQ23/(LOG(AQ4)/LOG(2))","v":7.9958013323402771E-2},null,null,null,"U6=",{"$f":"AV23/(LOG(AV4)/LOG(2))","v":4.0124464862542931E-2}]
[12,2299,14,2309,13,2314,14,2322,null,null,0,1111]
[12,2423,14,2430,13,2435,14,2443,null,null,0,1111]
[12,2534,14,2540,13,2545,14,2551,null,null,0,1111,null,"Total Target Seq"]
[12,2658,14,2663,13,2670,14,2694,null,null,0,1111,null,{"$f":"COUNTIF(L7:L198,G3)","v":0},null,32,32,32,32,32,32]
[12,2796,14,2802,13,2807,14,2814,null,null,0,1111,null,null,null,"% of reinforcement given in 6 equal intervals based on number of trials "]
[12,2917,14,2922,13,2928,14,2933,null,null,0,1111,null,null,null,"%_1","%_2","%_3","%_4","%_5","%_6"]
[12,3040,14,3046,13,3055,14,3063,null,null,0,1111,null,null,"target sequence",{"$f":"$G$3","v":2212},{"$f":"$G$3","v":2212},{"$f":"$G$3","v":2212},{"$f":"$G$3","v":2212},{"$f":"$G$3","v":2212},{"$f":"$G$3","v":2212}]
[12,3158,14,3163,13,3177,14,3184,null,null,0,1111,null,null,"total reinforcement",{"$f":"U20","v":0},{"$f":"Z20","v":0},{"$f":"AE20","v":0},{"$f":"AJ20","v":0},{"$f":"AO20","v":0},{"$f":"AT20","v":0}]
[12,3295,14,3303,13,3319,14,3328,null,null,0,1111,null,null,"% target"]
[12,3435,14,3440,13,3445,14,3450,null,null,0,1111,null,null,"CCRF"]
[12,3546,14,3551,13,3557,23,3572,null,null,0,1112,null,null,"% CCRf"]
[12,3664,14,3670,13,3674,14,3679,null,null,0,1111,null,null,"average response rate",{"$f":"H38/P28","v":123.34375},{"$f":"(H70-H38)/Q28","v":121.90625},{"$f":"(H102-H70)/R28","v":125.375},{"$f":"(H134-H102)/S28","v":126.09375},{"$f":"(H166-H134)/T28","v":125.34375},{"$f":"(H198-H166)/U28","v":126.28125}]
[12,3780,14,3785,13,3794,14,3805,null,null,0,1111]
[12,3913,14,3932,13,3940,14,3947,null,null,0,1111]
[12,4047,14,4052,13,4061,14,4069,null,null,0,1111]
[12,4163,14,4168,13,4173,14,4181,null,null,0,1111]
[12,4283,14,4288,13,4293,14,4303,null,null,0,1111]
[12,4402,14,4407,13,4411,14,4420,null,null,0,1111]
[12,4523,14,4528,13,4537,14,4545,null,null,0,1111]
[12,4653,14,4657,13,4662,14,4667,null,null,0,1111]
[12,4774,14,4779,13,4784,14,4789,null,null,0,1111]
[12,4896,14,4905,13,4912,14,4920,null,null,0,1111]
[12,5027,14,5035,13,5043,14,5052,null,null,0,1111]
[12,5148,14,5154,13,5162,14,5170,null,null,0,1111]
[12,5272,14,5281,13,5286,14,5291,null,null,0,1111]
[12,5395,14,5400,13,5407,14,5416,null,null,0,1111]
[12,5515,14,5522,13,5526,14,5535,null,null,0,1111]
[12,5637,14,5642,13,5647,14,5652,null,null,0,1111]
[12,5752,14,5757,13,5767,14,5778,null,null,0,1111]
[12,5876,14,5881,13,5889,14,5897,null,null,0,1111]
[12,5996,14,6002,13,6010,14,6020,null,null,0,1111]
[12,6115,14,6121,13,6126,14,6135,null,null,0,1111]
[12,6238,14,6243,13,6248,14,6254,null,null,0,1111]
[12,6352,14,6358,13,6367,14,6375,null,null,0,1111]
[12,6481,14,6486,13,6495,14,6504,null,null,0,1111]
[12,6609,14,6614,13,6621,14,6630,null,null,0,1111]
[12,6734,14,6739,13,6744,14,6762,null,null,0,1111]
[12,6861,14,6866,13,6871,14,6880,null,null,0,1111]
[12,6970,14,6976,13,6982,14,6991,null,null,0,1111]
[12,7086,14,7093,13,7097,14,7110,null,null,0,1111]
[12,7206,14,7211,13,7220,14,7234,null,null,0,1111]
[12,7337,14,7341,13,7350,14,7357,null,null,0,1111]
[12,7463,14,7468,13,7477,14,7492,null,null,0,1111]
[12,7592,14,7597,13,7601,14,7610,null,null,0,1111]
[12,7707,14,7712,13,7716,14,7730,null,null,0,1111]
[12,7834,14,7839,13,7844,14,7848,null,null,0,1111]
[12,7952,14,7957,13,7962,14,7970,null,null,0,1111]
[12,8066,14,8072,13,8077,14,8085,null,null,0,1111]
[12,8194,14,8204,13,8212,14,8227,null,null,0,1111]
[12,8333,14,8342,13,8350,14,8357,null,null,0,1111]
[12,8448,14,8458,13,8473,14,8485,null,null,0,1111]
[12,8591,14,8595,13,8600,14,8608,null,null,0,1111]
[12,8710,14,8715,13,8720,14,8728,null,null,0,1111]
[12,8828,14,8833,13,8841,14,8848,null,null,0,1111]
[12,8955,14,8964,13,8969,14,8977,null,null,0,1111]
[12,9081,14,9085,13,9090,14,9095,null,null,0,1111]
[12,9203,14,9209,13,9218,14,9230,null,null,0,1111]
[12,9334,14,9342,13,9349,14,9357,null,null,0,1111]
[12,9463,14,9469,13,9474,14,9483,null,null,0,1111]
[12,9581,14,9589,13,9598,14,9605,null,null,0,1111]
[12,9714,14,9724,13,9731,14,9738,null,null,0,1111]
[12,9843,14,9852,13,9860,14,9868,null,null,0,1111]
[12,9966,14,9972,13,9977,14,9985,null,null,0,1111]
[12,10088,14,10093,13,10097,14,10105,null,null,0,1111]
[12,10206,14,10211,13,10218,14,10225,null,null,0,1111]
[12,10333,14,10338,13,10346,14,10354,null,null,0,1111]
[12,10464,14,10472,13,10479,14,10487,null,null,0,1111]
[12,10594,14,10599,13,10604,14,10608,null,null,0,1111]
[12,10705,14,10710,13,10719,14,10739,null,null,0,1111]
[12,10839,14,10845,13,10849,14,10864,null,null,0,1111]
[12,10963,14,10969,13,10974,14,10979,null,null,0,1111]
[12,11083,14,11088,13,11093,14,11102,null,null,0,1111]
[12,11204,14,11210,13,11215,14,11224,null,null,0,1111]
[12,11339,14,11346,13,11355,14,11366,null,null,0,1111]
[12,11465,14,11471,13,11475,14,11480,null,null,0,1111]
[12,11587,14,11592,13,11601,14,11615,null,null,0,1111]
[12,11708,14,11716,13,11722,14,11731,null,null,0,1111]
[12,11833,14,11843,13,11852,14,11860,null,null,0,1111]
[12,11957,14,11974,24,11989,23,11997,null,null,0,1122]
[12,12099,14,12109,13,12118,14,12142,null,null,0,1111]
[12,12245,14,12251,13,12256,14,12261,null,null,0,1111]
[12,12366,14,12375,13,12384,14,12396,null,null,0,1111]
[12,12510,14,12516,13,12522,14,12533,null,null,0,1111]
[12,12636,14,12641,13,12646,14,12656,null,null,0,1111]
[12,12757,14,12762,13,12767,14,12772,null,null,0,1111]
[12,12873,14,12878,13,12883,14,12892,null,null,0,1111]
[12,12991,14,12996,13,13000,14,13009,null,null,0,1111]
[12,13112,14,13117,13,13123,14,13128,null,null,0,1111]
[12,13235,14,13240,13,13248,14,13257,null,null,0,1111]
[12,13359,14,13368,13,13376,14,13393,null,null,0,1111]
[12,13496,14,13501,13,13506,14,13515,null,null,0,1111]
[12,13620,14,13625,13,13629,14,13638,null,null,0,1111]
[12,13738,14,13743,13,13751,14,13759,null,null,0,1111]
[12,13860,14,13865,13,13870,14,13879,null,null,0,1111]
[12,13976,14,13981,13,13990,14,13998,null,null,0,1111]
[12,14103,14,14108,13,14113,14,14118,null,null,0,1111]
[12,14222,14,14231,13,14246,14,14253,null,null,0,1111]
[12,14353,14,14358,13,14368,14,14386,null,null,0,1111]
[12,14492,14,14500,13,14505,14,14514,null,null,0,1111]
[12,14607,14,14611,13,14615,14,14621,null,null,0,1111]
[12,14720,14,14730,24,14742,23,14769,null,null,0,1122]
[12,14864,14,14870,13,14875,14,14884,null,null,0,1111]
[12,14988,14,14992,13,14997,14,15007,null,null,0,1111]
[12,15112,14,15117,13,15135,14,15143,null,null,0,1111]
[12,15235,14,15242,13,15246,14,15255,null,null,0,1111]
[12,15358,14,15365,13,15374,14,15383,null,null,0,1111]
[12,15491,14,15496,13,15501,14,15509,null,null,0,1111]
[12,15615,14,15620,13,15625,14,15631,null,null,0,1111]
[12,15738,14,15748,13,15756,14,15773,null,null,0,1111]
[12,15880,14,15885,13,15890,14,15895,null,null,0,1111]
[12,15987,14,15993,13,16001,14,16009,null,null,0,1111]
[12,16115,14,16121,13,16129,14,16147,null,null,0,1111]
[12,16252,14,16261,13,16267,14,16277,null,null,0,1111]
[12,16376,14,16382,13,16386,14,16392,null,null,0,1111]
[12,16491,14,16500,13,16511,14,16520,null,null,0,1111]
[12,16617,14,16623,13,16628,14,16637,null,null,0,1111]
[12,16743,14,16748,13,16757,14,16765,null,null,0,1111]
[12,16864,14,16870,13,16874,14,16882,null,null,0,1111]
[12,16984,14,16990,13,16999,14,17006,null,null,0,1111]
[12,17107,14,17116,13,17125,14,17133,null,null,0,1111]
[12,17223,14,17227,13,17236,14,17246,null,null,0,1111]
[12,17341,14,17350,13,17363,14,17371,null,null,0,1111]
[12,17469,14,17475,13,17483,14,17491,null,null,0,1111]
[12,17588,14,17594,13,17598,14,17604,null,null,0,1111]
[12,17702,14,17707,13,17716,14,17723,null,null,0,1111]
[12,17833,14,17841,13,17849,14,17860,null,null,0,1111]
[12,17959,14,17968,13,17977,14,17984,null,null,0,1111]
[12,18091,14,18096,13,18101,14,18111,null,null,0,1111]
[12,18213,14,18222,13,18229,14,18236,null,null,0,1111]
[12,18348,14,18358,13,18366,14,18380,null,null,0,1111]
[12,18484,14,18489,13,18494,14,18503,null,null,0,1111]
[12,18610,14,18619,13,18627,14,18634,null,null,0,1111]
[12,18733,14,18739,13,18743,14,18748,null,null,0,1111]
[12,18846,14,18855,13,18860,14,18869,null,null,0,1111]
[12,18962,14,18972,24,18982,23,19020,null,null,0,1122]
[12,19122,14,19132,13,19141,14,19151,null,null,0,1111]
[12,19257,14,19266,13,19274,14,19283,null,null,0,1111]
[12,19386,14,19391,13,19396,14,19401,null,null,0,1111]
[12,19506,14,19512,13,19518,23,19528,null,null,0,1112]
[12,19629,14,19634,13,19642,14,19649,null,null,0,1111]
[12,19751,14,19756,13,19765,14,19781,null,null,0,1111]
[12,19880,14,19890,13,19899,14,19906,null,null,0,1111]
[12,20007,14,20013,13,20017,14,20031,null,null,0,1111]
[12,20136,14,20142,13,20150,14,20165,null,null,0,1111]
[12,20271,14,20284,13,20292,14,20300,null,null,0,1111]
[12,20402,14,20411,13,20419,14,20436,null,null,0,1111]
[12,20541,14,20547,13,20553,14,20562,null,null,0,1111]
[12,20663,14,20673,13,20679,14,20694,null,null,0,1111]
[12,20797,14,20801,13,20806,14,20822,null,null,0,1111]
[12,20921,14,20925,13,20930,14,20935,null,null,0,1111]
[12,21037,14,21042,13,21047,14,21056,null,null,0,1111]
[12,21163,14,21168,13,21173,14,21181,null,null,0,1111]
[12,21278,14,21286,13,21291,14,21300,null,null,0,1111]
[12,21402,14,21407,13,21412,14,21420,null,null,0,1111]
[12,21528,14,21534,13,21543,14,21551,null,null,0,1111]
[12,21654,14,21660,13,21667,14,21672,null,null,0,1111]
[12,21787,14,21796,13,21805,14,21813,null,null,0,1111]
[12,21920,14,21926,13,21934,14,21945,null,null,0,1111]
[12,22058,14,22064,24,22089,23,22098,null,null,0,1122]
[12,22209,14,22214,13,22218,14,22227,null,null,0,1111]
[12,22328,14,22337,13,22343,14,22352,null,null,0,1111]
[12,22457,14,22463,13,22468,14,22478,null,null,0,1111]
[12,22582,14,22587,13,22595,14,22601,null,null,0,1111]
[12,22700,14,22705,13,22710,14,22720,null,null,0,1111]
[12,22819,14,22826,13,22830,14,22838,null,null,0,1111]
[12,22940,14,22945,13,22950,14,22958,null,null,0,1111]
[12,23064,14,23070,13,23079,14,23084,null,null,0,1111]
[12,23188,14,23197,13,23204,14,23213,null,null,0,1111]
[12,23321,14,23326,13,23331,14,23336,null,null,0,1111]
[12,23442,14,23447,13,23452,14,23457,null,null,0,1111]
[12,23548,14,23553,13,23562,14,23579,null,null,0,1111]
[12,23681,14,23686,13,23692,14,23697,null,null,0,1111]
[12,23804,14,23810,13,23816,14,23824,null,null,0,1111]
[12,23925,14,23930,13,23939,14,23947,null,null,null,1111]

{"sheet":"!L908920.056","index":11,"n_rows":189,"n_cols":48,"rows_kept":189,"cut":false,"hidden":false,"merged":[[4,39,4,42],[5,39,5,40],[4,44,4,47],[5,44,5,45],[4,24,4,27],[5,24,5,25],[4,29,4,32],[5,29,5,30],[4,34,4,37],[5,34,5,35],[1,1,1,2],[5,13,5,14],[26,13,26,14],[27,13,27,14],[4,19,4,22],[5,19,5,20]]}
["Report for:!L908920.056"]
["Date:","<date>"]
["Hen:","<hen>",null,null,null,"Correct Sequence",{"$f":"Start!J2","v":2212},null,null,null,null,null,null,null,null,"Total Sequences in Data",{"$f":"4994-COUNTBLANK(L7:L5000)","v":183},null,null,null,null,"Total Sequences in Block Data",{"$f":"COUNTA(L7:L37)","v":31},null,null,null,"Total Sequences in Block Data",{"$f":"COUNTA(L38:L67)","v":30},null,null,null,"Total Sequences in Block Data",{"$f":"COUNTA(L68:L98)","v":31},null,null,null,"Total Sequences in Block Data",{"$f":"COUNTA(L99:L128)","v":30},null,null,null,"Total Sequences in Block Data",{"$f":"COUNTA(L129:L159)","v":31},null,null,null,"Total Sequences in Block Data",{"$f":"COUNTA(L160:L189)","v":30}]
[null,null,null,null,null,null,null,null,null,null,null,null,null,null,null,"Total Sequences in Summary",{"$f":"SUM(O7:O22)","v":183},null,null,null,null,"Total Sequences in Block Summary",{"$f":"SUM(U7:U22)","v":31},null,null,null,"Total Sequences in Block Summary",{"$f":"SUM(Z7:Z22)","v":30},null,null,null,"Total Sequences in Block Summary",{"$f":"SUM(AE7:AE22)","v":31},null,null,null,"Total Sequences in Block Summary",{"$f":"SUM(AJ7:AJ22)","v":30},null,null,null,"Total Sequences in Block Summary",{"$f":"SUM(AO7:AO22)","v":31},null,null,null,"Total Sequences in Block Summary",{"$f":"SUM(AT7:AT22)","v":30}]
[null,null,null,null,null,null,null,null,null,null,null,null,null,null,null,null,null,null,null,"Block 1",null,null,null,null,"Block 2",null,null,null,null,"Block 3",null,null,null,null,"Block 4",null,null,null,null,"Block 5",null,null,null,null,"Block 6"]
["Sequence\nComponent\n1","Time\n1","Sequence\nComponent\n2","Time\n2","Sequence\nComponent\n3","Time\n3","Sequence\nComponent\n4","Time\n4","Sequence\nComponent\n5","Time\n5","Correct?\n0=No 1=Yes","Sequence",null,"Frequency",null,"Relative Frequency","Variability",null,null,"Frequency",null,"Relative Frequency","Variability",null,"Frequency",null,"Relative Frequency","Variability",null,"Frequency",null,"Relative Frequency","Variability",null,"Frequency",null,"Relative Frequency","Variability",null,"Frequency",null,"Relative Frequency","Variability",null,"Frequency",null,"Relative Frequency","Variability"]
[21,19,21,29,11,64,21,74,null,null,0,2212,null,1111,{"$f":"COUNTIF($L$7:$L$500,N7)","v":167},{"$f":"O7/$Q$4","v":0.91256830601092898},{"$f":"IF(P7=0,0,(P7*((LOG(P7))/LOG(2))))","v":-0.12045495164081074},null,null,{"$f":"N7","v":1111},{"$f":"COUNTIF(L7:L37,T7)","v":23},{"$f":"U7/(W4-U20)","v":0.76666666666666672},{"$f":"IF(V7=0,0,(V7*((LOG(V7))/LOG(2))))","v":-0.2938852903228209},null,{"$f":"N7","v":1111},{"$f":"COUNTIF(L38:L67,Y7)","v":30},{"$f":"Z7/(AB4-Z20)","v":1},{"$f":"IF(AA7=0,0,(AA7*((LOG(AA7))/LOG(2))))","v":0},null,{"$f":"N7","v":1111},{"$f":"COUNTIF(L68:L98,AD7)","v":30},{"$f":"AE7/(AG4-AE20)","v":0.967741935483871},{"$f":"IF(AF7=0,0,(AF7*((LOG(AF7))/LOG(2))))","v":-4.5779723979054811E-2},null,{"$f":"N7","v":1111},{"$f":"COUNTIF(L99:L128,AI7)","v":29},{"$f":"AJ7/(AL4-AJ20)","v":0.96666666666666667},{"$f":"IF(AK7=0,0,(AK7*((LOG(AK7))/LOG(2))))","v":-4.727928046491485E-2},null,{"$f":"N7","v":1111},{"$f":"COUNTIF(L129:L159,AN7)","v":30},{"$f":"AO7/(AQ4-AO20)","v":0.967741935483871},{"$f":"IF(AP7=0,0,(AP7*((LOG(AP7))/LOG(2))))","v":-4.5779723979054811E-2},null,{"$f":"N7","v":1111},{"$f":"COUNTIF(L160:L189,AS7)","v":25},{"$f":"AT7/(AV4-AT20)","v":0.83333333333333337},{"$f":"IF(AU7=0,0,(AU7*((LOG(AU7))/LOG(2))))","v":-0.21919533819482812}]
[21,176,21,186,22,194,14,242,null,null,0,2221,null,1112,{"$f":"COUNTIF($L$7:$L$500,N8)","v":5},{"$f":"O8/$Q$4","v":2.7322404371584699E-2},{"$f":"IF(P8=0,0,(P8*((LOG(P8))/LOG(2))))","v":-0.14190633178679454},null,null,{"$f":"N8","v":1112},{"$f":"COUNTIF(L7:L37,T8)","v":2},{"$f":"U8/(W4-U20)","v":6.6666666666666666E-2},{"$f":"IF(V8=0,0,(V8*((LOG(V8))/LOG(2))))","v":-0.26045937304056793},null,{"$f":"N8","v":1112},{"$f":"COUNTIF(L38:L67,Y8)","v":0},{"$f":"Z8/(AB4-Z20)","v":0},{"$f":"IF(AA8=0,0,(AA8*((LOG(AA8))/LOG(2))))","v":0},null,{"$f":"N8","v":1112},{"$f":"COUNTIF(L68:L98,AD8)","v":0},{"$f":"AE8/(AG4-AE20)","v":0},{"$f":"IF(AF8=0,0,(AF8*((LOG(AF8))/LOG(2))))","v":0},null,{"$f":"N8","v":1112},{"$f":"COUNTIF(L99:L128,AI8)","v":0},{"$f":"AJ8/(AL4-AJ20)","v":0},{"$f":"IF(AK8=0,0,(AK8*((LOG(AK8))/LOG(2))))","v":0},null,{"$f":"N8","v":1112},{"$f":"COUNTIF(L129:L159,AN8)","v":0},{"$f":"AO8/(AQ4-AO20)","v":0},{"$f":"IF(AP8=0,0,(AP8*((LOG(AP8))/LOG(2))))","v":0},null,{"$f":"N8","v":1112},{"$f":"COUNTIF(L160:L189,AS8)","v":3},{"$f":"AT8/(AV4-AT20)","v":0.1},{"$f":"IF(AU8=0,0,(AU8*((LOG(AU8))/LOG(2))))","v":-0.33219280948873625}]
[12,339,23,349,24,361,14,383,null,null,0,1221,null,1121,{"$f":"COUNTIF($L$7:$L$500,N9)","v":0},{"$f":"O9/$Q$4","v":0},{"$f":"IF(P9=0,0,(P9*((LOG(P9))/LOG(2))))","v":0},null,null,{"$f":"N9","v":1121},{"$f":"COUNTIF(L7:L37,T9)","v":0},{"$f":"U9/(W4-U20)","v":0},{"$f":"IF(V9=0,0,(V9*((LOG(V9))/LOG(2))))","v":0},null,{"$f":"N9","v":1121},{"$f":"COUNTIF(L38:L67,Y9)","v":0},{"$f":"Z9/(AB4-Z20)","v":0},{"$f":"IF(AA9=0,0,(AA9*((LOG(AA9))/LOG(2))))","v":0},null,{"$f":"N9","v":1121},{"$f":"COUNTIF(L68:L98,AD9)","v":0},{"$f":"AE9/(AG4-AE20)","v":0},{"$f":"IF(AF9=0,0,(AF9*((LOG(AF9))/LOG(2))))","v":0},null,{"$f":"N9","v":1121},{"$f":"COUNTIF(L99:L128,AI9)","v":0},{"$f":"AJ9/(AL4-AJ20)","v":0},{"$f":"IF(AK9=0,0,(AK9*((LOG(AK9))/LOG(2))))","v":0},null,{"$f":"N9","v":1121},{"$f":"COUNTIF(L129:L159,AN9)","v":0},{"$f":"AO9/(AQ4-AO20)","v":0},{"$f":"IF(AP9=0,0,(AP9*((LOG(AP9))/LOG(2))))","v":0},null,{"$f":"N9","v":1121},{"$f":"COUNTIF(L160:L189,AS9)","v":0},{"$f":"AT9/(AV4-AT20)","v":0},{"$f":"IF(AU9=0,0,(AU9*((LOG(AU9))/LOG(2))))","v":0}]
[12,491,14,496,24,507,23,521,null,null,0,1122,null,1122,{"$f":"COUNTIF($L$7:$L$500,N10)","v":3},{"$f":"O10/$Q$4","v":1.6393442622950821E-2},{"$f":"IF(P10=0,0,(P10*((LOG(P10))/LOG(2))))","v":-9.7225202255129275E-2},null,null,{"$f":"N10","v":1122},{"$f":"COUNTIF(L7:L37,T10)","v":1},{"$f":"U10/(W4-U20)","v":3.3333333333333333E-2},{"$f":"IF(V10=0,0,(V10*((LOG(V10))/LOG(2))))","v":-0.16356301985361729},null,{"$f":"N10","v":1122},{"$f":"COUNTIF(L38:L67,Y10)","v":0},{"$f":"Z10/(AB4-Z20)","v":0},{"$f":"IF(AA10=0,0,(AA10*((LOG(AA10))/LOG(2))))","v":0},null,{"$f":"N10","v":1122},{"$f":"COUNTIF(L68:L98,AD10)","v":0},{"$f":"AE10/(AG4-AE20)","v":0},{"$f":"IF(AF10=0,0,(AF10*((LOG(AF10))/LOG(2))))","v":0},null,{"$f":"N10","v":1122},{"$f":"COUNTIF(L99:L128,AI10)","v":0},{"$f":"AJ10/(AL4-AJ20)","v":0},{"$f":"IF(AK10=0,0,(AK10*((LOG(AK10))/LOG(2))))","v":0},null,{"$f":"N10","v":1122},{"$f":"COUNTIF(L129:L159,AN10)","v":1},{"$f":"AO10/(AQ4-AO20)","v":3.2258064516129031E-2},{"$f":"IF(AP10=0,0,(AP10*((LOG(AP10))/LOG(2))))","v":-0.15981278420602821},null,{"$f":"N10","v":1122},{"$f":"COUNTIF(L160:L189,AS10)","v":1},{"$f":"AT10/(AV4-AT20)","v":3.3333333333333333E-2},{"$f":"IF(AU10=0,0,(AU10*((LOG(AU10))/LOG(2))))","v":-0.16356301985361729}]
[12,629,14,635,13,641,14,650,null,null,0,1111,null,1211,{"$f":"COUNTIF($L$7:$L$500,N11)","v":1},{"$f":"O11/$Q$4","v":5.4644808743169399E-3},{"$f":"IF(P11=0,0,(P11*((LOG(P11))/LOG(2))))","v":-4.1069398023410066E-2},null,null,{"$f":"N11","v":1211},{"$f":"COUNTIF(L7:L37,T11)","v":1},{"$f":"U11/(W4-U20)","v":3.3333333333333333E-2},{"$f":"IF(V11=0,0,(V11*((LOG(V11))/LOG(2))))","v":-0.16356301985361729},null,{"$f":"N11","v":1211},{"$f":"COUNTIF(L38:L67,Y11)","v":0},{"$f":"Z11/(AB4-Z20)","v":0},{"$f":"IF(AA11=0,0,(AA11*((LOG(AA11))/LOG(2))))","v":0},null,{"$f":"N11","v":1211},{"$f":"COUNTIF(L68:L98,AD11)","v":0},{"$f":"AE11/(AG4-AE20)","v":0},{"$f":"IF(AF11=0,0,(AF11*((LOG(AF11))/LOG(2))))","v":0},null,{"$f":"N11","v":1211},{"$f":"COUNTIF(L99:L128,AI11)","v":0},{"$f":"AJ11/(AL4-AJ20)","v":0},{"$f":"IF(AK11=0,0,(AK11*((LOG(AK11))/LOG(2))))","v":0},null,{"$f":"N11","v":1211},{"$f":"COUNTIF(L129:L159,AN11)","v":0},{"$f":"AO11/(AQ4-AO20)","v":0},{"$f":"IF(AP11=0,0,(AP11*((LOG(AP11))/LOG(2))))","v":0},null,{"$f":"N11","v":1211},{"$f":"COUNTIF(L160:L189,AS11)","v":0},{"$f":"AT11/(AV4-AT20)","v":0},{"$f":"IF(AU11=0,0,(AU11*((LOG(AU11))/LOG(2))))","v":0}]
[12,764,14,770,13,777,14,787,null,null,0,1111,null,1212,{"$f":"COUNTIF($L$7:$L$500,N12)","v":0},{"$f":"O12/$Q$4","v":0},{"$f":"IF(P12=0,0,(P12*((LOG(P12))/LOG(2))))","v":0},null,null,{"$f":"N12","v":1212},{"$f":"COUNTIF(L7:L37,T12)","v":0},{"$f":"U12/(W4-U20)","v":0},{"$f":"IF(V12=0,0,(V12*((LOG(V12))/LOG(2))))","v":0},null,{"$f":"N12","v":1212},{"$f":"COUNTIF(L38:L67,Y12)","v":0},{"$f":"Z12/(AB4-Z20)","v":0},{"$f":"IF(AA12=0,0,(AA12*((LOG(AA12))/LOG(2))))","v":0},null,{"$f":"N12","v":1212},{"$f":"COUNTIF(L68:L98,AD12)","v":0},{"$f":"AE12/(AG4-AE20)","v":0},{"$f":"IF(AF12=0,0,(AF12*((LOG(AF12))/LOG(2))))","v":0},null,{"$f":"N12","v":1212},{"$f":"COUNTIF(L99:L128,AI12)","v":0},{"$f":"AJ12/(AL4-AJ20)","v":0},{"$f":"IF(AK12=0,0,(AK12*((LOG(AK12))/LOG(2))))","v":0},null,{"$f":"N12","v":1212},{"$f":"COUNTIF(L129:L159,AN12)","v":0},{"$f":"AO12/(AQ4-AO20)","v":0},{"$f":"IF(AP12=0,0,(AP12*((LOG(AP12))/LOG(2))))","v":0},null,{"$f":"N12","v":1212},{"$f":"COUNTIF(L160:L189,AS12)","v":0},{"$f":"AT12/(AV4-AT20)","v":0},{"$f":"IF(AU12=0,0,(AU12*((LOG(AU12))/LOG(2))))","v":0}]
[21,915,12,934,24,944,23,953,null,null,0,2122,null,1221,{"$f":"COUNTIF($L$7:$L$500,N13)","v":3},{"$f":"O13/$Q$4","v":1.6393442622950821E-2},{"$f":"IF(P13=0,0,(P13*((LOG(P13))/LOG(2))))","v":-9.7225202255129275E-2},null,null,{"$f":"N13","v":1221},{"$f":"COUNTIF(L7:L37,T13)","v":1},{"$f":"U13/(W4-U20)","v":3.3333333333333333E-2},{"$f":"IF(V13=0,0,(V13*((LOG(V13))/LOG(2))))","v":-0.16356301985361729},null,{"$f":"N13","v":1221},{"$f":"COUNTIF(L38:L67,Y13)","v":0},{"$f":"Z13/(AB4-Z20)","v":0},{"$f":"IF(AA13=0,0,(AA13*((LOG(AA13))/LOG(2))))","v":0},null,{"$f":"N13","v":1221},{"$f":"COUNTIF(L68:L98,AD13)","v":0},{"$f":"AE13/(AG4-AE20)","v":0},{"$f":"IF(AF13=0,0,(AF13*((LOG(AF13))/LOG(2))))","v":0},null,{"$f":"N13","v":1221},{"$f":"COUNTIF(L99:L128,AI13)","v":1},{"$f":"AJ13/(AL4-AJ20)","v":3.3333333333333333E-2},{"$f":"IF(AK13=0,0,(AK13*((LOG(AK13))/LOG(2))))","v":-0.16356301985361729},null,{"$f":"N13","v":1221},{"$f":"COUNTIF(L129:L159,AN13)","v":0},{"$f":"AO13/(AQ4-AO20)","v":0},{"$f":"IF(AP13=0,0,(AP13*((LOG(AP13))/LOG(2))))","v":0},null,{"$f":"N13","v":1221},{"$f":"COUNTIF(L160:L189,AS13)","v":1},{"$f":"AT13/(AV4-AT20)","v":3.3333333333333333E-2},{"$f":"IF(AU13=0,0,(AU13*((LOG(AU13))/LOG(2))))","v":-0.16356301985361729}]
[12,1058,14,1065,13,1075,14,1085,null,null,0,1111,null,1222,{"$f":"COUNTIF($L$7:$L$500,N14)","v":0},{"$f":"O14/$Q$4","v":0},{"$f":"IF(P14=0,0,(P14*((LOG(P14))/LOG(2))))","v":0},null,null,{"$f":"N14","v":1222},{"$f":"COUNTIF(L7:L37,T14)","v":0},{"$f":"U14/(W4-U20)","v":0},{"$f":"IF(V14=0,0,(V14*((LOG(V14))/LOG(2))))","v":0},null,{"$f":"N14","v":1222},{"$f":"COUNTIF(L38:L67,Y14)","v":0},{"$f":"Z14/(AB4-Z20)","v":0},{"$f":"IF(AA14=0,0,(AA14*((LOG(AA14))/LOG(2))))","v":0},null,{"$f":"N14","v":1222},{"$f":"COUNTIF(L68:L98,AD14)","v":0},{"$f":"AE14/(AG4-AE20)","v":0},{"$f":"IF(AF14=0,0,(AF14*((LOG(AF14))/LOG(2))))","v":0},null,{"$f":"N14","v":1222},{"$f":"COUNTIF(L99:L128,AI14)","v":0},{"$f":"AJ14/(AL4-AJ20)","v":0},{"$f":"IF(AK14=0,0,(AK14*((LOG(AK14))/LOG(2))))","v":0},null,{"$f":"N14","v":1222},{"$f":"COUNTIF(L129:L159,AN14)","v":0},{"$f":"AO14/(AQ4-AO20)","v":0},{"$f":"IF(AP14=0,0,(AP14*((LOG(AP14))/LOG(2))))","v":0},null,{"$f":"N14","v":1222},{"$f":"COUNTIF(L160:L189,AS14)","v":0},{"$f":"AT14/(AV4-AT20)","v":0},{"$f":"IF(AU14=0,0,(AU14*((LOG(AU14))/LOG(2))))","v":0}]
[12,1194,23,1205,13,1221,14,1232,null,null,0,1211,null,2111,{"$f":"COUNTIF($L$7:$L$500,N15)","v":0},{"$f":"O15/$Q$4","v":0},{"$f":"IF(P15=0,0,(P15*((LOG(P15))/LOG(2))))","v":0},null,null,{"$f":"N15","v":2111},{"$f":"COUNTIF(L7:L37,T15)","v":0},{"$f":"U15/(W4-U20)","v":0},{"$f":"IF(V15=0,0,(V15*((LOG(V15))/LOG(2))))","v":0},null,{"$f":"N15","v":2111},{"$f":"COUNTIF(L38:L67,Y15)","v":0},{"$f":"Z15/(AB4-Z20)","v":0},{"$f":"IF(AA15=0,0,(AA15*((LOG(AA15))/LOG(2))))","v":0},null,{"$f":"N15","v":2111},{"$f":"COUNTIF(L68:L98,AD15)","v":0},{"$f":"AE15/(AG4-AE20)","v":0},{"$f":"IF(AF15=0,0,(AF15*((LOG(AF15))/LOG(2))))","v":0},null,{"$f":"N15","v":2111},{"$f":"COUNTIF(L99:L128,AI15)","v":0},{"$f":"AJ15/(AL4-AJ20)","v":0},{"$f":"IF(AK15=0,0,(AK15*((LOG(AK15))/LOG(2))))","v":0},null,{"$f":"N15","v":2111},{"$f":"COUNTIF(L129:L159,AN15)","v":0},{"$f":"AO15/(AQ4-AO20)","v":0},{"$f":"IF(AP15=0,0,(AP15*((LOG(AP15))/LOG(2))))","v":0},null,{"$f":"N15","v":2111},{"$f":"COUNTIF(L160:L189,AS15)","v":0},{"$f":"AT15/(AV4-AT20)","v":0},{"$f":"IF(AU15=0,0,(AU15*((LOG(AU15))/LOG(2))))","v":0}]
[12,1324,14,1333,13,1342,23,1356,null,null,0,1112,null,2112,{"$f":"COUNTIF($L$7:$L$500,N16)","v":0},{"$f":"O16/$Q$4","v":0},{"$f":"IF(P16=0,0,(P16*((LOG(P16))/LOG(2))))","v":0},null,null,{"$f":"N16","v":2112},{"$f":"COUNTIF(L7:L37,T16)","v":0},{"$f":"U16/(W4-U20)","v":0},{"$f":"IF(V16=0,0,(V16*((LOG(V16))/LOG(2))))","v":0},null,{"$f":"N16","v":2112},{"$f":"COUNTIF(L38:L67,Y16)","v":0},{"$f":"Z16/(AB4-Z20)","v":0},{"$f":"IF(AA16=0,0,(AA16*((LOG(AA16))/LOG(2))))","v":0},null,{"$f":"N16","v":2112},{"$f":"COUNTIF(L68:L98,AD16)","v":0},{"$f":"AE16/(AG4-AE20)","v":0},{"$f":"IF(AF16=0,0,(AF16*((LOG(AF16))/LOG(2))))","v":0},null,{"$f":"N16","v":2112},{"$f":"COUNTIF(L99:L128,AI16)","v":0},{"$f":"AJ16/(AL4-AJ20)","v":0},{"$f":"IF(AK16=0,0,(AK16*((LOG(AK16))/LOG(2))))","v":0},null,{"$f":"N16","v":2112},{"$f":"COUNTIF(L129:L159,AN16)","v":0},{"$f":"AO16/(AQ4-AO20)","v":0},{"$f":"IF(AP16=0,0,(AP16*((LOG(AP16))/LOG(2))))","v":0},null,{"$f":"N16","v":2112},{"$f":"COUNTIF(L160:L189,AS16)","v":0},{"$f":"AT16/(AV4-AT20)","v":0},{"$f":"IF(AU16=0,0,(AU16*((LOG(AU16))/LOG(2))))","v":0}]
[12,1459,14,1466,13,1471,14,1480,null,null,0,1111,null,2121,{"$f":"COUNTIF($L$7:$L$500,N17)","v":0},{"$f":"O17/$Q$4","v":0},{"$f":"IF(P17=0,0,(P17*((LOG(P17))/LOG(2))))","v":0},null,null,{"$f":"N17","v":2121},{"$f":"COUNTIF(L7:L37,T17)","v":0},{"$f":"U17/(W4-U20)","v":0},{"$f":"IF(V17=0,0,(V17*((LOG(V17))/LOG(2))))","v":0},null,{"$f":"N17","v":2121},{"$f":"COUNTIF(L38:L67,Y17)","v":0},{"$f":"Z17/(AB4-Z20)","v":0},{"$f":"IF(AA17=0,0,(AA17*((LOG(AA17))/LOG(2))))","v":0},null,{"$f":"N17","v":2121},{"$f":"COUNTIF(L68:L98,AD17)","v":0},{"$f":"AE17/(AG4-AE20)","v":0},{"$f":"IF(AF17=0,0,(AF17*((LOG(AF17))/LOG(2))))","v":0},null,{"$f":"N17","v":2121},{"$f":"COUNTIF(L99:L128,AI17)","v":0},{"$f":"AJ17/(AL4-AJ20)","v":0},{"$f":"IF(AK17=0,0,(AK17*((LOG(AK17))/LOG(2))))","v":0},null,{"$f":"N17","v":2121},{"$f":"COUNTIF(L129:L159,AN17)","v":0},{"$f":"AO17/(AQ4-AO20)","v":0},{"$f":"IF(AP17=0,0,(AP17*((LOG(AP17))/LOG(2))))","v":0},null,{"$f":"N17","v":2121},{"$f":"COUNTIF(L160:L189,AS17)","v":0},{"$f":"AT17/(AV4-AT20)","v":0},{"$f":"IF(AU17=0,0,(AU17*((LOG(AU17))/LOG(2))))","v":0}]
[12,1584,14,1595,13,1606,14,1614,null,null,0,1111,null,2122,{"$f":"COUNTIF($L$7:$L$500,N18)","v":1},{"$f":"O18/$Q$4","v":5.4644808743169399E-3},{"$f":"IF(P18=0,0,(P18*((LOG(P18))/LOG(2))))","v":-4.1069398023410066E-2},null,null,{"$f":"N18","v":2122},{"$f":"COUNTIF(L7:L37,T18)","v":1},{"$f":"U18/(W4-U20)","v":3.3333333333333333E-2},{"$f":"IF(V18=0,0,(V18*((LOG(V18))/LOG(2))))","v":-0.16356301985361729},null,{"$f":"N18","v":2122},{"$f":"COUNTIF(L38:L67,Y18)","v":0},{"$f":"Z18/(AB4-Z20)","v":0},{"$f":"IF(AA18=0,0,(AA18*((LOG(AA18))/LOG(2))))","v":0},null,{"$f":"N18","v":2122},{"$f":"COUNTIF(L68:L98,AD18)","v":0},{"$f":"AE18/(AG4-AE20)","v":0},{"$f":"IF(AF18=0,0,(AF18*((LOG(AF18))/LOG(2))))","v":0},null,{"$f":"N18","v":2122},{"$f":"COUNTIF(L99:L128,AI18)","v":0},{"$f":"AJ18/(AL4-AJ20)","v":0},{"$f":"IF(AK18=0,0,(AK18*((LOG(AK18))/LOG(2))))","v":0},null,{"$f":"N18","v":2122},{"$f":"COUNTIF(L129:L159,AN18)","v":0},{"$f":"AO18/(AQ4-AO20)","v":0},{"$f":"IF(AP18=0,0,(AP18*((LOG(AP18))/LOG(2))))","v":0},null,{"$f":"N18","v":2122},{"$f":"COUNTIF(L160:L189,AS18)","v":0},{"$f":"AT18/(AV4-AT20)","v":0},{"$f":"IF(AU18=0,0,(AU18*((LOG(AU18))/LOG(2))))","v":0}]
[12,1716,14,1726,13,1735,14,1747,null,null,0,1111,null,2211,{"$f":"COUNTIF($L$7:$L$500,N19)","v":1},{"$f":"O19/$Q$4","v":5.4644808743169399E-3},{"$f":"IF(P19=0,0,(P19*((LOG(P19))/LOG(2))))","v":-4.1069398023410066E-2},null,null,{"$f":"N19","v":2211},{"$f":"COUNTIF(L7:L37,T19)","v":0},{"$f":"U19/(W4-U20)","v":0},{"$f":"IF(V19=0,0,(V19*((LOG(V19))/LOG(2))))","v":0},null,{"$f":"N19","v":2211},{"$f":"COUNTIF(L38:L67,Y19)","v":0},{"$f":"Z19/(AB4-Z20)","v":0},{"$f":"IF(AA19=0,0,(AA19*((LOG(AA19))/LOG(2))))","v":0},null,{"$f":"N19","v":2211},{"$f":"COUNTIF(L68:L98,AD19)","v":1},{"$f":"AE19/(AG4-AE20)","v":3.2258064516129031E-2},{"$f":"IF(AF19=0,0,(AF19*((LOG(AF19))/LOG(2))))","v":-0.15981278420602821},null,{"$f":"N19","v":2211},{"$f":"COUNTIF(L99:L128,AI19)","v":0},{"$f":"AJ19/(AL4-AJ20)","v":0},{"$f":"IF(AK19=0,0,(AK19*((LOG(AK19))/LOG(2))))","v":0},null,{"$f":"N19","v":2211},{"$f":"COUNTIF(L129:L159,AN19)","v":0},{"$f":"AO19/(AQ4-AO20)","v":0},{"$f":"IF(AP19=0,0,(AP19*((LOG(AP19))/LOG(2))))","v":0},null,{"$f":"N19","v":2211},{"$f":"COUNTIF(L160:L189,AS19)","v":0},{"$f":"AT19/(AV4-AT20)","v":0},{"$f":"IF(AU19=0,0,(AU19*((LOG(AU19))/LOG(2))))","v":0}]
[12,1851,14,1861,13,1871,14,1881,null,null,0,1111,null,2212,{"$f":"COUNTIF($L$7:$L$500,N20)","v":1},{"$f":"O20/$Q$4","v":5.4644808743169399E-3},{"$f":"IF(P20=0,0,(P20*((LOG(P20))/LOG(2))))","v":-4.1069398023410066E-2},null,null,{"$f":"N20","v":2212},{"$f":"COUNTIF(L7:L37,T20)","v":1},null,null,null,{"$f":"N20","v":2212},{"$f":"COUNTIF(L38:L67,Y20)","v":0},null,null,null,{"$f":"N20","v":2212},{"$f":"COUNTIF(L68:L98,AD20)","v":0},null,null,null,{"$f":"N20","v":2212},{"$f":"COUNTIF(L99:L128,AI20)","v":0},null,null,null,{"$f":"N20","v":2212},{"$f":"COUNTIF(L129:L159,AN20)","v":0},null,null,null,{"$f":"N20","v":2212},{"$f":"COUNTIF(L160:L189,AS20)","v":0}]
[12,1990,14,2001,13,2010,14,2019,null,null,0,1111,null,2221,{"$f":"COUNTIF($L$7:$L$500,N21)","v":1},{"$f":"O21/$Q$4","v":5.4644808743169399E-3},{"$f":"IF(P21=0,0,(P21*((LOG(P21))/LOG(2))))","v":-4.1069398023410066E-2},null,null,{"$f":"N21","v":2221},{"$f":"COUNTIF(L7:L37,T21)","v":1},{"$f":"U21/(W4-U20)","v":3.3333333333333333E-2},{"$f":"IF(V21=0,0,(V21*((LOG(V21))/LOG(2))))","v":-0.16356301985361729},null,{"$f":"N21","v":2221},{"$f":"COUNTIF(L38:L67,Y21)","v":0},{"$f":"Z21/(AB4-Z20)","v":0},{"$f":"IF(AA21=0,0,(AA21*((LOG(AA21))/LOG(2))))","v":0},null,{"$f":"N21","v":2221},{"$f":"COUNTIF(L68:L98,AD21)","v":0},{"$f":"AE21/(AG4-AE20)","v":0},{"$f":"IF(AF21=0,0,(AF21*((LOG(AF21))/LOG(2))))","v":0},null,{"$f":"N21","v":2221},{"$f":"COUNTIF(L99:L128,AI21)","v":0},{"$f":"AJ21/(AL4-AJ20)","v":0},{"$f":"IF(AK21=0,0,(AK21*((LOG(AK21))/LOG(2))))","v":0},null,{"$f":"N21","v":2221},{"$f":"COUNTIF(L129:L159,AN21)","v":0},{"$f":"AO21/(AQ4-AO20)","v":0},{"$f":"IF(AP21=0,0,(AP21*((LOG(AP21))/LOG(2))))","v":0},null,{"$f":"N21","v":2221},{"$f":"COUNTIF(L160:L189,AS21)","v":0},{"$f":"AT21/(AV4-AT20)","v":0},{"$f":"IF(AU21=0,0,(AU21*((LOG(AU21))/LOG(2))))","v":0}]
[12,2116,14,2127,13,2137,23,2159,null,null,0,1112,null,2222,{"$f":"COUNTIF($L$7:$L$500,N22)","v":0},{"$f":"O22/$Q$4","v":0},{"$f":"IF(P22=0,0,(P22*((LOG(P22))/LOG(2))))","v":0},null,null,{"$f":"N22","v":2222},{"$f":"COUNTIF(L7:L37,T22)","v":0},{"$f":"U22/(W4-U20)","v":0},{"$f":"IF(V22=0,0,(V22*((LOG(V22))/LOG(2))))","v":0},null,{"$f":"N22","v":2222},{"$f":"COUNTIF(L38:L67,Y22)","v":0},{"$f":"Z22/(AB4-Z20)","v":0},{"$f":"IF(AA22=0,0,(AA22*((LOG(AA22))/LOG(2))))","v":0},null,{"$f":"N22","v":2222},{"$f":"COUNTIF(L68:L98,AD22)","v":0},{"$f":"AE22/(AG4-AE20)","v":0},{"$f":"IF(AF22=0,0,(AF22*((LOG(AF22))/LOG(2))))","v":0},null,{"$f":"N22","v":2222},{"$f":"COUNTIF(L99:L128,AI22)","v":0},{"$f":"AJ22/(AL4-AJ20)","v":0},{"$f":"IF(AK22=0,0,(AK22*((LOG(AK22))/LOG(2))))","v":0},null,{"$f":"N22","v":2222},{"$f":"COUNTIF(L129:L159,AN22)","v":0},{"$f":"AO22/(AQ4-AO20)","v":0},{"$f":"IF(AP22=0,0,(AP22*((LOG(AP22))/LOG(2))))","v":0},null,{"$f":"N22","v":2222},{"$f":"COUNTIF(L160:L189,AS22)","v":0},{"$f":"AT22/(AV4-AT20)","v":0},{"$f":"IF(AU22=0,0,(AU22*((LOG(AU22))/LOG(2))))","v":0}]
[12,2262,14,2272,13,2282,14,2295,null,null,0,1111,null,null,null,{"$f":"SUM(P7:P22)","v":1},{"$f":"-SUM(Q7:Q22)","v":0.66215867805491402},null,null,null,null,{"$f":"SUM(V7:V22)","v":1},{"$f":"-SUM(W7:W22)","v":1.3721597626314754},null,null,null,{"$f":"SUM(AA7:AA22)","v":1},{"$f":"-SUM(AB7:AB22)","v":0},null,null,null,{"$f":"SUM(AF7:AF22)","v":1},{"$f":"-SUM(AG7:AG22)","v":0.20559250818508301},null,null,null,{"$f":"SUM(AK7:AK22)","v":1},{"$f":"-SUM(AL7:AL22)","v":0.21084230031853213},null,null,null,{"$f":"SUM(AP7:AP22)","v":1},{"$f":"-SUM(AQ7:AQ22)","v":0.20559250818508301},null,null,null,{"$f":"SUM(AU7:AU22)","v":1},{"$f":"-SUM(AV7:AV22)","v":0.87851418739079901}]
[12,2399,14,2408,13,2418,14,2428,null,null,0,1111,null,null,null,"U=",{"$f":"Q23/(LOG(Q4)/LOG(2))","v":8.8103395865007803E-2},null,null,null,null,"U1=",{"$f":"W23/(LOG(W4)/LOG(2))","v":0.27696919473187426},null,null,null,"U2=",{"$f":"AB23/(LOG(AB4)/LOG(2))","v":0},null,null,null,"U3=",{"$f":"AG23/(LOG(AG4)/LOG(2))","v":4.1498659985281898E-2},null,null,null,"U4=",{"$f":"AL23/(LOG(AL4)/LOG(2))","v":4.2968616522085903E-2},null,null,null,"U5=",{"$f":"AQ23/(LOG(AQ4)/LOG(2))","v":4.1498659985281898E-2},null,null,null,"U6=",{"$f":"AV23/(LOG(AV4)/LOG(2))","v":0.17903684018898566}]
[12,2533,14,2543,13,2553,14,2574,null,null,0,1111]
[12,2681,14,2690,13,2699,14,2710,null,null,0,1111]
[12,2808,14,2817,13,2826,14,2852,null,null,0,1111,null,"Total Target Seq"]
[12,2959,14,2969,13,2977,14,2986,null,null,0,1111,null,{"$f":"COUNTIF(L7:L189,G3)","v":1},null,31,30,31,30,31,30]
[12,3093,14,3099,13,3115,14,3124,null,null,0,1111,null,null,null,"% of reinforcement given in 6 equal intervals based on number of trials "]
[12,3230,14,3239,13,3247,14,3257,null,null,0,1111,null,null,null,"%_1","%_2","%_3","%_4","%_5","%_6"]
[12,3366,14,3372,13,3389,14,3397,null,null,0,1111,null,null,"target sequence",{"$f":"$G$3","v":2212},{"$f":"$G$3","v":2212},{"$f":"$G$3","v":2212},{"$f":"$G$3","v":2212},{"$f":"$G$3","v":2212},{"$f":"$G$3","v":2212}]
[12,3503,14,3512,13,3523,14,3537,null,null,0,1111,null,null,"total reinforcement",{"$f":"U20","v":1},{"$f":"Z20","v":0},{"$f":"AE20","v":0},{"$f":"AJ20","v":0},{"$f":"AO20","v":0},{"$f":"AT20","v":0}]
[12,3640,14,3650,13,3655,14,3665,null,null,0,1111,null,null,"% target"]
[12,3764,14,3773,13,3783,14,3793,null,null,0,1111,null,null,"CCRF"]
[12,3901,14,3912,13,3918,14,3926,null,null,0,1111,null,null,"% CCRf"]
[12,4031,14,4042,13,4051,14,4061,null,null,0,1111,null,null,"average response rate",{"$f":"H37/P28","v":135.41935483870967},{"$f":"(H67-H37)/Q28","v":132.46666666666667},{"$f":"(H98-H67)/R28","v":129.61290322580646},{"$f":"(H128-H98)/S28","v":132.30000000000001},{"$f":"(H159-H128)/T28","v":125.41935483870968},{"$f":"(H189-H159)/U28","v":129.6}]
[12,4168,14,4178,13,4187,14,4198,null,null,0,1111]
[12,4304,14,4310,13,4315,14,4321,null,null,0,1111]
[12,4437,14,4443,13,4449,14,4458,null,null,0,1111]
[12,4567,14,4574,13,4581,14,4598,null,null,0,1111]
[12,4704,14,4711,13,4722,14,4731,null,null,0,1111]
[12,4839,14,4848,13,4854,14,4865,null,null,0,1111]
[12,4972,14,4981,13,4991,14,5003,null,null,0,1111]
[12,5108,14,5123,13,5133,14,5143,null,null,0,1111]
[12,5251,14,5259,13,5264,14,5274,null,null,0,1111]
[12,5390,14,5396,13,5405,14,5415,null,null,0,1111]
[12,5521,14,5532,13,5542,14,5554,null,null,0,1111]
[12,5667,14,5673,13,5678,14,5687,null,null,0,1111]
[12,5794,14,5804,13,5814,14,5826,null,null,0,1111]
[12,5934,14,5943,13,5951,14,5962,null,null,0,1111]
[12,6068,14,6074,13,6080,14,6088,null,null,0,1111]
[12,6188,14,6195,13,6200,14,6209,null,null,0,1111]
[12,6317,14,6323,13,6328,14,6338,null,null,0,1111]
[12,6449,14,6455,13,6460,14,6469,null,null,0,1111]
[12,6578,14,6584,13,6589,14,6595,null,null,0,1111]
[12,6701,14,6707,13,6713,14,6722,null,null,0,1111]
[12,6831,14,6838,13,6847,14,6855,null,null,0,1111]
[12,6962,14,6973,13,6983,14,6991,null,null,0,1111]
[12,7097,14,7107,13,7117,14,7125,null,null,0,1111]
[12,7245,14,7250,13,7258,14,7267,null,null,0,1111]
[12,7376,14,7383,13,7388,14,7394,null,null,0,1111]
[12,7511,14,7517,13,7523,14,7532,null,null,0,1111]
[12,7631,14,7641,13,7650,14,7658,null,null,0,1111]
[12,7764,14,7773,13,7774,14,7781,null,null,0,1111]
[12,7882,14,7891,13,7898,14,7906,null,null,0,1111]
[12,8009,14,8017,13,8026,14,8035,null,null,0,1111]
[12,8148,14,8154,13,8162,14,8172,null,null,0,1111]
[12,8282,14,8292,13,8300,14,8309,null,null,0,1111]
[12,8404,14,8413,13,8424,14,8432,null,null,0,1111]
[12,8533,14,8539,13,8544,14,8553,null,null,0,1111]
[12,8662,14,8667,13,8672,14,8677,null,null,0,1111]
[12,8788,14,8794,13,8802,14,8811,null,null,0,1111]
[21,8976,21,8986,11,9006,12,9019,null,null,0,2211]
[12,9128,14,9135,13,9140,14,9149,null,null,0,1111]
[12,9257,14,9262,13,9268,14,9275,null,null,0,1111]
[12,9383,14,9391,13,9405,14,9415,null,null,0,1111]
[12,9520,14,9526,13,9531,14,9540,null,null,0,1111]
[12,9638,14,9646,13,9675,14,9687,null,null,0,1111]
[12,9791,14,9800,13,9807,14,9812,null,null,0,1111]
[12,9919,14,9925,13,9929,14,9938,null,null,0,1111]
[12,10033,14,10040,13,10049,14,10054,null,null,0,1111]
[12,10159,14,10165,13,10169,14,10179,null,null,0,1111]
[12,10285,14,10291,13,10296,14,10304,null,null,0,1111]
[12,10409,14,10415,13,10424,14,10432,null,null,0,1111]
[12,10524,14,10538,13,10543,14,10551,null,null,0,1111]
[12,10655,14,10664,13,10669,14,10679,null,null,0,1111]
[12,10780,14,10785,13,10790,14,10798,null,null,0,1111]
[12,10917,14,10927,13,10932,14,10940,null,null,0,1111]
[12,11040,14,11046,13,11053,14,11057,null,null,0,1111]
[12,11157,14,11163,13,11172,14,11181,null,null,0,1111]
[12,11292,14,11298,13,11304,14,11312,null,null,0,1111]
[12,11420,14,11426,13,11430,14,11438,null,null,0,1111]
[12,11547,14,11556,13,11565,14,11573,null,null,0,1111]
[12,11674,14,11680,13,11685,14,11695,null,null,0,1111]
[12,11800,14,11806,13,11811,14,11819,null,null,0,1111]
[12,11921,14,11926,13,11936,14,11945,null,null,0,1111]
[12,12049,14,12060,13,12066,14,12074,null,null,0,1111]
[12,12172,14,12179,13,12184,14,12190,null,null,0,1111]
[12,12334,14,12342,13,12350,14,12362,null,null,0,1111]
[12,12465,14,12473,13,12482,14,12491,null,null,0,1111]
[12,12596,14,12602,13,12607,14,12616,null,null,0,1111]
[12,12725,14,12736,13,12743,14,12751,null,null,0,1111]
[12,12859,14,12865,13,12870,14,12875,null,null,0,1111]
[12,12980,14,12990,13,12998,14,13005,null,null,0,1111]
[12,13113,14,13119,13,13123,14,13129,null,null,0,1111]
[12,13231,14,13240,13,13250,14,13257,null,null,0,1111]
[12,13357,14,13365,13,13375,14,13383,null,null,0,1111]
[12,13490,14,13496,13,13501,14,13511,null,null,0,1111]
[12,13616,14,13625,13,13635,14,13644,null,null,0,1111]
[12,13756,14,13765,13,13772,14,13780,null,null,0,1111]
[12,13875,14,13881,13,13886,14,13895,null,null,0,1111]
[12,14007,14,14016,13,14021,14,14030,null,null,0,1111]
[12,14135,14,14140,13,14145,14,14154,null,null,0,1111]
[12,14262,14,14267,13,14276,14,14284,null,null,0,1111]
[12,14392,14,14397,13,14406,14,14413,null,null,0,1111]
[12,14520,14,14525,13,14530,14,14539,null,null,0,1111]
[12,14633,14,14641,13,14647,14,14656,null,null,0,1111]
[12,14771,14,14776,13,14781,14,14789,null,null,0,1111]
[12,14893,14,14899,13,14905,14,14915,null,null,0,1111]
[12,15019,14,15025,13,15029,14,15034,null,null,0,1111]
[12,15152,14,15165,13,15174,14,15184,null,null,0,1111]
[12,15294,14,15302,13,15310,14,15319,null,null,0,1111]
[12,15414,14,15423,13,15431,14,15439,null,null,0,1111]
[12,15551,14,15560,13,15566,14,15578,null,null,0,1111]
[12,15681,14,15693,13,15698,14,15706,null,null,0,1111]
[12,15814,14,15824,13,15836,14,15845,null,null,0,1111]
[12,15946,14,15951,13,15956,14,15961,null,null,0,1111]
[12,16107,23,16126,24,16134,14,16159,null,null,0,1221]
[12,16261,14,16266,13,16276,14,16284,null,null,0,1111]
[12,16381,14,16387,13,16393,14,16397,null,null,0,1111]
[12,16500,14,16509,13,16514,14,16525,null,null,0,1111]
[12,16626,14,16632,13,16636,14,16645,null,null,0,1111]
[12,16745,14,16751,13,16757,14,16765,null,null,0,1111]
[12,16872,14,16877,13,16883,14,16889,null,null,0,1111]
[12,16998,14,17003,13,17012,14,17019,null,null,0,1111]
[12,17125,14,17132,13,17137,14,17149,null,null,0,1111]
[12,17251,14,17257,13,17265,14,17274,null,null,0,1111]
[12,17371,14,17377,13,17382,14,17387,null,null,0,1111]
[12,17489,14,17495,13,17500,14,17509,null,null,0,1111]
[12,17693,14,17709,24,17720,23,17730,null,null,0,1122]
[12,17831,14,17838,13,17843,14,17852,null,null,0,1111]
[12,17955,14,17961,13,17966,14,17975,null,null,0,1111]
[12,18073,14,18078,13,18083,14,18088,null,null,0,1111]
[12,18193,14,18199,13,18204,14,18212,null,null,0,1111]
[12,18319,14,18324,13,18329,14,18334,null,null,0,1111]
[12,18448,14,18454,13,18475,14,18488,null,null,0,1111]
[12,18581,14,18586,13,18591,14,18596,null,null,0,1111]
[12,18694,14,18699,13,18704,14,18712,null,null,0,1111]
[12,18817,14,18824,13,18829,14,18833,null,null,0,1111]
[12,18933,14,18938,13,18949,14,18957,null,null,0,1111]
[12,19059,14,19065,13,19070,14,19075,null,null,0,1111]
[12,19179,14,19184,13,19193,14,19201,null,null,0,1111]
[12,19302,14,19306,13,19311,14,19316,null,null,0,1111]
[12,19413,14,19419,13,19424,14,19433,null,null,0,1111]
[12,19533,14,19538,13,19544,14,19552,null,null,0,1111]
[12,19652,14,19659,13,19663,14,19668,null,null,0,1111]
[12,19773,14,19778,13,19783,14,19791,null,null,0,1111]
[12,19898,14,19904,13,19909,14,19918,null,null,0,1111]
[12,20020,14,20029,13,20037,14,20047,null,null,0,1111]
[12,20153,14,20159,13,20168,14,20175,null,null,0,1111]
[12,20283,14,20288,13,20294,14,20302,null,null,0,1111]
[12,20400,14,20406,13,20411,14,20417,null,null,0,1111]
[12,20525,14,20531,13,20538,14,20548,null,null,0,1111]
[12,20653,14,20659,13,20672,14,20680,null,null,0,1111]
[12,20780,14,20785,13,20790,14,20799,null,null,0,1111]
[12,20898,14,20903,13,20907,14,20915,null,null,0,1111]
[12,21014,14,21019,13,21024,14,21028,null,null,0,1111]
[12,21127,14,21136,13,21142,14,21151,null,null,0,1111]
[12,21257,14,21262,13,21267,14,21275,null,null,0,1111]
[12,21382,14,21388,13,21393,14,21398,null,null,0,1111]
[12,21498,14,21504,13,21509,14,21517,null,null,0,1111]
[12,21624,14,21630,13,21639,14,21647,null,null,0,1111]
[12,21754,14,21760,13,21771,14,21780,null,null,0,1111]
[12,21878,14,21884,13,21889,14,21895,null,null,0,1111]
[12,22003,14,22007,13,22013,14,22018,null,null,0,1111]
[12,22129,14,22135,13,22140,14,22145,null,null,0,1111]
[12,22371,23,22382,24,22394,14,22412,null,null,0,1221]
[12,22533,14,22539,24,22548,23,22562,null,null,0,1122]
[12,22664,14,22673,13,22682,14,22693,null,null,0,1111]
[12,22792,14,22799,13,22805,23,22818,null,null,0,1112]
[12,22919,14,22924,13,22933,23,22963,null,null,0,1112]
[12,23065,14,23070,13,23075,14,23086,null,null,0,1111]
[12,23184,14,23189,13,23194,14,23199,null,null,0,1111]
[12,23297,14,23302,13,23308,23,23319,null,null,0,1112]
[12,23425,14,23431,13,23436,14,23444,null,null,0,1111]
[12,23550,14,23555,13,23561,14,23566,null,null,0,1111]
[12,23666,14,23671,13,23676,14,23685,null,null,0,1111]
[12,23791,14,23797,13,23803,14,23809,null,null,0,1111]
[12,23908,14,23917,13,23925,14,23935,null,null,null,1111]

{"sheet":"!L909D30.056","index":12,"n_rows":210,"n_cols":48,"rows_kept":210,"cut":false,"hidden":false,"merged":[[4,39,4,42],[5,39,5,40],[4,44,4,47],[5,44,5,45],[4,24,4,27],[5,24,5,25],[4,29,4,32],[5,29,5,30],[4,34,4,37],[5,34,5,35],[1,1,1,2],[5,13,5,14],[26,13,26,14],[27,13,27,14],[4,19,4,22],[5,19,5,20]]}
["Report for:!L909D30.056"]
["Date:","<date>"]
["Hen:","<hen>",null,null,null,"Correct Sequence",{"$f":"Start!J2","v":2212},null,null,null,null,null,null,null,null,"Total Sequences in Data",{"$f":"4994-COUNTBLANK(L7:L5000)","v":204},null,null,null,null,"Total Sequences in Block Data",{"$f":"COUNTA(L7:L40)","v":34},null,null,null,"Total Sequences in Block Data",{"$f":"COUNTA(L41:L74)","v":34},null,null,null,"Total Sequences in Block Data",{"$f":"COUNTA(L75:L108)","v":34},null,null,null,"Total Sequences in Block Data",{"$f":"COUNTA(L109:L142)","v":34},null,null,null,"Total Sequences in Block Data",{"$f":"COUNTA(L143:L176)","v":34},null,null,null,"Total Sequences in Block Data",{"$f":"COUNTA(L177:L210)","v":34}]
[null,null,null,null,null,null,null,null,null,null,null,null,null,null,null,"Total Sequences in Summary",{"$f":"SUM(O7:O22)","v":204},null,null,null,null,"Total Sequences in Block Summary",{"$f":"SUM(U7:U22)","v":34},null,null,null,"Total Sequences in Block Summary",{"$f":"SUM(Z7:Z22)","v":34},null,null,null,"Total Sequences in Block Summary",{"$f":"SUM(AE7:AE22)","v":34},null,null,null,"Total Sequences in Block Summary",{"$f":"SUM(AJ7:AJ22)","v":34},null,null,null,"Total Sequences in Block Summary",{"$f":"SUM(AO7:AO22)","v":34},null,null,null,"Total Sequences in Block Summary",{"$f":"SUM(AT7:AT22)","v":34}]
[null,null,null,null,null,null,null,null,null,null,null,null,null,null,null,null,null,null,null,"Block 1",null,null,null,null,"Block 2",null,null,null,null,"Block 3",null,null,null,null,"Block 4",null,null,null,null,"Block 5",null,null,null,null,"Block 6"]
["Sequence\nComponent\n1","Time\n1","Sequence\nComponent\n2","Time\n2","Sequence\nComponent\n3","Time\n3","Sequence\nComponent\n4","Time\n4","Sequence\nComponent\n5","Time\n5","Correct?\n0=No 1=Yes","Sequence",null,"Frequency",null,"Relative Frequency","Variability",null,null,"Frequency",null,"Relative Frequency","Variability",null,"Frequency",null,"Relative Frequency","Variability",null,"Frequency",null,"Relative Frequency","Variability",null,"Frequency",null,"Relative Frequency","Variability",null,"Frequency",null,"Relative Frequency","Variability",null,"Frequency",null,"Relative Frequency","Variability"]
[12,31,14,37,24,48,14,65,null,null,0,1121,null,1111,{"$f":"COUNTIF($L$7:$L$500,N7)","v":197},{"$f":"O7/$Q$4","v":0.96568627450980393},{"$f":"IF(P7=0,0,(P7*((LOG(P7))/LOG(2))))","v":-4.8645019291561294E-2},null,null,{"$f":"N7","v":1111},{"$f":"COUNTIF(L7:L40,T7)","v":31},{"$f":"U7/(W4-U20)","v":0.91176470588235292},{"$f":"IF(V7=0,0,(V7*((LOG(V7))/LOG(2))))","v":-0.12150771931668795},null,{"$f":"N7","v":1111},{"$f":"COUNTIF(L41:L74,Y7)","v":33},{"$f":"Z7/(AB4-Z20)","v":0.97058823529411764},{"$f":"IF(AA7=0,0,(AA7*((LOG(AA7))/LOG(2))))","v":-4.1801994777418743E-2},null,{"$f":"N7","v":1111},{"$f":"COUNTIF(L75:L108,AD7)","v":34},{"$f":"AE7/(AG4-AE20)","v":1},{"$f":"IF(AF7=0,0,(AF7*((LOG(AF7))/LOG(2))))","v":0},null,{"$f":"N7","v":1111},{"$f":"COUNTIF(L109:L142,AI7)","v":33},{"$f":"AJ7/(AL4-AJ20)","v":0.97058823529411764},{"$f":"IF(AK7=0,0,(AK7*((LOG(AK7))/LOG(2))))","v":-4.1801994777418743E-2},null,{"$f":"N7","v":1111},{"$f":"COUNTIF(L143:L176,AN7)","v":33},{"$f":"AO7/(AQ4-AO20)","v":0.97058823529411764},{"$f":"IF(AP7=0,0,(AP7*((LOG(AP7))/LOG(2))))","v":-4.1801994777418743E-2},null,{"$f":"N7","v":1111},{"$f":"COUNTIF(L177:L210,AS7)","v":33},{"$f":"AT7/(AV4-AT20)","v":0.97058823529411764},{"$f":"IF(AU7=0,0,(AU7*((LOG(AU7))/LOG(2))))","v":-4.1801994777418743E-2}]
[12,164,14,171,13,176,23,186,null,null,0,1112,null,1112,{"$f":"COUNTIF($L$7:$L$500,N8)","v":5},{"$f":"O8/$Q$4","v":2.4509803921568627E-2},{"$f":"IF(P8=0,0,(P8*((LOG(P8))/LOG(2))))","v":-0.13113963840892484},null,null,{"$f":"N8","v":1112},{"$f":"COUNTIF(L7:L40,T8)","v":2},{"$f":"U8/(W4-U20)","v":5.8823529411764705E-2},{"$f":"IF(V8=0,0,(V8*((LOG(V8))/LOG(2))))","v":-0.24043899066178465},null,{"$f":"N8","v":1112},{"$f":"COUNTIF(L41:L74,Y8)","v":0},{"$f":"Z8/(AB4-Z20)","v":0},{"$f":"IF(AA8=0,0,(AA8*((LOG(AA8))/LOG(2))))","v":0},null,{"$f":"N8","v":1112},{"$f":"COUNTIF(L75:L108,AD8)","v":0},{"$f":"AE8/(AG4-AE20)","v":0},{"$f":"IF(AF8=0,0,(AF8*((LOG(AF8))/LOG(2))))","v":0},null,{"$f":"N8","v":1112},{"$f":"COUNTIF(L109:L142,AI8)","v":1},{"$f":"AJ8/(AL4-AJ20)","v":2.9411764705882353E-2},{"$f":"IF(AK8=0,0,(AK8*((LOG(AK8))/LOG(2))))","v":-0.14963126003677468},null,{"$f":"N8","v":1112},{"$f":"COUNTIF(L143:L176,AN8)","v":1},{"$f":"AO8/(AQ4-AO20)","v":2.9411764705882353E-2},{"$f":"IF(AP8=0,0,(AP8*((LOG(AP8))/LOG(2))))","v":-0.14963126003677468},null,{"$f":"N8","v":1112},{"$f":"COUNTIF(L177:L210,AS8)","v":1},{"$f":"AT8/(AV4-AT20)","v":2.9411764705882353E-2},{"$f":"IF(AU8=0,0,(AU8*((LOG(AU8))/LOG(2))))","v":-0.14963126003677468}]
[12,285,14,292,13,300,14,311,null,null,0,1111,null,1121,{"$f":"COUNTIF($L$7:$L$500,N9)","v":1},{"$f":"O9/$Q$4","v":4.9019607843137254E-3},{"$f":"IF(P9=0,0,(P9*((LOG(P9))/LOG(2))))","v":-3.7609928146919096E-2},null,null,{"$f":"N9","v":1121},{"$f":"COUNTIF(L7:L40,T9)","v":1},{"$f":"U9/(W4-U20)","v":2.9411764705882353E-2},{"$f":"IF(V9=0,0,(V9*((LOG(V9))/LOG(2))))","v":-0.14963126003677468},null,{"$f":"N9","v":1121},{"$f":"COUNTIF(L41:L74,Y9)","v":0},{"$f":"Z9/(AB4-Z20)","v":0},{"$f":"IF(AA9=0,0,(AA9*((LOG(AA9))/LOG(2))))","v":0},null,{"$f":"N9","v":1121},{"$f":"COUNTIF(L75:L108,AD9)","v":0},{"$f":"AE9/(AG4-AE20)","v":0},{"$f":"IF(AF9=0,0,(AF9*((LOG(AF9))/LOG(2))))","v":0},null,{"$f":"N9","v":1121},{"$f":"COUNTIF(L109:L142,AI9)","v":0},{"$f":"AJ9/(AL4-AJ20)","v":0},{"$f":"IF(AK9=0,0,(AK9*((LOG(AK9))/LOG(2))))","v":0},null,{"$f":"N9","v":1121},{"$f":"COUNTIF(L143:L176,AN9)","v":0},{"$f":"AO9/(AQ4-AO20)","v":0},{"$f":"IF(AP9=0,0,(AP9*((LOG(AP9))/LOG(2))))","v":0},null,{"$f":"N9","v":1121},{"$f":"COUNTIF(L177:L210,AS9)","v":0},{"$f":"AT9/(AV4-AT20)","v":0},{"$f":"IF(AU9=0,0,(AU9*((LOG(AU9))/LOG(2))))","v":0}]
[12,413,14,421,13,431,23,451,null,null,0,1112,null,1122,{"$f":"COUNTIF($L$7:$L$500,N10)","v":0},{"$f":"O10/$Q$4","v":0},{"$f":"IF(P10=0,0,(P10*((LOG(P10))/LOG(2))))","v":0},null,null,{"$f":"N10","v":1122},{"$f":"COUNTIF(L7:L40,T10)","v":0},{"$f":"U10/(W4-U20)","v":0},{"$f":"IF(V10=0,0,(V10*((LOG(V10))/LOG(2))))","v":0},null,{"$f":"N10","v":1122},{"$f":"COUNTIF(L41:L74,Y10)","v":0},{"$f":"Z10/(AB4-Z20)","v":0},{"$f":"IF(AA10=0,0,(AA10*((LOG(AA10))/LOG(2))))","v":0},null,{"$f":"N10","v":1122},{"$f":"COUNTIF(L75:L108,AD10)","v":0},{"$f":"AE10/(AG4-AE20)","v":0},{"$f":"IF(AF10=0,0,(AF10*((LOG(AF10))/LOG(2))))","v":0},null,{"$f":"N10","v":1122},{"$f":"COUNTIF(L109:L142,AI10)","v":0},{"$f":"AJ10/(AL4-AJ20)","v":0},{"$f":"IF(AK10=0,0,(AK10*((LOG(AK10))/LOG(2))))","v":0},null,{"$f":"N10","v":1122},{"$f":"COUNTIF(L143:L176,AN10)","v":0},{"$f":"AO10/(AQ4-AO20)","v":0},{"$f":"IF(AP10=0,0,(AP10*((LOG(AP10))/LOG(2))))","v":0},null,{"$f":"N10","v":1122},{"$f":"COUNTIF(L177:L210,AS10)","v":0},{"$f":"AT10/(AV4-AT20)","v":0},{"$f":"IF(AU10=0,0,(AU10*((LOG(AU10))/LOG(2))))","v":0}]
[12,549,14,555,13,560,14,569,null,null,0,1111,null,1211,{"$f":"COUNTIF($L$7:$L$500,N11)","v":0},{"$f":"O11/$Q$4","v":0},{"$f":"IF(P11=0,0,(P11*((LOG(P11))/LOG(2))))","v":0},null,null,{"$f":"N11","v":1211},{"$f":"COUNTIF(L7:L40,T11)","v":0},{"$f":"U11/(W4-U20)","v":0},{"$f":"IF(V11=0,0,(V11*((LOG(V11))/LOG(2))))","v":0},null,{"$f":"N11","v":1211},{"$f":"COUNTIF(L41:L74,Y11)","v":0},{"$f":"Z11/(AB4-Z20)","v":0},{"$f":"IF(AA11=0,0,(AA11*((LOG(AA11))/LOG(2))))","v":0},null,{"$f":"N11","v":1211},{"$f":"COUNTIF(L75:L108,AD11)","v":0},{"$f":"AE11/(AG4-AE20)","v":0},{"$f":"IF(AF11=0,0,(AF11*((LOG(AF11))/LOG(2))))","v":0},null,{"$f":"N11","v":1211},{"$f":"COUNTIF(L109:L142,AI11)","v":0},{"$f":"AJ11/(AL4-AJ20)","v":0},{"$f":"IF(AK11=0,0,(AK11*((LOG(AK11))/LOG(2))))","v":0},null,{"$f":"N11","v":1211},{"$f":"COUNTIF(L143:L176,AN11)","v":0},{"$f":"AO11/(AQ4-AO20)","v":0},{"$f":"IF(AP11=0,0,(AP11*((LOG(AP11))/LOG(2))))","v":0},null,{"$f":"N11","v":1211},{"$f":"COUNTIF(L177:L210,AS11)","v":0},{"$f":"AT11/(AV4-AT20)","v":0},{"$f":"IF(AU11=0,0,(AU11*((LOG(AU11))/LOG(2))))","v":0}]
[12,663,14,668,13,674,14,683,null,null,0,1111,null,1212,{"$f":"COUNTIF($L$7:$L$500,N12)","v":0},{"$f":"O12/$Q$4","v":0},{"$f":"IF(P12=0,0,(P12*((LOG(P12))/LOG(2))))","v":0},null,null,{"$f":"N12","v":1212},{"$f":"COUNTIF(L7:L40,T12)","v":0},{"$f":"U12/(W4-U20)","v":0},{"$f":"IF(V12=0,0,(V12*((LOG(V12))/LOG(2))))","v":0},null,{"$f":"N12","v":1212},{"$f":"COUNTIF(L41:L74,Y12)","v":0},{"$f":"Z12/(AB4-Z20)","v":0},{"$f":"IF(AA12=0,0,(AA12*((LOG(AA12))/LOG(2))))","v":0},null,{"$f":"N12","v":1212},{"$f":"COUNTIF(L75:L108,AD12)","v":0},{"$f":"AE12/(AG4-AE20)","v":0},{"$f":"IF(AF12=0,0,(AF12*((LOG(AF12))/LOG(2))))","v":0},null,{"$f":"N12","v":1212},{"$f":"COUNTIF(L109:L142,AI12)","v":0},{"$f":"AJ12/(AL4-AJ20)","v":0},{"$f":"IF(AK12=0,0,(AK12*((LOG(AK12))/LOG(2))))","v":0},null,{"$f":"N12","v":1212},{"$f":"COUNTIF(L143:L176,AN12)","v":0},{"$f":"AO12/(AQ4-AO20)","v":0},{"$f":"IF(AP12=0,0,(AP12*((LOG(AP12))/LOG(2))))","v":0},null,{"$f":"N12","v":1212},{"$f":"COUNTIF(L177:L210,AS12)","v":0},{"$f":"AT12/(AV4-AT20)","v":0},{"$f":"IF(AU12=0,0,(AU12*((LOG(AU12))/LOG(2))))","v":0}]
[12,788,14,796,13,802,14,811,null,null,0,1111,null,1221,{"$f":"COUNTIF($L$7:$L$500,N13)","v":0},{"$f":"O13/$Q$4","v":0},{"$f":"IF(P13=0,0,(P13*((LOG(P13))/LOG(2))))","v":0},null,null,{"$f":"N13","v":1221},{"$f":"COUNTIF(L7:L40,T13)","v":0},{"$f":"U13/(W4-U20)","v":0},{"$f":"IF(V13=0,0,(V13*((LOG(V13))/LOG(2))))","v":0},null,{"$f":"N13","v":1221},{"$f":"COUNTIF(L41:L74,Y13)","v":0},{"$f":"Z13/(AB4-Z20)","v":0},{"$f":"IF(AA13=0,0,(AA13*((LOG(AA13))/LOG(2))))","v":0},null,{"$f":"N13","v":1221},{"$f":"COUNTIF(L75:L108,AD13)","v":0},{"$f":"AE13/(AG4-AE20)","v":0},{"$f":"IF(AF13=0,0,(AF13*((LOG(AF13))/LOG(2))))","v":0},null,{"$f":"N13","v":1221},{"$f":"COUNTIF(L109:L142,AI13)","v":0},{"$f":"AJ13/(AL4-AJ20)","v":0},{"$f":"IF(AK13=0,0,(AK13*((LOG(AK13))/LOG(2))))","v":0},null,{"$f":"N13","v":1221},{"$f":"COUNTIF(L143:L176,AN13)","v":0},{"$f":"AO13/(AQ4-AO20)","v":0},{"$f":"IF(AP13=0,0,(AP13*((LOG(AP13))/LOG(2))))","v":0},null,{"$f":"N13","v":1221},{"$f":"COUNTIF(L177:L210,AS13)","v":0},{"$f":"AT13/(AV4-AT20)","v":0},{"$f":"IF(AU13=0,0,(AU13*((LOG(AU13))/LOG(2))))","v":0}]
[12,906,14,912,13,917,14,921,null,null,0,1111,null,1222,{"$f":"COUNTIF($L$7:$L$500,N14)","v":0},{"$f":"O14/$Q$4","v":0},{"$f":"IF(P14=0,0,(P14*((LOG(P14))/LOG(2))))","v":0},null,null,{"$f":"N14","v":1222},{"$f":"COUNTIF(L7:L40,T14)","v":0},{"$f":"U14/(W4-U20)","v":0},{"$f":"IF(V14=0,0,(V14*((LOG(V14))/LOG(2))))","v":0},null,{"$f":"N14","v":1222},{"$f":"COUNTIF(L41:L74,Y14)","v":0},{"$f":"Z14/(AB4-Z20)","v":0},{"$f":"IF(AA14=0,0,(AA14*((LOG(AA14))/LOG(2))))","v":0},null,{"$f":"N14","v":1222},{"$f":"COUNTIF(L75:L108,AD14)","v":0},{"$f":"AE14/(AG4-AE20)","v":0},{"$f":"IF(AF14=0,0,(AF14*((LOG(AF14))/LOG(2))))","v":0},null,{"$f":"N14","v":1222},{"$f":"COUNTIF(L109:L142,AI14)","v":0},{"$f":"AJ14/(AL4-AJ20)","v":0},{"$f":"IF(AK14=0,0,(AK14*((LOG(AK14))/LOG(2))))","v":0},null,{"$f":"N14","v":1222},{"$f":"COUNTIF(L143:L176,AN14)","v":0},{"$f":"AO14/(AQ4-AO20)","v":0},{"$f":"IF(AP14=0,0,(AP14*((LOG(AP14))/LOG(2))))","v":0},null,{"$f":"N14","v":1222},{"$f":"COUNTIF(L177:L210,AS14)","v":0},{"$f":"AT14/(AV4-AT20)","v":0},{"$f":"IF(AU14=0,0,(AU14*((LOG(AU14))/LOG(2))))","v":0}]
[12,1020,14,1024,13,1031,14,1040,null,null,0,1111,null,2111,{"$f":"COUNTIF($L$7:$L$500,N15)","v":0},{"$f":"O15/$Q$4","v":0},{"$f":"IF(P15=0,0,(P15*((LOG(P15))/LOG(2))))","v":0},null,null,{"$f":"N15","v":2111},{"$f":"COUNTIF(L7:L40,T15)","v":0},{"$f":"U15/(W4-U20)","v":0},{"$f":"IF(V15=0,0,(V15*((LOG(V15))/LOG(2))))","v":0},null,{"$f":"N15","v":2111},{"$f":"COUNTIF(L41:L74,Y15)","v":0},{"$f":"Z15/(AB4-Z20)","v":0},{"$f":"IF(AA15=0,0,(AA15*((LOG(AA15))/LOG(2))))","v":0},null,{"$f":"N15","v":2111},{"$f":"COUNTIF(L75:L108,AD15)","v":0},{"$f":"AE15/(AG4-AE20)","v":0},{"$f":"IF(AF15=0,0,(AF15*((LOG(AF15))/LOG(2))))","v":0},null,{"$f":"N15","v":2111},{"$f":"COUNTIF(L109:L142,AI15)","v":0},{"$f":"AJ15/(AL4-AJ20)","v":0},{"$f":"IF(AK15=0,0,(AK15*((LOG(AK15))/LOG(2))))","v":0},null,{"$f":"N15","v":2111},{"$f":"COUNTIF(L143:L176,AN15)","v":0},{"$f":"AO15/(AQ4-AO20)","v":0},{"$f":"IF(AP15=0,0,(AP15*((LOG(AP15))/LOG(2))))","v":0},null,{"$f":"N15","v":2111},{"$f":"COUNTIF(L177:L210,AS15)","v":0},{"$f":"AT15/(AV4-AT20)","v":0},{"$f":"IF(AU15=0,0,(AU15*((LOG(AU15))/LOG(2))))","v":0}]
[12,1145,14,1151,13,1159,14,1168,null,null,0,1111,null,2112,{"$f":"COUNTIF($L$7:$L$500,N16)","v":0},{"$f":"O16/$Q$4","v":0},{"$f":"IF(P16=0,0,(P16*((LOG(P16))/LOG(2))))","v":0},null,null,{"$f":"N16","v":2112},{"$f":"COUNTIF(L7:L40,T16)","v":0},{"$f":"U16/(W4-U20)","v":0},{"$f":"IF(V16=0,0,(V16*((LOG(V16))/LOG(2))))","v":0},null,{"$f":"N16","v":2112},{"$f":"COUNTIF(L41:L74,Y16)","v":0},{"$f":"Z16/(AB4-Z20)","v":0},{"$f":"IF(AA16=0,0,(AA16*((LOG(AA16))/LOG(2))))","v":0},null,{"$f":"N16","v":2112},{"$f":"COUNTIF(L75:L108,AD16)","v":0},{"$f":"AE16/(AG4-AE20)","v":0},{"$f":"IF(AF16=0,0,(AF16*((LOG(AF16))/LOG(2))))","v":0},null,{"$f":"N16","v":2112},{"$f":"COUNTIF(L109:L142,AI16)","v":0},{"$f":"AJ16/(AL4-AJ20)","v":0},{"$f":"IF(AK16=0,0,(AK16*((LOG(AK16))/LOG(2))))","v":0},null,{"$f":"N16","v":2112},{"$f":"COUNTIF(L143:L176,AN16)","v":0},{"$f":"AO16/(AQ4-AO20)","v":0},{"$f":"IF(AP16=0,0,(AP16*((LOG(AP16))/LOG(2))))","v":0},null,{"$f":"N16","v":2112},{"$f":"COUNTIF(L177:L210,AS16)","v":0},{"$f":"AT16/(AV4-AT20)","v":0},{"$f":"IF(AU16=0,0,(AU16*((LOG(AU16))/LOG(2))))","v":0}]
[12,1270,14,1276,13,1282,14,1297,null,null,0,1111,null,2121,{"$f":"COUNTIF($L$7:$L$500,N17)","v":0},{"$f":"O17/$Q$4","v":0},{"$f":"IF(P17=0,0,(P17*((LOG(P17))/LOG(2))))","v":0},null,null,{"$f":"N17","v":2121},{"$f":"COUNTIF(L7:L40,T17)","v":0},{"$f":"U17/(W4-U20)","v":0},{"$f":"IF(V17=0,0,(V17*((LOG(V17))/LOG(2))))","v":0},null,{"$f":"N17","v":2121},{"$f":"COUNTIF(L41:L74,Y17)","v":0},{"$f":"Z17/(AB4-Z20)","v":0},{"$f":"IF(AA17=0,0,(AA17*((LOG(AA17))/LOG(2))))","v":0},null,{"$f":"N17","v":2121},{"$f":"COUNTIF(L75:L108,AD17)","v":0},{"$f":"AE17/(AG4-AE20)","v":0},{"$f":"IF(AF17=0,0,(AF17*((LOG(AF17))/LOG(2))))","v":0},null,{"$f":"N17","v":2121},{"$f":"COUNTIF(L109:L142,AI17)","v":0},{"$f":"AJ17/(AL4-AJ20)","v":0},{"$f":"IF(AK17=0,0,(AK17*((LOG(AK17))/LOG(2))))","v":0},null,{"$f":"N17","v":2121},{"$f":"COUNTIF(L143:L176,AN17)","v":0},{"$f":"AO17/(AQ4-AO20)","v":0},{"$f":"IF(AP17=0,0,(AP17*((LOG(AP17))/LOG(2))))","v":0},null,{"$f":"N17","v":2121},{"$f":"COUNTIF(L177:L210,AS17)","v":0},{"$f":"AT17/(AV4-AT20)","v":0},{"$f":"IF(AU17=0,0,(AU17*((LOG(AU17))/LOG(2))))","v":0}]
[12,1397,14,1405,13,1410,14,1416,null,null,0,1111,null,2122,{"$f":"COUNTIF($L$7:$L$500,N18)","v":0},{"$f":"O18/$Q$4","v":0},{"$f":"IF(P18=0,0,(P18*((LOG(P18))/LOG(2))))","v":0},null,null,{"$f":"N18","v":2122},{"$f":"COUNTIF(L7:L40,T18)","v":0},{"$f":"U18/(W4-U20)","v":0},{"$f":"IF(V18=0,0,(V18*((LOG(V18))/LOG(2))))","v":0},null,{"$f":"N18","v":2122},{"$f":"COUNTIF(L41:L74,Y18)","v":0},{"$f":"Z18/(AB4-Z20)","v":0},{"$f":"IF(AA18=0,0,(AA18*((LOG(AA18))/LOG(2))))","v":0},null,{"$f":"N18","v":2122},{"$f":"COUNTIF(L75:L108,AD18)","v":0},{"$f":"AE18/(AG4-AE20)","v":0},{"$f":"IF(AF18=0,0,(AF18*((LOG(AF18))/LOG(2))))","v":0},null,{"$f":"N18","v":2122},{"$f":"COUNTIF(L109:L142,AI18)","v":0},{"$f":"AJ18/(AL4-AJ20)","v":0},{"$f":"IF(AK18=0,0,(AK18*((LOG(AK18))/LOG(2))))","v":0},null,{"$f":"N18","v":2122},{"$f":"COUNTIF(L143:L176,AN18)","v":0},{"$f":"AO18/(AQ4-AO20)","v":0},{"$f":"IF(AP18=0,0,(AP18*((LOG(AP18))/LOG(2))))","v":0},null,{"$f":"N18","v":2122},{"$f":"COUNTIF(L177:L210,AS18)","v":0},{"$f":"AT18/(AV4-AT20)","v":0},{"$f":"IF(AU18=0,0,(AU18*((LOG(AU18))/LOG(2))))","v":0}]
[12,1514,14,1520,13,1525,14,1530,null,null,0,1111,null,2211,{"$f":"COUNTIF($L$7:$L$500,N19)","v":1},{"$f":"O19/$Q$4","v":4.9019607843137254E-3},{"$f":"IF(P19=0,0,(P19*((LOG(P19))/LOG(2))))","v":-3.7609928146919096E-2},null,null,{"$f":"N19","v":2211},{"$f":"COUNTIF(L7:L40,T19)","v":0},{"$f":"U19/(W4-U20)","v":0},{"$f":"IF(V19=0,0,(V19*((LOG(V19))/LOG(2))))","v":0},null,{"$f":"N19","v":2211},{"$f":"COUNTIF(L41:L74,Y19)","v":1},{"$f":"Z19/(AB4-Z20)","v":2.9411764705882353E-2},{"$f":"IF(AA19=0,0,(AA19*((LOG(AA19))/LOG(2))))","v":-0.14963126003677468},null,{"$f":"N19","v":2211},{"$f":"COUNTIF(L75:L108,AD19)","v":0},{"$f":"AE19/(AG4-AE20)","v":0},{"$f":"IF(AF19=0,0,(AF19*((LOG(AF19))/LOG(2))))","v":0},null,{"$f":"N19","v":2211},{"$f":"COUNTIF(L109:L142,AI19)","v":0},{"$f":"AJ19/(AL4-AJ20)","v":0},{"$f":"IF(AK19=0,0,(AK19*((LOG(AK19))/LOG(2))))","v":0},null,{"$f":"N19","v":2211},{"$f":"COUNTIF(L143:L176,AN19)","v":0},{"$f":"AO19/(AQ4-AO20)","v":0},{"$f":"IF(AP19=0,0,(AP19*((LOG(AP19))/LOG(2))))","v":0},null,{"$f":"N19","v":2211},{"$f":"COUNTIF(L177:L210,AS19)","v":0},{"$f":"AT19/(AV4-AT20)","v":0},{"$f":"IF(AU19=0,0,(AU19*((LOG(AU19))/LOG(2))))","v":0}]
[12,1625,14,1631,13,1638,14,1647,null,null,0,1111,null,2212,{"$f":"COUNTIF($L$7:$L$500,N20)","v":0},{"$f":"O20/$Q$4","v":0},{"$f":"IF(P20=0,0,(P20*((LOG(P20))/LOG(2))))","v":0},null,null,{"$f":"N20","v":2212},{"$f":"COUNTIF(L7:L40,T20)","v":0},null,null,null,{"$f":"N20","v":2212},{"$f":"COUNTIF(L41:L74,Y20)","v":0},null,null,null,{"$f":"N20","v":2212},{"$f":"COUNTIF(L75:L108,AD20)","v":0},null,null,null,{"$f":"N20","v":2212},{"$f":"COUNTIF(L109:L142,AI20)","v":0},null,null,null,{"$f":"N20","v":2212},{"$f":"COUNTIF(L143:L176,AN20)","v":0},null,null,null,{"$f":"N20","v":2212},{"$f":"COUNTIF(L177:L210,AS20)","v":0}]
[12,1748,14,1754,13,1758,14,1763,null,null,0,1111,null,2221,{"$f":"COUNTIF($L$7:$L$500,N21)","v":0},{"$f":"O21/$Q$4","v":0},{"$f":"IF(P21=0,0,(P21*((LOG(P21))/LOG(2))))","v":0},null,null,{"$f":"N21","v":2221},{"$f":"COUNTIF(L7:L40,T21)","v":0},{"$f":"U21/(W4-U20)","v":0},{"$f":"IF(V21=0,0,(V21*((LOG(V21))/LOG(2))))","v":0},null,{"$f":"N21","v":2221},{"$f":"COUNTIF(L41:L74,Y21)","v":0},{"$f":"Z21/(AB4-Z20)","v":0},{"$f":"IF(AA21=0,0,(AA21*((LOG(AA21))/LOG(2))))","v":0},null,{"$f":"N21","v":2221},{"$f":"COUNTIF(L75:L108,AD21)","v":0},{"$f":"AE21/(AG4-AE20)","v":0},{"$f":"IF(AF21=0,0,(AF21*((LOG(AF21))/LOG(2))))","v":0},null,{"$f":"N21","v":2221},{"$f":"COUNTIF(L109:L142,AI21)","v":0},{"$f":"AJ21/(AL4-AJ20)","v":0},{"$f":"IF(AK21=0,0,(AK21*((LOG(AK21))/LOG(2))))","v":0},null,{"$f":"N21","v":2221},{"$f":"COUNTIF(L143:L176,AN21)","v":0},{"$f":"AO21/(AQ4-AO20)","v":0},{"$f":"IF(AP21=0,0,(AP21*((LOG(AP21))/LOG(2))))","v":0},null,{"$f":"N21","v":2221},{"$f":"COUNTIF(L177:L210,AS21)","v":0},{"$f":"AT21/(AV4-AT20)","v":0},{"$f":"IF(AU21=0,0,(AU21*((LOG(AU21))/LOG(2))))","v":0}]
[12,1858,14,1863,13,1868,14,1872,null,null,0,1111,null,2222,{"$f":"COUNTIF($L$7:$L$500,N22)","v":0},{"$f":"O22/$Q$4","v":0},{"$f":"IF(P22=0,0,(P22*((LOG(P22))/LOG(2))))","v":0},null,null,{"$f":"N22","v":2222},{"$f":"COUNTIF(L7:L40,T22)","v":0},{"$f":"U22/(W4-U20)","v":0},{"$f":"IF(V22=0,0,(V22*((LOG(V22))/LOG(2))))","v":0},null,{"$f":"N22","v":2222},{"$f":"COUNTIF(L41:L74,Y22)","v":0},{"$f":"Z22/(AB4-Z20)","v":0},{"$f":"IF(AA22=0,0,(AA22*((LOG(AA22))/LOG(2))))","v":0},null,{"$f":"N22","v":2222},{"$f":"COUNTIF(L75:L108,AD22)","v":0},{"$f":"AE22/(AG4-AE20)","v":0},{"$f":"IF(AF22=0,0,(AF22*((LOG(AF22))/LOG(2))))","v":0},null,{"$f":"N22","v":2222},{"$f":"COUNTIF(L109:L142,AI22)","v":0},{"$f":"AJ22/(AL4-AJ20)","v":0},{"$f":"IF(AK22=0,0,(AK22*((LOG(AK22))/LOG(2))))","v":0},null,{"$f":"N22","v":2222},{"$f":"COUNTIF(L143:L176,AN22)","v":0},{"$f":"AO22/(AQ4-AO20)","v":0},{"$f":"IF(AP22=0,0,(AP22*((LOG(AP22))/LOG(2))))","v":0},null,{"$f":"N22","v":2222},{"$f":"COUNTIF(L177:L210,AS22)","v":0},{"$f":"AT22/(AV4-AT20)","v":0},{"$f":"IF(AU22=0,0,(AU22*((LOG(AU22))/LOG(2))))","v":0}]
[12,1961,14,1967,13,1976,14,1986,null,null,0,1111,null,null,null,{"$f":"SUM(P7:P22)","v":1},{"$f":"-SUM(Q7:Q22)","v":0.25500451399432433},null,null,null,null,{"$f":"SUM(V7:V22)","v":1},{"$f":"-SUM(W7:W22)","v":0.5115779700152473},null,null,null,{"$f":"SUM(AA7:AA22)","v":1},{"$f":"-SUM(AB7:AB22)","v":0.19143325481419343},null,null,null,{"$f":"SUM(AF7:AF22)","v":1},{"$f":"-SUM(AG7:AG22)","v":0},null,null,null,{"$f":"SUM(AK7:AK22)","v":1},{"$f":"-SUM(AL7:AL22)","v":0.19143325481419343},null,null,null,{"$f":"SUM(AP7:AP22)","v":1},{"$f":"-SUM(AQ7:AQ22)","v":0.19143325481419343},null,null,null,{"$f":"SUM(AU7:AU22)","v":1},{"$f":"-SUM(AV7:AV22)","v":0.19143325481419343}]
[12,2089,14,2095,13,2103,14,2111,null,null,0,1111,null,null,null,"U=",{"$f":"Q23/(LOG(Q4)/LOG(2))","v":3.3236493367923572E-2},null,null,null,null,"U1=",{"$f":"W23/(LOG(W4)/LOG(2))","v":0.100556600800551},null,null,null,"U2=",{"$f":"AB23/(LOG(AB4)/LOG(2))","v":3.7628433029919708E-2},null,null,null,"U3=",{"$f":"AG23/(LOG(AG4)/LOG(2))","v":0},null,null,null,"U4=",{"$f":"AL23/(LOG(AL4)/LOG(2))","v":3.7628433029919708E-2},null,null,null,"U5=",{"$f":"AQ23/(LOG(AQ4)/LOG(2))","v":3.7628433029919708E-2},null,null,null,"U6=",{"$f":"AV23/(LOG(AV4)/LOG(2))","v":3.7628433029919708E-2}]
[12,2209,14,2214,13,2218,14,2226,null,null,0,1111]
[12,2337,14,2343,13,2348,14,2372,null,null,0,1111]
[12,2478,14,2484,13,2488,14,2496,null,null,0,1111,null,"Total Target Seq"]
[12,2588,14,2594,13,2598,14,2602,null,null,0,1111,null,{"$f":"COUNTIF(L7:L210,G3)","v":0},null,34,34,34,34,34,34]
[12,2702,14,2711,13,2720,14,2731,null,null,0,1111,null,null,null,"% of reinforcement given in 6 equal intervals based on number of trials "]
[12,2828,14,2832,13,2837,14,2842,null,null,0,1111,null,null,null,"%_1","%_2","%_3","%_4","%_5","%_6"]
[12,2947,14,2954,13,2959,14,2968,null,null,0,1111,null,null,"target sequence",{"$f":"$G$3","v":2212},{"$f":"$G$3","v":2212},{"$f":"$G$3","v":2212},{"$f":"$G$3","v":2212},{"$f":"$G$3","v":2212},{"$f":"$G$3","v":2212}]
[12,3066,14,3071,13,3077,14,3084,null,null,0,1111,null,null,"total reinforcement",{"$f":"U20","v":0},{"$f":"Z20","v":0},{"$f":"AE20","v":0},{"$f":"AJ20","v":0},{"$f":"AO20","v":0},{"$f":"AT20","v":0}]
[12,3192,14,3198,13,3203,14,3211,null,null,0,1111,null,null,"% target"]
[12,3309,14,3317,13,3327,14,3351,null,null,0,1111,null,null,"CCRF"]
[12,3449,14,3454,13,3459,14,3467,null,null,0,1111,null,null,"% CCRf"]
[12,3571,14,3577,13,3582,14,3590,null,null,0,1111,null,null,"average response rate",{"$f":"H40/P28","v":119.70588235294117},{"$f":"(H74-H40)/Q28","v":118.41176470588235},{"$f":"(H108-H74)/R28","v":115.97058823529412},{"$f":"(H142-H108)/S28","v":117.05882352941177},{"$f":"(H176-H142)/T28","v":115.14705882352941},{"$f":"(H210-H176)/U28","v":119.05882352941177}]
[12,3695,14,3700,13,3705,14,3710,null,null,0,1111]
[12,3805,14,3811,13,3815,14,3823,null,null,0,1111]
[12,3928,14,3934,13,3942,14,3950,null,null,0,1111]
[12,4052,14,4057,13,4062,14,4070,null,null,0,1111]
[12,4170,14,4175,13,4180,14,4185,null,null,0,1111]
[12,4284,14,4288,13,4293,14,4297,null,null,0,1111]
[12,4395,14,4399,13,4411,14,4417,null,null,0,1111]
[12,4515,14,4521,13,4526,14,4531,null,null,0,1111]
[12,4630,14,4635,13,4639,14,4647,null,null,0,1111]
[12,4750,14,4756,13,4761,14,4769,null,null,0,1111]
[12,4864,14,4873,13,4883,14,4915,null,null,0,1111]
[12,5021,14,5026,13,5034,14,5045,null,null,0,1111]
[12,5144,14,5148,13,5153,14,5164,null,null,0,1111]
[12,5265,14,5269,13,5274,14,5279,null,null,0,1111]
[12,5374,14,5379,13,5387,14,5395,null,null,0,1111]
[12,5494,14,5499,13,5504,14,5513,null,null,0,1111]
[12,5611,14,5618,13,5623,14,5630,null,null,0,1111]
[12,5733,14,5738,13,5748,14,5755,null,null,0,1111]
[12,5850,14,5856,13,5860,14,5865,null,null,0,1111]
[12,5955,14,5960,13,5968,14,5976,null,null,0,1111]
[12,6073,14,6077,13,6081,14,6086,null,null,0,1111]
[21,6192,21,6199,11,6215,12,6224,null,null,0,2211]
[12,6324,14,6329,13,6333,14,6338,null,null,0,1111]
[12,6438,14,6443,13,6448,14,6452,null,null,0,1111]
[12,6549,14,6554,13,6559,14,6567,null,null,0,1111]
[12,6663,14,6668,13,6672,14,6677,null,null,0,1111]
[12,6774,14,6779,13,6784,14,6788,null,null,0,1111]
[12,6895,14,6900,13,6905,14,6911,null,null,0,1111]
[12,7019,14,7024,13,7028,14,7037,null,null,0,1111]
[12,7141,14,7146,13,7154,14,7161,null,null,0,1111]
[12,7264,14,7271,13,7282,14,7291,null,null,0,1111]
[12,7378,14,7382,13,7390,14,7397,null,null,0,1111]
[12,7500,14,7505,13,7513,14,7520,null,null,0,1111]
[12,7614,14,7620,13,7625,14,7630,null,null,0,1111]
[12,7729,14,7735,13,7740,14,7750,null,null,0,1111]
[12,7848,14,7857,13,7863,14,7871,null,null,0,1111]
[12,7964,14,7970,13,7975,14,7983,null,null,0,1111]
[12,8081,14,8087,13,8091,14,8096,null,null,0,1111]
[12,8192,14,8198,13,8204,14,8209,null,null,0,1111]
[12,8305,14,8311,13,8319,14,8326,null,null,0,1111]
[12,8425,14,8430,13,8435,14,8439,null,null,0,1111]
[12,8539,14,8545,13,8549,14,8559,null,null,0,1111]
[12,8659,14,8667,13,8672,14,8679,null,null,0,1111]
[12,8783,14,8788,13,8793,14,8797,null,null,0,1111]
[12,8888,14,8894,13,8900,14,8905,null,null,0,1111]
[12,9001,14,9006,13,9016,14,9023,null,null,0,1111]
[12,9119,14,9123,13,9128,14,9133,null,null,0,1111]
[12,9228,14,9233,13,9239,14,9246,null,null,0,1111]
[12,9343,14,9349,13,9355,14,9359,null,null,0,1111]
[12,9457,14,9465,13,9470,14,9475,null,null,0,1111]
[12,9569,14,9574,13,9579,14,9587,null,null,0,1111]
[12,9688,14,9694,13,9703,14,9713,null,null,0,1111]
[12,9810,14,9816,13,9821,14,9827,null,null,0,1111]
[12,9925,14,9932,13,9939,14,9954,null,null,0,1111]
[12,10051,14,10056,13,10064,14,10071,null,null,0,1111]
[12,10169,14,10174,13,10180,14,10185,null,null,0,1111]
[12,10284,14,10290,13,10295,14,10303,null,null,0,1111]
[12,10399,14,10407,13,10415,14,10424,null,null,0,1111]
[12,10518,14,10528,13,10536,14,10544,null,null,0,1111]
[12,10641,14,10645,13,10654,14,10661,null,null,0,1111]
[12,10759,14,10763,13,10769,14,10775,null,null,0,1111]
[12,10870,14,10875,13,10879,14,10884,null,null,0,1111]
[12,10981,14,10988,13,10993,14,11000,null,null,0,1111]
[12,11097,14,11102,13,11107,14,11116,null,null,0,1111]
[12,11212,14,11216,13,11220,14,11225,null,null,0,1111]
[12,11320,14,11324,13,11332,14,11339,null,null,0,1111]
[12,11438,14,11444,13,11449,14,11453,null,null,0,1111]
[12,11549,14,11555,13,11560,14,11567,null,null,0,1111]
[12,11666,14,11671,13,11675,14,11682,null,null,0,1111]
[12,11780,14,11786,13,11791,14,11800,null,null,0,1111]
[12,11891,14,11897,13,11902,14,11910,null,null,0,1111]
[12,12009,14,12017,13,12029,14,12039,null,null,0,1111]
[12,12141,14,12150,13,12157,14,12165,null,null,0,1111]
[12,12261,14,12266,13,12271,14,12278,null,null,0,1111]
[12,12372,14,12377,13,12383,14,12388,null,null,0,1111]
[12,12484,14,12489,13,12495,14,12503,null,null,0,1111]
[12,12611,14,12617,13,12626,14,12635,null,null,0,1111]
[12,12733,14,12738,13,12743,14,12750,null,null,0,1111]
[12,12845,14,12850,13,12854,14,12859,null,null,0,1111]
[12,12956,14,12960,13,12965,14,12970,null,null,0,1111]
[12,13066,14,13072,13,13078,14,13083,null,null,0,1111]
[12,13179,14,13186,13,13191,14,13199,null,null,0,1111]
[12,13295,14,13301,13,13306,14,13317,null,null,0,1111]
[12,13411,14,13417,13,13424,14,13433,null,null,0,1111]
[12,13524,14,13529,13,13535,14,13543,null,null,0,1111]
[12,13633,14,13639,13,13644,14,13652,null,null,0,1111]
[12,13747,14,13752,13,13757,14,13761,null,null,0,1111]
[12,13856,14,13867,13,13877,14,13884,null,null,0,1111]
[12,13983,14,13988,13,13993,14,14001,null,null,0,1111]
[12,14097,14,14115,13,14124,14,14132,null,null,0,1111]
[12,14230,14,14237,13,14244,14,14251,null,null,0,1111]
[12,14347,14,14352,13,14357,14,14362,null,null,0,1111]
[12,14462,14,14467,13,14471,14,14475,null,null,0,1111]
[12,14572,14,14577,13,14586,14,14593,null,null,0,1111]
[12,14683,14,14688,13,14692,14,14698,null,null,0,1111]
[12,14798,14,14803,13,14814,14,14823,null,null,0,1111]
[12,14925,14,14931,13,14948,14,14960,null,null,0,1111]
[12,15055,14,15059,13,15064,14,15068,null,null,0,1111]
[12,15163,14,15168,13,15174,14,15179,null,null,0,1111]
[12,15276,14,15280,13,15289,14,15297,null,null,0,1111]
[12,15391,14,15396,13,15401,14,15405,null,null,0,1111]
[12,15502,14,15508,13,15513,14,15518,null,null,0,1111]
[12,15609,14,15617,13,15622,14,15627,null,null,0,1111]
[12,15762,14,15769,13,15779,23,15795,null,null,0,1112]
[12,15892,14,15897,13,15901,14,15909,null,null,0,1111]
[12,16005,14,16010,13,16014,14,16019,null,null,0,1111]
[12,16126,14,16131,13,16137,14,16144,null,null,0,1111]
[12,16240,14,16245,13,16249,14,16258,null,null,0,1111]
[12,16356,14,16361,13,16368,14,16376,null,null,0,1111]
[12,16472,14,16477,13,16485,14,16494,null,null,0,1111]
[12,16586,14,16591,13,16596,14,16603,null,null,0,1111]
[12,16691,14,16695,13,16700,14,16704,null,null,0,1111]
[12,16802,14,16806,13,16812,14,16817,null,null,0,1111]
[12,16914,14,16921,13,16926,14,16934,null,null,0,1111]
[12,17024,14,17029,13,17034,14,17038,null,null,0,1111]
[12,17133,14,17138,13,17142,14,17146,null,null,0,1111]
[12,17243,14,17253,13,17262,14,17270,null,null,0,1111]
[12,17364,14,17370,13,17375,14,17381,null,null,0,1111]
[12,17478,14,17483,13,17488,14,17496,null,null,0,1111]
[12,17592,14,17596,13,17601,14,17605,null,null,0,1111]
[12,17699,14,17704,13,17709,14,17714,null,null,0,1111]
[12,17810,14,17814,13,17818,14,17823,null,null,0,1111]
[12,17921,14,17925,13,17932,14,17940,null,null,0,1111]
[12,18029,14,18033,13,18038,14,18054,null,null,0,1111]
[12,18148,14,18155,13,18160,14,18165,null,null,0,1111]
[12,18262,14,18267,13,18272,14,18280,null,null,0,1111]
[12,18374,14,18380,13,18385,14,18390,null,null,0,1111]
[12,18497,14,18506,13,18516,14,18529,null,null,0,1111]
[12,18628,14,18633,13,18639,14,18646,null,null,0,1111]
[12,18736,14,18741,13,18746,14,18753,null,null,0,1111]
[12,18848,14,18853,13,18858,23,18869,null,null,0,1112]
[12,18967,14,18976,13,18988,14,18996,null,null,0,1111]
[12,19092,14,19097,13,19102,14,19110,null,null,0,1111]
[12,19205,14,19210,13,19215,14,19223,null,null,0,1111]
[12,19319,14,19324,13,19330,14,19340,null,null,0,1111]
[12,19456,14,19462,13,19468,14,19477,null,null,0,1111]
[12,19574,14,19579,13,19583,14,19588,null,null,0,1111]
[12,19682,14,19688,13,19692,14,19698,null,null,0,1111]
[12,19795,14,19801,13,19806,14,19812,null,null,0,1111]
[12,19910,14,19916,13,19926,14,19934,null,null,0,1111]
[12,20029,14,20035,13,20039,14,20044,null,null,0,1111]
[12,20138,14,20143,13,20147,14,20152,null,null,0,1111]
[12,20248,14,20253,13,20257,14,20261,null,null,0,1111]
[12,20366,14,20371,13,20380,14,20385,null,null,0,1111]
[12,20492,14,20498,13,20503,14,20513,null,null,0,1111]
[12,20645,14,20650,13,20659,14,20669,null,null,0,1111]
[12,20769,14,20774,13,20779,14,20784,null,null,0,1111]
[12,20885,14,20892,13,20896,14,20902,null,null,0,1111]
[12,20997,14,21002,13,21007,14,21013,null,null,0,1111]
[12,21109,14,21114,13,21120,14,21128,null,null,0,1111]
[12,21225,14,21231,13,21241,14,21250,null,null,0,1111]
[12,21357,14,21363,13,21368,14,21377,null,null,0,1111]
[12,21474,14,21480,13,21485,14,21490,null,null,0,1111]
[12,21593,14,21598,13,21602,14,21611,null,null,0,1111]
[12,21707,14,21714,13,21722,14,21729,null,null,0,1111]
[12,21827,14,21832,13,21838,14,21846,null,null,0,1111]
[12,21944,14,21949,13,21959,14,21967,null,null,0,1111]
[12,22080,14,22085,13,22093,23,22104,null,null,0,1112]
[12,22201,14,22206,13,22211,14,22217,null,null,0,1111]
[12,22323,14,22329,13,22336,14,22347,null,null,0,1111]
[12,22443,14,22448,13,22453,14,22458,null,null,0,1111]
[12,22556,14,22563,13,22568,14,22578,null,null,0,1111]
[12,22673,14,22679,13,22684,14,22694,null,null,0,1111]
[12,22786,14,22792,13,22797,14,22805,null,null,0,1111]
[12,22901,14,22906,13,22913,14,22917,null,null,0,1111]
[12,23011,14,23015,13,23020,14,23024,null,null,0,1111]
[12,23120,14,23125,13,23133,14,23150,null,null,0,1111]
[12,23248,14,23253,13,23260,14,23270,null,null,0,1111]
[12,23364,14,23371,13,23380,14,23395,null,null,0,1111]
[12,23490,14,23495,13,23499,14,23507,null,null,0,1111]
[12,23619,14,23624,13,23630,14,23639,null,null,0,1111]
[12,23736,14,23741,13,23747,14,23754,null,null,0,1111]
[12,23852,14,23856,13,23860,14,23868,null,null,0,1111]
[12,23966,14,23971,13,23977,14,23982,null,null,null,1111]

{"sheet":"!L910B20.056","index":13,"n_rows":206,"n_cols":48,"rows_kept":206,"cut":false,"hidden":false,"merged":[[4,39,4,42],[5,39,5,40],[4,44,4,47],[5,44,5,45],[4,24,4,27],[5,24,5,25],[4,29,4,32],[5,29,5,30],[4,34,4,37],[5,34,5,35],[1,1,1,2],[5,13,5,14],[26,13,26,14],[27,13,27,14],[4,19,4,22],[5,19,5,20]]}
["Report for:!L910B20.056"]
["Date:","<date>"]
["Hen:","<hen>",null,null,null,"Correct Sequence",{"$f":"Start!J2","v":2212},null,null,null,null,null,null,null,null,"Total Sequences in Data",{"$f":"4994-COUNTBLANK(L7:L5000)","v":200},null,null,null,null,"Total Sequences in Block Data",{"$f":"COUNTA(L7:L39)","v":33},null,null,null,"Total Sequences in Block Data",{"$f":"COUNTA(L40:L73)","v":34},null,null,null,"Total Sequences in Block Data",{"$f":"COUNTA(L74:L106)","v":33},null,null,null,"Total Sequences in Block Data",{"$f":"COUNTA(L107:L139)","v":33},null,null,null,"Total Sequences in Block Data",{"$f":"COUNTA(L140:L173)","v":34},null,null,null,"Total Sequences in Block Data",{"$f":"COUNTA(L174:L206)","v":33}]
[null,null,null,null,null,null,null,null,null,null,null,null,null,null,null,"Total Sequences in Summary",{"$f":"SUM(O7:O22)","v":200},null,null,null,null,"Total Sequences in Block Summary",{"$f":"SUM(U7:U22)","v":33},null,null,null,"Total Sequences in Block Summary",{"$f":"SUM(Z7:Z22)","v":34},null,null,null,"Total Sequences in Block Summary",{"$f":"SUM(AE7:AE22)","v":33},null,null,null,"Total Sequences in Block Summary",{"$f":"SUM(AJ7:AJ22)","v":33},null,null,null,"Total Sequences in Block Summary",{"$f":"SUM(AO7:AO22)","v":34},null,null,null,"Total Sequences in Block Summary",{"$f":"SUM(AT7:AT22)","v":33}]
[null,null,null,null,null,null,null,null,null,null,null,null,null,null,null,null,null,null,null,"Block 1",null,null,null,null,"Block 2",null,null,null,null,"Block 3",null,null,null,null,"Block 4",null,null,null,null,"Block 5",null,null,null,null,"Block 6"]
["Sequence\nComponent\n1","Time\n1","Sequence\nComponent\n2","Time\n2","Sequence\nComponent\n3","Time\n3","Sequence\nComponent\n4","Time\n4","Sequence\nComponent\n5","Time\n5","Correct?\n0=No 1=Yes","Sequence",null,"Frequency",null,"Relative Frequency","Variability",null,null,"Frequency",null,"Relative Frequency","Variability",null,"Frequency",null,"Relative Frequency","Variability",null,"Frequency",null,"Relative Frequency","Variability",null,"Frequency",null,"Relative Frequency","Variability",null,"Frequency",null,"Relative Frequency","Variability",null,"Frequency",null,"Relative Frequency","Variability"]
[12,50,23,60,24,70,14,83,null,null,0,1221,null,1111,{"$f":"COUNTIF($L$7:$L$500,N7)","v":197},{"$f":"O7/$Q$4","v":0.98499999999999999},{"$f":"IF(P7=0,0,(P7*((LOG(P7))/LOG(2))))","v":-2.1477304763573221E-2},null,null,{"$f":"N7","v":1111},{"$f":"COUNTIF(L7:L39,T7)","v":30},{"$f":"U7/(W4-U20)","v":0.90909090909090906},{"$f":"IF(V7=0,0,(V7*((LOG(V7))/LOG(2))))","v":-0.12500320340903179},null,{"$f":"N7","v":1111},{"$f":"COUNTIF(L40:L73,Y7)","v":34},{"$f":"Z7/(AB4-Z20)","v":1},{"$f":"IF(AA7=0,0,(AA7*((LOG(AA7))/LOG(2))))","v":0},null,{"$f":"N7","v":1111},{"$f":"COUNTIF(L74:L106,AD7)","v":33},{"$f":"AE7/(AG4-AE20)","v":1},{"$f":"IF(AF7=0,0,(AF7*((LOG(AF7))/LOG(2))))","v":0},null,{"$f":"N7","v":1111},{"$f":"COUNTIF(L107:L139,AI7)","v":33},{"$f":"AJ7/(AL4-AJ20)","v":1},{"$f":"IF(AK7=0,0,(AK7*((LOG(AK7))/LOG(2))))","v":0},null,{"$f":"N7","v":1111},{"$f":"COUNTIF(L140:L173,AN7)","v":34},{"$f":"AO7/(AQ4-AO20)","v":1},{"$f":"IF(AP7=0,0,(AP7*((LOG(AP7))/LOG(2))))","v":0},null,{"$f":"N7","v":1111},{"$f":"COUNTIF(L174:L206,AS7)","v":33},{"$f":"AT7/(AV4-AT20)","v":1},{"$f":"IF(AU7=0,0,(AU7*((LOG(AU7))/LOG(2))))","v":0}]
[12,224,23,236,13,271,14,278,null,null,0,1211,null,1112,{"$f":"COUNTIF($L$7:$L$500,N8)","v":1},{"$f":"O8/$Q$4","v":5.0000000000000001E-3},{"$f":"IF(P8=0,0,(P8*((LOG(P8))/LOG(2))))","v":-3.8219280948873627E-2},null,null,{"$f":"N8","v":1112},{"$f":"COUNTIF(L7:L39,T8)","v":1},{"$f":"U8/(W4-U20)","v":3.0303030303030304E-2},{"$f":"IF(V8=0,0,(V8*((LOG(V8))/LOG(2))))","v":-0.15286042785934709},null,{"$f":"N8","v":1112},{"$f":"COUNTIF(L40:L73,Y8)","v":0},{"$f":"Z8/(AB4-Z20)","v":0},{"$f":"IF(AA8=0,0,(AA8*((LOG(AA8))/LOG(2))))","v":0},null,{"$f":"N8","v":1112},{"$f":"COUNTIF(L74:L106,AD8)","v":0},{"$f":"AE8/(AG4-AE20)","v":0},{"$f":"IF(AF8=0,0,(AF8*((LOG(AF8))/LOG(2))))","v":0},null,{"$f":"N8","v":1112},{"$f":"COUNTIF(L107:L139,AI8)","v":0},{"$f":"AJ8/(AL4-AJ20)","v":0},{"$f":"IF(AK8=0,0,(AK8*((LOG(AK8))/LOG(2))))","v":0},null,{"$f":"N8","v":1112},{"$f":"COUNTIF(L140:L173,AN8)","v":0},{"$f":"AO8/(AQ4-AO20)","v":0},{"$f":"IF(AP8=0,0,(AP8*((LOG(AP8))/LOG(2))))","v":0},null,{"$f":"N8","v":1112},{"$f":"COUNTIF(L174:L206,AS8)","v":0},{"$f":"AT8/(AV4-AT20)","v":0},{"$f":"IF(AU8=0,0,(AU8*((LOG(AU8))/LOG(2))))","v":0}]
[12,382,14,389,13,399,14,409,null,null,0,1111,null,1121,{"$f":"COUNTIF($L$7:$L$500,N9)","v":0},{"$f":"O9/$Q$4","v":0},{"$f":"IF(P9=0,0,(P9*((LOG(P9))/LOG(2))))","v":0},null,null,{"$f":"N9","v":1121},{"$f":"COUNTIF(L7:L39,T9)","v":0},{"$f":"U9/(W4-U20)","v":0},{"$f":"IF(V9=0,0,(V9*((LOG(V9))/LOG(2))))","v":0},null,{"$f":"N9","v":1121},{"$f":"COUNTIF(L40:L73,Y9)","v":0},{"$f":"Z9/(AB4-Z20)","v":0},{"$f":"IF(AA9=0,0,(AA9*((LOG(AA9))/LOG(2))))","v":0},null,{"$f":"N9","v":1121},{"$f":"COUNTIF(L74:L106,AD9)","v":0},{"$f":"AE9/(AG4-AE20)","v":0},{"$f":"IF(AF9=0,0,(AF9*((LOG(AF9))/LOG(2))))","v":0},null,{"$f":"N9","v":1121},{"$f":"COUNTIF(L107:L139,AI9)","v":0},{"$f":"AJ9/(AL4-AJ20)","v":0},{"$f":"IF(AK9=0,0,(AK9*((LOG(AK9))/LOG(2))))","v":0},null,{"$f":"N9","v":1121},{"$f":"COUNTIF(L140:L173,AN9)","v":0},{"$f":"AO9/(AQ4-AO20)","v":0},{"$f":"IF(AP9=0,0,(AP9*((LOG(AP9))/LOG(2))))","v":0},null,{"$f":"N9","v":1121},{"$f":"COUNTIF(L174:L206,AS9)","v":0},{"$f":"AT9/(AV4-AT20)","v":0},{"$f":"IF(AU9=0,0,(AU9*((LOG(AU9))/LOG(2))))","v":0}]
[12,513,14,520,13,531,23,546,null,null,0,1112,null,1122,{"$f":"COUNTIF($L$7:$L$500,N10)","v":0},{"$f":"O10/$Q$4","v":0},{"$f":"IF(P10=0,0,(P10*((LOG(P10))/LOG(2))))","v":0},null,null,{"$f":"N10","v":1122},{"$f":"COUNTIF(L7:L39,T10)","v":0},{"$f":"U10/(W4-U20)","v":0},{"$f":"IF(V10=0,0,(V10*((LOG(V10))/LOG(2))))","v":0},null,{"$f":"N10","v":1122},{"$f":"COUNTIF(L40:L73,Y10)","v":0},{"$f":"Z10/(AB4-Z20)","v":0},{"$f":"IF(AA10=0,0,(AA10*((LOG(AA10))/LOG(2))))","v":0},null,{"$f":"N10","v":1122},{"$f":"COUNTIF(L74:L106,AD10)","v":0},{"$f":"AE10/(AG4-AE20)","v":0},{"$f":"IF(AF10=0,0,(AF10*((LOG(AF10))/LOG(2))))","v":0},null,{"$f":"N10","v":1122},{"$f":"COUNTIF(L107:L139,AI10)","v":0},{"$f":"AJ10/(AL4-AJ20)","v":0},{"$f":"IF(AK10=0,0,(AK10*((LOG(AK10))/LOG(2))))","v":0},null,{"$f":"N10","v":1122},{"$f":"COUNTIF(L140:L173,AN10)","v":0},{"$f":"AO10/(AQ4-AO20)","v":0},{"$f":"IF(AP10=0,0,(AP10*((LOG(AP10))/LOG(2))))","v":0},null,{"$f":"N10","v":1122},{"$f":"COUNTIF(L174:L206,AS10)","v":0},{"$f":"AT10/(AV4-AT20)","v":0},{"$f":"IF(AU10=0,0,(AU10*((LOG(AU10))/LOG(2))))","v":0}]
[12,650,14,655,13,660,14,665,null,null,0,1111,null,1211,{"$f":"COUNTIF($L$7:$L$500,N11)","v":1},{"$f":"O11/$Q$4","v":5.0000000000000001E-3},{"$f":"IF(P11=0,0,(P11*((LOG(P11))/LOG(2))))","v":-3.8219280948873627E-2},null,null,{"$f":"N11","v":1211},{"$f":"COUNTIF(L7:L39,T11)","v":1},{"$f":"U11/(W4-U20)","v":3.0303030303030304E-2},{"$f":"IF(V11=0,0,(V11*((LOG(V11))/LOG(2))))","v":-0.15286042785934709},null,{"$f":"N11","v":1211},{"$f":"COUNTIF(L40:L73,Y11)","v":0},{"$f":"Z11/(AB4-Z20)","v":0},{"$f":"IF(AA11=0,0,(AA11*((LOG(AA11))/LOG(2))))","v":0},null,{"$f":"N11","v":1211},{"$f":"COUNTIF(L74:L106,AD11)","v":0},{"$f":"AE11/(AG4-AE20)","v":0},{"$f":"IF(AF11=0,0,(AF11*((LOG(AF11))/LOG(2))))","v":0},null,{"$f":"N11","v":1211},{"$f":"COUNTIF(L107:L139,AI11)","v":0},{"$f":"AJ11/(AL4-AJ20)","v":0},{"$f":"IF(AK11=0,0,(AK11*((LOG(AK11))/LOG(2))))","v":0},null,{"$f":"N11","v":1211},{"$f":"COUNTIF(L140:L173,AN11)","v":0},{"$f":"AO11/(AQ4-AO20)","v":0},{"$f":"IF(AP11=0,0,(AP11*((LOG(AP11))/LOG(2))))","v":0},null,{"$f":"N11","v":1211},{"$f":"COUNTIF(L174:L206,AS11)","v":0},{"$f":"AT11/(AV4-AT20)","v":0},{"$f":"IF(AU11=0,0,(AU11*((LOG(AU11))/LOG(2))))","v":0}]
[12,760,14,767,13,772,14,782,null,null,0,1111,null,1212,{"$f":"COUNTIF($L$7:$L$500,N12)","v":0},{"$f":"O12/$Q$4","v":0},{"$f":"IF(P12=0,0,(P12*((LOG(P12))/LOG(2))))","v":0},null,null,{"$f":"N12","v":1212},{"$f":"COUNTIF(L7:L39,T12)","v":0},{"$f":"U12/(W4-U20)","v":0},{"$f":"IF(V12=0,0,(V12*((LOG(V12))/LOG(2))))","v":0},null,{"$f":"N12","v":1212},{"$f":"COUNTIF(L40:L73,Y12)","v":0},{"$f":"Z12/(AB4-Z20)","v":0},{"$f":"IF(AA12=0,0,(AA12*((LOG(AA12))/LOG(2))))","v":0},null,{"$f":"N12","v":1212},{"$f":"COUNTIF(L74:L106,AD12)","v":0},{"$f":"AE12/(AG4-AE20)","v":0},{"$f":"IF(AF12=0,0,(AF12*((LOG(AF12))/LOG(2))))","v":0},null,{"$f":"N12","v":1212},{"$f":"COUNTIF(L107:L139,AI12)","v":0},{"$f":"AJ12/(AL4-AJ20)","v":0},{"$f":"IF(AK12=0,0,(AK12*((LOG(AK12))/LOG(2))))","v":0},null,{"$f":"N12","v":1212},{"$f":"COUNTIF(L140:L173,AN12)","v":0},{"$f":"AO12/(AQ4-AO20)","v":0},{"$f":"IF(AP12=0,0,(AP12*((LOG(AP12))/LOG(2))))","v":0},null,{"$f":"N12","v":1212},{"$f":"COUNTIF(L174:L206,AS12)","v":0},{"$f":"AT12/(AV4-AT20)","v":0},{"$f":"IF(AU12=0,0,(AU12*((LOG(AU12))/LOG(2))))","v":0}]
[12,886,14,891,13,897,14,906,null,null,0,1111,null,1221,{"$f":"COUNTIF($L$7:$L$500,N13)","v":1},{"$f":"O13/$Q$4","v":5.0000000000000001E-3},{"$f":"IF(P13=0,0,(P13*((LOG(P13))/LOG(2))))","v":-3.8219280948873627E-2},null,null,{"$f":"N13","v":1221},{"$f":"COUNTIF(L7:L39,T13)","v":1},{"$f":"U13/(W4-U20)","v":3.0303030303030304E-2},{"$f":"IF(V13=0,0,(V13*((LOG(V13))/LOG(2))))","v":-0.15286042785934709},null,{"$f":"N13","v":1221},{"$f":"COUNTIF(L40:L73,Y13)","v":0},{"$f":"Z13/(AB4-Z20)","v":0},{"$f":"IF(AA13=0,0,(AA13*((LOG(AA13))/LOG(2))))","v":0},null,{"$f":"N13","v":1221},{"$f":"COUNTIF(L74:L106,AD13)","v":0},{"$f":"AE13/(AG4-AE20)","v":0},{"$f":"IF(AF13=0,0,(AF13*((LOG(AF13))/LOG(2))))","v":0},null,{"$f":"N13","v":1221},{"$f":"COUNTIF(L107:L139,AI13)","v":0},{"$f":"AJ13/(AL4-AJ20)","v":0},{"$f":"IF(AK13=0,0,(AK13*((LOG(AK13))/LOG(2))))","v":0},null,{"$f":"N13","v":1221},{"$f":"COUNTIF(L140:L173,AN13)","v":0},{"$f":"AO13/(AQ4-AO20)","v":0},{"$f":"IF(AP13=0,0,(AP13*((LOG(AP13))/LOG(2))))","v":0},null,{"$f":"N13","v":1221},{"$f":"COUNTIF(L174:L206,AS13)","v":0},{"$f":"AT13/(AV4-AT20)","v":0},{"$f":"IF(AU13=0,0,(AU13*((LOG(AU13))/LOG(2))))","v":0}]
[12,1009,14,1014,13,1019,14,1024,null,null,0,1111,null,1222,{"$f":"COUNTIF($L$7:$L$500,N14)","v":0},{"$f":"O14/$Q$4","v":0},{"$f":"IF(P14=0,0,(P14*((LOG(P14))/LOG(2))))","v":0},null,null,{"$f":"N14","v":1222},{"$f":"COUNTIF(L7:L39,T14)","v":0},{"$f":"U14/(W4-U20)","v":0},{"$f":"IF(V14=0,0,(V14*((LOG(V14))/LOG(2))))","v":0},null,{"$f":"N14","v":1222},{"$f":"COUNTIF(L40:L73,Y14)","v":0},{"$f":"Z14/(AB4-Z20)","v":0},{"$f":"IF(AA14=0,0,(AA14*((LOG(AA14))/LOG(2))))","v":0},null,{"$f":"N14","v":1222},{"$f":"COUNTIF(L74:L106,AD14)","v":0},{"$f":"AE14/(AG4-AE20)","v":0},{"$f":"IF(AF14=0,0,(AF14*((LOG(AF14))/LOG(2))))","v":0},null,{"$f":"N14","v":1222},{"$f":"COUNTIF(L107:L139,AI14)","v":0},{"$f":"AJ14/(AL4-AJ20)","v":0},{"$f":"IF(AK14=0,0,(AK14*((LOG(AK14))/LOG(2))))","v":0},null,{"$f":"N14","v":1222},{"$f":"COUNTIF(L140:L173,AN14)","v":0},{"$f":"AO14/(AQ4-AO20)","v":0},{"$f":"IF(AP14=0,0,(AP14*((LOG(AP14))/LOG(2))))","v":0},null,{"$f":"N14","v":1222},{"$f":"COUNTIF(L174:L206,AS14)","v":0},{"$f":"AT14/(AV4-AT20)","v":0},{"$f":"IF(AU14=0,0,(AU14*((LOG(AU14))/LOG(2))))","v":0}]
[12,1130,14,1135,13,1140,14,1148,null,null,0,1111,null,2111,{"$f":"COUNTIF($L$7:$L$500,N15)","v":0},{"$f":"O15/$Q$4","v":0},{"$f":"IF(P15=0,0,(P15*((LOG(P15))/LOG(2))))","v":0},null,null,{"$f":"N15","v":2111},{"$f":"COUNTIF(L7:L39,T15)","v":0},{"$f":"U15/(W4-U20)","v":0},{"$f":"IF(V15=0,0,(V15*((LOG(V15))/LOG(2))))","v":0},null,{"$f":"N15","v":2111},{"$f":"COUNTIF(L40:L73,Y15)","v":0},{"$f":"Z15/(AB4-Z20)","v":0},{"$f":"IF(AA15=0,0,(AA15*((LOG(AA15))/LOG(2))))","v":0},null,{"$f":"N15","v":2111},{"$f":"COUNTIF(L74:L106,AD15)","v":0},{"$f":"AE15/(AG4-AE20)","v":0},{"$f":"IF(AF15=0,0,(AF15*((LOG(AF15))/LOG(2))))","v":0},null,{"$f":"N15","v":2111},{"$f":"COUNTIF(L107:L139,AI15)","v":0},{"$f":"AJ15/(AL4-AJ20)","v":0},{"$f":"IF(AK15=0,0,(AK15*((LOG(AK15))/LOG(2))))","v":0},null,{"$f":"N15","v":2111},{"$f":"COUNTIF(L140:L173,AN15)","v":0},{"$f":"AO15/(AQ4-AO20)","v":0},{"$f":"IF(AP15=0,0,(AP15*((LOG(AP15))/LOG(2))))","v":0},null,{"$f":"N15","v":2111},{"$f":"COUNTIF(L174:L206,AS15)","v":0},{"$f":"AT15/(AV4-AT20)","v":0},{"$f":"IF(AU15=0,0,(AU15*((LOG(AU15))/LOG(2))))","v":0}]
[12,1252,14,1259,13,1265,14,1278,null,null,0,1111,null,2112,{"$f":"COUNTIF($L$7:$L$500,N16)","v":0},{"$f":"O16/$Q$4","v":0},{"$f":"IF(P16=0,0,(P16*((LOG(P16))/LOG(2))))","v":0},null,null,{"$f":"N16","v":2112},{"$f":"COUNTIF(L7:L39,T16)","v":0},{"$f":"U16/(W4-U20)","v":0},{"$f":"IF(V16=0,0,(V16*((LOG(V16))/LOG(2))))","v":0},null,{"$f":"N16","v":2112},{"$f":"COUNTIF(L40:L73,Y16)","v":0},{"$f":"Z16/(AB4-Z20)","v":0},{"$f":"IF(AA16=0,0,(AA16*((LOG(AA16))/LOG(2))))","v":0},null,{"$f":"N16","v":2112},{"$f":"COUNTIF(L74:L106,AD16)","v":0},{"$f":"AE16/(AG4-AE20)","v":0},{"$f":"IF(AF16=0,0,(AF16*((LOG(AF16))/LOG(2))))","v":0},null,{"$f":"N16","v":2112},{"$f":"COUNTIF(L107:L139,AI16)","v":0},{"$f":"AJ16/(AL4-AJ20)","v":0},{"$f":"IF(AK16=0,0,(AK16*((LOG(AK16))/LOG(2))))","v":0},null,{"$f":"N16","v":2112},{"$f":"COUNTIF(L140:L173,AN16)","v":0},{"$f":"AO16/(AQ4-AO20)","v":0},{"$f":"IF(AP16=0,0,(AP16*((LOG(AP16))/LOG(2))))","v":0},null,{"$f":"N16","v":2112},{"$f":"COUNTIF(L174:L206,AS16)","v":0},{"$f":"AT16/(AV4-AT20)","v":0},{"$f":"IF(AU16=0,0,(AU16*((LOG(AU16))/LOG(2))))","v":0}]
[12,1381,14,1386,13,1395,14,1404,null,null,0,1111,null,2121,{"$f":"COUNTIF($L$7:$L$500,N17)","v":0},{"$f":"O17/$Q$4","v":0},{"$f":"IF(P17=0,0,(P17*((LOG(P17))/LOG(2))))","v":0},null,null,{"$f":"N17","v":2121},{"$f":"COUNTIF(L7:L39,T17)","v":0},{"$f":"U17/(W4-U20)","v":0},{"$f":"IF(V17=0,0,(V17*((LOG(V17))/LOG(2))))","v":0},null,{"$f":"N17","v":2121},{"$f":"COUNTIF(L40:L73,Y17)","v":0},{"$f":"Z17/(AB4-Z20)","v":0},{"$f":"IF(AA17=0,0,(AA17*((LOG(AA17))/LOG(2))))","v":0},null,{"$f":"N17","v":2121},{"$f":"COUNTIF(L74:L106,AD17)","v":0},{"$f":"AE17/(AG4-AE20)","v":0},{"$f":"IF(AF17=0,0,(AF17*((LOG(AF17))/LOG(2))))","v":0},null,{"$f":"N17","v":2121},{"$f":"COUNTIF(L107:L139,AI17)","v":0},{"$f":"AJ17/(AL4-AJ20)","v":0},{"$f":"IF(AK17=0,0,(AK17*((LOG(AK17))/LOG(2))))","v":0},null,{"$f":"N17","v":2121},{"$f":"COUNTIF(L140:L173,AN17)","v":0},{"$f":"AO17/(AQ4-AO20)","v":0},{"$f":"IF(AP17=0,0,(AP17*((LOG(AP17))/LOG(2))))","v":0},null,{"$f":"N17","v":2121},{"$f":"COUNTIF(L174:L206,AS17)","v":0},{"$f":"AT17/(AV4-AT20)","v":0},{"$f":"IF(AU17=0,0,(AU17*((LOG(AU17))/LOG(2))))","v":0}]
[12,1502,14,1507,13,1512,14,1521,null,null,0,1111,null,2122,{"$f":"COUNTIF($L$7:$L$500,N18)","v":0},{"$f":"O18/$Q$4","v":0},{"$f":"IF(P18=0,0,(P18*((LOG(P18))/LOG(2))))","v":0},null,null,{"$f":"N18","v":2122},{"$f":"COUNTIF(L7:L39,T18)","v":0},{"$f":"U18/(W4-U20)","v":0},{"$f":"IF(V18=0,0,(V18*((LOG(V18))/LOG(2))))","v":0},null,{"$f":"N18","v":2122},{"$f":"COUNTIF(L40:L73,Y18)","v":0},{"$f":"Z18/(AB4-Z20)","v":0},{"$f":"IF(AA18=0,0,(AA18*((LOG(AA18))/LOG(2))))","v":0},null,{"$f":"N18","v":2122},{"$f":"COUNTIF(L74:L106,AD18)","v":0},{"$f":"AE18/(AG4-AE20)","v":0},{"$f":"IF(AF18=0,0,(AF18*((LOG(AF18))/LOG(2))))","v":0},null,{"$f":"N18","v":2122},{"$f":"COUNTIF(L107:L139,AI18)","v":0},{"$f":"AJ18/(AL4-AJ20)","v":0},{"$f":"IF(AK18=0,0,(AK18*((LOG(AK18))/LOG(2))))","v":0},null,{"$f":"N18","v":2122},{"$f":"COUNTIF(L140:L173,AN18)","v":0},{"$f":"AO18/(AQ4-AO20)","v":0},{"$f":"IF(AP18=0,0,(AP18*((LOG(AP18))/LOG(2))))","v":0},null,{"$f":"N18","v":2122},{"$f":"COUNTIF(L174:L206,AS18)","v":0},{"$f":"AT18/(AV4-AT20)","v":0},{"$f":"IF(AU18=0,0,(AU18*((LOG(AU18))/LOG(2))))","v":0}]
[12,1636,14,1656,13,1669,14,1681,null,null,0,1111,null,2211,{"$f":"COUNTIF($L$7:$L$500,N19)","v":0},{"$f":"O19/$Q$4","v":0},{"$f":"IF(P19=0,0,(P19*((LOG(P19))/LOG(2))))","v":0},null,null,{"$f":"N19","v":2211},{"$f":"COUNTIF(L7:L39,T19)","v":0},{"$f":"U19/(W4-U20)","v":0},{"$f":"IF(V19=0,0,(V19*((LOG(V19))/LOG(2))))","v":0},null,{"$f":"N19","v":2211},{"$f":"COUNTIF(L40:L73,Y19)","v":0},{"$f":"Z19/(AB4-Z20)","v":0},{"$f":"IF(AA19=0,0,(AA19*((LOG(AA19))/LOG(2))))","v":0},null,{"$f":"N19","v":2211},{"$f":"COUNTIF(L74:L106,AD19)","v":0},{"$f":"AE19/(AG4-AE20)","v":0},{"$f":"IF(AF19=0,0,(AF19*((LOG(AF19))/LOG(2))))","v":0},null,{"$f":"N19","v":2211},{"$f":"COUNTIF(L107:L139,AI19)","v":0},{"$f":"AJ19/(AL4-AJ20)","v":0},{"$f":"IF(AK19=0,0,(AK19*((LOG(AK19))/LOG(2))))","v":0},null,{"$f":"N19","v":2211},{"$f":"COUNTIF(L140:L173,AN19)","v":0},{"$f":"AO19/(AQ4-AO20)","v":0},{"$f":"IF(AP19=0,0,(AP19*((LOG(AP19))/LOG(2))))","v":0},null,{"$f":"N19","v":2211},{"$f":"COUNTIF(L174:L206,AS19)","v":0},{"$f":"AT19/(AV4-AT20)","v":0},{"$f":"IF(AU19=0,0,(AU19*((LOG(AU19))/LOG(2))))","v":0}]
[12,1783,14,1790,13,1800,14,1808,null,null,0,1111,null,2212,{"$f":"COUNTIF($L$7:$L$500,N20)","v":0},{"$f":"O20/$Q$4","v":0},{"$f":"IF(P20=0,0,(P20*((LOG(P20))/LOG(2))))","v":0},null,null,{"$f":"N20","v":2212},{"$f":"COUNTIF(L7:L39,T20)","v":0},null,null,null,{"$f":"N20","v":2212},{"$f":"COUNTIF(L40:L73,Y20)","v":0},null,null,null,{"$f":"N20","v":2212},{"$f":"COUNTIF(L74:L106,AD20)","v":0},null,null,null,{"$f":"N20","v":2212},{"$f":"COUNTIF(L107:L139,AI20)","v":0},null,null,null,{"$f":"N20","v":2212},{"$f":"COUNTIF(L140:L173,AN20)","v":0},null,null,null,{"$f":"N20","v":2212},{"$f":"COUNTIF(L174:L206,AS20)","v":0}]
[12,1917,14,1929,13,1945,14,1952,null,null,0,1111,null,2221,{"$f":"COUNTIF($L$7:$L$500,N21)","v":0},{"$f":"O21/$Q$4","v":0},{"$f":"IF(P21=0,0,(P21*((LOG(P21))/LOG(2))))","v":0},null,null,{"$f":"N21","v":2221},{"$f":"COUNTIF(L7:L39,T21)","v":0},{"$f":"U21/(W4-U20)","v":0},{"$f":"IF(V21=0,0,(V21*((LOG(V21))/LOG(2))))","v":0},null,{"$f":"N21","v":2221},{"$f":"COUNTIF(L40:L73,Y21)","v":0},{"$f":"Z21/(AB4-Z20)","v":0},{"$f":"IF(AA21=0,0,(AA21*((LOG(AA21))/LOG(2))))","v":0},null,{"$f":"N21","v":2221},{"$f":"COUNTIF(L74:L106,AD21)","v":0},{"$f":"AE21/(AG4-AE20)","v":0},{"$f":"IF(AF21=0,0,(AF21*((LOG(AF21))/LOG(2))))","v":0},null,{"$f":"N21","v":2221},{"$f":"COUNTIF(L107:L139,AI21)","v":0},{"$f":"AJ21/(AL4-AJ20)","v":0},{"$f":"IF(AK21=0,0,(AK21*((LOG(AK21))/LOG(2))))","v":0},null,{"$f":"N21","v":2221},{"$f":"COUNTIF(L140:L173,AN21)","v":0},{"$f":"AO21/(AQ4-AO20)","v":0},{"$f":"IF(AP21=0,0,(AP21*((LOG(AP21))/LOG(2))))","v":0},null,{"$f":"N21","v":2221},{"$f":"COUNTIF(L174:L206,AS21)","v":0},{"$f":"AT21/(AV4-AT20)","v":0},{"$f":"IF(AU21=0,0,(AU21*((LOG(AU21))/LOG(2))))","v":0}]
[12,2059,14,2065,13,2071,14,2080,null,null,0,1111,null,2222,{"$f":"COUNTIF($L$7:$L$500,N22)","v":0},{"$f":"O22/$Q$4","v":0},{"$f":"IF(P22=0,0,(P22*((LOG(P22))/LOG(2))))","v":0},null,null,{"$f":"N22","v":2222},{"$f":"COUNTIF(L7:L39,T22)","v":0},{"$f":"U22/(W4-U20)","v":0},{"$f":"IF(V22=0,0,(V22*((LOG(V22))/LOG(2))))","v":0},null,{"$f":"N22","v":2222},{"$f":"COUNTIF(L40:L73,Y22)","v":0},{"$f":"Z22/(AB4-Z20)","v":0},{"$f":"IF(AA22=0,0,(AA22*((LOG(AA22))/LOG(2))))","v":0},null,{"$f":"N22","v":2222},{"$f":"COUNTIF(L74:L106,AD22)","v":0},{"$f":"AE22/(AG4-AE20)","v":0},{"$f":"IF(AF22=0,0,(AF22*((LOG(AF22))/LOG(2))))","v":0},null,{"$f":"N22","v":2222},{"$f":"COUNTIF(L107:L139,AI22)","v":0},{"$f":"AJ22/(AL4-AJ20)","v":0},{"$f":"IF(AK22=0,0,(AK22*((LOG(AK22))/LOG(2))))","v":0},null,{"$f":"N22","v":2222},{"$f":"COUNTIF(L140:L173,AN22)","v":0},{"$f":"AO22/(AQ4-AO20)","v":0},{"$f":"IF(AP22=0,0,(AP22*((LOG(AP22))/LOG(2))))","v":0},null,{"$f":"N22","v":2222},{"$f":"COUNTIF(L174:L206,AS22)","v":0},{"$f":"AT22/(AV4-AT20)","v":0},{"$f":"IF(AU22=0,0,(AU22*((LOG(AU22))/LOG(2))))","v":0}]
[12,2180,14,2187,13,2195,14,2203,null,null,0,1111,null,null,null,{"$f":"SUM(P7:P22)","v":1},{"$f":"-SUM(Q7:Q22)","v":0.1361351476101941},null,null,null,null,{"$f":"SUM(V7:V22)","v":0.99999999999999989},{"$f":"-SUM(W7:W22)","v":0.58358448698707299},null,null,null,{"$f":"SUM(AA7:AA22)","v":1},{"$f":"-SUM(AB7:AB22)","v":0},null,null,null,{"$f":"SUM(AF7:AF22)","v":1},{"$f":"-SUM(AG7:AG22)","v":0},null,null,null,{"$f":"SUM(AK7:AK22)","v":1},{"$f":"-SUM(AL7:AL22)","v":0},null,null,null,{"$f":"SUM(AP7:AP22)","v":1},{"$f":"-SUM(AQ7:AQ22)","v":0},null,null,null,{"$f":"SUM(AU7:AU22)","v":1},{"$f":"-SUM(AV7:AV22)","v":0}]
[12,2302,14,2308,13,2314,14,2323,null,null,0,1111,null,null,null,"U=",{"$f":"Q23/(LOG(Q4)/LOG(2))","v":1.7809747361849069E-2},null,null,null,null,"U1=",{"$f":"W23/(LOG(W4)/LOG(2))","v":0.11568970884877912},null,null,null,"U2=",{"$f":"AB23/(LOG(AB4)/LOG(2))","v":0},null,null,null,"U3=",{"$f":"AG23/(LOG(AG4)/LOG(2))","v":0},null,null,null,"U4=",{"$f":"AL23/(LOG(AL4)/LOG(2))","v":0},null,null,null,"U5=",{"$f":"AQ23/(LOG(AQ4)/LOG(2))","v":0},null,null,null,"U6=",{"$f":"AV23/(LOG(AV4)/LOG(2))","v":0}]
[12,2429,14,2434,13,2441,14,2451,null,null,0,1111]
[12,2558,14,2564,13,2572,14,2581,null,null,0,1111]
[12,2680,14,2687,13,2692,14,2698,null,null,0,1111,null,"Total Target Seq"]
[12,2801,14,2807,13,2813,14,2823,null,null,0,1111,null,{"$f":"COUNTIF(L7:L206,G3)","v":0},null,33,34,33,33,34,33]
[12,2926,14,2932,13,2937,14,2942,null,null,0,1111,null,null,null,"% of reinforcement given in 6 equal intervals based on number of trials "]
[12,3049,14,3055,13,3071,14,3081,null,null,0,1111,null,null,null,"%_1","%_2","%_3","%_4","%_5","%_6"]
[12,3177,14,3185,13,3190,14,3200,null,null,0,1111,null,null,"target sequence",{"$f":"$G$3","v":2212},{"$f":"$G$3","v":2212},{"$f":"$G$3","v":2212},{"$f":"$G$3","v":2212},{"$f":"$G$3","v":2212},{"$f":"$G$3","v":2212}]
[12,3299,14,3306,13,3312,14,3317,null,null,0,1111,null,null,"total reinforcement",{"$f":"U20","v":0},{"$f":"Z20","v":0},{"$f":"AE20","v":0},{"$f":"AJ20","v":0},{"$f":"AO20","v":0},{"$f":"AT20","v":0}]
[12,3422,14,3428,13,3437,14,3448,null,null,0,1111,null,null,"% target"]
[12,3551,14,3560,13,3569,14,3577,null,null,0,1111,null,null,"CCRF"]
[12,3674,14,3683,13,3699,14,3708,null,null,0,1111,null,null,"% CCRf"]
[12,3810,14,3819,13,3825,14,3832,null,null,0,1111,null,null,"average response rate",{"$f":"H39/P28","v":127.75757575757575},{"$f":"(H73-H39)/Q28","v":124.44117647058823},{"$f":"(H106-H73)/R28","v":119.27272727272727},{"$f":"(H139-H106)/S28","v":116.57575757575758},{"$f":"(H173-H139)/T28","v":116.20588235294117},{"$f":"(H206-H173)/U28","v":115.54545454545455}]
[12,3936,14,3941,13,3947,14,3952,null,null,0,1111]
[12,4058,14,4068,13,4073,14,4089,null,null,0,1111]
[12,4193,14,4203,13,4208,14,4216,null,null,0,1111]
[12,4314,14,4323,13,4329,14,4334,null,null,0,1111]
[12,4439,14,4450,13,4459,14,4468,null,null,0,1111]
[12,4575,14,4582,13,4587,14,4592,null,null,0,1111]
[12,4696,14,4701,13,4707,14,4716,null,null,0,1111]
[12,4819,14,4826,13,4832,14,4838,null,null,0,1111]
[12,4942,14,4948,13,4958,14,4975,null,null,0,1111]
[12,5076,14,5082,13,5088,14,5093,null,null,0,1111]
[12,5199,14,5206,13,5212,14,5220,null,null,0,1111]
[12,5323,14,5329,13,5335,14,5341,null,null,0,1111]
[12,5447,14,5457,13,5474,14,5483,null,null,0,1111]
[12,5589,14,5597,13,5603,14,5612,null,null,0,1111]
[12,5710,14,5719,13,5725,14,5734,null,null,0,1111]
[12,5833,14,5839,13,5845,14,5851,null,null,0,1111]
[12,5958,14,5966,13,5976,14,5986,null,null,0,1111]
[12,6080,14,6090,13,6101,14,6119,null,null,0,1111]
[12,6214,14,6220,13,6225,14,6235,null,null,0,1111]
[12,6341,14,6347,13,6353,14,6361,null,null,0,1111]
[12,6467,14,6479,13,6490,14,6500,null,null,0,1111]
[12,6608,14,6614,13,6619,14,6627,null,null,0,1111]
[12,6729,14,6734,13,6743,14,6751,null,null,0,1111]
[12,6855,14,6864,13,6870,14,6876,null,null,0,1111]
[12,6967,14,6974,13,6979,14,6984,null,null,0,1111]
[12,7091,14,7109,13,7127,14,7136,null,null,0,1111]
[12,7240,14,7245,13,7250,14,7255,null,null,0,1111]
[12,7352,14,7358,13,7368,14,7375,null,null,0,1111]
[12,7470,14,7476,13,7482,14,7491,null,null,0,1111]
[12,7590,14,7601,13,7606,14,7614,null,null,0,1111]
[12,7712,14,7718,13,7726,14,7734,null,null,0,1111]
[12,7832,14,7837,13,7842,14,7847,null,null,0,1111]
[12,7946,14,7953,13,7964,14,7987,null,null,0,1111]
[12,8082,14,8088,13,8093,14,8102,null,null,0,1111]
[12,8203,14,8208,13,8213,14,8219,null,null,0,1111]
[12,8314,14,8320,13,8325,14,8329,null,null,0,1111]
[12,8425,14,8432,13,8437,14,8447,null,null,0,1111]
[12,8542,14,8548,13,8557,14,8563,null,null,0,1111]
[12,8662,14,8667,13,8673,14,8678,null,null,0,1111]
[12,8779,14,8785,13,8791,14,8800,null,null,0,1111]
[12,8901,14,8907,13,8912,14,8921,null,null,0,1111]
[12,9019,14,9026,13,9030,14,9035,null,null,0,1111]
[12,9129,14,9135,13,9141,14,9146,null,null,0,1111]
[12,9246,14,9252,13,9257,14,9261,null,null,0,1111]
[12,9357,14,9363,13,9369,14,9377,null,null,0,1111]
[12,9473,14,9479,13,9484,14,9492,null,null,0,1111]
[12,9592,14,9602,13,9608,14,9619,null,null,0,1111]
[12,9723,14,9729,13,9737,14,9745,null,null,0,1111]
[12,9844,14,9852,13,9858,14,9864,null,null,0,1111]
[12,9961,14,9967,13,9973,14,9980,null,null,0,1111]
[12,10077,14,10082,13,10087,14,10099,null,null,0,1111]
[12,10204,14,10210,13,10217,14,10222,null,null,0,1111]
[12,10320,14,10325,13,10334,14,10342,null,null,0,1111]
[12,10439,14,10446,13,10452,14,10457,null,null,0,1111]
[12,10552,14,10561,13,10567,14,10584,null,null,0,1111]
[12,10682,14,10690,13,10695,14,10699,null,null,0,1111]
[12,10793,14,10798,13,10805,14,10810,null,null,0,1111]
[12,10907,14,10913,13,10918,14,10927,null,null,0,1111]
[12,11024,14,11032,13,11037,14,11041,null,null,0,1111]
[12,11150,14,11155,13,11164,14,11172,null,null,0,1111]
[12,11275,14,11283,13,11288,14,11297,null,null,0,1111]
[12,11398,14,11404,13,11409,14,11417,null,null,0,1111]
[12,11515,14,11521,13,11530,14,11535,null,null,0,1111]
[12,11633,14,11639,13,11645,14,11650,null,null,0,1111]
[12,11753,14,11763,13,11771,14,11777,null,null,0,1111]
[12,11873,14,11879,13,11885,14,11895,null,null,0,1111]
[12,11999,14,12010,13,12016,14,12024,null,null,0,1111]
[12,12121,14,12129,13,12138,14,12146,null,null,0,1111]
[12,12247,14,12252,13,12257,14,12265,null,null,0,1111]
[12,12363,14,12373,13,12379,14,12383,null,null,0,1111]
[12,12478,14,12483,13,12489,14,12499,null,null,0,1111]
[12,12597,14,12602,13,12607,14,12611,null,null,0,1111]
[12,12715,14,12728,13,12736,14,12761,null,null,0,1111]
[12,12868,14,12875,13,12880,14,12884,null,null,0,1111]
[12,12977,14,12982,13,12987,14,12994,null,null,0,1111]
[12,13089,14,13096,13,13101,14,13105,null,null,0,1111]
[12,13203,14,13211,13,13216,14,13224,null,null,0,1111]
[12,13320,14,13325,13,13335,14,13344,null,null,0,1111]
[12,13440,14,13445,13,13450,14,13454,null,null,0,1111]
[12,13546,14,13551,13,13555,14,13560,null,null,0,1111]
[12,13658,14,13664,13,13670,14,13679,null,null,0,1111]
[12,13780,14,13786,13,13791,14,13796,null,null,0,1111]
[12,13894,14,13900,13,13904,14,13912,null,null,0,1111]
[12,14009,14,14014,13,14020,14,14025,null,null,0,1111]
[12,14123,14,14129,13,14134,14,14143,null,null,0,1111]
[12,14241,14,14247,13,14252,14,14256,null,null,0,1111]
[12,14354,14,14362,13,14368,14,14376,null,null,0,1111]
[12,14479,14,14484,13,14490,14,14495,null,null,0,1111]
[12,14586,14,14595,13,14601,14,14606,null,null,0,1111]
[12,14702,14,14708,13,14712,14,14717,null,null,0,1111]
[12,14819,14,14825,13,14830,14,14839,null,null,0,1111]
[12,14937,14,14942,13,14948,14,14957,null,null,0,1111]
[12,15052,14,15058,13,15063,14,15071,null,null,0,1111]
[12,15167,14,15172,13,15181,14,15190,null,null,0,1111]
[12,15286,14,15293,13,15298,14,15303,null,null,0,1111]
[12,15402,14,15407,13,15416,14,15424,null,null,0,1111]
[12,15518,14,15523,13,15527,14,15532,null,null,0,1111]
[12,15627,14,15633,13,15638,14,15647,null,null,0,1111]
[12,15744,14,15748,13,15757,14,15765,null,null,0,1111]
[12,15864,14,15870,13,15875,14,15881,null,null,0,1111]
[12,15977,14,15983,13,15987,14,15992,null,null,0,1111]
[12,16093,14,16102,13,16109,14,16116,null,null,0,1111]
[12,16215,14,16220,13,16225,14,16230,null,null,0,1111]
[12,16328,14,16334,13,16339,14,16347,null,null,0,1111]
[12,16445,14,16451,13,16456,14,16461,null,null,0,1111]
[12,16556,14,16562,13,16567,14,16572,null,null,0,1111]
[12,16671,14,16676,13,16683,14,16688,null,null,0,1111]
[12,16786,14,16792,13,16798,14,16823,null,null,0,1111]
[12,16922,14,16926,13,16931,14,16938,null,null,0,1111]
[12,17038,14,17044,13,17048,14,17056,null,null,0,1111]
[12,17156,14,17162,13,17167,14,17172,null,null,0,1111]
[12,17269,14,17275,13,17284,14,17289,null,null,0,1111]
[12,17386,14,17392,13,17397,14,17401,null,null,0,1111]
[12,17502,14,17508,13,17513,14,17518,null,null,0,1111]
[12,17612,14,17618,13,17623,14,17630,null,null,0,1111]
[12,17728,14,17735,13,17740,14,17745,null,null,0,1111]
[12,17847,14,17854,13,17858,14,17868,null,null,0,1111]
[12,17967,14,17972,13,17977,14,17985,null,null,0,1111]
[12,18083,14,18089,13,18094,14,18099,null,null,0,1111]
[12,18195,14,18200,13,18205,14,18209,null,null,0,1111]
[12,18308,14,18314,13,18319,14,18323,null,null,0,1111]
[12,18416,14,18421,13,18427,14,18432,null,null,0,1111]
[12,18535,14,18541,13,18546,14,18565,null,null,0,1111]
[12,18669,14,18676,13,18681,14,18689,null,null,0,1111]
[12,18788,14,18790,13,18796,14,18801,null,null,0,1111]
[12,18900,14,18906,13,18910,14,18918,null,null,0,1111]
[12,19018,14,19023,13,19028,14,19033,null,null,0,1111]
[12,19131,14,19137,13,19141,14,19146,null,null,0,1111]
[12,19241,14,19247,13,19251,14,19259,null,null,0,1111]
[12,19359,14,19367,13,19372,14,19381,null,null,0,1111]
[12,19475,14,19481,13,19486,14,19490,null,null,0,1111]
[12,19588,14,19593,13,19598,14,19603,null,null,0,1111]
[12,19696,14,19702,13,19706,14,19712,null,null,0,1111]
[12,19808,14,19814,13,19819,14,19826,null,null,0,1111]
[12,19925,14,19930,13,19935,14,19946,null,null,0,1111]
[12,20042,14,20047,13,20052,14,20058,null,null,0,1111]
[12,20160,14,20166,13,20173,14,20181,null,null,0,1111]
[12,20284,14,20290,13,20295,14,20304,null,null,0,1111]
[12,20400,14,20405,13,20411,14,20416,null,null,0,1111]
[12,20515,14,20520,13,20528,14,20536,null,null,0,1111]
[12,20630,14,20636,13,20640,14,20645,null,null,0,1111]
[12,20743,14,20748,13,20752,14,20757,null,null,0,1111]
[12,20856,14,20861,13,20870,14,20878,null,null,0,1111]
[12,20977,14,20984,13,20989,14,20994,null,null,0,1111]
[12,21088,14,21094,13,21098,14,21105,null,null,0,1111]
[12,21200,14,21206,13,21211,14,21218,null,null,0,1111]
[12,21316,14,21322,13,21327,14,21336,null,null,0,1111]
[12,21432,14,21437,13,21442,14,21446,null,null,0,1111]
[12,21543,14,21549,13,21553,14,21563,null,null,0,1111]
[12,21658,14,21663,13,21667,14,21676,null,null,0,1111]
[12,21773,14,21779,13,21784,14,21789,null,null,0,1111]
[12,21888,14,21894,13,21899,14,21908,null,null,0,1111]
[12,22006,14,22011,13,22016,14,22021,null,null,0,1111]
[12,22119,14,22126,13,22131,14,22136,null,null,0,1111]
[12,22232,14,22237,13,22246,14,22253,null,null,0,1111]
[12,22348,14,22354,13,22358,14,22362,null,null,0,1111]
[12,22463,14,22468,13,22477,14,22489,null,null,0,1111]
[12,22590,14,22595,13,22599,14,22608,null,null,0,1111]
[12,22707,14,22713,13,22719,14,22727,null,null,0,1111]
[12,22822,14,22831,13,22837,14,22849,null,null,0,1111]
[12,22944,14,22950,13,22955,14,22959,null,null,0,1111]
[12,23058,14,23063,13,23067,14,23075,null,null,0,1111]
[12,23174,14,23179,13,23185,14,23190,null,null,0,1111]
[12,23285,14,23290,13,23295,14,23299,null,null,0,1111]
[12,23394,14,23400,13,23405,14,23414,null,null,0,1111]
[12,23509,14,23516,13,23521,14,23525,null,null,0,1111]
[12,23618,14,23624,13,23630,14,23639,null,null,0,1111]
[12,23739,14,23744,13,23749,14,23761,null,null,0,1111]
[12,23860,14,23865,13,23869,14,23878,null,null,0,1111]
[12,23977,14,23983,13,23987,14,23994,null,null,null,1111]

{"sheet":"!L911D10.056","index":14,"n_rows":203,"n_cols":48,"rows_kept":203,"cut":false,"hidden":false,"merged":[[4,39,4,42],[5,39,5,40],[4,44,4,47],[5,44,5,45],[4,24,4,27],[5,24,5,25],[4,29,4,32],[5,29,5,30],[4,34,4,37],[5,34,5,35],[1,1,1,2],[5,13,5,14],[26,13,26,14],[27,13,27,14],[4,19,4,22],[5,19,5,20]]}
["Report for:!L911D10.056"]
["Date:","<date>"]
["Hen:","<hen>",null,null,null,"Correct Sequence",{"$f":"Start!J2","v":2212},null,null,null,null,null,null,null,null,"Total Sequences in Data",{"$f":"4994-COUNTBLANK(L7:L5000)","v":197},null,null,null,null,"Total Sequences in Block Data",{"$f":"COUNTA(L7:L39)","v":33},null,null,null,"Total Sequences in Block Data",{"$f":"COUNTA(L40:L72)","v":33},null,null,null,"Total Sequences in Block Data",{"$f":"COUNTA(L73:L104)","v":32},null,null,null,"Total Sequences in Block Data",{"$f":"COUNTA(L105:L137)","v":33},null,null,null,"Total Sequences in Block Data",{"$f":"COUNTA(L138:L170)","v":33},null,null,null,"Total Sequences in Block Data",{"$f":"COUNTA(L171:L203)","v":33}]
[null,null,null,null,null,null,null,null,null,null,null,null,null,null,null,"Total Sequences in Summary",{"$f":"SUM(O7:O22)","v":197},null,null,null,null,"Total Sequences in Block Summary",{"$f":"SUM(U7:U22)","v":33},null,null,null,"Total Sequences in Block Summary",{"$f":"SUM(Z7:Z22)","v":33},null,null,null,"Total Sequences in Block Summary",{"$f":"SUM(AE7:AE22)","v":32},null,null,null,"Total Sequences in Block Summary",{"$f":"SUM(AJ7:AJ22)","v":33},null,null,null,"Total Sequences in Block Summary",{"$f":"SUM(AO7:AO22)","v":33},null,null,null,"Total Sequences in Block Summary",{"$f":"SUM(AT7:AT22)","v":33}]
[null,null,null,null,null,null,null,null,null,null,null,null,null,null,null,null,null,null,null,"Block 1",null,null,null,null,"Block 2",null,null,null,null,"Block 3",null,null,null,null,"Block 4",null,null,null,null,"Block 5",null,null,null,null,"Block 6"]
["Sequence\nComponent\n1","Time\n1","Sequence\nComponent\n2","Time\n2","Sequence\nComponent\n3","Time\n3","Sequence\nComponent\n4","Time\n4","Sequence\nComponent\n5","Time\n5","Correct?\n0=No 1=Yes","Sequence",null,"Frequency",null,"Relative Frequency","Variability",null,null,"Frequency",null,"Relative Frequency","Variability",null,"Frequency",null,"Relative Frequency","Variability",null,"Frequency",null,"Relative Frequency","Variability",null,"Frequency",null,"Relative Frequency","Variability",null,"Frequency",null,"Relative Frequency","Variability",null,"Frequency",null,"Relative Frequency","Variability"]
[12,30,14,37,24,50,23,58,null,null,0,1122,null,1111,{"$f":"COUNTIF($L$7:$L$500,N7)","v":191},{"$f":"O7/$Q$4","v":0.96954314720812185},{"$f":"IF(P7=0,0,(P7*((LOG(P7))/LOG(2))))","v":-4.3263915539796249E-2},null,null,{"$f":"N7","v":1111},{"$f":"COUNTIF(L7:L39,T7)","v":30},{"$f":"U7/(W4-U20)","v":0.90909090909090906},{"$f":"IF(V7=0,0,(V7*((LOG(V7))/LOG(2))))","v":-0.12500320340903179},null,{"$f":"N7","v":1111},{"$f":"COUNTIF(L40:L72,Y7)","v":31},{"$f":"Z7/(AB4-Z20)","v":0.93939393939393945},{"$f":"IF(AA7=0,0,(AA7*((LOG(AA7))/LOG(2))))","v":-8.4731275094512809E-2},null,{"$f":"N7","v":1111},{"$f":"COUNTIF(L73:L104,AD7)","v":32},{"$f":"AE7/(AG4-AE20)","v":1},{"$f":"IF(AF7=0,0,(AF7*((LOG(AF7))/LOG(2))))","v":0},null,{"$f":"N7","v":1111},{"$f":"COUNTIF(L105:L137,AI7)","v":33},{"$f":"AJ7/(AL4-AJ20)","v":1},{"$f":"IF(AK7=0,0,(AK7*((LOG(AK7))/LOG(2))))","v":0},null,{"$f":"N7","v":1111},{"$f":"COUNTIF(L138:L170,AN7)","v":33},{"$f":"AO7/(AQ4-AO20)","v":1},{"$f":"IF(AP7=0,0,(AP7*((LOG(AP7))/LOG(2))))","v":0},null,{"$f":"N7","v":1111},{"$f":"COUNTIF(L171:L203,AS7)","v":32},{"$f":"AT7/(AV4-AT20)","v":0.96969696969696972},{"$f":"IF(AU7=0,0,(AU7*((LOG(AU7))/LOG(2))))","v":-4.3048843014257841E-2}]
[21,167,21,174,22,185,23,201,null,null,0,2222,null,1112,{"$f":"COUNTIF($L$7:$L$500,N8)","v":4},{"$f":"O8/$Q$4","v":2.030456852791878E-2},{"$f":"IF(P8=0,0,(P8*((LOG(P8))/LOG(2))))","v":-0.11415333643566246},null,null,{"$f":"N8","v":1112},{"$f":"COUNTIF(L7:L39,T8)","v":1},{"$f":"U8/(W4-U20)","v":3.0303030303030304E-2},{"$f":"IF(V8=0,0,(V8*((LOG(V8))/LOG(2))))","v":-0.15286042785934709},null,{"$f":"N8","v":1112},{"$f":"COUNTIF(L40:L72,Y8)","v":2},{"$f":"Z8/(AB4-Z20)","v":6.0606060606060608E-2},{"$f":"IF(AA8=0,0,(AA8*((LOG(AA8))/LOG(2))))","v":-0.24511479511263354},null,{"$f":"N8","v":1112},{"$f":"COUNTIF(L73:L104,AD8)","v":0},{"$f":"AE8/(AG4-AE20)","v":0},{"$f":"IF(AF8=0,0,(AF8*((LOG(AF8))/LOG(2))))","v":0},null,{"$f":"N8","v":1112},{"$f":"COUNTIF(L105:L137,AI8)","v":0},{"$f":"AJ8/(AL4-AJ20)","v":0},{"$f":"IF(AK8=0,0,(AK8*((LOG(AK8))/LOG(2))))","v":0},null,{"$f":"N8","v":1112},{"$f":"COUNTIF(L138:L170,AN8)","v":0},{"$f":"AO8/(AQ4-AO20)","v":0},{"$f":"IF(AP8=0,0,(AP8*((LOG(AP8))/LOG(2))))","v":0},null,{"$f":"N8","v":1112},{"$f":"COUNTIF(L171:L203,AS8)","v":1},{"$f":"AT8/(AV4-AT20)","v":3.0303030303030304E-2},{"$f":"IF(AU8=0,0,(AU8*((LOG(AU8))/LOG(2))))","v":-0.15286042785934709}]
[12,309,14,319,13,328,14,341,null,null,0,1111,null,1121,{"$f":"COUNTIF($L$7:$L$500,N9)","v":0},{"$f":"O9/$Q$4","v":0},{"$f":"IF(P9=0,0,(P9*((LOG(P9))/LOG(2))))","v":0},null,null,{"$f":"N9","v":1121},{"$f":"COUNTIF(L7:L39,T9)","v":0},{"$f":"U9/(W4-U20)","v":0},{"$f":"IF(V9=0,0,(V9*((LOG(V9))/LOG(2))))","v":0},null,{"$f":"N9","v":1121},{"$f":"COUNTIF(L40:L72,Y9)","v":0},{"$f":"Z9/(AB4-Z20)","v":0},{"$f":"IF(AA9=0,0,(AA9*((LOG(AA9))/LOG(2))))","v":0},null,{"$f":"N9","v":1121},{"$f":"COUNTIF(L73:L104,AD9)","v":0},{"$f":"AE9/(AG4-AE20)","v":0},{"$f":"IF(AF9=0,0,(AF9*((LOG(AF9))/LOG(2))))","v":0},null,{"$f":"N9","v":1121},{"$f":"COUNTIF(L105:L137,AI9)","v":0},{"$f":"AJ9/(AL4-AJ20)","v":0},{"$f":"IF(AK9=0,0,(AK9*((LOG(AK9))/LOG(2))))","v":0},null,{"$f":"N9","v":1121},{"$f":"COUNTIF(L138:L170,AN9)","v":0},{"$f":"AO9/(AQ4-AO20)","v":0},{"$f":"IF(AP9=0,0,(AP9*((LOG(AP9))/LOG(2))))","v":0},null,{"$f":"N9","v":1121},{"$f":"COUNTIF(L171:L203,AS9)","v":0},{"$f":"AT9/(AV4-AT20)","v":0},{"$f":"IF(AU9=0,0,(AU9*((LOG(AU9))/LOG(2))))","v":0}]
[12,455,14,460,13,466,23,477,null,null,0,1112,null,1122,{"$f":"COUNTIF($L$7:$L$500,N10)","v":1},{"$f":"O10/$Q$4","v":5.076142131979695E-3},{"$f":"IF(P10=0,0,(P10*((LOG(P10))/LOG(2))))","v":-3.8690618372875005E-2},null,null,{"$f":"N10","v":1122},{"$f":"COUNTIF(L7:L39,T10)","v":1},{"$f":"U10/(W4-U20)","v":3.0303030303030304E-2},{"$f":"IF(V10=0,0,(V10*((LOG(V10))/LOG(2))))","v":-0.15286042785934709},null,{"$f":"N10","v":1122},{"$f":"COUNTIF(L40:L72,Y10)","v":0},{"$f":"Z10/(AB4-Z20)","v":0},{"$f":"IF(AA10=0,0,(AA10*((LOG(AA10))/LOG(2))))","v":0},null,{"$f":"N10","v":1122},{"$f":"COUNTIF(L73:L104,AD10)","v":0},{"$f":"AE10/(AG4-AE20)","v":0},{"$f":"IF(AF10=0,0,(AF10*((LOG(AF10))/LOG(2))))","v":0},null,{"$f":"N10","v":1122},{"$f":"COUNTIF(L105:L137,AI10)","v":0},{"$f":"AJ10/(AL4-AJ20)","v":0},{"$f":"IF(AK10=0,0,(AK10*((LOG(AK10))/LOG(2))))","v":0},null,{"$f":"N10","v":1122},{"$f":"COUNTIF(L138:L170,AN10)","v":0},{"$f":"AO10/(AQ4-AO20)","v":0},{"$f":"IF(AP10=0,0,(AP10*((LOG(AP10))/LOG(2))))","v":0},null,{"$f":"N10","v":1122},{"$f":"COUNTIF(L171:L203,AS10)","v":0},{"$f":"AT10/(AV4-AT20)","v":0},{"$f":"IF(AU10=0,0,(AU10*((LOG(AU10))/LOG(2))))","v":0}]
[12,588,14,595,13,600,14,627,null,null,0,1111,null,1211,{"$f":"COUNTIF($L$7:$L$500,N11)","v":0},{"$f":"O11/$Q$4","v":0},{"$f":"IF(P11=0,0,(P11*((LOG(P11))/LOG(2))))","v":0},null,null,{"$f":"N11","v":1211},{"$f":"COUNTIF(L7:L39,T11)","v":0},{"$f":"U11/(W4-U20)","v":0},{"$f":"IF(V11=0,0,(V11*((LOG(V11))/LOG(2))))","v":0},null,{"$f":"N11","v":1211},{"$f":"COUNTIF(L40:L72,Y11)","v":0},{"$f":"Z11/(AB4-Z20)","v":0},{"$f":"IF(AA11=0,0,(AA11*((LOG(AA11))/LOG(2))))","v":0},null,{"$f":"N11","v":1211},{"$f":"COUNTIF(L73:L104,AD11)","v":0},{"$f":"AE11/(AG4-AE20)","v":0},{"$f":"IF(AF11=0,0,(AF11*((LOG(AF11))/LOG(2))))","v":0},null,{"$f":"N11","v":1211},{"$f":"COUNTIF(L105:L137,AI11)","v":0},{"$f":"AJ11/(AL4-AJ20)","v":0},{"$f":"IF(AK11=0,0,(AK11*((LOG(AK11))/LOG(2))))","v":0},null,{"$f":"N11","v":1211},{"$f":"COUNTIF(L138:L170,AN11)","v":0},{"$f":"AO11/(AQ4-AO20)","v":0},{"$f":"IF(AP11=0,0,(AP11*((LOG(AP11))/LOG(2))))","v":0},null,{"$f":"N11","v":1211},{"$f":"COUNTIF(L171:L203,AS11)","v":0},{"$f":"AT11/(AV4-AT20)","v":0},{"$f":"IF(AU11=0,0,(AU11*((LOG(AU11))/LOG(2))))","v":0}]
[12,730,14,737,13,743,14,751,null,null,0,1111,null,1212,{"$f":"COUNTIF($L$7:$L$500,N12)","v":0},{"$f":"O12/$Q$4","v":0},{"$f":"IF(P12=0,0,(P12*((LOG(P12))/LOG(2))))","v":0},null,null,{"$f":"N12","v":1212},{"$f":"COUNTIF(L7:L39,T12)","v":0},{"$f":"U12/(W4-U20)","v":0},{"$f":"IF(V12=0,0,(V12*((LOG(V12))/LOG(2))))","v":0},null,{"$f":"N12","v":1212},{"$f":"COUNTIF(L40:L72,Y12)","v":0},{"$f":"Z12/(AB4-Z20)","v":0},{"$f":"IF(AA12=0,0,(AA12*((LOG(AA12))/LOG(2))))","v":0},null,{"$f":"N12","v":1212},{"$f":"COUNTIF(L73:L104,AD12)","v":0},{"$f":"AE12/(AG4-AE20)","v":0},{"$f":"IF(AF12=0,0,(AF12*((LOG(AF12))/LOG(2))))","v":0},null,{"$f":"N12","v":1212},{"$f":"COUNTIF(L105:L137,AI12)","v":0},{"$f":"AJ12/(AL4-AJ20)","v":0},{"$f":"IF(AK12=0,0,(AK12*((LOG(AK12))/LOG(2))))","v":0},null,{"$f":"N12","v":1212},{"$f":"COUNTIF(L138:L170,AN12)","v":0},{"$f":"AO12/(AQ4-AO20)","v":0},{"$f":"IF(AP12=0,0,(AP12*((LOG(AP12))/LOG(2))))","v":0},null,{"$f":"N12","v":1212},{"$f":"COUNTIF(L171:L203,AS12)","v":0},{"$f":"AT12/(AV4-AT20)","v":0},{"$f":"IF(AU12=0,0,(AU12*((LOG(AU12))/LOG(2))))","v":0}]
[12,847,14,853,13,858,14,886,null,null,0,1111,null,1221,{"$f":"COUNTIF($L$7:$L$500,N13)","v":0},{"$f":"O13/$Q$4","v":0},{"$f":"IF(P13=0,0,(P13*((LOG(P13))/LOG(2))))","v":0},null,null,{"$f":"N13","v":1221},{"$f":"COUNTIF(L7:L39,T13)","v":0},{"$f":"U13/(W4-U20)","v":0},{"$f":"IF(V13=0,0,(V13*((LOG(V13))/LOG(2))))","v":0},null,{"$f":"N13","v":1221},{"$f":"COUNTIF(L40:L72,Y13)","v":0},{"$f":"Z13/(AB4-Z20)","v":0},{"$f":"IF(AA13=0,0,(AA13*((LOG(AA13))/LOG(2))))","v":0},null,{"$f":"N13","v":1221},{"$f":"COUNTIF(L73:L104,AD13)","v":0},{"$f":"AE13/(AG4-AE20)","v":0},{"$f":"IF(AF13=0,0,(AF13*((LOG(AF13))/LOG(2))))","v":0},null,{"$f":"N13","v":1221},{"$f":"COUNTIF(L105:L137,AI13)","v":0},{"$f":"AJ13/(AL4-AJ20)","v":0},{"$f":"IF(AK13=0,0,(AK13*((LOG(AK13))/LOG(2))))","v":0},null,{"$f":"N13","v":1221},{"$f":"COUNTIF(L138:L170,AN13)","v":0},{"$f":"AO13/(AQ4-AO20)","v":0},{"$f":"IF(AP13=0,0,(AP13*((LOG(AP13))/LOG(2))))","v":0},null,{"$f":"N13","v":1221},{"$f":"COUNTIF(L171:L203,AS13)","v":0},{"$f":"AT13/(AV4-AT20)","v":0},{"$f":"IF(AU13=0,0,(AU13*((LOG(AU13))/LOG(2))))","v":0}]
[12,981,14,987,13,992,14,1002,null,null,0,1111,null,1222,{"$f":"COUNTIF($L$7:$L$500,N14)","v":0},{"$f":"O14/$Q$4","v":0},{"$f":"IF(P14=0,0,(P14*((LOG(P14))/LOG(2))))","v":0},null,null,{"$f":"N14","v":1222},{"$f":"COUNTIF(L7:L39,T14)","v":0},{"$f":"U14/(W4-U20)","v":0},{"$f":"IF(V14=0,0,(V14*((LOG(V14))/LOG(2))))","v":0},null,{"$f":"N14","v":1222},{"$f":"COUNTIF(L40:L72,Y14)","v":0},{"$f":"Z14/(AB4-Z20)","v":0},{"$f":"IF(AA14=0,0,(AA14*((LOG(AA14))/LOG(2))))","v":0},null,{"$f":"N14","v":1222},{"$f":"COUNTIF(L73:L104,AD14)","v":0},{"$f":"AE14/(AG4-AE20)","v":0},{"$f":"IF(AF14=0,0,(AF14*((LOG(AF14))/LOG(2))))","v":0},null,{"$f":"N14","v":1222},{"$f":"COUNTIF(L105:L137,AI14)","v":0},{"$f":"AJ14/(AL4-AJ20)","v":0},{"$f":"IF(AK14=0,0,(AK14*((LOG(AK14))/LOG(2))))","v":0},null,{"$f":"N14","v":1222},{"$f":"COUNTIF(L138:L170,AN14)","v":0},{"$f":"AO14/(AQ4-AO20)","v":0},{"$f":"IF(AP14=0,0,(AP14*((LOG(AP14))/LOG(2))))","v":0},null,{"$f":"N14","v":1222},{"$f":"COUNTIF(L171:L203,AS14)","v":0},{"$f":"AT14/(AV4-AT20)","v":0},{"$f":"IF(AU14=0,0,(AU14*((LOG(AU14))/LOG(2))))","v":0}]
[12,1104,14,1109,13,1114,14,1119,null,null,0,1111,null,2111,{"$f":"COUNTIF($L$7:$L$500,N15)","v":0},{"$f":"O15/$Q$4","v":0},{"$f":"IF(P15=0,0,(P15*((LOG(P15))/LOG(2))))","v":0},null,null,{"$f":"N15","v":2111},{"$f":"COUNTIF(L7:L39,T15)","v":0},{"$f":"U15/(W4-U20)","v":0},{"$f":"IF(V15=0,0,(V15*((LOG(V15))/LOG(2))))","v":0},null,{"$f":"N15","v":2111},{"$f":"COUNTIF(L40:L72,Y15)","v":0},{"$f":"Z15/(AB4-Z20)","v":0},{"$f":"IF(AA15=0,0,(AA15*((LOG(AA15))/LOG(2))))","v":0},null,{"$f":"N15","v":2111},{"$f":"COUNTIF(L73:L104,AD15)","v":0},{"$f":"AE15/(AG4-AE20)","v":0},{"$f":"IF(AF15=0,0,(AF15*((LOG(AF15))/LOG(2))))","v":0},null,{"$f":"N15","v":2111},{"$f":"COUNTIF(L105:L137,AI15)","v":0},{"$f":"AJ15/(AL4-AJ20)","v":0},{"$f":"IF(AK15=0,0,(AK15*((LOG(AK15))/LOG(2))))","v":0},null,{"$f":"N15","v":2111},{"$f":"COUNTIF(L138:L170,AN15)","v":0},{"$f":"AO15/(AQ4-AO20)","v":0},{"$f":"IF(AP15=0,0,(AP15*((LOG(AP15))/LOG(2))))","v":0},null,{"$f":"N15","v":2111},{"$f":"COUNTIF(L171:L203,AS15)","v":0},{"$f":"AT15/(AV4-AT20)","v":0},{"$f":"IF(AU15=0,0,(AU15*((LOG(AU15))/LOG(2))))","v":0}]
[12,1223,14,1234,13,1243,14,1252,null,null,0,1111,null,2112,{"$f":"COUNTIF($L$7:$L$500,N16)","v":0},{"$f":"O16/$Q$4","v":0},{"$f":"IF(P16=0,0,(P16*((LOG(P16))/LOG(2))))","v":0},null,null,{"$f":"N16","v":2112},{"$f":"COUNTIF(L7:L39,T16)","v":0},{"$f":"U16/(W4-U20)","v":0},{"$f":"IF(V16=0,0,(V16*((LOG(V16))/LOG(2))))","v":0},null,{"$f":"N16","v":2112},{"$f":"COUNTIF(L40:L72,Y16)","v":0},{"$f":"Z16/(AB4-Z20)","v":0},{"$f":"IF(AA16=0,0,(AA16*((LOG(AA16))/LOG(2))))","v":0},null,{"$f":"N16","v":2112},{"$f":"COUNTIF(L73:L104,AD16)","v":0},{"$f":"AE16/(AG4-AE20)","v":0},{"$f":"IF(AF16=0,0,(AF16*((LOG(AF16))/LOG(2))))","v":0},null,{"$f":"N16","v":2112},{"$f":"COUNTIF(L105:L137,AI16)","v":0},{"$f":"AJ16/(AL4-AJ20)","v":0},{"$f":"IF(AK16=0,0,(AK16*((LOG(AK16))/LOG(2))))","v":0},null,{"$f":"N16","v":2112},{"$f":"COUNTIF(L138:L170,AN16)","v":0},{"$f":"AO16/(AQ4-AO20)","v":0},{"$f":"IF(AP16=0,0,(AP16*((LOG(AP16))/LOG(2))))","v":0},null,{"$f":"N16","v":2112},{"$f":"COUNTIF(L171:L203,AS16)","v":0},{"$f":"AT16/(AV4-AT20)","v":0},{"$f":"IF(AU16=0,0,(AU16*((LOG(AU16))/LOG(2))))","v":0}]
[12,1353,14,1359,13,1363,14,1392,null,null,0,1111,null,2121,{"$f":"COUNTIF($L$7:$L$500,N17)","v":0},{"$f":"O17/$Q$4","v":0},{"$f":"IF(P17=0,0,(P17*((LOG(P17))/LOG(2))))","v":0},null,null,{"$f":"N17","v":2121},{"$f":"COUNTIF(L7:L39,T17)","v":0},{"$f":"U17/(W4-U20)","v":0},{"$f":"IF(V17=0,0,(V17*((LOG(V17))/LOG(2))))","v":0},null,{"$f":"N17","v":2121},{"$f":"COUNTIF(L40:L72,Y17)","v":0},{"$f":"Z17/(AB4-Z20)","v":0},{"$f":"IF(AA17=0,0,(AA17*((LOG(AA17))/LOG(2))))","v":0},null,{"$f":"N17","v":2121},{"$f":"COUNTIF(L73:L104,AD17)","v":0},{"$f":"AE17/(AG4-AE20)","v":0},{"$f":"IF(AF17=0,0,(AF17*((LOG(AF17))/LOG(2))))","v":0},null,{"$f":"N17","v":2121},{"$f":"COUNTIF(L105:L137,AI17)","v":0},{"$f":"AJ17/(AL4-AJ20)","v":0},{"$f":"IF(AK17=0,0,(AK17*((LOG(AK17))/LOG(2))))","v":0},null,{"$f":"N17","v":2121},{"$f":"COUNTIF(L138:L170,AN17)","v":0},{"$f":"AO17/(AQ4-AO20)","v":0},{"$f":"IF(AP17=0,0,(AP17*((LOG(AP17))/LOG(2))))","v":0},null,{"$f":"N17","v":2121},{"$f":"COUNTIF(L171:L203,AS17)","v":0},{"$f":"AT17/(AV4-AT20)","v":0},{"$f":"IF(AU17=0,0,(AU17*((LOG(AU17))/LOG(2))))","v":0}]
[12,1494,14,1499,13,1504,14,1512,null,null,0,1111,null,2122,{"$f":"COUNTIF($L$7:$L$500,N18)","v":0},{"$f":"O18/$Q$4","v":0},{"$f":"IF(P18=0,0,(P18*((LOG(P18))/LOG(2))))","v":0},null,null,{"$f":"N18","v":2122},{"$f":"COUNTIF(L7:L39,T18)","v":0},{"$f":"U18/(W4-U20)","v":0},{"$f":"IF(V18=0,0,(V18*((LOG(V18))/LOG(2))))","v":0},null,{"$f":"N18","v":2122},{"$f":"COUNTIF(L40:L72,Y18)","v":0},{"$f":"Z18/(AB4-Z20)","v":0},{"$f":"IF(AA18=0,0,(AA18*((LOG(AA18))/LOG(2))))","v":0},null,{"$f":"N18","v":2122},{"$f":"COUNTIF(L73:L104,AD18)","v":0},{"$f":"AE18/(AG4-AE20)","v":0},{"$f":"IF(AF18=0,0,(AF18*((LOG(AF18))/LOG(2))))","v":0},null,{"$f":"N18","v":2122},{"$f":"COUNTIF(L105:L137,AI18)","v":0},{"$f":"AJ18/(AL4-AJ20)","v":0},{"$f":"IF(AK18=0,0,(AK18*((LOG(AK18))/LOG(2))))","v":0},null,{"$f":"N18","v":2122},{"$f":"COUNTIF(L138:L170,AN18)","v":0},{"$f":"AO18/(AQ4-AO20)","v":0},{"$f":"IF(AP18=0,0,(AP18*((LOG(AP18))/LOG(2))))","v":0},null,{"$f":"N18","v":2122},{"$f":"COUNTIF(L171:L203,AS18)","v":0},{"$f":"AT18/(AV4-AT20)","v":0},{"$f":"IF(AU18=0,0,(AU18*((LOG(AU18))/LOG(2))))","v":0}]
[12,1621,14,1626,13,1631,14,1640,null,null,0,1111,null,2211,{"$f":"COUNTIF($L$7:$L$500,N19)","v":0},{"$f":"O19/$Q$4","v":0},{"$f":"IF(P19=0,0,(P19*((LOG(P19))/LOG(2))))","v":0},null,null,{"$f":"N19","v":2211},{"$f":"COUNTIF(L7:L39,T19)","v":0},{"$f":"U19/(W4-U20)","v":0},{"$f":"IF(V19=0,0,(V19*((LOG(V19))/LOG(2))))","v":0},null,{"$f":"N19","v":2211},{"$f":"COUNTIF(L40:L72,Y19)","v":0},{"$f":"Z19/(AB4-Z20)","v":0},{"$f":"IF(AA19=0,0,(AA19*((LOG(AA19))/LOG(2))))","v":0},null,{"$f":"N19","v":2211},{"$f":"COUNTIF(L73:L104,AD19)","v":0},{"$f":"AE19/(AG4-AE20)","v":0},{"$f":"IF(AF19=0,0,(AF19*((LOG(AF19))/LOG(2))))","v":0},null,{"$f":"N19","v":2211},{"$f":"COUNTIF(L105:L137,AI19)","v":0},{"$f":"AJ19/(AL4-AJ20)","v":0},{"$f":"IF(AK19=0,0,(AK19*((LOG(AK19))/LOG(2))))","v":0},null,{"$f":"N19","v":2211},{"$f":"COUNTIF(L138:L170,AN19)","v":0},{"$f":"AO19/(AQ4-AO20)","v":0},{"$f":"IF(AP19=0,0,(AP19*((LOG(AP19))/LOG(2))))","v":0},null,{"$f":"N19","v":2211},{"$f":"COUNTIF(L171:L203,AS19)","v":0},{"$f":"AT19/(AV4-AT20)","v":0},{"$f":"IF(AU19=0,0,(AU19*((LOG(AU19))/LOG(2))))","v":0}]
[12,1746,14,1756,13,1761,14,1768,null,null,0,1111,null,2212,{"$f":"COUNTIF($L$7:$L$500,N20)","v":0},{"$f":"O20/$Q$4","v":0},{"$f":"IF(P20=0,0,(P20*((LOG(P20))/LOG(2))))","v":0},null,null,{"$f":"N20","v":2212},{"$f":"COUNTIF(L7:L39,T20)","v":0},null,null,null,{"$f":"N20","v":2212},{"$f":"COUNTIF(L40:L72,Y20)","v":0},null,null,null,{"$f":"N20","v":2212},{"$f":"COUNTIF(L73:L104,AD20)","v":0},null,null,null,{"$f":"N20","v":2212},{"$f":"COUNTIF(L105:L137,AI20)","v":0},null,null,null,{"$f":"N20","v":2212},{"$f":"COUNTIF(L138:L170,AN20)","v":0},null,null,null,{"$f":"N20","v":2212},{"$f":"COUNTIF(L171:L203,AS20)","v":0}]
[12,1866,14,1873,13,1878,14,1883,null,null,0,1111,null,2221,{"$f":"COUNTIF($L$7:$L$500,N21)","v":0},{"$f":"O21/$Q$4","v":0},{"$f":"IF(P21=0,0,(P21*((LOG(P21))/LOG(2))))","v":0},null,null,{"$f":"N21","v":2221},{"$f":"COUNTIF(L7:L39,T21)","v":0},{"$f":"U21/(W4-U20)","v":0},{"$f":"IF(V21=0,0,(V21*((LOG(V21))/LOG(2))))","v":0},null,{"$f":"N21","v":2221},{"$f":"COUNTIF(L40:L72,Y21)","v":0},{"$f":"Z21/(AB4-Z20)","v":0},{"$f":"IF(AA21=0,0,(AA21*((LOG(AA21))/LOG(2))))","v":0},null,{"$f":"N21","v":2221},{"$f":"COUNTIF(L73:L104,AD21)","v":0},{"$f":"AE21/(AG4-AE20)","v":0},{"$f":"IF(AF21=0,0,(AF21*((LOG(AF21))/LOG(2))))","v":0},null,{"$f":"N21","v":2221},{"$f":"COUNTIF(L105:L137,AI21)","v":0},{"$f":"AJ21/(AL4-AJ20)","v":0},{"$f":"IF(AK21=0,0,(AK21*((LOG(AK21))/LOG(2))))","v":0},null,{"$f":"N21","v":2221},{"$f":"COUNTIF(L138:L170,AN21)","v":0},{"$f":"AO21/(AQ4-AO20)","v":0},{"$f":"IF(AP21=0,0,(AP21*((LOG(AP21))/LOG(2))))","v":0},null,{"$f":"N21","v":2221},{"$f":"COUNTIF(L171:L203,AS21)","v":0},{"$f":"AT21/(AV4-AT20)","v":0},{"$f":"IF(AU21=0,0,(AU21*((LOG(AU21))/LOG(2))))","v":0}]
[12,1987,14,1994,13,2002,14,2022,null,null,0,1111,null,2222,{"$f":"COUNTIF($L$7:$L$500,N22)","v":1},{"$f":"O22/$Q$4","v":5.076142131979695E-3},{"$f":"IF(P22=0,0,(P22*((LOG(P22))/LOG(2))))","v":-3.8690618372875005E-2},null,null,{"$f":"N22","v":2222},{"$f":"COUNTIF(L7:L39,T22)","v":1},{"$f":"U22/(W4-U20)","v":3.0303030303030304E-2},{"$f":"IF(V22=0,0,(V22*((LOG(V22))/LOG(2))))","v":-0.15286042785934709},null,{"$f":"N22","v":2222},{"$f":"COUNTIF(L40:L72,Y22)","v":0},{"$f":"Z22/(AB4-Z20)","v":0},{"$f":"IF(AA22=0,0,(AA22*((LOG(AA22))/LOG(2))))","v":0},null,{"$f":"N22","v":2222},{"$f":"COUNTIF(L73:L104,AD22)","v":0},{"$f":"AE22/(AG4-AE20)","v":0},{"$f":"IF(AF22=0,0,(AF22*((LOG(AF22))/LOG(2))))","v":0},null,{"$f":"N22","v":2222},{"$f":"COUNTIF(L105:L137,AI22)","v":0},{"$f":"AJ22/(AL4-AJ20)","v":0},{"$f":"IF(AK22=0,0,(AK22*((LOG(AK22))/LOG(2))))","v":0},null,{"$f":"N22","v":2222},{"$f":"COUNTIF(L138:L170,AN22)","v":0},{"$f":"AO22/(AQ4-AO20)","v":0},{"$f":"IF(AP22=0,0,(AP22*((LOG(AP22))/LOG(2))))","v":0},null,{"$f":"N22","v":2222},{"$f":"COUNTIF(L171:L203,AS22)","v":0},{"$f":"AT22/(AV4-AT20)","v":0},{"$f":"IF(AU22=0,0,(AU22*((LOG(AU22))/LOG(2))))","v":0}]
[12,2129,14,2134,13,2140,14,2148,null,null,0,1111,null,null,null,{"$f":"SUM(P7:P22)","v":1},{"$f":"-SUM(Q7:Q22)","v":0.23479848872120873},null,null,null,null,{"$f":"SUM(V7:V22)","v":0.99999999999999989},{"$f":"-SUM(W7:W22)","v":0.58358448698707299},null,null,null,{"$f":"SUM(AA7:AA22)","v":1},{"$f":"-SUM(AB7:AB22)","v":0.32984607020714635},null,null,null,{"$f":"SUM(AF7:AF22)","v":1},{"$f":"-SUM(AG7:AG22)","v":0},null,null,null,{"$f":"SUM(AK7:AK22)","v":1},{"$f":"-SUM(AL7:AL22)","v":0},null,null,null,{"$f":"SUM(AP7:AP22)","v":1},{"$f":"-SUM(AQ7:AQ22)","v":0},null,null,null,{"$f":"SUM(AU7:AU22)","v":1},{"$f":"-SUM(AV7:AV22)","v":0.19590927087360493}]
[12,2245,14,2251,13,2256,14,2263,null,null,0,1111,null,null,null,"U=",{"$f":"Q23/(LOG(Q4)/LOG(2))","v":3.0805155131831043E-2},null,null,null,null,"U1=",{"$f":"W23/(LOG(W4)/LOG(2))","v":0.11568970884877912},null,null,null,"U2=",{"$f":"AB23/(LOG(AB4)/LOG(2))","v":6.53886398252118E-2},null,null,null,"U3=",{"$f":"AG23/(LOG(AG4)/LOG(2))","v":0},null,null,null,"U4=",{"$f":"AL23/(LOG(AL4)/LOG(2))","v":0},null,null,null,"U5=",{"$f":"AQ23/(LOG(AQ4)/LOG(2))","v":0},null,null,null,"U6=",{"$f":"AV23/(LOG(AV4)/LOG(2))","v":3.8837027051827726E-2}]
[12,2374,14,2379,13,2384,14,2390,null,null,0,1111]
[12,2490,14,2499,13,2504,14,2513,null,null,0,1111]
[12,2619,14,2625,13,2630,14,2635,null,null,0,1111,null,"Total Target Seq"]
[12,2742,14,2747,13,2752,14,2768,null,null,0,1111,null,{"$f":"COUNTIF(L7:L203,G3)","v":0},null,33,33,32,33,33,33]
[12,2872,14,2878,13,2883,14,2888,null,null,0,1111,null,null,null,"% of reinforcement given in 6 equal intervals based on number of trials "]
[12,2992,14,2998,13,3008,14,3016,null,null,0,1111,null,null,null,"%_1","%_2","%_3","%_4","%_5","%_6"]
[12,3121,14,3127,13,3132,14,3137,null,null,0,1111,null,null,"target sequence",{"$f":"$G$3","v":2212},{"$f":"$G$3","v":2212},{"$f":"$G$3","v":2212},{"$f":"$G$3","v":2212},{"$f":"$G$3","v":2212},{"$f":"$G$3","v":2212}]
[12,3245,14,3250,13,3255,14,3263,null,null,0,1111,null,null,"total reinforcement",{"$f":"U20","v":0},{"$f":"Z20","v":0},{"$f":"AE20","v":0},{"$f":"AJ20","v":0},{"$f":"AO20","v":0},{"$f":"AT20","v":0}]
[12,3369,14,3374,13,3379,14,3392,null,null,0,1111,null,null,"% target"]
[12,3501,14,3507,13,3512,14,3520,null,null,0,1111,null,null,"CCRF"]
[12,3630,14,3635,13,3641,14,3646,null,null,0,1111,null,null,"% CCRf"]
[12,3750,14,3756,13,3760,14,3766,null,null,0,1111,null,null,"average response rate",{"$f":"H39/P28","v":125.33333333333333},{"$f":"(H72-H39)/Q28","v":122.12121212121212},{"$f":"(H104-H72)/R28","v":119.90625},{"$f":"(H137-H104)/S28","v":121.81818181818181},{"$f":"(H170-H137)/T28","v":120.90909090909091},{"$f":"(H203-H170)/U28","v":118.93939393939394}]
[12,3862,14,3869,13,3875,14,3884,null,null,0,1111]
[12,3991,14,3997,13,4003,14,4011,null,null,0,1111]
[12,4117,14,4123,13,4127,14,4136,null,null,0,1111]
[12,4241,14,4246,13,4251,14,4259,null,null,0,1111]
[12,4353,14,4362,13,4372,14,4380,null,null,0,1111]
[12,4493,14,4498,13,4504,23,4514,null,null,0,1112]
[12,4605,14,4610,13,4615,14,4620,null,null,0,1111]
[12,4728,14,4733,13,4742,14,4750,null,null,0,1111]
[12,4851,14,4858,13,4863,14,4868,null,null,0,1111]
[12,4968,14,4974,13,4979,14,4988,null,null,0,1111]
[12,5085,14,5092,13,5101,14,5109,null,null,0,1111]
[12,5207,14,5212,13,5217,14,5224,null,null,0,1111]
[12,5333,14,5340,13,5347,14,5355,null,null,0,1111]
[12,5461,14,5466,13,5472,14,5489,null,null,0,1111]
[12,5603,14,5608,13,5613,14,5619,null,null,0,1111]
[12,5721,14,5726,13,5732,23,5742,null,null,0,1112]
[12,5848,14,5854,13,5863,14,5871,null,null,0,1111]
[12,5981,14,5988,13,5993,14,5998,null,null,0,1111]
[12,6104,14,6111,13,6118,14,6128,null,null,0,1111]
[12,6227,14,6235,13,6244,14,6256,null,null,0,1111]
[12,6353,14,6359,13,6365,14,6375,null,null,0,1111]
[12,6481,14,6486,13,6495,14,6503,null,null,0,1111]
[12,6605,14,6609,13,6614,14,6619,null,null,0,1111]
[12,6715,14,6720,13,6727,14,6733,null,null,0,1111]
[12,6836,14,6841,13,6847,14,6857,null,null,0,1111]
[12,6957,14,6962,13,6967,14,6976,null,null,0,1111]
[12,7075,14,7079,13,7084,14,7092,null,null,0,1111]
[12,7191,14,7196,13,7201,14,7211,null,null,0,1111]
[12,7309,14,7315,13,7320,14,7325,null,null,0,1111]
[12,7423,14,7428,13,7433,14,7438,null,null,0,1111]
[12,7537,14,7541,13,7546,14,7556,null,null,0,1111]
[12,7652,14,7658,13,7663,14,7673,null,null,0,1111]
[12,7778,14,7787,13,7793,14,7800,null,null,0,1111]
[12,7900,14,7905,13,7914,14,7921,null,null,0,1111]
[12,8029,14,8034,13,8039,14,8048,null,null,0,1111]
[12,8145,14,8152,13,8158,14,8166,null,null,0,1111]
[12,8264,14,8269,13,8277,14,8282,null,null,0,1111]
[12,8391,14,8396,13,8406,14,8414,null,null,0,1111]
[12,8510,14,8516,13,8528,14,8533,null,null,0,1111]
[12,8631,14,8638,13,8644,14,8649,null,null,0,1111]
[12,8746,14,8753,13,8759,14,8764,null,null,0,1111]
[12,8865,14,8872,13,8881,14,8893,null,null,0,1111]
[12,8991,14,8992,13,8998,14,9015,null,null,0,1111]
[12,9115,14,9125,13,9134,14,9141,null,null,0,1111]
[12,9237,14,9243,13,9251,14,9257,null,null,0,1111]
[12,9354,14,9367,13,9375,14,9383,null,null,0,1111]
[12,9482,14,9488,13,9497,14,9508,null,null,0,1111]
[12,9604,14,9611,13,9617,14,9622,null,null,0,1111]
[12,9719,14,9727,13,9732,14,9741,null,null,0,1111]
[12,9838,14,9845,13,9851,14,9856,null,null,0,1111]
[12,9951,14,9956,13,9962,14,9968,null,null,0,1111]
[12,10066,14,10075,13,10095,14,10109,null,null,0,1111]
[12,10213,14,10219,13,10224,14,10230,null,null,0,1111]
[12,10329,14,10335,13,10345,14,10353,null,null,0,1111]
[12,10466,14,10476,13,10482,14,10492,null,null,0,1111]
[12,10589,14,10596,13,10604,14,10609,null,null,0,1111]
[12,10704,14,10709,13,10715,14,10721,null,null,0,1111]
[12,10819,14,10824,13,10829,14,10834,null,null,0,1111]
[12,10930,14,10938,13,10943,14,10948,null,null,0,1111]
[12,11046,14,11051,13,11057,14,11063,null,null,0,1111]
[12,11164,14,11169,13,11174,14,11179,null,null,0,1111]
[12,11291,14,11296,13,11301,14,11306,null,null,0,1111]
[12,11405,14,11409,13,11414,14,11419,null,null,0,1111]
[12,11514,14,11519,13,11523,14,11528,null,null,0,1111]
[12,11625,14,11633,13,11638,14,11642,null,null,0,1111]
[12,11745,14,11752,13,11758,14,11762,null,null,0,1111]
[12,11858,14,11869,13,11877,14,11885,null,null,0,1111]
[12,11984,14,11992,13,11998,14,12003,null,null,0,1111]
[12,12095,14,12100,13,12106,14,12110,null,null,0,1111]
[12,12217,14,12223,13,12232,14,12240,null,null,0,1111]
[12,12346,14,12353,13,12359,14,12367,null,null,0,1111]
[12,12465,14,12470,13,12474,14,12479,null,null,0,1111]
[12,12576,14,12583,13,12588,14,12593,null,null,0,1111]
[12,12720,14,12729,13,12739,14,12748,null,null,0,1111]
[12,12844,14,12849,13,12853,14,12859,null,null,0,1111]
[12,12956,14,12966,13,12974,14,12989,null,null,0,1111]
[12,13077,14,13082,13,13087,14,13092,null,null,0,1111]
[12,13196,14,13205,13,13226,14,13235,null,null,0,1111]
[12,13334,14,13345,13,13350,14,13360,null,null,0,1111]
[12,13464,14,13473,13,13479,14,13488,null,null,0,1111]
[12,13586,14,13593,13,13602,14,13620,null,null,0,1111]
[12,13722,14,13728,13,13734,14,13747,null,null,0,1111]
[12,13840,14,13847,13,13851,14,13856,null,null,0,1111]
[12,13966,14,13972,13,13982,14,13999,null,null,0,1111]
[12,14107,14,14114,13,14119,14,14127,null,null,0,1111]
[12,14225,14,14231,13,14236,14,14245,null,null,0,1111]
[12,14347,14,14353,13,14358,14,14363,null,null,0,1111]
[12,14464,14,14470,13,14476,14,14482,null,null,0,1111]
[12,14578,14,14584,13,14590,14,14595,null,null,0,1111]
[12,14692,14,14706,13,14714,14,14725,null,null,0,1111]
[12,14823,14,14831,13,14844,14,14861,null,null,0,1111]
[12,14962,14,14969,13,14974,14,14979,null,null,0,1111]
[12,15079,14,15084,13,15092,14,15100,null,null,0,1111]
[12,15197,14,15202,13,15207,14,15213,null,null,0,1111]
[12,15303,14,15309,13,15315,14,15320,null,null,0,1111]
[12,15423,14,15429,13,15435,14,15445,null,null,0,1111]
[12,15536,14,15545,13,15551,14,15556,null,null,0,1111]
[12,15645,14,15650,13,15656,14,15661,null,null,0,1111]
[12,15767,14,15773,13,15778,14,15786,null,null,0,1111]
[12,15888,14,15893,13,15898,14,15908,null,null,0,1111]
[12,16007,14,16013,13,16018,14,16023,null,null,0,1111]
[12,16132,14,16137,13,16142,14,16150,null,null,0,1111]
[12,16252,14,16258,13,16264,14,16270,null,null,0,1111]
[12,16365,14,16373,13,16380,14,16389,null,null,0,1111]
[12,16483,14,16489,13,16494,14,16499,null,null,0,1111]
[12,16595,14,16601,13,16605,14,16615,null,null,0,1111]
[12,16713,14,16718,13,16723,14,16730,null,null,0,1111]
[12,16827,14,16835,13,16843,14,16851,null,null,0,1111]
[12,16955,14,16963,13,16969,14,16979,null,null,0,1111]
[12,17075,14,17079,13,17084,14,17089,null,null,0,1111]
[12,17190,14,17200,13,17209,14,17220,null,null,0,1111]
[12,17319,14,17326,13,17332,14,17341,null,null,0,1111]
[12,17437,14,17442,13,17448,14,17453,null,null,0,1111]
[12,17549,14,17554,13,17560,14,17569,null,null,0,1111]
[12,17672,14,17682,13,17691,14,17699,null,null,0,1111]
[12,17799,14,17805,13,17810,14,17819,null,null,0,1111]
[12,17918,14,17924,13,17929,14,17934,null,null,0,1111]
[12,18035,14,18045,13,18050,14,18060,null,null,0,1111]
[12,18164,14,18170,13,18177,14,18185,null,null,0,1111]
[12,18288,14,18299,13,18315,14,18324,null,null,0,1111]
[12,18421,14,18427,13,18432,14,18440,null,null,0,1111]
[12,18540,14,18547,13,18553,14,18558,null,null,0,1111]
[12,18655,14,18661,13,18666,14,18675,null,null,0,1111]
[12,18776,14,18782,13,18788,14,18797,null,null,0,1111]
[12,18897,14,18903,13,18909,14,18918,null,null,0,1111]
[12,19022,14,19029,13,19034,14,19042,null,null,0,1111]
[12,19140,14,19145,13,19150,14,19159,null,null,0,1111]
[12,19258,14,19264,13,19268,14,19278,null,null,0,1111]
[12,19376,14,19383,13,19398,14,19408,null,null,0,1111]
[12,19506,14,19512,13,19517,14,19534,null,null,0,1111]
[12,19629,14,19634,13,19642,14,19650,null,null,0,1111]
[12,19748,14,19754,13,19762,14,19772,null,null,0,1111]
[12,19865,14,19878,13,19883,14,19892,null,null,0,1111]
[12,19994,14,19999,13,20005,14,20013,null,null,0,1111]
[12,20108,14,20116,13,20122,14,20127,null,null,0,1111]
[12,20220,14,20225,13,20231,14,20236,null,null,0,1111]
[12,20343,14,20349,13,20355,14,20364,null,null,0,1111]
[12,20459,14,20465,13,20471,14,20480,null,null,0,1111]
[12,20583,14,20592,13,20600,14,20608,null,null,0,1111]
[12,20707,14,20713,13,20718,14,20728,null,null,0,1111]
[12,20823,14,20828,13,20833,14,20838,null,null,0,1111]
[12,20945,14,20951,13,20957,14,20965,null,null,0,1111]
[12,21062,14,21070,13,21077,14,21082,null,null,0,1111]
[12,21182,14,21186,13,21196,14,21204,null,null,0,1111]
[12,21301,14,21307,13,21312,14,21317,null,null,0,1111]
[12,21442,14,21451,13,21477,14,21489,null,null,0,1111]
[12,21591,14,21597,13,21602,14,21611,null,null,0,1111]
[12,21709,14,21715,13,21721,14,21726,null,null,0,1111]
[12,21823,14,21828,13,21833,14,21839,null,null,0,1111]
[12,21932,14,21938,13,21944,14,21949,null,null,0,1111]
[12,22044,14,22049,13,22051,14,22067,null,null,0,1111]
[12,22160,14,22165,13,22171,23,22186,null,null,0,1112]
[12,22286,14,22292,13,22298,14,22307,null,null,0,1111]
[12,22402,14,22407,13,22414,14,22420,null,null,0,1111]
[12,22519,14,22525,13,22530,14,22534,null,null,0,1111]
[12,22630,14,22636,13,22641,14,22647,null,null,0,1111]
[12,22746,14,22752,13,22757,14,22765,null,null,0,1111]
[12,22859,14,22864,13,22869,14,22877,null,null,0,1111]
[12,22983,14,22989,13,22999,14,23006,null,null,0,1111]
[12,23105,14,23111,13,23117,14,23123,null,null,0,1111]
[12,23219,14,23225,13,23230,14,23235,null,null,0,1111]
[12,23333,14,23339,13,23344,14,23353,null,null,0,1111]
[12,23447,14,23451,13,23456,14,23461,null,null,0,1111]
[12,23564,14,23571,13,23576,14,23584,null,null,0,1111]
[12,23679,14,23685,13,23690,14,23699,null,null,0,1111]
[12,23797,14,23806,13,23811,14,23821,null,null,0,1111]
[12,23921,14,23925,13,23930,14,23938,null,null,null,1111]

{"sheet":"!L912C00.056","index":15,"n_rows":202,"n_cols":48,"rows_kept":202,"cut":false,"hidden":false,"merged":[[4,39,4,42],[5,39,5,40],[4,44,4,47],[5,44,5,45],[4,24,4,27],[5,24,5,25],[4,29,4,32],[5,29,5,30],[4,34,4,37],[5,34,5,35],[1,1,1,2],[5,13,5,14],[26,13,26,14],[27,13,27,14],[4,19,4,22],[5,19,5,20]]}
["Report for:!L912C00.056"]
["Date:","<date>"]
["Hen:","<hen>",null,null,null,"Correct Sequence",{"$f":"Start!J2","v":2212},null,null,null,null,null,null,null,null,"Total Sequences in Data",{"$f":"4994-COUNTBLANK(L7:L5000)","v":196},null,null,null,null,"Total Sequences in Block Data",{"$f":"COUNTA(L7:L39)","v":33},null,null,null,"Total Sequences in Block Data",{"$f":"COUNTA(L40:L71)","v":32},null,null,null,"Total Sequences in Block Data",{"$f":"COUNTA(L72:L104)","v":33},null,null,null,"Total Sequences in Block Data",{"$f":"COUNTA(L105:L137)","v":33},null,null,null,"Total Sequences in Block Data",{"$f":"COUNTA(L138:L169)","v":32},null,null,null,"Total Sequences in Block Data",{"$f":"COUNTA(L170:L202)","v":33}]
[null,null,null,null,null,null,null,null,null,null,null,null,null,null,null,"Total Sequences in Summary",{"$f":"SUM(O7:O22)","v":195},null,null,null,null,"Total Sequences in Block Summary",{"$f":"SUM(U7:U22)","v":33},null,null,null,"Total Sequences in Block Summary",{"$f":"SUM(Z7:Z22)","v":32},null,null,null,"Total Sequences in Block Summary",{"$f":"SUM(AE7:AE22)","v":33},null,null,null,"Total Sequences in Block Summary",{"$f":"SUM(AJ7:AJ22)","v":33},null,null,null,"Total Sequences in Block Summary",{"$f":"SUM(AO7:AO22)","v":32},null,null,null,"Total Sequences in Block Summary",{"$f":"SUM(AT7:AT22)","v":32}]
[null,null,null,null,null,null,null,null,null,null,null,null,null,null,null,null,null,null,null,"Block 1",null,null,null,null,"Block 2",null,null,null,null,"Block 3",null,null,null,null,"Block 4",null,null,null,null,"Block 5",null,null,null,null,"Block 6"]
["Sequence\nComponent\n1","Time\n1","Sequence\nComponent\n2","Time\n2","Sequence\nComponent\n3","Time\n3","Sequence\nComponent\n4","Time\n4","Sequence\nComponent\n5","Time\n5","Correct?\n0=No 1=Yes","Sequence",null,"Frequency",null,"Relative Frequency","Variability",null,null,"Frequency",null,"Relative Frequency","Variability",null,"Frequency",null,"Relative Frequency","Variability",null,"Frequency",null,"Relative Frequency","Variability",null,"Frequency",null,"Relative Frequency","Variability",null,"Frequency",null,"Relative Frequency","Variability",null,"Frequency",null,"Relative Frequency","Variability"]
[12,56,14,63,24,74,14,95,null,null,0,1121,null,1111,{"$f":"COUNTIF($L$7:$L$500,N7)","v":189},{"$f":"O7/$Q$4","v":0.96923076923076923},{"$f":"IF(P7=0,0,(P7*((LOG(P7))/LOG(2))))","v":-4.3700569850736871E-2},null,null,{"$f":"N7","v":1111},{"$f":"COUNTIF(L7:L39,T7)","v":28},{"$f":"U7/(W4-U20)","v":0.875},{"$f":"IF(V7=0,0,(V7*((LOG(V7))/LOG(2))))","v":-0.1685644431995964},null,{"$f":"N7","v":1111},{"$f":"COUNTIF(L40:L71,Y7)","v":32},{"$f":"Z7/(AB4-Z20)","v":1},{"$f":"IF(AA7=0,0,(AA7*((LOG(AA7))/LOG(2))))","v":0},null,{"$f":"N7","v":1111},{"$f":"COUNTIF(L72:L104,AD7)","v":33},{"$f":"AE7/(AG4-AE20)","v":1},{"$f":"IF(AF7=0,0,(AF7*((LOG(AF7))/LOG(2))))","v":0},null,{"$f":"N7","v":1111},{"$f":"COUNTIF(L105:L137,AI7)","v":33},{"$f":"AJ7/(AL4-AJ20)","v":1},{"$f":"IF(AK7=0,0,(AK7*((LOG(AK7))/LOG(2))))","v":0},null,{"$f":"N7","v":1111},{"$f":"COUNTIF(L138:L169,AN7)","v":31},{"$f":"AO7/(AQ4-AO20)","v":0.96875},{"$f":"IF(AP7=0,0,(AP7*((LOG(AP7))/LOG(2))))","v":-4.4372324312714644E-2},null,{"$f":"N7","v":1111},{"$f":"COUNTIF(L170:L202,AS7)","v":32},{"$f":"AT7/(AV4-AT20)","v":1},{"$f":"IF(AU7=0,0,(AU7*((LOG(AU7))/LOG(2))))","v":0}]
[21,205,21,215,11,232,21,245,null,null,0,2212,null,1112,{"$f":"COUNTIF($L$7:$L$500,N8)","v":1},{"$f":"O8/$Q$4","v":5.1282051282051282E-3},{"$f":"IF(P8=0,0,(P8*((LOG(P8))/LOG(2))))","v":-3.9011950326921077E-2},null,null,{"$f":"N8","v":1112},{"$f":"COUNTIF(L7:L39,T8)","v":1},{"$f":"U8/(W4-U20)","v":3.125E-2},{"$f":"IF(V8=0,0,(V8*((LOG(V8))/LOG(2))))","v":-0.15625},null,{"$f":"N8","v":1112},{"$f":"COUNTIF(L40:L71,Y8)","v":0},{"$f":"Z8/(AB4-Z20)","v":0},{"$f":"IF(AA8=0,0,(AA8*((LOG(AA8))/LOG(2))))","v":0},null,{"$f":"N8","v":1112},{"$f":"COUNTIF(L72:L104,AD8)","v":0},{"$f":"AE8/(AG4-AE20)","v":0},{"$f":"IF(AF8=0,0,(AF8*((LOG(AF8))/LOG(2))))","v":0},null,{"$f":"N8","v":1112},{"$f":"COUNTIF(L105:L137,AI8)","v":0},{"$f":"AJ8/(AL4-AJ20)","v":0},{"$f":"IF(AK8=0,0,(AK8*((LOG(AK8))/LOG(2))))","v":0},null,{"$f":"N8","v":1112},{"$f":"COUNTIF(L138:L169,AN8)","v":0},{"$f":"AO8/(AQ4-AO20)","v":0},{"$f":"IF(AP8=0,0,(AP8*((LOG(AP8))/LOG(2))))","v":0},null,{"$f":"N8","v":1112},{"$f":"COUNTIF(L170:L202,AS8)","v":0},{"$f":"AT8/(AV4-AT20)","v":0},{"$f":"IF(AU8=0,0,(AU8*((LOG(AU8))/LOG(2))))","v":0}]
[21,344,21,350,22,358,23,374,null,null,0,2222,null,1121,{"$f":"COUNTIF($L$7:$L$500,N9)","v":1},{"$f":"O9/$Q$4","v":5.1282051282051282E-3},{"$f":"IF(P9=0,0,(P9*((LOG(P9))/LOG(2))))","v":-3.9011950326921077E-2},null,null,{"$f":"N9","v":1121},{"$f":"COUNTIF(L7:L39,T9)","v":1},{"$f":"U9/(W4-U20)","v":3.125E-2},{"$f":"IF(V9=0,0,(V9*((LOG(V9))/LOG(2))))","v":-0.15625},null,{"$f":"N9","v":1121},{"$f":"COUNTIF(L40:L71,Y9)","v":0},{"$f":"Z9/(AB4-Z20)","v":0},{"$f":"IF(AA9=0,0,(AA9*((LOG(AA9))/LOG(2))))","v":0},null,{"$f":"N9","v":1121},{"$f":"COUNTIF(L72:L104,AD9)","v":0},{"$f":"AE9/(AG4-AE20)","v":0},{"$f":"IF(AF9=0,0,(AF9*((LOG(AF9))/LOG(2))))","v":0},null,{"$f":"N9","v":1121},{"$f":"COUNTIF(L105:L137,AI9)","v":0},{"$f":"AJ9/(AL4-AJ20)","v":0},{"$f":"IF(AK9=0,0,(AK9*((LOG(AK9))/LOG(2))))","v":0},null,{"$f":"N9","v":1121},{"$f":"COUNTIF(L138:L169,AN9)","v":0},{"$f":"AO9/(AQ4-AO20)","v":0},{"$f":"IF(AP9=0,0,(AP9*((LOG(AP9))/LOG(2))))","v":0},null,{"$f":"N9","v":1121},{"$f":"COUNTIF(L170:L202,AS9)","v":0},{"$f":"AT9/(AV4-AT20)","v":0},{"$f":"IF(AU9=0,0,(AU9*((LOG(AU9))/LOG(2))))","v":0}]
[12,516,23,528,13,545,14,560,null,null,0,1211,null,1122,{"$f":"COUNTIF($L$7:$L$500,N10)","v":0},{"$f":"O10/$Q$4","v":0},{"$f":"IF(P10=0,0,(P10*((LOG(P10))/LOG(2))))","v":0},null,null,{"$f":"N10","v":1122},{"$f":"COUNTIF(L7:L39,T10)","v":0},{"$f":"U10/(W4-U20)","v":0},{"$f":"IF(V10=0,0,(V10*((LOG(V10))/LOG(2))))","v":0},null,{"$f":"N10","v":1122},{"$f":"COUNTIF(L40:L71,Y10)","v":0},{"$f":"Z10/(AB4-Z20)","v":0},{"$f":"IF(AA10=0,0,(AA10*((LOG(AA10))/LOG(2))))","v":0},null,{"$f":"N10","v":1122},{"$f":"COUNTIF(L72:L104,AD10)","v":0},{"$f":"AE10/(AG4-AE20)","v":0},{"$f":"IF(AF10=0,0,(AF10*((LOG(AF10))/LOG(2))))","v":0},null,{"$f":"N10","v":1122},{"$f":"COUNTIF(L105:L137,AI10)","v":0},{"$f":"AJ10/(AL4-AJ20)","v":0},{"$f":"IF(AK10=0,0,(AK10*((LOG(AK10))/LOG(2))))","v":0},null,{"$f":"N10","v":1122},{"$f":"COUNTIF(L138:L169,AN10)","v":0},{"$f":"AO10/(AQ4-AO20)","v":0},{"$f":"IF(AP10=0,0,(AP10*((LOG(AP10))/LOG(2))))","v":0},null,{"$f":"N10","v":1122},{"$f":"COUNTIF(L170:L202,AS10)","v":0},{"$f":"AT10/(AV4-AT20)","v":0},{"$f":"IF(AU10=0,0,(AU10*((LOG(AU10))/LOG(2))))","v":0}]
[12,669,14,676,13,686,14,697,null,null,0,1111,null,1211,{"$f":"COUNTIF($L$7:$L$500,N11)","v":1},{"$f":"O11/$Q$4","v":5.1282051282051282E-3},{"$f":"IF(P11=0,0,(P11*((LOG(P11))/LOG(2))))","v":-3.9011950326921077E-2},null,null,{"$f":"N11","v":1211},{"$f":"COUNTIF(L7:L39,T11)","v":1},{"$f":"U11/(W4-U20)","v":3.125E-2},{"$f":"IF(V11=0,0,(V11*((LOG(V11))/LOG(2))))","v":-0.15625},null,{"$f":"N11","v":1211},{"$f":"COUNTIF(L40:L71,Y11)","v":0},{"$f":"Z11/(AB4-Z20)","v":0},{"$f":"IF(AA11=0,0,(AA11*((LOG(AA11))/LOG(2))))","v":0},null,{"$f":"N11","v":1211},{"$f":"COUNTIF(L72:L104,AD11)","v":0},{"$f":"AE11/(AG4-AE20)","v":0},{"$f":"IF(AF11=0,0,(AF11*((LOG(AF11))/LOG(2))))","v":0},null,{"$f":"N11","v":1211},{"$f":"COUNTIF(L105:L137,AI11)","v":0},{"$f":"AJ11/(AL4-AJ20)","v":0},{"$f":"IF(AK11=0,0,(AK11*((LOG(AK11))/LOG(2))))","v":0},null,{"$f":"N11","v":1211},{"$f":"COUNTIF(L138:L169,AN11)","v":0},{"$f":"AO11/(AQ4-AO20)","v":0},{"$f":"IF(AP11=0,0,(AP11*((LOG(AP11))/LOG(2))))","v":0},null,{"$f":"N11","v":1211},{"$f":"COUNTIF(L170:L202,AS11)","v":0},{"$f":"AT11/(AV4-AT20)","v":0},{"$f":"IF(AU11=0,0,(AU11*((LOG(AU11))/LOG(2))))","v":0}]
[12,801,14,806,13,811,14,819,null,null,0,1111,null,1212,{"$f":"COUNTIF($L$7:$L$500,N12)","v":0},{"$f":"O12/$Q$4","v":0},{"$f":"IF(P12=0,0,(P12*((LOG(P12))/LOG(2))))","v":0},null,null,{"$f":"N12","v":1212},{"$f":"COUNTIF(L7:L39,T12)","v":0},{"$f":"U12/(W4-U20)","v":0},{"$f":"IF(V12=0,0,(V12*((LOG(V12))/LOG(2))))","v":0},null,{"$f":"N12","v":1212},{"$f":"COUNTIF(L40:L71,Y12)","v":0},{"$f":"Z12/(AB4-Z20)","v":0},{"$f":"IF(AA12=0,0,(AA12*((LOG(AA12))/LOG(2))))","v":0},null,{"$f":"N12","v":1212},{"$f":"COUNTIF(L72:L104,AD12)","v":0},{"$f":"AE12/(AG4-AE20)","v":0},{"$f":"IF(AF12=0,0,(AF12*((LOG(AF12))/LOG(2))))","v":0},null,{"$f":"N12","v":1212},{"$f":"COUNTIF(L105:L137,AI12)","v":0},{"$f":"AJ12/(AL4-AJ20)","v":0},{"$f":"IF(AK12=0,0,(AK12*((LOG(AK12))/LOG(2))))","v":0},null,{"$f":"N12","v":1212},{"$f":"COUNTIF(L138:L169,AN12)","v":0},{"$f":"AO12/(AQ4-AO20)","v":0},{"$f":"IF(AP12=0,0,(AP12*((LOG(AP12))/LOG(2))))","v":0},null,{"$f":"N12","v":1212},{"$f":"COUNTIF(L170:L202,AS12)","v":0},{"$f":"AT12/(AV4-AT20)","v":0},{"$f":"IF(AU12=0,0,(AU12*((LOG(AU12))/LOG(2))))","v":0}]
[12,921,14,927,13,936,23,949,null,null,0,1112,null,1221,{"$f":"COUNTIF($L$7:$L$500,N13)","v":0},{"$f":"O13/$Q$4","v":0},{"$f":"IF(P13=0,0,(P13*((LOG(P13))/LOG(2))))","v":0},null,null,{"$f":"N13","v":1221},{"$f":"COUNTIF(L7:L39,T13)","v":0},{"$f":"U13/(W4-U20)","v":0},{"$f":"IF(V13=0,0,(V13*((LOG(V13))/LOG(2))))","v":0},null,{"$f":"N13","v":1221},{"$f":"COUNTIF(L40:L71,Y13)","v":0},{"$f":"Z13/(AB4-Z20)","v":0},{"$f":"IF(AA13=0,0,(AA13*((LOG(AA13))/LOG(2))))","v":0},null,{"$f":"N13","v":1221},{"$f":"COUNTIF(L72:L104,AD13)","v":0},{"$f":"AE13/(AG4-AE20)","v":0},{"$f":"IF(AF13=0,0,(AF13*((LOG(AF13))/LOG(2))))","v":0},null,{"$f":"N13","v":1221},{"$f":"COUNTIF(L105:L137,AI13)","v":0},{"$f":"AJ13/(AL4-AJ20)","v":0},{"$f":"IF(AK13=0,0,(AK13*((LOG(AK13))/LOG(2))))","v":0},null,{"$f":"N13","v":1221},{"$f":"COUNTIF(L138:L169,AN13)","v":0},{"$f":"AO13/(AQ4-AO20)","v":0},{"$f":"IF(AP13=0,0,(AP13*((LOG(AP13))/LOG(2))))","v":0},null,{"$f":"N13","v":1221},{"$f":"COUNTIF(L170:L202,AS13)","v":0},{"$f":"AT13/(AV4-AT20)","v":0},{"$f":"IF(AU13=0,0,(AU13*((LOG(AU13))/LOG(2))))","v":0}]
[12,1057,14,1063,13,1068,14,1077,null,null,0,1111,null,1222,{"$f":"COUNTIF($L$7:$L$500,N14)","v":1},{"$f":"O14/$Q$4","v":5.1282051282051282E-3},{"$f":"IF(P14=0,0,(P14*((LOG(P14))/LOG(2))))","v":-3.9011950326921077E-2},null,null,{"$f":"N14","v":1222},{"$f":"COUNTIF(L7:L39,T14)","v":0},{"$f":"U14/(W4-U20)","v":0},{"$f":"IF(V14=0,0,(V14*((LOG(V14))/LOG(2))))","v":0},null,{"$f":"N14","v":1222},{"$f":"COUNTIF(L40:L71,Y14)","v":0},{"$f":"Z14/(AB4-Z20)","v":0},{"$f":"IF(AA14=0,0,(AA14*((LOG(AA14))/LOG(2))))","v":0},null,{"$f":"N14","v":1222},{"$f":"COUNTIF(L72:L104,AD14)","v":0},{"$f":"AE14/(AG4-AE20)","v":0},{"$f":"IF(AF14=0,0,(AF14*((LOG(AF14))/LOG(2))))","v":0},null,{"$f":"N14","v":1222},{"$f":"COUNTIF(L105:L137,AI14)","v":0},{"$f":"AJ14/(AL4-AJ20)","v":0},{"$f":"IF(AK14=0,0,(AK14*((LOG(AK14))/LOG(2))))","v":0},null,{"$f":"N14","v":1222},{"$f":"COUNTIF(L138:L169,AN14)","v":1},{"$f":"AO14/(AQ4-AO20)","v":3.125E-2},{"$f":"IF(AP14=0,0,(AP14*((LOG(AP14))/LOG(2))))","v":-0.15625},null,{"$f":"N14","v":1222},{"$f":"COUNTIF(L170:L202,AS14)","v":0},{"$f":"AT14/(AV4-AT20)","v":0},{"$f":"IF(AU14=0,0,(AU14*((LOG(AU14))/LOG(2))))","v":0}]
[12,1175,14,1181,13,1186,14,1192,null,null,0,1111,null,2111,{"$f":"COUNTIF($L$7:$L$500,N15)","v":0},{"$f":"O15/$Q$4","v":0},{"$f":"IF(P15=0,0,(P15*((LOG(P15))/LOG(2))))","v":0},null,null,{"$f":"N15","v":2111},{"$f":"COUNTIF(L7:L39,T15)","v":0},{"$f":"U15/(W4-U20)","v":0},{"$f":"IF(V15=0,0,(V15*((LOG(V15))/LOG(2))))","v":0},null,{"$f":"N15","v":2111},{"$f":"COUNTIF(L40:L71,Y15)","v":0},{"$f":"Z15/(AB4-Z20)","v":0},{"$f":"IF(AA15=0,0,(AA15*((LOG(AA15))/LOG(2))))","v":0},null,{"$f":"N15","v":2111},{"$f":"COUNTIF(L72:L104,AD15)","v":0},{"$f":"AE15/(AG4-AE20)","v":0},{"$f":"IF(AF15=0,0,(AF15*((LOG(AF15))/LOG(2))))","v":0},null,{"$f":"N15","v":2111},{"$f":"COUNTIF(L105:L137,AI15)","v":0},{"$f":"AJ15/(AL4-AJ20)","v":0},{"$f":"IF(AK15=0,0,(AK15*((LOG(AK15))/LOG(2))))","v":0},null,{"$f":"N15","v":2111},{"$f":"COUNTIF(L138:L169,AN15)","v":0},{"$f":"AO15/(AQ4-AO20)","v":0},{"$f":"IF(AP15=0,0,(AP15*((LOG(AP15))/LOG(2))))","v":0},null,{"$f":"N15","v":2111},{"$f":"COUNTIF(L170:L202,AS15)","v":0},{"$f":"AT15/(AV4-AT20)","v":0},{"$f":"IF(AU15=0,0,(AU15*((LOG(AU15))/LOG(2))))","v":0}]
[12,1299,14,1305,13,1310,14,1319,null,null,0,1111,null,2112,{"$f":"COUNTIF($L$7:$L$500,N16)","v":0},{"$f":"O16/$Q$4","v":0},{"$f":"IF(P16=0,0,(P16*((LOG(P16))/LOG(2))))","v":0},null,null,{"$f":"N16","v":2112},{"$f":"COUNTIF(L7:L39,T16)","v":0},{"$f":"U16/(W4-U20)","v":0},{"$f":"IF(V16=0,0,(V16*((LOG(V16))/LOG(2))))","v":0},null,{"$f":"N16","v":2112},{"$f":"COUNTIF(L40:L71,Y16)","v":0},{"$f":"Z16/(AB4-Z20)","v":0},{"$f":"IF(AA16=0,0,(AA16*((LOG(AA16))/LOG(2))))","v":0},null,{"$f":"N16","v":2112},{"$f":"COUNTIF(L72:L104,AD16)","v":0},{"$f":"AE16/(AG4-AE20)","v":0},{"$f":"IF(AF16=0,0,(AF16*((LOG(AF16))/LOG(2))))","v":0},null,{"$f":"N16","v":2112},{"$f":"COUNTIF(L105:L137,AI16)","v":0},{"$f":"AJ16/(AL4-AJ20)","v":0},{"$f":"IF(AK16=0,0,(AK16*((LOG(AK16))/LOG(2))))","v":0},null,{"$f":"N16","v":2112},{"$f":"COUNTIF(L138:L169,AN16)","v":0},{"$f":"AO16/(AQ4-AO20)","v":0},{"$f":"IF(AP16=0,0,(AP16*((LOG(AP16))/LOG(2))))","v":0},null,{"$f":"N16","v":2112},{"$f":"COUNTIF(L170:L202,AS16)","v":0},{"$f":"AT16/(AV4-AT20)","v":0},{"$f":"IF(AU16=0,0,(AU16*((LOG(AU16))/LOG(2))))","v":0}]
[12,1423,14,1428,13,1433,14,1441,null,null,0,1111,null,2121,{"$f":"COUNTIF($L$7:$L$500,N17)","v":0},{"$f":"O17/$Q$4","v":0},{"$f":"IF(P17=0,0,(P17*((LOG(P17))/LOG(2))))","v":0},null,null,{"$f":"N17","v":2121},{"$f":"COUNTIF(L7:L39,T17)","v":0},{"$f":"U17/(W4-U20)","v":0},{"$f":"IF(V17=0,0,(V17*((LOG(V17))/LOG(2))))","v":0},null,{"$f":"N17","v":2121},{"$f":"COUNTIF(L40:L71,Y17)","v":0},{"$f":"Z17/(AB4-Z20)","v":0},{"$f":"IF(AA17=0,0,(AA17*((LOG(AA17))/LOG(2))))","v":0},null,{"$f":"N17","v":2121},{"$f":"COUNTIF(L72:L104,AD17)","v":0},{"$f":"AE17/(AG4-AE20)","v":0},{"$f":"IF(AF17=0,0,(AF17*((LOG(AF17))/LOG(2))))","v":0},null,{"$f":"N17","v":2121},{"$f":"COUNTIF(L105:L137,AI17)","v":0},{"$f":"AJ17/(AL4-AJ20)","v":0},{"$f":"IF(AK17=0,0,(AK17*((LOG(AK17))/LOG(2))))","v":0},null,{"$f":"N17","v":2121},{"$f":"COUNTIF(L138:L169,AN17)","v":0},{"$f":"AO17/(AQ4-AO20)","v":0},{"$f":"IF(AP17=0,0,(AP17*((LOG(AP17))/LOG(2))))","v":0},null,{"$f":"N17","v":2121},{"$f":"COUNTIF(L170:L202,AS17)","v":0},{"$f":"AT17/(AV4-AT20)","v":0},{"$f":"IF(AU17=0,0,(AU17*((LOG(AU17))/LOG(2))))","v":0}]
[12,1532,14,1537,13,1542,14,1548,null,null,0,1111,null,2122,{"$f":"COUNTIF($L$7:$L$500,N18)","v":0},{"$f":"O18/$Q$4","v":0},{"$f":"IF(P18=0,0,(P18*((LOG(P18))/LOG(2))))","v":0},null,null,{"$f":"N18","v":2122},{"$f":"COUNTIF(L7:L39,T18)","v":0},{"$f":"U18/(W4-U20)","v":0},{"$f":"IF(V18=0,0,(V18*((LOG(V18))/LOG(2))))","v":0},null,{"$f":"N18","v":2122},{"$f":"COUNTIF(L40:L71,Y18)","v":0},{"$f":"Z18/(AB4-Z20)","v":0},{"$f":"IF(AA18=0,0,(AA18*((LOG(AA18))/LOG(2))))","v":0},null,{"$f":"N18","v":2122},{"$f":"COUNTIF(L72:L104,AD18)","v":0},{"$f":"AE18/(AG4-AE20)","v":0},{"$f":"IF(AF18=0,0,(AF18*((LOG(AF18))/LOG(2))))","v":0},null,{"$f":"N18","v":2122},{"$f":"COUNTIF(L105:L137,AI18)","v":0},{"$f":"AJ18/(AL4-AJ20)","v":0},{"$f":"IF(AK18=0,0,(AK18*((LOG(AK18))/LOG(2))))","v":0},null,{"$f":"N18","v":2122},{"$f":"COUNTIF(L138:L169,AN18)","v":0},{"$f":"AO18/(AQ4-AO20)","v":0},{"$f":"IF(AP18=0,0,(AP18*((LOG(AP18))/LOG(2))))","v":0},null,{"$f":"N18","v":2122},{"$f":"COUNTIF(L170:L202,AS18)","v":0},{"$f":"AT18/(AV4-AT20)","v":0},{"$f":"IF(AU18=0,0,(AU18*((LOG(AU18))/LOG(2))))","v":0}]
[12,1650,14,1656,13,1662,14,1671,null,null,0,1111,null,2211,{"$f":"COUNTIF($L$7:$L$500,N19)","v":0},{"$f":"O19/$Q$4","v":0},{"$f":"IF(P19=0,0,(P19*((LOG(P19))/LOG(2))))","v":0},null,null,{"$f":"N19","v":2211},{"$f":"COUNTIF(L7:L39,T19)","v":0},{"$f":"U19/(W4-U20)","v":0},{"$f":"IF(V19=0,0,(V19*((LOG(V19))/LOG(2))))","v":0},null,{"$f":"N19","v":2211},{"$f":"COUNTIF(L40:L71,Y19)","v":0},{"$f":"Z19/(AB4-Z20)","v":0},{"$f":"IF(AA19=0,0,(AA19*((LOG(AA19))/LOG(2))))","v":0},null,{"$f":"N19","v":2211},{"$f":"COUNTIF(L72:L104,AD19)","v":0},{"$f":"AE19/(AG4-AE20)","v":0},{"$f":"IF(AF19=0,0,(AF19*((LOG(AF19))/LOG(2))))","v":0},null,{"$f":"N19","v":2211},{"$f":"COUNTIF(L105:L137,AI19)","v":0},{"$f":"AJ19/(AL4-AJ20)","v":0},{"$f":"IF(AK19=0,0,(AK19*((LOG(AK19))/LOG(2))))","v":0},null,{"$f":"N19","v":2211},{"$f":"COUNTIF(L138:L169,AN19)","v":0},{"$f":"AO19/(AQ4-AO20)","v":0},{"$f":"IF(AP19=0,0,(AP19*((LOG(AP19))/LOG(2))))","v":0},null,{"$f":"N19","v":2211},{"$f":"COUNTIF(L170:L202,AS19)","v":0},{"$f":"AT19/(AV4-AT20)","v":0},{"$f":"IF(AU19=0,0,(AU19*((LOG(AU19))/LOG(2))))","v":0}]
[12,1780,14,1784,13,1789,14,1797,null,null,0,1111,null,2212,{"$f":"COUNTIF($L$7:$L$500,N20)","v":1},{"$f":"O20/$Q$4","v":5.1282051282051282E-3},{"$f":"IF(P20=0,0,(P20*((LOG(P20))/LOG(2))))","v":-3.9011950326921077E-2},null,null,{"$f":"N20","v":2212},{"$f":"COUNTIF(L7:L39,T20)","v":1},null,null,null,{"$f":"N20","v":2212},{"$f":"COUNTIF(L40:L71,Y20)","v":0},null,null,null,{"$f":"N20","v":2212},{"$f":"COUNTIF(L72:L104,AD20)","v":0},null,null,null,{"$f":"N20","v":2212},{"$f":"COUNTIF(L105:L137,AI20)","v":0},null,null,null,{"$f":"N20","v":2212},{"$f":"COUNTIF(L138:L169,AN20)","v":0},null,null,null,{"$f":"N20","v":2212},{"$f":"COUNTIF(L170:L202,AS20)","v":0}]
[12,1900,14,1906,13,1915,14,1929,null,null,0,1111,null,2221,{"$f":"COUNTIF($L$7:$L$500,N21)","v":0},{"$f":"O21/$Q$4","v":0},{"$f":"IF(P21=0,0,(P21*((LOG(P21))/LOG(2))))","v":0},null,null,{"$f":"N21","v":2221},{"$f":"COUNTIF(L7:L39,T21)","v":0},{"$f":"U21/(W4-U20)","v":0},{"$f":"IF(V21=0,0,(V21*((LOG(V21))/LOG(2))))","v":0},null,{"$f":"N21","v":2221},{"$f":"COUNTIF(L40:L71,Y21)","v":0},{"$f":"Z21/(AB4-Z20)","v":0},{"$f":"IF(AA21=0,0,(AA21*((LOG(AA21))/LOG(2))))","v":0},null,{"$f":"N21","v":2221},{"$f":"COUNTIF(L72:L104,AD21)","v":0},{"$f":"AE21/(AG4-AE20)","v":0},{"$f":"IF(AF21=0,0,(AF21*((LOG(AF21))/LOG(2))))","v":0},null,{"$f":"N21","v":2221},{"$f":"COUNTIF(L105:L137,AI21)","v":0},{"$f":"AJ21/(AL4-AJ20)","v":0},{"$f":"IF(AK21=0,0,(AK21*((LOG(AK21))/LOG(2))))","v":0},null,{"$f":"N21","v":2221},{"$f":"COUNTIF(L138:L169,AN21)","v":0},{"$f":"AO21/(AQ4-AO20)","v":0},{"$f":"IF(AP21=0,0,(AP21*((LOG(AP21))/LOG(2))))","v":0},null,{"$f":"N21","v":2221},{"$f":"COUNTIF(L170:L202,AS21)","v":0},{"$f":"AT21/(AV4-AT20)","v":0},{"$f":"IF(AU21=0,0,(AU21*((LOG(AU21))/LOG(2))))","v":0}]
[12,2035,14,2041,13,2047,14,2056,null,null,0,1111,null,2222,{"$f":"COUNTIF($L$7:$L$500,N22)","v":1},{"$f":"O22/$Q$4","v":5.1282051282051282E-3},{"$f":"IF(P22=0,0,(P22*((LOG(P22))/LOG(2))))","v":-3.9011950326921077E-2},null,null,{"$f":"N22","v":2222},{"$f":"COUNTIF(L7:L39,T22)","v":1},{"$f":"U22/(W4-U20)","v":3.125E-2},{"$f":"IF(V22=0,0,(V22*((LOG(V22))/LOG(2))))","v":-0.15625},null,{"$f":"N22","v":2222},{"$f":"COUNTIF(L40:L71,Y22)","v":0},{"$f":"Z22/(AB4-Z20)","v":0},{"$f":"IF(AA22=0,0,(AA22*((LOG(AA22))/LOG(2))))","v":0},null,{"$f":"N22","v":2222},{"$f":"COUNTIF(L72:L104,AD22)","v":0},{"$f":"AE22/(AG4-AE20)","v":0},{"$f":"IF(AF22=0,0,(AF22*((LOG(AF22))/LOG(2))))","v":0},null,{"$f":"N22","v":2222},{"$f":"COUNTIF(L105:L137,AI22)","v":0},{"$f":"AJ22/(AL4-AJ20)","v":0},{"$f":"IF(AK22=0,0,(AK22*((LOG(AK22))/LOG(2))))","v":0},null,{"$f":"N22","v":2222},{"$f":"COUNTIF(L138:L169,AN22)","v":0},{"$f":"AO22/(AQ4-AO20)","v":0},{"$f":"IF(AP22=0,0,(AP22*((LOG(AP22))/LOG(2))))","v":0},null,{"$f":"N22","v":2222},{"$f":"COUNTIF(L170:L202,AS22)","v":0},{"$f":"AT22/(AV4-AT20)","v":0},{"$f":"IF(AU22=0,0,(AU22*((LOG(AU22))/LOG(2))))","v":0}]
[12,2163,14,2170,13,2175,14,2185,null,null,0,1111,null,null,null,{"$f":"SUM(P7:P22)","v":0.99999999999999989},{"$f":"-SUM(Q7:Q22)","v":0.27777227181226333},null,null,null,null,{"$f":"SUM(V7:V22)","v":1},{"$f":"-SUM(W7:W22)","v":0.7935644431995964},null,null,null,{"$f":"SUM(AA7:AA22)","v":1},{"$f":"-SUM(AB7:AB22)","v":0},null,null,null,{"$f":"SUM(AF7:AF22)","v":1},{"$f":"-SUM(AG7:AG22)","v":0},null,null,null,{"$f":"SUM(AK7:AK22)","v":1},{"$f":"-SUM(AL7:AL22)","v":0},null,null,null,{"$f":"SUM(AP7:AP22)","v":1},{"$f":"-SUM(AQ7:AQ22)","v":0.20062232431271465},null,null,null,{"$f":"SUM(AU7:AU22)","v":1},{"$f":"-SUM(AV7:AV22)","v":0}]
[12,2282,14,2288,13,2293,14,2302,null,null,0,1111,null,null,null,"U=",{"$f":"Q23/(LOG(Q4)/LOG(2))","v":3.6513765060288403E-2},null,null,null,null,"U1=",{"$f":"W23/(LOG(W4)/LOG(2))","v":0.15731610663691004},null,null,null,"U2=",{"$f":"AB23/(LOG(AB4)/LOG(2))","v":0},null,null,null,"U3=",{"$f":"AG23/(LOG(AG4)/LOG(2))","v":0},null,null,null,"U4=",{"$f":"AL23/(LOG(AL4)/LOG(2))","v":0},null,null,null,"U5=",{"$f":"AQ23/(LOG(AQ4)/LOG(2))","v":4.0124464862542931E-2},null,null,null,"U6=",{"$f":"AV23/(LOG(AV4)/LOG(2))","v":0}]
[12,2405,14,2413,13,2422,14,2430,null,null,0,1111]
[12,2536,14,2543,13,2549,14,2562,null,null,0,1111]
[12,2668,14,2674,13,2678,14,2686,null,null,0,1111,null,"Total Target Seq"]
[12,2796,14,2803,13,2809,14,2819,null,null,0,1111,null,{"$f":"COUNTIF(L7:L202,G3)","v":1},null,33,32,33,33,32,33]
[12,2923,14,2929,13,2936,14,2958,null,null,0,1111,null,null,null,"% of reinforcement given in 6 equal intervals based on number of trials "]
[12,3062,14,3068,13,3076,14,3091,null,null,0,1111,null,null,null,"%_1","%_2","%_3","%_4","%_5","%_6"]
[12,3191,14,3197,13,3202,14,3207,null,null,0,1111,null,null,"target sequence",{"$f":"$G$3","v":2212},{"$f":"$G$3","v":2212},{"$f":"$G$3","v":2212},{"$f":"$G$3","v":2212},{"$f":"$G$3","v":2212},{"$f":"$G$3","v":2212}]
[12,3308,14,3316,13,3321,14,3333,null,null,0,1111,null,null,"total reinforcement",{"$f":"U20","v":1},{"$f":"Z20","v":0},{"$f":"AE20","v":0},{"$f":"AJ20","v":0},{"$f":"AO20","v":0},{"$f":"AT20","v":0}]
[12,3444,14,3457,13,3466,14,3480,null,null,0,1111,null,null,"% target"]
[12,3591,14,3597,13,3604,14,3609,null,null,0,1111,null,null,"CCRF"]
[12,3714,14,3721,13,3727,14,3735,null,null,0,1111,null,null,"% CCRf"]
[12,3849,14,3855,13,3873,14,3884,null,null,0,1111,null,null,"average response rate",{"$f":"H39/P28","v":129.27272727272728},{"$f":"(H71-H39)/Q28","v":126.5},{"$f":"(H104-H71)/R28","v":118.75757575757575},{"$f":"(H137-H104)/S28","v":116.06060606060606},{"$f":"(H169-H137)/T28","v":122.3125},{"$f":"(H202-H169)/U28","v":-605.36363636363637}]
[12,3992,14,4000,13,4005,14,4012,null,null,0,1111]
[12,4113,14,4125,13,4131,14,4136,null,null,0,1111]
[12,4244,14,4251,13,4259,14,4266,null,null,0,1111]
[12,4368,14,4374,13,4380,14,4385,null,null,0,1111]
[12,4488,14,4499,13,4510,14,4541,null,null,0,1111]
[12,4644,14,4667,13,4675,14,4683,null,null,0,1111]
[12,4785,14,4794,13,4800,14,4805,null,null,0,1111]
[12,4914,14,4921,13,4927,14,4935,null,null,0,1111]
[12,5041,14,5050,13,5057,14,5064,null,null,0,1111]
[12,5171,14,5177,13,5183,14,5192,null,null,0,1111]
[12,5299,14,5304,13,5306,14,5312,null,null,0,1111]
[12,5419,14,5425,13,5435,14,5462,null,null,0,1111]
[12,5567,14,5573,13,5579,14,5585,null,null,0,1111]
[12,5678,14,5685,13,5690,14,5695,null,null,0,1111]
[12,5795,14,5801,13,5806,14,5819,null,null,0,1111]
[12,5926,14,5934,13,5943,14,5952,null,null,0,1111]
[12,6052,14,6057,13,6065,14,6073,null,null,0,1111]
[12,6169,14,6176,13,6182,14,6188,null,null,0,1111]
[12,6287,14,6293,13,6298,14,6303,null,null,0,1111]
[12,6403,14,6409,13,6414,14,6423,null,null,0,1111]
[12,6563,14,6569,13,6579,14,6588,null,null,0,1111]
[12,6693,14,6703,13,6710,14,6721,null,null,0,1111]
[12,6817,14,6826,13,6832,14,6841,null,null,0,1111]
[12,6945,14,6950,13,6957,14,6966,null,null,0,1111]
[12,7066,14,7071,13,7077,14,7087,null,null,0,1111]
[12,7182,14,7192,13,7198,14,7202,null,null,0,1111]
[12,7298,14,7304,13,7310,14,7315,null,null,0,1111]
[12,7410,14,7420,13,7427,14,7444,null,null,0,1111]
[12,7541,14,7549,13,7556,14,7562,null,null,0,1111]
[12,7657,14,7666,13,7674,14,7682,null,null,0,1111]
[12,7779,14,7784,13,7789,14,7797,null,null,0,1111]
[12,7894,14,7901,13,7907,14,7916,null,null,0,1111]
[12,8014,14,8020,13,8026,14,8034,null,null,0,1111]
[12,8132,14,8141,13,8150,14,8175,null,null,0,1111]
[12,8279,14,8288,13,8304,14,8314,null,null,0,1111]
[12,8416,14,8422,13,8429,14,8438,null,null,0,1111]
[12,8537,14,8543,13,8548,14,8556,null,null,0,1111]
[12,8663,14,8668,13,8674,14,8682,null,null,0,1111]
[12,8780,14,8785,13,8790,14,8794,null,null,0,1111]
[12,8893,14,8901,13,8910,14,8927,null,null,0,1111]
[12,9028,14,9034,13,9039,14,9047,null,null,0,1111]
[12,9145,14,9150,13,9155,14,9159,null,null,0,1111]
[12,9259,14,9264,13,9268,14,9276,null,null,0,1111]
[12,9374,14,9379,13,9383,14,9391,null,null,0,1111]
[12,9490,14,9495,13,9505,14,9513,null,null,0,1111]
[12,9608,14,9620,13,9625,14,9633,null,null,0,1111]
[12,9730,14,9740,13,9745,14,9752,null,null,0,1111]
[12,9845,14,9853,13,9858,14,9863,null,null,0,1111]
[12,9960,14,9965,13,9970,14,9975,null,null,0,1111]
[12,10070,14,10076,13,10080,14,10088,null,null,0,1111]
[12,10188,14,10196,13,10203,14,10211,null,null,0,1111]
[12,10304,14,10309,13,10314,14,10322,null,null,0,1111]
[12,10422,14,10426,13,10432,14,10437,null,null,0,1111]
[12,10534,14,10540,13,10546,14,10550,null,null,0,1111]
[12,10648,14,10653,13,10662,14,10670,null,null,0,1111]
[12,10767,14,10776,13,10782,14,10787,null,null,0,1111]
[12,10885,14,10891,13,10895,14,10903,null,null,0,1111]
[12,10999,14,11009,13,11019,14,11027,null,null,0,1111]
[12,11126,14,11131,13,11136,14,11141,null,null,0,1111]
[12,11239,14,11246,13,11256,14,11263,null,null,0,1111]
[12,11360,14,11366,13,11375,14,11384,null,null,0,1111]
[12,11483,14,11488,13,11497,14,11504,null,null,0,1111]
[12,11604,14,11610,13,11615,14,11624,null,null,0,1111]
[12,11720,14,11729,13,11735,14,11740,null,null,0,1111]
[12,11838,14,11843,13,11847,14,11856,null,null,0,1111]
[12,11960,14,11965,13,11972,14,11980,null,null,0,1111]
[12,12084,14,12092,13,12097,14,12109,null,null,0,1111]
[12,12209,14,12218,13,12225,14,12233,null,null,0,1111]
[12,12327,14,12337,13,12342,14,12348,null,null,0,1111]
[12,12445,14,12451,13,12455,14,12468,null,null,0,1111]
[12,12567,14,12572,13,12578,14,12583,null,null,0,1111]
[12,12682,14,12688,13,12693,14,12699,null,null,0,1111]
[12,12794,14,12798,13,12803,14,12813,null,null,0,1111]
[12,12908,14,12913,13,12919,14,12924,null,null,0,1111]
[12,13024,14,13029,13,13035,14,13040,null,null,0,1111]
[12,13141,14,13146,13,13151,14,13160,null,null,0,1111]
[12,13256,14,13263,13,13268,14,13276,null,null,0,1111]
[12,13371,14,13379,13,13385,14,13390,null,null,0,1111]
[12,13486,14,13495,13,13502,14,13510,null,null,0,1111]
[12,13608,14,13613,13,13618,14,13626,null,null,0,1111]
[12,13723,14,13729,13,13735,14,13741,null,null,0,1111]
[12,13837,14,13843,13,13847,14,13853,null,null,0,1111]
[12,13948,14,13954,13,13963,14,13969,null,null,0,1111]
[12,14067,14,14072,13,14077,14,14095,null,null,0,1111]
[12,14191,14,14197,13,14205,14,14212,null,null,0,1111]
[12,14313,14,14318,13,14324,14,14329,null,null,0,1111]
[12,14425,14,14430,13,14437,14,14443,null,null,0,1111]
[12,14539,14,14549,13,14554,14,14564,null,null,0,1111]
[12,14659,14,14669,13,14677,14,14683,null,null,0,1111]
[12,14780,14,14785,13,14790,14,14798,null,null,0,1111]
[12,14894,14,14904,13,14909,14,14914,null,null,0,1111]
[12,15013,14,15018,13,15023,14,15030,null,null,0,1111]
[12,15126,14,15131,13,15140,14,15147,null,null,0,1111]
[12,15245,14,15250,13,15254,14,15259,null,null,0,1111]
[12,15352,14,15358,13,15364,14,15368,null,null,0,1111]
[12,15463,14,15468,13,15473,14,15481,null,null,0,1111]
[12,15577,14,15584,13,15592,14,15598,null,null,0,1111]
[12,15690,14,15700,13,15705,14,15714,null,null,0,1111]
[12,15812,14,15817,13,15827,14,15834,null,null,0,1111]
[12,15930,14,15936,13,15941,14,15947,null,null,0,1111]
[12,16047,14,16051,13,16056,14,16063,null,null,0,1111]
[12,16159,14,16164,13,16172,14,16180,null,null,0,1111]
[12,16275,14,16281,13,16285,14,16293,null,null,0,1111]
[12,16392,14,16405,13,16412,14,16421,null,null,0,1111]
[12,16519,14,16525,13,16530,14,16535,null,null,0,1111]
[12,16632,14,16637,13,16646,14,16653,null,null,0,1111]
[12,16748,14,16753,13,16763,14,16770,null,null,0,1111]
[12,16869,14,16875,13,16879,14,16887,null,null,0,1111]
[12,16986,14,16990,13,16996,14,17003,null,null,0,1111]
[12,17102,14,17106,13,17115,14,17122,null,null,0,1111]
[12,17223,14,17228,13,17232,14,17248,null,null,0,1111]
[12,17345,14,17351,13,17362,14,17369,null,null,0,1111]
[12,17464,14,17469,13,17477,14,17482,null,null,0,1111]
[12,17577,14,17582,13,17586,14,17591,null,null,0,1111]
[12,17686,14,17693,13,17697,14,17706,null,null,0,1111]
[12,17805,14,17810,13,17815,14,17825,null,null,0,1111]
[12,17925,14,17930,13,17939,14,17948,null,null,0,1111]
[12,18045,14,18052,13,18057,14,18062,null,null,0,1111]
[12,18158,14,18163,13,18168,14,18172,null,null,0,1111]
[12,18271,14,18275,13,18280,14,18285,null,null,0,1111]
[12,18386,14,18392,13,18397,14,18402,null,null,0,1111]
[12,18497,14,18503,13,18508,14,18513,null,null,0,1111]
[12,18617,14,18623,13,18628,14,18637,null,null,0,1111]
[12,18737,14,18743,13,18748,14,18753,null,null,0,1111]
[12,18846,14,18851,13,18856,14,18862,null,null,0,1111]
[12,18959,14,18969,13,18981,14,18989,null,null,0,1111]
[12,19089,14,19094,13,19098,14,19103,null,null,0,1111]
[12,19203,14,19212,13,19217,14,19222,null,null,0,1111]
[12,19319,14,19328,13,19333,14,19342,null,null,0,1111]
[12,19440,14,19447,13,19452,14,19457,null,null,0,1111]
[12,19548,14,19557,13,19566,14,19575,null,null,0,1111]
[12,19671,14,19676,13,19684,14,19691,null,null,0,1111]
[12,19938,23,19959,24,19967,23,19977,null,null,0,1222]
[12,20074,14,20080,13,20084,14,20090,null,null,0,1111]
[12,20191,14,20196,13,20213,14,20221,null,null,0,1111]
[12,20321,14,20327,13,20333,14,20337,null,null,0,1111]
[12,20434,14,20439,13,20444,14,20448,null,null,0,1111]
[12,20546,14,20551,13,20556,14,20563,null,null,0,1111]
[12,20656,14,20663,13,20667,14,20675,null,null,0,1111]
[12,20774,14,20780,13,20784,14,20793,null,null,0,1111]
[12,20890,14,20897,13,20902,14,20908,null,null,0,1111]
[12,21007,14,21012,13,21017,14,21022,null,null,0,1111]
[12,21114,14,21119,13,21124,14,21130,null,null,0,1111]
[12,21236,14,21240,13,21245,14,21253,null,null,0,1111]
[12,21404,14,21409,13,21415,14,21426,null,null,0,1111]
[12,21531,14,21538,13,21543,14,21548,null,null,0,1111]
[12,21642,14,21647,13,21651,14,21657,null,null,0,1111]
[12,21757,14,21761,13,21766,14,21770,null,null,0,1111]
[12,21867,14,21873,13,21877,14,21882,null,null,0,1111]
[12,21991,14,21997,13,22001,14,22007,null,null,0,1111]
[12,22120,14,22126,13,22132,14,22139,null,null,0,1111]
[12,22270,14,22280,13,22289,14,22315,null,null,0,1111]
[12,22415,14,22425,13,22436,14,22444,null,null,0,1111]
[12,22538,14,22544,13,22549,14,22554,null,null,0,1111]
[12,22656,14,22663,13,22667,14,22672,null,null,0,1111]
[12,22790,14,22798,13,22807,14,22817,null,null,0,1111]
[12,22920,14,22925,13,22931,14,22941,null,null,0,1111]
[12,23039,14,23045,13,23051,14,23068,null,null,0,1111]
[12,23163,14,23170,13,23175,14,23185,null,null,0,1111]
[12,23279,14,23284,13,23289,14,23293,null,null,0,1111]
[12,23392,14,23398,13,23403,14,23412,null,null,0,1111]
[12,23517,14,23523,13,23527,14,23535,null,null,0,1111]
[12,23625,14,23635,13,23639,14,23655,null,null,0,1111]
[12,23751,14,23756,13,23762,14,23767,null,null,0,1111]
[12,23864,14,23879,13,23885,14,23892,null,null,0,1111]
[12,23995,14,24001,null,null,null,null,null,null,null,11]

{"sheet":"!L913A50.056","index":16,"n_rows":201,"n_cols":48,"rows_kept":201,"cut":false,"hidden":false,"merged":[[4,39,4,42],[5,39,5,40],[4,44,4,47],[5,44,5,45],[4,24,4,27],[5,24,5,25],[4,29,4,32],[5,29,5,30],[4,34,4,37],[5,34,5,35],[1,1,1,2],[5,13,5,14],[26,13,26,14],[27,13,27,14],[4,19,4,22],[5,19,5,20]]}
["Report for:!L913A50.056"]
["Date:","<date>"]
["Hen:","<hen>",null,null,null,"Correct Sequence",{"$f":"Start!J2","v":2212},null,null,null,null,null,null,null,null,"Total Sequences in Data",{"$f":"4994-COUNTBLANK(L7:L5000)","v":195},null,null,null,null,"Total Sequences in Block Data",{"$f":"COUNTA(L7:L39)","v":33},null,null,null,"Total Sequences in Block Data",{"$f":"COUNTA(L40:L71)","v":32},null,null,null,"Total Sequences in Block Data",{"$f":"COUNTA(L72:L104)","v":33},null,null,null,"Total Sequences in Block Data",{"$f":"COUNTA(L105:L136)","v":32},null,null,null,"Total Sequences in Block Data",{"$f":"COUNTA(L137:L169)","v":33},null,null,null,"Total Sequences in Block Data",{"$f":"COUNTA(L170:L201)","v":32}]
[null,null,null,null,null,null,null,null,null,null,null,null,null,null,null,"Total Sequences in Summary",{"$f":"SUM(O7:O22)","v":195},null,null,null,null,"Total Sequences in Block Summary",{"$f":"SUM(U7:U22)","v":33},null,null,null,"Total Sequences in Block Summary",{"$f":"SUM(Z7:Z22)","v":32},null,null,null,"Total Sequences in Block Summary",{"$f":"SUM(AE7:AE22)","v":33},null,null,null,"Total Sequences in Block Summary",{"$f":"SUM(AJ7:AJ22)","v":32},null,null,null,"Total Sequences in Block Summary",{"$f":"SUM(AO7:AO22)","v":33},null,null,null,"Total Sequences in Block Summary",{"$f":"SUM(AT7:AT22)","v":32}]
[null,null,null,null,null,null,null,null,null,null,null,null,null,null,null,null,null,null,null,"Block 1",null,null,null,null,"Block 2",null,null,null,null,"Block 3",null,null,null,null,"Block 4",null,null,null,null,"Block 5",null,null,null,null,"Block 6"]
["Sequence\nComponent\n1","Time\n1","Sequence\nComponent\n2","Time\n2","Sequence\nComponent\n3","Time\n3","Sequence\nComponent\n4","Time\n4","Sequence\nComponent\n5","Time\n5","Correct?\n0=No 1=Yes","Sequence",null,"Frequency",null,"Relative Frequency","Variability",null,null,"Frequency",null,"Relative Frequency","Variability",null,"Frequency",null,"Relative Frequency","Variability",null,"Frequency",null,"Relative Frequency","Variability",null,"Frequency",null,"Relative Frequency","Variability",null,"Frequency",null,"Relative Frequency","Variability",null,"Frequency",null,"Relative Frequency","Variability"]
[21,13,12,30,13,44,23,54,null,null,0,2112,null,1111,{"$f":"COUNTIF($L$7:$L$500,N7)","v":182},{"$f":"O7/$Q$4","v":0.93333333333333335},{"$f":"IF(P7=0,0,(P7*((LOG(P7))/LOG(2))))","v":-9.2899961980853443E-2},null,null,{"$f":"N7","v":1111},{"$f":"COUNTIF(L7:L39,T7)","v":26},{"$f":"U7/(W4-U20)","v":0.78787878787878785},{"$f":"IF(V7=0,0,(V7*((LOG(V7))/LOG(2))))","v":-0.2709943767167089},null,{"$f":"N7","v":1111},{"$f":"COUNTIF(L40:L71,Y7)","v":31},{"$f":"Z7/(AB4-Z20)","v":0.96875},{"$f":"IF(AA7=0,0,(AA7*((LOG(AA7))/LOG(2))))","v":-4.4372324312714644E-2},null,{"$f":"N7","v":1111},{"$f":"COUNTIF(L72:L104,AD7)","v":32},{"$f":"AE7/(AG4-AE20)","v":0.96969696969696972},{"$f":"IF(AF7=0,0,(AF7*((LOG(AF7))/LOG(2))))","v":-4.3048843014257841E-2},null,{"$f":"N7","v":1111},{"$f":"COUNTIF(L105:L136,AI7)","v":30},{"$f":"AJ7/(AL4-AJ20)","v":0.9375},{"$f":"IF(AK7=0,0,(AK7*((LOG(AK7))/LOG(2))))","v":-8.729006661701387E-2},null,{"$f":"N7","v":1111},{"$f":"COUNTIF(L137:L169,AN7)","v":31},{"$f":"AO7/(AQ4-AO20)","v":0.93939393939393945},{"$f":"IF(AP7=0,0,(AP7*((LOG(AP7))/LOG(2))))","v":-8.4731275094512809E-2},null,{"$f":"N7","v":1111},{"$f":"COUNTIF(L170:L201,AS7)","v":32},{"$f":"AT7/(AV4-AT20)","v":1},{"$f":"IF(AU7=0,0,(AU7*((LOG(AU7))/LOG(2))))","v":0}]
[12,170,14,175,13,180,23,199,null,null,0,1112,null,1112,{"$f":"COUNTIF($L$7:$L$500,N8)","v":8},{"$f":"O8/$Q$4","v":4.1025641025641026E-2},{"$f":"IF(P8=0,0,(P8*((LOG(P8))/LOG(2))))","v":-0.18901867953844559},null,null,{"$f":"N8","v":1112},{"$f":"COUNTIF(L7:L39,T8)","v":3},{"$f":"U8/(W4-U20)","v":9.0909090909090912E-2},{"$f":"IF(V8=0,0,(V8*((LOG(V8))/LOG(2))))","v":-0.31449378351248153},null,{"$f":"N8","v":1112},{"$f":"COUNTIF(L40:L71,Y8)","v":1},{"$f":"Z8/(AB4-Z20)","v":3.125E-2},{"$f":"IF(AA8=0,0,(AA8*((LOG(AA8))/LOG(2))))","v":-0.15625},null,{"$f":"N8","v":1112},{"$f":"COUNTIF(L72:L104,AD8)","v":0},{"$f":"AE8/(AG4-AE20)","v":0},{"$f":"IF(AF8=0,0,(AF8*((LOG(AF8))/LOG(2))))","v":0},null,{"$f":"N8","v":1112},{"$f":"COUNTIF(L105:L136,AI8)","v":2},{"$f":"AJ8/(AL4-AJ20)","v":6.25E-2},{"$f":"IF(AK8=0,0,(AK8*((LOG(AK8))/LOG(2))))","v":-0.25},null,{"$f":"N8","v":1112},{"$f":"COUNTIF(L137:L169,AN8)","v":2},{"$f":"AO8/(AQ4-AO20)","v":6.0606060606060608E-2},{"$f":"IF(AP8=0,0,(AP8*((LOG(AP8))/LOG(2))))","v":-0.24511479511263354},null,{"$f":"N8","v":1112},{"$f":"COUNTIF(L170:L201,AS8)","v":0},{"$f":"AT8/(AV4-AT20)","v":0},{"$f":"IF(AU8=0,0,(AU8*((LOG(AU8))/LOG(2))))","v":0}]
[12,302,14,308,13,312,23,325,null,null,0,1112,null,1121,{"$f":"COUNTIF($L$7:$L$500,N9)","v":0},{"$f":"O9/$Q$4","v":0},{"$f":"IF(P9=0,0,(P9*((LOG(P9))/LOG(2))))","v":0},null,null,{"$f":"N9","v":1121},{"$f":"COUNTIF(L7:L39,T9)","v":0},{"$f":"U9/(W4-U20)","v":0},{"$f":"IF(V9=0,0,(V9*((LOG(V9))/LOG(2))))","v":0},null,{"$f":"N9","v":1121},{"$f":"COUNTIF(L40:L71,Y9)","v":0},{"$f":"Z9/(AB4-Z20)","v":0},{"$f":"IF(AA9=0,0,(AA9*((LOG(AA9))/LOG(2))))","v":0},null,{"$f":"N9","v":1121},{"$f":"COUNTIF(L72:L104,AD9)","v":0},{"$f":"AE9/(AG4-AE20)","v":0},{"$f":"IF(AF9=0,0,(AF9*((LOG(AF9))/LOG(2))))","v":0},null,{"$f":"N9","v":1121},{"$f":"COUNTIF(L105:L136,AI9)","v":0},{"$f":"AJ9/(AL4-AJ20)","v":0},{"$f":"IF(AK9=0,0,(AK9*((LOG(AK9))/LOG(2))))","v":0},null,{"$f":"N9","v":1121},{"$f":"COUNTIF(L137:L169,AN9)","v":0},{"$f":"AO9/(AQ4-AO20)","v":0},{"$f":"IF(AP9=0,0,(AP9*((LOG(AP9))/LOG(2))))","v":0},null,{"$f":"N9","v":1121},{"$f":"COUNTIF(L170:L201,AS9)","v":0},{"$f":"AT9/(AV4-AT20)","v":0},{"$f":"IF(AU9=0,0,(AU9*((LOG(AU9))/LOG(2))))","v":0}]
[12,425,14,430,13,435,23,448,null,null,0,1112,null,1122,{"$f":"COUNTIF($L$7:$L$500,N10)","v":2},{"$f":"O10/$Q$4","v":1.0256410256410256E-2},{"$f":"IF(P10=0,0,(P10*((LOG(P10))/LOG(2))))","v":-6.7767490397431907E-2},null,null,{"$f":"N10","v":1122},{"$f":"COUNTIF(L7:L39,T10)","v":1},{"$f":"U10/(W4-U20)","v":3.0303030303030304E-2},{"$f":"IF(V10=0,0,(V10*((LOG(V10))/LOG(2))))","v":-0.15286042785934709},null,{"$f":"N10","v":1122},{"$f":"COUNTIF(L40:L71,Y10)","v":0},{"$f":"Z10/(AB4-Z20)","v":0},{"$f":"IF(AA10=0,0,(AA10*((LOG(AA10))/LOG(2))))","v":0},null,{"$f":"N10","v":1122},{"$f":"COUNTIF(L72:L104,AD10)","v":1},{"$f":"AE10/(AG4-AE20)","v":3.0303030303030304E-2},{"$f":"IF(AF10=0,0,(AF10*((LOG(AF10))/LOG(2))))","v":-0.15286042785934709},null,{"$f":"N10","v":1122},{"$f":"COUNTIF(L105:L136,AI10)","v":0},{"$f":"AJ10/(AL4-AJ20)","v":0},{"$f":"IF(AK10=0,0,(AK10*((LOG(AK10))/LOG(2))))","v":0},null,{"$f":"N10","v":1122},{"$f":"COUNTIF(L137:L169,AN10)","v":0},{"$f":"AO10/(AQ4-AO20)","v":0},{"$f":"IF(AP10=0,0,(AP10*((LOG(AP10))/LOG(2))))","v":0},null,{"$f":"N10","v":1122},{"$f":"COUNTIF(L170:L201,AS10)","v":0},{"$f":"AT10/(AV4-AT20)","v":0},{"$f":"IF(AU10=0,0,(AU10*((LOG(AU10))/LOG(2))))","v":0}]
[12,553,14,559,13,564,14,573,null,null,0,1111,null,1211,{"$f":"COUNTIF($L$7:$L$500,N11)","v":0},{"$f":"O11/$Q$4","v":0},{"$f":"IF(P11=0,0,(P11*((LOG(P11))/LOG(2))))","v":0},null,null,{"$f":"N11","v":1211},{"$f":"COUNTIF(L7:L39,T11)","v":0},{"$f":"U11/(W4-U20)","v":0},{"$f":"IF(V11=0,0,(V11*((LOG(V11))/LOG(2))))","v":0},null,{"$f":"N11","v":1211},{"$f":"COUNTIF(L40:L71,Y11)","v":0},{"$f":"Z11/(AB4-Z20)","v":0},{"$f":"IF(AA11=0,0,(AA11*((LOG(AA11))/LOG(2))))","v":0},null,{"$f":"N11","v":1211},{"$f":"COUNTIF(L72:L104,AD11)","v":0},{"$f":"AE11/(AG4-AE20)","v":0},{"$f":"IF(AF11=0,0,(AF11*((LOG(AF11))/LOG(2))))","v":0},null,{"$f":"N11","v":1211},{"$f":"COUNTIF(L105:L136,AI11)","v":0},{"$f":"AJ11/(AL4-AJ20)","v":0},{"$f":"IF(AK11=0,0,(AK11*((LOG(AK11))/LOG(2))))","v":0},null,{"$f":"N11","v":1211},{"$f":"COUNTIF(L137:L169,AN11)","v":0},{"$f":"AO11/(AQ4-AO20)","v":0},{"$f":"IF(AP11=0,0,(AP11*((LOG(AP11))/LOG(2))))","v":0},null,{"$f":"N11","v":1211},{"$f":"COUNTIF(L170:L201,AS11)","v":0},{"$f":"AT11/(AV4-AT20)","v":0},{"$f":"IF(AU11=0,0,(AU11*((LOG(AU11))/LOG(2))))","v":0}]
[12,681,14,686,13,691,14,699,null,null,0,1111,null,1212,{"$f":"COUNTIF($L$7:$L$500,N12)","v":0},{"$f":"O12/$Q$4","v":0},{"$f":"IF(P12=0,0,(P12*((LOG(P12))/LOG(2))))","v":0},null,null,{"$f":"N12","v":1212},{"$f":"COUNTIF(L7:L39,T12)","v":0},{"$f":"U12/(W4-U20)","v":0},{"$f":"IF(V12=0,0,(V12*((LOG(V12))/LOG(2))))","v":0},null,{"$f":"N12","v":1212},{"$f":"COUNTIF(L40:L71,Y12)","v":0},{"$f":"Z12/(AB4-Z20)","v":0},{"$f":"IF(AA12=0,0,(AA12*((LOG(AA12))/LOG(2))))","v":0},null,{"$f":"N12","v":1212},{"$f":"COUNTIF(L72:L104,AD12)","v":0},{"$f":"AE12/(AG4-AE20)","v":0},{"$f":"IF(AF12=0,0,(AF12*((LOG(AF12))/LOG(2))))","v":0},null,{"$f":"N12","v":1212},{"$f":"COUNTIF(L105:L136,AI12)","v":0},{"$f":"AJ12/(AL4-AJ20)","v":0},{"$f":"IF(AK12=0,0,(AK12*((LOG(AK12))/LOG(2))))","v":0},null,{"$f":"N12","v":1212},{"$f":"COUNTIF(L137:L169,AN12)","v":0},{"$f":"AO12/(AQ4-AO20)","v":0},{"$f":"IF(AP12=0,0,(AP12*((LOG(AP12))/LOG(2))))","v":0},null,{"$f":"N12","v":1212},{"$f":"COUNTIF(L170:L201,AS12)","v":0},{"$f":"AT12/(AV4-AT20)","v":0},{"$f":"IF(AU12=0,0,(AU12*((LOG(AU12))/LOG(2))))","v":0}]
[12,803,14,808,13,813,14,818,null,null,0,1111,null,1221,{"$f":"COUNTIF($L$7:$L$500,N13)","v":0},{"$f":"O13/$Q$4","v":0},{"$f":"IF(P13=0,0,(P13*((LOG(P13))/LOG(2))))","v":0},null,null,{"$f":"N13","v":1221},{"$f":"COUNTIF(L7:L39,T13)","v":0},{"$f":"U13/(W4-U20)","v":0},{"$f":"IF(V13=0,0,(V13*((LOG(V13))/LOG(2))))","v":0},null,{"$f":"N13","v":1221},{"$f":"COUNTIF(L40:L71,Y13)","v":0},{"$f":"Z13/(AB4-Z20)","v":0},{"$f":"IF(AA13=0,0,(AA13*((LOG(AA13))/LOG(2))))","v":0},null,{"$f":"N13","v":1221},{"$f":"COUNTIF(L72:L104,AD13)","v":0},{"$f":"AE13/(AG4-AE20)","v":0},{"$f":"IF(AF13=0,0,(AF13*((LOG(AF13))/LOG(2))))","v":0},null,{"$f":"N13","v":1221},{"$f":"COUNTIF(L105:L136,AI13)","v":0},{"$f":"AJ13/(AL4-AJ20)","v":0},{"$f":"IF(AK13=0,0,(AK13*((LOG(AK13))/LOG(2))))","v":0},null,{"$f":"N13","v":1221},{"$f":"COUNTIF(L137:L169,AN13)","v":0},{"$f":"AO13/(AQ4-AO20)","v":0},{"$f":"IF(AP13=0,0,(AP13*((LOG(AP13))/LOG(2))))","v":0},null,{"$f":"N13","v":1221},{"$f":"COUNTIF(L170:L201,AS13)","v":0},{"$f":"AT13/(AV4-AT20)","v":0},{"$f":"IF(AU13=0,0,(AU13*((LOG(AU13))/LOG(2))))","v":0}]
[21,926,12,941,24,952,23,962,null,null,0,2122,null,1222,{"$f":"COUNTIF($L$7:$L$500,N14)","v":1},{"$f":"O14/$Q$4","v":5.1282051282051282E-3},{"$f":"IF(P14=0,0,(P14*((LOG(P14))/LOG(2))))","v":-3.9011950326921077E-2},null,null,{"$f":"N14","v":1222},{"$f":"COUNTIF(L7:L39,T14)","v":1},{"$f":"U14/(W4-U20)","v":3.0303030303030304E-2},{"$f":"IF(V14=0,0,(V14*((LOG(V14))/LOG(2))))","v":-0.15286042785934709},null,{"$f":"N14","v":1222},{"$f":"COUNTIF(L40:L71,Y14)","v":0},{"$f":"Z14/(AB4-Z20)","v":0},{"$f":"IF(AA14=0,0,(AA14*((LOG(AA14))/LOG(2))))","v":0},null,{"$f":"N14","v":1222},{"$f":"COUNTIF(L72:L104,AD14)","v":0},{"$f":"AE14/(AG4-AE20)","v":0},{"$f":"IF(AF14=0,0,(AF14*((LOG(AF14))/LOG(2))))","v":0},null,{"$f":"N14","v":1222},{"$f":"COUNTIF(L105:L136,AI14)","v":0},{"$f":"AJ14/(AL4-AJ20)","v":0},{"$f":"IF(AK14=0,0,(AK14*((LOG(AK14))/LOG(2))))","v":0},null,{"$f":"N14","v":1222},{"$f":"COUNTIF(L137:L169,AN14)","v":0},{"$f":"AO14/(AQ4-AO20)","v":0},{"$f":"IF(AP14=0,0,(AP14*((LOG(AP14))/LOG(2))))","v":0},null,{"$f":"N14","v":1222},{"$f":"COUNTIF(L170:L201,AS14)","v":0},{"$f":"AT14/(AV4-AT20)","v":0},{"$f":"IF(AU14=0,0,(AU14*((LOG(AU14))/LOG(2))))","v":0}]
[12,1057,14,1063,24,1082,23,1092,null,null,0,1122,null,2111,{"$f":"COUNTIF($L$7:$L$500,N15)","v":0},{"$f":"O15/$Q$4","v":0},{"$f":"IF(P15=0,0,(P15*((LOG(P15))/LOG(2))))","v":0},null,null,{"$f":"N15","v":2111},{"$f":"COUNTIF(L7:L39,T15)","v":0},{"$f":"U15/(W4-U20)","v":0},{"$f":"IF(V15=0,0,(V15*((LOG(V15))/LOG(2))))","v":0},null,{"$f":"N15","v":2111},{"$f":"COUNTIF(L40:L71,Y15)","v":0},{"$f":"Z15/(AB4-Z20)","v":0},{"$f":"IF(AA15=0,0,(AA15*((LOG(AA15))/LOG(2))))","v":0},null,{"$f":"N15","v":2111},{"$f":"COUNTIF(L72:L104,AD15)","v":0},{"$f":"AE15/(AG4-AE20)","v":0},{"$f":"IF(AF15=0,0,(AF15*((LOG(AF15))/LOG(2))))","v":0},null,{"$f":"N15","v":2111},{"$f":"COUNTIF(L105:L136,AI15)","v":0},{"$f":"AJ15/(AL4-AJ20)","v":0},{"$f":"IF(AK15=0,0,(AK15*((LOG(AK15))/LOG(2))))","v":0},null,{"$f":"N15","v":2111},{"$f":"COUNTIF(L137:L169,AN15)","v":0},{"$f":"AO15/(AQ4-AO20)","v":0},{"$f":"IF(AP15=0,0,(AP15*((LOG(AP15))/LOG(2))))","v":0},null,{"$f":"N15","v":2111},{"$f":"COUNTIF(L170:L201,AS15)","v":0},{"$f":"AT15/(AV4-AT20)","v":0},{"$f":"IF(AU15=0,0,(AU15*((LOG(AU15))/LOG(2))))","v":0}]
[12,1198,14,1205,13,1209,14,1217,null,null,0,1111,null,2112,{"$f":"COUNTIF($L$7:$L$500,N16)","v":1},{"$f":"O16/$Q$4","v":5.1282051282051282E-3},{"$f":"IF(P16=0,0,(P16*((LOG(P16))/LOG(2))))","v":-3.9011950326921077E-2},null,null,{"$f":"N16","v":2112},{"$f":"COUNTIF(L7:L39,T16)","v":1},{"$f":"U16/(W4-U20)","v":3.0303030303030304E-2},{"$f":"IF(V16=0,0,(V16*((LOG(V16))/LOG(2))))","v":-0.15286042785934709},null,{"$f":"N16","v":2112},{"$f":"COUNTIF(L40:L71,Y16)","v":0},{"$f":"Z16/(AB4-Z20)","v":0},{"$f":"IF(AA16=0,0,(AA16*((LOG(AA16))/LOG(2))))","v":0},null,{"$f":"N16","v":2112},{"$f":"COUNTIF(L72:L104,AD16)","v":0},{"$f":"AE16/(AG4-AE20)","v":0},{"$f":"IF(AF16=0,0,(AF16*((LOG(AF16))/LOG(2))))","v":0},null,{"$f":"N16","v":2112},{"$f":"COUNTIF(L105:L136,AI16)","v":0},{"$f":"AJ16/(AL4-AJ20)","v":0},{"$f":"IF(AK16=0,0,(AK16*((LOG(AK16))/LOG(2))))","v":0},null,{"$f":"N16","v":2112},{"$f":"COUNTIF(L137:L169,AN16)","v":0},{"$f":"AO16/(AQ4-AO20)","v":0},{"$f":"IF(AP16=0,0,(AP16*((LOG(AP16))/LOG(2))))","v":0},null,{"$f":"N16","v":2112},{"$f":"COUNTIF(L170:L201,AS16)","v":0},{"$f":"AT16/(AV4-AT20)","v":0},{"$f":"IF(AU16=0,0,(AU16*((LOG(AU16))/LOG(2))))","v":0}]
[12,1327,14,1341,13,1350,14,1359,null,null,0,1111,null,2121,{"$f":"COUNTIF($L$7:$L$500,N17)","v":0},{"$f":"O17/$Q$4","v":0},{"$f":"IF(P17=0,0,(P17*((LOG(P17))/LOG(2))))","v":0},null,null,{"$f":"N17","v":2121},{"$f":"COUNTIF(L7:L39,T17)","v":0},{"$f":"U17/(W4-U20)","v":0},{"$f":"IF(V17=0,0,(V17*((LOG(V17))/LOG(2))))","v":0},null,{"$f":"N17","v":2121},{"$f":"COUNTIF(L40:L71,Y17)","v":0},{"$f":"Z17/(AB4-Z20)","v":0},{"$f":"IF(AA17=0,0,(AA17*((LOG(AA17))/LOG(2))))","v":0},null,{"$f":"N17","v":2121},{"$f":"COUNTIF(L72:L104,AD17)","v":0},{"$f":"AE17/(AG4-AE20)","v":0},{"$f":"IF(AF17=0,0,(AF17*((LOG(AF17))/LOG(2))))","v":0},null,{"$f":"N17","v":2121},{"$f":"COUNTIF(L105:L136,AI17)","v":0},{"$f":"AJ17/(AL4-AJ20)","v":0},{"$f":"IF(AK17=0,0,(AK17*((LOG(AK17))/LOG(2))))","v":0},null,{"$f":"N17","v":2121},{"$f":"COUNTIF(L137:L169,AN17)","v":0},{"$f":"AO17/(AQ4-AO20)","v":0},{"$f":"IF(AP17=0,0,(AP17*((LOG(AP17))/LOG(2))))","v":0},null,{"$f":"N17","v":2121},{"$f":"COUNTIF(L170:L201,AS17)","v":0},{"$f":"AT17/(AV4-AT20)","v":0},{"$f":"IF(AU17=0,0,(AU17*((LOG(AU17))/LOG(2))))","v":0}]
[12,1466,14,1471,13,1476,14,1481,null,null,0,1111,null,2122,{"$f":"COUNTIF($L$7:$L$500,N18)","v":1},{"$f":"O18/$Q$4","v":5.1282051282051282E-3},{"$f":"IF(P18=0,0,(P18*((LOG(P18))/LOG(2))))","v":-3.9011950326921077E-2},null,null,{"$f":"N18","v":2122},{"$f":"COUNTIF(L7:L39,T18)","v":1},{"$f":"U18/(W4-U20)","v":3.0303030303030304E-2},{"$f":"IF(V18=0,0,(V18*((LOG(V18))/LOG(2))))","v":-0.15286042785934709},null,{"$f":"N18","v":2122},{"$f":"COUNTIF(L40:L71,Y18)","v":0},{"$f":"Z18/(AB4-Z20)","v":0},{"$f":"IF(AA18=0,0,(AA18*((LOG(AA18))/LOG(2))))","v":0},null,{"$f":"N18","v":2122},{"$f":"COUNTIF(L72:L104,AD18)","v":0},{"$f":"AE18/(AG4-AE20)","v":0},{"$f":"IF(AF18=0,0,(AF18*((LOG(AF18))/LOG(2))))","v":0},null,{"$f":"N18","v":2122},{"$f":"COUNTIF(L105:L136,AI18)","v":0},{"$f":"AJ18/(AL4-AJ20)","v":0},{"$f":"IF(AK18=0,0,(AK18*((LOG(AK18))/LOG(2))))","v":0},null,{"$f":"N18","v":2122},{"$f":"COUNTIF(L137:L169,AN18)","v":0},{"$f":"AO18/(AQ4-AO20)","v":0},{"$f":"IF(AP18=0,0,(AP18*((LOG(AP18))/LOG(2))))","v":0},null,{"$f":"N18","v":2122},{"$f":"COUNTIF(L170:L201,AS18)","v":0},{"$f":"AT18/(AV4-AT20)","v":0},{"$f":"IF(AU18=0,0,(AU18*((LOG(AU18))/LOG(2))))","v":0}]
[12,1583,14,1587,13,1593,14,1602,null,null,0,1111,null,2211,{"$f":"COUNTIF($L$7:$L$500,N19)","v":0},{"$f":"O19/$Q$4","v":0},{"$f":"IF(P19=0,0,(P19*((LOG(P19))/LOG(2))))","v":0},null,null,{"$f":"N19","v":2211},{"$f":"COUNTIF(L7:L39,T19)","v":0},{"$f":"U19/(W4-U20)","v":0},{"$f":"IF(V19=0,0,(V19*((LOG(V19))/LOG(2))))","v":0},null,{"$f":"N19","v":2211},{"$f":"COUNTIF(L40:L71,Y19)","v":0},{"$f":"Z19/(AB4-Z20)","v":0},{"$f":"IF(AA19=0,0,(AA19*((LOG(AA19))/LOG(2))))","v":0},null,{"$f":"N19","v":2211},{"$f":"COUNTIF(L72:L104,AD19)","v":0},{"$f":"AE19/(AG4-AE20)","v":0},{"$f":"IF(AF19=0,0,(AF19*((LOG(AF19))/LOG(2))))","v":0},null,{"$f":"N19","v":2211},{"$f":"COUNTIF(L105:L136,AI19)","v":0},{"$f":"AJ19/(AL4-AJ20)","v":0},{"$f":"IF(AK19=0,0,(AK19*((LOG(AK19))/LOG(2))))","v":0},null,{"$f":"N19","v":2211},{"$f":"COUNTIF(L137:L169,AN19)","v":0},{"$f":"AO19/(AQ4-AO20)","v":0},{"$f":"IF(AP19=0,0,(AP19*((LOG(AP19))/LOG(2))))","v":0},null,{"$f":"N19","v":2211},{"$f":"COUNTIF(L170:L201,AS19)","v":0},{"$f":"AT19/(AV4-AT20)","v":0},{"$f":"IF(AU19=0,0,(AU19*((LOG(AU19))/LOG(2))))","v":0}]
[12,1709,14,1719,13,1724,14,1738,null,null,0,1111,null,2212,{"$f":"COUNTIF($L$7:$L$500,N20)","v":0},{"$f":"O20/$Q$4","v":0},{"$f":"IF(P20=0,0,(P20*((LOG(P20))/LOG(2))))","v":0},null,null,{"$f":"N20","v":2212},{"$f":"COUNTIF(L7:L39,T20)","v":0},null,null,null,{"$f":"N20","v":2212},{"$f":"COUNTIF(L40:L71,Y20)","v":0},null,null,null,{"$f":"N20","v":2212},{"$f":"COUNTIF(L72:L104,AD20)","v":0},null,null,null,{"$f":"N20","v":2212},{"$f":"COUNTIF(L105:L136,AI20)","v":0},null,null,null,{"$f":"N20","v":2212},{"$f":"COUNTIF(L137:L169,AN20)","v":0},null,null,null,{"$f":"N20","v":2212},{"$f":"COUNTIF(L170:L201,AS20)","v":0}]
[12,1899,23,1911,24,1923,23,1933,null,null,0,1222,null,2221,{"$f":"COUNTIF($L$7:$L$500,N21)","v":0},{"$f":"O21/$Q$4","v":0},{"$f":"IF(P21=0,0,(P21*((LOG(P21))/LOG(2))))","v":0},null,null,{"$f":"N21","v":2221},{"$f":"COUNTIF(L7:L39,T21)","v":0},{"$f":"U21/(W4-U20)","v":0},{"$f":"IF(V21=0,0,(V21*((LOG(V21))/LOG(2))))","v":0},null,{"$f":"N21","v":2221},{"$f":"COUNTIF(L40:L71,Y21)","v":0},{"$f":"Z21/(AB4-Z20)","v":0},{"$f":"IF(AA21=0,0,(AA21*((LOG(AA21))/LOG(2))))","v":0},null,{"$f":"N21","v":2221},{"$f":"COUNTIF(L72:L104,AD21)","v":0},{"$f":"AE21/(AG4-AE20)","v":0},{"$f":"IF(AF21=0,0,(AF21*((LOG(AF21))/LOG(2))))","v":0},null,{"$f":"N21","v":2221},{"$f":"COUNTIF(L105:L136,AI21)","v":0},{"$f":"AJ21/(AL4-AJ20)","v":0},{"$f":"IF(AK21=0,0,(AK21*((LOG(AK21))/LOG(2))))","v":0},null,{"$f":"N21","v":2221},{"$f":"COUNTIF(L137:L169,AN21)","v":0},{"$f":"AO21/(AQ4-AO20)","v":0},{"$f":"IF(AP21=0,0,(AP21*((LOG(AP21))/LOG(2))))","v":0},null,{"$f":"N21","v":2221},{"$f":"COUNTIF(L170:L201,AS21)","v":0},{"$f":"AT21/(AV4-AT20)","v":0},{"$f":"IF(AU21=0,0,(AU21*((LOG(AU21))/LOG(2))))","v":0}]
[12,2036,14,2047,13,2057,14,2066,null,null,0,1111,null,2222,{"$f":"COUNTIF($L$7:$L$500,N22)","v":0},{"$f":"O22/$Q$4","v":0},{"$f":"IF(P22=0,0,(P22*((LOG(P22))/LOG(2))))","v":0},null,null,{"$f":"N22","v":2222},{"$f":"COUNTIF(L7:L39,T22)","v":0},{"$f":"U22/(W4-U20)","v":0},{"$f":"IF(V22=0,0,(V22*((LOG(V22))/LOG(2))))","v":0},null,{"$f":"N22","v":2222},{"$f":"COUNTIF(L40:L71,Y22)","v":0},{"$f":"Z22/(AB4-Z20)","v":0},{"$f":"IF(AA22=0,0,(AA22*((LOG(AA22))/LOG(2))))","v":0},null,{"$f":"N22","v":2222},{"$f":"COUNTIF(L72:L104,AD22)","v":0},{"$f":"AE22/(AG4-AE20)","v":0},{"$f":"IF(AF22=0,0,(AF22*((LOG(AF22))/LOG(2))))","v":0},null,{"$f":"N22","v":2222},{"$f":"COUNTIF(L105:L136,AI22)","v":0},{"$f":"AJ22/(AL4-AJ20)","v":0},{"$f":"IF(AK22=0,0,(AK22*((LOG(AK22))/LOG(2))))","v":0},null,{"$f":"N22","v":2222},{"$f":"COUNTIF(L137:L169,AN22)","v":0},{"$f":"AO22/(AQ4-AO20)","v":0},{"$f":"IF(AP22=0,0,(AP22*((LOG(AP22))/LOG(2))))","v":0},null,{"$f":"N22","v":2222},{"$f":"COUNTIF(L170:L201,AS22)","v":0},{"$f":"AT22/(AV4-AT20)","v":0},{"$f":"IF(AU22=0,0,(AU22*((LOG(AU22))/LOG(2))))","v":0}]
[12,2161,14,2168,13,2176,14,2186,null,null,0,1111,null,null,null,{"$f":"SUM(P7:P22)","v":0.99999999999999989},{"$f":"-SUM(Q7:Q22)","v":0.46672198289749411},null,null,null,null,{"$f":"SUM(V7:V22)","v":0.99999999999999989},{"$f":"-SUM(W7:W22)","v":1.1969298716665786},null,null,null,{"$f":"SUM(AA7:AA22)","v":1},{"$f":"-SUM(AB7:AB22)","v":0.20062232431271465},null,null,null,{"$f":"SUM(AF7:AF22)","v":1},{"$f":"-SUM(AG7:AG22)","v":0.19590927087360493},null,null,null,{"$f":"SUM(AK7:AK22)","v":1},{"$f":"-SUM(AL7:AL22)","v":0.33729006661701388},null,null,null,{"$f":"SUM(AP7:AP22)","v":1},{"$f":"-SUM(AQ7:AQ22)","v":0.32984607020714635},null,null,null,{"$f":"SUM(AU7:AU22)","v":1},{"$f":"-SUM(AV7:AV22)","v":0}]
[12,2291,14,2299,13,2308,14,2316,null,null,0,1111,null,null,null,"U=",{"$f":"Q23/(LOG(Q4)/LOG(2))","v":6.1351612674676863E-2},null,null,null,null,"U1=",{"$f":"W23/(LOG(W4)/LOG(2))","v":0.23727921398393911},null,null,null,"U2=",{"$f":"AB23/(LOG(AB4)/LOG(2))","v":4.0124464862542931E-2},null,null,null,"U3=",{"$f":"AG23/(LOG(AG4)/LOG(2))","v":3.8837027051827726E-2},null,null,null,"U4=",{"$f":"AL23/(LOG(AL4)/LOG(2))","v":6.7458013323402774E-2},null,null,null,"U5=",{"$f":"AQ23/(LOG(AQ4)/LOG(2))","v":6.53886398252118E-2},null,null,null,"U6=",{"$f":"AV23/(LOG(AV4)/LOG(2))","v":0}]
[12,2422,14,2427,13,2433,14,2438,null,null,0,1111]
[12,2547,14,2552,13,2557,14,2572,null,null,0,1111]
[12,2681,14,2687,13,2691,14,2699,null,null,0,1111,null,"Total Target Seq"]
[12,2891,14,2897,13,2907,14,2915,null,null,0,1111,null,{"$f":"COUNTIF(L7:L201,G3)","v":0},null,33,32,33,32,33,32]
[12,3027,14,3032,13,3037,14,3043,null,null,0,1111,null,null,null,"% of reinforcement given in 6 equal intervals based on number of trials "]
[12,3151,14,3161,13,3170,14,3180,null,null,0,1111,null,null,null,"%_1","%_2","%_3","%_4","%_5","%_6"]
[12,3275,14,3284,13,3295,14,3300,null,null,0,1111,null,null,"target sequence",{"$f":"$G$3","v":2212},{"$f":"$G$3","v":2212},{"$f":"$G$3","v":2212},{"$f":"$G$3","v":2212},{"$f":"$G$3","v":2212},{"$f":"$G$3","v":2212}]
[12,3406,14,3412,13,3417,14,3427,null,null,0,1111,null,null,"total reinforcement",{"$f":"U20","v":0},{"$f":"Z20","v":0},{"$f":"AE20","v":0},{"$f":"AJ20","v":0},{"$f":"AO20","v":0},{"$f":"AT20","v":0}]
[12,3533,14,3540,13,3546,14,3555,null,null,0,1111,null,null,"% target"]
[12,3668,14,3674,13,3679,14,3687,null,null,0,1111,null,null,"CCRF"]
[12,3788,14,3798,13,3804,14,3810,null,null,0,1111,null,null,"% CCRf"]
[12,3916,14,3923,13,3932,14,3941,null,null,0,1111,null,null,"average response rate",{"$f":"H39/P28","v":131.09090909090909},{"$f":"(H71-H39)/Q28","v":128.40625},{"$f":"(H104-H71)/R28","v":122.03030303030303},{"$f":"(H136-H104)/S28","v":119.4375},{"$f":"(H169-H136)/T28","v":120.57575757575758},{"$f":"(H201-H169)/U28","v":116.6875}]
[12,4047,14,4052,13,4058,14,4063,null,null,0,1111]
[12,4167,14,4174,13,4184,14,4193,null,null,0,1111]
[12,4291,14,4301,13,4307,14,4326,null,null,0,1111]
[12,4430,14,4435,13,4440,14,4445,null,null,0,1111]
[12,4544,14,4552,13,4558,14,4563,null,null,0,1111]
[12,4675,14,4682,13,4687,14,4693,null,null,0,1111]
[12,4791,14,4799,13,4805,14,4811,null,null,0,1111]
[12,4914,14,4924,13,4930,14,4939,null,null,0,1111]
[12,5039,14,5048,13,5057,14,5066,null,null,0,1111]
[12,5172,14,5179,13,5185,14,5191,null,null,0,1111]
[12,5303,14,5308,13,5317,14,5335,null,null,0,1111]
[12,5442,14,5447,13,5453,14,5462,null,null,0,1111]
[12,5564,14,5570,13,5575,14,5580,null,null,0,1111]
[12,5686,14,5697,13,5706,14,5719,null,null,0,1111]
[12,5822,14,5830,13,5836,14,5841,null,null,0,1111]
[12,5940,14,5950,13,5955,14,5962,null,null,0,1111]
[12,6061,14,6068,13,6073,14,6078,null,null,0,1111]
[12,6186,14,6193,13,6202,14,6210,null,null,0,1111]
[12,6318,14,6324,13,6330,14,6338,null,null,0,1111]
[12,6444,14,6449,13,6467,14,6483,null,null,0,1111]
[12,6595,14,6601,13,6606,14,6615,null,null,0,1111]
[12,6718,14,6734,13,6743,14,6759,null,null,0,1111]
[12,6863,14,6881,13,6897,14,6906,null,null,0,1111]
[12,7004,14,7013,13,7022,14,7029,null,null,0,1111]
[12,7134,14,7140,13,7146,14,7152,null,null,0,1111]
[12,7259,14,7264,13,7273,14,7281,null,null,0,1111]
[12,7380,14,7386,13,7391,14,7399,null,null,0,1111]
[12,7505,14,7511,13,7516,14,7524,null,null,0,1111]
[12,7627,14,7635,13,7640,14,7655,null,null,0,1111]
[12,7751,14,7757,13,7763,14,7768,null,null,0,1111]
[12,7866,14,7872,13,7877,14,7886,null,null,0,1111]
[12,8016,14,8022,13,8037,23,8066,null,null,0,1112]
[12,8173,14,8178,13,8186,14,8196,null,null,0,1111]
[12,8300,14,8306,13,8312,14,8317,null,null,0,1111]
[12,8416,14,8422,13,8427,14,8435,null,null,0,1111]
[12,8531,14,8541,13,8546,14,8552,null,null,0,1111]
[12,8652,14,8657,13,8665,14,8682,null,null,0,1111]
[12,8777,14,8782,13,8798,14,8809,null,null,0,1111]
[12,8900,14,8909,13,8915,14,8920,null,null,0,1111]
[12,9017,14,9023,13,9028,14,9038,null,null,0,1111]
[12,9145,14,9152,13,9156,14,9162,null,null,0,1111]
[12,9260,14,9266,13,9282,14,9290,null,null,0,1111]
[12,9385,14,9393,13,9402,14,9409,null,null,0,1111]
[12,9509,14,9518,13,9524,14,9530,null,null,0,1111]
[12,9625,14,9633,13,9638,14,9647,null,null,0,1111]
[12,9744,14,9749,13,9754,14,9759,null,null,0,1111]
[12,9857,14,9863,13,9868,14,9876,null,null,0,1111]
[12,10013,14,10019,24,10050,23,10058,null,null,0,1122]
[12,10162,14,10168,13,10174,14,10182,null,null,0,1111]
[12,10280,14,10285,13,10291,14,10298,null,null,0,1111]
[12,10396,14,10406,13,10410,14,10415,null,null,0,1111]
[12,10512,14,10517,13,10522,14,10530,null,null,0,1111]
[12,10631,14,10641,13,10651,14,10656,null,null,0,1111]
[12,10754,14,10759,13,10766,14,10775,null,null,0,1111]
[12,10873,14,10886,13,10891,14,10899,null,null,0,1111]
[12,10997,14,11002,13,11013,14,11022,null,null,0,1111]
[12,11116,14,11122,13,11127,14,11140,null,null,0,1111]
[12,11241,14,11246,13,11251,14,11259,null,null,0,1111]
[12,11357,14,11362,13,11368,14,11377,null,null,0,1111]
[12,11476,14,11487,13,11492,14,11501,null,null,0,1111]
[12,11600,14,11608,13,11617,14,11629,null,null,0,1111]
[12,11727,14,11735,13,11742,14,11745,null,null,0,1111]
[12,11841,14,11852,13,11858,14,11867,null,null,0,1111]
[12,11964,14,11971,13,11979,14,11987,null,null,0,1111]
[12,12085,14,12095,13,12104,14,12112,null,null,0,1111]
[12,12208,14,12218,13,12225,14,12230,null,null,0,1111]
[12,12326,14,12335,13,12341,14,12348,null,null,0,1111]
[12,12444,14,12450,13,12456,14,12462,null,null,0,1111]
[12,12560,14,12565,13,12573,14,12581,null,null,0,1111]
[12,12680,14,12689,13,12694,14,12701,null,null,0,1111]
[12,12798,14,12803,13,12807,14,12812,null,null,0,1111]
[12,12908,14,12919,13,12928,14,12936,null,null,0,1111]
[12,13032,14,13039,13,13045,14,13050,null,null,0,1111]
[12,13147,14,13156,13,13161,14,13177,null,null,0,1111]
[12,13274,14,13279,13,13288,14,13318,null,null,0,1111]
[12,13413,14,13418,13,13424,14,13432,null,null,0,1111]
[12,13529,14,13534,13,13546,14,13555,null,null,0,1111]
[12,13653,14,13661,13,13665,14,13673,null,null,0,1111]
[12,13767,14,13772,13,13778,14,13783,null,null,0,1111]
[12,13881,14,13891,13,13897,14,13906,null,null,0,1111]
[12,14006,14,14010,13,14015,14,14023,null,null,0,1111]
[12,14120,14,14125,13,14131,14,14135,null,null,0,1111]
[12,14232,14,14241,13,14251,14,14259,null,null,0,1111]
[12,14354,14,14362,13,14367,14,14375,null,null,0,1111]
[12,14473,14,14479,13,14487,14,14495,null,null,0,1111]
[12,14594,14,14599,13,14605,14,14613,null,null,0,1111]
[12,14714,14,14719,13,14728,14,14736,null,null,0,1111]
[12,14833,14,14841,13,14845,14,14853,null,null,0,1111]
[12,14959,14,14965,13,14970,14,14975,null,null,0,1111]
[12,15075,14,15081,13,15085,14,15093,null,null,0,1111]
[12,15191,14,15203,13,15211,23,15231,null,null,0,1112]
[12,15336,14,15342,13,15346,23,15358,null,null,0,1112]
[12,15461,14,15467,13,15472,14,15477,null,null,0,1111]
[12,15576,14,15582,13,15586,14,15594,null,null,0,1111]
[12,15690,14,15699,13,15703,14,15708,null,null,0,1111]
[12,15806,14,15812,13,15816,14,15821,null,null,0,1111]
[12,15916,14,15922,13,15927,14,15937,null,null,0,1111]
[12,16030,14,16035,13,16050,14,16058,null,null,0,1111]
[12,16154,14,16163,13,16169,14,16174,null,null,0,1111]
[12,16268,14,16274,13,16278,14,16284,null,null,0,1111]
[12,16379,14,16390,13,16396,14,16404,null,null,0,1111]
[12,16500,14,16506,13,16511,14,16520,null,null,0,1111]
[12,16620,14,16626,13,16632,14,16638,null,null,0,1111]
[12,16738,14,16749,13,16756,14,16769,null,null,0,1111]
[12,16876,14,16883,13,16892,23,16916,null,null,0,1112]
[12,17013,14,17019,13,17024,14,17029,null,null,0,1111]
[12,17134,14,17142,13,17150,14,17158,null,null,0,1111]
[12,17253,14,17262,13,17267,14,17276,null,null,0,1111]
[12,17370,14,17375,13,17379,14,17387,null,null,0,1111]
[12,17486,14,17491,13,17496,14,17500,null,null,0,1111]
[12,17598,14,17604,13,17610,14,17615,null,null,0,1111]
[12,17712,14,17721,13,17726,14,17730,null,null,0,1111]
[12,17827,14,17832,13,17840,14,17845,null,null,0,1111]
[12,17945,14,17950,13,17955,14,17963,null,null,0,1111]
[12,18098,14,18103,13,18109,14,18125,null,null,0,1111]
[12,18222,14,18227,13,18232,14,18239,null,null,0,1111]
[12,18334,14,18339,13,18350,14,18358,null,null,0,1111]
[12,18454,14,18459,13,18464,14,18471,null,null,0,1111]
[12,18566,14,18571,13,18577,14,18581,null,null,0,1111]
[12,18676,14,18681,13,18687,14,18691,null,null,0,1111]
[12,18787,14,18795,13,18800,14,18809,null,null,0,1111]
[12,18908,14,18918,13,18923,14,18928,null,null,0,1111]
[12,19028,14,19034,13,19044,14,19052,null,null,0,1111]
[12,19156,14,19162,13,19168,14,19180,null,null,0,1111]
[12,19277,14,19287,13,19292,14,19300,null,null,0,1111]
[12,19403,14,19409,13,19415,14,19424,null,null,0,1111]
[12,19519,14,19525,13,19530,14,19540,null,null,0,1111]
[12,19632,14,19647,13,19652,14,19660,null,null,0,1111]
[12,19756,14,19762,13,19767,14,19780,null,null,0,1111]
[12,19879,14,19884,13,19890,14,19894,null,null,0,1111]
[12,19994,14,20004,13,20011,14,20021,null,null,0,1111]
[12,20129,14,20136,13,20141,23,20152,null,null,0,1112]
[12,20248,14,20254,13,20258,14,20263,null,null,0,1111]
[12,20360,14,20365,13,20369,14,20377,null,null,0,1111]
[12,20476,14,20481,13,20490,14,20498,null,null,0,1111]
[12,20593,14,20599,13,20603,14,20613,null,null,0,1111]
[12,20707,14,20714,13,20718,14,20723,null,null,0,1111]
[12,20823,14,20831,13,20836,14,20846,null,null,0,1111]
[12,20939,14,20945,13,20949,14,20954,null,null,0,1111]
[12,21060,14,21066,13,21075,14,21081,null,null,0,1111]
[12,21178,14,21183,13,21188,14,21192,null,null,0,1111]
[12,21287,14,21296,13,21301,14,21308,null,null,0,1111]
[12,21406,14,21411,13,21415,14,21423,null,null,0,1111]
[12,21517,14,21522,13,21527,14,21532,null,null,0,1111]
[12,21637,14,21642,13,21648,14,21656,null,null,0,1111]
[12,21755,14,21756,13,21760,14,21769,null,null,0,1111]
[12,21864,14,21869,13,21871,14,21879,null,null,0,1111]
[12,21972,14,21979,13,21985,14,21989,null,null,0,1111]
[12,22089,14,22098,13,22103,14,22107,null,null,0,1111]
[12,22204,14,22210,13,22219,14,22224,null,null,0,1111]
[12,22323,14,22328,13,22338,14,22346,null,null,0,1111]
[12,22441,14,22447,13,22455,14,22463,null,null,0,1111]
[12,22559,14,22565,13,22570,14,22580,null,null,0,1111]
[12,22677,14,22683,13,22688,14,22698,null,null,0,1111]
[12,22796,14,22802,13,22808,14,22816,null,null,0,1111]
[12,22915,14,22924,13,22929,14,22933,null,null,0,1111]
[12,23029,14,23039,13,23048,14,23057,null,null,0,1111]
[12,23153,14,23159,13,23169,14,23177,null,null,0,1111]
[12,23274,14,23280,13,23285,14,23294,null,null,0,1111]
[12,23396,14,23403,13,23407,14,23416,null,null,0,1111]
[12,23508,14,23517,13,23526,14,23534,null,null,0,1111]
[12,23630,14,23636,13,23642,14,23651,null,null,0,1111]
[12,23746,14,23751,13,23759,14,23767,null,null,0,1111]
[12,23860,14,23867,13,23876,14,23881,null,null,0,1111]
[12,23976,14,23985,13,23991,14,23997,null,null,null,1111]

{"sheet":"!L914B50.056","index":17,"n_rows":206,"n_cols":48,"rows_kept":206,"cut":false,"hidden":false,"merged":[[4,39,4,42],[5,39,5,40],[4,44,4,47],[5,44,5,45],[4,24,4,27],[5,24,5,25],[4,29,4,32],[5,29,5,30],[4,34,4,37],[5,34,5,35],[1,1,1,2],[5,13,5,14],[26,13,26,14],[27,13,27,14],[4,19,4,22],[5,19,5,20]]}
["Report for:!L914B50.056"]
["Date:","<date>"]
["Hen:","<hen>",null,null,null,"Correct Sequence",{"$f":"Start!J2","v":2212},null,null,null,null,null,null,null,null,"Total Sequences in Data",{"$f":"4994-COUNTBLANK(L7:L5000)","v":200},null,null,null,null,"Total Sequences in Block Data",{"$f":"COUNTA(L7:L39)","v":33},null,null,null,"Total Sequences in Block Data",{"$f":"COUNTA(L40:L73)","v":34},null,null,null,"Total Sequences in Block Data",{"$f":"COUNTA(L74:L106)","v":33},null,null,null,"Total Sequences in Block Data",{"$f":"COUNTA(L107:L139)","v":33},null,null,null,"Total Sequences in Block Data",{"$f":"COUNTA(L140:L173)","v":34},null,null,null,"Total Sequences in Block Data",{"$f":"COUNTA(L174:L206)","v":33}]
[null,null,null,null,null,null,null,null,null,null,null,null,null,null,null,"Total Sequences in Summary",{"$f":"SUM(O7:O22)","v":200},null,null,null,null,"Total Sequences in Block Summary",{"$f":"SUM(U7:U22)","v":33},null,null,null,"Total Sequences in Block Summary",{"$f":"SUM(Z7:Z22)","v":34},null,null,null,"Total Sequences in Block Summary",{"$f":"SUM(AE7:AE22)","v":33},null,null,null,"Total Sequences in Block Summary",{"$f":"SUM(AJ7:AJ22)","v":33},null,null,null,"Total Sequences in Block Summary",{"$f":"SUM(AO7:AO22)","v":34},null,null,null,"Total Sequences in Block Summary",{"$f":"SUM(AT7:AT22)","v":33}]
[null,null,null,null,null,null,null,null,null,null,null,null,null,null,null,null,null,null,null,"Block 1",null,null,null,null,"Block 2",null,null,null,null,"Block 3",null,null,null,null,"Block 4",null,null,null,null,"Block 5",null,null,null,null,"Block 6"]
["Sequence\nComponent\n1","Time\n1","Sequence\nComponent\n2","Time\n2","Sequence\nComponent\n3","Time\n3","Sequence\nComponent\n4","Time\n4","Sequence\nComponent\n5","Time\n5","Correct?\n0=No 1=Yes","Sequence",null,"Frequency",null,"Relative Frequency","Variability",null,null,"Frequency",null,"Relative Frequency","Variability",null,"Frequency",null,"Relative Frequency","Variability",null,"Frequency",null,"Relative Frequency","Variability",null,"Frequency",null,"Relative Frequency","Variability",null,"Frequency",null,"Relative Frequency","Variability",null,"Frequency",null,"Relative Frequency","Variability"]
[21,12,21,18,22,29,14,49,null,null,0,2221,null,1111,{"$f":"COUNTIF($L$7:$L$500,N7)","v":195},{"$f":"O7/$Q$4","v":0.97499999999999998},{"$f":"IF(P7=0,0,(P7*((LOG(P7))/LOG(2))))","v":-3.5612729124486181E-2},null,null,{"$f":"N7","v":1111},{"$f":"COUNTIF(L7:L39,T7)","v":31},{"$f":"U7/(W4-U20)","v":0.93939393939393945},{"$f":"IF(V7=0,0,(V7*((LOG(V7))/LOG(2))))","v":-8.4731275094512809E-2},null,{"$f":"N7","v":1111},{"$f":"COUNTIF(L40:L73,Y7)","v":34},{"$f":"Z7/(AB4-Z20)","v":1},{"$f":"IF(AA7=0,0,(AA7*((LOG(AA7))/LOG(2))))","v":0},null,{"$f":"N7","v":1111},{"$f":"COUNTIF(L74:L106,AD7)","v":32},{"$f":"AE7/(AG4-AE20)","v":0.96969696969696972},{"$f":"IF(AF7=0,0,(AF7*((LOG(AF7))/LOG(2))))","v":-4.3048843014257841E-2},null,{"$f":"N7","v":1111},{"$f":"COUNTIF(L107:L139,AI7)","v":33},{"$f":"AJ7/(AL4-AJ20)","v":1},{"$f":"IF(AK7=0,0,(AK7*((LOG(AK7))/LOG(2))))","v":0},null,{"$f":"N7","v":1111},{"$f":"COUNTIF(L140:L173,AN7)","v":33},{"$f":"AO7/(AQ4-AO20)","v":0.97058823529411764},{"$f":"IF(AP7=0,0,(AP7*((LOG(AP7))/LOG(2))))","v":-4.1801994777418743E-2},null,{"$f":"N7","v":1111},{"$f":"COUNTIF(L174:L206,AS7)","v":32},{"$f":"AT7/(AV4-AT20)","v":0.96969696969696972},{"$f":"IF(AU7=0,0,(AU7*((LOG(AU7))/LOG(2))))","v":-4.3048843014257841E-2}]
[12,205,23,216,24,221,23,231,null,null,0,1222,null,1112,{"$f":"COUNTIF($L$7:$L$500,N8)","v":0},{"$f":"O8/$Q$4","v":0},{"$f":"IF(P8=0,0,(P8*((LOG(P8))/LOG(2))))","v":0},null,null,{"$f":"N8","v":1112},{"$f":"COUNTIF(L7:L39,T8)","v":0},{"$f":"U8/(W4-U20)","v":0},{"$f":"IF(V8=0,0,(V8*((LOG(V8))/LOG(2))))","v":0},null,{"$f":"N8","v":1112},{"$f":"COUNTIF(L40:L73,Y8)","v":0},{"$f":"Z8/(AB4-Z20)","v":0},{"$f":"IF(AA8=0,0,(AA8*((LOG(AA8))/LOG(2))))","v":0},null,{"$f":"N8","v":1112},{"$f":"COUNTIF(L74:L106,AD8)","v":0},{"$f":"AE8/(AG4-AE20)","v":0},{"$f":"IF(AF8=0,0,(AF8*((LOG(AF8))/LOG(2))))","v":0},null,{"$f":"N8","v":1112},{"$f":"COUNTIF(L107:L139,AI8)","v":0},{"$f":"AJ8/(AL4-AJ20)","v":0},{"$f":"IF(AK8=0,0,(AK8*((LOG(AK8))/LOG(2))))","v":0},null,{"$f":"N8","v":1112},{"$f":"COUNTIF(L140:L173,AN8)","v":0},{"$f":"AO8/(AQ4-AO20)","v":0},{"$f":"IF(AP8=0,0,(AP8*((LOG(AP8))/LOG(2))))","v":0},null,{"$f":"N8","v":1112},{"$f":"COUNTIF(L174:L206,AS8)","v":0},{"$f":"AT8/(AV4-AT20)","v":0},{"$f":"IF(AU8=0,0,(AU8*((LOG(AU8))/LOG(2))))","v":0}]
[12,339,14,345,13,355,14,368,null,null,0,1111,null,1121,{"$f":"COUNTIF($L$7:$L$500,N9)","v":0},{"$f":"O9/$Q$4","v":0},{"$f":"IF(P9=0,0,(P9*((LOG(P9))/LOG(2))))","v":0},null,null,{"$f":"N9","v":1121},{"$f":"COUNTIF(L7:L39,T9)","v":0},{"$f":"U9/(W4-U20)","v":0},{"$f":"IF(V9=0,0,(V9*((LOG(V9))/LOG(2))))","v":0},null,{"$f":"N9","v":1121},{"$f":"COUNTIF(L40:L73,Y9)","v":0},{"$f":"Z9/(AB4-Z20)","v":0},{"$f":"IF(AA9=0,0,(AA9*((LOG(AA9))/LOG(2))))","v":0},null,{"$f":"N9","v":1121},{"$f":"COUNTIF(L74:L106,AD9)","v":0},{"$f":"AE9/(AG4-AE20)","v":0},{"$f":"IF(AF9=0,0,(AF9*((LOG(AF9))/LOG(2))))","v":0},null,{"$f":"N9","v":1121},{"$f":"COUNTIF(L107:L139,AI9)","v":0},{"$f":"AJ9/(AL4-AJ20)","v":0},{"$f":"IF(AK9=0,0,(AK9*((LOG(AK9))/LOG(2))))","v":0},null,{"$f":"N9","v":1121},{"$f":"COUNTIF(L140:L173,AN9)","v":0},{"$f":"AO9/(AQ4-AO20)","v":0},{"$f":"IF(AP9=0,0,(AP9*((LOG(AP9))/LOG(2))))","v":0},null,{"$f":"N9","v":1121},{"$f":"COUNTIF(L174:L206,AS9)","v":0},{"$f":"AT9/(AV4-AT20)","v":0},{"$f":"IF(AU9=0,0,(AU9*((LOG(AU9))/LOG(2))))","v":0}]
[12,470,14,476,13,481,14,489,null,null,0,1111,null,1122,{"$f":"COUNTIF($L$7:$L$500,N10)","v":2},{"$f":"O10/$Q$4","v":0.01},{"$f":"IF(P10=0,0,(P10*((LOG(P10))/LOG(2))))","v":-6.6438561897747245E-2},null,null,{"$f":"N10","v":1122},{"$f":"COUNTIF(L7:L39,T10)","v":0},{"$f":"U10/(W4-U20)","v":0},{"$f":"IF(V10=0,0,(V10*((LOG(V10))/LOG(2))))","v":0},null,{"$f":"N10","v":1122},{"$f":"COUNTIF(L40:L73,Y10)","v":0},{"$f":"Z10/(AB4-Z20)","v":0},{"$f":"IF(AA10=0,0,(AA10*((LOG(AA10))/LOG(2))))","v":0},null,{"$f":"N10","v":1122},{"$f":"COUNTIF(L74:L106,AD10)","v":1},{"$f":"AE10/(AG4-AE20)","v":3.0303030303030304E-2},{"$f":"IF(AF10=0,0,(AF10*((LOG(AF10))/LOG(2))))","v":-0.15286042785934709},null,{"$f":"N10","v":1122},{"$f":"COUNTIF(L107:L139,AI10)","v":0},{"$f":"AJ10/(AL4-AJ20)","v":0},{"$f":"IF(AK10=0,0,(AK10*((LOG(AK10))/LOG(2))))","v":0},null,{"$f":"N10","v":1122},{"$f":"COUNTIF(L140:L173,AN10)","v":1},{"$f":"AO10/(AQ4-AO20)","v":2.9411764705882353E-2},{"$f":"IF(AP10=0,0,(AP10*((LOG(AP10))/LOG(2))))","v":-0.14963126003677468},null,{"$f":"N10","v":1122},{"$f":"COUNTIF(L174:L206,AS10)","v":0},{"$f":"AT10/(AV4-AT20)","v":0},{"$f":"IF(AU10=0,0,(AU10*((LOG(AU10))/LOG(2))))","v":0}]
[12,593,14,598,13,603,14,617,null,null,0,1111,null,1211,{"$f":"COUNTIF($L$7:$L$500,N11)","v":0},{"$f":"O11/$Q$4","v":0},{"$f":"IF(P11=0,0,(P11*((LOG(P11))/LOG(2))))","v":0},null,null,{"$f":"N11","v":1211},{"$f":"COUNTIF(L7:L39,T11)","v":0},{"$f":"U11/(W4-U20)","v":0},{"$f":"IF(V11=0,0,(V11*((LOG(V11))/LOG(2))))","v":0},null,{"$f":"N11","v":1211},{"$f":"COUNTIF(L40:L73,Y11)","v":0},{"$f":"Z11/(AB4-Z20)","v":0},{"$f":"IF(AA11=0,0,(AA11*((LOG(AA11))/LOG(2))))","v":0},null,{"$f":"N11","v":1211},{"$f":"COUNTIF(L74:L106,AD11)","v":0},{"$f":"AE11/(AG4-AE20)","v":0},{"$f":"IF(AF11=0,0,(AF11*((LOG(AF11))/LOG(2))))","v":0},null,{"$f":"N11","v":1211},{"$f":"COUNTIF(L107:L139,AI11)","v":0},{"$f":"AJ11/(AL4-AJ20)","v":0},{"$f":"IF(AK11=0,0,(AK11*((LOG(AK11))/LOG(2))))","v":0},null,{"$f":"N11","v":1211},{"$f":"COUNTIF(L140:L173,AN11)","v":0},{"$f":"AO11/(AQ4-AO20)","v":0},{"$f":"IF(AP11=0,0,(AP11*((LOG(AP11))/LOG(2))))","v":0},null,{"$f":"N11","v":1211},{"$f":"COUNTIF(L174:L206,AS11)","v":0},{"$f":"AT11/(AV4-AT20)","v":0},{"$f":"IF(AU11=0,0,(AU11*((LOG(AU11))/LOG(2))))","v":0}]
[12,717,14,723,13,729,14,735,null,null,0,1111,null,1212,{"$f":"COUNTIF($L$7:$L$500,N12)","v":0},{"$f":"O12/$Q$4","v":0},{"$f":"IF(P12=0,0,(P12*((LOG(P12))/LOG(2))))","v":0},null,null,{"$f":"N12","v":1212},{"$f":"COUNTIF(L7:L39,T12)","v":0},{"$f":"U12/(W4-U20)","v":0},{"$f":"IF(V12=0,0,(V12*((LOG(V12))/LOG(2))))","v":0},null,{"$f":"N12","v":1212},{"$f":"COUNTIF(L40:L73,Y12)","v":0},{"$f":"Z12/(AB4-Z20)","v":0},{"$f":"IF(AA12=0,0,(AA12*((LOG(AA12))/LOG(2))))","v":0},null,{"$f":"N12","v":1212},{"$f":"COUNTIF(L74:L106,AD12)","v":0},{"$f":"AE12/(AG4-AE20)","v":0},{"$f":"IF(AF12=0,0,(AF12*((LOG(AF12))/LOG(2))))","v":0},null,{"$f":"N12","v":1212},{"$f":"COUNTIF(L107:L139,AI12)","v":0},{"$f":"AJ12/(AL4-AJ20)","v":0},{"$f":"IF(AK12=0,0,(AK12*((LOG(AK12))/LOG(2))))","v":0},null,{"$f":"N12","v":1212},{"$f":"COUNTIF(L140:L173,AN12)","v":0},{"$f":"AO12/(AQ4-AO20)","v":0},{"$f":"IF(AP12=0,0,(AP12*((LOG(AP12))/LOG(2))))","v":0},null,{"$f":"N12","v":1212},{"$f":"COUNTIF(L174:L206,AS12)","v":0},{"$f":"AT12/(AV4-AT20)","v":0},{"$f":"IF(AU12=0,0,(AU12*((LOG(AU12))/LOG(2))))","v":0}]
[12,844,14,849,13,855,14,864,null,null,0,1111,null,1221,{"$f":"COUNTIF($L$7:$L$500,N13)","v":0},{"$f":"O13/$Q$4","v":0},{"$f":"IF(P13=0,0,(P13*((LOG(P13))/LOG(2))))","v":0},null,null,{"$f":"N13","v":1221},{"$f":"COUNTIF(L7:L39,T13)","v":0},{"$f":"U13/(W4-U20)","v":0},{"$f":"IF(V13=0,0,(V13*((LOG(V13))/LOG(2))))","v":0},null,{"$f":"N13","v":1221},{"$f":"COUNTIF(L40:L73,Y13)","v":0},{"$f":"Z13/(AB4-Z20)","v":0},{"$f":"IF(AA13=0,0,(AA13*((LOG(AA13))/LOG(2))))","v":0},null,{"$f":"N13","v":1221},{"$f":"COUNTIF(L74:L106,AD13)","v":0},{"$f":"AE13/(AG4-AE20)","v":0},{"$f":"IF(AF13=0,0,(AF13*((LOG(AF13))/LOG(2))))","v":0},null,{"$f":"N13","v":1221},{"$f":"COUNTIF(L107:L139,AI13)","v":0},{"$f":"AJ13/(AL4-AJ20)","v":0},{"$f":"IF(AK13=0,0,(AK13*((LOG(AK13))/LOG(2))))","v":0},null,{"$f":"N13","v":1221},{"$f":"COUNTIF(L140:L173,AN13)","v":0},{"$f":"AO13/(AQ4-AO20)","v":0},{"$f":"IF(AP13=0,0,(AP13*((LOG(AP13))/LOG(2))))","v":0},null,{"$f":"N13","v":1221},{"$f":"COUNTIF(L174:L206,AS13)","v":0},{"$f":"AT13/(AV4-AT20)","v":0},{"$f":"IF(AU13=0,0,(AU13*((LOG(AU13))/LOG(2))))","v":0}]
[12,971,14,981,13,989,14,997,null,null,0,1111,null,1222,{"$f":"COUNTIF($L$7:$L$500,N14)","v":1},{"$f":"O14/$Q$4","v":5.0000000000000001E-3},{"$f":"IF(P14=0,0,(P14*((LOG(P14))/LOG(2))))","v":-3.8219280948873627E-2},null,null,{"$f":"N14","v":1222},{"$f":"COUNTIF(L7:L39,T14)","v":1},{"$f":"U14/(W4-U20)","v":3.0303030303030304E-2},{"$f":"IF(V14=0,0,(V14*((LOG(V14))/LOG(2))))","v":-0.15286042785934709},null,{"$f":"N14","v":1222},{"$f":"COUNTIF(L40:L73,Y14)","v":0},{"$f":"Z14/(AB4-Z20)","v":0},{"$f":"IF(AA14=0,0,(AA14*((LOG(AA14))/LOG(2))))","v":0},null,{"$f":"N14","v":1222},{"$f":"COUNTIF(L74:L106,AD14)","v":0},{"$f":"AE14/(AG4-AE20)","v":0},{"$f":"IF(AF14=0,0,(AF14*((LOG(AF14))/LOG(2))))","v":0},null,{"$f":"N14","v":1222},{"$f":"COUNTIF(L107:L139,AI14)","v":0},{"$f":"AJ14/(AL4-AJ20)","v":0},{"$f":"IF(AK14=0,0,(AK14*((LOG(AK14))/LOG(2))))","v":0},null,{"$f":"N14","v":1222},{"$f":"COUNTIF(L140:L173,AN14)","v":0},{"$f":"AO14/(AQ4-AO20)","v":0},{"$f":"IF(AP14=0,0,(AP14*((LOG(AP14))/LOG(2))))","v":0},null,{"$f":"N14","v":1222},{"$f":"COUNTIF(L174:L206,AS14)","v":0},{"$f":"AT14/(AV4-AT20)","v":0},{"$f":"IF(AU14=0,0,(AU14*((LOG(AU14))/LOG(2))))","v":0}]
[12,1109,14,1115,13,1120,14,1128,null,null,0,1111,null,2111,{"$f":"COUNTIF($L$7:$L$500,N15)","v":0},{"$f":"O15/$Q$4","v":0},{"$f":"IF(P15=0,0,(P15*((LOG(P15))/LOG(2))))","v":0},null,null,{"$f":"N15","v":2111},{"$f":"COUNTIF(L7:L39,T15)","v":0},{"$f":"U15/(W4-U20)","v":0},{"$f":"IF(V15=0,0,(V15*((LOG(V15))/LOG(2))))","v":0},null,{"$f":"N15","v":2111},{"$f":"COUNTIF(L40:L73,Y15)","v":0},{"$f":"Z15/(AB4-Z20)","v":0},{"$f":"IF(AA15=0,0,(AA15*((LOG(AA15))/LOG(2))))","v":0},null,{"$f":"N15","v":2111},{"$f":"COUNTIF(L74:L106,AD15)","v":0},{"$f":"AE15/(AG4-AE20)","v":0},{"$f":"IF(AF15=0,0,(AF15*((LOG(AF15))/LOG(2))))","v":0},null,{"$f":"N15","v":2111},{"$f":"COUNTIF(L107:L139,AI15)","v":0},{"$f":"AJ15/(AL4-AJ20)","v":0},{"$f":"IF(AK15=0,0,(AK15*((LOG(AK15))/LOG(2))))","v":0},null,{"$f":"N15","v":2111},{"$f":"COUNTIF(L140:L173,AN15)","v":0},{"$f":"AO15/(AQ4-AO20)","v":0},{"$f":"IF(AP15=0,0,(AP15*((LOG(AP15))/LOG(2))))","v":0},null,{"$f":"N15","v":2111},{"$f":"COUNTIF(L174:L206,AS15)","v":0},{"$f":"AT15/(AV4-AT20)","v":0},{"$f":"IF(AU15=0,0,(AU15*((LOG(AU15))/LOG(2))))","v":0}]
[12,1238,14,1245,13,1250,14,1259,null,null,0,1111,null,2112,{"$f":"COUNTIF($L$7:$L$500,N16)","v":0},{"$f":"O16/$Q$4","v":0},{"$f":"IF(P16=0,0,(P16*((LOG(P16))/LOG(2))))","v":0},null,null,{"$f":"N16","v":2112},{"$f":"COUNTIF(L7:L39,T16)","v":0},{"$f":"U16/(W4-U20)","v":0},{"$f":"IF(V16=0,0,(V16*((LOG(V16))/LOG(2))))","v":0},null,{"$f":"N16","v":2112},{"$f":"COUNTIF(L40:L73,Y16)","v":0},{"$f":"Z16/(AB4-Z20)","v":0},{"$f":"IF(AA16=0,0,(AA16*((LOG(AA16))/LOG(2))))","v":0},null,{"$f":"N16","v":2112},{"$f":"COUNTIF(L74:L106,AD16)","v":0},{"$f":"AE16/(AG4-AE20)","v":0},{"$f":"IF(AF16=0,0,(AF16*((LOG(AF16))/LOG(2))))","v":0},null,{"$f":"N16","v":2112},{"$f":"COUNTIF(L107:L139,AI16)","v":0},{"$f":"AJ16/(AL4-AJ20)","v":0},{"$f":"IF(AK16=0,0,(AK16*((LOG(AK16))/LOG(2))))","v":0},null,{"$f":"N16","v":2112},{"$f":"COUNTIF(L140:L173,AN16)","v":0},{"$f":"AO16/(AQ4-AO20)","v":0},{"$f":"IF(AP16=0,0,(AP16*((LOG(AP16))/LOG(2))))","v":0},null,{"$f":"N16","v":2112},{"$f":"COUNTIF(L174:L206,AS16)","v":0},{"$f":"AT16/(AV4-AT20)","v":0},{"$f":"IF(AU16=0,0,(AU16*((LOG(AU16))/LOG(2))))","v":0}]
[12,1362,14,1377,13,1385,14,1405,null,null,0,1111,null,2121,{"$f":"COUNTIF($L$7:$L$500,N17)","v":0},{"$f":"O17/$Q$4","v":0},{"$f":"IF(P17=0,0,(P17*((LOG(P17))/LOG(2))))","v":0},null,null,{"$f":"N17","v":2121},{"$f":"COUNTIF(L7:L39,T17)","v":0},{"$f":"U17/(W4-U20)","v":0},{"$f":"IF(V17=0,0,(V17*((LOG(V17))/LOG(2))))","v":0},null,{"$f":"N17","v":2121},{"$f":"COUNTIF(L40:L73,Y17)","v":0},{"$f":"Z17/(AB4-Z20)","v":0},{"$f":"IF(AA17=0,0,(AA17*((LOG(AA17))/LOG(2))))","v":0},null,{"$f":"N17","v":2121},{"$f":"COUNTIF(L74:L106,AD17)","v":0},{"$f":"AE17/(AG4-AE20)","v":0},{"$f":"IF(AF17=0,0,(AF17*((LOG(AF17))/LOG(2))))","v":0},null,{"$f":"N17","v":2121},{"$f":"COUNTIF(L107:L139,AI17)","v":0},{"$f":"AJ17/(AL4-AJ20)","v":0},{"$f":"IF(AK17=0,0,(AK17*((LOG(AK17))/LOG(2))))","v":0},null,{"$f":"N17","v":2121},{"$f":"COUNTIF(L140:L173,AN17)","v":0},{"$f":"AO17/(AQ4-AO20)","v":0},{"$f":"IF(AP17=0,0,(AP17*((LOG(AP17))/LOG(2))))","v":0},null,{"$f":"N17","v":2121},{"$f":"COUNTIF(L174:L206,AS17)","v":0},{"$f":"AT17/(AV4-AT20)","v":0},{"$f":"IF(AU17=0,0,(AU17*((LOG(AU17))/LOG(2))))","v":0}]
[12,1521,14,1532,13,1540,14,1549,null,null,0,1111,null,2122,{"$f":"COUNTIF($L$7:$L$500,N18)","v":0},{"$f":"O18/$Q$4","v":0},{"$f":"IF(P18=0,0,(P18*((LOG(P18))/LOG(2))))","v":0},null,null,{"$f":"N18","v":2122},{"$f":"COUNTIF(L7:L39,T18)","v":0},{"$f":"U18/(W4-U20)","v":0},{"$f":"IF(V18=0,0,(V18*((LOG(V18))/LOG(2))))","v":0},null,{"$f":"N18","v":2122},{"$f":"COUNTIF(L40:L73,Y18)","v":0},{"$f":"Z18/(AB4-Z20)","v":0},{"$f":"IF(AA18=0,0,(AA18*((LOG(AA18))/LOG(2))))","v":0},null,{"$f":"N18","v":2122},{"$f":"COUNTIF(L74:L106,AD18)","v":0},{"$f":"AE18/(AG4-AE20)","v":0},{"$f":"IF(AF18=0,0,(AF18*((LOG(AF18))/LOG(2))))","v":0},null,{"$f":"N18","v":2122},{"$f":"COUNTIF(L107:L139,AI18)","v":0},{"$f":"AJ18/(AL4-AJ20)","v":0},{"$f":"IF(AK18=0,0,(AK18*((LOG(AK18))/LOG(2))))","v":0},null,{"$f":"N18","v":2122},{"$f":"COUNTIF(L140:L173,AN18)","v":0},{"$f":"AO18/(AQ4-AO20)","v":0},{"$f":"IF(AP18=0,0,(AP18*((LOG(AP18))/LOG(2))))","v":0},null,{"$f":"N18","v":2122},{"$f":"COUNTIF(L174:L206,AS18)","v":0},{"$f":"AT18/(AV4-AT20)","v":0},{"$f":"IF(AU18=0,0,(AU18*((LOG(AU18))/LOG(2))))","v":0}]
[12,1652,14,1660,13,1669,14,1677,null,null,0,1111,null,2211,{"$f":"COUNTIF($L$7:$L$500,N19)","v":1},{"$f":"O19/$Q$4","v":5.0000000000000001E-3},{"$f":"IF(P19=0,0,(P19*((LOG(P19))/LOG(2))))","v":-3.8219280948873627E-2},null,null,{"$f":"N19","v":2211},{"$f":"COUNTIF(L7:L39,T19)","v":0},{"$f":"U19/(W4-U20)","v":0},{"$f":"IF(V19=0,0,(V19*((LOG(V19))/LOG(2))))","v":0},null,{"$f":"N19","v":2211},{"$f":"COUNTIF(L40:L73,Y19)","v":0},{"$f":"Z19/(AB4-Z20)","v":0},{"$f":"IF(AA19=0,0,(AA19*((LOG(AA19))/LOG(2))))","v":0},null,{"$f":"N19","v":2211},{"$f":"COUNTIF(L74:L106,AD19)","v":0},{"$f":"AE19/(AG4-AE20)","v":0},{"$f":"IF(AF19=0,0,(AF19*((LOG(AF19))/LOG(2))))","v":0},null,{"$f":"N19","v":2211},{"$f":"COUNTIF(L107:L139,AI19)","v":0},{"$f":"AJ19/(AL4-AJ20)","v":0},{"$f":"IF(AK19=0,0,(AK19*((LOG(AK19))/LOG(2))))","v":0},null,{"$f":"N19","v":2211},{"$f":"COUNTIF(L140:L173,AN19)","v":0},{"$f":"AO19/(AQ4-AO20)","v":0},{"$f":"IF(AP19=0,0,(AP19*((LOG(AP19))/LOG(2))))","v":0},null,{"$f":"N19","v":2211},{"$f":"COUNTIF(L174:L206,AS19)","v":1},{"$f":"AT19/(AV4-AT20)","v":3.0303030303030304E-2},{"$f":"IF(AU19=0,0,(AU19*((LOG(AU19))/LOG(2))))","v":-0.15286042785934709}]
[12,1790,14,1796,13,1802,14,1810,null,null,0,1111,null,2212,{"$f":"COUNTIF($L$7:$L$500,N20)","v":0},{"$f":"O20/$Q$4","v":0},{"$f":"IF(P20=0,0,(P20*((LOG(P20))/LOG(2))))","v":0},null,null,{"$f":"N20","v":2212},{"$f":"COUNTIF(L7:L39,T20)","v":0},null,null,null,{"$f":"N20","v":2212},{"$f":"COUNTIF(L40:L73,Y20)","v":0},null,null,null,{"$f":"N20","v":2212},{"$f":"COUNTIF(L74:L106,AD20)","v":0},null,null,null,{"$f":"N20","v":2212},{"$f":"COUNTIF(L107:L139,AI20)","v":0},null,null,null,{"$f":"N20","v":2212},{"$f":"COUNTIF(L140:L173,AN20)","v":0},null,null,null,{"$f":"N20","v":2212},{"$f":"COUNTIF(L174:L206,AS20)","v":0}]
[12,1919,14,1925,13,1930,14,1936,null,null,0,1111,null,2221,{"$f":"COUNTIF($L$7:$L$500,N21)","v":1},{"$f":"O21/$Q$4","v":5.0000000000000001E-3},{"$f":"IF(P21=0,0,(P21*((LOG(P21))/LOG(2))))","v":-3.8219280948873627E-2},null,null,{"$f":"N21","v":2221},{"$f":"COUNTIF(L7:L39,T21)","v":1},{"$f":"U21/(W4-U20)","v":3.0303030303030304E-2},{"$f":"IF(V21=0,0,(V21*((LOG(V21))/LOG(2))))","v":-0.15286042785934709},null,{"$f":"N21","v":2221},{"$f":"COUNTIF(L40:L73,Y21)","v":0},{"$f":"Z21/(AB4-Z20)","v":0},{"$f":"IF(AA21=0,0,(AA21*((LOG(AA21))/LOG(2))))","v":0},null,{"$f":"N21","v":2221},{"$f":"COUNTIF(L74:L106,AD21)","v":0},{"$f":"AE21/(AG4-AE20)","v":0},{"$f":"IF(AF21=0,0,(AF21*((LOG(AF21))/LOG(2))))","v":0},null,{"$f":"N21","v":2221},{"$f":"COUNTIF(L107:L139,AI21)","v":0},{"$f":"AJ21/(AL4-AJ20)","v":0},{"$f":"IF(AK21=0,0,(AK21*((LOG(AK21))/LOG(2))))","v":0},null,{"$f":"N21","v":2221},{"$f":"COUNTIF(L140:L173,AN21)","v":0},{"$f":"AO21/(AQ4-AO20)","v":0},{"$f":"IF(AP21=0,0,(AP21*((LOG(AP21))/LOG(2))))","v":0},null,{"$f":"N21","v":2221},{"$f":"COUNTIF(L174:L206,AS21)","v":0},{"$f":"AT21/(AV4-AT20)","v":0},{"$f":"IF(AU21=0,0,(AU21*((LOG(AU21))/LOG(2))))","v":0}]
[12,2042,14,2049,13,2053,14,2058,null,null,0,1111,null,2222,{"$f":"COUNTIF($L$7:$L$500,N22)","v":0},{"$f":"O22/$Q$4","v":0},{"$f":"IF(P22=0,0,(P22*((LOG(P22))/LOG(2))))","v":0},null,null,{"$f":"N22","v":2222},{"$f":"COUNTIF(L7:L39,T22)","v":0},{"$f":"U22/(W4-U20)","v":0},{"$f":"IF(V22=0,0,(V22*((LOG(V22))/LOG(2))))","v":0},null,{"$f":"N22","v":2222},{"$f":"COUNTIF(L40:L73,Y22)","v":0},{"$f":"Z22/(AB4-Z20)","v":0},{"$f":"IF(AA22=0,0,(AA22*((LOG(AA22))/LOG(2))))","v":0},null,{"$f":"N22","v":2222},{"$f":"COUNTIF(L74:L106,AD22)","v":0},{"$f":"AE22/(AG4-AE20)","v":0},{"$f":"IF(AF22=0,0,(AF22*((LOG(AF22))/LOG(2))))","v":0},null,{"$f":"N22","v":2222},{"$f":"COUNTIF(L107:L139,AI22)","v":0},{"$f":"AJ22/(AL4-AJ20)","v":0},{"$f":"IF(AK22=0,0,(AK22*((LOG(AK22))/LOG(2))))","v":0},null,{"$f":"N22","v":2222},{"$f":"COUNTIF(L140:L173,AN22)","v":0},{"$f":"AO22/(AQ4-AO20)","v":0},{"$f":"IF(AP22=0,0,(AP22*((LOG(AP22))/LOG(2))))","v":0},null,{"$f":"N22","v":2222},{"$f":"COUNTIF(L174:L206,AS22)","v":0},{"$f":"AT22/(AV4-AT20)","v":0},{"$f":"IF(AU22=0,0,(AU22*((LOG(AU22))/LOG(2))))","v":0}]
[12,2163,14,2173,13,2179,14,2203,null,null,0,1111,null,null,null,{"$f":"SUM(P7:P22)","v":1},{"$f":"-SUM(Q7:Q22)","v":0.21670913386885426},null,null,null,null,{"$f":"SUM(V7:V22)","v":1},{"$f":"-SUM(W7:W22)","v":0.39045213081320695},null,null,null,{"$f":"SUM(AA7:AA22)","v":1},{"$f":"-SUM(AB7:AB22)","v":0},null,null,null,{"$f":"SUM(AF7:AF22)","v":1},{"$f":"-SUM(AG7:AG22)","v":0.19590927087360493},null,null,null,{"$f":"SUM(AK7:AK22)","v":1},{"$f":"-SUM(AL7:AL22)","v":0},null,null,null,{"$f":"SUM(AP7:AP22)","v":1},{"$f":"-SUM(AQ7:AQ22)","v":0.19143325481419343},null,null,null,{"$f":"SUM(AU7:AU22)","v":1},{"$f":"-SUM(AV7:AV22)","v":0.19590927087360493}]
[12,2310,14,2315,13,2321,14,2326,null,null,0,1111,null,null,null,"U=",{"$f":"Q23/(LOG(Q4)/LOG(2))","v":2.8350760203828609E-2},null,null,null,null,"U1=",{"$f":"W23/(LOG(W4)/LOG(2))","v":7.7403176987063949E-2},null,null,null,"U2=",{"$f":"AB23/(LOG(AB4)/LOG(2))","v":0},null,null,null,"U3=",{"$f":"AG23/(LOG(AG4)/LOG(2))","v":3.8837027051827726E-2},null,null,null,"U4=",{"$f":"AL23/(LOG(AL4)/LOG(2))","v":0},null,null,null,"U5=",{"$f":"AQ23/(LOG(AQ4)/LOG(2))","v":3.7628433029919708E-2},null,null,null,"U6=",{"$f":"AV23/(LOG(AV4)/LOG(2))","v":3.8837027051827726E-2}]
[12,2433,14,2445,13,2455,14,2460,null,null,0,1111]
[12,2568,14,2574,13,2583,14,2598,null,null,0,1111]
[12,2708,14,2713,13,2720,14,2725,null,null,0,1111,null,"Total Target Seq"]
[12,2826,14,2831,13,2840,14,2855,null,null,0,1111,null,{"$f":"COUNTIF(L7:L206,G3)","v":0},null,33,34,33,33,34,33]
[12,2948,14,2954,13,2972,14,2980,null,null,0,1111,null,null,null,"% of reinforcement given in 6 equal intervals based on number of trials "]
[12,3090,14,3097,13,3103,14,3108,null,null,0,1111,null,null,null,"%_1","%_2","%_3","%_4","%_5","%_6"]
[12,3212,14,3217,13,3225,14,3234,null,null,0,1111,null,null,"target sequence",{"$f":"$G$3","v":2212},{"$f":"$G$3","v":2212},{"$f":"$G$3","v":2212},{"$f":"$G$3","v":2212},{"$f":"$G$3","v":2212},{"$f":"$G$3","v":2212}]
[12,3330,14,3335,13,3344,14,3360,null,null,0,1111,null,null,"total reinforcement",{"$f":"U20","v":0},{"$f":"Z20","v":0},{"$f":"AE20","v":0},{"$f":"AJ20","v":0},{"$f":"AO20","v":0},{"$f":"AT20","v":0}]
[12,3463,14,3469,13,3475,14,3481,null,null,0,1111,null,null,"% target"]
[12,3574,14,3581,13,3586,14,3590,null,null,0,1111,null,null,"CCRF"]
[12,3696,14,3702,13,3708,14,3727,null,null,0,1111,null,null,"% CCRf"]
[12,3837,14,3842,13,3847,14,3854,null,null,0,1111,null,null,"average response rate",{"$f":"H39/P28","v":127.72727272727273},{"$f":"(H73-H39)/Q28","v":120.5},{"$f":"(H106-H73)/R28","v":116.6969696969697},{"$f":"(H139-H106)/S28","v":117.15151515151516},{"$f":"(H173-H139)/T28","v":115.91176470588235},{"$f":"(H206-H173)/U28","v":120.18181818181819}]
[12,3960,14,3966,13,3972,14,3977,null,null,0,1111]
[12,4076,14,4082,13,4087,14,4096,null,null,0,1111]
[12,4196,14,4203,13,4208,14,4215,null,null,0,1111]
[12,4314,14,4320,13,4327,14,4350,null,null,0,1111]
[12,4454,14,4461,13,4466,14,4474,null,null,0,1111]
[12,4573,14,4579,13,4584,14,4592,null,null,0,1111]
[12,4697,14,4703,13,4708,14,4716,null,null,0,1111]
[12,4810,14,4815,13,4824,14,4831,null,null,0,1111]
[12,4929,14,4934,13,4940,14,4947,null,null,0,1111]
[12,5046,14,5053,13,5059,14,5064,null,null,0,1111]
[12,5161,14,5168,13,5174,14,5179,null,null,0,1111]
[12,5277,14,5284,13,5289,14,5297,null,null,0,1111]
[12,5395,14,5403,13,5408,14,5416,null,null,0,1111]
[12,5507,14,5514,13,5519,14,5524,null,null,0,1111]
[12,5630,14,5636,13,5642,14,5658,null,null,0,1111]
[12,5758,14,5763,13,5768,14,5773,null,null,0,1111]
[12,5870,14,5875,13,5881,14,5897,null,null,0,1111]
[12,6005,14,6011,13,6016,14,6021,null,null,0,1111]
[12,6121,14,6127,13,6132,14,6148,null,null,0,1111]
[12,6238,14,6248,13,6254,14,6259,null,null,0,1111]
[12,6355,14,6360,13,6365,14,6371,null,null,0,1111]
[12,6477,14,6482,13,6486,14,6492,null,null,0,1111]
[12,6590,14,6599,13,6616,14,6624,null,null,0,1111]
[12,6720,14,6726,13,6730,14,6748,null,null,0,1111]
[12,6846,14,6850,13,6861,14,6866,null,null,0,1111]
[12,6965,14,6971,13,6976,14,6983,null,null,0,1111]
[12,7078,14,7087,13,7092,14,7099,null,null,0,1111]
[12,7220,14,7227,13,7235,14,7243,null,null,0,1111]
[12,7349,14,7354,13,7359,14,7364,null,null,0,1111]
[12,7462,14,7467,13,7472,14,7477,null,null,0,1111]
[12,7575,14,7581,13,7586,14,7595,null,null,0,1111]
[12,7692,14,7697,13,7702,14,7709,null,null,0,1111]
[12,7809,14,7814,13,7819,14,7824,null,null,0,1111]
[12,7924,14,7931,13,7936,14,7945,null,null,0,1111]
[12,8042,14,8048,13,8058,14,8066,null,null,0,1111]
[12,8162,14,8168,13,8172,14,8180,null,null,0,1111]
[12,8287,14,8297,13,8305,14,8312,null,null,0,1111]
[12,8417,14,8423,13,8431,14,8440,null,null,0,1111]
[12,8535,14,8537,13,8541,14,8549,null,null,0,1111]
[12,8645,14,8653,13,8659,14,8665,null,null,0,1111]
[12,8762,14,8767,13,8772,14,8785,null,null,0,1111]
[12,8882,14,8887,13,8896,14,8903,null,null,0,1111]
[12,9013,14,9018,13,9023,14,9032,null,null,0,1111]
[12,9130,14,9134,13,9140,14,9146,null,null,0,1111]
[12,9244,14,9249,13,9254,14,9259,null,null,0,1111]
[12,9352,14,9360,13,9365,14,9371,null,null,0,1111]
[12,9465,14,9470,13,9475,14,9480,null,null,0,1111]
[12,9582,14,9587,13,9595,14,9608,null,null,0,1111]
[12,9703,14,9709,13,9714,14,9719,null,null,0,1111]
[12,9811,14,9816,13,9822,14,9826,null,null,0,1111]
[12,9925,14,9931,13,9935,14,9944,null,null,0,1111]
[12,10041,14,10046,13,10051,14,10056,null,null,0,1111]
[12,10156,14,10164,13,10169,14,10174,null,null,0,1111]
[12,10270,14,10276,13,10280,14,10294,null,null,0,1111]
[12,10392,14,10398,13,10404,14,10413,null,null,0,1111]
[12,10509,14,10517,13,10522,14,10529,null,null,0,1111]
[12,10626,14,10631,13,10636,14,10641,null,null,0,1111]
[12,10739,14,10745,13,10750,14,10755,null,null,0,1111]
[12,10856,14,10862,13,10867,14,10879,null,null,0,1111]
[12,10974,14,10980,13,10984,14,10989,null,null,0,1111]
[12,11084,14,11089,13,11093,14,11099,null,null,0,1111]
[12,11197,14,11202,13,11208,14,11213,null,null,0,1111]
[12,11308,14,11315,13,11322,14,11332,null,null,0,1111]
[12,11425,14,11430,13,11436,14,11440,null,null,0,1111]
[12,11546,14,11553,13,11559,14,11564,null,null,0,1111]
[12,11656,14,11663,13,11669,14,11678,null,null,0,1111]
[12,11772,14,11778,13,11783,14,11788,null,null,0,1111]
[12,11882,14,11888,13,11892,14,11897,null,null,0,1111]
[12,11992,14,11998,13,12002,14,12023,null,null,0,1111]
[12,12142,14,12147,24,12156,23,12163,null,null,0,1122]
[12,12267,14,12272,13,12278,14,12284,null,null,0,1111]
[12,12386,14,12392,13,12398,14,12403,null,null,0,1111]
[12,12499,14,12504,13,12509,14,12514,null,null,0,1111]
[12,12611,14,12616,13,12621,14,12626,null,null,0,1111]
[12,12721,14,12726,13,12731,14,12735,null,null,0,1111]
[12,12833,14,12838,13,12847,14,12854,null,null,0,1111]
[12,12950,14,12959,13,12964,14,12972,null,null,0,1111]
[12,13070,14,13075,13,13081,14,13090,null,null,0,1111]
[12,13186,14,13191,13,13196,14,13201,null,null,0,1111]
[12,13299,14,13313,13,13351,14,13360,null,null,0,1111]
[12,13458,14,13464,13,13470,14,13475,null,null,0,1111]
[12,13582,14,13587,13,13595,14,13603,null,null,0,1111]
[12,13700,14,13706,13,13711,14,13716,null,null,0,1111]
[12,13813,14,13818,13,13824,14,13829,null,null,0,1111]
[12,13930,14,13936,13,13942,14,13948,null,null,0,1111]
[12,14046,14,14051,13,14056,14,14064,null,null,0,1111]
[12,14160,14,14168,13,14174,14,14180,null,null,0,1111]
[12,14278,14,14283,13,14289,14,14295,null,null,0,1111]
[12,14392,14,14398,13,14404,14,14413,null,null,0,1111]
[12,14508,14,14513,13,14518,14,14527,null,null,0,1111]
[12,14623,14,14628,13,14636,14,14641,null,null,0,1111]
[12,14732,14,14738,13,14743,14,14751,null,null,0,1111]
[12,14855,14,14861,13,14867,14,14873,null,null,0,1111]
[12,14973,14,14978,13,14984,14,14993,null,null,0,1111]
[12,15091,14,15098,13,15106,14,15116,null,null,0,1111]
[12,15214,14,15219,13,15225,14,15229,null,null,0,1111]
[12,15327,14,15332,13,15337,14,15345,null,null,0,1111]
[12,15441,14,15448,13,15453,14,15461,null,null,0,1111]
[12,15554,14,15559,13,15566,14,15571,null,null,0,1111]
[12,15666,14,15671,13,15676,14,15680,null,null,0,1111]
[12,15779,14,15784,13,15790,14,15795,null,null,0,1111]
[12,15890,14,15896,13,15903,14,15912,null,null,0,1111]
[12,16008,14,16014,13,16022,14,16029,null,null,0,1111]
[12,16131,14,16136,13,16141,14,16148,null,null,0,1111]
[12,16243,14,16249,13,16253,14,16258,null,null,0,1111]
[12,16362,14,16369,13,16374,14,16383,null,null,0,1111]
[12,16479,14,16486,13,16491,14,16496,null,null,0,1111]
[12,16588,14,16594,13,16599,14,16609,null,null,0,1111]
[12,16708,14,16713,13,16718,14,16723,null,null,0,1111]
[12,16818,14,16824,13,16830,14,16835,null,null,0,1111]
[12,16929,14,16934,13,16939,14,16944,null,null,0,1111]
[12,17035,14,17040,13,17048,14,17053,null,null,0,1111]
[12,17145,14,17151,13,17156,14,17161,null,null,0,1111]
[12,17256,14,17262,13,17269,14,17277,null,null,0,1111]
[12,17372,14,17377,13,17383,14,17388,null,null,0,1111]
[12,17479,14,17484,13,17491,14,17499,null,null,0,1111]
[12,17595,14,17600,13,17605,14,17612,null,null,0,1111]
[12,17713,14,17723,13,17728,14,17736,null,null,0,1111]
[12,17832,14,17839,13,17844,14,17852,null,null,0,1111]
[12,17965,14,17970,13,17977,14,17985,null,null,0,1111]
[12,18092,14,18099,24,18111,23,18119,null,null,0,1122]
[12,18224,14,18230,13,18236,14,18253,null,null,0,1111]
[12,18355,14,18361,13,18367,14,18373,null,null,0,1111]
[12,18467,14,18472,13,18477,14,18482,null,null,0,1111]
[12,18577,14,18582,13,18587,14,18595,null,null,0,1111]
[12,18693,14,18697,13,18703,14,18711,null,null,0,1111]
[12,18803,14,18810,13,18818,14,18826,null,null,0,1111]
[12,18921,14,18931,13,18940,14,18948,null,null,0,1111]
[12,19043,14,19048,13,19052,14,19056,null,null,0,1111]
[12,19151,14,19157,13,19162,14,19170,null,null,0,1111]
[12,19268,14,19274,13,19280,14,19287,null,null,0,1111]
[12,19381,14,19386,13,19391,14,19399,null,null,0,1111]
[12,19495,14,19508,13,19515,14,19522,null,null,0,1111]
[12,19613,14,19619,13,19624,14,19634,null,null,0,1111]
[12,19726,14,19731,13,19736,14,19745,null,null,0,1111]
[12,19838,14,19843,13,19848,14,19853,null,null,0,1111]
[12,19954,14,19960,13,19965,14,19970,null,null,0,1111]
[12,20064,14,20069,13,20078,14,20085,null,null,0,1111]
[12,20185,14,20193,13,20199,14,20207,null,null,0,1111]
[12,20303,14,20309,13,20317,14,20328,null,null,0,1111]
[12,20425,14,20430,13,20436,14,20444,null,null,0,1111]
[12,20534,14,20543,13,20548,14,20553,null,null,0,1111]
[12,20652,14,20659,13,20664,14,20671,null,null,0,1111]
[12,20766,14,20771,13,20775,14,20782,null,null,0,1111]
[12,20878,14,20879,13,20891,14,20907,null,null,0,1111]
[12,21002,14,21008,13,21018,14,21025,null,null,0,1111]
[12,21121,14,21126,13,21134,14,21140,null,null,0,1111]
[12,21233,14,21239,13,21244,14,21253,null,null,0,1111]
[12,21348,14,21354,13,21358,14,21363,null,null,0,1111]
[12,21457,14,21463,13,21468,14,21476,null,null,0,1111]
[12,21574,14,21579,13,21584,14,21589,null,null,0,1111]
[12,21683,14,21688,13,21693,14,21698,null,null,0,1111]
[21,21907,21,21917,11,21937,12,21945,null,null,0,2211]
[12,22044,14,22049,13,22054,14,22063,null,null,0,1111]
[12,22157,14,22162,13,22167,14,22176,null,null,0,1111]
[12,22272,14,22278,13,22284,14,22292,null,null,0,1111]
[12,22396,14,22402,13,22407,14,22414,null,null,0,1111]
[12,22508,14,22513,13,22518,14,22526,null,null,0,1111]
[12,22625,14,22630,13,22635,14,22640,null,null,0,1111]
[12,22734,14,22740,13,22744,14,22749,null,null,0,1111]
[12,22845,14,22851,13,22859,14,22864,null,null,0,1111]
[12,22960,14,22966,13,22972,14,22979,null,null,0,1111]
[12,23080,14,23088,13,23096,14,23112,null,null,0,1111]
[12,23208,14,23213,13,23219,14,23224,null,null,0,1111]
[12,23321,14,23328,13,23333,14,23339,null,null,0,1111]
[12,23433,14,23439,13,23464,14,23473,null,null,0,1111]
[12,23567,14,23585,13,23589,14,23596,null,null,0,1111]
[12,23694,14,23699,13,23704,14,23709,null,null,0,1111]
[12,23807,14,23811,13,23816,14,23820,null,null,0,1111]
[12,23918,14,23924,13,23929,14,23936,null,null,null,1111]

{"sheet":"!L915A50.056","index":18,"n_rows":200,"n_cols":48,"rows_kept":200,"cut":false,"hidden":false,"merged":[[4,39,4,42],[5,39,5,40],[4,44,4,47],[5,44,5,45],[4,24,4,27],[5,24,5,25],[4,29,4,32],[5,29,5,30],[4,34,4,37],[5,34,5,35],[1,1,1,2],[5,13,5,14],[26,13,26,14],[27,13,27,14],[4,19,4,22],[5,19,5,20]]}
["Report for:!L915A50.056"]
["Date:","<date>"]
["Hen:","<hen>",null,null,null,"Correct Sequence",{"$f":"Start!J2","v":2212},null,null,null,null,null,null,null,null,"Total Sequences in Data",{"$f":"4994-COUNTBLANK(L7:L5000)","v":194},null,null,null,null,"Total Sequences in Block Data",{"$f":"COUNTA(L7:L38)","v":32},null,null,null,"Total Sequences in Block Data",{"$f":"COUNTA(L39:L71)","v":33},null,null,null,"Total Sequences in Block Data",{"$f":"COUNTA(L72:L103)","v":32},null,null,null,"Total Sequences in Block Data",{"$f":"COUNTA(L104:L135)","v":32},null,null,null,"Total Sequences in Block Data",{"$f":"COUNTA(L136:L168)","v":33},null,null,null,"Total Sequences in Block Data",{"$f":"COUNTA(L169:L200)","v":32}]
[null,null,null,null,null,null,null,null,null,null,null,null,null,null,null,"Total Sequences in Summary",{"$f":"SUM(O7:O22)","v":193},null,null,null,null,"Total Sequences in Block Summary",{"$f":"SUM(U7:U22)","v":32},null,null,null,"Total Sequences in Block Summary",{"$f":"SUM(Z7:Z22)","v":33},null,null,null,"Total Sequences in Block Summary",{"$f":"SUM(AE7:AE22)","v":32},null,null,null,"Total Sequences in Block Summary",{"$f":"SUM(AJ7:AJ22)","v":32},null,null,null,"Total Sequences in Block Summary",{"$f":"SUM(AO7:AO22)","v":33},null,null,null,"Total Sequences in Block Summary",{"$f":"SUM(AT7:AT22)","v":31}]
[null,null,null,null,null,null,null,null,null,null,null,null,null,null,null,null,null,null,null,"Block 1",null,null,null,null,"Block 2",null,null,null,null,"Block 3",null,null,null,null,"Block 4",null,null,null,null,"Block 5",null,null,null,null,"Block 6"]
["Sequence\nComponent\n1","Time\n1","Sequence\nComponent\n2","Time\n2","Sequence\nComponent\n3","Time\n3","Sequence\nComponent\n4","Time\n4","Sequence\nComponent\n5","Time\n5","Correct?\n0=No 1=Yes","Sequence",null,"Frequency",null,"Relative Frequency","Variability",null,null,"Frequency",null,"Relative Frequency","Variability",null,"Frequency",null,"Relative Frequency","Variability",null,"Frequency",null,"Relative Frequency","Variability",null,"Frequency",null,"Relative Frequency","Variability",null,"Frequency",null,"Relative Frequency","Variability",null,"Frequency",null,"Relative Frequency","Variability"]
[12,23,14,30,24,42,14,66,null,null,0,1121,null,1111,{"$f":"COUNTIF($L$7:$L$500,N7)","v":177},{"$f":"O7/$Q$4","v":0.91709844559585496},{"$f":"IF(P7=0,0,(P7*((LOG(P7))/LOG(2))))","v":-0.11450110482777036},null,null,{"$f":"N7","v":1111},{"$f":"COUNTIF(L7:L38,T7)","v":28},{"$f":"U7/(W4-U20)","v":0.875},{"$f":"IF(V7=0,0,(V7*((LOG(V7))/LOG(2))))","v":-0.1685644431995964},null,{"$f":"N7","v":1111},{"$f":"COUNTIF(L39:L71,Y7)","v":30},{"$f":"Z7/(AB4-Z20)","v":0.90909090909090906},{"$f":"IF(AA7=0,0,(AA7*((LOG(AA7))/LOG(2))))","v":-0.12500320340903179},null,{"$f":"N7","v":1111},{"$f":"COUNTIF(L72:L103,AD7)","v":31},{"$f":"AE7/(AG4-AE20)","v":0.96875},{"$f":"IF(AF7=0,0,(AF7*((LOG(AF7))/LOG(2))))","v":-4.4372324312714644E-2},null,{"$f":"N7","v":1111},{"$f":"COUNTIF(L104:L135,AI7)","v":31},{"$f":"AJ7/(AL4-AJ20)","v":0.96875},{"$f":"IF(AK7=0,0,(AK7*((LOG(AK7))/LOG(2))))","v":-4.4372324312714644E-2},null,{"$f":"N7","v":1111},{"$f":"COUNTIF(L136:L168,AN7)","v":28},{"$f":"AO7/(AQ4-AO20)","v":0.84848484848484851},{"$f":"IF(AP7=0,0,(AP7*((LOG(AP7))/LOG(2))))","v":-0.20112416740678121},null,{"$f":"N7","v":1111},{"$f":"COUNTIF(L169:L200,AS7)","v":29},{"$f":"AT7/(AV4-AT20)","v":0.93548387096774188},{"$f":"IF(AU7=0,0,(AU7*((LOG(AU7))/LOG(2))))","v":-9.0007875565154577E-2}]
[12,195,23,217,13,235,23,250,null,null,0,1212,null,1112,{"$f":"COUNTIF($L$7:$L$500,N8)","v":8},{"$f":"O8/$Q$4","v":4.145077720207254E-2},{"$f":"IF(P8=0,0,(P8*((LOG(P8))/LOG(2))))","v":-0.19036091346188933},null,null,{"$f":"N8","v":1112},{"$f":"COUNTIF(L7:L38,T8)","v":1},{"$f":"U8/(W4-U20)","v":3.125E-2},{"$f":"IF(V8=0,0,(V8*((LOG(V8))/LOG(2))))","v":-0.15625},null,{"$f":"N8","v":1112},{"$f":"COUNTIF(L39:L71,Y8)","v":2},{"$f":"Z8/(AB4-Z20)","v":6.0606060606060608E-2},{"$f":"IF(AA8=0,0,(AA8*((LOG(AA8))/LOG(2))))","v":-0.24511479511263354},null,{"$f":"N8","v":1112},{"$f":"COUNTIF(L72:L103,AD8)","v":0},{"$f":"AE8/(AG4-AE20)","v":0},{"$f":"IF(AF8=0,0,(AF8*((LOG(AF8))/LOG(2))))","v":0},null,{"$f":"N8","v":1112},{"$f":"COUNTIF(L104:L135,AI8)","v":0},{"$f":"AJ8/(AL4-AJ20)","v":0},{"$f":"IF(AK8=0,0,(AK8*((LOG(AK8))/LOG(2))))","v":0},null,{"$f":"N8","v":1112},{"$f":"COUNTIF(L136:L168,AN8)","v":3},{"$f":"AO8/(AQ4-AO20)","v":9.0909090909090912E-2},{"$f":"IF(AP8=0,0,(AP8*((LOG(AP8))/LOG(2))))","v":-0.31449378351248153},null,{"$f":"N8","v":1112},{"$f":"COUNTIF(L169:L200,AS8)","v":2},{"$f":"AT8/(AV4-AT20)","v":6.4516129032258063E-2},{"$f":"IF(AU8=0,0,(AU8*((LOG(AU8))/LOG(2))))","v":-0.25510943937979835}]
[12,355,14,362,13,367,14,384,null,null,0,1111,null,1121,{"$f":"COUNTIF($L$7:$L$500,N9)","v":3},{"$f":"O9/$Q$4","v":1.5544041450777202E-2},{"$f":"IF(P9=0,0,(P9*((LOG(P9))/LOG(2))))","v":-9.3380744091402956E-2},null,null,{"$f":"N9","v":1121},{"$f":"COUNTIF(L7:L38,T9)","v":2},{"$f":"U9/(W4-U20)","v":6.25E-2},{"$f":"IF(V9=0,0,(V9*((LOG(V9))/LOG(2))))","v":-0.25},null,{"$f":"N9","v":1121},{"$f":"COUNTIF(L39:L71,Y9)","v":0},{"$f":"Z9/(AB4-Z20)","v":0},{"$f":"IF(AA9=0,0,(AA9*((LOG(AA9))/LOG(2))))","v":0},null,{"$f":"N9","v":1121},{"$f":"COUNTIF(L72:L103,AD9)","v":1},{"$f":"AE9/(AG4-AE20)","v":3.125E-2},{"$f":"IF(AF9=0,0,(AF9*((LOG(AF9))/LOG(2))))","v":-0.15625},null,{"$f":"N9","v":1121},{"$f":"COUNTIF(L104:L135,AI9)","v":0},{"$f":"AJ9/(AL4-AJ20)","v":0},{"$f":"IF(AK9=0,0,(AK9*((LOG(AK9))/LOG(2))))","v":0},null,{"$f":"N9","v":1121},{"$f":"COUNTIF(L136:L168,AN9)","v":0},{"$f":"AO9/(AQ4-AO20)","v":0},{"$f":"IF(AP9=0,0,(AP9*((LOG(AP9))/LOG(2))))","v":0},null,{"$f":"N9","v":1121},{"$f":"COUNTIF(L169:L200,AS9)","v":0},{"$f":"AT9/(AV4-AT20)","v":0},{"$f":"IF(AU9=0,0,(AU9*((LOG(AU9))/LOG(2))))","v":0}]
[12,489,14,495,13,500,14,509,null,null,0,1111,null,1122,{"$f":"COUNTIF($L$7:$L$500,N10)","v":4},{"$f":"O10/$Q$4","v":2.072538860103627E-2},{"$f":"IF(P10=0,0,(P10*((LOG(P10))/LOG(2))))","v":-0.11590584533198095},null,null,{"$f":"N10","v":1122},{"$f":"COUNTIF(L7:L38,T10)","v":0},{"$f":"U10/(W4-U20)","v":0},{"$f":"IF(V10=0,0,(V10*((LOG(V10))/LOG(2))))","v":0},null,{"$f":"N10","v":1122},{"$f":"COUNTIF(L39:L71,Y10)","v":1},{"$f":"Z10/(AB4-Z20)","v":3.0303030303030304E-2},{"$f":"IF(AA10=0,0,(AA10*((LOG(AA10))/LOG(2))))","v":-0.15286042785934709},null,{"$f":"N10","v":1122},{"$f":"COUNTIF(L72:L103,AD10)","v":0},{"$f":"AE10/(AG4-AE20)","v":0},{"$f":"IF(AF10=0,0,(AF10*((LOG(AF10))/LOG(2))))","v":0},null,{"$f":"N10","v":1122},{"$f":"COUNTIF(L104:L135,AI10)","v":1},{"$f":"AJ10/(AL4-AJ20)","v":3.125E-2},{"$f":"IF(AK10=0,0,(AK10*((LOG(AK10))/LOG(2))))","v":-0.15625},null,{"$f":"N10","v":1122},{"$f":"COUNTIF(L136:L168,AN10)","v":2},{"$f":"AO10/(AQ4-AO20)","v":6.0606060606060608E-2},{"$f":"IF(AP10=0,0,(AP10*((LOG(AP10))/LOG(2))))","v":-0.24511479511263354},null,{"$f":"N10","v":1122},{"$f":"COUNTIF(L169:L200,AS10)","v":0},{"$f":"AT10/(AV4-AT20)","v":0},{"$f":"IF(AU10=0,0,(AU10*((LOG(AU10))/LOG(2))))","v":0}]
[12,602,14,608,13,614,23,627,null,null,0,1112,null,1211,{"$f":"COUNTIF($L$7:$L$500,N11)","v":0},{"$f":"O11/$Q$4","v":0},{"$f":"IF(P11=0,0,(P11*((LOG(P11))/LOG(2))))","v":0},null,null,{"$f":"N11","v":1211},{"$f":"COUNTIF(L7:L38,T11)","v":0},{"$f":"U11/(W4-U20)","v":0},{"$f":"IF(V11=0,0,(V11*((LOG(V11))/LOG(2))))","v":0},null,{"$f":"N11","v":1211},{"$f":"COUNTIF(L39:L71,Y11)","v":0},{"$f":"Z11/(AB4-Z20)","v":0},{"$f":"IF(AA11=0,0,(AA11*((LOG(AA11))/LOG(2))))","v":0},null,{"$f":"N11","v":1211},{"$f":"COUNTIF(L72:L103,AD11)","v":0},{"$f":"AE11/(AG4-AE20)","v":0},{"$f":"IF(AF11=0,0,(AF11*((LOG(AF11))/LOG(2))))","v":0},null,{"$f":"N11","v":1211},{"$f":"COUNTIF(L104:L135,AI11)","v":0},{"$f":"AJ11/(AL4-AJ20)","v":0},{"$f":"IF(AK11=0,0,(AK11*((LOG(AK11))/LOG(2))))","v":0},null,{"$f":"N11","v":1211},{"$f":"COUNTIF(L136:L168,AN11)","v":0},{"$f":"AO11/(AQ4-AO20)","v":0},{"$f":"IF(AP11=0,0,(AP11*((LOG(AP11))/LOG(2))))","v":0},null,{"$f":"N11","v":1211},{"$f":"COUNTIF(L169:L200,AS11)","v":0},{"$f":"AT11/(AV4-AT20)","v":0},{"$f":"IF(AU11=0,0,(AU11*((LOG(AU11))/LOG(2))))","v":0}]
[12,732,14,742,24,790,14,807,null,null,0,1121,null,1212,{"$f":"COUNTIF($L$7:$L$500,N12)","v":1},{"$f":"O12/$Q$4","v":5.1813471502590676E-3},{"$f":"IF(P12=0,0,(P12*((LOG(P12))/LOG(2))))","v":-3.9339155633513374E-2},null,null,{"$f":"N12","v":1212},{"$f":"COUNTIF(L7:L38,T12)","v":1},{"$f":"U12/(W4-U20)","v":3.125E-2},{"$f":"IF(V12=0,0,(V12*((LOG(V12))/LOG(2))))","v":-0.15625},null,{"$f":"N12","v":1212},{"$f":"COUNTIF(L39:L71,Y12)","v":0},{"$f":"Z12/(AB4-Z20)","v":0},{"$f":"IF(AA12=0,0,(AA12*((LOG(AA12))/LOG(2))))","v":0},null,{"$f":"N12","v":1212},{"$f":"COUNTIF(L72:L103,AD12)","v":0},{"$f":"AE12/(AG4-AE20)","v":0},{"$f":"IF(AF12=0,0,(AF12*((LOG(AF12))/LOG(2))))","v":0},null,{"$f":"N12","v":1212},{"$f":"COUNTIF(L104:L135,AI12)","v":0},{"$f":"AJ12/(AL4-AJ20)","v":0},{"$f":"IF(AK12=0,0,(AK12*((LOG(AK12))/LOG(2))))","v":0},null,{"$f":"N12","v":1212},{"$f":"COUNTIF(L136:L168,AN12)","v":0},{"$f":"AO12/(AQ4-AO20)","v":0},{"$f":"IF(AP12=0,0,(AP12*((LOG(AP12))/LOG(2))))","v":0},null,{"$f":"N12","v":1212},{"$f":"COUNTIF(L169:L200,AS12)","v":0},{"$f":"AT12/(AV4-AT20)","v":0},{"$f":"IF(AU12=0,0,(AU12*((LOG(AU12))/LOG(2))))","v":0}]
[12,911,14,917,13,922,14,931,null,null,0,1111,null,1221,{"$f":"COUNTIF($L$7:$L$500,N13)","v":0},{"$f":"O13/$Q$4","v":0},{"$f":"IF(P13=0,0,(P13*((LOG(P13))/LOG(2))))","v":0},null,null,{"$f":"N13","v":1221},{"$f":"COUNTIF(L7:L38,T13)","v":0},{"$f":"U13/(W4-U20)","v":0},{"$f":"IF(V13=0,0,(V13*((LOG(V13))/LOG(2))))","v":0},null,{"$f":"N13","v":1221},{"$f":"COUNTIF(L39:L71,Y13)","v":0},{"$f":"Z13/(AB4-Z20)","v":0},{"$f":"IF(AA13=0,0,(AA13*((LOG(AA13))/LOG(2))))","v":0},null,{"$f":"N13","v":1221},{"$f":"COUNTIF(L72:L103,AD13)","v":0},{"$f":"AE13/(AG4-AE20)","v":0},{"$f":"IF(AF13=0,0,(AF13*((LOG(AF13))/LOG(2))))","v":0},null,{"$f":"N13","v":1221},{"$f":"COUNTIF(L104:L135,AI13)","v":0},{"$f":"AJ13/(AL4-AJ20)","v":0},{"$f":"IF(AK13=0,0,(AK13*((LOG(AK13))/LOG(2))))","v":0},null,{"$f":"N13","v":1221},{"$f":"COUNTIF(L136:L168,AN13)","v":0},{"$f":"AO13/(AQ4-AO20)","v":0},{"$f":"IF(AP13=0,0,(AP13*((LOG(AP13))/LOG(2))))","v":0},null,{"$f":"N13","v":1221},{"$f":"COUNTIF(L169:L200,AS13)","v":0},{"$f":"AT13/(AV4-AT20)","v":0},{"$f":"IF(AU13=0,0,(AU13*((LOG(AU13))/LOG(2))))","v":0}]
[12,1037,14,1045,13,1054,14,1065,null,null,0,1111,null,1222,{"$f":"COUNTIF($L$7:$L$500,N14)","v":0},{"$f":"O14/$Q$4","v":0},{"$f":"IF(P14=0,0,(P14*((LOG(P14))/LOG(2))))","v":0},null,null,{"$f":"N14","v":1222},{"$f":"COUNTIF(L7:L38,T14)","v":0},{"$f":"U14/(W4-U20)","v":0},{"$f":"IF(V14=0,0,(V14*((LOG(V14))/LOG(2))))","v":0},null,{"$f":"N14","v":1222},{"$f":"COUNTIF(L39:L71,Y14)","v":0},{"$f":"Z14/(AB4-Z20)","v":0},{"$f":"IF(AA14=0,0,(AA14*((LOG(AA14))/LOG(2))))","v":0},null,{"$f":"N14","v":1222},{"$f":"COUNTIF(L72:L103,AD14)","v":0},{"$f":"AE14/(AG4-AE20)","v":0},{"$f":"IF(AF14=0,0,(AF14*((LOG(AF14))/LOG(2))))","v":0},null,{"$f":"N14","v":1222},{"$f":"COUNTIF(L104:L135,AI14)","v":0},{"$f":"AJ14/(AL4-AJ20)","v":0},{"$f":"IF(AK14=0,0,(AK14*((LOG(AK14))/LOG(2))))","v":0},null,{"$f":"N14","v":1222},{"$f":"COUNTIF(L136:L168,AN14)","v":0},{"$f":"AO14/(AQ4-AO20)","v":0},{"$f":"IF(AP14=0,0,(AP14*((LOG(AP14))/LOG(2))))","v":0},null,{"$f":"N14","v":1222},{"$f":"COUNTIF(L169:L200,AS14)","v":0},{"$f":"AT14/(AV4-AT20)","v":0},{"$f":"IF(AU14=0,0,(AU14*((LOG(AU14))/LOG(2))))","v":0}]
[12,1169,14,1175,13,1182,14,1192,null,null,0,1111,null,2111,{"$f":"COUNTIF($L$7:$L$500,N15)","v":0},{"$f":"O15/$Q$4","v":0},{"$f":"IF(P15=0,0,(P15*((LOG(P15))/LOG(2))))","v":0},null,null,{"$f":"N15","v":2111},{"$f":"COUNTIF(L7:L38,T15)","v":0},{"$f":"U15/(W4-U20)","v":0},{"$f":"IF(V15=0,0,(V15*((LOG(V15))/LOG(2))))","v":0},null,{"$f":"N15","v":2111},{"$f":"COUNTIF(L39:L71,Y15)","v":0},{"$f":"Z15/(AB4-Z20)","v":0},{"$f":"IF(AA15=0,0,(AA15*((LOG(AA15))/LOG(2))))","v":0},null,{"$f":"N15","v":2111},{"$f":"COUNTIF(L72:L103,AD15)","v":0},{"$f":"AE15/(AG4-AE20)","v":0},{"$f":"IF(AF15=0,0,(AF15*((LOG(AF15))/LOG(2))))","v":0},null,{"$f":"N15","v":2111},{"$f":"COUNTIF(L104:L135,AI15)","v":0},{"$f":"AJ15/(AL4-AJ20)","v":0},{"$f":"IF(AK15=0,0,(AK15*((LOG(AK15))/LOG(2))))","v":0},null,{"$f":"N15","v":2111},{"$f":"COUNTIF(L136:L168,AN15)","v":0},{"$f":"AO15/(AQ4-AO20)","v":0},{"$f":"IF(AP15=0,0,(AP15*((LOG(AP15))/LOG(2))))","v":0},null,{"$f":"N15","v":2111},{"$f":"COUNTIF(L169:L200,AS15)","v":0},{"$f":"AT15/(AV4-AT20)","v":0},{"$f":"IF(AU15=0,0,(AU15*((LOG(AU15))/LOG(2))))","v":0}]
[12,1298,14,1304,13,1310,14,1343,null,null,0,1111,null,2112,{"$f":"COUNTIF($L$7:$L$500,N16)","v":0},{"$f":"O16/$Q$4","v":0},{"$f":"IF(P16=0,0,(P16*((LOG(P16))/LOG(2))))","v":0},null,null,{"$f":"N16","v":2112},{"$f":"COUNTIF(L7:L38,T16)","v":0},{"$f":"U16/(W4-U20)","v":0},{"$f":"IF(V16=0,0,(V16*((LOG(V16))/LOG(2))))","v":0},null,{"$f":"N16","v":2112},{"$f":"COUNTIF(L39:L71,Y16)","v":0},{"$f":"Z16/(AB4-Z20)","v":0},{"$f":"IF(AA16=0,0,(AA16*((LOG(AA16))/LOG(2))))","v":0},null,{"$f":"N16","v":2112},{"$f":"COUNTIF(L72:L103,AD16)","v":0},{"$f":"AE16/(AG4-AE20)","v":0},{"$f":"IF(AF16=0,0,(AF16*((LOG(AF16))/LOG(2))))","v":0},null,{"$f":"N16","v":2112},{"$f":"COUNTIF(L104:L135,AI16)","v":0},{"$f":"AJ16/(AL4-AJ20)","v":0},{"$f":"IF(AK16=0,0,(AK16*((LOG(AK16))/LOG(2))))","v":0},null,{"$f":"N16","v":2112},{"$f":"COUNTIF(L136:L168,AN16)","v":0},{"$f":"AO16/(AQ4-AO20)","v":0},{"$f":"IF(AP16=0,0,(AP16*((LOG(AP16))/LOG(2))))","v":0},null,{"$f":"N16","v":2112},{"$f":"COUNTIF(L169:L200,AS16)","v":0},{"$f":"AT16/(AV4-AT20)","v":0},{"$f":"IF(AU16=0,0,(AU16*((LOG(AU16))/LOG(2))))","v":0}]
[12,1448,14,1457,13,1467,14,1477,null,null,0,1111,null,2121,{"$f":"COUNTIF($L$7:$L$500,N17)","v":0},{"$f":"O17/$Q$4","v":0},{"$f":"IF(P17=0,0,(P17*((LOG(P17))/LOG(2))))","v":0},null,null,{"$f":"N17","v":2121},{"$f":"COUNTIF(L7:L38,T17)","v":0},{"$f":"U17/(W4-U20)","v":0},{"$f":"IF(V17=0,0,(V17*((LOG(V17))/LOG(2))))","v":0},null,{"$f":"N17","v":2121},{"$f":"COUNTIF(L39:L71,Y17)","v":0},{"$f":"Z17/(AB4-Z20)","v":0},{"$f":"IF(AA17=0,0,(AA17*((LOG(AA17))/LOG(2))))","v":0},null,{"$f":"N17","v":2121},{"$f":"COUNTIF(L72:L103,AD17)","v":0},{"$f":"AE17/(AG4-AE20)","v":0},{"$f":"IF(AF17=0,0,(AF17*((LOG(AF17))/LOG(2))))","v":0},null,{"$f":"N17","v":2121},{"$f":"COUNTIF(L104:L135,AI17)","v":0},{"$f":"AJ17/(AL4-AJ20)","v":0},{"$f":"IF(AK17=0,0,(AK17*((LOG(AK17))/LOG(2))))","v":0},null,{"$f":"N17","v":2121},{"$f":"COUNTIF(L136:L168,AN17)","v":0},{"$f":"AO17/(AQ4-AO20)","v":0},{"$f":"IF(AP17=0,0,(AP17*((LOG(AP17))/LOG(2))))","v":0},null,{"$f":"N17","v":2121},{"$f":"COUNTIF(L169:L200,AS17)","v":0},{"$f":"AT17/(AV4-AT20)","v":0},{"$f":"IF(AU17=0,0,(AU17*((LOG(AU17))/LOG(2))))","v":0}]
[12,1584,14,1591,13,1599,14,1607,null,null,0,1111,null,2122,{"$f":"COUNTIF($L$7:$L$500,N18)","v":0},{"$f":"O18/$Q$4","v":0},{"$f":"IF(P18=0,0,(P18*((LOG(P18))/LOG(2))))","v":0},null,null,{"$f":"N18","v":2122},{"$f":"COUNTIF(L7:L38,T18)","v":0},{"$f":"U18/(W4-U20)","v":0},{"$f":"IF(V18=0,0,(V18*((LOG(V18))/LOG(2))))","v":0},null,{"$f":"N18","v":2122},{"$f":"COUNTIF(L39:L71,Y18)","v":0},{"$f":"Z18/(AB4-Z20)","v":0},{"$f":"IF(AA18=0,0,(AA18*((LOG(AA18))/LOG(2))))","v":0},null,{"$f":"N18","v":2122},{"$f":"COUNTIF(L72:L103,AD18)","v":0},{"$f":"AE18/(AG4-AE20)","v":0},{"$f":"IF(AF18=0,0,(AF18*((LOG(AF18))/LOG(2))))","v":0},null,{"$f":"N18","v":2122},{"$f":"COUNTIF(L104:L135,AI18)","v":0},{"$f":"AJ18/(AL4-AJ20)","v":0},{"$f":"IF(AK18=0,0,(AK18*((LOG(AK18))/LOG(2))))","v":0},null,{"$f":"N18","v":2122},{"$f":"COUNTIF(L136:L168,AN18)","v":0},{"$f":"AO18/(AQ4-AO20)","v":0},{"$f":"IF(AP18=0,0,(AP18*((LOG(AP18))/LOG(2))))","v":0},null,{"$f":"N18","v":2122},{"$f":"COUNTIF(L169:L200,AS18)","v":0},{"$f":"AT18/(AV4-AT20)","v":0},{"$f":"IF(AU18=0,0,(AU18*((LOG(AU18))/LOG(2))))","v":0}]
[12,1711,14,1718,13,1723,14,1728,null,null,0,1111,null,2211,{"$f":"COUNTIF($L$7:$L$500,N19)","v":0},{"$f":"O19/$Q$4","v":0},{"$f":"IF(P19=0,0,(P19*((LOG(P19))/LOG(2))))","v":0},null,null,{"$f":"N19","v":2211},{"$f":"COUNTIF(L7:L38,T19)","v":0},{"$f":"U19/(W4-U20)","v":0},{"$f":"IF(V19=0,0,(V19*((LOG(V19))/LOG(2))))","v":0},null,{"$f":"N19","v":2211},{"$f":"COUNTIF(L39:L71,Y19)","v":0},{"$f":"Z19/(AB4-Z20)","v":0},{"$f":"IF(AA19=0,0,(AA19*((LOG(AA19))/LOG(2))))","v":0},null,{"$f":"N19","v":2211},{"$f":"COUNTIF(L72:L103,AD19)","v":0},{"$f":"AE19/(AG4-AE20)","v":0},{"$f":"IF(AF19=0,0,(AF19*((LOG(AF19))/LOG(2))))","v":0},null,{"$f":"N19","v":2211},{"$f":"COUNTIF(L104:L135,AI19)","v":0},{"$f":"AJ19/(AL4-AJ20)","v":0},{"$f":"IF(AK19=0,0,(AK19*((LOG(AK19))/LOG(2))))","v":0},null,{"$f":"N19","v":2211},{"$f":"COUNTIF(L136:L168,AN19)","v":0},{"$f":"AO19/(AQ4-AO20)","v":0},{"$f":"IF(AP19=0,0,(AP19*((LOG(AP19))/LOG(2))))","v":0},null,{"$f":"N19","v":2211},{"$f":"COUNTIF(L169:L200,AS19)","v":0},{"$f":"AT19/(AV4-AT20)","v":0},{"$f":"IF(AU19=0,0,(AU19*((LOG(AU19))/LOG(2))))","v":0}]
[12,1839,14,1852,13,1861,14,1871,null,null,0,1111,null,2212,{"$f":"COUNTIF($L$7:$L$500,N20)","v":0},{"$f":"O20/$Q$4","v":0},{"$f":"IF(P20=0,0,(P20*((LOG(P20))/LOG(2))))","v":0},null,null,{"$f":"N20","v":2212},{"$f":"COUNTIF(L7:L38,T20)","v":0},null,null,null,{"$f":"N20","v":2212},{"$f":"COUNTIF(L39:L71,Y20)","v":0},null,null,null,{"$f":"N20","v":2212},{"$f":"COUNTIF(L72:L103,AD20)","v":0},null,null,null,{"$f":"N20","v":2212},{"$f":"COUNTIF(L104:L135,AI20)","v":0},null,null,null,{"$f":"N20","v":2212},{"$f":"COUNTIF(L136:L168,AN20)","v":0},null,null,null,{"$f":"N20","v":2212},{"$f":"COUNTIF(L169:L200,AS20)","v":0}]
[12,1977,14,1985,13,1991,14,2000,null,null,0,1111,null,2221,{"$f":"COUNTIF($L$7:$L$500,N21)","v":0},{"$f":"O21/$Q$4","v":0},{"$f":"IF(P21=0,0,(P21*((LOG(P21))/LOG(2))))","v":0},null,null,{"$f":"N21","v":2221},{"$f":"COUNTIF(L7:L38,T21)","v":0},{"$f":"U21/(W4-U20)","v":0},{"$f":"IF(V21=0,0,(V21*((LOG(V21))/LOG(2))))","v":0},null,{"$f":"N21","v":2221},{"$f":"COUNTIF(L39:L71,Y21)","v":0},{"$f":"Z21/(AB4-Z20)","v":0},{"$f":"IF(AA21=0,0,(AA21*((LOG(AA21))/LOG(2))))","v":0},null,{"$f":"N21","v":2221},{"$f":"COUNTIF(L72:L103,AD21)","v":0},{"$f":"AE21/(AG4-AE20)","v":0},{"$f":"IF(AF21=0,0,(AF21*((LOG(AF21))/LOG(2))))","v":0},null,{"$f":"N21","v":2221},{"$f":"COUNTIF(L104:L135,AI21)","v":0},{"$f":"AJ21/(AL4-AJ20)","v":0},{"$f":"IF(AK21=0,0,(AK21*((LOG(AK21))/LOG(2))))","v":0},null,{"$f":"N21","v":2221},{"$f":"COUNTIF(L136:L168,AN21)","v":0},{"$f":"AO21/(AQ4-AO20)","v":0},{"$f":"IF(AP21=0,0,(AP21*((LOG(AP21))/LOG(2))))","v":0},null,{"$f":"N21","v":2221},{"$f":"COUNTIF(L169:L200,AS21)","v":0},{"$f":"AT21/(AV4-AT20)","v":0},{"$f":"IF(AU21=0,0,(AU21*((LOG(AU21))/LOG(2))))","v":0}]
[12,2101,14,2107,13,2113,14,2161,null,null,0,1111,null,2222,{"$f":"COUNTIF($L$7:$L$500,N22)","v":0},{"$f":"O22/$Q$4","v":0},{"$f":"IF(P22=0,0,(P22*((LOG(P22))/LOG(2))))","v":0},null,null,{"$f":"N22","v":2222},{"$f":"COUNTIF(L7:L38,T22)","v":0},{"$f":"U22/(W4-U20)","v":0},{"$f":"IF(V22=0,0,(V22*((LOG(V22))/LOG(2))))","v":0},null,{"$f":"N22","v":2222},{"$f":"COUNTIF(L39:L71,Y22)","v":0},{"$f":"Z22/(AB4-Z20)","v":0},{"$f":"IF(AA22=0,0,(AA22*((LOG(AA22))/LOG(2))))","v":0},null,{"$f":"N22","v":2222},{"$f":"COUNTIF(L72:L103,AD22)","v":0},{"$f":"AE22/(AG4-AE20)","v":0},{"$f":"IF(AF22=0,0,(AF22*((LOG(AF22))/LOG(2))))","v":0},null,{"$f":"N22","v":2222},{"$f":"COUNTIF(L104:L135,AI22)","v":0},{"$f":"AJ22/(AL4-AJ20)","v":0},{"$f":"IF(AK22=0,0,(AK22*((LOG(AK22))/LOG(2))))","v":0},null,{"$f":"N22","v":2222},{"$f":"COUNTIF(L136:L168,AN22)","v":0},{"$f":"AO22/(AQ4-AO20)","v":0},{"$f":"IF(AP22=0,0,(AP22*((LOG(AP22))/LOG(2))))","v":0},null,{"$f":"N22","v":2222},{"$f":"COUNTIF(L169:L200,AS22)","v":0},{"$f":"AT22/(AV4-AT20)","v":0},{"$f":"IF(AU22=0,0,(AU22*((LOG(AU22))/LOG(2))))","v":0}]
[12,2268,14,2277,13,2285,14,2293,null,null,0,1111,null,null,null,{"$f":"SUM(P7:P22)","v":1},{"$f":"-SUM(Q7:Q22)","v":0.55348776334655703},null,null,null,null,{"$f":"SUM(V7:V22)","v":1},{"$f":"-SUM(W7:W22)","v":0.7310644431995964},null,null,null,{"$f":"SUM(AA7:AA22)","v":1},{"$f":"-SUM(AB7:AB22)","v":0.52297842638101244},null,null,null,{"$f":"SUM(AF7:AF22)","v":1},{"$f":"-SUM(AG7:AG22)","v":0.20062232431271465},null,null,null,{"$f":"SUM(AK7:AK22)","v":1},{"$f":"-SUM(AL7:AL22)","v":0.20062232431271465},null,null,null,{"$f":"SUM(AP7:AP22)","v":1},{"$f":"-SUM(AQ7:AQ22)","v":0.76073274603189633},null,null,null,{"$f":"SUM(AU7:AU22)","v":1},{"$f":"-SUM(AV7:AV22)","v":0.3451173149449529}]
[12,2402,14,2408,13,2416,14,2429,null,null,0,1111,null,null,null,"U=",{"$f":"Q23/(LOG(Q4)/LOG(2))","v":7.289968986715703E-2},null,null,null,null,"U1=",{"$f":"W23/(LOG(W4)/LOG(2))","v":0.14621288863991927},null,null,null,"U2=",{"$f":"AB23/(LOG(AB4)/LOG(2))","v":0.10367517168692697},null,null,null,"U3=",{"$f":"AG23/(LOG(AG4)/LOG(2))","v":4.0124464862542931E-2},null,null,null,"U4=",{"$f":"AL23/(LOG(AL4)/LOG(2))","v":4.0124464862542931E-2},null,null,null,"U5=",{"$f":"AQ23/(LOG(AQ4)/LOG(2))","v":0.1508075554827279},null,null,null,"U6=",{"$f":"AV23/(LOG(AV4)/LOG(2))","v":6.9661614785305623E-2}]
[12,2537,14,2543,13,2548,14,2553,null,null,0,1111]
[12,2660,14,2670,13,2676,14,2683,null,null,0,1111]
[12,2788,14,2794,13,2801,14,2807,null,null,0,1111,null,"Total Target Seq"]
[12,2905,14,2910,13,2926,14,2934,null,null,0,1111,null,{"$f":"COUNTIF(L7:L200,G3)","v":0},null,32,33,32,32,33,32]
[12,3039,14,3048,13,3055,14,3063,null,null,0,1111,null,null,null,"% of reinforcement given in 6 equal intervals based on number of trials "]
[12,3170,14,3177,13,3185,14,3198,null,null,0,1111,null,null,null,"%_1","%_2","%_3","%_4","%_5","%_6"]
[12,3294,14,3300,13,3305,14,3313,null,null,0,1111,null,null,"target sequence",{"$f":"$G$3","v":2212},{"$f":"$G$3","v":2212},{"$f":"$G$3","v":2212},{"$f":"$G$3","v":2212},{"$f":"$G$3","v":2212},{"$f":"$G$3","v":2212}]
[12,3420,14,3428,13,3433,14,3443,null,null,0,1111,null,null,"total reinforcement",{"$f":"U20","v":0},{"$f":"Z20","v":0},{"$f":"AE20","v":0},{"$f":"AJ20","v":0},{"$f":"AO20","v":0},{"$f":"AT20","v":0}]
[12,3568,14,3578,13,3612,14,3623,null,null,0,1111,null,null,"% target"]
[12,3730,14,3736,13,3742,14,3760,null,null,0,1111,null,null,"CCRF"]
[12,3863,14,3873,13,3879,14,3890,null,null,0,1111,null,null,"% CCRf"]
[12,3991,14,3996,13,4002,14,4007,null,null,0,1111,null,null,"average response rate",{"$f":"H38/P28","v":133.59375},{"$f":"(H71-H38)/Q28","v":123.6969696969697},{"$f":"(H103-H71)/R28","v":120.28125},{"$f":"(H135-H103)/S28","v":122.0625},{"$f":"(H168-H135)/T28","v":123.21212121212122},{"$f":"(H200-H168)/U28","v":-630.5625}]
[12,4114,14,4125,13,4135,14,4143,null,null,0,1111]
[12,4248,14,4258,13,4266,14,4275,null,null,0,1111]
[12,4380,14,4387,13,4392,14,4402,null,null,0,1111]
[12,4514,14,4520,13,4526,14,4534,null,null,0,1111]
[12,4632,14,4641,13,4647,14,4657,null,null,0,1111]
[12,4763,14,4777,13,4782,14,4790,null,null,0,1111]
[12,4892,14,4899,13,4905,14,4914,null,null,0,1111]
[12,5011,14,5017,13,5023,14,5030,null,null,0,1111]
[12,5178,14,5183,13,5193,23,5205,null,null,0,1112]
[12,5313,14,5320,13,5329,14,5337,null,null,0,1111]
[12,5444,14,5445,13,5450,14,5457,null,null,0,1111]
[12,5553,14,5560,13,5569,14,5580,null,null,0,1111]
[12,5687,14,5692,13,5697,14,5706,null,null,0,1111]
[12,5804,14,5812,13,5820,14,5829,null,null,0,1111]
[12,5928,14,5932,13,5938,14,5949,null,null,0,1111]
[12,6051,14,6060,13,6066,14,6075,null,null,0,1111]
[12,6173,14,6178,13,6185,14,6195,null,null,0,1111]
[12,6296,14,6304,13,6309,14,6318,null,null,0,1111]
[12,6417,14,6423,13,6431,23,6444,null,null,0,1112]
[12,6552,14,6560,24,6573,23,6586,null,null,0,1122]
[12,6684,14,6690,13,6694,14,6700,null,null,0,1111]
[12,6799,14,6808,13,6816,14,6829,null,null,0,1111]
[12,6927,14,6932,13,6943,14,6951,null,null,0,1111]
[12,7050,14,7055,13,7060,14,7065,null,null,0,1111]
[12,7160,14,7173,13,7179,14,7188,null,null,0,1111]
[12,7289,14,7294,13,7304,14,7311,null,null,0,1111]
[12,7409,14,7415,13,7420,14,7425,null,null,0,1111]
[12,7523,14,7529,13,7537,14,7554,null,null,0,1111]
[12,7651,14,7657,13,7662,14,7669,null,null,0,1111]
[12,7773,14,7778,13,7786,14,7795,null,null,0,1111]
[12,7889,14,7895,13,7901,14,7910,null,null,0,1111]
[12,8005,14,8006,13,8010,14,8016,null,null,0,1111]
[12,8114,14,8118,13,8125,14,8134,null,null,0,1111]
[12,8228,14,8233,13,8239,14,8245,null,null,0,1111]
[12,8340,14,8346,13,8351,14,8357,null,null,0,1111]
[12,8456,14,8461,13,8471,14,8479,null,null,0,1111]
[12,8575,14,8582,13,8588,14,8596,null,null,0,1111]
[12,8693,14,8699,13,8705,14,8713,null,null,0,1111]
[12,8812,14,8817,13,8828,14,8836,null,null,0,1111]
[12,8934,14,8942,13,8948,14,8957,null,null,0,1111]
[12,9052,14,9062,13,9067,14,9086,null,null,0,1111]
[12,9183,14,9188,13,9194,14,9199,null,null,0,1111]
[12,9289,14,9304,13,9308,14,9316,null,null,0,1111]
[12,9418,14,9425,13,9430,14,9442,null,null,0,1111]
[12,9543,14,9548,13,9558,14,9566,null,null,0,1111]
[12,9666,14,9672,13,9678,14,9688,null,null,0,1111]
[12,9790,14,9798,13,9803,14,9812,null,null,0,1111]
[12,9907,14,9916,13,9924,14,9932,null,null,0,1111]
[12,10030,14,10037,13,10043,14,10049,null,null,0,1111]
[12,10147,14,10153,13,10161,14,10169,null,null,0,1111]
[12,10267,14,10272,13,10278,14,10283,null,null,0,1111]
[12,10389,14,10397,13,10412,14,10420,null,null,0,1111]
[12,10512,14,10523,13,10529,14,10538,null,null,0,1111]
[12,10634,14,10639,13,10644,14,10649,null,null,0,1111]
[12,10758,14,10768,24,10792,14,10809,null,null,0,1121]
[12,10911,14,10920,13,10928,14,10940,null,null,0,1111]
[12,11033,14,11047,13,11053,14,11062,null,null,0,1111]
[12,11160,14,11165,13,11173,14,11181,null,null,0,1111]
[12,11274,14,11280,13,11285,14,11289,null,null,0,1111]
[12,11384,14,11389,13,11395,14,11402,null,null,0,1111]
[12,11499,14,11506,13,11515,14,11520,null,null,0,1111]
[12,11615,14,11621,13,11629,14,11642,null,null,0,1111]
[12,11732,14,11738,13,11742,14,11748,null,null,0,1111]
[12,11847,14,11852,13,11858,14,11867,null,null,0,1111]
[12,11961,14,11966,13,11972,14,11977,null,null,0,1111]
[12,12074,14,12082,13,12088,14,12094,null,null,0,1111]
[12,12191,14,12197,13,12201,14,12206,null,null,0,1111]
[12,12301,14,12306,13,12311,14,12315,null,null,0,1111]
[12,12407,14,12415,13,12419,14,12425,null,null,0,1111]
[12,12520,14,12525,13,12530,14,12534,null,null,0,1111]
[12,12629,14,12636,13,12642,14,12650,null,null,0,1111]
[12,12743,14,12749,13,12754,14,12758,null,null,0,1111]
[12,12854,14,12862,13,12867,14,12873,null,null,0,1111]
[12,12966,14,12972,13,12977,14,12982,null,null,0,1111]
[12,13079,14,13084,13,13090,14,13095,null,null,0,1111]
[12,13190,14,13196,13,13202,14,13211,null,null,0,1111]
[12,13308,14,13314,13,13319,14,13328,null,null,0,1111]
[12,13427,14,13434,13,13438,14,13447,null,null,0,1111]
[12,13546,14,13552,13,13557,14,13562,null,null,0,1111]
[12,13657,14,13664,13,13669,14,13675,null,null,0,1111]
[12,13785,14,13794,13,13802,14,13812,null,null,0,1111]
[12,13904,14,13910,13,13920,14,13930,null,null,0,1111]
[12,14041,14,14049,13,14055,14,14063,null,null,0,1111]
[12,14161,14,14166,13,14170,14,14175,null,null,0,1111]
[12,14277,14,14283,13,14290,14,14296,null,null,0,1111]
[12,14391,14,14397,13,14402,14,14407,null,null,0,1111]
[12,14503,14,14510,13,14515,14,14520,null,null,0,1111]
[12,14620,14,14627,13,14635,14,14643,null,null,0,1111]
[12,14743,14,14749,13,14756,14,14764,null,null,0,1111]
[12,14861,14,14867,13,14871,14,14876,null,null,0,1111]
[12,14983,14,14992,13,15000,14,15008,null,null,0,1111]
[12,15100,14,15107,13,15113,14,15118,null,null,0,1111]
[12,15350,14,15360,24,15373,23,15383,null,null,0,1122]
[12,15495,14,15502,13,15508,14,15519,null,null,0,1111]
[12,15620,14,15630,13,15635,14,15641,null,null,0,1111]
[12,15737,14,15748,13,15754,14,15765,null,null,0,1111]
[12,15864,14,15871,13,15876,14,15882,null,null,0,1111]
[12,15981,14,15987,13,15992,14,15996,null,null,0,1111]
[12,16093,14,16098,13,16106,14,16112,null,null,0,1111]
[12,16211,14,16217,13,16221,14,16232,null,null,0,1111]
[12,16326,14,16332,13,16337,14,16342,null,null,0,1111]
[12,16443,14,16459,13,16467,14,16476,null,null,0,1111]
[12,16571,14,16576,13,16582,14,16590,null,null,0,1111]
[12,16685,14,16694,13,16700,14,16707,null,null,0,1111]
[12,16803,14,16810,13,16819,14,16830,null,null,0,1111]
[12,16932,14,16941,13,16949,14,16957,null,null,0,1111]
[12,17052,14,17059,13,17066,14,17071,null,null,0,1111]
[12,17167,14,17173,13,17179,14,17188,null,null,0,1111]
[12,17289,14,17296,13,17300,14,17306,null,null,0,1111]
[12,17413,14,17423,24,17455,23,17469,null,null,0,1122]
[12,17569,14,17575,13,17580,14,17585,null,null,0,1111]
[12,17677,14,17683,13,17689,14,17697,null,null,0,1111]
[12,17793,14,17803,13,17808,14,17821,null,null,0,1111]
[12,17914,14,17922,13,17927,14,17931,null,null,0,1111]
[12,18031,14,18036,13,18041,14,18046,null,null,0,1111]
[12,18142,14,18148,13,18153,14,18158,null,null,0,1111]
[12,18259,14,18265,13,18274,14,18282,null,null,0,1111]
[12,18374,14,18380,13,18386,14,18391,null,null,0,1111]
[12,18486,14,18494,13,18498,14,18503,null,null,0,1111]
[12,18599,14,18605,13,18611,14,18616,null,null,0,1111]
[12,18711,14,18716,13,18721,14,18730,null,null,0,1111]
[12,18831,14,18836,24,18873,23,18880,null,null,0,1122]
[12,18973,14,18979,13,18990,23,18999,null,null,0,1112]
[12,19101,14,19107,13,19113,14,19122,null,null,0,1111]
[12,19217,14,19223,13,19229,14,19236,null,null,0,1111]
[12,19334,14,19344,13,19349,14,19357,null,null,0,1111]
[12,19457,14,19463,13,19468,14,19475,null,null,0,1111]
[12,19578,14,19584,13,19593,23,19608,null,null,0,1112]
[12,19800,14,19809,13,19820,23,19832,null,null,0,1112]
[12,19931,14,19936,13,19942,14,19947,null,null,0,1111]
[12,20045,14,20052,13,20058,14,20067,null,null,0,1111]
[12,20164,14,20169,13,20173,14,20178,null,null,0,1111]
[12,20277,14,20282,13,20292,23,20307,null,null,0,1112]
[12,20412,14,20417,13,20422,14,20432,null,null,0,1111]
[12,20529,14,20535,13,20541,14,20549,null,null,0,1111]
[12,20646,14,20652,13,20657,14,20665,null,null,0,1111]
[12,20767,14,20775,13,20783,14,20791,null,null,0,1111]
[12,20889,14,20897,13,20903,14,20908,null,null,0,1111]
[12,21005,14,21010,13,21015,14,21020,null,null,0,1111]
[12,21116,14,21122,13,21130,14,21135,null,null,0,1111]
[12,21232,14,21237,13,21242,14,21247,null,null,0,1111]
[12,21342,14,21351,13,21355,14,21364,null,null,0,1111]
[12,21459,14,21465,13,21470,14,21474,null,null,0,1111]
[12,21566,14,21574,13,21578,14,21584,null,null,0,1111]
[12,21678,14,21683,13,21688,14,21693,null,null,0,1111]
[12,21791,14,21798,13,21803,14,21814,null,null,0,1111]
[12,21913,14,21918,13,21923,14,21929,null,null,0,1111]
[12,22049,14,22058,13,22084,23,22107,null,null,0,1112]
[12,22205,14,22212,13,22220,14,22227,null,null,0,1111]
[12,22324,14,22333,13,22338,14,22342,null,null,0,1111]
[12,22454,14,22460,13,22466,14,22476,null,null,0,1111]
[12,22577,14,22582,13,22587,14,22595,null,null,0,1111]
[12,22694,14,22700,13,22707,14,22712,null,null,0,1111]
[12,22812,14,22816,13,22821,14,22828,null,null,0,1111]
[12,22926,14,22930,13,22935,14,22940,null,null,0,1111]
[12,23036,14,23041,13,23047,14,23053,null,null,0,1111]
[12,23149,14,23157,13,23166,14,23170,null,null,0,1111]
[12,23268,14,23272,13,23278,14,23284,null,null,0,1111]
[12,23379,14,23384,13,23389,14,23398,null,null,0,1111]
[12,23492,14,23498,13,23504,14,23509,null,null,0,1111]
[12,23610,14,23616,13,23621,14,23632,null,null,0,1111]
[12,23732,14,23738,13,23743,14,23748,null,null,0,1111]
[12,23846,14,23861,13,23869,14,23877,null,null,0,1111]
[12,23983,14,23992,13,23999,null,null,null,null,null,111]

{"sheet":"!L916A50.056","index":19,"n_rows":208,"n_cols":48,"rows_kept":208,"cut":false,"hidden":false,"merged":[[4,39,4,42],[5,39,5,40],[4,44,4,47],[5,44,5,45],[4,24,4,27],[5,24,5,25],[4,29,4,32],[5,29,5,30],[4,34,4,37],[5,34,5,35],[1,1,1,2],[5,13,5,14],[26,13,26,14],[27,13,27,14],[4,19,4,22],[5,19,5,20]]}
["Report for:!L916A50.056"]
["Date:","<date>"]
["Hen:","<hen>",null,null,null,"Correct Sequence",{"$f":"Start!J2","v":2212},null,null,null,null,null,null,null,null,"Total Sequences in Data",{"$f":"4994-COUNTBLANK(L7:L5000)","v":202},null,null,null,null,"Total Sequences in Block Data",{"$f":"COUNTA(L7:L40)","v":34},null,null,null,"Total Sequences in Block Data",{"$f":"COUNTA(L41:L73)","v":33},null,null,null,"Total Sequences in Block Data",{"$f":"COUNTA(L74:L107)","v":34},null,null,null,"Total Sequences in Block Data",{"$f":"COUNTA(L108:L141)","v":34},null,null,null,"Total Sequences in Block Data",{"$f":"COUNTA(L142:L174)","v":33},null,null,null,"Total Sequences in Block Data",{"$f":"COUNTA(L175:L208)","v":34}]
[null,null,null,null,null,null,null,null,null,null,null,null,null,null,null,"Total Sequences in Summary",{"$f":"SUM(O7:O22)","v":202},null,null,null,null,"Total Sequences in Block Summary",{"$f":"SUM(U7:U22)","v":34},null,null,null,"Total Sequences in Block Summary",{"$f":"SUM(Z7:Z22)","v":33},null,null,null,"Total Sequences in Block Summary",{"$f":"SUM(AE7:AE22)","v":34},null,null,null,"Total Sequences in Block Summary",{"$f":"SUM(AJ7:AJ22)","v":34},null,null,null,"Total Sequences in Block Summary",{"$f":"SUM(AO7:AO22)","v":33},null,null,null,"Total Sequences in Block Summary",{"$f":"SUM(AT7:AT22)","v":34}]
[null,null,null,null,null,null,null,null,null,null,null,null,null,null,null,null,null,null,null,"Block 1",null,null,null,null,"Block 2",null,null,null,null,"Block 3",null,null,null,null,"Block 4",null,null,null,null,"Block 5",null,null,null,null,"Block 6"]
["Sequence\nComponent\n1","Time\n1","Sequence\nComponent\n2","Time\n2","Sequence\nComponent\n3","Time\n3","Sequence\nComponent\n4","Time\n4","Sequence\nComponent\n5","Time\n5","Correct?\n0=No 1=Yes","Sequence",null,"Frequency",null,"Relative Frequency","Variability",null,null,"Frequency",null,"Relative Frequency","Variability",null,"Frequency",null,"Relative Frequency","Variability",null,"Frequency",null,"Relative Frequency","Variability",null,"Frequency",null,"Relative Frequency","Variability",null,"Frequency",null,"Relative Frequency","Variability",null,"Frequency",null,"Relative Frequency","Variability"]
[12,18,14,25,13,30,14,40,null,null,0,1111,null,1111,{"$f":"COUNTIF($L$7:$L$500,N7)","v":188},{"$f":"O7/$Q$4","v":0.93069306930693074},{"$f":"IF(P7=0,0,(P7*((LOG(P7))/LOG(2))))","v":-9.6440864564067183E-2},null,null,{"$f":"N7","v":1111},{"$f":"COUNTIF(L7:L40,T7)","v":33},{"$f":"U7/(W4-U20)","v":0.97058823529411764},{"$f":"IF(V7=0,0,(V7*((LOG(V7))/LOG(2))))","v":-4.1801994777418743E-2},null,{"$f":"N7","v":1111},{"$f":"COUNTIF(L41:L73,Y7)","v":32},{"$f":"Z7/(AB4-Z20)","v":0.96969696969696972},{"$f":"IF(AA7=0,0,(AA7*((LOG(AA7))/LOG(2))))","v":-4.3048843014257841E-2},null,{"$f":"N7","v":1111},{"$f":"COUNTIF(L74:L107,AD7)","v":30},{"$f":"AE7/(AG4-AE20)","v":0.88235294117647056},{"$f":"IF(AF7=0,0,(AF7*((LOG(AF7))/LOG(2))))","v":-0.1593284520369008},null,{"$f":"N7","v":1111},{"$f":"COUNTIF(L108:L141,AI7)","v":32},{"$f":"AJ7/(AL4-AJ20)","v":0.94117647058823528},{"$f":"IF(AK7=0,0,(AK7*((LOG(AK7))/LOG(2))))","v":-8.2317968235613576E-2},null,{"$f":"N7","v":1111},{"$f":"COUNTIF(L142:L174,AN7)","v":31},{"$f":"AO7/(AQ4-AO20)","v":0.93939393939393945},{"$f":"IF(AP7=0,0,(AP7*((LOG(AP7))/LOG(2))))","v":-8.4731275094512809E-2},null,{"$f":"N7","v":1111},{"$f":"COUNTIF(L175:L208,AS7)","v":30},{"$f":"AT7/(AV4-AT20)","v":0.88235294117647056},{"$f":"IF(AU7=0,0,(AU7*((LOG(AU7))/LOG(2))))","v":-0.1593284520369008}]
[12,144,14,150,13,156,14,165,null,null,0,1111,null,1112,{"$f":"COUNTIF($L$7:$L$500,N8)","v":6},{"$f":"O8/$Q$4","v":2.9702970297029702E-2},{"$f":"IF(P8=0,0,(P8*((LOG(P8))/LOG(2))))","v":-0.15069056382269222},null,null,{"$f":"N8","v":1112},{"$f":"COUNTIF(L7:L40,T8)","v":0},{"$f":"U8/(W4-U20)","v":0},{"$f":"IF(V8=0,0,(V8*((LOG(V8))/LOG(2))))","v":0},null,{"$f":"N8","v":1112},{"$f":"COUNTIF(L41:L73,Y8)","v":0},{"$f":"Z8/(AB4-Z20)","v":0},{"$f":"IF(AA8=0,0,(AA8*((LOG(AA8))/LOG(2))))","v":0},null,{"$f":"N8","v":1112},{"$f":"COUNTIF(L74:L107,AD8)","v":2},{"$f":"AE8/(AG4-AE20)","v":5.8823529411764705E-2},{"$f":"IF(AF8=0,0,(AF8*((LOG(AF8))/LOG(2))))","v":-0.24043899066178465},null,{"$f":"N8","v":1112},{"$f":"COUNTIF(L108:L141,AI8)","v":2},{"$f":"AJ8/(AL4-AJ20)","v":5.8823529411764705E-2},{"$f":"IF(AK8=0,0,(AK8*((LOG(AK8))/LOG(2))))","v":-0.24043899066178465},null,{"$f":"N8","v":1112},{"$f":"COUNTIF(L142:L174,AN8)","v":1},{"$f":"AO8/(AQ4-AO20)","v":3.0303030303030304E-2},{"$f":"IF(AP8=0,0,(AP8*((LOG(AP8))/LOG(2))))","v":-0.15286042785934709},null,{"$f":"N8","v":1112},{"$f":"COUNTIF(L175:L208,AS8)","v":1},{"$f":"AT8/(AV4-AT20)","v":2.9411764705882353E-2},{"$f":"IF(AU8=0,0,(AU8*((LOG(AU8))/LOG(2))))","v":-0.14963126003677468}]
[12,257,14,263,13,268,14,273,null,null,0,1111,null,1121,{"$f":"COUNTIF($L$7:$L$500,N9)","v":0},{"$f":"O9/$Q$4","v":0},{"$f":"IF(P9=0,0,(P9*((LOG(P9))/LOG(2))))","v":0},null,null,{"$f":"N9","v":1121},{"$f":"COUNTIF(L7:L40,T9)","v":0},{"$f":"U9/(W4-U20)","v":0},{"$f":"IF(V9=0,0,(V9*((LOG(V9))/LOG(2))))","v":0},null,{"$f":"N9","v":1121},{"$f":"COUNTIF(L41:L73,Y9)","v":0},{"$f":"Z9/(AB4-Z20)","v":0},{"$f":"IF(AA9=0,0,(AA9*((LOG(AA9))/LOG(2))))","v":0},null,{"$f":"N9","v":1121},{"$f":"COUNTIF(L74:L107,AD9)","v":0},{"$f":"AE9/(AG4-AE20)","v":0},{"$f":"IF(AF9=0,0,(AF9*((LOG(AF9))/LOG(2))))","v":0},null,{"$f":"N9","v":1121},{"$f":"COUNTIF(L108:L141,AI9)","v":0},{"$f":"AJ9/(AL4-AJ20)","v":0},{"$f":"IF(AK9=0,0,(AK9*((LOG(AK9))/LOG(2))))","v":0},null,{"$f":"N9","v":1121},{"$f":"COUNTIF(L142:L174,AN9)","v":0},{"$f":"AO9/(AQ4-AO20)","v":0},{"$f":"IF(AP9=0,0,(AP9*((LOG(AP9))/LOG(2))))","v":0},null,{"$f":"N9","v":1121},{"$f":"COUNTIF(L175:L208,AS9)","v":0},{"$f":"AT9/(AV4-AT20)","v":0},{"$f":"IF(AU9=0,0,(AU9*((LOG(AU9))/LOG(2))))","v":0}]
[12,374,14,378,13,384,14,393,null,null,0,1111,null,1122,{"$f":"COUNTIF($L$7:$L$500,N10)","v":4},{"$f":"O10/$Q$4","v":1.9801980198019802E-2},{"$f":"IF(P10=0,0,(P10*((LOG(P10))/LOG(2))))","v":-0.1120437917376593},null,null,{"$f":"N10","v":1122},{"$f":"COUNTIF(L7:L40,T10)","v":0},{"$f":"U10/(W4-U20)","v":0},{"$f":"IF(V10=0,0,(V10*((LOG(V10))/LOG(2))))","v":0},null,{"$f":"N10","v":1122},{"$f":"COUNTIF(L41:L73,Y10)","v":1},{"$f":"Z10/(AB4-Z20)","v":3.0303030303030304E-2},{"$f":"IF(AA10=0,0,(AA10*((LOG(AA10))/LOG(2))))","v":-0.15286042785934709},null,{"$f":"N10","v":1122},{"$f":"COUNTIF(L74:L107,AD10)","v":1},{"$f":"AE10/(AG4-AE20)","v":2.9411764705882353E-2},{"$f":"IF(AF10=0,0,(AF10*((LOG(AF10))/LOG(2))))","v":-0.14963126003677468},null,{"$f":"N10","v":1122},{"$f":"COUNTIF(L108:L141,AI10)","v":0},{"$f":"AJ10/(AL4-AJ20)","v":0},{"$f":"IF(AK10=0,0,(AK10*((LOG(AK10))/LOG(2))))","v":0},null,{"$f":"N10","v":1122},{"$f":"COUNTIF(L142:L174,AN10)","v":1},{"$f":"AO10/(AQ4-AO20)","v":3.0303030303030304E-2},{"$f":"IF(AP10=0,0,(AP10*((LOG(AP10))/LOG(2))))","v":-0.15286042785934709},null,{"$f":"N10","v":1122},{"$f":"COUNTIF(L175:L208,AS10)","v":1},{"$f":"AT10/(AV4-AT20)","v":2.9411764705882353E-2},{"$f":"IF(AU10=0,0,(AU10*((LOG(AU10))/LOG(2))))","v":-0.14963126003677468}]
[12,496,14,504,13,509,14,514,null,null,0,1111,null,1211,{"$f":"COUNTIF($L$7:$L$500,N11)","v":0},{"$f":"O11/$Q$4","v":0},{"$f":"IF(P11=0,0,(P11*((LOG(P11))/LOG(2))))","v":0},null,null,{"$f":"N11","v":1211},{"$f":"COUNTIF(L7:L40,T11)","v":0},{"$f":"U11/(W4-U20)","v":0},{"$f":"IF(V11=0,0,(V11*((LOG(V11))/LOG(2))))","v":0},null,{"$f":"N11","v":1211},{"$f":"COUNTIF(L41:L73,Y11)","v":0},{"$f":"Z11/(AB4-Z20)","v":0},{"$f":"IF(AA11=0,0,(AA11*((LOG(AA11))/LOG(2))))","v":0},null,{"$f":"N11","v":1211},{"$f":"COUNTIF(L74:L107,AD11)","v":0},{"$f":"AE11/(AG4-AE20)","v":0},{"$f":"IF(AF11=0,0,(AF11*((LOG(AF11))/LOG(2))))","v":0},null,{"$f":"N11","v":1211},{"$f":"COUNTIF(L108:L141,AI11)","v":0},{"$f":"AJ11/(AL4-AJ20)","v":0},{"$f":"IF(AK11=0,0,(AK11*((LOG(AK11))/LOG(2))))","v":0},null,{"$f":"N11","v":1211},{"$f":"COUNTIF(L142:L174,AN11)","v":0},{"$f":"AO11/(AQ4-AO20)","v":0},{"$f":"IF(AP11=0,0,(AP11*((LOG(AP11))/LOG(2))))","v":0},null,{"$f":"N11","v":1211},{"$f":"COUNTIF(L175:L208,AS11)","v":0},{"$f":"AT11/(AV4-AT20)","v":0},{"$f":"IF(AU11=0,0,(AU11*((LOG(AU11))/LOG(2))))","v":0}]
[12,615,14,620,13,630,14,638,null,null,0,1111,null,1212,{"$f":"COUNTIF($L$7:$L$500,N12)","v":0},{"$f":"O12/$Q$4","v":0},{"$f":"IF(P12=0,0,(P12*((LOG(P12))/LOG(2))))","v":0},null,null,{"$f":"N12","v":1212},{"$f":"COUNTIF(L7:L40,T12)","v":0},{"$f":"U12/(W4-U20)","v":0},{"$f":"IF(V12=0,0,(V12*((LOG(V12))/LOG(2))))","v":0},null,{"$f":"N12","v":1212},{"$f":"COUNTIF(L41:L73,Y12)","v":0},{"$f":"Z12/(AB4-Z20)","v":0},{"$f":"IF(AA12=0,0,(AA12*((LOG(AA12))/LOG(2))))","v":0},null,{"$f":"N12","v":1212},{"$f":"COUNTIF(L74:L107,AD12)","v":0},{"$f":"AE12/(AG4-AE20)","v":0},{"$f":"IF(AF12=0,0,(AF12*((LOG(AF12))/LOG(2))))","v":0},null,{"$f":"N12","v":1212},{"$f":"COUNTIF(L108:L141,AI12)","v":0},{"$f":"AJ12/(AL4-AJ20)","v":0},{"$f":"IF(AK12=0,0,(AK12*((LOG(AK12))/LOG(2))))","v":0},null,{"$f":"N12","v":1212},{"$f":"COUNTIF(L142:L174,AN12)","v":0},{"$f":"AO12/(AQ4-AO20)","v":0},{"$f":"IF(AP12=0,0,(AP12*((LOG(AP12))/LOG(2))))","v":0},null,{"$f":"N12","v":1212},{"$f":"COUNTIF(L175:L208,AS12)","v":0},{"$f":"AT12/(AV4-AT20)","v":0},{"$f":"IF(AU12=0,0,(AU12*((LOG(AU12))/LOG(2))))","v":0}]
[12,736,14,743,13,748,14,752,null,null,0,1111,null,1221,{"$f":"COUNTIF($L$7:$L$500,N13)","v":0},{"$f":"O13/$Q$4","v":0},{"$f":"IF(P13=0,0,(P13*((LOG(P13))/LOG(2))))","v":0},null,null,{"$f":"N13","v":1221},{"$f":"COUNTIF(L7:L40,T13)","v":0},{"$f":"U13/(W4-U20)","v":0},{"$f":"IF(V13=0,0,(V13*((LOG(V13))/LOG(2))))","v":0},null,{"$f":"N13","v":1221},{"$f":"COUNTIF(L41:L73,Y13)","v":0},{"$f":"Z13/(AB4-Z20)","v":0},{"$f":"IF(AA13=0,0,(AA13*((LOG(AA13))/LOG(2))))","v":0},null,{"$f":"N13","v":1221},{"$f":"COUNTIF(L74:L107,AD13)","v":0},{"$f":"AE13/(AG4-AE20)","v":0},{"$f":"IF(AF13=0,0,(AF13*((LOG(AF13))/LOG(2))))","v":0},null,{"$f":"N13","v":1221},{"$f":"COUNTIF(L108:L141,AI13)","v":0},{"$f":"AJ13/(AL4-AJ20)","v":0},{"$f":"IF(AK13=0,0,(AK13*((LOG(AK13))/LOG(2))))","v":0},null,{"$f":"N13","v":1221},{"$f":"COUNTIF(L142:L174,AN13)","v":0},{"$f":"AO13/(AQ4-AO20)","v":0},{"$f":"IF(AP13=0,0,(AP13*((LOG(AP13))/LOG(2))))","v":0},null,{"$f":"N13","v":1221},{"$f":"COUNTIF(L175:L208,AS13)","v":0},{"$f":"AT13/(AV4-AT20)","v":0},{"$f":"IF(AU13=0,0,(AU13*((LOG(AU13))/LOG(2))))","v":0}]
[12,851,14,857,13,863,14,872,null,null,0,1111,null,1222,{"$f":"COUNTIF($L$7:$L$500,N14)","v":0},{"$f":"O14/$Q$4","v":0},{"$f":"IF(P14=0,0,(P14*((LOG(P14))/LOG(2))))","v":0},null,null,{"$f":"N14","v":1222},{"$f":"COUNTIF(L7:L40,T14)","v":0},{"$f":"U14/(W4-U20)","v":0},{"$f":"IF(V14=0,0,(V14*((LOG(V14))/LOG(2))))","v":0},null,{"$f":"N14","v":1222},{"$f":"COUNTIF(L41:L73,Y14)","v":0},{"$f":"Z14/(AB4-Z20)","v":0},{"$f":"IF(AA14=0,0,(AA14*((LOG(AA14))/LOG(2))))","v":0},null,{"$f":"N14","v":1222},{"$f":"COUNTIF(L74:L107,AD14)","v":0},{"$f":"AE14/(AG4-AE20)","v":0},{"$f":"IF(AF14=0,0,(AF14*((LOG(AF14))/LOG(2))))","v":0},null,{"$f":"N14","v":1222},{"$f":"COUNTIF(L108:L141,AI14)","v":0},{"$f":"AJ14/(AL4-AJ20)","v":0},{"$f":"IF(AK14=0,0,(AK14*((LOG(AK14))/LOG(2))))","v":0},null,{"$f":"N14","v":1222},{"$f":"COUNTIF(L142:L174,AN14)","v":0},{"$f":"AO14/(AQ4-AO20)","v":0},{"$f":"IF(AP14=0,0,(AP14*((LOG(AP14))/LOG(2))))","v":0},null,{"$f":"N14","v":1222},{"$f":"COUNTIF(L175:L208,AS14)","v":0},{"$f":"AT14/(AV4-AT20)","v":0},{"$f":"IF(AU14=0,0,(AU14*((LOG(AU14))/LOG(2))))","v":0}]
[12,969,14,976,13,982,14,994,null,null,0,1111,null,2111,{"$f":"COUNTIF($L$7:$L$500,N15)","v":0},{"$f":"O15/$Q$4","v":0},{"$f":"IF(P15=0,0,(P15*((LOG(P15))/LOG(2))))","v":0},null,null,{"$f":"N15","v":2111},{"$f":"COUNTIF(L7:L40,T15)","v":0},{"$f":"U15/(W4-U20)","v":0},{"$f":"IF(V15=0,0,(V15*((LOG(V15))/LOG(2))))","v":0},null,{"$f":"N15","v":2111},{"$f":"COUNTIF(L41:L73,Y15)","v":0},{"$f":"Z15/(AB4-Z20)","v":0},{"$f":"IF(AA15=0,0,(AA15*((LOG(AA15))/LOG(2))))","v":0},null,{"$f":"N15","v":2111},{"$f":"COUNTIF(L74:L107,AD15)","v":0},{"$f":"AE15/(AG4-AE20)","v":0},{"$f":"IF(AF15=0,0,(AF15*((LOG(AF15))/LOG(2))))","v":0},null,{"$f":"N15","v":2111},{"$f":"COUNTIF(L108:L141,AI15)","v":0},{"$f":"AJ15/(AL4-AJ20)","v":0},{"$f":"IF(AK15=0,0,(AK15*((LOG(AK15))/LOG(2))))","v":0},null,{"$f":"N15","v":2111},{"$f":"COUNTIF(L142:L174,AN15)","v":0},{"$f":"AO15/(AQ4-AO20)","v":0},{"$f":"IF(AP15=0,0,(AP15*((LOG(AP15))/LOG(2))))","v":0},null,{"$f":"N15","v":2111},{"$f":"COUNTIF(L175:L208,AS15)","v":0},{"$f":"AT15/(AV4-AT20)","v":0},{"$f":"IF(AU15=0,0,(AU15*((LOG(AU15))/LOG(2))))","v":0}]
[12,1094,14,1099,13,1105,14,1121,null,null,0,1111,null,2112,{"$f":"COUNTIF($L$7:$L$500,N16)","v":1},{"$f":"O16/$Q$4","v":4.9504950495049506E-3},{"$f":"IF(P16=0,0,(P16*((LOG(P16))/LOG(2))))","v":-3.7911938033424727E-2},null,null,{"$f":"N16","v":2112},{"$f":"COUNTIF(L7:L40,T16)","v":0},{"$f":"U16/(W4-U20)","v":0},{"$f":"IF(V16=0,0,(V16*((LOG(V16))/LOG(2))))","v":0},null,{"$f":"N16","v":2112},{"$f":"COUNTIF(L41:L73,Y16)","v":0},{"$f":"Z16/(AB4-Z20)","v":0},{"$f":"IF(AA16=0,0,(AA16*((LOG(AA16))/LOG(2))))","v":0},null,{"$f":"N16","v":2112},{"$f":"COUNTIF(L74:L107,AD16)","v":0},{"$f":"AE16/(AG4-AE20)","v":0},{"$f":"IF(AF16=0,0,(AF16*((LOG(AF16))/LOG(2))))","v":0},null,{"$f":"N16","v":2112},{"$f":"COUNTIF(L108:L141,AI16)","v":0},{"$f":"AJ16/(AL4-AJ20)","v":0},{"$f":"IF(AK16=0,0,(AK16*((LOG(AK16))/LOG(2))))","v":0},null,{"$f":"N16","v":2112},{"$f":"COUNTIF(L142:L174,AN16)","v":0},{"$f":"AO16/(AQ4-AO20)","v":0},{"$f":"IF(AP16=0,0,(AP16*((LOG(AP16))/LOG(2))))","v":0},null,{"$f":"N16","v":2112},{"$f":"COUNTIF(L175:L208,AS16)","v":1},{"$f":"AT16/(AV4-AT20)","v":2.9411764705882353E-2},{"$f":"IF(AU16=0,0,(AU16*((LOG(AU16))/LOG(2))))","v":-0.14963126003677468}]
[12,1218,14,1224,13,1229,14,1234,null,null,0,1111,null,2121,{"$f":"COUNTIF($L$7:$L$500,N17)","v":0},{"$f":"O17/$Q$4","v":0},{"$f":"IF(P17=0,0,(P17*((LOG(P17))/LOG(2))))","v":0},null,null,{"$f":"N17","v":2121},{"$f":"COUNTIF(L7:L40,T17)","v":0},{"$f":"U17/(W4-U20)","v":0},{"$f":"IF(V17=0,0,(V17*((LOG(V17))/LOG(2))))","v":0},null,{"$f":"N17","v":2121},{"$f":"COUNTIF(L41:L73,Y17)","v":0},{"$f":"Z17/(AB4-Z20)","v":0},{"$f":"IF(AA17=0,0,(AA17*((LOG(AA17))/LOG(2))))","v":0},null,{"$f":"N17","v":2121},{"$f":"COUNTIF(L74:L107,AD17)","v":0},{"$f":"AE17/(AG4-AE20)","v":0},{"$f":"IF(AF17=0,0,(AF17*((LOG(AF17))/LOG(2))))","v":0},null,{"$f":"N17","v":2121},{"$f":"COUNTIF(L108:L141,AI17)","v":0},{"$f":"AJ17/(AL4-AJ20)","v":0},{"$f":"IF(AK17=0,0,(AK17*((LOG(AK17))/LOG(2))))","v":0},null,{"$f":"N17","v":2121},{"$f":"COUNTIF(L142:L174,AN17)","v":0},{"$f":"AO17/(AQ4-AO20)","v":0},{"$f":"IF(AP17=0,0,(AP17*((LOG(AP17))/LOG(2))))","v":0},null,{"$f":"N17","v":2121},{"$f":"COUNTIF(L175:L208,AS17)","v":0},{"$f":"AT17/(AV4-AT20)","v":0},{"$f":"IF(AU17=0,0,(AU17*((LOG(AU17))/LOG(2))))","v":0}]
[12,1328,14,1334,13,1339,14,1345,null,null,0,1111,null,2122,{"$f":"COUNTIF($L$7:$L$500,N18)","v":0},{"$f":"O18/$Q$4","v":0},{"$f":"IF(P18=0,0,(P18*((LOG(P18))/LOG(2))))","v":0},null,null,{"$f":"N18","v":2122},{"$f":"COUNTIF(L7:L40,T18)","v":0},{"$f":"U18/(W4-U20)","v":0},{"$f":"IF(V18=0,0,(V18*((LOG(V18))/LOG(2))))","v":0},null,{"$f":"N18","v":2122},{"$f":"COUNTIF(L41:L73,Y18)","v":0},{"$f":"Z18/(AB4-Z20)","v":0},{"$f":"IF(AA18=0,0,(AA18*((LOG(AA18))/LOG(2))))","v":0},null,{"$f":"N18","v":2122},{"$f":"COUNTIF(L74:L107,AD18)","v":0},{"$f":"AE18/(AG4-AE20)","v":0},{"$f":"IF(AF18=0,0,(AF18*((LOG(AF18))/LOG(2))))","v":0},null,{"$f":"N18","v":2122},{"$f":"COUNTIF(L108:L141,AI18)","v":0},{"$f":"AJ18/(AL4-AJ20)","v":0},{"$f":"IF(AK18=0,0,(AK18*((LOG(AK18))/LOG(2))))","v":0},null,{"$f":"N18","v":2122},{"$f":"COUNTIF(L142:L174,AN18)","v":0},{"$f":"AO18/(AQ4-AO20)","v":0},{"$f":"IF(AP18=0,0,(AP18*((LOG(AP18))/LOG(2))))","v":0},null,{"$f":"N18","v":2122},{"$f":"COUNTIF(L175:L208,AS18)","v":0},{"$f":"AT18/(AV4-AT20)","v":0},{"$f":"IF(AU18=0,0,(AU18*((LOG(AU18))/LOG(2))))","v":0}]
[12,1444,14,1453,13,1459,14,1469,null,null,0,1111,null,2211,{"$f":"COUNTIF($L$7:$L$500,N19)","v":0},{"$f":"O19/$Q$4","v":0},{"$f":"IF(P19=0,0,(P19*((LOG(P19))/LOG(2))))","v":0},null,null,{"$f":"N19","v":2211},{"$f":"COUNTIF(L7:L40,T19)","v":0},{"$f":"U19/(W4-U20)","v":0},{"$f":"IF(V19=0,0,(V19*((LOG(V19))/LOG(2))))","v":0},null,{"$f":"N19","v":2211},{"$f":"COUNTIF(L41:L73,Y19)","v":0},{"$f":"Z19/(AB4-Z20)","v":0},{"$f":"IF(AA19=0,0,(AA19*((LOG(AA19))/LOG(2))))","v":0},null,{"$f":"N19","v":2211},{"$f":"COUNTIF(L74:L107,AD19)","v":0},{"$f":"AE19/(AG4-AE20)","v":0},{"$f":"IF(AF19=0,0,(AF19*((LOG(AF19))/LOG(2))))","v":0},null,{"$f":"N19","v":2211},{"$f":"COUNTIF(L108:L141,AI19)","v":0},{"$f":"AJ19/(AL4-AJ20)","v":0},{"$f":"IF(AK19=0,0,(AK19*((LOG(AK19))/LOG(2))))","v":0},null,{"$f":"N19","v":2211},{"$f":"COUNTIF(L142:L174,AN19)","v":0},{"$f":"AO19/(AQ4-AO20)","v":0},{"$f":"IF(AP19=0,0,(AP19*((LOG(AP19))/LOG(2))))","v":0},null,{"$f":"N19","v":2211},{"$f":"COUNTIF(L175:L208,AS19)","v":0},{"$f":"AT19/(AV4-AT20)","v":0},{"$f":"IF(AU19=0,0,(AU19*((LOG(AU19))/LOG(2))))","v":0}]
[12,1573,14,1580,13,1586,14,1592,null,null,0,1111,null,2212,{"$f":"COUNTIF($L$7:$L$500,N20)","v":0},{"$f":"O20/$Q$4","v":0},{"$f":"IF(P20=0,0,(P20*((LOG(P20))/LOG(2))))","v":0},null,null,{"$f":"N20","v":2212},{"$f":"COUNTIF(L7:L40,T20)","v":0},null,null,null,{"$f":"N20","v":2212},{"$f":"COUNTIF(L41:L73,Y20)","v":0},null,null,null,{"$f":"N20","v":2212},{"$f":"COUNTIF(L74:L107,AD20)","v":0},null,null,null,{"$f":"N20","v":2212},{"$f":"COUNTIF(L108:L141,AI20)","v":0},null,null,null,{"$f":"N20","v":2212},{"$f":"COUNTIF(L142:L174,AN20)","v":0},null,null,null,{"$f":"N20","v":2212},{"$f":"COUNTIF(L175:L208,AS20)","v":0}]
[12,1686,14,1695,13,1700,14,1712,null,null,0,1111,null,2221,{"$f":"COUNTIF($L$7:$L$500,N21)","v":0},{"$f":"O21/$Q$4","v":0},{"$f":"IF(P21=0,0,(P21*((LOG(P21))/LOG(2))))","v":0},null,null,{"$f":"N21","v":2221},{"$f":"COUNTIF(L7:L40,T21)","v":0},{"$f":"U21/(W4-U20)","v":0},{"$f":"IF(V21=0,0,(V21*((LOG(V21))/LOG(2))))","v":0},null,{"$f":"N21","v":2221},{"$f":"COUNTIF(L41:L73,Y21)","v":0},{"$f":"Z21/(AB4-Z20)","v":0},{"$f":"IF(AA21=0,0,(AA21*((LOG(AA21))/LOG(2))))","v":0},null,{"$f":"N21","v":2221},{"$f":"COUNTIF(L74:L107,AD21)","v":0},{"$f":"AE21/(AG4-AE20)","v":0},{"$f":"IF(AF21=0,0,(AF21*((LOG(AF21))/LOG(2))))","v":0},null,{"$f":"N21","v":2221},{"$f":"COUNTIF(L108:L141,AI21)","v":0},{"$f":"AJ21/(AL4-AJ20)","v":0},{"$f":"IF(AK21=0,0,(AK21*((LOG(AK21))/LOG(2))))","v":0},null,{"$f":"N21","v":2221},{"$f":"COUNTIF(L142:L174,AN21)","v":0},{"$f":"AO21/(AQ4-AO20)","v":0},{"$f":"IF(AP21=0,0,(AP21*((LOG(AP21))/LOG(2))))","v":0},null,{"$f":"N21","v":2221},{"$f":"COUNTIF(L175:L208,AS21)","v":0},{"$f":"AT21/(AV4-AT20)","v":0},{"$f":"IF(AU21=0,0,(AU21*((LOG(AU21))/LOG(2))))","v":0}]
[12,1820,14,1826,13,1831,14,1836,null,null,0,1111,null,2222,{"$f":"COUNTIF($L$7:$L$500,N22)","v":3},{"$f":"O22/$Q$4","v":1.4851485148514851E-2},{"$f":"IF(P22=0,0,(P22*((LOG(P22))/LOG(2))))","v":-9.0196767059860961E-2},null,null,{"$f":"N22","v":2222},{"$f":"COUNTIF(L7:L40,T22)","v":1},{"$f":"U22/(W4-U20)","v":2.9411764705882353E-2},{"$f":"IF(V22=0,0,(V22*((LOG(V22))/LOG(2))))","v":-0.14963126003677468},null,{"$f":"N22","v":2222},{"$f":"COUNTIF(L41:L73,Y22)","v":0},{"$f":"Z22/(AB4-Z20)","v":0},{"$f":"IF(AA22=0,0,(AA22*((LOG(AA22))/LOG(2))))","v":0},null,{"$f":"N22","v":2222},{"$f":"COUNTIF(L74:L107,AD22)","v":1},{"$f":"AE22/(AG4-AE20)","v":2.9411764705882353E-2},{"$f":"IF(AF22=0,0,(AF22*((LOG(AF22))/LOG(2))))","v":-0.14963126003677468},null,{"$f":"N22","v":2222},{"$f":"COUNTIF(L108:L141,AI22)","v":0},{"$f":"AJ22/(AL4-AJ20)","v":0},{"$f":"IF(AK22=0,0,(AK22*((LOG(AK22))/LOG(2))))","v":0},null,{"$f":"N22","v":2222},{"$f":"COUNTIF(L142:L174,AN22)","v":0},{"$f":"AO22/(AQ4-AO20)","v":0},{"$f":"IF(AP22=0,0,(AP22*((LOG(AP22))/LOG(2))))","v":0},null,{"$f":"N22","v":2222},{"$f":"COUNTIF(L175:L208,AS22)","v":1},{"$f":"AT22/(AV4-AT20)","v":2.9411764705882353E-2},{"$f":"IF(AU22=0,0,(AU22*((LOG(AU22))/LOG(2))))","v":-0.14963126003677468}]
[12,1933,14,1938,13,1943,14,1964,null,null,0,1111,null,null,null,{"$f":"SUM(P7:P22)","v":1},{"$f":"-SUM(Q7:Q22)","v":0.48728392521770442},null,null,null,null,{"$f":"SUM(V7:V22)","v":1},{"$f":"-SUM(W7:W22)","v":0.19143325481419343},null,null,null,{"$f":"SUM(AA7:AA22)","v":1},{"$f":"-SUM(AB7:AB22)","v":0.19590927087360493},null,null,null,{"$f":"SUM(AF7:AF22)","v":1},{"$f":"-SUM(AG7:AG22)","v":0.69902996277223473},null,null,null,{"$f":"SUM(AK7:AK22)","v":1},{"$f":"-SUM(AL7:AL22)","v":0.32275695889739819},null,null,null,{"$f":"SUM(AP7:AP22)","v":1},{"$f":"-SUM(AQ7:AQ22)","v":0.39045213081320695},null,null,null,{"$f":"SUM(AU7:AU22)","v":1},{"$f":"-SUM(AV7:AV22)","v":0.75785349218399944}]
[12,2058,14,2062,13,2067,14,2072,null,null,0,1111,null,null,null,"U=",{"$f":"Q23/(LOG(Q4)/LOG(2))","v":6.3628946042452547E-2},null,null,null,null,"U1=",{"$f":"W23/(LOG(W4)/LOG(2))","v":3.7628433029919708E-2},null,null,null,"U2=",{"$f":"AB23/(LOG(AB4)/LOG(2))","v":3.8837027051827726E-2},null,null,null,"U3=",{"$f":"AG23/(LOG(AG4)/LOG(2))","v":0.1374024704621597},null,null,null,"U4=",{"$f":"AL23/(LOG(AL4)/LOG(2))","v":6.3441634655374626E-2},null,null,null,"U5=",{"$f":"AQ23/(LOG(AQ4)/LOG(2))","v":7.7403176987063949E-2},null,null,null,"U6=",{"$f":"AV23/(LOG(AV4)/LOG(2))","v":0.1489649194170316}]
[12,2178,14,2182,13,2187,14,2194,null,null,0,1111]
[12,2302,14,2308,13,2313,14,2318,null,null,0,1111]
[12,2416,14,2421,13,2426,14,2431,null,null,0,1111,null,"Total Target Seq"]
[12,2536,14,2542,13,2552,14,2559,null,null,0,1111,null,{"$f":"COUNTIF(L7:L208,G3)","v":0},null,34,33,34,34,33,34]
[12,2665,14,2671,13,2676,14,2682,null,null,0,1111,null,null,null,"% of reinforcement given in 6 equal intervals based on number of trials "]
[12,2771,14,2777,13,2781,14,2800,null,null,0,1111,null,null,null,"%_1","%_2","%_3","%_4","%_5","%_6"]
[12,2903,14,2909,13,2913,14,2924,null,null,0,1111,null,null,"target sequence",{"$f":"$G$3","v":2212},{"$f":"$G$3","v":2212},{"$f":"$G$3","v":2212},{"$f":"$G$3","v":2212},{"$f":"$G$3","v":2212},{"$f":"$G$3","v":2212}]
[12,3023,14,3029,13,3035,14,3039,null,null,0,1111,null,null,"total reinforcement",{"$f":"U20","v":0},{"$f":"Z20","v":0},{"$f":"AE20","v":0},{"$f":"AJ20","v":0},{"$f":"AO20","v":0},{"$f":"AT20","v":0}]
[12,3138,14,3147,13,3156,14,3166,null,null,0,1111,null,null,"% target"]
[12,3273,14,3283,13,3292,14,3300,null,null,0,1111,null,null,"CCRF"]
[12,3400,14,3409,13,3415,14,3421,null,null,0,1111,null,null,"% CCRf"]
[12,3518,14,3524,13,3529,14,3538,null,null,0,1111,null,null,"average response rate",{"$f":"H40/P28","v":119.20588235294117},{"$f":"(H73-H40)/Q28","v":117.36363636363636},{"$f":"(H107-H73)/R28","v":121.58823529411765},{"$f":"(H141-H107)/S28","v":118.5},{"$f":"(H174-H141)/T28","v":117.3030303030303},{"$f":"(H208-H174)/U28","v":118.82352941176471}]
[21,3639,21,3651,22,3660,23,3669,null,null,0,2222]
[12,3762,14,3767,13,3771,14,3777,null,null,0,1111]
[12,3874,14,3879,13,3885,14,3892,null,null,0,1111]
[12,3989,14,3994,13,4005,14,4053,null,null,0,1111]
[12,4155,14,4162,13,4168,14,4173,null,null,0,1111]
[12,4265,14,4273,13,4278,14,4284,null,null,0,1111]
[12,4380,14,4385,13,4390,14,4394,null,null,0,1111]
[12,4499,14,4504,24,4519,23,4528,null,null,0,1122]
[12,4622,14,4627,13,4632,14,4636,null,null,0,1111]
[12,4741,14,4750,13,4758,14,4767,null,null,0,1111]
[12,4862,14,4867,13,4872,14,4877,null,null,0,1111]
[12,4976,14,4981,13,4986,14,4991,null,null,0,1111]
[12,5091,14,5097,13,5101,14,5106,null,null,0,1111]
[12,5203,14,5208,13,5218,14,5225,null,null,0,1111]
[12,5315,14,5321,13,5325,14,5330,null,null,0,1111]
[12,5426,14,5431,13,5436,14,5440,null,null,0,1111]
[12,5541,14,5547,13,5551,14,5556,null,null,0,1111]
[12,5647,14,5653,13,5658,14,5666,null,null,0,1111]
[12,5761,14,5766,13,5775,14,5783,null,null,0,1111]
[12,5884,14,5889,13,5894,14,5902,null,null,0,1111]
[12,5995,14,6001,13,6011,14,6019,null,null,0,1111]
[12,6117,14,6123,13,6129,14,6137,null,null,0,1111]
[12,6229,14,6235,13,6241,14,6249,null,null,0,1111]
[12,6353,14,6362,13,6376,14,6412,null,null,0,1111]
[12,6508,14,6513,13,6518,14,6527,null,null,0,1111]
[12,6622,14,6627,13,6633,14,6643,null,null,0,1111]
[12,6741,14,6747,13,6753,14,6758,null,null,0,1111]
[12,6861,14,6868,13,6874,14,6883,null,null,0,1111]
[12,6982,14,6991,13,6996,14,7004,null,null,0,1111]
[12,7107,14,7114,13,7120,14,7129,null,null,0,1111]
[12,7221,14,7226,13,7231,14,7236,null,null,0,1111]
[12,7334,14,7339,13,7347,14,7354,null,null,0,1111]
[12,7439,14,7445,13,7449,14,7456,null,null,0,1111]
[12,7551,14,7559,13,7565,14,7572,null,null,0,1111]
[12,7665,14,7672,13,7677,14,7692,null,null,0,1111]
[12,7785,14,7791,13,7796,14,7804,null,null,0,1111]
[12,7902,14,7912,13,7918,14,7926,null,null,0,1111]
[12,8018,14,8024,13,8029,14,8034,null,null,0,1111]
[12,8133,14,8137,13,8147,14,8156,null,null,0,1111]
[12,8253,14,8259,13,8265,14,8271,null,null,0,1111]
[12,8366,14,8372,13,8378,14,8388,null,null,0,1111]
[12,8482,14,8489,13,8495,14,8502,null,null,0,1111]
[12,8601,14,8607,13,8612,14,8621,null,null,0,1111]
[12,8717,14,8722,13,8730,14,8740,null,null,0,1111]
[12,8835,14,8841,13,8850,14,8857,null,null,0,1111]
[12,8954,14,8960,13,8968,14,8977,null,null,0,1111]
[21,9073,21,9083,22,9091,23,9100,null,null,0,2222]
[12,9277,14,9282,13,9287,23,9299,null,null,0,1112]
[12,9397,14,9403,13,9409,23,9419,null,null,0,1112]
[12,9516,14,9521,13,9527,14,9537,null,null,0,1111]
[12,9627,14,9633,13,9637,14,9686,null,null,0,1111]
[12,9785,14,9790,13,9796,14,9801,null,null,0,1111]
[12,9896,14,9903,13,9908,14,9916,null,null,0,1111]
[12,10013,14,10019,13,10025,14,10035,null,null,0,1111]
[12,10131,14,10140,13,10146,14,10156,null,null,0,1111]
[12,10254,14,10260,13,10268,14,10276,null,null,0,1111]
[12,10373,14,10378,13,10383,14,10390,null,null,0,1111]
[12,10484,14,10489,13,10494,14,10499,null,null,0,1111]
[12,10597,14,10603,13,10609,14,10620,null,null,0,1111]
[12,10724,14,10731,13,10739,14,10745,null,null,0,1111]
[12,10849,14,10855,13,10864,14,10872,null,null,0,1111]
[12,10973,14,10981,13,10986,14,10991,null,null,0,1111]
[12,11087,14,11093,13,11099,14,11104,null,null,0,1111]
[12,11201,14,11207,13,11213,14,11221,null,null,0,1111]
[12,11321,14,11326,13,11332,14,11341,null,null,0,1111]
[12,11438,14,11443,13,11449,14,11458,null,null,0,1111]
[12,11553,14,11567,13,11572,14,11581,null,null,0,1111]
[12,11681,14,11686,13,11694,14,11702,null,null,0,1111]
[12,11800,14,11805,13,11811,14,11819,null,null,0,1111]
[12,11916,14,11922,13,11928,14,11936,null,null,0,1111]
[12,12034,14,12040,24,12052,23,12060,null,null,0,1122]
[12,12156,14,12162,13,12167,14,12173,null,null,0,1111]
[12,12272,14,12277,13,12284,14,12293,null,null,0,1111]
[12,12391,14,12420,13,12429,14,12440,null,null,0,1111]
[12,12530,14,12535,13,12541,14,12547,null,null,0,1111]
[12,12644,14,12649,13,12655,14,12665,null,null,0,1111]
[12,12775,14,12781,13,12791,14,12806,null,null,0,1111]
[12,12903,14,12908,13,12914,14,12920,null,null,0,1111]
[12,13022,14,13028,13,13033,14,13042,null,null,0,1111]
[12,13129,14,13135,13,13140,14,13145,null,null,0,1111]
[12,13242,14,13247,13,13251,14,13256,null,null,0,1111]
[12,13355,14,13361,13,13366,14,13375,null,null,0,1111]
[12,13474,14,13479,13,13483,14,13492,null,null,0,1111]
[12,13591,14,13597,13,13603,14,13624,null,null,0,1111]
[12,13722,14,13728,13,13734,14,13743,null,null,0,1111]
[12,13834,14,13839,13,13848,14,13857,null,null,0,1111]
[12,13956,14,13961,13,13966,14,13975,null,null,0,1111]
[12,14078,14,14084,13,14091,14,14100,null,null,0,1111]
[12,14197,14,14203,13,14208,14,14217,null,null,0,1111]
[12,14307,14,14313,13,14319,14,14325,null,null,0,1111]
[12,14424,14,14429,13,14435,14,14442,null,null,0,1111]
[12,14539,14,14545,13,14550,14,14556,null,null,0,1111]
[12,14657,14,14663,13,14668,14,14673,null,null,0,1111]
[12,14770,14,14775,13,14781,14,14790,null,null,0,1111]
[12,14889,14,14894,13,14903,14,14911,null,null,0,1111]
[12,15005,14,15012,13,15017,14,15023,null,null,0,1111]
[12,15122,14,15130,13,15136,14,15144,null,null,0,1111]
[12,15240,14,15249,13,15257,14,15262,null,null,0,1111]
[12,15358,14,15359,13,15364,14,15371,null,null,0,1111]
[12,15468,14,15473,13,15478,14,15483,null,null,0,1111]
[12,15578,14,15584,13,15588,14,15593,null,null,0,1111]
[12,15689,14,15694,13,15699,14,15704,null,null,0,1111]
[12,15794,14,15800,13,15806,14,15812,null,null,0,1111]
[12,15916,14,15922,13,15927,23,15939,null,null,0,1112]
[12,16035,14,16043,13,16052,23,16089,null,null,0,1112]
[12,16185,14,16190,13,16194,14,16199,null,null,0,1111]
[12,16294,14,16300,13,16305,14,16310,null,null,0,1111]
[12,16405,14,16413,13,16418,14,16426,null,null,0,1111]
[12,16523,14,16528,13,16533,14,16538,null,null,0,1111]
[12,16633,14,16639,13,16645,14,16654,null,null,0,1111]
[12,16750,14,16755,13,16761,14,16777,null,null,0,1111]
[12,16870,14,16875,13,16881,14,16886,null,null,0,1111]
[12,16972,14,16979,13,16984,14,16990,null,null,0,1111]
[12,17095,14,17103,13,17113,23,17130,null,null,0,1112]
[12,17227,14,17233,13,17239,14,17247,null,null,0,1111]
[12,17342,14,17349,13,17355,14,17361,null,null,0,1111]
[12,17449,14,17458,13,17463,14,17473,null,null,0,1111]
[12,17579,14,17584,13,17590,14,17599,null,null,0,1111]
[12,17698,14,17704,13,17709,14,17717,null,null,0,1111]
[12,17823,14,17832,13,17845,14,17857,null,null,0,1111]
[12,17954,14,17959,13,17965,14,17972,null,null,0,1111]
[12,18060,14,18066,13,18071,14,18076,null,null,0,1111]
[12,18174,14,18179,13,18184,14,18192,null,null,0,1111]
[12,18288,14,18294,13,18299,14,18306,null,null,0,1111]
[12,18402,14,18411,13,18416,14,18426,null,null,0,1111]
[12,18521,14,18528,13,18535,14,18543,null,null,0,1111]
[12,18644,14,18649,13,18654,14,18664,null,null,0,1111]
[12,18759,14,18765,13,18771,14,18776,null,null,0,1111]
[12,18872,14,18878,13,18883,14,18892,null,null,0,1111]
[12,18980,14,18986,13,18992,14,18997,null,null,0,1111]
[12,19092,14,19097,13,19106,14,19114,null,null,0,1111]
[12,19213,14,19217,13,19221,14,19228,null,null,0,1111]
[12,19324,14,19333,13,19337,14,19352,null,null,0,1111]
[12,19447,14,19454,13,19459,14,19467,null,null,0,1111]
[12,19564,14,19570,13,19574,14,19579,null,null,0,1111]
[12,19678,14,19683,13,19689,14,19695,null,null,0,1111]
[12,19809,14,19818,24,19838,23,19849,null,null,0,1122]
[12,19946,14,19951,13,19956,14,19960,null,null,0,1111]
[12,20051,14,20057,13,20063,14,20071,null,null,0,1111]
[12,20169,14,20174,13,20180,14,20186,null,null,0,1111]
[12,20281,14,20287,13,20292,14,20301,null,null,0,1111]
[12,20410,14,20418,13,20424,14,20431,null,null,0,1111]
[12,20536,14,20542,13,20551,14,20560,null,null,0,1111]
[12,20654,14,20660,13,20666,14,20672,null,null,0,1111]
[12,20758,14,20764,13,20770,14,20779,null,null,0,1111]
[12,20879,14,20884,13,20889,14,20894,null,null,0,1111]
[12,20997,14,21002,13,21007,14,21016,null,null,0,1111]
[21,21125,12,21144,13,21149,23,21173,null,null,0,2112]
[12,21274,14,21283,13,21288,14,21296,null,null,0,1111]
[12,21394,14,21400,13,21405,14,21414,null,null,0,1111]
[12,21509,14,21514,13,21520,14,21526,null,null,0,1111]
[12,21626,14,21632,13,21637,14,21647,null,null,0,1111]
[12,21742,14,21748,13,21754,14,21760,null,null,0,1111]
[12,21846,14,21853,13,21858,14,21864,null,null,0,1111]
[12,21960,14,21965,13,21971,14,21977,null,null,0,1111]
[12,22078,14,22085,13,22090,14,22096,null,null,0,1111]
[12,22193,14,22199,13,22204,14,22213,null,null,0,1111]
[12,22309,14,22315,13,22321,14,22330,null,null,0,1111]
[12,22422,14,22427,13,22433,14,22438,null,null,0,1111]
[12,22539,14,22545,13,22551,14,22564,null,null,0,1111]
[21,22662,21,22671,22,22687,23,22697,null,null,0,2222]
[12,22792,14,22798,13,22807,14,22816,null,null,0,1111]
[12,22911,14,22917,13,22923,14,22929,null,null,0,1111]
[12,23016,14,23024,13,23031,14,23043,null,null,0,1111]
[12,23140,14,23145,13,23151,23,23165,null,null,0,1112]
[12,23264,14,23272,24,23286,23,23293,null,null,0,1122]
[12,23395,14,23403,13,23409,14,23417,null,null,0,1111]
[12,23515,14,23521,13,23529,14,23534,null,null,0,1111]
[12,23629,14,23634,13,23640,14,23646,null,null,0,1111]
[12,23743,14,23748,13,23754,14,23763,null,null,0,1111]
[12,23861,14,23868,13,23873,14,23882,null,null,0,1111]
[12,23981,14,23986,13,23991,14,24000,null,null,null,1111]

{"sheet":"!L917B00.056","index":20,"n_rows":206,"n_cols":48,"rows_kept":206,"cut":false,"hidden":false,"merged":[[4,39,4,42],[5,39,5,40],[4,44,4,47],[5,44,5,45],[4,24,4,27],[5,24,5,25],[4,29,4,32],[5,29,5,30],[4,34,4,37],[5,34,5,35],[1,1,1,2],[5,13,5,14],[26,13,26,14],[27,13,27,14],[4,19,4,22],[5,19,5,20]]}
["Report for:!L917B00.056"]
["Date:","<date>"]
["Hen:","<hen>",null,null,null,"Correct Sequence",{"$f":"Start!J2","v":2212},null,null,null,null,null,null,null,null,"Total Sequences in Data",{"$f":"4994-COUNTBLANK(L7:L5000)","v":200},null,null,null,null,"Total Sequences in Block Data",{"$f":"COUNTA(L7:L39)","v":33},null,null,null,"Total Sequences in Block Data",{"$f":"COUNTA(L40:L73)","v":34},null,null,null,"Total Sequences in Block Data",{"$f":"COUNTA(L74:L106)","v":33},null,null,null,"Total Sequences in Block Data",{"$f":"COUNTA(L107:L139)","v":33},null,null,null,"Total Sequences in Block Data",{"$f":"COUNTA(L140:L173)","v":34},null,null,null,"Total Sequences in Block Data",{"$f":"COUNTA(L174:L206)","v":33}]
[null,null,null,null,null,null,null,null,null,null,null,null,null,null,null,"Total Sequences in Summary",{"$f":"SUM(O7:O22)","v":199},null,null,null,null,"Total Sequences in Block Summary",{"$f":"SUM(U7:U22)","v":33},null,null,null,"Total Sequences in Block Summary",{"$f":"SUM(Z7:Z22)","v":34},null,null,null,"Total Sequences in Block Summary",{"$f":"SUM(AE7:AE22)","v":33},null,null,null,"Total Sequences in Block Summary",{"$f":"SUM(AJ7:AJ22)","v":33},null,null,null,"Total Sequences in Block Summary",{"$f":"SUM(AO7:AO22)","v":34},null,null,null,"Total Sequences in Block Summary",{"$f":"SUM(AT7:AT22)","v":32}]
[null,null,null,null,null,null,null,null,null,null,null,null,null,null,null,null,null,null,null,"Block 1",null,null,null,null,"Block 2",null,null,null,null,"Block 3",null,null,null,null,"Block 4",null,null,null,null,"Block 5",null,null,null,null,"Block 6"]
["Sequence\nComponent\n1","Time\n1","Sequence\nComponent\n2","Time\n2","Sequence\nComponent\n3","Time\n3","Sequence\nComponent\n4","Time\n4","Sequence\nComponent\n5","Time\n5","Correct?\n0=No 1=Yes","Sequence",null,"Frequency",null,"Relative Frequency","Variability",null,null,"Frequency",null,"Relative Frequency","Variability",null,"Frequency",null,"Relative Frequency","Variability",null,"Frequency",null,"Relative Frequency","Variability",null,"Frequency",null,"Relative Frequency","Variability",null,"Frequency",null,"Relative Frequency","Variability",null,"Frequency",null,"Relative Frequency","Variability"]
[12,25,14,35,24,51,14,69,null,null,0,1121,null,1111,{"$f":"COUNTIF($L$7:$L$500,N7)","v":191},{"$f":"O7/$Q$4","v":0.95979899497487442},{"$f":"IF(P7=0,0,(P7*((LOG(P7))/LOG(2))))","v":-5.6816062155823688E-2},null,null,{"$f":"N7","v":1111},{"$f":"COUNTIF(L7:L39,T7)","v":32},{"$f":"U7/(W4-U20)","v":0.96969696969696972},{"$f":"IF(V7=0,0,(V7*((LOG(V7))/LOG(2))))","v":-4.3048843014257841E-2},null,{"$f":"N7","v":1111},{"$f":"COUNTIF(L40:L73,Y7)","v":31},{"$f":"Z7/(AB4-Z20)","v":0.91176470588235292},{"$f":"IF(AA7=0,0,(AA7*((LOG(AA7))/LOG(2))))","v":-0.12150771931668795},null,{"$f":"N7","v":1111},{"$f":"COUNTIF(L74:L106,AD7)","v":33},{"$f":"AE7/(AG4-AE20)","v":1},{"$f":"IF(AF7=0,0,(AF7*((LOG(AF7))/LOG(2))))","v":0},null,{"$f":"N7","v":1111},{"$f":"COUNTIF(L107:L139,AI7)","v":31},{"$f":"AJ7/(AL4-AJ20)","v":0.93939393939393945},{"$f":"IF(AK7=0,0,(AK7*((LOG(AK7))/LOG(2))))","v":-8.4731275094512809E-2},null,{"$f":"N7","v":1111},{"$f":"COUNTIF(L140:L173,AN7)","v":33},{"$f":"AO7/(AQ4-AO20)","v":0.97058823529411764},{"$f":"IF(AP7=0,0,(AP7*((LOG(AP7))/LOG(2))))","v":-4.1801994777418743E-2},null,{"$f":"N7","v":1111},{"$f":"COUNTIF(L174:L206,AS7)","v":31},{"$f":"AT7/(AV4-AT20)","v":0.96875},{"$f":"IF(AU7=0,0,(AU7*((LOG(AU7))/LOG(2))))","v":-4.4372324312714644E-2}]
[12,176,14,182,13,192,14,205,null,null,0,1111,null,1112,{"$f":"COUNTIF($L$7:$L$500,N8)","v":2},{"$f":"O8/$Q$4","v":1.0050251256281407E-2},{"$f":"IF(P8=0,0,(P8*((LOG(P8))/LOG(2))))","v":-6.6699744930086929E-2},null,null,{"$f":"N8","v":1112},{"$f":"COUNTIF(L7:L39,T8)","v":0},{"$f":"U8/(W4-U20)","v":0},{"$f":"IF(V8=0,0,(V8*((LOG(V8))/LOG(2))))","v":0},null,{"$f":"N8","v":1112},{"$f":"COUNTIF(L40:L73,Y8)","v":1},{"$f":"Z8/(AB4-Z20)","v":2.9411764705882353E-2},{"$f":"IF(AA8=0,0,(AA8*((LOG(AA8))/LOG(2))))","v":-0.14963126003677468},null,{"$f":"N8","v":1112},{"$f":"COUNTIF(L74:L106,AD8)","v":0},{"$f":"AE8/(AG4-AE20)","v":0},{"$f":"IF(AF8=0,0,(AF8*((LOG(AF8))/LOG(2))))","v":0},null,{"$f":"N8","v":1112},{"$f":"COUNTIF(L107:L139,AI8)","v":1},{"$f":"AJ8/(AL4-AJ20)","v":3.0303030303030304E-2},{"$f":"IF(AK8=0,0,(AK8*((LOG(AK8))/LOG(2))))","v":-0.15286042785934709},null,{"$f":"N8","v":1112},{"$f":"COUNTIF(L140:L173,AN8)","v":0},{"$f":"AO8/(AQ4-AO20)","v":0},{"$f":"IF(AP8=0,0,(AP8*((LOG(AP8))/LOG(2))))","v":0},null,{"$f":"N8","v":1112},{"$f":"COUNTIF(L174:L206,AS8)","v":0},{"$f":"AT8/(AV4-AT20)","v":0},{"$f":"IF(AU8=0,0,(AU8*((LOG(AU8))/LOG(2))))","v":0}]
[12,317,14,323,13,332,14,344,null,null,0,1111,null,1121,{"$f":"COUNTIF($L$7:$L$500,N9)","v":1},{"$f":"O9/$Q$4","v":5.0251256281407036E-3},{"$f":"IF(P9=0,0,(P9*((LOG(P9))/LOG(2))))","v":-3.8374998093184169E-2},null,null,{"$f":"N9","v":1121},{"$f":"COUNTIF(L7:L39,T9)","v":1},{"$f":"U9/(W4-U20)","v":3.0303030303030304E-2},{"$f":"IF(V9=0,0,(V9*((LOG(V9))/LOG(2))))","v":-0.15286042785934709},null,{"$f":"N9","v":1121},{"$f":"COUNTIF(L40:L73,Y9)","v":0},{"$f":"Z9/(AB4-Z20)","v":0},{"$f":"IF(AA9=0,0,(AA9*((LOG(AA9))/LOG(2))))","v":0},null,{"$f":"N9","v":1121},{"$f":"COUNTIF(L74:L106,AD9)","v":0},{"$f":"AE9/(AG4-AE20)","v":0},{"$f":"IF(AF9=0,0,(AF9*((LOG(AF9))/LOG(2))))","v":0},null,{"$f":"N9","v":1121},{"$f":"COUNTIF(L107:L139,AI9)","v":0},{"$f":"AJ9/(AL4-AJ20)","v":0},{"$f":"IF(AK9=0,0,(AK9*((LOG(AK9))/LOG(2))))","v":0},null,{"$f":"N9","v":1121},{"$f":"COUNTIF(L140:L173,AN9)","v":0},{"$f":"AO9/(AQ4-AO20)","v":0},{"$f":"IF(AP9=0,0,(AP9*((LOG(AP9))/LOG(2))))","v":0},null,{"$f":"N9","v":1121},{"$f":"COUNTIF(L174:L206,AS9)","v":0},{"$f":"AT9/(AV4-AT20)","v":0},{"$f":"IF(AU9=0,0,(AU9*((LOG(AU9))/LOG(2))))","v":0}]
[12,445,14,452,13,458,14,468,null,null,0,1111,null,1122,{"$f":"COUNTIF($L$7:$L$500,N10)","v":1},{"$f":"O10/$Q$4","v":5.0251256281407036E-3},{"$f":"IF(P10=0,0,(P10*((LOG(P10))/LOG(2))))","v":-3.8374998093184169E-2},null,null,{"$f":"N10","v":1122},{"$f":"COUNTIF(L7:L39,T10)","v":0},{"$f":"U10/(W4-U20)","v":0},{"$f":"IF(V10=0,0,(V10*((LOG(V10))/LOG(2))))","v":0},null,{"$f":"N10","v":1122},{"$f":"COUNTIF(L40:L73,Y10)","v":1},{"$f":"Z10/(AB4-Z20)","v":2.9411764705882353E-2},{"$f":"IF(AA10=0,0,(AA10*((LOG(AA10))/LOG(2))))","v":-0.14963126003677468},null,{"$f":"N10","v":1122},{"$f":"COUNTIF(L74:L106,AD10)","v":0},{"$f":"AE10/(AG4-AE20)","v":0},{"$f":"IF(AF10=0,0,(AF10*((LOG(AF10))/LOG(2))))","v":0},null,{"$f":"N10","v":1122},{"$f":"COUNTIF(L107:L139,AI10)","v":0},{"$f":"AJ10/(AL4-AJ20)","v":0},{"$f":"IF(AK10=0,0,(AK10*((LOG(AK10))/LOG(2))))","v":0},null,{"$f":"N10","v":1122},{"$f":"COUNTIF(L140:L173,AN10)","v":0},{"$f":"AO10/(AQ4-AO20)","v":0},{"$f":"IF(AP10=0,0,(AP10*((LOG(AP10))/LOG(2))))","v":0},null,{"$f":"N10","v":1122},{"$f":"COUNTIF(L174:L206,AS10)","v":0},{"$f":"AT10/(AV4-AT20)","v":0},{"$f":"IF(AU10=0,0,(AU10*((LOG(AU10))/LOG(2))))","v":0}]
[12,584,14,590,13,599,14,608,null,null,0,1111,null,1211,{"$f":"COUNTIF($L$7:$L$500,N11)","v":0},{"$f":"O11/$Q$4","v":0},{"$f":"IF(P11=0,0,(P11*((LOG(P11))/LOG(2))))","v":0},null,null,{"$f":"N11","v":1211},{"$f":"COUNTIF(L7:L39,T11)","v":0},{"$f":"U11/(W4-U20)","v":0},{"$f":"IF(V11=0,0,(V11*((LOG(V11))/LOG(2))))","v":0},null,{"$f":"N11","v":1211},{"$f":"COUNTIF(L40:L73,Y11)","v":0},{"$f":"Z11/(AB4-Z20)","v":0},{"$f":"IF(AA11=0,0,(AA11*((LOG(AA11))/LOG(2))))","v":0},null,{"$f":"N11","v":1211},{"$f":"COUNTIF(L74:L106,AD11)","v":0},{"$f":"AE11/(AG4-AE20)","v":0},{"$f":"IF(AF11=0,0,(AF11*((LOG(AF11))/LOG(2))))","v":0},null,{"$f":"N11","v":1211},{"$f":"COUNTIF(L107:L139,AI11)","v":0},{"$f":"AJ11/(AL4-AJ20)","v":0},{"$f":"IF(AK11=0,0,(AK11*((LOG(AK11))/LOG(2))))","v":0},null,{"$f":"N11","v":1211},{"$f":"COUNTIF(L140:L173,AN11)","v":0},{"$f":"AO11/(AQ4-AO20)","v":0},{"$f":"IF(AP11=0,0,(AP11*((LOG(AP11))/LOG(2))))","v":0},null,{"$f":"N11","v":1211},{"$f":"COUNTIF(L174:L206,AS11)","v":0},{"$f":"AT11/(AV4-AT20)","v":0},{"$f":"IF(AU11=0,0,(AU11*((LOG(AU11))/LOG(2))))","v":0}]
[12,712,14,717,13,721,14,727,null,null,0,1111,null,1212,{"$f":"COUNTIF($L$7:$L$500,N12)","v":0},{"$f":"O12/$Q$4","v":0},{"$f":"IF(P12=0,0,(P12*((LOG(P12))/LOG(2))))","v":0},null,null,{"$f":"N12","v":1212},{"$f":"COUNTIF(L7:L39,T12)","v":0},{"$f":"U12/(W4-U20)","v":0},{"$f":"IF(V12=0,0,(V12*((LOG(V12))/LOG(2))))","v":0},null,{"$f":"N12","v":1212},{"$f":"COUNTIF(L40:L73,Y12)","v":0},{"$f":"Z12/(AB4-Z20)","v":0},{"$f":"IF(AA12=0,0,(AA12*((LOG(AA12))/LOG(2))))","v":0},null,{"$f":"N12","v":1212},{"$f":"COUNTIF(L74:L106,AD12)","v":0},{"$f":"AE12/(AG4-AE20)","v":0},{"$f":"IF(AF12=0,0,(AF12*((LOG(AF12))/LOG(2))))","v":0},null,{"$f":"N12","v":1212},{"$f":"COUNTIF(L107:L139,AI12)","v":0},{"$f":"AJ12/(AL4-AJ20)","v":0},{"$f":"IF(AK12=0,0,(AK12*((LOG(AK12))/LOG(2))))","v":0},null,{"$f":"N12","v":1212},{"$f":"COUNTIF(L140:L173,AN12)","v":0},{"$f":"AO12/(AQ4-AO20)","v":0},{"$f":"IF(AP12=0,0,(AP12*((LOG(AP12))/LOG(2))))","v":0},null,{"$f":"N12","v":1212},{"$f":"COUNTIF(L174:L206,AS12)","v":0},{"$f":"AT12/(AV4-AT20)","v":0},{"$f":"IF(AU12=0,0,(AU12*((LOG(AU12))/LOG(2))))","v":0}]
[12,826,14,831,13,837,14,843,null,null,0,1111,null,1221,{"$f":"COUNTIF($L$7:$L$500,N13)","v":0},{"$f":"O13/$Q$4","v":0},{"$f":"IF(P13=0,0,(P13*((LOG(P13))/LOG(2))))","v":0},null,null,{"$f":"N13","v":1221},{"$f":"COUNTIF(L7:L39,T13)","v":0},{"$f":"U13/(W4-U20)","v":0},{"$f":"IF(V13=0,0,(V13*((LOG(V13))/LOG(2))))","v":0},null,{"$f":"N13","v":1221},{"$f":"COUNTIF(L40:L73,Y13)","v":0},{"$f":"Z13/(AB4-Z20)","v":0},{"$f":"IF(AA13=0,0,(AA13*((LOG(AA13))/LOG(2))))","v":0},null,{"$f":"N13","v":1221},{"$f":"COUNTIF(L74:L106,AD13)","v":0},{"$f":"AE13/(AG4-AE20)","v":0},{"$f":"IF(AF13=0,0,(AF13*((LOG(AF13))/LOG(2))))","v":0},null,{"$f":"N13","v":1221},{"$f":"COUNTIF(L107:L139,AI13)","v":0},{"$f":"AJ13/(AL4-AJ20)","v":0},{"$f":"IF(AK13=0,0,(AK13*((LOG(AK13))/LOG(2))))","v":0},null,{"$f":"N13","v":1221},{"$f":"COUNTIF(L140:L173,AN13)","v":0},{"$f":"AO13/(AQ4-AO20)","v":0},{"$f":"IF(AP13=0,0,(AP13*((LOG(AP13))/LOG(2))))","v":0},null,{"$f":"N13","v":1221},{"$f":"COUNTIF(L174:L206,AS13)","v":0},{"$f":"AT13/(AV4-AT20)","v":0},{"$f":"IF(AU13=0,0,(AU13*((LOG(AU13))/LOG(2))))","v":0}]
[12,957,14,962,13,971,14,982,null,null,0,1111,null,1222,{"$f":"COUNTIF($L$7:$L$500,N14)","v":0},{"$f":"O14/$Q$4","v":0},{"$f":"IF(P14=0,0,(P14*((LOG(P14))/LOG(2))))","v":0},null,null,{"$f":"N14","v":1222},{"$f":"COUNTIF(L7:L39,T14)","v":0},{"$f":"U14/(W4-U20)","v":0},{"$f":"IF(V14=0,0,(V14*((LOG(V14))/LOG(2))))","v":0},null,{"$f":"N14","v":1222},{"$f":"COUNTIF(L40:L73,Y14)","v":0},{"$f":"Z14/(AB4-Z20)","v":0},{"$f":"IF(AA14=0,0,(AA14*((LOG(AA14))/LOG(2))))","v":0},null,{"$f":"N14","v":1222},{"$f":"COUNTIF(L74:L106,AD14)","v":0},{"$f":"AE14/(AG4-AE20)","v":0},{"$f":"IF(AF14=0,0,(AF14*((LOG(AF14))/LOG(2))))","v":0},null,{"$f":"N14","v":1222},{"$f":"COUNTIF(L107:L139,AI14)","v":0},{"$f":"AJ14/(AL4-AJ20)","v":0},{"$f":"IF(AK14=0,0,(AK14*((LOG(AK14))/LOG(2))))","v":0},null,{"$f":"N14","v":1222},{"$f":"COUNTIF(L140:L173,AN14)","v":0},{"$f":"AO14/(AQ4-AO20)","v":0},{"$f":"IF(AP14=0,0,(AP14*((LOG(AP14))/LOG(2))))","v":0},null,{"$f":"N14","v":1222},{"$f":"COUNTIF(L174:L206,AS14)","v":0},{"$f":"AT14/(AV4-AT20)","v":0},{"$f":"IF(AU14=0,0,(AU14*((LOG(AU14))/LOG(2))))","v":0}]
[12,1080,14,1085,13,1091,14,1101,null,null,0,1111,null,2111,{"$f":"COUNTIF($L$7:$L$500,N15)","v":0},{"$f":"O15/$Q$4","v":0},{"$f":"IF(P15=0,0,(P15*((LOG(P15))/LOG(2))))","v":0},null,null,{"$f":"N15","v":2111},{"$f":"COUNTIF(L7:L39,T15)","v":0},{"$f":"U15/(W4-U20)","v":0},{"$f":"IF(V15=0,0,(V15*((LOG(V15))/LOG(2))))","v":0},null,{"$f":"N15","v":2111},{"$f":"COUNTIF(L40:L73,Y15)","v":0},{"$f":"Z15/(AB4-Z20)","v":0},{"$f":"IF(AA15=0,0,(AA15*((LOG(AA15))/LOG(2))))","v":0},null,{"$f":"N15","v":2111},{"$f":"COUNTIF(L74:L106,AD15)","v":0},{"$f":"AE15/(AG4-AE20)","v":0},{"$f":"IF(AF15=0,0,(AF15*((LOG(AF15))/LOG(2))))","v":0},null,{"$f":"N15","v":2111},{"$f":"COUNTIF(L107:L139,AI15)","v":0},{"$f":"AJ15/(AL4-AJ20)","v":0},{"$f":"IF(AK15=0,0,(AK15*((LOG(AK15))/LOG(2))))","v":0},null,{"$f":"N15","v":2111},{"$f":"COUNTIF(L140:L173,AN15)","v":0},{"$f":"AO15/(AQ4-AO20)","v":0},{"$f":"IF(AP15=0,0,(AP15*((LOG(AP15))/LOG(2))))","v":0},null,{"$f":"N15","v":2111},{"$f":"COUNTIF(L174:L206,AS15)","v":0},{"$f":"AT15/(AV4-AT20)","v":0},{"$f":"IF(AU15=0,0,(AU15*((LOG(AU15))/LOG(2))))","v":0}]
[12,1203,14,1211,13,1217,14,1229,null,null,0,1111,null,2112,{"$f":"COUNTIF($L$7:$L$500,N16)","v":0},{"$f":"O16/$Q$4","v":0},{"$f":"IF(P16=0,0,(P16*((LOG(P16))/LOG(2))))","v":0},null,null,{"$f":"N16","v":2112},{"$f":"COUNTIF(L7:L39,T16)","v":0},{"$f":"U16/(W4-U20)","v":0},{"$f":"IF(V16=0,0,(V16*((LOG(V16))/LOG(2))))","v":0},null,{"$f":"N16","v":2112},{"$f":"COUNTIF(L40:L73,Y16)","v":0},{"$f":"Z16/(AB4-Z20)","v":0},{"$f":"IF(AA16=0,0,(AA16*((LOG(AA16))/LOG(2))))","v":0},null,{"$f":"N16","v":2112},{"$f":"COUNTIF(L74:L106,AD16)","v":0},{"$f":"AE16/(AG4-AE20)","v":0},{"$f":"IF(AF16=0,0,(AF16*((LOG(AF16))/LOG(2))))","v":0},null,{"$f":"N16","v":2112},{"$f":"COUNTIF(L107:L139,AI16)","v":0},{"$f":"AJ16/(AL4-AJ20)","v":0},{"$f":"IF(AK16=0,0,(AK16*((LOG(AK16))/LOG(2))))","v":0},null,{"$f":"N16","v":2112},{"$f":"COUNTIF(L140:L173,AN16)","v":0},{"$f":"AO16/(AQ4-AO20)","v":0},{"$f":"IF(AP16=0,0,(AP16*((LOG(AP16))/LOG(2))))","v":0},null,{"$f":"N16","v":2112},{"$f":"COUNTIF(L174:L206,AS16)","v":0},{"$f":"AT16/(AV4-AT20)","v":0},{"$f":"IF(AU16=0,0,(AU16*((LOG(AU16))/LOG(2))))","v":0}]
[12,1340,14,1345,13,1350,14,1355,null,null,0,1111,null,2121,{"$f":"COUNTIF($L$7:$L$500,N17)","v":0},{"$f":"O17/$Q$4","v":0},{"$f":"IF(P17=0,0,(P17*((LOG(P17))/LOG(2))))","v":0},null,null,{"$f":"N17","v":2121},{"$f":"COUNTIF(L7:L39,T17)","v":0},{"$f":"U17/(W4-U20)","v":0},{"$f":"IF(V17=0,0,(V17*((LOG(V17))/LOG(2))))","v":0},null,{"$f":"N17","v":2121},{"$f":"COUNTIF(L40:L73,Y17)","v":0},{"$f":"Z17/(AB4-Z20)","v":0},{"$f":"IF(AA17=0,0,(AA17*((LOG(AA17))/LOG(2))))","v":0},null,{"$f":"N17","v":2121},{"$f":"COUNTIF(L74:L106,AD17)","v":0},{"$f":"AE17/(AG4-AE20)","v":0},{"$f":"IF(AF17=0,0,(AF17*((LOG(AF17))/LOG(2))))","v":0},null,{"$f":"N17","v":2121},{"$f":"COUNTIF(L107:L139,AI17)","v":0},{"$f":"AJ17/(AL4-AJ20)","v":0},{"$f":"IF(AK17=0,0,(AK17*((LOG(AK17))/LOG(2))))","v":0},null,{"$f":"N17","v":2121},{"$f":"COUNTIF(L140:L173,AN17)","v":0},{"$f":"AO17/(AQ4-AO20)","v":0},{"$f":"IF(AP17=0,0,(AP17*((LOG(AP17))/LOG(2))))","v":0},null,{"$f":"N17","v":2121},{"$f":"COUNTIF(L174:L206,AS17)","v":0},{"$f":"AT17/(AV4-AT20)","v":0},{"$f":"IF(AU17=0,0,(AU17*((LOG(AU17))/LOG(2))))","v":0}]
[12,1452,14,1458,13,1464,14,1469,null,null,0,1111,null,2122,{"$f":"COUNTIF($L$7:$L$500,N18)","v":0},{"$f":"O18/$Q$4","v":0},{"$f":"IF(P18=0,0,(P18*((LOG(P18))/LOG(2))))","v":0},null,null,{"$f":"N18","v":2122},{"$f":"COUNTIF(L7:L39,T18)","v":0},{"$f":"U18/(W4-U20)","v":0},{"$f":"IF(V18=0,0,(V18*((LOG(V18))/LOG(2))))","v":0},null,{"$f":"N18","v":2122},{"$f":"COUNTIF(L40:L73,Y18)","v":0},{"$f":"Z18/(AB4-Z20)","v":0},{"$f":"IF(AA18=0,0,(AA18*((LOG(AA18))/LOG(2))))","v":0},null,{"$f":"N18","v":2122},{"$f":"COUNTIF(L74:L106,AD18)","v":0},{"$f":"AE18/(AG4-AE20)","v":0},{"$f":"IF(AF18=0,0,(AF18*((LOG(AF18))/LOG(2))))","v":0},null,{"$f":"N18","v":2122},{"$f":"COUNTIF(L107:L139,AI18)","v":0},{"$f":"AJ18/(AL4-AJ20)","v":0},{"$f":"IF(AK18=0,0,(AK18*((LOG(AK18))/LOG(2))))","v":0},null,{"$f":"N18","v":2122},{"$f":"COUNTIF(L140:L173,AN18)","v":0},{"$f":"AO18/(AQ4-AO20)","v":0},{"$f":"IF(AP18=0,0,(AP18*((LOG(AP18))/LOG(2))))","v":0},null,{"$f":"N18","v":2122},{"$f":"COUNTIF(L174:L206,AS18)","v":0},{"$f":"AT18/(AV4-AT20)","v":0},{"$f":"IF(AU18=0,0,(AU18*((LOG(AU18))/LOG(2))))","v":0}]
[12,1575,14,1580,13,1586,14,1595,null,null,0,1111,null,2211,{"$f":"COUNTIF($L$7:$L$500,N19)","v":0},{"$f":"O19/$Q$4","v":0},{"$f":"IF(P19=0,0,(P19*((LOG(P19))/LOG(2))))","v":0},null,null,{"$f":"N19","v":2211},{"$f":"COUNTIF(L7:L39,T19)","v":0},{"$f":"U19/(W4-U20)","v":0},{"$f":"IF(V19=0,0,(V19*((LOG(V19))/LOG(2))))","v":0},null,{"$f":"N19","v":2211},{"$f":"COUNTIF(L40:L73,Y19)","v":0},{"$f":"Z19/(AB4-Z20)","v":0},{"$f":"IF(AA19=0,0,(AA19*((LOG(AA19))/LOG(2))))","v":0},null,{"$f":"N19","v":2211},{"$f":"COUNTIF(L74:L106,AD19)","v":0},{"$f":"AE19/(AG4-AE20)","v":0},{"$f":"IF(AF19=0,0,(AF19*((LOG(AF19))/LOG(2))))","v":0},null,{"$f":"N19","v":2211},{"$f":"COUNTIF(L107:L139,AI19)","v":0},{"$f":"AJ19/(AL4-AJ20)","v":0},{"$f":"IF(AK19=0,0,(AK19*((LOG(AK19))/LOG(2))))","v":0},null,{"$f":"N19","v":2211},{"$f":"COUNTIF(L140:L173,AN19)","v":0},{"$f":"AO19/(AQ4-AO20)","v":0},{"$f":"IF(AP19=0,0,(AP19*((LOG(AP19))/LOG(2))))","v":0},null,{"$f":"N19","v":2211},{"$f":"COUNTIF(L174:L206,AS19)","v":0},{"$f":"AT19/(AV4-AT20)","v":0},{"$f":"IF(AU19=0,0,(AU19*((LOG(AU19))/LOG(2))))","v":0}]
[12,1705,14,1711,13,1720,14,1733,null,null,0,1111,null,2212,{"$f":"COUNTIF($L$7:$L$500,N20)","v":0},{"$f":"O20/$Q$4","v":0},{"$f":"IF(P20=0,0,(P20*((LOG(P20))/LOG(2))))","v":0},null,null,{"$f":"N20","v":2212},{"$f":"COUNTIF(L7:L39,T20)","v":0},null,null,null,{"$f":"N20","v":2212},{"$f":"COUNTIF(L40:L73,Y20)","v":0},null,null,null,{"$f":"N20","v":2212},{"$f":"COUNTIF(L74:L106,AD20)","v":0},null,null,null,{"$f":"N20","v":2212},{"$f":"COUNTIF(L107:L139,AI20)","v":0},null,null,null,{"$f":"N20","v":2212},{"$f":"COUNTIF(L140:L173,AN20)","v":0},null,null,null,{"$f":"N20","v":2212},{"$f":"COUNTIF(L174:L206,AS20)","v":0}]
[12,1832,14,1837,13,1843,14,1851,null,null,0,1111,null,2221,{"$f":"COUNTIF($L$7:$L$500,N21)","v":1},{"$f":"O21/$Q$4","v":5.0251256281407036E-3},{"$f":"IF(P21=0,0,(P21*((LOG(P21))/LOG(2))))","v":-3.8374998093184169E-2},null,null,{"$f":"N21","v":2221},{"$f":"COUNTIF(L7:L39,T21)","v":0},{"$f":"U21/(W4-U20)","v":0},{"$f":"IF(V21=0,0,(V21*((LOG(V21))/LOG(2))))","v":0},null,{"$f":"N21","v":2221},{"$f":"COUNTIF(L40:L73,Y21)","v":0},{"$f":"Z21/(AB4-Z20)","v":0},{"$f":"IF(AA21=0,0,(AA21*((LOG(AA21))/LOG(2))))","v":0},null,{"$f":"N21","v":2221},{"$f":"COUNTIF(L74:L106,AD21)","v":0},{"$f":"AE21/(AG4-AE20)","v":0},{"$f":"IF(AF21=0,0,(AF21*((LOG(AF21))/LOG(2))))","v":0},null,{"$f":"N21","v":2221},{"$f":"COUNTIF(L107:L139,AI21)","v":1},{"$f":"AJ21/(AL4-AJ20)","v":3.0303030303030304E-2},{"$f":"IF(AK21=0,0,(AK21*((LOG(AK21))/LOG(2))))","v":-0.15286042785934709},null,{"$f":"N21","v":2221},{"$f":"COUNTIF(L140:L173,AN21)","v":0},{"$f":"AO21/(AQ4-AO20)","v":0},{"$f":"IF(AP21=0,0,(AP21*((LOG(AP21))/LOG(2))))","v":0},null,{"$f":"N21","v":2221},{"$f":"COUNTIF(L174:L206,AS21)","v":0},{"$f":"AT21/(AV4-AT20)","v":0},{"$f":"IF(AU21=0,0,(AU21*((LOG(AU21))/LOG(2))))","v":0}]
[12,1948,14,1953,13,1957,14,1962,null,null,0,1111,null,2222,{"$f":"COUNTIF($L$7:$L$500,N22)","v":3},{"$f":"O22/$Q$4","v":1.507537688442211E-2},{"$f":"IF(P22=0,0,(P22*((LOG(P22))/LOG(2))))","v":-9.1231087233504912E-2},null,null,{"$f":"N22","v":2222},{"$f":"COUNTIF(L7:L39,T22)","v":0},{"$f":"U22/(W4-U20)","v":0},{"$f":"IF(V22=0,0,(V22*((LOG(V22))/LOG(2))))","v":0},null,{"$f":"N22","v":2222},{"$f":"COUNTIF(L40:L73,Y22)","v":1},{"$f":"Z22/(AB4-Z20)","v":2.9411764705882353E-2},{"$f":"IF(AA22=0,0,(AA22*((LOG(AA22))/LOG(2))))","v":-0.14963126003677468},null,{"$f":"N22","v":2222},{"$f":"COUNTIF(L74:L106,AD22)","v":0},{"$f":"AE22/(AG4-AE20)","v":0},{"$f":"IF(AF22=0,0,(AF22*((LOG(AF22))/LOG(2))))","v":0},null,{"$f":"N22","v":2222},{"$f":"COUNTIF(L107:L139,AI22)","v":0},{"$f":"AJ22/(AL4-AJ20)","v":0},{"$f":"IF(AK22=0,0,(AK22*((LOG(AK22))/LOG(2))))","v":0},null,{"$f":"N22","v":2222},{"$f":"COUNTIF(L140:L173,AN22)","v":1},{"$f":"AO22/(AQ4-AO20)","v":2.9411764705882353E-2},{"$f":"IF(AP22=0,0,(AP22*((LOG(AP22))/LOG(2))))","v":-0.14963126003677468},null,{"$f":"N22","v":2222},{"$f":"COUNTIF(L174:L206,AS22)","v":1},{"$f":"AT22/(AV4-AT20)","v":3.125E-2},{"$f":"IF(AU22=0,0,(AU22*((LOG(AU22))/LOG(2))))","v":-0.15625}]
[12,2066,14,2074,13,2082,14,2091,null,null,0,1111,null,null,null,{"$f":"SUM(P7:P22)","v":1.0000000000000002},{"$f":"-SUM(Q7:Q22)","v":0.32987188859896804},null,null,null,null,{"$f":"SUM(V7:V22)","v":1},{"$f":"-SUM(W7:W22)","v":0.19590927087360493},null,null,null,{"$f":"SUM(AA7:AA22)","v":1},{"$f":"-SUM(AB7:AB22)","v":0.57040149942701202},null,null,null,{"$f":"SUM(AF7:AF22)","v":1},{"$f":"-SUM(AG7:AG22)","v":0},null,null,null,{"$f":"SUM(AK7:AK22)","v":1},{"$f":"-SUM(AL7:AL22)","v":0.39045213081320695},null,null,null,{"$f":"SUM(AP7:AP22)","v":1},{"$f":"-SUM(AQ7:AQ22)","v":0.19143325481419343},null,null,null,{"$f":"SUM(AU7:AU22)","v":1},{"$f":"-SUM(AV7:AV22)","v":0.20062232431271465}]
[12,2197,14,2203,13,2209,14,2217,null,null,0,1111,null,null,null,"U=",{"$f":"Q23/(LOG(Q4)/LOG(2))","v":4.3196032932084141E-2},null,null,null,null,"U1=",{"$f":"W23/(LOG(W4)/LOG(2))","v":3.8837027051827726E-2},null,null,null,"U2=",{"$f":"AB23/(LOG(AB4)/LOG(2))","v":0.11211904975542292},null,null,null,"U3=",{"$f":"AG23/(LOG(AG4)/LOG(2))","v":0},null,null,null,"U4=",{"$f":"AL23/(LOG(AL4)/LOG(2))","v":7.7403176987063949E-2},null,null,null,"U5=",{"$f":"AQ23/(LOG(AQ4)/LOG(2))","v":3.7628433029919708E-2},null,null,null,"U6=",{"$f":"AV23/(LOG(AV4)/LOG(2))","v":4.0124464862542931E-2}]
[12,2325,14,2336,13,2344,14,2354,null,null,0,1111]
[12,2458,14,2464,13,2469,14,2483,null,null,0,1111]
[12,2583,14,2589,13,2594,14,2605,null,null,0,1111,null,"Total Target Seq"]
[12,2701,14,2706,13,2712,14,2721,null,null,0,1111,null,{"$f":"COUNTIF(L7:L206,G3)","v":0},null,33,34,33,33,34,33]
[12,2820,14,2824,13,2829,14,2838,null,null,0,1111,null,null,null,"% of reinforcement given in 6 equal intervals based on number of trials "]
[12,2945,14,2957,13,2962,14,2971,null,null,0,1111,null,null,null,"%_1","%_2","%_3","%_4","%_5","%_6"]
[12,3070,14,3076,13,3081,14,3085,null,null,0,1111,null,null,"target sequence",{"$f":"$G$3","v":2212},{"$f":"$G$3","v":2212},{"$f":"$G$3","v":2212},{"$f":"$G$3","v":2212},{"$f":"$G$3","v":2212},{"$f":"$G$3","v":2212}]
[12,3182,14,3184,13,3192,14,3203,null,null,0,1111,null,null,"total reinforcement",{"$f":"U20","v":0},{"$f":"Z20","v":0},{"$f":"AE20","v":0},{"$f":"AJ20","v":0},{"$f":"AO20","v":0},{"$f":"AT20","v":0}]
[12,3315,14,3322,13,3328,14,3336,null,null,0,1111,null,null,"% target"]
[12,3436,14,3442,13,3448,14,3458,null,null,0,1111,null,null,"CCRF"]
[12,3556,14,3561,13,3568,14,3578,null,null,0,1111,null,null,"% CCRf"]
[12,3689,14,3696,13,3701,14,3709,null,null,0,1111,null,null,"average response rate",{"$f":"H39/P28","v":124.51515151515152},{"$f":"(H73-H39)/Q28","v":125.02941176470588},{"$f":"(H106-H73)/R28","v":119.54545454545455},{"$f":"(H139-H106)/S28","v":118.84848484848484},{"$f":"(H173-H139)/T28","v":115.08823529411765},{"$f":"(H206-H173)/U28","v":-610.30303030303025}]
[12,3811,14,3818,13,3824,14,3833,null,null,0,1111]
[12,3940,14,3948,13,3953,14,3959,null,null,0,1111]
[12,4081,14,4087,13,4096,14,4109,null,null,0,1111]
[12,4206,14,4215,13,4224,14,4237,null,null,0,1111]
[12,4337,14,4343,13,4350,14,4359,null,null,0,1111]
[12,4466,14,4472,13,4481,14,4497,null,null,0,1111]
[12,4606,14,4611,13,4617,14,4625,null,null,0,1111]
[12,4738,14,4746,24,4760,23,4773,null,null,0,1122]
[12,4879,14,4885,13,4891,14,4897,null,null,0,1111]
[21,4991,21,4997,22,5006,23,5017,null,null,0,2222]
[12,5117,14,5123,13,5127,14,5137,null,null,0,1111]
[12,5241,14,5248,13,5254,14,5272,null,null,0,1111]
[12,5367,14,5373,13,5377,14,5383,null,null,0,1111]
[12,5477,14,5486,13,5491,14,5500,null,null,0,1111]
[12,5601,14,5609,13,5615,14,5625,null,null,0,1111]
[12,5727,14,5735,13,5744,23,5763,null,null,0,1112]
[12,5864,14,5868,13,5874,14,5880,null,null,0,1111]
[12,5983,14,5988,13,5993,14,5999,null,null,0,1111]
[12,6096,14,6102,13,6110,14,6119,null,null,0,1111]
[12,6217,14,6223,13,6228,14,6234,null,null,0,1111]
[12,6333,14,6339,13,6344,14,6350,null,null,0,1111]
[12,6447,14,6456,13,6467,14,6503,null,null,0,1111]
[12,6605,14,6612,13,6617,14,6626,null,null,0,1111]
[12,6733,14,6740,13,6751,14,6777,null,null,0,1111]
[12,6886,14,6899,13,6904,14,6912,null,null,0,1111]
[12,7007,14,7012,13,7021,14,7029,null,null,0,1111]
[12,7132,14,7140,13,7144,14,7149,null,null,0,1111]
[12,7249,14,7254,13,7262,14,7272,null,null,0,1111]
[12,7373,14,7377,13,7382,14,7390,null,null,0,1111]
[12,7486,14,7491,13,7498,14,7510,null,null,0,1111]
[12,7615,14,7620,13,7629,14,7646,null,null,0,1111]
[12,7745,14,7751,13,7756,14,7761,null,null,0,1111]
[12,7858,14,7864,13,7872,14,7880,null,null,0,1111]
[12,7984,14,7989,13,7994,14,8002,null,null,0,1111]
[12,8106,14,8112,13,8118,14,8125,null,null,0,1111]
[12,8227,14,8232,13,8239,14,8248,null,null,0,1111]
[12,8339,14,8344,13,8352,14,8360,null,null,0,1111]
[12,8458,14,8464,13,8468,14,8476,null,null,0,1111]
[12,8576,14,8581,13,8589,14,8598,null,null,0,1111]
[12,8694,14,8700,13,8705,14,8714,null,null,0,1111]
[12,8812,14,8817,13,8827,14,8835,null,null,0,1111]
[12,8942,14,8948,13,8956,14,8965,null,null,0,1111]
[12,9064,14,9070,13,9077,14,9086,null,null,0,1111]
[12,9191,14,9198,13,9203,14,9208,null,null,0,1111]
[12,9306,14,9312,13,9318,14,9325,null,null,0,1111]
[12,9428,14,9435,13,9440,14,9445,null,null,0,1111]
[12,9544,14,9550,13,9558,14,9567,null,null,0,1111]
[12,9666,14,9672,13,9679,14,9688,null,null,0,1111]
[12,9787,14,9792,13,9797,14,9806,null,null,0,1111]
[12,9903,14,9912,13,9918,14,9926,null,null,0,1111]
[12,10025,14,10031,13,10037,14,10046,null,null,0,1111]
[12,10144,14,10150,13,10155,14,10160,null,null,0,1111]
[12,10257,14,10263,13,10269,14,10274,null,null,0,1111]
[12,10372,14,10378,13,10386,14,10394,null,null,0,1111]
[12,10495,14,10500,13,10505,14,10510,null,null,0,1111]
[12,10609,14,10614,13,10619,14,10626,null,null,0,1111]
[12,10734,14,10742,13,10747,14,10753,null,null,0,1111]
[12,10851,14,10857,13,10861,14,10866,null,null,0,1111]
[12,10965,14,10973,13,10979,14,10984,null,null,0,1111]
[12,11091,14,11098,13,11107,14,11124,null,null,0,1111]
[12,11219,14,11224,13,11229,14,11233,null,null,0,1111]
[12,11345,14,11351,13,11362,14,11369,null,null,0,1111]
[12,11470,14,11475,13,11479,14,11484,null,null,0,1111]
[12,11582,14,11589,13,11594,14,11599,null,null,0,1111]
[12,11698,14,11703,13,11709,14,11717,null,null,0,1111]
[12,11811,14,11817,13,11819,14,11822,null,null,0,1111]
[12,11933,14,11941,13,11949,14,11958,null,null,0,1111]
[12,12052,14,12058,13,12067,14,12074,null,null,0,1111]
[12,12172,14,12177,13,12183,14,12199,null,null,0,1111]
[12,12291,14,12296,13,12301,14,12305,null,null,0,1111]
[12,12415,14,12420,13,12429,14,12447,null,null,0,1111]
[12,12545,14,12553,13,12558,14,12564,null,null,0,1111]
[12,12663,14,12668,13,12674,14,12690,null,null,0,1111]
[12,12797,14,12802,13,12811,14,12819,null,null,0,1111]
[12,12919,14,12926,13,12930,14,12935,null,null,0,1111]
[12,13032,14,13037,13,13043,14,13052,null,null,0,1111]
[12,13151,14,13156,13,13165,14,13175,null,null,0,1111]
[21,13274,21,13280,22,13285,14,13304,null,null,0,2221]
[12,13403,14,13410,13,13419,14,13432,null,null,0,1111]
[12,13525,14,13530,13,13534,14,13539,null,null,0,1111]
[12,13640,14,13649,13,13655,14,13663,null,null,0,1111]
[12,13764,14,13770,13,13774,14,13779,null,null,0,1111]
[12,13881,14,13885,13,13890,23,13901,null,null,0,1112]
[12,13997,14,13998,13,14003,14,14008,null,null,0,1111]
[12,14103,14,14108,13,14113,14,14119,null,null,0,1111]
[12,14210,14,14215,13,14224,14,14232,null,null,0,1111]
[12,14329,14,14335,13,14340,14,14349,null,null,0,1111]
[12,14448,14,14450,13,14454,14,14463,null,null,0,1111]
[12,14560,14,14567,13,14574,14,14580,null,null,0,1111]
[12,14686,14,14691,13,14696,14,14702,null,null,0,1111]
[12,14806,14,14811,13,14816,14,14822,null,null,0,1111]
[12,14920,14,14925,13,14930,14,14935,null,null,0,1111]
[12,15033,14,15038,13,15046,14,15063,null,null,0,1111]
[12,15167,14,15172,13,15180,14,15189,null,null,0,1111]
[12,15288,14,15296,13,15300,14,15309,null,null,0,1111]
[12,15401,14,15407,13,15416,14,15421,null,null,0,1111]
[12,15512,14,15517,13,15523,14,15528,null,null,0,1111]
[12,15627,14,15633,13,15638,14,15644,null,null,0,1111]
[12,15736,14,15745,13,15750,14,15755,null,null,0,1111]
[12,15855,14,15860,13,15867,14,15876,null,null,0,1111]
[12,15974,14,15980,13,15985,14,15990,null,null,0,1111]
[12,16086,14,16092,13,16098,14,16107,null,null,0,1111]
[12,16205,14,16214,13,16219,14,16227,null,null,0,1111]
[12,16324,14,16329,13,16334,14,16339,null,null,0,1111]
[12,16435,14,16441,13,16447,14,16455,null,null,0,1111]
[12,16553,14,16559,13,16567,14,16575,null,null,0,1111]
[12,16671,14,16677,13,16682,14,16691,null,null,0,1111]
[12,16794,14,16799,13,16805,14,16814,null,null,0,1111]
[12,16907,14,16913,13,16917,14,16925,null,null,0,1111]
[12,17025,14,17030,13,17035,14,17039,null,null,0,1111]
[12,17138,14,17144,13,17149,14,17157,null,null,0,1111]
[12,17253,14,17260,13,17266,14,17271,null,null,0,1111]
[12,17366,14,17371,13,17376,14,17381,null,null,0,1111]
[12,17481,14,17487,13,17495,14,17503,null,null,0,1111]
[12,17602,14,17606,13,17611,14,17616,null,null,0,1111]
[12,17711,14,17717,13,17722,14,17731,null,null,0,1111]
[12,17832,14,17837,13,17841,14,17849,null,null,0,1111]
[12,17944,14,17946,13,17950,14,17958,null,null,0,1111]
[12,18057,14,18063,13,18068,14,18073,null,null,0,1111]
[12,18175,14,18180,13,18184,14,18189,null,null,0,1111]
[12,18286,14,18291,13,18295,14,18300,null,null,0,1111]
[12,18391,14,18397,13,18402,14,18407,null,null,0,1111]
[12,18508,14,18514,13,18519,14,18524,null,null,0,1111]
[12,18620,14,18626,13,18630,14,18635,null,null,0,1111]
[12,18735,14,18741,13,18746,14,18754,null,null,0,1111]
[12,18849,14,18855,13,18863,14,18871,null,null,0,1111]
[12,18965,14,18972,13,18977,14,18985,null,null,0,1111]
[12,19082,14,19087,13,19092,14,19098,null,null,0,1111]
[12,19198,14,19205,13,19210,14,19215,null,null,0,1111]
[12,19311,14,19316,13,19320,14,19325,null,null,0,1111]
[12,19418,14,19425,13,19429,14,19434,null,null,0,1111]
[12,19543,14,19550,13,19555,14,19560,null,null,0,1111]
[12,19655,14,19661,13,19667,14,19676,null,null,0,1111]
[12,19776,14,19783,13,19788,14,19793,null,null,0,1111]
[12,19886,14,19892,13,19896,14,19901,null,null,0,1111]
[21,20004,21,20009,22,20015,23,20024,null,null,0,2222]
[12,20121,14,20127,13,20132,14,20140,null,null,0,1111]
[12,20243,14,20249,13,20254,14,20261,null,null,0,1111]
[12,20362,14,20371,13,20376,14,20384,null,null,0,1111]
[12,20490,14,20498,13,20506,14,20515,null,null,0,1111]
[12,20613,14,20618,13,20623,14,20628,null,null,0,1111]
[12,20725,14,20731,13,20736,14,20741,null,null,0,1111]
[12,20835,14,20841,13,20845,14,20851,null,null,0,1111]
[12,20950,14,20955,13,20961,14,20971,null,null,0,1111]
[12,21067,14,21072,13,21077,14,21086,null,null,0,1111]
[12,21187,14,21192,13,21200,14,21211,null,null,0,1111]
[12,21310,14,21316,13,21321,14,21327,null,null,0,1111]
[12,21425,14,21430,13,21436,14,21441,null,null,0,1111]
[12,21537,14,21544,13,21548,14,21553,null,null,0,1111]
[12,21650,14,21655,13,21662,14,21667,null,null,0,1111]
[12,21763,14,21769,13,21774,14,21780,null,null,0,1111]
[12,21878,14,21884,13,21892,14,21897,null,null,0,1111]
[12,22008,14,22014,13,22023,14,22031,null,null,0,1111]
[12,22126,14,22132,13,22137,14,22146,null,null,0,1111]
[21,22246,21,22252,22,22269,23,22276,null,null,0,2222]
[12,22373,14,22379,13,22384,14,22391,null,null,0,1111]
[12,22491,14,22496,13,22502,14,22511,null,null,0,1111]
[12,22606,14,22611,13,22619,14,22628,null,null,0,1111]
[12,22725,14,22731,13,22737,14,22747,null,null,0,1111]
[12,22844,14,22850,13,22855,14,22860,null,null,0,1111]
[12,22957,14,22963,13,22970,14,22978,null,null,0,1111]
[12,23082,14,23086,13,23092,14,23101,null,null,0,1111]
[12,23198,14,23203,13,23209,14,23216,null,null,0,1111]
[12,23313,14,23318,13,23322,14,23327,null,null,0,1111]
[12,23417,14,23425,13,23433,14,23442,null,null,0,1111]
[12,23539,14,23546,13,23551,14,23559,null,null,0,1111]
[12,23651,14,23657,13,23662,14,23668,null,null,0,1111]
[12,23769,14,23775,13,23783,14,23790,null,null,0,1111]
[12,23888,14,23893,13,23898,14,23902,null,null,0,1111]
[12,23998,null,null,null,null,null,null,null,null,null,1]

{"sheet":"!L918A20.056","index":21,"n_rows":205,"n_cols":48,"rows_kept":205,"cut":false,"hidden":false,"merged":[[4,39,4,42],[5,39,5,40],[4,44,4,47],[5,44,5,45],[4,24,4,27],[5,24,5,25],[4,29,4,32],[5,29,5,30],[4,34,4,37],[5,34,5,35],[1,1,1,2],[5,13,5,14],[26,13,26,14],[27,13,27,14],[4,19,4,22],[5,19,5,20]]}
["Report for:!L918A20.056"]
["Date:","<date>"]
["Hen:","<hen>",null,null,null,"Correct Sequence",{"$f":"Start!J2","v":2212},null,null,null,null,null,null,null,null,"Total Sequences in Data",{"$f":"4994-COUNTBLANK(L7:L5000)","v":199},null,null,null,null,"Total Sequences in Block Data",{"$f":"COUNTA(L7:L39)","v":33},null,null,null,"Total Sequences in Block Data",{"$f":"COUNTA(L40:L72)","v":33},null,null,null,"Total Sequences in Block Data",{"$f":"COUNTA(L73:L106)","v":34},null,null,null,"Total Sequences in Block Data",{"$f":"COUNTA(L107:L139)","v":33},null,null,null,"Total Sequences in Block Data",{"$f":"COUNTA(L140:L172)","v":33},null,null,null,"Total Sequences in Block Data",{"$f":"COUNTA(L173:L205)","v":33}]
[null,null,null,null,null,null,null,null,null,null,null,null,null,null,null,"Total Sequences in Summary",{"$f":"SUM(O7:O22)","v":199},null,null,null,null,"Total Sequences in Block Summary",{"$f":"SUM(U7:U22)","v":33},null,null,null,"Total Sequences in Block Summary",{"$f":"SUM(Z7:Z22)","v":33},null,null,null,"Total Sequences in Block Summary",{"$f":"SUM(AE7:AE22)","v":34},null,null,null,"Total Sequences in Block Summary",{"$f":"SUM(AJ7:AJ22)","v":33},null,null,null,"Total Sequences in Block Summary",{"$f":"SUM(AO7:AO22)","v":33},null,null,null,"Total Sequences in Block Summary",{"$f":"SUM(AT7:AT22)","v":33}]
[null,null,null,null,null,null,null,null,null,null,null,null,null,null,null,null,null,null,null,"Block 1",null,null,null,null,"Block 2",null,null,null,null,"Block 3",null,null,null,null,"Block 4",null,null,null,null,"Block 5",null,null,null,null,"Block 6"]
["Sequence\nComponent\n1","Time\n1","Sequence\nComponent\n2","Time\n2","Sequence\nComponent\n3","Time\n3","Sequence\nComponent\n4","Time\n4","Sequence\nComponent\n5","Time\n5","Correct?\n0=No 1=Yes","Sequence",null,"Frequency",null,"Relative Frequency","Variability",null,null,"Frequency",null,"Relative Frequency","Variability",null,"Frequency",null,"Relative Frequency","Variability",null,"Frequency",null,"Relative Frequency","Variability",null,"Frequency",null,"Relative Frequency","Variability",null,"Frequency",null,"Relative Frequency","Variability",null,"Frequency",null,"Relative Frequency","Variability"]
[12,32,14,38,13,45,14,56,null,null,0,1111,null,1111,{"$f":"COUNTIF($L$7:$L$500,N7)","v":197},{"$f":"O7/$Q$4","v":0.98994974874371855},{"$f":"IF(P7=0,0,(P7*((LOG(P7))/LOG(2))))","v":-1.4426340774837733E-2},null,null,{"$f":"N7","v":1111},{"$f":"COUNTIF(L7:L39,T7)","v":33},{"$f":"U7/(W4-U20)","v":1},{"$f":"IF(V7=0,0,(V7*((LOG(V7))/LOG(2))))","v":0},null,{"$f":"N7","v":1111},{"$f":"COUNTIF(L40:L72,Y7)","v":33},{"$f":"Z7/(AB4-Z20)","v":1},{"$f":"IF(AA7=0,0,(AA7*((LOG(AA7))/LOG(2))))","v":0},null,{"$f":"N7","v":1111},{"$f":"COUNTIF(L73:L106,AD7)","v":34},{"$f":"AE7/(AG4-AE20)","v":1},{"$f":"IF(AF7=0,0,(AF7*((LOG(AF7))/LOG(2))))","v":0},null,{"$f":"N7","v":1111},{"$f":"COUNTIF(L107:L139,AI7)","v":32},{"$f":"AJ7/(AL4-AJ20)","v":0.96969696969696972},{"$f":"IF(AK7=0,0,(AK7*((LOG(AK7))/LOG(2))))","v":-4.3048843014257841E-2},null,{"$f":"N7","v":1111},{"$f":"COUNTIF(L140:L172,AN7)","v":33},{"$f":"AO7/(AQ4-AO20)","v":1},{"$f":"IF(AP7=0,0,(AP7*((LOG(AP7))/LOG(2))))","v":0},null,{"$f":"N7","v":1111},{"$f":"COUNTIF(L173:L205,AS7)","v":32},{"$f":"AT7/(AV4-AT20)","v":0.96969696969696972},{"$f":"IF(AU7=0,0,(AU7*((LOG(AU7))/LOG(2))))","v":-4.3048843014257841E-2}]
[12,160,14,167,13,173,14,182,null,null,0,1111,null,1112,{"$f":"COUNTIF($L$7:$L$500,N8)","v":0},{"$f":"O8/$Q$4","v":0},{"$f":"IF(P8=0,0,(P8*((LOG(P8))/LOG(2))))","v":0},null,null,{"$f":"N8","v":1112},{"$f":"COUNTIF(L7:L39,T8)","v":0},{"$f":"U8/(W4-U20)","v":0},{"$f":"IF(V8=0,0,(V8*((LOG(V8))/LOG(2))))","v":0},null,{"$f":"N8","v":1112},{"$f":"COUNTIF(L40:L72,Y8)","v":0},{"$f":"Z8/(AB4-Z20)","v":0},{"$f":"IF(AA8=0,0,(AA8*((LOG(AA8))/LOG(2))))","v":0},null,{"$f":"N8","v":1112},{"$f":"COUNTIF(L73:L106,AD8)","v":0},{"$f":"AE8/(AG4-AE20)","v":0},{"$f":"IF(AF8=0,0,(AF8*((LOG(AF8))/LOG(2))))","v":0},null,{"$f":"N8","v":1112},{"$f":"COUNTIF(L107:L139,AI8)","v":0},{"$f":"AJ8/(AL4-AJ20)","v":0},{"$f":"IF(AK8=0,0,(AK8*((LOG(AK8))/LOG(2))))","v":0},null,{"$f":"N8","v":1112},{"$f":"COUNTIF(L140:L172,AN8)","v":0},{"$f":"AO8/(AQ4-AO20)","v":0},{"$f":"IF(AP8=0,0,(AP8*((LOG(AP8))/LOG(2))))","v":0},null,{"$f":"N8","v":1112},{"$f":"COUNTIF(L173:L205,AS8)","v":0},{"$f":"AT8/(AV4-AT20)","v":0},{"$f":"IF(AU8=0,0,(AU8*((LOG(AU8))/LOG(2))))","v":0}]
[12,291,14,297,13,302,14,313,null,null,0,1111,null,1121,{"$f":"COUNTIF($L$7:$L$500,N9)","v":0},{"$f":"O9/$Q$4","v":0},{"$f":"IF(P9=0,0,(P9*((LOG(P9))/LOG(2))))","v":0},null,null,{"$f":"N9","v":1121},{"$f":"COUNTIF(L7:L39,T9)","v":0},{"$f":"U9/(W4-U20)","v":0},{"$f":"IF(V9=0,0,(V9*((LOG(V9))/LOG(2))))","v":0},null,{"$f":"N9","v":1121},{"$f":"COUNTIF(L40:L72,Y9)","v":0},{"$f":"Z9/(AB4-Z20)","v":0},{"$f":"IF(AA9=0,0,(AA9*((LOG(AA9))/LOG(2))))","v":0},null,{"$f":"N9","v":1121},{"$f":"COUNTIF(L73:L106,AD9)","v":0},{"$f":"AE9/(AG4-AE20)","v":0},{"$f":"IF(AF9=0,0,(AF9*((LOG(AF9))/LOG(2))))","v":0},null,{"$f":"N9","v":1121},{"$f":"COUNTIF(L107:L139,AI9)","v":0},{"$f":"AJ9/(AL4-AJ20)","v":0},{"$f":"IF(AK9=0,0,(AK9*((LOG(AK9))/LOG(2))))","v":0},null,{"$f":"N9","v":1121},{"$f":"COUNTIF(L140:L172,AN9)","v":0},{"$f":"AO9/(AQ4-AO20)","v":0},{"$f":"IF(AP9=0,0,(AP9*((LOG(AP9))/LOG(2))))","v":0},null,{"$f":"N9","v":1121},{"$f":"COUNTIF(L173:L205,AS9)","v":0},{"$f":"AT9/(AV4-AT20)","v":0},{"$f":"IF(AU9=0,0,(AU9*((LOG(AU9))/LOG(2))))","v":0}]
[12,415,14,420,13,425,14,433,null,null,0,1111,null,1122,{"$f":"COUNTIF($L$7:$L$500,N10)","v":0},{"$f":"O10/$Q$4","v":0},{"$f":"IF(P10=0,0,(P10*((LOG(P10))/LOG(2))))","v":0},null,null,{"$f":"N10","v":1122},{"$f":"COUNTIF(L7:L39,T10)","v":0},{"$f":"U10/(W4-U20)","v":0},{"$f":"IF(V10=0,0,(V10*((LOG(V10))/LOG(2))))","v":0},null,{"$f":"N10","v":1122},{"$f":"COUNTIF(L40:L72,Y10)","v":0},{"$f":"Z10/(AB4-Z20)","v":0},{"$f":"IF(AA10=0,0,(AA10*((LOG(AA10))/LOG(2))))","v":0},null,{"$f":"N10","v":1122},{"$f":"COUNTIF(L73:L106,AD10)","v":0},{"$f":"AE10/(AG4-AE20)","v":0},{"$f":"IF(AF10=0,0,(AF10*((LOG(AF10))/LOG(2))))","v":0},null,{"$f":"N10","v":1122},{"$f":"COUNTIF(L107:L139,AI10)","v":0},{"$f":"AJ10/(AL4-AJ20)","v":0},{"$f":"IF(AK10=0,0,(AK10*((LOG(AK10))/LOG(2))))","v":0},null,{"$f":"N10","v":1122},{"$f":"COUNTIF(L140:L172,AN10)","v":0},{"$f":"AO10/(AQ4-AO20)","v":0},{"$f":"IF(AP10=0,0,(AP10*((LOG(AP10))/LOG(2))))","v":0},null,{"$f":"N10","v":1122},{"$f":"COUNTIF(L173:L205,AS10)","v":0},{"$f":"AT10/(AV4-AT20)","v":0},{"$f":"IF(AU10=0,0,(AU10*((LOG(AU10))/LOG(2))))","v":0}]
[12,548,14,563,13,572,14,582,null,null,0,1111,null,1211,{"$f":"COUNTIF($L$7:$L$500,N11)","v":0},{"$f":"O11/$Q$4","v":0},{"$f":"IF(P11=0,0,(P11*((LOG(P11))/LOG(2))))","v":0},null,null,{"$f":"N11","v":1211},{"$f":"COUNTIF(L7:L39,T11)","v":0},{"$f":"U11/(W4-U20)","v":0},{"$f":"IF(V11=0,0,(V11*((LOG(V11))/LOG(2))))","v":0},null,{"$f":"N11","v":1211},{"$f":"COUNTIF(L40:L72,Y11)","v":0},{"$f":"Z11/(AB4-Z20)","v":0},{"$f":"IF(AA11=0,0,(AA11*((LOG(AA11))/LOG(2))))","v":0},null,{"$f":"N11","v":1211},{"$f":"COUNTIF(L73:L106,AD11)","v":0},{"$f":"AE11/(AG4-AE20)","v":0},{"$f":"IF(AF11=0,0,(AF11*((LOG(AF11))/LOG(2))))","v":0},null,{"$f":"N11","v":1211},{"$f":"COUNTIF(L107:L139,AI11)","v":0},{"$f":"AJ11/(AL4-AJ20)","v":0},{"$f":"IF(AK11=0,0,(AK11*((LOG(AK11))/LOG(2))))","v":0},null,{"$f":"N11","v":1211},{"$f":"COUNTIF(L140:L172,AN11)","v":0},{"$f":"AO11/(AQ4-AO20)","v":0},{"$f":"IF(AP11=0,0,(AP11*((LOG(AP11))/LOG(2))))","v":0},null,{"$f":"N11","v":1211},{"$f":"COUNTIF(L173:L205,AS11)","v":0},{"$f":"AT11/(AV4-AT20)","v":0},{"$f":"IF(AU11=0,0,(AU11*((LOG(AU11))/LOG(2))))","v":0}]
[12,691,14,697,13,710,14,720,null,null,0,1111,null,1212,{"$f":"COUNTIF($L$7:$L$500,N12)","v":0},{"$f":"O12/$Q$4","v":0},{"$f":"IF(P12=0,0,(P12*((LOG(P12))/LOG(2))))","v":0},null,null,{"$f":"N12","v":1212},{"$f":"COUNTIF(L7:L39,T12)","v":0},{"$f":"U12/(W4-U20)","v":0},{"$f":"IF(V12=0,0,(V12*((LOG(V12))/LOG(2))))","v":0},null,{"$f":"N12","v":1212},{"$f":"COUNTIF(L40:L72,Y12)","v":0},{"$f":"Z12/(AB4-Z20)","v":0},{"$f":"IF(AA12=0,0,(AA12*((LOG(AA12))/LOG(2))))","v":0},null,{"$f":"N12","v":1212},{"$f":"COUNTIF(L73:L106,AD12)","v":0},{"$f":"AE12/(AG4-AE20)","v":0},{"$f":"IF(AF12=0,0,(AF12*((LOG(AF12))/LOG(2))))","v":0},null,{"$f":"N12","v":1212},{"$f":"COUNTIF(L107:L139,AI12)","v":0},{"$f":"AJ12/(AL4-AJ20)","v":0},{"$f":"IF(AK12=0,0,(AK12*((LOG(AK12))/LOG(2))))","v":0},null,{"$f":"N12","v":1212},{"$f":"COUNTIF(L140:L172,AN12)","v":0},{"$f":"AO12/(AQ4-AO20)","v":0},{"$f":"IF(AP12=0,0,(AP12*((LOG(AP12))/LOG(2))))","v":0},null,{"$f":"N12","v":1212},{"$f":"COUNTIF(L173:L205,AS12)","v":0},{"$f":"AT12/(AV4-AT20)","v":0},{"$f":"IF(AU12=0,0,(AU12*((LOG(AU12))/LOG(2))))","v":0}]
[12,826,14,843,13,850,14,859,null,null,0,1111,null,1221,{"$f":"COUNTIF($L$7:$L$500,N13)","v":0},{"$f":"O13/$Q$4","v":0},{"$f":"IF(P13=0,0,(P13*((LOG(P13))/LOG(2))))","v":0},null,null,{"$f":"N13","v":1221},{"$f":"COUNTIF(L7:L39,T13)","v":0},{"$f":"U13/(W4-U20)","v":0},{"$f":"IF(V13=0,0,(V13*((LOG(V13))/LOG(2))))","v":0},null,{"$f":"N13","v":1221},{"$f":"COUNTIF(L40:L72,Y13)","v":0},{"$f":"Z13/(AB4-Z20)","v":0},{"$f":"IF(AA13=0,0,(AA13*((LOG(AA13))/LOG(2))))","v":0},null,{"$f":"N13","v":1221},{"$f":"COUNTIF(L73:L106,AD13)","v":0},{"$f":"AE13/(AG4-AE20)","v":0},{"$f":"IF(AF13=0,0,(AF13*((LOG(AF13))/LOG(2))))","v":0},null,{"$f":"N13","v":1221},{"$f":"COUNTIF(L107:L139,AI13)","v":0},{"$f":"AJ13/(AL4-AJ20)","v":0},{"$f":"IF(AK13=0,0,(AK13*((LOG(AK13))/LOG(2))))","v":0},null,{"$f":"N13","v":1221},{"$f":"COUNTIF(L140:L172,AN13)","v":0},{"$f":"AO13/(AQ4-AO20)","v":0},{"$f":"IF(AP13=0,0,(AP13*((LOG(AP13))/LOG(2))))","v":0},null,{"$f":"N13","v":1221},{"$f":"COUNTIF(L173:L205,AS13)","v":0},{"$f":"AT13/(AV4-AT20)","v":0},{"$f":"IF(AU13=0,0,(AU13*((LOG(AU13))/LOG(2))))","v":0}]
[12,963,14,969,13,974,14,984,null,null,0,1111,null,1222,{"$f":"COUNTIF($L$7:$L$500,N14)","v":0},{"$f":"O14/$Q$4","v":0},{"$f":"IF(P14=0,0,(P14*((LOG(P14))/LOG(2))))","v":0},null,null,{"$f":"N14","v":1222},{"$f":"COUNTIF(L7:L39,T14)","v":0},{"$f":"U14/(W4-U20)","v":0},{"$f":"IF(V14=0,0,(V14*((LOG(V14))/LOG(2))))","v":0},null,{"$f":"N14","v":1222},{"$f":"COUNTIF(L40:L72,Y14)","v":0},{"$f":"Z14/(AB4-Z20)","v":0},{"$f":"IF(AA14=0,0,(AA14*((LOG(AA14))/LOG(2))))","v":0},null,{"$f":"N14","v":1222},{"$f":"COUNTIF(L73:L106,AD14)","v":0},{"$f":"AE14/(AG4-AE20)","v":0},{"$f":"IF(AF14=0,0,(AF14*((LOG(AF14))/LOG(2))))","v":0},null,{"$f":"N14","v":1222},{"$f":"COUNTIF(L107:L139,AI14)","v":0},{"$f":"AJ14/(AL4-AJ20)","v":0},{"$f":"IF(AK14=0,0,(AK14*((LOG(AK14))/LOG(2))))","v":0},null,{"$f":"N14","v":1222},{"$f":"COUNTIF(L140:L172,AN14)","v":0},{"$f":"AO14/(AQ4-AO20)","v":0},{"$f":"IF(AP14=0,0,(AP14*((LOG(AP14))/LOG(2))))","v":0},null,{"$f":"N14","v":1222},{"$f":"COUNTIF(L173:L205,AS14)","v":0},{"$f":"AT14/(AV4-AT20)","v":0},{"$f":"IF(AU14=0,0,(AU14*((LOG(AU14))/LOG(2))))","v":0}]
[12,1094,14,1103,13,1109,14,1113,null,null,0,1111,null,2111,{"$f":"COUNTIF($L$7:$L$500,N15)","v":0},{"$f":"O15/$Q$4","v":0},{"$f":"IF(P15=0,0,(P15*((LOG(P15))/LOG(2))))","v":0},null,null,{"$f":"N15","v":2111},{"$f":"COUNTIF(L7:L39,T15)","v":0},{"$f":"U15/(W4-U20)","v":0},{"$f":"IF(V15=0,0,(V15*((LOG(V15))/LOG(2))))","v":0},null,{"$f":"N15","v":2111},{"$f":"COUNTIF(L40:L72,Y15)","v":0},{"$f":"Z15/(AB4-Z20)","v":0},{"$f":"IF(AA15=0,0,(AA15*((LOG(AA15))/LOG(2))))","v":0},null,{"$f":"N15","v":2111},{"$f":"COUNTIF(L73:L106,AD15)","v":0},{"$f":"AE15/(AG4-AE20)","v":0},{"$f":"IF(AF15=0,0,(AF15*((LOG(AF15))/LOG(2))))","v":0},null,{"$f":"N15","v":2111},{"$f":"COUNTIF(L107:L139,AI15)","v":0},{"$f":"AJ15/(AL4-AJ20)","v":0},{"$f":"IF(AK15=0,0,(AK15*((LOG(AK15))/LOG(2))))","v":0},null,{"$f":"N15","v":2111},{"$f":"COUNTIF(L140:L172,AN15)","v":0},{"$f":"AO15/(AQ4-AO20)","v":0},{"$f":"IF(AP15=0,0,(AP15*((LOG(AP15))/LOG(2))))","v":0},null,{"$f":"N15","v":2111},{"$f":"COUNTIF(L173:L205,AS15)","v":0},{"$f":"AT15/(AV4-AT20)","v":0},{"$f":"IF(AU15=0,0,(AU15*((LOG(AU15))/LOG(2))))","v":0}]
[12,1209,14,1221,13,1228,14,1233,null,null,0,1111,null,2112,{"$f":"COUNTIF($L$7:$L$500,N16)","v":0},{"$f":"O16/$Q$4","v":0},{"$f":"IF(P16=0,0,(P16*((LOG(P16))/LOG(2))))","v":0},null,null,{"$f":"N16","v":2112},{"$f":"COUNTIF(L7:L39,T16)","v":0},{"$f":"U16/(W4-U20)","v":0},{"$f":"IF(V16=0,0,(V16*((LOG(V16))/LOG(2))))","v":0},null,{"$f":"N16","v":2112},{"$f":"COUNTIF(L40:L72,Y16)","v":0},{"$f":"Z16/(AB4-Z20)","v":0},{"$f":"IF(AA16=0,0,(AA16*((LOG(AA16))/LOG(2))))","v":0},null,{"$f":"N16","v":2112},{"$f":"COUNTIF(L73:L106,AD16)","v":0},{"$f":"AE16/(AG4-AE20)","v":0},{"$f":"IF(AF16=0,0,(AF16*((LOG(AF16))/LOG(2))))","v":0},null,{"$f":"N16","v":2112},{"$f":"COUNTIF(L107:L139,AI16)","v":0},{"$f":"AJ16/(AL4-AJ20)","v":0},{"$f":"IF(AK16=0,0,(AK16*((LOG(AK16))/LOG(2))))","v":0},null,{"$f":"N16","v":2112},{"$f":"COUNTIF(L140:L172,AN16)","v":0},{"$f":"AO16/(AQ4-AO20)","v":0},{"$f":"IF(AP16=0,0,(AP16*((LOG(AP16))/LOG(2))))","v":0},null,{"$f":"N16","v":2112},{"$f":"COUNTIF(L173:L205,AS16)","v":0},{"$f":"AT16/(AV4-AT20)","v":0},{"$f":"IF(AU16=0,0,(AU16*((LOG(AU16))/LOG(2))))","v":0}]
[12,1335,14,1340,13,1345,14,1355,null,null,0,1111,null,2121,{"$f":"COUNTIF($L$7:$L$500,N17)","v":0},{"$f":"O17/$Q$4","v":0},{"$f":"IF(P17=0,0,(P17*((LOG(P17))/LOG(2))))","v":0},null,null,{"$f":"N17","v":2121},{"$f":"COUNTIF(L7:L39,T17)","v":0},{"$f":"U17/(W4-U20)","v":0},{"$f":"IF(V17=0,0,(V17*((LOG(V17))/LOG(2))))","v":0},null,{"$f":"N17","v":2121},{"$f":"COUNTIF(L40:L72,Y17)","v":0},{"$f":"Z17/(AB4-Z20)","v":0},{"$f":"IF(AA17=0,0,(AA17*((LOG(AA17))/LOG(2))))","v":0},null,{"$f":"N17","v":2121},{"$f":"COUNTIF(L73:L106,AD17)","v":0},{"$f":"AE17/(AG4-AE20)","v":0},{"$f":"IF(AF17=0,0,(AF17*((LOG(AF17))/LOG(2))))","v":0},null,{"$f":"N17","v":2121},{"$f":"COUNTIF(L107:L139,AI17)","v":0},{"$f":"AJ17/(AL4-AJ20)","v":0},{"$f":"IF(AK17=0,0,(AK17*((LOG(AK17))/LOG(2))))","v":0},null,{"$f":"N17","v":2121},{"$f":"COUNTIF(L140:L172,AN17)","v":0},{"$f":"AO17/(AQ4-AO20)","v":0},{"$f":"IF(AP17=0,0,(AP17*((LOG(AP17))/LOG(2))))","v":0},null,{"$f":"N17","v":2121},{"$f":"COUNTIF(L173:L205,AS17)","v":0},{"$f":"AT17/(AV4-AT20)","v":0},{"$f":"IF(AU17=0,0,(AU17*((LOG(AU17))/LOG(2))))","v":0}]
[12,1462,14,1469,13,1473,14,1479,null,null,0,1111,null,2122,{"$f":"COUNTIF($L$7:$L$500,N18)","v":0},{"$f":"O18/$Q$4","v":0},{"$f":"IF(P18=0,0,(P18*((LOG(P18))/LOG(2))))","v":0},null,null,{"$f":"N18","v":2122},{"$f":"COUNTIF(L7:L39,T18)","v":0},{"$f":"U18/(W4-U20)","v":0},{"$f":"IF(V18=0,0,(V18*((LOG(V18))/LOG(2))))","v":0},null,{"$f":"N18","v":2122},{"$f":"COUNTIF(L40:L72,Y18)","v":0},{"$f":"Z18/(AB4-Z20)","v":0},{"$f":"IF(AA18=0,0,(AA18*((LOG(AA18))/LOG(2))))","v":0},null,{"$f":"N18","v":2122},{"$f":"COUNTIF(L73:L106,AD18)","v":0},{"$f":"AE18/(AG4-AE20)","v":0},{"$f":"IF(AF18=0,0,(AF18*((LOG(AF18))/LOG(2))))","v":0},null,{"$f":"N18","v":2122},{"$f":"COUNTIF(L107:L139,AI18)","v":0},{"$f":"AJ18/(AL4-AJ20)","v":0},{"$f":"IF(AK18=0,0,(AK18*((LOG(AK18))/LOG(2))))","v":0},null,{"$f":"N18","v":2122},{"$f":"COUNTIF(L140:L172,AN18)","v":0},{"$f":"AO18/(AQ4-AO20)","v":0},{"$f":"IF(AP18=0,0,(AP18*((LOG(AP18))/LOG(2))))","v":0},null,{"$f":"N18","v":2122},{"$f":"COUNTIF(L173:L205,AS18)","v":0},{"$f":"AT18/(AV4-AT20)","v":0},{"$f":"IF(AU18=0,0,(AU18*((LOG(AU18))/LOG(2))))","v":0}]
[12,1586,14,1593,13,1599,14,1608,null,null,0,1111,null,2211,{"$f":"COUNTIF($L$7:$L$500,N19)","v":0},{"$f":"O19/$Q$4","v":0},{"$f":"IF(P19=0,0,(P19*((LOG(P19))/LOG(2))))","v":0},null,null,{"$f":"N19","v":2211},{"$f":"COUNTIF(L7:L39,T19)","v":0},{"$f":"U19/(W4-U20)","v":0},{"$f":"IF(V19=0,0,(V19*((LOG(V19))/LOG(2))))","v":0},null,{"$f":"N19","v":2211},{"$f":"COUNTIF(L40:L72,Y19)","v":0},{"$f":"Z19/(AB4-Z20)","v":0},{"$f":"IF(AA19=0,0,(AA19*((LOG(AA19))/LOG(2))))","v":0},null,{"$f":"N19","v":2211},{"$f":"COUNTIF(L73:L106,AD19)","v":0},{"$f":"AE19/(AG4-AE20)","v":0},{"$f":"IF(AF19=0,0,(AF19*((LOG(AF19))/LOG(2))))","v":0},null,{"$f":"N19","v":2211},{"$f":"COUNTIF(L107:L139,AI19)","v":0},{"$f":"AJ19/(AL4-AJ20)","v":0},{"$f":"IF(AK19=0,0,(AK19*((LOG(AK19))/LOG(2))))","v":0},null,{"$f":"N19","v":2211},{"$f":"COUNTIF(L140:L172,AN19)","v":0},{"$f":"AO19/(AQ4-AO20)","v":0},{"$f":"IF(AP19=0,0,(AP19*((LOG(AP19))/LOG(2))))","v":0},null,{"$f":"N19","v":2211},{"$f":"COUNTIF(L173:L205,AS19)","v":0},{"$f":"AT19/(AV4-AT20)","v":0},{"$f":"IF(AU19=0,0,(AU19*((LOG(AU19))/LOG(2))))","v":0}]
[12,1703,14,1713,13,1717,14,1723,null,null,0,1111,null,2212,{"$f":"COUNTIF($L$7:$L$500,N20)","v":0},{"$f":"O20/$Q$4","v":0},{"$f":"IF(P20=0,0,(P20*((LOG(P20))/LOG(2))))","v":0},null,null,{"$f":"N20","v":2212},{"$f":"COUNTIF(L7:L39,T20)","v":0},null,null,null,{"$f":"N20","v":2212},{"$f":"COUNTIF(L40:L72,Y20)","v":0},null,null,null,{"$f":"N20","v":2212},{"$f":"COUNTIF(L73:L106,AD20)","v":0},null,null,null,{"$f":"N20","v":2212},{"$f":"COUNTIF(L107:L139,AI20)","v":0},null,null,null,{"$f":"N20","v":2212},{"$f":"COUNTIF(L140:L172,AN20)","v":0},null,null,null,{"$f":"N20","v":2212},{"$f":"COUNTIF(L173:L205,AS20)","v":0}]
[12,1830,14,1837,13,1842,14,1848,null,null,0,1111,null,2221,{"$f":"COUNTIF($L$7:$L$500,N21)","v":0},{"$f":"O21/$Q$4","v":0},{"$f":"IF(P21=0,0,(P21*((LOG(P21))/LOG(2))))","v":0},null,null,{"$f":"N21","v":2221},{"$f":"COUNTIF(L7:L39,T21)","v":0},{"$f":"U21/(W4-U20)","v":0},{"$f":"IF(V21=0,0,(V21*((LOG(V21))/LOG(2))))","v":0},null,{"$f":"N21","v":2221},{"$f":"COUNTIF(L40:L72,Y21)","v":0},{"$f":"Z21/(AB4-Z20)","v":0},{"$f":"IF(AA21=0,0,(AA21*((LOG(AA21))/LOG(2))))","v":0},null,{"$f":"N21","v":2221},{"$f":"COUNTIF(L73:L106,AD21)","v":0},{"$f":"AE21/(AG4-AE20)","v":0},{"$f":"IF(AF21=0,0,(AF21*((LOG(AF21))/LOG(2))))","v":0},null,{"$f":"N21","v":2221},{"$f":"COUNTIF(L107:L139,AI21)","v":0},{"$f":"AJ21/(AL4-AJ20)","v":0},{"$f":"IF(AK21=0,0,(AK21*((LOG(AK21))/LOG(2))))","v":0},null,{"$f":"N21","v":2221},{"$f":"COUNTIF(L140:L172,AN21)","v":0},{"$f":"AO21/(AQ4-AO20)","v":0},{"$f":"IF(AP21=0,0,(AP21*((LOG(AP21))/LOG(2))))","v":0},null,{"$f":"N21","v":2221},{"$f":"COUNTIF(L173:L205,AS21)","v":0},{"$f":"AT21/(AV4-AT20)","v":0},{"$f":"IF(AU21=0,0,(AU21*((LOG(AU21))/LOG(2))))","v":0}]
[12,1946,14,1951,13,1956,14,1963,null,null,0,1111,null,2222,{"$f":"COUNTIF($L$7:$L$500,N22)","v":2},{"$f":"O22/$Q$4","v":1.0050251256281407E-2},{"$f":"IF(P22=0,0,(P22*((LOG(P22))/LOG(2))))","v":-6.6699744930086929E-2},null,null,{"$f":"N22","v":2222},{"$f":"COUNTIF(L7:L39,T22)","v":0},{"$f":"U22/(W4-U20)","v":0},{"$f":"IF(V22=0,0,(V22*((LOG(V22))/LOG(2))))","v":0},null,{"$f":"N22","v":2222},{"$f":"COUNTIF(L40:L72,Y22)","v":0},{"$f":"Z22/(AB4-Z20)","v":0},{"$f":"IF(AA22=0,0,(AA22*((LOG(AA22))/LOG(2))))","v":0},null,{"$f":"N22","v":2222},{"$f":"COUNTIF(L73:L106,AD22)","v":0},{"$f":"AE22/(AG4-AE20)","v":0},{"$f":"IF(AF22=0,0,(AF22*((LOG(AF22))/LOG(2))))","v":0},null,{"$f":"N22","v":2222},{"$f":"COUNTIF(L107:L139,AI22)","v":1},{"$f":"AJ22/(AL4-AJ20)","v":3.0303030303030304E-2},{"$f":"IF(AK22=0,0,(AK22*((LOG(AK22))/LOG(2))))","v":-0.15286042785934709},null,{"$f":"N22","v":2222},{"$f":"COUNTIF(L140:L172,AN22)","v":0},{"$f":"AO22/(AQ4-AO20)","v":0},{"$f":"IF(AP22=0,0,(AP22*((LOG(AP22))/LOG(2))))","v":0},null,{"$f":"N22","v":2222},{"$f":"COUNTIF(L173:L205,AS22)","v":1},{"$f":"AT22/(AV4-AT20)","v":3.0303030303030304E-2},{"$f":"IF(AU22=0,0,(AU22*((LOG(AU22))/LOG(2))))","v":-0.15286042785934709}]
[12,2060,14,2065,13,2069,14,2075,null,null,0,1111,null,null,null,{"$f":"SUM(P7:P22)","v":1},{"$f":"-SUM(Q7:Q22)","v":8.1126085704924661E-2},null,null,null,null,{"$f":"SUM(V7:V22)","v":1},{"$f":"-SUM(W7:W22)","v":0},null,null,null,{"$f":"SUM(AA7:AA22)","v":1},{"$f":"-SUM(AB7:AB22)","v":0},null,null,null,{"$f":"SUM(AF7:AF22)","v":1},{"$f":"-SUM(AG7:AG22)","v":0},null,null,null,{"$f":"SUM(AK7:AK22)","v":1},{"$f":"-SUM(AL7:AL22)","v":0.19590927087360493},null,null,null,{"$f":"SUM(AP7:AP22)","v":1},{"$f":"-SUM(AQ7:AQ22)","v":0},null,null,null,{"$f":"SUM(AU7:AU22)","v":1},{"$f":"-SUM(AV7:AV22)","v":0.19590927087360493}]
[12,2170,14,2176,13,2181,14,2186,null,null,0,1111,null,null,null,"U=",{"$f":"Q23/(LOG(Q4)/LOG(2))","v":1.0623291013503988E-2},null,null,null,null,"U1=",{"$f":"W23/(LOG(W4)/LOG(2))","v":0},null,null,null,"U2=",{"$f":"AB23/(LOG(AB4)/LOG(2))","v":0},null,null,null,"U3=",{"$f":"AG23/(LOG(AG4)/LOG(2))","v":0},null,null,null,"U4=",{"$f":"AL23/(LOG(AL4)/LOG(2))","v":3.8837027051827726E-2},null,null,null,"U5=",{"$f":"AQ23/(LOG(AQ4)/LOG(2))","v":0},null,null,null,"U6=",{"$f":"AV23/(LOG(AV4)/LOG(2))","v":3.8837027051827726E-2}]
[12,2294,14,2299,13,2309,14,2321,null,null,0,1111]
[12,2427,14,2433,13,2439,14,2445,null,null,0,1111]
[12,2539,14,2545,13,2551,14,2556,null,null,0,1111,null,"Total Target Seq"]
[12,2664,14,2671,13,2676,14,2681,null,null,0,1111,null,{"$f":"COUNTIF(L7:L205,G3)","v":0},null,33,33,34,33,33,33]
[12,2782,14,2789,13,2793,14,2799,null,null,0,1111,null,null,null,"% of reinforcement given in 6 equal intervals based on number of trials "]
[12,2907,14,2913,13,2919,14,2947,null,null,0,1111,null,null,null,"%_1","%_2","%_3","%_4","%_5","%_6"]
[12,3055,14,3062,13,3067,14,3073,null,null,0,1111,null,null,"target sequence",{"$f":"$G$3","v":2212},{"$f":"$G$3","v":2212},{"$f":"$G$3","v":2212},{"$f":"$G$3","v":2212},{"$f":"$G$3","v":2212},{"$f":"$G$3","v":2212}]
[12,3283,14,3289,13,3298,14,3309,null,null,0,1111,null,null,"total reinforcement",{"$f":"U20","v":0},{"$f":"Z20","v":0},{"$f":"AE20","v":0},{"$f":"AJ20","v":0},{"$f":"AO20","v":0},{"$f":"AT20","v":0}]
[12,3412,14,3419,13,3427,14,3436,null,null,0,1111,null,null,"% target"]
[12,3538,14,3547,13,3553,14,3562,null,null,0,1111,null,null,"CCRF"]
[12,3668,14,3674,13,3679,14,3684,null,null,0,1111,null,null,"% CCRf"]
[12,3785,14,3790,13,3795,14,3803,null,null,0,1111,null,null,"average response rate",{"$f":"H39/P28","v":126.81818181818181},{"$f":"(H72-H39)/Q28","v":119.42424242424242},{"$f":"(H106-H72)/R28","v":117.05882352941177},{"$f":"(H139-H106)/S28","v":119.45454545454545},{"$f":"(H172-H139)/T28","v":117.63636363636364},{"$f":"(H205-H172)/U28","v":120.48484848484848}]
[12,3896,14,3901,13,3906,14,3911,null,null,0,1111]
[12,4030,14,4040,13,4049,14,4062,null,null,0,1111]
[12,4170,14,4175,13,4180,14,4185,null,null,0,1111]
[12,4289,14,4297,13,4304,14,4313,null,null,0,1111]
[12,4413,14,4419,13,4424,14,4432,null,null,0,1111]
[12,4533,14,4541,13,4546,14,4551,null,null,0,1111]
[12,4646,14,4652,13,4657,14,4662,null,null,0,1111]
[12,4758,14,4764,13,4769,14,4777,null,null,0,1111]
[12,4875,14,4882,13,4887,14,4892,null,null,0,1111]
[12,4989,14,4997,13,5001,14,5006,null,null,0,1111]
[12,5107,14,5113,13,5117,14,5123,null,null,0,1111]
[12,5225,14,5231,13,5236,14,5253,null,null,0,1111]
[12,5353,14,5359,13,5364,14,5369,null,null,0,1111]
[12,5470,14,5476,13,5481,14,5486,null,null,0,1111]
[12,5587,14,5594,13,5604,14,5616,null,null,0,1111]
[12,5711,14,5716,13,5724,14,5733,null,null,0,1111]
[12,5830,14,5835,13,5840,14,5845,null,null,0,1111]
[12,5950,14,5959,13,5964,14,5977,null,null,0,1111]
[12,6073,14,6078,13,6083,14,6092,null,null,0,1111]
[12,6189,14,6195,13,6201,14,6206,null,null,0,1111]
[12,6301,14,6306,13,6312,14,6320,null,null,0,1111]
[12,6418,14,6425,13,6433,14,6442,null,null,0,1111]
[12,6538,14,6544,13,6550,14,6562,null,null,0,1111]
[12,6660,14,6667,13,6672,14,6677,null,null,0,1111]
[12,6778,14,6784,13,6789,14,6795,null,null,0,1111]
[12,6894,14,6902,13,6910,14,6920,null,null,0,1111]
[12,7020,14,7026,13,7032,14,7037,null,null,0,1111]
[12,7141,14,7148,13,7153,14,7161,null,null,0,1111]
[12,7262,14,7268,13,7273,14,7279,null,null,0,1111]
[12,7378,14,7384,13,7389,14,7395,null,null,0,1111]
[12,7493,14,7499,13,7508,14,7518,null,null,0,1111]
[12,7618,14,7623,13,7630,14,7639,null,null,0,1111]
[12,7737,14,7745,13,7751,14,7759,null,null,0,1111]
[12,7866,14,7872,13,7878,14,7886,null,null,0,1111]
[12,7985,14,7990,13,7996,14,8006,null,null,0,1111]
[12,8109,14,8116,13,8121,14,8126,null,null,0,1111]
[12,8229,14,8234,13,8239,14,8250,null,null,0,1111]
[12,8348,14,8357,13,8366,14,8374,null,null,0,1111]
[12,8474,14,8479,13,8484,14,8490,null,null,0,1111]
[12,8585,14,8586,13,8593,14,8601,null,null,0,1111]
[12,8699,14,8704,13,8709,14,8717,null,null,0,1111]
[12,8817,14,8823,13,8828,14,8838,null,null,0,1111]
[12,8938,14,8944,13,8949,14,8955,null,null,0,1111]
[12,9051,14,9055,13,9061,14,9068,null,null,0,1111]
[12,9168,14,9175,13,9181,14,9186,null,null,0,1111]
[12,9281,14,9288,13,9293,14,9298,null,null,0,1111]
[12,9396,14,9403,13,9408,14,9414,null,null,0,1111]
[12,9509,14,9514,13,9519,14,9524,null,null,0,1111]
[12,9621,14,9623,13,9627,14,9634,null,null,0,1111]
[12,9730,14,9737,13,9743,14,9751,null,null,0,1111]
[12,9848,14,9856,13,9861,14,9867,null,null,0,1111]
[12,9972,14,9977,13,9983,14,9993,null,null,0,1111]
[12,10092,14,10098,13,10104,14,10113,null,null,0,1111]
[12,10210,14,10216,13,10221,14,10226,null,null,0,1111]
[12,10322,14,10328,13,10337,14,10350,null,null,0,1111]
[12,10454,14,10459,13,10464,14,10469,null,null,0,1111]
[12,10564,14,10572,13,10577,14,10585,null,null,0,1111]
[12,10688,14,10692,13,10698,14,10707,null,null,0,1111]
[12,10801,14,10807,13,10814,14,10821,null,null,0,1111]
[12,10916,14,10924,13,10929,14,10938,null,null,0,1111]
[12,11037,14,11043,13,11049,14,11057,null,null,0,1111]
[12,11149,14,11155,13,11161,14,11170,null,null,0,1111]
[12,11271,14,11278,13,11284,14,11289,null,null,0,1111]
[12,11388,14,11394,13,11399,14,11404,null,null,0,1111]
[12,11498,14,11504,13,11510,14,11514,null,null,0,1111]
[12,11612,14,11621,13,11628,14,11642,null,null,0,1111]
[12,11744,14,11751,13,11756,14,11762,null,null,0,1111]
[12,11861,14,11867,13,11872,14,11880,null,null,0,1111]
[12,11975,14,11981,13,11987,14,11992,null,null,0,1111]
[12,12087,14,12093,13,12099,14,12106,null,null,0,1111]
[12,12202,14,12208,13,12214,14,12223,null,null,0,1111]
[12,12320,14,12329,13,12334,14,12342,null,null,0,1111]
[12,12443,14,12451,13,12456,14,12465,null,null,0,1111]
[12,12560,14,12566,13,12571,14,12576,null,null,0,1111]
[12,12674,14,12680,13,12686,14,12694,null,null,0,1111]
[12,12793,14,12802,13,12808,14,12813,null,null,0,1111]
[12,12909,14,12915,13,12921,14,12929,null,null,0,1111]
[12,13027,14,13036,13,13042,14,13047,null,null,0,1111]
[12,13151,14,13157,13,13162,14,13167,null,null,0,1111]
[12,13264,14,13270,13,13276,14,13282,null,null,0,1111]
[12,13377,14,13382,13,13388,14,13395,null,null,0,1111]
[12,13493,14,13500,13,13508,14,13516,null,null,0,1111]
[12,13619,14,13630,13,13635,14,13643,null,null,0,1111]
[12,13739,14,13744,13,13749,14,13754,null,null,0,1111]
[12,13853,14,13858,13,13863,14,13868,null,null,0,1111]
[12,13968,14,13976,13,13982,14,13990,null,null,0,1111]
[12,14093,14,14101,13,14108,14,14117,null,null,0,1111]
[12,14217,14,14223,13,14229,14,14234,null,null,0,1111]
[21,14334,21,14342,22,14353,23,14361,null,null,0,2222]
[12,14456,14,14465,13,14473,14,14483,null,null,0,1111]
[12,14585,14,14591,13,14601,14,14608,null,null,0,1111]
[12,14707,14,14715,13,14720,14,14725,null,null,0,1111]
[12,14825,14,14831,13,14835,14,14840,null,null,0,1111]
[12,14943,14,14951,13,14956,14,14961,null,null,0,1111]
[12,15059,14,15064,13,15069,14,15082,null,null,0,1111]
[12,15177,14,15182,13,15188,14,15193,null,null,0,1111]
[12,15296,14,15302,13,15306,14,15312,null,null,0,1111]
[12,15414,14,15425,13,15430,14,15440,null,null,0,1111]
[12,15539,14,15545,13,15551,14,15561,null,null,0,1111]
[12,15670,14,15676,13,15681,14,15686,null,null,0,1111]
[12,15786,14,15793,13,15798,14,15808,null,null,0,1111]
[12,15908,14,15914,13,15928,14,15936,null,null,0,1111]
[12,16032,14,16038,13,16043,14,16048,null,null,0,1111]
[12,16148,14,16156,13,16160,14,16184,null,null,0,1111]
[12,16283,14,16289,13,16295,14,16302,null,null,0,1111]
[12,16406,14,16411,13,16416,14,16425,null,null,0,1111]
[12,16528,14,16535,13,16541,14,16548,null,null,0,1111]
[12,16646,14,16653,13,16658,14,16663,null,null,0,1111]
[12,16760,14,16766,13,16771,14,16776,null,null,0,1111]
[12,16875,14,16880,13,16886,14,16892,null,null,0,1111]
[12,16988,14,16998,13,17003,14,17011,null,null,0,1111]
[12,17099,14,17105,13,17109,14,17114,null,null,0,1111]
[12,17217,14,17222,13,17227,14,17234,null,null,0,1111]
[12,17333,14,17338,13,17349,14,17356,null,null,0,1111]
[12,17455,14,17461,13,17467,14,17472,null,null,0,1111]
[12,17571,14,17580,13,17588,14,17598,null,null,0,1111]
[12,17695,14,17700,13,17706,14,17715,null,null,0,1111]
[12,17808,14,17813,13,17817,14,17822,null,null,0,1111]
[12,17919,14,17924,13,17934,14,17950,null,null,0,1111]
[12,18048,14,18054,13,18058,14,18063,null,null,0,1111]
[12,18156,14,18162,13,18171,14,18179,null,null,0,1111]
[12,18282,14,18288,13,18293,14,18298,null,null,0,1111]
[12,18386,14,18393,13,18398,14,18403,null,null,0,1111]
[12,18503,14,18508,13,18517,14,18526,null,null,0,1111]
[12,18625,14,18634,13,18641,14,18649,null,null,0,1111]
[12,18744,14,18750,13,18755,14,18760,null,null,0,1111]
[12,18859,14,18867,13,18872,14,18877,null,null,0,1111]
[12,18973,14,18979,13,18985,14,18993,null,null,0,1111]
[12,19088,14,19094,13,19100,14,19105,null,null,0,1111]
[12,19206,14,19213,13,19218,14,19224,null,null,0,1111]
[12,19321,14,19326,13,19334,14,19342,null,null,0,1111]
[12,19441,14,19447,13,19453,14,19459,null,null,0,1111]
[12,19557,14,19563,13,19569,14,19574,null,null,0,1111]
[12,19678,14,19684,13,19688,14,19693,null,null,0,1111]
[12,19793,14,19798,13,19804,14,19813,null,null,0,1111]
[12,19912,14,19918,13,19923,14,19930,null,null,0,1111]
[12,20031,14,20037,13,20042,14,20046,null,null,0,1111]
[12,20144,14,20150,13,20155,14,20162,null,null,0,1111]
[12,20254,14,20262,13,20267,14,20272,null,null,0,1111]
[12,20370,14,20376,13,20382,14,20391,null,null,0,1111]
[12,20483,14,20491,13,20498,14,20502,null,null,0,1111]
[12,20601,14,20610,13,20615,14,20623,null,null,0,1111]
[12,20716,14,20721,13,20728,14,20734,null,null,0,1111]
[12,20836,14,20842,13,20847,14,20869,null,null,0,1111]
[12,21071,14,21076,13,21082,14,21090,null,null,0,1111]
[12,21198,14,21205,13,21210,14,21215,null,null,0,1111]
[12,21312,14,21318,13,21324,14,21331,null,null,0,1111]
[12,21431,14,21436,13,21441,14,21451,null,null,0,1111]
[12,21544,14,21550,13,21555,14,21560,null,null,0,1111]
[12,21648,14,21653,13,21658,14,21666,null,null,0,1111]
[12,21766,14,21771,13,21776,14,21780,null,null,0,1111]
[12,21885,14,21891,13,21897,14,21910,null,null,0,1111]
[12,22008,14,22014,13,22019,14,22028,null,null,0,1111]
[12,22117,14,22123,13,22128,14,22133,null,null,0,1111]
[12,22230,14,22237,13,22243,14,22253,null,null,0,1111]
[12,22351,14,22357,13,22362,14,22367,null,null,0,1111]
[12,22470,14,22476,13,22481,14,22486,null,null,0,1111]
[12,22582,14,22588,13,22597,14,22606,null,null,0,1111]
[12,22704,14,22708,13,22714,14,22723,null,null,0,1111]
[12,22813,14,22818,13,22823,14,22832,null,null,0,1111]
[21,22936,21,22944,22,22949,23,22954,null,null,0,2222]
[12,23049,14,23055,13,23061,14,23070,null,null,0,1111]
[12,23170,14,23176,13,23181,14,23186,null,null,0,1111]
[12,23288,14,23294,13,23299,14,23307,null,null,0,1111]
[12,23406,14,23412,13,23416,14,23424,null,null,0,1111]
[12,23523,14,23529,13,23534,14,23542,null,null,0,1111]
[12,23637,14,23643,13,23648,14,23657,null,null,0,1111]
[12,23749,14,23758,13,23762,14,23788,null,null,0,1111]
[12,23885,14,23892,13,23899,14,23906,null,null,0,1111]

{"sheet":"!L919B30.056","index":22,"n_rows":205,"n_cols":48,"rows_kept":205,"cut":false,"hidden":false,"merged":[[4,39,4,42],[5,39,5,40],[4,44,4,47],[5,44,5,45],[4,24,4,27],[5,24,5,25],[4,29,4,32],[5,29,5,30],[4,34,4,37],[5,34,5,35],[1,1,1,2],[5,13,5,14],[26,13,26,14],[27,13,27,14],[4,19,4,22],[5,19,5,20]]}
["Report for:!L919B30.056"]
["Date:","<date>"]
["Hen:","<hen>",null,null,null,"Correct Sequence",{"$f":"Start!J2","v":2212},null,null,null,null,null,null,null,null,"Total Sequences in Data",{"$f":"4994-COUNTBLANK(L7:L5000)","v":199},null,null,null,null,"Total Sequences in Block Data",{"$f":"COUNTA(L7:L39)","v":33},null,null,null,"Total Sequences in Block Data",{"$f":"COUNTA(L40:L72)","v":33},null,null,null,"Total Sequences in Block Data",{"$f":"COUNTA(L73:L106)","v":34},null,null,null,"Total Sequences in Block Data",{"$f":"COUNTA(L107:L139)","v":33},null,null,null,"Total Sequences in Block Data",{"$f":"COUNTA(L140:L172)","v":33},null,null,null,"Total Sequences in Block Data",{"$f":"COUNTA(L173:L205)","v":33}]
[null,null,null,null,null,null,null,null,null,null,null,null,null,null,null,"Total Sequences in Summary",{"$f":"SUM(O7:O22)","v":199},null,null,null,null,"Total Sequences in Block Summary",{"$f":"SUM(U7:U22)","v":33},null,null,null,"Total Sequences in Block Summary",{"$f":"SUM(Z7:Z22)","v":33},null,null,null,"Total Sequences in Block Summary",{"$f":"SUM(AE7:AE22)","v":34},null,null,null,"Total Sequences in Block Summary",{"$f":"SUM(AJ7:AJ22)","v":33},null,null,null,"Total Sequences in Block Summary",{"$f":"SUM(AO7:AO22)","v":33},null,null,null,"Total Sequences in Block Summary",{"$f":"SUM(AT7:AT22)","v":33}]
[null,null,null,null,null,null,null,null,null,null,null,null,null,null,null,null,null,null,null,"Block 1",null,null,null,null,"Block 2",null,null,null,null,"Block 3",null,null,null,null,"Block 4",null,null,null,null,"Block 5",null,null,null,null,"Block 6"]
["Sequence\nComponent\n1","Time\n1","Sequence\nComponent\n2","Time\n2","Sequence\nComponent\n3","Time\n3","Sequence\nComponent\n4","Time\n4","Sequence\nComponent\n5","Time\n5","Correct?\n0=No 1=Yes","Sequence",null,"Frequency",null,"Relative Frequency","Variability",null,null,"Frequency",null,"Relative Frequency","Variability",null,"Frequency",null,"Relative Frequency","Variability",null,"Frequency",null,"Relative Frequency","Variability",null,"Frequency",null,"Relative Frequency","Variability",null,"Frequency",null,"Relative Frequency","Variability",null,"Frequency",null,"Relative Frequency","Variability"]
[12,21,14,31,13,38,23,56,null,null,0,1112,null,1111,{"$f":"COUNTIF($L$7:$L$500,N7)","v":189},{"$f":"O7/$Q$4","v":0.94974874371859297},{"$f":"IF(P7=0,0,(P7*((LOG(P7))/LOG(2))))","v":-7.0644397512396484E-2},null,null,{"$f":"N7","v":1111},{"$f":"COUNTIF(L7:L39,T7)","v":32},{"$f":"U7/(W4-U20)","v":0.96969696969696972},{"$f":"IF(V7=0,0,(V7*((LOG(V7))/LOG(2))))","v":-4.3048843014257841E-2},null,{"$f":"N7","v":1111},{"$f":"COUNTIF(L40:L72,Y7)","v":33},{"$f":"Z7/(AB4-Z20)","v":1},{"$f":"IF(AA7=0,0,(AA7*((LOG(AA7))/LOG(2))))","v":0},null,{"$f":"N7","v":1111},{"$f":"COUNTIF(L73:L106,AD7)","v":33},{"$f":"AE7/(AG4-AE20)","v":0.97058823529411764},{"$f":"IF(AF7=0,0,(AF7*((LOG(AF7))/LOG(2))))","v":-4.1801994777418743E-2},null,{"$f":"N7","v":1111},{"$f":"COUNTIF(L107:L139,AI7)","v":30},{"$f":"AJ7/(AL4-AJ20)","v":0.90909090909090906},{"$f":"IF(AK7=0,0,(AK7*((LOG(AK7))/LOG(2))))","v":-0.12500320340903179},null,{"$f":"N7","v":1111},{"$f":"COUNTIF(L140:L172,AN7)","v":29},{"$f":"AO7/(AQ4-AO20)","v":0.87878787878787878},{"$f":"IF(AP7=0,0,(AP7*((LOG(AP7))/LOG(2))))","v":-0.16381759402107751},null,{"$f":"N7","v":1111},{"$f":"COUNTIF(L173:L205,AS7)","v":32},{"$f":"AT7/(AV4-AT20)","v":0.96969696969696972},{"$f":"IF(AU7=0,0,(AU7*((LOG(AU7))/LOG(2))))","v":-4.3048843014257841E-2}]
[12,160,14,166,13,171,14,181,null,null,0,1111,null,1112,{"$f":"COUNTIF($L$7:$L$500,N8)","v":6},{"$f":"O8/$Q$4","v":3.015075376884422E-2},{"$f":"IF(P8=0,0,(P8*((LOG(P8))/LOG(2))))","v":-0.15231142069816561},null,null,{"$f":"N8","v":1112},{"$f":"COUNTIF(L7:L39,T8)","v":1},{"$f":"U8/(W4-U20)","v":3.0303030303030304E-2},{"$f":"IF(V8=0,0,(V8*((LOG(V8))/LOG(2))))","v":-0.15286042785934709},null,{"$f":"N8","v":1112},{"$f":"COUNTIF(L40:L72,Y8)","v":0},{"$f":"Z8/(AB4-Z20)","v":0},{"$f":"IF(AA8=0,0,(AA8*((LOG(AA8))/LOG(2))))","v":0},null,{"$f":"N8","v":1112},{"$f":"COUNTIF(L73:L106,AD8)","v":0},{"$f":"AE8/(AG4-AE20)","v":0},{"$f":"IF(AF8=0,0,(AF8*((LOG(AF8))/LOG(2))))","v":0},null,{"$f":"N8","v":1112},{"$f":"COUNTIF(L107:L139,AI8)","v":2},{"$f":"AJ8/(AL4-AJ20)","v":6.0606060606060608E-2},{"$f":"IF(AK8=0,0,(AK8*((LOG(AK8))/LOG(2))))","v":-0.24511479511263354},null,{"$f":"N8","v":1112},{"$f":"COUNTIF(L140:L172,AN8)","v":2},{"$f":"AO8/(AQ4-AO20)","v":6.0606060606060608E-2},{"$f":"IF(AP8=0,0,(AP8*((LOG(AP8))/LOG(2))))","v":-0.24511479511263354},null,{"$f":"N8","v":1112},{"$f":"COUNTIF(L173:L205,AS8)","v":1},{"$f":"AT8/(AV4-AT20)","v":3.0303030303030304E-2},{"$f":"IF(AU8=0,0,(AU8*((LOG(AU8))/LOG(2))))","v":-0.15286042785934709}]
[12,286,14,291,13,297,14,307,null,null,0,1111,null,1121,{"$f":"COUNTIF($L$7:$L$500,N9)","v":0},{"$f":"O9/$Q$4","v":0},{"$f":"IF(P9=0,0,(P9*((LOG(P9))/LOG(2))))","v":0},null,null,{"$f":"N9","v":1121},{"$f":"COUNTIF(L7:L39,T9)","v":0},{"$f":"U9/(W4-U20)","v":0},{"$f":"IF(V9=0,0,(V9*((LOG(V9))/LOG(2))))","v":0},null,{"$f":"N9","v":1121},{"$f":"COUNTIF(L40:L72,Y9)","v":0},{"$f":"Z9/(AB4-Z20)","v":0},{"$f":"IF(AA9=0,0,(AA9*((LOG(AA9))/LOG(2))))","v":0},null,{"$f":"N9","v":1121},{"$f":"COUNTIF(L73:L106,AD9)","v":0},{"$f":"AE9/(AG4-AE20)","v":0},{"$f":"IF(AF9=0,0,(AF9*((LOG(AF9))/LOG(2))))","v":0},null,{"$f":"N9","v":1121},{"$f":"COUNTIF(L107:L139,AI9)","v":0},{"$f":"AJ9/(AL4-AJ20)","v":0},{"$f":"IF(AK9=0,0,(AK9*((LOG(AK9))/LOG(2))))","v":0},null,{"$f":"N9","v":1121},{"$f":"COUNTIF(L140:L172,AN9)","v":0},{"$f":"AO9/(AQ4-AO20)","v":0},{"$f":"IF(AP9=0,0,(AP9*((LOG(AP9))/LOG(2))))","v":0},null,{"$f":"N9","v":1121},{"$f":"COUNTIF(L173:L205,AS9)","v":0},{"$f":"AT9/(AV4-AT20)","v":0},{"$f":"IF(AU9=0,0,(AU9*((LOG(AU9))/LOG(2))))","v":0}]
[12,409,14,415,13,420,14,429,null,null,0,1111,null,1122,{"$f":"COUNTIF($L$7:$L$500,N10)","v":0},{"$f":"O10/$Q$4","v":0},{"$f":"IF(P10=0,0,(P10*((LOG(P10))/LOG(2))))","v":0},null,null,{"$f":"N10","v":1122},{"$f":"COUNTIF(L7:L39,T10)","v":0},{"$f":"U10/(W4-U20)","v":0},{"$f":"IF(V10=0,0,(V10*((LOG(V10))/LOG(2))))","v":0},null,{"$f":"N10","v":1122},{"$f":"COUNTIF(L40:L72,Y10)","v":0},{"$f":"Z10/(AB4-Z20)","v":0},{"$f":"IF(AA10=0,0,(AA10*((LOG(AA10))/LOG(2))))","v":0},null,{"$f":"N10","v":1122},{"$f":"COUNTIF(L73:L106,AD10)","v":0},{"$f":"AE10/(AG4-AE20)","v":0},{"$f":"IF(AF10=0,0,(AF10*((LOG(AF10))/LOG(2))))","v":0},null,{"$f":"N10","v":1122},{"$f":"COUNTIF(L107:L139,AI10)","v":0},{"$f":"AJ10/(AL4-AJ20)","v":0},{"$f":"IF(AK10=0,0,(AK10*((LOG(AK10))/LOG(2))))","v":0},null,{"$f":"N10","v":1122},{"$f":"COUNTIF(L140:L172,AN10)","v":0},{"$f":"AO10/(AQ4-AO20)","v":0},{"$f":"IF(AP10=0,0,(AP10*((LOG(AP10))/LOG(2))))","v":0},null,{"$f":"N10","v":1122},{"$f":"COUNTIF(L173:L205,AS10)","v":0},{"$f":"AT10/(AV4-AT20)","v":0},{"$f":"IF(AU10=0,0,(AU10*((LOG(AU10))/LOG(2))))","v":0}]
[12,529,14,535,13,544,14,554,null,null,0,1111,null,1211,{"$f":"COUNTIF($L$7:$L$500,N11)","v":0},{"$f":"O11/$Q$4","v":0},{"$f":"IF(P11=0,0,(P11*((LOG(P11))/LOG(2))))","v":0},null,null,{"$f":"N11","v":1211},{"$f":"COUNTIF(L7:L39,T11)","v":0},{"$f":"U11/(W4-U20)","v":0},{"$f":"IF(V11=0,0,(V11*((LOG(V11))/LOG(2))))","v":0},null,{"$f":"N11","v":1211},{"$f":"COUNTIF(L40:L72,Y11)","v":0},{"$f":"Z11/(AB4-Z20)","v":0},{"$f":"IF(AA11=0,0,(AA11*((LOG(AA11))/LOG(2))))","v":0},null,{"$f":"N11","v":1211},{"$f":"COUNTIF(L73:L106,AD11)","v":0},{"$f":"AE11/(AG4-AE20)","v":0},{"$f":"IF(AF11=0,0,(AF11*((LOG(AF11))/LOG(2))))","v":0},null,{"$f":"N11","v":1211},{"$f":"COUNTIF(L107:L139,AI11)","v":0},{"$f":"AJ11/(AL4-AJ20)","v":0},{"$f":"IF(AK11=0,0,(AK11*((LOG(AK11))/LOG(2))))","v":0},null,{"$f":"N11","v":1211},{"$f":"COUNTIF(L140:L172,AN11)","v":0},{"$f":"AO11/(AQ4-AO20)","v":0},{"$f":"IF(AP11=0,0,(AP11*((LOG(AP11))/LOG(2))))","v":0},null,{"$f":"N11","v":1211},{"$f":"COUNTIF(L173:L205,AS11)","v":0},{"$f":"AT11/(AV4-AT20)","v":0},{"$f":"IF(AU11=0,0,(AU11*((LOG(AU11))/LOG(2))))","v":0}]
[12,665,14,671,13,677,14,683,null,null,0,1111,null,1212,{"$f":"COUNTIF($L$7:$L$500,N12)","v":0},{"$f":"O12/$Q$4","v":0},{"$f":"IF(P12=0,0,(P12*((LOG(P12))/LOG(2))))","v":0},null,null,{"$f":"N12","v":1212},{"$f":"COUNTIF(L7:L39,T12)","v":0},{"$f":"U12/(W4-U20)","v":0},{"$f":"IF(V12=0,0,(V12*((LOG(V12))/LOG(2))))","v":0},null,{"$f":"N12","v":1212},{"$f":"COUNTIF(L40:L72,Y12)","v":0},{"$f":"Z12/(AB4-Z20)","v":0},{"$f":"IF(AA12=0,0,(AA12*((LOG(AA12))/LOG(2))))","v":0},null,{"$f":"N12","v":1212},{"$f":"COUNTIF(L73:L106,AD12)","v":0},{"$f":"AE12/(AG4-AE20)","v":0},{"$f":"IF(AF12=0,0,(AF12*((LOG(AF12))/LOG(2))))","v":0},null,{"$f":"N12","v":1212},{"$f":"COUNTIF(L107:L139,AI12)","v":0},{"$f":"AJ12/(AL4-AJ20)","v":0},{"$f":"IF(AK12=0,0,(AK12*((LOG(AK12))/LOG(2))))","v":0},null,{"$f":"N12","v":1212},{"$f":"COUNTIF(L140:L172,AN12)","v":0},{"$f":"AO12/(AQ4-AO20)","v":0},{"$f":"IF(AP12=0,0,(AP12*((LOG(AP12))/LOG(2))))","v":0},null,{"$f":"N12","v":1212},{"$f":"COUNTIF(L173:L205,AS12)","v":0},{"$f":"AT12/(AV4-AT20)","v":0},{"$f":"IF(AU12=0,0,(AU12*((LOG(AU12))/LOG(2))))","v":0}]
[12,789,14,795,13,799,14,804,null,null,0,1111,null,1221,{"$f":"COUNTIF($L$7:$L$500,N13)","v":0},{"$f":"O13/$Q$4","v":0},{"$f":"IF(P13=0,0,(P13*((LOG(P13))/LOG(2))))","v":0},null,null,{"$f":"N13","v":1221},{"$f":"COUNTIF(L7:L39,T13)","v":0},{"$f":"U13/(W4-U20)","v":0},{"$f":"IF(V13=0,0,(V13*((LOG(V13))/LOG(2))))","v":0},null,{"$f":"N13","v":1221},{"$f":"COUNTIF(L40:L72,Y13)","v":0},{"$f":"Z13/(AB4-Z20)","v":0},{"$f":"IF(AA13=0,0,(AA13*((LOG(AA13))/LOG(2))))","v":0},null,{"$f":"N13","v":1221},{"$f":"COUNTIF(L73:L106,AD13)","v":0},{"$f":"AE13/(AG4-AE20)","v":0},{"$f":"IF(AF13=0,0,(AF13*((LOG(AF13))/LOG(2))))","v":0},null,{"$f":"N13","v":1221},{"$f":"COUNTIF(L107:L139,AI13)","v":0},{"$f":"AJ13/(AL4-AJ20)","v":0},{"$f":"IF(AK13=0,0,(AK13*((LOG(AK13))/LOG(2))))","v":0},null,{"$f":"N13","v":1221},{"$f":"COUNTIF(L140:L172,AN13)","v":0},{"$f":"AO13/(AQ4-AO20)","v":0},{"$f":"IF(AP13=0,0,(AP13*((LOG(AP13))/LOG(2))))","v":0},null,{"$f":"N13","v":1221},{"$f":"COUNTIF(L173:L205,AS13)","v":0},{"$f":"AT13/(AV4-AT20)","v":0},{"$f":"IF(AU13=0,0,(AU13*((LOG(AU13))/LOG(2))))","v":0}]
[12,903,14,909,13,914,14,920,null,null,0,1111,null,1222,{"$f":"COUNTIF($L$7:$L$500,N14)","v":0},{"$f":"O14/$Q$4","v":0},{"$f":"IF(P14=0,0,(P14*((LOG(P14))/LOG(2))))","v":0},null,null,{"$f":"N14","v":1222},{"$f":"COUNTIF(L7:L39,T14)","v":0},{"$f":"U14/(W4-U20)","v":0},{"$f":"IF(V14=0,0,(V14*((LOG(V14))/LOG(2))))","v":0},null,{"$f":"N14","v":1222},{"$f":"COUNTIF(L40:L72,Y14)","v":0},{"$f":"Z14/(AB4-Z20)","v":0},{"$f":"IF(AA14=0,0,(AA14*((LOG(AA14))/LOG(2))))","v":0},null,{"$f":"N14","v":1222},{"$f":"COUNTIF(L73:L106,AD14)","v":0},{"$f":"AE14/(AG4-AE20)","v":0},{"$f":"IF(AF14=0,0,(AF14*((LOG(AF14))/LOG(2))))","v":0},null,{"$f":"N14","v":1222},{"$f":"COUNTIF(L107:L139,AI14)","v":0},{"$f":"AJ14/(AL4-AJ20)","v":0},{"$f":"IF(AK14=0,0,(AK14*((LOG(AK14))/LOG(2))))","v":0},null,{"$f":"N14","v":1222},{"$f":"COUNTIF(L140:L172,AN14)","v":0},{"$f":"AO14/(AQ4-AO20)","v":0},{"$f":"IF(AP14=0,0,(AP14*((LOG(AP14))/LOG(2))))","v":0},null,{"$f":"N14","v":1222},{"$f":"COUNTIF(L173:L205,AS14)","v":0},{"$f":"AT14/(AV4-AT20)","v":0},{"$f":"IF(AU14=0,0,(AU14*((LOG(AU14))/LOG(2))))","v":0}]
[12,1023,14,1030,13,1035,14,1040,null,null,0,1111,null,2111,{"$f":"COUNTIF($L$7:$L$500,N15)","v":2},{"$f":"O15/$Q$4","v":1.0050251256281407E-2},{"$f":"IF(P15=0,0,(P15*((LOG(P15))/LOG(2))))","v":-6.6699744930086929E-2},null,null,{"$f":"N15","v":2111},{"$f":"COUNTIF(L7:L39,T15)","v":0},{"$f":"U15/(W4-U20)","v":0},{"$f":"IF(V15=0,0,(V15*((LOG(V15))/LOG(2))))","v":0},null,{"$f":"N15","v":2111},{"$f":"COUNTIF(L40:L72,Y15)","v":0},{"$f":"Z15/(AB4-Z20)","v":0},{"$f":"IF(AA15=0,0,(AA15*((LOG(AA15))/LOG(2))))","v":0},null,{"$f":"N15","v":2111},{"$f":"COUNTIF(L73:L106,AD15)","v":1},{"$f":"AE15/(AG4-AE20)","v":2.9411764705882353E-2},{"$f":"IF(AF15=0,0,(AF15*((LOG(AF15))/LOG(2))))","v":-0.14963126003677468},null,{"$f":"N15","v":2111},{"$f":"COUNTIF(L107:L139,AI15)","v":0},{"$f":"AJ15/(AL4-AJ20)","v":0},{"$f":"IF(AK15=0,0,(AK15*((LOG(AK15))/LOG(2))))","v":0},null,{"$f":"N15","v":2111},{"$f":"COUNTIF(L140:L172,AN15)","v":1},{"$f":"AO15/(AQ4-AO20)","v":3.0303030303030304E-2},{"$f":"IF(AP15=0,0,(AP15*((LOG(AP15))/LOG(2))))","v":-0.15286042785934709},null,{"$f":"N15","v":2111},{"$f":"COUNTIF(L173:L205,AS15)","v":0},{"$f":"AT15/(AV4-AT20)","v":0},{"$f":"IF(AU15=0,0,(AU15*((LOG(AU15))/LOG(2))))","v":0}]
[12,1148,14,1154,13,1159,14,1168,null,null,0,1111,null,2112,{"$f":"COUNTIF($L$7:$L$500,N16)","v":0},{"$f":"O16/$Q$4","v":0},{"$f":"IF(P16=0,0,(P16*((LOG(P16))/LOG(2))))","v":0},null,null,{"$f":"N16","v":2112},{"$f":"COUNTIF(L7:L39,T16)","v":0},{"$f":"U16/(W4-U20)","v":0},{"$f":"IF(V16=0,0,(V16*((LOG(V16))/LOG(2))))","v":0},null,{"$f":"N16","v":2112},{"$f":"COUNTIF(L40:L72,Y16)","v":0},{"$f":"Z16/(AB4-Z20)","v":0},{"$f":"IF(AA16=0,0,(AA16*((LOG(AA16))/LOG(2))))","v":0},null,{"$f":"N16","v":2112},{"$f":"COUNTIF(L73:L106,AD16)","v":0},{"$f":"AE16/(AG4-AE20)","v":0},{"$f":"IF(AF16=0,0,(AF16*((LOG(AF16))/LOG(2))))","v":0},null,{"$f":"N16","v":2112},{"$f":"COUNTIF(L107:L139,AI16)","v":0},{"$f":"AJ16/(AL4-AJ20)","v":0},{"$f":"IF(AK16=0,0,(AK16*((LOG(AK16))/LOG(2))))","v":0},null,{"$f":"N16","v":2112},{"$f":"COUNTIF(L140:L172,AN16)","v":0},{"$f":"AO16/(AQ4-AO20)","v":0},{"$f":"IF(AP16=0,0,(AP16*((LOG(AP16))/LOG(2))))","v":0},null,{"$f":"N16","v":2112},{"$f":"COUNTIF(L173:L205,AS16)","v":0},{"$f":"AT16/(AV4-AT20)","v":0},{"$f":"IF(AU16=0,0,(AU16*((LOG(AU16))/LOG(2))))","v":0}]
[12,1276,14,1281,13,1287,14,1296,null,null,0,1111,null,2121,{"$f":"COUNTIF($L$7:$L$500,N17)","v":0},{"$f":"O17/$Q$4","v":0},{"$f":"IF(P17=0,0,(P17*((LOG(P17))/LOG(2))))","v":0},null,null,{"$f":"N17","v":2121},{"$f":"COUNTIF(L7:L39,T17)","v":0},{"$f":"U17/(W4-U20)","v":0},{"$f":"IF(V17=0,0,(V17*((LOG(V17))/LOG(2))))","v":0},null,{"$f":"N17","v":2121},{"$f":"COUNTIF(L40:L72,Y17)","v":0},{"$f":"Z17/(AB4-Z20)","v":0},{"$f":"IF(AA17=0,0,(AA17*((LOG(AA17))/LOG(2))))","v":0},null,{"$f":"N17","v":2121},{"$f":"COUNTIF(L73:L106,AD17)","v":0},{"$f":"AE17/(AG4-AE20)","v":0},{"$f":"IF(AF17=0,0,(AF17*((LOG(AF17))/LOG(2))))","v":0},null,{"$f":"N17","v":2121},{"$f":"COUNTIF(L107:L139,AI17)","v":0},{"$f":"AJ17/(AL4-AJ20)","v":0},{"$f":"IF(AK17=0,0,(AK17*((LOG(AK17))/LOG(2))))","v":0},null,{"$f":"N17","v":2121},{"$f":"COUNTIF(L140:L172,AN17)","v":0},{"$f":"AO17/(AQ4-AO20)","v":0},{"$f":"IF(AP17=0,0,(AP17*((LOG(AP17))/LOG(2))))","v":0},null,{"$f":"N17","v":2121},{"$f":"COUNTIF(L173:L205,AS17)","v":0},{"$f":"AT17/(AV4-AT20)","v":0},{"$f":"IF(AU17=0,0,(AU17*((LOG(AU17))/LOG(2))))","v":0}]
[12,1401,14,1407,13,1412,14,1418,null,null,0,1111,null,2122,{"$f":"COUNTIF($L$7:$L$500,N18)","v":0},{"$f":"O18/$Q$4","v":0},{"$f":"IF(P18=0,0,(P18*((LOG(P18))/LOG(2))))","v":0},null,null,{"$f":"N18","v":2122},{"$f":"COUNTIF(L7:L39,T18)","v":0},{"$f":"U18/(W4-U20)","v":0},{"$f":"IF(V18=0,0,(V18*((LOG(V18))/LOG(2))))","v":0},null,{"$f":"N18","v":2122},{"$f":"COUNTIF(L40:L72,Y18)","v":0},{"$f":"Z18/(AB4-Z20)","v":0},{"$f":"IF(AA18=0,0,(AA18*((LOG(AA18))/LOG(2))))","v":0},null,{"$f":"N18","v":2122},{"$f":"COUNTIF(L73:L106,AD18)","v":0},{"$f":"AE18/(AG4-AE20)","v":0},{"$f":"IF(AF18=0,0,(AF18*((LOG(AF18))/LOG(2))))","v":0},null,{"$f":"N18","v":2122},{"$f":"COUNTIF(L107:L139,AI18)","v":0},{"$f":"AJ18/(AL4-AJ20)","v":0},{"$f":"IF(AK18=0,0,(AK18*((LOG(AK18))/LOG(2))))","v":0},null,{"$f":"N18","v":2122},{"$f":"COUNTIF(L140:L172,AN18)","v":0},{"$f":"AO18/(AQ4-AO20)","v":0},{"$f":"IF(AP18=0,0,(AP18*((LOG(AP18))/LOG(2))))","v":0},null,{"$f":"N18","v":2122},{"$f":"COUNTIF(L173:L205,AS18)","v":0},{"$f":"AT18/(AV4-AT20)","v":0},{"$f":"IF(AU18=0,0,(AU18*((LOG(AU18))/LOG(2))))","v":0}]
[12,1529,14,1534,13,1539,14,1547,null,null,0,1111,null,2211,{"$f":"COUNTIF($L$7:$L$500,N19)","v":1},{"$f":"O19/$Q$4","v":5.0251256281407036E-3},{"$f":"IF(P19=0,0,(P19*((LOG(P19))/LOG(2))))","v":-3.8374998093184169E-2},null,null,{"$f":"N19","v":2211},{"$f":"COUNTIF(L7:L39,T19)","v":0},{"$f":"U19/(W4-U20)","v":0},{"$f":"IF(V19=0,0,(V19*((LOG(V19))/LOG(2))))","v":0},null,{"$f":"N19","v":2211},{"$f":"COUNTIF(L40:L72,Y19)","v":0},{"$f":"Z19/(AB4-Z20)","v":0},{"$f":"IF(AA19=0,0,(AA19*((LOG(AA19))/LOG(2))))","v":0},null,{"$f":"N19","v":2211},{"$f":"COUNTIF(L73:L106,AD19)","v":0},{"$f":"AE19/(AG4-AE20)","v":0},{"$f":"IF(AF19=0,0,(AF19*((LOG(AF19))/LOG(2))))","v":0},null,{"$f":"N19","v":2211},{"$f":"COUNTIF(L107:L139,AI19)","v":0},{"$f":"AJ19/(AL4-AJ20)","v":0},{"$f":"IF(AK19=0,0,(AK19*((LOG(AK19))/LOG(2))))","v":0},null,{"$f":"N19","v":2211},{"$f":"COUNTIF(L140:L172,AN19)","v":1},{"$f":"AO19/(AQ4-AO20)","v":3.0303030303030304E-2},{"$f":"IF(AP19=0,0,(AP19*((LOG(AP19))/LOG(2))))","v":-0.15286042785934709},null,{"$f":"N19","v":2211},{"$f":"COUNTIF(L173:L205,AS19)","v":0},{"$f":"AT19/(AV4-AT20)","v":0},{"$f":"IF(AU19=0,0,(AU19*((LOG(AU19))/LOG(2))))","v":0}]
[12,1669,14,1675,13,1705,14,1715,null,null,0,1111,null,2212,{"$f":"COUNTIF($L$7:$L$500,N20)","v":0},{"$f":"O20/$Q$4","v":0},{"$f":"IF(P20=0,0,(P20*((LOG(P20))/LOG(2))))","v":0},null,null,{"$f":"N20","v":2212},{"$f":"COUNTIF(L7:L39,T20)","v":0},null,null,null,{"$f":"N20","v":2212},{"$f":"COUNTIF(L40:L72,Y20)","v":0},null,null,null,{"$f":"N20","v":2212},{"$f":"COUNTIF(L73:L106,AD20)","v":0},null,null,null,{"$f":"N20","v":2212},{"$f":"COUNTIF(L107:L139,AI20)","v":0},null,null,null,{"$f":"N20","v":2212},{"$f":"COUNTIF(L140:L172,AN20)","v":0},null,null,null,{"$f":"N20","v":2212},{"$f":"COUNTIF(L173:L205,AS20)","v":0}]
[12,1824,14,1833,13,1839,14,1849,null,null,0,1111,null,2221,{"$f":"COUNTIF($L$7:$L$500,N21)","v":0},{"$f":"O21/$Q$4","v":0},{"$f":"IF(P21=0,0,(P21*((LOG(P21))/LOG(2))))","v":0},null,null,{"$f":"N21","v":2221},{"$f":"COUNTIF(L7:L39,T21)","v":0},{"$f":"U21/(W4-U20)","v":0},{"$f":"IF(V21=0,0,(V21*((LOG(V21))/LOG(2))))","v":0},null,{"$f":"N21","v":2221},{"$f":"COUNTIF(L40:L72,Y21)","v":0},{"$f":"Z21/(AB4-Z20)","v":0},{"$f":"IF(AA21=0,0,(AA21*((LOG(AA21))/LOG(2))))","v":0},null,{"$f":"N21","v":2221},{"$f":"COUNTIF(L73:L106,AD21)","v":0},{"$f":"AE21/(AG4-AE20)","v":0},{"$f":"IF(AF21=0,0,(AF21*((LOG(AF21))/LOG(2))))","v":0},null,{"$f":"N21","v":2221},{"$f":"COUNTIF(L107:L139,AI21)","v":0},{"$f":"AJ21/(AL4-AJ20)","v":0},{"$f":"IF(AK21=0,0,(AK21*((LOG(AK21))/LOG(2))))","v":0},null,{"$f":"N21","v":2221},{"$f":"COUNTIF(L140:L172,AN21)","v":0},{"$f":"AO21/(AQ4-AO20)","v":0},{"$f":"IF(AP21=0,0,(AP21*((LOG(AP21))/LOG(2))))","v":0},null,{"$f":"N21","v":2221},{"$f":"COUNTIF(L173:L205,AS21)","v":0},{"$f":"AT21/(AV4-AT20)","v":0},{"$f":"IF(AU21=0,0,(AU21*((LOG(AU21))/LOG(2))))","v":0}]
[12,1955,14,1964,13,1968,14,1974,null,null,0,1111,null,2222,{"$f":"COUNTIF($L$7:$L$500,N22)","v":1},{"$f":"O22/$Q$4","v":5.0251256281407036E-3},{"$f":"IF(P22=0,0,(P22*((LOG(P22))/LOG(2))))","v":-3.8374998093184169E-2},null,null,{"$f":"N22","v":2222},{"$f":"COUNTIF(L7:L39,T22)","v":0},{"$f":"U22/(W4-U20)","v":0},{"$f":"IF(V22=0,0,(V22*((LOG(V22))/LOG(2))))","v":0},null,{"$f":"N22","v":2222},{"$f":"COUNTIF(L40:L72,Y22)","v":0},{"$f":"Z22/(AB4-Z20)","v":0},{"$f":"IF(AA22=0,0,(AA22*((LOG(AA22))/LOG(2))))","v":0},null,{"$f":"N22","v":2222},{"$f":"COUNTIF(L73:L106,AD22)","v":0},{"$f":"AE22/(AG4-AE20)","v":0},{"$f":"IF(AF22=0,0,(AF22*((LOG(AF22))/LOG(2))))","v":0},null,{"$f":"N22","v":2222},{"$f":"COUNTIF(L107:L139,AI22)","v":1},{"$f":"AJ22/(AL4-AJ20)","v":3.0303030303030304E-2},{"$f":"IF(AK22=0,0,(AK22*((LOG(AK22))/LOG(2))))","v":-0.15286042785934709},null,{"$f":"N22","v":2222},{"$f":"COUNTIF(L140:L172,AN22)","v":0},{"$f":"AO22/(AQ4-AO20)","v":0},{"$f":"IF(AP22=0,0,(AP22*((LOG(AP22))/LOG(2))))","v":0},null,{"$f":"N22","v":2222},{"$f":"COUNTIF(L173:L205,AS22)","v":0},{"$f":"AT22/(AV4-AT20)","v":0},{"$f":"IF(AU22=0,0,(AU22*((LOG(AU22))/LOG(2))))","v":0}]
[12,2086,14,2091,13,2097,14,2105,null,null,0,1111,null,null,null,{"$f":"SUM(P7:P22)","v":1},{"$f":"-SUM(Q7:Q22)","v":0.36640555932701735},null,null,null,null,{"$f":"SUM(V7:V22)","v":1},{"$f":"-SUM(W7:W22)","v":0.19590927087360493},null,null,null,{"$f":"SUM(AA7:AA22)","v":1},{"$f":"-SUM(AB7:AB22)","v":0},null,null,null,{"$f":"SUM(AF7:AF22)","v":1},{"$f":"-SUM(AG7:AG22)","v":0.19143325481419343},null,null,null,{"$f":"SUM(AK7:AK22)","v":1},{"$f":"-SUM(AL7:AL22)","v":0.52297842638101244},null,null,null,{"$f":"SUM(AP7:AP22)","v":1},{"$f":"-SUM(AQ7:AQ22)","v":0.71465324485240522},null,null,null,{"$f":"SUM(AU7:AU22)","v":1},{"$f":"-SUM(AV7:AV22)","v":0.19590927087360493}]
[12,2213,14,2219,13,2224,14,2233,null,null,0,1111,null,null,null,"U=",{"$f":"Q23/(LOG(Q4)/LOG(2))","v":4.7980040598215631E-2},null,null,null,null,"U1=",{"$f":"W23/(LOG(W4)/LOG(2))","v":3.8837027051827726E-2},null,null,null,"U2=",{"$f":"AB23/(LOG(AB4)/LOG(2))","v":0},null,null,null,"U3=",{"$f":"AG23/(LOG(AG4)/LOG(2))","v":3.7628433029919708E-2},null,null,null,"U4=",{"$f":"AL23/(LOG(AL4)/LOG(2))","v":0.10367517168692697},null,null,null,"U5=",{"$f":"AQ23/(LOG(AQ4)/LOG(2))","v":0.1416727614739379},null,null,null,"U6=",{"$f":"AV23/(LOG(AV4)/LOG(2))","v":3.8837027051827726E-2}]
[12,2337,14,2342,13,2348,14,2353,null,null,0,1111]
[12,2459,14,2469,13,2475,14,2480,null,null,0,1111]
[12,2582,14,2589,13,2594,14,2622,null,null,0,1111,null,"Total Target Seq"]
[12,2725,14,2732,13,2738,14,2744,null,null,0,1111,null,{"$f":"COUNTIF(L7:L205,G3)","v":0},null,33,33,34,33,33,33]
[12,2850,14,2855,13,2861,14,2869,null,null,0,1111,null,null,null,"% of reinforcement given in 6 equal intervals based on number of trials "]
[12,2971,14,2978,13,2983,14,2989,null,null,0,1111,null,null,null,"%_1","%_2","%_3","%_4","%_5","%_6"]
[12,3089,14,3095,13,3100,14,3126,null,null,0,1111,null,null,"target sequence",{"$f":"$G$3","v":2212},{"$f":"$G$3","v":2212},{"$f":"$G$3","v":2212},{"$f":"$G$3","v":2212},{"$f":"$G$3","v":2212},{"$f":"$G$3","v":2212}]
[12,3226,14,3232,13,3237,14,3242,null,null,0,1111,null,null,"total reinforcement",{"$f":"U20","v":0},{"$f":"Z20","v":0},{"$f":"AE20","v":0},{"$f":"AJ20","v":0},{"$f":"AO20","v":0},{"$f":"AT20","v":0}]
[12,3357,14,3362,13,3377,14,3385,null,null,0,1111,null,null,"% target"]
[12,3487,14,3494,13,3498,14,3503,null,null,0,1111,null,null,"CCRF"]
[12,3606,14,3614,13,3620,14,3625,null,null,0,1111,null,null,"% CCRf"]
[12,3727,14,3734,13,3740,14,3745,null,null,0,1111,null,null,"average response rate",{"$f":"H39/P28","v":124.45454545454545},{"$f":"(H72-H39)/Q28","v":120.18181818181819},{"$f":"(H106-H72)/R28","v":121.58823529411765},{"$f":"(H139-H106)/S28","v":117.33333333333333},{"$f":"(H172-H139)/T28","v":120.66666666666667},{"$f":"(H205-H172)/U28","v":118.42424242424242}]
[12,3837,14,3843,13,3848,14,3859,null,null,0,1111]
[12,3960,14,3967,13,3974,14,3981,null,null,0,1111]
[12,4089,14,4094,13,4099,14,4107,null,null,0,1111]
[12,4204,14,4210,13,4215,14,4229,null,null,0,1111]
[12,4333,14,4344,13,4350,14,4359,null,null,0,1111]
[12,4461,14,4467,13,4472,14,4477,null,null,0,1111]
[12,4583,14,4597,13,4603,14,4613,null,null,0,1111]
[12,4712,14,4719,13,4725,14,4733,null,null,0,1111]
[12,4826,14,4835,13,4839,14,4847,null,null,0,1111]
[12,4944,14,4950,13,4954,14,4959,null,null,0,1111]
[12,5063,14,5075,13,5085,14,5098,null,null,0,1111]
[12,5193,14,5199,13,5205,14,5212,null,null,0,1111]
[12,5304,14,5314,13,5323,14,5331,null,null,0,1111]
[12,5426,14,5433,13,5438,14,5443,null,null,0,1111]
[12,5542,14,5547,13,5552,14,5557,null,null,0,1111]
[12,5653,14,5660,13,5664,14,5673,null,null,0,1111]
[12,5769,14,5774,13,5779,14,5796,null,null,0,1111]
[12,5895,14,5900,13,5905,14,5917,null,null,0,1111]
[12,6027,14,6032,13,6037,14,6046,null,null,0,1111]
[12,6142,14,6147,13,6152,14,6157,null,null,0,1111]
[12,6255,14,6265,13,6271,14,6279,null,null,0,1111]
[12,6378,14,6383,13,6388,14,6393,null,null,0,1111]
[12,6492,14,6497,13,6502,14,6510,null,null,0,1111]
[12,6611,14,6617,13,6622,14,6627,null,null,0,1111]
[12,6727,14,6732,13,6737,14,6742,null,null,0,1111]
[12,6841,14,6848,13,6854,14,6868,null,null,0,1111]
[12,6966,14,6971,13,6976,14,6981,null,null,0,1111]
[12,7080,14,7086,13,7092,14,7102,null,null,0,1111]
[12,7201,14,7211,13,7229,14,7237,null,null,0,1111]
[12,7333,14,7338,13,7342,14,7347,null,null,0,1111]
[12,7446,14,7451,13,7456,14,7462,null,null,0,1111]
[12,7559,14,7566,13,7570,14,7575,null,null,0,1111]
[12,7674,14,7684,13,7689,14,7695,null,null,0,1111]
[12,7794,14,7800,13,7805,14,7811,null,null,0,1111]
[12,7902,14,7909,13,7914,14,7919,null,null,0,1111]
[12,8027,14,8034,13,8039,14,8073,null,null,0,1111]
[12,8168,14,8174,13,8179,14,8194,null,null,0,1111]
[12,8291,14,8297,13,8301,14,8307,null,null,0,1111]
[12,8408,14,8414,13,8419,14,8434,null,null,0,1111]
[12,8536,14,8542,13,8547,14,8552,null,null,0,1111]
[12,8655,14,8662,13,8667,14,8673,null,null,0,1111]
[21,8778,12,8794,13,8803,14,8815,null,null,0,2111]
[12,8910,14,8915,13,8921,14,8927,null,null,0,1111]
[12,9026,14,9037,13,9045,14,9054,null,null,0,1111]
[12,9149,14,9156,13,9162,14,9179,null,null,0,1111]
[12,9273,14,9279,13,9285,14,9293,null,null,0,1111]
[12,9390,14,9400,13,9407,14,9413,null,null,0,1111]
[12,9574,14,9581,13,9590,14,9607,null,null,0,1111]
[12,9699,14,9704,13,9709,14,9714,null,null,0,1111]
[12,9821,14,9826,13,9832,14,9850,null,null,0,1111]
[12,9945,14,9950,13,9954,14,9963,null,null,0,1111]
[12,10062,14,10067,13,10072,14,10086,null,null,0,1111]
[12,10184,14,10189,13,10194,14,10199,null,null,0,1111]
[12,10294,14,10299,13,10303,14,10309,null,null,0,1111]
[12,10399,14,10404,13,10409,14,10414,null,null,0,1111]
[12,10507,14,10515,13,10520,14,10529,null,null,0,1111]
[12,10634,14,10645,13,10650,14,10655,null,null,0,1111]
[12,10756,14,10761,13,10765,14,10771,null,null,0,1111]
[12,10869,14,10874,13,10879,14,10886,null,null,0,1111]
[12,10984,14,10989,13,10994,14,10998,null,null,0,1111]
[12,11088,14,11097,13,11101,14,11106,null,null,0,1111]
[12,11206,14,11210,13,11215,14,11220,null,null,0,1111]
[12,11314,14,11320,13,11324,14,11329,null,null,0,1111]
[12,11430,14,11435,13,11441,14,11457,null,null,0,1111]
[12,11557,14,11561,13,11566,14,11574,null,null,0,1111]
[12,11669,14,11674,13,11679,14,11684,null,null,0,1111]
[12,11784,14,11790,13,11797,14,11807,null,null,0,1111]
[12,11901,14,11906,13,11910,14,11925,null,null,0,1111]
[12,12031,14,12036,13,12044,14,12053,null,null,0,1111]
[12,12188,14,12193,13,12198,14,12207,null,null,0,1111]
[12,12299,14,12304,13,12309,14,12316,null,null,0,1111]
[12,12413,14,12418,13,12425,14,12434,null,null,0,1111]
[12,12529,14,12534,13,12539,14,12546,null,null,0,1111]
[12,12641,14,12646,13,12650,14,12655,null,null,0,1111]
[12,12767,14,12773,13,12783,14,12795,null,null,0,1111]
[12,12892,14,12896,13,12900,14,12905,null,null,0,1111]
[12,13000,14,13005,13,13010,14,13018,null,null,0,1111]
[12,13119,14,13124,13,13132,14,13142,null,null,0,1111]
[12,13238,14,13243,13,13248,14,13256,null,null,0,1111]
[21,13356,21,13362,22,13371,23,13378,null,null,0,2222]
[12,13476,14,13481,13,13486,14,13492,null,null,0,1111]
[12,13588,14,13597,13,13603,14,13615,null,null,0,1111]
[12,13710,14,13715,13,13719,14,13727,null,null,0,1111]
[12,13840,14,13845,13,13860,23,13873,null,null,0,1112]
[12,13973,14,13978,13,13984,14,13991,null,null,0,1111]
[12,14089,14,14094,13,14100,14,14108,null,null,0,1111]
[12,14205,14,14211,13,14215,14,14221,null,null,0,1111]
[12,14315,14,14320,13,14324,14,14329,null,null,0,1111]
[12,14426,14,14432,13,14437,14,14455,null,null,0,1111]
[12,14561,14,14567,13,14573,14,14578,null,null,0,1111]
[12,14676,14,14681,13,14686,14,14692,null,null,0,1111]
[12,14806,14,14811,13,14816,14,14824,null,null,0,1111]
[12,14924,14,14929,13,14933,14,14940,null,null,0,1111]
[12,15039,14,15043,13,15048,14,15057,null,null,0,1111]
[12,15155,14,15160,13,15164,14,15169,null,null,0,1111]
[12,15265,14,15270,13,15274,14,15279,null,null,0,1111]
[12,15376,14,15381,13,15386,14,15395,null,null,0,1111]
[12,15494,14,15499,13,15503,14,15511,null,null,0,1111]
[12,15615,14,15619,13,15624,14,15629,null,null,0,1111]
[12,15721,14,15726,13,15730,14,15738,null,null,0,1111]
[12,15831,14,15836,13,15841,23,15855,null,null,0,1112]
[12,15951,14,15956,13,15961,14,15965,null,null,0,1111]
[12,16062,14,16067,13,16071,14,16079,null,null,0,1111]
[12,16176,14,16181,13,16186,14,16195,null,null,0,1111]
[12,16293,14,16298,13,16302,14,16307,null,null,0,1111]
[21,16408,12,16422,13,16432,14,16441,null,null,0,2111]
[12,16540,14,16546,13,16551,14,16556,null,null,0,1111]
[12,16659,14,16665,13,16673,14,16684,null,null,0,1111]
[12,16784,14,16789,13,16794,14,16799,null,null,0,1111]
[12,16892,14,16899,13,16908,23,16923,null,null,0,1112]
[12,17020,14,17025,13,17030,14,17039,null,null,0,1111]
[12,17134,14,17139,13,17144,14,17149,null,null,0,1111]
[12,17248,14,17254,13,17259,14,17265,null,null,0,1111]
[12,17364,14,17369,13,17374,14,17382,null,null,0,1111]
[12,17483,14,17488,13,17493,14,17501,null,null,0,1111]
[12,17611,14,17617,13,17622,14,17627,null,null,0,1111]
[12,17723,14,17728,13,17733,14,17750,null,null,0,1111]
[12,17846,14,17852,13,17857,14,17863,null,null,0,1111]
[12,17960,14,17965,13,17970,14,17975,null,null,0,1111]
[12,18074,14,18079,13,18086,14,18091,null,null,0,1111]
[12,18189,14,18194,13,18199,14,18209,null,null,0,1111]
[12,18306,14,18311,13,18316,14,18322,null,null,0,1111]
[12,18426,14,18431,13,18436,14,18444,null,null,0,1111]
[12,18543,14,18547,13,18552,14,18556,null,null,0,1111]
[12,18653,14,18658,13,18662,14,18670,null,null,0,1111]
[12,18769,14,18774,13,18779,14,18787,null,null,0,1111]
[12,18885,14,18890,13,18895,14,18904,null,null,0,1111]
[12,19007,14,19012,13,19017,14,19022,null,null,0,1111]
[21,19118,21,19128,11,19145,12,19151,null,null,0,2211]
[12,19292,14,19304,13,19326,23,19354,null,null,0,1112]
[12,19456,14,19461,13,19467,14,19473,null,null,0,1111]
[12,19568,14,19573,13,19578,14,19584,null,null,0,1111]
[12,19680,14,19686,13,19691,14,19717,null,null,0,1111]
[12,19817,14,19822,13,19827,14,19832,null,null,0,1111]
[12,19923,14,19928,13,19934,14,19942,null,null,0,1111]
[12,20041,14,20046,13,20052,14,20061,null,null,0,1111]
[12,20158,14,20163,13,20168,14,20174,null,null,0,1111]
[12,20274,14,20281,13,20286,14,20294,null,null,0,1111]
[12,20402,14,20407,13,20416,14,20425,null,null,0,1111]
[12,20520,14,20525,13,20533,14,20541,null,null,0,1111]
[12,20639,14,20644,13,20650,14,20656,null,null,0,1111]
[12,20753,14,20758,13,20764,14,20772,null,null,0,1111]
[12,20868,14,20873,13,20879,14,20898,null,null,0,1111]
[12,20996,14,21002,13,21007,14,21013,null,null,0,1111]
[12,21112,14,21119,13,21124,14,21131,null,null,0,1111]
[12,21236,14,21241,13,21247,14,21256,null,null,0,1111]
[12,21354,14,21359,13,21364,14,21372,null,null,0,1111]
[12,21470,14,21477,13,21482,14,21490,null,null,0,1111]
[12,21588,14,21593,13,21602,23,21618,null,null,0,1112]
[12,21724,14,21729,13,21736,14,21744,null,null,0,1111]
[12,21847,14,21852,13,21860,14,21868,null,null,0,1111]
[12,21965,14,21970,13,21975,14,21983,null,null,0,1111]
[12,22082,14,22089,13,22094,14,22104,null,null,0,1111]
[12,22207,14,22211,13,22216,14,22223,null,null,0,1111]
[12,22312,14,22318,13,22322,14,22327,null,null,0,1111]
[12,22425,14,22429,13,22435,14,22443,null,null,0,1111]
[12,22542,14,22548,13,22553,14,22564,null,null,0,1111]
[12,22661,14,22666,13,22671,14,22676,null,null,0,1111]
[12,22773,14,22778,13,22784,14,22793,null,null,0,1111]
[12,22891,14,22897,13,22902,14,22907,null,null,0,1111]
[12,23008,14,23015,13,23020,14,23029,null,null,0,1111]
[12,23129,14,23134,13,23139,14,23146,null,null,0,1111]
[12,23237,14,23242,13,23250,14,23265,null,null,0,1111]
[12,23364,14,23370,13,23375,14,23384,null,null,0,1111]
[12,23481,14,23488,13,23494,14,23502,null,null,0,1111]
[12,23598,14,23604,13,23609,14,23617,null,null,0,1111]
[12,23715,14,23721,13,23726,14,23735,null,null,0,1111]
[12,23835,14,23841,13,23847,14,23855,null,null,0,1111]
[12,23953,14,23959,13,23964,14,23969,null,null,null,1111]

{"sheet":"!L920B40.056","index":23,"n_rows":207,"n_cols":48,"rows_kept":207,"cut":false,"hidden":false,"merged":[[4,39,4,42],[5,39,5,40],[4,44,4,47],[5,44,5,45],[4,24,4,27],[5,24,5,25],[4,29,4,32],[5,29,5,30],[4,34,4,37],[5,34,5,35],[1,1,1,2],[5,13,5,14],[26,13,26,14],[27,13,27,14],[4,19,4,22],[5,19,5,20]]}
["Report for:!L920B40.056"]
["Date:","<date>"]
["Hen:","<hen>",null,null,null,"Correct Sequence",{"$f":"Start!J2","v":2212},null,null,null,null,null,null,null,null,"Total Sequences in Data",{"$f":"4994-COUNTBLANK(L7:L5000)","v":201},null,null,null,null,"Total Sequences in Block Data",{"$f":"COUNTA(L7:L40)","v":34},null,null,null,"Total Sequences in Block Data",{"$f":"COUNTA(L41:L73)","v":33},null,null,null,"Total Sequences in Block Data",{"$f":"COUNTA(L74:L107)","v":34},null,null,null,"Total Sequences in Block Data",{"$f":"COUNTA(L108:L140)","v":33},null,null,null,"Total Sequences in Block Data",{"$f":"COUNTA(L141:L174)","v":34},null,null,null,"Total Sequences in Block Data",{"$f":"COUNTA(L175:L207)","v":33}]
[null,null,null,null,null,null,null,null,null,null,null,null,null,null,null,"Total Sequences in Summary",{"$f":"SUM(O7:O22)","v":201},null,null,null,null,"Total Sequences in Block Summary",{"$f":"SUM(U7:U22)","v":34},null,null,null,"Total Sequences in Block Summary",{"$f":"SUM(Z7:Z22)","v":33},null,null,null,"Total Sequences in Block Summary",{"$f":"SUM(AE7:AE22)","v":34},null,null,null,"Total Sequences in Block Summary",{"$f":"SUM(AJ7:AJ22)","v":33},null,null,null,"Total Sequences in Block Summary",{"$f":"SUM(AO7:AO22)","v":34},null,null,null,"Total Sequences in Block Summary",{"$f":"SUM(AT7:AT22)","v":33}]
[null,null,null,null,null,null,null,null,null,null,null,null,null,null,null,null,null,null,null,"Block 1",null,null,null,null,"Block 2",null,null,null,null,"Block 3",null,null,null,null,"Block 4",null,null,null,null,"Block 5",null,null,null,null,"Block 6"]
["Sequence\nComponent\n1","Time\n1","Sequence\nComponent\n2","Time\n2","Sequence\nComponent\n3","Time\n3","Sequence\nComponent\n4","Time\n4","Sequence\nComponent\n5","Time\n5","Correct?\n0=No 1=Yes","Sequence",null,"Frequency",null,"Relative Frequency","Variability",null,null,"Frequency",null,"Relative Frequency","Variability",null,"Frequency",null,"Relative Frequency","Variability",null,"Frequency",null,"Relative Frequency","Variability",null,"Frequency",null,"Relative Frequency","Variability",null,"Frequency",null,"Relative Frequency","Variability",null,"Frequency",null,"Relative Frequency","Variability"]
[12,26,14,32,13,39,14,49,null,null,0,1111,null,1111,{"$f":"COUNTIF($L$7:$L$500,N7)","v":195},{"$f":"O7/$Q$4","v":0.97014925373134331},{"$f":"IF(P7=0,0,(P7*((LOG(P7))/LOG(2))))","v":-4.2416261685159141E-2},null,null,{"$f":"N7","v":1111},{"$f":"COUNTIF(L7:L40,T7)","v":33},{"$f":"U7/(W4-U20)","v":0.97058823529411764},{"$f":"IF(V7=0,0,(V7*((LOG(V7))/LOG(2))))","v":-4.1801994777418743E-2},null,{"$f":"N7","v":1111},{"$f":"COUNTIF(L41:L73,Y7)","v":32},{"$f":"Z7/(AB4-Z20)","v":0.96969696969696972},{"$f":"IF(AA7=0,0,(AA7*((LOG(AA7))/LOG(2))))","v":-4.3048843014257841E-2},null,{"$f":"N7","v":1111},{"$f":"COUNTIF(L74:L107,AD7)","v":32},{"$f":"AE7/(AG4-AE20)","v":0.94117647058823528},{"$f":"IF(AF7=0,0,(AF7*((LOG(AF7))/LOG(2))))","v":-8.2317968235613576E-2},null,{"$f":"N7","v":1111},{"$f":"COUNTIF(L108:L140,AI7)","v":33},{"$f":"AJ7/(AL4-AJ20)","v":1},{"$f":"IF(AK7=0,0,(AK7*((LOG(AK7))/LOG(2))))","v":0},null,{"$f":"N7","v":1111},{"$f":"COUNTIF(L141:L174,AN7)","v":33},{"$f":"AO7/(AQ4-AO20)","v":0.97058823529411764},{"$f":"IF(AP7=0,0,(AP7*((LOG(AP7))/LOG(2))))","v":-4.1801994777418743E-2},null,{"$f":"N7","v":1111},{"$f":"COUNTIF(L175:L207,AS7)","v":32},{"$f":"AT7/(AV4-AT20)","v":0.96969696969696972},{"$f":"IF(AU7=0,0,(AU7*((LOG(AU7))/LOG(2))))","v":-4.3048843014257841E-2}]
[12,161,14,166,13,174,23,187,null,null,0,1112,null,1112,{"$f":"COUNTIF($L$7:$L$500,N8)","v":1},{"$f":"O8/$Q$4","v":4.9751243781094526E-3},{"$f":"IF(P8=0,0,(P8*((LOG(P8))/LOG(2))))","v":-3.8064933786959847E-2},null,null,{"$f":"N8","v":1112},{"$f":"COUNTIF(L7:L40,T8)","v":1},{"$f":"U8/(W4-U20)","v":2.9411764705882353E-2},{"$f":"IF(V8=0,0,(V8*((LOG(V8))/LOG(2))))","v":-0.14963126003677468},null,{"$f":"N8","v":1112},{"$f":"COUNTIF(L41:L73,Y8)","v":0},{"$f":"Z8/(AB4-Z20)","v":0},{"$f":"IF(AA8=0,0,(AA8*((LOG(AA8))/LOG(2))))","v":0},null,{"$f":"N8","v":1112},{"$f":"COUNTIF(L74:L107,AD8)","v":0},{"$f":"AE8/(AG4-AE20)","v":0},{"$f":"IF(AF8=0,0,(AF8*((LOG(AF8))/LOG(2))))","v":0},null,{"$f":"N8","v":1112},{"$f":"COUNTIF(L108:L140,AI8)","v":0},{"$f":"AJ8/(AL4-AJ20)","v":0},{"$f":"IF(AK8=0,0,(AK8*((LOG(AK8))/LOG(2))))","v":0},null,{"$f":"N8","v":1112},{"$f":"COUNTIF(L141:L174,AN8)","v":0},{"$f":"AO8/(AQ4-AO20)","v":0},{"$f":"IF(AP8=0,0,(AP8*((LOG(AP8))/LOG(2))))","v":0},null,{"$f":"N8","v":1112},{"$f":"COUNTIF(L175:L207,AS8)","v":0},{"$f":"AT8/(AV4-AT20)","v":0},{"$f":"IF(AU8=0,0,(AU8*((LOG(AU8))/LOG(2))))","v":0}]
[12,291,14,297,13,303,14,312,null,null,0,1111,null,1121,{"$f":"COUNTIF($L$7:$L$500,N9)","v":0},{"$f":"O9/$Q$4","v":0},{"$f":"IF(P9=0,0,(P9*((LOG(P9))/LOG(2))))","v":0},null,null,{"$f":"N9","v":1121},{"$f":"COUNTIF(L7:L40,T9)","v":0},{"$f":"U9/(W4-U20)","v":0},{"$f":"IF(V9=0,0,(V9*((LOG(V9))/LOG(2))))","v":0},null,{"$f":"N9","v":1121},{"$f":"COUNTIF(L41:L73,Y9)","v":0},{"$f":"Z9/(AB4-Z20)","v":0},{"$f":"IF(AA9=0,0,(AA9*((LOG(AA9))/LOG(2))))","v":0},null,{"$f":"N9","v":1121},{"$f":"COUNTIF(L74:L107,AD9)","v":0},{"$f":"AE9/(AG4-AE20)","v":0},{"$f":"IF(AF9=0,0,(AF9*((LOG(AF9))/LOG(2))))","v":0},null,{"$f":"N9","v":1121},{"$f":"COUNTIF(L108:L140,AI9)","v":0},{"$f":"AJ9/(AL4-AJ20)","v":0},{"$f":"IF(AK9=0,0,(AK9*((LOG(AK9))/LOG(2))))","v":0},null,{"$f":"N9","v":1121},{"$f":"COUNTIF(L141:L174,AN9)","v":0},{"$f":"AO9/(AQ4-AO20)","v":0},{"$f":"IF(AP9=0,0,(AP9*((LOG(AP9))/LOG(2))))","v":0},null,{"$f":"N9","v":1121},{"$f":"COUNTIF(L175:L207,AS9)","v":0},{"$f":"AT9/(AV4-AT20)","v":0},{"$f":"IF(AU9=0,0,(AU9*((LOG(AU9))/LOG(2))))","v":0}]
[12,425,14,431,13,436,14,445,null,null,0,1111,null,1122,{"$f":"COUNTIF($L$7:$L$500,N10)","v":1},{"$f":"O10/$Q$4","v":4.9751243781094526E-3},{"$f":"IF(P10=0,0,(P10*((LOG(P10))/LOG(2))))","v":-3.8064933786959847E-2},null,null,{"$f":"N10","v":1122},{"$f":"COUNTIF(L7:L40,T10)","v":0},{"$f":"U10/(W4-U20)","v":0},{"$f":"IF(V10=0,0,(V10*((LOG(V10))/LOG(2))))","v":0},null,{"$f":"N10","v":1122},{"$f":"COUNTIF(L41:L73,Y10)","v":1},{"$f":"Z10/(AB4-Z20)","v":3.0303030303030304E-2},{"$f":"IF(AA10=0,0,(AA10*((LOG(AA10))/LOG(2))))","v":-0.15286042785934709},null,{"$f":"N10","v":1122},{"$f":"COUNTIF(L74:L107,AD10)","v":0},{"$f":"AE10/(AG4-AE20)","v":0},{"$f":"IF(AF10=0,0,(AF10*((LOG(AF10))/LOG(2))))","v":0},null,{"$f":"N10","v":1122},{"$f":"COUNTIF(L108:L140,AI10)","v":0},{"$f":"AJ10/(AL4-AJ20)","v":0},{"$f":"IF(AK10=0,0,(AK10*((LOG(AK10))/LOG(2))))","v":0},null,{"$f":"N10","v":1122},{"$f":"COUNTIF(L141:L174,AN10)","v":0},{"$f":"AO10/(AQ4-AO20)","v":0},{"$f":"IF(AP10=0,0,(AP10*((LOG(AP10))/LOG(2))))","v":0},null,{"$f":"N10","v":1122},{"$f":"COUNTIF(L175:L207,AS10)","v":0},{"$f":"AT10/(AV4-AT20)","v":0},{"$f":"IF(AU10=0,0,(AU10*((LOG(AU10))/LOG(2))))","v":0}]
[12,555,14,560,13,568,14,579,null,null,0,1111,null,1211,{"$f":"COUNTIF($L$7:$L$500,N11)","v":0},{"$f":"O11/$Q$4","v":0},{"$f":"IF(P11=0,0,(P11*((LOG(P11))/LOG(2))))","v":0},null,null,{"$f":"N11","v":1211},{"$f":"COUNTIF(L7:L40,T11)","v":0},{"$f":"U11/(W4-U20)","v":0},{"$f":"IF(V11=0,0,(V11*((LOG(V11))/LOG(2))))","v":0},null,{"$f":"N11","v":1211},{"$f":"COUNTIF(L41:L73,Y11)","v":0},{"$f":"Z11/(AB4-Z20)","v":0},{"$f":"IF(AA11=0,0,(AA11*((LOG(AA11))/LOG(2))))","v":0},null,{"$f":"N11","v":1211},{"$f":"COUNTIF(L74:L107,AD11)","v":0},{"$f":"AE11/(AG4-AE20)","v":0},{"$f":"IF(AF11=0,0,(AF11*((LOG(AF11))/LOG(2))))","v":0},null,{"$f":"N11","v":1211},{"$f":"COUNTIF(L108:L140,AI11)","v":0},{"$f":"AJ11/(AL4-AJ20)","v":0},{"$f":"IF(AK11=0,0,(AK11*((LOG(AK11))/LOG(2))))","v":0},null,{"$f":"N11","v":1211},{"$f":"COUNTIF(L141:L174,AN11)","v":0},{"$f":"AO11/(AQ4-AO20)","v":0},{"$f":"IF(AP11=0,0,(AP11*((LOG(AP11))/LOG(2))))","v":0},null,{"$f":"N11","v":1211},{"$f":"COUNTIF(L175:L207,AS11)","v":0},{"$f":"AT11/(AV4-AT20)","v":0},{"$f":"IF(AU11=0,0,(AU11*((LOG(AU11))/LOG(2))))","v":0}]
[12,684,14,690,13,695,14,700,null,null,0,1111,null,1212,{"$f":"COUNTIF($L$7:$L$500,N12)","v":0},{"$f":"O12/$Q$4","v":0},{"$f":"IF(P12=0,0,(P12*((LOG(P12))/LOG(2))))","v":0},null,null,{"$f":"N12","v":1212},{"$f":"COUNTIF(L7:L40,T12)","v":0},{"$f":"U12/(W4-U20)","v":0},{"$f":"IF(V12=0,0,(V12*((LOG(V12))/LOG(2))))","v":0},null,{"$f":"N12","v":1212},{"$f":"COUNTIF(L41:L73,Y12)","v":0},{"$f":"Z12/(AB4-Z20)","v":0},{"$f":"IF(AA12=0,0,(AA12*((LOG(AA12))/LOG(2))))","v":0},null,{"$f":"N12","v":1212},{"$f":"COUNTIF(L74:L107,AD12)","v":0},{"$f":"AE12/(AG4-AE20)","v":0},{"$f":"IF(AF12=0,0,(AF12*((LOG(AF12))/LOG(2))))","v":0},null,{"$f":"N12","v":1212},{"$f":"COUNTIF(L108:L140,AI12)","v":0},{"$f":"AJ12/(AL4-AJ20)","v":0},{"$f":"IF(AK12=0,0,(AK12*((LOG(AK12))/LOG(2))))","v":0},null,{"$f":"N12","v":1212},{"$f":"COUNTIF(L141:L174,AN12)","v":0},{"$f":"AO12/(AQ4-AO20)","v":0},{"$f":"IF(AP12=0,0,(AP12*((LOG(AP12))/LOG(2))))","v":0},null,{"$f":"N12","v":1212},{"$f":"COUNTIF(L175:L207,AS12)","v":0},{"$f":"AT12/(AV4-AT20)","v":0},{"$f":"IF(AU12=0,0,(AU12*((LOG(AU12))/LOG(2))))","v":0}]
[12,802,14,807,13,812,14,821,null,null,0,1111,null,1221,{"$f":"COUNTIF($L$7:$L$500,N13)","v":0},{"$f":"O13/$Q$4","v":0},{"$f":"IF(P13=0,0,(P13*((LOG(P13))/LOG(2))))","v":0},null,null,{"$f":"N13","v":1221},{"$f":"COUNTIF(L7:L40,T13)","v":0},{"$f":"U13/(W4-U20)","v":0},{"$f":"IF(V13=0,0,(V13*((LOG(V13))/LOG(2))))","v":0},null,{"$f":"N13","v":1221},{"$f":"COUNTIF(L41:L73,Y13)","v":0},{"$f":"Z13/(AB4-Z20)","v":0},{"$f":"IF(AA13=0,0,(AA13*((LOG(AA13))/LOG(2))))","v":0},null,{"$f":"N13","v":1221},{"$f":"COUNTIF(L74:L107,AD13)","v":0},{"$f":"AE13/(AG4-AE20)","v":0},{"$f":"IF(AF13=0,0,(AF13*((LOG(AF13))/LOG(2))))","v":0},null,{"$f":"N13","v":1221},{"$f":"COUNTIF(L108:L140,AI13)","v":0},{"$f":"AJ13/(AL4-AJ20)","v":0},{"$f":"IF(AK13=0,0,(AK13*((LOG(AK13))/LOG(2))))","v":0},null,{"$f":"N13","v":1221},{"$f":"COUNTIF(L141:L174,AN13)","v":0},{"$f":"AO13/(AQ4-AO20)","v":0},{"$f":"IF(AP13=0,0,(AP13*((LOG(AP13))/LOG(2))))","v":0},null,{"$f":"N13","v":1221},{"$f":"COUNTIF(L175:L207,AS13)","v":0},{"$f":"AT13/(AV4-AT20)","v":0},{"$f":"IF(AU13=0,0,(AU13*((LOG(AU13))/LOG(2))))","v":0}]
[12,923,14,928,13,933,14,937,null,null,0,1111,null,1222,{"$f":"COUNTIF($L$7:$L$500,N14)","v":0},{"$f":"O14/$Q$4","v":0},{"$f":"IF(P14=0,0,(P14*((LOG(P14))/LOG(2))))","v":0},null,null,{"$f":"N14","v":1222},{"$f":"COUNTIF(L7:L40,T14)","v":0},{"$f":"U14/(W4-U20)","v":0},{"$f":"IF(V14=0,0,(V14*((LOG(V14))/LOG(2))))","v":0},null,{"$f":"N14","v":1222},{"$f":"COUNTIF(L41:L73,Y14)","v":0},{"$f":"Z14/(AB4-Z20)","v":0},{"$f":"IF(AA14=0,0,(AA14*((LOG(AA14))/LOG(2))))","v":0},null,{"$f":"N14","v":1222},{"$f":"COUNTIF(L74:L107,AD14)","v":0},{"$f":"AE14/(AG4-AE20)","v":0},{"$f":"IF(AF14=0,0,(AF14*((LOG(AF14))/LOG(2))))","v":0},null,{"$f":"N14","v":1222},{"$f":"COUNTIF(L108:L140,AI14)","v":0},{"$f":"AJ14/(AL4-AJ20)","v":0},{"$f":"IF(AK14=0,0,(AK14*((LOG(AK14))/LOG(2))))","v":0},null,{"$f":"N14","v":1222},{"$f":"COUNTIF(L141:L174,AN14)","v":0},{"$f":"AO14/(AQ4-AO20)","v":0},{"$f":"IF(AP14=0,0,(AP14*((LOG(AP14))/LOG(2))))","v":0},null,{"$f":"N14","v":1222},{"$f":"COUNTIF(L175:L207,AS14)","v":0},{"$f":"AT14/(AV4-AT20)","v":0},{"$f":"IF(AU14=0,0,(AU14*((LOG(AU14))/LOG(2))))","v":0}]
[12,1037,14,1042,13,1051,14,1061,null,null,0,1111,null,2111,{"$f":"COUNTIF($L$7:$L$500,N15)","v":0},{"$f":"O15/$Q$4","v":0},{"$f":"IF(P15=0,0,(P15*((LOG(P15))/LOG(2))))","v":0},null,null,{"$f":"N15","v":2111},{"$f":"COUNTIF(L7:L40,T15)","v":0},{"$f":"U15/(W4-U20)","v":0},{"$f":"IF(V15=0,0,(V15*((LOG(V15))/LOG(2))))","v":0},null,{"$f":"N15","v":2111},{"$f":"COUNTIF(L41:L73,Y15)","v":0},{"$f":"Z15/(AB4-Z20)","v":0},{"$f":"IF(AA15=0,0,(AA15*((LOG(AA15))/LOG(2))))","v":0},null,{"$f":"N15","v":2111},{"$f":"COUNTIF(L74:L107,AD15)","v":0},{"$f":"AE15/(AG4-AE20)","v":0},{"$f":"IF(AF15=0,0,(AF15*((LOG(AF15))/LOG(2))))","v":0},null,{"$f":"N15","v":2111},{"$f":"COUNTIF(L108:L140,AI15)","v":0},{"$f":"AJ15/(AL4-AJ20)","v":0},{"$f":"IF(AK15=0,0,(AK15*((LOG(AK15))/LOG(2))))","v":0},null,{"$f":"N15","v":2111},{"$f":"COUNTIF(L141:L174,AN15)","v":0},{"$f":"AO15/(AQ4-AO20)","v":0},{"$f":"IF(AP15=0,0,(AP15*((LOG(AP15))/LOG(2))))","v":0},null,{"$f":"N15","v":2111},{"$f":"COUNTIF(L175:L207,AS15)","v":0},{"$f":"AT15/(AV4-AT20)","v":0},{"$f":"IF(AU15=0,0,(AU15*((LOG(AU15))/LOG(2))))","v":0}]
[12,1156,14,1162,13,1170,14,1184,null,null,0,1111,null,2112,{"$f":"COUNTIF($L$7:$L$500,N16)","v":0},{"$f":"O16/$Q$4","v":0},{"$f":"IF(P16=0,0,(P16*((LOG(P16))/LOG(2))))","v":0},null,null,{"$f":"N16","v":2112},{"$f":"COUNTIF(L7:L40,T16)","v":0},{"$f":"U16/(W4-U20)","v":0},{"$f":"IF(V16=0,0,(V16*((LOG(V16))/LOG(2))))","v":0},null,{"$f":"N16","v":2112},{"$f":"COUNTIF(L41:L73,Y16)","v":0},{"$f":"Z16/(AB4-Z20)","v":0},{"$f":"IF(AA16=0,0,(AA16*((LOG(AA16))/LOG(2))))","v":0},null,{"$f":"N16","v":2112},{"$f":"COUNTIF(L74:L107,AD16)","v":0},{"$f":"AE16/(AG4-AE20)","v":0},{"$f":"IF(AF16=0,0,(AF16*((LOG(AF16))/LOG(2))))","v":0},null,{"$f":"N16","v":2112},{"$f":"COUNTIF(L108:L140,AI16)","v":0},{"$f":"AJ16/(AL4-AJ20)","v":0},{"$f":"IF(AK16=0,0,(AK16*((LOG(AK16))/LOG(2))))","v":0},null,{"$f":"N16","v":2112},{"$f":"COUNTIF(L141:L174,AN16)","v":0},{"$f":"AO16/(AQ4-AO20)","v":0},{"$f":"IF(AP16=0,0,(AP16*((LOG(AP16))/LOG(2))))","v":0},null,{"$f":"N16","v":2112},{"$f":"COUNTIF(L175:L207,AS16)","v":0},{"$f":"AT16/(AV4-AT20)","v":0},{"$f":"IF(AU16=0,0,(AU16*((LOG(AU16))/LOG(2))))","v":0}]
[12,1285,14,1291,13,1298,14,1308,null,null,0,1111,null,2121,{"$f":"COUNTIF($L$7:$L$500,N17)","v":0},{"$f":"O17/$Q$4","v":0},{"$f":"IF(P17=0,0,(P17*((LOG(P17))/LOG(2))))","v":0},null,null,{"$f":"N17","v":2121},{"$f":"COUNTIF(L7:L40,T17)","v":0},{"$f":"U17/(W4-U20)","v":0},{"$f":"IF(V17=0,0,(V17*((LOG(V17))/LOG(2))))","v":0},null,{"$f":"N17","v":2121},{"$f":"COUNTIF(L41:L73,Y17)","v":0},{"$f":"Z17/(AB4-Z20)","v":0},{"$f":"IF(AA17=0,0,(AA17*((LOG(AA17))/LOG(2))))","v":0},null,{"$f":"N17","v":2121},{"$f":"COUNTIF(L74:L107,AD17)","v":0},{"$f":"AE17/(AG4-AE20)","v":0},{"$f":"IF(AF17=0,0,(AF17*((LOG(AF17))/LOG(2))))","v":0},null,{"$f":"N17","v":2121},{"$f":"COUNTIF(L108:L140,AI17)","v":0},{"$f":"AJ17/(AL4-AJ20)","v":0},{"$f":"IF(AK17=0,0,(AK17*((LOG(AK17))/LOG(2))))","v":0},null,{"$f":"N17","v":2121},{"$f":"COUNTIF(L141:L174,AN17)","v":0},{"$f":"AO17/(AQ4-AO20)","v":0},{"$f":"IF(AP17=0,0,(AP17*((LOG(AP17))/LOG(2))))","v":0},null,{"$f":"N17","v":2121},{"$f":"COUNTIF(L175:L207,AS17)","v":0},{"$f":"AT17/(AV4-AT20)","v":0},{"$f":"IF(AU17=0,0,(AU17*((LOG(AU17))/LOG(2))))","v":0}]
[12,1408,14,1416,13,1420,14,1426,null,null,0,1111,null,2122,{"$f":"COUNTIF($L$7:$L$500,N18)","v":0},{"$f":"O18/$Q$4","v":0},{"$f":"IF(P18=0,0,(P18*((LOG(P18))/LOG(2))))","v":0},null,null,{"$f":"N18","v":2122},{"$f":"COUNTIF(L7:L40,T18)","v":0},{"$f":"U18/(W4-U20)","v":0},{"$f":"IF(V18=0,0,(V18*((LOG(V18))/LOG(2))))","v":0},null,{"$f":"N18","v":2122},{"$f":"COUNTIF(L41:L73,Y18)","v":0},{"$f":"Z18/(AB4-Z20)","v":0},{"$f":"IF(AA18=0,0,(AA18*((LOG(AA18))/LOG(2))))","v":0},null,{"$f":"N18","v":2122},{"$f":"COUNTIF(L74:L107,AD18)","v":0},{"$f":"AE18/(AG4-AE20)","v":0},{"$f":"IF(AF18=0,0,(AF18*((LOG(AF18))/LOG(2))))","v":0},null,{"$f":"N18","v":2122},{"$f":"COUNTIF(L108:L140,AI18)","v":0},{"$f":"AJ18/(AL4-AJ20)","v":0},{"$f":"IF(AK18=0,0,(AK18*((LOG(AK18))/LOG(2))))","v":0},null,{"$f":"N18","v":2122},{"$f":"COUNTIF(L141:L174,AN18)","v":0},{"$f":"AO18/(AQ4-AO20)","v":0},{"$f":"IF(AP18=0,0,(AP18*((LOG(AP18))/LOG(2))))","v":0},null,{"$f":"N18","v":2122},{"$f":"COUNTIF(L175:L207,AS18)","v":0},{"$f":"AT18/(AV4-AT20)","v":0},{"$f":"IF(AU18=0,0,(AU18*((LOG(AU18))/LOG(2))))","v":0}]
[12,1526,14,1530,13,1536,14,1550,null,null,0,1111,null,2211,{"$f":"COUNTIF($L$7:$L$500,N19)","v":2},{"$f":"O19/$Q$4","v":9.9502487562189053E-3},{"$f":"IF(P19=0,0,(P19*((LOG(P19))/LOG(2))))","v":-6.6179618817700792E-2},null,null,{"$f":"N19","v":2211},{"$f":"COUNTIF(L7:L40,T19)","v":0},{"$f":"U19/(W4-U20)","v":0},{"$f":"IF(V19=0,0,(V19*((LOG(V19))/LOG(2))))","v":0},null,{"$f":"N19","v":2211},{"$f":"COUNTIF(L41:L73,Y19)","v":0},{"$f":"Z19/(AB4-Z20)","v":0},{"$f":"IF(AA19=0,0,(AA19*((LOG(AA19))/LOG(2))))","v":0},null,{"$f":"N19","v":2211},{"$f":"COUNTIF(L74:L107,AD19)","v":1},{"$f":"AE19/(AG4-AE20)","v":2.9411764705882353E-2},{"$f":"IF(AF19=0,0,(AF19*((LOG(AF19))/LOG(2))))","v":-0.14963126003677468},null,{"$f":"N19","v":2211},{"$f":"COUNTIF(L108:L140,AI19)","v":0},{"$f":"AJ19/(AL4-AJ20)","v":0},{"$f":"IF(AK19=0,0,(AK19*((LOG(AK19))/LOG(2))))","v":0},null,{"$f":"N19","v":2211},{"$f":"COUNTIF(L141:L174,AN19)","v":0},{"$f":"AO19/(AQ4-AO20)","v":0},{"$f":"IF(AP19=0,0,(AP19*((LOG(AP19))/LOG(2))))","v":0},null,{"$f":"N19","v":2211},{"$f":"COUNTIF(L175:L207,AS19)","v":1},{"$f":"AT19/(AV4-AT20)","v":3.0303030303030304E-2},{"$f":"IF(AU19=0,0,(AU19*((LOG(AU19))/LOG(2))))","v":-0.15286042785934709}]
[12,1651,14,1657,13,1661,14,1669,null,null,0,1111,null,2212,{"$f":"COUNTIF($L$7:$L$500,N20)","v":0},{"$f":"O20/$Q$4","v":0},{"$f":"IF(P20=0,0,(P20*((LOG(P20))/LOG(2))))","v":0},null,null,{"$f":"N20","v":2212},{"$f":"COUNTIF(L7:L40,T20)","v":0},null,null,null,{"$f":"N20","v":2212},{"$f":"COUNTIF(L41:L73,Y20)","v":0},null,null,null,{"$f":"N20","v":2212},{"$f":"COUNTIF(L74:L107,AD20)","v":0},null,null,null,{"$f":"N20","v":2212},{"$f":"COUNTIF(L108:L140,AI20)","v":0},null,null,null,{"$f":"N20","v":2212},{"$f":"COUNTIF(L141:L174,AN20)","v":0},null,null,null,{"$f":"N20","v":2212},{"$f":"COUNTIF(L175:L207,AS20)","v":0}]
[12,1768,14,1773,13,1777,14,1785,null,null,0,1111,null,2221,{"$f":"COUNTIF($L$7:$L$500,N21)","v":0},{"$f":"O21/$Q$4","v":0},{"$f":"IF(P21=0,0,(P21*((LOG(P21))/LOG(2))))","v":0},null,null,{"$f":"N21","v":2221},{"$f":"COUNTIF(L7:L40,T21)","v":0},{"$f":"U21/(W4-U20)","v":0},{"$f":"IF(V21=0,0,(V21*((LOG(V21))/LOG(2))))","v":0},null,{"$f":"N21","v":2221},{"$f":"COUNTIF(L41:L73,Y21)","v":0},{"$f":"Z21/(AB4-Z20)","v":0},{"$f":"IF(AA21=0,0,(AA21*((LOG(AA21))/LOG(2))))","v":0},null,{"$f":"N21","v":2221},{"$f":"COUNTIF(L74:L107,AD21)","v":0},{"$f":"AE21/(AG4-AE20)","v":0},{"$f":"IF(AF21=0,0,(AF21*((LOG(AF21))/LOG(2))))","v":0},null,{"$f":"N21","v":2221},{"$f":"COUNTIF(L108:L140,AI21)","v":0},{"$f":"AJ21/(AL4-AJ20)","v":0},{"$f":"IF(AK21=0,0,(AK21*((LOG(AK21))/LOG(2))))","v":0},null,{"$f":"N21","v":2221},{"$f":"COUNTIF(L141:L174,AN21)","v":0},{"$f":"AO21/(AQ4-AO20)","v":0},{"$f":"IF(AP21=0,0,(AP21*((LOG(AP21))/LOG(2))))","v":0},null,{"$f":"N21","v":2221},{"$f":"COUNTIF(L175:L207,AS21)","v":0},{"$f":"AT21/(AV4-AT20)","v":0},{"$f":"IF(AU21=0,0,(AU21*((LOG(AU21))/LOG(2))))","v":0}]
[12,1884,14,1889,13,1893,14,1903,null,null,0,1111,null,2222,{"$f":"COUNTIF($L$7:$L$500,N22)","v":2},{"$f":"O22/$Q$4","v":9.9502487562189053E-3},{"$f":"IF(P22=0,0,(P22*((LOG(P22))/LOG(2))))","v":-6.6179618817700792E-2},null,null,{"$f":"N22","v":2222},{"$f":"COUNTIF(L7:L40,T22)","v":0},{"$f":"U22/(W4-U20)","v":0},{"$f":"IF(V22=0,0,(V22*((LOG(V22))/LOG(2))))","v":0},null,{"$f":"N22","v":2222},{"$f":"COUNTIF(L41:L73,Y22)","v":0},{"$f":"Z22/(AB4-Z20)","v":0},{"$f":"IF(AA22=0,0,(AA22*((LOG(AA22))/LOG(2))))","v":0},null,{"$f":"N22","v":2222},{"$f":"COUNTIF(L74:L107,AD22)","v":1},{"$f":"AE22/(AG4-AE20)","v":2.9411764705882353E-2},{"$f":"IF(AF22=0,0,(AF22*((LOG(AF22))/LOG(2))))","v":-0.14963126003677468},null,{"$f":"N22","v":2222},{"$f":"COUNTIF(L108:L140,AI22)","v":0},{"$f":"AJ22/(AL4-AJ20)","v":0},{"$f":"IF(AK22=0,0,(AK22*((LOG(AK22))/LOG(2))))","v":0},null,{"$f":"N22","v":2222},{"$f":"COUNTIF(L141:L174,AN22)","v":1},{"$f":"AO22/(AQ4-AO20)","v":2.9411764705882353E-2},{"$f":"IF(AP22=0,0,(AP22*((LOG(AP22))/LOG(2))))","v":-0.14963126003677468},null,{"$f":"N22","v":2222},{"$f":"COUNTIF(L175:L207,AS22)","v":0},{"$f":"AT22/(AV4-AT20)","v":0},{"$f":"IF(AU22=0,0,(AU22*((LOG(AU22))/LOG(2))))","v":0}]
[12,2005,14,2010,13,2014,14,2022,null,null,0,1111,null,null,null,{"$f":"SUM(P7:P22)","v":0.99999999999999989},{"$f":"-SUM(Q7:Q22)","v":0.2509053668944804},null,null,null,null,{"$f":"SUM(V7:V22)","v":1},{"$f":"-SUM(W7:W22)","v":0.19143325481419343},null,null,null,{"$f":"SUM(AA7:AA22)","v":1},{"$f":"-SUM(AB7:AB22)","v":0.19590927087360493},null,null,null,{"$f":"SUM(AF7:AF22)","v":1},{"$f":"-SUM(AG7:AG22)","v":0.38158048830916291},null,null,null,{"$f":"SUM(AK7:AK22)","v":1},{"$f":"-SUM(AL7:AL22)","v":0},null,null,null,{"$f":"SUM(AP7:AP22)","v":1},{"$f":"-SUM(AQ7:AQ22)","v":0.19143325481419343},null,null,null,{"$f":"SUM(AU7:AU22)","v":1},{"$f":"-SUM(AV7:AV22)","v":0.19590927087360493}]
[12,2123,14,2128,13,2133,14,2141,null,null,0,1111,null,null,null,"U=",{"$f":"Q23/(LOG(Q4)/LOG(2))","v":3.2793578846651225E-2},null,null,null,null,"U1=",{"$f":"W23/(LOG(W4)/LOG(2))","v":3.7628433029919708E-2},null,null,null,"U2=",{"$f":"AB23/(LOG(AB4)/LOG(2))","v":3.8837027051827726E-2},null,null,null,"U3=",{"$f":"AG23/(LOG(AG4)/LOG(2))","v":7.5004083610246547E-2},null,null,null,"U4=",{"$f":"AL23/(LOG(AL4)/LOG(2))","v":0},null,null,null,"U5=",{"$f":"AQ23/(LOG(AQ4)/LOG(2))","v":3.7628433029919708E-2},null,null,null,"U6=",{"$f":"AV23/(LOG(AV4)/LOG(2))","v":3.8837027051827726E-2}]
[12,2247,14,2252,13,2259,14,2267,null,null,0,1111]
[12,2370,14,2376,13,2380,14,2386,null,null,0,1111]
[12,2485,14,2490,13,2495,14,2503,null,null,0,1111,null,"Total Target Seq"]
[12,2595,14,2600,13,2604,14,2610,null,null,0,1111,null,{"$f":"COUNTIF(L7:L207,G3)","v":0},null,34,33,34,33,34,33]
[12,2708,14,2714,13,2719,14,2723,null,null,0,1111,null,null,null,"% of reinforcement given in 6 equal intervals based on number of trials "]
[12,2825,14,2830,13,2834,14,2842,null,null,0,1111,null,null,null,"%_1","%_2","%_3","%_4","%_5","%_6"]
[12,2949,14,2957,13,2963,14,2977,null,null,0,1111,null,null,"target sequence",{"$f":"$G$3","v":2212},{"$f":"$G$3","v":2212},{"$f":"$G$3","v":2212},{"$f":"$G$3","v":2212},{"$f":"$G$3","v":2212},{"$f":"$G$3","v":2212}]
[12,3084,14,3090,13,3096,14,3105,null,null,0,1111,null,null,"total reinforcement",{"$f":"U20","v":0},{"$f":"Z20","v":0},{"$f":"AE20","v":0},{"$f":"AJ20","v":0},{"$f":"AO20","v":0},{"$f":"AT20","v":0}]
[12,3199,14,3204,13,3209,14,3215,null,null,0,1111,null,null,"% target"]
[12,3317,14,3322,13,3330,14,3350,null,null,0,1111,null,null,"CCRF"]
[12,3451,14,3456,13,3462,14,3475,null,null,0,1111,null,null,"% CCRf"]
[12,3583,14,3590,13,3596,14,3604,null,null,0,1111,null,null,"average response rate",{"$f":"H40/P28","v":120.32352941176471},{"$f":"(H73-H40)/Q28","v":119},{"$f":"(H107-H73)/R28","v":118},{"$f":"(H140-H107)/S28","v":117.54545454545455},{"$f":"(H174-H140)/T28","v":118.26470588235294},{"$f":"(H207-H174)/U28","v":120.60606060606061}]
[12,3701,14,3707,13,3711,14,3716,null,null,0,1111]
[12,3818,14,3824,13,3830,14,3839,null,null,0,1111]
[12,3937,14,3945,13,3953,14,3963,null,null,0,1111]
[12,4070,14,4075,13,4080,14,4091,null,null,0,1111]
[12,4190,14,4195,13,4200,14,4208,null,null,0,1111]
[12,4307,14,4315,13,4320,14,4328,null,null,0,1111]
[12,4430,14,4436,13,4441,14,4446,null,null,0,1111]
[12,4548,14,4553,13,4558,14,4563,null,null,0,1111]
[12,4657,14,4662,13,4668,14,4676,null,null,0,1111]
[12,4780,14,4785,13,4790,14,4796,null,null,0,1111]
[12,4890,14,4896,13,4901,14,4909,null,null,0,1111]
[12,5008,14,5013,13,5018,14,5025,null,null,0,1111]
[12,5129,14,5136,13,5140,14,5147,null,null,0,1111]
[12,5247,14,5253,13,5258,14,5262,null,null,0,1111]
[12,5360,14,5367,13,5372,14,5381,null,null,0,1111]
[12,5481,14,5486,13,5491,14,5500,null,null,0,1111]
[12,5598,14,5604,13,5610,14,5616,null,null,0,1111]
[12,5713,14,5720,13,5725,14,5734,null,null,0,1111]
[12,5830,14,5836,13,5841,14,5849,null,null,0,1111]
[12,5950,14,5955,13,5960,14,5970,null,null,0,1111]
[12,6066,14,6072,13,6078,14,6085,null,null,0,1111]
[12,6184,14,6190,13,6194,14,6203,null,null,0,1111]
[12,6300,14,6304,13,6309,14,6327,null,null,0,1111]
[12,6423,14,6434,13,6439,14,6447,null,null,0,1111]
[12,6549,14,6555,13,6560,14,6568,null,null,0,1111]
[12,6669,14,6675,13,6681,14,6689,null,null,0,1111]
[12,6779,14,6787,13,6793,14,6814,null,null,0,1111]
[12,6921,14,6929,24,6943,23,6955,null,null,0,1122]
[12,7051,14,7059,13,7066,14,7078,null,null,0,1111]
[12,7175,14,7179,13,7183,14,7191,null,null,0,1111]
[12,7285,14,7290,13,7295,14,7312,null,null,0,1111]
[12,7412,14,7417,13,7422,14,7428,null,null,0,1111]
[12,7525,14,7537,13,7550,14,7560,null,null,0,1111]
[12,7657,14,7662,13,7667,14,7675,null,null,0,1111]
[12,7770,14,7776,13,7781,14,7787,null,null,0,1111]
[12,7888,14,7892,13,7897,14,7905,null,null,0,1111]
[12,8002,14,8008,13,8013,14,8018,null,null,0,1111]
[12,8120,14,8126,13,8131,14,8141,null,null,0,1111]
[12,8243,14,8249,13,8254,14,8260,null,null,0,1111]
[21,8354,21,8359,22,8368,23,8375,null,null,0,2222]
[21,8473,21,8479,11,8491,12,8499,null,null,0,2211]
[12,8596,14,8602,13,8610,14,8618,null,null,0,1111]
[12,8716,14,8721,13,8727,14,8732,null,null,0,1111]
[12,8831,14,8837,13,8843,14,8854,null,null,0,1111]
[12,8952,14,8958,13,8964,14,8973,null,null,0,1111]
[12,9070,14,9076,13,9082,14,9092,null,null,0,1111]
[12,9190,14,9195,13,9200,14,9207,null,null,0,1111]
[12,9305,14,9311,13,9316,14,9324,null,null,0,1111]
[12,9427,14,9432,13,9438,14,9447,null,null,0,1111]
[12,9542,14,9550,13,9557,14,9566,null,null,0,1111]
[12,9664,14,9669,13,9676,14,9685,null,null,0,1111]
[12,9783,14,9789,13,9794,14,9800,null,null,0,1111]
[12,9897,14,9903,13,9908,14,9916,null,null,0,1111]
[12,10005,14,10010,13,10014,14,10020,null,null,0,1111]
[12,10113,14,10119,13,10124,14,10130,null,null,0,1111]
[12,10227,14,10232,13,10237,14,10243,null,null,0,1111]
[12,10343,14,10348,13,10356,14,10375,null,null,0,1111]
[12,10467,14,10473,13,10479,14,10485,null,null,0,1111]
[12,10582,14,10588,13,10596,14,10604,null,null,0,1111]
[12,10701,14,10706,13,10711,14,10728,null,null,0,1111]
[12,10826,14,10831,13,10836,14,10841,null,null,0,1111]
[12,10938,14,10943,13,10948,14,10957,null,null,0,1111]
[12,11048,14,11055,13,11071,14,11080,null,null,0,1111]
[12,11183,14,11188,13,11193,14,11197,null,null,0,1111]
[12,11294,14,11299,13,11304,14,11308,null,null,0,1111]
[12,11405,14,11411,13,11417,14,11426,null,null,0,1111]
[12,11527,14,11537,13,11545,14,11554,null,null,0,1111]
[12,11654,14,11659,13,11663,14,11676,null,null,0,1111]
[12,11767,14,11772,13,11777,14,11793,null,null,0,1111]
[12,11892,14,11898,13,11905,14,11912,null,null,0,1111]
[12,12010,14,12015,13,12020,14,12030,null,null,0,1111]
[12,12125,14,12133,13,12138,14,12145,null,null,0,1111]
[12,12243,14,12249,13,12256,14,12261,null,null,0,1111]
[12,12358,14,12363,13,12369,14,12374,null,null,0,1111]
[12,12472,14,12478,13,12485,14,12496,null,null,0,1111]
[12,12594,14,12600,13,12607,14,12615,null,null,0,1111]
[12,12715,14,12721,13,12727,14,12728,null,null,0,1111]
[12,12826,14,12831,13,12839,14,12847,null,null,0,1111]
[12,12948,14,12953,13,12957,14,12964,null,null,0,1111]
[12,13056,14,13061,13,13066,14,13072,null,null,0,1111]
[12,13170,14,13174,13,13179,14,13184,null,null,0,1111]
[12,13280,14,13285,13,13290,14,13299,null,null,0,1111]
[12,13396,14,13402,13,13407,14,13417,null,null,0,1111]
[12,13514,14,13519,13,13525,14,13534,null,null,0,1111]
[12,13631,14,13636,13,13641,14,13648,null,null,0,1111]
[12,13742,14,13748,13,13754,14,13760,null,null,0,1111]
[12,13859,14,13863,13,13869,14,13877,null,null,0,1111]
[12,13975,14,13980,13,13985,14,13993,null,null,0,1111]
[12,14092,14,14101,13,14108,14,14119,null,null,0,1111]
[12,14217,14,14222,13,14229,14,14237,null,null,0,1111]
[12,14334,14,14339,13,14345,14,14363,null,null,0,1111]
[12,14464,14,14469,13,14478,14,14482,null,null,0,1111]
[12,14583,14,14589,13,14593,14,14598,null,null,0,1111]
[12,14695,14,14700,13,14705,14,14711,null,null,0,1111]
[12,14805,14,14810,13,14815,14,14821,null,null,0,1111]
[12,14919,14,14926,13,14931,14,14941,null,null,0,1111]
[12,15040,14,15045,13,15051,14,15059,null,null,0,1111]
[12,15148,14,15154,13,15160,14,15169,null,null,0,1111]
[12,15265,14,15273,13,15288,14,15297,null,null,0,1111]
[12,15405,14,15411,13,15420,14,15433,null,null,0,1111]
[12,15537,14,15541,13,15547,14,15556,null,null,0,1111]
[12,15652,14,15658,13,15663,14,15671,null,null,0,1111]
[12,15769,14,15775,13,15783,14,15791,null,null,0,1111]
[12,15892,14,15897,13,15903,14,15909,null,null,0,1111]
[12,16008,14,16013,13,16019,14,16028,null,null,0,1111]
[21,16123,21,16128,22,16138,23,16144,null,null,0,2222]
[12,16241,14,16246,13,16251,14,16256,null,null,0,1111]
[12,16354,14,16359,13,16365,14,16371,null,null,0,1111]
[12,16471,14,16476,13,16481,14,16487,null,null,0,1111]
[12,16585,14,16591,13,16599,14,16608,null,null,0,1111]
[12,16711,14,16716,13,16722,14,16727,null,null,0,1111]
[12,16824,14,16829,13,16835,14,16843,null,null,0,1111]
[12,16946,14,16952,13,16958,14,16976,null,null,0,1111]
[12,17073,14,17079,13,17085,14,17093,null,null,0,1111]
[12,17189,14,17194,13,17200,14,17206,null,null,0,1111]
[12,17303,14,17308,13,17317,14,17324,null,null,0,1111]
[12,17421,14,17426,13,17432,14,17439,null,null,0,1111]
[12,17536,14,17542,13,17551,14,17561,null,null,0,1111]
[12,17662,14,17667,13,17673,14,17682,null,null,0,1111]
[12,17779,14,17785,13,17793,14,17802,null,null,0,1111]
[12,17899,14,17905,13,17910,14,17920,null,null,0,1111]
[12,18015,14,18023,13,18028,14,18044,null,null,0,1111]
[12,18142,14,18147,13,18152,14,18161,null,null,0,1111]
[12,18261,14,18266,13,18272,14,18281,null,null,0,1111]
[12,18379,14,18387,13,18394,14,18402,null,null,0,1111]
[12,18499,14,18504,13,18512,14,18520,null,null,0,1111]
[12,18615,14,18625,13,18634,14,18645,null,null,0,1111]
[12,18743,14,18748,13,18754,14,18763,null,null,0,1111]
[12,18860,14,18865,13,18870,14,18878,null,null,0,1111]
[12,18971,14,18977,13,18983,14,18993,null,null,0,1111]
[12,19090,14,19095,13,19100,14,19109,null,null,0,1111]
[12,19207,14,19212,13,19217,14,19225,null,null,0,1111]
[12,19325,14,19330,13,19336,14,19343,null,null,0,1111]
[12,19440,14,19445,13,19457,14,19465,null,null,0,1111]
[12,19562,14,19568,13,19574,14,19583,null,null,0,1111]
[12,19670,14,19676,13,19681,14,19687,null,null,0,1111]
[12,19783,14,19788,13,19794,14,19800,null,null,0,1111]
[12,19897,14,19904,13,19910,14,19930,null,null,0,1111]
[12,20026,14,20031,13,20037,14,20046,null,null,0,1111]
[12,20144,14,20150,13,20156,14,20164,null,null,0,1111]
[12,20259,14,20265,13,20271,14,20279,null,null,0,1111]
[12,20376,14,20382,13,20387,14,20397,null,null,0,1111]
[12,20499,14,20504,13,20512,14,20517,null,null,0,1111]
[12,20606,14,20613,13,20620,14,20629,null,null,0,1111]
[12,20725,14,20731,13,20737,14,20746,null,null,0,1111]
[12,20843,14,20848,13,20854,14,20863,null,null,0,1111]
[12,20963,14,20968,13,20974,14,20984,null,null,0,1111]
[12,21080,14,21086,13,21091,14,21100,null,null,0,1111]
[12,21200,14,21206,13,21210,14,21217,null,null,0,1111]
[12,21310,14,21315,13,21321,14,21330,null,null,0,1111]
[12,21429,14,21434,13,21440,14,21450,null,null,0,1111]
[12,21548,14,21556,13,21564,14,21573,null,null,0,1111]
[12,21675,14,21681,13,21686,14,21690,null,null,0,1111]
[12,21789,14,21794,13,21802,14,21812,null,null,0,1111]
[12,21909,14,21914,13,21919,14,21927,null,null,0,1111]
[12,22034,14,22038,13,22043,14,22048,null,null,0,1111]
[12,22143,14,22148,13,22154,14,22165,null,null,0,1111]
[12,22269,14,22275,13,22283,14,22289,null,null,0,1111]
[12,22386,14,22392,13,22400,14,22406,null,null,0,1111]
[12,22504,14,22509,13,22515,14,22523,null,null,0,1111]
[12,22620,14,22626,13,22631,14,22641,null,null,0,1111]
[12,22735,14,22746,13,22754,14,22766,null,null,0,1111]
[12,22857,14,22862,13,22867,14,22873,null,null,0,1111]
[12,22972,14,22977,13,22982,14,22986,null,null,0,1111]
[12,23085,14,23091,13,23097,14,23128,null,null,0,1111]
[12,23225,14,23232,13,23237,14,23243,null,null,0,1111]
[12,23345,14,23350,13,23356,14,23364,null,null,0,1111]
[12,23456,14,23462,13,23468,14,23474,null,null,0,1111]
[12,23585,14,23591,13,23600,14,23613,null,null,0,1111]
[12,23721,14,23728,13,23732,14,23740,null,null,0,1111]
[21,23859,21,23864,11,23898,12,23910,null,null,0,2211]

{"sheet":"!L921C10.056","index":24,"n_rows":203,"n_cols":48,"rows_kept":203,"cut":false,"hidden":false,"merged":[[4,39,4,42],[5,39,5,40],[4,44,4,47],[5,44,5,45],[4,24,4,27],[5,24,5,25],[4,29,4,32],[5,29,5,30],[4,34,4,37],[5,34,5,35],[1,1,1,2],[5,13,5,14],[26,13,26,14],[27,13,27,14],[4,19,4,22],[5,19,5,20]]}
["Report for:!L921C10.056"]
["Date:","<date>"]
["Hen:","<hen>",null,null,null,"Correct Sequence",{"$f":"Start!J2","v":2212},null,null,null,null,null,null,null,null,"Total Sequences in Data",{"$f":"4994-COUNTBLANK(L7:L5000)","v":197},null,null,null,null,"Total Sequences in Block Data",{"$f":"COUNTA(L7:L39)","v":33},null,null,null,"Total Sequences in Block Data",{"$f":"COUNTA(L40:L72)","v":33},null,null,null,"Total Sequences in Block Data",{"$f":"COUNTA(L73:L104)","v":32},null,null,null,"Total Sequences in Block Data",{"$f":"COUNTA(L105:L137)","v":33},null,null,null,"Total Sequences in Block Data",{"$f":"COUNTA(L138:L170)","v":33},null,null,null,"Total Sequences in Block Data",{"$f":"COUNTA(L171:L203)","v":33}]
[null,null,null,null,null,null,null,null,null,null,null,null,null,null,null,"Total Sequences in Summary",{"$f":"SUM(O7:O22)","v":196},null,null,null,null,"Total Sequences in Block Summary",{"$f":"SUM(U7:U22)","v":33},null,null,null,"Total Sequences in Block Summary",{"$f":"SUM(Z7:Z22)","v":33},null,null,null,"Total Sequences in Block Summary",{"$f":"SUM(AE7:AE22)","v":32},null,null,null,"Total Sequences in Block Summary",{"$f":"SUM(AJ7:AJ22)","v":33},null,null,null,"Total Sequences in Block Summary",{"$f":"SUM(AO7:AO22)","v":33},null,null,null,"Total Sequences in Block Summary",{"$f":"SUM(AT7:AT22)","v":32}]
[null,null,null,null,null,null,null,null,null,null,null,null,null,null,null,null,null,null,null,"Block 1",null,null,null,null,"Block 2",null,null,null,null,"Block 3",null,null,null,null,"Block 4",null,null,null,null,"Block 5",null,null,null,null,"Block 6"]
["Sequence\nComponent\n1","Time\n1","Sequence\nComponent\n2","Time\n2","Sequence\nComponent\n3","Time\n3","Sequence\nComponent\n4","Time\n4","Sequence\nComponent\n5","Time\n5","Correct?\n0=No 1=Yes","Sequence",null,"Frequency",null,"Relative Frequency","Variability",null,null,"Frequency",null,"Relative Frequency","Variability",null,"Frequency",null,"Relative Frequency","Variability",null,"Frequency",null,"Relative Frequency","Variability",null,"Frequency",null,"Relative Frequency","Variability",null,"Frequency",null,"Relative Frequency","Variability",null,"Frequency",null,"Relative Frequency","Variability"]
[21,40,21,47,11,65,12,74,null,null,0,2211,null,1111,{"$f":"COUNTIF($L$7:$L$500,N7)","v":193},{"$f":"O7/$Q$4","v":0.98469387755102045},{"$f":"IF(P7=0,0,(P7*((LOG(P7))/LOG(2))))","v":-2.1912202660692111E-2},null,null,{"$f":"N7","v":1111},{"$f":"COUNTIF(L7:L39,T7)","v":30},{"$f":"U7/(W4-U20)","v":0.90909090909090906},{"$f":"IF(V7=0,0,(V7*((LOG(V7))/LOG(2))))","v":-0.12500320340903179},null,{"$f":"N7","v":1111},{"$f":"COUNTIF(L40:L72,Y7)","v":33},{"$f":"Z7/(AB4-Z20)","v":1},{"$f":"IF(AA7=0,0,(AA7*((LOG(AA7))/LOG(2))))","v":0},null,{"$f":"N7","v":1111},{"$f":"COUNTIF(L73:L104,AD7)","v":32},{"$f":"AE7/(AG4-AE20)","v":1},{"$f":"IF(AF7=0,0,(AF7*((LOG(AF7))/LOG(2))))","v":0},null,{"$f":"N7","v":1111},{"$f":"COUNTIF(L105:L137,AI7)","v":33},{"$f":"AJ7/(AL4-AJ20)","v":1},{"$f":"IF(AK7=0,0,(AK7*((LOG(AK7))/LOG(2))))","v":0},null,{"$f":"N7","v":1111},{"$f":"COUNTIF(L138:L170,AN7)","v":33},{"$f":"AO7/(AQ4-AO20)","v":1},{"$f":"IF(AP7=0,0,(AP7*((LOG(AP7))/LOG(2))))","v":0},null,{"$f":"N7","v":1111},{"$f":"COUNTIF(L171:L203,AS7)","v":32},{"$f":"AT7/(AV4-AT20)","v":1},{"$f":"IF(AU7=0,0,(AU7*((LOG(AU7))/LOG(2))))","v":0}]
[12,185,14,192,13,198,14,209,null,null,0,1111,null,1112,{"$f":"COUNTIF($L$7:$L$500,N8)","v":0},{"$f":"O8/$Q$4","v":0},{"$f":"IF(P8=0,0,(P8*((LOG(P8))/LOG(2))))","v":0},null,null,{"$f":"N8","v":1112},{"$f":"COUNTIF(L7:L39,T8)","v":0},{"$f":"U8/(W4-U20)","v":0},{"$f":"IF(V8=0,0,(V8*((LOG(V8))/LOG(2))))","v":0},null,{"$f":"N8","v":1112},{"$f":"COUNTIF(L40:L72,Y8)","v":0},{"$f":"Z8/(AB4-Z20)","v":0},{"$f":"IF(AA8=0,0,(AA8*((LOG(AA8))/LOG(2))))","v":0},null,{"$f":"N8","v":1112},{"$f":"COUNTIF(L73:L104,AD8)","v":0},{"$f":"AE8/(AG4-AE20)","v":0},{"$f":"IF(AF8=0,0,(AF8*((LOG(AF8))/LOG(2))))","v":0},null,{"$f":"N8","v":1112},{"$f":"COUNTIF(L105:L137,AI8)","v":0},{"$f":"AJ8/(AL4-AJ20)","v":0},{"$f":"IF(AK8=0,0,(AK8*((LOG(AK8))/LOG(2))))","v":0},null,{"$f":"N8","v":1112},{"$f":"COUNTIF(L138:L170,AN8)","v":0},{"$f":"AO8/(AQ4-AO20)","v":0},{"$f":"IF(AP8=0,0,(AP8*((LOG(AP8))/LOG(2))))","v":0},null,{"$f":"N8","v":1112},{"$f":"COUNTIF(L171:L203,AS8)","v":0},{"$f":"AT8/(AV4-AT20)","v":0},{"$f":"IF(AU8=0,0,(AU8*((LOG(AU8))/LOG(2))))","v":0}]
[12,311,14,317,13,322,14,335,null,null,0,1111,null,1121,{"$f":"COUNTIF($L$7:$L$500,N9)","v":0},{"$f":"O9/$Q$4","v":0},{"$f":"IF(P9=0,0,(P9*((LOG(P9))/LOG(2))))","v":0},null,null,{"$f":"N9","v":1121},{"$f":"COUNTIF(L7:L39,T9)","v":0},{"$f":"U9/(W4-U20)","v":0},{"$f":"IF(V9=0,0,(V9*((LOG(V9))/LOG(2))))","v":0},null,{"$f":"N9","v":1121},{"$f":"COUNTIF(L40:L72,Y9)","v":0},{"$f":"Z9/(AB4-Z20)","v":0},{"$f":"IF(AA9=0,0,(AA9*((LOG(AA9))/LOG(2))))","v":0},null,{"$f":"N9","v":1121},{"$f":"COUNTIF(L73:L104,AD9)","v":0},{"$f":"AE9/(AG4-AE20)","v":0},{"$f":"IF(AF9=0,0,(AF9*((LOG(AF9))/LOG(2))))","v":0},null,{"$f":"N9","v":1121},{"$f":"COUNTIF(L105:L137,AI9)","v":0},{"$f":"AJ9/(AL4-AJ20)","v":0},{"$f":"IF(AK9=0,0,(AK9*((LOG(AK9))/LOG(2))))","v":0},null,{"$f":"N9","v":1121},{"$f":"COUNTIF(L138:L170,AN9)","v":0},{"$f":"AO9/(AQ4-AO20)","v":0},{"$f":"IF(AP9=0,0,(AP9*((LOG(AP9))/LOG(2))))","v":0},null,{"$f":"N9","v":1121},{"$f":"COUNTIF(L171:L203,AS9)","v":0},{"$f":"AT9/(AV4-AT20)","v":0},{"$f":"IF(AU9=0,0,(AU9*((LOG(AU9))/LOG(2))))","v":0}]
[12,448,14,454,13,464,14,477,null,null,0,1111,null,1122,{"$f":"COUNTIF($L$7:$L$500,N10)","v":0},{"$f":"O10/$Q$4","v":0},{"$f":"IF(P10=0,0,(P10*((LOG(P10))/LOG(2))))","v":0},null,null,{"$f":"N10","v":1122},{"$f":"COUNTIF(L7:L39,T10)","v":0},{"$f":"U10/(W4-U20)","v":0},{"$f":"IF(V10=0,0,(V10*((LOG(V10))/LOG(2))))","v":0},null,{"$f":"N10","v":1122},{"$f":"COUNTIF(L40:L72,Y10)","v":0},{"$f":"Z10/(AB4-Z20)","v":0},{"$f":"IF(AA10=0,0,(AA10*((LOG(AA10))/LOG(2))))","v":0},null,{"$f":"N10","v":1122},{"$f":"COUNTIF(L73:L104,AD10)","v":0},{"$f":"AE10/(AG4-AE20)","v":0},{"$f":"IF(AF10=0,0,(AF10*((LOG(AF10))/LOG(2))))","v":0},null,{"$f":"N10","v":1122},{"$f":"COUNTIF(L105:L137,AI10)","v":0},{"$f":"AJ10/(AL4-AJ20)","v":0},{"$f":"IF(AK10=0,0,(AK10*((LOG(AK10))/LOG(2))))","v":0},null,{"$f":"N10","v":1122},{"$f":"COUNTIF(L138:L170,AN10)","v":0},{"$f":"AO10/(AQ4-AO20)","v":0},{"$f":"IF(AP10=0,0,(AP10*((LOG(AP10))/LOG(2))))","v":0},null,{"$f":"N10","v":1122},{"$f":"COUNTIF(L171:L203,AS10)","v":0},{"$f":"AT10/(AV4-AT20)","v":0},{"$f":"IF(AU10=0,0,(AU10*((LOG(AU10))/LOG(2))))","v":0}]
[21,586,21,592,22,605,14,630,null,null,0,2221,null,1211,{"$f":"COUNTIF($L$7:$L$500,N11)","v":0},{"$f":"O11/$Q$4","v":0},{"$f":"IF(P11=0,0,(P11*((LOG(P11))/LOG(2))))","v":0},null,null,{"$f":"N11","v":1211},{"$f":"COUNTIF(L7:L39,T11)","v":0},{"$f":"U11/(W4-U20)","v":0},{"$f":"IF(V11=0,0,(V11*((LOG(V11))/LOG(2))))","v":0},null,{"$f":"N11","v":1211},{"$f":"COUNTIF(L40:L72,Y11)","v":0},{"$f":"Z11/(AB4-Z20)","v":0},{"$f":"IF(AA11=0,0,(AA11*((LOG(AA11))/LOG(2))))","v":0},null,{"$f":"N11","v":1211},{"$f":"COUNTIF(L73:L104,AD11)","v":0},{"$f":"AE11/(AG4-AE20)","v":0},{"$f":"IF(AF11=0,0,(AF11*((LOG(AF11))/LOG(2))))","v":0},null,{"$f":"N11","v":1211},{"$f":"COUNTIF(L105:L137,AI11)","v":0},{"$f":"AJ11/(AL4-AJ20)","v":0},{"$f":"IF(AK11=0,0,(AK11*((LOG(AK11))/LOG(2))))","v":0},null,{"$f":"N11","v":1211},{"$f":"COUNTIF(L138:L170,AN11)","v":0},{"$f":"AO11/(AQ4-AO20)","v":0},{"$f":"IF(AP11=0,0,(AP11*((LOG(AP11))/LOG(2))))","v":0},null,{"$f":"N11","v":1211},{"$f":"COUNTIF(L171:L203,AS11)","v":0},{"$f":"AT11/(AV4-AT20)","v":0},{"$f":"IF(AU11=0,0,(AU11*((LOG(AU11))/LOG(2))))","v":0}]
[12,733,14,739,13,744,14,773,null,null,0,1111,null,1212,{"$f":"COUNTIF($L$7:$L$500,N12)","v":0},{"$f":"O12/$Q$4","v":0},{"$f":"IF(P12=0,0,(P12*((LOG(P12))/LOG(2))))","v":0},null,null,{"$f":"N12","v":1212},{"$f":"COUNTIF(L7:L39,T12)","v":0},{"$f":"U12/(W4-U20)","v":0},{"$f":"IF(V12=0,0,(V12*((LOG(V12))/LOG(2))))","v":0},null,{"$f":"N12","v":1212},{"$f":"COUNTIF(L40:L72,Y12)","v":0},{"$f":"Z12/(AB4-Z20)","v":0},{"$f":"IF(AA12=0,0,(AA12*((LOG(AA12))/LOG(2))))","v":0},null,{"$f":"N12","v":1212},{"$f":"COUNTIF(L73:L104,AD12)","v":0},{"$f":"AE12/(AG4-AE20)","v":0},{"$f":"IF(AF12=0,0,(AF12*((LOG(AF12))/LOG(2))))","v":0},null,{"$f":"N12","v":1212},{"$f":"COUNTIF(L105:L137,AI12)","v":0},{"$f":"AJ12/(AL4-AJ20)","v":0},{"$f":"IF(AK12=0,0,(AK12*((LOG(AK12))/LOG(2))))","v":0},null,{"$f":"N12","v":1212},{"$f":"COUNTIF(L138:L170,AN12)","v":0},{"$f":"AO12/(AQ4-AO20)","v":0},{"$f":"IF(AP12=0,0,(AP12*((LOG(AP12))/LOG(2))))","v":0},null,{"$f":"N12","v":1212},{"$f":"COUNTIF(L171:L203,AS12)","v":0},{"$f":"AT12/(AV4-AT20)","v":0},{"$f":"IF(AU12=0,0,(AU12*((LOG(AU12))/LOG(2))))","v":0}]
[12,877,14,882,13,887,14,894,null,null,0,1111,null,1221,{"$f":"COUNTIF($L$7:$L$500,N13)","v":0},{"$f":"O13/$Q$4","v":0},{"$f":"IF(P13=0,0,(P13*((LOG(P13))/LOG(2))))","v":0},null,null,{"$f":"N13","v":1221},{"$f":"COUNTIF(L7:L39,T13)","v":0},{"$f":"U13/(W4-U20)","v":0},{"$f":"IF(V13=0,0,(V13*((LOG(V13))/LOG(2))))","v":0},null,{"$f":"N13","v":1221},{"$f":"COUNTIF(L40:L72,Y13)","v":0},{"$f":"Z13/(AB4-Z20)","v":0},{"$f":"IF(AA13=0,0,(AA13*((LOG(AA13))/LOG(2))))","v":0},null,{"$f":"N13","v":1221},{"$f":"COUNTIF(L73:L104,AD13)","v":0},{"$f":"AE13/(AG4-AE20)","v":0},{"$f":"IF(AF13=0,0,(AF13*((LOG(AF13))/LOG(2))))","v":0},null,{"$f":"N13","v":1221},{"$f":"COUNTIF(L105:L137,AI13)","v":0},{"$f":"AJ13/(AL4-AJ20)","v":0},{"$f":"IF(AK13=0,0,(AK13*((LOG(AK13))/LOG(2))))","v":0},null,{"$f":"N13","v":1221},{"$f":"COUNTIF(L138:L170,AN13)","v":0},{"$f":"AO13/(AQ4-AO20)","v":0},{"$f":"IF(AP13=0,0,(AP13*((LOG(AP13))/LOG(2))))","v":0},null,{"$f":"N13","v":1221},{"$f":"COUNTIF(L171:L203,AS13)","v":0},{"$f":"AT13/(AV4-AT20)","v":0},{"$f":"IF(AU13=0,0,(AU13*((LOG(AU13))/LOG(2))))","v":0}]
[12,1000,14,1006,13,1011,14,1026,null,null,0,1111,null,1222,{"$f":"COUNTIF($L$7:$L$500,N14)","v":0},{"$f":"O14/$Q$4","v":0},{"$f":"IF(P14=0,0,(P14*((LOG(P14))/LOG(2))))","v":0},null,null,{"$f":"N14","v":1222},{"$f":"COUNTIF(L7:L39,T14)","v":0},{"$f":"U14/(W4-U20)","v":0},{"$f":"IF(V14=0,0,(V14*((LOG(V14))/LOG(2))))","v":0},null,{"$f":"N14","v":1222},{"$f":"COUNTIF(L40:L72,Y14)","v":0},{"$f":"Z14/(AB4-Z20)","v":0},{"$f":"IF(AA14=0,0,(AA14*((LOG(AA14))/LOG(2))))","v":0},null,{"$f":"N14","v":1222},{"$f":"COUNTIF(L73:L104,AD14)","v":0},{"$f":"AE14/(AG4-AE20)","v":0},{"$f":"IF(AF14=0,0,(AF14*((LOG(AF14))/LOG(2))))","v":0},null,{"$f":"N14","v":1222},{"$f":"COUNTIF(L105:L137,AI14)","v":0},{"$f":"AJ14/(AL4-AJ20)","v":0},{"$f":"IF(AK14=0,0,(AK14*((LOG(AK14))/LOG(2))))","v":0},null,{"$f":"N14","v":1222},{"$f":"COUNTIF(L138:L170,AN14)","v":0},{"$f":"AO14/(AQ4-AO20)","v":0},{"$f":"IF(AP14=0,0,(AP14*((LOG(AP14))/LOG(2))))","v":0},null,{"$f":"N14","v":1222},{"$f":"COUNTIF(L171:L203,AS14)","v":0},{"$f":"AT14/(AV4-AT20)","v":0},{"$f":"IF(AU14=0,0,(AU14*((LOG(AU14))/LOG(2))))","v":0}]
[12,1120,14,1125,13,1129,14,1135,null,null,0,1111,null,2111,{"$f":"COUNTIF($L$7:$L$500,N15)","v":0},{"$f":"O15/$Q$4","v":0},{"$f":"IF(P15=0,0,(P15*((LOG(P15))/LOG(2))))","v":0},null,null,{"$f":"N15","v":2111},{"$f":"COUNTIF(L7:L39,T15)","v":0},{"$f":"U15/(W4-U20)","v":0},{"$f":"IF(V15=0,0,(V15*((LOG(V15))/LOG(2))))","v":0},null,{"$f":"N15","v":2111},{"$f":"COUNTIF(L40:L72,Y15)","v":0},{"$f":"Z15/(AB4-Z20)","v":0},{"$f":"IF(AA15=0,0,(AA15*((LOG(AA15))/LOG(2))))","v":0},null,{"$f":"N15","v":2111},{"$f":"COUNTIF(L73:L104,AD15)","v":0},{"$f":"AE15/(AG4-AE20)","v":0},{"$f":"IF(AF15=0,0,(AF15*((LOG(AF15))/LOG(2))))","v":0},null,{"$f":"N15","v":2111},{"$f":"COUNTIF(L105:L137,AI15)","v":0},{"$f":"AJ15/(AL4-AJ20)","v":0},{"$f":"IF(AK15=0,0,(AK15*((LOG(AK15))/LOG(2))))","v":0},null,{"$f":"N15","v":2111},{"$f":"COUNTIF(L138:L170,AN15)","v":0},{"$f":"AO15/(AQ4-AO20)","v":0},{"$f":"IF(AP15=0,0,(AP15*((LOG(AP15))/LOG(2))))","v":0},null,{"$f":"N15","v":2111},{"$f":"COUNTIF(L171:L203,AS15)","v":0},{"$f":"AT15/(AV4-AT20)","v":0},{"$f":"IF(AU15=0,0,(AU15*((LOG(AU15))/LOG(2))))","v":0}]
[12,1260,14,1266,13,1271,14,1280,null,null,0,1111,null,2112,{"$f":"COUNTIF($L$7:$L$500,N16)","v":0},{"$f":"O16/$Q$4","v":0},{"$f":"IF(P16=0,0,(P16*((LOG(P16))/LOG(2))))","v":0},null,null,{"$f":"N16","v":2112},{"$f":"COUNTIF(L7:L39,T16)","v":0},{"$f":"U16/(W4-U20)","v":0},{"$f":"IF(V16=0,0,(V16*((LOG(V16))/LOG(2))))","v":0},null,{"$f":"N16","v":2112},{"$f":"COUNTIF(L40:L72,Y16)","v":0},{"$f":"Z16/(AB4-Z20)","v":0},{"$f":"IF(AA16=0,0,(AA16*((LOG(AA16))/LOG(2))))","v":0},null,{"$f":"N16","v":2112},{"$f":"COUNTIF(L73:L104,AD16)","v":0},{"$f":"AE16/(AG4-AE20)","v":0},{"$f":"IF(AF16=0,0,(AF16*((LOG(AF16))/LOG(2))))","v":0},null,{"$f":"N16","v":2112},{"$f":"COUNTIF(L105:L137,AI16)","v":0},{"$f":"AJ16/(AL4-AJ20)","v":0},{"$f":"IF(AK16=0,0,(AK16*((LOG(AK16))/LOG(2))))","v":0},null,{"$f":"N16","v":2112},{"$f":"COUNTIF(L138:L170,AN16)","v":0},{"$f":"AO16/(AQ4-AO20)","v":0},{"$f":"IF(AP16=0,0,(AP16*((LOG(AP16))/LOG(2))))","v":0},null,{"$f":"N16","v":2112},{"$f":"COUNTIF(L171:L203,AS16)","v":0},{"$f":"AT16/(AV4-AT20)","v":0},{"$f":"IF(AU16=0,0,(AU16*((LOG(AU16))/LOG(2))))","v":0}]
[12,1388,14,1392,13,1398,14,1404,null,null,0,1111,null,2121,{"$f":"COUNTIF($L$7:$L$500,N17)","v":0},{"$f":"O17/$Q$4","v":0},{"$f":"IF(P17=0,0,(P17*((LOG(P17))/LOG(2))))","v":0},null,null,{"$f":"N17","v":2121},{"$f":"COUNTIF(L7:L39,T17)","v":0},{"$f":"U17/(W4-U20)","v":0},{"$f":"IF(V17=0,0,(V17*((LOG(V17))/LOG(2))))","v":0},null,{"$f":"N17","v":2121},{"$f":"COUNTIF(L40:L72,Y17)","v":0},{"$f":"Z17/(AB4-Z20)","v":0},{"$f":"IF(AA17=0,0,(AA17*((LOG(AA17))/LOG(2))))","v":0},null,{"$f":"N17","v":2121},{"$f":"COUNTIF(L73:L104,AD17)","v":0},{"$f":"AE17/(AG4-AE20)","v":0},{"$f":"IF(AF17=0,0,(AF17*((LOG(AF17))/LOG(2))))","v":0},null,{"$f":"N17","v":2121},{"$f":"COUNTIF(L105:L137,AI17)","v":0},{"$f":"AJ17/(AL4-AJ20)","v":0},{"$f":"IF(AK17=0,0,(AK17*((LOG(AK17))/LOG(2))))","v":0},null,{"$f":"N17","v":2121},{"$f":"COUNTIF(L138:L170,AN17)","v":0},{"$f":"AO17/(AQ4-AO20)","v":0},{"$f":"IF(AP17=0,0,(AP17*((LOG(AP17))/LOG(2))))","v":0},null,{"$f":"N17","v":2121},{"$f":"COUNTIF(L171:L203,AS17)","v":0},{"$f":"AT17/(AV4-AT20)","v":0},{"$f":"IF(AU17=0,0,(AU17*((LOG(AU17))/LOG(2))))","v":0}]
[12,1502,14,1508,13,1513,14,1531,null,null,0,1111,null,2122,{"$f":"COUNTIF($L$7:$L$500,N18)","v":0},{"$f":"O18/$Q$4","v":0},{"$f":"IF(P18=0,0,(P18*((LOG(P18))/LOG(2))))","v":0},null,null,{"$f":"N18","v":2122},{"$f":"COUNTIF(L7:L39,T18)","v":0},{"$f":"U18/(W4-U20)","v":0},{"$f":"IF(V18=0,0,(V18*((LOG(V18))/LOG(2))))","v":0},null,{"$f":"N18","v":2122},{"$f":"COUNTIF(L40:L72,Y18)","v":0},{"$f":"Z18/(AB4-Z20)","v":0},{"$f":"IF(AA18=0,0,(AA18*((LOG(AA18))/LOG(2))))","v":0},null,{"$f":"N18","v":2122},{"$f":"COUNTIF(L73:L104,AD18)","v":0},{"$f":"AE18/(AG4-AE20)","v":0},{"$f":"IF(AF18=0,0,(AF18*((LOG(AF18))/LOG(2))))","v":0},null,{"$f":"N18","v":2122},{"$f":"COUNTIF(L105:L137,AI18)","v":0},{"$f":"AJ18/(AL4-AJ20)","v":0},{"$f":"IF(AK18=0,0,(AK18*((LOG(AK18))/LOG(2))))","v":0},null,{"$f":"N18","v":2122},{"$f":"COUNTIF(L138:L170,AN18)","v":0},{"$f":"AO18/(AQ4-AO20)","v":0},{"$f":"IF(AP18=0,0,(AP18*((LOG(AP18))/LOG(2))))","v":0},null,{"$f":"N18","v":2122},{"$f":"COUNTIF(L171:L203,AS18)","v":0},{"$f":"AT18/(AV4-AT20)","v":0},{"$f":"IF(AU18=0,0,(AU18*((LOG(AU18))/LOG(2))))","v":0}]
[12,1637,14,1643,13,1652,14,1674,null,null,0,1111,null,2211,{"$f":"COUNTIF($L$7:$L$500,N19)","v":1},{"$f":"O19/$Q$4","v":5.1020408163265302E-3},{"$f":"IF(P19=0,0,(P19*((LOG(P19))/LOG(2))))","v":-3.8850560429159221E-2},null,null,{"$f":"N19","v":2211},{"$f":"COUNTIF(L7:L39,T19)","v":1},{"$f":"U19/(W4-U20)","v":3.0303030303030304E-2},{"$f":"IF(V19=0,0,(V19*((LOG(V19))/LOG(2))))","v":-0.15286042785934709},null,{"$f":"N19","v":2211},{"$f":"COUNTIF(L40:L72,Y19)","v":0},{"$f":"Z19/(AB4-Z20)","v":0},{"$f":"IF(AA19=0,0,(AA19*((LOG(AA19))/LOG(2))))","v":0},null,{"$f":"N19","v":2211},{"$f":"COUNTIF(L73:L104,AD19)","v":0},{"$f":"AE19/(AG4-AE20)","v":0},{"$f":"IF(AF19=0,0,(AF19*((LOG(AF19))/LOG(2))))","v":0},null,{"$f":"N19","v":2211},{"$f":"COUNTIF(L105:L137,AI19)","v":0},{"$f":"AJ19/(AL4-AJ20)","v":0},{"$f":"IF(AK19=0,0,(AK19*((LOG(AK19))/LOG(2))))","v":0},null,{"$f":"N19","v":2211},{"$f":"COUNTIF(L138:L170,AN19)","v":0},{"$f":"AO19/(AQ4-AO20)","v":0},{"$f":"IF(AP19=0,0,(AP19*((LOG(AP19))/LOG(2))))","v":0},null,{"$f":"N19","v":2211},{"$f":"COUNTIF(L171:L203,AS19)","v":0},{"$f":"AT19/(AV4-AT20)","v":0},{"$f":"IF(AU19=0,0,(AU19*((LOG(AU19))/LOG(2))))","v":0}]
[12,1768,14,1775,13,1781,14,1786,null,null,0,1111,null,2212,{"$f":"COUNTIF($L$7:$L$500,N20)","v":0},{"$f":"O20/$Q$4","v":0},{"$f":"IF(P20=0,0,(P20*((LOG(P20))/LOG(2))))","v":0},null,null,{"$f":"N20","v":2212},{"$f":"COUNTIF(L7:L39,T20)","v":0},null,null,null,{"$f":"N20","v":2212},{"$f":"COUNTIF(L40:L72,Y20)","v":0},null,null,null,{"$f":"N20","v":2212},{"$f":"COUNTIF(L73:L104,AD20)","v":0},null,null,null,{"$f":"N20","v":2212},{"$f":"COUNTIF(L105:L137,AI20)","v":0},null,null,null,{"$f":"N20","v":2212},{"$f":"COUNTIF(L138:L170,AN20)","v":0},null,null,null,{"$f":"N20","v":2212},{"$f":"COUNTIF(L171:L203,AS20)","v":0}]
[12,1888,14,1894,13,1898,14,1907,null,null,0,1111,null,2221,{"$f":"COUNTIF($L$7:$L$500,N21)","v":1},{"$f":"O21/$Q$4","v":5.1020408163265302E-3},{"$f":"IF(P21=0,0,(P21*((LOG(P21))/LOG(2))))","v":-3.8850560429159221E-2},null,null,{"$f":"N21","v":2221},{"$f":"COUNTIF(L7:L39,T21)","v":1},{"$f":"U21/(W4-U20)","v":3.0303030303030304E-2},{"$f":"IF(V21=0,0,(V21*((LOG(V21))/LOG(2))))","v":-0.15286042785934709},null,{"$f":"N21","v":2221},{"$f":"COUNTIF(L40:L72,Y21)","v":0},{"$f":"Z21/(AB4-Z20)","v":0},{"$f":"IF(AA21=0,0,(AA21*((LOG(AA21))/LOG(2))))","v":0},null,{"$f":"N21","v":2221},{"$f":"COUNTIF(L73:L104,AD21)","v":0},{"$f":"AE21/(AG4-AE20)","v":0},{"$f":"IF(AF21=0,0,(AF21*((LOG(AF21))/LOG(2))))","v":0},null,{"$f":"N21","v":2221},{"$f":"COUNTIF(L105:L137,AI21)","v":0},{"$f":"AJ21/(AL4-AJ20)","v":0},{"$f":"IF(AK21=0,0,(AK21*((LOG(AK21))/LOG(2))))","v":0},null,{"$f":"N21","v":2221},{"$f":"COUNTIF(L138:L170,AN21)","v":0},{"$f":"AO21/(AQ4-AO20)","v":0},{"$f":"IF(AP21=0,0,(AP21*((LOG(AP21))/LOG(2))))","v":0},null,{"$f":"N21","v":2221},{"$f":"COUNTIF(L171:L203,AS21)","v":0},{"$f":"AT21/(AV4-AT20)","v":0},{"$f":"IF(AU21=0,0,(AU21*((LOG(AU21))/LOG(2))))","v":0}]
[12,2009,14,2019,13,2023,14,2031,null,null,0,1111,null,2222,{"$f":"COUNTIF($L$7:$L$500,N22)","v":1},{"$f":"O22/$Q$4","v":5.1020408163265302E-3},{"$f":"IF(P22=0,0,(P22*((LOG(P22))/LOG(2))))","v":-3.8850560429159221E-2},null,null,{"$f":"N22","v":2222},{"$f":"COUNTIF(L7:L39,T22)","v":1},{"$f":"U22/(W4-U20)","v":3.0303030303030304E-2},{"$f":"IF(V22=0,0,(V22*((LOG(V22))/LOG(2))))","v":-0.15286042785934709},null,{"$f":"N22","v":2222},{"$f":"COUNTIF(L40:L72,Y22)","v":0},{"$f":"Z22/(AB4-Z20)","v":0},{"$f":"IF(AA22=0,0,(AA22*((LOG(AA22))/LOG(2))))","v":0},null,{"$f":"N22","v":2222},{"$f":"COUNTIF(L73:L104,AD22)","v":0},{"$f":"AE22/(AG4-AE20)","v":0},{"$f":"IF(AF22=0,0,(AF22*((LOG(AF22))/LOG(2))))","v":0},null,{"$f":"N22","v":2222},{"$f":"COUNTIF(L105:L137,AI22)","v":0},{"$f":"AJ22/(AL4-AJ20)","v":0},{"$f":"IF(AK22=0,0,(AK22*((LOG(AK22))/LOG(2))))","v":0},null,{"$f":"N22","v":2222},{"$f":"COUNTIF(L138:L170,AN22)","v":0},{"$f":"AO22/(AQ4-AO20)","v":0},{"$f":"IF(AP22=0,0,(AP22*((LOG(AP22))/LOG(2))))","v":0},null,{"$f":"N22","v":2222},{"$f":"COUNTIF(L171:L203,AS22)","v":0},{"$f":"AT22/(AV4-AT20)","v":0},{"$f":"IF(AU22=0,0,(AU22*((LOG(AU22))/LOG(2))))","v":0}]
[12,2134,14,2139,13,2145,14,2151,null,null,0,1111,null,null,null,{"$f":"SUM(P7:P22)","v":0.99999999999999989},{"$f":"-SUM(Q7:Q22)","v":0.13846388394816977},null,null,null,null,{"$f":"SUM(V7:V22)","v":0.99999999999999989},{"$f":"-SUM(W7:W22)","v":0.58358448698707299},null,null,null,{"$f":"SUM(AA7:AA22)","v":1},{"$f":"-SUM(AB7:AB22)","v":0},null,null,null,{"$f":"SUM(AF7:AF22)","v":1},{"$f":"-SUM(AG7:AG22)","v":0},null,null,null,{"$f":"SUM(AK7:AK22)","v":1},{"$f":"-SUM(AL7:AL22)","v":0},null,null,null,{"$f":"SUM(AP7:AP22)","v":1},{"$f":"-SUM(AQ7:AQ22)","v":0},null,null,null,{"$f":"SUM(AU7:AU22)","v":1},{"$f":"-SUM(AV7:AV22)","v":0}]
[12,2251,14,2256,13,2261,14,2270,null,null,0,1111,null,null,null,"U=",{"$f":"Q23/(LOG(Q4)/LOG(2))","v":1.8183737369215362E-2},null,null,null,null,"U1=",{"$f":"W23/(LOG(W4)/LOG(2))","v":0.11568970884877912},null,null,null,"U2=",{"$f":"AB23/(LOG(AB4)/LOG(2))","v":0},null,null,null,"U3=",{"$f":"AG23/(LOG(AG4)/LOG(2))","v":0},null,null,null,"U4=",{"$f":"AL23/(LOG(AL4)/LOG(2))","v":0},null,null,null,"U5=",{"$f":"AQ23/(LOG(AQ4)/LOG(2))","v":0},null,null,null,"U6=",{"$f":"AV23/(LOG(AV4)/LOG(2))","v":0}]
[12,2372,14,2378,13,2382,14,2391,null,null,0,1111]
[12,2492,14,2497,13,2504,14,2511,null,null,0,1111]
[12,2619,14,2625,13,2646,14,2664,null,null,0,1111,null,"Total Target Seq"]
[12,2761,14,2768,13,2773,14,2778,null,null,0,1111,null,{"$f":"COUNTIF(L7:L203,G3)","v":0},null,33,33,32,33,33,33]
[21,2889,21,2894,22,2905,23,2917,null,null,0,2222,null,null,null,"% of reinforcement given in 6 equal intervals based on number of trials "]
[12,3019,14,3024,13,3030,14,3035,null,null,0,1111,null,null,null,"%_1","%_2","%_3","%_4","%_5","%_6"]
[12,3140,14,3144,13,3150,14,3155,null,null,0,1111,null,null,"target sequence",{"$f":"$G$3","v":2212},{"$f":"$G$3","v":2212},{"$f":"$G$3","v":2212},{"$f":"$G$3","v":2212},{"$f":"$G$3","v":2212},{"$f":"$G$3","v":2212}]
[12,3256,14,3261,13,3266,14,3272,null,null,0,1111,null,null,"total reinforcement",{"$f":"U20","v":0},{"$f":"Z20","v":0},{"$f":"AE20","v":0},{"$f":"AJ20","v":0},{"$f":"AO20","v":0},{"$f":"AT20","v":0}]
[12,3370,14,3375,13,3381,14,3389,null,null,0,1111,null,null,"% target"]
[12,3492,14,3499,13,3506,14,3514,null,null,0,1111,null,null,"CCRF"]
[12,3622,14,3628,13,3633,14,3641,null,null,0,1111,null,null,"% CCRf"]
[12,3747,14,3753,13,3758,14,3764,null,null,0,1111,null,null,"average response rate",{"$f":"H39/P28","v":125.27272727272727},{"$f":"(H72-H39)/Q28","v":117.42424242424242},{"$f":"(H104-H72)/R28","v":117.84375},{"$f":"(H137-H104)/S28","v":123.84848484848484},{"$f":"(H170-H137)/T28","v":127.33333333333333},{"$f":"(H203-H170)/U28","v":-608.15151515151513}]
[12,3869,14,3876,13,3886,14,3894,null,null,0,1111]
[12,3994,14,4000,13,4006,14,4011,null,null,0,1111]
[12,4116,14,4123,13,4129,14,4134,null,null,0,1111]
[12,4237,14,4243,13,4248,14,4257,null,null,0,1111]
[12,4354,14,4360,13,4365,14,4373,null,null,0,1111]
[12,4472,14,4477,13,4483,14,4488,null,null,0,1111]
[12,4591,14,4596,13,4601,14,4613,null,null,0,1111]
[12,4708,14,4713,13,4718,14,4723,null,null,0,1111]
[12,4822,14,4827,13,4832,14,4837,null,null,0,1111]
[12,4933,14,4938,13,4943,14,4956,null,null,0,1111]
[12,5057,14,5062,13,5067,14,5071,null,null,0,1111]
[12,5174,14,5181,13,5186,14,5196,null,null,0,1111]
[12,5303,14,5308,13,5314,14,5319,null,null,0,1111]
[12,5417,14,5423,13,5428,14,5437,null,null,0,1111]
[12,5535,14,5543,13,5547,14,5553,null,null,0,1111]
[12,5655,14,5661,13,5668,14,5674,null,null,0,1111]
[12,5775,14,5781,13,5786,14,5794,null,null,0,1111]
[12,5895,14,5901,13,5905,14,5911,null,null,0,1111]
[12,6014,14,6020,13,6029,14,6038,null,null,0,1111]
[12,6138,14,6144,13,6149,14,6154,null,null,0,1111]
[12,6248,14,6255,13,6261,14,6266,null,null,0,1111]
[12,6362,14,6367,13,6372,14,6381,null,null,0,1111]
[12,6478,14,6484,13,6488,14,6493,null,null,0,1111]
[12,6592,14,6597,13,6602,14,6607,null,null,0,1111]
[12,6704,14,6709,13,6714,14,6723,null,null,0,1111]
[12,6821,14,6828,13,6834,14,6839,null,null,0,1111]
[12,6935,14,6944,13,6949,14,6957,null,null,0,1111]
[12,7050,14,7058,13,7066,14,7075,null,null,0,1111]
[12,7180,14,7186,13,7190,14,7196,null,null,0,1111]
[12,7294,14,7299,13,7300,14,7304,null,null,0,1111]
[12,7402,14,7407,13,7413,14,7418,null,null,0,1111]
[12,7523,14,7528,13,7533,14,7538,null,null,0,1111]
[12,7636,14,7641,13,7647,14,7655,null,null,0,1111]
[12,7752,14,7758,13,7763,14,7767,null,null,0,1111]
[12,7869,14,7875,13,7880,14,7893,null,null,0,1111]
[12,7991,14,7995,13,8000,14,8009,null,null,0,1111]
[12,8107,14,8112,13,8117,14,8144,null,null,0,1111]
[12,8243,14,8247,13,8253,14,8257,null,null,0,1111]
[12,8359,14,8366,13,8370,14,8376,null,null,0,1111]
[12,8472,14,8478,13,8483,14,8487,null,null,0,1111]
[12,8586,14,8591,13,8596,14,8601,null,null,0,1111]
[12,8703,14,8708,13,8712,14,8717,null,null,0,1111]
[12,8815,14,8820,13,8825,14,8833,null,null,0,1111]
[12,8935,14,8940,13,8945,14,8950,null,null,0,1111]
[12,9046,14,9051,13,9056,14,9068,null,null,0,1111]
[12,9162,14,9168,13,9174,14,9179,null,null,0,1111]
[12,9281,14,9287,13,9293,14,9298,null,null,0,1111]
[12,9397,14,9402,13,9407,14,9413,null,null,0,1111]
[12,9510,14,9515,13,9523,14,9531,null,null,0,1111]
[12,9627,14,9633,13,9640,14,9649,null,null,0,1111]
[12,9748,14,9753,13,9759,14,9768,null,null,0,1111]
[12,9863,14,9868,13,9872,14,9878,null,null,0,1111]
[12,9978,14,9987,13,9991,14,9999,null,null,0,1111]
[12,10098,14,10106,13,10112,14,10117,null,null,0,1111]
[12,10218,14,10223,13,10228,14,10233,null,null,0,1111]
[12,10334,14,10340,13,10345,14,10350,null,null,0,1111]
[12,10448,14,10453,13,10457,14,10465,null,null,0,1111]
[12,10567,14,10572,13,10577,14,10582,null,null,0,1111]
[12,10675,14,10680,13,10685,14,10690,null,null,0,1111]
[12,10793,14,10804,13,10809,14,10819,null,null,0,1111]
[12,10919,14,10924,13,10928,14,10933,null,null,0,1111]
[12,11035,14,11040,13,11045,14,11051,null,null,0,1111]
[12,11156,14,11164,13,11169,14,11174,null,null,0,1111]
[12,11271,14,11277,13,11282,14,11292,null,null,0,1111]
[12,11383,14,11388,13,11394,14,11410,null,null,0,1111]
[12,11508,14,11513,13,11522,14,11531,null,null,0,1111]
[12,11632,14,11640,13,11646,14,11655,null,null,0,1111]
[12,11761,14,11766,13,11772,14,11780,null,null,0,1111]
[12,11874,14,11882,13,11887,14,11893,null,null,0,1111]
[12,11991,14,11996,13,12001,14,12006,null,null,0,1111]
[12,12104,14,12109,13,12114,14,12122,null,null,0,1111]
[12,12222,14,12228,13,12233,14,12239,null,null,0,1111]
[12,12337,14,12342,13,12347,14,12352,null,null,0,1111]
[12,12449,14,12455,13,12460,14,12470,null,null,0,1111]
[12,12570,14,12572,13,12576,14,12582,null,null,0,1111]
[12,12680,14,12686,13,12694,14,12702,null,null,0,1111]
[12,12801,14,12809,13,12814,14,12819,null,null,0,1111]
[12,12917,14,12923,13,12927,14,12933,null,null,0,1111]
[12,13033,14,13040,13,13044,14,13049,null,null,0,1111]
[12,13151,14,13156,13,13161,14,13167,null,null,0,1111]
[12,13269,14,13273,13,13278,14,13283,null,null,0,1111]
[12,13381,14,13386,13,13393,14,13402,null,null,0,1111]
[12,13493,14,13497,13,13502,14,13507,null,null,0,1111]
[12,13615,14,13620,13,13625,14,13629,null,null,0,1111]
[12,13723,14,13729,13,13734,14,13739,null,null,0,1111]
[12,13840,14,13846,13,13851,14,13859,null,null,0,1111]
[12,13967,14,13973,13,13979,14,13985,null,null,0,1111]
[12,14084,14,14090,13,14095,14,14101,null,null,0,1111]
[12,14204,14,14210,13,14215,14,14221,null,null,0,1111]
[12,14319,14,14329,13,14333,14,14348,null,null,0,1111]
[12,14448,14,14453,13,14458,14,14463,null,null,0,1111]
[12,14560,14,14566,13,14580,14,14602,null,null,0,1111]
[12,14715,14,14720,13,14725,14,14735,null,null,0,1111]
[12,14835,14,14840,13,14845,14,14851,null,null,0,1111]
[12,14952,14,14959,13,14964,14,14970,null,null,0,1111]
[12,15172,14,15179,13,15188,14,15208,null,null,0,1111]
[12,15305,14,15311,13,15317,14,15326,null,null,0,1111]
[12,15420,14,15430,13,15437,14,15467,null,null,0,1111]
[12,15569,14,15575,13,15614,14,15637,null,null,0,1111]
[12,15735,14,15740,13,15746,14,15752,null,null,0,1111]
[12,15848,14,15853,13,15858,14,15867,null,null,0,1111]
[12,15965,14,15971,13,15978,14,15985,null,null,0,1111]
[12,16089,14,16098,13,16104,14,16112,null,null,0,1111]
[12,16225,14,16231,13,16237,14,16246,null,null,0,1111]
[12,16344,14,16349,13,16355,14,16361,null,null,0,1111]
[12,16472,14,16479,13,16486,14,16497,null,null,0,1111]
[12,16602,14,16607,13,16612,14,16624,null,null,0,1111]
[12,16735,14,16740,13,16745,14,16751,null,null,0,1111]
[12,16860,14,16865,13,16870,14,16878,null,null,0,1111]
[12,16974,14,16979,13,16984,14,16989,null,null,0,1111]
[12,17086,14,17092,13,17096,14,17101,null,null,0,1111]
[12,17208,14,17213,13,17218,14,17224,null,null,0,1111]
[12,17320,14,17326,13,17332,14,17341,null,null,0,1111]
[12,17446,14,17451,13,17457,14,17472,null,null,0,1111]
[12,17573,14,17578,13,17582,14,17588,null,null,0,1111]
[12,17834,14,17839,13,17845,14,17854,null,null,0,1111]
[12,18020,14,18029,13,18035,14,18052,null,null,0,1111]
[12,18142,14,18147,13,18153,14,18162,null,null,0,1111]
[12,18262,14,18268,13,18274,14,18283,null,null,0,1111]
[12,18380,14,18385,13,18391,14,18401,null,null,0,1111]
[12,18500,14,18508,13,18517,14,18539,null,null,0,1111]
[12,18637,14,18644,13,18649,14,18655,null,null,0,1111]
[12,18760,14,18766,13,18771,14,18777,null,null,0,1111]
[12,18876,14,18880,13,18886,14,18891,null,null,0,1111]
[12,18985,14,18991,13,18996,14,19000,null,null,0,1111]
[12,19098,14,19104,13,19109,14,19117,null,null,0,1111]
[12,19221,14,19226,13,19238,14,19244,null,null,0,1111]
[12,19345,14,19351,13,19355,14,19360,null,null,0,1111]
[12,19464,14,19470,13,19475,14,19479,null,null,0,1111]
[12,19572,14,19578,13,19583,14,19589,null,null,0,1111]
[12,19687,14,19697,13,19701,14,19706,null,null,0,1111]
[12,19810,14,19815,13,19820,14,19826,null,null,0,1111]
[12,19923,14,19929,13,19934,14,19938,null,null,0,1111]
[12,20050,14,20054,13,20060,14,20069,null,null,0,1111]
[12,20172,14,20177,13,20182,14,20187,null,null,0,1111]
[12,20288,14,20307,13,20313,14,20323,null,null,0,1111]
[12,20445,14,20451,13,20460,14,20469,null,null,0,1111]
[12,20573,14,20578,13,20583,14,20587,null,null,0,1111]
[12,20688,14,20693,13,20698,14,20705,null,null,0,1111]
[12,20803,14,20808,13,20813,14,20819,null,null,0,1111]
[12,20919,14,20924,13,20929,14,20937,null,null,0,1111]
[12,21027,14,21032,13,21041,14,21048,null,null,0,1111]
[12,21143,14,21149,13,21153,14,21157,null,null,0,1111]
[12,21263,14,21275,13,21280,14,21289,null,null,0,1111]
[12,21379,14,21385,13,21390,14,21395,null,null,0,1111]
[12,21502,14,21507,13,21511,14,21516,null,null,0,1111]
[12,21614,14,21619,13,21624,14,21630,null,null,0,1111]
[12,21728,14,21737,13,21742,14,21748,null,null,0,1111]
[12,21848,14,21853,13,21858,14,21868,null,null,0,1111]
[12,21963,14,21967,13,21972,14,21977,null,null,0,1111]
[12,22076,14,22083,13,22088,14,22096,null,null,0,1111]
[12,22192,14,22197,13,22202,14,22207,null,null,0,1111]
[12,22326,14,22332,13,22337,14,22346,null,null,0,1111]
[12,22441,14,22447,13,22451,14,22457,null,null,0,1111]
[12,22570,14,22575,13,22580,14,22586,null,null,0,1111]
[12,22687,14,22692,13,22698,14,22703,null,null,0,1111]
[12,22794,14,22799,13,22805,14,22811,null,null,0,1111]
[12,22913,14,22918,13,22923,14,22928,null,null,0,1111]
[12,23029,14,23035,13,23040,14,23045,null,null,0,1111]
[12,23143,14,23149,13,23154,14,23163,null,null,0,1111]
[12,23258,14,23264,13,23269,14,23276,null,null,0,1111]
[12,23373,14,23378,13,23383,14,23390,null,null,0,1111]
[12,23502,14,23507,13,23513,14,23521,null,null,0,1111]
[12,23628,14,23633,13,23637,14,23642,null,null,0,1111]
[12,23749,14,23753,13,23758,14,23763,null,null,0,1111]
[12,23872,14,23877,13,23882,14,23887,null,null,0,1111]
[12,23985,14,23990,13,23996,null,null,null,null,null,111]

{"sheet":"!L922C40.056","index":25,"n_rows":205,"n_cols":48,"rows_kept":205,"cut":false,"hidden":false,"merged":[[4,39,4,42],[5,39,5,40],[4,44,4,47],[5,44,5,45],[4,24,4,27],[5,24,5,25],[4,29,4,32],[5,29,5,30],[4,34,4,37],[5,34,5,35],[1,1,1,2],[5,13,5,14],[26,13,26,14],[27,13,27,14],[4,19,4,22],[5,19,5,20]]}
["Report for:!L922C40.056"]
["Date:","<date>"]
["Hen:","<hen>",null,null,null,"Correct Sequence",{"$f":"Start!J2","v":2212},null,null,null,null,null,null,null,null,"Total Sequences in Data",{"$f":"4994-COUNTBLANK(L7:L5000)","v":199},null,null,null,null,"Total Sequences in Block Data",{"$f":"COUNTA(L7:L39)","v":33},null,null,null,"Total Sequences in Block Data",{"$f":"COUNTA(L40:L72)","v":33},null,null,null,"Total Sequences in Block Data",{"$f":"COUNTA(L73:L106)","v":34},null,null,null,"Total Sequences in Block Data",{"$f":"COUNTA(L107:L139)","v":33},null,null,null,"Total Sequences in Block Data",{"$f":"COUNTA(L140:L172)","v":33},null,null,null,"Total Sequences in Block Data",{"$f":"COUNTA(L173:L205)","v":33}]
[null,null,null,null,null,null,null,null,null,null,null,null,null,null,null,"Total Sequences in Summary",{"$f":"SUM(O7:O22)","v":199},null,null,null,null,"Total Sequences in Block Summary",{"$f":"SUM(U7:U22)","v":33},null,null,null,"Total Sequences in Block Summary",{"$f":"SUM(Z7:Z22)","v":33},null,null,null,"Total Sequences in Block Summary",{"$f":"SUM(AE7:AE22)","v":34},null,null,null,"Total Sequences in Block Summary",{"$f":"SUM(AJ7:AJ22)","v":33},null,null,null,"Total Sequences in Block Summary",{"$f":"SUM(AO7:AO22)","v":33},null,null,null,"Total Sequences in Block Summary",{"$f":"SUM(AT7:AT22)","v":33}]
[null,null,null,null,null,null,null,null,null,null,null,null,null,null,null,null,null,null,null,"Block 1",null,null,null,null,"Block 2",null,null,null,null,"Block 3",null,null,null,null,"Block 4",null,null,null,null,"Block 5",null,null,null,null,"Block 6"]
["Sequence\nComponent\n1","Time\n1","Sequence\nComponent\n2","Time\n2","Sequence\nComponent\n3","Time\n3","Sequence\nComponent\n4","Time\n4","Sequence\nComponent\n5","Time\n5","Correct?\n0=No 1=Yes","Sequence",null,"Frequency",null,"Relative Frequency","Variability",null,null,"Frequency",null,"Relative Frequency","Variability",null,"Frequency",null,"Relative Frequency","Variability",null,"Frequency",null,"Relative Frequency","Variability",null,"Frequency",null,"Relative Frequency","Variability",null,"Frequency",null,"Relative Frequency","Variability",null,"Frequency",null,"Relative Frequency","Variability"]
[21,14,12,28,13,34,14,44,null,null,0,2111,null,1111,{"$f":"COUNTIF($L$7:$L$500,N7)","v":196},{"$f":"O7/$Q$4","v":0.98492462311557794},{"$f":"IF(P7=0,0,(P7*((LOG(P7))/LOG(2))))","v":-2.1584402914443968E-2},null,null,{"$f":"N7","v":1111},{"$f":"COUNTIF(L7:L39,T7)","v":31},{"$f":"U7/(W4-U20)","v":0.93939393939393945},{"$f":"IF(V7=0,0,(V7*((LOG(V7))/LOG(2))))","v":-8.4731275094512809E-2},null,{"$f":"N7","v":1111},{"$f":"COUNTIF(L40:L72,Y7)","v":33},{"$f":"Z7/(AB4-Z20)","v":1},{"$f":"IF(AA7=0,0,(AA7*((LOG(AA7))/LOG(2))))","v":0},null,{"$f":"N7","v":1111},{"$f":"COUNTIF(L73:L106,AD7)","v":34},{"$f":"AE7/(AG4-AE20)","v":1},{"$f":"IF(AF7=0,0,(AF7*((LOG(AF7))/LOG(2))))","v":0},null,{"$f":"N7","v":1111},{"$f":"COUNTIF(L107:L139,AI7)","v":33},{"$f":"AJ7/(AL4-AJ20)","v":1},{"$f":"IF(AK7=0,0,(AK7*((LOG(AK7))/LOG(2))))","v":0},null,{"$f":"N7","v":1111},{"$f":"COUNTIF(L140:L172,AN7)","v":33},{"$f":"AO7/(AQ4-AO20)","v":1},{"$f":"IF(AP7=0,0,(AP7*((LOG(AP7))/LOG(2))))","v":0},null,{"$f":"N7","v":1111},{"$f":"COUNTIF(L173:L205,AS7)","v":32},{"$f":"AT7/(AV4-AT20)","v":0.96969696969696972},{"$f":"IF(AU7=0,0,(AU7*((LOG(AU7))/LOG(2))))","v":-4.3048843014257841E-2}]
[21,148,12,162,13,172,14,185,null,null,0,2111,null,1112,{"$f":"COUNTIF($L$7:$L$500,N8)","v":0},{"$f":"O8/$Q$4","v":0},{"$f":"IF(P8=0,0,(P8*((LOG(P8))/LOG(2))))","v":0},null,null,{"$f":"N8","v":1112},{"$f":"COUNTIF(L7:L39,T8)","v":0},{"$f":"U8/(W4-U20)","v":0},{"$f":"IF(V8=0,0,(V8*((LOG(V8))/LOG(2))))","v":0},null,{"$f":"N8","v":1112},{"$f":"COUNTIF(L40:L72,Y8)","v":0},{"$f":"Z8/(AB4-Z20)","v":0},{"$f":"IF(AA8=0,0,(AA8*((LOG(AA8))/LOG(2))))","v":0},null,{"$f":"N8","v":1112},{"$f":"COUNTIF(L73:L106,AD8)","v":0},{"$f":"AE8/(AG4-AE20)","v":0},{"$f":"IF(AF8=0,0,(AF8*((LOG(AF8))/LOG(2))))","v":0},null,{"$f":"N8","v":1112},{"$f":"COUNTIF(L107:L139,AI8)","v":0},{"$f":"AJ8/(AL4-AJ20)","v":0},{"$f":"IF(AK8=0,0,(AK8*((LOG(AK8))/LOG(2))))","v":0},null,{"$f":"N8","v":1112},{"$f":"COUNTIF(L140:L172,AN8)","v":0},{"$f":"AO8/(AQ4-AO20)","v":0},{"$f":"IF(AP8=0,0,(AP8*((LOG(AP8))/LOG(2))))","v":0},null,{"$f":"N8","v":1112},{"$f":"COUNTIF(L173:L205,AS8)","v":0},{"$f":"AT8/(AV4-AT20)","v":0},{"$f":"IF(AU8=0,0,(AU8*((LOG(AU8))/LOG(2))))","v":0}]
[12,292,14,299,13,304,14,312,null,null,0,1111,null,1121,{"$f":"COUNTIF($L$7:$L$500,N9)","v":0},{"$f":"O9/$Q$4","v":0},{"$f":"IF(P9=0,0,(P9*((LOG(P9))/LOG(2))))","v":0},null,null,{"$f":"N9","v":1121},{"$f":"COUNTIF(L7:L39,T9)","v":0},{"$f":"U9/(W4-U20)","v":0},{"$f":"IF(V9=0,0,(V9*((LOG(V9))/LOG(2))))","v":0},null,{"$f":"N9","v":1121},{"$f":"COUNTIF(L40:L72,Y9)","v":0},{"$f":"Z9/(AB4-Z20)","v":0},{"$f":"IF(AA9=0,0,(AA9*((LOG(AA9))/LOG(2))))","v":0},null,{"$f":"N9","v":1121},{"$f":"COUNTIF(L73:L106,AD9)","v":0},{"$f":"AE9/(AG4-AE20)","v":0},{"$f":"IF(AF9=0,0,(AF9*((LOG(AF9))/LOG(2))))","v":0},null,{"$f":"N9","v":1121},{"$f":"COUNTIF(L107:L139,AI9)","v":0},{"$f":"AJ9/(AL4-AJ20)","v":0},{"$f":"IF(AK9=0,0,(AK9*((LOG(AK9))/LOG(2))))","v":0},null,{"$f":"N9","v":1121},{"$f":"COUNTIF(L140:L172,AN9)","v":0},{"$f":"AO9/(AQ4-AO20)","v":0},{"$f":"IF(AP9=0,0,(AP9*((LOG(AP9))/LOG(2))))","v":0},null,{"$f":"N9","v":1121},{"$f":"COUNTIF(L173:L205,AS9)","v":0},{"$f":"AT9/(AV4-AT20)","v":0},{"$f":"IF(AU9=0,0,(AU9*((LOG(AU9))/LOG(2))))","v":0}]
[12,539,14,545,13,554,14,568,null,null,0,1111,null,1122,{"$f":"COUNTIF($L$7:$L$500,N10)","v":0},{"$f":"O10/$Q$4","v":0},{"$f":"IF(P10=0,0,(P10*((LOG(P10))/LOG(2))))","v":0},null,null,{"$f":"N10","v":1122},{"$f":"COUNTIF(L7:L39,T10)","v":0},{"$f":"U10/(W4-U20)","v":0},{"$f":"IF(V10=0,0,(V10*((LOG(V10))/LOG(2))))","v":0},null,{"$f":"N10","v":1122},{"$f":"COUNTIF(L40:L72,Y10)","v":0},{"$f":"Z10/(AB4-Z20)","v":0},{"$f":"IF(AA10=0,0,(AA10*((LOG(AA10))/LOG(2))))","v":0},null,{"$f":"N10","v":1122},{"$f":"COUNTIF(L73:L106,AD10)","v":0},{"$f":"AE10/(AG4-AE20)","v":0},{"$f":"IF(AF10=0,0,(AF10*((LOG(AF10))/LOG(2))))","v":0},null,{"$f":"N10","v":1122},{"$f":"COUNTIF(L107:L139,AI10)","v":0},{"$f":"AJ10/(AL4-AJ20)","v":0},{"$f":"IF(AK10=0,0,(AK10*((LOG(AK10))/LOG(2))))","v":0},null,{"$f":"N10","v":1122},{"$f":"COUNTIF(L140:L172,AN10)","v":0},{"$f":"AO10/(AQ4-AO20)","v":0},{"$f":"IF(AP10=0,0,(AP10*((LOG(AP10))/LOG(2))))","v":0},null,{"$f":"N10","v":1122},{"$f":"COUNTIF(L173:L205,AS10)","v":0},{"$f":"AT10/(AV4-AT20)","v":0},{"$f":"IF(AU10=0,0,(AU10*((LOG(AU10))/LOG(2))))","v":0}]
[12,674,14,680,13,685,14,693,null,null,0,1111,null,1211,{"$f":"COUNTIF($L$7:$L$500,N11)","v":0},{"$f":"O11/$Q$4","v":0},{"$f":"IF(P11=0,0,(P11*((LOG(P11))/LOG(2))))","v":0},null,null,{"$f":"N11","v":1211},{"$f":"COUNTIF(L7:L39,T11)","v":0},{"$f":"U11/(W4-U20)","v":0},{"$f":"IF(V11=0,0,(V11*((LOG(V11))/LOG(2))))","v":0},null,{"$f":"N11","v":1211},{"$f":"COUNTIF(L40:L72,Y11)","v":0},{"$f":"Z11/(AB4-Z20)","v":0},{"$f":"IF(AA11=0,0,(AA11*((LOG(AA11))/LOG(2))))","v":0},null,{"$f":"N11","v":1211},{"$f":"COUNTIF(L73:L106,AD11)","v":0},{"$f":"AE11/(AG4-AE20)","v":0},{"$f":"IF(AF11=0,0,(AF11*((LOG(AF11))/LOG(2))))","v":0},null,{"$f":"N11","v":1211},{"$f":"COUNTIF(L107:L139,AI11)","v":0},{"$f":"AJ11/(AL4-AJ20)","v":0},{"$f":"IF(AK11=0,0,(AK11*((LOG(AK11))/LOG(2))))","v":0},null,{"$f":"N11","v":1211},{"$f":"COUNTIF(L140:L172,AN11)","v":0},{"$f":"AO11/(AQ4-AO20)","v":0},{"$f":"IF(AP11=0,0,(AP11*((LOG(AP11))/LOG(2))))","v":0},null,{"$f":"N11","v":1211},{"$f":"COUNTIF(L173:L205,AS11)","v":0},{"$f":"AT11/(AV4-AT20)","v":0},{"$f":"IF(AU11=0,0,(AU11*((LOG(AU11))/LOG(2))))","v":0}]
[12,803,14,808,13,814,14,822,null,null,0,1111,null,1212,{"$f":"COUNTIF($L$7:$L$500,N12)","v":0},{"$f":"O12/$Q$4","v":0},{"$f":"IF(P12=0,0,(P12*((LOG(P12))/LOG(2))))","v":0},null,null,{"$f":"N12","v":1212},{"$f":"COUNTIF(L7:L39,T12)","v":0},{"$f":"U12/(W4-U20)","v":0},{"$f":"IF(V12=0,0,(V12*((LOG(V12))/LOG(2))))","v":0},null,{"$f":"N12","v":1212},{"$f":"COUNTIF(L40:L72,Y12)","v":0},{"$f":"Z12/(AB4-Z20)","v":0},{"$f":"IF(AA12=0,0,(AA12*((LOG(AA12))/LOG(2))))","v":0},null,{"$f":"N12","v":1212},{"$f":"COUNTIF(L73:L106,AD12)","v":0},{"$f":"AE12/(AG4-AE20)","v":0},{"$f":"IF(AF12=0,0,(AF12*((LOG(AF12))/LOG(2))))","v":0},null,{"$f":"N12","v":1212},{"$f":"COUNTIF(L107:L139,AI12)","v":0},{"$f":"AJ12/(AL4-AJ20)","v":0},{"$f":"IF(AK12=0,0,(AK12*((LOG(AK12))/LOG(2))))","v":0},null,{"$f":"N12","v":1212},{"$f":"COUNTIF(L140:L172,AN12)","v":0},{"$f":"AO12/(AQ4-AO20)","v":0},{"$f":"IF(AP12=0,0,(AP12*((LOG(AP12))/LOG(2))))","v":0},null,{"$f":"N12","v":1212},{"$f":"COUNTIF(L173:L205,AS12)","v":0},{"$f":"AT12/(AV4-AT20)","v":0},{"$f":"IF(AU12=0,0,(AU12*((LOG(AU12))/LOG(2))))","v":0}]
[12,934,14,939,13,944,14,952,null,null,0,1111,null,1221,{"$f":"COUNTIF($L$7:$L$500,N13)","v":0},{"$f":"O13/$Q$4","v":0},{"$f":"IF(P13=0,0,(P13*((LOG(P13))/LOG(2))))","v":0},null,null,{"$f":"N13","v":1221},{"$f":"COUNTIF(L7:L39,T13)","v":0},{"$f":"U13/(W4-U20)","v":0},{"$f":"IF(V13=0,0,(V13*((LOG(V13))/LOG(2))))","v":0},null,{"$f":"N13","v":1221},{"$f":"COUNTIF(L40:L72,Y13)","v":0},{"$f":"Z13/(AB4-Z20)","v":0},{"$f":"IF(AA13=0,0,(AA13*((LOG(AA13))/LOG(2))))","v":0},null,{"$f":"N13","v":1221},{"$f":"COUNTIF(L73:L106,AD13)","v":0},{"$f":"AE13/(AG4-AE20)","v":0},{"$f":"IF(AF13=0,0,(AF13*((LOG(AF13))/LOG(2))))","v":0},null,{"$f":"N13","v":1221},{"$f":"COUNTIF(L107:L139,AI13)","v":0},{"$f":"AJ13/(AL4-AJ20)","v":0},{"$f":"IF(AK13=0,0,(AK13*((LOG(AK13))/LOG(2))))","v":0},null,{"$f":"N13","v":1221},{"$f":"COUNTIF(L140:L172,AN13)","v":0},{"$f":"AO13/(AQ4-AO20)","v":0},{"$f":"IF(AP13=0,0,(AP13*((LOG(AP13))/LOG(2))))","v":0},null,{"$f":"N13","v":1221},{"$f":"COUNTIF(L173:L205,AS13)","v":0},{"$f":"AT13/(AV4-AT20)","v":0},{"$f":"IF(AU13=0,0,(AU13*((LOG(AU13))/LOG(2))))","v":0}]
[12,1058,14,1064,13,1069,14,1075,null,null,0,1111,null,1222,{"$f":"COUNTIF($L$7:$L$500,N14)","v":0},{"$f":"O14/$Q$4","v":0},{"$f":"IF(P14=0,0,(P14*((LOG(P14))/LOG(2))))","v":0},null,null,{"$f":"N14","v":1222},{"$f":"COUNTIF(L7:L39,T14)","v":0},{"$f":"U14/(W4-U20)","v":0},{"$f":"IF(V14=0,0,(V14*((LOG(V14))/LOG(2))))","v":0},null,{"$f":"N14","v":1222},{"$f":"COUNTIF(L40:L72,Y14)","v":0},{"$f":"Z14/(AB4-Z20)","v":0},{"$f":"IF(AA14=0,0,(AA14*((LOG(AA14))/LOG(2))))","v":0},null,{"$f":"N14","v":1222},{"$f":"COUNTIF(L73:L106,AD14)","v":0},{"$f":"AE14/(AG4-AE20)","v":0},{"$f":"IF(AF14=0,0,(AF14*((LOG(AF14))/LOG(2))))","v":0},null,{"$f":"N14","v":1222},{"$f":"COUNTIF(L107:L139,AI14)","v":0},{"$f":"AJ14/(AL4-AJ20)","v":0},{"$f":"IF(AK14=0,0,(AK14*((LOG(AK14))/LOG(2))))","v":0},null,{"$f":"N14","v":1222},{"$f":"COUNTIF(L140:L172,AN14)","v":0},{"$f":"AO14/(AQ4-AO20)","v":0},{"$f":"IF(AP14=0,0,(AP14*((LOG(AP14))/LOG(2))))","v":0},null,{"$f":"N14","v":1222},{"$f":"COUNTIF(L173:L205,AS14)","v":0},{"$f":"AT14/(AV4-AT20)","v":0},{"$f":"IF(AU14=0,0,(AU14*((LOG(AU14))/LOG(2))))","v":0}]
[12,1168,14,1174,13,1180,14,1190,null,null,0,1111,null,2111,{"$f":"COUNTIF($L$7:$L$500,N15)","v":2},{"$f":"O15/$Q$4","v":1.0050251256281407E-2},{"$f":"IF(P15=0,0,(P15*((LOG(P15))/LOG(2))))","v":-6.6699744930086929E-2},null,null,{"$f":"N15","v":2111},{"$f":"COUNTIF(L7:L39,T15)","v":2},{"$f":"U15/(W4-U20)","v":6.0606060606060608E-2},{"$f":"IF(V15=0,0,(V15*((LOG(V15))/LOG(2))))","v":-0.24511479511263354},null,{"$f":"N15","v":2111},{"$f":"COUNTIF(L40:L72,Y15)","v":0},{"$f":"Z15/(AB4-Z20)","v":0},{"$f":"IF(AA15=0,0,(AA15*((LOG(AA15))/LOG(2))))","v":0},null,{"$f":"N15","v":2111},{"$f":"COUNTIF(L73:L106,AD15)","v":0},{"$f":"AE15/(AG4-AE20)","v":0},{"$f":"IF(AF15=0,0,(AF15*((LOG(AF15))/LOG(2))))","v":0},null,{"$f":"N15","v":2111},{"$f":"COUNTIF(L107:L139,AI15)","v":0},{"$f":"AJ15/(AL4-AJ20)","v":0},{"$f":"IF(AK15=0,0,(AK15*((LOG(AK15))/LOG(2))))","v":0},null,{"$f":"N15","v":2111},{"$f":"COUNTIF(L140:L172,AN15)","v":0},{"$f":"AO15/(AQ4-AO20)","v":0},{"$f":"IF(AP15=0,0,(AP15*((LOG(AP15))/LOG(2))))","v":0},null,{"$f":"N15","v":2111},{"$f":"COUNTIF(L173:L205,AS15)","v":0},{"$f":"AT15/(AV4-AT20)","v":0},{"$f":"IF(AU15=0,0,(AU15*((LOG(AU15))/LOG(2))))","v":0}]
[12,1302,14,1307,13,1312,14,1318,null,null,0,1111,null,2112,{"$f":"COUNTIF($L$7:$L$500,N16)","v":0},{"$f":"O16/$Q$4","v":0},{"$f":"IF(P16=0,0,(P16*((LOG(P16))/LOG(2))))","v":0},null,null,{"$f":"N16","v":2112},{"$f":"COUNTIF(L7:L39,T16)","v":0},{"$f":"U16/(W4-U20)","v":0},{"$f":"IF(V16=0,0,(V16*((LOG(V16))/LOG(2))))","v":0},null,{"$f":"N16","v":2112},{"$f":"COUNTIF(L40:L72,Y16)","v":0},{"$f":"Z16/(AB4-Z20)","v":0},{"$f":"IF(AA16=0,0,(AA16*((LOG(AA16))/LOG(2))))","v":0},null,{"$f":"N16","v":2112},{"$f":"COUNTIF(L73:L106,AD16)","v":0},{"$f":"AE16/(AG4-AE20)","v":0},{"$f":"IF(AF16=0,0,(AF16*((LOG(AF16))/LOG(2))))","v":0},null,{"$f":"N16","v":2112},{"$f":"COUNTIF(L107:L139,AI16)","v":0},{"$f":"AJ16/(AL4-AJ20)","v":0},{"$f":"IF(AK16=0,0,(AK16*((LOG(AK16))/LOG(2))))","v":0},null,{"$f":"N16","v":2112},{"$f":"COUNTIF(L140:L172,AN16)","v":0},{"$f":"AO16/(AQ4-AO20)","v":0},{"$f":"IF(AP16=0,0,(AP16*((LOG(AP16))/LOG(2))))","v":0},null,{"$f":"N16","v":2112},{"$f":"COUNTIF(L173:L205,AS16)","v":0},{"$f":"AT16/(AV4-AT20)","v":0},{"$f":"IF(AU16=0,0,(AU16*((LOG(AU16))/LOG(2))))","v":0}]
[12,1422,14,1429,13,1434,14,1440,null,null,0,1111,null,2121,{"$f":"COUNTIF($L$7:$L$500,N17)","v":0},{"$f":"O17/$Q$4","v":0},{"$f":"IF(P17=0,0,(P17*((LOG(P17))/LOG(2))))","v":0},null,null,{"$f":"N17","v":2121},{"$f":"COUNTIF(L7:L39,T17)","v":0},{"$f":"U17/(W4-U20)","v":0},{"$f":"IF(V17=0,0,(V17*((LOG(V17))/LOG(2))))","v":0},null,{"$f":"N17","v":2121},{"$f":"COUNTIF(L40:L72,Y17)","v":0},{"$f":"Z17/(AB4-Z20)","v":0},{"$f":"IF(AA17=0,0,(AA17*((LOG(AA17))/LOG(2))))","v":0},null,{"$f":"N17","v":2121},{"$f":"COUNTIF(L73:L106,AD17)","v":0},{"$f":"AE17/(AG4-AE20)","v":0},{"$f":"IF(AF17=0,0,(AF17*((LOG(AF17))/LOG(2))))","v":0},null,{"$f":"N17","v":2121},{"$f":"COUNTIF(L107:L139,AI17)","v":0},{"$f":"AJ17/(AL4-AJ20)","v":0},{"$f":"IF(AK17=0,0,(AK17*((LOG(AK17))/LOG(2))))","v":0},null,{"$f":"N17","v":2121},{"$f":"COUNTIF(L140:L172,AN17)","v":0},{"$f":"AO17/(AQ4-AO20)","v":0},{"$f":"IF(AP17=0,0,(AP17*((LOG(AP17))/LOG(2))))","v":0},null,{"$f":"N17","v":2121},{"$f":"COUNTIF(L173:L205,AS17)","v":0},{"$f":"AT17/(AV4-AT20)","v":0},{"$f":"IF(AU17=0,0,(AU17*((LOG(AU17))/LOG(2))))","v":0}]
[12,1548,14,1552,13,1558,14,1565,null,null,0,1111,null,2122,{"$f":"COUNTIF($L$7:$L$500,N18)","v":0},{"$f":"O18/$Q$4","v":0},{"$f":"IF(P18=0,0,(P18*((LOG(P18))/LOG(2))))","v":0},null,null,{"$f":"N18","v":2122},{"$f":"COUNTIF(L7:L39,T18)","v":0},{"$f":"U18/(W4-U20)","v":0},{"$f":"IF(V18=0,0,(V18*((LOG(V18))/LOG(2))))","v":0},null,{"$f":"N18","v":2122},{"$f":"COUNTIF(L40:L72,Y18)","v":0},{"$f":"Z18/(AB4-Z20)","v":0},{"$f":"IF(AA18=0,0,(AA18*((LOG(AA18))/LOG(2))))","v":0},null,{"$f":"N18","v":2122},{"$f":"COUNTIF(L73:L106,AD18)","v":0},{"$f":"AE18/(AG4-AE20)","v":0},{"$f":"IF(AF18=0,0,(AF18*((LOG(AF18))/LOG(2))))","v":0},null,{"$f":"N18","v":2122},{"$f":"COUNTIF(L107:L139,AI18)","v":0},{"$f":"AJ18/(AL4-AJ20)","v":0},{"$f":"IF(AK18=0,0,(AK18*((LOG(AK18))/LOG(2))))","v":0},null,{"$f":"N18","v":2122},{"$f":"COUNTIF(L140:L172,AN18)","v":0},{"$f":"AO18/(AQ4-AO20)","v":0},{"$f":"IF(AP18=0,0,(AP18*((LOG(AP18))/LOG(2))))","v":0},null,{"$f":"N18","v":2122},{"$f":"COUNTIF(L173:L205,AS18)","v":0},{"$f":"AT18/(AV4-AT20)","v":0},{"$f":"IF(AU18=0,0,(AU18*((LOG(AU18))/LOG(2))))","v":0}]
[12,1667,14,1672,13,1678,14,1687,null,null,0,1111,null,2211,{"$f":"COUNTIF($L$7:$L$500,N19)","v":0},{"$f":"O19/$Q$4","v":0},{"$f":"IF(P19=0,0,(P19*((LOG(P19))/LOG(2))))","v":0},null,null,{"$f":"N19","v":2211},{"$f":"COUNTIF(L7:L39,T19)","v":0},{"$f":"U19/(W4-U20)","v":0},{"$f":"IF(V19=0,0,(V19*((LOG(V19))/LOG(2))))","v":0},null,{"$f":"N19","v":2211},{"$f":"COUNTIF(L40:L72,Y19)","v":0},{"$f":"Z19/(AB4-Z20)","v":0},{"$f":"IF(AA19=0,0,(AA19*((LOG(AA19))/LOG(2))))","v":0},null,{"$f":"N19","v":2211},{"$f":"COUNTIF(L73:L106,AD19)","v":0},{"$f":"AE19/(AG4-AE20)","v":0},{"$f":"IF(AF19=0,0,(AF19*((LOG(AF19))/LOG(2))))","v":0},null,{"$f":"N19","v":2211},{"$f":"COUNTIF(L107:L139,AI19)","v":0},{"$f":"AJ19/(AL4-AJ20)","v":0},{"$f":"IF(AK19=0,0,(AK19*((LOG(AK19))/LOG(2))))","v":0},null,{"$f":"N19","v":2211},{"$f":"COUNTIF(L140:L172,AN19)","v":0},{"$f":"AO19/(AQ4-AO20)","v":0},{"$f":"IF(AP19=0,0,(AP19*((LOG(AP19))/LOG(2))))","v":0},null,{"$f":"N19","v":2211},{"$f":"COUNTIF(L173:L205,AS19)","v":0},{"$f":"AT19/(AV4-AT20)","v":0},{"$f":"IF(AU19=0,0,(AU19*((LOG(AU19))/LOG(2))))","v":0}]
[12,1781,14,1785,13,1791,14,1800,null,null,0,1111,null,2212,{"$f":"COUNTIF($L$7:$L$500,N20)","v":0},{"$f":"O20/$Q$4","v":0},{"$f":"IF(P20=0,0,(P20*((LOG(P20))/LOG(2))))","v":0},null,null,{"$f":"N20","v":2212},{"$f":"COUNTIF(L7:L39,T20)","v":0},null,null,null,{"$f":"N20","v":2212},{"$f":"COUNTIF(L40:L72,Y20)","v":0},null,null,null,{"$f":"N20","v":2212},{"$f":"COUNTIF(L73:L106,AD20)","v":0},null,null,null,{"$f":"N20","v":2212},{"$f":"COUNTIF(L107:L139,AI20)","v":0},null,null,null,{"$f":"N20","v":2212},{"$f":"COUNTIF(L140:L172,AN20)","v":0},null,null,null,{"$f":"N20","v":2212},{"$f":"COUNTIF(L173:L205,AS20)","v":0}]
[12,1908,14,1914,13,1919,14,1925,null,null,0,1111,null,2221,{"$f":"COUNTIF($L$7:$L$500,N21)","v":0},{"$f":"O21/$Q$4","v":0},{"$f":"IF(P21=0,0,(P21*((LOG(P21))/LOG(2))))","v":0},null,null,{"$f":"N21","v":2221},{"$f":"COUNTIF(L7:L39,T21)","v":0},{"$f":"U21/(W4-U20)","v":0},{"$f":"IF(V21=0,0,(V21*((LOG(V21))/LOG(2))))","v":0},null,{"$f":"N21","v":2221},{"$f":"COUNTIF(L40:L72,Y21)","v":0},{"$f":"Z21/(AB4-Z20)","v":0},{"$f":"IF(AA21=0,0,(AA21*((LOG(AA21))/LOG(2))))","v":0},null,{"$f":"N21","v":2221},{"$f":"COUNTIF(L73:L106,AD21)","v":0},{"$f":"AE21/(AG4-AE20)","v":0},{"$f":"IF(AF21=0,0,(AF21*((LOG(AF21))/LOG(2))))","v":0},null,{"$f":"N21","v":2221},{"$f":"COUNTIF(L107:L139,AI21)","v":0},{"$f":"AJ21/(AL4-AJ20)","v":0},{"$f":"IF(AK21=0,0,(AK21*((LOG(AK21))/LOG(2))))","v":0},null,{"$f":"N21","v":2221},{"$f":"COUNTIF(L140:L172,AN21)","v":0},{"$f":"AO21/(AQ4-AO20)","v":0},{"$f":"IF(AP21=0,0,(AP21*((LOG(AP21))/LOG(2))))","v":0},null,{"$f":"N21","v":2221},{"$f":"COUNTIF(L173:L205,AS21)","v":0},{"$f":"AT21/(AV4-AT20)","v":0},{"$f":"IF(AU21=0,0,(AU21*((LOG(AU21))/LOG(2))))","v":0}]
[12,2035,14,2039,13,2044,14,2052,null,null,0,1111,null,2222,{"$f":"COUNTIF($L$7:$L$500,N22)","v":1},{"$f":"O22/$Q$4","v":5.0251256281407036E-3},{"$f":"IF(P22=0,0,(P22*((LOG(P22))/LOG(2))))","v":-3.8374998093184169E-2},null,null,{"$f":"N22","v":2222},{"$f":"COUNTIF(L7:L39,T22)","v":0},{"$f":"U22/(W4-U20)","v":0},{"$f":"IF(V22=0,0,(V22*((LOG(V22))/LOG(2))))","v":0},null,{"$f":"N22","v":2222},{"$f":"COUNTIF(L40:L72,Y22)","v":0},{"$f":"Z22/(AB4-Z20)","v":0},{"$f":"IF(AA22=0,0,(AA22*((LOG(AA22))/LOG(2))))","v":0},null,{"$f":"N22","v":2222},{"$f":"COUNTIF(L73:L106,AD22)","v":0},{"$f":"AE22/(AG4-AE20)","v":0},{"$f":"IF(AF22=0,0,(AF22*((LOG(AF22))/LOG(2))))","v":0},null,{"$f":"N22","v":2222},{"$f":"COUNTIF(L107:L139,AI22)","v":0},{"$f":"AJ22/(AL4-AJ20)","v":0},{"$f":"IF(AK22=0,0,(AK22*((LOG(AK22))/LOG(2))))","v":0},null,{"$f":"N22","v":2222},{"$f":"COUNTIF(L140:L172,AN22)","v":0},{"$f":"AO22/(AQ4-AO20)","v":0},{"$f":"IF(AP22=0,0,(AP22*((LOG(AP22))/LOG(2))))","v":0},null,{"$f":"N22","v":2222},{"$f":"COUNTIF(L173:L205,AS22)","v":1},{"$f":"AT22/(AV4-AT20)","v":3.0303030303030304E-2},{"$f":"IF(AU22=0,0,(AU22*((LOG(AU22))/LOG(2))))","v":-0.15286042785934709}]
[12,2156,14,2163,13,2167,14,2176,null,null,0,1111,null,null,null,{"$f":"SUM(P7:P22)","v":1},{"$f":"-SUM(Q7:Q22)","v":0.12665914593771507},null,null,null,null,{"$f":"SUM(V7:V22)","v":1},{"$f":"-SUM(W7:W22)","v":0.32984607020714635},null,null,null,{"$f":"SUM(AA7:AA22)","v":1},{"$f":"-SUM(AB7:AB22)","v":0},null,null,null,{"$f":"SUM(AF7:AF22)","v":1},{"$f":"-SUM(AG7:AG22)","v":0},null,null,null,{"$f":"SUM(AK7:AK22)","v":1},{"$f":"-SUM(AL7:AL22)","v":0},null,null,null,{"$f":"SUM(AP7:AP22)","v":1},{"$f":"-SUM(AQ7:AQ22)","v":0},null,null,null,{"$f":"SUM(AU7:AU22)","v":1},{"$f":"-SUM(AV7:AV22)","v":0.19590927087360493}]
[12,2279,14,2284,13,2290,14,2295,null,null,0,1111,null,null,null,"U=",{"$f":"Q23/(LOG(Q4)/LOG(2))","v":1.6585749887061782E-2},null,null,null,null,"U1=",{"$f":"W23/(LOG(W4)/LOG(2))","v":6.53886398252118E-2},null,null,null,"U2=",{"$f":"AB23/(LOG(AB4)/LOG(2))","v":0},null,null,null,"U3=",{"$f":"AG23/(LOG(AG4)/LOG(2))","v":0},null,null,null,"U4=",{"$f":"AL23/(LOG(AL4)/LOG(2))","v":0},null,null,null,"U5=",{"$f":"AQ23/(LOG(AQ4)/LOG(2))","v":0},null,null,null,"U6=",{"$f":"AV23/(LOG(AV4)/LOG(2))","v":3.8837027051827726E-2}]
[12,2398,14,2404,13,2411,14,2419,null,null,0,1111]
[12,2523,14,2532,13,2540,14,2553,null,null,0,1111]
[12,2650,14,2656,13,2661,14,2669,null,null,0,1111,null,"Total Target Seq"]
[12,2765,14,2770,13,2775,14,2783,null,null,0,1111,null,{"$f":"COUNTIF(L7:L205,G3)","v":0},null,33,33,34,33,33,33]
[12,2884,14,2889,13,2895,14,2900,null,null,0,1111,null,null,null,"% of reinforcement given in 6 equal intervals based on number of trials "]
[12,3004,14,3010,13,3021,14,3030,null,null,0,1111,null,null,null,"%_1","%_2","%_3","%_4","%_5","%_6"]
[12,3130,14,3136,13,3140,14,3145,null,null,0,1111,null,null,"target sequence",{"$f":"$G$3","v":2212},{"$f":"$G$3","v":2212},{"$f":"$G$3","v":2212},{"$f":"$G$3","v":2212},{"$f":"$G$3","v":2212},{"$f":"$G$3","v":2212}]
[12,3250,14,3255,13,3260,14,3267,null,null,0,1111,null,null,"total reinforcement",{"$f":"U20","v":0},{"$f":"Z20","v":0},{"$f":"AE20","v":0},{"$f":"AJ20","v":0},{"$f":"AO20","v":0},{"$f":"AT20","v":0}]
[12,3370,14,3375,13,3380,14,3388,null,null,0,1111,null,null,"% target"]
[12,3499,14,3503,13,3509,14,3517,null,null,0,1111,null,null,"CCRF"]
[12,3622,14,3629,13,3634,14,3642,null,null,0,1111,null,null,"% CCRf"]
[12,3743,14,3748,13,3753,14,3759,null,null,0,1111,null,null,"average response rate",{"$f":"H39/P28","v":125.81818181818181},{"$f":"(H72-H39)/Q28","v":124.66666666666667},{"$f":"(H106-H72)/R28","v":118.32352941176471},{"$f":"(H139-H106)/S28","v":117.27272727272727},{"$f":"(H172-H139)/T28","v":118.51515151515152},{"$f":"(H205-H172)/U28","v":117.24242424242425}]
[12,3876,14,3881,13,3889,14,3902,null,null,0,1111]
[12,4007,14,4014,13,4019,14,4024,null,null,0,1111]
[12,4132,14,4138,13,4144,14,4152,null,null,0,1111]
[12,4266,14,4270,13,4276,14,4284,null,null,0,1111]
[12,4389,14,4395,13,4399,14,4405,null,null,0,1111]
[12,4512,14,4518,13,4523,14,4535,null,null,0,1111]
[12,4641,14,4646,13,4651,14,4657,null,null,0,1111]
[12,4757,14,4762,13,4767,14,4773,null,null,0,1111]
[12,4880,14,4886,13,4891,14,4898,null,null,0,1111]
[12,5007,14,5013,13,5018,14,5023,null,null,0,1111]
[12,5128,14,5134,13,5140,14,5147,null,null,0,1111]
[12,5252,14,5260,13,5266,14,5287,null,null,0,1111]
[12,5394,14,5400,13,5404,14,5410,null,null,0,1111]
[12,5519,14,5525,13,5530,14,5535,null,null,0,1111]
[12,5636,14,5642,13,5647,14,5651,null,null,0,1111]
[12,5759,14,5764,13,5769,14,5774,null,null,0,1111]
[12,5879,14,5885,13,5891,14,5896,null,null,0,1111]
[12,5993,14,5999,13,6004,14,6012,null,null,0,1111]
[12,6195,14,6201,13,6206,14,6212,null,null,0,1111]
[12,6306,14,6313,13,6318,14,6327,null,null,0,1111]
[12,6428,14,6437,13,6442,14,6453,null,null,0,1111]
[12,6554,14,6560,13,6571,14,6579,null,null,0,1111]
[12,6684,14,6689,13,6694,14,6700,null,null,0,1111]
[12,6802,14,6808,13,6812,14,6818,null,null,0,1111]
[12,6919,14,6925,13,6930,14,6935,null,null,0,1111]
[12,7035,14,7040,13,7046,14,7053,null,null,0,1111]
[12,7153,14,7159,13,7165,14,7171,null,null,0,1111]
[12,7264,14,7273,13,7278,14,7283,null,null,0,1111]
[12,7379,14,7384,13,7398,14,7409,null,null,0,1111]
[12,7513,14,7520,13,7526,14,7537,null,null,0,1111]
[12,7640,14,7645,13,7653,14,7669,null,null,0,1111]
[12,7769,14,7776,13,7781,14,7787,null,null,0,1111]
[12,7885,14,7891,13,7897,14,7902,null,null,0,1111]
[12,7995,14,8000,13,8005,14,8015,null,null,0,1111]
[12,8115,14,8129,13,8141,14,8151,null,null,0,1111]
[12,8251,14,8257,13,8261,14,8266,null,null,0,1111]
[12,8369,14,8375,13,8380,14,8385,null,null,0,1111]
[12,8481,14,8488,13,8493,14,8499,null,null,0,1111]
[12,8597,14,8603,13,8609,14,8614,null,null,0,1111]
[12,8714,14,8720,13,8728,14,8734,null,null,0,1111]
[12,8834,14,8839,13,8848,14,8857,null,null,0,1111]
[12,8952,14,8958,13,8963,14,8968,null,null,0,1111]
[12,9073,14,9081,13,9090,14,9098,null,null,0,1111]
[12,9190,14,9198,13,9204,14,9211,null,null,0,1111]
[12,9306,14,9313,13,9317,14,9322,null,null,0,1111]
[12,9434,14,9439,13,9444,14,9470,null,null,0,1111]
[12,9569,14,9575,13,9580,14,9585,null,null,0,1111]
[12,9680,14,9687,13,9693,14,9699,null,null,0,1111]
[12,9799,14,9805,13,9809,14,9814,null,null,0,1111]
[12,9921,14,9927,13,9932,14,9937,null,null,0,1111]
[12,10039,14,10046,13,10051,14,10056,null,null,0,1111]
[12,10155,14,10163,13,10169,14,10174,null,null,0,1111]
[12,10275,14,10285,13,10290,14,10296,null,null,0,1111]
[12,10392,14,10400,13,10405,14,10409,null,null,0,1111]
[12,10514,14,10518,13,10523,14,10529,null,null,0,1111]
[12,10626,14,10631,13,10635,14,10640,null,null,0,1111]
[12,10730,14,10737,13,10743,14,10748,null,null,0,1111]
[12,10848,14,10854,13,10865,14,10872,null,null,0,1111]
[12,10973,14,10982,13,10987,14,10993,null,null,0,1111]
[12,11091,14,11097,13,11103,14,11111,null,null,0,1111]
[12,11211,14,11216,13,11221,14,11227,null,null,0,1111]
[12,11329,14,11334,13,11338,14,11351,null,null,0,1111]
[12,11444,14,11449,13,11450,14,11454,null,null,0,1111]
[12,11554,14,11563,13,11568,14,11573,null,null,0,1111]
[12,11673,14,11679,13,11688,14,11700,null,null,0,1111]
[12,11800,14,11806,13,11819,14,11827,null,null,0,1111]
[12,11927,14,11933,13,11939,14,11944,null,null,0,1111]
[12,12047,14,12056,13,12061,14,12065,null,null,0,1111]
[12,12155,14,12160,13,12165,14,12173,null,null,0,1111]
[12,12270,14,12275,13,12280,14,12289,null,null,0,1111]
[12,12396,14,12402,13,12407,14,12414,null,null,0,1111]
[12,12507,14,12512,13,12517,14,12522,null,null,0,1111]
[12,12623,14,12632,13,12637,14,12643,null,null,0,1111]
[12,12747,14,12752,13,12758,14,12797,null,null,0,1111]
[12,12898,14,12903,13,12908,14,12914,null,null,0,1111]
[12,13017,14,13023,13,13028,14,13036,null,null,0,1111]
[12,13134,14,13140,13,13145,14,13150,null,null,0,1111]
[12,13244,14,13249,13,13254,14,13260,null,null,0,1111]
[12,13356,14,13361,13,13366,14,13371,null,null,0,1111]
[12,13473,14,13479,13,13483,14,13491,null,null,0,1111]
[12,13583,14,13588,13,13591,14,13596,null,null,0,1111]
[12,13686,14,13691,13,13696,14,13701,null,null,0,1111]
[12,13802,14,13808,13,13813,14,13841,null,null,0,1111]
[12,13942,14,13951,13,13955,14,13959,null,null,0,1111]
[12,14057,14,14062,13,14065,14,14070,null,null,0,1111]
[12,14169,14,14174,13,14178,14,14183,null,null,0,1111]
[12,14281,14,14287,13,14292,14,14297,null,null,0,1111]
[12,14392,14,14399,13,14404,14,14410,null,null,0,1111]
[12,14496,14,14501,13,14507,14,14516,null,null,0,1111]
[12,14615,14,14621,13,14628,14,14637,null,null,0,1111]
[12,14734,14,14739,13,14744,14,14752,null,null,0,1111]
[12,14855,14,14862,13,14867,14,14875,null,null,0,1111]
[12,14972,14,14978,13,14983,14,14992,null,null,0,1111]
[12,15081,14,15085,13,15089,14,15094,null,null,0,1111]
[12,15191,14,15198,13,15204,14,15212,null,null,0,1111]
[12,15315,14,15321,13,15326,14,15331,null,null,0,1111]
[12,15433,14,15439,13,15444,14,15449,null,null,0,1111]
[12,15548,14,15553,13,15562,14,15569,null,null,0,1111]
[12,15667,14,15672,13,15679,14,15694,null,null,0,1111]
[12,15784,14,15789,13,15794,14,15800,null,null,0,1111]
[12,15905,14,15910,13,15915,14,15921,null,null,0,1111]
[12,16021,14,16027,13,16032,14,16041,null,null,0,1111]
[12,16140,14,16146,13,16151,14,16159,null,null,0,1111]
[12,16258,14,16262,13,16267,14,16273,null,null,0,1111]
[12,16365,14,16370,13,16376,14,16385,null,null,0,1111]
[12,16481,14,16486,13,16491,14,16496,null,null,0,1111]
[12,16594,14,16599,13,16605,14,16610,null,null,0,1111]
[12,16716,14,16722,13,16731,14,16739,null,null,0,1111]
[12,16847,14,16854,13,16862,14,16874,null,null,0,1111]
[12,16972,14,16977,13,16982,14,16991,null,null,0,1111]
[12,17095,14,17101,13,17106,14,17114,null,null,0,1111]
[12,17218,14,17224,13,17229,14,17234,null,null,0,1111]
[12,17339,14,17344,13,17349,14,17354,null,null,0,1111]
[12,17444,14,17449,13,17453,14,17458,null,null,0,1111]
[12,17564,14,17569,13,17575,14,17583,null,null,0,1111]
[12,17681,14,17686,13,17691,14,17696,null,null,0,1111]
[12,17794,14,17800,13,17808,14,17822,null,null,0,1111]
[12,17922,14,17932,13,17937,14,17942,null,null,0,1111]
[12,18042,14,18047,13,18052,14,18061,null,null,0,1111]
[12,18157,14,18163,13,18168,14,18177,null,null,0,1111]
[12,18285,14,18294,13,18300,14,18308,null,null,0,1111]
[12,18412,14,18418,13,18423,14,18432,null,null,0,1111]
[12,18530,14,18537,13,18544,14,18550,null,null,0,1111]
[12,18648,14,18653,13,18658,14,18667,null,null,0,1111]
[12,18773,14,18781,13,18786,14,18794,null,null,0,1111]
[12,18885,14,18890,13,18895,14,18899,null,null,0,1111]
[12,19006,14,19011,13,19016,14,19023,null,null,0,1111]
[12,19127,14,19131,13,19137,14,19142,null,null,0,1111]
[12,19242,14,19247,13,19252,14,19256,null,null,0,1111]
[12,19353,14,19358,13,19363,14,19368,null,null,0,1111]
[12,19466,14,19471,13,19476,14,19484,null,null,0,1111]
[12,19586,14,19591,13,19595,14,19600,null,null,0,1111]
[12,19699,14,19704,13,19709,14,19717,null,null,0,1111]
[12,19816,14,19821,13,19827,14,19833,null,null,0,1111]
[12,19934,14,19943,13,19947,14,19954,null,null,0,1111]
[12,20053,14,20061,13,20065,14,20070,null,null,0,1111]
[12,20167,14,20172,13,20177,14,20182,null,null,0,1111]
[12,20279,14,20287,13,20295,14,20307,null,null,0,1111]
[12,20402,14,20406,13,20410,14,20415,null,null,0,1111]
[12,20520,14,20526,13,20534,14,20540,null,null,0,1111]
[12,20639,14,20646,13,20650,14,20655,null,null,0,1111]
[12,20747,14,20754,13,20759,14,20763,null,null,0,1111]
[12,20856,14,20862,13,20867,14,20876,null,null,0,1111]
[12,20977,14,20982,13,20987,14,20991,null,null,0,1111]
[12,21095,14,21100,13,21105,14,21113,null,null,0,1111]
[12,21210,14,21216,13,21224,14,21233,null,null,0,1111]
[12,21323,14,21328,13,21333,14,21341,null,null,0,1111]
[12,21437,14,21442,13,21448,14,21453,null,null,0,1111]
[12,21550,14,21556,13,21562,14,21567,null,null,0,1111]
[12,21675,14,21680,13,21686,14,21691,null,null,0,1111]
[12,21797,14,21805,13,21810,14,21815,null,null,0,1111]
[12,21927,14,21931,13,21936,14,21944,null,null,0,1111]
[12,22033,14,22038,13,22044,14,22052,null,null,0,1111]
[12,22149,14,22154,13,22159,14,22165,null,null,0,1111]
[12,22267,14,22273,13,22278,14,22283,null,null,0,1111]
[12,22381,14,22386,13,22391,14,22398,null,null,0,1111]
[12,22502,14,22509,13,22517,14,22529,null,null,0,1111]
[12,22627,14,22633,13,22640,14,22645,null,null,0,1111]
[12,22744,14,22749,13,22756,14,22765,null,null,0,1111]
[12,22868,14,22877,13,22882,14,22887,null,null,0,1111]
[12,22978,14,22983,13,22989,14,22995,null,null,0,1111]
[12,23095,14,23100,13,23104,14,23109,null,null,0,1111]
[12,23207,14,23215,13,23223,14,23232,null,null,0,1111]
[12,23339,14,23345,13,23349,14,23354,null,null,0,1111]
[12,23452,14,23457,13,23462,14,23468,null,null,0,1111]
[12,23566,14,23572,13,23577,14,23585,null,null,0,1111]
[21,23679,21,23685,22,23694,23,23703,null,null,0,2222]
[12,23802,14,23807,13,23812,14,23817,null,null,0,1111]
[12,23916,14,23922,13,23930,14,23939,null,null,null,1111]

{"sheet":"!L923B50.056","index":26,"n_rows":204,"n_cols":48,"rows_kept":204,"cut":false,"hidden":false,"merged":[[4,39,4,42],[5,39,5,40],[4,44,4,47],[5,44,5,45],[4,24,4,27],[5,24,5,25],[4,29,4,32],[5,29,5,30],[4,34,4,37],[5,34,5,35],[1,1,1,2],[5,13,5,14],[26,13,26,14],[27,13,27,14],[4,19,4,22],[5,19,5,20]]}
["Report for:!L923B50.056"]
["Date:","<date>"]
["Hen:","<hen>",null,null,null,"Correct Sequence",{"$f":"Start!J2","v":2212},null,null,null,null,null,null,null,null,"Total Sequences in Data",{"$f":"4994-COUNTBLANK(L7:L5000)","v":198},null,null,null,null,"Total Sequences in Block Data",{"$f":"COUNTA(L7:L39)","v":33},null,null,null,"Total Sequences in Block Data",{"$f":"COUNTA(L40:L72)","v":33},null,null,null,"Total Sequences in Block Data",{"$f":"COUNTA(L73:L105)","v":33},null,null,null,"Total Sequences in Block Data",{"$f":"COUNTA(L106:L138)","v":33},null,null,null,"Total Sequences in Block Data",{"$f":"COUNTA(L139:L171)","v":33},null,null,null,"Total Sequences in Block Data",{"$f":"COUNTA(L172:L204)","v":33}]
[null,null,null,null,null,null,null,null,null,null,null,null,null,null,null,"Total Sequences in Summary",{"$f":"SUM(O7:O22)","v":198},null,null,null,null,"Total Sequences in Block Summary",{"$f":"SUM(U7:U22)","v":33},null,null,null,"Total Sequences in Block Summary",{"$f":"SUM(Z7:Z22)","v":33},null,null,null,"Total Sequences in Block Summary",{"$f":"SUM(AE7:AE22)","v":33},null,null,null,"Total Sequences in Block Summary",{"$f":"SUM(AJ7:AJ22)","v":33},null,null,null,"Total Sequences in Block Summary",{"$f":"SUM(AO7:AO22)","v":33},null,null,null,"Total Sequences in Block Summary",{"$f":"SUM(AT7:AT22)","v":33}]
[null,null,null,null,null,null,null,null,null,null,null,null,null,null,null,null,null,null,null,"Block 1",null,null,null,null,"Block 2",null,null,null,null,"Block 3",null,null,null,null,"Block 4",null,null,null,null,"Block 5",null,null,null,null,"Block 6"]
["Sequence\nComponent\n1","Time\n1","Sequence\nComponent\n2","Time\n2","Sequence\nComponent\n3","Time\n3","Sequence\nComponent\n4","Time\n4","Sequence\nComponent\n5","Time\n5","Correct?\n0=No 1=Yes","Sequence",null,"Frequency",null,"Relative Frequency","Variability",null,null,"Frequency",null,"Relative Frequency","Variability",null,"Frequency",null,"Relative Frequency","Variability",null,"Frequency",null,"Relative Frequency","Variability",null,"Frequency",null,"Relative Frequency","Variability",null,"Frequency",null,"Relative Frequency","Variability",null,"Frequency",null,"Relative Frequency","Variability"]
[21,12,12,32,13,38,14,56,null,null,0,2111,null,1111,{"$f":"COUNTIF($L$7:$L$500,N7)","v":197},{"$f":"O7/$Q$4","v":0.99494949494949492},{"$f":"IF(P7=0,0,(P7*((LOG(P7))/LOG(2))))","v":-7.2679076907928263E-3},null,null,{"$f":"N7","v":1111},{"$f":"COUNTIF(L7:L39,T7)","v":32},{"$f":"U7/(W4-U20)","v":0.96969696969696972},{"$f":"IF(V7=0,0,(V7*((LOG(V7))/LOG(2))))","v":-4.3048843014257841E-2},null,{"$f":"N7","v":1111},{"$f":"COUNTIF(L40:L72,Y7)","v":33},{"$f":"Z7/(AB4-Z20)","v":1},{"$f":"IF(AA7=0,0,(AA7*((LOG(AA7))/LOG(2))))","v":0},null,{"$f":"N7","v":1111},{"$f":"COUNTIF(L73:L105,AD7)","v":33},{"$f":"AE7/(AG4-AE20)","v":1},{"$f":"IF(AF7=0,0,(AF7*((LOG(AF7))/LOG(2))))","v":0},null,{"$f":"N7","v":1111},{"$f":"COUNTIF(L106:L138,AI7)","v":33},{"$f":"AJ7/(AL4-AJ20)","v":1},{"$f":"IF(AK7=0,0,(AK7*((LOG(AK7))/LOG(2))))","v":0},null,{"$f":"N7","v":1111},{"$f":"COUNTIF(L139:L171,AN7)","v":33},{"$f":"AO7/(AQ4-AO20)","v":1},{"$f":"IF(AP7=0,0,(AP7*((LOG(AP7))/LOG(2))))","v":0},null,{"$f":"N7","v":1111},{"$f":"COUNTIF(L172:L204,AS7)","v":33},{"$f":"AT7/(AV4-AT20)","v":1},{"$f":"IF(AU7=0,0,(AU7*((LOG(AU7))/LOG(2))))","v":0}]
[12,154,14,159,13,163,14,173,null,null,0,1111,null,1112,{"$f":"COUNTIF($L$7:$L$500,N8)","v":0},{"$f":"O8/$Q$4","v":0},{"$f":"IF(P8=0,0,(P8*((LOG(P8))/LOG(2))))","v":0},null,null,{"$f":"N8","v":1112},{"$f":"COUNTIF(L7:L39,T8)","v":0},{"$f":"U8/(W4-U20)","v":0},{"$f":"IF(V8=0,0,(V8*((LOG(V8))/LOG(2))))","v":0},null,{"$f":"N8","v":1112},{"$f":"COUNTIF(L40:L72,Y8)","v":0},{"$f":"Z8/(AB4-Z20)","v":0},{"$f":"IF(AA8=0,0,(AA8*((LOG(AA8))/LOG(2))))","v":0},null,{"$f":"N8","v":1112},{"$f":"COUNTIF(L73:L105,AD8)","v":0},{"$f":"AE8/(AG4-AE20)","v":0},{"$f":"IF(AF8=0,0,(AF8*((LOG(AF8))/LOG(2))))","v":0},null,{"$f":"N8","v":1112},{"$f":"COUNTIF(L106:L138,AI8)","v":0},{"$f":"AJ8/(AL4-AJ20)","v":0},{"$f":"IF(AK8=0,0,(AK8*((LOG(AK8))/LOG(2))))","v":0},null,{"$f":"N8","v":1112},{"$f":"COUNTIF(L139:L171,AN8)","v":0},{"$f":"AO8/(AQ4-AO20)","v":0},{"$f":"IF(AP8=0,0,(AP8*((LOG(AP8))/LOG(2))))","v":0},null,{"$f":"N8","v":1112},{"$f":"COUNTIF(L172:L204,AS8)","v":0},{"$f":"AT8/(AV4-AT20)","v":0},{"$f":"IF(AU8=0,0,(AU8*((LOG(AU8))/LOG(2))))","v":0}]
[12,278,14,283,13,288,14,293,null,null,0,1111,null,1121,{"$f":"COUNTIF($L$7:$L$500,N9)","v":0},{"$f":"O9/$Q$4","v":0},{"$f":"IF(P9=0,0,(P9*((LOG(P9))/LOG(2))))","v":0},null,null,{"$f":"N9","v":1121},{"$f":"COUNTIF(L7:L39,T9)","v":0},{"$f":"U9/(W4-U20)","v":0},{"$f":"IF(V9=0,0,(V9*((LOG(V9))/LOG(2))))","v":0},null,{"$f":"N9","v":1121},{"$f":"COUNTIF(L40:L72,Y9)","v":0},{"$f":"Z9/(AB4-Z20)","v":0},{"$f":"IF(AA9=0,0,(AA9*((LOG(AA9))/LOG(2))))","v":0},null,{"$f":"N9","v":1121},{"$f":"COUNTIF(L73:L105,AD9)","v":0},{"$f":"AE9/(AG4-AE20)","v":0},{"$f":"IF(AF9=0,0,(AF9*((LOG(AF9))/LOG(2))))","v":0},null,{"$f":"N9","v":1121},{"$f":"COUNTIF(L106:L138,AI9)","v":0},{"$f":"AJ9/(AL4-AJ20)","v":0},{"$f":"IF(AK9=0,0,(AK9*((LOG(AK9))/LOG(2))))","v":0},null,{"$f":"N9","v":1121},{"$f":"COUNTIF(L139:L171,AN9)","v":0},{"$f":"AO9/(AQ4-AO20)","v":0},{"$f":"IF(AP9=0,0,(AP9*((LOG(AP9))/LOG(2))))","v":0},null,{"$f":"N9","v":1121},{"$f":"COUNTIF(L172:L204,AS9)","v":0},{"$f":"AT9/(AV4-AT20)","v":0},{"$f":"IF(AU9=0,0,(AU9*((LOG(AU9))/LOG(2))))","v":0}]
[12,397,14,403,13,407,14,412,null,null,0,1111,null,1122,{"$f":"COUNTIF($L$7:$L$500,N10)","v":0},{"$f":"O10/$Q$4","v":0},{"$f":"IF(P10=0,0,(P10*((LOG(P10))/LOG(2))))","v":0},null,null,{"$f":"N10","v":1122},{"$f":"COUNTIF(L7:L39,T10)","v":0},{"$f":"U10/(W4-U20)","v":0},{"$f":"IF(V10=0,0,(V10*((LOG(V10))/LOG(2))))","v":0},null,{"$f":"N10","v":1122},{"$f":"COUNTIF(L40:L72,Y10)","v":0},{"$f":"Z10/(AB4-Z20)","v":0},{"$f":"IF(AA10=0,0,(AA10*((LOG(AA10))/LOG(2))))","v":0},null,{"$f":"N10","v":1122},{"$f":"COUNTIF(L73:L105,AD10)","v":0},{"$f":"AE10/(AG4-AE20)","v":0},{"$f":"IF(AF10=0,0,(AF10*((LOG(AF10))/LOG(2))))","v":0},null,{"$f":"N10","v":1122},{"$f":"COUNTIF(L106:L138,AI10)","v":0},{"$f":"AJ10/(AL4-AJ20)","v":0},{"$f":"IF(AK10=0,0,(AK10*((LOG(AK10))/LOG(2))))","v":0},null,{"$f":"N10","v":1122},{"$f":"COUNTIF(L139:L171,AN10)","v":0},{"$f":"AO10/(AQ4-AO20)","v":0},{"$f":"IF(AP10=0,0,(AP10*((LOG(AP10))/LOG(2))))","v":0},null,{"$f":"N10","v":1122},{"$f":"COUNTIF(L172:L204,AS10)","v":0},{"$f":"AT10/(AV4-AT20)","v":0},{"$f":"IF(AU10=0,0,(AU10*((LOG(AU10))/LOG(2))))","v":0}]
[12,517,14,523,13,528,14,536,null,null,0,1111,null,1211,{"$f":"COUNTIF($L$7:$L$500,N11)","v":0},{"$f":"O11/$Q$4","v":0},{"$f":"IF(P11=0,0,(P11*((LOG(P11))/LOG(2))))","v":0},null,null,{"$f":"N11","v":1211},{"$f":"COUNTIF(L7:L39,T11)","v":0},{"$f":"U11/(W4-U20)","v":0},{"$f":"IF(V11=0,0,(V11*((LOG(V11))/LOG(2))))","v":0},null,{"$f":"N11","v":1211},{"$f":"COUNTIF(L40:L72,Y11)","v":0},{"$f":"Z11/(AB4-Z20)","v":0},{"$f":"IF(AA11=0,0,(AA11*((LOG(AA11))/LOG(2))))","v":0},null,{"$f":"N11","v":1211},{"$f":"COUNTIF(L73:L105,AD11)","v":0},{"$f":"AE11/(AG4-AE20)","v":0},{"$f":"IF(AF11=0,0,(AF11*((LOG(AF11))/LOG(2))))","v":0},null,{"$f":"N11","v":1211},{"$f":"COUNTIF(L106:L138,AI11)","v":0},{"$f":"AJ11/(AL4-AJ20)","v":0},{"$f":"IF(AK11=0,0,(AK11*((LOG(AK11))/LOG(2))))","v":0},null,{"$f":"N11","v":1211},{"$f":"COUNTIF(L139:L171,AN11)","v":0},{"$f":"AO11/(AQ4-AO20)","v":0},{"$f":"IF(AP11=0,0,(AP11*((LOG(AP11))/LOG(2))))","v":0},null,{"$f":"N11","v":1211},{"$f":"COUNTIF(L172:L204,AS11)","v":0},{"$f":"AT11/(AV4-AT20)","v":0},{"$f":"IF(AU11=0,0,(AU11*((LOG(AU11))/LOG(2))))","v":0}]
[12,640,14,645,13,651,14,656,null,null,0,1111,null,1212,{"$f":"COUNTIF($L$7:$L$500,N12)","v":0},{"$f":"O12/$Q$4","v":0},{"$f":"IF(P12=0,0,(P12*((LOG(P12))/LOG(2))))","v":0},null,null,{"$f":"N12","v":1212},{"$f":"COUNTIF(L7:L39,T12)","v":0},{"$f":"U12/(W4-U20)","v":0},{"$f":"IF(V12=0,0,(V12*((LOG(V12))/LOG(2))))","v":0},null,{"$f":"N12","v":1212},{"$f":"COUNTIF(L40:L72,Y12)","v":0},{"$f":"Z12/(AB4-Z20)","v":0},{"$f":"IF(AA12=0,0,(AA12*((LOG(AA12))/LOG(2))))","v":0},null,{"$f":"N12","v":1212},{"$f":"COUNTIF(L73:L105,AD12)","v":0},{"$f":"AE12/(AG4-AE20)","v":0},{"$f":"IF(AF12=0,0,(AF12*((LOG(AF12))/LOG(2))))","v":0},null,{"$f":"N12","v":1212},{"$f":"COUNTIF(L106:L138,AI12)","v":0},{"$f":"AJ12/(AL4-AJ20)","v":0},{"$f":"IF(AK12=0,0,(AK12*((LOG(AK12))/LOG(2))))","v":0},null,{"$f":"N12","v":1212},{"$f":"COUNTIF(L139:L171,AN12)","v":0},{"$f":"AO12/(AQ4-AO20)","v":0},{"$f":"IF(AP12=0,0,(AP12*((LOG(AP12))/LOG(2))))","v":0},null,{"$f":"N12","v":1212},{"$f":"COUNTIF(L172:L204,AS12)","v":0},{"$f":"AT12/(AV4-AT20)","v":0},{"$f":"IF(AU12=0,0,(AU12*((LOG(AU12))/LOG(2))))","v":0}]
[12,763,14,769,13,773,14,779,null,null,0,1111,null,1221,{"$f":"COUNTIF($L$7:$L$500,N13)","v":0},{"$f":"O13/$Q$4","v":0},{"$f":"IF(P13=0,0,(P13*((LOG(P13))/LOG(2))))","v":0},null,null,{"$f":"N13","v":1221},{"$f":"COUNTIF(L7:L39,T13)","v":0},{"$f":"U13/(W4-U20)","v":0},{"$f":"IF(V13=0,0,(V13*((LOG(V13))/LOG(2))))","v":0},null,{"$f":"N13","v":1221},{"$f":"COUNTIF(L40:L72,Y13)","v":0},{"$f":"Z13/(AB4-Z20)","v":0},{"$f":"IF(AA13=0,0,(AA13*((LOG(AA13))/LOG(2))))","v":0},null,{"$f":"N13","v":1221},{"$f":"COUNTIF(L73:L105,AD13)","v":0},{"$f":"AE13/(AG4-AE20)","v":0},{"$f":"IF(AF13=0,0,(AF13*((LOG(AF13))/LOG(2))))","v":0},null,{"$f":"N13","v":1221},{"$f":"COUNTIF(L106:L138,AI13)","v":0},{"$f":"AJ13/(AL4-AJ20)","v":0},{"$f":"IF(AK13=0,0,(AK13*((LOG(AK13))/LOG(2))))","v":0},null,{"$f":"N13","v":1221},{"$f":"COUNTIF(L139:L171,AN13)","v":0},{"$f":"AO13/(AQ4-AO20)","v":0},{"$f":"IF(AP13=0,0,(AP13*((LOG(AP13))/LOG(2))))","v":0},null,{"$f":"N13","v":1221},{"$f":"COUNTIF(L172:L204,AS13)","v":0},{"$f":"AT13/(AV4-AT20)","v":0},{"$f":"IF(AU13=0,0,(AU13*((LOG(AU13))/LOG(2))))","v":0}]
[12,881,14,887,13,892,14,900,null,null,0,1111,null,1222,{"$f":"COUNTIF($L$7:$L$500,N14)","v":0},{"$f":"O14/$Q$4","v":0},{"$f":"IF(P14=0,0,(P14*((LOG(P14))/LOG(2))))","v":0},null,null,{"$f":"N14","v":1222},{"$f":"COUNTIF(L7:L39,T14)","v":0},{"$f":"U14/(W4-U20)","v":0},{"$f":"IF(V14=0,0,(V14*((LOG(V14))/LOG(2))))","v":0},null,{"$f":"N14","v":1222},{"$f":"COUNTIF(L40:L72,Y14)","v":0},{"$f":"Z14/(AB4-Z20)","v":0},{"$f":"IF(AA14=0,0,(AA14*((LOG(AA14))/LOG(2))))","v":0},null,{"$f":"N14","v":1222},{"$f":"COUNTIF(L73:L105,AD14)","v":0},{"$f":"AE14/(AG4-AE20)","v":0},{"$f":"IF(AF14=0,0,(AF14*((LOG(AF14))/LOG(2))))","v":0},null,{"$f":"N14","v":1222},{"$f":"COUNTIF(L106:L138,AI14)","v":0},{"$f":"AJ14/(AL4-AJ20)","v":0},{"$f":"IF(AK14=0,0,(AK14*((LOG(AK14))/LOG(2))))","v":0},null,{"$f":"N14","v":1222},{"$f":"COUNTIF(L139:L171,AN14)","v":0},{"$f":"AO14/(AQ4-AO20)","v":0},{"$f":"IF(AP14=0,0,(AP14*((LOG(AP14))/LOG(2))))","v":0},null,{"$f":"N14","v":1222},{"$f":"COUNTIF(L172:L204,AS14)","v":0},{"$f":"AT14/(AV4-AT20)","v":0},{"$f":"IF(AU14=0,0,(AU14*((LOG(AU14))/LOG(2))))","v":0}]
[12,1005,14,1009,13,1014,14,1020,null,null,0,1111,null,2111,{"$f":"COUNTIF($L$7:$L$500,N15)","v":1},{"$f":"O15/$Q$4","v":5.0505050505050509E-3},{"$f":"IF(P15=0,0,(P15*((LOG(P15))/LOG(2))))","v":-3.8532104141816209E-2},null,null,{"$f":"N15","v":2111},{"$f":"COUNTIF(L7:L39,T15)","v":1},{"$f":"U15/(W4-U20)","v":3.0303030303030304E-2},{"$f":"IF(V15=0,0,(V15*((LOG(V15))/LOG(2))))","v":-0.15286042785934709},null,{"$f":"N15","v":2111},{"$f":"COUNTIF(L40:L72,Y15)","v":0},{"$f":"Z15/(AB4-Z20)","v":0},{"$f":"IF(AA15=0,0,(AA15*((LOG(AA15))/LOG(2))))","v":0},null,{"$f":"N15","v":2111},{"$f":"COUNTIF(L73:L105,AD15)","v":0},{"$f":"AE15/(AG4-AE20)","v":0},{"$f":"IF(AF15=0,0,(AF15*((LOG(AF15))/LOG(2))))","v":0},null,{"$f":"N15","v":2111},{"$f":"COUNTIF(L106:L138,AI15)","v":0},{"$f":"AJ15/(AL4-AJ20)","v":0},{"$f":"IF(AK15=0,0,(AK15*((LOG(AK15))/LOG(2))))","v":0},null,{"$f":"N15","v":2111},{"$f":"COUNTIF(L139:L171,AN15)","v":0},{"$f":"AO15/(AQ4-AO20)","v":0},{"$f":"IF(AP15=0,0,(AP15*((LOG(AP15))/LOG(2))))","v":0},null,{"$f":"N15","v":2111},{"$f":"COUNTIF(L172:L204,AS15)","v":0},{"$f":"AT15/(AV4-AT20)","v":0},{"$f":"IF(AU15=0,0,(AU15*((LOG(AU15))/LOG(2))))","v":0}]
[12,1132,14,1137,13,1141,14,1149,null,null,0,1111,null,2112,{"$f":"COUNTIF($L$7:$L$500,N16)","v":0},{"$f":"O16/$Q$4","v":0},{"$f":"IF(P16=0,0,(P16*((LOG(P16))/LOG(2))))","v":0},null,null,{"$f":"N16","v":2112},{"$f":"COUNTIF(L7:L39,T16)","v":0},{"$f":"U16/(W4-U20)","v":0},{"$f":"IF(V16=0,0,(V16*((LOG(V16))/LOG(2))))","v":0},null,{"$f":"N16","v":2112},{"$f":"COUNTIF(L40:L72,Y16)","v":0},{"$f":"Z16/(AB4-Z20)","v":0},{"$f":"IF(AA16=0,0,(AA16*((LOG(AA16))/LOG(2))))","v":0},null,{"$f":"N16","v":2112},{"$f":"COUNTIF(L73:L105,AD16)","v":0},{"$f":"AE16/(AG4-AE20)","v":0},{"$f":"IF(AF16=0,0,(AF16*((LOG(AF16))/LOG(2))))","v":0},null,{"$f":"N16","v":2112},{"$f":"COUNTIF(L106:L138,AI16)","v":0},{"$f":"AJ16/(AL4-AJ20)","v":0},{"$f":"IF(AK16=0,0,(AK16*((LOG(AK16))/LOG(2))))","v":0},null,{"$f":"N16","v":2112},{"$f":"COUNTIF(L139:L171,AN16)","v":0},{"$f":"AO16/(AQ4-AO20)","v":0},{"$f":"IF(AP16=0,0,(AP16*((LOG(AP16))/LOG(2))))","v":0},null,{"$f":"N16","v":2112},{"$f":"COUNTIF(L172:L204,AS16)","v":0},{"$f":"AT16/(AV4-AT20)","v":0},{"$f":"IF(AU16=0,0,(AU16*((LOG(AU16))/LOG(2))))","v":0}]
[12,1251,14,1257,13,1261,14,1265,null,null,0,1111,null,2121,{"$f":"COUNTIF($L$7:$L$500,N17)","v":0},{"$f":"O17/$Q$4","v":0},{"$f":"IF(P17=0,0,(P17*((LOG(P17))/LOG(2))))","v":0},null,null,{"$f":"N17","v":2121},{"$f":"COUNTIF(L7:L39,T17)","v":0},{"$f":"U17/(W4-U20)","v":0},{"$f":"IF(V17=0,0,(V17*((LOG(V17))/LOG(2))))","v":0},null,{"$f":"N17","v":2121},{"$f":"COUNTIF(L40:L72,Y17)","v":0},{"$f":"Z17/(AB4-Z20)","v":0},{"$f":"IF(AA17=0,0,(AA17*((LOG(AA17))/LOG(2))))","v":0},null,{"$f":"N17","v":2121},{"$f":"COUNTIF(L73:L105,AD17)","v":0},{"$f":"AE17/(AG4-AE20)","v":0},{"$f":"IF(AF17=0,0,(AF17*((LOG(AF17))/LOG(2))))","v":0},null,{"$f":"N17","v":2121},{"$f":"COUNTIF(L106:L138,AI17)","v":0},{"$f":"AJ17/(AL4-AJ20)","v":0},{"$f":"IF(AK17=0,0,(AK17*((LOG(AK17))/LOG(2))))","v":0},null,{"$f":"N17","v":2121},{"$f":"COUNTIF(L139:L171,AN17)","v":0},{"$f":"AO17/(AQ4-AO20)","v":0},{"$f":"IF(AP17=0,0,(AP17*((LOG(AP17))/LOG(2))))","v":0},null,{"$f":"N17","v":2121},{"$f":"COUNTIF(L172:L204,AS17)","v":0},{"$f":"AT17/(AV4-AT20)","v":0},{"$f":"IF(AU17=0,0,(AU17*((LOG(AU17))/LOG(2))))","v":0}]
[12,1372,14,1377,13,1383,14,1393,null,null,0,1111,null,2122,{"$f":"COUNTIF($L$7:$L$500,N18)","v":0},{"$f":"O18/$Q$4","v":0},{"$f":"IF(P18=0,0,(P18*((LOG(P18))/LOG(2))))","v":0},null,null,{"$f":"N18","v":2122},{"$f":"COUNTIF(L7:L39,T18)","v":0},{"$f":"U18/(W4-U20)","v":0},{"$f":"IF(V18=0,0,(V18*((LOG(V18))/LOG(2))))","v":0},null,{"$f":"N18","v":2122},{"$f":"COUNTIF(L40:L72,Y18)","v":0},{"$f":"Z18/(AB4-Z20)","v":0},{"$f":"IF(AA18=0,0,(AA18*((LOG(AA18))/LOG(2))))","v":0},null,{"$f":"N18","v":2122},{"$f":"COUNTIF(L73:L105,AD18)","v":0},{"$f":"AE18/(AG4-AE20)","v":0},{"$f":"IF(AF18=0,0,(AF18*((LOG(AF18))/LOG(2))))","v":0},null,{"$f":"N18","v":2122},{"$f":"COUNTIF(L106:L138,AI18)","v":0},{"$f":"AJ18/(AL4-AJ20)","v":0},{"$f":"IF(AK18=0,0,(AK18*((LOG(AK18))/LOG(2))))","v":0},null,{"$f":"N18","v":2122},{"$f":"COUNTIF(L139:L171,AN18)","v":0},{"$f":"AO18/(AQ4-AO20)","v":0},{"$f":"IF(AP18=0,0,(AP18*((LOG(AP18))/LOG(2))))","v":0},null,{"$f":"N18","v":2122},{"$f":"COUNTIF(L172:L204,AS18)","v":0},{"$f":"AT18/(AV4-AT20)","v":0},{"$f":"IF(AU18=0,0,(AU18*((LOG(AU18))/LOG(2))))","v":0}]
[12,1494,14,1499,13,1504,14,1511,null,null,0,1111,null,2211,{"$f":"COUNTIF($L$7:$L$500,N19)","v":0},{"$f":"O19/$Q$4","v":0},{"$f":"IF(P19=0,0,(P19*((LOG(P19))/LOG(2))))","v":0},null,null,{"$f":"N19","v":2211},{"$f":"COUNTIF(L7:L39,T19)","v":0},{"$f":"U19/(W4-U20)","v":0},{"$f":"IF(V19=0,0,(V19*((LOG(V19))/LOG(2))))","v":0},null,{"$f":"N19","v":2211},{"$f":"COUNTIF(L40:L72,Y19)","v":0},{"$f":"Z19/(AB4-Z20)","v":0},{"$f":"IF(AA19=0,0,(AA19*((LOG(AA19))/LOG(2))))","v":0},null,{"$f":"N19","v":2211},{"$f":"COUNTIF(L73:L105,AD19)","v":0},{"$f":"AE19/(AG4-AE20)","v":0},{"$f":"IF(AF19=0,0,(AF19*((LOG(AF19))/LOG(2))))","v":0},null,{"$f":"N19","v":2211},{"$f":"COUNTIF(L106:L138,AI19)","v":0},{"$f":"AJ19/(AL4-AJ20)","v":0},{"$f":"IF(AK19=0,0,(AK19*((LOG(AK19))/LOG(2))))","v":0},null,{"$f":"N19","v":2211},{"$f":"COUNTIF(L139:L171,AN19)","v":0},{"$f":"AO19/(AQ4-AO20)","v":0},{"$f":"IF(AP19=0,0,(AP19*((LOG(AP19))/LOG(2))))","v":0},null,{"$f":"N19","v":2211},{"$f":"COUNTIF(L172:L204,AS19)","v":0},{"$f":"AT19/(AV4-AT20)","v":0},{"$f":"IF(AU19=0,0,(AU19*((LOG(AU19))/LOG(2))))","v":0}]
[12,1618,14,1623,13,1628,14,1633,null,null,0,1111,null,2212,{"$f":"COUNTIF($L$7:$L$500,N20)","v":0},{"$f":"O20/$Q$4","v":0},{"$f":"IF(P20=0,0,(P20*((LOG(P20))/LOG(2))))","v":0},null,null,{"$f":"N20","v":2212},{"$f":"COUNTIF(L7:L39,T20)","v":0},null,null,null,{"$f":"N20","v":2212},{"$f":"COUNTIF(L40:L72,Y20)","v":0},null,null,null,{"$f":"N20","v":2212},{"$f":"COUNTIF(L73:L105,AD20)","v":0},null,null,null,{"$f":"N20","v":2212},{"$f":"COUNTIF(L106:L138,AI20)","v":0},null,null,null,{"$f":"N20","v":2212},{"$f":"COUNTIF(L139:L171,AN20)","v":0},null,null,null,{"$f":"N20","v":2212},{"$f":"COUNTIF(L172:L204,AS20)","v":0}]
[12,1738,14,1743,13,1748,14,1756,null,null,0,1111,null,2221,{"$f":"COUNTIF($L$7:$L$500,N21)","v":0},{"$f":"O21/$Q$4","v":0},{"$f":"IF(P21=0,0,(P21*((LOG(P21))/LOG(2))))","v":0},null,null,{"$f":"N21","v":2221},{"$f":"COUNTIF(L7:L39,T21)","v":0},{"$f":"U21/(W4-U20)","v":0},{"$f":"IF(V21=0,0,(V21*((LOG(V21))/LOG(2))))","v":0},null,{"$f":"N21","v":2221},{"$f":"COUNTIF(L40:L72,Y21)","v":0},{"$f":"Z21/(AB4-Z20)","v":0},{"$f":"IF(AA21=0,0,(AA21*((LOG(AA21))/LOG(2))))","v":0},null,{"$f":"N21","v":2221},{"$f":"COUNTIF(L73:L105,AD21)","v":0},{"$f":"AE21/(AG4-AE20)","v":0},{"$f":"IF(AF21=0,0,(AF21*((LOG(AF21))/LOG(2))))","v":0},null,{"$f":"N21","v":2221},{"$f":"COUNTIF(L106:L138,AI21)","v":0},{"$f":"AJ21/(AL4-AJ20)","v":0},{"$f":"IF(AK21=0,0,(AK21*((LOG(AK21))/LOG(2))))","v":0},null,{"$f":"N21","v":2221},{"$f":"COUNTIF(L139:L171,AN21)","v":0},{"$f":"AO21/(AQ4-AO20)","v":0},{"$f":"IF(AP21=0,0,(AP21*((LOG(AP21))/LOG(2))))","v":0},null,{"$f":"N21","v":2221},{"$f":"COUNTIF(L172:L204,AS21)","v":0},{"$f":"AT21/(AV4-AT20)","v":0},{"$f":"IF(AU21=0,0,(AU21*((LOG(AU21))/LOG(2))))","v":0}]
[12,1854,14,1859,13,1866,14,1871,null,null,0,1111,null,2222,{"$f":"COUNTIF($L$7:$L$500,N22)","v":0},{"$f":"O22/$Q$4","v":0},{"$f":"IF(P22=0,0,(P22*((LOG(P22))/LOG(2))))","v":0},null,null,{"$f":"N22","v":2222},{"$f":"COUNTIF(L7:L39,T22)","v":0},{"$f":"U22/(W4-U20)","v":0},{"$f":"IF(V22=0,0,(V22*((LOG(V22))/LOG(2))))","v":0},null,{"$f":"N22","v":2222},{"$f":"COUNTIF(L40:L72,Y22)","v":0},{"$f":"Z22/(AB4-Z20)","v":0},{"$f":"IF(AA22=0,0,(AA22*((LOG(AA22))/LOG(2))))","v":0},null,{"$f":"N22","v":2222},{"$f":"COUNTIF(L73:L105,AD22)","v":0},{"$f":"AE22/(AG4-AE20)","v":0},{"$f":"IF(AF22=0,0,(AF22*((LOG(AF22))/LOG(2))))","v":0},null,{"$f":"N22","v":2222},{"$f":"COUNTIF(L106:L138,AI22)","v":0},{"$f":"AJ22/(AL4-AJ20)","v":0},{"$f":"IF(AK22=0,0,(AK22*((LOG(AK22))/LOG(2))))","v":0},null,{"$f":"N22","v":2222},{"$f":"COUNTIF(L139:L171,AN22)","v":0},{"$f":"AO22/(AQ4-AO20)","v":0},{"$f":"IF(AP22=0,0,(AP22*((LOG(AP22))/LOG(2))))","v":0},null,{"$f":"N22","v":2222},{"$f":"COUNTIF(L172:L204,AS22)","v":0},{"$f":"AT22/(AV4-AT20)","v":0},{"$f":"IF(AU22=0,0,(AU22*((LOG(AU22))/LOG(2))))","v":0}]
[12,1975,14,1981,13,1986,14,1991,null,null,0,1111,null,null,null,{"$f":"SUM(P7:P22)","v":1},{"$f":"-SUM(Q7:Q22)","v":4.5800011832609039E-2},null,null,null,null,{"$f":"SUM(V7:V22)","v":1},{"$f":"-SUM(W7:W22)","v":0.19590927087360493},null,null,null,{"$f":"SUM(AA7:AA22)","v":1},{"$f":"-SUM(AB7:AB22)","v":0},null,null,null,{"$f":"SUM(AF7:AF22)","v":1},{"$f":"-SUM(AG7:AG22)","v":0},null,null,null,{"$f":"SUM(AK7:AK22)","v":1},{"$f":"-SUM(AL7:AL22)","v":0},null,null,null,{"$f":"SUM(AP7:AP22)","v":1},{"$f":"-SUM(AQ7:AQ22)","v":0},null,null,null,{"$f":"SUM(AU7:AU22)","v":1},{"$f":"-SUM(AV7:AV22)","v":0}]
[12,2098,14,2103,13,2108,14,2116,null,null,0,1111,null,null,null,"U=",{"$f":"Q23/(LOG(Q4)/LOG(2))","v":6.0031289810294824E-3},null,null,null,null,"U1=",{"$f":"W23/(LOG(W4)/LOG(2))","v":3.8837027051827726E-2},null,null,null,"U2=",{"$f":"AB23/(LOG(AB4)/LOG(2))","v":0},null,null,null,"U3=",{"$f":"AG23/(LOG(AG4)/LOG(2))","v":0},null,null,null,"U4=",{"$f":"AL23/(LOG(AL4)/LOG(2))","v":0},null,null,null,"U5=",{"$f":"AQ23/(LOG(AQ4)/LOG(2))","v":0},null,null,null,"U6=",{"$f":"AV23/(LOG(AV4)/LOG(2))","v":0}]
[12,2215,14,2220,13,2224,14,2229,null,null,0,1111]
[12,2330,14,2335,13,2340,14,2345,null,null,0,1111]
[12,2438,14,2444,13,2448,14,2457,null,null,0,1111,null,"Total Target Seq"]
[12,2575,14,2582,13,2586,14,2591,null,null,0,1111,null,{"$f":"COUNTIF(L7:L204,G3)","v":0},null,33,33,33,33,33,33]
[12,2698,14,2703,13,2709,14,2718,null,null,0,1111,null,null,null,"% of reinforcement given in 6 equal intervals based on number of trials "]
[12,2827,14,2832,13,2837,14,2845,null,null,0,1111,null,null,null,"%_1","%_2","%_3","%_4","%_5","%_6"]
[12,2947,14,2951,13,2956,14,2963,null,null,0,1111,null,null,"target sequence",{"$f":"$G$3","v":2212},{"$f":"$G$3","v":2212},{"$f":"$G$3","v":2212},{"$f":"$G$3","v":2212},{"$f":"$G$3","v":2212},{"$f":"$G$3","v":2212}]
[12,3074,14,3080,13,3085,14,3093,null,null,0,1111,null,null,"total reinforcement",{"$f":"U20","v":0},{"$f":"Z20","v":0},{"$f":"AE20","v":0},{"$f":"AJ20","v":0},{"$f":"AO20","v":0},{"$f":"AT20","v":0}]
[12,3184,14,3189,13,3195,14,3203,null,null,0,1111,null,null,"% target"]
[12,3306,14,3312,13,3322,14,3327,null,null,0,1111,null,null,"CCRF"]
[12,3439,14,3444,13,3449,14,3462,null,null,0,1111,null,null,"% CCRf"]
[12,3560,14,3565,13,3574,14,3582,null,null,0,1111,null,null,"average response rate",{"$f":"H39/P28","v":119.87878787878788},{"$f":"(H72-H39)/Q28","v":120.57575757575758},{"$f":"(H105-H72)/R28","v":120.81818181818181},{"$f":"(H138-H105)/S28","v":123.06060606060606},{"$f":"(H171-H138)/T28","v":119.90909090909091},{"$f":"(H204-H171)/U28","v":120.87878787878788}]
[12,3692,14,3698,13,3702,14,3717,null,null,0,1111]
[12,3820,14,3826,13,3830,14,3843,null,null,0,1111]
[12,3941,14,3946,13,3951,14,3956,null,null,0,1111]
[12,4049,14,4054,13,4060,14,4067,null,null,0,1111]
[12,4179,14,4184,13,4193,14,4205,null,null,0,1111]
[12,4312,14,4317,13,4322,14,4326,null,null,0,1111]
[12,4437,14,4443,13,4456,14,4465,null,null,0,1111]
[12,4568,14,4574,13,4579,14,4586,null,null,0,1111]
[12,4695,14,4700,13,4704,14,4710,null,null,0,1111]
[12,4807,14,4814,13,4818,14,4823,null,null,0,1111]
[12,4931,14,4936,13,4942,14,4949,null,null,0,1111]
[12,5054,14,5058,13,5063,14,5070,null,null,0,1111]
[12,5173,14,5179,13,5183,14,5192,null,null,0,1111]
[12,5291,14,5297,13,5302,14,5306,null,null,0,1111]
[12,5411,14,5417,13,5424,14,5429,null,null,0,1111]
[12,5523,14,5527,13,5533,14,5541,null,null,0,1111]
[12,5646,14,5651,13,5657,14,5665,null,null,0,1111]
[12,5767,14,5774,13,5779,14,5788,null,null,0,1111]
[12,5884,14,5889,13,5893,14,5898,null,null,0,1111]
[12,6005,14,6009,13,6014,14,6019,null,null,0,1111]
[12,6119,14,6124,13,6129,14,6136,null,null,0,1111]
[12,6235,14,6240,13,6244,14,6249,null,null,0,1111]
[12,6347,14,6352,13,6357,14,6364,null,null,0,1111]
[12,6465,14,6470,13,6474,14,6488,null,null,0,1111]
[12,6596,14,6604,13,6609,14,6614,null,null,0,1111]
[12,6718,14,6724,13,6729,14,6737,null,null,0,1111]
[12,6835,14,6841,13,6846,14,6851,null,null,0,1111]
[12,6961,14,6967,13,6972,14,6979,null,null,0,1111]
[12,7078,14,7087,13,7091,14,7096,null,null,0,1111]
[12,7202,14,7206,13,7211,14,7217,null,null,0,1111]
[12,7317,14,7322,13,7326,14,7335,null,null,0,1111]
[12,7438,14,7447,13,7451,14,7457,null,null,0,1111]
[12,7557,14,7559,13,7562,14,7567,null,null,0,1111]
[12,7674,14,7679,13,7688,14,7697,null,null,0,1111]
[12,7801,14,7805,13,7810,14,7817,null,null,0,1111]
[12,7917,14,7922,13,7927,14,7935,null,null,0,1111]
[12,8037,14,8042,13,8046,14,8051,null,null,0,1111]
[12,8151,14,8157,13,8162,14,8166,null,null,0,1111]
[12,8261,14,8263,13,8271,14,8277,null,null,0,1111]
[12,8369,14,8374,13,8378,14,8382,null,null,0,1111]
[12,8487,14,8491,13,8496,14,8503,null,null,0,1111]
[12,8610,14,8615,13,8620,14,8629,null,null,0,1111]
[12,8733,14,8744,13,8749,14,8754,null,null,0,1111]
[12,8852,14,8857,13,8862,14,8867,null,null,0,1111]
[12,8971,14,8981,13,8986,14,8991,null,null,0,1111]
[12,9097,14,9102,13,9108,14,9117,null,null,0,1111]
[12,9216,14,9224,13,9228,14,9233,null,null,0,1111]
[12,9335,14,9341,13,9348,14,9357,null,null,0,1111]
[12,9446,14,9452,13,9457,14,9462,null,null,0,1111]
[12,9559,14,9565,13,9571,14,9578,null,null,0,1111]
[12,9678,14,9687,13,9691,14,9697,null,null,0,1111]
[12,9788,14,9790,13,9794,14,9799,null,null,0,1111]
[12,9902,14,9908,13,9919,14,9936,null,null,0,1111]
[12,10035,14,10041,13,10046,14,10062,null,null,0,1111]
[12,10169,14,10174,13,10178,14,10187,null,null,0,1111]
[12,10288,14,10294,13,10299,14,10305,null,null,0,1111]
[12,10414,14,10419,13,10427,14,10438,null,null,0,1111]
[12,10541,14,10547,13,10551,14,10556,null,null,0,1111]
[12,10657,14,10662,13,10668,14,10674,null,null,0,1111]
[12,10764,14,10770,13,10775,14,10782,null,null,0,1111]
[12,10891,14,10896,13,10902,14,10911,null,null,0,1111]
[12,11016,14,11021,13,11034,14,11044,null,null,0,1111]
[12,11146,14,11153,13,11157,14,11162,null,null,0,1111]
[12,11273,14,11277,13,11282,14,11288,null,null,0,1111]
[12,11396,14,11401,13,11406,14,11414,null,null,0,1111]
[12,11526,14,11531,13,11536,14,11541,null,null,0,1111]
[12,11644,14,11650,13,11659,14,11667,null,null,0,1111]
[12,11770,14,11776,13,11785,14,11792,null,null,0,1111]
[12,11898,14,11902,13,11918,14,11922,null,null,0,1111]
[12,12022,14,12030,13,12034,14,12046,null,null,0,1111]
[12,12146,14,12151,13,12159,14,12167,null,null,0,1111]
[12,12268,14,12273,13,12277,14,12282,null,null,0,1111]
[12,12384,14,12393,13,12402,14,12412,null,null,0,1111]
[12,12510,14,12515,13,12520,14,12524,null,null,0,1111]
[12,12628,14,12633,13,12637,14,12642,null,null,0,1111]
[12,12745,14,12751,13,12756,14,12761,null,null,0,1111]
[12,12866,14,12872,13,12880,14,12889,null,null,0,1111]
[12,12981,14,12985,13,12992,14,13001,null,null,0,1111]
[12,13098,14,13105,13,13111,14,13115,null,null,0,1111]
[12,13215,14,13227,13,13231,14,13236,null,null,0,1111]
[12,13344,14,13349,13,13353,14,13358,null,null,0,1111]
[12,13462,14,13467,13,13473,14,13478,null,null,0,1111]
[12,13577,14,13583,13,13588,14,13598,null,null,0,1111]
[12,13713,14,13721,13,13730,14,13739,null,null,0,1111]
[12,13842,14,13847,13,13856,14,13865,null,null,0,1111]
[12,13959,14,13968,13,13973,14,13991,null,null,0,1111]
[12,14153,14,14163,13,14168,14,14176,null,null,0,1111]
[12,14274,14,14279,13,14284,14,14289,null,null,0,1111]
[12,14391,14,14400,13,14405,14,14411,null,null,0,1111]
[12,14516,14,14522,13,14527,14,14532,null,null,0,1111]
[12,14631,14,14637,13,14642,14,14649,null,null,0,1111]
[12,14747,14,14755,13,14764,14,14772,null,null,0,1111]
[12,14882,14,14887,13,14896,14,14904,null,null,0,1111]
[12,15002,14,15011,13,15015,14,15020,null,null,0,1111]
[12,15117,14,15122,13,15131,14,15138,null,null,0,1111]
[12,15244,14,15249,13,15258,14,15266,null,null,0,1111]
[12,15371,14,15376,13,15385,14,15390,null,null,0,1111]
[12,15490,14,15495,13,15500,14,15505,null,null,0,1111]
[12,15610,14,15616,13,15620,14,15625,null,null,0,1111]
[12,15723,14,15729,13,15734,14,15738,null,null,0,1111]
[12,15833,14,15838,13,15845,14,15852,null,null,0,1111]
[12,15958,14,15964,13,15973,14,15983,null,null,0,1111]
[12,16087,14,16092,13,16097,14,16103,null,null,0,1111]
[12,16195,14,16200,13,16206,14,16214,null,null,0,1111]
[12,16322,14,16328,13,16332,14,16337,null,null,0,1111]
[12,16434,14,16440,13,16446,14,16454,null,null,0,1111]
[12,16555,14,16563,13,16571,14,16584,null,null,0,1111]
[12,16687,14,16692,13,16698,14,16703,null,null,0,1111]
[12,16801,14,16806,13,16819,14,16827,null,null,0,1111]
[12,16927,14,16933,13,16938,14,16948,null,null,0,1111]
[12,17053,14,17060,13,17076,14,17095,null,null,0,1111]
[12,17186,14,17192,13,17197,14,17203,null,null,0,1111]
[12,17310,14,17316,13,17321,14,17326,null,null,0,1111]
[12,17425,14,17431,13,17436,14,17441,null,null,0,1111]
[12,17542,14,17548,13,17554,14,17560,null,null,0,1111]
[12,17664,14,17669,13,17673,14,17679,null,null,0,1111]
[12,17770,14,17775,13,17780,14,17785,null,null,0,1111]
[12,17886,14,17896,13,17900,14,17905,null,null,0,1111]
[12,18004,14,18009,13,18015,14,18020,null,null,0,1111]
[12,18121,14,18127,13,18133,14,18141,null,null,0,1111]
[12,18240,14,18245,13,18253,14,18262,null,null,0,1111]
[12,18373,14,18380,13,18389,14,18398,null,null,0,1111]
[12,18498,14,18503,13,18507,14,18512,null,null,0,1111]
[12,18610,14,18615,13,18621,14,18627,null,null,0,1111]
[12,18724,14,18730,13,18736,14,18744,null,null,0,1111]
[12,18844,14,18852,13,18857,14,18863,null,null,0,1111]
[12,18964,14,18969,13,18974,14,18983,null,null,0,1111]
[12,19080,14,19094,13,19100,14,19108,null,null,0,1111]
[12,19201,14,19205,13,19209,14,19214,null,null,0,1111]
[12,19312,14,19317,13,19322,14,19328,null,null,0,1111]
[12,19426,14,19435,13,19440,14,19447,null,null,0,1111]
[12,19555,14,19560,13,19565,14,19570,null,null,0,1111]
[12,19677,14,19682,13,19691,14,19697,null,null,0,1111]
[12,19798,14,19806,13,19811,14,19815,null,null,0,1111]
[12,19922,14,19928,13,19934,14,19940,null,null,0,1111]
[12,20040,14,20048,13,20054,14,20062,null,null,0,1111]
[12,20167,14,20173,13,20179,14,20183,null,null,0,1111]
[12,20286,14,20292,13,20297,14,20303,null,null,0,1111]
[12,20405,14,20413,13,20418,14,20422,null,null,0,1111]
[12,20512,14,20518,13,20522,14,20531,null,null,0,1111]
[12,20638,14,20643,13,20648,14,20653,null,null,0,1111]
[12,20762,14,20771,13,20775,14,20781,null,null,0,1111]
[12,20889,14,20896,13,20900,14,20905,null,null,0,1111]
[12,21012,14,21017,13,21022,14,21028,null,null,0,1111]
[12,21133,14,21141,13,21146,14,21151,null,null,0,1111]
[12,21257,14,21262,13,21268,14,21273,null,null,0,1111]
[12,21384,14,21394,13,21406,14,21416,null,null,0,1111]
[12,21517,14,21523,13,21528,14,21533,null,null,0,1111]
[12,21622,14,21629,13,21633,14,21642,null,null,0,1111]
[12,21742,14,21748,13,21753,14,21758,null,null,0,1111]
[12,21862,14,21868,13,21872,14,21877,null,null,0,1111]
[12,21981,14,21986,13,21991,14,21998,null,null,0,1111]
[12,22106,14,22111,13,22116,14,22121,null,null,0,1111]
[12,22221,14,22227,13,22232,14,22237,null,null,0,1111]
[12,22329,14,22336,13,22344,14,22363,null,null,0,1111]
[12,22462,14,22468,13,22473,14,22478,null,null,0,1111]
[12,22584,14,22589,13,22593,14,22598,null,null,0,1111]
[12,22698,14,22706,13,22715,14,22724,null,null,0,1111]
[12,22821,14,22826,13,22831,14,22839,null,null,0,1111]
[12,22942,14,22948,13,22953,14,22966,null,null,0,1111]
[12,23063,14,23069,13,23073,14,23079,null,null,0,1111]
[12,23179,14,23186,13,23192,14,23196,null,null,0,1111]
[12,23296,14,23300,13,23306,14,23319,null,null,0,1111]
[12,23423,14,23428,13,23433,14,23438,null,null,0,1111]
[12,23544,14,23549,13,23554,14,23563,null,null,0,1111]
[12,23666,14,23671,13,23676,14,23686,null,null,0,1111]
[12,23794,14,23801,13,23806,14,23814,null,null,0,1111]
[12,23913,14,23919,13,23923,14,23929,null,null,null,1111]

{"sheet":"!L924C20.056","index":27,"n_rows":208,"n_cols":48,"rows_kept":208,"cut":false,"hidden":false,"merged":[[4,39,4,42],[5,39,5,40],[4,44,4,47],[5,44,5,45],[4,24,4,27],[5,24,5,25],[4,29,4,32],[5,29,5,30],[4,34,4,37],[5,34,5,35],[1,1,1,2],[5,13,5,14],[26,13,26,14],[27,13,27,14],[4,19,4,22],[5,19,5,20]]}
["Report for:!L924C20.056"]
["Date:","<date>"]
["Hen:","<hen>",null,null,null,"Correct Sequence",{"$f":"Start!J2","v":2212},null,null,null,null,null,null,null,null,"Total Sequences in Data",{"$f":"4994-COUNTBLANK(L7:L5000)","v":202},null,null,null,null,"Total Sequences in Block Data",{"$f":"COUNTA(L7:L40)","v":34},null,null,null,"Total Sequences in Block Data",{"$f":"COUNTA(L41:L73)","v":33},null,null,null,"Total Sequences in Block Data",{"$f":"COUNTA(L74:L107)","v":34},null,null,null,"Total Sequences in Block Data",{"$f":"COUNTA(L108:L141)","v":34},null,null,null,"Total Sequences in Block Data",{"$f":"COUNTA(L142:L174)","v":33},null,null,null,"Total Sequences in Block Data",{"$f":"COUNTA(L175:L208)","v":34}]
[null,null,null,null,null,null,null,null,null,null,null,null,null,null,null,"Total Sequences in Summary",{"$f":"SUM(O7:O22)","v":202},null,null,null,null,"Total Sequences in Block Summary",{"$f":"SUM(U7:U22)","v":34},null,null,null,"Total Sequences in Block Summary",{"$f":"SUM(Z7:Z22)","v":33},null,null,null,"Total Sequences in Block Summary",{"$f":"SUM(AE7:AE22)","v":34},null,null,null,"Total Sequences in Block Summary",{"$f":"SUM(AJ7:AJ22)","v":34},null,null,null,"Total Sequences in Block Summary",{"$f":"SUM(AO7:AO22)","v":33},null,null,null,"Total Sequences in Block Summary",{"$f":"SUM(AT7:AT22)","v":34}]
[null,null,null,null,null,null,null,null,null,null,null,null,null,null,null,null,null,null,null,"Block 1",null,null,null,null,"Block 2",null,null,null,null,"Block 3",null,null,null,null,"Block 4",null,null,null,null,"Block 5",null,null,null,null,"Block 6"]
["Sequence\nComponent\n1","Time\n1","Sequence\nComponent\n2","Time\n2","Sequence\nComponent\n3","Time\n3","Sequence\nComponent\n4","Time\n4","Sequence\nComponent\n5","Time\n5","Correct?\n0=No 1=Yes","Sequence",null,"Frequency",null,"Relative Frequency","Variability",null,null,"Frequency",null,"Relative Frequency","Variability",null,"Frequency",null,"Relative Frequency","Variability",null,"Frequency",null,"Relative Frequency","Variability",null,"Frequency",null,"Relative Frequency","Variability",null,"Frequency",null,"Relative Frequency","Variability",null,"Frequency",null,"Relative Frequency","Variability"]
[12,20,14,26,13,32,14,42,null,null,0,1111,null,1111,{"$f":"COUNTIF($L$7:$L$500,N7)","v":201},{"$f":"O7/$Q$4","v":0.99504950495049505},{"$f":"IF(P7=0,0,(P7*((LOG(P7))/LOG(2))))","v":-7.1243470601291686E-3},null,null,{"$f":"N7","v":1111},{"$f":"COUNTIF(L7:L40,T7)","v":34},{"$f":"U7/(W4-U20)","v":1},{"$f":"IF(V7=0,0,(V7*((LOG(V7))/LOG(2))))","v":0},null,{"$f":"N7","v":1111},{"$f":"COUNTIF(L41:L73,Y7)","v":33},{"$f":"Z7/(AB4-Z20)","v":1},{"$f":"IF(AA7=0,0,(AA7*((LOG(AA7))/LOG(2))))","v":0},null,{"$f":"N7","v":1111},{"$f":"COUNTIF(L74:L107,AD7)","v":34},{"$f":"AE7/(AG4-AE20)","v":1},{"$f":"IF(AF7=0,0,(AF7*((LOG(AF7))/LOG(2))))","v":0},null,{"$f":"N7","v":1111},{"$f":"COUNTIF(L108:L141,AI7)","v":34},{"$f":"AJ7/(AL4-AJ20)","v":1},{"$f":"IF(AK7=0,0,(AK7*((LOG(AK7))/LOG(2))))","v":0},null,{"$f":"N7","v":1111},{"$f":"COUNTIF(L142:L174,AN7)","v":32},{"$f":"AO7/(AQ4-AO20)","v":0.96969696969696972},{"$f":"IF(AP7=0,0,(AP7*((LOG(AP7))/LOG(2))))","v":-4.3048843014257841E-2},null,{"$f":"N7","v":1111},{"$f":"COUNTIF(L175:L208,AS7)","v":34},{"$f":"AT7/(AV4-AT20)","v":1},{"$f":"IF(AU7=0,0,(AU7*((LOG(AU7))/LOG(2))))","v":0}]
[12,145,14,150,13,155,14,160,null,null,0,1111,null,1112,{"$f":"COUNTIF($L$7:$L$500,N8)","v":0},{"$f":"O8/$Q$4","v":0},{"$f":"IF(P8=0,0,(P8*((LOG(P8))/LOG(2))))","v":0},null,null,{"$f":"N8","v":1112},{"$f":"COUNTIF(L7:L40,T8)","v":0},{"$f":"U8/(W4-U20)","v":0},{"$f":"IF(V8=0,0,(V8*((LOG(V8))/LOG(2))))","v":0},null,{"$f":"N8","v":1112},{"$f":"COUNTIF(L41:L73,Y8)","v":0},{"$f":"Z8/(AB4-Z20)","v":0},{"$f":"IF(AA8=0,0,(AA8*((LOG(AA8))/LOG(2))))","v":0},null,{"$f":"N8","v":1112},{"$f":"COUNTIF(L74:L107,AD8)","v":0},{"$f":"AE8/(AG4-AE20)","v":0},{"$f":"IF(AF8=0,0,(AF8*((LOG(AF8))/LOG(2))))","v":0},null,{"$f":"N8","v":1112},{"$f":"COUNTIF(L108:L141,AI8)","v":0},{"$f":"AJ8/(AL4-AJ20)","v":0},{"$f":"IF(AK8=0,0,(AK8*((LOG(AK8))/LOG(2))))","v":0},null,{"$f":"N8","v":1112},{"$f":"COUNTIF(L142:L174,AN8)","v":0},{"$f":"AO8/(AQ4-AO20)","v":0},{"$f":"IF(AP8=0,0,(AP8*((LOG(AP8))/LOG(2))))","v":0},null,{"$f":"N8","v":1112},{"$f":"COUNTIF(L175:L208,AS8)","v":0},{"$f":"AT8/(AV4-AT20)","v":0},{"$f":"IF(AU8=0,0,(AU8*((LOG(AU8))/LOG(2))))","v":0}]
[12,267,14,277,13,282,14,287,null,null,0,1111,null,1121,{"$f":"COUNTIF($L$7:$L$500,N9)","v":0},{"$f":"O9/$Q$4","v":0},{"$f":"IF(P9=0,0,(P9*((LOG(P9))/LOG(2))))","v":0},null,null,{"$f":"N9","v":1121},{"$f":"COUNTIF(L7:L40,T9)","v":0},{"$f":"U9/(W4-U20)","v":0},{"$f":"IF(V9=0,0,(V9*((LOG(V9))/LOG(2))))","v":0},null,{"$f":"N9","v":1121},{"$f":"COUNTIF(L41:L73,Y9)","v":0},{"$f":"Z9/(AB4-Z20)","v":0},{"$f":"IF(AA9=0,0,(AA9*((LOG(AA9))/LOG(2))))","v":0},null,{"$f":"N9","v":1121},{"$f":"COUNTIF(L74:L107,AD9)","v":0},{"$f":"AE9/(AG4-AE20)","v":0},{"$f":"IF(AF9=0,0,(AF9*((LOG(AF9))/LOG(2))))","v":0},null,{"$f":"N9","v":1121},{"$f":"COUNTIF(L108:L141,AI9)","v":0},{"$f":"AJ9/(AL4-AJ20)","v":0},{"$f":"IF(AK9=0,0,(AK9*((LOG(AK9))/LOG(2))))","v":0},null,{"$f":"N9","v":1121},{"$f":"COUNTIF(L142:L174,AN9)","v":0},{"$f":"AO9/(AQ4-AO20)","v":0},{"$f":"IF(AP9=0,0,(AP9*((LOG(AP9))/LOG(2))))","v":0},null,{"$f":"N9","v":1121},{"$f":"COUNTIF(L175:L208,AS9)","v":0},{"$f":"AT9/(AV4-AT20)","v":0},{"$f":"IF(AU9=0,0,(AU9*((LOG(AU9))/LOG(2))))","v":0}]
[12,396,14,401,13,405,14,411,null,null,0,1111,null,1122,{"$f":"COUNTIF($L$7:$L$500,N10)","v":0},{"$f":"O10/$Q$4","v":0},{"$f":"IF(P10=0,0,(P10*((LOG(P10))/LOG(2))))","v":0},null,null,{"$f":"N10","v":1122},{"$f":"COUNTIF(L7:L40,T10)","v":0},{"$f":"U10/(W4-U20)","v":0},{"$f":"IF(V10=0,0,(V10*((LOG(V10))/LOG(2))))","v":0},null,{"$f":"N10","v":1122},{"$f":"COUNTIF(L41:L73,Y10)","v":0},{"$f":"Z10/(AB4-Z20)","v":0},{"$f":"IF(AA10=0,0,(AA10*((LOG(AA10))/LOG(2))))","v":0},null,{"$f":"N10","v":1122},{"$f":"COUNTIF(L74:L107,AD10)","v":0},{"$f":"AE10/(AG4-AE20)","v":0},{"$f":"IF(AF10=0,0,(AF10*((LOG(AF10))/LOG(2))))","v":0},null,{"$f":"N10","v":1122},{"$f":"COUNTIF(L108:L141,AI10)","v":0},{"$f":"AJ10/(AL4-AJ20)","v":0},{"$f":"IF(AK10=0,0,(AK10*((LOG(AK10))/LOG(2))))","v":0},null,{"$f":"N10","v":1122},{"$f":"COUNTIF(L142:L174,AN10)","v":0},{"$f":"AO10/(AQ4-AO20)","v":0},{"$f":"IF(AP10=0,0,(AP10*((LOG(AP10))/LOG(2))))","v":0},null,{"$f":"N10","v":1122},{"$f":"COUNTIF(L175:L208,AS10)","v":0},{"$f":"AT10/(AV4-AT20)","v":0},{"$f":"IF(AU10=0,0,(AU10*((LOG(AU10))/LOG(2))))","v":0}]
[12,519,14,527,13,532,14,544,null,null,0,1111,null,1211,{"$f":"COUNTIF($L$7:$L$500,N11)","v":0},{"$f":"O11/$Q$4","v":0},{"$f":"IF(P11=0,0,(P11*((LOG(P11))/LOG(2))))","v":0},null,null,{"$f":"N11","v":1211},{"$f":"COUNTIF(L7:L40,T11)","v":0},{"$f":"U11/(W4-U20)","v":0},{"$f":"IF(V11=0,0,(V11*((LOG(V11))/LOG(2))))","v":0},null,{"$f":"N11","v":1211},{"$f":"COUNTIF(L41:L73,Y11)","v":0},{"$f":"Z11/(AB4-Z20)","v":0},{"$f":"IF(AA11=0,0,(AA11*((LOG(AA11))/LOG(2))))","v":0},null,{"$f":"N11","v":1211},{"$f":"COUNTIF(L74:L107,AD11)","v":0},{"$f":"AE11/(AG4-AE20)","v":0},{"$f":"IF(AF11=0,0,(AF11*((LOG(AF11))/LOG(2))))","v":0},null,{"$f":"N11","v":1211},{"$f":"COUNTIF(L108:L141,AI11)","v":0},{"$f":"AJ11/(AL4-AJ20)","v":0},{"$f":"IF(AK11=0,0,(AK11*((LOG(AK11))/LOG(2))))","v":0},null,{"$f":"N11","v":1211},{"$f":"COUNTIF(L142:L174,AN11)","v":0},{"$f":"AO11/(AQ4-AO20)","v":0},{"$f":"IF(AP11=0,0,(AP11*((LOG(AP11))/LOG(2))))","v":0},null,{"$f":"N11","v":1211},{"$f":"COUNTIF(L175:L208,AS11)","v":0},{"$f":"AT11/(AV4-AT20)","v":0},{"$f":"IF(AU11=0,0,(AU11*((LOG(AU11))/LOG(2))))","v":0}]
[12,646,14,652,13,658,14,668,null,null,0,1111,null,1212,{"$f":"COUNTIF($L$7:$L$500,N12)","v":0},{"$f":"O12/$Q$4","v":0},{"$f":"IF(P12=0,0,(P12*((LOG(P12))/LOG(2))))","v":0},null,null,{"$f":"N12","v":1212},{"$f":"COUNTIF(L7:L40,T12)","v":0},{"$f":"U12/(W4-U20)","v":0},{"$f":"IF(V12=0,0,(V12*((LOG(V12))/LOG(2))))","v":0},null,{"$f":"N12","v":1212},{"$f":"COUNTIF(L41:L73,Y12)","v":0},{"$f":"Z12/(AB4-Z20)","v":0},{"$f":"IF(AA12=0,0,(AA12*((LOG(AA12))/LOG(2))))","v":0},null,{"$f":"N12","v":1212},{"$f":"COUNTIF(L74:L107,AD12)","v":0},{"$f":"AE12/(AG4-AE20)","v":0},{"$f":"IF(AF12=0,0,(AF12*((LOG(AF12))/LOG(2))))","v":0},null,{"$f":"N12","v":1212},{"$f":"COUNTIF(L108:L141,AI12)","v":0},{"$f":"AJ12/(AL4-AJ20)","v":0},{"$f":"IF(AK12=0,0,(AK12*((LOG(AK12))/LOG(2))))","v":0},null,{"$f":"N12","v":1212},{"$f":"COUNTIF(L142:L174,AN12)","v":0},{"$f":"AO12/(AQ4-AO20)","v":0},{"$f":"IF(AP12=0,0,(AP12*((LOG(AP12))/LOG(2))))","v":0},null,{"$f":"N12","v":1212},{"$f":"COUNTIF(L175:L208,AS12)","v":0},{"$f":"AT12/(AV4-AT20)","v":0},{"$f":"IF(AU12=0,0,(AU12*((LOG(AU12))/LOG(2))))","v":0}]
[12,769,14,780,13,784,14,789,null,null,0,1111,null,1221,{"$f":"COUNTIF($L$7:$L$500,N13)","v":0},{"$f":"O13/$Q$4","v":0},{"$f":"IF(P13=0,0,(P13*((LOG(P13))/LOG(2))))","v":0},null,null,{"$f":"N13","v":1221},{"$f":"COUNTIF(L7:L40,T13)","v":0},{"$f":"U13/(W4-U20)","v":0},{"$f":"IF(V13=0,0,(V13*((LOG(V13))/LOG(2))))","v":0},null,{"$f":"N13","v":1221},{"$f":"COUNTIF(L41:L73,Y13)","v":0},{"$f":"Z13/(AB4-Z20)","v":0},{"$f":"IF(AA13=0,0,(AA13*((LOG(AA13))/LOG(2))))","v":0},null,{"$f":"N13","v":1221},{"$f":"COUNTIF(L74:L107,AD13)","v":0},{"$f":"AE13/(AG4-AE20)","v":0},{"$f":"IF(AF13=0,0,(AF13*((LOG(AF13))/LOG(2))))","v":0},null,{"$f":"N13","v":1221},{"$f":"COUNTIF(L108:L141,AI13)","v":0},{"$f":"AJ13/(AL4-AJ20)","v":0},{"$f":"IF(AK13=0,0,(AK13*((LOG(AK13))/LOG(2))))","v":0},null,{"$f":"N13","v":1221},{"$f":"COUNTIF(L142:L174,AN13)","v":0},{"$f":"AO13/(AQ4-AO20)","v":0},{"$f":"IF(AP13=0,0,(AP13*((LOG(AP13))/LOG(2))))","v":0},null,{"$f":"N13","v":1221},{"$f":"COUNTIF(L175:L208,AS13)","v":0},{"$f":"AT13/(AV4-AT20)","v":0},{"$f":"IF(AU13=0,0,(AU13*((LOG(AU13))/LOG(2))))","v":0}]
[12,899,14,904,13,914,14,929,null,null,0,1111,null,1222,{"$f":"COUNTIF($L$7:$L$500,N14)","v":0},{"$f":"O14/$Q$4","v":0},{"$f":"IF(P14=0,0,(P14*((LOG(P14))/LOG(2))))","v":0},null,null,{"$f":"N14","v":1222},{"$f":"COUNTIF(L7:L40,T14)","v":0},{"$f":"U14/(W4-U20)","v":0},{"$f":"IF(V14=0,0,(V14*((LOG(V14))/LOG(2))))","v":0},null,{"$f":"N14","v":1222},{"$f":"COUNTIF(L41:L73,Y14)","v":0},{"$f":"Z14/(AB4-Z20)","v":0},{"$f":"IF(AA14=0,0,(AA14*((LOG(AA14))/LOG(2))))","v":0},null,{"$f":"N14","v":1222},{"$f":"COUNTIF(L74:L107,AD14)","v":0},{"$f":"AE14/(AG4-AE20)","v":0},{"$f":"IF(AF14=0,0,(AF14*((LOG(AF14))/LOG(2))))","v":0},null,{"$f":"N14","v":1222},{"$f":"COUNTIF(L108:L141,AI14)","v":0},{"$f":"AJ14/(AL4-AJ20)","v":0},{"$f":"IF(AK14=0,0,(AK14*((LOG(AK14))/LOG(2))))","v":0},null,{"$f":"N14","v":1222},{"$f":"COUNTIF(L142:L174,AN14)","v":0},{"$f":"AO14/(AQ4-AO20)","v":0},{"$f":"IF(AP14=0,0,(AP14*((LOG(AP14))/LOG(2))))","v":0},null,{"$f":"N14","v":1222},{"$f":"COUNTIF(L175:L208,AS14)","v":0},{"$f":"AT14/(AV4-AT20)","v":0},{"$f":"IF(AU14=0,0,(AU14*((LOG(AU14))/LOG(2))))","v":0}]
[12,1037,14,1042,13,1051,14,1061,null,null,0,1111,null,2111,{"$f":"COUNTIF($L$7:$L$500,N15)","v":1},{"$f":"O15/$Q$4","v":4.9504950495049506E-3},{"$f":"IF(P15=0,0,(P15*((LOG(P15))/LOG(2))))","v":-3.7911938033424727E-2},null,null,{"$f":"N15","v":2111},{"$f":"COUNTIF(L7:L40,T15)","v":0},{"$f":"U15/(W4-U20)","v":0},{"$f":"IF(V15=0,0,(V15*((LOG(V15))/LOG(2))))","v":0},null,{"$f":"N15","v":2111},{"$f":"COUNTIF(L41:L73,Y15)","v":0},{"$f":"Z15/(AB4-Z20)","v":0},{"$f":"IF(AA15=0,0,(AA15*((LOG(AA15))/LOG(2))))","v":0},null,{"$f":"N15","v":2111},{"$f":"COUNTIF(L74:L107,AD15)","v":0},{"$f":"AE15/(AG4-AE20)","v":0},{"$f":"IF(AF15=0,0,(AF15*((LOG(AF15))/LOG(2))))","v":0},null,{"$f":"N15","v":2111},{"$f":"COUNTIF(L108:L141,AI15)","v":0},{"$f":"AJ15/(AL4-AJ20)","v":0},{"$f":"IF(AK15=0,0,(AK15*((LOG(AK15))/LOG(2))))","v":0},null,{"$f":"N15","v":2111},{"$f":"COUNTIF(L142:L174,AN15)","v":1},{"$f":"AO15/(AQ4-AO20)","v":3.0303030303030304E-2},{"$f":"IF(AP15=0,0,(AP15*((LOG(AP15))/LOG(2))))","v":-0.15286042785934709},null,{"$f":"N15","v":2111},{"$f":"COUNTIF(L175:L208,AS15)","v":0},{"$f":"AT15/(AV4-AT20)","v":0},{"$f":"IF(AU15=0,0,(AU15*((LOG(AU15))/LOG(2))))","v":0}]
[12,1170,14,1181,13,1187,14,1193,null,null,0,1111,null,2112,{"$f":"COUNTIF($L$7:$L$500,N16)","v":0},{"$f":"O16/$Q$4","v":0},{"$f":"IF(P16=0,0,(P16*((LOG(P16))/LOG(2))))","v":0},null,null,{"$f":"N16","v":2112},{"$f":"COUNTIF(L7:L40,T16)","v":0},{"$f":"U16/(W4-U20)","v":0},{"$f":"IF(V16=0,0,(V16*((LOG(V16))/LOG(2))))","v":0},null,{"$f":"N16","v":2112},{"$f":"COUNTIF(L41:L73,Y16)","v":0},{"$f":"Z16/(AB4-Z20)","v":0},{"$f":"IF(AA16=0,0,(AA16*((LOG(AA16))/LOG(2))))","v":0},null,{"$f":"N16","v":2112},{"$f":"COUNTIF(L74:L107,AD16)","v":0},{"$f":"AE16/(AG4-AE20)","v":0},{"$f":"IF(AF16=0,0,(AF16*((LOG(AF16))/LOG(2))))","v":0},null,{"$f":"N16","v":2112},{"$f":"COUNTIF(L108:L141,AI16)","v":0},{"$f":"AJ16/(AL4-AJ20)","v":0},{"$f":"IF(AK16=0,0,(AK16*((LOG(AK16))/LOG(2))))","v":0},null,{"$f":"N16","v":2112},{"$f":"COUNTIF(L142:L174,AN16)","v":0},{"$f":"AO16/(AQ4-AO20)","v":0},{"$f":"IF(AP16=0,0,(AP16*((LOG(AP16))/LOG(2))))","v":0},null,{"$f":"N16","v":2112},{"$f":"COUNTIF(L175:L208,AS16)","v":0},{"$f":"AT16/(AV4-AT20)","v":0},{"$f":"IF(AU16=0,0,(AU16*((LOG(AU16))/LOG(2))))","v":0}]
[12,1302,14,1307,13,1312,14,1318,null,null,0,1111,null,2121,{"$f":"COUNTIF($L$7:$L$500,N17)","v":0},{"$f":"O17/$Q$4","v":0},{"$f":"IF(P17=0,0,(P17*((LOG(P17))/LOG(2))))","v":0},null,null,{"$f":"N17","v":2121},{"$f":"COUNTIF(L7:L40,T17)","v":0},{"$f":"U17/(W4-U20)","v":0},{"$f":"IF(V17=0,0,(V17*((LOG(V17))/LOG(2))))","v":0},null,{"$f":"N17","v":2121},{"$f":"COUNTIF(L41:L73,Y17)","v":0},{"$f":"Z17/(AB4-Z20)","v":0},{"$f":"IF(AA17=0,0,(AA17*((LOG(AA17))/LOG(2))))","v":0},null,{"$f":"N17","v":2121},{"$f":"COUNTIF(L74:L107,AD17)","v":0},{"$f":"AE17/(AG4-AE20)","v":0},{"$f":"IF(AF17=0,0,(AF17*((LOG(AF17))/LOG(2))))","v":0},null,{"$f":"N17","v":2121},{"$f":"COUNTIF(L108:L141,AI17)","v":0},{"$f":"AJ17/(AL4-AJ20)","v":0},{"$f":"IF(AK17=0,0,(AK17*((LOG(AK17))/LOG(2))))","v":0},null,{"$f":"N17","v":2121},{"$f":"COUNTIF(L142:L174,AN17)","v":0},{"$f":"AO17/(AQ4-AO20)","v":0},{"$f":"IF(AP17=0,0,(AP17*((LOG(AP17))/LOG(2))))","v":0},null,{"$f":"N17","v":2121},{"$f":"COUNTIF(L175:L208,AS17)","v":0},{"$f":"AT17/(AV4-AT20)","v":0},{"$f":"IF(AU17=0,0,(AU17*((LOG(AU17))/LOG(2))))","v":0}]
[12,1427,14,1432,13,1437,14,1443,null,null,0,1111,null,2122,{"$f":"COUNTIF($L$7:$L$500,N18)","v":0},{"$f":"O18/$Q$4","v":0},{"$f":"IF(P18=0,0,(P18*((LOG(P18))/LOG(2))))","v":0},null,null,{"$f":"N18","v":2122},{"$f":"COUNTIF(L7:L40,T18)","v":0},{"$f":"U18/(W4-U20)","v":0},{"$f":"IF(V18=0,0,(V18*((LOG(V18))/LOG(2))))","v":0},null,{"$f":"N18","v":2122},{"$f":"COUNTIF(L41:L73,Y18)","v":0},{"$f":"Z18/(AB4-Z20)","v":0},{"$f":"IF(AA18=0,0,(AA18*((LOG(AA18))/LOG(2))))","v":0},null,{"$f":"N18","v":2122},{"$f":"COUNTIF(L74:L107,AD18)","v":0},{"$f":"AE18/(AG4-AE20)","v":0},{"$f":"IF(AF18=0,0,(AF18*((LOG(AF18))/LOG(2))))","v":0},null,{"$f":"N18","v":2122},{"$f":"COUNTIF(L108:L141,AI18)","v":0},{"$f":"AJ18/(AL4-AJ20)","v":0},{"$f":"IF(AK18=0,0,(AK18*((LOG(AK18))/LOG(2))))","v":0},null,{"$f":"N18","v":2122},{"$f":"COUNTIF(L142:L174,AN18)","v":0},{"$f":"AO18/(AQ4-AO20)","v":0},{"$f":"IF(AP18=0,0,(AP18*((LOG(AP18))/LOG(2))))","v":0},null,{"$f":"N18","v":2122},{"$f":"COUNTIF(L175:L208,AS18)","v":0},{"$f":"AT18/(AV4-AT20)","v":0},{"$f":"IF(AU18=0,0,(AU18*((LOG(AU18))/LOG(2))))","v":0}]
[12,1547,14,1553,13,1558,14,1563,null,null,0,1111,null,2211,{"$f":"COUNTIF($L$7:$L$500,N19)","v":0},{"$f":"O19/$Q$4","v":0},{"$f":"IF(P19=0,0,(P19*((LOG(P19))/LOG(2))))","v":0},null,null,{"$f":"N19","v":2211},{"$f":"COUNTIF(L7:L40,T19)","v":0},{"$f":"U19/(W4-U20)","v":0},{"$f":"IF(V19=0,0,(V19*((LOG(V19))/LOG(2))))","v":0},null,{"$f":"N19","v":2211},{"$f":"COUNTIF(L41:L73,Y19)","v":0},{"$f":"Z19/(AB4-Z20)","v":0},{"$f":"IF(AA19=0,0,(AA19*((LOG(AA19))/LOG(2))))","v":0},null,{"$f":"N19","v":2211},{"$f":"COUNTIF(L74:L107,AD19)","v":0},{"$f":"AE19/(AG4-AE20)","v":0},{"$f":"IF(AF19=0,0,(AF19*((LOG(AF19))/LOG(2))))","v":0},null,{"$f":"N19","v":2211},{"$f":"COUNTIF(L108:L141,AI19)","v":0},{"$f":"AJ19/(AL4-AJ20)","v":0},{"$f":"IF(AK19=0,0,(AK19*((LOG(AK19))/LOG(2))))","v":0},null,{"$f":"N19","v":2211},{"$f":"COUNTIF(L142:L174,AN19)","v":0},{"$f":"AO19/(AQ4-AO20)","v":0},{"$f":"IF(AP19=0,0,(AP19*((LOG(AP19))/LOG(2))))","v":0},null,{"$f":"N19","v":2211},{"$f":"COUNTIF(L175:L208,AS19)","v":0},{"$f":"AT19/(AV4-AT20)","v":0},{"$f":"IF(AU19=0,0,(AU19*((LOG(AU19))/LOG(2))))","v":0}]
[12,1672,14,1677,13,1683,14,1689,null,null,0,1111,null,2212,{"$f":"COUNTIF($L$7:$L$500,N20)","v":0},{"$f":"O20/$Q$4","v":0},{"$f":"IF(P20=0,0,(P20*((LOG(P20))/LOG(2))))","v":0},null,null,{"$f":"N20","v":2212},{"$f":"COUNTIF(L7:L40,T20)","v":0},null,null,null,{"$f":"N20","v":2212},{"$f":"COUNTIF(L41:L73,Y20)","v":0},null,null,null,{"$f":"N20","v":2212},{"$f":"COUNTIF(L74:L107,AD20)","v":0},null,null,null,{"$f":"N20","v":2212},{"$f":"COUNTIF(L108:L141,AI20)","v":0},null,null,null,{"$f":"N20","v":2212},{"$f":"COUNTIF(L142:L174,AN20)","v":0},null,null,null,{"$f":"N20","v":2212},{"$f":"COUNTIF(L175:L208,AS20)","v":0}]
[12,1798,14,1802,13,1807,14,1813,null,null,0,1111,null,2221,{"$f":"COUNTIF($L$7:$L$500,N21)","v":0},{"$f":"O21/$Q$4","v":0},{"$f":"IF(P21=0,0,(P21*((LOG(P21))/LOG(2))))","v":0},null,null,{"$f":"N21","v":2221},{"$f":"COUNTIF(L7:L40,T21)","v":0},{"$f":"U21/(W4-U20)","v":0},{"$f":"IF(V21=0,0,(V21*((LOG(V21))/LOG(2))))","v":0},null,{"$f":"N21","v":2221},{"$f":"COUNTIF(L41:L73,Y21)","v":0},{"$f":"Z21/(AB4-Z20)","v":0},{"$f":"IF(AA21=0,0,(AA21*((LOG(AA21))/LOG(2))))","v":0},null,{"$f":"N21","v":2221},{"$f":"COUNTIF(L74:L107,AD21)","v":0},{"$f":"AE21/(AG4-AE20)","v":0},{"$f":"IF(AF21=0,0,(AF21*((LOG(AF21))/LOG(2))))","v":0},null,{"$f":"N21","v":2221},{"$f":"COUNTIF(L108:L141,AI21)","v":0},{"$f":"AJ21/(AL4-AJ20)","v":0},{"$f":"IF(AK21=0,0,(AK21*((LOG(AK21))/LOG(2))))","v":0},null,{"$f":"N21","v":2221},{"$f":"COUNTIF(L142:L174,AN21)","v":0},{"$f":"AO21/(AQ4-AO20)","v":0},{"$f":"IF(AP21=0,0,(AP21*((LOG(AP21))/LOG(2))))","v":0},null,{"$f":"N21","v":2221},{"$f":"COUNTIF(L175:L208,AS21)","v":0},{"$f":"AT21/(AV4-AT20)","v":0},{"$f":"IF(AU21=0,0,(AU21*((LOG(AU21))/LOG(2))))","v":0}]
[12,1916,14,1923,13,1927,14,1934,null,null,0,1111,null,2222,{"$f":"COUNTIF($L$7:$L$500,N22)","v":0},{"$f":"O22/$Q$4","v":0},{"$f":"IF(P22=0,0,(P22*((LOG(P22))/LOG(2))))","v":0},null,null,{"$f":"N22","v":2222},{"$f":"COUNTIF(L7:L40,T22)","v":0},{"$f":"U22/(W4-U20)","v":0},{"$f":"IF(V22=0,0,(V22*((LOG(V22))/LOG(2))))","v":0},null,{"$f":"N22","v":2222},{"$f":"COUNTIF(L41:L73,Y22)","v":0},{"$f":"Z22/(AB4-Z20)","v":0},{"$f":"IF(AA22=0,0,(AA22*((LOG(AA22))/LOG(2))))","v":0},null,{"$f":"N22","v":2222},{"$f":"COUNTIF(L74:L107,AD22)","v":0},{"$f":"AE22/(AG4-AE20)","v":0},{"$f":"IF(AF22=0,0,(AF22*((LOG(AF22))/LOG(2))))","v":0},null,{"$f":"N22","v":2222},{"$f":"COUNTIF(L108:L141,AI22)","v":0},{"$f":"AJ22/(AL4-AJ20)","v":0},{"$f":"IF(AK22=0,0,(AK22*((LOG(AK22))/LOG(2))))","v":0},null,{"$f":"N22","v":2222},{"$f":"COUNTIF(L142:L174,AN22)","v":0},{"$f":"AO22/(AQ4-AO20)","v":0},{"$f":"IF(AP22=0,0,(AP22*((LOG(AP22))/LOG(2))))","v":0},null,{"$f":"N22","v":2222},{"$f":"COUNTIF(L175:L208,AS22)","v":0},{"$f":"AT22/(AV4-AT20)","v":0},{"$f":"IF(AU22=0,0,(AU22*((LOG(AU22))/LOG(2))))","v":0}]
[12,2036,14,2041,13,2045,14,2054,null,null,0,1111,null,null,null,{"$f":"SUM(P7:P22)","v":1},{"$f":"-SUM(Q7:Q22)","v":4.5036285093553896E-2},null,null,null,null,{"$f":"SUM(V7:V22)","v":1},{"$f":"-SUM(W7:W22)","v":0},null,null,null,{"$f":"SUM(AA7:AA22)","v":1},{"$f":"-SUM(AB7:AB22)","v":0},null,null,null,{"$f":"SUM(AF7:AF22)","v":1},{"$f":"-SUM(AG7:AG22)","v":0},null,null,null,{"$f":"SUM(AK7:AK22)","v":1},{"$f":"-SUM(AL7:AL22)","v":0},null,null,null,{"$f":"SUM(AP7:AP22)","v":1},{"$f":"-SUM(AQ7:AQ22)","v":0.19590927087360493},null,null,null,{"$f":"SUM(AU7:AU22)","v":1},{"$f":"-SUM(AV7:AV22)","v":0}]
[12,2173,14,2178,13,2184,14,2189,null,null,0,1111,null,null,null,"U=",{"$f":"Q23/(LOG(Q4)/LOG(2))","v":5.880783678406748E-3},null,null,null,null,"U1=",{"$f":"W23/(LOG(W4)/LOG(2))","v":0},null,null,null,"U2=",{"$f":"AB23/(LOG(AB4)/LOG(2))","v":0},null,null,null,"U3=",{"$f":"AG23/(LOG(AG4)/LOG(2))","v":0},null,null,null,"U4=",{"$f":"AL23/(LOG(AL4)/LOG(2))","v":0},null,null,null,"U5=",{"$f":"AQ23/(LOG(AQ4)/LOG(2))","v":3.8837027051827726E-2},null,null,null,"U6=",{"$f":"AV23/(LOG(AV4)/LOG(2))","v":0}]
[12,2295,14,2300,13,2306,14,2326,null,null,0,1111]
[12,2433,14,2438,13,2442,14,2447,null,null,0,1111]
[12,2553,14,2560,13,2570,14,2577,null,null,0,1111,null,"Total Target Seq"]
[12,2683,14,2688,13,2693,14,2699,null,null,0,1111,null,{"$f":"COUNTIF(L7:L208,G3)","v":0},null,34,33,34,34,33,34]
[12,2799,14,2805,13,2809,14,2814,null,null,0,1111,null,null,null,"% of reinforcement given in 6 equal intervals based on number of trials "]
[12,2921,14,2926,13,2930,14,2936,null,null,0,1111,null,null,null,"%_1","%_2","%_3","%_4","%_5","%_6"]
[12,3044,14,3050,13,3056,14,3064,null,null,0,1111,null,null,"target sequence",{"$f":"$G$3","v":2212},{"$f":"$G$3","v":2212},{"$f":"$G$3","v":2212},{"$f":"$G$3","v":2212},{"$f":"$G$3","v":2212},{"$f":"$G$3","v":2212}]
[12,3167,14,3173,13,3177,14,3182,null,null,0,1111,null,null,"total reinforcement",{"$f":"U20","v":0},{"$f":"Z20","v":0},{"$f":"AE20","v":0},{"$f":"AJ20","v":0},{"$f":"AO20","v":0},{"$f":"AT20","v":0}]
[12,3288,14,3292,13,3304,14,3318,null,null,0,1111,null,null,"% target"]
[12,3418,14,3428,13,3433,14,3440,null,null,0,1111,null,null,"CCRF"]
[12,3546,14,3551,13,3556,14,3561,null,null,0,1111,null,null,"% CCRf"]
[12,3666,14,3672,13,3683,14,3699,null,null,0,1111,null,null,"average response rate",{"$f":"H40/P28","v":123.17647058823529},{"$f":"(H73-H40)/Q28","v":122.21212121212122},{"$f":"(H107-H73)/R28","v":114.85294117647059},{"$f":"(H141-H107)/S28","v":117.08823529411765},{"$f":"(H174-H141)/T28","v":117.21212121212122},{"$f":"(H208-H174)/U28","v":117.32352941176471}]
[12,3802,14,3808,13,3813,14,3819,null,null,0,1111]
[12,3924,14,3929,13,3934,14,3948,null,null,0,1111]
[12,4047,14,4055,13,4059,14,4063,null,null,0,1111]
[12,4170,14,4175,13,4181,14,4188,null,null,0,1111]
[12,4293,14,4301,13,4305,14,4312,null,null,0,1111]
[12,4415,14,4420,13,4426,14,4440,null,null,0,1111]
[12,4536,14,4542,13,4546,14,4552,null,null,0,1111]
[12,4659,14,4669,13,4683,14,4690,null,null,0,1111]
[12,4794,14,4802,13,4806,14,4811,null,null,0,1111]
[12,4913,14,4919,13,4924,14,4932,null,null,0,1111]
[12,5036,14,5043,13,5049,14,5060,null,null,0,1111]
[12,5169,14,5178,13,5183,14,5191,null,null,0,1111]
[12,5290,14,5295,13,5300,14,5305,null,null,0,1111]
[12,5405,14,5411,13,5416,14,5422,null,null,0,1111]
[12,5525,14,5531,13,5536,14,5541,null,null,0,1111]
[12,5644,14,5652,13,5657,14,5668,null,null,0,1111]
[12,5771,14,5779,13,5787,14,5795,null,null,0,1111]
[12,5897,14,5908,13,5913,14,5920,null,null,0,1111]
[12,6013,14,6019,13,6025,14,6038,null,null,0,1111]
[12,6139,14,6146,13,6150,14,6156,null,null,0,1111]
[12,6260,14,6269,13,6277,14,6281,null,null,0,1111]
[12,6385,14,6394,13,6400,14,6413,null,null,0,1111]
[12,6513,14,6520,13,6524,14,6529,null,null,0,1111]
[12,6631,14,6640,13,6646,14,6659,null,null,0,1111]
[12,6759,14,6764,13,6769,14,6777,null,null,0,1111]
[12,6906,14,6911,13,6916,14,6926,null,null,0,1111]
[12,7028,14,7035,13,7040,14,7050,null,null,0,1111]
[12,7149,14,7156,13,7160,14,7166,null,null,0,1111]
[12,7264,14,7269,13,7273,14,7278,null,null,0,1111]
[12,7376,14,7380,13,7385,14,7391,null,null,0,1111]
[12,7489,14,7494,13,7498,14,7503,null,null,0,1111]
[12,7601,14,7607,13,7611,14,7617,null,null,0,1111]
[12,7717,14,7722,13,7732,14,7740,null,null,0,1111]
[12,7843,14,7851,13,7856,14,7861,null,null,0,1111]
[12,7965,14,7976,13,7980,14,7986,null,null,0,1111]
[12,8080,14,8085,13,8089,14,8101,null,null,0,1111]
[12,8203,14,8211,13,8215,14,8221,null,null,0,1111]
[12,8318,14,8323,13,8327,14,8331,null,null,0,1111]
[12,8426,14,8431,13,8436,14,8443,null,null,0,1111]
[12,8552,14,8557,13,8562,14,8567,null,null,0,1111]
[12,8666,14,8671,13,8675,14,8680,null,null,0,1111]
[12,8785,14,8792,13,8797,14,8808,null,null,0,1111]
[12,8904,14,8912,13,8916,14,8920,null,null,0,1111]
[12,9020,14,9024,13,9029,14,9034,null,null,0,1111]
[12,9135,14,9140,13,9145,14,9150,null,null,0,1111]
[12,9240,14,9245,13,9249,14,9254,null,null,0,1111]
[12,9355,14,9359,13,9364,14,9369,null,null,0,1111]
[12,9474,14,9479,13,9484,14,9488,null,null,0,1111]
[12,9589,14,9594,13,9598,14,9603,null,null,0,1111]
[12,9702,14,9707,13,9712,14,9725,null,null,0,1111]
[12,9823,14,9829,13,9834,14,9839,null,null,0,1111]
[12,9931,14,9937,13,9942,14,9947,null,null,0,1111]
[12,10045,14,10050,13,10054,14,10059,null,null,0,1111]
[12,10160,14,10165,13,10170,14,10184,null,null,0,1111]
[12,10286,14,10291,13,10298,14,10304,null,null,0,1111]
[12,10402,14,10407,13,10411,14,10420,null,null,0,1111]
[12,10511,14,10517,13,10521,14,10525,null,null,0,1111]
[12,10627,14,10632,13,10641,14,10648,null,null,0,1111]
[12,10745,14,10750,13,10754,14,10759,null,null,0,1111]
[12,10862,14,10866,13,10871,14,10875,null,null,0,1111]
[12,10972,14,10977,13,10983,14,10988,null,null,0,1111]
[12,11091,14,11097,13,11101,14,11106,null,null,0,1111]
[12,11199,14,11206,13,11210,14,11218,null,null,0,1111]
[12,11310,14,11315,13,11320,14,11325,null,null,0,1111]
[12,11423,14,11425,13,11433,14,11438,null,null,0,1111]
[12,11540,14,11545,13,11550,14,11555,null,null,0,1111]
[12,11658,14,11664,13,11669,14,11675,null,null,0,1111]
[12,11776,14,11782,13,11786,14,11792,null,null,0,1111]
[12,11884,14,11888,13,11892,14,11896,null,null,0,1111]
[12,11993,14,11995,13,11998,14,12007,null,null,0,1111]
[12,12111,14,12116,13,12121,14,12126,null,null,0,1111]
[12,12230,14,12234,13,12240,14,12248,null,null,0,1111]
[12,12352,14,12356,13,12361,14,12368,null,null,0,1111]
[12,12472,14,12477,13,12481,14,12487,null,null,0,1111]
[12,12582,14,12586,13,12590,14,12595,null,null,0,1111]
[12,12695,14,12702,13,12711,14,12733,null,null,0,1111]
[12,12836,14,12843,13,12848,14,12853,null,null,0,1111]
[12,12960,14,12967,13,12972,14,12978,null,null,0,1111]
[12,13069,14,13073,13,13078,14,13084,null,null,0,1111]
[12,13184,14,13192,13,13197,14,13201,null,null,0,1111]
[12,13302,14,13308,13,13312,14,13318,null,null,0,1111]
[12,13411,14,13420,13,13426,14,13430,null,null,0,1111]
[12,13530,14,13535,13,13539,14,13545,null,null,0,1111]
[12,13645,14,13651,13,13656,14,13662,null,null,0,1111]
[12,13765,14,13770,13,13776,14,13781,null,null,0,1111]
[12,13878,14,13883,13,13888,14,13895,null,null,0,1111]
[12,13993,14,14000,13,14004,14,14009,null,null,0,1111]
[12,14100,14,14105,13,14111,14,14117,null,null,0,1111]
[12,14219,14,14224,13,14229,14,14237,null,null,0,1111]
[12,14336,14,14344,13,14353,14,14362,null,null,0,1111]
[12,14463,14,14468,13,14474,14,14479,null,null,0,1111]
[12,14572,14,14577,13,14582,14,14588,null,null,0,1111]
[12,14686,14,14691,13,14695,14,14701,null,null,0,1111]
[12,14803,14,14808,13,14820,14,14829,null,null,0,1111]
[12,14930,14,14941,13,14949,14,14958,null,null,0,1111]
[12,15055,14,15062,13,15067,14,15077,null,null,0,1111]
[12,15176,14,15181,13,15186,14,15191,null,null,0,1111]
[12,15289,14,15294,13,15299,14,15306,null,null,0,1111]
[12,15405,14,15411,13,15416,14,15420,null,null,0,1111]
[12,15509,14,15515,13,15519,14,15523,null,null,0,1111]
[12,15621,14,15623,13,15627,14,15631,null,null,0,1111]
[12,15729,14,15733,13,15742,14,15750,null,null,0,1111]
[12,15853,14,15858,13,15869,14,15877,null,null,0,1111]
[12,15977,14,15982,13,15987,14,15993,null,null,0,1111]
[12,16089,14,16096,13,16101,14,16107,null,null,0,1111]
[12,16212,14,16220,13,16224,14,16232,null,null,0,1111]
[12,16330,14,16337,13,16344,14,16353,null,null,0,1111]
[21,16448,12,16468,13,16474,14,16481,null,null,0,2111]
[12,16583,14,16589,13,16594,14,16599,null,null,0,1111]
[12,16699,14,16704,13,16708,14,16720,null,null,0,1111]
[12,16823,14,16828,13,16833,14,16838,null,null,0,1111]
[12,16938,14,16946,13,16955,14,16973,null,null,0,1111]
[12,17071,14,17076,13,17081,14,17090,null,null,0,1111]
[12,17189,14,17194,13,17198,14,17204,null,null,0,1111]
[12,17302,14,17307,13,17311,14,17316,null,null,0,1111]
[12,17415,14,17419,13,17424,14,17429,null,null,0,1111]
[12,17520,14,17525,13,17530,14,17536,null,null,0,1111]
[12,17640,14,17645,13,17651,14,17656,null,null,0,1111]
[12,17757,14,17762,13,17766,14,17771,null,null,0,1111]
[12,17870,14,17876,13,17880,14,17886,null,null,0,1111]
[12,17993,14,17999,13,18004,14,18015,null,null,0,1111]
[12,18116,14,18125,13,18130,14,18135,null,null,0,1111]
[12,18227,14,18232,13,18240,14,18245,null,null,0,1111]
[12,18344,14,18348,13,18354,14,18359,null,null,0,1111]
[12,18467,14,18472,13,18477,14,18485,null,null,0,1111]
[12,18583,14,18589,13,18594,14,18599,null,null,0,1111]
[12,18695,14,18700,13,18704,14,18713,null,null,0,1111]
[12,18810,14,18814,13,18819,14,18825,null,null,0,1111]
[12,18924,14,18929,13,18934,14,18939,null,null,0,1111]
[12,19040,14,19048,13,19053,14,19061,null,null,0,1111]
[12,19156,14,19161,13,19165,14,19170,null,null,0,1111]
[12,19267,14,19273,13,19279,14,19284,null,null,0,1111]
[12,19383,14,19388,13,19393,14,19397,null,null,0,1111]
[12,19495,14,19500,13,19505,14,19510,null,null,0,1111]
[12,19607,14,19612,13,19617,14,19625,null,null,0,1111]
[12,19724,14,19730,13,19734,14,19740,null,null,0,1111]
[12,19834,14,19839,13,19845,14,19851,null,null,0,1111]
[12,19953,14,19959,13,19964,14,19975,null,null,0,1111]
[12,20067,14,20072,13,20076,14,20083,null,null,0,1111]
[12,20182,14,20193,13,20198,14,20203,null,null,0,1111]
[12,20304,14,20309,13,20314,14,20319,null,null,0,1111]
[12,20422,14,20428,13,20432,14,20441,null,null,0,1111]
[12,20537,14,20542,13,20546,14,20552,null,null,0,1111]
[12,20651,14,20655,13,20660,14,20668,null,null,0,1111]
[12,20761,14,20766,13,20772,14,20776,null,null,0,1111]
[12,20880,14,20885,13,20890,14,20898,null,null,0,1111]
[12,20996,14,21001,13,21006,14,21015,null,null,0,1111]
[12,21118,14,21124,13,21129,14,21135,null,null,0,1111]
[12,21237,14,21242,13,21247,14,21255,null,null,0,1111]
[12,21356,14,21362,13,21367,14,21373,null,null,0,1111]
[12,21472,14,21481,13,21486,14,21491,null,null,0,1111]
[12,21593,14,21599,13,21603,14,21608,null,null,0,1111]
[12,21714,14,21719,13,21724,14,21729,null,null,0,1111]
[12,21823,14,21828,13,21833,14,21838,null,null,0,1111]
[12,21936,14,21941,13,21946,14,21951,null,null,0,1111]
[12,22053,14,22058,13,22062,14,22067,null,null,0,1111]
[12,22165,14,22171,13,22175,14,22179,null,null,0,1111]
[12,22275,14,22283,13,22288,14,22296,null,null,0,1111]
[12,22399,14,22405,13,22410,14,22415,null,null,0,1111]
[12,22512,14,22517,13,22522,14,22526,null,null,0,1111]
[12,22626,14,22634,13,22639,14,22645,null,null,0,1111]
[12,22743,14,22748,13,22754,14,22763,null,null,0,1111]
[12,22865,14,22871,13,22876,14,22882,null,null,0,1111]
[12,22977,14,22981,13,22985,14,22993,null,null,0,1111]
[12,23101,14,23107,13,23111,14,23116,null,null,0,1111]
[12,23215,14,23221,13,23226,14,23233,null,null,0,1111]
[12,23338,14,23343,13,23349,14,23355,null,null,0,1111]
[12,23454,14,23459,13,23465,14,23474,null,null,0,1111]
[12,23581,14,23591,13,23598,14,23608,null,null,0,1111]
[12,23713,14,23718,13,23723,14,23728,null,null,0,1111]
[12,23827,14,23832,13,23837,14,23844,null,null,0,1111]
[12,23948,14,23954,13,23959,14,23964,null,null,null,1111]

{"sheet":"!L925A10.056","index":28,"n_rows":205,"n_cols":48,"rows_kept":205,"cut":false,"hidden":false,"merged":[[4,39,4,42],[5,39,5,40],[4,44,4,47],[5,44,5,45],[4,24,4,27],[5,24,5,25],[4,29,4,32],[5,29,5,30],[4,34,4,37],[5,34,5,35],[1,1,1,2],[5,13,5,14],[26,13,26,14],[27,13,27,14],[4,19,4,22],[5,19,5,20]]}
["Report for:!L925A10.056"]
["Date:","<date>"]
["Hen:","<hen>",null,null,null,"Correct Sequence",{"$f":"Start!J2","v":2212},null,null,null,null,null,null,null,null,"Total Sequences in Data",{"$f":"4994-COUNTBLANK(L7:L5000)","v":199},null,null,null,null,"Total Sequences in Block Data",{"$f":"COUNTA(L7:L39)","v":33},null,null,null,"Total Sequences in Block Data",{"$f":"COUNTA(L40:L72)","v":33},null,null,null,"Total Sequences in Block Data",{"$f":"COUNTA(L73:L106)","v":34},null,null,null,"Total Sequences in Block Data",{"$f":"COUNTA(L107:L139)","v":33},null,null,null,"Total Sequences in Block Data",{"$f":"COUNTA(L140:L172)","v":33},null,null,null,"Total Sequences in Block Data",{"$f":"COUNTA(L173:L205)","v":33}]
[null,null,null,null,null,null,null,null,null,null,null,null,null,null,null,"Total Sequences in Summary",{"$f":"SUM(O7:O22)","v":199},null,null,null,null,"Total Sequences in Block Summary",{"$f":"SUM(U7:U22)","v":33},null,null,null,"Total Sequences in Block Summary",{"$f":"SUM(Z7:Z22)","v":33},null,null,null,"Total Sequences in Block Summary",{"$f":"SUM(AE7:AE22)","v":34},null,null,null,"Total Sequences in Block Summary",{"$f":"SUM(AJ7:AJ22)","v":33},null,null,null,"Total Sequences in Block Summary",{"$f":"SUM(AO7:AO22)","v":33},null,null,null,"Total Sequences in Block Summary",{"$f":"SUM(AT7:AT22)","v":33}]
[null,null,null,null,null,null,null,null,null,null,null,null,null,null,null,null,null,null,null,"Block 1",null,null,null,null,"Block 2",null,null,null,null,"Block 3",null,null,null,null,"Block 4",null,null,null,null,"Block 5",null,null,null,null,"Block 6"]
["Sequence\nComponent\n1","Time\n1","Sequence\nComponent\n2","Time\n2","Sequence\nComponent\n3","Time\n3","Sequence\nComponent\n4","Time\n4","Sequence\nComponent\n5","Time\n5","Correct?\n0=No 1=Yes","Sequence",null,"Frequency",null,"Relative Frequency","Variability",null,null,"Frequency",null,"Relative Frequency","Variability",null,"Frequency",null,"Relative Frequency","Variability",null,"Frequency",null,"Relative Frequency","Variability",null,"Frequency",null,"Relative Frequency","Variability",null,"Frequency",null,"Relative Frequency","Variability",null,"Frequency",null,"Relative Frequency","Variability"]
[21,16,21,22,11,39,12,45,null,null,0,2211,null,1111,{"$f":"COUNTIF($L$7:$L$500,N7)","v":196},{"$f":"O7/$Q$4","v":0.98492462311557794},{"$f":"IF(P7=0,0,(P7*((LOG(P7))/LOG(2))))","v":-2.1584402914443968E-2},null,null,{"$f":"N7","v":1111},{"$f":"COUNTIF(L7:L39,T7)","v":30},{"$f":"U7/(W4-U20)","v":0.90909090909090906},{"$f":"IF(V7=0,0,(V7*((LOG(V7))/LOG(2))))","v":-0.12500320340903179},null,{"$f":"N7","v":1111},{"$f":"COUNTIF(L40:L72,Y7)","v":33},{"$f":"Z7/(AB4-Z20)","v":1},{"$f":"IF(AA7=0,0,(AA7*((LOG(AA7))/LOG(2))))","v":0},null,{"$f":"N7","v":1111},{"$f":"COUNTIF(L73:L106,AD7)","v":34},{"$f":"AE7/(AG4-AE20)","v":1},{"$f":"IF(AF7=0,0,(AF7*((LOG(AF7))/LOG(2))))","v":0},null,{"$f":"N7","v":1111},{"$f":"COUNTIF(L107:L139,AI7)","v":33},{"$f":"AJ7/(AL4-AJ20)","v":1},{"$f":"IF(AK7=0,0,(AK7*((LOG(AK7))/LOG(2))))","v":0},null,{"$f":"N7","v":1111},{"$f":"COUNTIF(L140:L172,AN7)","v":33},{"$f":"AO7/(AQ4-AO20)","v":1},{"$f":"IF(AP7=0,0,(AP7*((LOG(AP7))/LOG(2))))","v":0},null,{"$f":"N7","v":1111},{"$f":"COUNTIF(L173:L205,AS7)","v":33},{"$f":"AT7/(AV4-AT20)","v":1},{"$f":"IF(AU7=0,0,(AU7*((LOG(AU7))/LOG(2))))","v":0}]
[12,163,14,172,24,186,23,200,null,null,0,1122,null,1112,{"$f":"COUNTIF($L$7:$L$500,N8)","v":0},{"$f":"O8/$Q$4","v":0},{"$f":"IF(P8=0,0,(P8*((LOG(P8))/LOG(2))))","v":0},null,null,{"$f":"N8","v":1112},{"$f":"COUNTIF(L7:L39,T8)","v":0},{"$f":"U8/(W4-U20)","v":0},{"$f":"IF(V8=0,0,(V8*((LOG(V8))/LOG(2))))","v":0},null,{"$f":"N8","v":1112},{"$f":"COUNTIF(L40:L72,Y8)","v":0},{"$f":"Z8/(AB4-Z20)","v":0},{"$f":"IF(AA8=0,0,(AA8*((LOG(AA8))/LOG(2))))","v":0},null,{"$f":"N8","v":1112},{"$f":"COUNTIF(L73:L106,AD8)","v":0},{"$f":"AE8/(AG4-AE20)","v":0},{"$f":"IF(AF8=0,0,(AF8*((LOG(AF8))/LOG(2))))","v":0},null,{"$f":"N8","v":1112},{"$f":"COUNTIF(L107:L139,AI8)","v":0},{"$f":"AJ8/(AL4-AJ20)","v":0},{"$f":"IF(AK8=0,0,(AK8*((LOG(AK8))/LOG(2))))","v":0},null,{"$f":"N8","v":1112},{"$f":"COUNTIF(L140:L172,AN8)","v":0},{"$f":"AO8/(AQ4-AO20)","v":0},{"$f":"IF(AP8=0,0,(AP8*((LOG(AP8))/LOG(2))))","v":0},null,{"$f":"N8","v":1112},{"$f":"COUNTIF(L173:L205,AS8)","v":0},{"$f":"AT8/(AV4-AT20)","v":0},{"$f":"IF(AU8=0,0,(AU8*((LOG(AU8))/LOG(2))))","v":0}]
[12,303,14,308,13,314,14,321,null,null,0,1111,null,1121,{"$f":"COUNTIF($L$7:$L$500,N9)","v":0},{"$f":"O9/$Q$4","v":0},{"$f":"IF(P9=0,0,(P9*((LOG(P9))/LOG(2))))","v":0},null,null,{"$f":"N9","v":1121},{"$f":"COUNTIF(L7:L39,T9)","v":0},{"$f":"U9/(W4-U20)","v":0},{"$f":"IF(V9=0,0,(V9*((LOG(V9))/LOG(2))))","v":0},null,{"$f":"N9","v":1121},{"$f":"COUNTIF(L40:L72,Y9)","v":0},{"$f":"Z9/(AB4-Z20)","v":0},{"$f":"IF(AA9=0,0,(AA9*((LOG(AA9))/LOG(2))))","v":0},null,{"$f":"N9","v":1121},{"$f":"COUNTIF(L73:L106,AD9)","v":0},{"$f":"AE9/(AG4-AE20)","v":0},{"$f":"IF(AF9=0,0,(AF9*((LOG(AF9))/LOG(2))))","v":0},null,{"$f":"N9","v":1121},{"$f":"COUNTIF(L107:L139,AI9)","v":0},{"$f":"AJ9/(AL4-AJ20)","v":0},{"$f":"IF(AK9=0,0,(AK9*((LOG(AK9))/LOG(2))))","v":0},null,{"$f":"N9","v":1121},{"$f":"COUNTIF(L140:L172,AN9)","v":0},{"$f":"AO9/(AQ4-AO20)","v":0},{"$f":"IF(AP9=0,0,(AP9*((LOG(AP9))/LOG(2))))","v":0},null,{"$f":"N9","v":1121},{"$f":"COUNTIF(L173:L205,AS9)","v":0},{"$f":"AT9/(AV4-AT20)","v":0},{"$f":"IF(AU9=0,0,(AU9*((LOG(AU9))/LOG(2))))","v":0}]
[12,428,14,433,13,438,14,444,null,null,0,1111,null,1122,{"$f":"COUNTIF($L$7:$L$500,N10)","v":1},{"$f":"O10/$Q$4","v":5.0251256281407036E-3},{"$f":"IF(P10=0,0,(P10*((LOG(P10))/LOG(2))))","v":-3.8374998093184169E-2},null,null,{"$f":"N10","v":1122},{"$f":"COUNTIF(L7:L39,T10)","v":1},{"$f":"U10/(W4-U20)","v":3.0303030303030304E-2},{"$f":"IF(V10=0,0,(V10*((LOG(V10))/LOG(2))))","v":-0.15286042785934709},null,{"$f":"N10","v":1122},{"$f":"COUNTIF(L40:L72,Y10)","v":0},{"$f":"Z10/(AB4-Z20)","v":0},{"$f":"IF(AA10=0,0,(AA10*((LOG(AA10))/LOG(2))))","v":0},null,{"$f":"N10","v":1122},{"$f":"COUNTIF(L73:L106,AD10)","v":0},{"$f":"AE10/(AG4-AE20)","v":0},{"$f":"IF(AF10=0,0,(AF10*((LOG(AF10))/LOG(2))))","v":0},null,{"$f":"N10","v":1122},{"$f":"COUNTIF(L107:L139,AI10)","v":0},{"$f":"AJ10/(AL4-AJ20)","v":0},{"$f":"IF(AK10=0,0,(AK10*((LOG(AK10))/LOG(2))))","v":0},null,{"$f":"N10","v":1122},{"$f":"COUNTIF(L140:L172,AN10)","v":0},{"$f":"AO10/(AQ4-AO20)","v":0},{"$f":"IF(AP10=0,0,(AP10*((LOG(AP10))/LOG(2))))","v":0},null,{"$f":"N10","v":1122},{"$f":"COUNTIF(L173:L205,AS10)","v":0},{"$f":"AT10/(AV4-AT20)","v":0},{"$f":"IF(AU10=0,0,(AU10*((LOG(AU10))/LOG(2))))","v":0}]
[21,548,21,556,22,562,23,572,null,null,0,2222,null,1211,{"$f":"COUNTIF($L$7:$L$500,N11)","v":0},{"$f":"O11/$Q$4","v":0},{"$f":"IF(P11=0,0,(P11*((LOG(P11))/LOG(2))))","v":0},null,null,{"$f":"N11","v":1211},{"$f":"COUNTIF(L7:L39,T11)","v":0},{"$f":"U11/(W4-U20)","v":0},{"$f":"IF(V11=0,0,(V11*((LOG(V11))/LOG(2))))","v":0},null,{"$f":"N11","v":1211},{"$f":"COUNTIF(L40:L72,Y11)","v":0},{"$f":"Z11/(AB4-Z20)","v":0},{"$f":"IF(AA11=0,0,(AA11*((LOG(AA11))/LOG(2))))","v":0},null,{"$f":"N11","v":1211},{"$f":"COUNTIF(L73:L106,AD11)","v":0},{"$f":"AE11/(AG4-AE20)","v":0},{"$f":"IF(AF11=0,0,(AF11*((LOG(AF11))/LOG(2))))","v":0},null,{"$f":"N11","v":1211},{"$f":"COUNTIF(L107:L139,AI11)","v":0},{"$f":"AJ11/(AL4-AJ20)","v":0},{"$f":"IF(AK11=0,0,(AK11*((LOG(AK11))/LOG(2))))","v":0},null,{"$f":"N11","v":1211},{"$f":"COUNTIF(L140:L172,AN11)","v":0},{"$f":"AO11/(AQ4-AO20)","v":0},{"$f":"IF(AP11=0,0,(AP11*((LOG(AP11))/LOG(2))))","v":0},null,{"$f":"N11","v":1211},{"$f":"COUNTIF(L173:L205,AS11)","v":0},{"$f":"AT11/(AV4-AT20)","v":0},{"$f":"IF(AU11=0,0,(AU11*((LOG(AU11))/LOG(2))))","v":0}]
[12,674,14,678,13,683,14,688,null,null,0,1111,null,1212,{"$f":"COUNTIF($L$7:$L$500,N12)","v":0},{"$f":"O12/$Q$4","v":0},{"$f":"IF(P12=0,0,(P12*((LOG(P12))/LOG(2))))","v":0},null,null,{"$f":"N12","v":1212},{"$f":"COUNTIF(L7:L39,T12)","v":0},{"$f":"U12/(W4-U20)","v":0},{"$f":"IF(V12=0,0,(V12*((LOG(V12))/LOG(2))))","v":0},null,{"$f":"N12","v":1212},{"$f":"COUNTIF(L40:L72,Y12)","v":0},{"$f":"Z12/(AB4-Z20)","v":0},{"$f":"IF(AA12=0,0,(AA12*((LOG(AA12))/LOG(2))))","v":0},null,{"$f":"N12","v":1212},{"$f":"COUNTIF(L73:L106,AD12)","v":0},{"$f":"AE12/(AG4-AE20)","v":0},{"$f":"IF(AF12=0,0,(AF12*((LOG(AF12))/LOG(2))))","v":0},null,{"$f":"N12","v":1212},{"$f":"COUNTIF(L107:L139,AI12)","v":0},{"$f":"AJ12/(AL4-AJ20)","v":0},{"$f":"IF(AK12=0,0,(AK12*((LOG(AK12))/LOG(2))))","v":0},null,{"$f":"N12","v":1212},{"$f":"COUNTIF(L140:L172,AN12)","v":0},{"$f":"AO12/(AQ4-AO20)","v":0},{"$f":"IF(AP12=0,0,(AP12*((LOG(AP12))/LOG(2))))","v":0},null,{"$f":"N12","v":1212},{"$f":"COUNTIF(L173:L205,AS12)","v":0},{"$f":"AT12/(AV4-AT20)","v":0},{"$f":"IF(AU12=0,0,(AU12*((LOG(AU12))/LOG(2))))","v":0}]
[12,787,14,792,13,803,14,816,null,null,0,1111,null,1221,{"$f":"COUNTIF($L$7:$L$500,N13)","v":0},{"$f":"O13/$Q$4","v":0},{"$f":"IF(P13=0,0,(P13*((LOG(P13))/LOG(2))))","v":0},null,null,{"$f":"N13","v":1221},{"$f":"COUNTIF(L7:L39,T13)","v":0},{"$f":"U13/(W4-U20)","v":0},{"$f":"IF(V13=0,0,(V13*((LOG(V13))/LOG(2))))","v":0},null,{"$f":"N13","v":1221},{"$f":"COUNTIF(L40:L72,Y13)","v":0},{"$f":"Z13/(AB4-Z20)","v":0},{"$f":"IF(AA13=0,0,(AA13*((LOG(AA13))/LOG(2))))","v":0},null,{"$f":"N13","v":1221},{"$f":"COUNTIF(L73:L106,AD13)","v":0},{"$f":"AE13/(AG4-AE20)","v":0},{"$f":"IF(AF13=0,0,(AF13*((LOG(AF13))/LOG(2))))","v":0},null,{"$f":"N13","v":1221},{"$f":"COUNTIF(L107:L139,AI13)","v":0},{"$f":"AJ13/(AL4-AJ20)","v":0},{"$f":"IF(AK13=0,0,(AK13*((LOG(AK13))/LOG(2))))","v":0},null,{"$f":"N13","v":1221},{"$f":"COUNTIF(L140:L172,AN13)","v":0},{"$f":"AO13/(AQ4-AO20)","v":0},{"$f":"IF(AP13=0,0,(AP13*((LOG(AP13))/LOG(2))))","v":0},null,{"$f":"N13","v":1221},{"$f":"COUNTIF(L173:L205,AS13)","v":0},{"$f":"AT13/(AV4-AT20)","v":0},{"$f":"IF(AU13=0,0,(AU13*((LOG(AU13))/LOG(2))))","v":0}]
[12,927,14,933,13,938,14,953,null,null,0,1111,null,1222,{"$f":"COUNTIF($L$7:$L$500,N14)","v":0},{"$f":"O14/$Q$4","v":0},{"$f":"IF(P14=0,0,(P14*((LOG(P14))/LOG(2))))","v":0},null,null,{"$f":"N14","v":1222},{"$f":"COUNTIF(L7:L39,T14)","v":0},{"$f":"U14/(W4-U20)","v":0},{"$f":"IF(V14=0,0,(V14*((LOG(V14))/LOG(2))))","v":0},null,{"$f":"N14","v":1222},{"$f":"COUNTIF(L40:L72,Y14)","v":0},{"$f":"Z14/(AB4-Z20)","v":0},{"$f":"IF(AA14=0,0,(AA14*((LOG(AA14))/LOG(2))))","v":0},null,{"$f":"N14","v":1222},{"$f":"COUNTIF(L73:L106,AD14)","v":0},{"$f":"AE14/(AG4-AE20)","v":0},{"$f":"IF(AF14=0,0,(AF14*((LOG(AF14))/LOG(2))))","v":0},null,{"$f":"N14","v":1222},{"$f":"COUNTIF(L107:L139,AI14)","v":0},{"$f":"AJ14/(AL4-AJ20)","v":0},{"$f":"IF(AK14=0,0,(AK14*((LOG(AK14))/LOG(2))))","v":0},null,{"$f":"N14","v":1222},{"$f":"COUNTIF(L140:L172,AN14)","v":0},{"$f":"AO14/(AQ4-AO20)","v":0},{"$f":"IF(AP14=0,0,(AP14*((LOG(AP14))/LOG(2))))","v":0},null,{"$f":"N14","v":1222},{"$f":"COUNTIF(L173:L205,AS14)","v":0},{"$f":"AT14/(AV4-AT20)","v":0},{"$f":"IF(AU14=0,0,(AU14*((LOG(AU14))/LOG(2))))","v":0}]
[12,1058,14,1063,13,1072,14,1080,null,null,0,1111,null,2111,{"$f":"COUNTIF($L$7:$L$500,N15)","v":0},{"$f":"O15/$Q$4","v":0},{"$f":"IF(P15=0,0,(P15*((LOG(P15))/LOG(2))))","v":0},null,null,{"$f":"N15","v":2111},{"$f":"COUNTIF(L7:L39,T15)","v":0},{"$f":"U15/(W4-U20)","v":0},{"$f":"IF(V15=0,0,(V15*((LOG(V15))/LOG(2))))","v":0},null,{"$f":"N15","v":2111},{"$f":"COUNTIF(L40:L72,Y15)","v":0},{"$f":"Z15/(AB4-Z20)","v":0},{"$f":"IF(AA15=0,0,(AA15*((LOG(AA15))/LOG(2))))","v":0},null,{"$f":"N15","v":2111},{"$f":"COUNTIF(L73:L106,AD15)","v":0},{"$f":"AE15/(AG4-AE20)","v":0},{"$f":"IF(AF15=0,0,(AF15*((LOG(AF15))/LOG(2))))","v":0},null,{"$f":"N15","v":2111},{"$f":"COUNTIF(L107:L139,AI15)","v":0},{"$f":"AJ15/(AL4-AJ20)","v":0},{"$f":"IF(AK15=0,0,(AK15*((LOG(AK15))/LOG(2))))","v":0},null,{"$f":"N15","v":2111},{"$f":"COUNTIF(L140:L172,AN15)","v":0},{"$f":"AO15/(AQ4-AO20)","v":0},{"$f":"IF(AP15=0,0,(AP15*((LOG(AP15))/LOG(2))))","v":0},null,{"$f":"N15","v":2111},{"$f":"COUNTIF(L173:L205,AS15)","v":0},{"$f":"AT15/(AV4-AT20)","v":0},{"$f":"IF(AU15=0,0,(AU15*((LOG(AU15))/LOG(2))))","v":0}]
[12,1185,14,1193,13,1199,14,1205,null,null,0,1111,null,2112,{"$f":"COUNTIF($L$7:$L$500,N16)","v":0},{"$f":"O16/$Q$4","v":0},{"$f":"IF(P16=0,0,(P16*((LOG(P16))/LOG(2))))","v":0},null,null,{"$f":"N16","v":2112},{"$f":"COUNTIF(L7:L39,T16)","v":0},{"$f":"U16/(W4-U20)","v":0},{"$f":"IF(V16=0,0,(V16*((LOG(V16))/LOG(2))))","v":0},null,{"$f":"N16","v":2112},{"$f":"COUNTIF(L40:L72,Y16)","v":0},{"$f":"Z16/(AB4-Z20)","v":0},{"$f":"IF(AA16=0,0,(AA16*((LOG(AA16))/LOG(2))))","v":0},null,{"$f":"N16","v":2112},{"$f":"COUNTIF(L73:L106,AD16)","v":0},{"$f":"AE16/(AG4-AE20)","v":0},{"$f":"IF(AF16=0,0,(AF16*((LOG(AF16))/LOG(2))))","v":0},null,{"$f":"N16","v":2112},{"$f":"COUNTIF(L107:L139,AI16)","v":0},{"$f":"AJ16/(AL4-AJ20)","v":0},{"$f":"IF(AK16=0,0,(AK16*((LOG(AK16))/LOG(2))))","v":0},null,{"$f":"N16","v":2112},{"$f":"COUNTIF(L140:L172,AN16)","v":0},{"$f":"AO16/(AQ4-AO20)","v":0},{"$f":"IF(AP16=0,0,(AP16*((LOG(AP16))/LOG(2))))","v":0},null,{"$f":"N16","v":2112},{"$f":"COUNTIF(L173:L205,AS16)","v":0},{"$f":"AT16/(AV4-AT20)","v":0},{"$f":"IF(AU16=0,0,(AU16*((LOG(AU16))/LOG(2))))","v":0}]
[12,1312,14,1320,13,1326,14,1331,null,null,0,1111,null,2121,{"$f":"COUNTIF($L$7:$L$500,N17)","v":0},{"$f":"O17/$Q$4","v":0},{"$f":"IF(P17=0,0,(P17*((LOG(P17))/LOG(2))))","v":0},null,null,{"$f":"N17","v":2121},{"$f":"COUNTIF(L7:L39,T17)","v":0},{"$f":"U17/(W4-U20)","v":0},{"$f":"IF(V17=0,0,(V17*((LOG(V17))/LOG(2))))","v":0},null,{"$f":"N17","v":2121},{"$f":"COUNTIF(L40:L72,Y17)","v":0},{"$f":"Z17/(AB4-Z20)","v":0},{"$f":"IF(AA17=0,0,(AA17*((LOG(AA17))/LOG(2))))","v":0},null,{"$f":"N17","v":2121},{"$f":"COUNTIF(L73:L106,AD17)","v":0},{"$f":"AE17/(AG4-AE20)","v":0},{"$f":"IF(AF17=0,0,(AF17*((LOG(AF17))/LOG(2))))","v":0},null,{"$f":"N17","v":2121},{"$f":"COUNTIF(L107:L139,AI17)","v":0},{"$f":"AJ17/(AL4-AJ20)","v":0},{"$f":"IF(AK17=0,0,(AK17*((LOG(AK17))/LOG(2))))","v":0},null,{"$f":"N17","v":2121},{"$f":"COUNTIF(L140:L172,AN17)","v":0},{"$f":"AO17/(AQ4-AO20)","v":0},{"$f":"IF(AP17=0,0,(AP17*((LOG(AP17))/LOG(2))))","v":0},null,{"$f":"N17","v":2121},{"$f":"COUNTIF(L173:L205,AS17)","v":0},{"$f":"AT17/(AV4-AT20)","v":0},{"$f":"IF(AU17=0,0,(AU17*((LOG(AU17))/LOG(2))))","v":0}]
[12,1436,14,1443,13,1448,14,1456,null,null,0,1111,null,2122,{"$f":"COUNTIF($L$7:$L$500,N18)","v":0},{"$f":"O18/$Q$4","v":0},{"$f":"IF(P18=0,0,(P18*((LOG(P18))/LOG(2))))","v":0},null,null,{"$f":"N18","v":2122},{"$f":"COUNTIF(L7:L39,T18)","v":0},{"$f":"U18/(W4-U20)","v":0},{"$f":"IF(V18=0,0,(V18*((LOG(V18))/LOG(2))))","v":0},null,{"$f":"N18","v":2122},{"$f":"COUNTIF(L40:L72,Y18)","v":0},{"$f":"Z18/(AB4-Z20)","v":0},{"$f":"IF(AA18=0,0,(AA18*((LOG(AA18))/LOG(2))))","v":0},null,{"$f":"N18","v":2122},{"$f":"COUNTIF(L73:L106,AD18)","v":0},{"$f":"AE18/(AG4-AE20)","v":0},{"$f":"IF(AF18=0,0,(AF18*((LOG(AF18))/LOG(2))))","v":0},null,{"$f":"N18","v":2122},{"$f":"COUNTIF(L107:L139,AI18)","v":0},{"$f":"AJ18/(AL4-AJ20)","v":0},{"$f":"IF(AK18=0,0,(AK18*((LOG(AK18))/LOG(2))))","v":0},null,{"$f":"N18","v":2122},{"$f":"COUNTIF(L140:L172,AN18)","v":0},{"$f":"AO18/(AQ4-AO20)","v":0},{"$f":"IF(AP18=0,0,(AP18*((LOG(AP18))/LOG(2))))","v":0},null,{"$f":"N18","v":2122},{"$f":"COUNTIF(L173:L205,AS18)","v":0},{"$f":"AT18/(AV4-AT20)","v":0},{"$f":"IF(AU18=0,0,(AU18*((LOG(AU18))/LOG(2))))","v":0}]
[12,1557,14,1562,13,1566,14,1571,null,null,0,1111,null,2211,{"$f":"COUNTIF($L$7:$L$500,N19)","v":1},{"$f":"O19/$Q$4","v":5.0251256281407036E-3},{"$f":"IF(P19=0,0,(P19*((LOG(P19))/LOG(2))))","v":-3.8374998093184169E-2},null,null,{"$f":"N19","v":2211},{"$f":"COUNTIF(L7:L39,T19)","v":1},{"$f":"U19/(W4-U20)","v":3.0303030303030304E-2},{"$f":"IF(V19=0,0,(V19*((LOG(V19))/LOG(2))))","v":-0.15286042785934709},null,{"$f":"N19","v":2211},{"$f":"COUNTIF(L40:L72,Y19)","v":0},{"$f":"Z19/(AB4-Z20)","v":0},{"$f":"IF(AA19=0,0,(AA19*((LOG(AA19))/LOG(2))))","v":0},null,{"$f":"N19","v":2211},{"$f":"COUNTIF(L73:L106,AD19)","v":0},{"$f":"AE19/(AG4-AE20)","v":0},{"$f":"IF(AF19=0,0,(AF19*((LOG(AF19))/LOG(2))))","v":0},null,{"$f":"N19","v":2211},{"$f":"COUNTIF(L107:L139,AI19)","v":0},{"$f":"AJ19/(AL4-AJ20)","v":0},{"$f":"IF(AK19=0,0,(AK19*((LOG(AK19))/LOG(2))))","v":0},null,{"$f":"N19","v":2211},{"$f":"COUNTIF(L140:L172,AN19)","v":0},{"$f":"AO19/(AQ4-AO20)","v":0},{"$f":"IF(AP19=0,0,(AP19*((LOG(AP19))/LOG(2))))","v":0},null,{"$f":"N19","v":2211},{"$f":"COUNTIF(L173:L205,AS19)","v":0},{"$f":"AT19/(AV4-AT20)","v":0},{"$f":"IF(AU19=0,0,(AU19*((LOG(AU19))/LOG(2))))","v":0}]
[12,1675,14,1682,13,1688,14,1693,null,null,0,1111,null,2212,{"$f":"COUNTIF($L$7:$L$500,N20)","v":0},{"$f":"O20/$Q$4","v":0},{"$f":"IF(P20=0,0,(P20*((LOG(P20))/LOG(2))))","v":0},null,null,{"$f":"N20","v":2212},{"$f":"COUNTIF(L7:L39,T20)","v":0},null,null,null,{"$f":"N20","v":2212},{"$f":"COUNTIF(L40:L72,Y20)","v":0},null,null,null,{"$f":"N20","v":2212},{"$f":"COUNTIF(L73:L106,AD20)","v":0},null,null,null,{"$f":"N20","v":2212},{"$f":"COUNTIF(L107:L139,AI20)","v":0},null,null,null,{"$f":"N20","v":2212},{"$f":"COUNTIF(L140:L172,AN20)","v":0},null,null,null,{"$f":"N20","v":2212},{"$f":"COUNTIF(L173:L205,AS20)","v":0}]
[12,1798,14,1804,13,1809,14,1814,null,null,0,1111,null,2221,{"$f":"COUNTIF($L$7:$L$500,N21)","v":0},{"$f":"O21/$Q$4","v":0},{"$f":"IF(P21=0,0,(P21*((LOG(P21))/LOG(2))))","v":0},null,null,{"$f":"N21","v":2221},{"$f":"COUNTIF(L7:L39,T21)","v":0},{"$f":"U21/(W4-U20)","v":0},{"$f":"IF(V21=0,0,(V21*((LOG(V21))/LOG(2))))","v":0},null,{"$f":"N21","v":2221},{"$f":"COUNTIF(L40:L72,Y21)","v":0},{"$f":"Z21/(AB4-Z20)","v":0},{"$f":"IF(AA21=0,0,(AA21*((LOG(AA21))/LOG(2))))","v":0},null,{"$f":"N21","v":2221},{"$f":"COUNTIF(L73:L106,AD21)","v":0},{"$f":"AE21/(AG4-AE20)","v":0},{"$f":"IF(AF21=0,0,(AF21*((LOG(AF21))/LOG(2))))","v":0},null,{"$f":"N21","v":2221},{"$f":"COUNTIF(L107:L139,AI21)","v":0},{"$f":"AJ21/(AL4-AJ20)","v":0},{"$f":"IF(AK21=0,0,(AK21*((LOG(AK21))/LOG(2))))","v":0},null,{"$f":"N21","v":2221},{"$f":"COUNTIF(L140:L172,AN21)","v":0},{"$f":"AO21/(AQ4-AO20)","v":0},{"$f":"IF(AP21=0,0,(AP21*((LOG(AP21))/LOG(2))))","v":0},null,{"$f":"N21","v":2221},{"$f":"COUNTIF(L173:L205,AS21)","v":0},{"$f":"AT21/(AV4-AT20)","v":0},{"$f":"IF(AU21=0,0,(AU21*((LOG(AU21))/LOG(2))))","v":0}]
[12,1915,14,1920,13,1924,14,1933,null,null,0,1111,null,2222,{"$f":"COUNTIF($L$7:$L$500,N22)","v":1},{"$f":"O22/$Q$4","v":5.0251256281407036E-3},{"$f":"IF(P22=0,0,(P22*((LOG(P22))/LOG(2))))","v":-3.8374998093184169E-2},null,null,{"$f":"N22","v":2222},{"$f":"COUNTIF(L7:L39,T22)","v":1},{"$f":"U22/(W4-U20)","v":3.0303030303030304E-2},{"$f":"IF(V22=0,0,(V22*((LOG(V22))/LOG(2))))","v":-0.15286042785934709},null,{"$f":"N22","v":2222},{"$f":"COUNTIF(L40:L72,Y22)","v":0},{"$f":"Z22/(AB4-Z20)","v":0},{"$f":"IF(AA22=0,0,(AA22*((LOG(AA22))/LOG(2))))","v":0},null,{"$f":"N22","v":2222},{"$f":"COUNTIF(L73:L106,AD22)","v":0},{"$f":"AE22/(AG4-AE20)","v":0},{"$f":"IF(AF22=0,0,(AF22*((LOG(AF22))/LOG(2))))","v":0},null,{"$f":"N22","v":2222},{"$f":"COUNTIF(L107:L139,AI22)","v":0},{"$f":"AJ22/(AL4-AJ20)","v":0},{"$f":"IF(AK22=0,0,(AK22*((LOG(AK22))/LOG(2))))","v":0},null,{"$f":"N22","v":2222},{"$f":"COUNTIF(L140:L172,AN22)","v":0},{"$f":"AO22/(AQ4-AO20)","v":0},{"$f":"IF(AP22=0,0,(AP22*((LOG(AP22))/LOG(2))))","v":0},null,{"$f":"N22","v":2222},{"$f":"COUNTIF(L173:L205,AS22)","v":0},{"$f":"AT22/(AV4-AT20)","v":0},{"$f":"IF(AU22=0,0,(AU22*((LOG(AU22))/LOG(2))))","v":0}]
[12,2033,14,2045,13,2050,14,2055,null,null,0,1111,null,null,null,{"$f":"SUM(P7:P22)","v":1},{"$f":"-SUM(Q7:Q22)","v":0.13670939719399647},null,null,null,null,{"$f":"SUM(V7:V22)","v":0.99999999999999989},{"$f":"-SUM(W7:W22)","v":0.58358448698707299},null,null,null,{"$f":"SUM(AA7:AA22)","v":1},{"$f":"-SUM(AB7:AB22)","v":0},null,null,null,{"$f":"SUM(AF7:AF22)","v":1},{"$f":"-SUM(AG7:AG22)","v":0},null,null,null,{"$f":"SUM(AK7:AK22)","v":1},{"$f":"-SUM(AL7:AL22)","v":0},null,null,null,{"$f":"SUM(AP7:AP22)","v":1},{"$f":"-SUM(AQ7:AQ22)","v":0},null,null,null,{"$f":"SUM(AU7:AU22)","v":1},{"$f":"-SUM(AV7:AV22)","v":0}]
[12,2158,14,2163,13,2168,14,2173,null,null,0,1111,null,null,null,"U=",{"$f":"Q23/(LOG(Q4)/LOG(2))","v":1.7901809239939327E-2},null,null,null,null,"U1=",{"$f":"W23/(LOG(W4)/LOG(2))","v":0.11568970884877912},null,null,null,"U2=",{"$f":"AB23/(LOG(AB4)/LOG(2))","v":0},null,null,null,"U3=",{"$f":"AG23/(LOG(AG4)/LOG(2))","v":0},null,null,null,"U4=",{"$f":"AL23/(LOG(AL4)/LOG(2))","v":0},null,null,null,"U5=",{"$f":"AQ23/(LOG(AQ4)/LOG(2))","v":0},null,null,null,"U6=",{"$f":"AV23/(LOG(AV4)/LOG(2))","v":0}]
[12,2276,14,2281,13,2288,14,2293,null,null,0,1111]
[12,2391,14,2396,13,2401,14,2406,null,null,0,1111]
[12,2508,14,2515,13,2520,14,2525,null,null,0,1111,null,"Total Target Seq"]
[12,2636,14,2642,13,2647,14,2656,null,null,0,1111,null,{"$f":"COUNTIF(L7:L205,G3)","v":0},null,33,33,34,33,33,33]
[12,2761,14,2770,13,2776,14,2781,null,null,0,1111,null,null,null,"% of reinforcement given in 6 equal intervals based on number of trials "]
[12,2885,14,2891,13,2896,14,2906,null,null,0,1111,null,null,null,"%_1","%_2","%_3","%_4","%_5","%_6"]
[12,3009,14,3019,13,3025,14,3051,null,null,0,1111,null,null,"target sequence",{"$f":"$G$3","v":2212},{"$f":"$G$3","v":2212},{"$f":"$G$3","v":2212},{"$f":"$G$3","v":2212},{"$f":"$G$3","v":2212},{"$f":"$G$3","v":2212}]
[12,3150,14,3157,13,3163,14,3170,null,null,0,1111,null,null,"total reinforcement",{"$f":"U20","v":0},{"$f":"Z20","v":0},{"$f":"AE20","v":0},{"$f":"AJ20","v":0},{"$f":"AO20","v":0},{"$f":"AT20","v":0}]
[12,3271,14,3279,13,3287,14,3302,null,null,0,1111,null,null,"% target"]
[12,3404,14,3411,13,3422,14,3430,null,null,0,1111,null,null,"CCRF"]
[12,3536,14,3543,13,3548,14,3553,null,null,0,1111,null,null,"% CCRf"]
[12,3650,14,3656,13,3661,14,3667,null,null,0,1111,null,null,"average response rate",{"$f":"H39/P28","v":122.3030303030303},{"$f":"(H72-H39)/Q28","v":121},{"$f":"(H106-H72)/R28","v":122.94117647058823},{"$f":"(H139-H106)/S28","v":117.75757575757575},{"$f":"(H172-H139)/T28","v":118.90909090909091},{"$f":"(H205-H172)/U28","v":119.84848484848484}]
[12,3767,14,3773,13,3777,14,3782,null,null,0,1111]
[12,3881,14,3886,13,3896,14,3915,null,null,0,1111]
[12,4010,14,4022,13,4027,14,4036,null,null,0,1111]
[12,4139,14,4149,13,4154,14,4160,null,null,0,1111]
[12,4259,14,4265,13,4269,14,4275,null,null,0,1111]
[12,4372,14,4380,13,4385,14,4391,null,null,0,1111]
[12,4491,14,4498,13,4502,14,4508,null,null,0,1111]
[12,4607,14,4612,13,4617,14,4622,null,null,0,1111]
[12,4730,14,4735,13,4741,14,4749,null,null,0,1111]
[12,4847,14,4851,13,4863,14,4872,null,null,0,1111]
[12,4972,14,4982,13,4987,14,4992,null,null,0,1111]
[12,5101,14,5106,13,5112,14,5121,null,null,0,1111]
[12,5220,14,5229,13,5235,14,5239,null,null,0,1111]
[12,5339,14,5344,13,5350,14,5368,null,null,0,1111]
[12,5468,14,5475,13,5481,14,5487,null,null,0,1111]
[12,5592,14,5598,13,5605,14,5611,null,null,0,1111]
[12,5714,14,5720,13,5725,14,5731,null,null,0,1111]
[12,5827,14,5831,13,5837,14,5843,null,null,0,1111]
[12,5946,14,5952,13,5957,14,5963,null,null,0,1111]
[12,6067,14,6073,13,6078,14,6086,null,null,0,1111]
[12,6191,14,6198,13,6204,14,6212,null,null,0,1111]
[12,6305,14,6310,13,6316,14,6324,null,null,0,1111]
[12,6434,14,6440,13,6445,14,6451,null,null,0,1111]
[12,6544,14,6549,13,6554,14,6559,null,null,0,1111]
[12,6666,14,6671,13,6676,14,6681,null,null,0,1111]
[12,6792,14,6796,13,6802,14,6810,null,null,0,1111]
[12,6912,14,6918,13,6927,14,6942,null,null,0,1111]
[12,7042,14,7047,13,7052,14,7057,null,null,0,1111]
[12,7158,14,7163,13,7169,14,7185,null,null,0,1111]
[12,7288,14,7293,13,7298,14,7307,null,null,0,1111]
[12,7407,14,7413,13,7418,14,7423,null,null,0,1111]
[12,7524,14,7530,13,7536,14,7544,null,null,0,1111]
[12,7662,14,7667,13,7672,14,7678,null,null,0,1111]
[12,7779,14,7784,13,7791,14,7800,null,null,0,1111]
[12,7898,14,7904,13,7909,14,7914,null,null,0,1111]
[12,8012,14,8017,13,8022,14,8029,null,null,0,1111]
[12,8134,14,8141,13,8146,14,8151,null,null,0,1111]
[12,8253,14,8259,13,8264,14,8269,null,null,0,1111]
[12,8368,14,8373,13,8379,14,8387,null,null,0,1111]
[12,8485,14,8491,13,8496,14,8501,null,null,0,1111]
[12,8600,14,8606,13,8612,14,8617,null,null,0,1111]
[12,8716,14,8721,13,8727,14,8736,null,null,0,1111]
[12,8838,14,8845,13,8850,14,8855,null,null,0,1111]
[12,8954,14,8972,13,8979,14,8988,null,null,0,1111]
[12,9086,14,9094,13,9099,14,9108,null,null,0,1111]
[12,9206,14,9214,13,9219,14,9226,null,null,0,1111]
[12,9326,14,9331,13,9335,14,9341,null,null,0,1111]
[12,9436,14,9441,13,9447,14,9454,null,null,0,1111]
[12,9563,14,9570,13,9575,14,9581,null,null,0,1111]
[12,9682,14,9688,13,9693,14,9699,null,null,0,1111]
[12,9803,14,9813,13,9819,14,9827,null,null,0,1111]
[12,9921,14,9926,13,9931,14,9940,null,null,0,1111]
[12,10045,14,10050,13,10052,14,10061,null,null,0,1111]
[12,10168,14,10175,13,10179,14,10184,null,null,0,1111]
[12,10277,14,10281,13,10286,14,10294,null,null,0,1111]
[12,10392,14,10397,13,10406,14,10431,null,null,0,1111]
[12,10536,14,10546,13,10551,14,10560,null,null,0,1111]
[12,10656,14,10662,13,10671,14,10678,null,null,0,1111]
[12,10777,14,10786,13,10790,14,10795,null,null,0,1111]
[12,10893,14,10898,13,10903,14,10909,null,null,0,1111]
[12,11008,14,11014,13,11019,14,11024,null,null,0,1111]
[12,11137,14,11147,13,11154,14,11163,null,null,0,1111]
[12,11264,14,11269,13,11275,14,11280,null,null,0,1111]
[12,11377,14,11382,13,11386,14,11391,null,null,0,1111]
[12,11488,14,11494,13,11498,14,11502,null,null,0,1111]
[12,11710,14,11718,13,11729,14,11747,null,null,0,1111]
[12,11847,14,11853,13,11858,14,11864,null,null,0,1111]
[12,11965,14,11971,13,11975,14,11982,null,null,0,1111]
[12,12082,14,12087,13,12092,14,12099,null,null,0,1111]
[12,12194,14,12200,13,12204,14,12209,null,null,0,1111]
[12,12310,14,12315,13,12320,14,12325,null,null,0,1111]
[12,12426,14,12432,13,12438,14,12446,null,null,0,1111]
[12,12537,14,12543,13,12547,14,12553,null,null,0,1111]
[12,12649,14,12654,13,12660,14,12669,null,null,0,1111]
[12,12775,14,12781,13,12786,14,12790,null,null,0,1111]
[12,12892,14,12894,13,12898,14,12907,null,null,0,1111]
[12,13005,14,13011,13,13019,14,13024,null,null,0,1111]
[12,13121,14,13127,13,13132,14,13138,null,null,0,1111]
[12,13234,14,13240,13,13248,14,13256,null,null,0,1111]
[12,13349,14,13354,13,13359,14,13364,null,null,0,1111]
[12,13462,14,13464,13,13469,14,13475,null,null,0,1111]
[12,13579,14,13585,13,13590,14,13595,null,null,0,1111]
[12,13684,14,13690,13,13696,14,13702,null,null,0,1111]
[12,13805,14,13814,13,13820,14,13826,null,null,0,1111]
[12,13923,14,13929,13,13939,14,13948,null,null,0,1111]
[12,14040,14,14048,13,14053,14,14058,null,null,0,1111]
[12,14160,14,14167,13,14177,14,14185,null,null,0,1111]
[12,14282,14,14287,13,14293,14,14302,null,null,0,1111]
[12,14400,14,14404,13,14408,14,14413,null,null,0,1111]
[12,14513,14,14519,13,14523,14,14529,null,null,0,1111]
[12,14632,14,14640,13,14646,14,14655,null,null,0,1111]
[12,14756,14,14761,13,14766,14,14774,null,null,0,1111]
[12,14874,14,14880,13,14885,14,14893,null,null,0,1111]
[12,14984,14,14990,13,14994,14,14999,null,null,0,1111]
[12,15108,14,15113,13,15119,14,15129,null,null,0,1111]
[12,15228,14,15234,13,15239,14,15244,null,null,0,1111]
[12,15343,14,15349,13,15353,14,15358,null,null,0,1111]
[12,15470,14,15475,13,15480,14,15503,null,null,0,1111]
[12,15601,14,15606,13,15612,14,15621,null,null,0,1111]
[12,15718,14,15722,13,15727,14,15733,null,null,0,1111]
[12,15840,14,15845,13,15850,14,15855,null,null,0,1111]
[12,15953,14,15959,13,15963,14,15968,null,null,0,1111]
[12,16071,14,16079,13,16084,14,16095,null,null,0,1111]
[12,16202,14,16207,13,16217,14,16225,null,null,0,1111]
[12,16324,14,16326,13,16330,14,16336,null,null,0,1111]
[12,16432,14,16438,13,16442,14,16447,null,null,0,1111]
[12,16546,14,16554,13,16562,14,16575,null,null,0,1111]
[12,16671,14,16677,13,16681,14,16686,null,null,0,1111]
[12,16788,14,16795,13,16800,14,16805,null,null,0,1111]
[12,16903,14,16911,13,16915,14,16920,null,null,0,1111]
[12,17023,14,17031,13,17036,14,17046,null,null,0,1111]
[12,17138,14,17142,13,17147,14,17154,null,null,0,1111]
[12,17255,14,17260,13,17265,14,17270,null,null,0,1111]
[12,17368,14,17374,13,17379,14,17384,null,null,0,1111]
[12,17484,14,17490,13,17494,14,17499,null,null,0,1111]
[12,17608,14,17614,13,17619,14,17624,null,null,0,1111]
[12,17730,14,17735,13,17740,14,17744,null,null,0,1111]
[12,17840,14,17845,13,17853,14,17862,null,null,0,1111]
[12,17969,14,17974,13,17979,14,17983,null,null,0,1111]
[12,18089,14,18095,13,18104,14,18114,null,null,0,1111]
[12,18215,14,18222,13,18226,14,18231,null,null,0,1111]
[12,18339,14,18344,13,18361,14,18376,null,null,0,1111]
[12,18483,14,18488,13,18492,14,18497,null,null,0,1111]
[12,18601,14,18610,13,18614,14,18621,null,null,0,1111]
[12,18729,14,18734,13,18738,14,18743,null,null,0,1111]
[12,18835,14,18840,13,18845,14,18849,null,null,0,1111]
[12,18954,14,18959,13,18963,14,18977,null,null,0,1111]
[12,19076,14,19086,13,19090,14,19095,null,null,0,1111]
[12,19192,14,19197,13,19203,14,19208,null,null,0,1111]
[12,19316,14,19322,13,19326,14,19332,null,null,0,1111]
[12,19429,14,19434,13,19439,14,19449,null,null,0,1111]
[12,19538,14,19543,13,19548,14,19553,null,null,0,1111]
[12,19658,14,19663,13,19668,14,19673,null,null,0,1111]
[12,19772,14,19776,13,19781,14,19786,null,null,0,1111]
[12,19893,14,19898,13,19903,14,19908,null,null,0,1111]
[12,20007,14,20008,13,20014,14,20019,null,null,0,1111]
[12,20123,14,20128,13,20138,14,20146,null,null,0,1111]
[12,20252,14,20257,13,20261,14,20266,null,null,0,1111]
[12,20372,14,20380,13,20385,14,20389,null,null,0,1111]
[12,20496,14,20504,13,20509,14,20526,null,null,0,1111]
[12,20619,14,20625,13,20630,14,20634,null,null,0,1111]
[12,20736,14,20745,13,20751,14,20756,null,null,0,1111]
[12,20854,14,20859,13,20864,14,20873,null,null,0,1111]
[12,20969,14,20974,13,20979,14,20985,null,null,0,1111]
[12,21084,14,21089,13,21094,14,21099,null,null,0,1111]
[12,21204,14,21209,13,21213,14,21218,null,null,0,1111]
[12,21321,14,21327,13,21331,14,21336,null,null,0,1111]
[12,21434,14,21439,13,21443,14,21448,null,null,0,1111]
[12,21548,14,21553,13,21558,14,21573,null,null,0,1111]
[12,21680,14,21685,13,21690,14,21698,null,null,0,1111]
[12,21798,14,21804,13,21809,14,21813,null,null,0,1111]
[12,21921,14,21927,13,21932,14,21937,null,null,0,1111]
[12,22036,14,22042,13,22047,14,22052,null,null,0,1111]
[12,22145,14,22152,13,22157,14,22162,null,null,0,1111]
[12,22269,14,22275,13,22279,14,22285,null,null,0,1111]
[12,22385,14,22393,13,22398,14,22403,null,null,0,1111]
[12,22495,14,22500,13,22504,14,22509,null,null,0,1111]
[12,22625,14,22630,13,22636,14,22641,null,null,0,1111]
[12,22766,14,22772,13,22778,14,22786,null,null,0,1111]
[12,22886,14,22894,13,22900,14,22917,null,null,0,1111]
[12,23018,14,23027,13,23032,14,23037,null,null,0,1111]
[12,23142,14,23149,13,23154,14,23160,null,null,0,1111]
[12,23266,14,23271,13,23275,14,23280,null,null,0,1111]
[12,23381,14,23387,13,23393,14,23399,null,null,0,1111]
[12,23496,14,23503,13,23508,14,23513,null,null,0,1111]
[12,23611,14,23620,13,23624,14,23630,null,null,0,1111]
[12,23726,14,23732,13,23737,14,23742,null,null,0,1111]
[12,23847,14,23854,13,23862,14,23868,null,null,0,1111]
[12,23960,14,23965,13,23969,14,23974,null,null,1,1111]

{"sheet":"!L926A50.056","index":29,"n_rows":204,"n_cols":48,"rows_kept":204,"cut":false,"hidden":false,"merged":[[4,39,4,42],[5,39,5,40],[4,44,4,47],[5,44,5,45],[4,24,4,27],[5,24,5,25],[4,29,4,32],[5,29,5,30],[4,34,4,37],[5,34,5,35],[1,1,1,2],[5,13,5,14],[26,13,26,14],[27,13,27,14],[4,19,4,22],[5,19,5,20]]}
["Report for:!L926A50.056"]
["Date:","<date>"]
["Hen:","<hen>",null,null,null,"Correct Sequence",{"$f":"Start!J2","v":2212},null,null,null,null,null,null,null,null,"Total Sequences in Data",{"$f":"4994-COUNTBLANK(L7:L5000)","v":198},null,null,null,null,"Total Sequences in Block Data",{"$f":"COUNTA(L7:L39)","v":33},null,null,null,"Total Sequences in Block Data",{"$f":"COUNTA(L40:L72)","v":33},null,null,null,"Total Sequences in Block Data",{"$f":"COUNTA(L73:L105)","v":33},null,null,null,"Total Sequences in Block Data",{"$f":"COUNTA(L106:L138)","v":33},null,null,null,"Total Sequences in Block Data",{"$f":"COUNTA(L139:L171)","v":33},null,null,null,"Total Sequences in Block Data",{"$f":"COUNTA(L172:L204)","v":33}]
[null,null,null,null,null,null,null,null,null,null,null,null,null,null,null,"Total Sequences in Summary",{"$f":"SUM(O7:O22)","v":198},null,null,null,null,"Total Sequences in Block Summary",{"$f":"SUM(U7:U22)","v":33},null,null,null,"Total Sequences in Block Summary",{"$f":"SUM(Z7:Z22)","v":33},null,null,null,"Total Sequences in Block Summary",{"$f":"SUM(AE7:AE22)","v":33},null,null,null,"Total Sequences in Block Summary",{"$f":"SUM(AJ7:AJ22)","v":33},null,null,null,"Total Sequences in Block Summary",{"$f":"SUM(AO7:AO22)","v":33},null,null,null,"Total Sequences in Block Summary",{"$f":"SUM(AT7:AT22)","v":33}]
[null,null,null,null,null,null,null,null,null,null,null,null,null,null,null,null,null,null,null,"Block 1",null,null,null,null,"Block 2",null,null,null,null,"Block 3",null,null,null,null,"Block 4",null,null,null,null,"Block 5",null,null,null,null,"Block 6"]
["Sequence\nComponent\n1","Time\n1","Sequence\nComponent\n2","Time\n2","Sequence\nComponent\n3","Time\n3","Sequence\nComponent\n4","Time\n4","Sequence\nComponent\n5","Time\n5","Correct?\n0=No 1=Yes","Sequence",null,"Frequency",null,"Relative Frequency","Variability",null,null,"Frequency",null,"Relative Frequency","Variability",null,"Frequency",null,"Relative Frequency","Variability",null,"Frequency",null,"Relative Frequency","Variability",null,"Frequency",null,"Relative Frequency","Variability",null,"Frequency",null,"Relative Frequency","Variability",null,"Frequency",null,"Relative Frequency","Variability"]
[12,22,14,28,13,38,14,49,null,null,0,1111,null,1111,{"$f":"COUNTIF($L$7:$L$500,N7)","v":197},{"$f":"O7/$Q$4","v":0.99494949494949492},{"$f":"IF(P7=0,0,(P7*((LOG(P7))/LOG(2))))","v":-7.2679076907928263E-3},null,null,{"$f":"N7","v":1111},{"$f":"COUNTIF(L7:L39,T7)","v":32},{"$f":"U7/(W4-U20)","v":0.96969696969696972},{"$f":"IF(V7=0,0,(V7*((LOG(V7))/LOG(2))))","v":-4.3048843014257841E-2},null,{"$f":"N7","v":1111},{"$f":"COUNTIF(L40:L72,Y7)","v":33},{"$f":"Z7/(AB4-Z20)","v":1},{"$f":"IF(AA7=0,0,(AA7*((LOG(AA7))/LOG(2))))","v":0},null,{"$f":"N7","v":1111},{"$f":"COUNTIF(L73:L105,AD7)","v":33},{"$f":"AE7/(AG4-AE20)","v":1},{"$f":"IF(AF7=0,0,(AF7*((LOG(AF7))/LOG(2))))","v":0},null,{"$f":"N7","v":1111},{"$f":"COUNTIF(L106:L138,AI7)","v":33},{"$f":"AJ7/(AL4-AJ20)","v":1},{"$f":"IF(AK7=0,0,(AK7*((LOG(AK7))/LOG(2))))","v":0},null,{"$f":"N7","v":1111},{"$f":"COUNTIF(L139:L171,AN7)","v":33},{"$f":"AO7/(AQ4-AO20)","v":1},{"$f":"IF(AP7=0,0,(AP7*((LOG(AP7))/LOG(2))))","v":0},null,{"$f":"N7","v":1111},{"$f":"COUNTIF(L172:L204,AS7)","v":33},{"$f":"AT7/(AV4-AT20)","v":1},{"$f":"IF(AU7=0,0,(AU7*((LOG(AU7))/LOG(2))))","v":0}]
[12,167,14,175,13,184,23,200,null,null,0,1112,null,1112,{"$f":"COUNTIF($L$7:$L$500,N8)","v":1},{"$f":"O8/$Q$4","v":5.0505050505050509E-3},{"$f":"IF(P8=0,0,(P8*((LOG(P8))/LOG(2))))","v":-3.8532104141816209E-2},null,null,{"$f":"N8","v":1112},{"$f":"COUNTIF(L7:L39,T8)","v":1},{"$f":"U8/(W4-U20)","v":3.0303030303030304E-2},{"$f":"IF(V8=0,0,(V8*((LOG(V8))/LOG(2))))","v":-0.15286042785934709},null,{"$f":"N8","v":1112},{"$f":"COUNTIF(L40:L72,Y8)","v":0},{"$f":"Z8/(AB4-Z20)","v":0},{"$f":"IF(AA8=0,0,(AA8*((LOG(AA8))/LOG(2))))","v":0},null,{"$f":"N8","v":1112},{"$f":"COUNTIF(L73:L105,AD8)","v":0},{"$f":"AE8/(AG4-AE20)","v":0},{"$f":"IF(AF8=0,0,(AF8*((LOG(AF8))/LOG(2))))","v":0},null,{"$f":"N8","v":1112},{"$f":"COUNTIF(L106:L138,AI8)","v":0},{"$f":"AJ8/(AL4-AJ20)","v":0},{"$f":"IF(AK8=0,0,(AK8*((LOG(AK8))/LOG(2))))","v":0},null,{"$f":"N8","v":1112},{"$f":"COUNTIF(L139:L171,AN8)","v":0},{"$f":"AO8/(AQ4-AO20)","v":0},{"$f":"IF(AP8=0,0,(AP8*((LOG(AP8))/LOG(2))))","v":0},null,{"$f":"N8","v":1112},{"$f":"COUNTIF(L172:L204,AS8)","v":0},{"$f":"AT8/(AV4-AT20)","v":0},{"$f":"IF(AU8=0,0,(AU8*((LOG(AU8))/LOG(2))))","v":0}]
[12,306,14,311,13,316,14,324,null,null,0,1111,null,1121,{"$f":"COUNTIF($L$7:$L$500,N9)","v":0},{"$f":"O9/$Q$4","v":0},{"$f":"IF(P9=0,0,(P9*((LOG(P9))/LOG(2))))","v":0},null,null,{"$f":"N9","v":1121},{"$f":"COUNTIF(L7:L39,T9)","v":0},{"$f":"U9/(W4-U20)","v":0},{"$f":"IF(V9=0,0,(V9*((LOG(V9))/LOG(2))))","v":0},null,{"$f":"N9","v":1121},{"$f":"COUNTIF(L40:L72,Y9)","v":0},{"$f":"Z9/(AB4-Z20)","v":0},{"$f":"IF(AA9=0,0,(AA9*((LOG(AA9))/LOG(2))))","v":0},null,{"$f":"N9","v":1121},{"$f":"COUNTIF(L73:L105,AD9)","v":0},{"$f":"AE9/(AG4-AE20)","v":0},{"$f":"IF(AF9=0,0,(AF9*((LOG(AF9))/LOG(2))))","v":0},null,{"$f":"N9","v":1121},{"$f":"COUNTIF(L106:L138,AI9)","v":0},{"$f":"AJ9/(AL4-AJ20)","v":0},{"$f":"IF(AK9=0,0,(AK9*((LOG(AK9))/LOG(2))))","v":0},null,{"$f":"N9","v":1121},{"$f":"COUNTIF(L139:L171,AN9)","v":0},{"$f":"AO9/(AQ4-AO20)","v":0},{"$f":"IF(AP9=0,0,(AP9*((LOG(AP9))/LOG(2))))","v":0},null,{"$f":"N9","v":1121},{"$f":"COUNTIF(L172:L204,AS9)","v":0},{"$f":"AT9/(AV4-AT20)","v":0},{"$f":"IF(AU9=0,0,(AU9*((LOG(AU9))/LOG(2))))","v":0}]
[12,429,14,435,13,441,14,462,null,null,0,1111,null,1122,{"$f":"COUNTIF($L$7:$L$500,N10)","v":0},{"$f":"O10/$Q$4","v":0},{"$f":"IF(P10=0,0,(P10*((LOG(P10))/LOG(2))))","v":0},null,null,{"$f":"N10","v":1122},{"$f":"COUNTIF(L7:L39,T10)","v":0},{"$f":"U10/(W4-U20)","v":0},{"$f":"IF(V10=0,0,(V10*((LOG(V10))/LOG(2))))","v":0},null,{"$f":"N10","v":1122},{"$f":"COUNTIF(L40:L72,Y10)","v":0},{"$f":"Z10/(AB4-Z20)","v":0},{"$f":"IF(AA10=0,0,(AA10*((LOG(AA10))/LOG(2))))","v":0},null,{"$f":"N10","v":1122},{"$f":"COUNTIF(L73:L105,AD10)","v":0},{"$f":"AE10/(AG4-AE20)","v":0},{"$f":"IF(AF10=0,0,(AF10*((LOG(AF10))/LOG(2))))","v":0},null,{"$f":"N10","v":1122},{"$f":"COUNTIF(L106:L138,AI10)","v":0},{"$f":"AJ10/(AL4-AJ20)","v":0},{"$f":"IF(AK10=0,0,(AK10*((LOG(AK10))/LOG(2))))","v":0},null,{"$f":"N10","v":1122},{"$f":"COUNTIF(L139:L171,AN10)","v":0},{"$f":"AO10/(AQ4-AO20)","v":0},{"$f":"IF(AP10=0,0,(AP10*((LOG(AP10))/LOG(2))))","v":0},null,{"$f":"N10","v":1122},{"$f":"COUNTIF(L172:L204,AS10)","v":0},{"$f":"AT10/(AV4-AT20)","v":0},{"$f":"IF(AU10=0,0,(AU10*((LOG(AU10))/LOG(2))))","v":0}]
[12,568,14,573,13,578,14,587,null,null,0,1111,null,1211,{"$f":"COUNTIF($L$7:$L$500,N11)","v":0},{"$f":"O11/$Q$4","v":0},{"$f":"IF(P11=0,0,(P11*((LOG(P11))/LOG(2))))","v":0},null,null,{"$f":"N11","v":1211},{"$f":"COUNTIF(L7:L39,T11)","v":0},{"$f":"U11/(W4-U20)","v":0},{"$f":"IF(V11=0,0,(V11*((LOG(V11))/LOG(2))))","v":0},null,{"$f":"N11","v":1211},{"$f":"COUNTIF(L40:L72,Y11)","v":0},{"$f":"Z11/(AB4-Z20)","v":0},{"$f":"IF(AA11=0,0,(AA11*((LOG(AA11))/LOG(2))))","v":0},null,{"$f":"N11","v":1211},{"$f":"COUNTIF(L73:L105,AD11)","v":0},{"$f":"AE11/(AG4-AE20)","v":0},{"$f":"IF(AF11=0,0,(AF11*((LOG(AF11))/LOG(2))))","v":0},null,{"$f":"N11","v":1211},{"$f":"COUNTIF(L106:L138,AI11)","v":0},{"$f":"AJ11/(AL4-AJ20)","v":0},{"$f":"IF(AK11=0,0,(AK11*((LOG(AK11))/LOG(2))))","v":0},null,{"$f":"N11","v":1211},{"$f":"COUNTIF(L139:L171,AN11)","v":0},{"$f":"AO11/(AQ4-AO20)","v":0},{"$f":"IF(AP11=0,0,(AP11*((LOG(AP11))/LOG(2))))","v":0},null,{"$f":"N11","v":1211},{"$f":"COUNTIF(L172:L204,AS11)","v":0},{"$f":"AT11/(AV4-AT20)","v":0},{"$f":"IF(AU11=0,0,(AU11*((LOG(AU11))/LOG(2))))","v":0}]
[12,696,14,701,13,706,14,711,null,null,0,1111,null,1212,{"$f":"COUNTIF($L$7:$L$500,N12)","v":0},{"$f":"O12/$Q$4","v":0},{"$f":"IF(P12=0,0,(P12*((LOG(P12))/LOG(2))))","v":0},null,null,{"$f":"N12","v":1212},{"$f":"COUNTIF(L7:L39,T12)","v":0},{"$f":"U12/(W4-U20)","v":0},{"$f":"IF(V12=0,0,(V12*((LOG(V12))/LOG(2))))","v":0},null,{"$f":"N12","v":1212},{"$f":"COUNTIF(L40:L72,Y12)","v":0},{"$f":"Z12/(AB4-Z20)","v":0},{"$f":"IF(AA12=0,0,(AA12*((LOG(AA12))/LOG(2))))","v":0},null,{"$f":"N12","v":1212},{"$f":"COUNTIF(L73:L105,AD12)","v":0},{"$f":"AE12/(AG4-AE20)","v":0},{"$f":"IF(AF12=0,0,(AF12*((LOG(AF12))/LOG(2))))","v":0},null,{"$f":"N12","v":1212},{"$f":"COUNTIF(L106:L138,AI12)","v":0},{"$f":"AJ12/(AL4-AJ20)","v":0},{"$f":"IF(AK12=0,0,(AK12*((LOG(AK12))/LOG(2))))","v":0},null,{"$f":"N12","v":1212},{"$f":"COUNTIF(L139:L171,AN12)","v":0},{"$f":"AO12/(AQ4-AO20)","v":0},{"$f":"IF(AP12=0,0,(AP12*((LOG(AP12))/LOG(2))))","v":0},null,{"$f":"N12","v":1212},{"$f":"COUNTIF(L172:L204,AS12)","v":0},{"$f":"AT12/(AV4-AT20)","v":0},{"$f":"IF(AU12=0,0,(AU12*((LOG(AU12))/LOG(2))))","v":0}]
[12,807,14,812,13,816,14,821,null,null,0,1111,null,1221,{"$f":"COUNTIF($L$7:$L$500,N13)","v":0},{"$f":"O13/$Q$4","v":0},{"$f":"IF(P13=0,0,(P13*((LOG(P13))/LOG(2))))","v":0},null,null,{"$f":"N13","v":1221},{"$f":"COUNTIF(L7:L39,T13)","v":0},{"$f":"U13/(W4-U20)","v":0},{"$f":"IF(V13=0,0,(V13*((LOG(V13))/LOG(2))))","v":0},null,{"$f":"N13","v":1221},{"$f":"COUNTIF(L40:L72,Y13)","v":0},{"$f":"Z13/(AB4-Z20)","v":0},{"$f":"IF(AA13=0,0,(AA13*((LOG(AA13))/LOG(2))))","v":0},null,{"$f":"N13","v":1221},{"$f":"COUNTIF(L73:L105,AD13)","v":0},{"$f":"AE13/(AG4-AE20)","v":0},{"$f":"IF(AF13=0,0,(AF13*((LOG(AF13))/LOG(2))))","v":0},null,{"$f":"N13","v":1221},{"$f":"COUNTIF(L106:L138,AI13)","v":0},{"$f":"AJ13/(AL4-AJ20)","v":0},{"$f":"IF(AK13=0,0,(AK13*((LOG(AK13))/LOG(2))))","v":0},null,{"$f":"N13","v":1221},{"$f":"COUNTIF(L139:L171,AN13)","v":0},{"$f":"AO13/(AQ4-AO20)","v":0},{"$f":"IF(AP13=0,0,(AP13*((LOG(AP13))/LOG(2))))","v":0},null,{"$f":"N13","v":1221},{"$f":"COUNTIF(L172:L204,AS13)","v":0},{"$f":"AT13/(AV4-AT20)","v":0},{"$f":"IF(AU13=0,0,(AU13*((LOG(AU13))/LOG(2))))","v":0}]
[12,921,14,930,13,935,14,940,null,null,0,1111,null,1222,{"$f":"COUNTIF($L$7:$L$500,N14)","v":0},{"$f":"O14/$Q$4","v":0},{"$f":"IF(P14=0,0,(P14*((LOG(P14))/LOG(2))))","v":0},null,null,{"$f":"N14","v":1222},{"$f":"COUNTIF(L7:L39,T14)","v":0},{"$f":"U14/(W4-U20)","v":0},{"$f":"IF(V14=0,0,(V14*((LOG(V14))/LOG(2))))","v":0},null,{"$f":"N14","v":1222},{"$f":"COUNTIF(L40:L72,Y14)","v":0},{"$f":"Z14/(AB4-Z20)","v":0},{"$f":"IF(AA14=0,0,(AA14*((LOG(AA14))/LOG(2))))","v":0},null,{"$f":"N14","v":1222},{"$f":"COUNTIF(L73:L105,AD14)","v":0},{"$f":"AE14/(AG4-AE20)","v":0},{"$f":"IF(AF14=0,0,(AF14*((LOG(AF14))/LOG(2))))","v":0},null,{"$f":"N14","v":1222},{"$f":"COUNTIF(L106:L138,AI14)","v":0},{"$f":"AJ14/(AL4-AJ20)","v":0},{"$f":"IF(AK14=0,0,(AK14*((LOG(AK14))/LOG(2))))","v":0},null,{"$f":"N14","v":1222},{"$f":"COUNTIF(L139:L171,AN14)","v":0},{"$f":"AO14/(AQ4-AO20)","v":0},{"$f":"IF(AP14=0,0,(AP14*((LOG(AP14))/LOG(2))))","v":0},null,{"$f":"N14","v":1222},{"$f":"COUNTIF(L172:L204,AS14)","v":0},{"$f":"AT14/(AV4-AT20)","v":0},{"$f":"IF(AU14=0,0,(AU14*((LOG(AU14))/LOG(2))))","v":0}]
[12,1039,14,1043,13,1049,14,1055,null,null,0,1111,null,2111,{"$f":"COUNTIF($L$7:$L$500,N15)","v":0},{"$f":"O15/$Q$4","v":0},{"$f":"IF(P15=0,0,(P15*((LOG(P15))/LOG(2))))","v":0},null,null,{"$f":"N15","v":2111},{"$f":"COUNTIF(L7:L39,T15)","v":0},{"$f":"U15/(W4-U20)","v":0},{"$f":"IF(V15=0,0,(V15*((LOG(V15))/LOG(2))))","v":0},null,{"$f":"N15","v":2111},{"$f":"COUNTIF(L40:L72,Y15)","v":0},{"$f":"Z15/(AB4-Z20)","v":0},{"$f":"IF(AA15=0,0,(AA15*((LOG(AA15))/LOG(2))))","v":0},null,{"$f":"N15","v":2111},{"$f":"COUNTIF(L73:L105,AD15)","v":0},{"$f":"AE15/(AG4-AE20)","v":0},{"$f":"IF(AF15=0,0,(AF15*((LOG(AF15))/LOG(2))))","v":0},null,{"$f":"N15","v":2111},{"$f":"COUNTIF(L106:L138,AI15)","v":0},{"$f":"AJ15/(AL4-AJ20)","v":0},{"$f":"IF(AK15=0,0,(AK15*((LOG(AK15))/LOG(2))))","v":0},null,{"$f":"N15","v":2111},{"$f":"COUNTIF(L139:L171,AN15)","v":0},{"$f":"AO15/(AQ4-AO20)","v":0},{"$f":"IF(AP15=0,0,(AP15*((LOG(AP15))/LOG(2))))","v":0},null,{"$f":"N15","v":2111},{"$f":"COUNTIF(L172:L204,AS15)","v":0},{"$f":"AT15/(AV4-AT20)","v":0},{"$f":"IF(AU15=0,0,(AU15*((LOG(AU15))/LOG(2))))","v":0}]
[12,1151,14,1170,13,1180,14,1189,null,null,0,1111,null,2112,{"$f":"COUNTIF($L$7:$L$500,N16)","v":0},{"$f":"O16/$Q$4","v":0},{"$f":"IF(P16=0,0,(P16*((LOG(P16))/LOG(2))))","v":0},null,null,{"$f":"N16","v":2112},{"$f":"COUNTIF(L7:L39,T16)","v":0},{"$f":"U16/(W4-U20)","v":0},{"$f":"IF(V16=0,0,(V16*((LOG(V16))/LOG(2))))","v":0},null,{"$f":"N16","v":2112},{"$f":"COUNTIF(L40:L72,Y16)","v":0},{"$f":"Z16/(AB4-Z20)","v":0},{"$f":"IF(AA16=0,0,(AA16*((LOG(AA16))/LOG(2))))","v":0},null,{"$f":"N16","v":2112},{"$f":"COUNTIF(L73:L105,AD16)","v":0},{"$f":"AE16/(AG4-AE20)","v":0},{"$f":"IF(AF16=0,0,(AF16*((LOG(AF16))/LOG(2))))","v":0},null,{"$f":"N16","v":2112},{"$f":"COUNTIF(L106:L138,AI16)","v":0},{"$f":"AJ16/(AL4-AJ20)","v":0},{"$f":"IF(AK16=0,0,(AK16*((LOG(AK16))/LOG(2))))","v":0},null,{"$f":"N16","v":2112},{"$f":"COUNTIF(L139:L171,AN16)","v":0},{"$f":"AO16/(AQ4-AO20)","v":0},{"$f":"IF(AP16=0,0,(AP16*((LOG(AP16))/LOG(2))))","v":0},null,{"$f":"N16","v":2112},{"$f":"COUNTIF(L172:L204,AS16)","v":0},{"$f":"AT16/(AV4-AT20)","v":0},{"$f":"IF(AU16=0,0,(AU16*((LOG(AU16))/LOG(2))))","v":0}]
[12,1294,14,1302,13,1306,14,1311,null,null,0,1111,null,2121,{"$f":"COUNTIF($L$7:$L$500,N17)","v":0},{"$f":"O17/$Q$4","v":0},{"$f":"IF(P17=0,0,(P17*((LOG(P17))/LOG(2))))","v":0},null,null,{"$f":"N17","v":2121},{"$f":"COUNTIF(L7:L39,T17)","v":0},{"$f":"U17/(W4-U20)","v":0},{"$f":"IF(V17=0,0,(V17*((LOG(V17))/LOG(2))))","v":0},null,{"$f":"N17","v":2121},{"$f":"COUNTIF(L40:L72,Y17)","v":0},{"$f":"Z17/(AB4-Z20)","v":0},{"$f":"IF(AA17=0,0,(AA17*((LOG(AA17))/LOG(2))))","v":0},null,{"$f":"N17","v":2121},{"$f":"COUNTIF(L73:L105,AD17)","v":0},{"$f":"AE17/(AG4-AE20)","v":0},{"$f":"IF(AF17=0,0,(AF17*((LOG(AF17))/LOG(2))))","v":0},null,{"$f":"N17","v":2121},{"$f":"COUNTIF(L106:L138,AI17)","v":0},{"$f":"AJ17/(AL4-AJ20)","v":0},{"$f":"IF(AK17=0,0,(AK17*((LOG(AK17))/LOG(2))))","v":0},null,{"$f":"N17","v":2121},{"$f":"COUNTIF(L139:L171,AN17)","v":0},{"$f":"AO17/(AQ4-AO20)","v":0},{"$f":"IF(AP17=0,0,(AP17*((LOG(AP17))/LOG(2))))","v":0},null,{"$f":"N17","v":2121},{"$f":"COUNTIF(L172:L204,AS17)","v":0},{"$f":"AT17/(AV4-AT20)","v":0},{"$f":"IF(AU17=0,0,(AU17*((LOG(AU17))/LOG(2))))","v":0}]
[12,1414,14,1419,13,1424,14,1429,null,null,0,1111,null,2122,{"$f":"COUNTIF($L$7:$L$500,N18)","v":0},{"$f":"O18/$Q$4","v":0},{"$f":"IF(P18=0,0,(P18*((LOG(P18))/LOG(2))))","v":0},null,null,{"$f":"N18","v":2122},{"$f":"COUNTIF(L7:L39,T18)","v":0},{"$f":"U18/(W4-U20)","v":0},{"$f":"IF(V18=0,0,(V18*((LOG(V18))/LOG(2))))","v":0},null,{"$f":"N18","v":2122},{"$f":"COUNTIF(L40:L72,Y18)","v":0},{"$f":"Z18/(AB4-Z20)","v":0},{"$f":"IF(AA18=0,0,(AA18*((LOG(AA18))/LOG(2))))","v":0},null,{"$f":"N18","v":2122},{"$f":"COUNTIF(L73:L105,AD18)","v":0},{"$f":"AE18/(AG4-AE20)","v":0},{"$f":"IF(AF18=0,0,(AF18*((LOG(AF18))/LOG(2))))","v":0},null,{"$f":"N18","v":2122},{"$f":"COUNTIF(L106:L138,AI18)","v":0},{"$f":"AJ18/(AL4-AJ20)","v":0},{"$f":"IF(AK18=0,0,(AK18*((LOG(AK18))/LOG(2))))","v":0},null,{"$f":"N18","v":2122},{"$f":"COUNTIF(L139:L171,AN18)","v":0},{"$f":"AO18/(AQ4-AO20)","v":0},{"$f":"IF(AP18=0,0,(AP18*((LOG(AP18))/LOG(2))))","v":0},null,{"$f":"N18","v":2122},{"$f":"COUNTIF(L172:L204,AS18)","v":0},{"$f":"AT18/(AV4-AT20)","v":0},{"$f":"IF(AU18=0,0,(AU18*((LOG(AU18))/LOG(2))))","v":0}]
[12,1528,14,1534,13,1538,14,1544,null,null,0,1111,null,2211,{"$f":"COUNTIF($L$7:$L$500,N19)","v":0},{"$f":"O19/$Q$4","v":0},{"$f":"IF(P19=0,0,(P19*((LOG(P19))/LOG(2))))","v":0},null,null,{"$f":"N19","v":2211},{"$f":"COUNTIF(L7:L39,T19)","v":0},{"$f":"U19/(W4-U20)","v":0},{"$f":"IF(V19=0,0,(V19*((LOG(V19))/LOG(2))))","v":0},null,{"$f":"N19","v":2211},{"$f":"COUNTIF(L40:L72,Y19)","v":0},{"$f":"Z19/(AB4-Z20)","v":0},{"$f":"IF(AA19=0,0,(AA19*((LOG(AA19))/LOG(2))))","v":0},null,{"$f":"N19","v":2211},{"$f":"COUNTIF(L73:L105,AD19)","v":0},{"$f":"AE19/(AG4-AE20)","v":0},{"$f":"IF(AF19=0,0,(AF19*((LOG(AF19))/LOG(2))))","v":0},null,{"$f":"N19","v":2211},{"$f":"COUNTIF(L106:L138,AI19)","v":0},{"$f":"AJ19/(AL4-AJ20)","v":0},{"$f":"IF(AK19=0,0,(AK19*((LOG(AK19))/LOG(2))))","v":0},null,{"$f":"N19","v":2211},{"$f":"COUNTIF(L139:L171,AN19)","v":0},{"$f":"AO19/(AQ4-AO20)","v":0},{"$f":"IF(AP19=0,0,(AP19*((LOG(AP19))/LOG(2))))","v":0},null,{"$f":"N19","v":2211},{"$f":"COUNTIF(L172:L204,AS19)","v":0},{"$f":"AT19/(AV4-AT20)","v":0},{"$f":"IF(AU19=0,0,(AU19*((LOG(AU19))/LOG(2))))","v":0}]
[12,1648,14,1652,13,1657,14,1673,null,null,0,1111,null,2212,{"$f":"COUNTIF($L$7:$L$500,N20)","v":0},{"$f":"O20/$Q$4","v":0},{"$f":"IF(P20=0,0,(P20*((LOG(P20))/LOG(2))))","v":0},null,null,{"$f":"N20","v":2212},{"$f":"COUNTIF(L7:L39,T20)","v":0},null,null,null,{"$f":"N20","v":2212},{"$f":"COUNTIF(L40:L72,Y20)","v":0},null,null,null,{"$f":"N20","v":2212},{"$f":"COUNTIF(L73:L105,AD20)","v":0},null,null,null,{"$f":"N20","v":2212},{"$f":"COUNTIF(L106:L138,AI20)","v":0},null,null,null,{"$f":"N20","v":2212},{"$f":"COUNTIF(L139:L171,AN20)","v":0},null,null,null,{"$f":"N20","v":2212},{"$f":"COUNTIF(L172:L204,AS20)","v":0}]
[12,1776,14,1786,13,1792,14,1800,null,null,0,1111,null,2221,{"$f":"COUNTIF($L$7:$L$500,N21)","v":0},{"$f":"O21/$Q$4","v":0},{"$f":"IF(P21=0,0,(P21*((LOG(P21))/LOG(2))))","v":0},null,null,{"$f":"N21","v":2221},{"$f":"COUNTIF(L7:L39,T21)","v":0},{"$f":"U21/(W4-U20)","v":0},{"$f":"IF(V21=0,0,(V21*((LOG(V21))/LOG(2))))","v":0},null,{"$f":"N21","v":2221},{"$f":"COUNTIF(L40:L72,Y21)","v":0},{"$f":"Z21/(AB4-Z20)","v":0},{"$f":"IF(AA21=0,0,(AA21*((LOG(AA21))/LOG(2))))","v":0},null,{"$f":"N21","v":2221},{"$f":"COUNTIF(L73:L105,AD21)","v":0},{"$f":"AE21/(AG4-AE20)","v":0},{"$f":"IF(AF21=0,0,(AF21*((LOG(AF21))/LOG(2))))","v":0},null,{"$f":"N21","v":2221},{"$f":"COUNTIF(L106:L138,AI21)","v":0},{"$f":"AJ21/(AL4-AJ20)","v":0},{"$f":"IF(AK21=0,0,(AK21*((LOG(AK21))/LOG(2))))","v":0},null,{"$f":"N21","v":2221},{"$f":"COUNTIF(L139:L171,AN21)","v":0},{"$f":"AO21/(AQ4-AO20)","v":0},{"$f":"IF(AP21=0,0,(AP21*((LOG(AP21))/LOG(2))))","v":0},null,{"$f":"N21","v":2221},{"$f":"COUNTIF(L172:L204,AS21)","v":0},{"$f":"AT21/(AV4-AT20)","v":0},{"$f":"IF(AU21=0,0,(AU21*((LOG(AU21))/LOG(2))))","v":0}]
[12,1911,14,1916,13,1922,14,1931,null,null,0,1111,null,2222,{"$f":"COUNTIF($L$7:$L$500,N22)","v":0},{"$f":"O22/$Q$4","v":0},{"$f":"IF(P22=0,0,(P22*((LOG(P22))/LOG(2))))","v":0},null,null,{"$f":"N22","v":2222},{"$f":"COUNTIF(L7:L39,T22)","v":0},{"$f":"U22/(W4-U20)","v":0},{"$f":"IF(V22=0,0,(V22*((LOG(V22))/LOG(2))))","v":0},null,{"$f":"N22","v":2222},{"$f":"COUNTIF(L40:L72,Y22)","v":0},{"$f":"Z22/(AB4-Z20)","v":0},{"$f":"IF(AA22=0,0,(AA22*((LOG(AA22))/LOG(2))))","v":0},null,{"$f":"N22","v":2222},{"$f":"COUNTIF(L73:L105,AD22)","v":0},{"$f":"AE22/(AG4-AE20)","v":0},{"$f":"IF(AF22=0,0,(AF22*((LOG(AF22))/LOG(2))))","v":0},null,{"$f":"N22","v":2222},{"$f":"COUNTIF(L106:L138,AI22)","v":0},{"$f":"AJ22/(AL4-AJ20)","v":0},{"$f":"IF(AK22=0,0,(AK22*((LOG(AK22))/LOG(2))))","v":0},null,{"$f":"N22","v":2222},{"$f":"COUNTIF(L139:L171,AN22)","v":0},{"$f":"AO22/(AQ4-AO20)","v":0},{"$f":"IF(AP22=0,0,(AP22*((LOG(AP22))/LOG(2))))","v":0},null,{"$f":"N22","v":2222},{"$f":"COUNTIF(L172:L204,AS22)","v":0},{"$f":"AT22/(AV4-AT20)","v":0},{"$f":"IF(AU22=0,0,(AU22*((LOG(AU22))/LOG(2))))","v":0}]
[12,2040,14,2045,13,2051,14,2056,null,null,0,1111,null,null,null,{"$f":"SUM(P7:P22)","v":1},{"$f":"-SUM(Q7:Q22)","v":4.5800011832609039E-2},null,null,null,null,{"$f":"SUM(V7:V22)","v":1},{"$f":"-SUM(W7:W22)","v":0.19590927087360493},null,null,null,{"$f":"SUM(AA7:AA22)","v":1},{"$f":"-SUM(AB7:AB22)","v":0},null,null,null,{"$f":"SUM(AF7:AF22)","v":1},{"$f":"-SUM(AG7:AG22)","v":0},null,null,null,{"$f":"SUM(AK7:AK22)","v":1},{"$f":"-SUM(AL7:AL22)","v":0},null,null,null,{"$f":"SUM(AP7:AP22)","v":1},{"$f":"-SUM(AQ7:AQ22)","v":0},null,null,null,{"$f":"SUM(AU7:AU22)","v":1},{"$f":"-SUM(AV7:AV22)","v":0}]
[12,2161,14,2165,13,2171,14,2177,null,null,0,1111,null,null,null,"U=",{"$f":"Q23/(LOG(Q4)/LOG(2))","v":6.0031289810294824E-3},null,null,null,null,"U1=",{"$f":"W23/(LOG(W4)/LOG(2))","v":3.8837027051827726E-2},null,null,null,"U2=",{"$f":"AB23/(LOG(AB4)/LOG(2))","v":0},null,null,null,"U3=",{"$f":"AG23/(LOG(AG4)/LOG(2))","v":0},null,null,null,"U4=",{"$f":"AL23/(LOG(AL4)/LOG(2))","v":0},null,null,null,"U5=",{"$f":"AQ23/(LOG(AQ4)/LOG(2))","v":0},null,null,null,"U6=",{"$f":"AV23/(LOG(AV4)/LOG(2))","v":0}]
[12,2283,14,2289,13,2294,14,2299,null,null,0,1111]
[12,2395,14,2403,13,2412,14,2421,null,null,0,1111]
[12,2532,14,2539,13,2544,14,2548,null,null,0,1111,null,"Total Target Seq"]
[12,2653,14,2660,13,2664,14,2670,null,null,0,1111,null,{"$f":"COUNTIF(L7:L204,G3)","v":0},null,33,33,33,33,33,33]
[12,2775,14,2780,13,2790,14,2799,null,null,0,1111,null,null,null,"% of reinforcement given in 6 equal intervals based on number of trials "]
[12,2903,14,2909,13,2914,14,2919,null,null,0,1111,null,null,null,"%_1","%_2","%_3","%_4","%_5","%_6"]
[12,3022,14,3032,13,3037,14,3048,null,null,0,1111,null,null,"target sequence",{"$f":"$G$3","v":2212},{"$f":"$G$3","v":2212},{"$f":"$G$3","v":2212},{"$f":"$G$3","v":2212},{"$f":"$G$3","v":2212},{"$f":"$G$3","v":2212}]
[12,3140,14,3146,13,3151,14,3155,null,null,0,1111,null,null,"total reinforcement",{"$f":"U20","v":0},{"$f":"Z20","v":0},{"$f":"AE20","v":0},{"$f":"AJ20","v":0},{"$f":"AO20","v":0},{"$f":"AT20","v":0}]
[12,3264,14,3270,13,3275,14,3303,null,null,0,1111,null,null,"% target"]
[12,3401,14,3410,13,3414,14,3419,null,null,0,1111,null,null,"CCRF"]
[12,3527,14,3532,13,3537,14,3543,null,null,0,1111,null,null,"% CCRf"]
[12,3646,14,3651,13,3656,14,3661,null,null,0,1111,null,null,"average response rate",{"$f":"H39/P28","v":122.03030303030303},{"$f":"(H72-H39)/Q28","v":121.3030303030303},{"$f":"(H105-H72)/R28","v":124.60606060606061},{"$f":"(H138-H105)/S28","v":120.3030303030303},{"$f":"(H171-H138)/T28","v":118.6969696969697},{"$f":"(H204-H171)/U28","v":117.78787878787878}]
[12,3764,14,3770,13,3775,14,3780,null,null,0,1111]
[12,3888,14,3893,13,3898,14,3903,null,null,0,1111]
[12,4008,14,4017,13,4021,14,4027,null,null,0,1111]
[12,4130,14,4134,13,4139,14,4148,null,null,0,1111]
[12,4252,14,4258,13,4268,14,4275,null,null,0,1111]
[12,4386,14,4391,13,4396,14,4405,null,null,0,1111]
[12,4505,14,4510,13,4515,14,4520,null,null,0,1111]
[12,4624,14,4629,13,4634,14,4640,null,null,0,1111]
[12,4739,14,4743,13,4749,14,4783,null,null,0,1111]
[12,4893,14,4898,13,4904,14,4912,null,null,0,1111]
[12,5011,14,5017,13,5022,14,5027,null,null,0,1111]
[12,5126,14,5132,13,5136,14,5141,null,null,0,1111]
[12,5242,14,5249,13,5254,14,5259,null,null,0,1111]
[12,5359,14,5363,13,5368,14,5389,null,null,0,1111]
[12,5486,14,5491,13,5496,14,5501,null,null,0,1111]
[12,5603,14,5608,13,5612,14,5617,null,null,0,1111]
[12,5713,14,5718,13,5723,14,5728,null,null,0,1111]
[12,5829,14,5831,13,5838,14,5843,null,null,0,1111]
[12,5942,14,5948,13,5953,14,5958,null,null,0,1111]
[12,6055,14,6061,13,6066,14,6074,null,null,0,1111]
[12,6178,14,6182,13,6187,14,6192,null,null,0,1111]
[12,6292,14,6298,13,6303,14,6308,null,null,0,1111]
[12,6406,14,6411,13,6417,14,6422,null,null,0,1111]
[12,6522,14,6528,13,6548,14,6559,null,null,0,1111]
[12,6666,14,6674,13,6687,14,6695,null,null,0,1111]
[12,6796,14,6802,13,6807,14,6812,null,null,0,1111]
[12,6910,14,6915,13,6921,14,6926,null,null,0,1111]
[12,7025,14,7031,13,7036,14,7042,null,null,0,1111]
[12,7138,14,7145,13,7150,14,7175,null,null,0,1111]
[12,7268,14,7273,13,7277,14,7287,null,null,0,1111]
[12,7396,14,7403,13,7419,14,7431,null,null,0,1111]
[12,7529,14,7536,13,7540,14,7545,null,null,0,1111]
[12,7641,14,7651,13,7657,14,7661,null,null,0,1111]
[12,7763,14,7769,13,7773,14,7779,null,null,0,1111]
[12,7880,14,7885,13,7890,14,7901,null,null,0,1111]
[12,8013,14,8020,13,8024,14,8030,null,null,0,1111]
[12,8126,14,8134,13,8159,14,8167,null,null,0,1111]
[12,8260,14,8266,13,8270,14,8289,null,null,0,1111]
[12,8387,14,8394,13,8408,14,8417,null,null,0,1111]
[12,8518,14,8529,13,8534,14,8543,null,null,0,1111]
[12,8646,14,8654,13,8658,14,8671,null,null,0,1111]
[12,8766,14,8771,13,8781,14,8788,null,null,0,1111]
[12,8885,14,8887,13,8893,14,8899,null,null,0,1111]
[12,9007,14,9012,13,9017,14,9025,null,null,0,1111]
[12,9125,14,9136,13,9141,14,9145,null,null,0,1111]
[12,9252,14,9259,13,9263,14,9273,null,null,0,1111]
[12,9373,14,9425,13,9432,14,9441,null,null,0,1111]
[12,9540,14,9545,13,9555,14,9563,null,null,0,1111]
[12,9662,14,9669,13,9673,14,9681,null,null,0,1111]
[12,9783,14,9788,13,9793,14,9798,null,null,0,1111]
[12,9895,14,9901,13,9907,14,9911,null,null,0,1111]
[12,10012,14,10022,13,10027,14,10032,null,null,0,1111]
[12,10140,14,10149,13,10154,14,10159,null,null,0,1111]
[12,10258,14,10263,13,10269,14,10274,null,null,0,1111]
[12,10383,14,10391,13,10397,14,10403,null,null,0,1111]
[12,10501,14,10506,13,10511,14,10516,null,null,0,1111]
[12,10620,14,10634,13,10640,14,10647,null,null,0,1111]
[12,10748,14,10757,13,10763,14,10778,null,null,0,1111]
[12,10886,14,10897,13,10902,14,10910,null,null,0,1111]
[12,11011,14,11017,13,11021,14,11026,null,null,0,1111]
[12,11131,14,11139,13,11148,14,11155,null,null,0,1111]
[12,11253,14,11258,13,11264,14,11269,null,null,0,1111]
[12,11367,14,11374,13,11379,14,11384,null,null,0,1111]
[12,11484,14,11492,13,11496,14,11501,null,null,0,1111]
[12,11633,14,11644,13,11652,14,11661,null,null,0,1111]
[12,11762,14,11768,13,11773,14,11778,null,null,0,1111]
[12,11885,14,11889,13,11895,14,11903,null,null,0,1111]
[12,12000,14,12005,13,12014,14,12021,null,null,0,1111]
[12,12124,14,12132,13,12137,14,12142,null,null,0,1111]
[12,12233,14,12239,13,12248,14,12257,null,null,0,1111]
[12,12363,14,12370,13,12375,14,12384,null,null,0,1111]
[12,12493,14,12499,13,12508,14,12515,null,null,0,1111]
[12,12616,14,12627,13,12631,14,12637,null,null,0,1111]
[12,12730,14,12736,13,12741,14,12746,null,null,0,1111]
[12,12849,14,12857,13,12861,14,12866,null,null,0,1111]
[12,12969,14,12976,13,12981,14,12986,null,null,0,1111]
[12,13078,14,13083,13,13087,14,13092,null,null,0,1111]
[12,13190,14,13197,13,13201,14,13205,null,null,0,1111]
[12,13312,14,13316,13,13323,14,13332,null,null,0,1111]
[12,13434,14,13440,13,13464,14,13474,null,null,0,1111]
[12,13578,14,13585,13,13590,14,13596,null,null,0,1111]
[12,13692,14,13716,13,13724,14,13733,null,null,0,1111]
[12,13838,14,13844,13,13853,14,13858,null,null,0,1111]
[12,13965,14,13972,13,13981,14,13987,null,null,0,1111]
[12,14086,14,14094,13,14099,14,14113,null,null,0,1111]
[12,14215,14,14222,13,14228,14,14233,null,null,0,1111]
[12,14332,14,14336,13,14341,14,14347,null,null,0,1111]
[12,14448,14,14454,13,14460,14,14466,null,null,0,1111]
[12,14566,14,14574,13,14578,14,14583,null,null,0,1111]
[12,14673,14,14679,13,14684,14,14689,null,null,0,1111]
[12,14782,14,14787,13,14791,14,14796,null,null,0,1111]
[12,14894,14,14904,13,14913,14,14921,null,null,0,1111]
[12,15019,14,15028,13,15037,14,15046,null,null,0,1111]
[12,15146,14,15151,13,15156,14,15165,null,null,0,1111]
[12,15265,14,15270,13,15275,14,15285,null,null,0,1111]
[12,15394,14,15403,13,15408,14,15413,null,null,0,1111]
[12,15513,14,15522,13,15527,14,15532,null,null,0,1111]
[12,15628,14,15634,13,15638,14,15643,null,null,0,1111]
[12,15740,14,15745,13,15750,14,15755,null,null,0,1111]
[12,15847,14,15853,13,15858,14,15863,null,null,0,1111]
[12,15968,14,15974,13,15980,14,15985,null,null,0,1111]
[12,16093,14,16101,13,16106,14,16112,null,null,0,1111]
[12,16208,14,16213,13,16219,14,16225,null,null,0,1111]
[12,16320,14,16325,13,16330,14,16336,null,null,0,1111]
[12,16440,14,16448,13,16453,14,16458,null,null,0,1111]
[12,16555,14,16561,13,16566,14,16571,null,null,0,1111]
[12,16669,14,16676,13,16682,14,16687,null,null,0,1111]
[12,16786,14,16792,13,16797,14,16802,null,null,0,1111]
[12,16897,14,16902,13,16908,14,16913,null,null,0,1111]
[12,17004,14,17009,13,17018,14,17034,null,null,0,1111]
[12,17133,14,17139,13,17144,14,17149,null,null,0,1111]
[12,17253,14,17259,13,17264,14,17272,null,null,0,1111]
[12,17370,14,17376,13,17382,14,17389,null,null,0,1111]
[12,17504,14,17510,13,17515,14,17523,null,null,0,1111]
[12,17623,14,17631,13,17636,14,17642,null,null,0,1111]
[12,17742,14,17747,13,17753,14,17761,null,null,0,1111]
[12,17856,14,17861,13,17866,14,17872,null,null,0,1111]
[12,17971,14,17976,13,17981,14,17985,null,null,0,1111]
[12,18089,14,18095,13,18100,14,18105,null,null,0,1111]
[12,18203,14,18208,13,18213,14,18219,null,null,0,1111]
[12,18315,14,18320,13,18325,14,18333,null,null,0,1111]
[12,18481,14,18486,13,18500,14,18510,null,null,0,1111]
[12,18607,14,18612,13,18617,14,18621,null,null,0,1111]
[12,18716,14,18725,13,18731,14,18740,null,null,0,1111]
[12,18849,14,18854,13,18859,14,18864,null,null,0,1111]
[12,18963,14,18969,13,18974,14,18978,null,null,0,1111]
[12,19080,14,19086,13,19091,14,19098,null,null,0,1111]
[12,19204,14,19210,13,19214,14,19219,null,null,0,1111]
[12,19326,14,19332,13,19336,14,19343,null,null,0,1111]
[12,19443,14,19450,13,19455,14,19461,null,null,0,1111]
[12,19560,14,19565,13,19571,14,19579,null,null,0,1111]
[12,19676,14,19682,13,19687,14,19692,null,null,0,1111]
[12,19795,14,19801,13,19806,14,19811,null,null,0,1111]
[12,19902,14,19907,13,19912,14,19917,null,null,0,1111]
[12,20010,14,20015,13,20023,14,20029,null,null,0,1111]
[12,20126,14,20131,13,20136,14,20143,null,null,0,1111]
[12,20241,14,20246,13,20255,14,20263,null,null,0,1111]
[12,20395,14,20400,13,20405,14,20413,null,null,0,1111]
[12,20505,14,20510,13,20516,14,20522,null,null,0,1111]
[12,20626,14,20635,13,20640,14,20645,null,null,0,1111]
[12,20748,14,20754,13,20759,14,20768,null,null,0,1111]
[12,20864,14,20869,13,20875,14,20880,null,null,0,1111]
[12,20977,14,20982,13,20987,14,20992,null,null,0,1111]
[12,21086,14,21092,13,21096,14,21112,null,null,0,1111]
[12,21218,14,21224,13,21229,14,21235,null,null,0,1111]
[12,21332,14,21337,13,21342,14,21351,null,null,0,1111]
[12,21459,14,21464,13,21469,14,21476,null,null,0,1111]
[12,21571,14,21577,13,21582,14,21588,null,null,0,1111]
[12,21683,14,21689,13,21695,14,21700,null,null,0,1111]
[12,21825,14,21834,13,21843,14,21853,null,null,0,1111]
[12,21948,14,21954,13,21958,14,21963,null,null,0,1111]
[12,22058,14,22064,13,22069,14,22074,null,null,0,1111]
[12,22170,14,22175,13,22186,14,22192,null,null,0,1111]
[12,22292,14,22297,13,22303,14,22308,null,null,0,1111]
[12,22413,14,22419,13,22424,14,22429,null,null,0,1111]
[12,22524,14,22531,13,22535,14,22540,null,null,0,1111]
[12,22644,14,22651,13,22656,14,22661,null,null,0,1111]
[12,22751,14,22757,13,22761,14,22771,null,null,0,1111]
[12,22871,14,22877,13,22882,14,22886,null,null,0,1111]
[12,22985,14,22991,13,22996,14,23003,null,null,0,1111]
[12,23098,14,23103,13,23109,14,23115,null,null,0,1111]
[12,23213,14,23218,13,23224,14,23227,null,null,0,1111]
[12,23319,14,23325,13,23330,14,23338,null,null,0,1111]
[12,23443,14,23451,13,23457,14,23461,null,null,0,1111]
[12,23557,14,23563,13,23568,14,23574,null,null,0,1111]
[12,23663,14,23669,13,23675,14,23680,null,null,0,1111]
[12,23779,14,23785,13,23791,14,23796,null,null,0,1111]
[12,23896,14,23901,13,23907,14,23916,null,null,0,1111]

{"sheet":"!L927B20.056","index":30,"n_rows":212,"n_cols":48,"rows_kept":212,"cut":false,"hidden":false,"merged":[[4,39,4,42],[5,39,5,40],[4,44,4,47],[5,44,5,45],[4,24,4,27],[5,24,5,25],[4,29,4,32],[5,29,5,30],[4,34,4,37],[5,34,5,35],[1,1,1,2],[5,13,5,14],[26,13,26,14],[27,13,27,14],[4,19,4,22],[5,19,5,20]]}
["Report for:!L927B20.056"]
["Date:","<date>"]
["Hen:","<hen>",null,null,null,"Correct Sequence",{"$f":"Start!J2","v":2212},null,null,null,null,null,null,null,null,"Total Sequences in Data",{"$f":"4994-COUNTBLANK(L7:L5000)","v":206},null,null,null,null,"Total Sequences in Block Data",{"$f":"COUNTA(L7:L40)","v":34},null,null,null,"Total Sequences in Block Data",{"$f":"COUNTA(L41:L75)","v":35},null,null,null,"Total Sequences in Block Data",{"$f":"COUNTA(L76:L109)","v":34},null,null,null,"Total Sequences in Block Data",{"$f":"COUNTA(L110:L143)","v":34},null,null,null,"Total Sequences in Block Data",{"$f":"COUNTA(L144:L178)","v":35},null,null,null,"Total Sequences in Block Data",{"$f":"COUNTA(L179:L212)","v":34}]
[null,null,null,null,null,null,null,null,null,null,null,null,null,null,null,"Total Sequences in Summary",{"$f":"SUM(O7:O22)","v":205},null,null,null,null,"Total Sequences in Block Summary",{"$f":"SUM(U7:U22)","v":34},null,null,null,"Total Sequences in Block Summary",{"$f":"SUM(Z7:Z22)","v":35},null,null,null,"Total Sequences in Block Summary",{"$f":"SUM(AE7:AE22)","v":34},null,null,null,"Total Sequences in Block Summary",{"$f":"SUM(AJ7:AJ22)","v":34},null,null,null,"Total Sequences in Block Summary",{"$f":"SUM(AO7:AO22)","v":35},null,null,null,"Total Sequences in Block Summary",{"$f":"SUM(AT7:AT22)","v":33}]
[null,null,null,null,null,null,null,null,null,null,null,null,null,null,null,null,null,null,null,"Block 1",null,null,null,null,"Block 2",null,null,null,null,"Block 3",null,null,null,null,"Block 4",null,null,null,null,"Block 5",null,null,null,null,"Block 6"]
["Sequence\nComponent\n1","Time\n1","Sequence\nComponent\n2","Time\n2","Sequence\nComponent\n3","Time\n3","Sequence\nComponent\n4","Time\n4","Sequence\nComponent\n5","Time\n5","Correct?\n0=No 1=Yes","Sequence",null,"Frequency",null,"Relative Frequency","Variability",null,null,"Frequency",null,"Relative Frequency","Variability",null,"Frequency",null,"Relative Frequency","Variability",null,"Frequency",null,"Relative Frequency","Variability",null,"Frequency",null,"Relative Frequency","Variability",null,"Frequency",null,"Relative Frequency","Variability",null,"Frequency",null,"Relative Frequency","Variability"]
[12,28,14,34,13,50,14,56,null,null,0,1111,null,1111,{"$f":"COUNTIF($L$7:$L$500,N7)","v":205},{"$f":"O7/$Q$4","v":1},{"$f":"IF(P7=0,0,(P7*((LOG(P7))/LOG(2))))","v":0},null,null,{"$f":"N7","v":1111},{"$f":"COUNTIF(L7:L40,T7)","v":34},{"$f":"U7/(W4-U20)","v":1},{"$f":"IF(V7=0,0,(V7*((LOG(V7))/LOG(2))))","v":0},null,{"$f":"N7","v":1111},{"$f":"COUNTIF(L41:L75,Y7)","v":35},{"$f":"Z7/(AB4-Z20)","v":1},{"$f":"IF(AA7=0,0,(AA7*((LOG(AA7))/LOG(2))))","v":0},null,{"$f":"N7","v":1111},{"$f":"COUNTIF(L76:L109,AD7)","v":34},{"$f":"AE7/(AG4-AE20)","v":1},{"$f":"IF(AF7=0,0,(AF7*((LOG(AF7))/LOG(2))))","v":0},null,{"$f":"N7","v":1111},{"$f":"COUNTIF(L110:L143,AI7)","v":34},{"$f":"AJ7/(AL4-AJ20)","v":1},{"$f":"IF(AK7=0,0,(AK7*((LOG(AK7))/LOG(2))))","v":0},null,{"$f":"N7","v":1111},{"$f":"COUNTIF(L144:L178,AN7)","v":35},{"$f":"AO7/(AQ4-AO20)","v":1},{"$f":"IF(AP7=0,0,(AP7*((LOG(AP7))/LOG(2))))","v":0},null,{"$f":"N7","v":1111},{"$f":"COUNTIF(L179:L212,AS7)","v":33},{"$f":"AT7/(AV4-AT20)","v":1},{"$f":"IF(AU7=0,0,(AU7*((LOG(AU7))/LOG(2))))","v":0}]
[12,170,14,175,13,181,14,188,null,null,0,1111,null,1112,{"$f":"COUNTIF($L$7:$L$500,N8)","v":0},{"$f":"O8/$Q$4","v":0},{"$f":"IF(P8=0,0,(P8*((LOG(P8))/LOG(2))))","v":0},null,null,{"$f":"N8","v":1112},{"$f":"COUNTIF(L7:L40,T8)","v":0},{"$f":"U8/(W4-U20)","v":0},{"$f":"IF(V8=0,0,(V8*((LOG(V8))/LOG(2))))","v":0},null,{"$f":"N8","v":1112},{"$f":"COUNTIF(L41:L75,Y8)","v":0},{"$f":"Z8/(AB4-Z20)","v":0},{"$f":"IF(AA8=0,0,(AA8*((LOG(AA8))/LOG(2))))","v":0},null,{"$f":"N8","v":1112},{"$f":"COUNTIF(L76:L109,AD8)","v":0},{"$f":"AE8/(AG4-AE20)","v":0},{"$f":"IF(AF8=0,0,(AF8*((LOG(AF8))/LOG(2))))","v":0},null,{"$f":"N8","v":1112},{"$f":"COUNTIF(L110:L143,AI8)","v":0},{"$f":"AJ8/(AL4-AJ20)","v":0},{"$f":"IF(AK8=0,0,(AK8*((LOG(AK8))/LOG(2))))","v":0},null,{"$f":"N8","v":1112},{"$f":"COUNTIF(L144:L178,AN8)","v":0},{"$f":"AO8/(AQ4-AO20)","v":0},{"$f":"IF(AP8=0,0,(AP8*((LOG(AP8))/LOG(2))))","v":0},null,{"$f":"N8","v":1112},{"$f":"COUNTIF(L179:L212,AS8)","v":0},{"$f":"AT8/(AV4-AT20)","v":0},{"$f":"IF(AU8=0,0,(AU8*((LOG(AU8))/LOG(2))))","v":0}]
[12,293,14,298,13,304,14,311,null,null,0,1111,null,1121,{"$f":"COUNTIF($L$7:$L$500,N9)","v":0},{"$f":"O9/$Q$4","v":0},{"$f":"IF(P9=0,0,(P9*((LOG(P9))/LOG(2))))","v":0},null,null,{"$f":"N9","v":1121},{"$f":"COUNTIF(L7:L40,T9)","v":0},{"$f":"U9/(W4-U20)","v":0},{"$f":"IF(V9=0,0,(V9*((LOG(V9))/LOG(2))))","v":0},null,{"$f":"N9","v":1121},{"$f":"COUNTIF(L41:L75,Y9)","v":0},{"$f":"Z9/(AB4-Z20)","v":0},{"$f":"IF(AA9=0,0,(AA9*((LOG(AA9))/LOG(2))))","v":0},null,{"$f":"N9","v":1121},{"$f":"COUNTIF(L76:L109,AD9)","v":0},{"$f":"AE9/(AG4-AE20)","v":0},{"$f":"IF(AF9=0,0,(AF9*((LOG(AF9))/LOG(2))))","v":0},null,{"$f":"N9","v":1121},{"$f":"COUNTIF(L110:L143,AI9)","v":0},{"$f":"AJ9/(AL4-AJ20)","v":0},{"$f":"IF(AK9=0,0,(AK9*((LOG(AK9))/LOG(2))))","v":0},null,{"$f":"N9","v":1121},{"$f":"COUNTIF(L144:L178,AN9)","v":0},{"$f":"AO9/(AQ4-AO20)","v":0},{"$f":"IF(AP9=0,0,(AP9*((LOG(AP9))/LOG(2))))","v":0},null,{"$f":"N9","v":1121},{"$f":"COUNTIF(L179:L212,AS9)","v":0},{"$f":"AT9/(AV4-AT20)","v":0},{"$f":"IF(AU9=0,0,(AU9*((LOG(AU9))/LOG(2))))","v":0}]
[12,419,14,427,13,432,14,439,null,null,0,1111,null,1122,{"$f":"COUNTIF($L$7:$L$500,N10)","v":0},{"$f":"O10/$Q$4","v":0},{"$f":"IF(P10=0,0,(P10*((LOG(P10))/LOG(2))))","v":0},null,null,{"$f":"N10","v":1122},{"$f":"COUNTIF(L7:L40,T10)","v":0},{"$f":"U10/(W4-U20)","v":0},{"$f":"IF(V10=0,0,(V10*((LOG(V10))/LOG(2))))","v":0},null,{"$f":"N10","v":1122},{"$f":"COUNTIF(L41:L75,Y10)","v":0},{"$f":"Z10/(AB4-Z20)","v":0},{"$f":"IF(AA10=0,0,(AA10*((LOG(AA10))/LOG(2))))","v":0},null,{"$f":"N10","v":1122},{"$f":"COUNTIF(L76:L109,AD10)","v":0},{"$f":"AE10/(AG4-AE20)","v":0},{"$f":"IF(AF10=0,0,(AF10*((LOG(AF10))/LOG(2))))","v":0},null,{"$f":"N10","v":1122},{"$f":"COUNTIF(L110:L143,AI10)","v":0},{"$f":"AJ10/(AL4-AJ20)","v":0},{"$f":"IF(AK10=0,0,(AK10*((LOG(AK10))/LOG(2))))","v":0},null,{"$f":"N10","v":1122},{"$f":"COUNTIF(L144:L178,AN10)","v":0},{"$f":"AO10/(AQ4-AO20)","v":0},{"$f":"IF(AP10=0,0,(AP10*((LOG(AP10))/LOG(2))))","v":0},null,{"$f":"N10","v":1122},{"$f":"COUNTIF(L179:L212,AS10)","v":0},{"$f":"AT10/(AV4-AT20)","v":0},{"$f":"IF(AU10=0,0,(AU10*((LOG(AU10))/LOG(2))))","v":0}]
[12,545,14,550,13,555,14,560,null,null,0,1111,null,1211,{"$f":"COUNTIF($L$7:$L$500,N11)","v":0},{"$f":"O11/$Q$4","v":0},{"$f":"IF(P11=0,0,(P11*((LOG(P11))/LOG(2))))","v":0},null,null,{"$f":"N11","v":1211},{"$f":"COUNTIF(L7:L40,T11)","v":0},{"$f":"U11/(W4-U20)","v":0},{"$f":"IF(V11=0,0,(V11*((LOG(V11))/LOG(2))))","v":0},null,{"$f":"N11","v":1211},{"$f":"COUNTIF(L41:L75,Y11)","v":0},{"$f":"Z11/(AB4-Z20)","v":0},{"$f":"IF(AA11=0,0,(AA11*((LOG(AA11))/LOG(2))))","v":0},null,{"$f":"N11","v":1211},{"$f":"COUNTIF(L76:L109,AD11)","v":0},{"$f":"AE11/(AG4-AE20)","v":0},{"$f":"IF(AF11=0,0,(AF11*((LOG(AF11))/LOG(2))))","v":0},null,{"$f":"N11","v":1211},{"$f":"COUNTIF(L110:L143,AI11)","v":0},{"$f":"AJ11/(AL4-AJ20)","v":0},{"$f":"IF(AK11=0,0,(AK11*((LOG(AK11))/LOG(2))))","v":0},null,{"$f":"N11","v":1211},{"$f":"COUNTIF(L144:L178,AN11)","v":0},{"$f":"AO11/(AQ4-AO20)","v":0},{"$f":"IF(AP11=0,0,(AP11*((LOG(AP11))/LOG(2))))","v":0},null,{"$f":"N11","v":1211},{"$f":"COUNTIF(L179:L212,AS11)","v":0},{"$f":"AT11/(AV4-AT20)","v":0},{"$f":"IF(AU11=0,0,(AU11*((LOG(AU11))/LOG(2))))","v":0}]
[12,658,14,663,13,673,14,685,null,null,0,1111,null,1212,{"$f":"COUNTIF($L$7:$L$500,N12)","v":0},{"$f":"O12/$Q$4","v":0},{"$f":"IF(P12=0,0,(P12*((LOG(P12))/LOG(2))))","v":0},null,null,{"$f":"N12","v":1212},{"$f":"COUNTIF(L7:L40,T12)","v":0},{"$f":"U12/(W4-U20)","v":0},{"$f":"IF(V12=0,0,(V12*((LOG(V12))/LOG(2))))","v":0},null,{"$f":"N12","v":1212},{"$f":"COUNTIF(L41:L75,Y12)","v":0},{"$f":"Z12/(AB4-Z20)","v":0},{"$f":"IF(AA12=0,0,(AA12*((LOG(AA12))/LOG(2))))","v":0},null,{"$f":"N12","v":1212},{"$f":"COUNTIF(L76:L109,AD12)","v":0},{"$f":"AE12/(AG4-AE20)","v":0},{"$f":"IF(AF12=0,0,(AF12*((LOG(AF12))/LOG(2))))","v":0},null,{"$f":"N12","v":1212},{"$f":"COUNTIF(L110:L143,AI12)","v":0},{"$f":"AJ12/(AL4-AJ20)","v":0},{"$f":"IF(AK12=0,0,(AK12*((LOG(AK12))/LOG(2))))","v":0},null,{"$f":"N12","v":1212},{"$f":"COUNTIF(L144:L178,AN12)","v":0},{"$f":"AO12/(AQ4-AO20)","v":0},{"$f":"IF(AP12=0,0,(AP12*((LOG(AP12))/LOG(2))))","v":0},null,{"$f":"N12","v":1212},{"$f":"COUNTIF(L179:L212,AS12)","v":0},{"$f":"AT12/(AV4-AT20)","v":0},{"$f":"IF(AU12=0,0,(AU12*((LOG(AU12))/LOG(2))))","v":0}]
[12,789,14,793,13,798,14,805,null,null,0,1111,null,1221,{"$f":"COUNTIF($L$7:$L$500,N13)","v":0},{"$f":"O13/$Q$4","v":0},{"$f":"IF(P13=0,0,(P13*((LOG(P13))/LOG(2))))","v":0},null,null,{"$f":"N13","v":1221},{"$f":"COUNTIF(L7:L40,T13)","v":0},{"$f":"U13/(W4-U20)","v":0},{"$f":"IF(V13=0,0,(V13*((LOG(V13))/LOG(2))))","v":0},null,{"$f":"N13","v":1221},{"$f":"COUNTIF(L41:L75,Y13)","v":0},{"$f":"Z13/(AB4-Z20)","v":0},{"$f":"IF(AA13=0,0,(AA13*((LOG(AA13))/LOG(2))))","v":0},null,{"$f":"N13","v":1221},{"$f":"COUNTIF(L76:L109,AD13)","v":0},{"$f":"AE13/(AG4-AE20)","v":0},{"$f":"IF(AF13=0,0,(AF13*((LOG(AF13))/LOG(2))))","v":0},null,{"$f":"N13","v":1221},{"$f":"COUNTIF(L110:L143,AI13)","v":0},{"$f":"AJ13/(AL4-AJ20)","v":0},{"$f":"IF(AK13=0,0,(AK13*((LOG(AK13))/LOG(2))))","v":0},null,{"$f":"N13","v":1221},{"$f":"COUNTIF(L144:L178,AN13)","v":0},{"$f":"AO13/(AQ4-AO20)","v":0},{"$f":"IF(AP13=0,0,(AP13*((LOG(AP13))/LOG(2))))","v":0},null,{"$f":"N13","v":1221},{"$f":"COUNTIF(L179:L212,AS13)","v":0},{"$f":"AT13/(AV4-AT20)","v":0},{"$f":"IF(AU13=0,0,(AU13*((LOG(AU13))/LOG(2))))","v":0}]
[12,912,14,920,13,928,14,939,null,null,0,1111,null,1222,{"$f":"COUNTIF($L$7:$L$500,N14)","v":0},{"$f":"O14/$Q$4","v":0},{"$f":"IF(P14=0,0,(P14*((LOG(P14))/LOG(2))))","v":0},null,null,{"$f":"N14","v":1222},{"$f":"COUNTIF(L7:L40,T14)","v":0},{"$f":"U14/(W4-U20)","v":0},{"$f":"IF(V14=0,0,(V14*((LOG(V14))/LOG(2))))","v":0},null,{"$f":"N14","v":1222},{"$f":"COUNTIF(L41:L75,Y14)","v":0},{"$f":"Z14/(AB4-Z20)","v":0},{"$f":"IF(AA14=0,0,(AA14*((LOG(AA14))/LOG(2))))","v":0},null,{"$f":"N14","v":1222},{"$f":"COUNTIF(L76:L109,AD14)","v":0},{"$f":"AE14/(AG4-AE20)","v":0},{"$f":"IF(AF14=0,0,(AF14*((LOG(AF14))/LOG(2))))","v":0},null,{"$f":"N14","v":1222},{"$f":"COUNTIF(L110:L143,AI14)","v":0},{"$f":"AJ14/(AL4-AJ20)","v":0},{"$f":"IF(AK14=0,0,(AK14*((LOG(AK14))/LOG(2))))","v":0},null,{"$f":"N14","v":1222},{"$f":"COUNTIF(L144:L178,AN14)","v":0},{"$f":"AO14/(AQ4-AO20)","v":0},{"$f":"IF(AP14=0,0,(AP14*((LOG(AP14))/LOG(2))))","v":0},null,{"$f":"N14","v":1222},{"$f":"COUNTIF(L179:L212,AS14)","v":0},{"$f":"AT14/(AV4-AT20)","v":0},{"$f":"IF(AU14=0,0,(AU14*((LOG(AU14))/LOG(2))))","v":0}]
[12,1038,14,1047,13,1052,14,1059,null,null,0,1111,null,2111,{"$f":"COUNTIF($L$7:$L$500,N15)","v":0},{"$f":"O15/$Q$4","v":0},{"$f":"IF(P15=0,0,(P15*((LOG(P15))/LOG(2))))","v":0},null,null,{"$f":"N15","v":2111},{"$f":"COUNTIF(L7:L40,T15)","v":0},{"$f":"U15/(W4-U20)","v":0},{"$f":"IF(V15=0,0,(V15*((LOG(V15))/LOG(2))))","v":0},null,{"$f":"N15","v":2111},{"$f":"COUNTIF(L41:L75,Y15)","v":0},{"$f":"Z15/(AB4-Z20)","v":0},{"$f":"IF(AA15=0,0,(AA15*((LOG(AA15))/LOG(2))))","v":0},null,{"$f":"N15","v":2111},{"$f":"COUNTIF(L76:L109,AD15)","v":0},{"$f":"AE15/(AG4-AE20)","v":0},{"$f":"IF(AF15=0,0,(AF15*((LOG(AF15))/LOG(2))))","v":0},null,{"$f":"N15","v":2111},{"$f":"COUNTIF(L110:L143,AI15)","v":0},{"$f":"AJ15/(AL4-AJ20)","v":0},{"$f":"IF(AK15=0,0,(AK15*((LOG(AK15))/LOG(2))))","v":0},null,{"$f":"N15","v":2111},{"$f":"COUNTIF(L144:L178,AN15)","v":0},{"$f":"AO15/(AQ4-AO20)","v":0},{"$f":"IF(AP15=0,0,(AP15*((LOG(AP15))/LOG(2))))","v":0},null,{"$f":"N15","v":2111},{"$f":"COUNTIF(L179:L212,AS15)","v":0},{"$f":"AT15/(AV4-AT20)","v":0},{"$f":"IF(AU15=0,0,(AU15*((LOG(AU15))/LOG(2))))","v":0}]
[12,1156,14,1161,13,1169,14,1184,null,null,0,1111,null,2112,{"$f":"COUNTIF($L$7:$L$500,N16)","v":0},{"$f":"O16/$Q$4","v":0},{"$f":"IF(P16=0,0,(P16*((LOG(P16))/LOG(2))))","v":0},null,null,{"$f":"N16","v":2112},{"$f":"COUNTIF(L7:L40,T16)","v":0},{"$f":"U16/(W4-U20)","v":0},{"$f":"IF(V16=0,0,(V16*((LOG(V16))/LOG(2))))","v":0},null,{"$f":"N16","v":2112},{"$f":"COUNTIF(L41:L75,Y16)","v":0},{"$f":"Z16/(AB4-Z20)","v":0},{"$f":"IF(AA16=0,0,(AA16*((LOG(AA16))/LOG(2))))","v":0},null,{"$f":"N16","v":2112},{"$f":"COUNTIF(L76:L109,AD16)","v":0},{"$f":"AE16/(AG4-AE20)","v":0},{"$f":"IF(AF16=0,0,(AF16*((LOG(AF16))/LOG(2))))","v":0},null,{"$f":"N16","v":2112},{"$f":"COUNTIF(L110:L143,AI16)","v":0},{"$f":"AJ16/(AL4-AJ20)","v":0},{"$f":"IF(AK16=0,0,(AK16*((LOG(AK16))/LOG(2))))","v":0},null,{"$f":"N16","v":2112},{"$f":"COUNTIF(L144:L178,AN16)","v":0},{"$f":"AO16/(AQ4-AO20)","v":0},{"$f":"IF(AP16=0,0,(AP16*((LOG(AP16))/LOG(2))))","v":0},null,{"$f":"N16","v":2112},{"$f":"COUNTIF(L179:L212,AS16)","v":0},{"$f":"AT16/(AV4-AT20)","v":0},{"$f":"IF(AU16=0,0,(AU16*((LOG(AU16))/LOG(2))))","v":0}]
[12,1282,14,1287,13,1292,14,1296,null,null,0,1111,null,2121,{"$f":"COUNTIF($L$7:$L$500,N17)","v":0},{"$f":"O17/$Q$4","v":0},{"$f":"IF(P17=0,0,(P17*((LOG(P17))/LOG(2))))","v":0},null,null,{"$f":"N17","v":2121},{"$f":"COUNTIF(L7:L40,T17)","v":0},{"$f":"U17/(W4-U20)","v":0},{"$f":"IF(V17=0,0,(V17*((LOG(V17))/LOG(2))))","v":0},null,{"$f":"N17","v":2121},{"$f":"COUNTIF(L41:L75,Y17)","v":0},{"$f":"Z17/(AB4-Z20)","v":0},{"$f":"IF(AA17=0,0,(AA17*((LOG(AA17))/LOG(2))))","v":0},null,{"$f":"N17","v":2121},{"$f":"COUNTIF(L76:L109,AD17)","v":0},{"$f":"AE17/(AG4-AE20)","v":0},{"$f":"IF(AF17=0,0,(AF17*((LOG(AF17))/LOG(2))))","v":0},null,{"$f":"N17","v":2121},{"$f":"COUNTIF(L110:L143,AI17)","v":0},{"$f":"AJ17/(AL4-AJ20)","v":0},{"$f":"IF(AK17=0,0,(AK17*((LOG(AK17))/LOG(2))))","v":0},null,{"$f":"N17","v":2121},{"$f":"COUNTIF(L144:L178,AN17)","v":0},{"$f":"AO17/(AQ4-AO20)","v":0},{"$f":"IF(AP17=0,0,(AP17*((LOG(AP17))/LOG(2))))","v":0},null,{"$f":"N17","v":2121},{"$f":"COUNTIF(L179:L212,AS17)","v":0},{"$f":"AT17/(AV4-AT20)","v":0},{"$f":"IF(AU17=0,0,(AU17*((LOG(AU17))/LOG(2))))","v":0}]
[12,1387,14,1395,13,1404,14,1415,null,null,0,1111,null,2122,{"$f":"COUNTIF($L$7:$L$500,N18)","v":0},{"$f":"O18/$Q$4","v":0},{"$f":"IF(P18=0,0,(P18*((LOG(P18))/LOG(2))))","v":0},null,null,{"$f":"N18","v":2122},{"$f":"COUNTIF(L7:L40,T18)","v":0},{"$f":"U18/(W4-U20)","v":0},{"$f":"IF(V18=0,0,(V18*((LOG(V18))/LOG(2))))","v":0},null,{"$f":"N18","v":2122},{"$f":"COUNTIF(L41:L75,Y18)","v":0},{"$f":"Z18/(AB4-Z20)","v":0},{"$f":"IF(AA18=0,0,(AA18*((LOG(AA18))/LOG(2))))","v":0},null,{"$f":"N18","v":2122},{"$f":"COUNTIF(L76:L109,AD18)","v":0},{"$f":"AE18/(AG4-AE20)","v":0},{"$f":"IF(AF18=0,0,(AF18*((LOG(AF18))/LOG(2))))","v":0},null,{"$f":"N18","v":2122},{"$f":"COUNTIF(L110:L143,AI18)","v":0},{"$f":"AJ18/(AL4-AJ20)","v":0},{"$f":"IF(AK18=0,0,(AK18*((LOG(AK18))/LOG(2))))","v":0},null,{"$f":"N18","v":2122},{"$f":"COUNTIF(L144:L178,AN18)","v":0},{"$f":"AO18/(AQ4-AO20)","v":0},{"$f":"IF(AP18=0,0,(AP18*((LOG(AP18))/LOG(2))))","v":0},null,{"$f":"N18","v":2122},{"$f":"COUNTIF(L179:L212,AS18)","v":0},{"$f":"AT18/(AV4-AT20)","v":0},{"$f":"IF(AU18=0,0,(AU18*((LOG(AU18))/LOG(2))))","v":0}]
[12,1513,14,1517,13,1522,14,1527,null,null,0,1111,null,2211,{"$f":"COUNTIF($L$7:$L$500,N19)","v":0},{"$f":"O19/$Q$4","v":0},{"$f":"IF(P19=0,0,(P19*((LOG(P19))/LOG(2))))","v":0},null,null,{"$f":"N19","v":2211},{"$f":"COUNTIF(L7:L40,T19)","v":0},{"$f":"U19/(W4-U20)","v":0},{"$f":"IF(V19=0,0,(V19*((LOG(V19))/LOG(2))))","v":0},null,{"$f":"N19","v":2211},{"$f":"COUNTIF(L41:L75,Y19)","v":0},{"$f":"Z19/(AB4-Z20)","v":0},{"$f":"IF(AA19=0,0,(AA19*((LOG(AA19))/LOG(2))))","v":0},null,{"$f":"N19","v":2211},{"$f":"COUNTIF(L76:L109,AD19)","v":0},{"$f":"AE19/(AG4-AE20)","v":0},{"$f":"IF(AF19=0,0,(AF19*((LOG(AF19))/LOG(2))))","v":0},null,{"$f":"N19","v":2211},{"$f":"COUNTIF(L110:L143,AI19)","v":0},{"$f":"AJ19/(AL4-AJ20)","v":0},{"$f":"IF(AK19=0,0,(AK19*((LOG(AK19))/LOG(2))))","v":0},null,{"$f":"N19","v":2211},{"$f":"COUNTIF(L144:L178,AN19)","v":0},{"$f":"AO19/(AQ4-AO20)","v":0},{"$f":"IF(AP19=0,0,(AP19*((LOG(AP19))/LOG(2))))","v":0},null,{"$f":"N19","v":2211},{"$f":"COUNTIF(L179:L212,AS19)","v":0},{"$f":"AT19/(AV4-AT20)","v":0},{"$f":"IF(AU19=0,0,(AU19*((LOG(AU19))/LOG(2))))","v":0}]
[12,1628,14,1632,13,1637,14,1642,null,null,0,1111,null,2212,{"$f":"COUNTIF($L$7:$L$500,N20)","v":0},{"$f":"O20/$Q$4","v":0},{"$f":"IF(P20=0,0,(P20*((LOG(P20))/LOG(2))))","v":0},null,null,{"$f":"N20","v":2212},{"$f":"COUNTIF(L7:L40,T20)","v":0},null,null,null,{"$f":"N20","v":2212},{"$f":"COUNTIF(L41:L75,Y20)","v":0},null,null,null,{"$f":"N20","v":2212},{"$f":"COUNTIF(L76:L109,AD20)","v":0},null,null,null,{"$f":"N20","v":2212},{"$f":"COUNTIF(L110:L143,AI20)","v":0},null,null,null,{"$f":"N20","v":2212},{"$f":"COUNTIF(L144:L178,AN20)","v":0},null,null,null,{"$f":"N20","v":2212},{"$f":"COUNTIF(L179:L212,AS20)","v":0}]
[12,1740,14,1745,13,1750,14,1754,null,null,0,1111,null,2221,{"$f":"COUNTIF($L$7:$L$500,N21)","v":0},{"$f":"O21/$Q$4","v":0},{"$f":"IF(P21=0,0,(P21*((LOG(P21))/LOG(2))))","v":0},null,null,{"$f":"N21","v":2221},{"$f":"COUNTIF(L7:L40,T21)","v":0},{"$f":"U21/(W4-U20)","v":0},{"$f":"IF(V21=0,0,(V21*((LOG(V21))/LOG(2))))","v":0},null,{"$f":"N21","v":2221},{"$f":"COUNTIF(L41:L75,Y21)","v":0},{"$f":"Z21/(AB4-Z20)","v":0},{"$f":"IF(AA21=0,0,(AA21*((LOG(AA21))/LOG(2))))","v":0},null,{"$f":"N21","v":2221},{"$f":"COUNTIF(L76:L109,AD21)","v":0},{"$f":"AE21/(AG4-AE20)","v":0},{"$f":"IF(AF21=0,0,(AF21*((LOG(AF21))/LOG(2))))","v":0},null,{"$f":"N21","v":2221},{"$f":"COUNTIF(L110:L143,AI21)","v":0},{"$f":"AJ21/(AL4-AJ20)","v":0},{"$f":"IF(AK21=0,0,(AK21*((LOG(AK21))/LOG(2))))","v":0},null,{"$f":"N21","v":2221},{"$f":"COUNTIF(L144:L178,AN21)","v":0},{"$f":"AO21/(AQ4-AO20)","v":0},{"$f":"IF(AP21=0,0,(AP21*((LOG(AP21))/LOG(2))))","v":0},null,{"$f":"N21","v":2221},{"$f":"COUNTIF(L179:L212,AS21)","v":0},{"$f":"AT21/(AV4-AT20)","v":0},{"$f":"IF(AU21=0,0,(AU21*((LOG(AU21))/LOG(2))))","v":0}]
[12,1852,14,1857,13,1861,14,1873,null,null,0,1111,null,2222,{"$f":"COUNTIF($L$7:$L$500,N22)","v":0},{"$f":"O22/$Q$4","v":0},{"$f":"IF(P22=0,0,(P22*((LOG(P22))/LOG(2))))","v":0},null,null,{"$f":"N22","v":2222},{"$f":"COUNTIF(L7:L40,T22)","v":0},{"$f":"U22/(W4-U20)","v":0},{"$f":"IF(V22=0,0,(V22*((LOG(V22))/LOG(2))))","v":0},null,{"$f":"N22","v":2222},{"$f":"COUNTIF(L41:L75,Y22)","v":0},{"$f":"Z22/(AB4-Z20)","v":0},{"$f":"IF(AA22=0,0,(AA22*((LOG(AA22))/LOG(2))))","v":0},null,{"$f":"N22","v":2222},{"$f":"COUNTIF(L76:L109,AD22)","v":0},{"$f":"AE22/(AG4-AE20)","v":0},{"$f":"IF(AF22=0,0,(AF22*((LOG(AF22))/LOG(2))))","v":0},null,{"$f":"N22","v":2222},{"$f":"COUNTIF(L110:L143,AI22)","v":0},{"$f":"AJ22/(AL4-AJ20)","v":0},{"$f":"IF(AK22=0,0,(AK22*((LOG(AK22))/LOG(2))))","v":0},null,{"$f":"N22","v":2222},{"$f":"COUNTIF(L144:L178,AN22)","v":0},{"$f":"AO22/(AQ4-AO20)","v":0},{"$f":"IF(AP22=0,0,(AP22*((LOG(AP22))/LOG(2))))","v":0},null,{"$f":"N22","v":2222},{"$f":"COUNTIF(L179:L212,AS22)","v":0},{"$f":"AT22/(AV4-AT20)","v":0},{"$f":"IF(AU22=0,0,(AU22*((LOG(AU22))/LOG(2))))","v":0}]
[12,1973,14,1979,13,1983,14,1988,null,null,0,1111,null,null,null,{"$f":"SUM(P7:P22)","v":1},{"$f":"-SUM(Q7:Q22)","v":0},null,null,null,null,{"$f":"SUM(V7:V22)","v":1},{"$f":"-SUM(W7:W22)","v":0},null,null,null,{"$f":"SUM(AA7:AA22)","v":1},{"$f":"-SUM(AB7:AB22)","v":0},null,null,null,{"$f":"SUM(AF7:AF22)","v":1},{"$f":"-SUM(AG7:AG22)","v":0},null,null,null,{"$f":"SUM(AK7:AK22)","v":1},{"$f":"-SUM(AL7:AL22)","v":0},null,null,null,{"$f":"SUM(AP7:AP22)","v":1},{"$f":"-SUM(AQ7:AQ22)","v":0},null,null,null,{"$f":"SUM(AU7:AU22)","v":1},{"$f":"-SUM(AV7:AV22)","v":0}]
[12,2089,14,2093,13,2098,14,2103,null,null,0,1111,null,null,null,"U=",{"$f":"Q23/(LOG(Q4)/LOG(2))","v":0},null,null,null,null,"U1=",{"$f":"W23/(LOG(W4)/LOG(2))","v":0},null,null,null,"U2=",{"$f":"AB23/(LOG(AB4)/LOG(2))","v":0},null,null,null,"U3=",{"$f":"AG23/(LOG(AG4)/LOG(2))","v":0},null,null,null,"U4=",{"$f":"AL23/(LOG(AL4)/LOG(2))","v":0},null,null,null,"U5=",{"$f":"AQ23/(LOG(AQ4)/LOG(2))","v":0},null,null,null,"U6=",{"$f":"AV23/(LOG(AV4)/LOG(2))","v":0}]
[12,2200,14,2206,13,2210,14,2215,null,null,0,1111]
[12,2315,14,2319,13,2323,14,2328,null,null,0,1111]
[12,2422,14,2427,13,2432,14,2437,null,null,0,1111,null,"Total Target Seq"]
[12,2535,14,2540,13,2544,14,2549,null,null,0,1111,null,{"$f":"COUNTIF(L7:L212,G3)","v":0},null,34,35,34,34,35,34]
[12,2647,14,2656,13,2661,14,2669,null,null,0,1111,null,null,null,"% of reinforcement given in 6 equal intervals based on number of trials "]
[12,2772,14,2776,13,2781,14,2787,null,null,0,1111,null,null,null,"%_1","%_2","%_3","%_4","%_5","%_6"]
[12,2886,14,2891,13,2896,14,2909,null,null,0,1111,null,null,"target sequence",{"$f":"$G$3","v":2212},{"$f":"$G$3","v":2212},{"$f":"$G$3","v":2212},{"$f":"$G$3","v":2212},{"$f":"$G$3","v":2212},{"$f":"$G$3","v":2212}]
[12,3001,14,3008,13,3012,14,3017,null,null,0,1111,null,null,"total reinforcement",{"$f":"U20","v":0},{"$f":"Z20","v":0},{"$f":"AE20","v":0},{"$f":"AJ20","v":0},{"$f":"AO20","v":0},{"$f":"AT20","v":0}]
[12,3114,14,3120,13,3124,14,3132,null,null,0,1111,null,null,"% target"]
[12,3238,14,3245,13,3250,14,3267,null,null,0,1111,null,null,"CCRF"]
[12,3370,14,3375,13,3386,14,3398,null,null,0,1111,null,null,"% CCRf"]
[12,3495,14,3501,13,3505,14,3509,null,null,0,1111,null,null,"average response rate",{"$f":"H40/P28","v":117.11764705882354},{"$f":"(H75-H40)/Q28","v":120.8},{"$f":"(H109-H75)/R28","v":114.11764705882354},{"$f":"(H143-H109)/S28","v":114.70588235294117},{"$f":"(H178-H143)/T28","v":115.54285714285714},{"$f":"(H212-H178)/U28","v":-589.23529411764707}]
[12,3608,14,3613,13,3618,14,3624,null,null,0,1111]
[12,3725,14,3731,13,3736,14,3745,null,null,0,1111]
[12,3842,14,3851,13,3856,14,3860,null,null,0,1111]
[12,3967,14,3972,13,3976,14,3982,null,null,0,1111]
[12,4074,14,4079,13,4083,14,4087,null,null,0,1111]
[12,4257,14,4263,13,4268,14,4273,null,null,0,1111]
[12,4368,14,4373,13,4379,14,4393,null,null,0,1111]
[12,4490,14,4498,13,4503,14,4507,null,null,0,1111]
[12,4606,14,4613,13,4622,14,4629,null,null,0,1111]
[12,4727,14,4733,13,4738,14,4765,null,null,0,1111]
[12,4874,14,4879,13,4885,14,4892,null,null,0,1111]
[12,4994,14,5006,13,5011,14,5022,null,null,0,1111]
[12,5119,14,5124,13,5128,14,5133,null,null,0,1111]
[12,5238,14,5243,13,5247,14,5257,null,null,0,1111]
[12,5355,14,5360,13,5364,14,5369,null,null,0,1111]
[12,5470,14,5474,13,5479,14,5501,null,null,0,1111]
[12,5594,14,5598,13,5608,14,5615,null,null,0,1111]
[12,5714,14,5723,13,5727,14,5733,null,null,0,1111]
[12,5832,14,5842,13,5847,14,5855,null,null,0,1111]
[12,5952,14,5957,13,5962,14,5969,null,null,0,1111]
[12,6070,14,6075,13,6080,14,6085,null,null,0,1111]
[12,6193,14,6198,13,6204,14,6212,null,null,0,1111]
[12,6304,14,6309,13,6313,14,6332,null,null,0,1111]
[12,6433,14,6440,13,6445,14,6450,null,null,0,1111]
[12,6553,14,6559,13,6565,14,6570,null,null,0,1111]
[12,6676,14,6681,13,6686,14,6690,null,null,0,1111]
[12,6795,14,6801,13,6805,14,6811,null,null,0,1111]
[12,6911,14,6918,13,6922,14,6943,null,null,0,1111]
[12,7038,14,7044,13,7048,14,7053,null,null,0,1111]
[12,7155,14,7160,13,7165,14,7178,null,null,0,1111]
[12,7277,14,7282,13,7287,14,7292,null,null,0,1111]
[12,7390,14,7395,13,7399,14,7403,null,null,0,1111]
[12,7506,14,7512,13,7517,14,7524,null,null,0,1111]
[12,7613,14,7618,13,7623,14,7627,null,null,0,1111]
[12,7731,14,7739,13,7744,14,7749,null,null,0,1111]
[12,7849,14,7854,13,7859,14,7864,null,null,0,1111]
[12,7966,14,7970,13,7975,14,7980,null,null,0,1111]
[12,8084,14,8089,13,8094,14,8100,null,null,0,1111]
[12,8196,14,8200,13,8205,14,8210,null,null,0,1111]
[12,8309,14,8314,13,8318,14,8324,null,null,0,1111]
[12,8418,14,8423,13,8427,14,8432,null,null,0,1111]
[12,8523,14,8528,13,8532,14,8536,null,null,0,1111]
[12,8638,14,8643,13,8647,14,8653,null,null,0,1111]
[12,8754,14,8764,13,8769,14,8774,null,null,0,1111]
[12,8877,14,8882,13,8887,14,8893,null,null,0,1111]
[12,8992,14,8996,13,9001,14,9005,null,null,0,1111]
[12,9101,14,9105,13,9110,14,9114,null,null,0,1111]
[12,9209,14,9214,13,9218,14,9222,null,null,0,1111]
[12,9326,14,9332,13,9337,14,9349,null,null,0,1111]
[12,9446,14,9453,13,9457,14,9462,null,null,0,1111]
[12,9558,14,9564,13,9568,14,9575,null,null,0,1111]
[12,9674,14,9679,13,9683,14,9689,null,null,0,1111]
[12,9787,14,9792,13,9796,14,9805,null,null,0,1111]
[12,9903,14,9907,13,9921,14,9930,null,null,0,1111]
[12,10028,14,10033,13,10038,14,10043,null,null,0,1111]
[12,10139,14,10146,13,10150,14,10154,null,null,0,1111]
[12,10255,14,10261,13,10265,14,10270,null,null,0,1111]
[12,10364,14,10372,13,10376,14,10381,null,null,0,1111]
[12,10476,14,10480,13,10485,14,10490,null,null,0,1111]
[12,10585,14,10590,13,10594,14,10600,null,null,0,1111]
[12,10706,14,10710,13,10715,14,10722,null,null,0,1111]
[12,10820,14,10826,13,10831,14,10836,null,null,0,1111]
[12,10930,14,10932,13,10935,14,10941,null,null,0,1111]
[12,11033,14,11038,13,11042,14,11050,null,null,0,1111]
[12,11141,14,11146,13,11150,14,11156,null,null,0,1111]
[12,11253,14,11262,13,11266,14,11271,null,null,0,1111]
[12,11377,14,11385,13,11390,14,11397,null,null,0,1111]
[12,11500,14,11508,13,11513,14,11518,null,null,0,1111]
[12,11614,14,11621,13,11625,14,11629,null,null,0,1111]
[12,11726,14,11731,13,11736,14,11741,null,null,0,1111]
[12,11844,14,11849,13,11854,14,11863,null,null,0,1111]
[12,11962,14,11967,13,11972,14,11979,null,null,0,1111]
[12,12075,14,12081,13,12085,14,12090,null,null,0,1111]
[12,12187,14,12192,13,12197,14,12232,null,null,0,1111]
[12,12330,14,12335,13,12340,14,12344,null,null,0,1111]
[12,12444,14,12449,13,12453,14,12457,null,null,0,1111]
[12,12557,14,12561,13,12565,14,12570,null,null,0,1111]
[12,12661,14,12666,13,12670,14,12675,null,null,0,1111]
[12,12774,14,12778,13,12783,14,12788,null,null,0,1111]
[12,12884,14,12889,13,12893,14,12898,null,null,0,1111]
[12,12995,14,12999,13,13004,14,13008,null,null,0,1111]
[12,13105,14,13111,13,13116,14,13121,null,null,0,1111]
[12,13222,14,13231,13,13235,14,13240,null,null,0,1111]
[12,13339,14,13343,13,13347,14,13355,null,null,0,1111]
[12,13443,14,13449,13,13454,14,13470,null,null,0,1111]
[12,13570,14,13575,13,13580,14,13587,null,null,0,1111]
[12,13680,14,13688,13,13692,14,13698,null,null,0,1111]
[12,13786,14,13792,13,13796,14,13801,null,null,0,1111]
[12,13890,14,13895,13,13898,14,13911,null,null,0,1111]
[12,14002,14,14010,13,14016,14,14023,null,null,0,1111]
[12,14118,14,14123,13,14128,14,14133,null,null,0,1111]
[12,14232,14,14238,13,14242,14,14247,null,null,0,1111]
[12,14346,14,14351,13,14359,14,14369,null,null,0,1111]
[12,14466,14,14470,13,14475,14,14481,null,null,0,1111]
[12,14567,14,14577,13,14585,14,14592,null,null,0,1111]
[12,14689,14,14698,13,14705,14,14722,null,null,0,1111]
[12,14820,14,14825,13,14829,14,14834,null,null,0,1111]
[12,14935,14,14940,13,14952,14,14960,null,null,0,1111]
[12,15055,14,15064,13,15069,14,15074,null,null,0,1111]
[12,15163,14,15169,13,15173,14,15177,null,null,0,1111]
[12,15278,14,15289,13,15296,14,15301,null,null,0,1111]
[12,15396,14,15403,13,15408,14,15413,null,null,0,1111]
[12,15512,14,15523,13,15527,14,15532,null,null,0,1111]
[12,15631,14,15639,13,15644,14,15656,null,null,0,1111]
[12,15753,14,15759,13,15764,14,15769,null,null,0,1111]
[12,15860,14,15865,13,15870,14,15876,null,null,0,1111]
[12,15973,14,15979,13,15984,14,15990,null,null,0,1111]
[12,16087,14,16094,13,16098,14,16103,null,null,0,1111]
[12,16204,14,16208,13,16213,14,16221,null,null,0,1111]
[12,16319,14,16324,13,16329,14,16334,null,null,0,1111]
[12,16432,14,16438,13,16443,14,16450,null,null,0,1111]
[12,16547,14,16553,13,16558,14,16562,null,null,0,1111]
[12,16650,14,16656,13,16660,14,16665,null,null,0,1111]
[12,16761,14,16767,13,16772,14,16777,null,null,0,1111]
[12,16873,14,16878,13,16887,14,16894,null,null,0,1111]
[12,16994,14,16998,13,17003,14,17011,null,null,0,1111]
[12,17112,14,17120,13,17124,14,17132,null,null,0,1111]
[12,17225,14,17233,13,17239,14,17248,null,null,0,1111]
[12,17347,14,17352,13,17357,14,17364,null,null,0,1111]
[12,17456,14,17461,13,17465,14,17470,null,null,0,1111]
[12,17566,14,17572,13,17577,14,17581,null,null,0,1111]
[12,17673,14,17675,13,17682,14,17687,null,null,0,1111]
[12,17783,14,17789,13,17794,14,17801,null,null,0,1111]
[12,17897,14,17902,13,17907,14,17912,null,null,0,1111]
[12,18009,14,18015,13,18020,14,18027,null,null,0,1111]
[12,18123,14,18129,13,18133,14,18138,null,null,0,1111]
[12,18237,14,18242,13,18252,14,18260,null,null,0,1111]
[12,18361,14,18366,13,18371,14,18378,null,null,0,1111]
[12,18469,14,18477,13,18482,14,18487,null,null,0,1111]
[12,18583,14,18588,13,18592,14,18597,null,null,0,1111]
[12,18698,14,18704,13,18709,14,18714,null,null,0,1111]
[12,18813,14,18818,13,18822,14,18830,null,null,0,1111]
[12,18934,14,18940,13,18945,14,18951,null,null,0,1111]
[12,19040,14,19047,13,19052,14,19057,null,null,0,1111]
[12,19159,14,19166,13,19170,14,19175,null,null,0,1111]
[12,19331,14,19337,13,19342,14,19350,null,null,0,1111]
[12,19448,14,19453,13,19458,14,19463,null,null,0,1111]
[12,19559,14,19563,13,19568,14,19573,null,null,0,1111]
[12,19673,14,19678,13,19682,14,19688,null,null,0,1111]
[12,19790,14,19795,13,19800,14,19805,null,null,0,1111]
[12,19897,14,19905,13,19910,14,19915,null,null,0,1111]
[12,20017,14,20021,13,20026,14,20034,null,null,0,1111]
[12,20125,14,20130,13,20136,14,20141,null,null,0,1111]
[12,20247,14,20253,13,20257,14,20262,null,null,0,1111]
[12,20362,14,20368,13,20373,14,20381,null,null,0,1111]
[12,20479,14,20486,13,20490,14,20504,null,null,0,1111]
[12,20592,14,20597,13,20606,14,20611,null,null,0,1111]
[12,20711,14,20722,13,20727,14,20732,null,null,0,1111]
[12,20828,14,20833,13,20839,14,20844,null,null,0,1111]
[12,20941,14,20948,13,20958,14,20976,null,null,0,1111]
[12,21071,14,21077,13,21082,14,21087,null,null,0,1111]
[12,21183,14,21188,13,21192,14,21198,null,null,0,1111]
[12,21288,14,21293,13,21298,14,21302,null,null,0,1111]
[12,21401,14,21405,13,21410,14,21421,null,null,0,1111]
[12,21519,14,21523,13,21528,14,21533,null,null,0,1111]
[12,21628,14,21635,13,21640,14,21651,null,null,0,1111]
[12,21746,14,21752,13,21756,14,21761,null,null,0,1111]
[12,21857,14,21862,13,21866,14,21871,null,null,0,1111]
[12,21969,14,21975,13,21980,14,21985,null,null,0,1111]
[12,22080,14,22087,13,22093,14,22100,null,null,0,1111]
[12,22197,14,22203,13,22208,14,22213,null,null,0,1111]
[12,22307,14,22312,13,22316,14,22321,null,null,0,1111]
[12,22414,14,22419,13,22424,14,22429,null,null,0,1111]
[12,22533,14,22539,13,22543,14,22548,null,null,0,1111]
[12,22645,14,22650,13,22655,14,22671,null,null,0,1111]
[12,22836,14,22842,13,22849,14,22858,null,null,0,1111]
[12,22950,14,22955,13,22959,14,22964,null,null,0,1111]
[12,23065,14,23072,13,23076,14,23082,null,null,0,1111]
[12,23181,14,23185,13,23190,14,23199,null,null,0,1111]
[12,23298,14,23305,13,23311,14,23319,null,null,0,1111]
[12,23414,14,23420,13,23424,14,23429,null,null,0,1111]
[12,23526,14,23531,13,23535,14,23541,null,null,0,1111]
[12,23639,14,23644,13,23650,14,23658,null,null,0,1111]
[12,23764,14,23769,13,23773,14,23778,null,null,0,1111]
[12,23869,14,23877,13,23882,14,23891,null,null,0,1111]
[12,23989,14,23995,13,23999,null,null,null,null,null,111]

{"sheet":"!L928830.056","index":31,"n_rows":200,"n_cols":48,"rows_kept":200,"cut":false,"hidden":false,"merged":[[4,39,4,42],[5,39,5,40],[4,44,4,47],[5,44,5,45],[4,24,4,27],[5,24,5,25],[4,29,4,32],[5,29,5,30],[4,34,4,37],[5,34,5,35],[1,1,1,2],[5,13,5,14],[26,13,26,14],[27,13,27,14],[4,19,4,22],[5,19,5,20]]}
["Report for:!L928830.056"]
["Date:","<date>"]
["Hen:","<hen>",null,null,null,"Correct Sequence",{"$f":"Start!J2","v":2212},null,null,null,null,null,null,null,null,"Total Sequences in Data",{"$f":"4994-COUNTBLANK(L7:L5000)","v":194},null,null,null,null,"Total Sequences in Block Data",{"$f":"COUNTA(L7:L38)","v":32},null,null,null,"Total Sequences in Block Data",{"$f":"COUNTA(L39:L71)","v":33},null,null,null,"Total Sequences in Block Data",{"$f":"COUNTA(L72:L103)","v":32},null,null,null,"Total Sequences in Block Data",{"$f":"COUNTA(L104:L135)","v":32},null,null,null,"Total Sequences in Block Data",{"$f":"COUNTA(L136:L168)","v":33},null,null,null,"Total Sequences in Block Data",{"$f":"COUNTA(L169:L200)","v":32}]
[null,null,null,null,null,null,null,null,null,null,null,null,null,null,null,"Total Sequences in Summary",{"$f":"SUM(O7:O22)","v":194},null,null,null,null,"Total Sequences in Block Summary",{"$f":"SUM(U7:U22)","v":32},null,null,null,"Total Sequences in Block Summary",{"$f":"SUM(Z7:Z22)","v":33},null,null,null,"Total Sequences in Block Summary",{"$f":"SUM(AE7:AE22)","v":32},null,null,null,"Total Sequences in Block Summary",{"$f":"SUM(AJ7:AJ22)","v":32},null,null,null,"Total Sequences in Block Summary",{"$f":"SUM(AO7:AO22)","v":33},null,null,null,"Total Sequences in Block Summary",{"$f":"SUM(AT7:AT22)","v":32}]
[null,null,null,null,null,null,null,null,null,null,null,null,null,null,null,null,null,null,null,"Block 1",null,null,null,null,"Block 2",null,null,null,null,"Block 3",null,null,null,null,"Block 4",null,null,null,null,"Block 5",null,null,null,null,"Block 6"]
["Sequence\nComponent\n1","Time\n1","Sequence\nComponent\n2","Time\n2","Sequence\nComponent\n3","Time\n3","Sequence\nComponent\n4","Time\n4","Sequence\nComponent\n5","Time\n5","Correct?\n0=No 1=Yes","Sequence",null,"Frequency",null,"Relative Frequency","Variability",null,null,"Frequency",null,"Relative Frequency","Variability",null,"Frequency",null,"Relative Frequency","Variability",null,"Frequency",null,"Relative Frequency","Variability",null,"Frequency",null,"Relative Frequency","Variability",null,"Frequency",null,"Relative Frequency","Variability",null,"Frequency",null,"Relative Frequency","Variability"]
[12,43,14,49,13,55,14,65,null,null,0,1111,null,1111,{"$f":"COUNTIF($L$7:$L$500,N7)","v":192},{"$f":"O7/$Q$4","v":0.98969072164948457},{"$f":"IF(P7=0,0,(P7*((LOG(P7))/LOG(2))))","v":-1.4796214234363492E-2},null,null,{"$f":"N7","v":1111},{"$f":"COUNTIF(L7:L38,T7)","v":30},{"$f":"U7/(W4-U20)","v":0.9375},{"$f":"IF(V7=0,0,(V7*((LOG(V7))/LOG(2))))","v":-8.729006661701387E-2},null,{"$f":"N7","v":1111},{"$f":"COUNTIF(L39:L71,Y7)","v":33},{"$f":"Z7/(AB4-Z20)","v":1},{"$f":"IF(AA7=0,0,(AA7*((LOG(AA7))/LOG(2))))","v":0},null,{"$f":"N7","v":1111},{"$f":"COUNTIF(L72:L103,AD7)","v":32},{"$f":"AE7/(AG4-AE20)","v":1},{"$f":"IF(AF7=0,0,(AF7*((LOG(AF7))/LOG(2))))","v":0},null,{"$f":"N7","v":1111},{"$f":"COUNTIF(L104:L135,AI7)","v":32},{"$f":"AJ7/(AL4-AJ20)","v":1},{"$f":"IF(AK7=0,0,(AK7*((LOG(AK7))/LOG(2))))","v":0},null,{"$f":"N7","v":1111},{"$f":"COUNTIF(L136:L168,AN7)","v":33},{"$f":"AO7/(AQ4-AO20)","v":1},{"$f":"IF(AP7=0,0,(AP7*((LOG(AP7))/LOG(2))))","v":0},null,{"$f":"N7","v":1111},{"$f":"COUNTIF(L169:L200,AS7)","v":32},{"$f":"AT7/(AV4-AT20)","v":1},{"$f":"IF(AU7=0,0,(AU7*((LOG(AU7))/LOG(2))))","v":0}]
[21,171,21,177,22,190,14,211,null,null,0,2221,null,1112,{"$f":"COUNTIF($L$7:$L$500,N8)","v":0},{"$f":"O8/$Q$4","v":0},{"$f":"IF(P8=0,0,(P8*((LOG(P8))/LOG(2))))","v":0},null,null,{"$f":"N8","v":1112},{"$f":"COUNTIF(L7:L38,T8)","v":0},{"$f":"U8/(W4-U20)","v":0},{"$f":"IF(V8=0,0,(V8*((LOG(V8))/LOG(2))))","v":0},null,{"$f":"N8","v":1112},{"$f":"COUNTIF(L39:L71,Y8)","v":0},{"$f":"Z8/(AB4-Z20)","v":0},{"$f":"IF(AA8=0,0,(AA8*((LOG(AA8))/LOG(2))))","v":0},null,{"$f":"N8","v":1112},{"$f":"COUNTIF(L72:L103,AD8)","v":0},{"$f":"AE8/(AG4-AE20)","v":0},{"$f":"IF(AF8=0,0,(AF8*((LOG(AF8))/LOG(2))))","v":0},null,{"$f":"N8","v":1112},{"$f":"COUNTIF(L104:L135,AI8)","v":0},{"$f":"AJ8/(AL4-AJ20)","v":0},{"$f":"IF(AK8=0,0,(AK8*((LOG(AK8))/LOG(2))))","v":0},null,{"$f":"N8","v":1112},{"$f":"COUNTIF(L136:L168,AN8)","v":0},{"$f":"AO8/(AQ4-AO20)","v":0},{"$f":"IF(AP8=0,0,(AP8*((LOG(AP8))/LOG(2))))","v":0},null,{"$f":"N8","v":1112},{"$f":"COUNTIF(L169:L200,AS8)","v":0},{"$f":"AT8/(AV4-AT20)","v":0},{"$f":"IF(AU8=0,0,(AU8*((LOG(AU8))/LOG(2))))","v":0}]
[21,333,21,339,22,348,23,362,null,null,0,2222,null,1121,{"$f":"COUNTIF($L$7:$L$500,N9)","v":0},{"$f":"O9/$Q$4","v":0},{"$f":"IF(P9=0,0,(P9*((LOG(P9))/LOG(2))))","v":0},null,null,{"$f":"N9","v":1121},{"$f":"COUNTIF(L7:L38,T9)","v":0},{"$f":"U9/(W4-U20)","v":0},{"$f":"IF(V9=0,0,(V9*((LOG(V9))/LOG(2))))","v":0},null,{"$f":"N9","v":1121},{"$f":"COUNTIF(L39:L71,Y9)","v":0},{"$f":"Z9/(AB4-Z20)","v":0},{"$f":"IF(AA9=0,0,(AA9*((LOG(AA9))/LOG(2))))","v":0},null,{"$f":"N9","v":1121},{"$f":"COUNTIF(L72:L103,AD9)","v":0},{"$f":"AE9/(AG4-AE20)","v":0},{"$f":"IF(AF9=0,0,(AF9*((LOG(AF9))/LOG(2))))","v":0},null,{"$f":"N9","v":1121},{"$f":"COUNTIF(L104:L135,AI9)","v":0},{"$f":"AJ9/(AL4-AJ20)","v":0},{"$f":"IF(AK9=0,0,(AK9*((LOG(AK9))/LOG(2))))","v":0},null,{"$f":"N9","v":1121},{"$f":"COUNTIF(L136:L168,AN9)","v":0},{"$f":"AO9/(AQ4-AO20)","v":0},{"$f":"IF(AP9=0,0,(AP9*((LOG(AP9))/LOG(2))))","v":0},null,{"$f":"N9","v":1121},{"$f":"COUNTIF(L169:L200,AS9)","v":0},{"$f":"AT9/(AV4-AT20)","v":0},{"$f":"IF(AU9=0,0,(AU9*((LOG(AU9))/LOG(2))))","v":0}]
[12,471,14,477,13,483,14,493,null,null,0,1111,null,1122,{"$f":"COUNTIF($L$7:$L$500,N10)","v":0},{"$f":"O10/$Q$4","v":0},{"$f":"IF(P10=0,0,(P10*((LOG(P10))/LOG(2))))","v":0},null,null,{"$f":"N10","v":1122},{"$f":"COUNTIF(L7:L38,T10)","v":0},{"$f":"U10/(W4-U20)","v":0},{"$f":"IF(V10=0,0,(V10*((LOG(V10))/LOG(2))))","v":0},null,{"$f":"N10","v":1122},{"$f":"COUNTIF(L39:L71,Y10)","v":0},{"$f":"Z10/(AB4-Z20)","v":0},{"$f":"IF(AA10=0,0,(AA10*((LOG(AA10))/LOG(2))))","v":0},null,{"$f":"N10","v":1122},{"$f":"COUNTIF(L72:L103,AD10)","v":0},{"$f":"AE10/(AG4-AE20)","v":0},{"$f":"IF(AF10=0,0,(AF10*((LOG(AF10))/LOG(2))))","v":0},null,{"$f":"N10","v":1122},{"$f":"COUNTIF(L104:L135,AI10)","v":0},{"$f":"AJ10/(AL4-AJ20)","v":0},{"$f":"IF(AK10=0,0,(AK10*((LOG(AK10))/LOG(2))))","v":0},null,{"$f":"N10","v":1122},{"$f":"COUNTIF(L136:L168,AN10)","v":0},{"$f":"AO10/(AQ4-AO20)","v":0},{"$f":"IF(AP10=0,0,(AP10*((LOG(AP10))/LOG(2))))","v":0},null,{"$f":"N10","v":1122},{"$f":"COUNTIF(L169:L200,AS10)","v":0},{"$f":"AT10/(AV4-AT20)","v":0},{"$f":"IF(AU10=0,0,(AU10*((LOG(AU10))/LOG(2))))","v":0}]
[12,595,14,600,13,605,14,612,null,null,0,1111,null,1211,{"$f":"COUNTIF($L$7:$L$500,N11)","v":0},{"$f":"O11/$Q$4","v":0},{"$f":"IF(P11=0,0,(P11*((LOG(P11))/LOG(2))))","v":0},null,null,{"$f":"N11","v":1211},{"$f":"COUNTIF(L7:L38,T11)","v":0},{"$f":"U11/(W4-U20)","v":0},{"$f":"IF(V11=0,0,(V11*((LOG(V11))/LOG(2))))","v":0},null,{"$f":"N11","v":1211},{"$f":"COUNTIF(L39:L71,Y11)","v":0},{"$f":"Z11/(AB4-Z20)","v":0},{"$f":"IF(AA11=0,0,(AA11*((LOG(AA11))/LOG(2))))","v":0},null,{"$f":"N11","v":1211},{"$f":"COUNTIF(L72:L103,AD11)","v":0},{"$f":"AE11/(AG4-AE20)","v":0},{"$f":"IF(AF11=0,0,(AF11*((LOG(AF11))/LOG(2))))","v":0},null,{"$f":"N11","v":1211},{"$f":"COUNTIF(L104:L135,AI11)","v":0},{"$f":"AJ11/(AL4-AJ20)","v":0},{"$f":"IF(AK11=0,0,(AK11*((LOG(AK11))/LOG(2))))","v":0},null,{"$f":"N11","v":1211},{"$f":"COUNTIF(L136:L168,AN11)","v":0},{"$f":"AO11/(AQ4-AO20)","v":0},{"$f":"IF(AP11=0,0,(AP11*((LOG(AP11))/LOG(2))))","v":0},null,{"$f":"N11","v":1211},{"$f":"COUNTIF(L169:L200,AS11)","v":0},{"$f":"AT11/(AV4-AT20)","v":0},{"$f":"IF(AU11=0,0,(AU11*((LOG(AU11))/LOG(2))))","v":0}]
[12,712,14,720,13,725,14,730,null,null,0,1111,null,1212,{"$f":"COUNTIF($L$7:$L$500,N12)","v":0},{"$f":"O12/$Q$4","v":0},{"$f":"IF(P12=0,0,(P12*((LOG(P12))/LOG(2))))","v":0},null,null,{"$f":"N12","v":1212},{"$f":"COUNTIF(L7:L38,T12)","v":0},{"$f":"U12/(W4-U20)","v":0},{"$f":"IF(V12=0,0,(V12*((LOG(V12))/LOG(2))))","v":0},null,{"$f":"N12","v":1212},{"$f":"COUNTIF(L39:L71,Y12)","v":0},{"$f":"Z12/(AB4-Z20)","v":0},{"$f":"IF(AA12=0,0,(AA12*((LOG(AA12))/LOG(2))))","v":0},null,{"$f":"N12","v":1212},{"$f":"COUNTIF(L72:L103,AD12)","v":0},{"$f":"AE12/(AG4-AE20)","v":0},{"$f":"IF(AF12=0,0,(AF12*((LOG(AF12))/LOG(2))))","v":0},null,{"$f":"N12","v":1212},{"$f":"COUNTIF(L104:L135,AI12)","v":0},{"$f":"AJ12/(AL4-AJ20)","v":0},{"$f":"IF(AK12=0,0,(AK12*((LOG(AK12))/LOG(2))))","v":0},null,{"$f":"N12","v":1212},{"$f":"COUNTIF(L136:L168,AN12)","v":0},{"$f":"AO12/(AQ4-AO20)","v":0},{"$f":"IF(AP12=0,0,(AP12*((LOG(AP12))/LOG(2))))","v":0},null,{"$f":"N12","v":1212},{"$f":"COUNTIF(L169:L200,AS12)","v":0},{"$f":"AT12/(AV4-AT20)","v":0},{"$f":"IF(AU12=0,0,(AU12*((LOG(AU12))/LOG(2))))","v":0}]
[12,829,14,835,13,839,14,845,null,null,0,1111,null,1221,{"$f":"COUNTIF($L$7:$L$500,N13)","v":0},{"$f":"O13/$Q$4","v":0},{"$f":"IF(P13=0,0,(P13*((LOG(P13))/LOG(2))))","v":0},null,null,{"$f":"N13","v":1221},{"$f":"COUNTIF(L7:L38,T13)","v":0},{"$f":"U13/(W4-U20)","v":0},{"$f":"IF(V13=0,0,(V13*((LOG(V13))/LOG(2))))","v":0},null,{"$f":"N13","v":1221},{"$f":"COUNTIF(L39:L71,Y13)","v":0},{"$f":"Z13/(AB4-Z20)","v":0},{"$f":"IF(AA13=0,0,(AA13*((LOG(AA13))/LOG(2))))","v":0},null,{"$f":"N13","v":1221},{"$f":"COUNTIF(L72:L103,AD13)","v":0},{"$f":"AE13/(AG4-AE20)","v":0},{"$f":"IF(AF13=0,0,(AF13*((LOG(AF13))/LOG(2))))","v":0},null,{"$f":"N13","v":1221},{"$f":"COUNTIF(L104:L135,AI13)","v":0},{"$f":"AJ13/(AL4-AJ20)","v":0},{"$f":"IF(AK13=0,0,(AK13*((LOG(AK13))/LOG(2))))","v":0},null,{"$f":"N13","v":1221},{"$f":"COUNTIF(L136:L168,AN13)","v":0},{"$f":"AO13/(AQ4-AO20)","v":0},{"$f":"IF(AP13=0,0,(AP13*((LOG(AP13))/LOG(2))))","v":0},null,{"$f":"N13","v":1221},{"$f":"COUNTIF(L169:L200,AS13)","v":0},{"$f":"AT13/(AV4-AT20)","v":0},{"$f":"IF(AU13=0,0,(AU13*((LOG(AU13))/LOG(2))))","v":0}]
[12,946,14,951,13,956,14,961,null,null,0,1111,null,1222,{"$f":"COUNTIF($L$7:$L$500,N14)","v":0},{"$f":"O14/$Q$4","v":0},{"$f":"IF(P14=0,0,(P14*((LOG(P14))/LOG(2))))","v":0},null,null,{"$f":"N14","v":1222},{"$f":"COUNTIF(L7:L38,T14)","v":0},{"$f":"U14/(W4-U20)","v":0},{"$f":"IF(V14=0,0,(V14*((LOG(V14))/LOG(2))))","v":0},null,{"$f":"N14","v":1222},{"$f":"COUNTIF(L39:L71,Y14)","v":0},{"$f":"Z14/(AB4-Z20)","v":0},{"$f":"IF(AA14=0,0,(AA14*((LOG(AA14))/LOG(2))))","v":0},null,{"$f":"N14","v":1222},{"$f":"COUNTIF(L72:L103,AD14)","v":0},{"$f":"AE14/(AG4-AE20)","v":0},{"$f":"IF(AF14=0,0,(AF14*((LOG(AF14))/LOG(2))))","v":0},null,{"$f":"N14","v":1222},{"$f":"COUNTIF(L104:L135,AI14)","v":0},{"$f":"AJ14/(AL4-AJ20)","v":0},{"$f":"IF(AK14=0,0,(AK14*((LOG(AK14))/LOG(2))))","v":0},null,{"$f":"N14","v":1222},{"$f":"COUNTIF(L136:L168,AN14)","v":0},{"$f":"AO14/(AQ4-AO20)","v":0},{"$f":"IF(AP14=0,0,(AP14*((LOG(AP14))/LOG(2))))","v":0},null,{"$f":"N14","v":1222},{"$f":"COUNTIF(L169:L200,AS14)","v":0},{"$f":"AT14/(AV4-AT20)","v":0},{"$f":"IF(AU14=0,0,(AU14*((LOG(AU14))/LOG(2))))","v":0}]
[12,1073,14,1093,13,1117,14,1127,null,null,0,1111,null,2111,{"$f":"COUNTIF($L$7:$L$500,N15)","v":0},{"$f":"O15/$Q$4","v":0},{"$f":"IF(P15=0,0,(P15*((LOG(P15))/LOG(2))))","v":0},null,null,{"$f":"N15","v":2111},{"$f":"COUNTIF(L7:L38,T15)","v":0},{"$f":"U15/(W4-U20)","v":0},{"$f":"IF(V15=0,0,(V15*((LOG(V15))/LOG(2))))","v":0},null,{"$f":"N15","v":2111},{"$f":"COUNTIF(L39:L71,Y15)","v":0},{"$f":"Z15/(AB4-Z20)","v":0},{"$f":"IF(AA15=0,0,(AA15*((LOG(AA15))/LOG(2))))","v":0},null,{"$f":"N15","v":2111},{"$f":"COUNTIF(L72:L103,AD15)","v":0},{"$f":"AE15/(AG4-AE20)","v":0},{"$f":"IF(AF15=0,0,(AF15*((LOG(AF15))/LOG(2))))","v":0},null,{"$f":"N15","v":2111},{"$f":"COUNTIF(L104:L135,AI15)","v":0},{"$f":"AJ15/(AL4-AJ20)","v":0},{"$f":"IF(AK15=0,0,(AK15*((LOG(AK15))/LOG(2))))","v":0},null,{"$f":"N15","v":2111},{"$f":"COUNTIF(L136:L168,AN15)","v":0},{"$f":"AO15/(AQ4-AO20)","v":0},{"$f":"IF(AP15=0,0,(AP15*((LOG(AP15))/LOG(2))))","v":0},null,{"$f":"N15","v":2111},{"$f":"COUNTIF(L169:L200,AS15)","v":0},{"$f":"AT15/(AV4-AT20)","v":0},{"$f":"IF(AU15=0,0,(AU15*((LOG(AU15))/LOG(2))))","v":0}]
[12,1224,14,1229,13,1234,14,1244,null,null,0,1111,null,2112,{"$f":"COUNTIF($L$7:$L$500,N16)","v":0},{"$f":"O16/$Q$4","v":0},{"$f":"IF(P16=0,0,(P16*((LOG(P16))/LOG(2))))","v":0},null,null,{"$f":"N16","v":2112},{"$f":"COUNTIF(L7:L38,T16)","v":0},{"$f":"U16/(W4-U20)","v":0},{"$f":"IF(V16=0,0,(V16*((LOG(V16))/LOG(2))))","v":0},null,{"$f":"N16","v":2112},{"$f":"COUNTIF(L39:L71,Y16)","v":0},{"$f":"Z16/(AB4-Z20)","v":0},{"$f":"IF(AA16=0,0,(AA16*((LOG(AA16))/LOG(2))))","v":0},null,{"$f":"N16","v":2112},{"$f":"COUNTIF(L72:L103,AD16)","v":0},{"$f":"AE16/(AG4-AE20)","v":0},{"$f":"IF(AF16=0,0,(AF16*((LOG(AF16))/LOG(2))))","v":0},null,{"$f":"N16","v":2112},{"$f":"COUNTIF(L104:L135,AI16)","v":0},{"$f":"AJ16/(AL4-AJ20)","v":0},{"$f":"IF(AK16=0,0,(AK16*((LOG(AK16))/LOG(2))))","v":0},null,{"$f":"N16","v":2112},{"$f":"COUNTIF(L136:L168,AN16)","v":0},{"$f":"AO16/(AQ4-AO20)","v":0},{"$f":"IF(AP16=0,0,(AP16*((LOG(AP16))/LOG(2))))","v":0},null,{"$f":"N16","v":2112},{"$f":"COUNTIF(L169:L200,AS16)","v":0},{"$f":"AT16/(AV4-AT20)","v":0},{"$f":"IF(AU16=0,0,(AU16*((LOG(AU16))/LOG(2))))","v":0}]
[12,1345,14,1351,13,1360,14,1369,null,null,0,1111,null,2121,{"$f":"COUNTIF($L$7:$L$500,N17)","v":0},{"$f":"O17/$Q$4","v":0},{"$f":"IF(P17=0,0,(P17*((LOG(P17))/LOG(2))))","v":0},null,null,{"$f":"N17","v":2121},{"$f":"COUNTIF(L7:L38,T17)","v":0},{"$f":"U17/(W4-U20)","v":0},{"$f":"IF(V17=0,0,(V17*((LOG(V17))/LOG(2))))","v":0},null,{"$f":"N17","v":2121},{"$f":"COUNTIF(L39:L71,Y17)","v":0},{"$f":"Z17/(AB4-Z20)","v":0},{"$f":"IF(AA17=0,0,(AA17*((LOG(AA17))/LOG(2))))","v":0},null,{"$f":"N17","v":2121},{"$f":"COUNTIF(L72:L103,AD17)","v":0},{"$f":"AE17/(AG4-AE20)","v":0},{"$f":"IF(AF17=0,0,(AF17*((LOG(AF17))/LOG(2))))","v":0},null,{"$f":"N17","v":2121},{"$f":"COUNTIF(L104:L135,AI17)","v":0},{"$f":"AJ17/(AL4-AJ20)","v":0},{"$f":"IF(AK17=0,0,(AK17*((LOG(AK17))/LOG(2))))","v":0},null,{"$f":"N17","v":2121},{"$f":"COUNTIF(L136:L168,AN17)","v":0},{"$f":"AO17/(AQ4-AO20)","v":0},{"$f":"IF(AP17=0,0,(AP17*((LOG(AP17))/LOG(2))))","v":0},null,{"$f":"N17","v":2121},{"$f":"COUNTIF(L169:L200,AS17)","v":0},{"$f":"AT17/(AV4-AT20)","v":0},{"$f":"IF(AU17=0,0,(AU17*((LOG(AU17))/LOG(2))))","v":0}]
[12,1478,14,1485,13,1496,14,1505,null,null,0,1111,null,2122,{"$f":"COUNTIF($L$7:$L$500,N18)","v":0},{"$f":"O18/$Q$4","v":0},{"$f":"IF(P18=0,0,(P18*((LOG(P18))/LOG(2))))","v":0},null,null,{"$f":"N18","v":2122},{"$f":"COUNTIF(L7:L38,T18)","v":0},{"$f":"U18/(W4-U20)","v":0},{"$f":"IF(V18=0,0,(V18*((LOG(V18))/LOG(2))))","v":0},null,{"$f":"N18","v":2122},{"$f":"COUNTIF(L39:L71,Y18)","v":0},{"$f":"Z18/(AB4-Z20)","v":0},{"$f":"IF(AA18=0,0,(AA18*((LOG(AA18))/LOG(2))))","v":0},null,{"$f":"N18","v":2122},{"$f":"COUNTIF(L72:L103,AD18)","v":0},{"$f":"AE18/(AG4-AE20)","v":0},{"$f":"IF(AF18=0,0,(AF18*((LOG(AF18))/LOG(2))))","v":0},null,{"$f":"N18","v":2122},{"$f":"COUNTIF(L104:L135,AI18)","v":0},{"$f":"AJ18/(AL4-AJ20)","v":0},{"$f":"IF(AK18=0,0,(AK18*((LOG(AK18))/LOG(2))))","v":0},null,{"$f":"N18","v":2122},{"$f":"COUNTIF(L136:L168,AN18)","v":0},{"$f":"AO18/(AQ4-AO20)","v":0},{"$f":"IF(AP18=0,0,(AP18*((LOG(AP18))/LOG(2))))","v":0},null,{"$f":"N18","v":2122},{"$f":"COUNTIF(L169:L200,AS18)","v":0},{"$f":"AT18/(AV4-AT20)","v":0},{"$f":"IF(AU18=0,0,(AU18*((LOG(AU18))/LOG(2))))","v":0}]
[12,1612,14,1622,13,1628,14,1637,null,null,0,1111,null,2211,{"$f":"COUNTIF($L$7:$L$500,N19)","v":0},{"$f":"O19/$Q$4","v":0},{"$f":"IF(P19=0,0,(P19*((LOG(P19))/LOG(2))))","v":0},null,null,{"$f":"N19","v":2211},{"$f":"COUNTIF(L7:L38,T19)","v":0},{"$f":"U19/(W4-U20)","v":0},{"$f":"IF(V19=0,0,(V19*((LOG(V19))/LOG(2))))","v":0},null,{"$f":"N19","v":2211},{"$f":"COUNTIF(L39:L71,Y19)","v":0},{"$f":"Z19/(AB4-Z20)","v":0},{"$f":"IF(AA19=0,0,(AA19*((LOG(AA19))/LOG(2))))","v":0},null,{"$f":"N19","v":2211},{"$f":"COUNTIF(L72:L103,AD19)","v":0},{"$f":"AE19/(AG4-AE20)","v":0},{"$f":"IF(AF19=0,0,(AF19*((LOG(AF19))/LOG(2))))","v":0},null,{"$f":"N19","v":2211},{"$f":"COUNTIF(L104:L135,AI19)","v":0},{"$f":"AJ19/(AL4-AJ20)","v":0},{"$f":"IF(AK19=0,0,(AK19*((LOG(AK19))/LOG(2))))","v":0},null,{"$f":"N19","v":2211},{"$f":"COUNTIF(L136:L168,AN19)","v":0},{"$f":"AO19/(AQ4-AO20)","v":0},{"$f":"IF(AP19=0,0,(AP19*((LOG(AP19))/LOG(2))))","v":0},null,{"$f":"N19","v":2211},{"$f":"COUNTIF(L169:L200,AS19)","v":0},{"$f":"AT19/(AV4-AT20)","v":0},{"$f":"IF(AU19=0,0,(AU19*((LOG(AU19))/LOG(2))))","v":0}]
[12,1748,14,1753,13,1758,14,1767,null,null,0,1111,null,2212,{"$f":"COUNTIF($L$7:$L$500,N20)","v":0},{"$f":"O20/$Q$4","v":0},{"$f":"IF(P20=0,0,(P20*((LOG(P20))/LOG(2))))","v":0},null,null,{"$f":"N20","v":2212},{"$f":"COUNTIF(L7:L38,T20)","v":0},null,null,null,{"$f":"N20","v":2212},{"$f":"COUNTIF(L39:L71,Y20)","v":0},null,null,null,{"$f":"N20","v":2212},{"$f":"COUNTIF(L72:L103,AD20)","v":0},null,null,null,{"$f":"N20","v":2212},{"$f":"COUNTIF(L104:L135,AI20)","v":0},null,null,null,{"$f":"N20","v":2212},{"$f":"COUNTIF(L136:L168,AN20)","v":0},null,null,null,{"$f":"N20","v":2212},{"$f":"COUNTIF(L169:L200,AS20)","v":0}]
[12,1872,14,1878,13,1884,14,1893,null,null,0,1111,null,2221,{"$f":"COUNTIF($L$7:$L$500,N21)","v":1},{"$f":"O21/$Q$4","v":5.1546391752577319E-3},{"$f":"IF(P21=0,0,(P21*((LOG(P21))/LOG(2))))","v":-3.9174808464882103E-2},null,null,{"$f":"N21","v":2221},{"$f":"COUNTIF(L7:L38,T21)","v":1},{"$f":"U21/(W4-U20)","v":3.125E-2},{"$f":"IF(V21=0,0,(V21*((LOG(V21))/LOG(2))))","v":-0.15625},null,{"$f":"N21","v":2221},{"$f":"COUNTIF(L39:L71,Y21)","v":0},{"$f":"Z21/(AB4-Z20)","v":0},{"$f":"IF(AA21=0,0,(AA21*((LOG(AA21))/LOG(2))))","v":0},null,{"$f":"N21","v":2221},{"$f":"COUNTIF(L72:L103,AD21)","v":0},{"$f":"AE21/(AG4-AE20)","v":0},{"$f":"IF(AF21=0,0,(AF21*((LOG(AF21))/LOG(2))))","v":0},null,{"$f":"N21","v":2221},{"$f":"COUNTIF(L104:L135,AI21)","v":0},{"$f":"AJ21/(AL4-AJ20)","v":0},{"$f":"IF(AK21=0,0,(AK21*((LOG(AK21))/LOG(2))))","v":0},null,{"$f":"N21","v":2221},{"$f":"COUNTIF(L136:L168,AN21)","v":0},{"$f":"AO21/(AQ4-AO20)","v":0},{"$f":"IF(AP21=0,0,(AP21*((LOG(AP21))/LOG(2))))","v":0},null,{"$f":"N21","v":2221},{"$f":"COUNTIF(L169:L200,AS21)","v":0},{"$f":"AT21/(AV4-AT20)","v":0},{"$f":"IF(AU21=0,0,(AU21*((LOG(AU21))/LOG(2))))","v":0}]
[12,2002,14,2008,13,2015,14,2028,null,null,0,1111,null,2222,{"$f":"COUNTIF($L$7:$L$500,N22)","v":1},{"$f":"O22/$Q$4","v":5.1546391752577319E-3},{"$f":"IF(P22=0,0,(P22*((LOG(P22))/LOG(2))))","v":-3.9174808464882103E-2},null,null,{"$f":"N22","v":2222},{"$f":"COUNTIF(L7:L38,T22)","v":1},{"$f":"U22/(W4-U20)","v":3.125E-2},{"$f":"IF(V22=0,0,(V22*((LOG(V22))/LOG(2))))","v":-0.15625},null,{"$f":"N22","v":2222},{"$f":"COUNTIF(L39:L71,Y22)","v":0},{"$f":"Z22/(AB4-Z20)","v":0},{"$f":"IF(AA22=0,0,(AA22*((LOG(AA22))/LOG(2))))","v":0},null,{"$f":"N22","v":2222},{"$f":"COUNTIF(L72:L103,AD22)","v":0},{"$f":"AE22/(AG4-AE20)","v":0},{"$f":"IF(AF22=0,0,(AF22*((LOG(AF22))/LOG(2))))","v":0},null,{"$f":"N22","v":2222},{"$f":"COUNTIF(L104:L135,AI22)","v":0},{"$f":"AJ22/(AL4-AJ20)","v":0},{"$f":"IF(AK22=0,0,(AK22*((LOG(AK22))/LOG(2))))","v":0},null,{"$f":"N22","v":2222},{"$f":"COUNTIF(L136:L168,AN22)","v":0},{"$f":"AO22/(AQ4-AO20)","v":0},{"$f":"IF(AP22=0,0,(AP22*((LOG(AP22))/LOG(2))))","v":0},null,{"$f":"N22","v":2222},{"$f":"COUNTIF(L169:L200,AS22)","v":0},{"$f":"AT22/(AV4-AT20)","v":0},{"$f":"IF(AU22=0,0,(AU22*((LOG(AU22))/LOG(2))))","v":0}]
[12,2126,14,2136,13,2141,14,2146,null,null,0,1111,null,null,null,{"$f":"SUM(P7:P22)","v":1},{"$f":"-SUM(Q7:Q22)","v":9.3145831164127696E-2},null,null,null,null,{"$f":"SUM(V7:V22)","v":1},{"$f":"-SUM(W7:W22)","v":0.39979006661701388},null,null,null,{"$f":"SUM(AA7:AA22)","v":1},{"$f":"-SUM(AB7:AB22)","v":0},null,null,null,{"$f":"SUM(AF7:AF22)","v":1},{"$f":"-SUM(AG7:AG22)","v":0},null,null,null,{"$f":"SUM(AK7:AK22)","v":1},{"$f":"-SUM(AL7:AL22)","v":0},null,null,null,{"$f":"SUM(AP7:AP22)","v":1},{"$f":"-SUM(AQ7:AQ22)","v":0},null,null,null,{"$f":"SUM(AU7:AU22)","v":1},{"$f":"-SUM(AV7:AV22)","v":0}]
[12,2254,14,2265,13,2270,14,2276,null,null,0,1111,null,null,null,"U=",{"$f":"Q23/(LOG(Q4)/LOG(2))","v":1.2256170971734709E-2},null,null,null,null,"U1=",{"$f":"W23/(LOG(W4)/LOG(2))","v":7.9958013323402771E-2},null,null,null,"U2=",{"$f":"AB23/(LOG(AB4)/LOG(2))","v":0},null,null,null,"U3=",{"$f":"AG23/(LOG(AG4)/LOG(2))","v":0},null,null,null,"U4=",{"$f":"AL23/(LOG(AL4)/LOG(2))","v":0},null,null,null,"U5=",{"$f":"AQ23/(LOG(AQ4)/LOG(2))","v":0},null,null,null,"U6=",{"$f":"AV23/(LOG(AV4)/LOG(2))","v":0}]
[12,2379,14,2389,13,2394,14,2400,null,null,0,1111]
[12,2510,14,2515,13,2521,14,2529,null,null,0,1111]
[12,2637,14,2644,13,2649,14,2676,null,null,0,1111,null,"Total Target Seq"]
[12,2779,14,2790,13,2795,14,2801,null,null,0,1111,null,{"$f":"COUNTIF(L7:L200,G3)","v":0},null,32,33,32,32,33,32]
[12,2898,14,2902,13,2907,14,2913,null,null,0,1111,null,null,null,"% of reinforcement given in 6 equal intervals based on number of trials "]
[12,3019,14,3028,13,3043,14,3055,null,null,0,1111,null,null,null,"%_1","%_2","%_3","%_4","%_5","%_6"]
[12,3168,14,3175,13,3181,14,3187,null,null,0,1111,null,null,"target sequence",{"$f":"$G$3","v":2212},{"$f":"$G$3","v":2212},{"$f":"$G$3","v":2212},{"$f":"$G$3","v":2212},{"$f":"$G$3","v":2212},{"$f":"$G$3","v":2212}]
[12,3286,14,3291,13,3301,14,3310,null,null,0,1111,null,null,"total reinforcement",{"$f":"U20","v":0},{"$f":"Z20","v":0},{"$f":"AE20","v":0},{"$f":"AJ20","v":0},{"$f":"AO20","v":0},{"$f":"AT20","v":0}]
[12,3411,14,3420,13,3424,14,3430,null,null,0,1111,null,null,"% target"]
[12,3534,14,3544,13,3551,14,3564,null,null,0,1111,null,null,"CCRF"]
[12,3669,14,3674,13,3679,14,3684,null,null,0,1111,null,null,"% CCRf"]
[12,3791,14,3803,13,3808,14,3813,null,null,0,1111,null,null,"average response rate",{"$f":"H38/P28","v":126.875},{"$f":"(H71-H38)/Q28","v":130.12121212121212},{"$f":"(H103-H71)/R28","v":122.4375},{"$f":"(H135-H103)/S28","v":121.71875},{"$f":"(H168-H135)/T28","v":122.54545454545455},{"$f":"(H200-H168)/U28","v":117.1875}]
[12,3913,14,3924,13,3929,14,3935,null,null,0,1111]
[12,4044,14,4049,13,4054,14,4060,null,null,0,1111]
[12,4169,14,4178,13,4182,14,4196,null,null,0,1111]
[12,4301,14,4308,13,4314,14,4319,null,null,0,1111]
[12,4412,14,4418,13,4422,14,4427,null,null,0,1111]
[12,4642,14,4650,13,4656,14,4666,null,null,0,1111]
[12,4777,14,4782,13,4788,14,4797,null,null,0,1111]
[12,4896,14,4905,13,4910,14,4915,null,null,0,1111]
[12,5034,14,5039,13,5045,14,5054,null,null,0,1111]
[12,5148,14,5159,13,5164,14,5169,null,null,0,1111]
[12,5268,14,5278,13,5283,14,5288,null,null,0,1111]
[12,5381,14,5387,13,5393,14,5398,null,null,0,1111]
[12,5501,14,5511,13,5516,14,5521,null,null,0,1111]
[12,5666,14,5671,13,5677,14,5688,null,null,0,1111]
[12,5800,14,5808,13,5814,14,5871,null,null,0,1111]
[12,5979,14,5987,13,5993,14,5998,null,null,0,1111]
[12,6092,14,6108,13,6114,14,6123,null,null,0,1111]
[12,6232,14,6239,13,6265,14,6274,null,null,0,1111]
[12,6372,14,6379,13,6384,14,6390,null,null,0,1111]
[12,6498,14,6505,13,6511,14,6520,null,null,0,1111]
[12,6625,14,6632,13,6637,14,6642,null,null,0,1111]
[12,6751,14,6760,13,6766,14,6772,null,null,0,1111]
[12,6874,14,6882,13,6887,14,6893,null,null,0,1111]
[12,6992,14,6998,13,7003,14,7011,null,null,0,1111]
[12,7110,14,7115,13,7120,14,7128,null,null,0,1111]
[12,7237,14,7243,13,7248,14,7256,null,null,0,1111]
[12,7356,14,7361,13,7366,14,7378,null,null,0,1111]
[12,7473,14,7482,13,7487,14,7495,null,null,0,1111]
[12,7594,14,7604,13,7609,14,7614,null,null,0,1111]
[12,7715,14,7723,13,7733,14,7741,null,null,0,1111]
[12,7841,14,7850,13,7855,14,7865,null,null,0,1111]
[12,7968,14,7974,13,7979,14,7985,null,null,0,1111]
[12,8083,14,8089,13,8094,14,8101,null,null,0,1111]
[12,8207,14,8216,13,8221,14,8230,null,null,0,1111]
[12,8336,14,8343,13,8348,14,8354,null,null,0,1111]
[12,8447,14,8453,13,8458,14,8463,null,null,0,1111]
[12,8572,14,8579,13,8584,14,8590,null,null,0,1111]
[12,8688,14,8696,13,8701,14,8707,null,null,0,1111]
[12,8814,14,8820,13,8826,14,8833,null,null,0,1111]
[12,8935,14,8944,13,8949,14,8957,null,null,0,1111]
[12,9051,14,9056,13,9061,14,9067,null,null,0,1111]
[12,9171,14,9178,13,9184,14,9191,null,null,0,1111]
[12,9297,14,9304,13,9310,14,9317,null,null,0,1111]
[12,9419,14,9424,13,9430,14,9439,null,null,0,1111]
[12,9545,14,9550,13,9555,14,9563,null,null,0,1111]
[12,9672,14,9678,13,9683,14,9691,null,null,0,1111]
[12,9794,14,9801,13,9806,14,9828,null,null,0,1111]
[12,9930,14,9940,13,9945,14,9950,null,null,0,1111]
[12,10049,14,10056,13,10061,14,10073,null,null,0,1111]
[12,10165,14,10176,13,10181,14,10186,null,null,0,1111]
[12,10295,14,10301,13,10307,14,10314,null,null,0,1111]
[12,10413,14,10420,13,10425,14,10431,null,null,0,1111]
[12,10537,14,10541,13,10547,14,10556,null,null,0,1111]
[12,10657,14,10664,13,10669,14,10674,null,null,0,1111]
[12,10774,14,10780,13,10784,14,10790,null,null,0,1111]
[12,10887,14,10892,13,10897,14,10902,null,null,0,1111]
[12,11003,14,11010,13,11015,14,11020,null,null,0,1111]
[12,11135,14,11140,13,11148,14,11156,null,null,0,1111]
[12,11248,14,11258,13,11263,14,11270,null,null,0,1111]
[12,11364,14,11369,13,11374,14,11379,null,null,0,1111]
[12,11478,14,11488,13,11502,14,11510,null,null,0,1111]
[12,11610,14,11615,13,11619,14,11625,null,null,0,1111]
[12,11734,14,11739,13,11744,14,11758,null,null,0,1111]
[12,11859,14,11868,13,11874,14,11881,null,null,0,1111]
[12,11996,14,12010,13,12018,14,12027,null,null,0,1111]
[12,12134,14,12139,13,12143,14,12153,null,null,0,1111]
[12,12257,14,12262,13,12267,14,12272,null,null,0,1111]
[12,12380,14,12386,13,12390,14,12396,null,null,0,1111]
[12,12490,14,12500,13,12508,14,12514,null,null,0,1111]
[12,12617,14,12622,13,12628,14,12634,null,null,0,1111]
[12,12737,14,12743,13,12752,14,12761,null,null,0,1111]
[12,12853,14,12858,13,12863,14,12868,null,null,0,1111]
[12,12968,14,12973,13,12978,14,12983,null,null,0,1111]
[12,13082,14,13088,13,13097,14,13103,null,null,0,1111]
[12,13196,14,13202,13,13211,14,13221,null,null,0,1111]
[12,13328,14,13333,13,13343,14,13348,null,null,0,1111]
[12,13441,14,13448,13,13453,14,13458,null,null,0,1111]
[12,13584,14,13590,13,13595,14,13600,null,null,0,1111]
[12,13708,14,13716,13,13722,14,13730,null,null,0,1111]
[12,13831,14,13836,13,13841,14,13847,null,null,0,1111]
[12,13939,14,13945,13,13949,14,13959,null,null,0,1111]
[12,14069,14,14075,13,14080,14,14088,null,null,0,1111]
[12,14196,14,14202,13,14207,14,14212,null,null,0,1111]
[12,14311,14,14320,13,14326,14,14334,null,null,0,1111]
[12,14434,14,14444,13,14453,14,14461,null,null,0,1111]
[12,14565,14,14577,13,14585,14,14595,null,null,0,1111]
[12,14694,14,14699,13,14707,14,14714,null,null,0,1111]
[12,14814,14,14819,13,14824,14,14830,null,null,0,1111]
[12,14922,14,14932,13,14936,14,14941,null,null,0,1111]
[12,15033,14,15038,13,15043,14,15048,null,null,0,1111]
[12,15150,14,15155,13,15161,14,15169,null,null,0,1111]
[12,15271,14,15276,13,15286,14,15296,null,null,0,1111]
[12,15398,14,15403,13,15417,14,15426,null,null,0,1111]
[12,15525,14,15531,13,15537,14,15547,null,null,0,1111]
[12,15646,14,15655,13,15660,14,15666,null,null,0,1111]
[12,15762,14,15767,13,15781,14,15790,null,null,0,1111]
[12,15902,14,15906,13,15911,14,15919,null,null,0,1111]
[12,16034,14,16041,13,16047,14,16055,null,null,0,1111]
[12,16150,14,16158,13,16163,14,16167,null,null,0,1111]
[12,16268,14,16273,13,16278,14,16283,null,null,0,1111]
[12,16384,14,16389,13,16394,14,16402,null,null,0,1111]
[12,16496,14,16506,13,16511,14,16518,null,null,0,1111]
[12,16626,14,16633,13,16637,14,16645,null,null,0,1111]
[12,16741,14,16747,13,16751,14,16757,null,null,0,1111]
[12,16852,14,16857,13,16862,14,16867,null,null,0,1111]
[12,16964,14,16969,13,16973,14,16978,null,null,0,1111]
[12,17087,14,17092,13,17097,14,17119,null,null,0,1111]
[12,17227,14,17234,13,17245,14,17263,null,null,0,1111]
[12,17361,14,17366,13,17371,14,17376,null,null,0,1111]
[12,17468,14,17476,13,17486,14,17494,null,null,0,1111]
[12,17605,14,17610,13,17614,14,17619,null,null,0,1111]
[12,17720,14,17730,13,17735,14,17741,null,null,0,1111]
[12,17844,14,17849,13,17854,14,17860,null,null,0,1111]
[12,17956,14,17963,13,17972,14,17979,null,null,0,1111]
[12,18082,14,18088,13,18093,14,18098,null,null,0,1111]
[12,18197,14,18202,13,18208,14,18217,null,null,0,1111]
[12,18312,14,18317,13,18322,14,18327,null,null,0,1111]
[12,18438,14,18444,13,18448,14,18453,null,null,0,1111]
[12,18551,14,18561,13,18566,14,18572,null,null,0,1111]
[12,18677,14,18683,13,18687,14,18693,null,null,0,1111]
[12,18791,14,18798,13,18803,14,18809,null,null,0,1111]
[12,18901,14,18909,13,18914,14,18919,null,null,0,1111]
[12,19034,14,19038,13,19052,14,19061,null,null,0,1111]
[12,19171,14,19177,13,19181,14,19187,null,null,0,1111]
[12,19291,14,19302,13,19313,14,19321,null,null,0,1111]
[12,19425,14,19430,13,19440,14,19449,null,null,0,1111]
[12,19544,14,19549,13,19554,14,19561,null,null,0,1111]
[12,19664,14,19669,13,19674,14,19679,null,null,0,1111]
[12,19777,14,19782,13,19787,14,19792,null,null,0,1111]
[12,19890,14,19895,13,19900,14,19906,null,null,0,1111]
[12,20061,14,20068,13,20074,14,20082,null,null,0,1111]
[12,20192,14,20197,13,20201,14,20211,null,null,0,1111]
[12,20302,14,20308,13,20314,14,20318,null,null,0,1111]
[12,20425,14,20435,13,20439,14,20444,null,null,0,1111]
[12,20543,14,20548,13,20553,14,20566,null,null,0,1111]
[12,20664,14,20669,13,20674,14,20679,null,null,0,1111]
[12,20778,14,20782,13,20787,14,20793,null,null,0,1111]
[12,20884,14,20889,13,20894,14,20899,null,null,0,1111]
[12,20995,14,21000,13,21005,14,21012,null,null,0,1111]
[12,21115,14,21120,13,21124,14,21129,null,null,0,1111]
[12,21220,14,21225,13,21234,14,21240,null,null,0,1111]
[12,21350,14,21356,13,21362,14,21371,null,null,0,1111]
[12,21484,14,21489,13,21494,14,21499,null,null,0,1111]
[12,21594,14,21599,13,21604,14,21609,null,null,0,1111]
[12,21700,14,21706,13,21711,14,21715,null,null,0,1111]
[12,21813,14,21818,13,21823,14,21831,null,null,0,1111]
[12,21929,14,21937,13,21942,14,21947,null,null,0,1111]
[12,22040,14,22045,13,22050,14,22055,null,null,0,1111]
[12,22205,14,22210,13,22216,14,22234,null,null,0,1111]
[12,22325,14,22330,13,22335,14,22343,null,null,0,1111]
[12,22446,14,22452,13,22457,14,22462,null,null,0,1111]
[12,22560,14,22564,13,22569,14,22577,null,null,0,1111]
[12,22677,14,22683,13,22688,14,22693,null,null,0,1111]
[12,22793,14,22799,13,22809,14,22817,null,null,0,1111]
[12,22914,14,22920,13,22925,14,22931,null,null,0,1111]
[12,23024,14,23030,13,23035,14,23040,null,null,0,1111]
[12,23143,14,23148,13,23153,14,23159,null,null,0,1111]
[12,23257,14,23261,13,23266,14,23274,null,null,0,1111]
[12,23373,14,23378,13,23383,14,23388,null,null,0,1111]
[12,23485,14,23491,13,23495,14,23501,null,null,0,1111]
[12,23600,14,23604,13,23610,14,23619,null,null,0,1111]
[12,23709,14,23716,13,23720,14,23728,null,null,0,1111]
[12,23828,14,23834,13,23843,14,23852,null,null,0,1111]
[12,23947,14,23952,13,23956,14,23961,null,null,null,1111]

{"sheet":"!L929920.056","index":32,"n_rows":200,"n_cols":48,"rows_kept":200,"cut":false,"hidden":false,"merged":[[4,39,4,42],[5,39,5,40],[4,44,4,47],[5,44,5,45],[4,24,4,27],[5,24,5,25],[4,29,4,32],[5,29,5,30],[4,34,4,37],[5,34,5,35],[1,1,1,2],[5,13,5,14],[26,13,26,14],[27,13,27,14],[4,19,4,22],[5,19,5,20]]}
["Report for:!L929920.056"]
["Date:","<date>"]
["Hen:","<hen>",null,null,null,"Correct Sequence",{"$f":"Start!J2","v":2212},null,null,null,null,null,null,null,null,"Total Sequences in Data",{"$f":"4994-COUNTBLANK(L7:L5000)","v":194},null,null,null,null,"Total Sequences in Block Data",{"$f":"COUNTA(L7:L38)","v":32},null,null,null,"Total Sequences in Block Data",{"$f":"COUNTA(L39:L71)","v":33},null,null,null,"Total Sequences in Block Data",{"$f":"COUNTA(L72:L103)","v":32},null,null,null,"Total Sequences in Block Data",{"$f":"COUNTA(L104:L135)","v":32},null,null,null,"Total Sequences in Block Data",{"$f":"COUNTA(L136:L168)","v":33},null,null,null,"Total Sequences in Block Data",{"$f":"COUNTA(L169:L200)","v":32}]
[null,null,null,null,null,null,null,null,null,null,null,null,null,null,null,"Total Sequences in Summary",{"$f":"SUM(O7:O22)","v":194},null,null,null,null,"Total Sequences in Block Summary",{"$f":"SUM(U7:U22)","v":32},null,null,null,"Total Sequences in Block Summary",{"$f":"SUM(Z7:Z22)","v":33},null,null,null,"Total Sequences in Block Summary",{"$f":"SUM(AE7:AE22)","v":32},null,null,null,"Total Sequences in Block Summary",{"$f":"SUM(AJ7:AJ22)","v":32},null,null,null,"Total Sequences in Block Summary",{"$f":"SUM(AO7:AO22)","v":33},null,null,null,"Total Sequences in Block Summary",{"$f":"SUM(AT7:AT22)","v":32}]
[null,null,null,null,null,null,null,null,null,null,null,null,null,null,null,null,null,null,null,"Block 1",null,null,null,null,"Block 2",null,null,null,null,"Block 3",null,null,null,null,"Block 4",null,null,null,null,"Block 5",null,null,null,null,"Block 6"]
["Sequence\nComponent\n1","Time\n1","Sequence\nComponent\n2","Time\n2","Sequence\nComponent\n3","Time\n3","Sequence\nComponent\n4","Time\n4","Sequence\nComponent\n5","Time\n5","Correct?\n0=No 1=Yes","Sequence",null,"Frequency",null,"Relative Frequency","Variability",null,null,"Frequency",null,"Relative Frequency","Variability",null,"Frequency",null,"Relative Frequency","Variability",null,"Frequency",null,"Relative Frequency","Variability",null,"Frequency",null,"Relative Frequency","Variability",null,"Frequency",null,"Relative Frequency","Variability",null,"Frequency",null,"Relative Frequency","Variability"]
[12,31,14,38,13,44,14,54,null,null,0,1111,null,1111,{"$f":"COUNTIF($L$7:$L$500,N7)","v":191},{"$f":"O7/$Q$4","v":0.98453608247422686},{"$f":"IF(P7=0,0,(P7*((LOG(P7))/LOG(2))))","v":-2.213632321089367E-2},null,null,{"$f":"N7","v":1111},{"$f":"COUNTIF(L7:L38,T7)","v":30},{"$f":"U7/(W4-U20)","v":0.9375},{"$f":"IF(V7=0,0,(V7*((LOG(V7))/LOG(2))))","v":-8.729006661701387E-2},null,{"$f":"N7","v":1111},{"$f":"COUNTIF(L39:L71,Y7)","v":33},{"$f":"Z7/(AB4-Z20)","v":1},{"$f":"IF(AA7=0,0,(AA7*((LOG(AA7))/LOG(2))))","v":0},null,{"$f":"N7","v":1111},{"$f":"COUNTIF(L72:L103,AD7)","v":31},{"$f":"AE7/(AG4-AE20)","v":0.96875},{"$f":"IF(AF7=0,0,(AF7*((LOG(AF7))/LOG(2))))","v":-4.4372324312714644E-2},null,{"$f":"N7","v":1111},{"$f":"COUNTIF(L104:L135,AI7)","v":32},{"$f":"AJ7/(AL4-AJ20)","v":1},{"$f":"IF(AK7=0,0,(AK7*((LOG(AK7))/LOG(2))))","v":0},null,{"$f":"N7","v":1111},{"$f":"COUNTIF(L136:L168,AN7)","v":33},{"$f":"AO7/(AQ4-AO20)","v":1},{"$f":"IF(AP7=0,0,(AP7*((LOG(AP7))/LOG(2))))","v":0},null,{"$f":"N7","v":1111},{"$f":"COUNTIF(L169:L200,AS7)","v":32},{"$f":"AT7/(AV4-AT20)","v":1},{"$f":"IF(AU7=0,0,(AU7*((LOG(AU7))/LOG(2))))","v":0}]
[21,160,21,166,22,173,14,188,null,null,0,2221,null,1112,{"$f":"COUNTIF($L$7:$L$500,N8)","v":0},{"$f":"O8/$Q$4","v":0},{"$f":"IF(P8=0,0,(P8*((LOG(P8))/LOG(2))))","v":0},null,null,{"$f":"N8","v":1112},{"$f":"COUNTIF(L7:L38,T8)","v":0},{"$f":"U8/(W4-U20)","v":0},{"$f":"IF(V8=0,0,(V8*((LOG(V8))/LOG(2))))","v":0},null,{"$f":"N8","v":1112},{"$f":"COUNTIF(L39:L71,Y8)","v":0},{"$f":"Z8/(AB4-Z20)","v":0},{"$f":"IF(AA8=0,0,(AA8*((LOG(AA8))/LOG(2))))","v":0},null,{"$f":"N8","v":1112},{"$f":"COUNTIF(L72:L103,AD8)","v":0},{"$f":"AE8/(AG4-AE20)","v":0},{"$f":"IF(AF8=0,0,(AF8*((LOG(AF8))/LOG(2))))","v":0},null,{"$f":"N8","v":1112},{"$f":"COUNTIF(L104:L135,AI8)","v":0},{"$f":"AJ8/(AL4-AJ20)","v":0},{"$f":"IF(AK8=0,0,(AK8*((LOG(AK8))/LOG(2))))","v":0},null,{"$f":"N8","v":1112},{"$f":"COUNTIF(L136:L168,AN8)","v":0},{"$f":"AO8/(AQ4-AO20)","v":0},{"$f":"IF(AP8=0,0,(AP8*((LOG(AP8))/LOG(2))))","v":0},null,{"$f":"N8","v":1112},{"$f":"COUNTIF(L169:L200,AS8)","v":0},{"$f":"AT8/(AV4-AT20)","v":0},{"$f":"IF(AU8=0,0,(AU8*((LOG(AU8))/LOG(2))))","v":0}]
[12,292,14,298,13,303,14,309,null,null,0,1111,null,1121,{"$f":"COUNTIF($L$7:$L$500,N9)","v":0},{"$f":"O9/$Q$4","v":0},{"$f":"IF(P9=0,0,(P9*((LOG(P9))/LOG(2))))","v":0},null,null,{"$f":"N9","v":1121},{"$f":"COUNTIF(L7:L38,T9)","v":0},{"$f":"U9/(W4-U20)","v":0},{"$f":"IF(V9=0,0,(V9*((LOG(V9))/LOG(2))))","v":0},null,{"$f":"N9","v":1121},{"$f":"COUNTIF(L39:L71,Y9)","v":0},{"$f":"Z9/(AB4-Z20)","v":0},{"$f":"IF(AA9=0,0,(AA9*((LOG(AA9))/LOG(2))))","v":0},null,{"$f":"N9","v":1121},{"$f":"COUNTIF(L72:L103,AD9)","v":0},{"$f":"AE9/(AG4-AE20)","v":0},{"$f":"IF(AF9=0,0,(AF9*((LOG(AF9))/LOG(2))))","v":0},null,{"$f":"N9","v":1121},{"$f":"COUNTIF(L104:L135,AI9)","v":0},{"$f":"AJ9/(AL4-AJ20)","v":0},{"$f":"IF(AK9=0,0,(AK9*((LOG(AK9))/LOG(2))))","v":0},null,{"$f":"N9","v":1121},{"$f":"COUNTIF(L136:L168,AN9)","v":0},{"$f":"AO9/(AQ4-AO20)","v":0},{"$f":"IF(AP9=0,0,(AP9*((LOG(AP9))/LOG(2))))","v":0},null,{"$f":"N9","v":1121},{"$f":"COUNTIF(L169:L200,AS9)","v":0},{"$f":"AT9/(AV4-AT20)","v":0},{"$f":"IF(AU9=0,0,(AU9*((LOG(AU9))/LOG(2))))","v":0}]
[12,415,14,420,13,425,14,433,null,null,0,1111,null,1122,{"$f":"COUNTIF($L$7:$L$500,N10)","v":0},{"$f":"O10/$Q$4","v":0},{"$f":"IF(P10=0,0,(P10*((LOG(P10))/LOG(2))))","v":0},null,null,{"$f":"N10","v":1122},{"$f":"COUNTIF(L7:L38,T10)","v":0},{"$f":"U10/(W4-U20)","v":0},{"$f":"IF(V10=0,0,(V10*((LOG(V10))/LOG(2))))","v":0},null,{"$f":"N10","v":1122},{"$f":"COUNTIF(L39:L71,Y10)","v":0},{"$f":"Z10/(AB4-Z20)","v":0},{"$f":"IF(AA10=0,0,(AA10*((LOG(AA10))/LOG(2))))","v":0},null,{"$f":"N10","v":1122},{"$f":"COUNTIF(L72:L103,AD10)","v":0},{"$f":"AE10/(AG4-AE20)","v":0},{"$f":"IF(AF10=0,0,(AF10*((LOG(AF10))/LOG(2))))","v":0},null,{"$f":"N10","v":1122},{"$f":"COUNTIF(L104:L135,AI10)","v":0},{"$f":"AJ10/(AL4-AJ20)","v":0},{"$f":"IF(AK10=0,0,(AK10*((LOG(AK10))/LOG(2))))","v":0},null,{"$f":"N10","v":1122},{"$f":"COUNTIF(L136:L168,AN10)","v":0},{"$f":"AO10/(AQ4-AO20)","v":0},{"$f":"IF(AP10=0,0,(AP10*((LOG(AP10))/LOG(2))))","v":0},null,{"$f":"N10","v":1122},{"$f":"COUNTIF(L169:L200,AS10)","v":0},{"$f":"AT10/(AV4-AT20)","v":0},{"$f":"IF(AU10=0,0,(AU10*((LOG(AU10))/LOG(2))))","v":0}]
[12,550,14,557,13,563,14,578,null,null,0,1111,null,1211,{"$f":"COUNTIF($L$7:$L$500,N11)","v":0},{"$f":"O11/$Q$4","v":0},{"$f":"IF(P11=0,0,(P11*((LOG(P11))/LOG(2))))","v":0},null,null,{"$f":"N11","v":1211},{"$f":"COUNTIF(L7:L38,T11)","v":0},{"$f":"U11/(W4-U20)","v":0},{"$f":"IF(V11=0,0,(V11*((LOG(V11))/LOG(2))))","v":0},null,{"$f":"N11","v":1211},{"$f":"COUNTIF(L39:L71,Y11)","v":0},{"$f":"Z11/(AB4-Z20)","v":0},{"$f":"IF(AA11=0,0,(AA11*((LOG(AA11))/LOG(2))))","v":0},null,{"$f":"N11","v":1211},{"$f":"COUNTIF(L72:L103,AD11)","v":0},{"$f":"AE11/(AG4-AE20)","v":0},{"$f":"IF(AF11=0,0,(AF11*((LOG(AF11))/LOG(2))))","v":0},null,{"$f":"N11","v":1211},{"$f":"COUNTIF(L104:L135,AI11)","v":0},{"$f":"AJ11/(AL4-AJ20)","v":0},{"$f":"IF(AK11=0,0,(AK11*((LOG(AK11))/LOG(2))))","v":0},null,{"$f":"N11","v":1211},{"$f":"COUNTIF(L136:L168,AN11)","v":0},{"$f":"AO11/(AQ4-AO20)","v":0},{"$f":"IF(AP11=0,0,(AP11*((LOG(AP11))/LOG(2))))","v":0},null,{"$f":"N11","v":1211},{"$f":"COUNTIF(L169:L200,AS11)","v":0},{"$f":"AT11/(AV4-AT20)","v":0},{"$f":"IF(AU11=0,0,(AU11*((LOG(AU11))/LOG(2))))","v":0}]
[21,676,21,681,22,695,14,712,null,null,0,2221,null,1212,{"$f":"COUNTIF($L$7:$L$500,N12)","v":0},{"$f":"O12/$Q$4","v":0},{"$f":"IF(P12=0,0,(P12*((LOG(P12))/LOG(2))))","v":0},null,null,{"$f":"N12","v":1212},{"$f":"COUNTIF(L7:L38,T12)","v":0},{"$f":"U12/(W4-U20)","v":0},{"$f":"IF(V12=0,0,(V12*((LOG(V12))/LOG(2))))","v":0},null,{"$f":"N12","v":1212},{"$f":"COUNTIF(L39:L71,Y12)","v":0},{"$f":"Z12/(AB4-Z20)","v":0},{"$f":"IF(AA12=0,0,(AA12*((LOG(AA12))/LOG(2))))","v":0},null,{"$f":"N12","v":1212},{"$f":"COUNTIF(L72:L103,AD12)","v":0},{"$f":"AE12/(AG4-AE20)","v":0},{"$f":"IF(AF12=0,0,(AF12*((LOG(AF12))/LOG(2))))","v":0},null,{"$f":"N12","v":1212},{"$f":"COUNTIF(L104:L135,AI12)","v":0},{"$f":"AJ12/(AL4-AJ20)","v":0},{"$f":"IF(AK12=0,0,(AK12*((LOG(AK12))/LOG(2))))","v":0},null,{"$f":"N12","v":1212},{"$f":"COUNTIF(L136:L168,AN12)","v":0},{"$f":"AO12/(AQ4-AO20)","v":0},{"$f":"IF(AP12=0,0,(AP12*((LOG(AP12))/LOG(2))))","v":0},null,{"$f":"N12","v":1212},{"$f":"COUNTIF(L169:L200,AS12)","v":0},{"$f":"AT12/(AV4-AT20)","v":0},{"$f":"IF(AU12=0,0,(AU12*((LOG(AU12))/LOG(2))))","v":0}]
[12,821,14,830,13,836,14,850,null,null,0,1111,null,1221,{"$f":"COUNTIF($L$7:$L$500,N13)","v":0},{"$f":"O13/$Q$4","v":0},{"$f":"IF(P13=0,0,(P13*((LOG(P13))/LOG(2))))","v":0},null,null,{"$f":"N13","v":1221},{"$f":"COUNTIF(L7:L38,T13)","v":0},{"$f":"U13/(W4-U20)","v":0},{"$f":"IF(V13=0,0,(V13*((LOG(V13))/LOG(2))))","v":0},null,{"$f":"N13","v":1221},{"$f":"COUNTIF(L39:L71,Y13)","v":0},{"$f":"Z13/(AB4-Z20)","v":0},{"$f":"IF(AA13=0,0,(AA13*((LOG(AA13))/LOG(2))))","v":0},null,{"$f":"N13","v":1221},{"$f":"COUNTIF(L72:L103,AD13)","v":0},{"$f":"AE13/(AG4-AE20)","v":0},{"$f":"IF(AF13=0,0,(AF13*((LOG(AF13))/LOG(2))))","v":0},null,{"$f":"N13","v":1221},{"$f":"COUNTIF(L104:L135,AI13)","v":0},{"$f":"AJ13/(AL4-AJ20)","v":0},{"$f":"IF(AK13=0,0,(AK13*((LOG(AK13))/LOG(2))))","v":0},null,{"$f":"N13","v":1221},{"$f":"COUNTIF(L136:L168,AN13)","v":0},{"$f":"AO13/(AQ4-AO20)","v":0},{"$f":"IF(AP13=0,0,(AP13*((LOG(AP13))/LOG(2))))","v":0},null,{"$f":"N13","v":1221},{"$f":"COUNTIF(L169:L200,AS13)","v":0},{"$f":"AT13/(AV4-AT20)","v":0},{"$f":"IF(AU13=0,0,(AU13*((LOG(AU13))/LOG(2))))","v":0}]
[12,960,14,965,13,970,14,980,null,null,0,1111,null,1222,{"$f":"COUNTIF($L$7:$L$500,N14)","v":0},{"$f":"O14/$Q$4","v":0},{"$f":"IF(P14=0,0,(P14*((LOG(P14))/LOG(2))))","v":0},null,null,{"$f":"N14","v":1222},{"$f":"COUNTIF(L7:L38,T14)","v":0},{"$f":"U14/(W4-U20)","v":0},{"$f":"IF(V14=0,0,(V14*((LOG(V14))/LOG(2))))","v":0},null,{"$f":"N14","v":1222},{"$f":"COUNTIF(L39:L71,Y14)","v":0},{"$f":"Z14/(AB4-Z20)","v":0},{"$f":"IF(AA14=0,0,(AA14*((LOG(AA14))/LOG(2))))","v":0},null,{"$f":"N14","v":1222},{"$f":"COUNTIF(L72:L103,AD14)","v":0},{"$f":"AE14/(AG4-AE20)","v":0},{"$f":"IF(AF14=0,0,(AF14*((LOG(AF14))/LOG(2))))","v":0},null,{"$f":"N14","v":1222},{"$f":"COUNTIF(L104:L135,AI14)","v":0},{"$f":"AJ14/(AL4-AJ20)","v":0},{"$f":"IF(AK14=0,0,(AK14*((LOG(AK14))/LOG(2))))","v":0},null,{"$f":"N14","v":1222},{"$f":"COUNTIF(L136:L168,AN14)","v":0},{"$f":"AO14/(AQ4-AO20)","v":0},{"$f":"IF(AP14=0,0,(AP14*((LOG(AP14))/LOG(2))))","v":0},null,{"$f":"N14","v":1222},{"$f":"COUNTIF(L169:L200,AS14)","v":0},{"$f":"AT14/(AV4-AT20)","v":0},{"$f":"IF(AU14=0,0,(AU14*((LOG(AU14))/LOG(2))))","v":0}]
[12,1088,14,1093,13,1098,14,1108,null,null,0,1111,null,2111,{"$f":"COUNTIF($L$7:$L$500,N15)","v":0},{"$f":"O15/$Q$4","v":0},{"$f":"IF(P15=0,0,(P15*((LOG(P15))/LOG(2))))","v":0},null,null,{"$f":"N15","v":2111},{"$f":"COUNTIF(L7:L38,T15)","v":0},{"$f":"U15/(W4-U20)","v":0},{"$f":"IF(V15=0,0,(V15*((LOG(V15))/LOG(2))))","v":0},null,{"$f":"N15","v":2111},{"$f":"COUNTIF(L39:L71,Y15)","v":0},{"$f":"Z15/(AB4-Z20)","v":0},{"$f":"IF(AA15=0,0,(AA15*((LOG(AA15))/LOG(2))))","v":0},null,{"$f":"N15","v":2111},{"$f":"COUNTIF(L72:L103,AD15)","v":0},{"$f":"AE15/(AG4-AE20)","v":0},{"$f":"IF(AF15=0,0,(AF15*((LOG(AF15))/LOG(2))))","v":0},null,{"$f":"N15","v":2111},{"$f":"COUNTIF(L104:L135,AI15)","v":0},{"$f":"AJ15/(AL4-AJ20)","v":0},{"$f":"IF(AK15=0,0,(AK15*((LOG(AK15))/LOG(2))))","v":0},null,{"$f":"N15","v":2111},{"$f":"COUNTIF(L136:L168,AN15)","v":0},{"$f":"AO15/(AQ4-AO20)","v":0},{"$f":"IF(AP15=0,0,(AP15*((LOG(AP15))/LOG(2))))","v":0},null,{"$f":"N15","v":2111},{"$f":"COUNTIF(L169:L200,AS15)","v":0},{"$f":"AT15/(AV4-AT20)","v":0},{"$f":"IF(AU15=0,0,(AU15*((LOG(AU15))/LOG(2))))","v":0}]
[12,1227,14,1232,13,1238,14,1256,null,null,0,1111,null,2112,{"$f":"COUNTIF($L$7:$L$500,N16)","v":0},{"$f":"O16/$Q$4","v":0},{"$f":"IF(P16=0,0,(P16*((LOG(P16))/LOG(2))))","v":0},null,null,{"$f":"N16","v":2112},{"$f":"COUNTIF(L7:L38,T16)","v":0},{"$f":"U16/(W4-U20)","v":0},{"$f":"IF(V16=0,0,(V16*((LOG(V16))/LOG(2))))","v":0},null,{"$f":"N16","v":2112},{"$f":"COUNTIF(L39:L71,Y16)","v":0},{"$f":"Z16/(AB4-Z20)","v":0},{"$f":"IF(AA16=0,0,(AA16*((LOG(AA16))/LOG(2))))","v":0},null,{"$f":"N16","v":2112},{"$f":"COUNTIF(L72:L103,AD16)","v":0},{"$f":"AE16/(AG4-AE20)","v":0},{"$f":"IF(AF16=0,0,(AF16*((LOG(AF16))/LOG(2))))","v":0},null,{"$f":"N16","v":2112},{"$f":"COUNTIF(L104:L135,AI16)","v":0},{"$f":"AJ16/(AL4-AJ20)","v":0},{"$f":"IF(AK16=0,0,(AK16*((LOG(AK16))/LOG(2))))","v":0},null,{"$f":"N16","v":2112},{"$f":"COUNTIF(L136:L168,AN16)","v":0},{"$f":"AO16/(AQ4-AO20)","v":0},{"$f":"IF(AP16=0,0,(AP16*((LOG(AP16))/LOG(2))))","v":0},null,{"$f":"N16","v":2112},{"$f":"COUNTIF(L169:L200,AS16)","v":0},{"$f":"AT16/(AV4-AT20)","v":0},{"$f":"IF(AU16=0,0,(AU16*((LOG(AU16))/LOG(2))))","v":0}]
[12,1365,14,1370,13,1380,14,1388,null,null,0,1111,null,2121,{"$f":"COUNTIF($L$7:$L$500,N17)","v":0},{"$f":"O17/$Q$4","v":0},{"$f":"IF(P17=0,0,(P17*((LOG(P17))/LOG(2))))","v":0},null,null,{"$f":"N17","v":2121},{"$f":"COUNTIF(L7:L38,T17)","v":0},{"$f":"U17/(W4-U20)","v":0},{"$f":"IF(V17=0,0,(V17*((LOG(V17))/LOG(2))))","v":0},null,{"$f":"N17","v":2121},{"$f":"COUNTIF(L39:L71,Y17)","v":0},{"$f":"Z17/(AB4-Z20)","v":0},{"$f":"IF(AA17=0,0,(AA17*((LOG(AA17))/LOG(2))))","v":0},null,{"$f":"N17","v":2121},{"$f":"COUNTIF(L72:L103,AD17)","v":0},{"$f":"AE17/(AG4-AE20)","v":0},{"$f":"IF(AF17=0,0,(AF17*((LOG(AF17))/LOG(2))))","v":0},null,{"$f":"N17","v":2121},{"$f":"COUNTIF(L104:L135,AI17)","v":0},{"$f":"AJ17/(AL4-AJ20)","v":0},{"$f":"IF(AK17=0,0,(AK17*((LOG(AK17))/LOG(2))))","v":0},null,{"$f":"N17","v":2121},{"$f":"COUNTIF(L136:L168,AN17)","v":0},{"$f":"AO17/(AQ4-AO20)","v":0},{"$f":"IF(AP17=0,0,(AP17*((LOG(AP17))/LOG(2))))","v":0},null,{"$f":"N17","v":2121},{"$f":"COUNTIF(L169:L200,AS17)","v":0},{"$f":"AT17/(AV4-AT20)","v":0},{"$f":"IF(AU17=0,0,(AU17*((LOG(AU17))/LOG(2))))","v":0}]
[12,1491,14,1496,13,1502,14,1507,null,null,0,1111,null,2122,{"$f":"COUNTIF($L$7:$L$500,N18)","v":0},{"$f":"O18/$Q$4","v":0},{"$f":"IF(P18=0,0,(P18*((LOG(P18))/LOG(2))))","v":0},null,null,{"$f":"N18","v":2122},{"$f":"COUNTIF(L7:L38,T18)","v":0},{"$f":"U18/(W4-U20)","v":0},{"$f":"IF(V18=0,0,(V18*((LOG(V18))/LOG(2))))","v":0},null,{"$f":"N18","v":2122},{"$f":"COUNTIF(L39:L71,Y18)","v":0},{"$f":"Z18/(AB4-Z20)","v":0},{"$f":"IF(AA18=0,0,(AA18*((LOG(AA18))/LOG(2))))","v":0},null,{"$f":"N18","v":2122},{"$f":"COUNTIF(L72:L103,AD18)","v":0},{"$f":"AE18/(AG4-AE20)","v":0},{"$f":"IF(AF18=0,0,(AF18*((LOG(AF18))/LOG(2))))","v":0},null,{"$f":"N18","v":2122},{"$f":"COUNTIF(L104:L135,AI18)","v":0},{"$f":"AJ18/(AL4-AJ20)","v":0},{"$f":"IF(AK18=0,0,(AK18*((LOG(AK18))/LOG(2))))","v":0},null,{"$f":"N18","v":2122},{"$f":"COUNTIF(L136:L168,AN18)","v":0},{"$f":"AO18/(AQ4-AO20)","v":0},{"$f":"IF(AP18=0,0,(AP18*((LOG(AP18))/LOG(2))))","v":0},null,{"$f":"N18","v":2122},{"$f":"COUNTIF(L169:L200,AS18)","v":0},{"$f":"AT18/(AV4-AT20)","v":0},{"$f":"IF(AU18=0,0,(AU18*((LOG(AU18))/LOG(2))))","v":0}]
[12,1612,14,1617,13,1622,14,1628,null,null,0,1111,null,2211,{"$f":"COUNTIF($L$7:$L$500,N19)","v":0},{"$f":"O19/$Q$4","v":0},{"$f":"IF(P19=0,0,(P19*((LOG(P19))/LOG(2))))","v":0},null,null,{"$f":"N19","v":2211},{"$f":"COUNTIF(L7:L38,T19)","v":0},{"$f":"U19/(W4-U20)","v":0},{"$f":"IF(V19=0,0,(V19*((LOG(V19))/LOG(2))))","v":0},null,{"$f":"N19","v":2211},{"$f":"COUNTIF(L39:L71,Y19)","v":0},{"$f":"Z19/(AB4-Z20)","v":0},{"$f":"IF(AA19=0,0,(AA19*((LOG(AA19))/LOG(2))))","v":0},null,{"$f":"N19","v":2211},{"$f":"COUNTIF(L72:L103,AD19)","v":0},{"$f":"AE19/(AG4-AE20)","v":0},{"$f":"IF(AF19=0,0,(AF19*((LOG(AF19))/LOG(2))))","v":0},null,{"$f":"N19","v":2211},{"$f":"COUNTIF(L104:L135,AI19)","v":0},{"$f":"AJ19/(AL4-AJ20)","v":0},{"$f":"IF(AK19=0,0,(AK19*((LOG(AK19))/LOG(2))))","v":0},null,{"$f":"N19","v":2211},{"$f":"COUNTIF(L136:L168,AN19)","v":0},{"$f":"AO19/(AQ4-AO20)","v":0},{"$f":"IF(AP19=0,0,(AP19*((LOG(AP19))/LOG(2))))","v":0},null,{"$f":"N19","v":2211},{"$f":"COUNTIF(L169:L200,AS19)","v":0},{"$f":"AT19/(AV4-AT20)","v":0},{"$f":"IF(AU19=0,0,(AU19*((LOG(AU19))/LOG(2))))","v":0}]
[12,1737,14,1742,13,1747,14,1752,null,null,0,1111,null,2212,{"$f":"COUNTIF($L$7:$L$500,N20)","v":0},{"$f":"O20/$Q$4","v":0},{"$f":"IF(P20=0,0,(P20*((LOG(P20))/LOG(2))))","v":0},null,null,{"$f":"N20","v":2212},{"$f":"COUNTIF(L7:L38,T20)","v":0},null,null,null,{"$f":"N20","v":2212},{"$f":"COUNTIF(L39:L71,Y20)","v":0},null,null,null,{"$f":"N20","v":2212},{"$f":"COUNTIF(L72:L103,AD20)","v":0},null,null,null,{"$f":"N20","v":2212},{"$f":"COUNTIF(L104:L135,AI20)","v":0},null,null,null,{"$f":"N20","v":2212},{"$f":"COUNTIF(L136:L168,AN20)","v":0},null,null,null,{"$f":"N20","v":2212},{"$f":"COUNTIF(L169:L200,AS20)","v":0}]
[12,1847,14,1851,13,1861,14,1884,null,null,0,1111,null,2221,{"$f":"COUNTIF($L$7:$L$500,N21)","v":3},{"$f":"O21/$Q$4","v":1.5463917525773196E-2},{"$f":"IF(P21=0,0,(P21*((LOG(P21))/LOG(2))))","v":-9.3014696002051117E-2},null,null,{"$f":"N21","v":2221},{"$f":"COUNTIF(L7:L38,T21)","v":2},{"$f":"U21/(W4-U20)","v":6.25E-2},{"$f":"IF(V21=0,0,(V21*((LOG(V21))/LOG(2))))","v":-0.25},null,{"$f":"N21","v":2221},{"$f":"COUNTIF(L39:L71,Y21)","v":0},{"$f":"Z21/(AB4-Z20)","v":0},{"$f":"IF(AA21=0,0,(AA21*((LOG(AA21))/LOG(2))))","v":0},null,{"$f":"N21","v":2221},{"$f":"COUNTIF(L72:L103,AD21)","v":1},{"$f":"AE21/(AG4-AE20)","v":3.125E-2},{"$f":"IF(AF21=0,0,(AF21*((LOG(AF21))/LOG(2))))","v":-0.15625},null,{"$f":"N21","v":2221},{"$f":"COUNTIF(L104:L135,AI21)","v":0},{"$f":"AJ21/(AL4-AJ20)","v":0},{"$f":"IF(AK21=0,0,(AK21*((LOG(AK21))/LOG(2))))","v":0},null,{"$f":"N21","v":2221},{"$f":"COUNTIF(L136:L168,AN21)","v":0},{"$f":"AO21/(AQ4-AO20)","v":0},{"$f":"IF(AP21=0,0,(AP21*((LOG(AP21))/LOG(2))))","v":0},null,{"$f":"N21","v":2221},{"$f":"COUNTIF(L169:L200,AS21)","v":0},{"$f":"AT21/(AV4-AT20)","v":0},{"$f":"IF(AU21=0,0,(AU21*((LOG(AU21))/LOG(2))))","v":0}]
[12,1988,14,1993,13,1999,14,2008,null,null,0,1111,null,2222,{"$f":"COUNTIF($L$7:$L$500,N22)","v":0},{"$f":"O22/$Q$4","v":0},{"$f":"IF(P22=0,0,(P22*((LOG(P22))/LOG(2))))","v":0},null,null,{"$f":"N22","v":2222},{"$f":"COUNTIF(L7:L38,T22)","v":0},{"$f":"U22/(W4-U20)","v":0},{"$f":"IF(V22=0,0,(V22*((LOG(V22))/LOG(2))))","v":0},null,{"$f":"N22","v":2222},{"$f":"COUNTIF(L39:L71,Y22)","v":0},{"$f":"Z22/(AB4-Z20)","v":0},{"$f":"IF(AA22=0,0,(AA22*((LOG(AA22))/LOG(2))))","v":0},null,{"$f":"N22","v":2222},{"$f":"COUNTIF(L72:L103,AD22)","v":0},{"$f":"AE22/(AG4-AE20)","v":0},{"$f":"IF(AF22=0,0,(AF22*((LOG(AF22))/LOG(2))))","v":0},null,{"$f":"N22","v":2222},{"$f":"COUNTIF(L104:L135,AI22)","v":0},{"$f":"AJ22/(AL4-AJ20)","v":0},{"$f":"IF(AK22=0,0,(AK22*((LOG(AK22))/LOG(2))))","v":0},null,{"$f":"N22","v":2222},{"$f":"COUNTIF(L136:L168,AN22)","v":0},{"$f":"AO22/(AQ4-AO20)","v":0},{"$f":"IF(AP22=0,0,(AP22*((LOG(AP22))/LOG(2))))","v":0},null,{"$f":"N22","v":2222},{"$f":"COUNTIF(L169:L200,AS22)","v":0},{"$f":"AT22/(AV4-AT20)","v":0},{"$f":"IF(AU22=0,0,(AU22*((LOG(AU22))/LOG(2))))","v":0}]
[12,2113,14,2119,13,2124,14,2130,null,null,0,1111,null,null,null,{"$f":"SUM(P7:P22)","v":1},{"$f":"-SUM(Q7:Q22)","v":0.11515101921294479},null,null,null,null,{"$f":"SUM(V7:V22)","v":1},{"$f":"-SUM(W7:W22)","v":0.33729006661701388},null,null,null,{"$f":"SUM(AA7:AA22)","v":1},{"$f":"-SUM(AB7:AB22)","v":0},null,null,null,{"$f":"SUM(AF7:AF22)","v":1},{"$f":"-SUM(AG7:AG22)","v":0.20062232431271465},null,null,null,{"$f":"SUM(AK7:AK22)","v":1},{"$f":"-SUM(AL7:AL22)","v":0},null,null,null,{"$f":"SUM(AP7:AP22)","v":1},{"$f":"-SUM(AQ7:AQ22)","v":0},null,null,null,{"$f":"SUM(AU7:AU22)","v":1},{"$f":"-SUM(AV7:AV22)","v":0}]
[12,2222,14,2231,13,2236,14,2241,null,null,0,1111,null,null,null,"U=",{"$f":"Q23/(LOG(Q4)/LOG(2))","v":1.5151623657279503E-2},null,null,null,null,"U1=",{"$f":"W23/(LOG(W4)/LOG(2))","v":6.7458013323402774E-2},null,null,null,"U2=",{"$f":"AB23/(LOG(AB4)/LOG(2))","v":0},null,null,null,"U3=",{"$f":"AG23/(LOG(AG4)/LOG(2))","v":4.0124464862542931E-2},null,null,null,"U4=",{"$f":"AL23/(LOG(AL4)/LOG(2))","v":0},null,null,null,"U5=",{"$f":"AQ23/(LOG(AQ4)/LOG(2))","v":0},null,null,null,"U6=",{"$f":"AV23/(LOG(AV4)/LOG(2))","v":0}]
[12,2342,14,2348,13,2354,14,2362,null,null,0,1111]
[12,2468,14,2473,13,2478,14,2487,null,null,0,1111]
[12,2598,14,2604,13,2609,14,2618,null,null,0,1111,null,"Total Target Seq"]
[12,2719,14,2724,13,2729,14,2734,null,null,0,1111,null,{"$f":"COUNTIF(L7:L200,G3)","v":0},null,32,33,32,32,33,32]
[12,2841,14,2846,13,2851,14,2860,null,null,0,1111,null,null,null,"% of reinforcement given in 6 equal intervals based on number of trials "]
[12,2967,14,2971,13,2977,14,2986,null,null,0,1111,null,null,null,"%_1","%_2","%_3","%_4","%_5","%_6"]
[12,3097,14,3107,13,3112,14,3118,null,null,0,1111,null,null,"target sequence",{"$f":"$G$3","v":2212},{"$f":"$G$3","v":2212},{"$f":"$G$3","v":2212},{"$f":"$G$3","v":2212},{"$f":"$G$3","v":2212},{"$f":"$G$3","v":2212}]
[12,3226,14,3232,13,3237,14,3243,null,null,0,1111,null,null,"total reinforcement",{"$f":"U20","v":0},{"$f":"Z20","v":0},{"$f":"AE20","v":0},{"$f":"AJ20","v":0},{"$f":"AO20","v":0},{"$f":"AT20","v":0}]
[12,3342,14,3347,13,3352,14,3360,null,null,0,1111,null,null,"% target"]
[12,3469,14,3474,13,3479,14,3485,null,null,0,1111,null,null,"CCRF"]
[12,3583,14,3589,13,3594,14,3600,null,null,0,1111,null,null,"% CCRf"]
[12,3713,14,3718,13,3723,14,3730,null,null,0,1111,null,null,"average response rate",{"$f":"H38/P28","v":124.15625},{"$f":"(H71-H38)/Q28","v":123.3030303030303},{"$f":"(H103-H71)/R28","v":126.21875},{"$f":"(H135-H103)/S28","v":121.96875},{"$f":"(H168-H135)/T28","v":124.60606060606061},{"$f":"(H200-H168)/U28","v":118.59375}]
[12,3838,14,3843,13,3849,14,3857,null,null,0,1111]
[12,3954,14,3959,13,3964,14,3973,null,null,0,1111]
[12,4080,14,4085,13,4091,14,4107,null,null,0,1111]
[12,4203,14,4207,13,4212,14,4218,null,null,0,1111]
[12,4330,14,4335,13,4340,14,4347,null,null,0,1111]
[12,4439,14,4444,13,4449,14,4455,null,null,0,1111]
[12,4555,14,4565,13,4580,14,4640,null,null,0,1111]
[12,4749,14,4753,13,4759,14,4765,null,null,0,1111]
[12,4864,14,4873,13,4878,14,4885,null,null,0,1111]
[12,4992,14,4997,13,5003,14,5011,null,null,0,1111]
[12,5109,14,5114,13,5140,14,5149,null,null,0,1111]
[12,5247,14,5252,13,5257,14,5264,null,null,0,1111]
[12,5360,14,5365,13,5370,14,5376,null,null,0,1111]
[12,5472,14,5478,13,5482,14,5497,null,null,0,1111]
[12,5611,14,5616,13,5622,14,5629,null,null,0,1111]
[12,5731,14,5737,13,5743,14,5755,null,null,0,1111]
[12,5853,14,5862,13,5870,14,5878,null,null,0,1111]
[12,5984,14,5986,13,5990,14,6003,null,null,0,1111]
[12,6099,14,6105,13,6121,14,6138,null,null,0,1111]
[12,6234,14,6239,13,6249,14,6258,null,null,0,1111]
[12,6368,14,6374,13,6379,14,6385,null,null,0,1111]
[12,6475,14,6480,13,6484,14,6490,null,null,0,1111]
[12,6601,14,6606,13,6611,14,6619,null,null,0,1111]
[12,6715,14,6720,13,6727,14,6733,null,null,0,1111]
[12,6842,14,6847,13,6853,14,6864,null,null,0,1111]
[12,6957,14,6962,13,6967,14,6973,null,null,0,1111]
[12,7071,14,7076,13,7081,14,7087,null,null,0,1111]
[12,7185,14,7191,13,7196,14,7202,null,null,0,1111]
[12,7306,14,7312,13,7317,14,7324,null,null,0,1111]
[12,7432,14,7437,13,7443,14,7452,null,null,0,1111]
[12,7550,14,7555,13,7560,14,7565,null,null,0,1111]
[12,7665,14,7672,13,7676,14,7682,null,null,0,1111]
[12,7787,14,7792,13,7797,14,7821,null,null,0,1111]
[12,7912,14,7917,13,7926,14,7934,null,null,0,1111]
[12,8027,14,8031,13,8036,14,8042,null,null,0,1111]
[12,8145,14,8150,13,8159,14,8169,null,null,0,1111]
[12,8270,14,8275,13,8280,14,8285,null,null,0,1111]
[12,8376,14,8381,13,8386,14,8391,null,null,0,1111]
[12,8497,14,8501,13,8507,14,8525,null,null,0,1111]
[12,8628,14,8634,13,8639,14,8644,null,null,0,1111]
[12,8759,14,8764,13,8769,14,8775,null,null,0,1111]
[12,8882,14,8888,13,8894,14,8903,null,null,0,1111]
[12,8994,14,8999,13,9004,14,9010,null,null,0,1111]
[12,9100,14,9109,13,9114,14,9125,null,null,0,1111]
[12,9234,14,9239,13,9258,14,9271,null,null,0,1111]
[12,9380,14,9387,13,9392,14,9397,null,null,0,1111]
[12,9523,14,9532,13,9540,14,9549,null,null,0,1111]
[12,9648,14,9655,13,9660,14,9672,null,null,0,1111]
[12,9762,14,9768,13,9773,14,9778,null,null,0,1111]
[12,9878,14,9883,13,9892,14,9898,null,null,0,1111]
[21,10075,21,10082,22,10091,14,10115,null,null,0,2221]
[12,10221,14,10229,13,10233,14,10239,null,null,0,1111]
[12,10329,14,10334,13,10339,14,10347,null,null,0,1111]
[12,10445,14,10450,13,10455,14,10462,null,null,0,1111]
[12,10573,14,10578,13,10583,14,10592,null,null,0,1111]
[12,10689,14,10696,13,10701,14,10706,null,null,0,1111]
[12,10808,14,10813,13,10824,14,10842,null,null,0,1111]
[12,10936,14,10941,13,10945,14,10950,null,null,0,1111]
[12,11058,14,11066,13,11070,14,11075,null,null,0,1111]
[12,11183,14,11190,13,11195,14,11202,null,null,0,1111]
[12,11300,14,11307,13,11313,14,11335,null,null,0,1111]
[12,11432,14,11438,13,11451,14,11459,null,null,0,1111]
[12,11554,14,11561,13,11566,14,11571,null,null,0,1111]
[12,11668,14,11673,13,11678,14,11684,null,null,0,1111]
[12,11780,14,11786,13,11796,14,11828,null,null,0,1111]
[12,11932,14,11938,13,11958,14,11966,null,null,0,1111]
[12,12063,14,12070,13,12075,14,12081,null,null,0,1111]
[12,12188,14,12194,13,12204,14,12211,null,null,0,1111]
[12,12313,14,12321,13,12326,14,12335,null,null,0,1111]
[12,12438,14,12444,13,12481,14,12487,null,null,0,1111]
[12,12579,14,12586,13,12591,14,12596,null,null,0,1111]
[12,12704,14,12710,13,12715,14,12720,null,null,0,1111]
[12,12822,14,12828,13,12833,14,12839,null,null,0,1111]
[12,12935,14,12944,13,12949,14,12955,null,null,0,1111]
[12,13062,14,13068,13,13073,14,13081,null,null,0,1111]
[12,13183,14,13189,13,13213,14,13221,null,null,0,1111]
[12,13330,14,13336,13,13341,14,13354,null,null,0,1111]
[12,13452,14,13458,13,13463,14,13469,null,null,0,1111]
[12,13565,14,13570,13,13574,14,13579,null,null,0,1111]
[12,13669,14,13674,13,13679,14,13685,null,null,0,1111]
[12,13789,14,13794,13,13799,14,13804,null,null,0,1111]
[12,13912,14,13918,13,13924,14,13936,null,null,0,1111]
[12,14041,14,14046,13,14051,14,14062,null,null,0,1111]
[12,14153,14,14166,13,14171,14,14182,null,null,0,1111]
[12,14287,14,14294,13,14299,14,14309,null,null,0,1111]
[12,14410,14,14415,13,14421,14,14428,null,null,0,1111]
[12,14526,14,14531,13,14536,14,14541,null,null,0,1111]
[12,14646,14,14651,13,14656,14,14662,null,null,0,1111]
[12,14759,14,14765,13,14770,14,14774,null,null,0,1111]
[12,14867,14,14872,13,14877,14,14882,null,null,0,1111]
[12,15000,14,15005,13,15010,14,15020,null,null,0,1111]
[12,15126,14,15132,13,15137,14,15145,null,null,0,1111]
[12,15235,14,15241,13,15245,14,15252,null,null,0,1111]
[12,15357,14,15362,13,15367,14,15373,null,null,0,1111]
[12,15481,14,15486,13,15491,14,15499,null,null,0,1111]
[12,15606,14,15611,13,15616,14,15625,null,null,0,1111]
[12,15729,14,15735,13,15740,14,15747,null,null,0,1111]
[12,15845,14,15851,13,15856,14,15874,null,null,0,1111]
[12,15969,14,15974,13,15979,14,15984,null,null,0,1111]
[12,16122,14,16127,13,16132,14,16141,null,null,0,1111]
[12,16249,14,16254,13,16259,14,16267,null,null,0,1111]
[12,16381,14,16386,13,16391,14,16397,null,null,0,1111]
[12,16500,14,16507,13,16511,14,16523,null,null,0,1111]
[12,16626,14,16634,13,16639,14,16644,null,null,0,1111]
[12,16745,14,16751,13,16770,14,16778,null,null,0,1111]
[12,16880,14,16886,13,16891,14,16896,null,null,0,1111]
[12,17000,14,17005,13,17016,14,17024,null,null,0,1111]
[12,17125,14,17130,13,17136,14,17151,null,null,0,1111]
[12,17245,14,17250,13,17254,14,17259,null,null,0,1111]
[12,17356,14,17361,13,17366,14,17378,null,null,0,1111]
[12,17482,14,17487,13,17491,14,17497,null,null,0,1111]
[12,17592,14,17597,13,17610,14,17618,null,null,0,1111]
[12,17721,14,17728,13,17733,14,17738,null,null,0,1111]
[12,17838,14,17844,13,17849,14,17855,null,null,0,1111]
[12,17956,14,17963,13,17968,14,17974,null,null,0,1111]
[12,18069,14,18075,13,18080,14,18088,null,null,0,1111]
[12,18185,14,18191,13,18195,14,18200,null,null,0,1111]
[12,18301,14,18308,13,18313,14,18318,null,null,0,1111]
[12,18417,14,18423,13,18428,14,18433,null,null,0,1111]
[12,18544,14,18549,13,18554,14,18561,null,null,0,1111]
[12,18669,14,18674,13,18679,14,18686,null,null,0,1111]
[12,18790,14,18796,13,18801,14,18806,null,null,0,1111]
[12,18912,14,18917,13,18922,14,18931,null,null,0,1111]
[12,19028,14,19033,13,19037,14,19042,null,null,0,1111]
[12,19148,14,19155,13,19160,14,19168,null,null,0,1111]
[12,19266,14,19272,13,19277,14,19282,null,null,0,1111]
[12,19385,14,19390,13,19395,14,19408,null,null,0,1111]
[12,19507,14,19513,13,19519,14,19535,null,null,0,1111]
[12,19634,14,19639,13,19644,14,19649,null,null,0,1111]
[12,19756,14,19762,13,19766,14,19774,null,null,0,1111]
[12,19861,14,19866,13,19871,14,19876,null,null,0,1111]
[12,20077,14,20082,13,20088,14,20096,null,null,0,1111]
[12,20195,14,20200,13,20214,14,20222,null,null,0,1111]
[12,20329,14,20334,13,20339,14,20343,null,null,0,1111]
[12,20445,14,20450,13,20455,14,20464,null,null,0,1111]
[12,20562,14,20567,13,20572,14,20578,null,null,0,1111]
[12,20681,14,20687,13,20692,14,20697,null,null,0,1111]
[12,20791,14,20798,13,20802,14,20814,null,null,0,1111]
[12,20906,14,20913,13,20923,14,20928,null,null,0,1111]
[12,21024,14,21029,13,21034,14,21039,null,null,0,1111]
[12,21142,14,21148,13,21154,14,21161,null,null,0,1111]
[12,21253,14,21259,13,21264,14,21269,null,null,0,1111]
[12,21366,14,21371,13,21379,14,21398,null,null,0,1111]
[12,21497,14,21508,13,21513,14,21521,null,null,0,1111]
[12,21614,14,21619,13,21623,14,21639,null,null,0,1111]
[12,21742,14,21753,13,21762,14,21797,null,null,0,1111]
[12,21898,14,21904,13,21909,14,21918,null,null,0,1111]
[12,22018,14,22026,13,22031,14,22036,null,null,0,1111]
[12,22136,14,22142,13,22147,14,22152,null,null,0,1111]
[12,22249,14,22255,13,22259,14,22265,null,null,0,1111]
[12,22360,14,22365,13,22370,14,22375,null,null,0,1111]
[12,22476,14,22483,13,22487,14,22492,null,null,0,1111]
[12,22590,14,22595,13,22605,14,22614,null,null,0,1111]
[12,22713,14,22722,13,22727,14,22733,null,null,0,1111]
[12,22825,14,22830,13,22835,14,22840,null,null,0,1111]
[12,22940,14,22944,13,22953,14,22961,null,null,0,1111]
[12,23068,14,23073,13,23086,14,23094,null,null,0,1111]
[12,23189,14,23194,13,23199,14,23204,null,null,0,1111]
[12,23305,14,23312,13,23316,14,23322,null,null,0,1111]
[12,23421,14,23426,13,23431,14,23439,null,null,0,1111]
[12,23533,14,23539,13,23543,14,23548,null,null,0,1111]
[12,23642,14,23650,13,23655,14,23659,null,null,0,1111]
[12,23765,14,23769,13,23774,14,23781,null,null,0,1111]
[12,23872,14,23881,13,23886,14,23891,null,null,0,1111]