{"text_format":"1","workbook":"xlsx","n_sheets":34,"sheets":["Sample Report","Summary","Start","!2011-07-29_11h41m.Subject 56","!2011-07-30_10h31m.Subject 55","!2011-07-31_13h17m.Subject 56","!2011-08-01_12h05m.Subject 56","!2011-08-02_11h46m.Subject 56","!L803B40.056","!L804D00.056","!L805B40.056","!L806B10.056","!L807C50.056","!L808C40.056","!L809C30.056","!L810D50.056","!L811C10.056","!L812B30.056","!L813A20.056","!L814B30.056","!L815B30.056","!L816B00.056","!L817B10.056","!L818E10.056","!L819A40.056","!L820B00.056","!L821C50.056","!L822C30.056","!L823C30.056","!L824C30.056","!L825D20.056","!L826A10.056","!L829C30.056","!L830C50.056"],"not_rendered":{"charts":0,"images":0,"macros":1,"external_links":0,"defined_names":0,"comments":0,"pivot_tables":0},"unopened":[],"bounds":{"document_bytes":16777216,"sheet_cells":100000,"rows_first":2000,"rows_last":500,"rows_between":2000,"halvings":0,"cell_chars":16384,"cell_head_chars":4096},"cells_cut":0,"cells_raw":0,"read":"whole","date_system":"1900"}

{"sheet":"Sample Report","index":0,"n_rows":12,"n_cols":11,"rows_kept":12,"cut":false,"hidden":true,"merged":[[7,0,7,6]]}
[]
["Date"]
["Hen"]
["Program"]
["Start at 999999"]
["Sequence component 1","Time 1","Seqeunce Component 2","Time 2","Seqeunce Component 3","Time 3","Correct   0 = No 1=Yes",null,null,"Seqeunce","Time"]
[12,7,12,42,13,18,"if 77 new line,                                  if 31 or 41 = yes new line on 77, ",null,null,"=string of Seqeunce compponent 1, 2 & 3","=time 3"]
["This continues until ther is a 1 on its own to indicate start of summary data"]
[null,null,null,null,null,null,null,null,null,"10-19 =1"]
["Summary Data ",null,null,null,null,null,null,null,null,"20-29 =2"]
["Correct","Incorrect","Rft","total","Av Correct","Av Incorrect","Percent correct","Time",null,"in this example the seqeunce would be 111"]
[40,33,40,73,23.95,15,54,806]

{"sheet":"Summary","index":1,"n_rows":33,"n_cols":24,"rows_kept":33,"cut":false,"hidden":false,"merged":[]}
[]
["Day","Date","Average Response Rate","Target %","RF for non correct sequence","U Value",null,null,null,null,"Block 1","Block 2","Block 3","Block 4","Block 5","Block 6"]
[1,{"$f":"'!2011-07-29_11h41m.Subject 56'!B2:C2","v":"2011-07-29"},{"$f":"('!2011-07-29_11h41m.Subject 56'!F159/60)/'!2011-07-29_11h41m.Subject 56'!Q3","v":2.2411764705882353},{"$f":"'!2011-07-29_11h41m.Subject 56'!N20/'!2011-07-29_11h41m.Subject 56'!Q3","v":0.38562091503267976},{"$f":"SUM('!2011-07-29_11h41m.Subject 56'!L20:Q20)/'!2011-07-29_11h41m.Subject 56'!Q3","v":1.4509803921568627},{"$f":"'!2011-07-29_11h41m.Subject 56'!Q16","v":0.29313284147825269},null,null,null,"Average Response Rate",{"$f":"AVERAGE(C3:C7)","v":2.1125265633675228},{"$f":"AVERAGE(C8:C12)","v":1.9385121726131218},{"$f":"AVERAGE(C13:C17)","v":1.9343931956279932},{"$f":"AVERAGE(C18:C22)","v":1.9008124026914968},{"$f":"AVERAGE(C23:C27)","v":1.9842058638604052},{"$f":"AVERAGE(C28:C32)","v":2.0518099113197703}]
[2,{"$f":"'!2011-07-30_10h31m.Subject 55'!B2:C2","v":"2011-07-30"},{"$f":"('!2011-07-30_10h31m.Subject 55'!F156/60)/'!2011-07-30_10h31m.Subject 55'!Q3","v":2.4186666666666667},{"$f":"'!2011-07-30_10h31m.Subject 55'!N20/'!2011-07-30_10h31m.Subject 55'!Q3","v":0.10666666666666667},{"$f":"SUM('!2011-07-30_10h31m.Subject 55'!L20:Q20)/'!2011-07-30_10h31m.Subject 55'!Q3","v":1.8533333333333333},{"$f":"'!2011-07-30_10h31m.Subject 55'!Q16","v":0.31227366094902981},null,null,null,"Target %",{"$f":"AVERAGE(D3:D7)","v":0.22582338817295425},{"$f":"AVERAGE(D8:D12)","v":0.22502898692717502},{"$f":"AVERAGE(D13:D17)","v":0.17695595819199691},{"$f":"AVERAGE(D18:D22)","v":0.13448258223580206},{"$f":"AVERAGE(D23:D27)","v":0.11881969565452137},{"$f":"AVERAGE(D28:D32)","v":0.24768611670020121}]
[3,{"$f":"'!2011-07-31_13h17m.Subject 56'!B2:C2","v":"2011-07-31"},{"$f":"('!2011-07-31_13h17m.Subject 56'!F86/60)/'!2011-07-31_13h17m.Subject 56'!Q3","v":2.0481249999999998},{"$f":"'!2011-07-31_13h17m.Subject 56'!N20/'!2011-07-31_13h17m.Subject 56'!Q3","v":0.28749999999999998},{"$f":"SUM('!2011-07-31_13h17m.Subject 56'!L20:Q20)/'!2011-07-31_13h17m.Subject 56'!Q3","v":2.15},{"$f":"'!2011-07-31_13h17m.Subject 56'!Q16","v":0.29989652102756825},null,null,null,"CCRF",{"$f":"AVERAGE(E3:E7)","v":2.0662427749042984},{"$f":"AVERAGE(E8:E12)","v":2.6896056029101758},{"$f":"AVERAGE(E13:E17)","v":2.8905021924381566},{"$f":"AVERAGE(E18:E22)","v":2.7029713736345706},{"$f":"AVERAGE(E23:E27)","v":2.729392323112342},{"$f":"AVERAGE(E28:E32)","v":2.4372608987256874}]
[4,{"$f":"'!2011-08-01_12h05m.Subject 56'!B2:C2","v":"2011-08-01"},{"$f":"('!2011-08-01_12h05m.Subject 56'!F67/60)/'!2011-08-01_12h05m.Subject 56'!Q3","v":1.9322404371584698},{"$f":"'!2011-08-01_12h05m.Subject 56'!N20/'!2011-08-01_12h05m.Subject 56'!Q3","v":0.13114754098360656},{"$f":"SUM('!2011-08-01_12h05m.Subject 56'!L20:Q20)/'!2011-08-01_12h05m.Subject 56'!Q3","v":2.2950819672131146},{"$f":"'!2011-08-01_12h05m.Subject 56'!Q16","v":0.2743317683334856},null,null,null,"U Value",{"$f":"AVERAGE(F3:F7)","v":0.27371492986778156},{"$f":"AVERAGE(F8:F12)","v":0.22469531598362549},{"$f":"AVERAGE(F13:F17)","v":0.19974226046328744},{"$f":"AVERAGE(F18:F22)","v":0.14999863462341365},{"$f":"AVERAGE(F23:F27)","v":0.16076003516881884},{"$f":"AVERAGE(F28:F32)","v":0.22434383303916117}]
[5,{"$f":"'!2011-08-02_11h46m.Subject 56'!B2:C2","v":"2011-08-02"},{"$f":"('!2011-08-02_11h46m.Subject 56'!F61/60)/'!2011-08-02_11h46m.Subject 56'!Q3","v":1.9224242424242424},{"$f":"'!2011-08-02_11h46m.Subject 56'!N20/'!2011-08-02_11h46m.Subject 56'!Q3","v":0.21818181818181817},{"$f":"SUM('!2011-08-02_11h46m.Subject 56'!L20:Q20)/'!2011-08-02_11h46m.Subject 56'!Q3","v":2.581818181818182},{"$f":"'!2011-08-02_11h46m.Subject 56'!Q16","v":0.18893985755057149}]
[6,{"$f":"'!L803B40.056'!B2:C2","v":"<date>"},{"$f":"('!L803B40.056'!F51/60)/'!L803B40.056'!Q3","v":1.8066666666666666},{"$f":"'!L803B40.056'!N20/'!L803B40.056'!Q3","v":4.4444444444444446E-2},{"$f":"SUM('!L803B40.056'!L20:Q20)/'!L803B40.056'!Q3","v":2.8666666666666667},{"$f":"'!L803B40.056'!Q16","v":0.13052168153465332}]
[7,{"$f":"'!L804D00.056'!B2:C2","v":"<date>"},{"$f":"('!L804D00.056'!F67/60)/'!L804D00.056'!Q3","v":2.0207650273224043},{"$f":"'!L804D00.056'!N20/'!L804D00.056'!Q3","v":0.19672131147540983},{"$f":"SUM('!L804D00.056'!L20:Q20)/'!L804D00.056'!Q3","v":2.360655737704918},{"$f":"'!L804D00.056'!Q16","v":0.22632384454095131},{"$f":"K3","v":2.1125265633675228},1.9385121726131218,1.9343931956279932,1.9008124026914968,1.9842058638604052,2.0518099113197703,{"$f":"K4","v":0.22582338817295425},0.22502898692717502,0.17695595819199691,0.13448258223580206,0.11881969565452137,0.24768611670020121,{"$f":"K6","v":0.27371492986778156},{"$f":"L6","v":0.22469531598362549},0.19974226046328744,0.14999863462341365,0.16076003516881884,0.22434383303916117]
[8,{"$f":"'!L805B40.056'!B2:C2","v":"<date>"},{"$f":"('!L805B40.056'!F76/60)/'!L805B40.056'!Q3","v":1.9892857142857143},{"$f":"'!L805B40.056'!N20/'!L805B40.056'!Q3","v":0.27142857142857141},{"$f":"SUM('!L805B40.056'!L20:Q20)/'!L805B40.056'!Q3","v":3.7571428571428571},{"$f":"'!L805B40.056'!Q16","v":0.27667458192065086}]
[9,{"$f":"'!L806B10.056'!B2:C2","v":"<date>"},{"$f":"('!L806B10.056'!F82/60)/'!L806B10.056'!Q3","v":1.9412280701754385},{"$f":"'!L806B10.056'!N20/'!L806B10.056'!Q3","v":0.28947368421052633},{"$f":"SUM('!L806B10.056'!L20:Q20)/'!L806B10.056'!Q3","v":2.0789473684210527},{"$f":"'!L806B10.056'!Q16","v":0.27450807178481901}]
[10,{"$f":"'!L807C50.056'!B2:C2","v":"<date>"},{"$f":"('!L807C50.056'!F71/60)/'!L807C50.056'!Q3","v":1.9346153846153846},{"$f":"'!L807C50.056'!N20/'!L807C50.056'!Q3","v":0.32307692307692309},{"$f":"SUM('!L807C50.056'!L20:Q20)/'!L807C50.056'!Q3","v":2.3846153846153846},{"$f":"'!L807C50.056'!Q16","v":0.21544840013705291}]
[11,{"$f":"'!L808C40.056'!B2:C2","v":"<date>"},{"$f":"('!L808C40.056'!F57/60)/'!L808C40.056'!Q3","v":1.8330065359477123},{"$f":"'!L808C40.056'!N20/'!L808C40.056'!Q3","v":5.8823529411764705E-2},{"$f":"SUM('!L808C40.056'!L20:Q20)/'!L808C40.056'!Q3","v":2.5882352941176472},{"$f":"'!L808C40.056'!Q16","v":0.17978337602080238}]
[12,{"$f":"'!L809C30.056'!B2:C2","v":"<date>"},{"$f":"('!L809C30.056'!F60/60)/'!L809C30.056'!Q3","v":2.0595679012345678},{"$f":"'!L809C30.056'!N20/'!L809C30.056'!Q3","v":0.12962962962962962},{"$f":"SUM('!L809C30.056'!L20:Q20)/'!L809C30.056'!Q3","v":4.3703703703703702},{"$f":"'!L809C30.056'!Q16","v":0.2143932130070946}]
[13,{"$f":"'!L810D50.056'!B2:C2","v":"<date>"},{"$f":"('!L810D50.056'!F60/60)/'!L810D50.056'!Q3","v":1.9753086419753088},{"$f":"'!L810D50.056'!N20/'!L810D50.056'!Q3","v":0.16666666666666666},{"$f":"SUM('!L810D50.056'!L20:Q20)/'!L810D50.056'!Q3","v":2.574074074074074},{"$f":"'!L810D50.056'!Q16","v":0.19744079460087111}]
[14,{"$f":"'!L811C10.056'!B2:C2","v":"<date>"},{"$f":"('!L811C10.056'!F85/60)/'!L811C10.056'!Q3","v":1.9383966244725737},{"$f":"'!L811C10.056'!N20/'!L811C10.056'!Q3","v":0.39240506329113922},{"$f":"SUM('!L811C10.056'!L20:Q20)/'!L811C10.056'!Q3","v":2.2531645569620253},{"$f":"'!L811C10.056'!Q16","v":0.23852790613739394}]
[15,{"$f":"'!L812B30.056'!B2:C2","v":"<date>"},{"$f":"('!L812B30.056'!F57/60)/'!L812B30.056'!Q3","v":1.865686274509804},{"$f":"'!L812B30.056'!N20/'!L812B30.056'!Q3","v":0.13725490196078433},{"$f":"SUM('!L812B30.056'!L20:Q20)/'!L812B30.056'!Q3","v":2.6666666666666665},{"$f":"'!L812B30.056'!Q16","v":0.16856601255027515}]
[16,{"$f":"'!L813A20.056'!B2:C2","v":"<date>"},{"$f":"('!L813A20.056'!F67/60)/'!L813A20.056'!Q3","v":1.9797814207650273},{"$f":"'!L813A20.056'!N20/'!L813A20.056'!Q3","v":0.32786885245901637},{"$f":"SUM('!L813A20.056'!L20:Q20)/'!L813A20.056'!Q3","v":2.4918032786885247},{"$f":"'!L813A20.056'!Q16","v":0.1726467991621268}]
[17,{"$f":"'!L814B30.056'!B2:C2","v":"<date>"},{"$f":"('!L814B30.056'!F60/60)/'!L814B30.056'!Q3","v":1.9493827160493826},{"$f":"'!L814B30.056'!N20/'!L814B30.056'!Q3","v":9.2592592592592587E-2},{"$f":"SUM('!L814B30.056'!L20:Q20)/'!L814B30.056'!Q3","v":2.5},{"$f":"'!L814B30.056'!Q16","v":0.20795745956741166}]
[18,{"$f":"'!L815B30.056'!B2:C2","v":"<date>"},{"$f":"('!L815B30.056'!F49/60)/'!L815B30.056'!Q3","v":1.8697674418604653},{"$f":"'!L815B30.056'!N20/'!L815B30.056'!Q3","v":2.3255813953488372E-2},{"$f":"SUM('!L815B30.056'!L20:Q20)/'!L815B30.056'!Q3","v":2.9534883720930232},{"$f":"'!L815B30.056'!Q16","v":7.9082455473912391E-2}]
[19,{"$f":"'!L816B00.056'!B2:C2","v":"<date>"},{"$f":"('!L816B00.056'!F52/60)/'!L816B00.056'!Q3","v":1.8557971014492751},{"$f":"'!L816B00.056'!N20/'!L816B00.056'!Q3","v":0.10869565217391304},{"$f":"SUM('!L816B00.056'!L20:Q20)/'!L816B00.056'!Q3","v":2.8695652173913042},{"$f":"'!L816B00.056'!Q16","v":0.11648550551788885}]
[20,{"$f":"'!L817B10.056'!B2:C2","v":"<date>"},{"$f":"('!L817B10.056'!F56/60)/'!L817B10.056'!Q3","v":1.8493333333333333},{"$f":"'!L817B10.056'!N20/'!L817B10.056'!Q3","v":0.12},{"$f":"SUM('!L817B10.056'!L20:Q20)/'!L817B10.056'!Q3","v":2.7},{"$f":"'!L817B10.056'!Q16","v":0.17382095339572856}]
[21,{"$f":"'!L818E10.056'!B2:C2","v":"<date>"},{"$f":"('!L818E10.056'!F59/60)/'!L818E10.056'!Q3","v":1.9301886792452829},{"$f":"'!L818E10.056'!N20/'!L818E10.056'!Q3","v":0.11320754716981132},{"$f":"SUM('!L818E10.056'!L20:Q20)/'!L818E10.056'!Q3","v":2.5471698113207548},{"$f":"'!L818E10.056'!Q16","v":0.19659777565967226}]
[22,{"$f":"'!L819A40.056'!B2:C2","v":"<date>"},{"$f":"('!L819A40.056'!F48/60)/'!L819A40.056'!Q3","v":1.8460317460317459},{"$f":"'!L819A40.056'!N20/'!L819A40.056'!Q3","v":2.3809523809523808E-2},{"$f":"SUM('!L819A40.056'!L20:Q20)/'!L819A40.056'!Q3","v":3.0238095238095237},{"$f":"'!L819A40.056'!Q16","v":6.0051078206022804E-2}]
[23,{"$f":"'!L820B00.056'!B2:C2","v":"<date>"},{"$f":"('!L820B00.056'!F61/60)/'!L820B00.056'!Q3","v":2.0857575757575759},{"$f":"'!L820B00.056'!N20/'!L820B00.056'!Q3","v":9.0909090909090912E-2},{"$f":"SUM('!L820B00.056'!L20:Q20)/'!L820B00.056'!Q3","v":2.6363636363636362},{"$f":"'!L820B00.056'!Q16","v":0.18953936604869578}]
[24,{"$f":"'!L821C50.056'!B2:C2","v":"<date>"},{"$f":"('!L821C50.056'!F54/60)/'!L821C50.056'!Q3","v":1.840972222222222},{"$f":"'!L821C50.056'!N20/'!L821C50.056'!Q3","v":0.14583333333333334},{"$f":"SUM('!L821C50.056'!L20:Q20)/'!L821C50.056'!Q3","v":2.8125},{"$f":"'!L821C50.056'!Q16","v":0.13260903639358756}]
[25,{"$f":"'!L822C30.056'!B2:C2","v":"<date>"},{"$f":"('!L822C30.056'!F65/60)/'!L822C30.056'!Q3","v":2.2180790960451979},{"$f":"'!L822C30.056'!N20/'!L822C30.056'!Q3","v":0.22033898305084745},{"$f":"SUM('!L822C30.056'!L20:Q20)/'!L822C30.056'!Q3","v":2.6271186440677967},{"$f":"'!L822C30.056'!Q16","v":0.22500291953611581}]
[26,{"$f":"'!L823C30.056'!B2:C2","v":"<date>"},{"$f":"('!L823C30.056'!F69/60)/'!L823C30.056'!Q3","v":2.0494708994708994},{"$f":"'!L823C30.056'!N20/'!L823C30.056'!Q3","v":0.2857142857142857},{"$f":"SUM('!L823C30.056'!L20:Q20)/'!L823C30.056'!Q3","v":2.5555555555555554},{"$f":"'!L823C30.056'!Q16","v":0.2247475053743466}]
[27,{"$f":"'!L824C30.056'!B2:C2","v":"<date>"},{"$f":"('!L824C30.056'!F76/60)/'!L824C30.056'!Q3","v":2.1228571428571428},{"$f":"'!L824C30.056'!N20/'!L824C30.056'!Q3","v":0.25714285714285712},{"$f":"SUM('!L824C30.056'!L20:Q20)/'!L824C30.056'!Q3","v":2.3285714285714287},{"$f":"'!L824C30.056'!Q16","v":0.25132239203518536}]
[28,{"$f":"'!L825D20.056'!B2:C2","v":"<date>"},{"$f":"('!L825D20.056'!F69/60)/'!L825D20.056'!Q3","v":2.0558201058201062},{"$f":"'!L825D20.056'!N20/'!L825D20.056'!Q3","v":0.2857142857142857},{"$f":"SUM('!L825D20.056'!L20:Q20)/'!L825D20.056'!Q3","v":2.3968253968253967},{"$f":"'!L825D20.056'!Q16","v":0.21743174074396784}]
[29,{"$f":"'!L826A10.056'!B2:C2","v":"<date>"},{"$f":"('!L826A10.056'!F77/60)/'!L826A10.056'!Q3","v":2.1835680751173707},{"$f":"'!L826A10.056'!N20/'!L826A10.056'!Q3","v":0.30985915492957744},{"$f":"SUM('!L826A10.056'!L20:Q20)/'!L826A10.056'!Q3","v":2.2253521126760565},{"$f":"'!L826A10.056'!Q16","v":0.24766311175102904}]
[30,{"$f":"'!L829C30.056'!B2:C2","v":"<date>"},{"$f":"('!L829C30.056'!F56/60)/'!L829C30.056'!Q3","v":1.8473333333333333},{"$f":"'!L829C30.056'!N20/'!L829C30.056'!Q3","v":0.1},{"$f":"SUM('!L829C30.056'!L20:Q20)/'!L829C30.056'!Q3","v":2.68},{"$f":"'!L829C30.056'!Q16","v":0.18055441529127689}]
[null,{"$f":"'!L830C50.056'!B2:C2","v":"<date>"},{"$f":"('!L830C50.056'!F62/60)/'!L830C50.056'!Q3","v":2.0238095238095237},{"$f":"'!L830C50.056'!N20/'!L830C50.056'!Q3","v":0.26785714285714285},{"$f":"SUM('!L830C50.056'!L20:Q20)/'!L830C50.056'!Q3","v":2.6071428571428572},{"$f":"'!L830C50.056'!Q16","v":0.16521965195967017}]

{"sheet":"Start","index":2,"n_rows":37,"n_cols":10,"rows_kept":37,"cut":false,"hidden":false,"merged":[]}
[null,null,null,null,null,"Use Folder 51",null,"Auto Clean Up",null,"Correct sequence"]
[null,null,null,null,null,false,null,true,null,122]
[]
["Working with Folder",null,null,null,null,null,"Process All/Or Pick A number: ALL or an integer"]
["E:\\Hen Data\\Raw Data\\56\\Phase 2 CON\\",null,null,null,null,null,"ALL"]
["Filenames:"]
["!L803B40.056",null,null,null,null,null,"Paint Cells"]
["!L804D00.056",null,null,null,null,null,false]
["!L805B40.056"]
["!L806B10.056"]
["!L807C50.056"]
["!L808C40.056"]
["!L809C30.056"]
["!L810D50.056"]
["!L811C10.056"]
["!L812B30.056"]
["!L813A20.056"]
["!L814B30.056"]
["!L815B30.056"]
["!L816B00.056"]
["!L817B10.056"]
["!L818E10.056"]
["!L819A40.056"]
["!L820B00.056"]
["!L821C50.056"]
["!L822C30.056"]
["!L823C30.056"]
["!L824C30.056"]
["!L825D20.056"]
["!L826A10.056"]
["!L829C30.056"]
["!L830C50.056"]
["!2011-07-29_11h41m.Subject 56"]
["!2011-07-30_10h31m.Subject 55"]
["!2011-07-31_13h17m.Subject 56"]
["!2011-08-01_12h05m.Subject 56"]
["!2011-08-02_11h46m.Subject 56"]

{"sheet":"!2011-07-29_11h41m.Subject 56","index":3,"n_rows":159,"n_cols":48,"rows_kept":159,"cut":false,"hidden":false,"merged":[[1,1,1,2],[5,13,5,14],[18,13,18,14],[19,13,19,14],[4,19,4,22],[5,19,5,20],[4,39,4,42],[5,39,5,40],[4,44,4,47],[5,44,5,45],[4,24,4,27],[5,24,5,25],[4,29,4,32],[5,29,5,30],[4,34,4,37],[5,34,5,35]]}
["Report for:!2011-07-29_11h41m.Subject 56"]
["Date","2011-07-29",null,null,null,"Group","Phase 2 Con"]
["Hen",56,null,null,null,"Correct Sequence",{"$f":"Start!J2","v":122},null,null,null,null,null,null,null,null,"Total Sequences in Data",{"$f":"4994-COUNTBLANK(L7:L5000)","v":153},null,null,null,null,"Total Sequences in Block Data",{"$f":"COUNTA(L7:L32)","v":26},null,null,null,"Total Sequences in Block Data",{"$f":"COUNTA(L33:L57)","v":25},null,null,null,"Total Sequences in Block Data",{"$f":"COUNTA(L58:L83)","v":26},null,null,null,"Total Sequences in Block Data",{"$f":"COUNTA(L84:L108)","v":25},null,null,null,"Total Sequences in Block Data",{"$f":"COUNTA(L109:L134)","v":26},null,null,null,"Total Sequences in Block Data",{"$f":"COUNTA(L135:L159)","v":25}]
["Program","One",null,null,null,null,null,null,null,null,null,null,null,null,null,"Total Sequences in Summary",{"$f":"SUM(O7:O14)","v":153},null,null,null,null,"Total Sequences in Block Summary",{"$f":"SUM(U7:U14)","v":26},null,null,null,"Total Sequences in Block Summary",{"$f":"SUM(Z7:Z14)","v":25},null,null,null,"Total Sequences in Block Summary",{"$f":"SUM(AE7:AE14)","v":26},null,null,null,"Total Sequences in Block Summary",{"$f":"SUM(AJ7:AJ14)","v":25},null,null,null,"Total Sequences in Block Summary",{"$f":"SUM(AO7:AO14)","v":26},null,null,null,"Total Sequences in Block Summary",{"$f":"SUM(AT7:AT14)","v":25}]
[null,null,null,null,null,null,null,null,null,null,null,null,null,null,null,null,null,null,null,"Block 1",null,null,null,null,"Block 2",null,null,null,null,"Block 3",null,null,null,null,"Block 4",null,null,null,null,"Block 5",null,null,null,null,"Block 6"]
["Sequence\nComponent\n1","Time\n1","Sequence\nComponent\n2","Time\n2","Sequence\nComponent\n3","Time\n3","Sequence\nComponent\n4","Time\n4","Sequence\nComponent\n5","Time\n5","Correct?\n0=No 1=Yes","Sequence",null,"Frequency",null,"Relative Frequency","Variability",null,null,"Frequency",null,"Relative Frequency","Variability",null,"Frequency",null,"Relative Frequency","Variability",null,"Frequency",null,"Relative Frequency","Variability",null,"Frequency",null,"Relative Frequency","Variability",null,"Frequency",null,"Relative Frequency","Variability",null,"Frequency",null,"Relative Frequency","Variability"]
[22,11,13,27,14,32,null,null,null,null,0,211,null,111,{"$f":"COUNTIF($L$7:$L$500,N7)","v":15},{"$f":"O7/$Q$4","v":9.8039215686274508E-2},{"$f":"IF(P7=0,0,(P7*((LOG(P7))/LOG(2))))","v":-0.32848012226315026},null,null,{"$f":"N7","v":111},{"$f":"COUNTIF(L7:L32,T7)","v":8},{"$f":"U7/(W4-U10)","v":0.4},{"$f":"IF(V7=0,0,(V7*((LOG(V7))/LOG(2))))","v":-0.52877123795494496},null,{"$f":"N7","v":111},{"$f":"COUNTIF(L33:L57,Y7)","v":1},{"$f":"Z7/(AB4-Z10)","v":6.6666666666666666E-2},{"$f":"IF(AA7=0,0,(AA7*((LOG(AA7))/LOG(2))))","v":-0.26045937304056793},null,{"$f":"N7","v":111},{"$f":"COUNTIF(L58:L83,AD7)","v":2},{"$f":"AE7/(AG4-AE10)","v":0.11764705882352941},{"$f":"IF(AF7=0,0,(AF7*((LOG(AF7))/LOG(2))))","v":-0.36323092250003997},null,{"$f":"N7","v":111},{"$f":"COUNTIF(L84:L108,AI7)","v":0},{"$f":"AJ7/(AL4-AJ10)","v":0},{"$f":"IF(AK7=0,0,(AK7*((LOG(AK7))/LOG(2))))","v":0},null,{"$f":"N7","v":111},{"$f":"COUNTIF(L109:L134,AN7)","v":0},{"$f":"AO7/(AQ4-AO10)","v":0},{"$f":"IF(AP7=0,0,(AP7*((LOG(AP7))/LOG(2))))","v":0},null,{"$f":"N7","v":111},{"$f":"COUNTIF(L135:L159,AS7)","v":4},{"$f":"AT7/(AV4-AT10)","v":0.25},{"$f":"IF(AU7=0,0,(AU7*((LOG(AU7))/LOG(2))))","v":-0.5}]
[22,134,13,145,14,150,null,null,null,null,0,211,null,112,40,0.26143790849673204,-0.50600254844582726,null,null,112,{"$f":"COUNTIF(L7:L32,T8)","v":3},{"$f":"U8/(W4-U10)","v":0.15},{"$f":"IF(V8=0,0,(V8*((LOG(V8))/LOG(2))))","v":-0.41054483912493089},null,112,{"$f":"COUNTIF(L33:L57,Y8)","v":4},{"$f":"Z8/(AB4-Z10)","v":0.26666666666666666},{"$f":"IF(AA8=0,0,(AA8*((LOG(AA8))/LOG(2))))","v":-0.50850415882893829},null,112,{"$f":"COUNTIF(L58:L83,AD8)","v":9},{"$f":"AE8/(AG4-AE10)","v":0.52941176470588236},{"$f":"IF(AF8=0,0,(AF8*((LOG(AF8))/LOG(2))))","v":-0.48575532695719081},null,112,{"$f":"COUNTIF(L84:L108,AI8)","v":2},{"$f":"AJ8/(AL4-AJ10)","v":0.18181818181818182},{"$f":"IF(AK8=0,0,(AK8*((LOG(AK8))/LOG(2))))","v":-0.44716938520678134},null,112,{"$f":"COUNTIF(L109:L134,AN8)","v":14},{"$f":"AO8/(AQ4-AO10)","v":0.93333333333333335},{"$f":"IF(AP8=0,0,(AP8*((LOG(AP8))/LOG(2))))","v":-9.2899961980853443E-2},null,112,{"$f":"COUNTIF(L135:L159,AS8)","v":8},{"$f":"AT8/(AV4-AT10)","v":0.5},{"$f":"IF(AU8=0,0,(AU8*((LOG(AU8))/LOG(2))))","v":-0.5}]
[11,275,11,281,12,289,null,null,null,null,0,111,null,121,3,1.9607843137254902E-2,-0.11122402631316657,null,null,121,{"$f":"COUNTIF(L7:L32,T9)","v":1},{"$f":"U9/(W4-U10)","v":0.05},{"$f":"IF(V9=0,0,(V9*((LOG(V9))/LOG(2))))","v":-0.21609640474436814},null,121,{"$f":"COUNTIF(L33:L57,Y9)","v":0},{"$f":"Z9/(AB4-Z10)","v":0},{"$f":"IF(AA9=0,0,(AA9*((LOG(AA9))/LOG(2))))","v":0},null,121,{"$f":"COUNTIF(L58:L83,AD9)","v":0},{"$f":"AE9/(AG4-AE10)","v":0},{"$f":"IF(AF9=0,0,(AF9*((LOG(AF9))/LOG(2))))","v":0},null,121,{"$f":"COUNTIF(L84:L108,AI9)","v":1},{"$f":"AJ9/(AL4-AJ10)","v":9.0909090909090912E-2},{"$f":"IF(AK9=0,0,(AK9*((LOG(AK9))/LOG(2))))","v":-0.31449378351248153},null,121,{"$f":"COUNTIF(L109:L134,AN9)","v":1},{"$f":"AO9/(AQ4-AO10)","v":6.6666666666666666E-2},{"$f":"IF(AP9=0,0,(AP9*((LOG(AP9))/LOG(2))))","v":-0.26045937304056793},null,121,{"$f":"COUNTIF(L135:L159,AS9)","v":0},{"$f":"AT9/(AV4-AT10)","v":0},{"$f":"IF(AU9=0,0,(AU9*((LOG(AU9))/LOG(2))))","v":0}]
[11,393,11,399,12,413,null,null,null,null,0,111,null,122,59,0.38562091503267976,-0.53013034514063928,null,null,122,{"$f":"COUNTIF(L7:L32,T10)","v":6},null,null,null,122,{"$f":"COUNTIF(L33:L57,Y10)","v":10},null,null,null,122,{"$f":"COUNTIF(L58:L83,AD10)","v":9},null,null,null,122,{"$f":"COUNTIF(L84:L108,AI10)","v":14},null,null,null,122,{"$f":"COUNTIF(L109:L134,AN10)","v":11},null,null,null,122,{"$f":"COUNTIF(L135:L159,AS10)","v":9}]
[11,532,11,545,12,552,null,null,null,null,0,111,null,211,4,2.6143790849673203E-2,-0.13744804817497128,null,null,211,{"$f":"COUNTIF(L7:L32,T11)","v":4},{"$f":"U11/(W4-U10)","v":0.2},{"$f":"IF(V11=0,0,(V11*((LOG(V11))/LOG(2))))","v":-0.46438561897747244},null,211,{"$f":"COUNTIF(L33:L57,Y11)","v":0},{"$f":"Z11/(AB4-Z10)","v":0},{"$f":"IF(AA11=0,0,(AA11*((LOG(AA11))/LOG(2))))","v":0},null,211,{"$f":"COUNTIF(L58:L83,AD11)","v":0},{"$f":"AE11/(AG4-AE10)","v":0},{"$f":"IF(AF11=0,0,(AF11*((LOG(AF11))/LOG(2))))","v":0},null,211,{"$f":"COUNTIF(L84:L108,AI11)","v":0},{"$f":"AJ11/(AL4-AJ10)","v":0},{"$f":"IF(AK11=0,0,(AK11*((LOG(AK11))/LOG(2))))","v":0},null,211,{"$f":"COUNTIF(L109:L134,AN11)","v":0},{"$f":"AO11/(AQ4-AO10)","v":0},{"$f":"IF(AP11=0,0,(AP11*((LOG(AP11))/LOG(2))))","v":0},null,211,{"$f":"COUNTIF(L135:L159,AS11)","v":0},{"$f":"AT11/(AV4-AT10)","v":0},{"$f":"IF(AU11=0,0,(AU11*((LOG(AU11))/LOG(2))))","v":0}]
[22,654,13,669,14,674,null,null,null,null,0,211,null,212,0,0,0,null,null,212,{"$f":"COUNTIF(L7:L32,T12)","v":0},{"$f":"U12/(W4-U10)","v":0},{"$f":"IF(V12=0,0,(V12*((LOG(V12))/LOG(2))))","v":0},null,212,{"$f":"COUNTIF(L33:L57,Y12)","v":0},{"$f":"Z12/(AB4-Z10)","v":0},{"$f":"IF(AA12=0,0,(AA12*((LOG(AA12))/LOG(2))))","v":0},null,212,{"$f":"COUNTIF(L58:L83,AD12)","v":0},{"$f":"AE12/(AG4-AE10)","v":0},{"$f":"IF(AF12=0,0,(AF12*((LOG(AF12))/LOG(2))))","v":0},null,212,{"$f":"COUNTIF(L84:L108,AI12)","v":0},{"$f":"AJ12/(AL4-AJ10)","v":0},{"$f":"IF(AK12=0,0,(AK12*((LOG(AK12))/LOG(2))))","v":0},null,212,{"$f":"COUNTIF(L109:L134,AN12)","v":0},{"$f":"AO12/(AQ4-AO10)","v":0},{"$f":"IF(AP12=0,0,(AP12*((LOG(AP12))/LOG(2))))","v":0},null,212,{"$f":"COUNTIF(L135:L159,AS12)","v":0},{"$f":"AT12/(AV4-AT10)","v":0},{"$f":"IF(AU12=0,0,(AU12*((LOG(AU12))/LOG(2))))","v":0}]
[11,788,11,799,12,805,null,null,null,null,0,111,null,221,1,6.5359477124183009E-3,-4.743390746857943E-2,null,null,221,{"$f":"COUNTIF(L7:L32,T13)","v":1},{"$f":"U13/(W4-U10)","v":0.05},{"$f":"IF(V13=0,0,(V13*((LOG(V13))/LOG(2))))","v":-0.21609640474436814},null,221,{"$f":"COUNTIF(L33:L57,Y13)","v":0},{"$f":"Z13/(AB4-Z10)","v":0},{"$f":"IF(AA13=0,0,(AA13*((LOG(AA13))/LOG(2))))","v":0},null,221,{"$f":"COUNTIF(L58:L83,AD13)","v":0},{"$f":"AE13/(AG4-AE10)","v":0},{"$f":"IF(AF13=0,0,(AF13*((LOG(AF13))/LOG(2))))","v":0},null,221,{"$f":"COUNTIF(L84:L108,AI13)","v":0},{"$f":"AJ13/(AL4-AJ10)","v":0},{"$f":"IF(AK13=0,0,(AK13*((LOG(AK13))/LOG(2))))","v":0},null,221,{"$f":"COUNTIF(L109:L134,AN13)","v":0},{"$f":"AO13/(AQ4-AO10)","v":0},{"$f":"IF(AP13=0,0,(AP13*((LOG(AP13))/LOG(2))))","v":0},null,221,{"$f":"COUNTIF(L135:L159,AS13)","v":0},{"$f":"AT13/(AV4-AT10)","v":0},{"$f":"IF(AU13=0,0,(AU13*((LOG(AU13))/LOG(2))))","v":0}]
[11,928,22,939,14,955,null,null,null,null,0,121,null,222,31,0.20261437908496732,-0.46665972223188934,null,null,222,{"$f":"COUNTIF(L7:L32,T14)","v":3},{"$f":"U14/(W4-U10)","v":0.15},{"$f":"IF(V14=0,0,(V14*((LOG(V14))/LOG(2))))","v":-0.41054483912493089},null,222,{"$f":"COUNTIF(L33:L57,Y14)","v":10},{"$f":"Z14/(AB4-Z10)","v":0.66666666666666663},{"$f":"IF(AA14=0,0,(AA14*((LOG(AA14))/LOG(2))))","v":-0.38997500048077083},null,222,{"$f":"COUNTIF(L58:L83,AD14)","v":6},{"$f":"AE14/(AG4-AE10)","v":0.35294117647058826},{"$f":"IF(AF14=0,0,(AF14*((LOG(AF14))/LOG(2))))","v":-0.53029423783382934},null,222,{"$f":"COUNTIF(L84:L108,AI14)","v":8},{"$f":"AJ14/(AL4-AJ10)","v":0.72727272727272729},{"$f":"IF(AK14=0,0,(AK14*((LOG(AK14))/LOG(2))))","v":-0.33413208628167068},null,222,{"$f":"COUNTIF(L109:L134,AN14)","v":0},{"$f":"AO14/(AQ4-AO10)","v":0},{"$f":"IF(AP14=0,0,(AP14*((LOG(AP14))/LOG(2))))","v":0},null,222,{"$f":"COUNTIF(L135:L159,AS14)","v":4},{"$f":"AT14/(AV4-AT10)","v":0.25},{"$f":"IF(AU14=0,0,(AU14*((LOG(AU14))/LOG(2))))","v":-0.5}]
[22,1078,13,1100,14,1107,null,null,null,null,0,211,null,null,null,{"$f":"SUM(P7:P14)","v":1},{"$f":"-SUM(Q7:Q14)","v":2.1273787200382235},null,null,null,null,{"$f":"SUM(V7:V14)","v":1},{"$f":"-SUM(W7:W14)","v":2.2464393446710154},null,null,null,{"$f":"SUM(AA7:AA14)","v":1},{"$f":"-SUM(AB7:AB14)","v":1.1589385323502772},null,null,null,{"$f":"SUM(AF7:AF14)","v":1},{"$f":"-SUM(AG7:AG14)","v":1.37928048729106},null,null,null,{"$f":"SUM(AK7:AK14)","v":1},{"$f":"-SUM(AL7:AL14)","v":1.0957952550009336},null,null,null,{"$f":"SUM(AP7:AP14)","v":1},{"$f":"-SUM(AQ7:AQ14)","v":0.35335933502142136},null,null,null,{"$f":"SUM(AU7:AU14)","v":1},{"$f":"-SUM(AV7:AV14)","v":1.5}]
[11,1214,22,1235,23,1243,null,null,null,null,0,122,null,null,null,"U=",{"$f":"Q15/(LOG(Q4)/LOG(2))","v":0.29313284147825269},null,null,null,null,"U1=",{"$f":"W15/(LOG(W4)/LOG(2))","v":0.47792110512576191},null,null,null,"U2=",{"$f":"AB15/(LOG(AB4)/LOG(2))","v":0.24956382906562352},null,null,null,"U3=",{"$f":"AG15/(LOG(AG4)/LOG(2))","v":0.29343648041433268},null,null,null,"U4=",{"$f":"AL15/(LOG(AL4)/LOG(2))","v":0.23596666438847902},null,null,null,"U5=",{"$f":"AQ15/(LOG(AQ4)/LOG(2))","v":7.5175804012048111E-2},null,null,null,"U6=",{"$f":"AV15/(LOG(AV4)/LOG(2))","v":0.32300741855504472}]
[11,1347,11,1356,12,1409,null,null,null,null,0,111]
[22,1543,24,1556,14,1571,null,null,null,null,0,221]
[22,1701,24,1706,23,1717,null,null,null,null,0,222,null,"Total Target Seq"]
[11,1843,11,1849,21,1859,null,null,null,null,0,112,null,{"$f":"COUNTIF(L7:L159,G3)","v":59},null,26,25,26,25,26,25]
[11,1965,22,1975,23,1984,null,null,null,null,0,122,null,null,null,"% of reinforcement given in 6 equal intervals based on number of trials "]
[11,2114,22,2126,23,2151,null,null,null,null,0,122,null,null,null,"%_1","%_2","%_3","%_4","%_5","%_6"]
[22,2274,24,2278,23,2283,null,null,null,null,0,222,null,null,"target sequence",{"$f":"$G$3","v":122},122,122,122,122,122]
[22,2423,24,2433,23,2440,null,null,null,null,0,222,null,null,"total reinforcement",{"$f":"U10","v":6},{"$f":"Z10","v":10},{"$f":"AE10","v":9},{"$f":"AJ10","v":14},{"$f":"AO10","v":11},{"$f":"AT10","v":9}]
[11,2554,22,2567,23,2580,null,null,null,null,0,122,null,null,"% target"]
[11,2701,22,2712,23,2750,null,null,null,null,0,122,null,null,"CCRF"]
[11,2867,11,2884,21,2894,null,null,null,null,0,112,null,null,"% CCRf"]
[11,2993,11,3000,21,3059,null,null,null,null,0,112,null,null,"average response rate",{"$f":"F32/P20","v":137.53846153846155},{"$f":"(F57-F32)/Q20","v":141.84},{"$f":"(F83-F57)/R20","v":137.38461538461539},{"$f":"(F108-F83)/S20","v":137.6},{"$f":"(F134-F108)/T20","v":125.19230769230769},{"$f":"(F159-F134)/U20","v":127.4}]
[11,3170,22,3180,23,3198,null,null,null,null,0,122]
[11,3312,11,3319,12,3328,null,null,null,null,0,111]
[11,3431,11,3446,12,3453,null,null,null,null,0,111]
[11,3559,11,3565,12,3576,null,null,null,null,0,111]
[11,3679,11,3688,21,3698,null,null,null,null,0,112]
[22,3822,24,3829,23,3838,null,null,null,null,0,222]
[11,3940,11,3954,12,3971,null,null,null,null,0,111]
[11,4070,11,4079,21,4090,null,null,null,null,0,112]
[11,4187,22,4205,23,4219,null,null,null,null,0,122]
[22,4346,24,4354,23,4362,null,null,null,null,0,222]
[11,4474,22,4487,23,4511,null,null,null,null,0,122]
[11,4621,22,4630,23,4638,null,null,null,null,0,122]
[22,4769,24,4777,23,4815,null,null,null,null,0,222]
[22,4967,24,4976,23,4986,null,null,null,null,0,222]
[22,5101,24,5106,23,5120,null,null,null,null,0,222]
[11,5238,22,5251,23,5258,null,null,null,null,0,122]
[11,5359,11,5374,21,5384,null,null,null,null,0,112]
[22,5493,24,5500,23,5507,null,null,null,null,0,222]
[11,5613,11,5625,21,5643,null,null,null,null,0,112]
[11,5734,22,5749,23,5755,null,null,null,null,0,122]
[22,5868,24,5879,23,5886,null,null,null,null,0,222]
[22,5999,24,6012,23,6039,null,null,null,null,0,222]
[11,6147,22,6161,23,6238,null,null,null,null,0,122]
[22,6360,24,6365,23,6371,null,null,null,null,0,222]
[11,6481,22,6495,23,6501,null,null,null,null,0,122]
[22,6618,24,6627,23,6635,null,null,null,null,0,222]
[11,6735,22,6773,23,6812,null,null,null,null,0,122]
[11,6937,22,6949,23,6956,null,null,null,null,0,122]
[11,7076,22,7085,23,7122,null,null,null,null,0,122]
[22,7237,24,7274,23,7294,null,null,null,null,0,222]
[11,7421,22,7444,23,7449,null,null,null,null,0,122]
[11,7551,22,7573,23,7578,null,null,null,null,0,122]
[11,7696,22,7706,23,7713,null,null,null,null,0,122]
[22,7849,24,7854,23,7860,null,null,null,null,0,222]
[11,7966,22,7979,23,7983,null,null,null,null,0,122]
[11,8095,11,8103,21,8113,null,null,null,null,0,112]
[11,8206,11,8220,21,8245,null,null,null,null,0,112]
[11,8339,11,8358,21,8367,null,null,null,null,0,112]
[11,8458,22,8469,23,8477,null,null,null,null,0,122]
[11,8580,11,8590,12,8601,null,null,null,null,0,111]
[11,8700,11,8709,21,8722,null,null,null,null,0,112]
[11,8812,11,8819,12,8828,null,null,null,null,0,111]
[11,8929,11,8941,21,8956,null,null,null,null,0,112]
[11,9053,11,9068,21,9082,null,null,null,null,0,112]
[11,9170,11,9178,21,9190,null,null,null,null,0,112]
[11,9305,22,9318,23,9325,null,null,null,null,0,122]
[11,9427,22,9440,23,9453,null,null,null,null,0,122]
[11,9554,11,9565,21,9577,null,null,null,null,0,112]
[22,9687,24,9694,23,9775,null,null,null,null,0,222]
[11,9887,11,9898,21,9910,null,null,null,null,0,112]
[11,10000,22,10013,23,10021,null,null,null,null,0,122]
[22,10137,24,10145,23,10200,null,null,null,null,0,222]
[22,10336,24,10380,23,10400,null,null,null,null,0,222]
[11,10519,22,10532,23,10559,null,null,null,null,0,122]
[22,10681,24,10687,23,10694,null,null,null,null,0,222]
[11,10819,22,10832,23,10852,null,null,null,null,0,122]
[11,10966,22,10981,23,11008,null,null,null,null,0,122]
[22,11143,24,11152,23,11199,null,null,null,null,0,222]
[11,11319,22,11331,23,11345,null,null,null,null,0,122]
[11,11466,22,11477,23,11506,null,null,null,null,0,122]
[22,11622,24,11635,23,11649,null,null,null,null,0,222]
[22,11773,24,11777,23,11784,null,null,null,null,0,222]
[22,11910,24,11917,23,11942,null,null,null,null,0,222]
[11,12058,22,12068,23,12073,null,null,null,null,0,122]
[11,12177,22,12194,23,12204,null,null,null,null,0,122]
[11,12308,22,12319,23,12339,null,null,null,null,0,122]
[11,12438,11,12449,21,12459,null,null,null,null,0,112]
[22,12565,24,12570,23,12579,null,null,null,null,0,222]
[22,12697,24,12701,23,12707,null,null,null,null,0,222]
[11,12832,22,12841,23,12849,null,null,null,null,0,122]
[22,12961,24,12969,23,12974,null,null,null,null,0,222]
[11,13078,22,13092,23,13111,null,null,null,null,0,122]
[22,13236,24,13242,23,13256,null,null,null,null,0,222]
[11,13372,22,13384,23,13391,null,null,null,null,0,122]
[11,13492,22,13511,23,13518,null,null,null,null,0,122]
[11,13625,22,13636,23,13653,null,null,null,null,0,122]
[11,13763,22,13778,14,13789,null,null,null,null,0,121]
[11,13887,22,13899,23,13904,null,null,null,null,0,122]
[11,14005,11,14013,21,14025,null,null,null,null,0,112]
[11,14119,22,14129,23,14134,null,null,null,null,0,122]
[11,14234,22,14244,23,14252,null,null,null,null,0,122]
[11,14351,22,14363,23,14385,null,null,null,null,0,122]
[11,14517,22,14527,23,14552,null,null,null,null,0,122]
[11,14651,22,14661,23,14676,null,null,null,null,0,122]
[11,14775,11,14795,21,14804,null,null,null,null,0,112]
[11,14898,11,14907,21,14920,null,null,null,null,0,112]
[11,15014,11,15028,21,15040,null,null,null,null,0,112]
[11,15136,22,15147,23,15153,null,null,null,null,0,122]
[11,15254,22,15264,23,15277,null,null,null,null,0,122]
[11,15374,11,15383,21,15397,null,null,null,null,0,112]
[11,15490,11,15506,21,15517,null,null,null,null,0,112]
[11,15608,11,15613,21,15623,null,null,null,null,0,112]
[11,15713,11,15718,21,15733,null,null,null,null,0,112]
[11,15823,22,15853,23,15862,null,null,null,null,0,122]
[11,15966,22,15976,14,16030,null,null,null,null,0,121]
[11,16131,22,16141,23,16154,null,null,null,null,0,122]
[11,16260,22,16280,23,16287,null,null,null,null,0,122]
[11,16383,22,16394,23,16401,null,null,null,null,0,122]
[11,16500,11,16511,21,16521,null,null,null,null,0,112]
[11,16615,11,16629,21,16641,null,null,null,null,0,112]
[11,16735,11,16743,21,16757,null,null,null,null,0,112]
[11,16866,11,16874,21,16887,null,null,null,null,0,112]
[11,16988,11,16999,21,17010,null,null,null,null,0,112]
[11,17104,22,17119,23,17163,null,null,null,null,0,122]
[11,17261,11,17267,21,17280,null,null,null,null,0,112]
[11,17373,11,17380,21,17389,null,null,null,null,0,112]
[11,17482,11,17491,12,17506,null,null,null,null,0,111]
[11,17604,22,17615,23,17623,null,null,null,null,0,122]
[11,17727,11,17758,21,17781,null,null,null,null,0,112]
[11,17876,11,17882,12,17894,null,null,null,null,0,111]
[11,17997,11,18010,21,18021,null,null,null,null,0,112]
[11,18112,11,18120,21,18129,null,null,null,null,0,112]
[11,18219,11,18232,21,18241,null,null,null,null,0,112]
[22,18337,24,18348,23,18366,null,null,null,null,0,222]
[11,18473,22,18494,23,18501,null,null,null,null,0,122]
[22,18615,24,18622,23,18629,null,null,null,null,0,222]
[11,18735,11,18754,12,18769,null,null,null,null,0,111]
[11,18871,22,18881,23,18892,null,null,null,null,0,122]
[11,18995,22,19005,23,19025,null,null,null,null,0,122]
[22,19147,24,19153,23,19161,null,null,null,null,0,222]
[11,19263,22,19276,23,19281,null,null,null,null,0,122]
[11,19379,22,19390,23,19396,null,null,null,null,0,122]
[11,19498,11,19512,21,19521,null,null,null,null,0,112]
[11,19624,22,19633,23,19663,null,null,null,null,0,122]
[22,19790,24,19796,23,19803,null,null,null,null,0,222]
[11,19906,22,19916,23,19928,null,null,null,null,0,122]
[11,20037,22,20047,23,20059,null,null,null,null,0,122]
[11,20167,11,20181,21,20198,null,null,null,null,0,112]
[11,20290,11,20301,12,20324,null,null,null,null,0,111]
[11,20429,11,20437,21,20456,null,null,null,null,0,112]
[11,20551,11,20561,21,20574,null,null,null,null,1,112]

{"sheet":"!2011-07-30_10h31m.Subject 55","index":4,"n_rows":156,"n_cols":48,"rows_kept":156,"cut":false,"hidden":false,"merged":[[1,1,1,2],[5,13,5,14],[18,13,18,14],[19,13,19,14],[4,19,4,22],[5,19,5,20],[4,39,4,42],[5,39,5,40],[4,44,4,47],[5,44,5,45],[4,24,4,27],[5,24,5,25],[4,29,4,32],[5,29,5,30],[4,34,4,37],[5,34,5,35]]}
["Report for:!2011-07-30_10h31m.Subject 55"]
["Date","2011-07-30",null,null,null,"Group","control phase 3"]
["Hen",55,null,null,null,"Correct Sequence",{"$f":"Start!J2","v":122},null,null,null,null,null,null,null,null,"Total Sequences in Data",{"$f":"4994-COUNTBLANK(L7:L5000)","v":150},null,null,null,null,"Total Sequences in Block Data",{"$f":"COUNTA(L7:L31)","v":25},null,null,null,"Total Sequences in Block Data",{"$f":"COUNTA(L32:L56)","v":25},null,null,null,"Total Sequences in Block Data",{"$f":"COUNTA(L57:L81)","v":25},null,null,null,"Total Sequences in Block Data",{"$f":"COUNTA(L82:L106)","v":25},null,null,null,"Total Sequences in Block Data",{"$f":"COUNTA(L107:L131)","v":25},null,null,null,"Total Sequences in Block Data",{"$f":"COUNTA(L132:L156)","v":25}]
["Program","one",null,null,null,null,null,null,null,null,null,null,null,null,null,"Total Sequences in Summary",{"$f":"SUM(O7:O14)","v":150},null,null,null,null,"Total Sequences in Block Summary",{"$f":"SUM(U7:U14)","v":25},null,null,null,"Total Sequences in Block Summary",{"$f":"SUM(Z7:Z14)","v":25},null,null,null,"Total Sequences in Block Summary",{"$f":"SUM(AE7:AE14)","v":25},null,null,null,"Total Sequences in Block Summary",{"$f":"SUM(AJ7:AJ14)","v":25},null,null,null,"Total Sequences in Block Summary",{"$f":"SUM(AO7:AO14)","v":25},null,null,null,"Total Sequences in Block Summary",{"$f":"SUM(AT7:AT14)","v":25}]
[null,null,null,null,null,null,null,null,null,null,null,null,null,null,null,null,null,null,null,"Block 1",null,null,null,null,"Block 2",null,null,null,null,"Block 3",null,null,null,null,"Block 4",null,null,null,null,"Block 5",null,null,null,null,"Block 6"]
["Sequence\nComponent\n1","Time\n1","Sequence\nComponent\n2","Time\n2","Sequence\nComponent\n3","Time\n3","Sequence\nComponent\n4","Time\n4","Sequence\nComponent\n5","Time\n5","Correct?\n0=No 1=Yes","Sequence",null,"Frequency",null,"Relative Frequency","Variability",null,null,"Frequency",null,"Relative Frequency","Variability",null,"Frequency",null,"Relative Frequency","Variability",null,"Frequency",null,"Relative Frequency","Variability",null,"Frequency",null,"Relative Frequency","Variability",null,"Frequency",null,"Relative Frequency","Variability",null,"Frequency",null,"Relative Frequency","Variability"]
[12,28,23,36,24,51,23,59,null,null,0,122,null,111,{"$f":"COUNTIF($L$7:$L$500,N7)","v":1},{"$f":"O7/$Q$4","v":6.6666666666666671E-3},{"$f":"IF(P7=0,0,(P7*((LOG(P7))/LOG(2))))","v":-4.819212460330588E-2},null,null,{"$f":"N7","v":111},{"$f":"COUNTIF(L7:L31,T7)","v":0},{"$f":"U7/(W4-U10)","v":0},{"$f":"IF(V7=0,0,(V7*((LOG(V7))/LOG(2))))","v":0},null,{"$f":"N7","v":111},{"$f":"COUNTIF(L32:L56,Y7)","v":1},{"$f":"Z7/(AB4-Z10)","v":4.3478260869565216E-2},{"$f":"IF(AA7=0,0,(AA7*((LOG(AA7))/LOG(2))))","v":-0.19667660678508753},null,{"$f":"N7","v":111},{"$f":"COUNTIF(L57:L81,AD7)","v":0},{"$f":"AE7/(AG4-AE10)","v":0},{"$f":"IF(AF7=0,0,(AF7*((LOG(AF7))/LOG(2))))","v":0},null,{"$f":"N7","v":111},{"$f":"COUNTIF(L82:L106,AI7)","v":0},{"$f":"AJ7/(AL4-AJ10)","v":0},{"$f":"IF(AK7=0,0,(AK7*((LOG(AK7))/LOG(2))))","v":0},null,{"$f":"N7","v":111},{"$f":"COUNTIF(L107:L131,AN7)","v":0},{"$f":"AO7/(AQ4-AO10)","v":0},{"$f":"IF(AP7=0,0,(AP7*((LOG(AP7))/LOG(2))))","v":0},null,{"$f":"N7","v":111},{"$f":"COUNTIF(L132:L156,AS7)","v":0},{"$f":"AT7/(AV4-AT10)","v":0},{"$f":"IF(AU7=0,0,(AU7*((LOG(AU7))/LOG(2))))","v":0}]
[21,160,21,167,11,177,12,181,null,null,0,221,null,112,2,1.3333333333333334E-2,-8.3050915873278425E-2,null,null,112,{"$f":"COUNTIF(L7:L31,T8)","v":0},{"$f":"U8/(W4-U10)","v":0},{"$f":"IF(V8=0,0,(V8*((LOG(V8))/LOG(2))))","v":0},null,112,{"$f":"COUNTIF(L32:L56,Y8)","v":2},{"$f":"Z8/(AB4-Z10)","v":8.6956521739130432E-2},{"$f":"IF(AA8=0,0,(AA8*((LOG(AA8))/LOG(2))))","v":-0.30639669183104457},null,112,{"$f":"COUNTIF(L57:L81,AD8)","v":0},{"$f":"AE8/(AG4-AE10)","v":0},{"$f":"IF(AF8=0,0,(AF8*((LOG(AF8))/LOG(2))))","v":0},null,112,{"$f":"COUNTIF(L82:L106,AI8)","v":0},{"$f":"AJ8/(AL4-AJ10)","v":0},{"$f":"IF(AK8=0,0,(AK8*((LOG(AK8))/LOG(2))))","v":0},null,112,{"$f":"COUNTIF(L107:L131,AN8)","v":0},{"$f":"AO8/(AQ4-AO10)","v":0},{"$f":"IF(AP8=0,0,(AP8*((LOG(AP8))/LOG(2))))","v":0},null,112,{"$f":"COUNTIF(L132:L156,AS8)","v":0},{"$f":"AT8/(AV4-AT10)","v":0},{"$f":"IF(AU8=0,0,(AU8*((LOG(AU8))/LOG(2))))","v":0}]
[21,281,21,289,22,297,23,306,null,null,0,222,null,121,6,0.04,-0.18575424759098899,null,null,121,{"$f":"COUNTIF(L7:L31,T9)","v":0},{"$f":"U9/(W4-U10)","v":0},{"$f":"IF(V9=0,0,(V9*((LOG(V9))/LOG(2))))","v":0},null,121,{"$f":"COUNTIF(L32:L56,Y9)","v":4},{"$f":"Z9/(AB4-Z10)","v":0.17391304347826086},{"$f":"IF(AA9=0,0,(AA9*((LOG(AA9))/LOG(2))))","v":-0.43888034018382832},null,121,{"$f":"COUNTIF(L57:L81,AD9)","v":0},{"$f":"AE9/(AG4-AE10)","v":0},{"$f":"IF(AF9=0,0,(AF9*((LOG(AF9))/LOG(2))))","v":0},null,121,{"$f":"COUNTIF(L82:L106,AI9)","v":0},{"$f":"AJ9/(AL4-AJ10)","v":0},{"$f":"IF(AK9=0,0,(AK9*((LOG(AK9))/LOG(2))))","v":0},null,121,{"$f":"COUNTIF(L107:L131,AN9)","v":2},{"$f":"AO9/(AQ4-AO10)","v":0.08},{"$f":"IF(AP9=0,0,(AP9*((LOG(AP9))/LOG(2))))","v":-0.29150849518197797},null,121,{"$f":"COUNTIF(L132:L156,AS9)","v":0},{"$f":"AT9/(AV4-AT10)","v":0},{"$f":"IF(AU9=0,0,(AU9*((LOG(AU9))/LOG(2))))","v":0}]
[21,411,21,416,22,430,14,438,null,null,0,222,null,122,16,0.10666666666666667,-0.34440732698622734,null,null,122,{"$f":"COUNTIF(L7:L31,T10)","v":4},null,null,null,122,{"$f":"COUNTIF(L32:L56,Y10)","v":2},null,null,null,122,{"$f":"COUNTIF(L57:L81,AD10)","v":4},null,null,null,122,{"$f":"COUNTIF(L82:L106,AI10)","v":6},null,null,null,122,{"$f":"COUNTIF(L107:L131,AN10)","v":0},null,null,null,122,{"$f":"COUNTIF(L132:L156,AS10)","v":0}]
[12,561,23,572,24,584,23,592,null,null,0,122,null,211,3,0.02,-0.11287712379549449,null,null,211,{"$f":"COUNTIF(L7:L31,T11)","v":0},{"$f":"U11/(W4-U10)","v":0},{"$f":"IF(V11=0,0,(V11*((LOG(V11))/LOG(2))))","v":0},null,211,{"$f":"COUNTIF(L32:L56,Y11)","v":2},{"$f":"Z11/(AB4-Z10)","v":8.6956521739130432E-2},{"$f":"IF(AA11=0,0,(AA11*((LOG(AA11))/LOG(2))))","v":-0.30639669183104457},null,211,{"$f":"COUNTIF(L57:L81,AD11)","v":1},{"$f":"AE11/(AG4-AE10)","v":4.7619047619047616E-2},{"$f":"IF(AF11=0,0,(AF11*((LOG(AF11))/LOG(2))))","v":-0.20915797251327431},null,211,{"$f":"COUNTIF(L82:L106,AI11)","v":0},{"$f":"AJ11/(AL4-AJ10)","v":0},{"$f":"IF(AK11=0,0,(AK11*((LOG(AK11))/LOG(2))))","v":0},null,211,{"$f":"COUNTIF(L107:L131,AN11)","v":0},{"$f":"AO11/(AQ4-AO10)","v":0},{"$f":"IF(AP11=0,0,(AP11*((LOG(AP11))/LOG(2))))","v":0},null,211,{"$f":"COUNTIF(L132:L156,AS11)","v":0},{"$f":"AT11/(AV4-AT10)","v":0},{"$f":"IF(AU11=0,0,(AU11*((LOG(AU11))/LOG(2))))","v":0}]
[21,693,21,700,11,717,21,729,null,null,0,221,null,212,54,0.36,-0.53061522779966841,null,null,212,{"$f":"COUNTIF(L7:L31,T12)","v":8},{"$f":"U12/(W4-U10)","v":0.38095238095238093},{"$f":"IF(V12=0,0,(V12*((LOG(V12))/LOG(2))))","v":-0.53040663724905157},null,212,{"$f":"COUNTIF(L32:L56,Y12)","v":10},{"$f":"Z12/(AB4-Z10)","v":0.43478260869565216},{"$f":"IF(AA12=0,0,(AA12*((LOG(AA12))/LOG(2))))","v":-0.52244950485636987},null,212,{"$f":"COUNTIF(L57:L81,AD12)","v":10},{"$f":"AE12/(AG4-AE10)","v":0.47619047619047616},{"$f":"IF(AF12=0,0,(AF12*((LOG(AF12))/LOG(2))))","v":-0.50970920375780859},null,212,{"$f":"COUNTIF(L82:L106,AI12)","v":8},{"$f":"AJ12/(AL4-AJ10)","v":0.42105263157894735},{"$f":"IF(AK12=0,0,(AK12*((LOG(AK12))/LOG(2))))","v":-0.52544316355519383},null,212,{"$f":"COUNTIF(L107:L131,AN12)","v":10},{"$f":"AO12/(AQ4-AO10)","v":0.4},{"$f":"IF(AP12=0,0,(AP12*((LOG(AP12))/LOG(2))))","v":-0.52877123795494496},null,212,{"$f":"COUNTIF(L132:L156,AS12)","v":8},{"$f":"AT12/(AV4-AT10)","v":0.32},{"$f":"IF(AU12=0,0,(AU12*((LOG(AU12))/LOG(2))))","v":-0.52603398072791185}]
[21,819,12,837,24,848,23,856,null,null,0,212,null,221,42,0.28000000000000003,-0.51422035496079388,null,null,221,{"$f":"COUNTIF(L7:L31,T13)","v":10},{"$f":"U13/(W4-U10)","v":0.47619047619047616},{"$f":"IF(V13=0,0,(V13*((LOG(V13))/LOG(2))))","v":-0.50970920375780859},null,221,{"$f":"COUNTIF(L32:L56,Y13)","v":4},{"$f":"Z13/(AB4-Z10)","v":0.17391304347826086},{"$f":"IF(AA13=0,0,(AA13*((LOG(AA13))/LOG(2))))","v":-0.43888034018382832},null,221,{"$f":"COUNTIF(L57:L81,AD13)","v":6},{"$f":"AE13/(AG4-AE10)","v":0.2857142857142857},{"$f":"IF(AF13=0,0,(AF13*((LOG(AF13))/LOG(2))))","v":-0.51638712058788683},null,221,{"$f":"COUNTIF(L82:L106,AI13)","v":9},{"$f":"AJ13/(AL4-AJ10)","v":0.47368421052631576},{"$f":"IF(AK13=0,0,(AK13*((LOG(AK13))/LOG(2))))","v":-0.51063276884270825},null,221,{"$f":"COUNTIF(L107:L131,AN13)","v":8},{"$f":"AO13/(AQ4-AO10)","v":0.32},{"$f":"IF(AP13=0,0,(AP13*((LOG(AP13))/LOG(2))))","v":-0.52603398072791185},null,221,{"$f":"COUNTIF(L132:L156,AS13)","v":5},{"$f":"AT13/(AV4-AT10)","v":0.2},{"$f":"IF(AU13=0,0,(AU13*((LOG(AU13))/LOG(2))))","v":-0.46438561897747244}]
[21,957,21,965,11,979,21,1003,null,null,0,221,null,222,26,0.17333333333333334,-0.43825235520816341,null,null,222,{"$f":"COUNTIF(L7:L31,T14)","v":3},{"$f":"U14/(W4-U10)","v":0.14285714285714285},{"$f":"IF(V14=0,0,(V14*((LOG(V14))/LOG(2))))","v":-0.40105070315108626},null,222,{"$f":"COUNTIF(L32:L56,Y14)","v":0},{"$f":"Z14/(AB4-Z10)","v":0},{"$f":"IF(AA14=0,0,(AA14*((LOG(AA14))/LOG(2))))","v":0},null,222,{"$f":"COUNTIF(L57:L81,AD14)","v":4},{"$f":"AE14/(AG4-AE10)","v":0.19047619047619047},{"$f":"IF(AF14=0,0,(AF14*((LOG(AF14))/LOG(2))))","v":-0.4556795091007162},null,222,{"$f":"COUNTIF(L82:L106,AI14)","v":2},{"$f":"AJ14/(AL4-AJ10)","v":0.10526315789473684},{"$f":"IF(AK14=0,0,(AK14*((LOG(AK14))/LOG(2))))","v":-0.34188710667827216},null,222,{"$f":"COUNTIF(L107:L131,AN14)","v":5},{"$f":"AO14/(AQ4-AO10)","v":0.2},{"$f":"IF(AP14=0,0,(AP14*((LOG(AP14))/LOG(2))))","v":-0.46438561897747244},null,222,{"$f":"COUNTIF(L132:L156,AS14)","v":12},{"$f":"AT14/(AV4-AT10)","v":0.48},{"$f":"IF(AU14=0,0,(AU14*((LOG(AU14))/LOG(2))))","v":-0.50826897074571287}]
[21,1099,21,1107,22,1117,14,1125,null,null,0,222,null,null,null,{"$f":"SUM(P7:P14)","v":1},{"$f":"-SUM(Q7:Q14)","v":2.2573696768179206},null,null,null,null,{"$f":"SUM(V7:V14)","v":1},{"$f":"-SUM(W7:W14)","v":1.4411665441579466},null,null,null,{"$f":"SUM(AA7:AA14)","v":1},{"$f":"-SUM(AB7:AB14)","v":2.2096801756712035},null,null,null,{"$f":"SUM(AF7:AF14)","v":0.99999999999999989},{"$f":"-SUM(AG7:AG14)","v":1.6909338059596859},null,null,null,{"$f":"SUM(AK7:AK14)","v":0.99999999999999989},{"$f":"-SUM(AL7:AL14)","v":1.3779630390761741},null,null,null,{"$f":"SUM(AP7:AP14)","v":1},{"$f":"-SUM(AQ7:AQ14)","v":1.8106993328423071},null,null,null,{"$f":"SUM(AU7:AU14)","v":1},{"$f":"-SUM(AV7:AV14)","v":1.498688570451097}]
[21,1225,21,1231,11,1258,21,1288,null,null,0,221,null,null,null,"U=",{"$f":"Q15/(LOG(Q4)/LOG(2))","v":0.31227366094902981},null,null,null,null,"U1=",{"$f":"W15/(LOG(W4)/LOG(2))","v":0.31033832342423551},null,null,null,"U2=",{"$f":"AB15/(LOG(AB4)/LOG(2))","v":0.47582872625054212},null,null,null,"U3=",{"$f":"AG15/(LOG(AG4)/LOG(2))","v":0.36412277574033003},null,null,null,"U4=",{"$f":"AL15/(LOG(AL4)/LOG(2))","v":0.2967281894108395},null,null,null,"U5=",{"$f":"AQ15/(LOG(AQ4)/LOG(2))","v":0.38991287818715692},null,null,null,"U6=",{"$f":"AV15/(LOG(AV4)/LOG(2))","v":0.32272501757290611}]
[21,1386,21,1394,11,1407,21,1416,null,null,0,221]
[12,1528,23,1538,24,1547,14,1577,null,null,0,122]
[21,1677,21,1683,11,1692,21,1701,null,null,0,221,null,"Total Target Seq"]
[21,1807,12,1815,24,1824,23,1850,null,null,0,212,null,{"$f":"COUNTIF(L7:L156,G3)","v":16},null,25,25,25,25,25,25]
[21,1952,12,1989,24,1998,23,2006,null,null,0,212,null,null,null,"% of reinforcement given in 6 equal intervals based on number of trials "]
[21,2106,21,2111,11,2126,21,2135,null,null,0,221,null,null,null,"%_1","%_2","%_3","%_4","%_5","%_6"]
[21,2239,12,2249,24,2266,23,2276,null,null,0,212,null,null,"target sequence",{"$f":"$G$3","v":122},122,122,122,122,122]
[21,2382,12,2391,24,2401,23,2418,null,null,0,212,null,null,"total reinforcement",{"$f":"U10","v":4},{"$f":"Z10","v":2},{"$f":"AE10","v":4},{"$f":"AJ10","v":6},{"$f":"AO10","v":0},{"$f":"AT10","v":0}]
[21,2517,21,2523,11,2543,21,2552,null,null,0,221,null,null,"% target"]
[21,2653,21,2685,11,2706,21,2714,null,null,0,221,null,null,"CCRF"]
[21,2812,12,2827,24,2836,14,2857,null,null,0,212,null,null,"% CCRf"]
[12,2971,23,2979,24,2997,14,3010,null,null,0,122,null,null,"average response rate",{"$f":"F31/P20","v":137.72},{"$f":"(F56-F31)/Q20","v":151.24},{"$f":"(F81-F56)/R20","v":152.12},{"$f":"(F106-F81)/S20","v":144.16},{"$f":"(F131-F106)/T20","v":141.96},{"$f":"(F156-F131)/U20","v":143.52000000000001}]
[21,3112,12,3134,24,3143,23,3155,null,null,0,212]
[21,3255,12,3272,24,3291,14,3317,null,null,0,212]
[21,3416,21,3429,11,3443,21,3453,null,null,0,221]
[21,3550,12,3570,24,3580,23,3597,null,null,0,212]
[21,3704,12,3719,24,3728,23,3747,null,null,0,212]
[21,3859,21,3884,11,3901,21,3913,null,null,0,221]
[12,4015,14,4028,24,4080,23,4090,null,null,0,112]
[21,4189,21,4197,11,4206,21,4216,null,null,0,221]
[12,4324,23,4334,24,4350,14,4359,null,null,0,122]
[21,4460,21,4468,11,4477,21,4485,null,null,0,221]
[12,4585,23,4594,13,4624,23,4632,null,null,0,121]
[12,4750,23,4760,13,4795,23,4833,null,null,0,121]
[21,4938,12,4955,24,4965,23,4979,null,null,0,212]
[21,5082,12,5097,24,5107,23,5117,null,null,0,212]
[21,5220,12,5234,24,5243,23,5254,null,null,0,212]
[12,5374,23,5384,24,5402,23,5419,null,null,0,122]
[21,5529,12,5539,24,5549,23,5557,null,null,0,212]
[12,5684,23,5694,13,5712,23,5728,null,null,0,121]
[21,5832,21,5839,11,5850,21,5866,null,null,0,221]
[12,5975,14,6010,24,6020,23,6029,null,null,0,112]
[12,6141,14,6155,13,6175,23,6211,null,null,0,111]
[21,6317,12,6327,13,6337,23,6347,null,null,0,211]
[21,6463,12,6472,24,6481,14,6501,null,null,0,212]
[21,6605,12,6630,24,6638,23,6671,null,null,0,212]
[12,6785,23,6793,13,6805,23,6816,null,null,0,121]
[21,6917,12,6930,13,6940,23,6948,null,null,0,211]
[21,7055,12,7066,24,7081,14,7094,null,null,0,212]
[21,7207,12,7216,24,7224,23,7232,null,null,0,212]
[21,7353,21,7377,11,7390,12,7454,null,null,0,221]
[21,7586,12,7598,24,7626,23,7651,null,null,0,212]
[21,7752,12,7773,24,7790,23,7798,null,null,0,212]
[21,7898,21,7924,11,7935,21,7945,null,null,0,221]
[21,8056,12,8064,13,8073,23,8082,null,null,0,211]
[21,8192,21,8205,11,8213,21,8237,null,null,0,221]
[21,8334,12,8346,24,8354,14,8383,null,null,0,212]
[12,8499,23,8509,24,8518,23,8537,null,null,0,122]
[21,8638,21,8643,22,8654,14,8663,null,null,0,222]
[21,8771,12,8782,24,8790,23,8811,null,null,0,212]
[12,8936,23,8944,24,8955,14,8995,null,null,0,122]
[21,9100,12,9111,24,9143,14,9158,null,null,0,212]
[21,9257,12,9270,24,9286,23,9297,null,null,0,212]
[21,9405,21,9417,11,9431,21,9441,null,null,0,221]
[12,9553,23,9562,24,9579,14,9588,null,null,0,122]
[21,9686,21,9694,22,9706,14,9721,null,null,0,222]
[21,9821,21,9826,11,9847,21,9856,null,null,0,221]
[21,9952,21,9961,11,9973,21,9981,null,null,0,221]
[21,10069,21,10075,22,10094,14,10120,null,null,0,222]
[21,10220,12,10239,24,10255,23,10266,null,null,0,212]
[21,10366,12,10381,24,10391,23,10403,null,null,0,212]
[21,10504,21,10512,22,10524,14,10533,null,null,0,222]
[21,10637,12,10661,24,10670,23,10680,null,null,0,212]
[12,10800,23,10824,24,10880,14,10894,null,null,0,122]
[21,11000,12,11017,24,11027,23,11035,null,null,0,212]
[21,11135,21,11149,11,11158,21,11166,null,null,0,221]
[21,11265,12,11274,24,11283,14,11304,null,null,0,212]
[21,11404,21,11414,11,11423,21,11433,null,null,0,221]
[21,11526,12,11540,24,11548,23,11556,null,null,0,212]
[12,11683,23,11696,24,11707,23,11737,null,null,0,122]
[21,11838,12,11854,24,11864,14,11891,null,null,0,212]
[21,12011,12,12021,24,12053,23,12083,null,null,0,212]
[21,12183,12,12201,24,12210,23,12227,null,null,0,212]
[12,12349,23,12358,24,12366,23,12383,null,null,0,122]
[12,12496,23,12505,24,12522,14,12533,null,null,0,122]
[21,12640,21,12652,11,12661,21,12678,null,null,0,221]
[12,12797,23,12807,24,12829,14,12838,null,null,0,122]
[21,12937,12,12958,24,12966,23,12982,null,null,0,212]
[21,13082,21,13088,22,13097,14,13109,null,null,0,222]
[21,13211,21,13232,11,13241,21,13251,null,null,0,221]
[21,13345,21,13353,11,13366,21,13375,null,null,0,221]
[21,13469,21,13478,11,13490,21,13499,null,null,0,221]
[21,13629,21,13661,11,13669,21,13677,null,null,0,221]
[21,13767,12,13783,24,13796,14,13811,null,null,0,212]
[21,13909,21,13916,11,13932,21,13941,null,null,0,221]
[21,14033,21,14042,11,14051,21,14060,null,null,0,221]
[21,14156,12,14165,24,14175,23,14186,null,null,0,212]
[12,14307,23,14315,24,14323,23,14352,null,null,0,122]
[12,14469,23,14480,24,14487,14,14514,null,null,0,122]
[21,14613,21,14620,22,14631,14,14642,null,null,0,222]
[21,14740,21,14746,22,14758,14,14769,null,null,0,222]
[21,14871,12,14887,24,14898,23,14918,null,null,0,212]
[21,15020,21,15026,11,15039,21,15048,null,null,0,221]
[21,15144,12,15157,24,15167,23,15184,null,null,0,212]
[21,15281,21,15304,11,15313,21,15324,null,null,0,221]
[21,15420,12,15438,24,15447,23,15468,null,null,0,212]
[21,15570,21,15578,11,15591,21,15601,null,null,0,221]
[21,15706,12,15715,24,15739,23,15748,null,null,0,212]
[21,15846,21,15871,11,15881,21,15890,null,null,0,221]
[21,15981,21,15986,22,15997,14,16005,null,null,0,222]
[21,16103,21,16110,22,16124,23,16149,null,null,0,222]
[21,16250,12,16263,24,16272,23,16287,null,null,0,212]
[12,16406,23,16415,13,16440,23,16450,null,null,0,121]
[21,16550,21,16557,22,16576,23,16594,null,null,0,222]
[21,16701,21,16717,11,16733,21,16744,null,null,0,221]
[21,16838,12,16858,24,16867,23,16878,null,null,0,212]
[21,16988,21,16997,11,17006,21,17014,null,null,0,221]
[12,17124,23,17132,13,17153,23,17162,null,null,0,121]
[21,17267,12,17282,24,17292,23,17317,null,null,0,212]
[21,17423,21,17429,11,17438,21,17489,null,null,0,221]
[21,17593,12,17611,24,17620,23,17627,null,null,0,212]
[21,17726,21,17731,22,17751,14,17764,null,null,0,222]
[21,17865,12,17879,24,17889,23,17896,null,null,0,212]
[21,17995,12,18021,24,18036,23,18047,null,null,0,212]
[21,18148,21,18166,11,18180,21,18197,null,null,0,221]
[21,18290,21,18297,11,18308,21,18319,null,null,0,221]
[21,18410,21,18415,22,18425,14,18434,null,null,0,222]
[21,18536,12,18546,24,18554,23,18565,null,null,0,212]
[21,18665,21,18670,22,18708,23,18769,null,null,0,222]
[21,18869,21,18875,11,18887,21,18896,null,null,0,221]
[21,18986,21,18992,11,19015,21,19033,null,null,0,221]
[21,19127,12,19144,24,19153,23,19178,null,null,0,212]
[21,19276,21,19283,22,19292,14,19303,null,null,0,222]
[21,19402,21,19407,22,19430,23,19440,null,null,0,222]
[21,19540,21,19546,22,19567,23,19589,null,null,0,222]
[21,19693,12,19710,24,19721,23,19728,null,null,0,212]
[21,19837,21,19860,22,19870,23,19893,null,null,0,222]
[21,19996,21,20003,22,20024,23,20032,null,null,0,222]
[21,20136,21,20143,22,20167,23,20176,null,null,0,222]
[21,20294,12,20303,24,20314,23,20326,null,null,0,212]
[21,20426,21,20462,22,20474,23,20488,null,null,0,222]
[21,20591,21,20598,22,20605,14,20617,null,null,0,222]
[21,20716,12,20730,24,20741,23,20749,null,null,0,212]
[21,20849,21,20855,11,20871,21,20896,null,null,0,221]
[21,20987,12,21005,24,21020,23,21031,null,null,0,212]
[21,21135,21,21140,22,21151,14,21159,null,null,0,222]
[21,21257,21,21290,22,21309,23,21325,null,null,0,222]
[21,21433,12,21443,24,21452,23,21459,null,null,0,212]
[21,21580,12,21589,24,21630,23,21648,null,null,0,212]
[21,21748,21,21754,11,21768,21,21777,null,null,1,221]

{"sheet":"!2011-07-31_13h17m.Subject 56","index":5,"n_rows":86,"n_cols":48,"rows_kept":86,"cut":false,"hidden":false,"merged":[[1,1,1,2],[5,13,5,14],[18,13,18,14],[19,13,19,14],[4,19,4,22],[5,19,5,20],[4,39,4,42],[5,39,5,40],[4,44,4,47],[5,44,5,45],[4,24,4,27],[5,24,5,25],[4,29,4,32],[5,29,5,30],[4,34,4,37],[5,34,5,35]]}
["Report for:!2011-07-31_13h17m.Subject 56"]
["Date","2011-07-31",null,null,null,"Group","Phase 2 Con"]
["Hen",56,null,null,null,"Correct Sequence",{"$f":"Start!J2","v":122},null,null,null,null,null,null,null,null,"Total Sequences in Data",{"$f":"4994-COUNTBLANK(L7:L5000)","v":80},null,null,null,null,"Total Sequences in Block Data",{"$f":"COUNTA(L7:L19)","v":13},null,null,null,"Total Sequences in Block Data",{"$f":"COUNTA(L20:L33)","v":14},null,null,null,"Total Sequences in Block Data",{"$f":"COUNTA(L34:L46)","v":13},null,null,null,"Total Sequences in Block Data",{"$f":"COUNTA(L47:L59)","v":13},null,null,null,"Total Sequences in Block Data",{"$f":"COUNTA(L60:L73)","v":14},null,null,null,"Total Sequences in Block Data",{"$f":"COUNTA(L74:L86)","v":13}]
["Program","One",null,null,null,null,null,null,null,null,null,null,null,null,null,"Total Sequences in Summary",{"$f":"SUM(O7:O14)","v":80},null,null,null,null,"Total Sequences in Block Summary",{"$f":"SUM(U7:U14)","v":13},null,null,null,"Total Sequences in Block Summary",{"$f":"SUM(Z7:Z14)","v":14},null,null,null,"Total Sequences in Block Summary",{"$f":"SUM(AE7:AE14)","v":13},null,null,null,"Total Sequences in Block Summary",{"$f":"SUM(AJ7:AJ14)","v":13},null,null,null,"Total Sequences in Block Summary",{"$f":"SUM(AO7:AO14)","v":14},null,null,null,"Total Sequences in Block Summary",{"$f":"SUM(AT7:AT14)","v":13}]
[null,null,null,null,null,null,null,null,null,null,null,null,null,null,null,null,null,null,null,"Block 1",null,null,null,null,"Block 2",null,null,null,null,"Block 3",null,null,null,null,"Block 4",null,null,null,null,"Block 5",null,null,null,null,"Block 6"]
["Sequence\nComponent\n1","Time\n1","Sequence\nComponent\n2","Time\n2","Sequence\nComponent\n3","Time\n3","Sequence\nComponent\n4","Time\n4","Sequence\nComponent\n5","Time\n5","Correct?\n0=No 1=Yes","Sequence",null,"Frequency",null,"Relative Frequency","Variability",null,null,"Frequency",null,"Relative Frequency","Variability",null,"Frequency",null,"Relative Frequency","Variability",null,"Frequency",null,"Relative Frequency","Variability",null,"Frequency",null,"Relative Frequency","Variability",null,"Frequency",null,"Relative Frequency","Variability",null,"Frequency",null,"Relative Frequency","Variability"]
[22,11,13,25,23,37,null,null,null,null,0,212,null,111,{"$f":"COUNTIF($L$7:$L$500,N7)","v":6},{"$f":"O7/$Q$4","v":7.4999999999999997E-2},{"$f":"IF(P7=0,0,(P7*((LOG(P7))/LOG(2))))","v":-0.28027241956246546},null,null,{"$f":"N7","v":111},{"$f":"COUNTIF(L7:L19,T7)","v":3},{"$f":"U7/(W4-U10)","v":0.3},{"$f":"IF(V7=0,0,(V7*((LOG(V7))/LOG(2))))","v":-0.52108967824986185},null,{"$f":"N7","v":111},{"$f":"COUNTIF(L20:L33,Y7)","v":1},{"$f":"Z7/(AB4-Z10)","v":0.1},{"$f":"IF(AA7=0,0,(AA7*((LOG(AA7))/LOG(2))))","v":-0.33219280948873625},null,{"$f":"N7","v":111},{"$f":"COUNTIF(L34:L46,AD7)","v":0},{"$f":"AE7/(AG4-AE10)","v":0},{"$f":"IF(AF7=0,0,(AF7*((LOG(AF7))/LOG(2))))","v":0},null,{"$f":"N7","v":111},{"$f":"COUNTIF(L47:L59,AI7)","v":1},{"$f":"AJ7/(AL4-AJ10)","v":0.1},{"$f":"IF(AK7=0,0,(AK7*((LOG(AK7))/LOG(2))))","v":-0.33219280948873625},null,{"$f":"N7","v":111},{"$f":"COUNTIF(L60:L73,AN7)","v":1},{"$f":"AO7/(AQ4-AO10)","v":0.1},{"$f":"IF(AP7=0,0,(AP7*((LOG(AP7))/LOG(2))))","v":-0.33219280948873625},null,{"$f":"N7","v":111},{"$f":"COUNTIF(L74:L86,AS7)","v":0},{"$f":"AT7/(AV4-AT10)","v":0},{"$f":"IF(AU7=0,0,(AU7*((LOG(AU7))/LOG(2))))","v":0}]
[11,149,11,155,12,160,null,null,null,null,0,111,null,112,40,0.5,-0.5,null,null,112,{"$f":"COUNTIF(L7:L19,T8)","v":4},{"$f":"U8/(W4-U10)","v":0.4},{"$f":"IF(V8=0,0,(V8*((LOG(V8))/LOG(2))))","v":-0.52877123795494496},null,112,{"$f":"COUNTIF(L20:L33,Y8)","v":8},{"$f":"Z8/(AB4-Z10)","v":0.8},{"$f":"IF(AA8=0,0,(AA8*((LOG(AA8))/LOG(2))))","v":-0.25754247590988982},null,112,{"$f":"COUNTIF(L34:L46,AD8)","v":6},{"$f":"AE8/(AG4-AE10)","v":1},{"$f":"IF(AF8=0,0,(AF8*((LOG(AF8))/LOG(2))))","v":0},null,112,{"$f":"COUNTIF(L47:L59,AI8)","v":8},{"$f":"AJ8/(AL4-AJ10)","v":0.8},{"$f":"IF(AK8=0,0,(AK8*((LOG(AK8))/LOG(2))))","v":-0.25754247590988982},null,112,{"$f":"COUNTIF(L60:L73,AN8)","v":6},{"$f":"AO8/(AQ4-AO10)","v":0.6},{"$f":"IF(AP8=0,0,(AP8*((LOG(AP8))/LOG(2))))","v":-0.44217935649972373},null,112,{"$f":"COUNTIF(L74:L86,AS8)","v":8},{"$f":"AT8/(AV4-AT10)","v":0.72727272727272729},{"$f":"IF(AU8=0,0,(AU8*((LOG(AU8))/LOG(2))))","v":-0.33413208628167068}]
[11,267,11,275,12,283,null,null,null,null,0,111,null,121,7,8.7499999999999994E-2,-0.30752515262260383,null,null,121,{"$f":"COUNTIF(L7:L19,T9)","v":0},{"$f":"U9/(W4-U10)","v":0},{"$f":"IF(V9=0,0,(V9*((LOG(V9))/LOG(2))))","v":0},null,121,{"$f":"COUNTIF(L20:L33,Y9)","v":1},{"$f":"Z9/(AB4-Z10)","v":0.1},{"$f":"IF(AA9=0,0,(AA9*((LOG(AA9))/LOG(2))))","v":-0.33219280948873625},null,121,{"$f":"COUNTIF(L34:L46,AD9)","v":0},{"$f":"AE9/(AG4-AE10)","v":0},{"$f":"IF(AF9=0,0,(AF9*((LOG(AF9))/LOG(2))))","v":0},null,121,{"$f":"COUNTIF(L47:L59,AI9)","v":0},{"$f":"AJ9/(AL4-AJ10)","v":0},{"$f":"IF(AK9=0,0,(AK9*((LOG(AK9))/LOG(2))))","v":0},null,121,{"$f":"COUNTIF(L60:L73,AN9)","v":3},{"$f":"AO9/(AQ4-AO10)","v":0.3},{"$f":"IF(AP9=0,0,(AP9*((LOG(AP9))/LOG(2))))","v":-0.52108967824986185},null,121,{"$f":"COUNTIF(L74:L86,AS9)","v":3},{"$f":"AT9/(AV4-AT10)","v":0.27272727272727271},{"$f":"IF(AU9=0,0,(AU9*((LOG(AU9))/LOG(2))))","v":-0.51121885034076575}]
[22,389,13,404,14,413,null,null,null,null,0,211,null,122,23,0.28749999999999998,-0.51703026491372539,null,null,122,{"$f":"COUNTIF(L7:L19,T10)","v":3},null,null,null,122,{"$f":"COUNTIF(L20:L33,Y10)","v":4},null,null,null,122,{"$f":"COUNTIF(L34:L46,AD10)","v":7},null,null,null,122,{"$f":"COUNTIF(L47:L59,AI10)","v":3},null,null,null,122,{"$f":"COUNTIF(L60:L73,AN10)","v":4},null,null,null,122,{"$f":"COUNTIF(L74:L86,AS10)","v":2}]
[11,525,11,530,12,545,null,null,null,null,0,111,null,211,1,1.2500000000000001E-2,-7.902410118609203E-2,null,null,211,{"$f":"COUNTIF(L7:L19,T11)","v":1},{"$f":"U11/(W4-U10)","v":0.1},{"$f":"IF(V11=0,0,(V11*((LOG(V11))/LOG(2))))","v":-0.33219280948873625},null,211,{"$f":"COUNTIF(L20:L33,Y11)","v":0},{"$f":"Z11/(AB4-Z10)","v":0},{"$f":"IF(AA11=0,0,(AA11*((LOG(AA11))/LOG(2))))","v":0},null,211,{"$f":"COUNTIF(L34:L46,AD11)","v":0},{"$f":"AE11/(AG4-AE10)","v":0},{"$f":"IF(AF11=0,0,(AF11*((LOG(AF11))/LOG(2))))","v":0},null,211,{"$f":"COUNTIF(L47:L59,AI11)","v":0},{"$f":"AJ11/(AL4-AJ10)","v":0},{"$f":"IF(AK11=0,0,(AK11*((LOG(AK11))/LOG(2))))","v":0},null,211,{"$f":"COUNTIF(L60:L73,AN11)","v":0},{"$f":"AO11/(AQ4-AO10)","v":0},{"$f":"IF(AP11=0,0,(AP11*((LOG(AP11))/LOG(2))))","v":0},null,211,{"$f":"COUNTIF(L74:L86,AS11)","v":0},{"$f":"AT11/(AV4-AT10)","v":0},{"$f":"IF(AU11=0,0,(AU11*((LOG(AU11))/LOG(2))))","v":0}]
[11,669,22,687,23,695,null,null,null,null,0,122,null,212,2,2.5000000000000001E-2,-0.13304820237218404,null,null,212,{"$f":"COUNTIF(L7:L19,T12)","v":2},{"$f":"U12/(W4-U10)","v":0.2},{"$f":"IF(V12=0,0,(V12*((LOG(V12))/LOG(2))))","v":-0.46438561897747244},null,212,{"$f":"COUNTIF(L20:L33,Y12)","v":0},{"$f":"Z12/(AB4-Z10)","v":0},{"$f":"IF(AA12=0,0,(AA12*((LOG(AA12))/LOG(2))))","v":0},null,212,{"$f":"COUNTIF(L34:L46,AD12)","v":0},{"$f":"AE12/(AG4-AE10)","v":0},{"$f":"IF(AF12=0,0,(AF12*((LOG(AF12))/LOG(2))))","v":0},null,212,{"$f":"COUNTIF(L47:L59,AI12)","v":0},{"$f":"AJ12/(AL4-AJ10)","v":0},{"$f":"IF(AK12=0,0,(AK12*((LOG(AK12))/LOG(2))))","v":0},null,212,{"$f":"COUNTIF(L60:L73,AN12)","v":0},{"$f":"AO12/(AQ4-AO10)","v":0},{"$f":"IF(AP12=0,0,(AP12*((LOG(AP12))/LOG(2))))","v":0},null,212,{"$f":"COUNTIF(L74:L86,AS12)","v":0},{"$f":"AT12/(AV4-AT10)","v":0},{"$f":"IF(AU12=0,0,(AU12*((LOG(AU12))/LOG(2))))","v":0}]
[11,800,11,809,21,820,null,null,null,null,0,112,null,221,1,1.2500000000000001E-2,-7.902410118609203E-2,null,null,221,{"$f":"COUNTIF(L7:L19,T13)","v":0},{"$f":"U13/(W4-U10)","v":0},{"$f":"IF(V13=0,0,(V13*((LOG(V13))/LOG(2))))","v":0},null,221,{"$f":"COUNTIF(L20:L33,Y13)","v":0},{"$f":"Z13/(AB4-Z10)","v":0},{"$f":"IF(AA13=0,0,(AA13*((LOG(AA13))/LOG(2))))","v":0},null,221,{"$f":"COUNTIF(L34:L46,AD13)","v":0},{"$f":"AE13/(AG4-AE10)","v":0},{"$f":"IF(AF13=0,0,(AF13*((LOG(AF13))/LOG(2))))","v":0},null,221,{"$f":"COUNTIF(L47:L59,AI13)","v":1},{"$f":"AJ13/(AL4-AJ10)","v":0.1},{"$f":"IF(AK13=0,0,(AK13*((LOG(AK13))/LOG(2))))","v":-0.33219280948873625},null,221,{"$f":"COUNTIF(L60:L73,AN13)","v":0},{"$f":"AO13/(AQ4-AO10)","v":0},{"$f":"IF(AP13=0,0,(AP13*((LOG(AP13))/LOG(2))))","v":0},null,221,{"$f":"COUNTIF(L74:L86,AS13)","v":0},{"$f":"AT13/(AV4-AT10)","v":0},{"$f":"IF(AU13=0,0,(AU13*((LOG(AU13))/LOG(2))))","v":0}]
[11,931,22,941,23,948,null,null,null,null,0,122,null,222,0,0,0,null,null,222,{"$f":"COUNTIF(L7:L19,T14)","v":0},{"$f":"U14/(W4-U10)","v":0},{"$f":"IF(V14=0,0,(V14*((LOG(V14))/LOG(2))))","v":0},null,222,{"$f":"COUNTIF(L20:L33,Y14)","v":0},{"$f":"Z14/(AB4-Z10)","v":0},{"$f":"IF(AA14=0,0,(AA14*((LOG(AA14))/LOG(2))))","v":0},null,222,{"$f":"COUNTIF(L34:L46,AD14)","v":0},{"$f":"AE14/(AG4-AE10)","v":0},{"$f":"IF(AF14=0,0,(AF14*((LOG(AF14))/LOG(2))))","v":0},null,222,{"$f":"COUNTIF(L47:L59,AI14)","v":0},{"$f":"AJ14/(AL4-AJ10)","v":0},{"$f":"IF(AK14=0,0,(AK14*((LOG(AK14))/LOG(2))))","v":0},null,222,{"$f":"COUNTIF(L60:L73,AN14)","v":0},{"$f":"AO14/(AQ4-AO10)","v":0},{"$f":"IF(AP14=0,0,(AP14*((LOG(AP14))/LOG(2))))","v":0},null,222,{"$f":"COUNTIF(L74:L86,AS14)","v":0},{"$f":"AT14/(AV4-AT10)","v":0},{"$f":"IF(AU14=0,0,(AU14*((LOG(AU14))/LOG(2))))","v":0}]
[11,1052,11,1058,21,1071,null,null,null,null,0,112,null,null,null,{"$f":"SUM(P7:P14)","v":0.99999999999999989},{"$f":"-SUM(Q7:Q14)","v":1.8959242418431623},null,null,null,null,{"$f":"SUM(V7:V14)","v":1},{"$f":"-SUM(W7:W14)","v":1.8464393446710157},null,null,null,{"$f":"SUM(AA7:AA14)","v":1},{"$f":"-SUM(AB7:AB14)","v":0.92192809488736227},null,null,null,{"$f":"SUM(AF7:AF14)","v":1},{"$f":"-SUM(AG7:AG14)","v":0},null,null,null,{"$f":"SUM(AK7:AK14)","v":1},{"$f":"-SUM(AL7:AL14)","v":0.92192809488736227},null,null,null,{"$f":"SUM(AP7:AP14)","v":1},{"$f":"-SUM(AQ7:AQ14)","v":1.2954618442383219},null,null,null,{"$f":"SUM(AU7:AU14)","v":1},{"$f":"-SUM(AV7:AV14)","v":0.84535093662243643}]
[11,1165,11,1171,21,1181,null,null,null,null,0,112,null,null,null,"U=",{"$f":"Q15/(LOG(Q4)/LOG(2))","v":0.29989652102756825},null,null,null,null,"U1=",{"$f":"W15/(LOG(W4)/LOG(2))","v":0.49897836076588498},null,null,null,"U2=",{"$f":"AB15/(LOG(AB4)/LOG(2))","v":0.24214398545989138},null,null,null,"U3=",{"$f":"AG15/(LOG(AG4)/LOG(2))","v":0},null,null,null,"U4=",{"$f":"AL15/(LOG(AL4)/LOG(2))","v":0.24914014687705568},null,null,null,"U5=",{"$f":"AQ15/(LOG(AQ4)/LOG(2))","v":0.34025245104762053},null,null,null,"U6=",{"$f":"AV15/(LOG(AV4)/LOG(2))","v":0.22844607695625335}]
[11,1274,11,1282,21,1294,null,null,null,null,0,112]
[22,1409,13,1426,23,1440,null,null,null,null,0,212]
[11,1547,22,1560,23,1574,null,null,null,null,0,122,null,"Total Target Seq"]
[11,1681,22,1696,23,1702,null,null,null,null,0,122,null,{"$f":"COUNTIF(L7:L86,G3)","v":23},null,13,14,13,13,14,13]
[11,1809,11,1845,21,1873,null,null,null,null,0,112,null,null,null,"% of reinforcement given in 6 equal intervals based on number of trials "]
[11,1967,11,1984,21,1998,null,null,null,null,0,112,null,null,null,"%_1","%_2","%_3","%_4","%_5","%_6"]
[11,2095,11,2109,21,2118,null,null,null,null,0,112,null,null,"target sequence",{"$f":"$G$3","v":122},122,122,122,122,122]
[11,2214,22,2228,14,2242,null,null,null,null,0,121,null,null,"total reinforcement",{"$f":"U10","v":3},{"$f":"Z10","v":4},{"$f":"AE10","v":7},{"$f":"AJ10","v":3},{"$f":"AO10","v":4},{"$f":"AT10","v":2}]
[11,2346,11,2351,21,2364,null,null,null,null,0,112,null,null,"% target"]
[11,2461,22,2471,23,2485,null,null,null,null,0,122,null,null,"CCRF"]
[11,2585,22,2597,23,2604,null,null,null,null,0,122,null,null,"% CCRf"]
[11,2705,11,2725,21,2740,null,null,null,null,0,112,null,null,"average response rate",{"$f":"F19/P20","v":121.07692307692308},{"$f":"(F33-F19)/Q20","v":127.71428571428571},{"$f":"(F46-F33)/R20","v":125.92307692307692},{"$f":"(F59-F46)/S20","v":123.30769230769231},{"$f":"(F73-F59)/T20","v":120.21428571428571},{"$f":"(F86-F73)/U20","v":118.92307692307692}]
[11,2844,22,2854,23,2861,null,null,null,null,0,122]
[11,2964,11,2978,21,3002,null,null,null,null,0,112]
[11,3094,11,3099,21,3111,null,null,null,null,0,112]
[11,3204,11,3214,21,3224,null,null,null,null,0,112]
[11,3315,11,3326,12,3362,null,null,null,null,0,111]
[11,3464,11,3481,21,3496,null,null,null,null,0,112]
[11,3590,11,3607,21,3615,null,null,null,null,0,112]
[11,3719,22,3734,23,3742,null,null,null,null,0,122]
[11,3850,22,3868,23,3877,null,null,null,null,0,122]
[11,3977,11,3990,21,4000,null,null,null,null,0,112]
[11,4111,22,4124,23,4134,null,null,null,null,0,122]
[11,4236,22,4246,23,4252,null,null,null,null,0,122]
[11,4360,22,4370,23,4384,null,null,null,null,0,122]
[11,4483,11,4489,21,4499,null,null,null,null,0,112]
[11,4588,11,4601,21,4632,null,null,null,null,0,112]
[11,4722,11,4735,21,4744,null,null,null,null,0,112]
[11,4836,22,4865,23,4872,null,null,null,null,0,122]
[11,4972,22,4984,23,4999,null,null,null,null,0,122]
[11,5115,11,5128,21,5137,null,null,null,null,0,112]
[11,5227,11,5235,21,5244,null,null,null,null,0,112]
[11,5335,22,5348,23,5356,null,null,null,null,0,122]
[11,5454,11,5468,21,5477,null,null,null,null,0,112]
[11,5577,22,5587,23,5594,null,null,null,null,0,122]
[11,5692,11,5728,21,5762,null,null,null,null,0,112]
[11,5852,22,5863,23,5870,null,null,null,null,0,122]
[11,5974,11,5987,21,5996,null,null,null,null,0,112]
[22,6108,24,6114,14,6137,null,null,null,null,0,221]
[11,6236,11,6245,21,6256,null,null,null,null,0,112]
[11,6349,11,6357,21,6367,null,null,null,null,0,112]
[11,6459,11,6465,21,6475,null,null,null,null,0,112]
[11,6567,11,6576,12,6602,null,null,null,null,0,111]
[11,6709,22,6719,14,6747,null,null,null,null,0,121]
[11,6847,11,6856,21,6866,null,null,null,null,0,112]
[11,6963,22,6973,14,6986,null,null,null,null,0,121]
[11,7096,22,7106,23,7118,null,null,null,null,0,122]
[11,7221,22,7231,23,7239,null,null,null,null,0,122]
[11,7338,11,7347,21,7357,null,null,null,null,0,112]
[11,7450,22,7462,23,7469,null,null,null,null,0,122]
[11,7565,11,7575,12,7585,null,null,null,null,0,111]
[11,7685,11,7695,21,7704,null,null,null,null,0,112]
[11,7791,11,7796,21,7808,null,null,null,null,0,112]
[11,7903,22,7912,14,7925,null,null,null,null,0,121]
[11,8024,22,8051,23,8061,null,null,null,null,0,122]
[11,8163,11,8169,21,8178,null,null,null,null,0,112]
[11,8267,11,8272,21,8285,null,null,null,null,0,112]
[11,8380,22,8394,14,8409,null,null,null,null,0,121]
[11,8510,22,8524,23,8534,null,null,null,null,0,122]
[11,8641,22,8651,14,8669,null,null,null,null,0,121]
[11,8766,11,8775,21,8785,null,null,null,null,0,112]
[11,8873,11,8881,21,8890,null,null,null,null,0,112]
[11,8994,22,9005,14,9017,null,null,null,null,0,121]
[11,9113,11,9122,21,9148,null,null,null,null,0,112]
[11,9236,11,9241,21,9266,null,null,null,null,0,112]
[11,9357,22,9368,23,9374,null,null,null,null,0,122]
[11,9472,11,9481,21,9505,null,null,null,null,0,112]
[11,9593,11,9601,21,9613,null,null,null,null,0,112]
[11,9701,11,9706,21,9723,null,null,null,null,0,112]
[11,9812,11,9821,21,9831,null,null,null,null,1,112]

{"sheet":"!2011-08-01_12h05m.Subject 56","index":6,"n_rows":67,"n_cols":48,"rows_kept":67,"cut":false,"hidden":false,"merged":[[1,1,1,2],[5,13,5,14],[18,13,18,14],[19,13,19,14],[4,19,4,22],[5,19,5,20],[4,39,4,42],[5,39,5,40],[4,44,4,47],[5,44,5,45],[4,24,4,27],[5,24,5,25],[4,29,4,32],[5,29,5,30],[4,34,4,37],[5,34,5,35]]}
["Report for:!2011-08-01_12h05m.Subject 56"]
["Date","2011-08-01",null,null,null,"Group","Phase 2 Con"]
["Hen",56,null,null,null,"Correct Sequence",{"$f":"Start!J2","v":122},null,null,null,null,null,null,null,null,"Total Sequences in Data",{"$f":"4994-COUNTBLANK(L7:L5000)","v":61},null,null,null,null,"Total Sequences in Block Data",{"$f":"COUNTA(L7:L16)","v":10},null,null,null,"Total Sequences in Block Data",{"$f":"COUNTA(L17:L26)","v":10},null,null,null,"Total Sequences in Block Data",{"$f":"COUNTA(L27:L37)","v":11},null,null,null,"Total Sequences in Block Data",{"$f":"COUNTA(L38:L47)","v":10},null,null,null,"Total Sequences in Block Data",{"$f":"COUNTA(L48:L57)","v":10},null,null,null,"Total Sequences in Block Data",{"$f":"COUNTA(L58:L67)","v":10}]
["Program","One",null,null,null,null,null,null,null,null,null,null,null,null,null,"Total Sequences in Summary",{"$f":"SUM(O7:O14)","v":61},null,null,null,null,"Total Sequences in Block Summary",{"$f":"SUM(U7:U14)","v":10},null,null,null,"Total Sequences in Block Summary",{"$f":"SUM(Z7:Z14)","v":10},null,null,null,"Total Sequences in Block Summary",{"$f":"SUM(AE7:AE14)","v":11},null,null,null,"Total Sequences in Block Summary",{"$f":"SUM(AJ7:AJ14)","v":10},null,null,null,"Total Sequences in Block Summary",{"$f":"SUM(AO7:AO14)","v":10},null,null,null,"Total Sequences in Block Summary",{"$f":"SUM(AT7:AT14)","v":10}]
[null,null,null,null,null,null,null,null,null,null,null,null,null,null,null,null,null,null,null,"Block 1",null,null,null,null,"Block 2",null,null,null,null,"Block 3",null,null,null,null,"Block 4",null,null,null,null,"Block 5",null,null,null,null,"Block 6"]
["Sequence\nComponent\n1","Time\n1","Sequence\nComponent\n2","Time\n2","Sequence\nComponent\n3","Time\n3","Sequence\nComponent\n4","Time\n4","Sequence\nComponent\n5","Time\n5","Correct?\n0=No 1=Yes","Sequence",null,"Frequency",null,"Relative Frequency","Variability",null,null,"Frequency",null,"Relative Frequency","Variability",null,"Frequency",null,"Relative Frequency","Variability",null,"Frequency",null,"Relative Frequency","Variability",null,"Frequency",null,"Relative Frequency","Variability",null,"Frequency",null,"Relative Frequency","Variability",null,"Frequency",null,"Relative Frequency","Variability"]
[22,10,24,17,23,27,null,null,null,null,0,222,null,111,{"$f":"COUNTIF($L$7:$L$500,N7)","v":2},{"$f":"O7/$Q$4","v":3.2786885245901641E-2},{"$f":"IF(P7=0,0,(P7*((LOG(P7))/LOG(2))))","v":-0.16166351926435696},null,null,{"$f":"N7","v":111},{"$f":"COUNTIF(L7:L16,T7)","v":0},{"$f":"U7/(W4-U10)","v":0},{"$f":"IF(V7=0,0,(V7*((LOG(V7))/LOG(2))))","v":0},null,{"$f":"N7","v":111},{"$f":"COUNTIF(L17:L26,Y7)","v":1},{"$f":"Z7/(AB4-Z10)","v":0.1111111111111111},{"$f":"IF(AA7=0,0,(AA7*((LOG(AA7))/LOG(2))))","v":-0.3522138890491458},null,{"$f":"N7","v":111},{"$f":"COUNTIF(L27:L37,AD7)","v":0},{"$f":"AE7/(AG4-AE10)","v":0},{"$f":"IF(AF7=0,0,(AF7*((LOG(AF7))/LOG(2))))","v":0},null,{"$f":"N7","v":111},{"$f":"COUNTIF(L38:L47,AI7)","v":0},{"$f":"AJ7/(AL4-AJ10)","v":0},{"$f":"IF(AK7=0,0,(AK7*((LOG(AK7))/LOG(2))))","v":0},null,{"$f":"N7","v":111},{"$f":"COUNTIF(L48:L57,AN7)","v":0},{"$f":"AO7/(AQ4-AO10)","v":0},{"$f":"IF(AP7=0,0,(AP7*((LOG(AP7))/LOG(2))))","v":0},null,{"$f":"N7","v":111},{"$f":"COUNTIF(L58:L67,AS7)","v":1},{"$f":"AT7/(AV4-AT10)","v":0.125},{"$f":"IF(AU7=0,0,(AU7*((LOG(AU7))/LOG(2))))","v":-0.375}]
[11,131,11,136,21,150,null,null,null,null,0,112,null,112,40,0.65573770491803274,-0.3992191755249338,null,null,112,{"$f":"COUNTIF(L7:L16,T8)","v":8},{"$f":"U8/(W4-U10)","v":0.8},{"$f":"IF(V8=0,0,(V8*((LOG(V8))/LOG(2))))","v":-0.25754247590988982},null,112,{"$f":"COUNTIF(L17:L26,Y8)","v":6},{"$f":"Z8/(AB4-Z10)","v":0.66666666666666663},{"$f":"IF(AA8=0,0,(AA8*((LOG(AA8))/LOG(2))))","v":-0.38997500048077083},null,112,{"$f":"COUNTIF(L27:L37,AD8)","v":8},{"$f":"AE8/(AG4-AE10)","v":0.8},{"$f":"IF(AF8=0,0,(AF8*((LOG(AF8))/LOG(2))))","v":-0.25754247590988982},null,112,{"$f":"COUNTIF(L38:L47,AI8)","v":5},{"$f":"AJ8/(AL4-AJ10)","v":0.5},{"$f":"IF(AK8=0,0,(AK8*((LOG(AK8))/LOG(2))))","v":-0.5},null,112,{"$f":"COUNTIF(L48:L57,AN8)","v":6},{"$f":"AO8/(AQ4-AO10)","v":1},{"$f":"IF(AP8=0,0,(AP8*((LOG(AP8))/LOG(2))))","v":0},null,112,{"$f":"COUNTIF(L58:L67,AS8)","v":7},{"$f":"AT8/(AV4-AT10)","v":0.875},{"$f":"IF(AU8=0,0,(AU8*((LOG(AU8))/LOG(2))))","v":-0.1685644431995964}]
[11,242,11,247,21,258,null,null,null,null,0,112,null,121,7,0.11475409836065574,-0.35842093292683563,null,null,121,{"$f":"COUNTIF(L7:L16,T9)","v":1},{"$f":"U9/(W4-U10)","v":0.1},{"$f":"IF(V9=0,0,(V9*((LOG(V9))/LOG(2))))","v":-0.33219280948873625},null,121,{"$f":"COUNTIF(L17:L26,Y9)","v":1},{"$f":"Z9/(AB4-Z10)","v":0.1111111111111111},{"$f":"IF(AA9=0,0,(AA9*((LOG(AA9))/LOG(2))))","v":-0.3522138890491458},null,121,{"$f":"COUNTIF(L27:L37,AD9)","v":1},{"$f":"AE9/(AG4-AE10)","v":0.1},{"$f":"IF(AF9=0,0,(AF9*((LOG(AF9))/LOG(2))))","v":-0.33219280948873625},null,121,{"$f":"COUNTIF(L38:L47,AI9)","v":4},{"$f":"AJ9/(AL4-AJ10)","v":0.4},{"$f":"IF(AK9=0,0,(AK9*((LOG(AK9))/LOG(2))))","v":-0.52877123795494496},null,121,{"$f":"COUNTIF(L48:L57,AN9)","v":0},{"$f":"AO9/(AQ4-AO10)","v":0},{"$f":"IF(AP9=0,0,(AP9*((LOG(AP9))/LOG(2))))","v":0},null,121,{"$f":"COUNTIF(L58:L67,AS9)","v":0},{"$f":"AT9/(AV4-AT10)","v":0},{"$f":"IF(AU9=0,0,(AU9*((LOG(AU9))/LOG(2))))","v":0}]
[11,352,11,359,21,370,null,null,null,null,0,112,null,122,8,0.13114754098360656,-0.38435899509021459,null,null,122,{"$f":"COUNTIF(L7:L16,T10)","v":0},null,null,null,122,{"$f":"COUNTIF(L17:L26,Y10)","v":1},null,null,null,122,{"$f":"COUNTIF(L27:L37,AD10)","v":1},null,null,null,122,{"$f":"COUNTIF(L38:L47,AI10)","v":0},null,null,null,122,{"$f":"COUNTIF(L48:L57,AN10)","v":4},null,null,null,122,{"$f":"COUNTIF(L58:L67,AS10)","v":2}]
[11,467,11,472,21,485,null,null,null,null,0,112,null,211,0,0,0,null,null,211,{"$f":"COUNTIF(L7:L16,T11)","v":0},{"$f":"U11/(W4-U10)","v":0},{"$f":"IF(V11=0,0,(V11*((LOG(V11))/LOG(2))))","v":0},null,211,{"$f":"COUNTIF(L17:L26,Y11)","v":0},{"$f":"Z11/(AB4-Z10)","v":0},{"$f":"IF(AA11=0,0,(AA11*((LOG(AA11))/LOG(2))))","v":0},null,211,{"$f":"COUNTIF(L27:L37,AD11)","v":0},{"$f":"AE11/(AG4-AE10)","v":0},{"$f":"IF(AF11=0,0,(AF11*((LOG(AF11))/LOG(2))))","v":0},null,211,{"$f":"COUNTIF(L38:L47,AI11)","v":0},{"$f":"AJ11/(AL4-AJ10)","v":0},{"$f":"IF(AK11=0,0,(AK11*((LOG(AK11))/LOG(2))))","v":0},null,211,{"$f":"COUNTIF(L48:L57,AN11)","v":0},{"$f":"AO11/(AQ4-AO10)","v":0},{"$f":"IF(AP11=0,0,(AP11*((LOG(AP11))/LOG(2))))","v":0},null,211,{"$f":"COUNTIF(L58:L67,AS11)","v":0},{"$f":"AT11/(AV4-AT10)","v":0},{"$f":"IF(AU11=0,0,(AU11*((LOG(AU11))/LOG(2))))","v":0}]
[11,575,11,582,21,600,null,null,null,null,0,112,null,212,0,0,0,null,null,212,{"$f":"COUNTIF(L7:L16,T12)","v":0},{"$f":"U12/(W4-U10)","v":0},{"$f":"IF(V12=0,0,(V12*((LOG(V12))/LOG(2))))","v":0},null,212,{"$f":"COUNTIF(L17:L26,Y12)","v":0},{"$f":"Z12/(AB4-Z10)","v":0},{"$f":"IF(AA12=0,0,(AA12*((LOG(AA12))/LOG(2))))","v":0},null,212,{"$f":"COUNTIF(L27:L37,AD12)","v":0},{"$f":"AE12/(AG4-AE10)","v":0},{"$f":"IF(AF12=0,0,(AF12*((LOG(AF12))/LOG(2))))","v":0},null,212,{"$f":"COUNTIF(L38:L47,AI12)","v":0},{"$f":"AJ12/(AL4-AJ10)","v":0},{"$f":"IF(AK12=0,0,(AK12*((LOG(AK12))/LOG(2))))","v":0},null,212,{"$f":"COUNTIF(L48:L57,AN12)","v":0},{"$f":"AO12/(AQ4-AO10)","v":0},{"$f":"IF(AP12=0,0,(AP12*((LOG(AP12))/LOG(2))))","v":0},null,212,{"$f":"COUNTIF(L58:L67,AS12)","v":0},{"$f":"AT12/(AV4-AT10)","v":0},{"$f":"IF(AU12=0,0,(AU12*((LOG(AU12))/LOG(2))))","v":0}]
[11,690,11,696,21,707,null,null,null,null,0,112,null,221,2,3.2786885245901641E-2,-0.16166351926435696,null,null,221,{"$f":"COUNTIF(L7:L16,T13)","v":0},{"$f":"U13/(W4-U10)","v":0},{"$f":"IF(V13=0,0,(V13*((LOG(V13))/LOG(2))))","v":0},null,221,{"$f":"COUNTIF(L17:L26,Y13)","v":1},{"$f":"Z13/(AB4-Z10)","v":0.1111111111111111},{"$f":"IF(AA13=0,0,(AA13*((LOG(AA13))/LOG(2))))","v":-0.3522138890491458},null,221,{"$f":"COUNTIF(L27:L37,AD13)","v":1},{"$f":"AE13/(AG4-AE10)","v":0.1},{"$f":"IF(AF13=0,0,(AF13*((LOG(AF13))/LOG(2))))","v":-0.33219280948873625},null,221,{"$f":"COUNTIF(L38:L47,AI13)","v":0},{"$f":"AJ13/(AL4-AJ10)","v":0},{"$f":"IF(AK13=0,0,(AK13*((LOG(AK13))/LOG(2))))","v":0},null,221,{"$f":"COUNTIF(L48:L57,AN13)","v":0},{"$f":"AO13/(AQ4-AO10)","v":0},{"$f":"IF(AP13=0,0,(AP13*((LOG(AP13))/LOG(2))))","v":0},null,221,{"$f":"COUNTIF(L58:L67,AS13)","v":0},{"$f":"AT13/(AV4-AT10)","v":0},{"$f":"IF(AU13=0,0,(AU13*((LOG(AU13))/LOG(2))))","v":0}]
[11,795,11,800,21,812,null,null,null,null,0,112,null,222,2,3.2786885245901641E-2,-0.16166351926435696,null,null,222,{"$f":"COUNTIF(L7:L16,T14)","v":1},{"$f":"U14/(W4-U10)","v":0.1},{"$f":"IF(V14=0,0,(V14*((LOG(V14))/LOG(2))))","v":-0.33219280948873625},null,222,{"$f":"COUNTIF(L17:L26,Y14)","v":0},{"$f":"Z14/(AB4-Z10)","v":0},{"$f":"IF(AA14=0,0,(AA14*((LOG(AA14))/LOG(2))))","v":0},null,222,{"$f":"COUNTIF(L27:L37,AD14)","v":0},{"$f":"AE14/(AG4-AE10)","v":0},{"$f":"IF(AF14=0,0,(AF14*((LOG(AF14))/LOG(2))))","v":0},null,222,{"$f":"COUNTIF(L38:L47,AI14)","v":1},{"$f":"AJ14/(AL4-AJ10)","v":0.1},{"$f":"IF(AK14=0,0,(AK14*((LOG(AK14))/LOG(2))))","v":-0.33219280948873625},null,222,{"$f":"COUNTIF(L48:L57,AN14)","v":0},{"$f":"AO14/(AQ4-AO10)","v":0},{"$f":"IF(AP14=0,0,(AP14*((LOG(AP14))/LOG(2))))","v":0},null,222,{"$f":"COUNTIF(L58:L67,AS14)","v":0},{"$f":"AT14/(AV4-AT10)","v":0},{"$f":"IF(AU14=0,0,(AU14*((LOG(AU14))/LOG(2))))","v":0}]
[11,904,22,917,14,931,null,null,null,null,0,121,null,null,null,{"$f":"SUM(P7:P14)","v":1},{"$f":"-SUM(Q7:Q14)","v":1.626989661335055},null,null,null,null,{"$f":"SUM(V7:V14)","v":1},{"$f":"-SUM(W7:W14)","v":0.92192809488736227},null,null,null,{"$f":"SUM(AA7:AA14)","v":1},{"$f":"-SUM(AB7:AB14)","v":1.4466166676282082},null,null,null,{"$f":"SUM(AF7:AF14)","v":1},{"$f":"-SUM(AG7:AG14)","v":0.92192809488736227},null,null,null,{"$f":"SUM(AK7:AK14)","v":1},{"$f":"-SUM(AL7:AL14)","v":1.3609640474436813},null,null,null,{"$f":"SUM(AP7:AP14)","v":1},{"$f":"-SUM(AQ7:AQ14)","v":0},null,null,null,{"$f":"SUM(AU7:AU14)","v":1},{"$f":"-SUM(AV7:AV14)","v":0.5435644431995964}]
[11,1031,11,1037,21,1049,null,null,null,null,0,112,null,null,null,"U=",{"$f":"Q15/(LOG(Q4)/LOG(2))","v":0.2743317683334856},null,null,null,null,"U1=",{"$f":"W15/(LOG(W4)/LOG(2))","v":0.27752801040644515},null,null,null,"U2=",{"$f":"AB15/(LOG(AB4)/LOG(2))","v":0.43547500918356247},null,null,null,"U3=",{"$f":"AG15/(LOG(AG4)/LOG(2))","v":0.26649698462619659},null,null,null,"U4=",{"$f":"AL15/(LOG(AL4)/LOG(2))","v":0.40969100130080571},null,null,null,"U5=",{"$f":"AQ15/(LOG(AQ4)/LOG(2))","v":0},null,null,null,"U6=",{"$f":"AV15/(LOG(AV4)/LOG(2))","v":0.16362920197946887}]
[11,1141,11,1146,21,1155,null,null,null,null,0,112]
[11,1252,22,1261,14,1276,null,null,null,null,0,121]
[22,1389,24,1396,14,1409,null,null,null,null,0,221,null,"Total Target Seq"]
[11,1509,11,1520,21,1530,null,null,null,null,0,112,null,{"$f":"COUNTIF(L7:L67,G3)","v":8},null,10,10,11,10,10,10]
[11,1618,22,1633,23,1661,null,null,null,null,0,122,null,null,null,"% of reinforcement given in 6 equal intervals based on number of trials "]
[11,1758,11,1774,21,1791,null,null,null,null,0,112,null,null,null,"%_1","%_2","%_3","%_4","%_5","%_6"]
[11,1882,11,1890,21,1902,null,null,null,null,0,112,null,null,"target sequence",{"$f":"$G$3","v":122},122,122,122,122,122]
[11,1989,11,1995,12,2025,null,null,null,null,0,111,null,null,"total reinforcement",{"$f":"U10","v":0},{"$f":"Z10","v":1},{"$f":"AE10","v":1},{"$f":"AJ10","v":0},{"$f":"AO10","v":4},{"$f":"AT10","v":2}]
[11,2121,11,2129,21,2139,null,null,null,null,0,112,null,null,"% target"]
[11,2229,11,2234,21,2244,null,null,null,null,0,112,null,null,"CCRF"]
[11,2331,11,2339,21,2349,null,null,null,null,0,112,null,null,"% CCRf"]
[11,2437,11,2443,21,2452,null,null,null,null,0,112,null,null,"average response rate",{"$f":"F16/P20","v":104.9},{"$f":"(F26-F16)/Q20","v":119.5},{"$f":"(F37-F26)/R20","v":116},{"$f":"(F47-F37)/S20","v":122.4},{"$f":"(F57-F47)/T20","v":120},{"$f":"(F67-F57)/U20","v":112.8}]
[11,2540,11,2545,21,2554,null,null,null,null,0,112]
[11,2649,22,2658,23,2665,null,null,null,null,0,122]
[11,2771,11,2782,21,2805,null,null,null,null,0,112]
[11,2891,11,2897,21,2907,null,null,null,null,0,112]
[11,2999,11,3004,21,3014,null,null,null,null,0,112]
[11,3104,11,3113,21,3122,null,null,null,null,0,112]
[11,3218,11,3228,21,3258,null,null,null,null,0,112]
[22,3367,24,3384,14,3396,null,null,null,null,0,221]
[11,3496,22,3505,14,3520,null,null,null,null,0,121]
[11,3621,22,3631,14,3644,null,null,null,null,0,121]
[11,3740,11,3750,21,3759,null,null,null,null,0,112]
[11,3848,22,3858,14,3870,null,null,null,null,0,121]
[22,3987,24,4021,23,4034,null,null,null,null,0,222]
[11,4145,22,4156,14,4169,null,null,null,null,0,121]
[11,4268,11,4274,21,4283,null,null,null,null,0,112]
[11,4375,22,4389,14,4402,null,null,null,null,0,121]
[11,4500,11,4507,21,4516,null,null,null,null,0,112]
[11,4607,11,4612,21,4621,null,null,null,null,0,112]
[11,4708,11,4723,21,4744,null,null,null,null,0,112]
[11,4833,11,4839,21,4848,null,null,null,null,0,112]
[11,4939,22,4948,23,4962,null,null,null,null,0,122]
[11,5057,11,5066,21,5075,null,null,null,null,0,112]
[11,5162,11,5168,21,5181,null,null,null,null,0,112]
[11,5279,22,5289,23,5302,null,null,null,null,0,122]
[11,5406,22,5415,23,5427,null,null,null,null,0,122]
[11,5524,11,5531,21,5559,null,null,null,null,0,112]
[11,5666,11,5689,21,5702,null,null,null,null,0,112]
[11,5790,11,5801,21,5823,null,null,null,null,0,112]
[11,5922,22,5931,23,5944,null,null,null,null,0,122]
[11,6039,22,6054,23,6065,null,null,null,null,0,122]
[11,6163,11,6177,21,6187,null,null,null,null,0,112]
[11,6274,11,6279,21,6290,null,null,null,null,0,112]
[11,6386,11,6392,21,6402,null,null,null,null,0,112]
[11,6491,11,6497,21,6518,null,null,null,null,0,112]
[11,6605,11,6610,21,6619,null,null,null,null,0,112]
[11,6712,22,6721,23,6738,null,null,null,null,0,122]
[11,6836,11,6842,12,6849,null,null,null,null,0,111]
[11,6948,11,6953,21,6965,null,null,null,null,0,112]
[11,7055,11,7062,21,7072,null,null,null,null,1,112]

{"sheet":"!2011-08-02_11h46m.Subject 56","index":7,"n_rows":61,"n_cols":48,"rows_kept":61,"cut":false,"hidden":false,"merged":[[1,1,1,2],[5,13,5,14],[18,13,18,14],[19,13,19,14],[4,19,4,22],[5,19,5,20],[4,39,4,42],[5,39,5,40],[4,44,4,47],[5,44,5,45],[4,24,4,27],[5,24,5,25],[4,29,4,32],[5,29,5,30],[4,34,4,37],[5,34,5,35]]}
["Report for:!2011-08-02_11h46m.Subject 56"]
["Date","2011-08-02",null,null,null,"Group","Phase 2 Con"]
["Hen",56,null,null,null,"Correct Sequence",{"$f":"Start!J2","v":122},null,null,null,null,null,null,null,null,"Total Sequences in Data",{"$f":"4994-COUNTBLANK(L7:L5000)","v":55},null,null,null,null,"Total Sequences in Block Data",{"$f":"COUNTA(L7:L15)","v":9},null,null,null,"Total Sequences in Block Data",{"$f":"COUNTA(L16:L24)","v":9},null,null,null,"Total Sequences in Block Data",{"$f":"COUNTA(L25:L34)","v":10},null,null,null,"Total Sequences in Block Data",{"$f":"COUNTA(L35:L43)","v":9},null,null,null,"Total Sequences in Block Data",{"$f":"COUNTA(L44:L52)","v":9},null,null,null,"Total Sequences in Block Data",{"$f":"COUNTA(L53:L61)","v":9}]
["Program","One",null,null,null,null,null,null,null,null,null,null,null,null,null,"Total Sequences in Summary",{"$f":"SUM(O7:O14)","v":55},null,null,null,null,"Total Sequences in Block Summary",{"$f":"SUM(U7:U14)","v":9},null,null,null,"Total Sequences in Block Summary",{"$f":"SUM(Z7:Z14)","v":9},null,null,null,"Total Sequences in Block Summary",{"$f":"SUM(AE7:AE14)","v":10},null,null,null,"Total Sequences in Block Summary",{"$f":"SUM(AJ7:AJ14)","v":9},null,null,null,"Total Sequences in Block Summary",{"$f":"SUM(AO7:AO14)","v":9},null,null,null,"Total Sequences in Block Summary",{"$f":"SUM(AT7:AT14)","v":9}]
[null,null,null,null,null,null,null,null,null,null,null,null,null,null,null,null,null,null,null,"Block 1",null,null,null,null,"Block 2",null,null,null,null,"Block 3",null,null,null,null,"Block 4",null,null,null,null,"Block 5",null,null,null,null,"Block 6"]
["Sequence\nComponent\n1","Time\n1","Sequence\nComponent\n2","Time\n2","Sequence\nComponent\n3","Time\n3","Sequence\nComponent\n4","Time\n4","Sequence\nComponent\n5","Time\n5","Correct?\n0=No 1=Yes","Sequence",null,"Frequency",null,"Relative Frequency","Variability",null,null,"Frequency",null,"Relative Frequency","Variability",null,"Frequency",null,"Relative Frequency","Variability",null,"Frequency",null,"Relative Frequency","Variability",null,"Frequency",null,"Relative Frequency","Variability",null,"Frequency",null,"Relative Frequency","Variability",null,"Frequency",null,"Relative Frequency","Variability"]
[11,10,11,16,21,29,null,null,null,null,0,112,null,111,{"$f":"COUNTIF($L$7:$L$500,N7)","v":2},{"$f":"O7/$Q$4","v":3.6363636363636362E-2},{"$f":"IF(P7=0,0,(P7*((LOG(P7))/LOG(2))))","v":-0.17386762594635127},null,null,{"$f":"N7","v":111},{"$f":"COUNTIF(L7:L15,T7)","v":0},{"$f":"U7/(W4-U10)","v":0},{"$f":"IF(V7=0,0,(V7*((LOG(V7))/LOG(2))))","v":0},null,{"$f":"N7","v":111},{"$f":"COUNTIF(L16:L24,Y7)","v":0},{"$f":"Z7/(AB4-Z10)","v":0},{"$f":"IF(AA7=0,0,(AA7*((LOG(AA7))/LOG(2))))","v":0},null,{"$f":"N7","v":111},{"$f":"COUNTIF(L25:L34,AD7)","v":0},{"$f":"AE7/(AG4-AE10)","v":0},{"$f":"IF(AF7=0,0,(AF7*((LOG(AF7))/LOG(2))))","v":0},null,{"$f":"N7","v":111},{"$f":"COUNTIF(L35:L43,AI7)","v":1},{"$f":"AJ7/(AL4-AJ10)","v":0.2},{"$f":"IF(AK7=0,0,(AK7*((LOG(AK7))/LOG(2))))","v":-0.46438561897747244},null,{"$f":"N7","v":111},{"$f":"COUNTIF(L44:L52,AN7)","v":0},{"$f":"AO7/(AQ4-AO10)","v":0},{"$f":"IF(AP7=0,0,(AP7*((LOG(AP7))/LOG(2))))","v":0},null,{"$f":"N7","v":111},{"$f":"COUNTIF(L53:L61,AS7)","v":1},{"$f":"AT7/(AV4-AT10)","v":0.1111111111111111},{"$f":"IF(AU7=0,0,(AU7*((LOG(AU7))/LOG(2))))","v":-0.3522138890491458}]
[11,120,11,125,21,135,null,null,null,null,0,112,null,112,40,0.72727272727272729,-0.33413208628167068,null,null,112,{"$f":"COUNTIF(L7:L15,T8)","v":7},{"$f":"U8/(W4-U10)","v":1},{"$f":"IF(V8=0,0,(V8*((LOG(V8))/LOG(2))))","v":0},null,112,{"$f":"COUNTIF(L16:L24,Y8)","v":7},{"$f":"Z8/(AB4-Z10)","v":1},{"$f":"IF(AA8=0,0,(AA8*((LOG(AA8))/LOG(2))))","v":0},null,112,{"$f":"COUNTIF(L25:L34,AD8)","v":5},{"$f":"AE8/(AG4-AE10)","v":0.83333333333333337},{"$f":"IF(AF8=0,0,(AF8*((LOG(AF8))/LOG(2))))","v":-0.21919533819482812},null,112,{"$f":"COUNTIF(L35:L43,AI8)","v":4},{"$f":"AJ8/(AL4-AJ10)","v":0.8},{"$f":"IF(AK8=0,0,(AK8*((LOG(AK8))/LOG(2))))","v":-0.25754247590988982},null,112,{"$f":"COUNTIF(L44:L52,AN8)","v":9},{"$f":"AO8/(AQ4-AO10)","v":1},{"$f":"IF(AP8=0,0,(AP8*((LOG(AP8))/LOG(2))))","v":0},null,112,{"$f":"COUNTIF(L53:L61,AS8)","v":8},{"$f":"AT8/(AV4-AT10)","v":0.88888888888888884},{"$f":"IF(AU8=0,0,(AU8*((LOG(AU8))/LOG(2))))","v":-0.15104444572649992}]
[11,227,11,235,21,259,null,null,null,null,0,112,null,121,0,0,0,null,null,121,{"$f":"COUNTIF(L7:L15,T9)","v":0},{"$f":"U9/(W4-U10)","v":0},{"$f":"IF(V9=0,0,(V9*((LOG(V9))/LOG(2))))","v":0},null,121,{"$f":"COUNTIF(L16:L24,Y9)","v":0},{"$f":"Z9/(AB4-Z10)","v":0},{"$f":"IF(AA9=0,0,(AA9*((LOG(AA9))/LOG(2))))","v":0},null,121,{"$f":"COUNTIF(L25:L34,AD9)","v":0},{"$f":"AE9/(AG4-AE10)","v":0},{"$f":"IF(AF9=0,0,(AF9*((LOG(AF9))/LOG(2))))","v":0},null,121,{"$f":"COUNTIF(L35:L43,AI9)","v":0},{"$f":"AJ9/(AL4-AJ10)","v":0},{"$f":"IF(AK9=0,0,(AK9*((LOG(AK9))/LOG(2))))","v":0},null,121,{"$f":"COUNTIF(L44:L52,AN9)","v":0},{"$f":"AO9/(AQ4-AO10)","v":0},{"$f":"IF(AP9=0,0,(AP9*((LOG(AP9))/LOG(2))))","v":0},null,121,{"$f":"COUNTIF(L53:L61,AS9)","v":0},{"$f":"AT9/(AV4-AT10)","v":0},{"$f":"IF(AU9=0,0,(AU9*((LOG(AU9))/LOG(2))))","v":0}]
[11,349,11,354,21,363,null,null,null,null,0,112,null,122,12,0.21818181818181817,-0.47921393733894618,null,null,122,{"$f":"COUNTIF(L7:L15,T10)","v":2},null,null,null,122,{"$f":"COUNTIF(L16:L24,Y10)","v":2},null,null,null,122,{"$f":"COUNTIF(L25:L34,AD10)","v":4},null,null,null,122,{"$f":"COUNTIF(L35:L43,AI10)","v":4},null,null,null,122,{"$f":"COUNTIF(L44:L52,AN10)","v":0},null,null,null,122,{"$f":"COUNTIF(L53:L61,AS10)","v":0}]
[11,452,11,456,21,466,null,null,null,null,0,112,null,211,0,0,0,null,null,211,{"$f":"COUNTIF(L7:L15,T11)","v":0},{"$f":"U11/(W4-U10)","v":0},{"$f":"IF(V11=0,0,(V11*((LOG(V11))/LOG(2))))","v":0},null,211,{"$f":"COUNTIF(L16:L24,Y11)","v":0},{"$f":"Z11/(AB4-Z10)","v":0},{"$f":"IF(AA11=0,0,(AA11*((LOG(AA11))/LOG(2))))","v":0},null,211,{"$f":"COUNTIF(L25:L34,AD11)","v":0},{"$f":"AE11/(AG4-AE10)","v":0},{"$f":"IF(AF11=0,0,(AF11*((LOG(AF11))/LOG(2))))","v":0},null,211,{"$f":"COUNTIF(L35:L43,AI11)","v":0},{"$f":"AJ11/(AL4-AJ10)","v":0},{"$f":"IF(AK11=0,0,(AK11*((LOG(AK11))/LOG(2))))","v":0},null,211,{"$f":"COUNTIF(L44:L52,AN11)","v":0},{"$f":"AO11/(AQ4-AO10)","v":0},{"$f":"IF(AP11=0,0,(AP11*((LOG(AP11))/LOG(2))))","v":0},null,211,{"$f":"COUNTIF(L53:L61,AS11)","v":0},{"$f":"AT11/(AV4-AT10)","v":0},{"$f":"IF(AU11=0,0,(AU11*((LOG(AU11))/LOG(2))))","v":0}]
[11,554,22,569,23,578,null,null,null,null,0,122,null,212,0,0,0,null,null,212,{"$f":"COUNTIF(L7:L15,T12)","v":0},{"$f":"U12/(W4-U10)","v":0},{"$f":"IF(V12=0,0,(V12*((LOG(V12))/LOG(2))))","v":0},null,212,{"$f":"COUNTIF(L16:L24,Y12)","v":0},{"$f":"Z12/(AB4-Z10)","v":0},{"$f":"IF(AA12=0,0,(AA12*((LOG(AA12))/LOG(2))))","v":0},null,212,{"$f":"COUNTIF(L25:L34,AD12)","v":0},{"$f":"AE12/(AG4-AE10)","v":0},{"$f":"IF(AF12=0,0,(AF12*((LOG(AF12))/LOG(2))))","v":0},null,212,{"$f":"COUNTIF(L35:L43,AI12)","v":0},{"$f":"AJ12/(AL4-AJ10)","v":0},{"$f":"IF(AK12=0,0,(AK12*((LOG(AK12))/LOG(2))))","v":0},null,212,{"$f":"COUNTIF(L44:L52,AN12)","v":0},{"$f":"AO12/(AQ4-AO10)","v":0},{"$f":"IF(AP12=0,0,(AP12*((LOG(AP12))/LOG(2))))","v":0},null,212,{"$f":"COUNTIF(L53:L61,AS12)","v":0},{"$f":"AT12/(AV4-AT10)","v":0},{"$f":"IF(AU12=0,0,(AU12*((LOG(AU12))/LOG(2))))","v":0}]
[11,682,22,692,23,701,null,null,null,null,0,122,null,221,0,0,0,null,null,221,{"$f":"COUNTIF(L7:L15,T13)","v":0},{"$f":"U13/(W4-U10)","v":0},{"$f":"IF(V13=0,0,(V13*((LOG(V13))/LOG(2))))","v":0},null,221,{"$f":"COUNTIF(L16:L24,Y13)","v":0},{"$f":"Z13/(AB4-Z10)","v":0},{"$f":"IF(AA13=0,0,(AA13*((LOG(AA13))/LOG(2))))","v":0},null,221,{"$f":"COUNTIF(L25:L34,AD13)","v":0},{"$f":"AE13/(AG4-AE10)","v":0},{"$f":"IF(AF13=0,0,(AF13*((LOG(AF13))/LOG(2))))","v":0},null,221,{"$f":"COUNTIF(L35:L43,AI13)","v":0},{"$f":"AJ13/(AL4-AJ10)","v":0},{"$f":"IF(AK13=0,0,(AK13*((LOG(AK13))/LOG(2))))","v":0},null,221,{"$f":"COUNTIF(L44:L52,AN13)","v":0},{"$f":"AO13/(AQ4-AO10)","v":0},{"$f":"IF(AP13=0,0,(AP13*((LOG(AP13))/LOG(2))))","v":0},null,221,{"$f":"COUNTIF(L53:L61,AS13)","v":0},{"$f":"AT13/(AV4-AT10)","v":0},{"$f":"IF(AU13=0,0,(AU13*((LOG(AU13))/LOG(2))))","v":0}]
[11,799,11,807,21,817,null,null,null,null,0,112,null,222,1,1.8181818181818181E-2,-0.10511563115499381,null,null,222,{"$f":"COUNTIF(L7:L15,T14)","v":0},{"$f":"U14/(W4-U10)","v":0},{"$f":"IF(V14=0,0,(V14*((LOG(V14))/LOG(2))))","v":0},null,222,{"$f":"COUNTIF(L16:L24,Y14)","v":0},{"$f":"Z14/(AB4-Z10)","v":0},{"$f":"IF(AA14=0,0,(AA14*((LOG(AA14))/LOG(2))))","v":0},null,222,{"$f":"COUNTIF(L25:L34,AD14)","v":1},{"$f":"AE14/(AG4-AE10)","v":0.16666666666666666},{"$f":"IF(AF14=0,0,(AF14*((LOG(AF14))/LOG(2))))","v":-0.43082708345352599},null,222,{"$f":"COUNTIF(L35:L43,AI14)","v":0},{"$f":"AJ14/(AL4-AJ10)","v":0},{"$f":"IF(AK14=0,0,(AK14*((LOG(AK14))/LOG(2))))","v":0},null,222,{"$f":"COUNTIF(L44:L52,AN14)","v":0},{"$f":"AO14/(AQ4-AO10)","v":0},{"$f":"IF(AP14=0,0,(AP14*((LOG(AP14))/LOG(2))))","v":0},null,222,{"$f":"COUNTIF(L53:L61,AS14)","v":0},{"$f":"AT14/(AV4-AT10)","v":0},{"$f":"IF(AU14=0,0,(AU14*((LOG(AU14))/LOG(2))))","v":0}]
[11,908,11,913,21,922,null,null,null,null,0,112,null,null,null,{"$f":"SUM(P7:P14)","v":1},{"$f":"-SUM(Q7:Q14)","v":1.092329280721962},null,null,null,null,{"$f":"SUM(V7:V14)","v":1},{"$f":"-SUM(W7:W14)","v":0},null,null,null,{"$f":"SUM(AA7:AA14)","v":1},{"$f":"-SUM(AB7:AB14)","v":0},null,null,null,{"$f":"SUM(AF7:AF14)","v":1},{"$f":"-SUM(AG7:AG14)","v":0.65002242164835411},null,null,null,{"$f":"SUM(AK7:AK14)","v":1},{"$f":"-SUM(AL7:AL14)","v":0.72192809488736231},null,null,null,{"$f":"SUM(AP7:AP14)","v":1},{"$f":"-SUM(AQ7:AQ14)","v":0},null,null,null,{"$f":"SUM(AU7:AU14)","v":1},{"$f":"-SUM(AV7:AV14)","v":0.50325833477564574}]
[11,1010,11,1015,21,1024,null,null,null,null,0,112,null,null,null,"U=",{"$f":"Q15/(LOG(Q4)/LOG(2))","v":0.18893985755057149},null,null,null,null,"U1=",{"$f":"W15/(LOG(W4)/LOG(2))","v":0},null,null,null,"U2=",{"$f":"AB15/(LOG(AB4)/LOG(2))","v":0},null,null,null,"U3=",{"$f":"AG15/(LOG(AG4)/LOG(2))","v":0.1956762467702946},null,null,null,"U4=",{"$f":"AL15/(LOG(AL4)/LOG(2))","v":0.22774295750179763},null,null,null,"U5=",{"$f":"AQ15/(LOG(AQ4)/LOG(2))","v":0},null,null,null,"U6=",{"$f":"AV15/(LOG(AV4)/LOG(2))","v":0.15876032857139011}]
[11,1112,11,1120,21,1129,null,null,null,null,0,112]
[11,1217,22,1230,23,1244,null,null,null,null,0,122]
[11,1348,22,1357,23,1365,null,null,null,null,0,122,null,"Total Target Seq"]
[11,1464,11,1468,21,1478,null,null,null,null,0,112,null,{"$f":"COUNTIF(L7:L61,G3)","v":12},null,9,9,10,9,9,9]
[11,1568,11,1577,21,1601,null,null,null,null,0,112,null,null,null,"% of reinforcement given in 6 equal intervals based on number of trials "]
[11,1692,11,1697,21,1709,null,null,null,null,0,112,null,null,null,"%_1","%_2","%_3","%_4","%_5","%_6"]
[11,1799,11,1804,21,1814,null,null,null,null,0,112,null,null,"target sequence",{"$f":"$G$3","v":122},122,122,122,122,122]
[11,1905,11,1913,21,1923,null,null,null,null,0,112,null,null,"total reinforcement",{"$f":"U10","v":2},{"$f":"Z10","v":2},{"$f":"AE10","v":4},{"$f":"AJ10","v":4},{"$f":"AO10","v":0},{"$f":"AT10","v":0}]
[11,2012,11,2017,21,2027,null,null,null,null,0,112,null,null,"% target"]
[11,2114,11,2120,21,2132,null,null,null,null,0,112,null,null,"CCRF"]
[11,2231,22,2242,23,2257,null,null,null,null,0,122,null,null,"% CCRf"]
[11,2355,22,2369,23,2400,null,null,null,null,0,122,null,null,"average response rate",{"$f":"F15/P20","v":102.44444444444444},{"$f":"(F24-F15)/Q20","v":111.22222222222223},{"$f":"(F34-F24)/R20","v":125.2},{"$f":"(F43-F34)/S20","v":126.33333333333333},{"$f":"(F52-F43)/T20","v":114.44444444444444},{"$f":"(F61-F52)/U20","v":111.33333333333333}]
[11,2496,11,2498,21,2512,null,null,null,null,0,112]
[11,2621,22,2632,23,2668,null,null,null,null,0,122]
[22,2778,24,2785,23,2798,null,null,null,null,0,222]
[11,2897,11,2902,21,2916,null,null,null,null,0,112]
[11,3004,22,3018,23,3025,null,null,null,null,0,122]
[11,3124,11,3129,21,3175,null,null,null,null,0,112]
[11,3267,11,3272,21,3310,null,null,null,null,0,112]
[11,3398,11,3408,21,3433,null,null,null,null,0,112]
[11,3524,22,3578,23,3590,null,null,null,null,0,122]
[11,3689,11,3696,21,3705,null,null,null,null,0,112]
[11,3793,11,3803,21,3823,null,null,null,null,0,112]
[11,3912,11,3922,12,3927,null,null,null,null,0,111]
[11,4029,22,4040,23,4051,null,null,null,null,0,122]
[11,4164,22,4176,23,4183,null,null,null,null,0,122]
[11,4280,22,4293,23,4312,null,null,null,null,0,122]
[11,4414,11,4421,21,4433,null,null,null,null,0,112]
[11,4524,11,4529,21,4585,null,null,null,null,0,112]
[11,4674,11,4682,21,4719,null,null,null,null,0,112]
[11,4809,11,4815,21,4825,null,null,null,null,0,112]
[11,4914,11,4920,21,4929,null,null,null,null,0,112]
[11,5015,11,5021,21,5030,null,null,null,null,0,112]
[11,5119,11,5124,21,5133,null,null,null,null,0,112]
[11,5220,11,5225,21,5237,null,null,null,null,0,112]
[11,5322,11,5328,21,5342,null,null,null,null,0,112]
[11,5428,11,5434,21,5443,null,null,null,null,0,112]
[11,5534,11,5540,12,5550,null,null,null,null,0,111]
[11,5649,11,5654,21,5664,null,null,null,null,0,112]
[11,5754,11,5759,21,5824,null,null,null,null,0,112]
[11,5917,11,5922,21,5931,null,null,null,null,0,112]
[11,6019,11,6024,21,6034,null,null,null,null,0,112]
[11,6119,11,6124,21,6134,null,null,null,null,0,112]
[11,6223,11,6228,21,6237,null,null,null,null,0,112]
[11,6326,11,6335,21,6344,null,null,null,null,1,112]

{"sheet":"!L803B40.056","index":8,"n_rows":51,"n_cols":48,"rows_kept":51,"cut":false,"hidden":false,"merged":[[1,1,1,2],[5,13,5,14],[18,13,18,14],[19,13,19,14],[4,19,4,22],[5,19,5,20],[4,39,4,42],[5,39,5,40],[4,44,4,47],[5,44,5,45],[4,24,4,27],[5,24,5,25],[4,29,4,32],[5,29,5,30],[4,34,4,37],[5,34,5,35]]}
["Report for:!L803B40.056"]
["Date:","<date>"]
["Hen:","<hen>",null,null,null,"Correct Sequence",{"$f":"Start!J2","v":122},null,null,null,null,null,null,null,null,"Total Sequences in Data",{"$f":"4994-COUNTBLANK(L7:L5000)","v":45},null,null,null,null,"Total Sequences in Block Data",{"$f":"COUNTA(L7:L14)","v":8},null,null,null,"Total Sequences in Block Data",{"$f":"COUNTA(L15:L21)","v":7},null,null,null,"Total Sequences in Block Data",{"$f":"COUNTA(L22:L29)","v":8},null,null,null,"Total Sequences in Block Data",{"$f":"COUNTA(L30:L36)","v":7},null,null,null,"Total Sequences in Block Data",{"$f":"COUNTA(L37:L44)","v":8},null,null,null,"Total Sequences in Block Data",{"$f":"COUNTA(L45:L51)","v":7}]
[null,null,null,null,null,null,null,null,null,null,null,null,null,null,null,"Total Sequences in Summary",{"$f":"SUM(O7:O14)","v":45},null,null,null,null,"Total Sequences in Block Summary",{"$f":"SUM(U7:U14)","v":8},null,null,null,"Total Sequences in Block Summary",{"$f":"SUM(Z7:Z14)","v":7},null,null,null,"Total Sequences in Block Summary",{"$f":"SUM(AE7:AE14)","v":8},null,null,null,"Total Sequences in Block Summary",{"$f":"SUM(AJ7:AJ14)","v":7},null,null,null,"Total Sequences in Block Summary",{"$f":"SUM(AO7:AO14)","v":8},null,null,null,"Total Sequences in Block Summary",{"$f":"SUM(AT7:AT14)","v":7}]
[null,null,null,null,null,null,null,null,null,null,null,null,null,null,null,null,null,null,null,"Block 1",null,null,null,null,"Block 2",null,null,null,null,"Block 3",null,null,null,null,"Block 4",null,null,null,null,"Block 5",null,null,null,null,"Block 6"]
["Sequence\nComponent\n1","Time\n1","Sequence\nComponent\n2","Time\n2","Sequence\nComponent\n3","Time\n3","Sequence\nComponent\n4","Time\n4","Sequence\nComponent\n5","Time\n5","Correct?\n0=No 1=Yes","Sequence",null,"Frequency",null,"Relative Frequency","Variability",null,null,"Frequency",null,"Relative Frequency","Variability",null,"Frequency",null,"Relative Frequency","Variability",null,"Frequency",null,"Relative Frequency","Variability",null,"Frequency",null,"Relative Frequency","Variability",null,"Frequency",null,"Relative Frequency","Variability",null,"Frequency",null,"Relative Frequency","Variability"]
[11,13,11,18,21,30,null,null,null,null,0,112,null,111,{"$f":"COUNTIF($L$7:$L$500,N7)","v":1},{"$f":"O7/$Q$4","v":2.2222222222222223E-2},{"$f":"IF(P7=0,0,(P7*((LOG(P7))/LOG(2))))","v":-0.12204117991843723},null,null,{"$f":"N7","v":111},{"$f":"COUNTIF(L7:L14,T7)","v":0},{"$f":"U7/(W4-U10)","v":0},{"$f":"IF(V7=0,0,(V7*((LOG(V7))/LOG(2))))","v":0},null,{"$f":"N7","v":111},{"$f":"COUNTIF(L15:L21,Y7)","v":0},{"$f":"Z7/(AB4-Z10)","v":0},{"$f":"IF(AA7=0,0,(AA7*((LOG(AA7))/LOG(2))))","v":0},null,{"$f":"N7","v":111},{"$f":"COUNTIF(L22:L29,AD7)","v":1},{"$f":"AE7/(AG4-AE10)","v":0.125},{"$f":"IF(AF7=0,0,(AF7*((LOG(AF7))/LOG(2))))","v":-0.375},null,{"$f":"N7","v":111},{"$f":"COUNTIF(L30:L36,AI7)","v":0},{"$f":"AJ7/(AL4-AJ10)","v":0},{"$f":"IF(AK7=0,0,(AK7*((LOG(AK7))/LOG(2))))","v":0},null,{"$f":"N7","v":111},{"$f":"COUNTIF(L37:L44,AN7)","v":0},{"$f":"AO7/(AQ4-AO10)","v":0},{"$f":"IF(AP7=0,0,(AP7*((LOG(AP7))/LOG(2))))","v":0},null,{"$f":"N7","v":111},{"$f":"COUNTIF(L45:L51,AS7)","v":0},{"$f":"AT7/(AV4-AT10)","v":0},{"$f":"IF(AU7=0,0,(AU7*((LOG(AU7))/LOG(2))))","v":0}]
[11,122,11,127,21,136,null,null,null,null,0,112,null,112,40,0.88888888888888884,-0.15104444572649992,null,null,112,{"$f":"COUNTIF(L7:L14,T8)","v":7},{"$f":"U8/(W4-U10)","v":0.875},{"$f":"IF(V8=0,0,(V8*((LOG(V8))/LOG(2))))","v":-0.1685644431995964},null,112,{"$f":"COUNTIF(L15:L21,Y8)","v":7},{"$f":"Z8/(AB4-Z10)","v":1},{"$f":"IF(AA8=0,0,(AA8*((LOG(AA8))/LOG(2))))","v":0},null,112,{"$f":"COUNTIF(L22:L29,AD8)","v":7},{"$f":"AE8/(AG4-AE10)","v":0.875},{"$f":"IF(AF8=0,0,(AF8*((LOG(AF8))/LOG(2))))","v":-0.1685644431995964},null,112,{"$f":"COUNTIF(L30:L36,AI8)","v":7},{"$f":"AJ8/(AL4-AJ10)","v":1},{"$f":"IF(AK8=0,0,(AK8*((LOG(AK8))/LOG(2))))","v":0},null,112,{"$f":"COUNTIF(L37:L44,AN8)","v":5},{"$f":"AO8/(AQ4-AO10)","v":0.83333333333333337},{"$f":"IF(AP8=0,0,(AP8*((LOG(AP8))/LOG(2))))","v":-0.21919533819482812},null,112,{"$f":"COUNTIF(L45:L51,AS8)","v":7},{"$f":"AT8/(AV4-AT10)","v":1},{"$f":"IF(AU8=0,0,(AU8*((LOG(AU8))/LOG(2))))","v":0}]
[11,228,11,235,21,245,null,null,null,null,0,112,null,121,0,0,0,null,null,121,{"$f":"COUNTIF(L7:L14,T9)","v":0},{"$f":"U9/(W4-U10)","v":0},{"$f":"IF(V9=0,0,(V9*((LOG(V9))/LOG(2))))","v":0},null,121,{"$f":"COUNTIF(L15:L21,Y9)","v":0},{"$f":"Z9/(AB4-Z10)","v":0},{"$f":"IF(AA9=0,0,(AA9*((LOG(AA9))/LOG(2))))","v":0},null,121,{"$f":"COUNTIF(L22:L29,AD9)","v":0},{"$f":"AE9/(AG4-AE10)","v":0},{"$f":"IF(AF9=0,0,(AF9*((LOG(AF9))/LOG(2))))","v":0},null,121,{"$f":"COUNTIF(L30:L36,AI9)","v":0},{"$f":"AJ9/(AL4-AJ10)","v":0},{"$f":"IF(AK9=0,0,(AK9*((LOG(AK9))/LOG(2))))","v":0},null,121,{"$f":"COUNTIF(L37:L44,AN9)","v":0},{"$f":"AO9/(AQ4-AO10)","v":0},{"$f":"IF(AP9=0,0,(AP9*((LOG(AP9))/LOG(2))))","v":0},null,121,{"$f":"COUNTIF(L45:L51,AS9)","v":0},{"$f":"AT9/(AV4-AT10)","v":0},{"$f":"IF(AU9=0,0,(AU9*((LOG(AU9))/LOG(2))))","v":0}]
[22,345,24,358,14,373,null,null,null,null,0,221,null,122,2,4.4444444444444446E-2,-0.19963791539243,null,null,122,{"$f":"COUNTIF(L7:L14,T10)","v":0},null,null,null,122,{"$f":"COUNTIF(L15:L21,Y10)","v":0},null,null,null,122,{"$f":"COUNTIF(L22:L29,AD10)","v":0},null,null,null,122,{"$f":"COUNTIF(L30:L36,AI10)","v":0},null,null,null,122,{"$f":"COUNTIF(L37:L44,AN10)","v":2},null,null,null,122,{"$f":"COUNTIF(L45:L51,AS10)","v":0}]
[11,473,11,482,21,492,null,null,null,null,0,112,null,211,0,0,0,null,null,211,{"$f":"COUNTIF(L7:L14,T11)","v":0},{"$f":"U11/(W4-U10)","v":0},{"$f":"IF(V11=0,0,(V11*((LOG(V11))/LOG(2))))","v":0},null,211,{"$f":"COUNTIF(L15:L21,Y11)","v":0},{"$f":"Z11/(AB4-Z10)","v":0},{"$f":"IF(AA11=0,0,(AA11*((LOG(AA11))/LOG(2))))","v":0},null,211,{"$f":"COUNTIF(L22:L29,AD11)","v":0},{"$f":"AE11/(AG4-AE10)","v":0},{"$f":"IF(AF11=0,0,(AF11*((LOG(AF11))/LOG(2))))","v":0},null,211,{"$f":"COUNTIF(L30:L36,AI11)","v":0},{"$f":"AJ11/(AL4-AJ10)","v":0},{"$f":"IF(AK11=0,0,(AK11*((LOG(AK11))/LOG(2))))","v":0},null,211,{"$f":"COUNTIF(L37:L44,AN11)","v":0},{"$f":"AO11/(AQ4-AO10)","v":0},{"$f":"IF(AP11=0,0,(AP11*((LOG(AP11))/LOG(2))))","v":0},null,211,{"$f":"COUNTIF(L45:L51,AS11)","v":0},{"$f":"AT11/(AV4-AT10)","v":0},{"$f":"IF(AU11=0,0,(AU11*((LOG(AU11))/LOG(2))))","v":0}]
[11,584,11,590,21,608,null,null,null,null,0,112,null,212,0,0,0,null,null,212,{"$f":"COUNTIF(L7:L14,T12)","v":0},{"$f":"U12/(W4-U10)","v":0},{"$f":"IF(V12=0,0,(V12*((LOG(V12))/LOG(2))))","v":0},null,212,{"$f":"COUNTIF(L15:L21,Y12)","v":0},{"$f":"Z12/(AB4-Z10)","v":0},{"$f":"IF(AA12=0,0,(AA12*((LOG(AA12))/LOG(2))))","v":0},null,212,{"$f":"COUNTIF(L22:L29,AD12)","v":0},{"$f":"AE12/(AG4-AE10)","v":0},{"$f":"IF(AF12=0,0,(AF12*((LOG(AF12))/LOG(2))))","v":0},null,212,{"$f":"COUNTIF(L30:L36,AI12)","v":0},{"$f":"AJ12/(AL4-AJ10)","v":0},{"$f":"IF(AK12=0,0,(AK12*((LOG(AK12))/LOG(2))))","v":0},null,212,{"$f":"COUNTIF(L37:L44,AN12)","v":0},{"$f":"AO12/(AQ4-AO10)","v":0},{"$f":"IF(AP12=0,0,(AP12*((LOG(AP12))/LOG(2))))","v":0},null,212,{"$f":"COUNTIF(L45:L51,AS12)","v":0},{"$f":"AT12/(AV4-AT10)","v":0},{"$f":"IF(AU12=0,0,(AU12*((LOG(AU12))/LOG(2))))","v":0}]
[11,696,11,702,21,712,null,null,null,null,0,112,null,221,1,2.2222222222222223E-2,-0.12204117991843723,null,null,221,{"$f":"COUNTIF(L7:L14,T13)","v":1},{"$f":"U13/(W4-U10)","v":0.125},{"$f":"IF(V13=0,0,(V13*((LOG(V13))/LOG(2))))","v":-0.375},null,221,{"$f":"COUNTIF(L15:L21,Y13)","v":0},{"$f":"Z13/(AB4-Z10)","v":0},{"$f":"IF(AA13=0,0,(AA13*((LOG(AA13))/LOG(2))))","v":0},null,221,{"$f":"COUNTIF(L22:L29,AD13)","v":0},{"$f":"AE13/(AG4-AE10)","v":0},{"$f":"IF(AF13=0,0,(AF13*((LOG(AF13))/LOG(2))))","v":0},null,221,{"$f":"COUNTIF(L30:L36,AI13)","v":0},{"$f":"AJ13/(AL4-AJ10)","v":0},{"$f":"IF(AK13=0,0,(AK13*((LOG(AK13))/LOG(2))))","v":0},null,221,{"$f":"COUNTIF(L37:L44,AN13)","v":0},{"$f":"AO13/(AQ4-AO10)","v":0},{"$f":"IF(AP13=0,0,(AP13*((LOG(AP13))/LOG(2))))","v":0},null,221,{"$f":"COUNTIF(L45:L51,AS13)","v":0},{"$f":"AT13/(AV4-AT10)","v":0},{"$f":"IF(AU13=0,0,(AU13*((LOG(AU13))/LOG(2))))","v":0}]
[11,802,11,817,21,827,null,null,null,null,0,112,null,222,1,2.2222222222222223E-2,-0.12204117991843723,null,null,222,{"$f":"COUNTIF(L7:L14,T14)","v":0},{"$f":"U14/(W4-U10)","v":0},{"$f":"IF(V14=0,0,(V14*((LOG(V14))/LOG(2))))","v":0},null,222,{"$f":"COUNTIF(L15:L21,Y14)","v":0},{"$f":"Z14/(AB4-Z10)","v":0},{"$f":"IF(AA14=0,0,(AA14*((LOG(AA14))/LOG(2))))","v":0},null,222,{"$f":"COUNTIF(L22:L29,AD14)","v":0},{"$f":"AE14/(AG4-AE10)","v":0},{"$f":"IF(AF14=0,0,(AF14*((LOG(AF14))/LOG(2))))","v":0},null,222,{"$f":"COUNTIF(L30:L36,AI14)","v":0},{"$f":"AJ14/(AL4-AJ10)","v":0},{"$f":"IF(AK14=0,0,(AK14*((LOG(AK14))/LOG(2))))","v":0},null,222,{"$f":"COUNTIF(L37:L44,AN14)","v":1},{"$f":"AO14/(AQ4-AO10)","v":0.16666666666666666},{"$f":"IF(AP14=0,0,(AP14*((LOG(AP14))/LOG(2))))","v":-0.43082708345352599},null,222,{"$f":"COUNTIF(L45:L51,AS14)","v":0},{"$f":"AT14/(AV4-AT10)","v":0},{"$f":"IF(AU14=0,0,(AU14*((LOG(AU14))/LOG(2))))","v":0}]
[11,916,11,921,21,930,null,null,null,null,0,112,null,null,null,{"$f":"SUM(P7:P14)","v":1},{"$f":"-SUM(Q7:Q14)","v":0.71680590087424156},null,null,null,null,{"$f":"SUM(V7:V14)","v":1},{"$f":"-SUM(W7:W14)","v":0.5435644431995964},null,null,null,{"$f":"SUM(AA7:AA14)","v":1},{"$f":"-SUM(AB7:AB14)","v":0},null,null,null,{"$f":"SUM(AF7:AF14)","v":1},{"$f":"-SUM(AG7:AG14)","v":0.5435644431995964},null,null,null,{"$f":"SUM(AK7:AK14)","v":1},{"$f":"-SUM(AL7:AL14)","v":0},null,null,null,{"$f":"SUM(AP7:AP14)","v":1},{"$f":"-SUM(AQ7:AQ14)","v":0.65002242164835411},null,null,null,{"$f":"SUM(AU7:AU14)","v":1},{"$f":"-SUM(AV7:AV14)","v":0}]
[11,1018,11,1023,21,1032,null,null,null,null,0,112,null,null,null,"U=",{"$f":"Q15/(LOG(Q4)/LOG(2))","v":0.13052168153465332},null,null,null,null,"U1=",{"$f":"W15/(LOG(W4)/LOG(2))","v":0.1811881477331988},null,null,null,"U2=",{"$f":"AB15/(LOG(AB4)/LOG(2))","v":0},null,null,null,"U3=",{"$f":"AG15/(LOG(AG4)/LOG(2))","v":0.1811881477331988},null,null,null,"U4=",{"$f":"AL15/(LOG(AL4)/LOG(2))","v":0},null,null,null,"U5=",{"$f":"AQ15/(LOG(AQ4)/LOG(2))","v":0.21667414054945136},null,null,null,"U6=",{"$f":"AV15/(LOG(AV4)/LOG(2))","v":0}]
[11,1126,11,1131,21,1141,null,null,null,null,0,112]
[11,1230,11,1234,21,1244,null,null,null,null,0,112]
[11,1332,11,1337,21,1347,null,null,null,null,0,112,null,"Total Target Seq"]
[11,1435,11,1439,21,1466,null,null,null,null,0,112,null,{"$f":"COUNTIF(L7:L51,G3)","v":2},null,8,7,8,7,8,7]
[11,1555,11,1560,21,1570,null,null,null,null,0,112,null,null,null,"% of reinforcement given in 6 equal intervals based on number of trials "]
[11,1657,11,1662,21,1674,null,null,null,null,0,112,null,null,null,"%_1","%_2","%_3","%_4","%_5","%_6"]
[11,1760,11,1765,21,1781,null,null,null,null,0,112,null,null,"target sequence",{"$f":"$G$3","v":122},122,122,122,122,122]
[11,1868,11,1873,21,1886,null,null,null,null,0,112,null,null,"total reinforcement",{"$f":"U10","v":0},{"$f":"Z10","v":0},{"$f":"AE10","v":0},{"$f":"AJ10","v":0},{"$f":"AO10","v":2},{"$f":"AT10","v":0}]
[11,1978,11,1988,21,1998,null,null,null,null,0,112,null,null,"% target"]
[11,2085,11,2090,21,2100,null,null,null,null,0,112,null,null,"CCRF"]
[11,2185,11,2190,21,2199,null,null,null,null,0,112,null,null,"% CCRf"]
[11,2284,11,2289,12,2297,null,null,null,null,0,111,null,null,"average response rate",{"$f":"F14/P20","v":103.375},{"$f":"(F21-F14)/Q20","v":106.14285714285714},{"$f":"(F29-F21)/R20","v":104.75},{"$f":"(F36-F29)/S20","v":106.42857142857143},{"$f":"(F44-F36)/T20","v":113.125},{"$f":"(F51-F44)/U20","v":117.14285714285714}]
[11,2394,11,2398,21,2408,null,null,null,null,0,112]
[11,2499,11,2504,21,2513,null,null,null,null,0,112]
[11,2602,11,2607,21,2619,null,null,null,null,0,112]
[11,2705,11,2713,21,2722,null,null,null,null,0,112]
[11,2807,11,2812,21,2822,null,null,null,null,0,112]
[11,2911,11,2915,21,2924,null,null,null,null,0,112]
[11,3022,11,3041,21,3053,null,null,null,null,0,112]
[11,3140,11,3145,21,3153,null,null,null,null,0,112]
[22,3255,24,3266,23,3281,null,null,null,null,0,222]
[11,3377,11,3381,21,3391,null,null,null,null,0,112]
[11,3476,11,3482,21,3492,null,null,null,null,0,112]
[11,3585,11,3590,21,3598,null,null,null,null,0,112]
[11,3684,11,3694,21,3703,null,null,null,null,0,112]
[11,3796,22,3805,23,3819,null,null,null,null,0,122]
[11,3915,22,3927,23,3939,null,null,null,null,0,122]
[11,4040,11,4049,21,4058,null,null,null,null,0,112]
[11,4147,11,4151,21,4161,null,null,null,null,0,112]
[11,4249,11,4254,21,4292,null,null,null,null,0,112]
[11,4385,11,4397,21,4406,null,null,null,null,0,112]
[11,4494,11,4498,21,4540,null,null,null,null,0,112]
[11,4630,11,4634,21,4666,null,null,null,null,0,112]
[11,4755,11,4759,21,4769,null,null,null,null,0,112]
[11,4857,11,4868,21,4878,null,null,null,null,1,112]

{"sheet":"!L804D00.056","index":9,"n_rows":67,"n_cols":48,"rows_kept":67,"cut":false,"hidden":false,"merged":[[1,1,1,2],[5,13,5,14],[18,13,18,14],[19,13,19,14],[4,19,4,22],[5,19,5,20],[4,39,4,42],[5,39,5,40],[4,44,4,47],[5,44,5,45],[4,24,4,27],[5,24,5,25],[4,29,4,32],[5,29,5,30],[4,34,4,37],[5,34,5,35]]}
["Report for:!L804D00.056"]
["Date:","<date>"]
["Hen:","<hen>",null,null,null,"Correct Sequence",{"$f":"Start!J2","v":122},null,null,null,null,null,null,null,null,"Total Sequences in Data",{"$f":"4994-COUNTBLANK(L7:L5000)","v":61},null,null,null,null,"Total Sequences in Block Data",{"$f":"COUNTA(L7:L16)","v":10},null,null,null,"Total Sequences in Block Data",{"$f":"COUNTA(L17:L26)","v":10},null,null,null,"Total Sequences in Block Data",{"$f":"COUNTA(L27:L37)","v":11},null,null,null,"Total Sequences in Block Data",{"$f":"COUNTA(L38:L47)","v":10},null,null,null,"Total Sequences in Block Data",{"$f":"COUNTA(L48:L57)","v":10},null,null,null,"Total Sequences in Block Data",{"$f":"COUNTA(L58:L67)","v":10}]
[null,null,null,null,null,null,null,null,null,null,null,null,null,null,null,"Total Sequences in Summary",{"$f":"SUM(O7:O14)","v":61},null,null,null,null,"Total Sequences in Block Summary",{"$f":"SUM(U7:U14)","v":10},null,null,null,"Total Sequences in Block Summary",{"$f":"SUM(Z7:Z14)","v":10},null,null,null,"Total Sequences in Block Summary",{"$f":"SUM(AE7:AE14)","v":11},null,null,null,"Total Sequences in Block Summary",{"$f":"SUM(AJ7:AJ14)","v":10},null,null,null,"Total Sequences in Block Summary",{"$f":"SUM(AO7:AO14)","v":10},null,null,null,"Total Sequences in Block Summary",{"$f":"SUM(AT7:AT14)","v":10}]
[null,null,null,null,null,null,null,null,null,null,null,null,null,null,null,null,null,null,null,"Block 1",null,null,null,null,"Block 2",null,null,null,null,"Block 3",null,null,null,null,"Block 4",null,null,null,null,"Block 5",null,null,null,null,"Block 6"]
["Sequence\nComponent\n1","Time\n1","Sequence\nComponent\n2","Time\n2","Sequence\nComponent\n3","Time\n3","Sequence\nComponent\n4","Time\n4","Sequence\nComponent\n5","Time\n5","Correct?\n0=No 1=Yes","Sequence",null,"Frequency",null,"Relative Frequency","Variability",null,null,"Frequency",null,"Relative Frequency","Variability",null,"Frequency",null,"Relative Frequency","Variability",null,"Frequency",null,"Relative Frequency","Variability",null,"Frequency",null,"Relative Frequency","Variability",null,"Frequency",null,"Relative Frequency","Variability",null,"Frequency",null,"Relative Frequency","Variability"]
[22,22,24,30,23,44,null,null,null,null,0,222,null,111,{"$f":"COUNTIF($L$7:$L$500,N7)","v":8},{"$f":"O7/$Q$4","v":0.13114754098360656},{"$f":"IF(P7=0,0,(P7*((LOG(P7))/LOG(2))))","v":-0.38435899509021459},null,null,{"$f":"N7","v":111},{"$f":"COUNTIF(L7:L16,T7)","v":2},{"$f":"U7/(W4-U10)","v":0.2},{"$f":"IF(V7=0,0,(V7*((LOG(V7))/LOG(2))))","v":-0.46438561897747244},null,{"$f":"N7","v":111},{"$f":"COUNTIF(L17:L26,Y7)","v":0},{"$f":"Z7/(AB4-Z10)","v":0},{"$f":"IF(AA7=0,0,(AA7*((LOG(AA7))/LOG(2))))","v":0},null,{"$f":"N7","v":111},{"$f":"COUNTIF(L27:L37,AD7)","v":1},{"$f":"AE7/(AG4-AE10)","v":0.1111111111111111},{"$f":"IF(AF7=0,0,(AF7*((LOG(AF7))/LOG(2))))","v":-0.3522138890491458},null,{"$f":"N7","v":111},{"$f":"COUNTIF(L38:L47,AI7)","v":1},{"$f":"AJ7/(AL4-AJ10)","v":0.125},{"$f":"IF(AK7=0,0,(AK7*((LOG(AK7))/LOG(2))))","v":-0.375},null,{"$f":"N7","v":111},{"$f":"COUNTIF(L48:L57,AN7)","v":1},{"$f":"AO7/(AQ4-AO10)","v":0.125},{"$f":"IF(AP7=0,0,(AP7*((LOG(AP7))/LOG(2))))","v":-0.375},null,{"$f":"N7","v":111},{"$f":"COUNTIF(L58:L67,AS7)","v":3},{"$f":"AT7/(AV4-AT10)","v":0.42857142857142855},{"$f":"IF(AU7=0,0,(AU7*((LOG(AU7))/LOG(2))))","v":-0.52388246628704915}]
[11,152,11,160,21,178,null,null,null,null,0,112,null,112,40,0.65573770491803274,-0.3992191755249338,null,null,112,{"$f":"COUNTIF(L7:L16,T8)","v":7},{"$f":"U8/(W4-U10)","v":0.7},{"$f":"IF(V8=0,0,(V8*((LOG(V8))/LOG(2))))","v":-0.36020122098083079},null,112,{"$f":"COUNTIF(L17:L26,Y8)","v":7},{"$f":"Z8/(AB4-Z10)","v":1},{"$f":"IF(AA8=0,0,(AA8*((LOG(AA8))/LOG(2))))","v":0},null,112,{"$f":"COUNTIF(L27:L37,AD8)","v":8},{"$f":"AE8/(AG4-AE10)","v":0.88888888888888884},{"$f":"IF(AF8=0,0,(AF8*((LOG(AF8))/LOG(2))))","v":-0.15104444572649992},null,112,{"$f":"COUNTIF(L38:L47,AI8)","v":7},{"$f":"AJ8/(AL4-AJ10)","v":0.875},{"$f":"IF(AK8=0,0,(AK8*((LOG(AK8))/LOG(2))))","v":-0.1685644431995964},null,112,{"$f":"COUNTIF(L48:L57,AN8)","v":7},{"$f":"AO8/(AQ4-AO10)","v":0.875},{"$f":"IF(AP8=0,0,(AP8*((LOG(AP8))/LOG(2))))","v":-0.1685644431995964},null,112,{"$f":"COUNTIF(L58:L67,AS8)","v":4},{"$f":"AT8/(AV4-AT10)","v":0.5714285714285714},{"$f":"IF(AU8=0,0,(AU8*((LOG(AU8))/LOG(2))))","v":-0.46134566974720237}]
[11,272,11,277,21,310,null,null,null,null,0,112,null,121,0,0,0,null,null,121,{"$f":"COUNTIF(L7:L16,T9)","v":0},{"$f":"U9/(W4-U10)","v":0},{"$f":"IF(V9=0,0,(V9*((LOG(V9))/LOG(2))))","v":0},null,121,{"$f":"COUNTIF(L17:L26,Y9)","v":0},{"$f":"Z9/(AB4-Z10)","v":0},{"$f":"IF(AA9=0,0,(AA9*((LOG(AA9))/LOG(2))))","v":0},null,121,{"$f":"COUNTIF(L27:L37,AD9)","v":0},{"$f":"AE9/(AG4-AE10)","v":0},{"$f":"IF(AF9=0,0,(AF9*((LOG(AF9))/LOG(2))))","v":0},null,121,{"$f":"COUNTIF(L38:L47,AI9)","v":0},{"$f":"AJ9/(AL4-AJ10)","v":0},{"$f":"IF(AK9=0,0,(AK9*((LOG(AK9))/LOG(2))))","v":0},null,121,{"$f":"COUNTIF(L48:L57,AN9)","v":0},{"$f":"AO9/(AQ4-AO10)","v":0},{"$f":"IF(AP9=0,0,(AP9*((LOG(AP9))/LOG(2))))","v":0},null,121,{"$f":"COUNTIF(L58:L67,AS9)","v":0},{"$f":"AT9/(AV4-AT10)","v":0},{"$f":"IF(AU9=0,0,(AU9*((LOG(AU9))/LOG(2))))","v":0}]
[11,409,11,414,21,450,null,null,null,null,0,112,null,122,12,0.19672131147540983,-0.46146390232952067,null,null,122,{"$f":"COUNTIF(L7:L16,T10)","v":0},null,null,null,122,{"$f":"COUNTIF(L17:L26,Y10)","v":3},null,null,null,122,{"$f":"COUNTIF(L27:L37,AD10)","v":2},null,null,null,122,{"$f":"COUNTIF(L38:L47,AI10)","v":2},null,null,null,122,{"$f":"COUNTIF(L48:L57,AN10)","v":2},null,null,null,122,{"$f":"COUNTIF(L58:L67,AS10)","v":3}]
[11,541,11,546,12,556,null,null,null,null,0,111,null,211,0,0,0,null,null,211,{"$f":"COUNTIF(L7:L16,T11)","v":0},{"$f":"U11/(W4-U10)","v":0},{"$f":"IF(V11=0,0,(V11*((LOG(V11))/LOG(2))))","v":0},null,211,{"$f":"COUNTIF(L17:L26,Y11)","v":0},{"$f":"Z11/(AB4-Z10)","v":0},{"$f":"IF(AA11=0,0,(AA11*((LOG(AA11))/LOG(2))))","v":0},null,211,{"$f":"COUNTIF(L27:L37,AD11)","v":0},{"$f":"AE11/(AG4-AE10)","v":0},{"$f":"IF(AF11=0,0,(AF11*((LOG(AF11))/LOG(2))))","v":0},null,211,{"$f":"COUNTIF(L38:L47,AI11)","v":0},{"$f":"AJ11/(AL4-AJ10)","v":0},{"$f":"IF(AK11=0,0,(AK11*((LOG(AK11))/LOG(2))))","v":0},null,211,{"$f":"COUNTIF(L48:L57,AN11)","v":0},{"$f":"AO11/(AQ4-AO10)","v":0},{"$f":"IF(AP11=0,0,(AP11*((LOG(AP11))/LOG(2))))","v":0},null,211,{"$f":"COUNTIF(L58:L67,AS11)","v":0},{"$f":"AT11/(AV4-AT10)","v":0},{"$f":"IF(AU11=0,0,(AU11*((LOG(AU11))/LOG(2))))","v":0}]
[11,653,11,658,21,675,null,null,null,null,0,112,null,212,0,0,0,null,null,212,{"$f":"COUNTIF(L7:L16,T12)","v":0},{"$f":"U12/(W4-U10)","v":0},{"$f":"IF(V12=0,0,(V12*((LOG(V12))/LOG(2))))","v":0},null,212,{"$f":"COUNTIF(L17:L26,Y12)","v":0},{"$f":"Z12/(AB4-Z10)","v":0},{"$f":"IF(AA12=0,0,(AA12*((LOG(AA12))/LOG(2))))","v":0},null,212,{"$f":"COUNTIF(L27:L37,AD12)","v":0},{"$f":"AE12/(AG4-AE10)","v":0},{"$f":"IF(AF12=0,0,(AF12*((LOG(AF12))/LOG(2))))","v":0},null,212,{"$f":"COUNTIF(L38:L47,AI12)","v":0},{"$f":"AJ12/(AL4-AJ10)","v":0},{"$f":"IF(AK12=0,0,(AK12*((LOG(AK12))/LOG(2))))","v":0},null,212,{"$f":"COUNTIF(L48:L57,AN12)","v":0},{"$f":"AO12/(AQ4-AO10)","v":0},{"$f":"IF(AP12=0,0,(AP12*((LOG(AP12))/LOG(2))))","v":0},null,212,{"$f":"COUNTIF(L58:L67,AS12)","v":0},{"$f":"AT12/(AV4-AT10)","v":0},{"$f":"IF(AU12=0,0,(AU12*((LOG(AU12))/LOG(2))))","v":0}]
[11,767,11,772,21,800,null,null,null,null,0,112,null,221,0,0,0,null,null,221,{"$f":"COUNTIF(L7:L16,T13)","v":0},{"$f":"U13/(W4-U10)","v":0},{"$f":"IF(V13=0,0,(V13*((LOG(V13))/LOG(2))))","v":0},null,221,{"$f":"COUNTIF(L17:L26,Y13)","v":0},{"$f":"Z13/(AB4-Z10)","v":0},{"$f":"IF(AA13=0,0,(AA13*((LOG(AA13))/LOG(2))))","v":0},null,221,{"$f":"COUNTIF(L27:L37,AD13)","v":0},{"$f":"AE13/(AG4-AE10)","v":0},{"$f":"IF(AF13=0,0,(AF13*((LOG(AF13))/LOG(2))))","v":0},null,221,{"$f":"COUNTIF(L38:L47,AI13)","v":0},{"$f":"AJ13/(AL4-AJ10)","v":0},{"$f":"IF(AK13=0,0,(AK13*((LOG(AK13))/LOG(2))))","v":0},null,221,{"$f":"COUNTIF(L48:L57,AN13)","v":0},{"$f":"AO13/(AQ4-AO10)","v":0},{"$f":"IF(AP13=0,0,(AP13*((LOG(AP13))/LOG(2))))","v":0},null,221,{"$f":"COUNTIF(L58:L67,AS13)","v":0},{"$f":"AT13/(AV4-AT10)","v":0},{"$f":"IF(AU13=0,0,(AU13*((LOG(AU13))/LOG(2))))","v":0}]
[11,899,11,910,21,927,null,null,null,null,0,112,null,222,1,1.6393442622950821E-2,-9.7225202255129275E-2,null,null,222,{"$f":"COUNTIF(L7:L16,T14)","v":1},{"$f":"U14/(W4-U10)","v":0.1},{"$f":"IF(V14=0,0,(V14*((LOG(V14))/LOG(2))))","v":-0.33219280948873625},null,222,{"$f":"COUNTIF(L17:L26,Y14)","v":0},{"$f":"Z14/(AB4-Z10)","v":0},{"$f":"IF(AA14=0,0,(AA14*((LOG(AA14))/LOG(2))))","v":0},null,222,{"$f":"COUNTIF(L27:L37,AD14)","v":0},{"$f":"AE14/(AG4-AE10)","v":0},{"$f":"IF(AF14=0,0,(AF14*((LOG(AF14))/LOG(2))))","v":0},null,222,{"$f":"COUNTIF(L38:L47,AI14)","v":0},{"$f":"AJ14/(AL4-AJ10)","v":0},{"$f":"IF(AK14=0,0,(AK14*((LOG(AK14))/LOG(2))))","v":0},null,222,{"$f":"COUNTIF(L48:L57,AN14)","v":0},{"$f":"AO14/(AQ4-AO10)","v":0},{"$f":"IF(AP14=0,0,(AP14*((LOG(AP14))/LOG(2))))","v":0},null,222,{"$f":"COUNTIF(L58:L67,AS14)","v":0},{"$f":"AT14/(AV4-AT10)","v":0},{"$f":"IF(AU14=0,0,(AU14*((LOG(AU14))/LOG(2))))","v":0}]
[11,1022,11,1031,21,1048,null,null,null,null,0,112,null,null,null,{"$f":"SUM(P7:P14)","v":1},{"$f":"-SUM(Q7:Q14)","v":1.3422672751997982},null,null,null,null,{"$f":"SUM(V7:V14)","v":0.99999999999999989},{"$f":"-SUM(W7:W14)","v":1.1567796494470395},null,null,null,{"$f":"SUM(AA7:AA14)","v":1},{"$f":"-SUM(AB7:AB14)","v":0},null,null,null,{"$f":"SUM(AF7:AF14)","v":1},{"$f":"-SUM(AG7:AG14)","v":0.50325833477564574},null,null,null,{"$f":"SUM(AK7:AK14)","v":1},{"$f":"-SUM(AL7:AL14)","v":0.5435644431995964},null,null,null,{"$f":"SUM(AP7:AP14)","v":1},{"$f":"-SUM(AQ7:AQ14)","v":0.5435644431995964},null,null,null,{"$f":"SUM(AU7:AU14)","v":1},{"$f":"-SUM(AV7:AV14)","v":0.98522813603425152}]
[11,1144,11,1155,12,1216,null,null,null,null,0,111,null,null,null,"U=",{"$f":"Q15/(LOG(Q4)/LOG(2))","v":0.22632384454095131},null,null,null,null,"U1=",{"$f":"W15/(LOG(W4)/LOG(2))","v":0.34822537285722399},null,null,null,"U2=",{"$f":"AB15/(LOG(AB4)/LOG(2))","v":0},null,null,null,"U3=",{"$f":"AG15/(LOG(AG4)/LOG(2))","v":0.14547428313495148},null,null,null,"U4=",{"$f":"AL15/(LOG(AL4)/LOG(2))","v":0.16362920197946887},null,null,null,"U5=",{"$f":"AQ15/(LOG(AQ4)/LOG(2))","v":0.16362920197946887},null,null,null,"U6=",{"$f":"AV15/(LOG(AV4)/LOG(2))","v":0.29658322151842303}]
[11,1318,11,1324,21,1334,null,null,null,null,0,112]
[11,1426,11,1434,21,1444,null,null,null,null,0,112]
[11,1537,11,1542,21,1561,null,null,null,null,0,112,null,"Total Target Seq"]
[11,1651,11,1657,21,1668,null,null,null,null,0,112,null,{"$f":"COUNTIF(L7:L67,G3)","v":12},null,10,10,11,10,10,10]
[11,1763,22,1774,23,1782,null,null,null,null,0,122,null,null,null,"% of reinforcement given in 6 equal intervals based on number of trials "]
[11,1884,22,1895,23,1910,null,null,null,null,0,122,null,null,null,"%_1","%_2","%_3","%_4","%_5","%_6"]
[11,2011,22,2023,23,2055,null,null,null,null,0,122,null,null,"target sequence",{"$f":"$G$3","v":122},122,122,122,122,122]
[11,2153,11,2159,21,2169,null,null,null,null,0,112,null,null,"total reinforcement",{"$f":"U10","v":0},{"$f":"Z10","v":3},{"$f":"AE10","v":2},{"$f":"AJ10","v":2},{"$f":"AO10","v":2},{"$f":"AT10","v":3}]
[11,2261,11,2276,21,2294,null,null,null,null,0,112,null,null,"% target"]
[11,2387,11,2391,21,2416,null,null,null,null,0,112,null,null,"CCRF"]
[11,2507,11,2512,21,2546,null,null,null,null,0,112,null,null,"% CCRf"]
[11,2635,11,2640,21,2650,null,null,null,null,0,112,null,null,"average response rate",{"$f":"F16/P20","v":121.6},{"$f":"(F26-F16)/Q20","v":120},{"$f":"(F37-F26)/R20","v":120.36363636363636},{"$f":"(F47-F37)/S20","v":125},{"$f":"(F57-F47)/T20","v":118.7},{"$f":"(F67-F57)/U20","v":121.9}]
[11,2746,22,2756,23,2770,null,null,null,null,0,122]
[11,2872,11,2882,21,2892,null,null,null,null,0,112]
[11,2980,11,2988,21,2999,null,null,null,null,0,112]
[11,3088,11,3093,21,3103,null,null,null,null,0,112]
[11,3195,11,3200,21,3238,null,null,null,null,0,112]
[11,3329,11,3334,21,3343,null,null,null,null,0,112]
[11,3433,11,3441,21,3450,null,null,null,null,0,112]
[11,3540,11,3545,12,3591,null,null,null,null,0,111]
[11,3708,22,3718,23,3740,null,null,null,null,0,122]
[11,3840,11,3848,21,3860,null,null,null,null,0,112]
[11,3954,11,3962,21,3973,null,null,null,null,0,112]
[11,4062,22,4098,23,4119,null,null,null,null,0,122]
[11,4216,11,4221,12,4236,null,null,null,null,0,111]
[11,4334,11,4339,21,4398,null,null,null,null,0,112]
[11,4491,22,4506,23,4528,null,null,null,null,0,122]
[11,4627,11,4637,21,4647,null,null,null,null,0,112]
[11,4741,11,4751,21,4761,null,null,null,null,0,112]
[11,4853,11,4860,21,4869,null,null,null,null,0,112]
[11,4958,11,4963,21,4990,null,null,null,null,0,112]
[11,5081,11,5089,21,5097,null,null,null,null,0,112]
[11,5185,11,5191,21,5216,null,null,null,null,0,112]
[11,5310,11,5321,21,5331,null,null,null,null,0,112]
[11,5420,11,5425,21,5436,null,null,null,null,0,112]
[11,5525,11,5530,21,5541,null,null,null,null,0,112]
[11,5632,11,5637,21,5647,null,null,null,null,0,112]
[11,5738,22,5748,23,5761,null,null,null,null,0,122]
[11,5858,11,5865,12,5874,null,null,null,null,0,111]
[11,5984,22,6007,23,6061,null,null,null,null,0,122]
[11,6161,11,6167,21,6177,null,null,null,null,0,112]
[11,6269,11,6279,21,6288,null,null,null,null,0,112]
[11,6376,11,6381,12,6392,null,null,null,null,0,111]
[11,6492,22,6506,23,6523,null,null,null,null,0,122]
[11,6618,11,6624,12,6633,null,null,null,null,0,111]
[11,6733,11,6740,12,6750,null,null,null,null,0,111]
[11,6851,11,6856,21,6882,null,null,null,null,0,112]
[11,6970,11,6974,21,6987,null,null,null,null,0,112]
[11,7079,22,7109,23,7120,null,null,null,null,0,122]
[11,7219,22,7262,23,7274,null,null,null,null,0,122]
[11,7378,11,7387,21,7396,null,null,null,null,1,112]

{"sheet":"!L805B40.056","index":10,"n_rows":76,"n_cols":48,"rows_kept":76,"cut":false,"hidden":false,"merged":[[1,1,1,2],[5,13,5,14],[18,13,18,14],[19,13,19,14],[4,19,4,22],[5,19,5,20],[4,39,4,42],[5,39,5,40],[4,44,4,47],[5,44,5,45],[4,24,4,27],[5,24,5,25],[4,29,4,32],[5,29,5,30],[4,34,4,37],[5,34,5,35]]}
["Report for:!L805B40.056"]
["Date:","<date>"]
["Hen:","<hen>",null,null,null,"Correct Sequence",{"$f":"Start!J2","v":122},null,null,null,null,null,null,null,null,"Total Sequences in Data",{"$f":"4994-COUNTBLANK(L7:L5000)","v":70},null,null,null,null,"Total Sequences in Block Data",{"$f":"COUNTA(L7:L18)","v":12},null,null,null,"Total Sequences in Block Data",{"$f":"COUNTA(L19:L29)","v":11},null,null,null,"Total Sequences in Block Data",{"$f":"COUNTA(L30:L41)","v":12},null,null,null,"Total Sequences in Block Data",{"$f":"COUNTA(L42:L53)","v":12},null,null,null,"Total Sequences in Block Data",{"$f":"COUNTA(L54:L64)","v":11},null,null,null,"Total Sequences in Block Data",{"$f":"COUNTA(L65:L76)","v":12}]
[null,null,null,null,null,null,null,null,null,null,null,null,null,null,null,"Total Sequences in Summary",{"$f":"SUM(O7:O14)","v":70},null,null,null,null,"Total Sequences in Block Summary",{"$f":"SUM(U7:U14)","v":12},null,null,null,"Total Sequences in Block Summary",{"$f":"SUM(Z7:Z14)","v":11},null,null,null,"Total Sequences in Block Summary",{"$f":"SUM(AE7:AE14)","v":12},null,null,null,"Total Sequences in Block Summary",{"$f":"SUM(AJ7:AJ14)","v":12},null,null,null,"Total Sequences in Block Summary",{"$f":"SUM(AO7:AO14)","v":11},null,null,null,"Total Sequences in Block Summary",{"$f":"SUM(AT7:AT14)","v":12}]
[null,null,null,null,null,null,null,null,null,null,null,null,null,null,null,null,null,null,null,"Block 1",null,null,null,null,"Block 2",null,null,null,null,"Block 3",null,null,null,null,"Block 4",null,null,null,null,"Block 5",null,null,null,null,"Block 6"]
["Sequence\nComponent\n1","Time\n1","Sequence\nComponent\n2","Time\n2","Sequence\nComponent\n3","Time\n3","Sequence\nComponent\n4","Time\n4","Sequence\nComponent\n5","Time\n5","Correct?\n0=No 1=Yes","Sequence",null,"Frequency",null,"Relative Frequency","Variability",null,null,"Frequency",null,"Relative Frequency","Variability",null,"Frequency",null,"Relative Frequency","Variability",null,"Frequency",null,"Relative Frequency","Variability",null,"Frequency",null,"Relative Frequency","Variability",null,"Frequency",null,"Relative Frequency","Variability",null,"Frequency",null,"Relative Frequency","Variability"]
[11,14,22,25,23,37,null,null,null,null,0,122,null,111,{"$f":"COUNTIF($L$7:$L$500,N7)","v":2},{"$f":"O7/$Q$4","v":2.8571428571428571E-2},{"$f":"IF(P7=0,0,(P7*((LOG(P7))/LOG(2))))","v":-0.14655094334128474},null,null,{"$f":"N7","v":111},{"$f":"COUNTIF(L7:L18,T7)","v":0},{"$f":"U7/(W4-U10)","v":0},{"$f":"IF(V7=0,0,(V7*((LOG(V7))/LOG(2))))","v":0},null,{"$f":"N7","v":111},{"$f":"COUNTIF(L19:L29,Y7)","v":0},{"$f":"Z7/(AB4-Z10)","v":0},{"$f":"IF(AA7=0,0,(AA7*((LOG(AA7))/LOG(2))))","v":0},null,{"$f":"N7","v":111},{"$f":"COUNTIF(L30:L41,AD7)","v":0},{"$f":"AE7/(AG4-AE10)","v":0},{"$f":"IF(AF7=0,0,(AF7*((LOG(AF7))/LOG(2))))","v":0},null,{"$f":"N7","v":111},{"$f":"COUNTIF(L42:L53,AI7)","v":0},{"$f":"AJ7/(AL4-AJ10)","v":0},{"$f":"IF(AK7=0,0,(AK7*((LOG(AK7))/LOG(2))))","v":0},null,{"$f":"N7","v":111},{"$f":"COUNTIF(L54:L64,AN7)","v":0},{"$f":"AO7/(AQ4-AO10)","v":0},{"$f":"IF(AP7=0,0,(AP7*((LOG(AP7))/LOG(2))))","v":0},null,{"$f":"N7","v":111},{"$f":"COUNTIF(L65:L76,AS7)","v":2},{"$f":"AT7/(AV4-AT10)","v":0.18181818181818182},{"$f":"IF(AU7=0,0,(AU7*((LOG(AU7))/LOG(2))))","v":-0.44716938520678134}]
[11,135,11,142,21,153,null,null,null,null,0,112,null,112,40,0.5714285714285714,-0.46134566974720237,null,null,112,{"$f":"COUNTIF(L7:L18,T8)","v":7},{"$f":"U8/(W4-U10)","v":0.63636363636363635},{"$f":"IF(V8=0,0,(V8*((LOG(V8))/LOG(2))))","v":-0.41495789782344106},null,112,{"$f":"COUNTIF(L19:L29,Y8)","v":2},{"$f":"Z8/(AB4-Z10)","v":0.4},{"$f":"IF(AA8=0,0,(AA8*((LOG(AA8))/LOG(2))))","v":-0.52877123795494496},null,112,{"$f":"COUNTIF(L30:L41,AD8)","v":8},{"$f":"AE8/(AG4-AE10)","v":1},{"$f":"IF(AF8=0,0,(AF8*((LOG(AF8))/LOG(2))))","v":0},null,112,{"$f":"COUNTIF(L42:L53,AI8)","v":8},{"$f":"AJ8/(AL4-AJ10)","v":1},{"$f":"IF(AK8=0,0,(AK8*((LOG(AK8))/LOG(2))))","v":0},null,112,{"$f":"COUNTIF(L54:L64,AN8)","v":6},{"$f":"AO8/(AQ4-AO10)","v":0.75},{"$f":"IF(AP8=0,0,(AP8*((LOG(AP8))/LOG(2))))","v":-0.31127812445913283},null,112,{"$f":"COUNTIF(L65:L76,AS8)","v":9},{"$f":"AT8/(AV4-AT10)","v":0.81818181818181823},{"$f":"IF(AU8=0,0,(AU8*((LOG(AU8))/LOG(2))))","v":-0.23686905043226034}]
[11,250,11,256,21,266,null,null,null,null,0,112,null,121,4,5.7142857142857141E-2,-0.23595902953971234,null,null,121,{"$f":"COUNTIF(L7:L18,T9)","v":2},{"$f":"U9/(W4-U10)","v":0.18181818181818182},{"$f":"IF(V9=0,0,(V9*((LOG(V9))/LOG(2))))","v":-0.44716938520678134},null,121,{"$f":"COUNTIF(L19:L29,Y9)","v":1},{"$f":"Z9/(AB4-Z10)","v":0.2},{"$f":"IF(AA9=0,0,(AA9*((LOG(AA9))/LOG(2))))","v":-0.46438561897747244},null,121,{"$f":"COUNTIF(L30:L41,AD9)","v":0},{"$f":"AE9/(AG4-AE10)","v":0},{"$f":"IF(AF9=0,0,(AF9*((LOG(AF9))/LOG(2))))","v":0},null,121,{"$f":"COUNTIF(L42:L53,AI9)","v":0},{"$f":"AJ9/(AL4-AJ10)","v":0},{"$f":"IF(AK9=0,0,(AK9*((LOG(AK9))/LOG(2))))","v":0},null,121,{"$f":"COUNTIF(L54:L64,AN9)","v":1},{"$f":"AO9/(AQ4-AO10)","v":0.125},{"$f":"IF(AP9=0,0,(AP9*((LOG(AP9))/LOG(2))))","v":-0.375},null,121,{"$f":"COUNTIF(L65:L76,AS9)","v":0},{"$f":"AT9/(AV4-AT10)","v":0},{"$f":"IF(AU9=0,0,(AU9*((LOG(AU9))/LOG(2))))","v":0}]
[11,355,11,360,21,370,null,null,null,null,0,112,null,122,19,0.27142857142857141,-0.51065363666466057,null,null,122,{"$f":"COUNTIF(L7:L18,T10)","v":1},null,null,null,122,{"$f":"COUNTIF(L19:L29,Y10)","v":6},null,null,null,122,{"$f":"COUNTIF(L30:L41,AD10)","v":4},null,null,null,122,{"$f":"COUNTIF(L42:L53,AI10)","v":4},null,null,null,122,{"$f":"COUNTIF(L54:L64,AN10)","v":3},null,null,null,122,{"$f":"COUNTIF(L65:L76,AS10)","v":1}]
[11,456,11,461,21,471,null,null,null,null,0,112,null,211,0,0,0,null,null,211,{"$f":"COUNTIF(L7:L18,T11)","v":0},{"$f":"U11/(W4-U10)","v":0},{"$f":"IF(V11=0,0,(V11*((LOG(V11))/LOG(2))))","v":0},null,211,{"$f":"COUNTIF(L19:L29,Y11)","v":0},{"$f":"Z11/(AB4-Z10)","v":0},{"$f":"IF(AA11=0,0,(AA11*((LOG(AA11))/LOG(2))))","v":0},null,211,{"$f":"COUNTIF(L30:L41,AD11)","v":0},{"$f":"AE11/(AG4-AE10)","v":0},{"$f":"IF(AF11=0,0,(AF11*((LOG(AF11))/LOG(2))))","v":0},null,211,{"$f":"COUNTIF(L42:L53,AI11)","v":0},{"$f":"AJ11/(AL4-AJ10)","v":0},{"$f":"IF(AK11=0,0,(AK11*((LOG(AK11))/LOG(2))))","v":0},null,211,{"$f":"COUNTIF(L54:L64,AN11)","v":0},{"$f":"AO11/(AQ4-AO10)","v":0},{"$f":"IF(AP11=0,0,(AP11*((LOG(AP11))/LOG(2))))","v":0},null,211,{"$f":"COUNTIF(L65:L76,AS11)","v":0},{"$f":"AT11/(AV4-AT10)","v":0},{"$f":"IF(AU11=0,0,(AU11*((LOG(AU11))/LOG(2))))","v":0}]
[22,565,24,575,14,590,null,null,null,null,0,221,null,212,0,0,0,null,null,212,{"$f":"COUNTIF(L7:L18,T12)","v":0},{"$f":"U12/(W4-U10)","v":0},{"$f":"IF(V12=0,0,(V12*((LOG(V12))/LOG(2))))","v":0},null,212,{"$f":"COUNTIF(L19:L29,Y12)","v":0},{"$f":"Z12/(AB4-Z10)","v":0},{"$f":"IF(AA12=0,0,(AA12*((LOG(AA12))/LOG(2))))","v":0},null,212,{"$f":"COUNTIF(L30:L41,AD12)","v":0},{"$f":"AE12/(AG4-AE10)","v":0},{"$f":"IF(AF12=0,0,(AF12*((LOG(AF12))/LOG(2))))","v":0},null,212,{"$f":"COUNTIF(L42:L53,AI12)","v":0},{"$f":"AJ12/(AL4-AJ10)","v":0},{"$f":"IF(AK12=0,0,(AK12*((LOG(AK12))/LOG(2))))","v":0},null,212,{"$f":"COUNTIF(L54:L64,AN12)","v":0},{"$f":"AO12/(AQ4-AO10)","v":0},{"$f":"IF(AP12=0,0,(AP12*((LOG(AP12))/LOG(2))))","v":0},null,212,{"$f":"COUNTIF(L65:L76,AS12)","v":0},{"$f":"AT12/(AV4-AT10)","v":0},{"$f":"IF(AU12=0,0,(AU12*((LOG(AU12))/LOG(2))))","v":0}]
[11,687,22,698,14,713,null,null,null,null,0,121,null,221,2,2.8571428571428571E-2,-0.14655094334128474,null,null,221,{"$f":"COUNTIF(L7:L18,T13)","v":1},{"$f":"U13/(W4-U10)","v":9.0909090909090912E-2},{"$f":"IF(V13=0,0,(V13*((LOG(V13))/LOG(2))))","v":-0.31449378351248153},null,221,{"$f":"COUNTIF(L19:L29,Y13)","v":1},{"$f":"Z13/(AB4-Z10)","v":0.2},{"$f":"IF(AA13=0,0,(AA13*((LOG(AA13))/LOG(2))))","v":-0.46438561897747244},null,221,{"$f":"COUNTIF(L30:L41,AD13)","v":0},{"$f":"AE13/(AG4-AE10)","v":0},{"$f":"IF(AF13=0,0,(AF13*((LOG(AF13))/LOG(2))))","v":0},null,221,{"$f":"COUNTIF(L42:L53,AI13)","v":0},{"$f":"AJ13/(AL4-AJ10)","v":0},{"$f":"IF(AK13=0,0,(AK13*((LOG(AK13))/LOG(2))))","v":0},null,221,{"$f":"COUNTIF(L54:L64,AN13)","v":0},{"$f":"AO13/(AQ4-AO10)","v":0},{"$f":"IF(AP13=0,0,(AP13*((LOG(AP13))/LOG(2))))","v":0},null,221,{"$f":"COUNTIF(L65:L76,AS13)","v":0},{"$f":"AT13/(AV4-AT10)","v":0},{"$f":"IF(AU13=0,0,(AU13*((LOG(AU13))/LOG(2))))","v":0}]
[22,826,24,835,23,857,null,null,null,null,0,222,null,222,3,4.2857142857142858E-2,-0.19475659355244901,null,null,222,{"$f":"COUNTIF(L7:L18,T14)","v":1},{"$f":"U14/(W4-U10)","v":9.0909090909090912E-2},{"$f":"IF(V14=0,0,(V14*((LOG(V14))/LOG(2))))","v":-0.31449378351248153},null,222,{"$f":"COUNTIF(L19:L29,Y14)","v":1},{"$f":"Z14/(AB4-Z10)","v":0.2},{"$f":"IF(AA14=0,0,(AA14*((LOG(AA14))/LOG(2))))","v":-0.46438561897747244},null,222,{"$f":"COUNTIF(L30:L41,AD14)","v":0},{"$f":"AE14/(AG4-AE10)","v":0},{"$f":"IF(AF14=0,0,(AF14*((LOG(AF14))/LOG(2))))","v":0},null,222,{"$f":"COUNTIF(L42:L53,AI14)","v":0},{"$f":"AJ14/(AL4-AJ10)","v":0},{"$f":"IF(AK14=0,0,(AK14*((LOG(AK14))/LOG(2))))","v":0},null,222,{"$f":"COUNTIF(L54:L64,AN14)","v":1},{"$f":"AO14/(AQ4-AO10)","v":0.125},{"$f":"IF(AP14=0,0,(AP14*((LOG(AP14))/LOG(2))))","v":-0.375},null,222,{"$f":"COUNTIF(L65:L76,AS14)","v":0},{"$f":"AT14/(AV4-AT10)","v":0},{"$f":"IF(AU14=0,0,(AU14*((LOG(AU14))/LOG(2))))","v":0}]
[11,954,11,959,21,970,null,null,null,null,0,112,null,null,null,{"$f":"SUM(P7:P14)","v":1},{"$f":"-SUM(Q7:Q14)","v":1.6958168161865941},null,null,null,null,{"$f":"SUM(V7:V14)","v":1},{"$f":"-SUM(W7:W14)","v":1.4911148500551854},null,null,null,{"$f":"SUM(AA7:AA14)","v":1},{"$f":"-SUM(AB7:AB14)","v":1.9219280948873623},null,null,null,{"$f":"SUM(AF7:AF14)","v":1},{"$f":"-SUM(AG7:AG14)","v":0},null,null,null,{"$f":"SUM(AK7:AK14)","v":1},{"$f":"-SUM(AL7:AL14)","v":0},null,null,null,{"$f":"SUM(AP7:AP14)","v":1},{"$f":"-SUM(AQ7:AQ14)","v":1.0612781244591329},null,null,null,{"$f":"SUM(AU7:AU14)","v":1},{"$f":"-SUM(AV7:AV14)","v":0.68403843563904165}]
[11,1059,11,1067,21,1089,null,null,null,null,0,112,null,null,null,"U=",{"$f":"Q15/(LOG(Q4)/LOG(2))","v":0.27667458192065086},null,null,null,null,"U1=",{"$f":"W15/(LOG(W4)/LOG(2))","v":0.41593596857853615},null,null,null,"U2=",{"$f":"AB15/(LOG(AB4)/LOG(2))","v":0.55556181094408441},null,null,null,"U3=",{"$f":"AG15/(LOG(AG4)/LOG(2))","v":0},null,null,null,"U4=",{"$f":"AL15/(LOG(AL4)/LOG(2))","v":0},null,null,null,"U5=",{"$f":"AQ15/(LOG(AQ4)/LOG(2))","v":0.306778176721753},null,null,null,"U6=",{"$f":"AV15/(LOG(AV4)/LOG(2))","v":0.19080769617574506}]
[11,1180,11,1185,21,1194,null,null,null,null,0,112]
[11,1279,22,1294,14,1313,null,null,null,null,0,121]
[22,1436,24,1463,23,1471,null,null,null,null,0,222,null,"Total Target Seq"]
[22,1584,24,1600,14,1613,null,null,null,null,0,221,null,{"$f":"COUNTIF(L7:L76,G3)","v":19},null,12,11,12,12,11,12]
[11,1714,22,1728,23,1741,null,null,null,null,0,122,null,null,null,"% of reinforcement given in 6 equal intervals based on number of trials "]
[11,1846,22,1855,23,1867,null,null,null,null,0,122,null,null,null,"%_1","%_2","%_3","%_4","%_5","%_6"]
[11,1968,22,1984,23,1996,null,null,null,null,0,122,null,null,"target sequence",{"$f":"$G$3","v":122},122,122,122,122,122]
[11,2098,22,2108,23,2117,null,null,null,null,0,122,null,null,"total reinforcement",{"$f":"U10","v":1},{"$f":"Z10","v":6},{"$f":"AE10","v":4},{"$f":"AJ10","v":4},{"$f":"AO10","v":3},{"$f":"AT10","v":1}]
[11,2219,11,2227,21,2239,null,null,null,null,0,112,null,null,"% target"]
[11,2332,22,2378,14,2395,null,null,null,null,0,121,null,null,"CCRF"]
[11,2492,11,2496,21,2507,null,null,null,null,0,112,null,null,"% CCRf"]
[11,2602,22,2613,23,2619,null,null,null,null,0,122,null,null,"average response rate",{"$f":"F18/P20","v":109.41666666666667},{"$f":"(F29-F18)/Q20","v":130},{"$f":"(F41-F29)/R20","v":117.91666666666667},{"$f":"(F53-F41)/S20","v":115.33333333333333},{"$f":"(F64-F53)/T20","v":122.90909090909091},{"$f":"(F76-F64)/U20","v":121.75}]
[11,2722,22,2734,23,2743,null,null,null,null,0,122]
[11,2841,22,2856,23,2895,null,null,null,null,0,122]
[11,3001,22,3012,23,3020,null,null,null,null,0,122]
[11,3125,11,3139,21,3161,null,null,null,null,0,112]
[11,3253,11,3258,21,3269,null,null,null,null,0,112]
[11,3360,11,3365,21,3376,null,null,null,null,0,112]
[11,3467,22,3479,23,3492,null,null,null,null,0,122]
[11,3591,22,3606,23,3615,null,null,null,null,0,122]
[11,3713,11,3718,21,3728,null,null,null,null,0,112]
[11,3822,11,3827,21,3844,null,null,null,null,0,112]
[11,3932,11,3937,21,3947,null,null,null,null,0,112]
[11,4038,11,4042,21,4052,null,null,null,null,0,112]
[11,4143,11,4148,21,4158,null,null,null,null,0,112]
[11,4249,22,4263,23,4277,null,null,null,null,0,122]
[11,4377,11,4381,21,4402,null,null,null,null,0,112]
[11,4493,11,4501,21,4513,null,null,null,null,0,112]
[11,4606,11,4616,21,4626,null,null,null,null,0,112]
[11,4715,11,4719,21,4728,null,null,null,null,0,112]
[11,4816,11,4820,21,4831,null,null,null,null,0,112]
[11,4919,11,4924,21,4933,null,null,null,null,0,112]
[11,5025,22,5035,23,5044,null,null,null,null,0,122]
[11,5145,22,5160,23,5167,null,null,null,null,0,122]
[11,5270,22,5281,23,5290,null,null,null,null,0,122]
[11,5394,11,5399,21,5408,null,null,null,null,0,112]
[11,5502,11,5512,21,5542,null,null,null,null,0,112]
[11,5634,11,5644,21,5654,null,null,null,null,0,112]
[11,5742,11,5747,21,5757,null,null,null,null,0,112]
[11,5849,22,5864,23,5871,null,null,null,null,0,122]
[11,5973,22,5987,23,6001,null,null,null,null,0,122]
[11,6099,11,6104,21,6155,null,null,null,null,0,112]
[11,6243,11,6248,21,6260,null,null,null,null,0,112]
[11,6350,22,6360,14,6379,null,null,null,null,0,121]
[11,6476,11,6484,21,6494,null,null,null,null,0,112]
[11,6589,22,6623,23,6638,null,null,null,null,0,122]
[22,6760,24,6768,23,6776,null,null,null,null,0,222]
[11,6876,11,6884,21,6894,null,null,null,null,0,112]
[11,6985,11,6990,21,7000,null,null,null,null,0,112]
[11,7087,11,7097,21,7127,null,null,null,null,0,112]
[11,7216,11,7221,21,7257,null,null,null,null,0,112]
[11,7352,11,7361,21,7388,null,null,null,null,0,112]
[11,7476,11,7480,21,7514,null,null,null,null,0,112]
[11,7605,11,7618,12,7627,null,null,null,null,0,111]
[11,7727,11,7733,21,7743,null,null,null,null,0,112]
[11,7829,11,7833,12,7838,null,null,null,null,0,111]
[11,7951,22,7995,23,8010,null,null,null,null,0,122]
[11,8110,11,8114,21,8132,null,null,null,null,0,112]
[11,8221,11,8226,21,8236,null,null,null,null,0,112]
[11,8325,11,8329,21,8355,null,null,null,null,1,112]

{"sheet":"!L806B10.056","index":11,"n_rows":82,"n_cols":48,"rows_kept":82,"cut":false,"hidden":false,"merged":[[1,1,1,2],[5,13,5,14],[18,13,18,14],[19,13,19,14],[4,19,4,22],[5,19,5,20],[4,39,4,42],[5,39,5,40],[4,44,4,47],[5,44,5,45],[4,24,4,27],[5,24,5,25],[4,29,4,32],[5,29,5,30],[4,34,4,37],[5,34,5,35]]}
["Report for:!L806B10.056"]
["Date:","<date>"]
["Hen:","<hen>",null,null,null,"Correct Sequence",{"$f":"Start!J2","v":122},null,null,null,null,null,null,null,null,"Total Sequences in Data",{"$f":"4994-COUNTBLANK(L7:L5000)","v":76},null,null,null,null,"Total Sequences in Block Data",{"$f":"COUNTA(L7:L19)","v":13},null,null,null,"Total Sequences in Block Data",{"$f":"COUNTA(L20:L31)","v":12},null,null,null,"Total Sequences in Block Data",{"$f":"COUNTA(L32:L44)","v":13},null,null,null,"Total Sequences in Block Data",{"$f":"COUNTA(L45:L57)","v":13},null,null,null,"Total Sequences in Block Data",{"$f":"COUNTA(L58:L69)","v":12},null,null,null,"Total Sequences in Block Data",{"$f":"COUNTA(L70:L82)","v":13}]
[null,null,null,null,null,null,null,null,null,null,null,null,null,null,null,"Total Sequences in Summary",{"$f":"SUM(O7:O14)","v":76},null,null,null,null,"Total Sequences in Block Summary",{"$f":"SUM(U7:U14)","v":13},null,null,null,"Total Sequences in Block Summary",{"$f":"SUM(Z7:Z14)","v":12},null,null,null,"Total Sequences in Block Summary",{"$f":"SUM(AE7:AE14)","v":13},null,null,null,"Total Sequences in Block Summary",{"$f":"SUM(AJ7:AJ14)","v":13},null,null,null,"Total Sequences in Block Summary",{"$f":"SUM(AO7:AO14)","v":12},null,null,null,"Total Sequences in Block Summary",{"$f":"SUM(AT7:AT14)","v":13}]
[null,null,null,null,null,null,null,null,null,null,null,null,null,null,null,null,null,null,null,"Block 1",null,null,null,null,"Block 2",null,null,null,null,"Block 3",null,null,null,null,"Block 4",null,null,null,null,"Block 5",null,null,null,null,"Block 6"]
["Sequence\nComponent\n1","Time\n1","Sequence\nComponent\n2","Time\n2","Sequence\nComponent\n3","Time\n3","Sequence\nComponent\n4","Time\n4","Sequence\nComponent\n5","Time\n5","Correct?\n0=No 1=Yes","Sequence",null,"Frequency",null,"Relative Frequency","Variability",null,null,"Frequency",null,"Relative Frequency","Variability",null,"Frequency",null,"Relative Frequency","Variability",null,"Frequency",null,"Relative Frequency","Variability",null,"Frequency",null,"Relative Frequency","Variability",null,"Frequency",null,"Relative Frequency","Variability",null,"Frequency",null,"Relative Frequency","Variability"]
[22,22,24,39,23,48,null,null,null,null,0,222,null,111,{"$f":"COUNTIF($L$7:$L$500,N7)","v":8},{"$f":"O7/$Q$4","v":0.10526315789473684},{"$f":"IF(P7=0,0,(P7*((LOG(P7))/LOG(2))))","v":-0.34188710667827216},null,null,{"$f":"N7","v":111},{"$f":"COUNTIF(L7:L19,T7)","v":4},{"$f":"U7/(W4-U10)","v":0.4},{"$f":"IF(V7=0,0,(V7*((LOG(V7))/LOG(2))))","v":-0.52877123795494496},null,{"$f":"N7","v":111},{"$f":"COUNTIF(L20:L31,Y7)","v":2},{"$f":"Z7/(AB4-Z10)","v":0.22222222222222221},{"$f":"IF(AA7=0,0,(AA7*((LOG(AA7))/LOG(2))))","v":-0.48220555587606945},null,{"$f":"N7","v":111},{"$f":"COUNTIF(L32:L44,AD7)","v":1},{"$f":"AE7/(AG4-AE10)","v":0.125},{"$f":"IF(AF7=0,0,(AF7*((LOG(AF7))/LOG(2))))","v":-0.375},null,{"$f":"N7","v":111},{"$f":"COUNTIF(L45:L57,AI7)","v":0},{"$f":"AJ7/(AL4-AJ10)","v":0},{"$f":"IF(AK7=0,0,(AK7*((LOG(AK7))/LOG(2))))","v":0},null,{"$f":"N7","v":111},{"$f":"COUNTIF(L58:L69,AN7)","v":1},{"$f":"AO7/(AQ4-AO10)","v":0.1},{"$f":"IF(AP7=0,0,(AP7*((LOG(AP7))/LOG(2))))","v":-0.33219280948873625},null,{"$f":"N7","v":111},{"$f":"COUNTIF(L70:L82,AS7)","v":0},{"$f":"AT7/(AV4-AT10)","v":0},{"$f":"IF(AU7=0,0,(AU7*((LOG(AU7))/LOG(2))))","v":0}]
[11,156,22,173,23,182,null,null,null,null,0,122,null,112,40,0.52631578947368418,-0.4873681150295911,null,null,112,{"$f":"COUNTIF(L7:L19,T8)","v":5},{"$f":"U8/(W4-U10)","v":0.5},{"$f":"IF(V8=0,0,(V8*((LOG(V8))/LOG(2))))","v":-0.5},null,112,{"$f":"COUNTIF(L20:L31,Y8)","v":6},{"$f":"Z8/(AB4-Z10)","v":0.66666666666666663},{"$f":"IF(AA8=0,0,(AA8*((LOG(AA8))/LOG(2))))","v":-0.38997500048077083},null,112,{"$f":"COUNTIF(L32:L44,AD8)","v":6},{"$f":"AE8/(AG4-AE10)","v":0.75},{"$f":"IF(AF8=0,0,(AF8*((LOG(AF8))/LOG(2))))","v":-0.31127812445913283},null,112,{"$f":"COUNTIF(L45:L57,AI8)","v":5},{"$f":"AJ8/(AL4-AJ10)","v":0.7142857142857143},{"$f":"IF(AK8=0,0,(AK8*((LOG(AK8))/LOG(2))))","v":-0.34673344797874411},null,112,{"$f":"COUNTIF(L58:L69,AN8)","v":9},{"$f":"AO8/(AQ4-AO10)","v":0.9},{"$f":"IF(AP8=0,0,(AP8*((LOG(AP8))/LOG(2))))","v":-0.13680278410054494},null,112,{"$f":"COUNTIF(L70:L82,AS8)","v":9},{"$f":"AT8/(AV4-AT10)","v":0.9},{"$f":"IF(AU8=0,0,(AU8*((LOG(AU8))/LOG(2))))","v":-0.13680278410054494}]
[11,283,11,288,12,301,null,null,null,null,0,111,null,121,3,3.9473684210526314E-2,-0.184064408396938,null,null,121,{"$f":"COUNTIF(L7:L19,T9)","v":0},{"$f":"U9/(W4-U10)","v":0},{"$f":"IF(V9=0,0,(V9*((LOG(V9))/LOG(2))))","v":0},null,121,{"$f":"COUNTIF(L20:L31,Y9)","v":0},{"$f":"Z9/(AB4-Z10)","v":0},{"$f":"IF(AA9=0,0,(AA9*((LOG(AA9))/LOG(2))))","v":0},null,121,{"$f":"COUNTIF(L32:L44,AD9)","v":1},{"$f":"AE9/(AG4-AE10)","v":0.125},{"$f":"IF(AF9=0,0,(AF9*((LOG(AF9))/LOG(2))))","v":-0.375},null,121,{"$f":"COUNTIF(L45:L57,AI9)","v":1},{"$f":"AJ9/(AL4-AJ10)","v":0.14285714285714285},{"$f":"IF(AK9=0,0,(AK9*((LOG(AK9))/LOG(2))))","v":-0.40105070315108626},null,121,{"$f":"COUNTIF(L58:L69,AN9)","v":0},{"$f":"AO9/(AQ4-AO10)","v":0},{"$f":"IF(AP9=0,0,(AP9*((LOG(AP9))/LOG(2))))","v":0},null,121,{"$f":"COUNTIF(L70:L82,AS9)","v":1},{"$f":"AT9/(AV4-AT10)","v":0.1},{"$f":"IF(AU9=0,0,(AU9*((LOG(AU9))/LOG(2))))","v":-0.33219280948873625}]
[11,399,11,407,21,419,null,null,null,null,0,112,null,122,22,0.28947368421052633,-0.5177224958649782,null,null,122,{"$f":"COUNTIF(L7:L19,T10)","v":3},null,null,null,122,{"$f":"COUNTIF(L20:L31,Y10)","v":3},null,null,null,122,{"$f":"COUNTIF(L32:L44,AD10)","v":5},null,null,null,122,{"$f":"COUNTIF(L45:L57,AI10)","v":6},null,null,null,122,{"$f":"COUNTIF(L58:L69,AN10)","v":2},null,null,null,122,{"$f":"COUNTIF(L70:L82,AS10)","v":3}]
[11,509,11,514,12,519,null,null,null,null,0,111,null,211,0,0,0,null,null,211,{"$f":"COUNTIF(L7:L19,T11)","v":0},{"$f":"U11/(W4-U10)","v":0},{"$f":"IF(V11=0,0,(V11*((LOG(V11))/LOG(2))))","v":0},null,211,{"$f":"COUNTIF(L20:L31,Y11)","v":0},{"$f":"Z11/(AB4-Z10)","v":0},{"$f":"IF(AA11=0,0,(AA11*((LOG(AA11))/LOG(2))))","v":0},null,211,{"$f":"COUNTIF(L32:L44,AD11)","v":0},{"$f":"AE11/(AG4-AE10)","v":0},{"$f":"IF(AF11=0,0,(AF11*((LOG(AF11))/LOG(2))))","v":0},null,211,{"$f":"COUNTIF(L45:L57,AI11)","v":0},{"$f":"AJ11/(AL4-AJ10)","v":0},{"$f":"IF(AK11=0,0,(AK11*((LOG(AK11))/LOG(2))))","v":0},null,211,{"$f":"COUNTIF(L58:L69,AN11)","v":0},{"$f":"AO11/(AQ4-AO10)","v":0},{"$f":"IF(AP11=0,0,(AP11*((LOG(AP11))/LOG(2))))","v":0},null,211,{"$f":"COUNTIF(L70:L82,AS11)","v":0},{"$f":"AT11/(AV4-AT10)","v":0},{"$f":"IF(AU11=0,0,(AU11*((LOG(AU11))/LOG(2))))","v":0}]
[11,621,11,625,12,632,null,null,null,null,0,111,null,212,0,0,0,null,null,212,{"$f":"COUNTIF(L7:L19,T12)","v":0},{"$f":"U12/(W4-U10)","v":0},{"$f":"IF(V12=0,0,(V12*((LOG(V12))/LOG(2))))","v":0},null,212,{"$f":"COUNTIF(L20:L31,Y12)","v":0},{"$f":"Z12/(AB4-Z10)","v":0},{"$f":"IF(AA12=0,0,(AA12*((LOG(AA12))/LOG(2))))","v":0},null,212,{"$f":"COUNTIF(L32:L44,AD12)","v":0},{"$f":"AE12/(AG4-AE10)","v":0},{"$f":"IF(AF12=0,0,(AF12*((LOG(AF12))/LOG(2))))","v":0},null,212,{"$f":"COUNTIF(L45:L57,AI12)","v":0},{"$f":"AJ12/(AL4-AJ10)","v":0},{"$f":"IF(AK12=0,0,(AK12*((LOG(AK12))/LOG(2))))","v":0},null,212,{"$f":"COUNTIF(L58:L69,AN12)","v":0},{"$f":"AO12/(AQ4-AO10)","v":0},{"$f":"IF(AP12=0,0,(AP12*((LOG(AP12))/LOG(2))))","v":0},null,212,{"$f":"COUNTIF(L70:L82,AS12)","v":0},{"$f":"AT12/(AV4-AT10)","v":0},{"$f":"IF(AU12=0,0,(AU12*((LOG(AU12))/LOG(2))))","v":0}]
[11,733,11,737,21,754,null,null,null,null,0,112,null,221,0,0,0,null,null,221,{"$f":"COUNTIF(L7:L19,T13)","v":0},{"$f":"U13/(W4-U10)","v":0},{"$f":"IF(V13=0,0,(V13*((LOG(V13))/LOG(2))))","v":0},null,221,{"$f":"COUNTIF(L20:L31,Y13)","v":0},{"$f":"Z13/(AB4-Z10)","v":0},{"$f":"IF(AA13=0,0,(AA13*((LOG(AA13))/LOG(2))))","v":0},null,221,{"$f":"COUNTIF(L32:L44,AD13)","v":0},{"$f":"AE13/(AG4-AE10)","v":0},{"$f":"IF(AF13=0,0,(AF13*((LOG(AF13))/LOG(2))))","v":0},null,221,{"$f":"COUNTIF(L45:L57,AI13)","v":0},{"$f":"AJ13/(AL4-AJ10)","v":0},{"$f":"IF(AK13=0,0,(AK13*((LOG(AK13))/LOG(2))))","v":0},null,221,{"$f":"COUNTIF(L58:L69,AN13)","v":0},{"$f":"AO13/(AQ4-AO10)","v":0},{"$f":"IF(AP13=0,0,(AP13*((LOG(AP13))/LOG(2))))","v":0},null,221,{"$f":"COUNTIF(L70:L82,AS13)","v":0},{"$f":"AT13/(AV4-AT10)","v":0},{"$f":"IF(AU13=0,0,(AU13*((LOG(AU13))/LOG(2))))","v":0}]
[11,849,11,853,21,867,null,null,null,null,0,112,null,222,3,3.9473684210526314E-2,-0.184064408396938,null,null,222,{"$f":"COUNTIF(L7:L19,T14)","v":1},{"$f":"U14/(W4-U10)","v":0.1},{"$f":"IF(V14=0,0,(V14*((LOG(V14))/LOG(2))))","v":-0.33219280948873625},null,222,{"$f":"COUNTIF(L20:L31,Y14)","v":1},{"$f":"Z14/(AB4-Z10)","v":0.1111111111111111},{"$f":"IF(AA14=0,0,(AA14*((LOG(AA14))/LOG(2))))","v":-0.3522138890491458},null,222,{"$f":"COUNTIF(L32:L44,AD14)","v":0},{"$f":"AE14/(AG4-AE10)","v":0},{"$f":"IF(AF14=0,0,(AF14*((LOG(AF14))/LOG(2))))","v":0},null,222,{"$f":"COUNTIF(L45:L57,AI14)","v":1},{"$f":"AJ14/(AL4-AJ10)","v":0.14285714285714285},{"$f":"IF(AK14=0,0,(AK14*((LOG(AK14))/LOG(2))))","v":-0.40105070315108626},null,222,{"$f":"COUNTIF(L58:L69,AN14)","v":0},{"$f":"AO14/(AQ4-AO10)","v":0},{"$f":"IF(AP14=0,0,(AP14*((LOG(AP14))/LOG(2))))","v":0},null,222,{"$f":"COUNTIF(L70:L82,AS14)","v":0},{"$f":"AT14/(AV4-AT10)","v":0},{"$f":"IF(AU14=0,0,(AU14*((LOG(AU14))/LOG(2))))","v":0}]
[11,966,22,978,23,990,null,null,null,null,0,122,null,null,null,{"$f":"SUM(P7:P14)","v":1},{"$f":"-SUM(Q7:Q14)","v":1.7151065343667176},null,null,null,null,{"$f":"SUM(V7:V14)","v":1},{"$f":"-SUM(W7:W14)","v":1.3609640474436813},null,null,null,{"$f":"SUM(AA7:AA14)","v":1},{"$f":"-SUM(AB7:AB14)","v":1.2243944454059861},null,null,null,{"$f":"SUM(AF7:AF14)","v":1},{"$f":"-SUM(AG7:AG14)","v":1.0612781244591329},null,null,null,{"$f":"SUM(AK7:AK14)","v":1},{"$f":"-SUM(AL7:AL14)","v":1.1488348542809166},null,null,null,{"$f":"SUM(AP7:AP14)","v":1},{"$f":"-SUM(AQ7:AQ14)","v":0.46899559358928122},null,null,null,{"$f":"SUM(AU7:AU14)","v":1},{"$f":"-SUM(AV7:AV14)","v":0.46899559358928122}]
[11,1095,11,1101,21,1113,null,null,null,null,0,112,null,null,null,"U=",{"$f":"Q15/(LOG(Q4)/LOG(2))","v":0.27450807178481901},null,null,null,null,"U1=",{"$f":"W15/(LOG(W4)/LOG(2))","v":0.36778441242311566},null,null,null,"U2=",{"$f":"AB15/(LOG(AB4)/LOG(2))","v":0.34153619324042722},null,null,null,"U3=",{"$f":"AG15/(LOG(AG4)/LOG(2))","v":0.28679784168792344},null,null,null,"U4=",{"$f":"AL15/(LOG(AL4)/LOG(2))","v":0.3104590107626537},null,null,null,"U5=",{"$f":"AQ15/(LOG(AQ4)/LOG(2))","v":0.13082301237319424},null,null,null,"U6=",{"$f":"AV15/(LOG(AV4)/LOG(2))","v":0.12674050364611267}]
[11,1206,11,1211,21,1225,null,null,null,null,0,112]
[11,1319,22,1334,23,1342,null,null,null,null,0,122]
[11,1441,11,1445,12,1449,null,null,null,null,0,111,null,"Total Target Seq"]
[11,1548,11,1553,12,1557,null,null,null,null,0,111,null,{"$f":"COUNTIF(L7:L82,G3)","v":22},null,13,12,13,13,12,13]
[22,1666,24,1674,23,1683,null,null,null,null,0,222,null,null,null,"% of reinforcement given in 6 equal intervals based on number of trials "]
[11,1783,11,1788,21,1801,null,null,null,null,0,112,null,null,null,"%_1","%_2","%_3","%_4","%_5","%_6"]
[11,1893,11,1898,12,1903,null,null,null,null,0,111,null,null,"target sequence",{"$f":"$G$3","v":122},122,122,122,122,122]
[11,2003,11,2007,21,2021,null,null,null,null,0,112,null,null,"total reinforcement",{"$f":"U10","v":3},{"$f":"Z10","v":3},{"$f":"AE10","v":5},{"$f":"AJ10","v":6},{"$f":"AO10","v":2},{"$f":"AT10","v":3}]
[11,2114,11,2118,21,2141,null,null,null,null,0,112,null,null,"% target"]
[11,2235,11,2240,21,2251,null,null,null,null,0,112,null,null,"CCRF"]
[11,2348,22,2359,23,2365,null,null,null,null,0,122,null,null,"% CCRf"]
[11,2488,22,2500,23,2510,null,null,null,null,0,122,null,null,"average response rate",{"$f":"F19/P20","v":111.46153846153847},{"$f":"(F31-F19)/Q20","v":117.16666666666667},{"$f":"(F44-F31)/R20","v":121.23076923076923},{"$f":"(F57-F44)/S20","v":122.61538461538461},{"$f":"(F69-F57)/T20","v":113.16666666666667},{"$f":"(F82-F69)/U20","v":113}]
[11,2607,22,2622,23,2630,null,null,null,null,0,122]
[11,2727,11,2731,21,2744,null,null,null,null,0,112]
[11,2837,11,2843,21,2855,null,null,null,null,0,112]
[11,2949,22,2959,23,2973,null,null,null,null,0,122]
[11,3078,22,3089,23,3098,null,null,null,null,0,122]
[11,3198,11,3203,12,3213,null,null,null,null,0,111]
[11,3315,22,3326,23,3340,null,null,null,null,0,122]
[11,3442,11,3454,21,3466,null,null,null,null,0,112]
[11,3557,11,3562,21,3573,null,null,null,null,0,112]
[11,3666,22,3677,23,3683,null,null,null,null,0,122]
[11,3782,11,3799,21,3823,null,null,null,null,0,112]
[11,3916,11,3922,21,3940,null,null,null,null,0,112]
[11,4035,11,4047,21,4063,null,null,null,null,0,112]
[11,4155,22,4168,23,4177,null,null,null,null,0,122]
[11,4274,22,4287,14,4316,null,null,null,null,0,121]
[11,4416,11,4420,21,4431,null,null,null,null,0,112]
[11,4524,22,4537,23,4547,null,null,null,null,0,122]
[11,4652,22,4672,23,4706,null,null,null,null,0,122]
[11,4803,11,4808,21,4819,null,null,null,null,0,112]
[11,4917,22,4928,14,4951,null,null,null,null,0,121]
[22,5066,24,5073,23,5083,null,null,null,null,0,222]
[11,5180,22,5195,23,5204,null,null,null,null,0,122]
[11,5305,11,5310,21,5321,null,null,null,null,0,112]
[11,5413,11,5417,21,5428,null,null,null,null,0,112]
[11,5519,22,5545,23,5553,null,null,null,null,0,122]
[11,5650,11,5657,21,5668,null,null,null,null,0,112]
[11,5761,22,5772,23,5781,null,null,null,null,0,122]
[11,5883,22,5896,23,5909,null,null,null,null,0,122]
[11,6006,11,6015,21,6025,null,null,null,null,0,112]
[11,6116,22,6127,23,6136,null,null,null,null,0,122]
[11,6236,11,6241,21,6251,null,null,null,null,0,112]
[11,6342,11,6350,21,6361,null,null,null,null,0,112]
[11,6452,22,6465,23,6480,null,null,null,null,0,122]
[11,6579,11,6585,21,6602,null,null,null,null,0,112]
[11,6691,11,6696,21,6709,null,null,null,null,0,112]
[11,6797,11,6802,21,6814,null,null,null,null,0,112]
[11,6905,11,6911,21,6922,null,null,null,null,0,112]
[11,7015,11,7022,21,7031,null,null,null,null,0,112]
[11,7116,11,7121,12,7126,null,null,null,null,0,111]
[11,7226,11,7230,21,7268,null,null,null,null,0,112]
[11,7354,11,7359,21,7383,null,null,null,null,0,112]
[11,7471,11,7476,21,7486,null,null,null,null,0,112]
[11,7576,22,7588,23,7601,null,null,null,null,0,122]
[11,7701,11,7706,21,7723,null,null,null,null,0,112]
[11,7813,11,7818,21,7828,null,null,null,null,0,112]
[11,7919,22,7929,23,7943,null,null,null,null,0,122]
[11,8039,11,8044,21,8057,null,null,null,null,0,112]
[11,8147,22,8162,23,8169,null,null,null,null,0,122]
[11,8268,11,8272,21,8283,null,null,null,null,0,112]
[11,8374,11,8385,21,8395,null,null,null,null,0,112]
[11,8483,11,8488,21,8499,null,null,null,null,0,112]
[11,8588,11,8593,21,8603,null,null,null,null,0,112]
[11,8699,22,8725,14,8740,null,null,null,null,0,121]
[11,8837,11,8842,21,8852,null,null,null,null,1,112]

{"sheet":"!L807C50.056","index":12,"n_rows":71,"n_cols":48,"rows_kept":71,"cut":false,"hidden":false,"merged":[[1,1,1,2],[5,13,5,14],[18,13,18,14],[19,13,19,14],[4,19,4,22],[5,19,5,20],[4,39,4,42],[5,39,5,40],[4,44,4,47],[5,44,5,45],[4,24,4,27],[5,24,5,25],[4,29,4,32],[5,29,5,30],[4,34,4,37],[5,34,5,35]]}
["Report for:!L807C50.056"]
["Date:","<date>"]
["Hen:","<hen>",null,null,null,"Correct Sequence",{"$f":"Start!J2","v":122},null,null,null,null,null,null,null,null,"Total Sequences in Data",{"$f":"4994-COUNTBLANK(L7:L5000)","v":65},null,null,null,null,"Total Sequences in Block Data",{"$f":"COUNTA(L7:L17)","v":11},null,null,null,"Total Sequences in Block Data",{"$f":"COUNTA(L18:L28)","v":11},null,null,null,"Total Sequences in Block Data",{"$f":"COUNTA(L29:L38)","v":10},null,null,null,"Total Sequences in Block Data",{"$f":"COUNTA(L39:L49)","v":11},null,null,null,"Total Sequences in Block Data",{"$f":"COUNTA(L50:L60)","v":11},null,null,null,"Total Sequences in Block Data",{"$f":"COUNTA(L61:L71)","v":11}]
[null,null,null,null,null,null,null,null,null,null,null,null,null,null,null,"Total Sequences in Summary",{"$f":"SUM(O7:O14)","v":65},null,null,null,null,"Total Sequences in Block Summary",{"$f":"SUM(U7:U14)","v":11},null,null,null,"Total Sequences in Block Summary",{"$f":"SUM(Z7:Z14)","v":11},null,null,null,"Total Sequences in Block Summary",{"$f":"SUM(AE7:AE14)","v":10},null,null,null,"Total Sequences in Block Summary",{"$f":"SUM(AJ7:AJ14)","v":11},null,null,null,"Total Sequences in Block Summary",{"$f":"SUM(AO7:AO14)","v":11},null,null,null,"Total Sequences in Block Summary",{"$f":"SUM(AT7:AT14)","v":11}]
[null,null,null,null,null,null,null,null,null,null,null,null,null,null,null,null,null,null,null,"Block 1",null,null,null,null,"Block 2",null,null,null,null,"Block 3",null,null,null,null,"Block 4",null,null,null,null,"Block 5",null,null,null,null,"Block 6"]
["Sequence\nComponent\n1","Time\n1","Sequence\nComponent\n2","Time\n2","Sequence\nComponent\n3","Time\n3","Sequence\nComponent\n4","Time\n4","Sequence\nComponent\n5","Time\n5","Correct?\n0=No 1=Yes","Sequence",null,"Frequency",null,"Relative Frequency","Variability",null,null,"Frequency",null,"Relative Frequency","Variability",null,"Frequency",null,"Relative Frequency","Variability",null,"Frequency",null,"Relative Frequency","Variability",null,"Frequency",null,"Relative Frequency","Variability",null,"Frequency",null,"Relative Frequency","Variability",null,"Frequency",null,"Relative Frequency","Variability"]
[11,17,22,30,23,38,null,null,null,null,0,122,null,111,{"$f":"COUNTIF($L$7:$L$500,N7)","v":1},{"$f":"O7/$Q$4","v":1.5384615384615385E-2},{"$f":"IF(P7=0,0,(P7*((LOG(P7))/LOG(2))))","v":-9.2651812508130066E-2},null,null,{"$f":"N7","v":111},{"$f":"COUNTIF(L7:L17,T7)","v":0},{"$f":"U7/(W4-U10)","v":0},{"$f":"IF(V7=0,0,(V7*((LOG(V7))/LOG(2))))","v":0},null,{"$f":"N7","v":111},{"$f":"COUNTIF(L18:L28,Y7)","v":0},{"$f":"Z7/(AB4-Z10)","v":0},{"$f":"IF(AA7=0,0,(AA7*((LOG(AA7))/LOG(2))))","v":0},null,{"$f":"N7","v":111},{"$f":"COUNTIF(L29:L38,AD7)","v":0},{"$f":"AE7/(AG4-AE10)","v":0},{"$f":"IF(AF7=0,0,(AF7*((LOG(AF7))/LOG(2))))","v":0},null,{"$f":"N7","v":111},{"$f":"COUNTIF(L39:L49,AI7)","v":0},{"$f":"AJ7/(AL4-AJ10)","v":0},{"$f":"IF(AK7=0,0,(AK7*((LOG(AK7))/LOG(2))))","v":0},null,{"$f":"N7","v":111},{"$f":"COUNTIF(L50:L60,AN7)","v":1},{"$f":"AO7/(AQ4-AO10)","v":0.1111111111111111},{"$f":"IF(AP7=0,0,(AP7*((LOG(AP7))/LOG(2))))","v":-0.3522138890491458},null,{"$f":"N7","v":111},{"$f":"COUNTIF(L61:L71,AS7)","v":0},{"$f":"AT7/(AV4-AT10)","v":0},{"$f":"IF(AU7=0,0,(AU7*((LOG(AU7))/LOG(2))))","v":0}]
[11,143,11,149,21,167,null,null,null,null,0,112,null,112,40,0.61538461538461542,-0.43103982654836437,null,null,112,{"$f":"COUNTIF(L7:L17,T8)","v":6},{"$f":"U8/(W4-U10)","v":0.8571428571428571},{"$f":"IF(V8=0,0,(V8*((LOG(V8))/LOG(2))))","v":-0.19062207543124113},null,112,{"$f":"COUNTIF(L18:L28,Y8)","v":8},{"$f":"Z8/(AB4-Z10)","v":0.88888888888888884},{"$f":"IF(AA8=0,0,(AA8*((LOG(AA8))/LOG(2))))","v":-0.15104444572649992},null,112,{"$f":"COUNTIF(L29:L38,AD8)","v":5},{"$f":"AE8/(AG4-AE10)","v":1},{"$f":"IF(AF8=0,0,(AF8*((LOG(AF8))/LOG(2))))","v":0},null,112,{"$f":"COUNTIF(L39:L49,AI8)","v":4},{"$f":"AJ8/(AL4-AJ10)","v":0.8},{"$f":"IF(AK8=0,0,(AK8*((LOG(AK8))/LOG(2))))","v":-0.25754247590988982},null,112,{"$f":"COUNTIF(L50:L60,AN8)","v":8},{"$f":"AO8/(AQ4-AO10)","v":0.88888888888888884},{"$f":"IF(AP8=0,0,(AP8*((LOG(AP8))/LOG(2))))","v":-0.15104444572649992},null,112,{"$f":"COUNTIF(L61:L71,AS8)","v":9},{"$f":"AT8/(AV4-AT10)","v":1},{"$f":"IF(AU8=0,0,(AU8*((LOG(AU8))/LOG(2))))","v":0}]
[11,259,11,264,21,274,null,null,null,null,0,112,null,121,2,3.0769230769230771E-2,-0.15453439424702936,null,null,121,{"$f":"COUNTIF(L7:L17,T9)","v":1},{"$f":"U9/(W4-U10)","v":0.14285714285714285},{"$f":"IF(V9=0,0,(V9*((LOG(V9))/LOG(2))))","v":-0.40105070315108626},null,121,{"$f":"COUNTIF(L18:L28,Y9)","v":1},{"$f":"Z9/(AB4-Z10)","v":0.1111111111111111},{"$f":"IF(AA9=0,0,(AA9*((LOG(AA9))/LOG(2))))","v":-0.3522138890491458},null,121,{"$f":"COUNTIF(L29:L38,AD9)","v":0},{"$f":"AE9/(AG4-AE10)","v":0},{"$f":"IF(AF9=0,0,(AF9*((LOG(AF9))/LOG(2))))","v":0},null,121,{"$f":"COUNTIF(L39:L49,AI9)","v":0},{"$f":"AJ9/(AL4-AJ10)","v":0},{"$f":"IF(AK9=0,0,(AK9*((LOG(AK9))/LOG(2))))","v":0},null,121,{"$f":"COUNTIF(L50:L60,AN9)","v":0},{"$f":"AO9/(AQ4-AO10)","v":0},{"$f":"IF(AP9=0,0,(AP9*((LOG(AP9))/LOG(2))))","v":0},null,121,{"$f":"COUNTIF(L61:L71,AS9)","v":0},{"$f":"AT9/(AV4-AT10)","v":0},{"$f":"IF(AU9=0,0,(AU9*((LOG(AU9))/LOG(2))))","v":0}]
[11,371,22,385,14,437,null,null,null,null,0,121,null,122,21,0.32307692307692309,-0.52663166454220889,null,null,122,{"$f":"COUNTIF(L7:L17,T10)","v":4},null,null,null,122,{"$f":"COUNTIF(L18:L28,Y10)","v":2},null,null,null,122,{"$f":"COUNTIF(L29:L38,AD10)","v":5},null,null,null,122,{"$f":"COUNTIF(L39:L49,AI10)","v":6},null,null,null,122,{"$f":"COUNTIF(L50:L60,AN10)","v":2},null,null,null,122,{"$f":"COUNTIF(L61:L71,AS10)","v":2}]
[11,537,11,543,21,553,null,null,null,null,0,112,null,211,0,0,0,null,null,211,{"$f":"COUNTIF(L7:L17,T11)","v":0},{"$f":"U11/(W4-U10)","v":0},{"$f":"IF(V11=0,0,(V11*((LOG(V11))/LOG(2))))","v":0},null,211,{"$f":"COUNTIF(L18:L28,Y11)","v":0},{"$f":"Z11/(AB4-Z10)","v":0},{"$f":"IF(AA11=0,0,(AA11*((LOG(AA11))/LOG(2))))","v":0},null,211,{"$f":"COUNTIF(L29:L38,AD11)","v":0},{"$f":"AE11/(AG4-AE10)","v":0},{"$f":"IF(AF11=0,0,(AF11*((LOG(AF11))/LOG(2))))","v":0},null,211,{"$f":"COUNTIF(L39:L49,AI11)","v":0},{"$f":"AJ11/(AL4-AJ10)","v":0},{"$f":"IF(AK11=0,0,(AK11*((LOG(AK11))/LOG(2))))","v":0},null,211,{"$f":"COUNTIF(L50:L60,AN11)","v":0},{"$f":"AO11/(AQ4-AO10)","v":0},{"$f":"IF(AP11=0,0,(AP11*((LOG(AP11))/LOG(2))))","v":0},null,211,{"$f":"COUNTIF(L61:L71,AS11)","v":0},{"$f":"AT11/(AV4-AT10)","v":0},{"$f":"IF(AU11=0,0,(AU11*((LOG(AU11))/LOG(2))))","v":0}]
[11,642,11,648,21,658,null,null,null,null,0,112,null,212,0,0,0,null,null,212,{"$f":"COUNTIF(L7:L17,T12)","v":0},{"$f":"U12/(W4-U10)","v":0},{"$f":"IF(V12=0,0,(V12*((LOG(V12))/LOG(2))))","v":0},null,212,{"$f":"COUNTIF(L18:L28,Y12)","v":0},{"$f":"Z12/(AB4-Z10)","v":0},{"$f":"IF(AA12=0,0,(AA12*((LOG(AA12))/LOG(2))))","v":0},null,212,{"$f":"COUNTIF(L29:L38,AD12)","v":0},{"$f":"AE12/(AG4-AE10)","v":0},{"$f":"IF(AF12=0,0,(AF12*((LOG(AF12))/LOG(2))))","v":0},null,212,{"$f":"COUNTIF(L39:L49,AI12)","v":0},{"$f":"AJ12/(AL4-AJ10)","v":0},{"$f":"IF(AK12=0,0,(AK12*((LOG(AK12))/LOG(2))))","v":0},null,212,{"$f":"COUNTIF(L50:L60,AN12)","v":0},{"$f":"AO12/(AQ4-AO10)","v":0},{"$f":"IF(AP12=0,0,(AP12*((LOG(AP12))/LOG(2))))","v":0},null,212,{"$f":"COUNTIF(L61:L71,AS12)","v":0},{"$f":"AT12/(AV4-AT10)","v":0},{"$f":"IF(AU12=0,0,(AU12*((LOG(AU12))/LOG(2))))","v":0}]
[11,748,11,753,21,770,null,null,null,null,0,112,null,221,0,0,0,null,null,221,{"$f":"COUNTIF(L7:L17,T13)","v":0},{"$f":"U13/(W4-U10)","v":0},{"$f":"IF(V13=0,0,(V13*((LOG(V13))/LOG(2))))","v":0},null,221,{"$f":"COUNTIF(L18:L28,Y13)","v":0},{"$f":"Z13/(AB4-Z10)","v":0},{"$f":"IF(AA13=0,0,(AA13*((LOG(AA13))/LOG(2))))","v":0},null,221,{"$f":"COUNTIF(L29:L38,AD13)","v":0},{"$f":"AE13/(AG4-AE10)","v":0},{"$f":"IF(AF13=0,0,(AF13*((LOG(AF13))/LOG(2))))","v":0},null,221,{"$f":"COUNTIF(L39:L49,AI13)","v":0},{"$f":"AJ13/(AL4-AJ10)","v":0},{"$f":"IF(AK13=0,0,(AK13*((LOG(AK13))/LOG(2))))","v":0},null,221,{"$f":"COUNTIF(L50:L60,AN13)","v":0},{"$f":"AO13/(AQ4-AO10)","v":0},{"$f":"IF(AP13=0,0,(AP13*((LOG(AP13))/LOG(2))))","v":0},null,221,{"$f":"COUNTIF(L61:L71,AS13)","v":0},{"$f":"AT13/(AV4-AT10)","v":0},{"$f":"IF(AU13=0,0,(AU13*((LOG(AU13))/LOG(2))))","v":0}]
[11,859,22,869,23,876,null,null,null,null,0,122,null,222,1,1.5384615384615385E-2,-9.2651812508130066E-2,null,null,222,{"$f":"COUNTIF(L7:L17,T14)","v":0},{"$f":"U14/(W4-U10)","v":0},{"$f":"IF(V14=0,0,(V14*((LOG(V14))/LOG(2))))","v":0},null,222,{"$f":"COUNTIF(L18:L28,Y14)","v":0},{"$f":"Z14/(AB4-Z10)","v":0},{"$f":"IF(AA14=0,0,(AA14*((LOG(AA14))/LOG(2))))","v":0},null,222,{"$f":"COUNTIF(L29:L38,AD14)","v":0},{"$f":"AE14/(AG4-AE10)","v":0},{"$f":"IF(AF14=0,0,(AF14*((LOG(AF14))/LOG(2))))","v":0},null,222,{"$f":"COUNTIF(L39:L49,AI14)","v":1},{"$f":"AJ14/(AL4-AJ10)","v":0.2},{"$f":"IF(AK14=0,0,(AK14*((LOG(AK14))/LOG(2))))","v":-0.46438561897747244},null,222,{"$f":"COUNTIF(L50:L60,AN14)","v":0},{"$f":"AO14/(AQ4-AO10)","v":0},{"$f":"IF(AP14=0,0,(AP14*((LOG(AP14))/LOG(2))))","v":0},null,222,{"$f":"COUNTIF(L61:L71,AS14)","v":0},{"$f":"AT14/(AV4-AT10)","v":0},{"$f":"IF(AU14=0,0,(AU14*((LOG(AU14))/LOG(2))))","v":0}]
[11,977,22,992,23,1004,null,null,null,null,0,122,null,null,null,{"$f":"SUM(P7:P14)","v":1},{"$f":"-SUM(Q7:Q14)","v":1.2975095103538627},null,null,null,null,{"$f":"SUM(V7:V14)","v":1},{"$f":"-SUM(W7:W14)","v":0.59167277858232736},null,null,null,{"$f":"SUM(AA7:AA14)","v":1},{"$f":"-SUM(AB7:AB14)","v":0.50325833477564574},null,null,null,{"$f":"SUM(AF7:AF14)","v":1},{"$f":"-SUM(AG7:AG14)","v":0},null,null,null,{"$f":"SUM(AK7:AK14)","v":1},{"$f":"-SUM(AL7:AL14)","v":0.72192809488736231},null,null,null,{"$f":"SUM(AP7:AP14)","v":1},{"$f":"-SUM(AQ7:AQ14)","v":0.50325833477564574},null,null,null,{"$f":"SUM(AU7:AU14)","v":1},{"$f":"-SUM(AV7:AV14)","v":0}]
[11,1105,11,1116,21,1129,null,null,null,null,0,112,null,null,null,"U=",{"$f":"Q15/(LOG(Q4)/LOG(2))","v":0.21544840013705291},null,null,null,null,"U1=",{"$f":"W15/(LOG(W4)/LOG(2))","v":0.17103178897792257},null,null,null,"U2=",{"$f":"AB15/(LOG(AB4)/LOG(2))","v":0.14547428313495148},null,null,null,"U3=",{"$f":"AG15/(LOG(AG4)/LOG(2))","v":0},null,null,null,"U4=",{"$f":"AL15/(LOG(AL4)/LOG(2))","v":0.20868401936261902},null,null,null,"U5=",{"$f":"AQ15/(LOG(AQ4)/LOG(2))","v":0.14547428313495148},null,null,null,"U6=",{"$f":"AV15/(LOG(AV4)/LOG(2))","v":0}]
[11,1229,22,1262,23,1270,null,null,null,null,0,122]
[11,1382,22,1392,23,1404,null,null,null,null,0,122]
[11,1501,11,1506,21,1518,null,null,null,null,0,112,null,"Total Target Seq"]
[11,1605,11,1618,21,1628,null,null,null,null,0,112,null,{"$f":"COUNTIF(L7:L71,G3)","v":21},null,11,11,10,11,11,11]
[11,1718,11,1724,21,1743,null,null,null,null,0,112,null,null,null,"% of reinforcement given in 6 equal intervals based on number of trials "]
[11,1840,22,1850,23,1866,null,null,null,null,0,122,null,null,null,"%_1","%_2","%_3","%_4","%_5","%_6"]
[11,1967,22,1977,14,1996,null,null,null,null,0,121,null,null,"target sequence",{"$f":"$G$3","v":122},122,122,122,122,122]
[11,2094,11,2103,21,2112,null,null,null,null,0,112,null,null,"total reinforcement",{"$f":"U10","v":4},{"$f":"Z10","v":2},{"$f":"AE10","v":5},{"$f":"AJ10","v":6},{"$f":"AO10","v":2},{"$f":"AT10","v":2}]
[11,2199,11,2204,21,2214,null,null,null,null,0,112,null,null,"% target"]
[11,2302,11,2307,21,2318,null,null,null,null,0,112,null,null,"CCRF"]
[11,2406,11,2411,21,2421,null,null,null,null,0,112,null,null,"% CCRf"]
[11,2507,11,2515,21,2525,null,null,null,null,0,112,null,null,"average response rate",{"$f":"F17/P20","v":115.45454545454545},{"$f":"(F28-F17)/Q20","v":114.09090909090909},{"$f":"(F38-F28)/R20","v":118.7},{"$f":"(F49-F38)/S20","v":123.72727272727273},{"$f":"(F60-F49)/T20","v":115.45454545454545},{"$f":"(F71-F60)/U20","v":109.27272727272727}]
[11,2614,11,2621,21,2631,null,null,null,null,0,112]
[11,2718,11,2733,21,2760,null,null,null,null,0,112]
[11,2851,11,2855,21,2865,null,null,null,null,0,112]
[11,2952,11,2956,21,2991,null,null,null,null,0,112]
[11,3081,22,3100,23,3112,null,null,null,null,0,122]
[11,3209,22,3224,23,3231,null,null,null,null,0,122]
[11,3331,22,3342,23,3362,null,null,null,null,0,122]
[11,3463,22,3473,23,3479,null,null,null,null,0,122]
[11,3576,11,3586,21,3596,null,null,null,null,0,112]
[11,3691,22,3701,23,3712,null,null,null,null,0,122]
[11,3809,11,3814,21,3839,null,null,null,null,0,112]
[11,3935,22,3945,23,3959,null,null,null,null,0,122]
[11,4056,11,4069,21,4079,null,null,null,null,0,112]
[11,4169,22,4188,23,4199,null,null,null,null,0,122]
[11,4297,22,4308,23,4325,null,null,null,null,0,122]
[11,4425,11,4430,21,4440,null,null,null,null,0,112]
[22,4544,24,4552,23,4560,null,null,null,null,0,222]
[11,4657,22,4670,23,4689,null,null,null,null,0,122]
[11,4785,11,4794,21,4819,null,null,null,null,0,112]
[11,4910,22,4934,23,4946,null,null,null,null,0,122]
[11,5043,22,5060,23,5073,null,null,null,null,0,122]
[11,5170,11,5175,21,5185,null,null,null,null,0,112]
[11,5274,11,5280,12,5285,null,null,null,null,0,111]
[11,5384,11,5393,21,5431,null,null,null,null,0,112]
[11,5524,11,5532,21,5552,null,null,null,null,0,112]
[11,5638,11,5643,21,5653,null,null,null,null,0,112]
[11,5742,11,5747,21,5771,null,null,null,null,0,112]
[11,5860,22,5894,23,5902,null,null,null,null,0,122]
[11,5999,11,6004,21,6014,null,null,null,null,0,112]
[11,6102,11,6106,21,6123,null,null,null,null,0,112]
[11,6212,11,6217,21,6227,null,null,null,null,0,112]
[11,6318,22,6328,23,6343,null,null,null,null,0,122]
[11,6441,11,6446,21,6455,null,null,null,null,0,112]
[11,6542,11,6547,21,6571,null,null,null,null,0,112]
[11,6660,11,6666,21,6689,null,null,null,null,0,112]
[11,6778,11,6784,21,6793,null,null,null,null,0,112]
[11,6881,11,6886,21,6897,null,null,null,null,0,112]
[11,6984,11,6988,21,6999,null,null,null,null,0,112]
[11,7085,22,7095,23,7103,null,null,null,null,0,122]
[11,7202,22,7213,23,7227,null,null,null,null,0,122]
[11,7323,11,7328,21,7341,null,null,null,null,0,112]
[11,7427,11,7433,21,7442,null,null,null,null,0,112]
[11,7531,11,7535,21,7545,null,null,null,null,1,112]

{"sheet":"!L808C40.056","index":13,"n_rows":57,"n_cols":48,"rows_kept":57,"cut":false,"hidden":false,"merged":[[1,1,1,2],[5,13,5,14],[18,13,18,14],[19,13,19,14],[4,19,4,22],[5,19,5,20],[4,39,4,42],[5,39,5,40],[4,44,4,47],[5,44,5,45],[4,24,4,27],[5,24,5,25],[4,29,4,32],[5,29,5,30],[4,34,4,37],[5,34,5,35]]}
["Report for:!L808C40.056"]
["Date:","<date>"]
["Hen:","<hen>",null,null,null,"Correct Sequence",{"$f":"Start!J2","v":122},null,null,null,null,null,null,null,null,"Total Sequences in Data",{"$f":"4994-COUNTBLANK(L7:L5000)","v":51},null,null,null,null,"Total Sequences in Block Data",{"$f":"COUNTA(L7:L15)","v":9},null,null,null,"Total Sequences in Block Data",{"$f":"COUNTA(L16:L23)","v":8},null,null,null,"Total Sequences in Block Data",{"$f":"COUNTA(L24:L32)","v":9},null,null,null,"Total Sequences in Block Data",{"$f":"COUNTA(L33:L40)","v":8},null,null,null,"Total Sequences in Block Data",{"$f":"COUNTA(L41:L49)","v":9},null,null,null,"Total Sequences in Block Data",{"$f":"COUNTA(L50:L57)","v":8}]
[null,null,null,null,null,null,null,null,null,null,null,null,null,null,null,"Total Sequences in Summary",{"$f":"SUM(O7:O14)","v":51},null,null,null,null,"Total Sequences in Block Summary",{"$f":"SUM(U7:U14)","v":9},null,null,null,"Total Sequences in Block Summary",{"$f":"SUM(Z7:Z14)","v":8},null,null,null,"Total Sequences in Block Summary",{"$f":"SUM(AE7:AE14)","v":9},null,null,null,"Total Sequences in Block Summary",{"$f":"SUM(AJ7:AJ14)","v":8},null,null,null,"Total Sequences in Block Summary",{"$f":"SUM(AO7:AO14)","v":9},null,null,null,"Total Sequences in Block Summary",{"$f":"SUM(AT7:AT14)","v":8}]
[null,null,null,null,null,null,null,null,null,null,null,null,null,null,null,null,null,null,null,"Block 1",null,null,null,null,"Block 2",null,null,null,null,"Block 3",null,null,null,null,"Block 4",null,null,null,null,"Block 5",null,null,null,null,"Block 6"]
["Sequence\nComponent\n1","Time\n1","Sequence\nComponent\n2","Time\n2","Sequence\nComponent\n3","Time\n3","Sequence\nComponent\n4","Time\n4","Sequence\nComponent\n5","Time\n5","Correct?\n0=No 1=Yes","Sequence",null,"Frequency",null,"Relative Frequency","Variability",null,null,"Frequency",null,"Relative Frequency","Variability",null,"Frequency",null,"Relative Frequency","Variability",null,"Frequency",null,"Relative Frequency","Variability",null,"Frequency",null,"Relative Frequency","Variability",null,"Frequency",null,"Relative Frequency","Variability",null,"Frequency",null,"Relative Frequency","Variability"]
[11,11,11,17,12,27,null,null,null,null,0,111,null,111,{"$f":"COUNTIF($L$7:$L$500,N7)","v":7},{"$f":"O7/$Q$4","v":0.13725490196078433},{"$f":"IF(P7=0,0,(P7*((LOG(P7))/LOG(2))))","v":-0.39324495959602429},null,null,{"$f":"N7","v":111},{"$f":"COUNTIF(L7:L15,T7)","v":3},{"$f":"U7/(W4-U10)","v":0.33333333333333331},{"$f":"IF(V7=0,0,(V7*((LOG(V7))/LOG(2))))","v":-0.52832083357371862},null,{"$f":"N7","v":111},{"$f":"COUNTIF(L16:L23,Y7)","v":1},{"$f":"Z7/(AB4-Z10)","v":0.125},{"$f":"IF(AA7=0,0,(AA7*((LOG(AA7))/LOG(2))))","v":-0.375},null,{"$f":"N7","v":111},{"$f":"COUNTIF(L24:L32,AD7)","v":3},{"$f":"AE7/(AG4-AE10)","v":0.42857142857142855},{"$f":"IF(AF7=0,0,(AF7*((LOG(AF7))/LOG(2))))","v":-0.52388246628704915},null,{"$f":"N7","v":111},{"$f":"COUNTIF(L33:L40,AI7)","v":0},{"$f":"AJ7/(AL4-AJ10)","v":0},{"$f":"IF(AK7=0,0,(AK7*((LOG(AK7))/LOG(2))))","v":0},null,{"$f":"N7","v":111},{"$f":"COUNTIF(L41:L49,AN7)","v":0},{"$f":"AO7/(AQ4-AO10)","v":0},{"$f":"IF(AP7=0,0,(AP7*((LOG(AP7))/LOG(2))))","v":0},null,{"$f":"N7","v":111},{"$f":"COUNTIF(L50:L57,AS7)","v":0},{"$f":"AT7/(AV4-AT10)","v":0},{"$f":"IF(AU7=0,0,(AU7*((LOG(AU7))/LOG(2))))","v":0}]
[11,130,11,135,12,169,null,null,null,null,0,111,null,112,40,0.78431372549019607,-0.2748998016346143,null,null,112,{"$f":"COUNTIF(L7:L15,T8)","v":6},{"$f":"U8/(W4-U10)","v":0.66666666666666663},{"$f":"IF(V8=0,0,(V8*((LOG(V8))/LOG(2))))","v":-0.38997500048077083},null,112,{"$f":"COUNTIF(L16:L23,Y8)","v":6},{"$f":"Z8/(AB4-Z10)","v":0.75},{"$f":"IF(AA8=0,0,(AA8*((LOG(AA8))/LOG(2))))","v":-0.31127812445913283},null,112,{"$f":"COUNTIF(L24:L32,AD8)","v":4},{"$f":"AE8/(AG4-AE10)","v":0.5714285714285714},{"$f":"IF(AF8=0,0,(AF8*((LOG(AF8))/LOG(2))))","v":-0.46134566974720237},null,112,{"$f":"COUNTIF(L33:L40,AI8)","v":8},{"$f":"AJ8/(AL4-AJ10)","v":1},{"$f":"IF(AK8=0,0,(AK8*((LOG(AK8))/LOG(2))))","v":0},null,112,{"$f":"COUNTIF(L41:L49,AN8)","v":9},{"$f":"AO8/(AQ4-AO10)","v":1},{"$f":"IF(AP8=0,0,(AP8*((LOG(AP8))/LOG(2))))","v":0},null,112,{"$f":"COUNTIF(L50:L57,AS8)","v":7},{"$f":"AT8/(AV4-AT10)","v":1},{"$f":"IF(AU8=0,0,(AU8*((LOG(AU8))/LOG(2))))","v":0}]
[11,270,11,276,12,282,null,null,null,null,0,111,null,121,1,1.9607843137254902E-2,-0.11122402631316657,null,null,121,{"$f":"COUNTIF(L7:L15,T9)","v":0},{"$f":"U9/(W4-U10)","v":0},{"$f":"IF(V9=0,0,(V9*((LOG(V9))/LOG(2))))","v":0},null,121,{"$f":"COUNTIF(L16:L23,Y9)","v":1},{"$f":"Z9/(AB4-Z10)","v":0.125},{"$f":"IF(AA9=0,0,(AA9*((LOG(AA9))/LOG(2))))","v":-0.375},null,121,{"$f":"COUNTIF(L24:L32,AD9)","v":0},{"$f":"AE9/(AG4-AE10)","v":0},{"$f":"IF(AF9=0,0,(AF9*((LOG(AF9))/LOG(2))))","v":0},null,121,{"$f":"COUNTIF(L33:L40,AI9)","v":0},{"$f":"AJ9/(AL4-AJ10)","v":0},{"$f":"IF(AK9=0,0,(AK9*((LOG(AK9))/LOG(2))))","v":0},null,121,{"$f":"COUNTIF(L41:L49,AN9)","v":0},{"$f":"AO9/(AQ4-AO10)","v":0},{"$f":"IF(AP9=0,0,(AP9*((LOG(AP9))/LOG(2))))","v":0},null,121,{"$f":"COUNTIF(L50:L57,AS9)","v":0},{"$f":"AT9/(AV4-AT10)","v":0},{"$f":"IF(AU9=0,0,(AU9*((LOG(AU9))/LOG(2))))","v":0}]
[11,399,11,404,21,421,null,null,null,null,0,112,null,122,3,5.8823529411764705E-2,-0.24043899066178465,null,null,122,{"$f":"COUNTIF(L7:L15,T10)","v":0},null,null,null,122,{"$f":"COUNTIF(L16:L23,Y10)","v":0},null,null,null,122,{"$f":"COUNTIF(L24:L32,AD10)","v":2},null,null,null,122,{"$f":"COUNTIF(L33:L40,AI10)","v":0},null,null,null,122,{"$f":"COUNTIF(L41:L49,AN10)","v":0},null,null,null,122,{"$f":"COUNTIF(L50:L57,AS10)","v":1}]
[11,519,11,524,21,534,null,null,null,null,0,112,null,211,0,0,0,null,null,211,{"$f":"COUNTIF(L7:L15,T11)","v":0},{"$f":"U11/(W4-U10)","v":0},{"$f":"IF(V11=0,0,(V11*((LOG(V11))/LOG(2))))","v":0},null,211,{"$f":"COUNTIF(L16:L23,Y11)","v":0},{"$f":"Z11/(AB4-Z10)","v":0},{"$f":"IF(AA11=0,0,(AA11*((LOG(AA11))/LOG(2))))","v":0},null,211,{"$f":"COUNTIF(L24:L32,AD11)","v":0},{"$f":"AE11/(AG4-AE10)","v":0},{"$f":"IF(AF11=0,0,(AF11*((LOG(AF11))/LOG(2))))","v":0},null,211,{"$f":"COUNTIF(L33:L40,AI11)","v":0},{"$f":"AJ11/(AL4-AJ10)","v":0},{"$f":"IF(AK11=0,0,(AK11*((LOG(AK11))/LOG(2))))","v":0},null,211,{"$f":"COUNTIF(L41:L49,AN11)","v":0},{"$f":"AO11/(AQ4-AO10)","v":0},{"$f":"IF(AP11=0,0,(AP11*((LOG(AP11))/LOG(2))))","v":0},null,211,{"$f":"COUNTIF(L50:L57,AS11)","v":0},{"$f":"AT11/(AV4-AT10)","v":0},{"$f":"IF(AU11=0,0,(AU11*((LOG(AU11))/LOG(2))))","v":0}]
[11,628,11,633,21,644,null,null,null,null,0,112,null,212,0,0,0,null,null,212,{"$f":"COUNTIF(L7:L15,T12)","v":0},{"$f":"U12/(W4-U10)","v":0},{"$f":"IF(V12=0,0,(V12*((LOG(V12))/LOG(2))))","v":0},null,212,{"$f":"COUNTIF(L16:L23,Y12)","v":0},{"$f":"Z12/(AB4-Z10)","v":0},{"$f":"IF(AA12=0,0,(AA12*((LOG(AA12))/LOG(2))))","v":0},null,212,{"$f":"COUNTIF(L24:L32,AD12)","v":0},{"$f":"AE12/(AG4-AE10)","v":0},{"$f":"IF(AF12=0,0,(AF12*((LOG(AF12))/LOG(2))))","v":0},null,212,{"$f":"COUNTIF(L33:L40,AI12)","v":0},{"$f":"AJ12/(AL4-AJ10)","v":0},{"$f":"IF(AK12=0,0,(AK12*((LOG(AK12))/LOG(2))))","v":0},null,212,{"$f":"COUNTIF(L41:L49,AN12)","v":0},{"$f":"AO12/(AQ4-AO10)","v":0},{"$f":"IF(AP12=0,0,(AP12*((LOG(AP12))/LOG(2))))","v":0},null,212,{"$f":"COUNTIF(L50:L57,AS12)","v":0},{"$f":"AT12/(AV4-AT10)","v":0},{"$f":"IF(AU12=0,0,(AU12*((LOG(AU12))/LOG(2))))","v":0}]
[11,735,11,741,21,751,null,null,null,null,0,112,null,221,0,0,0,null,null,221,{"$f":"COUNTIF(L7:L15,T13)","v":0},{"$f":"U13/(W4-U10)","v":0},{"$f":"IF(V13=0,0,(V13*((LOG(V13))/LOG(2))))","v":0},null,221,{"$f":"COUNTIF(L16:L23,Y13)","v":0},{"$f":"Z13/(AB4-Z10)","v":0},{"$f":"IF(AA13=0,0,(AA13*((LOG(AA13))/LOG(2))))","v":0},null,221,{"$f":"COUNTIF(L24:L32,AD13)","v":0},{"$f":"AE13/(AG4-AE10)","v":0},{"$f":"IF(AF13=0,0,(AF13*((LOG(AF13))/LOG(2))))","v":0},null,221,{"$f":"COUNTIF(L33:L40,AI13)","v":0},{"$f":"AJ13/(AL4-AJ10)","v":0},{"$f":"IF(AK13=0,0,(AK13*((LOG(AK13))/LOG(2))))","v":0},null,221,{"$f":"COUNTIF(L41:L49,AN13)","v":0},{"$f":"AO13/(AQ4-AO10)","v":0},{"$f":"IF(AP13=0,0,(AP13*((LOG(AP13))/LOG(2))))","v":0},null,221,{"$f":"COUNTIF(L50:L57,AS13)","v":0},{"$f":"AT13/(AV4-AT10)","v":0},{"$f":"IF(AU13=0,0,(AU13*((LOG(AU13))/LOG(2))))","v":0}]
[11,842,11,847,21,858,null,null,null,null,0,112,null,222,0,0,0,null,null,222,{"$f":"COUNTIF(L7:L15,T14)","v":0},{"$f":"U14/(W4-U10)","v":0},{"$f":"IF(V14=0,0,(V14*((LOG(V14))/LOG(2))))","v":0},null,222,{"$f":"COUNTIF(L16:L23,Y14)","v":0},{"$f":"Z14/(AB4-Z10)","v":0},{"$f":"IF(AA14=0,0,(AA14*((LOG(AA14))/LOG(2))))","v":0},null,222,{"$f":"COUNTIF(L24:L32,AD14)","v":0},{"$f":"AE14/(AG4-AE10)","v":0},{"$f":"IF(AF14=0,0,(AF14*((LOG(AF14))/LOG(2))))","v":0},null,222,{"$f":"COUNTIF(L33:L40,AI14)","v":0},{"$f":"AJ14/(AL4-AJ10)","v":0},{"$f":"IF(AK14=0,0,(AK14*((LOG(AK14))/LOG(2))))","v":0},null,222,{"$f":"COUNTIF(L41:L49,AN14)","v":0},{"$f":"AO14/(AQ4-AO10)","v":0},{"$f":"IF(AP14=0,0,(AP14*((LOG(AP14))/LOG(2))))","v":0},null,222,{"$f":"COUNTIF(L50:L57,AS14)","v":0},{"$f":"AT14/(AV4-AT10)","v":0},{"$f":"IF(AU14=0,0,(AU14*((LOG(AU14))/LOG(2))))","v":0}]
[11,950,11,955,21,966,null,null,null,null,0,112,null,null,null,{"$f":"SUM(P7:P14)","v":1},{"$f":"-SUM(Q7:Q14)","v":1.0198077782055899},null,null,null,null,{"$f":"SUM(V7:V14)","v":1},{"$f":"-SUM(W7:W14)","v":0.91829583405448945},null,null,null,{"$f":"SUM(AA7:AA14)","v":1},{"$f":"-SUM(AB7:AB14)","v":1.0612781244591329},null,null,null,{"$f":"SUM(AF7:AF14)","v":1},{"$f":"-SUM(AG7:AG14)","v":0.98522813603425152},null,null,null,{"$f":"SUM(AK7:AK14)","v":1},{"$f":"-SUM(AL7:AL14)","v":0},null,null,null,{"$f":"SUM(AP7:AP14)","v":1},{"$f":"-SUM(AQ7:AQ14)","v":0},null,null,null,{"$f":"SUM(AU7:AU14)","v":1},{"$f":"-SUM(AV7:AV14)","v":0}]
[11,1063,11,1067,21,1082,null,null,null,null,0,112,null,null,null,"U=",{"$f":"Q15/(LOG(Q4)/LOG(2))","v":0.17978337602080238},null,null,null,null,"U1=",{"$f":"W15/(LOG(W4)/LOG(2))","v":0.28969008214284753},null,null,null,"U2=",{"$f":"AB15/(LOG(AB4)/LOG(2))","v":0.35375937481971098},null,null,null,"U3=",{"$f":"AG15/(LOG(AG4)/LOG(2))","v":0.31080487253987837},null,null,null,"U4=",{"$f":"AL15/(LOG(AL4)/LOG(2))","v":0},null,null,null,"U5=",{"$f":"AQ15/(LOG(AQ4)/LOG(2))","v":0},null,null,null,"U6=",{"$f":"AV15/(LOG(AV4)/LOG(2))","v":0}]
[11,1177,22,1187,14,1205,null,null,null,null,0,121]
[11,1304,11,1308,21,1325,null,null,null,null,0,112]
[11,1418,11,1422,21,1432,null,null,null,null,0,112,null,"Total Target Seq"]
[11,1524,11,1528,21,1538,null,null,null,null,0,112,null,{"$f":"COUNTIF(L7:L57,G3)","v":3},null,9,8,9,8,9,8]
[11,1631,11,1635,21,1654,null,null,null,null,0,112,null,null,null,"% of reinforcement given in 6 equal intervals based on number of trials "]
[11,1744,11,1748,21,1761,null,null,null,null,0,112,null,null,null,"%_1","%_2","%_3","%_4","%_5","%_6"]
[11,1846,11,1851,12,1866,null,null,null,null,0,111,null,null,"target sequence",{"$f":"$G$3","v":122},122,122,122,122,122]
[11,1964,11,1968,12,1974,null,null,null,null,0,111,null,null,"total reinforcement",{"$f":"U10","v":0},{"$f":"Z10","v":0},{"$f":"AE10","v":2},{"$f":"AJ10","v":0},{"$f":"AO10","v":0},{"$f":"AT10","v":1}]
[11,2087,22,2103,23,2115,null,null,null,null,0,122,null,null,"% target"]
[11,2216,22,2226,23,2233,null,null,null,null,0,122,null,null,"CCRF"]
[11,2335,11,2340,21,2353,null,null,null,null,0,112,null,null,"% CCRf"]
[11,2439,11,2444,12,2449,null,null,null,null,0,111,null,null,"average response rate",{"$f":"F15/P20","v":107.33333333333333},{"$f":"(F23-F15)/Q20","v":112.5},{"$f":"(F32-F23)/R20","v":112.77777777777777},{"$f":"(F40-F32)/S20","v":107.625},{"$f":"(F49-F40)/T20","v":106.77777777777777},{"$f":"(F57-F49)/U20","v":113.25}]
[11,2546,11,2551,21,2561,null,null,null,null,0,112]
[11,2647,11,2651,21,2674,null,null,null,null,0,112]
[11,2764,11,2768,21,2778,null,null,null,null,0,112]
[11,2864,11,2872,12,2881,null,null,null,null,0,111]
[11,2979,11,2984,21,2998,null,null,null,null,0,112]
[11,3083,11,3087,21,3098,null,null,null,null,0,112]
[11,3186,11,3191,21,3201,null,null,null,null,0,112]
[11,3288,11,3294,21,3312,null,null,null,null,0,112]
[11,3403,11,3408,21,3417,null,null,null,null,0,112]
[11,3504,11,3509,21,3519,null,null,null,null,0,112]
[11,3606,11,3611,21,3629,null,null,null,null,0,112]
[11,3720,11,3724,21,3742,null,null,null,null,0,112]
[11,3833,11,3839,21,3848,null,null,null,null,0,112]
[11,3933,11,3937,21,3947,null,null,null,null,0,112]
[11,4033,11,4038,21,4048,null,null,null,null,0,112]
[11,4138,11,4143,21,4152,null,null,null,null,0,112]
[11,4238,11,4242,21,4264,null,null,null,null,0,112]
[11,4350,11,4361,21,4390,null,null,null,null,0,112]
[11,4478,11,4483,21,4493,null,null,null,null,0,112]
[11,4581,11,4586,21,4604,null,null,null,null,0,112]
[11,4689,11,4693,21,4703,null,null,null,null,0,112]
[11,4788,11,4793,21,4805,null,null,null,null,0,112]
[11,4893,11,4897,21,4906,null,null,null,null,0,112]
[11,4994,11,4998,21,5009,null,null,null,null,0,112]
[11,5093,11,5098,21,5137,null,null,null,null,0,112]
[11,5224,11,5229,21,5239,null,null,null,null,0,112]
[11,5325,22,5344,23,5357,null,null,null,null,0,122]
[11,5458,11,5463,21,5479,null,null,null,null,0,112]
[11,5569,11,5573,21,5609,null,null,null,null,1,112]

{"sheet":"!L809C30.056","index":14,"n_rows":60,"n_cols":48,"rows_kept":60,"cut":false,"hidden":false,"merged":[[1,1,1,2],[5,13,5,14],[18,13,18,14],[19,13,19,14],[4,19,4,22],[5,19,5,20],[4,39,4,42],[5,39,5,40],[4,44,4,47],[5,44,5,45],[4,24,4,27],[5,24,5,25],[4,29,4,32],[5,29,5,30],[4,34,4,37],[5,34,5,35]]}
["Report for:!L809C30.056"]
["Date:","<date>"]
["Hen:","<hen>",null,null,null,"Correct Sequence",{"$f":"Start!J2","v":122},null,null,null,null,null,null,null,null,"Total Sequences in Data",{"$f":"4994-COUNTBLANK(L7:L5000)","v":54},null,null,null,null,"Total Sequences in Block Data",{"$f":"COUNTA(L7:L15)","v":9},null,null,null,"Total Sequences in Block Data",{"$f":"COUNTA(L16:L24)","v":9},null,null,null,"Total Sequences in Block Data",{"$f":"COUNTA(L25:L33)","v":9},null,null,null,"Total Sequences in Block Data",{"$f":"COUNTA(L34:L42)","v":9},null,null,null,"Total Sequences in Block Data",{"$f":"COUNTA(L43:L51)","v":9},null,null,null,"Total Sequences in Block Data",{"$f":"COUNTA(L52:L60)","v":9}]
[null,null,null,null,null,null,null,null,null,null,null,null,null,null,null,"Total Sequences in Summary",{"$f":"SUM(O7:O14)","v":54},null,null,null,null,"Total Sequences in Block Summary",{"$f":"SUM(U7:U14)","v":9},null,null,null,"Total Sequences in Block Summary",{"$f":"SUM(Z7:Z14)","v":9},null,null,null,"Total Sequences in Block Summary",{"$f":"SUM(AE7:AE14)","v":9},null,null,null,"Total Sequences in Block Summary",{"$f":"SUM(AJ7:AJ14)","v":9},null,null,null,"Total Sequences in Block Summary",{"$f":"SUM(AO7:AO14)","v":9},null,null,null,"Total Sequences in Block Summary",{"$f":"SUM(AT7:AT14)","v":9}]
[null,null,null,null,null,null,null,null,null,null,null,null,null,null,null,null,null,null,null,"Block 1",null,null,null,null,"Block 2",null,null,null,null,"Block 3",null,null,null,null,"Block 4",null,null,null,null,"Block 5",null,null,null,null,"Block 6"]
["Sequence\nComponent\n1","Time\n1","Sequence\nComponent\n2","Time\n2","Sequence\nComponent\n3","Time\n3","Sequence\nComponent\n4","Time\n4","Sequence\nComponent\n5","Time\n5","Correct?\n0=No 1=Yes","Sequence",null,"Frequency",null,"Relative Frequency","Variability",null,null,"Frequency",null,"Relative Frequency","Variability",null,"Frequency",null,"Relative Frequency","Variability",null,"Frequency",null,"Relative Frequency","Variability",null,"Frequency",null,"Relative Frequency","Variability",null,"Frequency",null,"Relative Frequency","Variability",null,"Frequency",null,"Relative Frequency","Variability"]
[11,7,11,12,21,23,null,null,null,null,0,112,null,111,{"$f":"COUNTIF($L$7:$L$500,N7)","v":5},{"$f":"O7/$Q$4","v":9.2592592592592587E-2},{"$f":"IF(P7=0,0,(P7*((LOG(P7))/LOG(2))))","v":-0.31786661178482462},null,null,{"$f":"N7","v":111},{"$f":"COUNTIF(L7:L15,T7)","v":2},{"$f":"U7/(W4-U10)","v":0.22222222222222221},{"$f":"IF(V7=0,0,(V7*((LOG(V7))/LOG(2))))","v":-0.48220555587606945},null,{"$f":"N7","v":111},{"$f":"COUNTIF(L16:L24,Y7)","v":1},{"$f":"Z7/(AB4-Z10)","v":0.16666666666666666},{"$f":"IF(AA7=0,0,(AA7*((LOG(AA7))/LOG(2))))","v":-0.43082708345352599},null,{"$f":"N7","v":111},{"$f":"COUNTIF(L25:L33,AD7)","v":0},{"$f":"AE7/(AG4-AE10)","v":0},{"$f":"IF(AF7=0,0,(AF7*((LOG(AF7))/LOG(2))))","v":0},null,{"$f":"N7","v":111},{"$f":"COUNTIF(L34:L42,AI7)","v":0},{"$f":"AJ7/(AL4-AJ10)","v":0},{"$f":"IF(AK7=0,0,(AK7*((LOG(AK7))/LOG(2))))","v":0},null,{"$f":"N7","v":111},{"$f":"COUNTIF(L43:L51,AN7)","v":1},{"$f":"AO7/(AQ4-AO10)","v":0.1111111111111111},{"$f":"IF(AP7=0,0,(AP7*((LOG(AP7))/LOG(2))))","v":-0.3522138890491458},null,{"$f":"N7","v":111},{"$f":"COUNTIF(L52:L60,AS7)","v":1},{"$f":"AT7/(AV4-AT10)","v":0.125},{"$f":"IF(AU7=0,0,(AU7*((LOG(AU7))/LOG(2))))","v":-0.375}]
[11,115,11,120,21,134,null,null,null,null,0,112,null,112,40,0.7407407407407407,-0.32071067205637499,null,null,112,{"$f":"COUNTIF(L7:L15,T8)","v":7},{"$f":"U8/(W4-U10)","v":0.77777777777777779},{"$f":"IF(V8=0,0,(V8*((LOG(V8))/LOG(2))))","v":-0.28199895063255082},null,112,{"$f":"COUNTIF(L16:L24,Y8)","v":4},{"$f":"Z8/(AB4-Z10)","v":0.66666666666666663},{"$f":"IF(AA8=0,0,(AA8*((LOG(AA8))/LOG(2))))","v":-0.38997500048077083},null,112,{"$f":"COUNTIF(L25:L33,AD8)","v":8},{"$f":"AE8/(AG4-AE10)","v":1},{"$f":"IF(AF8=0,0,(AF8*((LOG(AF8))/LOG(2))))","v":0},null,112,{"$f":"COUNTIF(L34:L42,AI8)","v":7},{"$f":"AJ8/(AL4-AJ10)","v":1},{"$f":"IF(AK8=0,0,(AK8*((LOG(AK8))/LOG(2))))","v":0},null,112,{"$f":"COUNTIF(L43:L51,AN8)","v":8},{"$f":"AO8/(AQ4-AO10)","v":0.88888888888888884},{"$f":"IF(AP8=0,0,(AP8*((LOG(AP8))/LOG(2))))","v":-0.15104444572649992},null,112,{"$f":"COUNTIF(L52:L60,AS8)","v":6},{"$f":"AT8/(AV4-AT10)","v":0.75},{"$f":"IF(AU8=0,0,(AU8*((LOG(AU8))/LOG(2))))","v":-0.31127812445913283}]
[11,228,11,234,21,245,null,null,null,null,0,112,null,121,1,1.8518518518518517E-2,-0.10657199078080498,null,null,121,{"$f":"COUNTIF(L7:L15,T9)","v":0},{"$f":"U9/(W4-U10)","v":0},{"$f":"IF(V9=0,0,(V9*((LOG(V9))/LOG(2))))","v":0},null,121,{"$f":"COUNTIF(L16:L24,Y9)","v":0},{"$f":"Z9/(AB4-Z10)","v":0},{"$f":"IF(AA9=0,0,(AA9*((LOG(AA9))/LOG(2))))","v":0},null,121,{"$f":"COUNTIF(L25:L33,AD9)","v":0},{"$f":"AE9/(AG4-AE10)","v":0},{"$f":"IF(AF9=0,0,(AF9*((LOG(AF9))/LOG(2))))","v":0},null,121,{"$f":"COUNTIF(L34:L42,AI9)","v":0},{"$f":"AJ9/(AL4-AJ10)","v":0},{"$f":"IF(AK9=0,0,(AK9*((LOG(AK9))/LOG(2))))","v":0},null,121,{"$f":"COUNTIF(L43:L51,AN9)","v":0},{"$f":"AO9/(AQ4-AO10)","v":0},{"$f":"IF(AP9=0,0,(AP9*((LOG(AP9))/LOG(2))))","v":0},null,121,{"$f":"COUNTIF(L52:L60,AS9)","v":1},{"$f":"AT9/(AV4-AT10)","v":0.125},{"$f":"IF(AU9=0,0,(AU9*((LOG(AU9))/LOG(2))))","v":-0.375}]
[11,332,11,337,21,365,null,null,null,null,0,112,null,122,7,0.12962962962962962,-0.38208755668038979,null,null,122,{"$f":"COUNTIF(L7:L15,T10)","v":0},null,null,null,122,{"$f":"COUNTIF(L16:L24,Y10)","v":3},null,null,null,122,{"$f":"COUNTIF(L25:L33,AD10)","v":1},null,null,null,122,{"$f":"COUNTIF(L34:L42,AI10)","v":2},null,null,null,122,{"$f":"COUNTIF(L43:L51,AN10)","v":0},null,null,null,122,{"$f":"COUNTIF(L52:L60,AS10)","v":1}]
[11,455,11,460,21,470,null,null,null,null,0,112,null,211,1,1.8518518518518517E-2,-0.10657199078080498,null,null,211,{"$f":"COUNTIF(L7:L15,T11)","v":0},{"$f":"U11/(W4-U10)","v":0},{"$f":"IF(V11=0,0,(V11*((LOG(V11))/LOG(2))))","v":0},null,211,{"$f":"COUNTIF(L16:L24,Y11)","v":1},{"$f":"Z11/(AB4-Z10)","v":0.16666666666666666},{"$f":"IF(AA11=0,0,(AA11*((LOG(AA11))/LOG(2))))","v":-0.43082708345352599},null,211,{"$f":"COUNTIF(L25:L33,AD11)","v":0},{"$f":"AE11/(AG4-AE10)","v":0},{"$f":"IF(AF11=0,0,(AF11*((LOG(AF11))/LOG(2))))","v":0},null,211,{"$f":"COUNTIF(L34:L42,AI11)","v":0},{"$f":"AJ11/(AL4-AJ10)","v":0},{"$f":"IF(AK11=0,0,(AK11*((LOG(AK11))/LOG(2))))","v":0},null,211,{"$f":"COUNTIF(L43:L51,AN11)","v":0},{"$f":"AO11/(AQ4-AO10)","v":0},{"$f":"IF(AP11=0,0,(AP11*((LOG(AP11))/LOG(2))))","v":0},null,211,{"$f":"COUNTIF(L52:L60,AS11)","v":0},{"$f":"AT11/(AV4-AT10)","v":0},{"$f":"IF(AU11=0,0,(AU11*((LOG(AU11))/LOG(2))))","v":0}]
[11,561,11,565,12,570,null,null,null,null,0,111,null,212,0,0,0,null,null,212,{"$f":"COUNTIF(L7:L15,T12)","v":0},{"$f":"U12/(W4-U10)","v":0},{"$f":"IF(V12=0,0,(V12*((LOG(V12))/LOG(2))))","v":0},null,212,{"$f":"COUNTIF(L16:L24,Y12)","v":0},{"$f":"Z12/(AB4-Z10)","v":0},{"$f":"IF(AA12=0,0,(AA12*((LOG(AA12))/LOG(2))))","v":0},null,212,{"$f":"COUNTIF(L25:L33,AD12)","v":0},{"$f":"AE12/(AG4-AE10)","v":0},{"$f":"IF(AF12=0,0,(AF12*((LOG(AF12))/LOG(2))))","v":0},null,212,{"$f":"COUNTIF(L34:L42,AI12)","v":0},{"$f":"AJ12/(AL4-AJ10)","v":0},{"$f":"IF(AK12=0,0,(AK12*((LOG(AK12))/LOG(2))))","v":0},null,212,{"$f":"COUNTIF(L43:L51,AN12)","v":0},{"$f":"AO12/(AQ4-AO10)","v":0},{"$f":"IF(AP12=0,0,(AP12*((LOG(AP12))/LOG(2))))","v":0},null,212,{"$f":"COUNTIF(L52:L60,AS12)","v":0},{"$f":"AT12/(AV4-AT10)","v":0},{"$f":"IF(AU12=0,0,(AU12*((LOG(AU12))/LOG(2))))","v":0}]
[11,664,11,669,12,673,null,null,null,null,0,111,null,221,0,0,0,null,null,221,{"$f":"COUNTIF(L7:L15,T13)","v":0},{"$f":"U13/(W4-U10)","v":0},{"$f":"IF(V13=0,0,(V13*((LOG(V13))/LOG(2))))","v":0},null,221,{"$f":"COUNTIF(L16:L24,Y13)","v":0},{"$f":"Z13/(AB4-Z10)","v":0},{"$f":"IF(AA13=0,0,(AA13*((LOG(AA13))/LOG(2))))","v":0},null,221,{"$f":"COUNTIF(L25:L33,AD13)","v":0},{"$f":"AE13/(AG4-AE10)","v":0},{"$f":"IF(AF13=0,0,(AF13*((LOG(AF13))/LOG(2))))","v":0},null,221,{"$f":"COUNTIF(L34:L42,AI13)","v":0},{"$f":"AJ13/(AL4-AJ10)","v":0},{"$f":"IF(AK13=0,0,(AK13*((LOG(AK13))/LOG(2))))","v":0},null,221,{"$f":"COUNTIF(L43:L51,AN13)","v":0},{"$f":"AO13/(AQ4-AO10)","v":0},{"$f":"IF(AP13=0,0,(AP13*((LOG(AP13))/LOG(2))))","v":0},null,221,{"$f":"COUNTIF(L52:L60,AS13)","v":0},{"$f":"AT13/(AV4-AT10)","v":0},{"$f":"IF(AU13=0,0,(AU13*((LOG(AU13))/LOG(2))))","v":0}]
[11,772,11,776,21,796,null,null,null,null,0,112,null,222,0,0,0,null,null,222,{"$f":"COUNTIF(L7:L15,T14)","v":0},{"$f":"U14/(W4-U10)","v":0},{"$f":"IF(V14=0,0,(V14*((LOG(V14))/LOG(2))))","v":0},null,222,{"$f":"COUNTIF(L16:L24,Y14)","v":0},{"$f":"Z14/(AB4-Z10)","v":0},{"$f":"IF(AA14=0,0,(AA14*((LOG(AA14))/LOG(2))))","v":0},null,222,{"$f":"COUNTIF(L25:L33,AD14)","v":0},{"$f":"AE14/(AG4-AE10)","v":0},{"$f":"IF(AF14=0,0,(AF14*((LOG(AF14))/LOG(2))))","v":0},null,222,{"$f":"COUNTIF(L34:L42,AI14)","v":0},{"$f":"AJ14/(AL4-AJ10)","v":0},{"$f":"IF(AK14=0,0,(AK14*((LOG(AK14))/LOG(2))))","v":0},null,222,{"$f":"COUNTIF(L43:L51,AN14)","v":0},{"$f":"AO14/(AQ4-AO10)","v":0},{"$f":"IF(AP14=0,0,(AP14*((LOG(AP14))/LOG(2))))","v":0},null,222,{"$f":"COUNTIF(L52:L60,AS14)","v":0},{"$f":"AT14/(AV4-AT10)","v":0},{"$f":"IF(AU14=0,0,(AU14*((LOG(AU14))/LOG(2))))","v":0}]
[11,889,11,895,21,930,null,null,null,null,0,112,null,null,null,{"$f":"SUM(P7:P14)","v":0.99999999999999989},{"$f":"-SUM(Q7:Q14)","v":1.2338088220831993},null,null,null,null,{"$f":"SUM(V7:V14)","v":1},{"$f":"-SUM(W7:W14)","v":0.76420450650862026},null,null,null,{"$f":"SUM(AA7:AA14)","v":0.99999999999999989},{"$f":"-SUM(AB7:AB14)","v":1.2516291673878228},null,null,null,{"$f":"SUM(AF7:AF14)","v":1},{"$f":"-SUM(AG7:AG14)","v":0},null,null,null,{"$f":"SUM(AK7:AK14)","v":1},{"$f":"-SUM(AL7:AL14)","v":0},null,null,null,{"$f":"SUM(AP7:AP14)","v":1},{"$f":"-SUM(AQ7:AQ14)","v":0.50325833477564574},null,null,null,{"$f":"SUM(AU7:AU14)","v":1},{"$f":"-SUM(AV7:AV14)","v":1.0612781244591329}]
[11,1018,11,1023,21,1033,null,null,null,null,0,112,null,null,null,"U=",{"$f":"Q15/(LOG(Q4)/LOG(2))","v":0.2143932130070946},null,null,null,null,"U1=",{"$f":"W15/(LOG(W4)/LOG(2))","v":0.24107968048484052},null,null,null,"U2=",{"$f":"AB15/(LOG(AB4)/LOG(2))","v":0.39484504107142376},null,null,null,"U3=",{"$f":"AG15/(LOG(AG4)/LOG(2))","v":0},null,null,null,"U4=",{"$f":"AL15/(LOG(AL4)/LOG(2))","v":0},null,null,null,"U5=",{"$f":"AQ15/(LOG(AQ4)/LOG(2))","v":0.15876032857139011},null,null,null,"U6=",{"$f":"AV15/(LOG(AV4)/LOG(2))","v":0.33479597276788964}]
[11,1121,11,1125,21,1144,null,null,null,null,0,112]
[11,1236,22,1246,23,1254,null,null,null,null,0,122]
[11,1348,11,1352,12,1363,null,null,null,null,0,111,null,"Total Target Seq"]
[22,1475,13,1489,14,1493,null,null,null,null,0,211,null,{"$f":"COUNTIF(L7:L60,G3)","v":7},null,9,9,9,9,9,9]
[11,1597,22,1608,23,1617,null,null,null,null,0,122,null,null,null,"% of reinforcement given in 6 equal intervals based on number of trials "]
[11,1718,11,1725,21,1736,null,null,null,null,0,112,null,null,null,"%_1","%_2","%_3","%_4","%_5","%_6"]
[11,1826,11,1830,21,1844,null,null,null,null,0,112,null,null,"target sequence",{"$f":"$G$3","v":122},122,122,122,122,122]
[11,1938,22,1951,23,1961,null,null,null,null,0,122,null,null,"total reinforcement",{"$f":"U10","v":0},{"$f":"Z10","v":3},{"$f":"AE10","v":1},{"$f":"AJ10","v":2},{"$f":"AO10","v":0},{"$f":"AT10","v":1}]
[11,2057,11,2061,21,2072,null,null,null,null,0,112,null,null,"% target"]
[11,2169,22,2183,23,2191,null,null,null,null,0,122,null,null,"CCRF"]
[11,2288,11,2293,21,2304,null,null,null,null,0,112,null,null,"% CCRf"]
[11,2393,11,2397,21,2408,null,null,null,null,0,112,null,null,"average response rate",{"$f":"F15/P20","v":103.33333333333333},{"$f":"(F24-F15)/Q20","v":114.55555555555556},{"$f":"(F33-F24)/R20","v":106.33333333333333},{"$f":"(F42-F33)/S20","v":116.33333333333333},{"$f":"(F51-F42)/T20","v":114.22222222222223},{"$f":"(F60-F51)/U20","v":186.66666666666666}]
[11,2495,11,2500,21,2510,null,null,null,null,0,112]
[11,2594,11,2599,21,2609,null,null,null,null,0,112]
[11,2701,11,2705,21,2715,null,null,null,null,0,112]
[11,2802,11,2807,21,2816,null,null,null,null,0,112]
[11,2902,11,2908,21,2918,null,null,null,null,0,112]
[11,3007,22,3018,23,3057,null,null,null,null,0,122]
[11,3154,11,3158,21,3169,null,null,null,null,0,112]
[11,3258,11,3263,21,3290,null,null,null,null,0,112]
[11,3377,11,3383,21,3404,null,null,null,null,0,112]
[11,3493,11,3497,21,3514,null,null,null,null,0,112]
[11,3604,11,3612,21,3647,null,null,null,null,0,112]
[11,3734,11,3739,21,3750,null,null,null,null,0,112]
[11,3838,11,3842,21,3852,null,null,null,null,0,112]
[11,3938,22,3948,23,3965,null,null,null,null,0,122]
[11,4064,11,4068,12,4077,null,null,null,null,0,111]
[11,4175,11,4179,21,4189,null,null,null,null,0,112]
[11,4279,11,4284,21,4294,null,null,null,null,0,112]
[11,4383,11,4386,21,4396,null,null,null,null,0,112]
[11,4483,11,4488,21,4516,null,null,null,null,0,112]
[11,4604,11,4608,21,4617,null,null,null,null,0,112]
[11,4705,11,4714,21,4732,null,null,null,null,0,112]
[11,4820,11,4826,21,4835,null,null,null,null,0,112]
[11,4921,11,4925,21,4993,null,null,null,null,0,112]
[11,5084,11,5089,21,5106,null,null,null,null,0,112]
[11,5191,11,5196,21,5206,null,null,null,null,0,112]
[11,5937,22,5951,14,5975,null,null,null,null,0,121]
[11,6073,11,6078,21,6105,null,null,null,null,0,112]
[11,6193,11,6198,21,6208,null,null,null,null,0,112]
[11,6315,22,6324,23,6338,null,null,null,null,0,122]
[11,6434,11,6438,21,6456,null,null,null,null,0,112]
[11,6544,11,6548,12,6563,null,null,null,null,0,111]
[11,6659,11,6663,21,6673,null,null,null,null,1,112]

{"sheet":"!L810D50.056","index":15,"n_rows":60,"n_cols":48,"rows_kept":60,"cut":false,"hidden":false,"merged":[[1,1,1,2],[5,13,5,14],[18,13,18,14],[19,13,19,14],[4,19,4,22],[5,19,5,20],[4,39,4,42],[5,39,5,40],[4,44,4,47],[5,44,5,45],[4,24,4,27],[5,24,5,25],[4,29,4,32],[5,29,5,30],[4,34,4,37],[5,34,5,35]]}
["Report for:!L810D50.056"]
["Date:","<date>"]
["Hen:","<hen>",null,null,null,"Correct Sequence",{"$f":"Start!J2","v":122},null,null,null,null,null,null,null,null,"Total Sequences in Data",{"$f":"4994-COUNTBLANK(L7:L5000)","v":54},null,null,null,null,"Total Sequences in Block Data",{"$f":"COUNTA(L7:L15)","v":9},null,null,null,"Total Sequences in Block Data",{"$f":"COUNTA(L16:L24)","v":9},null,null,null,"Total Sequences in Block Data",{"$f":"COUNTA(L25:L33)","v":9},null,null,null,"Total Sequences in Block Data",{"$f":"COUNTA(L34:L42)","v":9},null,null,null,"Total Sequences in Block Data",{"$f":"COUNTA(L43:L51)","v":9},null,null,null,"Total Sequences in Block Data",{"$f":"COUNTA(L52:L60)","v":9}]
[null,null,null,null,null,null,null,null,null,null,null,null,null,null,null,"Total Sequences in Summary",{"$f":"SUM(O7:O14)","v":54},null,null,null,null,"Total Sequences in Block Summary",{"$f":"SUM(U7:U14)","v":9},null,null,null,"Total Sequences in Block Summary",{"$f":"SUM(Z7:Z14)","v":9},null,null,null,"Total Sequences in Block Summary",{"$f":"SUM(AE7:AE14)","v":9},null,null,null,"Total Sequences in Block Summary",{"$f":"SUM(AJ7:AJ14)","v":9},null,null,null,"Total Sequences in Block Summary",{"$f":"SUM(AO7:AO14)","v":9},null,null,null,"Total Sequences in Block Summary",{"$f":"SUM(AT7:AT14)","v":9}]
[null,null,null,null,null,null,null,null,null,null,null,null,null,null,null,null,null,null,null,"Block 1",null,null,null,null,"Block 2",null,null,null,null,"Block 3",null,null,null,null,"Block 4",null,null,null,null,"Block 5",null,null,null,null,"Block 6"]
["Sequence\nComponent\n1","Time\n1","Sequence\nComponent\n2","Time\n2","Sequence\nComponent\n3","Time\n3","Sequence\nComponent\n4","Time\n4","Sequence\nComponent\n5","Time\n5","Correct?\n0=No 1=Yes","Sequence",null,"Frequency",null,"Relative Frequency","Variability",null,null,"Frequency",null,"Relative Frequency","Variability",null,"Frequency",null,"Relative Frequency","Variability",null,"Frequency",null,"Relative Frequency","Variability",null,"Frequency",null,"Relative Frequency","Variability",null,"Frequency",null,"Relative Frequency","Variability",null,"Frequency",null,"Relative Frequency","Variability"]
[11,9,11,17,21,34,null,null,null,null,0,112,null,111,{"$f":"COUNTIF($L$7:$L$500,N7)","v":4},{"$f":"O7/$Q$4","v":7.407407407407407E-2},{"$f":"IF(P7=0,0,(P7*((LOG(P7))/LOG(2))))","v":-0.27813981497507173},null,null,{"$f":"N7","v":111},{"$f":"COUNTIF(L7:L15,T7)","v":0},{"$f":"U7/(W4-U10)","v":0},{"$f":"IF(V7=0,0,(V7*((LOG(V7))/LOG(2))))","v":0},null,{"$f":"N7","v":111},{"$f":"COUNTIF(L16:L24,Y7)","v":0},{"$f":"Z7/(AB4-Z10)","v":0},{"$f":"IF(AA7=0,0,(AA7*((LOG(AA7))/LOG(2))))","v":0},null,{"$f":"N7","v":111},{"$f":"COUNTIF(L25:L33,AD7)","v":1},{"$f":"AE7/(AG4-AE10)","v":0.14285714285714285},{"$f":"IF(AF7=0,0,(AF7*((LOG(AF7))/LOG(2))))","v":-0.40105070315108626},null,{"$f":"N7","v":111},{"$f":"COUNTIF(L34:L42,AI7)","v":2},{"$f":"AJ7/(AL4-AJ10)","v":0.2857142857142857},{"$f":"IF(AK7=0,0,(AK7*((LOG(AK7))/LOG(2))))","v":-0.51638712058788683},null,{"$f":"N7","v":111},{"$f":"COUNTIF(L43:L51,AN7)","v":0},{"$f":"AO7/(AQ4-AO10)","v":0},{"$f":"IF(AP7=0,0,(AP7*((LOG(AP7))/LOG(2))))","v":0},null,{"$f":"N7","v":111},{"$f":"COUNTIF(L52:L60,AS7)","v":1},{"$f":"AT7/(AV4-AT10)","v":0.125},{"$f":"IF(AU7=0,0,(AU7*((LOG(AU7))/LOG(2))))","v":-0.375}]
[22,130,24,139,23,161,null,null,null,null,0,222,null,112,40,0.7407407407407407,-0.32071067205637499,null,null,112,{"$f":"COUNTIF(L7:L15,T8)","v":7},{"$f":"U8/(W4-U10)","v":0.875},{"$f":"IF(V8=0,0,(V8*((LOG(V8))/LOG(2))))","v":-0.1685644431995964},null,112,{"$f":"COUNTIF(L16:L24,Y8)","v":8},{"$f":"Z8/(AB4-Z10)","v":1},{"$f":"IF(AA8=0,0,(AA8*((LOG(AA8))/LOG(2))))","v":0},null,112,{"$f":"COUNTIF(L25:L33,AD8)","v":6},{"$f":"AE8/(AG4-AE10)","v":0.8571428571428571},{"$f":"IF(AF8=0,0,(AF8*((LOG(AF8))/LOG(2))))","v":-0.19062207543124113},null,112,{"$f":"COUNTIF(L34:L42,AI8)","v":5},{"$f":"AJ8/(AL4-AJ10)","v":0.7142857142857143},{"$f":"IF(AK8=0,0,(AK8*((LOG(AK8))/LOG(2))))","v":-0.34673344797874411},null,112,{"$f":"COUNTIF(L43:L51,AN8)","v":7},{"$f":"AO8/(AQ4-AO10)","v":1},{"$f":"IF(AP8=0,0,(AP8*((LOG(AP8))/LOG(2))))","v":0},null,112,{"$f":"COUNTIF(L52:L60,AS8)","v":7},{"$f":"AT8/(AV4-AT10)","v":0.875},{"$f":"IF(AU8=0,0,(AU8*((LOG(AU8))/LOG(2))))","v":-0.1685644431995964}]
[11,260,22,271,23,290,null,null,null,null,0,122,null,121,0,0,0,null,null,121,{"$f":"COUNTIF(L7:L15,T9)","v":0},{"$f":"U9/(W4-U10)","v":0},{"$f":"IF(V9=0,0,(V9*((LOG(V9))/LOG(2))))","v":0},null,121,{"$f":"COUNTIF(L16:L24,Y9)","v":0},{"$f":"Z9/(AB4-Z10)","v":0},{"$f":"IF(AA9=0,0,(AA9*((LOG(AA9))/LOG(2))))","v":0},null,121,{"$f":"COUNTIF(L25:L33,AD9)","v":0},{"$f":"AE9/(AG4-AE10)","v":0},{"$f":"IF(AF9=0,0,(AF9*((LOG(AF9))/LOG(2))))","v":0},null,121,{"$f":"COUNTIF(L34:L42,AI9)","v":0},{"$f":"AJ9/(AL4-AJ10)","v":0},{"$f":"IF(AK9=0,0,(AK9*((LOG(AK9))/LOG(2))))","v":0},null,121,{"$f":"COUNTIF(L43:L51,AN9)","v":0},{"$f":"AO9/(AQ4-AO10)","v":0},{"$f":"IF(AP9=0,0,(AP9*((LOG(AP9))/LOG(2))))","v":0},null,121,{"$f":"COUNTIF(L52:L60,AS9)","v":0},{"$f":"AT9/(AV4-AT10)","v":0},{"$f":"IF(AU9=0,0,(AU9*((LOG(AU9))/LOG(2))))","v":0}]
[11,389,11,395,21,417,null,null,null,null,0,112,null,122,9,0.16666666666666666,-0.43082708345352599,null,null,122,{"$f":"COUNTIF(L7:L15,T10)","v":1},null,null,null,122,{"$f":"COUNTIF(L16:L24,Y10)","v":1},null,null,null,122,{"$f":"COUNTIF(L25:L33,AD10)","v":2},null,null,null,122,{"$f":"COUNTIF(L34:L42,AI10)","v":2},null,null,null,122,{"$f":"COUNTIF(L43:L51,AN10)","v":2},null,null,null,122,{"$f":"COUNTIF(L52:L60,AS10)","v":1}]
[11,505,11,509,21,537,null,null,null,null,0,112,null,211,0,0,0,null,null,211,{"$f":"COUNTIF(L7:L15,T11)","v":0},{"$f":"U11/(W4-U10)","v":0},{"$f":"IF(V11=0,0,(V11*((LOG(V11))/LOG(2))))","v":0},null,211,{"$f":"COUNTIF(L16:L24,Y11)","v":0},{"$f":"Z11/(AB4-Z10)","v":0},{"$f":"IF(AA11=0,0,(AA11*((LOG(AA11))/LOG(2))))","v":0},null,211,{"$f":"COUNTIF(L25:L33,AD11)","v":0},{"$f":"AE11/(AG4-AE10)","v":0},{"$f":"IF(AF11=0,0,(AF11*((LOG(AF11))/LOG(2))))","v":0},null,211,{"$f":"COUNTIF(L34:L42,AI11)","v":0},{"$f":"AJ11/(AL4-AJ10)","v":0},{"$f":"IF(AK11=0,0,(AK11*((LOG(AK11))/LOG(2))))","v":0},null,211,{"$f":"COUNTIF(L43:L51,AN11)","v":0},{"$f":"AO11/(AQ4-AO10)","v":0},{"$f":"IF(AP11=0,0,(AP11*((LOG(AP11))/LOG(2))))","v":0},null,211,{"$f":"COUNTIF(L52:L60,AS11)","v":0},{"$f":"AT11/(AV4-AT10)","v":0},{"$f":"IF(AU11=0,0,(AU11*((LOG(AU11))/LOG(2))))","v":0}]
[11,626,11,632,21,671,null,null,null,null,0,112,null,212,0,0,0,null,null,212,{"$f":"COUNTIF(L7:L15,T12)","v":0},{"$f":"U12/(W4-U10)","v":0},{"$f":"IF(V12=0,0,(V12*((LOG(V12))/LOG(2))))","v":0},null,212,{"$f":"COUNTIF(L16:L24,Y12)","v":0},{"$f":"Z12/(AB4-Z10)","v":0},{"$f":"IF(AA12=0,0,(AA12*((LOG(AA12))/LOG(2))))","v":0},null,212,{"$f":"COUNTIF(L25:L33,AD12)","v":0},{"$f":"AE12/(AG4-AE10)","v":0},{"$f":"IF(AF12=0,0,(AF12*((LOG(AF12))/LOG(2))))","v":0},null,212,{"$f":"COUNTIF(L34:L42,AI12)","v":0},{"$f":"AJ12/(AL4-AJ10)","v":0},{"$f":"IF(AK12=0,0,(AK12*((LOG(AK12))/LOG(2))))","v":0},null,212,{"$f":"COUNTIF(L43:L51,AN12)","v":0},{"$f":"AO12/(AQ4-AO10)","v":0},{"$f":"IF(AP12=0,0,(AP12*((LOG(AP12))/LOG(2))))","v":0},null,212,{"$f":"COUNTIF(L52:L60,AS12)","v":0},{"$f":"AT12/(AV4-AT10)","v":0},{"$f":"IF(AU12=0,0,(AU12*((LOG(AU12))/LOG(2))))","v":0}]
[11,759,11,764,21,775,null,null,null,null,0,112,null,221,0,0,0,null,null,221,{"$f":"COUNTIF(L7:L15,T13)","v":0},{"$f":"U13/(W4-U10)","v":0},{"$f":"IF(V13=0,0,(V13*((LOG(V13))/LOG(2))))","v":0},null,221,{"$f":"COUNTIF(L16:L24,Y13)","v":0},{"$f":"Z13/(AB4-Z10)","v":0},{"$f":"IF(AA13=0,0,(AA13*((LOG(AA13))/LOG(2))))","v":0},null,221,{"$f":"COUNTIF(L25:L33,AD13)","v":0},{"$f":"AE13/(AG4-AE10)","v":0},{"$f":"IF(AF13=0,0,(AF13*((LOG(AF13))/LOG(2))))","v":0},null,221,{"$f":"COUNTIF(L34:L42,AI13)","v":0},{"$f":"AJ13/(AL4-AJ10)","v":0},{"$f":"IF(AK13=0,0,(AK13*((LOG(AK13))/LOG(2))))","v":0},null,221,{"$f":"COUNTIF(L43:L51,AN13)","v":0},{"$f":"AO13/(AQ4-AO10)","v":0},{"$f":"IF(AP13=0,0,(AP13*((LOG(AP13))/LOG(2))))","v":0},null,221,{"$f":"COUNTIF(L52:L60,AS13)","v":0},{"$f":"AT13/(AV4-AT10)","v":0},{"$f":"IF(AU13=0,0,(AU13*((LOG(AU13))/LOG(2))))","v":0}]
[11,864,11,869,21,880,null,null,null,null,0,112,null,222,1,1.8518518518518517E-2,-0.10657199078080498,null,null,222,{"$f":"COUNTIF(L7:L15,T14)","v":1},{"$f":"U14/(W4-U10)","v":0.125},{"$f":"IF(V14=0,0,(V14*((LOG(V14))/LOG(2))))","v":-0.375},null,222,{"$f":"COUNTIF(L16:L24,Y14)","v":0},{"$f":"Z14/(AB4-Z10)","v":0},{"$f":"IF(AA14=0,0,(AA14*((LOG(AA14))/LOG(2))))","v":0},null,222,{"$f":"COUNTIF(L25:L33,AD14)","v":0},{"$f":"AE14/(AG4-AE10)","v":0},{"$f":"IF(AF14=0,0,(AF14*((LOG(AF14))/LOG(2))))","v":0},null,222,{"$f":"COUNTIF(L34:L42,AI14)","v":0},{"$f":"AJ14/(AL4-AJ10)","v":0},{"$f":"IF(AK14=0,0,(AK14*((LOG(AK14))/LOG(2))))","v":0},null,222,{"$f":"COUNTIF(L43:L51,AN14)","v":0},{"$f":"AO14/(AQ4-AO10)","v":0},{"$f":"IF(AP14=0,0,(AP14*((LOG(AP14))/LOG(2))))","v":0},null,222,{"$f":"COUNTIF(L52:L60,AS14)","v":0},{"$f":"AT14/(AV4-AT10)","v":0},{"$f":"IF(AU14=0,0,(AU14*((LOG(AU14))/LOG(2))))","v":0}]
[11,963,11,968,21,1006,null,null,null,null,0,112,null,null,null,{"$f":"SUM(P7:P14)","v":0.99999999999999989},{"$f":"-SUM(Q7:Q14)","v":1.1362495612657777},null,null,null,null,{"$f":"SUM(V7:V14)","v":1},{"$f":"-SUM(W7:W14)","v":0.5435644431995964},null,null,null,{"$f":"SUM(AA7:AA14)","v":1},{"$f":"-SUM(AB7:AB14)","v":0},null,null,null,{"$f":"SUM(AF7:AF14)","v":1},{"$f":"-SUM(AG7:AG14)","v":0.59167277858232736},null,null,null,{"$f":"SUM(AK7:AK14)","v":1},{"$f":"-SUM(AL7:AL14)","v":0.863120568566631},null,null,null,{"$f":"SUM(AP7:AP14)","v":1},{"$f":"-SUM(AQ7:AQ14)","v":0},null,null,null,{"$f":"SUM(AU7:AU14)","v":1},{"$f":"-SUM(AV7:AV14)","v":0.5435644431995964}]
[11,1095,11,1099,21,1141,null,null,null,null,0,112,null,null,null,"U=",{"$f":"Q15/(LOG(Q4)/LOG(2))","v":0.19744079460087111},null,null,null,null,"U1=",{"$f":"W15/(LOG(W4)/LOG(2))","v":0.17147549009906393},null,null,null,"U2=",{"$f":"AB15/(LOG(AB4)/LOG(2))","v":0},null,null,null,"U3=",{"$f":"AG15/(LOG(AG4)/LOG(2))","v":0.18665198019294366},null,null,null,"U4=",{"$f":"AL15/(LOG(AL4)/LOG(2))","v":0.27228422381410039},null,null,null,"U5=",{"$f":"AQ15/(LOG(AQ4)/LOG(2))","v":0},null,null,null,"U6=",{"$f":"AV15/(LOG(AV4)/LOG(2))","v":0.17147549009906393}]
[11,1228,22,1240,23,1251,null,null,null,null,0,122]
[11,1348,11,1352,21,1362,null,null,null,null,0,112]
[11,1448,11,1453,21,1463,null,null,null,null,0,112,null,"Total Target Seq"]
[11,1550,11,1555,21,1573,null,null,null,null,0,112,null,{"$f":"COUNTIF(L7:L60,G3)","v":9},null,9,9,9,9,9,9]
[11,1664,11,1668,21,1678,null,null,null,null,0,112,null,null,null,"% of reinforcement given in 6 equal intervals based on number of trials "]
[11,1764,11,1769,21,1801,null,null,null,null,0,112,null,null,null,"%_1","%_2","%_3","%_4","%_5","%_6"]
[11,1890,11,1894,21,1903,null,null,null,null,0,112,null,null,"target sequence",{"$f":"$G$3","v":122},122,122,122,122,122]
[11,1990,11,1995,21,2005,null,null,null,null,0,112,null,null,"total reinforcement",{"$f":"U10","v":1},{"$f":"Z10","v":1},{"$f":"AE10","v":2},{"$f":"AJ10","v":2},{"$f":"AO10","v":2},{"$f":"AT10","v":1}]
[11,2091,11,2095,21,2155,null,null,null,null,0,112,null,null,"% target"]
[11,2241,11,2245,21,2254,null,null,null,null,0,112,null,null,"CCRF"]
[11,2342,11,2347,21,2364,null,null,null,null,0,112,null,null,"% CCRf"]
[11,2451,11,2456,12,2505,null,null,null,null,0,111,null,null,"average response rate",{"$f":"F15/P20","v":111.77777777777777},{"$f":"(F24-F15)/Q20","v":111},{"$f":"(F33-F24)/R20","v":120.33333333333333},{"$f":"(F42-F33)/S20","v":128.66666666666666},{"$f":"(F51-F42)/T20","v":118.66666666666667},{"$f":"(F60-F51)/U20","v":120.66666666666667}]
[11,2602,11,2610,21,2619,null,null,null,null,0,112]
[11,2706,11,2711,21,2721,null,null,null,null,0,112]
[11,2806,22,2819,23,2833,null,null,null,null,0,122]
[11,2931,22,2944,23,2951,null,null,null,null,0,122]
[11,3050,11,3054,21,3088,null,null,null,null,0,112]
[11,3178,11,3182,21,3191,null,null,null,null,0,112]
[11,3282,22,3294,23,3302,null,null,null,null,0,122]
[11,3402,11,3421,21,3454,null,null,null,null,0,112]
[11,3541,11,3546,21,3562,null,null,null,null,0,112]
[11,3650,22,3660,23,3689,null,null,null,null,0,122]
[11,3786,11,3803,12,3898,null,null,null,null,0,111]
[11,3995,11,3997,12,4007,null,null,null,null,0,111]
[11,4104,11,4110,21,4131,null,null,null,null,0,112]
[11,4218,11,4222,21,4246,null,null,null,null,0,112]
[11,4331,11,4336,21,4345,null,null,null,null,0,112]
[11,4433,11,4438,21,4477,null,null,null,null,0,112]
[11,4564,22,4575,23,4588,null,null,null,null,0,122]
[11,4686,11,4697,21,4721,null,null,null,null,0,112]
[11,4811,11,4816,21,4832,null,null,null,null,0,112]
[11,4919,22,4930,23,4940,null,null,null,null,0,122]
[11,5036,11,5042,21,5092,null,null,null,null,0,112]
[11,5181,11,5192,21,5201,null,null,null,null,0,112]
[11,5292,11,5298,21,5314,null,null,null,null,0,112]
[11,5401,11,5406,21,5415,null,null,null,null,0,112]
[11,5505,11,5509,21,5519,null,null,null,null,0,112]
[11,5604,11,5614,12,5690,null,null,null,null,0,111]
[11,5786,11,5791,21,5809,null,null,null,null,0,112]
[11,5897,11,5904,21,5928,null,null,null,null,0,112]
[11,6015,11,6021,21,6032,null,null,null,null,0,112]
[11,6123,11,6128,21,6179,null,null,null,null,0,112]
[11,6266,22,6277,23,6286,null,null,null,null,0,122]
[11,6385,11,6390,21,6400,null,null,null,null,1,112]

{"sheet":"!L811C10.056","index":16,"n_rows":85,"n_cols":48,"rows_kept":85,"cut":false,"hidden":false,"merged":[[1,1,1,2],[5,13,5,14],[18,13,18,14],[19,13,19,14],[4,19,4,22],[5,19,5,20],[4,39,4,42],[5,39,5,40],[4,44,4,47],[5,44,5,45],[4,24,4,27],[5,24,5,25],[4,29,4,32],[5,29,5,30],[4,34,4,37],[5,34,5,35]]}
["Report for:!L811C10.056"]
["Date:","<date>"]
["Hen:","<hen>",null,null,null,"Correct Sequence",{"$f":"Start!J2","v":122},null,null,null,null,null,null,null,null,"Total Sequences in Data",{"$f":"4994-COUNTBLANK(L7:L5000)","v":79},null,null,null,null,"Total Sequences in Block Data",{"$f":"COUNTA(L7:L19)","v":13},null,null,null,"Total Sequences in Block Data",{"$f":"COUNTA(L20:L32)","v":13},null,null,null,"Total Sequences in Block Data",{"$f":"COUNTA(L33:L46)","v":14},null,null,null,"Total Sequences in Block Data",{"$f":"COUNTA(L47:L59)","v":13},null,null,null,"Total Sequences in Block Data",{"$f":"COUNTA(L60:L72)","v":13},null,null,null,"Total Sequences in Block Data",{"$f":"COUNTA(L73:L85)","v":13}]
[null,null,null,null,null,null,null,null,null,null,null,null,null,null,null,"Total Sequences in Summary",{"$f":"SUM(O7:O14)","v":79},null,null,null,null,"Total Sequences in Block Summary",{"$f":"SUM(U7:U14)","v":13},null,null,null,"Total Sequences in Block Summary",{"$f":"SUM(Z7:Z14)","v":13},null,null,null,"Total Sequences in Block Summary",{"$f":"SUM(AE7:AE14)","v":14},null,null,null,"Total Sequences in Block Summary",{"$f":"SUM(AJ7:AJ14)","v":13},null,null,null,"Total Sequences in Block Summary",{"$f":"SUM(AO7:AO14)","v":13},null,null,null,"Total Sequences in Block Summary",{"$f":"SUM(AT7:AT14)","v":13}]
[null,null,null,null,null,null,null,null,null,null,null,null,null,null,null,null,null,null,null,"Block 1",null,null,null,null,"Block 2",null,null,null,null,"Block 3",null,null,null,null,"Block 4",null,null,null,null,"Block 5",null,null,null,null,"Block 6"]
["Sequence\nComponent\n1","Time\n1","Sequence\nComponent\n2","Time\n2","Sequence\nComponent\n3","Time\n3","Sequence\nComponent\n4","Time\n4","Sequence\nComponent\n5","Time\n5","Correct?\n0=No 1=Yes","Sequence",null,"Frequency",null,"Relative Frequency","Variability",null,null,"Frequency",null,"Relative Frequency","Variability",null,"Frequency",null,"Relative Frequency","Variability",null,"Frequency",null,"Relative Frequency","Variability",null,"Frequency",null,"Relative Frequency","Variability",null,"Frequency",null,"Relative Frequency","Variability",null,"Frequency",null,"Relative Frequency","Variability"]
[22,23,24,30,23,40,null,null,null,null,0,222,null,111,{"$f":"COUNTIF($L$7:$L$500,N7)","v":3},{"$f":"O7/$Q$4","v":3.7974683544303799E-2},{"$f":"IF(P7=0,0,(P7*((LOG(P7))/LOG(2))))","v":-0.17919562965022584},null,null,{"$f":"N7","v":111},{"$f":"COUNTIF(L7:L19,T7)","v":0},{"$f":"U7/(W4-U10)","v":0},{"$f":"IF(V7=0,0,(V7*((LOG(V7))/LOG(2))))","v":0},null,{"$f":"N7","v":111},{"$f":"COUNTIF(L20:L32,Y7)","v":1},{"$f":"Z7/(AB4-Z10)","v":0.125},{"$f":"IF(AA7=0,0,(AA7*((LOG(AA7))/LOG(2))))","v":-0.375},null,{"$f":"N7","v":111},{"$f":"COUNTIF(L33:L46,AD7)","v":1},{"$f":"AE7/(AG4-AE10)","v":0.16666666666666666},{"$f":"IF(AF7=0,0,(AF7*((LOG(AF7))/LOG(2))))","v":-0.43082708345352599},null,{"$f":"N7","v":111},{"$f":"COUNTIF(L47:L59,AI7)","v":0},{"$f":"AJ7/(AL4-AJ10)","v":0},{"$f":"IF(AK7=0,0,(AK7*((LOG(AK7))/LOG(2))))","v":0},null,{"$f":"N7","v":111},{"$f":"COUNTIF(L60:L72,AN7)","v":0},{"$f":"AO7/(AQ4-AO10)","v":0},{"$f":"IF(AP7=0,0,(AP7*((LOG(AP7))/LOG(2))))","v":0},null,{"$f":"N7","v":111},{"$f":"COUNTIF(L73:L85,AS7)","v":1},{"$f":"AT7/(AV4-AT10)","v":0.14285714285714285},{"$f":"IF(AU7=0,0,(AU7*((LOG(AU7))/LOG(2))))","v":-0.40105070315108626}]
[11,138,11,144,21,165,null,null,null,null,0,112,null,112,40,0.50632911392405067,-0.49714058394417238,null,null,112,{"$f":"COUNTIF(L7:L19,T8)","v":10},{"$f":"U8/(W4-U10)","v":0.90909090909090906},{"$f":"IF(V8=0,0,(V8*((LOG(V8))/LOG(2))))","v":-0.12500320340903179},null,112,{"$f":"COUNTIF(L20:L32,Y8)","v":6},{"$f":"Z8/(AB4-Z10)","v":0.75},{"$f":"IF(AA8=0,0,(AA8*((LOG(AA8))/LOG(2))))","v":-0.31127812445913283},null,112,{"$f":"COUNTIF(L33:L46,AD8)","v":5},{"$f":"AE8/(AG4-AE10)","v":0.83333333333333337},{"$f":"IF(AF8=0,0,(AF8*((LOG(AF8))/LOG(2))))","v":-0.21919533819482812},null,112,{"$f":"COUNTIF(L47:L59,AI8)","v":5},{"$f":"AJ8/(AL4-AJ10)","v":0.83333333333333337},{"$f":"IF(AK8=0,0,(AK8*((LOG(AK8))/LOG(2))))","v":-0.21919533819482812},null,112,{"$f":"COUNTIF(L60:L72,AN8)","v":9},{"$f":"AO8/(AQ4-AO10)","v":0.9},{"$f":"IF(AP8=0,0,(AP8*((LOG(AP8))/LOG(2))))","v":-0.13680278410054494},null,112,{"$f":"COUNTIF(L73:L85,AS8)","v":5},{"$f":"AT8/(AV4-AT10)","v":0.7142857142857143},{"$f":"IF(AU8=0,0,(AU8*((LOG(AU8))/LOG(2))))","v":-0.34673344797874411}]
[11,256,11,262,21,273,null,null,null,null,0,112,null,121,4,5.0632911392405063E-2,-0.21791294927479002,null,null,121,{"$f":"COUNTIF(L7:L19,T9)","v":0},{"$f":"U9/(W4-U10)","v":0},{"$f":"IF(V9=0,0,(V9*((LOG(V9))/LOG(2))))","v":0},null,121,{"$f":"COUNTIF(L20:L32,Y9)","v":1},{"$f":"Z9/(AB4-Z10)","v":0.125},{"$f":"IF(AA9=0,0,(AA9*((LOG(AA9))/LOG(2))))","v":-0.375},null,121,{"$f":"COUNTIF(L33:L46,AD9)","v":0},{"$f":"AE9/(AG4-AE10)","v":0},{"$f":"IF(AF9=0,0,(AF9*((LOG(AF9))/LOG(2))))","v":0},null,121,{"$f":"COUNTIF(L47:L59,AI9)","v":1},{"$f":"AJ9/(AL4-AJ10)","v":0.16666666666666666},{"$f":"IF(AK9=0,0,(AK9*((LOG(AK9))/LOG(2))))","v":-0.43082708345352599},null,121,{"$f":"COUNTIF(L60:L72,AN9)","v":1},{"$f":"AO9/(AQ4-AO10)","v":0.1},{"$f":"IF(AP9=0,0,(AP9*((LOG(AP9))/LOG(2))))","v":-0.33219280948873625},null,121,{"$f":"COUNTIF(L73:L85,AS9)","v":1},{"$f":"AT9/(AV4-AT10)","v":0.14285714285714285},{"$f":"IF(AU9=0,0,(AU9*((LOG(AU9))/LOG(2))))","v":-0.40105070315108626}]
[11,363,11,368,21,410,null,null,null,null,0,112,null,122,31,0.39240506329113922,-0.52958376672781082,null,null,122,{"$f":"COUNTIF(L7:L19,T10)","v":2},null,null,null,122,{"$f":"COUNTIF(L20:L32,Y10)","v":5},null,null,null,122,{"$f":"COUNTIF(L33:L46,AD10)","v":8},null,null,null,122,{"$f":"COUNTIF(L47:L59,AI10)","v":7},null,null,null,122,{"$f":"COUNTIF(L60:L72,AN10)","v":3},null,null,null,122,{"$f":"COUNTIF(L73:L85,AS10)","v":6}]
[11,501,11,508,21,517,null,null,null,null,0,112,null,211,0,0,0,null,null,211,{"$f":"COUNTIF(L7:L19,T11)","v":0},{"$f":"U11/(W4-U10)","v":0},{"$f":"IF(V11=0,0,(V11*((LOG(V11))/LOG(2))))","v":0},null,211,{"$f":"COUNTIF(L20:L32,Y11)","v":0},{"$f":"Z11/(AB4-Z10)","v":0},{"$f":"IF(AA11=0,0,(AA11*((LOG(AA11))/LOG(2))))","v":0},null,211,{"$f":"COUNTIF(L33:L46,AD11)","v":0},{"$f":"AE11/(AG4-AE10)","v":0},{"$f":"IF(AF11=0,0,(AF11*((LOG(AF11))/LOG(2))))","v":0},null,211,{"$f":"COUNTIF(L47:L59,AI11)","v":0},{"$f":"AJ11/(AL4-AJ10)","v":0},{"$f":"IF(AK11=0,0,(AK11*((LOG(AK11))/LOG(2))))","v":0},null,211,{"$f":"COUNTIF(L60:L72,AN11)","v":0},{"$f":"AO11/(AQ4-AO10)","v":0},{"$f":"IF(AP11=0,0,(AP11*((LOG(AP11))/LOG(2))))","v":0},null,211,{"$f":"COUNTIF(L73:L85,AS11)","v":0},{"$f":"AT11/(AV4-AT10)","v":0},{"$f":"IF(AU11=0,0,(AU11*((LOG(AU11))/LOG(2))))","v":0}]
[11,604,11,609,21,620,null,null,null,null,0,112,null,212,0,0,0,null,null,212,{"$f":"COUNTIF(L7:L19,T12)","v":0},{"$f":"U12/(W4-U10)","v":0},{"$f":"IF(V12=0,0,(V12*((LOG(V12))/LOG(2))))","v":0},null,212,{"$f":"COUNTIF(L20:L32,Y12)","v":0},{"$f":"Z12/(AB4-Z10)","v":0},{"$f":"IF(AA12=0,0,(AA12*((LOG(AA12))/LOG(2))))","v":0},null,212,{"$f":"COUNTIF(L33:L46,AD12)","v":0},{"$f":"AE12/(AG4-AE10)","v":0},{"$f":"IF(AF12=0,0,(AF12*((LOG(AF12))/LOG(2))))","v":0},null,212,{"$f":"COUNTIF(L47:L59,AI12)","v":0},{"$f":"AJ12/(AL4-AJ10)","v":0},{"$f":"IF(AK12=0,0,(AK12*((LOG(AK12))/LOG(2))))","v":0},null,212,{"$f":"COUNTIF(L60:L72,AN12)","v":0},{"$f":"AO12/(AQ4-AO10)","v":0},{"$f":"IF(AP12=0,0,(AP12*((LOG(AP12))/LOG(2))))","v":0},null,212,{"$f":"COUNTIF(L73:L85,AS12)","v":0},{"$f":"AT12/(AV4-AT10)","v":0},{"$f":"IF(AU12=0,0,(AU12*((LOG(AU12))/LOG(2))))","v":0}]
[11,707,11,712,21,722,null,null,null,null,0,112,null,221,0,0,0,null,null,221,{"$f":"COUNTIF(L7:L19,T13)","v":0},{"$f":"U13/(W4-U10)","v":0},{"$f":"IF(V13=0,0,(V13*((LOG(V13))/LOG(2))))","v":0},null,221,{"$f":"COUNTIF(L20:L32,Y13)","v":0},{"$f":"Z13/(AB4-Z10)","v":0},{"$f":"IF(AA13=0,0,(AA13*((LOG(AA13))/LOG(2))))","v":0},null,221,{"$f":"COUNTIF(L33:L46,AD13)","v":0},{"$f":"AE13/(AG4-AE10)","v":0},{"$f":"IF(AF13=0,0,(AF13*((LOG(AF13))/LOG(2))))","v":0},null,221,{"$f":"COUNTIF(L47:L59,AI13)","v":0},{"$f":"AJ13/(AL4-AJ10)","v":0},{"$f":"IF(AK13=0,0,(AK13*((LOG(AK13))/LOG(2))))","v":0},null,221,{"$f":"COUNTIF(L60:L72,AN13)","v":0},{"$f":"AO13/(AQ4-AO10)","v":0},{"$f":"IF(AP13=0,0,(AP13*((LOG(AP13))/LOG(2))))","v":0},null,221,{"$f":"COUNTIF(L73:L85,AS13)","v":0},{"$f":"AT13/(AV4-AT10)","v":0},{"$f":"IF(AU13=0,0,(AU13*((LOG(AU13))/LOG(2))))","v":0}]
[11,811,22,824,23,832,null,null,null,null,0,122,null,222,1,1.2658227848101266E-2,-7.9794693014900039E-2,null,null,222,{"$f":"COUNTIF(L7:L19,T14)","v":1},{"$f":"U14/(W4-U10)","v":9.0909090909090912E-2},{"$f":"IF(V14=0,0,(V14*((LOG(V14))/LOG(2))))","v":-0.31449378351248153},null,222,{"$f":"COUNTIF(L20:L32,Y14)","v":0},{"$f":"Z14/(AB4-Z10)","v":0},{"$f":"IF(AA14=0,0,(AA14*((LOG(AA14))/LOG(2))))","v":0},null,222,{"$f":"COUNTIF(L33:L46,AD14)","v":0},{"$f":"AE14/(AG4-AE10)","v":0},{"$f":"IF(AF14=0,0,(AF14*((LOG(AF14))/LOG(2))))","v":0},null,222,{"$f":"COUNTIF(L47:L59,AI14)","v":0},{"$f":"AJ14/(AL4-AJ10)","v":0},{"$f":"IF(AK14=0,0,(AK14*((LOG(AK14))/LOG(2))))","v":0},null,222,{"$f":"COUNTIF(L60:L72,AN14)","v":0},{"$f":"AO14/(AQ4-AO10)","v":0},{"$f":"IF(AP14=0,0,(AP14*((LOG(AP14))/LOG(2))))","v":0},null,222,{"$f":"COUNTIF(L73:L85,AS14)","v":0},{"$f":"AT14/(AV4-AT10)","v":0},{"$f":"IF(AU14=0,0,(AU14*((LOG(AU14))/LOG(2))))","v":0}]
[11,928,11,933,21,944,null,null,null,null,0,112,null,null,null,{"$f":"SUM(P7:P14)","v":1},{"$f":"-SUM(Q7:Q14)","v":1.503627622611899},null,null,null,null,{"$f":"SUM(V7:V14)","v":1},{"$f":"-SUM(W7:W14)","v":0.43949698692151329},null,null,null,{"$f":"SUM(AA7:AA14)","v":1},{"$f":"-SUM(AB7:AB14)","v":1.0612781244591329},null,null,null,{"$f":"SUM(AF7:AF14)","v":1},{"$f":"-SUM(AG7:AG14)","v":0.65002242164835411},null,null,null,{"$f":"SUM(AK7:AK14)","v":1},{"$f":"-SUM(AL7:AL14)","v":0.65002242164835411},null,null,null,{"$f":"SUM(AP7:AP14)","v":1},{"$f":"-SUM(AQ7:AQ14)","v":0.46899559358928122},null,null,null,{"$f":"SUM(AU7:AU14)","v":1},{"$f":"-SUM(AV7:AV14)","v":1.1488348542809166}]
[11,1031,22,1044,23,1053,null,null,null,null,0,122,null,null,null,"U=",{"$f":"Q15/(LOG(Q4)/LOG(2))","v":0.23852790613739394},null,null,null,null,"U1=",{"$f":"W15/(LOG(W4)/LOG(2))","v":0.11876885462203764},null,null,null,"U2=",{"$f":"AB15/(LOG(AB4)/LOG(2))","v":0.28679784168792344},null,null,null,"U3=",{"$f":"AG15/(LOG(AG4)/LOG(2))","v":0.17072808680969079},null,null,null,"U4=",{"$f":"AL15/(LOG(AL4)/LOG(2))","v":0.17566085956262825},null,null,null,"U5=",{"$f":"AQ15/(LOG(AQ4)/LOG(2))","v":0.12674050364611267},null,null,null,"U6=",{"$f":"AV15/(LOG(AV4)/LOG(2))","v":0.3104590107626537}]
[11,1150,11,1155,21,1165,null,null,null,null,0,112]
[11,1254,11,1259,21,1287,null,null,null,null,0,112]
[11,1372,11,1379,21,1389,null,null,null,null,0,112,null,"Total Target Seq"]
[11,1478,22,1492,14,1507,null,null,null,null,0,121,null,{"$f":"COUNTIF(L7:L85,G3)","v":31},null,13,13,14,13,13,13]
[11,1603,22,1615,23,1628,null,null,null,null,0,122,null,null,null,"% of reinforcement given in 6 equal intervals based on number of trials "]
[11,1728,11,1733,21,1744,null,null,null,null,0,112,null,null,null,"%_1","%_2","%_3","%_4","%_5","%_6"]
[11,1831,11,1836,21,1846,null,null,null,null,0,112,null,null,"target sequence",{"$f":"$G$3","v":122},122,122,122,122,122]
[11,1931,11,1950,12,1963,null,null,null,null,0,111,null,null,"total reinforcement",{"$f":"U10","v":2},{"$f":"Z10","v":5},{"$f":"AE10","v":8},{"$f":"AJ10","v":7},{"$f":"AO10","v":3},{"$f":"AT10","v":6}]
[11,2062,11,2066,21,2077,null,null,null,null,0,112,null,null,"% target"]
[11,2162,11,2172,21,2186,null,null,null,null,0,112,null,null,"CCRF"]
[11,2274,22,2285,23,2311,null,null,null,null,0,122,null,null,"% CCRf"]
[11,2408,22,2421,23,2430,null,null,null,null,0,122,null,null,"average response rate",{"$f":"F19/P20","v":106.84615384615384},{"$f":"(F32-F19)/Q20","v":117.92307692307692},{"$f":"(F46-F32)/R20","v":119.64285714285714},{"$f":"(F59-F46)/S20","v":117.69230769230769},{"$f":"(F72-F59)/T20","v":114.61538461538461},{"$f":"(F85-F72)/U20","v":120.84615384615384}]
[11,2529,22,2539,23,2560,null,null,null,null,0,122]
[11,2656,11,2661,21,2673,null,null,null,null,0,112]
[11,2761,22,2796,23,2809,null,null,null,null,0,122]
[11,2907,11,2912,21,2922,null,null,null,null,0,112]
[11,3011,22,3021,23,3032,null,null,null,null,0,122]
[11,3129,22,3143,23,3150,null,null,null,null,0,122]
[11,3252,22,3264,23,3279,null,null,null,null,0,122]
[11,3378,11,3387,21,3397,null,null,null,null,0,112]
[11,3487,22,3499,23,3512,null,null,null,null,0,122]
[11,3608,11,3615,21,3642,null,null,null,null,0,112]
[11,3730,11,3735,21,3752,null,null,null,null,0,112]
[11,3842,22,3852,23,3865,null,null,null,null,0,122]
[11,3965,22,3976,23,3986,null,null,null,null,0,122]
[11,4083,11,4088,21,4098,null,null,null,null,0,112]
[11,4192,22,4202,23,4254,null,null,null,null,0,122]
[11,4348,11,4356,12,4370,null,null,null,null,0,111]
[11,4465,11,4474,21,4484,null,null,null,null,0,112]
[11,4575,22,4587,23,4597,null,null,null,null,0,122]
[11,4695,11,4701,21,4711,null,null,null,null,0,112]
[11,4798,22,4809,23,4823,null,null,null,null,0,122]
[11,4919,22,4932,23,4942,null,null,null,null,0,122]
[11,5042,22,5053,23,5066,null,null,null,null,0,122]
[11,5164,11,5170,21,5180,null,null,null,null,0,112]
[11,5267,11,5271,21,5282,null,null,null,null,0,112]
[11,5371,22,5385,23,5397,null,null,null,null,0,122]
[11,5494,22,5507,23,5516,null,null,null,null,0,122]
[11,5615,11,5623,21,5661,null,null,null,null,0,112]
[11,5753,22,5766,14,5780,null,null,null,null,0,121]
[11,5878,11,5883,21,5894,null,null,null,null,0,112]
[11,5983,22,5994,23,6002,null,null,null,null,0,122]
[11,6099,22,6112,23,6127,null,null,null,null,0,122]
[11,6223,22,6234,23,6246,null,null,null,null,0,122]
[11,6345,22,6362,23,6370,null,null,null,null,0,122]
[11,6467,11,6474,21,6484,null,null,null,null,0,112]
[11,6574,22,6585,14,6600,null,null,null,null,0,121]
[11,6697,11,6701,21,6711,null,null,null,null,0,112]
[11,6798,11,6802,21,6828,null,null,null,null,0,112]
[11,6921,22,6931,23,6939,null,null,null,null,0,122]
[11,7034,11,7044,21,7069,null,null,null,null,0,112]
[11,7155,11,7162,21,7172,null,null,null,null,0,112]
[11,7258,11,7267,21,7276,null,null,null,null,0,112]
[11,7365,11,7371,21,7380,null,null,null,null,0,112]
[11,7470,11,7476,21,7518,null,null,null,null,0,112]
[11,7602,11,7607,21,7617,null,null,null,null,0,112]
[11,7704,11,7712,21,7746,null,null,null,null,0,112]
[11,7835,22,7844,23,7852,null,null,null,null,0,122]
[11,7954,22,7964,23,7972,null,null,null,null,0,122]
[11,8069,22,8080,14,8104,null,null,null,null,0,121]
[11,8201,22,8240,23,8252,null,null,null,null,0,122]
[11,8350,22,8360,23,8368,null,null,null,null,0,122]
[11,8465,11,8469,21,8499,null,null,null,null,0,112]
[11,8590,11,8596,21,8605,null,null,null,null,0,112]
[11,8692,22,8703,23,8711,null,null,null,null,0,122]
[11,8808,22,8819,23,8826,null,null,null,null,0,122]
[11,8922,11,8927,12,8943,null,null,null,null,0,111]
[11,9040,11,9045,21,9057,null,null,null,null,0,112]
[11,9145,11,9155,21,9188,null,null,null,null,1,112]

{"sheet":"!L812B30.056","index":17,"n_rows":57,"n_cols":48,"rows_kept":57,"cut":false,"hidden":false,"merged":[[1,1,1,2],[5,13,5,14],[18,13,18,14],[19,13,19,14],[4,19,4,22],[5,19,5,20],[4,39,4,42],[5,39,5,40],[4,44,4,47],[5,44,5,45],[4,24,4,27],[5,24,5,25],[4,29,4,32],[5,29,5,30],[4,34,4,37],[5,34,5,35]]}
["Report for:!L812B30.056"]
["Date:","<date>"]
["Hen:","<hen>",null,null,null,"Correct Sequence",{"$f":"Start!J2","v":122},null,null,null,null,null,null,null,null,"Total Sequences in Data",{"$f":"4994-COUNTBLANK(L7:L5000)","v":51},null,null,null,null,"Total Sequences in Block Data",{"$f":"COUNTA(L7:L15)","v":9},null,null,null,"Total Sequences in Block Data",{"$f":"COUNTA(L16:L23)","v":8},null,null,null,"Total Sequences in Block Data",{"$f":"COUNTA(L24:L32)","v":9},null,null,null,"Total Sequences in Block Data",{"$f":"COUNTA(L33:L40)","v":8},null,null,null,"Total Sequences in Block Data",{"$f":"COUNTA(L41:L49)","v":9},null,null,null,"Total Sequences in Block Data",{"$f":"COUNTA(L50:L57)","v":8}]
[null,null,null,null,null,null,null,null,null,null,null,null,null,null,null,"Total Sequences in Summary",{"$f":"SUM(O7:O14)","v":51},null,null,null,null,"Total Sequences in Block Summary",{"$f":"SUM(U7:U14)","v":9},null,null,null,"Total Sequences in Block Summary",{"$f":"SUM(Z7:Z14)","v":8},null,null,null,"Total Sequences in Block Summary",{"$f":"SUM(AE7:AE14)","v":9},null,null,null,"Total Sequences in Block Summary",{"$f":"SUM(AJ7:AJ14)","v":8},null,null,null,"Total Sequences in Block Summary",{"$f":"SUM(AO7:AO14)","v":9},null,null,null,"Total Sequences in Block Summary",{"$f":"SUM(AT7:AT14)","v":8}]
[null,null,null,null,null,null,null,null,null,null,null,null,null,null,null,null,null,null,null,"Block 1",null,null,null,null,"Block 2",null,null,null,null,"Block 3",null,null,null,null,"Block 4",null,null,null,null,"Block 5",null,null,null,null,"Block 6"]
["Sequence\nComponent\n1","Time\n1","Sequence\nComponent\n2","Time\n2","Sequence\nComponent\n3","Time\n3","Sequence\nComponent\n4","Time\n4","Sequence\nComponent\n5","Time\n5","Correct?\n0=No 1=Yes","Sequence",null,"Frequency",null,"Relative Frequency","Variability",null,null,"Frequency",null,"Relative Frequency","Variability",null,"Frequency",null,"Relative Frequency","Variability",null,"Frequency",null,"Relative Frequency","Variability",null,"Frequency",null,"Relative Frequency","Variability",null,"Frequency",null,"Relative Frequency","Variability",null,"Frequency",null,"Relative Frequency","Variability"]
[11,15,11,21,21,32,null,null,null,null,0,112,null,111,{"$f":"COUNTIF($L$7:$L$500,N7)","v":4},{"$f":"O7/$Q$4","v":7.8431372549019607E-2},{"$f":"IF(P7=0,0,(P7*((LOG(P7))/LOG(2))))","v":-0.2880333601546271},null,null,{"$f":"N7","v":111},{"$f":"COUNTIF(L7:L15,T7)","v":0},{"$f":"U7/(W4-U10)","v":0},{"$f":"IF(V7=0,0,(V7*((LOG(V7))/LOG(2))))","v":0},null,{"$f":"N7","v":111},{"$f":"COUNTIF(L16:L23,Y7)","v":0},{"$f":"Z7/(AB4-Z10)","v":0},{"$f":"IF(AA7=0,0,(AA7*((LOG(AA7))/LOG(2))))","v":0},null,{"$f":"N7","v":111},{"$f":"COUNTIF(L24:L32,AD7)","v":1},{"$f":"AE7/(AG4-AE10)","v":0.125},{"$f":"IF(AF7=0,0,(AF7*((LOG(AF7))/LOG(2))))","v":-0.375},null,{"$f":"N7","v":111},{"$f":"COUNTIF(L33:L40,AI7)","v":1},{"$f":"AJ7/(AL4-AJ10)","v":0.14285714285714285},{"$f":"IF(AK7=0,0,(AK7*((LOG(AK7))/LOG(2))))","v":-0.40105070315108626},null,{"$f":"N7","v":111},{"$f":"COUNTIF(L41:L49,AN7)","v":0},{"$f":"AO7/(AQ4-AO10)","v":0},{"$f":"IF(AP7=0,0,(AP7*((LOG(AP7))/LOG(2))))","v":0},null,{"$f":"N7","v":111},{"$f":"COUNTIF(L50:L57,AS7)","v":2},{"$f":"AT7/(AV4-AT10)","v":0.33333333333333331},{"$f":"IF(AU7=0,0,(AU7*((LOG(AU7))/LOG(2))))","v":-0.52832083357371862}]
[11,120,11,125,21,136,null,null,null,null,0,112,null,112,40,0.78431372549019607,-0.2748998016346143,null,null,112,{"$f":"COUNTIF(L7:L15,T8)","v":9},{"$f":"U8/(W4-U10)","v":1},{"$f":"IF(V8=0,0,(V8*((LOG(V8))/LOG(2))))","v":0},null,112,{"$f":"COUNTIF(L16:L23,Y8)","v":8},{"$f":"Z8/(AB4-Z10)","v":1},{"$f":"IF(AA8=0,0,(AA8*((LOG(AA8))/LOG(2))))","v":0},null,112,{"$f":"COUNTIF(L24:L32,AD8)","v":7},{"$f":"AE8/(AG4-AE10)","v":0.875},{"$f":"IF(AF8=0,0,(AF8*((LOG(AF8))/LOG(2))))","v":-0.1685644431995964},null,112,{"$f":"COUNTIF(L33:L40,AI8)","v":6},{"$f":"AJ8/(AL4-AJ10)","v":0.8571428571428571},{"$f":"IF(AK8=0,0,(AK8*((LOG(AK8))/LOG(2))))","v":-0.19062207543124113},null,112,{"$f":"COUNTIF(L41:L49,AN8)","v":6},{"$f":"AO8/(AQ4-AO10)","v":1},{"$f":"IF(AP8=0,0,(AP8*((LOG(AP8))/LOG(2))))","v":0},null,112,{"$f":"COUNTIF(L50:L57,AS8)","v":4},{"$f":"AT8/(AV4-AT10)","v":0.66666666666666663},{"$f":"IF(AU8=0,0,(AU8*((LOG(AU8))/LOG(2))))","v":-0.38997500048077083}]
[11,230,11,237,21,263,null,null,null,null,0,112,null,121,0,0,0,null,null,121,{"$f":"COUNTIF(L7:L15,T9)","v":0},{"$f":"U9/(W4-U10)","v":0},{"$f":"IF(V9=0,0,(V9*((LOG(V9))/LOG(2))))","v":0},null,121,{"$f":"COUNTIF(L16:L23,Y9)","v":0},{"$f":"Z9/(AB4-Z10)","v":0},{"$f":"IF(AA9=0,0,(AA9*((LOG(AA9))/LOG(2))))","v":0},null,121,{"$f":"COUNTIF(L24:L32,AD9)","v":0},{"$f":"AE9/(AG4-AE10)","v":0},{"$f":"IF(AF9=0,0,(AF9*((LOG(AF9))/LOG(2))))","v":0},null,121,{"$f":"COUNTIF(L33:L40,AI9)","v":0},{"$f":"AJ9/(AL4-AJ10)","v":0},{"$f":"IF(AK9=0,0,(AK9*((LOG(AK9))/LOG(2))))","v":0},null,121,{"$f":"COUNTIF(L41:L49,AN9)","v":0},{"$f":"AO9/(AQ4-AO10)","v":0},{"$f":"IF(AP9=0,0,(AP9*((LOG(AP9))/LOG(2))))","v":0},null,121,{"$f":"COUNTIF(L50:L57,AS9)","v":0},{"$f":"AT9/(AV4-AT10)","v":0},{"$f":"IF(AU9=0,0,(AU9*((LOG(AU9))/LOG(2))))","v":0}]
[11,357,11,363,21,383,null,null,null,null,0,112,null,122,7,0.13725490196078433,-0.39324495959602429,null,null,122,{"$f":"COUNTIF(L7:L15,T10)","v":0},null,null,null,122,{"$f":"COUNTIF(L16:L23,Y10)","v":0},null,null,null,122,{"$f":"COUNTIF(L24:L32,AD10)","v":1},null,null,null,122,{"$f":"COUNTIF(L33:L40,AI10)","v":1},null,null,null,122,{"$f":"COUNTIF(L41:L49,AN10)","v":3},null,null,null,122,{"$f":"COUNTIF(L50:L57,AS10)","v":2}]
[11,471,11,476,21,486,null,null,null,null,0,112,null,211,0,0,0,null,null,211,{"$f":"COUNTIF(L7:L15,T11)","v":0},{"$f":"U11/(W4-U10)","v":0},{"$f":"IF(V11=0,0,(V11*((LOG(V11))/LOG(2))))","v":0},null,211,{"$f":"COUNTIF(L16:L23,Y11)","v":0},{"$f":"Z11/(AB4-Z10)","v":0},{"$f":"IF(AA11=0,0,(AA11*((LOG(AA11))/LOG(2))))","v":0},null,211,{"$f":"COUNTIF(L24:L32,AD11)","v":0},{"$f":"AE11/(AG4-AE10)","v":0},{"$f":"IF(AF11=0,0,(AF11*((LOG(AF11))/LOG(2))))","v":0},null,211,{"$f":"COUNTIF(L33:L40,AI11)","v":0},{"$f":"AJ11/(AL4-AJ10)","v":0},{"$f":"IF(AK11=0,0,(AK11*((LOG(AK11))/LOG(2))))","v":0},null,211,{"$f":"COUNTIF(L41:L49,AN11)","v":0},{"$f":"AO11/(AQ4-AO10)","v":0},{"$f":"IF(AP11=0,0,(AP11*((LOG(AP11))/LOG(2))))","v":0},null,211,{"$f":"COUNTIF(L50:L57,AS11)","v":0},{"$f":"AT11/(AV4-AT10)","v":0},{"$f":"IF(AU11=0,0,(AU11*((LOG(AU11))/LOG(2))))","v":0}]
[11,575,11,580,21,591,null,null,null,null,0,112,null,212,0,0,0,null,null,212,{"$f":"COUNTIF(L7:L15,T12)","v":0},{"$f":"U12/(W4-U10)","v":0},{"$f":"IF(V12=0,0,(V12*((LOG(V12))/LOG(2))))","v":0},null,212,{"$f":"COUNTIF(L16:L23,Y12)","v":0},{"$f":"Z12/(AB4-Z10)","v":0},{"$f":"IF(AA12=0,0,(AA12*((LOG(AA12))/LOG(2))))","v":0},null,212,{"$f":"COUNTIF(L24:L32,AD12)","v":0},{"$f":"AE12/(AG4-AE10)","v":0},{"$f":"IF(AF12=0,0,(AF12*((LOG(AF12))/LOG(2))))","v":0},null,212,{"$f":"COUNTIF(L33:L40,AI12)","v":0},{"$f":"AJ12/(AL4-AJ10)","v":0},{"$f":"IF(AK12=0,0,(AK12*((LOG(AK12))/LOG(2))))","v":0},null,212,{"$f":"COUNTIF(L41:L49,AN12)","v":0},{"$f":"AO12/(AQ4-AO10)","v":0},{"$f":"IF(AP12=0,0,(AP12*((LOG(AP12))/LOG(2))))","v":0},null,212,{"$f":"COUNTIF(L50:L57,AS12)","v":0},{"$f":"AT12/(AV4-AT10)","v":0},{"$f":"IF(AU12=0,0,(AU12*((LOG(AU12))/LOG(2))))","v":0}]
[11,682,11,687,21,697,null,null,null,null,0,112,null,221,0,0,0,null,null,221,{"$f":"COUNTIF(L7:L15,T13)","v":0},{"$f":"U13/(W4-U10)","v":0},{"$f":"IF(V13=0,0,(V13*((LOG(V13))/LOG(2))))","v":0},null,221,{"$f":"COUNTIF(L16:L23,Y13)","v":0},{"$f":"Z13/(AB4-Z10)","v":0},{"$f":"IF(AA13=0,0,(AA13*((LOG(AA13))/LOG(2))))","v":0},null,221,{"$f":"COUNTIF(L24:L32,AD13)","v":0},{"$f":"AE13/(AG4-AE10)","v":0},{"$f":"IF(AF13=0,0,(AF13*((LOG(AF13))/LOG(2))))","v":0},null,221,{"$f":"COUNTIF(L33:L40,AI13)","v":0},{"$f":"AJ13/(AL4-AJ10)","v":0},{"$f":"IF(AK13=0,0,(AK13*((LOG(AK13))/LOG(2))))","v":0},null,221,{"$f":"COUNTIF(L41:L49,AN13)","v":0},{"$f":"AO13/(AQ4-AO10)","v":0},{"$f":"IF(AP13=0,0,(AP13*((LOG(AP13))/LOG(2))))","v":0},null,221,{"$f":"COUNTIF(L50:L57,AS13)","v":0},{"$f":"AT13/(AV4-AT10)","v":0},{"$f":"IF(AU13=0,0,(AU13*((LOG(AU13))/LOG(2))))","v":0}]
[11,788,11,793,21,803,null,null,null,null,0,112,null,222,0,0,0,null,null,222,{"$f":"COUNTIF(L7:L15,T14)","v":0},{"$f":"U14/(W4-U10)","v":0},{"$f":"IF(V14=0,0,(V14*((LOG(V14))/LOG(2))))","v":0},null,222,{"$f":"COUNTIF(L16:L23,Y14)","v":0},{"$f":"Z14/(AB4-Z10)","v":0},{"$f":"IF(AA14=0,0,(AA14*((LOG(AA14))/LOG(2))))","v":0},null,222,{"$f":"COUNTIF(L24:L32,AD14)","v":0},{"$f":"AE14/(AG4-AE10)","v":0},{"$f":"IF(AF14=0,0,(AF14*((LOG(AF14))/LOG(2))))","v":0},null,222,{"$f":"COUNTIF(L33:L40,AI14)","v":0},{"$f":"AJ14/(AL4-AJ10)","v":0},{"$f":"IF(AK14=0,0,(AK14*((LOG(AK14))/LOG(2))))","v":0},null,222,{"$f":"COUNTIF(L41:L49,AN14)","v":0},{"$f":"AO14/(AQ4-AO10)","v":0},{"$f":"IF(AP14=0,0,(AP14*((LOG(AP14))/LOG(2))))","v":0},null,222,{"$f":"COUNTIF(L50:L57,AS14)","v":0},{"$f":"AT14/(AV4-AT10)","v":0},{"$f":"IF(AU14=0,0,(AU14*((LOG(AU14))/LOG(2))))","v":0}]
[11,891,11,896,21,914,null,null,null,null,0,112,null,null,null,{"$f":"SUM(P7:P14)","v":1},{"$f":"-SUM(Q7:Q14)","v":0.95617812138526581},null,null,null,null,{"$f":"SUM(V7:V14)","v":1},{"$f":"-SUM(W7:W14)","v":0},null,null,null,{"$f":"SUM(AA7:AA14)","v":1},{"$f":"-SUM(AB7:AB14)","v":0},null,null,null,{"$f":"SUM(AF7:AF14)","v":1},{"$f":"-SUM(AG7:AG14)","v":0.5435644431995964},null,null,null,{"$f":"SUM(AK7:AK14)","v":1},{"$f":"-SUM(AL7:AL14)","v":0.59167277858232736},null,null,null,{"$f":"SUM(AP7:AP14)","v":1},{"$f":"-SUM(AQ7:AQ14)","v":0},null,null,null,{"$f":"SUM(AU7:AU14)","v":1},{"$f":"-SUM(AV7:AV14)","v":0.91829583405448945}]
[11,1001,11,1005,21,1016,null,null,null,null,0,112,null,null,null,"U=",{"$f":"Q15/(LOG(Q4)/LOG(2))","v":0.16856601255027515},null,null,null,null,"U1=",{"$f":"W15/(LOG(W4)/LOG(2))","v":0},null,null,null,"U2=",{"$f":"AB15/(LOG(AB4)/LOG(2))","v":0},null,null,null,"U3=",{"$f":"AG15/(LOG(AG4)/LOG(2))","v":0.17147549009906393},null,null,null,"U4=",{"$f":"AL15/(LOG(AL4)/LOG(2))","v":0.19722425952744246},null,null,null,"U5=",{"$f":"AQ15/(LOG(AQ4)/LOG(2))","v":0},null,null,null,"U6=",{"$f":"AV15/(LOG(AV4)/LOG(2))","v":0.30609861135149646}]
[11,1107,11,1111,21,1135,null,null,null,null,0,112]
[11,1225,11,1229,21,1238,null,null,null,null,0,112]
[11,1328,11,1332,21,1350,null,null,null,null,0,112,null,"Total Target Seq"]
[11,1438,11,1442,21,1452,null,null,null,null,0,112,null,{"$f":"COUNTIF(L7:L57,G3)","v":7},null,9,8,9,8,9,8]
[11,1538,11,1543,21,1552,null,null,null,null,0,112,null,null,null,"% of reinforcement given in 6 equal intervals based on number of trials "]
[11,1642,11,1647,21,1656,null,null,null,null,0,112,null,null,null,"%_1","%_2","%_3","%_4","%_5","%_6"]
[11,1745,11,1750,21,1783,null,null,null,null,0,112,null,null,"target sequence",{"$f":"$G$3","v":122},122,122,122,122,122]
[11,1873,11,1877,21,1895,null,null,null,null,0,112,null,null,"total reinforcement",{"$f":"U10","v":0},{"$f":"Z10","v":0},{"$f":"AE10","v":1},{"$f":"AJ10","v":1},{"$f":"AO10","v":3},{"$f":"AT10","v":2}]
[11,1982,11,1986,21,2012,null,null,null,null,0,112,null,null,"% target"]
[11,2100,11,2105,21,2114,null,null,null,null,0,112,null,null,"CCRF"]
[11,2202,11,2207,21,2245,null,null,null,null,0,112,null,null,"% CCRf"]
[11,2336,11,2341,21,2371,null,null,null,null,0,112,null,null,"average response rate",{"$f":"F15/P20","v":101.55555555555556},{"$f":"(F23-F15)/Q20","v":108.625},{"$f":"(F32-F23)/R20","v":120.55555555555556},{"$f":"(F40-F32)/S20","v":112.125},{"$f":"(F49-F40)/T20","v":112},{"$f":"(F57-F49)/U20","v":117}]
[11,2458,11,2468,21,2485,null,null,null,null,0,112]
[11,2576,11,2582,12,2590,null,null,null,null,0,111]
[11,2693,11,2698,21,2734,null,null,null,null,0,112]
[11,2836,22,2849,23,2868,null,null,null,null,0,122]
[11,2967,11,2972,21,2982,null,null,null,null,0,112]
[11,3071,22,3081,23,3093,null,null,null,null,0,122]
[11,3191,11,3203,12,3208,null,null,null,null,0,111]
[11,3304,11,3314,21,3324,null,null,null,null,0,112]
[11,3415,11,3419,21,3427,null,null,null,null,0,112]
[11,3514,11,3519,21,3558,null,null,null,null,0,112]
[11,3645,11,3650,21,3659,null,null,null,null,0,112]
[11,3745,11,3755,21,3765,null,null,null,null,0,112]
[11,3854,11,3859,21,3869,null,null,null,null,0,112]
[11,3958,11,3963,21,3989,null,null,null,null,0,112]
[11,4079,22,4089,23,4097,null,null,null,null,0,122]
[11,4194,11,4199,21,4209,null,null,null,null,0,112]
[11,4300,11,4306,21,4315,null,null,null,null,0,112]
[11,4401,22,4413,23,4425,null,null,null,null,0,122]
[11,4521,22,4535,23,4542,null,null,null,null,0,122]
[11,4641,11,4645,21,4655,null,null,null,null,0,112]
[11,4740,11,4750,21,4773,null,null,null,null,0,112]
[11,4862,11,4868,12,4873,null,null,null,null,0,111]
[11,4970,11,4975,21,4987,null,null,null,null,0,112]
[11,5073,11,5077,21,5086,null,null,null,null,0,112]
[11,5173,11,5188,21,5201,null,null,null,null,0,112]
[11,5290,22,5304,23,5354,null,null,null,null,0,122]
[11,5452,22,5463,23,5470,null,null,null,null,0,122]
[11,5570,11,5574,12,5579,null,null,null,null,0,111]
[11,5680,11,5685,21,5709,null,null,null,null,1,112]

{"sheet":"!L813A20.056","index":18,"n_rows":67,"n_cols":48,"rows_kept":67,"cut":false,"hidden":false,"merged":[[1,1,1,2],[5,13,5,14],[18,13,18,14],[19,13,19,14],[4,19,4,22],[5,19,5,20],[4,39,4,42],[5,39,5,40],[4,44,4,47],[5,44,5,45],[4,24,4,27],[5,24,5,25],[4,29,4,32],[5,29,5,30],[4,34,4,37],[5,34,5,35]]}
["Report for:!L813A20.056"]
["Date:","<date>"]
["Hen:","<hen>",null,null,null,"Correct Sequence",{"$f":"Start!J2","v":122},null,null,null,null,null,null,null,null,"Total Sequences in Data",{"$f":"4994-COUNTBLANK(L7:L5000)","v":61},null,null,null,null,"Total Sequences in Block Data",{"$f":"COUNTA(L7:L16)","v":10},null,null,null,"Total Sequences in Block Data",{"$f":"COUNTA(L17:L26)","v":10},null,null,null,"Total Sequences in Block Data",{"$f":"COUNTA(L27:L37)","v":11},null,null,null,"Total Sequences in Block Data",{"$f":"COUNTA(L38:L47)","v":10},null,null,null,"Total Sequences in Block Data",{"$f":"COUNTA(L48:L57)","v":10},null,null,null,"Total Sequences in Block Data",{"$f":"COUNTA(L58:L67)","v":10}]
[null,null,null,null,null,null,null,null,null,null,null,null,null,null,null,"Total Sequences in Summary",{"$f":"SUM(O7:O14)","v":61},null,null,null,null,"Total Sequences in Block Summary",{"$f":"SUM(U7:U14)","v":10},null,null,null,"Total Sequences in Block Summary",{"$f":"SUM(Z7:Z14)","v":10},null,null,null,"Total Sequences in Block Summary",{"$f":"SUM(AE7:AE14)","v":11},null,null,null,"Total Sequences in Block Summary",{"$f":"SUM(AJ7:AJ14)","v":10},null,null,null,"Total Sequences in Block Summary",{"$f":"SUM(AO7:AO14)","v":10},null,null,null,"Total Sequences in Block Summary",{"$f":"SUM(AT7:AT14)","v":10}]
[null,null,null,null,null,null,null,null,null,null,null,null,null,null,null,null,null,null,null,"Block 1",null,null,null,null,"Block 2",null,null,null,null,"Block 3",null,null,null,null,"Block 4",null,null,null,null,"Block 5",null,null,null,null,"Block 6"]
["Sequence\nComponent\n1","Time\n1","Sequence\nComponent\n2","Time\n2","Sequence\nComponent\n3","Time\n3","Sequence\nComponent\n4","Time\n4","Sequence\nComponent\n5","Time\n5","Correct?\n0=No 1=Yes","Sequence",null,"Frequency",null,"Relative Frequency","Variability",null,null,"Frequency",null,"Relative Frequency","Variability",null,"Frequency",null,"Relative Frequency","Variability",null,"Frequency",null,"Relative Frequency","Variability",null,"Frequency",null,"Relative Frequency","Variability",null,"Frequency",null,"Relative Frequency","Variability",null,"Frequency",null,"Relative Frequency","Variability"]
[11,7,11,13,21,29,null,null,null,null,0,112,null,111,{"$f":"COUNTIF($L$7:$L$500,N7)","v":1},{"$f":"O7/$Q$4","v":1.6393442622950821E-2},{"$f":"IF(P7=0,0,(P7*((LOG(P7))/LOG(2))))","v":-9.7225202255129275E-2},null,null,{"$f":"N7","v":111},{"$f":"COUNTIF(L7:L16,T7)","v":0},{"$f":"U7/(W4-U10)","v":0},{"$f":"IF(V7=0,0,(V7*((LOG(V7))/LOG(2))))","v":0},null,{"$f":"N7","v":111},{"$f":"COUNTIF(L17:L26,Y7)","v":0},{"$f":"Z7/(AB4-Z10)","v":0},{"$f":"IF(AA7=0,0,(AA7*((LOG(AA7))/LOG(2))))","v":0},null,{"$f":"N7","v":111},{"$f":"COUNTIF(L27:L37,AD7)","v":0},{"$f":"AE7/(AG4-AE10)","v":0},{"$f":"IF(AF7=0,0,(AF7*((LOG(AF7))/LOG(2))))","v":0},null,{"$f":"N7","v":111},{"$f":"COUNTIF(L38:L47,AI7)","v":0},{"$f":"AJ7/(AL4-AJ10)","v":0},{"$f":"IF(AK7=0,0,(AK7*((LOG(AK7))/LOG(2))))","v":0},null,{"$f":"N7","v":111},{"$f":"COUNTIF(L48:L57,AN7)","v":0},{"$f":"AO7/(AQ4-AO10)","v":0},{"$f":"IF(AP7=0,0,(AP7*((LOG(AP7))/LOG(2))))","v":0},null,{"$f":"N7","v":111},{"$f":"COUNTIF(L58:L67,AS7)","v":1},{"$f":"AT7/(AV4-AT10)","v":0.14285714285714285},{"$f":"IF(AU7=0,0,(AU7*((LOG(AU7))/LOG(2))))","v":-0.40105070315108626}]
[11,125,22,140,23,155,null,null,null,null,0,122,null,112,40,0.65573770491803274,-0.3992191755249338,null,null,112,{"$f":"COUNTIF(L7:L16,T8)","v":8},{"$f":"U8/(W4-U10)","v":1},{"$f":"IF(V8=0,0,(V8*((LOG(V8))/LOG(2))))","v":0},null,112,{"$f":"COUNTIF(L17:L26,Y8)","v":9},{"$f":"Z8/(AB4-Z10)","v":1},{"$f":"IF(AA8=0,0,(AA8*((LOG(AA8))/LOG(2))))","v":0},null,112,{"$f":"COUNTIF(L27:L37,AD8)","v":5},{"$f":"AE8/(AG4-AE10)","v":1},{"$f":"IF(AF8=0,0,(AF8*((LOG(AF8))/LOG(2))))","v":0},null,112,{"$f":"COUNTIF(L38:L47,AI8)","v":7},{"$f":"AJ8/(AL4-AJ10)","v":1},{"$f":"IF(AK8=0,0,(AK8*((LOG(AK8))/LOG(2))))","v":0},null,112,{"$f":"COUNTIF(L48:L57,AN8)","v":5},{"$f":"AO8/(AQ4-AO10)","v":1},{"$f":"IF(AP8=0,0,(AP8*((LOG(AP8))/LOG(2))))","v":0},null,112,{"$f":"COUNTIF(L58:L67,AS8)","v":6},{"$f":"AT8/(AV4-AT10)","v":0.8571428571428571},{"$f":"IF(AU8=0,0,(AU8*((LOG(AU8))/LOG(2))))","v":-0.19062207543124113}]
[11,258,22,278,23,290,null,null,null,null,0,122,null,121,0,0,0,null,null,121,{"$f":"COUNTIF(L7:L16,T9)","v":0},{"$f":"U9/(W4-U10)","v":0},{"$f":"IF(V9=0,0,(V9*((LOG(V9))/LOG(2))))","v":0},null,121,{"$f":"COUNTIF(L17:L26,Y9)","v":0},{"$f":"Z9/(AB4-Z10)","v":0},{"$f":"IF(AA9=0,0,(AA9*((LOG(AA9))/LOG(2))))","v":0},null,121,{"$f":"COUNTIF(L27:L37,AD9)","v":0},{"$f":"AE9/(AG4-AE10)","v":0},{"$f":"IF(AF9=0,0,(AF9*((LOG(AF9))/LOG(2))))","v":0},null,121,{"$f":"COUNTIF(L38:L47,AI9)","v":0},{"$f":"AJ9/(AL4-AJ10)","v":0},{"$f":"IF(AK9=0,0,(AK9*((LOG(AK9))/LOG(2))))","v":0},null,121,{"$f":"COUNTIF(L48:L57,AN9)","v":0},{"$f":"AO9/(AQ4-AO10)","v":0},{"$f":"IF(AP9=0,0,(AP9*((LOG(AP9))/LOG(2))))","v":0},null,121,{"$f":"COUNTIF(L58:L67,AS9)","v":0},{"$f":"AT9/(AV4-AT10)","v":0},{"$f":"IF(AU9=0,0,(AU9*((LOG(AU9))/LOG(2))))","v":0}]
[11,392,11,397,21,408,null,null,null,null,0,112,null,122,20,0.32786885245901637,-0.52747844022148327,null,null,122,{"$f":"COUNTIF(L7:L16,T10)","v":2},null,null,null,122,{"$f":"COUNTIF(L17:L26,Y10)","v":1},null,null,null,122,{"$f":"COUNTIF(L27:L37,AD10)","v":6},null,null,null,122,{"$f":"COUNTIF(L38:L47,AI10)","v":3},null,null,null,122,{"$f":"COUNTIF(L48:L57,AN10)","v":5},null,null,null,122,{"$f":"COUNTIF(L58:L67,AS10)","v":3}]
[11,501,11,508,21,535,null,null,null,null,0,112,null,211,0,0,0,null,null,211,{"$f":"COUNTIF(L7:L16,T11)","v":0},{"$f":"U11/(W4-U10)","v":0},{"$f":"IF(V11=0,0,(V11*((LOG(V11))/LOG(2))))","v":0},null,211,{"$f":"COUNTIF(L17:L26,Y11)","v":0},{"$f":"Z11/(AB4-Z10)","v":0},{"$f":"IF(AA11=0,0,(AA11*((LOG(AA11))/LOG(2))))","v":0},null,211,{"$f":"COUNTIF(L27:L37,AD11)","v":0},{"$f":"AE11/(AG4-AE10)","v":0},{"$f":"IF(AF11=0,0,(AF11*((LOG(AF11))/LOG(2))))","v":0},null,211,{"$f":"COUNTIF(L38:L47,AI11)","v":0},{"$f":"AJ11/(AL4-AJ10)","v":0},{"$f":"IF(AK11=0,0,(AK11*((LOG(AK11))/LOG(2))))","v":0},null,211,{"$f":"COUNTIF(L48:L57,AN11)","v":0},{"$f":"AO11/(AQ4-AO10)","v":0},{"$f":"IF(AP11=0,0,(AP11*((LOG(AP11))/LOG(2))))","v":0},null,211,{"$f":"COUNTIF(L58:L67,AS11)","v":0},{"$f":"AT11/(AV4-AT10)","v":0},{"$f":"IF(AU11=0,0,(AU11*((LOG(AU11))/LOG(2))))","v":0}]
[11,626,11,631,21,689,null,null,null,null,0,112,null,212,0,0,0,null,null,212,{"$f":"COUNTIF(L7:L16,T12)","v":0},{"$f":"U12/(W4-U10)","v":0},{"$f":"IF(V12=0,0,(V12*((LOG(V12))/LOG(2))))","v":0},null,212,{"$f":"COUNTIF(L17:L26,Y12)","v":0},{"$f":"Z12/(AB4-Z10)","v":0},{"$f":"IF(AA12=0,0,(AA12*((LOG(AA12))/LOG(2))))","v":0},null,212,{"$f":"COUNTIF(L27:L37,AD12)","v":0},{"$f":"AE12/(AG4-AE10)","v":0},{"$f":"IF(AF12=0,0,(AF12*((LOG(AF12))/LOG(2))))","v":0},null,212,{"$f":"COUNTIF(L38:L47,AI12)","v":0},{"$f":"AJ12/(AL4-AJ10)","v":0},{"$f":"IF(AK12=0,0,(AK12*((LOG(AK12))/LOG(2))))","v":0},null,212,{"$f":"COUNTIF(L48:L57,AN12)","v":0},{"$f":"AO12/(AQ4-AO10)","v":0},{"$f":"IF(AP12=0,0,(AP12*((LOG(AP12))/LOG(2))))","v":0},null,212,{"$f":"COUNTIF(L58:L67,AS12)","v":0},{"$f":"AT12/(AV4-AT10)","v":0},{"$f":"IF(AU12=0,0,(AU12*((LOG(AU12))/LOG(2))))","v":0}]
[11,784,11,796,21,813,null,null,null,null,0,112,null,221,0,0,0,null,null,221,{"$f":"COUNTIF(L7:L16,T13)","v":0},{"$f":"U13/(W4-U10)","v":0},{"$f":"IF(V13=0,0,(V13*((LOG(V13))/LOG(2))))","v":0},null,221,{"$f":"COUNTIF(L17:L26,Y13)","v":0},{"$f":"Z13/(AB4-Z10)","v":0},{"$f":"IF(AA13=0,0,(AA13*((LOG(AA13))/LOG(2))))","v":0},null,221,{"$f":"COUNTIF(L27:L37,AD13)","v":0},{"$f":"AE13/(AG4-AE10)","v":0},{"$f":"IF(AF13=0,0,(AF13*((LOG(AF13))/LOG(2))))","v":0},null,221,{"$f":"COUNTIF(L38:L47,AI13)","v":0},{"$f":"AJ13/(AL4-AJ10)","v":0},{"$f":"IF(AK13=0,0,(AK13*((LOG(AK13))/LOG(2))))","v":0},null,221,{"$f":"COUNTIF(L48:L57,AN13)","v":0},{"$f":"AO13/(AQ4-AO10)","v":0},{"$f":"IF(AP13=0,0,(AP13*((LOG(AP13))/LOG(2))))","v":0},null,221,{"$f":"COUNTIF(L58:L67,AS13)","v":0},{"$f":"AT13/(AV4-AT10)","v":0},{"$f":"IF(AU13=0,0,(AU13*((LOG(AU13))/LOG(2))))","v":0}]
[11,905,11,911,21,924,null,null,null,null,0,112,null,222,0,0,0,null,null,222,{"$f":"COUNTIF(L7:L16,T14)","v":0},{"$f":"U14/(W4-U10)","v":0},{"$f":"IF(V14=0,0,(V14*((LOG(V14))/LOG(2))))","v":0},null,222,{"$f":"COUNTIF(L17:L26,Y14)","v":0},{"$f":"Z14/(AB4-Z10)","v":0},{"$f":"IF(AA14=0,0,(AA14*((LOG(AA14))/LOG(2))))","v":0},null,222,{"$f":"COUNTIF(L27:L37,AD14)","v":0},{"$f":"AE14/(AG4-AE10)","v":0},{"$f":"IF(AF14=0,0,(AF14*((LOG(AF14))/LOG(2))))","v":0},null,222,{"$f":"COUNTIF(L38:L47,AI14)","v":0},{"$f":"AJ14/(AL4-AJ10)","v":0},{"$f":"IF(AK14=0,0,(AK14*((LOG(AK14))/LOG(2))))","v":0},null,222,{"$f":"COUNTIF(L48:L57,AN14)","v":0},{"$f":"AO14/(AQ4-AO10)","v":0},{"$f":"IF(AP14=0,0,(AP14*((LOG(AP14))/LOG(2))))","v":0},null,222,{"$f":"COUNTIF(L58:L67,AS14)","v":0},{"$f":"AT14/(AV4-AT10)","v":0},{"$f":"IF(AU14=0,0,(AU14*((LOG(AU14))/LOG(2))))","v":0}]
[11,1013,11,1017,21,1052,null,null,null,null,0,112,null,null,null,{"$f":"SUM(P7:P14)","v":1},{"$f":"-SUM(Q7:Q14)","v":1.0239228180015463},null,null,null,null,{"$f":"SUM(V7:V14)","v":1},{"$f":"-SUM(W7:W14)","v":0},null,null,null,{"$f":"SUM(AA7:AA14)","v":1},{"$f":"-SUM(AB7:AB14)","v":0},null,null,null,{"$f":"SUM(AF7:AF14)","v":1},{"$f":"-SUM(AG7:AG14)","v":0},null,null,null,{"$f":"SUM(AK7:AK14)","v":1},{"$f":"-SUM(AL7:AL14)","v":0},null,null,null,{"$f":"SUM(AP7:AP14)","v":1},{"$f":"-SUM(AQ7:AQ14)","v":0},null,null,null,{"$f":"SUM(AU7:AU14)","v":1},{"$f":"-SUM(AV7:AV14)","v":0.59167277858232736}]
[11,1142,11,1151,21,1186,null,null,null,null,0,112,null,null,null,"U=",{"$f":"Q15/(LOG(Q4)/LOG(2))","v":0.1726467991621268},null,null,null,null,"U1=",{"$f":"W15/(LOG(W4)/LOG(2))","v":0},null,null,null,"U2=",{"$f":"AB15/(LOG(AB4)/LOG(2))","v":0},null,null,null,"U3=",{"$f":"AG15/(LOG(AG4)/LOG(2))","v":0},null,null,null,"U4=",{"$f":"AL15/(LOG(AL4)/LOG(2))","v":0},null,null,null,"U5=",{"$f":"AQ15/(LOG(AQ4)/LOG(2))","v":0},null,null,null,"U6=",{"$f":"AV15/(LOG(AV4)/LOG(2))","v":0.17811125397113373}]
[11,1278,11,1290,21,1311,null,null,null,null,0,112]
[11,1402,11,1407,21,1466,null,null,null,null,0,112]
[11,1556,11,1561,21,1576,null,null,null,null,0,112,null,"Total Target Seq"]
[11,1665,11,1671,21,1688,null,null,null,null,0,112,null,{"$f":"COUNTIF(L7:L67,G3)","v":20},null,10,10,11,10,10,10]
[11,1781,11,1785,21,1802,null,null,null,null,0,112,null,null,null,"% of reinforcement given in 6 equal intervals based on number of trials "]
[11,1892,11,1899,21,1913,null,null,null,null,0,112,null,null,null,"%_1","%_2","%_3","%_4","%_5","%_6"]
[11,2005,11,2010,21,2019,null,null,null,null,0,112,null,null,"target sequence",{"$f":"$G$3","v":122},122,122,122,122,122]
[11,2108,11,2113,21,2138,null,null,null,null,0,112,null,null,"total reinforcement",{"$f":"U10","v":2},{"$f":"Z10","v":1},{"$f":"AE10","v":6},{"$f":"AJ10","v":3},{"$f":"AO10","v":5},{"$f":"AT10","v":3}]
[11,2232,11,2243,21,2283,null,null,null,null,0,112,null,null,"% target"]
[11,2372,22,2401,23,2411,null,null,null,null,0,122,null,null,"CCRF"]
[11,2509,11,2514,21,2524,null,null,null,null,0,112,null,null,"% CCRf"]
[11,2616,11,2629,21,2648,null,null,null,null,0,112,null,null,"average response rate",{"$f":"F16/P20","v":118.6},{"$f":"(F26-F16)/Q20","v":122.5},{"$f":"(F37-F26)/R20","v":119.90909090909091},{"$f":"(F47-F37)/S20","v":116.2},{"$f":"(F57-F47)/T20","v":115.3},{"$f":"(F67-F57)/U20","v":120.1}]
[11,2740,11,2745,21,2754,null,null,null,null,0,112]
[11,2844,22,2858,23,2866,null,null,null,null,0,122]
[11,2964,22,2978,23,2985,null,null,null,null,0,122]
[11,3084,11,3089,21,3105,null,null,null,null,0,112]
[11,3193,11,3203,21,3241,null,null,null,null,0,112]
[11,3332,22,3343,23,3356,null,null,null,null,0,122]
[11,3454,22,3468,23,3476,null,null,null,null,0,122]
[11,3576,22,3587,23,3601,null,null,null,null,0,122]
[11,3705,22,3721,23,3730,null,null,null,null,0,122]
[11,3829,11,3837,21,3856,null,null,null,null,0,112]
[11,3946,11,3956,21,3979,null,null,null,null,0,112]
[11,4071,11,4079,21,4090,null,null,null,null,0,112]
[11,4181,22,4193,23,4202,null,null,null,null,0,122]
[11,4299,11,4309,21,4319,null,null,null,null,0,112]
[11,4410,22,4420,23,4428,null,null,null,null,0,122]
[11,4528,11,4535,21,4545,null,null,null,null,0,112]
[11,4638,22,4649,23,4657,null,null,null,null,0,122]
[11,4759,11,4770,21,4787,null,null,null,null,0,112]
[11,4875,11,4881,21,4892,null,null,null,null,0,112]
[11,4982,22,4993,23,5002,null,null,null,null,0,122]
[11,5102,11,5106,21,5118,null,null,null,null,0,112]
[11,5210,22,5220,23,5237,null,null,null,null,0,122]
[11,5345,22,5361,23,5374,null,null,null,null,0,122]
[11,5474,11,5478,21,5490,null,null,null,null,0,112]
[11,5577,11,5590,21,5600,null,null,null,null,0,112]
[11,5689,22,5699,23,5707,null,null,null,null,0,122]
[11,5805,22,5816,23,5824,null,null,null,null,0,122]
[11,5923,11,5932,21,5942,null,null,null,null,0,112]
[11,6030,11,6035,21,6045,null,null,null,null,0,112]
[11,6135,22,6147,23,6158,null,null,null,null,0,122]
[11,6257,22,6271,23,6281,null,null,null,null,0,122]
[11,6383,11,6392,21,6402,null,null,null,null,0,112]
[11,6489,11,6497,21,6506,null,null,null,null,0,112]
[11,6594,11,6599,12,6604,null,null,null,null,0,111]
[11,6704,11,6710,21,6720,null,null,null,null,0,112]
[11,6809,22,6823,23,6832,null,null,null,null,0,122]
[11,6932,11,6936,21,6947,null,null,null,null,0,112]
[11,7036,11,7046,21,7069,null,null,null,null,0,112]
[11,7157,11,7164,21,7246,null,null,null,null,1,112]

{"sheet":"!L814B30.056","index":19,"n_rows":60,"n_cols":48,"rows_kept":60,"cut":false,"hidden":false,"merged":[[1,1,1,2],[5,13,5,14],[18,13,18,14],[19,13,19,14],[4,19,4,22],[5,19,5,20],[4,39,4,42],[5,39,5,40],[4,44,4,47],[5,44,5,45],[4,24,4,27],[5,24,5,25],[4,29,4,32],[5,29,5,30],[4,34,4,37],[5,34,5,35]]}
["Report for:!L814B30.056"]
["Date:","<date>"]
["Hen:","<hen>",null,null,null,"Correct Sequence",{"$f":"Start!J2","v":122},null,null,null,null,null,null,null,null,"Total Sequences in Data",{"$f":"4994-COUNTBLANK(L7:L5000)","v":54},null,null,null,null,"Total Sequences in Block Data",{"$f":"COUNTA(L7:L15)","v":9},null,null,null,"Total Sequences in Block Data",{"$f":"COUNTA(L16:L24)","v":9},null,null,null,"Total Sequences in Block Data",{"$f":"COUNTA(L25:L33)","v":9},null,null,null,"Total Sequences in Block Data",{"$f":"COUNTA(L34:L42)","v":9},null,null,null,"Total Sequences in Block Data",{"$f":"COUNTA(L43:L51)","v":9},null,null,null,"Total Sequences in Block Data",{"$f":"COUNTA(L52:L60)","v":9}]
[null,null,null,null,null,null,null,null,null,null,null,null,null,null,null,"Total Sequences in Summary",{"$f":"SUM(O7:O14)","v":54},null,null,null,null,"Total Sequences in Block Summary",{"$f":"SUM(U7:U14)","v":9},null,null,null,"Total Sequences in Block Summary",{"$f":"SUM(Z7:Z14)","v":9},null,null,null,"Total Sequences in Block Summary",{"$f":"SUM(AE7:AE14)","v":9},null,null,null,"Total Sequences in Block Summary",{"$f":"SUM(AJ7:AJ14)","v":9},null,null,null,"Total Sequences in Block Summary",{"$f":"SUM(AO7:AO14)","v":9},null,null,null,"Total Sequences in Block Summary",{"$f":"SUM(AT7:AT14)","v":9}]
[null,null,null,null,null,null,null,null,null,null,null,null,null,null,null,null,null,null,null,"Block 1",null,null,null,null,"Block 2",null,null,null,null,"Block 3",null,null,null,null,"Block 4",null,null,null,null,"Block 5",null,null,null,null,"Block 6"]
["Sequence\nComponent\n1","Time\n1","Sequence\nComponent\n2","Time\n2","Sequence\nComponent\n3","Time\n3","Sequence\nComponent\n4","Time\n4","Sequence\nComponent\n5","Time\n5","Correct?\n0=No 1=Yes","Sequence",null,"Frequency",null,"Relative Frequency","Variability",null,null,"Frequency",null,"Relative Frequency","Variability",null,"Frequency",null,"Relative Frequency","Variability",null,"Frequency",null,"Relative Frequency","Variability",null,"Frequency",null,"Relative Frequency","Variability",null,"Frequency",null,"Relative Frequency","Variability",null,"Frequency",null,"Relative Frequency","Variability"]
[11,9,11,19,21,29,null,null,null,null,0,112,null,111,{"$f":"COUNTIF($L$7:$L$500,N7)","v":7},{"$f":"O7/$Q$4","v":0.12962962962962962},{"$f":"IF(P7=0,0,(P7*((LOG(P7))/LOG(2))))","v":-0.38208755668038979},null,null,{"$f":"N7","v":111},{"$f":"COUNTIF(L7:L15,T7)","v":0},{"$f":"U7/(W4-U10)","v":0},{"$f":"IF(V7=0,0,(V7*((LOG(V7))/LOG(2))))","v":0},null,{"$f":"N7","v":111},{"$f":"COUNTIF(L16:L24,Y7)","v":0},{"$f":"Z7/(AB4-Z10)","v":0},{"$f":"IF(AA7=0,0,(AA7*((LOG(AA7))/LOG(2))))","v":0},null,{"$f":"N7","v":111},{"$f":"COUNTIF(L25:L33,AD7)","v":0},{"$f":"AE7/(AG4-AE10)","v":0},{"$f":"IF(AF7=0,0,(AF7*((LOG(AF7))/LOG(2))))","v":0},null,{"$f":"N7","v":111},{"$f":"COUNTIF(L34:L42,AI7)","v":3},{"$f":"AJ7/(AL4-AJ10)","v":0.33333333333333331},{"$f":"IF(AK7=0,0,(AK7*((LOG(AK7))/LOG(2))))","v":-0.52832083357371862},null,{"$f":"N7","v":111},{"$f":"COUNTIF(L43:L51,AN7)","v":3},{"$f":"AO7/(AQ4-AO10)","v":0.33333333333333331},{"$f":"IF(AP7=0,0,(AP7*((LOG(AP7))/LOG(2))))","v":-0.52832083357371862},null,{"$f":"N7","v":111},{"$f":"COUNTIF(L52:L60,AS7)","v":1},{"$f":"AT7/(AV4-AT10)","v":0.1111111111111111},{"$f":"IF(AU7=0,0,(AU7*((LOG(AU7))/LOG(2))))","v":-0.3522138890491458}]
[11,116,11,124,21,144,null,null,null,null,0,112,null,112,40,0.7407407407407407,-0.32071067205637499,null,null,112,{"$f":"COUNTIF(L7:L15,T8)","v":8},{"$f":"U8/(W4-U10)","v":1},{"$f":"IF(V8=0,0,(V8*((LOG(V8))/LOG(2))))","v":0},null,112,{"$f":"COUNTIF(L16:L24,Y8)","v":5},{"$f":"Z8/(AB4-Z10)","v":0.83333333333333337},{"$f":"IF(AA8=0,0,(AA8*((LOG(AA8))/LOG(2))))","v":-0.21919533819482812},null,112,{"$f":"COUNTIF(L25:L33,AD8)","v":8},{"$f":"AE8/(AG4-AE10)","v":1},{"$f":"IF(AF8=0,0,(AF8*((LOG(AF8))/LOG(2))))","v":0},null,112,{"$f":"COUNTIF(L34:L42,AI8)","v":5},{"$f":"AJ8/(AL4-AJ10)","v":0.55555555555555558},{"$f":"IF(AK8=0,0,(AK8*((LOG(AK8))/LOG(2))))","v":-0.4711093925305278},null,112,{"$f":"COUNTIF(L43:L51,AN8)","v":6},{"$f":"AO8/(AQ4-AO10)","v":0.66666666666666663},{"$f":"IF(AP8=0,0,(AP8*((LOG(AP8))/LOG(2))))","v":-0.38997500048077083},null,112,{"$f":"COUNTIF(L52:L60,AS8)","v":8},{"$f":"AT8/(AV4-AT10)","v":0.88888888888888884},{"$f":"IF(AU8=0,0,(AU8*((LOG(AU8))/LOG(2))))","v":-0.15104444572649992}]
[11,237,11,244,21,254,null,null,null,null,0,112,null,121,2,3.7037037037037035E-2,-0.1761069445245729,null,null,121,{"$f":"COUNTIF(L7:L15,T9)","v":0},{"$f":"U9/(W4-U10)","v":0},{"$f":"IF(V9=0,0,(V9*((LOG(V9))/LOG(2))))","v":0},null,121,{"$f":"COUNTIF(L16:L24,Y9)","v":1},{"$f":"Z9/(AB4-Z10)","v":0.16666666666666666},{"$f":"IF(AA9=0,0,(AA9*((LOG(AA9))/LOG(2))))","v":-0.43082708345352599},null,121,{"$f":"COUNTIF(L25:L33,AD9)","v":0},{"$f":"AE9/(AG4-AE10)","v":0},{"$f":"IF(AF9=0,0,(AF9*((LOG(AF9))/LOG(2))))","v":0},null,121,{"$f":"COUNTIF(L34:L42,AI9)","v":1},{"$f":"AJ9/(AL4-AJ10)","v":0.1111111111111111},{"$f":"IF(AK9=0,0,(AK9*((LOG(AK9))/LOG(2))))","v":-0.3522138890491458},null,121,{"$f":"COUNTIF(L43:L51,AN9)","v":0},{"$f":"AO9/(AQ4-AO10)","v":0},{"$f":"IF(AP9=0,0,(AP9*((LOG(AP9))/LOG(2))))","v":0},null,121,{"$f":"COUNTIF(L52:L60,AS9)","v":0},{"$f":"AT9/(AV4-AT10)","v":0},{"$f":"IF(AU9=0,0,(AU9*((LOG(AU9))/LOG(2))))","v":0}]
[11,342,11,348,21,357,null,null,null,null,0,112,null,122,5,9.2592592592592587E-2,-0.31786661178482462,null,null,122,{"$f":"COUNTIF(L7:L15,T10)","v":1},null,null,null,122,{"$f":"COUNTIF(L16:L24,Y10)","v":3},null,null,null,122,{"$f":"COUNTIF(L25:L33,AD10)","v":1},null,null,null,122,{"$f":"COUNTIF(L34:L42,AI10)","v":0},null,null,null,122,{"$f":"COUNTIF(L43:L51,AN10)","v":0},null,null,null,122,{"$f":"COUNTIF(L52:L60,AS10)","v":0}]
[11,446,11,451,21,482,null,null,null,null,0,112,null,211,0,0,0,null,null,211,{"$f":"COUNTIF(L7:L15,T11)","v":0},{"$f":"U11/(W4-U10)","v":0},{"$f":"IF(V11=0,0,(V11*((LOG(V11))/LOG(2))))","v":0},null,211,{"$f":"COUNTIF(L16:L24,Y11)","v":0},{"$f":"Z11/(AB4-Z10)","v":0},{"$f":"IF(AA11=0,0,(AA11*((LOG(AA11))/LOG(2))))","v":0},null,211,{"$f":"COUNTIF(L25:L33,AD11)","v":0},{"$f":"AE11/(AG4-AE10)","v":0},{"$f":"IF(AF11=0,0,(AF11*((LOG(AF11))/LOG(2))))","v":0},null,211,{"$f":"COUNTIF(L34:L42,AI11)","v":0},{"$f":"AJ11/(AL4-AJ10)","v":0},{"$f":"IF(AK11=0,0,(AK11*((LOG(AK11))/LOG(2))))","v":0},null,211,{"$f":"COUNTIF(L43:L51,AN11)","v":0},{"$f":"AO11/(AQ4-AO10)","v":0},{"$f":"IF(AP11=0,0,(AP11*((LOG(AP11))/LOG(2))))","v":0},null,211,{"$f":"COUNTIF(L52:L60,AS11)","v":0},{"$f":"AT11/(AV4-AT10)","v":0},{"$f":"IF(AU11=0,0,(AU11*((LOG(AU11))/LOG(2))))","v":0}]
[11,574,11,603,21,622,null,null,null,null,0,112,null,212,0,0,0,null,null,212,{"$f":"COUNTIF(L7:L15,T12)","v":0},{"$f":"U12/(W4-U10)","v":0},{"$f":"IF(V12=0,0,(V12*((LOG(V12))/LOG(2))))","v":0},null,212,{"$f":"COUNTIF(L16:L24,Y12)","v":0},{"$f":"Z12/(AB4-Z10)","v":0},{"$f":"IF(AA12=0,0,(AA12*((LOG(AA12))/LOG(2))))","v":0},null,212,{"$f":"COUNTIF(L25:L33,AD12)","v":0},{"$f":"AE12/(AG4-AE10)","v":0},{"$f":"IF(AF12=0,0,(AF12*((LOG(AF12))/LOG(2))))","v":0},null,212,{"$f":"COUNTIF(L34:L42,AI12)","v":0},{"$f":"AJ12/(AL4-AJ10)","v":0},{"$f":"IF(AK12=0,0,(AK12*((LOG(AK12))/LOG(2))))","v":0},null,212,{"$f":"COUNTIF(L43:L51,AN12)","v":0},{"$f":"AO12/(AQ4-AO10)","v":0},{"$f":"IF(AP12=0,0,(AP12*((LOG(AP12))/LOG(2))))","v":0},null,212,{"$f":"COUNTIF(L52:L60,AS12)","v":0},{"$f":"AT12/(AV4-AT10)","v":0},{"$f":"IF(AU12=0,0,(AU12*((LOG(AU12))/LOG(2))))","v":0}]
[11,712,11,719,21,736,null,null,null,null,0,112,null,221,0,0,0,null,null,221,{"$f":"COUNTIF(L7:L15,T13)","v":0},{"$f":"U13/(W4-U10)","v":0},{"$f":"IF(V13=0,0,(V13*((LOG(V13))/LOG(2))))","v":0},null,221,{"$f":"COUNTIF(L16:L24,Y13)","v":0},{"$f":"Z13/(AB4-Z10)","v":0},{"$f":"IF(AA13=0,0,(AA13*((LOG(AA13))/LOG(2))))","v":0},null,221,{"$f":"COUNTIF(L25:L33,AD13)","v":0},{"$f":"AE13/(AG4-AE10)","v":0},{"$f":"IF(AF13=0,0,(AF13*((LOG(AF13))/LOG(2))))","v":0},null,221,{"$f":"COUNTIF(L34:L42,AI13)","v":0},{"$f":"AJ13/(AL4-AJ10)","v":0},{"$f":"IF(AK13=0,0,(AK13*((LOG(AK13))/LOG(2))))","v":0},null,221,{"$f":"COUNTIF(L43:L51,AN13)","v":0},{"$f":"AO13/(AQ4-AO10)","v":0},{"$f":"IF(AP13=0,0,(AP13*((LOG(AP13))/LOG(2))))","v":0},null,221,{"$f":"COUNTIF(L52:L60,AS13)","v":0},{"$f":"AT13/(AV4-AT10)","v":0},{"$f":"IF(AU13=0,0,(AU13*((LOG(AU13))/LOG(2))))","v":0}]
[11,828,22,839,23,862,null,null,null,null,0,122,null,222,0,0,0,null,null,222,{"$f":"COUNTIF(L7:L15,T14)","v":0},{"$f":"U14/(W4-U10)","v":0},{"$f":"IF(V14=0,0,(V14*((LOG(V14))/LOG(2))))","v":0},null,222,{"$f":"COUNTIF(L16:L24,Y14)","v":0},{"$f":"Z14/(AB4-Z10)","v":0},{"$f":"IF(AA14=0,0,(AA14*((LOG(AA14))/LOG(2))))","v":0},null,222,{"$f":"COUNTIF(L25:L33,AD14)","v":0},{"$f":"AE14/(AG4-AE10)","v":0},{"$f":"IF(AF14=0,0,(AF14*((LOG(AF14))/LOG(2))))","v":0},null,222,{"$f":"COUNTIF(L34:L42,AI14)","v":0},{"$f":"AJ14/(AL4-AJ10)","v":0},{"$f":"IF(AK14=0,0,(AK14*((LOG(AK14))/LOG(2))))","v":0},null,222,{"$f":"COUNTIF(L43:L51,AN14)","v":0},{"$f":"AO14/(AQ4-AO10)","v":0},{"$f":"IF(AP14=0,0,(AP14*((LOG(AP14))/LOG(2))))","v":0},null,222,{"$f":"COUNTIF(L52:L60,AS14)","v":0},{"$f":"AT14/(AV4-AT10)","v":0},{"$f":"IF(AU14=0,0,(AU14*((LOG(AU14))/LOG(2))))","v":0}]
[11,961,11,966,21,975,null,null,null,null,0,112,null,null,null,{"$f":"SUM(P7:P14)","v":1},{"$f":"-SUM(Q7:Q14)","v":1.1967717850461623},null,null,null,null,{"$f":"SUM(V7:V14)","v":1},{"$f":"-SUM(W7:W14)","v":0},null,null,null,{"$f":"SUM(AA7:AA14)","v":1},{"$f":"-SUM(AB7:AB14)","v":0.65002242164835411},null,null,null,{"$f":"SUM(AF7:AF14)","v":1},{"$f":"-SUM(AG7:AG14)","v":0},null,null,null,{"$f":"SUM(AK7:AK14)","v":1},{"$f":"-SUM(AL7:AL14)","v":1.3516441151533922},null,null,null,{"$f":"SUM(AP7:AP14)","v":1},{"$f":"-SUM(AQ7:AQ14)","v":0.91829583405448945},null,null,null,{"$f":"SUM(AU7:AU14)","v":1},{"$f":"-SUM(AV7:AV14)","v":0.50325833477564574}]
[11,1063,11,1082,21,1095,null,null,null,null,0,112,null,null,null,"U=",{"$f":"Q15/(LOG(Q4)/LOG(2))","v":0.20795745956741166},null,null,null,null,"U1=",{"$f":"W15/(LOG(W4)/LOG(2))","v":0},null,null,null,"U2=",{"$f":"AB15/(LOG(AB4)/LOG(2))","v":0.20505924315325905},null,null,null,"U3=",{"$f":"AG15/(LOG(AG4)/LOG(2))","v":0},null,null,null,"U4=",{"$f":"AL15/(LOG(AL4)/LOG(2))","v":0.42639624424502021},null,null,null,"U5=",{"$f":"AQ15/(LOG(AQ4)/LOG(2))","v":0.28969008214284753},null,null,null,"U6=",{"$f":"AV15/(LOG(AV4)/LOG(2))","v":0.15876032857139011}]
[11,1188,22,1198,23,1209,null,null,null,null,0,122]
[11,1305,11,1309,21,1319,null,null,null,null,0,112]
[11,1412,22,1429,14,1445,null,null,null,null,0,121,null,"Total Target Seq"]
[11,1540,11,1545,21,1556,null,null,null,null,0,112,null,{"$f":"COUNTIF(L7:L60,G3)","v":5},null,9,9,9,9,9,9]
[11,1646,22,1658,23,1679,null,null,null,null,0,122,null,null,null,"% of reinforcement given in 6 equal intervals based on number of trials "]
[11,1779,22,1790,23,1812,null,null,null,null,0,122,null,null,null,"%_1","%_2","%_3","%_4","%_5","%_6"]
[11,1913,11,1918,21,1937,null,null,null,null,0,112,null,null,"target sequence",{"$f":"$G$3","v":122},122,122,122,122,122]
[11,2025,11,2030,21,2043,null,null,null,null,0,112,null,null,"total reinforcement",{"$f":"U10","v":1},{"$f":"Z10","v":3},{"$f":"AE10","v":1},{"$f":"AJ10","v":0},{"$f":"AO10","v":0},{"$f":"AT10","v":0}]
[11,2132,11,2137,21,2146,null,null,null,null,0,112,null,null,"% target"]
[11,2237,11,2242,21,2258,null,null,null,null,0,112,null,null,"CCRF"]
[11,2347,11,2353,21,2370,null,null,null,null,0,112,null,null,"% CCRf"]
[11,2457,22,2474,23,2487,null,null,null,null,0,122,null,null,"average response rate",{"$f":"F15/P20","v":108.33333333333333},{"$f":"(F24-F15)/Q20","v":118.66666666666667},{"$f":"(F33-F24)/R20","v":116},{"$f":"(F42-F33)/S20","v":124},{"$f":"(F51-F42)/T20","v":111.55555555555556},{"$f":"(F60-F51)/U20","v":123.22222222222223}]
[11,2583,11,2588,21,2606,null,null,null,null,0,112]
[11,2695,11,2700,21,2710,null,null,null,null,0,112]
[11,2795,11,2803,21,2823,null,null,null,null,0,112]
[11,2910,11,2915,21,2931,null,null,null,null,0,112]
[11,3017,11,3022,21,3087,null,null,null,null,0,112]
[11,3176,11,3186,21,3196,null,null,null,null,0,112]
[11,3282,22,3294,14,3307,null,null,null,null,0,121]
[11,3404,11,3408,21,3433,null,null,null,null,0,112]
[11,3522,11,3530,12,3608,null,null,null,null,0,111]
[11,3705,11,3709,21,3719,null,null,null,null,0,112]
[11,3808,11,3813,21,3857,null,null,null,null,0,112]
[11,3943,11,3951,21,3988,null,null,null,null,0,112]
[11,4073,11,4079,12,4097,null,null,null,null,0,111]
[11,4195,11,4196,12,4203,null,null,null,null,0,111]
[11,4301,11,4306,21,4325,null,null,null,null,0,112]
[11,4415,11,4422,21,4431,null,null,null,null,0,112]
[11,4518,11,4523,21,4533,null,null,null,null,0,112]
[11,4622,11,4627,12,4632,null,null,null,null,0,111]
[11,4729,11,4735,21,4744,null,null,null,null,0,112]
[11,4831,11,4836,12,4842,null,null,null,null,0,111]
[11,4940,11,4947,21,4985,null,null,null,null,0,112]
[11,5070,11,5076,12,5085,null,null,null,null,0,111]
[11,5183,11,5187,21,5207,null,null,null,null,0,112]
[11,5296,11,5305,21,5362,null,null,null,null,0,112]
[11,5448,11,5452,12,5458,null,null,null,null,0,111]
[11,5555,11,5561,21,5586,null,null,null,null,0,112]
[11,5672,11,5677,21,5690,null,null,null,null,0,112]
[11,5779,11,5784,21,5836,null,null,null,null,0,112]
[11,5925,11,5930,21,5946,null,null,null,null,0,112]
[11,6035,11,6040,21,6102,null,null,null,null,0,112]
[11,6189,11,6193,21,6202,null,null,null,null,0,112]
[11,6289,11,6294,21,6316,null,null,null,null,1,112]

{"sheet":"!L815B30.056","index":20,"n_rows":49,"n_cols":48,"rows_kept":49,"cut":false,"hidden":false,"merged":[[1,1,1,2],[5,13,5,14],[18,13,18,14],[19,13,19,14],[4,19,4,22],[5,19,5,20],[4,39,4,42],[5,39,5,40],[4,44,4,47],[5,44,5,45],[4,24,4,27],[5,24,5,25],[4,29,4,32],[5,29,5,30],[4,34,4,37],[5,34,5,35]]}
["Report for:!L815B30.056"]
["Date:","<date>"]
["Hen:","<hen>",null,null,null,"Correct Sequence",{"$f":"Start!J2","v":122},null,null,null,null,null,null,null,null,"Total Sequences in Data",{"$f":"4994-COUNTBLANK(L7:L5000)","v":43},null,null,null,null,"Total Sequences in Block Data",{"$f":"COUNTA(L7:L13)","v":7},null,null,null,"Total Sequences in Block Data",{"$f":"COUNTA(L14:L20)","v":7},null,null,null,"Total Sequences in Block Data",{"$f":"COUNTA(L21:L28)","v":8},null,null,null,"Total Sequences in Block Data",{"$f":"COUNTA(L29:L35)","v":7},null,null,null,"Total Sequences in Block Data",{"$f":"COUNTA(L36:L42)","v":7},null,null,null,"Total Sequences in Block Data",{"$f":"COUNTA(L43:L49)","v":7}]
[null,null,null,null,null,null,null,null,null,null,null,null,null,null,null,"Total Sequences in Summary",{"$f":"SUM(O7:O14)","v":43},null,null,null,null,"Total Sequences in Block Summary",{"$f":"SUM(U7:U14)","v":7},null,null,null,"Total Sequences in Block Summary",{"$f":"SUM(Z7:Z14)","v":7},null,null,null,"Total Sequences in Block Summary",{"$f":"SUM(AE7:AE14)","v":8},null,null,null,"Total Sequences in Block Summary",{"$f":"SUM(AJ7:AJ14)","v":7},null,null,null,"Total Sequences in Block Summary",{"$f":"SUM(AO7:AO14)","v":7},null,null,null,"Total Sequences in Block Summary",{"$f":"SUM(AT7:AT14)","v":7}]
[null,null,null,null,null,null,null,null,null,null,null,null,null,null,null,null,null,null,null,"Block 1",null,null,null,null,"Block 2",null,null,null,null,"Block 3",null,null,null,null,"Block 4",null,null,null,null,"Block 5",null,null,null,null,"Block 6"]
["Sequence\nComponent\n1","Time\n1","Sequence\nComponent\n2","Time\n2","Sequence\nComponent\n3","Time\n3","Sequence\nComponent\n4","Time\n4","Sequence\nComponent\n5","Time\n5","Correct?\n0=No 1=Yes","Sequence",null,"Frequency",null,"Relative Frequency","Variability",null,null,"Frequency",null,"Relative Frequency","Variability",null,"Frequency",null,"Relative Frequency","Variability",null,"Frequency",null,"Relative Frequency","Variability",null,"Frequency",null,"Relative Frequency","Variability",null,"Frequency",null,"Relative Frequency","Variability",null,"Frequency",null,"Relative Frequency","Variability"]
[11,10,11,16,21,26,null,null,null,null,0,112,null,111,{"$f":"COUNTIF($L$7:$L$500,N7)","v":2},{"$f":"O7/$Q$4","v":4.6511627906976744E-2},{"$f":"IF(P7=0,0,(P7*((LOG(P7))/LOG(2))))","v":-0.20587277928846967},null,null,{"$f":"N7","v":111},{"$f":"COUNTIF(L7:L13,T7)","v":0},{"$f":"U7/(W4-U10)","v":0},{"$f":"IF(V7=0,0,(V7*((LOG(V7))/LOG(2))))","v":0},null,{"$f":"N7","v":111},{"$f":"COUNTIF(L14:L20,Y7)","v":0},{"$f":"Z7/(AB4-Z10)","v":0},{"$f":"IF(AA7=0,0,(AA7*((LOG(AA7))/LOG(2))))","v":0},null,{"$f":"N7","v":111},{"$f":"COUNTIF(L21:L28,AD7)","v":0},{"$f":"AE7/(AG4-AE10)","v":0},{"$f":"IF(AF7=0,0,(AF7*((LOG(AF7))/LOG(2))))","v":0},null,{"$f":"N7","v":111},{"$f":"COUNTIF(L29:L35,AI7)","v":1},{"$f":"AJ7/(AL4-AJ10)","v":0.14285714285714285},{"$f":"IF(AK7=0,0,(AK7*((LOG(AK7))/LOG(2))))","v":-0.40105070315108626},null,{"$f":"N7","v":111},{"$f":"COUNTIF(L36:L42,AN7)","v":0},{"$f":"AO7/(AQ4-AO10)","v":0},{"$f":"IF(AP7=0,0,(AP7*((LOG(AP7))/LOG(2))))","v":0},null,{"$f":"N7","v":111},{"$f":"COUNTIF(L43:L49,AS7)","v":1},{"$f":"AT7/(AV4-AT10)","v":0.16666666666666666},{"$f":"IF(AU7=0,0,(AU7*((LOG(AU7))/LOG(2))))","v":-0.43082708345352599}]
[11,117,11,126,21,135,null,null,null,null,0,112,null,112,40,0.93023255813953487,-9.7057357967195917E-2,null,null,112,{"$f":"COUNTIF(L7:L13,T8)","v":7},{"$f":"U8/(W4-U10)","v":1},{"$f":"IF(V8=0,0,(V8*((LOG(V8))/LOG(2))))","v":0},null,112,{"$f":"COUNTIF(L14:L20,Y8)","v":7},{"$f":"Z8/(AB4-Z10)","v":1},{"$f":"IF(AA8=0,0,(AA8*((LOG(AA8))/LOG(2))))","v":0},null,112,{"$f":"COUNTIF(L21:L28,AD8)","v":8},{"$f":"AE8/(AG4-AE10)","v":1},{"$f":"IF(AF8=0,0,(AF8*((LOG(AF8))/LOG(2))))","v":0},null,112,{"$f":"COUNTIF(L29:L35,AI8)","v":6},{"$f":"AJ8/(AL4-AJ10)","v":0.8571428571428571},{"$f":"IF(AK8=0,0,(AK8*((LOG(AK8))/LOG(2))))","v":-0.19062207543124113},null,112,{"$f":"COUNTIF(L36:L42,AN8)","v":7},{"$f":"AO8/(AQ4-AO10)","v":1},{"$f":"IF(AP8=0,0,(AP8*((LOG(AP8))/LOG(2))))","v":0},null,112,{"$f":"COUNTIF(L43:L49,AS8)","v":5},{"$f":"AT8/(AV4-AT10)","v":0.83333333333333337},{"$f":"IF(AU8=0,0,(AU8*((LOG(AU8))/LOG(2))))","v":-0.21919533819482812}]
[11,224,11,229,21,239,null,null,null,null,0,112,null,121,0,0,0,null,null,121,{"$f":"COUNTIF(L7:L13,T9)","v":0},{"$f":"U9/(W4-U10)","v":0},{"$f":"IF(V9=0,0,(V9*((LOG(V9))/LOG(2))))","v":0},null,121,{"$f":"COUNTIF(L14:L20,Y9)","v":0},{"$f":"Z9/(AB4-Z10)","v":0},{"$f":"IF(AA9=0,0,(AA9*((LOG(AA9))/LOG(2))))","v":0},null,121,{"$f":"COUNTIF(L21:L28,AD9)","v":0},{"$f":"AE9/(AG4-AE10)","v":0},{"$f":"IF(AF9=0,0,(AF9*((LOG(AF9))/LOG(2))))","v":0},null,121,{"$f":"COUNTIF(L29:L35,AI9)","v":0},{"$f":"AJ9/(AL4-AJ10)","v":0},{"$f":"IF(AK9=0,0,(AK9*((LOG(AK9))/LOG(2))))","v":0},null,121,{"$f":"COUNTIF(L36:L42,AN9)","v":0},{"$f":"AO9/(AQ4-AO10)","v":0},{"$f":"IF(AP9=0,0,(AP9*((LOG(AP9))/LOG(2))))","v":0},null,121,{"$f":"COUNTIF(L43:L49,AS9)","v":0},{"$f":"AT9/(AV4-AT10)","v":0},{"$f":"IF(AU9=0,0,(AU9*((LOG(AU9))/LOG(2))))","v":0}]
[11,329,11,334,21,351,null,null,null,null,0,112,null,122,1,2.3255813953488372E-2,-0.12619220359772321,null,null,122,{"$f":"COUNTIF(L7:L13,T10)","v":0},null,null,null,122,{"$f":"COUNTIF(L14:L20,Y10)","v":0},null,null,null,122,{"$f":"COUNTIF(L21:L28,AD10)","v":0},null,null,null,122,{"$f":"COUNTIF(L29:L35,AI10)","v":0},null,null,null,122,{"$f":"COUNTIF(L36:L42,AN10)","v":0},null,null,null,122,{"$f":"COUNTIF(L43:L49,AS10)","v":1}]
[11,439,11,447,21,464,null,null,null,null,0,112,null,211,0,0,0,null,null,211,{"$f":"COUNTIF(L7:L13,T11)","v":0},{"$f":"U11/(W4-U10)","v":0},{"$f":"IF(V11=0,0,(V11*((LOG(V11))/LOG(2))))","v":0},null,211,{"$f":"COUNTIF(L14:L20,Y11)","v":0},{"$f":"Z11/(AB4-Z10)","v":0},{"$f":"IF(AA11=0,0,(AA11*((LOG(AA11))/LOG(2))))","v":0},null,211,{"$f":"COUNTIF(L21:L28,AD11)","v":0},{"$f":"AE11/(AG4-AE10)","v":0},{"$f":"IF(AF11=0,0,(AF11*((LOG(AF11))/LOG(2))))","v":0},null,211,{"$f":"COUNTIF(L29:L35,AI11)","v":0},{"$f":"AJ11/(AL4-AJ10)","v":0},{"$f":"IF(AK11=0,0,(AK11*((LOG(AK11))/LOG(2))))","v":0},null,211,{"$f":"COUNTIF(L36:L42,AN11)","v":0},{"$f":"AO11/(AQ4-AO10)","v":0},{"$f":"IF(AP11=0,0,(AP11*((LOG(AP11))/LOG(2))))","v":0},null,211,{"$f":"COUNTIF(L43:L49,AS11)","v":0},{"$f":"AT11/(AV4-AT10)","v":0},{"$f":"IF(AU11=0,0,(AU11*((LOG(AU11))/LOG(2))))","v":0}]
[11,551,11,558,21,612,null,null,null,null,0,112,null,212,0,0,0,null,null,212,{"$f":"COUNTIF(L7:L13,T12)","v":0},{"$f":"U12/(W4-U10)","v":0},{"$f":"IF(V12=0,0,(V12*((LOG(V12))/LOG(2))))","v":0},null,212,{"$f":"COUNTIF(L14:L20,Y12)","v":0},{"$f":"Z12/(AB4-Z10)","v":0},{"$f":"IF(AA12=0,0,(AA12*((LOG(AA12))/LOG(2))))","v":0},null,212,{"$f":"COUNTIF(L21:L28,AD12)","v":0},{"$f":"AE12/(AG4-AE10)","v":0},{"$f":"IF(AF12=0,0,(AF12*((LOG(AF12))/LOG(2))))","v":0},null,212,{"$f":"COUNTIF(L29:L35,AI12)","v":0},{"$f":"AJ12/(AL4-AJ10)","v":0},{"$f":"IF(AK12=0,0,(AK12*((LOG(AK12))/LOG(2))))","v":0},null,212,{"$f":"COUNTIF(L36:L42,AN12)","v":0},{"$f":"AO12/(AQ4-AO10)","v":0},{"$f":"IF(AP12=0,0,(AP12*((LOG(AP12))/LOG(2))))","v":0},null,212,{"$f":"COUNTIF(L43:L49,AS12)","v":0},{"$f":"AT12/(AV4-AT10)","v":0},{"$f":"IF(AU12=0,0,(AU12*((LOG(AU12))/LOG(2))))","v":0}]
[11,701,11,705,21,717,null,null,null,null,0,112,null,221,0,0,0,null,null,221,{"$f":"COUNTIF(L7:L13,T13)","v":0},{"$f":"U13/(W4-U10)","v":0},{"$f":"IF(V13=0,0,(V13*((LOG(V13))/LOG(2))))","v":0},null,221,{"$f":"COUNTIF(L14:L20,Y13)","v":0},{"$f":"Z13/(AB4-Z10)","v":0},{"$f":"IF(AA13=0,0,(AA13*((LOG(AA13))/LOG(2))))","v":0},null,221,{"$f":"COUNTIF(L21:L28,AD13)","v":0},{"$f":"AE13/(AG4-AE10)","v":0},{"$f":"IF(AF13=0,0,(AF13*((LOG(AF13))/LOG(2))))","v":0},null,221,{"$f":"COUNTIF(L29:L35,AI13)","v":0},{"$f":"AJ13/(AL4-AJ10)","v":0},{"$f":"IF(AK13=0,0,(AK13*((LOG(AK13))/LOG(2))))","v":0},null,221,{"$f":"COUNTIF(L36:L42,AN13)","v":0},{"$f":"AO13/(AQ4-AO10)","v":0},{"$f":"IF(AP13=0,0,(AP13*((LOG(AP13))/LOG(2))))","v":0},null,221,{"$f":"COUNTIF(L43:L49,AS13)","v":0},{"$f":"AT13/(AV4-AT10)","v":0},{"$f":"IF(AU13=0,0,(AU13*((LOG(AU13))/LOG(2))))","v":0}]
[11,805,11,810,21,826,null,null,null,null,0,112,null,222,0,0,0,null,null,222,{"$f":"COUNTIF(L7:L13,T14)","v":0},{"$f":"U14/(W4-U10)","v":0},{"$f":"IF(V14=0,0,(V14*((LOG(V14))/LOG(2))))","v":0},null,222,{"$f":"COUNTIF(L14:L20,Y14)","v":0},{"$f":"Z14/(AB4-Z10)","v":0},{"$f":"IF(AA14=0,0,(AA14*((LOG(AA14))/LOG(2))))","v":0},null,222,{"$f":"COUNTIF(L21:L28,AD14)","v":0},{"$f":"AE14/(AG4-AE10)","v":0},{"$f":"IF(AF14=0,0,(AF14*((LOG(AF14))/LOG(2))))","v":0},null,222,{"$f":"COUNTIF(L29:L35,AI14)","v":0},{"$f":"AJ14/(AL4-AJ10)","v":0},{"$f":"IF(AK14=0,0,(AK14*((LOG(AK14))/LOG(2))))","v":0},null,222,{"$f":"COUNTIF(L36:L42,AN14)","v":0},{"$f":"AO14/(AQ4-AO10)","v":0},{"$f":"IF(AP14=0,0,(AP14*((LOG(AP14))/LOG(2))))","v":0},null,222,{"$f":"COUNTIF(L43:L49,AS14)","v":0},{"$f":"AT14/(AV4-AT10)","v":0},{"$f":"IF(AU14=0,0,(AU14*((LOG(AU14))/LOG(2))))","v":0}]
[11,913,11,919,21,936,null,null,null,null,0,112,null,null,null,{"$f":"SUM(P7:P14)","v":1},{"$f":"-SUM(Q7:Q14)","v":0.4291223408533888},null,null,null,null,{"$f":"SUM(V7:V14)","v":1},{"$f":"-SUM(W7:W14)","v":0},null,null,null,{"$f":"SUM(AA7:AA14)","v":1},{"$f":"-SUM(AB7:AB14)","v":0},null,null,null,{"$f":"SUM(AF7:AF14)","v":1},{"$f":"-SUM(AG7:AG14)","v":0},null,null,null,{"$f":"SUM(AK7:AK14)","v":1},{"$f":"-SUM(AL7:AL14)","v":0.59167277858232736},null,null,null,{"$f":"SUM(AP7:AP14)","v":1},{"$f":"-SUM(AQ7:AQ14)","v":0},null,null,null,{"$f":"SUM(AU7:AU14)","v":1},{"$f":"-SUM(AV7:AV14)","v":0.65002242164835411}]
[11,1024,11,1030,21,1046,null,null,null,null,0,112,null,null,null,"U=",{"$f":"Q15/(LOG(Q4)/LOG(2))","v":7.9082455473912391E-2},null,null,null,null,"U1=",{"$f":"W15/(LOG(W4)/LOG(2))","v":0},null,null,null,"U2=",{"$f":"AB15/(LOG(AB4)/LOG(2))","v":0},null,null,null,"U3=",{"$f":"AG15/(LOG(AG4)/LOG(2))","v":0},null,null,null,"U4=",{"$f":"AL15/(LOG(AL4)/LOG(2))","v":0.21075809614719845},null,null,null,"U5=",{"$f":"AQ15/(LOG(AQ4)/LOG(2))","v":0},null,null,null,"U6=",{"$f":"AV15/(LOG(AV4)/LOG(2))","v":0.23154265837250496}]
[11,1133,11,1140,21,1151,null,null,null,null,0,112]
[11,1244,11,1249,21,1267,null,null,null,null,0,112]
[11,1356,11,1361,21,1372,null,null,null,null,0,112,null,"Total Target Seq"]
[11,1459,11,1472,21,1493,null,null,null,null,0,112,null,{"$f":"COUNTIF(L7:L49,G3)","v":1},null,7,7,8,7,7,7]
[11,1582,11,1588,21,1620,null,null,null,null,0,112,null,null,null,"% of reinforcement given in 6 equal intervals based on number of trials "]
[11,1712,11,1716,21,1739,null,null,null,null,0,112,null,null,null,"%_1","%_2","%_3","%_4","%_5","%_6"]
[11,1826,11,1831,21,1840,null,null,null,null,0,112,null,null,"target sequence",{"$f":"$G$3","v":122},122,122,122,122,122]
[11,1930,11,1935,21,1944,null,null,null,null,0,112,null,null,"total reinforcement",{"$f":"U10","v":0},{"$f":"Z10","v":0},{"$f":"AE10","v":0},{"$f":"AJ10","v":0},{"$f":"AO10","v":0},{"$f":"AT10","v":1}]
[11,2033,11,2043,21,2061,null,null,null,null,0,112,null,null,"% target"]
[11,2148,11,2153,21,2195,null,null,null,null,0,112,null,null,"CCRF"]
[11,2282,11,2288,21,2298,null,null,null,null,0,112,null,null,"% CCRf"]
[11,2389,11,2398,21,2424,null,null,null,null,0,112,null,null,"average response rate",{"$f":"F13/P20","v":102.42857142857143},{"$f":"(F20-F13)/Q20","v":110.85714285714286},{"$f":"(F28-F20)/R20","v":116.375},{"$f":"(F35-F28)/S20","v":112.42857142857143},{"$f":"(F42-F35)/T20","v":106.71428571428571},{"$f":"(F49-F42)/U20","v":123.71428571428571}]
[11,2517,11,2521,21,2535,null,null,null,null,0,112]
[11,2624,11,2634,21,2651,null,null,null,null,0,112]
[11,2737,11,2741,21,2784,null,null,null,null,0,112]
[11,2874,11,2879,12,2884,null,null,null,null,0,111]
[11,2982,11,2987,21,3005,null,null,null,null,0,112]
[11,3093,11,3098,21,3107,null,null,null,null,0,112]
[11,3196,11,3200,21,3211,null,null,null,null,0,112]
[11,3299,11,3303,21,3312,null,null,null,null,0,112]
[11,3398,11,3404,21,3416,null,null,null,null,0,112]
[11,3505,11,3510,21,3519,null,null,null,null,0,112]
[11,3607,11,3613,21,3622,null,null,null,null,0,112]
[11,3708,11,3714,21,3755,null,null,null,null,0,112]
[11,3843,11,3848,21,3857,null,null,null,null,0,112]
[11,3945,11,3949,21,3958,null,null,null,null,0,112]
[11,4045,11,4052,21,4061,null,null,null,null,0,112]
[11,4151,11,4155,21,4205,null,null,null,null,0,112]
[11,4294,11,4301,21,4317,null,null,null,null,0,112]
[11,4406,11,4411,12,4475,null,null,null,null,0,111]
[11,4574,22,4584,23,4593,null,null,null,null,0,122]
[11,4690,11,4695,21,4704,null,null,null,null,0,112]
[11,4794,11,4800,21,4824,null,null,null,null,1,112]

{"sheet":"!L816B00.056","index":21,"n_rows":52,"n_cols":48,"rows_kept":52,"cut":false,"hidden":false,"merged":[[1,1,1,2],[5,13,5,14],[18,13,18,14],[19,13,19,14],[4,19,4,22],[5,19,5,20],[4,39,4,42],[5,39,5,40],[4,44,4,47],[5,44,5,45],[4,24,4,27],[5,24,5,25],[4,29,4,32],[5,29,5,30],[4,34,4,37],[5,34,5,35]]}
["Report for:!L816B00.056"]
["Date:","<date>"]
["Hen:","<hen>",null,null,null,"Correct Sequence",{"$f":"Start!J2","v":122},null,null,null,null,null,null,null,null,"Total Sequences in Data",{"$f":"4994-COUNTBLANK(L7:L5000)","v":46},null,null,null,null,"Total Sequences in Block Data",{"$f":"COUNTA(L7:L14)","v":8},null,null,null,"Total Sequences in Block Data",{"$f":"COUNTA(L15:L21)","v":7},null,null,null,"Total Sequences in Block Data",{"$f":"COUNTA(L22:L29)","v":8},null,null,null,"Total Sequences in Block Data",{"$f":"COUNTA(L30:L37)","v":8},null,null,null,"Total Sequences in Block Data",{"$f":"COUNTA(L38:L44)","v":7},null,null,null,"Total Sequences in Block Data",{"$f":"COUNTA(L45:L52)","v":8}]
[null,null,null,null,null,null,null,null,null,null,null,null,null,null,null,"Total Sequences in Summary",{"$f":"SUM(O7:O14)","v":46},null,null,null,null,"Total Sequences in Block Summary",{"$f":"SUM(U7:U14)","v":8},null,null,null,"Total Sequences in Block Summary",{"$f":"SUM(Z7:Z14)","v":7},null,null,null,"Total Sequences in Block Summary",{"$f":"SUM(AE7:AE14)","v":8},null,null,null,"Total Sequences in Block Summary",{"$f":"SUM(AJ7:AJ14)","v":8},null,null,null,"Total Sequences in Block Summary",{"$f":"SUM(AO7:AO14)","v":7},null,null,null,"Total Sequences in Block Summary",{"$f":"SUM(AT7:AT14)","v":8}]
[null,null,null,null,null,null,null,null,null,null,null,null,null,null,null,null,null,null,null,"Block 1",null,null,null,null,"Block 2",null,null,null,null,"Block 3",null,null,null,null,"Block 4",null,null,null,null,"Block 5",null,null,null,null,"Block 6"]
["Sequence\nComponent\n1","Time\n1","Sequence\nComponent\n2","Time\n2","Sequence\nComponent\n3","Time\n3","Sequence\nComponent\n4","Time\n4","Sequence\nComponent\n5","Time\n5","Correct?\n0=No 1=Yes","Sequence",null,"Frequency",null,"Relative Frequency","Variability",null,null,"Frequency",null,"Relative Frequency","Variability",null,"Frequency",null,"Relative Frequency","Variability",null,"Frequency",null,"Relative Frequency","Variability",null,"Frequency",null,"Relative Frequency","Variability",null,"Frequency",null,"Relative Frequency","Variability",null,"Frequency",null,"Relative Frequency","Variability"]
[11,24,22,33,23,48,null,null,null,null,0,122,null,111,{"$f":"COUNTIF($L$7:$L$500,N7)","v":1},{"$f":"O7/$Q$4","v":2.1739130434782608E-2},{"$f":"IF(P7=0,0,(P7*((LOG(P7))/LOG(2))))","v":-0.12007743382732637},null,null,{"$f":"N7","v":111},{"$f":"COUNTIF(L7:L14,T7)","v":0},{"$f":"U7/(W4-U10)","v":0},{"$f":"IF(V7=0,0,(V7*((LOG(V7))/LOG(2))))","v":0},null,{"$f":"N7","v":111},{"$f":"COUNTIF(L15:L21,Y7)","v":0},{"$f":"Z7/(AB4-Z10)","v":0},{"$f":"IF(AA7=0,0,(AA7*((LOG(AA7))/LOG(2))))","v":0},null,{"$f":"N7","v":111},{"$f":"COUNTIF(L22:L29,AD7)","v":0},{"$f":"AE7/(AG4-AE10)","v":0},{"$f":"IF(AF7=0,0,(AF7*((LOG(AF7))/LOG(2))))","v":0},null,{"$f":"N7","v":111},{"$f":"COUNTIF(L30:L37,AI7)","v":0},{"$f":"AJ7/(AL4-AJ10)","v":0},{"$f":"IF(AK7=0,0,(AK7*((LOG(AK7))/LOG(2))))","v":0},null,{"$f":"N7","v":111},{"$f":"COUNTIF(L38:L44,AN7)","v":1},{"$f":"AO7/(AQ4-AO10)","v":0.2},{"$f":"IF(AP7=0,0,(AP7*((LOG(AP7))/LOG(2))))","v":-0.46438561897747244},null,{"$f":"N7","v":111},{"$f":"COUNTIF(L45:L52,AS7)","v":0},{"$f":"AT7/(AV4-AT10)","v":0},{"$f":"IF(AU7=0,0,(AU7*((LOG(AU7))/LOG(2))))","v":0}]
[11,158,22,167,23,180,null,null,null,null,0,122,null,112,40,0.86956521739130432,-0.17533379232143528,null,null,112,{"$f":"COUNTIF(L7:L14,T8)","v":5},{"$f":"U8/(W4-U10)","v":1},{"$f":"IF(V8=0,0,(V8*((LOG(V8))/LOG(2))))","v":0},null,112,{"$f":"COUNTIF(L15:L21,Y8)","v":7},{"$f":"Z8/(AB4-Z10)","v":1},{"$f":"IF(AA8=0,0,(AA8*((LOG(AA8))/LOG(2))))","v":0},null,112,{"$f":"COUNTIF(L22:L29,AD8)","v":8},{"$f":"AE8/(AG4-AE10)","v":1},{"$f":"IF(AF8=0,0,(AF8*((LOG(AF8))/LOG(2))))","v":0},null,112,{"$f":"COUNTIF(L30:L37,AI8)","v":8},{"$f":"AJ8/(AL4-AJ10)","v":1},{"$f":"IF(AK8=0,0,(AK8*((LOG(AK8))/LOG(2))))","v":0},null,112,{"$f":"COUNTIF(L38:L44,AN8)","v":4},{"$f":"AO8/(AQ4-AO10)","v":0.8},{"$f":"IF(AP8=0,0,(AP8*((LOG(AP8))/LOG(2))))","v":-0.25754247590988982},null,112,{"$f":"COUNTIF(L45:L52,AS8)","v":8},{"$f":"AT8/(AV4-AT10)","v":1},{"$f":"IF(AU8=0,0,(AU8*((LOG(AU8))/LOG(2))))","v":0}]
[11,279,11,284,21,296,null,null,null,null,0,112,null,121,0,0,0,null,null,121,{"$f":"COUNTIF(L7:L14,T9)","v":0},{"$f":"U9/(W4-U10)","v":0},{"$f":"IF(V9=0,0,(V9*((LOG(V9))/LOG(2))))","v":0},null,121,{"$f":"COUNTIF(L15:L21,Y9)","v":0},{"$f":"Z9/(AB4-Z10)","v":0},{"$f":"IF(AA9=0,0,(AA9*((LOG(AA9))/LOG(2))))","v":0},null,121,{"$f":"COUNTIF(L22:L29,AD9)","v":0},{"$f":"AE9/(AG4-AE10)","v":0},{"$f":"IF(AF9=0,0,(AF9*((LOG(AF9))/LOG(2))))","v":0},null,121,{"$f":"COUNTIF(L30:L37,AI9)","v":0},{"$f":"AJ9/(AL4-AJ10)","v":0},{"$f":"IF(AK9=0,0,(AK9*((LOG(AK9))/LOG(2))))","v":0},null,121,{"$f":"COUNTIF(L38:L44,AN9)","v":0},{"$f":"AO9/(AQ4-AO10)","v":0},{"$f":"IF(AP9=0,0,(AP9*((LOG(AP9))/LOG(2))))","v":0},null,121,{"$f":"COUNTIF(L45:L52,AS9)","v":0},{"$f":"AT9/(AV4-AT10)","v":0},{"$f":"IF(AU9=0,0,(AU9*((LOG(AU9))/LOG(2))))","v":0}]
[11,389,11,399,21,433,null,null,null,null,0,112,null,122,5,0.10869565217391304,-0.34800368056191849,null,null,122,{"$f":"COUNTIF(L7:L14,T10)","v":3},null,null,null,122,{"$f":"COUNTIF(L15:L21,Y10)","v":0},null,null,null,122,{"$f":"COUNTIF(L22:L29,AD10)","v":0},null,null,null,122,{"$f":"COUNTIF(L30:L37,AI10)","v":0},null,null,null,122,{"$f":"COUNTIF(L38:L44,AN10)","v":2},null,null,null,122,{"$f":"COUNTIF(L45:L52,AS10)","v":0}]
[11,523,11,532,21,541,null,null,null,null,0,112,null,211,0,0,0,null,null,211,{"$f":"COUNTIF(L7:L14,T11)","v":0},{"$f":"U11/(W4-U10)","v":0},{"$f":"IF(V11=0,0,(V11*((LOG(V11))/LOG(2))))","v":0},null,211,{"$f":"COUNTIF(L15:L21,Y11)","v":0},{"$f":"Z11/(AB4-Z10)","v":0},{"$f":"IF(AA11=0,0,(AA11*((LOG(AA11))/LOG(2))))","v":0},null,211,{"$f":"COUNTIF(L22:L29,AD11)","v":0},{"$f":"AE11/(AG4-AE10)","v":0},{"$f":"IF(AF11=0,0,(AF11*((LOG(AF11))/LOG(2))))","v":0},null,211,{"$f":"COUNTIF(L30:L37,AI11)","v":0},{"$f":"AJ11/(AL4-AJ10)","v":0},{"$f":"IF(AK11=0,0,(AK11*((LOG(AK11))/LOG(2))))","v":0},null,211,{"$f":"COUNTIF(L38:L44,AN11)","v":0},{"$f":"AO11/(AQ4-AO10)","v":0},{"$f":"IF(AP11=0,0,(AP11*((LOG(AP11))/LOG(2))))","v":0},null,211,{"$f":"COUNTIF(L45:L52,AS11)","v":0},{"$f":"AT11/(AV4-AT10)","v":0},{"$f":"IF(AU11=0,0,(AU11*((LOG(AU11))/LOG(2))))","v":0}]
[11,634,11,640,21,650,null,null,null,null,0,112,null,212,0,0,0,null,null,212,{"$f":"COUNTIF(L7:L14,T12)","v":0},{"$f":"U12/(W4-U10)","v":0},{"$f":"IF(V12=0,0,(V12*((LOG(V12))/LOG(2))))","v":0},null,212,{"$f":"COUNTIF(L15:L21,Y12)","v":0},{"$f":"Z12/(AB4-Z10)","v":0},{"$f":"IF(AA12=0,0,(AA12*((LOG(AA12))/LOG(2))))","v":0},null,212,{"$f":"COUNTIF(L22:L29,AD12)","v":0},{"$f":"AE12/(AG4-AE10)","v":0},{"$f":"IF(AF12=0,0,(AF12*((LOG(AF12))/LOG(2))))","v":0},null,212,{"$f":"COUNTIF(L30:L37,AI12)","v":0},{"$f":"AJ12/(AL4-AJ10)","v":0},{"$f":"IF(AK12=0,0,(AK12*((LOG(AK12))/LOG(2))))","v":0},null,212,{"$f":"COUNTIF(L38:L44,AN12)","v":0},{"$f":"AO12/(AQ4-AO10)","v":0},{"$f":"IF(AP12=0,0,(AP12*((LOG(AP12))/LOG(2))))","v":0},null,212,{"$f":"COUNTIF(L45:L52,AS12)","v":0},{"$f":"AT12/(AV4-AT10)","v":0},{"$f":"IF(AU12=0,0,(AU12*((LOG(AU12))/LOG(2))))","v":0}]
[11,743,22,753,23,774,null,null,null,null,0,122,null,221,0,0,0,null,null,221,{"$f":"COUNTIF(L7:L14,T13)","v":0},{"$f":"U13/(W4-U10)","v":0},{"$f":"IF(V13=0,0,(V13*((LOG(V13))/LOG(2))))","v":0},null,221,{"$f":"COUNTIF(L15:L21,Y13)","v":0},{"$f":"Z13/(AB4-Z10)","v":0},{"$f":"IF(AA13=0,0,(AA13*((LOG(AA13))/LOG(2))))","v":0},null,221,{"$f":"COUNTIF(L22:L29,AD13)","v":0},{"$f":"AE13/(AG4-AE10)","v":0},{"$f":"IF(AF13=0,0,(AF13*((LOG(AF13))/LOG(2))))","v":0},null,221,{"$f":"COUNTIF(L30:L37,AI13)","v":0},{"$f":"AJ13/(AL4-AJ10)","v":0},{"$f":"IF(AK13=0,0,(AK13*((LOG(AK13))/LOG(2))))","v":0},null,221,{"$f":"COUNTIF(L38:L44,AN13)","v":0},{"$f":"AO13/(AQ4-AO10)","v":0},{"$f":"IF(AP13=0,0,(AP13*((LOG(AP13))/LOG(2))))","v":0},null,221,{"$f":"COUNTIF(L45:L52,AS13)","v":0},{"$f":"AT13/(AV4-AT10)","v":0},{"$f":"IF(AU13=0,0,(AU13*((LOG(AU13))/LOG(2))))","v":0}]
[11,872,11,877,21,887,null,null,null,null,0,112,null,222,0,0,0,null,null,222,{"$f":"COUNTIF(L7:L14,T14)","v":0},{"$f":"U14/(W4-U10)","v":0},{"$f":"IF(V14=0,0,(V14*((LOG(V14))/LOG(2))))","v":0},null,222,{"$f":"COUNTIF(L15:L21,Y14)","v":0},{"$f":"Z14/(AB4-Z10)","v":0},{"$f":"IF(AA14=0,0,(AA14*((LOG(AA14))/LOG(2))))","v":0},null,222,{"$f":"COUNTIF(L22:L29,AD14)","v":0},{"$f":"AE14/(AG4-AE10)","v":0},{"$f":"IF(AF14=0,0,(AF14*((LOG(AF14))/LOG(2))))","v":0},null,222,{"$f":"COUNTIF(L30:L37,AI14)","v":0},{"$f":"AJ14/(AL4-AJ10)","v":0},{"$f":"IF(AK14=0,0,(AK14*((LOG(AK14))/LOG(2))))","v":0},null,222,{"$f":"COUNTIF(L38:L44,AN14)","v":0},{"$f":"AO14/(AQ4-AO10)","v":0},{"$f":"IF(AP14=0,0,(AP14*((LOG(AP14))/LOG(2))))","v":0},null,222,{"$f":"COUNTIF(L45:L52,AS14)","v":0},{"$f":"AT14/(AV4-AT10)","v":0},{"$f":"IF(AU14=0,0,(AU14*((LOG(AU14))/LOG(2))))","v":0}]
[11,980,11,984,21,993,null,null,null,null,0,112,null,null,null,{"$f":"SUM(P7:P14)","v":1},{"$f":"-SUM(Q7:Q14)","v":0.64341490671068013},null,null,null,null,{"$f":"SUM(V7:V14)","v":1},{"$f":"-SUM(W7:W14)","v":0},null,null,null,{"$f":"SUM(AA7:AA14)","v":1},{"$f":"-SUM(AB7:AB14)","v":0},null,null,null,{"$f":"SUM(AF7:AF14)","v":1},{"$f":"-SUM(AG7:AG14)","v":0},null,null,null,{"$f":"SUM(AK7:AK14)","v":1},{"$f":"-SUM(AL7:AL14)","v":0},null,null,null,{"$f":"SUM(AP7:AP14)","v":1},{"$f":"-SUM(AQ7:AQ14)","v":0.72192809488736231},null,null,null,{"$f":"SUM(AU7:AU14)","v":1},{"$f":"-SUM(AV7:AV14)","v":0}]
[11,1081,11,1086,21,1094,null,null,null,null,0,112,null,null,null,"U=",{"$f":"Q15/(LOG(Q4)/LOG(2))","v":0.11648550551788885},null,null,null,null,"U1=",{"$f":"W15/(LOG(W4)/LOG(2))","v":0},null,null,null,"U2=",{"$f":"AB15/(LOG(AB4)/LOG(2))","v":0},null,null,null,"U3=",{"$f":"AG15/(LOG(AG4)/LOG(2))","v":0},null,null,null,"U4=",{"$f":"AL15/(LOG(AL4)/LOG(2))","v":0},null,null,null,"U5=",{"$f":"AQ15/(LOG(AQ4)/LOG(2))","v":0.25715597597408063},null,null,null,"U6=",{"$f":"AV15/(LOG(AV4)/LOG(2))","v":0}]
[11,1180,11,1185,21,1194,null,null,null,null,0,112]
[11,1280,11,1285,21,1294,null,null,null,null,0,112]
[11,1382,11,1390,21,1405,null,null,null,null,0,112,null,"Total Target Seq"]
[11,1496,11,1501,21,1511,null,null,null,null,0,112,null,{"$f":"COUNTIF(L7:L52,G3)","v":5},null,8,7,8,8,7,8]
[11,1598,11,1603,21,1612,null,null,null,null,0,112,null,null,null,"% of reinforcement given in 6 equal intervals based on number of trials "]
[11,1699,11,1704,21,1714,null,null,null,null,0,112,null,null,null,"%_1","%_2","%_3","%_4","%_5","%_6"]
[11,1801,11,1809,21,1837,null,null,null,null,0,112,null,null,"target sequence",{"$f":"$G$3","v":122},122,122,122,122,122]
[11,1925,11,1932,21,1941,null,null,null,null,0,112,null,null,"total reinforcement",{"$f":"U10","v":3},{"$f":"Z10","v":0},{"$f":"AE10","v":0},{"$f":"AJ10","v":0},{"$f":"AO10","v":2},{"$f":"AT10","v":0}]
[11,2030,11,2034,21,2050,null,null,null,null,0,112,null,null,"% target"]
[11,2137,11,2142,21,2151,null,null,null,null,0,112,null,null,"CCRF"]
[11,2243,11,2247,21,2257,null,null,null,null,0,112,null,null,"% CCRf"]
[11,2342,11,2347,21,2357,null,null,null,null,0,112,null,null,"average response rate",{"$f":"F14/P20","v":110.875},{"$f":"(F21-F14)/Q20","v":103.57142857142857},{"$f":"(F29-F21)/R20","v":106.625},{"$f":"(F37-F29)/S20","v":112.25},{"$f":"(F44-F37)/T20","v":125.42857142857143},{"$f":"(F52-F44)/U20","v":110.125}]
[11,2443,11,2447,21,2465,null,null,null,null,0,112]
[11,2553,11,2557,21,2567,null,null,null,null,0,112]
[11,2653,11,2662,21,2670,null,null,null,null,0,112]
[11,2760,11,2765,21,2773,null,null,null,null,0,112]
[11,2861,11,2867,21,2905,null,null,null,null,0,112]
[11,2992,11,2999,21,3009,null,null,null,null,0,112]
[11,3097,11,3103,21,3119,null,null,null,null,0,112]
[11,3206,11,3211,21,3258,null,null,null,null,0,112]
[11,3349,11,3354,21,3363,null,null,null,null,0,112]
[11,3448,11,3457,21,3466,null,null,null,null,0,112]
[11,3557,11,3561,21,3570,null,null,null,null,0,112]
[11,3658,11,3665,21,3715,null,null,null,null,0,112]
[11,3805,11,3810,12,3815,null,null,null,null,0,111]
[11,3929,22,3939,23,3995,null,null,null,null,0,122]
[11,4096,22,4108,23,4124,null,null,null,null,0,122]
[11,4223,11,4231,21,4241,null,null,null,null,0,112]
[11,4331,11,4336,21,4346,null,null,null,null,0,112]
[11,4434,11,4449,21,4458,null,null,null,null,0,112]
[11,4545,11,4553,21,4571,null,null,null,null,0,112]
[11,4657,11,4661,21,4671,null,null,null,null,0,112]
[11,4761,11,4766,21,4782,null,null,null,null,0,112]
[11,4871,11,4880,21,4899,null,null,null,null,0,112]
[11,4987,11,4996,21,5005,null,null,null,null,0,112]
[11,5094,11,5099,21,5122,null,null,null,null,1,112]

{"sheet":"!L817B10.056","index":22,"n_rows":56,"n_cols":48,"rows_kept":56,"cut":false,"hidden":false,"merged":[[1,1,1,2],[5,13,5,14],[18,13,18,14],[19,13,19,14],[4,19,4,22],[5,19,5,20],[4,39,4,42],[5,39,5,40],[4,44,4,47],[5,44,5,45],[4,24,4,27],[5,24,5,25],[4,29,4,32],[5,29,5,30],[4,34,4,37],[5,34,5,35]]}
["Report for:!L817B10.056"]
["Date:","<date>"]
["Hen:","<hen>",null,null,null,"Correct Sequence",{"$f":"Start!J2","v":122},null,null,null,null,null,null,null,null,"Total Sequences in Data",{"$f":"4994-COUNTBLANK(L7:L5000)","v":50},null,null,null,null,"Total Sequences in Block Data",{"$f":"COUNTA(L7:L14)","v":8},null,null,null,"Total Sequences in Block Data",{"$f":"COUNTA(L15:L23)","v":9},null,null,null,"Total Sequences in Block Data",{"$f":"COUNTA(L24:L31)","v":8},null,null,null,"Total Sequences in Block Data",{"$f":"COUNTA(L32:L39)","v":8},null,null,null,"Total Sequences in Block Data",{"$f":"COUNTA(L40:L48)","v":9},null,null,null,"Total Sequences in Block Data",{"$f":"COUNTA(L49:L56)","v":8}]
[null,null,null,null,null,null,null,null,null,null,null,null,null,null,null,"Total Sequences in Summary",{"$f":"SUM(O7:O14)","v":50},null,null,null,null,"Total Sequences in Block Summary",{"$f":"SUM(U7:U14)","v":8},null,null,null,"Total Sequences in Block Summary",{"$f":"SUM(Z7:Z14)","v":9},null,null,null,"Total Sequences in Block Summary",{"$f":"SUM(AE7:AE14)","v":8},null,null,null,"Total Sequences in Block Summary",{"$f":"SUM(AJ7:AJ14)","v":8},null,null,null,"Total Sequences in Block Summary",{"$f":"SUM(AO7:AO14)","v":9},null,null,null,"Total Sequences in Block Summary",{"$f":"SUM(AT7:AT14)","v":8}]
[null,null,null,null,null,null,null,null,null,null,null,null,null,null,null,null,null,null,null,"Block 1",null,null,null,null,"Block 2",null,null,null,null,"Block 3",null,null,null,null,"Block 4",null,null,null,null,"Block 5",null,null,null,null,"Block 6"]
["Sequence\nComponent\n1","Time\n1","Sequence\nComponent\n2","Time\n2","Sequence\nComponent\n3","Time\n3","Sequence\nComponent\n4","Time\n4","Sequence\nComponent\n5","Time\n5","Correct?\n0=No 1=Yes","Sequence",null,"Frequency",null,"Relative Frequency","Variability",null,null,"Frequency",null,"Relative Frequency","Variability",null,"Frequency",null,"Relative Frequency","Variability",null,"Frequency",null,"Relative Frequency","Variability",null,"Frequency",null,"Relative Frequency","Variability",null,"Frequency",null,"Relative Frequency","Variability",null,"Frequency",null,"Relative Frequency","Variability"]
[11,14,11,21,21,33,null,null,null,null,0,112,null,111,{"$f":"COUNTIF($L$7:$L$500,N7)","v":3},{"$f":"O7/$Q$4","v":0.06},{"$f":"IF(P7=0,0,(P7*((LOG(P7))/LOG(2))))","v":-0.2435336213432141},null,null,{"$f":"N7","v":111},{"$f":"COUNTIF(L7:L14,T7)","v":0},{"$f":"U7/(W4-U10)","v":0},{"$f":"IF(V7=0,0,(V7*((LOG(V7))/LOG(2))))","v":0},null,{"$f":"N7","v":111},{"$f":"COUNTIF(L15:L23,Y7)","v":1},{"$f":"Z7/(AB4-Z10)","v":0.14285714285714285},{"$f":"IF(AA7=0,0,(AA7*((LOG(AA7))/LOG(2))))","v":-0.40105070315108626},null,{"$f":"N7","v":111},{"$f":"COUNTIF(L24:L31,AD7)","v":1},{"$f":"AE7/(AG4-AE10)","v":0.125},{"$f":"IF(AF7=0,0,(AF7*((LOG(AF7))/LOG(2))))","v":-0.375},null,{"$f":"N7","v":111},{"$f":"COUNTIF(L32:L39,AI7)","v":0},{"$f":"AJ7/(AL4-AJ10)","v":0},{"$f":"IF(AK7=0,0,(AK7*((LOG(AK7))/LOG(2))))","v":0},null,{"$f":"N7","v":111},{"$f":"COUNTIF(L40:L48,AN7)","v":0},{"$f":"AO7/(AQ4-AO10)","v":0},{"$f":"IF(AP7=0,0,(AP7*((LOG(AP7))/LOG(2))))","v":0},null,{"$f":"N7","v":111},{"$f":"COUNTIF(L49:L56,AS7)","v":1},{"$f":"AT7/(AV4-AT10)","v":0.16666666666666666},{"$f":"IF(AU7=0,0,(AU7*((LOG(AU7))/LOG(2))))","v":-0.43082708345352599}]
[11,124,11,129,21,140,null,null,null,null,0,112,null,112,40,0.8,-0.25754247590988982,null,null,112,{"$f":"COUNTIF(L7:L14,T8)","v":7},{"$f":"U8/(W4-U10)","v":1},{"$f":"IF(V8=0,0,(V8*((LOG(V8))/LOG(2))))","v":0},null,112,{"$f":"COUNTIF(L15:L23,Y8)","v":6},{"$f":"Z8/(AB4-Z10)","v":0.8571428571428571},{"$f":"IF(AA8=0,0,(AA8*((LOG(AA8))/LOG(2))))","v":-0.19062207543124113},null,112,{"$f":"COUNTIF(L24:L31,AD8)","v":7},{"$f":"AE8/(AG4-AE10)","v":0.875},{"$f":"IF(AF8=0,0,(AF8*((LOG(AF8))/LOG(2))))","v":-0.1685644431995964},null,112,{"$f":"COUNTIF(L32:L39,AI8)","v":8},{"$f":"AJ8/(AL4-AJ10)","v":1},{"$f":"IF(AK8=0,0,(AK8*((LOG(AK8))/LOG(2))))","v":0},null,112,{"$f":"COUNTIF(L40:L48,AN8)","v":8},{"$f":"AO8/(AQ4-AO10)","v":1},{"$f":"IF(AP8=0,0,(AP8*((LOG(AP8))/LOG(2))))","v":0},null,112,{"$f":"COUNTIF(L49:L56,AS8)","v":4},{"$f":"AT8/(AV4-AT10)","v":0.66666666666666663},{"$f":"IF(AU8=0,0,(AU8*((LOG(AU8))/LOG(2))))","v":-0.38997500048077083}]
[11,229,11,234,21,246,null,null,null,null,0,112,null,121,1,0.02,-0.11287712379549449,null,null,121,{"$f":"COUNTIF(L7:L14,T9)","v":0},{"$f":"U9/(W4-U10)","v":0},{"$f":"IF(V9=0,0,(V9*((LOG(V9))/LOG(2))))","v":0},null,121,{"$f":"COUNTIF(L15:L23,Y9)","v":0},{"$f":"Z9/(AB4-Z10)","v":0},{"$f":"IF(AA9=0,0,(AA9*((LOG(AA9))/LOG(2))))","v":0},null,121,{"$f":"COUNTIF(L24:L31,AD9)","v":0},{"$f":"AE9/(AG4-AE10)","v":0},{"$f":"IF(AF9=0,0,(AF9*((LOG(AF9))/LOG(2))))","v":0},null,121,{"$f":"COUNTIF(L32:L39,AI9)","v":0},{"$f":"AJ9/(AL4-AJ10)","v":0},{"$f":"IF(AK9=0,0,(AK9*((LOG(AK9))/LOG(2))))","v":0},null,121,{"$f":"COUNTIF(L40:L48,AN9)","v":0},{"$f":"AO9/(AQ4-AO10)","v":0},{"$f":"IF(AP9=0,0,(AP9*((LOG(AP9))/LOG(2))))","v":0},null,121,{"$f":"COUNTIF(L49:L56,AS9)","v":1},{"$f":"AT9/(AV4-AT10)","v":0.16666666666666666},{"$f":"IF(AU9=0,0,(AU9*((LOG(AU9))/LOG(2))))","v":-0.43082708345352599}]
[11,336,11,342,21,353,null,null,null,null,0,112,null,122,6,0.12,-0.36706724268642821,null,null,122,{"$f":"COUNTIF(L7:L14,T10)","v":1},null,null,null,122,{"$f":"COUNTIF(L15:L23,Y10)","v":2},null,null,null,122,{"$f":"COUNTIF(L24:L31,AD10)","v":0},null,null,null,122,{"$f":"COUNTIF(L32:L39,AI10)","v":0},null,null,null,122,{"$f":"COUNTIF(L40:L48,AN10)","v":1},null,null,null,122,{"$f":"COUNTIF(L49:L56,AS10)","v":2}]
[11,442,11,449,21,461,null,null,null,null,0,112,null,211,0,0,0,null,null,211,{"$f":"COUNTIF(L7:L14,T11)","v":0},{"$f":"U11/(W4-U10)","v":0},{"$f":"IF(V11=0,0,(V11*((LOG(V11))/LOG(2))))","v":0},null,211,{"$f":"COUNTIF(L15:L23,Y11)","v":0},{"$f":"Z11/(AB4-Z10)","v":0},{"$f":"IF(AA11=0,0,(AA11*((LOG(AA11))/LOG(2))))","v":0},null,211,{"$f":"COUNTIF(L24:L31,AD11)","v":0},{"$f":"AE11/(AG4-AE10)","v":0},{"$f":"IF(AF11=0,0,(AF11*((LOG(AF11))/LOG(2))))","v":0},null,211,{"$f":"COUNTIF(L32:L39,AI11)","v":0},{"$f":"AJ11/(AL4-AJ10)","v":0},{"$f":"IF(AK11=0,0,(AK11*((LOG(AK11))/LOG(2))))","v":0},null,211,{"$f":"COUNTIF(L40:L48,AN11)","v":0},{"$f":"AO11/(AQ4-AO10)","v":0},{"$f":"IF(AP11=0,0,(AP11*((LOG(AP11))/LOG(2))))","v":0},null,211,{"$f":"COUNTIF(L49:L56,AS11)","v":0},{"$f":"AT11/(AV4-AT10)","v":0},{"$f":"IF(AU11=0,0,(AU11*((LOG(AU11))/LOG(2))))","v":0}]
[11,550,11,557,21,568,null,null,null,null,0,112,null,212,0,0,0,null,null,212,{"$f":"COUNTIF(L7:L14,T12)","v":0},{"$f":"U12/(W4-U10)","v":0},{"$f":"IF(V12=0,0,(V12*((LOG(V12))/LOG(2))))","v":0},null,212,{"$f":"COUNTIF(L15:L23,Y12)","v":0},{"$f":"Z12/(AB4-Z10)","v":0},{"$f":"IF(AA12=0,0,(AA12*((LOG(AA12))/LOG(2))))","v":0},null,212,{"$f":"COUNTIF(L24:L31,AD12)","v":0},{"$f":"AE12/(AG4-AE10)","v":0},{"$f":"IF(AF12=0,0,(AF12*((LOG(AF12))/LOG(2))))","v":0},null,212,{"$f":"COUNTIF(L32:L39,AI12)","v":0},{"$f":"AJ12/(AL4-AJ10)","v":0},{"$f":"IF(AK12=0,0,(AK12*((LOG(AK12))/LOG(2))))","v":0},null,212,{"$f":"COUNTIF(L40:L48,AN12)","v":0},{"$f":"AO12/(AQ4-AO10)","v":0},{"$f":"IF(AP12=0,0,(AP12*((LOG(AP12))/LOG(2))))","v":0},null,212,{"$f":"COUNTIF(L49:L56,AS12)","v":0},{"$f":"AT12/(AV4-AT10)","v":0},{"$f":"IF(AU12=0,0,(AU12*((LOG(AU12))/LOG(2))))","v":0}]
[11,657,11,662,21,685,null,null,null,null,0,112,null,221,0,0,0,null,null,221,{"$f":"COUNTIF(L7:L14,T13)","v":0},{"$f":"U13/(W4-U10)","v":0},{"$f":"IF(V13=0,0,(V13*((LOG(V13))/LOG(2))))","v":0},null,221,{"$f":"COUNTIF(L15:L23,Y13)","v":0},{"$f":"Z13/(AB4-Z10)","v":0},{"$f":"IF(AA13=0,0,(AA13*((LOG(AA13))/LOG(2))))","v":0},null,221,{"$f":"COUNTIF(L24:L31,AD13)","v":0},{"$f":"AE13/(AG4-AE10)","v":0},{"$f":"IF(AF13=0,0,(AF13*((LOG(AF13))/LOG(2))))","v":0},null,221,{"$f":"COUNTIF(L32:L39,AI13)","v":0},{"$f":"AJ13/(AL4-AJ10)","v":0},{"$f":"IF(AK13=0,0,(AK13*((LOG(AK13))/LOG(2))))","v":0},null,221,{"$f":"COUNTIF(L40:L48,AN13)","v":0},{"$f":"AO13/(AQ4-AO10)","v":0},{"$f":"IF(AP13=0,0,(AP13*((LOG(AP13))/LOG(2))))","v":0},null,221,{"$f":"COUNTIF(L49:L56,AS13)","v":0},{"$f":"AT13/(AV4-AT10)","v":0},{"$f":"IF(AU13=0,0,(AU13*((LOG(AU13))/LOG(2))))","v":0}]
[11,780,22,800,23,826,null,null,null,null,0,122,null,222,0,0,0,null,null,222,{"$f":"COUNTIF(L7:L14,T14)","v":0},{"$f":"U14/(W4-U10)","v":0},{"$f":"IF(V14=0,0,(V14*((LOG(V14))/LOG(2))))","v":0},null,222,{"$f":"COUNTIF(L15:L23,Y14)","v":0},{"$f":"Z14/(AB4-Z10)","v":0},{"$f":"IF(AA14=0,0,(AA14*((LOG(AA14))/LOG(2))))","v":0},null,222,{"$f":"COUNTIF(L24:L31,AD14)","v":0},{"$f":"AE14/(AG4-AE10)","v":0},{"$f":"IF(AF14=0,0,(AF14*((LOG(AF14))/LOG(2))))","v":0},null,222,{"$f":"COUNTIF(L32:L39,AI14)","v":0},{"$f":"AJ14/(AL4-AJ10)","v":0},{"$f":"IF(AK14=0,0,(AK14*((LOG(AK14))/LOG(2))))","v":0},null,222,{"$f":"COUNTIF(L40:L48,AN14)","v":0},{"$f":"AO14/(AQ4-AO10)","v":0},{"$f":"IF(AP14=0,0,(AP14*((LOG(AP14))/LOG(2))))","v":0},null,222,{"$f":"COUNTIF(L49:L56,AS14)","v":0},{"$f":"AT14/(AV4-AT10)","v":0},{"$f":"IF(AU14=0,0,(AU14*((LOG(AU14))/LOG(2))))","v":0}]
[11,940,22,950,23,968,null,null,null,null,0,122,null,null,null,{"$f":"SUM(P7:P14)","v":1},{"$f":"-SUM(Q7:Q14)","v":0.9810204637350266},null,null,null,null,{"$f":"SUM(V7:V14)","v":1},{"$f":"-SUM(W7:W14)","v":0},null,null,null,{"$f":"SUM(AA7:AA14)","v":1},{"$f":"-SUM(AB7:AB14)","v":0.59167277858232736},null,null,null,{"$f":"SUM(AF7:AF14)","v":1},{"$f":"-SUM(AG7:AG14)","v":0.5435644431995964},null,null,null,{"$f":"SUM(AK7:AK14)","v":1},{"$f":"-SUM(AL7:AL14)","v":0},null,null,null,{"$f":"SUM(AP7:AP14)","v":1},{"$f":"-SUM(AQ7:AQ14)","v":0},null,null,null,{"$f":"SUM(AU7:AU14)","v":0.99999999999999989},{"$f":"-SUM(AV7:AV14)","v":1.2516291673878228}]
[11,1066,11,1071,21,1082,null,null,null,null,0,112,null,null,null,"U=",{"$f":"Q15/(LOG(Q4)/LOG(2))","v":0.17382095339572856},null,null,null,null,"U1=",{"$f":"W15/(LOG(W4)/LOG(2))","v":0},null,null,null,"U2=",{"$f":"AB15/(LOG(AB4)/LOG(2))","v":0.18665198019294366},null,null,null,"U3=",{"$f":"AG15/(LOG(AG4)/LOG(2))","v":0.1811881477331988},null,null,null,"U4=",{"$f":"AL15/(LOG(AL4)/LOG(2))","v":0},null,null,null,"U5=",{"$f":"AQ15/(LOG(AQ4)/LOG(2))","v":0},null,null,null,"U6=",{"$f":"AV15/(LOG(AV4)/LOG(2))","v":0.41720972246260762}]
[11,1174,11,1178,21,1189,null,null,null,null,0,112]
[11,1279,11,1284,21,1295,null,null,null,null,0,112]
[11,1385,11,1395,21,1406,null,null,null,null,0,112,null,"Total Target Seq"]
[11,1497,11,1504,21,1514,null,null,null,null,0,112,null,{"$f":"COUNTIF(L7:L56,G3)","v":6},null,8,9,8,8,9,8]
[11,1614,22,1624,23,1637,null,null,null,null,0,122,null,null,null,"% of reinforcement given in 6 equal intervals based on number of trials "]
[11,1737,11,1742,12,1746,null,null,null,null,0,111,null,null,null,"%_1","%_2","%_3","%_4","%_5","%_6"]
[11,1847,11,1852,21,1862,null,null,null,null,0,112,null,null,"target sequence",{"$f":"$G$3","v":122},122,122,122,122,122]
[11,1947,11,1954,12,1958,null,null,null,null,0,111,null,null,"total reinforcement",{"$f":"U10","v":1},{"$f":"Z10","v":2},{"$f":"AE10","v":0},{"$f":"AJ10","v":0},{"$f":"AO10","v":1},{"$f":"AT10","v":2}]
[11,2055,11,2064,21,2077,null,null,null,null,0,112,null,null,"% target"]
[11,2168,11,2173,21,2183,null,null,null,null,0,112,null,null,"CCRF"]
[11,2272,11,2287,21,2346,null,null,null,null,0,112,null,null,"% CCRf"]
[11,2435,11,2440,21,2474,null,null,null,null,0,112,null,null,"average response rate",{"$f":"F14/P20","v":103.25},{"$f":"(F23-F14)/Q20","v":115.11111111111111},{"$f":"(F31-F23)/R20","v":119.25},{"$f":"(F39-F31)/S20","v":103.875},{"$f":"(F48-F39)/T20","v":106},{"$f":"(F56-F48)/U20","v":118.375}]
[11,2562,11,2566,21,2584,null,null,null,null,0,112]
[11,2670,11,2676,21,2707,null,null,null,null,0,112]
[11,2797,11,2807,21,2816,null,null,null,null,0,112]
[11,2904,11,2909,21,2919,null,null,null,null,0,112]
[11,3005,11,3014,21,3024,null,null,null,null,0,112]
[11,3112,11,3117,21,3134,null,null,null,null,0,112]
[11,3222,11,3226,21,3235,null,null,null,null,0,112]
[11,3323,11,3328,21,3340,null,null,null,null,0,112]
[11,3428,11,3433,21,3443,null,null,null,null,0,112]
[11,3529,11,3534,21,3543,null,null,null,null,0,112]
[11,3629,11,3637,21,3647,null,null,null,null,0,112]
[11,3739,22,3749,23,3763,null,null,null,null,0,122]
[11,3865,11,3869,21,3879,null,null,null,null,0,112]
[11,3967,11,3972,21,3982,null,null,null,null,0,112]
[11,4069,11,4073,21,4084,null,null,null,null,0,112]
[11,4169,11,4174,21,4183,null,null,null,null,0,112]
[11,4276,11,4286,21,4295,null,null,null,null,0,112]
[11,4381,11,4388,21,4397,null,null,null,null,0,112]
[11,4482,11,4488,21,4497,null,null,null,null,0,112]
[11,4586,11,4591,21,4601,null,null,null,null,0,112]
[11,4688,11,4693,21,4702,null,null,null,null,0,112]
[11,4790,22,4801,14,4837,null,null,null,null,0,121]
[11,4943,22,4952,23,4966,null,null,null,null,0,122]
[11,5072,22,5082,23,5092,null,null,null,null,0,122]
[11,5191,11,5196,21,5207,null,null,null,null,0,112]
[11,5295,11,5300,21,5339,null,null,null,null,0,112]
[11,5427,11,5432,12,5437,null,null,null,null,0,111]
[11,5533,11,5539,21,5548,null,null,null,null,1,112]

{"sheet":"!L818E10.056","index":23,"n_rows":59,"n_cols":48,"rows_kept":59,"cut":false,"hidden":false,"merged":[[1,1,1,2],[5,13,5,14],[18,13,18,14],[19,13,19,14],[4,19,4,22],[5,19,5,20],[4,39,4,42],[5,39,5,40],[4,44,4,47],[5,44,5,45],[4,24,4,27],[5,24,5,25],[4,29,4,32],[5,29,5,30],[4,34,4,37],[5,34,5,35]]}
["Report for:!L818E10.056"]
["Date:","<date>"]
["Hen:","<hen>",null,null,null,"Correct Sequence",{"$f":"Start!J2","v":122},null,null,null,null,null,null,null,null,"Total Sequences in Data",{"$f":"4994-COUNTBLANK(L7:L5000)","v":53},null,null,null,null,"Total Sequences in Block Data",{"$f":"COUNTA(L7:L15)","v":9},null,null,null,"Total Sequences in Block Data",{"$f":"COUNTA(L16:L24)","v":9},null,null,null,"Total Sequences in Block Data",{"$f":"COUNTA(L25:L32)","v":8},null,null,null,"Total Sequences in Block Data",{"$f":"COUNTA(L33:L41)","v":9},null,null,null,"Total Sequences in Block Data",{"$f":"COUNTA(L42:L50)","v":9},null,null,null,"Total Sequences in Block Data",{"$f":"COUNTA(L51:L59)","v":9}]
[null,null,null,null,null,null,null,null,null,null,null,null,null,null,null,"Total Sequences in Summary",{"$f":"SUM(O7:O14)","v":53},null,null,null,null,"Total Sequences in Block Summary",{"$f":"SUM(U7:U14)","v":9},null,null,null,"Total Sequences in Block Summary",{"$f":"SUM(Z7:Z14)","v":9},null,null,null,"Total Sequences in Block Summary",{"$f":"SUM(AE7:AE14)","v":8},null,null,null,"Total Sequences in Block Summary",{"$f":"SUM(AJ7:AJ14)","v":9},null,null,null,"Total Sequences in Block Summary",{"$f":"SUM(AO7:AO14)","v":9},null,null,null,"Total Sequences in Block Summary",{"$f":"SUM(AT7:AT14)","v":9}]
[null,null,null,null,null,null,null,null,null,null,null,null,null,null,null,null,null,null,null,"Block 1",null,null,null,null,"Block 2",null,null,null,null,"Block 3",null,null,null,null,"Block 4",null,null,null,null,"Block 5",null,null,null,null,"Block 6"]
["Sequence\nComponent\n1","Time\n1","Sequence\nComponent\n2","Time\n2","Sequence\nComponent\n3","Time\n3","Sequence\nComponent\n4","Time\n4","Sequence\nComponent\n5","Time\n5","Correct?\n0=No 1=Yes","Sequence",null,"Frequency",null,"Relative Frequency","Variability",null,null,"Frequency",null,"Relative Frequency","Variability",null,"Frequency",null,"Relative Frequency","Variability",null,"Frequency",null,"Relative Frequency","Variability",null,"Frequency",null,"Relative Frequency","Variability",null,"Frequency",null,"Relative Frequency","Variability",null,"Frequency",null,"Relative Frequency","Variability"]
[11,11,11,21,21,31,null,null,null,null,0,112,null,111,{"$f":"COUNTIF($L$7:$L$500,N7)","v":6},{"$f":"O7/$Q$4","v":0.11320754716981132},{"$f":"IF(P7=0,0,(P7*((LOG(P7))/LOG(2))))","v":-0.35580656081230677},null,null,{"$f":"N7","v":111},{"$f":"COUNTIF(L7:L15,T7)","v":0},{"$f":"U7/(W4-U10)","v":0},{"$f":"IF(V7=0,0,(V7*((LOG(V7))/LOG(2))))","v":0},null,{"$f":"N7","v":111},{"$f":"COUNTIF(L16:L24,Y7)","v":2},{"$f":"Z7/(AB4-Z10)","v":0.2857142857142857},{"$f":"IF(AA7=0,0,(AA7*((LOG(AA7))/LOG(2))))","v":-0.51638712058788683},null,{"$f":"N7","v":111},{"$f":"COUNTIF(L25:L32,AD7)","v":2},{"$f":"AE7/(AG4-AE10)","v":0.2857142857142857},{"$f":"IF(AF7=0,0,(AF7*((LOG(AF7))/LOG(2))))","v":-0.51638712058788683},null,{"$f":"N7","v":111},{"$f":"COUNTIF(L33:L41,AI7)","v":1},{"$f":"AJ7/(AL4-AJ10)","v":0.1111111111111111},{"$f":"IF(AK7=0,0,(AK7*((LOG(AK7))/LOG(2))))","v":-0.3522138890491458},null,{"$f":"N7","v":111},{"$f":"COUNTIF(L42:L50,AN7)","v":1},{"$f":"AO7/(AQ4-AO10)","v":0.125},{"$f":"IF(AP7=0,0,(AP7*((LOG(AP7))/LOG(2))))","v":-0.375},null,{"$f":"N7","v":111},{"$f":"COUNTIF(L51:L59,AS7)","v":0},{"$f":"AT7/(AV4-AT10)","v":0},{"$f":"IF(AU7=0,0,(AU7*((LOG(AU7))/LOG(2))))","v":0}]
[11,121,11,126,21,145,null,null,null,null,0,112,null,112,40,0.75471698113207553,-0.30640932805723531,null,null,112,{"$f":"COUNTIF(L7:L15,T8)","v":9},{"$f":"U8/(W4-U10)","v":1},{"$f":"IF(V8=0,0,(V8*((LOG(V8))/LOG(2))))","v":0},null,112,{"$f":"COUNTIF(L16:L24,Y8)","v":5},{"$f":"Z8/(AB4-Z10)","v":0.7142857142857143},{"$f":"IF(AA8=0,0,(AA8*((LOG(AA8))/LOG(2))))","v":-0.34673344797874411},null,112,{"$f":"COUNTIF(L25:L32,AD8)","v":5},{"$f":"AE8/(AG4-AE10)","v":0.7142857142857143},{"$f":"IF(AF8=0,0,(AF8*((LOG(AF8))/LOG(2))))","v":-0.34673344797874411},null,112,{"$f":"COUNTIF(L33:L41,AI8)","v":8},{"$f":"AJ8/(AL4-AJ10)","v":0.88888888888888884},{"$f":"IF(AK8=0,0,(AK8*((LOG(AK8))/LOG(2))))","v":-0.15104444572649992},null,112,{"$f":"COUNTIF(L42:L50,AN8)","v":7},{"$f":"AO8/(AQ4-AO10)","v":0.875},{"$f":"IF(AP8=0,0,(AP8*((LOG(AP8))/LOG(2))))","v":-0.1685644431995964},null,112,{"$f":"COUNTIF(L51:L59,AS8)","v":6},{"$f":"AT8/(AV4-AT10)","v":0.8571428571428571},{"$f":"IF(AU8=0,0,(AU8*((LOG(AU8))/LOG(2))))","v":-0.19062207543124113}]
[11,239,11,244,21,271,null,null,null,null,0,112,null,121,1,1.8867924528301886E-2,-0.10807397084081509,null,null,121,{"$f":"COUNTIF(L7:L15,T9)","v":0},{"$f":"U9/(W4-U10)","v":0},{"$f":"IF(V9=0,0,(V9*((LOG(V9))/LOG(2))))","v":0},null,121,{"$f":"COUNTIF(L16:L24,Y9)","v":0},{"$f":"Z9/(AB4-Z10)","v":0},{"$f":"IF(AA9=0,0,(AA9*((LOG(AA9))/LOG(2))))","v":0},null,121,{"$f":"COUNTIF(L25:L32,AD9)","v":0},{"$f":"AE9/(AG4-AE10)","v":0},{"$f":"IF(AF9=0,0,(AF9*((LOG(AF9))/LOG(2))))","v":0},null,121,{"$f":"COUNTIF(L33:L41,AI9)","v":0},{"$f":"AJ9/(AL4-AJ10)","v":0},{"$f":"IF(AK9=0,0,(AK9*((LOG(AK9))/LOG(2))))","v":0},null,121,{"$f":"COUNTIF(L42:L50,AN9)","v":0},{"$f":"AO9/(AQ4-AO10)","v":0},{"$f":"IF(AP9=0,0,(AP9*((LOG(AP9))/LOG(2))))","v":0},null,121,{"$f":"COUNTIF(L51:L59,AS9)","v":1},{"$f":"AT9/(AV4-AT10)","v":0.14285714285714285},{"$f":"IF(AU9=0,0,(AU9*((LOG(AU9))/LOG(2))))","v":-0.40105070315108626}]
[11,363,11,368,21,386,null,null,null,null,0,112,null,122,6,0.11320754716981132,-0.35580656081230677,null,null,122,{"$f":"COUNTIF(L7:L15,T10)","v":0},null,null,null,122,{"$f":"COUNTIF(L16:L24,Y10)","v":2},null,null,null,122,{"$f":"COUNTIF(L25:L32,AD10)","v":1},null,null,null,122,{"$f":"COUNTIF(L33:L41,AI10)","v":0},null,null,null,122,{"$f":"COUNTIF(L42:L50,AN10)","v":1},null,null,null,122,{"$f":"COUNTIF(L51:L59,AS10)","v":2}]
[11,480,11,486,21,511,null,null,null,null,0,112,null,211,0,0,0,null,null,211,{"$f":"COUNTIF(L7:L15,T11)","v":0},{"$f":"U11/(W4-U10)","v":0},{"$f":"IF(V11=0,0,(V11*((LOG(V11))/LOG(2))))","v":0},null,211,{"$f":"COUNTIF(L16:L24,Y11)","v":0},{"$f":"Z11/(AB4-Z10)","v":0},{"$f":"IF(AA11=0,0,(AA11*((LOG(AA11))/LOG(2))))","v":0},null,211,{"$f":"COUNTIF(L25:L32,AD11)","v":0},{"$f":"AE11/(AG4-AE10)","v":0},{"$f":"IF(AF11=0,0,(AF11*((LOG(AF11))/LOG(2))))","v":0},null,211,{"$f":"COUNTIF(L33:L41,AI11)","v":0},{"$f":"AJ11/(AL4-AJ10)","v":0},{"$f":"IF(AK11=0,0,(AK11*((LOG(AK11))/LOG(2))))","v":0},null,211,{"$f":"COUNTIF(L42:L50,AN11)","v":0},{"$f":"AO11/(AQ4-AO10)","v":0},{"$f":"IF(AP11=0,0,(AP11*((LOG(AP11))/LOG(2))))","v":0},null,211,{"$f":"COUNTIF(L51:L59,AS11)","v":0},{"$f":"AT11/(AV4-AT10)","v":0},{"$f":"IF(AU11=0,0,(AU11*((LOG(AU11))/LOG(2))))","v":0}]
[11,601,11,608,21,619,null,null,null,null,0,112,null,212,0,0,0,null,null,212,{"$f":"COUNTIF(L7:L15,T12)","v":0},{"$f":"U12/(W4-U10)","v":0},{"$f":"IF(V12=0,0,(V12*((LOG(V12))/LOG(2))))","v":0},null,212,{"$f":"COUNTIF(L16:L24,Y12)","v":0},{"$f":"Z12/(AB4-Z10)","v":0},{"$f":"IF(AA12=0,0,(AA12*((LOG(AA12))/LOG(2))))","v":0},null,212,{"$f":"COUNTIF(L25:L32,AD12)","v":0},{"$f":"AE12/(AG4-AE10)","v":0},{"$f":"IF(AF12=0,0,(AF12*((LOG(AF12))/LOG(2))))","v":0},null,212,{"$f":"COUNTIF(L33:L41,AI12)","v":0},{"$f":"AJ12/(AL4-AJ10)","v":0},{"$f":"IF(AK12=0,0,(AK12*((LOG(AK12))/LOG(2))))","v":0},null,212,{"$f":"COUNTIF(L42:L50,AN12)","v":0},{"$f":"AO12/(AQ4-AO10)","v":0},{"$f":"IF(AP12=0,0,(AP12*((LOG(AP12))/LOG(2))))","v":0},null,212,{"$f":"COUNTIF(L51:L59,AS12)","v":0},{"$f":"AT12/(AV4-AT10)","v":0},{"$f":"IF(AU12=0,0,(AU12*((LOG(AU12))/LOG(2))))","v":0}]
[11,707,11,712,21,722,null,null,null,null,0,112,null,221,0,0,0,null,null,221,{"$f":"COUNTIF(L7:L15,T13)","v":0},{"$f":"U13/(W4-U10)","v":0},{"$f":"IF(V13=0,0,(V13*((LOG(V13))/LOG(2))))","v":0},null,221,{"$f":"COUNTIF(L16:L24,Y13)","v":0},{"$f":"Z13/(AB4-Z10)","v":0},{"$f":"IF(AA13=0,0,(AA13*((LOG(AA13))/LOG(2))))","v":0},null,221,{"$f":"COUNTIF(L25:L32,AD13)","v":0},{"$f":"AE13/(AG4-AE10)","v":0},{"$f":"IF(AF13=0,0,(AF13*((LOG(AF13))/LOG(2))))","v":0},null,221,{"$f":"COUNTIF(L33:L41,AI13)","v":0},{"$f":"AJ13/(AL4-AJ10)","v":0},{"$f":"IF(AK13=0,0,(AK13*((LOG(AK13))/LOG(2))))","v":0},null,221,{"$f":"COUNTIF(L42:L50,AN13)","v":0},{"$f":"AO13/(AQ4-AO10)","v":0},{"$f":"IF(AP13=0,0,(AP13*((LOG(AP13))/LOG(2))))","v":0},null,221,{"$f":"COUNTIF(L51:L59,AS13)","v":0},{"$f":"AT13/(AV4-AT10)","v":0},{"$f":"IF(AU13=0,0,(AU13*((LOG(AU13))/LOG(2))))","v":0}]
[11,812,11,817,21,847,null,null,null,null,0,112,null,222,0,0,0,null,null,222,{"$f":"COUNTIF(L7:L15,T14)","v":0},{"$f":"U14/(W4-U10)","v":0},{"$f":"IF(V14=0,0,(V14*((LOG(V14))/LOG(2))))","v":0},null,222,{"$f":"COUNTIF(L16:L24,Y14)","v":0},{"$f":"Z14/(AB4-Z10)","v":0},{"$f":"IF(AA14=0,0,(AA14*((LOG(AA14))/LOG(2))))","v":0},null,222,{"$f":"COUNTIF(L25:L32,AD14)","v":0},{"$f":"AE14/(AG4-AE10)","v":0},{"$f":"IF(AF14=0,0,(AF14*((LOG(AF14))/LOG(2))))","v":0},null,222,{"$f":"COUNTIF(L33:L41,AI14)","v":0},{"$f":"AJ14/(AL4-AJ10)","v":0},{"$f":"IF(AK14=0,0,(AK14*((LOG(AK14))/LOG(2))))","v":0},null,222,{"$f":"COUNTIF(L42:L50,AN14)","v":0},{"$f":"AO14/(AQ4-AO10)","v":0},{"$f":"IF(AP14=0,0,(AP14*((LOG(AP14))/LOG(2))))","v":0},null,222,{"$f":"COUNTIF(L51:L59,AS14)","v":0},{"$f":"AT14/(AV4-AT10)","v":0},{"$f":"IF(AU14=0,0,(AU14*((LOG(AU14))/LOG(2))))","v":0}]
[11,937,11,943,21,956,null,null,null,null,0,112,null,null,null,{"$f":"SUM(P7:P14)","v":1},{"$f":"-SUM(Q7:Q14)","v":1.1260964205226638},null,null,null,null,{"$f":"SUM(V7:V14)","v":1},{"$f":"-SUM(W7:W14)","v":0},null,null,null,{"$f":"SUM(AA7:AA14)","v":1},{"$f":"-SUM(AB7:AB14)","v":0.863120568566631},null,null,null,{"$f":"SUM(AF7:AF14)","v":1},{"$f":"-SUM(AG7:AG14)","v":0.863120568566631},null,null,null,{"$f":"SUM(AK7:AK14)","v":1},{"$f":"-SUM(AL7:AL14)","v":0.50325833477564574},null,null,null,{"$f":"SUM(AP7:AP14)","v":1},{"$f":"-SUM(AQ7:AQ14)","v":0.5435644431995964},null,null,null,{"$f":"SUM(AU7:AU14)","v":1},{"$f":"-SUM(AV7:AV14)","v":0.59167277858232736}]
[11,1059,22,1068,23,1080,null,null,null,null,0,122,null,null,null,"U=",{"$f":"Q15/(LOG(Q4)/LOG(2))","v":0.19659777565967226},null,null,null,null,"U1=",{"$f":"W15/(LOG(W4)/LOG(2))","v":0},null,null,null,"U2=",{"$f":"AB15/(LOG(AB4)/LOG(2))","v":0.27228422381410039},null,null,null,"U3=",{"$f":"AG15/(LOG(AG4)/LOG(2))","v":0.28770685618887698},null,null,null,"U4=",{"$f":"AL15/(LOG(AL4)/LOG(2))","v":0.15876032857139011},null,null,null,"U5=",{"$f":"AQ15/(LOG(AQ4)/LOG(2))","v":0.17147549009906393},null,null,null,"U6=",{"$f":"AV15/(LOG(AV4)/LOG(2))","v":0.18665198019294366}]
[11,1181,11,1186,21,1197,null,null,null,null,0,112]
[11,1282,11,1287,21,1309,null,null,null,null,0,112]
[11,1396,11,1400,12,1405,null,null,null,null,0,111,null,"Total Target Seq"]
[11,1503,11,1507,12,1513,null,null,null,null,0,111,null,{"$f":"COUNTIF(L7:L59,G3)","v":6},null,9,9,8,9,9,9]
[11,1613,11,1618,21,1634,null,null,null,null,0,112,null,null,null,"% of reinforcement given in 6 equal intervals based on number of trials "]
[11,1730,22,1740,23,1774,null,null,null,null,0,122,null,null,null,"%_1","%_2","%_3","%_4","%_5","%_6"]
[11,1874,11,1880,21,1889,null,null,null,null,0,112,null,null,"target sequence",{"$f":"$G$3","v":122},122,122,122,122,122]
[11,1975,11,1980,21,1990,null,null,null,null,0,112,null,null,"total reinforcement",{"$f":"U10","v":0},{"$f":"Z10","v":2},{"$f":"AE10","v":1},{"$f":"AJ10","v":0},{"$f":"AO10","v":1},{"$f":"AT10","v":2}]
[11,2077,11,2082,21,2127,null,null,null,null,0,112,null,null,"% target"]
[11,2214,11,2218,12,2227,null,null,null,null,0,111,null,null,"CCRF"]
[11,2325,11,2330,21,2340,null,null,null,null,0,112,null,null,"% CCRf"]
[11,2435,22,2443,23,2472,null,null,null,null,0,122,null,null,"average response rate",{"$f":"F15/P20","v":106.22222222222223},{"$f":"(F24-F15)/Q20","v":114.88888888888889},{"$f":"(F32-F24)/R20","v":134.875},{"$f":"(F41-F32)/S20","v":108.11111111111111},{"$f":"(F50-F41)/T20","v":111.44444444444444},{"$f":"(F59-F50)/U20","v":121.44444444444444}]
[11,2574,11,2579,21,2604,null,null,null,null,0,112]
[11,2695,11,2703,21,2730,null,null,null,null,0,112]
[11,2816,11,2821,21,2860,null,null,null,null,0,112]
[11,2951,11,3064,12,3069,null,null,null,null,0,111]
[11,3165,11,3171,21,3187,null,null,null,null,0,112]
[11,3276,11,3281,21,3297,null,null,null,null,0,112]
[11,3385,11,3389,21,3418,null,null,null,null,0,112]
[11,3510,11,3515,21,3523,null,null,null,null,0,112]
[11,3610,11,3615,21,3624,null,null,null,null,0,112]
[11,3712,11,3716,21,3743,null,null,null,null,0,112]
[11,3827,11,3833,21,3843,null,null,null,null,0,112]
[11,3931,11,3936,21,3947,null,null,null,null,0,112]
[11,4032,11,4038,12,4042,null,null,null,null,0,111]
[11,4140,11,4145,21,4161,null,null,null,null,0,112]
[11,4245,11,4249,12,4254,null,null,null,null,0,111]
[11,4351,11,4356,21,4394,null,null,null,null,0,112]
[11,4485,11,4490,21,4499,null,null,null,null,0,112]
[11,4585,11,4590,21,4611,null,null,null,null,0,112]
[11,4697,11,4704,21,4714,null,null,null,null,0,112]
[11,4802,11,4810,21,4820,null,null,null,null,0,112]
[11,4907,11,4916,21,4925,null,null,null,null,0,112]
[11,5015,22,5024,23,5045,null,null,null,null,0,122]
[11,5144,22,5155,23,5162,null,null,null,null,0,122]
[11,5264,11,5277,21,5294,null,null,null,null,0,112]
[11,5381,11,5386,21,5395,null,null,null,null,0,112]
[11,5484,11,5492,21,5502,null,null,null,null,0,112]
[11,5588,11,5594,21,5631,null,null,null,null,0,112]
[11,5721,22,5731,14,5756,null,null,null,null,0,121]
[11,5859,11,5864,21,5910,null,null,null,null,0,112]
[11,5998,22,6007,23,6021,null,null,null,null,0,122]
[11,6118,11,6128,21,6138,null,null,null,null,1,112]

{"sheet":"!L819A40.056","index":24,"n_rows":48,"n_cols":48,"rows_kept":48,"cut":false,"hidden":false,"merged":[[1,1,1,2],[5,13,5,14],[18,13,18,14],[19,13,19,14],[4,19,4,22],[5,19,5,20],[4,39,4,42],[5,39,5,40],[4,44,4,47],[5,44,5,45],[4,24,4,27],[5,24,5,25],[4,29,4,32],[5,29,5,30],[4,34,4,37],[5,34,5,35]]}
["Report for:!L819A40.056"]
["Date:","<date>"]
["Hen:","<hen>",null,null,null,"Correct Sequence",{"$f":"Start!J2","v":122},null,null,null,null,null,null,null,null,"Total Sequences in Data",{"$f":"4994-COUNTBLANK(L7:L5000)","v":42},null,null,null,null,"Total Sequences in Block Data",{"$f":"COUNTA(L7:L13)","v":7},null,null,null,"Total Sequences in Block Data",{"$f":"COUNTA(L14:L20)","v":7},null,null,null,"Total Sequences in Block Data",{"$f":"COUNTA(L21:L27)","v":7},null,null,null,"Total Sequences in Block Data",{"$f":"COUNTA(L28:L34)","v":7},null,null,null,"Total Sequences in Block Data",{"$f":"COUNTA(L35:L41)","v":7},null,null,null,"Total Sequences in Block Data",{"$f":"COUNTA(L42:L48)","v":7}]
[null,null,null,null,null,null,null,null,null,null,null,null,null,null,null,"Total Sequences in Summary",{"$f":"SUM(O7:O14)","v":42},null,null,null,null,"Total Sequences in Block Summary",{"$f":"SUM(U7:U14)","v":7},null,null,null,"Total Sequences in Block Summary",{"$f":"SUM(Z7:Z14)","v":7},null,null,null,"Total Sequences in Block Summary",{"$f":"SUM(AE7:AE14)","v":7},null,null,null,"Total Sequences in Block Summary",{"$f":"SUM(AJ7:AJ14)","v":7},null,null,null,"Total Sequences in Block Summary",{"$f":"SUM(AO7:AO14)","v":7},null,null,null,"Total Sequences in Block Summary",{"$f":"SUM(AT7:AT14)","v":7}]
[null,null,null,null,null,null,null,null,null,null,null,null,null,null,null,null,null,null,null,"Block 1",null,null,null,null,"Block 2",null,null,null,null,"Block 3",null,null,null,null,"Block 4",null,null,null,null,"Block 5",null,null,null,null,"Block 6"]
["Sequence\nComponent\n1","Time\n1","Sequence\nComponent\n2","Time\n2","Sequence\nComponent\n3","Time\n3","Sequence\nComponent\n4","Time\n4","Sequence\nComponent\n5","Time\n5","Correct?\n0=No 1=Yes","Sequence",null,"Frequency",null,"Relative Frequency","Variability",null,null,"Frequency",null,"Relative Frequency","Variability",null,"Frequency",null,"Relative Frequency","Variability",null,"Frequency",null,"Relative Frequency","Variability",null,"Frequency",null,"Relative Frequency","Variability",null,"Frequency",null,"Relative Frequency","Variability",null,"Frequency",null,"Relative Frequency","Variability"]
[11,11,11,18,21,28,null,null,null,null,0,112,null,111,{"$f":"COUNTIF($L$7:$L$500,N7)","v":0},{"$f":"O7/$Q$4","v":0},{"$f":"IF(P7=0,0,(P7*((LOG(P7))/LOG(2))))","v":0},null,null,{"$f":"N7","v":111},{"$f":"COUNTIF(L7:L13,T7)","v":0},{"$f":"U7/(W4-U10)","v":0},{"$f":"IF(V7=0,0,(V7*((LOG(V7))/LOG(2))))","v":0},null,{"$f":"N7","v":111},{"$f":"COUNTIF(L14:L20,Y7)","v":0},{"$f":"Z7/(AB4-Z10)","v":0},{"$f":"IF(AA7=0,0,(AA7*((LOG(AA7))/LOG(2))))","v":0},null,{"$f":"N7","v":111},{"$f":"COUNTIF(L21:L27,AD7)","v":0},{"$f":"AE7/(AG4-AE10)","v":0},{"$f":"IF(AF7=0,0,(AF7*((LOG(AF7))/LOG(2))))","v":0},null,{"$f":"N7","v":111},{"$f":"COUNTIF(L28:L34,AI7)","v":0},{"$f":"AJ7/(AL4-AJ10)","v":0},{"$f":"IF(AK7=0,0,(AK7*((LOG(AK7))/LOG(2))))","v":0},null,{"$f":"N7","v":111},{"$f":"COUNTIF(L35:L41,AN7)","v":0},{"$f":"AO7/(AQ4-AO10)","v":0},{"$f":"IF(AP7=0,0,(AP7*((LOG(AP7))/LOG(2))))","v":0},null,{"$f":"N7","v":111},{"$f":"COUNTIF(L42:L48,AS7)","v":0},{"$f":"AT7/(AV4-AT10)","v":0},{"$f":"IF(AU7=0,0,(AU7*((LOG(AU7))/LOG(2))))","v":0}]
[11,118,11,122,21,134,null,null,null,null,0,112,null,112,40,0.95238095238095233,-6.7037455134664775E-2,null,null,112,{"$f":"COUNTIF(L7:L13,T8)","v":6},{"$f":"U8/(W4-U10)","v":1},{"$f":"IF(V8=0,0,(V8*((LOG(V8))/LOG(2))))","v":0},null,112,{"$f":"COUNTIF(L14:L20,Y8)","v":6},{"$f":"Z8/(AB4-Z10)","v":0.8571428571428571},{"$f":"IF(AA8=0,0,(AA8*((LOG(AA8))/LOG(2))))","v":-0.19062207543124113},null,112,{"$f":"COUNTIF(L21:L27,AD8)","v":7},{"$f":"AE8/(AG4-AE10)","v":1},{"$f":"IF(AF8=0,0,(AF8*((LOG(AF8))/LOG(2))))","v":0},null,112,{"$f":"COUNTIF(L28:L34,AI8)","v":7},{"$f":"AJ8/(AL4-AJ10)","v":1},{"$f":"IF(AK8=0,0,(AK8*((LOG(AK8))/LOG(2))))","v":0},null,112,{"$f":"COUNTIF(L35:L41,AN8)","v":7},{"$f":"AO8/(AQ4-AO10)","v":1},{"$f":"IF(AP8=0,0,(AP8*((LOG(AP8))/LOG(2))))","v":0},null,112,{"$f":"COUNTIF(L42:L48,AS8)","v":7},{"$f":"AT8/(AV4-AT10)","v":1},{"$f":"IF(AU8=0,0,(AU8*((LOG(AU8))/LOG(2))))","v":0}]
[11,222,11,226,21,237,null,null,null,null,0,112,null,121,1,2.3809523809523808E-2,-0.12838851006616095,null,null,121,{"$f":"COUNTIF(L7:L13,T9)","v":0},{"$f":"U9/(W4-U10)","v":0},{"$f":"IF(V9=0,0,(V9*((LOG(V9))/LOG(2))))","v":0},null,121,{"$f":"COUNTIF(L14:L20,Y9)","v":1},{"$f":"Z9/(AB4-Z10)","v":0.14285714285714285},{"$f":"IF(AA9=0,0,(AA9*((LOG(AA9))/LOG(2))))","v":-0.40105070315108626},null,121,{"$f":"COUNTIF(L21:L27,AD9)","v":0},{"$f":"AE9/(AG4-AE10)","v":0},{"$f":"IF(AF9=0,0,(AF9*((LOG(AF9))/LOG(2))))","v":0},null,121,{"$f":"COUNTIF(L28:L34,AI9)","v":0},{"$f":"AJ9/(AL4-AJ10)","v":0},{"$f":"IF(AK9=0,0,(AK9*((LOG(AK9))/LOG(2))))","v":0},null,121,{"$f":"COUNTIF(L35:L41,AN9)","v":0},{"$f":"AO9/(AQ4-AO10)","v":0},{"$f":"IF(AP9=0,0,(AP9*((LOG(AP9))/LOG(2))))","v":0},null,121,{"$f":"COUNTIF(L42:L48,AS9)","v":0},{"$f":"AT9/(AV4-AT10)","v":0},{"$f":"IF(AU9=0,0,(AU9*((LOG(AU9))/LOG(2))))","v":0}]
[11,328,11,334,21,353,null,null,null,null,0,112,null,122,1,2.3809523809523808E-2,-0.12838851006616095,null,null,122,{"$f":"COUNTIF(L7:L13,T10)","v":1},null,null,null,122,{"$f":"COUNTIF(L14:L20,Y10)","v":0},null,null,null,122,{"$f":"COUNTIF(L21:L27,AD10)","v":0},null,null,null,122,{"$f":"COUNTIF(L28:L34,AI10)","v":0},null,null,null,122,{"$f":"COUNTIF(L35:L41,AN10)","v":0},null,null,null,122,{"$f":"COUNTIF(L42:L48,AS10)","v":0}]
[11,443,22,457,23,472,null,null,null,null,0,122,null,211,0,0,0,null,null,211,{"$f":"COUNTIF(L7:L13,T11)","v":0},{"$f":"U11/(W4-U10)","v":0},{"$f":"IF(V11=0,0,(V11*((LOG(V11))/LOG(2))))","v":0},null,211,{"$f":"COUNTIF(L14:L20,Y11)","v":0},{"$f":"Z11/(AB4-Z10)","v":0},{"$f":"IF(AA11=0,0,(AA11*((LOG(AA11))/LOG(2))))","v":0},null,211,{"$f":"COUNTIF(L21:L27,AD11)","v":0},{"$f":"AE11/(AG4-AE10)","v":0},{"$f":"IF(AF11=0,0,(AF11*((LOG(AF11))/LOG(2))))","v":0},null,211,{"$f":"COUNTIF(L28:L34,AI11)","v":0},{"$f":"AJ11/(AL4-AJ10)","v":0},{"$f":"IF(AK11=0,0,(AK11*((LOG(AK11))/LOG(2))))","v":0},null,211,{"$f":"COUNTIF(L35:L41,AN11)","v":0},{"$f":"AO11/(AQ4-AO10)","v":0},{"$f":"IF(AP11=0,0,(AP11*((LOG(AP11))/LOG(2))))","v":0},null,211,{"$f":"COUNTIF(L42:L48,AS11)","v":0},{"$f":"AT11/(AV4-AT10)","v":0},{"$f":"IF(AU11=0,0,(AU11*((LOG(AU11))/LOG(2))))","v":0}]
[11,568,11,573,21,583,null,null,null,null,0,112,null,212,0,0,0,null,null,212,{"$f":"COUNTIF(L7:L13,T12)","v":0},{"$f":"U12/(W4-U10)","v":0},{"$f":"IF(V12=0,0,(V12*((LOG(V12))/LOG(2))))","v":0},null,212,{"$f":"COUNTIF(L14:L20,Y12)","v":0},{"$f":"Z12/(AB4-Z10)","v":0},{"$f":"IF(AA12=0,0,(AA12*((LOG(AA12))/LOG(2))))","v":0},null,212,{"$f":"COUNTIF(L21:L27,AD12)","v":0},{"$f":"AE12/(AG4-AE10)","v":0},{"$f":"IF(AF12=0,0,(AF12*((LOG(AF12))/LOG(2))))","v":0},null,212,{"$f":"COUNTIF(L28:L34,AI12)","v":0},{"$f":"AJ12/(AL4-AJ10)","v":0},{"$f":"IF(AK12=0,0,(AK12*((LOG(AK12))/LOG(2))))","v":0},null,212,{"$f":"COUNTIF(L35:L41,AN12)","v":0},{"$f":"AO12/(AQ4-AO10)","v":0},{"$f":"IF(AP12=0,0,(AP12*((LOG(AP12))/LOG(2))))","v":0},null,212,{"$f":"COUNTIF(L42:L48,AS12)","v":0},{"$f":"AT12/(AV4-AT10)","v":0},{"$f":"IF(AU12=0,0,(AU12*((LOG(AU12))/LOG(2))))","v":0}]
[11,673,11,677,21,705,null,null,null,null,0,112,null,221,0,0,0,null,null,221,{"$f":"COUNTIF(L7:L13,T13)","v":0},{"$f":"U13/(W4-U10)","v":0},{"$f":"IF(V13=0,0,(V13*((LOG(V13))/LOG(2))))","v":0},null,221,{"$f":"COUNTIF(L14:L20,Y13)","v":0},{"$f":"Z13/(AB4-Z10)","v":0},{"$f":"IF(AA13=0,0,(AA13*((LOG(AA13))/LOG(2))))","v":0},null,221,{"$f":"COUNTIF(L21:L27,AD13)","v":0},{"$f":"AE13/(AG4-AE10)","v":0},{"$f":"IF(AF13=0,0,(AF13*((LOG(AF13))/LOG(2))))","v":0},null,221,{"$f":"COUNTIF(L28:L34,AI13)","v":0},{"$f":"AJ13/(AL4-AJ10)","v":0},{"$f":"IF(AK13=0,0,(AK13*((LOG(AK13))/LOG(2))))","v":0},null,221,{"$f":"COUNTIF(L35:L41,AN13)","v":0},{"$f":"AO13/(AQ4-AO10)","v":0},{"$f":"IF(AP13=0,0,(AP13*((LOG(AP13))/LOG(2))))","v":0},null,221,{"$f":"COUNTIF(L42:L48,AS13)","v":0},{"$f":"AT13/(AV4-AT10)","v":0},{"$f":"IF(AU13=0,0,(AU13*((LOG(AU13))/LOG(2))))","v":0}]
[11,803,11,807,21,817,null,null,null,null,0,112,null,222,0,0,0,null,null,222,{"$f":"COUNTIF(L7:L13,T14)","v":0},{"$f":"U14/(W4-U10)","v":0},{"$f":"IF(V14=0,0,(V14*((LOG(V14))/LOG(2))))","v":0},null,222,{"$f":"COUNTIF(L14:L20,Y14)","v":0},{"$f":"Z14/(AB4-Z10)","v":0},{"$f":"IF(AA14=0,0,(AA14*((LOG(AA14))/LOG(2))))","v":0},null,222,{"$f":"COUNTIF(L21:L27,AD14)","v":0},{"$f":"AE14/(AG4-AE10)","v":0},{"$f":"IF(AF14=0,0,(AF14*((LOG(AF14))/LOG(2))))","v":0},null,222,{"$f":"COUNTIF(L28:L34,AI14)","v":0},{"$f":"AJ14/(AL4-AJ10)","v":0},{"$f":"IF(AK14=0,0,(AK14*((LOG(AK14))/LOG(2))))","v":0},null,222,{"$f":"COUNTIF(L35:L41,AN14)","v":0},{"$f":"AO14/(AQ4-AO10)","v":0},{"$f":"IF(AP14=0,0,(AP14*((LOG(AP14))/LOG(2))))","v":0},null,222,{"$f":"COUNTIF(L42:L48,AS14)","v":0},{"$f":"AT14/(AV4-AT10)","v":0},{"$f":"IF(AU14=0,0,(AU14*((LOG(AU14))/LOG(2))))","v":0}]
[11,904,11,909,21,919,null,null,null,null,0,112,null,null,null,{"$f":"SUM(P7:P14)","v":1},{"$f":"-SUM(Q7:Q14)","v":0.3238144752669867},null,null,null,null,{"$f":"SUM(V7:V14)","v":1},{"$f":"-SUM(W7:W14)","v":0},null,null,null,{"$f":"SUM(AA7:AA14)","v":1},{"$f":"-SUM(AB7:AB14)","v":0.59167277858232736},null,null,null,{"$f":"SUM(AF7:AF14)","v":1},{"$f":"-SUM(AG7:AG14)","v":0},null,null,null,{"$f":"SUM(AK7:AK14)","v":1},{"$f":"-SUM(AL7:AL14)","v":0},null,null,null,{"$f":"SUM(AP7:AP14)","v":1},{"$f":"-SUM(AQ7:AQ14)","v":0},null,null,null,{"$f":"SUM(AU7:AU14)","v":1},{"$f":"-SUM(AV7:AV14)","v":0}]
[11,1007,11,1012,21,1022,null,null,null,null,0,112,null,null,null,"U=",{"$f":"Q15/(LOG(Q4)/LOG(2))","v":6.0051078206022804E-2},null,null,null,null,"U1=",{"$f":"W15/(LOG(W4)/LOG(2))","v":0},null,null,null,"U2=",{"$f":"AB15/(LOG(AB4)/LOG(2))","v":0.21075809614719845},null,null,null,"U3=",{"$f":"AG15/(LOG(AG4)/LOG(2))","v":0},null,null,null,"U4=",{"$f":"AL15/(LOG(AL4)/LOG(2))","v":0},null,null,null,"U5=",{"$f":"AQ15/(LOG(AQ4)/LOG(2))","v":0},null,null,null,"U6=",{"$f":"AV15/(LOG(AV4)/LOG(2))","v":0}]
[11,1110,11,1114,21,1134,null,null,null,null,0,112]
[11,1222,11,1226,21,1245,null,null,null,null,0,112]
[11,1345,22,1394,14,1424,null,null,null,null,0,121,null,"Total Target Seq"]
[11,1520,11,1525,21,1549,null,null,null,null,0,112,null,{"$f":"COUNTIF(L7:L48,G3)","v":1},null,7,7,7,7,7,7]
[11,1639,11,1643,21,1671,null,null,null,null,0,112,null,null,null,"% of reinforcement given in 6 equal intervals based on number of trials "]
[11,1757,11,1761,21,1787,null,null,null,null,0,112,null,null,null,"%_1","%_2","%_3","%_4","%_5","%_6"]
[11,1872,11,1876,21,1894,null,null,null,null,0,112,null,null,"target sequence",{"$f":"$G$3","v":122},122,122,122,122,122]
[11,1982,11,1986,21,2011,null,null,null,null,0,112,null,null,"total reinforcement",{"$f":"U10","v":1},{"$f":"Z10","v":0},{"$f":"AE10","v":0},{"$f":"AJ10","v":0},{"$f":"AO10","v":0},{"$f":"AT10","v":0}]
[11,2099,11,2103,21,2131,null,null,null,null,0,112,null,null,"% target"]
[11,2218,11,2223,21,2241,null,null,null,null,0,112,null,null,"CCRF"]
[11,2328,11,2332,21,2348,null,null,null,null,0,112,null,null,"% CCRf"]
[11,2436,11,2442,21,2453,null,null,null,null,0,112,null,null,"average response rate",{"$f":"F13/P20","v":100.71428571428571},{"$f":"(F20-F13)/Q20","v":120.57142857142857},{"$f":"(F27-F20)/R20","v":114.14285714285714},{"$f":"(F34-F27)/S20","v":106.85714285714286},{"$f":"(F41-F34)/T20","v":108.71428571428571},{"$f":"(F48-F41)/U20","v":113.57142857142857}]
[11,2539,11,2544,21,2554,null,null,null,null,0,112]
[11,2642,11,2647,21,2656,null,null,null,null,0,112]
[11,2742,11,2746,21,2756,null,null,null,null,0,112]
[11,2842,11,2846,21,2856,null,null,null,null,0,112]
[11,2943,11,2948,21,2995,null,null,null,null,0,112]
[11,3083,11,3087,21,3096,null,null,null,null,0,112]
[11,3182,11,3187,21,3196,null,null,null,null,0,112]
[11,3284,11,3288,21,3298,null,null,null,null,0,112]
[11,3385,11,3389,21,3411,null,null,null,null,0,112]
[11,3496,11,3503,21,3513,null,null,null,null,0,112]
[11,3598,11,3603,21,3633,null,null,null,null,0,112]
[11,3721,11,3726,21,3757,null,null,null,null,0,112]
[11,3844,11,3848,21,3857,null,null,null,null,0,112]
[11,3940,11,3945,21,4006,null,null,null,null,0,112]
[11,4095,11,4099,21,4135,null,null,null,null,0,112]
[11,4221,11,4226,21,4235,null,null,null,null,0,112]
[11,4323,11,4328,21,4336,null,null,null,null,0,112]
[11,4423,11,4427,21,4436,null,null,null,null,0,112]
[11,4519,11,4524,21,4541,null,null,null,null,0,112]
[11,4625,11,4630,21,4652,null,null,null,null,1,112]

{"sheet":"!L820B00.056","index":25,"n_rows":61,"n_cols":48,"rows_kept":61,"cut":false,"hidden":false,"merged":[[1,1,1,2],[5,13,5,14],[18,13,18,14],[19,13,19,14],[4,19,4,22],[5,19,5,20],[4,39,4,42],[5,39,5,40],[4,44,4,47],[5,44,5,45],[4,24,4,27],[5,24,5,25],[4,29,4,32],[5,29,5,30],[4,34,4,37],[5,34,5,35]]}
["Report for:!L820B00.056"]
["Date:","<date>"]
["Hen:","<hen>",null,null,null,"Correct Sequence",{"$f":"Start!J2","v":122},null,null,null,null,null,null,null,null,"Total Sequences in Data",{"$f":"4994-COUNTBLANK(L7:L5000)","v":55},null,null,null,null,"Total Sequences in Block Data",{"$f":"COUNTA(L7:L15)","v":9},null,null,null,"Total Sequences in Block Data",{"$f":"COUNTA(L16:L24)","v":9},null,null,null,"Total Sequences in Block Data",{"$f":"COUNTA(L25:L34)","v":10},null,null,null,"Total Sequences in Block Data",{"$f":"COUNTA(L35:L43)","v":9},null,null,null,"Total Sequences in Block Data",{"$f":"COUNTA(L44:L52)","v":9},null,null,null,"Total Sequences in Block Data",{"$f":"COUNTA(L53:L61)","v":9}]
[null,null,null,null,null,null,null,null,null,null,null,null,null,null,null,"Total Sequences in Summary",{"$f":"SUM(O7:O14)","v":55},null,null,null,null,"Total Sequences in Block Summary",{"$f":"SUM(U7:U14)","v":9},null,null,null,"Total Sequences in Block Summary",{"$f":"SUM(Z7:Z14)","v":9},null,null,null,"Total Sequences in Block Summary",{"$f":"SUM(AE7:AE14)","v":10},null,null,null,"Total Sequences in Block Summary",{"$f":"SUM(AJ7:AJ14)","v":9},null,null,null,"Total Sequences in Block Summary",{"$f":"SUM(AO7:AO14)","v":9},null,null,null,"Total Sequences in Block Summary",{"$f":"SUM(AT7:AT14)","v":9}]
[null,null,null,null,null,null,null,null,null,null,null,null,null,null,null,null,null,null,null,"Block 1",null,null,null,null,"Block 2",null,null,null,null,"Block 3",null,null,null,null,"Block 4",null,null,null,null,"Block 5",null,null,null,null,"Block 6"]
["Sequence\nComponent\n1","Time\n1","Sequence\nComponent\n2","Time\n2","Sequence\nComponent\n3","Time\n3","Sequence\nComponent\n4","Time\n4","Sequence\nComponent\n5","Time\n5","Correct?\n0=No 1=Yes","Sequence",null,"Frequency",null,"Relative Frequency","Variability",null,null,"Frequency",null,"Relative Frequency","Variability",null,"Frequency",null,"Relative Frequency","Variability",null,"Frequency",null,"Relative Frequency","Variability",null,"Frequency",null,"Relative Frequency","Variability",null,"Frequency",null,"Relative Frequency","Variability",null,"Frequency",null,"Relative Frequency","Variability"]
[11,9,11,14,21,26,null,null,null,null,0,112,null,111,{"$f":"COUNTIF($L$7:$L$500,N7)","v":10},{"$f":"O7/$Q$4","v":0.18181818181818182},{"$f":"IF(P7=0,0,(P7*((LOG(P7))/LOG(2))))","v":-0.44716938520678134},null,null,{"$f":"N7","v":111},{"$f":"COUNTIF(L7:L15,T7)","v":3},{"$f":"U7/(W4-U10)","v":0.33333333333333331},{"$f":"IF(V7=0,0,(V7*((LOG(V7))/LOG(2))))","v":-0.52832083357371862},null,{"$f":"N7","v":111},{"$f":"COUNTIF(L16:L24,Y7)","v":1},{"$f":"Z7/(AB4-Z10)","v":0.2},{"$f":"IF(AA7=0,0,(AA7*((LOG(AA7))/LOG(2))))","v":-0.46438561897747244},null,{"$f":"N7","v":111},{"$f":"COUNTIF(L25:L34,AD7)","v":2},{"$f":"AE7/(AG4-AE10)","v":0.22222222222222221},{"$f":"IF(AF7=0,0,(AF7*((LOG(AF7))/LOG(2))))","v":-0.48220555587606945},null,{"$f":"N7","v":111},{"$f":"COUNTIF(L35:L43,AI7)","v":2},{"$f":"AJ7/(AL4-AJ10)","v":0.22222222222222221},{"$f":"IF(AK7=0,0,(AK7*((LOG(AK7))/LOG(2))))","v":-0.48220555587606945},null,{"$f":"N7","v":111},{"$f":"COUNTIF(L44:L52,AN7)","v":1},{"$f":"AO7/(AQ4-AO10)","v":0.1111111111111111},{"$f":"IF(AP7=0,0,(AP7*((LOG(AP7))/LOG(2))))","v":-0.3522138890491458},null,{"$f":"N7","v":111},{"$f":"COUNTIF(L53:L61,AS7)","v":1},{"$f":"AT7/(AV4-AT10)","v":0.1111111111111111},{"$f":"IF(AU7=0,0,(AU7*((LOG(AU7))/LOG(2))))","v":-0.3522138890491458}]
[11,119,11,125,21,145,null,null,null,null,0,112,null,112,40,0.72727272727272729,-0.33413208628167068,null,null,112,{"$f":"COUNTIF(L7:L15,T8)","v":6},{"$f":"U8/(W4-U10)","v":0.66666666666666663},{"$f":"IF(V8=0,0,(V8*((LOG(V8))/LOG(2))))","v":-0.38997500048077083},null,112,{"$f":"COUNTIF(L16:L24,Y8)","v":4},{"$f":"Z8/(AB4-Z10)","v":0.8},{"$f":"IF(AA8=0,0,(AA8*((LOG(AA8))/LOG(2))))","v":-0.25754247590988982},null,112,{"$f":"COUNTIF(L25:L34,AD8)","v":7},{"$f":"AE8/(AG4-AE10)","v":0.77777777777777779},{"$f":"IF(AF8=0,0,(AF8*((LOG(AF8))/LOG(2))))","v":-0.28199895063255082},null,112,{"$f":"COUNTIF(L35:L43,AI8)","v":7},{"$f":"AJ8/(AL4-AJ10)","v":0.77777777777777779},{"$f":"IF(AK8=0,0,(AK8*((LOG(AK8))/LOG(2))))","v":-0.28199895063255082},null,112,{"$f":"COUNTIF(L44:L52,AN8)","v":8},{"$f":"AO8/(AQ4-AO10)","v":0.88888888888888884},{"$f":"IF(AP8=0,0,(AP8*((LOG(AP8))/LOG(2))))","v":-0.15104444572649992},null,112,{"$f":"COUNTIF(L53:L61,AS8)","v":8},{"$f":"AT8/(AV4-AT10)","v":0.88888888888888884},{"$f":"IF(AU8=0,0,(AU8*((LOG(AU8))/LOG(2))))","v":-0.15104444572649992}]
[11,235,11,240,21,255,null,null,null,null,0,112,null,121,0,0,0,null,null,121,{"$f":"COUNTIF(L7:L15,T9)","v":0},{"$f":"U9/(W4-U10)","v":0},{"$f":"IF(V9=0,0,(V9*((LOG(V9))/LOG(2))))","v":0},null,121,{"$f":"COUNTIF(L16:L24,Y9)","v":0},{"$f":"Z9/(AB4-Z10)","v":0},{"$f":"IF(AA9=0,0,(AA9*((LOG(AA9))/LOG(2))))","v":0},null,121,{"$f":"COUNTIF(L25:L34,AD9)","v":0},{"$f":"AE9/(AG4-AE10)","v":0},{"$f":"IF(AF9=0,0,(AF9*((LOG(AF9))/LOG(2))))","v":0},null,121,{"$f":"COUNTIF(L35:L43,AI9)","v":0},{"$f":"AJ9/(AL4-AJ10)","v":0},{"$f":"IF(AK9=0,0,(AK9*((LOG(AK9))/LOG(2))))","v":0},null,121,{"$f":"COUNTIF(L44:L52,AN9)","v":0},{"$f":"AO9/(AQ4-AO10)","v":0},{"$f":"IF(AP9=0,0,(AP9*((LOG(AP9))/LOG(2))))","v":0},null,121,{"$f":"COUNTIF(L53:L61,AS9)","v":0},{"$f":"AT9/(AV4-AT10)","v":0},{"$f":"IF(AU9=0,0,(AU9*((LOG(AU9))/LOG(2))))","v":0}]
[11,346,11,351,21,363,null,null,null,null,0,112,null,122,5,9.0909090909090912E-2,-0.31449378351248153,null,null,122,{"$f":"COUNTIF(L7:L15,T10)","v":0},null,null,null,122,{"$f":"COUNTIF(L16:L24,Y10)","v":4},null,null,null,122,{"$f":"COUNTIF(L25:L34,AD10)","v":1},null,null,null,122,{"$f":"COUNTIF(L35:L43,AI10)","v":0},null,null,null,122,{"$f":"COUNTIF(L44:L52,AN10)","v":0},null,null,null,122,{"$f":"COUNTIF(L53:L61,AS10)","v":0}]
[11,454,11,459,12,465,null,null,null,null,0,111,null,211,0,0,0,null,null,211,{"$f":"COUNTIF(L7:L15,T11)","v":0},{"$f":"U11/(W4-U10)","v":0},{"$f":"IF(V11=0,0,(V11*((LOG(V11))/LOG(2))))","v":0},null,211,{"$f":"COUNTIF(L16:L24,Y11)","v":0},{"$f":"Z11/(AB4-Z10)","v":0},{"$f":"IF(AA11=0,0,(AA11*((LOG(AA11))/LOG(2))))","v":0},null,211,{"$f":"COUNTIF(L25:L34,AD11)","v":0},{"$f":"AE11/(AG4-AE10)","v":0},{"$f":"IF(AF11=0,0,(AF11*((LOG(AF11))/LOG(2))))","v":0},null,211,{"$f":"COUNTIF(L35:L43,AI11)","v":0},{"$f":"AJ11/(AL4-AJ10)","v":0},{"$f":"IF(AK11=0,0,(AK11*((LOG(AK11))/LOG(2))))","v":0},null,211,{"$f":"COUNTIF(L44:L52,AN11)","v":0},{"$f":"AO11/(AQ4-AO10)","v":0},{"$f":"IF(AP11=0,0,(AP11*((LOG(AP11))/LOG(2))))","v":0},null,211,{"$f":"COUNTIF(L53:L61,AS11)","v":0},{"$f":"AT11/(AV4-AT10)","v":0},{"$f":"IF(AU11=0,0,(AU11*((LOG(AU11))/LOG(2))))","v":0}]
[11,563,11,567,21,609,null,null,null,null,0,112,null,212,0,0,0,null,null,212,{"$f":"COUNTIF(L7:L15,T12)","v":0},{"$f":"U12/(W4-U10)","v":0},{"$f":"IF(V12=0,0,(V12*((LOG(V12))/LOG(2))))","v":0},null,212,{"$f":"COUNTIF(L16:L24,Y12)","v":0},{"$f":"Z12/(AB4-Z10)","v":0},{"$f":"IF(AA12=0,0,(AA12*((LOG(AA12))/LOG(2))))","v":0},null,212,{"$f":"COUNTIF(L25:L34,AD12)","v":0},{"$f":"AE12/(AG4-AE10)","v":0},{"$f":"IF(AF12=0,0,(AF12*((LOG(AF12))/LOG(2))))","v":0},null,212,{"$f":"COUNTIF(L35:L43,AI12)","v":0},{"$f":"AJ12/(AL4-AJ10)","v":0},{"$f":"IF(AK12=0,0,(AK12*((LOG(AK12))/LOG(2))))","v":0},null,212,{"$f":"COUNTIF(L44:L52,AN12)","v":0},{"$f":"AO12/(AQ4-AO10)","v":0},{"$f":"IF(AP12=0,0,(AP12*((LOG(AP12))/LOG(2))))","v":0},null,212,{"$f":"COUNTIF(L53:L61,AS12)","v":0},{"$f":"AT12/(AV4-AT10)","v":0},{"$f":"IF(AU12=0,0,(AU12*((LOG(AU12))/LOG(2))))","v":0}]
[11,698,11,702,12,707,null,null,null,null,0,111,null,221,0,0,0,null,null,221,{"$f":"COUNTIF(L7:L15,T13)","v":0},{"$f":"U13/(W4-U10)","v":0},{"$f":"IF(V13=0,0,(V13*((LOG(V13))/LOG(2))))","v":0},null,221,{"$f":"COUNTIF(L16:L24,Y13)","v":0},{"$f":"Z13/(AB4-Z10)","v":0},{"$f":"IF(AA13=0,0,(AA13*((LOG(AA13))/LOG(2))))","v":0},null,221,{"$f":"COUNTIF(L25:L34,AD13)","v":0},{"$f":"AE13/(AG4-AE10)","v":0},{"$f":"IF(AF13=0,0,(AF13*((LOG(AF13))/LOG(2))))","v":0},null,221,{"$f":"COUNTIF(L35:L43,AI13)","v":0},{"$f":"AJ13/(AL4-AJ10)","v":0},{"$f":"IF(AK13=0,0,(AK13*((LOG(AK13))/LOG(2))))","v":0},null,221,{"$f":"COUNTIF(L44:L52,AN13)","v":0},{"$f":"AO13/(AQ4-AO10)","v":0},{"$f":"IF(AP13=0,0,(AP13*((LOG(AP13))/LOG(2))))","v":0},null,221,{"$f":"COUNTIF(L53:L61,AS13)","v":0},{"$f":"AT13/(AV4-AT10)","v":0},{"$f":"IF(AU13=0,0,(AU13*((LOG(AU13))/LOG(2))))","v":0}]
[11,803,11,807,12,811,null,null,null,null,0,111,null,222,0,0,0,null,null,222,{"$f":"COUNTIF(L7:L15,T14)","v":0},{"$f":"U14/(W4-U10)","v":0},{"$f":"IF(V14=0,0,(V14*((LOG(V14))/LOG(2))))","v":0},null,222,{"$f":"COUNTIF(L16:L24,Y14)","v":0},{"$f":"Z14/(AB4-Z10)","v":0},{"$f":"IF(AA14=0,0,(AA14*((LOG(AA14))/LOG(2))))","v":0},null,222,{"$f":"COUNTIF(L25:L34,AD14)","v":0},{"$f":"AE14/(AG4-AE10)","v":0},{"$f":"IF(AF14=0,0,(AF14*((LOG(AF14))/LOG(2))))","v":0},null,222,{"$f":"COUNTIF(L35:L43,AI14)","v":0},{"$f":"AJ14/(AL4-AJ10)","v":0},{"$f":"IF(AK14=0,0,(AK14*((LOG(AK14))/LOG(2))))","v":0},null,222,{"$f":"COUNTIF(L44:L52,AN14)","v":0},{"$f":"AO14/(AQ4-AO10)","v":0},{"$f":"IF(AP14=0,0,(AP14*((LOG(AP14))/LOG(2))))","v":0},null,222,{"$f":"COUNTIF(L53:L61,AS14)","v":0},{"$f":"AT14/(AV4-AT10)","v":0},{"$f":"IF(AU14=0,0,(AU14*((LOG(AU14))/LOG(2))))","v":0}]
[11,916,11,922,21,955,null,null,null,null,0,112,null,null,null,{"$f":"SUM(P7:P14)","v":1},{"$f":"-SUM(Q7:Q14)","v":1.0957952550009336},null,null,null,null,{"$f":"SUM(V7:V14)","v":1},{"$f":"-SUM(W7:W14)","v":0.91829583405448945},null,null,null,{"$f":"SUM(AA7:AA14)","v":1},{"$f":"-SUM(AB7:AB14)","v":0.72192809488736231},null,null,null,{"$f":"SUM(AF7:AF14)","v":1},{"$f":"-SUM(AG7:AG14)","v":0.76420450650862026},null,null,null,{"$f":"SUM(AK7:AK14)","v":1},{"$f":"-SUM(AL7:AL14)","v":0.76420450650862026},null,null,null,{"$f":"SUM(AP7:AP14)","v":1},{"$f":"-SUM(AQ7:AQ14)","v":0.50325833477564574},null,null,null,{"$f":"SUM(AU7:AU14)","v":1},{"$f":"-SUM(AV7:AV14)","v":0.50325833477564574}]
[11,1048,22,1082,23,1113,null,null,null,null,0,122,null,null,null,"U=",{"$f":"Q15/(LOG(Q4)/LOG(2))","v":0.18953936604869578},null,null,null,null,"U1=",{"$f":"W15/(LOG(W4)/LOG(2))","v":0.28969008214284753},null,null,null,"U2=",{"$f":"AB15/(LOG(AB4)/LOG(2))","v":0.22774295750179763},null,null,null,"U3=",{"$f":"AG15/(LOG(AG4)/LOG(2))","v":0.23004847928068486},null,null,null,"U4=",{"$f":"AL15/(LOG(AL4)/LOG(2))","v":0.24107968048484052},null,null,null,"U5=",{"$f":"AQ15/(LOG(AQ4)/LOG(2))","v":0.15876032857139011},null,null,null,"U6=",{"$f":"AV15/(LOG(AV4)/LOG(2))","v":0.15876032857139011}]
[11,1211,11,1216,12,1220,null,null,null,null,0,111]
[11,1319,11,1323,21,1348,null,null,null,null,0,112]
[11,1443,22,1464,23,1479,null,null,null,null,0,122,null,"Total Target Seq"]
[11,1602,22,1672,23,1679,null,null,null,null,0,122,null,{"$f":"COUNTIF(L7:L61,G3)","v":5},null,9,9,10,9,9,9]
[11,1779,22,1831,23,1849,null,null,null,null,0,122,null,null,null,"% of reinforcement given in 6 equal intervals based on number of trials "]
[11,1973,11,1985,21,2050,null,null,null,null,0,112,null,null,null,"%_1","%_2","%_3","%_4","%_5","%_6"]
[11,2141,11,2146,21,2187,null,null,null,null,0,112,null,null,"target sequence",{"$f":"$G$3","v":122},122,122,122,122,122]
[11,2278,11,2282,21,2306,null,null,null,null,0,112,null,null,"total reinforcement",{"$f":"U10","v":0},{"$f":"Z10","v":4},{"$f":"AE10","v":1},{"$f":"AJ10","v":0},{"$f":"AO10","v":0},{"$f":"AT10","v":0}]
[11,2396,11,2406,21,2437,null,null,null,null,0,112,null,null,"% target"]
[11,2524,11,2528,12,2533,null,null,null,null,0,111,null,null,"CCRF"]
[11,2630,11,2634,12,2639,null,null,null,null,0,111,null,null,"% CCRf"]
[11,2769,22,2795,23,2808,null,null,null,null,0,122,null,null,"average response rate",{"$f":"F15/P20","v":106.11111111111111},{"$f":"(F24-F15)/Q20","v":150.11111111111111},{"$f":"(F34-F24)/R20","v":125.3},{"$f":"(F43-F34)/S20","v":120.88888888888889},{"$f":"(F52-F43)/T20","v":128},{"$f":"(F61-F52)/U20","v":120.44444444444444}]
[11,2917,11,2922,21,2966,null,null,null,null,0,112]
[11,3057,11,3062,21,3087,null,null,null,null,0,112]
[11,3178,11,3183,21,3222,null,null,null,null,0,112]
[11,3314,11,3319,21,3337,null,null,null,null,0,112]
[11,3428,11,3437,21,3454,null,null,null,null,0,112]
[11,3545,11,3549,21,3559,null,null,null,null,0,112]
[11,3648,11,3652,12,3657,null,null,null,null,0,111]
[11,3756,11,3761,21,3771,null,null,null,null,0,112]
[11,3859,11,3864,21,3894,null,null,null,null,0,112]
[11,3986,11,3990,21,4099,null,null,null,null,0,112]
[11,4186,11,4191,21,4204,null,null,null,null,0,112]
[11,4294,11,4299,12,4304,null,null,null,null,0,111]
[11,4401,11,4406,21,4416,null,null,null,null,0,112]
[11,4502,11,4507,21,4526,null,null,null,null,0,112]
[11,4616,11,4620,21,4647,null,null,null,null,0,112]
[11,4736,11,4741,21,4792,null,null,null,null,0,112]
[11,4879,11,4883,21,4909,null,null,null,null,0,112]
[11,4998,11,5004,21,5020,null,null,null,null,0,112]
[11,5108,11,5113,21,5153,null,null,null,null,0,112]
[11,5240,11,5245,21,5301,null,null,null,null,0,112]
[11,5388,11,5393,21,5411,null,null,null,null,0,112]
[11,5497,11,5503,21,5512,null,null,null,null,0,112]
[11,5600,11,5606,12,5610,null,null,null,null,0,111]
[11,5710,11,5714,21,5799,null,null,null,null,0,112]
[11,5888,11,5893,12,5898,null,null,null,null,0,111]
[11,5993,11,5998,21,6035,null,null,null,null,0,112]
[11,6123,11,6127,21,6146,null,null,null,null,0,112]
[11,6233,11,6238,21,6303,null,null,null,null,0,112]
[11,6391,11,6400,21,6422,null,null,null,null,0,112]
[11,6510,11,6515,21,6548,null,null,null,null,0,112]
[11,6634,11,6640,21,6671,null,null,null,null,0,112]
[11,6761,11,6766,21,6774,null,null,null,null,0,112]
[11,6861,11,6866,21,6883,null,null,null,null,1,112]

{"sheet":"!L821C50.056","index":26,"n_rows":54,"n_cols":48,"rows_kept":54,"cut":false,"hidden":false,"merged":[[1,1,1,2],[5,13,5,14],[18,13,18,14],[19,13,19,14],[4,19,4,22],[5,19,5,20],[4,39,4,42],[5,39,5,40],[4,44,4,47],[5,44,5,45],[4,24,4,27],[5,24,5,25],[4,29,4,32],[5,29,5,30],[4,34,4,37],[5,34,5,35]]}
["Report for:!L821C50.056"]
["Date:","<date>"]
["Hen:","<hen>",null,null,null,"Correct Sequence",{"$f":"Start!J2","v":122},null,null,null,null,null,null,null,null,"Total Sequences in Data",{"$f":"4994-COUNTBLANK(L7:L5000)","v":48},null,null,null,null,"Total Sequences in Block Data",{"$f":"COUNTA(L7:L14)","v":8},null,null,null,"Total Sequences in Block Data",{"$f":"COUNTA(L15:L22)","v":8},null,null,null,"Total Sequences in Block Data",{"$f":"COUNTA(L23:L30)","v":8},null,null,null,"Total Sequences in Block Data",{"$f":"COUNTA(L31:L38)","v":8},null,null,null,"Total Sequences in Block Data",{"$f":"COUNTA(L39:L46)","v":8},null,null,null,"Total Sequences in Block Data",{"$f":"COUNTA(L47:L54)","v":8}]
[null,null,null,null,null,null,null,null,null,null,null,null,null,null,null,"Total Sequences in Summary",{"$f":"SUM(O7:O14)","v":48},null,null,null,null,"Total Sequences in Block Summary",{"$f":"SUM(U7:U14)","v":8},null,null,null,"Total Sequences in Block Summary",{"$f":"SUM(Z7:Z14)","v":8},null,null,null,"Total Sequences in Block Summary",{"$f":"SUM(AE7:AE14)","v":8},null,null,null,"Total Sequences in Block Summary",{"$f":"SUM(AJ7:AJ14)","v":8},null,null,null,"Total Sequences in Block Summary",{"$f":"SUM(AO7:AO14)","v":8},null,null,null,"Total Sequences in Block Summary",{"$f":"SUM(AT7:AT14)","v":8}]
[null,null,null,null,null,null,null,null,null,null,null,null,null,null,null,null,null,null,null,"Block 1",null,null,null,null,"Block 2",null,null,null,null,"Block 3",null,null,null,null,"Block 4",null,null,null,null,"Block 5",null,null,null,null,"Block 6"]
["Sequence\nComponent\n1","Time\n1","Sequence\nComponent\n2","Time\n2","Sequence\nComponent\n3","Time\n3","Sequence\nComponent\n4","Time\n4","Sequence\nComponent\n5","Time\n5","Correct?\n0=No 1=Yes","Sequence",null,"Frequency",null,"Relative Frequency","Variability",null,null,"Frequency",null,"Relative Frequency","Variability",null,"Frequency",null,"Relative Frequency","Variability",null,"Frequency",null,"Relative Frequency","Variability",null,"Frequency",null,"Relative Frequency","Variability",null,"Frequency",null,"Relative Frequency","Variability",null,"Frequency",null,"Relative Frequency","Variability"]
[11,8,11,13,21,23,null,null,null,null,0,112,null,111,{"$f":"COUNTIF($L$7:$L$500,N7)","v":1},{"$f":"O7/$Q$4","v":2.0833333333333332E-2},{"$f":"IF(P7=0,0,(P7*((LOG(P7))/LOG(2))))","v":-0.11635338543169074},null,null,{"$f":"N7","v":111},{"$f":"COUNTIF(L7:L14,T7)","v":0},{"$f":"U7/(W4-U10)","v":0},{"$f":"IF(V7=0,0,(V7*((LOG(V7))/LOG(2))))","v":0},null,{"$f":"N7","v":111},{"$f":"COUNTIF(L15:L22,Y7)","v":0},{"$f":"Z7/(AB4-Z10)","v":0},{"$f":"IF(AA7=0,0,(AA7*((LOG(AA7))/LOG(2))))","v":0},null,{"$f":"N7","v":111},{"$f":"COUNTIF(L23:L30,AD7)","v":0},{"$f":"AE7/(AG4-AE10)","v":0},{"$f":"IF(AF7=0,0,(AF7*((LOG(AF7))/LOG(2))))","v":0},null,{"$f":"N7","v":111},{"$f":"COUNTIF(L31:L38,AI7)","v":0},{"$f":"AJ7/(AL4-AJ10)","v":0},{"$f":"IF(AK7=0,0,(AK7*((LOG(AK7))/LOG(2))))","v":0},null,{"$f":"N7","v":111},{"$f":"COUNTIF(L39:L46,AN7)","v":0},{"$f":"AO7/(AQ4-AO10)","v":0},{"$f":"IF(AP7=0,0,(AP7*((LOG(AP7))/LOG(2))))","v":0},null,{"$f":"N7","v":111},{"$f":"COUNTIF(L47:L54,AS7)","v":1},{"$f":"AT7/(AV4-AT10)","v":0.14285714285714285},{"$f":"IF(AU7=0,0,(AU7*((LOG(AU7))/LOG(2))))","v":-0.40105070315108626}]
[11,115,11,120,21,141,null,null,null,null,0,112,null,112,40,0.83333333333333337,-0.21919533819482812,null,null,112,{"$f":"COUNTIF(L7:L14,T8)","v":7},{"$f":"U8/(W4-U10)","v":1},{"$f":"IF(V8=0,0,(V8*((LOG(V8))/LOG(2))))","v":0},null,112,{"$f":"COUNTIF(L15:L22,Y8)","v":5},{"$f":"Z8/(AB4-Z10)","v":1},{"$f":"IF(AA8=0,0,(AA8*((LOG(AA8))/LOG(2))))","v":0},null,112,{"$f":"COUNTIF(L23:L30,AD8)","v":6},{"$f":"AE8/(AG4-AE10)","v":1},{"$f":"IF(AF8=0,0,(AF8*((LOG(AF8))/LOG(2))))","v":0},null,112,{"$f":"COUNTIF(L31:L38,AI8)","v":8},{"$f":"AJ8/(AL4-AJ10)","v":1},{"$f":"IF(AK8=0,0,(AK8*((LOG(AK8))/LOG(2))))","v":0},null,112,{"$f":"COUNTIF(L39:L46,AN8)","v":8},{"$f":"AO8/(AQ4-AO10)","v":1},{"$f":"IF(AP8=0,0,(AP8*((LOG(AP8))/LOG(2))))","v":0},null,112,{"$f":"COUNTIF(L47:L54,AS8)","v":6},{"$f":"AT8/(AV4-AT10)","v":0.8571428571428571},{"$f":"IF(AU8=0,0,(AU8*((LOG(AU8))/LOG(2))))","v":-0.19062207543124113}]
[11,232,11,237,21,247,null,null,null,null,0,112,null,121,0,0,0,null,null,121,{"$f":"COUNTIF(L7:L14,T9)","v":0},{"$f":"U9/(W4-U10)","v":0},{"$f":"IF(V9=0,0,(V9*((LOG(V9))/LOG(2))))","v":0},null,121,{"$f":"COUNTIF(L15:L22,Y9)","v":0},{"$f":"Z9/(AB4-Z10)","v":0},{"$f":"IF(AA9=0,0,(AA9*((LOG(AA9))/LOG(2))))","v":0},null,121,{"$f":"COUNTIF(L23:L30,AD9)","v":0},{"$f":"AE9/(AG4-AE10)","v":0},{"$f":"IF(AF9=0,0,(AF9*((LOG(AF9))/LOG(2))))","v":0},null,121,{"$f":"COUNTIF(L31:L38,AI9)","v":0},{"$f":"AJ9/(AL4-AJ10)","v":0},{"$f":"IF(AK9=0,0,(AK9*((LOG(AK9))/LOG(2))))","v":0},null,121,{"$f":"COUNTIF(L39:L46,AN9)","v":0},{"$f":"AO9/(AQ4-AO10)","v":0},{"$f":"IF(AP9=0,0,(AP9*((LOG(AP9))/LOG(2))))","v":0},null,121,{"$f":"COUNTIF(L47:L54,AS9)","v":0},{"$f":"AT9/(AV4-AT10)","v":0},{"$f":"IF(AU9=0,0,(AU9*((LOG(AU9))/LOG(2))))","v":0}]
[11,340,22,358,23,375,null,null,null,null,0,122,null,122,7,0.14583333333333334,-0.40506777188843468,null,null,122,{"$f":"COUNTIF(L7:L14,T10)","v":1},null,null,null,122,{"$f":"COUNTIF(L15:L22,Y10)","v":3},null,null,null,122,{"$f":"COUNTIF(L23:L30,AD10)","v":2},null,null,null,122,{"$f":"COUNTIF(L31:L38,AI10)","v":0},null,null,null,122,{"$f":"COUNTIF(L39:L46,AN10)","v":0},null,null,null,122,{"$f":"COUNTIF(L47:L54,AS10)","v":1}]
[11,472,11,477,21,507,null,null,null,null,0,112,null,211,0,0,0,null,null,211,{"$f":"COUNTIF(L7:L14,T11)","v":0},{"$f":"U11/(W4-U10)","v":0},{"$f":"IF(V11=0,0,(V11*((LOG(V11))/LOG(2))))","v":0},null,211,{"$f":"COUNTIF(L15:L22,Y11)","v":0},{"$f":"Z11/(AB4-Z10)","v":0},{"$f":"IF(AA11=0,0,(AA11*((LOG(AA11))/LOG(2))))","v":0},null,211,{"$f":"COUNTIF(L23:L30,AD11)","v":0},{"$f":"AE11/(AG4-AE10)","v":0},{"$f":"IF(AF11=0,0,(AF11*((LOG(AF11))/LOG(2))))","v":0},null,211,{"$f":"COUNTIF(L31:L38,AI11)","v":0},{"$f":"AJ11/(AL4-AJ10)","v":0},{"$f":"IF(AK11=0,0,(AK11*((LOG(AK11))/LOG(2))))","v":0},null,211,{"$f":"COUNTIF(L39:L46,AN11)","v":0},{"$f":"AO11/(AQ4-AO10)","v":0},{"$f":"IF(AP11=0,0,(AP11*((LOG(AP11))/LOG(2))))","v":0},null,211,{"$f":"COUNTIF(L47:L54,AS11)","v":0},{"$f":"AT11/(AV4-AT10)","v":0},{"$f":"IF(AU11=0,0,(AU11*((LOG(AU11))/LOG(2))))","v":0}]
[11,596,11,601,21,618,null,null,null,null,0,112,null,212,0,0,0,null,null,212,{"$f":"COUNTIF(L7:L14,T12)","v":0},{"$f":"U12/(W4-U10)","v":0},{"$f":"IF(V12=0,0,(V12*((LOG(V12))/LOG(2))))","v":0},null,212,{"$f":"COUNTIF(L15:L22,Y12)","v":0},{"$f":"Z12/(AB4-Z10)","v":0},{"$f":"IF(AA12=0,0,(AA12*((LOG(AA12))/LOG(2))))","v":0},null,212,{"$f":"COUNTIF(L23:L30,AD12)","v":0},{"$f":"AE12/(AG4-AE10)","v":0},{"$f":"IF(AF12=0,0,(AF12*((LOG(AF12))/LOG(2))))","v":0},null,212,{"$f":"COUNTIF(L31:L38,AI12)","v":0},{"$f":"AJ12/(AL4-AJ10)","v":0},{"$f":"IF(AK12=0,0,(AK12*((LOG(AK12))/LOG(2))))","v":0},null,212,{"$f":"COUNTIF(L39:L46,AN12)","v":0},{"$f":"AO12/(AQ4-AO10)","v":0},{"$f":"IF(AP12=0,0,(AP12*((LOG(AP12))/LOG(2))))","v":0},null,212,{"$f":"COUNTIF(L47:L54,AS12)","v":0},{"$f":"AT12/(AV4-AT10)","v":0},{"$f":"IF(AU12=0,0,(AU12*((LOG(AU12))/LOG(2))))","v":0}]
[11,710,11,715,21,733,null,null,null,null,0,112,null,221,0,0,0,null,null,221,{"$f":"COUNTIF(L7:L14,T13)","v":0},{"$f":"U13/(W4-U10)","v":0},{"$f":"IF(V13=0,0,(V13*((LOG(V13))/LOG(2))))","v":0},null,221,{"$f":"COUNTIF(L15:L22,Y13)","v":0},{"$f":"Z13/(AB4-Z10)","v":0},{"$f":"IF(AA13=0,0,(AA13*((LOG(AA13))/LOG(2))))","v":0},null,221,{"$f":"COUNTIF(L23:L30,AD13)","v":0},{"$f":"AE13/(AG4-AE10)","v":0},{"$f":"IF(AF13=0,0,(AF13*((LOG(AF13))/LOG(2))))","v":0},null,221,{"$f":"COUNTIF(L31:L38,AI13)","v":0},{"$f":"AJ13/(AL4-AJ10)","v":0},{"$f":"IF(AK13=0,0,(AK13*((LOG(AK13))/LOG(2))))","v":0},null,221,{"$f":"COUNTIF(L39:L46,AN13)","v":0},{"$f":"AO13/(AQ4-AO10)","v":0},{"$f":"IF(AP13=0,0,(AP13*((LOG(AP13))/LOG(2))))","v":0},null,221,{"$f":"COUNTIF(L47:L54,AS13)","v":0},{"$f":"AT13/(AV4-AT10)","v":0},{"$f":"IF(AU13=0,0,(AU13*((LOG(AU13))/LOG(2))))","v":0}]
[11,821,11,825,21,835,null,null,null,null,0,112,null,222,0,0,0,null,null,222,{"$f":"COUNTIF(L7:L14,T14)","v":0},{"$f":"U14/(W4-U10)","v":0},{"$f":"IF(V14=0,0,(V14*((LOG(V14))/LOG(2))))","v":0},null,222,{"$f":"COUNTIF(L15:L22,Y14)","v":0},{"$f":"Z14/(AB4-Z10)","v":0},{"$f":"IF(AA14=0,0,(AA14*((LOG(AA14))/LOG(2))))","v":0},null,222,{"$f":"COUNTIF(L23:L30,AD14)","v":0},{"$f":"AE14/(AG4-AE10)","v":0},{"$f":"IF(AF14=0,0,(AF14*((LOG(AF14))/LOG(2))))","v":0},null,222,{"$f":"COUNTIF(L31:L38,AI14)","v":0},{"$f":"AJ14/(AL4-AJ10)","v":0},{"$f":"IF(AK14=0,0,(AK14*((LOG(AK14))/LOG(2))))","v":0},null,222,{"$f":"COUNTIF(L39:L46,AN14)","v":0},{"$f":"AO14/(AQ4-AO10)","v":0},{"$f":"IF(AP14=0,0,(AP14*((LOG(AP14))/LOG(2))))","v":0},null,222,{"$f":"COUNTIF(L47:L54,AS14)","v":0},{"$f":"AT14/(AV4-AT10)","v":0},{"$f":"IF(AU14=0,0,(AU14*((LOG(AU14))/LOG(2))))","v":0}]
[11,924,11,929,21,942,null,null,null,null,0,112,null,null,null,{"$f":"SUM(P7:P14)","v":1},{"$f":"-SUM(Q7:Q14)","v":0.74061649551495357},null,null,null,null,{"$f":"SUM(V7:V14)","v":1},{"$f":"-SUM(W7:W14)","v":0},null,null,null,{"$f":"SUM(AA7:AA14)","v":1},{"$f":"-SUM(AB7:AB14)","v":0},null,null,null,{"$f":"SUM(AF7:AF14)","v":1},{"$f":"-SUM(AG7:AG14)","v":0},null,null,null,{"$f":"SUM(AK7:AK14)","v":1},{"$f":"-SUM(AL7:AL14)","v":0},null,null,null,{"$f":"SUM(AP7:AP14)","v":1},{"$f":"-SUM(AQ7:AQ14)","v":0},null,null,null,{"$f":"SUM(AU7:AU14)","v":1},{"$f":"-SUM(AV7:AV14)","v":0.59167277858232736}]
[11,1032,11,1037,21,1074,null,null,null,null,0,112,null,null,null,"U=",{"$f":"Q15/(LOG(Q4)/LOG(2))","v":0.13260903639358756},null,null,null,null,"U1=",{"$f":"W15/(LOG(W4)/LOG(2))","v":0},null,null,null,"U2=",{"$f":"AB15/(LOG(AB4)/LOG(2))","v":0},null,null,null,"U3=",{"$f":"AG15/(LOG(AG4)/LOG(2))","v":0},null,null,null,"U4=",{"$f":"AL15/(LOG(AL4)/LOG(2))","v":0},null,null,null,"U5=",{"$f":"AQ15/(LOG(AQ4)/LOG(2))","v":0},null,null,null,"U6=",{"$f":"AV15/(LOG(AV4)/LOG(2))","v":0.19722425952744246}]
[11,1161,22,1181,23,1190,null,null,null,null,0,122]
[11,1287,11,1291,21,1300,null,null,null,null,0,112]
[11,1390,22,1410,23,1421,null,null,null,null,0,122,null,"Total Target Seq"]
[11,1517,11,1525,21,1544,null,null,null,null,0,112,null,{"$f":"COUNTIF(L7:L54,G3)","v":7},null,8,8,8,8,8,8]
[11,1631,11,1636,21,1645,null,null,null,null,0,112,null,null,null,"% of reinforcement given in 6 equal intervals based on number of trials "]
[11,1735,22,1745,23,1763,null,null,null,null,0,122,null,null,null,"%_1","%_2","%_3","%_4","%_5","%_6"]
[11,1865,11,1870,21,1879,null,null,null,null,0,112,null,null,"target sequence",{"$f":"$G$3","v":122},122,122,122,122,122]
[11,1969,22,1986,23,2008,null,null,null,null,0,122,null,null,"total reinforcement",{"$f":"U10","v":1},{"$f":"Z10","v":3},{"$f":"AE10","v":2},{"$f":"AJ10","v":0},{"$f":"AO10","v":0},{"$f":"AT10","v":1}]
[11,2104,11,2108,21,2116,null,null,null,null,0,112,null,null,"% target"]
[11,2211,22,2246,23,2288,null,null,null,null,0,122,null,null,"CCRF"]
[11,2385,11,2390,21,2403,null,null,null,null,0,112,null,null,"% CCRf"]
[11,2493,11,2502,21,2508,null,null,null,null,0,112,null,null,"average response rate",{"$f":"F14/P20","v":104.375},{"$f":"(F22-F14)/Q20","v":116},{"$f":"(F30-F22)/R20","v":119.5},{"$f":"(F38-F30)/S20","v":111},{"$f":"(F46-F38)/T20","v":104.75},{"$f":"(F54-F46)/U20","v":107.125}]
[11,2594,11,2599,21,2613,null,null,null,null,0,112]
[11,2701,11,2710,21,2719,null,null,null,null,0,112]
[11,2807,11,2811,21,2855,null,null,null,null,0,112]
[11,2941,11,2946,21,2955,null,null,null,null,0,112]
[11,3043,11,3047,21,3069,null,null,null,null,0,112]
[11,3156,11,3161,21,3191,null,null,null,null,0,112]
[11,3277,11,3281,21,3294,null,null,null,null,0,112]
[11,3380,11,3384,21,3393,null,null,null,null,0,112]
[11,3480,11,3485,21,3495,null,null,null,null,0,112]
[11,3587,11,3593,21,3607,null,null,null,null,0,112]
[11,3693,11,3697,21,3705,null,null,null,null,0,112]
[11,3790,11,3795,21,3811,null,null,null,null,0,112]
[11,3898,11,3903,21,3921,null,null,null,null,0,112]
[11,4008,11,4013,21,4027,null,null,null,null,0,112]
[11,4114,11,4119,21,4141,null,null,null,null,0,112]
[11,4227,11,4231,21,4244,null,null,null,null,0,112]
[11,4329,11,4334,21,4342,null,null,null,null,0,112]
[11,4432,11,4436,21,4445,null,null,null,null,0,112]
[11,4531,11,4535,21,4563,null,null,null,null,0,112]
[11,4650,22,4664,23,4678,null,null,null,null,0,122]
[11,4773,11,4778,21,4793,null,null,null,null,0,112]
[11,4878,11,4882,21,4891,null,null,null,null,0,112]
[11,4976,11,4982,21,4994,null,null,null,null,0,112]
[11,5080,11,5085,21,5099,null,null,null,null,0,112]
[11,5183,11,5189,12,5193,null,null,null,null,0,111]
[11,5289,11,5293,21,5302,null,null,null,null,1,112]

{"sheet":"!L822C30.056","index":27,"n_rows":65,"n_cols":48,"rows_kept":65,"cut":false,"hidden":false,"merged":[[1,1,1,2],[5,13,5,14],[18,13,18,14],[19,13,19,14],[4,19,4,22],[5,19,5,20],[4,39,4,42],[5,39,5,40],[4,44,4,47],[5,44,5,45],[4,24,4,27],[5,24,5,25],[4,29,4,32],[5,29,5,30],[4,34,4,37],[5,34,5,35]]}
["Report for:!L822C30.056"]
["Date:","<date>"]
["Hen:","<hen>",null,null,null,"Correct Sequence",{"$f":"Start!J2","v":122},null,null,null,null,null,null,null,null,"Total Sequences in Data",{"$f":"4994-COUNTBLANK(L7:L5000)","v":59},null,null,null,null,"Total Sequences in Block Data",{"$f":"COUNTA(L7:L16)","v":10},null,null,null,"Total Sequences in Block Data",{"$f":"COUNTA(L17:L26)","v":10},null,null,null,"Total Sequences in Block Data",{"$f":"COUNTA(L27:L35)","v":9},null,null,null,"Total Sequences in Block Data",{"$f":"COUNTA(L36:L45)","v":10},null,null,null,"Total Sequences in Block Data",{"$f":"COUNTA(L46:L55)","v":10},null,null,null,"Total Sequences in Block Data",{"$f":"COUNTA(L56:L65)","v":10}]
[null,null,null,null,null,null,null,null,null,null,null,null,null,null,null,"Total Sequences in Summary",{"$f":"SUM(O7:O14)","v":59},null,null,null,null,"Total Sequences in Block Summary",{"$f":"SUM(U7:U14)","v":10},null,null,null,"Total Sequences in Block Summary",{"$f":"SUM(Z7:Z14)","v":10},null,null,null,"Total Sequences in Block Summary",{"$f":"SUM(AE7:AE14)","v":9},null,null,null,"Total Sequences in Block Summary",{"$f":"SUM(AJ7:AJ14)","v":10},null,null,null,"Total Sequences in Block Summary",{"$f":"SUM(AO7:AO14)","v":10},null,null,null,"Total Sequences in Block Summary",{"$f":"SUM(AT7:AT14)","v":10}]
[null,null,null,null,null,null,null,null,null,null,null,null,null,null,null,null,null,null,null,"Block 1",null,null,null,null,"Block 2",null,null,null,null,"Block 3",null,null,null,null,"Block 4",null,null,null,null,"Block 5",null,null,null,null,"Block 6"]
["Sequence\nComponent\n1","Time\n1","Sequence\nComponent\n2","Time\n2","Sequence\nComponent\n3","Time\n3","Sequence\nComponent\n4","Time\n4","Sequence\nComponent\n5","Time\n5","Correct?\n0=No 1=Yes","Sequence",null,"Frequency",null,"Relative Frequency","Variability",null,null,"Frequency",null,"Relative Frequency","Variability",null,"Frequency",null,"Relative Frequency","Variability",null,"Frequency",null,"Relative Frequency","Variability",null,"Frequency",null,"Relative Frequency","Variability",null,"Frequency",null,"Relative Frequency","Variability",null,"Frequency",null,"Relative Frequency","Variability"]
[22,15,24,20,14,38,null,null,null,null,0,221,null,111,{"$f":"COUNTIF($L$7:$L$500,N7)","v":4},{"$f":"O7/$Q$4","v":6.7796610169491525E-2},{"$f":"IF(P7=0,0,(P7*((LOG(P7))/LOG(2))))","v":-0.2632300372448706},null,null,{"$f":"N7","v":111},{"$f":"COUNTIF(L7:L16,T7)","v":2},{"$f":"U7/(W4-U10)","v":0.2},{"$f":"IF(V7=0,0,(V7*((LOG(V7))/LOG(2))))","v":-0.46438561897747244},null,{"$f":"N7","v":111},{"$f":"COUNTIF(L17:L26,Y7)","v":0},{"$f":"Z7/(AB4-Z10)","v":0},{"$f":"IF(AA7=0,0,(AA7*((LOG(AA7))/LOG(2))))","v":0},null,{"$f":"N7","v":111},{"$f":"COUNTIF(L27:L35,AD7)","v":0},{"$f":"AE7/(AG4-AE10)","v":0},{"$f":"IF(AF7=0,0,(AF7*((LOG(AF7))/LOG(2))))","v":0},null,{"$f":"N7","v":111},{"$f":"COUNTIF(L36:L45,AI7)","v":0},{"$f":"AJ7/(AL4-AJ10)","v":0},{"$f":"IF(AK7=0,0,(AK7*((LOG(AK7))/LOG(2))))","v":0},null,{"$f":"N7","v":111},{"$f":"COUNTIF(L46:L55,AN7)","v":1},{"$f":"AO7/(AQ4-AO10)","v":0.14285714285714285},{"$f":"IF(AP7=0,0,(AP7*((LOG(AP7))/LOG(2))))","v":-0.40105070315108626},null,{"$f":"N7","v":111},{"$f":"COUNTIF(L56:L65,AS7)","v":1},{"$f":"AT7/(AV4-AT10)","v":0.14285714285714285},{"$f":"IF(AU7=0,0,(AU7*((LOG(AU7))/LOG(2))))","v":-0.40105070315108626}]
[11,135,11,139,21,150,null,null,null,null,0,112,null,112,40,0.67796610169491522,-0.38014573184710437,null,null,112,{"$f":"COUNTIF(L7:L16,T8)","v":7},{"$f":"U8/(W4-U10)","v":0.7},{"$f":"IF(V8=0,0,(V8*((LOG(V8))/LOG(2))))","v":-0.36020122098083079},null,112,{"$f":"COUNTIF(L17:L26,Y8)","v":7},{"$f":"Z8/(AB4-Z10)","v":1},{"$f":"IF(AA8=0,0,(AA8*((LOG(AA8))/LOG(2))))","v":0},null,112,{"$f":"COUNTIF(L27:L35,AD8)","v":8},{"$f":"AE8/(AG4-AE10)","v":1},{"$f":"IF(AF8=0,0,(AF8*((LOG(AF8))/LOG(2))))","v":0},null,112,{"$f":"COUNTIF(L36:L45,AI8)","v":6},{"$f":"AJ8/(AL4-AJ10)","v":0.8571428571428571},{"$f":"IF(AK8=0,0,(AK8*((LOG(AK8))/LOG(2))))","v":-0.19062207543124113},null,112,{"$f":"COUNTIF(L46:L55,AN8)","v":6},{"$f":"AO8/(AQ4-AO10)","v":0.8571428571428571},{"$f":"IF(AP8=0,0,(AP8*((LOG(AP8))/LOG(2))))","v":-0.19062207543124113},null,112,{"$f":"COUNTIF(L56:L65,AS8)","v":6},{"$f":"AT8/(AV4-AT10)","v":0.8571428571428571},{"$f":"IF(AU8=0,0,(AU8*((LOG(AU8))/LOG(2))))","v":-0.19062207543124113}]
[11,240,11,244,21,292,null,null,null,null,0,112,null,121,1,1.6949152542372881E-2,-9.9705814395963419E-2,null,null,121,{"$f":"COUNTIF(L7:L16,T9)","v":0},{"$f":"U9/(W4-U10)","v":0},{"$f":"IF(V9=0,0,(V9*((LOG(V9))/LOG(2))))","v":0},null,121,{"$f":"COUNTIF(L17:L26,Y9)","v":0},{"$f":"Z9/(AB4-Z10)","v":0},{"$f":"IF(AA9=0,0,(AA9*((LOG(AA9))/LOG(2))))","v":0},null,121,{"$f":"COUNTIF(L27:L35,AD9)","v":0},{"$f":"AE9/(AG4-AE10)","v":0},{"$f":"IF(AF9=0,0,(AF9*((LOG(AF9))/LOG(2))))","v":0},null,121,{"$f":"COUNTIF(L36:L45,AI9)","v":1},{"$f":"AJ9/(AL4-AJ10)","v":0.14285714285714285},{"$f":"IF(AK9=0,0,(AK9*((LOG(AK9))/LOG(2))))","v":-0.40105070315108626},null,121,{"$f":"COUNTIF(L46:L55,AN9)","v":0},{"$f":"AO9/(AQ4-AO10)","v":0},{"$f":"IF(AP9=0,0,(AP9*((LOG(AP9))/LOG(2))))","v":0},null,121,{"$f":"COUNTIF(L56:L65,AS9)","v":0},{"$f":"AT9/(AV4-AT10)","v":0},{"$f":"IF(AU9=0,0,(AU9*((LOG(AU9))/LOG(2))))","v":0}]
[11,387,11,391,21,453,null,null,null,null,0,112,null,122,13,0.22033898305084745,-0.48082446281135144,null,null,122,{"$f":"COUNTIF(L7:L16,T10)","v":0},null,null,null,122,{"$f":"COUNTIF(L17:L26,Y10)","v":3},null,null,null,122,{"$f":"COUNTIF(L27:L35,AD10)","v":1},null,null,null,122,{"$f":"COUNTIF(L36:L45,AI10)","v":3},null,null,null,122,{"$f":"COUNTIF(L46:L55,AN10)","v":3},null,null,null,122,{"$f":"COUNTIF(L56:L65,AS10)","v":3}]
[11,543,11,547,21,560,null,null,null,null,0,112,null,211,0,0,0,null,null,211,{"$f":"COUNTIF(L7:L16,T11)","v":0},{"$f":"U11/(W4-U10)","v":0},{"$f":"IF(V11=0,0,(V11*((LOG(V11))/LOG(2))))","v":0},null,211,{"$f":"COUNTIF(L17:L26,Y11)","v":0},{"$f":"Z11/(AB4-Z10)","v":0},{"$f":"IF(AA11=0,0,(AA11*((LOG(AA11))/LOG(2))))","v":0},null,211,{"$f":"COUNTIF(L27:L35,AD11)","v":0},{"$f":"AE11/(AG4-AE10)","v":0},{"$f":"IF(AF11=0,0,(AF11*((LOG(AF11))/LOG(2))))","v":0},null,211,{"$f":"COUNTIF(L36:L45,AI11)","v":0},{"$f":"AJ11/(AL4-AJ10)","v":0},{"$f":"IF(AK11=0,0,(AK11*((LOG(AK11))/LOG(2))))","v":0},null,211,{"$f":"COUNTIF(L46:L55,AN11)","v":0},{"$f":"AO11/(AQ4-AO10)","v":0},{"$f":"IF(AP11=0,0,(AP11*((LOG(AP11))/LOG(2))))","v":0},null,211,{"$f":"COUNTIF(L56:L65,AS11)","v":0},{"$f":"AT11/(AV4-AT10)","v":0},{"$f":"IF(AU11=0,0,(AU11*((LOG(AU11))/LOG(2))))","v":0}]
[11,649,11,653,12,658,null,null,null,null,0,111,null,212,0,0,0,null,null,212,{"$f":"COUNTIF(L7:L16,T12)","v":0},{"$f":"U12/(W4-U10)","v":0},{"$f":"IF(V12=0,0,(V12*((LOG(V12))/LOG(2))))","v":0},null,212,{"$f":"COUNTIF(L17:L26,Y12)","v":0},{"$f":"Z12/(AB4-Z10)","v":0},{"$f":"IF(AA12=0,0,(AA12*((LOG(AA12))/LOG(2))))","v":0},null,212,{"$f":"COUNTIF(L27:L35,AD12)","v":0},{"$f":"AE12/(AG4-AE10)","v":0},{"$f":"IF(AF12=0,0,(AF12*((LOG(AF12))/LOG(2))))","v":0},null,212,{"$f":"COUNTIF(L36:L45,AI12)","v":0},{"$f":"AJ12/(AL4-AJ10)","v":0},{"$f":"IF(AK12=0,0,(AK12*((LOG(AK12))/LOG(2))))","v":0},null,212,{"$f":"COUNTIF(L46:L55,AN12)","v":0},{"$f":"AO12/(AQ4-AO10)","v":0},{"$f":"IF(AP12=0,0,(AP12*((LOG(AP12))/LOG(2))))","v":0},null,212,{"$f":"COUNTIF(L56:L65,AS12)","v":0},{"$f":"AT12/(AV4-AT10)","v":0},{"$f":"IF(AU12=0,0,(AU12*((LOG(AU12))/LOG(2))))","v":0}]
[11,753,11,757,12,761,null,null,null,null,0,111,null,221,1,1.6949152542372881E-2,-9.9705814395963419E-2,null,null,221,{"$f":"COUNTIF(L7:L16,T13)","v":1},{"$f":"U13/(W4-U10)","v":0.1},{"$f":"IF(V13=0,0,(V13*((LOG(V13))/LOG(2))))","v":-0.33219280948873625},null,221,{"$f":"COUNTIF(L17:L26,Y13)","v":0},{"$f":"Z13/(AB4-Z10)","v":0},{"$f":"IF(AA13=0,0,(AA13*((LOG(AA13))/LOG(2))))","v":0},null,221,{"$f":"COUNTIF(L27:L35,AD13)","v":0},{"$f":"AE13/(AG4-AE10)","v":0},{"$f":"IF(AF13=0,0,(AF13*((LOG(AF13))/LOG(2))))","v":0},null,221,{"$f":"COUNTIF(L36:L45,AI13)","v":0},{"$f":"AJ13/(AL4-AJ10)","v":0},{"$f":"IF(AK13=0,0,(AK13*((LOG(AK13))/LOG(2))))","v":0},null,221,{"$f":"COUNTIF(L46:L55,AN13)","v":0},{"$f":"AO13/(AQ4-AO10)","v":0},{"$f":"IF(AP13=0,0,(AP13*((LOG(AP13))/LOG(2))))","v":0},null,221,{"$f":"COUNTIF(L56:L65,AS13)","v":0},{"$f":"AT13/(AV4-AT10)","v":0},{"$f":"IF(AU13=0,0,(AU13*((LOG(AU13))/LOG(2))))","v":0}]
[11,861,11,865,21,904,null,null,null,null,0,112,null,222,0,0,0,null,null,222,{"$f":"COUNTIF(L7:L16,T14)","v":0},{"$f":"U14/(W4-U10)","v":0},{"$f":"IF(V14=0,0,(V14*((LOG(V14))/LOG(2))))","v":0},null,222,{"$f":"COUNTIF(L17:L26,Y14)","v":0},{"$f":"Z14/(AB4-Z10)","v":0},{"$f":"IF(AA14=0,0,(AA14*((LOG(AA14))/LOG(2))))","v":0},null,222,{"$f":"COUNTIF(L27:L35,AD14)","v":0},{"$f":"AE14/(AG4-AE10)","v":0},{"$f":"IF(AF14=0,0,(AF14*((LOG(AF14))/LOG(2))))","v":0},null,222,{"$f":"COUNTIF(L36:L45,AI14)","v":0},{"$f":"AJ14/(AL4-AJ10)","v":0},{"$f":"IF(AK14=0,0,(AK14*((LOG(AK14))/LOG(2))))","v":0},null,222,{"$f":"COUNTIF(L46:L55,AN14)","v":0},{"$f":"AO14/(AQ4-AO10)","v":0},{"$f":"IF(AP14=0,0,(AP14*((LOG(AP14))/LOG(2))))","v":0},null,222,{"$f":"COUNTIF(L56:L65,AS14)","v":0},{"$f":"AT14/(AV4-AT10)","v":0},{"$f":"IF(AU14=0,0,(AU14*((LOG(AU14))/LOG(2))))","v":0}]
[11,995,11,1000,21,1025,null,null,null,null,0,112,null,null,null,{"$f":"SUM(P7:P14)","v":0.99999999999999989},{"$f":"-SUM(Q7:Q14)","v":1.3236118606952534},null,null,null,null,{"$f":"SUM(V7:V14)","v":0.99999999999999989},{"$f":"-SUM(W7:W14)","v":1.1567796494470395},null,null,null,{"$f":"SUM(AA7:AA14)","v":1},{"$f":"-SUM(AB7:AB14)","v":0},null,null,null,{"$f":"SUM(AF7:AF14)","v":1},{"$f":"-SUM(AG7:AG14)","v":0},null,null,null,{"$f":"SUM(AK7:AK14)","v":1},{"$f":"-SUM(AL7:AL14)","v":0.59167277858232736},null,null,null,{"$f":"SUM(AP7:AP14)","v":1},{"$f":"-SUM(AQ7:AQ14)","v":0.59167277858232736},null,null,null,{"$f":"SUM(AU7:AU14)","v":1},{"$f":"-SUM(AV7:AV14)","v":0.59167277858232736}]
[11,1116,11,1126,21,1166,null,null,null,null,0,112,null,null,null,"U=",{"$f":"Q15/(LOG(Q4)/LOG(2))","v":0.22500291953611581},null,null,null,null,"U1=",{"$f":"W15/(LOG(W4)/LOG(2))","v":0.34822537285722399},null,null,null,"U2=",{"$f":"AB15/(LOG(AB4)/LOG(2))","v":0},null,null,null,"U3=",{"$f":"AG15/(LOG(AG4)/LOG(2))","v":0},null,null,null,"U4=",{"$f":"AL15/(LOG(AL4)/LOG(2))","v":0.17811125397113373},null,null,null,"U5=",{"$f":"AQ15/(LOG(AQ4)/LOG(2))","v":0.17811125397113373},null,null,null,"U6=",{"$f":"AV15/(LOG(AV4)/LOG(2))","v":0.17811125397113373}]
[11,1255,11,1259,21,1269,null,null,null,null,0,112]
[11,1355,11,1360,21,1369,null,null,null,null,0,112]
[11,1457,11,1461,21,1471,null,null,null,null,0,112,null,"Total Target Seq"]
[11,1560,22,1577,23,1590,null,null,null,null,0,122,null,{"$f":"COUNTIF(L7:L65,G3)","v":13},null,10,10,9,10,10,10]
[11,1688,11,1693,21,1738,null,null,null,null,0,112,null,null,null,"% of reinforcement given in 6 equal intervals based on number of trials "]
[11,1830,22,1851,23,1881,null,null,null,null,0,122,null,null,null,"%_1","%_2","%_3","%_4","%_5","%_6"]
[11,1979,11,1986,21,2019,null,null,null,null,0,112,null,null,"target sequence",{"$f":"$G$3","v":122},122,122,122,122,122]
[11,2113,22,2122,23,2157,null,null,null,null,0,122,null,null,"total reinforcement",{"$f":"U10","v":0},{"$f":"Z10","v":3},{"$f":"AE10","v":1},{"$f":"AJ10","v":3},{"$f":"AO10","v":3},{"$f":"AT10","v":3}]
[11,2258,11,2263,21,2314,null,null,null,null,0,112,null,null,"% target"]
[11,2408,11,2413,21,2473,null,null,null,null,0,112,null,null,"CCRF"]
[11,2565,11,2570,21,2596,null,null,null,null,0,112,null,null,"% CCRf"]
[11,2685,11,2689,21,2699,null,null,null,null,0,112,null,null,"average response rate",{"$f":"F16/P20","v":116.6},{"$f":"(F26-F16)/Q20","v":130.69999999999999},{"$f":"(F35-F26)/R20","v":127},{"$f":"(F45-F35)/S20","v":151.1},{"$f":"(F55-F45)/T20","v":126.2},{"$f":"(F65-F55)/U20","v":146.30000000000001}]
[11,2788,11,2793,21,2821,null,null,null,null,0,112]
[11,2907,11,2913,21,2922,null,null,null,null,0,112]
[11,3015,22,3053,23,3084,null,null,null,null,0,122]
[11,3181,11,3186,21,3196,null,null,null,null,0,112]
[11,3286,11,3290,21,3377,null,null,null,null,0,112]
[11,3466,11,3471,21,3497,null,null,null,null,0,112]
[11,3586,11,3595,21,3616,null,null,null,null,0,112]
[11,3709,22,3732,23,3745,null,null,null,null,0,122]
[11,3845,11,3850,21,3856,null,null,null,null,0,112]
[11,3944,11,3949,21,3990,null,null,null,null,0,112]
[11,4081,22,4116,23,4130,null,null,null,null,0,122]
[11,4243,22,4288,23,4298,null,null,null,null,0,122]
[11,4403,11,4410,21,4495,null,null,null,null,0,112]
[11,4589,22,4611,14,4639,null,null,null,null,0,121]
[11,4751,11,4756,21,4849,null,null,null,null,0,112]
[11,4936,11,4941,21,4957,null,null,null,null,0,112]
[11,5043,11,5054,21,5127,null,null,null,null,0,112]
[11,5215,11,5219,21,5228,null,null,null,null,0,112]
[11,5322,22,5342,23,5353,null,null,null,null,0,122]
[11,5460,22,5498,23,5510,null,null,null,null,0,122]
[11,5607,11,5612,12,5623,null,null,null,null,0,111]
[11,5727,11,5733,21,5758,null,null,null,null,0,112]
[11,5848,11,5856,21,5878,null,null,null,null,0,112]
[11,5967,11,5972,21,6016,null,null,null,null,0,112]
[11,6109,22,6118,23,6139,null,null,null,null,0,122]
[11,6234,11,6238,21,6279,null,null,null,null,0,112]
[11,6365,11,6370,21,6389,null,null,null,null,0,112]
[11,6479,11,6483,21,6542,null,null,null,null,0,112]
[11,6634,22,6654,23,6671,null,null,null,null,0,122]
[11,6774,22,6798,23,6820,null,null,null,null,0,122]
[11,6917,11,6922,12,6931,null,null,null,null,0,111]
[11,7035,11,7041,21,7055,null,null,null,null,0,112]
[11,7143,11,7148,21,7162,null,null,null,null,0,112]
[11,7251,11,7256,21,7320,null,null,null,null,0,112]
[11,7407,22,7428,23,7588,null,null,null,null,0,122]
[11,7697,11,7709,21,7738,null,null,null,null,0,112]
[11,7826,11,7835,21,7852,null,null,null,null,1,112]

{"sheet":"!L823C30.056","index":28,"n_rows":69,"n_cols":48,"rows_kept":69,"cut":false,"hidden":false,"merged":[[1,1,1,2],[5,13,5,14],[18,13,18,14],[19,13,19,14],[4,19,4,22],[5,19,5,20],[4,39,4,42],[5,39,5,40],[4,44,4,47],[5,44,5,45],[4,24,4,27],[5,24,5,25],[4,29,4,32],[5,29,5,30],[4,34,4,37],[5,34,5,35]]}
["Report for:!L823C30.056"]
["Date:","<date>"]
["Hen:","<hen>",null,null,null,"Correct Sequence",{"$f":"Start!J2","v":122},null,null,null,null,null,null,null,null,"Total Sequences in Data",{"$f":"4994-COUNTBLANK(L7:L5000)","v":63},null,null,null,null,"Total Sequences in Block Data",{"$f":"COUNTA(L7:L17)","v":11},null,null,null,"Total Sequences in Block Data",{"$f":"COUNTA(L18:L27)","v":10},null,null,null,"Total Sequences in Block Data",{"$f":"COUNTA(L28:L38)","v":11},null,null,null,"Total Sequences in Block Data",{"$f":"COUNTA(L39:L48)","v":10},null,null,null,"Total Sequences in Block Data",{"$f":"COUNTA(L49:L59)","v":11},null,null,null,"Total Sequences in Block Data",{"$f":"COUNTA(L60:L69)","v":10}]
[null,null,null,null,null,null,null,null,null,null,null,null,null,null,null,"Total Sequences in Summary",{"$f":"SUM(O7:O14)","v":63},null,null,null,null,"Total Sequences in Block Summary",{"$f":"SUM(U7:U14)","v":11},null,null,null,"Total Sequences in Block Summary",{"$f":"SUM(Z7:Z14)","v":10},null,null,null,"Total Sequences in Block Summary",{"$f":"SUM(AE7:AE14)","v":11},null,null,null,"Total Sequences in Block Summary",{"$f":"SUM(AJ7:AJ14)","v":10},null,null,null,"Total Sequences in Block Summary",{"$f":"SUM(AO7:AO14)","v":11},null,null,null,"Total Sequences in Block Summary",{"$f":"SUM(AT7:AT14)","v":10}]
[null,null,null,null,null,null,null,null,null,null,null,null,null,null,null,null,null,null,null,"Block 1",null,null,null,null,"Block 2",null,null,null,null,"Block 3",null,null,null,null,"Block 4",null,null,null,null,"Block 5",null,null,null,null,"Block 6"]
["Sequence\nComponent\n1","Time\n1","Sequence\nComponent\n2","Time\n2","Sequence\nComponent\n3","Time\n3","Sequence\nComponent\n4","Time\n4","Sequence\nComponent\n5","Time\n5","Correct?\n0=No 1=Yes","Sequence",null,"Frequency",null,"Relative Frequency","Variability",null,null,"Frequency",null,"Relative Frequency","Variability",null,"Frequency",null,"Relative Frequency","Variability",null,"Frequency",null,"Relative Frequency","Variability",null,"Frequency",null,"Relative Frequency","Variability",null,"Frequency",null,"Relative Frequency","Variability",null,"Frequency",null,"Relative Frequency","Variability"]
[11,10,11,19,21,28,null,null,null,null,0,112,null,111,{"$f":"COUNTIF($L$7:$L$500,N7)","v":2},{"$f":"O7/$Q$4","v":3.1746031746031744E-2},{"$f":"IF(P7=0,0,(P7*((LOG(P7))/LOG(2))))","v":-0.15800888646031477},null,null,{"$f":"N7","v":111},{"$f":"COUNTIF(L7:L17,T7)","v":0},{"$f":"U7/(W4-U10)","v":0},{"$f":"IF(V7=0,0,(V7*((LOG(V7))/LOG(2))))","v":0},null,{"$f":"N7","v":111},{"$f":"COUNTIF(L18:L27,Y7)","v":0},{"$f":"Z7/(AB4-Z10)","v":0},{"$f":"IF(AA7=0,0,(AA7*((LOG(AA7))/LOG(2))))","v":0},null,{"$f":"N7","v":111},{"$f":"COUNTIF(L28:L38,AD7)","v":0},{"$f":"AE7/(AG4-AE10)","v":0},{"$f":"IF(AF7=0,0,(AF7*((LOG(AF7))/LOG(2))))","v":0},null,{"$f":"N7","v":111},{"$f":"COUNTIF(L39:L48,AI7)","v":1},{"$f":"AJ7/(AL4-AJ10)","v":0.14285714285714285},{"$f":"IF(AK7=0,0,(AK7*((LOG(AK7))/LOG(2))))","v":-0.40105070315108626},null,{"$f":"N7","v":111},{"$f":"COUNTIF(L49:L59,AN7)","v":0},{"$f":"AO7/(AQ4-AO10)","v":0},{"$f":"IF(AP7=0,0,(AP7*((LOG(AP7))/LOG(2))))","v":0},null,{"$f":"N7","v":111},{"$f":"COUNTIF(L60:L69,AS7)","v":1},{"$f":"AT7/(AV4-AT10)","v":0.125},{"$f":"IF(AU7=0,0,(AU7*((LOG(AU7))/LOG(2))))","v":-0.375}]
[11,121,22,131,23,143,null,null,null,null,0,122,null,112,40,0.63492063492063489,-0.41609639911908203,null,null,112,{"$f":"COUNTIF(L7:L17,T8)","v":8},{"$f":"U8/(W4-U10)","v":1},{"$f":"IF(V8=0,0,(V8*((LOG(V8))/LOG(2))))","v":0},null,112,{"$f":"COUNTIF(L18:L27,Y8)","v":4},{"$f":"Z8/(AB4-Z10)","v":0.8},{"$f":"IF(AA8=0,0,(AA8*((LOG(AA8))/LOG(2))))","v":-0.25754247590988982},null,112,{"$f":"COUNTIF(L28:L38,AD8)","v":10},{"$f":"AE8/(AG4-AE10)","v":1},{"$f":"IF(AF8=0,0,(AF8*((LOG(AF8))/LOG(2))))","v":0},null,112,{"$f":"COUNTIF(L39:L48,AI8)","v":5},{"$f":"AJ8/(AL4-AJ10)","v":0.7142857142857143},{"$f":"IF(AK8=0,0,(AK8*((LOG(AK8))/LOG(2))))","v":-0.34673344797874411},null,112,{"$f":"COUNTIF(L49:L59,AN8)","v":6},{"$f":"AO8/(AQ4-AO10)","v":0.8571428571428571},{"$f":"IF(AP8=0,0,(AP8*((LOG(AP8))/LOG(2))))","v":-0.19062207543124113},null,112,{"$f":"COUNTIF(L60:L69,AS8)","v":7},{"$f":"AT8/(AV4-AT10)","v":0.875},{"$f":"IF(AU8=0,0,(AU8*((LOG(AU8))/LOG(2))))","v":-0.1685644431995964}]
[11,241,11,254,21,274,null,null,null,null,0,112,null,121,2,3.1746031746031744E-2,-0.15800888646031477,null,null,121,{"$f":"COUNTIF(L7:L17,T9)","v":0},{"$f":"U9/(W4-U10)","v":0},{"$f":"IF(V9=0,0,(V9*((LOG(V9))/LOG(2))))","v":0},null,121,{"$f":"COUNTIF(L18:L27,Y9)","v":1},{"$f":"Z9/(AB4-Z10)","v":0.2},{"$f":"IF(AA9=0,0,(AA9*((LOG(AA9))/LOG(2))))","v":-0.46438561897747244},null,121,{"$f":"COUNTIF(L28:L38,AD9)","v":0},{"$f":"AE9/(AG4-AE10)","v":0},{"$f":"IF(AF9=0,0,(AF9*((LOG(AF9))/LOG(2))))","v":0},null,121,{"$f":"COUNTIF(L39:L48,AI9)","v":0},{"$f":"AJ9/(AL4-AJ10)","v":0},{"$f":"IF(AK9=0,0,(AK9*((LOG(AK9))/LOG(2))))","v":0},null,121,{"$f":"COUNTIF(L49:L59,AN9)","v":1},{"$f":"AO9/(AQ4-AO10)","v":0.14285714285714285},{"$f":"IF(AP9=0,0,(AP9*((LOG(AP9))/LOG(2))))","v":-0.40105070315108626},null,121,{"$f":"COUNTIF(L60:L69,AS9)","v":0},{"$f":"AT9/(AV4-AT10)","v":0},{"$f":"IF(AU9=0,0,(AU9*((LOG(AU9))/LOG(2))))","v":0}]
[11,364,11,369,21,378,null,null,null,null,0,112,null,122,18,0.2857142857142857,-0.51638712058788683,null,null,122,{"$f":"COUNTIF(L7:L17,T10)","v":3},null,null,null,122,{"$f":"COUNTIF(L18:L27,Y10)","v":5},null,null,null,122,{"$f":"COUNTIF(L28:L38,AD10)","v":1},null,null,null,122,{"$f":"COUNTIF(L39:L48,AI10)","v":3},null,null,null,122,{"$f":"COUNTIF(L49:L59,AN10)","v":4},null,null,null,122,{"$f":"COUNTIF(L60:L69,AS10)","v":2}]
[11,470,22,496,23,509,null,null,null,null,0,122,null,211,0,0,0,null,null,211,{"$f":"COUNTIF(L7:L17,T11)","v":0},{"$f":"U11/(W4-U10)","v":0},{"$f":"IF(V11=0,0,(V11*((LOG(V11))/LOG(2))))","v":0},null,211,{"$f":"COUNTIF(L18:L27,Y11)","v":0},{"$f":"Z11/(AB4-Z10)","v":0},{"$f":"IF(AA11=0,0,(AA11*((LOG(AA11))/LOG(2))))","v":0},null,211,{"$f":"COUNTIF(L28:L38,AD11)","v":0},{"$f":"AE11/(AG4-AE10)","v":0},{"$f":"IF(AF11=0,0,(AF11*((LOG(AF11))/LOG(2))))","v":0},null,211,{"$f":"COUNTIF(L39:L48,AI11)","v":0},{"$f":"AJ11/(AL4-AJ10)","v":0},{"$f":"IF(AK11=0,0,(AK11*((LOG(AK11))/LOG(2))))","v":0},null,211,{"$f":"COUNTIF(L49:L59,AN11)","v":0},{"$f":"AO11/(AQ4-AO10)","v":0},{"$f":"IF(AP11=0,0,(AP11*((LOG(AP11))/LOG(2))))","v":0},null,211,{"$f":"COUNTIF(L60:L69,AS11)","v":0},{"$f":"AT11/(AV4-AT10)","v":0},{"$f":"IF(AU11=0,0,(AU11*((LOG(AU11))/LOG(2))))","v":0}]
[11,607,11,611,21,619,null,null,null,null,0,112,null,212,0,0,0,null,null,212,{"$f":"COUNTIF(L7:L17,T12)","v":0},{"$f":"U12/(W4-U10)","v":0},{"$f":"IF(V12=0,0,(V12*((LOG(V12))/LOG(2))))","v":0},null,212,{"$f":"COUNTIF(L18:L27,Y12)","v":0},{"$f":"Z12/(AB4-Z10)","v":0},{"$f":"IF(AA12=0,0,(AA12*((LOG(AA12))/LOG(2))))","v":0},null,212,{"$f":"COUNTIF(L28:L38,AD12)","v":0},{"$f":"AE12/(AG4-AE10)","v":0},{"$f":"IF(AF12=0,0,(AF12*((LOG(AF12))/LOG(2))))","v":0},null,212,{"$f":"COUNTIF(L39:L48,AI12)","v":0},{"$f":"AJ12/(AL4-AJ10)","v":0},{"$f":"IF(AK12=0,0,(AK12*((LOG(AK12))/LOG(2))))","v":0},null,212,{"$f":"COUNTIF(L49:L59,AN12)","v":0},{"$f":"AO12/(AQ4-AO10)","v":0},{"$f":"IF(AP12=0,0,(AP12*((LOG(AP12))/LOG(2))))","v":0},null,212,{"$f":"COUNTIF(L60:L69,AS12)","v":0},{"$f":"AT12/(AV4-AT10)","v":0},{"$f":"IF(AU12=0,0,(AU12*((LOG(AU12))/LOG(2))))","v":0}]
[11,708,11,713,21,722,null,null,null,null,0,112,null,221,0,0,0,null,null,221,{"$f":"COUNTIF(L7:L17,T13)","v":0},{"$f":"U13/(W4-U10)","v":0},{"$f":"IF(V13=0,0,(V13*((LOG(V13))/LOG(2))))","v":0},null,221,{"$f":"COUNTIF(L18:L27,Y13)","v":0},{"$f":"Z13/(AB4-Z10)","v":0},{"$f":"IF(AA13=0,0,(AA13*((LOG(AA13))/LOG(2))))","v":0},null,221,{"$f":"COUNTIF(L28:L38,AD13)","v":0},{"$f":"AE13/(AG4-AE10)","v":0},{"$f":"IF(AF13=0,0,(AF13*((LOG(AF13))/LOG(2))))","v":0},null,221,{"$f":"COUNTIF(L39:L48,AI13)","v":0},{"$f":"AJ13/(AL4-AJ10)","v":0},{"$f":"IF(AK13=0,0,(AK13*((LOG(AK13))/LOG(2))))","v":0},null,221,{"$f":"COUNTIF(L49:L59,AN13)","v":0},{"$f":"AO13/(AQ4-AO10)","v":0},{"$f":"IF(AP13=0,0,(AP13*((LOG(AP13))/LOG(2))))","v":0},null,221,{"$f":"COUNTIF(L60:L69,AS13)","v":0},{"$f":"AT13/(AV4-AT10)","v":0},{"$f":"IF(AU13=0,0,(AU13*((LOG(AU13))/LOG(2))))","v":0}]
[11,811,22,820,23,831,null,null,null,null,0,122,null,222,1,1.5873015873015872E-2,-9.4877459103173273E-2,null,null,222,{"$f":"COUNTIF(L7:L17,T14)","v":0},{"$f":"U14/(W4-U10)","v":0},{"$f":"IF(V14=0,0,(V14*((LOG(V14))/LOG(2))))","v":0},null,222,{"$f":"COUNTIF(L18:L27,Y14)","v":0},{"$f":"Z14/(AB4-Z10)","v":0},{"$f":"IF(AA14=0,0,(AA14*((LOG(AA14))/LOG(2))))","v":0},null,222,{"$f":"COUNTIF(L28:L38,AD14)","v":0},{"$f":"AE14/(AG4-AE10)","v":0},{"$f":"IF(AF14=0,0,(AF14*((LOG(AF14))/LOG(2))))","v":0},null,222,{"$f":"COUNTIF(L39:L48,AI14)","v":1},{"$f":"AJ14/(AL4-AJ10)","v":0.14285714285714285},{"$f":"IF(AK14=0,0,(AK14*((LOG(AK14))/LOG(2))))","v":-0.40105070315108626},null,222,{"$f":"COUNTIF(L49:L59,AN14)","v":0},{"$f":"AO14/(AQ4-AO10)","v":0},{"$f":"IF(AP14=0,0,(AP14*((LOG(AP14))/LOG(2))))","v":0},null,222,{"$f":"COUNTIF(L60:L69,AS14)","v":0},{"$f":"AT14/(AV4-AT10)","v":0},{"$f":"IF(AU14=0,0,(AU14*((LOG(AU14))/LOG(2))))","v":0}]
[11,931,11,935,21,944,null,null,null,null,0,112,null,null,null,{"$f":"SUM(P7:P14)","v":1},{"$f":"-SUM(Q7:Q14)","v":1.3433787517307716},null,null,null,null,{"$f":"SUM(V7:V14)","v":1},{"$f":"-SUM(W7:W14)","v":0},null,null,null,{"$f":"SUM(AA7:AA14)","v":1},{"$f":"-SUM(AB7:AB14)","v":0.72192809488736231},null,null,null,{"$f":"SUM(AF7:AF14)","v":1},{"$f":"-SUM(AG7:AG14)","v":0},null,null,null,{"$f":"SUM(AK7:AK14)","v":1},{"$f":"-SUM(AL7:AL14)","v":1.1488348542809166},null,null,null,{"$f":"SUM(AP7:AP14)","v":1},{"$f":"-SUM(AQ7:AQ14)","v":0.59167277858232736},null,null,null,{"$f":"SUM(AU7:AU14)","v":1},{"$f":"-SUM(AV7:AV14)","v":0.5435644431995964}]
[11,1031,11,1036,21,1069,null,null,null,null,0,112,null,null,null,"U=",{"$f":"Q15/(LOG(Q4)/LOG(2))","v":0.2247475053743466},null,null,null,null,"U1=",{"$f":"W15/(LOG(W4)/LOG(2))","v":0},null,null,null,"U2=",{"$f":"AB15/(LOG(AB4)/LOG(2))","v":0.21732201127364889},null,null,null,"U3=",{"$f":"AG15/(LOG(AG4)/LOG(2))","v":0},null,null,null,"U4=",{"$f":"AL15/(LOG(AL4)/LOG(2))","v":0.34583375120281479},null,null,null,"U5=",{"$f":"AQ15/(LOG(AQ4)/LOG(2))","v":0.17103178897792257},null,null,null,"U6=",{"$f":"AV15/(LOG(AV4)/LOG(2))","v":0.16362920197946887}]
[11,1160,11,1166,21,1179,null,null,null,null,0,112]
[11,1269,11,1273,21,1295,null,null,null,null,0,112]
[11,1383,22,1408,23,1422,null,null,null,null,0,122,null,"Total Target Seq"]
[11,1520,22,1529,23,1538,null,null,null,null,0,122,null,{"$f":"COUNTIF(L7:L69,G3)","v":18},null,11,10,11,10,11,10]
[11,1635,22,1652,14,1666,null,null,null,null,0,121,null,null,null,"% of reinforcement given in 6 equal intervals based on number of trials "]
[11,1762,22,1778,23,1798,null,null,null,null,0,122,null,null,null,"%_1","%_2","%_3","%_4","%_5","%_6"]
[11,1894,22,1908,23,1935,null,null,null,null,0,122,null,null,"target sequence",{"$f":"$G$3","v":122},122,122,122,122,122]
[11,2029,11,2034,21,2051,null,null,null,null,0,112,null,null,"total reinforcement",{"$f":"U10","v":3},{"$f":"Z10","v":5},{"$f":"AE10","v":1},{"$f":"AJ10","v":3},{"$f":"AO10","v":4},{"$f":"AT10","v":2}]
[11,2139,11,2144,21,2172,null,null,null,null,0,112,null,null,"% target"]
[11,2262,22,2292,23,2301,null,null,null,null,0,122,null,null,"CCRF"]
[11,2399,11,2403,21,2447,null,null,null,null,0,112,null,null,"% CCRf"]
[11,2540,11,2545,21,2561,null,null,null,null,0,112,null,null,"average response rate",{"$f":"F17/P20","v":107.18181818181819},{"$f":"(F27-F17)/Q20","v":126.8},{"$f":"(F38-F27)/R20","v":120.72727272727273},{"$f":"(F48-F38)/S20","v":130},{"$f":"(F59-F48)/T20","v":132.27272727272728},{"$f":"(F69-F59)/U20","v":121.7}]
[11,2648,11,2653,21,2683,null,null,null,null,0,112]
[11,2770,11,2777,21,2869,null,null,null,null,0,112]
[11,2956,11,2960,21,2975,null,null,null,null,0,112]
[11,3063,11,3068,21,3098,null,null,null,null,0,112]
[11,3187,11,3192,21,3212,null,null,null,null,0,112]
[11,3298,11,3302,21,3312,null,null,null,null,0,112]
[11,3399,11,3405,21,3437,null,null,null,null,0,112]
[11,3526,11,3533,21,3549,null,null,null,null,0,112]
[11,3636,11,3641,21,3650,null,null,null,null,0,112]
[11,3738,22,3757,23,3775,null,null,null,null,0,122]
[11,3873,22,3883,23,3898,null,null,null,null,0,122]
[11,3994,11,4007,21,4032,null,null,null,null,0,112]
[11,4117,11,4122,21,4162,null,null,null,null,0,112]
[11,4246,11,4251,21,4278,null,null,null,null,0,112]
[11,4366,11,4372,21,4398,null,null,null,null,0,112]
[11,4483,11,4489,12,4493,null,null,null,null,0,111]
[22,4617,24,4662,23,4679,null,null,null,null,0,222]
[11,4778,22,4787,23,4808,null,null,null,null,0,122]
[11,4907,22,4931,23,4944,null,null,null,null,0,122]
[11,5043,11,5048,21,5075,null,null,null,null,0,112]
[11,5161,11,5170,21,5186,null,null,null,null,0,112]
[11,5274,11,5284,21,5358,null,null,null,null,0,112]
[11,5446,11,5450,21,5464,null,null,null,null,0,112]
[11,5550,22,5567,23,5580,null,null,null,null,0,122]
[11,5677,11,5686,21,5745,null,null,null,null,0,112]
[11,5831,11,5836,21,5852,null,null,null,null,0,112]
[11,5942,22,5971,23,5995,null,null,null,null,0,122]
[11,6093,22,6123,14,6137,null,null,null,null,0,121]
[11,6235,22,6251,23,6263,null,null,null,null,0,122]
[11,6364,22,6382,23,6400,null,null,null,null,0,122]
[11,6495,11,6504,21,6530,null,null,null,null,0,112]
[11,6617,11,6659,21,6693,null,null,null,null,0,112]
[11,6784,11,6811,21,6823,null,null,null,null,0,112]
[11,6908,11,6912,21,6922,null,null,null,null,0,112]
[11,7008,11,7017,21,7034,null,null,null,null,0,112]
[11,7119,11,7125,21,7157,null,null,null,null,0,112]
[11,7243,22,7253,23,7259,null,null,null,null,0,122]
[11,7357,22,7411,23,7419,null,null,null,null,0,122]
[11,7516,11,7524,12,7529,null,null,null,null,0,111]
[11,7628,11,7634,21,7643,null,null,null,null,0,112]
[11,7731,11,7737,21,7747,null,null,null,null,1,112]

{"sheet":"!L824C30.056","index":29,"n_rows":76,"n_cols":48,"rows_kept":76,"cut":false,"hidden":false,"merged":[[1,1,1,2],[5,13,5,14],[18,13,18,14],[19,13,19,14],[4,19,4,22],[5,19,5,20],[4,39,4,42],[5,39,5,40],[4,44,4,47],[5,44,5,45],[4,24,4,27],[5,24,5,25],[4,29,4,32],[5,29,5,30],[4,34,4,37],[5,34,5,35]]}
["Report for:!L824C30.056"]
["Date:","<date>"]
["Hen:","<hen>",null,null,null,"Correct Sequence",{"$f":"Start!J2","v":122},null,null,null,null,null,null,null,null,"Total Sequences in Data",{"$f":"4994-COUNTBLANK(L7:L5000)","v":70},null,null,null,null,"Total Sequences in Block Data",{"$f":"COUNTA(L7:L18)","v":12},null,null,null,"Total Sequences in Block Data",{"$f":"COUNTA(L19:L29)","v":11},null,null,null,"Total Sequences in Block Data",{"$f":"COUNTA(L30:L41)","v":12},null,null,null,"Total Sequences in Block Data",{"$f":"COUNTA(L42:L53)","v":12},null,null,null,"Total Sequences in Block Data",{"$f":"COUNTA(L54:L64)","v":11},null,null,null,"Total Sequences in Block Data",{"$f":"COUNTA(L65:L76)","v":12}]
[null,null,null,null,null,null,null,null,null,null,null,null,null,null,null,"Total Sequences in Summary",{"$f":"SUM(O7:O14)","v":70},null,null,null,null,"Total Sequences in Block Summary",{"$f":"SUM(U7:U14)","v":12},null,null,null,"Total Sequences in Block Summary",{"$f":"SUM(Z7:Z14)","v":11},null,null,null,"Total Sequences in Block Summary",{"$f":"SUM(AE7:AE14)","v":12},null,null,null,"Total Sequences in Block Summary",{"$f":"SUM(AJ7:AJ14)","v":12},null,null,null,"Total Sequences in Block Summary",{"$f":"SUM(AO7:AO14)","v":11},null,null,null,"Total Sequences in Block Summary",{"$f":"SUM(AT7:AT14)","v":12}]
[null,null,null,null,null,null,null,null,null,null,null,null,null,null,null,null,null,null,null,"Block 1",null,null,null,null,"Block 2",null,null,null,null,"Block 3",null,null,null,null,"Block 4",null,null,null,null,"Block 5",null,null,null,null,"Block 6"]
["Sequence\nComponent\n1","Time\n1","Sequence\nComponent\n2","Time\n2","Sequence\nComponent\n3","Time\n3","Sequence\nComponent\n4","Time\n4","Sequence\nComponent\n5","Time\n5","Correct?\n0=No 1=Yes","Sequence",null,"Frequency",null,"Relative Frequency","Variability",null,null,"Frequency",null,"Relative Frequency","Variability",null,"Frequency",null,"Relative Frequency","Variability",null,"Frequency",null,"Relative Frequency","Variability",null,"Frequency",null,"Relative Frequency","Variability",null,"Frequency",null,"Relative Frequency","Variability",null,"Frequency",null,"Relative Frequency","Variability"]
[11,12,11,17,21,24,null,null,null,null,0,112,null,111,{"$f":"COUNTIF($L$7:$L$500,N7)","v":3},{"$f":"O7/$Q$4","v":4.2857142857142858E-2},{"$f":"IF(P7=0,0,(P7*((LOG(P7))/LOG(2))))","v":-0.19475659355244901},null,null,{"$f":"N7","v":111},{"$f":"COUNTIF(L7:L18,T7)","v":0},{"$f":"U7/(W4-U10)","v":0},{"$f":"IF(V7=0,0,(V7*((LOG(V7))/LOG(2))))","v":0},null,{"$f":"N7","v":111},{"$f":"COUNTIF(L19:L29,Y7)","v":1},{"$f":"Z7/(AB4-Z10)","v":0.14285714285714285},{"$f":"IF(AA7=0,0,(AA7*((LOG(AA7))/LOG(2))))","v":-0.40105070315108626},null,{"$f":"N7","v":111},{"$f":"COUNTIF(L30:L41,AD7)","v":0},{"$f":"AE7/(AG4-AE10)","v":0},{"$f":"IF(AF7=0,0,(AF7*((LOG(AF7))/LOG(2))))","v":0},null,{"$f":"N7","v":111},{"$f":"COUNTIF(L42:L53,AI7)","v":1},{"$f":"AJ7/(AL4-AJ10)","v":9.0909090909090912E-2},{"$f":"IF(AK7=0,0,(AK7*((LOG(AK7))/LOG(2))))","v":-0.31449378351248153},null,{"$f":"N7","v":111},{"$f":"COUNTIF(L54:L64,AN7)","v":1},{"$f":"AO7/(AQ4-AO10)","v":0.1111111111111111},{"$f":"IF(AP7=0,0,(AP7*((LOG(AP7))/LOG(2))))","v":-0.3522138890491458},null,{"$f":"N7","v":111},{"$f":"COUNTIF(L65:L76,AS7)","v":0},{"$f":"AT7/(AV4-AT10)","v":0},{"$f":"IF(AU7=0,0,(AU7*((LOG(AU7))/LOG(2))))","v":0}]
[11,119,22,133,23,145,null,null,null,null,0,122,null,112,40,0.5714285714285714,-0.46134566974720237,null,null,112,{"$f":"COUNTIF(L7:L18,T8)","v":9},{"$f":"U8/(W4-U10)","v":1},{"$f":"IF(V8=0,0,(V8*((LOG(V8))/LOG(2))))","v":0},null,112,{"$f":"COUNTIF(L19:L29,Y8)","v":4},{"$f":"Z8/(AB4-Z10)","v":0.5714285714285714},{"$f":"IF(AA8=0,0,(AA8*((LOG(AA8))/LOG(2))))","v":-0.46134566974720237},null,112,{"$f":"COUNTIF(L30:L41,AD8)","v":7},{"$f":"AE8/(AG4-AE10)","v":0.875},{"$f":"IF(AF8=0,0,(AF8*((LOG(AF8))/LOG(2))))","v":-0.1685644431995964},null,112,{"$f":"COUNTIF(L42:L53,AI8)","v":7},{"$f":"AJ8/(AL4-AJ10)","v":0.63636363636363635},{"$f":"IF(AK8=0,0,(AK8*((LOG(AK8))/LOG(2))))","v":-0.41495789782344106},null,112,{"$f":"COUNTIF(L54:L64,AN8)","v":6},{"$f":"AO8/(AQ4-AO10)","v":0.66666666666666663},{"$f":"IF(AP8=0,0,(AP8*((LOG(AP8))/LOG(2))))","v":-0.38997500048077083},null,112,{"$f":"COUNTIF(L65:L76,AS8)","v":7},{"$f":"AT8/(AV4-AT10)","v":0.875},{"$f":"IF(AU8=0,0,(AU8*((LOG(AU8))/LOG(2))))","v":-0.1685644431995964}]
[11,245,11,252,21,261,null,null,null,null,0,112,null,121,9,0.12857142857142856,-0.38048888770748407,null,null,121,{"$f":"COUNTIF(L7:L18,T9)","v":0},{"$f":"U9/(W4-U10)","v":0},{"$f":"IF(V9=0,0,(V9*((LOG(V9))/LOG(2))))","v":0},null,121,{"$f":"COUNTIF(L19:L29,Y9)","v":2},{"$f":"Z9/(AB4-Z10)","v":0.2857142857142857},{"$f":"IF(AA9=0,0,(AA9*((LOG(AA9))/LOG(2))))","v":-0.51638712058788683},null,121,{"$f":"COUNTIF(L30:L41,AD9)","v":1},{"$f":"AE9/(AG4-AE10)","v":0.125},{"$f":"IF(AF9=0,0,(AF9*((LOG(AF9))/LOG(2))))","v":-0.375},null,121,{"$f":"COUNTIF(L42:L53,AI9)","v":3},{"$f":"AJ9/(AL4-AJ10)","v":0.27272727272727271},{"$f":"IF(AK9=0,0,(AK9*((LOG(AK9))/LOG(2))))","v":-0.51121885034076575},null,121,{"$f":"COUNTIF(L54:L64,AN9)","v":2},{"$f":"AO9/(AQ4-AO10)","v":0.22222222222222221},{"$f":"IF(AP9=0,0,(AP9*((LOG(AP9))/LOG(2))))","v":-0.48220555587606945},null,121,{"$f":"COUNTIF(L65:L76,AS9)","v":1},{"$f":"AT9/(AV4-AT10)","v":0.125},{"$f":"IF(AU9=0,0,(AU9*((LOG(AU9))/LOG(2))))","v":-0.375}]
[11,356,22,385,23,398,null,null,null,null,0,122,null,122,18,0.25714285714285712,-0.50383491827211102,null,null,122,{"$f":"COUNTIF(L7:L18,T10)","v":3},null,null,null,122,{"$f":"COUNTIF(L19:L29,Y10)","v":4},null,null,null,122,{"$f":"COUNTIF(L30:L41,AD10)","v":4},null,null,null,122,{"$f":"COUNTIF(L42:L53,AI10)","v":1},null,null,null,122,{"$f":"COUNTIF(L54:L64,AN10)","v":2},null,null,null,122,{"$f":"COUNTIF(L65:L76,AS10)","v":4}]
[11,497,11,503,21,518,null,null,null,null,0,112,null,211,0,0,0,null,null,211,{"$f":"COUNTIF(L7:L18,T11)","v":0},{"$f":"U11/(W4-U10)","v":0},{"$f":"IF(V11=0,0,(V11*((LOG(V11))/LOG(2))))","v":0},null,211,{"$f":"COUNTIF(L19:L29,Y11)","v":0},{"$f":"Z11/(AB4-Z10)","v":0},{"$f":"IF(AA11=0,0,(AA11*((LOG(AA11))/LOG(2))))","v":0},null,211,{"$f":"COUNTIF(L30:L41,AD11)","v":0},{"$f":"AE11/(AG4-AE10)","v":0},{"$f":"IF(AF11=0,0,(AF11*((LOG(AF11))/LOG(2))))","v":0},null,211,{"$f":"COUNTIF(L42:L53,AI11)","v":0},{"$f":"AJ11/(AL4-AJ10)","v":0},{"$f":"IF(AK11=0,0,(AK11*((LOG(AK11))/LOG(2))))","v":0},null,211,{"$f":"COUNTIF(L54:L64,AN11)","v":0},{"$f":"AO11/(AQ4-AO10)","v":0},{"$f":"IF(AP11=0,0,(AP11*((LOG(AP11))/LOG(2))))","v":0},null,211,{"$f":"COUNTIF(L65:L76,AS11)","v":0},{"$f":"AT11/(AV4-AT10)","v":0},{"$f":"IF(AU11=0,0,(AU11*((LOG(AU11))/LOG(2))))","v":0}]
[11,609,22,631,23,639,null,null,null,null,0,122,null,212,0,0,0,null,null,212,{"$f":"COUNTIF(L7:L18,T12)","v":0},{"$f":"U12/(W4-U10)","v":0},{"$f":"IF(V12=0,0,(V12*((LOG(V12))/LOG(2))))","v":0},null,212,{"$f":"COUNTIF(L19:L29,Y12)","v":0},{"$f":"Z12/(AB4-Z10)","v":0},{"$f":"IF(AA12=0,0,(AA12*((LOG(AA12))/LOG(2))))","v":0},null,212,{"$f":"COUNTIF(L30:L41,AD12)","v":0},{"$f":"AE12/(AG4-AE10)","v":0},{"$f":"IF(AF12=0,0,(AF12*((LOG(AF12))/LOG(2))))","v":0},null,212,{"$f":"COUNTIF(L42:L53,AI12)","v":0},{"$f":"AJ12/(AL4-AJ10)","v":0},{"$f":"IF(AK12=0,0,(AK12*((LOG(AK12))/LOG(2))))","v":0},null,212,{"$f":"COUNTIF(L54:L64,AN12)","v":0},{"$f":"AO12/(AQ4-AO10)","v":0},{"$f":"IF(AP12=0,0,(AP12*((LOG(AP12))/LOG(2))))","v":0},null,212,{"$f":"COUNTIF(L65:L76,AS12)","v":0},{"$f":"AT12/(AV4-AT10)","v":0},{"$f":"IF(AU12=0,0,(AU12*((LOG(AU12))/LOG(2))))","v":0}]
[11,737,11,743,21,763,null,null,null,null,0,112,null,221,0,0,0,null,null,221,{"$f":"COUNTIF(L7:L18,T13)","v":0},{"$f":"U13/(W4-U10)","v":0},{"$f":"IF(V13=0,0,(V13*((LOG(V13))/LOG(2))))","v":0},null,221,{"$f":"COUNTIF(L19:L29,Y13)","v":0},{"$f":"Z13/(AB4-Z10)","v":0},{"$f":"IF(AA13=0,0,(AA13*((LOG(AA13))/LOG(2))))","v":0},null,221,{"$f":"COUNTIF(L30:L41,AD13)","v":0},{"$f":"AE13/(AG4-AE10)","v":0},{"$f":"IF(AF13=0,0,(AF13*((LOG(AF13))/LOG(2))))","v":0},null,221,{"$f":"COUNTIF(L42:L53,AI13)","v":0},{"$f":"AJ13/(AL4-AJ10)","v":0},{"$f":"IF(AK13=0,0,(AK13*((LOG(AK13))/LOG(2))))","v":0},null,221,{"$f":"COUNTIF(L54:L64,AN13)","v":0},{"$f":"AO13/(AQ4-AO10)","v":0},{"$f":"IF(AP13=0,0,(AP13*((LOG(AP13))/LOG(2))))","v":0},null,221,{"$f":"COUNTIF(L65:L76,AS13)","v":0},{"$f":"AT13/(AV4-AT10)","v":0},{"$f":"IF(AU13=0,0,(AU13*((LOG(AU13))/LOG(2))))","v":0}]
[11,852,11,858,21,867,null,null,null,null,0,112,null,222,0,0,0,null,null,222,{"$f":"COUNTIF(L7:L18,T14)","v":0},{"$f":"U14/(W4-U10)","v":0},{"$f":"IF(V14=0,0,(V14*((LOG(V14))/LOG(2))))","v":0},null,222,{"$f":"COUNTIF(L19:L29,Y14)","v":0},{"$f":"Z14/(AB4-Z10)","v":0},{"$f":"IF(AA14=0,0,(AA14*((LOG(AA14))/LOG(2))))","v":0},null,222,{"$f":"COUNTIF(L30:L41,AD14)","v":0},{"$f":"AE14/(AG4-AE10)","v":0},{"$f":"IF(AF14=0,0,(AF14*((LOG(AF14))/LOG(2))))","v":0},null,222,{"$f":"COUNTIF(L42:L53,AI14)","v":0},{"$f":"AJ14/(AL4-AJ10)","v":0},{"$f":"IF(AK14=0,0,(AK14*((LOG(AK14))/LOG(2))))","v":0},null,222,{"$f":"COUNTIF(L54:L64,AN14)","v":0},{"$f":"AO14/(AQ4-AO10)","v":0},{"$f":"IF(AP14=0,0,(AP14*((LOG(AP14))/LOG(2))))","v":0},null,222,{"$f":"COUNTIF(L65:L76,AS14)","v":0},{"$f":"AT14/(AV4-AT10)","v":0},{"$f":"IF(AU14=0,0,(AU14*((LOG(AU14))/LOG(2))))","v":0}]
[11,960,11,966,21,1044,null,null,null,null,0,112,null,null,null,{"$f":"SUM(P7:P14)","v":0.99999999999999989},{"$f":"-SUM(Q7:Q14)","v":1.5404260692792464},null,null,null,null,{"$f":"SUM(V7:V14)","v":1},{"$f":"-SUM(W7:W14)","v":0},null,null,null,{"$f":"SUM(AA7:AA14)","v":0.99999999999999989},{"$f":"-SUM(AB7:AB14)","v":1.3787834934861753},null,null,null,{"$f":"SUM(AF7:AF14)","v":1},{"$f":"-SUM(AG7:AG14)","v":0.5435644431995964},null,null,null,{"$f":"SUM(AK7:AK14)","v":1},{"$f":"-SUM(AL7:AL14)","v":1.2406705316766884},null,null,null,{"$f":"SUM(AP7:AP14)","v":0.99999999999999989},{"$f":"-SUM(AQ7:AQ14)","v":1.2243944454059861},null,null,null,{"$f":"SUM(AU7:AU14)","v":1},{"$f":"-SUM(AV7:AV14)","v":0.5435644431995964}]
[11,1134,11,1139,21,1149,null,null,null,null,0,112,null,null,null,"U=",{"$f":"Q15/(LOG(Q4)/LOG(2))","v":0.25132239203518536},null,null,null,null,"U1=",{"$f":"W15/(LOG(W4)/LOG(2))","v":0},null,null,null,"U2=",{"$f":"AB15/(LOG(AB4)/LOG(2))","v":0.3985578110745519},null,null,null,"U3=",{"$f":"AG15/(LOG(AG4)/LOG(2))","v":0.15162346693731166},null,null,null,"U4=",{"$f":"AL15/(LOG(AL4)/LOG(2))","v":0.34607629268844881},null,null,null,"U5=",{"$f":"AQ15/(LOG(AQ4)/LOG(2))","v":0.35392936770586797},null,null,null,"U6=",{"$f":"AV15/(LOG(AV4)/LOG(2))","v":0.15162346693731166}]
[11,1238,11,1243,21,1252,null,null,null,null,0,112]
[11,1338,11,1344,21,1353,null,null,null,null,0,112]
[11,1445,22,1456,23,1486,null,null,null,null,0,122,null,"Total Target Seq"]
[11,1589,22,1599,23,1611,null,null,null,null,0,122,null,{"$f":"COUNTIF(L7:L76,G3)","v":18},null,12,11,12,12,11,12]
[11,1726,22,1750,14,1779,null,null,null,null,0,121,null,null,null,"% of reinforcement given in 6 equal intervals based on number of trials "]
[11,1881,22,1905,23,1919,null,null,null,null,0,122,null,null,null,"%_1","%_2","%_3","%_4","%_5","%_6"]
[11,2019,11,2025,21,2032,null,null,null,null,0,112,null,null,"target sequence",{"$f":"$G$3","v":122},122,122,122,122,122]
[11,2128,22,2144,23,2154,null,null,null,null,0,122,null,null,"total reinforcement",{"$f":"U10","v":3},{"$f":"Z10","v":4},{"$f":"AE10","v":4},{"$f":"AJ10","v":1},{"$f":"AO10","v":2},{"$f":"AT10","v":4}]
[11,2253,11,2263,21,2280,null,null,null,null,0,112,null,null,"% target"]
[11,2367,11,2372,12,2377,null,null,null,null,0,111,null,null,"CCRF"]
[11,2476,11,2482,21,2499,null,null,null,null,0,112,null,null,"% CCRf"]
[11,2589,11,2594,21,2610,null,null,null,null,0,112,null,null,"average response rate",{"$f":"F18/P20","v":112.75},{"$f":"(F29-F18)/Q20","v":127.54545454545455},{"$f":"(F41-F29)/R20","v":128.33333333333334},{"$f":"(F53-F41)/S20","v":130.16666666666666},{"$f":"(F64-F53)/T20","v":132.90909090909091},{"$f":"(F76-F64)/U20","v":133}]
[11,2706,22,2725,14,2756,null,null,null,null,0,121]
[11,2871,22,2883,23,2895,null,null,null,null,0,122]
[11,3006,22,3062,14,3125,null,null,null,null,0,121]
[11,3223,11,3229,21,3238,null,null,null,null,0,112]
[11,3327,11,3332,21,3355,null,null,null,null,0,112]
[11,3447,22,3457,23,3470,null,null,null,null,0,122]
[11,3570,11,3575,21,3584,null,null,null,null,0,112]
[11,3674,11,3683,21,3692,null,null,null,null,0,112]
[11,3776,11,3782,21,3791,null,null,null,null,0,112]
[11,3880,11,3885,21,3904,null,null,null,null,0,112]
[11,3993,22,4005,23,4013,null,null,null,null,0,122]
[11,4116,11,4127,21,4137,null,null,null,null,0,112]
[11,4227,22,4237,23,4296,null,null,null,null,0,122]
[11,4398,22,4408,23,4493,null,null,null,null,0,122]
[11,4597,22,4608,14,4626,null,null,null,null,0,121]
[11,4729,11,4734,21,4782,null,null,null,null,0,112]
[11,4874,11,4895,12,4911,null,null,null,null,0,111]
[11,5007,11,5012,21,5021,null,null,null,null,0,112]
[11,5107,11,5113,21,5123,null,null,null,null,0,112]
[11,5209,11,5214,21,5231,null,null,null,null,0,112]
[11,5317,11,5323,21,5377,null,null,null,null,0,112]
[11,5467,22,5477,14,5495,null,null,null,null,0,121]
[11,5593,11,5601,21,5617,null,null,null,null,0,112]
[11,5702,11,5707,21,5741,null,null,null,null,0,112]
[11,5830,22,5839,14,5858,null,null,null,null,0,121]
[11,5963,11,5969,21,5991,null,null,null,null,0,112]
[11,6086,22,6139,23,6149,null,null,null,null,0,122]
[11,6253,11,6263,21,6274,null,null,null,null,0,112]
[11,6372,22,6387,23,6400,null,null,null,null,0,122]
[11,6503,22,6515,14,6537,null,null,null,null,0,121]
[11,6652,22,6664,14,6684,null,null,null,null,0,121]
[11,6780,11,6786,12,6792,null,null,null,null,0,111]
[11,6890,11,6895,21,6905,null,null,null,null,0,112]
[11,6992,11,6997,21,7019,null,null,null,null,0,112]
[11,7111,11,7115,21,7219,null,null,null,null,0,112]
[11,7305,11,7311,21,7320,null,null,null,null,0,112]
[11,7408,11,7412,21,7428,null,null,null,null,0,112]
[11,7513,11,7526,21,7574,null,null,null,null,0,112]
[11,7664,22,7689,23,7704,null,null,null,null,0,122]
[11,7800,11,7805,21,7814,null,null,null,null,0,112]
[11,7903,22,7920,23,7937,null,null,null,null,0,122]
[11,8034,11,8053,21,8110,null,null,null,null,0,112]
[11,8199,11,8204,21,8220,null,null,null,null,0,112]
[11,8309,22,8349,23,8368,null,null,null,null,0,122]
[11,8477,22,8501,14,8520,null,null,null,null,0,121]
[11,8624,11,8633,21,8665,null,null,null,null,0,112]
[11,8756,22,8772,23,8782,null,null,null,null,0,122]
[11,8886,11,8892,21,8916,null,null,null,null,1,112]

{"sheet":"!L825D20.056","index":30,"n_rows":69,"n_cols":48,"rows_kept":69,"cut":false,"hidden":false,"merged":[[1,1,1,2],[5,13,5,14],[18,13,18,14],[19,13,19,14],[4,19,4,22],[5,19,5,20],[4,39,4,42],[5,39,5,40],[4,44,4,47],[5,44,5,45],[4,24,4,27],[5,24,5,25],[4,29,4,32],[5,29,5,30],[4,34,4,37],[5,34,5,35]]}
["Report for:!L825D20.056"]
["Date:","<date>"]
["Hen:","<hen>",null,null,null,"Correct Sequence",{"$f":"Start!J2","v":122},null,null,null,null,null,null,null,null,"Total Sequences in Data",{"$f":"4994-COUNTBLANK(L7:L5000)","v":63},null,null,null,null,"Total Sequences in Block Data",{"$f":"COUNTA(L7:L17)","v":11},null,null,null,"Total Sequences in Block Data",{"$f":"COUNTA(L18:L27)","v":10},null,null,null,"Total Sequences in Block Data",{"$f":"COUNTA(L28:L38)","v":11},null,null,null,"Total Sequences in Block Data",{"$f":"COUNTA(L39:L48)","v":10},null,null,null,"Total Sequences in Block Data",{"$f":"COUNTA(L49:L59)","v":11},null,null,null,"Total Sequences in Block Data",{"$f":"COUNTA(L60:L69)","v":10}]
[null,null,null,null,null,null,null,null,null,null,null,null,null,null,null,"Total Sequences in Summary",{"$f":"SUM(O7:O14)","v":63},null,null,null,null,"Total Sequences in Block Summary",{"$f":"SUM(U7:U14)","v":11},null,null,null,"Total Sequences in Block Summary",{"$f":"SUM(Z7:Z14)","v":10},null,null,null,"Total Sequences in Block Summary",{"$f":"SUM(AE7:AE14)","v":11},null,null,null,"Total Sequences in Block Summary",{"$f":"SUM(AJ7:AJ14)","v":10},null,null,null,"Total Sequences in Block Summary",{"$f":"SUM(AO7:AO14)","v":11},null,null,null,"Total Sequences in Block Summary",{"$f":"SUM(AT7:AT14)","v":10}]
[null,null,null,null,null,null,null,null,null,null,null,null,null,null,null,null,null,null,null,"Block 1",null,null,null,null,"Block 2",null,null,null,null,"Block 3",null,null,null,null,"Block 4",null,null,null,null,"Block 5",null,null,null,null,"Block 6"]
["Sequence\nComponent\n1","Time\n1","Sequence\nComponent\n2","Time\n2","Sequence\nComponent\n3","Time\n3","Sequence\nComponent\n4","Time\n4","Sequence\nComponent\n5","Time\n5","Correct?\n0=No 1=Yes","Sequence",null,"Frequency",null,"Relative Frequency","Variability",null,null,"Frequency",null,"Relative Frequency","Variability",null,"Frequency",null,"Relative Frequency","Variability",null,"Frequency",null,"Relative Frequency","Variability",null,"Frequency",null,"Relative Frequency","Variability",null,"Frequency",null,"Relative Frequency","Variability",null,"Frequency",null,"Relative Frequency","Variability"]
[11,11,22,23,23,47,null,null,null,null,0,122,null,111,{"$f":"COUNTIF($L$7:$L$500,N7)","v":3},{"$f":"O7/$Q$4","v":4.7619047619047616E-2},{"$f":"IF(P7=0,0,(P7*((LOG(P7))/LOG(2))))","v":-0.20915797251327431},null,null,{"$f":"N7","v":111},{"$f":"COUNTIF(L7:L17,T7)","v":0},{"$f":"U7/(W4-U10)","v":0},{"$f":"IF(V7=0,0,(V7*((LOG(V7))/LOG(2))))","v":0},null,{"$f":"N7","v":111},{"$f":"COUNTIF(L18:L27,Y7)","v":0},{"$f":"Z7/(AB4-Z10)","v":0},{"$f":"IF(AA7=0,0,(AA7*((LOG(AA7))/LOG(2))))","v":0},null,{"$f":"N7","v":111},{"$f":"COUNTIF(L28:L38,AD7)","v":1},{"$f":"AE7/(AG4-AE10)","v":9.0909090909090912E-2},{"$f":"IF(AF7=0,0,(AF7*((LOG(AF7))/LOG(2))))","v":-0.31449378351248153},null,{"$f":"N7","v":111},{"$f":"COUNTIF(L39:L48,AI7)","v":1},{"$f":"AJ7/(AL4-AJ10)","v":0.14285714285714285},{"$f":"IF(AK7=0,0,(AK7*((LOG(AK7))/LOG(2))))","v":-0.40105070315108626},null,{"$f":"N7","v":111},{"$f":"COUNTIF(L49:L59,AN7)","v":0},{"$f":"AO7/(AQ4-AO10)","v":0},{"$f":"IF(AP7=0,0,(AP7*((LOG(AP7))/LOG(2))))","v":0},null,{"$f":"N7","v":111},{"$f":"COUNTIF(L60:L69,AS7)","v":1},{"$f":"AT7/(AV4-AT10)","v":0.125},{"$f":"IF(AU7=0,0,(AU7*((LOG(AU7))/LOG(2))))","v":-0.375}]
[11,148,11,156,21,166,null,null,null,null,0,112,null,112,40,0.63492063492063489,-0.41609639911908203,null,null,112,{"$f":"COUNTIF(L7:L17,T8)","v":7},{"$f":"U8/(W4-U10)","v":1},{"$f":"IF(V8=0,0,(V8*((LOG(V8))/LOG(2))))","v":0},null,112,{"$f":"COUNTIF(L18:L27,Y8)","v":5},{"$f":"Z8/(AB4-Z10)","v":0.83333333333333337},{"$f":"IF(AA8=0,0,(AA8*((LOG(AA8))/LOG(2))))","v":-0.21919533819482812},null,112,{"$f":"COUNTIF(L28:L38,AD8)","v":10},{"$f":"AE8/(AG4-AE10)","v":0.90909090909090906},{"$f":"IF(AF8=0,0,(AF8*((LOG(AF8))/LOG(2))))","v":-0.12500320340903179},null,112,{"$f":"COUNTIF(L39:L48,AI8)","v":6},{"$f":"AJ8/(AL4-AJ10)","v":0.8571428571428571},{"$f":"IF(AK8=0,0,(AK8*((LOG(AK8))/LOG(2))))","v":-0.19062207543124113},null,112,{"$f":"COUNTIF(L49:L59,AN8)","v":6},{"$f":"AO8/(AQ4-AO10)","v":1},{"$f":"IF(AP8=0,0,(AP8*((LOG(AP8))/LOG(2))))","v":0},null,112,{"$f":"COUNTIF(L60:L69,AS8)","v":6},{"$f":"AT8/(AV4-AT10)","v":0.75},{"$f":"IF(AU8=0,0,(AU8*((LOG(AU8))/LOG(2))))","v":-0.31127812445913283}]
[11,258,22,268,23,278,null,null,null,null,0,122,null,121,2,3.1746031746031744E-2,-0.15800888646031477,null,null,121,{"$f":"COUNTIF(L7:L17,T9)","v":0},{"$f":"U9/(W4-U10)","v":0},{"$f":"IF(V9=0,0,(V9*((LOG(V9))/LOG(2))))","v":0},null,121,{"$f":"COUNTIF(L18:L27,Y9)","v":1},{"$f":"Z9/(AB4-Z10)","v":0.16666666666666666},{"$f":"IF(AA9=0,0,(AA9*((LOG(AA9))/LOG(2))))","v":-0.43082708345352599},null,121,{"$f":"COUNTIF(L28:L38,AD9)","v":0},{"$f":"AE9/(AG4-AE10)","v":0},{"$f":"IF(AF9=0,0,(AF9*((LOG(AF9))/LOG(2))))","v":0},null,121,{"$f":"COUNTIF(L39:L48,AI9)","v":0},{"$f":"AJ9/(AL4-AJ10)","v":0},{"$f":"IF(AK9=0,0,(AK9*((LOG(AK9))/LOG(2))))","v":0},null,121,{"$f":"COUNTIF(L49:L59,AN9)","v":0},{"$f":"AO9/(AQ4-AO10)","v":0},{"$f":"IF(AP9=0,0,(AP9*((LOG(AP9))/LOG(2))))","v":0},null,121,{"$f":"COUNTIF(L60:L69,AS9)","v":1},{"$f":"AT9/(AV4-AT10)","v":0.125},{"$f":"IF(AU9=0,0,(AU9*((LOG(AU9))/LOG(2))))","v":-0.375}]
[11,378,11,383,21,394,null,null,null,null,0,112,null,122,18,0.2857142857142857,-0.51638712058788683,null,null,122,{"$f":"COUNTIF(L7:L17,T10)","v":4},null,null,null,122,{"$f":"COUNTIF(L18:L27,Y10)","v":4},null,null,null,122,{"$f":"COUNTIF(L28:L38,AD10)","v":0},null,null,null,122,{"$f":"COUNTIF(L39:L48,AI10)","v":3},null,null,null,122,{"$f":"COUNTIF(L49:L59,AN10)","v":5},null,null,null,122,{"$f":"COUNTIF(L60:L69,AS10)","v":2}]
[11,487,22,498,23,510,null,null,null,null,0,122,null,211,0,0,0,null,null,211,{"$f":"COUNTIF(L7:L17,T11)","v":0},{"$f":"U11/(W4-U10)","v":0},{"$f":"IF(V11=0,0,(V11*((LOG(V11))/LOG(2))))","v":0},null,211,{"$f":"COUNTIF(L18:L27,Y11)","v":0},{"$f":"Z11/(AB4-Z10)","v":0},{"$f":"IF(AA11=0,0,(AA11*((LOG(AA11))/LOG(2))))","v":0},null,211,{"$f":"COUNTIF(L28:L38,AD11)","v":0},{"$f":"AE11/(AG4-AE10)","v":0},{"$f":"IF(AF11=0,0,(AF11*((LOG(AF11))/LOG(2))))","v":0},null,211,{"$f":"COUNTIF(L39:L48,AI11)","v":0},{"$f":"AJ11/(AL4-AJ10)","v":0},{"$f":"IF(AK11=0,0,(AK11*((LOG(AK11))/LOG(2))))","v":0},null,211,{"$f":"COUNTIF(L49:L59,AN11)","v":0},{"$f":"AO11/(AQ4-AO10)","v":0},{"$f":"IF(AP11=0,0,(AP11*((LOG(AP11))/LOG(2))))","v":0},null,211,{"$f":"COUNTIF(L60:L69,AS11)","v":0},{"$f":"AT11/(AV4-AT10)","v":0},{"$f":"IF(AU11=0,0,(AU11*((LOG(AU11))/LOG(2))))","v":0}]
[11,615,11,628,21,638,null,null,null,null,0,112,null,212,0,0,0,null,null,212,{"$f":"COUNTIF(L7:L17,T12)","v":0},{"$f":"U12/(W4-U10)","v":0},{"$f":"IF(V12=0,0,(V12*((LOG(V12))/LOG(2))))","v":0},null,212,{"$f":"COUNTIF(L18:L27,Y12)","v":0},{"$f":"Z12/(AB4-Z10)","v":0},{"$f":"IF(AA12=0,0,(AA12*((LOG(AA12))/LOG(2))))","v":0},null,212,{"$f":"COUNTIF(L28:L38,AD12)","v":0},{"$f":"AE12/(AG4-AE10)","v":0},{"$f":"IF(AF12=0,0,(AF12*((LOG(AF12))/LOG(2))))","v":0},null,212,{"$f":"COUNTIF(L39:L48,AI12)","v":0},{"$f":"AJ12/(AL4-AJ10)","v":0},{"$f":"IF(AK12=0,0,(AK12*((LOG(AK12))/LOG(2))))","v":0},null,212,{"$f":"COUNTIF(L49:L59,AN12)","v":0},{"$f":"AO12/(AQ4-AO10)","v":0},{"$f":"IF(AP12=0,0,(AP12*((LOG(AP12))/LOG(2))))","v":0},null,212,{"$f":"COUNTIF(L60:L69,AS12)","v":0},{"$f":"AT12/(AV4-AT10)","v":0},{"$f":"IF(AU12=0,0,(AU12*((LOG(AU12))/LOG(2))))","v":0}]
[11,730,11,741,21,752,null,null,null,null,0,112,null,221,0,0,0,null,null,221,{"$f":"COUNTIF(L7:L17,T13)","v":0},{"$f":"U13/(W4-U10)","v":0},{"$f":"IF(V13=0,0,(V13*((LOG(V13))/LOG(2))))","v":0},null,221,{"$f":"COUNTIF(L18:L27,Y13)","v":0},{"$f":"Z13/(AB4-Z10)","v":0},{"$f":"IF(AA13=0,0,(AA13*((LOG(AA13))/LOG(2))))","v":0},null,221,{"$f":"COUNTIF(L28:L38,AD13)","v":0},{"$f":"AE13/(AG4-AE10)","v":0},{"$f":"IF(AF13=0,0,(AF13*((LOG(AF13))/LOG(2))))","v":0},null,221,{"$f":"COUNTIF(L39:L48,AI13)","v":0},{"$f":"AJ13/(AL4-AJ10)","v":0},{"$f":"IF(AK13=0,0,(AK13*((LOG(AK13))/LOG(2))))","v":0},null,221,{"$f":"COUNTIF(L49:L59,AN13)","v":0},{"$f":"AO13/(AQ4-AO10)","v":0},{"$f":"IF(AP13=0,0,(AP13*((LOG(AP13))/LOG(2))))","v":0},null,221,{"$f":"COUNTIF(L60:L69,AS13)","v":0},{"$f":"AT13/(AV4-AT10)","v":0},{"$f":"IF(AU13=0,0,(AU13*((LOG(AU13))/LOG(2))))","v":0}]
[11,839,11,844,21,854,null,null,null,null,0,112,null,222,0,0,0,null,null,222,{"$f":"COUNTIF(L7:L17,T14)","v":0},{"$f":"U14/(W4-U10)","v":0},{"$f":"IF(V14=0,0,(V14*((LOG(V14))/LOG(2))))","v":0},null,222,{"$f":"COUNTIF(L18:L27,Y14)","v":0},{"$f":"Z14/(AB4-Z10)","v":0},{"$f":"IF(AA14=0,0,(AA14*((LOG(AA14))/LOG(2))))","v":0},null,222,{"$f":"COUNTIF(L28:L38,AD14)","v":0},{"$f":"AE14/(AG4-AE10)","v":0},{"$f":"IF(AF14=0,0,(AF14*((LOG(AF14))/LOG(2))))","v":0},null,222,{"$f":"COUNTIF(L39:L48,AI14)","v":0},{"$f":"AJ14/(AL4-AJ10)","v":0},{"$f":"IF(AK14=0,0,(AK14*((LOG(AK14))/LOG(2))))","v":0},null,222,{"$f":"COUNTIF(L49:L59,AN14)","v":0},{"$f":"AO14/(AQ4-AO10)","v":0},{"$f":"IF(AP14=0,0,(AP14*((LOG(AP14))/LOG(2))))","v":0},null,222,{"$f":"COUNTIF(L60:L69,AS14)","v":0},{"$f":"AT14/(AV4-AT10)","v":0},{"$f":"IF(AU14=0,0,(AU14*((LOG(AU14))/LOG(2))))","v":0}]
[11,942,11,951,21,961,null,null,null,null,0,112,null,null,null,{"$f":"SUM(P7:P14)","v":1},{"$f":"-SUM(Q7:Q14)","v":1.2996503786805578},null,null,null,null,{"$f":"SUM(V7:V14)","v":1},{"$f":"-SUM(W7:W14)","v":0},null,null,null,{"$f":"SUM(AA7:AA14)","v":1},{"$f":"-SUM(AB7:AB14)","v":0.65002242164835411},null,null,null,{"$f":"SUM(AF7:AF14)","v":1},{"$f":"-SUM(AG7:AG14)","v":0.43949698692151329},null,null,null,{"$f":"SUM(AK7:AK14)","v":1},{"$f":"-SUM(AL7:AL14)","v":0.59167277858232736},null,null,null,{"$f":"SUM(AP7:AP14)","v":1},{"$f":"-SUM(AQ7:AQ14)","v":0},null,null,null,{"$f":"SUM(AU7:AU14)","v":1},{"$f":"-SUM(AV7:AV14)","v":1.0612781244591329}]
[11,1048,22,1066,23,1083,null,null,null,null,0,122,null,null,null,"U=",{"$f":"Q15/(LOG(Q4)/LOG(2))","v":0.21743174074396784},null,null,null,null,"U1=",{"$f":"W15/(LOG(W4)/LOG(2))","v":0},null,null,null,"U2=",{"$f":"AB15/(LOG(AB4)/LOG(2))","v":0.1956762467702946},null,null,null,"U3=",{"$f":"AG15/(LOG(AG4)/LOG(2))","v":0.12704312019170225},null,null,null,"U4=",{"$f":"AL15/(LOG(AL4)/LOG(2))","v":0.17811125397113373},null,null,null,"U5=",{"$f":"AQ15/(LOG(AQ4)/LOG(2))","v":0},null,null,null,"U6=",{"$f":"AV15/(LOG(AV4)/LOG(2))","v":0.31947654920421092}]
[11,1181,11,1191,21,1201,null,null,null,null,0,112]
[11,1295,11,1301,21,1312,null,null,null,null,0,112]
[11,1415,22,1425,23,1439,null,null,null,null,0,122,null,"Total Target Seq"]
[11,1555,11,1578,21,1588,null,null,null,null,0,112,null,{"$f":"COUNTIF(L7:L69,G3)","v":18},null,11,10,11,10,11,10]
[11,1677,11,1683,21,1698,null,null,null,null,0,112,null,null,null,"% of reinforcement given in 6 equal intervals based on number of trials "]
[11,1787,22,1811,23,1826,null,null,null,null,0,122,null,null,null,"%_1","%_2","%_3","%_4","%_5","%_6"]
[11,1931,11,1937,21,1959,null,null,null,null,0,112,null,null,"target sequence",{"$f":"$G$3","v":122},122,122,122,122,122]
[11,2053,22,2062,23,2076,null,null,null,null,0,122,null,null,"total reinforcement",{"$f":"U10","v":4},{"$f":"Z10","v":4},{"$f":"AE10","v":0},{"$f":"AJ10","v":3},{"$f":"AO10","v":5},{"$f":"AT10","v":2}]
[11,2188,11,2203,21,2213,null,null,null,null,0,112,null,null,"% target"]
[11,2306,22,2316,23,2348,null,null,null,null,0,122,null,null,"CCRF"]
[11,2455,22,2465,14,2485,null,null,null,null,0,121,null,null,"% CCRf"]
[11,2587,11,2592,21,2602,null,null,null,null,0,112,null,null,"average response rate",{"$f":"F17/P20","v":109.18181818181819},{"$f":"(F27-F17)/Q20","v":128.4},{"$f":"(F38-F27)/R20","v":112.27272727272727},{"$f":"(F48-F38)/S20","v":116.7},{"$f":"(F59-F48)/T20","v":139},{"$f":"(F69-F59)/U20","v":135.5}]
[11,2690,11,2696,21,2705,null,null,null,null,0,112]
[11,2797,11,2803,21,2812,null,null,null,null,0,112]
[11,2900,11,2909,21,2919,null,null,null,null,0,112]
[11,3009,11,3014,21,3024,null,null,null,null,0,112]
[11,3111,11,3116,21,3141,null,null,null,null,0,112]
[11,3232,11,3236,21,3243,null,null,null,null,0,112]
[11,3327,11,3334,12,3341,null,null,null,null,0,111]
[11,3447,11,3453,21,3479,null,null,null,null,0,112]
[11,3566,11,3571,21,3580,null,null,null,null,0,112]
[11,3670,11,3675,21,3720,null,null,null,null,0,112]
[11,3810,22,3819,23,3826,null,null,null,null,0,122]
[11,3927,11,3932,21,3942,null,null,null,null,0,112]
[11,4028,11,4034,12,4038,null,null,null,null,0,111]
[11,4135,11,4141,21,4152,null,null,null,null,0,112]
[11,4243,11,4248,21,4257,null,null,null,null,0,112]
[11,4351,22,4361,23,4377,null,null,null,null,0,122]
[11,4483,22,4529,23,4544,null,null,null,null,0,122]
[11,4652,11,4658,21,4679,null,null,null,null,0,112]
[11,4769,11,4774,21,4783,null,null,null,null,0,112]
[11,4867,11,4878,21,4887,null,null,null,null,0,112]
[11,4974,11,4978,21,4987,null,null,null,null,0,112]
[11,5077,22,5096,23,5105,null,null,null,null,0,122]
[11,5210,11,5220,21,5266,null,null,null,null,0,112]
[11,5354,11,5359,21,5373,null,null,null,null,0,112]
[11,5459,11,5464,21,5478,null,null,null,null,0,112]
[11,5567,22,5581,23,5603,null,null,null,null,0,122]
[11,5721,22,5777,23,5785,null,null,null,null,0,122]
[11,5882,11,5891,21,5920,null,null,null,null,0,112]
[11,6019,22,6028,23,6039,null,null,null,null,0,122]
[11,6153,22,6232,23,6262,null,null,null,null,0,122]
[11,6368,11,6381,21,6416,null,null,null,null,0,112]
[11,6512,22,6521,14,6541,null,null,null,null,0,121]
[11,6644,11,6653,21,6691,null,null,null,null,0,112]
[11,6779,11,6787,21,6810,null,null,null,null,0,112]
[11,6906,22,6916,23,6997,null,null,null,null,0,122]
[11,7102,11,7108,12,7117,null,null,null,null,0,111]
[11,7215,11,7225,21,7255,null,null,null,null,0,112]
[11,7345,22,7375,23,7389,null,null,null,null,0,122]
[11,7499,11,7508,21,7517,null,null,null,null,0,112]
[11,7605,11,7611,21,7620,null,null,null,null,0,112]
[11,7718,11,7723,21,7771,null,null,null,null,1,112]

{"sheet":"!L826A10.056","index":31,"n_rows":77,"n_cols":48,"rows_kept":77,"cut":false,"hidden":false,"merged":[[1,1,1,2],[5,13,5,14],[18,13,18,14],[19,13,19,14],[4,19,4,22],[5,19,5,20],[4,39,4,42],[5,39,5,40],[4,44,4,47],[5,44,5,45],[4,24,4,27],[5,24,5,25],[4,29,4,32],[5,29,5,30],[4,34,4,37],[5,34,5,35]]}
["Report for:!L826A10.056"]
["Date:","<date>"]
["Hen:","<hen>",null,null,null,"Correct Sequence",{"$f":"Start!J2","v":122},null,null,null,null,null,null,null,null,"Total Sequences in Data",{"$f":"4994-COUNTBLANK(L7:L5000)","v":71},null,null,null,null,"Total Sequences in Block Data",{"$f":"COUNTA(L7:L18)","v":12},null,null,null,"Total Sequences in Block Data",{"$f":"COUNTA(L19:L30)","v":12},null,null,null,"Total Sequences in Block Data",{"$f":"COUNTA(L31:L41)","v":11},null,null,null,"Total Sequences in Block Data",{"$f":"COUNTA(L42:L53)","v":12},null,null,null,"Total Sequences in Block Data",{"$f":"COUNTA(L54:L65)","v":12},null,null,null,"Total Sequences in Block Data",{"$f":"COUNTA(L66:L77)","v":12}]
[null,null,null,null,null,null,null,null,null,null,null,null,null,null,null,"Total Sequences in Summary",{"$f":"SUM(O7:O14)","v":71},null,null,null,null,"Total Sequences in Block Summary",{"$f":"SUM(U7:U14)","v":12},null,null,null,"Total Sequences in Block Summary",{"$f":"SUM(Z7:Z14)","v":12},null,null,null,"Total Sequences in Block Summary",{"$f":"SUM(AE7:AE14)","v":11},null,null,null,"Total Sequences in Block Summary",{"$f":"SUM(AJ7:AJ14)","v":12},null,null,null,"Total Sequences in Block Summary",{"$f":"SUM(AO7:AO14)","v":12},null,null,null,"Total Sequences in Block Summary",{"$f":"SUM(AT7:AT14)","v":12}]
[null,null,null,null,null,null,null,null,null,null,null,null,null,null,null,null,null,null,null,"Block 1",null,null,null,null,"Block 2",null,null,null,null,"Block 3",null,null,null,null,"Block 4",null,null,null,null,"Block 5",null,null,null,null,"Block 6"]
["Sequence\nComponent\n1","Time\n1","Sequence\nComponent\n2","Time\n2","Sequence\nComponent\n3","Time\n3","Sequence\nComponent\n4","Time\n4","Sequence\nComponent\n5","Time\n5","Correct?\n0=No 1=Yes","Sequence",null,"Frequency",null,"Relative Frequency","Variability",null,null,"Frequency",null,"Relative Frequency","Variability",null,"Frequency",null,"Relative Frequency","Variability",null,"Frequency",null,"Relative Frequency","Variability",null,"Frequency",null,"Relative Frequency","Variability",null,"Frequency",null,"Relative Frequency","Variability",null,"Frequency",null,"Relative Frequency","Variability"]
[11,12,22,25,23,35,null,null,null,null,0,122,null,111,{"$f":"COUNTIF($L$7:$L$500,N7)","v":6},{"$f":"O7/$Q$4","v":8.4507042253521125E-2},{"$f":"IF(P7=0,0,(P7*((LOG(P7))/LOG(2))))","v":-0.30124940440424158},null,null,{"$f":"N7","v":111},{"$f":"COUNTIF(L7:L18,T7)","v":1},{"$f":"U7/(W4-U10)","v":0.2},{"$f":"IF(V7=0,0,(V7*((LOG(V7))/LOG(2))))","v":-0.46438561897747244},null,{"$f":"N7","v":111},{"$f":"COUNTIF(L19:L30,Y7)","v":3},{"$f":"Z7/(AB4-Z10)","v":0.375},{"$f":"IF(AA7=0,0,(AA7*((LOG(AA7))/LOG(2))))","v":-0.53063906222956647},null,{"$f":"N7","v":111},{"$f":"COUNTIF(L31:L41,AD7)","v":0},{"$f":"AE7/(AG4-AE10)","v":0},{"$f":"IF(AF7=0,0,(AF7*((LOG(AF7))/LOG(2))))","v":0},null,{"$f":"N7","v":111},{"$f":"COUNTIF(L42:L53,AI7)","v":1},{"$f":"AJ7/(AL4-AJ10)","v":9.0909090909090912E-2},{"$f":"IF(AK7=0,0,(AK7*((LOG(AK7))/LOG(2))))","v":-0.31449378351248153},null,{"$f":"N7","v":111},{"$f":"COUNTIF(L54:L65,AN7)","v":1},{"$f":"AO7/(AQ4-AO10)","v":0.1111111111111111},{"$f":"IF(AP7=0,0,(AP7*((LOG(AP7))/LOG(2))))","v":-0.3522138890491458},null,{"$f":"N7","v":111},{"$f":"COUNTIF(L66:L77,AS7)","v":0},{"$f":"AT7/(AV4-AT10)","v":0},{"$f":"IF(AU7=0,0,(AU7*((LOG(AU7))/LOG(2))))","v":0}]
[11,141,11,147,21,157,null,null,null,null,0,112,null,112,40,0.56338028169014087,-0.46637691527736319,null,null,112,{"$f":"COUNTIF(L7:L18,T8)","v":3},{"$f":"U8/(W4-U10)","v":0.6},{"$f":"IF(V8=0,0,(V8*((LOG(V8))/LOG(2))))","v":-0.44217935649972373},null,112,{"$f":"COUNTIF(L19:L30,Y8)","v":5},{"$f":"Z8/(AB4-Z10)","v":0.625},{"$f":"IF(AA8=0,0,(AA8*((LOG(AA8))/LOG(2))))","v":-0.42379494069539858},null,112,{"$f":"COUNTIF(L31:L41,AD8)","v":7},{"$f":"AE8/(AG4-AE10)","v":0.875},{"$f":"IF(AF8=0,0,(AF8*((LOG(AF8))/LOG(2))))","v":-0.1685644431995964},null,112,{"$f":"COUNTIF(L42:L53,AI8)","v":10},{"$f":"AJ8/(AL4-AJ10)","v":0.90909090909090906},{"$f":"IF(AK8=0,0,(AK8*((LOG(AK8))/LOG(2))))","v":-0.12500320340903179},null,112,{"$f":"COUNTIF(L54:L65,AN8)","v":7},{"$f":"AO8/(AQ4-AO10)","v":0.77777777777777779},{"$f":"IF(AP8=0,0,(AP8*((LOG(AP8))/LOG(2))))","v":-0.28199895063255082},null,112,{"$f":"COUNTIF(L66:L77,AS8)","v":8},{"$f":"AT8/(AV4-AT10)","v":1},{"$f":"IF(AU8=0,0,(AU8*((LOG(AU8))/LOG(2))))","v":0}]
[11,250,11,260,21,271,null,null,null,null,0,112,null,121,2,2.8169014084507043E-2,-0.14506329914097693,null,null,121,{"$f":"COUNTIF(L7:L18,T9)","v":1},{"$f":"U9/(W4-U10)","v":0.2},{"$f":"IF(V9=0,0,(V9*((LOG(V9))/LOG(2))))","v":-0.46438561897747244},null,121,{"$f":"COUNTIF(L19:L30,Y9)","v":0},{"$f":"Z9/(AB4-Z10)","v":0},{"$f":"IF(AA9=0,0,(AA9*((LOG(AA9))/LOG(2))))","v":0},null,121,{"$f":"COUNTIF(L31:L41,AD9)","v":1},{"$f":"AE9/(AG4-AE10)","v":0.125},{"$f":"IF(AF9=0,0,(AF9*((LOG(AF9))/LOG(2))))","v":-0.375},null,121,{"$f":"COUNTIF(L42:L53,AI9)","v":0},{"$f":"AJ9/(AL4-AJ10)","v":0},{"$f":"IF(AK9=0,0,(AK9*((LOG(AK9))/LOG(2))))","v":0},null,121,{"$f":"COUNTIF(L54:L65,AN9)","v":0},{"$f":"AO9/(AQ4-AO10)","v":0},{"$f":"IF(AP9=0,0,(AP9*((LOG(AP9))/LOG(2))))","v":0},null,121,{"$f":"COUNTIF(L66:L77,AS9)","v":0},{"$f":"AT9/(AV4-AT10)","v":0},{"$f":"IF(AU9=0,0,(AU9*((LOG(AU9))/LOG(2))))","v":0}]
[11,367,22,377,23,406,null,null,null,null,0,122,null,122,22,0.30985915492957744,-0.52375973266313336,null,null,122,{"$f":"COUNTIF(L7:L18,T10)","v":7},null,null,null,122,{"$f":"COUNTIF(L19:L30,Y10)","v":4},null,null,null,122,{"$f":"COUNTIF(L31:L41,AD10)","v":3},null,null,null,122,{"$f":"COUNTIF(L42:L53,AI10)","v":1},null,null,null,122,{"$f":"COUNTIF(L54:L65,AN10)","v":3},null,null,null,122,{"$f":"COUNTIF(L66:L77,AS10)","v":4}]
[11,520,22,530,23,539,null,null,null,null,0,122,null,211,0,0,0,null,null,211,{"$f":"COUNTIF(L7:L18,T11)","v":0},{"$f":"U11/(W4-U10)","v":0},{"$f":"IF(V11=0,0,(V11*((LOG(V11))/LOG(2))))","v":0},null,211,{"$f":"COUNTIF(L19:L30,Y11)","v":0},{"$f":"Z11/(AB4-Z10)","v":0},{"$f":"IF(AA11=0,0,(AA11*((LOG(AA11))/LOG(2))))","v":0},null,211,{"$f":"COUNTIF(L31:L41,AD11)","v":0},{"$f":"AE11/(AG4-AE10)","v":0},{"$f":"IF(AF11=0,0,(AF11*((LOG(AF11))/LOG(2))))","v":0},null,211,{"$f":"COUNTIF(L42:L53,AI11)","v":0},{"$f":"AJ11/(AL4-AJ10)","v":0},{"$f":"IF(AK11=0,0,(AK11*((LOG(AK11))/LOG(2))))","v":0},null,211,{"$f":"COUNTIF(L54:L65,AN11)","v":0},{"$f":"AO11/(AQ4-AO10)","v":0},{"$f":"IF(AP11=0,0,(AP11*((LOG(AP11))/LOG(2))))","v":0},null,211,{"$f":"COUNTIF(L66:L77,AS11)","v":0},{"$f":"AT11/(AV4-AT10)","v":0},{"$f":"IF(AU11=0,0,(AU11*((LOG(AU11))/LOG(2))))","v":0}]
[11,639,11,646,21,664,null,null,null,null,0,112,null,212,0,0,0,null,null,212,{"$f":"COUNTIF(L7:L18,T12)","v":0},{"$f":"U12/(W4-U10)","v":0},{"$f":"IF(V12=0,0,(V12*((LOG(V12))/LOG(2))))","v":0},null,212,{"$f":"COUNTIF(L19:L30,Y12)","v":0},{"$f":"Z12/(AB4-Z10)","v":0},{"$f":"IF(AA12=0,0,(AA12*((LOG(AA12))/LOG(2))))","v":0},null,212,{"$f":"COUNTIF(L31:L41,AD12)","v":0},{"$f":"AE12/(AG4-AE10)","v":0},{"$f":"IF(AF12=0,0,(AF12*((LOG(AF12))/LOG(2))))","v":0},null,212,{"$f":"COUNTIF(L42:L53,AI12)","v":0},{"$f":"AJ12/(AL4-AJ10)","v":0},{"$f":"IF(AK12=0,0,(AK12*((LOG(AK12))/LOG(2))))","v":0},null,212,{"$f":"COUNTIF(L54:L65,AN12)","v":0},{"$f":"AO12/(AQ4-AO10)","v":0},{"$f":"IF(AP12=0,0,(AP12*((LOG(AP12))/LOG(2))))","v":0},null,212,{"$f":"COUNTIF(L66:L77,AS12)","v":0},{"$f":"AT12/(AV4-AT10)","v":0},{"$f":"IF(AU12=0,0,(AU12*((LOG(AU12))/LOG(2))))","v":0}]
[11,759,22,783,23,818,null,null,null,null,0,122,null,221,0,0,0,null,null,221,{"$f":"COUNTIF(L7:L18,T13)","v":0},{"$f":"U13/(W4-U10)","v":0},{"$f":"IF(V13=0,0,(V13*((LOG(V13))/LOG(2))))","v":0},null,221,{"$f":"COUNTIF(L19:L30,Y13)","v":0},{"$f":"Z13/(AB4-Z10)","v":0},{"$f":"IF(AA13=0,0,(AA13*((LOG(AA13))/LOG(2))))","v":0},null,221,{"$f":"COUNTIF(L31:L41,AD13)","v":0},{"$f":"AE13/(AG4-AE10)","v":0},{"$f":"IF(AF13=0,0,(AF13*((LOG(AF13))/LOG(2))))","v":0},null,221,{"$f":"COUNTIF(L42:L53,AI13)","v":0},{"$f":"AJ13/(AL4-AJ10)","v":0},{"$f":"IF(AK13=0,0,(AK13*((LOG(AK13))/LOG(2))))","v":0},null,221,{"$f":"COUNTIF(L54:L65,AN13)","v":0},{"$f":"AO13/(AQ4-AO10)","v":0},{"$f":"IF(AP13=0,0,(AP13*((LOG(AP13))/LOG(2))))","v":0},null,221,{"$f":"COUNTIF(L66:L77,AS13)","v":0},{"$f":"AT13/(AV4-AT10)","v":0},{"$f":"IF(AU13=0,0,(AU13*((LOG(AU13))/LOG(2))))","v":0}]
[11,928,22,937,23,948,null,null,null,null,0,122,null,222,1,1.4084507042253521E-2,-8.661615661274201E-2,null,null,222,{"$f":"COUNTIF(L7:L18,T14)","v":0},{"$f":"U14/(W4-U10)","v":0},{"$f":"IF(V14=0,0,(V14*((LOG(V14))/LOG(2))))","v":0},null,222,{"$f":"COUNTIF(L19:L30,Y14)","v":0},{"$f":"Z14/(AB4-Z10)","v":0},{"$f":"IF(AA14=0,0,(AA14*((LOG(AA14))/LOG(2))))","v":0},null,222,{"$f":"COUNTIF(L31:L41,AD14)","v":0},{"$f":"AE14/(AG4-AE10)","v":0},{"$f":"IF(AF14=0,0,(AF14*((LOG(AF14))/LOG(2))))","v":0},null,222,{"$f":"COUNTIF(L42:L53,AI14)","v":0},{"$f":"AJ14/(AL4-AJ10)","v":0},{"$f":"IF(AK14=0,0,(AK14*((LOG(AK14))/LOG(2))))","v":0},null,222,{"$f":"COUNTIF(L54:L65,AN14)","v":1},{"$f":"AO14/(AQ4-AO10)","v":0.1111111111111111},{"$f":"IF(AP14=0,0,(AP14*((LOG(AP14))/LOG(2))))","v":-0.3522138890491458},null,222,{"$f":"COUNTIF(L66:L77,AS14)","v":0},{"$f":"AT14/(AV4-AT10)","v":0},{"$f":"IF(AU14=0,0,(AU14*((LOG(AU14))/LOG(2))))","v":0}]
[11,1067,22,1078,23,1086,null,null,null,null,0,122,null,null,null,{"$f":"SUM(P7:P14)","v":1},{"$f":"-SUM(Q7:Q14)","v":1.523065508098457},null,null,null,null,{"$f":"SUM(V7:V14)","v":1},{"$f":"-SUM(W7:W14)","v":1.3709505944546687},null,null,null,{"$f":"SUM(AA7:AA14)","v":1},{"$f":"-SUM(AB7:AB14)","v":0.95443400292496505},null,null,null,{"$f":"SUM(AF7:AF14)","v":1},{"$f":"-SUM(AG7:AG14)","v":0.5435644431995964},null,null,null,{"$f":"SUM(AK7:AK14)","v":1},{"$f":"-SUM(AL7:AL14)","v":0.43949698692151329},null,null,null,{"$f":"SUM(AP7:AP14)","v":1},{"$f":"-SUM(AQ7:AQ14)","v":0.98642672873084236},null,null,null,{"$f":"SUM(AU7:AU14)","v":1},{"$f":"-SUM(AV7:AV14)","v":0}]
[11,1201,22,1218,14,1240,null,null,null,null,0,121,null,null,null,"U=",{"$f":"Q15/(LOG(Q4)/LOG(2))","v":0.24766311175102904},null,null,null,null,"U1=",{"$f":"W15/(LOG(W4)/LOG(2))","v":0.38241699715935279},null,null,null,"U2=",{"$f":"AB15/(LOG(AB4)/LOG(2))","v":0.26623263220548882},null,null,null,"U3=",{"$f":"AG15/(LOG(AG4)/LOG(2))","v":0.15712536136607072},null,null,null,"U4=",{"$f":"AL15/(LOG(AL4)/LOG(2))","v":0.12259458413668299},null,null,null,"U5=",{"$f":"AQ15/(LOG(AQ4)/LOG(2))","v":0.27515677738118915},null,null,null,"U6=",{"$f":"AV15/(LOG(AV4)/LOG(2))","v":0}]
[11,1344,11,1373,12,1381,null,null,null,null,0,111]
[11,1497,22,1517,23,1526,null,null,null,null,0,122]
[11,1630,11,1639,12,1650,null,null,null,null,0,111,null,"Total Target Seq"]
[11,1754,11,1760,21,1776,null,null,null,null,0,112,null,{"$f":"COUNTIF(L7:L77,G3)","v":22},null,12,12,11,12,12,12]
[11,1888,22,1914,23,1928,null,null,null,null,0,122,null,null,null,"% of reinforcement given in 6 equal intervals based on number of trials "]
[11,2047,11,2054,21,2067,null,null,null,null,0,112,null,null,null,"%_1","%_2","%_3","%_4","%_5","%_6"]
[11,2157,11,2163,12,2170,null,null,null,null,0,111,null,null,"target sequence",{"$f":"$G$3","v":122},122,122,122,122,122]
[11,2284,22,2318,23,2327,null,null,null,null,0,122,null,null,"total reinforcement",{"$f":"U10","v":7},{"$f":"Z10","v":4},{"$f":"AE10","v":3},{"$f":"AJ10","v":1},{"$f":"AO10","v":3},{"$f":"AT10","v":4}]
[11,2434,11,2442,12,2451,null,null,null,null,0,111,null,null,"% target"]
[11,2561,22,2578,23,2608,null,null,null,null,0,122,null,null,"CCRF"]
[11,2727,22,2745,23,2766,null,null,null,null,0,122,null,null,"% CCRf"]
[11,2874,11,2884,21,2908,null,null,null,null,0,112,null,null,"average response rate",{"$f":"F18/P20","v":127.16666666666667},{"$f":"(F30-F18)/Q20","v":134.16666666666666},{"$f":"(F41-F30)/R20","v":136.63636363636363},{"$f":"(F53-F41)/S20","v":123.91666666666667},{"$f":"(F65-F53)/T20","v":131.91666666666666},{"$f":"(F77-F65)/U20","v":132.75}]
[11,3001,11,3007,21,3017,null,null,null,null,0,112]
[11,3117,11,3126,21,3136,null,null,null,null,0,112]
[11,3228,11,3234,21,3251,null,null,null,null,0,112]
[11,3344,22,3354,23,3363,null,null,null,null,0,122]
[11,3473,11,3478,21,3489,null,null,null,null,0,112]
[11,3586,22,3597,14,3700,null,null,null,null,0,121]
[11,3803,11,3809,21,3845,null,null,null,null,0,112]
[11,3938,22,3948,23,3962,null,null,null,null,0,122]
[11,4072,11,4081,21,4091,null,null,null,null,0,112]
[11,4187,22,4210,23,4226,null,null,null,null,0,122]
[11,4332,11,4343,21,4365,null,null,null,null,0,112]
[11,4470,11,4475,21,4535,null,null,null,null,0,112]
[11,4624,11,4632,21,4639,null,null,null,null,0,112]
[11,4732,11,4738,21,4754,null,null,null,null,0,112]
[11,4846,11,4856,21,4865,null,null,null,null,0,112]
[11,4953,11,4959,21,4975,null,null,null,null,0,112]
[11,5076,22,5086,23,5116,null,null,null,null,0,122]
[11,5226,11,5231,21,5240,null,null,null,null,0,112]
[11,5330,11,5335,21,5363,null,null,null,null,0,112]
[11,5456,11,5472,21,5537,null,null,null,null,0,112]
[11,5627,11,5632,21,5655,null,null,null,null,0,112]
[11,5747,11,5753,12,5758,null,null,null,null,0,111]
[11,5863,11,5868,21,5885,null,null,null,null,0,112]
[11,5979,11,5985,21,6006,null,null,null,null,0,112]
[11,6095,11,6099,21,6126,null,null,null,null,0,112]
[11,6220,11,6228,12,6239,null,null,null,null,0,111]
[11,6344,22,6362,23,6404,null,null,null,null,0,122]
[11,6508,11,6515,21,6542,null,null,null,null,0,112]
[11,6634,11,6643,21,6652,null,null,null,null,0,112]
[11,6741,11,6751,21,6760,null,null,null,null,0,112]
[11,6851,22,6861,23,6882,null,null,null,null,0,122]
[11,6985,11,6993,21,7016,null,null,null,null,0,112]
[11,7111,11,7116,21,7125,null,null,null,null,0,112]
[22,7326,24,7333,23,7348,null,null,null,null,0,222]
[11,7456,11,7464,21,7492,null,null,null,null,0,112]
[11,7580,11,7586,21,7594,null,null,null,null,0,112]
[11,7687,22,7696,23,7709,null,null,null,null,0,122]
[11,7816,11,7822,21,7841,null,null,null,null,0,112]
[11,7928,11,7933,21,7942,null,null,null,null,0,112]
[11,8047,22,8056,23,8109,null,null,null,null,0,122]
[11,8225,22,8239,23,8266,null,null,null,null,0,122]
[11,8372,22,8435,23,8449,null,null,null,null,0,122]
[11,8557,11,8570,21,8613,null,null,null,null,0,112]
[11,8702,11,8706,21,8726,null,null,null,null,0,112]
[11,8824,22,8838,23,8863,null,null,null,null,0,122]
[11,8967,11,8977,21,8994,null,null,null,null,0,112]
[11,9081,11,9088,21,9095,null,null,null,null,0,112]
[11,9185,11,9189,21,9198,null,null,null,null,0,112]
[11,9288,11,9293,21,9302,null,null,null,null,1,112]

{"sheet":"!L829C30.056","index":32,"n_rows":56,"n_cols":48,"rows_kept":56,"cut":false,"hidden":false,"merged":[[1,1,1,2],[5,13,5,14],[18,13,18,14],[19,13,19,14],[4,19,4,22],[5,19,5,20],[4,39,4,42],[5,39,5,40],[4,44,4,47],[5,44,5,45],[4,24,4,27],[5,24,5,25],[4,29,4,32],[5,29,5,30],[4,34,4,37],[5,34,5,35]]}
["Report for:!L829C30.056"]
["Date:","<date>"]
["Hen:","<hen>",null,null,null,"Correct Sequence",{"$f":"Start!J2","v":122},null,null,null,null,null,null,null,null,"Total Sequences in Data",{"$f":"4994-COUNTBLANK(L7:L5000)","v":50},null,null,null,null,"Total Sequences in Block Data",{"$f":"COUNTA(L7:L14)","v":8},null,null,null,"Total Sequences in Block Data",{"$f":"COUNTA(L15:L23)","v":9},null,null,null,"Total Sequences in Block Data",{"$f":"COUNTA(L24:L31)","v":8},null,null,null,"Total Sequences in Block Data",{"$f":"COUNTA(L32:L39)","v":8},null,null,null,"Total Sequences in Block Data",{"$f":"COUNTA(L40:L48)","v":9},null,null,null,"Total Sequences in Block Data",{"$f":"COUNTA(L49:L56)","v":8}]
[null,null,null,null,null,null,null,null,null,null,null,null,null,null,null,"Total Sequences in Summary",{"$f":"SUM(O7:O14)","v":50},null,null,null,null,"Total Sequences in Block Summary",{"$f":"SUM(U7:U14)","v":8},null,null,null,"Total Sequences in Block Summary",{"$f":"SUM(Z7:Z14)","v":9},null,null,null,"Total Sequences in Block Summary",{"$f":"SUM(AE7:AE14)","v":8},null,null,null,"Total Sequences in Block Summary",{"$f":"SUM(AJ7:AJ14)","v":8},null,null,null,"Total Sequences in Block Summary",{"$f":"SUM(AO7:AO14)","v":9},null,null,null,"Total Sequences in Block Summary",{"$f":"SUM(AT7:AT14)","v":8}]
[null,null,null,null,null,null,null,null,null,null,null,null,null,null,null,null,null,null,null,"Block 1",null,null,null,null,"Block 2",null,null,null,null,"Block 3",null,null,null,null,"Block 4",null,null,null,null,"Block 5",null,null,null,null,"Block 6"]
["Sequence\nComponent\n1","Time\n1","Sequence\nComponent\n2","Time\n2","Sequence\nComponent\n3","Time\n3","Sequence\nComponent\n4","Time\n4","Sequence\nComponent\n5","Time\n5","Correct?\n0=No 1=Yes","Sequence",null,"Frequency",null,"Relative Frequency","Variability",null,null,"Frequency",null,"Relative Frequency","Variability",null,"Frequency",null,"Relative Frequency","Variability",null,"Frequency",null,"Relative Frequency","Variability",null,"Frequency",null,"Relative Frequency","Variability",null,"Frequency",null,"Relative Frequency","Variability",null,"Frequency",null,"Relative Frequency","Variability"]
[11,9,11,15,12,25,null,null,null,null,0,111,null,111,{"$f":"COUNTIF($L$7:$L$500,N7)","v":3},{"$f":"O7/$Q$4","v":0.06},{"$f":"IF(P7=0,0,(P7*((LOG(P7))/LOG(2))))","v":-0.2435336213432141},null,null,{"$f":"N7","v":111},{"$f":"COUNTIF(L7:L14,T7)","v":1},{"$f":"U7/(W4-U10)","v":0.14285714285714285},{"$f":"IF(V7=0,0,(V7*((LOG(V7))/LOG(2))))","v":-0.40105070315108626},null,{"$f":"N7","v":111},{"$f":"COUNTIF(L15:L23,Y7)","v":0},{"$f":"Z7/(AB4-Z10)","v":0},{"$f":"IF(AA7=0,0,(AA7*((LOG(AA7))/LOG(2))))","v":0},null,{"$f":"N7","v":111},{"$f":"COUNTIF(L24:L31,AD7)","v":0},{"$f":"AE7/(AG4-AE10)","v":0},{"$f":"IF(AF7=0,0,(AF7*((LOG(AF7))/LOG(2))))","v":0},null,{"$f":"N7","v":111},{"$f":"COUNTIF(L32:L39,AI7)","v":0},{"$f":"AJ7/(AL4-AJ10)","v":0},{"$f":"IF(AK7=0,0,(AK7*((LOG(AK7))/LOG(2))))","v":0},null,{"$f":"N7","v":111},{"$f":"COUNTIF(L40:L48,AN7)","v":0},{"$f":"AO7/(AQ4-AO10)","v":0},{"$f":"IF(AP7=0,0,(AP7*((LOG(AP7))/LOG(2))))","v":0},null,{"$f":"N7","v":111},{"$f":"COUNTIF(L49:L56,AS7)","v":2},{"$f":"AT7/(AV4-AT10)","v":0.25},{"$f":"IF(AU7=0,0,(AU7*((LOG(AU7))/LOG(2))))","v":-0.5}]
[11,129,11,135,21,151,null,null,null,null,0,112,null,112,40,0.8,-0.25754247590988982,null,null,112,{"$f":"COUNTIF(L7:L14,T8)","v":6},{"$f":"U8/(W4-U10)","v":0.8571428571428571},{"$f":"IF(V8=0,0,(V8*((LOG(V8))/LOG(2))))","v":-0.19062207543124113},null,112,{"$f":"COUNTIF(L15:L23,Y8)","v":8},{"$f":"Z8/(AB4-Z10)","v":1},{"$f":"IF(AA8=0,0,(AA8*((LOG(AA8))/LOG(2))))","v":0},null,112,{"$f":"COUNTIF(L24:L31,AD8)","v":7},{"$f":"AE8/(AG4-AE10)","v":1},{"$f":"IF(AF8=0,0,(AF8*((LOG(AF8))/LOG(2))))","v":0},null,112,{"$f":"COUNTIF(L32:L39,AI8)","v":5},{"$f":"AJ8/(AL4-AJ10)","v":0.83333333333333337},{"$f":"IF(AK8=0,0,(AK8*((LOG(AK8))/LOG(2))))","v":-0.21919533819482812},null,112,{"$f":"COUNTIF(L40:L48,AN8)","v":8},{"$f":"AO8/(AQ4-AO10)","v":0.88888888888888884},{"$f":"IF(AP8=0,0,(AP8*((LOG(AP8))/LOG(2))))","v":-0.15104444572649992},null,112,{"$f":"COUNTIF(L49:L56,AS8)","v":6},{"$f":"AT8/(AV4-AT10)","v":0.75},{"$f":"IF(AU8=0,0,(AU8*((LOG(AU8))/LOG(2))))","v":-0.31127812445913283}]
[11,242,11,252,21,262,null,null,null,null,0,112,null,121,2,0.04,-0.18575424759098899,null,null,121,{"$f":"COUNTIF(L7:L14,T9)","v":0},{"$f":"U9/(W4-U10)","v":0},{"$f":"IF(V9=0,0,(V9*((LOG(V9))/LOG(2))))","v":0},null,121,{"$f":"COUNTIF(L15:L23,Y9)","v":0},{"$f":"Z9/(AB4-Z10)","v":0},{"$f":"IF(AA9=0,0,(AA9*((LOG(AA9))/LOG(2))))","v":0},null,121,{"$f":"COUNTIF(L24:L31,AD9)","v":0},{"$f":"AE9/(AG4-AE10)","v":0},{"$f":"IF(AF9=0,0,(AF9*((LOG(AF9))/LOG(2))))","v":0},null,121,{"$f":"COUNTIF(L32:L39,AI9)","v":1},{"$f":"AJ9/(AL4-AJ10)","v":0.16666666666666666},{"$f":"IF(AK9=0,0,(AK9*((LOG(AK9))/LOG(2))))","v":-0.43082708345352599},null,121,{"$f":"COUNTIF(L40:L48,AN9)","v":1},{"$f":"AO9/(AQ4-AO10)","v":0.1111111111111111},{"$f":"IF(AP9=0,0,(AP9*((LOG(AP9))/LOG(2))))","v":-0.3522138890491458},null,121,{"$f":"COUNTIF(L49:L56,AS9)","v":0},{"$f":"AT9/(AV4-AT10)","v":0},{"$f":"IF(AU9=0,0,(AU9*((LOG(AU9))/LOG(2))))","v":0}]
[11,355,11,360,21,370,null,null,null,null,0,112,null,122,5,0.1,-0.33219280948873625,null,null,122,{"$f":"COUNTIF(L7:L14,T10)","v":1},null,null,null,122,{"$f":"COUNTIF(L15:L23,Y10)","v":1},null,null,null,122,{"$f":"COUNTIF(L24:L31,AD10)","v":1},null,null,null,122,{"$f":"COUNTIF(L32:L39,AI10)","v":2},null,null,null,122,{"$f":"COUNTIF(L40:L48,AN10)","v":0},null,null,null,122,{"$f":"COUNTIF(L49:L56,AS10)","v":0}]
[11,462,22,482,23,492,null,null,null,null,0,122,null,211,0,0,0,null,null,211,{"$f":"COUNTIF(L7:L14,T11)","v":0},{"$f":"U11/(W4-U10)","v":0},{"$f":"IF(V11=0,0,(V11*((LOG(V11))/LOG(2))))","v":0},null,211,{"$f":"COUNTIF(L15:L23,Y11)","v":0},{"$f":"Z11/(AB4-Z10)","v":0},{"$f":"IF(AA11=0,0,(AA11*((LOG(AA11))/LOG(2))))","v":0},null,211,{"$f":"COUNTIF(L24:L31,AD11)","v":0},{"$f":"AE11/(AG4-AE10)","v":0},{"$f":"IF(AF11=0,0,(AF11*((LOG(AF11))/LOG(2))))","v":0},null,211,{"$f":"COUNTIF(L32:L39,AI11)","v":0},{"$f":"AJ11/(AL4-AJ10)","v":0},{"$f":"IF(AK11=0,0,(AK11*((LOG(AK11))/LOG(2))))","v":0},null,211,{"$f":"COUNTIF(L40:L48,AN11)","v":0},{"$f":"AO11/(AQ4-AO10)","v":0},{"$f":"IF(AP11=0,0,(AP11*((LOG(AP11))/LOG(2))))","v":0},null,211,{"$f":"COUNTIF(L49:L56,AS11)","v":0},{"$f":"AT11/(AV4-AT10)","v":0},{"$f":"IF(AU11=0,0,(AU11*((LOG(AU11))/LOG(2))))","v":0}]
[11,590,11,596,21,605,null,null,null,null,0,112,null,212,0,0,0,null,null,212,{"$f":"COUNTIF(L7:L14,T12)","v":0},{"$f":"U12/(W4-U10)","v":0},{"$f":"IF(V12=0,0,(V12*((LOG(V12))/LOG(2))))","v":0},null,212,{"$f":"COUNTIF(L15:L23,Y12)","v":0},{"$f":"Z12/(AB4-Z10)","v":0},{"$f":"IF(AA12=0,0,(AA12*((LOG(AA12))/LOG(2))))","v":0},null,212,{"$f":"COUNTIF(L24:L31,AD12)","v":0},{"$f":"AE12/(AG4-AE10)","v":0},{"$f":"IF(AF12=0,0,(AF12*((LOG(AF12))/LOG(2))))","v":0},null,212,{"$f":"COUNTIF(L32:L39,AI12)","v":0},{"$f":"AJ12/(AL4-AJ10)","v":0},{"$f":"IF(AK12=0,0,(AK12*((LOG(AK12))/LOG(2))))","v":0},null,212,{"$f":"COUNTIF(L40:L48,AN12)","v":0},{"$f":"AO12/(AQ4-AO10)","v":0},{"$f":"IF(AP12=0,0,(AP12*((LOG(AP12))/LOG(2))))","v":0},null,212,{"$f":"COUNTIF(L49:L56,AS12)","v":0},{"$f":"AT12/(AV4-AT10)","v":0},{"$f":"IF(AU12=0,0,(AU12*((LOG(AU12))/LOG(2))))","v":0}]
[11,695,11,700,21,710,null,null,null,null,0,112,null,221,0,0,0,null,null,221,{"$f":"COUNTIF(L7:L14,T13)","v":0},{"$f":"U13/(W4-U10)","v":0},{"$f":"IF(V13=0,0,(V13*((LOG(V13))/LOG(2))))","v":0},null,221,{"$f":"COUNTIF(L15:L23,Y13)","v":0},{"$f":"Z13/(AB4-Z10)","v":0},{"$f":"IF(AA13=0,0,(AA13*((LOG(AA13))/LOG(2))))","v":0},null,221,{"$f":"COUNTIF(L24:L31,AD13)","v":0},{"$f":"AE13/(AG4-AE10)","v":0},{"$f":"IF(AF13=0,0,(AF13*((LOG(AF13))/LOG(2))))","v":0},null,221,{"$f":"COUNTIF(L32:L39,AI13)","v":0},{"$f":"AJ13/(AL4-AJ10)","v":0},{"$f":"IF(AK13=0,0,(AK13*((LOG(AK13))/LOG(2))))","v":0},null,221,{"$f":"COUNTIF(L40:L48,AN13)","v":0},{"$f":"AO13/(AQ4-AO10)","v":0},{"$f":"IF(AP13=0,0,(AP13*((LOG(AP13))/LOG(2))))","v":0},null,221,{"$f":"COUNTIF(L49:L56,AS13)","v":0},{"$f":"AT13/(AV4-AT10)","v":0},{"$f":"IF(AU13=0,0,(AU13*((LOG(AU13))/LOG(2))))","v":0}]
[11,799,11,804,21,813,null,null,null,null,0,112,null,222,0,0,0,null,null,222,{"$f":"COUNTIF(L7:L14,T14)","v":0},{"$f":"U14/(W4-U10)","v":0},{"$f":"IF(V14=0,0,(V14*((LOG(V14))/LOG(2))))","v":0},null,222,{"$f":"COUNTIF(L15:L23,Y14)","v":0},{"$f":"Z14/(AB4-Z10)","v":0},{"$f":"IF(AA14=0,0,(AA14*((LOG(AA14))/LOG(2))))","v":0},null,222,{"$f":"COUNTIF(L24:L31,AD14)","v":0},{"$f":"AE14/(AG4-AE10)","v":0},{"$f":"IF(AF14=0,0,(AF14*((LOG(AF14))/LOG(2))))","v":0},null,222,{"$f":"COUNTIF(L32:L39,AI14)","v":0},{"$f":"AJ14/(AL4-AJ10)","v":0},{"$f":"IF(AK14=0,0,(AK14*((LOG(AK14))/LOG(2))))","v":0},null,222,{"$f":"COUNTIF(L40:L48,AN14)","v":0},{"$f":"AO14/(AQ4-AO10)","v":0},{"$f":"IF(AP14=0,0,(AP14*((LOG(AP14))/LOG(2))))","v":0},null,222,{"$f":"COUNTIF(L49:L56,AS14)","v":0},{"$f":"AT14/(AV4-AT10)","v":0},{"$f":"IF(AU14=0,0,(AU14*((LOG(AU14))/LOG(2))))","v":0}]
[11,902,11,907,21,917,null,null,null,null,0,112,null,null,null,{"$f":"SUM(P7:P14)","v":1.0000000000000002},{"$f":"-SUM(Q7:Q14)","v":1.0190231543328292},null,null,null,null,{"$f":"SUM(V7:V14)","v":1},{"$f":"-SUM(W7:W14)","v":0.59167277858232736},null,null,null,{"$f":"SUM(AA7:AA14)","v":1},{"$f":"-SUM(AB7:AB14)","v":0},null,null,null,{"$f":"SUM(AF7:AF14)","v":1},{"$f":"-SUM(AG7:AG14)","v":0},null,null,null,{"$f":"SUM(AK7:AK14)","v":1},{"$f":"-SUM(AL7:AL14)","v":0.65002242164835411},null,null,null,{"$f":"SUM(AP7:AP14)","v":1},{"$f":"-SUM(AQ7:AQ14)","v":0.50325833477564574},null,null,null,{"$f":"SUM(AU7:AU14)","v":1},{"$f":"-SUM(AV7:AV14)","v":0.81127812445913283}]
[11,1006,11,1011,21,1021,null,null,null,null,0,112,null,null,null,"U=",{"$f":"Q15/(LOG(Q4)/LOG(2))","v":0.18055441529127689},null,null,null,null,"U1=",{"$f":"W15/(LOG(W4)/LOG(2))","v":0.19722425952744246},null,null,null,"U2=",{"$f":"AB15/(LOG(AB4)/LOG(2))","v":0},null,null,null,"U3=",{"$f":"AG15/(LOG(AG4)/LOG(2))","v":0},null,null,null,"U4=",{"$f":"AL15/(LOG(AL4)/LOG(2))","v":0.21667414054945136},null,null,null,"U5=",{"$f":"AQ15/(LOG(AQ4)/LOG(2))","v":0.15876032857139011},null,null,null,"U6=",{"$f":"AV15/(LOG(AV4)/LOG(2))","v":0.27042604148637761}]
[11,1116,22,1126,23,1134,null,null,null,null,0,122]
[11,1234,11,1243,21,1252,null,null,null,null,0,112]
[11,1346,11,1351,21,1360,null,null,null,null,0,112,null,"Total Target Seq"]
[11,1449,11,1455,21,1468,null,null,null,null,0,112,null,{"$f":"COUNTIF(L7:L56,G3)","v":5},null,8,9,8,8,9,8]
[11,1558,11,1566,21,1579,null,null,null,null,0,112,null,null,null,"% of reinforcement given in 6 equal intervals based on number of trials "]
[11,1670,11,1680,21,1690,null,null,null,null,0,112,null,null,null,"%_1","%_2","%_3","%_4","%_5","%_6"]
[11,1777,11,1793,21,1808,null,null,null,null,0,112,null,null,"target sequence",{"$f":"$G$3","v":122},122,122,122,122,122]
[11,1901,11,1906,21,1914,null,null,null,null,0,112,null,null,"total reinforcement",{"$f":"U10","v":1},{"$f":"Z10","v":1},{"$f":"AE10","v":1},{"$f":"AJ10","v":2},{"$f":"AO10","v":0},{"$f":"AT10","v":0}]
[11,2002,11,2007,21,2031,null,null,null,null,0,112,null,null,"% target"]
[11,2121,11,2129,21,2139,null,null,null,null,0,112,null,null,"CCRF"]
[11,2227,11,2233,21,2245,null,null,null,null,0,112,null,null,"% CCRf"]
[11,2340,22,2349,23,2366,null,null,null,null,0,122,null,null,"average response rate",{"$f":"F14/P20","v":101.625},{"$f":"(F23-F14)/Q20","v":110.55555555555556},{"$f":"(F31-F23)/R20","v":112.75},{"$f":"(F39-F31)/S20","v":116.25},{"$f":"(F48-F39)/T20","v":114.33333333333333},{"$f":"(F56-F48)/U20","v":109.125}]
[11,2469,11,2479,21,2501,null,null,null,null,0,112]
[11,2591,11,2596,21,2604,null,null,null,null,0,112]
[11,2693,11,2701,21,2710,null,null,null,null,0,112]
[11,2799,11,2804,21,2828,null,null,null,null,0,112]
[11,2927,22,2937,23,2951,null,null,null,null,0,122]
[11,3058,22,3068,23,3086,null,null,null,null,0,122]
[11,3192,11,3201,21,3211,null,null,null,null,0,112]
[11,3297,11,3302,21,3311,null,null,null,null,0,112]
[11,3404,11,3410,21,3420,null,null,null,null,0,112]
[11,3508,11,3513,21,3522,null,null,null,null,0,112]
[11,3611,22,3621,14,3640,null,null,null,null,0,121]
[11,3744,11,3749,21,3758,null,null,null,null,0,112]
[11,3844,11,3849,21,3858,null,null,null,null,0,112]
[11,3945,11,3953,21,3962,null,null,null,null,0,112]
[11,4059,11,4064,21,4079,null,null,null,null,0,112]
[11,4174,11,4180,21,4189,null,null,null,null,0,112]
[11,4279,11,4288,21,4297,null,null,null,null,0,112]
[11,4391,22,4417,14,4437,null,null,null,null,0,121]
[11,4540,11,4550,21,4567,null,null,null,null,0,112]
[11,4654,11,4660,21,4669,null,null,null,null,0,112]
[11,4761,11,4770,21,4779,null,null,null,null,0,112]
[11,4870,11,4875,21,4895,null,null,null,null,0,112]
[11,4982,11,4988,12,4998,null,null,null,null,0,111]
[11,5100,11,5106,21,5116,null,null,null,null,0,112]
[11,5206,11,5210,12,5216,null,null,null,null,0,111]
[11,5317,11,5323,21,5336,null,null,null,null,0,112]
[11,5423,11,5428,21,5438,null,null,null,null,0,112]
[11,5527,11,5531,21,5542,null,null,null,null,1,112]

{"sheet":"!L830C50.056","index":33,"n_rows":62,"n_cols":48,"rows_kept":62,"cut":false,"hidden":false,"merged":[[1,1,1,2],[5,13,5,14],[18,13,18,14],[19,13,19,14],[4,19,4,22],[5,19,5,20],[4,39,4,42],[5,39,5,40],[4,44,4,47],[5,44,5,45],[4,24,4,27],[5,24,5,25],[4,29,4,32],[5,29,5,30],[4,34,4,37],[5,34,5,35]]}
["Report for:!L830C50.056"]
["Date:","<date>"]
["Hen:","<hen>",null,null,null,"Correct Sequence",{"$f":"Start!J2","v":122},null,null,null,null,null,null,null,null,"Total Sequences in Data",{"$f":"4994-COUNTBLANK(L7:L5000)","v":56},null,null,null,null,"Total Sequences in Block Data",{"$f":"COUNTA(L7:L15)","v":9},null,null,null,"Total Sequences in Block Data",{"$f":"COUNTA(L16:L25)","v":10},null,null,null,"Total Sequences in Block Data",{"$f":"COUNTA(L26:L34)","v":9},null,null,null,"Total Sequences in Block Data",{"$f":"COUNTA(L35:L43)","v":9},null,null,null,"Total Sequences in Block Data",{"$f":"COUNTA(L44:L53)","v":10},null,null,null,"Total Sequences in Block Data",{"$f":"COUNTA(L54:L62)","v":9}]
[null,null,null,null,null,null,null,null,null,null,null,null,null,null,null,"Total Sequences in Summary",{"$f":"SUM(O7:O14)","v":56},null,null,null,null,"Total Sequences in Block Summary",{"$f":"SUM(U7:U14)","v":9},null,null,null,"Total Sequences in Block Summary",{"$f":"SUM(Z7:Z14)","v":10},null,null,null,"Total Sequences in Block Summary",{"$f":"SUM(AE7:AE14)","v":9},null,null,null,"Total Sequences in Block Summary",{"$f":"SUM(AJ7:AJ14)","v":9},null,null,null,"Total Sequences in Block Summary",{"$f":"SUM(AO7:AO14)","v":10},null,null,null,"Total Sequences in Block Summary",{"$f":"SUM(AT7:AT14)","v":9}]
[null,null,null,null,null,null,null,null,null,null,null,null,null,null,null,null,null,null,null,"Block 1",null,null,null,null,"Block 2",null,null,null,null,"Block 3",null,null,null,null,"Block 4",null,null,null,null,"Block 5",null,null,null,null,"Block 6"]
["Sequence\nComponent\n1","Time\n1","Sequence\nComponent\n2","Time\n2","Sequence\nComponent\n3","Time\n3","Sequence\nComponent\n4","Time\n4","Sequence\nComponent\n5","Time\n5","Correct?\n0=No 1=Yes","Sequence",null,"Frequency",null,"Relative Frequency","Variability",null,null,"Frequency",null,"Relative Frequency","Variability",null,"Frequency",null,"Relative Frequency","Variability",null,"Frequency",null,"Relative Frequency","Variability",null,"Frequency",null,"Relative Frequency","Variability",null,"Frequency",null,"Relative Frequency","Variability",null,"Frequency",null,"Relative Frequency","Variability"]
[11,15,22,27,23,36,null,null,null,null,0,122,null,111,{"$f":"COUNTIF($L$7:$L$500,N7)","v":0},{"$f":"O7/$Q$4","v":0},{"$f":"IF(P7=0,0,(P7*((LOG(P7))/LOG(2))))","v":0},null,null,{"$f":"N7","v":111},{"$f":"COUNTIF(L7:L15,T7)","v":0},{"$f":"U7/(W4-U10)","v":0},{"$f":"IF(V7=0,0,(V7*((LOG(V7))/LOG(2))))","v":0},null,{"$f":"N7","v":111},{"$f":"COUNTIF(L16:L25,Y7)","v":0},{"$f":"Z7/(AB4-Z10)","v":0},{"$f":"IF(AA7=0,0,(AA7*((LOG(AA7))/LOG(2))))","v":0},null,{"$f":"N7","v":111},{"$f":"COUNTIF(L26:L34,AD7)","v":0},{"$f":"AE7/(AG4-AE10)","v":0},{"$f":"IF(AF7=0,0,(AF7*((LOG(AF7))/LOG(2))))","v":0},null,{"$f":"N7","v":111},{"$f":"COUNTIF(L35:L43,AI7)","v":0},{"$f":"AJ7/(AL4-AJ10)","v":0},{"$f":"IF(AK7=0,0,(AK7*((LOG(AK7))/LOG(2))))","v":0},null,{"$f":"N7","v":111},{"$f":"COUNTIF(L44:L53,AN7)","v":0},{"$f":"AO7/(AQ4-AO10)","v":0},{"$f":"IF(AP7=0,0,(AP7*((LOG(AP7))/LOG(2))))","v":0},null,{"$f":"N7","v":111},{"$f":"COUNTIF(L54:L62,AS7)","v":0},{"$f":"AT7/(AV4-AT10)","v":0},{"$f":"IF(AU7=0,0,(AU7*((LOG(AU7))/LOG(2))))","v":0}]
[11,143,22,152,23,197,null,null,null,null,0,122,null,112,40,0.7142857142857143,-0.34673344797874411,null,null,112,{"$f":"COUNTIF(L7:L15,T8)","v":7},{"$f":"U8/(W4-U10)","v":1},{"$f":"IF(V8=0,0,(V8*((LOG(V8))/LOG(2))))","v":0},null,112,{"$f":"COUNTIF(L16:L25,Y8)","v":8},{"$f":"Z8/(AB4-Z10)","v":1},{"$f":"IF(AA8=0,0,(AA8*((LOG(AA8))/LOG(2))))","v":0},null,112,{"$f":"COUNTIF(L26:L34,AD8)","v":5},{"$f":"AE8/(AG4-AE10)","v":1},{"$f":"IF(AF8=0,0,(AF8*((LOG(AF8))/LOG(2))))","v":0},null,112,{"$f":"COUNTIF(L35:L43,AI8)","v":3},{"$f":"AJ8/(AL4-AJ10)","v":1},{"$f":"IF(AK8=0,0,(AK8*((LOG(AK8))/LOG(2))))","v":0},null,112,{"$f":"COUNTIF(L44:L53,AN8)","v":8},{"$f":"AO8/(AQ4-AO10)","v":0.88888888888888884},{"$f":"IF(AP8=0,0,(AP8*((LOG(AP8))/LOG(2))))","v":-0.15104444572649992},null,112,{"$f":"COUNTIF(L54:L62,AS8)","v":9},{"$f":"AT8/(AV4-AT10)","v":1},{"$f":"IF(AU8=0,0,(AU8*((LOG(AU8))/LOG(2))))","v":0}]
[11,298,11,303,21,314,null,null,null,null,0,112,null,121,1,1.7857142857142856E-2,-0.10370276646531436,null,null,121,{"$f":"COUNTIF(L7:L15,T9)","v":0},{"$f":"U9/(W4-U10)","v":0},{"$f":"IF(V9=0,0,(V9*((LOG(V9))/LOG(2))))","v":0},null,121,{"$f":"COUNTIF(L16:L25,Y9)","v":0},{"$f":"Z9/(AB4-Z10)","v":0},{"$f":"IF(AA9=0,0,(AA9*((LOG(AA9))/LOG(2))))","v":0},null,121,{"$f":"COUNTIF(L26:L34,AD9)","v":0},{"$f":"AE9/(AG4-AE10)","v":0},{"$f":"IF(AF9=0,0,(AF9*((LOG(AF9))/LOG(2))))","v":0},null,121,{"$f":"COUNTIF(L35:L43,AI9)","v":0},{"$f":"AJ9/(AL4-AJ10)","v":0},{"$f":"IF(AK9=0,0,(AK9*((LOG(AK9))/LOG(2))))","v":0},null,121,{"$f":"COUNTIF(L44:L53,AN9)","v":1},{"$f":"AO9/(AQ4-AO10)","v":0.1111111111111111},{"$f":"IF(AP9=0,0,(AP9*((LOG(AP9))/LOG(2))))","v":-0.3522138890491458},null,121,{"$f":"COUNTIF(L54:L62,AS9)","v":0},{"$f":"AT9/(AV4-AT10)","v":0},{"$f":"IF(AU9=0,0,(AU9*((LOG(AU9))/LOG(2))))","v":0}]
[11,408,11,414,21,434,null,null,null,null,0,112,null,122,15,0.26785714285714285,-0.50905294458457651,null,null,122,{"$f":"COUNTIF(L7:L15,T10)","v":2},null,null,null,122,{"$f":"COUNTIF(L16:L25,Y10)","v":2},null,null,null,122,{"$f":"COUNTIF(L26:L34,AD10)","v":4},null,null,null,122,{"$f":"COUNTIF(L35:L43,AI10)","v":6},null,null,null,122,{"$f":"COUNTIF(L44:L53,AN10)","v":1},null,null,null,122,{"$f":"COUNTIF(L54:L62,AS10)","v":0}]
[11,529,11,534,21,558,null,null,null,null,0,112,null,211,0,0,0,null,null,211,{"$f":"COUNTIF(L7:L15,T11)","v":0},{"$f":"U11/(W4-U10)","v":0},{"$f":"IF(V11=0,0,(V11*((LOG(V11))/LOG(2))))","v":0},null,211,{"$f":"COUNTIF(L16:L25,Y11)","v":0},{"$f":"Z11/(AB4-Z10)","v":0},{"$f":"IF(AA11=0,0,(AA11*((LOG(AA11))/LOG(2))))","v":0},null,211,{"$f":"COUNTIF(L26:L34,AD11)","v":0},{"$f":"AE11/(AG4-AE10)","v":0},{"$f":"IF(AF11=0,0,(AF11*((LOG(AF11))/LOG(2))))","v":0},null,211,{"$f":"COUNTIF(L35:L43,AI11)","v":0},{"$f":"AJ11/(AL4-AJ10)","v":0},{"$f":"IF(AK11=0,0,(AK11*((LOG(AK11))/LOG(2))))","v":0},null,211,{"$f":"COUNTIF(L44:L53,AN11)","v":0},{"$f":"AO11/(AQ4-AO10)","v":0},{"$f":"IF(AP11=0,0,(AP11*((LOG(AP11))/LOG(2))))","v":0},null,211,{"$f":"COUNTIF(L54:L62,AS11)","v":0},{"$f":"AT11/(AV4-AT10)","v":0},{"$f":"IF(AU11=0,0,(AU11*((LOG(AU11))/LOG(2))))","v":0}]
[11,650,11,657,21,709,null,null,null,null,0,112,null,212,0,0,0,null,null,212,{"$f":"COUNTIF(L7:L15,T12)","v":0},{"$f":"U12/(W4-U10)","v":0},{"$f":"IF(V12=0,0,(V12*((LOG(V12))/LOG(2))))","v":0},null,212,{"$f":"COUNTIF(L16:L25,Y12)","v":0},{"$f":"Z12/(AB4-Z10)","v":0},{"$f":"IF(AA12=0,0,(AA12*((LOG(AA12))/LOG(2))))","v":0},null,212,{"$f":"COUNTIF(L26:L34,AD12)","v":0},{"$f":"AE12/(AG4-AE10)","v":0},{"$f":"IF(AF12=0,0,(AF12*((LOG(AF12))/LOG(2))))","v":0},null,212,{"$f":"COUNTIF(L35:L43,AI12)","v":0},{"$f":"AJ12/(AL4-AJ10)","v":0},{"$f":"IF(AK12=0,0,(AK12*((LOG(AK12))/LOG(2))))","v":0},null,212,{"$f":"COUNTIF(L44:L53,AN12)","v":0},{"$f":"AO12/(AQ4-AO10)","v":0},{"$f":"IF(AP12=0,0,(AP12*((LOG(AP12))/LOG(2))))","v":0},null,212,{"$f":"COUNTIF(L54:L62,AS12)","v":0},{"$f":"AT12/(AV4-AT10)","v":0},{"$f":"IF(AU12=0,0,(AU12*((LOG(AU12))/LOG(2))))","v":0}]
[11,801,11,807,21,843,null,null,null,null,0,112,null,221,0,0,0,null,null,221,{"$f":"COUNTIF(L7:L15,T13)","v":0},{"$f":"U13/(W4-U10)","v":0},{"$f":"IF(V13=0,0,(V13*((LOG(V13))/LOG(2))))","v":0},null,221,{"$f":"COUNTIF(L16:L25,Y13)","v":0},{"$f":"Z13/(AB4-Z10)","v":0},{"$f":"IF(AA13=0,0,(AA13*((LOG(AA13))/LOG(2))))","v":0},null,221,{"$f":"COUNTIF(L26:L34,AD13)","v":0},{"$f":"AE13/(AG4-AE10)","v":0},{"$f":"IF(AF13=0,0,(AF13*((LOG(AF13))/LOG(2))))","v":0},null,221,{"$f":"COUNTIF(L35:L43,AI13)","v":0},{"$f":"AJ13/(AL4-AJ10)","v":0},{"$f":"IF(AK13=0,0,(AK13*((LOG(AK13))/LOG(2))))","v":0},null,221,{"$f":"COUNTIF(L44:L53,AN13)","v":0},{"$f":"AO13/(AQ4-AO10)","v":0},{"$f":"IF(AP13=0,0,(AP13*((LOG(AP13))/LOG(2))))","v":0},null,221,{"$f":"COUNTIF(L54:L62,AS13)","v":0},{"$f":"AT13/(AV4-AT10)","v":0},{"$f":"IF(AU13=0,0,(AU13*((LOG(AU13))/LOG(2))))","v":0}]
[11,935,11,944,21,953,null,null,null,null,0,112,null,222,0,0,0,null,null,222,{"$f":"COUNTIF(L7:L15,T14)","v":0},{"$f":"U14/(W4-U10)","v":0},{"$f":"IF(V14=0,0,(V14*((LOG(V14))/LOG(2))))","v":0},null,222,{"$f":"COUNTIF(L16:L25,Y14)","v":0},{"$f":"Z14/(AB4-Z10)","v":0},{"$f":"IF(AA14=0,0,(AA14*((LOG(AA14))/LOG(2))))","v":0},null,222,{"$f":"COUNTIF(L26:L34,AD14)","v":0},{"$f":"AE14/(AG4-AE10)","v":0},{"$f":"IF(AF14=0,0,(AF14*((LOG(AF14))/LOG(2))))","v":0},null,222,{"$f":"COUNTIF(L35:L43,AI14)","v":0},{"$f":"AJ14/(AL4-AJ10)","v":0},{"$f":"IF(AK14=0,0,(AK14*((LOG(AK14))/LOG(2))))","v":0},null,222,{"$f":"COUNTIF(L44:L53,AN14)","v":0},{"$f":"AO14/(AQ4-AO10)","v":0},{"$f":"IF(AP14=0,0,(AP14*((LOG(AP14))/LOG(2))))","v":0},null,222,{"$f":"COUNTIF(L54:L62,AS14)","v":0},{"$f":"AT14/(AV4-AT10)","v":0},{"$f":"IF(AU14=0,0,(AU14*((LOG(AU14))/LOG(2))))","v":0}]
[11,1041,11,1047,21,1056,null,null,null,null,0,112,null,null,null,{"$f":"SUM(P7:P14)","v":1},{"$f":"-SUM(Q7:Q14)","v":0.95948915902863496},null,null,null,null,{"$f":"SUM(V7:V14)","v":1},{"$f":"-SUM(W7:W14)","v":0},null,null,null,{"$f":"SUM(AA7:AA14)","v":1},{"$f":"-SUM(AB7:AB14)","v":0},null,null,null,{"$f":"SUM(AF7:AF14)","v":1},{"$f":"-SUM(AG7:AG14)","v":0},null,null,null,{"$f":"SUM(AK7:AK14)","v":1},{"$f":"-SUM(AL7:AL14)","v":0},null,null,null,{"$f":"SUM(AP7:AP14)","v":1},{"$f":"-SUM(AQ7:AQ14)","v":0.50325833477564574},null,null,null,{"$f":"SUM(AU7:AU14)","v":1},{"$f":"-SUM(AV7:AV14)","v":0}]
[11,1148,11,1155,21,1166,null,null,null,null,0,112,null,null,null,"U=",{"$f":"Q15/(LOG(Q4)/LOG(2))","v":0.16521965195967017},null,null,null,null,"U1=",{"$f":"W15/(LOG(W4)/LOG(2))","v":0},null,null,null,"U2=",{"$f":"AB15/(LOG(AB4)/LOG(2))","v":0},null,null,null,"U3=",{"$f":"AG15/(LOG(AG4)/LOG(2))","v":0},null,null,null,"U4=",{"$f":"AL15/(LOG(AL4)/LOG(2))","v":0},null,null,null,"U5=",{"$f":"AQ15/(LOG(AQ4)/LOG(2))","v":0.15149585433537505},null,null,null,"U6=",{"$f":"AV15/(LOG(AV4)/LOG(2))","v":0}]
[11,1269,22,1284,23,1296,null,null,null,null,0,122]
[11,1399,11,1404,21,1415,null,null,null,null,0,112]
[11,1507,11,1518,21,1535,null,null,null,null,0,112,null,"Total Target Seq"]
[11,1631,11,1646,21,1656,null,null,null,null,0,112,null,{"$f":"COUNTIF(L7:L62,G3)","v":15},null,9,10,9,9,10,9]
[11,1748,22,1762,23,1775,null,null,null,null,0,122,null,null,null,"% of reinforcement given in 6 equal intervals based on number of trials "]
[11,1879,11,1885,21,1894,null,null,null,null,0,112,null,null,null,"%_1","%_2","%_3","%_4","%_5","%_6"]
[11,1986,11,1991,21,2021,null,null,null,null,0,112,null,null,"target sequence",{"$f":"$G$3","v":122},122,122,122,122,122]
[11,2114,11,2124,21,2133,null,null,null,null,0,112,null,null,"total reinforcement",{"$f":"U10","v":2},{"$f":"Z10","v":2},{"$f":"AE10","v":4},{"$f":"AJ10","v":6},{"$f":"AO10","v":1},{"$f":"AT10","v":0}]
[11,2226,11,2234,21,2243,null,null,null,null,0,112,null,null,"% target"]
[11,2337,11,2350,21,2359,null,null,null,null,0,112,null,null,"CCRF"]
[11,2452,11,2457,21,2467,null,null,null,null,0,112,null,null,"% CCRf"]
[11,2560,11,2568,21,2603,null,null,null,null,0,112,null,null,"average response rate",{"$f":"F15/P20","v":117.33333333333333},{"$f":"(F25-F15)/Q20","v":118.7},{"$f":"(F34-F25)/R20","v":128.66666666666666},{"$f":"(F43-F34)/S20","v":129},{"$f":"(F53-F43)/T20","v":122.5},{"$f":"(F62-F53)/U20","v":112.55555555555556}]
[11,2696,11,2701,21,2710,null,null,null,null,0,112]
[11,2804,22,2835,23,2890,null,null,null,null,0,122]
[11,2992,11,3002,21,3016,null,null,null,null,0,112]
[11,3113,22,3122,23,3141,null,null,null,null,0,122]
[11,3248,22,3256,23,3268,null,null,null,null,0,122]
[11,3381,22,3390,23,3401,null,null,null,null,0,122]
[11,3507,22,3517,23,3530,null,null,null,null,0,122]
[11,3634,22,3650,23,3666,null,null,null,null,0,122]
[11,3775,22,3787,23,3796,null,null,null,null,0,122]
[11,3906,22,3930,23,3944,null,null,null,null,0,122]
[11,4050,22,4076,23,4089,null,null,null,null,0,122]
[11,4193,11,4208,21,4217,null,null,null,null,0,112]
[11,4306,11,4317,21,4326,null,null,null,null,0,112]
[11,4414,11,4424,21,4447,null,null,null,null,0,112]
[11,4539,22,4548,23,4562,null,null,null,null,0,122]
[11,4666,11,4676,21,4686,null,null,null,null,0,112]
[11,4772,11,4780,21,4789,null,null,null,null,0,112]
[11,4878,11,4883,21,4892,null,null,null,null,0,112]
[11,4981,11,4986,21,5020,null,null,null,null,0,112]
[11,5110,11,5118,21,5127,null,null,null,null,0,112]
[11,5212,11,5221,21,5239,null,null,null,null,0,112]
[11,5328,22,5345,23,5358,null,null,null,null,0,122]
[11,5466,22,5488,14,5534,null,null,null,null,0,121]
[11,5640,11,5649,21,5659,null,null,null,null,0,112]
[11,5752,11,5765,21,5787,null,null,null,null,0,112]
[11,5876,11,5884,21,5894,null,null,null,null,0,112]
[11,5982,11,5987,21,6015,null,null,null,null,0,112]
[11,6102,11,6110,21,6117,null,null,null,null,0,112]
[11,6209,11,6218,21,6227,null,null,null,null,0,112]
[11,6312,11,6318,21,6326,null,null,null,null,0,112]
[11,6415,11,6424,21,6441,null,null,null,null,0,112]
[11,6528,11,6533,21,6573,null,null,null,null,0,112]
[11,6661,11,6667,21,6676,null,null,null,null,0,112]
[11,6763,11,6776,21,6800,null,null,null,null,1,112]